{"text_format":"1","workbook":"xlsx","n_sheets":10,"sheets":["INTRO","COUNTRY_INFO","DEC","ALB_MBD","PZQ","IVM","IVM+","SUMMARY","SHIPMENT","DATA_POLICY"],"not_rendered":{"charts":0,"images":3,"macros":1,"external_links":0,"defined_names":10,"comments":9,"pivot_tables":0},"unopened":[],"bounds":{"document_bytes":16777216,"sheet_cells":100000,"rows_first":2000,"rows_last":500,"rows_between":2000,"halvings":0,"cell_chars":16384,"cell_head_chars":4096},"cells_cut":0,"cells_raw":0,"read":"whole","date_system":"1900"}

{"sheet":"INTRO","index":0,"n_rows":51,"n_cols":5,"rows_kept":51,"cut":false,"hidden":false,"merged":[[7,2,7,4],[11,1,11,4],[4,1,4,4],[10,2,10,4],[20,2,20,4],[17,1,17,4],[13,1,13,4],[18,2,18,4],[8,2,8,4],[9,2,9,4],[19,1,19,4],[12,1,12,4],[16,1,16,4],[14,1,14,4],[15,1,15,4],[0,1,0,4],[2,1,2,4],[1,1,1,4],[5,1,5,4],[3,1,3,4],[21,1,21,4],[46,1,46,4],[38,1,38,2],[40,1,40,2],[42,1,42,2],[44,1,44,2],[36,1,36,2],[22,2,23,4],[25,2,26,4],[27,1,27,4],[32,1,32,2],[29,1,29,4],[30,1,30,4],[28,2,28,4],[24,1,24,4],[34,1,34,2]]}
[]
[null,"Joint request for selected PC medicines v.4.2"]
[]
[null,"As part of global efforts to accelerate expansion of preventive chemotherapy (PC) for control and elimination of lymphatic filariasis, schistosomiasis and soil-transmitted helminthiases, the World Health Organization (WHO) facilitates the supply of albendazole 400 mg tablets (GSK) to national lymphatic filariasis elimination programmes and national soil-transmitted helminth control programmes; diethylcarbamazine citrate 100 mg tablets (Eisai) to national lymphatic filariasis elimination programmes; mebendazole 500 mg tablets (J&J) for national soil-transmitted helminth control programmes; and praziquantel 600 mg tablets (Merck KGaA)  for school-age children to national schistosomiasis control programmes. WHO also collaborates to supply ivermectin 3 mg tablets (Merck) for onchocerciasis and lymphatic filariasis donation programmes.  \nThis Excel-based tool is designed to assist countries in quantifying the number of tablets of relevant PC medicines required to reach the planned target population and districts for the year of request. Output of the tool is a joint request for PC medicines, which can be printed, signed and submitted to WHO to request these medicines."]
[]
[null,"Structure of the application (worksheets):"]
[]
[null,"INTRO","This worksheet includes guides on how to complete the joint request for selected PC medicines and information about the status of PC for endemic diseases in the country."]
[null,"COUNTRY_INFO","This worksheet includes information about administrative structure of the country, population by age group, status of endemicity for each disease, population requiring PC and planned interventions."]
[null,"DEC, ALB_MBD, PZQ and IVM","These worksheets include information about endemic districts targeted for treatment with specified PC medicines, treatment plan, and number of tablets required and requested. "]
[null,"SUMMARY","This worksheet includes summary of number of tablets requested, information about stock, and date for submission of requested medicines. Before generating the report (run macros) please select the medicine for which the report is needed. Follow the same rule to see the number of people to be treated for the specific disease. \nThis worksheet should be printed and submitted as a joint request for selected PC medicines (see the instruction for submission in the SUMMARY worksheet)."]
[]
[null,"Instruction for data entry"]
[]
[null,"Most of the cells in the above-mentioned worksheets include formula that are calculated automatically according to the treatment policy recommended by WHO for each disease.\nSee the link https://www.who.int/publications/i/item/9789241599993."]
[]
[null,"Please enter your data into the cells according to their colour code:"]
[]
[null,null,"White - cell is not protected. Please enter the value of the requested indicator."]
[]
[null,null,"Yellow - cell is protected and includes name of indicator. No data entry required."]
[]
[null,null,"Orange - cell is not protected and includes a drop-down menu. Please select the value from the drop-down list."]
[]
[]
[null,null,"Green - cell is not protected and includes formula. Please change the value only if your data are different from those that are calculated automatically."]
[]
[]
[null,null,"Blue - cell is protected and includes formula. No data entry required."]
[]
[null,"Country data"]
[]
[null,"COUNTRY",null,null,"Uganda"]
[null,null,null,null,5]
[null,"Year for request of the medicine",null,null,2024]
[]
[null,"Is country endemic for lymphatic filariasis (LF)?",null,null,"Endemic"]
[]
[null,"Is country endemic for onchocerciasis (ONCHO)?",null,null,"Endemic"]
[]
[null,"Is country endemic for soil-transmitted helminthiases (STH)?",null,null,"Endemic"]
[]
[null,"Is country endemic for schistosomiasis (SCH)?",null,null,"Endemic"]
[]
[null,"How many administrative units in the country?",null,null,146]
[]
[null,"If demographical data at the second administrative level are not available by age group, please enter the proportion (%) of population by age group in the country. If data are available, please leave these cells blank."]
[null,"1-4 years age","Preschool-age children (PreSAC)",null,0.14199999999999999]
[null,"5-14 years age","School-age children (SAC)",null,0.30199999999999999]
[null,"15 years +","Adults",null,0.52100000000000002]
[null,"15-49 years","Women of reproductive age (WRA)",null,0.247]

{"sheet":"COUNTRY_INFO","index":1,"n_rows":155,"n_cols":30,"rows_kept":155,"cut":false,"hidden":false,"merged":[[6,28,7,28],[6,29,7,29],[6,17,6,20],[6,25,7,25],[6,22,7,22],[6,23,7,23],[6,24,7,24],[6,26,7,26],[6,27,7,27],[6,3,7,3],[6,2,7,2],[6,1,7,1],[6,0,7,0],[6,21,7,21],[6,13,6,16],[6,11,7,11],[6,12,7,12],[6,7,7,7],[6,8,7,8],[6,9,7,9],[6,10,7,10],[6,6,7,6],[6,5,7,5],[6,4,7,4],[3,0,3,2],[3,7,3,10],[3,21,3,24],[5,0,5,2],[3,26,3,29],[5,26,5,29],[5,3,5,6],[5,7,5,10],[5,11,5,20],[5,21,5,24]]}
["COUNTRY INFORMATION"]
["Administrative structure, population by age group, status of endemicity and planned interventions"]
[]
["TOTAL",null,null,{"$f":"SUBTOTAL(9,D$10:D$1010)","v":46972357},{"$f":"SUBTOTAL(9,E$10:E$1010)","v":6670074},14185647,24472596,null,null,null,null,{"$f":"SUBTOTAL(9,L$10:L$1010)","v":0},1577609,6196216,13177862,10777921,28389352,0,5352830,6755481,12108311]
[]
["Country administrative structure",null,null,"Population",null,null,null,"Endemicity",null,null,null,"Population requiring PC",null,null,null,null,null,null,null,null,null,"Number of treatment rounds planned for the year",null,null,null,"Criteria to apply for \nIVM+DEC+ALB therapy","Epidemiological surveys planned for the year"]
["Country","Province/State","District","Total","PreSAC","SAC","Adults","LF","Oncho","STH","SCH","LF","ONCHO","STH",null,null,null,"SCH",null,null,null,"LF","Oncho","STH","SCH","LF","LF","Oncho","STH","SCH"]
[null,null,null,null,null,null,null,null,null,null,null,null,null,"PreSAC","SAC","WRA","TOTAL","PreSAC","SAC","Adults","TOTAL"]
[]
[{"$f":"IF(INTRO!$E$33<>0,INTRO!$E$33, \" \")","v":"Uganda"},"Central","Buikwe",588203,{"$f":"IF(INTRO!$E$48=\"\",\"\",ROUND($D10*INTRO!$E$48,0))","v":83525},{"$f":"IF(INTRO!$E$49=\"\",\"\",ROUND($D10*INTRO!$E$49,0))","v":177637},{"$f":"IF(INTRO!$E$50=\"\",\"\",ROUND($D10*INTRO!$E$50,0))","v":306454},0,0,3,3,{"$f":"IF(INTRO!$E$37=\"Endemic\",IF($H10>0,IF($H10=4,\"Unknown\",IF($H10=99,\"Stopped\",$D10)),0),\"Not required\")","v":0},0,{"$f":"IF(INTRO!$E$41=\"Endemic\", IF($J10>1, IF($J10=4, \"Unknown\", IF($J10=99, \"Surveillance\", E10)), 0),\"Not required\")","v":83525},{"$f":"IF(INTRO!$E$41=\"Endemic\", IF($J10>1, IF($J10=4, \"Unknown\", IF($J10=99, \"Surveillance\", F10)), 0),\"Not required\")","v":177637},{"$f":"IF(INTRO!$E$41=\"Endemic\", IF($J10>1, IF($J10=4, \"Unknown\", IF($J10=99, \"Surveillance\", ROUND(D10*INTRO!$E$51,0))), 0),\"Not required\")","v":145286},{"$f":"IF(INTRO!$E$41=\"Endemic\", IF($J10>1, IF($J10=4, \"Unknown\", IF($J10=99, \"Surveillance\", SUM($N10:$P10))), 0),\"Not required\")","v":406448},0,106129,106960,{"$f":"IF(INTRO!$E$43=\"Endemic\", IF($K10>1, IF($K10=4, \"Unknown\", IF($K10=99, \"Surveillance\", SUM($R10:$T10))), 0),\"Not required\")","v":213089},0,0,1,1]
[{"$f":"IF(INTRO!$E$33<>0,INTRO!$E$33, \" \")","v":"Uganda"},"Central","Bukomansimbi",203619,{"$f":"IF(INTRO!$E$48=\"\",\"\",ROUND($D11*INTRO!$E$48,0))","v":28914},{"$f":"IF(INTRO!$E$49=\"\",\"\",ROUND($D11*INTRO!$E$49,0))","v":61493},{"$f":"IF(INTRO!$E$50=\"\",\"\",ROUND($D11*INTRO!$E$50,0))","v":106085},0,0,3,0,{"$f":"IF(INTRO!$E$37=\"Endemic\",IF($H11>0,IF($H11=4,\"Unknown\",IF($H11=99,\"Stopped\",$D11)),0),\"Not required\")","v":0},0,{"$f":"IF(INTRO!$E$41=\"Endemic\", IF($J11>1, IF($J11=4, \"Unknown\", IF($J11=99, \"Surveillance\", E11)), 0),\"Not required\")","v":28914},{"$f":"IF(INTRO!$E$41=\"Endemic\", IF($J11>1, IF($J11=4, \"Unknown\", IF($J11=99, \"Surveillance\", F11)), 0),\"Not required\")","v":61493},{"$f":"IF(INTRO!$E$41=\"Endemic\", IF($J11>1, IF($J11=4, \"Unknown\", IF($J11=99, \"Surveillance\", ROUND(D11*INTRO!$E$51,0))), 0),\"Not required\")","v":50294},{"$f":"IF(INTRO!$E$41=\"Endemic\", IF($J11>1, IF($J11=4, \"Unknown\", IF($J11=99, \"Surveillance\", SUM($N11:$P11))), 0),\"Not required\")","v":140701},0,0,0,{"$f":"IF(INTRO!$E$43=\"Endemic\", IF($K11>1, IF($K11=4, \"Unknown\", IF($K11=99, \"Surveillance\", SUM($R11:$T11))), 0),\"Not required\")","v":0},0,0,1,0]
[{"$f":"IF(INTRO!$E$33<>0,INTRO!$E$33, \" \")","v":"Uganda"},"Central","Butambala",135411,{"$f":"IF(INTRO!$E$48=\"\",\"\",ROUND($D12*INTRO!$E$48,0))","v":19228},{"$f":"IF(INTRO!$E$49=\"\",\"\",ROUND($D12*INTRO!$E$49,0))","v":40894},{"$f":"IF(INTRO!$E$50=\"\",\"\",ROUND($D12*INTRO!$E$50,0))","v":70549},0,0,3,0,{"$f":"IF(INTRO!$E$37=\"Endemic\",IF($H12>0,IF($H12=4,\"Unknown\",IF($H12=99,\"Stopped\",$D12)),0),\"Not required\")","v":0},0,{"$f":"IF(INTRO!$E$41=\"Endemic\", IF($J12>1, IF($J12=4, \"Unknown\", IF($J12=99, \"Surveillance\", E12)), 0),\"Not required\")","v":19228},{"$f":"IF(INTRO!$E$41=\"Endemic\", IF($J12>1, IF($J12=4, \"Unknown\", IF($J12=99, \"Surveillance\", F12)), 0),\"Not required\")","v":40894},{"$f":"IF(INTRO!$E$41=\"Endemic\", IF($J12>1, IF($J12=4, \"Unknown\", IF($J12=99, \"Surveillance\", ROUND(D12*INTRO!$E$51,0))), 0),\"Not required\")","v":33447},{"$f":"IF(INTRO!$E$41=\"Endemic\", IF($J12>1, IF($J12=4, \"Unknown\", IF($J12=99, \"Surveillance\", SUM($N12:$P12))), 0),\"Not required\")","v":93569},0,0,0,{"$f":"IF(INTRO!$E$43=\"Endemic\", IF($K12>1, IF($K12=4, \"Unknown\", IF($K12=99, \"Surveillance\", SUM($R12:$T12))), 0),\"Not required\")","v":0},0,0,1,0]
[{"$f":"IF(INTRO!$E$33<>0,INTRO!$E$33, \" \")","v":"Uganda"},"Central","Buvuma",121257,{"$f":"IF(INTRO!$E$48=\"\",\"\",ROUND($D13*INTRO!$E$48,0))","v":17218},{"$f":"IF(INTRO!$E$49=\"\",\"\",ROUND($D13*INTRO!$E$49,0))","v":36620},{"$f":"IF(INTRO!$E$50=\"\",\"\",ROUND($D13*INTRO!$E$50,0))","v":63175},0,0,3,31,{"$f":"IF(INTRO!$E$37=\"Endemic\",IF($H13>0,IF($H13=4,\"Unknown\",IF($H13=99,\"Stopped\",$D13)),0),\"Not required\")","v":0},0,{"$f":"IF(INTRO!$E$41=\"Endemic\", IF($J13>1, IF($J13=4, \"Unknown\", IF($J13=99, \"Surveillance\", E13)), 0),\"Not required\")","v":17218},{"$f":"IF(INTRO!$E$41=\"Endemic\", IF($J13>1, IF($J13=4, \"Unknown\", IF($J13=99, \"Surveillance\", F13)), 0),\"Not required\")","v":36620},{"$f":"IF(INTRO!$E$41=\"Endemic\", IF($J13>1, IF($J13=4, \"Unknown\", IF($J13=99, \"Surveillance\", ROUND(D13*INTRO!$E$51,0))), 0),\"Not required\")","v":29950},{"$f":"IF(INTRO!$E$41=\"Endemic\", IF($J13>1, IF($J13=4, \"Unknown\", IF($J13=99, \"Surveillance\", SUM($N13:$P13))), 0),\"Not required\")","v":83788},0,36620,63175,{"$f":"IF(INTRO!$E$43=\"Endemic\", IF($K13>1, IF($K13=4, \"Unknown\", IF($K13=99, \"Surveillance\", SUM($R13:$T13))), 0),\"Not required\")","v":99795},0,0,1,1]
[{"$f":"IF(INTRO!$E$33<>0,INTRO!$E$33, \" \")","v":"Uganda"},"Central","Gomba",215757,{"$f":"IF(INTRO!$E$48=\"\",\"\",ROUND($D14*INTRO!$E$48,0))","v":30637},{"$f":"IF(INTRO!$E$49=\"\",\"\",ROUND($D14*INTRO!$E$49,0))","v":65159},{"$f":"IF(INTRO!$E$50=\"\",\"\",ROUND($D14*INTRO!$E$50,0))","v":112409},0,0,3,21,{"$f":"IF(INTRO!$E$37=\"Endemic\",IF($H14>0,IF($H14=4,\"Unknown\",IF($H14=99,\"Stopped\",$D14)),0),\"Not required\")","v":0},0,{"$f":"IF(INTRO!$E$41=\"Endemic\", IF($J14>1, IF($J14=4, \"Unknown\", IF($J14=99, \"Surveillance\", E14)), 0),\"Not required\")","v":30637},{"$f":"IF(INTRO!$E$41=\"Endemic\", IF($J14>1, IF($J14=4, \"Unknown\", IF($J14=99, \"Surveillance\", F14)), 0),\"Not required\")","v":65159},{"$f":"IF(INTRO!$E$41=\"Endemic\", IF($J14>1, IF($J14=4, \"Unknown\", IF($J14=99, \"Surveillance\", ROUND(D14*INTRO!$E$51,0))), 0),\"Not required\")","v":53292},{"$f":"IF(INTRO!$E$41=\"Endemic\", IF($J14>1, IF($J14=4, \"Unknown\", IF($J14=99, \"Surveillance\", SUM($N14:$P14))), 0),\"Not required\")","v":149088},0,16970,22519,{"$f":"IF(INTRO!$E$43=\"Endemic\", IF($K14>1, IF($K14=4, \"Unknown\", IF($K14=99, \"Surveillance\", SUM($R14:$T14))), 0),\"Not required\")","v":39489},0,0,1,1]
[{"$f":"IF(INTRO!$E$33<>0,INTRO!$E$33, \" \")","v":"Uganda"},"Central","Kalangala",71991,{"$f":"IF(INTRO!$E$48=\"\",\"\",ROUND($D15*INTRO!$E$48,0))","v":10223},{"$f":"IF(INTRO!$E$49=\"\",\"\",ROUND($D15*INTRO!$E$49,0))","v":21741},{"$f":"IF(INTRO!$E$50=\"\",\"\",ROUND($D15*INTRO!$E$50,0))","v":37507},0,0,3,31,{"$f":"IF(INTRO!$E$37=\"Endemic\",IF($H15>0,IF($H15=4,\"Unknown\",IF($H15=99,\"Stopped\",$D15)),0),\"Not required\")","v":0},0,{"$f":"IF(INTRO!$E$41=\"Endemic\", IF($J15>1, IF($J15=4, \"Unknown\", IF($J15=99, \"Surveillance\", E15)), 0),\"Not required\")","v":10223},{"$f":"IF(INTRO!$E$41=\"Endemic\", IF($J15>1, IF($J15=4, \"Unknown\", IF($J15=99, \"Surveillance\", F15)), 0),\"Not required\")","v":21741},{"$f":"IF(INTRO!$E$41=\"Endemic\", IF($J15>1, IF($J15=4, \"Unknown\", IF($J15=99, \"Surveillance\", ROUND(D15*INTRO!$E$51,0))), 0),\"Not required\")","v":17782},{"$f":"IF(INTRO!$E$41=\"Endemic\", IF($J15>1, IF($J15=4, \"Unknown\", IF($J15=99, \"Surveillance\", SUM($N15:$P15))), 0),\"Not required\")","v":49746},0,8343,37507,{"$f":"IF(INTRO!$E$43=\"Endemic\", IF($K15>1, IF($K15=4, \"Unknown\", IF($K15=99, \"Surveillance\", SUM($R15:$T15))), 0),\"Not required\")","v":45850},0,0,1,1]
[{"$f":"IF(INTRO!$E$33<>0,INTRO!$E$33, \" \")","v":"Uganda"},"Central","Kalungu",248176,{"$f":"IF(INTRO!$E$48=\"\",\"\",ROUND($D16*INTRO!$E$48,0))","v":35241},{"$f":"IF(INTRO!$E$49=\"\",\"\",ROUND($D16*INTRO!$E$49,0))","v":74949},{"$f":"IF(INTRO!$E$50=\"\",\"\",ROUND($D16*INTRO!$E$50,0))","v":129300},0,0,21,11,{"$f":"IF(INTRO!$E$37=\"Endemic\",IF($H16>0,IF($H16=4,\"Unknown\",IF($H16=99,\"Stopped\",$D16)),0),\"Not required\")","v":0},0,{"$f":"IF(INTRO!$E$41=\"Endemic\", IF($J16>1, IF($J16=4, \"Unknown\", IF($J16=99, \"Surveillance\", E16)), 0),\"Not required\")","v":35241},{"$f":"IF(INTRO!$E$41=\"Endemic\", IF($J16>1, IF($J16=4, \"Unknown\", IF($J16=99, \"Surveillance\", F16)), 0),\"Not required\")","v":74949},{"$f":"IF(INTRO!$E$41=\"Endemic\", IF($J16>1, IF($J16=4, \"Unknown\", IF($J16=99, \"Surveillance\", ROUND(D16*INTRO!$E$51,0))), 0),\"Not required\")","v":61299},{"$f":"IF(INTRO!$E$41=\"Endemic\", IF($J16>1, IF($J16=4, \"Unknown\", IF($J16=99, \"Surveillance\", SUM($N16:$P16))), 0),\"Not required\")","v":171489},0,24035,0,{"$f":"IF(INTRO!$E$43=\"Endemic\", IF($K16>1, IF($K16=4, \"Unknown\", IF($K16=99, \"Surveillance\", SUM($R16:$T16))), 0),\"Not required\")","v":24035},0,0,1,1]
[{"$f":"IF(INTRO!$E$33<>0,INTRO!$E$33, \" \")","v":"Uganda"},"Central","Kampala",2043608,{"$f":"IF(INTRO!$E$48=\"\",\"\",ROUND($D17*INTRO!$E$48,0))","v":290192},{"$f":"IF(INTRO!$E$49=\"\",\"\",ROUND($D17*INTRO!$E$49,0))","v":617170},{"$f":"IF(INTRO!$E$50=\"\",\"\",ROUND($D17*INTRO!$E$50,0))","v":1064720},0,0,3,0,{"$f":"IF(INTRO!$E$37=\"Endemic\",IF($H17>0,IF($H17=4,\"Unknown\",IF($H17=99,\"Stopped\",$D17)),0),\"Not required\")","v":0},0,{"$f":"IF(INTRO!$E$41=\"Endemic\", IF($J17>1, IF($J17=4, \"Unknown\", IF($J17=99, \"Surveillance\", E17)), 0),\"Not required\")","v":290192},{"$f":"IF(INTRO!$E$41=\"Endemic\", IF($J17>1, IF($J17=4, \"Unknown\", IF($J17=99, \"Surveillance\", F17)), 0),\"Not required\")","v":617170},{"$f":"IF(INTRO!$E$41=\"Endemic\", IF($J17>1, IF($J17=4, \"Unknown\", IF($J17=99, \"Surveillance\", ROUND(D17*INTRO!$E$51,0))), 0),\"Not required\")","v":504771},{"$f":"IF(INTRO!$E$41=\"Endemic\", IF($J17>1, IF($J17=4, \"Unknown\", IF($J17=99, \"Surveillance\", SUM($N17:$P17))), 0),\"Not required\")","v":1412133},0,0,0,{"$f":"IF(INTRO!$E$43=\"Endemic\", IF($K17>1, IF($K17=4, \"Unknown\", IF($K17=99, \"Surveillance\", SUM($R17:$T17))), 0),\"Not required\")","v":0},0,0,1,0]
[{"$f":"IF(INTRO!$E$33<>0,INTRO!$E$33, \" \")","v":"Uganda"},"Central","Kassanda",371014,{"$f":"IF(INTRO!$E$48=\"\",\"\",ROUND($D18*INTRO!$E$48,0))","v":52684},{"$f":"IF(INTRO!$E$49=\"\",\"\",ROUND($D18*INTRO!$E$49,0))","v":112046},{"$f":"IF(INTRO!$E$50=\"\",\"\",ROUND($D18*INTRO!$E$50,0))","v":193298},0,0,21,21,{"$f":"IF(INTRO!$E$37=\"Endemic\",IF($H18>0,IF($H18=4,\"Unknown\",IF($H18=99,\"Stopped\",$D18)),0),\"Not required\")","v":0},0,{"$f":"IF(INTRO!$E$41=\"Endemic\", IF($J18>1, IF($J18=4, \"Unknown\", IF($J18=99, \"Surveillance\", E18)), 0),\"Not required\")","v":52684},{"$f":"IF(INTRO!$E$41=\"Endemic\", IF($J18>1, IF($J18=4, \"Unknown\", IF($J18=99, \"Surveillance\", F18)), 0),\"Not required\")","v":112046},{"$f":"IF(INTRO!$E$41=\"Endemic\", IF($J18>1, IF($J18=4, \"Unknown\", IF($J18=99, \"Surveillance\", ROUND(D18*INTRO!$E$51,0))), 0),\"Not required\")","v":91640},{"$f":"IF(INTRO!$E$41=\"Endemic\", IF($J18>1, IF($J18=4, \"Unknown\", IF($J18=99, \"Surveillance\", SUM($N18:$P18))), 0),\"Not required\")","v":256370},0,56116,38724,{"$f":"IF(INTRO!$E$43=\"Endemic\", IF($K18>1, IF($K18=4, \"Unknown\", IF($K18=99, \"Surveillance\", SUM($R18:$T18))), 0),\"Not required\")","v":94840},0,0,1,1]
[{"$f":"IF(INTRO!$E$33<>0,INTRO!$E$33, \" \")","v":"Uganda"},"Central","Kayunga",498983,{"$f":"IF(INTRO!$E$48=\"\",\"\",ROUND($D19*INTRO!$E$48,0))","v":70856},{"$f":"IF(INTRO!$E$49=\"\",\"\",ROUND($D19*INTRO!$E$49,0))","v":150693},{"$f":"IF(INTRO!$E$50=\"\",\"\",ROUND($D19*INTRO!$E$50,0))","v":259970},0,0,3,3,{"$f":"IF(INTRO!$E$37=\"Endemic\",IF($H19>0,IF($H19=4,\"Unknown\",IF($H19=99,\"Stopped\",$D19)),0),\"Not required\")","v":0},0,{"$f":"IF(INTRO!$E$41=\"Endemic\", IF($J19>1, IF($J19=4, \"Unknown\", IF($J19=99, \"Surveillance\", E19)), 0),\"Not required\")","v":70856},{"$f":"IF(INTRO!$E$41=\"Endemic\", IF($J19>1, IF($J19=4, \"Unknown\", IF($J19=99, \"Surveillance\", F19)), 0),\"Not required\")","v":150693},{"$f":"IF(INTRO!$E$41=\"Endemic\", IF($J19>1, IF($J19=4, \"Unknown\", IF($J19=99, \"Surveillance\", ROUND(D19*INTRO!$E$51,0))), 0),\"Not required\")","v":123249},{"$f":"IF(INTRO!$E$41=\"Endemic\", IF($J19>1, IF($J19=4, \"Unknown\", IF($J19=99, \"Surveillance\", SUM($N19:$P19))), 0),\"Not required\")","v":344798},0,75254,259970,{"$f":"IF(INTRO!$E$43=\"Endemic\", IF($K19>1, IF($K19=4, \"Unknown\", IF($K19=99, \"Surveillance\", SUM($R19:$T19))), 0),\"Not required\")","v":335224},0,0,1,1]
[{"$f":"IF(INTRO!$E$33<>0,INTRO!$E$33, \" \")","v":"Uganda"},"Central","Kiboga",199773,{"$f":"IF(INTRO!$E$48=\"\",\"\",ROUND($D20*INTRO!$E$48,0))","v":28368},{"$f":"IF(INTRO!$E$49=\"\",\"\",ROUND($D20*INTRO!$E$49,0))","v":60331},{"$f":"IF(INTRO!$E$50=\"\",\"\",ROUND($D20*INTRO!$E$50,0))","v":104082},0,0,3,0,{"$f":"IF(INTRO!$E$37=\"Endemic\",IF($H20>0,IF($H20=4,\"Unknown\",IF($H20=99,\"Stopped\",$D20)),0),\"Not required\")","v":0},0,{"$f":"IF(INTRO!$E$41=\"Endemic\", IF($J20>1, IF($J20=4, \"Unknown\", IF($J20=99, \"Surveillance\", E20)), 0),\"Not required\")","v":28368},{"$f":"IF(INTRO!$E$41=\"Endemic\", IF($J20>1, IF($J20=4, \"Unknown\", IF($J20=99, \"Surveillance\", F20)), 0),\"Not required\")","v":60331},{"$f":"IF(INTRO!$E$41=\"Endemic\", IF($J20>1, IF($J20=4, \"Unknown\", IF($J20=99, \"Surveillance\", ROUND(D20*INTRO!$E$51,0))), 0),\"Not required\")","v":49344},{"$f":"IF(INTRO!$E$41=\"Endemic\", IF($J20>1, IF($J20=4, \"Unknown\", IF($J20=99, \"Surveillance\", SUM($N20:$P20))), 0),\"Not required\")","v":138043},0,0,0,{"$f":"IF(INTRO!$E$43=\"Endemic\", IF($K20>1, IF($K20=4, \"Unknown\", IF($K20=99, \"Surveillance\", SUM($R20:$T20))), 0),\"Not required\")","v":0},0,0,1,0]
[{"$f":"IF(INTRO!$E$33<>0,INTRO!$E$33, \" \")","v":"Uganda"},"Central","Kyankwanzi",289373,{"$f":"IF(INTRO!$E$48=\"\",\"\",ROUND($D21*INTRO!$E$48,0))","v":41091},{"$f":"IF(INTRO!$E$49=\"\",\"\",ROUND($D21*INTRO!$E$49,0))","v":87391},{"$f":"IF(INTRO!$E$50=\"\",\"\",ROUND($D21*INTRO!$E$50,0))","v":150763},0,0,3,0,{"$f":"IF(INTRO!$E$37=\"Endemic\",IF($H21>0,IF($H21=4,\"Unknown\",IF($H21=99,\"Stopped\",$D21)),0),\"Not required\")","v":0},0,{"$f":"IF(INTRO!$E$41=\"Endemic\", IF($J21>1, IF($J21=4, \"Unknown\", IF($J21=99, \"Surveillance\", E21)), 0),\"Not required\")","v":41091},{"$f":"IF(INTRO!$E$41=\"Endemic\", IF($J21>1, IF($J21=4, \"Unknown\", IF($J21=99, \"Surveillance\", F21)), 0),\"Not required\")","v":87391},{"$f":"IF(INTRO!$E$41=\"Endemic\", IF($J21>1, IF($J21=4, \"Unknown\", IF($J21=99, \"Surveillance\", ROUND(D21*INTRO!$E$51,0))), 0),\"Not required\")","v":71475},{"$f":"IF(INTRO!$E$41=\"Endemic\", IF($J21>1, IF($J21=4, \"Unknown\", IF($J21=99, \"Surveillance\", SUM($N21:$P21))), 0),\"Not required\")","v":199957},0,0,0,{"$f":"IF(INTRO!$E$43=\"Endemic\", IF($K21>1, IF($K21=4, \"Unknown\", IF($K21=99, \"Surveillance\", SUM($R21:$T21))), 0),\"Not required\")","v":0},0,0,1,0]
[{"$f":"IF(INTRO!$E$33<>0,INTRO!$E$33, \" \")","v":"Uganda"},"Central","Kyotera",218239,{"$f":"IF(INTRO!$E$48=\"\",\"\",ROUND($D22*INTRO!$E$48,0))","v":30990},{"$f":"IF(INTRO!$E$49=\"\",\"\",ROUND($D22*INTRO!$E$49,0))","v":65908},{"$f":"IF(INTRO!$E$50=\"\",\"\",ROUND($D22*INTRO!$E$50,0))","v":113703},0,0,21,11,{"$f":"IF(INTRO!$E$37=\"Endemic\",IF($H22>0,IF($H22=4,\"Unknown\",IF($H22=99,\"Stopped\",$D22)),0),\"Not required\")","v":0},0,{"$f":"IF(INTRO!$E$41=\"Endemic\", IF($J22>1, IF($J22=4, \"Unknown\", IF($J22=99, \"Surveillance\", E22)), 0),\"Not required\")","v":30990},{"$f":"IF(INTRO!$E$41=\"Endemic\", IF($J22>1, IF($J22=4, \"Unknown\", IF($J22=99, \"Surveillance\", F22)), 0),\"Not required\")","v":65908},{"$f":"IF(INTRO!$E$41=\"Endemic\", IF($J22>1, IF($J22=4, \"Unknown\", IF($J22=99, \"Surveillance\", ROUND(D22*INTRO!$E$51,0))), 0),\"Not required\")","v":53905},{"$f":"IF(INTRO!$E$41=\"Endemic\", IF($J22>1, IF($J22=4, \"Unknown\", IF($J22=99, \"Surveillance\", SUM($N22:$P22))), 0),\"Not required\")","v":150803},0,21786,0,{"$f":"IF(INTRO!$E$43=\"Endemic\", IF($K22>1, IF($K22=4, \"Unknown\", IF($K22=99, \"Surveillance\", SUM($R22:$T22))), 0),\"Not required\")","v":21786},0,0,1,1]
[{"$f":"IF(INTRO!$E$33<>0,INTRO!$E$33, \" \")","v":"Uganda"},"Central","Luwero",615904,{"$f":"IF(INTRO!$E$48=\"\",\"\",ROUND($D23*INTRO!$E$48,0))","v":87458},{"$f":"IF(INTRO!$E$49=\"\",\"\",ROUND($D23*INTRO!$E$49,0))","v":186003},{"$f":"IF(INTRO!$E$50=\"\",\"\",ROUND($D23*INTRO!$E$50,0))","v":320886},0,0,3,0,{"$f":"IF(INTRO!$E$37=\"Endemic\",IF($H23>0,IF($H23=4,\"Unknown\",IF($H23=99,\"Stopped\",$D23)),0),\"Not required\")","v":0},0,{"$f":"IF(INTRO!$E$41=\"Endemic\", IF($J23>1, IF($J23=4, \"Unknown\", IF($J23=99, \"Surveillance\", E23)), 0),\"Not required\")","v":87458},{"$f":"IF(INTRO!$E$41=\"Endemic\", IF($J23>1, IF($J23=4, \"Unknown\", IF($J23=99, \"Surveillance\", F23)), 0),\"Not required\")","v":186003},{"$f":"IF(INTRO!$E$41=\"Endemic\", IF($J23>1, IF($J23=4, \"Unknown\", IF($J23=99, \"Surveillance\", ROUND(D23*INTRO!$E$51,0))), 0),\"Not required\")","v":152128},{"$f":"IF(INTRO!$E$41=\"Endemic\", IF($J23>1, IF($J23=4, \"Unknown\", IF($J23=99, \"Surveillance\", SUM($N23:$P23))), 0),\"Not required\")","v":425589},0,0,0,{"$f":"IF(INTRO!$E$43=\"Endemic\", IF($K23>1, IF($K23=4, \"Unknown\", IF($K23=99, \"Surveillance\", SUM($R23:$T23))), 0),\"Not required\")","v":0},0,0,1,0]
[{"$f":"IF(INTRO!$E$33<>0,INTRO!$E$33, \" \")","v":"Uganda"},"Central","Lwengo",371260,{"$f":"IF(INTRO!$E$48=\"\",\"\",ROUND($D24*INTRO!$E$48,0))","v":52719},{"$f":"IF(INTRO!$E$49=\"\",\"\",ROUND($D24*INTRO!$E$49,0))","v":112121},{"$f":"IF(INTRO!$E$50=\"\",\"\",ROUND($D24*INTRO!$E$50,0))","v":193426},0,0,3,0,{"$f":"IF(INTRO!$E$37=\"Endemic\",IF($H24>0,IF($H24=4,\"Unknown\",IF($H24=99,\"Stopped\",$D24)),0),\"Not required\")","v":0},0,{"$f":"IF(INTRO!$E$41=\"Endemic\", IF($J24>1, IF($J24=4, \"Unknown\", IF($J24=99, \"Surveillance\", E24)), 0),\"Not required\")","v":52719},{"$f":"IF(INTRO!$E$41=\"Endemic\", IF($J24>1, IF($J24=4, \"Unknown\", IF($J24=99, \"Surveillance\", F24)), 0),\"Not required\")","v":112121},{"$f":"IF(INTRO!$E$41=\"Endemic\", IF($J24>1, IF($J24=4, \"Unknown\", IF($J24=99, \"Surveillance\", ROUND(D24*INTRO!$E$51,0))), 0),\"Not required\")","v":91701},{"$f":"IF(INTRO!$E$41=\"Endemic\", IF($J24>1, IF($J24=4, \"Unknown\", IF($J24=99, \"Surveillance\", SUM($N24:$P24))), 0),\"Not required\")","v":256541},0,0,0,{"$f":"IF(INTRO!$E$43=\"Endemic\", IF($K24>1, IF($K24=4, \"Unknown\", IF($K24=99, \"Surveillance\", SUM($R24:$T24))), 0),\"Not required\")","v":0},0,0,1,0]
[{"$f":"IF(INTRO!$E$33<>0,INTRO!$E$33, \" \")","v":"Uganda"},"Central","Lyantonde",127469,{"$f":"IF(INTRO!$E$48=\"\",\"\",ROUND($D25*INTRO!$E$48,0))","v":18101},{"$f":"IF(INTRO!$E$49=\"\",\"\",ROUND($D25*INTRO!$E$49,0))","v":38496},{"$f":"IF(INTRO!$E$50=\"\",\"\",ROUND($D25*INTRO!$E$50,0))","v":66411},0,0,3,0,{"$f":"IF(INTRO!$E$37=\"Endemic\",IF($H25>0,IF($H25=4,\"Unknown\",IF($H25=99,\"Stopped\",$D25)),0),\"Not required\")","v":0},0,{"$f":"IF(INTRO!$E$41=\"Endemic\", IF($J25>1, IF($J25=4, \"Unknown\", IF($J25=99, \"Surveillance\", E25)), 0),\"Not required\")","v":18101},{"$f":"IF(INTRO!$E$41=\"Endemic\", IF($J25>1, IF($J25=4, \"Unknown\", IF($J25=99, \"Surveillance\", F25)), 0),\"Not required\")","v":38496},{"$f":"IF(INTRO!$E$41=\"Endemic\", IF($J25>1, IF($J25=4, \"Unknown\", IF($J25=99, \"Surveillance\", ROUND(D25*INTRO!$E$51,0))), 0),\"Not required\")","v":31485},{"$f":"IF(INTRO!$E$41=\"Endemic\", IF($J25>1, IF($J25=4, \"Unknown\", IF($J25=99, \"Surveillance\", SUM($N25:$P25))), 0),\"Not required\")","v":88082},0,0,0,{"$f":"IF(INTRO!$E$43=\"Endemic\", IF($K25>1, IF($K25=4, \"Unknown\", IF($K25=99, \"Surveillance\", SUM($R25:$T25))), 0),\"Not required\")","v":0},0,0,1,0]
[{"$f":"IF(INTRO!$E$33<>0,INTRO!$E$33, \" \")","v":"Uganda"},"Central","Masaka",259889,{"$f":"IF(INTRO!$E$48=\"\",\"\",ROUND($D26*INTRO!$E$48,0))","v":36904},{"$f":"IF(INTRO!$E$49=\"\",\"\",ROUND($D26*INTRO!$E$49,0))","v":78486},{"$f":"IF(INTRO!$E$50=\"\",\"\",ROUND($D26*INTRO!$E$50,0))","v":135402},0,0,3,3,{"$f":"IF(INTRO!$E$37=\"Endemic\",IF($H26>0,IF($H26=4,\"Unknown\",IF($H26=99,\"Stopped\",$D26)),0),\"Not required\")","v":0},0,{"$f":"IF(INTRO!$E$41=\"Endemic\", IF($J26>1, IF($J26=4, \"Unknown\", IF($J26=99, \"Surveillance\", E26)), 0),\"Not required\")","v":36904},{"$f":"IF(INTRO!$E$41=\"Endemic\", IF($J26>1, IF($J26=4, \"Unknown\", IF($J26=99, \"Surveillance\", F26)), 0),\"Not required\")","v":78486},{"$f":"IF(INTRO!$E$41=\"Endemic\", IF($J26>1, IF($J26=4, \"Unknown\", IF($J26=99, \"Surveillance\", ROUND(D26*INTRO!$E$51,0))), 0),\"Not required\")","v":64193},{"$f":"IF(INTRO!$E$41=\"Endemic\", IF($J26>1, IF($J26=4, \"Unknown\", IF($J26=99, \"Surveillance\", SUM($N26:$P26))), 0),\"Not required\")","v":179583},0,44225,135402,{"$f":"IF(INTRO!$E$43=\"Endemic\", IF($K26>1, IF($K26=4, \"Unknown\", IF($K26=99, \"Surveillance\", SUM($R26:$T26))), 0),\"Not required\")","v":179627},0,0,1,1]
[{"$f":"IF(INTRO!$E$33<>0,INTRO!$E$33, \" \")","v":"Uganda"},"Central","Masaka City",139940,{"$f":"IF(INTRO!$E$48=\"\",\"\",ROUND($D27*INTRO!$E$48,0))","v":19871},{"$f":"IF(INTRO!$E$49=\"\",\"\",ROUND($D27*INTRO!$E$49,0))","v":42262},{"$f":"IF(INTRO!$E$50=\"\",\"\",ROUND($D27*INTRO!$E$50,0))","v":72909},0,0,3,0,{"$f":"IF(INTRO!$E$37=\"Endemic\",IF($H27>0,IF($H27=4,\"Unknown\",IF($H27=99,\"Stopped\",$D27)),0),\"Not required\")","v":0},0,{"$f":"IF(INTRO!$E$41=\"Endemic\", IF($J27>1, IF($J27=4, \"Unknown\", IF($J27=99, \"Surveillance\", E27)), 0),\"Not required\")","v":19871},{"$f":"IF(INTRO!$E$41=\"Endemic\", IF($J27>1, IF($J27=4, \"Unknown\", IF($J27=99, \"Surveillance\", F27)), 0),\"Not required\")","v":42262},{"$f":"IF(INTRO!$E$41=\"Endemic\", IF($J27>1, IF($J27=4, \"Unknown\", IF($J27=99, \"Surveillance\", ROUND(D27*INTRO!$E$51,0))), 0),\"Not required\")","v":34565},{"$f":"IF(INTRO!$E$41=\"Endemic\", IF($J27>1, IF($J27=4, \"Unknown\", IF($J27=99, \"Surveillance\", SUM($N27:$P27))), 0),\"Not required\")","v":96698},0,0,0,{"$f":"IF(INTRO!$E$43=\"Endemic\", IF($K27>1, IF($K27=4, \"Unknown\", IF($K27=99, \"Surveillance\", SUM($R27:$T27))), 0),\"Not required\")","v":0},0,0,1,0]
[{"$f":"IF(INTRO!$E$33<>0,INTRO!$E$33, \" \")","v":"Uganda"},"Central","Mityana",446483,{"$f":"IF(INTRO!$E$48=\"\",\"\",ROUND($D28*INTRO!$E$48,0))","v":63401},{"$f":"IF(INTRO!$E$49=\"\",\"\",ROUND($D28*INTRO!$E$49,0))","v":134838},{"$f":"IF(INTRO!$E$50=\"\",\"\",ROUND($D28*INTRO!$E$50,0))","v":232618},0,0,3,3,{"$f":"IF(INTRO!$E$37=\"Endemic\",IF($H28>0,IF($H28=4,\"Unknown\",IF($H28=99,\"Stopped\",$D28)),0),\"Not required\")","v":0},0,{"$f":"IF(INTRO!$E$41=\"Endemic\", IF($J28>1, IF($J28=4, \"Unknown\", IF($J28=99, \"Surveillance\", E28)), 0),\"Not required\")","v":63401},{"$f":"IF(INTRO!$E$41=\"Endemic\", IF($J28>1, IF($J28=4, \"Unknown\", IF($J28=99, \"Surveillance\", F28)), 0),\"Not required\")","v":134838},{"$f":"IF(INTRO!$E$41=\"Endemic\", IF($J28>1, IF($J28=4, \"Unknown\", IF($J28=99, \"Surveillance\", ROUND(D28*INTRO!$E$51,0))), 0),\"Not required\")","v":110281},{"$f":"IF(INTRO!$E$41=\"Endemic\", IF($J28>1, IF($J28=4, \"Unknown\", IF($J28=99, \"Surveillance\", SUM($N28:$P28))), 0),\"Not required\")","v":308520},0,16442,33001,{"$f":"IF(INTRO!$E$43=\"Endemic\", IF($K28>1, IF($K28=4, \"Unknown\", IF($K28=99, \"Surveillance\", SUM($R28:$T28))), 0),\"Not required\")","v":49443},0,0,1,1]
[{"$f":"IF(INTRO!$E$33<>0,INTRO!$E$33, \" \")","v":"Uganda"},"Central","Mpigi",339002,{"$f":"IF(INTRO!$E$48=\"\",\"\",ROUND($D29*INTRO!$E$48,0))","v":48138},{"$f":"IF(INTRO!$E$49=\"\",\"\",ROUND($D29*INTRO!$E$49,0))","v":102379},{"$f":"IF(INTRO!$E$50=\"\",\"\",ROUND($D29*INTRO!$E$50,0))","v":176620},0,0,3,21,{"$f":"IF(INTRO!$E$37=\"Endemic\",IF($H29>0,IF($H29=4,\"Unknown\",IF($H29=99,\"Stopped\",$D29)),0),\"Not required\")","v":0},0,{"$f":"IF(INTRO!$E$41=\"Endemic\", IF($J29>1, IF($J29=4, \"Unknown\", IF($J29=99, \"Surveillance\", E29)), 0),\"Not required\")","v":48138},{"$f":"IF(INTRO!$E$41=\"Endemic\", IF($J29>1, IF($J29=4, \"Unknown\", IF($J29=99, \"Surveillance\", F29)), 0),\"Not required\")","v":102379},{"$f":"IF(INTRO!$E$41=\"Endemic\", IF($J29>1, IF($J29=4, \"Unknown\", IF($J29=99, \"Surveillance\", ROUND(D29*INTRO!$E$51,0))), 0),\"Not required\")","v":83733},{"$f":"IF(INTRO!$E$41=\"Endemic\", IF($J29>1, IF($J29=4, \"Unknown\", IF($J29=99, \"Surveillance\", SUM($N29:$P29))), 0),\"Not required\")","v":234250},0,31547,35382,{"$f":"IF(INTRO!$E$43=\"Endemic\", IF($K29>1, IF($K29=4, \"Unknown\", IF($K29=99, \"Surveillance\", SUM($R29:$T29))), 0),\"Not required\")","v":66929},0,0,1,1]
[{"$f":"IF(INTRO!$E$33<>0,INTRO!$E$33, \" \")","v":"Uganda"},"Central","Mubende",557402,{"$f":"IF(INTRO!$E$48=\"\",\"\",ROUND($D30*INTRO!$E$48,0))","v":79151},{"$f":"IF(INTRO!$E$49=\"\",\"\",ROUND($D30*INTRO!$E$49,0))","v":168335},{"$f":"IF(INTRO!$E$50=\"\",\"\",ROUND($D30*INTRO!$E$50,0))","v":290406},0,0,3,11,{"$f":"IF(INTRO!$E$37=\"Endemic\",IF($H30>0,IF($H30=4,\"Unknown\",IF($H30=99,\"Stopped\",$D30)),0),\"Not required\")","v":0},0,{"$f":"IF(INTRO!$E$41=\"Endemic\", IF($J30>1, IF($J30=4, \"Unknown\", IF($J30=99, \"Surveillance\", E30)), 0),\"Not required\")","v":79151},{"$f":"IF(INTRO!$E$41=\"Endemic\", IF($J30>1, IF($J30=4, \"Unknown\", IF($J30=99, \"Surveillance\", F30)), 0),\"Not required\")","v":168335},{"$f":"IF(INTRO!$E$41=\"Endemic\", IF($J30>1, IF($J30=4, \"Unknown\", IF($J30=99, \"Surveillance\", ROUND(D30*INTRO!$E$51,0))), 0),\"Not required\")","v":137678},{"$f":"IF(INTRO!$E$41=\"Endemic\", IF($J30>1, IF($J30=4, \"Unknown\", IF($J30=99, \"Surveillance\", SUM($N30:$P30))), 0),\"Not required\")","v":385164},0,55642,0,{"$f":"IF(INTRO!$E$43=\"Endemic\", IF($K30>1, IF($K30=4, \"Unknown\", IF($K30=99, \"Surveillance\", SUM($R30:$T30))), 0),\"Not required\")","v":55642},0,0,1,1]
[{"$f":"IF(INTRO!$E$33<>0,INTRO!$E$33, \" \")","v":"Uganda"},"Central","Mukono",808452,{"$f":"IF(INTRO!$E$48=\"\",\"\",ROUND($D31*INTRO!$E$48,0))","v":114800},{"$f":"IF(INTRO!$E$49=\"\",\"\",ROUND($D31*INTRO!$E$49,0))","v":244153},{"$f":"IF(INTRO!$E$50=\"\",\"\",ROUND($D31*INTRO!$E$50,0))","v":421203},0,0,3,3,{"$f":"IF(INTRO!$E$37=\"Endemic\",IF($H31>0,IF($H31=4,\"Unknown\",IF($H31=99,\"Stopped\",$D31)),0),\"Not required\")","v":0},0,{"$f":"IF(INTRO!$E$41=\"Endemic\", IF($J31>1, IF($J31=4, \"Unknown\", IF($J31=99, \"Surveillance\", E31)), 0),\"Not required\")","v":114800},{"$f":"IF(INTRO!$E$41=\"Endemic\", IF($J31>1, IF($J31=4, \"Unknown\", IF($J31=99, \"Surveillance\", F31)), 0),\"Not required\")","v":244153},{"$f":"IF(INTRO!$E$41=\"Endemic\", IF($J31>1, IF($J31=4, \"Unknown\", IF($J31=99, \"Surveillance\", ROUND(D31*INTRO!$E$51,0))), 0),\"Not required\")","v":199688},{"$f":"IF(INTRO!$E$41=\"Endemic\", IF($J31>1, IF($J31=4, \"Unknown\", IF($J31=99, \"Surveillance\", SUM($N31:$P31))), 0),\"Not required\")","v":558641},0,33881,30385,{"$f":"IF(INTRO!$E$43=\"Endemic\", IF($K31>1, IF($K31=4, \"Unknown\", IF($K31=99, \"Surveillance\", SUM($R31:$T31))), 0),\"Not required\")","v":64266},0,0,1,1]
[{"$f":"IF(INTRO!$E$33<>0,INTRO!$E$33, \" \")","v":"Uganda"},"Central","Nakaseke",266479,{"$f":"IF(INTRO!$E$48=\"\",\"\",ROUND($D32*INTRO!$E$48,0))","v":37840},{"$f":"IF(INTRO!$E$49=\"\",\"\",ROUND($D32*INTRO!$E$49,0))","v":80477},{"$f":"IF(INTRO!$E$50=\"\",\"\",ROUND($D32*INTRO!$E$50,0))","v":138836},0,0,3,0,{"$f":"IF(INTRO!$E$37=\"Endemic\",IF($H32>0,IF($H32=4,\"Unknown\",IF($H32=99,\"Stopped\",$D32)),0),\"Not required\")","v":0},0,{"$f":"IF(INTRO!$E$41=\"Endemic\", IF($J32>1, IF($J32=4, \"Unknown\", IF($J32=99, \"Surveillance\", E32)), 0),\"Not required\")","v":37840},{"$f":"IF(INTRO!$E$41=\"Endemic\", IF($J32>1, IF($J32=4, \"Unknown\", IF($J32=99, \"Surveillance\", F32)), 0),\"Not required\")","v":80477},{"$f":"IF(INTRO!$E$41=\"Endemic\", IF($J32>1, IF($J32=4, \"Unknown\", IF($J32=99, \"Surveillance\", ROUND(D32*INTRO!$E$51,0))), 0),\"Not required\")","v":65820},{"$f":"IF(INTRO!$E$41=\"Endemic\", IF($J32>1, IF($J32=4, \"Unknown\", IF($J32=99, \"Surveillance\", SUM($N32:$P32))), 0),\"Not required\")","v":184137},0,0,0,{"$f":"IF(INTRO!$E$43=\"Endemic\", IF($K32>1, IF($K32=4, \"Unknown\", IF($K32=99, \"Surveillance\", SUM($R32:$T32))), 0),\"Not required\")","v":0},0,0,1,0]
[{"$f":"IF(INTRO!$E$33<>0,INTRO!$E$33, \" \")","v":"Uganda"},"Central","Nakasongola",245123,{"$f":"IF(INTRO!$E$48=\"\",\"\",ROUND($D33*INTRO!$E$48,0))","v":34807},{"$f":"IF(INTRO!$E$49=\"\",\"\",ROUND($D33*INTRO!$E$49,0))","v":74027},{"$f":"IF(INTRO!$E$50=\"\",\"\",ROUND($D33*INTRO!$E$50,0))","v":127709},0,0,11,11,{"$f":"IF(INTRO!$E$37=\"Endemic\",IF($H33>0,IF($H33=4,\"Unknown\",IF($H33=99,\"Stopped\",$D33)),0),\"Not required\")","v":0},0,{"$f":"IF(INTRO!$E$41=\"Endemic\", IF($J33>1, IF($J33=4, \"Unknown\", IF($J33=99, \"Surveillance\", E33)), 0),\"Not required\")","v":34807},{"$f":"IF(INTRO!$E$41=\"Endemic\", IF($J33>1, IF($J33=4, \"Unknown\", IF($J33=99, \"Surveillance\", F33)), 0),\"Not required\")","v":74027},{"$f":"IF(INTRO!$E$41=\"Endemic\", IF($J33>1, IF($J33=4, \"Unknown\", IF($J33=99, \"Surveillance\", ROUND(D33*INTRO!$E$51,0))), 0),\"Not required\")","v":60545},{"$f":"IF(INTRO!$E$41=\"Endemic\", IF($J33>1, IF($J33=4, \"Unknown\", IF($J33=99, \"Surveillance\", SUM($N33:$P33))), 0),\"Not required\")","v":169379},0,24470,0,{"$f":"IF(INTRO!$E$43=\"Endemic\", IF($K33>1, IF($K33=4, \"Unknown\", IF($K33=99, \"Surveillance\", SUM($R33:$T33))), 0),\"Not required\")","v":24470},0,0,1,1]
[{"$f":"IF(INTRO!$E$33<>0,INTRO!$E$33, \" \")","v":"Uganda"},"Central","Rakai",479958,{"$f":"IF(INTRO!$E$48=\"\",\"\",ROUND($D34*INTRO!$E$48,0))","v":68154},{"$f":"IF(INTRO!$E$49=\"\",\"\",ROUND($D34*INTRO!$E$49,0))","v":144947},{"$f":"IF(INTRO!$E$50=\"\",\"\",ROUND($D34*INTRO!$E$50,0))","v":250058},0,0,11,21,{"$f":"IF(INTRO!$E$37=\"Endemic\",IF($H34>0,IF($H34=4,\"Unknown\",IF($H34=99,\"Stopped\",$D34)),0),\"Not required\")","v":0},0,{"$f":"IF(INTRO!$E$41=\"Endemic\", IF($J34>1, IF($J34=4, \"Unknown\", IF($J34=99, \"Surveillance\", E34)), 0),\"Not required\")","v":68154},{"$f":"IF(INTRO!$E$41=\"Endemic\", IF($J34>1, IF($J34=4, \"Unknown\", IF($J34=99, \"Surveillance\", F34)), 0),\"Not required\")","v":144947},{"$f":"IF(INTRO!$E$41=\"Endemic\", IF($J34>1, IF($J34=4, \"Unknown\", IF($J34=99, \"Surveillance\", ROUND(D34*INTRO!$E$51,0))), 0),\"Not required\")","v":118550},{"$f":"IF(INTRO!$E$41=\"Endemic\", IF($J34>1, IF($J34=4, \"Unknown\", IF($J34=99, \"Surveillance\", SUM($N34:$P34))), 0),\"Not required\")","v":331651},0,84713,50094,{"$f":"IF(INTRO!$E$43=\"Endemic\", IF($K34>1, IF($K34=4, \"Unknown\", IF($K34=99, \"Surveillance\", SUM($R34:$T34))), 0),\"Not required\")","v":134807},0,0,1,1]
[{"$f":"IF(INTRO!$E$33<>0,INTRO!$E$33, \" \")","v":"Uganda"},"Central","Sembabule",340997,{"$f":"IF(INTRO!$E$48=\"\",\"\",ROUND($D35*INTRO!$E$48,0))","v":48422},{"$f":"IF(INTRO!$E$49=\"\",\"\",ROUND($D35*INTRO!$E$49,0))","v":102981},{"$f":"IF(INTRO!$E$50=\"\",\"\",ROUND($D35*INTRO!$E$50,0))","v":177659},0,0,3,0,{"$f":"IF(INTRO!$E$37=\"Endemic\",IF($H35>0,IF($H35=4,\"Unknown\",IF($H35=99,\"Stopped\",$D35)),0),\"Not required\")","v":0},0,{"$f":"IF(INTRO!$E$41=\"Endemic\", IF($J35>1, IF($J35=4, \"Unknown\", IF($J35=99, \"Surveillance\", E35)), 0),\"Not required\")","v":48422},{"$f":"IF(INTRO!$E$41=\"Endemic\", IF($J35>1, IF($J35=4, \"Unknown\", IF($J35=99, \"Surveillance\", F35)), 0),\"Not required\")","v":102981},{"$f":"IF(INTRO!$E$41=\"Endemic\", IF($J35>1, IF($J35=4, \"Unknown\", IF($J35=99, \"Surveillance\", ROUND(D35*INTRO!$E$51,0))), 0),\"Not required\")","v":84226},{"$f":"IF(INTRO!$E$41=\"Endemic\", IF($J35>1, IF($J35=4, \"Unknown\", IF($J35=99, \"Surveillance\", SUM($N35:$P35))), 0),\"Not required\")","v":235629},0,0,0,{"$f":"IF(INTRO!$E$43=\"Endemic\", IF($K35>1, IF($K35=4, \"Unknown\", IF($K35=99, \"Surveillance\", SUM($R35:$T35))), 0),\"Not required\")","v":0},0,0,1,0]
[{"$f":"IF(INTRO!$E$33<>0,INTRO!$E$33, \" \")","v":"Uganda"},"Central","Wakiso",2706057,{"$f":"IF(INTRO!$E$48=\"\",\"\",ROUND($D36*INTRO!$E$48,0))","v":384260},{"$f":"IF(INTRO!$E$49=\"\",\"\",ROUND($D36*INTRO!$E$49,0))","v":817229},{"$f":"IF(INTRO!$E$50=\"\",\"\",ROUND($D36*INTRO!$E$50,0))","v":1409856},0,0,3,3,{"$f":"IF(INTRO!$E$37=\"Endemic\",IF($H36>0,IF($H36=4,\"Unknown\",IF($H36=99,\"Stopped\",$D36)),0),\"Not required\")","v":0},0,{"$f":"IF(INTRO!$E$41=\"Endemic\", IF($J36>1, IF($J36=4, \"Unknown\", IF($J36=99, \"Surveillance\", E36)), 0),\"Not required\")","v":384260},{"$f":"IF(INTRO!$E$41=\"Endemic\", IF($J36>1, IF($J36=4, \"Unknown\", IF($J36=99, \"Surveillance\", F36)), 0),\"Not required\")","v":817229},{"$f":"IF(INTRO!$E$41=\"Endemic\", IF($J36>1, IF($J36=4, \"Unknown\", IF($J36=99, \"Surveillance\", ROUND(D36*INTRO!$E$51,0))), 0),\"Not required\")","v":668396},107238,0,152545,152182,{"$f":"IF(INTRO!$E$43=\"Endemic\", IF($K36>1, IF($K36=4, \"Unknown\", IF($K36=99, \"Surveillance\", SUM($R36:$T36))), 0),\"Not required\")","v":304727},0,0,1,1]
[{"$f":"IF(INTRO!$E$33<>0,INTRO!$E$33, \" \")","v":"Uganda"},"Eastern","Amuria",246663,{"$f":"IF(INTRO!$E$48=\"\",\"\",ROUND($D37*INTRO!$E$48,0))","v":35026},{"$f":"IF(INTRO!$E$49=\"\",\"\",ROUND($D37*INTRO!$E$49,0))","v":74492},{"$f":"IF(INTRO!$E$50=\"\",\"\",ROUND($D37*INTRO!$E$50,0))","v":128511},99,0,3,0,{"$f":"IF(INTRO!$E$37=\"Endemic\",IF($H37>0,IF($H37=4,\"Unknown\",IF($H37=99,\"Stopped\",$D37)),0),\"Not required\")","v":"Stopped"},0,{"$f":"IF(INTRO!$E$41=\"Endemic\", IF($J37>1, IF($J37=4, \"Unknown\", IF($J37=99, \"Surveillance\", E37)), 0),\"Not required\")","v":35026},{"$f":"IF(INTRO!$E$41=\"Endemic\", IF($J37>1, IF($J37=4, \"Unknown\", IF($J37=99, \"Surveillance\", F37)), 0),\"Not required\")","v":74492},{"$f":"IF(INTRO!$E$41=\"Endemic\", IF($J37>1, IF($J37=4, \"Unknown\", IF($J37=99, \"Surveillance\", ROUND(D37*INTRO!$E$51,0))), 0),\"Not required\")","v":60926},{"$f":"IF(INTRO!$E$41=\"Endemic\", IF($J37>1, IF($J37=4, \"Unknown\", IF($J37=99, \"Surveillance\", SUM($N37:$P37))), 0),\"Not required\")","v":170444},0,0,0,{"$f":"IF(INTRO!$E$43=\"Endemic\", IF($K37>1, IF($K37=4, \"Unknown\", IF($K37=99, \"Surveillance\", SUM($R37:$T37))), 0),\"Not required\")","v":0},0,0,1,0]
[{"$f":"IF(INTRO!$E$33<>0,INTRO!$E$33, \" \")","v":"Uganda"},"Eastern","Budaka",280942,{"$f":"IF(INTRO!$E$48=\"\",\"\",ROUND($D38*INTRO!$E$48,0))","v":39894},{"$f":"IF(INTRO!$E$49=\"\",\"\",ROUND($D38*INTRO!$E$49,0))","v":84844},{"$f":"IF(INTRO!$E$50=\"\",\"\",ROUND($D38*INTRO!$E$50,0))","v":146371},99,0,21,21,{"$f":"IF(INTRO!$E$37=\"Endemic\",IF($H38>0,IF($H38=4,\"Unknown\",IF($H38=99,\"Stopped\",$D38)),0),\"Not required\")","v":"Stopped"},0,{"$f":"IF(INTRO!$E$41=\"Endemic\", IF($J38>1, IF($J38=4, \"Unknown\", IF($J38=99, \"Surveillance\", E38)), 0),\"Not required\")","v":39894},{"$f":"IF(INTRO!$E$41=\"Endemic\", IF($J38>1, IF($J38=4, \"Unknown\", IF($J38=99, \"Surveillance\", F38)), 0),\"Not required\")","v":84844},{"$f":"IF(INTRO!$E$41=\"Endemic\", IF($J38>1, IF($J38=4, \"Unknown\", IF($J38=99, \"Surveillance\", ROUND(D38*INTRO!$E$51,0))), 0),\"Not required\")","v":69393},{"$f":"IF(INTRO!$E$41=\"Endemic\", IF($J38>1, IF($J38=4, \"Unknown\", IF($J38=99, \"Surveillance\", SUM($N38:$P38))), 0),\"Not required\")","v":194131},0,80440,29322,{"$f":"IF(INTRO!$E$43=\"Endemic\", IF($K38>1, IF($K38=4, \"Unknown\", IF($K38=99, \"Surveillance\", SUM($R38:$T38))), 0),\"Not required\")","v":109762},0,0,1,1]
[{"$f":"IF(INTRO!$E$33<>0,INTRO!$E$33, \" \")","v":"Uganda"},"Eastern","Bududa",285321,{"$f":"IF(INTRO!$E$48=\"\",\"\",ROUND($D39*INTRO!$E$48,0))","v":40516},{"$f":"IF(INTRO!$E$49=\"\",\"\",ROUND($D39*INTRO!$E$49,0))","v":86167},{"$f":"IF(INTRO!$E$50=\"\",\"\",ROUND($D39*INTRO!$E$50,0))","v":148652},0,99,3,0,{"$f":"IF(INTRO!$E$37=\"Endemic\",IF($H39>0,IF($H39=4,\"Unknown\",IF($H39=99,\"Stopped\",$D39)),0),\"Not required\")","v":0},0,{"$f":"IF(INTRO!$E$41=\"Endemic\", IF($J39>1, IF($J39=4, \"Unknown\", IF($J39=99, \"Surveillance\", E39)), 0),\"Not required\")","v":40516},{"$f":"IF(INTRO!$E$41=\"Endemic\", IF($J39>1, IF($J39=4, \"Unknown\", IF($J39=99, \"Surveillance\", F39)), 0),\"Not required\")","v":86167},{"$f":"IF(INTRO!$E$41=\"Endemic\", IF($J39>1, IF($J39=4, \"Unknown\", IF($J39=99, \"Surveillance\", ROUND(D39*INTRO!$E$51,0))), 0),\"Not required\")","v":70474},{"$f":"IF(INTRO!$E$41=\"Endemic\", IF($J39>1, IF($J39=4, \"Unknown\", IF($J39=99, \"Surveillance\", SUM($N39:$P39))), 0),\"Not required\")","v":197157},0,0,0,{"$f":"IF(INTRO!$E$43=\"Endemic\", IF($K39>1, IF($K39=4, \"Unknown\", IF($K39=99, \"Surveillance\", SUM($R39:$T39))), 0),\"Not required\")","v":0},0,0,1,0]
[{"$f":"IF(INTRO!$E$33<>0,INTRO!$E$33, \" \")","v":"Uganda"},"Eastern","Bugiri",525765,{"$f":"IF(INTRO!$E$48=\"\",\"\",ROUND($D40*INTRO!$E$48,0))","v":74659},{"$f":"IF(INTRO!$E$49=\"\",\"\",ROUND($D40*INTRO!$E$49,0))","v":158781},{"$f":"IF(INTRO!$E$50=\"\",\"\",ROUND($D40*INTRO!$E$50,0))","v":273924},99,0,21,21,{"$f":"IF(INTRO!$E$37=\"Endemic\",IF($H40>0,IF($H40=4,\"Unknown\",IF($H40=99,\"Stopped\",$D40)),0),\"Not required\")","v":"Stopped"},0,{"$f":"IF(INTRO!$E$41=\"Endemic\", IF($J40>1, IF($J40=4, \"Unknown\", IF($J40=99, \"Surveillance\", E40)), 0),\"Not required\")","v":74659},{"$f":"IF(INTRO!$E$41=\"Endemic\", IF($J40>1, IF($J40=4, \"Unknown\", IF($J40=99, \"Surveillance\", F40)), 0),\"Not required\")","v":158781},{"$f":"IF(INTRO!$E$41=\"Endemic\", IF($J40>1, IF($J40=4, \"Unknown\", IF($J40=99, \"Surveillance\", ROUND(D40*INTRO!$E$51,0))), 0),\"Not required\")","v":129864},{"$f":"IF(INTRO!$E$41=\"Endemic\", IF($J40>1, IF($J40=4, \"Unknown\", IF($J40=99, \"Surveillance\", SUM($N40:$P40))), 0),\"Not required\")","v":363304},0,40178,54875,{"$f":"IF(INTRO!$E$43=\"Endemic\", IF($K40>1, IF($K40=4, \"Unknown\", IF($K40=99, \"Surveillance\", SUM($R40:$T40))), 0),\"Not required\")","v":95053},0,0,1,1]
[{"$f":"IF(INTRO!$E$33<>0,INTRO!$E$33, \" \")","v":"Uganda"},"Eastern","Bugweri",227607,{"$f":"IF(INTRO!$E$48=\"\",\"\",ROUND($D41*INTRO!$E$48,0))","v":32320},{"$f":"IF(INTRO!$E$49=\"\",\"\",ROUND($D41*INTRO!$E$49,0))","v":68737},{"$f":"IF(INTRO!$E$50=\"\",\"\",ROUND($D41*INTRO!$E$50,0))","v":118583},99,0,3,11,{"$f":"IF(INTRO!$E$37=\"Endemic\",IF($H41>0,IF($H41=4,\"Unknown\",IF($H41=99,\"Stopped\",$D41)),0),\"Not required\")","v":"Stopped"},0,{"$f":"IF(INTRO!$E$41=\"Endemic\", IF($J41>1, IF($J41=4, \"Unknown\", IF($J41=99, \"Surveillance\", E41)), 0),\"Not required\")","v":32320},{"$f":"IF(INTRO!$E$41=\"Endemic\", IF($J41>1, IF($J41=4, \"Unknown\", IF($J41=99, \"Surveillance\", F41)), 0),\"Not required\")","v":68737},{"$f":"IF(INTRO!$E$41=\"Endemic\", IF($J41>1, IF($J41=4, \"Unknown\", IF($J41=99, \"Surveillance\", ROUND(D41*INTRO!$E$51,0))), 0),\"Not required\")","v":56219},{"$f":"IF(INTRO!$E$41=\"Endemic\", IF($J41>1, IF($J41=4, \"Unknown\", IF($J41=99, \"Surveillance\", SUM($N41:$P41))), 0),\"Not required\")","v":157276},0,22721,0,{"$f":"IF(INTRO!$E$43=\"Endemic\", IF($K41>1, IF($K41=4, \"Unknown\", IF($K41=99, \"Surveillance\", SUM($R41:$T41))), 0),\"Not required\")","v":22721},0,0,1,1]
[{"$f":"IF(INTRO!$E$33<>0,INTRO!$E$33, \" \")","v":"Uganda"},"Eastern","Bukedea",254628,{"$f":"IF(INTRO!$E$48=\"\",\"\",ROUND($D42*INTRO!$E$48,0))","v":36157},{"$f":"IF(INTRO!$E$49=\"\",\"\",ROUND($D42*INTRO!$E$49,0))","v":76898},{"$f":"IF(INTRO!$E$50=\"\",\"\",ROUND($D42*INTRO!$E$50,0))","v":132661},99,0,11,11,{"$f":"IF(INTRO!$E$37=\"Endemic\",IF($H42>0,IF($H42=4,\"Unknown\",IF($H42=99,\"Stopped\",$D42)),0),\"Not required\")","v":"Stopped"},0,{"$f":"IF(INTRO!$E$41=\"Endemic\", IF($J42>1, IF($J42=4, \"Unknown\", IF($J42=99, \"Surveillance\", E42)), 0),\"Not required\")","v":36157},{"$f":"IF(INTRO!$E$41=\"Endemic\", IF($J42>1, IF($J42=4, \"Unknown\", IF($J42=99, \"Surveillance\", F42)), 0),\"Not required\")","v":76898},{"$f":"IF(INTRO!$E$41=\"Endemic\", IF($J42>1, IF($J42=4, \"Unknown\", IF($J42=99, \"Surveillance\", ROUND(D42*INTRO!$E$51,0))), 0),\"Not required\")","v":62893},{"$f":"IF(INTRO!$E$41=\"Endemic\", IF($J42>1, IF($J42=4, \"Unknown\", IF($J42=99, \"Surveillance\", SUM($N42:$P42))), 0),\"Not required\")","v":175948},0,25418,0,{"$f":"IF(INTRO!$E$43=\"Endemic\", IF($K42>1, IF($K42=4, \"Unknown\", IF($K42=99, \"Surveillance\", SUM($R42:$T42))), 0),\"Not required\")","v":25418},0,0,1,1]
[{"$f":"IF(INTRO!$E$33<>0,INTRO!$E$33, \" \")","v":"Uganda"},"Eastern","Bukwo",120300,{"$f":"IF(INTRO!$E$48=\"\",\"\",ROUND($D43*INTRO!$E$48,0))","v":17083},{"$f":"IF(INTRO!$E$49=\"\",\"\",ROUND($D43*INTRO!$E$49,0))","v":36331},{"$f":"IF(INTRO!$E$50=\"\",\"\",ROUND($D43*INTRO!$E$50,0))","v":62676},0,0,3,0,{"$f":"IF(INTRO!$E$37=\"Endemic\",IF($H43>0,IF($H43=4,\"Unknown\",IF($H43=99,\"Stopped\",$D43)),0),\"Not required\")","v":0},0,{"$f":"IF(INTRO!$E$41=\"Endemic\", IF($J43>1, IF($J43=4, \"Unknown\", IF($J43=99, \"Surveillance\", E43)), 0),\"Not required\")","v":17083},{"$f":"IF(INTRO!$E$41=\"Endemic\", IF($J43>1, IF($J43=4, \"Unknown\", IF($J43=99, \"Surveillance\", F43)), 0),\"Not required\")","v":36331},{"$f":"IF(INTRO!$E$41=\"Endemic\", IF($J43>1, IF($J43=4, \"Unknown\", IF($J43=99, \"Surveillance\", ROUND(D43*INTRO!$E$51,0))), 0),\"Not required\")","v":29714},{"$f":"IF(INTRO!$E$41=\"Endemic\", IF($J43>1, IF($J43=4, \"Unknown\", IF($J43=99, \"Surveillance\", SUM($N43:$P43))), 0),\"Not required\")","v":83128},0,0,0,{"$f":"IF(INTRO!$E$43=\"Endemic\", IF($K43>1, IF($K43=4, \"Unknown\", IF($K43=99, \"Surveillance\", SUM($R43:$T43))), 0),\"Not required\")","v":0},0,0,1,0]
[{"$f":"IF(INTRO!$E$33<>0,INTRO!$E$33, \" \")","v":"Uganda"},"Eastern","Bulambuli",239003,{"$f":"IF(INTRO!$E$48=\"\",\"\",ROUND($D44*INTRO!$E$48,0))","v":33938},{"$f":"IF(INTRO!$E$49=\"\",\"\",ROUND($D44*INTRO!$E$49,0))","v":72179},{"$f":"IF(INTRO!$E$50=\"\",\"\",ROUND($D44*INTRO!$E$50,0))","v":124521},0,0,3,11,{"$f":"IF(INTRO!$E$37=\"Endemic\",IF($H44>0,IF($H44=4,\"Unknown\",IF($H44=99,\"Stopped\",$D44)),0),\"Not required\")","v":0},0,{"$f":"IF(INTRO!$E$41=\"Endemic\", IF($J44>1, IF($J44=4, \"Unknown\", IF($J44=99, \"Surveillance\", E44)), 0),\"Not required\")","v":33938},{"$f":"IF(INTRO!$E$41=\"Endemic\", IF($J44>1, IF($J44=4, \"Unknown\", IF($J44=99, \"Surveillance\", F44)), 0),\"Not required\")","v":72179},{"$f":"IF(INTRO!$E$41=\"Endemic\", IF($J44>1, IF($J44=4, \"Unknown\", IF($J44=99, \"Surveillance\", ROUND(D44*INTRO!$E$51,0))), 0),\"Not required\")","v":59034},{"$f":"IF(INTRO!$E$41=\"Endemic\", IF($J44>1, IF($J44=4, \"Unknown\", IF($J44=99, \"Surveillance\", SUM($N44:$P44))), 0),\"Not required\")","v":165151},0,23858,0,{"$f":"IF(INTRO!$E$43=\"Endemic\", IF($K44>1, IF($K44=4, \"Unknown\", IF($K44=99, \"Surveillance\", SUM($R44:$T44))), 0),\"Not required\")","v":23858},0,0,1,1]
[{"$f":"IF(INTRO!$E$33<>0,INTRO!$E$33, \" \")","v":"Uganda"},"Eastern","Busia",438756,{"$f":"IF(INTRO!$E$48=\"\",\"\",ROUND($D45*INTRO!$E$48,0))","v":62303},{"$f":"IF(INTRO!$E$49=\"\",\"\",ROUND($D45*INTRO!$E$49,0))","v":132504},{"$f":"IF(INTRO!$E$50=\"\",\"\",ROUND($D45*INTRO!$E$50,0))","v":228592},0,0,3,3,{"$f":"IF(INTRO!$E$37=\"Endemic\",IF($H45>0,IF($H45=4,\"Unknown\",IF($H45=99,\"Stopped\",$D45)),0),\"Not required\")","v":0},0,{"$f":"IF(INTRO!$E$41=\"Endemic\", IF($J45>1, IF($J45=4, \"Unknown\", IF($J45=99, \"Surveillance\", E45)), 0),\"Not required\")","v":62303},{"$f":"IF(INTRO!$E$41=\"Endemic\", IF($J45>1, IF($J45=4, \"Unknown\", IF($J45=99, \"Surveillance\", F45)), 0),\"Not required\")","v":132504},{"$f":"IF(INTRO!$E$41=\"Endemic\", IF($J45>1, IF($J45=4, \"Unknown\", IF($J45=99, \"Surveillance\", ROUND(D45*INTRO!$E$51,0))), 0),\"Not required\")","v":108373},{"$f":"IF(INTRO!$E$41=\"Endemic\", IF($J45>1, IF($J45=4, \"Unknown\", IF($J45=99, \"Surveillance\", SUM($N45:$P45))), 0),\"Not required\")","v":303180},0,42578,228592,{"$f":"IF(INTRO!$E$43=\"Endemic\", IF($K45>1, IF($K45=4, \"Unknown\", IF($K45=99, \"Surveillance\", SUM($R45:$T45))), 0),\"Not required\")","v":271170},0,0,1,1]
[{"$f":"IF(INTRO!$E$33<>0,INTRO!$E$33, \" \")","v":"Uganda"},"Eastern","Butaleja",331399,{"$f":"IF(INTRO!$E$48=\"\",\"\",ROUND($D46*INTRO!$E$48,0))","v":47059},{"$f":"IF(INTRO!$E$49=\"\",\"\",ROUND($D46*INTRO!$E$49,0))","v":100082},{"$f":"IF(INTRO!$E$50=\"\",\"\",ROUND($D46*INTRO!$E$50,0))","v":172659},99,0,11,31,{"$f":"IF(INTRO!$E$37=\"Endemic\",IF($H46>0,IF($H46=4,\"Unknown\",IF($H46=99,\"Stopped\",$D46)),0),\"Not required\")","v":"Stopped"},0,{"$f":"IF(INTRO!$E$41=\"Endemic\", IF($J46>1, IF($J46=4, \"Unknown\", IF($J46=99, \"Surveillance\", E46)), 0),\"Not required\")","v":47059},{"$f":"IF(INTRO!$E$41=\"Endemic\", IF($J46>1, IF($J46=4, \"Unknown\", IF($J46=99, \"Surveillance\", F46)), 0),\"Not required\")","v":100082},{"$f":"IF(INTRO!$E$41=\"Endemic\", IF($J46>1, IF($J46=4, \"Unknown\", IF($J46=99, \"Surveillance\", ROUND(D46*INTRO!$E$51,0))), 0),\"Not required\")","v":81856},{"$f":"IF(INTRO!$E$41=\"Endemic\", IF($J46>1, IF($J46=4, \"Unknown\", IF($J46=99, \"Surveillance\", SUM($N46:$P46))), 0),\"Not required\")","v":228997},0,92190,172659,{"$f":"IF(INTRO!$E$43=\"Endemic\", IF($K46>1, IF($K46=4, \"Unknown\", IF($K46=99, \"Surveillance\", SUM($R46:$T46))), 0),\"Not required\")","v":264849},0,0,1,1]
[{"$f":"IF(INTRO!$E$33<>0,INTRO!$E$33, \" \")","v":"Uganda"},"Eastern","Butebo",194463,{"$f":"IF(INTRO!$E$48=\"\",\"\",ROUND($D47*INTRO!$E$48,0))","v":27614},{"$f":"IF(INTRO!$E$49=\"\",\"\",ROUND($D47*INTRO!$E$49,0))","v":58728},{"$f":"IF(INTRO!$E$50=\"\",\"\",ROUND($D47*INTRO!$E$50,0))","v":101315},99,0,21,31,{"$f":"IF(INTRO!$E$37=\"Endemic\",IF($H47>0,IF($H47=4,\"Unknown\",IF($H47=99,\"Stopped\",$D47)),0),\"Not required\")","v":"Stopped"},0,{"$f":"IF(INTRO!$E$41=\"Endemic\", IF($J47>1, IF($J47=4, \"Unknown\", IF($J47=99, \"Surveillance\", E47)), 0),\"Not required\")","v":27614},{"$f":"IF(INTRO!$E$41=\"Endemic\", IF($J47>1, IF($J47=4, \"Unknown\", IF($J47=99, \"Surveillance\", F47)), 0),\"Not required\")","v":58728},{"$f":"IF(INTRO!$E$41=\"Endemic\", IF($J47>1, IF($J47=4, \"Unknown\", IF($J47=99, \"Surveillance\", ROUND(D47*INTRO!$E$51,0))), 0),\"Not required\")","v":48032},{"$f":"IF(INTRO!$E$41=\"Endemic\", IF($J47>1, IF($J47=4, \"Unknown\", IF($J47=99, \"Surveillance\", SUM($N47:$P47))), 0),\"Not required\")","v":134374},0,44784,20297,{"$f":"IF(INTRO!$E$43=\"Endemic\", IF($K47>1, IF($K47=4, \"Unknown\", IF($K47=99, \"Surveillance\", SUM($R47:$T47))), 0),\"Not required\")","v":65081},0,0,1,1]
[{"$f":"IF(INTRO!$E$33<>0,INTRO!$E$33, \" \")","v":"Uganda"},"Eastern","Buyende",431937,{"$f":"IF(INTRO!$E$48=\"\",\"\",ROUND($D48*INTRO!$E$48,0))","v":61335},{"$f":"IF(INTRO!$E$49=\"\",\"\",ROUND($D48*INTRO!$E$49,0))","v":130445},{"$f":"IF(INTRO!$E$50=\"\",\"\",ROUND($D48*INTRO!$E$50,0))","v":225039},99,0,22,3,{"$f":"IF(INTRO!$E$37=\"Endemic\",IF($H48>0,IF($H48=4,\"Unknown\",IF($H48=99,\"Stopped\",$D48)),0),\"Not required\")","v":"Stopped"},0,{"$f":"IF(INTRO!$E$41=\"Endemic\", IF($J48>1, IF($J48=4, \"Unknown\", IF($J48=99, \"Surveillance\", E48)), 0),\"Not required\")","v":61335},{"$f":"IF(INTRO!$E$41=\"Endemic\", IF($J48>1, IF($J48=4, \"Unknown\", IF($J48=99, \"Surveillance\", F48)), 0),\"Not required\")","v":130445},{"$f":"IF(INTRO!$E$41=\"Endemic\", IF($J48>1, IF($J48=4, \"Unknown\", IF($J48=99, \"Surveillance\", ROUND(D48*INTRO!$E$51,0))), 0),\"Not required\")","v":106688},{"$f":"IF(INTRO!$E$41=\"Endemic\", IF($J48>1, IF($J48=4, \"Unknown\", IF($J48=99, \"Surveillance\", SUM($N48:$P48))), 0),\"Not required\")","v":298468},0,130445,225039,{"$f":"IF(INTRO!$E$43=\"Endemic\", IF($K48>1, IF($K48=4, \"Unknown\", IF($K48=99, \"Surveillance\", SUM($R48:$T48))), 0),\"Not required\")","v":355484},0,0,1,1]
[{"$f":"IF(INTRO!$E$33<>0,INTRO!$E$33, \" \")","v":"Uganda"},"Eastern","Iganga",454928,{"$f":"IF(INTRO!$E$48=\"\",\"\",ROUND($D49*INTRO!$E$48,0))","v":64600},{"$f":"IF(INTRO!$E$49=\"\",\"\",ROUND($D49*INTRO!$E$49,0))","v":137388},{"$f":"IF(INTRO!$E$50=\"\",\"\",ROUND($D49*INTRO!$E$50,0))","v":237017},99,0,11,11,{"$f":"IF(INTRO!$E$37=\"Endemic\",IF($H49>0,IF($H49=4,\"Unknown\",IF($H49=99,\"Stopped\",$D49)),0),\"Not required\")","v":"Stopped"},0,{"$f":"IF(INTRO!$E$41=\"Endemic\", IF($J49>1, IF($J49=4, \"Unknown\", IF($J49=99, \"Surveillance\", E49)), 0),\"Not required\")","v":64600},{"$f":"IF(INTRO!$E$41=\"Endemic\", IF($J49>1, IF($J49=4, \"Unknown\", IF($J49=99, \"Surveillance\", F49)), 0),\"Not required\")","v":137388},{"$f":"IF(INTRO!$E$41=\"Endemic\", IF($J49>1, IF($J49=4, \"Unknown\", IF($J49=99, \"Surveillance\", ROUND(D49*INTRO!$E$51,0))), 0),\"Not required\")","v":112367},{"$f":"IF(INTRO!$E$41=\"Endemic\", IF($J49>1, IF($J49=4, \"Unknown\", IF($J49=99, \"Surveillance\", SUM($N49:$P49))), 0),\"Not required\")","v":314355},0,122886,0,{"$f":"IF(INTRO!$E$43=\"Endemic\", IF($K49>1, IF($K49=4, \"Unknown\", IF($K49=99, \"Surveillance\", SUM($R49:$T49))), 0),\"Not required\")","v":122886},0,0,1,1]
[{"$f":"IF(INTRO!$E$33<>0,INTRO!$E$33, \" \")","v":"Uganda"},"Eastern","Jinja",277840,{"$f":"IF(INTRO!$E$48=\"\",\"\",ROUND($D50*INTRO!$E$48,0))","v":39453},{"$f":"IF(INTRO!$E$49=\"\",\"\",ROUND($D50*INTRO!$E$49,0))","v":83908},{"$f":"IF(INTRO!$E$50=\"\",\"\",ROUND($D50*INTRO!$E$50,0))","v":144755},0,0,11,3,{"$f":"IF(INTRO!$E$37=\"Endemic\",IF($H50>0,IF($H50=4,\"Unknown\",IF($H50=99,\"Stopped\",$D50)),0),\"Not required\")","v":0},0,{"$f":"IF(INTRO!$E$41=\"Endemic\", IF($J50>1, IF($J50=4, \"Unknown\", IF($J50=99, \"Surveillance\", E50)), 0),\"Not required\")","v":39453},{"$f":"IF(INTRO!$E$41=\"Endemic\", IF($J50>1, IF($J50=4, \"Unknown\", IF($J50=99, \"Surveillance\", F50)), 0),\"Not required\")","v":83908},{"$f":"IF(INTRO!$E$41=\"Endemic\", IF($J50>1, IF($J50=4, \"Unknown\", IF($J50=99, \"Surveillance\", ROUND(D50*INTRO!$E$51,0))), 0),\"Not required\")","v":68626},{"$f":"IF(INTRO!$E$41=\"Endemic\", IF($J50>1, IF($J50=4, \"Unknown\", IF($J50=99, \"Surveillance\", SUM($N50:$P50))), 0),\"Not required\")","v":191987},0,83908,144755,{"$f":"IF(INTRO!$E$43=\"Endemic\", IF($K50>1, IF($K50=4, \"Unknown\", IF($K50=99, \"Surveillance\", SUM($R50:$T50))), 0),\"Not required\")","v":228663},0,0,1,1]
[{"$f":"IF(INTRO!$E$33<>0,INTRO!$E$33, \" \")","v":"Uganda"},"Eastern","Jinja City",353298,{"$f":"IF(INTRO!$E$48=\"\",\"\",ROUND($D51*INTRO!$E$48,0))","v":50168},{"$f":"IF(INTRO!$E$49=\"\",\"\",ROUND($D51*INTRO!$E$49,0))","v":106696},{"$f":"IF(INTRO!$E$50=\"\",\"\",ROUND($D51*INTRO!$E$50,0))","v":184068},0,0,11,3,{"$f":"IF(INTRO!$E$37=\"Endemic\",IF($H51>0,IF($H51=4,\"Unknown\",IF($H51=99,\"Stopped\",$D51)),0),\"Not required\")","v":0},0,{"$f":"IF(INTRO!$E$41=\"Endemic\", IF($J51>1, IF($J51=4, \"Unknown\", IF($J51=99, \"Surveillance\", E51)), 0),\"Not required\")","v":50168},{"$f":"IF(INTRO!$E$41=\"Endemic\", IF($J51>1, IF($J51=4, \"Unknown\", IF($J51=99, \"Surveillance\", F51)), 0),\"Not required\")","v":106696},{"$f":"IF(INTRO!$E$41=\"Endemic\", IF($J51>1, IF($J51=4, \"Unknown\", IF($J51=99, \"Surveillance\", ROUND(D51*INTRO!$E$51,0))), 0),\"Not required\")","v":87265},{"$f":"IF(INTRO!$E$41=\"Endemic\", IF($J51>1, IF($J51=4, \"Unknown\", IF($J51=99, \"Surveillance\", SUM($N51:$P51))), 0),\"Not required\")","v":244129},0,106696,184068,{"$f":"IF(INTRO!$E$43=\"Endemic\", IF($K51>1, IF($K51=4, \"Unknown\", IF($K51=99, \"Surveillance\", SUM($R51:$T51))), 0),\"Not required\")","v":290764},0,0,1,1]
[{"$f":"IF(INTRO!$E$33<>0,INTRO!$E$33, \" \")","v":"Uganda"},"Eastern","Kaberamaido",139903,{"$f":"IF(INTRO!$E$48=\"\",\"\",ROUND($D52*INTRO!$E$48,0))","v":19866},{"$f":"IF(INTRO!$E$49=\"\",\"\",ROUND($D52*INTRO!$E$49,0))","v":42251},{"$f":"IF(INTRO!$E$50=\"\",\"\",ROUND($D52*INTRO!$E$50,0))","v":72889},99,0,11,21,{"$f":"IF(INTRO!$E$37=\"Endemic\",IF($H52>0,IF($H52=4,\"Unknown\",IF($H52=99,\"Stopped\",$D52)),0),\"Not required\")","v":"Stopped"},0,{"$f":"IF(INTRO!$E$41=\"Endemic\", IF($J52>1, IF($J52=4, \"Unknown\", IF($J52=99, \"Surveillance\", E52)), 0),\"Not required\")","v":19866},{"$f":"IF(INTRO!$E$41=\"Endemic\", IF($J52>1, IF($J52=4, \"Unknown\", IF($J52=99, \"Surveillance\", F52)), 0),\"Not required\")","v":42251},{"$f":"IF(INTRO!$E$41=\"Endemic\", IF($J52>1, IF($J52=4, \"Unknown\", IF($J52=99, \"Surveillance\", ROUND(D52*INTRO!$E$51,0))), 0),\"Not required\")","v":34556},{"$f":"IF(INTRO!$E$41=\"Endemic\", IF($J52>1, IF($J52=4, \"Unknown\", IF($J52=99, \"Surveillance\", SUM($N52:$P52))), 0),\"Not required\")","v":96673},0,40592,14602,{"$f":"IF(INTRO!$E$43=\"Endemic\", IF($K52>1, IF($K52=4, \"Unknown\", IF($K52=99, \"Surveillance\", SUM($R52:$T52))), 0),\"Not required\")","v":55194},0,0,1,1]
[{"$f":"IF(INTRO!$E$33<>0,INTRO!$E$33, \" \")","v":"Uganda"},"Eastern","Kalaki",147701,{"$f":"IF(INTRO!$E$48=\"\",\"\",ROUND($D53*INTRO!$E$48,0))","v":20974},{"$f":"IF(INTRO!$E$49=\"\",\"\",ROUND($D53*INTRO!$E$49,0))","v":44606},{"$f":"IF(INTRO!$E$50=\"\",\"\",ROUND($D53*INTRO!$E$50,0))","v":76952},99,0,11,11,{"$f":"IF(INTRO!$E$37=\"Endemic\",IF($H53>0,IF($H53=4,\"Unknown\",IF($H53=99,\"Stopped\",$D53)),0),\"Not required\")","v":"Stopped"},0,{"$f":"IF(INTRO!$E$41=\"Endemic\", IF($J53>1, IF($J53=4, \"Unknown\", IF($J53=99, \"Surveillance\", E53)), 0),\"Not required\")","v":20974},{"$f":"IF(INTRO!$E$41=\"Endemic\", IF($J53>1, IF($J53=4, \"Unknown\", IF($J53=99, \"Surveillance\", F53)), 0),\"Not required\")","v":44606},{"$f":"IF(INTRO!$E$41=\"Endemic\", IF($J53>1, IF($J53=4, \"Unknown\", IF($J53=99, \"Surveillance\", ROUND(D53*INTRO!$E$51,0))), 0),\"Not required\")","v":36482},{"$f":"IF(INTRO!$E$41=\"Endemic\", IF($J53>1, IF($J53=4, \"Unknown\", IF($J53=99, \"Surveillance\", SUM($N53:$P53))), 0),\"Not required\")","v":102062},0,19741,0,{"$f":"IF(INTRO!$E$43=\"Endemic\", IF($K53>1, IF($K53=4, \"Unknown\", IF($K53=99, \"Surveillance\", SUM($R53:$T53))), 0),\"Not required\")","v":19741},0,0,1,1]
[{"$f":"IF(INTRO!$E$33<>0,INTRO!$E$33, \" \")","v":"Uganda"},"Eastern","Kaliro",319335,{"$f":"IF(INTRO!$E$48=\"\",\"\",ROUND($D54*INTRO!$E$48,0))","v":45346},{"$f":"IF(INTRO!$E$49=\"\",\"\",ROUND($D54*INTRO!$E$49,0))","v":96439},{"$f":"IF(INTRO!$E$50=\"\",\"\",ROUND($D54*INTRO!$E$50,0))","v":166374},99,0,22,11,{"$f":"IF(INTRO!$E$37=\"Endemic\",IF($H54>0,IF($H54=4,\"Unknown\",IF($H54=99,\"Stopped\",$D54)),0),\"Not required\")","v":"Stopped"},0,{"$f":"IF(INTRO!$E$41=\"Endemic\", IF($J54>1, IF($J54=4, \"Unknown\", IF($J54=99, \"Surveillance\", E54)), 0),\"Not required\")","v":45346},{"$f":"IF(INTRO!$E$41=\"Endemic\", IF($J54>1, IF($J54=4, \"Unknown\", IF($J54=99, \"Surveillance\", F54)), 0),\"Not required\")","v":96439},{"$f":"IF(INTRO!$E$41=\"Endemic\", IF($J54>1, IF($J54=4, \"Unknown\", IF($J54=99, \"Surveillance\", ROUND(D54*INTRO!$E$51,0))), 0),\"Not required\")","v":78876},{"$f":"IF(INTRO!$E$41=\"Endemic\", IF($J54>1, IF($J54=4, \"Unknown\", IF($J54=99, \"Surveillance\", SUM($N54:$P54))), 0),\"Not required\")","v":220661},0,95510,0,{"$f":"IF(INTRO!$E$43=\"Endemic\", IF($K54>1, IF($K54=4, \"Unknown\", IF($K54=99, \"Surveillance\", SUM($R54:$T54))), 0),\"Not required\")","v":95510},0,0,1,1]
[{"$f":"IF(INTRO!$E$33<>0,INTRO!$E$33, \" \")","v":"Uganda"},"Eastern","Kamuli",660779,{"$f":"IF(INTRO!$E$48=\"\",\"\",ROUND($D55*INTRO!$E$48,0))","v":93831},{"$f":"IF(INTRO!$E$49=\"\",\"\",ROUND($D55*INTRO!$E$49,0))","v":199555},{"$f":"IF(INTRO!$E$50=\"\",\"\",ROUND($D55*INTRO!$E$50,0))","v":344266},99,0,22,31,{"$f":"IF(INTRO!$E$37=\"Endemic\",IF($H55>0,IF($H55=4,\"Unknown\",IF($H55=99,\"Stopped\",$D55)),0),\"Not required\")","v":"Stopped"},0,{"$f":"IF(INTRO!$E$41=\"Endemic\", IF($J55>1, IF($J55=4, \"Unknown\", IF($J55=99, \"Surveillance\", E55)), 0),\"Not required\")","v":93831},{"$f":"IF(INTRO!$E$41=\"Endemic\", IF($J55>1, IF($J55=4, \"Unknown\", IF($J55=99, \"Surveillance\", F55)), 0),\"Not required\")","v":199555},{"$f":"IF(INTRO!$E$41=\"Endemic\", IF($J55>1, IF($J55=4, \"Unknown\", IF($J55=99, \"Surveillance\", ROUND(D55*INTRO!$E$51,0))), 0),\"Not required\")","v":163212},{"$f":"IF(INTRO!$E$41=\"Endemic\", IF($J55>1, IF($J55=4, \"Unknown\", IF($J55=99, \"Surveillance\", SUM($N55:$P55))), 0),\"Not required\")","v":456598},0,158128,44834,{"$f":"IF(INTRO!$E$43=\"Endemic\", IF($K55>1, IF($K55=4, \"Unknown\", IF($K55=99, \"Surveillance\", SUM($R55:$T55))), 0),\"Not required\")","v":202962},0,0,1,1]
[{"$f":"IF(INTRO!$E$33<>0,INTRO!$E$33, \" \")","v":"Uganda"},"Eastern","Kapchorwa",150370,{"$f":"IF(INTRO!$E$48=\"\",\"\",ROUND($D56*INTRO!$E$48,0))","v":21353},{"$f":"IF(INTRO!$E$49=\"\",\"\",ROUND($D56*INTRO!$E$49,0))","v":45412},{"$f":"IF(INTRO!$E$50=\"\",\"\",ROUND($D56*INTRO!$E$50,0))","v":78343},0,0,3,0,{"$f":"IF(INTRO!$E$37=\"Endemic\",IF($H56>0,IF($H56=4,\"Unknown\",IF($H56=99,\"Stopped\",$D56)),0),\"Not required\")","v":0},0,{"$f":"IF(INTRO!$E$41=\"Endemic\", IF($J56>1, IF($J56=4, \"Unknown\", IF($J56=99, \"Surveillance\", E56)), 0),\"Not required\")","v":21353},{"$f":"IF(INTRO!$E$41=\"Endemic\", IF($J56>1, IF($J56=4, \"Unknown\", IF($J56=99, \"Surveillance\", F56)), 0),\"Not required\")","v":45412},{"$f":"IF(INTRO!$E$41=\"Endemic\", IF($J56>1, IF($J56=4, \"Unknown\", IF($J56=99, \"Surveillance\", ROUND(D56*INTRO!$E$51,0))), 0),\"Not required\")","v":37141},{"$f":"IF(INTRO!$E$41=\"Endemic\", IF($J56>1, IF($J56=4, \"Unknown\", IF($J56=99, \"Surveillance\", SUM($N56:$P56))), 0),\"Not required\")","v":103906},0,0,0,{"$f":"IF(INTRO!$E$43=\"Endemic\", IF($K56>1, IF($K56=4, \"Unknown\", IF($K56=99, \"Surveillance\", SUM($R56:$T56))), 0),\"Not required\")","v":0},0,0,1,0]
[{"$f":"IF(INTRO!$E$33<>0,INTRO!$E$33, \" \")","v":"Uganda"},"Eastern","Kapelebyong",118065,{"$f":"IF(INTRO!$E$48=\"\",\"\",ROUND($D57*INTRO!$E$48,0))","v":16765},{"$f":"IF(INTRO!$E$49=\"\",\"\",ROUND($D57*INTRO!$E$49,0))","v":35656},{"$f":"IF(INTRO!$E$50=\"\",\"\",ROUND($D57*INTRO!$E$50,0))","v":61512},99,0,3,0,{"$f":"IF(INTRO!$E$37=\"Endemic\",IF($H57>0,IF($H57=4,\"Unknown\",IF($H57=99,\"Stopped\",$D57)),0),\"Not required\")","v":"Stopped"},0,{"$f":"IF(INTRO!$E$41=\"Endemic\", IF($J57>1, IF($J57=4, \"Unknown\", IF($J57=99, \"Surveillance\", E57)), 0),\"Not required\")","v":16765},{"$f":"IF(INTRO!$E$41=\"Endemic\", IF($J57>1, IF($J57=4, \"Unknown\", IF($J57=99, \"Surveillance\", F57)), 0),\"Not required\")","v":35656},{"$f":"IF(INTRO!$E$41=\"Endemic\", IF($J57>1, IF($J57=4, \"Unknown\", IF($J57=99, \"Surveillance\", ROUND(D57*INTRO!$E$51,0))), 0),\"Not required\")","v":29162},{"$f":"IF(INTRO!$E$41=\"Endemic\", IF($J57>1, IF($J57=4, \"Unknown\", IF($J57=99, \"Surveillance\", SUM($N57:$P57))), 0),\"Not required\")","v":81583},0,0,0,{"$f":"IF(INTRO!$E$43=\"Endemic\", IF($K57>1, IF($K57=4, \"Unknown\", IF($K57=99, \"Surveillance\", SUM($R57:$T57))), 0),\"Not required\")","v":0},0,0,1,0]
[{"$f":"IF(INTRO!$E$33<>0,INTRO!$E$33, \" \")","v":"Uganda"},"Eastern","Katakwi",223141,{"$f":"IF(INTRO!$E$48=\"\",\"\",ROUND($D58*INTRO!$E$48,0))","v":31686},{"$f":"IF(INTRO!$E$49=\"\",\"\",ROUND($D58*INTRO!$E$49,0))","v":67389},{"$f":"IF(INTRO!$E$50=\"\",\"\",ROUND($D58*INTRO!$E$50,0))","v":116256},99,0,11,11,{"$f":"IF(INTRO!$E$37=\"Endemic\",IF($H58>0,IF($H58=4,\"Unknown\",IF($H58=99,\"Stopped\",$D58)),0),\"Not required\")","v":"Stopped"},0,{"$f":"IF(INTRO!$E$41=\"Endemic\", IF($J58>1, IF($J58=4, \"Unknown\", IF($J58=99, \"Surveillance\", E58)), 0),\"Not required\")","v":31686},{"$f":"IF(INTRO!$E$41=\"Endemic\", IF($J58>1, IF($J58=4, \"Unknown\", IF($J58=99, \"Surveillance\", F58)), 0),\"Not required\")","v":67389},{"$f":"IF(INTRO!$E$41=\"Endemic\", IF($J58>1, IF($J58=4, \"Unknown\", IF($J58=99, \"Surveillance\", ROUND(D58*INTRO!$E$51,0))), 0),\"Not required\")","v":55116},{"$f":"IF(INTRO!$E$41=\"Endemic\", IF($J58>1, IF($J58=4, \"Unknown\", IF($J58=99, \"Surveillance\", SUM($N58:$P58))), 0),\"Not required\")","v":154191},0,24342,0,{"$f":"IF(INTRO!$E$43=\"Endemic\", IF($K58>1, IF($K58=4, \"Unknown\", IF($K58=99, \"Surveillance\", SUM($R58:$T58))), 0),\"Not required\")","v":24342},0,0,1,1]
[{"$f":"IF(INTRO!$E$33<>0,INTRO!$E$33, \" \")","v":"Uganda"},"Eastern","Kibuku",273120,{"$f":"IF(INTRO!$E$48=\"\",\"\",ROUND($D59*INTRO!$E$48,0))","v":38783},{"$f":"IF(INTRO!$E$49=\"\",\"\",ROUND($D59*INTRO!$E$49,0))","v":82482},{"$f":"IF(INTRO!$E$50=\"\",\"\",ROUND($D59*INTRO!$E$50,0))","v":142296},99,0,11,21,{"$f":"IF(INTRO!$E$37=\"Endemic\",IF($H59>0,IF($H59=4,\"Unknown\",IF($H59=99,\"Stopped\",$D59)),0),\"Not required\")","v":"Stopped"},0,{"$f":"IF(INTRO!$E$41=\"Endemic\", IF($J59>1, IF($J59=4, \"Unknown\", IF($J59=99, \"Surveillance\", E59)), 0),\"Not required\")","v":38783},{"$f":"IF(INTRO!$E$41=\"Endemic\", IF($J59>1, IF($J59=4, \"Unknown\", IF($J59=99, \"Surveillance\", F59)), 0),\"Not required\")","v":82482},{"$f":"IF(INTRO!$E$41=\"Endemic\", IF($J59>1, IF($J59=4, \"Unknown\", IF($J59=99, \"Surveillance\", ROUND(D59*INTRO!$E$51,0))), 0),\"Not required\")","v":67461},{"$f":"IF(INTRO!$E$41=\"Endemic\", IF($J59>1, IF($J59=4, \"Unknown\", IF($J59=99, \"Surveillance\", SUM($N59:$P59))), 0),\"Not required\")","v":188726},0,42547,28506,{"$f":"IF(INTRO!$E$43=\"Endemic\", IF($K59>1, IF($K59=4, \"Unknown\", IF($K59=99, \"Surveillance\", SUM($R59:$T59))), 0),\"Not required\")","v":71053},0,0,1,1]
[{"$f":"IF(INTRO!$E$33<>0,INTRO!$E$33, \" \")","v":"Uganda"},"Eastern","Kumi",347832,{"$f":"IF(INTRO!$E$48=\"\",\"\",ROUND($D60*INTRO!$E$48,0))","v":49392},{"$f":"IF(INTRO!$E$49=\"\",\"\",ROUND($D60*INTRO!$E$49,0))","v":105045},{"$f":"IF(INTRO!$E$50=\"\",\"\",ROUND($D60*INTRO!$E$50,0))","v":181220},99,0,99,99,{"$f":"IF(INTRO!$E$37=\"Endemic\",IF($H60>0,IF($H60=4,\"Unknown\",IF($H60=99,\"Stopped\",$D60)),0),\"Not required\")","v":"Stopped"},0,{"$f":"IF(INTRO!$E$41=\"Endemic\", IF($J60>1, IF($J60=4, \"Unknown\", IF($J60=99, \"Surveillance\", E60)), 0),\"Not required\")","v":"Surveillance"},{"$f":"IF(INTRO!$E$41=\"Endemic\", IF($J60>1, IF($J60=4, \"Unknown\", IF($J60=99, \"Surveillance\", F60)), 0),\"Not required\")","v":"Surveillance"},{"$f":"IF(INTRO!$E$41=\"Endemic\", IF($J60>1, IF($J60=4, \"Unknown\", IF($J60=99, \"Surveillance\", ROUND(D60*INTRO!$E$51,0))), 0),\"Not required\")","v":"Surveillance"},{"$f":"IF(INTRO!$E$41=\"Endemic\", IF($J60>1, IF($J60=4, \"Unknown\", IF($J60=99, \"Surveillance\", SUM($N60:$P60))), 0),\"Not required\")","v":"Surveillance"},0,0,0,{"$f":"IF(INTRO!$E$43=\"Endemic\", IF($K60>1, IF($K60=4, \"Unknown\", IF($K60=99, \"Surveillance\", SUM($R60:$T60))), 0),\"Not required\")","v":"Surveillance"},0,0,1,0]
[{"$f":"IF(INTRO!$E$33<>0,INTRO!$E$33, \" \")","v":"Uganda"},"Eastern","Kween",128884,{"$f":"IF(INTRO!$E$48=\"\",\"\",ROUND($D61*INTRO!$E$48,0))","v":18302},{"$f":"IF(INTRO!$E$49=\"\",\"\",ROUND($D61*INTRO!$E$49,0))","v":38923},{"$f":"IF(INTRO!$E$50=\"\",\"\",ROUND($D61*INTRO!$E$50,0))","v":67149},0,0,3,11,{"$f":"IF(INTRO!$E$37=\"Endemic\",IF($H61>0,IF($H61=4,\"Unknown\",IF($H61=99,\"Stopped\",$D61)),0),\"Not required\")","v":0},0,{"$f":"IF(INTRO!$E$41=\"Endemic\", IF($J61>1, IF($J61=4, \"Unknown\", IF($J61=99, \"Surveillance\", E61)), 0),\"Not required\")","v":18302},{"$f":"IF(INTRO!$E$41=\"Endemic\", IF($J61>1, IF($J61=4, \"Unknown\", IF($J61=99, \"Surveillance\", F61)), 0),\"Not required\")","v":38923},{"$f":"IF(INTRO!$E$41=\"Endemic\", IF($J61>1, IF($J61=4, \"Unknown\", IF($J61=99, \"Surveillance\", ROUND(D61*INTRO!$E$51,0))), 0),\"Not required\")","v":31834},{"$f":"IF(INTRO!$E$41=\"Endemic\", IF($J61>1, IF($J61=4, \"Unknown\", IF($J61=99, \"Surveillance\", SUM($N61:$P61))), 0),\"Not required\")","v":89059},0,3696,0,{"$f":"IF(INTRO!$E$43=\"Endemic\", IF($K61>1, IF($K61=4, \"Unknown\", IF($K61=99, \"Surveillance\", SUM($R61:$T61))), 0),\"Not required\")","v":3696},0,0,1,1]
[{"$f":"IF(INTRO!$E$33<>0,INTRO!$E$33, \" \")","v":"Uganda"},"Eastern","Luuka",325439,{"$f":"IF(INTRO!$E$48=\"\",\"\",ROUND($D62*INTRO!$E$48,0))","v":46212},{"$f":"IF(INTRO!$E$49=\"\",\"\",ROUND($D62*INTRO!$E$49,0))","v":98283},{"$f":"IF(INTRO!$E$50=\"\",\"\",ROUND($D62*INTRO!$E$50,0))","v":169554},99,0,21,11,{"$f":"IF(INTRO!$E$37=\"Endemic\",IF($H62>0,IF($H62=4,\"Unknown\",IF($H62=99,\"Stopped\",$D62)),0),\"Not required\")","v":"Stopped"},0,{"$f":"IF(INTRO!$E$41=\"Endemic\", IF($J62>1, IF($J62=4, \"Unknown\", IF($J62=99, \"Surveillance\", E62)), 0),\"Not required\")","v":46212},{"$f":"IF(INTRO!$E$41=\"Endemic\", IF($J62>1, IF($J62=4, \"Unknown\", IF($J62=99, \"Surveillance\", F62)), 0),\"Not required\")","v":98283},{"$f":"IF(INTRO!$E$41=\"Endemic\", IF($J62>1, IF($J62=4, \"Unknown\", IF($J62=99, \"Surveillance\", ROUND(D62*INTRO!$E$51,0))), 0),\"Not required\")","v":80383},{"$f":"IF(INTRO!$E$41=\"Endemic\", IF($J62>1, IF($J62=4, \"Unknown\", IF($J62=99, \"Surveillance\", SUM($N62:$P62))), 0),\"Not required\")","v":224878},0,91470,0,{"$f":"IF(INTRO!$E$43=\"Endemic\", IF($K62>1, IF($K62=4, \"Unknown\", IF($K62=99, \"Surveillance\", SUM($R62:$T62))), 0),\"Not required\")","v":91470},0,0,1,1]
[{"$f":"IF(INTRO!$E$33<>0,INTRO!$E$33, \" \")","v":"Uganda"},"Eastern","Manafwa",226832,{"$f":"IF(INTRO!$E$48=\"\",\"\",ROUND($D63*INTRO!$E$48,0))","v":32210},{"$f":"IF(INTRO!$E$49=\"\",\"\",ROUND($D63*INTRO!$E$49,0))","v":68503},{"$f":"IF(INTRO!$E$50=\"\",\"\",ROUND($D63*INTRO!$E$50,0))","v":118179},0,99,22,21,{"$f":"IF(INTRO!$E$37=\"Endemic\",IF($H63>0,IF($H63=4,\"Unknown\",IF($H63=99,\"Stopped\",$D63)),0),\"Not required\")","v":0},0,{"$f":"IF(INTRO!$E$41=\"Endemic\", IF($J63>1, IF($J63=4, \"Unknown\", IF($J63=99, \"Surveillance\", E63)), 0),\"Not required\")","v":32210},{"$f":"IF(INTRO!$E$41=\"Endemic\", IF($J63>1, IF($J63=4, \"Unknown\", IF($J63=99, \"Surveillance\", F63)), 0),\"Not required\")","v":68503},{"$f":"IF(INTRO!$E$41=\"Endemic\", IF($J63>1, IF($J63=4, \"Unknown\", IF($J63=99, \"Surveillance\", ROUND(D63*INTRO!$E$51,0))), 0),\"Not required\")","v":56028},{"$f":"IF(INTRO!$E$41=\"Endemic\", IF($J63>1, IF($J63=4, \"Unknown\", IF($J63=99, \"Surveillance\", SUM($N63:$P63))), 0),\"Not required\")","v":156741},0,41593,23675,{"$f":"IF(INTRO!$E$43=\"Endemic\", IF($K63>1, IF($K63=4, \"Unknown\", IF($K63=99, \"Surveillance\", SUM($R63:$T63))), 0),\"Not required\")","v":65268},0,0,1,1]
[{"$f":"IF(INTRO!$E$33<>0,INTRO!$E$33, \" \")","v":"Uganda"},"Eastern","Mayuge",645844,{"$f":"IF(INTRO!$E$48=\"\",\"\",ROUND($D64*INTRO!$E$48,0))","v":91710},{"$f":"IF(INTRO!$E$49=\"\",\"\",ROUND($D64*INTRO!$E$49,0))","v":195045},{"$f":"IF(INTRO!$E$50=\"\",\"\",ROUND($D64*INTRO!$E$50,0))","v":336485},99,0,3,31,{"$f":"IF(INTRO!$E$37=\"Endemic\",IF($H64>0,IF($H64=4,\"Unknown\",IF($H64=99,\"Stopped\",$D64)),0),\"Not required\")","v":"Stopped"},0,{"$f":"IF(INTRO!$E$41=\"Endemic\", IF($J64>1, IF($J64=4, \"Unknown\", IF($J64=99, \"Surveillance\", E64)), 0),\"Not required\")","v":91710},{"$f":"IF(INTRO!$E$41=\"Endemic\", IF($J64>1, IF($J64=4, \"Unknown\", IF($J64=99, \"Surveillance\", F64)), 0),\"Not required\")","v":195045},{"$f":"IF(INTRO!$E$41=\"Endemic\", IF($J64>1, IF($J64=4, \"Unknown\", IF($J64=99, \"Surveillance\", ROUND(D64*INTRO!$E$51,0))), 0),\"Not required\")","v":159523},{"$f":"IF(INTRO!$E$41=\"Endemic\", IF($J64>1, IF($J64=4, \"Unknown\", IF($J64=99, \"Surveillance\", SUM($N64:$P64))), 0),\"Not required\")","v":446278},0,95077,237040,{"$f":"IF(INTRO!$E$43=\"Endemic\", IF($K64>1, IF($K64=4, \"Unknown\", IF($K64=99, \"Surveillance\", SUM($R64:$T64))), 0),\"Not required\")","v":332117},0,0,1,1]
[{"$f":"IF(INTRO!$E$33<>0,INTRO!$E$33, \" \")","v":"Uganda"},"Eastern","Mbale",478695,{"$f":"IF(INTRO!$E$48=\"\",\"\",ROUND($D65*INTRO!$E$48,0))","v":67975},{"$f":"IF(INTRO!$E$49=\"\",\"\",ROUND($D65*INTRO!$E$49,0))","v":144566},{"$f":"IF(INTRO!$E$50=\"\",\"\",ROUND($D65*INTRO!$E$50,0))","v":249400},0,99,11,31,{"$f":"IF(INTRO!$E$37=\"Endemic\",IF($H65>0,IF($H65=4,\"Unknown\",IF($H65=99,\"Stopped\",$D65)),0),\"Not required\")","v":0},0,{"$f":"IF(INTRO!$E$41=\"Endemic\", IF($J65>1, IF($J65=4, \"Unknown\", IF($J65=99, \"Surveillance\", E65)), 0),\"Not required\")","v":67975},{"$f":"IF(INTRO!$E$41=\"Endemic\", IF($J65>1, IF($J65=4, \"Unknown\", IF($J65=99, \"Surveillance\", F65)), 0),\"Not required\")","v":144566},{"$f":"IF(INTRO!$E$41=\"Endemic\", IF($J65>1, IF($J65=4, \"Unknown\", IF($J65=99, \"Surveillance\", ROUND(D65*INTRO!$E$51,0))), 0),\"Not required\")","v":118238},{"$f":"IF(INTRO!$E$41=\"Endemic\", IF($J65>1, IF($J65=4, \"Unknown\", IF($J65=99, \"Surveillance\", SUM($N65:$P65))), 0),\"Not required\")","v":330779},0,87720,49811,{"$f":"IF(INTRO!$E$43=\"Endemic\", IF($K65>1, IF($K65=4, \"Unknown\", IF($K65=99, \"Surveillance\", SUM($R65:$T65))), 0),\"Not required\")","v":137531},0,0,1,1]
[{"$f":"IF(INTRO!$E$33<>0,INTRO!$E$33, \" \")","v":"Uganda"},"Eastern","Mbale City",185527,{"$f":"IF(INTRO!$E$48=\"\",\"\",ROUND($D66*INTRO!$E$48,0))","v":26345},{"$f":"IF(INTRO!$E$49=\"\",\"\",ROUND($D66*INTRO!$E$49,0))","v":56029},{"$f":"IF(INTRO!$E$50=\"\",\"\",ROUND($D66*INTRO!$E$50,0))","v":96660},0,0,3,3,{"$f":"IF(INTRO!$E$37=\"Endemic\",IF($H66>0,IF($H66=4,\"Unknown\",IF($H66=99,\"Stopped\",$D66)),0),\"Not required\")","v":0},0,{"$f":"IF(INTRO!$E$41=\"Endemic\", IF($J66>1, IF($J66=4, \"Unknown\", IF($J66=99, \"Surveillance\", E66)), 0),\"Not required\")","v":26345},{"$f":"IF(INTRO!$E$41=\"Endemic\", IF($J66>1, IF($J66=4, \"Unknown\", IF($J66=99, \"Surveillance\", F66)), 0),\"Not required\")","v":56029},{"$f":"IF(INTRO!$E$41=\"Endemic\", IF($J66>1, IF($J66=4, \"Unknown\", IF($J66=99, \"Surveillance\", ROUND(D66*INTRO!$E$51,0))), 0),\"Not required\")","v":45825},{"$f":"IF(INTRO!$E$41=\"Endemic\", IF($J66>1, IF($J66=4, \"Unknown\", IF($J66=99, \"Surveillance\", SUM($N66:$P66))), 0),\"Not required\")","v":128199},0,36120,96660,{"$f":"IF(INTRO!$E$43=\"Endemic\", IF($K66>1, IF($K66=4, \"Unknown\", IF($K66=99, \"Surveillance\", SUM($R66:$T66))), 0),\"Not required\")","v":132780},0,0,1,1]
[{"$f":"IF(INTRO!$E$33<>0,INTRO!$E$33, \" \")","v":"Uganda"},"Eastern","Namayingo",300872,{"$f":"IF(INTRO!$E$48=\"\",\"\",ROUND($D67*INTRO!$E$48,0))","v":42724},{"$f":"IF(INTRO!$E$49=\"\",\"\",ROUND($D67*INTRO!$E$49,0))","v":90863},{"$f":"IF(INTRO!$E$50=\"\",\"\",ROUND($D67*INTRO!$E$50,0))","v":156754},99,0,11,31,{"$f":"IF(INTRO!$E$37=\"Endemic\",IF($H67>0,IF($H67=4,\"Unknown\",IF($H67=99,\"Stopped\",$D67)),0),\"Not required\")","v":"Stopped"},0,{"$f":"IF(INTRO!$E$41=\"Endemic\", IF($J67>1, IF($J67=4, \"Unknown\", IF($J67=99, \"Surveillance\", E67)), 0),\"Not required\")","v":42724},{"$f":"IF(INTRO!$E$41=\"Endemic\", IF($J67>1, IF($J67=4, \"Unknown\", IF($J67=99, \"Surveillance\", F67)), 0),\"Not required\")","v":90863},{"$f":"IF(INTRO!$E$41=\"Endemic\", IF($J67>1, IF($J67=4, \"Unknown\", IF($J67=99, \"Surveillance\", ROUND(D67*INTRO!$E$51,0))), 0),\"Not required\")","v":74315},{"$f":"IF(INTRO!$E$41=\"Endemic\", IF($J67>1, IF($J67=4, \"Unknown\", IF($J67=99, \"Surveillance\", SUM($N67:$P67))), 0),\"Not required\")","v":207902},0,90863,156754,{"$f":"IF(INTRO!$E$43=\"Endemic\", IF($K67>1, IF($K67=4, \"Unknown\", IF($K67=99, \"Surveillance\", SUM($R67:$T67))), 0),\"Not required\")","v":247617},0,0,1,1]
[{"$f":"IF(INTRO!$E$33<>0,INTRO!$E$33, \" \")","v":"Uganda"},"Eastern","Namisindwa",248769,{"$f":"IF(INTRO!$E$48=\"\",\"\",ROUND($D68*INTRO!$E$48,0))","v":35325},{"$f":"IF(INTRO!$E$49=\"\",\"\",ROUND($D68*INTRO!$E$49,0))","v":75128},{"$f":"IF(INTRO!$E$50=\"\",\"\",ROUND($D68*INTRO!$E$50,0))","v":129609},0,0,3,11,{"$f":"IF(INTRO!$E$37=\"Endemic\",IF($H68>0,IF($H68=4,\"Unknown\",IF($H68=99,\"Stopped\",$D68)),0),\"Not required\")","v":0},0,{"$f":"IF(INTRO!$E$41=\"Endemic\", IF($J68>1, IF($J68=4, \"Unknown\", IF($J68=99, \"Surveillance\", E68)), 0),\"Not required\")","v":35325},{"$f":"IF(INTRO!$E$41=\"Endemic\", IF($J68>1, IF($J68=4, \"Unknown\", IF($J68=99, \"Surveillance\", F68)), 0),\"Not required\")","v":75128},{"$f":"IF(INTRO!$E$41=\"Endemic\", IF($J68>1, IF($J68=4, \"Unknown\", IF($J68=99, \"Surveillance\", ROUND(D68*INTRO!$E$51,0))), 0),\"Not required\")","v":61446},{"$f":"IF(INTRO!$E$41=\"Endemic\", IF($J68>1, IF($J68=4, \"Unknown\", IF($J68=99, \"Surveillance\", SUM($N68:$P68))), 0),\"Not required\")","v":171899},0,53907,0,{"$f":"IF(INTRO!$E$43=\"Endemic\", IF($K68>1, IF($K68=4, \"Unknown\", IF($K68=99, \"Surveillance\", SUM($R68:$T68))), 0),\"Not required\")","v":53907},0,0,1,1]
[{"$f":"IF(INTRO!$E$33<>0,INTRO!$E$33, \" \")","v":"Uganda"},"Eastern","Namutumba",341351,{"$f":"IF(INTRO!$E$48=\"\",\"\",ROUND($D69*INTRO!$E$48,0))","v":48472},{"$f":"IF(INTRO!$E$49=\"\",\"\",ROUND($D69*INTRO!$E$49,0))","v":103088},{"$f":"IF(INTRO!$E$50=\"\",\"\",ROUND($D69*INTRO!$E$50,0))","v":177844},99,0,21,21,{"$f":"IF(INTRO!$E$37=\"Endemic\",IF($H69>0,IF($H69=4,\"Unknown\",IF($H69=99,\"Stopped\",$D69)),0),\"Not required\")","v":"Stopped"},0,{"$f":"IF(INTRO!$E$41=\"Endemic\", IF($J69>1, IF($J69=4, \"Unknown\", IF($J69=99, \"Surveillance\", E69)), 0),\"Not required\")","v":48472},{"$f":"IF(INTRO!$E$41=\"Endemic\", IF($J69>1, IF($J69=4, \"Unknown\", IF($J69=99, \"Surveillance\", F69)), 0),\"Not required\")","v":103088},{"$f":"IF(INTRO!$E$41=\"Endemic\", IF($J69>1, IF($J69=4, \"Unknown\", IF($J69=99, \"Surveillance\", ROUND(D69*INTRO!$E$51,0))), 0),\"Not required\")","v":84314},{"$f":"IF(INTRO!$E$41=\"Endemic\", IF($J69>1, IF($J69=4, \"Unknown\", IF($J69=99, \"Surveillance\", SUM($N69:$P69))), 0),\"Not required\")","v":235874},0,97822,35628,{"$f":"IF(INTRO!$E$43=\"Endemic\", IF($K69>1, IF($K69=4, \"Unknown\", IF($K69=99, \"Surveillance\", SUM($R69:$T69))), 0),\"Not required\")","v":133450},0,0,1,1]
[{"$f":"IF(INTRO!$E$33<>0,INTRO!$E$33, \" \")","v":"Uganda"},"Eastern","Ngora",192046,{"$f":"IF(INTRO!$E$48=\"\",\"\",ROUND($D70*INTRO!$E$48,0))","v":27271},{"$f":"IF(INTRO!$E$49=\"\",\"\",ROUND($D70*INTRO!$E$49,0))","v":57998},{"$f":"IF(INTRO!$E$50=\"\",\"\",ROUND($D70*INTRO!$E$50,0))","v":100056},99,0,99,11,{"$f":"IF(INTRO!$E$37=\"Endemic\",IF($H70>0,IF($H70=4,\"Unknown\",IF($H70=99,\"Stopped\",$D70)),0),\"Not required\")","v":"Stopped"},0,{"$f":"IF(INTRO!$E$41=\"Endemic\", IF($J70>1, IF($J70=4, \"Unknown\", IF($J70=99, \"Surveillance\", E70)), 0),\"Not required\")","v":"Surveillance"},{"$f":"IF(INTRO!$E$41=\"Endemic\", IF($J70>1, IF($J70=4, \"Unknown\", IF($J70=99, \"Surveillance\", F70)), 0),\"Not required\")","v":"Surveillance"},{"$f":"IF(INTRO!$E$41=\"Endemic\", IF($J70>1, IF($J70=4, \"Unknown\", IF($J70=99, \"Surveillance\", ROUND(D70*INTRO!$E$51,0))), 0),\"Not required\")","v":"Surveillance"},{"$f":"IF(INTRO!$E$41=\"Endemic\", IF($J70>1, IF($J70=4, \"Unknown\", IF($J70=99, \"Surveillance\", SUM($N70:$P70))), 0),\"Not required\")","v":"Surveillance"},0,57998,0,{"$f":"IF(INTRO!$E$43=\"Endemic\", IF($K70>1, IF($K70=4, \"Unknown\", IF($K70=99, \"Surveillance\", SUM($R70:$T70))), 0),\"Not required\")","v":57998},0,0,1,1]
[{"$f":"IF(INTRO!$E$33<>0,INTRO!$E$33, \" \")","v":"Uganda"},"Eastern","Pallisa",325892,{"$f":"IF(INTRO!$E$48=\"\",\"\",ROUND($D71*INTRO!$E$48,0))","v":46277},{"$f":"IF(INTRO!$E$49=\"\",\"\",ROUND($D71*INTRO!$E$49,0))","v":98419},{"$f":"IF(INTRO!$E$50=\"\",\"\",ROUND($D71*INTRO!$E$50,0))","v":169790},99,0,11,11,{"$f":"IF(INTRO!$E$37=\"Endemic\",IF($H71>0,IF($H71=4,\"Unknown\",IF($H71=99,\"Stopped\",$D71)),0),\"Not required\")","v":"Stopped"},0,{"$f":"IF(INTRO!$E$41=\"Endemic\", IF($J71>1, IF($J71=4, \"Unknown\", IF($J71=99, \"Surveillance\", E71)), 0),\"Not required\")","v":46277},{"$f":"IF(INTRO!$E$41=\"Endemic\", IF($J71>1, IF($J71=4, \"Unknown\", IF($J71=99, \"Surveillance\", F71)), 0),\"Not required\")","v":98419},{"$f":"IF(INTRO!$E$41=\"Endemic\", IF($J71>1, IF($J71=4, \"Unknown\", IF($J71=99, \"Surveillance\", ROUND(D71*INTRO!$E$51,0))), 0),\"Not required\")","v":80495},{"$f":"IF(INTRO!$E$41=\"Endemic\", IF($J71>1, IF($J71=4, \"Unknown\", IF($J71=99, \"Surveillance\", SUM($N71:$P71))), 0),\"Not required\")","v":225191},0,98419,0,{"$f":"IF(INTRO!$E$43=\"Endemic\", IF($K71>1, IF($K71=4, \"Unknown\", IF($K71=99, \"Surveillance\", SUM($R71:$T71))), 0),\"Not required\")","v":98419},0,0,1,1]
[{"$f":"IF(INTRO!$E$33<>0,INTRO!$E$33, \" \")","v":"Uganda"},"Eastern","Serere",382289,{"$f":"IF(INTRO!$E$48=\"\",\"\",ROUND($D72*INTRO!$E$48,0))","v":54285},{"$f":"IF(INTRO!$E$49=\"\",\"\",ROUND($D72*INTRO!$E$49,0))","v":115451},{"$f":"IF(INTRO!$E$50=\"\",\"\",ROUND($D72*INTRO!$E$50,0))","v":199173},99,0,11,3,{"$f":"IF(INTRO!$E$37=\"Endemic\",IF($H72>0,IF($H72=4,\"Unknown\",IF($H72=99,\"Stopped\",$D72)),0),\"Not required\")","v":"Stopped"},0,{"$f":"IF(INTRO!$E$41=\"Endemic\", IF($J72>1, IF($J72=4, \"Unknown\", IF($J72=99, \"Surveillance\", E72)), 0),\"Not required\")","v":54285},{"$f":"IF(INTRO!$E$41=\"Endemic\", IF($J72>1, IF($J72=4, \"Unknown\", IF($J72=99, \"Surveillance\", F72)), 0),\"Not required\")","v":115451},{"$f":"IF(INTRO!$E$41=\"Endemic\", IF($J72>1, IF($J72=4, \"Unknown\", IF($J72=99, \"Surveillance\", ROUND(D72*INTRO!$E$51,0))), 0),\"Not required\")","v":94425},{"$f":"IF(INTRO!$E$41=\"Endemic\", IF($J72>1, IF($J72=4, \"Unknown\", IF($J72=99, \"Surveillance\", SUM($N72:$P72))), 0),\"Not required\")","v":264161},0,107859,199173,{"$f":"IF(INTRO!$E$43=\"Endemic\", IF($K72>1, IF($K72=4, \"Unknown\", IF($K72=99, \"Surveillance\", SUM($R72:$T72))), 0),\"Not required\")","v":307032},0,0,1,1]
[{"$f":"IF(INTRO!$E$33<>0,INTRO!$E$33, \" \")","v":"Uganda"},"Eastern","Sironko",332428,{"$f":"IF(INTRO!$E$48=\"\",\"\",ROUND($D73*INTRO!$E$48,0))","v":47205},{"$f":"IF(INTRO!$E$49=\"\",\"\",ROUND($D73*INTRO!$E$49,0))","v":100393},{"$f":"IF(INTRO!$E$50=\"\",\"\",ROUND($D73*INTRO!$E$50,0))","v":173195},0,99,99,21,{"$f":"IF(INTRO!$E$37=\"Endemic\",IF($H73>0,IF($H73=4,\"Unknown\",IF($H73=99,\"Stopped\",$D73)),0),\"Not required\")","v":0},0,{"$f":"IF(INTRO!$E$41=\"Endemic\", IF($J73>1, IF($J73=4, \"Unknown\", IF($J73=99, \"Surveillance\", E73)), 0),\"Not required\")","v":"Surveillance"},{"$f":"IF(INTRO!$E$41=\"Endemic\", IF($J73>1, IF($J73=4, \"Unknown\", IF($J73=99, \"Surveillance\", F73)), 0),\"Not required\")","v":"Surveillance"},{"$f":"IF(INTRO!$E$41=\"Endemic\", IF($J73>1, IF($J73=4, \"Unknown\", IF($J73=99, \"Surveillance\", ROUND(D73*INTRO!$E$51,0))), 0),\"Not required\")","v":"Surveillance"},{"$f":"IF(INTRO!$E$41=\"Endemic\", IF($J73>1, IF($J73=4, \"Unknown\", IF($J73=99, \"Surveillance\", SUM($N73:$P73))), 0),\"Not required\")","v":"Surveillance"},0,100393,34696,{"$f":"IF(INTRO!$E$43=\"Endemic\", IF($K73>1, IF($K73=4, \"Unknown\", IF($K73=99, \"Surveillance\", SUM($R73:$T73))), 0),\"Not required\")","v":135089},0,0,1,1]
[{"$f":"IF(INTRO!$E$33<>0,INTRO!$E$33, \" \")","v":"Uganda"},"Eastern","Soroti",333865,{"$f":"IF(INTRO!$E$48=\"\",\"\",ROUND($D74*INTRO!$E$48,0))","v":47409},{"$f":"IF(INTRO!$E$49=\"\",\"\",ROUND($D74*INTRO!$E$49,0))","v":100827},{"$f":"IF(INTRO!$E$50=\"\",\"\",ROUND($D74*INTRO!$E$50,0))","v":173944},99,0,11,11,{"$f":"IF(INTRO!$E$37=\"Endemic\",IF($H74>0,IF($H74=4,\"Unknown\",IF($H74=99,\"Stopped\",$D74)),0),\"Not required\")","v":"Stopped"},0,{"$f":"IF(INTRO!$E$41=\"Endemic\", IF($J74>1, IF($J74=4, \"Unknown\", IF($J74=99, \"Surveillance\", E74)), 0),\"Not required\")","v":47409},{"$f":"IF(INTRO!$E$41=\"Endemic\", IF($J74>1, IF($J74=4, \"Unknown\", IF($J74=99, \"Surveillance\", F74)), 0),\"Not required\")","v":100827},{"$f":"IF(INTRO!$E$41=\"Endemic\", IF($J74>1, IF($J74=4, \"Unknown\", IF($J74=99, \"Surveillance\", ROUND(D74*INTRO!$E$51,0))), 0),\"Not required\")","v":82465},{"$f":"IF(INTRO!$E$41=\"Endemic\", IF($J74>1, IF($J74=4, \"Unknown\", IF($J74=99, \"Surveillance\", SUM($N74:$P74))), 0),\"Not required\")","v":230701},0,100827,0,{"$f":"IF(INTRO!$E$43=\"Endemic\", IF($K74>1, IF($K74=4, \"Unknown\", IF($K74=99, \"Surveillance\", SUM($R74:$T74))), 0),\"Not required\")","v":100827},0,0,1,1]
[{"$f":"IF(INTRO!$E$33<>0,INTRO!$E$33, \" \")","v":"Uganda"},"Eastern","Soroti City",66654,{"$f":"IF(INTRO!$E$48=\"\",\"\",ROUND($D75*INTRO!$E$48,0))","v":9465},{"$f":"IF(INTRO!$E$49=\"\",\"\",ROUND($D75*INTRO!$E$49,0))","v":20130},{"$f":"IF(INTRO!$E$50=\"\",\"\",ROUND($D75*INTRO!$E$50,0))","v":34727},99,0,3,0,{"$f":"IF(INTRO!$E$37=\"Endemic\",IF($H75>0,IF($H75=4,\"Unknown\",IF($H75=99,\"Stopped\",$D75)),0),\"Not required\")","v":"Stopped"},0,{"$f":"IF(INTRO!$E$41=\"Endemic\", IF($J75>1, IF($J75=4, \"Unknown\", IF($J75=99, \"Surveillance\", E75)), 0),\"Not required\")","v":9465},{"$f":"IF(INTRO!$E$41=\"Endemic\", IF($J75>1, IF($J75=4, \"Unknown\", IF($J75=99, \"Surveillance\", F75)), 0),\"Not required\")","v":20130},{"$f":"IF(INTRO!$E$41=\"Endemic\", IF($J75>1, IF($J75=4, \"Unknown\", IF($J75=99, \"Surveillance\", ROUND(D75*INTRO!$E$51,0))), 0),\"Not required\")","v":16464},{"$f":"IF(INTRO!$E$41=\"Endemic\", IF($J75>1, IF($J75=4, \"Unknown\", IF($J75=99, \"Surveillance\", SUM($N75:$P75))), 0),\"Not required\")","v":46059},0,0,0,{"$f":"IF(INTRO!$E$43=\"Endemic\", IF($K75>1, IF($K75=4, \"Unknown\", IF($K75=99, \"Surveillance\", SUM($R75:$T75))), 0),\"Not required\")","v":0},0,0,1,0]
[{"$f":"IF(INTRO!$E$33<>0,INTRO!$E$33, \" \")","v":"Uganda"},"Eastern","Tororo",709465,{"$f":"IF(INTRO!$E$48=\"\",\"\",ROUND($D76*INTRO!$E$48,0))","v":100744},{"$f":"IF(INTRO!$E$49=\"\",\"\",ROUND($D76*INTRO!$E$49,0))","v":214258},{"$f":"IF(INTRO!$E$50=\"\",\"\",ROUND($D76*INTRO!$E$50,0))","v":369631},99,0,11,31,{"$f":"IF(INTRO!$E$37=\"Endemic\",IF($H76>0,IF($H76=4,\"Unknown\",IF($H76=99,\"Stopped\",$D76)),0),\"Not required\")","v":"Stopped"},0,{"$f":"IF(INTRO!$E$41=\"Endemic\", IF($J76>1, IF($J76=4, \"Unknown\", IF($J76=99, \"Surveillance\", E76)), 0),\"Not required\")","v":100744},{"$f":"IF(INTRO!$E$41=\"Endemic\", IF($J76>1, IF($J76=4, \"Unknown\", IF($J76=99, \"Surveillance\", F76)), 0),\"Not required\")","v":214258},{"$f":"IF(INTRO!$E$41=\"Endemic\", IF($J76>1, IF($J76=4, \"Unknown\", IF($J76=99, \"Surveillance\", ROUND(D76*INTRO!$E$51,0))), 0),\"Not required\")","v":175238},{"$f":"IF(INTRO!$E$41=\"Endemic\", IF($J76>1, IF($J76=4, \"Unknown\", IF($J76=99, \"Surveillance\", SUM($N76:$P76))), 0),\"Not required\")","v":490240},0,112851,70241,{"$f":"IF(INTRO!$E$43=\"Endemic\", IF($K76>1, IF($K76=4, \"Unknown\", IF($K76=99, \"Surveillance\", SUM($R76:$T76))), 0),\"Not required\")","v":183092},0,0,1,1]
[{"$f":"IF(INTRO!$E$33<>0,INTRO!$E$33, \" \")","v":"Uganda"},"Northern","Abim",146965,{"$f":"IF(INTRO!$E$48=\"\",\"\",ROUND($D77*INTRO!$E$48,0))","v":20869},{"$f":"IF(INTRO!$E$49=\"\",\"\",ROUND($D77*INTRO!$E$49,0))","v":44383},{"$f":"IF(INTRO!$E$50=\"\",\"\",ROUND($D77*INTRO!$E$50,0))","v":76569},99,0,3,0,{"$f":"IF(INTRO!$E$37=\"Endemic\",IF($H77>0,IF($H77=4,\"Unknown\",IF($H77=99,\"Stopped\",$D77)),0),\"Not required\")","v":"Stopped"},0,{"$f":"IF(INTRO!$E$41=\"Endemic\", IF($J77>1, IF($J77=4, \"Unknown\", IF($J77=99, \"Surveillance\", E77)), 0),\"Not required\")","v":20869},{"$f":"IF(INTRO!$E$41=\"Endemic\", IF($J77>1, IF($J77=4, \"Unknown\", IF($J77=99, \"Surveillance\", F77)), 0),\"Not required\")","v":44383},{"$f":"IF(INTRO!$E$41=\"Endemic\", IF($J77>1, IF($J77=4, \"Unknown\", IF($J77=99, \"Surveillance\", ROUND(D77*INTRO!$E$51,0))), 0),\"Not required\")","v":36300},{"$f":"IF(INTRO!$E$41=\"Endemic\", IF($J77>1, IF($J77=4, \"Unknown\", IF($J77=99, \"Surveillance\", SUM($N77:$P77))), 0),\"Not required\")","v":101552},0,0,0,{"$f":"IF(INTRO!$E$43=\"Endemic\", IF($K77>1, IF($K77=4, \"Unknown\", IF($K77=99, \"Surveillance\", SUM($R77:$T77))), 0),\"Not required\")","v":0},0,0,1,0]
[{"$f":"IF(INTRO!$E$33<>0,INTRO!$E$33, \" \")","v":"Uganda"},"Northern","Adjumani",313800,{"$f":"IF(INTRO!$E$48=\"\",\"\",ROUND($D78*INTRO!$E$48,0))","v":44560},{"$f":"IF(INTRO!$E$49=\"\",\"\",ROUND($D78*INTRO!$E$49,0))","v":94768},{"$f":"IF(INTRO!$E$50=\"\",\"\",ROUND($D78*INTRO!$E$50,0))","v":163490},99,1,3,3,{"$f":"IF(INTRO!$E$37=\"Endemic\",IF($H78>0,IF($H78=4,\"Unknown\",IF($H78=99,\"Stopped\",$D78)),0),\"Not required\")","v":"Stopped"},32079,{"$f":"IF(INTRO!$E$41=\"Endemic\", IF($J78>1, IF($J78=4, \"Unknown\", IF($J78=99, \"Surveillance\", E78)), 0),\"Not required\")","v":44560},{"$f":"IF(INTRO!$E$41=\"Endemic\", IF($J78>1, IF($J78=4, \"Unknown\", IF($J78=99, \"Surveillance\", F78)), 0),\"Not required\")","v":94768},{"$f":"IF(INTRO!$E$41=\"Endemic\", IF($J78>1, IF($J78=4, \"Unknown\", IF($J78=99, \"Surveillance\", ROUND(D78*INTRO!$E$51,0))), 0),\"Not required\")","v":77509},{"$f":"IF(INTRO!$E$41=\"Endemic\", IF($J78>1, IF($J78=4, \"Unknown\", IF($J78=99, \"Surveillance\", SUM($N78:$P78))), 0),\"Not required\")","v":216837},0,21183,163490,{"$f":"IF(INTRO!$E$43=\"Endemic\", IF($K78>1, IF($K78=4, \"Unknown\", IF($K78=99, \"Surveillance\", SUM($R78:$T78))), 0),\"Not required\")","v":184673},0,2,1,1]
[{"$f":"IF(INTRO!$E$33<>0,INTRO!$E$33, \" \")","v":"Uganda"},"Northern","Agago",306620,{"$f":"IF(INTRO!$E$48=\"\",\"\",ROUND($D79*INTRO!$E$48,0))","v":43540},{"$f":"IF(INTRO!$E$49=\"\",\"\",ROUND($D79*INTRO!$E$49,0))","v":92599},{"$f":"IF(INTRO!$E$50=\"\",\"\",ROUND($D79*INTRO!$E$50,0))","v":159749},99,0,99,11,{"$f":"IF(INTRO!$E$37=\"Endemic\",IF($H79>0,IF($H79=4,\"Unknown\",IF($H79=99,\"Stopped\",$D79)),0),\"Not required\")","v":"Stopped"},0,{"$f":"IF(INTRO!$E$41=\"Endemic\", IF($J79>1, IF($J79=4, \"Unknown\", IF($J79=99, \"Surveillance\", E79)), 0),\"Not required\")","v":"Surveillance"},{"$f":"IF(INTRO!$E$41=\"Endemic\", IF($J79>1, IF($J79=4, \"Unknown\", IF($J79=99, \"Surveillance\", F79)), 0),\"Not required\")","v":"Surveillance"},{"$f":"IF(INTRO!$E$41=\"Endemic\", IF($J79>1, IF($J79=4, \"Unknown\", IF($J79=99, \"Surveillance\", ROUND(D79*INTRO!$E$51,0))), 0),\"Not required\")","v":"Surveillance"},{"$f":"IF(INTRO!$E$41=\"Endemic\", IF($J79>1, IF($J79=4, \"Unknown\", IF($J79=99, \"Surveillance\", SUM($N79:$P79))), 0),\"Not required\")","v":"Surveillance"},0,0,0,{"$f":"IF(INTRO!$E$43=\"Endemic\", IF($K79>1, IF($K79=4, \"Unknown\", IF($K79=99, \"Surveillance\", SUM($R79:$T79))), 0),\"Not required\")","v":0},0,0,1,0]
[{"$f":"IF(INTRO!$E$33<>0,INTRO!$E$33, \" \")","v":"Uganda"},"Northern","Alebtong",303709,{"$f":"IF(INTRO!$E$48=\"\",\"\",ROUND($D80*INTRO!$E$48,0))","v":43127},{"$f":"IF(INTRO!$E$49=\"\",\"\",ROUND($D80*INTRO!$E$49,0))","v":91720},{"$f":"IF(INTRO!$E$50=\"\",\"\",ROUND($D80*INTRO!$E$50,0))","v":158232},99,0,11,3,{"$f":"IF(INTRO!$E$37=\"Endemic\",IF($H80>0,IF($H80=4,\"Unknown\",IF($H80=99,\"Stopped\",$D80)),0),\"Not required\")","v":"Stopped"},0,{"$f":"IF(INTRO!$E$41=\"Endemic\", IF($J80>1, IF($J80=4, \"Unknown\", IF($J80=99, \"Surveillance\", E80)), 0),\"Not required\")","v":43127},{"$f":"IF(INTRO!$E$41=\"Endemic\", IF($J80>1, IF($J80=4, \"Unknown\", IF($J80=99, \"Surveillance\", F80)), 0),\"Not required\")","v":91720},{"$f":"IF(INTRO!$E$41=\"Endemic\", IF($J80>1, IF($J80=4, \"Unknown\", IF($J80=99, \"Surveillance\", ROUND(D80*INTRO!$E$51,0))), 0),\"Not required\")","v":75016},{"$f":"IF(INTRO!$E$41=\"Endemic\", IF($J80>1, IF($J80=4, \"Unknown\", IF($J80=99, \"Surveillance\", SUM($N80:$P80))), 0),\"Not required\")","v":209863},0,89153,158232,{"$f":"IF(INTRO!$E$43=\"Endemic\", IF($K80>1, IF($K80=4, \"Unknown\", IF($K80=99, \"Surveillance\", SUM($R80:$T80))), 0),\"Not required\")","v":247385},0,0,1,1]
[{"$f":"IF(INTRO!$E$33<>0,INTRO!$E$33, \" \")","v":"Uganda"},"Northern","Amolatar",198006,{"$f":"IF(INTRO!$E$48=\"\",\"\",ROUND($D81*INTRO!$E$48,0))","v":28117},{"$f":"IF(INTRO!$E$49=\"\",\"\",ROUND($D81*INTRO!$E$49,0))","v":59798},{"$f":"IF(INTRO!$E$50=\"\",\"\",ROUND($D81*INTRO!$E$50,0))","v":103161},99,0,3,3,{"$f":"IF(INTRO!$E$37=\"Endemic\",IF($H81>0,IF($H81=4,\"Unknown\",IF($H81=99,\"Stopped\",$D81)),0),\"Not required\")","v":"Stopped"},0,{"$f":"IF(INTRO!$E$41=\"Endemic\", IF($J81>1, IF($J81=4, \"Unknown\", IF($J81=99, \"Surveillance\", E81)), 0),\"Not required\")","v":28117},{"$f":"IF(INTRO!$E$41=\"Endemic\", IF($J81>1, IF($J81=4, \"Unknown\", IF($J81=99, \"Surveillance\", F81)), 0),\"Not required\")","v":59798},{"$f":"IF(INTRO!$E$41=\"Endemic\", IF($J81>1, IF($J81=4, \"Unknown\", IF($J81=99, \"Surveillance\", ROUND(D81*INTRO!$E$51,0))), 0),\"Not required\")","v":48907},{"$f":"IF(INTRO!$E$41=\"Endemic\", IF($J81>1, IF($J81=4, \"Unknown\", IF($J81=99, \"Surveillance\", SUM($N81:$P81))), 0),\"Not required\")","v":136822},0,59160,103161,{"$f":"IF(INTRO!$E$43=\"Endemic\", IF($K81>1, IF($K81=4, \"Unknown\", IF($K81=99, \"Surveillance\", SUM($R81:$T81))), 0),\"Not required\")","v":162321},0,0,1,1]
[{"$f":"IF(INTRO!$E$33<>0,INTRO!$E$33, \" \")","v":"Uganda"},"Northern","Amudat",150629,{"$f":"IF(INTRO!$E$48=\"\",\"\",ROUND($D82*INTRO!$E$48,0))","v":21389},{"$f":"IF(INTRO!$E$49=\"\",\"\",ROUND($D82*INTRO!$E$49,0))","v":45490},{"$f":"IF(INTRO!$E$50=\"\",\"\",ROUND($D82*INTRO!$E$50,0))","v":78478},99,0,3,0,{"$f":"IF(INTRO!$E$37=\"Endemic\",IF($H82>0,IF($H82=4,\"Unknown\",IF($H82=99,\"Stopped\",$D82)),0),\"Not required\")","v":"Stopped"},0,{"$f":"IF(INTRO!$E$41=\"Endemic\", IF($J82>1, IF($J82=4, \"Unknown\", IF($J82=99, \"Surveillance\", E82)), 0),\"Not required\")","v":21389},{"$f":"IF(INTRO!$E$41=\"Endemic\", IF($J82>1, IF($J82=4, \"Unknown\", IF($J82=99, \"Surveillance\", F82)), 0),\"Not required\")","v":45490},{"$f":"IF(INTRO!$E$41=\"Endemic\", IF($J82>1, IF($J82=4, \"Unknown\", IF($J82=99, \"Surveillance\", ROUND(D82*INTRO!$E$51,0))), 0),\"Not required\")","v":37205},{"$f":"IF(INTRO!$E$41=\"Endemic\", IF($J82>1, IF($J82=4, \"Unknown\", IF($J82=99, \"Surveillance\", SUM($N82:$P82))), 0),\"Not required\")","v":104084},0,0,0,{"$f":"IF(INTRO!$E$43=\"Endemic\", IF($K82>1, IF($K82=4, \"Unknown\", IF($K82=99, \"Surveillance\", SUM($R82:$T82))), 0),\"Not required\")","v":0},0,0,1,0]
[{"$f":"IF(INTRO!$E$33<>0,INTRO!$E$33, \" \")","v":"Uganda"},"Northern","Amuru",256783,{"$f":"IF(INTRO!$E$48=\"\",\"\",ROUND($D83*INTRO!$E$48,0))","v":36463},{"$f":"IF(INTRO!$E$49=\"\",\"\",ROUND($D83*INTRO!$E$49,0))","v":77548},{"$f":"IF(INTRO!$E$50=\"\",\"\",ROUND($D83*INTRO!$E$50,0))","v":133784},99,1,3,3,{"$f":"IF(INTRO!$E$37=\"Endemic\",IF($H83>0,IF($H83=4,\"Unknown\",IF($H83=99,\"Stopped\",$D83)),0),\"Not required\")","v":"Stopped"},249590,{"$f":"IF(INTRO!$E$41=\"Endemic\", IF($J83>1, IF($J83=4, \"Unknown\", IF($J83=99, \"Surveillance\", E83)), 0),\"Not required\")","v":36463},{"$f":"IF(INTRO!$E$41=\"Endemic\", IF($J83>1, IF($J83=4, \"Unknown\", IF($J83=99, \"Surveillance\", F83)), 0),\"Not required\")","v":77548},{"$f":"IF(INTRO!$E$41=\"Endemic\", IF($J83>1, IF($J83=4, \"Unknown\", IF($J83=99, \"Surveillance\", ROUND(D83*INTRO!$E$51,0))), 0),\"Not required\")","v":63425},{"$f":"IF(INTRO!$E$41=\"Endemic\", IF($J83>1, IF($J83=4, \"Unknown\", IF($J83=99, \"Surveillance\", SUM($N83:$P83))), 0),\"Not required\")","v":177436},0,66289,133784,{"$f":"IF(INTRO!$E$43=\"Endemic\", IF($K83>1, IF($K83=4, \"Unknown\", IF($K83=99, \"Surveillance\", SUM($R83:$T83))), 0),\"Not required\")","v":200073},0,2,1,1]
[{"$f":"IF(INTRO!$E$33<>0,INTRO!$E$33, \" \")","v":"Uganda"},"Northern","Apac",249862,{"$f":"IF(INTRO!$E$48=\"\",\"\",ROUND($D84*INTRO!$E$48,0))","v":35480},{"$f":"IF(INTRO!$E$49=\"\",\"\",ROUND($D84*INTRO!$E$49,0))","v":75458},{"$f":"IF(INTRO!$E$50=\"\",\"\",ROUND($D84*INTRO!$E$50,0))","v":130178},99,0,11,3,{"$f":"IF(INTRO!$E$37=\"Endemic\",IF($H84>0,IF($H84=4,\"Unknown\",IF($H84=99,\"Stopped\",$D84)),0),\"Not required\")","v":"Stopped"},0,{"$f":"IF(INTRO!$E$41=\"Endemic\", IF($J84>1, IF($J84=4, \"Unknown\", IF($J84=99, \"Surveillance\", E84)), 0),\"Not required\")","v":35480},{"$f":"IF(INTRO!$E$41=\"Endemic\", IF($J84>1, IF($J84=4, \"Unknown\", IF($J84=99, \"Surveillance\", F84)), 0),\"Not required\")","v":75458},{"$f":"IF(INTRO!$E$41=\"Endemic\", IF($J84>1, IF($J84=4, \"Unknown\", IF($J84=99, \"Surveillance\", ROUND(D84*INTRO!$E$51,0))), 0),\"Not required\")","v":61716},{"$f":"IF(INTRO!$E$41=\"Endemic\", IF($J84>1, IF($J84=4, \"Unknown\", IF($J84=99, \"Surveillance\", SUM($N84:$P84))), 0),\"Not required\")","v":172654},0,75458,130178,{"$f":"IF(INTRO!$E$43=\"Endemic\", IF($K84>1, IF($K84=4, \"Unknown\", IF($K84=99, \"Surveillance\", SUM($R84:$T84))), 0),\"Not required\")","v":205636},0,0,1,1]
[{"$f":"IF(INTRO!$E$33<>0,INTRO!$E$33, \" \")","v":"Uganda"},"Northern","Arua",180125,{"$f":"IF(INTRO!$E$48=\"\",\"\",ROUND($D85*INTRO!$E$48,0))","v":25578},{"$f":"IF(INTRO!$E$49=\"\",\"\",ROUND($D85*INTRO!$E$49,0))","v":54398},{"$f":"IF(INTRO!$E$50=\"\",\"\",ROUND($D85*INTRO!$E$50,0))","v":93845},99,99,3,3,{"$f":"IF(INTRO!$E$37=\"Endemic\",IF($H85>0,IF($H85=4,\"Unknown\",IF($H85=99,\"Stopped\",$D85)),0),\"Not required\")","v":"Stopped"},0,{"$f":"IF(INTRO!$E$41=\"Endemic\", IF($J85>1, IF($J85=4, \"Unknown\", IF($J85=99, \"Surveillance\", E85)), 0),\"Not required\")","v":25578},{"$f":"IF(INTRO!$E$41=\"Endemic\", IF($J85>1, IF($J85=4, \"Unknown\", IF($J85=99, \"Surveillance\", F85)), 0),\"Not required\")","v":54398},{"$f":"IF(INTRO!$E$41=\"Endemic\", IF($J85>1, IF($J85=4, \"Unknown\", IF($J85=99, \"Surveillance\", ROUND(D85*INTRO!$E$51,0))), 0),\"Not required\")","v":44491},{"$f":"IF(INTRO!$E$41=\"Endemic\", IF($J85>1, IF($J85=4, \"Unknown\", IF($J85=99, \"Surveillance\", SUM($N85:$P85))), 0),\"Not required\")","v":124467},0,44874,93845,{"$f":"IF(INTRO!$E$43=\"Endemic\", IF($K85>1, IF($K85=4, \"Unknown\", IF($K85=99, \"Surveillance\", SUM($R85:$T85))), 0),\"Not required\")","v":138719},0,0,1,1]
[{"$f":"IF(INTRO!$E$33<>0,INTRO!$E$33, \" \")","v":"Uganda"},"Northern","Arua City",416288,{"$f":"IF(INTRO!$E$48=\"\",\"\",ROUND($D86*INTRO!$E$48,0))","v":59113},{"$f":"IF(INTRO!$E$49=\"\",\"\",ROUND($D86*INTRO!$E$49,0))","v":125719},{"$f":"IF(INTRO!$E$50=\"\",\"\",ROUND($D86*INTRO!$E$50,0))","v":216886},99,0,3,3,{"$f":"IF(INTRO!$E$37=\"Endemic\",IF($H86>0,IF($H86=4,\"Unknown\",IF($H86=99,\"Stopped\",$D86)),0),\"Not required\")","v":"Stopped"},0,{"$f":"IF(INTRO!$E$41=\"Endemic\", IF($J86>1, IF($J86=4, \"Unknown\", IF($J86=99, \"Surveillance\", E86)), 0),\"Not required\")","v":59113},{"$f":"IF(INTRO!$E$41=\"Endemic\", IF($J86>1, IF($J86=4, \"Unknown\", IF($J86=99, \"Surveillance\", F86)), 0),\"Not required\")","v":125719},{"$f":"IF(INTRO!$E$41=\"Endemic\", IF($J86>1, IF($J86=4, \"Unknown\", IF($J86=99, \"Surveillance\", ROUND(D86*INTRO!$E$51,0))), 0),\"Not required\")","v":102823},{"$f":"IF(INTRO!$E$41=\"Endemic\", IF($J86>1, IF($J86=4, \"Unknown\", IF($J86=99, \"Surveillance\", SUM($N86:$P86))), 0),\"Not required\")","v":287655},0,125719,216886,{"$f":"IF(INTRO!$E$43=\"Endemic\", IF($K86>1, IF($K86=4, \"Unknown\", IF($K86=99, \"Surveillance\", SUM($R86:$T86))), 0),\"Not required\")","v":342605},0,0,1,1]
[{"$f":"IF(INTRO!$E$33<>0,INTRO!$E$33, \" \")","v":"Uganda"},"Northern","Dokolo",246089,{"$f":"IF(INTRO!$E$48=\"\",\"\",ROUND($D87*INTRO!$E$48,0))","v":34945},{"$f":"IF(INTRO!$E$49=\"\",\"\",ROUND($D87*INTRO!$E$49,0))","v":74319},{"$f":"IF(INTRO!$E$50=\"\",\"\",ROUND($D87*INTRO!$E$50,0))","v":128212},99,0,11,21,{"$f":"IF(INTRO!$E$37=\"Endemic\",IF($H87>0,IF($H87=4,\"Unknown\",IF($H87=99,\"Stopped\",$D87)),0),\"Not required\")","v":"Stopped"},0,{"$f":"IF(INTRO!$E$41=\"Endemic\", IF($J87>1, IF($J87=4, \"Unknown\", IF($J87=99, \"Surveillance\", E87)), 0),\"Not required\")","v":34945},{"$f":"IF(INTRO!$E$41=\"Endemic\", IF($J87>1, IF($J87=4, \"Unknown\", IF($J87=99, \"Surveillance\", F87)), 0),\"Not required\")","v":74319},{"$f":"IF(INTRO!$E$41=\"Endemic\", IF($J87>1, IF($J87=4, \"Unknown\", IF($J87=99, \"Surveillance\", ROUND(D87*INTRO!$E$51,0))), 0),\"Not required\")","v":60784},{"$f":"IF(INTRO!$E$41=\"Endemic\", IF($J87>1, IF($J87=4, \"Unknown\", IF($J87=99, \"Surveillance\", SUM($N87:$P87))), 0),\"Not required\")","v":170048},0,56148,25685,{"$f":"IF(INTRO!$E$43=\"Endemic\", IF($K87>1, IF($K87=4, \"Unknown\", IF($K87=99, \"Surveillance\", SUM($R87:$T87))), 0),\"Not required\")","v":81833},0,0,1,1]
[{"$f":"IF(INTRO!$E$33<>0,INTRO!$E$33, \" \")","v":"Uganda"},"Northern","Gulu",169578,{"$f":"IF(INTRO!$E$48=\"\",\"\",ROUND($D88*INTRO!$E$48,0))","v":24080},{"$f":"IF(INTRO!$E$49=\"\",\"\",ROUND($D88*INTRO!$E$49,0))","v":51213},{"$f":"IF(INTRO!$E$50=\"\",\"\",ROUND($D88*INTRO!$E$50,0))","v":88350},99,1,3,21,{"$f":"IF(INTRO!$E$37=\"Endemic\",IF($H88>0,IF($H88=4,\"Unknown\",IF($H88=99,\"Stopped\",$D88)),0),\"Not required\")","v":"Stopped"},148999,{"$f":"IF(INTRO!$E$41=\"Endemic\", IF($J88>1, IF($J88=4, \"Unknown\", IF($J88=99, \"Surveillance\", E88)), 0),\"Not required\")","v":24080},{"$f":"IF(INTRO!$E$41=\"Endemic\", IF($J88>1, IF($J88=4, \"Unknown\", IF($J88=99, \"Surveillance\", F88)), 0),\"Not required\")","v":51213},{"$f":"IF(INTRO!$E$41=\"Endemic\", IF($J88>1, IF($J88=4, \"Unknown\", IF($J88=99, \"Surveillance\", ROUND(D88*INTRO!$E$51,0))), 0),\"Not required\")","v":41886},{"$f":"IF(INTRO!$E$41=\"Endemic\", IF($J88>1, IF($J88=4, \"Unknown\", IF($J88=99, \"Surveillance\", SUM($N88:$P88))), 0),\"Not required\")","v":117179},0,51213,17699,{"$f":"IF(INTRO!$E$43=\"Endemic\", IF($K88>1, IF($K88=4, \"Unknown\", IF($K88=99, \"Surveillance\", SUM($R88:$T88))), 0),\"Not required\")","v":68912},0,2,1,1]
[{"$f":"IF(INTRO!$E$33<>0,INTRO!$E$33, \" \")","v":"Uganda"},"Northern","Gulu City",205250,{"$f":"IF(INTRO!$E$48=\"\",\"\",ROUND($D89*INTRO!$E$48,0))","v":29146},{"$f":"IF(INTRO!$E$49=\"\",\"\",ROUND($D89*INTRO!$E$49,0))","v":61986},{"$f":"IF(INTRO!$E$50=\"\",\"\",ROUND($D89*INTRO!$E$50,0))","v":106935},99,1,3,11,{"$f":"IF(INTRO!$E$37=\"Endemic\",IF($H89>0,IF($H89=4,\"Unknown\",IF($H89=99,\"Stopped\",$D89)),0),\"Not required\")","v":"Stopped"},0,{"$f":"IF(INTRO!$E$41=\"Endemic\", IF($J89>1, IF($J89=4, \"Unknown\", IF($J89=99, \"Surveillance\", E89)), 0),\"Not required\")","v":29146},{"$f":"IF(INTRO!$E$41=\"Endemic\", IF($J89>1, IF($J89=4, \"Unknown\", IF($J89=99, \"Surveillance\", F89)), 0),\"Not required\")","v":61986},{"$f":"IF(INTRO!$E$41=\"Endemic\", IF($J89>1, IF($J89=4, \"Unknown\", IF($J89=99, \"Surveillance\", ROUND(D89*INTRO!$E$51,0))), 0),\"Not required\")","v":50697},{"$f":"IF(INTRO!$E$41=\"Endemic\", IF($J89>1, IF($J89=4, \"Unknown\", IF($J89=99, \"Surveillance\", SUM($N89:$P89))), 0),\"Not required\")","v":141829},0,0,0,{"$f":"IF(INTRO!$E$43=\"Endemic\", IF($K89>1, IF($K89=4, \"Unknown\", IF($K89=99, \"Surveillance\", SUM($R89:$T89))), 0),\"Not required\")","v":0},0,0,1,1]
[{"$f":"IF(INTRO!$E$33<>0,INTRO!$E$33, \" \")","v":"Uganda"},"Northern","Kaabong",148879,{"$f":"IF(INTRO!$E$48=\"\",\"\",ROUND($D90*INTRO!$E$48,0))","v":21141},{"$f":"IF(INTRO!$E$49=\"\",\"\",ROUND($D90*INTRO!$E$49,0))","v":44961},{"$f":"IF(INTRO!$E$50=\"\",\"\",ROUND($D90*INTRO!$E$50,0))","v":77566},99,0,3,0,{"$f":"IF(INTRO!$E$37=\"Endemic\",IF($H90>0,IF($H90=4,\"Unknown\",IF($H90=99,\"Stopped\",$D90)),0),\"Not required\")","v":"Stopped"},0,{"$f":"IF(INTRO!$E$41=\"Endemic\", IF($J90>1, IF($J90=4, \"Unknown\", IF($J90=99, \"Surveillance\", E90)), 0),\"Not required\")","v":21141},{"$f":"IF(INTRO!$E$41=\"Endemic\", IF($J90>1, IF($J90=4, \"Unknown\", IF($J90=99, \"Surveillance\", F90)), 0),\"Not required\")","v":44961},{"$f":"IF(INTRO!$E$41=\"Endemic\", IF($J90>1, IF($J90=4, \"Unknown\", IF($J90=99, \"Surveillance\", ROUND(D90*INTRO!$E$51,0))), 0),\"Not required\")","v":36773},{"$f":"IF(INTRO!$E$41=\"Endemic\", IF($J90>1, IF($J90=4, \"Unknown\", IF($J90=99, \"Surveillance\", SUM($N90:$P90))), 0),\"Not required\")","v":102875},0,0,0,{"$f":"IF(INTRO!$E$43=\"Endemic\", IF($K90>1, IF($K90=4, \"Unknown\", IF($K90=99, \"Surveillance\", SUM($R90:$T90))), 0),\"Not required\")","v":0},0,0,1,0]
[{"$f":"IF(INTRO!$E$33<>0,INTRO!$E$33, \" \")","v":"Uganda"},"Northern","Karenga",79277,{"$f":"IF(INTRO!$E$48=\"\",\"\",ROUND($D91*INTRO!$E$48,0))","v":11257},{"$f":"IF(INTRO!$E$49=\"\",\"\",ROUND($D91*INTRO!$E$49,0))","v":23942},{"$f":"IF(INTRO!$E$50=\"\",\"\",ROUND($D91*INTRO!$E$50,0))","v":41303},99,0,3,0,{"$f":"IF(INTRO!$E$37=\"Endemic\",IF($H91>0,IF($H91=4,\"Unknown\",IF($H91=99,\"Stopped\",$D91)),0),\"Not required\")","v":"Stopped"},0,{"$f":"IF(INTRO!$E$41=\"Endemic\", IF($J91>1, IF($J91=4, \"Unknown\", IF($J91=99, \"Surveillance\", E91)), 0),\"Not required\")","v":11257},{"$f":"IF(INTRO!$E$41=\"Endemic\", IF($J91>1, IF($J91=4, \"Unknown\", IF($J91=99, \"Surveillance\", F91)), 0),\"Not required\")","v":23942},{"$f":"IF(INTRO!$E$41=\"Endemic\", IF($J91>1, IF($J91=4, \"Unknown\", IF($J91=99, \"Surveillance\", ROUND(D91*INTRO!$E$51,0))), 0),\"Not required\")","v":19581},{"$f":"IF(INTRO!$E$41=\"Endemic\", IF($J91>1, IF($J91=4, \"Unknown\", IF($J91=99, \"Surveillance\", SUM($N91:$P91))), 0),\"Not required\")","v":54780},0,0,0,{"$f":"IF(INTRO!$E$43=\"Endemic\", IF($K91>1, IF($K91=4, \"Unknown\", IF($K91=99, \"Surveillance\", SUM($R91:$T91))), 0),\"Not required\")","v":0},0,0,1,0]
[{"$f":"IF(INTRO!$E$33<>0,INTRO!$E$33, \" \")","v":"Uganda"},"Northern","Kitgum",274976,{"$f":"IF(INTRO!$E$48=\"\",\"\",ROUND($D92*INTRO!$E$48,0))","v":39047},{"$f":"IF(INTRO!$E$49=\"\",\"\",ROUND($D92*INTRO!$E$49,0))","v":83043},{"$f":"IF(INTRO!$E$50=\"\",\"\",ROUND($D92*INTRO!$E$50,0))","v":143262},99,1,3,3,{"$f":"IF(INTRO!$E$37=\"Endemic\",IF($H92>0,IF($H92=4,\"Unknown\",IF($H92=99,\"Stopped\",$D92)),0),\"Not required\")","v":"Stopped"},101222,{"$f":"IF(INTRO!$E$41=\"Endemic\", IF($J92>1, IF($J92=4, \"Unknown\", IF($J92=99, \"Surveillance\", E92)), 0),\"Not required\")","v":39047},{"$f":"IF(INTRO!$E$41=\"Endemic\", IF($J92>1, IF($J92=4, \"Unknown\", IF($J92=99, \"Surveillance\", F92)), 0),\"Not required\")","v":83043},{"$f":"IF(INTRO!$E$41=\"Endemic\", IF($J92>1, IF($J92=4, \"Unknown\", IF($J92=99, \"Surveillance\", ROUND(D92*INTRO!$E$51,0))), 0),\"Not required\")","v":67919},{"$f":"IF(INTRO!$E$41=\"Endemic\", IF($J92>1, IF($J92=4, \"Unknown\", IF($J92=99, \"Surveillance\", SUM($N92:$P92))), 0),\"Not required\")","v":190009},0,48857,143262,{"$f":"IF(INTRO!$E$43=\"Endemic\", IF($K92>1, IF($K92=4, \"Unknown\", IF($K92=99, \"Surveillance\", SUM($R92:$T92))), 0),\"Not required\")","v":192119},0,2,1,1]
[{"$f":"IF(INTRO!$E$33<>0,INTRO!$E$33, \" \")","v":"Uganda"},"Northern","Koboko",280570,{"$f":"IF(INTRO!$E$48=\"\",\"\",ROUND($D93*INTRO!$E$48,0))","v":39841},{"$f":"IF(INTRO!$E$49=\"\",\"\",ROUND($D93*INTRO!$E$49,0))","v":84732},{"$f":"IF(INTRO!$E$50=\"\",\"\",ROUND($D93*INTRO!$E$50,0))","v":146177},99,99,99,3,{"$f":"IF(INTRO!$E$37=\"Endemic\",IF($H93>0,IF($H93=4,\"Unknown\",IF($H93=99,\"Stopped\",$D93)),0),\"Not required\")","v":"Stopped"},0,{"$f":"IF(INTRO!$E$41=\"Endemic\", IF($J93>1, IF($J93=4, \"Unknown\", IF($J93=99, \"Surveillance\", E93)), 0),\"Not required\")","v":"Surveillance"},{"$f":"IF(INTRO!$E$41=\"Endemic\", IF($J93>1, IF($J93=4, \"Unknown\", IF($J93=99, \"Surveillance\", F93)), 0),\"Not required\")","v":"Surveillance"},{"$f":"IF(INTRO!$E$41=\"Endemic\", IF($J93>1, IF($J93=4, \"Unknown\", IF($J93=99, \"Surveillance\", ROUND(D93*INTRO!$E$51,0))), 0),\"Not required\")","v":"Surveillance"},{"$f":"IF(INTRO!$E$41=\"Endemic\", IF($J93>1, IF($J93=4, \"Unknown\", IF($J93=99, \"Surveillance\", SUM($N93:$P93))), 0),\"Not required\")","v":"Surveillance"},0,84732,146177,{"$f":"IF(INTRO!$E$43=\"Endemic\", IF($K93>1, IF($K93=4, \"Unknown\", IF($K93=99, \"Surveillance\", SUM($R93:$T93))), 0),\"Not required\")","v":230909},0,0,1,1]
[{"$f":"IF(INTRO!$E$33<>0,INTRO!$E$33, \" \")","v":"Uganda"},"Northern","Kole",326010,{"$f":"IF(INTRO!$E$48=\"\",\"\",ROUND($D94*INTRO!$E$48,0))","v":46293},{"$f":"IF(INTRO!$E$49=\"\",\"\",ROUND($D94*INTRO!$E$49,0))","v":98455},{"$f":"IF(INTRO!$E$50=\"\",\"\",ROUND($D94*INTRO!$E$50,0))","v":169851},99,0,3,0,{"$f":"IF(INTRO!$E$37=\"Endemic\",IF($H94>0,IF($H94=4,\"Unknown\",IF($H94=99,\"Stopped\",$D94)),0),\"Not required\")","v":"Stopped"},0,{"$f":"IF(INTRO!$E$41=\"Endemic\", IF($J94>1, IF($J94=4, \"Unknown\", IF($J94=99, \"Surveillance\", E94)), 0),\"Not required\")","v":46293},{"$f":"IF(INTRO!$E$41=\"Endemic\", IF($J94>1, IF($J94=4, \"Unknown\", IF($J94=99, \"Surveillance\", F94)), 0),\"Not required\")","v":98455},{"$f":"IF(INTRO!$E$41=\"Endemic\", IF($J94>1, IF($J94=4, \"Unknown\", IF($J94=99, \"Surveillance\", ROUND(D94*INTRO!$E$51,0))), 0),\"Not required\")","v":80524},{"$f":"IF(INTRO!$E$41=\"Endemic\", IF($J94>1, IF($J94=4, \"Unknown\", IF($J94=99, \"Surveillance\", SUM($N94:$P94))), 0),\"Not required\")","v":225272},0,0,0,{"$f":"IF(INTRO!$E$43=\"Endemic\", IF($K94>1, IF($K94=4, \"Unknown\", IF($K94=99, \"Surveillance\", SUM($R94:$T94))), 0),\"Not required\")","v":0},0,0,1,0]
[{"$f":"IF(INTRO!$E$33<>0,INTRO!$E$33, \" \")","v":"Uganda"},"Northern","Kotido",241143,{"$f":"IF(INTRO!$E$48=\"\",\"\",ROUND($D95*INTRO!$E$48,0))","v":34242},{"$f":"IF(INTRO!$E$49=\"\",\"\",ROUND($D95*INTRO!$E$49,0))","v":72825},{"$f":"IF(INTRO!$E$50=\"\",\"\",ROUND($D95*INTRO!$E$50,0))","v":125636},99,0,3,0,{"$f":"IF(INTRO!$E$37=\"Endemic\",IF($H95>0,IF($H95=4,\"Unknown\",IF($H95=99,\"Stopped\",$D95)),0),\"Not required\")","v":"Stopped"},0,{"$f":"IF(INTRO!$E$41=\"Endemic\", IF($J95>1, IF($J95=4, \"Unknown\", IF($J95=99, \"Surveillance\", E95)), 0),\"Not required\")","v":34242},{"$f":"IF(INTRO!$E$41=\"Endemic\", IF($J95>1, IF($J95=4, \"Unknown\", IF($J95=99, \"Surveillance\", F95)), 0),\"Not required\")","v":72825},{"$f":"IF(INTRO!$E$41=\"Endemic\", IF($J95>1, IF($J95=4, \"Unknown\", IF($J95=99, \"Surveillance\", ROUND(D95*INTRO!$E$51,0))), 0),\"Not required\")","v":59562},{"$f":"IF(INTRO!$E$41=\"Endemic\", IF($J95>1, IF($J95=4, \"Unknown\", IF($J95=99, \"Surveillance\", SUM($N95:$P95))), 0),\"Not required\")","v":166629},0,0,0,{"$f":"IF(INTRO!$E$43=\"Endemic\", IF($K95>1, IF($K95=4, \"Unknown\", IF($K95=99, \"Surveillance\", SUM($R95:$T95))), 0),\"Not required\")","v":0},0,0,1,0]
[{"$f":"IF(INTRO!$E$33<>0,INTRO!$E$33, \" \")","v":"Uganda"},"Northern","Kwania",247203,{"$f":"IF(INTRO!$E$48=\"\",\"\",ROUND($D96*INTRO!$E$48,0))","v":35103},{"$f":"IF(INTRO!$E$49=\"\",\"\",ROUND($D96*INTRO!$E$49,0))","v":74655},{"$f":"IF(INTRO!$E$50=\"\",\"\",ROUND($D96*INTRO!$E$50,0))","v":128793},99,0,11,11,{"$f":"IF(INTRO!$E$37=\"Endemic\",IF($H96>0,IF($H96=4,\"Unknown\",IF($H96=99,\"Stopped\",$D96)),0),\"Not required\")","v":"Stopped"},0,{"$f":"IF(INTRO!$E$41=\"Endemic\", IF($J96>1, IF($J96=4, \"Unknown\", IF($J96=99, \"Surveillance\", E96)), 0),\"Not required\")","v":35103},{"$f":"IF(INTRO!$E$41=\"Endemic\", IF($J96>1, IF($J96=4, \"Unknown\", IF($J96=99, \"Surveillance\", F96)), 0),\"Not required\")","v":74655},{"$f":"IF(INTRO!$E$41=\"Endemic\", IF($J96>1, IF($J96=4, \"Unknown\", IF($J96=99, \"Surveillance\", ROUND(D96*INTRO!$E$51,0))), 0),\"Not required\")","v":61059},{"$f":"IF(INTRO!$E$41=\"Endemic\", IF($J96>1, IF($J96=4, \"Unknown\", IF($J96=99, \"Surveillance\", SUM($N96:$P96))), 0),\"Not required\")","v":170817},0,47247,0,{"$f":"IF(INTRO!$E$43=\"Endemic\", IF($K96>1, IF($K96=4, \"Unknown\", IF($K96=99, \"Surveillance\", SUM($R96:$T96))), 0),\"Not required\")","v":47247},0,0,1,1]
[{"$f":"IF(INTRO!$E$33<>0,INTRO!$E$33, \" \")","v":"Uganda"},"Northern","Lamwo",180684,{"$f":"IF(INTRO!$E$48=\"\",\"\",ROUND($D97*INTRO!$E$48,0))","v":25657},{"$f":"IF(INTRO!$E$49=\"\",\"\",ROUND($D97*INTRO!$E$49,0))","v":54567},{"$f":"IF(INTRO!$E$50=\"\",\"\",ROUND($D97*INTRO!$E$50,0))","v":94136},99,1,3,11,{"$f":"IF(INTRO!$E$37=\"Endemic\",IF($H97>0,IF($H97=4,\"Unknown\",IF($H97=99,\"Stopped\",$D97)),0),\"Not required\")","v":"Stopped"},149015,{"$f":"IF(INTRO!$E$41=\"Endemic\", IF($J97>1, IF($J97=4, \"Unknown\", IF($J97=99, \"Surveillance\", E97)), 0),\"Not required\")","v":25657},{"$f":"IF(INTRO!$E$41=\"Endemic\", IF($J97>1, IF($J97=4, \"Unknown\", IF($J97=99, \"Surveillance\", F97)), 0),\"Not required\")","v":54567},{"$f":"IF(INTRO!$E$41=\"Endemic\", IF($J97>1, IF($J97=4, \"Unknown\", IF($J97=99, \"Surveillance\", ROUND(D97*INTRO!$E$51,0))), 0),\"Not required\")","v":44629},{"$f":"IF(INTRO!$E$41=\"Endemic\", IF($J97>1, IF($J97=4, \"Unknown\", IF($J97=99, \"Surveillance\", SUM($N97:$P97))), 0),\"Not required\")","v":124853},0,54567,0,{"$f":"IF(INTRO!$E$43=\"Endemic\", IF($K97>1, IF($K97=4, \"Unknown\", IF($K97=99, \"Surveillance\", SUM($R97:$T97))), 0),\"Not required\")","v":54567},0,2,1,1]
[{"$f":"IF(INTRO!$E$33<>0,INTRO!$E$33, \" \")","v":"Uganda"},"Northern","Lira",419795,{"$f":"IF(INTRO!$E$48=\"\",\"\",ROUND($D98*INTRO!$E$48,0))","v":59611},{"$f":"IF(INTRO!$E$49=\"\",\"\",ROUND($D98*INTRO!$E$49,0))","v":126778},{"$f":"IF(INTRO!$E$50=\"\",\"\",ROUND($D98*INTRO!$E$50,0))","v":218713},99,1,3,3,{"$f":"IF(INTRO!$E$37=\"Endemic\",IF($H98>0,IF($H98=4,\"Unknown\",IF($H98=99,\"Stopped\",$D98)),0),\"Not required\")","v":"Stopped"},75632,{"$f":"IF(INTRO!$E$41=\"Endemic\", IF($J98>1, IF($J98=4, \"Unknown\", IF($J98=99, \"Surveillance\", E98)), 0),\"Not required\")","v":59611},{"$f":"IF(INTRO!$E$41=\"Endemic\", IF($J98>1, IF($J98=4, \"Unknown\", IF($J98=99, \"Surveillance\", F98)), 0),\"Not required\")","v":126778},{"$f":"IF(INTRO!$E$41=\"Endemic\", IF($J98>1, IF($J98=4, \"Unknown\", IF($J98=99, \"Surveillance\", ROUND(D98*INTRO!$E$51,0))), 0),\"Not required\")","v":103689},{"$f":"IF(INTRO!$E$41=\"Endemic\", IF($J98>1, IF($J98=4, \"Unknown\", IF($J98=99, \"Surveillance\", SUM($N98:$P98))), 0),\"Not required\")","v":290078},0,86104,218713,{"$f":"IF(INTRO!$E$43=\"Endemic\", IF($K98>1, IF($K98=4, \"Unknown\", IF($K98=99, \"Surveillance\", SUM($R98:$T98))), 0),\"Not required\")","v":304817},0,2,1,1]
[{"$f":"IF(INTRO!$E$33<>0,INTRO!$E$33, \" \")","v":"Uganda"},"Northern","Lira City",133511,{"$f":"IF(INTRO!$E$48=\"\",\"\",ROUND($D99*INTRO!$E$48,0))","v":18959},{"$f":"IF(INTRO!$E$49=\"\",\"\",ROUND($D99*INTRO!$E$49,0))","v":40320},{"$f":"IF(INTRO!$E$50=\"\",\"\",ROUND($D99*INTRO!$E$50,0))","v":69559},99,0,3,0,{"$f":"IF(INTRO!$E$37=\"Endemic\",IF($H99>0,IF($H99=4,\"Unknown\",IF($H99=99,\"Stopped\",$D99)),0),\"Not required\")","v":"Stopped"},0,{"$f":"IF(INTRO!$E$41=\"Endemic\", IF($J99>1, IF($J99=4, \"Unknown\", IF($J99=99, \"Surveillance\", E99)), 0),\"Not required\")","v":18959},{"$f":"IF(INTRO!$E$41=\"Endemic\", IF($J99>1, IF($J99=4, \"Unknown\", IF($J99=99, \"Surveillance\", F99)), 0),\"Not required\")","v":40320},{"$f":"IF(INTRO!$E$41=\"Endemic\", IF($J99>1, IF($J99=4, \"Unknown\", IF($J99=99, \"Surveillance\", ROUND(D99*INTRO!$E$51,0))), 0),\"Not required\")","v":32977},{"$f":"IF(INTRO!$E$41=\"Endemic\", IF($J99>1, IF($J99=4, \"Unknown\", IF($J99=99, \"Surveillance\", SUM($N99:$P99))), 0),\"Not required\")","v":92256},0,0,0,{"$f":"IF(INTRO!$E$43=\"Endemic\", IF($K99>1, IF($K99=4, \"Unknown\", IF($K99=99, \"Surveillance\", SUM($R99:$T99))), 0),\"Not required\")","v":0},0,0,1,0]
[{"$f":"IF(INTRO!$E$33<>0,INTRO!$E$33, \" \")","v":"Uganda"},"Northern","Madi Okollo",186916,{"$f":"IF(INTRO!$E$48=\"\",\"\",ROUND($D100*INTRO!$E$48,0))","v":26542},{"$f":"IF(INTRO!$E$49=\"\",\"\",ROUND($D100*INTRO!$E$49,0))","v":56449},{"$f":"IF(INTRO!$E$50=\"\",\"\",ROUND($D100*INTRO!$E$50,0))","v":97383},99,99,3,21,{"$f":"IF(INTRO!$E$37=\"Endemic\",IF($H100>0,IF($H100=4,\"Unknown\",IF($H100=99,\"Stopped\",$D100)),0),\"Not required\")","v":"Stopped"},0,{"$f":"IF(INTRO!$E$41=\"Endemic\", IF($J100>1, IF($J100=4, \"Unknown\", IF($J100=99, \"Surveillance\", E100)), 0),\"Not required\")","v":26542},{"$f":"IF(INTRO!$E$41=\"Endemic\", IF($J100>1, IF($J100=4, \"Unknown\", IF($J100=99, \"Surveillance\", F100)), 0),\"Not required\")","v":56449},{"$f":"IF(INTRO!$E$41=\"Endemic\", IF($J100>1, IF($J100=4, \"Unknown\", IF($J100=99, \"Surveillance\", ROUND(D100*INTRO!$E$51,0))), 0),\"Not required\")","v":46168},{"$f":"IF(INTRO!$E$41=\"Endemic\", IF($J100>1, IF($J100=4, \"Unknown\", IF($J100=99, \"Surveillance\", SUM($N100:$P100))), 0),\"Not required\")","v":129159},0,40070,19509,{"$f":"IF(INTRO!$E$43=\"Endemic\", IF($K100>1, IF($K100=4, \"Unknown\", IF($K100=99, \"Surveillance\", SUM($R100:$T100))), 0),\"Not required\")","v":59579},0,0,1,1]
[{"$f":"IF(INTRO!$E$33<>0,INTRO!$E$33, \" \")","v":"Uganda"},"Northern","Maracha",250932,{"$f":"IF(INTRO!$E$48=\"\",\"\",ROUND($D101*INTRO!$E$48,0))","v":35632},{"$f":"IF(INTRO!$E$49=\"\",\"\",ROUND($D101*INTRO!$E$49,0))","v":75781},{"$f":"IF(INTRO!$E$50=\"\",\"\",ROUND($D101*INTRO!$E$50,0))","v":130736},99,99,99,31,{"$f":"IF(INTRO!$E$37=\"Endemic\",IF($H101>0,IF($H101=4,\"Unknown\",IF($H101=99,\"Stopped\",$D101)),0),\"Not required\")","v":"Stopped"},0,{"$f":"IF(INTRO!$E$41=\"Endemic\", IF($J101>1, IF($J101=4, \"Unknown\", IF($J101=99, \"Surveillance\", E101)), 0),\"Not required\")","v":"Surveillance"},{"$f":"IF(INTRO!$E$41=\"Endemic\", IF($J101>1, IF($J101=4, \"Unknown\", IF($J101=99, \"Surveillance\", F101)), 0),\"Not required\")","v":"Surveillance"},{"$f":"IF(INTRO!$E$41=\"Endemic\", IF($J101>1, IF($J101=4, \"Unknown\", IF($J101=99, \"Surveillance\", ROUND(D101*INTRO!$E$51,0))), 0),\"Not required\")","v":"Surveillance"},{"$f":"IF(INTRO!$E$41=\"Endemic\", IF($J101>1, IF($J101=4, \"Unknown\", IF($J101=99, \"Surveillance\", SUM($N101:$P101))), 0),\"Not required\")","v":"Surveillance"},0,70571,130736,{"$f":"IF(INTRO!$E$43=\"Endemic\", IF($K101>1, IF($K101=4, \"Unknown\", IF($K101=99, \"Surveillance\", SUM($R101:$T101))), 0),\"Not required\")","v":201307},0,0,1,1]
[{"$f":"IF(INTRO!$E$33<>0,INTRO!$E$33, \" \")","v":"Uganda"},"Northern","Moroto",140900,{"$f":"IF(INTRO!$E$48=\"\",\"\",ROUND($D102*INTRO!$E$48,0))","v":20008},{"$f":"IF(INTRO!$E$49=\"\",\"\",ROUND($D102*INTRO!$E$49,0))","v":42552},{"$f":"IF(INTRO!$E$50=\"\",\"\",ROUND($D102*INTRO!$E$50,0))","v":73409},99,0,3,0,{"$f":"IF(INTRO!$E$37=\"Endemic\",IF($H102>0,IF($H102=4,\"Unknown\",IF($H102=99,\"Stopped\",$D102)),0),\"Not required\")","v":"Stopped"},0,{"$f":"IF(INTRO!$E$41=\"Endemic\", IF($J102>1, IF($J102=4, \"Unknown\", IF($J102=99, \"Surveillance\", E102)), 0),\"Not required\")","v":20008},{"$f":"IF(INTRO!$E$41=\"Endemic\", IF($J102>1, IF($J102=4, \"Unknown\", IF($J102=99, \"Surveillance\", F102)), 0),\"Not required\")","v":42552},{"$f":"IF(INTRO!$E$41=\"Endemic\", IF($J102>1, IF($J102=4, \"Unknown\", IF($J102=99, \"Surveillance\", ROUND(D102*INTRO!$E$51,0))), 0),\"Not required\")","v":34802},{"$f":"IF(INTRO!$E$41=\"Endemic\", IF($J102>1, IF($J102=4, \"Unknown\", IF($J102=99, \"Surveillance\", SUM($N102:$P102))), 0),\"Not required\")","v":97362},0,0,0,{"$f":"IF(INTRO!$E$43=\"Endemic\", IF($K102>1, IF($K102=4, \"Unknown\", IF($K102=99, \"Surveillance\", SUM($R102:$T102))), 0),\"Not required\")","v":0},0,0,1,0]
[{"$f":"IF(INTRO!$E$33<>0,INTRO!$E$33, \" \")","v":"Uganda"},"Northern","Moyo",127161,{"$f":"IF(INTRO!$E$48=\"\",\"\",ROUND($D103*INTRO!$E$48,0))","v":18057},{"$f":"IF(INTRO!$E$49=\"\",\"\",ROUND($D103*INTRO!$E$49,0))","v":38403},{"$f":"IF(INTRO!$E$50=\"\",\"\",ROUND($D103*INTRO!$E$50,0))","v":66251},99,1,3,21,{"$f":"IF(INTRO!$E$37=\"Endemic\",IF($H103>0,IF($H103=4,\"Unknown\",IF($H103=99,\"Stopped\",$D103)),0),\"Not required\")","v":"Stopped"},98811,{"$f":"IF(INTRO!$E$41=\"Endemic\", IF($J103>1, IF($J103=4, \"Unknown\", IF($J103=99, \"Surveillance\", E103)), 0),\"Not required\")","v":18057},{"$f":"IF(INTRO!$E$41=\"Endemic\", IF($J103>1, IF($J103=4, \"Unknown\", IF($J103=99, \"Surveillance\", F103)), 0),\"Not required\")","v":38403},{"$f":"IF(INTRO!$E$41=\"Endemic\", IF($J103>1, IF($J103=4, \"Unknown\", IF($J103=99, \"Surveillance\", ROUND(D103*INTRO!$E$51,0))), 0),\"Not required\")","v":31409},{"$f":"IF(INTRO!$E$41=\"Endemic\", IF($J103>1, IF($J103=4, \"Unknown\", IF($J103=99, \"Surveillance\", SUM($N103:$P103))), 0),\"Not required\")","v":87869},0,10208,13272,{"$f":"IF(INTRO!$E$43=\"Endemic\", IF($K103>1, IF($K103=4, \"Unknown\", IF($K103=99, \"Surveillance\", SUM($R103:$T103))), 0),\"Not required\")","v":23480},0,2,1,1]
[{"$f":"IF(INTRO!$E$33<>0,INTRO!$E$33, \" \")","v":"Uganda"},"Northern","Nabilatuk",93908,{"$f":"IF(INTRO!$E$48=\"\",\"\",ROUND($D104*INTRO!$E$48,0))","v":13335},{"$f":"IF(INTRO!$E$49=\"\",\"\",ROUND($D104*INTRO!$E$49,0))","v":28360},{"$f":"IF(INTRO!$E$50=\"\",\"\",ROUND($D104*INTRO!$E$50,0))","v":48926},99,0,3,0,{"$f":"IF(INTRO!$E$37=\"Endemic\",IF($H104>0,IF($H104=4,\"Unknown\",IF($H104=99,\"Stopped\",$D104)),0),\"Not required\")","v":"Stopped"},0,{"$f":"IF(INTRO!$E$41=\"Endemic\", IF($J104>1, IF($J104=4, \"Unknown\", IF($J104=99, \"Surveillance\", E104)), 0),\"Not required\")","v":13335},{"$f":"IF(INTRO!$E$41=\"Endemic\", IF($J104>1, IF($J104=4, \"Unknown\", IF($J104=99, \"Surveillance\", F104)), 0),\"Not required\")","v":28360},{"$f":"IF(INTRO!$E$41=\"Endemic\", IF($J104>1, IF($J104=4, \"Unknown\", IF($J104=99, \"Surveillance\", ROUND(D104*INTRO!$E$51,0))), 0),\"Not required\")","v":23195},{"$f":"IF(INTRO!$E$41=\"Endemic\", IF($J104>1, IF($J104=4, \"Unknown\", IF($J104=99, \"Surveillance\", SUM($N104:$P104))), 0),\"Not required\")","v":64890},0,0,0,{"$f":"IF(INTRO!$E$43=\"Endemic\", IF($K104>1, IF($K104=4, \"Unknown\", IF($K104=99, \"Surveillance\", SUM($R104:$T104))), 0),\"Not required\")","v":0},0,0,1,0]
[{"$f":"IF(INTRO!$E$33<>0,INTRO!$E$33, \" \")","v":"Uganda"},"Northern","Nakapiripirit",134799,{"$f":"IF(INTRO!$E$48=\"\",\"\",ROUND($D105*INTRO!$E$48,0))","v":19141},{"$f":"IF(INTRO!$E$49=\"\",\"\",ROUND($D105*INTRO!$E$49,0))","v":40709},{"$f":"IF(INTRO!$E$50=\"\",\"\",ROUND($D105*INTRO!$E$50,0))","v":70230},99,0,99,21,{"$f":"IF(INTRO!$E$37=\"Endemic\",IF($H105>0,IF($H105=4,\"Unknown\",IF($H105=99,\"Stopped\",$D105)),0),\"Not required\")","v":"Stopped"},0,{"$f":"IF(INTRO!$E$41=\"Endemic\", IF($J105>1, IF($J105=4, \"Unknown\", IF($J105=99, \"Surveillance\", E105)), 0),\"Not required\")","v":"Surveillance"},{"$f":"IF(INTRO!$E$41=\"Endemic\", IF($J105>1, IF($J105=4, \"Unknown\", IF($J105=99, \"Surveillance\", F105)), 0),\"Not required\")","v":"Surveillance"},{"$f":"IF(INTRO!$E$41=\"Endemic\", IF($J105>1, IF($J105=4, \"Unknown\", IF($J105=99, \"Surveillance\", ROUND(D105*INTRO!$E$51,0))), 0),\"Not required\")","v":"Surveillance"},{"$f":"IF(INTRO!$E$41=\"Endemic\", IF($J105>1, IF($J105=4, \"Unknown\", IF($J105=99, \"Surveillance\", SUM($N105:$P105))), 0),\"Not required\")","v":"Surveillance"},0,10254,14069,{"$f":"IF(INTRO!$E$43=\"Endemic\", IF($K105>1, IF($K105=4, \"Unknown\", IF($K105=99, \"Surveillance\", SUM($R105:$T105))), 0),\"Not required\")","v":24323},0,0,1,1]
[{"$f":"IF(INTRO!$E$33<>0,INTRO!$E$33, \" \")","v":"Uganda"},"Northern","Napak",195734,{"$f":"IF(INTRO!$E$48=\"\",\"\",ROUND($D106*INTRO!$E$48,0))","v":27794},{"$f":"IF(INTRO!$E$49=\"\",\"\",ROUND($D106*INTRO!$E$49,0))","v":59112},{"$f":"IF(INTRO!$E$50=\"\",\"\",ROUND($D106*INTRO!$E$50,0))","v":101977},99,0,3,0,{"$f":"IF(INTRO!$E$37=\"Endemic\",IF($H106>0,IF($H106=4,\"Unknown\",IF($H106=99,\"Stopped\",$D106)),0),\"Not required\")","v":"Stopped"},0,{"$f":"IF(INTRO!$E$41=\"Endemic\", IF($J106>1, IF($J106=4, \"Unknown\", IF($J106=99, \"Surveillance\", E106)), 0),\"Not required\")","v":27794},{"$f":"IF(INTRO!$E$41=\"Endemic\", IF($J106>1, IF($J106=4, \"Unknown\", IF($J106=99, \"Surveillance\", F106)), 0),\"Not required\")","v":59112},{"$f":"IF(INTRO!$E$41=\"Endemic\", IF($J106>1, IF($J106=4, \"Unknown\", IF($J106=99, \"Surveillance\", ROUND(D106*INTRO!$E$51,0))), 0),\"Not required\")","v":48346},{"$f":"IF(INTRO!$E$41=\"Endemic\", IF($J106>1, IF($J106=4, \"Unknown\", IF($J106=99, \"Surveillance\", SUM($N106:$P106))), 0),\"Not required\")","v":135252},0,0,0,{"$f":"IF(INTRO!$E$43=\"Endemic\", IF($K106>1, IF($K106=4, \"Unknown\", IF($K106=99, \"Surveillance\", SUM($R106:$T106))), 0),\"Not required\")","v":0},0,0,1,0]
[{"$f":"IF(INTRO!$E$33<>0,INTRO!$E$33, \" \")","v":"Uganda"},"Northern","Nebbi",319781,{"$f":"IF(INTRO!$E$48=\"\",\"\",ROUND($D107*INTRO!$E$48,0))","v":45409},{"$f":"IF(INTRO!$E$49=\"\",\"\",ROUND($D107*INTRO!$E$49,0))","v":96574},{"$f":"IF(INTRO!$E$50=\"\",\"\",ROUND($D107*INTRO!$E$50,0))","v":166606},99,99,3,0,{"$f":"IF(INTRO!$E$37=\"Endemic\",IF($H107>0,IF($H107=4,\"Unknown\",IF($H107=99,\"Stopped\",$D107)),0),\"Not required\")","v":"Stopped"},0,{"$f":"IF(INTRO!$E$41=\"Endemic\", IF($J107>1, IF($J107=4, \"Unknown\", IF($J107=99, \"Surveillance\", E107)), 0),\"Not required\")","v":45409},{"$f":"IF(INTRO!$E$41=\"Endemic\", IF($J107>1, IF($J107=4, \"Unknown\", IF($J107=99, \"Surveillance\", F107)), 0),\"Not required\")","v":96574},{"$f":"IF(INTRO!$E$41=\"Endemic\", IF($J107>1, IF($J107=4, \"Unknown\", IF($J107=99, \"Surveillance\", ROUND(D107*INTRO!$E$51,0))), 0),\"Not required\")","v":78986},{"$f":"IF(INTRO!$E$41=\"Endemic\", IF($J107>1, IF($J107=4, \"Unknown\", IF($J107=99, \"Surveillance\", SUM($N107:$P107))), 0),\"Not required\")","v":220969},0,0,0,{"$f":"IF(INTRO!$E$43=\"Endemic\", IF($K107>1, IF($K107=4, \"Unknown\", IF($K107=99, \"Surveillance\", SUM($R107:$T107))), 0),\"Not required\")","v":0},0,0,1,0]
[{"$f":"IF(INTRO!$E$33<>0,INTRO!$E$33, \" \")","v":"Uganda"},"Northern","Nwoya",172654,{"$f":"IF(INTRO!$E$48=\"\",\"\",ROUND($D108*INTRO!$E$48,0))","v":24517},{"$f":"IF(INTRO!$E$49=\"\",\"\",ROUND($D108*INTRO!$E$49,0))","v":52142},{"$f":"IF(INTRO!$E$50=\"\",\"\",ROUND($D108*INTRO!$E$50,0))","v":89953},99,1,3,21,{"$f":"IF(INTRO!$E$37=\"Endemic\",IF($H108>0,IF($H108=4,\"Unknown\",IF($H108=99,\"Stopped\",$D108)),0),\"Not required\")","v":"Stopped"},170085,{"$f":"IF(INTRO!$E$41=\"Endemic\", IF($J108>1, IF($J108=4, \"Unknown\", IF($J108=99, \"Surveillance\", E108)), 0),\"Not required\")","v":24517},{"$f":"IF(INTRO!$E$41=\"Endemic\", IF($J108>1, IF($J108=4, \"Unknown\", IF($J108=99, \"Surveillance\", F108)), 0),\"Not required\")","v":52142},{"$f":"IF(INTRO!$E$41=\"Endemic\", IF($J108>1, IF($J108=4, \"Unknown\", IF($J108=99, \"Surveillance\", ROUND(D108*INTRO!$E$51,0))), 0),\"Not required\")","v":42646},{"$f":"IF(INTRO!$E$41=\"Endemic\", IF($J108>1, IF($J108=4, \"Unknown\", IF($J108=99, \"Surveillance\", SUM($N108:$P108))), 0),\"Not required\")","v":119305},0,46750,18020,{"$f":"IF(INTRO!$E$43=\"Endemic\", IF($K108>1, IF($K108=4, \"Unknown\", IF($K108=99, \"Surveillance\", SUM($R108:$T108))), 0),\"Not required\")","v":64770},0,2,1,1]
[{"$f":"IF(INTRO!$E$33<>0,INTRO!$E$33, \" \")","v":"Uganda"},"Northern","Obongi",58147,{"$f":"IF(INTRO!$E$48=\"\",\"\",ROUND($D109*INTRO!$E$48,0))","v":8257},{"$f":"IF(INTRO!$E$49=\"\",\"\",ROUND($D109*INTRO!$E$49,0))","v":17560},{"$f":"IF(INTRO!$E$50=\"\",\"\",ROUND($D109*INTRO!$E$50,0))","v":30295},99,99,3,21,{"$f":"IF(INTRO!$E$37=\"Endemic\",IF($H109>0,IF($H109=4,\"Unknown\",IF($H109=99,\"Stopped\",$D109)),0),\"Not required\")","v":"Stopped"},0,{"$f":"IF(INTRO!$E$41=\"Endemic\", IF($J109>1, IF($J109=4, \"Unknown\", IF($J109=99, \"Surveillance\", E109)), 0),\"Not required\")","v":8257},{"$f":"IF(INTRO!$E$41=\"Endemic\", IF($J109>1, IF($J109=4, \"Unknown\", IF($J109=99, \"Surveillance\", F109)), 0),\"Not required\")","v":17560},{"$f":"IF(INTRO!$E$41=\"Endemic\", IF($J109>1, IF($J109=4, \"Unknown\", IF($J109=99, \"Surveillance\", ROUND(D109*INTRO!$E$51,0))), 0),\"Not required\")","v":14362},{"$f":"IF(INTRO!$E$41=\"Endemic\", IF($J109>1, IF($J109=4, \"Unknown\", IF($J109=99, \"Surveillance\", SUM($N109:$P109))), 0),\"Not required\")","v":40179},0,17560,6069,{"$f":"IF(INTRO!$E$43=\"Endemic\", IF($K109>1, IF($K109=4, \"Unknown\", IF($K109=99, \"Surveillance\", SUM($R109:$T109))), 0),\"Not required\")","v":23629},0,0,1,1]
[{"$f":"IF(INTRO!$E$33<>0,INTRO!$E$33, \" \")","v":"Uganda"},"Northern","Omoro",223255,{"$f":"IF(INTRO!$E$48=\"\",\"\",ROUND($D110*INTRO!$E$48,0))","v":31702},{"$f":"IF(INTRO!$E$49=\"\",\"\",ROUND($D110*INTRO!$E$49,0))","v":67423},{"$f":"IF(INTRO!$E$50=\"\",\"\",ROUND($D110*INTRO!$E$50,0))","v":116316},99,1,3,21,{"$f":"IF(INTRO!$E$37=\"Endemic\",IF($H110>0,IF($H110=4,\"Unknown\",IF($H110=99,\"Stopped\",$D110)),0),\"Not required\")","v":"Stopped"},188926,{"$f":"IF(INTRO!$E$41=\"Endemic\", IF($J110>1, IF($J110=4, \"Unknown\", IF($J110=99, \"Surveillance\", E110)), 0),\"Not required\")","v":31702},{"$f":"IF(INTRO!$E$41=\"Endemic\", IF($J110>1, IF($J110=4, \"Unknown\", IF($J110=99, \"Surveillance\", F110)), 0),\"Not required\")","v":67423},{"$f":"IF(INTRO!$E$41=\"Endemic\", IF($J110>1, IF($J110=4, \"Unknown\", IF($J110=99, \"Surveillance\", ROUND(D110*INTRO!$E$51,0))), 0),\"Not required\")","v":55144},{"$f":"IF(INTRO!$E$41=\"Endemic\", IF($J110>1, IF($J110=4, \"Unknown\", IF($J110=99, \"Surveillance\", SUM($N110:$P110))), 0),\"Not required\")","v":154269},0,44411,23302,{"$f":"IF(INTRO!$E$43=\"Endemic\", IF($K110>1, IF($K110=4, \"Unknown\", IF($K110=99, \"Surveillance\", SUM($R110:$T110))), 0),\"Not required\")","v":67713},0,2,1,1]
[{"$f":"IF(INTRO!$E$33<>0,INTRO!$E$33, \" \")","v":"Uganda"},"Northern","Otuke",142358,{"$f":"IF(INTRO!$E$48=\"\",\"\",ROUND($D111*INTRO!$E$48,0))","v":20215},{"$f":"IF(INTRO!$E$49=\"\",\"\",ROUND($D111*INTRO!$E$49,0))","v":42992},{"$f":"IF(INTRO!$E$50=\"\",\"\",ROUND($D111*INTRO!$E$50,0))","v":74169},99,0,3,0,{"$f":"IF(INTRO!$E$37=\"Endemic\",IF($H111>0,IF($H111=4,\"Unknown\",IF($H111=99,\"Stopped\",$D111)),0),\"Not required\")","v":"Stopped"},0,{"$f":"IF(INTRO!$E$41=\"Endemic\", IF($J111>1, IF($J111=4, \"Unknown\", IF($J111=99, \"Surveillance\", E111)), 0),\"Not required\")","v":20215},{"$f":"IF(INTRO!$E$41=\"Endemic\", IF($J111>1, IF($J111=4, \"Unknown\", IF($J111=99, \"Surveillance\", F111)), 0),\"Not required\")","v":42992},{"$f":"IF(INTRO!$E$41=\"Endemic\", IF($J111>1, IF($J111=4, \"Unknown\", IF($J111=99, \"Surveillance\", ROUND(D111*INTRO!$E$51,0))), 0),\"Not required\")","v":35162},{"$f":"IF(INTRO!$E$41=\"Endemic\", IF($J111>1, IF($J111=4, \"Unknown\", IF($J111=99, \"Surveillance\", SUM($N111:$P111))), 0),\"Not required\")","v":98369},0,0,0,{"$f":"IF(INTRO!$E$43=\"Endemic\", IF($K111>1, IF($K111=4, \"Unknown\", IF($K111=99, \"Surveillance\", SUM($R111:$T111))), 0),\"Not required\")","v":0},0,0,1,0]
[{"$f":"IF(INTRO!$E$33<>0,INTRO!$E$33, \" \")","v":"Uganda"},"Northern","Oyam",522978,{"$f":"IF(INTRO!$E$48=\"\",\"\",ROUND($D112*INTRO!$E$48,0))","v":74263},{"$f":"IF(INTRO!$E$49=\"\",\"\",ROUND($D112*INTRO!$E$49,0))","v":157939},{"$f":"IF(INTRO!$E$50=\"\",\"\",ROUND($D112*INTRO!$E$50,0))","v":272472},99,1,3,3,{"$f":"IF(INTRO!$E$37=\"Endemic\",IF($H112>0,IF($H112=4,\"Unknown\",IF($H112=99,\"Stopped\",$D112)),0),\"Not required\")","v":"Stopped"},27249,{"$f":"IF(INTRO!$E$41=\"Endemic\", IF($J112>1, IF($J112=4, \"Unknown\", IF($J112=99, \"Surveillance\", E112)), 0),\"Not required\")","v":74263},{"$f":"IF(INTRO!$E$41=\"Endemic\", IF($J112>1, IF($J112=4, \"Unknown\", IF($J112=99, \"Surveillance\", F112)), 0),\"Not required\")","v":157939},{"$f":"IF(INTRO!$E$41=\"Endemic\", IF($J112>1, IF($J112=4, \"Unknown\", IF($J112=99, \"Surveillance\", ROUND(D112*INTRO!$E$51,0))), 0),\"Not required\")","v":129176},{"$f":"IF(INTRO!$E$41=\"Endemic\", IF($J112>1, IF($J112=4, \"Unknown\", IF($J112=99, \"Surveillance\", SUM($N112:$P112))), 0),\"Not required\")","v":361378},0,111559,272472,{"$f":"IF(INTRO!$E$43=\"Endemic\", IF($K112>1, IF($K112=4, \"Unknown\", IF($K112=99, \"Surveillance\", SUM($R112:$T112))), 0),\"Not required\")","v":384031},0,2,1,1]
[{"$f":"IF(INTRO!$E$33<>0,INTRO!$E$33, \" \")","v":"Uganda"},"Northern","Pader",247633,{"$f":"IF(INTRO!$E$48=\"\",\"\",ROUND($D113*INTRO!$E$48,0))","v":35164},{"$f":"IF(INTRO!$E$49=\"\",\"\",ROUND($D113*INTRO!$E$49,0))","v":74785},{"$f":"IF(INTRO!$E$50=\"\",\"\",ROUND($D113*INTRO!$E$50,0))","v":129017},99,1,3,21,{"$f":"IF(INTRO!$E$37=\"Endemic\",IF($H113>0,IF($H113=4,\"Unknown\",IF($H113=99,\"Stopped\",$D113)),0),\"Not required\")","v":"Stopped"},199290,{"$f":"IF(INTRO!$E$41=\"Endemic\", IF($J113>1, IF($J113=4, \"Unknown\", IF($J113=99, \"Surveillance\", E113)), 0),\"Not required\")","v":35164},{"$f":"IF(INTRO!$E$41=\"Endemic\", IF($J113>1, IF($J113=4, \"Unknown\", IF($J113=99, \"Surveillance\", F113)), 0),\"Not required\")","v":74785},{"$f":"IF(INTRO!$E$41=\"Endemic\", IF($J113>1, IF($J113=4, \"Unknown\", IF($J113=99, \"Surveillance\", ROUND(D113*INTRO!$E$51,0))), 0),\"Not required\")","v":61165},{"$f":"IF(INTRO!$E$41=\"Endemic\", IF($J113>1, IF($J113=4, \"Unknown\", IF($J113=99, \"Surveillance\", SUM($N113:$P113))), 0),\"Not required\")","v":171114},0,58294,25846,{"$f":"IF(INTRO!$E$43=\"Endemic\", IF($K113>1, IF($K113=4, \"Unknown\", IF($K113=99, \"Surveillance\", SUM($R113:$T113))), 0),\"Not required\")","v":84140},0,2,1,1]
[{"$f":"IF(INTRO!$E$33<>0,INTRO!$E$33, \" \")","v":"Uganda"},"Northern","Pakwach",199426,{"$f":"IF(INTRO!$E$48=\"\",\"\",ROUND($D114*INTRO!$E$48,0))","v":28318},{"$f":"IF(INTRO!$E$49=\"\",\"\",ROUND($D114*INTRO!$E$49,0))","v":60227},{"$f":"IF(INTRO!$E$50=\"\",\"\",ROUND($D114*INTRO!$E$50,0))","v":103901},99,99,99,31,{"$f":"IF(INTRO!$E$37=\"Endemic\",IF($H114>0,IF($H114=4,\"Unknown\",IF($H114=99,\"Stopped\",$D114)),0),\"Not required\")","v":"Stopped"},0,{"$f":"IF(INTRO!$E$41=\"Endemic\", IF($J114>1, IF($J114=4, \"Unknown\", IF($J114=99, \"Surveillance\", E114)), 0),\"Not required\")","v":"Surveillance"},{"$f":"IF(INTRO!$E$41=\"Endemic\", IF($J114>1, IF($J114=4, \"Unknown\", IF($J114=99, \"Surveillance\", F114)), 0),\"Not required\")","v":"Surveillance"},{"$f":"IF(INTRO!$E$41=\"Endemic\", IF($J114>1, IF($J114=4, \"Unknown\", IF($J114=99, \"Surveillance\", ROUND(D114*INTRO!$E$51,0))), 0),\"Not required\")","v":"Surveillance"},{"$f":"IF(INTRO!$E$41=\"Endemic\", IF($J114>1, IF($J114=4, \"Unknown\", IF($J114=99, \"Surveillance\", SUM($N114:$P114))), 0),\"Not required\")","v":"Surveillance"},0,60227,103901,{"$f":"IF(INTRO!$E$43=\"Endemic\", IF($K114>1, IF($K114=4, \"Unknown\", IF($K114=99, \"Surveillance\", SUM($R114:$T114))), 0),\"Not required\")","v":164128},0,0,1,1]
[{"$f":"IF(INTRO!$E$33<>0,INTRO!$E$33, \" \")","v":"Uganda"},"Northern","Terego",274988,{"$f":"IF(INTRO!$E$48=\"\",\"\",ROUND($D115*INTRO!$E$48,0))","v":39048},{"$f":"IF(INTRO!$E$49=\"\",\"\",ROUND($D115*INTRO!$E$49,0))","v":83046},{"$f":"IF(INTRO!$E$50=\"\",\"\",ROUND($D115*INTRO!$E$50,0))","v":143269},99,0,3,3,{"$f":"IF(INTRO!$E$37=\"Endemic\",IF($H115>0,IF($H115=4,\"Unknown\",IF($H115=99,\"Stopped\",$D115)),0),\"Not required\")","v":"Stopped"},0,{"$f":"IF(INTRO!$E$41=\"Endemic\", IF($J115>1, IF($J115=4, \"Unknown\", IF($J115=99, \"Surveillance\", E115)), 0),\"Not required\")","v":39048},{"$f":"IF(INTRO!$E$41=\"Endemic\", IF($J115>1, IF($J115=4, \"Unknown\", IF($J115=99, \"Surveillance\", F115)), 0),\"Not required\")","v":83046},{"$f":"IF(INTRO!$E$41=\"Endemic\", IF($J115>1, IF($J115=4, \"Unknown\", IF($J115=99, \"Surveillance\", ROUND(D115*INTRO!$E$51,0))), 0),\"Not required\")","v":67922},{"$f":"IF(INTRO!$E$41=\"Endemic\", IF($J115>1, IF($J115=4, \"Unknown\", IF($J115=99, \"Surveillance\", SUM($N115:$P115))), 0),\"Not required\")","v":190016},0,83046,143269,{"$f":"IF(INTRO!$E$43=\"Endemic\", IF($K115>1, IF($K115=4, \"Unknown\", IF($K115=99, \"Surveillance\", SUM($R115:$T115))), 0),\"Not required\")","v":226315},0,0,1,1]
[{"$f":"IF(INTRO!$E$33<>0,INTRO!$E$33, \" \")","v":"Uganda"},"Northern","Yumbe",654482,{"$f":"IF(INTRO!$E$48=\"\",\"\",ROUND($D116*INTRO!$E$48,0))","v":92936},{"$f":"IF(INTRO!$E$49=\"\",\"\",ROUND($D116*INTRO!$E$49,0))","v":197654},{"$f":"IF(INTRO!$E$50=\"\",\"\",ROUND($D116*INTRO!$E$50,0))","v":340985},99,99,99,21,{"$f":"IF(INTRO!$E$37=\"Endemic\",IF($H116>0,IF($H116=4,\"Unknown\",IF($H116=99,\"Stopped\",$D116)),0),\"Not required\")","v":"Stopped"},0,{"$f":"IF(INTRO!$E$41=\"Endemic\", IF($J116>1, IF($J116=4, \"Unknown\", IF($J116=99, \"Surveillance\", E116)), 0),\"Not required\")","v":"Surveillance"},{"$f":"IF(INTRO!$E$41=\"Endemic\", IF($J116>1, IF($J116=4, \"Unknown\", IF($J116=99, \"Surveillance\", F116)), 0),\"Not required\")","v":"Surveillance"},{"$f":"IF(INTRO!$E$41=\"Endemic\", IF($J116>1, IF($J116=4, \"Unknown\", IF($J116=99, \"Surveillance\", ROUND(D116*INTRO!$E$51,0))), 0),\"Not required\")","v":"Surveillance"},{"$f":"IF(INTRO!$E$41=\"Endemic\", IF($J116>1, IF($J116=4, \"Unknown\", IF($J116=99, \"Surveillance\", SUM($N116:$P116))), 0),\"Not required\")","v":"Surveillance"},0,160854,68310,{"$f":"IF(INTRO!$E$43=\"Endemic\", IF($K116>1, IF($K116=4, \"Unknown\", IF($K116=99, \"Surveillance\", SUM($R116:$T116))), 0),\"Not required\")","v":229164},0,0,1,1]
[{"$f":"IF(INTRO!$E$33<>0,INTRO!$E$33, \" \")","v":"Uganda"},"Northern","Zombo",323975,{"$f":"IF(INTRO!$E$48=\"\",\"\",ROUND($D117*INTRO!$E$48,0))","v":46004},{"$f":"IF(INTRO!$E$49=\"\",\"\",ROUND($D117*INTRO!$E$49,0))","v":97840},{"$f":"IF(INTRO!$E$50=\"\",\"\",ROUND($D117*INTRO!$E$50,0))","v":168791},99,99,3,11,{"$f":"IF(INTRO!$E$37=\"Endemic\",IF($H117>0,IF($H117=4,\"Unknown\",IF($H117=99,\"Stopped\",$D117)),0),\"Not required\")","v":"Stopped"},0,{"$f":"IF(INTRO!$E$41=\"Endemic\", IF($J117>1, IF($J117=4, \"Unknown\", IF($J117=99, \"Surveillance\", E117)), 0),\"Not required\")","v":46004},{"$f":"IF(INTRO!$E$41=\"Endemic\", IF($J117>1, IF($J117=4, \"Unknown\", IF($J117=99, \"Surveillance\", F117)), 0),\"Not required\")","v":97840},{"$f":"IF(INTRO!$E$41=\"Endemic\", IF($J117>1, IF($J117=4, \"Unknown\", IF($J117=99, \"Surveillance\", ROUND(D117*INTRO!$E$51,0))), 0),\"Not required\")","v":80022},{"$f":"IF(INTRO!$E$41=\"Endemic\", IF($J117>1, IF($J117=4, \"Unknown\", IF($J117=99, \"Surveillance\", SUM($N117:$P117))), 0),\"Not required\")","v":223866},0,31945,0,{"$f":"IF(INTRO!$E$43=\"Endemic\", IF($K117>1, IF($K117=4, \"Unknown\", IF($K117=99, \"Surveillance\", SUM($R117:$T117))), 0),\"Not required\")","v":31945},0,0,1,1]
[{"$f":"IF(INTRO!$E$33<>0,INTRO!$E$33, \" \")","v":"Uganda"},"Western","Buhweju",167199,{"$f":"IF(INTRO!$E$48=\"\",\"\",ROUND($D118*INTRO!$E$48,0))","v":23742},{"$f":"IF(INTRO!$E$49=\"\",\"\",ROUND($D118*INTRO!$E$49,0))","v":50494},{"$f":"IF(INTRO!$E$50=\"\",\"\",ROUND($D118*INTRO!$E$50,0))","v":87111},0,99,3,0,{"$f":"IF(INTRO!$E$37=\"Endemic\",IF($H118>0,IF($H118=4,\"Unknown\",IF($H118=99,\"Stopped\",$D118)),0),\"Not required\")","v":0},0,{"$f":"IF(INTRO!$E$41=\"Endemic\", IF($J118>1, IF($J118=4, \"Unknown\", IF($J118=99, \"Surveillance\", E118)), 0),\"Not required\")","v":23742},{"$f":"IF(INTRO!$E$41=\"Endemic\", IF($J118>1, IF($J118=4, \"Unknown\", IF($J118=99, \"Surveillance\", F118)), 0),\"Not required\")","v":50494},{"$f":"IF(INTRO!$E$41=\"Endemic\", IF($J118>1, IF($J118=4, \"Unknown\", IF($J118=99, \"Surveillance\", ROUND(D118*INTRO!$E$51,0))), 0),\"Not required\")","v":41298},{"$f":"IF(INTRO!$E$41=\"Endemic\", IF($J118>1, IF($J118=4, \"Unknown\", IF($J118=99, \"Surveillance\", SUM($N118:$P118))), 0),\"Not required\")","v":115534},0,0,0,{"$f":"IF(INTRO!$E$43=\"Endemic\", IF($K118>1, IF($K118=4, \"Unknown\", IF($K118=99, \"Surveillance\", SUM($R118:$T118))), 0),\"Not required\")","v":0},0,0,1,0]
[{"$f":"IF(INTRO!$E$33<>0,INTRO!$E$33, \" \")","v":"Uganda"},"Western","Buliisa",153073,{"$f":"IF(INTRO!$E$48=\"\",\"\",ROUND($D119*INTRO!$E$48,0))","v":21736},{"$f":"IF(INTRO!$E$49=\"\",\"\",ROUND($D119*INTRO!$E$49,0))","v":46228},{"$f":"IF(INTRO!$E$50=\"\",\"\",ROUND($D119*INTRO!$E$50,0))","v":79751},0,99,11,31,{"$f":"IF(INTRO!$E$37=\"Endemic\",IF($H119>0,IF($H119=4,\"Unknown\",IF($H119=99,\"Stopped\",$D119)),0),\"Not required\")","v":0},0,{"$f":"IF(INTRO!$E$41=\"Endemic\", IF($J119>1, IF($J119=4, \"Unknown\", IF($J119=99, \"Surveillance\", E119)), 0),\"Not required\")","v":21736},{"$f":"IF(INTRO!$E$41=\"Endemic\", IF($J119>1, IF($J119=4, \"Unknown\", IF($J119=99, \"Surveillance\", F119)), 0),\"Not required\")","v":46228},{"$f":"IF(INTRO!$E$41=\"Endemic\", IF($J119>1, IF($J119=4, \"Unknown\", IF($J119=99, \"Surveillance\", ROUND(D119*INTRO!$E$51,0))), 0),\"Not required\")","v":37809},{"$f":"IF(INTRO!$E$41=\"Endemic\", IF($J119>1, IF($J119=4, \"Unknown\", IF($J119=99, \"Surveillance\", SUM($N119:$P119))), 0),\"Not required\")","v":105773},0,46228,79751,{"$f":"IF(INTRO!$E$43=\"Endemic\", IF($K119>1, IF($K119=4, \"Unknown\", IF($K119=99, \"Surveillance\", SUM($R119:$T119))), 0),\"Not required\")","v":125979},0,0,1,1]
[{"$f":"IF(INTRO!$E$33<>0,INTRO!$E$33, \" \")","v":"Uganda"},"Western","Bundibugyo",302108,{"$f":"IF(INTRO!$E$48=\"\",\"\",ROUND($D120*INTRO!$E$48,0))","v":42899},{"$f":"IF(INTRO!$E$49=\"\",\"\",ROUND($D120*INTRO!$E$49,0))","v":91237},{"$f":"IF(INTRO!$E$50=\"\",\"\",ROUND($D120*INTRO!$E$50,0))","v":157398},99,0,3,3,{"$f":"IF(INTRO!$E$37=\"Endemic\",IF($H120>0,IF($H120=4,\"Unknown\",IF($H120=99,\"Stopped\",$D120)),0),\"Not required\")","v":"Stopped"},0,{"$f":"IF(INTRO!$E$41=\"Endemic\", IF($J120>1, IF($J120=4, \"Unknown\", IF($J120=99, \"Surveillance\", E120)), 0),\"Not required\")","v":42899},{"$f":"IF(INTRO!$E$41=\"Endemic\", IF($J120>1, IF($J120=4, \"Unknown\", IF($J120=99, \"Surveillance\", F120)), 0),\"Not required\")","v":91237},{"$f":"IF(INTRO!$E$41=\"Endemic\", IF($J120>1, IF($J120=4, \"Unknown\", IF($J120=99, \"Surveillance\", ROUND(D120*INTRO!$E$51,0))), 0),\"Not required\")","v":74621},{"$f":"IF(INTRO!$E$41=\"Endemic\", IF($J120>1, IF($J120=4, \"Unknown\", IF($J120=99, \"Surveillance\", SUM($N120:$P120))), 0),\"Not required\")","v":208757},0,42493,157398,{"$f":"IF(INTRO!$E$43=\"Endemic\", IF($K120>1, IF($K120=4, \"Unknown\", IF($K120=99, \"Surveillance\", SUM($R120:$T120))), 0),\"Not required\")","v":199891},0,0,1,1]
[{"$f":"IF(INTRO!$E$33<>0,INTRO!$E$33, \" \")","v":"Uganda"},"Western","Bunyangabu",230874,{"$f":"IF(INTRO!$E$48=\"\",\"\",ROUND($D121*INTRO!$E$48,0))","v":32784},{"$f":"IF(INTRO!$E$49=\"\",\"\",ROUND($D121*INTRO!$E$49,0))","v":69724},{"$f":"IF(INTRO!$E$50=\"\",\"\",ROUND($D121*INTRO!$E$50,0))","v":120285},0,99,11,11,{"$f":"IF(INTRO!$E$37=\"Endemic\",IF($H121>0,IF($H121=4,\"Unknown\",IF($H121=99,\"Stopped\",$D121)),0),\"Not required\")","v":0},0,{"$f":"IF(INTRO!$E$41=\"Endemic\", IF($J121>1, IF($J121=4, \"Unknown\", IF($J121=99, \"Surveillance\", E121)), 0),\"Not required\")","v":32784},{"$f":"IF(INTRO!$E$41=\"Endemic\", IF($J121>1, IF($J121=4, \"Unknown\", IF($J121=99, \"Surveillance\", F121)), 0),\"Not required\")","v":69724},{"$f":"IF(INTRO!$E$41=\"Endemic\", IF($J121>1, IF($J121=4, \"Unknown\", IF($J121=99, \"Surveillance\", ROUND(D121*INTRO!$E$51,0))), 0),\"Not required\")","v":57026},{"$f":"IF(INTRO!$E$41=\"Endemic\", IF($J121>1, IF($J121=4, \"Unknown\", IF($J121=99, \"Surveillance\", SUM($N121:$P121))), 0),\"Not required\")","v":159534},0,17366,0,{"$f":"IF(INTRO!$E$43=\"Endemic\", IF($K121>1, IF($K121=4, \"Unknown\", IF($K121=99, \"Surveillance\", SUM($R121:$T121))), 0),\"Not required\")","v":17366},0,0,1,1]
[{"$f":"IF(INTRO!$E$33<>0,INTRO!$E$33, \" \")","v":"Uganda"},"Western","Bushenyi",317584,{"$f":"IF(INTRO!$E$48=\"\",\"\",ROUND($D122*INTRO!$E$48,0))","v":45097},{"$f":"IF(INTRO!$E$49=\"\",\"\",ROUND($D122*INTRO!$E$49,0))","v":95910},{"$f":"IF(INTRO!$E$50=\"\",\"\",ROUND($D122*INTRO!$E$50,0))","v":165461},0,99,3,0,{"$f":"IF(INTRO!$E$37=\"Endemic\",IF($H122>0,IF($H122=4,\"Unknown\",IF($H122=99,\"Stopped\",$D122)),0),\"Not required\")","v":0},0,{"$f":"IF(INTRO!$E$41=\"Endemic\", IF($J122>1, IF($J122=4, \"Unknown\", IF($J122=99, \"Surveillance\", E122)), 0),\"Not required\")","v":45097},{"$f":"IF(INTRO!$E$41=\"Endemic\", IF($J122>1, IF($J122=4, \"Unknown\", IF($J122=99, \"Surveillance\", F122)), 0),\"Not required\")","v":95910},{"$f":"IF(INTRO!$E$41=\"Endemic\", IF($J122>1, IF($J122=4, \"Unknown\", IF($J122=99, \"Surveillance\", ROUND(D122*INTRO!$E$51,0))), 0),\"Not required\")","v":78443},{"$f":"IF(INTRO!$E$41=\"Endemic\", IF($J122>1, IF($J122=4, \"Unknown\", IF($J122=99, \"Surveillance\", SUM($N122:$P122))), 0),\"Not required\")","v":219450},0,0,0,{"$f":"IF(INTRO!$E$43=\"Endemic\", IF($K122>1, IF($K122=4, \"Unknown\", IF($K122=99, \"Surveillance\", SUM($R122:$T122))), 0),\"Not required\")","v":0},0,0,1,0]
[{"$f":"IF(INTRO!$E$33<>0,INTRO!$E$33, \" \")","v":"Uganda"},"Western","Fortportal City",97376,{"$f":"IF(INTRO!$E$48=\"\",\"\",ROUND($D123*INTRO!$E$48,0))","v":13827},{"$f":"IF(INTRO!$E$49=\"\",\"\",ROUND($D123*INTRO!$E$49,0))","v":29408},{"$f":"IF(INTRO!$E$50=\"\",\"\",ROUND($D123*INTRO!$E$50,0))","v":50733},0,0,3,0,{"$f":"IF(INTRO!$E$37=\"Endemic\",IF($H123>0,IF($H123=4,\"Unknown\",IF($H123=99,\"Stopped\",$D123)),0),\"Not required\")","v":0},0,{"$f":"IF(INTRO!$E$41=\"Endemic\", IF($J123>1, IF($J123=4, \"Unknown\", IF($J123=99, \"Surveillance\", E123)), 0),\"Not required\")","v":13827},{"$f":"IF(INTRO!$E$41=\"Endemic\", IF($J123>1, IF($J123=4, \"Unknown\", IF($J123=99, \"Surveillance\", F123)), 0),\"Not required\")","v":29408},{"$f":"IF(INTRO!$E$41=\"Endemic\", IF($J123>1, IF($J123=4, \"Unknown\", IF($J123=99, \"Surveillance\", ROUND(D123*INTRO!$E$51,0))), 0),\"Not required\")","v":24052},{"$f":"IF(INTRO!$E$41=\"Endemic\", IF($J123>1, IF($J123=4, \"Unknown\", IF($J123=99, \"Surveillance\", SUM($N123:$P123))), 0),\"Not required\")","v":67287},0,0,0,{"$f":"IF(INTRO!$E$43=\"Endemic\", IF($K123>1, IF($K123=4, \"Unknown\", IF($K123=99, \"Surveillance\", SUM($R123:$T123))), 0),\"Not required\")","v":0},0,0,1,0]
[{"$f":"IF(INTRO!$E$33<>0,INTRO!$E$33, \" \")","v":"Uganda"},"Western","Hoima",280420,{"$f":"IF(INTRO!$E$48=\"\",\"\",ROUND($D124*INTRO!$E$48,0))","v":39820},{"$f":"IF(INTRO!$E$49=\"\",\"\",ROUND($D124*INTRO!$E$49,0))","v":84687},{"$f":"IF(INTRO!$E$50=\"\",\"\",ROUND($D124*INTRO!$E$50,0))","v":146099},0,99,99,31,{"$f":"IF(INTRO!$E$37=\"Endemic\",IF($H124>0,IF($H124=4,\"Unknown\",IF($H124=99,\"Stopped\",$D124)),0),\"Not required\")","v":0},0,{"$f":"IF(INTRO!$E$41=\"Endemic\", IF($J124>1, IF($J124=4, \"Unknown\", IF($J124=99, \"Surveillance\", E124)), 0),\"Not required\")","v":"Surveillance"},{"$f":"IF(INTRO!$E$41=\"Endemic\", IF($J124>1, IF($J124=4, \"Unknown\", IF($J124=99, \"Surveillance\", F124)), 0),\"Not required\")","v":"Surveillance"},{"$f":"IF(INTRO!$E$41=\"Endemic\", IF($J124>1, IF($J124=4, \"Unknown\", IF($J124=99, \"Surveillance\", ROUND(D124*INTRO!$E$51,0))), 0),\"Not required\")","v":"Surveillance"},{"$f":"IF(INTRO!$E$41=\"Endemic\", IF($J124>1, IF($J124=4, \"Unknown\", IF($J124=99, \"Surveillance\", SUM($N124:$P124))), 0),\"Not required\")","v":"Surveillance"},0,45846,146099,{"$f":"IF(INTRO!$E$43=\"Endemic\", IF($K124>1, IF($K124=4, \"Unknown\", IF($K124=99, \"Surveillance\", SUM($R124:$T124))), 0),\"Not required\")","v":191945},0,0,1,1]
[{"$f":"IF(INTRO!$E$33<>0,INTRO!$E$33, \" \")","v":"Uganda"},"Western","Hoima City",135623,{"$f":"IF(INTRO!$E$48=\"\",\"\",ROUND($D125*INTRO!$E$48,0))","v":19258},{"$f":"IF(INTRO!$E$49=\"\",\"\",ROUND($D125*INTRO!$E$49,0))","v":40958},{"$f":"IF(INTRO!$E$50=\"\",\"\",ROUND($D125*INTRO!$E$50,0))","v":70660},0,0,3,0,{"$f":"IF(INTRO!$E$37=\"Endemic\",IF($H125>0,IF($H125=4,\"Unknown\",IF($H125=99,\"Stopped\",$D125)),0),\"Not required\")","v":0},0,{"$f":"IF(INTRO!$E$41=\"Endemic\", IF($J125>1, IF($J125=4, \"Unknown\", IF($J125=99, \"Surveillance\", E125)), 0),\"Not required\")","v":19258},{"$f":"IF(INTRO!$E$41=\"Endemic\", IF($J125>1, IF($J125=4, \"Unknown\", IF($J125=99, \"Surveillance\", F125)), 0),\"Not required\")","v":40958},{"$f":"IF(INTRO!$E$41=\"Endemic\", IF($J125>1, IF($J125=4, \"Unknown\", IF($J125=99, \"Surveillance\", ROUND(D125*INTRO!$E$51,0))), 0),\"Not required\")","v":33499},{"$f":"IF(INTRO!$E$41=\"Endemic\", IF($J125>1, IF($J125=4, \"Unknown\", IF($J125=99, \"Surveillance\", SUM($N125:$P125))), 0),\"Not required\")","v":93715},0,0,0,{"$f":"IF(INTRO!$E$43=\"Endemic\", IF($K125>1, IF($K125=4, \"Unknown\", IF($K125=99, \"Surveillance\", SUM($R125:$T125))), 0),\"Not required\")","v":0},0,0,1,0]
[{"$f":"IF(INTRO!$E$33<>0,INTRO!$E$33, \" \")","v":"Uganda"},"Western","Ibanda",334375,{"$f":"IF(INTRO!$E$48=\"\",\"\",ROUND($D126*INTRO!$E$48,0))","v":47481},{"$f":"IF(INTRO!$E$49=\"\",\"\",ROUND($D126*INTRO!$E$49,0))","v":100981},{"$f":"IF(INTRO!$E$50=\"\",\"\",ROUND($D126*INTRO!$E$50,0))","v":174209},0,99,11,11,{"$f":"IF(INTRO!$E$37=\"Endemic\",IF($H126>0,IF($H126=4,\"Unknown\",IF($H126=99,\"Stopped\",$D126)),0),\"Not required\")","v":0},0,{"$f":"IF(INTRO!$E$41=\"Endemic\", IF($J126>1, IF($J126=4, \"Unknown\", IF($J126=99, \"Surveillance\", E126)), 0),\"Not required\")","v":47481},{"$f":"IF(INTRO!$E$41=\"Endemic\", IF($J126>1, IF($J126=4, \"Unknown\", IF($J126=99, \"Surveillance\", F126)), 0),\"Not required\")","v":100981},{"$f":"IF(INTRO!$E$41=\"Endemic\", IF($J126>1, IF($J126=4, \"Unknown\", IF($J126=99, \"Surveillance\", ROUND(D126*INTRO!$E$51,0))), 0),\"Not required\")","v":82591},{"$f":"IF(INTRO!$E$41=\"Endemic\", IF($J126>1, IF($J126=4, \"Unknown\", IF($J126=99, \"Surveillance\", SUM($N126:$P126))), 0),\"Not required\")","v":231053},0,11461,0,{"$f":"IF(INTRO!$E$43=\"Endemic\", IF($K126>1, IF($K126=4, \"Unknown\", IF($K126=99, \"Surveillance\", SUM($R126:$T126))), 0),\"Not required\")","v":11461},0,0,1,1]
[{"$f":"IF(INTRO!$E$33<>0,INTRO!$E$33, \" \")","v":"Uganda"},"Western","Isingiro",663286,{"$f":"IF(INTRO!$E$48=\"\",\"\",ROUND($D127*INTRO!$E$48,0))","v":94187},{"$f":"IF(INTRO!$E$49=\"\",\"\",ROUND($D127*INTRO!$E$49,0))","v":200312},{"$f":"IF(INTRO!$E$50=\"\",\"\",ROUND($D127*INTRO!$E$50,0))","v":345572},0,0,11,21,{"$f":"IF(INTRO!$E$37=\"Endemic\",IF($H127>0,IF($H127=4,\"Unknown\",IF($H127=99,\"Stopped\",$D127)),0),\"Not required\")","v":0},0,{"$f":"IF(INTRO!$E$41=\"Endemic\", IF($J127>1, IF($J127=4, \"Unknown\", IF($J127=99, \"Surveillance\", E127)), 0),\"Not required\")","v":94187},{"$f":"IF(INTRO!$E$41=\"Endemic\", IF($J127>1, IF($J127=4, \"Unknown\", IF($J127=99, \"Surveillance\", F127)), 0),\"Not required\")","v":200312},{"$f":"IF(INTRO!$E$41=\"Endemic\", IF($J127>1, IF($J127=4, \"Unknown\", IF($J127=99, \"Surveillance\", ROUND(D127*INTRO!$E$51,0))), 0),\"Not required\")","v":163832},{"$f":"IF(INTRO!$E$41=\"Endemic\", IF($J127>1, IF($J127=4, \"Unknown\", IF($J127=99, \"Surveillance\", SUM($N127:$P127))), 0),\"Not required\")","v":458331},0,38493,69228,{"$f":"IF(INTRO!$E$43=\"Endemic\", IF($K127>1, IF($K127=4, \"Unknown\", IF($K127=99, \"Surveillance\", SUM($R127:$T127))), 0),\"Not required\")","v":107721},0,0,1,1]
[{"$f":"IF(INTRO!$E$33<>0,INTRO!$E$33, \" \")","v":"Uganda"},"Western","Kabale",313385,{"$f":"IF(INTRO!$E$48=\"\",\"\",ROUND($D128*INTRO!$E$48,0))","v":44501},{"$f":"IF(INTRO!$E$49=\"\",\"\",ROUND($D128*INTRO!$E$49,0))","v":94642},{"$f":"IF(INTRO!$E$50=\"\",\"\",ROUND($D128*INTRO!$E$50,0))","v":163274},0,0,3,0,{"$f":"IF(INTRO!$E$37=\"Endemic\",IF($H128>0,IF($H128=4,\"Unknown\",IF($H128=99,\"Stopped\",$D128)),0),\"Not required\")","v":0},0,{"$f":"IF(INTRO!$E$41=\"Endemic\", IF($J128>1, IF($J128=4, \"Unknown\", IF($J128=99, \"Surveillance\", E128)), 0),\"Not required\")","v":44501},{"$f":"IF(INTRO!$E$41=\"Endemic\", IF($J128>1, IF($J128=4, \"Unknown\", IF($J128=99, \"Surveillance\", F128)), 0),\"Not required\")","v":94642},{"$f":"IF(INTRO!$E$41=\"Endemic\", IF($J128>1, IF($J128=4, \"Unknown\", IF($J128=99, \"Surveillance\", ROUND(D128*INTRO!$E$51,0))), 0),\"Not required\")","v":77406},{"$f":"IF(INTRO!$E$41=\"Endemic\", IF($J128>1, IF($J128=4, \"Unknown\", IF($J128=99, \"Surveillance\", SUM($N128:$P128))), 0),\"Not required\")","v":216549},0,0,0,{"$f":"IF(INTRO!$E$43=\"Endemic\", IF($K128>1, IF($K128=4, \"Unknown\", IF($K128=99, \"Surveillance\", SUM($R128:$T128))), 0),\"Not required\")","v":0},0,0,1,0]
[{"$f":"IF(INTRO!$E$33<>0,INTRO!$E$33, \" \")","v":"Uganda"},"Western","Kabarole",310922,{"$f":"IF(INTRO!$E$48=\"\",\"\",ROUND($D129*INTRO!$E$48,0))","v":44151},{"$f":"IF(INTRO!$E$49=\"\",\"\",ROUND($D129*INTRO!$E$49,0))","v":93898},{"$f":"IF(INTRO!$E$50=\"\",\"\",ROUND($D129*INTRO!$E$50,0))","v":161990},0,99,3,21,{"$f":"IF(INTRO!$E$37=\"Endemic\",IF($H129>0,IF($H129=4,\"Unknown\",IF($H129=99,\"Stopped\",$D129)),0),\"Not required\")","v":0},0,{"$f":"IF(INTRO!$E$41=\"Endemic\", IF($J129>1, IF($J129=4, \"Unknown\", IF($J129=99, \"Surveillance\", E129)), 0),\"Not required\")","v":44151},{"$f":"IF(INTRO!$E$41=\"Endemic\", IF($J129>1, IF($J129=4, \"Unknown\", IF($J129=99, \"Surveillance\", F129)), 0),\"Not required\")","v":93898},{"$f":"IF(INTRO!$E$41=\"Endemic\", IF($J129>1, IF($J129=4, \"Unknown\", IF($J129=99, \"Surveillance\", ROUND(D129*INTRO!$E$51,0))), 0),\"Not required\")","v":76798},{"$f":"IF(INTRO!$E$41=\"Endemic\", IF($J129>1, IF($J129=4, \"Unknown\", IF($J129=99, \"Surveillance\", SUM($N129:$P129))), 0),\"Not required\")","v":214847},0,15637,32451,{"$f":"IF(INTRO!$E$43=\"Endemic\", IF($K129>1, IF($K129=4, \"Unknown\", IF($K129=99, \"Surveillance\", SUM($R129:$T129))), 0),\"Not required\")","v":48088},0,0,1,1]
[{"$f":"IF(INTRO!$E$33<>0,INTRO!$E$33, \" \")","v":"Uganda"},"Western","Kagadi",475532,{"$f":"IF(INTRO!$E$48=\"\",\"\",ROUND($D130*INTRO!$E$48,0))","v":67526},{"$f":"IF(INTRO!$E$49=\"\",\"\",ROUND($D130*INTRO!$E$49,0))","v":143611},{"$f":"IF(INTRO!$E$50=\"\",\"\",ROUND($D130*INTRO!$E$50,0))","v":247752},0,99,3,3,{"$f":"IF(INTRO!$E$37=\"Endemic\",IF($H130>0,IF($H130=4,\"Unknown\",IF($H130=99,\"Stopped\",$D130)),0),\"Not required\")","v":0},0,{"$f":"IF(INTRO!$E$41=\"Endemic\", IF($J130>1, IF($J130=4, \"Unknown\", IF($J130=99, \"Surveillance\", E130)), 0),\"Not required\")","v":67526},{"$f":"IF(INTRO!$E$41=\"Endemic\", IF($J130>1, IF($J130=4, \"Unknown\", IF($J130=99, \"Surveillance\", F130)), 0),\"Not required\")","v":143611},{"$f":"IF(INTRO!$E$41=\"Endemic\", IF($J130>1, IF($J130=4, \"Unknown\", IF($J130=99, \"Surveillance\", ROUND(D130*INTRO!$E$51,0))), 0),\"Not required\")","v":117456},{"$f":"IF(INTRO!$E$41=\"Endemic\", IF($J130>1, IF($J130=4, \"Unknown\", IF($J130=99, \"Surveillance\", SUM($N130:$P130))), 0),\"Not required\")","v":328593},0,81071,247752,{"$f":"IF(INTRO!$E$43=\"Endemic\", IF($K130>1, IF($K130=4, \"Unknown\", IF($K130=99, \"Surveillance\", SUM($R130:$T130))), 0),\"Not required\")","v":328823},0,0,1,1]
[{"$f":"IF(INTRO!$E$33<>0,INTRO!$E$33, \" \")","v":"Uganda"},"Western","Kakumiro",399468,{"$f":"IF(INTRO!$E$48=\"\",\"\",ROUND($D131*INTRO!$E$48,0))","v":56724},{"$f":"IF(INTRO!$E$49=\"\",\"\",ROUND($D131*INTRO!$E$49,0))","v":120639},{"$f":"IF(INTRO!$E$50=\"\",\"\",ROUND($D131*INTRO!$E$50,0))","v":208123},0,0,3,0,{"$f":"IF(INTRO!$E$37=\"Endemic\",IF($H131>0,IF($H131=4,\"Unknown\",IF($H131=99,\"Stopped\",$D131)),0),\"Not required\")","v":0},0,{"$f":"IF(INTRO!$E$41=\"Endemic\", IF($J131>1, IF($J131=4, \"Unknown\", IF($J131=99, \"Surveillance\", E131)), 0),\"Not required\")","v":56724},{"$f":"IF(INTRO!$E$41=\"Endemic\", IF($J131>1, IF($J131=4, \"Unknown\", IF($J131=99, \"Surveillance\", F131)), 0),\"Not required\")","v":120639},{"$f":"IF(INTRO!$E$41=\"Endemic\", IF($J131>1, IF($J131=4, \"Unknown\", IF($J131=99, \"Surveillance\", ROUND(D131*INTRO!$E$51,0))), 0),\"Not required\")","v":98669},{"$f":"IF(INTRO!$E$41=\"Endemic\", IF($J131>1, IF($J131=4, \"Unknown\", IF($J131=99, \"Surveillance\", SUM($N131:$P131))), 0),\"Not required\")","v":276032},0,0,0,{"$f":"IF(INTRO!$E$43=\"Endemic\", IF($K131>1, IF($K131=4, \"Unknown\", IF($K131=99, \"Surveillance\", SUM($R131:$T131))), 0),\"Not required\")","v":0},0,0,1,0]
[{"$f":"IF(INTRO!$E$33<>0,INTRO!$E$33, \" \")","v":"Uganda"},"Western","Kamwenge",371848,{"$f":"IF(INTRO!$E$48=\"\",\"\",ROUND($D132*INTRO!$E$48,0))","v":52802},{"$f":"IF(INTRO!$E$49=\"\",\"\",ROUND($D132*INTRO!$E$49,0))","v":112298},{"$f":"IF(INTRO!$E$50=\"\",\"\",ROUND($D132*INTRO!$E$50,0))","v":193733},0,99,3,0,{"$f":"IF(INTRO!$E$37=\"Endemic\",IF($H132>0,IF($H132=4,\"Unknown\",IF($H132=99,\"Stopped\",$D132)),0),\"Not required\")","v":0},0,{"$f":"IF(INTRO!$E$41=\"Endemic\", IF($J132>1, IF($J132=4, \"Unknown\", IF($J132=99, \"Surveillance\", E132)), 0),\"Not required\")","v":52802},{"$f":"IF(INTRO!$E$41=\"Endemic\", IF($J132>1, IF($J132=4, \"Unknown\", IF($J132=99, \"Surveillance\", F132)), 0),\"Not required\")","v":112298},{"$f":"IF(INTRO!$E$41=\"Endemic\", IF($J132>1, IF($J132=4, \"Unknown\", IF($J132=99, \"Surveillance\", ROUND(D132*INTRO!$E$51,0))), 0),\"Not required\")","v":91846},{"$f":"IF(INTRO!$E$41=\"Endemic\", IF($J132>1, IF($J132=4, \"Unknown\", IF($J132=99, \"Surveillance\", SUM($N132:$P132))), 0),\"Not required\")","v":256946},0,0,0,{"$f":"IF(INTRO!$E$43=\"Endemic\", IF($K132>1, IF($K132=4, \"Unknown\", IF($K132=99, \"Surveillance\", SUM($R132:$T132))), 0),\"Not required\")","v":0},0,0,1,0]
[{"$f":"IF(INTRO!$E$33<>0,INTRO!$E$33, \" \")","v":"Uganda"},"Western","Kanungu",339748,{"$f":"IF(INTRO!$E$48=\"\",\"\",ROUND($D133*INTRO!$E$48,0))","v":48244},{"$f":"IF(INTRO!$E$49=\"\",\"\",ROUND($D133*INTRO!$E$49,0))","v":102604},{"$f":"IF(INTRO!$E$50=\"\",\"\",ROUND($D133*INTRO!$E$50,0))","v":177009},0,99,3,0,{"$f":"IF(INTRO!$E$37=\"Endemic\",IF($H133>0,IF($H133=4,\"Unknown\",IF($H133=99,\"Stopped\",$D133)),0),\"Not required\")","v":0},0,{"$f":"IF(INTRO!$E$41=\"Endemic\", IF($J133>1, IF($J133=4, \"Unknown\", IF($J133=99, \"Surveillance\", E133)), 0),\"Not required\")","v":48244},{"$f":"IF(INTRO!$E$41=\"Endemic\", IF($J133>1, IF($J133=4, \"Unknown\", IF($J133=99, \"Surveillance\", F133)), 0),\"Not required\")","v":102604},{"$f":"IF(INTRO!$E$41=\"Endemic\", IF($J133>1, IF($J133=4, \"Unknown\", IF($J133=99, \"Surveillance\", ROUND(D133*INTRO!$E$51,0))), 0),\"Not required\")","v":83918},{"$f":"IF(INTRO!$E$41=\"Endemic\", IF($J133>1, IF($J133=4, \"Unknown\", IF($J133=99, \"Surveillance\", SUM($N133:$P133))), 0),\"Not required\")","v":234766},0,0,0,{"$f":"IF(INTRO!$E$43=\"Endemic\", IF($K133>1, IF($K133=4, \"Unknown\", IF($K133=99, \"Surveillance\", SUM($R133:$T133))), 0),\"Not required\")","v":0},0,0,1,0]
[{"$f":"IF(INTRO!$E$33<>0,INTRO!$E$33, \" \")","v":"Uganda"},"Western","Kasese",946224,{"$f":"IF(INTRO!$E$48=\"\",\"\",ROUND($D134*INTRO!$E$48,0))","v":134364},{"$f":"IF(INTRO!$E$49=\"\",\"\",ROUND($D134*INTRO!$E$49,0))","v":285760},{"$f":"IF(INTRO!$E$50=\"\",\"\",ROUND($D134*INTRO!$E$50,0))","v":492983},0,1,3,31,{"$f":"IF(INTRO!$E$37=\"Endemic\",IF($H134>0,IF($H134=4,\"Unknown\",IF($H134=99,\"Stopped\",$D134)),0),\"Not required\")","v":0},136711,{"$f":"IF(INTRO!$E$41=\"Endemic\", IF($J134>1, IF($J134=4, \"Unknown\", IF($J134=99, \"Surveillance\", E134)), 0),\"Not required\")","v":134364},{"$f":"IF(INTRO!$E$41=\"Endemic\", IF($J134>1, IF($J134=4, \"Unknown\", IF($J134=99, \"Surveillance\", F134)), 0),\"Not required\")","v":285760},{"$f":"IF(INTRO!$E$41=\"Endemic\", IF($J134>1, IF($J134=4, \"Unknown\", IF($J134=99, \"Surveillance\", ROUND(D134*INTRO!$E$51,0))), 0),\"Not required\")","v":233717},{"$f":"IF(INTRO!$E$41=\"Endemic\", IF($J134>1, IF($J134=4, \"Unknown\", IF($J134=99, \"Surveillance\", SUM($N134:$P134))), 0),\"Not required\")","v":653841},0,4508,2150,{"$f":"IF(INTRO!$E$43=\"Endemic\", IF($K134>1, IF($K134=4, \"Unknown\", IF($K134=99, \"Surveillance\", SUM($R134:$T134))), 0),\"Not required\")","v":6658},0,2,1,1]
[{"$f":"IF(INTRO!$E$33<>0,INTRO!$E$33, \" \")","v":"Uganda"},"Western","Kazo",238375,{"$f":"IF(INTRO!$E$48=\"\",\"\",ROUND($D135*INTRO!$E$48,0))","v":33849},{"$f":"IF(INTRO!$E$49=\"\",\"\",ROUND($D135*INTRO!$E$49,0))","v":71989},{"$f":"IF(INTRO!$E$50=\"\",\"\",ROUND($D135*INTRO!$E$50,0))","v":124193},0,0,3,11,{"$f":"IF(INTRO!$E$37=\"Endemic\",IF($H135>0,IF($H135=4,\"Unknown\",IF($H135=99,\"Stopped\",$D135)),0),\"Not required\")","v":0},0,{"$f":"IF(INTRO!$E$41=\"Endemic\", IF($J135>1, IF($J135=4, \"Unknown\", IF($J135=99, \"Surveillance\", E135)), 0),\"Not required\")","v":33849},{"$f":"IF(INTRO!$E$41=\"Endemic\", IF($J135>1, IF($J135=4, \"Unknown\", IF($J135=99, \"Surveillance\", F135)), 0),\"Not required\")","v":71989},{"$f":"IF(INTRO!$E$41=\"Endemic\", IF($J135>1, IF($J135=4, \"Unknown\", IF($J135=99, \"Surveillance\", ROUND(D135*INTRO!$E$51,0))), 0),\"Not required\")","v":58879},{"$f":"IF(INTRO!$E$41=\"Endemic\", IF($J135>1, IF($J135=4, \"Unknown\", IF($J135=99, \"Surveillance\", SUM($N135:$P135))), 0),\"Not required\")","v":164717},0,29141,0,{"$f":"IF(INTRO!$E$43=\"Endemic\", IF($K135>1, IF($K135=4, \"Unknown\", IF($K135=99, \"Surveillance\", SUM($R135:$T135))), 0),\"Not required\")","v":29141},0,0,1,1]
[{"$f":"IF(INTRO!$E$33<>0,INTRO!$E$33, \" \")","v":"Uganda"},"Western","Kibaale",188071,{"$f":"IF(INTRO!$E$48=\"\",\"\",ROUND($D136*INTRO!$E$48,0))","v":26706},{"$f":"IF(INTRO!$E$49=\"\",\"\",ROUND($D136*INTRO!$E$49,0))","v":56797},{"$f":"IF(INTRO!$E$50=\"\",\"\",ROUND($D136*INTRO!$E$50,0))","v":97985},0,99,3,0,{"$f":"IF(INTRO!$E$37=\"Endemic\",IF($H136>0,IF($H136=4,\"Unknown\",IF($H136=99,\"Stopped\",$D136)),0),\"Not required\")","v":0},0,{"$f":"IF(INTRO!$E$41=\"Endemic\", IF($J136>1, IF($J136=4, \"Unknown\", IF($J136=99, \"Surveillance\", E136)), 0),\"Not required\")","v":26706},{"$f":"IF(INTRO!$E$41=\"Endemic\", IF($J136>1, IF($J136=4, \"Unknown\", IF($J136=99, \"Surveillance\", F136)), 0),\"Not required\")","v":56797},{"$f":"IF(INTRO!$E$41=\"Endemic\", IF($J136>1, IF($J136=4, \"Unknown\", IF($J136=99, \"Surveillance\", ROUND(D136*INTRO!$E$51,0))), 0),\"Not required\")","v":46454},{"$f":"IF(INTRO!$E$41=\"Endemic\", IF($J136>1, IF($J136=4, \"Unknown\", IF($J136=99, \"Surveillance\", SUM($N136:$P136))), 0),\"Not required\")","v":129957},0,0,0,{"$f":"IF(INTRO!$E$43=\"Endemic\", IF($K136>1, IF($K136=4, \"Unknown\", IF($K136=99, \"Surveillance\", SUM($R136:$T136))), 0),\"Not required\")","v":0},0,0,1,0]
[{"$f":"IF(INTRO!$E$33<>0,INTRO!$E$33, \" \")","v":"Uganda"},"Western","Kikuube",357482,{"$f":"IF(INTRO!$E$48=\"\",\"\",ROUND($D137*INTRO!$E$48,0))","v":50762},{"$f":"IF(INTRO!$E$49=\"\",\"\",ROUND($D137*INTRO!$E$49,0))","v":107960},{"$f":"IF(INTRO!$E$50=\"\",\"\",ROUND($D137*INTRO!$E$50,0))","v":186248},0,99,99,3,{"$f":"IF(INTRO!$E$37=\"Endemic\",IF($H137>0,IF($H137=4,\"Unknown\",IF($H137=99,\"Stopped\",$D137)),0),\"Not required\")","v":0},0,{"$f":"IF(INTRO!$E$41=\"Endemic\", IF($J137>1, IF($J137=4, \"Unknown\", IF($J137=99, \"Surveillance\", E137)), 0),\"Not required\")","v":"Surveillance"},{"$f":"IF(INTRO!$E$41=\"Endemic\", IF($J137>1, IF($J137=4, \"Unknown\", IF($J137=99, \"Surveillance\", F137)), 0),\"Not required\")","v":"Surveillance"},{"$f":"IF(INTRO!$E$41=\"Endemic\", IF($J137>1, IF($J137=4, \"Unknown\", IF($J137=99, \"Surveillance\", ROUND(D137*INTRO!$E$51,0))), 0),\"Not required\")","v":"Surveillance"},{"$f":"IF(INTRO!$E$41=\"Endemic\", IF($J137>1, IF($J137=4, \"Unknown\", IF($J137=99, \"Surveillance\", SUM($N137:$P137))), 0),\"Not required\")","v":"Surveillance"},0,107960,186248,{"$f":"IF(INTRO!$E$43=\"Endemic\", IF($K137>1, IF($K137=4, \"Unknown\", IF($K137=99, \"Surveillance\", SUM($R137:$T137))), 0),\"Not required\")","v":294208},0,0,1,1]
[{"$f":"IF(INTRO!$E$33<>0,INTRO!$E$33, \" \")","v":"Uganda"},"Western","Kiruhura",204444,{"$f":"IF(INTRO!$E$48=\"\",\"\",ROUND($D138*INTRO!$E$48,0))","v":29031},{"$f":"IF(INTRO!$E$49=\"\",\"\",ROUND($D138*INTRO!$E$49,0))","v":61742},{"$f":"IF(INTRO!$E$50=\"\",\"\",ROUND($D138*INTRO!$E$50,0))","v":106515},0,0,11,11,{"$f":"IF(INTRO!$E$37=\"Endemic\",IF($H138>0,IF($H138=4,\"Unknown\",IF($H138=99,\"Stopped\",$D138)),0),\"Not required\")","v":0},0,{"$f":"IF(INTRO!$E$41=\"Endemic\", IF($J138>1, IF($J138=4, \"Unknown\", IF($J138=99, \"Surveillance\", E138)), 0),\"Not required\")","v":29031},{"$f":"IF(INTRO!$E$41=\"Endemic\", IF($J138>1, IF($J138=4, \"Unknown\", IF($J138=99, \"Surveillance\", F138)), 0),\"Not required\")","v":61742},{"$f":"IF(INTRO!$E$41=\"Endemic\", IF($J138>1, IF($J138=4, \"Unknown\", IF($J138=99, \"Surveillance\", ROUND(D138*INTRO!$E$51,0))), 0),\"Not required\")","v":50498},{"$f":"IF(INTRO!$E$41=\"Endemic\", IF($J138>1, IF($J138=4, \"Unknown\", IF($J138=99, \"Surveillance\", SUM($N138:$P138))), 0),\"Not required\")","v":141271},0,0,0,{"$f":"IF(INTRO!$E$43=\"Endemic\", IF($K138>1, IF($K138=4, \"Unknown\", IF($K138=99, \"Surveillance\", SUM($R138:$T138))), 0),\"Not required\")","v":0},0,0,1,0]
[{"$f":"IF(INTRO!$E$33<>0,INTRO!$E$33, \" \")","v":"Uganda"},"Western","Kiryandongo",361475,{"$f":"IF(INTRO!$E$48=\"\",\"\",ROUND($D139*INTRO!$E$48,0))","v":51329},{"$f":"IF(INTRO!$E$49=\"\",\"\",ROUND($D139*INTRO!$E$49,0))","v":109165},{"$f":"IF(INTRO!$E$50=\"\",\"\",ROUND($D139*INTRO!$E$50,0))","v":188328},0,0,3,3,{"$f":"IF(INTRO!$E$37=\"Endemic\",IF($H139>0,IF($H139=4,\"Unknown\",IF($H139=99,\"Stopped\",$D139)),0),\"Not required\")","v":0},0,{"$f":"IF(INTRO!$E$41=\"Endemic\", IF($J139>1, IF($J139=4, \"Unknown\", IF($J139=99, \"Surveillance\", E139)), 0),\"Not required\")","v":51329},{"$f":"IF(INTRO!$E$41=\"Endemic\", IF($J139>1, IF($J139=4, \"Unknown\", IF($J139=99, \"Surveillance\", F139)), 0),\"Not required\")","v":109165},{"$f":"IF(INTRO!$E$41=\"Endemic\", IF($J139>1, IF($J139=4, \"Unknown\", IF($J139=99, \"Surveillance\", ROUND(D139*INTRO!$E$51,0))), 0),\"Not required\")","v":89284},{"$f":"IF(INTRO!$E$41=\"Endemic\", IF($J139>1, IF($J139=4, \"Unknown\", IF($J139=99, \"Surveillance\", SUM($N139:$P139))), 0),\"Not required\")","v":249778},0,52517,188328,{"$f":"IF(INTRO!$E$43=\"Endemic\", IF($K139>1, IF($K139=4, \"Unknown\", IF($K139=99, \"Surveillance\", SUM($R139:$T139))), 0),\"Not required\")","v":240845},0,0,1,1]
[{"$f":"IF(INTRO!$E$33<>0,INTRO!$E$33, \" \")","v":"Uganda"},"Western","Kisoro",387071,{"$f":"IF(INTRO!$E$48=\"\",\"\",ROUND($D140*INTRO!$E$48,0))","v":54964},{"$f":"IF(INTRO!$E$49=\"\",\"\",ROUND($D140*INTRO!$E$49,0))","v":116895},{"$f":"IF(INTRO!$E$50=\"\",\"\",ROUND($D140*INTRO!$E$50,0))","v":201664},0,99,3,0,{"$f":"IF(INTRO!$E$37=\"Endemic\",IF($H140>0,IF($H140=4,\"Unknown\",IF($H140=99,\"Stopped\",$D140)),0),\"Not required\")","v":0},0,{"$f":"IF(INTRO!$E$41=\"Endemic\", IF($J140>1, IF($J140=4, \"Unknown\", IF($J140=99, \"Surveillance\", E140)), 0),\"Not required\")","v":54964},{"$f":"IF(INTRO!$E$41=\"Endemic\", IF($J140>1, IF($J140=4, \"Unknown\", IF($J140=99, \"Surveillance\", F140)), 0),\"Not required\")","v":116895},{"$f":"IF(INTRO!$E$41=\"Endemic\", IF($J140>1, IF($J140=4, \"Unknown\", IF($J140=99, \"Surveillance\", ROUND(D140*INTRO!$E$51,0))), 0),\"Not required\")","v":95607},{"$f":"IF(INTRO!$E$41=\"Endemic\", IF($J140>1, IF($J140=4, \"Unknown\", IF($J140=99, \"Surveillance\", SUM($N140:$P140))), 0),\"Not required\")","v":267466},0,0,0,{"$f":"IF(INTRO!$E$43=\"Endemic\", IF($K140>1, IF($K140=4, \"Unknown\", IF($K140=99, \"Surveillance\", SUM($R140:$T140))), 0),\"Not required\")","v":0},0,0,1,0]
[{"$f":"IF(INTRO!$E$33<>0,INTRO!$E$33, \" \")","v":"Uganda"},"Western","Kitagwenda",196233,{"$f":"IF(INTRO!$E$48=\"\",\"\",ROUND($D141*INTRO!$E$48,0))","v":27865},{"$f":"IF(INTRO!$E$49=\"\",\"\",ROUND($D141*INTRO!$E$49,0))","v":59262},{"$f":"IF(INTRO!$E$50=\"\",\"\",ROUND($D141*INTRO!$E$50,0))","v":102237},0,99,11,3,{"$f":"IF(INTRO!$E$37=\"Endemic\",IF($H141>0,IF($H141=4,\"Unknown\",IF($H141=99,\"Stopped\",$D141)),0),\"Not required\")","v":0},0,{"$f":"IF(INTRO!$E$41=\"Endemic\", IF($J141>1, IF($J141=4, \"Unknown\", IF($J141=99, \"Surveillance\", E141)), 0),\"Not required\")","v":27865},{"$f":"IF(INTRO!$E$41=\"Endemic\", IF($J141>1, IF($J141=4, \"Unknown\", IF($J141=99, \"Surveillance\", F141)), 0),\"Not required\")","v":59262},{"$f":"IF(INTRO!$E$41=\"Endemic\", IF($J141>1, IF($J141=4, \"Unknown\", IF($J141=99, \"Surveillance\", ROUND(D141*INTRO!$E$51,0))), 0),\"Not required\")","v":48470},{"$f":"IF(INTRO!$E$41=\"Endemic\", IF($J141>1, IF($J141=4, \"Unknown\", IF($J141=99, \"Surveillance\", SUM($N141:$P141))), 0),\"Not required\")","v":135597},0,28660,102237,{"$f":"IF(INTRO!$E$43=\"Endemic\", IF($K141>1, IF($K141=4, \"Unknown\", IF($K141=99, \"Surveillance\", SUM($R141:$T141))), 0),\"Not required\")","v":130897},0,0,1,1]
[{"$f":"IF(INTRO!$E$33<>0,INTRO!$E$33, \" \")","v":"Uganda"},"Western","Kyegegwa",373867,{"$f":"IF(INTRO!$E$48=\"\",\"\",ROUND($D142*INTRO!$E$48,0))","v":53089},{"$f":"IF(INTRO!$E$49=\"\",\"\",ROUND($D142*INTRO!$E$49,0))","v":112908},{"$f":"IF(INTRO!$E$50=\"\",\"\",ROUND($D142*INTRO!$E$50,0))","v":194785},0,0,3,0,{"$f":"IF(INTRO!$E$37=\"Endemic\",IF($H142>0,IF($H142=4,\"Unknown\",IF($H142=99,\"Stopped\",$D142)),0),\"Not required\")","v":0},0,{"$f":"IF(INTRO!$E$41=\"Endemic\", IF($J142>1, IF($J142=4, \"Unknown\", IF($J142=99, \"Surveillance\", E142)), 0),\"Not required\")","v":53089},{"$f":"IF(INTRO!$E$41=\"Endemic\", IF($J142>1, IF($J142=4, \"Unknown\", IF($J142=99, \"Surveillance\", F142)), 0),\"Not required\")","v":112908},{"$f":"IF(INTRO!$E$41=\"Endemic\", IF($J142>1, IF($J142=4, \"Unknown\", IF($J142=99, \"Surveillance\", ROUND(D142*INTRO!$E$51,0))), 0),\"Not required\")","v":92345},{"$f":"IF(INTRO!$E$41=\"Endemic\", IF($J142>1, IF($J142=4, \"Unknown\", IF($J142=99, \"Surveillance\", SUM($N142:$P142))), 0),\"Not required\")","v":258342},0,0,0,{"$f":"IF(INTRO!$E$43=\"Endemic\", IF($K142>1, IF($K142=4, \"Unknown\", IF($K142=99, \"Surveillance\", SUM($R142:$T142))), 0),\"Not required\")","v":0},0,0,1,0]
[{"$f":"IF(INTRO!$E$33<>0,INTRO!$E$33, \" \")","v":"Uganda"},"Western","Kyenjojo",539279,{"$f":"IF(INTRO!$E$48=\"\",\"\",ROUND($D143*INTRO!$E$48,0))","v":76578},{"$f":"IF(INTRO!$E$49=\"\",\"\",ROUND($D143*INTRO!$E$49,0))","v":162862},{"$f":"IF(INTRO!$E$50=\"\",\"\",ROUND($D143*INTRO!$E$50,0))","v":280964},0,99,3,0,{"$f":"IF(INTRO!$E$37=\"Endemic\",IF($H143>0,IF($H143=4,\"Unknown\",IF($H143=99,\"Stopped\",$D143)),0),\"Not required\")","v":0},0,{"$f":"IF(INTRO!$E$41=\"Endemic\", IF($J143>1, IF($J143=4, \"Unknown\", IF($J143=99, \"Surveillance\", E143)), 0),\"Not required\")","v":76578},{"$f":"IF(INTRO!$E$41=\"Endemic\", IF($J143>1, IF($J143=4, \"Unknown\", IF($J143=99, \"Surveillance\", F143)), 0),\"Not required\")","v":162862},{"$f":"IF(INTRO!$E$41=\"Endemic\", IF($J143>1, IF($J143=4, \"Unknown\", IF($J143=99, \"Surveillance\", ROUND(D143*INTRO!$E$51,0))), 0),\"Not required\")","v":133202},{"$f":"IF(INTRO!$E$41=\"Endemic\", IF($J143>1, IF($J143=4, \"Unknown\", IF($J143=99, \"Surveillance\", SUM($N143:$P143))), 0),\"Not required\")","v":372642},0,0,0,{"$f":"IF(INTRO!$E$43=\"Endemic\", IF($K143>1, IF($K143=4, \"Unknown\", IF($K143=99, \"Surveillance\", SUM($R143:$T143))), 0),\"Not required\")","v":0},0,0,1,0]
[{"$f":"IF(INTRO!$E$33<>0,INTRO!$E$33, \" \")","v":"Uganda"},"Western","Masindi",427036,{"$f":"IF(INTRO!$E$48=\"\",\"\",ROUND($D144*INTRO!$E$48,0))","v":60639},{"$f":"IF(INTRO!$E$49=\"\",\"\",ROUND($D144*INTRO!$E$49,0))","v":128965},{"$f":"IF(INTRO!$E$50=\"\",\"\",ROUND($D144*INTRO!$E$50,0))","v":222486},0,99,3,0,{"$f":"IF(INTRO!$E$37=\"Endemic\",IF($H144>0,IF($H144=4,\"Unknown\",IF($H144=99,\"Stopped\",$D144)),0),\"Not required\")","v":0},0,{"$f":"IF(INTRO!$E$41=\"Endemic\", IF($J144>1, IF($J144=4, \"Unknown\", IF($J144=99, \"Surveillance\", E144)), 0),\"Not required\")","v":60639},{"$f":"IF(INTRO!$E$41=\"Endemic\", IF($J144>1, IF($J144=4, \"Unknown\", IF($J144=99, \"Surveillance\", F144)), 0),\"Not required\")","v":128965},{"$f":"IF(INTRO!$E$41=\"Endemic\", IF($J144>1, IF($J144=4, \"Unknown\", IF($J144=99, \"Surveillance\", ROUND(D144*INTRO!$E$51,0))), 0),\"Not required\")","v":105478},{"$f":"IF(INTRO!$E$41=\"Endemic\", IF($J144>1, IF($J144=4, \"Unknown\", IF($J144=99, \"Surveillance\", SUM($N144:$P144))), 0),\"Not required\")","v":295082},0,0,0,{"$f":"IF(INTRO!$E$43=\"Endemic\", IF($K144>1, IF($K144=4, \"Unknown\", IF($K144=99, \"Surveillance\", SUM($R144:$T144))), 0),\"Not required\")","v":0},0,0,1,0]
[{"$f":"IF(INTRO!$E$33<>0,INTRO!$E$33, \" \")","v":"Uganda"},"Western","Mbarara",203213,{"$f":"IF(INTRO!$E$48=\"\",\"\",ROUND($D145*INTRO!$E$48,0))","v":28856},{"$f":"IF(INTRO!$E$49=\"\",\"\",ROUND($D145*INTRO!$E$49,0))","v":61370},{"$f":"IF(INTRO!$E$50=\"\",\"\",ROUND($D145*INTRO!$E$50,0))","v":105874},0,0,3,0,{"$f":"IF(INTRO!$E$37=\"Endemic\",IF($H145>0,IF($H145=4,\"Unknown\",IF($H145=99,\"Stopped\",$D145)),0),\"Not required\")","v":0},0,{"$f":"IF(INTRO!$E$41=\"Endemic\", IF($J145>1, IF($J145=4, \"Unknown\", IF($J145=99, \"Surveillance\", E145)), 0),\"Not required\")","v":28856},{"$f":"IF(INTRO!$E$41=\"Endemic\", IF($J145>1, IF($J145=4, \"Unknown\", IF($J145=99, \"Surveillance\", F145)), 0),\"Not required\")","v":61370},{"$f":"IF(INTRO!$E$41=\"Endemic\", IF($J145>1, IF($J145=4, \"Unknown\", IF($J145=99, \"Surveillance\", ROUND(D145*INTRO!$E$51,0))), 0),\"Not required\")","v":50194},{"$f":"IF(INTRO!$E$41=\"Endemic\", IF($J145>1, IF($J145=4, \"Unknown\", IF($J145=99, \"Surveillance\", SUM($N145:$P145))), 0),\"Not required\")","v":140420},0,0,0,{"$f":"IF(INTRO!$E$43=\"Endemic\", IF($K145>1, IF($K145=4, \"Unknown\", IF($K145=99, \"Surveillance\", SUM($R145:$T145))), 0),\"Not required\")","v":0},0,0,1,0]
[{"$f":"IF(INTRO!$E$33<>0,INTRO!$E$33, \" \")","v":"Uganda"},"Western","Mbarara City",262849,{"$f":"IF(INTRO!$E$48=\"\",\"\",ROUND($D146*INTRO!$E$48,0))","v":37325},{"$f":"IF(INTRO!$E$49=\"\",\"\",ROUND($D146*INTRO!$E$49,0))","v":79380},{"$f":"IF(INTRO!$E$50=\"\",\"\",ROUND($D146*INTRO!$E$50,0))","v":136944},0,0,3,0,{"$f":"IF(INTRO!$E$37=\"Endemic\",IF($H146>0,IF($H146=4,\"Unknown\",IF($H146=99,\"Stopped\",$D146)),0),\"Not required\")","v":0},0,{"$f":"IF(INTRO!$E$41=\"Endemic\", IF($J146>1, IF($J146=4, \"Unknown\", IF($J146=99, \"Surveillance\", E146)), 0),\"Not required\")","v":37325},{"$f":"IF(INTRO!$E$41=\"Endemic\", IF($J146>1, IF($J146=4, \"Unknown\", IF($J146=99, \"Surveillance\", F146)), 0),\"Not required\")","v":79380},{"$f":"IF(INTRO!$E$41=\"Endemic\", IF($J146>1, IF($J146=4, \"Unknown\", IF($J146=99, \"Surveillance\", ROUND(D146*INTRO!$E$51,0))), 0),\"Not required\")","v":64924},{"$f":"IF(INTRO!$E$41=\"Endemic\", IF($J146>1, IF($J146=4, \"Unknown\", IF($J146=99, \"Surveillance\", SUM($N146:$P146))), 0),\"Not required\")","v":181629},0,0,0,{"$f":"IF(INTRO!$E$43=\"Endemic\", IF($K146>1, IF($K146=4, \"Unknown\", IF($K146=99, \"Surveillance\", SUM($R146:$T146))), 0),\"Not required\")","v":0},0,0,1,0]
[{"$f":"IF(INTRO!$E$33<>0,INTRO!$E$33, \" \")","v":"Uganda"},"Western","Mitooma",250046,{"$f":"IF(INTRO!$E$48=\"\",\"\",ROUND($D147*INTRO!$E$48,0))","v":35507},{"$f":"IF(INTRO!$E$49=\"\",\"\",ROUND($D147*INTRO!$E$49,0))","v":75514},{"$f":"IF(INTRO!$E$50=\"\",\"\",ROUND($D147*INTRO!$E$50,0))","v":130274},0,99,3,0,{"$f":"IF(INTRO!$E$37=\"Endemic\",IF($H147>0,IF($H147=4,\"Unknown\",IF($H147=99,\"Stopped\",$D147)),0),\"Not required\")","v":0},0,{"$f":"IF(INTRO!$E$41=\"Endemic\", IF($J147>1, IF($J147=4, \"Unknown\", IF($J147=99, \"Surveillance\", E147)), 0),\"Not required\")","v":35507},{"$f":"IF(INTRO!$E$41=\"Endemic\", IF($J147>1, IF($J147=4, \"Unknown\", IF($J147=99, \"Surveillance\", F147)), 0),\"Not required\")","v":75514},{"$f":"IF(INTRO!$E$41=\"Endemic\", IF($J147>1, IF($J147=4, \"Unknown\", IF($J147=99, \"Surveillance\", ROUND(D147*INTRO!$E$51,0))), 0),\"Not required\")","v":61761},{"$f":"IF(INTRO!$E$41=\"Endemic\", IF($J147>1, IF($J147=4, \"Unknown\", IF($J147=99, \"Surveillance\", SUM($N147:$P147))), 0),\"Not required\")","v":172782},0,0,0,{"$f":"IF(INTRO!$E$43=\"Endemic\", IF($K147>1, IF($K147=4, \"Unknown\", IF($K147=99, \"Surveillance\", SUM($R147:$T147))), 0),\"Not required\")","v":0},0,0,1,0]
[{"$f":"IF(INTRO!$E$33<>0,INTRO!$E$33, \" \")","v":"Uganda"},"Western","Ntoroko",89521,{"$f":"IF(INTRO!$E$48=\"\",\"\",ROUND($D148*INTRO!$E$48,0))","v":12712},{"$f":"IF(INTRO!$E$49=\"\",\"\",ROUND($D148*INTRO!$E$49,0))","v":27035},{"$f":"IF(INTRO!$E$50=\"\",\"\",ROUND($D148*INTRO!$E$50,0))","v":46640},0,0,3,31,{"$f":"IF(INTRO!$E$37=\"Endemic\",IF($H148>0,IF($H148=4,\"Unknown\",IF($H148=99,\"Stopped\",$D148)),0),\"Not required\")","v":0},0,{"$f":"IF(INTRO!$E$41=\"Endemic\", IF($J148>1, IF($J148=4, \"Unknown\", IF($J148=99, \"Surveillance\", E148)), 0),\"Not required\")","v":12712},{"$f":"IF(INTRO!$E$41=\"Endemic\", IF($J148>1, IF($J148=4, \"Unknown\", IF($J148=99, \"Surveillance\", F148)), 0),\"Not required\")","v":27035},{"$f":"IF(INTRO!$E$41=\"Endemic\", IF($J148>1, IF($J148=4, \"Unknown\", IF($J148=99, \"Surveillance\", ROUND(D148*INTRO!$E$51,0))), 0),\"Not required\")","v":22112},{"$f":"IF(INTRO!$E$41=\"Endemic\", IF($J148>1, IF($J148=4, \"Unknown\", IF($J148=99, \"Surveillance\", SUM($N148:$P148))), 0),\"Not required\")","v":61859},0,10428,46640,{"$f":"IF(INTRO!$E$43=\"Endemic\", IF($K148>1, IF($K148=4, \"Unknown\", IF($K148=99, \"Surveillance\", SUM($R148:$T148))), 0),\"Not required\")","v":57068},0,0,1,1]
[{"$f":"IF(INTRO!$E$33<>0,INTRO!$E$33, \" \")","v":"Uganda"},"Western","Ntungamo",659531,{"$f":"IF(INTRO!$E$48=\"\",\"\",ROUND($D149*INTRO!$E$48,0))","v":93653},{"$f":"IF(INTRO!$E$49=\"\",\"\",ROUND($D149*INTRO!$E$49,0))","v":199178},{"$f":"IF(INTRO!$E$50=\"\",\"\",ROUND($D149*INTRO!$E$50,0))","v":343616},0,0,3,0,{"$f":"IF(INTRO!$E$37=\"Endemic\",IF($H149>0,IF($H149=4,\"Unknown\",IF($H149=99,\"Stopped\",$D149)),0),\"Not required\")","v":0},0,{"$f":"IF(INTRO!$E$41=\"Endemic\", IF($J149>1, IF($J149=4, \"Unknown\", IF($J149=99, \"Surveillance\", E149)), 0),\"Not required\")","v":93653},{"$f":"IF(INTRO!$E$41=\"Endemic\", IF($J149>1, IF($J149=4, \"Unknown\", IF($J149=99, \"Surveillance\", F149)), 0),\"Not required\")","v":199178},{"$f":"IF(INTRO!$E$41=\"Endemic\", IF($J149>1, IF($J149=4, \"Unknown\", IF($J149=99, \"Surveillance\", ROUND(D149*INTRO!$E$51,0))), 0),\"Not required\")","v":162904},{"$f":"IF(INTRO!$E$41=\"Endemic\", IF($J149>1, IF($J149=4, \"Unknown\", IF($J149=99, \"Surveillance\", SUM($N149:$P149))), 0),\"Not required\")","v":455735},0,0,0,{"$f":"IF(INTRO!$E$43=\"Endemic\", IF($K149>1, IF($K149=4, \"Unknown\", IF($K149=99, \"Surveillance\", SUM($R149:$T149))), 0),\"Not required\")","v":0},0,0,1,0]
[{"$f":"IF(INTRO!$E$33<>0,INTRO!$E$33, \" \")","v":"Uganda"},"Western","Rubanda",269049,{"$f":"IF(INTRO!$E$48=\"\",\"\",ROUND($D150*INTRO!$E$48,0))","v":38205},{"$f":"IF(INTRO!$E$49=\"\",\"\",ROUND($D150*INTRO!$E$49,0))","v":81253},{"$f":"IF(INTRO!$E$50=\"\",\"\",ROUND($D150*INTRO!$E$50,0))","v":140175},0,99,3,0,{"$f":"IF(INTRO!$E$37=\"Endemic\",IF($H150>0,IF($H150=4,\"Unknown\",IF($H150=99,\"Stopped\",$D150)),0),\"Not required\")","v":0},0,{"$f":"IF(INTRO!$E$41=\"Endemic\", IF($J150>1, IF($J150=4, \"Unknown\", IF($J150=99, \"Surveillance\", E150)), 0),\"Not required\")","v":38205},{"$f":"IF(INTRO!$E$41=\"Endemic\", IF($J150>1, IF($J150=4, \"Unknown\", IF($J150=99, \"Surveillance\", F150)), 0),\"Not required\")","v":81253},{"$f":"IF(INTRO!$E$41=\"Endemic\", IF($J150>1, IF($J150=4, \"Unknown\", IF($J150=99, \"Surveillance\", ROUND(D150*INTRO!$E$51,0))), 0),\"Not required\")","v":66455},{"$f":"IF(INTRO!$E$41=\"Endemic\", IF($J150>1, IF($J150=4, \"Unknown\", IF($J150=99, \"Surveillance\", SUM($N150:$P150))), 0),\"Not required\")","v":185913},0,0,0,{"$f":"IF(INTRO!$E$43=\"Endemic\", IF($K150>1, IF($K150=4, \"Unknown\", IF($K150=99, \"Surveillance\", SUM($R150:$T150))), 0),\"Not required\")","v":0},0,0,1,0]
[{"$f":"IF(INTRO!$E$33<>0,INTRO!$E$33, \" \")","v":"Uganda"},"Western","Rubirizi",174249,{"$f":"IF(INTRO!$E$48=\"\",\"\",ROUND($D151*INTRO!$E$48,0))","v":24743},{"$f":"IF(INTRO!$E$49=\"\",\"\",ROUND($D151*INTRO!$E$49,0))","v":52623},{"$f":"IF(INTRO!$E$50=\"\",\"\",ROUND($D151*INTRO!$E$50,0))","v":90784},0,0,11,3,{"$f":"IF(INTRO!$E$37=\"Endemic\",IF($H151>0,IF($H151=4,\"Unknown\",IF($H151=99,\"Stopped\",$D151)),0),\"Not required\")","v":0},0,{"$f":"IF(INTRO!$E$41=\"Endemic\", IF($J151>1, IF($J151=4, \"Unknown\", IF($J151=99, \"Surveillance\", E151)), 0),\"Not required\")","v":24743},{"$f":"IF(INTRO!$E$41=\"Endemic\", IF($J151>1, IF($J151=4, \"Unknown\", IF($J151=99, \"Surveillance\", F151)), 0),\"Not required\")","v":52623},{"$f":"IF(INTRO!$E$41=\"Endemic\", IF($J151>1, IF($J151=4, \"Unknown\", IF($J151=99, \"Surveillance\", ROUND(D151*INTRO!$E$51,0))), 0),\"Not required\")","v":43040},{"$f":"IF(INTRO!$E$41=\"Endemic\", IF($J151>1, IF($J151=4, \"Unknown\", IF($J151=99, \"Surveillance\", SUM($N151:$P151))), 0),\"Not required\")","v":120406},0,2273,90784,{"$f":"IF(INTRO!$E$43=\"Endemic\", IF($K151>1, IF($K151=4, \"Unknown\", IF($K151=99, \"Surveillance\", SUM($R151:$T151))), 0),\"Not required\")","v":93057},0,0,1,1]
[{"$f":"IF(INTRO!$E$33<>0,INTRO!$E$33, \" \")","v":"Uganda"},"Western","Rukiga",137530,{"$f":"IF(INTRO!$E$48=\"\",\"\",ROUND($D152*INTRO!$E$48,0))","v":19529},{"$f":"IF(INTRO!$E$49=\"\",\"\",ROUND($D152*INTRO!$E$49,0))","v":41534},{"$f":"IF(INTRO!$E$50=\"\",\"\",ROUND($D152*INTRO!$E$50,0))","v":71653},0,0,3,0,{"$f":"IF(INTRO!$E$37=\"Endemic\",IF($H152>0,IF($H152=4,\"Unknown\",IF($H152=99,\"Stopped\",$D152)),0),\"Not required\")","v":0},0,{"$f":"IF(INTRO!$E$41=\"Endemic\", IF($J152>1, IF($J152=4, \"Unknown\", IF($J152=99, \"Surveillance\", E152)), 0),\"Not required\")","v":19529},{"$f":"IF(INTRO!$E$41=\"Endemic\", IF($J152>1, IF($J152=4, \"Unknown\", IF($J152=99, \"Surveillance\", F152)), 0),\"Not required\")","v":41534},{"$f":"IF(INTRO!$E$41=\"Endemic\", IF($J152>1, IF($J152=4, \"Unknown\", IF($J152=99, \"Surveillance\", ROUND(D152*INTRO!$E$51,0))), 0),\"Not required\")","v":33970},{"$f":"IF(INTRO!$E$41=\"Endemic\", IF($J152>1, IF($J152=4, \"Unknown\", IF($J152=99, \"Surveillance\", SUM($N152:$P152))), 0),\"Not required\")","v":95033},0,0,0,{"$f":"IF(INTRO!$E$43=\"Endemic\", IF($K152>1, IF($K152=4, \"Unknown\", IF($K152=99, \"Surveillance\", SUM($R152:$T152))), 0),\"Not required\")","v":0},0,0,1,0]
[{"$f":"IF(INTRO!$E$33<>0,INTRO!$E$33, \" \")","v":"Uganda"},"Western","Rukungiri",432068,{"$f":"IF(INTRO!$E$48=\"\",\"\",ROUND($D153*INTRO!$E$48,0))","v":61354},{"$f":"IF(INTRO!$E$49=\"\",\"\",ROUND($D153*INTRO!$E$49,0))","v":130485},{"$f":"IF(INTRO!$E$50=\"\",\"\",ROUND($D153*INTRO!$E$50,0))","v":225107},0,0,11,99,{"$f":"IF(INTRO!$E$37=\"Endemic\",IF($H153>0,IF($H153=4,\"Unknown\",IF($H153=99,\"Stopped\",$D153)),0),\"Not required\")","v":0},0,{"$f":"IF(INTRO!$E$41=\"Endemic\", IF($J153>1, IF($J153=4, \"Unknown\", IF($J153=99, \"Surveillance\", E153)), 0),\"Not required\")","v":61354},{"$f":"IF(INTRO!$E$41=\"Endemic\", IF($J153>1, IF($J153=4, \"Unknown\", IF($J153=99, \"Surveillance\", F153)), 0),\"Not required\")","v":130485},{"$f":"IF(INTRO!$E$41=\"Endemic\", IF($J153>1, IF($J153=4, \"Unknown\", IF($J153=99, \"Surveillance\", ROUND(D153*INTRO!$E$51,0))), 0),\"Not required\")","v":106721},{"$f":"IF(INTRO!$E$41=\"Endemic\", IF($J153>1, IF($J153=4, \"Unknown\", IF($J153=99, \"Surveillance\", SUM($N153:$P153))), 0),\"Not required\")","v":298560},0,0,0,{"$f":"IF(INTRO!$E$43=\"Endemic\", IF($K153>1, IF($K153=4, \"Unknown\", IF($K153=99, \"Surveillance\", SUM($R153:$T153))), 0),\"Not required\")","v":"Surveillance"},0,0,1,0]
[{"$f":"IF(INTRO!$E$33<>0,INTRO!$E$33, \" \")","v":"Uganda"},"Western","Rwampara",173018,{"$f":"IF(INTRO!$E$48=\"\",\"\",ROUND($D154*INTRO!$E$48,0))","v":24569},{"$f":"IF(INTRO!$E$49=\"\",\"\",ROUND($D154*INTRO!$E$49,0))","v":52251},{"$f":"IF(INTRO!$E$50=\"\",\"\",ROUND($D154*INTRO!$E$50,0))","v":90142},0,0,3,0,{"$f":"IF(INTRO!$E$37=\"Endemic\",IF($H154>0,IF($H154=4,\"Unknown\",IF($H154=99,\"Stopped\",$D154)),0),\"Not required\")","v":0},0,{"$f":"IF(INTRO!$E$41=\"Endemic\", IF($J154>1, IF($J154=4, \"Unknown\", IF($J154=99, \"Surveillance\", E154)), 0),\"Not required\")","v":24569},{"$f":"IF(INTRO!$E$41=\"Endemic\", IF($J154>1, IF($J154=4, \"Unknown\", IF($J154=99, \"Surveillance\", F154)), 0),\"Not required\")","v":52251},{"$f":"IF(INTRO!$E$41=\"Endemic\", IF($J154>1, IF($J154=4, \"Unknown\", IF($J154=99, \"Surveillance\", ROUND(D154*INTRO!$E$51,0))), 0),\"Not required\")","v":42735},{"$f":"IF(INTRO!$E$41=\"Endemic\", IF($J154>1, IF($J154=4, \"Unknown\", IF($J154=99, \"Surveillance\", SUM($N154:$P154))), 0),\"Not required\")","v":119555},0,0,0,{"$f":"IF(INTRO!$E$43=\"Endemic\", IF($K154>1, IF($K154=4, \"Unknown\", IF($K154=99, \"Surveillance\", SUM($R154:$T154))), 0),\"Not required\")","v":0},0,0,1,0]
[{"$f":"IF(INTRO!$E$33<>0,INTRO!$E$33, \" \")","v":"Uganda"},"Western","Sheema",285359,{"$f":"IF(INTRO!$E$48=\"\",\"\",ROUND($D155*INTRO!$E$48,0))","v":40521},{"$f":"IF(INTRO!$E$49=\"\",\"\",ROUND($D155*INTRO!$E$49,0))","v":86178},{"$f":"IF(INTRO!$E$50=\"\",\"\",ROUND($D155*INTRO!$E$50,0))","v":148672},0,0,3,0,{"$f":"IF(INTRO!$E$37=\"Endemic\",IF($H155>0,IF($H155=4,\"Unknown\",IF($H155=99,\"Stopped\",$D155)),0),\"Not required\")","v":0},0,{"$f":"IF(INTRO!$E$41=\"Endemic\", IF($J155>1, IF($J155=4, \"Unknown\", IF($J155=99, \"Surveillance\", E155)), 0),\"Not required\")","v":40521},{"$f":"IF(INTRO!$E$41=\"Endemic\", IF($J155>1, IF($J155=4, \"Unknown\", IF($J155=99, \"Surveillance\", F155)), 0),\"Not required\")","v":86178},{"$f":"IF(INTRO!$E$41=\"Endemic\", IF($J155>1, IF($J155=4, \"Unknown\", IF($J155=99, \"Surveillance\", ROUND(D155*INTRO!$E$51,0))), 0),\"Not required\")","v":70484},{"$f":"IF(INTRO!$E$41=\"Endemic\", IF($J155>1, IF($J155=4, \"Unknown\", IF($J155=99, \"Surveillance\", SUM($N155:$P155))), 0),\"Not required\")","v":197183},0,0,0,{"$f":"IF(INTRO!$E$43=\"Endemic\", IF($K155>1, IF($K155=4, \"Unknown\", IF($K155=99, \"Surveillance\", SUM($R155:$T155))), 0),\"Not required\")","v":0},0,0,1,0]

{"sheet":"DEC","index":2,"n_rows":155,"n_cols":12,"rows_kept":155,"cut":false,"hidden":true,"merged":[[6,10,7,10],[6,0,7,0],[6,11,7,11],[5,3,5,6],[5,9,5,11],[6,4,7,4],[6,3,7,3],[6,8,7,8],[6,7,7,7],[6,6,7,6],[6,9,7,9],[3,0,3,2],[5,0,5,2],[6,5,7,5],[6,2,7,2],[6,1,7,1]]}
["Diethylcarbamazine citrate (DEC)"]
["Administrative structure, eligible population by age group, treatment plan and information about tablets"]
[]
["TOTAL",null,null,{"$f":"SUBTOTAL(9,D$10:D$1010)","v":0},0,0,0,null,{"$f":"SUBTOTAL(9,I$10:I$1010)","v":0},0,0,0]
[]
["Country administrative structure",null,null,"Population requiring treatment with DEC",null,null,null,"Treatment plan","Target population","Diethylcarbamazine citrate (DEC)"]
["Country","Province/State","District","PreSAC","SAC","Adults","Total","LF","LF","Total required","Remaining in stock","Tablets to be procured"]
[]
[]
[{"$f":"IF(INTRO!$E$39<>\"Non-endemic\", \" \", IF(INTRO!$E$37=\"Non-endemic\",\" \", IF(COUNTRY_INFO!A10=0,\" \",COUNTRY_INFO!A10)))","v":" "},{"$f":"IF(INTRO!$E$39<>\"Non-endemic\", \" \", IF(INTRO!$E$37=\"Non-endemic\",\" \", IF(COUNTRY_INFO!B10=0,\" \",COUNTRY_INFO!B10)))","v":" "},{"$f":"IF(INTRO!$E$39<>\"Non-endemic\", \" \", IF(INTRO!$E$37=\"Non-endemic\",\" \", IF(COUNTRY_INFO!C10=0,\" \",COUNTRY_INFO!C10)))","v":" "},{"$f":"IF(INTRO!$E$39<>\"Non-endemic\", 0, IF(INTRO!$E$37=\"Non-endemic\",0,IF(COUNTRY_INFO!$H10=1,COUNTRY_INFO!E10,0)))","v":0},{"$f":"IF(INTRO!$E$39<>\"Non-endemic\", 0, IF(INTRO!$E$37=\"Non-endemic\",0,IF(COUNTRY_INFO!$H10=1,COUNTRY_INFO!F10,0)))","v":0},{"$f":"IF(INTRO!$E$39<>\"Non-endemic\", 0, IF(INTRO!$E$37=\"Non-endemic\",0,IF(COUNTRY_INFO!$H10=1,COUNTRY_INFO!G10,0)))","v":0},{"$f":"SUM(D10:F10)","v":0},{"$f":"IF(INTRO!$E$39=\"Non-endemic\",IF(INTRO!$E$37=\"Non-endemic\",\"Not required\",COUNTRY_INFO!V10),\"Treat with IVM\")","v":"Treat with IVM"},{"$f":"IF(H10=1,G10,0)","v":0},{"$f":"IF(I10>0,I10*2.5,0)","v":0},null,{"$f":"IF($J10>$K10,$J10-$K10,0)","v":0}]
[{"$f":"IF(INTRO!$E$39<>\"Non-endemic\", \" \", IF(INTRO!$E$37=\"Non-endemic\",\" \", IF(COUNTRY_INFO!A11=0,\" \",COUNTRY_INFO!A11)))","v":" "},{"$f":"IF(INTRO!$E$39<>\"Non-endemic\", \" \", IF(INTRO!$E$37=\"Non-endemic\",\" \", IF(COUNTRY_INFO!B11=0,\" \",COUNTRY_INFO!B11)))","v":" "},{"$f":"IF(INTRO!$E$39<>\"Non-endemic\", \" \", IF(INTRO!$E$37=\"Non-endemic\",\" \", IF(COUNTRY_INFO!C11=0,\" \",COUNTRY_INFO!C11)))","v":" "},{"$f":"IF(INTRO!$E$39<>\"Non-endemic\", 0, IF(INTRO!$E$37=\"Non-endemic\",0,IF(COUNTRY_INFO!$H11=1,COUNTRY_INFO!E11,0)))","v":0},{"$f":"IF(INTRO!$E$39<>\"Non-endemic\", 0, IF(INTRO!$E$37=\"Non-endemic\",0,IF(COUNTRY_INFO!$H11=1,COUNTRY_INFO!F11,0)))","v":0},{"$f":"IF(INTRO!$E$39<>\"Non-endemic\", 0, IF(INTRO!$E$37=\"Non-endemic\",0,IF(COUNTRY_INFO!$H11=1,COUNTRY_INFO!G11,0)))","v":0},{"$f":"SUM(D11:F11)","v":0},{"$f":"IF(INTRO!$E$39=\"Non-endemic\",IF(INTRO!$E$37=\"Non-endemic\",\"Not required\",COUNTRY_INFO!V11),\"Treat with IVM\")","v":"Treat with IVM"},{"$f":"IF(H11=1,G11,0)","v":0},{"$f":"IF(I11>0,I11*2.5,0)","v":0},null,0]
[{"$f":"IF(INTRO!$E$39<>\"Non-endemic\", \" \", IF(INTRO!$E$37=\"Non-endemic\",\" \", IF(COUNTRY_INFO!A12=0,\" \",COUNTRY_INFO!A12)))","v":" "},{"$f":"IF(INTRO!$E$39<>\"Non-endemic\", \" \", IF(INTRO!$E$37=\"Non-endemic\",\" \", IF(COUNTRY_INFO!B12=0,\" \",COUNTRY_INFO!B12)))","v":" "},{"$f":"IF(INTRO!$E$39<>\"Non-endemic\", \" \", IF(INTRO!$E$37=\"Non-endemic\",\" \", IF(COUNTRY_INFO!C12=0,\" \",COUNTRY_INFO!C12)))","v":" "},{"$f":"IF(INTRO!$E$39<>\"Non-endemic\", 0, IF(INTRO!$E$37=\"Non-endemic\",0,IF(COUNTRY_INFO!$H12=1,COUNTRY_INFO!E12,0)))","v":0},{"$f":"IF(INTRO!$E$39<>\"Non-endemic\", 0, IF(INTRO!$E$37=\"Non-endemic\",0,IF(COUNTRY_INFO!$H12=1,COUNTRY_INFO!F12,0)))","v":0},{"$f":"IF(INTRO!$E$39<>\"Non-endemic\", 0, IF(INTRO!$E$37=\"Non-endemic\",0,IF(COUNTRY_INFO!$H12=1,COUNTRY_INFO!G12,0)))","v":0},0,{"$f":"IF(INTRO!$E$39=\"Non-endemic\",IF(INTRO!$E$37=\"Non-endemic\",\"Not required\",COUNTRY_INFO!V12),\"Treat with IVM\")","v":"Treat with IVM"},0,0,null,0]
[{"$f":"IF(INTRO!$E$39<>\"Non-endemic\", \" \", IF(INTRO!$E$37=\"Non-endemic\",\" \", IF(COUNTRY_INFO!A13=0,\" \",COUNTRY_INFO!A13)))","v":" "},{"$f":"IF(INTRO!$E$39<>\"Non-endemic\", \" \", IF(INTRO!$E$37=\"Non-endemic\",\" \", IF(COUNTRY_INFO!B13=0,\" \",COUNTRY_INFO!B13)))","v":" "},{"$f":"IF(INTRO!$E$39<>\"Non-endemic\", \" \", IF(INTRO!$E$37=\"Non-endemic\",\" \", IF(COUNTRY_INFO!C13=0,\" \",COUNTRY_INFO!C13)))","v":" "},{"$f":"IF(INTRO!$E$39<>\"Non-endemic\", 0, IF(INTRO!$E$37=\"Non-endemic\",0,IF(COUNTRY_INFO!$H13=1,COUNTRY_INFO!E13,0)))","v":0},{"$f":"IF(INTRO!$E$39<>\"Non-endemic\", 0, IF(INTRO!$E$37=\"Non-endemic\",0,IF(COUNTRY_INFO!$H13=1,COUNTRY_INFO!F13,0)))","v":0},{"$f":"IF(INTRO!$E$39<>\"Non-endemic\", 0, IF(INTRO!$E$37=\"Non-endemic\",0,IF(COUNTRY_INFO!$H13=1,COUNTRY_INFO!G13,0)))","v":0},0,{"$f":"IF(INTRO!$E$39=\"Non-endemic\",IF(INTRO!$E$37=\"Non-endemic\",\"Not required\",COUNTRY_INFO!V13),\"Treat with IVM\")","v":"Treat with IVM"},0,0,null,0]
[{"$f":"IF(INTRO!$E$39<>\"Non-endemic\", \" \", IF(INTRO!$E$37=\"Non-endemic\",\" \", IF(COUNTRY_INFO!A14=0,\" \",COUNTRY_INFO!A14)))","v":" "},{"$f":"IF(INTRO!$E$39<>\"Non-endemic\", \" \", IF(INTRO!$E$37=\"Non-endemic\",\" \", IF(COUNTRY_INFO!B14=0,\" \",COUNTRY_INFO!B14)))","v":" "},{"$f":"IF(INTRO!$E$39<>\"Non-endemic\", \" \", IF(INTRO!$E$37=\"Non-endemic\",\" \", IF(COUNTRY_INFO!C14=0,\" \",COUNTRY_INFO!C14)))","v":" "},{"$f":"IF(INTRO!$E$39<>\"Non-endemic\", 0, IF(INTRO!$E$37=\"Non-endemic\",0,IF(COUNTRY_INFO!$H14=1,COUNTRY_INFO!E14,0)))","v":0},{"$f":"IF(INTRO!$E$39<>\"Non-endemic\", 0, IF(INTRO!$E$37=\"Non-endemic\",0,IF(COUNTRY_INFO!$H14=1,COUNTRY_INFO!F14,0)))","v":0},{"$f":"IF(INTRO!$E$39<>\"Non-endemic\", 0, IF(INTRO!$E$37=\"Non-endemic\",0,IF(COUNTRY_INFO!$H14=1,COUNTRY_INFO!G14,0)))","v":0},0,{"$f":"IF(INTRO!$E$39=\"Non-endemic\",IF(INTRO!$E$37=\"Non-endemic\",\"Not required\",COUNTRY_INFO!V14),\"Treat with IVM\")","v":"Treat with IVM"},0,0,null,0]
[{"$f":"IF(INTRO!$E$39<>\"Non-endemic\", \" \", IF(INTRO!$E$37=\"Non-endemic\",\" \", IF(COUNTRY_INFO!A15=0,\" \",COUNTRY_INFO!A15)))","v":" "},{"$f":"IF(INTRO!$E$39<>\"Non-endemic\", \" \", IF(INTRO!$E$37=\"Non-endemic\",\" \", IF(COUNTRY_INFO!B15=0,\" \",COUNTRY_INFO!B15)))","v":" "},{"$f":"IF(INTRO!$E$39<>\"Non-endemic\", \" \", IF(INTRO!$E$37=\"Non-endemic\",\" \", IF(COUNTRY_INFO!C15=0,\" \",COUNTRY_INFO!C15)))","v":" "},{"$f":"IF(INTRO!$E$39<>\"Non-endemic\", 0, IF(INTRO!$E$37=\"Non-endemic\",0,IF(COUNTRY_INFO!$H15=1,COUNTRY_INFO!E15,0)))","v":0},{"$f":"IF(INTRO!$E$39<>\"Non-endemic\", 0, IF(INTRO!$E$37=\"Non-endemic\",0,IF(COUNTRY_INFO!$H15=1,COUNTRY_INFO!F15,0)))","v":0},{"$f":"IF(INTRO!$E$39<>\"Non-endemic\", 0, IF(INTRO!$E$37=\"Non-endemic\",0,IF(COUNTRY_INFO!$H15=1,COUNTRY_INFO!G15,0)))","v":0},0,{"$f":"IF(INTRO!$E$39=\"Non-endemic\",IF(INTRO!$E$37=\"Non-endemic\",\"Not required\",COUNTRY_INFO!V15),\"Treat with IVM\")","v":"Treat with IVM"},0,0,null,0]
[{"$f":"IF(INTRO!$E$39<>\"Non-endemic\", \" \", IF(INTRO!$E$37=\"Non-endemic\",\" \", IF(COUNTRY_INFO!A16=0,\" \",COUNTRY_INFO!A16)))","v":" "},{"$f":"IF(INTRO!$E$39<>\"Non-endemic\", \" \", IF(INTRO!$E$37=\"Non-endemic\",\" \", IF(COUNTRY_INFO!B16=0,\" \",COUNTRY_INFO!B16)))","v":" "},{"$f":"IF(INTRO!$E$39<>\"Non-endemic\", \" \", IF(INTRO!$E$37=\"Non-endemic\",\" \", IF(COUNTRY_INFO!C16=0,\" \",COUNTRY_INFO!C16)))","v":" "},{"$f":"IF(INTRO!$E$39<>\"Non-endemic\", 0, IF(INTRO!$E$37=\"Non-endemic\",0,IF(COUNTRY_INFO!$H16=1,COUNTRY_INFO!E16,0)))","v":0},{"$f":"IF(INTRO!$E$39<>\"Non-endemic\", 0, IF(INTRO!$E$37=\"Non-endemic\",0,IF(COUNTRY_INFO!$H16=1,COUNTRY_INFO!F16,0)))","v":0},{"$f":"IF(INTRO!$E$39<>\"Non-endemic\", 0, IF(INTRO!$E$37=\"Non-endemic\",0,IF(COUNTRY_INFO!$H16=1,COUNTRY_INFO!G16,0)))","v":0},0,{"$f":"IF(INTRO!$E$39=\"Non-endemic\",IF(INTRO!$E$37=\"Non-endemic\",\"Not required\",COUNTRY_INFO!V16),\"Treat with IVM\")","v":"Treat with IVM"},0,0,null,0]
[{"$f":"IF(INTRO!$E$39<>\"Non-endemic\", \" \", IF(INTRO!$E$37=\"Non-endemic\",\" \", IF(COUNTRY_INFO!A17=0,\" \",COUNTRY_INFO!A17)))","v":" "},{"$f":"IF(INTRO!$E$39<>\"Non-endemic\", \" \", IF(INTRO!$E$37=\"Non-endemic\",\" \", IF(COUNTRY_INFO!B17=0,\" \",COUNTRY_INFO!B17)))","v":" "},{"$f":"IF(INTRO!$E$39<>\"Non-endemic\", \" \", IF(INTRO!$E$37=\"Non-endemic\",\" \", IF(COUNTRY_INFO!C17=0,\" \",COUNTRY_INFO!C17)))","v":" "},{"$f":"IF(INTRO!$E$39<>\"Non-endemic\", 0, IF(INTRO!$E$37=\"Non-endemic\",0,IF(COUNTRY_INFO!$H17=1,COUNTRY_INFO!E17,0)))","v":0},{"$f":"IF(INTRO!$E$39<>\"Non-endemic\", 0, IF(INTRO!$E$37=\"Non-endemic\",0,IF(COUNTRY_INFO!$H17=1,COUNTRY_INFO!F17,0)))","v":0},{"$f":"IF(INTRO!$E$39<>\"Non-endemic\", 0, IF(INTRO!$E$37=\"Non-endemic\",0,IF(COUNTRY_INFO!$H17=1,COUNTRY_INFO!G17,0)))","v":0},0,{"$f":"IF(INTRO!$E$39=\"Non-endemic\",IF(INTRO!$E$37=\"Non-endemic\",\"Not required\",COUNTRY_INFO!V17),\"Treat with IVM\")","v":"Treat with IVM"},0,0,null,0]
[{"$f":"IF(INTRO!$E$39<>\"Non-endemic\", \" \", IF(INTRO!$E$37=\"Non-endemic\",\" \", IF(COUNTRY_INFO!A18=0,\" \",COUNTRY_INFO!A18)))","v":" "},{"$f":"IF(INTRO!$E$39<>\"Non-endemic\", \" \", IF(INTRO!$E$37=\"Non-endemic\",\" \", IF(COUNTRY_INFO!B18=0,\" \",COUNTRY_INFO!B18)))","v":" "},{"$f":"IF(INTRO!$E$39<>\"Non-endemic\", \" \", IF(INTRO!$E$37=\"Non-endemic\",\" \", IF(COUNTRY_INFO!C18=0,\" \",COUNTRY_INFO!C18)))","v":" "},{"$f":"IF(INTRO!$E$39<>\"Non-endemic\", 0, IF(INTRO!$E$37=\"Non-endemic\",0,IF(COUNTRY_INFO!$H18=1,COUNTRY_INFO!E18,0)))","v":0},{"$f":"IF(INTRO!$E$39<>\"Non-endemic\", 0, IF(INTRO!$E$37=\"Non-endemic\",0,IF(COUNTRY_INFO!$H18=1,COUNTRY_INFO!F18,0)))","v":0},{"$f":"IF(INTRO!$E$39<>\"Non-endemic\", 0, IF(INTRO!$E$37=\"Non-endemic\",0,IF(COUNTRY_INFO!$H18=1,COUNTRY_INFO!G18,0)))","v":0},0,{"$f":"IF(INTRO!$E$39=\"Non-endemic\",IF(INTRO!$E$37=\"Non-endemic\",\"Not required\",COUNTRY_INFO!V18),\"Treat with IVM\")","v":"Treat with IVM"},0,0,null,0]
[{"$f":"IF(INTRO!$E$39<>\"Non-endemic\", \" \", IF(INTRO!$E$37=\"Non-endemic\",\" \", IF(COUNTRY_INFO!A19=0,\" \",COUNTRY_INFO!A19)))","v":" "},{"$f":"IF(INTRO!$E$39<>\"Non-endemic\", \" \", IF(INTRO!$E$37=\"Non-endemic\",\" \", IF(COUNTRY_INFO!B19=0,\" \",COUNTRY_INFO!B19)))","v":" "},{"$f":"IF(INTRO!$E$39<>\"Non-endemic\", \" \", IF(INTRO!$E$37=\"Non-endemic\",\" \", IF(COUNTRY_INFO!C19=0,\" \",COUNTRY_INFO!C19)))","v":" "},{"$f":"IF(INTRO!$E$39<>\"Non-endemic\", 0, IF(INTRO!$E$37=\"Non-endemic\",0,IF(COUNTRY_INFO!$H19=1,COUNTRY_INFO!E19,0)))","v":0},{"$f":"IF(INTRO!$E$39<>\"Non-endemic\", 0, IF(INTRO!$E$37=\"Non-endemic\",0,IF(COUNTRY_INFO!$H19=1,COUNTRY_INFO!F19,0)))","v":0},{"$f":"IF(INTRO!$E$39<>\"Non-endemic\", 0, IF(INTRO!$E$37=\"Non-endemic\",0,IF(COUNTRY_INFO!$H19=1,COUNTRY_INFO!G19,0)))","v":0},0,{"$f":"IF(INTRO!$E$39=\"Non-endemic\",IF(INTRO!$E$37=\"Non-endemic\",\"Not required\",COUNTRY_INFO!V19),\"Treat with IVM\")","v":"Treat with IVM"},0,0,null,0]
[{"$f":"IF(INTRO!$E$39<>\"Non-endemic\", \" \", IF(INTRO!$E$37=\"Non-endemic\",\" \", IF(COUNTRY_INFO!A20=0,\" \",COUNTRY_INFO!A20)))","v":" "},{"$f":"IF(INTRO!$E$39<>\"Non-endemic\", \" \", IF(INTRO!$E$37=\"Non-endemic\",\" \", IF(COUNTRY_INFO!B20=0,\" \",COUNTRY_INFO!B20)))","v":" "},{"$f":"IF(INTRO!$E$39<>\"Non-endemic\", \" \", IF(INTRO!$E$37=\"Non-endemic\",\" \", IF(COUNTRY_INFO!C20=0,\" \",COUNTRY_INFO!C20)))","v":" "},{"$f":"IF(INTRO!$E$39<>\"Non-endemic\", 0, IF(INTRO!$E$37=\"Non-endemic\",0,IF(COUNTRY_INFO!$H20=1,COUNTRY_INFO!E20,0)))","v":0},{"$f":"IF(INTRO!$E$39<>\"Non-endemic\", 0, IF(INTRO!$E$37=\"Non-endemic\",0,IF(COUNTRY_INFO!$H20=1,COUNTRY_INFO!F20,0)))","v":0},{"$f":"IF(INTRO!$E$39<>\"Non-endemic\", 0, IF(INTRO!$E$37=\"Non-endemic\",0,IF(COUNTRY_INFO!$H20=1,COUNTRY_INFO!G20,0)))","v":0},0,{"$f":"IF(INTRO!$E$39=\"Non-endemic\",IF(INTRO!$E$37=\"Non-endemic\",\"Not required\",COUNTRY_INFO!V20),\"Treat with IVM\")","v":"Treat with IVM"},0,0,null,0]
[{"$f":"IF(INTRO!$E$39<>\"Non-endemic\", \" \", IF(INTRO!$E$37=\"Non-endemic\",\" \", IF(COUNTRY_INFO!A21=0,\" \",COUNTRY_INFO!A21)))","v":" "},{"$f":"IF(INTRO!$E$39<>\"Non-endemic\", \" \", IF(INTRO!$E$37=\"Non-endemic\",\" \", IF(COUNTRY_INFO!B21=0,\" \",COUNTRY_INFO!B21)))","v":" "},{"$f":"IF(INTRO!$E$39<>\"Non-endemic\", \" \", IF(INTRO!$E$37=\"Non-endemic\",\" \", IF(COUNTRY_INFO!C21=0,\" \",COUNTRY_INFO!C21)))","v":" "},{"$f":"IF(INTRO!$E$39<>\"Non-endemic\", 0, IF(INTRO!$E$37=\"Non-endemic\",0,IF(COUNTRY_INFO!$H21=1,COUNTRY_INFO!E21,0)))","v":0},{"$f":"IF(INTRO!$E$39<>\"Non-endemic\", 0, IF(INTRO!$E$37=\"Non-endemic\",0,IF(COUNTRY_INFO!$H21=1,COUNTRY_INFO!F21,0)))","v":0},{"$f":"IF(INTRO!$E$39<>\"Non-endemic\", 0, IF(INTRO!$E$37=\"Non-endemic\",0,IF(COUNTRY_INFO!$H21=1,COUNTRY_INFO!G21,0)))","v":0},0,{"$f":"IF(INTRO!$E$39=\"Non-endemic\",IF(INTRO!$E$37=\"Non-endemic\",\"Not required\",COUNTRY_INFO!V21),\"Treat with IVM\")","v":"Treat with IVM"},0,0,null,0]
[{"$f":"IF(INTRO!$E$39<>\"Non-endemic\", \" \", IF(INTRO!$E$37=\"Non-endemic\",\" \", IF(COUNTRY_INFO!A22=0,\" \",COUNTRY_INFO!A22)))","v":" "},{"$f":"IF(INTRO!$E$39<>\"Non-endemic\", \" \", IF(INTRO!$E$37=\"Non-endemic\",\" \", IF(COUNTRY_INFO!B22=0,\" \",COUNTRY_INFO!B22)))","v":" "},{"$f":"IF(INTRO!$E$39<>\"Non-endemic\", \" \", IF(INTRO!$E$37=\"Non-endemic\",\" \", IF(COUNTRY_INFO!C22=0,\" \",COUNTRY_INFO!C22)))","v":" "},{"$f":"IF(INTRO!$E$39<>\"Non-endemic\", 0, IF(INTRO!$E$37=\"Non-endemic\",0,IF(COUNTRY_INFO!$H22=1,COUNTRY_INFO!E22,0)))","v":0},{"$f":"IF(INTRO!$E$39<>\"Non-endemic\", 0, IF(INTRO!$E$37=\"Non-endemic\",0,IF(COUNTRY_INFO!$H22=1,COUNTRY_INFO!F22,0)))","v":0},{"$f":"IF(INTRO!$E$39<>\"Non-endemic\", 0, IF(INTRO!$E$37=\"Non-endemic\",0,IF(COUNTRY_INFO!$H22=1,COUNTRY_INFO!G22,0)))","v":0},0,{"$f":"IF(INTRO!$E$39=\"Non-endemic\",IF(INTRO!$E$37=\"Non-endemic\",\"Not required\",COUNTRY_INFO!V22),\"Treat with IVM\")","v":"Treat with IVM"},0,0,null,0]
[{"$f":"IF(INTRO!$E$39<>\"Non-endemic\", \" \", IF(INTRO!$E$37=\"Non-endemic\",\" \", IF(COUNTRY_INFO!A23=0,\" \",COUNTRY_INFO!A23)))","v":" "},{"$f":"IF(INTRO!$E$39<>\"Non-endemic\", \" \", IF(INTRO!$E$37=\"Non-endemic\",\" \", IF(COUNTRY_INFO!B23=0,\" \",COUNTRY_INFO!B23)))","v":" "},{"$f":"IF(INTRO!$E$39<>\"Non-endemic\", \" \", IF(INTRO!$E$37=\"Non-endemic\",\" \", IF(COUNTRY_INFO!C23=0,\" \",COUNTRY_INFO!C23)))","v":" "},{"$f":"IF(INTRO!$E$39<>\"Non-endemic\", 0, IF(INTRO!$E$37=\"Non-endemic\",0,IF(COUNTRY_INFO!$H23=1,COUNTRY_INFO!E23,0)))","v":0},{"$f":"IF(INTRO!$E$39<>\"Non-endemic\", 0, IF(INTRO!$E$37=\"Non-endemic\",0,IF(COUNTRY_INFO!$H23=1,COUNTRY_INFO!F23,0)))","v":0},{"$f":"IF(INTRO!$E$39<>\"Non-endemic\", 0, IF(INTRO!$E$37=\"Non-endemic\",0,IF(COUNTRY_INFO!$H23=1,COUNTRY_INFO!G23,0)))","v":0},0,{"$f":"IF(INTRO!$E$39=\"Non-endemic\",IF(INTRO!$E$37=\"Non-endemic\",\"Not required\",COUNTRY_INFO!V23),\"Treat with IVM\")","v":"Treat with IVM"},0,0,null,0]
[{"$f":"IF(INTRO!$E$39<>\"Non-endemic\", \" \", IF(INTRO!$E$37=\"Non-endemic\",\" \", IF(COUNTRY_INFO!A24=0,\" \",COUNTRY_INFO!A24)))","v":" "},{"$f":"IF(INTRO!$E$39<>\"Non-endemic\", \" \", IF(INTRO!$E$37=\"Non-endemic\",\" \", IF(COUNTRY_INFO!B24=0,\" \",COUNTRY_INFO!B24)))","v":" "},{"$f":"IF(INTRO!$E$39<>\"Non-endemic\", \" \", IF(INTRO!$E$37=\"Non-endemic\",\" \", IF(COUNTRY_INFO!C24=0,\" \",COUNTRY_INFO!C24)))","v":" "},{"$f":"IF(INTRO!$E$39<>\"Non-endemic\", 0, IF(INTRO!$E$37=\"Non-endemic\",0,IF(COUNTRY_INFO!$H24=1,COUNTRY_INFO!E24,0)))","v":0},{"$f":"IF(INTRO!$E$39<>\"Non-endemic\", 0, IF(INTRO!$E$37=\"Non-endemic\",0,IF(COUNTRY_INFO!$H24=1,COUNTRY_INFO!F24,0)))","v":0},{"$f":"IF(INTRO!$E$39<>\"Non-endemic\", 0, IF(INTRO!$E$37=\"Non-endemic\",0,IF(COUNTRY_INFO!$H24=1,COUNTRY_INFO!G24,0)))","v":0},0,{"$f":"IF(INTRO!$E$39=\"Non-endemic\",IF(INTRO!$E$37=\"Non-endemic\",\"Not required\",COUNTRY_INFO!V24),\"Treat with IVM\")","v":"Treat with IVM"},0,0,null,0]
[{"$f":"IF(INTRO!$E$39<>\"Non-endemic\", \" \", IF(INTRO!$E$37=\"Non-endemic\",\" \", IF(COUNTRY_INFO!A25=0,\" \",COUNTRY_INFO!A25)))","v":" "},{"$f":"IF(INTRO!$E$39<>\"Non-endemic\", \" \", IF(INTRO!$E$37=\"Non-endemic\",\" \", IF(COUNTRY_INFO!B25=0,\" \",COUNTRY_INFO!B25)))","v":" "},{"$f":"IF(INTRO!$E$39<>\"Non-endemic\", \" \", IF(INTRO!$E$37=\"Non-endemic\",\" \", IF(COUNTRY_INFO!C25=0,\" \",COUNTRY_INFO!C25)))","v":" "},{"$f":"IF(INTRO!$E$39<>\"Non-endemic\", 0, IF(INTRO!$E$37=\"Non-endemic\",0,IF(COUNTRY_INFO!$H25=1,COUNTRY_INFO!E25,0)))","v":0},{"$f":"IF(INTRO!$E$39<>\"Non-endemic\", 0, IF(INTRO!$E$37=\"Non-endemic\",0,IF(COUNTRY_INFO!$H25=1,COUNTRY_INFO!F25,0)))","v":0},{"$f":"IF(INTRO!$E$39<>\"Non-endemic\", 0, IF(INTRO!$E$37=\"Non-endemic\",0,IF(COUNTRY_INFO!$H25=1,COUNTRY_INFO!G25,0)))","v":0},0,{"$f":"IF(INTRO!$E$39=\"Non-endemic\",IF(INTRO!$E$37=\"Non-endemic\",\"Not required\",COUNTRY_INFO!V25),\"Treat with IVM\")","v":"Treat with IVM"},0,0,null,0]
[{"$f":"IF(INTRO!$E$39<>\"Non-endemic\", \" \", IF(INTRO!$E$37=\"Non-endemic\",\" \", IF(COUNTRY_INFO!A26=0,\" \",COUNTRY_INFO!A26)))","v":" "},{"$f":"IF(INTRO!$E$39<>\"Non-endemic\", \" \", IF(INTRO!$E$37=\"Non-endemic\",\" \", IF(COUNTRY_INFO!B26=0,\" \",COUNTRY_INFO!B26)))","v":" "},{"$f":"IF(INTRO!$E$39<>\"Non-endemic\", \" \", IF(INTRO!$E$37=\"Non-endemic\",\" \", IF(COUNTRY_INFO!C26=0,\" \",COUNTRY_INFO!C26)))","v":" "},{"$f":"IF(INTRO!$E$39<>\"Non-endemic\", 0, IF(INTRO!$E$37=\"Non-endemic\",0,IF(COUNTRY_INFO!$H26=1,COUNTRY_INFO!E26,0)))","v":0},{"$f":"IF(INTRO!$E$39<>\"Non-endemic\", 0, IF(INTRO!$E$37=\"Non-endemic\",0,IF(COUNTRY_INFO!$H26=1,COUNTRY_INFO!F26,0)))","v":0},{"$f":"IF(INTRO!$E$39<>\"Non-endemic\", 0, IF(INTRO!$E$37=\"Non-endemic\",0,IF(COUNTRY_INFO!$H26=1,COUNTRY_INFO!G26,0)))","v":0},0,{"$f":"IF(INTRO!$E$39=\"Non-endemic\",IF(INTRO!$E$37=\"Non-endemic\",\"Not required\",COUNTRY_INFO!V26),\"Treat with IVM\")","v":"Treat with IVM"},0,0,null,0]
[{"$f":"IF(INTRO!$E$39<>\"Non-endemic\", \" \", IF(INTRO!$E$37=\"Non-endemic\",\" \", IF(COUNTRY_INFO!A27=0,\" \",COUNTRY_INFO!A27)))","v":" "},{"$f":"IF(INTRO!$E$39<>\"Non-endemic\", \" \", IF(INTRO!$E$37=\"Non-endemic\",\" \", IF(COUNTRY_INFO!B27=0,\" \",COUNTRY_INFO!B27)))","v":" "},{"$f":"IF(INTRO!$E$39<>\"Non-endemic\", \" \", IF(INTRO!$E$37=\"Non-endemic\",\" \", IF(COUNTRY_INFO!C27=0,\" \",COUNTRY_INFO!C27)))","v":" "},{"$f":"IF(INTRO!$E$39<>\"Non-endemic\", 0, IF(INTRO!$E$37=\"Non-endemic\",0,IF(COUNTRY_INFO!$H27=1,COUNTRY_INFO!E27,0)))","v":0},{"$f":"IF(INTRO!$E$39<>\"Non-endemic\", 0, IF(INTRO!$E$37=\"Non-endemic\",0,IF(COUNTRY_INFO!$H27=1,COUNTRY_INFO!F27,0)))","v":0},{"$f":"IF(INTRO!$E$39<>\"Non-endemic\", 0, IF(INTRO!$E$37=\"Non-endemic\",0,IF(COUNTRY_INFO!$H27=1,COUNTRY_INFO!G27,0)))","v":0},0,{"$f":"IF(INTRO!$E$39=\"Non-endemic\",IF(INTRO!$E$37=\"Non-endemic\",\"Not required\",COUNTRY_INFO!V27),\"Treat with IVM\")","v":"Treat with IVM"},0,0,null,0]
[{"$f":"IF(INTRO!$E$39<>\"Non-endemic\", \" \", IF(INTRO!$E$37=\"Non-endemic\",\" \", IF(COUNTRY_INFO!A28=0,\" \",COUNTRY_INFO!A28)))","v":" "},{"$f":"IF(INTRO!$E$39<>\"Non-endemic\", \" \", IF(INTRO!$E$37=\"Non-endemic\",\" \", IF(COUNTRY_INFO!B28=0,\" \",COUNTRY_INFO!B28)))","v":" "},{"$f":"IF(INTRO!$E$39<>\"Non-endemic\", \" \", IF(INTRO!$E$37=\"Non-endemic\",\" \", IF(COUNTRY_INFO!C28=0,\" \",COUNTRY_INFO!C28)))","v":" "},{"$f":"IF(INTRO!$E$39<>\"Non-endemic\", 0, IF(INTRO!$E$37=\"Non-endemic\",0,IF(COUNTRY_INFO!$H28=1,COUNTRY_INFO!E28,0)))","v":0},{"$f":"IF(INTRO!$E$39<>\"Non-endemic\", 0, IF(INTRO!$E$37=\"Non-endemic\",0,IF(COUNTRY_INFO!$H28=1,COUNTRY_INFO!F28,0)))","v":0},{"$f":"IF(INTRO!$E$39<>\"Non-endemic\", 0, IF(INTRO!$E$37=\"Non-endemic\",0,IF(COUNTRY_INFO!$H28=1,COUNTRY_INFO!G28,0)))","v":0},0,{"$f":"IF(INTRO!$E$39=\"Non-endemic\",IF(INTRO!$E$37=\"Non-endemic\",\"Not required\",COUNTRY_INFO!V28),\"Treat with IVM\")","v":"Treat with IVM"},0,0,null,0]
[{"$f":"IF(INTRO!$E$39<>\"Non-endemic\", \" \", IF(INTRO!$E$37=\"Non-endemic\",\" \", IF(COUNTRY_INFO!A29=0,\" \",COUNTRY_INFO!A29)))","v":" "},{"$f":"IF(INTRO!$E$39<>\"Non-endemic\", \" \", IF(INTRO!$E$37=\"Non-endemic\",\" \", IF(COUNTRY_INFO!B29=0,\" \",COUNTRY_INFO!B29)))","v":" "},{"$f":"IF(INTRO!$E$39<>\"Non-endemic\", \" \", IF(INTRO!$E$37=\"Non-endemic\",\" \", IF(COUNTRY_INFO!C29=0,\" \",COUNTRY_INFO!C29)))","v":" "},{"$f":"IF(INTRO!$E$39<>\"Non-endemic\", 0, IF(INTRO!$E$37=\"Non-endemic\",0,IF(COUNTRY_INFO!$H29=1,COUNTRY_INFO!E29,0)))","v":0},{"$f":"IF(INTRO!$E$39<>\"Non-endemic\", 0, IF(INTRO!$E$37=\"Non-endemic\",0,IF(COUNTRY_INFO!$H29=1,COUNTRY_INFO!F29,0)))","v":0},{"$f":"IF(INTRO!$E$39<>\"Non-endemic\", 0, IF(INTRO!$E$37=\"Non-endemic\",0,IF(COUNTRY_INFO!$H29=1,COUNTRY_INFO!G29,0)))","v":0},0,{"$f":"IF(INTRO!$E$39=\"Non-endemic\",IF(INTRO!$E$37=\"Non-endemic\",\"Not required\",COUNTRY_INFO!V29),\"Treat with IVM\")","v":"Treat with IVM"},0,0,null,0]
[{"$f":"IF(INTRO!$E$39<>\"Non-endemic\", \" \", IF(INTRO!$E$37=\"Non-endemic\",\" \", IF(COUNTRY_INFO!A30=0,\" \",COUNTRY_INFO!A30)))","v":" "},{"$f":"IF(INTRO!$E$39<>\"Non-endemic\", \" \", IF(INTRO!$E$37=\"Non-endemic\",\" \", IF(COUNTRY_INFO!B30=0,\" \",COUNTRY_INFO!B30)))","v":" "},{"$f":"IF(INTRO!$E$39<>\"Non-endemic\", \" \", IF(INTRO!$E$37=\"Non-endemic\",\" \", IF(COUNTRY_INFO!C30=0,\" \",COUNTRY_INFO!C30)))","v":" "},{"$f":"IF(INTRO!$E$39<>\"Non-endemic\", 0, IF(INTRO!$E$37=\"Non-endemic\",0,IF(COUNTRY_INFO!$H30=1,COUNTRY_INFO!E30,0)))","v":0},{"$f":"IF(INTRO!$E$39<>\"Non-endemic\", 0, IF(INTRO!$E$37=\"Non-endemic\",0,IF(COUNTRY_INFO!$H30=1,COUNTRY_INFO!F30,0)))","v":0},{"$f":"IF(INTRO!$E$39<>\"Non-endemic\", 0, IF(INTRO!$E$37=\"Non-endemic\",0,IF(COUNTRY_INFO!$H30=1,COUNTRY_INFO!G30,0)))","v":0},0,{"$f":"IF(INTRO!$E$39=\"Non-endemic\",IF(INTRO!$E$37=\"Non-endemic\",\"Not required\",COUNTRY_INFO!V30),\"Treat with IVM\")","v":"Treat with IVM"},0,0,null,0]
[{"$f":"IF(INTRO!$E$39<>\"Non-endemic\", \" \", IF(INTRO!$E$37=\"Non-endemic\",\" \", IF(COUNTRY_INFO!A31=0,\" \",COUNTRY_INFO!A31)))","v":" "},{"$f":"IF(INTRO!$E$39<>\"Non-endemic\", \" \", IF(INTRO!$E$37=\"Non-endemic\",\" \", IF(COUNTRY_INFO!B31=0,\" \",COUNTRY_INFO!B31)))","v":" "},{"$f":"IF(INTRO!$E$39<>\"Non-endemic\", \" \", IF(INTRO!$E$37=\"Non-endemic\",\" \", IF(COUNTRY_INFO!C31=0,\" \",COUNTRY_INFO!C31)))","v":" "},{"$f":"IF(INTRO!$E$39<>\"Non-endemic\", 0, IF(INTRO!$E$37=\"Non-endemic\",0,IF(COUNTRY_INFO!$H31=1,COUNTRY_INFO!E31,0)))","v":0},{"$f":"IF(INTRO!$E$39<>\"Non-endemic\", 0, IF(INTRO!$E$37=\"Non-endemic\",0,IF(COUNTRY_INFO!$H31=1,COUNTRY_INFO!F31,0)))","v":0},{"$f":"IF(INTRO!$E$39<>\"Non-endemic\", 0, IF(INTRO!$E$37=\"Non-endemic\",0,IF(COUNTRY_INFO!$H31=1,COUNTRY_INFO!G31,0)))","v":0},0,{"$f":"IF(INTRO!$E$39=\"Non-endemic\",IF(INTRO!$E$37=\"Non-endemic\",\"Not required\",COUNTRY_INFO!V31),\"Treat with IVM\")","v":"Treat with IVM"},0,0,null,0]
[{"$f":"IF(INTRO!$E$39<>\"Non-endemic\", \" \", IF(INTRO!$E$37=\"Non-endemic\",\" \", IF(COUNTRY_INFO!A32=0,\" \",COUNTRY_INFO!A32)))","v":" "},{"$f":"IF(INTRO!$E$39<>\"Non-endemic\", \" \", IF(INTRO!$E$37=\"Non-endemic\",\" \", IF(COUNTRY_INFO!B32=0,\" \",COUNTRY_INFO!B32)))","v":" "},{"$f":"IF(INTRO!$E$39<>\"Non-endemic\", \" \", IF(INTRO!$E$37=\"Non-endemic\",\" \", IF(COUNTRY_INFO!C32=0,\" \",COUNTRY_INFO!C32)))","v":" "},{"$f":"IF(INTRO!$E$39<>\"Non-endemic\", 0, IF(INTRO!$E$37=\"Non-endemic\",0,IF(COUNTRY_INFO!$H32=1,COUNTRY_INFO!E32,0)))","v":0},{"$f":"IF(INTRO!$E$39<>\"Non-endemic\", 0, IF(INTRO!$E$37=\"Non-endemic\",0,IF(COUNTRY_INFO!$H32=1,COUNTRY_INFO!F32,0)))","v":0},{"$f":"IF(INTRO!$E$39<>\"Non-endemic\", 0, IF(INTRO!$E$37=\"Non-endemic\",0,IF(COUNTRY_INFO!$H32=1,COUNTRY_INFO!G32,0)))","v":0},0,{"$f":"IF(INTRO!$E$39=\"Non-endemic\",IF(INTRO!$E$37=\"Non-endemic\",\"Not required\",COUNTRY_INFO!V32),\"Treat with IVM\")","v":"Treat with IVM"},0,0,null,0]
[{"$f":"IF(INTRO!$E$39<>\"Non-endemic\", \" \", IF(INTRO!$E$37=\"Non-endemic\",\" \", IF(COUNTRY_INFO!A33=0,\" \",COUNTRY_INFO!A33)))","v":" "},{"$f":"IF(INTRO!$E$39<>\"Non-endemic\", \" \", IF(INTRO!$E$37=\"Non-endemic\",\" \", IF(COUNTRY_INFO!B33=0,\" \",COUNTRY_INFO!B33)))","v":" "},{"$f":"IF(INTRO!$E$39<>\"Non-endemic\", \" \", IF(INTRO!$E$37=\"Non-endemic\",\" \", IF(COUNTRY_INFO!C33=0,\" \",COUNTRY_INFO!C33)))","v":" "},{"$f":"IF(INTRO!$E$39<>\"Non-endemic\", 0, IF(INTRO!$E$37=\"Non-endemic\",0,IF(COUNTRY_INFO!$H33=1,COUNTRY_INFO!E33,0)))","v":0},{"$f":"IF(INTRO!$E$39<>\"Non-endemic\", 0, IF(INTRO!$E$37=\"Non-endemic\",0,IF(COUNTRY_INFO!$H33=1,COUNTRY_INFO!F33,0)))","v":0},{"$f":"IF(INTRO!$E$39<>\"Non-endemic\", 0, IF(INTRO!$E$37=\"Non-endemic\",0,IF(COUNTRY_INFO!$H33=1,COUNTRY_INFO!G33,0)))","v":0},0,{"$f":"IF(INTRO!$E$39=\"Non-endemic\",IF(INTRO!$E$37=\"Non-endemic\",\"Not required\",COUNTRY_INFO!V33),\"Treat with IVM\")","v":"Treat with IVM"},0,0,null,0]
[{"$f":"IF(INTRO!$E$39<>\"Non-endemic\", \" \", IF(INTRO!$E$37=\"Non-endemic\",\" \", IF(COUNTRY_INFO!A34=0,\" \",COUNTRY_INFO!A34)))","v":" "},{"$f":"IF(INTRO!$E$39<>\"Non-endemic\", \" \", IF(INTRO!$E$37=\"Non-endemic\",\" \", IF(COUNTRY_INFO!B34=0,\" \",COUNTRY_INFO!B34)))","v":" "},{"$f":"IF(INTRO!$E$39<>\"Non-endemic\", \" \", IF(INTRO!$E$37=\"Non-endemic\",\" \", IF(COUNTRY_INFO!C34=0,\" \",COUNTRY_INFO!C34)))","v":" "},{"$f":"IF(INTRO!$E$39<>\"Non-endemic\", 0, IF(INTRO!$E$37=\"Non-endemic\",0,IF(COUNTRY_INFO!$H34=1,COUNTRY_INFO!E34,0)))","v":0},{"$f":"IF(INTRO!$E$39<>\"Non-endemic\", 0, IF(INTRO!$E$37=\"Non-endemic\",0,IF(COUNTRY_INFO!$H34=1,COUNTRY_INFO!F34,0)))","v":0},{"$f":"IF(INTRO!$E$39<>\"Non-endemic\", 0, IF(INTRO!$E$37=\"Non-endemic\",0,IF(COUNTRY_INFO!$H34=1,COUNTRY_INFO!G34,0)))","v":0},0,{"$f":"IF(INTRO!$E$39=\"Non-endemic\",IF(INTRO!$E$37=\"Non-endemic\",\"Not required\",COUNTRY_INFO!V34),\"Treat with IVM\")","v":"Treat with IVM"},0,0,null,0]
[{"$f":"IF(INTRO!$E$39<>\"Non-endemic\", \" \", IF(INTRO!$E$37=\"Non-endemic\",\" \", IF(COUNTRY_INFO!A35=0,\" \",COUNTRY_INFO!A35)))","v":" "},{"$f":"IF(INTRO!$E$39<>\"Non-endemic\", \" \", IF(INTRO!$E$37=\"Non-endemic\",\" \", IF(COUNTRY_INFO!B35=0,\" \",COUNTRY_INFO!B35)))","v":" "},{"$f":"IF(INTRO!$E$39<>\"Non-endemic\", \" \", IF(INTRO!$E$37=\"Non-endemic\",\" \", IF(COUNTRY_INFO!C35=0,\" \",COUNTRY_INFO!C35)))","v":" "},{"$f":"IF(INTRO!$E$39<>\"Non-endemic\", 0, IF(INTRO!$E$37=\"Non-endemic\",0,IF(COUNTRY_INFO!$H35=1,COUNTRY_INFO!E35,0)))","v":0},{"$f":"IF(INTRO!$E$39<>\"Non-endemic\", 0, IF(INTRO!$E$37=\"Non-endemic\",0,IF(COUNTRY_INFO!$H35=1,COUNTRY_INFO!F35,0)))","v":0},{"$f":"IF(INTRO!$E$39<>\"Non-endemic\", 0, IF(INTRO!$E$37=\"Non-endemic\",0,IF(COUNTRY_INFO!$H35=1,COUNTRY_INFO!G35,0)))","v":0},0,{"$f":"IF(INTRO!$E$39=\"Non-endemic\",IF(INTRO!$E$37=\"Non-endemic\",\"Not required\",COUNTRY_INFO!V35),\"Treat with IVM\")","v":"Treat with IVM"},0,0,null,0]
[{"$f":"IF(INTRO!$E$39<>\"Non-endemic\", \" \", IF(INTRO!$E$37=\"Non-endemic\",\" \", IF(COUNTRY_INFO!A36=0,\" \",COUNTRY_INFO!A36)))","v":" "},{"$f":"IF(INTRO!$E$39<>\"Non-endemic\", \" \", IF(INTRO!$E$37=\"Non-endemic\",\" \", IF(COUNTRY_INFO!B36=0,\" \",COUNTRY_INFO!B36)))","v":" "},{"$f":"IF(INTRO!$E$39<>\"Non-endemic\", \" \", IF(INTRO!$E$37=\"Non-endemic\",\" \", IF(COUNTRY_INFO!C36=0,\" \",COUNTRY_INFO!C36)))","v":" "},{"$f":"IF(INTRO!$E$39<>\"Non-endemic\", 0, IF(INTRO!$E$37=\"Non-endemic\",0,IF(COUNTRY_INFO!$H36=1,COUNTRY_INFO!E36,0)))","v":0},{"$f":"IF(INTRO!$E$39<>\"Non-endemic\", 0, IF(INTRO!$E$37=\"Non-endemic\",0,IF(COUNTRY_INFO!$H36=1,COUNTRY_INFO!F36,0)))","v":0},{"$f":"IF(INTRO!$E$39<>\"Non-endemic\", 0, IF(INTRO!$E$37=\"Non-endemic\",0,IF(COUNTRY_INFO!$H36=1,COUNTRY_INFO!G36,0)))","v":0},0,{"$f":"IF(INTRO!$E$39=\"Non-endemic\",IF(INTRO!$E$37=\"Non-endemic\",\"Not required\",COUNTRY_INFO!V36),\"Treat with IVM\")","v":"Treat with IVM"},0,0,null,0]
[{"$f":"IF(INTRO!$E$39<>\"Non-endemic\", \" \", IF(INTRO!$E$37=\"Non-endemic\",\" \", IF(COUNTRY_INFO!A37=0,\" \",COUNTRY_INFO!A37)))","v":" "},{"$f":"IF(INTRO!$E$39<>\"Non-endemic\", \" \", IF(INTRO!$E$37=\"Non-endemic\",\" \", IF(COUNTRY_INFO!B37=0,\" \",COUNTRY_INFO!B37)))","v":" "},{"$f":"IF(INTRO!$E$39<>\"Non-endemic\", \" \", IF(INTRO!$E$37=\"Non-endemic\",\" \", IF(COUNTRY_INFO!C37=0,\" \",COUNTRY_INFO!C37)))","v":" "},{"$f":"IF(INTRO!$E$39<>\"Non-endemic\", 0, IF(INTRO!$E$37=\"Non-endemic\",0,IF(COUNTRY_INFO!$H37=1,COUNTRY_INFO!E37,0)))","v":0},{"$f":"IF(INTRO!$E$39<>\"Non-endemic\", 0, IF(INTRO!$E$37=\"Non-endemic\",0,IF(COUNTRY_INFO!$H37=1,COUNTRY_INFO!F37,0)))","v":0},{"$f":"IF(INTRO!$E$39<>\"Non-endemic\", 0, IF(INTRO!$E$37=\"Non-endemic\",0,IF(COUNTRY_INFO!$H37=1,COUNTRY_INFO!G37,0)))","v":0},0,{"$f":"IF(INTRO!$E$39=\"Non-endemic\",IF(INTRO!$E$37=\"Non-endemic\",\"Not required\",COUNTRY_INFO!V37),\"Treat with IVM\")","v":"Treat with IVM"},0,0,null,0]
[{"$f":"IF(INTRO!$E$39<>\"Non-endemic\", \" \", IF(INTRO!$E$37=\"Non-endemic\",\" \", IF(COUNTRY_INFO!A38=0,\" \",COUNTRY_INFO!A38)))","v":" "},{"$f":"IF(INTRO!$E$39<>\"Non-endemic\", \" \", IF(INTRO!$E$37=\"Non-endemic\",\" \", IF(COUNTRY_INFO!B38=0,\" \",COUNTRY_INFO!B38)))","v":" "},{"$f":"IF(INTRO!$E$39<>\"Non-endemic\", \" \", IF(INTRO!$E$37=\"Non-endemic\",\" \", IF(COUNTRY_INFO!C38=0,\" \",COUNTRY_INFO!C38)))","v":" "},{"$f":"IF(INTRO!$E$39<>\"Non-endemic\", 0, IF(INTRO!$E$37=\"Non-endemic\",0,IF(COUNTRY_INFO!$H38=1,COUNTRY_INFO!E38,0)))","v":0},{"$f":"IF(INTRO!$E$39<>\"Non-endemic\", 0, IF(INTRO!$E$37=\"Non-endemic\",0,IF(COUNTRY_INFO!$H38=1,COUNTRY_INFO!F38,0)))","v":0},{"$f":"IF(INTRO!$E$39<>\"Non-endemic\", 0, IF(INTRO!$E$37=\"Non-endemic\",0,IF(COUNTRY_INFO!$H38=1,COUNTRY_INFO!G38,0)))","v":0},0,{"$f":"IF(INTRO!$E$39=\"Non-endemic\",IF(INTRO!$E$37=\"Non-endemic\",\"Not required\",COUNTRY_INFO!V38),\"Treat with IVM\")","v":"Treat with IVM"},0,0,null,0]
[{"$f":"IF(INTRO!$E$39<>\"Non-endemic\", \" \", IF(INTRO!$E$37=\"Non-endemic\",\" \", IF(COUNTRY_INFO!A39=0,\" \",COUNTRY_INFO!A39)))","v":" "},{"$f":"IF(INTRO!$E$39<>\"Non-endemic\", \" \", IF(INTRO!$E$37=\"Non-endemic\",\" \", IF(COUNTRY_INFO!B39=0,\" \",COUNTRY_INFO!B39)))","v":" "},{"$f":"IF(INTRO!$E$39<>\"Non-endemic\", \" \", IF(INTRO!$E$37=\"Non-endemic\",\" \", IF(COUNTRY_INFO!C39=0,\" \",COUNTRY_INFO!C39)))","v":" "},{"$f":"IF(INTRO!$E$39<>\"Non-endemic\", 0, IF(INTRO!$E$37=\"Non-endemic\",0,IF(COUNTRY_INFO!$H39=1,COUNTRY_INFO!E39,0)))","v":0},{"$f":"IF(INTRO!$E$39<>\"Non-endemic\", 0, IF(INTRO!$E$37=\"Non-endemic\",0,IF(COUNTRY_INFO!$H39=1,COUNTRY_INFO!F39,0)))","v":0},{"$f":"IF(INTRO!$E$39<>\"Non-endemic\", 0, IF(INTRO!$E$37=\"Non-endemic\",0,IF(COUNTRY_INFO!$H39=1,COUNTRY_INFO!G39,0)))","v":0},0,{"$f":"IF(INTRO!$E$39=\"Non-endemic\",IF(INTRO!$E$37=\"Non-endemic\",\"Not required\",COUNTRY_INFO!V39),\"Treat with IVM\")","v":"Treat with IVM"},0,0,null,0]
[{"$f":"IF(INTRO!$E$39<>\"Non-endemic\", \" \", IF(INTRO!$E$37=\"Non-endemic\",\" \", IF(COUNTRY_INFO!A40=0,\" \",COUNTRY_INFO!A40)))","v":" "},{"$f":"IF(INTRO!$E$39<>\"Non-endemic\", \" \", IF(INTRO!$E$37=\"Non-endemic\",\" \", IF(COUNTRY_INFO!B40=0,\" \",COUNTRY_INFO!B40)))","v":" "},{"$f":"IF(INTRO!$E$39<>\"Non-endemic\", \" \", IF(INTRO!$E$37=\"Non-endemic\",\" \", IF(COUNTRY_INFO!C40=0,\" \",COUNTRY_INFO!C40)))","v":" "},{"$f":"IF(INTRO!$E$39<>\"Non-endemic\", 0, IF(INTRO!$E$37=\"Non-endemic\",0,IF(COUNTRY_INFO!$H40=1,COUNTRY_INFO!E40,0)))","v":0},{"$f":"IF(INTRO!$E$39<>\"Non-endemic\", 0, IF(INTRO!$E$37=\"Non-endemic\",0,IF(COUNTRY_INFO!$H40=1,COUNTRY_INFO!F40,0)))","v":0},{"$f":"IF(INTRO!$E$39<>\"Non-endemic\", 0, IF(INTRO!$E$37=\"Non-endemic\",0,IF(COUNTRY_INFO!$H40=1,COUNTRY_INFO!G40,0)))","v":0},0,{"$f":"IF(INTRO!$E$39=\"Non-endemic\",IF(INTRO!$E$37=\"Non-endemic\",\"Not required\",COUNTRY_INFO!V40),\"Treat with IVM\")","v":"Treat with IVM"},0,0,null,0]
[{"$f":"IF(INTRO!$E$39<>\"Non-endemic\", \" \", IF(INTRO!$E$37=\"Non-endemic\",\" \", IF(COUNTRY_INFO!A41=0,\" \",COUNTRY_INFO!A41)))","v":" "},{"$f":"IF(INTRO!$E$39<>\"Non-endemic\", \" \", IF(INTRO!$E$37=\"Non-endemic\",\" \", IF(COUNTRY_INFO!B41=0,\" \",COUNTRY_INFO!B41)))","v":" "},{"$f":"IF(INTRO!$E$39<>\"Non-endemic\", \" \", IF(INTRO!$E$37=\"Non-endemic\",\" \", IF(COUNTRY_INFO!C41=0,\" \",COUNTRY_INFO!C41)))","v":" "},{"$f":"IF(INTRO!$E$39<>\"Non-endemic\", 0, IF(INTRO!$E$37=\"Non-endemic\",0,IF(COUNTRY_INFO!$H41=1,COUNTRY_INFO!E41,0)))","v":0},{"$f":"IF(INTRO!$E$39<>\"Non-endemic\", 0, IF(INTRO!$E$37=\"Non-endemic\",0,IF(COUNTRY_INFO!$H41=1,COUNTRY_INFO!F41,0)))","v":0},{"$f":"IF(INTRO!$E$39<>\"Non-endemic\", 0, IF(INTRO!$E$37=\"Non-endemic\",0,IF(COUNTRY_INFO!$H41=1,COUNTRY_INFO!G41,0)))","v":0},0,{"$f":"IF(INTRO!$E$39=\"Non-endemic\",IF(INTRO!$E$37=\"Non-endemic\",\"Not required\",COUNTRY_INFO!V41),\"Treat with IVM\")","v":"Treat with IVM"},0,0,null,0]
[{"$f":"IF(INTRO!$E$39<>\"Non-endemic\", \" \", IF(INTRO!$E$37=\"Non-endemic\",\" \", IF(COUNTRY_INFO!A42=0,\" \",COUNTRY_INFO!A42)))","v":" "},{"$f":"IF(INTRO!$E$39<>\"Non-endemic\", \" \", IF(INTRO!$E$37=\"Non-endemic\",\" \", IF(COUNTRY_INFO!B42=0,\" \",COUNTRY_INFO!B42)))","v":" "},{"$f":"IF(INTRO!$E$39<>\"Non-endemic\", \" \", IF(INTRO!$E$37=\"Non-endemic\",\" \", IF(COUNTRY_INFO!C42=0,\" \",COUNTRY_INFO!C42)))","v":" "},{"$f":"IF(INTRO!$E$39<>\"Non-endemic\", 0, IF(INTRO!$E$37=\"Non-endemic\",0,IF(COUNTRY_INFO!$H42=1,COUNTRY_INFO!E42,0)))","v":0},{"$f":"IF(INTRO!$E$39<>\"Non-endemic\", 0, IF(INTRO!$E$37=\"Non-endemic\",0,IF(COUNTRY_INFO!$H42=1,COUNTRY_INFO!F42,0)))","v":0},{"$f":"IF(INTRO!$E$39<>\"Non-endemic\", 0, IF(INTRO!$E$37=\"Non-endemic\",0,IF(COUNTRY_INFO!$H42=1,COUNTRY_INFO!G42,0)))","v":0},0,{"$f":"IF(INTRO!$E$39=\"Non-endemic\",IF(INTRO!$E$37=\"Non-endemic\",\"Not required\",COUNTRY_INFO!V42),\"Treat with IVM\")","v":"Treat with IVM"},0,0,null,0]
[{"$f":"IF(INTRO!$E$39<>\"Non-endemic\", \" \", IF(INTRO!$E$37=\"Non-endemic\",\" \", IF(COUNTRY_INFO!A43=0,\" \",COUNTRY_INFO!A43)))","v":" "},{"$f":"IF(INTRO!$E$39<>\"Non-endemic\", \" \", IF(INTRO!$E$37=\"Non-endemic\",\" \", IF(COUNTRY_INFO!B43=0,\" \",COUNTRY_INFO!B43)))","v":" "},{"$f":"IF(INTRO!$E$39<>\"Non-endemic\", \" \", IF(INTRO!$E$37=\"Non-endemic\",\" \", IF(COUNTRY_INFO!C43=0,\" \",COUNTRY_INFO!C43)))","v":" "},{"$f":"IF(INTRO!$E$39<>\"Non-endemic\", 0, IF(INTRO!$E$37=\"Non-endemic\",0,IF(COUNTRY_INFO!$H43=1,COUNTRY_INFO!E43,0)))","v":0},{"$f":"IF(INTRO!$E$39<>\"Non-endemic\", 0, IF(INTRO!$E$37=\"Non-endemic\",0,IF(COUNTRY_INFO!$H43=1,COUNTRY_INFO!F43,0)))","v":0},{"$f":"IF(INTRO!$E$39<>\"Non-endemic\", 0, IF(INTRO!$E$37=\"Non-endemic\",0,IF(COUNTRY_INFO!$H43=1,COUNTRY_INFO!G43,0)))","v":0},0,{"$f":"IF(INTRO!$E$39=\"Non-endemic\",IF(INTRO!$E$37=\"Non-endemic\",\"Not required\",COUNTRY_INFO!V43),\"Treat with IVM\")","v":"Treat with IVM"},0,0,null,0]
[{"$f":"IF(INTRO!$E$39<>\"Non-endemic\", \" \", IF(INTRO!$E$37=\"Non-endemic\",\" \", IF(COUNTRY_INFO!A44=0,\" \",COUNTRY_INFO!A44)))","v":" "},{"$f":"IF(INTRO!$E$39<>\"Non-endemic\", \" \", IF(INTRO!$E$37=\"Non-endemic\",\" \", IF(COUNTRY_INFO!B44=0,\" \",COUNTRY_INFO!B44)))","v":" "},{"$f":"IF(INTRO!$E$39<>\"Non-endemic\", \" \", IF(INTRO!$E$37=\"Non-endemic\",\" \", IF(COUNTRY_INFO!C44=0,\" \",COUNTRY_INFO!C44)))","v":" "},{"$f":"IF(INTRO!$E$39<>\"Non-endemic\", 0, IF(INTRO!$E$37=\"Non-endemic\",0,IF(COUNTRY_INFO!$H44=1,COUNTRY_INFO!E44,0)))","v":0},{"$f":"IF(INTRO!$E$39<>\"Non-endemic\", 0, IF(INTRO!$E$37=\"Non-endemic\",0,IF(COUNTRY_INFO!$H44=1,COUNTRY_INFO!F44,0)))","v":0},{"$f":"IF(INTRO!$E$39<>\"Non-endemic\", 0, IF(INTRO!$E$37=\"Non-endemic\",0,IF(COUNTRY_INFO!$H44=1,COUNTRY_INFO!G44,0)))","v":0},0,{"$f":"IF(INTRO!$E$39=\"Non-endemic\",IF(INTRO!$E$37=\"Non-endemic\",\"Not required\",COUNTRY_INFO!V44),\"Treat with IVM\")","v":"Treat with IVM"},0,0,null,0]
[{"$f":"IF(INTRO!$E$39<>\"Non-endemic\", \" \", IF(INTRO!$E$37=\"Non-endemic\",\" \", IF(COUNTRY_INFO!A45=0,\" \",COUNTRY_INFO!A45)))","v":" "},{"$f":"IF(INTRO!$E$39<>\"Non-endemic\", \" \", IF(INTRO!$E$37=\"Non-endemic\",\" \", IF(COUNTRY_INFO!B45=0,\" \",COUNTRY_INFO!B45)))","v":" "},{"$f":"IF(INTRO!$E$39<>\"Non-endemic\", \" \", IF(INTRO!$E$37=\"Non-endemic\",\" \", IF(COUNTRY_INFO!C45=0,\" \",COUNTRY_INFO!C45)))","v":" "},{"$f":"IF(INTRO!$E$39<>\"Non-endemic\", 0, IF(INTRO!$E$37=\"Non-endemic\",0,IF(COUNTRY_INFO!$H45=1,COUNTRY_INFO!E45,0)))","v":0},{"$f":"IF(INTRO!$E$39<>\"Non-endemic\", 0, IF(INTRO!$E$37=\"Non-endemic\",0,IF(COUNTRY_INFO!$H45=1,COUNTRY_INFO!F45,0)))","v":0},{"$f":"IF(INTRO!$E$39<>\"Non-endemic\", 0, IF(INTRO!$E$37=\"Non-endemic\",0,IF(COUNTRY_INFO!$H45=1,COUNTRY_INFO!G45,0)))","v":0},0,{"$f":"IF(INTRO!$E$39=\"Non-endemic\",IF(INTRO!$E$37=\"Non-endemic\",\"Not required\",COUNTRY_INFO!V45),\"Treat with IVM\")","v":"Treat with IVM"},0,0,null,0]
[{"$f":"IF(INTRO!$E$39<>\"Non-endemic\", \" \", IF(INTRO!$E$37=\"Non-endemic\",\" \", IF(COUNTRY_INFO!A46=0,\" \",COUNTRY_INFO!A46)))","v":" "},{"$f":"IF(INTRO!$E$39<>\"Non-endemic\", \" \", IF(INTRO!$E$37=\"Non-endemic\",\" \", IF(COUNTRY_INFO!B46=0,\" \",COUNTRY_INFO!B46)))","v":" "},{"$f":"IF(INTRO!$E$39<>\"Non-endemic\", \" \", IF(INTRO!$E$37=\"Non-endemic\",\" \", IF(COUNTRY_INFO!C46=0,\" \",COUNTRY_INFO!C46)))","v":" "},{"$f":"IF(INTRO!$E$39<>\"Non-endemic\", 0, IF(INTRO!$E$37=\"Non-endemic\",0,IF(COUNTRY_INFO!$H46=1,COUNTRY_INFO!E46,0)))","v":0},{"$f":"IF(INTRO!$E$39<>\"Non-endemic\", 0, IF(INTRO!$E$37=\"Non-endemic\",0,IF(COUNTRY_INFO!$H46=1,COUNTRY_INFO!F46,0)))","v":0},{"$f":"IF(INTRO!$E$39<>\"Non-endemic\", 0, IF(INTRO!$E$37=\"Non-endemic\",0,IF(COUNTRY_INFO!$H46=1,COUNTRY_INFO!G46,0)))","v":0},0,{"$f":"IF(INTRO!$E$39=\"Non-endemic\",IF(INTRO!$E$37=\"Non-endemic\",\"Not required\",COUNTRY_INFO!V46),\"Treat with IVM\")","v":"Treat with IVM"},0,0,null,0]
[{"$f":"IF(INTRO!$E$39<>\"Non-endemic\", \" \", IF(INTRO!$E$37=\"Non-endemic\",\" \", IF(COUNTRY_INFO!A47=0,\" \",COUNTRY_INFO!A47)))","v":" "},{"$f":"IF(INTRO!$E$39<>\"Non-endemic\", \" \", IF(INTRO!$E$37=\"Non-endemic\",\" \", IF(COUNTRY_INFO!B47=0,\" \",COUNTRY_INFO!B47)))","v":" "},{"$f":"IF(INTRO!$E$39<>\"Non-endemic\", \" \", IF(INTRO!$E$37=\"Non-endemic\",\" \", IF(COUNTRY_INFO!C47=0,\" \",COUNTRY_INFO!C47)))","v":" "},{"$f":"IF(INTRO!$E$39<>\"Non-endemic\", 0, IF(INTRO!$E$37=\"Non-endemic\",0,IF(COUNTRY_INFO!$H47=1,COUNTRY_INFO!E47,0)))","v":0},{"$f":"IF(INTRO!$E$39<>\"Non-endemic\", 0, IF(INTRO!$E$37=\"Non-endemic\",0,IF(COUNTRY_INFO!$H47=1,COUNTRY_INFO!F47,0)))","v":0},{"$f":"IF(INTRO!$E$39<>\"Non-endemic\", 0, IF(INTRO!$E$37=\"Non-endemic\",0,IF(COUNTRY_INFO!$H47=1,COUNTRY_INFO!G47,0)))","v":0},0,{"$f":"IF(INTRO!$E$39=\"Non-endemic\",IF(INTRO!$E$37=\"Non-endemic\",\"Not required\",COUNTRY_INFO!V47),\"Treat with IVM\")","v":"Treat with IVM"},0,0,null,0]
[{"$f":"IF(INTRO!$E$39<>\"Non-endemic\", \" \", IF(INTRO!$E$37=\"Non-endemic\",\" \", IF(COUNTRY_INFO!A48=0,\" \",COUNTRY_INFO!A48)))","v":" "},{"$f":"IF(INTRO!$E$39<>\"Non-endemic\", \" \", IF(INTRO!$E$37=\"Non-endemic\",\" \", IF(COUNTRY_INFO!B48=0,\" \",COUNTRY_INFO!B48)))","v":" "},{"$f":"IF(INTRO!$E$39<>\"Non-endemic\", \" \", IF(INTRO!$E$37=\"Non-endemic\",\" \", IF(COUNTRY_INFO!C48=0,\" \",COUNTRY_INFO!C48)))","v":" "},{"$f":"IF(INTRO!$E$39<>\"Non-endemic\", 0, IF(INTRO!$E$37=\"Non-endemic\",0,IF(COUNTRY_INFO!$H48=1,COUNTRY_INFO!E48,0)))","v":0},{"$f":"IF(INTRO!$E$39<>\"Non-endemic\", 0, IF(INTRO!$E$37=\"Non-endemic\",0,IF(COUNTRY_INFO!$H48=1,COUNTRY_INFO!F48,0)))","v":0},{"$f":"IF(INTRO!$E$39<>\"Non-endemic\", 0, IF(INTRO!$E$37=\"Non-endemic\",0,IF(COUNTRY_INFO!$H48=1,COUNTRY_INFO!G48,0)))","v":0},0,{"$f":"IF(INTRO!$E$39=\"Non-endemic\",IF(INTRO!$E$37=\"Non-endemic\",\"Not required\",COUNTRY_INFO!V48),\"Treat with IVM\")","v":"Treat with IVM"},0,0,null,0]
[{"$f":"IF(INTRO!$E$39<>\"Non-endemic\", \" \", IF(INTRO!$E$37=\"Non-endemic\",\" \", IF(COUNTRY_INFO!A49=0,\" \",COUNTRY_INFO!A49)))","v":" "},{"$f":"IF(INTRO!$E$39<>\"Non-endemic\", \" \", IF(INTRO!$E$37=\"Non-endemic\",\" \", IF(COUNTRY_INFO!B49=0,\" \",COUNTRY_INFO!B49)))","v":" "},{"$f":"IF(INTRO!$E$39<>\"Non-endemic\", \" \", IF(INTRO!$E$37=\"Non-endemic\",\" \", IF(COUNTRY_INFO!C49=0,\" \",COUNTRY_INFO!C49)))","v":" "},{"$f":"IF(INTRO!$E$39<>\"Non-endemic\", 0, IF(INTRO!$E$37=\"Non-endemic\",0,IF(COUNTRY_INFO!$H49=1,COUNTRY_INFO!E49,0)))","v":0},{"$f":"IF(INTRO!$E$39<>\"Non-endemic\", 0, IF(INTRO!$E$37=\"Non-endemic\",0,IF(COUNTRY_INFO!$H49=1,COUNTRY_INFO!F49,0)))","v":0},{"$f":"IF(INTRO!$E$39<>\"Non-endemic\", 0, IF(INTRO!$E$37=\"Non-endemic\",0,IF(COUNTRY_INFO!$H49=1,COUNTRY_INFO!G49,0)))","v":0},0,{"$f":"IF(INTRO!$E$39=\"Non-endemic\",IF(INTRO!$E$37=\"Non-endemic\",\"Not required\",COUNTRY_INFO!V49),\"Treat with IVM\")","v":"Treat with IVM"},0,0,null,0]
[{"$f":"IF(INTRO!$E$39<>\"Non-endemic\", \" \", IF(INTRO!$E$37=\"Non-endemic\",\" \", IF(COUNTRY_INFO!A50=0,\" \",COUNTRY_INFO!A50)))","v":" "},{"$f":"IF(INTRO!$E$39<>\"Non-endemic\", \" \", IF(INTRO!$E$37=\"Non-endemic\",\" \", IF(COUNTRY_INFO!B50=0,\" \",COUNTRY_INFO!B50)))","v":" "},{"$f":"IF(INTRO!$E$39<>\"Non-endemic\", \" \", IF(INTRO!$E$37=\"Non-endemic\",\" \", IF(COUNTRY_INFO!C50=0,\" \",COUNTRY_INFO!C50)))","v":" "},{"$f":"IF(INTRO!$E$39<>\"Non-endemic\", 0, IF(INTRO!$E$37=\"Non-endemic\",0,IF(COUNTRY_INFO!$H50=1,COUNTRY_INFO!E50,0)))","v":0},{"$f":"IF(INTRO!$E$39<>\"Non-endemic\", 0, IF(INTRO!$E$37=\"Non-endemic\",0,IF(COUNTRY_INFO!$H50=1,COUNTRY_INFO!F50,0)))","v":0},{"$f":"IF(INTRO!$E$39<>\"Non-endemic\", 0, IF(INTRO!$E$37=\"Non-endemic\",0,IF(COUNTRY_INFO!$H50=1,COUNTRY_INFO!G50,0)))","v":0},0,{"$f":"IF(INTRO!$E$39=\"Non-endemic\",IF(INTRO!$E$37=\"Non-endemic\",\"Not required\",COUNTRY_INFO!V50),\"Treat with IVM\")","v":"Treat with IVM"},0,0,null,0]
[{"$f":"IF(INTRO!$E$39<>\"Non-endemic\", \" \", IF(INTRO!$E$37=\"Non-endemic\",\" \", IF(COUNTRY_INFO!A51=0,\" \",COUNTRY_INFO!A51)))","v":" "},{"$f":"IF(INTRO!$E$39<>\"Non-endemic\", \" \", IF(INTRO!$E$37=\"Non-endemic\",\" \", IF(COUNTRY_INFO!B51=0,\" \",COUNTRY_INFO!B51)))","v":" "},{"$f":"IF(INTRO!$E$39<>\"Non-endemic\", \" \", IF(INTRO!$E$37=\"Non-endemic\",\" \", IF(COUNTRY_INFO!C51=0,\" \",COUNTRY_INFO!C51)))","v":" "},{"$f":"IF(INTRO!$E$39<>\"Non-endemic\", 0, IF(INTRO!$E$37=\"Non-endemic\",0,IF(COUNTRY_INFO!$H51=1,COUNTRY_INFO!E51,0)))","v":0},{"$f":"IF(INTRO!$E$39<>\"Non-endemic\", 0, IF(INTRO!$E$37=\"Non-endemic\",0,IF(COUNTRY_INFO!$H51=1,COUNTRY_INFO!F51,0)))","v":0},{"$f":"IF(INTRO!$E$39<>\"Non-endemic\", 0, IF(INTRO!$E$37=\"Non-endemic\",0,IF(COUNTRY_INFO!$H51=1,COUNTRY_INFO!G51,0)))","v":0},0,{"$f":"IF(INTRO!$E$39=\"Non-endemic\",IF(INTRO!$E$37=\"Non-endemic\",\"Not required\",COUNTRY_INFO!V51),\"Treat with IVM\")","v":"Treat with IVM"},0,0,null,0]
[{"$f":"IF(INTRO!$E$39<>\"Non-endemic\", \" \", IF(INTRO!$E$37=\"Non-endemic\",\" \", IF(COUNTRY_INFO!A52=0,\" \",COUNTRY_INFO!A52)))","v":" "},{"$f":"IF(INTRO!$E$39<>\"Non-endemic\", \" \", IF(INTRO!$E$37=\"Non-endemic\",\" \", IF(COUNTRY_INFO!B52=0,\" \",COUNTRY_INFO!B52)))","v":" "},{"$f":"IF(INTRO!$E$39<>\"Non-endemic\", \" \", IF(INTRO!$E$37=\"Non-endemic\",\" \", IF(COUNTRY_INFO!C52=0,\" \",COUNTRY_INFO!C52)))","v":" "},{"$f":"IF(INTRO!$E$39<>\"Non-endemic\", 0, IF(INTRO!$E$37=\"Non-endemic\",0,IF(COUNTRY_INFO!$H52=1,COUNTRY_INFO!E52,0)))","v":0},{"$f":"IF(INTRO!$E$39<>\"Non-endemic\", 0, IF(INTRO!$E$37=\"Non-endemic\",0,IF(COUNTRY_INFO!$H52=1,COUNTRY_INFO!F52,0)))","v":0},{"$f":"IF(INTRO!$E$39<>\"Non-endemic\", 0, IF(INTRO!$E$37=\"Non-endemic\",0,IF(COUNTRY_INFO!$H52=1,COUNTRY_INFO!G52,0)))","v":0},0,{"$f":"IF(INTRO!$E$39=\"Non-endemic\",IF(INTRO!$E$37=\"Non-endemic\",\"Not required\",COUNTRY_INFO!V52),\"Treat with IVM\")","v":"Treat with IVM"},0,0,null,0]
[{"$f":"IF(INTRO!$E$39<>\"Non-endemic\", \" \", IF(INTRO!$E$37=\"Non-endemic\",\" \", IF(COUNTRY_INFO!A53=0,\" \",COUNTRY_INFO!A53)))","v":" "},{"$f":"IF(INTRO!$E$39<>\"Non-endemic\", \" \", IF(INTRO!$E$37=\"Non-endemic\",\" \", IF(COUNTRY_INFO!B53=0,\" \",COUNTRY_INFO!B53)))","v":" "},{"$f":"IF(INTRO!$E$39<>\"Non-endemic\", \" \", IF(INTRO!$E$37=\"Non-endemic\",\" \", IF(COUNTRY_INFO!C53=0,\" \",COUNTRY_INFO!C53)))","v":" "},{"$f":"IF(INTRO!$E$39<>\"Non-endemic\", 0, IF(INTRO!$E$37=\"Non-endemic\",0,IF(COUNTRY_INFO!$H53=1,COUNTRY_INFO!E53,0)))","v":0},{"$f":"IF(INTRO!$E$39<>\"Non-endemic\", 0, IF(INTRO!$E$37=\"Non-endemic\",0,IF(COUNTRY_INFO!$H53=1,COUNTRY_INFO!F53,0)))","v":0},{"$f":"IF(INTRO!$E$39<>\"Non-endemic\", 0, IF(INTRO!$E$37=\"Non-endemic\",0,IF(COUNTRY_INFO!$H53=1,COUNTRY_INFO!G53,0)))","v":0},0,{"$f":"IF(INTRO!$E$39=\"Non-endemic\",IF(INTRO!$E$37=\"Non-endemic\",\"Not required\",COUNTRY_INFO!V53),\"Treat with IVM\")","v":"Treat with IVM"},0,0,null,0]
[{"$f":"IF(INTRO!$E$39<>\"Non-endemic\", \" \", IF(INTRO!$E$37=\"Non-endemic\",\" \", IF(COUNTRY_INFO!A54=0,\" \",COUNTRY_INFO!A54)))","v":" "},{"$f":"IF(INTRO!$E$39<>\"Non-endemic\", \" \", IF(INTRO!$E$37=\"Non-endemic\",\" \", IF(COUNTRY_INFO!B54=0,\" \",COUNTRY_INFO!B54)))","v":" "},{"$f":"IF(INTRO!$E$39<>\"Non-endemic\", \" \", IF(INTRO!$E$37=\"Non-endemic\",\" \", IF(COUNTRY_INFO!C54=0,\" \",COUNTRY_INFO!C54)))","v":" "},{"$f":"IF(INTRO!$E$39<>\"Non-endemic\", 0, IF(INTRO!$E$37=\"Non-endemic\",0,IF(COUNTRY_INFO!$H54=1,COUNTRY_INFO!E54,0)))","v":0},{"$f":"IF(INTRO!$E$39<>\"Non-endemic\", 0, IF(INTRO!$E$37=\"Non-endemic\",0,IF(COUNTRY_INFO!$H54=1,COUNTRY_INFO!F54,0)))","v":0},{"$f":"IF(INTRO!$E$39<>\"Non-endemic\", 0, IF(INTRO!$E$37=\"Non-endemic\",0,IF(COUNTRY_INFO!$H54=1,COUNTRY_INFO!G54,0)))","v":0},0,{"$f":"IF(INTRO!$E$39=\"Non-endemic\",IF(INTRO!$E$37=\"Non-endemic\",\"Not required\",COUNTRY_INFO!V54),\"Treat with IVM\")","v":"Treat with IVM"},0,0,null,0]
[{"$f":"IF(INTRO!$E$39<>\"Non-endemic\", \" \", IF(INTRO!$E$37=\"Non-endemic\",\" \", IF(COUNTRY_INFO!A55=0,\" \",COUNTRY_INFO!A55)))","v":" "},{"$f":"IF(INTRO!$E$39<>\"Non-endemic\", \" \", IF(INTRO!$E$37=\"Non-endemic\",\" \", IF(COUNTRY_INFO!B55=0,\" \",COUNTRY_INFO!B55)))","v":" "},{"$f":"IF(INTRO!$E$39<>\"Non-endemic\", \" \", IF(INTRO!$E$37=\"Non-endemic\",\" \", IF(COUNTRY_INFO!C55=0,\" \",COUNTRY_INFO!C55)))","v":" "},{"$f":"IF(INTRO!$E$39<>\"Non-endemic\", 0, IF(INTRO!$E$37=\"Non-endemic\",0,IF(COUNTRY_INFO!$H55=1,COUNTRY_INFO!E55,0)))","v":0},{"$f":"IF(INTRO!$E$39<>\"Non-endemic\", 0, IF(INTRO!$E$37=\"Non-endemic\",0,IF(COUNTRY_INFO!$H55=1,COUNTRY_INFO!F55,0)))","v":0},{"$f":"IF(INTRO!$E$39<>\"Non-endemic\", 0, IF(INTRO!$E$37=\"Non-endemic\",0,IF(COUNTRY_INFO!$H55=1,COUNTRY_INFO!G55,0)))","v":0},0,{"$f":"IF(INTRO!$E$39=\"Non-endemic\",IF(INTRO!$E$37=\"Non-endemic\",\"Not required\",COUNTRY_INFO!V55),\"Treat with IVM\")","v":"Treat with IVM"},0,0,null,0]
[{"$f":"IF(INTRO!$E$39<>\"Non-endemic\", \" \", IF(INTRO!$E$37=\"Non-endemic\",\" \", IF(COUNTRY_INFO!A56=0,\" \",COUNTRY_INFO!A56)))","v":" "},{"$f":"IF(INTRO!$E$39<>\"Non-endemic\", \" \", IF(INTRO!$E$37=\"Non-endemic\",\" \", IF(COUNTRY_INFO!B56=0,\" \",COUNTRY_INFO!B56)))","v":" "},{"$f":"IF(INTRO!$E$39<>\"Non-endemic\", \" \", IF(INTRO!$E$37=\"Non-endemic\",\" \", IF(COUNTRY_INFO!C56=0,\" \",COUNTRY_INFO!C56)))","v":" "},{"$f":"IF(INTRO!$E$39<>\"Non-endemic\", 0, IF(INTRO!$E$37=\"Non-endemic\",0,IF(COUNTRY_INFO!$H56=1,COUNTRY_INFO!E56,0)))","v":0},{"$f":"IF(INTRO!$E$39<>\"Non-endemic\", 0, IF(INTRO!$E$37=\"Non-endemic\",0,IF(COUNTRY_INFO!$H56=1,COUNTRY_INFO!F56,0)))","v":0},{"$f":"IF(INTRO!$E$39<>\"Non-endemic\", 0, IF(INTRO!$E$37=\"Non-endemic\",0,IF(COUNTRY_INFO!$H56=1,COUNTRY_INFO!G56,0)))","v":0},0,{"$f":"IF(INTRO!$E$39=\"Non-endemic\",IF(INTRO!$E$37=\"Non-endemic\",\"Not required\",COUNTRY_INFO!V56),\"Treat with IVM\")","v":"Treat with IVM"},0,0,null,0]
[{"$f":"IF(INTRO!$E$39<>\"Non-endemic\", \" \", IF(INTRO!$E$37=\"Non-endemic\",\" \", IF(COUNTRY_INFO!A57=0,\" \",COUNTRY_INFO!A57)))","v":" "},{"$f":"IF(INTRO!$E$39<>\"Non-endemic\", \" \", IF(INTRO!$E$37=\"Non-endemic\",\" \", IF(COUNTRY_INFO!B57=0,\" \",COUNTRY_INFO!B57)))","v":" "},{"$f":"IF(INTRO!$E$39<>\"Non-endemic\", \" \", IF(INTRO!$E$37=\"Non-endemic\",\" \", IF(COUNTRY_INFO!C57=0,\" \",COUNTRY_INFO!C57)))","v":" "},{"$f":"IF(INTRO!$E$39<>\"Non-endemic\", 0, IF(INTRO!$E$37=\"Non-endemic\",0,IF(COUNTRY_INFO!$H57=1,COUNTRY_INFO!E57,0)))","v":0},{"$f":"IF(INTRO!$E$39<>\"Non-endemic\", 0, IF(INTRO!$E$37=\"Non-endemic\",0,IF(COUNTRY_INFO!$H57=1,COUNTRY_INFO!F57,0)))","v":0},{"$f":"IF(INTRO!$E$39<>\"Non-endemic\", 0, IF(INTRO!$E$37=\"Non-endemic\",0,IF(COUNTRY_INFO!$H57=1,COUNTRY_INFO!G57,0)))","v":0},0,{"$f":"IF(INTRO!$E$39=\"Non-endemic\",IF(INTRO!$E$37=\"Non-endemic\",\"Not required\",COUNTRY_INFO!V57),\"Treat with IVM\")","v":"Treat with IVM"},0,0,null,0]
[{"$f":"IF(INTRO!$E$39<>\"Non-endemic\", \" \", IF(INTRO!$E$37=\"Non-endemic\",\" \", IF(COUNTRY_INFO!A58=0,\" \",COUNTRY_INFO!A58)))","v":" "},{"$f":"IF(INTRO!$E$39<>\"Non-endemic\", \" \", IF(INTRO!$E$37=\"Non-endemic\",\" \", IF(COUNTRY_INFO!B58=0,\" \",COUNTRY_INFO!B58)))","v":" "},{"$f":"IF(INTRO!$E$39<>\"Non-endemic\", \" \", IF(INTRO!$E$37=\"Non-endemic\",\" \", IF(COUNTRY_INFO!C58=0,\" \",COUNTRY_INFO!C58)))","v":" "},{"$f":"IF(INTRO!$E$39<>\"Non-endemic\", 0, IF(INTRO!$E$37=\"Non-endemic\",0,IF(COUNTRY_INFO!$H58=1,COUNTRY_INFO!E58,0)))","v":0},{"$f":"IF(INTRO!$E$39<>\"Non-endemic\", 0, IF(INTRO!$E$37=\"Non-endemic\",0,IF(COUNTRY_INFO!$H58=1,COUNTRY_INFO!F58,0)))","v":0},{"$f":"IF(INTRO!$E$39<>\"Non-endemic\", 0, IF(INTRO!$E$37=\"Non-endemic\",0,IF(COUNTRY_INFO!$H58=1,COUNTRY_INFO!G58,0)))","v":0},0,{"$f":"IF(INTRO!$E$39=\"Non-endemic\",IF(INTRO!$E$37=\"Non-endemic\",\"Not required\",COUNTRY_INFO!V58),\"Treat with IVM\")","v":"Treat with IVM"},0,0,null,0]
[{"$f":"IF(INTRO!$E$39<>\"Non-endemic\", \" \", IF(INTRO!$E$37=\"Non-endemic\",\" \", IF(COUNTRY_INFO!A59=0,\" \",COUNTRY_INFO!A59)))","v":" "},{"$f":"IF(INTRO!$E$39<>\"Non-endemic\", \" \", IF(INTRO!$E$37=\"Non-endemic\",\" \", IF(COUNTRY_INFO!B59=0,\" \",COUNTRY_INFO!B59)))","v":" "},{"$f":"IF(INTRO!$E$39<>\"Non-endemic\", \" \", IF(INTRO!$E$37=\"Non-endemic\",\" \", IF(COUNTRY_INFO!C59=0,\" \",COUNTRY_INFO!C59)))","v":" "},{"$f":"IF(INTRO!$E$39<>\"Non-endemic\", 0, IF(INTRO!$E$37=\"Non-endemic\",0,IF(COUNTRY_INFO!$H59=1,COUNTRY_INFO!E59,0)))","v":0},{"$f":"IF(INTRO!$E$39<>\"Non-endemic\", 0, IF(INTRO!$E$37=\"Non-endemic\",0,IF(COUNTRY_INFO!$H59=1,COUNTRY_INFO!F59,0)))","v":0},{"$f":"IF(INTRO!$E$39<>\"Non-endemic\", 0, IF(INTRO!$E$37=\"Non-endemic\",0,IF(COUNTRY_INFO!$H59=1,COUNTRY_INFO!G59,0)))","v":0},0,{"$f":"IF(INTRO!$E$39=\"Non-endemic\",IF(INTRO!$E$37=\"Non-endemic\",\"Not required\",COUNTRY_INFO!V59),\"Treat with IVM\")","v":"Treat with IVM"},0,0,null,0]
[{"$f":"IF(INTRO!$E$39<>\"Non-endemic\", \" \", IF(INTRO!$E$37=\"Non-endemic\",\" \", IF(COUNTRY_INFO!A60=0,\" \",COUNTRY_INFO!A60)))","v":" "},{"$f":"IF(INTRO!$E$39<>\"Non-endemic\", \" \", IF(INTRO!$E$37=\"Non-endemic\",\" \", IF(COUNTRY_INFO!B60=0,\" \",COUNTRY_INFO!B60)))","v":" "},{"$f":"IF(INTRO!$E$39<>\"Non-endemic\", \" \", IF(INTRO!$E$37=\"Non-endemic\",\" \", IF(COUNTRY_INFO!C60=0,\" \",COUNTRY_INFO!C60)))","v":" "},{"$f":"IF(INTRO!$E$39<>\"Non-endemic\", 0, IF(INTRO!$E$37=\"Non-endemic\",0,IF(COUNTRY_INFO!$H60=1,COUNTRY_INFO!E60,0)))","v":0},{"$f":"IF(INTRO!$E$39<>\"Non-endemic\", 0, IF(INTRO!$E$37=\"Non-endemic\",0,IF(COUNTRY_INFO!$H60=1,COUNTRY_INFO!F60,0)))","v":0},{"$f":"IF(INTRO!$E$39<>\"Non-endemic\", 0, IF(INTRO!$E$37=\"Non-endemic\",0,IF(COUNTRY_INFO!$H60=1,COUNTRY_INFO!G60,0)))","v":0},0,{"$f":"IF(INTRO!$E$39=\"Non-endemic\",IF(INTRO!$E$37=\"Non-endemic\",\"Not required\",COUNTRY_INFO!V60),\"Treat with IVM\")","v":"Treat with IVM"},0,0,null,0]
[{"$f":"IF(INTRO!$E$39<>\"Non-endemic\", \" \", IF(INTRO!$E$37=\"Non-endemic\",\" \", IF(COUNTRY_INFO!A61=0,\" \",COUNTRY_INFO!A61)))","v":" "},{"$f":"IF(INTRO!$E$39<>\"Non-endemic\", \" \", IF(INTRO!$E$37=\"Non-endemic\",\" \", IF(COUNTRY_INFO!B61=0,\" \",COUNTRY_INFO!B61)))","v":" "},{"$f":"IF(INTRO!$E$39<>\"Non-endemic\", \" \", IF(INTRO!$E$37=\"Non-endemic\",\" \", IF(COUNTRY_INFO!C61=0,\" \",COUNTRY_INFO!C61)))","v":" "},{"$f":"IF(INTRO!$E$39<>\"Non-endemic\", 0, IF(INTRO!$E$37=\"Non-endemic\",0,IF(COUNTRY_INFO!$H61=1,COUNTRY_INFO!E61,0)))","v":0},{"$f":"IF(INTRO!$E$39<>\"Non-endemic\", 0, IF(INTRO!$E$37=\"Non-endemic\",0,IF(COUNTRY_INFO!$H61=1,COUNTRY_INFO!F61,0)))","v":0},{"$f":"IF(INTRO!$E$39<>\"Non-endemic\", 0, IF(INTRO!$E$37=\"Non-endemic\",0,IF(COUNTRY_INFO!$H61=1,COUNTRY_INFO!G61,0)))","v":0},0,{"$f":"IF(INTRO!$E$39=\"Non-endemic\",IF(INTRO!$E$37=\"Non-endemic\",\"Not required\",COUNTRY_INFO!V61),\"Treat with IVM\")","v":"Treat with IVM"},0,0,null,0]
[{"$f":"IF(INTRO!$E$39<>\"Non-endemic\", \" \", IF(INTRO!$E$37=\"Non-endemic\",\" \", IF(COUNTRY_INFO!A62=0,\" \",COUNTRY_INFO!A62)))","v":" "},{"$f":"IF(INTRO!$E$39<>\"Non-endemic\", \" \", IF(INTRO!$E$37=\"Non-endemic\",\" \", IF(COUNTRY_INFO!B62=0,\" \",COUNTRY_INFO!B62)))","v":" "},{"$f":"IF(INTRO!$E$39<>\"Non-endemic\", \" \", IF(INTRO!$E$37=\"Non-endemic\",\" \", IF(COUNTRY_INFO!C62=0,\" \",COUNTRY_INFO!C62)))","v":" "},{"$f":"IF(INTRO!$E$39<>\"Non-endemic\", 0, IF(INTRO!$E$37=\"Non-endemic\",0,IF(COUNTRY_INFO!$H62=1,COUNTRY_INFO!E62,0)))","v":0},{"$f":"IF(INTRO!$E$39<>\"Non-endemic\", 0, IF(INTRO!$E$37=\"Non-endemic\",0,IF(COUNTRY_INFO!$H62=1,COUNTRY_INFO!F62,0)))","v":0},{"$f":"IF(INTRO!$E$39<>\"Non-endemic\", 0, IF(INTRO!$E$37=\"Non-endemic\",0,IF(COUNTRY_INFO!$H62=1,COUNTRY_INFO!G62,0)))","v":0},0,{"$f":"IF(INTRO!$E$39=\"Non-endemic\",IF(INTRO!$E$37=\"Non-endemic\",\"Not required\",COUNTRY_INFO!V62),\"Treat with IVM\")","v":"Treat with IVM"},0,0,null,0]
[{"$f":"IF(INTRO!$E$39<>\"Non-endemic\", \" \", IF(INTRO!$E$37=\"Non-endemic\",\" \", IF(COUNTRY_INFO!A63=0,\" \",COUNTRY_INFO!A63)))","v":" "},{"$f":"IF(INTRO!$E$39<>\"Non-endemic\", \" \", IF(INTRO!$E$37=\"Non-endemic\",\" \", IF(COUNTRY_INFO!B63=0,\" \",COUNTRY_INFO!B63)))","v":" "},{"$f":"IF(INTRO!$E$39<>\"Non-endemic\", \" \", IF(INTRO!$E$37=\"Non-endemic\",\" \", IF(COUNTRY_INFO!C63=0,\" \",COUNTRY_INFO!C63)))","v":" "},{"$f":"IF(INTRO!$E$39<>\"Non-endemic\", 0, IF(INTRO!$E$37=\"Non-endemic\",0,IF(COUNTRY_INFO!$H63=1,COUNTRY_INFO!E63,0)))","v":0},{"$f":"IF(INTRO!$E$39<>\"Non-endemic\", 0, IF(INTRO!$E$37=\"Non-endemic\",0,IF(COUNTRY_INFO!$H63=1,COUNTRY_INFO!F63,0)))","v":0},{"$f":"IF(INTRO!$E$39<>\"Non-endemic\", 0, IF(INTRO!$E$37=\"Non-endemic\",0,IF(COUNTRY_INFO!$H63=1,COUNTRY_INFO!G63,0)))","v":0},0,{"$f":"IF(INTRO!$E$39=\"Non-endemic\",IF(INTRO!$E$37=\"Non-endemic\",\"Not required\",COUNTRY_INFO!V63),\"Treat with IVM\")","v":"Treat with IVM"},0,0,null,0]
[{"$f":"IF(INTRO!$E$39<>\"Non-endemic\", \" \", IF(INTRO!$E$37=\"Non-endemic\",\" \", IF(COUNTRY_INFO!A64=0,\" \",COUNTRY_INFO!A64)))","v":" "},{"$f":"IF(INTRO!$E$39<>\"Non-endemic\", \" \", IF(INTRO!$E$37=\"Non-endemic\",\" \", IF(COUNTRY_INFO!B64=0,\" \",COUNTRY_INFO!B64)))","v":" "},{"$f":"IF(INTRO!$E$39<>\"Non-endemic\", \" \", IF(INTRO!$E$37=\"Non-endemic\",\" \", IF(COUNTRY_INFO!C64=0,\" \",COUNTRY_INFO!C64)))","v":" "},{"$f":"IF(INTRO!$E$39<>\"Non-endemic\", 0, IF(INTRO!$E$37=\"Non-endemic\",0,IF(COUNTRY_INFO!$H64=1,COUNTRY_INFO!E64,0)))","v":0},{"$f":"IF(INTRO!$E$39<>\"Non-endemic\", 0, IF(INTRO!$E$37=\"Non-endemic\",0,IF(COUNTRY_INFO!$H64=1,COUNTRY_INFO!F64,0)))","v":0},{"$f":"IF(INTRO!$E$39<>\"Non-endemic\", 0, IF(INTRO!$E$37=\"Non-endemic\",0,IF(COUNTRY_INFO!$H64=1,COUNTRY_INFO!G64,0)))","v":0},0,{"$f":"IF(INTRO!$E$39=\"Non-endemic\",IF(INTRO!$E$37=\"Non-endemic\",\"Not required\",COUNTRY_INFO!V64),\"Treat with IVM\")","v":"Treat with IVM"},0,0,null,0]
[{"$f":"IF(INTRO!$E$39<>\"Non-endemic\", \" \", IF(INTRO!$E$37=\"Non-endemic\",\" \", IF(COUNTRY_INFO!A65=0,\" \",COUNTRY_INFO!A65)))","v":" "},{"$f":"IF(INTRO!$E$39<>\"Non-endemic\", \" \", IF(INTRO!$E$37=\"Non-endemic\",\" \", IF(COUNTRY_INFO!B65=0,\" \",COUNTRY_INFO!B65)))","v":" "},{"$f":"IF(INTRO!$E$39<>\"Non-endemic\", \" \", IF(INTRO!$E$37=\"Non-endemic\",\" \", IF(COUNTRY_INFO!C65=0,\" \",COUNTRY_INFO!C65)))","v":" "},{"$f":"IF(INTRO!$E$39<>\"Non-endemic\", 0, IF(INTRO!$E$37=\"Non-endemic\",0,IF(COUNTRY_INFO!$H65=1,COUNTRY_INFO!E65,0)))","v":0},{"$f":"IF(INTRO!$E$39<>\"Non-endemic\", 0, IF(INTRO!$E$37=\"Non-endemic\",0,IF(COUNTRY_INFO!$H65=1,COUNTRY_INFO!F65,0)))","v":0},{"$f":"IF(INTRO!$E$39<>\"Non-endemic\", 0, IF(INTRO!$E$37=\"Non-endemic\",0,IF(COUNTRY_INFO!$H65=1,COUNTRY_INFO!G65,0)))","v":0},0,{"$f":"IF(INTRO!$E$39=\"Non-endemic\",IF(INTRO!$E$37=\"Non-endemic\",\"Not required\",COUNTRY_INFO!V65),\"Treat with IVM\")","v":"Treat with IVM"},0,0,null,0]
[{"$f":"IF(INTRO!$E$39<>\"Non-endemic\", \" \", IF(INTRO!$E$37=\"Non-endemic\",\" \", IF(COUNTRY_INFO!A66=0,\" \",COUNTRY_INFO!A66)))","v":" "},{"$f":"IF(INTRO!$E$39<>\"Non-endemic\", \" \", IF(INTRO!$E$37=\"Non-endemic\",\" \", IF(COUNTRY_INFO!B66=0,\" \",COUNTRY_INFO!B66)))","v":" "},{"$f":"IF(INTRO!$E$39<>\"Non-endemic\", \" \", IF(INTRO!$E$37=\"Non-endemic\",\" \", IF(COUNTRY_INFO!C66=0,\" \",COUNTRY_INFO!C66)))","v":" "},{"$f":"IF(INTRO!$E$39<>\"Non-endemic\", 0, IF(INTRO!$E$37=\"Non-endemic\",0,IF(COUNTRY_INFO!$H66=1,COUNTRY_INFO!E66,0)))","v":0},{"$f":"IF(INTRO!$E$39<>\"Non-endemic\", 0, IF(INTRO!$E$37=\"Non-endemic\",0,IF(COUNTRY_INFO!$H66=1,COUNTRY_INFO!F66,0)))","v":0},{"$f":"IF(INTRO!$E$39<>\"Non-endemic\", 0, IF(INTRO!$E$37=\"Non-endemic\",0,IF(COUNTRY_INFO!$H66=1,COUNTRY_INFO!G66,0)))","v":0},0,{"$f":"IF(INTRO!$E$39=\"Non-endemic\",IF(INTRO!$E$37=\"Non-endemic\",\"Not required\",COUNTRY_INFO!V66),\"Treat with IVM\")","v":"Treat with IVM"},0,0,null,0]
[{"$f":"IF(INTRO!$E$39<>\"Non-endemic\", \" \", IF(INTRO!$E$37=\"Non-endemic\",\" \", IF(COUNTRY_INFO!A67=0,\" \",COUNTRY_INFO!A67)))","v":" "},{"$f":"IF(INTRO!$E$39<>\"Non-endemic\", \" \", IF(INTRO!$E$37=\"Non-endemic\",\" \", IF(COUNTRY_INFO!B67=0,\" \",COUNTRY_INFO!B67)))","v":" "},{"$f":"IF(INTRO!$E$39<>\"Non-endemic\", \" \", IF(INTRO!$E$37=\"Non-endemic\",\" \", IF(COUNTRY_INFO!C67=0,\" \",COUNTRY_INFO!C67)))","v":" "},{"$f":"IF(INTRO!$E$39<>\"Non-endemic\", 0, IF(INTRO!$E$37=\"Non-endemic\",0,IF(COUNTRY_INFO!$H67=1,COUNTRY_INFO!E67,0)))","v":0},{"$f":"IF(INTRO!$E$39<>\"Non-endemic\", 0, IF(INTRO!$E$37=\"Non-endemic\",0,IF(COUNTRY_INFO!$H67=1,COUNTRY_INFO!F67,0)))","v":0},{"$f":"IF(INTRO!$E$39<>\"Non-endemic\", 0, IF(INTRO!$E$37=\"Non-endemic\",0,IF(COUNTRY_INFO!$H67=1,COUNTRY_INFO!G67,0)))","v":0},0,{"$f":"IF(INTRO!$E$39=\"Non-endemic\",IF(INTRO!$E$37=\"Non-endemic\",\"Not required\",COUNTRY_INFO!V67),\"Treat with IVM\")","v":"Treat with IVM"},0,0,null,0]
[{"$f":"IF(INTRO!$E$39<>\"Non-endemic\", \" \", IF(INTRO!$E$37=\"Non-endemic\",\" \", IF(COUNTRY_INFO!A68=0,\" \",COUNTRY_INFO!A68)))","v":" "},{"$f":"IF(INTRO!$E$39<>\"Non-endemic\", \" \", IF(INTRO!$E$37=\"Non-endemic\",\" \", IF(COUNTRY_INFO!B68=0,\" \",COUNTRY_INFO!B68)))","v":" "},{"$f":"IF(INTRO!$E$39<>\"Non-endemic\", \" \", IF(INTRO!$E$37=\"Non-endemic\",\" \", IF(COUNTRY_INFO!C68=0,\" \",COUNTRY_INFO!C68)))","v":" "},{"$f":"IF(INTRO!$E$39<>\"Non-endemic\", 0, IF(INTRO!$E$37=\"Non-endemic\",0,IF(COUNTRY_INFO!$H68=1,COUNTRY_INFO!E68,0)))","v":0},{"$f":"IF(INTRO!$E$39<>\"Non-endemic\", 0, IF(INTRO!$E$37=\"Non-endemic\",0,IF(COUNTRY_INFO!$H68=1,COUNTRY_INFO!F68,0)))","v":0},{"$f":"IF(INTRO!$E$39<>\"Non-endemic\", 0, IF(INTRO!$E$37=\"Non-endemic\",0,IF(COUNTRY_INFO!$H68=1,COUNTRY_INFO!G68,0)))","v":0},0,{"$f":"IF(INTRO!$E$39=\"Non-endemic\",IF(INTRO!$E$37=\"Non-endemic\",\"Not required\",COUNTRY_INFO!V68),\"Treat with IVM\")","v":"Treat with IVM"},0,0,null,0]
[{"$f":"IF(INTRO!$E$39<>\"Non-endemic\", \" \", IF(INTRO!$E$37=\"Non-endemic\",\" \", IF(COUNTRY_INFO!A69=0,\" \",COUNTRY_INFO!A69)))","v":" "},{"$f":"IF(INTRO!$E$39<>\"Non-endemic\", \" \", IF(INTRO!$E$37=\"Non-endemic\",\" \", IF(COUNTRY_INFO!B69=0,\" \",COUNTRY_INFO!B69)))","v":" "},{"$f":"IF(INTRO!$E$39<>\"Non-endemic\", \" \", IF(INTRO!$E$37=\"Non-endemic\",\" \", IF(COUNTRY_INFO!C69=0,\" \",COUNTRY_INFO!C69)))","v":" "},{"$f":"IF(INTRO!$E$39<>\"Non-endemic\", 0, IF(INTRO!$E$37=\"Non-endemic\",0,IF(COUNTRY_INFO!$H69=1,COUNTRY_INFO!E69,0)))","v":0},{"$f":"IF(INTRO!$E$39<>\"Non-endemic\", 0, IF(INTRO!$E$37=\"Non-endemic\",0,IF(COUNTRY_INFO!$H69=1,COUNTRY_INFO!F69,0)))","v":0},{"$f":"IF(INTRO!$E$39<>\"Non-endemic\", 0, IF(INTRO!$E$37=\"Non-endemic\",0,IF(COUNTRY_INFO!$H69=1,COUNTRY_INFO!G69,0)))","v":0},0,{"$f":"IF(INTRO!$E$39=\"Non-endemic\",IF(INTRO!$E$37=\"Non-endemic\",\"Not required\",COUNTRY_INFO!V69),\"Treat with IVM\")","v":"Treat with IVM"},0,0,null,0]
[{"$f":"IF(INTRO!$E$39<>\"Non-endemic\", \" \", IF(INTRO!$E$37=\"Non-endemic\",\" \", IF(COUNTRY_INFO!A70=0,\" \",COUNTRY_INFO!A70)))","v":" "},{"$f":"IF(INTRO!$E$39<>\"Non-endemic\", \" \", IF(INTRO!$E$37=\"Non-endemic\",\" \", IF(COUNTRY_INFO!B70=0,\" \",COUNTRY_INFO!B70)))","v":" "},{"$f":"IF(INTRO!$E$39<>\"Non-endemic\", \" \", IF(INTRO!$E$37=\"Non-endemic\",\" \", IF(COUNTRY_INFO!C70=0,\" \",COUNTRY_INFO!C70)))","v":" "},{"$f":"IF(INTRO!$E$39<>\"Non-endemic\", 0, IF(INTRO!$E$37=\"Non-endemic\",0,IF(COUNTRY_INFO!$H70=1,COUNTRY_INFO!E70,0)))","v":0},{"$f":"IF(INTRO!$E$39<>\"Non-endemic\", 0, IF(INTRO!$E$37=\"Non-endemic\",0,IF(COUNTRY_INFO!$H70=1,COUNTRY_INFO!F70,0)))","v":0},{"$f":"IF(INTRO!$E$39<>\"Non-endemic\", 0, IF(INTRO!$E$37=\"Non-endemic\",0,IF(COUNTRY_INFO!$H70=1,COUNTRY_INFO!G70,0)))","v":0},0,{"$f":"IF(INTRO!$E$39=\"Non-endemic\",IF(INTRO!$E$37=\"Non-endemic\",\"Not required\",COUNTRY_INFO!V70),\"Treat with IVM\")","v":"Treat with IVM"},0,0,null,0]
[{"$f":"IF(INTRO!$E$39<>\"Non-endemic\", \" \", IF(INTRO!$E$37=\"Non-endemic\",\" \", IF(COUNTRY_INFO!A71=0,\" \",COUNTRY_INFO!A71)))","v":" "},{"$f":"IF(INTRO!$E$39<>\"Non-endemic\", \" \", IF(INTRO!$E$37=\"Non-endemic\",\" \", IF(COUNTRY_INFO!B71=0,\" \",COUNTRY_INFO!B71)))","v":" "},{"$f":"IF(INTRO!$E$39<>\"Non-endemic\", \" \", IF(INTRO!$E$37=\"Non-endemic\",\" \", IF(COUNTRY_INFO!C71=0,\" \",COUNTRY_INFO!C71)))","v":" "},{"$f":"IF(INTRO!$E$39<>\"Non-endemic\", 0, IF(INTRO!$E$37=\"Non-endemic\",0,IF(COUNTRY_INFO!$H71=1,COUNTRY_INFO!E71,0)))","v":0},{"$f":"IF(INTRO!$E$39<>\"Non-endemic\", 0, IF(INTRO!$E$37=\"Non-endemic\",0,IF(COUNTRY_INFO!$H71=1,COUNTRY_INFO!F71,0)))","v":0},{"$f":"IF(INTRO!$E$39<>\"Non-endemic\", 0, IF(INTRO!$E$37=\"Non-endemic\",0,IF(COUNTRY_INFO!$H71=1,COUNTRY_INFO!G71,0)))","v":0},0,{"$f":"IF(INTRO!$E$39=\"Non-endemic\",IF(INTRO!$E$37=\"Non-endemic\",\"Not required\",COUNTRY_INFO!V71),\"Treat with IVM\")","v":"Treat with IVM"},0,0,null,0]
[{"$f":"IF(INTRO!$E$39<>\"Non-endemic\", \" \", IF(INTRO!$E$37=\"Non-endemic\",\" \", IF(COUNTRY_INFO!A72=0,\" \",COUNTRY_INFO!A72)))","v":" "},{"$f":"IF(INTRO!$E$39<>\"Non-endemic\", \" \", IF(INTRO!$E$37=\"Non-endemic\",\" \", IF(COUNTRY_INFO!B72=0,\" \",COUNTRY_INFO!B72)))","v":" "},{"$f":"IF(INTRO!$E$39<>\"Non-endemic\", \" \", IF(INTRO!$E$37=\"Non-endemic\",\" \", IF(COUNTRY_INFO!C72=0,\" \",COUNTRY_INFO!C72)))","v":" "},{"$f":"IF(INTRO!$E$39<>\"Non-endemic\", 0, IF(INTRO!$E$37=\"Non-endemic\",0,IF(COUNTRY_INFO!$H72=1,COUNTRY_INFO!E72,0)))","v":0},{"$f":"IF(INTRO!$E$39<>\"Non-endemic\", 0, IF(INTRO!$E$37=\"Non-endemic\",0,IF(COUNTRY_INFO!$H72=1,COUNTRY_INFO!F72,0)))","v":0},{"$f":"IF(INTRO!$E$39<>\"Non-endemic\", 0, IF(INTRO!$E$37=\"Non-endemic\",0,IF(COUNTRY_INFO!$H72=1,COUNTRY_INFO!G72,0)))","v":0},0,{"$f":"IF(INTRO!$E$39=\"Non-endemic\",IF(INTRO!$E$37=\"Non-endemic\",\"Not required\",COUNTRY_INFO!V72),\"Treat with IVM\")","v":"Treat with IVM"},0,0,null,0]
[{"$f":"IF(INTRO!$E$39<>\"Non-endemic\", \" \", IF(INTRO!$E$37=\"Non-endemic\",\" \", IF(COUNTRY_INFO!A73=0,\" \",COUNTRY_INFO!A73)))","v":" "},{"$f":"IF(INTRO!$E$39<>\"Non-endemic\", \" \", IF(INTRO!$E$37=\"Non-endemic\",\" \", IF(COUNTRY_INFO!B73=0,\" \",COUNTRY_INFO!B73)))","v":" "},{"$f":"IF(INTRO!$E$39<>\"Non-endemic\", \" \", IF(INTRO!$E$37=\"Non-endemic\",\" \", IF(COUNTRY_INFO!C73=0,\" \",COUNTRY_INFO!C73)))","v":" "},{"$f":"IF(INTRO!$E$39<>\"Non-endemic\", 0, IF(INTRO!$E$37=\"Non-endemic\",0,IF(COUNTRY_INFO!$H73=1,COUNTRY_INFO!E73,0)))","v":0},{"$f":"IF(INTRO!$E$39<>\"Non-endemic\", 0, IF(INTRO!$E$37=\"Non-endemic\",0,IF(COUNTRY_INFO!$H73=1,COUNTRY_INFO!F73,0)))","v":0},{"$f":"IF(INTRO!$E$39<>\"Non-endemic\", 0, IF(INTRO!$E$37=\"Non-endemic\",0,IF(COUNTRY_INFO!$H73=1,COUNTRY_INFO!G73,0)))","v":0},0,{"$f":"IF(INTRO!$E$39=\"Non-endemic\",IF(INTRO!$E$37=\"Non-endemic\",\"Not required\",COUNTRY_INFO!V73),\"Treat with IVM\")","v":"Treat with IVM"},0,0,null,0]
[{"$f":"IF(INTRO!$E$39<>\"Non-endemic\", \" \", IF(INTRO!$E$37=\"Non-endemic\",\" \", IF(COUNTRY_INFO!A74=0,\" \",COUNTRY_INFO!A74)))","v":" "},{"$f":"IF(INTRO!$E$39<>\"Non-endemic\", \" \", IF(INTRO!$E$37=\"Non-endemic\",\" \", IF(COUNTRY_INFO!B74=0,\" \",COUNTRY_INFO!B74)))","v":" "},{"$f":"IF(INTRO!$E$39<>\"Non-endemic\", \" \", IF(INTRO!$E$37=\"Non-endemic\",\" \", IF(COUNTRY_INFO!C74=0,\" \",COUNTRY_INFO!C74)))","v":" "},{"$f":"IF(INTRO!$E$39<>\"Non-endemic\", 0, IF(INTRO!$E$37=\"Non-endemic\",0,IF(COUNTRY_INFO!$H74=1,COUNTRY_INFO!E74,0)))","v":0},{"$f":"IF(INTRO!$E$39<>\"Non-endemic\", 0, IF(INTRO!$E$37=\"Non-endemic\",0,IF(COUNTRY_INFO!$H74=1,COUNTRY_INFO!F74,0)))","v":0},{"$f":"IF(INTRO!$E$39<>\"Non-endemic\", 0, IF(INTRO!$E$37=\"Non-endemic\",0,IF(COUNTRY_INFO!$H74=1,COUNTRY_INFO!G74,0)))","v":0},0,{"$f":"IF(INTRO!$E$39=\"Non-endemic\",IF(INTRO!$E$37=\"Non-endemic\",\"Not required\",COUNTRY_INFO!V74),\"Treat with IVM\")","v":"Treat with IVM"},0,0,null,0]
[{"$f":"IF(INTRO!$E$39<>\"Non-endemic\", \" \", IF(INTRO!$E$37=\"Non-endemic\",\" \", IF(COUNTRY_INFO!A75=0,\" \",COUNTRY_INFO!A75)))","v":" "},{"$f":"IF(INTRO!$E$39<>\"Non-endemic\", \" \", IF(INTRO!$E$37=\"Non-endemic\",\" \", IF(COUNTRY_INFO!B75=0,\" \",COUNTRY_INFO!B75)))","v":" "},{"$f":"IF(INTRO!$E$39<>\"Non-endemic\", \" \", IF(INTRO!$E$37=\"Non-endemic\",\" \", IF(COUNTRY_INFO!C75=0,\" \",COUNTRY_INFO!C75)))","v":" "},{"$f":"IF(INTRO!$E$39<>\"Non-endemic\", 0, IF(INTRO!$E$37=\"Non-endemic\",0,IF(COUNTRY_INFO!$H75=1,COUNTRY_INFO!E75,0)))","v":0},{"$f":"IF(INTRO!$E$39<>\"Non-endemic\", 0, IF(INTRO!$E$37=\"Non-endemic\",0,IF(COUNTRY_INFO!$H75=1,COUNTRY_INFO!F75,0)))","v":0},{"$f":"IF(INTRO!$E$39<>\"Non-endemic\", 0, IF(INTRO!$E$37=\"Non-endemic\",0,IF(COUNTRY_INFO!$H75=1,COUNTRY_INFO!G75,0)))","v":0},{"$f":"SUM(D75:F75)","v":0},{"$f":"IF(INTRO!$E$39=\"Non-endemic\",IF(INTRO!$E$37=\"Non-endemic\",\"Not required\",COUNTRY_INFO!V75),\"Treat with IVM\")","v":"Treat with IVM"},{"$f":"IF(H75=1,G75,0)","v":0},{"$f":"IF(I75>0,I75*2.5,0)","v":0},null,0]
[{"$f":"IF(INTRO!$E$39<>\"Non-endemic\", \" \", IF(INTRO!$E$37=\"Non-endemic\",\" \", IF(COUNTRY_INFO!A76=0,\" \",COUNTRY_INFO!A76)))","v":" "},{"$f":"IF(INTRO!$E$39<>\"Non-endemic\", \" \", IF(INTRO!$E$37=\"Non-endemic\",\" \", IF(COUNTRY_INFO!B76=0,\" \",COUNTRY_INFO!B76)))","v":" "},{"$f":"IF(INTRO!$E$39<>\"Non-endemic\", \" \", IF(INTRO!$E$37=\"Non-endemic\",\" \", IF(COUNTRY_INFO!C76=0,\" \",COUNTRY_INFO!C76)))","v":" "},{"$f":"IF(INTRO!$E$39<>\"Non-endemic\", 0, IF(INTRO!$E$37=\"Non-endemic\",0,IF(COUNTRY_INFO!$H76=1,COUNTRY_INFO!E76,0)))","v":0},{"$f":"IF(INTRO!$E$39<>\"Non-endemic\", 0, IF(INTRO!$E$37=\"Non-endemic\",0,IF(COUNTRY_INFO!$H76=1,COUNTRY_INFO!F76,0)))","v":0},{"$f":"IF(INTRO!$E$39<>\"Non-endemic\", 0, IF(INTRO!$E$37=\"Non-endemic\",0,IF(COUNTRY_INFO!$H76=1,COUNTRY_INFO!G76,0)))","v":0},0,{"$f":"IF(INTRO!$E$39=\"Non-endemic\",IF(INTRO!$E$37=\"Non-endemic\",\"Not required\",COUNTRY_INFO!V76),\"Treat with IVM\")","v":"Treat with IVM"},0,0,null,0]
[{"$f":"IF(INTRO!$E$39<>\"Non-endemic\", \" \", IF(INTRO!$E$37=\"Non-endemic\",\" \", IF(COUNTRY_INFO!A77=0,\" \",COUNTRY_INFO!A77)))","v":" "},{"$f":"IF(INTRO!$E$39<>\"Non-endemic\", \" \", IF(INTRO!$E$37=\"Non-endemic\",\" \", IF(COUNTRY_INFO!B77=0,\" \",COUNTRY_INFO!B77)))","v":" "},{"$f":"IF(INTRO!$E$39<>\"Non-endemic\", \" \", IF(INTRO!$E$37=\"Non-endemic\",\" \", IF(COUNTRY_INFO!C77=0,\" \",COUNTRY_INFO!C77)))","v":" "},{"$f":"IF(INTRO!$E$39<>\"Non-endemic\", 0, IF(INTRO!$E$37=\"Non-endemic\",0,IF(COUNTRY_INFO!$H77=1,COUNTRY_INFO!E77,0)))","v":0},{"$f":"IF(INTRO!$E$39<>\"Non-endemic\", 0, IF(INTRO!$E$37=\"Non-endemic\",0,IF(COUNTRY_INFO!$H77=1,COUNTRY_INFO!F77,0)))","v":0},{"$f":"IF(INTRO!$E$39<>\"Non-endemic\", 0, IF(INTRO!$E$37=\"Non-endemic\",0,IF(COUNTRY_INFO!$H77=1,COUNTRY_INFO!G77,0)))","v":0},0,{"$f":"IF(INTRO!$E$39=\"Non-endemic\",IF(INTRO!$E$37=\"Non-endemic\",\"Not required\",COUNTRY_INFO!V77),\"Treat with IVM\")","v":"Treat with IVM"},0,0,null,0]
[{"$f":"IF(INTRO!$E$39<>\"Non-endemic\", \" \", IF(INTRO!$E$37=\"Non-endemic\",\" \", IF(COUNTRY_INFO!A78=0,\" \",COUNTRY_INFO!A78)))","v":" "},{"$f":"IF(INTRO!$E$39<>\"Non-endemic\", \" \", IF(INTRO!$E$37=\"Non-endemic\",\" \", IF(COUNTRY_INFO!B78=0,\" \",COUNTRY_INFO!B78)))","v":" "},{"$f":"IF(INTRO!$E$39<>\"Non-endemic\", \" \", IF(INTRO!$E$37=\"Non-endemic\",\" \", IF(COUNTRY_INFO!C78=0,\" \",COUNTRY_INFO!C78)))","v":" "},{"$f":"IF(INTRO!$E$39<>\"Non-endemic\", 0, IF(INTRO!$E$37=\"Non-endemic\",0,IF(COUNTRY_INFO!$H78=1,COUNTRY_INFO!E78,0)))","v":0},{"$f":"IF(INTRO!$E$39<>\"Non-endemic\", 0, IF(INTRO!$E$37=\"Non-endemic\",0,IF(COUNTRY_INFO!$H78=1,COUNTRY_INFO!F78,0)))","v":0},{"$f":"IF(INTRO!$E$39<>\"Non-endemic\", 0, IF(INTRO!$E$37=\"Non-endemic\",0,IF(COUNTRY_INFO!$H78=1,COUNTRY_INFO!G78,0)))","v":0},0,{"$f":"IF(INTRO!$E$39=\"Non-endemic\",IF(INTRO!$E$37=\"Non-endemic\",\"Not required\",COUNTRY_INFO!V78),\"Treat with IVM\")","v":"Treat with IVM"},0,0,null,0]
[{"$f":"IF(INTRO!$E$39<>\"Non-endemic\", \" \", IF(INTRO!$E$37=\"Non-endemic\",\" \", IF(COUNTRY_INFO!A79=0,\" \",COUNTRY_INFO!A79)))","v":" "},{"$f":"IF(INTRO!$E$39<>\"Non-endemic\", \" \", IF(INTRO!$E$37=\"Non-endemic\",\" \", IF(COUNTRY_INFO!B79=0,\" \",COUNTRY_INFO!B79)))","v":" "},{"$f":"IF(INTRO!$E$39<>\"Non-endemic\", \" \", IF(INTRO!$E$37=\"Non-endemic\",\" \", IF(COUNTRY_INFO!C79=0,\" \",COUNTRY_INFO!C79)))","v":" "},{"$f":"IF(INTRO!$E$39<>\"Non-endemic\", 0, IF(INTRO!$E$37=\"Non-endemic\",0,IF(COUNTRY_INFO!$H79=1,COUNTRY_INFO!E79,0)))","v":0},{"$f":"IF(INTRO!$E$39<>\"Non-endemic\", 0, IF(INTRO!$E$37=\"Non-endemic\",0,IF(COUNTRY_INFO!$H79=1,COUNTRY_INFO!F79,0)))","v":0},{"$f":"IF(INTRO!$E$39<>\"Non-endemic\", 0, IF(INTRO!$E$37=\"Non-endemic\",0,IF(COUNTRY_INFO!$H79=1,COUNTRY_INFO!G79,0)))","v":0},0,{"$f":"IF(INTRO!$E$39=\"Non-endemic\",IF(INTRO!$E$37=\"Non-endemic\",\"Not required\",COUNTRY_INFO!V79),\"Treat with IVM\")","v":"Treat with IVM"},0,0,null,0]
[{"$f":"IF(INTRO!$E$39<>\"Non-endemic\", \" \", IF(INTRO!$E$37=\"Non-endemic\",\" \", IF(COUNTRY_INFO!A80=0,\" \",COUNTRY_INFO!A80)))","v":" "},{"$f":"IF(INTRO!$E$39<>\"Non-endemic\", \" \", IF(INTRO!$E$37=\"Non-endemic\",\" \", IF(COUNTRY_INFO!B80=0,\" \",COUNTRY_INFO!B80)))","v":" "},{"$f":"IF(INTRO!$E$39<>\"Non-endemic\", \" \", IF(INTRO!$E$37=\"Non-endemic\",\" \", IF(COUNTRY_INFO!C80=0,\" \",COUNTRY_INFO!C80)))","v":" "},{"$f":"IF(INTRO!$E$39<>\"Non-endemic\", 0, IF(INTRO!$E$37=\"Non-endemic\",0,IF(COUNTRY_INFO!$H80=1,COUNTRY_INFO!E80,0)))","v":0},{"$f":"IF(INTRO!$E$39<>\"Non-endemic\", 0, IF(INTRO!$E$37=\"Non-endemic\",0,IF(COUNTRY_INFO!$H80=1,COUNTRY_INFO!F80,0)))","v":0},{"$f":"IF(INTRO!$E$39<>\"Non-endemic\", 0, IF(INTRO!$E$37=\"Non-endemic\",0,IF(COUNTRY_INFO!$H80=1,COUNTRY_INFO!G80,0)))","v":0},0,{"$f":"IF(INTRO!$E$39=\"Non-endemic\",IF(INTRO!$E$37=\"Non-endemic\",\"Not required\",COUNTRY_INFO!V80),\"Treat with IVM\")","v":"Treat with IVM"},0,0,null,0]
[{"$f":"IF(INTRO!$E$39<>\"Non-endemic\", \" \", IF(INTRO!$E$37=\"Non-endemic\",\" \", IF(COUNTRY_INFO!A81=0,\" \",COUNTRY_INFO!A81)))","v":" "},{"$f":"IF(INTRO!$E$39<>\"Non-endemic\", \" \", IF(INTRO!$E$37=\"Non-endemic\",\" \", IF(COUNTRY_INFO!B81=0,\" \",COUNTRY_INFO!B81)))","v":" "},{"$f":"IF(INTRO!$E$39<>\"Non-endemic\", \" \", IF(INTRO!$E$37=\"Non-endemic\",\" \", IF(COUNTRY_INFO!C81=0,\" \",COUNTRY_INFO!C81)))","v":" "},{"$f":"IF(INTRO!$E$39<>\"Non-endemic\", 0, IF(INTRO!$E$37=\"Non-endemic\",0,IF(COUNTRY_INFO!$H81=1,COUNTRY_INFO!E81,0)))","v":0},{"$f":"IF(INTRO!$E$39<>\"Non-endemic\", 0, IF(INTRO!$E$37=\"Non-endemic\",0,IF(COUNTRY_INFO!$H81=1,COUNTRY_INFO!F81,0)))","v":0},{"$f":"IF(INTRO!$E$39<>\"Non-endemic\", 0, IF(INTRO!$E$37=\"Non-endemic\",0,IF(COUNTRY_INFO!$H81=1,COUNTRY_INFO!G81,0)))","v":0},0,{"$f":"IF(INTRO!$E$39=\"Non-endemic\",IF(INTRO!$E$37=\"Non-endemic\",\"Not required\",COUNTRY_INFO!V81),\"Treat with IVM\")","v":"Treat with IVM"},0,0,null,0]
[{"$f":"IF(INTRO!$E$39<>\"Non-endemic\", \" \", IF(INTRO!$E$37=\"Non-endemic\",\" \", IF(COUNTRY_INFO!A82=0,\" \",COUNTRY_INFO!A82)))","v":" "},{"$f":"IF(INTRO!$E$39<>\"Non-endemic\", \" \", IF(INTRO!$E$37=\"Non-endemic\",\" \", IF(COUNTRY_INFO!B82=0,\" \",COUNTRY_INFO!B82)))","v":" "},{"$f":"IF(INTRO!$E$39<>\"Non-endemic\", \" \", IF(INTRO!$E$37=\"Non-endemic\",\" \", IF(COUNTRY_INFO!C82=0,\" \",COUNTRY_INFO!C82)))","v":" "},{"$f":"IF(INTRO!$E$39<>\"Non-endemic\", 0, IF(INTRO!$E$37=\"Non-endemic\",0,IF(COUNTRY_INFO!$H82=1,COUNTRY_INFO!E82,0)))","v":0},{"$f":"IF(INTRO!$E$39<>\"Non-endemic\", 0, IF(INTRO!$E$37=\"Non-endemic\",0,IF(COUNTRY_INFO!$H82=1,COUNTRY_INFO!F82,0)))","v":0},{"$f":"IF(INTRO!$E$39<>\"Non-endemic\", 0, IF(INTRO!$E$37=\"Non-endemic\",0,IF(COUNTRY_INFO!$H82=1,COUNTRY_INFO!G82,0)))","v":0},0,{"$f":"IF(INTRO!$E$39=\"Non-endemic\",IF(INTRO!$E$37=\"Non-endemic\",\"Not required\",COUNTRY_INFO!V82),\"Treat with IVM\")","v":"Treat with IVM"},0,0,null,0]
[{"$f":"IF(INTRO!$E$39<>\"Non-endemic\", \" \", IF(INTRO!$E$37=\"Non-endemic\",\" \", IF(COUNTRY_INFO!A83=0,\" \",COUNTRY_INFO!A83)))","v":" "},{"$f":"IF(INTRO!$E$39<>\"Non-endemic\", \" \", IF(INTRO!$E$37=\"Non-endemic\",\" \", IF(COUNTRY_INFO!B83=0,\" \",COUNTRY_INFO!B83)))","v":" "},{"$f":"IF(INTRO!$E$39<>\"Non-endemic\", \" \", IF(INTRO!$E$37=\"Non-endemic\",\" \", IF(COUNTRY_INFO!C83=0,\" \",COUNTRY_INFO!C83)))","v":" "},{"$f":"IF(INTRO!$E$39<>\"Non-endemic\", 0, IF(INTRO!$E$37=\"Non-endemic\",0,IF(COUNTRY_INFO!$H83=1,COUNTRY_INFO!E83,0)))","v":0},{"$f":"IF(INTRO!$E$39<>\"Non-endemic\", 0, IF(INTRO!$E$37=\"Non-endemic\",0,IF(COUNTRY_INFO!$H83=1,COUNTRY_INFO!F83,0)))","v":0},{"$f":"IF(INTRO!$E$39<>\"Non-endemic\", 0, IF(INTRO!$E$37=\"Non-endemic\",0,IF(COUNTRY_INFO!$H83=1,COUNTRY_INFO!G83,0)))","v":0},0,{"$f":"IF(INTRO!$E$39=\"Non-endemic\",IF(INTRO!$E$37=\"Non-endemic\",\"Not required\",COUNTRY_INFO!V83),\"Treat with IVM\")","v":"Treat with IVM"},0,0,null,0]
[{"$f":"IF(INTRO!$E$39<>\"Non-endemic\", \" \", IF(INTRO!$E$37=\"Non-endemic\",\" \", IF(COUNTRY_INFO!A84=0,\" \",COUNTRY_INFO!A84)))","v":" "},{"$f":"IF(INTRO!$E$39<>\"Non-endemic\", \" \", IF(INTRO!$E$37=\"Non-endemic\",\" \", IF(COUNTRY_INFO!B84=0,\" \",COUNTRY_INFO!B84)))","v":" "},{"$f":"IF(INTRO!$E$39<>\"Non-endemic\", \" \", IF(INTRO!$E$37=\"Non-endemic\",\" \", IF(COUNTRY_INFO!C84=0,\" \",COUNTRY_INFO!C84)))","v":" "},{"$f":"IF(INTRO!$E$39<>\"Non-endemic\", 0, IF(INTRO!$E$37=\"Non-endemic\",0,IF(COUNTRY_INFO!$H84=1,COUNTRY_INFO!E84,0)))","v":0},{"$f":"IF(INTRO!$E$39<>\"Non-endemic\", 0, IF(INTRO!$E$37=\"Non-endemic\",0,IF(COUNTRY_INFO!$H84=1,COUNTRY_INFO!F84,0)))","v":0},{"$f":"IF(INTRO!$E$39<>\"Non-endemic\", 0, IF(INTRO!$E$37=\"Non-endemic\",0,IF(COUNTRY_INFO!$H84=1,COUNTRY_INFO!G84,0)))","v":0},0,{"$f":"IF(INTRO!$E$39=\"Non-endemic\",IF(INTRO!$E$37=\"Non-endemic\",\"Not required\",COUNTRY_INFO!V84),\"Treat with IVM\")","v":"Treat with IVM"},0,0,null,0]
[{"$f":"IF(INTRO!$E$39<>\"Non-endemic\", \" \", IF(INTRO!$E$37=\"Non-endemic\",\" \", IF(COUNTRY_INFO!A85=0,\" \",COUNTRY_INFO!A85)))","v":" "},{"$f":"IF(INTRO!$E$39<>\"Non-endemic\", \" \", IF(INTRO!$E$37=\"Non-endemic\",\" \", IF(COUNTRY_INFO!B85=0,\" \",COUNTRY_INFO!B85)))","v":" "},{"$f":"IF(INTRO!$E$39<>\"Non-endemic\", \" \", IF(INTRO!$E$37=\"Non-endemic\",\" \", IF(COUNTRY_INFO!C85=0,\" \",COUNTRY_INFO!C85)))","v":" "},{"$f":"IF(INTRO!$E$39<>\"Non-endemic\", 0, IF(INTRO!$E$37=\"Non-endemic\",0,IF(COUNTRY_INFO!$H85=1,COUNTRY_INFO!E85,0)))","v":0},{"$f":"IF(INTRO!$E$39<>\"Non-endemic\", 0, IF(INTRO!$E$37=\"Non-endemic\",0,IF(COUNTRY_INFO!$H85=1,COUNTRY_INFO!F85,0)))","v":0},{"$f":"IF(INTRO!$E$39<>\"Non-endemic\", 0, IF(INTRO!$E$37=\"Non-endemic\",0,IF(COUNTRY_INFO!$H85=1,COUNTRY_INFO!G85,0)))","v":0},0,{"$f":"IF(INTRO!$E$39=\"Non-endemic\",IF(INTRO!$E$37=\"Non-endemic\",\"Not required\",COUNTRY_INFO!V85),\"Treat with IVM\")","v":"Treat with IVM"},0,0,null,0]
[{"$f":"IF(INTRO!$E$39<>\"Non-endemic\", \" \", IF(INTRO!$E$37=\"Non-endemic\",\" \", IF(COUNTRY_INFO!A86=0,\" \",COUNTRY_INFO!A86)))","v":" "},{"$f":"IF(INTRO!$E$39<>\"Non-endemic\", \" \", IF(INTRO!$E$37=\"Non-endemic\",\" \", IF(COUNTRY_INFO!B86=0,\" \",COUNTRY_INFO!B86)))","v":" "},{"$f":"IF(INTRO!$E$39<>\"Non-endemic\", \" \", IF(INTRO!$E$37=\"Non-endemic\",\" \", IF(COUNTRY_INFO!C86=0,\" \",COUNTRY_INFO!C86)))","v":" "},{"$f":"IF(INTRO!$E$39<>\"Non-endemic\", 0, IF(INTRO!$E$37=\"Non-endemic\",0,IF(COUNTRY_INFO!$H86=1,COUNTRY_INFO!E86,0)))","v":0},{"$f":"IF(INTRO!$E$39<>\"Non-endemic\", 0, IF(INTRO!$E$37=\"Non-endemic\",0,IF(COUNTRY_INFO!$H86=1,COUNTRY_INFO!F86,0)))","v":0},{"$f":"IF(INTRO!$E$39<>\"Non-endemic\", 0, IF(INTRO!$E$37=\"Non-endemic\",0,IF(COUNTRY_INFO!$H86=1,COUNTRY_INFO!G86,0)))","v":0},0,{"$f":"IF(INTRO!$E$39=\"Non-endemic\",IF(INTRO!$E$37=\"Non-endemic\",\"Not required\",COUNTRY_INFO!V86),\"Treat with IVM\")","v":"Treat with IVM"},0,0,null,0]
[{"$f":"IF(INTRO!$E$39<>\"Non-endemic\", \" \", IF(INTRO!$E$37=\"Non-endemic\",\" \", IF(COUNTRY_INFO!A87=0,\" \",COUNTRY_INFO!A87)))","v":" "},{"$f":"IF(INTRO!$E$39<>\"Non-endemic\", \" \", IF(INTRO!$E$37=\"Non-endemic\",\" \", IF(COUNTRY_INFO!B87=0,\" \",COUNTRY_INFO!B87)))","v":" "},{"$f":"IF(INTRO!$E$39<>\"Non-endemic\", \" \", IF(INTRO!$E$37=\"Non-endemic\",\" \", IF(COUNTRY_INFO!C87=0,\" \",COUNTRY_INFO!C87)))","v":" "},{"$f":"IF(INTRO!$E$39<>\"Non-endemic\", 0, IF(INTRO!$E$37=\"Non-endemic\",0,IF(COUNTRY_INFO!$H87=1,COUNTRY_INFO!E87,0)))","v":0},{"$f":"IF(INTRO!$E$39<>\"Non-endemic\", 0, IF(INTRO!$E$37=\"Non-endemic\",0,IF(COUNTRY_INFO!$H87=1,COUNTRY_INFO!F87,0)))","v":0},{"$f":"IF(INTRO!$E$39<>\"Non-endemic\", 0, IF(INTRO!$E$37=\"Non-endemic\",0,IF(COUNTRY_INFO!$H87=1,COUNTRY_INFO!G87,0)))","v":0},0,{"$f":"IF(INTRO!$E$39=\"Non-endemic\",IF(INTRO!$E$37=\"Non-endemic\",\"Not required\",COUNTRY_INFO!V87),\"Treat with IVM\")","v":"Treat with IVM"},0,0,null,0]
[{"$f":"IF(INTRO!$E$39<>\"Non-endemic\", \" \", IF(INTRO!$E$37=\"Non-endemic\",\" \", IF(COUNTRY_INFO!A88=0,\" \",COUNTRY_INFO!A88)))","v":" "},{"$f":"IF(INTRO!$E$39<>\"Non-endemic\", \" \", IF(INTRO!$E$37=\"Non-endemic\",\" \", IF(COUNTRY_INFO!B88=0,\" \",COUNTRY_INFO!B88)))","v":" "},{"$f":"IF(INTRO!$E$39<>\"Non-endemic\", \" \", IF(INTRO!$E$37=\"Non-endemic\",\" \", IF(COUNTRY_INFO!C88=0,\" \",COUNTRY_INFO!C88)))","v":" "},{"$f":"IF(INTRO!$E$39<>\"Non-endemic\", 0, IF(INTRO!$E$37=\"Non-endemic\",0,IF(COUNTRY_INFO!$H88=1,COUNTRY_INFO!E88,0)))","v":0},{"$f":"IF(INTRO!$E$39<>\"Non-endemic\", 0, IF(INTRO!$E$37=\"Non-endemic\",0,IF(COUNTRY_INFO!$H88=1,COUNTRY_INFO!F88,0)))","v":0},{"$f":"IF(INTRO!$E$39<>\"Non-endemic\", 0, IF(INTRO!$E$37=\"Non-endemic\",0,IF(COUNTRY_INFO!$H88=1,COUNTRY_INFO!G88,0)))","v":0},0,{"$f":"IF(INTRO!$E$39=\"Non-endemic\",IF(INTRO!$E$37=\"Non-endemic\",\"Not required\",COUNTRY_INFO!V88),\"Treat with IVM\")","v":"Treat with IVM"},0,0,null,0]
[{"$f":"IF(INTRO!$E$39<>\"Non-endemic\", \" \", IF(INTRO!$E$37=\"Non-endemic\",\" \", IF(COUNTRY_INFO!A89=0,\" \",COUNTRY_INFO!A89)))","v":" "},{"$f":"IF(INTRO!$E$39<>\"Non-endemic\", \" \", IF(INTRO!$E$37=\"Non-endemic\",\" \", IF(COUNTRY_INFO!B89=0,\" \",COUNTRY_INFO!B89)))","v":" "},{"$f":"IF(INTRO!$E$39<>\"Non-endemic\", \" \", IF(INTRO!$E$37=\"Non-endemic\",\" \", IF(COUNTRY_INFO!C89=0,\" \",COUNTRY_INFO!C89)))","v":" "},{"$f":"IF(INTRO!$E$39<>\"Non-endemic\", 0, IF(INTRO!$E$37=\"Non-endemic\",0,IF(COUNTRY_INFO!$H89=1,COUNTRY_INFO!E89,0)))","v":0},{"$f":"IF(INTRO!$E$39<>\"Non-endemic\", 0, IF(INTRO!$E$37=\"Non-endemic\",0,IF(COUNTRY_INFO!$H89=1,COUNTRY_INFO!F89,0)))","v":0},{"$f":"IF(INTRO!$E$39<>\"Non-endemic\", 0, IF(INTRO!$E$37=\"Non-endemic\",0,IF(COUNTRY_INFO!$H89=1,COUNTRY_INFO!G89,0)))","v":0},0,{"$f":"IF(INTRO!$E$39=\"Non-endemic\",IF(INTRO!$E$37=\"Non-endemic\",\"Not required\",COUNTRY_INFO!V89),\"Treat with IVM\")","v":"Treat with IVM"},0,0,null,0]
[{"$f":"IF(INTRO!$E$39<>\"Non-endemic\", \" \", IF(INTRO!$E$37=\"Non-endemic\",\" \", IF(COUNTRY_INFO!A90=0,\" \",COUNTRY_INFO!A90)))","v":" "},{"$f":"IF(INTRO!$E$39<>\"Non-endemic\", \" \", IF(INTRO!$E$37=\"Non-endemic\",\" \", IF(COUNTRY_INFO!B90=0,\" \",COUNTRY_INFO!B90)))","v":" "},{"$f":"IF(INTRO!$E$39<>\"Non-endemic\", \" \", IF(INTRO!$E$37=\"Non-endemic\",\" \", IF(COUNTRY_INFO!C90=0,\" \",COUNTRY_INFO!C90)))","v":" "},{"$f":"IF(INTRO!$E$39<>\"Non-endemic\", 0, IF(INTRO!$E$37=\"Non-endemic\",0,IF(COUNTRY_INFO!$H90=1,COUNTRY_INFO!E90,0)))","v":0},{"$f":"IF(INTRO!$E$39<>\"Non-endemic\", 0, IF(INTRO!$E$37=\"Non-endemic\",0,IF(COUNTRY_INFO!$H90=1,COUNTRY_INFO!F90,0)))","v":0},{"$f":"IF(INTRO!$E$39<>\"Non-endemic\", 0, IF(INTRO!$E$37=\"Non-endemic\",0,IF(COUNTRY_INFO!$H90=1,COUNTRY_INFO!G90,0)))","v":0},0,{"$f":"IF(INTRO!$E$39=\"Non-endemic\",IF(INTRO!$E$37=\"Non-endemic\",\"Not required\",COUNTRY_INFO!V90),\"Treat with IVM\")","v":"Treat with IVM"},0,0,null,0]
[{"$f":"IF(INTRO!$E$39<>\"Non-endemic\", \" \", IF(INTRO!$E$37=\"Non-endemic\",\" \", IF(COUNTRY_INFO!A91=0,\" \",COUNTRY_INFO!A91)))","v":" "},{"$f":"IF(INTRO!$E$39<>\"Non-endemic\", \" \", IF(INTRO!$E$37=\"Non-endemic\",\" \", IF(COUNTRY_INFO!B91=0,\" \",COUNTRY_INFO!B91)))","v":" "},{"$f":"IF(INTRO!$E$39<>\"Non-endemic\", \" \", IF(INTRO!$E$37=\"Non-endemic\",\" \", IF(COUNTRY_INFO!C91=0,\" \",COUNTRY_INFO!C91)))","v":" "},{"$f":"IF(INTRO!$E$39<>\"Non-endemic\", 0, IF(INTRO!$E$37=\"Non-endemic\",0,IF(COUNTRY_INFO!$H91=1,COUNTRY_INFO!E91,0)))","v":0},{"$f":"IF(INTRO!$E$39<>\"Non-endemic\", 0, IF(INTRO!$E$37=\"Non-endemic\",0,IF(COUNTRY_INFO!$H91=1,COUNTRY_INFO!F91,0)))","v":0},{"$f":"IF(INTRO!$E$39<>\"Non-endemic\", 0, IF(INTRO!$E$37=\"Non-endemic\",0,IF(COUNTRY_INFO!$H91=1,COUNTRY_INFO!G91,0)))","v":0},0,{"$f":"IF(INTRO!$E$39=\"Non-endemic\",IF(INTRO!$E$37=\"Non-endemic\",\"Not required\",COUNTRY_INFO!V91),\"Treat with IVM\")","v":"Treat with IVM"},0,0,null,0]
[{"$f":"IF(INTRO!$E$39<>\"Non-endemic\", \" \", IF(INTRO!$E$37=\"Non-endemic\",\" \", IF(COUNTRY_INFO!A92=0,\" \",COUNTRY_INFO!A92)))","v":" "},{"$f":"IF(INTRO!$E$39<>\"Non-endemic\", \" \", IF(INTRO!$E$37=\"Non-endemic\",\" \", IF(COUNTRY_INFO!B92=0,\" \",COUNTRY_INFO!B92)))","v":" "},{"$f":"IF(INTRO!$E$39<>\"Non-endemic\", \" \", IF(INTRO!$E$37=\"Non-endemic\",\" \", IF(COUNTRY_INFO!C92=0,\" \",COUNTRY_INFO!C92)))","v":" "},{"$f":"IF(INTRO!$E$39<>\"Non-endemic\", 0, IF(INTRO!$E$37=\"Non-endemic\",0,IF(COUNTRY_INFO!$H92=1,COUNTRY_INFO!E92,0)))","v":0},{"$f":"IF(INTRO!$E$39<>\"Non-endemic\", 0, IF(INTRO!$E$37=\"Non-endemic\",0,IF(COUNTRY_INFO!$H92=1,COUNTRY_INFO!F92,0)))","v":0},{"$f":"IF(INTRO!$E$39<>\"Non-endemic\", 0, IF(INTRO!$E$37=\"Non-endemic\",0,IF(COUNTRY_INFO!$H92=1,COUNTRY_INFO!G92,0)))","v":0},0,{"$f":"IF(INTRO!$E$39=\"Non-endemic\",IF(INTRO!$E$37=\"Non-endemic\",\"Not required\",COUNTRY_INFO!V92),\"Treat with IVM\")","v":"Treat with IVM"},0,0,null,0]
[{"$f":"IF(INTRO!$E$39<>\"Non-endemic\", \" \", IF(INTRO!$E$37=\"Non-endemic\",\" \", IF(COUNTRY_INFO!A93=0,\" \",COUNTRY_INFO!A93)))","v":" "},{"$f":"IF(INTRO!$E$39<>\"Non-endemic\", \" \", IF(INTRO!$E$37=\"Non-endemic\",\" \", IF(COUNTRY_INFO!B93=0,\" \",COUNTRY_INFO!B93)))","v":" "},{"$f":"IF(INTRO!$E$39<>\"Non-endemic\", \" \", IF(INTRO!$E$37=\"Non-endemic\",\" \", IF(COUNTRY_INFO!C93=0,\" \",COUNTRY_INFO!C93)))","v":" "},{"$f":"IF(INTRO!$E$39<>\"Non-endemic\", 0, IF(INTRO!$E$37=\"Non-endemic\",0,IF(COUNTRY_INFO!$H93=1,COUNTRY_INFO!E93,0)))","v":0},{"$f":"IF(INTRO!$E$39<>\"Non-endemic\", 0, IF(INTRO!$E$37=\"Non-endemic\",0,IF(COUNTRY_INFO!$H93=1,COUNTRY_INFO!F93,0)))","v":0},{"$f":"IF(INTRO!$E$39<>\"Non-endemic\", 0, IF(INTRO!$E$37=\"Non-endemic\",0,IF(COUNTRY_INFO!$H93=1,COUNTRY_INFO!G93,0)))","v":0},0,{"$f":"IF(INTRO!$E$39=\"Non-endemic\",IF(INTRO!$E$37=\"Non-endemic\",\"Not required\",COUNTRY_INFO!V93),\"Treat with IVM\")","v":"Treat with IVM"},0,0,null,0]
[{"$f":"IF(INTRO!$E$39<>\"Non-endemic\", \" \", IF(INTRO!$E$37=\"Non-endemic\",\" \", IF(COUNTRY_INFO!A94=0,\" \",COUNTRY_INFO!A94)))","v":" "},{"$f":"IF(INTRO!$E$39<>\"Non-endemic\", \" \", IF(INTRO!$E$37=\"Non-endemic\",\" \", IF(COUNTRY_INFO!B94=0,\" \",COUNTRY_INFO!B94)))","v":" "},{"$f":"IF(INTRO!$E$39<>\"Non-endemic\", \" \", IF(INTRO!$E$37=\"Non-endemic\",\" \", IF(COUNTRY_INFO!C94=0,\" \",COUNTRY_INFO!C94)))","v":" "},{"$f":"IF(INTRO!$E$39<>\"Non-endemic\", 0, IF(INTRO!$E$37=\"Non-endemic\",0,IF(COUNTRY_INFO!$H94=1,COUNTRY_INFO!E94,0)))","v":0},{"$f":"IF(INTRO!$E$39<>\"Non-endemic\", 0, IF(INTRO!$E$37=\"Non-endemic\",0,IF(COUNTRY_INFO!$H94=1,COUNTRY_INFO!F94,0)))","v":0},{"$f":"IF(INTRO!$E$39<>\"Non-endemic\", 0, IF(INTRO!$E$37=\"Non-endemic\",0,IF(COUNTRY_INFO!$H94=1,COUNTRY_INFO!G94,0)))","v":0},0,{"$f":"IF(INTRO!$E$39=\"Non-endemic\",IF(INTRO!$E$37=\"Non-endemic\",\"Not required\",COUNTRY_INFO!V94),\"Treat with IVM\")","v":"Treat with IVM"},0,0,null,0]
[{"$f":"IF(INTRO!$E$39<>\"Non-endemic\", \" \", IF(INTRO!$E$37=\"Non-endemic\",\" \", IF(COUNTRY_INFO!A95=0,\" \",COUNTRY_INFO!A95)))","v":" "},{"$f":"IF(INTRO!$E$39<>\"Non-endemic\", \" \", IF(INTRO!$E$37=\"Non-endemic\",\" \", IF(COUNTRY_INFO!B95=0,\" \",COUNTRY_INFO!B95)))","v":" "},{"$f":"IF(INTRO!$E$39<>\"Non-endemic\", \" \", IF(INTRO!$E$37=\"Non-endemic\",\" \", IF(COUNTRY_INFO!C95=0,\" \",COUNTRY_INFO!C95)))","v":" "},{"$f":"IF(INTRO!$E$39<>\"Non-endemic\", 0, IF(INTRO!$E$37=\"Non-endemic\",0,IF(COUNTRY_INFO!$H95=1,COUNTRY_INFO!E95,0)))","v":0},{"$f":"IF(INTRO!$E$39<>\"Non-endemic\", 0, IF(INTRO!$E$37=\"Non-endemic\",0,IF(COUNTRY_INFO!$H95=1,COUNTRY_INFO!F95,0)))","v":0},{"$f":"IF(INTRO!$E$39<>\"Non-endemic\", 0, IF(INTRO!$E$37=\"Non-endemic\",0,IF(COUNTRY_INFO!$H95=1,COUNTRY_INFO!G95,0)))","v":0},0,{"$f":"IF(INTRO!$E$39=\"Non-endemic\",IF(INTRO!$E$37=\"Non-endemic\",\"Not required\",COUNTRY_INFO!V95),\"Treat with IVM\")","v":"Treat with IVM"},0,0,null,0]
[{"$f":"IF(INTRO!$E$39<>\"Non-endemic\", \" \", IF(INTRO!$E$37=\"Non-endemic\",\" \", IF(COUNTRY_INFO!A96=0,\" \",COUNTRY_INFO!A96)))","v":" "},{"$f":"IF(INTRO!$E$39<>\"Non-endemic\", \" \", IF(INTRO!$E$37=\"Non-endemic\",\" \", IF(COUNTRY_INFO!B96=0,\" \",COUNTRY_INFO!B96)))","v":" "},{"$f":"IF(INTRO!$E$39<>\"Non-endemic\", \" \", IF(INTRO!$E$37=\"Non-endemic\",\" \", IF(COUNTRY_INFO!C96=0,\" \",COUNTRY_INFO!C96)))","v":" "},{"$f":"IF(INTRO!$E$39<>\"Non-endemic\", 0, IF(INTRO!$E$37=\"Non-endemic\",0,IF(COUNTRY_INFO!$H96=1,COUNTRY_INFO!E96,0)))","v":0},{"$f":"IF(INTRO!$E$39<>\"Non-endemic\", 0, IF(INTRO!$E$37=\"Non-endemic\",0,IF(COUNTRY_INFO!$H96=1,COUNTRY_INFO!F96,0)))","v":0},{"$f":"IF(INTRO!$E$39<>\"Non-endemic\", 0, IF(INTRO!$E$37=\"Non-endemic\",0,IF(COUNTRY_INFO!$H96=1,COUNTRY_INFO!G96,0)))","v":0},0,{"$f":"IF(INTRO!$E$39=\"Non-endemic\",IF(INTRO!$E$37=\"Non-endemic\",\"Not required\",COUNTRY_INFO!V96),\"Treat with IVM\")","v":"Treat with IVM"},0,0,null,0]
[{"$f":"IF(INTRO!$E$39<>\"Non-endemic\", \" \", IF(INTRO!$E$37=\"Non-endemic\",\" \", IF(COUNTRY_INFO!A97=0,\" \",COUNTRY_INFO!A97)))","v":" "},{"$f":"IF(INTRO!$E$39<>\"Non-endemic\", \" \", IF(INTRO!$E$37=\"Non-endemic\",\" \", IF(COUNTRY_INFO!B97=0,\" \",COUNTRY_INFO!B97)))","v":" "},{"$f":"IF(INTRO!$E$39<>\"Non-endemic\", \" \", IF(INTRO!$E$37=\"Non-endemic\",\" \", IF(COUNTRY_INFO!C97=0,\" \",COUNTRY_INFO!C97)))","v":" "},{"$f":"IF(INTRO!$E$39<>\"Non-endemic\", 0, IF(INTRO!$E$37=\"Non-endemic\",0,IF(COUNTRY_INFO!$H97=1,COUNTRY_INFO!E97,0)))","v":0},{"$f":"IF(INTRO!$E$39<>\"Non-endemic\", 0, IF(INTRO!$E$37=\"Non-endemic\",0,IF(COUNTRY_INFO!$H97=1,COUNTRY_INFO!F97,0)))","v":0},{"$f":"IF(INTRO!$E$39<>\"Non-endemic\", 0, IF(INTRO!$E$37=\"Non-endemic\",0,IF(COUNTRY_INFO!$H97=1,COUNTRY_INFO!G97,0)))","v":0},0,{"$f":"IF(INTRO!$E$39=\"Non-endemic\",IF(INTRO!$E$37=\"Non-endemic\",\"Not required\",COUNTRY_INFO!V97),\"Treat with IVM\")","v":"Treat with IVM"},0,0,null,0]
[{"$f":"IF(INTRO!$E$39<>\"Non-endemic\", \" \", IF(INTRO!$E$37=\"Non-endemic\",\" \", IF(COUNTRY_INFO!A98=0,\" \",COUNTRY_INFO!A98)))","v":" "},{"$f":"IF(INTRO!$E$39<>\"Non-endemic\", \" \", IF(INTRO!$E$37=\"Non-endemic\",\" \", IF(COUNTRY_INFO!B98=0,\" \",COUNTRY_INFO!B98)))","v":" "},{"$f":"IF(INTRO!$E$39<>\"Non-endemic\", \" \", IF(INTRO!$E$37=\"Non-endemic\",\" \", IF(COUNTRY_INFO!C98=0,\" \",COUNTRY_INFO!C98)))","v":" "},{"$f":"IF(INTRO!$E$39<>\"Non-endemic\", 0, IF(INTRO!$E$37=\"Non-endemic\",0,IF(COUNTRY_INFO!$H98=1,COUNTRY_INFO!E98,0)))","v":0},{"$f":"IF(INTRO!$E$39<>\"Non-endemic\", 0, IF(INTRO!$E$37=\"Non-endemic\",0,IF(COUNTRY_INFO!$H98=1,COUNTRY_INFO!F98,0)))","v":0},{"$f":"IF(INTRO!$E$39<>\"Non-endemic\", 0, IF(INTRO!$E$37=\"Non-endemic\",0,IF(COUNTRY_INFO!$H98=1,COUNTRY_INFO!G98,0)))","v":0},0,{"$f":"IF(INTRO!$E$39=\"Non-endemic\",IF(INTRO!$E$37=\"Non-endemic\",\"Not required\",COUNTRY_INFO!V98),\"Treat with IVM\")","v":"Treat with IVM"},0,0,null,0]
[{"$f":"IF(INTRO!$E$39<>\"Non-endemic\", \" \", IF(INTRO!$E$37=\"Non-endemic\",\" \", IF(COUNTRY_INFO!A99=0,\" \",COUNTRY_INFO!A99)))","v":" "},{"$f":"IF(INTRO!$E$39<>\"Non-endemic\", \" \", IF(INTRO!$E$37=\"Non-endemic\",\" \", IF(COUNTRY_INFO!B99=0,\" \",COUNTRY_INFO!B99)))","v":" "},{"$f":"IF(INTRO!$E$39<>\"Non-endemic\", \" \", IF(INTRO!$E$37=\"Non-endemic\",\" \", IF(COUNTRY_INFO!C99=0,\" \",COUNTRY_INFO!C99)))","v":" "},{"$f":"IF(INTRO!$E$39<>\"Non-endemic\", 0, IF(INTRO!$E$37=\"Non-endemic\",0,IF(COUNTRY_INFO!$H99=1,COUNTRY_INFO!E99,0)))","v":0},{"$f":"IF(INTRO!$E$39<>\"Non-endemic\", 0, IF(INTRO!$E$37=\"Non-endemic\",0,IF(COUNTRY_INFO!$H99=1,COUNTRY_INFO!F99,0)))","v":0},{"$f":"IF(INTRO!$E$39<>\"Non-endemic\", 0, IF(INTRO!$E$37=\"Non-endemic\",0,IF(COUNTRY_INFO!$H99=1,COUNTRY_INFO!G99,0)))","v":0},0,{"$f":"IF(INTRO!$E$39=\"Non-endemic\",IF(INTRO!$E$37=\"Non-endemic\",\"Not required\",COUNTRY_INFO!V99),\"Treat with IVM\")","v":"Treat with IVM"},0,0,null,0]
[{"$f":"IF(INTRO!$E$39<>\"Non-endemic\", \" \", IF(INTRO!$E$37=\"Non-endemic\",\" \", IF(COUNTRY_INFO!A100=0,\" \",COUNTRY_INFO!A100)))","v":" "},{"$f":"IF(INTRO!$E$39<>\"Non-endemic\", \" \", IF(INTRO!$E$37=\"Non-endemic\",\" \", IF(COUNTRY_INFO!B100=0,\" \",COUNTRY_INFO!B100)))","v":" "},{"$f":"IF(INTRO!$E$39<>\"Non-endemic\", \" \", IF(INTRO!$E$37=\"Non-endemic\",\" \", IF(COUNTRY_INFO!C100=0,\" \",COUNTRY_INFO!C100)))","v":" "},{"$f":"IF(INTRO!$E$39<>\"Non-endemic\", 0, IF(INTRO!$E$37=\"Non-endemic\",0,IF(COUNTRY_INFO!$H100=1,COUNTRY_INFO!E100,0)))","v":0},{"$f":"IF(INTRO!$E$39<>\"Non-endemic\", 0, IF(INTRO!$E$37=\"Non-endemic\",0,IF(COUNTRY_INFO!$H100=1,COUNTRY_INFO!F100,0)))","v":0},{"$f":"IF(INTRO!$E$39<>\"Non-endemic\", 0, IF(INTRO!$E$37=\"Non-endemic\",0,IF(COUNTRY_INFO!$H100=1,COUNTRY_INFO!G100,0)))","v":0},0,{"$f":"IF(INTRO!$E$39=\"Non-endemic\",IF(INTRO!$E$37=\"Non-endemic\",\"Not required\",COUNTRY_INFO!V100),\"Treat with IVM\")","v":"Treat with IVM"},0,0,null,0]
[{"$f":"IF(INTRO!$E$39<>\"Non-endemic\", \" \", IF(INTRO!$E$37=\"Non-endemic\",\" \", IF(COUNTRY_INFO!A101=0,\" \",COUNTRY_INFO!A101)))","v":" "},{"$f":"IF(INTRO!$E$39<>\"Non-endemic\", \" \", IF(INTRO!$E$37=\"Non-endemic\",\" \", IF(COUNTRY_INFO!B101=0,\" \",COUNTRY_INFO!B101)))","v":" "},{"$f":"IF(INTRO!$E$39<>\"Non-endemic\", \" \", IF(INTRO!$E$37=\"Non-endemic\",\" \", IF(COUNTRY_INFO!C101=0,\" \",COUNTRY_INFO!C101)))","v":" "},{"$f":"IF(INTRO!$E$39<>\"Non-endemic\", 0, IF(INTRO!$E$37=\"Non-endemic\",0,IF(COUNTRY_INFO!$H101=1,COUNTRY_INFO!E101,0)))","v":0},{"$f":"IF(INTRO!$E$39<>\"Non-endemic\", 0, IF(INTRO!$E$37=\"Non-endemic\",0,IF(COUNTRY_INFO!$H101=1,COUNTRY_INFO!F101,0)))","v":0},{"$f":"IF(INTRO!$E$39<>\"Non-endemic\", 0, IF(INTRO!$E$37=\"Non-endemic\",0,IF(COUNTRY_INFO!$H101=1,COUNTRY_INFO!G101,0)))","v":0},0,{"$f":"IF(INTRO!$E$39=\"Non-endemic\",IF(INTRO!$E$37=\"Non-endemic\",\"Not required\",COUNTRY_INFO!V101),\"Treat with IVM\")","v":"Treat with IVM"},0,0,null,0]
[{"$f":"IF(INTRO!$E$39<>\"Non-endemic\", \" \", IF(INTRO!$E$37=\"Non-endemic\",\" \", IF(COUNTRY_INFO!A102=0,\" \",COUNTRY_INFO!A102)))","v":" "},{"$f":"IF(INTRO!$E$39<>\"Non-endemic\", \" \", IF(INTRO!$E$37=\"Non-endemic\",\" \", IF(COUNTRY_INFO!B102=0,\" \",COUNTRY_INFO!B102)))","v":" "},{"$f":"IF(INTRO!$E$39<>\"Non-endemic\", \" \", IF(INTRO!$E$37=\"Non-endemic\",\" \", IF(COUNTRY_INFO!C102=0,\" \",COUNTRY_INFO!C102)))","v":" "},{"$f":"IF(INTRO!$E$39<>\"Non-endemic\", 0, IF(INTRO!$E$37=\"Non-endemic\",0,IF(COUNTRY_INFO!$H102=1,COUNTRY_INFO!E102,0)))","v":0},{"$f":"IF(INTRO!$E$39<>\"Non-endemic\", 0, IF(INTRO!$E$37=\"Non-endemic\",0,IF(COUNTRY_INFO!$H102=1,COUNTRY_INFO!F102,0)))","v":0},{"$f":"IF(INTRO!$E$39<>\"Non-endemic\", 0, IF(INTRO!$E$37=\"Non-endemic\",0,IF(COUNTRY_INFO!$H102=1,COUNTRY_INFO!G102,0)))","v":0},0,{"$f":"IF(INTRO!$E$39=\"Non-endemic\",IF(INTRO!$E$37=\"Non-endemic\",\"Not required\",COUNTRY_INFO!V102),\"Treat with IVM\")","v":"Treat with IVM"},0,0,null,0]
[{"$f":"IF(INTRO!$E$39<>\"Non-endemic\", \" \", IF(INTRO!$E$37=\"Non-endemic\",\" \", IF(COUNTRY_INFO!A103=0,\" \",COUNTRY_INFO!A103)))","v":" "},{"$f":"IF(INTRO!$E$39<>\"Non-endemic\", \" \", IF(INTRO!$E$37=\"Non-endemic\",\" \", IF(COUNTRY_INFO!B103=0,\" \",COUNTRY_INFO!B103)))","v":" "},{"$f":"IF(INTRO!$E$39<>\"Non-endemic\", \" \", IF(INTRO!$E$37=\"Non-endemic\",\" \", IF(COUNTRY_INFO!C103=0,\" \",COUNTRY_INFO!C103)))","v":" "},{"$f":"IF(INTRO!$E$39<>\"Non-endemic\", 0, IF(INTRO!$E$37=\"Non-endemic\",0,IF(COUNTRY_INFO!$H103=1,COUNTRY_INFO!E103,0)))","v":0},{"$f":"IF(INTRO!$E$39<>\"Non-endemic\", 0, IF(INTRO!$E$37=\"Non-endemic\",0,IF(COUNTRY_INFO!$H103=1,COUNTRY_INFO!F103,0)))","v":0},{"$f":"IF(INTRO!$E$39<>\"Non-endemic\", 0, IF(INTRO!$E$37=\"Non-endemic\",0,IF(COUNTRY_INFO!$H103=1,COUNTRY_INFO!G103,0)))","v":0},0,{"$f":"IF(INTRO!$E$39=\"Non-endemic\",IF(INTRO!$E$37=\"Non-endemic\",\"Not required\",COUNTRY_INFO!V103),\"Treat with IVM\")","v":"Treat with IVM"},0,0,null,0]
[{"$f":"IF(INTRO!$E$39<>\"Non-endemic\", \" \", IF(INTRO!$E$37=\"Non-endemic\",\" \", IF(COUNTRY_INFO!A104=0,\" \",COUNTRY_INFO!A104)))","v":" "},{"$f":"IF(INTRO!$E$39<>\"Non-endemic\", \" \", IF(INTRO!$E$37=\"Non-endemic\",\" \", IF(COUNTRY_INFO!B104=0,\" \",COUNTRY_INFO!B104)))","v":" "},{"$f":"IF(INTRO!$E$39<>\"Non-endemic\", \" \", IF(INTRO!$E$37=\"Non-endemic\",\" \", IF(COUNTRY_INFO!C104=0,\" \",COUNTRY_INFO!C104)))","v":" "},{"$f":"IF(INTRO!$E$39<>\"Non-endemic\", 0, IF(INTRO!$E$37=\"Non-endemic\",0,IF(COUNTRY_INFO!$H104=1,COUNTRY_INFO!E104,0)))","v":0},{"$f":"IF(INTRO!$E$39<>\"Non-endemic\", 0, IF(INTRO!$E$37=\"Non-endemic\",0,IF(COUNTRY_INFO!$H104=1,COUNTRY_INFO!F104,0)))","v":0},{"$f":"IF(INTRO!$E$39<>\"Non-endemic\", 0, IF(INTRO!$E$37=\"Non-endemic\",0,IF(COUNTRY_INFO!$H104=1,COUNTRY_INFO!G104,0)))","v":0},0,{"$f":"IF(INTRO!$E$39=\"Non-endemic\",IF(INTRO!$E$37=\"Non-endemic\",\"Not required\",COUNTRY_INFO!V104),\"Treat with IVM\")","v":"Treat with IVM"},0,0,null,0]
[{"$f":"IF(INTRO!$E$39<>\"Non-endemic\", \" \", IF(INTRO!$E$37=\"Non-endemic\",\" \", IF(COUNTRY_INFO!A105=0,\" \",COUNTRY_INFO!A105)))","v":" "},{"$f":"IF(INTRO!$E$39<>\"Non-endemic\", \" \", IF(INTRO!$E$37=\"Non-endemic\",\" \", IF(COUNTRY_INFO!B105=0,\" \",COUNTRY_INFO!B105)))","v":" "},{"$f":"IF(INTRO!$E$39<>\"Non-endemic\", \" \", IF(INTRO!$E$37=\"Non-endemic\",\" \", IF(COUNTRY_INFO!C105=0,\" \",COUNTRY_INFO!C105)))","v":" "},{"$f":"IF(INTRO!$E$39<>\"Non-endemic\", 0, IF(INTRO!$E$37=\"Non-endemic\",0,IF(COUNTRY_INFO!$H105=1,COUNTRY_INFO!E105,0)))","v":0},{"$f":"IF(INTRO!$E$39<>\"Non-endemic\", 0, IF(INTRO!$E$37=\"Non-endemic\",0,IF(COUNTRY_INFO!$H105=1,COUNTRY_INFO!F105,0)))","v":0},{"$f":"IF(INTRO!$E$39<>\"Non-endemic\", 0, IF(INTRO!$E$37=\"Non-endemic\",0,IF(COUNTRY_INFO!$H105=1,COUNTRY_INFO!G105,0)))","v":0},0,{"$f":"IF(INTRO!$E$39=\"Non-endemic\",IF(INTRO!$E$37=\"Non-endemic\",\"Not required\",COUNTRY_INFO!V105),\"Treat with IVM\")","v":"Treat with IVM"},0,0,null,0]
[{"$f":"IF(INTRO!$E$39<>\"Non-endemic\", \" \", IF(INTRO!$E$37=\"Non-endemic\",\" \", IF(COUNTRY_INFO!A106=0,\" \",COUNTRY_INFO!A106)))","v":" "},{"$f":"IF(INTRO!$E$39<>\"Non-endemic\", \" \", IF(INTRO!$E$37=\"Non-endemic\",\" \", IF(COUNTRY_INFO!B106=0,\" \",COUNTRY_INFO!B106)))","v":" "},{"$f":"IF(INTRO!$E$39<>\"Non-endemic\", \" \", IF(INTRO!$E$37=\"Non-endemic\",\" \", IF(COUNTRY_INFO!C106=0,\" \",COUNTRY_INFO!C106)))","v":" "},{"$f":"IF(INTRO!$E$39<>\"Non-endemic\", 0, IF(INTRO!$E$37=\"Non-endemic\",0,IF(COUNTRY_INFO!$H106=1,COUNTRY_INFO!E106,0)))","v":0},{"$f":"IF(INTRO!$E$39<>\"Non-endemic\", 0, IF(INTRO!$E$37=\"Non-endemic\",0,IF(COUNTRY_INFO!$H106=1,COUNTRY_INFO!F106,0)))","v":0},{"$f":"IF(INTRO!$E$39<>\"Non-endemic\", 0, IF(INTRO!$E$37=\"Non-endemic\",0,IF(COUNTRY_INFO!$H106=1,COUNTRY_INFO!G106,0)))","v":0},0,{"$f":"IF(INTRO!$E$39=\"Non-endemic\",IF(INTRO!$E$37=\"Non-endemic\",\"Not required\",COUNTRY_INFO!V106),\"Treat with IVM\")","v":"Treat with IVM"},0,0,null,0]
[{"$f":"IF(INTRO!$E$39<>\"Non-endemic\", \" \", IF(INTRO!$E$37=\"Non-endemic\",\" \", IF(COUNTRY_INFO!A107=0,\" \",COUNTRY_INFO!A107)))","v":" "},{"$f":"IF(INTRO!$E$39<>\"Non-endemic\", \" \", IF(INTRO!$E$37=\"Non-endemic\",\" \", IF(COUNTRY_INFO!B107=0,\" \",COUNTRY_INFO!B107)))","v":" "},{"$f":"IF(INTRO!$E$39<>\"Non-endemic\", \" \", IF(INTRO!$E$37=\"Non-endemic\",\" \", IF(COUNTRY_INFO!C107=0,\" \",COUNTRY_INFO!C107)))","v":" "},{"$f":"IF(INTRO!$E$39<>\"Non-endemic\", 0, IF(INTRO!$E$37=\"Non-endemic\",0,IF(COUNTRY_INFO!$H107=1,COUNTRY_INFO!E107,0)))","v":0},{"$f":"IF(INTRO!$E$39<>\"Non-endemic\", 0, IF(INTRO!$E$37=\"Non-endemic\",0,IF(COUNTRY_INFO!$H107=1,COUNTRY_INFO!F107,0)))","v":0},{"$f":"IF(INTRO!$E$39<>\"Non-endemic\", 0, IF(INTRO!$E$37=\"Non-endemic\",0,IF(COUNTRY_INFO!$H107=1,COUNTRY_INFO!G107,0)))","v":0},0,{"$f":"IF(INTRO!$E$39=\"Non-endemic\",IF(INTRO!$E$37=\"Non-endemic\",\"Not required\",COUNTRY_INFO!V107),\"Treat with IVM\")","v":"Treat with IVM"},0,0,null,0]
[{"$f":"IF(INTRO!$E$39<>\"Non-endemic\", \" \", IF(INTRO!$E$37=\"Non-endemic\",\" \", IF(COUNTRY_INFO!A108=0,\" \",COUNTRY_INFO!A108)))","v":" "},{"$f":"IF(INTRO!$E$39<>\"Non-endemic\", \" \", IF(INTRO!$E$37=\"Non-endemic\",\" \", IF(COUNTRY_INFO!B108=0,\" \",COUNTRY_INFO!B108)))","v":" "},{"$f":"IF(INTRO!$E$39<>\"Non-endemic\", \" \", IF(INTRO!$E$37=\"Non-endemic\",\" \", IF(COUNTRY_INFO!C108=0,\" \",COUNTRY_INFO!C108)))","v":" "},{"$f":"IF(INTRO!$E$39<>\"Non-endemic\", 0, IF(INTRO!$E$37=\"Non-endemic\",0,IF(COUNTRY_INFO!$H108=1,COUNTRY_INFO!E108,0)))","v":0},{"$f":"IF(INTRO!$E$39<>\"Non-endemic\", 0, IF(INTRO!$E$37=\"Non-endemic\",0,IF(COUNTRY_INFO!$H108=1,COUNTRY_INFO!F108,0)))","v":0},{"$f":"IF(INTRO!$E$39<>\"Non-endemic\", 0, IF(INTRO!$E$37=\"Non-endemic\",0,IF(COUNTRY_INFO!$H108=1,COUNTRY_INFO!G108,0)))","v":0},0,{"$f":"IF(INTRO!$E$39=\"Non-endemic\",IF(INTRO!$E$37=\"Non-endemic\",\"Not required\",COUNTRY_INFO!V108),\"Treat with IVM\")","v":"Treat with IVM"},0,0,null,0]
[{"$f":"IF(INTRO!$E$39<>\"Non-endemic\", \" \", IF(INTRO!$E$37=\"Non-endemic\",\" \", IF(COUNTRY_INFO!A109=0,\" \",COUNTRY_INFO!A109)))","v":" "},{"$f":"IF(INTRO!$E$39<>\"Non-endemic\", \" \", IF(INTRO!$E$37=\"Non-endemic\",\" \", IF(COUNTRY_INFO!B109=0,\" \",COUNTRY_INFO!B109)))","v":" "},{"$f":"IF(INTRO!$E$39<>\"Non-endemic\", \" \", IF(INTRO!$E$37=\"Non-endemic\",\" \", IF(COUNTRY_INFO!C109=0,\" \",COUNTRY_INFO!C109)))","v":" "},{"$f":"IF(INTRO!$E$39<>\"Non-endemic\", 0, IF(INTRO!$E$37=\"Non-endemic\",0,IF(COUNTRY_INFO!$H109=1,COUNTRY_INFO!E109,0)))","v":0},{"$f":"IF(INTRO!$E$39<>\"Non-endemic\", 0, IF(INTRO!$E$37=\"Non-endemic\",0,IF(COUNTRY_INFO!$H109=1,COUNTRY_INFO!F109,0)))","v":0},{"$f":"IF(INTRO!$E$39<>\"Non-endemic\", 0, IF(INTRO!$E$37=\"Non-endemic\",0,IF(COUNTRY_INFO!$H109=1,COUNTRY_INFO!G109,0)))","v":0},0,{"$f":"IF(INTRO!$E$39=\"Non-endemic\",IF(INTRO!$E$37=\"Non-endemic\",\"Not required\",COUNTRY_INFO!V109),\"Treat with IVM\")","v":"Treat with IVM"},0,0,null,0]
[{"$f":"IF(INTRO!$E$39<>\"Non-endemic\", \" \", IF(INTRO!$E$37=\"Non-endemic\",\" \", IF(COUNTRY_INFO!A110=0,\" \",COUNTRY_INFO!A110)))","v":" "},{"$f":"IF(INTRO!$E$39<>\"Non-endemic\", \" \", IF(INTRO!$E$37=\"Non-endemic\",\" \", IF(COUNTRY_INFO!B110=0,\" \",COUNTRY_INFO!B110)))","v":" "},{"$f":"IF(INTRO!$E$39<>\"Non-endemic\", \" \", IF(INTRO!$E$37=\"Non-endemic\",\" \", IF(COUNTRY_INFO!C110=0,\" \",COUNTRY_INFO!C110)))","v":" "},{"$f":"IF(INTRO!$E$39<>\"Non-endemic\", 0, IF(INTRO!$E$37=\"Non-endemic\",0,IF(COUNTRY_INFO!$H110=1,COUNTRY_INFO!E110,0)))","v":0},{"$f":"IF(INTRO!$E$39<>\"Non-endemic\", 0, IF(INTRO!$E$37=\"Non-endemic\",0,IF(COUNTRY_INFO!$H110=1,COUNTRY_INFO!F110,0)))","v":0},{"$f":"IF(INTRO!$E$39<>\"Non-endemic\", 0, IF(INTRO!$E$37=\"Non-endemic\",0,IF(COUNTRY_INFO!$H110=1,COUNTRY_INFO!G110,0)))","v":0},0,{"$f":"IF(INTRO!$E$39=\"Non-endemic\",IF(INTRO!$E$37=\"Non-endemic\",\"Not required\",COUNTRY_INFO!V110),\"Treat with IVM\")","v":"Treat with IVM"},0,0,null,0]
[{"$f":"IF(INTRO!$E$39<>\"Non-endemic\", \" \", IF(INTRO!$E$37=\"Non-endemic\",\" \", IF(COUNTRY_INFO!A111=0,\" \",COUNTRY_INFO!A111)))","v":" "},{"$f":"IF(INTRO!$E$39<>\"Non-endemic\", \" \", IF(INTRO!$E$37=\"Non-endemic\",\" \", IF(COUNTRY_INFO!B111=0,\" \",COUNTRY_INFO!B111)))","v":" "},{"$f":"IF(INTRO!$E$39<>\"Non-endemic\", \" \", IF(INTRO!$E$37=\"Non-endemic\",\" \", IF(COUNTRY_INFO!C111=0,\" \",COUNTRY_INFO!C111)))","v":" "},{"$f":"IF(INTRO!$E$39<>\"Non-endemic\", 0, IF(INTRO!$E$37=\"Non-endemic\",0,IF(COUNTRY_INFO!$H111=1,COUNTRY_INFO!E111,0)))","v":0},{"$f":"IF(INTRO!$E$39<>\"Non-endemic\", 0, IF(INTRO!$E$37=\"Non-endemic\",0,IF(COUNTRY_INFO!$H111=1,COUNTRY_INFO!F111,0)))","v":0},{"$f":"IF(INTRO!$E$39<>\"Non-endemic\", 0, IF(INTRO!$E$37=\"Non-endemic\",0,IF(COUNTRY_INFO!$H111=1,COUNTRY_INFO!G111,0)))","v":0},0,{"$f":"IF(INTRO!$E$39=\"Non-endemic\",IF(INTRO!$E$37=\"Non-endemic\",\"Not required\",COUNTRY_INFO!V111),\"Treat with IVM\")","v":"Treat with IVM"},0,0,null,0]
[{"$f":"IF(INTRO!$E$39<>\"Non-endemic\", \" \", IF(INTRO!$E$37=\"Non-endemic\",\" \", IF(COUNTRY_INFO!A112=0,\" \",COUNTRY_INFO!A112)))","v":" "},{"$f":"IF(INTRO!$E$39<>\"Non-endemic\", \" \", IF(INTRO!$E$37=\"Non-endemic\",\" \", IF(COUNTRY_INFO!B112=0,\" \",COUNTRY_INFO!B112)))","v":" "},{"$f":"IF(INTRO!$E$39<>\"Non-endemic\", \" \", IF(INTRO!$E$37=\"Non-endemic\",\" \", IF(COUNTRY_INFO!C112=0,\" \",COUNTRY_INFO!C112)))","v":" "},{"$f":"IF(INTRO!$E$39<>\"Non-endemic\", 0, IF(INTRO!$E$37=\"Non-endemic\",0,IF(COUNTRY_INFO!$H112=1,COUNTRY_INFO!E112,0)))","v":0},{"$f":"IF(INTRO!$E$39<>\"Non-endemic\", 0, IF(INTRO!$E$37=\"Non-endemic\",0,IF(COUNTRY_INFO!$H112=1,COUNTRY_INFO!F112,0)))","v":0},{"$f":"IF(INTRO!$E$39<>\"Non-endemic\", 0, IF(INTRO!$E$37=\"Non-endemic\",0,IF(COUNTRY_INFO!$H112=1,COUNTRY_INFO!G112,0)))","v":0},0,{"$f":"IF(INTRO!$E$39=\"Non-endemic\",IF(INTRO!$E$37=\"Non-endemic\",\"Not required\",COUNTRY_INFO!V112),\"Treat with IVM\")","v":"Treat with IVM"},0,0,null,0]
[{"$f":"IF(INTRO!$E$39<>\"Non-endemic\", \" \", IF(INTRO!$E$37=\"Non-endemic\",\" \", IF(COUNTRY_INFO!A113=0,\" \",COUNTRY_INFO!A113)))","v":" "},{"$f":"IF(INTRO!$E$39<>\"Non-endemic\", \" \", IF(INTRO!$E$37=\"Non-endemic\",\" \", IF(COUNTRY_INFO!B113=0,\" \",COUNTRY_INFO!B113)))","v":" "},{"$f":"IF(INTRO!$E$39<>\"Non-endemic\", \" \", IF(INTRO!$E$37=\"Non-endemic\",\" \", IF(COUNTRY_INFO!C113=0,\" \",COUNTRY_INFO!C113)))","v":" "},{"$f":"IF(INTRO!$E$39<>\"Non-endemic\", 0, IF(INTRO!$E$37=\"Non-endemic\",0,IF(COUNTRY_INFO!$H113=1,COUNTRY_INFO!E113,0)))","v":0},{"$f":"IF(INTRO!$E$39<>\"Non-endemic\", 0, IF(INTRO!$E$37=\"Non-endemic\",0,IF(COUNTRY_INFO!$H113=1,COUNTRY_INFO!F113,0)))","v":0},{"$f":"IF(INTRO!$E$39<>\"Non-endemic\", 0, IF(INTRO!$E$37=\"Non-endemic\",0,IF(COUNTRY_INFO!$H113=1,COUNTRY_INFO!G113,0)))","v":0},0,{"$f":"IF(INTRO!$E$39=\"Non-endemic\",IF(INTRO!$E$37=\"Non-endemic\",\"Not required\",COUNTRY_INFO!V113),\"Treat with IVM\")","v":"Treat with IVM"},0,0,null,0]
[{"$f":"IF(INTRO!$E$39<>\"Non-endemic\", \" \", IF(INTRO!$E$37=\"Non-endemic\",\" \", IF(COUNTRY_INFO!A114=0,\" \",COUNTRY_INFO!A114)))","v":" "},{"$f":"IF(INTRO!$E$39<>\"Non-endemic\", \" \", IF(INTRO!$E$37=\"Non-endemic\",\" \", IF(COUNTRY_INFO!B114=0,\" \",COUNTRY_INFO!B114)))","v":" "},{"$f":"IF(INTRO!$E$39<>\"Non-endemic\", \" \", IF(INTRO!$E$37=\"Non-endemic\",\" \", IF(COUNTRY_INFO!C114=0,\" \",COUNTRY_INFO!C114)))","v":" "},{"$f":"IF(INTRO!$E$39<>\"Non-endemic\", 0, IF(INTRO!$E$37=\"Non-endemic\",0,IF(COUNTRY_INFO!$H114=1,COUNTRY_INFO!E114,0)))","v":0},{"$f":"IF(INTRO!$E$39<>\"Non-endemic\", 0, IF(INTRO!$E$37=\"Non-endemic\",0,IF(COUNTRY_INFO!$H114=1,COUNTRY_INFO!F114,0)))","v":0},{"$f":"IF(INTRO!$E$39<>\"Non-endemic\", 0, IF(INTRO!$E$37=\"Non-endemic\",0,IF(COUNTRY_INFO!$H114=1,COUNTRY_INFO!G114,0)))","v":0},0,{"$f":"IF(INTRO!$E$39=\"Non-endemic\",IF(INTRO!$E$37=\"Non-endemic\",\"Not required\",COUNTRY_INFO!V114),\"Treat with IVM\")","v":"Treat with IVM"},0,0,null,0]
[{"$f":"IF(INTRO!$E$39<>\"Non-endemic\", \" \", IF(INTRO!$E$37=\"Non-endemic\",\" \", IF(COUNTRY_INFO!A115=0,\" \",COUNTRY_INFO!A115)))","v":" "},{"$f":"IF(INTRO!$E$39<>\"Non-endemic\", \" \", IF(INTRO!$E$37=\"Non-endemic\",\" \", IF(COUNTRY_INFO!B115=0,\" \",COUNTRY_INFO!B115)))","v":" "},{"$f":"IF(INTRO!$E$39<>\"Non-endemic\", \" \", IF(INTRO!$E$37=\"Non-endemic\",\" \", IF(COUNTRY_INFO!C115=0,\" \",COUNTRY_INFO!C115)))","v":" "},{"$f":"IF(INTRO!$E$39<>\"Non-endemic\", 0, IF(INTRO!$E$37=\"Non-endemic\",0,IF(COUNTRY_INFO!$H115=1,COUNTRY_INFO!E115,0)))","v":0},{"$f":"IF(INTRO!$E$39<>\"Non-endemic\", 0, IF(INTRO!$E$37=\"Non-endemic\",0,IF(COUNTRY_INFO!$H115=1,COUNTRY_INFO!F115,0)))","v":0},{"$f":"IF(INTRO!$E$39<>\"Non-endemic\", 0, IF(INTRO!$E$37=\"Non-endemic\",0,IF(COUNTRY_INFO!$H115=1,COUNTRY_INFO!G115,0)))","v":0},0,{"$f":"IF(INTRO!$E$39=\"Non-endemic\",IF(INTRO!$E$37=\"Non-endemic\",\"Not required\",COUNTRY_INFO!V115),\"Treat with IVM\")","v":"Treat with IVM"},0,0,null,0]
[{"$f":"IF(INTRO!$E$39<>\"Non-endemic\", \" \", IF(INTRO!$E$37=\"Non-endemic\",\" \", IF(COUNTRY_INFO!A116=0,\" \",COUNTRY_INFO!A116)))","v":" "},{"$f":"IF(INTRO!$E$39<>\"Non-endemic\", \" \", IF(INTRO!$E$37=\"Non-endemic\",\" \", IF(COUNTRY_INFO!B116=0,\" \",COUNTRY_INFO!B116)))","v":" "},{"$f":"IF(INTRO!$E$39<>\"Non-endemic\", \" \", IF(INTRO!$E$37=\"Non-endemic\",\" \", IF(COUNTRY_INFO!C116=0,\" \",COUNTRY_INFO!C116)))","v":" "},{"$f":"IF(INTRO!$E$39<>\"Non-endemic\", 0, IF(INTRO!$E$37=\"Non-endemic\",0,IF(COUNTRY_INFO!$H116=1,COUNTRY_INFO!E116,0)))","v":0},{"$f":"IF(INTRO!$E$39<>\"Non-endemic\", 0, IF(INTRO!$E$37=\"Non-endemic\",0,IF(COUNTRY_INFO!$H116=1,COUNTRY_INFO!F116,0)))","v":0},{"$f":"IF(INTRO!$E$39<>\"Non-endemic\", 0, IF(INTRO!$E$37=\"Non-endemic\",0,IF(COUNTRY_INFO!$H116=1,COUNTRY_INFO!G116,0)))","v":0},0,{"$f":"IF(INTRO!$E$39=\"Non-endemic\",IF(INTRO!$E$37=\"Non-endemic\",\"Not required\",COUNTRY_INFO!V116),\"Treat with IVM\")","v":"Treat with IVM"},0,0,null,0]
[{"$f":"IF(INTRO!$E$39<>\"Non-endemic\", \" \", IF(INTRO!$E$37=\"Non-endemic\",\" \", IF(COUNTRY_INFO!A117=0,\" \",COUNTRY_INFO!A117)))","v":" "},{"$f":"IF(INTRO!$E$39<>\"Non-endemic\", \" \", IF(INTRO!$E$37=\"Non-endemic\",\" \", IF(COUNTRY_INFO!B117=0,\" \",COUNTRY_INFO!B117)))","v":" "},{"$f":"IF(INTRO!$E$39<>\"Non-endemic\", \" \", IF(INTRO!$E$37=\"Non-endemic\",\" \", IF(COUNTRY_INFO!C117=0,\" \",COUNTRY_INFO!C117)))","v":" "},{"$f":"IF(INTRO!$E$39<>\"Non-endemic\", 0, IF(INTRO!$E$37=\"Non-endemic\",0,IF(COUNTRY_INFO!$H117=1,COUNTRY_INFO!E117,0)))","v":0},{"$f":"IF(INTRO!$E$39<>\"Non-endemic\", 0, IF(INTRO!$E$37=\"Non-endemic\",0,IF(COUNTRY_INFO!$H117=1,COUNTRY_INFO!F117,0)))","v":0},{"$f":"IF(INTRO!$E$39<>\"Non-endemic\", 0, IF(INTRO!$E$37=\"Non-endemic\",0,IF(COUNTRY_INFO!$H117=1,COUNTRY_INFO!G117,0)))","v":0},0,{"$f":"IF(INTRO!$E$39=\"Non-endemic\",IF(INTRO!$E$37=\"Non-endemic\",\"Not required\",COUNTRY_INFO!V117),\"Treat with IVM\")","v":"Treat with IVM"},0,0,null,0]
[{"$f":"IF(INTRO!$E$39<>\"Non-endemic\", \" \", IF(INTRO!$E$37=\"Non-endemic\",\" \", IF(COUNTRY_INFO!A118=0,\" \",COUNTRY_INFO!A118)))","v":" "},{"$f":"IF(INTRO!$E$39<>\"Non-endemic\", \" \", IF(INTRO!$E$37=\"Non-endemic\",\" \", IF(COUNTRY_INFO!B118=0,\" \",COUNTRY_INFO!B118)))","v":" "},{"$f":"IF(INTRO!$E$39<>\"Non-endemic\", \" \", IF(INTRO!$E$37=\"Non-endemic\",\" \", IF(COUNTRY_INFO!C118=0,\" \",COUNTRY_INFO!C118)))","v":" "},{"$f":"IF(INTRO!$E$39<>\"Non-endemic\", 0, IF(INTRO!$E$37=\"Non-endemic\",0,IF(COUNTRY_INFO!$H118=1,COUNTRY_INFO!E118,0)))","v":0},{"$f":"IF(INTRO!$E$39<>\"Non-endemic\", 0, IF(INTRO!$E$37=\"Non-endemic\",0,IF(COUNTRY_INFO!$H118=1,COUNTRY_INFO!F118,0)))","v":0},{"$f":"IF(INTRO!$E$39<>\"Non-endemic\", 0, IF(INTRO!$E$37=\"Non-endemic\",0,IF(COUNTRY_INFO!$H118=1,COUNTRY_INFO!G118,0)))","v":0},0,{"$f":"IF(INTRO!$E$39=\"Non-endemic\",IF(INTRO!$E$37=\"Non-endemic\",\"Not required\",COUNTRY_INFO!V118),\"Treat with IVM\")","v":"Treat with IVM"},0,0,null,0]
[{"$f":"IF(INTRO!$E$39<>\"Non-endemic\", \" \", IF(INTRO!$E$37=\"Non-endemic\",\" \", IF(COUNTRY_INFO!A119=0,\" \",COUNTRY_INFO!A119)))","v":" "},{"$f":"IF(INTRO!$E$39<>\"Non-endemic\", \" \", IF(INTRO!$E$37=\"Non-endemic\",\" \", IF(COUNTRY_INFO!B119=0,\" \",COUNTRY_INFO!B119)))","v":" "},{"$f":"IF(INTRO!$E$39<>\"Non-endemic\", \" \", IF(INTRO!$E$37=\"Non-endemic\",\" \", IF(COUNTRY_INFO!C119=0,\" \",COUNTRY_INFO!C119)))","v":" "},{"$f":"IF(INTRO!$E$39<>\"Non-endemic\", 0, IF(INTRO!$E$37=\"Non-endemic\",0,IF(COUNTRY_INFO!$H119=1,COUNTRY_INFO!E119,0)))","v":0},{"$f":"IF(INTRO!$E$39<>\"Non-endemic\", 0, IF(INTRO!$E$37=\"Non-endemic\",0,IF(COUNTRY_INFO!$H119=1,COUNTRY_INFO!F119,0)))","v":0},{"$f":"IF(INTRO!$E$39<>\"Non-endemic\", 0, IF(INTRO!$E$37=\"Non-endemic\",0,IF(COUNTRY_INFO!$H119=1,COUNTRY_INFO!G119,0)))","v":0},0,{"$f":"IF(INTRO!$E$39=\"Non-endemic\",IF(INTRO!$E$37=\"Non-endemic\",\"Not required\",COUNTRY_INFO!V119),\"Treat with IVM\")","v":"Treat with IVM"},0,0,null,0]
[{"$f":"IF(INTRO!$E$39<>\"Non-endemic\", \" \", IF(INTRO!$E$37=\"Non-endemic\",\" \", IF(COUNTRY_INFO!A120=0,\" \",COUNTRY_INFO!A120)))","v":" "},{"$f":"IF(INTRO!$E$39<>\"Non-endemic\", \" \", IF(INTRO!$E$37=\"Non-endemic\",\" \", IF(COUNTRY_INFO!B120=0,\" \",COUNTRY_INFO!B120)))","v":" "},{"$f":"IF(INTRO!$E$39<>\"Non-endemic\", \" \", IF(INTRO!$E$37=\"Non-endemic\",\" \", IF(COUNTRY_INFO!C120=0,\" \",COUNTRY_INFO!C120)))","v":" "},{"$f":"IF(INTRO!$E$39<>\"Non-endemic\", 0, IF(INTRO!$E$37=\"Non-endemic\",0,IF(COUNTRY_INFO!$H120=1,COUNTRY_INFO!E120,0)))","v":0},{"$f":"IF(INTRO!$E$39<>\"Non-endemic\", 0, IF(INTRO!$E$37=\"Non-endemic\",0,IF(COUNTRY_INFO!$H120=1,COUNTRY_INFO!F120,0)))","v":0},{"$f":"IF(INTRO!$E$39<>\"Non-endemic\", 0, IF(INTRO!$E$37=\"Non-endemic\",0,IF(COUNTRY_INFO!$H120=1,COUNTRY_INFO!G120,0)))","v":0},0,{"$f":"IF(INTRO!$E$39=\"Non-endemic\",IF(INTRO!$E$37=\"Non-endemic\",\"Not required\",COUNTRY_INFO!V120),\"Treat with IVM\")","v":"Treat with IVM"},0,0,null,0]
[{"$f":"IF(INTRO!$E$39<>\"Non-endemic\", \" \", IF(INTRO!$E$37=\"Non-endemic\",\" \", IF(COUNTRY_INFO!A121=0,\" \",COUNTRY_INFO!A121)))","v":" "},{"$f":"IF(INTRO!$E$39<>\"Non-endemic\", \" \", IF(INTRO!$E$37=\"Non-endemic\",\" \", IF(COUNTRY_INFO!B121=0,\" \",COUNTRY_INFO!B121)))","v":" "},{"$f":"IF(INTRO!$E$39<>\"Non-endemic\", \" \", IF(INTRO!$E$37=\"Non-endemic\",\" \", IF(COUNTRY_INFO!C121=0,\" \",COUNTRY_INFO!C121)))","v":" "},{"$f":"IF(INTRO!$E$39<>\"Non-endemic\", 0, IF(INTRO!$E$37=\"Non-endemic\",0,IF(COUNTRY_INFO!$H121=1,COUNTRY_INFO!E121,0)))","v":0},{"$f":"IF(INTRO!$E$39<>\"Non-endemic\", 0, IF(INTRO!$E$37=\"Non-endemic\",0,IF(COUNTRY_INFO!$H121=1,COUNTRY_INFO!F121,0)))","v":0},{"$f":"IF(INTRO!$E$39<>\"Non-endemic\", 0, IF(INTRO!$E$37=\"Non-endemic\",0,IF(COUNTRY_INFO!$H121=1,COUNTRY_INFO!G121,0)))","v":0},0,{"$f":"IF(INTRO!$E$39=\"Non-endemic\",IF(INTRO!$E$37=\"Non-endemic\",\"Not required\",COUNTRY_INFO!V121),\"Treat with IVM\")","v":"Treat with IVM"},0,0,null,0]
[{"$f":"IF(INTRO!$E$39<>\"Non-endemic\", \" \", IF(INTRO!$E$37=\"Non-endemic\",\" \", IF(COUNTRY_INFO!A122=0,\" \",COUNTRY_INFO!A122)))","v":" "},{"$f":"IF(INTRO!$E$39<>\"Non-endemic\", \" \", IF(INTRO!$E$37=\"Non-endemic\",\" \", IF(COUNTRY_INFO!B122=0,\" \",COUNTRY_INFO!B122)))","v":" "},{"$f":"IF(INTRO!$E$39<>\"Non-endemic\", \" \", IF(INTRO!$E$37=\"Non-endemic\",\" \", IF(COUNTRY_INFO!C122=0,\" \",COUNTRY_INFO!C122)))","v":" "},{"$f":"IF(INTRO!$E$39<>\"Non-endemic\", 0, IF(INTRO!$E$37=\"Non-endemic\",0,IF(COUNTRY_INFO!$H122=1,COUNTRY_INFO!E122,0)))","v":0},{"$f":"IF(INTRO!$E$39<>\"Non-endemic\", 0, IF(INTRO!$E$37=\"Non-endemic\",0,IF(COUNTRY_INFO!$H122=1,COUNTRY_INFO!F122,0)))","v":0},{"$f":"IF(INTRO!$E$39<>\"Non-endemic\", 0, IF(INTRO!$E$37=\"Non-endemic\",0,IF(COUNTRY_INFO!$H122=1,COUNTRY_INFO!G122,0)))","v":0},0,{"$f":"IF(INTRO!$E$39=\"Non-endemic\",IF(INTRO!$E$37=\"Non-endemic\",\"Not required\",COUNTRY_INFO!V122),\"Treat with IVM\")","v":"Treat with IVM"},0,0,null,0]
[{"$f":"IF(INTRO!$E$39<>\"Non-endemic\", \" \", IF(INTRO!$E$37=\"Non-endemic\",\" \", IF(COUNTRY_INFO!A123=0,\" \",COUNTRY_INFO!A123)))","v":" "},{"$f":"IF(INTRO!$E$39<>\"Non-endemic\", \" \", IF(INTRO!$E$37=\"Non-endemic\",\" \", IF(COUNTRY_INFO!B123=0,\" \",COUNTRY_INFO!B123)))","v":" "},{"$f":"IF(INTRO!$E$39<>\"Non-endemic\", \" \", IF(INTRO!$E$37=\"Non-endemic\",\" \", IF(COUNTRY_INFO!C123=0,\" \",COUNTRY_INFO!C123)))","v":" "},{"$f":"IF(INTRO!$E$39<>\"Non-endemic\", 0, IF(INTRO!$E$37=\"Non-endemic\",0,IF(COUNTRY_INFO!$H123=1,COUNTRY_INFO!E123,0)))","v":0},{"$f":"IF(INTRO!$E$39<>\"Non-endemic\", 0, IF(INTRO!$E$37=\"Non-endemic\",0,IF(COUNTRY_INFO!$H123=1,COUNTRY_INFO!F123,0)))","v":0},{"$f":"IF(INTRO!$E$39<>\"Non-endemic\", 0, IF(INTRO!$E$37=\"Non-endemic\",0,IF(COUNTRY_INFO!$H123=1,COUNTRY_INFO!G123,0)))","v":0},0,{"$f":"IF(INTRO!$E$39=\"Non-endemic\",IF(INTRO!$E$37=\"Non-endemic\",\"Not required\",COUNTRY_INFO!V123),\"Treat with IVM\")","v":"Treat with IVM"},0,0,null,0]
[{"$f":"IF(INTRO!$E$39<>\"Non-endemic\", \" \", IF(INTRO!$E$37=\"Non-endemic\",\" \", IF(COUNTRY_INFO!A124=0,\" \",COUNTRY_INFO!A124)))","v":" "},{"$f":"IF(INTRO!$E$39<>\"Non-endemic\", \" \", IF(INTRO!$E$37=\"Non-endemic\",\" \", IF(COUNTRY_INFO!B124=0,\" \",COUNTRY_INFO!B124)))","v":" "},{"$f":"IF(INTRO!$E$39<>\"Non-endemic\", \" \", IF(INTRO!$E$37=\"Non-endemic\",\" \", IF(COUNTRY_INFO!C124=0,\" \",COUNTRY_INFO!C124)))","v":" "},{"$f":"IF(INTRO!$E$39<>\"Non-endemic\", 0, IF(INTRO!$E$37=\"Non-endemic\",0,IF(COUNTRY_INFO!$H124=1,COUNTRY_INFO!E124,0)))","v":0},{"$f":"IF(INTRO!$E$39<>\"Non-endemic\", 0, IF(INTRO!$E$37=\"Non-endemic\",0,IF(COUNTRY_INFO!$H124=1,COUNTRY_INFO!F124,0)))","v":0},{"$f":"IF(INTRO!$E$39<>\"Non-endemic\", 0, IF(INTRO!$E$37=\"Non-endemic\",0,IF(COUNTRY_INFO!$H124=1,COUNTRY_INFO!G124,0)))","v":0},0,{"$f":"IF(INTRO!$E$39=\"Non-endemic\",IF(INTRO!$E$37=\"Non-endemic\",\"Not required\",COUNTRY_INFO!V124),\"Treat with IVM\")","v":"Treat with IVM"},0,0,null,0]
[{"$f":"IF(INTRO!$E$39<>\"Non-endemic\", \" \", IF(INTRO!$E$37=\"Non-endemic\",\" \", IF(COUNTRY_INFO!A125=0,\" \",COUNTRY_INFO!A125)))","v":" "},{"$f":"IF(INTRO!$E$39<>\"Non-endemic\", \" \", IF(INTRO!$E$37=\"Non-endemic\",\" \", IF(COUNTRY_INFO!B125=0,\" \",COUNTRY_INFO!B125)))","v":" "},{"$f":"IF(INTRO!$E$39<>\"Non-endemic\", \" \", IF(INTRO!$E$37=\"Non-endemic\",\" \", IF(COUNTRY_INFO!C125=0,\" \",COUNTRY_INFO!C125)))","v":" "},{"$f":"IF(INTRO!$E$39<>\"Non-endemic\", 0, IF(INTRO!$E$37=\"Non-endemic\",0,IF(COUNTRY_INFO!$H125=1,COUNTRY_INFO!E125,0)))","v":0},{"$f":"IF(INTRO!$E$39<>\"Non-endemic\", 0, IF(INTRO!$E$37=\"Non-endemic\",0,IF(COUNTRY_INFO!$H125=1,COUNTRY_INFO!F125,0)))","v":0},{"$f":"IF(INTRO!$E$39<>\"Non-endemic\", 0, IF(INTRO!$E$37=\"Non-endemic\",0,IF(COUNTRY_INFO!$H125=1,COUNTRY_INFO!G125,0)))","v":0},0,{"$f":"IF(INTRO!$E$39=\"Non-endemic\",IF(INTRO!$E$37=\"Non-endemic\",\"Not required\",COUNTRY_INFO!V125),\"Treat with IVM\")","v":"Treat with IVM"},0,0,null,0]
[{"$f":"IF(INTRO!$E$39<>\"Non-endemic\", \" \", IF(INTRO!$E$37=\"Non-endemic\",\" \", IF(COUNTRY_INFO!A126=0,\" \",COUNTRY_INFO!A126)))","v":" "},{"$f":"IF(INTRO!$E$39<>\"Non-endemic\", \" \", IF(INTRO!$E$37=\"Non-endemic\",\" \", IF(COUNTRY_INFO!B126=0,\" \",COUNTRY_INFO!B126)))","v":" "},{"$f":"IF(INTRO!$E$39<>\"Non-endemic\", \" \", IF(INTRO!$E$37=\"Non-endemic\",\" \", IF(COUNTRY_INFO!C126=0,\" \",COUNTRY_INFO!C126)))","v":" "},{"$f":"IF(INTRO!$E$39<>\"Non-endemic\", 0, IF(INTRO!$E$37=\"Non-endemic\",0,IF(COUNTRY_INFO!$H126=1,COUNTRY_INFO!E126,0)))","v":0},{"$f":"IF(INTRO!$E$39<>\"Non-endemic\", 0, IF(INTRO!$E$37=\"Non-endemic\",0,IF(COUNTRY_INFO!$H126=1,COUNTRY_INFO!F126,0)))","v":0},{"$f":"IF(INTRO!$E$39<>\"Non-endemic\", 0, IF(INTRO!$E$37=\"Non-endemic\",0,IF(COUNTRY_INFO!$H126=1,COUNTRY_INFO!G126,0)))","v":0},0,{"$f":"IF(INTRO!$E$39=\"Non-endemic\",IF(INTRO!$E$37=\"Non-endemic\",\"Not required\",COUNTRY_INFO!V126),\"Treat with IVM\")","v":"Treat with IVM"},0,0,null,0]
[{"$f":"IF(INTRO!$E$39<>\"Non-endemic\", \" \", IF(INTRO!$E$37=\"Non-endemic\",\" \", IF(COUNTRY_INFO!A127=0,\" \",COUNTRY_INFO!A127)))","v":" "},{"$f":"IF(INTRO!$E$39<>\"Non-endemic\", \" \", IF(INTRO!$E$37=\"Non-endemic\",\" \", IF(COUNTRY_INFO!B127=0,\" \",COUNTRY_INFO!B127)))","v":" "},{"$f":"IF(INTRO!$E$39<>\"Non-endemic\", \" \", IF(INTRO!$E$37=\"Non-endemic\",\" \", IF(COUNTRY_INFO!C127=0,\" \",COUNTRY_INFO!C127)))","v":" "},{"$f":"IF(INTRO!$E$39<>\"Non-endemic\", 0, IF(INTRO!$E$37=\"Non-endemic\",0,IF(COUNTRY_INFO!$H127=1,COUNTRY_INFO!E127,0)))","v":0},{"$f":"IF(INTRO!$E$39<>\"Non-endemic\", 0, IF(INTRO!$E$37=\"Non-endemic\",0,IF(COUNTRY_INFO!$H127=1,COUNTRY_INFO!F127,0)))","v":0},{"$f":"IF(INTRO!$E$39<>\"Non-endemic\", 0, IF(INTRO!$E$37=\"Non-endemic\",0,IF(COUNTRY_INFO!$H127=1,COUNTRY_INFO!G127,0)))","v":0},0,{"$f":"IF(INTRO!$E$39=\"Non-endemic\",IF(INTRO!$E$37=\"Non-endemic\",\"Not required\",COUNTRY_INFO!V127),\"Treat with IVM\")","v":"Treat with IVM"},0,0,null,0]
[{"$f":"IF(INTRO!$E$39<>\"Non-endemic\", \" \", IF(INTRO!$E$37=\"Non-endemic\",\" \", IF(COUNTRY_INFO!A128=0,\" \",COUNTRY_INFO!A128)))","v":" "},{"$f":"IF(INTRO!$E$39<>\"Non-endemic\", \" \", IF(INTRO!$E$37=\"Non-endemic\",\" \", IF(COUNTRY_INFO!B128=0,\" \",COUNTRY_INFO!B128)))","v":" "},{"$f":"IF(INTRO!$E$39<>\"Non-endemic\", \" \", IF(INTRO!$E$37=\"Non-endemic\",\" \", IF(COUNTRY_INFO!C128=0,\" \",COUNTRY_INFO!C128)))","v":" "},{"$f":"IF(INTRO!$E$39<>\"Non-endemic\", 0, IF(INTRO!$E$37=\"Non-endemic\",0,IF(COUNTRY_INFO!$H128=1,COUNTRY_INFO!E128,0)))","v":0},{"$f":"IF(INTRO!$E$39<>\"Non-endemic\", 0, IF(INTRO!$E$37=\"Non-endemic\",0,IF(COUNTRY_INFO!$H128=1,COUNTRY_INFO!F128,0)))","v":0},{"$f":"IF(INTRO!$E$39<>\"Non-endemic\", 0, IF(INTRO!$E$37=\"Non-endemic\",0,IF(COUNTRY_INFO!$H128=1,COUNTRY_INFO!G128,0)))","v":0},0,{"$f":"IF(INTRO!$E$39=\"Non-endemic\",IF(INTRO!$E$37=\"Non-endemic\",\"Not required\",COUNTRY_INFO!V128),\"Treat with IVM\")","v":"Treat with IVM"},0,0,null,0]
[{"$f":"IF(INTRO!$E$39<>\"Non-endemic\", \" \", IF(INTRO!$E$37=\"Non-endemic\",\" \", IF(COUNTRY_INFO!A129=0,\" \",COUNTRY_INFO!A129)))","v":" "},{"$f":"IF(INTRO!$E$39<>\"Non-endemic\", \" \", IF(INTRO!$E$37=\"Non-endemic\",\" \", IF(COUNTRY_INFO!B129=0,\" \",COUNTRY_INFO!B129)))","v":" "},{"$f":"IF(INTRO!$E$39<>\"Non-endemic\", \" \", IF(INTRO!$E$37=\"Non-endemic\",\" \", IF(COUNTRY_INFO!C129=0,\" \",COUNTRY_INFO!C129)))","v":" "},{"$f":"IF(INTRO!$E$39<>\"Non-endemic\", 0, IF(INTRO!$E$37=\"Non-endemic\",0,IF(COUNTRY_INFO!$H129=1,COUNTRY_INFO!E129,0)))","v":0},{"$f":"IF(INTRO!$E$39<>\"Non-endemic\", 0, IF(INTRO!$E$37=\"Non-endemic\",0,IF(COUNTRY_INFO!$H129=1,COUNTRY_INFO!F129,0)))","v":0},{"$f":"IF(INTRO!$E$39<>\"Non-endemic\", 0, IF(INTRO!$E$37=\"Non-endemic\",0,IF(COUNTRY_INFO!$H129=1,COUNTRY_INFO!G129,0)))","v":0},0,{"$f":"IF(INTRO!$E$39=\"Non-endemic\",IF(INTRO!$E$37=\"Non-endemic\",\"Not required\",COUNTRY_INFO!V129),\"Treat with IVM\")","v":"Treat with IVM"},0,0,null,0]
[{"$f":"IF(INTRO!$E$39<>\"Non-endemic\", \" \", IF(INTRO!$E$37=\"Non-endemic\",\" \", IF(COUNTRY_INFO!A130=0,\" \",COUNTRY_INFO!A130)))","v":" "},{"$f":"IF(INTRO!$E$39<>\"Non-endemic\", \" \", IF(INTRO!$E$37=\"Non-endemic\",\" \", IF(COUNTRY_INFO!B130=0,\" \",COUNTRY_INFO!B130)))","v":" "},{"$f":"IF(INTRO!$E$39<>\"Non-endemic\", \" \", IF(INTRO!$E$37=\"Non-endemic\",\" \", IF(COUNTRY_INFO!C130=0,\" \",COUNTRY_INFO!C130)))","v":" "},{"$f":"IF(INTRO!$E$39<>\"Non-endemic\", 0, IF(INTRO!$E$37=\"Non-endemic\",0,IF(COUNTRY_INFO!$H130=1,COUNTRY_INFO!E130,0)))","v":0},{"$f":"IF(INTRO!$E$39<>\"Non-endemic\", 0, IF(INTRO!$E$37=\"Non-endemic\",0,IF(COUNTRY_INFO!$H130=1,COUNTRY_INFO!F130,0)))","v":0},{"$f":"IF(INTRO!$E$39<>\"Non-endemic\", 0, IF(INTRO!$E$37=\"Non-endemic\",0,IF(COUNTRY_INFO!$H130=1,COUNTRY_INFO!G130,0)))","v":0},0,{"$f":"IF(INTRO!$E$39=\"Non-endemic\",IF(INTRO!$E$37=\"Non-endemic\",\"Not required\",COUNTRY_INFO!V130),\"Treat with IVM\")","v":"Treat with IVM"},0,0,null,0]
[{"$f":"IF(INTRO!$E$39<>\"Non-endemic\", \" \", IF(INTRO!$E$37=\"Non-endemic\",\" \", IF(COUNTRY_INFO!A131=0,\" \",COUNTRY_INFO!A131)))","v":" "},{"$f":"IF(INTRO!$E$39<>\"Non-endemic\", \" \", IF(INTRO!$E$37=\"Non-endemic\",\" \", IF(COUNTRY_INFO!B131=0,\" \",COUNTRY_INFO!B131)))","v":" "},{"$f":"IF(INTRO!$E$39<>\"Non-endemic\", \" \", IF(INTRO!$E$37=\"Non-endemic\",\" \", IF(COUNTRY_INFO!C131=0,\" \",COUNTRY_INFO!C131)))","v":" "},{"$f":"IF(INTRO!$E$39<>\"Non-endemic\", 0, IF(INTRO!$E$37=\"Non-endemic\",0,IF(COUNTRY_INFO!$H131=1,COUNTRY_INFO!E131,0)))","v":0},{"$f":"IF(INTRO!$E$39<>\"Non-endemic\", 0, IF(INTRO!$E$37=\"Non-endemic\",0,IF(COUNTRY_INFO!$H131=1,COUNTRY_INFO!F131,0)))","v":0},{"$f":"IF(INTRO!$E$39<>\"Non-endemic\", 0, IF(INTRO!$E$37=\"Non-endemic\",0,IF(COUNTRY_INFO!$H131=1,COUNTRY_INFO!G131,0)))","v":0},0,{"$f":"IF(INTRO!$E$39=\"Non-endemic\",IF(INTRO!$E$37=\"Non-endemic\",\"Not required\",COUNTRY_INFO!V131),\"Treat with IVM\")","v":"Treat with IVM"},0,0,null,0]
[{"$f":"IF(INTRO!$E$39<>\"Non-endemic\", \" \", IF(INTRO!$E$37=\"Non-endemic\",\" \", IF(COUNTRY_INFO!A132=0,\" \",COUNTRY_INFO!A132)))","v":" "},{"$f":"IF(INTRO!$E$39<>\"Non-endemic\", \" \", IF(INTRO!$E$37=\"Non-endemic\",\" \", IF(COUNTRY_INFO!B132=0,\" \",COUNTRY_INFO!B132)))","v":" "},{"$f":"IF(INTRO!$E$39<>\"Non-endemic\", \" \", IF(INTRO!$E$37=\"Non-endemic\",\" \", IF(COUNTRY_INFO!C132=0,\" \",COUNTRY_INFO!C132)))","v":" "},{"$f":"IF(INTRO!$E$39<>\"Non-endemic\", 0, IF(INTRO!$E$37=\"Non-endemic\",0,IF(COUNTRY_INFO!$H132=1,COUNTRY_INFO!E132,0)))","v":0},{"$f":"IF(INTRO!$E$39<>\"Non-endemic\", 0, IF(INTRO!$E$37=\"Non-endemic\",0,IF(COUNTRY_INFO!$H132=1,COUNTRY_INFO!F132,0)))","v":0},{"$f":"IF(INTRO!$E$39<>\"Non-endemic\", 0, IF(INTRO!$E$37=\"Non-endemic\",0,IF(COUNTRY_INFO!$H132=1,COUNTRY_INFO!G132,0)))","v":0},0,{"$f":"IF(INTRO!$E$39=\"Non-endemic\",IF(INTRO!$E$37=\"Non-endemic\",\"Not required\",COUNTRY_INFO!V132),\"Treat with IVM\")","v":"Treat with IVM"},0,0,null,0]
[{"$f":"IF(INTRO!$E$39<>\"Non-endemic\", \" \", IF(INTRO!$E$37=\"Non-endemic\",\" \", IF(COUNTRY_INFO!A133=0,\" \",COUNTRY_INFO!A133)))","v":" "},{"$f":"IF(INTRO!$E$39<>\"Non-endemic\", \" \", IF(INTRO!$E$37=\"Non-endemic\",\" \", IF(COUNTRY_INFO!B133=0,\" \",COUNTRY_INFO!B133)))","v":" "},{"$f":"IF(INTRO!$E$39<>\"Non-endemic\", \" \", IF(INTRO!$E$37=\"Non-endemic\",\" \", IF(COUNTRY_INFO!C133=0,\" \",COUNTRY_INFO!C133)))","v":" "},{"$f":"IF(INTRO!$E$39<>\"Non-endemic\", 0, IF(INTRO!$E$37=\"Non-endemic\",0,IF(COUNTRY_INFO!$H133=1,COUNTRY_INFO!E133,0)))","v":0},{"$f":"IF(INTRO!$E$39<>\"Non-endemic\", 0, IF(INTRO!$E$37=\"Non-endemic\",0,IF(COUNTRY_INFO!$H133=1,COUNTRY_INFO!F133,0)))","v":0},{"$f":"IF(INTRO!$E$39<>\"Non-endemic\", 0, IF(INTRO!$E$37=\"Non-endemic\",0,IF(COUNTRY_INFO!$H133=1,COUNTRY_INFO!G133,0)))","v":0},0,{"$f":"IF(INTRO!$E$39=\"Non-endemic\",IF(INTRO!$E$37=\"Non-endemic\",\"Not required\",COUNTRY_INFO!V133),\"Treat with IVM\")","v":"Treat with IVM"},0,0,null,0]
[{"$f":"IF(INTRO!$E$39<>\"Non-endemic\", \" \", IF(INTRO!$E$37=\"Non-endemic\",\" \", IF(COUNTRY_INFO!A134=0,\" \",COUNTRY_INFO!A134)))","v":" "},{"$f":"IF(INTRO!$E$39<>\"Non-endemic\", \" \", IF(INTRO!$E$37=\"Non-endemic\",\" \", IF(COUNTRY_INFO!B134=0,\" \",COUNTRY_INFO!B134)))","v":" "},{"$f":"IF(INTRO!$E$39<>\"Non-endemic\", \" \", IF(INTRO!$E$37=\"Non-endemic\",\" \", IF(COUNTRY_INFO!C134=0,\" \",COUNTRY_INFO!C134)))","v":" "},{"$f":"IF(INTRO!$E$39<>\"Non-endemic\", 0, IF(INTRO!$E$37=\"Non-endemic\",0,IF(COUNTRY_INFO!$H134=1,COUNTRY_INFO!E134,0)))","v":0},{"$f":"IF(INTRO!$E$39<>\"Non-endemic\", 0, IF(INTRO!$E$37=\"Non-endemic\",0,IF(COUNTRY_INFO!$H134=1,COUNTRY_INFO!F134,0)))","v":0},{"$f":"IF(INTRO!$E$39<>\"Non-endemic\", 0, IF(INTRO!$E$37=\"Non-endemic\",0,IF(COUNTRY_INFO!$H134=1,COUNTRY_INFO!G134,0)))","v":0},0,{"$f":"IF(INTRO!$E$39=\"Non-endemic\",IF(INTRO!$E$37=\"Non-endemic\",\"Not required\",COUNTRY_INFO!V134),\"Treat with IVM\")","v":"Treat with IVM"},0,0,null,0]
[{"$f":"IF(INTRO!$E$39<>\"Non-endemic\", \" \", IF(INTRO!$E$37=\"Non-endemic\",\" \", IF(COUNTRY_INFO!A135=0,\" \",COUNTRY_INFO!A135)))","v":" "},{"$f":"IF(INTRO!$E$39<>\"Non-endemic\", \" \", IF(INTRO!$E$37=\"Non-endemic\",\" \", IF(COUNTRY_INFO!B135=0,\" \",COUNTRY_INFO!B135)))","v":" "},{"$f":"IF(INTRO!$E$39<>\"Non-endemic\", \" \", IF(INTRO!$E$37=\"Non-endemic\",\" \", IF(COUNTRY_INFO!C135=0,\" \",COUNTRY_INFO!C135)))","v":" "},{"$f":"IF(INTRO!$E$39<>\"Non-endemic\", 0, IF(INTRO!$E$37=\"Non-endemic\",0,IF(COUNTRY_INFO!$H135=1,COUNTRY_INFO!E135,0)))","v":0},{"$f":"IF(INTRO!$E$39<>\"Non-endemic\", 0, IF(INTRO!$E$37=\"Non-endemic\",0,IF(COUNTRY_INFO!$H135=1,COUNTRY_INFO!F135,0)))","v":0},{"$f":"IF(INTRO!$E$39<>\"Non-endemic\", 0, IF(INTRO!$E$37=\"Non-endemic\",0,IF(COUNTRY_INFO!$H135=1,COUNTRY_INFO!G135,0)))","v":0},0,{"$f":"IF(INTRO!$E$39=\"Non-endemic\",IF(INTRO!$E$37=\"Non-endemic\",\"Not required\",COUNTRY_INFO!V135),\"Treat with IVM\")","v":"Treat with IVM"},0,0,null,0]
[{"$f":"IF(INTRO!$E$39<>\"Non-endemic\", \" \", IF(INTRO!$E$37=\"Non-endemic\",\" \", IF(COUNTRY_INFO!A136=0,\" \",COUNTRY_INFO!A136)))","v":" "},{"$f":"IF(INTRO!$E$39<>\"Non-endemic\", \" \", IF(INTRO!$E$37=\"Non-endemic\",\" \", IF(COUNTRY_INFO!B136=0,\" \",COUNTRY_INFO!B136)))","v":" "},{"$f":"IF(INTRO!$E$39<>\"Non-endemic\", \" \", IF(INTRO!$E$37=\"Non-endemic\",\" \", IF(COUNTRY_INFO!C136=0,\" \",COUNTRY_INFO!C136)))","v":" "},{"$f":"IF(INTRO!$E$39<>\"Non-endemic\", 0, IF(INTRO!$E$37=\"Non-endemic\",0,IF(COUNTRY_INFO!$H136=1,COUNTRY_INFO!E136,0)))","v":0},{"$f":"IF(INTRO!$E$39<>\"Non-endemic\", 0, IF(INTRO!$E$37=\"Non-endemic\",0,IF(COUNTRY_INFO!$H136=1,COUNTRY_INFO!F136,0)))","v":0},{"$f":"IF(INTRO!$E$39<>\"Non-endemic\", 0, IF(INTRO!$E$37=\"Non-endemic\",0,IF(COUNTRY_INFO!$H136=1,COUNTRY_INFO!G136,0)))","v":0},0,{"$f":"IF(INTRO!$E$39=\"Non-endemic\",IF(INTRO!$E$37=\"Non-endemic\",\"Not required\",COUNTRY_INFO!V136),\"Treat with IVM\")","v":"Treat with IVM"},0,0,null,0]
[{"$f":"IF(INTRO!$E$39<>\"Non-endemic\", \" \", IF(INTRO!$E$37=\"Non-endemic\",\" \", IF(COUNTRY_INFO!A137=0,\" \",COUNTRY_INFO!A137)))","v":" "},{"$f":"IF(INTRO!$E$39<>\"Non-endemic\", \" \", IF(INTRO!$E$37=\"Non-endemic\",\" \", IF(COUNTRY_INFO!B137=0,\" \",COUNTRY_INFO!B137)))","v":" "},{"$f":"IF(INTRO!$E$39<>\"Non-endemic\", \" \", IF(INTRO!$E$37=\"Non-endemic\",\" \", IF(COUNTRY_INFO!C137=0,\" \",COUNTRY_INFO!C137)))","v":" "},{"$f":"IF(INTRO!$E$39<>\"Non-endemic\", 0, IF(INTRO!$E$37=\"Non-endemic\",0,IF(COUNTRY_INFO!$H137=1,COUNTRY_INFO!E137,0)))","v":0},{"$f":"IF(INTRO!$E$39<>\"Non-endemic\", 0, IF(INTRO!$E$37=\"Non-endemic\",0,IF(COUNTRY_INFO!$H137=1,COUNTRY_INFO!F137,0)))","v":0},{"$f":"IF(INTRO!$E$39<>\"Non-endemic\", 0, IF(INTRO!$E$37=\"Non-endemic\",0,IF(COUNTRY_INFO!$H137=1,COUNTRY_INFO!G137,0)))","v":0},0,{"$f":"IF(INTRO!$E$39=\"Non-endemic\",IF(INTRO!$E$37=\"Non-endemic\",\"Not required\",COUNTRY_INFO!V137),\"Treat with IVM\")","v":"Treat with IVM"},0,0,null,0]
[{"$f":"IF(INTRO!$E$39<>\"Non-endemic\", \" \", IF(INTRO!$E$37=\"Non-endemic\",\" \", IF(COUNTRY_INFO!A138=0,\" \",COUNTRY_INFO!A138)))","v":" "},{"$f":"IF(INTRO!$E$39<>\"Non-endemic\", \" \", IF(INTRO!$E$37=\"Non-endemic\",\" \", IF(COUNTRY_INFO!B138=0,\" \",COUNTRY_INFO!B138)))","v":" "},{"$f":"IF(INTRO!$E$39<>\"Non-endemic\", \" \", IF(INTRO!$E$37=\"Non-endemic\",\" \", IF(COUNTRY_INFO!C138=0,\" \",COUNTRY_INFO!C138)))","v":" "},{"$f":"IF(INTRO!$E$39<>\"Non-endemic\", 0, IF(INTRO!$E$37=\"Non-endemic\",0,IF(COUNTRY_INFO!$H138=1,COUNTRY_INFO!E138,0)))","v":0},{"$f":"IF(INTRO!$E$39<>\"Non-endemic\", 0, IF(INTRO!$E$37=\"Non-endemic\",0,IF(COUNTRY_INFO!$H138=1,COUNTRY_INFO!F138,0)))","v":0},{"$f":"IF(INTRO!$E$39<>\"Non-endemic\", 0, IF(INTRO!$E$37=\"Non-endemic\",0,IF(COUNTRY_INFO!$H138=1,COUNTRY_INFO!G138,0)))","v":0},0,{"$f":"IF(INTRO!$E$39=\"Non-endemic\",IF(INTRO!$E$37=\"Non-endemic\",\"Not required\",COUNTRY_INFO!V138),\"Treat with IVM\")","v":"Treat with IVM"},0,0,null,0]
[{"$f":"IF(INTRO!$E$39<>\"Non-endemic\", \" \", IF(INTRO!$E$37=\"Non-endemic\",\" \", IF(COUNTRY_INFO!A139=0,\" \",COUNTRY_INFO!A139)))","v":" "},{"$f":"IF(INTRO!$E$39<>\"Non-endemic\", \" \", IF(INTRO!$E$37=\"Non-endemic\",\" \", IF(COUNTRY_INFO!B139=0,\" \",COUNTRY_INFO!B139)))","v":" "},{"$f":"IF(INTRO!$E$39<>\"Non-endemic\", \" \", IF(INTRO!$E$37=\"Non-endemic\",\" \", IF(COUNTRY_INFO!C139=0,\" \",COUNTRY_INFO!C139)))","v":" "},{"$f":"IF(INTRO!$E$39<>\"Non-endemic\", 0, IF(INTRO!$E$37=\"Non-endemic\",0,IF(COUNTRY_INFO!$H139=1,COUNTRY_INFO!E139,0)))","v":0},{"$f":"IF(INTRO!$E$39<>\"Non-endemic\", 0, IF(INTRO!$E$37=\"Non-endemic\",0,IF(COUNTRY_INFO!$H139=1,COUNTRY_INFO!F139,0)))","v":0},{"$f":"IF(INTRO!$E$39<>\"Non-endemic\", 0, IF(INTRO!$E$37=\"Non-endemic\",0,IF(COUNTRY_INFO!$H139=1,COUNTRY_INFO!G139,0)))","v":0},{"$f":"SUM(D139:F139)","v":0},{"$f":"IF(INTRO!$E$39=\"Non-endemic\",IF(INTRO!$E$37=\"Non-endemic\",\"Not required\",COUNTRY_INFO!V139),\"Treat with IVM\")","v":"Treat with IVM"},{"$f":"IF(H139=1,G139,0)","v":0},{"$f":"IF(I139>0,I139*2.5,0)","v":0},null,0]
[{"$f":"IF(INTRO!$E$39<>\"Non-endemic\", \" \", IF(INTRO!$E$37=\"Non-endemic\",\" \", IF(COUNTRY_INFO!A140=0,\" \",COUNTRY_INFO!A140)))","v":" "},{"$f":"IF(INTRO!$E$39<>\"Non-endemic\", \" \", IF(INTRO!$E$37=\"Non-endemic\",\" \", IF(COUNTRY_INFO!B140=0,\" \",COUNTRY_INFO!B140)))","v":" "},{"$f":"IF(INTRO!$E$39<>\"Non-endemic\", \" \", IF(INTRO!$E$37=\"Non-endemic\",\" \", IF(COUNTRY_INFO!C140=0,\" \",COUNTRY_INFO!C140)))","v":" "},{"$f":"IF(INTRO!$E$39<>\"Non-endemic\", 0, IF(INTRO!$E$37=\"Non-endemic\",0,IF(COUNTRY_INFO!$H140=1,COUNTRY_INFO!E140,0)))","v":0},{"$f":"IF(INTRO!$E$39<>\"Non-endemic\", 0, IF(INTRO!$E$37=\"Non-endemic\",0,IF(COUNTRY_INFO!$H140=1,COUNTRY_INFO!F140,0)))","v":0},{"$f":"IF(INTRO!$E$39<>\"Non-endemic\", 0, IF(INTRO!$E$37=\"Non-endemic\",0,IF(COUNTRY_INFO!$H140=1,COUNTRY_INFO!G140,0)))","v":0},0,{"$f":"IF(INTRO!$E$39=\"Non-endemic\",IF(INTRO!$E$37=\"Non-endemic\",\"Not required\",COUNTRY_INFO!V140),\"Treat with IVM\")","v":"Treat with IVM"},0,0,null,0]
[{"$f":"IF(INTRO!$E$39<>\"Non-endemic\", \" \", IF(INTRO!$E$37=\"Non-endemic\",\" \", IF(COUNTRY_INFO!A141=0,\" \",COUNTRY_INFO!A141)))","v":" "},{"$f":"IF(INTRO!$E$39<>\"Non-endemic\", \" \", IF(INTRO!$E$37=\"Non-endemic\",\" \", IF(COUNTRY_INFO!B141=0,\" \",COUNTRY_INFO!B141)))","v":" "},{"$f":"IF(INTRO!$E$39<>\"Non-endemic\", \" \", IF(INTRO!$E$37=\"Non-endemic\",\" \", IF(COUNTRY_INFO!C141=0,\" \",COUNTRY_INFO!C141)))","v":" "},{"$f":"IF(INTRO!$E$39<>\"Non-endemic\", 0, IF(INTRO!$E$37=\"Non-endemic\",0,IF(COUNTRY_INFO!$H141=1,COUNTRY_INFO!E141,0)))","v":0},{"$f":"IF(INTRO!$E$39<>\"Non-endemic\", 0, IF(INTRO!$E$37=\"Non-endemic\",0,IF(COUNTRY_INFO!$H141=1,COUNTRY_INFO!F141,0)))","v":0},{"$f":"IF(INTRO!$E$39<>\"Non-endemic\", 0, IF(INTRO!$E$37=\"Non-endemic\",0,IF(COUNTRY_INFO!$H141=1,COUNTRY_INFO!G141,0)))","v":0},0,{"$f":"IF(INTRO!$E$39=\"Non-endemic\",IF(INTRO!$E$37=\"Non-endemic\",\"Not required\",COUNTRY_INFO!V141),\"Treat with IVM\")","v":"Treat with IVM"},0,0,null,0]
[{"$f":"IF(INTRO!$E$39<>\"Non-endemic\", \" \", IF(INTRO!$E$37=\"Non-endemic\",\" \", IF(COUNTRY_INFO!A142=0,\" \",COUNTRY_INFO!A142)))","v":" "},{"$f":"IF(INTRO!$E$39<>\"Non-endemic\", \" \", IF(INTRO!$E$37=\"Non-endemic\",\" \", IF(COUNTRY_INFO!B142=0,\" \",COUNTRY_INFO!B142)))","v":" "},{"$f":"IF(INTRO!$E$39<>\"Non-endemic\", \" \", IF(INTRO!$E$37=\"Non-endemic\",\" \", IF(COUNTRY_INFO!C142=0,\" \",COUNTRY_INFO!C142)))","v":" "},{"$f":"IF(INTRO!$E$39<>\"Non-endemic\", 0, IF(INTRO!$E$37=\"Non-endemic\",0,IF(COUNTRY_INFO!$H142=1,COUNTRY_INFO!E142,0)))","v":0},{"$f":"IF(INTRO!$E$39<>\"Non-endemic\", 0, IF(INTRO!$E$37=\"Non-endemic\",0,IF(COUNTRY_INFO!$H142=1,COUNTRY_INFO!F142,0)))","v":0},{"$f":"IF(INTRO!$E$39<>\"Non-endemic\", 0, IF(INTRO!$E$37=\"Non-endemic\",0,IF(COUNTRY_INFO!$H142=1,COUNTRY_INFO!G142,0)))","v":0},0,{"$f":"IF(INTRO!$E$39=\"Non-endemic\",IF(INTRO!$E$37=\"Non-endemic\",\"Not required\",COUNTRY_INFO!V142),\"Treat with IVM\")","v":"Treat with IVM"},0,0,null,0]
[{"$f":"IF(INTRO!$E$39<>\"Non-endemic\", \" \", IF(INTRO!$E$37=\"Non-endemic\",\" \", IF(COUNTRY_INFO!A143=0,\" \",COUNTRY_INFO!A143)))","v":" "},{"$f":"IF(INTRO!$E$39<>\"Non-endemic\", \" \", IF(INTRO!$E$37=\"Non-endemic\",\" \", IF(COUNTRY_INFO!B143=0,\" \",COUNTRY_INFO!B143)))","v":" "},{"$f":"IF(INTRO!$E$39<>\"Non-endemic\", \" \", IF(INTRO!$E$37=\"Non-endemic\",\" \", IF(COUNTRY_INFO!C143=0,\" \",COUNTRY_INFO!C143)))","v":" "},{"$f":"IF(INTRO!$E$39<>\"Non-endemic\", 0, IF(INTRO!$E$37=\"Non-endemic\",0,IF(COUNTRY_INFO!$H143=1,COUNTRY_INFO!E143,0)))","v":0},{"$f":"IF(INTRO!$E$39<>\"Non-endemic\", 0, IF(INTRO!$E$37=\"Non-endemic\",0,IF(COUNTRY_INFO!$H143=1,COUNTRY_INFO!F143,0)))","v":0},{"$f":"IF(INTRO!$E$39<>\"Non-endemic\", 0, IF(INTRO!$E$37=\"Non-endemic\",0,IF(COUNTRY_INFO!$H143=1,COUNTRY_INFO!G143,0)))","v":0},0,{"$f":"IF(INTRO!$E$39=\"Non-endemic\",IF(INTRO!$E$37=\"Non-endemic\",\"Not required\",COUNTRY_INFO!V143),\"Treat with IVM\")","v":"Treat with IVM"},0,0,null,0]
[{"$f":"IF(INTRO!$E$39<>\"Non-endemic\", \" \", IF(INTRO!$E$37=\"Non-endemic\",\" \", IF(COUNTRY_INFO!A144=0,\" \",COUNTRY_INFO!A144)))","v":" "},{"$f":"IF(INTRO!$E$39<>\"Non-endemic\", \" \", IF(INTRO!$E$37=\"Non-endemic\",\" \", IF(COUNTRY_INFO!B144=0,\" \",COUNTRY_INFO!B144)))","v":" "},{"$f":"IF(INTRO!$E$39<>\"Non-endemic\", \" \", IF(INTRO!$E$37=\"Non-endemic\",\" \", IF(COUNTRY_INFO!C144=0,\" \",COUNTRY_INFO!C144)))","v":" "},{"$f":"IF(INTRO!$E$39<>\"Non-endemic\", 0, IF(INTRO!$E$37=\"Non-endemic\",0,IF(COUNTRY_INFO!$H144=1,COUNTRY_INFO!E144,0)))","v":0},{"$f":"IF(INTRO!$E$39<>\"Non-endemic\", 0, IF(INTRO!$E$37=\"Non-endemic\",0,IF(COUNTRY_INFO!$H144=1,COUNTRY_INFO!F144,0)))","v":0},{"$f":"IF(INTRO!$E$39<>\"Non-endemic\", 0, IF(INTRO!$E$37=\"Non-endemic\",0,IF(COUNTRY_INFO!$H144=1,COUNTRY_INFO!G144,0)))","v":0},0,{"$f":"IF(INTRO!$E$39=\"Non-endemic\",IF(INTRO!$E$37=\"Non-endemic\",\"Not required\",COUNTRY_INFO!V144),\"Treat with IVM\")","v":"Treat with IVM"},0,0,null,0]
[{"$f":"IF(INTRO!$E$39<>\"Non-endemic\", \" \", IF(INTRO!$E$37=\"Non-endemic\",\" \", IF(COUNTRY_INFO!A145=0,\" \",COUNTRY_INFO!A145)))","v":" "},{"$f":"IF(INTRO!$E$39<>\"Non-endemic\", \" \", IF(INTRO!$E$37=\"Non-endemic\",\" \", IF(COUNTRY_INFO!B145=0,\" \",COUNTRY_INFO!B145)))","v":" "},{"$f":"IF(INTRO!$E$39<>\"Non-endemic\", \" \", IF(INTRO!$E$37=\"Non-endemic\",\" \", IF(COUNTRY_INFO!C145=0,\" \",COUNTRY_INFO!C145)))","v":" "},{"$f":"IF(INTRO!$E$39<>\"Non-endemic\", 0, IF(INTRO!$E$37=\"Non-endemic\",0,IF(COUNTRY_INFO!$H145=1,COUNTRY_INFO!E145,0)))","v":0},{"$f":"IF(INTRO!$E$39<>\"Non-endemic\", 0, IF(INTRO!$E$37=\"Non-endemic\",0,IF(COUNTRY_INFO!$H145=1,COUNTRY_INFO!F145,0)))","v":0},{"$f":"IF(INTRO!$E$39<>\"Non-endemic\", 0, IF(INTRO!$E$37=\"Non-endemic\",0,IF(COUNTRY_INFO!$H145=1,COUNTRY_INFO!G145,0)))","v":0},0,{"$f":"IF(INTRO!$E$39=\"Non-endemic\",IF(INTRO!$E$37=\"Non-endemic\",\"Not required\",COUNTRY_INFO!V145),\"Treat with IVM\")","v":"Treat with IVM"},0,0,null,0]
[{"$f":"IF(INTRO!$E$39<>\"Non-endemic\", \" \", IF(INTRO!$E$37=\"Non-endemic\",\" \", IF(COUNTRY_INFO!A146=0,\" \",COUNTRY_INFO!A146)))","v":" "},{"$f":"IF(INTRO!$E$39<>\"Non-endemic\", \" \", IF(INTRO!$E$37=\"Non-endemic\",\" \", IF(COUNTRY_INFO!B146=0,\" \",COUNTRY_INFO!B146)))","v":" "},{"$f":"IF(INTRO!$E$39<>\"Non-endemic\", \" \", IF(INTRO!$E$37=\"Non-endemic\",\" \", IF(COUNTRY_INFO!C146=0,\" \",COUNTRY_INFO!C146)))","v":" "},{"$f":"IF(INTRO!$E$39<>\"Non-endemic\", 0, IF(INTRO!$E$37=\"Non-endemic\",0,IF(COUNTRY_INFO!$H146=1,COUNTRY_INFO!E146,0)))","v":0},{"$f":"IF(INTRO!$E$39<>\"Non-endemic\", 0, IF(INTRO!$E$37=\"Non-endemic\",0,IF(COUNTRY_INFO!$H146=1,COUNTRY_INFO!F146,0)))","v":0},{"$f":"IF(INTRO!$E$39<>\"Non-endemic\", 0, IF(INTRO!$E$37=\"Non-endemic\",0,IF(COUNTRY_INFO!$H146=1,COUNTRY_INFO!G146,0)))","v":0},0,{"$f":"IF(INTRO!$E$39=\"Non-endemic\",IF(INTRO!$E$37=\"Non-endemic\",\"Not required\",COUNTRY_INFO!V146),\"Treat with IVM\")","v":"Treat with IVM"},0,0,null,0]
[{"$f":"IF(INTRO!$E$39<>\"Non-endemic\", \" \", IF(INTRO!$E$37=\"Non-endemic\",\" \", IF(COUNTRY_INFO!A147=0,\" \",COUNTRY_INFO!A147)))","v":" "},{"$f":"IF(INTRO!$E$39<>\"Non-endemic\", \" \", IF(INTRO!$E$37=\"Non-endemic\",\" \", IF(COUNTRY_INFO!B147=0,\" \",COUNTRY_INFO!B147)))","v":" "},{"$f":"IF(INTRO!$E$39<>\"Non-endemic\", \" \", IF(INTRO!$E$37=\"Non-endemic\",\" \", IF(COUNTRY_INFO!C147=0,\" \",COUNTRY_INFO!C147)))","v":" "},{"$f":"IF(INTRO!$E$39<>\"Non-endemic\", 0, IF(INTRO!$E$37=\"Non-endemic\",0,IF(COUNTRY_INFO!$H147=1,COUNTRY_INFO!E147,0)))","v":0},{"$f":"IF(INTRO!$E$39<>\"Non-endemic\", 0, IF(INTRO!$E$37=\"Non-endemic\",0,IF(COUNTRY_INFO!$H147=1,COUNTRY_INFO!F147,0)))","v":0},{"$f":"IF(INTRO!$E$39<>\"Non-endemic\", 0, IF(INTRO!$E$37=\"Non-endemic\",0,IF(COUNTRY_INFO!$H147=1,COUNTRY_INFO!G147,0)))","v":0},0,{"$f":"IF(INTRO!$E$39=\"Non-endemic\",IF(INTRO!$E$37=\"Non-endemic\",\"Not required\",COUNTRY_INFO!V147),\"Treat with IVM\")","v":"Treat with IVM"},0,0,null,0]
[{"$f":"IF(INTRO!$E$39<>\"Non-endemic\", \" \", IF(INTRO!$E$37=\"Non-endemic\",\" \", IF(COUNTRY_INFO!A148=0,\" \",COUNTRY_INFO!A148)))","v":" "},{"$f":"IF(INTRO!$E$39<>\"Non-endemic\", \" \", IF(INTRO!$E$37=\"Non-endemic\",\" \", IF(COUNTRY_INFO!B148=0,\" \",COUNTRY_INFO!B148)))","v":" "},{"$f":"IF(INTRO!$E$39<>\"Non-endemic\", \" \", IF(INTRO!$E$37=\"Non-endemic\",\" \", IF(COUNTRY_INFO!C148=0,\" \",COUNTRY_INFO!C148)))","v":" "},{"$f":"IF(INTRO!$E$39<>\"Non-endemic\", 0, IF(INTRO!$E$37=\"Non-endemic\",0,IF(COUNTRY_INFO!$H148=1,COUNTRY_INFO!E148,0)))","v":0},{"$f":"IF(INTRO!$E$39<>\"Non-endemic\", 0, IF(INTRO!$E$37=\"Non-endemic\",0,IF(COUNTRY_INFO!$H148=1,COUNTRY_INFO!F148,0)))","v":0},{"$f":"IF(INTRO!$E$39<>\"Non-endemic\", 0, IF(INTRO!$E$37=\"Non-endemic\",0,IF(COUNTRY_INFO!$H148=1,COUNTRY_INFO!G148,0)))","v":0},0,{"$f":"IF(INTRO!$E$39=\"Non-endemic\",IF(INTRO!$E$37=\"Non-endemic\",\"Not required\",COUNTRY_INFO!V148),\"Treat with IVM\")","v":"Treat with IVM"},0,0,null,0]
[{"$f":"IF(INTRO!$E$39<>\"Non-endemic\", \" \", IF(INTRO!$E$37=\"Non-endemic\",\" \", IF(COUNTRY_INFO!A149=0,\" \",COUNTRY_INFO!A149)))","v":" "},{"$f":"IF(INTRO!$E$39<>\"Non-endemic\", \" \", IF(INTRO!$E$37=\"Non-endemic\",\" \", IF(COUNTRY_INFO!B149=0,\" \",COUNTRY_INFO!B149)))","v":" "},{"$f":"IF(INTRO!$E$39<>\"Non-endemic\", \" \", IF(INTRO!$E$37=\"Non-endemic\",\" \", IF(COUNTRY_INFO!C149=0,\" \",COUNTRY_INFO!C149)))","v":" "},{"$f":"IF(INTRO!$E$39<>\"Non-endemic\", 0, IF(INTRO!$E$37=\"Non-endemic\",0,IF(COUNTRY_INFO!$H149=1,COUNTRY_INFO!E149,0)))","v":0},{"$f":"IF(INTRO!$E$39<>\"Non-endemic\", 0, IF(INTRO!$E$37=\"Non-endemic\",0,IF(COUNTRY_INFO!$H149=1,COUNTRY_INFO!F149,0)))","v":0},{"$f":"IF(INTRO!$E$39<>\"Non-endemic\", 0, IF(INTRO!$E$37=\"Non-endemic\",0,IF(COUNTRY_INFO!$H149=1,COUNTRY_INFO!G149,0)))","v":0},0,{"$f":"IF(INTRO!$E$39=\"Non-endemic\",IF(INTRO!$E$37=\"Non-endemic\",\"Not required\",COUNTRY_INFO!V149),\"Treat with IVM\")","v":"Treat with IVM"},0,0,null,0]
[{"$f":"IF(INTRO!$E$39<>\"Non-endemic\", \" \", IF(INTRO!$E$37=\"Non-endemic\",\" \", IF(COUNTRY_INFO!A150=0,\" \",COUNTRY_INFO!A150)))","v":" "},{"$f":"IF(INTRO!$E$39<>\"Non-endemic\", \" \", IF(INTRO!$E$37=\"Non-endemic\",\" \", IF(COUNTRY_INFO!B150=0,\" \",COUNTRY_INFO!B150)))","v":" "},{"$f":"IF(INTRO!$E$39<>\"Non-endemic\", \" \", IF(INTRO!$E$37=\"Non-endemic\",\" \", IF(COUNTRY_INFO!C150=0,\" \",COUNTRY_INFO!C150)))","v":" "},{"$f":"IF(INTRO!$E$39<>\"Non-endemic\", 0, IF(INTRO!$E$37=\"Non-endemic\",0,IF(COUNTRY_INFO!$H150=1,COUNTRY_INFO!E150,0)))","v":0},{"$f":"IF(INTRO!$E$39<>\"Non-endemic\", 0, IF(INTRO!$E$37=\"Non-endemic\",0,IF(COUNTRY_INFO!$H150=1,COUNTRY_INFO!F150,0)))","v":0},{"$f":"IF(INTRO!$E$39<>\"Non-endemic\", 0, IF(INTRO!$E$37=\"Non-endemic\",0,IF(COUNTRY_INFO!$H150=1,COUNTRY_INFO!G150,0)))","v":0},0,{"$f":"IF(INTRO!$E$39=\"Non-endemic\",IF(INTRO!$E$37=\"Non-endemic\",\"Not required\",COUNTRY_INFO!V150),\"Treat with IVM\")","v":"Treat with IVM"},0,0,null,0]
[{"$f":"IF(INTRO!$E$39<>\"Non-endemic\", \" \", IF(INTRO!$E$37=\"Non-endemic\",\" \", IF(COUNTRY_INFO!A151=0,\" \",COUNTRY_INFO!A151)))","v":" "},{"$f":"IF(INTRO!$E$39<>\"Non-endemic\", \" \", IF(INTRO!$E$37=\"Non-endemic\",\" \", IF(COUNTRY_INFO!B151=0,\" \",COUNTRY_INFO!B151)))","v":" "},{"$f":"IF(INTRO!$E$39<>\"Non-endemic\", \" \", IF(INTRO!$E$37=\"Non-endemic\",\" \", IF(COUNTRY_INFO!C151=0,\" \",COUNTRY_INFO!C151)))","v":" "},{"$f":"IF(INTRO!$E$39<>\"Non-endemic\", 0, IF(INTRO!$E$37=\"Non-endemic\",0,IF(COUNTRY_INFO!$H151=1,COUNTRY_INFO!E151,0)))","v":0},{"$f":"IF(INTRO!$E$39<>\"Non-endemic\", 0, IF(INTRO!$E$37=\"Non-endemic\",0,IF(COUNTRY_INFO!$H151=1,COUNTRY_INFO!F151,0)))","v":0},{"$f":"IF(INTRO!$E$39<>\"Non-endemic\", 0, IF(INTRO!$E$37=\"Non-endemic\",0,IF(COUNTRY_INFO!$H151=1,COUNTRY_INFO!G151,0)))","v":0},0,{"$f":"IF(INTRO!$E$39=\"Non-endemic\",IF(INTRO!$E$37=\"Non-endemic\",\"Not required\",COUNTRY_INFO!V151),\"Treat with IVM\")","v":"Treat with IVM"},0,0,null,0]
[{"$f":"IF(INTRO!$E$39<>\"Non-endemic\", \" \", IF(INTRO!$E$37=\"Non-endemic\",\" \", IF(COUNTRY_INFO!A152=0,\" \",COUNTRY_INFO!A152)))","v":" "},{"$f":"IF(INTRO!$E$39<>\"Non-endemic\", \" \", IF(INTRO!$E$37=\"Non-endemic\",\" \", IF(COUNTRY_INFO!B152=0,\" \",COUNTRY_INFO!B152)))","v":" "},{"$f":"IF(INTRO!$E$39<>\"Non-endemic\", \" \", IF(INTRO!$E$37=\"Non-endemic\",\" \", IF(COUNTRY_INFO!C152=0,\" \",COUNTRY_INFO!C152)))","v":" "},{"$f":"IF(INTRO!$E$39<>\"Non-endemic\", 0, IF(INTRO!$E$37=\"Non-endemic\",0,IF(COUNTRY_INFO!$H152=1,COUNTRY_INFO!E152,0)))","v":0},{"$f":"IF(INTRO!$E$39<>\"Non-endemic\", 0, IF(INTRO!$E$37=\"Non-endemic\",0,IF(COUNTRY_INFO!$H152=1,COUNTRY_INFO!F152,0)))","v":0},{"$f":"IF(INTRO!$E$39<>\"Non-endemic\", 0, IF(INTRO!$E$37=\"Non-endemic\",0,IF(COUNTRY_INFO!$H152=1,COUNTRY_INFO!G152,0)))","v":0},0,{"$f":"IF(INTRO!$E$39=\"Non-endemic\",IF(INTRO!$E$37=\"Non-endemic\",\"Not required\",COUNTRY_INFO!V152),\"Treat with IVM\")","v":"Treat with IVM"},0,0,null,0]
[{"$f":"IF(INTRO!$E$39<>\"Non-endemic\", \" \", IF(INTRO!$E$37=\"Non-endemic\",\" \", IF(COUNTRY_INFO!A153=0,\" \",COUNTRY_INFO!A153)))","v":" "},{"$f":"IF(INTRO!$E$39<>\"Non-endemic\", \" \", IF(INTRO!$E$37=\"Non-endemic\",\" \", IF(COUNTRY_INFO!B153=0,\" \",COUNTRY_INFO!B153)))","v":" "},{"$f":"IF(INTRO!$E$39<>\"Non-endemic\", \" \", IF(INTRO!$E$37=\"Non-endemic\",\" \", IF(COUNTRY_INFO!C153=0,\" \",COUNTRY_INFO!C153)))","v":" "},{"$f":"IF(INTRO!$E$39<>\"Non-endemic\", 0, IF(INTRO!$E$37=\"Non-endemic\",0,IF(COUNTRY_INFO!$H153=1,COUNTRY_INFO!E153,0)))","v":0},{"$f":"IF(INTRO!$E$39<>\"Non-endemic\", 0, IF(INTRO!$E$37=\"Non-endemic\",0,IF(COUNTRY_INFO!$H153=1,COUNTRY_INFO!F153,0)))","v":0},{"$f":"IF(INTRO!$E$39<>\"Non-endemic\", 0, IF(INTRO!$E$37=\"Non-endemic\",0,IF(COUNTRY_INFO!$H153=1,COUNTRY_INFO!G153,0)))","v":0},0,{"$f":"IF(INTRO!$E$39=\"Non-endemic\",IF(INTRO!$E$37=\"Non-endemic\",\"Not required\",COUNTRY_INFO!V153),\"Treat with IVM\")","v":"Treat with IVM"},0,0,null,0]
[{"$f":"IF(INTRO!$E$39<>\"Non-endemic\", \" \", IF(INTRO!$E$37=\"Non-endemic\",\" \", IF(COUNTRY_INFO!A154=0,\" \",COUNTRY_INFO!A154)))","v":" "},{"$f":"IF(INTRO!$E$39<>\"Non-endemic\", \" \", IF(INTRO!$E$37=\"Non-endemic\",\" \", IF(COUNTRY_INFO!B154=0,\" \",COUNTRY_INFO!B154)))","v":" "},{"$f":"IF(INTRO!$E$39<>\"Non-endemic\", \" \", IF(INTRO!$E$37=\"Non-endemic\",\" \", IF(COUNTRY_INFO!C154=0,\" \",COUNTRY_INFO!C154)))","v":" "},{"$f":"IF(INTRO!$E$39<>\"Non-endemic\", 0, IF(INTRO!$E$37=\"Non-endemic\",0,IF(COUNTRY_INFO!$H154=1,COUNTRY_INFO!E154,0)))","v":0},{"$f":"IF(INTRO!$E$39<>\"Non-endemic\", 0, IF(INTRO!$E$37=\"Non-endemic\",0,IF(COUNTRY_INFO!$H154=1,COUNTRY_INFO!F154,0)))","v":0},{"$f":"IF(INTRO!$E$39<>\"Non-endemic\", 0, IF(INTRO!$E$37=\"Non-endemic\",0,IF(COUNTRY_INFO!$H154=1,COUNTRY_INFO!G154,0)))","v":0},0,{"$f":"IF(INTRO!$E$39=\"Non-endemic\",IF(INTRO!$E$37=\"Non-endemic\",\"Not required\",COUNTRY_INFO!V154),\"Treat with IVM\")","v":"Treat with IVM"},0,0,null,0]
[{"$f":"IF(INTRO!$E$39<>\"Non-endemic\", \" \", IF(INTRO!$E$37=\"Non-endemic\",\" \", IF(COUNTRY_INFO!A155=0,\" \",COUNTRY_INFO!A155)))","v":" "},{"$f":"IF(INTRO!$E$39<>\"Non-endemic\", \" \", IF(INTRO!$E$37=\"Non-endemic\",\" \", IF(COUNTRY_INFO!B155=0,\" \",COUNTRY_INFO!B155)))","v":" "},{"$f":"IF(INTRO!$E$39<>\"Non-endemic\", \" \", IF(INTRO!$E$37=\"Non-endemic\",\" \", IF(COUNTRY_INFO!C155=0,\" \",COUNTRY_INFO!C155)))","v":" "},{"$f":"IF(INTRO!$E$39<>\"Non-endemic\", 0, IF(INTRO!$E$37=\"Non-endemic\",0,IF(COUNTRY_INFO!$H155=1,COUNTRY_INFO!E155,0)))","v":0},{"$f":"IF(INTRO!$E$39<>\"Non-endemic\", 0, IF(INTRO!$E$37=\"Non-endemic\",0,IF(COUNTRY_INFO!$H155=1,COUNTRY_INFO!F155,0)))","v":0},{"$f":"IF(INTRO!$E$39<>\"Non-endemic\", 0, IF(INTRO!$E$37=\"Non-endemic\",0,IF(COUNTRY_INFO!$H155=1,COUNTRY_INFO!G155,0)))","v":0},0,{"$f":"IF(INTRO!$E$39=\"Non-endemic\",IF(INTRO!$E$37=\"Non-endemic\",\"Not required\",COUNTRY_INFO!V155),\"Treat with IVM\")","v":"Treat with IVM"},0,0,null,0]

{"sheet":"ALB_MBD","index":3,"n_rows":155,"n_cols":21,"rows_kept":155,"cut":false,"hidden":false,"merged":[[5,12,5,17],[6,20,7,20],[5,18,5,20],[6,18,7,18],[6,19,7,19],[6,16,7,16],[6,17,7,17],[6,15,7,15],[6,12,7,12],[6,13,7,13],[6,14,7,14],[3,0,3,2],[3,3,3,4],[5,0,5,2],[5,3,5,4],[5,5,7,5],[6,0,7,0],[6,1,7,1],[6,2,7,2],[6,3,7,3],[6,4,7,4],[6,9,6,10],[6,11,7,11],[0,6,0,10],[1,6,1,7],[1,9,1,10],[5,6,5,11],[6,6,6,7]]}
["Albendazole (ALB) and Mebendazole (MBD)",null,null,null,null,null,"Select medicine for treatment of STH for each age group"]
["Administrative structure, eligible population by age group, treatment plan and information about tablets",null,null,null,null,null,"MBD",null,"MBD","MBD"]
[]
["TOTAL",null,null,null,null,{"$f":"SUBTOTAL(9,F$10:F$1010)","v":0},null,{"$f":"SUBTOTAL(9,H$10:H$1010)","v":6196216},13177862,null,10777921,30151999,0,0,0,0,0,0,30151999,0,30151999]
[]
["Country administrative structure",null,null,"Treatment plan",null,"People targeted by PELF with ALB","Target population for STH",null,null,null,null,null,"Albendazole (ALB)",null,null,null,null,null,"Mebendazole (MBD)"]
["Country","Province/State","District","LF","STH",null,"PreSAC",null,"SAC","WRA",null,"Total","Total required","Remaining in stock (LF)","Tablets to be procured (LF)","Total required","Remaining in stock (STH)","Tablets to be procured (STH)","Total required","Remaining in stock","Tablets to be procured"]
[null,null,null,null,null,null,"Rounds","People","People","Rounds","People"]
[]
[{"$f":"IF(AND(INTRO!$E$37=\"Non-endemic\",INTRO!$E$41=\"Non-endemic\"),\" \",IF(COUNTRY_INFO!A10=0,\" \",COUNTRY_INFO!A10))","v":"Uganda"},{"$f":"IF(AND(INTRO!$E$37=\"Non-endemic\",INTRO!$E$41=\"Non-endemic\"),\" \",IF(COUNTRY_INFO!B10=0,\" \",COUNTRY_INFO!B10))","v":"Central"},{"$f":"IF(AND(INTRO!$E$37=\"Non-endemic\",INTRO!$E$41=\"Non-endemic\"),\" \",IF(COUNTRY_INFO!C10=0,\" \",COUNTRY_INFO!C10))","v":"Buikwe"},{"$f":"IF(AND(INTRO!$E$37=\"Non-endemic\",INTRO!$E$41=\"Non-endemic\"),0,COUNTRY_INFO!V10)","v":0},{"$f":"IF(AND(INTRO!$E$37=\"Non-endemic\",INTRO!$E$41=\"Non-endemic\"),0,COUNTRY_INFO!X10)","v":1},{"$f":"IF(INTRO!$E$39=\"Non-endemic\",IF($D10=1,DEC!I10,0),IF($D10=1,IVM!G10,0))","v":0},null,{"$f":"IF(OR(COUNTRY_INFO!N10=\"Unknown\",COUNTRY_INFO!N10=\"Surveillance\",COUNTRY_INFO!N10=\"Not required\",COUNTRY_INFO!N10=0),0,IF(INTRO!$E$39=\"Non-endemic\",IF(AND($E10<>0,$G10=\"\"),IF($F10=0,COUNTRY_INFO!N10*$E10,COUNTRY_INFO!N10*($E10-$D10)),IF(AND($E10<>0,$G10<>0),IF($F10=0,COUNTRY_INFO!N10*$G10,COUNTRY_INFO!N10*($G10-$D10)),0)),IF($G10=\"\",COUNTRY_INFO!N10*$E10,COUNTRY_INFO!N10*$G10)))","v":83525},{"$f":"IF(OR(COUNTRY_INFO!O10=\"Unknown\",COUNTRY_INFO!O10=\"Surveillance\",COUNTRY_INFO!O10=\"Not required\",COUNTRY_INFO!O10=0),0,IF($E10<>0, IF($F10=0,COUNTRY_INFO!O10*$E10,COUNTRY_INFO!O10*($E10-$D10)),COUNTRY_INFO!O10*$E10))","v":177637},null,{"$f":"IF(OR(COUNTRY_INFO!P10=\"Unknown\",COUNTRY_INFO!P10=\"Surveillance\",COUNTRY_INFO!P10=\"Not required\",COUNTRY_INFO!P10=0),0,IF(AND($E10<>0,$J10=\"\"),IF($F10=0,COUNTRY_INFO!P10*$E10,COUNTRY_INFO!P10*($E10-$D10)), IF(AND($E10<>0,$J10<>0),IF($F10=0,COUNTRY_INFO!P10*$J10,COUNTRY_INFO!P10*($J10-$D10)), COUNTRY_INFO!P10*$J10)))","v":145286},{"$f":"ROUND($H10,0)+ROUND($I10,0)+ROUND($K10,0)","v":406448},{"$f":"$F10","v":0},null,{"$f":"IF($M10>$N10, $M10-$N10,0)","v":0},{"$f":"ROUND((IF($G$2=\"ALB\",$H10,0)+IF($I$2=\"ALB\",$I10,0)+IF($J$2=\"ALB\",$K10,0)),0)","v":0},0,{"$f":"IF($P10>$Q10,$P10-$Q10,0)","v":0},{"$f":"ROUND((IF($G$2=\"MBD\",$H10,0)+IF($I$2=\"MBD\",$I10,0)+IF($J$2=\"MBD\",$K10,0)),0)","v":406448},0,{"$f":"IF($S10>$T10,$S10-$T10,0)","v":406448}]
[{"$f":"IF(AND(INTRO!$E$37=\"Non-endemic\",INTRO!$E$41=\"Non-endemic\"),\" \",IF(COUNTRY_INFO!A11=0,\" \",COUNTRY_INFO!A11))","v":"Uganda"},{"$f":"IF(AND(INTRO!$E$37=\"Non-endemic\",INTRO!$E$41=\"Non-endemic\"),\" \",IF(COUNTRY_INFO!B11=0,\" \",COUNTRY_INFO!B11))","v":"Central"},{"$f":"IF(AND(INTRO!$E$37=\"Non-endemic\",INTRO!$E$41=\"Non-endemic\"),\" \",IF(COUNTRY_INFO!C11=0,\" \",COUNTRY_INFO!C11))","v":"Bukomansimbi"},{"$f":"IF(AND(INTRO!$E$37=\"Non-endemic\",INTRO!$E$41=\"Non-endemic\"),0,COUNTRY_INFO!V11)","v":0},{"$f":"IF(AND(INTRO!$E$37=\"Non-endemic\",INTRO!$E$41=\"Non-endemic\"),0,COUNTRY_INFO!X11)","v":1},{"$f":"IF(INTRO!$E$39=\"Non-endemic\",IF($D11=1,DEC!I11,0),IF($D11=1,IVM!G11,0))","v":0},null,{"$f":"IF(OR(COUNTRY_INFO!N11=\"Unknown\",COUNTRY_INFO!N11=\"Surveillance\",COUNTRY_INFO!N11=\"Not required\",COUNTRY_INFO!N11=0),0,IF(INTRO!$E$39=\"Non-endemic\",IF(AND($E11<>0,$G11=\"\"),IF($F11=0,COUNTRY_INFO!N11*$E11,COUNTRY_INFO!N11*($E11-$D11)),IF(AND($E11<>0,$G11<>0),IF($F11=0,COUNTRY_INFO!N11*$G11,COUNTRY_INFO!N11*($G11-$D11)),0)),IF($G11=\"\",COUNTRY_INFO!N11*$E11,COUNTRY_INFO!N11*$G11)))","v":28914},{"$f":"IF(OR(COUNTRY_INFO!O11=\"Unknown\",COUNTRY_INFO!O11=\"Surveillance\",COUNTRY_INFO!O11=\"Not required\",COUNTRY_INFO!O11=0),0,IF($E11<>0, IF($F11=0,COUNTRY_INFO!O11*$E11,COUNTRY_INFO!O11*($E11-$D11)),COUNTRY_INFO!O11*$E11))","v":61493},null,{"$f":"IF(OR(COUNTRY_INFO!P11=\"Unknown\",COUNTRY_INFO!P11=\"Surveillance\",COUNTRY_INFO!P11=\"Not required\",COUNTRY_INFO!P11=0),0,IF(AND($E11<>0,$J11=\"\"),IF($F11=0,COUNTRY_INFO!P11*$E11,COUNTRY_INFO!P11*($E11-$D11)), IF(AND($E11<>0,$J11<>0),IF($F11=0,COUNTRY_INFO!P11*$J11,COUNTRY_INFO!P11*($J11-$D11)), COUNTRY_INFO!P11*$J11)))","v":50294},140701,0,null,0,0,0,0,140701,0,140701]
[{"$f":"IF(AND(INTRO!$E$37=\"Non-endemic\",INTRO!$E$41=\"Non-endemic\"),\" \",IF(COUNTRY_INFO!A12=0,\" \",COUNTRY_INFO!A12))","v":"Uganda"},{"$f":"IF(AND(INTRO!$E$37=\"Non-endemic\",INTRO!$E$41=\"Non-endemic\"),\" \",IF(COUNTRY_INFO!B12=0,\" \",COUNTRY_INFO!B12))","v":"Central"},{"$f":"IF(AND(INTRO!$E$37=\"Non-endemic\",INTRO!$E$41=\"Non-endemic\"),\" \",IF(COUNTRY_INFO!C12=0,\" \",COUNTRY_INFO!C12))","v":"Butambala"},{"$f":"IF(AND(INTRO!$E$37=\"Non-endemic\",INTRO!$E$41=\"Non-endemic\"),0,COUNTRY_INFO!V12)","v":0},{"$f":"IF(AND(INTRO!$E$37=\"Non-endemic\",INTRO!$E$41=\"Non-endemic\"),0,COUNTRY_INFO!X12)","v":1},{"$f":"IF(INTRO!$E$39=\"Non-endemic\",IF($D12=1,DEC!I12,0),IF($D12=1,IVM!G12,0))","v":0},null,{"$f":"IF(OR(COUNTRY_INFO!N12=\"Unknown\",COUNTRY_INFO!N12=\"Surveillance\",COUNTRY_INFO!N12=\"Not required\",COUNTRY_INFO!N12=0),0,IF(INTRO!$E$39=\"Non-endemic\",IF(AND($E12<>0,$G12=\"\"),IF($F12=0,COUNTRY_INFO!N12*$E12,COUNTRY_INFO!N12*($E12-$D12)),IF(AND($E12<>0,$G12<>0),IF($F12=0,COUNTRY_INFO!N12*$G12,COUNTRY_INFO!N12*($G12-$D12)),0)),IF($G12=\"\",COUNTRY_INFO!N12*$E12,COUNTRY_INFO!N12*$G12)))","v":19228},{"$f":"IF(OR(COUNTRY_INFO!O12=\"Unknown\",COUNTRY_INFO!O12=\"Surveillance\",COUNTRY_INFO!O12=\"Not required\",COUNTRY_INFO!O12=0),0,IF($E12<>0, IF($F12=0,COUNTRY_INFO!O12*$E12,COUNTRY_INFO!O12*($E12-$D12)),COUNTRY_INFO!O12*$E12))","v":40894},null,{"$f":"IF(OR(COUNTRY_INFO!P12=\"Unknown\",COUNTRY_INFO!P12=\"Surveillance\",COUNTRY_INFO!P12=\"Not required\",COUNTRY_INFO!P12=0),0,IF(AND($E12<>0,$J12=\"\"),IF($F12=0,COUNTRY_INFO!P12*$E12,COUNTRY_INFO!P12*($E12-$D12)), IF(AND($E12<>0,$J12<>0),IF($F12=0,COUNTRY_INFO!P12*$J12,COUNTRY_INFO!P12*($J12-$D12)), COUNTRY_INFO!P12*$J12)))","v":33447},93569,0,null,0,0,0,0,93569,0,93569]
[{"$f":"IF(AND(INTRO!$E$37=\"Non-endemic\",INTRO!$E$41=\"Non-endemic\"),\" \",IF(COUNTRY_INFO!A13=0,\" \",COUNTRY_INFO!A13))","v":"Uganda"},{"$f":"IF(AND(INTRO!$E$37=\"Non-endemic\",INTRO!$E$41=\"Non-endemic\"),\" \",IF(COUNTRY_INFO!B13=0,\" \",COUNTRY_INFO!B13))","v":"Central"},{"$f":"IF(AND(INTRO!$E$37=\"Non-endemic\",INTRO!$E$41=\"Non-endemic\"),\" \",IF(COUNTRY_INFO!C13=0,\" \",COUNTRY_INFO!C13))","v":"Buvuma"},{"$f":"IF(AND(INTRO!$E$37=\"Non-endemic\",INTRO!$E$41=\"Non-endemic\"),0,COUNTRY_INFO!V13)","v":0},{"$f":"IF(AND(INTRO!$E$37=\"Non-endemic\",INTRO!$E$41=\"Non-endemic\"),0,COUNTRY_INFO!X13)","v":1},{"$f":"IF(INTRO!$E$39=\"Non-endemic\",IF($D13=1,DEC!I13,0),IF($D13=1,IVM!G13,0))","v":0},null,{"$f":"IF(OR(COUNTRY_INFO!N13=\"Unknown\",COUNTRY_INFO!N13=\"Surveillance\",COUNTRY_INFO!N13=\"Not required\",COUNTRY_INFO!N13=0),0,IF(INTRO!$E$39=\"Non-endemic\",IF(AND($E13<>0,$G13=\"\"),IF($F13=0,COUNTRY_INFO!N13*$E13,COUNTRY_INFO!N13*($E13-$D13)),IF(AND($E13<>0,$G13<>0),IF($F13=0,COUNTRY_INFO!N13*$G13,COUNTRY_INFO!N13*($G13-$D13)),0)),IF($G13=\"\",COUNTRY_INFO!N13*$E13,COUNTRY_INFO!N13*$G13)))","v":17218},{"$f":"IF(OR(COUNTRY_INFO!O13=\"Unknown\",COUNTRY_INFO!O13=\"Surveillance\",COUNTRY_INFO!O13=\"Not required\",COUNTRY_INFO!O13=0),0,IF($E13<>0, IF($F13=0,COUNTRY_INFO!O13*$E13,COUNTRY_INFO!O13*($E13-$D13)),COUNTRY_INFO!O13*$E13))","v":36620},null,{"$f":"IF(OR(COUNTRY_INFO!P13=\"Unknown\",COUNTRY_INFO!P13=\"Surveillance\",COUNTRY_INFO!P13=\"Not required\",COUNTRY_INFO!P13=0),0,IF(AND($E13<>0,$J13=\"\"),IF($F13=0,COUNTRY_INFO!P13*$E13,COUNTRY_INFO!P13*($E13-$D13)), IF(AND($E13<>0,$J13<>0),IF($F13=0,COUNTRY_INFO!P13*$J13,COUNTRY_INFO!P13*($J13-$D13)), COUNTRY_INFO!P13*$J13)))","v":29950},83788,0,null,0,0,0,0,83788,0,83788]
[{"$f":"IF(AND(INTRO!$E$37=\"Non-endemic\",INTRO!$E$41=\"Non-endemic\"),\" \",IF(COUNTRY_INFO!A14=0,\" \",COUNTRY_INFO!A14))","v":"Uganda"},{"$f":"IF(AND(INTRO!$E$37=\"Non-endemic\",INTRO!$E$41=\"Non-endemic\"),\" \",IF(COUNTRY_INFO!B14=0,\" \",COUNTRY_INFO!B14))","v":"Central"},{"$f":"IF(AND(INTRO!$E$37=\"Non-endemic\",INTRO!$E$41=\"Non-endemic\"),\" \",IF(COUNTRY_INFO!C14=0,\" \",COUNTRY_INFO!C14))","v":"Gomba"},{"$f":"IF(AND(INTRO!$E$37=\"Non-endemic\",INTRO!$E$41=\"Non-endemic\"),0,COUNTRY_INFO!V14)","v":0},{"$f":"IF(AND(INTRO!$E$37=\"Non-endemic\",INTRO!$E$41=\"Non-endemic\"),0,COUNTRY_INFO!X14)","v":1},{"$f":"IF(INTRO!$E$39=\"Non-endemic\",IF($D14=1,DEC!I14,0),IF($D14=1,IVM!G14,0))","v":0},null,{"$f":"IF(OR(COUNTRY_INFO!N14=\"Unknown\",COUNTRY_INFO!N14=\"Surveillance\",COUNTRY_INFO!N14=\"Not required\",COUNTRY_INFO!N14=0),0,IF(INTRO!$E$39=\"Non-endemic\",IF(AND($E14<>0,$G14=\"\"),IF($F14=0,COUNTRY_INFO!N14*$E14,COUNTRY_INFO!N14*($E14-$D14)),IF(AND($E14<>0,$G14<>0),IF($F14=0,COUNTRY_INFO!N14*$G14,COUNTRY_INFO!N14*($G14-$D14)),0)),IF($G14=\"\",COUNTRY_INFO!N14*$E14,COUNTRY_INFO!N14*$G14)))","v":30637},{"$f":"IF(OR(COUNTRY_INFO!O14=\"Unknown\",COUNTRY_INFO!O14=\"Surveillance\",COUNTRY_INFO!O14=\"Not required\",COUNTRY_INFO!O14=0),0,IF($E14<>0, IF($F14=0,COUNTRY_INFO!O14*$E14,COUNTRY_INFO!O14*($E14-$D14)),COUNTRY_INFO!O14*$E14))","v":65159},null,{"$f":"IF(OR(COUNTRY_INFO!P14=\"Unknown\",COUNTRY_INFO!P14=\"Surveillance\",COUNTRY_INFO!P14=\"Not required\",COUNTRY_INFO!P14=0),0,IF(AND($E14<>0,$J14=\"\"),IF($F14=0,COUNTRY_INFO!P14*$E14,COUNTRY_INFO!P14*($E14-$D14)), IF(AND($E14<>0,$J14<>0),IF($F14=0,COUNTRY_INFO!P14*$J14,COUNTRY_INFO!P14*($J14-$D14)), COUNTRY_INFO!P14*$J14)))","v":53292},149088,0,null,0,0,0,0,149088,0,149088]
[{"$f":"IF(AND(INTRO!$E$37=\"Non-endemic\",INTRO!$E$41=\"Non-endemic\"),\" \",IF(COUNTRY_INFO!A15=0,\" \",COUNTRY_INFO!A15))","v":"Uganda"},{"$f":"IF(AND(INTRO!$E$37=\"Non-endemic\",INTRO!$E$41=\"Non-endemic\"),\" \",IF(COUNTRY_INFO!B15=0,\" \",COUNTRY_INFO!B15))","v":"Central"},{"$f":"IF(AND(INTRO!$E$37=\"Non-endemic\",INTRO!$E$41=\"Non-endemic\"),\" \",IF(COUNTRY_INFO!C15=0,\" \",COUNTRY_INFO!C15))","v":"Kalangala"},{"$f":"IF(AND(INTRO!$E$37=\"Non-endemic\",INTRO!$E$41=\"Non-endemic\"),0,COUNTRY_INFO!V15)","v":0},{"$f":"IF(AND(INTRO!$E$37=\"Non-endemic\",INTRO!$E$41=\"Non-endemic\"),0,COUNTRY_INFO!X15)","v":1},{"$f":"IF(INTRO!$E$39=\"Non-endemic\",IF($D15=1,DEC!I15,0),IF($D15=1,IVM!G15,0))","v":0},null,{"$f":"IF(OR(COUNTRY_INFO!N15=\"Unknown\",COUNTRY_INFO!N15=\"Surveillance\",COUNTRY_INFO!N15=\"Not required\",COUNTRY_INFO!N15=0),0,IF(INTRO!$E$39=\"Non-endemic\",IF(AND($E15<>0,$G15=\"\"),IF($F15=0,COUNTRY_INFO!N15*$E15,COUNTRY_INFO!N15*($E15-$D15)),IF(AND($E15<>0,$G15<>0),IF($F15=0,COUNTRY_INFO!N15*$G15,COUNTRY_INFO!N15*($G15-$D15)),0)),IF($G15=\"\",COUNTRY_INFO!N15*$E15,COUNTRY_INFO!N15*$G15)))","v":10223},{"$f":"IF(OR(COUNTRY_INFO!O15=\"Unknown\",COUNTRY_INFO!O15=\"Surveillance\",COUNTRY_INFO!O15=\"Not required\",COUNTRY_INFO!O15=0),0,IF($E15<>0, IF($F15=0,COUNTRY_INFO!O15*$E15,COUNTRY_INFO!O15*($E15-$D15)),COUNTRY_INFO!O15*$E15))","v":21741},null,{"$f":"IF(OR(COUNTRY_INFO!P15=\"Unknown\",COUNTRY_INFO!P15=\"Surveillance\",COUNTRY_INFO!P15=\"Not required\",COUNTRY_INFO!P15=0),0,IF(AND($E15<>0,$J15=\"\"),IF($F15=0,COUNTRY_INFO!P15*$E15,COUNTRY_INFO!P15*($E15-$D15)), IF(AND($E15<>0,$J15<>0),IF($F15=0,COUNTRY_INFO!P15*$J15,COUNTRY_INFO!P15*($J15-$D15)), COUNTRY_INFO!P15*$J15)))","v":17782},49746,0,null,0,0,0,0,49746,0,49746]
[{"$f":"IF(AND(INTRO!$E$37=\"Non-endemic\",INTRO!$E$41=\"Non-endemic\"),\" \",IF(COUNTRY_INFO!A16=0,\" \",COUNTRY_INFO!A16))","v":"Uganda"},{"$f":"IF(AND(INTRO!$E$37=\"Non-endemic\",INTRO!$E$41=\"Non-endemic\"),\" \",IF(COUNTRY_INFO!B16=0,\" \",COUNTRY_INFO!B16))","v":"Central"},{"$f":"IF(AND(INTRO!$E$37=\"Non-endemic\",INTRO!$E$41=\"Non-endemic\"),\" \",IF(COUNTRY_INFO!C16=0,\" \",COUNTRY_INFO!C16))","v":"Kalungu"},{"$f":"IF(AND(INTRO!$E$37=\"Non-endemic\",INTRO!$E$41=\"Non-endemic\"),0,COUNTRY_INFO!V16)","v":0},{"$f":"IF(AND(INTRO!$E$37=\"Non-endemic\",INTRO!$E$41=\"Non-endemic\"),0,COUNTRY_INFO!X16)","v":1},{"$f":"IF(INTRO!$E$39=\"Non-endemic\",IF($D16=1,DEC!I16,0),IF($D16=1,IVM!G16,0))","v":0},null,{"$f":"IF(OR(COUNTRY_INFO!N16=\"Unknown\",COUNTRY_INFO!N16=\"Surveillance\",COUNTRY_INFO!N16=\"Not required\",COUNTRY_INFO!N16=0),0,IF(INTRO!$E$39=\"Non-endemic\",IF(AND($E16<>0,$G16=\"\"),IF($F16=0,COUNTRY_INFO!N16*$E16,COUNTRY_INFO!N16*($E16-$D16)),IF(AND($E16<>0,$G16<>0),IF($F16=0,COUNTRY_INFO!N16*$G16,COUNTRY_INFO!N16*($G16-$D16)),0)),IF($G16=\"\",COUNTRY_INFO!N16*$E16,COUNTRY_INFO!N16*$G16)))","v":35241},{"$f":"IF(OR(COUNTRY_INFO!O16=\"Unknown\",COUNTRY_INFO!O16=\"Surveillance\",COUNTRY_INFO!O16=\"Not required\",COUNTRY_INFO!O16=0),0,IF($E16<>0, IF($F16=0,COUNTRY_INFO!O16*$E16,COUNTRY_INFO!O16*($E16-$D16)),COUNTRY_INFO!O16*$E16))","v":74949},null,{"$f":"IF(OR(COUNTRY_INFO!P16=\"Unknown\",COUNTRY_INFO!P16=\"Surveillance\",COUNTRY_INFO!P16=\"Not required\",COUNTRY_INFO!P16=0),0,IF(AND($E16<>0,$J16=\"\"),IF($F16=0,COUNTRY_INFO!P16*$E16,COUNTRY_INFO!P16*($E16-$D16)), IF(AND($E16<>0,$J16<>0),IF($F16=0,COUNTRY_INFO!P16*$J16,COUNTRY_INFO!P16*($J16-$D16)), COUNTRY_INFO!P16*$J16)))","v":61299},171489,0,null,0,0,0,0,171489,0,171489]
[{"$f":"IF(AND(INTRO!$E$37=\"Non-endemic\",INTRO!$E$41=\"Non-endemic\"),\" \",IF(COUNTRY_INFO!A17=0,\" \",COUNTRY_INFO!A17))","v":"Uganda"},{"$f":"IF(AND(INTRO!$E$37=\"Non-endemic\",INTRO!$E$41=\"Non-endemic\"),\" \",IF(COUNTRY_INFO!B17=0,\" \",COUNTRY_INFO!B17))","v":"Central"},{"$f":"IF(AND(INTRO!$E$37=\"Non-endemic\",INTRO!$E$41=\"Non-endemic\"),\" \",IF(COUNTRY_INFO!C17=0,\" \",COUNTRY_INFO!C17))","v":"Kampala"},{"$f":"IF(AND(INTRO!$E$37=\"Non-endemic\",INTRO!$E$41=\"Non-endemic\"),0,COUNTRY_INFO!V17)","v":0},{"$f":"IF(AND(INTRO!$E$37=\"Non-endemic\",INTRO!$E$41=\"Non-endemic\"),0,COUNTRY_INFO!X17)","v":1},{"$f":"IF(INTRO!$E$39=\"Non-endemic\",IF($D17=1,DEC!I17,0),IF($D17=1,IVM!G17,0))","v":0},null,{"$f":"IF(OR(COUNTRY_INFO!N17=\"Unknown\",COUNTRY_INFO!N17=\"Surveillance\",COUNTRY_INFO!N17=\"Not required\",COUNTRY_INFO!N17=0),0,IF(INTRO!$E$39=\"Non-endemic\",IF(AND($E17<>0,$G17=\"\"),IF($F17=0,COUNTRY_INFO!N17*$E17,COUNTRY_INFO!N17*($E17-$D17)),IF(AND($E17<>0,$G17<>0),IF($F17=0,COUNTRY_INFO!N17*$G17,COUNTRY_INFO!N17*($G17-$D17)),0)),IF($G17=\"\",COUNTRY_INFO!N17*$E17,COUNTRY_INFO!N17*$G17)))","v":290192},{"$f":"IF(OR(COUNTRY_INFO!O17=\"Unknown\",COUNTRY_INFO!O17=\"Surveillance\",COUNTRY_INFO!O17=\"Not required\",COUNTRY_INFO!O17=0),0,IF($E17<>0, IF($F17=0,COUNTRY_INFO!O17*$E17,COUNTRY_INFO!O17*($E17-$D17)),COUNTRY_INFO!O17*$E17))","v":617170},null,{"$f":"IF(OR(COUNTRY_INFO!P17=\"Unknown\",COUNTRY_INFO!P17=\"Surveillance\",COUNTRY_INFO!P17=\"Not required\",COUNTRY_INFO!P17=0),0,IF(AND($E17<>0,$J17=\"\"),IF($F17=0,COUNTRY_INFO!P17*$E17,COUNTRY_INFO!P17*($E17-$D17)), IF(AND($E17<>0,$J17<>0),IF($F17=0,COUNTRY_INFO!P17*$J17,COUNTRY_INFO!P17*($J17-$D17)), COUNTRY_INFO!P17*$J17)))","v":504771},1412133,0,null,0,0,0,0,1412133,0,1412133]
[{"$f":"IF(AND(INTRO!$E$37=\"Non-endemic\",INTRO!$E$41=\"Non-endemic\"),\" \",IF(COUNTRY_INFO!A18=0,\" \",COUNTRY_INFO!A18))","v":"Uganda"},{"$f":"IF(AND(INTRO!$E$37=\"Non-endemic\",INTRO!$E$41=\"Non-endemic\"),\" \",IF(COUNTRY_INFO!B18=0,\" \",COUNTRY_INFO!B18))","v":"Central"},{"$f":"IF(AND(INTRO!$E$37=\"Non-endemic\",INTRO!$E$41=\"Non-endemic\"),\" \",IF(COUNTRY_INFO!C18=0,\" \",COUNTRY_INFO!C18))","v":"Kassanda"},{"$f":"IF(AND(INTRO!$E$37=\"Non-endemic\",INTRO!$E$41=\"Non-endemic\"),0,COUNTRY_INFO!V18)","v":0},{"$f":"IF(AND(INTRO!$E$37=\"Non-endemic\",INTRO!$E$41=\"Non-endemic\"),0,COUNTRY_INFO!X18)","v":1},{"$f":"IF(INTRO!$E$39=\"Non-endemic\",IF($D18=1,DEC!I18,0),IF($D18=1,IVM!G18,0))","v":0},null,{"$f":"IF(OR(COUNTRY_INFO!N18=\"Unknown\",COUNTRY_INFO!N18=\"Surveillance\",COUNTRY_INFO!N18=\"Not required\",COUNTRY_INFO!N18=0),0,IF(INTRO!$E$39=\"Non-endemic\",IF(AND($E18<>0,$G18=\"\"),IF($F18=0,COUNTRY_INFO!N18*$E18,COUNTRY_INFO!N18*($E18-$D18)),IF(AND($E18<>0,$G18<>0),IF($F18=0,COUNTRY_INFO!N18*$G18,COUNTRY_INFO!N18*($G18-$D18)),0)),IF($G18=\"\",COUNTRY_INFO!N18*$E18,COUNTRY_INFO!N18*$G18)))","v":52684},{"$f":"IF(OR(COUNTRY_INFO!O18=\"Unknown\",COUNTRY_INFO!O18=\"Surveillance\",COUNTRY_INFO!O18=\"Not required\",COUNTRY_INFO!O18=0),0,IF($E18<>0, IF($F18=0,COUNTRY_INFO!O18*$E18,COUNTRY_INFO!O18*($E18-$D18)),COUNTRY_INFO!O18*$E18))","v":112046},null,{"$f":"IF(OR(COUNTRY_INFO!P18=\"Unknown\",COUNTRY_INFO!P18=\"Surveillance\",COUNTRY_INFO!P18=\"Not required\",COUNTRY_INFO!P18=0),0,IF(AND($E18<>0,$J18=\"\"),IF($F18=0,COUNTRY_INFO!P18*$E18,COUNTRY_INFO!P18*($E18-$D18)), IF(AND($E18<>0,$J18<>0),IF($F18=0,COUNTRY_INFO!P18*$J18,COUNTRY_INFO!P18*($J18-$D18)), COUNTRY_INFO!P18*$J18)))","v":91640},256370,0,null,0,0,0,0,256370,0,256370]
[{"$f":"IF(AND(INTRO!$E$37=\"Non-endemic\",INTRO!$E$41=\"Non-endemic\"),\" \",IF(COUNTRY_INFO!A19=0,\" \",COUNTRY_INFO!A19))","v":"Uganda"},{"$f":"IF(AND(INTRO!$E$37=\"Non-endemic\",INTRO!$E$41=\"Non-endemic\"),\" \",IF(COUNTRY_INFO!B19=0,\" \",COUNTRY_INFO!B19))","v":"Central"},{"$f":"IF(AND(INTRO!$E$37=\"Non-endemic\",INTRO!$E$41=\"Non-endemic\"),\" \",IF(COUNTRY_INFO!C19=0,\" \",COUNTRY_INFO!C19))","v":"Kayunga"},{"$f":"IF(AND(INTRO!$E$37=\"Non-endemic\",INTRO!$E$41=\"Non-endemic\"),0,COUNTRY_INFO!V19)","v":0},{"$f":"IF(AND(INTRO!$E$37=\"Non-endemic\",INTRO!$E$41=\"Non-endemic\"),0,COUNTRY_INFO!X19)","v":1},{"$f":"IF(INTRO!$E$39=\"Non-endemic\",IF($D19=1,DEC!I19,0),IF($D19=1,IVM!G19,0))","v":0},null,{"$f":"IF(OR(COUNTRY_INFO!N19=\"Unknown\",COUNTRY_INFO!N19=\"Surveillance\",COUNTRY_INFO!N19=\"Not required\",COUNTRY_INFO!N19=0),0,IF(INTRO!$E$39=\"Non-endemic\",IF(AND($E19<>0,$G19=\"\"),IF($F19=0,COUNTRY_INFO!N19*$E19,COUNTRY_INFO!N19*($E19-$D19)),IF(AND($E19<>0,$G19<>0),IF($F19=0,COUNTRY_INFO!N19*$G19,COUNTRY_INFO!N19*($G19-$D19)),0)),IF($G19=\"\",COUNTRY_INFO!N19*$E19,COUNTRY_INFO!N19*$G19)))","v":70856},{"$f":"IF(OR(COUNTRY_INFO!O19=\"Unknown\",COUNTRY_INFO!O19=\"Surveillance\",COUNTRY_INFO!O19=\"Not required\",COUNTRY_INFO!O19=0),0,IF($E19<>0, IF($F19=0,COUNTRY_INFO!O19*$E19,COUNTRY_INFO!O19*($E19-$D19)),COUNTRY_INFO!O19*$E19))","v":150693},null,{"$f":"IF(OR(COUNTRY_INFO!P19=\"Unknown\",COUNTRY_INFO!P19=\"Surveillance\",COUNTRY_INFO!P19=\"Not required\",COUNTRY_INFO!P19=0),0,IF(AND($E19<>0,$J19=\"\"),IF($F19=0,COUNTRY_INFO!P19*$E19,COUNTRY_INFO!P19*($E19-$D19)), IF(AND($E19<>0,$J19<>0),IF($F19=0,COUNTRY_INFO!P19*$J19,COUNTRY_INFO!P19*($J19-$D19)), COUNTRY_INFO!P19*$J19)))","v":123249},344798,0,null,0,0,0,0,344798,0,344798]
[{"$f":"IF(AND(INTRO!$E$37=\"Non-endemic\",INTRO!$E$41=\"Non-endemic\"),\" \",IF(COUNTRY_INFO!A20=0,\" \",COUNTRY_INFO!A20))","v":"Uganda"},{"$f":"IF(AND(INTRO!$E$37=\"Non-endemic\",INTRO!$E$41=\"Non-endemic\"),\" \",IF(COUNTRY_INFO!B20=0,\" \",COUNTRY_INFO!B20))","v":"Central"},{"$f":"IF(AND(INTRO!$E$37=\"Non-endemic\",INTRO!$E$41=\"Non-endemic\"),\" \",IF(COUNTRY_INFO!C20=0,\" \",COUNTRY_INFO!C20))","v":"Kiboga"},{"$f":"IF(AND(INTRO!$E$37=\"Non-endemic\",INTRO!$E$41=\"Non-endemic\"),0,COUNTRY_INFO!V20)","v":0},{"$f":"IF(AND(INTRO!$E$37=\"Non-endemic\",INTRO!$E$41=\"Non-endemic\"),0,COUNTRY_INFO!X20)","v":1},{"$f":"IF(INTRO!$E$39=\"Non-endemic\",IF($D20=1,DEC!I20,0),IF($D20=1,IVM!G20,0))","v":0},null,{"$f":"IF(OR(COUNTRY_INFO!N20=\"Unknown\",COUNTRY_INFO!N20=\"Surveillance\",COUNTRY_INFO!N20=\"Not required\",COUNTRY_INFO!N20=0),0,IF(INTRO!$E$39=\"Non-endemic\",IF(AND($E20<>0,$G20=\"\"),IF($F20=0,COUNTRY_INFO!N20*$E20,COUNTRY_INFO!N20*($E20-$D20)),IF(AND($E20<>0,$G20<>0),IF($F20=0,COUNTRY_INFO!N20*$G20,COUNTRY_INFO!N20*($G20-$D20)),0)),IF($G20=\"\",COUNTRY_INFO!N20*$E20,COUNTRY_INFO!N20*$G20)))","v":28368},{"$f":"IF(OR(COUNTRY_INFO!O20=\"Unknown\",COUNTRY_INFO!O20=\"Surveillance\",COUNTRY_INFO!O20=\"Not required\",COUNTRY_INFO!O20=0),0,IF($E20<>0, IF($F20=0,COUNTRY_INFO!O20*$E20,COUNTRY_INFO!O20*($E20-$D20)),COUNTRY_INFO!O20*$E20))","v":60331},null,{"$f":"IF(OR(COUNTRY_INFO!P20=\"Unknown\",COUNTRY_INFO!P20=\"Surveillance\",COUNTRY_INFO!P20=\"Not required\",COUNTRY_INFO!P20=0),0,IF(AND($E20<>0,$J20=\"\"),IF($F20=0,COUNTRY_INFO!P20*$E20,COUNTRY_INFO!P20*($E20-$D20)), IF(AND($E20<>0,$J20<>0),IF($F20=0,COUNTRY_INFO!P20*$J20,COUNTRY_INFO!P20*($J20-$D20)), COUNTRY_INFO!P20*$J20)))","v":49344},138043,0,null,0,0,0,0,138043,0,138043]
[{"$f":"IF(AND(INTRO!$E$37=\"Non-endemic\",INTRO!$E$41=\"Non-endemic\"),\" \",IF(COUNTRY_INFO!A21=0,\" \",COUNTRY_INFO!A21))","v":"Uganda"},{"$f":"IF(AND(INTRO!$E$37=\"Non-endemic\",INTRO!$E$41=\"Non-endemic\"),\" \",IF(COUNTRY_INFO!B21=0,\" \",COUNTRY_INFO!B21))","v":"Central"},{"$f":"IF(AND(INTRO!$E$37=\"Non-endemic\",INTRO!$E$41=\"Non-endemic\"),\" \",IF(COUNTRY_INFO!C21=0,\" \",COUNTRY_INFO!C21))","v":"Kyankwanzi"},{"$f":"IF(AND(INTRO!$E$37=\"Non-endemic\",INTRO!$E$41=\"Non-endemic\"),0,COUNTRY_INFO!V21)","v":0},{"$f":"IF(AND(INTRO!$E$37=\"Non-endemic\",INTRO!$E$41=\"Non-endemic\"),0,COUNTRY_INFO!X21)","v":1},{"$f":"IF(INTRO!$E$39=\"Non-endemic\",IF($D21=1,DEC!I21,0),IF($D21=1,IVM!G21,0))","v":0},null,{"$f":"IF(OR(COUNTRY_INFO!N21=\"Unknown\",COUNTRY_INFO!N21=\"Surveillance\",COUNTRY_INFO!N21=\"Not required\",COUNTRY_INFO!N21=0),0,IF(INTRO!$E$39=\"Non-endemic\",IF(AND($E21<>0,$G21=\"\"),IF($F21=0,COUNTRY_INFO!N21*$E21,COUNTRY_INFO!N21*($E21-$D21)),IF(AND($E21<>0,$G21<>0),IF($F21=0,COUNTRY_INFO!N21*$G21,COUNTRY_INFO!N21*($G21-$D21)),0)),IF($G21=\"\",COUNTRY_INFO!N21*$E21,COUNTRY_INFO!N21*$G21)))","v":41091},{"$f":"IF(OR(COUNTRY_INFO!O21=\"Unknown\",COUNTRY_INFO!O21=\"Surveillance\",COUNTRY_INFO!O21=\"Not required\",COUNTRY_INFO!O21=0),0,IF($E21<>0, IF($F21=0,COUNTRY_INFO!O21*$E21,COUNTRY_INFO!O21*($E21-$D21)),COUNTRY_INFO!O21*$E21))","v":87391},null,{"$f":"IF(OR(COUNTRY_INFO!P21=\"Unknown\",COUNTRY_INFO!P21=\"Surveillance\",COUNTRY_INFO!P21=\"Not required\",COUNTRY_INFO!P21=0),0,IF(AND($E21<>0,$J21=\"\"),IF($F21=0,COUNTRY_INFO!P21*$E21,COUNTRY_INFO!P21*($E21-$D21)), IF(AND($E21<>0,$J21<>0),IF($F21=0,COUNTRY_INFO!P21*$J21,COUNTRY_INFO!P21*($J21-$D21)), COUNTRY_INFO!P21*$J21)))","v":71475},199957,0,null,0,0,0,0,199957,0,199957]
[{"$f":"IF(AND(INTRO!$E$37=\"Non-endemic\",INTRO!$E$41=\"Non-endemic\"),\" \",IF(COUNTRY_INFO!A22=0,\" \",COUNTRY_INFO!A22))","v":"Uganda"},{"$f":"IF(AND(INTRO!$E$37=\"Non-endemic\",INTRO!$E$41=\"Non-endemic\"),\" \",IF(COUNTRY_INFO!B22=0,\" \",COUNTRY_INFO!B22))","v":"Central"},{"$f":"IF(AND(INTRO!$E$37=\"Non-endemic\",INTRO!$E$41=\"Non-endemic\"),\" \",IF(COUNTRY_INFO!C22=0,\" \",COUNTRY_INFO!C22))","v":"Kyotera"},{"$f":"IF(AND(INTRO!$E$37=\"Non-endemic\",INTRO!$E$41=\"Non-endemic\"),0,COUNTRY_INFO!V22)","v":0},{"$f":"IF(AND(INTRO!$E$37=\"Non-endemic\",INTRO!$E$41=\"Non-endemic\"),0,COUNTRY_INFO!X22)","v":1},{"$f":"IF(INTRO!$E$39=\"Non-endemic\",IF($D22=1,DEC!I22,0),IF($D22=1,IVM!G22,0))","v":0},null,{"$f":"IF(OR(COUNTRY_INFO!N22=\"Unknown\",COUNTRY_INFO!N22=\"Surveillance\",COUNTRY_INFO!N22=\"Not required\",COUNTRY_INFO!N22=0),0,IF(INTRO!$E$39=\"Non-endemic\",IF(AND($E22<>0,$G22=\"\"),IF($F22=0,COUNTRY_INFO!N22*$E22,COUNTRY_INFO!N22*($E22-$D22)),IF(AND($E22<>0,$G22<>0),IF($F22=0,COUNTRY_INFO!N22*$G22,COUNTRY_INFO!N22*($G22-$D22)),0)),IF($G22=\"\",COUNTRY_INFO!N22*$E22,COUNTRY_INFO!N22*$G22)))","v":30990},{"$f":"IF(OR(COUNTRY_INFO!O22=\"Unknown\",COUNTRY_INFO!O22=\"Surveillance\",COUNTRY_INFO!O22=\"Not required\",COUNTRY_INFO!O22=0),0,IF($E22<>0, IF($F22=0,COUNTRY_INFO!O22*$E22,COUNTRY_INFO!O22*($E22-$D22)),COUNTRY_INFO!O22*$E22))","v":65908},null,{"$f":"IF(OR(COUNTRY_INFO!P22=\"Unknown\",COUNTRY_INFO!P22=\"Surveillance\",COUNTRY_INFO!P22=\"Not required\",COUNTRY_INFO!P22=0),0,IF(AND($E22<>0,$J22=\"\"),IF($F22=0,COUNTRY_INFO!P22*$E22,COUNTRY_INFO!P22*($E22-$D22)), IF(AND($E22<>0,$J22<>0),IF($F22=0,COUNTRY_INFO!P22*$J22,COUNTRY_INFO!P22*($J22-$D22)), COUNTRY_INFO!P22*$J22)))","v":53905},150803,0,null,0,0,0,0,150803,0,150803]
[{"$f":"IF(AND(INTRO!$E$37=\"Non-endemic\",INTRO!$E$41=\"Non-endemic\"),\" \",IF(COUNTRY_INFO!A23=0,\" \",COUNTRY_INFO!A23))","v":"Uganda"},{"$f":"IF(AND(INTRO!$E$37=\"Non-endemic\",INTRO!$E$41=\"Non-endemic\"),\" \",IF(COUNTRY_INFO!B23=0,\" \",COUNTRY_INFO!B23))","v":"Central"},{"$f":"IF(AND(INTRO!$E$37=\"Non-endemic\",INTRO!$E$41=\"Non-endemic\"),\" \",IF(COUNTRY_INFO!C23=0,\" \",COUNTRY_INFO!C23))","v":"Luwero"},{"$f":"IF(AND(INTRO!$E$37=\"Non-endemic\",INTRO!$E$41=\"Non-endemic\"),0,COUNTRY_INFO!V23)","v":0},{"$f":"IF(AND(INTRO!$E$37=\"Non-endemic\",INTRO!$E$41=\"Non-endemic\"),0,COUNTRY_INFO!X23)","v":1},{"$f":"IF(INTRO!$E$39=\"Non-endemic\",IF($D23=1,DEC!I23,0),IF($D23=1,IVM!G23,0))","v":0},null,{"$f":"IF(OR(COUNTRY_INFO!N23=\"Unknown\",COUNTRY_INFO!N23=\"Surveillance\",COUNTRY_INFO!N23=\"Not required\",COUNTRY_INFO!N23=0),0,IF(INTRO!$E$39=\"Non-endemic\",IF(AND($E23<>0,$G23=\"\"),IF($F23=0,COUNTRY_INFO!N23*$E23,COUNTRY_INFO!N23*($E23-$D23)),IF(AND($E23<>0,$G23<>0),IF($F23=0,COUNTRY_INFO!N23*$G23,COUNTRY_INFO!N23*($G23-$D23)),0)),IF($G23=\"\",COUNTRY_INFO!N23*$E23,COUNTRY_INFO!N23*$G23)))","v":87458},{"$f":"IF(OR(COUNTRY_INFO!O23=\"Unknown\",COUNTRY_INFO!O23=\"Surveillance\",COUNTRY_INFO!O23=\"Not required\",COUNTRY_INFO!O23=0),0,IF($E23<>0, IF($F23=0,COUNTRY_INFO!O23*$E23,COUNTRY_INFO!O23*($E23-$D23)),COUNTRY_INFO!O23*$E23))","v":186003},null,{"$f":"IF(OR(COUNTRY_INFO!P23=\"Unknown\",COUNTRY_INFO!P23=\"Surveillance\",COUNTRY_INFO!P23=\"Not required\",COUNTRY_INFO!P23=0),0,IF(AND($E23<>0,$J23=\"\"),IF($F23=0,COUNTRY_INFO!P23*$E23,COUNTRY_INFO!P23*($E23-$D23)), IF(AND($E23<>0,$J23<>0),IF($F23=0,COUNTRY_INFO!P23*$J23,COUNTRY_INFO!P23*($J23-$D23)), COUNTRY_INFO!P23*$J23)))","v":152128},425589,0,null,0,0,0,0,425589,0,425589]
[{"$f":"IF(AND(INTRO!$E$37=\"Non-endemic\",INTRO!$E$41=\"Non-endemic\"),\" \",IF(COUNTRY_INFO!A24=0,\" \",COUNTRY_INFO!A24))","v":"Uganda"},{"$f":"IF(AND(INTRO!$E$37=\"Non-endemic\",INTRO!$E$41=\"Non-endemic\"),\" \",IF(COUNTRY_INFO!B24=0,\" \",COUNTRY_INFO!B24))","v":"Central"},{"$f":"IF(AND(INTRO!$E$37=\"Non-endemic\",INTRO!$E$41=\"Non-endemic\"),\" \",IF(COUNTRY_INFO!C24=0,\" \",COUNTRY_INFO!C24))","v":"Lwengo"},{"$f":"IF(AND(INTRO!$E$37=\"Non-endemic\",INTRO!$E$41=\"Non-endemic\"),0,COUNTRY_INFO!V24)","v":0},{"$f":"IF(AND(INTRO!$E$37=\"Non-endemic\",INTRO!$E$41=\"Non-endemic\"),0,COUNTRY_INFO!X24)","v":1},{"$f":"IF(INTRO!$E$39=\"Non-endemic\",IF($D24=1,DEC!I24,0),IF($D24=1,IVM!G24,0))","v":0},null,{"$f":"IF(OR(COUNTRY_INFO!N24=\"Unknown\",COUNTRY_INFO!N24=\"Surveillance\",COUNTRY_INFO!N24=\"Not required\",COUNTRY_INFO!N24=0),0,IF(INTRO!$E$39=\"Non-endemic\",IF(AND($E24<>0,$G24=\"\"),IF($F24=0,COUNTRY_INFO!N24*$E24,COUNTRY_INFO!N24*($E24-$D24)),IF(AND($E24<>0,$G24<>0),IF($F24=0,COUNTRY_INFO!N24*$G24,COUNTRY_INFO!N24*($G24-$D24)),0)),IF($G24=\"\",COUNTRY_INFO!N24*$E24,COUNTRY_INFO!N24*$G24)))","v":52719},{"$f":"IF(OR(COUNTRY_INFO!O24=\"Unknown\",COUNTRY_INFO!O24=\"Surveillance\",COUNTRY_INFO!O24=\"Not required\",COUNTRY_INFO!O24=0),0,IF($E24<>0, IF($F24=0,COUNTRY_INFO!O24*$E24,COUNTRY_INFO!O24*($E24-$D24)),COUNTRY_INFO!O24*$E24))","v":112121},null,{"$f":"IF(OR(COUNTRY_INFO!P24=\"Unknown\",COUNTRY_INFO!P24=\"Surveillance\",COUNTRY_INFO!P24=\"Not required\",COUNTRY_INFO!P24=0),0,IF(AND($E24<>0,$J24=\"\"),IF($F24=0,COUNTRY_INFO!P24*$E24,COUNTRY_INFO!P24*($E24-$D24)), IF(AND($E24<>0,$J24<>0),IF($F24=0,COUNTRY_INFO!P24*$J24,COUNTRY_INFO!P24*($J24-$D24)), COUNTRY_INFO!P24*$J24)))","v":91701},256541,0,null,0,0,0,0,256541,0,256541]
[{"$f":"IF(AND(INTRO!$E$37=\"Non-endemic\",INTRO!$E$41=\"Non-endemic\"),\" \",IF(COUNTRY_INFO!A25=0,\" \",COUNTRY_INFO!A25))","v":"Uganda"},{"$f":"IF(AND(INTRO!$E$37=\"Non-endemic\",INTRO!$E$41=\"Non-endemic\"),\" \",IF(COUNTRY_INFO!B25=0,\" \",COUNTRY_INFO!B25))","v":"Central"},{"$f":"IF(AND(INTRO!$E$37=\"Non-endemic\",INTRO!$E$41=\"Non-endemic\"),\" \",IF(COUNTRY_INFO!C25=0,\" \",COUNTRY_INFO!C25))","v":"Lyantonde"},{"$f":"IF(AND(INTRO!$E$37=\"Non-endemic\",INTRO!$E$41=\"Non-endemic\"),0,COUNTRY_INFO!V25)","v":0},{"$f":"IF(AND(INTRO!$E$37=\"Non-endemic\",INTRO!$E$41=\"Non-endemic\"),0,COUNTRY_INFO!X25)","v":1},{"$f":"IF(INTRO!$E$39=\"Non-endemic\",IF($D25=1,DEC!I25,0),IF($D25=1,IVM!G25,0))","v":0},null,{"$f":"IF(OR(COUNTRY_INFO!N25=\"Unknown\",COUNTRY_INFO!N25=\"Surveillance\",COUNTRY_INFO!N25=\"Not required\",COUNTRY_INFO!N25=0),0,IF(INTRO!$E$39=\"Non-endemic\",IF(AND($E25<>0,$G25=\"\"),IF($F25=0,COUNTRY_INFO!N25*$E25,COUNTRY_INFO!N25*($E25-$D25)),IF(AND($E25<>0,$G25<>0),IF($F25=0,COUNTRY_INFO!N25*$G25,COUNTRY_INFO!N25*($G25-$D25)),0)),IF($G25=\"\",COUNTRY_INFO!N25*$E25,COUNTRY_INFO!N25*$G25)))","v":18101},{"$f":"IF(OR(COUNTRY_INFO!O25=\"Unknown\",COUNTRY_INFO!O25=\"Surveillance\",COUNTRY_INFO!O25=\"Not required\",COUNTRY_INFO!O25=0),0,IF($E25<>0, IF($F25=0,COUNTRY_INFO!O25*$E25,COUNTRY_INFO!O25*($E25-$D25)),COUNTRY_INFO!O25*$E25))","v":38496},null,{"$f":"IF(OR(COUNTRY_INFO!P25=\"Unknown\",COUNTRY_INFO!P25=\"Surveillance\",COUNTRY_INFO!P25=\"Not required\",COUNTRY_INFO!P25=0),0,IF(AND($E25<>0,$J25=\"\"),IF($F25=0,COUNTRY_INFO!P25*$E25,COUNTRY_INFO!P25*($E25-$D25)), IF(AND($E25<>0,$J25<>0),IF($F25=0,COUNTRY_INFO!P25*$J25,COUNTRY_INFO!P25*($J25-$D25)), COUNTRY_INFO!P25*$J25)))","v":31485},88082,0,null,0,0,0,0,88082,0,88082]
[{"$f":"IF(AND(INTRO!$E$37=\"Non-endemic\",INTRO!$E$41=\"Non-endemic\"),\" \",IF(COUNTRY_INFO!A26=0,\" \",COUNTRY_INFO!A26))","v":"Uganda"},{"$f":"IF(AND(INTRO!$E$37=\"Non-endemic\",INTRO!$E$41=\"Non-endemic\"),\" \",IF(COUNTRY_INFO!B26=0,\" \",COUNTRY_INFO!B26))","v":"Central"},{"$f":"IF(AND(INTRO!$E$37=\"Non-endemic\",INTRO!$E$41=\"Non-endemic\"),\" \",IF(COUNTRY_INFO!C26=0,\" \",COUNTRY_INFO!C26))","v":"Masaka"},{"$f":"IF(AND(INTRO!$E$37=\"Non-endemic\",INTRO!$E$41=\"Non-endemic\"),0,COUNTRY_INFO!V26)","v":0},{"$f":"IF(AND(INTRO!$E$37=\"Non-endemic\",INTRO!$E$41=\"Non-endemic\"),0,COUNTRY_INFO!X26)","v":1},{"$f":"IF(INTRO!$E$39=\"Non-endemic\",IF($D26=1,DEC!I26,0),IF($D26=1,IVM!G26,0))","v":0},null,{"$f":"IF(OR(COUNTRY_INFO!N26=\"Unknown\",COUNTRY_INFO!N26=\"Surveillance\",COUNTRY_INFO!N26=\"Not required\",COUNTRY_INFO!N26=0),0,IF(INTRO!$E$39=\"Non-endemic\",IF(AND($E26<>0,$G26=\"\"),IF($F26=0,COUNTRY_INFO!N26*$E26,COUNTRY_INFO!N26*($E26-$D26)),IF(AND($E26<>0,$G26<>0),IF($F26=0,COUNTRY_INFO!N26*$G26,COUNTRY_INFO!N26*($G26-$D26)),0)),IF($G26=\"\",COUNTRY_INFO!N26*$E26,COUNTRY_INFO!N26*$G26)))","v":36904},{"$f":"IF(OR(COUNTRY_INFO!O26=\"Unknown\",COUNTRY_INFO!O26=\"Surveillance\",COUNTRY_INFO!O26=\"Not required\",COUNTRY_INFO!O26=0),0,IF($E26<>0, IF($F26=0,COUNTRY_INFO!O26*$E26,COUNTRY_INFO!O26*($E26-$D26)),COUNTRY_INFO!O26*$E26))","v":78486},null,{"$f":"IF(OR(COUNTRY_INFO!P26=\"Unknown\",COUNTRY_INFO!P26=\"Surveillance\",COUNTRY_INFO!P26=\"Not required\",COUNTRY_INFO!P26=0),0,IF(AND($E26<>0,$J26=\"\"),IF($F26=0,COUNTRY_INFO!P26*$E26,COUNTRY_INFO!P26*($E26-$D26)), IF(AND($E26<>0,$J26<>0),IF($F26=0,COUNTRY_INFO!P26*$J26,COUNTRY_INFO!P26*($J26-$D26)), COUNTRY_INFO!P26*$J26)))","v":64193},179583,0,null,0,0,0,0,179583,0,179583]
[{"$f":"IF(AND(INTRO!$E$37=\"Non-endemic\",INTRO!$E$41=\"Non-endemic\"),\" \",IF(COUNTRY_INFO!A27=0,\" \",COUNTRY_INFO!A27))","v":"Uganda"},{"$f":"IF(AND(INTRO!$E$37=\"Non-endemic\",INTRO!$E$41=\"Non-endemic\"),\" \",IF(COUNTRY_INFO!B27=0,\" \",COUNTRY_INFO!B27))","v":"Central"},{"$f":"IF(AND(INTRO!$E$37=\"Non-endemic\",INTRO!$E$41=\"Non-endemic\"),\" \",IF(COUNTRY_INFO!C27=0,\" \",COUNTRY_INFO!C27))","v":"Masaka City"},{"$f":"IF(AND(INTRO!$E$37=\"Non-endemic\",INTRO!$E$41=\"Non-endemic\"),0,COUNTRY_INFO!V27)","v":0},{"$f":"IF(AND(INTRO!$E$37=\"Non-endemic\",INTRO!$E$41=\"Non-endemic\"),0,COUNTRY_INFO!X27)","v":1},{"$f":"IF(INTRO!$E$39=\"Non-endemic\",IF($D27=1,DEC!I27,0),IF($D27=1,IVM!G27,0))","v":0},null,{"$f":"IF(OR(COUNTRY_INFO!N27=\"Unknown\",COUNTRY_INFO!N27=\"Surveillance\",COUNTRY_INFO!N27=\"Not required\",COUNTRY_INFO!N27=0),0,IF(INTRO!$E$39=\"Non-endemic\",IF(AND($E27<>0,$G27=\"\"),IF($F27=0,COUNTRY_INFO!N27*$E27,COUNTRY_INFO!N27*($E27-$D27)),IF(AND($E27<>0,$G27<>0),IF($F27=0,COUNTRY_INFO!N27*$G27,COUNTRY_INFO!N27*($G27-$D27)),0)),IF($G27=\"\",COUNTRY_INFO!N27*$E27,COUNTRY_INFO!N27*$G27)))","v":19871},{"$f":"IF(OR(COUNTRY_INFO!O27=\"Unknown\",COUNTRY_INFO!O27=\"Surveillance\",COUNTRY_INFO!O27=\"Not required\",COUNTRY_INFO!O27=0),0,IF($E27<>0, IF($F27=0,COUNTRY_INFO!O27*$E27,COUNTRY_INFO!O27*($E27-$D27)),COUNTRY_INFO!O27*$E27))","v":42262},null,{"$f":"IF(OR(COUNTRY_INFO!P27=\"Unknown\",COUNTRY_INFO!P27=\"Surveillance\",COUNTRY_INFO!P27=\"Not required\",COUNTRY_INFO!P27=0),0,IF(AND($E27<>0,$J27=\"\"),IF($F27=0,COUNTRY_INFO!P27*$E27,COUNTRY_INFO!P27*($E27-$D27)), IF(AND($E27<>0,$J27<>0),IF($F27=0,COUNTRY_INFO!P27*$J27,COUNTRY_INFO!P27*($J27-$D27)), COUNTRY_INFO!P27*$J27)))","v":34565},96698,0,null,0,0,0,0,96698,0,96698]
[{"$f":"IF(AND(INTRO!$E$37=\"Non-endemic\",INTRO!$E$41=\"Non-endemic\"),\" \",IF(COUNTRY_INFO!A28=0,\" \",COUNTRY_INFO!A28))","v":"Uganda"},{"$f":"IF(AND(INTRO!$E$37=\"Non-endemic\",INTRO!$E$41=\"Non-endemic\"),\" \",IF(COUNTRY_INFO!B28=0,\" \",COUNTRY_INFO!B28))","v":"Central"},{"$f":"IF(AND(INTRO!$E$37=\"Non-endemic\",INTRO!$E$41=\"Non-endemic\"),\" \",IF(COUNTRY_INFO!C28=0,\" \",COUNTRY_INFO!C28))","v":"Mityana"},{"$f":"IF(AND(INTRO!$E$37=\"Non-endemic\",INTRO!$E$41=\"Non-endemic\"),0,COUNTRY_INFO!V28)","v":0},{"$f":"IF(AND(INTRO!$E$37=\"Non-endemic\",INTRO!$E$41=\"Non-endemic\"),0,COUNTRY_INFO!X28)","v":1},{"$f":"IF(INTRO!$E$39=\"Non-endemic\",IF($D28=1,DEC!I28,0),IF($D28=1,IVM!G28,0))","v":0},null,{"$f":"IF(OR(COUNTRY_INFO!N28=\"Unknown\",COUNTRY_INFO!N28=\"Surveillance\",COUNTRY_INFO!N28=\"Not required\",COUNTRY_INFO!N28=0),0,IF(INTRO!$E$39=\"Non-endemic\",IF(AND($E28<>0,$G28=\"\"),IF($F28=0,COUNTRY_INFO!N28*$E28,COUNTRY_INFO!N28*($E28-$D28)),IF(AND($E28<>0,$G28<>0),IF($F28=0,COUNTRY_INFO!N28*$G28,COUNTRY_INFO!N28*($G28-$D28)),0)),IF($G28=\"\",COUNTRY_INFO!N28*$E28,COUNTRY_INFO!N28*$G28)))","v":63401},{"$f":"IF(OR(COUNTRY_INFO!O28=\"Unknown\",COUNTRY_INFO!O28=\"Surveillance\",COUNTRY_INFO!O28=\"Not required\",COUNTRY_INFO!O28=0),0,IF($E28<>0, IF($F28=0,COUNTRY_INFO!O28*$E28,COUNTRY_INFO!O28*($E28-$D28)),COUNTRY_INFO!O28*$E28))","v":134838},null,{"$f":"IF(OR(COUNTRY_INFO!P28=\"Unknown\",COUNTRY_INFO!P28=\"Surveillance\",COUNTRY_INFO!P28=\"Not required\",COUNTRY_INFO!P28=0),0,IF(AND($E28<>0,$J28=\"\"),IF($F28=0,COUNTRY_INFO!P28*$E28,COUNTRY_INFO!P28*($E28-$D28)), IF(AND($E28<>0,$J28<>0),IF($F28=0,COUNTRY_INFO!P28*$J28,COUNTRY_INFO!P28*($J28-$D28)), COUNTRY_INFO!P28*$J28)))","v":110281},308520,0,null,0,0,0,0,308520,0,308520]
[{"$f":"IF(AND(INTRO!$E$37=\"Non-endemic\",INTRO!$E$41=\"Non-endemic\"),\" \",IF(COUNTRY_INFO!A29=0,\" \",COUNTRY_INFO!A29))","v":"Uganda"},{"$f":"IF(AND(INTRO!$E$37=\"Non-endemic\",INTRO!$E$41=\"Non-endemic\"),\" \",IF(COUNTRY_INFO!B29=0,\" \",COUNTRY_INFO!B29))","v":"Central"},{"$f":"IF(AND(INTRO!$E$37=\"Non-endemic\",INTRO!$E$41=\"Non-endemic\"),\" \",IF(COUNTRY_INFO!C29=0,\" \",COUNTRY_INFO!C29))","v":"Mpigi"},{"$f":"IF(AND(INTRO!$E$37=\"Non-endemic\",INTRO!$E$41=\"Non-endemic\"),0,COUNTRY_INFO!V29)","v":0},{"$f":"IF(AND(INTRO!$E$37=\"Non-endemic\",INTRO!$E$41=\"Non-endemic\"),0,COUNTRY_INFO!X29)","v":1},{"$f":"IF(INTRO!$E$39=\"Non-endemic\",IF($D29=1,DEC!I29,0),IF($D29=1,IVM!G29,0))","v":0},null,{"$f":"IF(OR(COUNTRY_INFO!N29=\"Unknown\",COUNTRY_INFO!N29=\"Surveillance\",COUNTRY_INFO!N29=\"Not required\",COUNTRY_INFO!N29=0),0,IF(INTRO!$E$39=\"Non-endemic\",IF(AND($E29<>0,$G29=\"\"),IF($F29=0,COUNTRY_INFO!N29*$E29,COUNTRY_INFO!N29*($E29-$D29)),IF(AND($E29<>0,$G29<>0),IF($F29=0,COUNTRY_INFO!N29*$G29,COUNTRY_INFO!N29*($G29-$D29)),0)),IF($G29=\"\",COUNTRY_INFO!N29*$E29,COUNTRY_INFO!N29*$G29)))","v":48138},{"$f":"IF(OR(COUNTRY_INFO!O29=\"Unknown\",COUNTRY_INFO!O29=\"Surveillance\",COUNTRY_INFO!O29=\"Not required\",COUNTRY_INFO!O29=0),0,IF($E29<>0, IF($F29=0,COUNTRY_INFO!O29*$E29,COUNTRY_INFO!O29*($E29-$D29)),COUNTRY_INFO!O29*$E29))","v":102379},null,{"$f":"IF(OR(COUNTRY_INFO!P29=\"Unknown\",COUNTRY_INFO!P29=\"Surveillance\",COUNTRY_INFO!P29=\"Not required\",COUNTRY_INFO!P29=0),0,IF(AND($E29<>0,$J29=\"\"),IF($F29=0,COUNTRY_INFO!P29*$E29,COUNTRY_INFO!P29*($E29-$D29)), IF(AND($E29<>0,$J29<>0),IF($F29=0,COUNTRY_INFO!P29*$J29,COUNTRY_INFO!P29*($J29-$D29)), COUNTRY_INFO!P29*$J29)))","v":83733},234250,0,null,0,0,0,0,234250,0,234250]
[{"$f":"IF(AND(INTRO!$E$37=\"Non-endemic\",INTRO!$E$41=\"Non-endemic\"),\" \",IF(COUNTRY_INFO!A30=0,\" \",COUNTRY_INFO!A30))","v":"Uganda"},{"$f":"IF(AND(INTRO!$E$37=\"Non-endemic\",INTRO!$E$41=\"Non-endemic\"),\" \",IF(COUNTRY_INFO!B30=0,\" \",COUNTRY_INFO!B30))","v":"Central"},{"$f":"IF(AND(INTRO!$E$37=\"Non-endemic\",INTRO!$E$41=\"Non-endemic\"),\" \",IF(COUNTRY_INFO!C30=0,\" \",COUNTRY_INFO!C30))","v":"Mubende"},{"$f":"IF(AND(INTRO!$E$37=\"Non-endemic\",INTRO!$E$41=\"Non-endemic\"),0,COUNTRY_INFO!V30)","v":0},{"$f":"IF(AND(INTRO!$E$37=\"Non-endemic\",INTRO!$E$41=\"Non-endemic\"),0,COUNTRY_INFO!X30)","v":1},{"$f":"IF(INTRO!$E$39=\"Non-endemic\",IF($D30=1,DEC!I30,0),IF($D30=1,IVM!G30,0))","v":0},null,{"$f":"IF(OR(COUNTRY_INFO!N30=\"Unknown\",COUNTRY_INFO!N30=\"Surveillance\",COUNTRY_INFO!N30=\"Not required\",COUNTRY_INFO!N30=0),0,IF(INTRO!$E$39=\"Non-endemic\",IF(AND($E30<>0,$G30=\"\"),IF($F30=0,COUNTRY_INFO!N30*$E30,COUNTRY_INFO!N30*($E30-$D30)),IF(AND($E30<>0,$G30<>0),IF($F30=0,COUNTRY_INFO!N30*$G30,COUNTRY_INFO!N30*($G30-$D30)),0)),IF($G30=\"\",COUNTRY_INFO!N30*$E30,COUNTRY_INFO!N30*$G30)))","v":79151},{"$f":"IF(OR(COUNTRY_INFO!O30=\"Unknown\",COUNTRY_INFO!O30=\"Surveillance\",COUNTRY_INFO!O30=\"Not required\",COUNTRY_INFO!O30=0),0,IF($E30<>0, IF($F30=0,COUNTRY_INFO!O30*$E30,COUNTRY_INFO!O30*($E30-$D30)),COUNTRY_INFO!O30*$E30))","v":168335},null,{"$f":"IF(OR(COUNTRY_INFO!P30=\"Unknown\",COUNTRY_INFO!P30=\"Surveillance\",COUNTRY_INFO!P30=\"Not required\",COUNTRY_INFO!P30=0),0,IF(AND($E30<>0,$J30=\"\"),IF($F30=0,COUNTRY_INFO!P30*$E30,COUNTRY_INFO!P30*($E30-$D30)), IF(AND($E30<>0,$J30<>0),IF($F30=0,COUNTRY_INFO!P30*$J30,COUNTRY_INFO!P30*($J30-$D30)), COUNTRY_INFO!P30*$J30)))","v":137678},385164,0,null,0,0,0,0,385164,0,385164]
[{"$f":"IF(AND(INTRO!$E$37=\"Non-endemic\",INTRO!$E$41=\"Non-endemic\"),\" \",IF(COUNTRY_INFO!A31=0,\" \",COUNTRY_INFO!A31))","v":"Uganda"},{"$f":"IF(AND(INTRO!$E$37=\"Non-endemic\",INTRO!$E$41=\"Non-endemic\"),\" \",IF(COUNTRY_INFO!B31=0,\" \",COUNTRY_INFO!B31))","v":"Central"},{"$f":"IF(AND(INTRO!$E$37=\"Non-endemic\",INTRO!$E$41=\"Non-endemic\"),\" \",IF(COUNTRY_INFO!C31=0,\" \",COUNTRY_INFO!C31))","v":"Mukono"},{"$f":"IF(AND(INTRO!$E$37=\"Non-endemic\",INTRO!$E$41=\"Non-endemic\"),0,COUNTRY_INFO!V31)","v":0},{"$f":"IF(AND(INTRO!$E$37=\"Non-endemic\",INTRO!$E$41=\"Non-endemic\"),0,COUNTRY_INFO!X31)","v":1},{"$f":"IF(INTRO!$E$39=\"Non-endemic\",IF($D31=1,DEC!I31,0),IF($D31=1,IVM!G31,0))","v":0},null,{"$f":"IF(OR(COUNTRY_INFO!N31=\"Unknown\",COUNTRY_INFO!N31=\"Surveillance\",COUNTRY_INFO!N31=\"Not required\",COUNTRY_INFO!N31=0),0,IF(INTRO!$E$39=\"Non-endemic\",IF(AND($E31<>0,$G31=\"\"),IF($F31=0,COUNTRY_INFO!N31*$E31,COUNTRY_INFO!N31*($E31-$D31)),IF(AND($E31<>0,$G31<>0),IF($F31=0,COUNTRY_INFO!N31*$G31,COUNTRY_INFO!N31*($G31-$D31)),0)),IF($G31=\"\",COUNTRY_INFO!N31*$E31,COUNTRY_INFO!N31*$G31)))","v":114800},{"$f":"IF(OR(COUNTRY_INFO!O31=\"Unknown\",COUNTRY_INFO!O31=\"Surveillance\",COUNTRY_INFO!O31=\"Not required\",COUNTRY_INFO!O31=0),0,IF($E31<>0, IF($F31=0,COUNTRY_INFO!O31*$E31,COUNTRY_INFO!O31*($E31-$D31)),COUNTRY_INFO!O31*$E31))","v":244153},null,{"$f":"IF(OR(COUNTRY_INFO!P31=\"Unknown\",COUNTRY_INFO!P31=\"Surveillance\",COUNTRY_INFO!P31=\"Not required\",COUNTRY_INFO!P31=0),0,IF(AND($E31<>0,$J31=\"\"),IF($F31=0,COUNTRY_INFO!P31*$E31,COUNTRY_INFO!P31*($E31-$D31)), IF(AND($E31<>0,$J31<>0),IF($F31=0,COUNTRY_INFO!P31*$J31,COUNTRY_INFO!P31*($J31-$D31)), COUNTRY_INFO!P31*$J31)))","v":199688},558641,0,null,0,0,0,0,558641,0,558641]
[{"$f":"IF(AND(INTRO!$E$37=\"Non-endemic\",INTRO!$E$41=\"Non-endemic\"),\" \",IF(COUNTRY_INFO!A32=0,\" \",COUNTRY_INFO!A32))","v":"Uganda"},{"$f":"IF(AND(INTRO!$E$37=\"Non-endemic\",INTRO!$E$41=\"Non-endemic\"),\" \",IF(COUNTRY_INFO!B32=0,\" \",COUNTRY_INFO!B32))","v":"Central"},{"$f":"IF(AND(INTRO!$E$37=\"Non-endemic\",INTRO!$E$41=\"Non-endemic\"),\" \",IF(COUNTRY_INFO!C32=0,\" \",COUNTRY_INFO!C32))","v":"Nakaseke"},{"$f":"IF(AND(INTRO!$E$37=\"Non-endemic\",INTRO!$E$41=\"Non-endemic\"),0,COUNTRY_INFO!V32)","v":0},{"$f":"IF(AND(INTRO!$E$37=\"Non-endemic\",INTRO!$E$41=\"Non-endemic\"),0,COUNTRY_INFO!X32)","v":1},{"$f":"IF(INTRO!$E$39=\"Non-endemic\",IF($D32=1,DEC!I32,0),IF($D32=1,IVM!G32,0))","v":0},null,{"$f":"IF(OR(COUNTRY_INFO!N32=\"Unknown\",COUNTRY_INFO!N32=\"Surveillance\",COUNTRY_INFO!N32=\"Not required\",COUNTRY_INFO!N32=0),0,IF(INTRO!$E$39=\"Non-endemic\",IF(AND($E32<>0,$G32=\"\"),IF($F32=0,COUNTRY_INFO!N32*$E32,COUNTRY_INFO!N32*($E32-$D32)),IF(AND($E32<>0,$G32<>0),IF($F32=0,COUNTRY_INFO!N32*$G32,COUNTRY_INFO!N32*($G32-$D32)),0)),IF($G32=\"\",COUNTRY_INFO!N32*$E32,COUNTRY_INFO!N32*$G32)))","v":37840},{"$f":"IF(OR(COUNTRY_INFO!O32=\"Unknown\",COUNTRY_INFO!O32=\"Surveillance\",COUNTRY_INFO!O32=\"Not required\",COUNTRY_INFO!O32=0),0,IF($E32<>0, IF($F32=0,COUNTRY_INFO!O32*$E32,COUNTRY_INFO!O32*($E32-$D32)),COUNTRY_INFO!O32*$E32))","v":80477},null,{"$f":"IF(OR(COUNTRY_INFO!P32=\"Unknown\",COUNTRY_INFO!P32=\"Surveillance\",COUNTRY_INFO!P32=\"Not required\",COUNTRY_INFO!P32=0),0,IF(AND($E32<>0,$J32=\"\"),IF($F32=0,COUNTRY_INFO!P32*$E32,COUNTRY_INFO!P32*($E32-$D32)), IF(AND($E32<>0,$J32<>0),IF($F32=0,COUNTRY_INFO!P32*$J32,COUNTRY_INFO!P32*($J32-$D32)), COUNTRY_INFO!P32*$J32)))","v":65820},184137,0,null,0,0,0,0,184137,0,184137]
[{"$f":"IF(AND(INTRO!$E$37=\"Non-endemic\",INTRO!$E$41=\"Non-endemic\"),\" \",IF(COUNTRY_INFO!A33=0,\" \",COUNTRY_INFO!A33))","v":"Uganda"},{"$f":"IF(AND(INTRO!$E$37=\"Non-endemic\",INTRO!$E$41=\"Non-endemic\"),\" \",IF(COUNTRY_INFO!B33=0,\" \",COUNTRY_INFO!B33))","v":"Central"},{"$f":"IF(AND(INTRO!$E$37=\"Non-endemic\",INTRO!$E$41=\"Non-endemic\"),\" \",IF(COUNTRY_INFO!C33=0,\" \",COUNTRY_INFO!C33))","v":"Nakasongola"},{"$f":"IF(AND(INTRO!$E$37=\"Non-endemic\",INTRO!$E$41=\"Non-endemic\"),0,COUNTRY_INFO!V33)","v":0},{"$f":"IF(AND(INTRO!$E$37=\"Non-endemic\",INTRO!$E$41=\"Non-endemic\"),0,COUNTRY_INFO!X33)","v":1},{"$f":"IF(INTRO!$E$39=\"Non-endemic\",IF($D33=1,DEC!I33,0),IF($D33=1,IVM!G33,0))","v":0},null,{"$f":"IF(OR(COUNTRY_INFO!N33=\"Unknown\",COUNTRY_INFO!N33=\"Surveillance\",COUNTRY_INFO!N33=\"Not required\",COUNTRY_INFO!N33=0),0,IF(INTRO!$E$39=\"Non-endemic\",IF(AND($E33<>0,$G33=\"\"),IF($F33=0,COUNTRY_INFO!N33*$E33,COUNTRY_INFO!N33*($E33-$D33)),IF(AND($E33<>0,$G33<>0),IF($F33=0,COUNTRY_INFO!N33*$G33,COUNTRY_INFO!N33*($G33-$D33)),0)),IF($G33=\"\",COUNTRY_INFO!N33*$E33,COUNTRY_INFO!N33*$G33)))","v":34807},{"$f":"IF(OR(COUNTRY_INFO!O33=\"Unknown\",COUNTRY_INFO!O33=\"Surveillance\",COUNTRY_INFO!O33=\"Not required\",COUNTRY_INFO!O33=0),0,IF($E33<>0, IF($F33=0,COUNTRY_INFO!O33*$E33,COUNTRY_INFO!O33*($E33-$D33)),COUNTRY_INFO!O33*$E33))","v":74027},null,{"$f":"IF(OR(COUNTRY_INFO!P33=\"Unknown\",COUNTRY_INFO!P33=\"Surveillance\",COUNTRY_INFO!P33=\"Not required\",COUNTRY_INFO!P33=0),0,IF(AND($E33<>0,$J33=\"\"),IF($F33=0,COUNTRY_INFO!P33*$E33,COUNTRY_INFO!P33*($E33-$D33)), IF(AND($E33<>0,$J33<>0),IF($F33=0,COUNTRY_INFO!P33*$J33,COUNTRY_INFO!P33*($J33-$D33)), COUNTRY_INFO!P33*$J33)))","v":60545},169379,0,null,0,0,0,0,169379,0,169379]
[{"$f":"IF(AND(INTRO!$E$37=\"Non-endemic\",INTRO!$E$41=\"Non-endemic\"),\" \",IF(COUNTRY_INFO!A34=0,\" \",COUNTRY_INFO!A34))","v":"Uganda"},{"$f":"IF(AND(INTRO!$E$37=\"Non-endemic\",INTRO!$E$41=\"Non-endemic\"),\" \",IF(COUNTRY_INFO!B34=0,\" \",COUNTRY_INFO!B34))","v":"Central"},{"$f":"IF(AND(INTRO!$E$37=\"Non-endemic\",INTRO!$E$41=\"Non-endemic\"),\" \",IF(COUNTRY_INFO!C34=0,\" \",COUNTRY_INFO!C34))","v":"Rakai"},{"$f":"IF(AND(INTRO!$E$37=\"Non-endemic\",INTRO!$E$41=\"Non-endemic\"),0,COUNTRY_INFO!V34)","v":0},{"$f":"IF(AND(INTRO!$E$37=\"Non-endemic\",INTRO!$E$41=\"Non-endemic\"),0,COUNTRY_INFO!X34)","v":1},{"$f":"IF(INTRO!$E$39=\"Non-endemic\",IF($D34=1,DEC!I34,0),IF($D34=1,IVM!G34,0))","v":0},null,{"$f":"IF(OR(COUNTRY_INFO!N34=\"Unknown\",COUNTRY_INFO!N34=\"Surveillance\",COUNTRY_INFO!N34=\"Not required\",COUNTRY_INFO!N34=0),0,IF(INTRO!$E$39=\"Non-endemic\",IF(AND($E34<>0,$G34=\"\"),IF($F34=0,COUNTRY_INFO!N34*$E34,COUNTRY_INFO!N34*($E34-$D34)),IF(AND($E34<>0,$G34<>0),IF($F34=0,COUNTRY_INFO!N34*$G34,COUNTRY_INFO!N34*($G34-$D34)),0)),IF($G34=\"\",COUNTRY_INFO!N34*$E34,COUNTRY_INFO!N34*$G34)))","v":68154},{"$f":"IF(OR(COUNTRY_INFO!O34=\"Unknown\",COUNTRY_INFO!O34=\"Surveillance\",COUNTRY_INFO!O34=\"Not required\",COUNTRY_INFO!O34=0),0,IF($E34<>0, IF($F34=0,COUNTRY_INFO!O34*$E34,COUNTRY_INFO!O34*($E34-$D34)),COUNTRY_INFO!O34*$E34))","v":144947},null,{"$f":"IF(OR(COUNTRY_INFO!P34=\"Unknown\",COUNTRY_INFO!P34=\"Surveillance\",COUNTRY_INFO!P34=\"Not required\",COUNTRY_INFO!P34=0),0,IF(AND($E34<>0,$J34=\"\"),IF($F34=0,COUNTRY_INFO!P34*$E34,COUNTRY_INFO!P34*($E34-$D34)), IF(AND($E34<>0,$J34<>0),IF($F34=0,COUNTRY_INFO!P34*$J34,COUNTRY_INFO!P34*($J34-$D34)), COUNTRY_INFO!P34*$J34)))","v":118550},331651,0,null,0,0,0,0,331651,0,331651]
[{"$f":"IF(AND(INTRO!$E$37=\"Non-endemic\",INTRO!$E$41=\"Non-endemic\"),\" \",IF(COUNTRY_INFO!A35=0,\" \",COUNTRY_INFO!A35))","v":"Uganda"},{"$f":"IF(AND(INTRO!$E$37=\"Non-endemic\",INTRO!$E$41=\"Non-endemic\"),\" \",IF(COUNTRY_INFO!B35=0,\" \",COUNTRY_INFO!B35))","v":"Central"},{"$f":"IF(AND(INTRO!$E$37=\"Non-endemic\",INTRO!$E$41=\"Non-endemic\"),\" \",IF(COUNTRY_INFO!C35=0,\" \",COUNTRY_INFO!C35))","v":"Sembabule"},{"$f":"IF(AND(INTRO!$E$37=\"Non-endemic\",INTRO!$E$41=\"Non-endemic\"),0,COUNTRY_INFO!V35)","v":0},{"$f":"IF(AND(INTRO!$E$37=\"Non-endemic\",INTRO!$E$41=\"Non-endemic\"),0,COUNTRY_INFO!X35)","v":1},{"$f":"IF(INTRO!$E$39=\"Non-endemic\",IF($D35=1,DEC!I35,0),IF($D35=1,IVM!G35,0))","v":0},null,{"$f":"IF(OR(COUNTRY_INFO!N35=\"Unknown\",COUNTRY_INFO!N35=\"Surveillance\",COUNTRY_INFO!N35=\"Not required\",COUNTRY_INFO!N35=0),0,IF(INTRO!$E$39=\"Non-endemic\",IF(AND($E35<>0,$G35=\"\"),IF($F35=0,COUNTRY_INFO!N35*$E35,COUNTRY_INFO!N35*($E35-$D35)),IF(AND($E35<>0,$G35<>0),IF($F35=0,COUNTRY_INFO!N35*$G35,COUNTRY_INFO!N35*($G35-$D35)),0)),IF($G35=\"\",COUNTRY_INFO!N35*$E35,COUNTRY_INFO!N35*$G35)))","v":48422},{"$f":"IF(OR(COUNTRY_INFO!O35=\"Unknown\",COUNTRY_INFO!O35=\"Surveillance\",COUNTRY_INFO!O35=\"Not required\",COUNTRY_INFO!O35=0),0,IF($E35<>0, IF($F35=0,COUNTRY_INFO!O35*$E35,COUNTRY_INFO!O35*($E35-$D35)),COUNTRY_INFO!O35*$E35))","v":102981},null,{"$f":"IF(OR(COUNTRY_INFO!P35=\"Unknown\",COUNTRY_INFO!P35=\"Surveillance\",COUNTRY_INFO!P35=\"Not required\",COUNTRY_INFO!P35=0),0,IF(AND($E35<>0,$J35=\"\"),IF($F35=0,COUNTRY_INFO!P35*$E35,COUNTRY_INFO!P35*($E35-$D35)), IF(AND($E35<>0,$J35<>0),IF($F35=0,COUNTRY_INFO!P35*$J35,COUNTRY_INFO!P35*($J35-$D35)), COUNTRY_INFO!P35*$J35)))","v":84226},235629,0,null,0,0,0,0,235629,0,235629]
[{"$f":"IF(AND(INTRO!$E$37=\"Non-endemic\",INTRO!$E$41=\"Non-endemic\"),\" \",IF(COUNTRY_INFO!A36=0,\" \",COUNTRY_INFO!A36))","v":"Uganda"},{"$f":"IF(AND(INTRO!$E$37=\"Non-endemic\",INTRO!$E$41=\"Non-endemic\"),\" \",IF(COUNTRY_INFO!B36=0,\" \",COUNTRY_INFO!B36))","v":"Central"},{"$f":"IF(AND(INTRO!$E$37=\"Non-endemic\",INTRO!$E$41=\"Non-endemic\"),\" \",IF(COUNTRY_INFO!C36=0,\" \",COUNTRY_INFO!C36))","v":"Wakiso"},{"$f":"IF(AND(INTRO!$E$37=\"Non-endemic\",INTRO!$E$41=\"Non-endemic\"),0,COUNTRY_INFO!V36)","v":0},{"$f":"IF(AND(INTRO!$E$37=\"Non-endemic\",INTRO!$E$41=\"Non-endemic\"),0,COUNTRY_INFO!X36)","v":1},{"$f":"IF(INTRO!$E$39=\"Non-endemic\",IF($D36=1,DEC!I36,0),IF($D36=1,IVM!G36,0))","v":0},null,{"$f":"IF(OR(COUNTRY_INFO!N36=\"Unknown\",COUNTRY_INFO!N36=\"Surveillance\",COUNTRY_INFO!N36=\"Not required\",COUNTRY_INFO!N36=0),0,IF(INTRO!$E$39=\"Non-endemic\",IF(AND($E36<>0,$G36=\"\"),IF($F36=0,COUNTRY_INFO!N36*$E36,COUNTRY_INFO!N36*($E36-$D36)),IF(AND($E36<>0,$G36<>0),IF($F36=0,COUNTRY_INFO!N36*$G36,COUNTRY_INFO!N36*($G36-$D36)),0)),IF($G36=\"\",COUNTRY_INFO!N36*$E36,COUNTRY_INFO!N36*$G36)))","v":384260},{"$f":"IF(OR(COUNTRY_INFO!O36=\"Unknown\",COUNTRY_INFO!O36=\"Surveillance\",COUNTRY_INFO!O36=\"Not required\",COUNTRY_INFO!O36=0),0,IF($E36<>0, IF($F36=0,COUNTRY_INFO!O36*$E36,COUNTRY_INFO!O36*($E36-$D36)),COUNTRY_INFO!O36*$E36))","v":817229},null,{"$f":"IF(OR(COUNTRY_INFO!P36=\"Unknown\",COUNTRY_INFO!P36=\"Surveillance\",COUNTRY_INFO!P36=\"Not required\",COUNTRY_INFO!P36=0),0,IF(AND($E36<>0,$J36=\"\"),IF($F36=0,COUNTRY_INFO!P36*$E36,COUNTRY_INFO!P36*($E36-$D36)), IF(AND($E36<>0,$J36<>0),IF($F36=0,COUNTRY_INFO!P36*$J36,COUNTRY_INFO!P36*($J36-$D36)), COUNTRY_INFO!P36*$J36)))","v":668396},1869885,0,null,0,0,0,0,1869885,0,1869885]
[{"$f":"IF(AND(INTRO!$E$37=\"Non-endemic\",INTRO!$E$41=\"Non-endemic\"),\" \",IF(COUNTRY_INFO!A37=0,\" \",COUNTRY_INFO!A37))","v":"Uganda"},{"$f":"IF(AND(INTRO!$E$37=\"Non-endemic\",INTRO!$E$41=\"Non-endemic\"),\" \",IF(COUNTRY_INFO!B37=0,\" \",COUNTRY_INFO!B37))","v":"Eastern"},{"$f":"IF(AND(INTRO!$E$37=\"Non-endemic\",INTRO!$E$41=\"Non-endemic\"),\" \",IF(COUNTRY_INFO!C37=0,\" \",COUNTRY_INFO!C37))","v":"Amuria"},{"$f":"IF(AND(INTRO!$E$37=\"Non-endemic\",INTRO!$E$41=\"Non-endemic\"),0,COUNTRY_INFO!V37)","v":0},{"$f":"IF(AND(INTRO!$E$37=\"Non-endemic\",INTRO!$E$41=\"Non-endemic\"),0,COUNTRY_INFO!X37)","v":1},{"$f":"IF(INTRO!$E$39=\"Non-endemic\",IF($D37=1,DEC!I37,0),IF($D37=1,IVM!G37,0))","v":0},null,{"$f":"IF(OR(COUNTRY_INFO!N37=\"Unknown\",COUNTRY_INFO!N37=\"Surveillance\",COUNTRY_INFO!N37=\"Not required\",COUNTRY_INFO!N37=0),0,IF(INTRO!$E$39=\"Non-endemic\",IF(AND($E37<>0,$G37=\"\"),IF($F37=0,COUNTRY_INFO!N37*$E37,COUNTRY_INFO!N37*($E37-$D37)),IF(AND($E37<>0,$G37<>0),IF($F37=0,COUNTRY_INFO!N37*$G37,COUNTRY_INFO!N37*($G37-$D37)),0)),IF($G37=\"\",COUNTRY_INFO!N37*$E37,COUNTRY_INFO!N37*$G37)))","v":35026},{"$f":"IF(OR(COUNTRY_INFO!O37=\"Unknown\",COUNTRY_INFO!O37=\"Surveillance\",COUNTRY_INFO!O37=\"Not required\",COUNTRY_INFO!O37=0),0,IF($E37<>0, IF($F37=0,COUNTRY_INFO!O37*$E37,COUNTRY_INFO!O37*($E37-$D37)),COUNTRY_INFO!O37*$E37))","v":74492},null,{"$f":"IF(OR(COUNTRY_INFO!P37=\"Unknown\",COUNTRY_INFO!P37=\"Surveillance\",COUNTRY_INFO!P37=\"Not required\",COUNTRY_INFO!P37=0),0,IF(AND($E37<>0,$J37=\"\"),IF($F37=0,COUNTRY_INFO!P37*$E37,COUNTRY_INFO!P37*($E37-$D37)), IF(AND($E37<>0,$J37<>0),IF($F37=0,COUNTRY_INFO!P37*$J37,COUNTRY_INFO!P37*($J37-$D37)), COUNTRY_INFO!P37*$J37)))","v":60926},170444,0,null,0,0,0,0,170444,0,170444]
[{"$f":"IF(AND(INTRO!$E$37=\"Non-endemic\",INTRO!$E$41=\"Non-endemic\"),\" \",IF(COUNTRY_INFO!A38=0,\" \",COUNTRY_INFO!A38))","v":"Uganda"},{"$f":"IF(AND(INTRO!$E$37=\"Non-endemic\",INTRO!$E$41=\"Non-endemic\"),\" \",IF(COUNTRY_INFO!B38=0,\" \",COUNTRY_INFO!B38))","v":"Eastern"},{"$f":"IF(AND(INTRO!$E$37=\"Non-endemic\",INTRO!$E$41=\"Non-endemic\"),\" \",IF(COUNTRY_INFO!C38=0,\" \",COUNTRY_INFO!C38))","v":"Budaka"},{"$f":"IF(AND(INTRO!$E$37=\"Non-endemic\",INTRO!$E$41=\"Non-endemic\"),0,COUNTRY_INFO!V38)","v":0},{"$f":"IF(AND(INTRO!$E$37=\"Non-endemic\",INTRO!$E$41=\"Non-endemic\"),0,COUNTRY_INFO!X38)","v":1},{"$f":"IF(INTRO!$E$39=\"Non-endemic\",IF($D38=1,DEC!I38,0),IF($D38=1,IVM!G38,0))","v":0},null,{"$f":"IF(OR(COUNTRY_INFO!N38=\"Unknown\",COUNTRY_INFO!N38=\"Surveillance\",COUNTRY_INFO!N38=\"Not required\",COUNTRY_INFO!N38=0),0,IF(INTRO!$E$39=\"Non-endemic\",IF(AND($E38<>0,$G38=\"\"),IF($F38=0,COUNTRY_INFO!N38*$E38,COUNTRY_INFO!N38*($E38-$D38)),IF(AND($E38<>0,$G38<>0),IF($F38=0,COUNTRY_INFO!N38*$G38,COUNTRY_INFO!N38*($G38-$D38)),0)),IF($G38=\"\",COUNTRY_INFO!N38*$E38,COUNTRY_INFO!N38*$G38)))","v":39894},{"$f":"IF(OR(COUNTRY_INFO!O38=\"Unknown\",COUNTRY_INFO!O38=\"Surveillance\",COUNTRY_INFO!O38=\"Not required\",COUNTRY_INFO!O38=0),0,IF($E38<>0, IF($F38=0,COUNTRY_INFO!O38*$E38,COUNTRY_INFO!O38*($E38-$D38)),COUNTRY_INFO!O38*$E38))","v":84844},null,{"$f":"IF(OR(COUNTRY_INFO!P38=\"Unknown\",COUNTRY_INFO!P38=\"Surveillance\",COUNTRY_INFO!P38=\"Not required\",COUNTRY_INFO!P38=0),0,IF(AND($E38<>0,$J38=\"\"),IF($F38=0,COUNTRY_INFO!P38*$E38,COUNTRY_INFO!P38*($E38-$D38)), IF(AND($E38<>0,$J38<>0),IF($F38=0,COUNTRY_INFO!P38*$J38,COUNTRY_INFO!P38*($J38-$D38)), COUNTRY_INFO!P38*$J38)))","v":69393},194131,0,null,0,0,0,0,194131,0,194131]
[{"$f":"IF(AND(INTRO!$E$37=\"Non-endemic\",INTRO!$E$41=\"Non-endemic\"),\" \",IF(COUNTRY_INFO!A39=0,\" \",COUNTRY_INFO!A39))","v":"Uganda"},{"$f":"IF(AND(INTRO!$E$37=\"Non-endemic\",INTRO!$E$41=\"Non-endemic\"),\" \",IF(COUNTRY_INFO!B39=0,\" \",COUNTRY_INFO!B39))","v":"Eastern"},{"$f":"IF(AND(INTRO!$E$37=\"Non-endemic\",INTRO!$E$41=\"Non-endemic\"),\" \",IF(COUNTRY_INFO!C39=0,\" \",COUNTRY_INFO!C39))","v":"Bududa"},{"$f":"IF(AND(INTRO!$E$37=\"Non-endemic\",INTRO!$E$41=\"Non-endemic\"),0,COUNTRY_INFO!V39)","v":0},{"$f":"IF(AND(INTRO!$E$37=\"Non-endemic\",INTRO!$E$41=\"Non-endemic\"),0,COUNTRY_INFO!X39)","v":1},{"$f":"IF(INTRO!$E$39=\"Non-endemic\",IF($D39=1,DEC!I39,0),IF($D39=1,IVM!G39,0))","v":0},null,{"$f":"IF(OR(COUNTRY_INFO!N39=\"Unknown\",COUNTRY_INFO!N39=\"Surveillance\",COUNTRY_INFO!N39=\"Not required\",COUNTRY_INFO!N39=0),0,IF(INTRO!$E$39=\"Non-endemic\",IF(AND($E39<>0,$G39=\"\"),IF($F39=0,COUNTRY_INFO!N39*$E39,COUNTRY_INFO!N39*($E39-$D39)),IF(AND($E39<>0,$G39<>0),IF($F39=0,COUNTRY_INFO!N39*$G39,COUNTRY_INFO!N39*($G39-$D39)),0)),IF($G39=\"\",COUNTRY_INFO!N39*$E39,COUNTRY_INFO!N39*$G39)))","v":40516},{"$f":"IF(OR(COUNTRY_INFO!O39=\"Unknown\",COUNTRY_INFO!O39=\"Surveillance\",COUNTRY_INFO!O39=\"Not required\",COUNTRY_INFO!O39=0),0,IF($E39<>0, IF($F39=0,COUNTRY_INFO!O39*$E39,COUNTRY_INFO!O39*($E39-$D39)),COUNTRY_INFO!O39*$E39))","v":86167},null,{"$f":"IF(OR(COUNTRY_INFO!P39=\"Unknown\",COUNTRY_INFO!P39=\"Surveillance\",COUNTRY_INFO!P39=\"Not required\",COUNTRY_INFO!P39=0),0,IF(AND($E39<>0,$J39=\"\"),IF($F39=0,COUNTRY_INFO!P39*$E39,COUNTRY_INFO!P39*($E39-$D39)), IF(AND($E39<>0,$J39<>0),IF($F39=0,COUNTRY_INFO!P39*$J39,COUNTRY_INFO!P39*($J39-$D39)), COUNTRY_INFO!P39*$J39)))","v":70474},197157,0,null,0,0,0,0,197157,0,197157]
[{"$f":"IF(AND(INTRO!$E$37=\"Non-endemic\",INTRO!$E$41=\"Non-endemic\"),\" \",IF(COUNTRY_INFO!A40=0,\" \",COUNTRY_INFO!A40))","v":"Uganda"},{"$f":"IF(AND(INTRO!$E$37=\"Non-endemic\",INTRO!$E$41=\"Non-endemic\"),\" \",IF(COUNTRY_INFO!B40=0,\" \",COUNTRY_INFO!B40))","v":"Eastern"},{"$f":"IF(AND(INTRO!$E$37=\"Non-endemic\",INTRO!$E$41=\"Non-endemic\"),\" \",IF(COUNTRY_INFO!C40=0,\" \",COUNTRY_INFO!C40))","v":"Bugiri"},{"$f":"IF(AND(INTRO!$E$37=\"Non-endemic\",INTRO!$E$41=\"Non-endemic\"),0,COUNTRY_INFO!V40)","v":0},{"$f":"IF(AND(INTRO!$E$37=\"Non-endemic\",INTRO!$E$41=\"Non-endemic\"),0,COUNTRY_INFO!X40)","v":1},{"$f":"IF(INTRO!$E$39=\"Non-endemic\",IF($D40=1,DEC!I40,0),IF($D40=1,IVM!G40,0))","v":0},null,{"$f":"IF(OR(COUNTRY_INFO!N40=\"Unknown\",COUNTRY_INFO!N40=\"Surveillance\",COUNTRY_INFO!N40=\"Not required\",COUNTRY_INFO!N40=0),0,IF(INTRO!$E$39=\"Non-endemic\",IF(AND($E40<>0,$G40=\"\"),IF($F40=0,COUNTRY_INFO!N40*$E40,COUNTRY_INFO!N40*($E40-$D40)),IF(AND($E40<>0,$G40<>0),IF($F40=0,COUNTRY_INFO!N40*$G40,COUNTRY_INFO!N40*($G40-$D40)),0)),IF($G40=\"\",COUNTRY_INFO!N40*$E40,COUNTRY_INFO!N40*$G40)))","v":74659},{"$f":"IF(OR(COUNTRY_INFO!O40=\"Unknown\",COUNTRY_INFO!O40=\"Surveillance\",COUNTRY_INFO!O40=\"Not required\",COUNTRY_INFO!O40=0),0,IF($E40<>0, IF($F40=0,COUNTRY_INFO!O40*$E40,COUNTRY_INFO!O40*($E40-$D40)),COUNTRY_INFO!O40*$E40))","v":158781},null,{"$f":"IF(OR(COUNTRY_INFO!P40=\"Unknown\",COUNTRY_INFO!P40=\"Surveillance\",COUNTRY_INFO!P40=\"Not required\",COUNTRY_INFO!P40=0),0,IF(AND($E40<>0,$J40=\"\"),IF($F40=0,COUNTRY_INFO!P40*$E40,COUNTRY_INFO!P40*($E40-$D40)), IF(AND($E40<>0,$J40<>0),IF($F40=0,COUNTRY_INFO!P40*$J40,COUNTRY_INFO!P40*($J40-$D40)), COUNTRY_INFO!P40*$J40)))","v":129864},363304,0,null,0,0,0,0,363304,0,363304]
[{"$f":"IF(AND(INTRO!$E$37=\"Non-endemic\",INTRO!$E$41=\"Non-endemic\"),\" \",IF(COUNTRY_INFO!A41=0,\" \",COUNTRY_INFO!A41))","v":"Uganda"},{"$f":"IF(AND(INTRO!$E$37=\"Non-endemic\",INTRO!$E$41=\"Non-endemic\"),\" \",IF(COUNTRY_INFO!B41=0,\" \",COUNTRY_INFO!B41))","v":"Eastern"},{"$f":"IF(AND(INTRO!$E$37=\"Non-endemic\",INTRO!$E$41=\"Non-endemic\"),\" \",IF(COUNTRY_INFO!C41=0,\" \",COUNTRY_INFO!C41))","v":"Bugweri"},{"$f":"IF(AND(INTRO!$E$37=\"Non-endemic\",INTRO!$E$41=\"Non-endemic\"),0,COUNTRY_INFO!V41)","v":0},{"$f":"IF(AND(INTRO!$E$37=\"Non-endemic\",INTRO!$E$41=\"Non-endemic\"),0,COUNTRY_INFO!X41)","v":1},{"$f":"IF(INTRO!$E$39=\"Non-endemic\",IF($D41=1,DEC!I41,0),IF($D41=1,IVM!G41,0))","v":0},null,{"$f":"IF(OR(COUNTRY_INFO!N41=\"Unknown\",COUNTRY_INFO!N41=\"Surveillance\",COUNTRY_INFO!N41=\"Not required\",COUNTRY_INFO!N41=0),0,IF(INTRO!$E$39=\"Non-endemic\",IF(AND($E41<>0,$G41=\"\"),IF($F41=0,COUNTRY_INFO!N41*$E41,COUNTRY_INFO!N41*($E41-$D41)),IF(AND($E41<>0,$G41<>0),IF($F41=0,COUNTRY_INFO!N41*$G41,COUNTRY_INFO!N41*($G41-$D41)),0)),IF($G41=\"\",COUNTRY_INFO!N41*$E41,COUNTRY_INFO!N41*$G41)))","v":32320},{"$f":"IF(OR(COUNTRY_INFO!O41=\"Unknown\",COUNTRY_INFO!O41=\"Surveillance\",COUNTRY_INFO!O41=\"Not required\",COUNTRY_INFO!O41=0),0,IF($E41<>0, IF($F41=0,COUNTRY_INFO!O41*$E41,COUNTRY_INFO!O41*($E41-$D41)),COUNTRY_INFO!O41*$E41))","v":68737},null,{"$f":"IF(OR(COUNTRY_INFO!P41=\"Unknown\",COUNTRY_INFO!P41=\"Surveillance\",COUNTRY_INFO!P41=\"Not required\",COUNTRY_INFO!P41=0),0,IF(AND($E41<>0,$J41=\"\"),IF($F41=0,COUNTRY_INFO!P41*$E41,COUNTRY_INFO!P41*($E41-$D41)), IF(AND($E41<>0,$J41<>0),IF($F41=0,COUNTRY_INFO!P41*$J41,COUNTRY_INFO!P41*($J41-$D41)), COUNTRY_INFO!P41*$J41)))","v":56219},157276,0,null,0,0,0,0,157276,0,157276]
[{"$f":"IF(AND(INTRO!$E$37=\"Non-endemic\",INTRO!$E$41=\"Non-endemic\"),\" \",IF(COUNTRY_INFO!A42=0,\" \",COUNTRY_INFO!A42))","v":"Uganda"},{"$f":"IF(AND(INTRO!$E$37=\"Non-endemic\",INTRO!$E$41=\"Non-endemic\"),\" \",IF(COUNTRY_INFO!B42=0,\" \",COUNTRY_INFO!B42))","v":"Eastern"},{"$f":"IF(AND(INTRO!$E$37=\"Non-endemic\",INTRO!$E$41=\"Non-endemic\"),\" \",IF(COUNTRY_INFO!C42=0,\" \",COUNTRY_INFO!C42))","v":"Bukedea"},{"$f":"IF(AND(INTRO!$E$37=\"Non-endemic\",INTRO!$E$41=\"Non-endemic\"),0,COUNTRY_INFO!V42)","v":0},{"$f":"IF(AND(INTRO!$E$37=\"Non-endemic\",INTRO!$E$41=\"Non-endemic\"),0,COUNTRY_INFO!X42)","v":1},{"$f":"IF(INTRO!$E$39=\"Non-endemic\",IF($D42=1,DEC!I42,0),IF($D42=1,IVM!G42,0))","v":0},null,{"$f":"IF(OR(COUNTRY_INFO!N42=\"Unknown\",COUNTRY_INFO!N42=\"Surveillance\",COUNTRY_INFO!N42=\"Not required\",COUNTRY_INFO!N42=0),0,IF(INTRO!$E$39=\"Non-endemic\",IF(AND($E42<>0,$G42=\"\"),IF($F42=0,COUNTRY_INFO!N42*$E42,COUNTRY_INFO!N42*($E42-$D42)),IF(AND($E42<>0,$G42<>0),IF($F42=0,COUNTRY_INFO!N42*$G42,COUNTRY_INFO!N42*($G42-$D42)),0)),IF($G42=\"\",COUNTRY_INFO!N42*$E42,COUNTRY_INFO!N42*$G42)))","v":36157},{"$f":"IF(OR(COUNTRY_INFO!O42=\"Unknown\",COUNTRY_INFO!O42=\"Surveillance\",COUNTRY_INFO!O42=\"Not required\",COUNTRY_INFO!O42=0),0,IF($E42<>0, IF($F42=0,COUNTRY_INFO!O42*$E42,COUNTRY_INFO!O42*($E42-$D42)),COUNTRY_INFO!O42*$E42))","v":76898},null,{"$f":"IF(OR(COUNTRY_INFO!P42=\"Unknown\",COUNTRY_INFO!P42=\"Surveillance\",COUNTRY_INFO!P42=\"Not required\",COUNTRY_INFO!P42=0),0,IF(AND($E42<>0,$J42=\"\"),IF($F42=0,COUNTRY_INFO!P42*$E42,COUNTRY_INFO!P42*($E42-$D42)), IF(AND($E42<>0,$J42<>0),IF($F42=0,COUNTRY_INFO!P42*$J42,COUNTRY_INFO!P42*($J42-$D42)), COUNTRY_INFO!P42*$J42)))","v":62893},175948,0,null,0,0,0,0,175948,0,175948]
[{"$f":"IF(AND(INTRO!$E$37=\"Non-endemic\",INTRO!$E$41=\"Non-endemic\"),\" \",IF(COUNTRY_INFO!A43=0,\" \",COUNTRY_INFO!A43))","v":"Uganda"},{"$f":"IF(AND(INTRO!$E$37=\"Non-endemic\",INTRO!$E$41=\"Non-endemic\"),\" \",IF(COUNTRY_INFO!B43=0,\" \",COUNTRY_INFO!B43))","v":"Eastern"},{"$f":"IF(AND(INTRO!$E$37=\"Non-endemic\",INTRO!$E$41=\"Non-endemic\"),\" \",IF(COUNTRY_INFO!C43=0,\" \",COUNTRY_INFO!C43))","v":"Bukwo"},{"$f":"IF(AND(INTRO!$E$37=\"Non-endemic\",INTRO!$E$41=\"Non-endemic\"),0,COUNTRY_INFO!V43)","v":0},{"$f":"IF(AND(INTRO!$E$37=\"Non-endemic\",INTRO!$E$41=\"Non-endemic\"),0,COUNTRY_INFO!X43)","v":1},{"$f":"IF(INTRO!$E$39=\"Non-endemic\",IF($D43=1,DEC!I43,0),IF($D43=1,IVM!G43,0))","v":0},null,{"$f":"IF(OR(COUNTRY_INFO!N43=\"Unknown\",COUNTRY_INFO!N43=\"Surveillance\",COUNTRY_INFO!N43=\"Not required\",COUNTRY_INFO!N43=0),0,IF(INTRO!$E$39=\"Non-endemic\",IF(AND($E43<>0,$G43=\"\"),IF($F43=0,COUNTRY_INFO!N43*$E43,COUNTRY_INFO!N43*($E43-$D43)),IF(AND($E43<>0,$G43<>0),IF($F43=0,COUNTRY_INFO!N43*$G43,COUNTRY_INFO!N43*($G43-$D43)),0)),IF($G43=\"\",COUNTRY_INFO!N43*$E43,COUNTRY_INFO!N43*$G43)))","v":17083},{"$f":"IF(OR(COUNTRY_INFO!O43=\"Unknown\",COUNTRY_INFO!O43=\"Surveillance\",COUNTRY_INFO!O43=\"Not required\",COUNTRY_INFO!O43=0),0,IF($E43<>0, IF($F43=0,COUNTRY_INFO!O43*$E43,COUNTRY_INFO!O43*($E43-$D43)),COUNTRY_INFO!O43*$E43))","v":36331},null,{"$f":"IF(OR(COUNTRY_INFO!P43=\"Unknown\",COUNTRY_INFO!P43=\"Surveillance\",COUNTRY_INFO!P43=\"Not required\",COUNTRY_INFO!P43=0),0,IF(AND($E43<>0,$J43=\"\"),IF($F43=0,COUNTRY_INFO!P43*$E43,COUNTRY_INFO!P43*($E43-$D43)), IF(AND($E43<>0,$J43<>0),IF($F43=0,COUNTRY_INFO!P43*$J43,COUNTRY_INFO!P43*($J43-$D43)), COUNTRY_INFO!P43*$J43)))","v":29714},83128,0,null,0,0,0,0,83128,0,83128]
[{"$f":"IF(AND(INTRO!$E$37=\"Non-endemic\",INTRO!$E$41=\"Non-endemic\"),\" \",IF(COUNTRY_INFO!A44=0,\" \",COUNTRY_INFO!A44))","v":"Uganda"},{"$f":"IF(AND(INTRO!$E$37=\"Non-endemic\",INTRO!$E$41=\"Non-endemic\"),\" \",IF(COUNTRY_INFO!B44=0,\" \",COUNTRY_INFO!B44))","v":"Eastern"},{"$f":"IF(AND(INTRO!$E$37=\"Non-endemic\",INTRO!$E$41=\"Non-endemic\"),\" \",IF(COUNTRY_INFO!C44=0,\" \",COUNTRY_INFO!C44))","v":"Bulambuli"},{"$f":"IF(AND(INTRO!$E$37=\"Non-endemic\",INTRO!$E$41=\"Non-endemic\"),0,COUNTRY_INFO!V44)","v":0},{"$f":"IF(AND(INTRO!$E$37=\"Non-endemic\",INTRO!$E$41=\"Non-endemic\"),0,COUNTRY_INFO!X44)","v":1},{"$f":"IF(INTRO!$E$39=\"Non-endemic\",IF($D44=1,DEC!I44,0),IF($D44=1,IVM!G44,0))","v":0},null,{"$f":"IF(OR(COUNTRY_INFO!N44=\"Unknown\",COUNTRY_INFO!N44=\"Surveillance\",COUNTRY_INFO!N44=\"Not required\",COUNTRY_INFO!N44=0),0,IF(INTRO!$E$39=\"Non-endemic\",IF(AND($E44<>0,$G44=\"\"),IF($F44=0,COUNTRY_INFO!N44*$E44,COUNTRY_INFO!N44*($E44-$D44)),IF(AND($E44<>0,$G44<>0),IF($F44=0,COUNTRY_INFO!N44*$G44,COUNTRY_INFO!N44*($G44-$D44)),0)),IF($G44=\"\",COUNTRY_INFO!N44*$E44,COUNTRY_INFO!N44*$G44)))","v":33938},{"$f":"IF(OR(COUNTRY_INFO!O44=\"Unknown\",COUNTRY_INFO!O44=\"Surveillance\",COUNTRY_INFO!O44=\"Not required\",COUNTRY_INFO!O44=0),0,IF($E44<>0, IF($F44=0,COUNTRY_INFO!O44*$E44,COUNTRY_INFO!O44*($E44-$D44)),COUNTRY_INFO!O44*$E44))","v":72179},null,{"$f":"IF(OR(COUNTRY_INFO!P44=\"Unknown\",COUNTRY_INFO!P44=\"Surveillance\",COUNTRY_INFO!P44=\"Not required\",COUNTRY_INFO!P44=0),0,IF(AND($E44<>0,$J44=\"\"),IF($F44=0,COUNTRY_INFO!P44*$E44,COUNTRY_INFO!P44*($E44-$D44)), IF(AND($E44<>0,$J44<>0),IF($F44=0,COUNTRY_INFO!P44*$J44,COUNTRY_INFO!P44*($J44-$D44)), COUNTRY_INFO!P44*$J44)))","v":59034},165151,0,null,0,0,0,0,165151,0,165151]
[{"$f":"IF(AND(INTRO!$E$37=\"Non-endemic\",INTRO!$E$41=\"Non-endemic\"),\" \",IF(COUNTRY_INFO!A45=0,\" \",COUNTRY_INFO!A45))","v":"Uganda"},{"$f":"IF(AND(INTRO!$E$37=\"Non-endemic\",INTRO!$E$41=\"Non-endemic\"),\" \",IF(COUNTRY_INFO!B45=0,\" \",COUNTRY_INFO!B45))","v":"Eastern"},{"$f":"IF(AND(INTRO!$E$37=\"Non-endemic\",INTRO!$E$41=\"Non-endemic\"),\" \",IF(COUNTRY_INFO!C45=0,\" \",COUNTRY_INFO!C45))","v":"Busia"},{"$f":"IF(AND(INTRO!$E$37=\"Non-endemic\",INTRO!$E$41=\"Non-endemic\"),0,COUNTRY_INFO!V45)","v":0},{"$f":"IF(AND(INTRO!$E$37=\"Non-endemic\",INTRO!$E$41=\"Non-endemic\"),0,COUNTRY_INFO!X45)","v":1},{"$f":"IF(INTRO!$E$39=\"Non-endemic\",IF($D45=1,DEC!I45,0),IF($D45=1,IVM!G45,0))","v":0},null,{"$f":"IF(OR(COUNTRY_INFO!N45=\"Unknown\",COUNTRY_INFO!N45=\"Surveillance\",COUNTRY_INFO!N45=\"Not required\",COUNTRY_INFO!N45=0),0,IF(INTRO!$E$39=\"Non-endemic\",IF(AND($E45<>0,$G45=\"\"),IF($F45=0,COUNTRY_INFO!N45*$E45,COUNTRY_INFO!N45*($E45-$D45)),IF(AND($E45<>0,$G45<>0),IF($F45=0,COUNTRY_INFO!N45*$G45,COUNTRY_INFO!N45*($G45-$D45)),0)),IF($G45=\"\",COUNTRY_INFO!N45*$E45,COUNTRY_INFO!N45*$G45)))","v":62303},{"$f":"IF(OR(COUNTRY_INFO!O45=\"Unknown\",COUNTRY_INFO!O45=\"Surveillance\",COUNTRY_INFO!O45=\"Not required\",COUNTRY_INFO!O45=0),0,IF($E45<>0, IF($F45=0,COUNTRY_INFO!O45*$E45,COUNTRY_INFO!O45*($E45-$D45)),COUNTRY_INFO!O45*$E45))","v":132504},null,{"$f":"IF(OR(COUNTRY_INFO!P45=\"Unknown\",COUNTRY_INFO!P45=\"Surveillance\",COUNTRY_INFO!P45=\"Not required\",COUNTRY_INFO!P45=0),0,IF(AND($E45<>0,$J45=\"\"),IF($F45=0,COUNTRY_INFO!P45*$E45,COUNTRY_INFO!P45*($E45-$D45)), IF(AND($E45<>0,$J45<>0),IF($F45=0,COUNTRY_INFO!P45*$J45,COUNTRY_INFO!P45*($J45-$D45)), COUNTRY_INFO!P45*$J45)))","v":108373},303180,0,null,0,0,0,0,303180,0,303180]
[{"$f":"IF(AND(INTRO!$E$37=\"Non-endemic\",INTRO!$E$41=\"Non-endemic\"),\" \",IF(COUNTRY_INFO!A46=0,\" \",COUNTRY_INFO!A46))","v":"Uganda"},{"$f":"IF(AND(INTRO!$E$37=\"Non-endemic\",INTRO!$E$41=\"Non-endemic\"),\" \",IF(COUNTRY_INFO!B46=0,\" \",COUNTRY_INFO!B46))","v":"Eastern"},{"$f":"IF(AND(INTRO!$E$37=\"Non-endemic\",INTRO!$E$41=\"Non-endemic\"),\" \",IF(COUNTRY_INFO!C46=0,\" \",COUNTRY_INFO!C46))","v":"Butaleja"},{"$f":"IF(AND(INTRO!$E$37=\"Non-endemic\",INTRO!$E$41=\"Non-endemic\"),0,COUNTRY_INFO!V46)","v":0},{"$f":"IF(AND(INTRO!$E$37=\"Non-endemic\",INTRO!$E$41=\"Non-endemic\"),0,COUNTRY_INFO!X46)","v":1},{"$f":"IF(INTRO!$E$39=\"Non-endemic\",IF($D46=1,DEC!I46,0),IF($D46=1,IVM!G46,0))","v":0},null,{"$f":"IF(OR(COUNTRY_INFO!N46=\"Unknown\",COUNTRY_INFO!N46=\"Surveillance\",COUNTRY_INFO!N46=\"Not required\",COUNTRY_INFO!N46=0),0,IF(INTRO!$E$39=\"Non-endemic\",IF(AND($E46<>0,$G46=\"\"),IF($F46=0,COUNTRY_INFO!N46*$E46,COUNTRY_INFO!N46*($E46-$D46)),IF(AND($E46<>0,$G46<>0),IF($F46=0,COUNTRY_INFO!N46*$G46,COUNTRY_INFO!N46*($G46-$D46)),0)),IF($G46=\"\",COUNTRY_INFO!N46*$E46,COUNTRY_INFO!N46*$G46)))","v":47059},{"$f":"IF(OR(COUNTRY_INFO!O46=\"Unknown\",COUNTRY_INFO!O46=\"Surveillance\",COUNTRY_INFO!O46=\"Not required\",COUNTRY_INFO!O46=0),0,IF($E46<>0, IF($F46=0,COUNTRY_INFO!O46*$E46,COUNTRY_INFO!O46*($E46-$D46)),COUNTRY_INFO!O46*$E46))","v":100082},null,{"$f":"IF(OR(COUNTRY_INFO!P46=\"Unknown\",COUNTRY_INFO!P46=\"Surveillance\",COUNTRY_INFO!P46=\"Not required\",COUNTRY_INFO!P46=0),0,IF(AND($E46<>0,$J46=\"\"),IF($F46=0,COUNTRY_INFO!P46*$E46,COUNTRY_INFO!P46*($E46-$D46)), IF(AND($E46<>0,$J46<>0),IF($F46=0,COUNTRY_INFO!P46*$J46,COUNTRY_INFO!P46*($J46-$D46)), COUNTRY_INFO!P46*$J46)))","v":81856},228997,0,null,0,0,0,0,228997,0,228997]
[{"$f":"IF(AND(INTRO!$E$37=\"Non-endemic\",INTRO!$E$41=\"Non-endemic\"),\" \",IF(COUNTRY_INFO!A47=0,\" \",COUNTRY_INFO!A47))","v":"Uganda"},{"$f":"IF(AND(INTRO!$E$37=\"Non-endemic\",INTRO!$E$41=\"Non-endemic\"),\" \",IF(COUNTRY_INFO!B47=0,\" \",COUNTRY_INFO!B47))","v":"Eastern"},{"$f":"IF(AND(INTRO!$E$37=\"Non-endemic\",INTRO!$E$41=\"Non-endemic\"),\" \",IF(COUNTRY_INFO!C47=0,\" \",COUNTRY_INFO!C47))","v":"Butebo"},{"$f":"IF(AND(INTRO!$E$37=\"Non-endemic\",INTRO!$E$41=\"Non-endemic\"),0,COUNTRY_INFO!V47)","v":0},{"$f":"IF(AND(INTRO!$E$37=\"Non-endemic\",INTRO!$E$41=\"Non-endemic\"),0,COUNTRY_INFO!X47)","v":1},{"$f":"IF(INTRO!$E$39=\"Non-endemic\",IF($D47=1,DEC!I47,0),IF($D47=1,IVM!G47,0))","v":0},null,{"$f":"IF(OR(COUNTRY_INFO!N47=\"Unknown\",COUNTRY_INFO!N47=\"Surveillance\",COUNTRY_INFO!N47=\"Not required\",COUNTRY_INFO!N47=0),0,IF(INTRO!$E$39=\"Non-endemic\",IF(AND($E47<>0,$G47=\"\"),IF($F47=0,COUNTRY_INFO!N47*$E47,COUNTRY_INFO!N47*($E47-$D47)),IF(AND($E47<>0,$G47<>0),IF($F47=0,COUNTRY_INFO!N47*$G47,COUNTRY_INFO!N47*($G47-$D47)),0)),IF($G47=\"\",COUNTRY_INFO!N47*$E47,COUNTRY_INFO!N47*$G47)))","v":27614},{"$f":"IF(OR(COUNTRY_INFO!O47=\"Unknown\",COUNTRY_INFO!O47=\"Surveillance\",COUNTRY_INFO!O47=\"Not required\",COUNTRY_INFO!O47=0),0,IF($E47<>0, IF($F47=0,COUNTRY_INFO!O47*$E47,COUNTRY_INFO!O47*($E47-$D47)),COUNTRY_INFO!O47*$E47))","v":58728},null,{"$f":"IF(OR(COUNTRY_INFO!P47=\"Unknown\",COUNTRY_INFO!P47=\"Surveillance\",COUNTRY_INFO!P47=\"Not required\",COUNTRY_INFO!P47=0),0,IF(AND($E47<>0,$J47=\"\"),IF($F47=0,COUNTRY_INFO!P47*$E47,COUNTRY_INFO!P47*($E47-$D47)), IF(AND($E47<>0,$J47<>0),IF($F47=0,COUNTRY_INFO!P47*$J47,COUNTRY_INFO!P47*($J47-$D47)), COUNTRY_INFO!P47*$J47)))","v":48032},134374,0,null,0,0,0,0,134374,0,134374]
[{"$f":"IF(AND(INTRO!$E$37=\"Non-endemic\",INTRO!$E$41=\"Non-endemic\"),\" \",IF(COUNTRY_INFO!A48=0,\" \",COUNTRY_INFO!A48))","v":"Uganda"},{"$f":"IF(AND(INTRO!$E$37=\"Non-endemic\",INTRO!$E$41=\"Non-endemic\"),\" \",IF(COUNTRY_INFO!B48=0,\" \",COUNTRY_INFO!B48))","v":"Eastern"},{"$f":"IF(AND(INTRO!$E$37=\"Non-endemic\",INTRO!$E$41=\"Non-endemic\"),\" \",IF(COUNTRY_INFO!C48=0,\" \",COUNTRY_INFO!C48))","v":"Buyende"},{"$f":"IF(AND(INTRO!$E$37=\"Non-endemic\",INTRO!$E$41=\"Non-endemic\"),0,COUNTRY_INFO!V48)","v":0},{"$f":"IF(AND(INTRO!$E$37=\"Non-endemic\",INTRO!$E$41=\"Non-endemic\"),0,COUNTRY_INFO!X48)","v":1},{"$f":"IF(INTRO!$E$39=\"Non-endemic\",IF($D48=1,DEC!I48,0),IF($D48=1,IVM!G48,0))","v":0},null,{"$f":"IF(OR(COUNTRY_INFO!N48=\"Unknown\",COUNTRY_INFO!N48=\"Surveillance\",COUNTRY_INFO!N48=\"Not required\",COUNTRY_INFO!N48=0),0,IF(INTRO!$E$39=\"Non-endemic\",IF(AND($E48<>0,$G48=\"\"),IF($F48=0,COUNTRY_INFO!N48*$E48,COUNTRY_INFO!N48*($E48-$D48)),IF(AND($E48<>0,$G48<>0),IF($F48=0,COUNTRY_INFO!N48*$G48,COUNTRY_INFO!N48*($G48-$D48)),0)),IF($G48=\"\",COUNTRY_INFO!N48*$E48,COUNTRY_INFO!N48*$G48)))","v":61335},{"$f":"IF(OR(COUNTRY_INFO!O48=\"Unknown\",COUNTRY_INFO!O48=\"Surveillance\",COUNTRY_INFO!O48=\"Not required\",COUNTRY_INFO!O48=0),0,IF($E48<>0, IF($F48=0,COUNTRY_INFO!O48*$E48,COUNTRY_INFO!O48*($E48-$D48)),COUNTRY_INFO!O48*$E48))","v":130445},null,{"$f":"IF(OR(COUNTRY_INFO!P48=\"Unknown\",COUNTRY_INFO!P48=\"Surveillance\",COUNTRY_INFO!P48=\"Not required\",COUNTRY_INFO!P48=0),0,IF(AND($E48<>0,$J48=\"\"),IF($F48=0,COUNTRY_INFO!P48*$E48,COUNTRY_INFO!P48*($E48-$D48)), IF(AND($E48<>0,$J48<>0),IF($F48=0,COUNTRY_INFO!P48*$J48,COUNTRY_INFO!P48*($J48-$D48)), COUNTRY_INFO!P48*$J48)))","v":106688},298468,0,null,0,0,0,0,298468,0,298468]
[{"$f":"IF(AND(INTRO!$E$37=\"Non-endemic\",INTRO!$E$41=\"Non-endemic\"),\" \",IF(COUNTRY_INFO!A49=0,\" \",COUNTRY_INFO!A49))","v":"Uganda"},{"$f":"IF(AND(INTRO!$E$37=\"Non-endemic\",INTRO!$E$41=\"Non-endemic\"),\" \",IF(COUNTRY_INFO!B49=0,\" \",COUNTRY_INFO!B49))","v":"Eastern"},{"$f":"IF(AND(INTRO!$E$37=\"Non-endemic\",INTRO!$E$41=\"Non-endemic\"),\" \",IF(COUNTRY_INFO!C49=0,\" \",COUNTRY_INFO!C49))","v":"Iganga"},{"$f":"IF(AND(INTRO!$E$37=\"Non-endemic\",INTRO!$E$41=\"Non-endemic\"),0,COUNTRY_INFO!V49)","v":0},{"$f":"IF(AND(INTRO!$E$37=\"Non-endemic\",INTRO!$E$41=\"Non-endemic\"),0,COUNTRY_INFO!X49)","v":1},{"$f":"IF(INTRO!$E$39=\"Non-endemic\",IF($D49=1,DEC!I49,0),IF($D49=1,IVM!G49,0))","v":0},null,{"$f":"IF(OR(COUNTRY_INFO!N49=\"Unknown\",COUNTRY_INFO!N49=\"Surveillance\",COUNTRY_INFO!N49=\"Not required\",COUNTRY_INFO!N49=0),0,IF(INTRO!$E$39=\"Non-endemic\",IF(AND($E49<>0,$G49=\"\"),IF($F49=0,COUNTRY_INFO!N49*$E49,COUNTRY_INFO!N49*($E49-$D49)),IF(AND($E49<>0,$G49<>0),IF($F49=0,COUNTRY_INFO!N49*$G49,COUNTRY_INFO!N49*($G49-$D49)),0)),IF($G49=\"\",COUNTRY_INFO!N49*$E49,COUNTRY_INFO!N49*$G49)))","v":64600},{"$f":"IF(OR(COUNTRY_INFO!O49=\"Unknown\",COUNTRY_INFO!O49=\"Surveillance\",COUNTRY_INFO!O49=\"Not required\",COUNTRY_INFO!O49=0),0,IF($E49<>0, IF($F49=0,COUNTRY_INFO!O49*$E49,COUNTRY_INFO!O49*($E49-$D49)),COUNTRY_INFO!O49*$E49))","v":137388},null,{"$f":"IF(OR(COUNTRY_INFO!P49=\"Unknown\",COUNTRY_INFO!P49=\"Surveillance\",COUNTRY_INFO!P49=\"Not required\",COUNTRY_INFO!P49=0),0,IF(AND($E49<>0,$J49=\"\"),IF($F49=0,COUNTRY_INFO!P49*$E49,COUNTRY_INFO!P49*($E49-$D49)), IF(AND($E49<>0,$J49<>0),IF($F49=0,COUNTRY_INFO!P49*$J49,COUNTRY_INFO!P49*($J49-$D49)), COUNTRY_INFO!P49*$J49)))","v":112367},314355,0,null,0,0,0,0,314355,0,314355]
[{"$f":"IF(AND(INTRO!$E$37=\"Non-endemic\",INTRO!$E$41=\"Non-endemic\"),\" \",IF(COUNTRY_INFO!A50=0,\" \",COUNTRY_INFO!A50))","v":"Uganda"},{"$f":"IF(AND(INTRO!$E$37=\"Non-endemic\",INTRO!$E$41=\"Non-endemic\"),\" \",IF(COUNTRY_INFO!B50=0,\" \",COUNTRY_INFO!B50))","v":"Eastern"},{"$f":"IF(AND(INTRO!$E$37=\"Non-endemic\",INTRO!$E$41=\"Non-endemic\"),\" \",IF(COUNTRY_INFO!C50=0,\" \",COUNTRY_INFO!C50))","v":"Jinja"},{"$f":"IF(AND(INTRO!$E$37=\"Non-endemic\",INTRO!$E$41=\"Non-endemic\"),0,COUNTRY_INFO!V50)","v":0},{"$f":"IF(AND(INTRO!$E$37=\"Non-endemic\",INTRO!$E$41=\"Non-endemic\"),0,COUNTRY_INFO!X50)","v":1},{"$f":"IF(INTRO!$E$39=\"Non-endemic\",IF($D50=1,DEC!I50,0),IF($D50=1,IVM!G50,0))","v":0},null,{"$f":"IF(OR(COUNTRY_INFO!N50=\"Unknown\",COUNTRY_INFO!N50=\"Surveillance\",COUNTRY_INFO!N50=\"Not required\",COUNTRY_INFO!N50=0),0,IF(INTRO!$E$39=\"Non-endemic\",IF(AND($E50<>0,$G50=\"\"),IF($F50=0,COUNTRY_INFO!N50*$E50,COUNTRY_INFO!N50*($E50-$D50)),IF(AND($E50<>0,$G50<>0),IF($F50=0,COUNTRY_INFO!N50*$G50,COUNTRY_INFO!N50*($G50-$D50)),0)),IF($G50=\"\",COUNTRY_INFO!N50*$E50,COUNTRY_INFO!N50*$G50)))","v":39453},{"$f":"IF(OR(COUNTRY_INFO!O50=\"Unknown\",COUNTRY_INFO!O50=\"Surveillance\",COUNTRY_INFO!O50=\"Not required\",COUNTRY_INFO!O50=0),0,IF($E50<>0, IF($F50=0,COUNTRY_INFO!O50*$E50,COUNTRY_INFO!O50*($E50-$D50)),COUNTRY_INFO!O50*$E50))","v":83908},null,{"$f":"IF(OR(COUNTRY_INFO!P50=\"Unknown\",COUNTRY_INFO!P50=\"Surveillance\",COUNTRY_INFO!P50=\"Not required\",COUNTRY_INFO!P50=0),0,IF(AND($E50<>0,$J50=\"\"),IF($F50=0,COUNTRY_INFO!P50*$E50,COUNTRY_INFO!P50*($E50-$D50)), IF(AND($E50<>0,$J50<>0),IF($F50=0,COUNTRY_INFO!P50*$J50,COUNTRY_INFO!P50*($J50-$D50)), COUNTRY_INFO!P50*$J50)))","v":68626},191987,0,null,0,0,0,0,191987,0,191987]
[{"$f":"IF(AND(INTRO!$E$37=\"Non-endemic\",INTRO!$E$41=\"Non-endemic\"),\" \",IF(COUNTRY_INFO!A51=0,\" \",COUNTRY_INFO!A51))","v":"Uganda"},{"$f":"IF(AND(INTRO!$E$37=\"Non-endemic\",INTRO!$E$41=\"Non-endemic\"),\" \",IF(COUNTRY_INFO!B51=0,\" \",COUNTRY_INFO!B51))","v":"Eastern"},{"$f":"IF(AND(INTRO!$E$37=\"Non-endemic\",INTRO!$E$41=\"Non-endemic\"),\" \",IF(COUNTRY_INFO!C51=0,\" \",COUNTRY_INFO!C51))","v":"Jinja City"},{"$f":"IF(AND(INTRO!$E$37=\"Non-endemic\",INTRO!$E$41=\"Non-endemic\"),0,COUNTRY_INFO!V51)","v":0},{"$f":"IF(AND(INTRO!$E$37=\"Non-endemic\",INTRO!$E$41=\"Non-endemic\"),0,COUNTRY_INFO!X51)","v":1},{"$f":"IF(INTRO!$E$39=\"Non-endemic\",IF($D51=1,DEC!I51,0),IF($D51=1,IVM!G51,0))","v":0},null,{"$f":"IF(OR(COUNTRY_INFO!N51=\"Unknown\",COUNTRY_INFO!N51=\"Surveillance\",COUNTRY_INFO!N51=\"Not required\",COUNTRY_INFO!N51=0),0,IF(INTRO!$E$39=\"Non-endemic\",IF(AND($E51<>0,$G51=\"\"),IF($F51=0,COUNTRY_INFO!N51*$E51,COUNTRY_INFO!N51*($E51-$D51)),IF(AND($E51<>0,$G51<>0),IF($F51=0,COUNTRY_INFO!N51*$G51,COUNTRY_INFO!N51*($G51-$D51)),0)),IF($G51=\"\",COUNTRY_INFO!N51*$E51,COUNTRY_INFO!N51*$G51)))","v":50168},{"$f":"IF(OR(COUNTRY_INFO!O51=\"Unknown\",COUNTRY_INFO!O51=\"Surveillance\",COUNTRY_INFO!O51=\"Not required\",COUNTRY_INFO!O51=0),0,IF($E51<>0, IF($F51=0,COUNTRY_INFO!O51*$E51,COUNTRY_INFO!O51*($E51-$D51)),COUNTRY_INFO!O51*$E51))","v":106696},null,{"$f":"IF(OR(COUNTRY_INFO!P51=\"Unknown\",COUNTRY_INFO!P51=\"Surveillance\",COUNTRY_INFO!P51=\"Not required\",COUNTRY_INFO!P51=0),0,IF(AND($E51<>0,$J51=\"\"),IF($F51=0,COUNTRY_INFO!P51*$E51,COUNTRY_INFO!P51*($E51-$D51)), IF(AND($E51<>0,$J51<>0),IF($F51=0,COUNTRY_INFO!P51*$J51,COUNTRY_INFO!P51*($J51-$D51)), COUNTRY_INFO!P51*$J51)))","v":87265},244129,0,null,0,0,0,0,244129,0,244129]
[{"$f":"IF(AND(INTRO!$E$37=\"Non-endemic\",INTRO!$E$41=\"Non-endemic\"),\" \",IF(COUNTRY_INFO!A52=0,\" \",COUNTRY_INFO!A52))","v":"Uganda"},{"$f":"IF(AND(INTRO!$E$37=\"Non-endemic\",INTRO!$E$41=\"Non-endemic\"),\" \",IF(COUNTRY_INFO!B52=0,\" \",COUNTRY_INFO!B52))","v":"Eastern"},{"$f":"IF(AND(INTRO!$E$37=\"Non-endemic\",INTRO!$E$41=\"Non-endemic\"),\" \",IF(COUNTRY_INFO!C52=0,\" \",COUNTRY_INFO!C52))","v":"Kaberamaido"},{"$f":"IF(AND(INTRO!$E$37=\"Non-endemic\",INTRO!$E$41=\"Non-endemic\"),0,COUNTRY_INFO!V52)","v":0},{"$f":"IF(AND(INTRO!$E$37=\"Non-endemic\",INTRO!$E$41=\"Non-endemic\"),0,COUNTRY_INFO!X52)","v":1},{"$f":"IF(INTRO!$E$39=\"Non-endemic\",IF($D52=1,DEC!I52,0),IF($D52=1,IVM!G52,0))","v":0},null,{"$f":"IF(OR(COUNTRY_INFO!N52=\"Unknown\",COUNTRY_INFO!N52=\"Surveillance\",COUNTRY_INFO!N52=\"Not required\",COUNTRY_INFO!N52=0),0,IF(INTRO!$E$39=\"Non-endemic\",IF(AND($E52<>0,$G52=\"\"),IF($F52=0,COUNTRY_INFO!N52*$E52,COUNTRY_INFO!N52*($E52-$D52)),IF(AND($E52<>0,$G52<>0),IF($F52=0,COUNTRY_INFO!N52*$G52,COUNTRY_INFO!N52*($G52-$D52)),0)),IF($G52=\"\",COUNTRY_INFO!N52*$E52,COUNTRY_INFO!N52*$G52)))","v":19866},{"$f":"IF(OR(COUNTRY_INFO!O52=\"Unknown\",COUNTRY_INFO!O52=\"Surveillance\",COUNTRY_INFO!O52=\"Not required\",COUNTRY_INFO!O52=0),0,IF($E52<>0, IF($F52=0,COUNTRY_INFO!O52*$E52,COUNTRY_INFO!O52*($E52-$D52)),COUNTRY_INFO!O52*$E52))","v":42251},null,{"$f":"IF(OR(COUNTRY_INFO!P52=\"Unknown\",COUNTRY_INFO!P52=\"Surveillance\",COUNTRY_INFO!P52=\"Not required\",COUNTRY_INFO!P52=0),0,IF(AND($E52<>0,$J52=\"\"),IF($F52=0,COUNTRY_INFO!P52*$E52,COUNTRY_INFO!P52*($E52-$D52)), IF(AND($E52<>0,$J52<>0),IF($F52=0,COUNTRY_INFO!P52*$J52,COUNTRY_INFO!P52*($J52-$D52)), COUNTRY_INFO!P52*$J52)))","v":34556},96673,0,null,0,0,0,0,96673,0,96673]
[{"$f":"IF(AND(INTRO!$E$37=\"Non-endemic\",INTRO!$E$41=\"Non-endemic\"),\" \",IF(COUNTRY_INFO!A53=0,\" \",COUNTRY_INFO!A53))","v":"Uganda"},{"$f":"IF(AND(INTRO!$E$37=\"Non-endemic\",INTRO!$E$41=\"Non-endemic\"),\" \",IF(COUNTRY_INFO!B53=0,\" \",COUNTRY_INFO!B53))","v":"Eastern"},{"$f":"IF(AND(INTRO!$E$37=\"Non-endemic\",INTRO!$E$41=\"Non-endemic\"),\" \",IF(COUNTRY_INFO!C53=0,\" \",COUNTRY_INFO!C53))","v":"Kalaki"},{"$f":"IF(AND(INTRO!$E$37=\"Non-endemic\",INTRO!$E$41=\"Non-endemic\"),0,COUNTRY_INFO!V53)","v":0},{"$f":"IF(AND(INTRO!$E$37=\"Non-endemic\",INTRO!$E$41=\"Non-endemic\"),0,COUNTRY_INFO!X53)","v":1},{"$f":"IF(INTRO!$E$39=\"Non-endemic\",IF($D53=1,DEC!I53,0),IF($D53=1,IVM!G53,0))","v":0},null,{"$f":"IF(OR(COUNTRY_INFO!N53=\"Unknown\",COUNTRY_INFO!N53=\"Surveillance\",COUNTRY_INFO!N53=\"Not required\",COUNTRY_INFO!N53=0),0,IF(INTRO!$E$39=\"Non-endemic\",IF(AND($E53<>0,$G53=\"\"),IF($F53=0,COUNTRY_INFO!N53*$E53,COUNTRY_INFO!N53*($E53-$D53)),IF(AND($E53<>0,$G53<>0),IF($F53=0,COUNTRY_INFO!N53*$G53,COUNTRY_INFO!N53*($G53-$D53)),0)),IF($G53=\"\",COUNTRY_INFO!N53*$E53,COUNTRY_INFO!N53*$G53)))","v":20974},{"$f":"IF(OR(COUNTRY_INFO!O53=\"Unknown\",COUNTRY_INFO!O53=\"Surveillance\",COUNTRY_INFO!O53=\"Not required\",COUNTRY_INFO!O53=0),0,IF($E53<>0, IF($F53=0,COUNTRY_INFO!O53*$E53,COUNTRY_INFO!O53*($E53-$D53)),COUNTRY_INFO!O53*$E53))","v":44606},null,{"$f":"IF(OR(COUNTRY_INFO!P53=\"Unknown\",COUNTRY_INFO!P53=\"Surveillance\",COUNTRY_INFO!P53=\"Not required\",COUNTRY_INFO!P53=0),0,IF(AND($E53<>0,$J53=\"\"),IF($F53=0,COUNTRY_INFO!P53*$E53,COUNTRY_INFO!P53*($E53-$D53)), IF(AND($E53<>0,$J53<>0),IF($F53=0,COUNTRY_INFO!P53*$J53,COUNTRY_INFO!P53*($J53-$D53)), COUNTRY_INFO!P53*$J53)))","v":36482},102062,0,null,0,0,0,0,102062,0,102062]
[{"$f":"IF(AND(INTRO!$E$37=\"Non-endemic\",INTRO!$E$41=\"Non-endemic\"),\" \",IF(COUNTRY_INFO!A54=0,\" \",COUNTRY_INFO!A54))","v":"Uganda"},{"$f":"IF(AND(INTRO!$E$37=\"Non-endemic\",INTRO!$E$41=\"Non-endemic\"),\" \",IF(COUNTRY_INFO!B54=0,\" \",COUNTRY_INFO!B54))","v":"Eastern"},{"$f":"IF(AND(INTRO!$E$37=\"Non-endemic\",INTRO!$E$41=\"Non-endemic\"),\" \",IF(COUNTRY_INFO!C54=0,\" \",COUNTRY_INFO!C54))","v":"Kaliro"},{"$f":"IF(AND(INTRO!$E$37=\"Non-endemic\",INTRO!$E$41=\"Non-endemic\"),0,COUNTRY_INFO!V54)","v":0},{"$f":"IF(AND(INTRO!$E$37=\"Non-endemic\",INTRO!$E$41=\"Non-endemic\"),0,COUNTRY_INFO!X54)","v":1},{"$f":"IF(INTRO!$E$39=\"Non-endemic\",IF($D54=1,DEC!I54,0),IF($D54=1,IVM!G54,0))","v":0},null,{"$f":"IF(OR(COUNTRY_INFO!N54=\"Unknown\",COUNTRY_INFO!N54=\"Surveillance\",COUNTRY_INFO!N54=\"Not required\",COUNTRY_INFO!N54=0),0,IF(INTRO!$E$39=\"Non-endemic\",IF(AND($E54<>0,$G54=\"\"),IF($F54=0,COUNTRY_INFO!N54*$E54,COUNTRY_INFO!N54*($E54-$D54)),IF(AND($E54<>0,$G54<>0),IF($F54=0,COUNTRY_INFO!N54*$G54,COUNTRY_INFO!N54*($G54-$D54)),0)),IF($G54=\"\",COUNTRY_INFO!N54*$E54,COUNTRY_INFO!N54*$G54)))","v":45346},{"$f":"IF(OR(COUNTRY_INFO!O54=\"Unknown\",COUNTRY_INFO!O54=\"Surveillance\",COUNTRY_INFO!O54=\"Not required\",COUNTRY_INFO!O54=0),0,IF($E54<>0, IF($F54=0,COUNTRY_INFO!O54*$E54,COUNTRY_INFO!O54*($E54-$D54)),COUNTRY_INFO!O54*$E54))","v":96439},null,{"$f":"IF(OR(COUNTRY_INFO!P54=\"Unknown\",COUNTRY_INFO!P54=\"Surveillance\",COUNTRY_INFO!P54=\"Not required\",COUNTRY_INFO!P54=0),0,IF(AND($E54<>0,$J54=\"\"),IF($F54=0,COUNTRY_INFO!P54*$E54,COUNTRY_INFO!P54*($E54-$D54)), IF(AND($E54<>0,$J54<>0),IF($F54=0,COUNTRY_INFO!P54*$J54,COUNTRY_INFO!P54*($J54-$D54)), COUNTRY_INFO!P54*$J54)))","v":78876},220661,0,null,0,0,0,0,220661,0,220661]
[{"$f":"IF(AND(INTRO!$E$37=\"Non-endemic\",INTRO!$E$41=\"Non-endemic\"),\" \",IF(COUNTRY_INFO!A55=0,\" \",COUNTRY_INFO!A55))","v":"Uganda"},{"$f":"IF(AND(INTRO!$E$37=\"Non-endemic\",INTRO!$E$41=\"Non-endemic\"),\" \",IF(COUNTRY_INFO!B55=0,\" \",COUNTRY_INFO!B55))","v":"Eastern"},{"$f":"IF(AND(INTRO!$E$37=\"Non-endemic\",INTRO!$E$41=\"Non-endemic\"),\" \",IF(COUNTRY_INFO!C55=0,\" \",COUNTRY_INFO!C55))","v":"Kamuli"},{"$f":"IF(AND(INTRO!$E$37=\"Non-endemic\",INTRO!$E$41=\"Non-endemic\"),0,COUNTRY_INFO!V55)","v":0},{"$f":"IF(AND(INTRO!$E$37=\"Non-endemic\",INTRO!$E$41=\"Non-endemic\"),0,COUNTRY_INFO!X55)","v":1},{"$f":"IF(INTRO!$E$39=\"Non-endemic\",IF($D55=1,DEC!I55,0),IF($D55=1,IVM!G55,0))","v":0},null,{"$f":"IF(OR(COUNTRY_INFO!N55=\"Unknown\",COUNTRY_INFO!N55=\"Surveillance\",COUNTRY_INFO!N55=\"Not required\",COUNTRY_INFO!N55=0),0,IF(INTRO!$E$39=\"Non-endemic\",IF(AND($E55<>0,$G55=\"\"),IF($F55=0,COUNTRY_INFO!N55*$E55,COUNTRY_INFO!N55*($E55-$D55)),IF(AND($E55<>0,$G55<>0),IF($F55=0,COUNTRY_INFO!N55*$G55,COUNTRY_INFO!N55*($G55-$D55)),0)),IF($G55=\"\",COUNTRY_INFO!N55*$E55,COUNTRY_INFO!N55*$G55)))","v":93831},{"$f":"IF(OR(COUNTRY_INFO!O55=\"Unknown\",COUNTRY_INFO!O55=\"Surveillance\",COUNTRY_INFO!O55=\"Not required\",COUNTRY_INFO!O55=0),0,IF($E55<>0, IF($F55=0,COUNTRY_INFO!O55*$E55,COUNTRY_INFO!O55*($E55-$D55)),COUNTRY_INFO!O55*$E55))","v":199555},null,{"$f":"IF(OR(COUNTRY_INFO!P55=\"Unknown\",COUNTRY_INFO!P55=\"Surveillance\",COUNTRY_INFO!P55=\"Not required\",COUNTRY_INFO!P55=0),0,IF(AND($E55<>0,$J55=\"\"),IF($F55=0,COUNTRY_INFO!P55*$E55,COUNTRY_INFO!P55*($E55-$D55)), IF(AND($E55<>0,$J55<>0),IF($F55=0,COUNTRY_INFO!P55*$J55,COUNTRY_INFO!P55*($J55-$D55)), COUNTRY_INFO!P55*$J55)))","v":163212},456598,0,null,0,0,0,0,456598,0,456598]
[{"$f":"IF(AND(INTRO!$E$37=\"Non-endemic\",INTRO!$E$41=\"Non-endemic\"),\" \",IF(COUNTRY_INFO!A56=0,\" \",COUNTRY_INFO!A56))","v":"Uganda"},{"$f":"IF(AND(INTRO!$E$37=\"Non-endemic\",INTRO!$E$41=\"Non-endemic\"),\" \",IF(COUNTRY_INFO!B56=0,\" \",COUNTRY_INFO!B56))","v":"Eastern"},{"$f":"IF(AND(INTRO!$E$37=\"Non-endemic\",INTRO!$E$41=\"Non-endemic\"),\" \",IF(COUNTRY_INFO!C56=0,\" \",COUNTRY_INFO!C56))","v":"Kapchorwa"},{"$f":"IF(AND(INTRO!$E$37=\"Non-endemic\",INTRO!$E$41=\"Non-endemic\"),0,COUNTRY_INFO!V56)","v":0},{"$f":"IF(AND(INTRO!$E$37=\"Non-endemic\",INTRO!$E$41=\"Non-endemic\"),0,COUNTRY_INFO!X56)","v":1},{"$f":"IF(INTRO!$E$39=\"Non-endemic\",IF($D56=1,DEC!I56,0),IF($D56=1,IVM!G56,0))","v":0},null,{"$f":"IF(OR(COUNTRY_INFO!N56=\"Unknown\",COUNTRY_INFO!N56=\"Surveillance\",COUNTRY_INFO!N56=\"Not required\",COUNTRY_INFO!N56=0),0,IF(INTRO!$E$39=\"Non-endemic\",IF(AND($E56<>0,$G56=\"\"),IF($F56=0,COUNTRY_INFO!N56*$E56,COUNTRY_INFO!N56*($E56-$D56)),IF(AND($E56<>0,$G56<>0),IF($F56=0,COUNTRY_INFO!N56*$G56,COUNTRY_INFO!N56*($G56-$D56)),0)),IF($G56=\"\",COUNTRY_INFO!N56*$E56,COUNTRY_INFO!N56*$G56)))","v":21353},{"$f":"IF(OR(COUNTRY_INFO!O56=\"Unknown\",COUNTRY_INFO!O56=\"Surveillance\",COUNTRY_INFO!O56=\"Not required\",COUNTRY_INFO!O56=0),0,IF($E56<>0, IF($F56=0,COUNTRY_INFO!O56*$E56,COUNTRY_INFO!O56*($E56-$D56)),COUNTRY_INFO!O56*$E56))","v":45412},null,{"$f":"IF(OR(COUNTRY_INFO!P56=\"Unknown\",COUNTRY_INFO!P56=\"Surveillance\",COUNTRY_INFO!P56=\"Not required\",COUNTRY_INFO!P56=0),0,IF(AND($E56<>0,$J56=\"\"),IF($F56=0,COUNTRY_INFO!P56*$E56,COUNTRY_INFO!P56*($E56-$D56)), IF(AND($E56<>0,$J56<>0),IF($F56=0,COUNTRY_INFO!P56*$J56,COUNTRY_INFO!P56*($J56-$D56)), COUNTRY_INFO!P56*$J56)))","v":37141},103906,0,null,0,0,0,0,103906,0,103906]
[{"$f":"IF(AND(INTRO!$E$37=\"Non-endemic\",INTRO!$E$41=\"Non-endemic\"),\" \",IF(COUNTRY_INFO!A57=0,\" \",COUNTRY_INFO!A57))","v":"Uganda"},{"$f":"IF(AND(INTRO!$E$37=\"Non-endemic\",INTRO!$E$41=\"Non-endemic\"),\" \",IF(COUNTRY_INFO!B57=0,\" \",COUNTRY_INFO!B57))","v":"Eastern"},{"$f":"IF(AND(INTRO!$E$37=\"Non-endemic\",INTRO!$E$41=\"Non-endemic\"),\" \",IF(COUNTRY_INFO!C57=0,\" \",COUNTRY_INFO!C57))","v":"Kapelebyong"},{"$f":"IF(AND(INTRO!$E$37=\"Non-endemic\",INTRO!$E$41=\"Non-endemic\"),0,COUNTRY_INFO!V57)","v":0},{"$f":"IF(AND(INTRO!$E$37=\"Non-endemic\",INTRO!$E$41=\"Non-endemic\"),0,COUNTRY_INFO!X57)","v":1},{"$f":"IF(INTRO!$E$39=\"Non-endemic\",IF($D57=1,DEC!I57,0),IF($D57=1,IVM!G57,0))","v":0},null,{"$f":"IF(OR(COUNTRY_INFO!N57=\"Unknown\",COUNTRY_INFO!N57=\"Surveillance\",COUNTRY_INFO!N57=\"Not required\",COUNTRY_INFO!N57=0),0,IF(INTRO!$E$39=\"Non-endemic\",IF(AND($E57<>0,$G57=\"\"),IF($F57=0,COUNTRY_INFO!N57*$E57,COUNTRY_INFO!N57*($E57-$D57)),IF(AND($E57<>0,$G57<>0),IF($F57=0,COUNTRY_INFO!N57*$G57,COUNTRY_INFO!N57*($G57-$D57)),0)),IF($G57=\"\",COUNTRY_INFO!N57*$E57,COUNTRY_INFO!N57*$G57)))","v":16765},{"$f":"IF(OR(COUNTRY_INFO!O57=\"Unknown\",COUNTRY_INFO!O57=\"Surveillance\",COUNTRY_INFO!O57=\"Not required\",COUNTRY_INFO!O57=0),0,IF($E57<>0, IF($F57=0,COUNTRY_INFO!O57*$E57,COUNTRY_INFO!O57*($E57-$D57)),COUNTRY_INFO!O57*$E57))","v":35656},null,{"$f":"IF(OR(COUNTRY_INFO!P57=\"Unknown\",COUNTRY_INFO!P57=\"Surveillance\",COUNTRY_INFO!P57=\"Not required\",COUNTRY_INFO!P57=0),0,IF(AND($E57<>0,$J57=\"\"),IF($F57=0,COUNTRY_INFO!P57*$E57,COUNTRY_INFO!P57*($E57-$D57)), IF(AND($E57<>0,$J57<>0),IF($F57=0,COUNTRY_INFO!P57*$J57,COUNTRY_INFO!P57*($J57-$D57)), COUNTRY_INFO!P57*$J57)))","v":29162},81583,0,null,0,0,0,0,81583,0,81583]
[{"$f":"IF(AND(INTRO!$E$37=\"Non-endemic\",INTRO!$E$41=\"Non-endemic\"),\" \",IF(COUNTRY_INFO!A58=0,\" \",COUNTRY_INFO!A58))","v":"Uganda"},{"$f":"IF(AND(INTRO!$E$37=\"Non-endemic\",INTRO!$E$41=\"Non-endemic\"),\" \",IF(COUNTRY_INFO!B58=0,\" \",COUNTRY_INFO!B58))","v":"Eastern"},{"$f":"IF(AND(INTRO!$E$37=\"Non-endemic\",INTRO!$E$41=\"Non-endemic\"),\" \",IF(COUNTRY_INFO!C58=0,\" \",COUNTRY_INFO!C58))","v":"Katakwi"},{"$f":"IF(AND(INTRO!$E$37=\"Non-endemic\",INTRO!$E$41=\"Non-endemic\"),0,COUNTRY_INFO!V58)","v":0},{"$f":"IF(AND(INTRO!$E$37=\"Non-endemic\",INTRO!$E$41=\"Non-endemic\"),0,COUNTRY_INFO!X58)","v":1},{"$f":"IF(INTRO!$E$39=\"Non-endemic\",IF($D58=1,DEC!I58,0),IF($D58=1,IVM!G58,0))","v":0},null,{"$f":"IF(OR(COUNTRY_INFO!N58=\"Unknown\",COUNTRY_INFO!N58=\"Surveillance\",COUNTRY_INFO!N58=\"Not required\",COUNTRY_INFO!N58=0),0,IF(INTRO!$E$39=\"Non-endemic\",IF(AND($E58<>0,$G58=\"\"),IF($F58=0,COUNTRY_INFO!N58*$E58,COUNTRY_INFO!N58*($E58-$D58)),IF(AND($E58<>0,$G58<>0),IF($F58=0,COUNTRY_INFO!N58*$G58,COUNTRY_INFO!N58*($G58-$D58)),0)),IF($G58=\"\",COUNTRY_INFO!N58*$E58,COUNTRY_INFO!N58*$G58)))","v":31686},{"$f":"IF(OR(COUNTRY_INFO!O58=\"Unknown\",COUNTRY_INFO!O58=\"Surveillance\",COUNTRY_INFO!O58=\"Not required\",COUNTRY_INFO!O58=0),0,IF($E58<>0, IF($F58=0,COUNTRY_INFO!O58*$E58,COUNTRY_INFO!O58*($E58-$D58)),COUNTRY_INFO!O58*$E58))","v":67389},null,{"$f":"IF(OR(COUNTRY_INFO!P58=\"Unknown\",COUNTRY_INFO!P58=\"Surveillance\",COUNTRY_INFO!P58=\"Not required\",COUNTRY_INFO!P58=0),0,IF(AND($E58<>0,$J58=\"\"),IF($F58=0,COUNTRY_INFO!P58*$E58,COUNTRY_INFO!P58*($E58-$D58)), IF(AND($E58<>0,$J58<>0),IF($F58=0,COUNTRY_INFO!P58*$J58,COUNTRY_INFO!P58*($J58-$D58)), COUNTRY_INFO!P58*$J58)))","v":55116},154191,0,null,0,0,0,0,154191,0,154191]
[{"$f":"IF(AND(INTRO!$E$37=\"Non-endemic\",INTRO!$E$41=\"Non-endemic\"),\" \",IF(COUNTRY_INFO!A59=0,\" \",COUNTRY_INFO!A59))","v":"Uganda"},{"$f":"IF(AND(INTRO!$E$37=\"Non-endemic\",INTRO!$E$41=\"Non-endemic\"),\" \",IF(COUNTRY_INFO!B59=0,\" \",COUNTRY_INFO!B59))","v":"Eastern"},{"$f":"IF(AND(INTRO!$E$37=\"Non-endemic\",INTRO!$E$41=\"Non-endemic\"),\" \",IF(COUNTRY_INFO!C59=0,\" \",COUNTRY_INFO!C59))","v":"Kibuku"},{"$f":"IF(AND(INTRO!$E$37=\"Non-endemic\",INTRO!$E$41=\"Non-endemic\"),0,COUNTRY_INFO!V59)","v":0},{"$f":"IF(AND(INTRO!$E$37=\"Non-endemic\",INTRO!$E$41=\"Non-endemic\"),0,COUNTRY_INFO!X59)","v":1},{"$f":"IF(INTRO!$E$39=\"Non-endemic\",IF($D59=1,DEC!I59,0),IF($D59=1,IVM!G59,0))","v":0},null,{"$f":"IF(OR(COUNTRY_INFO!N59=\"Unknown\",COUNTRY_INFO!N59=\"Surveillance\",COUNTRY_INFO!N59=\"Not required\",COUNTRY_INFO!N59=0),0,IF(INTRO!$E$39=\"Non-endemic\",IF(AND($E59<>0,$G59=\"\"),IF($F59=0,COUNTRY_INFO!N59*$E59,COUNTRY_INFO!N59*($E59-$D59)),IF(AND($E59<>0,$G59<>0),IF($F59=0,COUNTRY_INFO!N59*$G59,COUNTRY_INFO!N59*($G59-$D59)),0)),IF($G59=\"\",COUNTRY_INFO!N59*$E59,COUNTRY_INFO!N59*$G59)))","v":38783},{"$f":"IF(OR(COUNTRY_INFO!O59=\"Unknown\",COUNTRY_INFO!O59=\"Surveillance\",COUNTRY_INFO!O59=\"Not required\",COUNTRY_INFO!O59=0),0,IF($E59<>0, IF($F59=0,COUNTRY_INFO!O59*$E59,COUNTRY_INFO!O59*($E59-$D59)),COUNTRY_INFO!O59*$E59))","v":82482},null,{"$f":"IF(OR(COUNTRY_INFO!P59=\"Unknown\",COUNTRY_INFO!P59=\"Surveillance\",COUNTRY_INFO!P59=\"Not required\",COUNTRY_INFO!P59=0),0,IF(AND($E59<>0,$J59=\"\"),IF($F59=0,COUNTRY_INFO!P59*$E59,COUNTRY_INFO!P59*($E59-$D59)), IF(AND($E59<>0,$J59<>0),IF($F59=0,COUNTRY_INFO!P59*$J59,COUNTRY_INFO!P59*($J59-$D59)), COUNTRY_INFO!P59*$J59)))","v":67461},188726,0,null,0,0,0,0,188726,0,188726]
[{"$f":"IF(AND(INTRO!$E$37=\"Non-endemic\",INTRO!$E$41=\"Non-endemic\"),\" \",IF(COUNTRY_INFO!A60=0,\" \",COUNTRY_INFO!A60))","v":"Uganda"},{"$f":"IF(AND(INTRO!$E$37=\"Non-endemic\",INTRO!$E$41=\"Non-endemic\"),\" \",IF(COUNTRY_INFO!B60=0,\" \",COUNTRY_INFO!B60))","v":"Eastern"},{"$f":"IF(AND(INTRO!$E$37=\"Non-endemic\",INTRO!$E$41=\"Non-endemic\"),\" \",IF(COUNTRY_INFO!C60=0,\" \",COUNTRY_INFO!C60))","v":"Kumi"},{"$f":"IF(AND(INTRO!$E$37=\"Non-endemic\",INTRO!$E$41=\"Non-endemic\"),0,COUNTRY_INFO!V60)","v":0},{"$f":"IF(AND(INTRO!$E$37=\"Non-endemic\",INTRO!$E$41=\"Non-endemic\"),0,COUNTRY_INFO!X60)","v":1},{"$f":"IF(INTRO!$E$39=\"Non-endemic\",IF($D60=1,DEC!I60,0),IF($D60=1,IVM!G60,0))","v":0},null,{"$f":"IF(OR(COUNTRY_INFO!N60=\"Unknown\",COUNTRY_INFO!N60=\"Surveillance\",COUNTRY_INFO!N60=\"Not required\",COUNTRY_INFO!N60=0),0,IF(INTRO!$E$39=\"Non-endemic\",IF(AND($E60<>0,$G60=\"\"),IF($F60=0,COUNTRY_INFO!N60*$E60,COUNTRY_INFO!N60*($E60-$D60)),IF(AND($E60<>0,$G60<>0),IF($F60=0,COUNTRY_INFO!N60*$G60,COUNTRY_INFO!N60*($G60-$D60)),0)),IF($G60=\"\",COUNTRY_INFO!N60*$E60,COUNTRY_INFO!N60*$G60)))","v":0},{"$f":"IF(OR(COUNTRY_INFO!O60=\"Unknown\",COUNTRY_INFO!O60=\"Surveillance\",COUNTRY_INFO!O60=\"Not required\",COUNTRY_INFO!O60=0),0,IF($E60<>0, IF($F60=0,COUNTRY_INFO!O60*$E60,COUNTRY_INFO!O60*($E60-$D60)),COUNTRY_INFO!O60*$E60))","v":0},null,{"$f":"IF(OR(COUNTRY_INFO!P60=\"Unknown\",COUNTRY_INFO!P60=\"Surveillance\",COUNTRY_INFO!P60=\"Not required\",COUNTRY_INFO!P60=0),0,IF(AND($E60<>0,$J60=\"\"),IF($F60=0,COUNTRY_INFO!P60*$E60,COUNTRY_INFO!P60*($E60-$D60)), IF(AND($E60<>0,$J60<>0),IF($F60=0,COUNTRY_INFO!P60*$J60,COUNTRY_INFO!P60*($J60-$D60)), COUNTRY_INFO!P60*$J60)))","v":0},0,0,null,0,0,0,0,0,0,0]
[{"$f":"IF(AND(INTRO!$E$37=\"Non-endemic\",INTRO!$E$41=\"Non-endemic\"),\" \",IF(COUNTRY_INFO!A61=0,\" \",COUNTRY_INFO!A61))","v":"Uganda"},{"$f":"IF(AND(INTRO!$E$37=\"Non-endemic\",INTRO!$E$41=\"Non-endemic\"),\" \",IF(COUNTRY_INFO!B61=0,\" \",COUNTRY_INFO!B61))","v":"Eastern"},{"$f":"IF(AND(INTRO!$E$37=\"Non-endemic\",INTRO!$E$41=\"Non-endemic\"),\" \",IF(COUNTRY_INFO!C61=0,\" \",COUNTRY_INFO!C61))","v":"Kween"},{"$f":"IF(AND(INTRO!$E$37=\"Non-endemic\",INTRO!$E$41=\"Non-endemic\"),0,COUNTRY_INFO!V61)","v":0},{"$f":"IF(AND(INTRO!$E$37=\"Non-endemic\",INTRO!$E$41=\"Non-endemic\"),0,COUNTRY_INFO!X61)","v":1},{"$f":"IF(INTRO!$E$39=\"Non-endemic\",IF($D61=1,DEC!I61,0),IF($D61=1,IVM!G61,0))","v":0},null,{"$f":"IF(OR(COUNTRY_INFO!N61=\"Unknown\",COUNTRY_INFO!N61=\"Surveillance\",COUNTRY_INFO!N61=\"Not required\",COUNTRY_INFO!N61=0),0,IF(INTRO!$E$39=\"Non-endemic\",IF(AND($E61<>0,$G61=\"\"),IF($F61=0,COUNTRY_INFO!N61*$E61,COUNTRY_INFO!N61*($E61-$D61)),IF(AND($E61<>0,$G61<>0),IF($F61=0,COUNTRY_INFO!N61*$G61,COUNTRY_INFO!N61*($G61-$D61)),0)),IF($G61=\"\",COUNTRY_INFO!N61*$E61,COUNTRY_INFO!N61*$G61)))","v":18302},{"$f":"IF(OR(COUNTRY_INFO!O61=\"Unknown\",COUNTRY_INFO!O61=\"Surveillance\",COUNTRY_INFO!O61=\"Not required\",COUNTRY_INFO!O61=0),0,IF($E61<>0, IF($F61=0,COUNTRY_INFO!O61*$E61,COUNTRY_INFO!O61*($E61-$D61)),COUNTRY_INFO!O61*$E61))","v":38923},null,{"$f":"IF(OR(COUNTRY_INFO!P61=\"Unknown\",COUNTRY_INFO!P61=\"Surveillance\",COUNTRY_INFO!P61=\"Not required\",COUNTRY_INFO!P61=0),0,IF(AND($E61<>0,$J61=\"\"),IF($F61=0,COUNTRY_INFO!P61*$E61,COUNTRY_INFO!P61*($E61-$D61)), IF(AND($E61<>0,$J61<>0),IF($F61=0,COUNTRY_INFO!P61*$J61,COUNTRY_INFO!P61*($J61-$D61)), COUNTRY_INFO!P61*$J61)))","v":31834},89059,0,null,0,0,0,0,89059,0,89059]
[{"$f":"IF(AND(INTRO!$E$37=\"Non-endemic\",INTRO!$E$41=\"Non-endemic\"),\" \",IF(COUNTRY_INFO!A62=0,\" \",COUNTRY_INFO!A62))","v":"Uganda"},{"$f":"IF(AND(INTRO!$E$37=\"Non-endemic\",INTRO!$E$41=\"Non-endemic\"),\" \",IF(COUNTRY_INFO!B62=0,\" \",COUNTRY_INFO!B62))","v":"Eastern"},{"$f":"IF(AND(INTRO!$E$37=\"Non-endemic\",INTRO!$E$41=\"Non-endemic\"),\" \",IF(COUNTRY_INFO!C62=0,\" \",COUNTRY_INFO!C62))","v":"Luuka"},{"$f":"IF(AND(INTRO!$E$37=\"Non-endemic\",INTRO!$E$41=\"Non-endemic\"),0,COUNTRY_INFO!V62)","v":0},{"$f":"IF(AND(INTRO!$E$37=\"Non-endemic\",INTRO!$E$41=\"Non-endemic\"),0,COUNTRY_INFO!X62)","v":1},{"$f":"IF(INTRO!$E$39=\"Non-endemic\",IF($D62=1,DEC!I62,0),IF($D62=1,IVM!G62,0))","v":0},null,{"$f":"IF(OR(COUNTRY_INFO!N62=\"Unknown\",COUNTRY_INFO!N62=\"Surveillance\",COUNTRY_INFO!N62=\"Not required\",COUNTRY_INFO!N62=0),0,IF(INTRO!$E$39=\"Non-endemic\",IF(AND($E62<>0,$G62=\"\"),IF($F62=0,COUNTRY_INFO!N62*$E62,COUNTRY_INFO!N62*($E62-$D62)),IF(AND($E62<>0,$G62<>0),IF($F62=0,COUNTRY_INFO!N62*$G62,COUNTRY_INFO!N62*($G62-$D62)),0)),IF($G62=\"\",COUNTRY_INFO!N62*$E62,COUNTRY_INFO!N62*$G62)))","v":46212},{"$f":"IF(OR(COUNTRY_INFO!O62=\"Unknown\",COUNTRY_INFO!O62=\"Surveillance\",COUNTRY_INFO!O62=\"Not required\",COUNTRY_INFO!O62=0),0,IF($E62<>0, IF($F62=0,COUNTRY_INFO!O62*$E62,COUNTRY_INFO!O62*($E62-$D62)),COUNTRY_INFO!O62*$E62))","v":98283},null,{"$f":"IF(OR(COUNTRY_INFO!P62=\"Unknown\",COUNTRY_INFO!P62=\"Surveillance\",COUNTRY_INFO!P62=\"Not required\",COUNTRY_INFO!P62=0),0,IF(AND($E62<>0,$J62=\"\"),IF($F62=0,COUNTRY_INFO!P62*$E62,COUNTRY_INFO!P62*($E62-$D62)), IF(AND($E62<>0,$J62<>0),IF($F62=0,COUNTRY_INFO!P62*$J62,COUNTRY_INFO!P62*($J62-$D62)), COUNTRY_INFO!P62*$J62)))","v":80383},224878,0,null,0,0,0,0,224878,0,224878]
[{"$f":"IF(AND(INTRO!$E$37=\"Non-endemic\",INTRO!$E$41=\"Non-endemic\"),\" \",IF(COUNTRY_INFO!A63=0,\" \",COUNTRY_INFO!A63))","v":"Uganda"},{"$f":"IF(AND(INTRO!$E$37=\"Non-endemic\",INTRO!$E$41=\"Non-endemic\"),\" \",IF(COUNTRY_INFO!B63=0,\" \",COUNTRY_INFO!B63))","v":"Eastern"},{"$f":"IF(AND(INTRO!$E$37=\"Non-endemic\",INTRO!$E$41=\"Non-endemic\"),\" \",IF(COUNTRY_INFO!C63=0,\" \",COUNTRY_INFO!C63))","v":"Manafwa"},{"$f":"IF(AND(INTRO!$E$37=\"Non-endemic\",INTRO!$E$41=\"Non-endemic\"),0,COUNTRY_INFO!V63)","v":0},{"$f":"IF(AND(INTRO!$E$37=\"Non-endemic\",INTRO!$E$41=\"Non-endemic\"),0,COUNTRY_INFO!X63)","v":1},{"$f":"IF(INTRO!$E$39=\"Non-endemic\",IF($D63=1,DEC!I63,0),IF($D63=1,IVM!G63,0))","v":0},null,{"$f":"IF(OR(COUNTRY_INFO!N63=\"Unknown\",COUNTRY_INFO!N63=\"Surveillance\",COUNTRY_INFO!N63=\"Not required\",COUNTRY_INFO!N63=0),0,IF(INTRO!$E$39=\"Non-endemic\",IF(AND($E63<>0,$G63=\"\"),IF($F63=0,COUNTRY_INFO!N63*$E63,COUNTRY_INFO!N63*($E63-$D63)),IF(AND($E63<>0,$G63<>0),IF($F63=0,COUNTRY_INFO!N63*$G63,COUNTRY_INFO!N63*($G63-$D63)),0)),IF($G63=\"\",COUNTRY_INFO!N63*$E63,COUNTRY_INFO!N63*$G63)))","v":32210},{"$f":"IF(OR(COUNTRY_INFO!O63=\"Unknown\",COUNTRY_INFO!O63=\"Surveillance\",COUNTRY_INFO!O63=\"Not required\",COUNTRY_INFO!O63=0),0,IF($E63<>0, IF($F63=0,COUNTRY_INFO!O63*$E63,COUNTRY_INFO!O63*($E63-$D63)),COUNTRY_INFO!O63*$E63))","v":68503},null,{"$f":"IF(OR(COUNTRY_INFO!P63=\"Unknown\",COUNTRY_INFO!P63=\"Surveillance\",COUNTRY_INFO!P63=\"Not required\",COUNTRY_INFO!P63=0),0,IF(AND($E63<>0,$J63=\"\"),IF($F63=0,COUNTRY_INFO!P63*$E63,COUNTRY_INFO!P63*($E63-$D63)), IF(AND($E63<>0,$J63<>0),IF($F63=0,COUNTRY_INFO!P63*$J63,COUNTRY_INFO!P63*($J63-$D63)), COUNTRY_INFO!P63*$J63)))","v":56028},156741,0,null,0,0,0,0,156741,0,156741]
[{"$f":"IF(AND(INTRO!$E$37=\"Non-endemic\",INTRO!$E$41=\"Non-endemic\"),\" \",IF(COUNTRY_INFO!A64=0,\" \",COUNTRY_INFO!A64))","v":"Uganda"},{"$f":"IF(AND(INTRO!$E$37=\"Non-endemic\",INTRO!$E$41=\"Non-endemic\"),\" \",IF(COUNTRY_INFO!B64=0,\" \",COUNTRY_INFO!B64))","v":"Eastern"},{"$f":"IF(AND(INTRO!$E$37=\"Non-endemic\",INTRO!$E$41=\"Non-endemic\"),\" \",IF(COUNTRY_INFO!C64=0,\" \",COUNTRY_INFO!C64))","v":"Mayuge"},{"$f":"IF(AND(INTRO!$E$37=\"Non-endemic\",INTRO!$E$41=\"Non-endemic\"),0,COUNTRY_INFO!V64)","v":0},{"$f":"IF(AND(INTRO!$E$37=\"Non-endemic\",INTRO!$E$41=\"Non-endemic\"),0,COUNTRY_INFO!X64)","v":1},{"$f":"IF(INTRO!$E$39=\"Non-endemic\",IF($D64=1,DEC!I64,0),IF($D64=1,IVM!G64,0))","v":0},null,{"$f":"IF(OR(COUNTRY_INFO!N64=\"Unknown\",COUNTRY_INFO!N64=\"Surveillance\",COUNTRY_INFO!N64=\"Not required\",COUNTRY_INFO!N64=0),0,IF(INTRO!$E$39=\"Non-endemic\",IF(AND($E64<>0,$G64=\"\"),IF($F64=0,COUNTRY_INFO!N64*$E64,COUNTRY_INFO!N64*($E64-$D64)),IF(AND($E64<>0,$G64<>0),IF($F64=0,COUNTRY_INFO!N64*$G64,COUNTRY_INFO!N64*($G64-$D64)),0)),IF($G64=\"\",COUNTRY_INFO!N64*$E64,COUNTRY_INFO!N64*$G64)))","v":91710},{"$f":"IF(OR(COUNTRY_INFO!O64=\"Unknown\",COUNTRY_INFO!O64=\"Surveillance\",COUNTRY_INFO!O64=\"Not required\",COUNTRY_INFO!O64=0),0,IF($E64<>0, IF($F64=0,COUNTRY_INFO!O64*$E64,COUNTRY_INFO!O64*($E64-$D64)),COUNTRY_INFO!O64*$E64))","v":195045},null,{"$f":"IF(OR(COUNTRY_INFO!P64=\"Unknown\",COUNTRY_INFO!P64=\"Surveillance\",COUNTRY_INFO!P64=\"Not required\",COUNTRY_INFO!P64=0),0,IF(AND($E64<>0,$J64=\"\"),IF($F64=0,COUNTRY_INFO!P64*$E64,COUNTRY_INFO!P64*($E64-$D64)), IF(AND($E64<>0,$J64<>0),IF($F64=0,COUNTRY_INFO!P64*$J64,COUNTRY_INFO!P64*($J64-$D64)), COUNTRY_INFO!P64*$J64)))","v":159523},446278,0,null,0,0,0,0,446278,0,446278]
[{"$f":"IF(AND(INTRO!$E$37=\"Non-endemic\",INTRO!$E$41=\"Non-endemic\"),\" \",IF(COUNTRY_INFO!A65=0,\" \",COUNTRY_INFO!A65))","v":"Uganda"},{"$f":"IF(AND(INTRO!$E$37=\"Non-endemic\",INTRO!$E$41=\"Non-endemic\"),\" \",IF(COUNTRY_INFO!B65=0,\" \",COUNTRY_INFO!B65))","v":"Eastern"},{"$f":"IF(AND(INTRO!$E$37=\"Non-endemic\",INTRO!$E$41=\"Non-endemic\"),\" \",IF(COUNTRY_INFO!C65=0,\" \",COUNTRY_INFO!C65))","v":"Mbale"},{"$f":"IF(AND(INTRO!$E$37=\"Non-endemic\",INTRO!$E$41=\"Non-endemic\"),0,COUNTRY_INFO!V65)","v":0},{"$f":"IF(AND(INTRO!$E$37=\"Non-endemic\",INTRO!$E$41=\"Non-endemic\"),0,COUNTRY_INFO!X65)","v":1},{"$f":"IF(INTRO!$E$39=\"Non-endemic\",IF($D65=1,DEC!I65,0),IF($D65=1,IVM!G65,0))","v":0},null,{"$f":"IF(OR(COUNTRY_INFO!N65=\"Unknown\",COUNTRY_INFO!N65=\"Surveillance\",COUNTRY_INFO!N65=\"Not required\",COUNTRY_INFO!N65=0),0,IF(INTRO!$E$39=\"Non-endemic\",IF(AND($E65<>0,$G65=\"\"),IF($F65=0,COUNTRY_INFO!N65*$E65,COUNTRY_INFO!N65*($E65-$D65)),IF(AND($E65<>0,$G65<>0),IF($F65=0,COUNTRY_INFO!N65*$G65,COUNTRY_INFO!N65*($G65-$D65)),0)),IF($G65=\"\",COUNTRY_INFO!N65*$E65,COUNTRY_INFO!N65*$G65)))","v":67975},{"$f":"IF(OR(COUNTRY_INFO!O65=\"Unknown\",COUNTRY_INFO!O65=\"Surveillance\",COUNTRY_INFO!O65=\"Not required\",COUNTRY_INFO!O65=0),0,IF($E65<>0, IF($F65=0,COUNTRY_INFO!O65*$E65,COUNTRY_INFO!O65*($E65-$D65)),COUNTRY_INFO!O65*$E65))","v":144566},null,{"$f":"IF(OR(COUNTRY_INFO!P65=\"Unknown\",COUNTRY_INFO!P65=\"Surveillance\",COUNTRY_INFO!P65=\"Not required\",COUNTRY_INFO!P65=0),0,IF(AND($E65<>0,$J65=\"\"),IF($F65=0,COUNTRY_INFO!P65*$E65,COUNTRY_INFO!P65*($E65-$D65)), IF(AND($E65<>0,$J65<>0),IF($F65=0,COUNTRY_INFO!P65*$J65,COUNTRY_INFO!P65*($J65-$D65)), COUNTRY_INFO!P65*$J65)))","v":118238},330779,0,null,0,0,0,0,330779,0,330779]
[{"$f":"IF(AND(INTRO!$E$37=\"Non-endemic\",INTRO!$E$41=\"Non-endemic\"),\" \",IF(COUNTRY_INFO!A66=0,\" \",COUNTRY_INFO!A66))","v":"Uganda"},{"$f":"IF(AND(INTRO!$E$37=\"Non-endemic\",INTRO!$E$41=\"Non-endemic\"),\" \",IF(COUNTRY_INFO!B66=0,\" \",COUNTRY_INFO!B66))","v":"Eastern"},{"$f":"IF(AND(INTRO!$E$37=\"Non-endemic\",INTRO!$E$41=\"Non-endemic\"),\" \",IF(COUNTRY_INFO!C66=0,\" \",COUNTRY_INFO!C66))","v":"Mbale City"},{"$f":"IF(AND(INTRO!$E$37=\"Non-endemic\",INTRO!$E$41=\"Non-endemic\"),0,COUNTRY_INFO!V66)","v":0},{"$f":"IF(AND(INTRO!$E$37=\"Non-endemic\",INTRO!$E$41=\"Non-endemic\"),0,COUNTRY_INFO!X66)","v":1},{"$f":"IF(INTRO!$E$39=\"Non-endemic\",IF($D66=1,DEC!I66,0),IF($D66=1,IVM!G66,0))","v":0},null,{"$f":"IF(OR(COUNTRY_INFO!N66=\"Unknown\",COUNTRY_INFO!N66=\"Surveillance\",COUNTRY_INFO!N66=\"Not required\",COUNTRY_INFO!N66=0),0,IF(INTRO!$E$39=\"Non-endemic\",IF(AND($E66<>0,$G66=\"\"),IF($F66=0,COUNTRY_INFO!N66*$E66,COUNTRY_INFO!N66*($E66-$D66)),IF(AND($E66<>0,$G66<>0),IF($F66=0,COUNTRY_INFO!N66*$G66,COUNTRY_INFO!N66*($G66-$D66)),0)),IF($G66=\"\",COUNTRY_INFO!N66*$E66,COUNTRY_INFO!N66*$G66)))","v":26345},{"$f":"IF(OR(COUNTRY_INFO!O66=\"Unknown\",COUNTRY_INFO!O66=\"Surveillance\",COUNTRY_INFO!O66=\"Not required\",COUNTRY_INFO!O66=0),0,IF($E66<>0, IF($F66=0,COUNTRY_INFO!O66*$E66,COUNTRY_INFO!O66*($E66-$D66)),COUNTRY_INFO!O66*$E66))","v":56029},null,{"$f":"IF(OR(COUNTRY_INFO!P66=\"Unknown\",COUNTRY_INFO!P66=\"Surveillance\",COUNTRY_INFO!P66=\"Not required\",COUNTRY_INFO!P66=0),0,IF(AND($E66<>0,$J66=\"\"),IF($F66=0,COUNTRY_INFO!P66*$E66,COUNTRY_INFO!P66*($E66-$D66)), IF(AND($E66<>0,$J66<>0),IF($F66=0,COUNTRY_INFO!P66*$J66,COUNTRY_INFO!P66*($J66-$D66)), COUNTRY_INFO!P66*$J66)))","v":45825},128199,0,null,0,0,0,0,128199,0,128199]
[{"$f":"IF(AND(INTRO!$E$37=\"Non-endemic\",INTRO!$E$41=\"Non-endemic\"),\" \",IF(COUNTRY_INFO!A67=0,\" \",COUNTRY_INFO!A67))","v":"Uganda"},{"$f":"IF(AND(INTRO!$E$37=\"Non-endemic\",INTRO!$E$41=\"Non-endemic\"),\" \",IF(COUNTRY_INFO!B67=0,\" \",COUNTRY_INFO!B67))","v":"Eastern"},{"$f":"IF(AND(INTRO!$E$37=\"Non-endemic\",INTRO!$E$41=\"Non-endemic\"),\" \",IF(COUNTRY_INFO!C67=0,\" \",COUNTRY_INFO!C67))","v":"Namayingo"},{"$f":"IF(AND(INTRO!$E$37=\"Non-endemic\",INTRO!$E$41=\"Non-endemic\"),0,COUNTRY_INFO!V67)","v":0},{"$f":"IF(AND(INTRO!$E$37=\"Non-endemic\",INTRO!$E$41=\"Non-endemic\"),0,COUNTRY_INFO!X67)","v":1},{"$f":"IF(INTRO!$E$39=\"Non-endemic\",IF($D67=1,DEC!I67,0),IF($D67=1,IVM!G67,0))","v":0},null,{"$f":"IF(OR(COUNTRY_INFO!N67=\"Unknown\",COUNTRY_INFO!N67=\"Surveillance\",COUNTRY_INFO!N67=\"Not required\",COUNTRY_INFO!N67=0),0,IF(INTRO!$E$39=\"Non-endemic\",IF(AND($E67<>0,$G67=\"\"),IF($F67=0,COUNTRY_INFO!N67*$E67,COUNTRY_INFO!N67*($E67-$D67)),IF(AND($E67<>0,$G67<>0),IF($F67=0,COUNTRY_INFO!N67*$G67,COUNTRY_INFO!N67*($G67-$D67)),0)),IF($G67=\"\",COUNTRY_INFO!N67*$E67,COUNTRY_INFO!N67*$G67)))","v":42724},{"$f":"IF(OR(COUNTRY_INFO!O67=\"Unknown\",COUNTRY_INFO!O67=\"Surveillance\",COUNTRY_INFO!O67=\"Not required\",COUNTRY_INFO!O67=0),0,IF($E67<>0, IF($F67=0,COUNTRY_INFO!O67*$E67,COUNTRY_INFO!O67*($E67-$D67)),COUNTRY_INFO!O67*$E67))","v":90863},null,{"$f":"IF(OR(COUNTRY_INFO!P67=\"Unknown\",COUNTRY_INFO!P67=\"Surveillance\",COUNTRY_INFO!P67=\"Not required\",COUNTRY_INFO!P67=0),0,IF(AND($E67<>0,$J67=\"\"),IF($F67=0,COUNTRY_INFO!P67*$E67,COUNTRY_INFO!P67*($E67-$D67)), IF(AND($E67<>0,$J67<>0),IF($F67=0,COUNTRY_INFO!P67*$J67,COUNTRY_INFO!P67*($J67-$D67)), COUNTRY_INFO!P67*$J67)))","v":74315},207902,0,null,0,0,0,0,207902,0,207902]
[{"$f":"IF(AND(INTRO!$E$37=\"Non-endemic\",INTRO!$E$41=\"Non-endemic\"),\" \",IF(COUNTRY_INFO!A68=0,\" \",COUNTRY_INFO!A68))","v":"Uganda"},{"$f":"IF(AND(INTRO!$E$37=\"Non-endemic\",INTRO!$E$41=\"Non-endemic\"),\" \",IF(COUNTRY_INFO!B68=0,\" \",COUNTRY_INFO!B68))","v":"Eastern"},{"$f":"IF(AND(INTRO!$E$37=\"Non-endemic\",INTRO!$E$41=\"Non-endemic\"),\" \",IF(COUNTRY_INFO!C68=0,\" \",COUNTRY_INFO!C68))","v":"Namisindwa"},{"$f":"IF(AND(INTRO!$E$37=\"Non-endemic\",INTRO!$E$41=\"Non-endemic\"),0,COUNTRY_INFO!V68)","v":0},{"$f":"IF(AND(INTRO!$E$37=\"Non-endemic\",INTRO!$E$41=\"Non-endemic\"),0,COUNTRY_INFO!X68)","v":1},{"$f":"IF(INTRO!$E$39=\"Non-endemic\",IF($D68=1,DEC!I68,0),IF($D68=1,IVM!G68,0))","v":0},null,{"$f":"IF(OR(COUNTRY_INFO!N68=\"Unknown\",COUNTRY_INFO!N68=\"Surveillance\",COUNTRY_INFO!N68=\"Not required\",COUNTRY_INFO!N68=0),0,IF(INTRO!$E$39=\"Non-endemic\",IF(AND($E68<>0,$G68=\"\"),IF($F68=0,COUNTRY_INFO!N68*$E68,COUNTRY_INFO!N68*($E68-$D68)),IF(AND($E68<>0,$G68<>0),IF($F68=0,COUNTRY_INFO!N68*$G68,COUNTRY_INFO!N68*($G68-$D68)),0)),IF($G68=\"\",COUNTRY_INFO!N68*$E68,COUNTRY_INFO!N68*$G68)))","v":35325},{"$f":"IF(OR(COUNTRY_INFO!O68=\"Unknown\",COUNTRY_INFO!O68=\"Surveillance\",COUNTRY_INFO!O68=\"Not required\",COUNTRY_INFO!O68=0),0,IF($E68<>0, IF($F68=0,COUNTRY_INFO!O68*$E68,COUNTRY_INFO!O68*($E68-$D68)),COUNTRY_INFO!O68*$E68))","v":75128},null,{"$f":"IF(OR(COUNTRY_INFO!P68=\"Unknown\",COUNTRY_INFO!P68=\"Surveillance\",COUNTRY_INFO!P68=\"Not required\",COUNTRY_INFO!P68=0),0,IF(AND($E68<>0,$J68=\"\"),IF($F68=0,COUNTRY_INFO!P68*$E68,COUNTRY_INFO!P68*($E68-$D68)), IF(AND($E68<>0,$J68<>0),IF($F68=0,COUNTRY_INFO!P68*$J68,COUNTRY_INFO!P68*($J68-$D68)), COUNTRY_INFO!P68*$J68)))","v":61446},171899,0,null,0,0,0,0,171899,0,171899]
[{"$f":"IF(AND(INTRO!$E$37=\"Non-endemic\",INTRO!$E$41=\"Non-endemic\"),\" \",IF(COUNTRY_INFO!A69=0,\" \",COUNTRY_INFO!A69))","v":"Uganda"},{"$f":"IF(AND(INTRO!$E$37=\"Non-endemic\",INTRO!$E$41=\"Non-endemic\"),\" \",IF(COUNTRY_INFO!B69=0,\" \",COUNTRY_INFO!B69))","v":"Eastern"},{"$f":"IF(AND(INTRO!$E$37=\"Non-endemic\",INTRO!$E$41=\"Non-endemic\"),\" \",IF(COUNTRY_INFO!C69=0,\" \",COUNTRY_INFO!C69))","v":"Namutumba"},{"$f":"IF(AND(INTRO!$E$37=\"Non-endemic\",INTRO!$E$41=\"Non-endemic\"),0,COUNTRY_INFO!V69)","v":0},{"$f":"IF(AND(INTRO!$E$37=\"Non-endemic\",INTRO!$E$41=\"Non-endemic\"),0,COUNTRY_INFO!X69)","v":1},{"$f":"IF(INTRO!$E$39=\"Non-endemic\",IF($D69=1,DEC!I69,0),IF($D69=1,IVM!G69,0))","v":0},null,{"$f":"IF(OR(COUNTRY_INFO!N69=\"Unknown\",COUNTRY_INFO!N69=\"Surveillance\",COUNTRY_INFO!N69=\"Not required\",COUNTRY_INFO!N69=0),0,IF(INTRO!$E$39=\"Non-endemic\",IF(AND($E69<>0,$G69=\"\"),IF($F69=0,COUNTRY_INFO!N69*$E69,COUNTRY_INFO!N69*($E69-$D69)),IF(AND($E69<>0,$G69<>0),IF($F69=0,COUNTRY_INFO!N69*$G69,COUNTRY_INFO!N69*($G69-$D69)),0)),IF($G69=\"\",COUNTRY_INFO!N69*$E69,COUNTRY_INFO!N69*$G69)))","v":48472},{"$f":"IF(OR(COUNTRY_INFO!O69=\"Unknown\",COUNTRY_INFO!O69=\"Surveillance\",COUNTRY_INFO!O69=\"Not required\",COUNTRY_INFO!O69=0),0,IF($E69<>0, IF($F69=0,COUNTRY_INFO!O69*$E69,COUNTRY_INFO!O69*($E69-$D69)),COUNTRY_INFO!O69*$E69))","v":103088},null,{"$f":"IF(OR(COUNTRY_INFO!P69=\"Unknown\",COUNTRY_INFO!P69=\"Surveillance\",COUNTRY_INFO!P69=\"Not required\",COUNTRY_INFO!P69=0),0,IF(AND($E69<>0,$J69=\"\"),IF($F69=0,COUNTRY_INFO!P69*$E69,COUNTRY_INFO!P69*($E69-$D69)), IF(AND($E69<>0,$J69<>0),IF($F69=0,COUNTRY_INFO!P69*$J69,COUNTRY_INFO!P69*($J69-$D69)), COUNTRY_INFO!P69*$J69)))","v":84314},235874,0,null,0,0,0,0,235874,0,235874]
[{"$f":"IF(AND(INTRO!$E$37=\"Non-endemic\",INTRO!$E$41=\"Non-endemic\"),\" \",IF(COUNTRY_INFO!A70=0,\" \",COUNTRY_INFO!A70))","v":"Uganda"},{"$f":"IF(AND(INTRO!$E$37=\"Non-endemic\",INTRO!$E$41=\"Non-endemic\"),\" \",IF(COUNTRY_INFO!B70=0,\" \",COUNTRY_INFO!B70))","v":"Eastern"},{"$f":"IF(AND(INTRO!$E$37=\"Non-endemic\",INTRO!$E$41=\"Non-endemic\"),\" \",IF(COUNTRY_INFO!C70=0,\" \",COUNTRY_INFO!C70))","v":"Ngora"},{"$f":"IF(AND(INTRO!$E$37=\"Non-endemic\",INTRO!$E$41=\"Non-endemic\"),0,COUNTRY_INFO!V70)","v":0},{"$f":"IF(AND(INTRO!$E$37=\"Non-endemic\",INTRO!$E$41=\"Non-endemic\"),0,COUNTRY_INFO!X70)","v":1},{"$f":"IF(INTRO!$E$39=\"Non-endemic\",IF($D70=1,DEC!I70,0),IF($D70=1,IVM!G70,0))","v":0},null,{"$f":"IF(OR(COUNTRY_INFO!N70=\"Unknown\",COUNTRY_INFO!N70=\"Surveillance\",COUNTRY_INFO!N70=\"Not required\",COUNTRY_INFO!N70=0),0,IF(INTRO!$E$39=\"Non-endemic\",IF(AND($E70<>0,$G70=\"\"),IF($F70=0,COUNTRY_INFO!N70*$E70,COUNTRY_INFO!N70*($E70-$D70)),IF(AND($E70<>0,$G70<>0),IF($F70=0,COUNTRY_INFO!N70*$G70,COUNTRY_INFO!N70*($G70-$D70)),0)),IF($G70=\"\",COUNTRY_INFO!N70*$E70,COUNTRY_INFO!N70*$G70)))","v":0},{"$f":"IF(OR(COUNTRY_INFO!O70=\"Unknown\",COUNTRY_INFO!O70=\"Surveillance\",COUNTRY_INFO!O70=\"Not required\",COUNTRY_INFO!O70=0),0,IF($E70<>0, IF($F70=0,COUNTRY_INFO!O70*$E70,COUNTRY_INFO!O70*($E70-$D70)),COUNTRY_INFO!O70*$E70))","v":0},null,{"$f":"IF(OR(COUNTRY_INFO!P70=\"Unknown\",COUNTRY_INFO!P70=\"Surveillance\",COUNTRY_INFO!P70=\"Not required\",COUNTRY_INFO!P70=0),0,IF(AND($E70<>0,$J70=\"\"),IF($F70=0,COUNTRY_INFO!P70*$E70,COUNTRY_INFO!P70*($E70-$D70)), IF(AND($E70<>0,$J70<>0),IF($F70=0,COUNTRY_INFO!P70*$J70,COUNTRY_INFO!P70*($J70-$D70)), COUNTRY_INFO!P70*$J70)))","v":0},0,0,null,0,0,0,0,0,0,0]
[{"$f":"IF(AND(INTRO!$E$37=\"Non-endemic\",INTRO!$E$41=\"Non-endemic\"),\" \",IF(COUNTRY_INFO!A71=0,\" \",COUNTRY_INFO!A71))","v":"Uganda"},{"$f":"IF(AND(INTRO!$E$37=\"Non-endemic\",INTRO!$E$41=\"Non-endemic\"),\" \",IF(COUNTRY_INFO!B71=0,\" \",COUNTRY_INFO!B71))","v":"Eastern"},{"$f":"IF(AND(INTRO!$E$37=\"Non-endemic\",INTRO!$E$41=\"Non-endemic\"),\" \",IF(COUNTRY_INFO!C71=0,\" \",COUNTRY_INFO!C71))","v":"Pallisa"},{"$f":"IF(AND(INTRO!$E$37=\"Non-endemic\",INTRO!$E$41=\"Non-endemic\"),0,COUNTRY_INFO!V71)","v":0},{"$f":"IF(AND(INTRO!$E$37=\"Non-endemic\",INTRO!$E$41=\"Non-endemic\"),0,COUNTRY_INFO!X71)","v":1},{"$f":"IF(INTRO!$E$39=\"Non-endemic\",IF($D71=1,DEC!I71,0),IF($D71=1,IVM!G71,0))","v":0},null,{"$f":"IF(OR(COUNTRY_INFO!N71=\"Unknown\",COUNTRY_INFO!N71=\"Surveillance\",COUNTRY_INFO!N71=\"Not required\",COUNTRY_INFO!N71=0),0,IF(INTRO!$E$39=\"Non-endemic\",IF(AND($E71<>0,$G71=\"\"),IF($F71=0,COUNTRY_INFO!N71*$E71,COUNTRY_INFO!N71*($E71-$D71)),IF(AND($E71<>0,$G71<>0),IF($F71=0,COUNTRY_INFO!N71*$G71,COUNTRY_INFO!N71*($G71-$D71)),0)),IF($G71=\"\",COUNTRY_INFO!N71*$E71,COUNTRY_INFO!N71*$G71)))","v":46277},{"$f":"IF(OR(COUNTRY_INFO!O71=\"Unknown\",COUNTRY_INFO!O71=\"Surveillance\",COUNTRY_INFO!O71=\"Not required\",COUNTRY_INFO!O71=0),0,IF($E71<>0, IF($F71=0,COUNTRY_INFO!O71*$E71,COUNTRY_INFO!O71*($E71-$D71)),COUNTRY_INFO!O71*$E71))","v":98419},null,{"$f":"IF(OR(COUNTRY_INFO!P71=\"Unknown\",COUNTRY_INFO!P71=\"Surveillance\",COUNTRY_INFO!P71=\"Not required\",COUNTRY_INFO!P71=0),0,IF(AND($E71<>0,$J71=\"\"),IF($F71=0,COUNTRY_INFO!P71*$E71,COUNTRY_INFO!P71*($E71-$D71)), IF(AND($E71<>0,$J71<>0),IF($F71=0,COUNTRY_INFO!P71*$J71,COUNTRY_INFO!P71*($J71-$D71)), COUNTRY_INFO!P71*$J71)))","v":80495},225191,0,null,0,0,0,0,225191,0,225191]
[{"$f":"IF(AND(INTRO!$E$37=\"Non-endemic\",INTRO!$E$41=\"Non-endemic\"),\" \",IF(COUNTRY_INFO!A72=0,\" \",COUNTRY_INFO!A72))","v":"Uganda"},{"$f":"IF(AND(INTRO!$E$37=\"Non-endemic\",INTRO!$E$41=\"Non-endemic\"),\" \",IF(COUNTRY_INFO!B72=0,\" \",COUNTRY_INFO!B72))","v":"Eastern"},{"$f":"IF(AND(INTRO!$E$37=\"Non-endemic\",INTRO!$E$41=\"Non-endemic\"),\" \",IF(COUNTRY_INFO!C72=0,\" \",COUNTRY_INFO!C72))","v":"Serere"},{"$f":"IF(AND(INTRO!$E$37=\"Non-endemic\",INTRO!$E$41=\"Non-endemic\"),0,COUNTRY_INFO!V72)","v":0},{"$f":"IF(AND(INTRO!$E$37=\"Non-endemic\",INTRO!$E$41=\"Non-endemic\"),0,COUNTRY_INFO!X72)","v":1},{"$f":"IF(INTRO!$E$39=\"Non-endemic\",IF($D72=1,DEC!I72,0),IF($D72=1,IVM!G72,0))","v":0},null,{"$f":"IF(OR(COUNTRY_INFO!N72=\"Unknown\",COUNTRY_INFO!N72=\"Surveillance\",COUNTRY_INFO!N72=\"Not required\",COUNTRY_INFO!N72=0),0,IF(INTRO!$E$39=\"Non-endemic\",IF(AND($E72<>0,$G72=\"\"),IF($F72=0,COUNTRY_INFO!N72*$E72,COUNTRY_INFO!N72*($E72-$D72)),IF(AND($E72<>0,$G72<>0),IF($F72=0,COUNTRY_INFO!N72*$G72,COUNTRY_INFO!N72*($G72-$D72)),0)),IF($G72=\"\",COUNTRY_INFO!N72*$E72,COUNTRY_INFO!N72*$G72)))","v":54285},{"$f":"IF(OR(COUNTRY_INFO!O72=\"Unknown\",COUNTRY_INFO!O72=\"Surveillance\",COUNTRY_INFO!O72=\"Not required\",COUNTRY_INFO!O72=0),0,IF($E72<>0, IF($F72=0,COUNTRY_INFO!O72*$E72,COUNTRY_INFO!O72*($E72-$D72)),COUNTRY_INFO!O72*$E72))","v":115451},null,{"$f":"IF(OR(COUNTRY_INFO!P72=\"Unknown\",COUNTRY_INFO!P72=\"Surveillance\",COUNTRY_INFO!P72=\"Not required\",COUNTRY_INFO!P72=0),0,IF(AND($E72<>0,$J72=\"\"),IF($F72=0,COUNTRY_INFO!P72*$E72,COUNTRY_INFO!P72*($E72-$D72)), IF(AND($E72<>0,$J72<>0),IF($F72=0,COUNTRY_INFO!P72*$J72,COUNTRY_INFO!P72*($J72-$D72)), COUNTRY_INFO!P72*$J72)))","v":94425},264161,0,null,0,0,0,0,264161,0,264161]
[{"$f":"IF(AND(INTRO!$E$37=\"Non-endemic\",INTRO!$E$41=\"Non-endemic\"),\" \",IF(COUNTRY_INFO!A73=0,\" \",COUNTRY_INFO!A73))","v":"Uganda"},{"$f":"IF(AND(INTRO!$E$37=\"Non-endemic\",INTRO!$E$41=\"Non-endemic\"),\" \",IF(COUNTRY_INFO!B73=0,\" \",COUNTRY_INFO!B73))","v":"Eastern"},{"$f":"IF(AND(INTRO!$E$37=\"Non-endemic\",INTRO!$E$41=\"Non-endemic\"),\" \",IF(COUNTRY_INFO!C73=0,\" \",COUNTRY_INFO!C73))","v":"Sironko"},{"$f":"IF(AND(INTRO!$E$37=\"Non-endemic\",INTRO!$E$41=\"Non-endemic\"),0,COUNTRY_INFO!V73)","v":0},{"$f":"IF(AND(INTRO!$E$37=\"Non-endemic\",INTRO!$E$41=\"Non-endemic\"),0,COUNTRY_INFO!X73)","v":1},{"$f":"IF(INTRO!$E$39=\"Non-endemic\",IF($D73=1,DEC!I73,0),IF($D73=1,IVM!G73,0))","v":0},null,{"$f":"IF(OR(COUNTRY_INFO!N73=\"Unknown\",COUNTRY_INFO!N73=\"Surveillance\",COUNTRY_INFO!N73=\"Not required\",COUNTRY_INFO!N73=0),0,IF(INTRO!$E$39=\"Non-endemic\",IF(AND($E73<>0,$G73=\"\"),IF($F73=0,COUNTRY_INFO!N73*$E73,COUNTRY_INFO!N73*($E73-$D73)),IF(AND($E73<>0,$G73<>0),IF($F73=0,COUNTRY_INFO!N73*$G73,COUNTRY_INFO!N73*($G73-$D73)),0)),IF($G73=\"\",COUNTRY_INFO!N73*$E73,COUNTRY_INFO!N73*$G73)))","v":0},{"$f":"IF(OR(COUNTRY_INFO!O73=\"Unknown\",COUNTRY_INFO!O73=\"Surveillance\",COUNTRY_INFO!O73=\"Not required\",COUNTRY_INFO!O73=0),0,IF($E73<>0, IF($F73=0,COUNTRY_INFO!O73*$E73,COUNTRY_INFO!O73*($E73-$D73)),COUNTRY_INFO!O73*$E73))","v":0},null,{"$f":"IF(OR(COUNTRY_INFO!P73=\"Unknown\",COUNTRY_INFO!P73=\"Surveillance\",COUNTRY_INFO!P73=\"Not required\",COUNTRY_INFO!P73=0),0,IF(AND($E73<>0,$J73=\"\"),IF($F73=0,COUNTRY_INFO!P73*$E73,COUNTRY_INFO!P73*($E73-$D73)), IF(AND($E73<>0,$J73<>0),IF($F73=0,COUNTRY_INFO!P73*$J73,COUNTRY_INFO!P73*($J73-$D73)), COUNTRY_INFO!P73*$J73)))","v":0},0,0,null,0,0,0,0,0,0,0]
[{"$f":"IF(AND(INTRO!$E$37=\"Non-endemic\",INTRO!$E$41=\"Non-endemic\"),\" \",IF(COUNTRY_INFO!A74=0,\" \",COUNTRY_INFO!A74))","v":"Uganda"},{"$f":"IF(AND(INTRO!$E$37=\"Non-endemic\",INTRO!$E$41=\"Non-endemic\"),\" \",IF(COUNTRY_INFO!B74=0,\" \",COUNTRY_INFO!B74))","v":"Eastern"},{"$f":"IF(AND(INTRO!$E$37=\"Non-endemic\",INTRO!$E$41=\"Non-endemic\"),\" \",IF(COUNTRY_INFO!C74=0,\" \",COUNTRY_INFO!C74))","v":"Soroti"},{"$f":"IF(AND(INTRO!$E$37=\"Non-endemic\",INTRO!$E$41=\"Non-endemic\"),0,COUNTRY_INFO!V74)","v":0},{"$f":"IF(AND(INTRO!$E$37=\"Non-endemic\",INTRO!$E$41=\"Non-endemic\"),0,COUNTRY_INFO!X74)","v":1},{"$f":"IF(INTRO!$E$39=\"Non-endemic\",IF($D74=1,DEC!I74,0),IF($D74=1,IVM!G74,0))","v":0},null,{"$f":"IF(OR(COUNTRY_INFO!N74=\"Unknown\",COUNTRY_INFO!N74=\"Surveillance\",COUNTRY_INFO!N74=\"Not required\",COUNTRY_INFO!N74=0),0,IF(INTRO!$E$39=\"Non-endemic\",IF(AND($E74<>0,$G74=\"\"),IF($F74=0,COUNTRY_INFO!N74*$E74,COUNTRY_INFO!N74*($E74-$D74)),IF(AND($E74<>0,$G74<>0),IF($F74=0,COUNTRY_INFO!N74*$G74,COUNTRY_INFO!N74*($G74-$D74)),0)),IF($G74=\"\",COUNTRY_INFO!N74*$E74,COUNTRY_INFO!N74*$G74)))","v":47409},{"$f":"IF(OR(COUNTRY_INFO!O74=\"Unknown\",COUNTRY_INFO!O74=\"Surveillance\",COUNTRY_INFO!O74=\"Not required\",COUNTRY_INFO!O74=0),0,IF($E74<>0, IF($F74=0,COUNTRY_INFO!O74*$E74,COUNTRY_INFO!O74*($E74-$D74)),COUNTRY_INFO!O74*$E74))","v":100827},null,{"$f":"IF(OR(COUNTRY_INFO!P74=\"Unknown\",COUNTRY_INFO!P74=\"Surveillance\",COUNTRY_INFO!P74=\"Not required\",COUNTRY_INFO!P74=0),0,IF(AND($E74<>0,$J74=\"\"),IF($F74=0,COUNTRY_INFO!P74*$E74,COUNTRY_INFO!P74*($E74-$D74)), IF(AND($E74<>0,$J74<>0),IF($F74=0,COUNTRY_INFO!P74*$J74,COUNTRY_INFO!P74*($J74-$D74)), COUNTRY_INFO!P74*$J74)))","v":82465},230701,0,null,0,0,0,0,230701,0,230701]
[{"$f":"IF(AND(INTRO!$E$37=\"Non-endemic\",INTRO!$E$41=\"Non-endemic\"),\" \",IF(COUNTRY_INFO!A75=0,\" \",COUNTRY_INFO!A75))","v":"Uganda"},{"$f":"IF(AND(INTRO!$E$37=\"Non-endemic\",INTRO!$E$41=\"Non-endemic\"),\" \",IF(COUNTRY_INFO!B75=0,\" \",COUNTRY_INFO!B75))","v":"Eastern"},{"$f":"IF(AND(INTRO!$E$37=\"Non-endemic\",INTRO!$E$41=\"Non-endemic\"),\" \",IF(COUNTRY_INFO!C75=0,\" \",COUNTRY_INFO!C75))","v":"Soroti City"},{"$f":"IF(AND(INTRO!$E$37=\"Non-endemic\",INTRO!$E$41=\"Non-endemic\"),0,COUNTRY_INFO!V75)","v":0},{"$f":"IF(AND(INTRO!$E$37=\"Non-endemic\",INTRO!$E$41=\"Non-endemic\"),0,COUNTRY_INFO!X75)","v":1},{"$f":"IF(INTRO!$E$39=\"Non-endemic\",IF($D75=1,DEC!I75,0),IF($D75=1,IVM!G75,0))","v":0},null,{"$f":"IF(OR(COUNTRY_INFO!N75=\"Unknown\",COUNTRY_INFO!N75=\"Surveillance\",COUNTRY_INFO!N75=\"Not required\",COUNTRY_INFO!N75=0),0,IF(INTRO!$E$39=\"Non-endemic\",IF(AND($E75<>0,$G75=\"\"),IF($F75=0,COUNTRY_INFO!N75*$E75,COUNTRY_INFO!N75*($E75-$D75)),IF(AND($E75<>0,$G75<>0),IF($F75=0,COUNTRY_INFO!N75*$G75,COUNTRY_INFO!N75*($G75-$D75)),0)),IF($G75=\"\",COUNTRY_INFO!N75*$E75,COUNTRY_INFO!N75*$G75)))","v":9465},{"$f":"IF(OR(COUNTRY_INFO!O75=\"Unknown\",COUNTRY_INFO!O75=\"Surveillance\",COUNTRY_INFO!O75=\"Not required\",COUNTRY_INFO!O75=0),0,IF($E75<>0, IF($F75=0,COUNTRY_INFO!O75*$E75,COUNTRY_INFO!O75*($E75-$D75)),COUNTRY_INFO!O75*$E75))","v":20130},null,{"$f":"IF(OR(COUNTRY_INFO!P75=\"Unknown\",COUNTRY_INFO!P75=\"Surveillance\",COUNTRY_INFO!P75=\"Not required\",COUNTRY_INFO!P75=0),0,IF(AND($E75<>0,$J75=\"\"),IF($F75=0,COUNTRY_INFO!P75*$E75,COUNTRY_INFO!P75*($E75-$D75)), IF(AND($E75<>0,$J75<>0),IF($F75=0,COUNTRY_INFO!P75*$J75,COUNTRY_INFO!P75*($J75-$D75)), COUNTRY_INFO!P75*$J75)))","v":16464},46059,0,null,0,0,0,0,46059,0,46059]
[{"$f":"IF(AND(INTRO!$E$37=\"Non-endemic\",INTRO!$E$41=\"Non-endemic\"),\" \",IF(COUNTRY_INFO!A76=0,\" \",COUNTRY_INFO!A76))","v":"Uganda"},{"$f":"IF(AND(INTRO!$E$37=\"Non-endemic\",INTRO!$E$41=\"Non-endemic\"),\" \",IF(COUNTRY_INFO!B76=0,\" \",COUNTRY_INFO!B76))","v":"Eastern"},{"$f":"IF(AND(INTRO!$E$37=\"Non-endemic\",INTRO!$E$41=\"Non-endemic\"),\" \",IF(COUNTRY_INFO!C76=0,\" \",COUNTRY_INFO!C76))","v":"Tororo"},{"$f":"IF(AND(INTRO!$E$37=\"Non-endemic\",INTRO!$E$41=\"Non-endemic\"),0,COUNTRY_INFO!V76)","v":0},{"$f":"IF(AND(INTRO!$E$37=\"Non-endemic\",INTRO!$E$41=\"Non-endemic\"),0,COUNTRY_INFO!X76)","v":1},{"$f":"IF(INTRO!$E$39=\"Non-endemic\",IF($D76=1,DEC!I76,0),IF($D76=1,IVM!G76,0))","v":0},null,{"$f":"IF(OR(COUNTRY_INFO!N76=\"Unknown\",COUNTRY_INFO!N76=\"Surveillance\",COUNTRY_INFO!N76=\"Not required\",COUNTRY_INFO!N76=0),0,IF(INTRO!$E$39=\"Non-endemic\",IF(AND($E76<>0,$G76=\"\"),IF($F76=0,COUNTRY_INFO!N76*$E76,COUNTRY_INFO!N76*($E76-$D76)),IF(AND($E76<>0,$G76<>0),IF($F76=0,COUNTRY_INFO!N76*$G76,COUNTRY_INFO!N76*($G76-$D76)),0)),IF($G76=\"\",COUNTRY_INFO!N76*$E76,COUNTRY_INFO!N76*$G76)))","v":100744},{"$f":"IF(OR(COUNTRY_INFO!O76=\"Unknown\",COUNTRY_INFO!O76=\"Surveillance\",COUNTRY_INFO!O76=\"Not required\",COUNTRY_INFO!O76=0),0,IF($E76<>0, IF($F76=0,COUNTRY_INFO!O76*$E76,COUNTRY_INFO!O76*($E76-$D76)),COUNTRY_INFO!O76*$E76))","v":214258},null,{"$f":"IF(OR(COUNTRY_INFO!P76=\"Unknown\",COUNTRY_INFO!P76=\"Surveillance\",COUNTRY_INFO!P76=\"Not required\",COUNTRY_INFO!P76=0),0,IF(AND($E76<>0,$J76=\"\"),IF($F76=0,COUNTRY_INFO!P76*$E76,COUNTRY_INFO!P76*($E76-$D76)), IF(AND($E76<>0,$J76<>0),IF($F76=0,COUNTRY_INFO!P76*$J76,COUNTRY_INFO!P76*($J76-$D76)), COUNTRY_INFO!P76*$J76)))","v":175238},490240,0,null,0,0,0,0,490240,0,490240]
[{"$f":"IF(AND(INTRO!$E$37=\"Non-endemic\",INTRO!$E$41=\"Non-endemic\"),\" \",IF(COUNTRY_INFO!A77=0,\" \",COUNTRY_INFO!A77))","v":"Uganda"},{"$f":"IF(AND(INTRO!$E$37=\"Non-endemic\",INTRO!$E$41=\"Non-endemic\"),\" \",IF(COUNTRY_INFO!B77=0,\" \",COUNTRY_INFO!B77))","v":"Northern"},{"$f":"IF(AND(INTRO!$E$37=\"Non-endemic\",INTRO!$E$41=\"Non-endemic\"),\" \",IF(COUNTRY_INFO!C77=0,\" \",COUNTRY_INFO!C77))","v":"Abim"},{"$f":"IF(AND(INTRO!$E$37=\"Non-endemic\",INTRO!$E$41=\"Non-endemic\"),0,COUNTRY_INFO!V77)","v":0},{"$f":"IF(AND(INTRO!$E$37=\"Non-endemic\",INTRO!$E$41=\"Non-endemic\"),0,COUNTRY_INFO!X77)","v":1},{"$f":"IF(INTRO!$E$39=\"Non-endemic\",IF($D77=1,DEC!I77,0),IF($D77=1,IVM!G77,0))","v":0},null,{"$f":"IF(OR(COUNTRY_INFO!N77=\"Unknown\",COUNTRY_INFO!N77=\"Surveillance\",COUNTRY_INFO!N77=\"Not required\",COUNTRY_INFO!N77=0),0,IF(INTRO!$E$39=\"Non-endemic\",IF(AND($E77<>0,$G77=\"\"),IF($F77=0,COUNTRY_INFO!N77*$E77,COUNTRY_INFO!N77*($E77-$D77)),IF(AND($E77<>0,$G77<>0),IF($F77=0,COUNTRY_INFO!N77*$G77,COUNTRY_INFO!N77*($G77-$D77)),0)),IF($G77=\"\",COUNTRY_INFO!N77*$E77,COUNTRY_INFO!N77*$G77)))","v":20869},{"$f":"IF(OR(COUNTRY_INFO!O77=\"Unknown\",COUNTRY_INFO!O77=\"Surveillance\",COUNTRY_INFO!O77=\"Not required\",COUNTRY_INFO!O77=0),0,IF($E77<>0, IF($F77=0,COUNTRY_INFO!O77*$E77,COUNTRY_INFO!O77*($E77-$D77)),COUNTRY_INFO!O77*$E77))","v":44383},null,{"$f":"IF(OR(COUNTRY_INFO!P77=\"Unknown\",COUNTRY_INFO!P77=\"Surveillance\",COUNTRY_INFO!P77=\"Not required\",COUNTRY_INFO!P77=0),0,IF(AND($E77<>0,$J77=\"\"),IF($F77=0,COUNTRY_INFO!P77*$E77,COUNTRY_INFO!P77*($E77-$D77)), IF(AND($E77<>0,$J77<>0),IF($F77=0,COUNTRY_INFO!P77*$J77,COUNTRY_INFO!P77*($J77-$D77)), COUNTRY_INFO!P77*$J77)))","v":36300},101552,0,null,0,0,0,0,101552,0,101552]
[{"$f":"IF(AND(INTRO!$E$37=\"Non-endemic\",INTRO!$E$41=\"Non-endemic\"),\" \",IF(COUNTRY_INFO!A78=0,\" \",COUNTRY_INFO!A78))","v":"Uganda"},{"$f":"IF(AND(INTRO!$E$37=\"Non-endemic\",INTRO!$E$41=\"Non-endemic\"),\" \",IF(COUNTRY_INFO!B78=0,\" \",COUNTRY_INFO!B78))","v":"Northern"},{"$f":"IF(AND(INTRO!$E$37=\"Non-endemic\",INTRO!$E$41=\"Non-endemic\"),\" \",IF(COUNTRY_INFO!C78=0,\" \",COUNTRY_INFO!C78))","v":"Adjumani"},{"$f":"IF(AND(INTRO!$E$37=\"Non-endemic\",INTRO!$E$41=\"Non-endemic\"),0,COUNTRY_INFO!V78)","v":0},{"$f":"IF(AND(INTRO!$E$37=\"Non-endemic\",INTRO!$E$41=\"Non-endemic\"),0,COUNTRY_INFO!X78)","v":1},{"$f":"IF(INTRO!$E$39=\"Non-endemic\",IF($D78=1,DEC!I78,0),IF($D78=1,IVM!G78,0))","v":0},null,{"$f":"IF(OR(COUNTRY_INFO!N78=\"Unknown\",COUNTRY_INFO!N78=\"Surveillance\",COUNTRY_INFO!N78=\"Not required\",COUNTRY_INFO!N78=0),0,IF(INTRO!$E$39=\"Non-endemic\",IF(AND($E78<>0,$G78=\"\"),IF($F78=0,COUNTRY_INFO!N78*$E78,COUNTRY_INFO!N78*($E78-$D78)),IF(AND($E78<>0,$G78<>0),IF($F78=0,COUNTRY_INFO!N78*$G78,COUNTRY_INFO!N78*($G78-$D78)),0)),IF($G78=\"\",COUNTRY_INFO!N78*$E78,COUNTRY_INFO!N78*$G78)))","v":44560},{"$f":"IF(OR(COUNTRY_INFO!O78=\"Unknown\",COUNTRY_INFO!O78=\"Surveillance\",COUNTRY_INFO!O78=\"Not required\",COUNTRY_INFO!O78=0),0,IF($E78<>0, IF($F78=0,COUNTRY_INFO!O78*$E78,COUNTRY_INFO!O78*($E78-$D78)),COUNTRY_INFO!O78*$E78))","v":94768},null,{"$f":"IF(OR(COUNTRY_INFO!P78=\"Unknown\",COUNTRY_INFO!P78=\"Surveillance\",COUNTRY_INFO!P78=\"Not required\",COUNTRY_INFO!P78=0),0,IF(AND($E78<>0,$J78=\"\"),IF($F78=0,COUNTRY_INFO!P78*$E78,COUNTRY_INFO!P78*($E78-$D78)), IF(AND($E78<>0,$J78<>0),IF($F78=0,COUNTRY_INFO!P78*$J78,COUNTRY_INFO!P78*($J78-$D78)), COUNTRY_INFO!P78*$J78)))","v":77509},216837,0,null,0,0,0,0,216837,0,216837]
[{"$f":"IF(AND(INTRO!$E$37=\"Non-endemic\",INTRO!$E$41=\"Non-endemic\"),\" \",IF(COUNTRY_INFO!A79=0,\" \",COUNTRY_INFO!A79))","v":"Uganda"},{"$f":"IF(AND(INTRO!$E$37=\"Non-endemic\",INTRO!$E$41=\"Non-endemic\"),\" \",IF(COUNTRY_INFO!B79=0,\" \",COUNTRY_INFO!B79))","v":"Northern"},{"$f":"IF(AND(INTRO!$E$37=\"Non-endemic\",INTRO!$E$41=\"Non-endemic\"),\" \",IF(COUNTRY_INFO!C79=0,\" \",COUNTRY_INFO!C79))","v":"Agago"},{"$f":"IF(AND(INTRO!$E$37=\"Non-endemic\",INTRO!$E$41=\"Non-endemic\"),0,COUNTRY_INFO!V79)","v":0},{"$f":"IF(AND(INTRO!$E$37=\"Non-endemic\",INTRO!$E$41=\"Non-endemic\"),0,COUNTRY_INFO!X79)","v":1},{"$f":"IF(INTRO!$E$39=\"Non-endemic\",IF($D79=1,DEC!I79,0),IF($D79=1,IVM!G79,0))","v":0},null,{"$f":"IF(OR(COUNTRY_INFO!N79=\"Unknown\",COUNTRY_INFO!N79=\"Surveillance\",COUNTRY_INFO!N79=\"Not required\",COUNTRY_INFO!N79=0),0,IF(INTRO!$E$39=\"Non-endemic\",IF(AND($E79<>0,$G79=\"\"),IF($F79=0,COUNTRY_INFO!N79*$E79,COUNTRY_INFO!N79*($E79-$D79)),IF(AND($E79<>0,$G79<>0),IF($F79=0,COUNTRY_INFO!N79*$G79,COUNTRY_INFO!N79*($G79-$D79)),0)),IF($G79=\"\",COUNTRY_INFO!N79*$E79,COUNTRY_INFO!N79*$G79)))","v":0},{"$f":"IF(OR(COUNTRY_INFO!O79=\"Unknown\",COUNTRY_INFO!O79=\"Surveillance\",COUNTRY_INFO!O79=\"Not required\",COUNTRY_INFO!O79=0),0,IF($E79<>0, IF($F79=0,COUNTRY_INFO!O79*$E79,COUNTRY_INFO!O79*($E79-$D79)),COUNTRY_INFO!O79*$E79))","v":0},null,{"$f":"IF(OR(COUNTRY_INFO!P79=\"Unknown\",COUNTRY_INFO!P79=\"Surveillance\",COUNTRY_INFO!P79=\"Not required\",COUNTRY_INFO!P79=0),0,IF(AND($E79<>0,$J79=\"\"),IF($F79=0,COUNTRY_INFO!P79*$E79,COUNTRY_INFO!P79*($E79-$D79)), IF(AND($E79<>0,$J79<>0),IF($F79=0,COUNTRY_INFO!P79*$J79,COUNTRY_INFO!P79*($J79-$D79)), COUNTRY_INFO!P79*$J79)))","v":0},0,0,null,0,0,0,0,0,0,0]
[{"$f":"IF(AND(INTRO!$E$37=\"Non-endemic\",INTRO!$E$41=\"Non-endemic\"),\" \",IF(COUNTRY_INFO!A80=0,\" \",COUNTRY_INFO!A80))","v":"Uganda"},{"$f":"IF(AND(INTRO!$E$37=\"Non-endemic\",INTRO!$E$41=\"Non-endemic\"),\" \",IF(COUNTRY_INFO!B80=0,\" \",COUNTRY_INFO!B80))","v":"Northern"},{"$f":"IF(AND(INTRO!$E$37=\"Non-endemic\",INTRO!$E$41=\"Non-endemic\"),\" \",IF(COUNTRY_INFO!C80=0,\" \",COUNTRY_INFO!C80))","v":"Alebtong"},{"$f":"IF(AND(INTRO!$E$37=\"Non-endemic\",INTRO!$E$41=\"Non-endemic\"),0,COUNTRY_INFO!V80)","v":0},{"$f":"IF(AND(INTRO!$E$37=\"Non-endemic\",INTRO!$E$41=\"Non-endemic\"),0,COUNTRY_INFO!X80)","v":1},{"$f":"IF(INTRO!$E$39=\"Non-endemic\",IF($D80=1,DEC!I80,0),IF($D80=1,IVM!G80,0))","v":0},null,{"$f":"IF(OR(COUNTRY_INFO!N80=\"Unknown\",COUNTRY_INFO!N80=\"Surveillance\",COUNTRY_INFO!N80=\"Not required\",COUNTRY_INFO!N80=0),0,IF(INTRO!$E$39=\"Non-endemic\",IF(AND($E80<>0,$G80=\"\"),IF($F80=0,COUNTRY_INFO!N80*$E80,COUNTRY_INFO!N80*($E80-$D80)),IF(AND($E80<>0,$G80<>0),IF($F80=0,COUNTRY_INFO!N80*$G80,COUNTRY_INFO!N80*($G80-$D80)),0)),IF($G80=\"\",COUNTRY_INFO!N80*$E80,COUNTRY_INFO!N80*$G80)))","v":43127},{"$f":"IF(OR(COUNTRY_INFO!O80=\"Unknown\",COUNTRY_INFO!O80=\"Surveillance\",COUNTRY_INFO!O80=\"Not required\",COUNTRY_INFO!O80=0),0,IF($E80<>0, IF($F80=0,COUNTRY_INFO!O80*$E80,COUNTRY_INFO!O80*($E80-$D80)),COUNTRY_INFO!O80*$E80))","v":91720},null,{"$f":"IF(OR(COUNTRY_INFO!P80=\"Unknown\",COUNTRY_INFO!P80=\"Surveillance\",COUNTRY_INFO!P80=\"Not required\",COUNTRY_INFO!P80=0),0,IF(AND($E80<>0,$J80=\"\"),IF($F80=0,COUNTRY_INFO!P80*$E80,COUNTRY_INFO!P80*($E80-$D80)), IF(AND($E80<>0,$J80<>0),IF($F80=0,COUNTRY_INFO!P80*$J80,COUNTRY_INFO!P80*($J80-$D80)), COUNTRY_INFO!P80*$J80)))","v":75016},209863,0,null,0,0,0,0,209863,0,209863]
[{"$f":"IF(AND(INTRO!$E$37=\"Non-endemic\",INTRO!$E$41=\"Non-endemic\"),\" \",IF(COUNTRY_INFO!A81=0,\" \",COUNTRY_INFO!A81))","v":"Uganda"},{"$f":"IF(AND(INTRO!$E$37=\"Non-endemic\",INTRO!$E$41=\"Non-endemic\"),\" \",IF(COUNTRY_INFO!B81=0,\" \",COUNTRY_INFO!B81))","v":"Northern"},{"$f":"IF(AND(INTRO!$E$37=\"Non-endemic\",INTRO!$E$41=\"Non-endemic\"),\" \",IF(COUNTRY_INFO!C81=0,\" \",COUNTRY_INFO!C81))","v":"Amolatar"},{"$f":"IF(AND(INTRO!$E$37=\"Non-endemic\",INTRO!$E$41=\"Non-endemic\"),0,COUNTRY_INFO!V81)","v":0},{"$f":"IF(AND(INTRO!$E$37=\"Non-endemic\",INTRO!$E$41=\"Non-endemic\"),0,COUNTRY_INFO!X81)","v":1},{"$f":"IF(INTRO!$E$39=\"Non-endemic\",IF($D81=1,DEC!I81,0),IF($D81=1,IVM!G81,0))","v":0},null,{"$f":"IF(OR(COUNTRY_INFO!N81=\"Unknown\",COUNTRY_INFO!N81=\"Surveillance\",COUNTRY_INFO!N81=\"Not required\",COUNTRY_INFO!N81=0),0,IF(INTRO!$E$39=\"Non-endemic\",IF(AND($E81<>0,$G81=\"\"),IF($F81=0,COUNTRY_INFO!N81*$E81,COUNTRY_INFO!N81*($E81-$D81)),IF(AND($E81<>0,$G81<>0),IF($F81=0,COUNTRY_INFO!N81*$G81,COUNTRY_INFO!N81*($G81-$D81)),0)),IF($G81=\"\",COUNTRY_INFO!N81*$E81,COUNTRY_INFO!N81*$G81)))","v":28117},{"$f":"IF(OR(COUNTRY_INFO!O81=\"Unknown\",COUNTRY_INFO!O81=\"Surveillance\",COUNTRY_INFO!O81=\"Not required\",COUNTRY_INFO!O81=0),0,IF($E81<>0, IF($F81=0,COUNTRY_INFO!O81*$E81,COUNTRY_INFO!O81*($E81-$D81)),COUNTRY_INFO!O81*$E81))","v":59798},null,{"$f":"IF(OR(COUNTRY_INFO!P81=\"Unknown\",COUNTRY_INFO!P81=\"Surveillance\",COUNTRY_INFO!P81=\"Not required\",COUNTRY_INFO!P81=0),0,IF(AND($E81<>0,$J81=\"\"),IF($F81=0,COUNTRY_INFO!P81*$E81,COUNTRY_INFO!P81*($E81-$D81)), IF(AND($E81<>0,$J81<>0),IF($F81=0,COUNTRY_INFO!P81*$J81,COUNTRY_INFO!P81*($J81-$D81)), COUNTRY_INFO!P81*$J81)))","v":48907},136822,0,null,0,0,0,0,136822,0,136822]
[{"$f":"IF(AND(INTRO!$E$37=\"Non-endemic\",INTRO!$E$41=\"Non-endemic\"),\" \",IF(COUNTRY_INFO!A82=0,\" \",COUNTRY_INFO!A82))","v":"Uganda"},{"$f":"IF(AND(INTRO!$E$37=\"Non-endemic\",INTRO!$E$41=\"Non-endemic\"),\" \",IF(COUNTRY_INFO!B82=0,\" \",COUNTRY_INFO!B82))","v":"Northern"},{"$f":"IF(AND(INTRO!$E$37=\"Non-endemic\",INTRO!$E$41=\"Non-endemic\"),\" \",IF(COUNTRY_INFO!C82=0,\" \",COUNTRY_INFO!C82))","v":"Amudat"},{"$f":"IF(AND(INTRO!$E$37=\"Non-endemic\",INTRO!$E$41=\"Non-endemic\"),0,COUNTRY_INFO!V82)","v":0},{"$f":"IF(AND(INTRO!$E$37=\"Non-endemic\",INTRO!$E$41=\"Non-endemic\"),0,COUNTRY_INFO!X82)","v":1},{"$f":"IF(INTRO!$E$39=\"Non-endemic\",IF($D82=1,DEC!I82,0),IF($D82=1,IVM!G82,0))","v":0},null,{"$f":"IF(OR(COUNTRY_INFO!N82=\"Unknown\",COUNTRY_INFO!N82=\"Surveillance\",COUNTRY_INFO!N82=\"Not required\",COUNTRY_INFO!N82=0),0,IF(INTRO!$E$39=\"Non-endemic\",IF(AND($E82<>0,$G82=\"\"),IF($F82=0,COUNTRY_INFO!N82*$E82,COUNTRY_INFO!N82*($E82-$D82)),IF(AND($E82<>0,$G82<>0),IF($F82=0,COUNTRY_INFO!N82*$G82,COUNTRY_INFO!N82*($G82-$D82)),0)),IF($G82=\"\",COUNTRY_INFO!N82*$E82,COUNTRY_INFO!N82*$G82)))","v":21389},{"$f":"IF(OR(COUNTRY_INFO!O82=\"Unknown\",COUNTRY_INFO!O82=\"Surveillance\",COUNTRY_INFO!O82=\"Not required\",COUNTRY_INFO!O82=0),0,IF($E82<>0, IF($F82=0,COUNTRY_INFO!O82*$E82,COUNTRY_INFO!O82*($E82-$D82)),COUNTRY_INFO!O82*$E82))","v":45490},null,{"$f":"IF(OR(COUNTRY_INFO!P82=\"Unknown\",COUNTRY_INFO!P82=\"Surveillance\",COUNTRY_INFO!P82=\"Not required\",COUNTRY_INFO!P82=0),0,IF(AND($E82<>0,$J82=\"\"),IF($F82=0,COUNTRY_INFO!P82*$E82,COUNTRY_INFO!P82*($E82-$D82)), IF(AND($E82<>0,$J82<>0),IF($F82=0,COUNTRY_INFO!P82*$J82,COUNTRY_INFO!P82*($J82-$D82)), COUNTRY_INFO!P82*$J82)))","v":37205},104084,0,null,0,0,0,0,104084,0,104084]
[{"$f":"IF(AND(INTRO!$E$37=\"Non-endemic\",INTRO!$E$41=\"Non-endemic\"),\" \",IF(COUNTRY_INFO!A83=0,\" \",COUNTRY_INFO!A83))","v":"Uganda"},{"$f":"IF(AND(INTRO!$E$37=\"Non-endemic\",INTRO!$E$41=\"Non-endemic\"),\" \",IF(COUNTRY_INFO!B83=0,\" \",COUNTRY_INFO!B83))","v":"Northern"},{"$f":"IF(AND(INTRO!$E$37=\"Non-endemic\",INTRO!$E$41=\"Non-endemic\"),\" \",IF(COUNTRY_INFO!C83=0,\" \",COUNTRY_INFO!C83))","v":"Amuru"},{"$f":"IF(AND(INTRO!$E$37=\"Non-endemic\",INTRO!$E$41=\"Non-endemic\"),0,COUNTRY_INFO!V83)","v":0},{"$f":"IF(AND(INTRO!$E$37=\"Non-endemic\",INTRO!$E$41=\"Non-endemic\"),0,COUNTRY_INFO!X83)","v":1},{"$f":"IF(INTRO!$E$39=\"Non-endemic\",IF($D83=1,DEC!I83,0),IF($D83=1,IVM!G83,0))","v":0},null,{"$f":"IF(OR(COUNTRY_INFO!N83=\"Unknown\",COUNTRY_INFO!N83=\"Surveillance\",COUNTRY_INFO!N83=\"Not required\",COUNTRY_INFO!N83=0),0,IF(INTRO!$E$39=\"Non-endemic\",IF(AND($E83<>0,$G83=\"\"),IF($F83=0,COUNTRY_INFO!N83*$E83,COUNTRY_INFO!N83*($E83-$D83)),IF(AND($E83<>0,$G83<>0),IF($F83=0,COUNTRY_INFO!N83*$G83,COUNTRY_INFO!N83*($G83-$D83)),0)),IF($G83=\"\",COUNTRY_INFO!N83*$E83,COUNTRY_INFO!N83*$G83)))","v":36463},{"$f":"IF(OR(COUNTRY_INFO!O83=\"Unknown\",COUNTRY_INFO!O83=\"Surveillance\",COUNTRY_INFO!O83=\"Not required\",COUNTRY_INFO!O83=0),0,IF($E83<>0, IF($F83=0,COUNTRY_INFO!O83*$E83,COUNTRY_INFO!O83*($E83-$D83)),COUNTRY_INFO!O83*$E83))","v":77548},null,{"$f":"IF(OR(COUNTRY_INFO!P83=\"Unknown\",COUNTRY_INFO!P83=\"Surveillance\",COUNTRY_INFO!P83=\"Not required\",COUNTRY_INFO!P83=0),0,IF(AND($E83<>0,$J83=\"\"),IF($F83=0,COUNTRY_INFO!P83*$E83,COUNTRY_INFO!P83*($E83-$D83)), IF(AND($E83<>0,$J83<>0),IF($F83=0,COUNTRY_INFO!P83*$J83,COUNTRY_INFO!P83*($J83-$D83)), COUNTRY_INFO!P83*$J83)))","v":63425},177436,0,null,0,0,0,0,177436,0,177436]
[{"$f":"IF(AND(INTRO!$E$37=\"Non-endemic\",INTRO!$E$41=\"Non-endemic\"),\" \",IF(COUNTRY_INFO!A84=0,\" \",COUNTRY_INFO!A84))","v":"Uganda"},{"$f":"IF(AND(INTRO!$E$37=\"Non-endemic\",INTRO!$E$41=\"Non-endemic\"),\" \",IF(COUNTRY_INFO!B84=0,\" \",COUNTRY_INFO!B84))","v":"Northern"},{"$f":"IF(AND(INTRO!$E$37=\"Non-endemic\",INTRO!$E$41=\"Non-endemic\"),\" \",IF(COUNTRY_INFO!C84=0,\" \",COUNTRY_INFO!C84))","v":"Apac"},{"$f":"IF(AND(INTRO!$E$37=\"Non-endemic\",INTRO!$E$41=\"Non-endemic\"),0,COUNTRY_INFO!V84)","v":0},{"$f":"IF(AND(INTRO!$E$37=\"Non-endemic\",INTRO!$E$41=\"Non-endemic\"),0,COUNTRY_INFO!X84)","v":1},{"$f":"IF(INTRO!$E$39=\"Non-endemic\",IF($D84=1,DEC!I84,0),IF($D84=1,IVM!G84,0))","v":0},null,{"$f":"IF(OR(COUNTRY_INFO!N84=\"Unknown\",COUNTRY_INFO!N84=\"Surveillance\",COUNTRY_INFO!N84=\"Not required\",COUNTRY_INFO!N84=0),0,IF(INTRO!$E$39=\"Non-endemic\",IF(AND($E84<>0,$G84=\"\"),IF($F84=0,COUNTRY_INFO!N84*$E84,COUNTRY_INFO!N84*($E84-$D84)),IF(AND($E84<>0,$G84<>0),IF($F84=0,COUNTRY_INFO!N84*$G84,COUNTRY_INFO!N84*($G84-$D84)),0)),IF($G84=\"\",COUNTRY_INFO!N84*$E84,COUNTRY_INFO!N84*$G84)))","v":35480},{"$f":"IF(OR(COUNTRY_INFO!O84=\"Unknown\",COUNTRY_INFO!O84=\"Surveillance\",COUNTRY_INFO!O84=\"Not required\",COUNTRY_INFO!O84=0),0,IF($E84<>0, IF($F84=0,COUNTRY_INFO!O84*$E84,COUNTRY_INFO!O84*($E84-$D84)),COUNTRY_INFO!O84*$E84))","v":75458},null,{"$f":"IF(OR(COUNTRY_INFO!P84=\"Unknown\",COUNTRY_INFO!P84=\"Surveillance\",COUNTRY_INFO!P84=\"Not required\",COUNTRY_INFO!P84=0),0,IF(AND($E84<>0,$J84=\"\"),IF($F84=0,COUNTRY_INFO!P84*$E84,COUNTRY_INFO!P84*($E84-$D84)), IF(AND($E84<>0,$J84<>0),IF($F84=0,COUNTRY_INFO!P84*$J84,COUNTRY_INFO!P84*($J84-$D84)), COUNTRY_INFO!P84*$J84)))","v":61716},172654,0,null,0,0,0,0,172654,0,172654]
[{"$f":"IF(AND(INTRO!$E$37=\"Non-endemic\",INTRO!$E$41=\"Non-endemic\"),\" \",IF(COUNTRY_INFO!A85=0,\" \",COUNTRY_INFO!A85))","v":"Uganda"},{"$f":"IF(AND(INTRO!$E$37=\"Non-endemic\",INTRO!$E$41=\"Non-endemic\"),\" \",IF(COUNTRY_INFO!B85=0,\" \",COUNTRY_INFO!B85))","v":"Northern"},{"$f":"IF(AND(INTRO!$E$37=\"Non-endemic\",INTRO!$E$41=\"Non-endemic\"),\" \",IF(COUNTRY_INFO!C85=0,\" \",COUNTRY_INFO!C85))","v":"Arua"},{"$f":"IF(AND(INTRO!$E$37=\"Non-endemic\",INTRO!$E$41=\"Non-endemic\"),0,COUNTRY_INFO!V85)","v":0},{"$f":"IF(AND(INTRO!$E$37=\"Non-endemic\",INTRO!$E$41=\"Non-endemic\"),0,COUNTRY_INFO!X85)","v":1},{"$f":"IF(INTRO!$E$39=\"Non-endemic\",IF($D85=1,DEC!I85,0),IF($D85=1,IVM!G85,0))","v":0},null,{"$f":"IF(OR(COUNTRY_INFO!N85=\"Unknown\",COUNTRY_INFO!N85=\"Surveillance\",COUNTRY_INFO!N85=\"Not required\",COUNTRY_INFO!N85=0),0,IF(INTRO!$E$39=\"Non-endemic\",IF(AND($E85<>0,$G85=\"\"),IF($F85=0,COUNTRY_INFO!N85*$E85,COUNTRY_INFO!N85*($E85-$D85)),IF(AND($E85<>0,$G85<>0),IF($F85=0,COUNTRY_INFO!N85*$G85,COUNTRY_INFO!N85*($G85-$D85)),0)),IF($G85=\"\",COUNTRY_INFO!N85*$E85,COUNTRY_INFO!N85*$G85)))","v":25578},{"$f":"IF(OR(COUNTRY_INFO!O85=\"Unknown\",COUNTRY_INFO!O85=\"Surveillance\",COUNTRY_INFO!O85=\"Not required\",COUNTRY_INFO!O85=0),0,IF($E85<>0, IF($F85=0,COUNTRY_INFO!O85*$E85,COUNTRY_INFO!O85*($E85-$D85)),COUNTRY_INFO!O85*$E85))","v":54398},null,{"$f":"IF(OR(COUNTRY_INFO!P85=\"Unknown\",COUNTRY_INFO!P85=\"Surveillance\",COUNTRY_INFO!P85=\"Not required\",COUNTRY_INFO!P85=0),0,IF(AND($E85<>0,$J85=\"\"),IF($F85=0,COUNTRY_INFO!P85*$E85,COUNTRY_INFO!P85*($E85-$D85)), IF(AND($E85<>0,$J85<>0),IF($F85=0,COUNTRY_INFO!P85*$J85,COUNTRY_INFO!P85*($J85-$D85)), COUNTRY_INFO!P85*$J85)))","v":44491},124467,0,null,0,0,0,0,124467,0,124467]
[{"$f":"IF(AND(INTRO!$E$37=\"Non-endemic\",INTRO!$E$41=\"Non-endemic\"),\" \",IF(COUNTRY_INFO!A86=0,\" \",COUNTRY_INFO!A86))","v":"Uganda"},{"$f":"IF(AND(INTRO!$E$37=\"Non-endemic\",INTRO!$E$41=\"Non-endemic\"),\" \",IF(COUNTRY_INFO!B86=0,\" \",COUNTRY_INFO!B86))","v":"Northern"},{"$f":"IF(AND(INTRO!$E$37=\"Non-endemic\",INTRO!$E$41=\"Non-endemic\"),\" \",IF(COUNTRY_INFO!C86=0,\" \",COUNTRY_INFO!C86))","v":"Arua City"},{"$f":"IF(AND(INTRO!$E$37=\"Non-endemic\",INTRO!$E$41=\"Non-endemic\"),0,COUNTRY_INFO!V86)","v":0},{"$f":"IF(AND(INTRO!$E$37=\"Non-endemic\",INTRO!$E$41=\"Non-endemic\"),0,COUNTRY_INFO!X86)","v":1},{"$f":"IF(INTRO!$E$39=\"Non-endemic\",IF($D86=1,DEC!I86,0),IF($D86=1,IVM!G86,0))","v":0},null,{"$f":"IF(OR(COUNTRY_INFO!N86=\"Unknown\",COUNTRY_INFO!N86=\"Surveillance\",COUNTRY_INFO!N86=\"Not required\",COUNTRY_INFO!N86=0),0,IF(INTRO!$E$39=\"Non-endemic\",IF(AND($E86<>0,$G86=\"\"),IF($F86=0,COUNTRY_INFO!N86*$E86,COUNTRY_INFO!N86*($E86-$D86)),IF(AND($E86<>0,$G86<>0),IF($F86=0,COUNTRY_INFO!N86*$G86,COUNTRY_INFO!N86*($G86-$D86)),0)),IF($G86=\"\",COUNTRY_INFO!N86*$E86,COUNTRY_INFO!N86*$G86)))","v":59113},{"$f":"IF(OR(COUNTRY_INFO!O86=\"Unknown\",COUNTRY_INFO!O86=\"Surveillance\",COUNTRY_INFO!O86=\"Not required\",COUNTRY_INFO!O86=0),0,IF($E86<>0, IF($F86=0,COUNTRY_INFO!O86*$E86,COUNTRY_INFO!O86*($E86-$D86)),COUNTRY_INFO!O86*$E86))","v":125719},null,{"$f":"IF(OR(COUNTRY_INFO!P86=\"Unknown\",COUNTRY_INFO!P86=\"Surveillance\",COUNTRY_INFO!P86=\"Not required\",COUNTRY_INFO!P86=0),0,IF(AND($E86<>0,$J86=\"\"),IF($F86=0,COUNTRY_INFO!P86*$E86,COUNTRY_INFO!P86*($E86-$D86)), IF(AND($E86<>0,$J86<>0),IF($F86=0,COUNTRY_INFO!P86*$J86,COUNTRY_INFO!P86*($J86-$D86)), COUNTRY_INFO!P86*$J86)))","v":102823},287655,0,null,0,0,0,0,287655,0,287655]
[{"$f":"IF(AND(INTRO!$E$37=\"Non-endemic\",INTRO!$E$41=\"Non-endemic\"),\" \",IF(COUNTRY_INFO!A87=0,\" \",COUNTRY_INFO!A87))","v":"Uganda"},{"$f":"IF(AND(INTRO!$E$37=\"Non-endemic\",INTRO!$E$41=\"Non-endemic\"),\" \",IF(COUNTRY_INFO!B87=0,\" \",COUNTRY_INFO!B87))","v":"Northern"},{"$f":"IF(AND(INTRO!$E$37=\"Non-endemic\",INTRO!$E$41=\"Non-endemic\"),\" \",IF(COUNTRY_INFO!C87=0,\" \",COUNTRY_INFO!C87))","v":"Dokolo"},{"$f":"IF(AND(INTRO!$E$37=\"Non-endemic\",INTRO!$E$41=\"Non-endemic\"),0,COUNTRY_INFO!V87)","v":0},{"$f":"IF(AND(INTRO!$E$37=\"Non-endemic\",INTRO!$E$41=\"Non-endemic\"),0,COUNTRY_INFO!X87)","v":1},{"$f":"IF(INTRO!$E$39=\"Non-endemic\",IF($D87=1,DEC!I87,0),IF($D87=1,IVM!G87,0))","v":0},null,{"$f":"IF(OR(COUNTRY_INFO!N87=\"Unknown\",COUNTRY_INFO!N87=\"Surveillance\",COUNTRY_INFO!N87=\"Not required\",COUNTRY_INFO!N87=0),0,IF(INTRO!$E$39=\"Non-endemic\",IF(AND($E87<>0,$G87=\"\"),IF($F87=0,COUNTRY_INFO!N87*$E87,COUNTRY_INFO!N87*($E87-$D87)),IF(AND($E87<>0,$G87<>0),IF($F87=0,COUNTRY_INFO!N87*$G87,COUNTRY_INFO!N87*($G87-$D87)),0)),IF($G87=\"\",COUNTRY_INFO!N87*$E87,COUNTRY_INFO!N87*$G87)))","v":34945},{"$f":"IF(OR(COUNTRY_INFO!O87=\"Unknown\",COUNTRY_INFO!O87=\"Surveillance\",COUNTRY_INFO!O87=\"Not required\",COUNTRY_INFO!O87=0),0,IF($E87<>0, IF($F87=0,COUNTRY_INFO!O87*$E87,COUNTRY_INFO!O87*($E87-$D87)),COUNTRY_INFO!O87*$E87))","v":74319},null,{"$f":"IF(OR(COUNTRY_INFO!P87=\"Unknown\",COUNTRY_INFO!P87=\"Surveillance\",COUNTRY_INFO!P87=\"Not required\",COUNTRY_INFO!P87=0),0,IF(AND($E87<>0,$J87=\"\"),IF($F87=0,COUNTRY_INFO!P87*$E87,COUNTRY_INFO!P87*($E87-$D87)), IF(AND($E87<>0,$J87<>0),IF($F87=0,COUNTRY_INFO!P87*$J87,COUNTRY_INFO!P87*($J87-$D87)), COUNTRY_INFO!P87*$J87)))","v":60784},170048,0,null,0,0,0,0,170048,0,170048]
[{"$f":"IF(AND(INTRO!$E$37=\"Non-endemic\",INTRO!$E$41=\"Non-endemic\"),\" \",IF(COUNTRY_INFO!A88=0,\" \",COUNTRY_INFO!A88))","v":"Uganda"},{"$f":"IF(AND(INTRO!$E$37=\"Non-endemic\",INTRO!$E$41=\"Non-endemic\"),\" \",IF(COUNTRY_INFO!B88=0,\" \",COUNTRY_INFO!B88))","v":"Northern"},{"$f":"IF(AND(INTRO!$E$37=\"Non-endemic\",INTRO!$E$41=\"Non-endemic\"),\" \",IF(COUNTRY_INFO!C88=0,\" \",COUNTRY_INFO!C88))","v":"Gulu"},{"$f":"IF(AND(INTRO!$E$37=\"Non-endemic\",INTRO!$E$41=\"Non-endemic\"),0,COUNTRY_INFO!V88)","v":0},{"$f":"IF(AND(INTRO!$E$37=\"Non-endemic\",INTRO!$E$41=\"Non-endemic\"),0,COUNTRY_INFO!X88)","v":1},{"$f":"IF(INTRO!$E$39=\"Non-endemic\",IF($D88=1,DEC!I88,0),IF($D88=1,IVM!G88,0))","v":0},null,{"$f":"IF(OR(COUNTRY_INFO!N88=\"Unknown\",COUNTRY_INFO!N88=\"Surveillance\",COUNTRY_INFO!N88=\"Not required\",COUNTRY_INFO!N88=0),0,IF(INTRO!$E$39=\"Non-endemic\",IF(AND($E88<>0,$G88=\"\"),IF($F88=0,COUNTRY_INFO!N88*$E88,COUNTRY_INFO!N88*($E88-$D88)),IF(AND($E88<>0,$G88<>0),IF($F88=0,COUNTRY_INFO!N88*$G88,COUNTRY_INFO!N88*($G88-$D88)),0)),IF($G88=\"\",COUNTRY_INFO!N88*$E88,COUNTRY_INFO!N88*$G88)))","v":24080},{"$f":"IF(OR(COUNTRY_INFO!O88=\"Unknown\",COUNTRY_INFO!O88=\"Surveillance\",COUNTRY_INFO!O88=\"Not required\",COUNTRY_INFO!O88=0),0,IF($E88<>0, IF($F88=0,COUNTRY_INFO!O88*$E88,COUNTRY_INFO!O88*($E88-$D88)),COUNTRY_INFO!O88*$E88))","v":51213},null,{"$f":"IF(OR(COUNTRY_INFO!P88=\"Unknown\",COUNTRY_INFO!P88=\"Surveillance\",COUNTRY_INFO!P88=\"Not required\",COUNTRY_INFO!P88=0),0,IF(AND($E88<>0,$J88=\"\"),IF($F88=0,COUNTRY_INFO!P88*$E88,COUNTRY_INFO!P88*($E88-$D88)), IF(AND($E88<>0,$J88<>0),IF($F88=0,COUNTRY_INFO!P88*$J88,COUNTRY_INFO!P88*($J88-$D88)), COUNTRY_INFO!P88*$J88)))","v":41886},117179,0,null,0,0,0,0,117179,0,117179]
[{"$f":"IF(AND(INTRO!$E$37=\"Non-endemic\",INTRO!$E$41=\"Non-endemic\"),\" \",IF(COUNTRY_INFO!A89=0,\" \",COUNTRY_INFO!A89))","v":"Uganda"},{"$f":"IF(AND(INTRO!$E$37=\"Non-endemic\",INTRO!$E$41=\"Non-endemic\"),\" \",IF(COUNTRY_INFO!B89=0,\" \",COUNTRY_INFO!B89))","v":"Northern"},{"$f":"IF(AND(INTRO!$E$37=\"Non-endemic\",INTRO!$E$41=\"Non-endemic\"),\" \",IF(COUNTRY_INFO!C89=0,\" \",COUNTRY_INFO!C89))","v":"Gulu City"},{"$f":"IF(AND(INTRO!$E$37=\"Non-endemic\",INTRO!$E$41=\"Non-endemic\"),0,COUNTRY_INFO!V89)","v":0},{"$f":"IF(AND(INTRO!$E$37=\"Non-endemic\",INTRO!$E$41=\"Non-endemic\"),0,COUNTRY_INFO!X89)","v":1},{"$f":"IF(INTRO!$E$39=\"Non-endemic\",IF($D89=1,DEC!I89,0),IF($D89=1,IVM!G89,0))","v":0},null,{"$f":"IF(OR(COUNTRY_INFO!N89=\"Unknown\",COUNTRY_INFO!N89=\"Surveillance\",COUNTRY_INFO!N89=\"Not required\",COUNTRY_INFO!N89=0),0,IF(INTRO!$E$39=\"Non-endemic\",IF(AND($E89<>0,$G89=\"\"),IF($F89=0,COUNTRY_INFO!N89*$E89,COUNTRY_INFO!N89*($E89-$D89)),IF(AND($E89<>0,$G89<>0),IF($F89=0,COUNTRY_INFO!N89*$G89,COUNTRY_INFO!N89*($G89-$D89)),0)),IF($G89=\"\",COUNTRY_INFO!N89*$E89,COUNTRY_INFO!N89*$G89)))","v":29146},{"$f":"IF(OR(COUNTRY_INFO!O89=\"Unknown\",COUNTRY_INFO!O89=\"Surveillance\",COUNTRY_INFO!O89=\"Not required\",COUNTRY_INFO!O89=0),0,IF($E89<>0, IF($F89=0,COUNTRY_INFO!O89*$E89,COUNTRY_INFO!O89*($E89-$D89)),COUNTRY_INFO!O89*$E89))","v":61986},null,{"$f":"IF(OR(COUNTRY_INFO!P89=\"Unknown\",COUNTRY_INFO!P89=\"Surveillance\",COUNTRY_INFO!P89=\"Not required\",COUNTRY_INFO!P89=0),0,IF(AND($E89<>0,$J89=\"\"),IF($F89=0,COUNTRY_INFO!P89*$E89,COUNTRY_INFO!P89*($E89-$D89)), IF(AND($E89<>0,$J89<>0),IF($F89=0,COUNTRY_INFO!P89*$J89,COUNTRY_INFO!P89*($J89-$D89)), COUNTRY_INFO!P89*$J89)))","v":50697},141829,0,null,0,0,0,0,141829,0,141829]
[{"$f":"IF(AND(INTRO!$E$37=\"Non-endemic\",INTRO!$E$41=\"Non-endemic\"),\" \",IF(COUNTRY_INFO!A90=0,\" \",COUNTRY_INFO!A90))","v":"Uganda"},{"$f":"IF(AND(INTRO!$E$37=\"Non-endemic\",INTRO!$E$41=\"Non-endemic\"),\" \",IF(COUNTRY_INFO!B90=0,\" \",COUNTRY_INFO!B90))","v":"Northern"},{"$f":"IF(AND(INTRO!$E$37=\"Non-endemic\",INTRO!$E$41=\"Non-endemic\"),\" \",IF(COUNTRY_INFO!C90=0,\" \",COUNTRY_INFO!C90))","v":"Kaabong"},{"$f":"IF(AND(INTRO!$E$37=\"Non-endemic\",INTRO!$E$41=\"Non-endemic\"),0,COUNTRY_INFO!V90)","v":0},{"$f":"IF(AND(INTRO!$E$37=\"Non-endemic\",INTRO!$E$41=\"Non-endemic\"),0,COUNTRY_INFO!X90)","v":1},{"$f":"IF(INTRO!$E$39=\"Non-endemic\",IF($D90=1,DEC!I90,0),IF($D90=1,IVM!G90,0))","v":0},null,{"$f":"IF(OR(COUNTRY_INFO!N90=\"Unknown\",COUNTRY_INFO!N90=\"Surveillance\",COUNTRY_INFO!N90=\"Not required\",COUNTRY_INFO!N90=0),0,IF(INTRO!$E$39=\"Non-endemic\",IF(AND($E90<>0,$G90=\"\"),IF($F90=0,COUNTRY_INFO!N90*$E90,COUNTRY_INFO!N90*($E90-$D90)),IF(AND($E90<>0,$G90<>0),IF($F90=0,COUNTRY_INFO!N90*$G90,COUNTRY_INFO!N90*($G90-$D90)),0)),IF($G90=\"\",COUNTRY_INFO!N90*$E90,COUNTRY_INFO!N90*$G90)))","v":21141},{"$f":"IF(OR(COUNTRY_INFO!O90=\"Unknown\",COUNTRY_INFO!O90=\"Surveillance\",COUNTRY_INFO!O90=\"Not required\",COUNTRY_INFO!O90=0),0,IF($E90<>0, IF($F90=0,COUNTRY_INFO!O90*$E90,COUNTRY_INFO!O90*($E90-$D90)),COUNTRY_INFO!O90*$E90))","v":44961},null,{"$f":"IF(OR(COUNTRY_INFO!P90=\"Unknown\",COUNTRY_INFO!P90=\"Surveillance\",COUNTRY_INFO!P90=\"Not required\",COUNTRY_INFO!P90=0),0,IF(AND($E90<>0,$J90=\"\"),IF($F90=0,COUNTRY_INFO!P90*$E90,COUNTRY_INFO!P90*($E90-$D90)), IF(AND($E90<>0,$J90<>0),IF($F90=0,COUNTRY_INFO!P90*$J90,COUNTRY_INFO!P90*($J90-$D90)), COUNTRY_INFO!P90*$J90)))","v":36773},102875,0,null,0,0,0,0,102875,0,102875]
[{"$f":"IF(AND(INTRO!$E$37=\"Non-endemic\",INTRO!$E$41=\"Non-endemic\"),\" \",IF(COUNTRY_INFO!A91=0,\" \",COUNTRY_INFO!A91))","v":"Uganda"},{"$f":"IF(AND(INTRO!$E$37=\"Non-endemic\",INTRO!$E$41=\"Non-endemic\"),\" \",IF(COUNTRY_INFO!B91=0,\" \",COUNTRY_INFO!B91))","v":"Northern"},{"$f":"IF(AND(INTRO!$E$37=\"Non-endemic\",INTRO!$E$41=\"Non-endemic\"),\" \",IF(COUNTRY_INFO!C91=0,\" \",COUNTRY_INFO!C91))","v":"Karenga"},{"$f":"IF(AND(INTRO!$E$37=\"Non-endemic\",INTRO!$E$41=\"Non-endemic\"),0,COUNTRY_INFO!V91)","v":0},{"$f":"IF(AND(INTRO!$E$37=\"Non-endemic\",INTRO!$E$41=\"Non-endemic\"),0,COUNTRY_INFO!X91)","v":1},{"$f":"IF(INTRO!$E$39=\"Non-endemic\",IF($D91=1,DEC!I91,0),IF($D91=1,IVM!G91,0))","v":0},null,{"$f":"IF(OR(COUNTRY_INFO!N91=\"Unknown\",COUNTRY_INFO!N91=\"Surveillance\",COUNTRY_INFO!N91=\"Not required\",COUNTRY_INFO!N91=0),0,IF(INTRO!$E$39=\"Non-endemic\",IF(AND($E91<>0,$G91=\"\"),IF($F91=0,COUNTRY_INFO!N91*$E91,COUNTRY_INFO!N91*($E91-$D91)),IF(AND($E91<>0,$G91<>0),IF($F91=0,COUNTRY_INFO!N91*$G91,COUNTRY_INFO!N91*($G91-$D91)),0)),IF($G91=\"\",COUNTRY_INFO!N91*$E91,COUNTRY_INFO!N91*$G91)))","v":11257},{"$f":"IF(OR(COUNTRY_INFO!O91=\"Unknown\",COUNTRY_INFO!O91=\"Surveillance\",COUNTRY_INFO!O91=\"Not required\",COUNTRY_INFO!O91=0),0,IF($E91<>0, IF($F91=0,COUNTRY_INFO!O91*$E91,COUNTRY_INFO!O91*($E91-$D91)),COUNTRY_INFO!O91*$E91))","v":23942},null,{"$f":"IF(OR(COUNTRY_INFO!P91=\"Unknown\",COUNTRY_INFO!P91=\"Surveillance\",COUNTRY_INFO!P91=\"Not required\",COUNTRY_INFO!P91=0),0,IF(AND($E91<>0,$J91=\"\"),IF($F91=0,COUNTRY_INFO!P91*$E91,COUNTRY_INFO!P91*($E91-$D91)), IF(AND($E91<>0,$J91<>0),IF($F91=0,COUNTRY_INFO!P91*$J91,COUNTRY_INFO!P91*($J91-$D91)), COUNTRY_INFO!P91*$J91)))","v":19581},54780,0,null,0,0,0,0,54780,0,54780]
[{"$f":"IF(AND(INTRO!$E$37=\"Non-endemic\",INTRO!$E$41=\"Non-endemic\"),\" \",IF(COUNTRY_INFO!A92=0,\" \",COUNTRY_INFO!A92))","v":"Uganda"},{"$f":"IF(AND(INTRO!$E$37=\"Non-endemic\",INTRO!$E$41=\"Non-endemic\"),\" \",IF(COUNTRY_INFO!B92=0,\" \",COUNTRY_INFO!B92))","v":"Northern"},{"$f":"IF(AND(INTRO!$E$37=\"Non-endemic\",INTRO!$E$41=\"Non-endemic\"),\" \",IF(COUNTRY_INFO!C92=0,\" \",COUNTRY_INFO!C92))","v":"Kitgum"},{"$f":"IF(AND(INTRO!$E$37=\"Non-endemic\",INTRO!$E$41=\"Non-endemic\"),0,COUNTRY_INFO!V92)","v":0},{"$f":"IF(AND(INTRO!$E$37=\"Non-endemic\",INTRO!$E$41=\"Non-endemic\"),0,COUNTRY_INFO!X92)","v":1},{"$f":"IF(INTRO!$E$39=\"Non-endemic\",IF($D92=1,DEC!I92,0),IF($D92=1,IVM!G92,0))","v":0},null,{"$f":"IF(OR(COUNTRY_INFO!N92=\"Unknown\",COUNTRY_INFO!N92=\"Surveillance\",COUNTRY_INFO!N92=\"Not required\",COUNTRY_INFO!N92=0),0,IF(INTRO!$E$39=\"Non-endemic\",IF(AND($E92<>0,$G92=\"\"),IF($F92=0,COUNTRY_INFO!N92*$E92,COUNTRY_INFO!N92*($E92-$D92)),IF(AND($E92<>0,$G92<>0),IF($F92=0,COUNTRY_INFO!N92*$G92,COUNTRY_INFO!N92*($G92-$D92)),0)),IF($G92=\"\",COUNTRY_INFO!N92*$E92,COUNTRY_INFO!N92*$G92)))","v":39047},{"$f":"IF(OR(COUNTRY_INFO!O92=\"Unknown\",COUNTRY_INFO!O92=\"Surveillance\",COUNTRY_INFO!O92=\"Not required\",COUNTRY_INFO!O92=0),0,IF($E92<>0, IF($F92=0,COUNTRY_INFO!O92*$E92,COUNTRY_INFO!O92*($E92-$D92)),COUNTRY_INFO!O92*$E92))","v":83043},null,{"$f":"IF(OR(COUNTRY_INFO!P92=\"Unknown\",COUNTRY_INFO!P92=\"Surveillance\",COUNTRY_INFO!P92=\"Not required\",COUNTRY_INFO!P92=0),0,IF(AND($E92<>0,$J92=\"\"),IF($F92=0,COUNTRY_INFO!P92*$E92,COUNTRY_INFO!P92*($E92-$D92)), IF(AND($E92<>0,$J92<>0),IF($F92=0,COUNTRY_INFO!P92*$J92,COUNTRY_INFO!P92*($J92-$D92)), COUNTRY_INFO!P92*$J92)))","v":67919},190009,0,null,0,0,0,0,190009,0,190009]
[{"$f":"IF(AND(INTRO!$E$37=\"Non-endemic\",INTRO!$E$41=\"Non-endemic\"),\" \",IF(COUNTRY_INFO!A93=0,\" \",COUNTRY_INFO!A93))","v":"Uganda"},{"$f":"IF(AND(INTRO!$E$37=\"Non-endemic\",INTRO!$E$41=\"Non-endemic\"),\" \",IF(COUNTRY_INFO!B93=0,\" \",COUNTRY_INFO!B93))","v":"Northern"},{"$f":"IF(AND(INTRO!$E$37=\"Non-endemic\",INTRO!$E$41=\"Non-endemic\"),\" \",IF(COUNTRY_INFO!C93=0,\" \",COUNTRY_INFO!C93))","v":"Koboko"},{"$f":"IF(AND(INTRO!$E$37=\"Non-endemic\",INTRO!$E$41=\"Non-endemic\"),0,COUNTRY_INFO!V93)","v":0},{"$f":"IF(AND(INTRO!$E$37=\"Non-endemic\",INTRO!$E$41=\"Non-endemic\"),0,COUNTRY_INFO!X93)","v":1},{"$f":"IF(INTRO!$E$39=\"Non-endemic\",IF($D93=1,DEC!I93,0),IF($D93=1,IVM!G93,0))","v":0},null,{"$f":"IF(OR(COUNTRY_INFO!N93=\"Unknown\",COUNTRY_INFO!N93=\"Surveillance\",COUNTRY_INFO!N93=\"Not required\",COUNTRY_INFO!N93=0),0,IF(INTRO!$E$39=\"Non-endemic\",IF(AND($E93<>0,$G93=\"\"),IF($F93=0,COUNTRY_INFO!N93*$E93,COUNTRY_INFO!N93*($E93-$D93)),IF(AND($E93<>0,$G93<>0),IF($F93=0,COUNTRY_INFO!N93*$G93,COUNTRY_INFO!N93*($G93-$D93)),0)),IF($G93=\"\",COUNTRY_INFO!N93*$E93,COUNTRY_INFO!N93*$G93)))","v":0},{"$f":"IF(OR(COUNTRY_INFO!O93=\"Unknown\",COUNTRY_INFO!O93=\"Surveillance\",COUNTRY_INFO!O93=\"Not required\",COUNTRY_INFO!O93=0),0,IF($E93<>0, IF($F93=0,COUNTRY_INFO!O93*$E93,COUNTRY_INFO!O93*($E93-$D93)),COUNTRY_INFO!O93*$E93))","v":0},null,{"$f":"IF(OR(COUNTRY_INFO!P93=\"Unknown\",COUNTRY_INFO!P93=\"Surveillance\",COUNTRY_INFO!P93=\"Not required\",COUNTRY_INFO!P93=0),0,IF(AND($E93<>0,$J93=\"\"),IF($F93=0,COUNTRY_INFO!P93*$E93,COUNTRY_INFO!P93*($E93-$D93)), IF(AND($E93<>0,$J93<>0),IF($F93=0,COUNTRY_INFO!P93*$J93,COUNTRY_INFO!P93*($J93-$D93)), COUNTRY_INFO!P93*$J93)))","v":0},0,0,null,0,0,0,0,0,0,0]
[{"$f":"IF(AND(INTRO!$E$37=\"Non-endemic\",INTRO!$E$41=\"Non-endemic\"),\" \",IF(COUNTRY_INFO!A94=0,\" \",COUNTRY_INFO!A94))","v":"Uganda"},{"$f":"IF(AND(INTRO!$E$37=\"Non-endemic\",INTRO!$E$41=\"Non-endemic\"),\" \",IF(COUNTRY_INFO!B94=0,\" \",COUNTRY_INFO!B94))","v":"Northern"},{"$f":"IF(AND(INTRO!$E$37=\"Non-endemic\",INTRO!$E$41=\"Non-endemic\"),\" \",IF(COUNTRY_INFO!C94=0,\" \",COUNTRY_INFO!C94))","v":"Kole"},{"$f":"IF(AND(INTRO!$E$37=\"Non-endemic\",INTRO!$E$41=\"Non-endemic\"),0,COUNTRY_INFO!V94)","v":0},{"$f":"IF(AND(INTRO!$E$37=\"Non-endemic\",INTRO!$E$41=\"Non-endemic\"),0,COUNTRY_INFO!X94)","v":1},{"$f":"IF(INTRO!$E$39=\"Non-endemic\",IF($D94=1,DEC!I94,0),IF($D94=1,IVM!G94,0))","v":0},null,{"$f":"IF(OR(COUNTRY_INFO!N94=\"Unknown\",COUNTRY_INFO!N94=\"Surveillance\",COUNTRY_INFO!N94=\"Not required\",COUNTRY_INFO!N94=0),0,IF(INTRO!$E$39=\"Non-endemic\",IF(AND($E94<>0,$G94=\"\"),IF($F94=0,COUNTRY_INFO!N94*$E94,COUNTRY_INFO!N94*($E94-$D94)),IF(AND($E94<>0,$G94<>0),IF($F94=0,COUNTRY_INFO!N94*$G94,COUNTRY_INFO!N94*($G94-$D94)),0)),IF($G94=\"\",COUNTRY_INFO!N94*$E94,COUNTRY_INFO!N94*$G94)))","v":46293},{"$f":"IF(OR(COUNTRY_INFO!O94=\"Unknown\",COUNTRY_INFO!O94=\"Surveillance\",COUNTRY_INFO!O94=\"Not required\",COUNTRY_INFO!O94=0),0,IF($E94<>0, IF($F94=0,COUNTRY_INFO!O94*$E94,COUNTRY_INFO!O94*($E94-$D94)),COUNTRY_INFO!O94*$E94))","v":98455},null,{"$f":"IF(OR(COUNTRY_INFO!P94=\"Unknown\",COUNTRY_INFO!P94=\"Surveillance\",COUNTRY_INFO!P94=\"Not required\",COUNTRY_INFO!P94=0),0,IF(AND($E94<>0,$J94=\"\"),IF($F94=0,COUNTRY_INFO!P94*$E94,COUNTRY_INFO!P94*($E94-$D94)), IF(AND($E94<>0,$J94<>0),IF($F94=0,COUNTRY_INFO!P94*$J94,COUNTRY_INFO!P94*($J94-$D94)), COUNTRY_INFO!P94*$J94)))","v":80524},225272,0,null,0,0,0,0,225272,0,225272]
[{"$f":"IF(AND(INTRO!$E$37=\"Non-endemic\",INTRO!$E$41=\"Non-endemic\"),\" \",IF(COUNTRY_INFO!A95=0,\" \",COUNTRY_INFO!A95))","v":"Uganda"},{"$f":"IF(AND(INTRO!$E$37=\"Non-endemic\",INTRO!$E$41=\"Non-endemic\"),\" \",IF(COUNTRY_INFO!B95=0,\" \",COUNTRY_INFO!B95))","v":"Northern"},{"$f":"IF(AND(INTRO!$E$37=\"Non-endemic\",INTRO!$E$41=\"Non-endemic\"),\" \",IF(COUNTRY_INFO!C95=0,\" \",COUNTRY_INFO!C95))","v":"Kotido"},{"$f":"IF(AND(INTRO!$E$37=\"Non-endemic\",INTRO!$E$41=\"Non-endemic\"),0,COUNTRY_INFO!V95)","v":0},{"$f":"IF(AND(INTRO!$E$37=\"Non-endemic\",INTRO!$E$41=\"Non-endemic\"),0,COUNTRY_INFO!X95)","v":1},{"$f":"IF(INTRO!$E$39=\"Non-endemic\",IF($D95=1,DEC!I95,0),IF($D95=1,IVM!G95,0))","v":0},null,{"$f":"IF(OR(COUNTRY_INFO!N95=\"Unknown\",COUNTRY_INFO!N95=\"Surveillance\",COUNTRY_INFO!N95=\"Not required\",COUNTRY_INFO!N95=0),0,IF(INTRO!$E$39=\"Non-endemic\",IF(AND($E95<>0,$G95=\"\"),IF($F95=0,COUNTRY_INFO!N95*$E95,COUNTRY_INFO!N95*($E95-$D95)),IF(AND($E95<>0,$G95<>0),IF($F95=0,COUNTRY_INFO!N95*$G95,COUNTRY_INFO!N95*($G95-$D95)),0)),IF($G95=\"\",COUNTRY_INFO!N95*$E95,COUNTRY_INFO!N95*$G95)))","v":34242},{"$f":"IF(OR(COUNTRY_INFO!O95=\"Unknown\",COUNTRY_INFO!O95=\"Surveillance\",COUNTRY_INFO!O95=\"Not required\",COUNTRY_INFO!O95=0),0,IF($E95<>0, IF($F95=0,COUNTRY_INFO!O95*$E95,COUNTRY_INFO!O95*($E95-$D95)),COUNTRY_INFO!O95*$E95))","v":72825},null,{"$f":"IF(OR(COUNTRY_INFO!P95=\"Unknown\",COUNTRY_INFO!P95=\"Surveillance\",COUNTRY_INFO!P95=\"Not required\",COUNTRY_INFO!P95=0),0,IF(AND($E95<>0,$J95=\"\"),IF($F95=0,COUNTRY_INFO!P95*$E95,COUNTRY_INFO!P95*($E95-$D95)), IF(AND($E95<>0,$J95<>0),IF($F95=0,COUNTRY_INFO!P95*$J95,COUNTRY_INFO!P95*($J95-$D95)), COUNTRY_INFO!P95*$J95)))","v":59562},166629,0,null,0,0,0,0,166629,0,166629]
[{"$f":"IF(AND(INTRO!$E$37=\"Non-endemic\",INTRO!$E$41=\"Non-endemic\"),\" \",IF(COUNTRY_INFO!A96=0,\" \",COUNTRY_INFO!A96))","v":"Uganda"},{"$f":"IF(AND(INTRO!$E$37=\"Non-endemic\",INTRO!$E$41=\"Non-endemic\"),\" \",IF(COUNTRY_INFO!B96=0,\" \",COUNTRY_INFO!B96))","v":"Northern"},{"$f":"IF(AND(INTRO!$E$37=\"Non-endemic\",INTRO!$E$41=\"Non-endemic\"),\" \",IF(COUNTRY_INFO!C96=0,\" \",COUNTRY_INFO!C96))","v":"Kwania"},{"$f":"IF(AND(INTRO!$E$37=\"Non-endemic\",INTRO!$E$41=\"Non-endemic\"),0,COUNTRY_INFO!V96)","v":0},{"$f":"IF(AND(INTRO!$E$37=\"Non-endemic\",INTRO!$E$41=\"Non-endemic\"),0,COUNTRY_INFO!X96)","v":1},{"$f":"IF(INTRO!$E$39=\"Non-endemic\",IF($D96=1,DEC!I96,0),IF($D96=1,IVM!G96,0))","v":0},null,{"$f":"IF(OR(COUNTRY_INFO!N96=\"Unknown\",COUNTRY_INFO!N96=\"Surveillance\",COUNTRY_INFO!N96=\"Not required\",COUNTRY_INFO!N96=0),0,IF(INTRO!$E$39=\"Non-endemic\",IF(AND($E96<>0,$G96=\"\"),IF($F96=0,COUNTRY_INFO!N96*$E96,COUNTRY_INFO!N96*($E96-$D96)),IF(AND($E96<>0,$G96<>0),IF($F96=0,COUNTRY_INFO!N96*$G96,COUNTRY_INFO!N96*($G96-$D96)),0)),IF($G96=\"\",COUNTRY_INFO!N96*$E96,COUNTRY_INFO!N96*$G96)))","v":35103},{"$f":"IF(OR(COUNTRY_INFO!O96=\"Unknown\",COUNTRY_INFO!O96=\"Surveillance\",COUNTRY_INFO!O96=\"Not required\",COUNTRY_INFO!O96=0),0,IF($E96<>0, IF($F96=0,COUNTRY_INFO!O96*$E96,COUNTRY_INFO!O96*($E96-$D96)),COUNTRY_INFO!O96*$E96))","v":74655},null,{"$f":"IF(OR(COUNTRY_INFO!P96=\"Unknown\",COUNTRY_INFO!P96=\"Surveillance\",COUNTRY_INFO!P96=\"Not required\",COUNTRY_INFO!P96=0),0,IF(AND($E96<>0,$J96=\"\"),IF($F96=0,COUNTRY_INFO!P96*$E96,COUNTRY_INFO!P96*($E96-$D96)), IF(AND($E96<>0,$J96<>0),IF($F96=0,COUNTRY_INFO!P96*$J96,COUNTRY_INFO!P96*($J96-$D96)), COUNTRY_INFO!P96*$J96)))","v":61059},170817,0,null,0,0,0,0,170817,0,170817]
[{"$f":"IF(AND(INTRO!$E$37=\"Non-endemic\",INTRO!$E$41=\"Non-endemic\"),\" \",IF(COUNTRY_INFO!A97=0,\" \",COUNTRY_INFO!A97))","v":"Uganda"},{"$f":"IF(AND(INTRO!$E$37=\"Non-endemic\",INTRO!$E$41=\"Non-endemic\"),\" \",IF(COUNTRY_INFO!B97=0,\" \",COUNTRY_INFO!B97))","v":"Northern"},{"$f":"IF(AND(INTRO!$E$37=\"Non-endemic\",INTRO!$E$41=\"Non-endemic\"),\" \",IF(COUNTRY_INFO!C97=0,\" \",COUNTRY_INFO!C97))","v":"Lamwo"},{"$f":"IF(AND(INTRO!$E$37=\"Non-endemic\",INTRO!$E$41=\"Non-endemic\"),0,COUNTRY_INFO!V97)","v":0},{"$f":"IF(AND(INTRO!$E$37=\"Non-endemic\",INTRO!$E$41=\"Non-endemic\"),0,COUNTRY_INFO!X97)","v":1},{"$f":"IF(INTRO!$E$39=\"Non-endemic\",IF($D97=1,DEC!I97,0),IF($D97=1,IVM!G97,0))","v":0},null,{"$f":"IF(OR(COUNTRY_INFO!N97=\"Unknown\",COUNTRY_INFO!N97=\"Surveillance\",COUNTRY_INFO!N97=\"Not required\",COUNTRY_INFO!N97=0),0,IF(INTRO!$E$39=\"Non-endemic\",IF(AND($E97<>0,$G97=\"\"),IF($F97=0,COUNTRY_INFO!N97*$E97,COUNTRY_INFO!N97*($E97-$D97)),IF(AND($E97<>0,$G97<>0),IF($F97=0,COUNTRY_INFO!N97*$G97,COUNTRY_INFO!N97*($G97-$D97)),0)),IF($G97=\"\",COUNTRY_INFO!N97*$E97,COUNTRY_INFO!N97*$G97)))","v":25657},{"$f":"IF(OR(COUNTRY_INFO!O97=\"Unknown\",COUNTRY_INFO!O97=\"Surveillance\",COUNTRY_INFO!O97=\"Not required\",COUNTRY_INFO!O97=0),0,IF($E97<>0, IF($F97=0,COUNTRY_INFO!O97*$E97,COUNTRY_INFO!O97*($E97-$D97)),COUNTRY_INFO!O97*$E97))","v":54567},null,{"$f":"IF(OR(COUNTRY_INFO!P97=\"Unknown\",COUNTRY_INFO!P97=\"Surveillance\",COUNTRY_INFO!P97=\"Not required\",COUNTRY_INFO!P97=0),0,IF(AND($E97<>0,$J97=\"\"),IF($F97=0,COUNTRY_INFO!P97*$E97,COUNTRY_INFO!P97*($E97-$D97)), IF(AND($E97<>0,$J97<>0),IF($F97=0,COUNTRY_INFO!P97*$J97,COUNTRY_INFO!P97*($J97-$D97)), COUNTRY_INFO!P97*$J97)))","v":44629},124853,0,null,0,0,0,0,124853,0,124853]
[{"$f":"IF(AND(INTRO!$E$37=\"Non-endemic\",INTRO!$E$41=\"Non-endemic\"),\" \",IF(COUNTRY_INFO!A98=0,\" \",COUNTRY_INFO!A98))","v":"Uganda"},{"$f":"IF(AND(INTRO!$E$37=\"Non-endemic\",INTRO!$E$41=\"Non-endemic\"),\" \",IF(COUNTRY_INFO!B98=0,\" \",COUNTRY_INFO!B98))","v":"Northern"},{"$f":"IF(AND(INTRO!$E$37=\"Non-endemic\",INTRO!$E$41=\"Non-endemic\"),\" \",IF(COUNTRY_INFO!C98=0,\" \",COUNTRY_INFO!C98))","v":"Lira"},{"$f":"IF(AND(INTRO!$E$37=\"Non-endemic\",INTRO!$E$41=\"Non-endemic\"),0,COUNTRY_INFO!V98)","v":0},{"$f":"IF(AND(INTRO!$E$37=\"Non-endemic\",INTRO!$E$41=\"Non-endemic\"),0,COUNTRY_INFO!X98)","v":1},{"$f":"IF(INTRO!$E$39=\"Non-endemic\",IF($D98=1,DEC!I98,0),IF($D98=1,IVM!G98,0))","v":0},null,{"$f":"IF(OR(COUNTRY_INFO!N98=\"Unknown\",COUNTRY_INFO!N98=\"Surveillance\",COUNTRY_INFO!N98=\"Not required\",COUNTRY_INFO!N98=0),0,IF(INTRO!$E$39=\"Non-endemic\",IF(AND($E98<>0,$G98=\"\"),IF($F98=0,COUNTRY_INFO!N98*$E98,COUNTRY_INFO!N98*($E98-$D98)),IF(AND($E98<>0,$G98<>0),IF($F98=0,COUNTRY_INFO!N98*$G98,COUNTRY_INFO!N98*($G98-$D98)),0)),IF($G98=\"\",COUNTRY_INFO!N98*$E98,COUNTRY_INFO!N98*$G98)))","v":59611},{"$f":"IF(OR(COUNTRY_INFO!O98=\"Unknown\",COUNTRY_INFO!O98=\"Surveillance\",COUNTRY_INFO!O98=\"Not required\",COUNTRY_INFO!O98=0),0,IF($E98<>0, IF($F98=0,COUNTRY_INFO!O98*$E98,COUNTRY_INFO!O98*($E98-$D98)),COUNTRY_INFO!O98*$E98))","v":126778},null,{"$f":"IF(OR(COUNTRY_INFO!P98=\"Unknown\",COUNTRY_INFO!P98=\"Surveillance\",COUNTRY_INFO!P98=\"Not required\",COUNTRY_INFO!P98=0),0,IF(AND($E98<>0,$J98=\"\"),IF($F98=0,COUNTRY_INFO!P98*$E98,COUNTRY_INFO!P98*($E98-$D98)), IF(AND($E98<>0,$J98<>0),IF($F98=0,COUNTRY_INFO!P98*$J98,COUNTRY_INFO!P98*($J98-$D98)), COUNTRY_INFO!P98*$J98)))","v":103689},290078,0,null,0,0,0,0,290078,0,290078]
[{"$f":"IF(AND(INTRO!$E$37=\"Non-endemic\",INTRO!$E$41=\"Non-endemic\"),\" \",IF(COUNTRY_INFO!A99=0,\" \",COUNTRY_INFO!A99))","v":"Uganda"},{"$f":"IF(AND(INTRO!$E$37=\"Non-endemic\",INTRO!$E$41=\"Non-endemic\"),\" \",IF(COUNTRY_INFO!B99=0,\" \",COUNTRY_INFO!B99))","v":"Northern"},{"$f":"IF(AND(INTRO!$E$37=\"Non-endemic\",INTRO!$E$41=\"Non-endemic\"),\" \",IF(COUNTRY_INFO!C99=0,\" \",COUNTRY_INFO!C99))","v":"Lira City"},{"$f":"IF(AND(INTRO!$E$37=\"Non-endemic\",INTRO!$E$41=\"Non-endemic\"),0,COUNTRY_INFO!V99)","v":0},{"$f":"IF(AND(INTRO!$E$37=\"Non-endemic\",INTRO!$E$41=\"Non-endemic\"),0,COUNTRY_INFO!X99)","v":1},{"$f":"IF(INTRO!$E$39=\"Non-endemic\",IF($D99=1,DEC!I99,0),IF($D99=1,IVM!G99,0))","v":0},null,{"$f":"IF(OR(COUNTRY_INFO!N99=\"Unknown\",COUNTRY_INFO!N99=\"Surveillance\",COUNTRY_INFO!N99=\"Not required\",COUNTRY_INFO!N99=0),0,IF(INTRO!$E$39=\"Non-endemic\",IF(AND($E99<>0,$G99=\"\"),IF($F99=0,COUNTRY_INFO!N99*$E99,COUNTRY_INFO!N99*($E99-$D99)),IF(AND($E99<>0,$G99<>0),IF($F99=0,COUNTRY_INFO!N99*$G99,COUNTRY_INFO!N99*($G99-$D99)),0)),IF($G99=\"\",COUNTRY_INFO!N99*$E99,COUNTRY_INFO!N99*$G99)))","v":18959},{"$f":"IF(OR(COUNTRY_INFO!O99=\"Unknown\",COUNTRY_INFO!O99=\"Surveillance\",COUNTRY_INFO!O99=\"Not required\",COUNTRY_INFO!O99=0),0,IF($E99<>0, IF($F99=0,COUNTRY_INFO!O99*$E99,COUNTRY_INFO!O99*($E99-$D99)),COUNTRY_INFO!O99*$E99))","v":40320},null,{"$f":"IF(OR(COUNTRY_INFO!P99=\"Unknown\",COUNTRY_INFO!P99=\"Surveillance\",COUNTRY_INFO!P99=\"Not required\",COUNTRY_INFO!P99=0),0,IF(AND($E99<>0,$J99=\"\"),IF($F99=0,COUNTRY_INFO!P99*$E99,COUNTRY_INFO!P99*($E99-$D99)), IF(AND($E99<>0,$J99<>0),IF($F99=0,COUNTRY_INFO!P99*$J99,COUNTRY_INFO!P99*($J99-$D99)), COUNTRY_INFO!P99*$J99)))","v":32977},92256,0,null,0,0,0,0,92256,0,92256]
[{"$f":"IF(AND(INTRO!$E$37=\"Non-endemic\",INTRO!$E$41=\"Non-endemic\"),\" \",IF(COUNTRY_INFO!A100=0,\" \",COUNTRY_INFO!A100))","v":"Uganda"},{"$f":"IF(AND(INTRO!$E$37=\"Non-endemic\",INTRO!$E$41=\"Non-endemic\"),\" \",IF(COUNTRY_INFO!B100=0,\" \",COUNTRY_INFO!B100))","v":"Northern"},{"$f":"IF(AND(INTRO!$E$37=\"Non-endemic\",INTRO!$E$41=\"Non-endemic\"),\" \",IF(COUNTRY_INFO!C100=0,\" \",COUNTRY_INFO!C100))","v":"Madi Okollo"},{"$f":"IF(AND(INTRO!$E$37=\"Non-endemic\",INTRO!$E$41=\"Non-endemic\"),0,COUNTRY_INFO!V100)","v":0},{"$f":"IF(AND(INTRO!$E$37=\"Non-endemic\",INTRO!$E$41=\"Non-endemic\"),0,COUNTRY_INFO!X100)","v":1},{"$f":"IF(INTRO!$E$39=\"Non-endemic\",IF($D100=1,DEC!I100,0),IF($D100=1,IVM!G100,0))","v":0},null,{"$f":"IF(OR(COUNTRY_INFO!N100=\"Unknown\",COUNTRY_INFO!N100=\"Surveillance\",COUNTRY_INFO!N100=\"Not required\",COUNTRY_INFO!N100=0),0,IF(INTRO!$E$39=\"Non-endemic\",IF(AND($E100<>0,$G100=\"\"),IF($F100=0,COUNTRY_INFO!N100*$E100,COUNTRY_INFO!N100*($E100-$D100)),IF(AND($E100<>0,$G100<>0),IF($F100=0,COUNTRY_INFO!N100*$G100,COUNTRY_INFO!N100*($G100-$D100)),0)),IF($G100=\"\",COUNTRY_INFO!N100*$E100,COUNTRY_INFO!N100*$G100)))","v":26542},{"$f":"IF(OR(COUNTRY_INFO!O100=\"Unknown\",COUNTRY_INFO!O100=\"Surveillance\",COUNTRY_INFO!O100=\"Not required\",COUNTRY_INFO!O100=0),0,IF($E100<>0, IF($F100=0,COUNTRY_INFO!O100*$E100,COUNTRY_INFO!O100*($E100-$D100)),COUNTRY_INFO!O100*$E100))","v":56449},null,{"$f":"IF(OR(COUNTRY_INFO!P100=\"Unknown\",COUNTRY_INFO!P100=\"Surveillance\",COUNTRY_INFO!P100=\"Not required\",COUNTRY_INFO!P100=0),0,IF(AND($E100<>0,$J100=\"\"),IF($F100=0,COUNTRY_INFO!P100*$E100,COUNTRY_INFO!P100*($E100-$D100)), IF(AND($E100<>0,$J100<>0),IF($F100=0,COUNTRY_INFO!P100*$J100,COUNTRY_INFO!P100*($J100-$D100)), COUNTRY_INFO!P100*$J100)))","v":46168},129159,0,null,0,0,0,0,129159,0,129159]
[{"$f":"IF(AND(INTRO!$E$37=\"Non-endemic\",INTRO!$E$41=\"Non-endemic\"),\" \",IF(COUNTRY_INFO!A101=0,\" \",COUNTRY_INFO!A101))","v":"Uganda"},{"$f":"IF(AND(INTRO!$E$37=\"Non-endemic\",INTRO!$E$41=\"Non-endemic\"),\" \",IF(COUNTRY_INFO!B101=0,\" \",COUNTRY_INFO!B101))","v":"Northern"},{"$f":"IF(AND(INTRO!$E$37=\"Non-endemic\",INTRO!$E$41=\"Non-endemic\"),\" \",IF(COUNTRY_INFO!C101=0,\" \",COUNTRY_INFO!C101))","v":"Maracha"},{"$f":"IF(AND(INTRO!$E$37=\"Non-endemic\",INTRO!$E$41=\"Non-endemic\"),0,COUNTRY_INFO!V101)","v":0},{"$f":"IF(AND(INTRO!$E$37=\"Non-endemic\",INTRO!$E$41=\"Non-endemic\"),0,COUNTRY_INFO!X101)","v":1},{"$f":"IF(INTRO!$E$39=\"Non-endemic\",IF($D101=1,DEC!I101,0),IF($D101=1,IVM!G101,0))","v":0},null,{"$f":"IF(OR(COUNTRY_INFO!N101=\"Unknown\",COUNTRY_INFO!N101=\"Surveillance\",COUNTRY_INFO!N101=\"Not required\",COUNTRY_INFO!N101=0),0,IF(INTRO!$E$39=\"Non-endemic\",IF(AND($E101<>0,$G101=\"\"),IF($F101=0,COUNTRY_INFO!N101*$E101,COUNTRY_INFO!N101*($E101-$D101)),IF(AND($E101<>0,$G101<>0),IF($F101=0,COUNTRY_INFO!N101*$G101,COUNTRY_INFO!N101*($G101-$D101)),0)),IF($G101=\"\",COUNTRY_INFO!N101*$E101,COUNTRY_INFO!N101*$G101)))","v":0},{"$f":"IF(OR(COUNTRY_INFO!O101=\"Unknown\",COUNTRY_INFO!O101=\"Surveillance\",COUNTRY_INFO!O101=\"Not required\",COUNTRY_INFO!O101=0),0,IF($E101<>0, IF($F101=0,COUNTRY_INFO!O101*$E101,COUNTRY_INFO!O101*($E101-$D101)),COUNTRY_INFO!O101*$E101))","v":0},null,{"$f":"IF(OR(COUNTRY_INFO!P101=\"Unknown\",COUNTRY_INFO!P101=\"Surveillance\",COUNTRY_INFO!P101=\"Not required\",COUNTRY_INFO!P101=0),0,IF(AND($E101<>0,$J101=\"\"),IF($F101=0,COUNTRY_INFO!P101*$E101,COUNTRY_INFO!P101*($E101-$D101)), IF(AND($E101<>0,$J101<>0),IF($F101=0,COUNTRY_INFO!P101*$J101,COUNTRY_INFO!P101*($J101-$D101)), COUNTRY_INFO!P101*$J101)))","v":0},0,0,null,0,0,0,0,0,0,0]
[{"$f":"IF(AND(INTRO!$E$37=\"Non-endemic\",INTRO!$E$41=\"Non-endemic\"),\" \",IF(COUNTRY_INFO!A102=0,\" \",COUNTRY_INFO!A102))","v":"Uganda"},{"$f":"IF(AND(INTRO!$E$37=\"Non-endemic\",INTRO!$E$41=\"Non-endemic\"),\" \",IF(COUNTRY_INFO!B102=0,\" \",COUNTRY_INFO!B102))","v":"Northern"},{"$f":"IF(AND(INTRO!$E$37=\"Non-endemic\",INTRO!$E$41=\"Non-endemic\"),\" \",IF(COUNTRY_INFO!C102=0,\" \",COUNTRY_INFO!C102))","v":"Moroto"},{"$f":"IF(AND(INTRO!$E$37=\"Non-endemic\",INTRO!$E$41=\"Non-endemic\"),0,COUNTRY_INFO!V102)","v":0},{"$f":"IF(AND(INTRO!$E$37=\"Non-endemic\",INTRO!$E$41=\"Non-endemic\"),0,COUNTRY_INFO!X102)","v":1},{"$f":"IF(INTRO!$E$39=\"Non-endemic\",IF($D102=1,DEC!I102,0),IF($D102=1,IVM!G102,0))","v":0},null,{"$f":"IF(OR(COUNTRY_INFO!N102=\"Unknown\",COUNTRY_INFO!N102=\"Surveillance\",COUNTRY_INFO!N102=\"Not required\",COUNTRY_INFO!N102=0),0,IF(INTRO!$E$39=\"Non-endemic\",IF(AND($E102<>0,$G102=\"\"),IF($F102=0,COUNTRY_INFO!N102*$E102,COUNTRY_INFO!N102*($E102-$D102)),IF(AND($E102<>0,$G102<>0),IF($F102=0,COUNTRY_INFO!N102*$G102,COUNTRY_INFO!N102*($G102-$D102)),0)),IF($G102=\"\",COUNTRY_INFO!N102*$E102,COUNTRY_INFO!N102*$G102)))","v":20008},{"$f":"IF(OR(COUNTRY_INFO!O102=\"Unknown\",COUNTRY_INFO!O102=\"Surveillance\",COUNTRY_INFO!O102=\"Not required\",COUNTRY_INFO!O102=0),0,IF($E102<>0, IF($F102=0,COUNTRY_INFO!O102*$E102,COUNTRY_INFO!O102*($E102-$D102)),COUNTRY_INFO!O102*$E102))","v":42552},null,{"$f":"IF(OR(COUNTRY_INFO!P102=\"Unknown\",COUNTRY_INFO!P102=\"Surveillance\",COUNTRY_INFO!P102=\"Not required\",COUNTRY_INFO!P102=0),0,IF(AND($E102<>0,$J102=\"\"),IF($F102=0,COUNTRY_INFO!P102*$E102,COUNTRY_INFO!P102*($E102-$D102)), IF(AND($E102<>0,$J102<>0),IF($F102=0,COUNTRY_INFO!P102*$J102,COUNTRY_INFO!P102*($J102-$D102)), COUNTRY_INFO!P102*$J102)))","v":34802},97362,0,null,0,0,0,0,97362,0,97362]
[{"$f":"IF(AND(INTRO!$E$37=\"Non-endemic\",INTRO!$E$41=\"Non-endemic\"),\" \",IF(COUNTRY_INFO!A103=0,\" \",COUNTRY_INFO!A103))","v":"Uganda"},{"$f":"IF(AND(INTRO!$E$37=\"Non-endemic\",INTRO!$E$41=\"Non-endemic\"),\" \",IF(COUNTRY_INFO!B103=0,\" \",COUNTRY_INFO!B103))","v":"Northern"},{"$f":"IF(AND(INTRO!$E$37=\"Non-endemic\",INTRO!$E$41=\"Non-endemic\"),\" \",IF(COUNTRY_INFO!C103=0,\" \",COUNTRY_INFO!C103))","v":"Moyo"},{"$f":"IF(AND(INTRO!$E$37=\"Non-endemic\",INTRO!$E$41=\"Non-endemic\"),0,COUNTRY_INFO!V103)","v":0},{"$f":"IF(AND(INTRO!$E$37=\"Non-endemic\",INTRO!$E$41=\"Non-endemic\"),0,COUNTRY_INFO!X103)","v":1},{"$f":"IF(INTRO!$E$39=\"Non-endemic\",IF($D103=1,DEC!I103,0),IF($D103=1,IVM!G103,0))","v":0},null,{"$f":"IF(OR(COUNTRY_INFO!N103=\"Unknown\",COUNTRY_INFO!N103=\"Surveillance\",COUNTRY_INFO!N103=\"Not required\",COUNTRY_INFO!N103=0),0,IF(INTRO!$E$39=\"Non-endemic\",IF(AND($E103<>0,$G103=\"\"),IF($F103=0,COUNTRY_INFO!N103*$E103,COUNTRY_INFO!N103*($E103-$D103)),IF(AND($E103<>0,$G103<>0),IF($F103=0,COUNTRY_INFO!N103*$G103,COUNTRY_INFO!N103*($G103-$D103)),0)),IF($G103=\"\",COUNTRY_INFO!N103*$E103,COUNTRY_INFO!N103*$G103)))","v":18057},{"$f":"IF(OR(COUNTRY_INFO!O103=\"Unknown\",COUNTRY_INFO!O103=\"Surveillance\",COUNTRY_INFO!O103=\"Not required\",COUNTRY_INFO!O103=0),0,IF($E103<>0, IF($F103=0,COUNTRY_INFO!O103*$E103,COUNTRY_INFO!O103*($E103-$D103)),COUNTRY_INFO!O103*$E103))","v":38403},null,{"$f":"IF(OR(COUNTRY_INFO!P103=\"Unknown\",COUNTRY_INFO!P103=\"Surveillance\",COUNTRY_INFO!P103=\"Not required\",COUNTRY_INFO!P103=0),0,IF(AND($E103<>0,$J103=\"\"),IF($F103=0,COUNTRY_INFO!P103*$E103,COUNTRY_INFO!P103*($E103-$D103)), IF(AND($E103<>0,$J103<>0),IF($F103=0,COUNTRY_INFO!P103*$J103,COUNTRY_INFO!P103*($J103-$D103)), COUNTRY_INFO!P103*$J103)))","v":31409},87869,0,null,0,0,0,0,87869,0,87869]
[{"$f":"IF(AND(INTRO!$E$37=\"Non-endemic\",INTRO!$E$41=\"Non-endemic\"),\" \",IF(COUNTRY_INFO!A104=0,\" \",COUNTRY_INFO!A104))","v":"Uganda"},{"$f":"IF(AND(INTRO!$E$37=\"Non-endemic\",INTRO!$E$41=\"Non-endemic\"),\" \",IF(COUNTRY_INFO!B104=0,\" \",COUNTRY_INFO!B104))","v":"Northern"},{"$f":"IF(AND(INTRO!$E$37=\"Non-endemic\",INTRO!$E$41=\"Non-endemic\"),\" \",IF(COUNTRY_INFO!C104=0,\" \",COUNTRY_INFO!C104))","v":"Nabilatuk"},{"$f":"IF(AND(INTRO!$E$37=\"Non-endemic\",INTRO!$E$41=\"Non-endemic\"),0,COUNTRY_INFO!V104)","v":0},{"$f":"IF(AND(INTRO!$E$37=\"Non-endemic\",INTRO!$E$41=\"Non-endemic\"),0,COUNTRY_INFO!X104)","v":1},{"$f":"IF(INTRO!$E$39=\"Non-endemic\",IF($D104=1,DEC!I104,0),IF($D104=1,IVM!G104,0))","v":0},null,{"$f":"IF(OR(COUNTRY_INFO!N104=\"Unknown\",COUNTRY_INFO!N104=\"Surveillance\",COUNTRY_INFO!N104=\"Not required\",COUNTRY_INFO!N104=0),0,IF(INTRO!$E$39=\"Non-endemic\",IF(AND($E104<>0,$G104=\"\"),IF($F104=0,COUNTRY_INFO!N104*$E104,COUNTRY_INFO!N104*($E104-$D104)),IF(AND($E104<>0,$G104<>0),IF($F104=0,COUNTRY_INFO!N104*$G104,COUNTRY_INFO!N104*($G104-$D104)),0)),IF($G104=\"\",COUNTRY_INFO!N104*$E104,COUNTRY_INFO!N104*$G104)))","v":13335},{"$f":"IF(OR(COUNTRY_INFO!O104=\"Unknown\",COUNTRY_INFO!O104=\"Surveillance\",COUNTRY_INFO!O104=\"Not required\",COUNTRY_INFO!O104=0),0,IF($E104<>0, IF($F104=0,COUNTRY_INFO!O104*$E104,COUNTRY_INFO!O104*($E104-$D104)),COUNTRY_INFO!O104*$E104))","v":28360},null,{"$f":"IF(OR(COUNTRY_INFO!P104=\"Unknown\",COUNTRY_INFO!P104=\"Surveillance\",COUNTRY_INFO!P104=\"Not required\",COUNTRY_INFO!P104=0),0,IF(AND($E104<>0,$J104=\"\"),IF($F104=0,COUNTRY_INFO!P104*$E104,COUNTRY_INFO!P104*($E104-$D104)), IF(AND($E104<>0,$J104<>0),IF($F104=0,COUNTRY_INFO!P104*$J104,COUNTRY_INFO!P104*($J104-$D104)), COUNTRY_INFO!P104*$J104)))","v":23195},64890,0,null,0,0,0,0,64890,0,64890]
[{"$f":"IF(AND(INTRO!$E$37=\"Non-endemic\",INTRO!$E$41=\"Non-endemic\"),\" \",IF(COUNTRY_INFO!A105=0,\" \",COUNTRY_INFO!A105))","v":"Uganda"},{"$f":"IF(AND(INTRO!$E$37=\"Non-endemic\",INTRO!$E$41=\"Non-endemic\"),\" \",IF(COUNTRY_INFO!B105=0,\" \",COUNTRY_INFO!B105))","v":"Northern"},{"$f":"IF(AND(INTRO!$E$37=\"Non-endemic\",INTRO!$E$41=\"Non-endemic\"),\" \",IF(COUNTRY_INFO!C105=0,\" \",COUNTRY_INFO!C105))","v":"Nakapiripirit"},{"$f":"IF(AND(INTRO!$E$37=\"Non-endemic\",INTRO!$E$41=\"Non-endemic\"),0,COUNTRY_INFO!V105)","v":0},{"$f":"IF(AND(INTRO!$E$37=\"Non-endemic\",INTRO!$E$41=\"Non-endemic\"),0,COUNTRY_INFO!X105)","v":1},{"$f":"IF(INTRO!$E$39=\"Non-endemic\",IF($D105=1,DEC!I105,0),IF($D105=1,IVM!G105,0))","v":0},null,{"$f":"IF(OR(COUNTRY_INFO!N105=\"Unknown\",COUNTRY_INFO!N105=\"Surveillance\",COUNTRY_INFO!N105=\"Not required\",COUNTRY_INFO!N105=0),0,IF(INTRO!$E$39=\"Non-endemic\",IF(AND($E105<>0,$G105=\"\"),IF($F105=0,COUNTRY_INFO!N105*$E105,COUNTRY_INFO!N105*($E105-$D105)),IF(AND($E105<>0,$G105<>0),IF($F105=0,COUNTRY_INFO!N105*$G105,COUNTRY_INFO!N105*($G105-$D105)),0)),IF($G105=\"\",COUNTRY_INFO!N105*$E105,COUNTRY_INFO!N105*$G105)))","v":0},{"$f":"IF(OR(COUNTRY_INFO!O105=\"Unknown\",COUNTRY_INFO!O105=\"Surveillance\",COUNTRY_INFO!O105=\"Not required\",COUNTRY_INFO!O105=0),0,IF($E105<>0, IF($F105=0,COUNTRY_INFO!O105*$E105,COUNTRY_INFO!O105*($E105-$D105)),COUNTRY_INFO!O105*$E105))","v":0},null,{"$f":"IF(OR(COUNTRY_INFO!P105=\"Unknown\",COUNTRY_INFO!P105=\"Surveillance\",COUNTRY_INFO!P105=\"Not required\",COUNTRY_INFO!P105=0),0,IF(AND($E105<>0,$J105=\"\"),IF($F105=0,COUNTRY_INFO!P105*$E105,COUNTRY_INFO!P105*($E105-$D105)), IF(AND($E105<>0,$J105<>0),IF($F105=0,COUNTRY_INFO!P105*$J105,COUNTRY_INFO!P105*($J105-$D105)), COUNTRY_INFO!P105*$J105)))","v":0},0,0,null,0,0,0,0,0,0,0]
[{"$f":"IF(AND(INTRO!$E$37=\"Non-endemic\",INTRO!$E$41=\"Non-endemic\"),\" \",IF(COUNTRY_INFO!A106=0,\" \",COUNTRY_INFO!A106))","v":"Uganda"},{"$f":"IF(AND(INTRO!$E$37=\"Non-endemic\",INTRO!$E$41=\"Non-endemic\"),\" \",IF(COUNTRY_INFO!B106=0,\" \",COUNTRY_INFO!B106))","v":"Northern"},{"$f":"IF(AND(INTRO!$E$37=\"Non-endemic\",INTRO!$E$41=\"Non-endemic\"),\" \",IF(COUNTRY_INFO!C106=0,\" \",COUNTRY_INFO!C106))","v":"Napak"},{"$f":"IF(AND(INTRO!$E$37=\"Non-endemic\",INTRO!$E$41=\"Non-endemic\"),0,COUNTRY_INFO!V106)","v":0},{"$f":"IF(AND(INTRO!$E$37=\"Non-endemic\",INTRO!$E$41=\"Non-endemic\"),0,COUNTRY_INFO!X106)","v":1},{"$f":"IF(INTRO!$E$39=\"Non-endemic\",IF($D106=1,DEC!I106,0),IF($D106=1,IVM!G106,0))","v":0},null,{"$f":"IF(OR(COUNTRY_INFO!N106=\"Unknown\",COUNTRY_INFO!N106=\"Surveillance\",COUNTRY_INFO!N106=\"Not required\",COUNTRY_INFO!N106=0),0,IF(INTRO!$E$39=\"Non-endemic\",IF(AND($E106<>0,$G106=\"\"),IF($F106=0,COUNTRY_INFO!N106*$E106,COUNTRY_INFO!N106*($E106-$D106)),IF(AND($E106<>0,$G106<>0),IF($F106=0,COUNTRY_INFO!N106*$G106,COUNTRY_INFO!N106*($G106-$D106)),0)),IF($G106=\"\",COUNTRY_INFO!N106*$E106,COUNTRY_INFO!N106*$G106)))","v":27794},{"$f":"IF(OR(COUNTRY_INFO!O106=\"Unknown\",COUNTRY_INFO!O106=\"Surveillance\",COUNTRY_INFO!O106=\"Not required\",COUNTRY_INFO!O106=0),0,IF($E106<>0, IF($F106=0,COUNTRY_INFO!O106*$E106,COUNTRY_INFO!O106*($E106-$D106)),COUNTRY_INFO!O106*$E106))","v":59112},null,{"$f":"IF(OR(COUNTRY_INFO!P106=\"Unknown\",COUNTRY_INFO!P106=\"Surveillance\",COUNTRY_INFO!P106=\"Not required\",COUNTRY_INFO!P106=0),0,IF(AND($E106<>0,$J106=\"\"),IF($F106=0,COUNTRY_INFO!P106*$E106,COUNTRY_INFO!P106*($E106-$D106)), IF(AND($E106<>0,$J106<>0),IF($F106=0,COUNTRY_INFO!P106*$J106,COUNTRY_INFO!P106*($J106-$D106)), COUNTRY_INFO!P106*$J106)))","v":48346},135252,0,null,0,0,0,0,135252,0,135252]
[{"$f":"IF(AND(INTRO!$E$37=\"Non-endemic\",INTRO!$E$41=\"Non-endemic\"),\" \",IF(COUNTRY_INFO!A107=0,\" \",COUNTRY_INFO!A107))","v":"Uganda"},{"$f":"IF(AND(INTRO!$E$37=\"Non-endemic\",INTRO!$E$41=\"Non-endemic\"),\" \",IF(COUNTRY_INFO!B107=0,\" \",COUNTRY_INFO!B107))","v":"Northern"},{"$f":"IF(AND(INTRO!$E$37=\"Non-endemic\",INTRO!$E$41=\"Non-endemic\"),\" \",IF(COUNTRY_INFO!C107=0,\" \",COUNTRY_INFO!C107))","v":"Nebbi"},{"$f":"IF(AND(INTRO!$E$37=\"Non-endemic\",INTRO!$E$41=\"Non-endemic\"),0,COUNTRY_INFO!V107)","v":0},{"$f":"IF(AND(INTRO!$E$37=\"Non-endemic\",INTRO!$E$41=\"Non-endemic\"),0,COUNTRY_INFO!X107)","v":1},{"$f":"IF(INTRO!$E$39=\"Non-endemic\",IF($D107=1,DEC!I107,0),IF($D107=1,IVM!G107,0))","v":0},null,{"$f":"IF(OR(COUNTRY_INFO!N107=\"Unknown\",COUNTRY_INFO!N107=\"Surveillance\",COUNTRY_INFO!N107=\"Not required\",COUNTRY_INFO!N107=0),0,IF(INTRO!$E$39=\"Non-endemic\",IF(AND($E107<>0,$G107=\"\"),IF($F107=0,COUNTRY_INFO!N107*$E107,COUNTRY_INFO!N107*($E107-$D107)),IF(AND($E107<>0,$G107<>0),IF($F107=0,COUNTRY_INFO!N107*$G107,COUNTRY_INFO!N107*($G107-$D107)),0)),IF($G107=\"\",COUNTRY_INFO!N107*$E107,COUNTRY_INFO!N107*$G107)))","v":45409},{"$f":"IF(OR(COUNTRY_INFO!O107=\"Unknown\",COUNTRY_INFO!O107=\"Surveillance\",COUNTRY_INFO!O107=\"Not required\",COUNTRY_INFO!O107=0),0,IF($E107<>0, IF($F107=0,COUNTRY_INFO!O107*$E107,COUNTRY_INFO!O107*($E107-$D107)),COUNTRY_INFO!O107*$E107))","v":96574},null,{"$f":"IF(OR(COUNTRY_INFO!P107=\"Unknown\",COUNTRY_INFO!P107=\"Surveillance\",COUNTRY_INFO!P107=\"Not required\",COUNTRY_INFO!P107=0),0,IF(AND($E107<>0,$J107=\"\"),IF($F107=0,COUNTRY_INFO!P107*$E107,COUNTRY_INFO!P107*($E107-$D107)), IF(AND($E107<>0,$J107<>0),IF($F107=0,COUNTRY_INFO!P107*$J107,COUNTRY_INFO!P107*($J107-$D107)), COUNTRY_INFO!P107*$J107)))","v":78986},220969,0,null,0,0,0,0,220969,0,220969]
[{"$f":"IF(AND(INTRO!$E$37=\"Non-endemic\",INTRO!$E$41=\"Non-endemic\"),\" \",IF(COUNTRY_INFO!A108=0,\" \",COUNTRY_INFO!A108))","v":"Uganda"},{"$f":"IF(AND(INTRO!$E$37=\"Non-endemic\",INTRO!$E$41=\"Non-endemic\"),\" \",IF(COUNTRY_INFO!B108=0,\" \",COUNTRY_INFO!B108))","v":"Northern"},{"$f":"IF(AND(INTRO!$E$37=\"Non-endemic\",INTRO!$E$41=\"Non-endemic\"),\" \",IF(COUNTRY_INFO!C108=0,\" \",COUNTRY_INFO!C108))","v":"Nwoya"},{"$f":"IF(AND(INTRO!$E$37=\"Non-endemic\",INTRO!$E$41=\"Non-endemic\"),0,COUNTRY_INFO!V108)","v":0},{"$f":"IF(AND(INTRO!$E$37=\"Non-endemic\",INTRO!$E$41=\"Non-endemic\"),0,COUNTRY_INFO!X108)","v":1},{"$f":"IF(INTRO!$E$39=\"Non-endemic\",IF($D108=1,DEC!I108,0),IF($D108=1,IVM!G108,0))","v":0},null,{"$f":"IF(OR(COUNTRY_INFO!N108=\"Unknown\",COUNTRY_INFO!N108=\"Surveillance\",COUNTRY_INFO!N108=\"Not required\",COUNTRY_INFO!N108=0),0,IF(INTRO!$E$39=\"Non-endemic\",IF(AND($E108<>0,$G108=\"\"),IF($F108=0,COUNTRY_INFO!N108*$E108,COUNTRY_INFO!N108*($E108-$D108)),IF(AND($E108<>0,$G108<>0),IF($F108=0,COUNTRY_INFO!N108*$G108,COUNTRY_INFO!N108*($G108-$D108)),0)),IF($G108=\"\",COUNTRY_INFO!N108*$E108,COUNTRY_INFO!N108*$G108)))","v":24517},{"$f":"IF(OR(COUNTRY_INFO!O108=\"Unknown\",COUNTRY_INFO!O108=\"Surveillance\",COUNTRY_INFO!O108=\"Not required\",COUNTRY_INFO!O108=0),0,IF($E108<>0, IF($F108=0,COUNTRY_INFO!O108*$E108,COUNTRY_INFO!O108*($E108-$D108)),COUNTRY_INFO!O108*$E108))","v":52142},null,{"$f":"IF(OR(COUNTRY_INFO!P108=\"Unknown\",COUNTRY_INFO!P108=\"Surveillance\",COUNTRY_INFO!P108=\"Not required\",COUNTRY_INFO!P108=0),0,IF(AND($E108<>0,$J108=\"\"),IF($F108=0,COUNTRY_INFO!P108*$E108,COUNTRY_INFO!P108*($E108-$D108)), IF(AND($E108<>0,$J108<>0),IF($F108=0,COUNTRY_INFO!P108*$J108,COUNTRY_INFO!P108*($J108-$D108)), COUNTRY_INFO!P108*$J108)))","v":42646},119305,0,null,0,0,0,0,119305,0,119305]
[{"$f":"IF(AND(INTRO!$E$37=\"Non-endemic\",INTRO!$E$41=\"Non-endemic\"),\" \",IF(COUNTRY_INFO!A109=0,\" \",COUNTRY_INFO!A109))","v":"Uganda"},{"$f":"IF(AND(INTRO!$E$37=\"Non-endemic\",INTRO!$E$41=\"Non-endemic\"),\" \",IF(COUNTRY_INFO!B109=0,\" \",COUNTRY_INFO!B109))","v":"Northern"},{"$f":"IF(AND(INTRO!$E$37=\"Non-endemic\",INTRO!$E$41=\"Non-endemic\"),\" \",IF(COUNTRY_INFO!C109=0,\" \",COUNTRY_INFO!C109))","v":"Obongi"},{"$f":"IF(AND(INTRO!$E$37=\"Non-endemic\",INTRO!$E$41=\"Non-endemic\"),0,COUNTRY_INFO!V109)","v":0},{"$f":"IF(AND(INTRO!$E$37=\"Non-endemic\",INTRO!$E$41=\"Non-endemic\"),0,COUNTRY_INFO!X109)","v":1},{"$f":"IF(INTRO!$E$39=\"Non-endemic\",IF($D109=1,DEC!I109,0),IF($D109=1,IVM!G109,0))","v":0},null,{"$f":"IF(OR(COUNTRY_INFO!N109=\"Unknown\",COUNTRY_INFO!N109=\"Surveillance\",COUNTRY_INFO!N109=\"Not required\",COUNTRY_INFO!N109=0),0,IF(INTRO!$E$39=\"Non-endemic\",IF(AND($E109<>0,$G109=\"\"),IF($F109=0,COUNTRY_INFO!N109*$E109,COUNTRY_INFO!N109*($E109-$D109)),IF(AND($E109<>0,$G109<>0),IF($F109=0,COUNTRY_INFO!N109*$G109,COUNTRY_INFO!N109*($G109-$D109)),0)),IF($G109=\"\",COUNTRY_INFO!N109*$E109,COUNTRY_INFO!N109*$G109)))","v":8257},{"$f":"IF(OR(COUNTRY_INFO!O109=\"Unknown\",COUNTRY_INFO!O109=\"Surveillance\",COUNTRY_INFO!O109=\"Not required\",COUNTRY_INFO!O109=0),0,IF($E109<>0, IF($F109=0,COUNTRY_INFO!O109*$E109,COUNTRY_INFO!O109*($E109-$D109)),COUNTRY_INFO!O109*$E109))","v":17560},null,{"$f":"IF(OR(COUNTRY_INFO!P109=\"Unknown\",COUNTRY_INFO!P109=\"Surveillance\",COUNTRY_INFO!P109=\"Not required\",COUNTRY_INFO!P109=0),0,IF(AND($E109<>0,$J109=\"\"),IF($F109=0,COUNTRY_INFO!P109*$E109,COUNTRY_INFO!P109*($E109-$D109)), IF(AND($E109<>0,$J109<>0),IF($F109=0,COUNTRY_INFO!P109*$J109,COUNTRY_INFO!P109*($J109-$D109)), COUNTRY_INFO!P109*$J109)))","v":14362},40179,0,null,0,0,0,0,40179,0,40179]
[{"$f":"IF(AND(INTRO!$E$37=\"Non-endemic\",INTRO!$E$41=\"Non-endemic\"),\" \",IF(COUNTRY_INFO!A110=0,\" \",COUNTRY_INFO!A110))","v":"Uganda"},{"$f":"IF(AND(INTRO!$E$37=\"Non-endemic\",INTRO!$E$41=\"Non-endemic\"),\" \",IF(COUNTRY_INFO!B110=0,\" \",COUNTRY_INFO!B110))","v":"Northern"},{"$f":"IF(AND(INTRO!$E$37=\"Non-endemic\",INTRO!$E$41=\"Non-endemic\"),\" \",IF(COUNTRY_INFO!C110=0,\" \",COUNTRY_INFO!C110))","v":"Omoro"},{"$f":"IF(AND(INTRO!$E$37=\"Non-endemic\",INTRO!$E$41=\"Non-endemic\"),0,COUNTRY_INFO!V110)","v":0},{"$f":"IF(AND(INTRO!$E$37=\"Non-endemic\",INTRO!$E$41=\"Non-endemic\"),0,COUNTRY_INFO!X110)","v":1},{"$f":"IF(INTRO!$E$39=\"Non-endemic\",IF($D110=1,DEC!I110,0),IF($D110=1,IVM!G110,0))","v":0},null,{"$f":"IF(OR(COUNTRY_INFO!N110=\"Unknown\",COUNTRY_INFO!N110=\"Surveillance\",COUNTRY_INFO!N110=\"Not required\",COUNTRY_INFO!N110=0),0,IF(INTRO!$E$39=\"Non-endemic\",IF(AND($E110<>0,$G110=\"\"),IF($F110=0,COUNTRY_INFO!N110*$E110,COUNTRY_INFO!N110*($E110-$D110)),IF(AND($E110<>0,$G110<>0),IF($F110=0,COUNTRY_INFO!N110*$G110,COUNTRY_INFO!N110*($G110-$D110)),0)),IF($G110=\"\",COUNTRY_INFO!N110*$E110,COUNTRY_INFO!N110*$G110)))","v":31702},{"$f":"IF(OR(COUNTRY_INFO!O110=\"Unknown\",COUNTRY_INFO!O110=\"Surveillance\",COUNTRY_INFO!O110=\"Not required\",COUNTRY_INFO!O110=0),0,IF($E110<>0, IF($F110=0,COUNTRY_INFO!O110*$E110,COUNTRY_INFO!O110*($E110-$D110)),COUNTRY_INFO!O110*$E110))","v":67423},null,{"$f":"IF(OR(COUNTRY_INFO!P110=\"Unknown\",COUNTRY_INFO!P110=\"Surveillance\",COUNTRY_INFO!P110=\"Not required\",COUNTRY_INFO!P110=0),0,IF(AND($E110<>0,$J110=\"\"),IF($F110=0,COUNTRY_INFO!P110*$E110,COUNTRY_INFO!P110*($E110-$D110)), IF(AND($E110<>0,$J110<>0),IF($F110=0,COUNTRY_INFO!P110*$J110,COUNTRY_INFO!P110*($J110-$D110)), COUNTRY_INFO!P110*$J110)))","v":55144},154269,0,null,0,0,0,0,154269,0,154269]
[{"$f":"IF(AND(INTRO!$E$37=\"Non-endemic\",INTRO!$E$41=\"Non-endemic\"),\" \",IF(COUNTRY_INFO!A111=0,\" \",COUNTRY_INFO!A111))","v":"Uganda"},{"$f":"IF(AND(INTRO!$E$37=\"Non-endemic\",INTRO!$E$41=\"Non-endemic\"),\" \",IF(COUNTRY_INFO!B111=0,\" \",COUNTRY_INFO!B111))","v":"Northern"},{"$f":"IF(AND(INTRO!$E$37=\"Non-endemic\",INTRO!$E$41=\"Non-endemic\"),\" \",IF(COUNTRY_INFO!C111=0,\" \",COUNTRY_INFO!C111))","v":"Otuke"},{"$f":"IF(AND(INTRO!$E$37=\"Non-endemic\",INTRO!$E$41=\"Non-endemic\"),0,COUNTRY_INFO!V111)","v":0},{"$f":"IF(AND(INTRO!$E$37=\"Non-endemic\",INTRO!$E$41=\"Non-endemic\"),0,COUNTRY_INFO!X111)","v":1},{"$f":"IF(INTRO!$E$39=\"Non-endemic\",IF($D111=1,DEC!I111,0),IF($D111=1,IVM!G111,0))","v":0},null,{"$f":"IF(OR(COUNTRY_INFO!N111=\"Unknown\",COUNTRY_INFO!N111=\"Surveillance\",COUNTRY_INFO!N111=\"Not required\",COUNTRY_INFO!N111=0),0,IF(INTRO!$E$39=\"Non-endemic\",IF(AND($E111<>0,$G111=\"\"),IF($F111=0,COUNTRY_INFO!N111*$E111,COUNTRY_INFO!N111*($E111-$D111)),IF(AND($E111<>0,$G111<>0),IF($F111=0,COUNTRY_INFO!N111*$G111,COUNTRY_INFO!N111*($G111-$D111)),0)),IF($G111=\"\",COUNTRY_INFO!N111*$E111,COUNTRY_INFO!N111*$G111)))","v":20215},{"$f":"IF(OR(COUNTRY_INFO!O111=\"Unknown\",COUNTRY_INFO!O111=\"Surveillance\",COUNTRY_INFO!O111=\"Not required\",COUNTRY_INFO!O111=0),0,IF($E111<>0, IF($F111=0,COUNTRY_INFO!O111*$E111,COUNTRY_INFO!O111*($E111-$D111)),COUNTRY_INFO!O111*$E111))","v":42992},null,{"$f":"IF(OR(COUNTRY_INFO!P111=\"Unknown\",COUNTRY_INFO!P111=\"Surveillance\",COUNTRY_INFO!P111=\"Not required\",COUNTRY_INFO!P111=0),0,IF(AND($E111<>0,$J111=\"\"),IF($F111=0,COUNTRY_INFO!P111*$E111,COUNTRY_INFO!P111*($E111-$D111)), IF(AND($E111<>0,$J111<>0),IF($F111=0,COUNTRY_INFO!P111*$J111,COUNTRY_INFO!P111*($J111-$D111)), COUNTRY_INFO!P111*$J111)))","v":35162},98369,0,null,0,0,0,0,98369,0,98369]
[{"$f":"IF(AND(INTRO!$E$37=\"Non-endemic\",INTRO!$E$41=\"Non-endemic\"),\" \",IF(COUNTRY_INFO!A112=0,\" \",COUNTRY_INFO!A112))","v":"Uganda"},{"$f":"IF(AND(INTRO!$E$37=\"Non-endemic\",INTRO!$E$41=\"Non-endemic\"),\" \",IF(COUNTRY_INFO!B112=0,\" \",COUNTRY_INFO!B112))","v":"Northern"},{"$f":"IF(AND(INTRO!$E$37=\"Non-endemic\",INTRO!$E$41=\"Non-endemic\"),\" \",IF(COUNTRY_INFO!C112=0,\" \",COUNTRY_INFO!C112))","v":"Oyam"},{"$f":"IF(AND(INTRO!$E$37=\"Non-endemic\",INTRO!$E$41=\"Non-endemic\"),0,COUNTRY_INFO!V112)","v":0},{"$f":"IF(AND(INTRO!$E$37=\"Non-endemic\",INTRO!$E$41=\"Non-endemic\"),0,COUNTRY_INFO!X112)","v":1},{"$f":"IF(INTRO!$E$39=\"Non-endemic\",IF($D112=1,DEC!I112,0),IF($D112=1,IVM!G112,0))","v":0},null,{"$f":"IF(OR(COUNTRY_INFO!N112=\"Unknown\",COUNTRY_INFO!N112=\"Surveillance\",COUNTRY_INFO!N112=\"Not required\",COUNTRY_INFO!N112=0),0,IF(INTRO!$E$39=\"Non-endemic\",IF(AND($E112<>0,$G112=\"\"),IF($F112=0,COUNTRY_INFO!N112*$E112,COUNTRY_INFO!N112*($E112-$D112)),IF(AND($E112<>0,$G112<>0),IF($F112=0,COUNTRY_INFO!N112*$G112,COUNTRY_INFO!N112*($G112-$D112)),0)),IF($G112=\"\",COUNTRY_INFO!N112*$E112,COUNTRY_INFO!N112*$G112)))","v":74263},{"$f":"IF(OR(COUNTRY_INFO!O112=\"Unknown\",COUNTRY_INFO!O112=\"Surveillance\",COUNTRY_INFO!O112=\"Not required\",COUNTRY_INFO!O112=0),0,IF($E112<>0, IF($F112=0,COUNTRY_INFO!O112*$E112,COUNTRY_INFO!O112*($E112-$D112)),COUNTRY_INFO!O112*$E112))","v":157939},null,{"$f":"IF(OR(COUNTRY_INFO!P112=\"Unknown\",COUNTRY_INFO!P112=\"Surveillance\",COUNTRY_INFO!P112=\"Not required\",COUNTRY_INFO!P112=0),0,IF(AND($E112<>0,$J112=\"\"),IF($F112=0,COUNTRY_INFO!P112*$E112,COUNTRY_INFO!P112*($E112-$D112)), IF(AND($E112<>0,$J112<>0),IF($F112=0,COUNTRY_INFO!P112*$J112,COUNTRY_INFO!P112*($J112-$D112)), COUNTRY_INFO!P112*$J112)))","v":129176},361378,0,null,0,0,0,0,361378,0,361378]
[{"$f":"IF(AND(INTRO!$E$37=\"Non-endemic\",INTRO!$E$41=\"Non-endemic\"),\" \",IF(COUNTRY_INFO!A113=0,\" \",COUNTRY_INFO!A113))","v":"Uganda"},{"$f":"IF(AND(INTRO!$E$37=\"Non-endemic\",INTRO!$E$41=\"Non-endemic\"),\" \",IF(COUNTRY_INFO!B113=0,\" \",COUNTRY_INFO!B113))","v":"Northern"},{"$f":"IF(AND(INTRO!$E$37=\"Non-endemic\",INTRO!$E$41=\"Non-endemic\"),\" \",IF(COUNTRY_INFO!C113=0,\" \",COUNTRY_INFO!C113))","v":"Pader"},{"$f":"IF(AND(INTRO!$E$37=\"Non-endemic\",INTRO!$E$41=\"Non-endemic\"),0,COUNTRY_INFO!V113)","v":0},{"$f":"IF(AND(INTRO!$E$37=\"Non-endemic\",INTRO!$E$41=\"Non-endemic\"),0,COUNTRY_INFO!X113)","v":1},{"$f":"IF(INTRO!$E$39=\"Non-endemic\",IF($D113=1,DEC!I113,0),IF($D113=1,IVM!G113,0))","v":0},null,{"$f":"IF(OR(COUNTRY_INFO!N113=\"Unknown\",COUNTRY_INFO!N113=\"Surveillance\",COUNTRY_INFO!N113=\"Not required\",COUNTRY_INFO!N113=0),0,IF(INTRO!$E$39=\"Non-endemic\",IF(AND($E113<>0,$G113=\"\"),IF($F113=0,COUNTRY_INFO!N113*$E113,COUNTRY_INFO!N113*($E113-$D113)),IF(AND($E113<>0,$G113<>0),IF($F113=0,COUNTRY_INFO!N113*$G113,COUNTRY_INFO!N113*($G113-$D113)),0)),IF($G113=\"\",COUNTRY_INFO!N113*$E113,COUNTRY_INFO!N113*$G113)))","v":35164},{"$f":"IF(OR(COUNTRY_INFO!O113=\"Unknown\",COUNTRY_INFO!O113=\"Surveillance\",COUNTRY_INFO!O113=\"Not required\",COUNTRY_INFO!O113=0),0,IF($E113<>0, IF($F113=0,COUNTRY_INFO!O113*$E113,COUNTRY_INFO!O113*($E113-$D113)),COUNTRY_INFO!O113*$E113))","v":74785},null,{"$f":"IF(OR(COUNTRY_INFO!P113=\"Unknown\",COUNTRY_INFO!P113=\"Surveillance\",COUNTRY_INFO!P113=\"Not required\",COUNTRY_INFO!P113=0),0,IF(AND($E113<>0,$J113=\"\"),IF($F113=0,COUNTRY_INFO!P113*$E113,COUNTRY_INFO!P113*($E113-$D113)), IF(AND($E113<>0,$J113<>0),IF($F113=0,COUNTRY_INFO!P113*$J113,COUNTRY_INFO!P113*($J113-$D113)), COUNTRY_INFO!P113*$J113)))","v":61165},171114,0,null,0,0,0,0,171114,0,171114]
[{"$f":"IF(AND(INTRO!$E$37=\"Non-endemic\",INTRO!$E$41=\"Non-endemic\"),\" \",IF(COUNTRY_INFO!A114=0,\" \",COUNTRY_INFO!A114))","v":"Uganda"},{"$f":"IF(AND(INTRO!$E$37=\"Non-endemic\",INTRO!$E$41=\"Non-endemic\"),\" \",IF(COUNTRY_INFO!B114=0,\" \",COUNTRY_INFO!B114))","v":"Northern"},{"$f":"IF(AND(INTRO!$E$37=\"Non-endemic\",INTRO!$E$41=\"Non-endemic\"),\" \",IF(COUNTRY_INFO!C114=0,\" \",COUNTRY_INFO!C114))","v":"Pakwach"},{"$f":"IF(AND(INTRO!$E$37=\"Non-endemic\",INTRO!$E$41=\"Non-endemic\"),0,COUNTRY_INFO!V114)","v":0},{"$f":"IF(AND(INTRO!$E$37=\"Non-endemic\",INTRO!$E$41=\"Non-endemic\"),0,COUNTRY_INFO!X114)","v":1},{"$f":"IF(INTRO!$E$39=\"Non-endemic\",IF($D114=1,DEC!I114,0),IF($D114=1,IVM!G114,0))","v":0},null,{"$f":"IF(OR(COUNTRY_INFO!N114=\"Unknown\",COUNTRY_INFO!N114=\"Surveillance\",COUNTRY_INFO!N114=\"Not required\",COUNTRY_INFO!N114=0),0,IF(INTRO!$E$39=\"Non-endemic\",IF(AND($E114<>0,$G114=\"\"),IF($F114=0,COUNTRY_INFO!N114*$E114,COUNTRY_INFO!N114*($E114-$D114)),IF(AND($E114<>0,$G114<>0),IF($F114=0,COUNTRY_INFO!N114*$G114,COUNTRY_INFO!N114*($G114-$D114)),0)),IF($G114=\"\",COUNTRY_INFO!N114*$E114,COUNTRY_INFO!N114*$G114)))","v":0},{"$f":"IF(OR(COUNTRY_INFO!O114=\"Unknown\",COUNTRY_INFO!O114=\"Surveillance\",COUNTRY_INFO!O114=\"Not required\",COUNTRY_INFO!O114=0),0,IF($E114<>0, IF($F114=0,COUNTRY_INFO!O114*$E114,COUNTRY_INFO!O114*($E114-$D114)),COUNTRY_INFO!O114*$E114))","v":0},null,{"$f":"IF(OR(COUNTRY_INFO!P114=\"Unknown\",COUNTRY_INFO!P114=\"Surveillance\",COUNTRY_INFO!P114=\"Not required\",COUNTRY_INFO!P114=0),0,IF(AND($E114<>0,$J114=\"\"),IF($F114=0,COUNTRY_INFO!P114*$E114,COUNTRY_INFO!P114*($E114-$D114)), IF(AND($E114<>0,$J114<>0),IF($F114=0,COUNTRY_INFO!P114*$J114,COUNTRY_INFO!P114*($J114-$D114)), COUNTRY_INFO!P114*$J114)))","v":0},0,0,null,0,0,0,0,0,0,0]
[{"$f":"IF(AND(INTRO!$E$37=\"Non-endemic\",INTRO!$E$41=\"Non-endemic\"),\" \",IF(COUNTRY_INFO!A115=0,\" \",COUNTRY_INFO!A115))","v":"Uganda"},{"$f":"IF(AND(INTRO!$E$37=\"Non-endemic\",INTRO!$E$41=\"Non-endemic\"),\" \",IF(COUNTRY_INFO!B115=0,\" \",COUNTRY_INFO!B115))","v":"Northern"},{"$f":"IF(AND(INTRO!$E$37=\"Non-endemic\",INTRO!$E$41=\"Non-endemic\"),\" \",IF(COUNTRY_INFO!C115=0,\" \",COUNTRY_INFO!C115))","v":"Terego"},{"$f":"IF(AND(INTRO!$E$37=\"Non-endemic\",INTRO!$E$41=\"Non-endemic\"),0,COUNTRY_INFO!V115)","v":0},{"$f":"IF(AND(INTRO!$E$37=\"Non-endemic\",INTRO!$E$41=\"Non-endemic\"),0,COUNTRY_INFO!X115)","v":1},{"$f":"IF(INTRO!$E$39=\"Non-endemic\",IF($D115=1,DEC!I115,0),IF($D115=1,IVM!G115,0))","v":0},null,{"$f":"IF(OR(COUNTRY_INFO!N115=\"Unknown\",COUNTRY_INFO!N115=\"Surveillance\",COUNTRY_INFO!N115=\"Not required\",COUNTRY_INFO!N115=0),0,IF(INTRO!$E$39=\"Non-endemic\",IF(AND($E115<>0,$G115=\"\"),IF($F115=0,COUNTRY_INFO!N115*$E115,COUNTRY_INFO!N115*($E115-$D115)),IF(AND($E115<>0,$G115<>0),IF($F115=0,COUNTRY_INFO!N115*$G115,COUNTRY_INFO!N115*($G115-$D115)),0)),IF($G115=\"\",COUNTRY_INFO!N115*$E115,COUNTRY_INFO!N115*$G115)))","v":39048},{"$f":"IF(OR(COUNTRY_INFO!O115=\"Unknown\",COUNTRY_INFO!O115=\"Surveillance\",COUNTRY_INFO!O115=\"Not required\",COUNTRY_INFO!O115=0),0,IF($E115<>0, IF($F115=0,COUNTRY_INFO!O115*$E115,COUNTRY_INFO!O115*($E115-$D115)),COUNTRY_INFO!O115*$E115))","v":83046},null,{"$f":"IF(OR(COUNTRY_INFO!P115=\"Unknown\",COUNTRY_INFO!P115=\"Surveillance\",COUNTRY_INFO!P115=\"Not required\",COUNTRY_INFO!P115=0),0,IF(AND($E115<>0,$J115=\"\"),IF($F115=0,COUNTRY_INFO!P115*$E115,COUNTRY_INFO!P115*($E115-$D115)), IF(AND($E115<>0,$J115<>0),IF($F115=0,COUNTRY_INFO!P115*$J115,COUNTRY_INFO!P115*($J115-$D115)), COUNTRY_INFO!P115*$J115)))","v":67922},190016,0,null,0,0,0,0,190016,0,190016]
[{"$f":"IF(AND(INTRO!$E$37=\"Non-endemic\",INTRO!$E$41=\"Non-endemic\"),\" \",IF(COUNTRY_INFO!A116=0,\" \",COUNTRY_INFO!A116))","v":"Uganda"},{"$f":"IF(AND(INTRO!$E$37=\"Non-endemic\",INTRO!$E$41=\"Non-endemic\"),\" \",IF(COUNTRY_INFO!B116=0,\" \",COUNTRY_INFO!B116))","v":"Northern"},{"$f":"IF(AND(INTRO!$E$37=\"Non-endemic\",INTRO!$E$41=\"Non-endemic\"),\" \",IF(COUNTRY_INFO!C116=0,\" \",COUNTRY_INFO!C116))","v":"Yumbe"},{"$f":"IF(AND(INTRO!$E$37=\"Non-endemic\",INTRO!$E$41=\"Non-endemic\"),0,COUNTRY_INFO!V116)","v":0},{"$f":"IF(AND(INTRO!$E$37=\"Non-endemic\",INTRO!$E$41=\"Non-endemic\"),0,COUNTRY_INFO!X116)","v":1},{"$f":"IF(INTRO!$E$39=\"Non-endemic\",IF($D116=1,DEC!I116,0),IF($D116=1,IVM!G116,0))","v":0},null,{"$f":"IF(OR(COUNTRY_INFO!N116=\"Unknown\",COUNTRY_INFO!N116=\"Surveillance\",COUNTRY_INFO!N116=\"Not required\",COUNTRY_INFO!N116=0),0,IF(INTRO!$E$39=\"Non-endemic\",IF(AND($E116<>0,$G116=\"\"),IF($F116=0,COUNTRY_INFO!N116*$E116,COUNTRY_INFO!N116*($E116-$D116)),IF(AND($E116<>0,$G116<>0),IF($F116=0,COUNTRY_INFO!N116*$G116,COUNTRY_INFO!N116*($G116-$D116)),0)),IF($G116=\"\",COUNTRY_INFO!N116*$E116,COUNTRY_INFO!N116*$G116)))","v":0},{"$f":"IF(OR(COUNTRY_INFO!O116=\"Unknown\",COUNTRY_INFO!O116=\"Surveillance\",COUNTRY_INFO!O116=\"Not required\",COUNTRY_INFO!O116=0),0,IF($E116<>0, IF($F116=0,COUNTRY_INFO!O116*$E116,COUNTRY_INFO!O116*($E116-$D116)),COUNTRY_INFO!O116*$E116))","v":0},null,{"$f":"IF(OR(COUNTRY_INFO!P116=\"Unknown\",COUNTRY_INFO!P116=\"Surveillance\",COUNTRY_INFO!P116=\"Not required\",COUNTRY_INFO!P116=0),0,IF(AND($E116<>0,$J116=\"\"),IF($F116=0,COUNTRY_INFO!P116*$E116,COUNTRY_INFO!P116*($E116-$D116)), IF(AND($E116<>0,$J116<>0),IF($F116=0,COUNTRY_INFO!P116*$J116,COUNTRY_INFO!P116*($J116-$D116)), COUNTRY_INFO!P116*$J116)))","v":0},0,0,null,0,0,0,0,0,0,0]
[{"$f":"IF(AND(INTRO!$E$37=\"Non-endemic\",INTRO!$E$41=\"Non-endemic\"),\" \",IF(COUNTRY_INFO!A117=0,\" \",COUNTRY_INFO!A117))","v":"Uganda"},{"$f":"IF(AND(INTRO!$E$37=\"Non-endemic\",INTRO!$E$41=\"Non-endemic\"),\" \",IF(COUNTRY_INFO!B117=0,\" \",COUNTRY_INFO!B117))","v":"Northern"},{"$f":"IF(AND(INTRO!$E$37=\"Non-endemic\",INTRO!$E$41=\"Non-endemic\"),\" \",IF(COUNTRY_INFO!C117=0,\" \",COUNTRY_INFO!C117))","v":"Zombo"},{"$f":"IF(AND(INTRO!$E$37=\"Non-endemic\",INTRO!$E$41=\"Non-endemic\"),0,COUNTRY_INFO!V117)","v":0},{"$f":"IF(AND(INTRO!$E$37=\"Non-endemic\",INTRO!$E$41=\"Non-endemic\"),0,COUNTRY_INFO!X117)","v":1},{"$f":"IF(INTRO!$E$39=\"Non-endemic\",IF($D117=1,DEC!I117,0),IF($D117=1,IVM!G117,0))","v":0},null,{"$f":"IF(OR(COUNTRY_INFO!N117=\"Unknown\",COUNTRY_INFO!N117=\"Surveillance\",COUNTRY_INFO!N117=\"Not required\",COUNTRY_INFO!N117=0),0,IF(INTRO!$E$39=\"Non-endemic\",IF(AND($E117<>0,$G117=\"\"),IF($F117=0,COUNTRY_INFO!N117*$E117,COUNTRY_INFO!N117*($E117-$D117)),IF(AND($E117<>0,$G117<>0),IF($F117=0,COUNTRY_INFO!N117*$G117,COUNTRY_INFO!N117*($G117-$D117)),0)),IF($G117=\"\",COUNTRY_INFO!N117*$E117,COUNTRY_INFO!N117*$G117)))","v":46004},{"$f":"IF(OR(COUNTRY_INFO!O117=\"Unknown\",COUNTRY_INFO!O117=\"Surveillance\",COUNTRY_INFO!O117=\"Not required\",COUNTRY_INFO!O117=0),0,IF($E117<>0, IF($F117=0,COUNTRY_INFO!O117*$E117,COUNTRY_INFO!O117*($E117-$D117)),COUNTRY_INFO!O117*$E117))","v":97840},null,{"$f":"IF(OR(COUNTRY_INFO!P117=\"Unknown\",COUNTRY_INFO!P117=\"Surveillance\",COUNTRY_INFO!P117=\"Not required\",COUNTRY_INFO!P117=0),0,IF(AND($E117<>0,$J117=\"\"),IF($F117=0,COUNTRY_INFO!P117*$E117,COUNTRY_INFO!P117*($E117-$D117)), IF(AND($E117<>0,$J117<>0),IF($F117=0,COUNTRY_INFO!P117*$J117,COUNTRY_INFO!P117*($J117-$D117)), COUNTRY_INFO!P117*$J117)))","v":80022},223866,0,null,0,0,0,0,223866,0,223866]
[{"$f":"IF(AND(INTRO!$E$37=\"Non-endemic\",INTRO!$E$41=\"Non-endemic\"),\" \",IF(COUNTRY_INFO!A118=0,\" \",COUNTRY_INFO!A118))","v":"Uganda"},{"$f":"IF(AND(INTRO!$E$37=\"Non-endemic\",INTRO!$E$41=\"Non-endemic\"),\" \",IF(COUNTRY_INFO!B118=0,\" \",COUNTRY_INFO!B118))","v":"Western"},{"$f":"IF(AND(INTRO!$E$37=\"Non-endemic\",INTRO!$E$41=\"Non-endemic\"),\" \",IF(COUNTRY_INFO!C118=0,\" \",COUNTRY_INFO!C118))","v":"Buhweju"},{"$f":"IF(AND(INTRO!$E$37=\"Non-endemic\",INTRO!$E$41=\"Non-endemic\"),0,COUNTRY_INFO!V118)","v":0},{"$f":"IF(AND(INTRO!$E$37=\"Non-endemic\",INTRO!$E$41=\"Non-endemic\"),0,COUNTRY_INFO!X118)","v":1},{"$f":"IF(INTRO!$E$39=\"Non-endemic\",IF($D118=1,DEC!I118,0),IF($D118=1,IVM!G118,0))","v":0},null,{"$f":"IF(OR(COUNTRY_INFO!N118=\"Unknown\",COUNTRY_INFO!N118=\"Surveillance\",COUNTRY_INFO!N118=\"Not required\",COUNTRY_INFO!N118=0),0,IF(INTRO!$E$39=\"Non-endemic\",IF(AND($E118<>0,$G118=\"\"),IF($F118=0,COUNTRY_INFO!N118*$E118,COUNTRY_INFO!N118*($E118-$D118)),IF(AND($E118<>0,$G118<>0),IF($F118=0,COUNTRY_INFO!N118*$G118,COUNTRY_INFO!N118*($G118-$D118)),0)),IF($G118=\"\",COUNTRY_INFO!N118*$E118,COUNTRY_INFO!N118*$G118)))","v":23742},{"$f":"IF(OR(COUNTRY_INFO!O118=\"Unknown\",COUNTRY_INFO!O118=\"Surveillance\",COUNTRY_INFO!O118=\"Not required\",COUNTRY_INFO!O118=0),0,IF($E118<>0, IF($F118=0,COUNTRY_INFO!O118*$E118,COUNTRY_INFO!O118*($E118-$D118)),COUNTRY_INFO!O118*$E118))","v":50494},null,{"$f":"IF(OR(COUNTRY_INFO!P118=\"Unknown\",COUNTRY_INFO!P118=\"Surveillance\",COUNTRY_INFO!P118=\"Not required\",COUNTRY_INFO!P118=0),0,IF(AND($E118<>0,$J118=\"\"),IF($F118=0,COUNTRY_INFO!P118*$E118,COUNTRY_INFO!P118*($E118-$D118)), IF(AND($E118<>0,$J118<>0),IF($F118=0,COUNTRY_INFO!P118*$J118,COUNTRY_INFO!P118*($J118-$D118)), COUNTRY_INFO!P118*$J118)))","v":41298},115534,0,null,0,0,0,0,115534,0,115534]
[{"$f":"IF(AND(INTRO!$E$37=\"Non-endemic\",INTRO!$E$41=\"Non-endemic\"),\" \",IF(COUNTRY_INFO!A119=0,\" \",COUNTRY_INFO!A119))","v":"Uganda"},{"$f":"IF(AND(INTRO!$E$37=\"Non-endemic\",INTRO!$E$41=\"Non-endemic\"),\" \",IF(COUNTRY_INFO!B119=0,\" \",COUNTRY_INFO!B119))","v":"Western"},{"$f":"IF(AND(INTRO!$E$37=\"Non-endemic\",INTRO!$E$41=\"Non-endemic\"),\" \",IF(COUNTRY_INFO!C119=0,\" \",COUNTRY_INFO!C119))","v":"Buliisa"},{"$f":"IF(AND(INTRO!$E$37=\"Non-endemic\",INTRO!$E$41=\"Non-endemic\"),0,COUNTRY_INFO!V119)","v":0},{"$f":"IF(AND(INTRO!$E$37=\"Non-endemic\",INTRO!$E$41=\"Non-endemic\"),0,COUNTRY_INFO!X119)","v":1},{"$f":"IF(INTRO!$E$39=\"Non-endemic\",IF($D119=1,DEC!I119,0),IF($D119=1,IVM!G119,0))","v":0},null,{"$f":"IF(OR(COUNTRY_INFO!N119=\"Unknown\",COUNTRY_INFO!N119=\"Surveillance\",COUNTRY_INFO!N119=\"Not required\",COUNTRY_INFO!N119=0),0,IF(INTRO!$E$39=\"Non-endemic\",IF(AND($E119<>0,$G119=\"\"),IF($F119=0,COUNTRY_INFO!N119*$E119,COUNTRY_INFO!N119*($E119-$D119)),IF(AND($E119<>0,$G119<>0),IF($F119=0,COUNTRY_INFO!N119*$G119,COUNTRY_INFO!N119*($G119-$D119)),0)),IF($G119=\"\",COUNTRY_INFO!N119*$E119,COUNTRY_INFO!N119*$G119)))","v":21736},{"$f":"IF(OR(COUNTRY_INFO!O119=\"Unknown\",COUNTRY_INFO!O119=\"Surveillance\",COUNTRY_INFO!O119=\"Not required\",COUNTRY_INFO!O119=0),0,IF($E119<>0, IF($F119=0,COUNTRY_INFO!O119*$E119,COUNTRY_INFO!O119*($E119-$D119)),COUNTRY_INFO!O119*$E119))","v":46228},null,{"$f":"IF(OR(COUNTRY_INFO!P119=\"Unknown\",COUNTRY_INFO!P119=\"Surveillance\",COUNTRY_INFO!P119=\"Not required\",COUNTRY_INFO!P119=0),0,IF(AND($E119<>0,$J119=\"\"),IF($F119=0,COUNTRY_INFO!P119*$E119,COUNTRY_INFO!P119*($E119-$D119)), IF(AND($E119<>0,$J119<>0),IF($F119=0,COUNTRY_INFO!P119*$J119,COUNTRY_INFO!P119*($J119-$D119)), COUNTRY_INFO!P119*$J119)))","v":37809},105773,0,null,0,0,0,0,105773,0,105773]
[{"$f":"IF(AND(INTRO!$E$37=\"Non-endemic\",INTRO!$E$41=\"Non-endemic\"),\" \",IF(COUNTRY_INFO!A120=0,\" \",COUNTRY_INFO!A120))","v":"Uganda"},{"$f":"IF(AND(INTRO!$E$37=\"Non-endemic\",INTRO!$E$41=\"Non-endemic\"),\" \",IF(COUNTRY_INFO!B120=0,\" \",COUNTRY_INFO!B120))","v":"Western"},{"$f":"IF(AND(INTRO!$E$37=\"Non-endemic\",INTRO!$E$41=\"Non-endemic\"),\" \",IF(COUNTRY_INFO!C120=0,\" \",COUNTRY_INFO!C120))","v":"Bundibugyo"},{"$f":"IF(AND(INTRO!$E$37=\"Non-endemic\",INTRO!$E$41=\"Non-endemic\"),0,COUNTRY_INFO!V120)","v":0},{"$f":"IF(AND(INTRO!$E$37=\"Non-endemic\",INTRO!$E$41=\"Non-endemic\"),0,COUNTRY_INFO!X120)","v":1},{"$f":"IF(INTRO!$E$39=\"Non-endemic\",IF($D120=1,DEC!I120,0),IF($D120=1,IVM!G120,0))","v":0},null,{"$f":"IF(OR(COUNTRY_INFO!N120=\"Unknown\",COUNTRY_INFO!N120=\"Surveillance\",COUNTRY_INFO!N120=\"Not required\",COUNTRY_INFO!N120=0),0,IF(INTRO!$E$39=\"Non-endemic\",IF(AND($E120<>0,$G120=\"\"),IF($F120=0,COUNTRY_INFO!N120*$E120,COUNTRY_INFO!N120*($E120-$D120)),IF(AND($E120<>0,$G120<>0),IF($F120=0,COUNTRY_INFO!N120*$G120,COUNTRY_INFO!N120*($G120-$D120)),0)),IF($G120=\"\",COUNTRY_INFO!N120*$E120,COUNTRY_INFO!N120*$G120)))","v":42899},{"$f":"IF(OR(COUNTRY_INFO!O120=\"Unknown\",COUNTRY_INFO!O120=\"Surveillance\",COUNTRY_INFO!O120=\"Not required\",COUNTRY_INFO!O120=0),0,IF($E120<>0, IF($F120=0,COUNTRY_INFO!O120*$E120,COUNTRY_INFO!O120*($E120-$D120)),COUNTRY_INFO!O120*$E120))","v":91237},null,{"$f":"IF(OR(COUNTRY_INFO!P120=\"Unknown\",COUNTRY_INFO!P120=\"Surveillance\",COUNTRY_INFO!P120=\"Not required\",COUNTRY_INFO!P120=0),0,IF(AND($E120<>0,$J120=\"\"),IF($F120=0,COUNTRY_INFO!P120*$E120,COUNTRY_INFO!P120*($E120-$D120)), IF(AND($E120<>0,$J120<>0),IF($F120=0,COUNTRY_INFO!P120*$J120,COUNTRY_INFO!P120*($J120-$D120)), COUNTRY_INFO!P120*$J120)))","v":74621},208757,0,null,0,0,0,0,208757,0,208757]
[{"$f":"IF(AND(INTRO!$E$37=\"Non-endemic\",INTRO!$E$41=\"Non-endemic\"),\" \",IF(COUNTRY_INFO!A121=0,\" \",COUNTRY_INFO!A121))","v":"Uganda"},{"$f":"IF(AND(INTRO!$E$37=\"Non-endemic\",INTRO!$E$41=\"Non-endemic\"),\" \",IF(COUNTRY_INFO!B121=0,\" \",COUNTRY_INFO!B121))","v":"Western"},{"$f":"IF(AND(INTRO!$E$37=\"Non-endemic\",INTRO!$E$41=\"Non-endemic\"),\" \",IF(COUNTRY_INFO!C121=0,\" \",COUNTRY_INFO!C121))","v":"Bunyangabu"},{"$f":"IF(AND(INTRO!$E$37=\"Non-endemic\",INTRO!$E$41=\"Non-endemic\"),0,COUNTRY_INFO!V121)","v":0},{"$f":"IF(AND(INTRO!$E$37=\"Non-endemic\",INTRO!$E$41=\"Non-endemic\"),0,COUNTRY_INFO!X121)","v":1},{"$f":"IF(INTRO!$E$39=\"Non-endemic\",IF($D121=1,DEC!I121,0),IF($D121=1,IVM!G121,0))","v":0},null,{"$f":"IF(OR(COUNTRY_INFO!N121=\"Unknown\",COUNTRY_INFO!N121=\"Surveillance\",COUNTRY_INFO!N121=\"Not required\",COUNTRY_INFO!N121=0),0,IF(INTRO!$E$39=\"Non-endemic\",IF(AND($E121<>0,$G121=\"\"),IF($F121=0,COUNTRY_INFO!N121*$E121,COUNTRY_INFO!N121*($E121-$D121)),IF(AND($E121<>0,$G121<>0),IF($F121=0,COUNTRY_INFO!N121*$G121,COUNTRY_INFO!N121*($G121-$D121)),0)),IF($G121=\"\",COUNTRY_INFO!N121*$E121,COUNTRY_INFO!N121*$G121)))","v":32784},{"$f":"IF(OR(COUNTRY_INFO!O121=\"Unknown\",COUNTRY_INFO!O121=\"Surveillance\",COUNTRY_INFO!O121=\"Not required\",COUNTRY_INFO!O121=0),0,IF($E121<>0, IF($F121=0,COUNTRY_INFO!O121*$E121,COUNTRY_INFO!O121*($E121-$D121)),COUNTRY_INFO!O121*$E121))","v":69724},null,{"$f":"IF(OR(COUNTRY_INFO!P121=\"Unknown\",COUNTRY_INFO!P121=\"Surveillance\",COUNTRY_INFO!P121=\"Not required\",COUNTRY_INFO!P121=0),0,IF(AND($E121<>0,$J121=\"\"),IF($F121=0,COUNTRY_INFO!P121*$E121,COUNTRY_INFO!P121*($E121-$D121)), IF(AND($E121<>0,$J121<>0),IF($F121=0,COUNTRY_INFO!P121*$J121,COUNTRY_INFO!P121*($J121-$D121)), COUNTRY_INFO!P121*$J121)))","v":57026},159534,0,null,0,0,0,0,159534,0,159534]
[{"$f":"IF(AND(INTRO!$E$37=\"Non-endemic\",INTRO!$E$41=\"Non-endemic\"),\" \",IF(COUNTRY_INFO!A122=0,\" \",COUNTRY_INFO!A122))","v":"Uganda"},{"$f":"IF(AND(INTRO!$E$37=\"Non-endemic\",INTRO!$E$41=\"Non-endemic\"),\" \",IF(COUNTRY_INFO!B122=0,\" \",COUNTRY_INFO!B122))","v":"Western"},{"$f":"IF(AND(INTRO!$E$37=\"Non-endemic\",INTRO!$E$41=\"Non-endemic\"),\" \",IF(COUNTRY_INFO!C122=0,\" \",COUNTRY_INFO!C122))","v":"Bushenyi"},{"$f":"IF(AND(INTRO!$E$37=\"Non-endemic\",INTRO!$E$41=\"Non-endemic\"),0,COUNTRY_INFO!V122)","v":0},{"$f":"IF(AND(INTRO!$E$37=\"Non-endemic\",INTRO!$E$41=\"Non-endemic\"),0,COUNTRY_INFO!X122)","v":1},{"$f":"IF(INTRO!$E$39=\"Non-endemic\",IF($D122=1,DEC!I122,0),IF($D122=1,IVM!G122,0))","v":0},null,{"$f":"IF(OR(COUNTRY_INFO!N122=\"Unknown\",COUNTRY_INFO!N122=\"Surveillance\",COUNTRY_INFO!N122=\"Not required\",COUNTRY_INFO!N122=0),0,IF(INTRO!$E$39=\"Non-endemic\",IF(AND($E122<>0,$G122=\"\"),IF($F122=0,COUNTRY_INFO!N122*$E122,COUNTRY_INFO!N122*($E122-$D122)),IF(AND($E122<>0,$G122<>0),IF($F122=0,COUNTRY_INFO!N122*$G122,COUNTRY_INFO!N122*($G122-$D122)),0)),IF($G122=\"\",COUNTRY_INFO!N122*$E122,COUNTRY_INFO!N122*$G122)))","v":45097},{"$f":"IF(OR(COUNTRY_INFO!O122=\"Unknown\",COUNTRY_INFO!O122=\"Surveillance\",COUNTRY_INFO!O122=\"Not required\",COUNTRY_INFO!O122=0),0,IF($E122<>0, IF($F122=0,COUNTRY_INFO!O122*$E122,COUNTRY_INFO!O122*($E122-$D122)),COUNTRY_INFO!O122*$E122))","v":95910},null,{"$f":"IF(OR(COUNTRY_INFO!P122=\"Unknown\",COUNTRY_INFO!P122=\"Surveillance\",COUNTRY_INFO!P122=\"Not required\",COUNTRY_INFO!P122=0),0,IF(AND($E122<>0,$J122=\"\"),IF($F122=0,COUNTRY_INFO!P122*$E122,COUNTRY_INFO!P122*($E122-$D122)), IF(AND($E122<>0,$J122<>0),IF($F122=0,COUNTRY_INFO!P122*$J122,COUNTRY_INFO!P122*($J122-$D122)), COUNTRY_INFO!P122*$J122)))","v":78443},219450,0,null,0,0,0,0,219450,0,219450]
[{"$f":"IF(AND(INTRO!$E$37=\"Non-endemic\",INTRO!$E$41=\"Non-endemic\"),\" \",IF(COUNTRY_INFO!A123=0,\" \",COUNTRY_INFO!A123))","v":"Uganda"},{"$f":"IF(AND(INTRO!$E$37=\"Non-endemic\",INTRO!$E$41=\"Non-endemic\"),\" \",IF(COUNTRY_INFO!B123=0,\" \",COUNTRY_INFO!B123))","v":"Western"},{"$f":"IF(AND(INTRO!$E$37=\"Non-endemic\",INTRO!$E$41=\"Non-endemic\"),\" \",IF(COUNTRY_INFO!C123=0,\" \",COUNTRY_INFO!C123))","v":"Fortportal City"},{"$f":"IF(AND(INTRO!$E$37=\"Non-endemic\",INTRO!$E$41=\"Non-endemic\"),0,COUNTRY_INFO!V123)","v":0},{"$f":"IF(AND(INTRO!$E$37=\"Non-endemic\",INTRO!$E$41=\"Non-endemic\"),0,COUNTRY_INFO!X123)","v":1},{"$f":"IF(INTRO!$E$39=\"Non-endemic\",IF($D123=1,DEC!I123,0),IF($D123=1,IVM!G123,0))","v":0},null,{"$f":"IF(OR(COUNTRY_INFO!N123=\"Unknown\",COUNTRY_INFO!N123=\"Surveillance\",COUNTRY_INFO!N123=\"Not required\",COUNTRY_INFO!N123=0),0,IF(INTRO!$E$39=\"Non-endemic\",IF(AND($E123<>0,$G123=\"\"),IF($F123=0,COUNTRY_INFO!N123*$E123,COUNTRY_INFO!N123*($E123-$D123)),IF(AND($E123<>0,$G123<>0),IF($F123=0,COUNTRY_INFO!N123*$G123,COUNTRY_INFO!N123*($G123-$D123)),0)),IF($G123=\"\",COUNTRY_INFO!N123*$E123,COUNTRY_INFO!N123*$G123)))","v":13827},{"$f":"IF(OR(COUNTRY_INFO!O123=\"Unknown\",COUNTRY_INFO!O123=\"Surveillance\",COUNTRY_INFO!O123=\"Not required\",COUNTRY_INFO!O123=0),0,IF($E123<>0, IF($F123=0,COUNTRY_INFO!O123*$E123,COUNTRY_INFO!O123*($E123-$D123)),COUNTRY_INFO!O123*$E123))","v":29408},null,{"$f":"IF(OR(COUNTRY_INFO!P123=\"Unknown\",COUNTRY_INFO!P123=\"Surveillance\",COUNTRY_INFO!P123=\"Not required\",COUNTRY_INFO!P123=0),0,IF(AND($E123<>0,$J123=\"\"),IF($F123=0,COUNTRY_INFO!P123*$E123,COUNTRY_INFO!P123*($E123-$D123)), IF(AND($E123<>0,$J123<>0),IF($F123=0,COUNTRY_INFO!P123*$J123,COUNTRY_INFO!P123*($J123-$D123)), COUNTRY_INFO!P123*$J123)))","v":24052},67287,0,null,0,0,0,0,67287,0,67287]
[{"$f":"IF(AND(INTRO!$E$37=\"Non-endemic\",INTRO!$E$41=\"Non-endemic\"),\" \",IF(COUNTRY_INFO!A124=0,\" \",COUNTRY_INFO!A124))","v":"Uganda"},{"$f":"IF(AND(INTRO!$E$37=\"Non-endemic\",INTRO!$E$41=\"Non-endemic\"),\" \",IF(COUNTRY_INFO!B124=0,\" \",COUNTRY_INFO!B124))","v":"Western"},{"$f":"IF(AND(INTRO!$E$37=\"Non-endemic\",INTRO!$E$41=\"Non-endemic\"),\" \",IF(COUNTRY_INFO!C124=0,\" \",COUNTRY_INFO!C124))","v":"Hoima"},{"$f":"IF(AND(INTRO!$E$37=\"Non-endemic\",INTRO!$E$41=\"Non-endemic\"),0,COUNTRY_INFO!V124)","v":0},{"$f":"IF(AND(INTRO!$E$37=\"Non-endemic\",INTRO!$E$41=\"Non-endemic\"),0,COUNTRY_INFO!X124)","v":1},{"$f":"IF(INTRO!$E$39=\"Non-endemic\",IF($D124=1,DEC!I124,0),IF($D124=1,IVM!G124,0))","v":0},null,{"$f":"IF(OR(COUNTRY_INFO!N124=\"Unknown\",COUNTRY_INFO!N124=\"Surveillance\",COUNTRY_INFO!N124=\"Not required\",COUNTRY_INFO!N124=0),0,IF(INTRO!$E$39=\"Non-endemic\",IF(AND($E124<>0,$G124=\"\"),IF($F124=0,COUNTRY_INFO!N124*$E124,COUNTRY_INFO!N124*($E124-$D124)),IF(AND($E124<>0,$G124<>0),IF($F124=0,COUNTRY_INFO!N124*$G124,COUNTRY_INFO!N124*($G124-$D124)),0)),IF($G124=\"\",COUNTRY_INFO!N124*$E124,COUNTRY_INFO!N124*$G124)))","v":0},{"$f":"IF(OR(COUNTRY_INFO!O124=\"Unknown\",COUNTRY_INFO!O124=\"Surveillance\",COUNTRY_INFO!O124=\"Not required\",COUNTRY_INFO!O124=0),0,IF($E124<>0, IF($F124=0,COUNTRY_INFO!O124*$E124,COUNTRY_INFO!O124*($E124-$D124)),COUNTRY_INFO!O124*$E124))","v":0},null,{"$f":"IF(OR(COUNTRY_INFO!P124=\"Unknown\",COUNTRY_INFO!P124=\"Surveillance\",COUNTRY_INFO!P124=\"Not required\",COUNTRY_INFO!P124=0),0,IF(AND($E124<>0,$J124=\"\"),IF($F124=0,COUNTRY_INFO!P124*$E124,COUNTRY_INFO!P124*($E124-$D124)), IF(AND($E124<>0,$J124<>0),IF($F124=0,COUNTRY_INFO!P124*$J124,COUNTRY_INFO!P124*($J124-$D124)), COUNTRY_INFO!P124*$J124)))","v":0},0,0,null,0,0,0,0,0,0,0]
[{"$f":"IF(AND(INTRO!$E$37=\"Non-endemic\",INTRO!$E$41=\"Non-endemic\"),\" \",IF(COUNTRY_INFO!A125=0,\" \",COUNTRY_INFO!A125))","v":"Uganda"},{"$f":"IF(AND(INTRO!$E$37=\"Non-endemic\",INTRO!$E$41=\"Non-endemic\"),\" \",IF(COUNTRY_INFO!B125=0,\" \",COUNTRY_INFO!B125))","v":"Western"},{"$f":"IF(AND(INTRO!$E$37=\"Non-endemic\",INTRO!$E$41=\"Non-endemic\"),\" \",IF(COUNTRY_INFO!C125=0,\" \",COUNTRY_INFO!C125))","v":"Hoima City"},{"$f":"IF(AND(INTRO!$E$37=\"Non-endemic\",INTRO!$E$41=\"Non-endemic\"),0,COUNTRY_INFO!V125)","v":0},{"$f":"IF(AND(INTRO!$E$37=\"Non-endemic\",INTRO!$E$41=\"Non-endemic\"),0,COUNTRY_INFO!X125)","v":1},{"$f":"IF(INTRO!$E$39=\"Non-endemic\",IF($D125=1,DEC!I125,0),IF($D125=1,IVM!G125,0))","v":0},null,{"$f":"IF(OR(COUNTRY_INFO!N125=\"Unknown\",COUNTRY_INFO!N125=\"Surveillance\",COUNTRY_INFO!N125=\"Not required\",COUNTRY_INFO!N125=0),0,IF(INTRO!$E$39=\"Non-endemic\",IF(AND($E125<>0,$G125=\"\"),IF($F125=0,COUNTRY_INFO!N125*$E125,COUNTRY_INFO!N125*($E125-$D125)),IF(AND($E125<>0,$G125<>0),IF($F125=0,COUNTRY_INFO!N125*$G125,COUNTRY_INFO!N125*($G125-$D125)),0)),IF($G125=\"\",COUNTRY_INFO!N125*$E125,COUNTRY_INFO!N125*$G125)))","v":19258},{"$f":"IF(OR(COUNTRY_INFO!O125=\"Unknown\",COUNTRY_INFO!O125=\"Surveillance\",COUNTRY_INFO!O125=\"Not required\",COUNTRY_INFO!O125=0),0,IF($E125<>0, IF($F125=0,COUNTRY_INFO!O125*$E125,COUNTRY_INFO!O125*($E125-$D125)),COUNTRY_INFO!O125*$E125))","v":40958},null,{"$f":"IF(OR(COUNTRY_INFO!P125=\"Unknown\",COUNTRY_INFO!P125=\"Surveillance\",COUNTRY_INFO!P125=\"Not required\",COUNTRY_INFO!P125=0),0,IF(AND($E125<>0,$J125=\"\"),IF($F125=0,COUNTRY_INFO!P125*$E125,COUNTRY_INFO!P125*($E125-$D125)), IF(AND($E125<>0,$J125<>0),IF($F125=0,COUNTRY_INFO!P125*$J125,COUNTRY_INFO!P125*($J125-$D125)), COUNTRY_INFO!P125*$J125)))","v":33499},93715,0,null,0,0,0,0,93715,0,93715]
[{"$f":"IF(AND(INTRO!$E$37=\"Non-endemic\",INTRO!$E$41=\"Non-endemic\"),\" \",IF(COUNTRY_INFO!A126=0,\" \",COUNTRY_INFO!A126))","v":"Uganda"},{"$f":"IF(AND(INTRO!$E$37=\"Non-endemic\",INTRO!$E$41=\"Non-endemic\"),\" \",IF(COUNTRY_INFO!B126=0,\" \",COUNTRY_INFO!B126))","v":"Western"},{"$f":"IF(AND(INTRO!$E$37=\"Non-endemic\",INTRO!$E$41=\"Non-endemic\"),\" \",IF(COUNTRY_INFO!C126=0,\" \",COUNTRY_INFO!C126))","v":"Ibanda"},{"$f":"IF(AND(INTRO!$E$37=\"Non-endemic\",INTRO!$E$41=\"Non-endemic\"),0,COUNTRY_INFO!V126)","v":0},{"$f":"IF(AND(INTRO!$E$37=\"Non-endemic\",INTRO!$E$41=\"Non-endemic\"),0,COUNTRY_INFO!X126)","v":1},{"$f":"IF(INTRO!$E$39=\"Non-endemic\",IF($D126=1,DEC!I126,0),IF($D126=1,IVM!G126,0))","v":0},null,{"$f":"IF(OR(COUNTRY_INFO!N126=\"Unknown\",COUNTRY_INFO!N126=\"Surveillance\",COUNTRY_INFO!N126=\"Not required\",COUNTRY_INFO!N126=0),0,IF(INTRO!$E$39=\"Non-endemic\",IF(AND($E126<>0,$G126=\"\"),IF($F126=0,COUNTRY_INFO!N126*$E126,COUNTRY_INFO!N126*($E126-$D126)),IF(AND($E126<>0,$G126<>0),IF($F126=0,COUNTRY_INFO!N126*$G126,COUNTRY_INFO!N126*($G126-$D126)),0)),IF($G126=\"\",COUNTRY_INFO!N126*$E126,COUNTRY_INFO!N126*$G126)))","v":47481},{"$f":"IF(OR(COUNTRY_INFO!O126=\"Unknown\",COUNTRY_INFO!O126=\"Surveillance\",COUNTRY_INFO!O126=\"Not required\",COUNTRY_INFO!O126=0),0,IF($E126<>0, IF($F126=0,COUNTRY_INFO!O126*$E126,COUNTRY_INFO!O126*($E126-$D126)),COUNTRY_INFO!O126*$E126))","v":100981},null,{"$f":"IF(OR(COUNTRY_INFO!P126=\"Unknown\",COUNTRY_INFO!P126=\"Surveillance\",COUNTRY_INFO!P126=\"Not required\",COUNTRY_INFO!P126=0),0,IF(AND($E126<>0,$J126=\"\"),IF($F126=0,COUNTRY_INFO!P126*$E126,COUNTRY_INFO!P126*($E126-$D126)), IF(AND($E126<>0,$J126<>0),IF($F126=0,COUNTRY_INFO!P126*$J126,COUNTRY_INFO!P126*($J126-$D126)), COUNTRY_INFO!P126*$J126)))","v":82591},231053,0,null,0,0,0,0,231053,0,231053]
[{"$f":"IF(AND(INTRO!$E$37=\"Non-endemic\",INTRO!$E$41=\"Non-endemic\"),\" \",IF(COUNTRY_INFO!A127=0,\" \",COUNTRY_INFO!A127))","v":"Uganda"},{"$f":"IF(AND(INTRO!$E$37=\"Non-endemic\",INTRO!$E$41=\"Non-endemic\"),\" \",IF(COUNTRY_INFO!B127=0,\" \",COUNTRY_INFO!B127))","v":"Western"},{"$f":"IF(AND(INTRO!$E$37=\"Non-endemic\",INTRO!$E$41=\"Non-endemic\"),\" \",IF(COUNTRY_INFO!C127=0,\" \",COUNTRY_INFO!C127))","v":"Isingiro"},{"$f":"IF(AND(INTRO!$E$37=\"Non-endemic\",INTRO!$E$41=\"Non-endemic\"),0,COUNTRY_INFO!V127)","v":0},{"$f":"IF(AND(INTRO!$E$37=\"Non-endemic\",INTRO!$E$41=\"Non-endemic\"),0,COUNTRY_INFO!X127)","v":1},{"$f":"IF(INTRO!$E$39=\"Non-endemic\",IF($D127=1,DEC!I127,0),IF($D127=1,IVM!G127,0))","v":0},null,{"$f":"IF(OR(COUNTRY_INFO!N127=\"Unknown\",COUNTRY_INFO!N127=\"Surveillance\",COUNTRY_INFO!N127=\"Not required\",COUNTRY_INFO!N127=0),0,IF(INTRO!$E$39=\"Non-endemic\",IF(AND($E127<>0,$G127=\"\"),IF($F127=0,COUNTRY_INFO!N127*$E127,COUNTRY_INFO!N127*($E127-$D127)),IF(AND($E127<>0,$G127<>0),IF($F127=0,COUNTRY_INFO!N127*$G127,COUNTRY_INFO!N127*($G127-$D127)),0)),IF($G127=\"\",COUNTRY_INFO!N127*$E127,COUNTRY_INFO!N127*$G127)))","v":94187},{"$f":"IF(OR(COUNTRY_INFO!O127=\"Unknown\",COUNTRY_INFO!O127=\"Surveillance\",COUNTRY_INFO!O127=\"Not required\",COUNTRY_INFO!O127=0),0,IF($E127<>0, IF($F127=0,COUNTRY_INFO!O127*$E127,COUNTRY_INFO!O127*($E127-$D127)),COUNTRY_INFO!O127*$E127))","v":200312},null,{"$f":"IF(OR(COUNTRY_INFO!P127=\"Unknown\",COUNTRY_INFO!P127=\"Surveillance\",COUNTRY_INFO!P127=\"Not required\",COUNTRY_INFO!P127=0),0,IF(AND($E127<>0,$J127=\"\"),IF($F127=0,COUNTRY_INFO!P127*$E127,COUNTRY_INFO!P127*($E127-$D127)), IF(AND($E127<>0,$J127<>0),IF($F127=0,COUNTRY_INFO!P127*$J127,COUNTRY_INFO!P127*($J127-$D127)), COUNTRY_INFO!P127*$J127)))","v":163832},458331,0,null,0,0,0,0,458331,0,458331]
[{"$f":"IF(AND(INTRO!$E$37=\"Non-endemic\",INTRO!$E$41=\"Non-endemic\"),\" \",IF(COUNTRY_INFO!A128=0,\" \",COUNTRY_INFO!A128))","v":"Uganda"},{"$f":"IF(AND(INTRO!$E$37=\"Non-endemic\",INTRO!$E$41=\"Non-endemic\"),\" \",IF(COUNTRY_INFO!B128=0,\" \",COUNTRY_INFO!B128))","v":"Western"},{"$f":"IF(AND(INTRO!$E$37=\"Non-endemic\",INTRO!$E$41=\"Non-endemic\"),\" \",IF(COUNTRY_INFO!C128=0,\" \",COUNTRY_INFO!C128))","v":"Kabale"},{"$f":"IF(AND(INTRO!$E$37=\"Non-endemic\",INTRO!$E$41=\"Non-endemic\"),0,COUNTRY_INFO!V128)","v":0},{"$f":"IF(AND(INTRO!$E$37=\"Non-endemic\",INTRO!$E$41=\"Non-endemic\"),0,COUNTRY_INFO!X128)","v":1},{"$f":"IF(INTRO!$E$39=\"Non-endemic\",IF($D128=1,DEC!I128,0),IF($D128=1,IVM!G128,0))","v":0},null,{"$f":"IF(OR(COUNTRY_INFO!N128=\"Unknown\",COUNTRY_INFO!N128=\"Surveillance\",COUNTRY_INFO!N128=\"Not required\",COUNTRY_INFO!N128=0),0,IF(INTRO!$E$39=\"Non-endemic\",IF(AND($E128<>0,$G128=\"\"),IF($F128=0,COUNTRY_INFO!N128*$E128,COUNTRY_INFO!N128*($E128-$D128)),IF(AND($E128<>0,$G128<>0),IF($F128=0,COUNTRY_INFO!N128*$G128,COUNTRY_INFO!N128*($G128-$D128)),0)),IF($G128=\"\",COUNTRY_INFO!N128*$E128,COUNTRY_INFO!N128*$G128)))","v":44501},{"$f":"IF(OR(COUNTRY_INFO!O128=\"Unknown\",COUNTRY_INFO!O128=\"Surveillance\",COUNTRY_INFO!O128=\"Not required\",COUNTRY_INFO!O128=0),0,IF($E128<>0, IF($F128=0,COUNTRY_INFO!O128*$E128,COUNTRY_INFO!O128*($E128-$D128)),COUNTRY_INFO!O128*$E128))","v":94642},null,{"$f":"IF(OR(COUNTRY_INFO!P128=\"Unknown\",COUNTRY_INFO!P128=\"Surveillance\",COUNTRY_INFO!P128=\"Not required\",COUNTRY_INFO!P128=0),0,IF(AND($E128<>0,$J128=\"\"),IF($F128=0,COUNTRY_INFO!P128*$E128,COUNTRY_INFO!P128*($E128-$D128)), IF(AND($E128<>0,$J128<>0),IF($F128=0,COUNTRY_INFO!P128*$J128,COUNTRY_INFO!P128*($J128-$D128)), COUNTRY_INFO!P128*$J128)))","v":77406},216549,0,null,0,0,0,0,216549,0,216549]
[{"$f":"IF(AND(INTRO!$E$37=\"Non-endemic\",INTRO!$E$41=\"Non-endemic\"),\" \",IF(COUNTRY_INFO!A129=0,\" \",COUNTRY_INFO!A129))","v":"Uganda"},{"$f":"IF(AND(INTRO!$E$37=\"Non-endemic\",INTRO!$E$41=\"Non-endemic\"),\" \",IF(COUNTRY_INFO!B129=0,\" \",COUNTRY_INFO!B129))","v":"Western"},{"$f":"IF(AND(INTRO!$E$37=\"Non-endemic\",INTRO!$E$41=\"Non-endemic\"),\" \",IF(COUNTRY_INFO!C129=0,\" \",COUNTRY_INFO!C129))","v":"Kabarole"},{"$f":"IF(AND(INTRO!$E$37=\"Non-endemic\",INTRO!$E$41=\"Non-endemic\"),0,COUNTRY_INFO!V129)","v":0},{"$f":"IF(AND(INTRO!$E$37=\"Non-endemic\",INTRO!$E$41=\"Non-endemic\"),0,COUNTRY_INFO!X129)","v":1},{"$f":"IF(INTRO!$E$39=\"Non-endemic\",IF($D129=1,DEC!I129,0),IF($D129=1,IVM!G129,0))","v":0},null,{"$f":"IF(OR(COUNTRY_INFO!N129=\"Unknown\",COUNTRY_INFO!N129=\"Surveillance\",COUNTRY_INFO!N129=\"Not required\",COUNTRY_INFO!N129=0),0,IF(INTRO!$E$39=\"Non-endemic\",IF(AND($E129<>0,$G129=\"\"),IF($F129=0,COUNTRY_INFO!N129*$E129,COUNTRY_INFO!N129*($E129-$D129)),IF(AND($E129<>0,$G129<>0),IF($F129=0,COUNTRY_INFO!N129*$G129,COUNTRY_INFO!N129*($G129-$D129)),0)),IF($G129=\"\",COUNTRY_INFO!N129*$E129,COUNTRY_INFO!N129*$G129)))","v":44151},{"$f":"IF(OR(COUNTRY_INFO!O129=\"Unknown\",COUNTRY_INFO!O129=\"Surveillance\",COUNTRY_INFO!O129=\"Not required\",COUNTRY_INFO!O129=0),0,IF($E129<>0, IF($F129=0,COUNTRY_INFO!O129*$E129,COUNTRY_INFO!O129*($E129-$D129)),COUNTRY_INFO!O129*$E129))","v":93898},null,{"$f":"IF(OR(COUNTRY_INFO!P129=\"Unknown\",COUNTRY_INFO!P129=\"Surveillance\",COUNTRY_INFO!P129=\"Not required\",COUNTRY_INFO!P129=0),0,IF(AND($E129<>0,$J129=\"\"),IF($F129=0,COUNTRY_INFO!P129*$E129,COUNTRY_INFO!P129*($E129-$D129)), IF(AND($E129<>0,$J129<>0),IF($F129=0,COUNTRY_INFO!P129*$J129,COUNTRY_INFO!P129*($J129-$D129)), COUNTRY_INFO!P129*$J129)))","v":76798},214847,0,null,0,0,0,0,214847,0,214847]
[{"$f":"IF(AND(INTRO!$E$37=\"Non-endemic\",INTRO!$E$41=\"Non-endemic\"),\" \",IF(COUNTRY_INFO!A130=0,\" \",COUNTRY_INFO!A130))","v":"Uganda"},{"$f":"IF(AND(INTRO!$E$37=\"Non-endemic\",INTRO!$E$41=\"Non-endemic\"),\" \",IF(COUNTRY_INFO!B130=0,\" \",COUNTRY_INFO!B130))","v":"Western"},{"$f":"IF(AND(INTRO!$E$37=\"Non-endemic\",INTRO!$E$41=\"Non-endemic\"),\" \",IF(COUNTRY_INFO!C130=0,\" \",COUNTRY_INFO!C130))","v":"Kagadi"},{"$f":"IF(AND(INTRO!$E$37=\"Non-endemic\",INTRO!$E$41=\"Non-endemic\"),0,COUNTRY_INFO!V130)","v":0},{"$f":"IF(AND(INTRO!$E$37=\"Non-endemic\",INTRO!$E$41=\"Non-endemic\"),0,COUNTRY_INFO!X130)","v":1},{"$f":"IF(INTRO!$E$39=\"Non-endemic\",IF($D130=1,DEC!I130,0),IF($D130=1,IVM!G130,0))","v":0},null,{"$f":"IF(OR(COUNTRY_INFO!N130=\"Unknown\",COUNTRY_INFO!N130=\"Surveillance\",COUNTRY_INFO!N130=\"Not required\",COUNTRY_INFO!N130=0),0,IF(INTRO!$E$39=\"Non-endemic\",IF(AND($E130<>0,$G130=\"\"),IF($F130=0,COUNTRY_INFO!N130*$E130,COUNTRY_INFO!N130*($E130-$D130)),IF(AND($E130<>0,$G130<>0),IF($F130=0,COUNTRY_INFO!N130*$G130,COUNTRY_INFO!N130*($G130-$D130)),0)),IF($G130=\"\",COUNTRY_INFO!N130*$E130,COUNTRY_INFO!N130*$G130)))","v":67526},{"$f":"IF(OR(COUNTRY_INFO!O130=\"Unknown\",COUNTRY_INFO!O130=\"Surveillance\",COUNTRY_INFO!O130=\"Not required\",COUNTRY_INFO!O130=0),0,IF($E130<>0, IF($F130=0,COUNTRY_INFO!O130*$E130,COUNTRY_INFO!O130*($E130-$D130)),COUNTRY_INFO!O130*$E130))","v":143611},null,{"$f":"IF(OR(COUNTRY_INFO!P130=\"Unknown\",COUNTRY_INFO!P130=\"Surveillance\",COUNTRY_INFO!P130=\"Not required\",COUNTRY_INFO!P130=0),0,IF(AND($E130<>0,$J130=\"\"),IF($F130=0,COUNTRY_INFO!P130*$E130,COUNTRY_INFO!P130*($E130-$D130)), IF(AND($E130<>0,$J130<>0),IF($F130=0,COUNTRY_INFO!P130*$J130,COUNTRY_INFO!P130*($J130-$D130)), COUNTRY_INFO!P130*$J130)))","v":117456},328593,0,null,0,0,0,0,328593,0,328593]
[{"$f":"IF(AND(INTRO!$E$37=\"Non-endemic\",INTRO!$E$41=\"Non-endemic\"),\" \",IF(COUNTRY_INFO!A131=0,\" \",COUNTRY_INFO!A131))","v":"Uganda"},{"$f":"IF(AND(INTRO!$E$37=\"Non-endemic\",INTRO!$E$41=\"Non-endemic\"),\" \",IF(COUNTRY_INFO!B131=0,\" \",COUNTRY_INFO!B131))","v":"Western"},{"$f":"IF(AND(INTRO!$E$37=\"Non-endemic\",INTRO!$E$41=\"Non-endemic\"),\" \",IF(COUNTRY_INFO!C131=0,\" \",COUNTRY_INFO!C131))","v":"Kakumiro"},{"$f":"IF(AND(INTRO!$E$37=\"Non-endemic\",INTRO!$E$41=\"Non-endemic\"),0,COUNTRY_INFO!V131)","v":0},{"$f":"IF(AND(INTRO!$E$37=\"Non-endemic\",INTRO!$E$41=\"Non-endemic\"),0,COUNTRY_INFO!X131)","v":1},{"$f":"IF(INTRO!$E$39=\"Non-endemic\",IF($D131=1,DEC!I131,0),IF($D131=1,IVM!G131,0))","v":0},null,{"$f":"IF(OR(COUNTRY_INFO!N131=\"Unknown\",COUNTRY_INFO!N131=\"Surveillance\",COUNTRY_INFO!N131=\"Not required\",COUNTRY_INFO!N131=0),0,IF(INTRO!$E$39=\"Non-endemic\",IF(AND($E131<>0,$G131=\"\"),IF($F131=0,COUNTRY_INFO!N131*$E131,COUNTRY_INFO!N131*($E131-$D131)),IF(AND($E131<>0,$G131<>0),IF($F131=0,COUNTRY_INFO!N131*$G131,COUNTRY_INFO!N131*($G131-$D131)),0)),IF($G131=\"\",COUNTRY_INFO!N131*$E131,COUNTRY_INFO!N131*$G131)))","v":56724},{"$f":"IF(OR(COUNTRY_INFO!O131=\"Unknown\",COUNTRY_INFO!O131=\"Surveillance\",COUNTRY_INFO!O131=\"Not required\",COUNTRY_INFO!O131=0),0,IF($E131<>0, IF($F131=0,COUNTRY_INFO!O131*$E131,COUNTRY_INFO!O131*($E131-$D131)),COUNTRY_INFO!O131*$E131))","v":120639},null,{"$f":"IF(OR(COUNTRY_INFO!P131=\"Unknown\",COUNTRY_INFO!P131=\"Surveillance\",COUNTRY_INFO!P131=\"Not required\",COUNTRY_INFO!P131=0),0,IF(AND($E131<>0,$J131=\"\"),IF($F131=0,COUNTRY_INFO!P131*$E131,COUNTRY_INFO!P131*($E131-$D131)), IF(AND($E131<>0,$J131<>0),IF($F131=0,COUNTRY_INFO!P131*$J131,COUNTRY_INFO!P131*($J131-$D131)), COUNTRY_INFO!P131*$J131)))","v":98669},276032,0,null,0,0,0,0,276032,0,276032]
[{"$f":"IF(AND(INTRO!$E$37=\"Non-endemic\",INTRO!$E$41=\"Non-endemic\"),\" \",IF(COUNTRY_INFO!A132=0,\" \",COUNTRY_INFO!A132))","v":"Uganda"},{"$f":"IF(AND(INTRO!$E$37=\"Non-endemic\",INTRO!$E$41=\"Non-endemic\"),\" \",IF(COUNTRY_INFO!B132=0,\" \",COUNTRY_INFO!B132))","v":"Western"},{"$f":"IF(AND(INTRO!$E$37=\"Non-endemic\",INTRO!$E$41=\"Non-endemic\"),\" \",IF(COUNTRY_INFO!C132=0,\" \",COUNTRY_INFO!C132))","v":"Kamwenge"},{"$f":"IF(AND(INTRO!$E$37=\"Non-endemic\",INTRO!$E$41=\"Non-endemic\"),0,COUNTRY_INFO!V132)","v":0},{"$f":"IF(AND(INTRO!$E$37=\"Non-endemic\",INTRO!$E$41=\"Non-endemic\"),0,COUNTRY_INFO!X132)","v":1},{"$f":"IF(INTRO!$E$39=\"Non-endemic\",IF($D132=1,DEC!I132,0),IF($D132=1,IVM!G132,0))","v":0},null,{"$f":"IF(OR(COUNTRY_INFO!N132=\"Unknown\",COUNTRY_INFO!N132=\"Surveillance\",COUNTRY_INFO!N132=\"Not required\",COUNTRY_INFO!N132=0),0,IF(INTRO!$E$39=\"Non-endemic\",IF(AND($E132<>0,$G132=\"\"),IF($F132=0,COUNTRY_INFO!N132*$E132,COUNTRY_INFO!N132*($E132-$D132)),IF(AND($E132<>0,$G132<>0),IF($F132=0,COUNTRY_INFO!N132*$G132,COUNTRY_INFO!N132*($G132-$D132)),0)),IF($G132=\"\",COUNTRY_INFO!N132*$E132,COUNTRY_INFO!N132*$G132)))","v":52802},{"$f":"IF(OR(COUNTRY_INFO!O132=\"Unknown\",COUNTRY_INFO!O132=\"Surveillance\",COUNTRY_INFO!O132=\"Not required\",COUNTRY_INFO!O132=0),0,IF($E132<>0, IF($F132=0,COUNTRY_INFO!O132*$E132,COUNTRY_INFO!O132*($E132-$D132)),COUNTRY_INFO!O132*$E132))","v":112298},null,{"$f":"IF(OR(COUNTRY_INFO!P132=\"Unknown\",COUNTRY_INFO!P132=\"Surveillance\",COUNTRY_INFO!P132=\"Not required\",COUNTRY_INFO!P132=0),0,IF(AND($E132<>0,$J132=\"\"),IF($F132=0,COUNTRY_INFO!P132*$E132,COUNTRY_INFO!P132*($E132-$D132)), IF(AND($E132<>0,$J132<>0),IF($F132=0,COUNTRY_INFO!P132*$J132,COUNTRY_INFO!P132*($J132-$D132)), COUNTRY_INFO!P132*$J132)))","v":91846},256946,0,null,0,0,0,0,256946,0,256946]
[{"$f":"IF(AND(INTRO!$E$37=\"Non-endemic\",INTRO!$E$41=\"Non-endemic\"),\" \",IF(COUNTRY_INFO!A133=0,\" \",COUNTRY_INFO!A133))","v":"Uganda"},{"$f":"IF(AND(INTRO!$E$37=\"Non-endemic\",INTRO!$E$41=\"Non-endemic\"),\" \",IF(COUNTRY_INFO!B133=0,\" \",COUNTRY_INFO!B133))","v":"Western"},{"$f":"IF(AND(INTRO!$E$37=\"Non-endemic\",INTRO!$E$41=\"Non-endemic\"),\" \",IF(COUNTRY_INFO!C133=0,\" \",COUNTRY_INFO!C133))","v":"Kanungu"},{"$f":"IF(AND(INTRO!$E$37=\"Non-endemic\",INTRO!$E$41=\"Non-endemic\"),0,COUNTRY_INFO!V133)","v":0},{"$f":"IF(AND(INTRO!$E$37=\"Non-endemic\",INTRO!$E$41=\"Non-endemic\"),0,COUNTRY_INFO!X133)","v":1},{"$f":"IF(INTRO!$E$39=\"Non-endemic\",IF($D133=1,DEC!I133,0),IF($D133=1,IVM!G133,0))","v":0},null,{"$f":"IF(OR(COUNTRY_INFO!N133=\"Unknown\",COUNTRY_INFO!N133=\"Surveillance\",COUNTRY_INFO!N133=\"Not required\",COUNTRY_INFO!N133=0),0,IF(INTRO!$E$39=\"Non-endemic\",IF(AND($E133<>0,$G133=\"\"),IF($F133=0,COUNTRY_INFO!N133*$E133,COUNTRY_INFO!N133*($E133-$D133)),IF(AND($E133<>0,$G133<>0),IF($F133=0,COUNTRY_INFO!N133*$G133,COUNTRY_INFO!N133*($G133-$D133)),0)),IF($G133=\"\",COUNTRY_INFO!N133*$E133,COUNTRY_INFO!N133*$G133)))","v":48244},{"$f":"IF(OR(COUNTRY_INFO!O133=\"Unknown\",COUNTRY_INFO!O133=\"Surveillance\",COUNTRY_INFO!O133=\"Not required\",COUNTRY_INFO!O133=0),0,IF($E133<>0, IF($F133=0,COUNTRY_INFO!O133*$E133,COUNTRY_INFO!O133*($E133-$D133)),COUNTRY_INFO!O133*$E133))","v":102604},null,{"$f":"IF(OR(COUNTRY_INFO!P133=\"Unknown\",COUNTRY_INFO!P133=\"Surveillance\",COUNTRY_INFO!P133=\"Not required\",COUNTRY_INFO!P133=0),0,IF(AND($E133<>0,$J133=\"\"),IF($F133=0,COUNTRY_INFO!P133*$E133,COUNTRY_INFO!P133*($E133-$D133)), IF(AND($E133<>0,$J133<>0),IF($F133=0,COUNTRY_INFO!P133*$J133,COUNTRY_INFO!P133*($J133-$D133)), COUNTRY_INFO!P133*$J133)))","v":83918},234766,0,null,0,0,0,0,234766,0,234766]
[{"$f":"IF(AND(INTRO!$E$37=\"Non-endemic\",INTRO!$E$41=\"Non-endemic\"),\" \",IF(COUNTRY_INFO!A134=0,\" \",COUNTRY_INFO!A134))","v":"Uganda"},{"$f":"IF(AND(INTRO!$E$37=\"Non-endemic\",INTRO!$E$41=\"Non-endemic\"),\" \",IF(COUNTRY_INFO!B134=0,\" \",COUNTRY_INFO!B134))","v":"Western"},{"$f":"IF(AND(INTRO!$E$37=\"Non-endemic\",INTRO!$E$41=\"Non-endemic\"),\" \",IF(COUNTRY_INFO!C134=0,\" \",COUNTRY_INFO!C134))","v":"Kasese"},{"$f":"IF(AND(INTRO!$E$37=\"Non-endemic\",INTRO!$E$41=\"Non-endemic\"),0,COUNTRY_INFO!V134)","v":0},{"$f":"IF(AND(INTRO!$E$37=\"Non-endemic\",INTRO!$E$41=\"Non-endemic\"),0,COUNTRY_INFO!X134)","v":1},{"$f":"IF(INTRO!$E$39=\"Non-endemic\",IF($D134=1,DEC!I134,0),IF($D134=1,IVM!G134,0))","v":0},null,{"$f":"IF(OR(COUNTRY_INFO!N134=\"Unknown\",COUNTRY_INFO!N134=\"Surveillance\",COUNTRY_INFO!N134=\"Not required\",COUNTRY_INFO!N134=0),0,IF(INTRO!$E$39=\"Non-endemic\",IF(AND($E134<>0,$G134=\"\"),IF($F134=0,COUNTRY_INFO!N134*$E134,COUNTRY_INFO!N134*($E134-$D134)),IF(AND($E134<>0,$G134<>0),IF($F134=0,COUNTRY_INFO!N134*$G134,COUNTRY_INFO!N134*($G134-$D134)),0)),IF($G134=\"\",COUNTRY_INFO!N134*$E134,COUNTRY_INFO!N134*$G134)))","v":134364},{"$f":"IF(OR(COUNTRY_INFO!O134=\"Unknown\",COUNTRY_INFO!O134=\"Surveillance\",COUNTRY_INFO!O134=\"Not required\",COUNTRY_INFO!O134=0),0,IF($E134<>0, IF($F134=0,COUNTRY_INFO!O134*$E134,COUNTRY_INFO!O134*($E134-$D134)),COUNTRY_INFO!O134*$E134))","v":285760},null,{"$f":"IF(OR(COUNTRY_INFO!P134=\"Unknown\",COUNTRY_INFO!P134=\"Surveillance\",COUNTRY_INFO!P134=\"Not required\",COUNTRY_INFO!P134=0),0,IF(AND($E134<>0,$J134=\"\"),IF($F134=0,COUNTRY_INFO!P134*$E134,COUNTRY_INFO!P134*($E134-$D134)), IF(AND($E134<>0,$J134<>0),IF($F134=0,COUNTRY_INFO!P134*$J134,COUNTRY_INFO!P134*($J134-$D134)), COUNTRY_INFO!P134*$J134)))","v":233717},653841,0,null,0,0,0,0,653841,0,653841]
[{"$f":"IF(AND(INTRO!$E$37=\"Non-endemic\",INTRO!$E$41=\"Non-endemic\"),\" \",IF(COUNTRY_INFO!A135=0,\" \",COUNTRY_INFO!A135))","v":"Uganda"},{"$f":"IF(AND(INTRO!$E$37=\"Non-endemic\",INTRO!$E$41=\"Non-endemic\"),\" \",IF(COUNTRY_INFO!B135=0,\" \",COUNTRY_INFO!B135))","v":"Western"},{"$f":"IF(AND(INTRO!$E$37=\"Non-endemic\",INTRO!$E$41=\"Non-endemic\"),\" \",IF(COUNTRY_INFO!C135=0,\" \",COUNTRY_INFO!C135))","v":"Kazo"},{"$f":"IF(AND(INTRO!$E$37=\"Non-endemic\",INTRO!$E$41=\"Non-endemic\"),0,COUNTRY_INFO!V135)","v":0},{"$f":"IF(AND(INTRO!$E$37=\"Non-endemic\",INTRO!$E$41=\"Non-endemic\"),0,COUNTRY_INFO!X135)","v":1},{"$f":"IF(INTRO!$E$39=\"Non-endemic\",IF($D135=1,DEC!I135,0),IF($D135=1,IVM!G135,0))","v":0},null,{"$f":"IF(OR(COUNTRY_INFO!N135=\"Unknown\",COUNTRY_INFO!N135=\"Surveillance\",COUNTRY_INFO!N135=\"Not required\",COUNTRY_INFO!N135=0),0,IF(INTRO!$E$39=\"Non-endemic\",IF(AND($E135<>0,$G135=\"\"),IF($F135=0,COUNTRY_INFO!N135*$E135,COUNTRY_INFO!N135*($E135-$D135)),IF(AND($E135<>0,$G135<>0),IF($F135=0,COUNTRY_INFO!N135*$G135,COUNTRY_INFO!N135*($G135-$D135)),0)),IF($G135=\"\",COUNTRY_INFO!N135*$E135,COUNTRY_INFO!N135*$G135)))","v":33849},{"$f":"IF(OR(COUNTRY_INFO!O135=\"Unknown\",COUNTRY_INFO!O135=\"Surveillance\",COUNTRY_INFO!O135=\"Not required\",COUNTRY_INFO!O135=0),0,IF($E135<>0, IF($F135=0,COUNTRY_INFO!O135*$E135,COUNTRY_INFO!O135*($E135-$D135)),COUNTRY_INFO!O135*$E135))","v":71989},null,{"$f":"IF(OR(COUNTRY_INFO!P135=\"Unknown\",COUNTRY_INFO!P135=\"Surveillance\",COUNTRY_INFO!P135=\"Not required\",COUNTRY_INFO!P135=0),0,IF(AND($E135<>0,$J135=\"\"),IF($F135=0,COUNTRY_INFO!P135*$E135,COUNTRY_INFO!P135*($E135-$D135)), IF(AND($E135<>0,$J135<>0),IF($F135=0,COUNTRY_INFO!P135*$J135,COUNTRY_INFO!P135*($J135-$D135)), COUNTRY_INFO!P135*$J135)))","v":58879},164717,0,null,0,0,0,0,164717,0,164717]
[{"$f":"IF(AND(INTRO!$E$37=\"Non-endemic\",INTRO!$E$41=\"Non-endemic\"),\" \",IF(COUNTRY_INFO!A136=0,\" \",COUNTRY_INFO!A136))","v":"Uganda"},{"$f":"IF(AND(INTRO!$E$37=\"Non-endemic\",INTRO!$E$41=\"Non-endemic\"),\" \",IF(COUNTRY_INFO!B136=0,\" \",COUNTRY_INFO!B136))","v":"Western"},{"$f":"IF(AND(INTRO!$E$37=\"Non-endemic\",INTRO!$E$41=\"Non-endemic\"),\" \",IF(COUNTRY_INFO!C136=0,\" \",COUNTRY_INFO!C136))","v":"Kibaale"},{"$f":"IF(AND(INTRO!$E$37=\"Non-endemic\",INTRO!$E$41=\"Non-endemic\"),0,COUNTRY_INFO!V136)","v":0},{"$f":"IF(AND(INTRO!$E$37=\"Non-endemic\",INTRO!$E$41=\"Non-endemic\"),0,COUNTRY_INFO!X136)","v":1},{"$f":"IF(INTRO!$E$39=\"Non-endemic\",IF($D136=1,DEC!I136,0),IF($D136=1,IVM!G136,0))","v":0},null,{"$f":"IF(OR(COUNTRY_INFO!N136=\"Unknown\",COUNTRY_INFO!N136=\"Surveillance\",COUNTRY_INFO!N136=\"Not required\",COUNTRY_INFO!N136=0),0,IF(INTRO!$E$39=\"Non-endemic\",IF(AND($E136<>0,$G136=\"\"),IF($F136=0,COUNTRY_INFO!N136*$E136,COUNTRY_INFO!N136*($E136-$D136)),IF(AND($E136<>0,$G136<>0),IF($F136=0,COUNTRY_INFO!N136*$G136,COUNTRY_INFO!N136*($G136-$D136)),0)),IF($G136=\"\",COUNTRY_INFO!N136*$E136,COUNTRY_INFO!N136*$G136)))","v":26706},{"$f":"IF(OR(COUNTRY_INFO!O136=\"Unknown\",COUNTRY_INFO!O136=\"Surveillance\",COUNTRY_INFO!O136=\"Not required\",COUNTRY_INFO!O136=0),0,IF($E136<>0, IF($F136=0,COUNTRY_INFO!O136*$E136,COUNTRY_INFO!O136*($E136-$D136)),COUNTRY_INFO!O136*$E136))","v":56797},null,{"$f":"IF(OR(COUNTRY_INFO!P136=\"Unknown\",COUNTRY_INFO!P136=\"Surveillance\",COUNTRY_INFO!P136=\"Not required\",COUNTRY_INFO!P136=0),0,IF(AND($E136<>0,$J136=\"\"),IF($F136=0,COUNTRY_INFO!P136*$E136,COUNTRY_INFO!P136*($E136-$D136)), IF(AND($E136<>0,$J136<>0),IF($F136=0,COUNTRY_INFO!P136*$J136,COUNTRY_INFO!P136*($J136-$D136)), COUNTRY_INFO!P136*$J136)))","v":46454},129957,0,null,0,0,0,0,129957,0,129957]
[{"$f":"IF(AND(INTRO!$E$37=\"Non-endemic\",INTRO!$E$41=\"Non-endemic\"),\" \",IF(COUNTRY_INFO!A137=0,\" \",COUNTRY_INFO!A137))","v":"Uganda"},{"$f":"IF(AND(INTRO!$E$37=\"Non-endemic\",INTRO!$E$41=\"Non-endemic\"),\" \",IF(COUNTRY_INFO!B137=0,\" \",COUNTRY_INFO!B137))","v":"Western"},{"$f":"IF(AND(INTRO!$E$37=\"Non-endemic\",INTRO!$E$41=\"Non-endemic\"),\" \",IF(COUNTRY_INFO!C137=0,\" \",COUNTRY_INFO!C137))","v":"Kikuube"},{"$f":"IF(AND(INTRO!$E$37=\"Non-endemic\",INTRO!$E$41=\"Non-endemic\"),0,COUNTRY_INFO!V137)","v":0},{"$f":"IF(AND(INTRO!$E$37=\"Non-endemic\",INTRO!$E$41=\"Non-endemic\"),0,COUNTRY_INFO!X137)","v":1},{"$f":"IF(INTRO!$E$39=\"Non-endemic\",IF($D137=1,DEC!I137,0),IF($D137=1,IVM!G137,0))","v":0},null,{"$f":"IF(OR(COUNTRY_INFO!N137=\"Unknown\",COUNTRY_INFO!N137=\"Surveillance\",COUNTRY_INFO!N137=\"Not required\",COUNTRY_INFO!N137=0),0,IF(INTRO!$E$39=\"Non-endemic\",IF(AND($E137<>0,$G137=\"\"),IF($F137=0,COUNTRY_INFO!N137*$E137,COUNTRY_INFO!N137*($E137-$D137)),IF(AND($E137<>0,$G137<>0),IF($F137=0,COUNTRY_INFO!N137*$G137,COUNTRY_INFO!N137*($G137-$D137)),0)),IF($G137=\"\",COUNTRY_INFO!N137*$E137,COUNTRY_INFO!N137*$G137)))","v":0},{"$f":"IF(OR(COUNTRY_INFO!O137=\"Unknown\",COUNTRY_INFO!O137=\"Surveillance\",COUNTRY_INFO!O137=\"Not required\",COUNTRY_INFO!O137=0),0,IF($E137<>0, IF($F137=0,COUNTRY_INFO!O137*$E137,COUNTRY_INFO!O137*($E137-$D137)),COUNTRY_INFO!O137*$E137))","v":0},null,{"$f":"IF(OR(COUNTRY_INFO!P137=\"Unknown\",COUNTRY_INFO!P137=\"Surveillance\",COUNTRY_INFO!P137=\"Not required\",COUNTRY_INFO!P137=0),0,IF(AND($E137<>0,$J137=\"\"),IF($F137=0,COUNTRY_INFO!P137*$E137,COUNTRY_INFO!P137*($E137-$D137)), IF(AND($E137<>0,$J137<>0),IF($F137=0,COUNTRY_INFO!P137*$J137,COUNTRY_INFO!P137*($J137-$D137)), COUNTRY_INFO!P137*$J137)))","v":0},0,0,null,0,0,0,0,0,0,0]
[{"$f":"IF(AND(INTRO!$E$37=\"Non-endemic\",INTRO!$E$41=\"Non-endemic\"),\" \",IF(COUNTRY_INFO!A138=0,\" \",COUNTRY_INFO!A138))","v":"Uganda"},{"$f":"IF(AND(INTRO!$E$37=\"Non-endemic\",INTRO!$E$41=\"Non-endemic\"),\" \",IF(COUNTRY_INFO!B138=0,\" \",COUNTRY_INFO!B138))","v":"Western"},{"$f":"IF(AND(INTRO!$E$37=\"Non-endemic\",INTRO!$E$41=\"Non-endemic\"),\" \",IF(COUNTRY_INFO!C138=0,\" \",COUNTRY_INFO!C138))","v":"Kiruhura"},{"$f":"IF(AND(INTRO!$E$37=\"Non-endemic\",INTRO!$E$41=\"Non-endemic\"),0,COUNTRY_INFO!V138)","v":0},{"$f":"IF(AND(INTRO!$E$37=\"Non-endemic\",INTRO!$E$41=\"Non-endemic\"),0,COUNTRY_INFO!X138)","v":1},{"$f":"IF(INTRO!$E$39=\"Non-endemic\",IF($D138=1,DEC!I138,0),IF($D138=1,IVM!G138,0))","v":0},null,{"$f":"IF(OR(COUNTRY_INFO!N138=\"Unknown\",COUNTRY_INFO!N138=\"Surveillance\",COUNTRY_INFO!N138=\"Not required\",COUNTRY_INFO!N138=0),0,IF(INTRO!$E$39=\"Non-endemic\",IF(AND($E138<>0,$G138=\"\"),IF($F138=0,COUNTRY_INFO!N138*$E138,COUNTRY_INFO!N138*($E138-$D138)),IF(AND($E138<>0,$G138<>0),IF($F138=0,COUNTRY_INFO!N138*$G138,COUNTRY_INFO!N138*($G138-$D138)),0)),IF($G138=\"\",COUNTRY_INFO!N138*$E138,COUNTRY_INFO!N138*$G138)))","v":29031},{"$f":"IF(OR(COUNTRY_INFO!O138=\"Unknown\",COUNTRY_INFO!O138=\"Surveillance\",COUNTRY_INFO!O138=\"Not required\",COUNTRY_INFO!O138=0),0,IF($E138<>0, IF($F138=0,COUNTRY_INFO!O138*$E138,COUNTRY_INFO!O138*($E138-$D138)),COUNTRY_INFO!O138*$E138))","v":61742},null,{"$f":"IF(OR(COUNTRY_INFO!P138=\"Unknown\",COUNTRY_INFO!P138=\"Surveillance\",COUNTRY_INFO!P138=\"Not required\",COUNTRY_INFO!P138=0),0,IF(AND($E138<>0,$J138=\"\"),IF($F138=0,COUNTRY_INFO!P138*$E138,COUNTRY_INFO!P138*($E138-$D138)), IF(AND($E138<>0,$J138<>0),IF($F138=0,COUNTRY_INFO!P138*$J138,COUNTRY_INFO!P138*($J138-$D138)), COUNTRY_INFO!P138*$J138)))","v":50498},141271,0,null,0,0,0,0,141271,0,141271]
[{"$f":"IF(AND(INTRO!$E$37=\"Non-endemic\",INTRO!$E$41=\"Non-endemic\"),\" \",IF(COUNTRY_INFO!A139=0,\" \",COUNTRY_INFO!A139))","v":"Uganda"},{"$f":"IF(AND(INTRO!$E$37=\"Non-endemic\",INTRO!$E$41=\"Non-endemic\"),\" \",IF(COUNTRY_INFO!B139=0,\" \",COUNTRY_INFO!B139))","v":"Western"},{"$f":"IF(AND(INTRO!$E$37=\"Non-endemic\",INTRO!$E$41=\"Non-endemic\"),\" \",IF(COUNTRY_INFO!C139=0,\" \",COUNTRY_INFO!C139))","v":"Kiryandongo"},{"$f":"IF(AND(INTRO!$E$37=\"Non-endemic\",INTRO!$E$41=\"Non-endemic\"),0,COUNTRY_INFO!V139)","v":0},{"$f":"IF(AND(INTRO!$E$37=\"Non-endemic\",INTRO!$E$41=\"Non-endemic\"),0,COUNTRY_INFO!X139)","v":1},{"$f":"IF(INTRO!$E$39=\"Non-endemic\",IF($D139=1,DEC!I139,0),IF($D139=1,IVM!G139,0))","v":0},null,{"$f":"IF(OR(COUNTRY_INFO!N139=\"Unknown\",COUNTRY_INFO!N139=\"Surveillance\",COUNTRY_INFO!N139=\"Not required\",COUNTRY_INFO!N139=0),0,IF(INTRO!$E$39=\"Non-endemic\",IF(AND($E139<>0,$G139=\"\"),IF($F139=0,COUNTRY_INFO!N139*$E139,COUNTRY_INFO!N139*($E139-$D139)),IF(AND($E139<>0,$G139<>0),IF($F139=0,COUNTRY_INFO!N139*$G139,COUNTRY_INFO!N139*($G139-$D139)),0)),IF($G139=\"\",COUNTRY_INFO!N139*$E139,COUNTRY_INFO!N139*$G139)))","v":51329},{"$f":"IF(OR(COUNTRY_INFO!O139=\"Unknown\",COUNTRY_INFO!O139=\"Surveillance\",COUNTRY_INFO!O139=\"Not required\",COUNTRY_INFO!O139=0),0,IF($E139<>0, IF($F139=0,COUNTRY_INFO!O139*$E139,COUNTRY_INFO!O139*($E139-$D139)),COUNTRY_INFO!O139*$E139))","v":109165},null,{"$f":"IF(OR(COUNTRY_INFO!P139=\"Unknown\",COUNTRY_INFO!P139=\"Surveillance\",COUNTRY_INFO!P139=\"Not required\",COUNTRY_INFO!P139=0),0,IF(AND($E139<>0,$J139=\"\"),IF($F139=0,COUNTRY_INFO!P139*$E139,COUNTRY_INFO!P139*($E139-$D139)), IF(AND($E139<>0,$J139<>0),IF($F139=0,COUNTRY_INFO!P139*$J139,COUNTRY_INFO!P139*($J139-$D139)), COUNTRY_INFO!P139*$J139)))","v":89284},249778,0,null,0,0,0,0,249778,0,249778]
[{"$f":"IF(AND(INTRO!$E$37=\"Non-endemic\",INTRO!$E$41=\"Non-endemic\"),\" \",IF(COUNTRY_INFO!A140=0,\" \",COUNTRY_INFO!A140))","v":"Uganda"},{"$f":"IF(AND(INTRO!$E$37=\"Non-endemic\",INTRO!$E$41=\"Non-endemic\"),\" \",IF(COUNTRY_INFO!B140=0,\" \",COUNTRY_INFO!B140))","v":"Western"},{"$f":"IF(AND(INTRO!$E$37=\"Non-endemic\",INTRO!$E$41=\"Non-endemic\"),\" \",IF(COUNTRY_INFO!C140=0,\" \",COUNTRY_INFO!C140))","v":"Kisoro"},{"$f":"IF(AND(INTRO!$E$37=\"Non-endemic\",INTRO!$E$41=\"Non-endemic\"),0,COUNTRY_INFO!V140)","v":0},{"$f":"IF(AND(INTRO!$E$37=\"Non-endemic\",INTRO!$E$41=\"Non-endemic\"),0,COUNTRY_INFO!X140)","v":1},{"$f":"IF(INTRO!$E$39=\"Non-endemic\",IF($D140=1,DEC!I140,0),IF($D140=1,IVM!G140,0))","v":0},null,{"$f":"IF(OR(COUNTRY_INFO!N140=\"Unknown\",COUNTRY_INFO!N140=\"Surveillance\",COUNTRY_INFO!N140=\"Not required\",COUNTRY_INFO!N140=0),0,IF(INTRO!$E$39=\"Non-endemic\",IF(AND($E140<>0,$G140=\"\"),IF($F140=0,COUNTRY_INFO!N140*$E140,COUNTRY_INFO!N140*($E140-$D140)),IF(AND($E140<>0,$G140<>0),IF($F140=0,COUNTRY_INFO!N140*$G140,COUNTRY_INFO!N140*($G140-$D140)),0)),IF($G140=\"\",COUNTRY_INFO!N140*$E140,COUNTRY_INFO!N140*$G140)))","v":54964},{"$f":"IF(OR(COUNTRY_INFO!O140=\"Unknown\",COUNTRY_INFO!O140=\"Surveillance\",COUNTRY_INFO!O140=\"Not required\",COUNTRY_INFO!O140=0),0,IF($E140<>0, IF($F140=0,COUNTRY_INFO!O140*$E140,COUNTRY_INFO!O140*($E140-$D140)),COUNTRY_INFO!O140*$E140))","v":116895},null,{"$f":"IF(OR(COUNTRY_INFO!P140=\"Unknown\",COUNTRY_INFO!P140=\"Surveillance\",COUNTRY_INFO!P140=\"Not required\",COUNTRY_INFO!P140=0),0,IF(AND($E140<>0,$J140=\"\"),IF($F140=0,COUNTRY_INFO!P140*$E140,COUNTRY_INFO!P140*($E140-$D140)), IF(AND($E140<>0,$J140<>0),IF($F140=0,COUNTRY_INFO!P140*$J140,COUNTRY_INFO!P140*($J140-$D140)), COUNTRY_INFO!P140*$J140)))","v":95607},267466,0,null,0,0,0,0,267466,0,267466]
[{"$f":"IF(AND(INTRO!$E$37=\"Non-endemic\",INTRO!$E$41=\"Non-endemic\"),\" \",IF(COUNTRY_INFO!A141=0,\" \",COUNTRY_INFO!A141))","v":"Uganda"},{"$f":"IF(AND(INTRO!$E$37=\"Non-endemic\",INTRO!$E$41=\"Non-endemic\"),\" \",IF(COUNTRY_INFO!B141=0,\" \",COUNTRY_INFO!B141))","v":"Western"},{"$f":"IF(AND(INTRO!$E$37=\"Non-endemic\",INTRO!$E$41=\"Non-endemic\"),\" \",IF(COUNTRY_INFO!C141=0,\" \",COUNTRY_INFO!C141))","v":"Kitagwenda"},{"$f":"IF(AND(INTRO!$E$37=\"Non-endemic\",INTRO!$E$41=\"Non-endemic\"),0,COUNTRY_INFO!V141)","v":0},{"$f":"IF(AND(INTRO!$E$37=\"Non-endemic\",INTRO!$E$41=\"Non-endemic\"),0,COUNTRY_INFO!X141)","v":1},{"$f":"IF(INTRO!$E$39=\"Non-endemic\",IF($D141=1,DEC!I141,0),IF($D141=1,IVM!G141,0))","v":0},null,{"$f":"IF(OR(COUNTRY_INFO!N141=\"Unknown\",COUNTRY_INFO!N141=\"Surveillance\",COUNTRY_INFO!N141=\"Not required\",COUNTRY_INFO!N141=0),0,IF(INTRO!$E$39=\"Non-endemic\",IF(AND($E141<>0,$G141=\"\"),IF($F141=0,COUNTRY_INFO!N141*$E141,COUNTRY_INFO!N141*($E141-$D141)),IF(AND($E141<>0,$G141<>0),IF($F141=0,COUNTRY_INFO!N141*$G141,COUNTRY_INFO!N141*($G141-$D141)),0)),IF($G141=\"\",COUNTRY_INFO!N141*$E141,COUNTRY_INFO!N141*$G141)))","v":27865},{"$f":"IF(OR(COUNTRY_INFO!O141=\"Unknown\",COUNTRY_INFO!O141=\"Surveillance\",COUNTRY_INFO!O141=\"Not required\",COUNTRY_INFO!O141=0),0,IF($E141<>0, IF($F141=0,COUNTRY_INFO!O141*$E141,COUNTRY_INFO!O141*($E141-$D141)),COUNTRY_INFO!O141*$E141))","v":59262},null,{"$f":"IF(OR(COUNTRY_INFO!P141=\"Unknown\",COUNTRY_INFO!P141=\"Surveillance\",COUNTRY_INFO!P141=\"Not required\",COUNTRY_INFO!P141=0),0,IF(AND($E141<>0,$J141=\"\"),IF($F141=0,COUNTRY_INFO!P141*$E141,COUNTRY_INFO!P141*($E141-$D141)), IF(AND($E141<>0,$J141<>0),IF($F141=0,COUNTRY_INFO!P141*$J141,COUNTRY_INFO!P141*($J141-$D141)), COUNTRY_INFO!P141*$J141)))","v":48470},135597,0,null,0,0,0,0,135597,0,135597]
[{"$f":"IF(AND(INTRO!$E$37=\"Non-endemic\",INTRO!$E$41=\"Non-endemic\"),\" \",IF(COUNTRY_INFO!A142=0,\" \",COUNTRY_INFO!A142))","v":"Uganda"},{"$f":"IF(AND(INTRO!$E$37=\"Non-endemic\",INTRO!$E$41=\"Non-endemic\"),\" \",IF(COUNTRY_INFO!B142=0,\" \",COUNTRY_INFO!B142))","v":"Western"},{"$f":"IF(AND(INTRO!$E$37=\"Non-endemic\",INTRO!$E$41=\"Non-endemic\"),\" \",IF(COUNTRY_INFO!C142=0,\" \",COUNTRY_INFO!C142))","v":"Kyegegwa"},{"$f":"IF(AND(INTRO!$E$37=\"Non-endemic\",INTRO!$E$41=\"Non-endemic\"),0,COUNTRY_INFO!V142)","v":0},{"$f":"IF(AND(INTRO!$E$37=\"Non-endemic\",INTRO!$E$41=\"Non-endemic\"),0,COUNTRY_INFO!X142)","v":1},{"$f":"IF(INTRO!$E$39=\"Non-endemic\",IF($D142=1,DEC!I142,0),IF($D142=1,IVM!G142,0))","v":0},null,{"$f":"IF(OR(COUNTRY_INFO!N142=\"Unknown\",COUNTRY_INFO!N142=\"Surveillance\",COUNTRY_INFO!N142=\"Not required\",COUNTRY_INFO!N142=0),0,IF(INTRO!$E$39=\"Non-endemic\",IF(AND($E142<>0,$G142=\"\"),IF($F142=0,COUNTRY_INFO!N142*$E142,COUNTRY_INFO!N142*($E142-$D142)),IF(AND($E142<>0,$G142<>0),IF($F142=0,COUNTRY_INFO!N142*$G142,COUNTRY_INFO!N142*($G142-$D142)),0)),IF($G142=\"\",COUNTRY_INFO!N142*$E142,COUNTRY_INFO!N142*$G142)))","v":53089},{"$f":"IF(OR(COUNTRY_INFO!O142=\"Unknown\",COUNTRY_INFO!O142=\"Surveillance\",COUNTRY_INFO!O142=\"Not required\",COUNTRY_INFO!O142=0),0,IF($E142<>0, IF($F142=0,COUNTRY_INFO!O142*$E142,COUNTRY_INFO!O142*($E142-$D142)),COUNTRY_INFO!O142*$E142))","v":112908},null,{"$f":"IF(OR(COUNTRY_INFO!P142=\"Unknown\",COUNTRY_INFO!P142=\"Surveillance\",COUNTRY_INFO!P142=\"Not required\",COUNTRY_INFO!P142=0),0,IF(AND($E142<>0,$J142=\"\"),IF($F142=0,COUNTRY_INFO!P142*$E142,COUNTRY_INFO!P142*($E142-$D142)), IF(AND($E142<>0,$J142<>0),IF($F142=0,COUNTRY_INFO!P142*$J142,COUNTRY_INFO!P142*($J142-$D142)), COUNTRY_INFO!P142*$J142)))","v":92345},258342,0,null,0,0,0,0,258342,0,258342]
[{"$f":"IF(AND(INTRO!$E$37=\"Non-endemic\",INTRO!$E$41=\"Non-endemic\"),\" \",IF(COUNTRY_INFO!A143=0,\" \",COUNTRY_INFO!A143))","v":"Uganda"},{"$f":"IF(AND(INTRO!$E$37=\"Non-endemic\",INTRO!$E$41=\"Non-endemic\"),\" \",IF(COUNTRY_INFO!B143=0,\" \",COUNTRY_INFO!B143))","v":"Western"},{"$f":"IF(AND(INTRO!$E$37=\"Non-endemic\",INTRO!$E$41=\"Non-endemic\"),\" \",IF(COUNTRY_INFO!C143=0,\" \",COUNTRY_INFO!C143))","v":"Kyenjojo"},{"$f":"IF(AND(INTRO!$E$37=\"Non-endemic\",INTRO!$E$41=\"Non-endemic\"),0,COUNTRY_INFO!V143)","v":0},{"$f":"IF(AND(INTRO!$E$37=\"Non-endemic\",INTRO!$E$41=\"Non-endemic\"),0,COUNTRY_INFO!X143)","v":1},{"$f":"IF(INTRO!$E$39=\"Non-endemic\",IF($D143=1,DEC!I143,0),IF($D143=1,IVM!G143,0))","v":0},null,{"$f":"IF(OR(COUNTRY_INFO!N143=\"Unknown\",COUNTRY_INFO!N143=\"Surveillance\",COUNTRY_INFO!N143=\"Not required\",COUNTRY_INFO!N143=0),0,IF(INTRO!$E$39=\"Non-endemic\",IF(AND($E143<>0,$G143=\"\"),IF($F143=0,COUNTRY_INFO!N143*$E143,COUNTRY_INFO!N143*($E143-$D143)),IF(AND($E143<>0,$G143<>0),IF($F143=0,COUNTRY_INFO!N143*$G143,COUNTRY_INFO!N143*($G143-$D143)),0)),IF($G143=\"\",COUNTRY_INFO!N143*$E143,COUNTRY_INFO!N143*$G143)))","v":76578},{"$f":"IF(OR(COUNTRY_INFO!O143=\"Unknown\",COUNTRY_INFO!O143=\"Surveillance\",COUNTRY_INFO!O143=\"Not required\",COUNTRY_INFO!O143=0),0,IF($E143<>0, IF($F143=0,COUNTRY_INFO!O143*$E143,COUNTRY_INFO!O143*($E143-$D143)),COUNTRY_INFO!O143*$E143))","v":162862},null,{"$f":"IF(OR(COUNTRY_INFO!P143=\"Unknown\",COUNTRY_INFO!P143=\"Surveillance\",COUNTRY_INFO!P143=\"Not required\",COUNTRY_INFO!P143=0),0,IF(AND($E143<>0,$J143=\"\"),IF($F143=0,COUNTRY_INFO!P143*$E143,COUNTRY_INFO!P143*($E143-$D143)), IF(AND($E143<>0,$J143<>0),IF($F143=0,COUNTRY_INFO!P143*$J143,COUNTRY_INFO!P143*($J143-$D143)), COUNTRY_INFO!P143*$J143)))","v":133202},372642,0,null,0,0,0,0,372642,0,372642]
[{"$f":"IF(AND(INTRO!$E$37=\"Non-endemic\",INTRO!$E$41=\"Non-endemic\"),\" \",IF(COUNTRY_INFO!A144=0,\" \",COUNTRY_INFO!A144))","v":"Uganda"},{"$f":"IF(AND(INTRO!$E$37=\"Non-endemic\",INTRO!$E$41=\"Non-endemic\"),\" \",IF(COUNTRY_INFO!B144=0,\" \",COUNTRY_INFO!B144))","v":"Western"},{"$f":"IF(AND(INTRO!$E$37=\"Non-endemic\",INTRO!$E$41=\"Non-endemic\"),\" \",IF(COUNTRY_INFO!C144=0,\" \",COUNTRY_INFO!C144))","v":"Masindi"},{"$f":"IF(AND(INTRO!$E$37=\"Non-endemic\",INTRO!$E$41=\"Non-endemic\"),0,COUNTRY_INFO!V144)","v":0},{"$f":"IF(AND(INTRO!$E$37=\"Non-endemic\",INTRO!$E$41=\"Non-endemic\"),0,COUNTRY_INFO!X144)","v":1},{"$f":"IF(INTRO!$E$39=\"Non-endemic\",IF($D144=1,DEC!I144,0),IF($D144=1,IVM!G144,0))","v":0},null,{"$f":"IF(OR(COUNTRY_INFO!N144=\"Unknown\",COUNTRY_INFO!N144=\"Surveillance\",COUNTRY_INFO!N144=\"Not required\",COUNTRY_INFO!N144=0),0,IF(INTRO!$E$39=\"Non-endemic\",IF(AND($E144<>0,$G144=\"\"),IF($F144=0,COUNTRY_INFO!N144*$E144,COUNTRY_INFO!N144*($E144-$D144)),IF(AND($E144<>0,$G144<>0),IF($F144=0,COUNTRY_INFO!N144*$G144,COUNTRY_INFO!N144*($G144-$D144)),0)),IF($G144=\"\",COUNTRY_INFO!N144*$E144,COUNTRY_INFO!N144*$G144)))","v":60639},{"$f":"IF(OR(COUNTRY_INFO!O144=\"Unknown\",COUNTRY_INFO!O144=\"Surveillance\",COUNTRY_INFO!O144=\"Not required\",COUNTRY_INFO!O144=0),0,IF($E144<>0, IF($F144=0,COUNTRY_INFO!O144*$E144,COUNTRY_INFO!O144*($E144-$D144)),COUNTRY_INFO!O144*$E144))","v":128965},null,{"$f":"IF(OR(COUNTRY_INFO!P144=\"Unknown\",COUNTRY_INFO!P144=\"Surveillance\",COUNTRY_INFO!P144=\"Not required\",COUNTRY_INFO!P144=0),0,IF(AND($E144<>0,$J144=\"\"),IF($F144=0,COUNTRY_INFO!P144*$E144,COUNTRY_INFO!P144*($E144-$D144)), IF(AND($E144<>0,$J144<>0),IF($F144=0,COUNTRY_INFO!P144*$J144,COUNTRY_INFO!P144*($J144-$D144)), COUNTRY_INFO!P144*$J144)))","v":105478},295082,0,null,0,0,0,0,295082,0,295082]
[{"$f":"IF(AND(INTRO!$E$37=\"Non-endemic\",INTRO!$E$41=\"Non-endemic\"),\" \",IF(COUNTRY_INFO!A145=0,\" \",COUNTRY_INFO!A145))","v":"Uganda"},{"$f":"IF(AND(INTRO!$E$37=\"Non-endemic\",INTRO!$E$41=\"Non-endemic\"),\" \",IF(COUNTRY_INFO!B145=0,\" \",COUNTRY_INFO!B145))","v":"Western"},{"$f":"IF(AND(INTRO!$E$37=\"Non-endemic\",INTRO!$E$41=\"Non-endemic\"),\" \",IF(COUNTRY_INFO!C145=0,\" \",COUNTRY_INFO!C145))","v":"Mbarara"},{"$f":"IF(AND(INTRO!$E$37=\"Non-endemic\",INTRO!$E$41=\"Non-endemic\"),0,COUNTRY_INFO!V145)","v":0},{"$f":"IF(AND(INTRO!$E$37=\"Non-endemic\",INTRO!$E$41=\"Non-endemic\"),0,COUNTRY_INFO!X145)","v":1},{"$f":"IF(INTRO!$E$39=\"Non-endemic\",IF($D145=1,DEC!I145,0),IF($D145=1,IVM!G145,0))","v":0},null,{"$f":"IF(OR(COUNTRY_INFO!N145=\"Unknown\",COUNTRY_INFO!N145=\"Surveillance\",COUNTRY_INFO!N145=\"Not required\",COUNTRY_INFO!N145=0),0,IF(INTRO!$E$39=\"Non-endemic\",IF(AND($E145<>0,$G145=\"\"),IF($F145=0,COUNTRY_INFO!N145*$E145,COUNTRY_INFO!N145*($E145-$D145)),IF(AND($E145<>0,$G145<>0),IF($F145=0,COUNTRY_INFO!N145*$G145,COUNTRY_INFO!N145*($G145-$D145)),0)),IF($G145=\"\",COUNTRY_INFO!N145*$E145,COUNTRY_INFO!N145*$G145)))","v":28856},{"$f":"IF(OR(COUNTRY_INFO!O145=\"Unknown\",COUNTRY_INFO!O145=\"Surveillance\",COUNTRY_INFO!O145=\"Not required\",COUNTRY_INFO!O145=0),0,IF($E145<>0, IF($F145=0,COUNTRY_INFO!O145*$E145,COUNTRY_INFO!O145*($E145-$D145)),COUNTRY_INFO!O145*$E145))","v":61370},null,{"$f":"IF(OR(COUNTRY_INFO!P145=\"Unknown\",COUNTRY_INFO!P145=\"Surveillance\",COUNTRY_INFO!P145=\"Not required\",COUNTRY_INFO!P145=0),0,IF(AND($E145<>0,$J145=\"\"),IF($F145=0,COUNTRY_INFO!P145*$E145,COUNTRY_INFO!P145*($E145-$D145)), IF(AND($E145<>0,$J145<>0),IF($F145=0,COUNTRY_INFO!P145*$J145,COUNTRY_INFO!P145*($J145-$D145)), COUNTRY_INFO!P145*$J145)))","v":50194},140420,0,null,0,0,0,0,140420,0,140420]
[{"$f":"IF(AND(INTRO!$E$37=\"Non-endemic\",INTRO!$E$41=\"Non-endemic\"),\" \",IF(COUNTRY_INFO!A146=0,\" \",COUNTRY_INFO!A146))","v":"Uganda"},{"$f":"IF(AND(INTRO!$E$37=\"Non-endemic\",INTRO!$E$41=\"Non-endemic\"),\" \",IF(COUNTRY_INFO!B146=0,\" \",COUNTRY_INFO!B146))","v":"Western"},{"$f":"IF(AND(INTRO!$E$37=\"Non-endemic\",INTRO!$E$41=\"Non-endemic\"),\" \",IF(COUNTRY_INFO!C146=0,\" \",COUNTRY_INFO!C146))","v":"Mbarara City"},{"$f":"IF(AND(INTRO!$E$37=\"Non-endemic\",INTRO!$E$41=\"Non-endemic\"),0,COUNTRY_INFO!V146)","v":0},{"$f":"IF(AND(INTRO!$E$37=\"Non-endemic\",INTRO!$E$41=\"Non-endemic\"),0,COUNTRY_INFO!X146)","v":1},{"$f":"IF(INTRO!$E$39=\"Non-endemic\",IF($D146=1,DEC!I146,0),IF($D146=1,IVM!G146,0))","v":0},null,{"$f":"IF(OR(COUNTRY_INFO!N146=\"Unknown\",COUNTRY_INFO!N146=\"Surveillance\",COUNTRY_INFO!N146=\"Not required\",COUNTRY_INFO!N146=0),0,IF(INTRO!$E$39=\"Non-endemic\",IF(AND($E146<>0,$G146=\"\"),IF($F146=0,COUNTRY_INFO!N146*$E146,COUNTRY_INFO!N146*($E146-$D146)),IF(AND($E146<>0,$G146<>0),IF($F146=0,COUNTRY_INFO!N146*$G146,COUNTRY_INFO!N146*($G146-$D146)),0)),IF($G146=\"\",COUNTRY_INFO!N146*$E146,COUNTRY_INFO!N146*$G146)))","v":37325},{"$f":"IF(OR(COUNTRY_INFO!O146=\"Unknown\",COUNTRY_INFO!O146=\"Surveillance\",COUNTRY_INFO!O146=\"Not required\",COUNTRY_INFO!O146=0),0,IF($E146<>0, IF($F146=0,COUNTRY_INFO!O146*$E146,COUNTRY_INFO!O146*($E146-$D146)),COUNTRY_INFO!O146*$E146))","v":79380},null,{"$f":"IF(OR(COUNTRY_INFO!P146=\"Unknown\",COUNTRY_INFO!P146=\"Surveillance\",COUNTRY_INFO!P146=\"Not required\",COUNTRY_INFO!P146=0),0,IF(AND($E146<>0,$J146=\"\"),IF($F146=0,COUNTRY_INFO!P146*$E146,COUNTRY_INFO!P146*($E146-$D146)), IF(AND($E146<>0,$J146<>0),IF($F146=0,COUNTRY_INFO!P146*$J146,COUNTRY_INFO!P146*($J146-$D146)), COUNTRY_INFO!P146*$J146)))","v":64924},181629,0,null,0,0,0,0,181629,0,181629]
[{"$f":"IF(AND(INTRO!$E$37=\"Non-endemic\",INTRO!$E$41=\"Non-endemic\"),\" \",IF(COUNTRY_INFO!A147=0,\" \",COUNTRY_INFO!A147))","v":"Uganda"},{"$f":"IF(AND(INTRO!$E$37=\"Non-endemic\",INTRO!$E$41=\"Non-endemic\"),\" \",IF(COUNTRY_INFO!B147=0,\" \",COUNTRY_INFO!B147))","v":"Western"},{"$f":"IF(AND(INTRO!$E$37=\"Non-endemic\",INTRO!$E$41=\"Non-endemic\"),\" \",IF(COUNTRY_INFO!C147=0,\" \",COUNTRY_INFO!C147))","v":"Mitooma"},{"$f":"IF(AND(INTRO!$E$37=\"Non-endemic\",INTRO!$E$41=\"Non-endemic\"),0,COUNTRY_INFO!V147)","v":0},{"$f":"IF(AND(INTRO!$E$37=\"Non-endemic\",INTRO!$E$41=\"Non-endemic\"),0,COUNTRY_INFO!X147)","v":1},{"$f":"IF(INTRO!$E$39=\"Non-endemic\",IF($D147=1,DEC!I147,0),IF($D147=1,IVM!G147,0))","v":0},null,{"$f":"IF(OR(COUNTRY_INFO!N147=\"Unknown\",COUNTRY_INFO!N147=\"Surveillance\",COUNTRY_INFO!N147=\"Not required\",COUNTRY_INFO!N147=0),0,IF(INTRO!$E$39=\"Non-endemic\",IF(AND($E147<>0,$G147=\"\"),IF($F147=0,COUNTRY_INFO!N147*$E147,COUNTRY_INFO!N147*($E147-$D147)),IF(AND($E147<>0,$G147<>0),IF($F147=0,COUNTRY_INFO!N147*$G147,COUNTRY_INFO!N147*($G147-$D147)),0)),IF($G147=\"\",COUNTRY_INFO!N147*$E147,COUNTRY_INFO!N147*$G147)))","v":35507},{"$f":"IF(OR(COUNTRY_INFO!O147=\"Unknown\",COUNTRY_INFO!O147=\"Surveillance\",COUNTRY_INFO!O147=\"Not required\",COUNTRY_INFO!O147=0),0,IF($E147<>0, IF($F147=0,COUNTRY_INFO!O147*$E147,COUNTRY_INFO!O147*($E147-$D147)),COUNTRY_INFO!O147*$E147))","v":75514},null,{"$f":"IF(OR(COUNTRY_INFO!P147=\"Unknown\",COUNTRY_INFO!P147=\"Surveillance\",COUNTRY_INFO!P147=\"Not required\",COUNTRY_INFO!P147=0),0,IF(AND($E147<>0,$J147=\"\"),IF($F147=0,COUNTRY_INFO!P147*$E147,COUNTRY_INFO!P147*($E147-$D147)), IF(AND($E147<>0,$J147<>0),IF($F147=0,COUNTRY_INFO!P147*$J147,COUNTRY_INFO!P147*($J147-$D147)), COUNTRY_INFO!P147*$J147)))","v":61761},172782,0,null,0,0,0,0,172782,0,172782]
[{"$f":"IF(AND(INTRO!$E$37=\"Non-endemic\",INTRO!$E$41=\"Non-endemic\"),\" \",IF(COUNTRY_INFO!A148=0,\" \",COUNTRY_INFO!A148))","v":"Uganda"},{"$f":"IF(AND(INTRO!$E$37=\"Non-endemic\",INTRO!$E$41=\"Non-endemic\"),\" \",IF(COUNTRY_INFO!B148=0,\" \",COUNTRY_INFO!B148))","v":"Western"},{"$f":"IF(AND(INTRO!$E$37=\"Non-endemic\",INTRO!$E$41=\"Non-endemic\"),\" \",IF(COUNTRY_INFO!C148=0,\" \",COUNTRY_INFO!C148))","v":"Ntoroko"},{"$f":"IF(AND(INTRO!$E$37=\"Non-endemic\",INTRO!$E$41=\"Non-endemic\"),0,COUNTRY_INFO!V148)","v":0},{"$f":"IF(AND(INTRO!$E$37=\"Non-endemic\",INTRO!$E$41=\"Non-endemic\"),0,COUNTRY_INFO!X148)","v":1},{"$f":"IF(INTRO!$E$39=\"Non-endemic\",IF($D148=1,DEC!I148,0),IF($D148=1,IVM!G148,0))","v":0},null,{"$f":"IF(OR(COUNTRY_INFO!N148=\"Unknown\",COUNTRY_INFO!N148=\"Surveillance\",COUNTRY_INFO!N148=\"Not required\",COUNTRY_INFO!N148=0),0,IF(INTRO!$E$39=\"Non-endemic\",IF(AND($E148<>0,$G148=\"\"),IF($F148=0,COUNTRY_INFO!N148*$E148,COUNTRY_INFO!N148*($E148-$D148)),IF(AND($E148<>0,$G148<>0),IF($F148=0,COUNTRY_INFO!N148*$G148,COUNTRY_INFO!N148*($G148-$D148)),0)),IF($G148=\"\",COUNTRY_INFO!N148*$E148,COUNTRY_INFO!N148*$G148)))","v":12712},{"$f":"IF(OR(COUNTRY_INFO!O148=\"Unknown\",COUNTRY_INFO!O148=\"Surveillance\",COUNTRY_INFO!O148=\"Not required\",COUNTRY_INFO!O148=0),0,IF($E148<>0, IF($F148=0,COUNTRY_INFO!O148*$E148,COUNTRY_INFO!O148*($E148-$D148)),COUNTRY_INFO!O148*$E148))","v":27035},null,{"$f":"IF(OR(COUNTRY_INFO!P148=\"Unknown\",COUNTRY_INFO!P148=\"Surveillance\",COUNTRY_INFO!P148=\"Not required\",COUNTRY_INFO!P148=0),0,IF(AND($E148<>0,$J148=\"\"),IF($F148=0,COUNTRY_INFO!P148*$E148,COUNTRY_INFO!P148*($E148-$D148)), IF(AND($E148<>0,$J148<>0),IF($F148=0,COUNTRY_INFO!P148*$J148,COUNTRY_INFO!P148*($J148-$D148)), COUNTRY_INFO!P148*$J148)))","v":22112},61859,0,null,0,0,0,0,61859,0,61859]
[{"$f":"IF(AND(INTRO!$E$37=\"Non-endemic\",INTRO!$E$41=\"Non-endemic\"),\" \",IF(COUNTRY_INFO!A149=0,\" \",COUNTRY_INFO!A149))","v":"Uganda"},{"$f":"IF(AND(INTRO!$E$37=\"Non-endemic\",INTRO!$E$41=\"Non-endemic\"),\" \",IF(COUNTRY_INFO!B149=0,\" \",COUNTRY_INFO!B149))","v":"Western"},{"$f":"IF(AND(INTRO!$E$37=\"Non-endemic\",INTRO!$E$41=\"Non-endemic\"),\" \",IF(COUNTRY_INFO!C149=0,\" \",COUNTRY_INFO!C149))","v":"Ntungamo"},{"$f":"IF(AND(INTRO!$E$37=\"Non-endemic\",INTRO!$E$41=\"Non-endemic\"),0,COUNTRY_INFO!V149)","v":0},{"$f":"IF(AND(INTRO!$E$37=\"Non-endemic\",INTRO!$E$41=\"Non-endemic\"),0,COUNTRY_INFO!X149)","v":1},{"$f":"IF(INTRO!$E$39=\"Non-endemic\",IF($D149=1,DEC!I149,0),IF($D149=1,IVM!G149,0))","v":0},null,{"$f":"IF(OR(COUNTRY_INFO!N149=\"Unknown\",COUNTRY_INFO!N149=\"Surveillance\",COUNTRY_INFO!N149=\"Not required\",COUNTRY_INFO!N149=0),0,IF(INTRO!$E$39=\"Non-endemic\",IF(AND($E149<>0,$G149=\"\"),IF($F149=0,COUNTRY_INFO!N149*$E149,COUNTRY_INFO!N149*($E149-$D149)),IF(AND($E149<>0,$G149<>0),IF($F149=0,COUNTRY_INFO!N149*$G149,COUNTRY_INFO!N149*($G149-$D149)),0)),IF($G149=\"\",COUNTRY_INFO!N149*$E149,COUNTRY_INFO!N149*$G149)))","v":93653},{"$f":"IF(OR(COUNTRY_INFO!O149=\"Unknown\",COUNTRY_INFO!O149=\"Surveillance\",COUNTRY_INFO!O149=\"Not required\",COUNTRY_INFO!O149=0),0,IF($E149<>0, IF($F149=0,COUNTRY_INFO!O149*$E149,COUNTRY_INFO!O149*($E149-$D149)),COUNTRY_INFO!O149*$E149))","v":199178},null,{"$f":"IF(OR(COUNTRY_INFO!P149=\"Unknown\",COUNTRY_INFO!P149=\"Surveillance\",COUNTRY_INFO!P149=\"Not required\",COUNTRY_INFO!P149=0),0,IF(AND($E149<>0,$J149=\"\"),IF($F149=0,COUNTRY_INFO!P149*$E149,COUNTRY_INFO!P149*($E149-$D149)), IF(AND($E149<>0,$J149<>0),IF($F149=0,COUNTRY_INFO!P149*$J149,COUNTRY_INFO!P149*($J149-$D149)), COUNTRY_INFO!P149*$J149)))","v":162904},455735,0,null,0,0,0,0,455735,0,455735]
[{"$f":"IF(AND(INTRO!$E$37=\"Non-endemic\",INTRO!$E$41=\"Non-endemic\"),\" \",IF(COUNTRY_INFO!A150=0,\" \",COUNTRY_INFO!A150))","v":"Uganda"},{"$f":"IF(AND(INTRO!$E$37=\"Non-endemic\",INTRO!$E$41=\"Non-endemic\"),\" \",IF(COUNTRY_INFO!B150=0,\" \",COUNTRY_INFO!B150))","v":"Western"},{"$f":"IF(AND(INTRO!$E$37=\"Non-endemic\",INTRO!$E$41=\"Non-endemic\"),\" \",IF(COUNTRY_INFO!C150=0,\" \",COUNTRY_INFO!C150))","v":"Rubanda"},{"$f":"IF(AND(INTRO!$E$37=\"Non-endemic\",INTRO!$E$41=\"Non-endemic\"),0,COUNTRY_INFO!V150)","v":0},{"$f":"IF(AND(INTRO!$E$37=\"Non-endemic\",INTRO!$E$41=\"Non-endemic\"),0,COUNTRY_INFO!X150)","v":1},{"$f":"IF(INTRO!$E$39=\"Non-endemic\",IF($D150=1,DEC!I150,0),IF($D150=1,IVM!G150,0))","v":0},null,{"$f":"IF(OR(COUNTRY_INFO!N150=\"Unknown\",COUNTRY_INFO!N150=\"Surveillance\",COUNTRY_INFO!N150=\"Not required\",COUNTRY_INFO!N150=0),0,IF(INTRO!$E$39=\"Non-endemic\",IF(AND($E150<>0,$G150=\"\"),IF($F150=0,COUNTRY_INFO!N150*$E150,COUNTRY_INFO!N150*($E150-$D150)),IF(AND($E150<>0,$G150<>0),IF($F150=0,COUNTRY_INFO!N150*$G150,COUNTRY_INFO!N150*($G150-$D150)),0)),IF($G150=\"\",COUNTRY_INFO!N150*$E150,COUNTRY_INFO!N150*$G150)))","v":38205},{"$f":"IF(OR(COUNTRY_INFO!O150=\"Unknown\",COUNTRY_INFO!O150=\"Surveillance\",COUNTRY_INFO!O150=\"Not required\",COUNTRY_INFO!O150=0),0,IF($E150<>0, IF($F150=0,COUNTRY_INFO!O150*$E150,COUNTRY_INFO!O150*($E150-$D150)),COUNTRY_INFO!O150*$E150))","v":81253},null,{"$f":"IF(OR(COUNTRY_INFO!P150=\"Unknown\",COUNTRY_INFO!P150=\"Surveillance\",COUNTRY_INFO!P150=\"Not required\",COUNTRY_INFO!P150=0),0,IF(AND($E150<>0,$J150=\"\"),IF($F150=0,COUNTRY_INFO!P150*$E150,COUNTRY_INFO!P150*($E150-$D150)), IF(AND($E150<>0,$J150<>0),IF($F150=0,COUNTRY_INFO!P150*$J150,COUNTRY_INFO!P150*($J150-$D150)), COUNTRY_INFO!P150*$J150)))","v":66455},185913,0,null,0,0,0,0,185913,0,185913]
[{"$f":"IF(AND(INTRO!$E$37=\"Non-endemic\",INTRO!$E$41=\"Non-endemic\"),\" \",IF(COUNTRY_INFO!A151=0,\" \",COUNTRY_INFO!A151))","v":"Uganda"},{"$f":"IF(AND(INTRO!$E$37=\"Non-endemic\",INTRO!$E$41=\"Non-endemic\"),\" \",IF(COUNTRY_INFO!B151=0,\" \",COUNTRY_INFO!B151))","v":"Western"},{"$f":"IF(AND(INTRO!$E$37=\"Non-endemic\",INTRO!$E$41=\"Non-endemic\"),\" \",IF(COUNTRY_INFO!C151=0,\" \",COUNTRY_INFO!C151))","v":"Rubirizi"},{"$f":"IF(AND(INTRO!$E$37=\"Non-endemic\",INTRO!$E$41=\"Non-endemic\"),0,COUNTRY_INFO!V151)","v":0},{"$f":"IF(AND(INTRO!$E$37=\"Non-endemic\",INTRO!$E$41=\"Non-endemic\"),0,COUNTRY_INFO!X151)","v":1},{"$f":"IF(INTRO!$E$39=\"Non-endemic\",IF($D151=1,DEC!I151,0),IF($D151=1,IVM!G151,0))","v":0},null,{"$f":"IF(OR(COUNTRY_INFO!N151=\"Unknown\",COUNTRY_INFO!N151=\"Surveillance\",COUNTRY_INFO!N151=\"Not required\",COUNTRY_INFO!N151=0),0,IF(INTRO!$E$39=\"Non-endemic\",IF(AND($E151<>0,$G151=\"\"),IF($F151=0,COUNTRY_INFO!N151*$E151,COUNTRY_INFO!N151*($E151-$D151)),IF(AND($E151<>0,$G151<>0),IF($F151=0,COUNTRY_INFO!N151*$G151,COUNTRY_INFO!N151*($G151-$D151)),0)),IF($G151=\"\",COUNTRY_INFO!N151*$E151,COUNTRY_INFO!N151*$G151)))","v":24743},{"$f":"IF(OR(COUNTRY_INFO!O151=\"Unknown\",COUNTRY_INFO!O151=\"Surveillance\",COUNTRY_INFO!O151=\"Not required\",COUNTRY_INFO!O151=0),0,IF($E151<>0, IF($F151=0,COUNTRY_INFO!O151*$E151,COUNTRY_INFO!O151*($E151-$D151)),COUNTRY_INFO!O151*$E151))","v":52623},null,{"$f":"IF(OR(COUNTRY_INFO!P151=\"Unknown\",COUNTRY_INFO!P151=\"Surveillance\",COUNTRY_INFO!P151=\"Not required\",COUNTRY_INFO!P151=0),0,IF(AND($E151<>0,$J151=\"\"),IF($F151=0,COUNTRY_INFO!P151*$E151,COUNTRY_INFO!P151*($E151-$D151)), IF(AND($E151<>0,$J151<>0),IF($F151=0,COUNTRY_INFO!P151*$J151,COUNTRY_INFO!P151*($J151-$D151)), COUNTRY_INFO!P151*$J151)))","v":43040},120406,0,null,0,0,0,0,120406,0,120406]
[{"$f":"IF(AND(INTRO!$E$37=\"Non-endemic\",INTRO!$E$41=\"Non-endemic\"),\" \",IF(COUNTRY_INFO!A152=0,\" \",COUNTRY_INFO!A152))","v":"Uganda"},{"$f":"IF(AND(INTRO!$E$37=\"Non-endemic\",INTRO!$E$41=\"Non-endemic\"),\" \",IF(COUNTRY_INFO!B152=0,\" \",COUNTRY_INFO!B152))","v":"Western"},{"$f":"IF(AND(INTRO!$E$37=\"Non-endemic\",INTRO!$E$41=\"Non-endemic\"),\" \",IF(COUNTRY_INFO!C152=0,\" \",COUNTRY_INFO!C152))","v":"Rukiga"},{"$f":"IF(AND(INTRO!$E$37=\"Non-endemic\",INTRO!$E$41=\"Non-endemic\"),0,COUNTRY_INFO!V152)","v":0},{"$f":"IF(AND(INTRO!$E$37=\"Non-endemic\",INTRO!$E$41=\"Non-endemic\"),0,COUNTRY_INFO!X152)","v":1},{"$f":"IF(INTRO!$E$39=\"Non-endemic\",IF($D152=1,DEC!I152,0),IF($D152=1,IVM!G152,0))","v":0},null,{"$f":"IF(OR(COUNTRY_INFO!N152=\"Unknown\",COUNTRY_INFO!N152=\"Surveillance\",COUNTRY_INFO!N152=\"Not required\",COUNTRY_INFO!N152=0),0,IF(INTRO!$E$39=\"Non-endemic\",IF(AND($E152<>0,$G152=\"\"),IF($F152=0,COUNTRY_INFO!N152*$E152,COUNTRY_INFO!N152*($E152-$D152)),IF(AND($E152<>0,$G152<>0),IF($F152=0,COUNTRY_INFO!N152*$G152,COUNTRY_INFO!N152*($G152-$D152)),0)),IF($G152=\"\",COUNTRY_INFO!N152*$E152,COUNTRY_INFO!N152*$G152)))","v":19529},{"$f":"IF(OR(COUNTRY_INFO!O152=\"Unknown\",COUNTRY_INFO!O152=\"Surveillance\",COUNTRY_INFO!O152=\"Not required\",COUNTRY_INFO!O152=0),0,IF($E152<>0, IF($F152=0,COUNTRY_INFO!O152*$E152,COUNTRY_INFO!O152*($E152-$D152)),COUNTRY_INFO!O152*$E152))","v":41534},null,{"$f":"IF(OR(COUNTRY_INFO!P152=\"Unknown\",COUNTRY_INFO!P152=\"Surveillance\",COUNTRY_INFO!P152=\"Not required\",COUNTRY_INFO!P152=0),0,IF(AND($E152<>0,$J152=\"\"),IF($F152=0,COUNTRY_INFO!P152*$E152,COUNTRY_INFO!P152*($E152-$D152)), IF(AND($E152<>0,$J152<>0),IF($F152=0,COUNTRY_INFO!P152*$J152,COUNTRY_INFO!P152*($J152-$D152)), COUNTRY_INFO!P152*$J152)))","v":33970},95033,0,null,0,0,0,0,95033,0,95033]
[{"$f":"IF(AND(INTRO!$E$37=\"Non-endemic\",INTRO!$E$41=\"Non-endemic\"),\" \",IF(COUNTRY_INFO!A153=0,\" \",COUNTRY_INFO!A153))","v":"Uganda"},{"$f":"IF(AND(INTRO!$E$37=\"Non-endemic\",INTRO!$E$41=\"Non-endemic\"),\" \",IF(COUNTRY_INFO!B153=0,\" \",COUNTRY_INFO!B153))","v":"Western"},{"$f":"IF(AND(INTRO!$E$37=\"Non-endemic\",INTRO!$E$41=\"Non-endemic\"),\" \",IF(COUNTRY_INFO!C153=0,\" \",COUNTRY_INFO!C153))","v":"Rukungiri"},{"$f":"IF(AND(INTRO!$E$37=\"Non-endemic\",INTRO!$E$41=\"Non-endemic\"),0,COUNTRY_INFO!V153)","v":0},{"$f":"IF(AND(INTRO!$E$37=\"Non-endemic\",INTRO!$E$41=\"Non-endemic\"),0,COUNTRY_INFO!X153)","v":1},{"$f":"IF(INTRO!$E$39=\"Non-endemic\",IF($D153=1,DEC!I153,0),IF($D153=1,IVM!G153,0))","v":0},null,{"$f":"IF(OR(COUNTRY_INFO!N153=\"Unknown\",COUNTRY_INFO!N153=\"Surveillance\",COUNTRY_INFO!N153=\"Not required\",COUNTRY_INFO!N153=0),0,IF(INTRO!$E$39=\"Non-endemic\",IF(AND($E153<>0,$G153=\"\"),IF($F153=0,COUNTRY_INFO!N153*$E153,COUNTRY_INFO!N153*($E153-$D153)),IF(AND($E153<>0,$G153<>0),IF($F153=0,COUNTRY_INFO!N153*$G153,COUNTRY_INFO!N153*($G153-$D153)),0)),IF($G153=\"\",COUNTRY_INFO!N153*$E153,COUNTRY_INFO!N153*$G153)))","v":61354},{"$f":"IF(OR(COUNTRY_INFO!O153=\"Unknown\",COUNTRY_INFO!O153=\"Surveillance\",COUNTRY_INFO!O153=\"Not required\",COUNTRY_INFO!O153=0),0,IF($E153<>0, IF($F153=0,COUNTRY_INFO!O153*$E153,COUNTRY_INFO!O153*($E153-$D153)),COUNTRY_INFO!O153*$E153))","v":130485},null,{"$f":"IF(OR(COUNTRY_INFO!P153=\"Unknown\",COUNTRY_INFO!P153=\"Surveillance\",COUNTRY_INFO!P153=\"Not required\",COUNTRY_INFO!P153=0),0,IF(AND($E153<>0,$J153=\"\"),IF($F153=0,COUNTRY_INFO!P153*$E153,COUNTRY_INFO!P153*($E153-$D153)), IF(AND($E153<>0,$J153<>0),IF($F153=0,COUNTRY_INFO!P153*$J153,COUNTRY_INFO!P153*($J153-$D153)), COUNTRY_INFO!P153*$J153)))","v":106721},298560,0,null,0,0,0,0,298560,0,298560]
[{"$f":"IF(AND(INTRO!$E$37=\"Non-endemic\",INTRO!$E$41=\"Non-endemic\"),\" \",IF(COUNTRY_INFO!A154=0,\" \",COUNTRY_INFO!A154))","v":"Uganda"},{"$f":"IF(AND(INTRO!$E$37=\"Non-endemic\",INTRO!$E$41=\"Non-endemic\"),\" \",IF(COUNTRY_INFO!B154=0,\" \",COUNTRY_INFO!B154))","v":"Western"},{"$f":"IF(AND(INTRO!$E$37=\"Non-endemic\",INTRO!$E$41=\"Non-endemic\"),\" \",IF(COUNTRY_INFO!C154=0,\" \",COUNTRY_INFO!C154))","v":"Rwampara"},{"$f":"IF(AND(INTRO!$E$37=\"Non-endemic\",INTRO!$E$41=\"Non-endemic\"),0,COUNTRY_INFO!V154)","v":0},{"$f":"IF(AND(INTRO!$E$37=\"Non-endemic\",INTRO!$E$41=\"Non-endemic\"),0,COUNTRY_INFO!X154)","v":1},{"$f":"IF(INTRO!$E$39=\"Non-endemic\",IF($D154=1,DEC!I154,0),IF($D154=1,IVM!G154,0))","v":0},null,{"$f":"IF(OR(COUNTRY_INFO!N154=\"Unknown\",COUNTRY_INFO!N154=\"Surveillance\",COUNTRY_INFO!N154=\"Not required\",COUNTRY_INFO!N154=0),0,IF(INTRO!$E$39=\"Non-endemic\",IF(AND($E154<>0,$G154=\"\"),IF($F154=0,COUNTRY_INFO!N154*$E154,COUNTRY_INFO!N154*($E154-$D154)),IF(AND($E154<>0,$G154<>0),IF($F154=0,COUNTRY_INFO!N154*$G154,COUNTRY_INFO!N154*($G154-$D154)),0)),IF($G154=\"\",COUNTRY_INFO!N154*$E154,COUNTRY_INFO!N154*$G154)))","v":24569},{"$f":"IF(OR(COUNTRY_INFO!O154=\"Unknown\",COUNTRY_INFO!O154=\"Surveillance\",COUNTRY_INFO!O154=\"Not required\",COUNTRY_INFO!O154=0),0,IF($E154<>0, IF($F154=0,COUNTRY_INFO!O154*$E154,COUNTRY_INFO!O154*($E154-$D154)),COUNTRY_INFO!O154*$E154))","v":52251},null,{"$f":"IF(OR(COUNTRY_INFO!P154=\"Unknown\",COUNTRY_INFO!P154=\"Surveillance\",COUNTRY_INFO!P154=\"Not required\",COUNTRY_INFO!P154=0),0,IF(AND($E154<>0,$J154=\"\"),IF($F154=0,COUNTRY_INFO!P154*$E154,COUNTRY_INFO!P154*($E154-$D154)), IF(AND($E154<>0,$J154<>0),IF($F154=0,COUNTRY_INFO!P154*$J154,COUNTRY_INFO!P154*($J154-$D154)), COUNTRY_INFO!P154*$J154)))","v":42735},119555,0,null,0,0,0,0,119555,0,119555]
[{"$f":"IF(AND(INTRO!$E$37=\"Non-endemic\",INTRO!$E$41=\"Non-endemic\"),\" \",IF(COUNTRY_INFO!A155=0,\" \",COUNTRY_INFO!A155))","v":"Uganda"},{"$f":"IF(AND(INTRO!$E$37=\"Non-endemic\",INTRO!$E$41=\"Non-endemic\"),\" \",IF(COUNTRY_INFO!B155=0,\" \",COUNTRY_INFO!B155))","v":"Western"},{"$f":"IF(AND(INTRO!$E$37=\"Non-endemic\",INTRO!$E$41=\"Non-endemic\"),\" \",IF(COUNTRY_INFO!C155=0,\" \",COUNTRY_INFO!C155))","v":"Sheema"},{"$f":"IF(AND(INTRO!$E$37=\"Non-endemic\",INTRO!$E$41=\"Non-endemic\"),0,COUNTRY_INFO!V155)","v":0},{"$f":"IF(AND(INTRO!$E$37=\"Non-endemic\",INTRO!$E$41=\"Non-endemic\"),0,COUNTRY_INFO!X155)","v":1},{"$f":"IF(INTRO!$E$39=\"Non-endemic\",IF($D155=1,DEC!I155,0),IF($D155=1,IVM!G155,0))","v":0},null,{"$f":"IF(OR(COUNTRY_INFO!N155=\"Unknown\",COUNTRY_INFO!N155=\"Surveillance\",COUNTRY_INFO!N155=\"Not required\",COUNTRY_INFO!N155=0),0,IF(INTRO!$E$39=\"Non-endemic\",IF(AND($E155<>0,$G155=\"\"),IF($F155=0,COUNTRY_INFO!N155*$E155,COUNTRY_INFO!N155*($E155-$D155)),IF(AND($E155<>0,$G155<>0),IF($F155=0,COUNTRY_INFO!N155*$G155,COUNTRY_INFO!N155*($G155-$D155)),0)),IF($G155=\"\",COUNTRY_INFO!N155*$E155,COUNTRY_INFO!N155*$G155)))","v":40521},{"$f":"IF(OR(COUNTRY_INFO!O155=\"Unknown\",COUNTRY_INFO!O155=\"Surveillance\",COUNTRY_INFO!O155=\"Not required\",COUNTRY_INFO!O155=0),0,IF($E155<>0, IF($F155=0,COUNTRY_INFO!O155*$E155,COUNTRY_INFO!O155*($E155-$D155)),COUNTRY_INFO!O155*$E155))","v":86178},null,{"$f":"IF(OR(COUNTRY_INFO!P155=\"Unknown\",COUNTRY_INFO!P155=\"Surveillance\",COUNTRY_INFO!P155=\"Not required\",COUNTRY_INFO!P155=0),0,IF(AND($E155<>0,$J155=\"\"),IF($F155=0,COUNTRY_INFO!P155*$E155,COUNTRY_INFO!P155*($E155-$D155)), IF(AND($E155<>0,$J155<>0),IF($F155=0,COUNTRY_INFO!P155*$J155,COUNTRY_INFO!P155*($J155-$D155)), COUNTRY_INFO!P155*$J155)))","v":70484},197183,0,null,0,0,0,0,197183,0,197183]

{"sheet":"PZQ","index":4,"n_rows":155,"n_cols":18,"rows_kept":155,"cut":false,"hidden":false,"merged":[[5,12,5,17],[5,10,5,11],[6,10,7,10],[6,14,7,14],[6,15,7,15],[6,16,7,16],[6,13,7,13],[6,11,7,11],[3,0,3,2],[5,0,5,2],[5,4,5,7],[5,8,5,9],[6,17,7,17],[6,6,7,6],[6,7,7,7],[6,9,7,9],[6,0,7,0],[6,1,7,1],[6,2,7,2],[6,4,7,4],[5,3,7,3],[6,5,7,5],[6,8,7,8],[6,12,7,12]]}
["Praziquantel (PZQ)"]
["Administrative structure, eligible population by age group, treatment plan and information about tablets"]
[]
["TOTAL",null,null,null,{"$f":"SUBTOTAL(9,E$10:E$1010)","v":0},5352830,6755481,12108311,null,0,null,null,{"$f":"SUBTOTAL(9,M$10:M$1010)","v":0},10705660,20266443,30972103,0,30972103]
[]
["Country administrative structure",null,null,"Treatment plan\nSCH","Target population for SCH",null,null,null,"Hot spots",null,"Previous year MDA",null,"Praziquantel (PZQ)"]
["Country","Province/State","District",null,"PreSAC","SAC","Adults","Total","Planned","Population","Rounds","Age groups","PreSAC","SAC","Adults","Total required","Remaining in stock","Tablets to be procured"]
[]
[]
[{"$f":"IF(INTRO!$E$43=\"Non-endemic\",\" \", IF(COUNTRY_INFO!A10=0,\" \",COUNTRY_INFO!A10))","v":"Uganda"},{"$f":"IF(INTRO!$E$43=\"Non-endemic\",\" \", IF(COUNTRY_INFO!B10=0,\" \",COUNTRY_INFO!B10))","v":"Central"},{"$f":"IF(INTRO!$E$43=\"Non-endemic\",\" \", IF(COUNTRY_INFO!C10=0,\" \",COUNTRY_INFO!C10))","v":"Buikwe"},{"$f":"IF(INTRO!$E$43=\"Non-endemic\", \"Not required\", COUNTRY_INFO!Y10)","v":1},{"$f":"IF(OR(COUNTRY_INFO!R10=\"Unknown\",COUNTRY_INFO!R10=\"Surveillance\",COUNTRY_INFO!R10=\"Not required\",COUNTRY_INFO!R10=0),0,IF($D10<>0, COUNTRY_INFO!R10,0))","v":0},{"$f":"IF(OR(COUNTRY_INFO!S10=\"Unknown\",COUNTRY_INFO!S10=\"Surveillance\",COUNTRY_INFO!S10=\"Not required\",COUNTRY_INFO!S10=0),0,IF($D10<>0, COUNTRY_INFO!S10,0))","v":106129},{"$f":"IF(OR(COUNTRY_INFO!T10=\"Unknown\",COUNTRY_INFO!T10=\"Surveillance\",COUNTRY_INFO!T10=\"Not required\",COUNTRY_INFO!T10=0),0,IF($D10<>0, COUNTRY_INFO!T10,0))","v":106960},{"$f":"SUM(E10:G10)","v":213089},null,null,1,"SAC",null,{"$f":"IF($I10<>\"Yes\",$F10*2,($F10+ROUND(J10*$F10/SUM(COUNTRY_INFO!$E10:$G10),0))*2)","v":212258},{"$f":"IF($I10<>\"Yes\",$G10*3,($G10+ROUND(J10*$G10/SUM(COUNTRY_INFO!$E10:$G10),0))*3)","v":320880},{"$f":"SUM(M10:O10)","v":533138},0,{"$f":"IF($P10>$Q10,P10-Q10,0)","v":533138}]
[{"$f":"IF(INTRO!$E$43=\"Non-endemic\",\" \", IF(COUNTRY_INFO!A11=0,\" \",COUNTRY_INFO!A11))","v":"Uganda"},{"$f":"IF(INTRO!$E$43=\"Non-endemic\",\" \", IF(COUNTRY_INFO!B11=0,\" \",COUNTRY_INFO!B11))","v":"Central"},{"$f":"IF(INTRO!$E$43=\"Non-endemic\",\" \", IF(COUNTRY_INFO!C11=0,\" \",COUNTRY_INFO!C11))","v":"Bukomansimbi"},{"$f":"IF(INTRO!$E$43=\"Non-endemic\", \"Not required\", COUNTRY_INFO!Y11)","v":0},{"$f":"IF(OR(COUNTRY_INFO!R11=\"Unknown\",COUNTRY_INFO!R11=\"Surveillance\",COUNTRY_INFO!R11=\"Not required\",COUNTRY_INFO!R11=0),0,IF($D11<>0, COUNTRY_INFO!R11,0))","v":0},{"$f":"IF(OR(COUNTRY_INFO!S11=\"Unknown\",COUNTRY_INFO!S11=\"Surveillance\",COUNTRY_INFO!S11=\"Not required\",COUNTRY_INFO!S11=0),0,IF($D11<>0, COUNTRY_INFO!S11,0))","v":0},{"$f":"IF(OR(COUNTRY_INFO!T11=\"Unknown\",COUNTRY_INFO!T11=\"Surveillance\",COUNTRY_INFO!T11=\"Not required\",COUNTRY_INFO!T11=0),0,IF($D11<>0, COUNTRY_INFO!T11,0))","v":0},{"$f":"SUM(E11:G11)","v":0},null,null,null,null,null,{"$f":"IF($I11<>\"Yes\",$F11*2,($F11+ROUND(J11*$F11/SUM(COUNTRY_INFO!$E11:$G11),0))*2)","v":0},{"$f":"IF($I11<>\"Yes\",$G11*3,($G11+ROUND(J11*$G11/SUM(COUNTRY_INFO!$E11:$G11),0))*3)","v":0},{"$f":"SUM(M11:O11)","v":0},null,{"$f":"IF($P11>$Q11,P11-Q11,0)","v":0}]
[{"$f":"IF(INTRO!$E$43=\"Non-endemic\",\" \", IF(COUNTRY_INFO!A12=0,\" \",COUNTRY_INFO!A12))","v":"Uganda"},{"$f":"IF(INTRO!$E$43=\"Non-endemic\",\" \", IF(COUNTRY_INFO!B12=0,\" \",COUNTRY_INFO!B12))","v":"Central"},{"$f":"IF(INTRO!$E$43=\"Non-endemic\",\" \", IF(COUNTRY_INFO!C12=0,\" \",COUNTRY_INFO!C12))","v":"Butambala"},{"$f":"IF(INTRO!$E$43=\"Non-endemic\", \"Not required\", COUNTRY_INFO!Y12)","v":0},{"$f":"IF(OR(COUNTRY_INFO!R12=\"Unknown\",COUNTRY_INFO!R12=\"Surveillance\",COUNTRY_INFO!R12=\"Not required\",COUNTRY_INFO!R12=0),0,IF($D12<>0, COUNTRY_INFO!R12,0))","v":0},{"$f":"IF(OR(COUNTRY_INFO!S12=\"Unknown\",COUNTRY_INFO!S12=\"Surveillance\",COUNTRY_INFO!S12=\"Not required\",COUNTRY_INFO!S12=0),0,IF($D12<>0, COUNTRY_INFO!S12,0))","v":0},{"$f":"IF(OR(COUNTRY_INFO!T12=\"Unknown\",COUNTRY_INFO!T12=\"Surveillance\",COUNTRY_INFO!T12=\"Not required\",COUNTRY_INFO!T12=0),0,IF($D12<>0, COUNTRY_INFO!T12,0))","v":0},0,null,null,null,null,null,{"$f":"IF($I12<>\"Yes\",$F12*2,($F12+ROUND(J12*$F12/SUM(COUNTRY_INFO!$E12:$G12),0))*2)","v":0},{"$f":"IF($I12<>\"Yes\",$G12*3,($G12+ROUND(J12*$G12/SUM(COUNTRY_INFO!$E12:$G12),0))*3)","v":0},0,null,0]
[{"$f":"IF(INTRO!$E$43=\"Non-endemic\",\" \", IF(COUNTRY_INFO!A13=0,\" \",COUNTRY_INFO!A13))","v":"Uganda"},{"$f":"IF(INTRO!$E$43=\"Non-endemic\",\" \", IF(COUNTRY_INFO!B13=0,\" \",COUNTRY_INFO!B13))","v":"Central"},{"$f":"IF(INTRO!$E$43=\"Non-endemic\",\" \", IF(COUNTRY_INFO!C13=0,\" \",COUNTRY_INFO!C13))","v":"Buvuma"},{"$f":"IF(INTRO!$E$43=\"Non-endemic\", \"Not required\", COUNTRY_INFO!Y13)","v":1},{"$f":"IF(OR(COUNTRY_INFO!R13=\"Unknown\",COUNTRY_INFO!R13=\"Surveillance\",COUNTRY_INFO!R13=\"Not required\",COUNTRY_INFO!R13=0),0,IF($D13<>0, COUNTRY_INFO!R13,0))","v":0},{"$f":"IF(OR(COUNTRY_INFO!S13=\"Unknown\",COUNTRY_INFO!S13=\"Surveillance\",COUNTRY_INFO!S13=\"Not required\",COUNTRY_INFO!S13=0),0,IF($D13<>0, COUNTRY_INFO!S13,0))","v":36620},{"$f":"IF(OR(COUNTRY_INFO!T13=\"Unknown\",COUNTRY_INFO!T13=\"Surveillance\",COUNTRY_INFO!T13=\"Not required\",COUNTRY_INFO!T13=0),0,IF($D13<>0, COUNTRY_INFO!T13,0))","v":63175},99795,null,null,1,"SAC",null,{"$f":"IF($I13<>\"Yes\",$F13*2,($F13+ROUND(J13*$F13/SUM(COUNTRY_INFO!$E13:$G13),0))*2)","v":73240},{"$f":"IF($I13<>\"Yes\",$G13*3,($G13+ROUND(J13*$G13/SUM(COUNTRY_INFO!$E13:$G13),0))*3)","v":189525},262765,0,262765]
[{"$f":"IF(INTRO!$E$43=\"Non-endemic\",\" \", IF(COUNTRY_INFO!A14=0,\" \",COUNTRY_INFO!A14))","v":"Uganda"},{"$f":"IF(INTRO!$E$43=\"Non-endemic\",\" \", IF(COUNTRY_INFO!B14=0,\" \",COUNTRY_INFO!B14))","v":"Central"},{"$f":"IF(INTRO!$E$43=\"Non-endemic\",\" \", IF(COUNTRY_INFO!C14=0,\" \",COUNTRY_INFO!C14))","v":"Gomba"},{"$f":"IF(INTRO!$E$43=\"Non-endemic\", \"Not required\", COUNTRY_INFO!Y14)","v":1},{"$f":"IF(OR(COUNTRY_INFO!R14=\"Unknown\",COUNTRY_INFO!R14=\"Surveillance\",COUNTRY_INFO!R14=\"Not required\",COUNTRY_INFO!R14=0),0,IF($D14<>0, COUNTRY_INFO!R14,0))","v":0},{"$f":"IF(OR(COUNTRY_INFO!S14=\"Unknown\",COUNTRY_INFO!S14=\"Surveillance\",COUNTRY_INFO!S14=\"Not required\",COUNTRY_INFO!S14=0),0,IF($D14<>0, COUNTRY_INFO!S14,0))","v":16970},{"$f":"IF(OR(COUNTRY_INFO!T14=\"Unknown\",COUNTRY_INFO!T14=\"Surveillance\",COUNTRY_INFO!T14=\"Not required\",COUNTRY_INFO!T14=0),0,IF($D14<>0, COUNTRY_INFO!T14,0))","v":22519},39489,null,null,1,"SAC",null,{"$f":"IF($I14<>\"Yes\",$F14*2,($F14+ROUND(J14*$F14/SUM(COUNTRY_INFO!$E14:$G14),0))*2)","v":33940},{"$f":"IF($I14<>\"Yes\",$G14*3,($G14+ROUND(J14*$G14/SUM(COUNTRY_INFO!$E14:$G14),0))*3)","v":67557},101497,0,101497]
[{"$f":"IF(INTRO!$E$43=\"Non-endemic\",\" \", IF(COUNTRY_INFO!A15=0,\" \",COUNTRY_INFO!A15))","v":"Uganda"},{"$f":"IF(INTRO!$E$43=\"Non-endemic\",\" \", IF(COUNTRY_INFO!B15=0,\" \",COUNTRY_INFO!B15))","v":"Central"},{"$f":"IF(INTRO!$E$43=\"Non-endemic\",\" \", IF(COUNTRY_INFO!C15=0,\" \",COUNTRY_INFO!C15))","v":"Kalangala"},{"$f":"IF(INTRO!$E$43=\"Non-endemic\", \"Not required\", COUNTRY_INFO!Y15)","v":1},{"$f":"IF(OR(COUNTRY_INFO!R15=\"Unknown\",COUNTRY_INFO!R15=\"Surveillance\",COUNTRY_INFO!R15=\"Not required\",COUNTRY_INFO!R15=0),0,IF($D15<>0, COUNTRY_INFO!R15,0))","v":0},{"$f":"IF(OR(COUNTRY_INFO!S15=\"Unknown\",COUNTRY_INFO!S15=\"Surveillance\",COUNTRY_INFO!S15=\"Not required\",COUNTRY_INFO!S15=0),0,IF($D15<>0, COUNTRY_INFO!S15,0))","v":8343},{"$f":"IF(OR(COUNTRY_INFO!T15=\"Unknown\",COUNTRY_INFO!T15=\"Surveillance\",COUNTRY_INFO!T15=\"Not required\",COUNTRY_INFO!T15=0),0,IF($D15<>0, COUNTRY_INFO!T15,0))","v":37507},45850,null,null,1,"SAC",null,{"$f":"IF($I15<>\"Yes\",$F15*2,($F15+ROUND(J15*$F15/SUM(COUNTRY_INFO!$E15:$G15),0))*2)","v":16686},{"$f":"IF($I15<>\"Yes\",$G15*3,($G15+ROUND(J15*$G15/SUM(COUNTRY_INFO!$E15:$G15),0))*3)","v":112521},129207,0,129207]
[{"$f":"IF(INTRO!$E$43=\"Non-endemic\",\" \", IF(COUNTRY_INFO!A16=0,\" \",COUNTRY_INFO!A16))","v":"Uganda"},{"$f":"IF(INTRO!$E$43=\"Non-endemic\",\" \", IF(COUNTRY_INFO!B16=0,\" \",COUNTRY_INFO!B16))","v":"Central"},{"$f":"IF(INTRO!$E$43=\"Non-endemic\",\" \", IF(COUNTRY_INFO!C16=0,\" \",COUNTRY_INFO!C16))","v":"Kalungu"},{"$f":"IF(INTRO!$E$43=\"Non-endemic\", \"Not required\", COUNTRY_INFO!Y16)","v":1},{"$f":"IF(OR(COUNTRY_INFO!R16=\"Unknown\",COUNTRY_INFO!R16=\"Surveillance\",COUNTRY_INFO!R16=\"Not required\",COUNTRY_INFO!R16=0),0,IF($D16<>0, COUNTRY_INFO!R16,0))","v":0},{"$f":"IF(OR(COUNTRY_INFO!S16=\"Unknown\",COUNTRY_INFO!S16=\"Surveillance\",COUNTRY_INFO!S16=\"Not required\",COUNTRY_INFO!S16=0),0,IF($D16<>0, COUNTRY_INFO!S16,0))","v":24035},{"$f":"IF(OR(COUNTRY_INFO!T16=\"Unknown\",COUNTRY_INFO!T16=\"Surveillance\",COUNTRY_INFO!T16=\"Not required\",COUNTRY_INFO!T16=0),0,IF($D16<>0, COUNTRY_INFO!T16,0))","v":0},24035,null,null,1,"SAC",null,{"$f":"IF($I16<>\"Yes\",$F16*2,($F16+ROUND(J16*$F16/SUM(COUNTRY_INFO!$E16:$G16),0))*2)","v":48070},{"$f":"IF($I16<>\"Yes\",$G16*3,($G16+ROUND(J16*$G16/SUM(COUNTRY_INFO!$E16:$G16),0))*3)","v":0},48070,0,48070]
[{"$f":"IF(INTRO!$E$43=\"Non-endemic\",\" \", IF(COUNTRY_INFO!A17=0,\" \",COUNTRY_INFO!A17))","v":"Uganda"},{"$f":"IF(INTRO!$E$43=\"Non-endemic\",\" \", IF(COUNTRY_INFO!B17=0,\" \",COUNTRY_INFO!B17))","v":"Central"},{"$f":"IF(INTRO!$E$43=\"Non-endemic\",\" \", IF(COUNTRY_INFO!C17=0,\" \",COUNTRY_INFO!C17))","v":"Kampala"},{"$f":"IF(INTRO!$E$43=\"Non-endemic\", \"Not required\", COUNTRY_INFO!Y17)","v":0},{"$f":"IF(OR(COUNTRY_INFO!R17=\"Unknown\",COUNTRY_INFO!R17=\"Surveillance\",COUNTRY_INFO!R17=\"Not required\",COUNTRY_INFO!R17=0),0,IF($D17<>0, COUNTRY_INFO!R17,0))","v":0},{"$f":"IF(OR(COUNTRY_INFO!S17=\"Unknown\",COUNTRY_INFO!S17=\"Surveillance\",COUNTRY_INFO!S17=\"Not required\",COUNTRY_INFO!S17=0),0,IF($D17<>0, COUNTRY_INFO!S17,0))","v":0},{"$f":"IF(OR(COUNTRY_INFO!T17=\"Unknown\",COUNTRY_INFO!T17=\"Surveillance\",COUNTRY_INFO!T17=\"Not required\",COUNTRY_INFO!T17=0),0,IF($D17<>0, COUNTRY_INFO!T17,0))","v":0},0,null,null,null,null,null,{"$f":"IF($I17<>\"Yes\",$F17*2,($F17+ROUND(J17*$F17/SUM(COUNTRY_INFO!$E17:$G17),0))*2)","v":0},{"$f":"IF($I17<>\"Yes\",$G17*3,($G17+ROUND(J17*$G17/SUM(COUNTRY_INFO!$E17:$G17),0))*3)","v":0},0,null,0]
[{"$f":"IF(INTRO!$E$43=\"Non-endemic\",\" \", IF(COUNTRY_INFO!A18=0,\" \",COUNTRY_INFO!A18))","v":"Uganda"},{"$f":"IF(INTRO!$E$43=\"Non-endemic\",\" \", IF(COUNTRY_INFO!B18=0,\" \",COUNTRY_INFO!B18))","v":"Central"},{"$f":"IF(INTRO!$E$43=\"Non-endemic\",\" \", IF(COUNTRY_INFO!C18=0,\" \",COUNTRY_INFO!C18))","v":"Kassanda"},{"$f":"IF(INTRO!$E$43=\"Non-endemic\", \"Not required\", COUNTRY_INFO!Y18)","v":1},{"$f":"IF(OR(COUNTRY_INFO!R18=\"Unknown\",COUNTRY_INFO!R18=\"Surveillance\",COUNTRY_INFO!R18=\"Not required\",COUNTRY_INFO!R18=0),0,IF($D18<>0, COUNTRY_INFO!R18,0))","v":0},{"$f":"IF(OR(COUNTRY_INFO!S18=\"Unknown\",COUNTRY_INFO!S18=\"Surveillance\",COUNTRY_INFO!S18=\"Not required\",COUNTRY_INFO!S18=0),0,IF($D18<>0, COUNTRY_INFO!S18,0))","v":56116},{"$f":"IF(OR(COUNTRY_INFO!T18=\"Unknown\",COUNTRY_INFO!T18=\"Surveillance\",COUNTRY_INFO!T18=\"Not required\",COUNTRY_INFO!T18=0),0,IF($D18<>0, COUNTRY_INFO!T18,0))","v":38724},94840,null,null,1,"SAC",null,{"$f":"IF($I18<>\"Yes\",$F18*2,($F18+ROUND(J18*$F18/SUM(COUNTRY_INFO!$E18:$G18),0))*2)","v":112232},{"$f":"IF($I18<>\"Yes\",$G18*3,($G18+ROUND(J18*$G18/SUM(COUNTRY_INFO!$E18:$G18),0))*3)","v":116172},228404,0,228404]
[{"$f":"IF(INTRO!$E$43=\"Non-endemic\",\" \", IF(COUNTRY_INFO!A19=0,\" \",COUNTRY_INFO!A19))","v":"Uganda"},{"$f":"IF(INTRO!$E$43=\"Non-endemic\",\" \", IF(COUNTRY_INFO!B19=0,\" \",COUNTRY_INFO!B19))","v":"Central"},{"$f":"IF(INTRO!$E$43=\"Non-endemic\",\" \", IF(COUNTRY_INFO!C19=0,\" \",COUNTRY_INFO!C19))","v":"Kayunga"},{"$f":"IF(INTRO!$E$43=\"Non-endemic\", \"Not required\", COUNTRY_INFO!Y19)","v":1},{"$f":"IF(OR(COUNTRY_INFO!R19=\"Unknown\",COUNTRY_INFO!R19=\"Surveillance\",COUNTRY_INFO!R19=\"Not required\",COUNTRY_INFO!R19=0),0,IF($D19<>0, COUNTRY_INFO!R19,0))","v":0},{"$f":"IF(OR(COUNTRY_INFO!S19=\"Unknown\",COUNTRY_INFO!S19=\"Surveillance\",COUNTRY_INFO!S19=\"Not required\",COUNTRY_INFO!S19=0),0,IF($D19<>0, COUNTRY_INFO!S19,0))","v":75254},{"$f":"IF(OR(COUNTRY_INFO!T19=\"Unknown\",COUNTRY_INFO!T19=\"Surveillance\",COUNTRY_INFO!T19=\"Not required\",COUNTRY_INFO!T19=0),0,IF($D19<>0, COUNTRY_INFO!T19,0))","v":259970},335224,null,null,1,"SAC",null,{"$f":"IF($I19<>\"Yes\",$F19*2,($F19+ROUND(J19*$F19/SUM(COUNTRY_INFO!$E19:$G19),0))*2)","v":150508},{"$f":"IF($I19<>\"Yes\",$G19*3,($G19+ROUND(J19*$G19/SUM(COUNTRY_INFO!$E19:$G19),0))*3)","v":779910},930418,0,930418]
[{"$f":"IF(INTRO!$E$43=\"Non-endemic\",\" \", IF(COUNTRY_INFO!A20=0,\" \",COUNTRY_INFO!A20))","v":"Uganda"},{"$f":"IF(INTRO!$E$43=\"Non-endemic\",\" \", IF(COUNTRY_INFO!B20=0,\" \",COUNTRY_INFO!B20))","v":"Central"},{"$f":"IF(INTRO!$E$43=\"Non-endemic\",\" \", IF(COUNTRY_INFO!C20=0,\" \",COUNTRY_INFO!C20))","v":"Kiboga"},{"$f":"IF(INTRO!$E$43=\"Non-endemic\", \"Not required\", COUNTRY_INFO!Y20)","v":0},{"$f":"IF(OR(COUNTRY_INFO!R20=\"Unknown\",COUNTRY_INFO!R20=\"Surveillance\",COUNTRY_INFO!R20=\"Not required\",COUNTRY_INFO!R20=0),0,IF($D20<>0, COUNTRY_INFO!R20,0))","v":0},{"$f":"IF(OR(COUNTRY_INFO!S20=\"Unknown\",COUNTRY_INFO!S20=\"Surveillance\",COUNTRY_INFO!S20=\"Not required\",COUNTRY_INFO!S20=0),0,IF($D20<>0, COUNTRY_INFO!S20,0))","v":0},{"$f":"IF(OR(COUNTRY_INFO!T20=\"Unknown\",COUNTRY_INFO!T20=\"Surveillance\",COUNTRY_INFO!T20=\"Not required\",COUNTRY_INFO!T20=0),0,IF($D20<>0, COUNTRY_INFO!T20,0))","v":0},0,null,null,null,null,null,{"$f":"IF($I20<>\"Yes\",$F20*2,($F20+ROUND(J20*$F20/SUM(COUNTRY_INFO!$E20:$G20),0))*2)","v":0},{"$f":"IF($I20<>\"Yes\",$G20*3,($G20+ROUND(J20*$G20/SUM(COUNTRY_INFO!$E20:$G20),0))*3)","v":0},0,null,0]
[{"$f":"IF(INTRO!$E$43=\"Non-endemic\",\" \", IF(COUNTRY_INFO!A21=0,\" \",COUNTRY_INFO!A21))","v":"Uganda"},{"$f":"IF(INTRO!$E$43=\"Non-endemic\",\" \", IF(COUNTRY_INFO!B21=0,\" \",COUNTRY_INFO!B21))","v":"Central"},{"$f":"IF(INTRO!$E$43=\"Non-endemic\",\" \", IF(COUNTRY_INFO!C21=0,\" \",COUNTRY_INFO!C21))","v":"Kyankwanzi"},{"$f":"IF(INTRO!$E$43=\"Non-endemic\", \"Not required\", COUNTRY_INFO!Y21)","v":0},{"$f":"IF(OR(COUNTRY_INFO!R21=\"Unknown\",COUNTRY_INFO!R21=\"Surveillance\",COUNTRY_INFO!R21=\"Not required\",COUNTRY_INFO!R21=0),0,IF($D21<>0, COUNTRY_INFO!R21,0))","v":0},{"$f":"IF(OR(COUNTRY_INFO!S21=\"Unknown\",COUNTRY_INFO!S21=\"Surveillance\",COUNTRY_INFO!S21=\"Not required\",COUNTRY_INFO!S21=0),0,IF($D21<>0, COUNTRY_INFO!S21,0))","v":0},{"$f":"IF(OR(COUNTRY_INFO!T21=\"Unknown\",COUNTRY_INFO!T21=\"Surveillance\",COUNTRY_INFO!T21=\"Not required\",COUNTRY_INFO!T21=0),0,IF($D21<>0, COUNTRY_INFO!T21,0))","v":0},0,null,null,null,null,null,{"$f":"IF($I21<>\"Yes\",$F21*2,($F21+ROUND(J21*$F21/SUM(COUNTRY_INFO!$E21:$G21),0))*2)","v":0},{"$f":"IF($I21<>\"Yes\",$G21*3,($G21+ROUND(J21*$G21/SUM(COUNTRY_INFO!$E21:$G21),0))*3)","v":0},0,null,0]
[{"$f":"IF(INTRO!$E$43=\"Non-endemic\",\" \", IF(COUNTRY_INFO!A22=0,\" \",COUNTRY_INFO!A22))","v":"Uganda"},{"$f":"IF(INTRO!$E$43=\"Non-endemic\",\" \", IF(COUNTRY_INFO!B22=0,\" \",COUNTRY_INFO!B22))","v":"Central"},{"$f":"IF(INTRO!$E$43=\"Non-endemic\",\" \", IF(COUNTRY_INFO!C22=0,\" \",COUNTRY_INFO!C22))","v":"Kyotera"},{"$f":"IF(INTRO!$E$43=\"Non-endemic\", \"Not required\", COUNTRY_INFO!Y22)","v":1},{"$f":"IF(OR(COUNTRY_INFO!R22=\"Unknown\",COUNTRY_INFO!R22=\"Surveillance\",COUNTRY_INFO!R22=\"Not required\",COUNTRY_INFO!R22=0),0,IF($D22<>0, COUNTRY_INFO!R22,0))","v":0},{"$f":"IF(OR(COUNTRY_INFO!S22=\"Unknown\",COUNTRY_INFO!S22=\"Surveillance\",COUNTRY_INFO!S22=\"Not required\",COUNTRY_INFO!S22=0),0,IF($D22<>0, COUNTRY_INFO!S22,0))","v":21786},{"$f":"IF(OR(COUNTRY_INFO!T22=\"Unknown\",COUNTRY_INFO!T22=\"Surveillance\",COUNTRY_INFO!T22=\"Not required\",COUNTRY_INFO!T22=0),0,IF($D22<>0, COUNTRY_INFO!T22,0))","v":0},21786,null,null,1,"SAC",null,{"$f":"IF($I22<>\"Yes\",$F22*2,($F22+ROUND(J22*$F22/SUM(COUNTRY_INFO!$E22:$G22),0))*2)","v":43572},{"$f":"IF($I22<>\"Yes\",$G22*3,($G22+ROUND(J22*$G22/SUM(COUNTRY_INFO!$E22:$G22),0))*3)","v":0},43572,0,43572]
[{"$f":"IF(INTRO!$E$43=\"Non-endemic\",\" \", IF(COUNTRY_INFO!A23=0,\" \",COUNTRY_INFO!A23))","v":"Uganda"},{"$f":"IF(INTRO!$E$43=\"Non-endemic\",\" \", IF(COUNTRY_INFO!B23=0,\" \",COUNTRY_INFO!B23))","v":"Central"},{"$f":"IF(INTRO!$E$43=\"Non-endemic\",\" \", IF(COUNTRY_INFO!C23=0,\" \",COUNTRY_INFO!C23))","v":"Luwero"},{"$f":"IF(INTRO!$E$43=\"Non-endemic\", \"Not required\", COUNTRY_INFO!Y23)","v":0},{"$f":"IF(OR(COUNTRY_INFO!R23=\"Unknown\",COUNTRY_INFO!R23=\"Surveillance\",COUNTRY_INFO!R23=\"Not required\",COUNTRY_INFO!R23=0),0,IF($D23<>0, COUNTRY_INFO!R23,0))","v":0},{"$f":"IF(OR(COUNTRY_INFO!S23=\"Unknown\",COUNTRY_INFO!S23=\"Surveillance\",COUNTRY_INFO!S23=\"Not required\",COUNTRY_INFO!S23=0),0,IF($D23<>0, COUNTRY_INFO!S23,0))","v":0},{"$f":"IF(OR(COUNTRY_INFO!T23=\"Unknown\",COUNTRY_INFO!T23=\"Surveillance\",COUNTRY_INFO!T23=\"Not required\",COUNTRY_INFO!T23=0),0,IF($D23<>0, COUNTRY_INFO!T23,0))","v":0},0,null,null,null,null,null,{"$f":"IF($I23<>\"Yes\",$F23*2,($F23+ROUND(J23*$F23/SUM(COUNTRY_INFO!$E23:$G23),0))*2)","v":0},{"$f":"IF($I23<>\"Yes\",$G23*3,($G23+ROUND(J23*$G23/SUM(COUNTRY_INFO!$E23:$G23),0))*3)","v":0},0,null,0]
[{"$f":"IF(INTRO!$E$43=\"Non-endemic\",\" \", IF(COUNTRY_INFO!A24=0,\" \",COUNTRY_INFO!A24))","v":"Uganda"},{"$f":"IF(INTRO!$E$43=\"Non-endemic\",\" \", IF(COUNTRY_INFO!B24=0,\" \",COUNTRY_INFO!B24))","v":"Central"},{"$f":"IF(INTRO!$E$43=\"Non-endemic\",\" \", IF(COUNTRY_INFO!C24=0,\" \",COUNTRY_INFO!C24))","v":"Lwengo"},{"$f":"IF(INTRO!$E$43=\"Non-endemic\", \"Not required\", COUNTRY_INFO!Y24)","v":0},{"$f":"IF(OR(COUNTRY_INFO!R24=\"Unknown\",COUNTRY_INFO!R24=\"Surveillance\",COUNTRY_INFO!R24=\"Not required\",COUNTRY_INFO!R24=0),0,IF($D24<>0, COUNTRY_INFO!R24,0))","v":0},{"$f":"IF(OR(COUNTRY_INFO!S24=\"Unknown\",COUNTRY_INFO!S24=\"Surveillance\",COUNTRY_INFO!S24=\"Not required\",COUNTRY_INFO!S24=0),0,IF($D24<>0, COUNTRY_INFO!S24,0))","v":0},{"$f":"IF(OR(COUNTRY_INFO!T24=\"Unknown\",COUNTRY_INFO!T24=\"Surveillance\",COUNTRY_INFO!T24=\"Not required\",COUNTRY_INFO!T24=0),0,IF($D24<>0, COUNTRY_INFO!T24,0))","v":0},0,null,null,null,null,null,{"$f":"IF($I24<>\"Yes\",$F24*2,($F24+ROUND(J24*$F24/SUM(COUNTRY_INFO!$E24:$G24),0))*2)","v":0},{"$f":"IF($I24<>\"Yes\",$G24*3,($G24+ROUND(J24*$G24/SUM(COUNTRY_INFO!$E24:$G24),0))*3)","v":0},0,null,0]
[{"$f":"IF(INTRO!$E$43=\"Non-endemic\",\" \", IF(COUNTRY_INFO!A25=0,\" \",COUNTRY_INFO!A25))","v":"Uganda"},{"$f":"IF(INTRO!$E$43=\"Non-endemic\",\" \", IF(COUNTRY_INFO!B25=0,\" \",COUNTRY_INFO!B25))","v":"Central"},{"$f":"IF(INTRO!$E$43=\"Non-endemic\",\" \", IF(COUNTRY_INFO!C25=0,\" \",COUNTRY_INFO!C25))","v":"Lyantonde"},{"$f":"IF(INTRO!$E$43=\"Non-endemic\", \"Not required\", COUNTRY_INFO!Y25)","v":0},{"$f":"IF(OR(COUNTRY_INFO!R25=\"Unknown\",COUNTRY_INFO!R25=\"Surveillance\",COUNTRY_INFO!R25=\"Not required\",COUNTRY_INFO!R25=0),0,IF($D25<>0, COUNTRY_INFO!R25,0))","v":0},{"$f":"IF(OR(COUNTRY_INFO!S25=\"Unknown\",COUNTRY_INFO!S25=\"Surveillance\",COUNTRY_INFO!S25=\"Not required\",COUNTRY_INFO!S25=0),0,IF($D25<>0, COUNTRY_INFO!S25,0))","v":0},{"$f":"IF(OR(COUNTRY_INFO!T25=\"Unknown\",COUNTRY_INFO!T25=\"Surveillance\",COUNTRY_INFO!T25=\"Not required\",COUNTRY_INFO!T25=0),0,IF($D25<>0, COUNTRY_INFO!T25,0))","v":0},0,null,null,null,null,null,{"$f":"IF($I25<>\"Yes\",$F25*2,($F25+ROUND(J25*$F25/SUM(COUNTRY_INFO!$E25:$G25),0))*2)","v":0},{"$f":"IF($I25<>\"Yes\",$G25*3,($G25+ROUND(J25*$G25/SUM(COUNTRY_INFO!$E25:$G25),0))*3)","v":0},0,null,0]
[{"$f":"IF(INTRO!$E$43=\"Non-endemic\",\" \", IF(COUNTRY_INFO!A26=0,\" \",COUNTRY_INFO!A26))","v":"Uganda"},{"$f":"IF(INTRO!$E$43=\"Non-endemic\",\" \", IF(COUNTRY_INFO!B26=0,\" \",COUNTRY_INFO!B26))","v":"Central"},{"$f":"IF(INTRO!$E$43=\"Non-endemic\",\" \", IF(COUNTRY_INFO!C26=0,\" \",COUNTRY_INFO!C26))","v":"Masaka"},{"$f":"IF(INTRO!$E$43=\"Non-endemic\", \"Not required\", COUNTRY_INFO!Y26)","v":1},{"$f":"IF(OR(COUNTRY_INFO!R26=\"Unknown\",COUNTRY_INFO!R26=\"Surveillance\",COUNTRY_INFO!R26=\"Not required\",COUNTRY_INFO!R26=0),0,IF($D26<>0, COUNTRY_INFO!R26,0))","v":0},{"$f":"IF(OR(COUNTRY_INFO!S26=\"Unknown\",COUNTRY_INFO!S26=\"Surveillance\",COUNTRY_INFO!S26=\"Not required\",COUNTRY_INFO!S26=0),0,IF($D26<>0, COUNTRY_INFO!S26,0))","v":44225},{"$f":"IF(OR(COUNTRY_INFO!T26=\"Unknown\",COUNTRY_INFO!T26=\"Surveillance\",COUNTRY_INFO!T26=\"Not required\",COUNTRY_INFO!T26=0),0,IF($D26<>0, COUNTRY_INFO!T26,0))","v":135402},179627,null,null,1,"SAC",null,{"$f":"IF($I26<>\"Yes\",$F26*2,($F26+ROUND(J26*$F26/SUM(COUNTRY_INFO!$E26:$G26),0))*2)","v":88450},{"$f":"IF($I26<>\"Yes\",$G26*3,($G26+ROUND(J26*$G26/SUM(COUNTRY_INFO!$E26:$G26),0))*3)","v":406206},494656,0,494656]
[{"$f":"IF(INTRO!$E$43=\"Non-endemic\",\" \", IF(COUNTRY_INFO!A27=0,\" \",COUNTRY_INFO!A27))","v":"Uganda"},{"$f":"IF(INTRO!$E$43=\"Non-endemic\",\" \", IF(COUNTRY_INFO!B27=0,\" \",COUNTRY_INFO!B27))","v":"Central"},{"$f":"IF(INTRO!$E$43=\"Non-endemic\",\" \", IF(COUNTRY_INFO!C27=0,\" \",COUNTRY_INFO!C27))","v":"Masaka City"},{"$f":"IF(INTRO!$E$43=\"Non-endemic\", \"Not required\", COUNTRY_INFO!Y27)","v":0},{"$f":"IF(OR(COUNTRY_INFO!R27=\"Unknown\",COUNTRY_INFO!R27=\"Surveillance\",COUNTRY_INFO!R27=\"Not required\",COUNTRY_INFO!R27=0),0,IF($D27<>0, COUNTRY_INFO!R27,0))","v":0},{"$f":"IF(OR(COUNTRY_INFO!S27=\"Unknown\",COUNTRY_INFO!S27=\"Surveillance\",COUNTRY_INFO!S27=\"Not required\",COUNTRY_INFO!S27=0),0,IF($D27<>0, COUNTRY_INFO!S27,0))","v":0},{"$f":"IF(OR(COUNTRY_INFO!T27=\"Unknown\",COUNTRY_INFO!T27=\"Surveillance\",COUNTRY_INFO!T27=\"Not required\",COUNTRY_INFO!T27=0),0,IF($D27<>0, COUNTRY_INFO!T27,0))","v":0},0,null,null,null,null,null,{"$f":"IF($I27<>\"Yes\",$F27*2,($F27+ROUND(J27*$F27/SUM(COUNTRY_INFO!$E27:$G27),0))*2)","v":0},{"$f":"IF($I27<>\"Yes\",$G27*3,($G27+ROUND(J27*$G27/SUM(COUNTRY_INFO!$E27:$G27),0))*3)","v":0},0,null,0]
[{"$f":"IF(INTRO!$E$43=\"Non-endemic\",\" \", IF(COUNTRY_INFO!A28=0,\" \",COUNTRY_INFO!A28))","v":"Uganda"},{"$f":"IF(INTRO!$E$43=\"Non-endemic\",\" \", IF(COUNTRY_INFO!B28=0,\" \",COUNTRY_INFO!B28))","v":"Central"},{"$f":"IF(INTRO!$E$43=\"Non-endemic\",\" \", IF(COUNTRY_INFO!C28=0,\" \",COUNTRY_INFO!C28))","v":"Mityana"},{"$f":"IF(INTRO!$E$43=\"Non-endemic\", \"Not required\", COUNTRY_INFO!Y28)","v":1},{"$f":"IF(OR(COUNTRY_INFO!R28=\"Unknown\",COUNTRY_INFO!R28=\"Surveillance\",COUNTRY_INFO!R28=\"Not required\",COUNTRY_INFO!R28=0),0,IF($D28<>0, COUNTRY_INFO!R28,0))","v":0},{"$f":"IF(OR(COUNTRY_INFO!S28=\"Unknown\",COUNTRY_INFO!S28=\"Surveillance\",COUNTRY_INFO!S28=\"Not required\",COUNTRY_INFO!S28=0),0,IF($D28<>0, COUNTRY_INFO!S28,0))","v":16442},{"$f":"IF(OR(COUNTRY_INFO!T28=\"Unknown\",COUNTRY_INFO!T28=\"Surveillance\",COUNTRY_INFO!T28=\"Not required\",COUNTRY_INFO!T28=0),0,IF($D28<>0, COUNTRY_INFO!T28,0))","v":33001},49443,null,null,1,"SAC",null,{"$f":"IF($I28<>\"Yes\",$F28*2,($F28+ROUND(J28*$F28/SUM(COUNTRY_INFO!$E28:$G28),0))*2)","v":32884},{"$f":"IF($I28<>\"Yes\",$G28*3,($G28+ROUND(J28*$G28/SUM(COUNTRY_INFO!$E28:$G28),0))*3)","v":99003},131887,0,131887]
[{"$f":"IF(INTRO!$E$43=\"Non-endemic\",\" \", IF(COUNTRY_INFO!A29=0,\" \",COUNTRY_INFO!A29))","v":"Uganda"},{"$f":"IF(INTRO!$E$43=\"Non-endemic\",\" \", IF(COUNTRY_INFO!B29=0,\" \",COUNTRY_INFO!B29))","v":"Central"},{"$f":"IF(INTRO!$E$43=\"Non-endemic\",\" \", IF(COUNTRY_INFO!C29=0,\" \",COUNTRY_INFO!C29))","v":"Mpigi"},{"$f":"IF(INTRO!$E$43=\"Non-endemic\", \"Not required\", COUNTRY_INFO!Y29)","v":1},{"$f":"IF(OR(COUNTRY_INFO!R29=\"Unknown\",COUNTRY_INFO!R29=\"Surveillance\",COUNTRY_INFO!R29=\"Not required\",COUNTRY_INFO!R29=0),0,IF($D29<>0, COUNTRY_INFO!R29,0))","v":0},{"$f":"IF(OR(COUNTRY_INFO!S29=\"Unknown\",COUNTRY_INFO!S29=\"Surveillance\",COUNTRY_INFO!S29=\"Not required\",COUNTRY_INFO!S29=0),0,IF($D29<>0, COUNTRY_INFO!S29,0))","v":31547},{"$f":"IF(OR(COUNTRY_INFO!T29=\"Unknown\",COUNTRY_INFO!T29=\"Surveillance\",COUNTRY_INFO!T29=\"Not required\",COUNTRY_INFO!T29=0),0,IF($D29<>0, COUNTRY_INFO!T29,0))","v":35382},66929,null,null,1,"SAC",null,{"$f":"IF($I29<>\"Yes\",$F29*2,($F29+ROUND(J29*$F29/SUM(COUNTRY_INFO!$E29:$G29),0))*2)","v":63094},{"$f":"IF($I29<>\"Yes\",$G29*3,($G29+ROUND(J29*$G29/SUM(COUNTRY_INFO!$E29:$G29),0))*3)","v":106146},169240,0,169240]
[{"$f":"IF(INTRO!$E$43=\"Non-endemic\",\" \", IF(COUNTRY_INFO!A30=0,\" \",COUNTRY_INFO!A30))","v":"Uganda"},{"$f":"IF(INTRO!$E$43=\"Non-endemic\",\" \", IF(COUNTRY_INFO!B30=0,\" \",COUNTRY_INFO!B30))","v":"Central"},{"$f":"IF(INTRO!$E$43=\"Non-endemic\",\" \", IF(COUNTRY_INFO!C30=0,\" \",COUNTRY_INFO!C30))","v":"Mubende"},{"$f":"IF(INTRO!$E$43=\"Non-endemic\", \"Not required\", COUNTRY_INFO!Y30)","v":1},{"$f":"IF(OR(COUNTRY_INFO!R30=\"Unknown\",COUNTRY_INFO!R30=\"Surveillance\",COUNTRY_INFO!R30=\"Not required\",COUNTRY_INFO!R30=0),0,IF($D30<>0, COUNTRY_INFO!R30,0))","v":0},{"$f":"IF(OR(COUNTRY_INFO!S30=\"Unknown\",COUNTRY_INFO!S30=\"Surveillance\",COUNTRY_INFO!S30=\"Not required\",COUNTRY_INFO!S30=0),0,IF($D30<>0, COUNTRY_INFO!S30,0))","v":55642},{"$f":"IF(OR(COUNTRY_INFO!T30=\"Unknown\",COUNTRY_INFO!T30=\"Surveillance\",COUNTRY_INFO!T30=\"Not required\",COUNTRY_INFO!T30=0),0,IF($D30<>0, COUNTRY_INFO!T30,0))","v":0},55642,null,null,1,"SAC",null,{"$f":"IF($I30<>\"Yes\",$F30*2,($F30+ROUND(J30*$F30/SUM(COUNTRY_INFO!$E30:$G30),0))*2)","v":111284},{"$f":"IF($I30<>\"Yes\",$G30*3,($G30+ROUND(J30*$G30/SUM(COUNTRY_INFO!$E30:$G30),0))*3)","v":0},111284,0,111284]
[{"$f":"IF(INTRO!$E$43=\"Non-endemic\",\" \", IF(COUNTRY_INFO!A31=0,\" \",COUNTRY_INFO!A31))","v":"Uganda"},{"$f":"IF(INTRO!$E$43=\"Non-endemic\",\" \", IF(COUNTRY_INFO!B31=0,\" \",COUNTRY_INFO!B31))","v":"Central"},{"$f":"IF(INTRO!$E$43=\"Non-endemic\",\" \", IF(COUNTRY_INFO!C31=0,\" \",COUNTRY_INFO!C31))","v":"Mukono"},{"$f":"IF(INTRO!$E$43=\"Non-endemic\", \"Not required\", COUNTRY_INFO!Y31)","v":1},{"$f":"IF(OR(COUNTRY_INFO!R31=\"Unknown\",COUNTRY_INFO!R31=\"Surveillance\",COUNTRY_INFO!R31=\"Not required\",COUNTRY_INFO!R31=0),0,IF($D31<>0, COUNTRY_INFO!R31,0))","v":0},{"$f":"IF(OR(COUNTRY_INFO!S31=\"Unknown\",COUNTRY_INFO!S31=\"Surveillance\",COUNTRY_INFO!S31=\"Not required\",COUNTRY_INFO!S31=0),0,IF($D31<>0, COUNTRY_INFO!S31,0))","v":33881},{"$f":"IF(OR(COUNTRY_INFO!T31=\"Unknown\",COUNTRY_INFO!T31=\"Surveillance\",COUNTRY_INFO!T31=\"Not required\",COUNTRY_INFO!T31=0),0,IF($D31<>0, COUNTRY_INFO!T31,0))","v":30385},64266,null,null,1,"SAC",null,{"$f":"IF($I31<>\"Yes\",$F31*2,($F31+ROUND(J31*$F31/SUM(COUNTRY_INFO!$E31:$G31),0))*2)","v":67762},{"$f":"IF($I31<>\"Yes\",$G31*3,($G31+ROUND(J31*$G31/SUM(COUNTRY_INFO!$E31:$G31),0))*3)","v":91155},158917,0,158917]
[{"$f":"IF(INTRO!$E$43=\"Non-endemic\",\" \", IF(COUNTRY_INFO!A32=0,\" \",COUNTRY_INFO!A32))","v":"Uganda"},{"$f":"IF(INTRO!$E$43=\"Non-endemic\",\" \", IF(COUNTRY_INFO!B32=0,\" \",COUNTRY_INFO!B32))","v":"Central"},{"$f":"IF(INTRO!$E$43=\"Non-endemic\",\" \", IF(COUNTRY_INFO!C32=0,\" \",COUNTRY_INFO!C32))","v":"Nakaseke"},{"$f":"IF(INTRO!$E$43=\"Non-endemic\", \"Not required\", COUNTRY_INFO!Y32)","v":0},{"$f":"IF(OR(COUNTRY_INFO!R32=\"Unknown\",COUNTRY_INFO!R32=\"Surveillance\",COUNTRY_INFO!R32=\"Not required\",COUNTRY_INFO!R32=0),0,IF($D32<>0, COUNTRY_INFO!R32,0))","v":0},{"$f":"IF(OR(COUNTRY_INFO!S32=\"Unknown\",COUNTRY_INFO!S32=\"Surveillance\",COUNTRY_INFO!S32=\"Not required\",COUNTRY_INFO!S32=0),0,IF($D32<>0, COUNTRY_INFO!S32,0))","v":0},{"$f":"IF(OR(COUNTRY_INFO!T32=\"Unknown\",COUNTRY_INFO!T32=\"Surveillance\",COUNTRY_INFO!T32=\"Not required\",COUNTRY_INFO!T32=0),0,IF($D32<>0, COUNTRY_INFO!T32,0))","v":0},0,null,null,null,null,null,{"$f":"IF($I32<>\"Yes\",$F32*2,($F32+ROUND(J32*$F32/SUM(COUNTRY_INFO!$E32:$G32),0))*2)","v":0},{"$f":"IF($I32<>\"Yes\",$G32*3,($G32+ROUND(J32*$G32/SUM(COUNTRY_INFO!$E32:$G32),0))*3)","v":0},0,null,0]
[{"$f":"IF(INTRO!$E$43=\"Non-endemic\",\" \", IF(COUNTRY_INFO!A33=0,\" \",COUNTRY_INFO!A33))","v":"Uganda"},{"$f":"IF(INTRO!$E$43=\"Non-endemic\",\" \", IF(COUNTRY_INFO!B33=0,\" \",COUNTRY_INFO!B33))","v":"Central"},{"$f":"IF(INTRO!$E$43=\"Non-endemic\",\" \", IF(COUNTRY_INFO!C33=0,\" \",COUNTRY_INFO!C33))","v":"Nakasongola"},{"$f":"IF(INTRO!$E$43=\"Non-endemic\", \"Not required\", COUNTRY_INFO!Y33)","v":1},{"$f":"IF(OR(COUNTRY_INFO!R33=\"Unknown\",COUNTRY_INFO!R33=\"Surveillance\",COUNTRY_INFO!R33=\"Not required\",COUNTRY_INFO!R33=0),0,IF($D33<>0, COUNTRY_INFO!R33,0))","v":0},{"$f":"IF(OR(COUNTRY_INFO!S33=\"Unknown\",COUNTRY_INFO!S33=\"Surveillance\",COUNTRY_INFO!S33=\"Not required\",COUNTRY_INFO!S33=0),0,IF($D33<>0, COUNTRY_INFO!S33,0))","v":24470},{"$f":"IF(OR(COUNTRY_INFO!T33=\"Unknown\",COUNTRY_INFO!T33=\"Surveillance\",COUNTRY_INFO!T33=\"Not required\",COUNTRY_INFO!T33=0),0,IF($D33<>0, COUNTRY_INFO!T33,0))","v":0},24470,null,null,1,"SAC",null,{"$f":"IF($I33<>\"Yes\",$F33*2,($F33+ROUND(J33*$F33/SUM(COUNTRY_INFO!$E33:$G33),0))*2)","v":48940},{"$f":"IF($I33<>\"Yes\",$G33*3,($G33+ROUND(J33*$G33/SUM(COUNTRY_INFO!$E33:$G33),0))*3)","v":0},48940,0,48940]
[{"$f":"IF(INTRO!$E$43=\"Non-endemic\",\" \", IF(COUNTRY_INFO!A34=0,\" \",COUNTRY_INFO!A34))","v":"Uganda"},{"$f":"IF(INTRO!$E$43=\"Non-endemic\",\" \", IF(COUNTRY_INFO!B34=0,\" \",COUNTRY_INFO!B34))","v":"Central"},{"$f":"IF(INTRO!$E$43=\"Non-endemic\",\" \", IF(COUNTRY_INFO!C34=0,\" \",COUNTRY_INFO!C34))","v":"Rakai"},{"$f":"IF(INTRO!$E$43=\"Non-endemic\", \"Not required\", COUNTRY_INFO!Y34)","v":1},{"$f":"IF(OR(COUNTRY_INFO!R34=\"Unknown\",COUNTRY_INFO!R34=\"Surveillance\",COUNTRY_INFO!R34=\"Not required\",COUNTRY_INFO!R34=0),0,IF($D34<>0, COUNTRY_INFO!R34,0))","v":0},{"$f":"IF(OR(COUNTRY_INFO!S34=\"Unknown\",COUNTRY_INFO!S34=\"Surveillance\",COUNTRY_INFO!S34=\"Not required\",COUNTRY_INFO!S34=0),0,IF($D34<>0, COUNTRY_INFO!S34,0))","v":84713},{"$f":"IF(OR(COUNTRY_INFO!T34=\"Unknown\",COUNTRY_INFO!T34=\"Surveillance\",COUNTRY_INFO!T34=\"Not required\",COUNTRY_INFO!T34=0),0,IF($D34<>0, COUNTRY_INFO!T34,0))","v":50094},134807,null,null,1,"SAC",null,{"$f":"IF($I34<>\"Yes\",$F34*2,($F34+ROUND(J34*$F34/SUM(COUNTRY_INFO!$E34:$G34),0))*2)","v":169426},{"$f":"IF($I34<>\"Yes\",$G34*3,($G34+ROUND(J34*$G34/SUM(COUNTRY_INFO!$E34:$G34),0))*3)","v":150282},319708,0,319708]
[{"$f":"IF(INTRO!$E$43=\"Non-endemic\",\" \", IF(COUNTRY_INFO!A35=0,\" \",COUNTRY_INFO!A35))","v":"Uganda"},{"$f":"IF(INTRO!$E$43=\"Non-endemic\",\" \", IF(COUNTRY_INFO!B35=0,\" \",COUNTRY_INFO!B35))","v":"Central"},{"$f":"IF(INTRO!$E$43=\"Non-endemic\",\" \", IF(COUNTRY_INFO!C35=0,\" \",COUNTRY_INFO!C35))","v":"Sembabule"},{"$f":"IF(INTRO!$E$43=\"Non-endemic\", \"Not required\", COUNTRY_INFO!Y35)","v":0},{"$f":"IF(OR(COUNTRY_INFO!R35=\"Unknown\",COUNTRY_INFO!R35=\"Surveillance\",COUNTRY_INFO!R35=\"Not required\",COUNTRY_INFO!R35=0),0,IF($D35<>0, COUNTRY_INFO!R35,0))","v":0},{"$f":"IF(OR(COUNTRY_INFO!S35=\"Unknown\",COUNTRY_INFO!S35=\"Surveillance\",COUNTRY_INFO!S35=\"Not required\",COUNTRY_INFO!S35=0),0,IF($D35<>0, COUNTRY_INFO!S35,0))","v":0},{"$f":"IF(OR(COUNTRY_INFO!T35=\"Unknown\",COUNTRY_INFO!T35=\"Surveillance\",COUNTRY_INFO!T35=\"Not required\",COUNTRY_INFO!T35=0),0,IF($D35<>0, COUNTRY_INFO!T35,0))","v":0},0,null,null,null,null,null,{"$f":"IF($I35<>\"Yes\",$F35*2,($F35+ROUND(J35*$F35/SUM(COUNTRY_INFO!$E35:$G35),0))*2)","v":0},{"$f":"IF($I35<>\"Yes\",$G35*3,($G35+ROUND(J35*$G35/SUM(COUNTRY_INFO!$E35:$G35),0))*3)","v":0},0,null,0]
[{"$f":"IF(INTRO!$E$43=\"Non-endemic\",\" \", IF(COUNTRY_INFO!A36=0,\" \",COUNTRY_INFO!A36))","v":"Uganda"},{"$f":"IF(INTRO!$E$43=\"Non-endemic\",\" \", IF(COUNTRY_INFO!B36=0,\" \",COUNTRY_INFO!B36))","v":"Central"},{"$f":"IF(INTRO!$E$43=\"Non-endemic\",\" \", IF(COUNTRY_INFO!C36=0,\" \",COUNTRY_INFO!C36))","v":"Wakiso"},{"$f":"IF(INTRO!$E$43=\"Non-endemic\", \"Not required\", COUNTRY_INFO!Y36)","v":1},{"$f":"IF(OR(COUNTRY_INFO!R36=\"Unknown\",COUNTRY_INFO!R36=\"Surveillance\",COUNTRY_INFO!R36=\"Not required\",COUNTRY_INFO!R36=0),0,IF($D36<>0, COUNTRY_INFO!R36,0))","v":0},{"$f":"IF(OR(COUNTRY_INFO!S36=\"Unknown\",COUNTRY_INFO!S36=\"Surveillance\",COUNTRY_INFO!S36=\"Not required\",COUNTRY_INFO!S36=0),0,IF($D36<>0, COUNTRY_INFO!S36,0))","v":152545},{"$f":"IF(OR(COUNTRY_INFO!T36=\"Unknown\",COUNTRY_INFO!T36=\"Surveillance\",COUNTRY_INFO!T36=\"Not required\",COUNTRY_INFO!T36=0),0,IF($D36<>0, COUNTRY_INFO!T36,0))","v":152182},304727,null,null,1,"SAC",null,{"$f":"IF($I36<>\"Yes\",$F36*2,($F36+ROUND(J36*$F36/SUM(COUNTRY_INFO!$E36:$G36),0))*2)","v":305090},{"$f":"IF($I36<>\"Yes\",$G36*3,($G36+ROUND(J36*$G36/SUM(COUNTRY_INFO!$E36:$G36),0))*3)","v":456546},761636,0,761636]
[{"$f":"IF(INTRO!$E$43=\"Non-endemic\",\" \", IF(COUNTRY_INFO!A37=0,\" \",COUNTRY_INFO!A37))","v":"Uganda"},{"$f":"IF(INTRO!$E$43=\"Non-endemic\",\" \", IF(COUNTRY_INFO!B37=0,\" \",COUNTRY_INFO!B37))","v":"Eastern"},{"$f":"IF(INTRO!$E$43=\"Non-endemic\",\" \", IF(COUNTRY_INFO!C37=0,\" \",COUNTRY_INFO!C37))","v":"Amuria"},{"$f":"IF(INTRO!$E$43=\"Non-endemic\", \"Not required\", COUNTRY_INFO!Y37)","v":0},{"$f":"IF(OR(COUNTRY_INFO!R37=\"Unknown\",COUNTRY_INFO!R37=\"Surveillance\",COUNTRY_INFO!R37=\"Not required\",COUNTRY_INFO!R37=0),0,IF($D37<>0, COUNTRY_INFO!R37,0))","v":0},{"$f":"IF(OR(COUNTRY_INFO!S37=\"Unknown\",COUNTRY_INFO!S37=\"Surveillance\",COUNTRY_INFO!S37=\"Not required\",COUNTRY_INFO!S37=0),0,IF($D37<>0, COUNTRY_INFO!S37,0))","v":0},{"$f":"IF(OR(COUNTRY_INFO!T37=\"Unknown\",COUNTRY_INFO!T37=\"Surveillance\",COUNTRY_INFO!T37=\"Not required\",COUNTRY_INFO!T37=0),0,IF($D37<>0, COUNTRY_INFO!T37,0))","v":0},0,null,null,null,null,null,{"$f":"IF($I37<>\"Yes\",$F37*2,($F37+ROUND(J37*$F37/SUM(COUNTRY_INFO!$E37:$G37),0))*2)","v":0},{"$f":"IF($I37<>\"Yes\",$G37*3,($G37+ROUND(J37*$G37/SUM(COUNTRY_INFO!$E37:$G37),0))*3)","v":0},0,null,0]
[{"$f":"IF(INTRO!$E$43=\"Non-endemic\",\" \", IF(COUNTRY_INFO!A38=0,\" \",COUNTRY_INFO!A38))","v":"Uganda"},{"$f":"IF(INTRO!$E$43=\"Non-endemic\",\" \", IF(COUNTRY_INFO!B38=0,\" \",COUNTRY_INFO!B38))","v":"Eastern"},{"$f":"IF(INTRO!$E$43=\"Non-endemic\",\" \", IF(COUNTRY_INFO!C38=0,\" \",COUNTRY_INFO!C38))","v":"Budaka"},{"$f":"IF(INTRO!$E$43=\"Non-endemic\", \"Not required\", COUNTRY_INFO!Y38)","v":1},{"$f":"IF(OR(COUNTRY_INFO!R38=\"Unknown\",COUNTRY_INFO!R38=\"Surveillance\",COUNTRY_INFO!R38=\"Not required\",COUNTRY_INFO!R38=0),0,IF($D38<>0, COUNTRY_INFO!R38,0))","v":0},{"$f":"IF(OR(COUNTRY_INFO!S38=\"Unknown\",COUNTRY_INFO!S38=\"Surveillance\",COUNTRY_INFO!S38=\"Not required\",COUNTRY_INFO!S38=0),0,IF($D38<>0, COUNTRY_INFO!S38,0))","v":80440},{"$f":"IF(OR(COUNTRY_INFO!T38=\"Unknown\",COUNTRY_INFO!T38=\"Surveillance\",COUNTRY_INFO!T38=\"Not required\",COUNTRY_INFO!T38=0),0,IF($D38<>0, COUNTRY_INFO!T38,0))","v":29322},109762,null,null,1,"SAC",null,{"$f":"IF($I38<>\"Yes\",$F38*2,($F38+ROUND(J38*$F38/SUM(COUNTRY_INFO!$E38:$G38),0))*2)","v":160880},{"$f":"IF($I38<>\"Yes\",$G38*3,($G38+ROUND(J38*$G38/SUM(COUNTRY_INFO!$E38:$G38),0))*3)","v":87966},248846,0,248846]
[{"$f":"IF(INTRO!$E$43=\"Non-endemic\",\" \", IF(COUNTRY_INFO!A39=0,\" \",COUNTRY_INFO!A39))","v":"Uganda"},{"$f":"IF(INTRO!$E$43=\"Non-endemic\",\" \", IF(COUNTRY_INFO!B39=0,\" \",COUNTRY_INFO!B39))","v":"Eastern"},{"$f":"IF(INTRO!$E$43=\"Non-endemic\",\" \", IF(COUNTRY_INFO!C39=0,\" \",COUNTRY_INFO!C39))","v":"Bududa"},{"$f":"IF(INTRO!$E$43=\"Non-endemic\", \"Not required\", COUNTRY_INFO!Y39)","v":0},{"$f":"IF(OR(COUNTRY_INFO!R39=\"Unknown\",COUNTRY_INFO!R39=\"Surveillance\",COUNTRY_INFO!R39=\"Not required\",COUNTRY_INFO!R39=0),0,IF($D39<>0, COUNTRY_INFO!R39,0))","v":0},{"$f":"IF(OR(COUNTRY_INFO!S39=\"Unknown\",COUNTRY_INFO!S39=\"Surveillance\",COUNTRY_INFO!S39=\"Not required\",COUNTRY_INFO!S39=0),0,IF($D39<>0, COUNTRY_INFO!S39,0))","v":0},{"$f":"IF(OR(COUNTRY_INFO!T39=\"Unknown\",COUNTRY_INFO!T39=\"Surveillance\",COUNTRY_INFO!T39=\"Not required\",COUNTRY_INFO!T39=0),0,IF($D39<>0, COUNTRY_INFO!T39,0))","v":0},0,null,null,null,null,null,{"$f":"IF($I39<>\"Yes\",$F39*2,($F39+ROUND(J39*$F39/SUM(COUNTRY_INFO!$E39:$G39),0))*2)","v":0},{"$f":"IF($I39<>\"Yes\",$G39*3,($G39+ROUND(J39*$G39/SUM(COUNTRY_INFO!$E39:$G39),0))*3)","v":0},0,null,0]
[{"$f":"IF(INTRO!$E$43=\"Non-endemic\",\" \", IF(COUNTRY_INFO!A40=0,\" \",COUNTRY_INFO!A40))","v":"Uganda"},{"$f":"IF(INTRO!$E$43=\"Non-endemic\",\" \", IF(COUNTRY_INFO!B40=0,\" \",COUNTRY_INFO!B40))","v":"Eastern"},{"$f":"IF(INTRO!$E$43=\"Non-endemic\",\" \", IF(COUNTRY_INFO!C40=0,\" \",COUNTRY_INFO!C40))","v":"Bugiri"},{"$f":"IF(INTRO!$E$43=\"Non-endemic\", \"Not required\", COUNTRY_INFO!Y40)","v":1},{"$f":"IF(OR(COUNTRY_INFO!R40=\"Unknown\",COUNTRY_INFO!R40=\"Surveillance\",COUNTRY_INFO!R40=\"Not required\",COUNTRY_INFO!R40=0),0,IF($D40<>0, COUNTRY_INFO!R40,0))","v":0},{"$f":"IF(OR(COUNTRY_INFO!S40=\"Unknown\",COUNTRY_INFO!S40=\"Surveillance\",COUNTRY_INFO!S40=\"Not required\",COUNTRY_INFO!S40=0),0,IF($D40<>0, COUNTRY_INFO!S40,0))","v":40178},{"$f":"IF(OR(COUNTRY_INFO!T40=\"Unknown\",COUNTRY_INFO!T40=\"Surveillance\",COUNTRY_INFO!T40=\"Not required\",COUNTRY_INFO!T40=0),0,IF($D40<>0, COUNTRY_INFO!T40,0))","v":54875},95053,null,null,1,"SAC",null,{"$f":"IF($I40<>\"Yes\",$F40*2,($F40+ROUND(J40*$F40/SUM(COUNTRY_INFO!$E40:$G40),0))*2)","v":80356},{"$f":"IF($I40<>\"Yes\",$G40*3,($G40+ROUND(J40*$G40/SUM(COUNTRY_INFO!$E40:$G40),0))*3)","v":164625},244981,0,244981]
[{"$f":"IF(INTRO!$E$43=\"Non-endemic\",\" \", IF(COUNTRY_INFO!A41=0,\" \",COUNTRY_INFO!A41))","v":"Uganda"},{"$f":"IF(INTRO!$E$43=\"Non-endemic\",\" \", IF(COUNTRY_INFO!B41=0,\" \",COUNTRY_INFO!B41))","v":"Eastern"},{"$f":"IF(INTRO!$E$43=\"Non-endemic\",\" \", IF(COUNTRY_INFO!C41=0,\" \",COUNTRY_INFO!C41))","v":"Bugweri"},{"$f":"IF(INTRO!$E$43=\"Non-endemic\", \"Not required\", COUNTRY_INFO!Y41)","v":1},{"$f":"IF(OR(COUNTRY_INFO!R41=\"Unknown\",COUNTRY_INFO!R41=\"Surveillance\",COUNTRY_INFO!R41=\"Not required\",COUNTRY_INFO!R41=0),0,IF($D41<>0, COUNTRY_INFO!R41,0))","v":0},{"$f":"IF(OR(COUNTRY_INFO!S41=\"Unknown\",COUNTRY_INFO!S41=\"Surveillance\",COUNTRY_INFO!S41=\"Not required\",COUNTRY_INFO!S41=0),0,IF($D41<>0, COUNTRY_INFO!S41,0))","v":22721},{"$f":"IF(OR(COUNTRY_INFO!T41=\"Unknown\",COUNTRY_INFO!T41=\"Surveillance\",COUNTRY_INFO!T41=\"Not required\",COUNTRY_INFO!T41=0),0,IF($D41<>0, COUNTRY_INFO!T41,0))","v":0},22721,null,null,1,"SAC",null,{"$f":"IF($I41<>\"Yes\",$F41*2,($F41+ROUND(J41*$F41/SUM(COUNTRY_INFO!$E41:$G41),0))*2)","v":45442},{"$f":"IF($I41<>\"Yes\",$G41*3,($G41+ROUND(J41*$G41/SUM(COUNTRY_INFO!$E41:$G41),0))*3)","v":0},45442,0,45442]
[{"$f":"IF(INTRO!$E$43=\"Non-endemic\",\" \", IF(COUNTRY_INFO!A42=0,\" \",COUNTRY_INFO!A42))","v":"Uganda"},{"$f":"IF(INTRO!$E$43=\"Non-endemic\",\" \", IF(COUNTRY_INFO!B42=0,\" \",COUNTRY_INFO!B42))","v":"Eastern"},{"$f":"IF(INTRO!$E$43=\"Non-endemic\",\" \", IF(COUNTRY_INFO!C42=0,\" \",COUNTRY_INFO!C42))","v":"Bukedea"},{"$f":"IF(INTRO!$E$43=\"Non-endemic\", \"Not required\", COUNTRY_INFO!Y42)","v":1},{"$f":"IF(OR(COUNTRY_INFO!R42=\"Unknown\",COUNTRY_INFO!R42=\"Surveillance\",COUNTRY_INFO!R42=\"Not required\",COUNTRY_INFO!R42=0),0,IF($D42<>0, COUNTRY_INFO!R42,0))","v":0},{"$f":"IF(OR(COUNTRY_INFO!S42=\"Unknown\",COUNTRY_INFO!S42=\"Surveillance\",COUNTRY_INFO!S42=\"Not required\",COUNTRY_INFO!S42=0),0,IF($D42<>0, COUNTRY_INFO!S42,0))","v":25418},{"$f":"IF(OR(COUNTRY_INFO!T42=\"Unknown\",COUNTRY_INFO!T42=\"Surveillance\",COUNTRY_INFO!T42=\"Not required\",COUNTRY_INFO!T42=0),0,IF($D42<>0, COUNTRY_INFO!T42,0))","v":0},25418,null,null,1,"SAC",null,{"$f":"IF($I42<>\"Yes\",$F42*2,($F42+ROUND(J42*$F42/SUM(COUNTRY_INFO!$E42:$G42),0))*2)","v":50836},{"$f":"IF($I42<>\"Yes\",$G42*3,($G42+ROUND(J42*$G42/SUM(COUNTRY_INFO!$E42:$G42),0))*3)","v":0},50836,0,50836]
[{"$f":"IF(INTRO!$E$43=\"Non-endemic\",\" \", IF(COUNTRY_INFO!A43=0,\" \",COUNTRY_INFO!A43))","v":"Uganda"},{"$f":"IF(INTRO!$E$43=\"Non-endemic\",\" \", IF(COUNTRY_INFO!B43=0,\" \",COUNTRY_INFO!B43))","v":"Eastern"},{"$f":"IF(INTRO!$E$43=\"Non-endemic\",\" \", IF(COUNTRY_INFO!C43=0,\" \",COUNTRY_INFO!C43))","v":"Bukwo"},{"$f":"IF(INTRO!$E$43=\"Non-endemic\", \"Not required\", COUNTRY_INFO!Y43)","v":0},{"$f":"IF(OR(COUNTRY_INFO!R43=\"Unknown\",COUNTRY_INFO!R43=\"Surveillance\",COUNTRY_INFO!R43=\"Not required\",COUNTRY_INFO!R43=0),0,IF($D43<>0, COUNTRY_INFO!R43,0))","v":0},{"$f":"IF(OR(COUNTRY_INFO!S43=\"Unknown\",COUNTRY_INFO!S43=\"Surveillance\",COUNTRY_INFO!S43=\"Not required\",COUNTRY_INFO!S43=0),0,IF($D43<>0, COUNTRY_INFO!S43,0))","v":0},{"$f":"IF(OR(COUNTRY_INFO!T43=\"Unknown\",COUNTRY_INFO!T43=\"Surveillance\",COUNTRY_INFO!T43=\"Not required\",COUNTRY_INFO!T43=0),0,IF($D43<>0, COUNTRY_INFO!T43,0))","v":0},0,null,null,null,null,null,{"$f":"IF($I43<>\"Yes\",$F43*2,($F43+ROUND(J43*$F43/SUM(COUNTRY_INFO!$E43:$G43),0))*2)","v":0},{"$f":"IF($I43<>\"Yes\",$G43*3,($G43+ROUND(J43*$G43/SUM(COUNTRY_INFO!$E43:$G43),0))*3)","v":0},0,null,0]
[{"$f":"IF(INTRO!$E$43=\"Non-endemic\",\" \", IF(COUNTRY_INFO!A44=0,\" \",COUNTRY_INFO!A44))","v":"Uganda"},{"$f":"IF(INTRO!$E$43=\"Non-endemic\",\" \", IF(COUNTRY_INFO!B44=0,\" \",COUNTRY_INFO!B44))","v":"Eastern"},{"$f":"IF(INTRO!$E$43=\"Non-endemic\",\" \", IF(COUNTRY_INFO!C44=0,\" \",COUNTRY_INFO!C44))","v":"Bulambuli"},{"$f":"IF(INTRO!$E$43=\"Non-endemic\", \"Not required\", COUNTRY_INFO!Y44)","v":1},{"$f":"IF(OR(COUNTRY_INFO!R44=\"Unknown\",COUNTRY_INFO!R44=\"Surveillance\",COUNTRY_INFO!R44=\"Not required\",COUNTRY_INFO!R44=0),0,IF($D44<>0, COUNTRY_INFO!R44,0))","v":0},{"$f":"IF(OR(COUNTRY_INFO!S44=\"Unknown\",COUNTRY_INFO!S44=\"Surveillance\",COUNTRY_INFO!S44=\"Not required\",COUNTRY_INFO!S44=0),0,IF($D44<>0, COUNTRY_INFO!S44,0))","v":23858},{"$f":"IF(OR(COUNTRY_INFO!T44=\"Unknown\",COUNTRY_INFO!T44=\"Surveillance\",COUNTRY_INFO!T44=\"Not required\",COUNTRY_INFO!T44=0),0,IF($D44<>0, COUNTRY_INFO!T44,0))","v":0},23858,null,null,1,"SAC",null,{"$f":"IF($I44<>\"Yes\",$F44*2,($F44+ROUND(J44*$F44/SUM(COUNTRY_INFO!$E44:$G44),0))*2)","v":47716},{"$f":"IF($I44<>\"Yes\",$G44*3,($G44+ROUND(J44*$G44/SUM(COUNTRY_INFO!$E44:$G44),0))*3)","v":0},47716,0,47716]
[{"$f":"IF(INTRO!$E$43=\"Non-endemic\",\" \", IF(COUNTRY_INFO!A45=0,\" \",COUNTRY_INFO!A45))","v":"Uganda"},{"$f":"IF(INTRO!$E$43=\"Non-endemic\",\" \", IF(COUNTRY_INFO!B45=0,\" \",COUNTRY_INFO!B45))","v":"Eastern"},{"$f":"IF(INTRO!$E$43=\"Non-endemic\",\" \", IF(COUNTRY_INFO!C45=0,\" \",COUNTRY_INFO!C45))","v":"Busia"},{"$f":"IF(INTRO!$E$43=\"Non-endemic\", \"Not required\", COUNTRY_INFO!Y45)","v":1},{"$f":"IF(OR(COUNTRY_INFO!R45=\"Unknown\",COUNTRY_INFO!R45=\"Surveillance\",COUNTRY_INFO!R45=\"Not required\",COUNTRY_INFO!R45=0),0,IF($D45<>0, COUNTRY_INFO!R45,0))","v":0},{"$f":"IF(OR(COUNTRY_INFO!S45=\"Unknown\",COUNTRY_INFO!S45=\"Surveillance\",COUNTRY_INFO!S45=\"Not required\",COUNTRY_INFO!S45=0),0,IF($D45<>0, COUNTRY_INFO!S45,0))","v":42578},{"$f":"IF(OR(COUNTRY_INFO!T45=\"Unknown\",COUNTRY_INFO!T45=\"Surveillance\",COUNTRY_INFO!T45=\"Not required\",COUNTRY_INFO!T45=0),0,IF($D45<>0, COUNTRY_INFO!T45,0))","v":228592},271170,null,null,1,"SAC",null,{"$f":"IF($I45<>\"Yes\",$F45*2,($F45+ROUND(J45*$F45/SUM(COUNTRY_INFO!$E45:$G45),0))*2)","v":85156},{"$f":"IF($I45<>\"Yes\",$G45*3,($G45+ROUND(J45*$G45/SUM(COUNTRY_INFO!$E45:$G45),0))*3)","v":685776},770932,0,770932]
[{"$f":"IF(INTRO!$E$43=\"Non-endemic\",\" \", IF(COUNTRY_INFO!A46=0,\" \",COUNTRY_INFO!A46))","v":"Uganda"},{"$f":"IF(INTRO!$E$43=\"Non-endemic\",\" \", IF(COUNTRY_INFO!B46=0,\" \",COUNTRY_INFO!B46))","v":"Eastern"},{"$f":"IF(INTRO!$E$43=\"Non-endemic\",\" \", IF(COUNTRY_INFO!C46=0,\" \",COUNTRY_INFO!C46))","v":"Butaleja"},{"$f":"IF(INTRO!$E$43=\"Non-endemic\", \"Not required\", COUNTRY_INFO!Y46)","v":1},{"$f":"IF(OR(COUNTRY_INFO!R46=\"Unknown\",COUNTRY_INFO!R46=\"Surveillance\",COUNTRY_INFO!R46=\"Not required\",COUNTRY_INFO!R46=0),0,IF($D46<>0, COUNTRY_INFO!R46,0))","v":0},{"$f":"IF(OR(COUNTRY_INFO!S46=\"Unknown\",COUNTRY_INFO!S46=\"Surveillance\",COUNTRY_INFO!S46=\"Not required\",COUNTRY_INFO!S46=0),0,IF($D46<>0, COUNTRY_INFO!S46,0))","v":92190},{"$f":"IF(OR(COUNTRY_INFO!T46=\"Unknown\",COUNTRY_INFO!T46=\"Surveillance\",COUNTRY_INFO!T46=\"Not required\",COUNTRY_INFO!T46=0),0,IF($D46<>0, COUNTRY_INFO!T46,0))","v":172659},264849,null,null,1,"SAC",null,{"$f":"IF($I46<>\"Yes\",$F46*2,($F46+ROUND(J46*$F46/SUM(COUNTRY_INFO!$E46:$G46),0))*2)","v":184380},{"$f":"IF($I46<>\"Yes\",$G46*3,($G46+ROUND(J46*$G46/SUM(COUNTRY_INFO!$E46:$G46),0))*3)","v":517977},702357,0,702357]
[{"$f":"IF(INTRO!$E$43=\"Non-endemic\",\" \", IF(COUNTRY_INFO!A47=0,\" \",COUNTRY_INFO!A47))","v":"Uganda"},{"$f":"IF(INTRO!$E$43=\"Non-endemic\",\" \", IF(COUNTRY_INFO!B47=0,\" \",COUNTRY_INFO!B47))","v":"Eastern"},{"$f":"IF(INTRO!$E$43=\"Non-endemic\",\" \", IF(COUNTRY_INFO!C47=0,\" \",COUNTRY_INFO!C47))","v":"Butebo"},{"$f":"IF(INTRO!$E$43=\"Non-endemic\", \"Not required\", COUNTRY_INFO!Y47)","v":1},{"$f":"IF(OR(COUNTRY_INFO!R47=\"Unknown\",COUNTRY_INFO!R47=\"Surveillance\",COUNTRY_INFO!R47=\"Not required\",COUNTRY_INFO!R47=0),0,IF($D47<>0, COUNTRY_INFO!R47,0))","v":0},{"$f":"IF(OR(COUNTRY_INFO!S47=\"Unknown\",COUNTRY_INFO!S47=\"Surveillance\",COUNTRY_INFO!S47=\"Not required\",COUNTRY_INFO!S47=0),0,IF($D47<>0, COUNTRY_INFO!S47,0))","v":44784},{"$f":"IF(OR(COUNTRY_INFO!T47=\"Unknown\",COUNTRY_INFO!T47=\"Surveillance\",COUNTRY_INFO!T47=\"Not required\",COUNTRY_INFO!T47=0),0,IF($D47<>0, COUNTRY_INFO!T47,0))","v":20297},65081,null,null,1,"SAC",null,{"$f":"IF($I47<>\"Yes\",$F47*2,($F47+ROUND(J47*$F47/SUM(COUNTRY_INFO!$E47:$G47),0))*2)","v":89568},{"$f":"IF($I47<>\"Yes\",$G47*3,($G47+ROUND(J47*$G47/SUM(COUNTRY_INFO!$E47:$G47),0))*3)","v":60891},150459,0,150459]
[{"$f":"IF(INTRO!$E$43=\"Non-endemic\",\" \", IF(COUNTRY_INFO!A48=0,\" \",COUNTRY_INFO!A48))","v":"Uganda"},{"$f":"IF(INTRO!$E$43=\"Non-endemic\",\" \", IF(COUNTRY_INFO!B48=0,\" \",COUNTRY_INFO!B48))","v":"Eastern"},{"$f":"IF(INTRO!$E$43=\"Non-endemic\",\" \", IF(COUNTRY_INFO!C48=0,\" \",COUNTRY_INFO!C48))","v":"Buyende"},{"$f":"IF(INTRO!$E$43=\"Non-endemic\", \"Not required\", COUNTRY_INFO!Y48)","v":1},{"$f":"IF(OR(COUNTRY_INFO!R48=\"Unknown\",COUNTRY_INFO!R48=\"Surveillance\",COUNTRY_INFO!R48=\"Not required\",COUNTRY_INFO!R48=0),0,IF($D48<>0, COUNTRY_INFO!R48,0))","v":0},{"$f":"IF(OR(COUNTRY_INFO!S48=\"Unknown\",COUNTRY_INFO!S48=\"Surveillance\",COUNTRY_INFO!S48=\"Not required\",COUNTRY_INFO!S48=0),0,IF($D48<>0, COUNTRY_INFO!S48,0))","v":130445},{"$f":"IF(OR(COUNTRY_INFO!T48=\"Unknown\",COUNTRY_INFO!T48=\"Surveillance\",COUNTRY_INFO!T48=\"Not required\",COUNTRY_INFO!T48=0),0,IF($D48<>0, COUNTRY_INFO!T48,0))","v":225039},355484,null,null,1,"SAC",null,{"$f":"IF($I48<>\"Yes\",$F48*2,($F48+ROUND(J48*$F48/SUM(COUNTRY_INFO!$E48:$G48),0))*2)","v":260890},{"$f":"IF($I48<>\"Yes\",$G48*3,($G48+ROUND(J48*$G48/SUM(COUNTRY_INFO!$E48:$G48),0))*3)","v":675117},936007,0,936007]
[{"$f":"IF(INTRO!$E$43=\"Non-endemic\",\" \", IF(COUNTRY_INFO!A49=0,\" \",COUNTRY_INFO!A49))","v":"Uganda"},{"$f":"IF(INTRO!$E$43=\"Non-endemic\",\" \", IF(COUNTRY_INFO!B49=0,\" \",COUNTRY_INFO!B49))","v":"Eastern"},{"$f":"IF(INTRO!$E$43=\"Non-endemic\",\" \", IF(COUNTRY_INFO!C49=0,\" \",COUNTRY_INFO!C49))","v":"Iganga"},{"$f":"IF(INTRO!$E$43=\"Non-endemic\", \"Not required\", COUNTRY_INFO!Y49)","v":1},{"$f":"IF(OR(COUNTRY_INFO!R49=\"Unknown\",COUNTRY_INFO!R49=\"Surveillance\",COUNTRY_INFO!R49=\"Not required\",COUNTRY_INFO!R49=0),0,IF($D49<>0, COUNTRY_INFO!R49,0))","v":0},{"$f":"IF(OR(COUNTRY_INFO!S49=\"Unknown\",COUNTRY_INFO!S49=\"Surveillance\",COUNTRY_INFO!S49=\"Not required\",COUNTRY_INFO!S49=0),0,IF($D49<>0, COUNTRY_INFO!S49,0))","v":122886},{"$f":"IF(OR(COUNTRY_INFO!T49=\"Unknown\",COUNTRY_INFO!T49=\"Surveillance\",COUNTRY_INFO!T49=\"Not required\",COUNTRY_INFO!T49=0),0,IF($D49<>0, COUNTRY_INFO!T49,0))","v":0},122886,null,null,1,"SAC",null,{"$f":"IF($I49<>\"Yes\",$F49*2,($F49+ROUND(J49*$F49/SUM(COUNTRY_INFO!$E49:$G49),0))*2)","v":245772},{"$f":"IF($I49<>\"Yes\",$G49*3,($G49+ROUND(J49*$G49/SUM(COUNTRY_INFO!$E49:$G49),0))*3)","v":0},245772,0,245772]
[{"$f":"IF(INTRO!$E$43=\"Non-endemic\",\" \", IF(COUNTRY_INFO!A50=0,\" \",COUNTRY_INFO!A50))","v":"Uganda"},{"$f":"IF(INTRO!$E$43=\"Non-endemic\",\" \", IF(COUNTRY_INFO!B50=0,\" \",COUNTRY_INFO!B50))","v":"Eastern"},{"$f":"IF(INTRO!$E$43=\"Non-endemic\",\" \", IF(COUNTRY_INFO!C50=0,\" \",COUNTRY_INFO!C50))","v":"Jinja"},{"$f":"IF(INTRO!$E$43=\"Non-endemic\", \"Not required\", COUNTRY_INFO!Y50)","v":1},{"$f":"IF(OR(COUNTRY_INFO!R50=\"Unknown\",COUNTRY_INFO!R50=\"Surveillance\",COUNTRY_INFO!R50=\"Not required\",COUNTRY_INFO!R50=0),0,IF($D50<>0, COUNTRY_INFO!R50,0))","v":0},{"$f":"IF(OR(COUNTRY_INFO!S50=\"Unknown\",COUNTRY_INFO!S50=\"Surveillance\",COUNTRY_INFO!S50=\"Not required\",COUNTRY_INFO!S50=0),0,IF($D50<>0, COUNTRY_INFO!S50,0))","v":83908},{"$f":"IF(OR(COUNTRY_INFO!T50=\"Unknown\",COUNTRY_INFO!T50=\"Surveillance\",COUNTRY_INFO!T50=\"Not required\",COUNTRY_INFO!T50=0),0,IF($D50<>0, COUNTRY_INFO!T50,0))","v":144755},228663,null,null,1,"SAC",null,{"$f":"IF($I50<>\"Yes\",$F50*2,($F50+ROUND(J50*$F50/SUM(COUNTRY_INFO!$E50:$G50),0))*2)","v":167816},{"$f":"IF($I50<>\"Yes\",$G50*3,($G50+ROUND(J50*$G50/SUM(COUNTRY_INFO!$E50:$G50),0))*3)","v":434265},602081,0,602081]
[{"$f":"IF(INTRO!$E$43=\"Non-endemic\",\" \", IF(COUNTRY_INFO!A51=0,\" \",COUNTRY_INFO!A51))","v":"Uganda"},{"$f":"IF(INTRO!$E$43=\"Non-endemic\",\" \", IF(COUNTRY_INFO!B51=0,\" \",COUNTRY_INFO!B51))","v":"Eastern"},{"$f":"IF(INTRO!$E$43=\"Non-endemic\",\" \", IF(COUNTRY_INFO!C51=0,\" \",COUNTRY_INFO!C51))","v":"Jinja City"},{"$f":"IF(INTRO!$E$43=\"Non-endemic\", \"Not required\", COUNTRY_INFO!Y51)","v":1},{"$f":"IF(OR(COUNTRY_INFO!R51=\"Unknown\",COUNTRY_INFO!R51=\"Surveillance\",COUNTRY_INFO!R51=\"Not required\",COUNTRY_INFO!R51=0),0,IF($D51<>0, COUNTRY_INFO!R51,0))","v":0},{"$f":"IF(OR(COUNTRY_INFO!S51=\"Unknown\",COUNTRY_INFO!S51=\"Surveillance\",COUNTRY_INFO!S51=\"Not required\",COUNTRY_INFO!S51=0),0,IF($D51<>0, COUNTRY_INFO!S51,0))","v":106696},{"$f":"IF(OR(COUNTRY_INFO!T51=\"Unknown\",COUNTRY_INFO!T51=\"Surveillance\",COUNTRY_INFO!T51=\"Not required\",COUNTRY_INFO!T51=0),0,IF($D51<>0, COUNTRY_INFO!T51,0))","v":184068},290764,null,null,1,"SAC",null,{"$f":"IF($I51<>\"Yes\",$F51*2,($F51+ROUND(J51*$F51/SUM(COUNTRY_INFO!$E51:$G51),0))*2)","v":213392},{"$f":"IF($I51<>\"Yes\",$G51*3,($G51+ROUND(J51*$G51/SUM(COUNTRY_INFO!$E51:$G51),0))*3)","v":552204},765596,0,765596]
[{"$f":"IF(INTRO!$E$43=\"Non-endemic\",\" \", IF(COUNTRY_INFO!A52=0,\" \",COUNTRY_INFO!A52))","v":"Uganda"},{"$f":"IF(INTRO!$E$43=\"Non-endemic\",\" \", IF(COUNTRY_INFO!B52=0,\" \",COUNTRY_INFO!B52))","v":"Eastern"},{"$f":"IF(INTRO!$E$43=\"Non-endemic\",\" \", IF(COUNTRY_INFO!C52=0,\" \",COUNTRY_INFO!C52))","v":"Kaberamaido"},{"$f":"IF(INTRO!$E$43=\"Non-endemic\", \"Not required\", COUNTRY_INFO!Y52)","v":1},{"$f":"IF(OR(COUNTRY_INFO!R52=\"Unknown\",COUNTRY_INFO!R52=\"Surveillance\",COUNTRY_INFO!R52=\"Not required\",COUNTRY_INFO!R52=0),0,IF($D52<>0, COUNTRY_INFO!R52,0))","v":0},{"$f":"IF(OR(COUNTRY_INFO!S52=\"Unknown\",COUNTRY_INFO!S52=\"Surveillance\",COUNTRY_INFO!S52=\"Not required\",COUNTRY_INFO!S52=0),0,IF($D52<>0, COUNTRY_INFO!S52,0))","v":40592},{"$f":"IF(OR(COUNTRY_INFO!T52=\"Unknown\",COUNTRY_INFO!T52=\"Surveillance\",COUNTRY_INFO!T52=\"Not required\",COUNTRY_INFO!T52=0),0,IF($D52<>0, COUNTRY_INFO!T52,0))","v":14602},55194,null,null,1,"SAC",null,{"$f":"IF($I52<>\"Yes\",$F52*2,($F52+ROUND(J52*$F52/SUM(COUNTRY_INFO!$E52:$G52),0))*2)","v":81184},{"$f":"IF($I52<>\"Yes\",$G52*3,($G52+ROUND(J52*$G52/SUM(COUNTRY_INFO!$E52:$G52),0))*3)","v":43806},124990,0,124990]
[{"$f":"IF(INTRO!$E$43=\"Non-endemic\",\" \", IF(COUNTRY_INFO!A53=0,\" \",COUNTRY_INFO!A53))","v":"Uganda"},{"$f":"IF(INTRO!$E$43=\"Non-endemic\",\" \", IF(COUNTRY_INFO!B53=0,\" \",COUNTRY_INFO!B53))","v":"Eastern"},{"$f":"IF(INTRO!$E$43=\"Non-endemic\",\" \", IF(COUNTRY_INFO!C53=0,\" \",COUNTRY_INFO!C53))","v":"Kalaki"},{"$f":"IF(INTRO!$E$43=\"Non-endemic\", \"Not required\", COUNTRY_INFO!Y53)","v":1},{"$f":"IF(OR(COUNTRY_INFO!R53=\"Unknown\",COUNTRY_INFO!R53=\"Surveillance\",COUNTRY_INFO!R53=\"Not required\",COUNTRY_INFO!R53=0),0,IF($D53<>0, COUNTRY_INFO!R53,0))","v":0},{"$f":"IF(OR(COUNTRY_INFO!S53=\"Unknown\",COUNTRY_INFO!S53=\"Surveillance\",COUNTRY_INFO!S53=\"Not required\",COUNTRY_INFO!S53=0),0,IF($D53<>0, COUNTRY_INFO!S53,0))","v":19741},{"$f":"IF(OR(COUNTRY_INFO!T53=\"Unknown\",COUNTRY_INFO!T53=\"Surveillance\",COUNTRY_INFO!T53=\"Not required\",COUNTRY_INFO!T53=0),0,IF($D53<>0, COUNTRY_INFO!T53,0))","v":0},19741,null,null,1,"SAC",null,{"$f":"IF($I53<>\"Yes\",$F53*2,($F53+ROUND(J53*$F53/SUM(COUNTRY_INFO!$E53:$G53),0))*2)","v":39482},{"$f":"IF($I53<>\"Yes\",$G53*3,($G53+ROUND(J53*$G53/SUM(COUNTRY_INFO!$E53:$G53),0))*3)","v":0},39482,0,39482]
[{"$f":"IF(INTRO!$E$43=\"Non-endemic\",\" \", IF(COUNTRY_INFO!A54=0,\" \",COUNTRY_INFO!A54))","v":"Uganda"},{"$f":"IF(INTRO!$E$43=\"Non-endemic\",\" \", IF(COUNTRY_INFO!B54=0,\" \",COUNTRY_INFO!B54))","v":"Eastern"},{"$f":"IF(INTRO!$E$43=\"Non-endemic\",\" \", IF(COUNTRY_INFO!C54=0,\" \",COUNTRY_INFO!C54))","v":"Kaliro"},{"$f":"IF(INTRO!$E$43=\"Non-endemic\", \"Not required\", COUNTRY_INFO!Y54)","v":1},{"$f":"IF(OR(COUNTRY_INFO!R54=\"Unknown\",COUNTRY_INFO!R54=\"Surveillance\",COUNTRY_INFO!R54=\"Not required\",COUNTRY_INFO!R54=0),0,IF($D54<>0, COUNTRY_INFO!R54,0))","v":0},{"$f":"IF(OR(COUNTRY_INFO!S54=\"Unknown\",COUNTRY_INFO!S54=\"Surveillance\",COUNTRY_INFO!S54=\"Not required\",COUNTRY_INFO!S54=0),0,IF($D54<>0, COUNTRY_INFO!S54,0))","v":95510},{"$f":"IF(OR(COUNTRY_INFO!T54=\"Unknown\",COUNTRY_INFO!T54=\"Surveillance\",COUNTRY_INFO!T54=\"Not required\",COUNTRY_INFO!T54=0),0,IF($D54<>0, COUNTRY_INFO!T54,0))","v":0},95510,null,null,1,"SAC",null,{"$f":"IF($I54<>\"Yes\",$F54*2,($F54+ROUND(J54*$F54/SUM(COUNTRY_INFO!$E54:$G54),0))*2)","v":191020},{"$f":"IF($I54<>\"Yes\",$G54*3,($G54+ROUND(J54*$G54/SUM(COUNTRY_INFO!$E54:$G54),0))*3)","v":0},191020,0,191020]
[{"$f":"IF(INTRO!$E$43=\"Non-endemic\",\" \", IF(COUNTRY_INFO!A55=0,\" \",COUNTRY_INFO!A55))","v":"Uganda"},{"$f":"IF(INTRO!$E$43=\"Non-endemic\",\" \", IF(COUNTRY_INFO!B55=0,\" \",COUNTRY_INFO!B55))","v":"Eastern"},{"$f":"IF(INTRO!$E$43=\"Non-endemic\",\" \", IF(COUNTRY_INFO!C55=0,\" \",COUNTRY_INFO!C55))","v":"Kamuli"},{"$f":"IF(INTRO!$E$43=\"Non-endemic\", \"Not required\", COUNTRY_INFO!Y55)","v":1},{"$f":"IF(OR(COUNTRY_INFO!R55=\"Unknown\",COUNTRY_INFO!R55=\"Surveillance\",COUNTRY_INFO!R55=\"Not required\",COUNTRY_INFO!R55=0),0,IF($D55<>0, COUNTRY_INFO!R55,0))","v":0},{"$f":"IF(OR(COUNTRY_INFO!S55=\"Unknown\",COUNTRY_INFO!S55=\"Surveillance\",COUNTRY_INFO!S55=\"Not required\",COUNTRY_INFO!S55=0),0,IF($D55<>0, COUNTRY_INFO!S55,0))","v":158128},{"$f":"IF(OR(COUNTRY_INFO!T55=\"Unknown\",COUNTRY_INFO!T55=\"Surveillance\",COUNTRY_INFO!T55=\"Not required\",COUNTRY_INFO!T55=0),0,IF($D55<>0, COUNTRY_INFO!T55,0))","v":44834},202962,null,null,1,"SAC",null,{"$f":"IF($I55<>\"Yes\",$F55*2,($F55+ROUND(J55*$F55/SUM(COUNTRY_INFO!$E55:$G55),0))*2)","v":316256},{"$f":"IF($I55<>\"Yes\",$G55*3,($G55+ROUND(J55*$G55/SUM(COUNTRY_INFO!$E55:$G55),0))*3)","v":134502},450758,0,450758]
[{"$f":"IF(INTRO!$E$43=\"Non-endemic\",\" \", IF(COUNTRY_INFO!A56=0,\" \",COUNTRY_INFO!A56))","v":"Uganda"},{"$f":"IF(INTRO!$E$43=\"Non-endemic\",\" \", IF(COUNTRY_INFO!B56=0,\" \",COUNTRY_INFO!B56))","v":"Eastern"},{"$f":"IF(INTRO!$E$43=\"Non-endemic\",\" \", IF(COUNTRY_INFO!C56=0,\" \",COUNTRY_INFO!C56))","v":"Kapchorwa"},{"$f":"IF(INTRO!$E$43=\"Non-endemic\", \"Not required\", COUNTRY_INFO!Y56)","v":0},{"$f":"IF(OR(COUNTRY_INFO!R56=\"Unknown\",COUNTRY_INFO!R56=\"Surveillance\",COUNTRY_INFO!R56=\"Not required\",COUNTRY_INFO!R56=0),0,IF($D56<>0, COUNTRY_INFO!R56,0))","v":0},{"$f":"IF(OR(COUNTRY_INFO!S56=\"Unknown\",COUNTRY_INFO!S56=\"Surveillance\",COUNTRY_INFO!S56=\"Not required\",COUNTRY_INFO!S56=0),0,IF($D56<>0, COUNTRY_INFO!S56,0))","v":0},{"$f":"IF(OR(COUNTRY_INFO!T56=\"Unknown\",COUNTRY_INFO!T56=\"Surveillance\",COUNTRY_INFO!T56=\"Not required\",COUNTRY_INFO!T56=0),0,IF($D56<>0, COUNTRY_INFO!T56,0))","v":0},0,null,null,null,null,null,{"$f":"IF($I56<>\"Yes\",$F56*2,($F56+ROUND(J56*$F56/SUM(COUNTRY_INFO!$E56:$G56),0))*2)","v":0},{"$f":"IF($I56<>\"Yes\",$G56*3,($G56+ROUND(J56*$G56/SUM(COUNTRY_INFO!$E56:$G56),0))*3)","v":0},0,null,0]
[{"$f":"IF(INTRO!$E$43=\"Non-endemic\",\" \", IF(COUNTRY_INFO!A57=0,\" \",COUNTRY_INFO!A57))","v":"Uganda"},{"$f":"IF(INTRO!$E$43=\"Non-endemic\",\" \", IF(COUNTRY_INFO!B57=0,\" \",COUNTRY_INFO!B57))","v":"Eastern"},{"$f":"IF(INTRO!$E$43=\"Non-endemic\",\" \", IF(COUNTRY_INFO!C57=0,\" \",COUNTRY_INFO!C57))","v":"Kapelebyong"},{"$f":"IF(INTRO!$E$43=\"Non-endemic\", \"Not required\", COUNTRY_INFO!Y57)","v":0},{"$f":"IF(OR(COUNTRY_INFO!R57=\"Unknown\",COUNTRY_INFO!R57=\"Surveillance\",COUNTRY_INFO!R57=\"Not required\",COUNTRY_INFO!R57=0),0,IF($D57<>0, COUNTRY_INFO!R57,0))","v":0},{"$f":"IF(OR(COUNTRY_INFO!S57=\"Unknown\",COUNTRY_INFO!S57=\"Surveillance\",COUNTRY_INFO!S57=\"Not required\",COUNTRY_INFO!S57=0),0,IF($D57<>0, COUNTRY_INFO!S57,0))","v":0},{"$f":"IF(OR(COUNTRY_INFO!T57=\"Unknown\",COUNTRY_INFO!T57=\"Surveillance\",COUNTRY_INFO!T57=\"Not required\",COUNTRY_INFO!T57=0),0,IF($D57<>0, COUNTRY_INFO!T57,0))","v":0},0,null,null,null,null,null,{"$f":"IF($I57<>\"Yes\",$F57*2,($F57+ROUND(J57*$F57/SUM(COUNTRY_INFO!$E57:$G57),0))*2)","v":0},{"$f":"IF($I57<>\"Yes\",$G57*3,($G57+ROUND(J57*$G57/SUM(COUNTRY_INFO!$E57:$G57),0))*3)","v":0},0,null,0]
[{"$f":"IF(INTRO!$E$43=\"Non-endemic\",\" \", IF(COUNTRY_INFO!A58=0,\" \",COUNTRY_INFO!A58))","v":"Uganda"},{"$f":"IF(INTRO!$E$43=\"Non-endemic\",\" \", IF(COUNTRY_INFO!B58=0,\" \",COUNTRY_INFO!B58))","v":"Eastern"},{"$f":"IF(INTRO!$E$43=\"Non-endemic\",\" \", IF(COUNTRY_INFO!C58=0,\" \",COUNTRY_INFO!C58))","v":"Katakwi"},{"$f":"IF(INTRO!$E$43=\"Non-endemic\", \"Not required\", COUNTRY_INFO!Y58)","v":1},{"$f":"IF(OR(COUNTRY_INFO!R58=\"Unknown\",COUNTRY_INFO!R58=\"Surveillance\",COUNTRY_INFO!R58=\"Not required\",COUNTRY_INFO!R58=0),0,IF($D58<>0, COUNTRY_INFO!R58,0))","v":0},{"$f":"IF(OR(COUNTRY_INFO!S58=\"Unknown\",COUNTRY_INFO!S58=\"Surveillance\",COUNTRY_INFO!S58=\"Not required\",COUNTRY_INFO!S58=0),0,IF($D58<>0, COUNTRY_INFO!S58,0))","v":24342},{"$f":"IF(OR(COUNTRY_INFO!T58=\"Unknown\",COUNTRY_INFO!T58=\"Surveillance\",COUNTRY_INFO!T58=\"Not required\",COUNTRY_INFO!T58=0),0,IF($D58<>0, COUNTRY_INFO!T58,0))","v":0},24342,null,null,1,"SAC",null,{"$f":"IF($I58<>\"Yes\",$F58*2,($F58+ROUND(J58*$F58/SUM(COUNTRY_INFO!$E58:$G58),0))*2)","v":48684},{"$f":"IF($I58<>\"Yes\",$G58*3,($G58+ROUND(J58*$G58/SUM(COUNTRY_INFO!$E58:$G58),0))*3)","v":0},48684,0,48684]
[{"$f":"IF(INTRO!$E$43=\"Non-endemic\",\" \", IF(COUNTRY_INFO!A59=0,\" \",COUNTRY_INFO!A59))","v":"Uganda"},{"$f":"IF(INTRO!$E$43=\"Non-endemic\",\" \", IF(COUNTRY_INFO!B59=0,\" \",COUNTRY_INFO!B59))","v":"Eastern"},{"$f":"IF(INTRO!$E$43=\"Non-endemic\",\" \", IF(COUNTRY_INFO!C59=0,\" \",COUNTRY_INFO!C59))","v":"Kibuku"},{"$f":"IF(INTRO!$E$43=\"Non-endemic\", \"Not required\", COUNTRY_INFO!Y59)","v":1},{"$f":"IF(OR(COUNTRY_INFO!R59=\"Unknown\",COUNTRY_INFO!R59=\"Surveillance\",COUNTRY_INFO!R59=\"Not required\",COUNTRY_INFO!R59=0),0,IF($D59<>0, COUNTRY_INFO!R59,0))","v":0},{"$f":"IF(OR(COUNTRY_INFO!S59=\"Unknown\",COUNTRY_INFO!S59=\"Surveillance\",COUNTRY_INFO!S59=\"Not required\",COUNTRY_INFO!S59=0),0,IF($D59<>0, COUNTRY_INFO!S59,0))","v":42547},{"$f":"IF(OR(COUNTRY_INFO!T59=\"Unknown\",COUNTRY_INFO!T59=\"Surveillance\",COUNTRY_INFO!T59=\"Not required\",COUNTRY_INFO!T59=0),0,IF($D59<>0, COUNTRY_INFO!T59,0))","v":28506},71053,null,null,1,"SAC",null,{"$f":"IF($I59<>\"Yes\",$F59*2,($F59+ROUND(J59*$F59/SUM(COUNTRY_INFO!$E59:$G59),0))*2)","v":85094},{"$f":"IF($I59<>\"Yes\",$G59*3,($G59+ROUND(J59*$G59/SUM(COUNTRY_INFO!$E59:$G59),0))*3)","v":85518},170612,0,170612]
[{"$f":"IF(INTRO!$E$43=\"Non-endemic\",\" \", IF(COUNTRY_INFO!A60=0,\" \",COUNTRY_INFO!A60))","v":"Uganda"},{"$f":"IF(INTRO!$E$43=\"Non-endemic\",\" \", IF(COUNTRY_INFO!B60=0,\" \",COUNTRY_INFO!B60))","v":"Eastern"},{"$f":"IF(INTRO!$E$43=\"Non-endemic\",\" \", IF(COUNTRY_INFO!C60=0,\" \",COUNTRY_INFO!C60))","v":"Kumi"},{"$f":"IF(INTRO!$E$43=\"Non-endemic\", \"Not required\", COUNTRY_INFO!Y60)","v":0},{"$f":"IF(OR(COUNTRY_INFO!R60=\"Unknown\",COUNTRY_INFO!R60=\"Surveillance\",COUNTRY_INFO!R60=\"Not required\",COUNTRY_INFO!R60=0),0,IF($D60<>0, COUNTRY_INFO!R60,0))","v":0},{"$f":"IF(OR(COUNTRY_INFO!S60=\"Unknown\",COUNTRY_INFO!S60=\"Surveillance\",COUNTRY_INFO!S60=\"Not required\",COUNTRY_INFO!S60=0),0,IF($D60<>0, COUNTRY_INFO!S60,0))","v":0},{"$f":"IF(OR(COUNTRY_INFO!T60=\"Unknown\",COUNTRY_INFO!T60=\"Surveillance\",COUNTRY_INFO!T60=\"Not required\",COUNTRY_INFO!T60=0),0,IF($D60<>0, COUNTRY_INFO!T60,0))","v":0},0,null,null,null,null,null,{"$f":"IF($I60<>\"Yes\",$F60*2,($F60+ROUND(J60*$F60/SUM(COUNTRY_INFO!$E60:$G60),0))*2)","v":0},{"$f":"IF($I60<>\"Yes\",$G60*3,($G60+ROUND(J60*$G60/SUM(COUNTRY_INFO!$E60:$G60),0))*3)","v":0},0,null,0]
[{"$f":"IF(INTRO!$E$43=\"Non-endemic\",\" \", IF(COUNTRY_INFO!A61=0,\" \",COUNTRY_INFO!A61))","v":"Uganda"},{"$f":"IF(INTRO!$E$43=\"Non-endemic\",\" \", IF(COUNTRY_INFO!B61=0,\" \",COUNTRY_INFO!B61))","v":"Eastern"},{"$f":"IF(INTRO!$E$43=\"Non-endemic\",\" \", IF(COUNTRY_INFO!C61=0,\" \",COUNTRY_INFO!C61))","v":"Kween"},{"$f":"IF(INTRO!$E$43=\"Non-endemic\", \"Not required\", COUNTRY_INFO!Y61)","v":1},{"$f":"IF(OR(COUNTRY_INFO!R61=\"Unknown\",COUNTRY_INFO!R61=\"Surveillance\",COUNTRY_INFO!R61=\"Not required\",COUNTRY_INFO!R61=0),0,IF($D61<>0, COUNTRY_INFO!R61,0))","v":0},{"$f":"IF(OR(COUNTRY_INFO!S61=\"Unknown\",COUNTRY_INFO!S61=\"Surveillance\",COUNTRY_INFO!S61=\"Not required\",COUNTRY_INFO!S61=0),0,IF($D61<>0, COUNTRY_INFO!S61,0))","v":3696},{"$f":"IF(OR(COUNTRY_INFO!T61=\"Unknown\",COUNTRY_INFO!T61=\"Surveillance\",COUNTRY_INFO!T61=\"Not required\",COUNTRY_INFO!T61=0),0,IF($D61<>0, COUNTRY_INFO!T61,0))","v":0},3696,null,null,1,"SAC",null,{"$f":"IF($I61<>\"Yes\",$F61*2,($F61+ROUND(J61*$F61/SUM(COUNTRY_INFO!$E61:$G61),0))*2)","v":7392},{"$f":"IF($I61<>\"Yes\",$G61*3,($G61+ROUND(J61*$G61/SUM(COUNTRY_INFO!$E61:$G61),0))*3)","v":0},7392,0,7392]
[{"$f":"IF(INTRO!$E$43=\"Non-endemic\",\" \", IF(COUNTRY_INFO!A62=0,\" \",COUNTRY_INFO!A62))","v":"Uganda"},{"$f":"IF(INTRO!$E$43=\"Non-endemic\",\" \", IF(COUNTRY_INFO!B62=0,\" \",COUNTRY_INFO!B62))","v":"Eastern"},{"$f":"IF(INTRO!$E$43=\"Non-endemic\",\" \", IF(COUNTRY_INFO!C62=0,\" \",COUNTRY_INFO!C62))","v":"Luuka"},{"$f":"IF(INTRO!$E$43=\"Non-endemic\", \"Not required\", COUNTRY_INFO!Y62)","v":1},{"$f":"IF(OR(COUNTRY_INFO!R62=\"Unknown\",COUNTRY_INFO!R62=\"Surveillance\",COUNTRY_INFO!R62=\"Not required\",COUNTRY_INFO!R62=0),0,IF($D62<>0, COUNTRY_INFO!R62,0))","v":0},{"$f":"IF(OR(COUNTRY_INFO!S62=\"Unknown\",COUNTRY_INFO!S62=\"Surveillance\",COUNTRY_INFO!S62=\"Not required\",COUNTRY_INFO!S62=0),0,IF($D62<>0, COUNTRY_INFO!S62,0))","v":91470},{"$f":"IF(OR(COUNTRY_INFO!T62=\"Unknown\",COUNTRY_INFO!T62=\"Surveillance\",COUNTRY_INFO!T62=\"Not required\",COUNTRY_INFO!T62=0),0,IF($D62<>0, COUNTRY_INFO!T62,0))","v":0},91470,null,null,1,"SAC",null,{"$f":"IF($I62<>\"Yes\",$F62*2,($F62+ROUND(J62*$F62/SUM(COUNTRY_INFO!$E62:$G62),0))*2)","v":182940},{"$f":"IF($I62<>\"Yes\",$G62*3,($G62+ROUND(J62*$G62/SUM(COUNTRY_INFO!$E62:$G62),0))*3)","v":0},182940,0,182940]
[{"$f":"IF(INTRO!$E$43=\"Non-endemic\",\" \", IF(COUNTRY_INFO!A63=0,\" \",COUNTRY_INFO!A63))","v":"Uganda"},{"$f":"IF(INTRO!$E$43=\"Non-endemic\",\" \", IF(COUNTRY_INFO!B63=0,\" \",COUNTRY_INFO!B63))","v":"Eastern"},{"$f":"IF(INTRO!$E$43=\"Non-endemic\",\" \", IF(COUNTRY_INFO!C63=0,\" \",COUNTRY_INFO!C63))","v":"Manafwa"},{"$f":"IF(INTRO!$E$43=\"Non-endemic\", \"Not required\", COUNTRY_INFO!Y63)","v":1},{"$f":"IF(OR(COUNTRY_INFO!R63=\"Unknown\",COUNTRY_INFO!R63=\"Surveillance\",COUNTRY_INFO!R63=\"Not required\",COUNTRY_INFO!R63=0),0,IF($D63<>0, COUNTRY_INFO!R63,0))","v":0},{"$f":"IF(OR(COUNTRY_INFO!S63=\"Unknown\",COUNTRY_INFO!S63=\"Surveillance\",COUNTRY_INFO!S63=\"Not required\",COUNTRY_INFO!S63=0),0,IF($D63<>0, COUNTRY_INFO!S63,0))","v":41593},{"$f":"IF(OR(COUNTRY_INFO!T63=\"Unknown\",COUNTRY_INFO!T63=\"Surveillance\",COUNTRY_INFO!T63=\"Not required\",COUNTRY_INFO!T63=0),0,IF($D63<>0, COUNTRY_INFO!T63,0))","v":23675},65268,null,null,1,"SAC",null,{"$f":"IF($I63<>\"Yes\",$F63*2,($F63+ROUND(J63*$F63/SUM(COUNTRY_INFO!$E63:$G63),0))*2)","v":83186},{"$f":"IF($I63<>\"Yes\",$G63*3,($G63+ROUND(J63*$G63/SUM(COUNTRY_INFO!$E63:$G63),0))*3)","v":71025},154211,0,154211]
[{"$f":"IF(INTRO!$E$43=\"Non-endemic\",\" \", IF(COUNTRY_INFO!A64=0,\" \",COUNTRY_INFO!A64))","v":"Uganda"},{"$f":"IF(INTRO!$E$43=\"Non-endemic\",\" \", IF(COUNTRY_INFO!B64=0,\" \",COUNTRY_INFO!B64))","v":"Eastern"},{"$f":"IF(INTRO!$E$43=\"Non-endemic\",\" \", IF(COUNTRY_INFO!C64=0,\" \",COUNTRY_INFO!C64))","v":"Mayuge"},{"$f":"IF(INTRO!$E$43=\"Non-endemic\", \"Not required\", COUNTRY_INFO!Y64)","v":1},{"$f":"IF(OR(COUNTRY_INFO!R64=\"Unknown\",COUNTRY_INFO!R64=\"Surveillance\",COUNTRY_INFO!R64=\"Not required\",COUNTRY_INFO!R64=0),0,IF($D64<>0, COUNTRY_INFO!R64,0))","v":0},{"$f":"IF(OR(COUNTRY_INFO!S64=\"Unknown\",COUNTRY_INFO!S64=\"Surveillance\",COUNTRY_INFO!S64=\"Not required\",COUNTRY_INFO!S64=0),0,IF($D64<>0, COUNTRY_INFO!S64,0))","v":95077},{"$f":"IF(OR(COUNTRY_INFO!T64=\"Unknown\",COUNTRY_INFO!T64=\"Surveillance\",COUNTRY_INFO!T64=\"Not required\",COUNTRY_INFO!T64=0),0,IF($D64<>0, COUNTRY_INFO!T64,0))","v":237040},332117,null,null,1,"SAC",null,{"$f":"IF($I64<>\"Yes\",$F64*2,($F64+ROUND(J64*$F64/SUM(COUNTRY_INFO!$E64:$G64),0))*2)","v":190154},{"$f":"IF($I64<>\"Yes\",$G64*3,($G64+ROUND(J64*$G64/SUM(COUNTRY_INFO!$E64:$G64),0))*3)","v":711120},901274,0,901274]
[{"$f":"IF(INTRO!$E$43=\"Non-endemic\",\" \", IF(COUNTRY_INFO!A65=0,\" \",COUNTRY_INFO!A65))","v":"Uganda"},{"$f":"IF(INTRO!$E$43=\"Non-endemic\",\" \", IF(COUNTRY_INFO!B65=0,\" \",COUNTRY_INFO!B65))","v":"Eastern"},{"$f":"IF(INTRO!$E$43=\"Non-endemic\",\" \", IF(COUNTRY_INFO!C65=0,\" \",COUNTRY_INFO!C65))","v":"Mbale"},{"$f":"IF(INTRO!$E$43=\"Non-endemic\", \"Not required\", COUNTRY_INFO!Y65)","v":1},{"$f":"IF(OR(COUNTRY_INFO!R65=\"Unknown\",COUNTRY_INFO!R65=\"Surveillance\",COUNTRY_INFO!R65=\"Not required\",COUNTRY_INFO!R65=0),0,IF($D65<>0, COUNTRY_INFO!R65,0))","v":0},{"$f":"IF(OR(COUNTRY_INFO!S65=\"Unknown\",COUNTRY_INFO!S65=\"Surveillance\",COUNTRY_INFO!S65=\"Not required\",COUNTRY_INFO!S65=0),0,IF($D65<>0, COUNTRY_INFO!S65,0))","v":87720},{"$f":"IF(OR(COUNTRY_INFO!T65=\"Unknown\",COUNTRY_INFO!T65=\"Surveillance\",COUNTRY_INFO!T65=\"Not required\",COUNTRY_INFO!T65=0),0,IF($D65<>0, COUNTRY_INFO!T65,0))","v":49811},137531,null,null,1,"SAC",null,{"$f":"IF($I65<>\"Yes\",$F65*2,($F65+ROUND(J65*$F65/SUM(COUNTRY_INFO!$E65:$G65),0))*2)","v":175440},{"$f":"IF($I65<>\"Yes\",$G65*3,($G65+ROUND(J65*$G65/SUM(COUNTRY_INFO!$E65:$G65),0))*3)","v":149433},324873,0,324873]
[{"$f":"IF(INTRO!$E$43=\"Non-endemic\",\" \", IF(COUNTRY_INFO!A66=0,\" \",COUNTRY_INFO!A66))","v":"Uganda"},{"$f":"IF(INTRO!$E$43=\"Non-endemic\",\" \", IF(COUNTRY_INFO!B66=0,\" \",COUNTRY_INFO!B66))","v":"Eastern"},{"$f":"IF(INTRO!$E$43=\"Non-endemic\",\" \", IF(COUNTRY_INFO!C66=0,\" \",COUNTRY_INFO!C66))","v":"Mbale City"},{"$f":"IF(INTRO!$E$43=\"Non-endemic\", \"Not required\", COUNTRY_INFO!Y66)","v":1},{"$f":"IF(OR(COUNTRY_INFO!R66=\"Unknown\",COUNTRY_INFO!R66=\"Surveillance\",COUNTRY_INFO!R66=\"Not required\",COUNTRY_INFO!R66=0),0,IF($D66<>0, COUNTRY_INFO!R66,0))","v":0},{"$f":"IF(OR(COUNTRY_INFO!S66=\"Unknown\",COUNTRY_INFO!S66=\"Surveillance\",COUNTRY_INFO!S66=\"Not required\",COUNTRY_INFO!S66=0),0,IF($D66<>0, COUNTRY_INFO!S66,0))","v":36120},{"$f":"IF(OR(COUNTRY_INFO!T66=\"Unknown\",COUNTRY_INFO!T66=\"Surveillance\",COUNTRY_INFO!T66=\"Not required\",COUNTRY_INFO!T66=0),0,IF($D66<>0, COUNTRY_INFO!T66,0))","v":96660},132780,null,null,1,"SAC",null,{"$f":"IF($I66<>\"Yes\",$F66*2,($F66+ROUND(J66*$F66/SUM(COUNTRY_INFO!$E66:$G66),0))*2)","v":72240},{"$f":"IF($I66<>\"Yes\",$G66*3,($G66+ROUND(J66*$G66/SUM(COUNTRY_INFO!$E66:$G66),0))*3)","v":289980},362220,0,362220]
[{"$f":"IF(INTRO!$E$43=\"Non-endemic\",\" \", IF(COUNTRY_INFO!A67=0,\" \",COUNTRY_INFO!A67))","v":"Uganda"},{"$f":"IF(INTRO!$E$43=\"Non-endemic\",\" \", IF(COUNTRY_INFO!B67=0,\" \",COUNTRY_INFO!B67))","v":"Eastern"},{"$f":"IF(INTRO!$E$43=\"Non-endemic\",\" \", IF(COUNTRY_INFO!C67=0,\" \",COUNTRY_INFO!C67))","v":"Namayingo"},{"$f":"IF(INTRO!$E$43=\"Non-endemic\", \"Not required\", COUNTRY_INFO!Y67)","v":1},{"$f":"IF(OR(COUNTRY_INFO!R67=\"Unknown\",COUNTRY_INFO!R67=\"Surveillance\",COUNTRY_INFO!R67=\"Not required\",COUNTRY_INFO!R67=0),0,IF($D67<>0, COUNTRY_INFO!R67,0))","v":0},{"$f":"IF(OR(COUNTRY_INFO!S67=\"Unknown\",COUNTRY_INFO!S67=\"Surveillance\",COUNTRY_INFO!S67=\"Not required\",COUNTRY_INFO!S67=0),0,IF($D67<>0, COUNTRY_INFO!S67,0))","v":90863},{"$f":"IF(OR(COUNTRY_INFO!T67=\"Unknown\",COUNTRY_INFO!T67=\"Surveillance\",COUNTRY_INFO!T67=\"Not required\",COUNTRY_INFO!T67=0),0,IF($D67<>0, COUNTRY_INFO!T67,0))","v":156754},247617,null,null,1,"SAC",null,{"$f":"IF($I67<>\"Yes\",$F67*2,($F67+ROUND(J67*$F67/SUM(COUNTRY_INFO!$E67:$G67),0))*2)","v":181726},{"$f":"IF($I67<>\"Yes\",$G67*3,($G67+ROUND(J67*$G67/SUM(COUNTRY_INFO!$E67:$G67),0))*3)","v":470262},651988,0,651988]
[{"$f":"IF(INTRO!$E$43=\"Non-endemic\",\" \", IF(COUNTRY_INFO!A68=0,\" \",COUNTRY_INFO!A68))","v":"Uganda"},{"$f":"IF(INTRO!$E$43=\"Non-endemic\",\" \", IF(COUNTRY_INFO!B68=0,\" \",COUNTRY_INFO!B68))","v":"Eastern"},{"$f":"IF(INTRO!$E$43=\"Non-endemic\",\" \", IF(COUNTRY_INFO!C68=0,\" \",COUNTRY_INFO!C68))","v":"Namisindwa"},{"$f":"IF(INTRO!$E$43=\"Non-endemic\", \"Not required\", COUNTRY_INFO!Y68)","v":1},{"$f":"IF(OR(COUNTRY_INFO!R68=\"Unknown\",COUNTRY_INFO!R68=\"Surveillance\",COUNTRY_INFO!R68=\"Not required\",COUNTRY_INFO!R68=0),0,IF($D68<>0, COUNTRY_INFO!R68,0))","v":0},{"$f":"IF(OR(COUNTRY_INFO!S68=\"Unknown\",COUNTRY_INFO!S68=\"Surveillance\",COUNTRY_INFO!S68=\"Not required\",COUNTRY_INFO!S68=0),0,IF($D68<>0, COUNTRY_INFO!S68,0))","v":53907},{"$f":"IF(OR(COUNTRY_INFO!T68=\"Unknown\",COUNTRY_INFO!T68=\"Surveillance\",COUNTRY_INFO!T68=\"Not required\",COUNTRY_INFO!T68=0),0,IF($D68<>0, COUNTRY_INFO!T68,0))","v":0},53907,null,null,1,"SAC",null,{"$f":"IF($I68<>\"Yes\",$F68*2,($F68+ROUND(J68*$F68/SUM(COUNTRY_INFO!$E68:$G68),0))*2)","v":107814},{"$f":"IF($I68<>\"Yes\",$G68*3,($G68+ROUND(J68*$G68/SUM(COUNTRY_INFO!$E68:$G68),0))*3)","v":0},107814,0,107814]
[{"$f":"IF(INTRO!$E$43=\"Non-endemic\",\" \", IF(COUNTRY_INFO!A69=0,\" \",COUNTRY_INFO!A69))","v":"Uganda"},{"$f":"IF(INTRO!$E$43=\"Non-endemic\",\" \", IF(COUNTRY_INFO!B69=0,\" \",COUNTRY_INFO!B69))","v":"Eastern"},{"$f":"IF(INTRO!$E$43=\"Non-endemic\",\" \", IF(COUNTRY_INFO!C69=0,\" \",COUNTRY_INFO!C69))","v":"Namutumba"},{"$f":"IF(INTRO!$E$43=\"Non-endemic\", \"Not required\", COUNTRY_INFO!Y69)","v":1},{"$f":"IF(OR(COUNTRY_INFO!R69=\"Unknown\",COUNTRY_INFO!R69=\"Surveillance\",COUNTRY_INFO!R69=\"Not required\",COUNTRY_INFO!R69=0),0,IF($D69<>0, COUNTRY_INFO!R69,0))","v":0},{"$f":"IF(OR(COUNTRY_INFO!S69=\"Unknown\",COUNTRY_INFO!S69=\"Surveillance\",COUNTRY_INFO!S69=\"Not required\",COUNTRY_INFO!S69=0),0,IF($D69<>0, COUNTRY_INFO!S69,0))","v":97822},{"$f":"IF(OR(COUNTRY_INFO!T69=\"Unknown\",COUNTRY_INFO!T69=\"Surveillance\",COUNTRY_INFO!T69=\"Not required\",COUNTRY_INFO!T69=0),0,IF($D69<>0, COUNTRY_INFO!T69,0))","v":35628},133450,null,null,1,"SAC",null,{"$f":"IF($I69<>\"Yes\",$F69*2,($F69+ROUND(J69*$F69/SUM(COUNTRY_INFO!$E69:$G69),0))*2)","v":195644},{"$f":"IF($I69<>\"Yes\",$G69*3,($G69+ROUND(J69*$G69/SUM(COUNTRY_INFO!$E69:$G69),0))*3)","v":106884},302528,0,302528]
[{"$f":"IF(INTRO!$E$43=\"Non-endemic\",\" \", IF(COUNTRY_INFO!A70=0,\" \",COUNTRY_INFO!A70))","v":"Uganda"},{"$f":"IF(INTRO!$E$43=\"Non-endemic\",\" \", IF(COUNTRY_INFO!B70=0,\" \",COUNTRY_INFO!B70))","v":"Eastern"},{"$f":"IF(INTRO!$E$43=\"Non-endemic\",\" \", IF(COUNTRY_INFO!C70=0,\" \",COUNTRY_INFO!C70))","v":"Ngora"},{"$f":"IF(INTRO!$E$43=\"Non-endemic\", \"Not required\", COUNTRY_INFO!Y70)","v":1},{"$f":"IF(OR(COUNTRY_INFO!R70=\"Unknown\",COUNTRY_INFO!R70=\"Surveillance\",COUNTRY_INFO!R70=\"Not required\",COUNTRY_INFO!R70=0),0,IF($D70<>0, COUNTRY_INFO!R70,0))","v":0},{"$f":"IF(OR(COUNTRY_INFO!S70=\"Unknown\",COUNTRY_INFO!S70=\"Surveillance\",COUNTRY_INFO!S70=\"Not required\",COUNTRY_INFO!S70=0),0,IF($D70<>0, COUNTRY_INFO!S70,0))","v":57998},{"$f":"IF(OR(COUNTRY_INFO!T70=\"Unknown\",COUNTRY_INFO!T70=\"Surveillance\",COUNTRY_INFO!T70=\"Not required\",COUNTRY_INFO!T70=0),0,IF($D70<>0, COUNTRY_INFO!T70,0))","v":0},57998,null,null,1,"SAC",null,{"$f":"IF($I70<>\"Yes\",$F70*2,($F70+ROUND(J70*$F70/SUM(COUNTRY_INFO!$E70:$G70),0))*2)","v":115996},{"$f":"IF($I70<>\"Yes\",$G70*3,($G70+ROUND(J70*$G70/SUM(COUNTRY_INFO!$E70:$G70),0))*3)","v":0},115996,0,115996]
[{"$f":"IF(INTRO!$E$43=\"Non-endemic\",\" \", IF(COUNTRY_INFO!A71=0,\" \",COUNTRY_INFO!A71))","v":"Uganda"},{"$f":"IF(INTRO!$E$43=\"Non-endemic\",\" \", IF(COUNTRY_INFO!B71=0,\" \",COUNTRY_INFO!B71))","v":"Eastern"},{"$f":"IF(INTRO!$E$43=\"Non-endemic\",\" \", IF(COUNTRY_INFO!C71=0,\" \",COUNTRY_INFO!C71))","v":"Pallisa"},{"$f":"IF(INTRO!$E$43=\"Non-endemic\", \"Not required\", COUNTRY_INFO!Y71)","v":1},{"$f":"IF(OR(COUNTRY_INFO!R71=\"Unknown\",COUNTRY_INFO!R71=\"Surveillance\",COUNTRY_INFO!R71=\"Not required\",COUNTRY_INFO!R71=0),0,IF($D71<>0, COUNTRY_INFO!R71,0))","v":0},{"$f":"IF(OR(COUNTRY_INFO!S71=\"Unknown\",COUNTRY_INFO!S71=\"Surveillance\",COUNTRY_INFO!S71=\"Not required\",COUNTRY_INFO!S71=0),0,IF($D71<>0, COUNTRY_INFO!S71,0))","v":98419},{"$f":"IF(OR(COUNTRY_INFO!T71=\"Unknown\",COUNTRY_INFO!T71=\"Surveillance\",COUNTRY_INFO!T71=\"Not required\",COUNTRY_INFO!T71=0),0,IF($D71<>0, COUNTRY_INFO!T71,0))","v":0},98419,null,null,1,"SAC",null,{"$f":"IF($I71<>\"Yes\",$F71*2,($F71+ROUND(J71*$F71/SUM(COUNTRY_INFO!$E71:$G71),0))*2)","v":196838},{"$f":"IF($I71<>\"Yes\",$G71*3,($G71+ROUND(J71*$G71/SUM(COUNTRY_INFO!$E71:$G71),0))*3)","v":0},196838,0,196838]
[{"$f":"IF(INTRO!$E$43=\"Non-endemic\",\" \", IF(COUNTRY_INFO!A72=0,\" \",COUNTRY_INFO!A72))","v":"Uganda"},{"$f":"IF(INTRO!$E$43=\"Non-endemic\",\" \", IF(COUNTRY_INFO!B72=0,\" \",COUNTRY_INFO!B72))","v":"Eastern"},{"$f":"IF(INTRO!$E$43=\"Non-endemic\",\" \", IF(COUNTRY_INFO!C72=0,\" \",COUNTRY_INFO!C72))","v":"Serere"},{"$f":"IF(INTRO!$E$43=\"Non-endemic\", \"Not required\", COUNTRY_INFO!Y72)","v":1},{"$f":"IF(OR(COUNTRY_INFO!R72=\"Unknown\",COUNTRY_INFO!R72=\"Surveillance\",COUNTRY_INFO!R72=\"Not required\",COUNTRY_INFO!R72=0),0,IF($D72<>0, COUNTRY_INFO!R72,0))","v":0},{"$f":"IF(OR(COUNTRY_INFO!S72=\"Unknown\",COUNTRY_INFO!S72=\"Surveillance\",COUNTRY_INFO!S72=\"Not required\",COUNTRY_INFO!S72=0),0,IF($D72<>0, COUNTRY_INFO!S72,0))","v":107859},{"$f":"IF(OR(COUNTRY_INFO!T72=\"Unknown\",COUNTRY_INFO!T72=\"Surveillance\",COUNTRY_INFO!T72=\"Not required\",COUNTRY_INFO!T72=0),0,IF($D72<>0, COUNTRY_INFO!T72,0))","v":199173},307032,null,null,1,"SAC",null,{"$f":"IF($I72<>\"Yes\",$F72*2,($F72+ROUND(J72*$F72/SUM(COUNTRY_INFO!$E72:$G72),0))*2)","v":215718},{"$f":"IF($I72<>\"Yes\",$G72*3,($G72+ROUND(J72*$G72/SUM(COUNTRY_INFO!$E72:$G72),0))*3)","v":597519},813237,0,813237]
[{"$f":"IF(INTRO!$E$43=\"Non-endemic\",\" \", IF(COUNTRY_INFO!A73=0,\" \",COUNTRY_INFO!A73))","v":"Uganda"},{"$f":"IF(INTRO!$E$43=\"Non-endemic\",\" \", IF(COUNTRY_INFO!B73=0,\" \",COUNTRY_INFO!B73))","v":"Eastern"},{"$f":"IF(INTRO!$E$43=\"Non-endemic\",\" \", IF(COUNTRY_INFO!C73=0,\" \",COUNTRY_INFO!C73))","v":"Sironko"},{"$f":"IF(INTRO!$E$43=\"Non-endemic\", \"Not required\", COUNTRY_INFO!Y73)","v":1},{"$f":"IF(OR(COUNTRY_INFO!R73=\"Unknown\",COUNTRY_INFO!R73=\"Surveillance\",COUNTRY_INFO!R73=\"Not required\",COUNTRY_INFO!R73=0),0,IF($D73<>0, COUNTRY_INFO!R73,0))","v":0},{"$f":"IF(OR(COUNTRY_INFO!S73=\"Unknown\",COUNTRY_INFO!S73=\"Surveillance\",COUNTRY_INFO!S73=\"Not required\",COUNTRY_INFO!S73=0),0,IF($D73<>0, COUNTRY_INFO!S73,0))","v":100393},{"$f":"IF(OR(COUNTRY_INFO!T73=\"Unknown\",COUNTRY_INFO!T73=\"Surveillance\",COUNTRY_INFO!T73=\"Not required\",COUNTRY_INFO!T73=0),0,IF($D73<>0, COUNTRY_INFO!T73,0))","v":34696},135089,null,null,1,"SAC",null,{"$f":"IF($I73<>\"Yes\",$F73*2,($F73+ROUND(J73*$F73/SUM(COUNTRY_INFO!$E73:$G73),0))*2)","v":200786},{"$f":"IF($I73<>\"Yes\",$G73*3,($G73+ROUND(J73*$G73/SUM(COUNTRY_INFO!$E73:$G73),0))*3)","v":104088},304874,0,304874]
[{"$f":"IF(INTRO!$E$43=\"Non-endemic\",\" \", IF(COUNTRY_INFO!A74=0,\" \",COUNTRY_INFO!A74))","v":"Uganda"},{"$f":"IF(INTRO!$E$43=\"Non-endemic\",\" \", IF(COUNTRY_INFO!B74=0,\" \",COUNTRY_INFO!B74))","v":"Eastern"},{"$f":"IF(INTRO!$E$43=\"Non-endemic\",\" \", IF(COUNTRY_INFO!C74=0,\" \",COUNTRY_INFO!C74))","v":"Soroti"},{"$f":"IF(INTRO!$E$43=\"Non-endemic\", \"Not required\", COUNTRY_INFO!Y74)","v":1},{"$f":"IF(OR(COUNTRY_INFO!R74=\"Unknown\",COUNTRY_INFO!R74=\"Surveillance\",COUNTRY_INFO!R74=\"Not required\",COUNTRY_INFO!R74=0),0,IF($D74<>0, COUNTRY_INFO!R74,0))","v":0},{"$f":"IF(OR(COUNTRY_INFO!S74=\"Unknown\",COUNTRY_INFO!S74=\"Surveillance\",COUNTRY_INFO!S74=\"Not required\",COUNTRY_INFO!S74=0),0,IF($D74<>0, COUNTRY_INFO!S74,0))","v":100827},{"$f":"IF(OR(COUNTRY_INFO!T74=\"Unknown\",COUNTRY_INFO!T74=\"Surveillance\",COUNTRY_INFO!T74=\"Not required\",COUNTRY_INFO!T74=0),0,IF($D74<>0, COUNTRY_INFO!T74,0))","v":0},100827,null,null,1,"SAC",null,{"$f":"IF($I74<>\"Yes\",$F74*2,($F74+ROUND(J74*$F74/SUM(COUNTRY_INFO!$E74:$G74),0))*2)","v":201654},{"$f":"IF($I74<>\"Yes\",$G74*3,($G74+ROUND(J74*$G74/SUM(COUNTRY_INFO!$E74:$G74),0))*3)","v":0},201654,0,201654]
[{"$f":"IF(INTRO!$E$43=\"Non-endemic\",\" \", IF(COUNTRY_INFO!A75=0,\" \",COUNTRY_INFO!A75))","v":"Uganda"},{"$f":"IF(INTRO!$E$43=\"Non-endemic\",\" \", IF(COUNTRY_INFO!B75=0,\" \",COUNTRY_INFO!B75))","v":"Eastern"},{"$f":"IF(INTRO!$E$43=\"Non-endemic\",\" \", IF(COUNTRY_INFO!C75=0,\" \",COUNTRY_INFO!C75))","v":"Soroti City"},{"$f":"IF(INTRO!$E$43=\"Non-endemic\", \"Not required\", COUNTRY_INFO!Y75)","v":0},{"$f":"IF(OR(COUNTRY_INFO!R75=\"Unknown\",COUNTRY_INFO!R75=\"Surveillance\",COUNTRY_INFO!R75=\"Not required\",COUNTRY_INFO!R75=0),0,IF($D75<>0, COUNTRY_INFO!R75,0))","v":0},{"$f":"IF(OR(COUNTRY_INFO!S75=\"Unknown\",COUNTRY_INFO!S75=\"Surveillance\",COUNTRY_INFO!S75=\"Not required\",COUNTRY_INFO!S75=0),0,IF($D75<>0, COUNTRY_INFO!S75,0))","v":0},{"$f":"IF(OR(COUNTRY_INFO!T75=\"Unknown\",COUNTRY_INFO!T75=\"Surveillance\",COUNTRY_INFO!T75=\"Not required\",COUNTRY_INFO!T75=0),0,IF($D75<>0, COUNTRY_INFO!T75,0))","v":0},{"$f":"SUM(E75:G75)","v":0},null,null,null,null,null,{"$f":"IF($I75<>\"Yes\",$F75*2,($F75+ROUND(J75*$F75/SUM(COUNTRY_INFO!$E75:$G75),0))*2)","v":0},{"$f":"IF($I75<>\"Yes\",$G75*3,($G75+ROUND(J75*$G75/SUM(COUNTRY_INFO!$E75:$G75),0))*3)","v":0},{"$f":"SUM(M75:O75)","v":0},null,{"$f":"IF($P75>$Q75,P75-Q75,0)","v":0}]
[{"$f":"IF(INTRO!$E$43=\"Non-endemic\",\" \", IF(COUNTRY_INFO!A76=0,\" \",COUNTRY_INFO!A76))","v":"Uganda"},{"$f":"IF(INTRO!$E$43=\"Non-endemic\",\" \", IF(COUNTRY_INFO!B76=0,\" \",COUNTRY_INFO!B76))","v":"Eastern"},{"$f":"IF(INTRO!$E$43=\"Non-endemic\",\" \", IF(COUNTRY_INFO!C76=0,\" \",COUNTRY_INFO!C76))","v":"Tororo"},{"$f":"IF(INTRO!$E$43=\"Non-endemic\", \"Not required\", COUNTRY_INFO!Y76)","v":1},{"$f":"IF(OR(COUNTRY_INFO!R76=\"Unknown\",COUNTRY_INFO!R76=\"Surveillance\",COUNTRY_INFO!R76=\"Not required\",COUNTRY_INFO!R76=0),0,IF($D76<>0, COUNTRY_INFO!R76,0))","v":0},{"$f":"IF(OR(COUNTRY_INFO!S76=\"Unknown\",COUNTRY_INFO!S76=\"Surveillance\",COUNTRY_INFO!S76=\"Not required\",COUNTRY_INFO!S76=0),0,IF($D76<>0, COUNTRY_INFO!S76,0))","v":112851},{"$f":"IF(OR(COUNTRY_INFO!T76=\"Unknown\",COUNTRY_INFO!T76=\"Surveillance\",COUNTRY_INFO!T76=\"Not required\",COUNTRY_INFO!T76=0),0,IF($D76<>0, COUNTRY_INFO!T76,0))","v":70241},183092,null,null,1,"SAC",null,{"$f":"IF($I76<>\"Yes\",$F76*2,($F76+ROUND(J76*$F76/SUM(COUNTRY_INFO!$E76:$G76),0))*2)","v":225702},{"$f":"IF($I76<>\"Yes\",$G76*3,($G76+ROUND(J76*$G76/SUM(COUNTRY_INFO!$E76:$G76),0))*3)","v":210723},436425,0,436425]
[{"$f":"IF(INTRO!$E$43=\"Non-endemic\",\" \", IF(COUNTRY_INFO!A77=0,\" \",COUNTRY_INFO!A77))","v":"Uganda"},{"$f":"IF(INTRO!$E$43=\"Non-endemic\",\" \", IF(COUNTRY_INFO!B77=0,\" \",COUNTRY_INFO!B77))","v":"Northern"},{"$f":"IF(INTRO!$E$43=\"Non-endemic\",\" \", IF(COUNTRY_INFO!C77=0,\" \",COUNTRY_INFO!C77))","v":"Abim"},{"$f":"IF(INTRO!$E$43=\"Non-endemic\", \"Not required\", COUNTRY_INFO!Y77)","v":0},{"$f":"IF(OR(COUNTRY_INFO!R77=\"Unknown\",COUNTRY_INFO!R77=\"Surveillance\",COUNTRY_INFO!R77=\"Not required\",COUNTRY_INFO!R77=0),0,IF($D77<>0, COUNTRY_INFO!R77,0))","v":0},{"$f":"IF(OR(COUNTRY_INFO!S77=\"Unknown\",COUNTRY_INFO!S77=\"Surveillance\",COUNTRY_INFO!S77=\"Not required\",COUNTRY_INFO!S77=0),0,IF($D77<>0, COUNTRY_INFO!S77,0))","v":0},{"$f":"IF(OR(COUNTRY_INFO!T77=\"Unknown\",COUNTRY_INFO!T77=\"Surveillance\",COUNTRY_INFO!T77=\"Not required\",COUNTRY_INFO!T77=0),0,IF($D77<>0, COUNTRY_INFO!T77,0))","v":0},0,null,null,null,null,null,{"$f":"IF($I77<>\"Yes\",$F77*2,($F77+ROUND(J77*$F77/SUM(COUNTRY_INFO!$E77:$G77),0))*2)","v":0},{"$f":"IF($I77<>\"Yes\",$G77*3,($G77+ROUND(J77*$G77/SUM(COUNTRY_INFO!$E77:$G77),0))*3)","v":0},0,null,0]
[{"$f":"IF(INTRO!$E$43=\"Non-endemic\",\" \", IF(COUNTRY_INFO!A78=0,\" \",COUNTRY_INFO!A78))","v":"Uganda"},{"$f":"IF(INTRO!$E$43=\"Non-endemic\",\" \", IF(COUNTRY_INFO!B78=0,\" \",COUNTRY_INFO!B78))","v":"Northern"},{"$f":"IF(INTRO!$E$43=\"Non-endemic\",\" \", IF(COUNTRY_INFO!C78=0,\" \",COUNTRY_INFO!C78))","v":"Adjumani"},{"$f":"IF(INTRO!$E$43=\"Non-endemic\", \"Not required\", COUNTRY_INFO!Y78)","v":1},{"$f":"IF(OR(COUNTRY_INFO!R78=\"Unknown\",COUNTRY_INFO!R78=\"Surveillance\",COUNTRY_INFO!R78=\"Not required\",COUNTRY_INFO!R78=0),0,IF($D78<>0, COUNTRY_INFO!R78,0))","v":0},{"$f":"IF(OR(COUNTRY_INFO!S78=\"Unknown\",COUNTRY_INFO!S78=\"Surveillance\",COUNTRY_INFO!S78=\"Not required\",COUNTRY_INFO!S78=0),0,IF($D78<>0, COUNTRY_INFO!S78,0))","v":21183},{"$f":"IF(OR(COUNTRY_INFO!T78=\"Unknown\",COUNTRY_INFO!T78=\"Surveillance\",COUNTRY_INFO!T78=\"Not required\",COUNTRY_INFO!T78=0),0,IF($D78<>0, COUNTRY_INFO!T78,0))","v":163490},184673,null,null,1,"SAC",null,{"$f":"IF($I78<>\"Yes\",$F78*2,($F78+ROUND(J78*$F78/SUM(COUNTRY_INFO!$E78:$G78),0))*2)","v":42366},{"$f":"IF($I78<>\"Yes\",$G78*3,($G78+ROUND(J78*$G78/SUM(COUNTRY_INFO!$E78:$G78),0))*3)","v":490470},532836,0,532836]
[{"$f":"IF(INTRO!$E$43=\"Non-endemic\",\" \", IF(COUNTRY_INFO!A79=0,\" \",COUNTRY_INFO!A79))","v":"Uganda"},{"$f":"IF(INTRO!$E$43=\"Non-endemic\",\" \", IF(COUNTRY_INFO!B79=0,\" \",COUNTRY_INFO!B79))","v":"Northern"},{"$f":"IF(INTRO!$E$43=\"Non-endemic\",\" \", IF(COUNTRY_INFO!C79=0,\" \",COUNTRY_INFO!C79))","v":"Agago"},{"$f":"IF(INTRO!$E$43=\"Non-endemic\", \"Not required\", COUNTRY_INFO!Y79)","v":0},{"$f":"IF(OR(COUNTRY_INFO!R79=\"Unknown\",COUNTRY_INFO!R79=\"Surveillance\",COUNTRY_INFO!R79=\"Not required\",COUNTRY_INFO!R79=0),0,IF($D79<>0, COUNTRY_INFO!R79,0))","v":0},{"$f":"IF(OR(COUNTRY_INFO!S79=\"Unknown\",COUNTRY_INFO!S79=\"Surveillance\",COUNTRY_INFO!S79=\"Not required\",COUNTRY_INFO!S79=0),0,IF($D79<>0, COUNTRY_INFO!S79,0))","v":0},{"$f":"IF(OR(COUNTRY_INFO!T79=\"Unknown\",COUNTRY_INFO!T79=\"Surveillance\",COUNTRY_INFO!T79=\"Not required\",COUNTRY_INFO!T79=0),0,IF($D79<>0, COUNTRY_INFO!T79,0))","v":0},0,null,null,null,null,null,{"$f":"IF($I79<>\"Yes\",$F79*2,($F79+ROUND(J79*$F79/SUM(COUNTRY_INFO!$E79:$G79),0))*2)","v":0},{"$f":"IF($I79<>\"Yes\",$G79*3,($G79+ROUND(J79*$G79/SUM(COUNTRY_INFO!$E79:$G79),0))*3)","v":0},0,null,0]
[{"$f":"IF(INTRO!$E$43=\"Non-endemic\",\" \", IF(COUNTRY_INFO!A80=0,\" \",COUNTRY_INFO!A80))","v":"Uganda"},{"$f":"IF(INTRO!$E$43=\"Non-endemic\",\" \", IF(COUNTRY_INFO!B80=0,\" \",COUNTRY_INFO!B80))","v":"Northern"},{"$f":"IF(INTRO!$E$43=\"Non-endemic\",\" \", IF(COUNTRY_INFO!C80=0,\" \",COUNTRY_INFO!C80))","v":"Alebtong"},{"$f":"IF(INTRO!$E$43=\"Non-endemic\", \"Not required\", COUNTRY_INFO!Y80)","v":1},{"$f":"IF(OR(COUNTRY_INFO!R80=\"Unknown\",COUNTRY_INFO!R80=\"Surveillance\",COUNTRY_INFO!R80=\"Not required\",COUNTRY_INFO!R80=0),0,IF($D80<>0, COUNTRY_INFO!R80,0))","v":0},{"$f":"IF(OR(COUNTRY_INFO!S80=\"Unknown\",COUNTRY_INFO!S80=\"Surveillance\",COUNTRY_INFO!S80=\"Not required\",COUNTRY_INFO!S80=0),0,IF($D80<>0, COUNTRY_INFO!S80,0))","v":89153},{"$f":"IF(OR(COUNTRY_INFO!T80=\"Unknown\",COUNTRY_INFO!T80=\"Surveillance\",COUNTRY_INFO!T80=\"Not required\",COUNTRY_INFO!T80=0),0,IF($D80<>0, COUNTRY_INFO!T80,0))","v":158232},247385,null,null,1,"SAC",null,{"$f":"IF($I80<>\"Yes\",$F80*2,($F80+ROUND(J80*$F80/SUM(COUNTRY_INFO!$E80:$G80),0))*2)","v":178306},{"$f":"IF($I80<>\"Yes\",$G80*3,($G80+ROUND(J80*$G80/SUM(COUNTRY_INFO!$E80:$G80),0))*3)","v":474696},653002,0,653002]
[{"$f":"IF(INTRO!$E$43=\"Non-endemic\",\" \", IF(COUNTRY_INFO!A81=0,\" \",COUNTRY_INFO!A81))","v":"Uganda"},{"$f":"IF(INTRO!$E$43=\"Non-endemic\",\" \", IF(COUNTRY_INFO!B81=0,\" \",COUNTRY_INFO!B81))","v":"Northern"},{"$f":"IF(INTRO!$E$43=\"Non-endemic\",\" \", IF(COUNTRY_INFO!C81=0,\" \",COUNTRY_INFO!C81))","v":"Amolatar"},{"$f":"IF(INTRO!$E$43=\"Non-endemic\", \"Not required\", COUNTRY_INFO!Y81)","v":1},{"$f":"IF(OR(COUNTRY_INFO!R81=\"Unknown\",COUNTRY_INFO!R81=\"Surveillance\",COUNTRY_INFO!R81=\"Not required\",COUNTRY_INFO!R81=0),0,IF($D81<>0, COUNTRY_INFO!R81,0))","v":0},{"$f":"IF(OR(COUNTRY_INFO!S81=\"Unknown\",COUNTRY_INFO!S81=\"Surveillance\",COUNTRY_INFO!S81=\"Not required\",COUNTRY_INFO!S81=0),0,IF($D81<>0, COUNTRY_INFO!S81,0))","v":59160},{"$f":"IF(OR(COUNTRY_INFO!T81=\"Unknown\",COUNTRY_INFO!T81=\"Surveillance\",COUNTRY_INFO!T81=\"Not required\",COUNTRY_INFO!T81=0),0,IF($D81<>0, COUNTRY_INFO!T81,0))","v":103161},162321,null,null,1,"SAC",null,{"$f":"IF($I81<>\"Yes\",$F81*2,($F81+ROUND(J81*$F81/SUM(COUNTRY_INFO!$E81:$G81),0))*2)","v":118320},{"$f":"IF($I81<>\"Yes\",$G81*3,($G81+ROUND(J81*$G81/SUM(COUNTRY_INFO!$E81:$G81),0))*3)","v":309483},427803,0,427803]
[{"$f":"IF(INTRO!$E$43=\"Non-endemic\",\" \", IF(COUNTRY_INFO!A82=0,\" \",COUNTRY_INFO!A82))","v":"Uganda"},{"$f":"IF(INTRO!$E$43=\"Non-endemic\",\" \", IF(COUNTRY_INFO!B82=0,\" \",COUNTRY_INFO!B82))","v":"Northern"},{"$f":"IF(INTRO!$E$43=\"Non-endemic\",\" \", IF(COUNTRY_INFO!C82=0,\" \",COUNTRY_INFO!C82))","v":"Amudat"},{"$f":"IF(INTRO!$E$43=\"Non-endemic\", \"Not required\", COUNTRY_INFO!Y82)","v":0},{"$f":"IF(OR(COUNTRY_INFO!R82=\"Unknown\",COUNTRY_INFO!R82=\"Surveillance\",COUNTRY_INFO!R82=\"Not required\",COUNTRY_INFO!R82=0),0,IF($D82<>0, COUNTRY_INFO!R82,0))","v":0},{"$f":"IF(OR(COUNTRY_INFO!S82=\"Unknown\",COUNTRY_INFO!S82=\"Surveillance\",COUNTRY_INFO!S82=\"Not required\",COUNTRY_INFO!S82=0),0,IF($D82<>0, COUNTRY_INFO!S82,0))","v":0},{"$f":"IF(OR(COUNTRY_INFO!T82=\"Unknown\",COUNTRY_INFO!T82=\"Surveillance\",COUNTRY_INFO!T82=\"Not required\",COUNTRY_INFO!T82=0),0,IF($D82<>0, COUNTRY_INFO!T82,0))","v":0},0,null,null,null,null,null,{"$f":"IF($I82<>\"Yes\",$F82*2,($F82+ROUND(J82*$F82/SUM(COUNTRY_INFO!$E82:$G82),0))*2)","v":0},{"$f":"IF($I82<>\"Yes\",$G82*3,($G82+ROUND(J82*$G82/SUM(COUNTRY_INFO!$E82:$G82),0))*3)","v":0},0,null,0]
[{"$f":"IF(INTRO!$E$43=\"Non-endemic\",\" \", IF(COUNTRY_INFO!A83=0,\" \",COUNTRY_INFO!A83))","v":"Uganda"},{"$f":"IF(INTRO!$E$43=\"Non-endemic\",\" \", IF(COUNTRY_INFO!B83=0,\" \",COUNTRY_INFO!B83))","v":"Northern"},{"$f":"IF(INTRO!$E$43=\"Non-endemic\",\" \", IF(COUNTRY_INFO!C83=0,\" \",COUNTRY_INFO!C83))","v":"Amuru"},{"$f":"IF(INTRO!$E$43=\"Non-endemic\", \"Not required\", COUNTRY_INFO!Y83)","v":1},{"$f":"IF(OR(COUNTRY_INFO!R83=\"Unknown\",COUNTRY_INFO!R83=\"Surveillance\",COUNTRY_INFO!R83=\"Not required\",COUNTRY_INFO!R83=0),0,IF($D83<>0, COUNTRY_INFO!R83,0))","v":0},{"$f":"IF(OR(COUNTRY_INFO!S83=\"Unknown\",COUNTRY_INFO!S83=\"Surveillance\",COUNTRY_INFO!S83=\"Not required\",COUNTRY_INFO!S83=0),0,IF($D83<>0, COUNTRY_INFO!S83,0))","v":66289},{"$f":"IF(OR(COUNTRY_INFO!T83=\"Unknown\",COUNTRY_INFO!T83=\"Surveillance\",COUNTRY_INFO!T83=\"Not required\",COUNTRY_INFO!T83=0),0,IF($D83<>0, COUNTRY_INFO!T83,0))","v":133784},200073,null,null,1,"SAC",null,{"$f":"IF($I83<>\"Yes\",$F83*2,($F83+ROUND(J83*$F83/SUM(COUNTRY_INFO!$E83:$G83),0))*2)","v":132578},{"$f":"IF($I83<>\"Yes\",$G83*3,($G83+ROUND(J83*$G83/SUM(COUNTRY_INFO!$E83:$G83),0))*3)","v":401352},533930,0,533930]
[{"$f":"IF(INTRO!$E$43=\"Non-endemic\",\" \", IF(COUNTRY_INFO!A84=0,\" \",COUNTRY_INFO!A84))","v":"Uganda"},{"$f":"IF(INTRO!$E$43=\"Non-endemic\",\" \", IF(COUNTRY_INFO!B84=0,\" \",COUNTRY_INFO!B84))","v":"Northern"},{"$f":"IF(INTRO!$E$43=\"Non-endemic\",\" \", IF(COUNTRY_INFO!C84=0,\" \",COUNTRY_INFO!C84))","v":"Apac"},{"$f":"IF(INTRO!$E$43=\"Non-endemic\", \"Not required\", COUNTRY_INFO!Y84)","v":1},{"$f":"IF(OR(COUNTRY_INFO!R84=\"Unknown\",COUNTRY_INFO!R84=\"Surveillance\",COUNTRY_INFO!R84=\"Not required\",COUNTRY_INFO!R84=0),0,IF($D84<>0, COUNTRY_INFO!R84,0))","v":0},{"$f":"IF(OR(COUNTRY_INFO!S84=\"Unknown\",COUNTRY_INFO!S84=\"Surveillance\",COUNTRY_INFO!S84=\"Not required\",COUNTRY_INFO!S84=0),0,IF($D84<>0, COUNTRY_INFO!S84,0))","v":75458},{"$f":"IF(OR(COUNTRY_INFO!T84=\"Unknown\",COUNTRY_INFO!T84=\"Surveillance\",COUNTRY_INFO!T84=\"Not required\",COUNTRY_INFO!T84=0),0,IF($D84<>0, COUNTRY_INFO!T84,0))","v":130178},205636,null,null,1,"SAC",null,{"$f":"IF($I84<>\"Yes\",$F84*2,($F84+ROUND(J84*$F84/SUM(COUNTRY_INFO!$E84:$G84),0))*2)","v":150916},{"$f":"IF($I84<>\"Yes\",$G84*3,($G84+ROUND(J84*$G84/SUM(COUNTRY_INFO!$E84:$G84),0))*3)","v":390534},541450,0,541450]
[{"$f":"IF(INTRO!$E$43=\"Non-endemic\",\" \", IF(COUNTRY_INFO!A85=0,\" \",COUNTRY_INFO!A85))","v":"Uganda"},{"$f":"IF(INTRO!$E$43=\"Non-endemic\",\" \", IF(COUNTRY_INFO!B85=0,\" \",COUNTRY_INFO!B85))","v":"Northern"},{"$f":"IF(INTRO!$E$43=\"Non-endemic\",\" \", IF(COUNTRY_INFO!C85=0,\" \",COUNTRY_INFO!C85))","v":"Arua"},{"$f":"IF(INTRO!$E$43=\"Non-endemic\", \"Not required\", COUNTRY_INFO!Y85)","v":1},{"$f":"IF(OR(COUNTRY_INFO!R85=\"Unknown\",COUNTRY_INFO!R85=\"Surveillance\",COUNTRY_INFO!R85=\"Not required\",COUNTRY_INFO!R85=0),0,IF($D85<>0, COUNTRY_INFO!R85,0))","v":0},{"$f":"IF(OR(COUNTRY_INFO!S85=\"Unknown\",COUNTRY_INFO!S85=\"Surveillance\",COUNTRY_INFO!S85=\"Not required\",COUNTRY_INFO!S85=0),0,IF($D85<>0, COUNTRY_INFO!S85,0))","v":44874},{"$f":"IF(OR(COUNTRY_INFO!T85=\"Unknown\",COUNTRY_INFO!T85=\"Surveillance\",COUNTRY_INFO!T85=\"Not required\",COUNTRY_INFO!T85=0),0,IF($D85<>0, COUNTRY_INFO!T85,0))","v":93845},138719,null,null,1,"SAC",null,{"$f":"IF($I85<>\"Yes\",$F85*2,($F85+ROUND(J85*$F85/SUM(COUNTRY_INFO!$E85:$G85),0))*2)","v":89748},{"$f":"IF($I85<>\"Yes\",$G85*3,($G85+ROUND(J85*$G85/SUM(COUNTRY_INFO!$E85:$G85),0))*3)","v":281535},371283,0,371283]
[{"$f":"IF(INTRO!$E$43=\"Non-endemic\",\" \", IF(COUNTRY_INFO!A86=0,\" \",COUNTRY_INFO!A86))","v":"Uganda"},{"$f":"IF(INTRO!$E$43=\"Non-endemic\",\" \", IF(COUNTRY_INFO!B86=0,\" \",COUNTRY_INFO!B86))","v":"Northern"},{"$f":"IF(INTRO!$E$43=\"Non-endemic\",\" \", IF(COUNTRY_INFO!C86=0,\" \",COUNTRY_INFO!C86))","v":"Arua City"},{"$f":"IF(INTRO!$E$43=\"Non-endemic\", \"Not required\", COUNTRY_INFO!Y86)","v":1},{"$f":"IF(OR(COUNTRY_INFO!R86=\"Unknown\",COUNTRY_INFO!R86=\"Surveillance\",COUNTRY_INFO!R86=\"Not required\",COUNTRY_INFO!R86=0),0,IF($D86<>0, COUNTRY_INFO!R86,0))","v":0},{"$f":"IF(OR(COUNTRY_INFO!S86=\"Unknown\",COUNTRY_INFO!S86=\"Surveillance\",COUNTRY_INFO!S86=\"Not required\",COUNTRY_INFO!S86=0),0,IF($D86<>0, COUNTRY_INFO!S86,0))","v":125719},{"$f":"IF(OR(COUNTRY_INFO!T86=\"Unknown\",COUNTRY_INFO!T86=\"Surveillance\",COUNTRY_INFO!T86=\"Not required\",COUNTRY_INFO!T86=0),0,IF($D86<>0, COUNTRY_INFO!T86,0))","v":216886},342605,null,null,1,"SAC",null,{"$f":"IF($I86<>\"Yes\",$F86*2,($F86+ROUND(J86*$F86/SUM(COUNTRY_INFO!$E86:$G86),0))*2)","v":251438},{"$f":"IF($I86<>\"Yes\",$G86*3,($G86+ROUND(J86*$G86/SUM(COUNTRY_INFO!$E86:$G86),0))*3)","v":650658},902096,0,902096]
[{"$f":"IF(INTRO!$E$43=\"Non-endemic\",\" \", IF(COUNTRY_INFO!A87=0,\" \",COUNTRY_INFO!A87))","v":"Uganda"},{"$f":"IF(INTRO!$E$43=\"Non-endemic\",\" \", IF(COUNTRY_INFO!B87=0,\" \",COUNTRY_INFO!B87))","v":"Northern"},{"$f":"IF(INTRO!$E$43=\"Non-endemic\",\" \", IF(COUNTRY_INFO!C87=0,\" \",COUNTRY_INFO!C87))","v":"Dokolo"},{"$f":"IF(INTRO!$E$43=\"Non-endemic\", \"Not required\", COUNTRY_INFO!Y87)","v":1},{"$f":"IF(OR(COUNTRY_INFO!R87=\"Unknown\",COUNTRY_INFO!R87=\"Surveillance\",COUNTRY_INFO!R87=\"Not required\",COUNTRY_INFO!R87=0),0,IF($D87<>0, COUNTRY_INFO!R87,0))","v":0},{"$f":"IF(OR(COUNTRY_INFO!S87=\"Unknown\",COUNTRY_INFO!S87=\"Surveillance\",COUNTRY_INFO!S87=\"Not required\",COUNTRY_INFO!S87=0),0,IF($D87<>0, COUNTRY_INFO!S87,0))","v":56148},{"$f":"IF(OR(COUNTRY_INFO!T87=\"Unknown\",COUNTRY_INFO!T87=\"Surveillance\",COUNTRY_INFO!T87=\"Not required\",COUNTRY_INFO!T87=0),0,IF($D87<>0, COUNTRY_INFO!T87,0))","v":25685},81833,null,null,1,"SAC",null,{"$f":"IF($I87<>\"Yes\",$F87*2,($F87+ROUND(J87*$F87/SUM(COUNTRY_INFO!$E87:$G87),0))*2)","v":112296},{"$f":"IF($I87<>\"Yes\",$G87*3,($G87+ROUND(J87*$G87/SUM(COUNTRY_INFO!$E87:$G87),0))*3)","v":77055},189351,0,189351]
[{"$f":"IF(INTRO!$E$43=\"Non-endemic\",\" \", IF(COUNTRY_INFO!A88=0,\" \",COUNTRY_INFO!A88))","v":"Uganda"},{"$f":"IF(INTRO!$E$43=\"Non-endemic\",\" \", IF(COUNTRY_INFO!B88=0,\" \",COUNTRY_INFO!B88))","v":"Northern"},{"$f":"IF(INTRO!$E$43=\"Non-endemic\",\" \", IF(COUNTRY_INFO!C88=0,\" \",COUNTRY_INFO!C88))","v":"Gulu"},{"$f":"IF(INTRO!$E$43=\"Non-endemic\", \"Not required\", COUNTRY_INFO!Y88)","v":1},{"$f":"IF(OR(COUNTRY_INFO!R88=\"Unknown\",COUNTRY_INFO!R88=\"Surveillance\",COUNTRY_INFO!R88=\"Not required\",COUNTRY_INFO!R88=0),0,IF($D88<>0, COUNTRY_INFO!R88,0))","v":0},{"$f":"IF(OR(COUNTRY_INFO!S88=\"Unknown\",COUNTRY_INFO!S88=\"Surveillance\",COUNTRY_INFO!S88=\"Not required\",COUNTRY_INFO!S88=0),0,IF($D88<>0, COUNTRY_INFO!S88,0))","v":51213},{"$f":"IF(OR(COUNTRY_INFO!T88=\"Unknown\",COUNTRY_INFO!T88=\"Surveillance\",COUNTRY_INFO!T88=\"Not required\",COUNTRY_INFO!T88=0),0,IF($D88<>0, COUNTRY_INFO!T88,0))","v":17699},68912,null,null,1,"SAC",null,{"$f":"IF($I88<>\"Yes\",$F88*2,($F88+ROUND(J88*$F88/SUM(COUNTRY_INFO!$E88:$G88),0))*2)","v":102426},{"$f":"IF($I88<>\"Yes\",$G88*3,($G88+ROUND(J88*$G88/SUM(COUNTRY_INFO!$E88:$G88),0))*3)","v":53097},155523,0,155523]
[{"$f":"IF(INTRO!$E$43=\"Non-endemic\",\" \", IF(COUNTRY_INFO!A89=0,\" \",COUNTRY_INFO!A89))","v":"Uganda"},{"$f":"IF(INTRO!$E$43=\"Non-endemic\",\" \", IF(COUNTRY_INFO!B89=0,\" \",COUNTRY_INFO!B89))","v":"Northern"},{"$f":"IF(INTRO!$E$43=\"Non-endemic\",\" \", IF(COUNTRY_INFO!C89=0,\" \",COUNTRY_INFO!C89))","v":"Gulu City"},{"$f":"IF(INTRO!$E$43=\"Non-endemic\", \"Not required\", COUNTRY_INFO!Y89)","v":1},{"$f":"IF(OR(COUNTRY_INFO!R89=\"Unknown\",COUNTRY_INFO!R89=\"Surveillance\",COUNTRY_INFO!R89=\"Not required\",COUNTRY_INFO!R89=0),0,IF($D89<>0, COUNTRY_INFO!R89,0))","v":0},{"$f":"IF(OR(COUNTRY_INFO!S89=\"Unknown\",COUNTRY_INFO!S89=\"Surveillance\",COUNTRY_INFO!S89=\"Not required\",COUNTRY_INFO!S89=0),0,IF($D89<>0, COUNTRY_INFO!S89,0))","v":0},{"$f":"IF(OR(COUNTRY_INFO!T89=\"Unknown\",COUNTRY_INFO!T89=\"Surveillance\",COUNTRY_INFO!T89=\"Not required\",COUNTRY_INFO!T89=0),0,IF($D89<>0, COUNTRY_INFO!T89,0))","v":0},0,null,null,1,"SAC",null,{"$f":"IF($I89<>\"Yes\",$F89*2,($F89+ROUND(J89*$F89/SUM(COUNTRY_INFO!$E89:$G89),0))*2)","v":0},{"$f":"IF($I89<>\"Yes\",$G89*3,($G89+ROUND(J89*$G89/SUM(COUNTRY_INFO!$E89:$G89),0))*3)","v":0},0,0,0]
[{"$f":"IF(INTRO!$E$43=\"Non-endemic\",\" \", IF(COUNTRY_INFO!A90=0,\" \",COUNTRY_INFO!A90))","v":"Uganda"},{"$f":"IF(INTRO!$E$43=\"Non-endemic\",\" \", IF(COUNTRY_INFO!B90=0,\" \",COUNTRY_INFO!B90))","v":"Northern"},{"$f":"IF(INTRO!$E$43=\"Non-endemic\",\" \", IF(COUNTRY_INFO!C90=0,\" \",COUNTRY_INFO!C90))","v":"Kaabong"},{"$f":"IF(INTRO!$E$43=\"Non-endemic\", \"Not required\", COUNTRY_INFO!Y90)","v":0},{"$f":"IF(OR(COUNTRY_INFO!R90=\"Unknown\",COUNTRY_INFO!R90=\"Surveillance\",COUNTRY_INFO!R90=\"Not required\",COUNTRY_INFO!R90=0),0,IF($D90<>0, COUNTRY_INFO!R90,0))","v":0},{"$f":"IF(OR(COUNTRY_INFO!S90=\"Unknown\",COUNTRY_INFO!S90=\"Surveillance\",COUNTRY_INFO!S90=\"Not required\",COUNTRY_INFO!S90=0),0,IF($D90<>0, COUNTRY_INFO!S90,0))","v":0},{"$f":"IF(OR(COUNTRY_INFO!T90=\"Unknown\",COUNTRY_INFO!T90=\"Surveillance\",COUNTRY_INFO!T90=\"Not required\",COUNTRY_INFO!T90=0),0,IF($D90<>0, COUNTRY_INFO!T90,0))","v":0},0,null,null,null,null,null,{"$f":"IF($I90<>\"Yes\",$F90*2,($F90+ROUND(J90*$F90/SUM(COUNTRY_INFO!$E90:$G90),0))*2)","v":0},{"$f":"IF($I90<>\"Yes\",$G90*3,($G90+ROUND(J90*$G90/SUM(COUNTRY_INFO!$E90:$G90),0))*3)","v":0},0,null,0]
[{"$f":"IF(INTRO!$E$43=\"Non-endemic\",\" \", IF(COUNTRY_INFO!A91=0,\" \",COUNTRY_INFO!A91))","v":"Uganda"},{"$f":"IF(INTRO!$E$43=\"Non-endemic\",\" \", IF(COUNTRY_INFO!B91=0,\" \",COUNTRY_INFO!B91))","v":"Northern"},{"$f":"IF(INTRO!$E$43=\"Non-endemic\",\" \", IF(COUNTRY_INFO!C91=0,\" \",COUNTRY_INFO!C91))","v":"Karenga"},{"$f":"IF(INTRO!$E$43=\"Non-endemic\", \"Not required\", COUNTRY_INFO!Y91)","v":0},{"$f":"IF(OR(COUNTRY_INFO!R91=\"Unknown\",COUNTRY_INFO!R91=\"Surveillance\",COUNTRY_INFO!R91=\"Not required\",COUNTRY_INFO!R91=0),0,IF($D91<>0, COUNTRY_INFO!R91,0))","v":0},{"$f":"IF(OR(COUNTRY_INFO!S91=\"Unknown\",COUNTRY_INFO!S91=\"Surveillance\",COUNTRY_INFO!S91=\"Not required\",COUNTRY_INFO!S91=0),0,IF($D91<>0, COUNTRY_INFO!S91,0))","v":0},{"$f":"IF(OR(COUNTRY_INFO!T91=\"Unknown\",COUNTRY_INFO!T91=\"Surveillance\",COUNTRY_INFO!T91=\"Not required\",COUNTRY_INFO!T91=0),0,IF($D91<>0, COUNTRY_INFO!T91,0))","v":0},0,null,null,null,null,null,{"$f":"IF($I91<>\"Yes\",$F91*2,($F91+ROUND(J91*$F91/SUM(COUNTRY_INFO!$E91:$G91),0))*2)","v":0},{"$f":"IF($I91<>\"Yes\",$G91*3,($G91+ROUND(J91*$G91/SUM(COUNTRY_INFO!$E91:$G91),0))*3)","v":0},0,null,0]
[{"$f":"IF(INTRO!$E$43=\"Non-endemic\",\" \", IF(COUNTRY_INFO!A92=0,\" \",COUNTRY_INFO!A92))","v":"Uganda"},{"$f":"IF(INTRO!$E$43=\"Non-endemic\",\" \", IF(COUNTRY_INFO!B92=0,\" \",COUNTRY_INFO!B92))","v":"Northern"},{"$f":"IF(INTRO!$E$43=\"Non-endemic\",\" \", IF(COUNTRY_INFO!C92=0,\" \",COUNTRY_INFO!C92))","v":"Kitgum"},{"$f":"IF(INTRO!$E$43=\"Non-endemic\", \"Not required\", COUNTRY_INFO!Y92)","v":1},{"$f":"IF(OR(COUNTRY_INFO!R92=\"Unknown\",COUNTRY_INFO!R92=\"Surveillance\",COUNTRY_INFO!R92=\"Not required\",COUNTRY_INFO!R92=0),0,IF($D92<>0, COUNTRY_INFO!R92,0))","v":0},{"$f":"IF(OR(COUNTRY_INFO!S92=\"Unknown\",COUNTRY_INFO!S92=\"Surveillance\",COUNTRY_INFO!S92=\"Not required\",COUNTRY_INFO!S92=0),0,IF($D92<>0, COUNTRY_INFO!S92,0))","v":48857},{"$f":"IF(OR(COUNTRY_INFO!T92=\"Unknown\",COUNTRY_INFO!T92=\"Surveillance\",COUNTRY_INFO!T92=\"Not required\",COUNTRY_INFO!T92=0),0,IF($D92<>0, COUNTRY_INFO!T92,0))","v":143262},192119,null,null,1,"SAC",null,{"$f":"IF($I92<>\"Yes\",$F92*2,($F92+ROUND(J92*$F92/SUM(COUNTRY_INFO!$E92:$G92),0))*2)","v":97714},{"$f":"IF($I92<>\"Yes\",$G92*3,($G92+ROUND(J92*$G92/SUM(COUNTRY_INFO!$E92:$G92),0))*3)","v":429786},527500,0,527500]
[{"$f":"IF(INTRO!$E$43=\"Non-endemic\",\" \", IF(COUNTRY_INFO!A93=0,\" \",COUNTRY_INFO!A93))","v":"Uganda"},{"$f":"IF(INTRO!$E$43=\"Non-endemic\",\" \", IF(COUNTRY_INFO!B93=0,\" \",COUNTRY_INFO!B93))","v":"Northern"},{"$f":"IF(INTRO!$E$43=\"Non-endemic\",\" \", IF(COUNTRY_INFO!C93=0,\" \",COUNTRY_INFO!C93))","v":"Koboko"},{"$f":"IF(INTRO!$E$43=\"Non-endemic\", \"Not required\", COUNTRY_INFO!Y93)","v":1},{"$f":"IF(OR(COUNTRY_INFO!R93=\"Unknown\",COUNTRY_INFO!R93=\"Surveillance\",COUNTRY_INFO!R93=\"Not required\",COUNTRY_INFO!R93=0),0,IF($D93<>0, COUNTRY_INFO!R93,0))","v":0},{"$f":"IF(OR(COUNTRY_INFO!S93=\"Unknown\",COUNTRY_INFO!S93=\"Surveillance\",COUNTRY_INFO!S93=\"Not required\",COUNTRY_INFO!S93=0),0,IF($D93<>0, COUNTRY_INFO!S93,0))","v":84732},{"$f":"IF(OR(COUNTRY_INFO!T93=\"Unknown\",COUNTRY_INFO!T93=\"Surveillance\",COUNTRY_INFO!T93=\"Not required\",COUNTRY_INFO!T93=0),0,IF($D93<>0, COUNTRY_INFO!T93,0))","v":146177},230909,null,null,1,"SAC",null,{"$f":"IF($I93<>\"Yes\",$F93*2,($F93+ROUND(J93*$F93/SUM(COUNTRY_INFO!$E93:$G93),0))*2)","v":169464},{"$f":"IF($I93<>\"Yes\",$G93*3,($G93+ROUND(J93*$G93/SUM(COUNTRY_INFO!$E93:$G93),0))*3)","v":438531},607995,0,607995]
[{"$f":"IF(INTRO!$E$43=\"Non-endemic\",\" \", IF(COUNTRY_INFO!A94=0,\" \",COUNTRY_INFO!A94))","v":"Uganda"},{"$f":"IF(INTRO!$E$43=\"Non-endemic\",\" \", IF(COUNTRY_INFO!B94=0,\" \",COUNTRY_INFO!B94))","v":"Northern"},{"$f":"IF(INTRO!$E$43=\"Non-endemic\",\" \", IF(COUNTRY_INFO!C94=0,\" \",COUNTRY_INFO!C94))","v":"Kole"},{"$f":"IF(INTRO!$E$43=\"Non-endemic\", \"Not required\", COUNTRY_INFO!Y94)","v":0},{"$f":"IF(OR(COUNTRY_INFO!R94=\"Unknown\",COUNTRY_INFO!R94=\"Surveillance\",COUNTRY_INFO!R94=\"Not required\",COUNTRY_INFO!R94=0),0,IF($D94<>0, COUNTRY_INFO!R94,0))","v":0},{"$f":"IF(OR(COUNTRY_INFO!S94=\"Unknown\",COUNTRY_INFO!S94=\"Surveillance\",COUNTRY_INFO!S94=\"Not required\",COUNTRY_INFO!S94=0),0,IF($D94<>0, COUNTRY_INFO!S94,0))","v":0},{"$f":"IF(OR(COUNTRY_INFO!T94=\"Unknown\",COUNTRY_INFO!T94=\"Surveillance\",COUNTRY_INFO!T94=\"Not required\",COUNTRY_INFO!T94=0),0,IF($D94<>0, COUNTRY_INFO!T94,0))","v":0},0,null,null,null,null,null,{"$f":"IF($I94<>\"Yes\",$F94*2,($F94+ROUND(J94*$F94/SUM(COUNTRY_INFO!$E94:$G94),0))*2)","v":0},{"$f":"IF($I94<>\"Yes\",$G94*3,($G94+ROUND(J94*$G94/SUM(COUNTRY_INFO!$E94:$G94),0))*3)","v":0},0,null,0]
[{"$f":"IF(INTRO!$E$43=\"Non-endemic\",\" \", IF(COUNTRY_INFO!A95=0,\" \",COUNTRY_INFO!A95))","v":"Uganda"},{"$f":"IF(INTRO!$E$43=\"Non-endemic\",\" \", IF(COUNTRY_INFO!B95=0,\" \",COUNTRY_INFO!B95))","v":"Northern"},{"$f":"IF(INTRO!$E$43=\"Non-endemic\",\" \", IF(COUNTRY_INFO!C95=0,\" \",COUNTRY_INFO!C95))","v":"Kotido"},{"$f":"IF(INTRO!$E$43=\"Non-endemic\", \"Not required\", COUNTRY_INFO!Y95)","v":0},{"$f":"IF(OR(COUNTRY_INFO!R95=\"Unknown\",COUNTRY_INFO!R95=\"Surveillance\",COUNTRY_INFO!R95=\"Not required\",COUNTRY_INFO!R95=0),0,IF($D95<>0, COUNTRY_INFO!R95,0))","v":0},{"$f":"IF(OR(COUNTRY_INFO!S95=\"Unknown\",COUNTRY_INFO!S95=\"Surveillance\",COUNTRY_INFO!S95=\"Not required\",COUNTRY_INFO!S95=0),0,IF($D95<>0, COUNTRY_INFO!S95,0))","v":0},{"$f":"IF(OR(COUNTRY_INFO!T95=\"Unknown\",COUNTRY_INFO!T95=\"Surveillance\",COUNTRY_INFO!T95=\"Not required\",COUNTRY_INFO!T95=0),0,IF($D95<>0, COUNTRY_INFO!T95,0))","v":0},0,null,null,null,null,null,{"$f":"IF($I95<>\"Yes\",$F95*2,($F95+ROUND(J95*$F95/SUM(COUNTRY_INFO!$E95:$G95),0))*2)","v":0},{"$f":"IF($I95<>\"Yes\",$G95*3,($G95+ROUND(J95*$G95/SUM(COUNTRY_INFO!$E95:$G95),0))*3)","v":0},0,null,0]
[{"$f":"IF(INTRO!$E$43=\"Non-endemic\",\" \", IF(COUNTRY_INFO!A96=0,\" \",COUNTRY_INFO!A96))","v":"Uganda"},{"$f":"IF(INTRO!$E$43=\"Non-endemic\",\" \", IF(COUNTRY_INFO!B96=0,\" \",COUNTRY_INFO!B96))","v":"Northern"},{"$f":"IF(INTRO!$E$43=\"Non-endemic\",\" \", IF(COUNTRY_INFO!C96=0,\" \",COUNTRY_INFO!C96))","v":"Kwania"},{"$f":"IF(INTRO!$E$43=\"Non-endemic\", \"Not required\", COUNTRY_INFO!Y96)","v":1},{"$f":"IF(OR(COUNTRY_INFO!R96=\"Unknown\",COUNTRY_INFO!R96=\"Surveillance\",COUNTRY_INFO!R96=\"Not required\",COUNTRY_INFO!R96=0),0,IF($D96<>0, COUNTRY_INFO!R96,0))","v":0},{"$f":"IF(OR(COUNTRY_INFO!S96=\"Unknown\",COUNTRY_INFO!S96=\"Surveillance\",COUNTRY_INFO!S96=\"Not required\",COUNTRY_INFO!S96=0),0,IF($D96<>0, COUNTRY_INFO!S96,0))","v":47247},{"$f":"IF(OR(COUNTRY_INFO!T96=\"Unknown\",COUNTRY_INFO!T96=\"Surveillance\",COUNTRY_INFO!T96=\"Not required\",COUNTRY_INFO!T96=0),0,IF($D96<>0, COUNTRY_INFO!T96,0))","v":0},47247,null,null,1,"SAC",null,{"$f":"IF($I96<>\"Yes\",$F96*2,($F96+ROUND(J96*$F96/SUM(COUNTRY_INFO!$E96:$G96),0))*2)","v":94494},{"$f":"IF($I96<>\"Yes\",$G96*3,($G96+ROUND(J96*$G96/SUM(COUNTRY_INFO!$E96:$G96),0))*3)","v":0},94494,0,94494]
[{"$f":"IF(INTRO!$E$43=\"Non-endemic\",\" \", IF(COUNTRY_INFO!A97=0,\" \",COUNTRY_INFO!A97))","v":"Uganda"},{"$f":"IF(INTRO!$E$43=\"Non-endemic\",\" \", IF(COUNTRY_INFO!B97=0,\" \",COUNTRY_INFO!B97))","v":"Northern"},{"$f":"IF(INTRO!$E$43=\"Non-endemic\",\" \", IF(COUNTRY_INFO!C97=0,\" \",COUNTRY_INFO!C97))","v":"Lamwo"},{"$f":"IF(INTRO!$E$43=\"Non-endemic\", \"Not required\", COUNTRY_INFO!Y97)","v":1},{"$f":"IF(OR(COUNTRY_INFO!R97=\"Unknown\",COUNTRY_INFO!R97=\"Surveillance\",COUNTRY_INFO!R97=\"Not required\",COUNTRY_INFO!R97=0),0,IF($D97<>0, COUNTRY_INFO!R97,0))","v":0},{"$f":"IF(OR(COUNTRY_INFO!S97=\"Unknown\",COUNTRY_INFO!S97=\"Surveillance\",COUNTRY_INFO!S97=\"Not required\",COUNTRY_INFO!S97=0),0,IF($D97<>0, COUNTRY_INFO!S97,0))","v":54567},{"$f":"IF(OR(COUNTRY_INFO!T97=\"Unknown\",COUNTRY_INFO!T97=\"Surveillance\",COUNTRY_INFO!T97=\"Not required\",COUNTRY_INFO!T97=0),0,IF($D97<>0, COUNTRY_INFO!T97,0))","v":0},54567,null,null,1,"SAC",null,{"$f":"IF($I97<>\"Yes\",$F97*2,($F97+ROUND(J97*$F97/SUM(COUNTRY_INFO!$E97:$G97),0))*2)","v":109134},{"$f":"IF($I97<>\"Yes\",$G97*3,($G97+ROUND(J97*$G97/SUM(COUNTRY_INFO!$E97:$G97),0))*3)","v":0},109134,0,109134]
[{"$f":"IF(INTRO!$E$43=\"Non-endemic\",\" \", IF(COUNTRY_INFO!A98=0,\" \",COUNTRY_INFO!A98))","v":"Uganda"},{"$f":"IF(INTRO!$E$43=\"Non-endemic\",\" \", IF(COUNTRY_INFO!B98=0,\" \",COUNTRY_INFO!B98))","v":"Northern"},{"$f":"IF(INTRO!$E$43=\"Non-endemic\",\" \", IF(COUNTRY_INFO!C98=0,\" \",COUNTRY_INFO!C98))","v":"Lira"},{"$f":"IF(INTRO!$E$43=\"Non-endemic\", \"Not required\", COUNTRY_INFO!Y98)","v":1},{"$f":"IF(OR(COUNTRY_INFO!R98=\"Unknown\",COUNTRY_INFO!R98=\"Surveillance\",COUNTRY_INFO!R98=\"Not required\",COUNTRY_INFO!R98=0),0,IF($D98<>0, COUNTRY_INFO!R98,0))","v":0},{"$f":"IF(OR(COUNTRY_INFO!S98=\"Unknown\",COUNTRY_INFO!S98=\"Surveillance\",COUNTRY_INFO!S98=\"Not required\",COUNTRY_INFO!S98=0),0,IF($D98<>0, COUNTRY_INFO!S98,0))","v":86104},{"$f":"IF(OR(COUNTRY_INFO!T98=\"Unknown\",COUNTRY_INFO!T98=\"Surveillance\",COUNTRY_INFO!T98=\"Not required\",COUNTRY_INFO!T98=0),0,IF($D98<>0, COUNTRY_INFO!T98,0))","v":218713},304817,null,null,1,"SAC",null,{"$f":"IF($I98<>\"Yes\",$F98*2,($F98+ROUND(J98*$F98/SUM(COUNTRY_INFO!$E98:$G98),0))*2)","v":172208},{"$f":"IF($I98<>\"Yes\",$G98*3,($G98+ROUND(J98*$G98/SUM(COUNTRY_INFO!$E98:$G98),0))*3)","v":656139},828347,0,828347]
[{"$f":"IF(INTRO!$E$43=\"Non-endemic\",\" \", IF(COUNTRY_INFO!A99=0,\" \",COUNTRY_INFO!A99))","v":"Uganda"},{"$f":"IF(INTRO!$E$43=\"Non-endemic\",\" \", IF(COUNTRY_INFO!B99=0,\" \",COUNTRY_INFO!B99))","v":"Northern"},{"$f":"IF(INTRO!$E$43=\"Non-endemic\",\" \", IF(COUNTRY_INFO!C99=0,\" \",COUNTRY_INFO!C99))","v":"Lira City"},{"$f":"IF(INTRO!$E$43=\"Non-endemic\", \"Not required\", COUNTRY_INFO!Y99)","v":0},{"$f":"IF(OR(COUNTRY_INFO!R99=\"Unknown\",COUNTRY_INFO!R99=\"Surveillance\",COUNTRY_INFO!R99=\"Not required\",COUNTRY_INFO!R99=0),0,IF($D99<>0, COUNTRY_INFO!R99,0))","v":0},{"$f":"IF(OR(COUNTRY_INFO!S99=\"Unknown\",COUNTRY_INFO!S99=\"Surveillance\",COUNTRY_INFO!S99=\"Not required\",COUNTRY_INFO!S99=0),0,IF($D99<>0, COUNTRY_INFO!S99,0))","v":0},{"$f":"IF(OR(COUNTRY_INFO!T99=\"Unknown\",COUNTRY_INFO!T99=\"Surveillance\",COUNTRY_INFO!T99=\"Not required\",COUNTRY_INFO!T99=0),0,IF($D99<>0, COUNTRY_INFO!T99,0))","v":0},0,null,null,null,null,null,{"$f":"IF($I99<>\"Yes\",$F99*2,($F99+ROUND(J99*$F99/SUM(COUNTRY_INFO!$E99:$G99),0))*2)","v":0},{"$f":"IF($I99<>\"Yes\",$G99*3,($G99+ROUND(J99*$G99/SUM(COUNTRY_INFO!$E99:$G99),0))*3)","v":0},0,null,0]
[{"$f":"IF(INTRO!$E$43=\"Non-endemic\",\" \", IF(COUNTRY_INFO!A100=0,\" \",COUNTRY_INFO!A100))","v":"Uganda"},{"$f":"IF(INTRO!$E$43=\"Non-endemic\",\" \", IF(COUNTRY_INFO!B100=0,\" \",COUNTRY_INFO!B100))","v":"Northern"},{"$f":"IF(INTRO!$E$43=\"Non-endemic\",\" \", IF(COUNTRY_INFO!C100=0,\" \",COUNTRY_INFO!C100))","v":"Madi Okollo"},{"$f":"IF(INTRO!$E$43=\"Non-endemic\", \"Not required\", COUNTRY_INFO!Y100)","v":1},{"$f":"IF(OR(COUNTRY_INFO!R100=\"Unknown\",COUNTRY_INFO!R100=\"Surveillance\",COUNTRY_INFO!R100=\"Not required\",COUNTRY_INFO!R100=0),0,IF($D100<>0, COUNTRY_INFO!R100,0))","v":0},{"$f":"IF(OR(COUNTRY_INFO!S100=\"Unknown\",COUNTRY_INFO!S100=\"Surveillance\",COUNTRY_INFO!S100=\"Not required\",COUNTRY_INFO!S100=0),0,IF($D100<>0, COUNTRY_INFO!S100,0))","v":40070},{"$f":"IF(OR(COUNTRY_INFO!T100=\"Unknown\",COUNTRY_INFO!T100=\"Surveillance\",COUNTRY_INFO!T100=\"Not required\",COUNTRY_INFO!T100=0),0,IF($D100<>0, COUNTRY_INFO!T100,0))","v":19509},59579,null,null,1,"SAC",null,{"$f":"IF($I100<>\"Yes\",$F100*2,($F100+ROUND(J100*$F100/SUM(COUNTRY_INFO!$E100:$G100),0))*2)","v":80140},{"$f":"IF($I100<>\"Yes\",$G100*3,($G100+ROUND(J100*$G100/SUM(COUNTRY_INFO!$E100:$G100),0))*3)","v":58527},138667,0,138667]
[{"$f":"IF(INTRO!$E$43=\"Non-endemic\",\" \", IF(COUNTRY_INFO!A101=0,\" \",COUNTRY_INFO!A101))","v":"Uganda"},{"$f":"IF(INTRO!$E$43=\"Non-endemic\",\" \", IF(COUNTRY_INFO!B101=0,\" \",COUNTRY_INFO!B101))","v":"Northern"},{"$f":"IF(INTRO!$E$43=\"Non-endemic\",\" \", IF(COUNTRY_INFO!C101=0,\" \",COUNTRY_INFO!C101))","v":"Maracha"},{"$f":"IF(INTRO!$E$43=\"Non-endemic\", \"Not required\", COUNTRY_INFO!Y101)","v":1},{"$f":"IF(OR(COUNTRY_INFO!R101=\"Unknown\",COUNTRY_INFO!R101=\"Surveillance\",COUNTRY_INFO!R101=\"Not required\",COUNTRY_INFO!R101=0),0,IF($D101<>0, COUNTRY_INFO!R101,0))","v":0},{"$f":"IF(OR(COUNTRY_INFO!S101=\"Unknown\",COUNTRY_INFO!S101=\"Surveillance\",COUNTRY_INFO!S101=\"Not required\",COUNTRY_INFO!S101=0),0,IF($D101<>0, COUNTRY_INFO!S101,0))","v":70571},{"$f":"IF(OR(COUNTRY_INFO!T101=\"Unknown\",COUNTRY_INFO!T101=\"Surveillance\",COUNTRY_INFO!T101=\"Not required\",COUNTRY_INFO!T101=0),0,IF($D101<>0, COUNTRY_INFO!T101,0))","v":130736},201307,null,null,1,"SAC",null,{"$f":"IF($I101<>\"Yes\",$F101*2,($F101+ROUND(J101*$F101/SUM(COUNTRY_INFO!$E101:$G101),0))*2)","v":141142},{"$f":"IF($I101<>\"Yes\",$G101*3,($G101+ROUND(J101*$G101/SUM(COUNTRY_INFO!$E101:$G101),0))*3)","v":392208},533350,0,533350]
[{"$f":"IF(INTRO!$E$43=\"Non-endemic\",\" \", IF(COUNTRY_INFO!A102=0,\" \",COUNTRY_INFO!A102))","v":"Uganda"},{"$f":"IF(INTRO!$E$43=\"Non-endemic\",\" \", IF(COUNTRY_INFO!B102=0,\" \",COUNTRY_INFO!B102))","v":"Northern"},{"$f":"IF(INTRO!$E$43=\"Non-endemic\",\" \", IF(COUNTRY_INFO!C102=0,\" \",COUNTRY_INFO!C102))","v":"Moroto"},{"$f":"IF(INTRO!$E$43=\"Non-endemic\", \"Not required\", COUNTRY_INFO!Y102)","v":0},{"$f":"IF(OR(COUNTRY_INFO!R102=\"Unknown\",COUNTRY_INFO!R102=\"Surveillance\",COUNTRY_INFO!R102=\"Not required\",COUNTRY_INFO!R102=0),0,IF($D102<>0, COUNTRY_INFO!R102,0))","v":0},{"$f":"IF(OR(COUNTRY_INFO!S102=\"Unknown\",COUNTRY_INFO!S102=\"Surveillance\",COUNTRY_INFO!S102=\"Not required\",COUNTRY_INFO!S102=0),0,IF($D102<>0, COUNTRY_INFO!S102,0))","v":0},{"$f":"IF(OR(COUNTRY_INFO!T102=\"Unknown\",COUNTRY_INFO!T102=\"Surveillance\",COUNTRY_INFO!T102=\"Not required\",COUNTRY_INFO!T102=0),0,IF($D102<>0, COUNTRY_INFO!T102,0))","v":0},0,null,null,null,null,null,{"$f":"IF($I102<>\"Yes\",$F102*2,($F102+ROUND(J102*$F102/SUM(COUNTRY_INFO!$E102:$G102),0))*2)","v":0},{"$f":"IF($I102<>\"Yes\",$G102*3,($G102+ROUND(J102*$G102/SUM(COUNTRY_INFO!$E102:$G102),0))*3)","v":0},0,null,0]
[{"$f":"IF(INTRO!$E$43=\"Non-endemic\",\" \", IF(COUNTRY_INFO!A103=0,\" \",COUNTRY_INFO!A103))","v":"Uganda"},{"$f":"IF(INTRO!$E$43=\"Non-endemic\",\" \", IF(COUNTRY_INFO!B103=0,\" \",COUNTRY_INFO!B103))","v":"Northern"},{"$f":"IF(INTRO!$E$43=\"Non-endemic\",\" \", IF(COUNTRY_INFO!C103=0,\" \",COUNTRY_INFO!C103))","v":"Moyo"},{"$f":"IF(INTRO!$E$43=\"Non-endemic\", \"Not required\", COUNTRY_INFO!Y103)","v":1},{"$f":"IF(OR(COUNTRY_INFO!R103=\"Unknown\",COUNTRY_INFO!R103=\"Surveillance\",COUNTRY_INFO!R103=\"Not required\",COUNTRY_INFO!R103=0),0,IF($D103<>0, COUNTRY_INFO!R103,0))","v":0},{"$f":"IF(OR(COUNTRY_INFO!S103=\"Unknown\",COUNTRY_INFO!S103=\"Surveillance\",COUNTRY_INFO!S103=\"Not required\",COUNTRY_INFO!S103=0),0,IF($D103<>0, COUNTRY_INFO!S103,0))","v":10208},{"$f":"IF(OR(COUNTRY_INFO!T103=\"Unknown\",COUNTRY_INFO!T103=\"Surveillance\",COUNTRY_INFO!T103=\"Not required\",COUNTRY_INFO!T103=0),0,IF($D103<>0, COUNTRY_INFO!T103,0))","v":13272},23480,null,null,1,"SAC",null,{"$f":"IF($I103<>\"Yes\",$F103*2,($F103+ROUND(J103*$F103/SUM(COUNTRY_INFO!$E103:$G103),0))*2)","v":20416},{"$f":"IF($I103<>\"Yes\",$G103*3,($G103+ROUND(J103*$G103/SUM(COUNTRY_INFO!$E103:$G103),0))*3)","v":39816},60232,0,60232]
[{"$f":"IF(INTRO!$E$43=\"Non-endemic\",\" \", IF(COUNTRY_INFO!A104=0,\" \",COUNTRY_INFO!A104))","v":"Uganda"},{"$f":"IF(INTRO!$E$43=\"Non-endemic\",\" \", IF(COUNTRY_INFO!B104=0,\" \",COUNTRY_INFO!B104))","v":"Northern"},{"$f":"IF(INTRO!$E$43=\"Non-endemic\",\" \", IF(COUNTRY_INFO!C104=0,\" \",COUNTRY_INFO!C104))","v":"Nabilatuk"},{"$f":"IF(INTRO!$E$43=\"Non-endemic\", \"Not required\", COUNTRY_INFO!Y104)","v":0},{"$f":"IF(OR(COUNTRY_INFO!R104=\"Unknown\",COUNTRY_INFO!R104=\"Surveillance\",COUNTRY_INFO!R104=\"Not required\",COUNTRY_INFO!R104=0),0,IF($D104<>0, COUNTRY_INFO!R104,0))","v":0},{"$f":"IF(OR(COUNTRY_INFO!S104=\"Unknown\",COUNTRY_INFO!S104=\"Surveillance\",COUNTRY_INFO!S104=\"Not required\",COUNTRY_INFO!S104=0),0,IF($D104<>0, COUNTRY_INFO!S104,0))","v":0},{"$f":"IF(OR(COUNTRY_INFO!T104=\"Unknown\",COUNTRY_INFO!T104=\"Surveillance\",COUNTRY_INFO!T104=\"Not required\",COUNTRY_INFO!T104=0),0,IF($D104<>0, COUNTRY_INFO!T104,0))","v":0},0,null,null,null,null,null,{"$f":"IF($I104<>\"Yes\",$F104*2,($F104+ROUND(J104*$F104/SUM(COUNTRY_INFO!$E104:$G104),0))*2)","v":0},{"$f":"IF($I104<>\"Yes\",$G104*3,($G104+ROUND(J104*$G104/SUM(COUNTRY_INFO!$E104:$G104),0))*3)","v":0},0,null,0]
[{"$f":"IF(INTRO!$E$43=\"Non-endemic\",\" \", IF(COUNTRY_INFO!A105=0,\" \",COUNTRY_INFO!A105))","v":"Uganda"},{"$f":"IF(INTRO!$E$43=\"Non-endemic\",\" \", IF(COUNTRY_INFO!B105=0,\" \",COUNTRY_INFO!B105))","v":"Northern"},{"$f":"IF(INTRO!$E$43=\"Non-endemic\",\" \", IF(COUNTRY_INFO!C105=0,\" \",COUNTRY_INFO!C105))","v":"Nakapiripirit"},{"$f":"IF(INTRO!$E$43=\"Non-endemic\", \"Not required\", COUNTRY_INFO!Y105)","v":1},{"$f":"IF(OR(COUNTRY_INFO!R105=\"Unknown\",COUNTRY_INFO!R105=\"Surveillance\",COUNTRY_INFO!R105=\"Not required\",COUNTRY_INFO!R105=0),0,IF($D105<>0, COUNTRY_INFO!R105,0))","v":0},{"$f":"IF(OR(COUNTRY_INFO!S105=\"Unknown\",COUNTRY_INFO!S105=\"Surveillance\",COUNTRY_INFO!S105=\"Not required\",COUNTRY_INFO!S105=0),0,IF($D105<>0, COUNTRY_INFO!S105,0))","v":10254},{"$f":"IF(OR(COUNTRY_INFO!T105=\"Unknown\",COUNTRY_INFO!T105=\"Surveillance\",COUNTRY_INFO!T105=\"Not required\",COUNTRY_INFO!T105=0),0,IF($D105<>0, COUNTRY_INFO!T105,0))","v":14069},24323,null,null,1,"SAC",null,{"$f":"IF($I105<>\"Yes\",$F105*2,($F105+ROUND(J105*$F105/SUM(COUNTRY_INFO!$E105:$G105),0))*2)","v":20508},{"$f":"IF($I105<>\"Yes\",$G105*3,($G105+ROUND(J105*$G105/SUM(COUNTRY_INFO!$E105:$G105),0))*3)","v":42207},62715,0,62715]
[{"$f":"IF(INTRO!$E$43=\"Non-endemic\",\" \", IF(COUNTRY_INFO!A106=0,\" \",COUNTRY_INFO!A106))","v":"Uganda"},{"$f":"IF(INTRO!$E$43=\"Non-endemic\",\" \", IF(COUNTRY_INFO!B106=0,\" \",COUNTRY_INFO!B106))","v":"Northern"},{"$f":"IF(INTRO!$E$43=\"Non-endemic\",\" \", IF(COUNTRY_INFO!C106=0,\" \",COUNTRY_INFO!C106))","v":"Napak"},{"$f":"IF(INTRO!$E$43=\"Non-endemic\", \"Not required\", COUNTRY_INFO!Y106)","v":0},{"$f":"IF(OR(COUNTRY_INFO!R106=\"Unknown\",COUNTRY_INFO!R106=\"Surveillance\",COUNTRY_INFO!R106=\"Not required\",COUNTRY_INFO!R106=0),0,IF($D106<>0, COUNTRY_INFO!R106,0))","v":0},{"$f":"IF(OR(COUNTRY_INFO!S106=\"Unknown\",COUNTRY_INFO!S106=\"Surveillance\",COUNTRY_INFO!S106=\"Not required\",COUNTRY_INFO!S106=0),0,IF($D106<>0, COUNTRY_INFO!S106,0))","v":0},{"$f":"IF(OR(COUNTRY_INFO!T106=\"Unknown\",COUNTRY_INFO!T106=\"Surveillance\",COUNTRY_INFO!T106=\"Not required\",COUNTRY_INFO!T106=0),0,IF($D106<>0, COUNTRY_INFO!T106,0))","v":0},0,null,null,null,null,null,{"$f":"IF($I106<>\"Yes\",$F106*2,($F106+ROUND(J106*$F106/SUM(COUNTRY_INFO!$E106:$G106),0))*2)","v":0},{"$f":"IF($I106<>\"Yes\",$G106*3,($G106+ROUND(J106*$G106/SUM(COUNTRY_INFO!$E106:$G106),0))*3)","v":0},0,null,0]
[{"$f":"IF(INTRO!$E$43=\"Non-endemic\",\" \", IF(COUNTRY_INFO!A107=0,\" \",COUNTRY_INFO!A107))","v":"Uganda"},{"$f":"IF(INTRO!$E$43=\"Non-endemic\",\" \", IF(COUNTRY_INFO!B107=0,\" \",COUNTRY_INFO!B107))","v":"Northern"},{"$f":"IF(INTRO!$E$43=\"Non-endemic\",\" \", IF(COUNTRY_INFO!C107=0,\" \",COUNTRY_INFO!C107))","v":"Nebbi"},{"$f":"IF(INTRO!$E$43=\"Non-endemic\", \"Not required\", COUNTRY_INFO!Y107)","v":0},{"$f":"IF(OR(COUNTRY_INFO!R107=\"Unknown\",COUNTRY_INFO!R107=\"Surveillance\",COUNTRY_INFO!R107=\"Not required\",COUNTRY_INFO!R107=0),0,IF($D107<>0, COUNTRY_INFO!R107,0))","v":0},{"$f":"IF(OR(COUNTRY_INFO!S107=\"Unknown\",COUNTRY_INFO!S107=\"Surveillance\",COUNTRY_INFO!S107=\"Not required\",COUNTRY_INFO!S107=0),0,IF($D107<>0, COUNTRY_INFO!S107,0))","v":0},{"$f":"IF(OR(COUNTRY_INFO!T107=\"Unknown\",COUNTRY_INFO!T107=\"Surveillance\",COUNTRY_INFO!T107=\"Not required\",COUNTRY_INFO!T107=0),0,IF($D107<>0, COUNTRY_INFO!T107,0))","v":0},0,null,null,null,null,null,{"$f":"IF($I107<>\"Yes\",$F107*2,($F107+ROUND(J107*$F107/SUM(COUNTRY_INFO!$E107:$G107),0))*2)","v":0},{"$f":"IF($I107<>\"Yes\",$G107*3,($G107+ROUND(J107*$G107/SUM(COUNTRY_INFO!$E107:$G107),0))*3)","v":0},0,null,0]
[{"$f":"IF(INTRO!$E$43=\"Non-endemic\",\" \", IF(COUNTRY_INFO!A108=0,\" \",COUNTRY_INFO!A108))","v":"Uganda"},{"$f":"IF(INTRO!$E$43=\"Non-endemic\",\" \", IF(COUNTRY_INFO!B108=0,\" \",COUNTRY_INFO!B108))","v":"Northern"},{"$f":"IF(INTRO!$E$43=\"Non-endemic\",\" \", IF(COUNTRY_INFO!C108=0,\" \",COUNTRY_INFO!C108))","v":"Nwoya"},{"$f":"IF(INTRO!$E$43=\"Non-endemic\", \"Not required\", COUNTRY_INFO!Y108)","v":1},{"$f":"IF(OR(COUNTRY_INFO!R108=\"Unknown\",COUNTRY_INFO!R108=\"Surveillance\",COUNTRY_INFO!R108=\"Not required\",COUNTRY_INFO!R108=0),0,IF($D108<>0, COUNTRY_INFO!R108,0))","v":0},{"$f":"IF(OR(COUNTRY_INFO!S108=\"Unknown\",COUNTRY_INFO!S108=\"Surveillance\",COUNTRY_INFO!S108=\"Not required\",COUNTRY_INFO!S108=0),0,IF($D108<>0, COUNTRY_INFO!S108,0))","v":46750},{"$f":"IF(OR(COUNTRY_INFO!T108=\"Unknown\",COUNTRY_INFO!T108=\"Surveillance\",COUNTRY_INFO!T108=\"Not required\",COUNTRY_INFO!T108=0),0,IF($D108<>0, COUNTRY_INFO!T108,0))","v":18020},64770,null,null,1,"SAC",null,{"$f":"IF($I108<>\"Yes\",$F108*2,($F108+ROUND(J108*$F108/SUM(COUNTRY_INFO!$E108:$G108),0))*2)","v":93500},{"$f":"IF($I108<>\"Yes\",$G108*3,($G108+ROUND(J108*$G108/SUM(COUNTRY_INFO!$E108:$G108),0))*3)","v":54060},147560,0,147560]
[{"$f":"IF(INTRO!$E$43=\"Non-endemic\",\" \", IF(COUNTRY_INFO!A109=0,\" \",COUNTRY_INFO!A109))","v":"Uganda"},{"$f":"IF(INTRO!$E$43=\"Non-endemic\",\" \", IF(COUNTRY_INFO!B109=0,\" \",COUNTRY_INFO!B109))","v":"Northern"},{"$f":"IF(INTRO!$E$43=\"Non-endemic\",\" \", IF(COUNTRY_INFO!C109=0,\" \",COUNTRY_INFO!C109))","v":"Obongi"},{"$f":"IF(INTRO!$E$43=\"Non-endemic\", \"Not required\", COUNTRY_INFO!Y109)","v":1},{"$f":"IF(OR(COUNTRY_INFO!R109=\"Unknown\",COUNTRY_INFO!R109=\"Surveillance\",COUNTRY_INFO!R109=\"Not required\",COUNTRY_INFO!R109=0),0,IF($D109<>0, COUNTRY_INFO!R109,0))","v":0},{"$f":"IF(OR(COUNTRY_INFO!S109=\"Unknown\",COUNTRY_INFO!S109=\"Surveillance\",COUNTRY_INFO!S109=\"Not required\",COUNTRY_INFO!S109=0),0,IF($D109<>0, COUNTRY_INFO!S109,0))","v":17560},{"$f":"IF(OR(COUNTRY_INFO!T109=\"Unknown\",COUNTRY_INFO!T109=\"Surveillance\",COUNTRY_INFO!T109=\"Not required\",COUNTRY_INFO!T109=0),0,IF($D109<>0, COUNTRY_INFO!T109,0))","v":6069},23629,null,null,1,"SAC",null,{"$f":"IF($I109<>\"Yes\",$F109*2,($F109+ROUND(J109*$F109/SUM(COUNTRY_INFO!$E109:$G109),0))*2)","v":35120},{"$f":"IF($I109<>\"Yes\",$G109*3,($G109+ROUND(J109*$G109/SUM(COUNTRY_INFO!$E109:$G109),0))*3)","v":18207},53327,0,53327]
[{"$f":"IF(INTRO!$E$43=\"Non-endemic\",\" \", IF(COUNTRY_INFO!A110=0,\" \",COUNTRY_INFO!A110))","v":"Uganda"},{"$f":"IF(INTRO!$E$43=\"Non-endemic\",\" \", IF(COUNTRY_INFO!B110=0,\" \",COUNTRY_INFO!B110))","v":"Northern"},{"$f":"IF(INTRO!$E$43=\"Non-endemic\",\" \", IF(COUNTRY_INFO!C110=0,\" \",COUNTRY_INFO!C110))","v":"Omoro"},{"$f":"IF(INTRO!$E$43=\"Non-endemic\", \"Not required\", COUNTRY_INFO!Y110)","v":1},{"$f":"IF(OR(COUNTRY_INFO!R110=\"Unknown\",COUNTRY_INFO!R110=\"Surveillance\",COUNTRY_INFO!R110=\"Not required\",COUNTRY_INFO!R110=0),0,IF($D110<>0, COUNTRY_INFO!R110,0))","v":0},{"$f":"IF(OR(COUNTRY_INFO!S110=\"Unknown\",COUNTRY_INFO!S110=\"Surveillance\",COUNTRY_INFO!S110=\"Not required\",COUNTRY_INFO!S110=0),0,IF($D110<>0, COUNTRY_INFO!S110,0))","v":44411},{"$f":"IF(OR(COUNTRY_INFO!T110=\"Unknown\",COUNTRY_INFO!T110=\"Surveillance\",COUNTRY_INFO!T110=\"Not required\",COUNTRY_INFO!T110=0),0,IF($D110<>0, COUNTRY_INFO!T110,0))","v":23302},67713,null,null,1,"SAC",null,{"$f":"IF($I110<>\"Yes\",$F110*2,($F110+ROUND(J110*$F110/SUM(COUNTRY_INFO!$E110:$G110),0))*2)","v":88822},{"$f":"IF($I110<>\"Yes\",$G110*3,($G110+ROUND(J110*$G110/SUM(COUNTRY_INFO!$E110:$G110),0))*3)","v":69906},158728,0,158728]
[{"$f":"IF(INTRO!$E$43=\"Non-endemic\",\" \", IF(COUNTRY_INFO!A111=0,\" \",COUNTRY_INFO!A111))","v":"Uganda"},{"$f":"IF(INTRO!$E$43=\"Non-endemic\",\" \", IF(COUNTRY_INFO!B111=0,\" \",COUNTRY_INFO!B111))","v":"Northern"},{"$f":"IF(INTRO!$E$43=\"Non-endemic\",\" \", IF(COUNTRY_INFO!C111=0,\" \",COUNTRY_INFO!C111))","v":"Otuke"},{"$f":"IF(INTRO!$E$43=\"Non-endemic\", \"Not required\", COUNTRY_INFO!Y111)","v":0},{"$f":"IF(OR(COUNTRY_INFO!R111=\"Unknown\",COUNTRY_INFO!R111=\"Surveillance\",COUNTRY_INFO!R111=\"Not required\",COUNTRY_INFO!R111=0),0,IF($D111<>0, COUNTRY_INFO!R111,0))","v":0},{"$f":"IF(OR(COUNTRY_INFO!S111=\"Unknown\",COUNTRY_INFO!S111=\"Surveillance\",COUNTRY_INFO!S111=\"Not required\",COUNTRY_INFO!S111=0),0,IF($D111<>0, COUNTRY_INFO!S111,0))","v":0},{"$f":"IF(OR(COUNTRY_INFO!T111=\"Unknown\",COUNTRY_INFO!T111=\"Surveillance\",COUNTRY_INFO!T111=\"Not required\",COUNTRY_INFO!T111=0),0,IF($D111<>0, COUNTRY_INFO!T111,0))","v":0},0,null,null,null,null,null,{"$f":"IF($I111<>\"Yes\",$F111*2,($F111+ROUND(J111*$F111/SUM(COUNTRY_INFO!$E111:$G111),0))*2)","v":0},{"$f":"IF($I111<>\"Yes\",$G111*3,($G111+ROUND(J111*$G111/SUM(COUNTRY_INFO!$E111:$G111),0))*3)","v":0},0,null,0]
[{"$f":"IF(INTRO!$E$43=\"Non-endemic\",\" \", IF(COUNTRY_INFO!A112=0,\" \",COUNTRY_INFO!A112))","v":"Uganda"},{"$f":"IF(INTRO!$E$43=\"Non-endemic\",\" \", IF(COUNTRY_INFO!B112=0,\" \",COUNTRY_INFO!B112))","v":"Northern"},{"$f":"IF(INTRO!$E$43=\"Non-endemic\",\" \", IF(COUNTRY_INFO!C112=0,\" \",COUNTRY_INFO!C112))","v":"Oyam"},{"$f":"IF(INTRO!$E$43=\"Non-endemic\", \"Not required\", COUNTRY_INFO!Y112)","v":1},{"$f":"IF(OR(COUNTRY_INFO!R112=\"Unknown\",COUNTRY_INFO!R112=\"Surveillance\",COUNTRY_INFO!R112=\"Not required\",COUNTRY_INFO!R112=0),0,IF($D112<>0, COUNTRY_INFO!R112,0))","v":0},{"$f":"IF(OR(COUNTRY_INFO!S112=\"Unknown\",COUNTRY_INFO!S112=\"Surveillance\",COUNTRY_INFO!S112=\"Not required\",COUNTRY_INFO!S112=0),0,IF($D112<>0, COUNTRY_INFO!S112,0))","v":111559},{"$f":"IF(OR(COUNTRY_INFO!T112=\"Unknown\",COUNTRY_INFO!T112=\"Surveillance\",COUNTRY_INFO!T112=\"Not required\",COUNTRY_INFO!T112=0),0,IF($D112<>0, COUNTRY_INFO!T112,0))","v":272472},384031,null,null,1,"SAC",null,{"$f":"IF($I112<>\"Yes\",$F112*2,($F112+ROUND(J112*$F112/SUM(COUNTRY_INFO!$E112:$G112),0))*2)","v":223118},{"$f":"IF($I112<>\"Yes\",$G112*3,($G112+ROUND(J112*$G112/SUM(COUNTRY_INFO!$E112:$G112),0))*3)","v":817416},1040534,0,1040534]
[{"$f":"IF(INTRO!$E$43=\"Non-endemic\",\" \", IF(COUNTRY_INFO!A113=0,\" \",COUNTRY_INFO!A113))","v":"Uganda"},{"$f":"IF(INTRO!$E$43=\"Non-endemic\",\" \", IF(COUNTRY_INFO!B113=0,\" \",COUNTRY_INFO!B113))","v":"Northern"},{"$f":"IF(INTRO!$E$43=\"Non-endemic\",\" \", IF(COUNTRY_INFO!C113=0,\" \",COUNTRY_INFO!C113))","v":"Pader"},{"$f":"IF(INTRO!$E$43=\"Non-endemic\", \"Not required\", COUNTRY_INFO!Y113)","v":1},{"$f":"IF(OR(COUNTRY_INFO!R113=\"Unknown\",COUNTRY_INFO!R113=\"Surveillance\",COUNTRY_INFO!R113=\"Not required\",COUNTRY_INFO!R113=0),0,IF($D113<>0, COUNTRY_INFO!R113,0))","v":0},{"$f":"IF(OR(COUNTRY_INFO!S113=\"Unknown\",COUNTRY_INFO!S113=\"Surveillance\",COUNTRY_INFO!S113=\"Not required\",COUNTRY_INFO!S113=0),0,IF($D113<>0, COUNTRY_INFO!S113,0))","v":58294},{"$f":"IF(OR(COUNTRY_INFO!T113=\"Unknown\",COUNTRY_INFO!T113=\"Surveillance\",COUNTRY_INFO!T113=\"Not required\",COUNTRY_INFO!T113=0),0,IF($D113<>0, COUNTRY_INFO!T113,0))","v":25846},84140,null,null,1,"SAC",null,{"$f":"IF($I113<>\"Yes\",$F113*2,($F113+ROUND(J113*$F113/SUM(COUNTRY_INFO!$E113:$G113),0))*2)","v":116588},{"$f":"IF($I113<>\"Yes\",$G113*3,($G113+ROUND(J113*$G113/SUM(COUNTRY_INFO!$E113:$G113),0))*3)","v":77538},194126,0,194126]
[{"$f":"IF(INTRO!$E$43=\"Non-endemic\",\" \", IF(COUNTRY_INFO!A114=0,\" \",COUNTRY_INFO!A114))","v":"Uganda"},{"$f":"IF(INTRO!$E$43=\"Non-endemic\",\" \", IF(COUNTRY_INFO!B114=0,\" \",COUNTRY_INFO!B114))","v":"Northern"},{"$f":"IF(INTRO!$E$43=\"Non-endemic\",\" \", IF(COUNTRY_INFO!C114=0,\" \",COUNTRY_INFO!C114))","v":"Pakwach"},{"$f":"IF(INTRO!$E$43=\"Non-endemic\", \"Not required\", COUNTRY_INFO!Y114)","v":1},{"$f":"IF(OR(COUNTRY_INFO!R114=\"Unknown\",COUNTRY_INFO!R114=\"Surveillance\",COUNTRY_INFO!R114=\"Not required\",COUNTRY_INFO!R114=0),0,IF($D114<>0, COUNTRY_INFO!R114,0))","v":0},{"$f":"IF(OR(COUNTRY_INFO!S114=\"Unknown\",COUNTRY_INFO!S114=\"Surveillance\",COUNTRY_INFO!S114=\"Not required\",COUNTRY_INFO!S114=0),0,IF($D114<>0, COUNTRY_INFO!S114,0))","v":60227},{"$f":"IF(OR(COUNTRY_INFO!T114=\"Unknown\",COUNTRY_INFO!T114=\"Surveillance\",COUNTRY_INFO!T114=\"Not required\",COUNTRY_INFO!T114=0),0,IF($D114<>0, COUNTRY_INFO!T114,0))","v":103901},164128,null,null,1,"SAC",null,{"$f":"IF($I114<>\"Yes\",$F114*2,($F114+ROUND(J114*$F114/SUM(COUNTRY_INFO!$E114:$G114),0))*2)","v":120454},{"$f":"IF($I114<>\"Yes\",$G114*3,($G114+ROUND(J114*$G114/SUM(COUNTRY_INFO!$E114:$G114),0))*3)","v":311703},432157,0,432157]
[{"$f":"IF(INTRO!$E$43=\"Non-endemic\",\" \", IF(COUNTRY_INFO!A115=0,\" \",COUNTRY_INFO!A115))","v":"Uganda"},{"$f":"IF(INTRO!$E$43=\"Non-endemic\",\" \", IF(COUNTRY_INFO!B115=0,\" \",COUNTRY_INFO!B115))","v":"Northern"},{"$f":"IF(INTRO!$E$43=\"Non-endemic\",\" \", IF(COUNTRY_INFO!C115=0,\" \",COUNTRY_INFO!C115))","v":"Terego"},{"$f":"IF(INTRO!$E$43=\"Non-endemic\", \"Not required\", COUNTRY_INFO!Y115)","v":1},{"$f":"IF(OR(COUNTRY_INFO!R115=\"Unknown\",COUNTRY_INFO!R115=\"Surveillance\",COUNTRY_INFO!R115=\"Not required\",COUNTRY_INFO!R115=0),0,IF($D115<>0, COUNTRY_INFO!R115,0))","v":0},{"$f":"IF(OR(COUNTRY_INFO!S115=\"Unknown\",COUNTRY_INFO!S115=\"Surveillance\",COUNTRY_INFO!S115=\"Not required\",COUNTRY_INFO!S115=0),0,IF($D115<>0, COUNTRY_INFO!S115,0))","v":83046},{"$f":"IF(OR(COUNTRY_INFO!T115=\"Unknown\",COUNTRY_INFO!T115=\"Surveillance\",COUNTRY_INFO!T115=\"Not required\",COUNTRY_INFO!T115=0),0,IF($D115<>0, COUNTRY_INFO!T115,0))","v":143269},226315,null,null,1,"SAC",null,{"$f":"IF($I115<>\"Yes\",$F115*2,($F115+ROUND(J115*$F115/SUM(COUNTRY_INFO!$E115:$G115),0))*2)","v":166092},{"$f":"IF($I115<>\"Yes\",$G115*3,($G115+ROUND(J115*$G115/SUM(COUNTRY_INFO!$E115:$G115),0))*3)","v":429807},595899,0,595899]
[{"$f":"IF(INTRO!$E$43=\"Non-endemic\",\" \", IF(COUNTRY_INFO!A116=0,\" \",COUNTRY_INFO!A116))","v":"Uganda"},{"$f":"IF(INTRO!$E$43=\"Non-endemic\",\" \", IF(COUNTRY_INFO!B116=0,\" \",COUNTRY_INFO!B116))","v":"Northern"},{"$f":"IF(INTRO!$E$43=\"Non-endemic\",\" \", IF(COUNTRY_INFO!C116=0,\" \",COUNTRY_INFO!C116))","v":"Yumbe"},{"$f":"IF(INTRO!$E$43=\"Non-endemic\", \"Not required\", COUNTRY_INFO!Y116)","v":1},{"$f":"IF(OR(COUNTRY_INFO!R116=\"Unknown\",COUNTRY_INFO!R116=\"Surveillance\",COUNTRY_INFO!R116=\"Not required\",COUNTRY_INFO!R116=0),0,IF($D116<>0, COUNTRY_INFO!R116,0))","v":0},{"$f":"IF(OR(COUNTRY_INFO!S116=\"Unknown\",COUNTRY_INFO!S116=\"Surveillance\",COUNTRY_INFO!S116=\"Not required\",COUNTRY_INFO!S116=0),0,IF($D116<>0, COUNTRY_INFO!S116,0))","v":160854},{"$f":"IF(OR(COUNTRY_INFO!T116=\"Unknown\",COUNTRY_INFO!T116=\"Surveillance\",COUNTRY_INFO!T116=\"Not required\",COUNTRY_INFO!T116=0),0,IF($D116<>0, COUNTRY_INFO!T116,0))","v":68310},229164,null,null,1,"SAC",null,{"$f":"IF($I116<>\"Yes\",$F116*2,($F116+ROUND(J116*$F116/SUM(COUNTRY_INFO!$E116:$G116),0))*2)","v":321708},{"$f":"IF($I116<>\"Yes\",$G116*3,($G116+ROUND(J116*$G116/SUM(COUNTRY_INFO!$E116:$G116),0))*3)","v":204930},526638,0,526638]
[{"$f":"IF(INTRO!$E$43=\"Non-endemic\",\" \", IF(COUNTRY_INFO!A117=0,\" \",COUNTRY_INFO!A117))","v":"Uganda"},{"$f":"IF(INTRO!$E$43=\"Non-endemic\",\" \", IF(COUNTRY_INFO!B117=0,\" \",COUNTRY_INFO!B117))","v":"Northern"},{"$f":"IF(INTRO!$E$43=\"Non-endemic\",\" \", IF(COUNTRY_INFO!C117=0,\" \",COUNTRY_INFO!C117))","v":"Zombo"},{"$f":"IF(INTRO!$E$43=\"Non-endemic\", \"Not required\", COUNTRY_INFO!Y117)","v":1},{"$f":"IF(OR(COUNTRY_INFO!R117=\"Unknown\",COUNTRY_INFO!R117=\"Surveillance\",COUNTRY_INFO!R117=\"Not required\",COUNTRY_INFO!R117=0),0,IF($D117<>0, COUNTRY_INFO!R117,0))","v":0},{"$f":"IF(OR(COUNTRY_INFO!S117=\"Unknown\",COUNTRY_INFO!S117=\"Surveillance\",COUNTRY_INFO!S117=\"Not required\",COUNTRY_INFO!S117=0),0,IF($D117<>0, COUNTRY_INFO!S117,0))","v":31945},{"$f":"IF(OR(COUNTRY_INFO!T117=\"Unknown\",COUNTRY_INFO!T117=\"Surveillance\",COUNTRY_INFO!T117=\"Not required\",COUNTRY_INFO!T117=0),0,IF($D117<>0, COUNTRY_INFO!T117,0))","v":0},31945,null,null,1,"SAC",null,{"$f":"IF($I117<>\"Yes\",$F117*2,($F117+ROUND(J117*$F117/SUM(COUNTRY_INFO!$E117:$G117),0))*2)","v":63890},{"$f":"IF($I117<>\"Yes\",$G117*3,($G117+ROUND(J117*$G117/SUM(COUNTRY_INFO!$E117:$G117),0))*3)","v":0},63890,0,63890]
[{"$f":"IF(INTRO!$E$43=\"Non-endemic\",\" \", IF(COUNTRY_INFO!A118=0,\" \",COUNTRY_INFO!A118))","v":"Uganda"},{"$f":"IF(INTRO!$E$43=\"Non-endemic\",\" \", IF(COUNTRY_INFO!B118=0,\" \",COUNTRY_INFO!B118))","v":"Western"},{"$f":"IF(INTRO!$E$43=\"Non-endemic\",\" \", IF(COUNTRY_INFO!C118=0,\" \",COUNTRY_INFO!C118))","v":"Buhweju"},{"$f":"IF(INTRO!$E$43=\"Non-endemic\", \"Not required\", COUNTRY_INFO!Y118)","v":0},{"$f":"IF(OR(COUNTRY_INFO!R118=\"Unknown\",COUNTRY_INFO!R118=\"Surveillance\",COUNTRY_INFO!R118=\"Not required\",COUNTRY_INFO!R118=0),0,IF($D118<>0, COUNTRY_INFO!R118,0))","v":0},{"$f":"IF(OR(COUNTRY_INFO!S118=\"Unknown\",COUNTRY_INFO!S118=\"Surveillance\",COUNTRY_INFO!S118=\"Not required\",COUNTRY_INFO!S118=0),0,IF($D118<>0, COUNTRY_INFO!S118,0))","v":0},{"$f":"IF(OR(COUNTRY_INFO!T118=\"Unknown\",COUNTRY_INFO!T118=\"Surveillance\",COUNTRY_INFO!T118=\"Not required\",COUNTRY_INFO!T118=0),0,IF($D118<>0, COUNTRY_INFO!T118,0))","v":0},0,null,null,null,null,null,{"$f":"IF($I118<>\"Yes\",$F118*2,($F118+ROUND(J118*$F118/SUM(COUNTRY_INFO!$E118:$G118),0))*2)","v":0},{"$f":"IF($I118<>\"Yes\",$G118*3,($G118+ROUND(J118*$G118/SUM(COUNTRY_INFO!$E118:$G118),0))*3)","v":0},0,null,0]
[{"$f":"IF(INTRO!$E$43=\"Non-endemic\",\" \", IF(COUNTRY_INFO!A119=0,\" \",COUNTRY_INFO!A119))","v":"Uganda"},{"$f":"IF(INTRO!$E$43=\"Non-endemic\",\" \", IF(COUNTRY_INFO!B119=0,\" \",COUNTRY_INFO!B119))","v":"Western"},{"$f":"IF(INTRO!$E$43=\"Non-endemic\",\" \", IF(COUNTRY_INFO!C119=0,\" \",COUNTRY_INFO!C119))","v":"Buliisa"},{"$f":"IF(INTRO!$E$43=\"Non-endemic\", \"Not required\", COUNTRY_INFO!Y119)","v":1},{"$f":"IF(OR(COUNTRY_INFO!R119=\"Unknown\",COUNTRY_INFO!R119=\"Surveillance\",COUNTRY_INFO!R119=\"Not required\",COUNTRY_INFO!R119=0),0,IF($D119<>0, COUNTRY_INFO!R119,0))","v":0},{"$f":"IF(OR(COUNTRY_INFO!S119=\"Unknown\",COUNTRY_INFO!S119=\"Surveillance\",COUNTRY_INFO!S119=\"Not required\",COUNTRY_INFO!S119=0),0,IF($D119<>0, COUNTRY_INFO!S119,0))","v":46228},{"$f":"IF(OR(COUNTRY_INFO!T119=\"Unknown\",COUNTRY_INFO!T119=\"Surveillance\",COUNTRY_INFO!T119=\"Not required\",COUNTRY_INFO!T119=0),0,IF($D119<>0, COUNTRY_INFO!T119,0))","v":79751},125979,null,null,1,"SAC",null,{"$f":"IF($I119<>\"Yes\",$F119*2,($F119+ROUND(J119*$F119/SUM(COUNTRY_INFO!$E119:$G119),0))*2)","v":92456},{"$f":"IF($I119<>\"Yes\",$G119*3,($G119+ROUND(J119*$G119/SUM(COUNTRY_INFO!$E119:$G119),0))*3)","v":239253},331709,0,331709]
[{"$f":"IF(INTRO!$E$43=\"Non-endemic\",\" \", IF(COUNTRY_INFO!A120=0,\" \",COUNTRY_INFO!A120))","v":"Uganda"},{"$f":"IF(INTRO!$E$43=\"Non-endemic\",\" \", IF(COUNTRY_INFO!B120=0,\" \",COUNTRY_INFO!B120))","v":"Western"},{"$f":"IF(INTRO!$E$43=\"Non-endemic\",\" \", IF(COUNTRY_INFO!C120=0,\" \",COUNTRY_INFO!C120))","v":"Bundibugyo"},{"$f":"IF(INTRO!$E$43=\"Non-endemic\", \"Not required\", COUNTRY_INFO!Y120)","v":1},{"$f":"IF(OR(COUNTRY_INFO!R120=\"Unknown\",COUNTRY_INFO!R120=\"Surveillance\",COUNTRY_INFO!R120=\"Not required\",COUNTRY_INFO!R120=0),0,IF($D120<>0, COUNTRY_INFO!R120,0))","v":0},{"$f":"IF(OR(COUNTRY_INFO!S120=\"Unknown\",COUNTRY_INFO!S120=\"Surveillance\",COUNTRY_INFO!S120=\"Not required\",COUNTRY_INFO!S120=0),0,IF($D120<>0, COUNTRY_INFO!S120,0))","v":42493},{"$f":"IF(OR(COUNTRY_INFO!T120=\"Unknown\",COUNTRY_INFO!T120=\"Surveillance\",COUNTRY_INFO!T120=\"Not required\",COUNTRY_INFO!T120=0),0,IF($D120<>0, COUNTRY_INFO!T120,0))","v":157398},199891,null,null,1,"SAC",null,{"$f":"IF($I120<>\"Yes\",$F120*2,($F120+ROUND(J120*$F120/SUM(COUNTRY_INFO!$E120:$G120),0))*2)","v":84986},{"$f":"IF($I120<>\"Yes\",$G120*3,($G120+ROUND(J120*$G120/SUM(COUNTRY_INFO!$E120:$G120),0))*3)","v":472194},557180,0,557180]
[{"$f":"IF(INTRO!$E$43=\"Non-endemic\",\" \", IF(COUNTRY_INFO!A121=0,\" \",COUNTRY_INFO!A121))","v":"Uganda"},{"$f":"IF(INTRO!$E$43=\"Non-endemic\",\" \", IF(COUNTRY_INFO!B121=0,\" \",COUNTRY_INFO!B121))","v":"Western"},{"$f":"IF(INTRO!$E$43=\"Non-endemic\",\" \", IF(COUNTRY_INFO!C121=0,\" \",COUNTRY_INFO!C121))","v":"Bunyangabu"},{"$f":"IF(INTRO!$E$43=\"Non-endemic\", \"Not required\", COUNTRY_INFO!Y121)","v":1},{"$f":"IF(OR(COUNTRY_INFO!R121=\"Unknown\",COUNTRY_INFO!R121=\"Surveillance\",COUNTRY_INFO!R121=\"Not required\",COUNTRY_INFO!R121=0),0,IF($D121<>0, COUNTRY_INFO!R121,0))","v":0},{"$f":"IF(OR(COUNTRY_INFO!S121=\"Unknown\",COUNTRY_INFO!S121=\"Surveillance\",COUNTRY_INFO!S121=\"Not required\",COUNTRY_INFO!S121=0),0,IF($D121<>0, COUNTRY_INFO!S121,0))","v":17366},{"$f":"IF(OR(COUNTRY_INFO!T121=\"Unknown\",COUNTRY_INFO!T121=\"Surveillance\",COUNTRY_INFO!T121=\"Not required\",COUNTRY_INFO!T121=0),0,IF($D121<>0, COUNTRY_INFO!T121,0))","v":0},17366,null,null,1,"SAC",null,{"$f":"IF($I121<>\"Yes\",$F121*2,($F121+ROUND(J121*$F121/SUM(COUNTRY_INFO!$E121:$G121),0))*2)","v":34732},{"$f":"IF($I121<>\"Yes\",$G121*3,($G121+ROUND(J121*$G121/SUM(COUNTRY_INFO!$E121:$G121),0))*3)","v":0},34732,0,34732]
[{"$f":"IF(INTRO!$E$43=\"Non-endemic\",\" \", IF(COUNTRY_INFO!A122=0,\" \",COUNTRY_INFO!A122))","v":"Uganda"},{"$f":"IF(INTRO!$E$43=\"Non-endemic\",\" \", IF(COUNTRY_INFO!B122=0,\" \",COUNTRY_INFO!B122))","v":"Western"},{"$f":"IF(INTRO!$E$43=\"Non-endemic\",\" \", IF(COUNTRY_INFO!C122=0,\" \",COUNTRY_INFO!C122))","v":"Bushenyi"},{"$f":"IF(INTRO!$E$43=\"Non-endemic\", \"Not required\", COUNTRY_INFO!Y122)","v":0},{"$f":"IF(OR(COUNTRY_INFO!R122=\"Unknown\",COUNTRY_INFO!R122=\"Surveillance\",COUNTRY_INFO!R122=\"Not required\",COUNTRY_INFO!R122=0),0,IF($D122<>0, COUNTRY_INFO!R122,0))","v":0},{"$f":"IF(OR(COUNTRY_INFO!S122=\"Unknown\",COUNTRY_INFO!S122=\"Surveillance\",COUNTRY_INFO!S122=\"Not required\",COUNTRY_INFO!S122=0),0,IF($D122<>0, COUNTRY_INFO!S122,0))","v":0},{"$f":"IF(OR(COUNTRY_INFO!T122=\"Unknown\",COUNTRY_INFO!T122=\"Surveillance\",COUNTRY_INFO!T122=\"Not required\",COUNTRY_INFO!T122=0),0,IF($D122<>0, COUNTRY_INFO!T122,0))","v":0},0,null,null,null,null,null,{"$f":"IF($I122<>\"Yes\",$F122*2,($F122+ROUND(J122*$F122/SUM(COUNTRY_INFO!$E122:$G122),0))*2)","v":0},{"$f":"IF($I122<>\"Yes\",$G122*3,($G122+ROUND(J122*$G122/SUM(COUNTRY_INFO!$E122:$G122),0))*3)","v":0},0,null,0]
[{"$f":"IF(INTRO!$E$43=\"Non-endemic\",\" \", IF(COUNTRY_INFO!A123=0,\" \",COUNTRY_INFO!A123))","v":"Uganda"},{"$f":"IF(INTRO!$E$43=\"Non-endemic\",\" \", IF(COUNTRY_INFO!B123=0,\" \",COUNTRY_INFO!B123))","v":"Western"},{"$f":"IF(INTRO!$E$43=\"Non-endemic\",\" \", IF(COUNTRY_INFO!C123=0,\" \",COUNTRY_INFO!C123))","v":"Fortportal City"},{"$f":"IF(INTRO!$E$43=\"Non-endemic\", \"Not required\", COUNTRY_INFO!Y123)","v":0},{"$f":"IF(OR(COUNTRY_INFO!R123=\"Unknown\",COUNTRY_INFO!R123=\"Surveillance\",COUNTRY_INFO!R123=\"Not required\",COUNTRY_INFO!R123=0),0,IF($D123<>0, COUNTRY_INFO!R123,0))","v":0},{"$f":"IF(OR(COUNTRY_INFO!S123=\"Unknown\",COUNTRY_INFO!S123=\"Surveillance\",COUNTRY_INFO!S123=\"Not required\",COUNTRY_INFO!S123=0),0,IF($D123<>0, COUNTRY_INFO!S123,0))","v":0},{"$f":"IF(OR(COUNTRY_INFO!T123=\"Unknown\",COUNTRY_INFO!T123=\"Surveillance\",COUNTRY_INFO!T123=\"Not required\",COUNTRY_INFO!T123=0),0,IF($D123<>0, COUNTRY_INFO!T123,0))","v":0},0,null,null,null,null,null,{"$f":"IF($I123<>\"Yes\",$F123*2,($F123+ROUND(J123*$F123/SUM(COUNTRY_INFO!$E123:$G123),0))*2)","v":0},{"$f":"IF($I123<>\"Yes\",$G123*3,($G123+ROUND(J123*$G123/SUM(COUNTRY_INFO!$E123:$G123),0))*3)","v":0},0,null,0]
[{"$f":"IF(INTRO!$E$43=\"Non-endemic\",\" \", IF(COUNTRY_INFO!A124=0,\" \",COUNTRY_INFO!A124))","v":"Uganda"},{"$f":"IF(INTRO!$E$43=\"Non-endemic\",\" \", IF(COUNTRY_INFO!B124=0,\" \",COUNTRY_INFO!B124))","v":"Western"},{"$f":"IF(INTRO!$E$43=\"Non-endemic\",\" \", IF(COUNTRY_INFO!C124=0,\" \",COUNTRY_INFO!C124))","v":"Hoima"},{"$f":"IF(INTRO!$E$43=\"Non-endemic\", \"Not required\", COUNTRY_INFO!Y124)","v":1},{"$f":"IF(OR(COUNTRY_INFO!R124=\"Unknown\",COUNTRY_INFO!R124=\"Surveillance\",COUNTRY_INFO!R124=\"Not required\",COUNTRY_INFO!R124=0),0,IF($D124<>0, COUNTRY_INFO!R124,0))","v":0},{"$f":"IF(OR(COUNTRY_INFO!S124=\"Unknown\",COUNTRY_INFO!S124=\"Surveillance\",COUNTRY_INFO!S124=\"Not required\",COUNTRY_INFO!S124=0),0,IF($D124<>0, COUNTRY_INFO!S124,0))","v":45846},{"$f":"IF(OR(COUNTRY_INFO!T124=\"Unknown\",COUNTRY_INFO!T124=\"Surveillance\",COUNTRY_INFO!T124=\"Not required\",COUNTRY_INFO!T124=0),0,IF($D124<>0, COUNTRY_INFO!T124,0))","v":146099},191945,null,null,1,"SAC",null,{"$f":"IF($I124<>\"Yes\",$F124*2,($F124+ROUND(J124*$F124/SUM(COUNTRY_INFO!$E124:$G124),0))*2)","v":91692},{"$f":"IF($I124<>\"Yes\",$G124*3,($G124+ROUND(J124*$G124/SUM(COUNTRY_INFO!$E124:$G124),0))*3)","v":438297},529989,0,529989]
[{"$f":"IF(INTRO!$E$43=\"Non-endemic\",\" \", IF(COUNTRY_INFO!A125=0,\" \",COUNTRY_INFO!A125))","v":"Uganda"},{"$f":"IF(INTRO!$E$43=\"Non-endemic\",\" \", IF(COUNTRY_INFO!B125=0,\" \",COUNTRY_INFO!B125))","v":"Western"},{"$f":"IF(INTRO!$E$43=\"Non-endemic\",\" \", IF(COUNTRY_INFO!C125=0,\" \",COUNTRY_INFO!C125))","v":"Hoima City"},{"$f":"IF(INTRO!$E$43=\"Non-endemic\", \"Not required\", COUNTRY_INFO!Y125)","v":0},{"$f":"IF(OR(COUNTRY_INFO!R125=\"Unknown\",COUNTRY_INFO!R125=\"Surveillance\",COUNTRY_INFO!R125=\"Not required\",COUNTRY_INFO!R125=0),0,IF($D125<>0, COUNTRY_INFO!R125,0))","v":0},{"$f":"IF(OR(COUNTRY_INFO!S125=\"Unknown\",COUNTRY_INFO!S125=\"Surveillance\",COUNTRY_INFO!S125=\"Not required\",COUNTRY_INFO!S125=0),0,IF($D125<>0, COUNTRY_INFO!S125,0))","v":0},{"$f":"IF(OR(COUNTRY_INFO!T125=\"Unknown\",COUNTRY_INFO!T125=\"Surveillance\",COUNTRY_INFO!T125=\"Not required\",COUNTRY_INFO!T125=0),0,IF($D125<>0, COUNTRY_INFO!T125,0))","v":0},0,null,null,null,null,null,{"$f":"IF($I125<>\"Yes\",$F125*2,($F125+ROUND(J125*$F125/SUM(COUNTRY_INFO!$E125:$G125),0))*2)","v":0},{"$f":"IF($I125<>\"Yes\",$G125*3,($G125+ROUND(J125*$G125/SUM(COUNTRY_INFO!$E125:$G125),0))*3)","v":0},0,null,0]
[{"$f":"IF(INTRO!$E$43=\"Non-endemic\",\" \", IF(COUNTRY_INFO!A126=0,\" \",COUNTRY_INFO!A126))","v":"Uganda"},{"$f":"IF(INTRO!$E$43=\"Non-endemic\",\" \", IF(COUNTRY_INFO!B126=0,\" \",COUNTRY_INFO!B126))","v":"Western"},{"$f":"IF(INTRO!$E$43=\"Non-endemic\",\" \", IF(COUNTRY_INFO!C126=0,\" \",COUNTRY_INFO!C126))","v":"Ibanda"},{"$f":"IF(INTRO!$E$43=\"Non-endemic\", \"Not required\", COUNTRY_INFO!Y126)","v":1},{"$f":"IF(OR(COUNTRY_INFO!R126=\"Unknown\",COUNTRY_INFO!R126=\"Surveillance\",COUNTRY_INFO!R126=\"Not required\",COUNTRY_INFO!R126=0),0,IF($D126<>0, COUNTRY_INFO!R126,0))","v":0},{"$f":"IF(OR(COUNTRY_INFO!S126=\"Unknown\",COUNTRY_INFO!S126=\"Surveillance\",COUNTRY_INFO!S126=\"Not required\",COUNTRY_INFO!S126=0),0,IF($D126<>0, COUNTRY_INFO!S126,0))","v":11461},{"$f":"IF(OR(COUNTRY_INFO!T126=\"Unknown\",COUNTRY_INFO!T126=\"Surveillance\",COUNTRY_INFO!T126=\"Not required\",COUNTRY_INFO!T126=0),0,IF($D126<>0, COUNTRY_INFO!T126,0))","v":0},11461,null,null,1,"SAC",null,{"$f":"IF($I126<>\"Yes\",$F126*2,($F126+ROUND(J126*$F126/SUM(COUNTRY_INFO!$E126:$G126),0))*2)","v":22922},{"$f":"IF($I126<>\"Yes\",$G126*3,($G126+ROUND(J126*$G126/SUM(COUNTRY_INFO!$E126:$G126),0))*3)","v":0},22922,0,22922]
[{"$f":"IF(INTRO!$E$43=\"Non-endemic\",\" \", IF(COUNTRY_INFO!A127=0,\" \",COUNTRY_INFO!A127))","v":"Uganda"},{"$f":"IF(INTRO!$E$43=\"Non-endemic\",\" \", IF(COUNTRY_INFO!B127=0,\" \",COUNTRY_INFO!B127))","v":"Western"},{"$f":"IF(INTRO!$E$43=\"Non-endemic\",\" \", IF(COUNTRY_INFO!C127=0,\" \",COUNTRY_INFO!C127))","v":"Isingiro"},{"$f":"IF(INTRO!$E$43=\"Non-endemic\", \"Not required\", COUNTRY_INFO!Y127)","v":1},{"$f":"IF(OR(COUNTRY_INFO!R127=\"Unknown\",COUNTRY_INFO!R127=\"Surveillance\",COUNTRY_INFO!R127=\"Not required\",COUNTRY_INFO!R127=0),0,IF($D127<>0, COUNTRY_INFO!R127,0))","v":0},{"$f":"IF(OR(COUNTRY_INFO!S127=\"Unknown\",COUNTRY_INFO!S127=\"Surveillance\",COUNTRY_INFO!S127=\"Not required\",COUNTRY_INFO!S127=0),0,IF($D127<>0, COUNTRY_INFO!S127,0))","v":38493},{"$f":"IF(OR(COUNTRY_INFO!T127=\"Unknown\",COUNTRY_INFO!T127=\"Surveillance\",COUNTRY_INFO!T127=\"Not required\",COUNTRY_INFO!T127=0),0,IF($D127<>0, COUNTRY_INFO!T127,0))","v":69228},107721,null,null,1,"SAC",null,{"$f":"IF($I127<>\"Yes\",$F127*2,($F127+ROUND(J127*$F127/SUM(COUNTRY_INFO!$E127:$G127),0))*2)","v":76986},{"$f":"IF($I127<>\"Yes\",$G127*3,($G127+ROUND(J127*$G127/SUM(COUNTRY_INFO!$E127:$G127),0))*3)","v":207684},284670,0,284670]
[{"$f":"IF(INTRO!$E$43=\"Non-endemic\",\" \", IF(COUNTRY_INFO!A128=0,\" \",COUNTRY_INFO!A128))","v":"Uganda"},{"$f":"IF(INTRO!$E$43=\"Non-endemic\",\" \", IF(COUNTRY_INFO!B128=0,\" \",COUNTRY_INFO!B128))","v":"Western"},{"$f":"IF(INTRO!$E$43=\"Non-endemic\",\" \", IF(COUNTRY_INFO!C128=0,\" \",COUNTRY_INFO!C128))","v":"Kabale"},{"$f":"IF(INTRO!$E$43=\"Non-endemic\", \"Not required\", COUNTRY_INFO!Y128)","v":0},{"$f":"IF(OR(COUNTRY_INFO!R128=\"Unknown\",COUNTRY_INFO!R128=\"Surveillance\",COUNTRY_INFO!R128=\"Not required\",COUNTRY_INFO!R128=0),0,IF($D128<>0, COUNTRY_INFO!R128,0))","v":0},{"$f":"IF(OR(COUNTRY_INFO!S128=\"Unknown\",COUNTRY_INFO!S128=\"Surveillance\",COUNTRY_INFO!S128=\"Not required\",COUNTRY_INFO!S128=0),0,IF($D128<>0, COUNTRY_INFO!S128,0))","v":0},{"$f":"IF(OR(COUNTRY_INFO!T128=\"Unknown\",COUNTRY_INFO!T128=\"Surveillance\",COUNTRY_INFO!T128=\"Not required\",COUNTRY_INFO!T128=0),0,IF($D128<>0, COUNTRY_INFO!T128,0))","v":0},0,null,null,null,null,null,{"$f":"IF($I128<>\"Yes\",$F128*2,($F128+ROUND(J128*$F128/SUM(COUNTRY_INFO!$E128:$G128),0))*2)","v":0},{"$f":"IF($I128<>\"Yes\",$G128*3,($G128+ROUND(J128*$G128/SUM(COUNTRY_INFO!$E128:$G128),0))*3)","v":0},0,null,0]
[{"$f":"IF(INTRO!$E$43=\"Non-endemic\",\" \", IF(COUNTRY_INFO!A129=0,\" \",COUNTRY_INFO!A129))","v":"Uganda"},{"$f":"IF(INTRO!$E$43=\"Non-endemic\",\" \", IF(COUNTRY_INFO!B129=0,\" \",COUNTRY_INFO!B129))","v":"Western"},{"$f":"IF(INTRO!$E$43=\"Non-endemic\",\" \", IF(COUNTRY_INFO!C129=0,\" \",COUNTRY_INFO!C129))","v":"Kabarole"},{"$f":"IF(INTRO!$E$43=\"Non-endemic\", \"Not required\", COUNTRY_INFO!Y129)","v":1},{"$f":"IF(OR(COUNTRY_INFO!R129=\"Unknown\",COUNTRY_INFO!R129=\"Surveillance\",COUNTRY_INFO!R129=\"Not required\",COUNTRY_INFO!R129=0),0,IF($D129<>0, COUNTRY_INFO!R129,0))","v":0},{"$f":"IF(OR(COUNTRY_INFO!S129=\"Unknown\",COUNTRY_INFO!S129=\"Surveillance\",COUNTRY_INFO!S129=\"Not required\",COUNTRY_INFO!S129=0),0,IF($D129<>0, COUNTRY_INFO!S129,0))","v":15637},{"$f":"IF(OR(COUNTRY_INFO!T129=\"Unknown\",COUNTRY_INFO!T129=\"Surveillance\",COUNTRY_INFO!T129=\"Not required\",COUNTRY_INFO!T129=0),0,IF($D129<>0, COUNTRY_INFO!T129,0))","v":32451},48088,null,null,1,"SAC",null,{"$f":"IF($I129<>\"Yes\",$F129*2,($F129+ROUND(J129*$F129/SUM(COUNTRY_INFO!$E129:$G129),0))*2)","v":31274},{"$f":"IF($I129<>\"Yes\",$G129*3,($G129+ROUND(J129*$G129/SUM(COUNTRY_INFO!$E129:$G129),0))*3)","v":97353},128627,0,128627]
[{"$f":"IF(INTRO!$E$43=\"Non-endemic\",\" \", IF(COUNTRY_INFO!A130=0,\" \",COUNTRY_INFO!A130))","v":"Uganda"},{"$f":"IF(INTRO!$E$43=\"Non-endemic\",\" \", IF(COUNTRY_INFO!B130=0,\" \",COUNTRY_INFO!B130))","v":"Western"},{"$f":"IF(INTRO!$E$43=\"Non-endemic\",\" \", IF(COUNTRY_INFO!C130=0,\" \",COUNTRY_INFO!C130))","v":"Kagadi"},{"$f":"IF(INTRO!$E$43=\"Non-endemic\", \"Not required\", COUNTRY_INFO!Y130)","v":1},{"$f":"IF(OR(COUNTRY_INFO!R130=\"Unknown\",COUNTRY_INFO!R130=\"Surveillance\",COUNTRY_INFO!R130=\"Not required\",COUNTRY_INFO!R130=0),0,IF($D130<>0, COUNTRY_INFO!R130,0))","v":0},{"$f":"IF(OR(COUNTRY_INFO!S130=\"Unknown\",COUNTRY_INFO!S130=\"Surveillance\",COUNTRY_INFO!S130=\"Not required\",COUNTRY_INFO!S130=0),0,IF($D130<>0, COUNTRY_INFO!S130,0))","v":81071},{"$f":"IF(OR(COUNTRY_INFO!T130=\"Unknown\",COUNTRY_INFO!T130=\"Surveillance\",COUNTRY_INFO!T130=\"Not required\",COUNTRY_INFO!T130=0),0,IF($D130<>0, COUNTRY_INFO!T130,0))","v":247752},328823,null,null,1,"SAC",null,{"$f":"IF($I130<>\"Yes\",$F130*2,($F130+ROUND(J130*$F130/SUM(COUNTRY_INFO!$E130:$G130),0))*2)","v":162142},{"$f":"IF($I130<>\"Yes\",$G130*3,($G130+ROUND(J130*$G130/SUM(COUNTRY_INFO!$E130:$G130),0))*3)","v":743256},905398,0,905398]
[{"$f":"IF(INTRO!$E$43=\"Non-endemic\",\" \", IF(COUNTRY_INFO!A131=0,\" \",COUNTRY_INFO!A131))","v":"Uganda"},{"$f":"IF(INTRO!$E$43=\"Non-endemic\",\" \", IF(COUNTRY_INFO!B131=0,\" \",COUNTRY_INFO!B131))","v":"Western"},{"$f":"IF(INTRO!$E$43=\"Non-endemic\",\" \", IF(COUNTRY_INFO!C131=0,\" \",COUNTRY_INFO!C131))","v":"Kakumiro"},{"$f":"IF(INTRO!$E$43=\"Non-endemic\", \"Not required\", COUNTRY_INFO!Y131)","v":0},{"$f":"IF(OR(COUNTRY_INFO!R131=\"Unknown\",COUNTRY_INFO!R131=\"Surveillance\",COUNTRY_INFO!R131=\"Not required\",COUNTRY_INFO!R131=0),0,IF($D131<>0, COUNTRY_INFO!R131,0))","v":0},{"$f":"IF(OR(COUNTRY_INFO!S131=\"Unknown\",COUNTRY_INFO!S131=\"Surveillance\",COUNTRY_INFO!S131=\"Not required\",COUNTRY_INFO!S131=0),0,IF($D131<>0, COUNTRY_INFO!S131,0))","v":0},{"$f":"IF(OR(COUNTRY_INFO!T131=\"Unknown\",COUNTRY_INFO!T131=\"Surveillance\",COUNTRY_INFO!T131=\"Not required\",COUNTRY_INFO!T131=0),0,IF($D131<>0, COUNTRY_INFO!T131,0))","v":0},0,null,null,null,null,null,{"$f":"IF($I131<>\"Yes\",$F131*2,($F131+ROUND(J131*$F131/SUM(COUNTRY_INFO!$E131:$G131),0))*2)","v":0},{"$f":"IF($I131<>\"Yes\",$G131*3,($G131+ROUND(J131*$G131/SUM(COUNTRY_INFO!$E131:$G131),0))*3)","v":0},0,null,0]
[{"$f":"IF(INTRO!$E$43=\"Non-endemic\",\" \", IF(COUNTRY_INFO!A132=0,\" \",COUNTRY_INFO!A132))","v":"Uganda"},{"$f":"IF(INTRO!$E$43=\"Non-endemic\",\" \", IF(COUNTRY_INFO!B132=0,\" \",COUNTRY_INFO!B132))","v":"Western"},{"$f":"IF(INTRO!$E$43=\"Non-endemic\",\" \", IF(COUNTRY_INFO!C132=0,\" \",COUNTRY_INFO!C132))","v":"Kamwenge"},{"$f":"IF(INTRO!$E$43=\"Non-endemic\", \"Not required\", COUNTRY_INFO!Y132)","v":0},{"$f":"IF(OR(COUNTRY_INFO!R132=\"Unknown\",COUNTRY_INFO!R132=\"Surveillance\",COUNTRY_INFO!R132=\"Not required\",COUNTRY_INFO!R132=0),0,IF($D132<>0, COUNTRY_INFO!R132,0))","v":0},{"$f":"IF(OR(COUNTRY_INFO!S132=\"Unknown\",COUNTRY_INFO!S132=\"Surveillance\",COUNTRY_INFO!S132=\"Not required\",COUNTRY_INFO!S132=0),0,IF($D132<>0, COUNTRY_INFO!S132,0))","v":0},{"$f":"IF(OR(COUNTRY_INFO!T132=\"Unknown\",COUNTRY_INFO!T132=\"Surveillance\",COUNTRY_INFO!T132=\"Not required\",COUNTRY_INFO!T132=0),0,IF($D132<>0, COUNTRY_INFO!T132,0))","v":0},0,null,null,null,null,null,{"$f":"IF($I132<>\"Yes\",$F132*2,($F132+ROUND(J132*$F132/SUM(COUNTRY_INFO!$E132:$G132),0))*2)","v":0},{"$f":"IF($I132<>\"Yes\",$G132*3,($G132+ROUND(J132*$G132/SUM(COUNTRY_INFO!$E132:$G132),0))*3)","v":0},0,null,0]
[{"$f":"IF(INTRO!$E$43=\"Non-endemic\",\" \", IF(COUNTRY_INFO!A133=0,\" \",COUNTRY_INFO!A133))","v":"Uganda"},{"$f":"IF(INTRO!$E$43=\"Non-endemic\",\" \", IF(COUNTRY_INFO!B133=0,\" \",COUNTRY_INFO!B133))","v":"Western"},{"$f":"IF(INTRO!$E$43=\"Non-endemic\",\" \", IF(COUNTRY_INFO!C133=0,\" \",COUNTRY_INFO!C133))","v":"Kanungu"},{"$f":"IF(INTRO!$E$43=\"Non-endemic\", \"Not required\", COUNTRY_INFO!Y133)","v":0},{"$f":"IF(OR(COUNTRY_INFO!R133=\"Unknown\",COUNTRY_INFO!R133=\"Surveillance\",COUNTRY_INFO!R133=\"Not required\",COUNTRY_INFO!R133=0),0,IF($D133<>0, COUNTRY_INFO!R133,0))","v":0},{"$f":"IF(OR(COUNTRY_INFO!S133=\"Unknown\",COUNTRY_INFO!S133=\"Surveillance\",COUNTRY_INFO!S133=\"Not required\",COUNTRY_INFO!S133=0),0,IF($D133<>0, COUNTRY_INFO!S133,0))","v":0},{"$f":"IF(OR(COUNTRY_INFO!T133=\"Unknown\",COUNTRY_INFO!T133=\"Surveillance\",COUNTRY_INFO!T133=\"Not required\",COUNTRY_INFO!T133=0),0,IF($D133<>0, COUNTRY_INFO!T133,0))","v":0},0,null,null,null,null,null,{"$f":"IF($I133<>\"Yes\",$F133*2,($F133+ROUND(J133*$F133/SUM(COUNTRY_INFO!$E133:$G133),0))*2)","v":0},{"$f":"IF($I133<>\"Yes\",$G133*3,($G133+ROUND(J133*$G133/SUM(COUNTRY_INFO!$E133:$G133),0))*3)","v":0},0,null,0]
[{"$f":"IF(INTRO!$E$43=\"Non-endemic\",\" \", IF(COUNTRY_INFO!A134=0,\" \",COUNTRY_INFO!A134))","v":"Uganda"},{"$f":"IF(INTRO!$E$43=\"Non-endemic\",\" \", IF(COUNTRY_INFO!B134=0,\" \",COUNTRY_INFO!B134))","v":"Western"},{"$f":"IF(INTRO!$E$43=\"Non-endemic\",\" \", IF(COUNTRY_INFO!C134=0,\" \",COUNTRY_INFO!C134))","v":"Kasese"},{"$f":"IF(INTRO!$E$43=\"Non-endemic\", \"Not required\", COUNTRY_INFO!Y134)","v":1},{"$f":"IF(OR(COUNTRY_INFO!R134=\"Unknown\",COUNTRY_INFO!R134=\"Surveillance\",COUNTRY_INFO!R134=\"Not required\",COUNTRY_INFO!R134=0),0,IF($D134<>0, COUNTRY_INFO!R134,0))","v":0},{"$f":"IF(OR(COUNTRY_INFO!S134=\"Unknown\",COUNTRY_INFO!S134=\"Surveillance\",COUNTRY_INFO!S134=\"Not required\",COUNTRY_INFO!S134=0),0,IF($D134<>0, COUNTRY_INFO!S134,0))","v":4508},{"$f":"IF(OR(COUNTRY_INFO!T134=\"Unknown\",COUNTRY_INFO!T134=\"Surveillance\",COUNTRY_INFO!T134=\"Not required\",COUNTRY_INFO!T134=0),0,IF($D134<>0, COUNTRY_INFO!T134,0))","v":2150},6658,null,null,1,"SAC",null,{"$f":"IF($I134<>\"Yes\",$F134*2,($F134+ROUND(J134*$F134/SUM(COUNTRY_INFO!$E134:$G134),0))*2)","v":9016},{"$f":"IF($I134<>\"Yes\",$G134*3,($G134+ROUND(J134*$G134/SUM(COUNTRY_INFO!$E134:$G134),0))*3)","v":6450},15466,0,15466]
[{"$f":"IF(INTRO!$E$43=\"Non-endemic\",\" \", IF(COUNTRY_INFO!A135=0,\" \",COUNTRY_INFO!A135))","v":"Uganda"},{"$f":"IF(INTRO!$E$43=\"Non-endemic\",\" \", IF(COUNTRY_INFO!B135=0,\" \",COUNTRY_INFO!B135))","v":"Western"},{"$f":"IF(INTRO!$E$43=\"Non-endemic\",\" \", IF(COUNTRY_INFO!C135=0,\" \",COUNTRY_INFO!C135))","v":"Kazo"},{"$f":"IF(INTRO!$E$43=\"Non-endemic\", \"Not required\", COUNTRY_INFO!Y135)","v":1},{"$f":"IF(OR(COUNTRY_INFO!R135=\"Unknown\",COUNTRY_INFO!R135=\"Surveillance\",COUNTRY_INFO!R135=\"Not required\",COUNTRY_INFO!R135=0),0,IF($D135<>0, COUNTRY_INFO!R135,0))","v":0},{"$f":"IF(OR(COUNTRY_INFO!S135=\"Unknown\",COUNTRY_INFO!S135=\"Surveillance\",COUNTRY_INFO!S135=\"Not required\",COUNTRY_INFO!S135=0),0,IF($D135<>0, COUNTRY_INFO!S135,0))","v":29141},{"$f":"IF(OR(COUNTRY_INFO!T135=\"Unknown\",COUNTRY_INFO!T135=\"Surveillance\",COUNTRY_INFO!T135=\"Not required\",COUNTRY_INFO!T135=0),0,IF($D135<>0, COUNTRY_INFO!T135,0))","v":0},29141,null,null,1,"SAC",null,{"$f":"IF($I135<>\"Yes\",$F135*2,($F135+ROUND(J135*$F135/SUM(COUNTRY_INFO!$E135:$G135),0))*2)","v":58282},{"$f":"IF($I135<>\"Yes\",$G135*3,($G135+ROUND(J135*$G135/SUM(COUNTRY_INFO!$E135:$G135),0))*3)","v":0},58282,0,58282]
[{"$f":"IF(INTRO!$E$43=\"Non-endemic\",\" \", IF(COUNTRY_INFO!A136=0,\" \",COUNTRY_INFO!A136))","v":"Uganda"},{"$f":"IF(INTRO!$E$43=\"Non-endemic\",\" \", IF(COUNTRY_INFO!B136=0,\" \",COUNTRY_INFO!B136))","v":"Western"},{"$f":"IF(INTRO!$E$43=\"Non-endemic\",\" \", IF(COUNTRY_INFO!C136=0,\" \",COUNTRY_INFO!C136))","v":"Kibaale"},{"$f":"IF(INTRO!$E$43=\"Non-endemic\", \"Not required\", COUNTRY_INFO!Y136)","v":0},{"$f":"IF(OR(COUNTRY_INFO!R136=\"Unknown\",COUNTRY_INFO!R136=\"Surveillance\",COUNTRY_INFO!R136=\"Not required\",COUNTRY_INFO!R136=0),0,IF($D136<>0, COUNTRY_INFO!R136,0))","v":0},{"$f":"IF(OR(COUNTRY_INFO!S136=\"Unknown\",COUNTRY_INFO!S136=\"Surveillance\",COUNTRY_INFO!S136=\"Not required\",COUNTRY_INFO!S136=0),0,IF($D136<>0, COUNTRY_INFO!S136,0))","v":0},{"$f":"IF(OR(COUNTRY_INFO!T136=\"Unknown\",COUNTRY_INFO!T136=\"Surveillance\",COUNTRY_INFO!T136=\"Not required\",COUNTRY_INFO!T136=0),0,IF($D136<>0, COUNTRY_INFO!T136,0))","v":0},0,null,null,null,null,null,{"$f":"IF($I136<>\"Yes\",$F136*2,($F136+ROUND(J136*$F136/SUM(COUNTRY_INFO!$E136:$G136),0))*2)","v":0},{"$f":"IF($I136<>\"Yes\",$G136*3,($G136+ROUND(J136*$G136/SUM(COUNTRY_INFO!$E136:$G136),0))*3)","v":0},0,null,0]
[{"$f":"IF(INTRO!$E$43=\"Non-endemic\",\" \", IF(COUNTRY_INFO!A137=0,\" \",COUNTRY_INFO!A137))","v":"Uganda"},{"$f":"IF(INTRO!$E$43=\"Non-endemic\",\" \", IF(COUNTRY_INFO!B137=0,\" \",COUNTRY_INFO!B137))","v":"Western"},{"$f":"IF(INTRO!$E$43=\"Non-endemic\",\" \", IF(COUNTRY_INFO!C137=0,\" \",COUNTRY_INFO!C137))","v":"Kikuube"},{"$f":"IF(INTRO!$E$43=\"Non-endemic\", \"Not required\", COUNTRY_INFO!Y137)","v":1},{"$f":"IF(OR(COUNTRY_INFO!R137=\"Unknown\",COUNTRY_INFO!R137=\"Surveillance\",COUNTRY_INFO!R137=\"Not required\",COUNTRY_INFO!R137=0),0,IF($D137<>0, COUNTRY_INFO!R137,0))","v":0},{"$f":"IF(OR(COUNTRY_INFO!S137=\"Unknown\",COUNTRY_INFO!S137=\"Surveillance\",COUNTRY_INFO!S137=\"Not required\",COUNTRY_INFO!S137=0),0,IF($D137<>0, COUNTRY_INFO!S137,0))","v":107960},{"$f":"IF(OR(COUNTRY_INFO!T137=\"Unknown\",COUNTRY_INFO!T137=\"Surveillance\",COUNTRY_INFO!T137=\"Not required\",COUNTRY_INFO!T137=0),0,IF($D137<>0, COUNTRY_INFO!T137,0))","v":186248},294208,null,null,1,"SAC",null,{"$f":"IF($I137<>\"Yes\",$F137*2,($F137+ROUND(J137*$F137/SUM(COUNTRY_INFO!$E137:$G137),0))*2)","v":215920},{"$f":"IF($I137<>\"Yes\",$G137*3,($G137+ROUND(J137*$G137/SUM(COUNTRY_INFO!$E137:$G137),0))*3)","v":558744},774664,0,774664]
[{"$f":"IF(INTRO!$E$43=\"Non-endemic\",\" \", IF(COUNTRY_INFO!A138=0,\" \",COUNTRY_INFO!A138))","v":"Uganda"},{"$f":"IF(INTRO!$E$43=\"Non-endemic\",\" \", IF(COUNTRY_INFO!B138=0,\" \",COUNTRY_INFO!B138))","v":"Western"},{"$f":"IF(INTRO!$E$43=\"Non-endemic\",\" \", IF(COUNTRY_INFO!C138=0,\" \",COUNTRY_INFO!C138))","v":"Kiruhura"},{"$f":"IF(INTRO!$E$43=\"Non-endemic\", \"Not required\", COUNTRY_INFO!Y138)","v":0},{"$f":"IF(OR(COUNTRY_INFO!R138=\"Unknown\",COUNTRY_INFO!R138=\"Surveillance\",COUNTRY_INFO!R138=\"Not required\",COUNTRY_INFO!R138=0),0,IF($D138<>0, COUNTRY_INFO!R138,0))","v":0},{"$f":"IF(OR(COUNTRY_INFO!S138=\"Unknown\",COUNTRY_INFO!S138=\"Surveillance\",COUNTRY_INFO!S138=\"Not required\",COUNTRY_INFO!S138=0),0,IF($D138<>0, COUNTRY_INFO!S138,0))","v":0},{"$f":"IF(OR(COUNTRY_INFO!T138=\"Unknown\",COUNTRY_INFO!T138=\"Surveillance\",COUNTRY_INFO!T138=\"Not required\",COUNTRY_INFO!T138=0),0,IF($D138<>0, COUNTRY_INFO!T138,0))","v":0},0,null,null,null,null,null,{"$f":"IF($I138<>\"Yes\",$F138*2,($F138+ROUND(J138*$F138/SUM(COUNTRY_INFO!$E138:$G138),0))*2)","v":0},{"$f":"IF($I138<>\"Yes\",$G138*3,($G138+ROUND(J138*$G138/SUM(COUNTRY_INFO!$E138:$G138),0))*3)","v":0},0,null,0]
[{"$f":"IF(INTRO!$E$43=\"Non-endemic\",\" \", IF(COUNTRY_INFO!A139=0,\" \",COUNTRY_INFO!A139))","v":"Uganda"},{"$f":"IF(INTRO!$E$43=\"Non-endemic\",\" \", IF(COUNTRY_INFO!B139=0,\" \",COUNTRY_INFO!B139))","v":"Western"},{"$f":"IF(INTRO!$E$43=\"Non-endemic\",\" \", IF(COUNTRY_INFO!C139=0,\" \",COUNTRY_INFO!C139))","v":"Kiryandongo"},{"$f":"IF(INTRO!$E$43=\"Non-endemic\", \"Not required\", COUNTRY_INFO!Y139)","v":1},{"$f":"IF(OR(COUNTRY_INFO!R139=\"Unknown\",COUNTRY_INFO!R139=\"Surveillance\",COUNTRY_INFO!R139=\"Not required\",COUNTRY_INFO!R139=0),0,IF($D139<>0, COUNTRY_INFO!R139,0))","v":0},{"$f":"IF(OR(COUNTRY_INFO!S139=\"Unknown\",COUNTRY_INFO!S139=\"Surveillance\",COUNTRY_INFO!S139=\"Not required\",COUNTRY_INFO!S139=0),0,IF($D139<>0, COUNTRY_INFO!S139,0))","v":52517},{"$f":"IF(OR(COUNTRY_INFO!T139=\"Unknown\",COUNTRY_INFO!T139=\"Surveillance\",COUNTRY_INFO!T139=\"Not required\",COUNTRY_INFO!T139=0),0,IF($D139<>0, COUNTRY_INFO!T139,0))","v":188328},{"$f":"SUM(E139:G139)","v":240845},null,null,1,"SAC",null,{"$f":"IF($I139<>\"Yes\",$F139*2,($F139+ROUND(J139*$F139/SUM(COUNTRY_INFO!$E139:$G139),0))*2)","v":105034},{"$f":"IF($I139<>\"Yes\",$G139*3,($G139+ROUND(J139*$G139/SUM(COUNTRY_INFO!$E139:$G139),0))*3)","v":564984},{"$f":"SUM(M139:O139)","v":670018},0,{"$f":"IF($P139>$Q139,P139-Q139,0)","v":670018}]
[{"$f":"IF(INTRO!$E$43=\"Non-endemic\",\" \", IF(COUNTRY_INFO!A140=0,\" \",COUNTRY_INFO!A140))","v":"Uganda"},{"$f":"IF(INTRO!$E$43=\"Non-endemic\",\" \", IF(COUNTRY_INFO!B140=0,\" \",COUNTRY_INFO!B140))","v":"Western"},{"$f":"IF(INTRO!$E$43=\"Non-endemic\",\" \", IF(COUNTRY_INFO!C140=0,\" \",COUNTRY_INFO!C140))","v":"Kisoro"},{"$f":"IF(INTRO!$E$43=\"Non-endemic\", \"Not required\", COUNTRY_INFO!Y140)","v":0},{"$f":"IF(OR(COUNTRY_INFO!R140=\"Unknown\",COUNTRY_INFO!R140=\"Surveillance\",COUNTRY_INFO!R140=\"Not required\",COUNTRY_INFO!R140=0),0,IF($D140<>0, COUNTRY_INFO!R140,0))","v":0},{"$f":"IF(OR(COUNTRY_INFO!S140=\"Unknown\",COUNTRY_INFO!S140=\"Surveillance\",COUNTRY_INFO!S140=\"Not required\",COUNTRY_INFO!S140=0),0,IF($D140<>0, COUNTRY_INFO!S140,0))","v":0},{"$f":"IF(OR(COUNTRY_INFO!T140=\"Unknown\",COUNTRY_INFO!T140=\"Surveillance\",COUNTRY_INFO!T140=\"Not required\",COUNTRY_INFO!T140=0),0,IF($D140<>0, COUNTRY_INFO!T140,0))","v":0},0,null,null,null,null,null,{"$f":"IF($I140<>\"Yes\",$F140*2,($F140+ROUND(J140*$F140/SUM(COUNTRY_INFO!$E140:$G140),0))*2)","v":0},{"$f":"IF($I140<>\"Yes\",$G140*3,($G140+ROUND(J140*$G140/SUM(COUNTRY_INFO!$E140:$G140),0))*3)","v":0},0,null,0]
[{"$f":"IF(INTRO!$E$43=\"Non-endemic\",\" \", IF(COUNTRY_INFO!A141=0,\" \",COUNTRY_INFO!A141))","v":"Uganda"},{"$f":"IF(INTRO!$E$43=\"Non-endemic\",\" \", IF(COUNTRY_INFO!B141=0,\" \",COUNTRY_INFO!B141))","v":"Western"},{"$f":"IF(INTRO!$E$43=\"Non-endemic\",\" \", IF(COUNTRY_INFO!C141=0,\" \",COUNTRY_INFO!C141))","v":"Kitagwenda"},{"$f":"IF(INTRO!$E$43=\"Non-endemic\", \"Not required\", COUNTRY_INFO!Y141)","v":1},{"$f":"IF(OR(COUNTRY_INFO!R141=\"Unknown\",COUNTRY_INFO!R141=\"Surveillance\",COUNTRY_INFO!R141=\"Not required\",COUNTRY_INFO!R141=0),0,IF($D141<>0, COUNTRY_INFO!R141,0))","v":0},{"$f":"IF(OR(COUNTRY_INFO!S141=\"Unknown\",COUNTRY_INFO!S141=\"Surveillance\",COUNTRY_INFO!S141=\"Not required\",COUNTRY_INFO!S141=0),0,IF($D141<>0, COUNTRY_INFO!S141,0))","v":28660},{"$f":"IF(OR(COUNTRY_INFO!T141=\"Unknown\",COUNTRY_INFO!T141=\"Surveillance\",COUNTRY_INFO!T141=\"Not required\",COUNTRY_INFO!T141=0),0,IF($D141<>0, COUNTRY_INFO!T141,0))","v":102237},130897,null,null,1,"SAC",null,{"$f":"IF($I141<>\"Yes\",$F141*2,($F141+ROUND(J141*$F141/SUM(COUNTRY_INFO!$E141:$G141),0))*2)","v":57320},{"$f":"IF($I141<>\"Yes\",$G141*3,($G141+ROUND(J141*$G141/SUM(COUNTRY_INFO!$E141:$G141),0))*3)","v":306711},364031,0,364031]
[{"$f":"IF(INTRO!$E$43=\"Non-endemic\",\" \", IF(COUNTRY_INFO!A142=0,\" \",COUNTRY_INFO!A142))","v":"Uganda"},{"$f":"IF(INTRO!$E$43=\"Non-endemic\",\" \", IF(COUNTRY_INFO!B142=0,\" \",COUNTRY_INFO!B142))","v":"Western"},{"$f":"IF(INTRO!$E$43=\"Non-endemic\",\" \", IF(COUNTRY_INFO!C142=0,\" \",COUNTRY_INFO!C142))","v":"Kyegegwa"},{"$f":"IF(INTRO!$E$43=\"Non-endemic\", \"Not required\", COUNTRY_INFO!Y142)","v":0},{"$f":"IF(OR(COUNTRY_INFO!R142=\"Unknown\",COUNTRY_INFO!R142=\"Surveillance\",COUNTRY_INFO!R142=\"Not required\",COUNTRY_INFO!R142=0),0,IF($D142<>0, COUNTRY_INFO!R142,0))","v":0},{"$f":"IF(OR(COUNTRY_INFO!S142=\"Unknown\",COUNTRY_INFO!S142=\"Surveillance\",COUNTRY_INFO!S142=\"Not required\",COUNTRY_INFO!S142=0),0,IF($D142<>0, COUNTRY_INFO!S142,0))","v":0},{"$f":"IF(OR(COUNTRY_INFO!T142=\"Unknown\",COUNTRY_INFO!T142=\"Surveillance\",COUNTRY_INFO!T142=\"Not required\",COUNTRY_INFO!T142=0),0,IF($D142<>0, COUNTRY_INFO!T142,0))","v":0},0,null,null,null,null,null,{"$f":"IF($I142<>\"Yes\",$F142*2,($F142+ROUND(J142*$F142/SUM(COUNTRY_INFO!$E142:$G142),0))*2)","v":0},{"$f":"IF($I142<>\"Yes\",$G142*3,($G142+ROUND(J142*$G142/SUM(COUNTRY_INFO!$E142:$G142),0))*3)","v":0},0,null,0]
[{"$f":"IF(INTRO!$E$43=\"Non-endemic\",\" \", IF(COUNTRY_INFO!A143=0,\" \",COUNTRY_INFO!A143))","v":"Uganda"},{"$f":"IF(INTRO!$E$43=\"Non-endemic\",\" \", IF(COUNTRY_INFO!B143=0,\" \",COUNTRY_INFO!B143))","v":"Western"},{"$f":"IF(INTRO!$E$43=\"Non-endemic\",\" \", IF(COUNTRY_INFO!C143=0,\" \",COUNTRY_INFO!C143))","v":"Kyenjojo"},{"$f":"IF(INTRO!$E$43=\"Non-endemic\", \"Not required\", COUNTRY_INFO!Y143)","v":0},{"$f":"IF(OR(COUNTRY_INFO!R143=\"Unknown\",COUNTRY_INFO!R143=\"Surveillance\",COUNTRY_INFO!R143=\"Not required\",COUNTRY_INFO!R143=0),0,IF($D143<>0, COUNTRY_INFO!R143,0))","v":0},{"$f":"IF(OR(COUNTRY_INFO!S143=\"Unknown\",COUNTRY_INFO!S143=\"Surveillance\",COUNTRY_INFO!S143=\"Not required\",COUNTRY_INFO!S143=0),0,IF($D143<>0, COUNTRY_INFO!S143,0))","v":0},{"$f":"IF(OR(COUNTRY_INFO!T143=\"Unknown\",COUNTRY_INFO!T143=\"Surveillance\",COUNTRY_INFO!T143=\"Not required\",COUNTRY_INFO!T143=0),0,IF($D143<>0, COUNTRY_INFO!T143,0))","v":0},0,null,null,null,null,null,{"$f":"IF($I143<>\"Yes\",$F143*2,($F143+ROUND(J143*$F143/SUM(COUNTRY_INFO!$E143:$G143),0))*2)","v":0},{"$f":"IF($I143<>\"Yes\",$G143*3,($G143+ROUND(J143*$G143/SUM(COUNTRY_INFO!$E143:$G143),0))*3)","v":0},0,null,0]
[{"$f":"IF(INTRO!$E$43=\"Non-endemic\",\" \", IF(COUNTRY_INFO!A144=0,\" \",COUNTRY_INFO!A144))","v":"Uganda"},{"$f":"IF(INTRO!$E$43=\"Non-endemic\",\" \", IF(COUNTRY_INFO!B144=0,\" \",COUNTRY_INFO!B144))","v":"Western"},{"$f":"IF(INTRO!$E$43=\"Non-endemic\",\" \", IF(COUNTRY_INFO!C144=0,\" \",COUNTRY_INFO!C144))","v":"Masindi"},{"$f":"IF(INTRO!$E$43=\"Non-endemic\", \"Not required\", COUNTRY_INFO!Y144)","v":0},{"$f":"IF(OR(COUNTRY_INFO!R144=\"Unknown\",COUNTRY_INFO!R144=\"Surveillance\",COUNTRY_INFO!R144=\"Not required\",COUNTRY_INFO!R144=0),0,IF($D144<>0, COUNTRY_INFO!R144,0))","v":0},{"$f":"IF(OR(COUNTRY_INFO!S144=\"Unknown\",COUNTRY_INFO!S144=\"Surveillance\",COUNTRY_INFO!S144=\"Not required\",COUNTRY_INFO!S144=0),0,IF($D144<>0, COUNTRY_INFO!S144,0))","v":0},{"$f":"IF(OR(COUNTRY_INFO!T144=\"Unknown\",COUNTRY_INFO!T144=\"Surveillance\",COUNTRY_INFO!T144=\"Not required\",COUNTRY_INFO!T144=0),0,IF($D144<>0, COUNTRY_INFO!T144,0))","v":0},0,null,null,null,null,null,{"$f":"IF($I144<>\"Yes\",$F144*2,($F144+ROUND(J144*$F144/SUM(COUNTRY_INFO!$E144:$G144),0))*2)","v":0},{"$f":"IF($I144<>\"Yes\",$G144*3,($G144+ROUND(J144*$G144/SUM(COUNTRY_INFO!$E144:$G144),0))*3)","v":0},0,null,0]
[{"$f":"IF(INTRO!$E$43=\"Non-endemic\",\" \", IF(COUNTRY_INFO!A145=0,\" \",COUNTRY_INFO!A145))","v":"Uganda"},{"$f":"IF(INTRO!$E$43=\"Non-endemic\",\" \", IF(COUNTRY_INFO!B145=0,\" \",COUNTRY_INFO!B145))","v":"Western"},{"$f":"IF(INTRO!$E$43=\"Non-endemic\",\" \", IF(COUNTRY_INFO!C145=0,\" \",COUNTRY_INFO!C145))","v":"Mbarara"},{"$f":"IF(INTRO!$E$43=\"Non-endemic\", \"Not required\", COUNTRY_INFO!Y145)","v":0},{"$f":"IF(OR(COUNTRY_INFO!R145=\"Unknown\",COUNTRY_INFO!R145=\"Surveillance\",COUNTRY_INFO!R145=\"Not required\",COUNTRY_INFO!R145=0),0,IF($D145<>0, COUNTRY_INFO!R145,0))","v":0},{"$f":"IF(OR(COUNTRY_INFO!S145=\"Unknown\",COUNTRY_INFO!S145=\"Surveillance\",COUNTRY_INFO!S145=\"Not required\",COUNTRY_INFO!S145=0),0,IF($D145<>0, COUNTRY_INFO!S145,0))","v":0},{"$f":"IF(OR(COUNTRY_INFO!T145=\"Unknown\",COUNTRY_INFO!T145=\"Surveillance\",COUNTRY_INFO!T145=\"Not required\",COUNTRY_INFO!T145=0),0,IF($D145<>0, COUNTRY_INFO!T145,0))","v":0},0,null,null,null,null,null,{"$f":"IF($I145<>\"Yes\",$F145*2,($F145+ROUND(J145*$F145/SUM(COUNTRY_INFO!$E145:$G145),0))*2)","v":0},{"$f":"IF($I145<>\"Yes\",$G145*3,($G145+ROUND(J145*$G145/SUM(COUNTRY_INFO!$E145:$G145),0))*3)","v":0},0,null,0]
[{"$f":"IF(INTRO!$E$43=\"Non-endemic\",\" \", IF(COUNTRY_INFO!A146=0,\" \",COUNTRY_INFO!A146))","v":"Uganda"},{"$f":"IF(INTRO!$E$43=\"Non-endemic\",\" \", IF(COUNTRY_INFO!B146=0,\" \",COUNTRY_INFO!B146))","v":"Western"},{"$f":"IF(INTRO!$E$43=\"Non-endemic\",\" \", IF(COUNTRY_INFO!C146=0,\" \",COUNTRY_INFO!C146))","v":"Mbarara City"},{"$f":"IF(INTRO!$E$43=\"Non-endemic\", \"Not required\", COUNTRY_INFO!Y146)","v":0},{"$f":"IF(OR(COUNTRY_INFO!R146=\"Unknown\",COUNTRY_INFO!R146=\"Surveillance\",COUNTRY_INFO!R146=\"Not required\",COUNTRY_INFO!R146=0),0,IF($D146<>0, COUNTRY_INFO!R146,0))","v":0},{"$f":"IF(OR(COUNTRY_INFO!S146=\"Unknown\",COUNTRY_INFO!S146=\"Surveillance\",COUNTRY_INFO!S146=\"Not required\",COUNTRY_INFO!S146=0),0,IF($D146<>0, COUNTRY_INFO!S146,0))","v":0},{"$f":"IF(OR(COUNTRY_INFO!T146=\"Unknown\",COUNTRY_INFO!T146=\"Surveillance\",COUNTRY_INFO!T146=\"Not required\",COUNTRY_INFO!T146=0),0,IF($D146<>0, COUNTRY_INFO!T146,0))","v":0},0,null,null,null,null,null,{"$f":"IF($I146<>\"Yes\",$F146*2,($F146+ROUND(J146*$F146/SUM(COUNTRY_INFO!$E146:$G146),0))*2)","v":0},{"$f":"IF($I146<>\"Yes\",$G146*3,($G146+ROUND(J146*$G146/SUM(COUNTRY_INFO!$E146:$G146),0))*3)","v":0},0,null,0]
[{"$f":"IF(INTRO!$E$43=\"Non-endemic\",\" \", IF(COUNTRY_INFO!A147=0,\" \",COUNTRY_INFO!A147))","v":"Uganda"},{"$f":"IF(INTRO!$E$43=\"Non-endemic\",\" \", IF(COUNTRY_INFO!B147=0,\" \",COUNTRY_INFO!B147))","v":"Western"},{"$f":"IF(INTRO!$E$43=\"Non-endemic\",\" \", IF(COUNTRY_INFO!C147=0,\" \",COUNTRY_INFO!C147))","v":"Mitooma"},{"$f":"IF(INTRO!$E$43=\"Non-endemic\", \"Not required\", COUNTRY_INFO!Y147)","v":0},{"$f":"IF(OR(COUNTRY_INFO!R147=\"Unknown\",COUNTRY_INFO!R147=\"Surveillance\",COUNTRY_INFO!R147=\"Not required\",COUNTRY_INFO!R147=0),0,IF($D147<>0, COUNTRY_INFO!R147,0))","v":0},{"$f":"IF(OR(COUNTRY_INFO!S147=\"Unknown\",COUNTRY_INFO!S147=\"Surveillance\",COUNTRY_INFO!S147=\"Not required\",COUNTRY_INFO!S147=0),0,IF($D147<>0, COUNTRY_INFO!S147,0))","v":0},{"$f":"IF(OR(COUNTRY_INFO!T147=\"Unknown\",COUNTRY_INFO!T147=\"Surveillance\",COUNTRY_INFO!T147=\"Not required\",COUNTRY_INFO!T147=0),0,IF($D147<>0, COUNTRY_INFO!T147,0))","v":0},0,null,null,null,null,null,{"$f":"IF($I147<>\"Yes\",$F147*2,($F147+ROUND(J147*$F147/SUM(COUNTRY_INFO!$E147:$G147),0))*2)","v":0},{"$f":"IF($I147<>\"Yes\",$G147*3,($G147+ROUND(J147*$G147/SUM(COUNTRY_INFO!$E147:$G147),0))*3)","v":0},0,null,0]
[{"$f":"IF(INTRO!$E$43=\"Non-endemic\",\" \", IF(COUNTRY_INFO!A148=0,\" \",COUNTRY_INFO!A148))","v":"Uganda"},{"$f":"IF(INTRO!$E$43=\"Non-endemic\",\" \", IF(COUNTRY_INFO!B148=0,\" \",COUNTRY_INFO!B148))","v":"Western"},{"$f":"IF(INTRO!$E$43=\"Non-endemic\",\" \", IF(COUNTRY_INFO!C148=0,\" \",COUNTRY_INFO!C148))","v":"Ntoroko"},{"$f":"IF(INTRO!$E$43=\"Non-endemic\", \"Not required\", COUNTRY_INFO!Y148)","v":1},{"$f":"IF(OR(COUNTRY_INFO!R148=\"Unknown\",COUNTRY_INFO!R148=\"Surveillance\",COUNTRY_INFO!R148=\"Not required\",COUNTRY_INFO!R148=0),0,IF($D148<>0, COUNTRY_INFO!R148,0))","v":0},{"$f":"IF(OR(COUNTRY_INFO!S148=\"Unknown\",COUNTRY_INFO!S148=\"Surveillance\",COUNTRY_INFO!S148=\"Not required\",COUNTRY_INFO!S148=0),0,IF($D148<>0, COUNTRY_INFO!S148,0))","v":10428},{"$f":"IF(OR(COUNTRY_INFO!T148=\"Unknown\",COUNTRY_INFO!T148=\"Surveillance\",COUNTRY_INFO!T148=\"Not required\",COUNTRY_INFO!T148=0),0,IF($D148<>0, COUNTRY_INFO!T148,0))","v":46640},57068,null,null,1,"SAC",null,{"$f":"IF($I148<>\"Yes\",$F148*2,($F148+ROUND(J148*$F148/SUM(COUNTRY_INFO!$E148:$G148),0))*2)","v":20856},{"$f":"IF($I148<>\"Yes\",$G148*3,($G148+ROUND(J148*$G148/SUM(COUNTRY_INFO!$E148:$G148),0))*3)","v":139920},160776,0,160776]
[{"$f":"IF(INTRO!$E$43=\"Non-endemic\",\" \", IF(COUNTRY_INFO!A149=0,\" \",COUNTRY_INFO!A149))","v":"Uganda"},{"$f":"IF(INTRO!$E$43=\"Non-endemic\",\" \", IF(COUNTRY_INFO!B149=0,\" \",COUNTRY_INFO!B149))","v":"Western"},{"$f":"IF(INTRO!$E$43=\"Non-endemic\",\" \", IF(COUNTRY_INFO!C149=0,\" \",COUNTRY_INFO!C149))","v":"Ntungamo"},{"$f":"IF(INTRO!$E$43=\"Non-endemic\", \"Not required\", COUNTRY_INFO!Y149)","v":0},{"$f":"IF(OR(COUNTRY_INFO!R149=\"Unknown\",COUNTRY_INFO!R149=\"Surveillance\",COUNTRY_INFO!R149=\"Not required\",COUNTRY_INFO!R149=0),0,IF($D149<>0, COUNTRY_INFO!R149,0))","v":0},{"$f":"IF(OR(COUNTRY_INFO!S149=\"Unknown\",COUNTRY_INFO!S149=\"Surveillance\",COUNTRY_INFO!S149=\"Not required\",COUNTRY_INFO!S149=0),0,IF($D149<>0, COUNTRY_INFO!S149,0))","v":0},{"$f":"IF(OR(COUNTRY_INFO!T149=\"Unknown\",COUNTRY_INFO!T149=\"Surveillance\",COUNTRY_INFO!T149=\"Not required\",COUNTRY_INFO!T149=0),0,IF($D149<>0, COUNTRY_INFO!T149,0))","v":0},0,null,null,null,null,null,{"$f":"IF($I149<>\"Yes\",$F149*2,($F149+ROUND(J149*$F149/SUM(COUNTRY_INFO!$E149:$G149),0))*2)","v":0},{"$f":"IF($I149<>\"Yes\",$G149*3,($G149+ROUND(J149*$G149/SUM(COUNTRY_INFO!$E149:$G149),0))*3)","v":0},0,null,0]
[{"$f":"IF(INTRO!$E$43=\"Non-endemic\",\" \", IF(COUNTRY_INFO!A150=0,\" \",COUNTRY_INFO!A150))","v":"Uganda"},{"$f":"IF(INTRO!$E$43=\"Non-endemic\",\" \", IF(COUNTRY_INFO!B150=0,\" \",COUNTRY_INFO!B150))","v":"Western"},{"$f":"IF(INTRO!$E$43=\"Non-endemic\",\" \", IF(COUNTRY_INFO!C150=0,\" \",COUNTRY_INFO!C150))","v":"Rubanda"},{"$f":"IF(INTRO!$E$43=\"Non-endemic\", \"Not required\", COUNTRY_INFO!Y150)","v":0},{"$f":"IF(OR(COUNTRY_INFO!R150=\"Unknown\",COUNTRY_INFO!R150=\"Surveillance\",COUNTRY_INFO!R150=\"Not required\",COUNTRY_INFO!R150=0),0,IF($D150<>0, COUNTRY_INFO!R150,0))","v":0},{"$f":"IF(OR(COUNTRY_INFO!S150=\"Unknown\",COUNTRY_INFO!S150=\"Surveillance\",COUNTRY_INFO!S150=\"Not required\",COUNTRY_INFO!S150=0),0,IF($D150<>0, COUNTRY_INFO!S150,0))","v":0},{"$f":"IF(OR(COUNTRY_INFO!T150=\"Unknown\",COUNTRY_INFO!T150=\"Surveillance\",COUNTRY_INFO!T150=\"Not required\",COUNTRY_INFO!T150=0),0,IF($D150<>0, COUNTRY_INFO!T150,0))","v":0},0,null,null,null,null,null,{"$f":"IF($I150<>\"Yes\",$F150*2,($F150+ROUND(J150*$F150/SUM(COUNTRY_INFO!$E150:$G150),0))*2)","v":0},{"$f":"IF($I150<>\"Yes\",$G150*3,($G150+ROUND(J150*$G150/SUM(COUNTRY_INFO!$E150:$G150),0))*3)","v":0},0,null,0]
[{"$f":"IF(INTRO!$E$43=\"Non-endemic\",\" \", IF(COUNTRY_INFO!A151=0,\" \",COUNTRY_INFO!A151))","v":"Uganda"},{"$f":"IF(INTRO!$E$43=\"Non-endemic\",\" \", IF(COUNTRY_INFO!B151=0,\" \",COUNTRY_INFO!B151))","v":"Western"},{"$f":"IF(INTRO!$E$43=\"Non-endemic\",\" \", IF(COUNTRY_INFO!C151=0,\" \",COUNTRY_INFO!C151))","v":"Rubirizi"},{"$f":"IF(INTRO!$E$43=\"Non-endemic\", \"Not required\", COUNTRY_INFO!Y151)","v":1},{"$f":"IF(OR(COUNTRY_INFO!R151=\"Unknown\",COUNTRY_INFO!R151=\"Surveillance\",COUNTRY_INFO!R151=\"Not required\",COUNTRY_INFO!R151=0),0,IF($D151<>0, COUNTRY_INFO!R151,0))","v":0},{"$f":"IF(OR(COUNTRY_INFO!S151=\"Unknown\",COUNTRY_INFO!S151=\"Surveillance\",COUNTRY_INFO!S151=\"Not required\",COUNTRY_INFO!S151=0),0,IF($D151<>0, COUNTRY_INFO!S151,0))","v":2273},{"$f":"IF(OR(COUNTRY_INFO!T151=\"Unknown\",COUNTRY_INFO!T151=\"Surveillance\",COUNTRY_INFO!T151=\"Not required\",COUNTRY_INFO!T151=0),0,IF($D151<>0, COUNTRY_INFO!T151,0))","v":90784},93057,null,null,1,"SAC",null,{"$f":"IF($I151<>\"Yes\",$F151*2,($F151+ROUND(J151*$F151/SUM(COUNTRY_INFO!$E151:$G151),0))*2)","v":4546},{"$f":"IF($I151<>\"Yes\",$G151*3,($G151+ROUND(J151*$G151/SUM(COUNTRY_INFO!$E151:$G151),0))*3)","v":272352},276898,0,276898]
[{"$f":"IF(INTRO!$E$43=\"Non-endemic\",\" \", IF(COUNTRY_INFO!A152=0,\" \",COUNTRY_INFO!A152))","v":"Uganda"},{"$f":"IF(INTRO!$E$43=\"Non-endemic\",\" \", IF(COUNTRY_INFO!B152=0,\" \",COUNTRY_INFO!B152))","v":"Western"},{"$f":"IF(INTRO!$E$43=\"Non-endemic\",\" \", IF(COUNTRY_INFO!C152=0,\" \",COUNTRY_INFO!C152))","v":"Rukiga"},{"$f":"IF(INTRO!$E$43=\"Non-endemic\", \"Not required\", COUNTRY_INFO!Y152)","v":0},{"$f":"IF(OR(COUNTRY_INFO!R152=\"Unknown\",COUNTRY_INFO!R152=\"Surveillance\",COUNTRY_INFO!R152=\"Not required\",COUNTRY_INFO!R152=0),0,IF($D152<>0, COUNTRY_INFO!R152,0))","v":0},{"$f":"IF(OR(COUNTRY_INFO!S152=\"Unknown\",COUNTRY_INFO!S152=\"Surveillance\",COUNTRY_INFO!S152=\"Not required\",COUNTRY_INFO!S152=0),0,IF($D152<>0, COUNTRY_INFO!S152,0))","v":0},{"$f":"IF(OR(COUNTRY_INFO!T152=\"Unknown\",COUNTRY_INFO!T152=\"Surveillance\",COUNTRY_INFO!T152=\"Not required\",COUNTRY_INFO!T152=0),0,IF($D152<>0, COUNTRY_INFO!T152,0))","v":0},0,null,null,null,null,null,{"$f":"IF($I152<>\"Yes\",$F152*2,($F152+ROUND(J152*$F152/SUM(COUNTRY_INFO!$E152:$G152),0))*2)","v":0},{"$f":"IF($I152<>\"Yes\",$G152*3,($G152+ROUND(J152*$G152/SUM(COUNTRY_INFO!$E152:$G152),0))*3)","v":0},0,null,0]
[{"$f":"IF(INTRO!$E$43=\"Non-endemic\",\" \", IF(COUNTRY_INFO!A153=0,\" \",COUNTRY_INFO!A153))","v":"Uganda"},{"$f":"IF(INTRO!$E$43=\"Non-endemic\",\" \", IF(COUNTRY_INFO!B153=0,\" \",COUNTRY_INFO!B153))","v":"Western"},{"$f":"IF(INTRO!$E$43=\"Non-endemic\",\" \", IF(COUNTRY_INFO!C153=0,\" \",COUNTRY_INFO!C153))","v":"Rukungiri"},{"$f":"IF(INTRO!$E$43=\"Non-endemic\", \"Not required\", COUNTRY_INFO!Y153)","v":0},{"$f":"IF(OR(COUNTRY_INFO!R153=\"Unknown\",COUNTRY_INFO!R153=\"Surveillance\",COUNTRY_INFO!R153=\"Not required\",COUNTRY_INFO!R153=0),0,IF($D153<>0, COUNTRY_INFO!R153,0))","v":0},{"$f":"IF(OR(COUNTRY_INFO!S153=\"Unknown\",COUNTRY_INFO!S153=\"Surveillance\",COUNTRY_INFO!S153=\"Not required\",COUNTRY_INFO!S153=0),0,IF($D153<>0, COUNTRY_INFO!S153,0))","v":0},{"$f":"IF(OR(COUNTRY_INFO!T153=\"Unknown\",COUNTRY_INFO!T153=\"Surveillance\",COUNTRY_INFO!T153=\"Not required\",COUNTRY_INFO!T153=0),0,IF($D153<>0, COUNTRY_INFO!T153,0))","v":0},0,null,null,null,null,null,{"$f":"IF($I153<>\"Yes\",$F153*2,($F153+ROUND(J153*$F153/SUM(COUNTRY_INFO!$E153:$G153),0))*2)","v":0},{"$f":"IF($I153<>\"Yes\",$G153*3,($G153+ROUND(J153*$G153/SUM(COUNTRY_INFO!$E153:$G153),0))*3)","v":0},0,null,0]
[{"$f":"IF(INTRO!$E$43=\"Non-endemic\",\" \", IF(COUNTRY_INFO!A154=0,\" \",COUNTRY_INFO!A154))","v":"Uganda"},{"$f":"IF(INTRO!$E$43=\"Non-endemic\",\" \", IF(COUNTRY_INFO!B154=0,\" \",COUNTRY_INFO!B154))","v":"Western"},{"$f":"IF(INTRO!$E$43=\"Non-endemic\",\" \", IF(COUNTRY_INFO!C154=0,\" \",COUNTRY_INFO!C154))","v":"Rwampara"},{"$f":"IF(INTRO!$E$43=\"Non-endemic\", \"Not required\", COUNTRY_INFO!Y154)","v":0},{"$f":"IF(OR(COUNTRY_INFO!R154=\"Unknown\",COUNTRY_INFO!R154=\"Surveillance\",COUNTRY_INFO!R154=\"Not required\",COUNTRY_INFO!R154=0),0,IF($D154<>0, COUNTRY_INFO!R154,0))","v":0},{"$f":"IF(OR(COUNTRY_INFO!S154=\"Unknown\",COUNTRY_INFO!S154=\"Surveillance\",COUNTRY_INFO!S154=\"Not required\",COUNTRY_INFO!S154=0),0,IF($D154<>0, COUNTRY_INFO!S154,0))","v":0},{"$f":"IF(OR(COUNTRY_INFO!T154=\"Unknown\",COUNTRY_INFO!T154=\"Surveillance\",COUNTRY_INFO!T154=\"Not required\",COUNTRY_INFO!T154=0),0,IF($D154<>0, COUNTRY_INFO!T154,0))","v":0},0,null,null,null,null,null,{"$f":"IF($I154<>\"Yes\",$F154*2,($F154+ROUND(J154*$F154/SUM(COUNTRY_INFO!$E154:$G154),0))*2)","v":0},{"$f":"IF($I154<>\"Yes\",$G154*3,($G154+ROUND(J154*$G154/SUM(COUNTRY_INFO!$E154:$G154),0))*3)","v":0},0,null,0]
[{"$f":"IF(INTRO!$E$43=\"Non-endemic\",\" \", IF(COUNTRY_INFO!A155=0,\" \",COUNTRY_INFO!A155))","v":"Uganda"},{"$f":"IF(INTRO!$E$43=\"Non-endemic\",\" \", IF(COUNTRY_INFO!B155=0,\" \",COUNTRY_INFO!B155))","v":"Western"},{"$f":"IF(INTRO!$E$43=\"Non-endemic\",\" \", IF(COUNTRY_INFO!C155=0,\" \",COUNTRY_INFO!C155))","v":"Sheema"},{"$f":"IF(INTRO!$E$43=\"Non-endemic\", \"Not required\", COUNTRY_INFO!Y155)","v":0},{"$f":"IF(OR(COUNTRY_INFO!R155=\"Unknown\",COUNTRY_INFO!R155=\"Surveillance\",COUNTRY_INFO!R155=\"Not required\",COUNTRY_INFO!R155=0),0,IF($D155<>0, COUNTRY_INFO!R155,0))","v":0},{"$f":"IF(OR(COUNTRY_INFO!S155=\"Unknown\",COUNTRY_INFO!S155=\"Surveillance\",COUNTRY_INFO!S155=\"Not required\",COUNTRY_INFO!S155=0),0,IF($D155<>0, COUNTRY_INFO!S155,0))","v":0},{"$f":"IF(OR(COUNTRY_INFO!T155=\"Unknown\",COUNTRY_INFO!T155=\"Surveillance\",COUNTRY_INFO!T155=\"Not required\",COUNTRY_INFO!T155=0),0,IF($D155<>0, COUNTRY_INFO!T155,0))","v":0},0,null,null,null,null,null,{"$f":"IF($I155<>\"Yes\",$F155*2,($F155+ROUND(J155*$F155/SUM(COUNTRY_INFO!$E155:$G155),0))*2)","v":0},{"$f":"IF($I155<>\"Yes\",$G155*3,($G155+ROUND(J155*$G155/SUM(COUNTRY_INFO!$E155:$G155),0))*3)","v":0},0,null,0]

{"sheet":"IVM","index":5,"n_rows":155,"n_cols":14,"rows_kept":155,"cut":false,"hidden":false,"merged":[[6,7,7,7],[6,9,7,9],[6,10,7,10],[6,11,7,11],[3,0,3,2],[3,4,3,5],[6,4,7,4],[6,5,7,5],[5,8,5,13],[6,0,7,0],[6,1,7,1],[6,2,7,2],[5,0,5,2],[5,4,5,5],[5,6,5,7],[6,12,7,12],[5,3,7,3],[6,13,7,13],[6,8,7,8],[6,6,7,6]]}
["Ivermectin (IVM)"]
["Administrative structure, eligible population by age group, treatment plan and information about tablets"]
[]
["TOTAL",null,null,{"$f":"SUBTOTAL(9,D$10:D$1010)","v":1496426},null,null,{"$f":"SUBTOTAL(9,G$10:G$1010)","v":0},1496426,0,8379985.5999999996,0,8379985.5999999996,0,8379985.5999999996]
[]
["Country administrative structure",null,null,"Population requiring treatment with IVM","Treatment plan",null,"Target population",null,"Ivermectin (IVM)"]
["Country","Province/State","District",null,"LF","Oncho","LF","Oncho","LF only","Oncho only","LF+Oncho","Total required","Remaining in stock","Tablets to be procured"]
[]
[]
[{"$f":"IF(INTRO!$E$39=\"Non-endemic\",\" \",IF(COUNTRY_INFO!A10=0,\" \",COUNTRY_INFO!A10))","v":"Uganda"},{"$f":"IF(INTRO!$E$39=\"Non-endemic\",\" \",IF(COUNTRY_INFO!B10=0,\" \",COUNTRY_INFO!B10))","v":"Central"},{"$f":"IF(INTRO!$E$39=\"Non-endemic\",\" \",IF(COUNTRY_INFO!C10=0,\" \",COUNTRY_INFO!C10))","v":"Buikwe"},{"$f":"IF(INTRO!$E$39=\"Non-endemic\",0,IF(INTRO!$E$39=\"Endemic but PC is not required\",IF(COUNTRY_INFO!$H10=1,COUNTRY_INFO!F10+COUNTRY_INFO!G10,0),IF(COUNTRY_INFO!$H10=1,COUNTRY_INFO!F10+COUNTRY_INFO!G10,IF(COUNTRY_INFO!$I10=1,IF(COUNTRY_INFO!M10>=(COUNTRY_INFO!F10+COUNTRY_INFO!G10),COUNTRY_INFO!F10+COUNTRY_INFO!G10,COUNTRY_INFO!$M10),0))))","v":0},{"$f":"IF(AND(INTRO!$E$39=\"Non-endemic\",INTRO!$E$37=\"Non-endemic\"),\"Not required\",IF(INTRO!$E$39=\"Non-endemic\",\"Treat with DEC\",COUNTRY_INFO!V10))","v":0},{"$f":"IF(INTRO!$E$39<>\"Non-endemic\",COUNTRY_INFO!W10,\"Not required\")","v":0},{"$f":"IF(COUNTRY_INFO!H10=1, IF($E10=1,$D10, 0),0)","v":0},{"$f":"IF(COUNTRY_INFO!I10=1, IF(AND(COUNTRY_INFO!$I10=1,$F10<>0),IF(COUNTRY_INFO!M10>=(COUNTRY_INFO!F10+COUNTRY_INFO!G10),COUNTRY_INFO!F10+COUNTRY_INFO!G10,COUNTRY_INFO!$M10), 0),0)","v":0},{"$f":"IF(G10<H10,0,IF($E10=1, (G10-H10)*2.8, 0))","v":0},{"$f":"IF($E10<$F10, H10*(F10-E10)*2.8, 0)","v":0},{"$f":"IF(AND($E10=1, $F10<>0), H10*2.8, 0)","v":0},{"$f":"SUM(I10:K10)","v":0},null,{"$f":"IF($L10>$M10,$L10-$M10,0)","v":0}]
[{"$f":"IF(INTRO!$E$39=\"Non-endemic\",\" \",IF(COUNTRY_INFO!A11=0,\" \",COUNTRY_INFO!A11))","v":"Uganda"},{"$f":"IF(INTRO!$E$39=\"Non-endemic\",\" \",IF(COUNTRY_INFO!B11=0,\" \",COUNTRY_INFO!B11))","v":"Central"},{"$f":"IF(INTRO!$E$39=\"Non-endemic\",\" \",IF(COUNTRY_INFO!C11=0,\" \",COUNTRY_INFO!C11))","v":"Bukomansimbi"},{"$f":"IF(INTRO!$E$39=\"Non-endemic\",0,IF(INTRO!$E$39=\"Endemic but PC is not required\",IF(COUNTRY_INFO!$H11=1,COUNTRY_INFO!F11+COUNTRY_INFO!G11,0),IF(COUNTRY_INFO!$H11=1,COUNTRY_INFO!F11+COUNTRY_INFO!G11,IF(COUNTRY_INFO!$I11=1,IF(COUNTRY_INFO!M11>=(COUNTRY_INFO!F11+COUNTRY_INFO!G11),COUNTRY_INFO!F11+COUNTRY_INFO!G11,COUNTRY_INFO!$M11),0))))","v":0},{"$f":"IF(AND(INTRO!$E$39=\"Non-endemic\",INTRO!$E$37=\"Non-endemic\"),\"Not required\",IF(INTRO!$E$39=\"Non-endemic\",\"Treat with DEC\",COUNTRY_INFO!V11))","v":0},{"$f":"IF(INTRO!$E$39<>\"Non-endemic\",COUNTRY_INFO!W11,\"Not required\")","v":0},{"$f":"IF(COUNTRY_INFO!H11=1, IF($E11=1,$D11, 0),0)","v":0},{"$f":"IF(COUNTRY_INFO!I11=1, IF(AND(COUNTRY_INFO!$I11=1,$F11<>0),IF(COUNTRY_INFO!M11>=(COUNTRY_INFO!F11+COUNTRY_INFO!G11),COUNTRY_INFO!F11+COUNTRY_INFO!G11,COUNTRY_INFO!$M11), 0),0)","v":0},0,0,{"$f":"IF(AND($E11=1, $F11<>0), H11*2.8, 0)","v":0},{"$f":"SUM(I11:K11)","v":0},null,0]
[{"$f":"IF(INTRO!$E$39=\"Non-endemic\",\" \",IF(COUNTRY_INFO!A12=0,\" \",COUNTRY_INFO!A12))","v":"Uganda"},{"$f":"IF(INTRO!$E$39=\"Non-endemic\",\" \",IF(COUNTRY_INFO!B12=0,\" \",COUNTRY_INFO!B12))","v":"Central"},{"$f":"IF(INTRO!$E$39=\"Non-endemic\",\" \",IF(COUNTRY_INFO!C12=0,\" \",COUNTRY_INFO!C12))","v":"Butambala"},{"$f":"IF(INTRO!$E$39=\"Non-endemic\",0,IF(INTRO!$E$39=\"Endemic but PC is not required\",IF(COUNTRY_INFO!$H12=1,COUNTRY_INFO!F12+COUNTRY_INFO!G12,0),IF(COUNTRY_INFO!$H12=1,COUNTRY_INFO!F12+COUNTRY_INFO!G12,IF(COUNTRY_INFO!$I12=1,IF(COUNTRY_INFO!M12>=(COUNTRY_INFO!F12+COUNTRY_INFO!G12),COUNTRY_INFO!F12+COUNTRY_INFO!G12,COUNTRY_INFO!$M12),0))))","v":0},{"$f":"IF(AND(INTRO!$E$39=\"Non-endemic\",INTRO!$E$37=\"Non-endemic\"),\"Not required\",IF(INTRO!$E$39=\"Non-endemic\",\"Treat with DEC\",COUNTRY_INFO!V12))","v":0},{"$f":"IF(INTRO!$E$39<>\"Non-endemic\",COUNTRY_INFO!W12,\"Not required\")","v":0},{"$f":"IF(COUNTRY_INFO!H12=1, IF($E12=1,$D12, 0),0)","v":0},{"$f":"IF(COUNTRY_INFO!I12=1, IF(AND(COUNTRY_INFO!$I12=1,$F12<>0),IF(COUNTRY_INFO!M12>=(COUNTRY_INFO!F12+COUNTRY_INFO!G12),COUNTRY_INFO!F12+COUNTRY_INFO!G12,COUNTRY_INFO!$M12), 0),0)","v":0},0,0,0,0,null,0]
[{"$f":"IF(INTRO!$E$39=\"Non-endemic\",\" \",IF(COUNTRY_INFO!A13=0,\" \",COUNTRY_INFO!A13))","v":"Uganda"},{"$f":"IF(INTRO!$E$39=\"Non-endemic\",\" \",IF(COUNTRY_INFO!B13=0,\" \",COUNTRY_INFO!B13))","v":"Central"},{"$f":"IF(INTRO!$E$39=\"Non-endemic\",\" \",IF(COUNTRY_INFO!C13=0,\" \",COUNTRY_INFO!C13))","v":"Buvuma"},{"$f":"IF(INTRO!$E$39=\"Non-endemic\",0,IF(INTRO!$E$39=\"Endemic but PC is not required\",IF(COUNTRY_INFO!$H13=1,COUNTRY_INFO!F13+COUNTRY_INFO!G13,0),IF(COUNTRY_INFO!$H13=1,COUNTRY_INFO!F13+COUNTRY_INFO!G13,IF(COUNTRY_INFO!$I13=1,IF(COUNTRY_INFO!M13>=(COUNTRY_INFO!F13+COUNTRY_INFO!G13),COUNTRY_INFO!F13+COUNTRY_INFO!G13,COUNTRY_INFO!$M13),0))))","v":0},{"$f":"IF(AND(INTRO!$E$39=\"Non-endemic\",INTRO!$E$37=\"Non-endemic\"),\"Not required\",IF(INTRO!$E$39=\"Non-endemic\",\"Treat with DEC\",COUNTRY_INFO!V13))","v":0},{"$f":"IF(INTRO!$E$39<>\"Non-endemic\",COUNTRY_INFO!W13,\"Not required\")","v":0},{"$f":"IF(COUNTRY_INFO!H13=1, IF($E13=1,$D13, 0),0)","v":0},{"$f":"IF(COUNTRY_INFO!I13=1, IF(AND(COUNTRY_INFO!$I13=1,$F13<>0),IF(COUNTRY_INFO!M13>=(COUNTRY_INFO!F13+COUNTRY_INFO!G13),COUNTRY_INFO!F13+COUNTRY_INFO!G13,COUNTRY_INFO!$M13), 0),0)","v":0},0,0,0,0,null,0]
[{"$f":"IF(INTRO!$E$39=\"Non-endemic\",\" \",IF(COUNTRY_INFO!A14=0,\" \",COUNTRY_INFO!A14))","v":"Uganda"},{"$f":"IF(INTRO!$E$39=\"Non-endemic\",\" \",IF(COUNTRY_INFO!B14=0,\" \",COUNTRY_INFO!B14))","v":"Central"},{"$f":"IF(INTRO!$E$39=\"Non-endemic\",\" \",IF(COUNTRY_INFO!C14=0,\" \",COUNTRY_INFO!C14))","v":"Gomba"},{"$f":"IF(INTRO!$E$39=\"Non-endemic\",0,IF(INTRO!$E$39=\"Endemic but PC is not required\",IF(COUNTRY_INFO!$H14=1,COUNTRY_INFO!F14+COUNTRY_INFO!G14,0),IF(COUNTRY_INFO!$H14=1,COUNTRY_INFO!F14+COUNTRY_INFO!G14,IF(COUNTRY_INFO!$I14=1,IF(COUNTRY_INFO!M14>=(COUNTRY_INFO!F14+COUNTRY_INFO!G14),COUNTRY_INFO!F14+COUNTRY_INFO!G14,COUNTRY_INFO!$M14),0))))","v":0},{"$f":"IF(AND(INTRO!$E$39=\"Non-endemic\",INTRO!$E$37=\"Non-endemic\"),\"Not required\",IF(INTRO!$E$39=\"Non-endemic\",\"Treat with DEC\",COUNTRY_INFO!V14))","v":0},{"$f":"IF(INTRO!$E$39<>\"Non-endemic\",COUNTRY_INFO!W14,\"Not required\")","v":0},{"$f":"IF(COUNTRY_INFO!H14=1, IF($E14=1,$D14, 0),0)","v":0},{"$f":"IF(COUNTRY_INFO!I14=1, IF(AND(COUNTRY_INFO!$I14=1,$F14<>0),IF(COUNTRY_INFO!M14>=(COUNTRY_INFO!F14+COUNTRY_INFO!G14),COUNTRY_INFO!F14+COUNTRY_INFO!G14,COUNTRY_INFO!$M14), 0),0)","v":0},0,0,0,0,null,0]
[{"$f":"IF(INTRO!$E$39=\"Non-endemic\",\" \",IF(COUNTRY_INFO!A15=0,\" \",COUNTRY_INFO!A15))","v":"Uganda"},{"$f":"IF(INTRO!$E$39=\"Non-endemic\",\" \",IF(COUNTRY_INFO!B15=0,\" \",COUNTRY_INFO!B15))","v":"Central"},{"$f":"IF(INTRO!$E$39=\"Non-endemic\",\" \",IF(COUNTRY_INFO!C15=0,\" \",COUNTRY_INFO!C15))","v":"Kalangala"},{"$f":"IF(INTRO!$E$39=\"Non-endemic\",0,IF(INTRO!$E$39=\"Endemic but PC is not required\",IF(COUNTRY_INFO!$H15=1,COUNTRY_INFO!F15+COUNTRY_INFO!G15,0),IF(COUNTRY_INFO!$H15=1,COUNTRY_INFO!F15+COUNTRY_INFO!G15,IF(COUNTRY_INFO!$I15=1,IF(COUNTRY_INFO!M15>=(COUNTRY_INFO!F15+COUNTRY_INFO!G15),COUNTRY_INFO!F15+COUNTRY_INFO!G15,COUNTRY_INFO!$M15),0))))","v":0},{"$f":"IF(AND(INTRO!$E$39=\"Non-endemic\",INTRO!$E$37=\"Non-endemic\"),\"Not required\",IF(INTRO!$E$39=\"Non-endemic\",\"Treat with DEC\",COUNTRY_INFO!V15))","v":0},{"$f":"IF(INTRO!$E$39<>\"Non-endemic\",COUNTRY_INFO!W15,\"Not required\")","v":0},{"$f":"IF(COUNTRY_INFO!H15=1, IF($E15=1,$D15, 0),0)","v":0},{"$f":"IF(COUNTRY_INFO!I15=1, IF(AND(COUNTRY_INFO!$I15=1,$F15<>0),IF(COUNTRY_INFO!M15>=(COUNTRY_INFO!F15+COUNTRY_INFO!G15),COUNTRY_INFO!F15+COUNTRY_INFO!G15,COUNTRY_INFO!$M15), 0),0)","v":0},0,0,0,0,null,0]
[{"$f":"IF(INTRO!$E$39=\"Non-endemic\",\" \",IF(COUNTRY_INFO!A16=0,\" \",COUNTRY_INFO!A16))","v":"Uganda"},{"$f":"IF(INTRO!$E$39=\"Non-endemic\",\" \",IF(COUNTRY_INFO!B16=0,\" \",COUNTRY_INFO!B16))","v":"Central"},{"$f":"IF(INTRO!$E$39=\"Non-endemic\",\" \",IF(COUNTRY_INFO!C16=0,\" \",COUNTRY_INFO!C16))","v":"Kalungu"},{"$f":"IF(INTRO!$E$39=\"Non-endemic\",0,IF(INTRO!$E$39=\"Endemic but PC is not required\",IF(COUNTRY_INFO!$H16=1,COUNTRY_INFO!F16+COUNTRY_INFO!G16,0),IF(COUNTRY_INFO!$H16=1,COUNTRY_INFO!F16+COUNTRY_INFO!G16,IF(COUNTRY_INFO!$I16=1,IF(COUNTRY_INFO!M16>=(COUNTRY_INFO!F16+COUNTRY_INFO!G16),COUNTRY_INFO!F16+COUNTRY_INFO!G16,COUNTRY_INFO!$M16),0))))","v":0},{"$f":"IF(AND(INTRO!$E$39=\"Non-endemic\",INTRO!$E$37=\"Non-endemic\"),\"Not required\",IF(INTRO!$E$39=\"Non-endemic\",\"Treat with DEC\",COUNTRY_INFO!V16))","v":0},{"$f":"IF(INTRO!$E$39<>\"Non-endemic\",COUNTRY_INFO!W16,\"Not required\")","v":0},{"$f":"IF(COUNTRY_INFO!H16=1, IF($E16=1,$D16, 0),0)","v":0},{"$f":"IF(COUNTRY_INFO!I16=1, IF(AND(COUNTRY_INFO!$I16=1,$F16<>0),IF(COUNTRY_INFO!M16>=(COUNTRY_INFO!F16+COUNTRY_INFO!G16),COUNTRY_INFO!F16+COUNTRY_INFO!G16,COUNTRY_INFO!$M16), 0),0)","v":0},0,0,0,0,null,0]
[{"$f":"IF(INTRO!$E$39=\"Non-endemic\",\" \",IF(COUNTRY_INFO!A17=0,\" \",COUNTRY_INFO!A17))","v":"Uganda"},{"$f":"IF(INTRO!$E$39=\"Non-endemic\",\" \",IF(COUNTRY_INFO!B17=0,\" \",COUNTRY_INFO!B17))","v":"Central"},{"$f":"IF(INTRO!$E$39=\"Non-endemic\",\" \",IF(COUNTRY_INFO!C17=0,\" \",COUNTRY_INFO!C17))","v":"Kampala"},{"$f":"IF(INTRO!$E$39=\"Non-endemic\",0,IF(INTRO!$E$39=\"Endemic but PC is not required\",IF(COUNTRY_INFO!$H17=1,COUNTRY_INFO!F17+COUNTRY_INFO!G17,0),IF(COUNTRY_INFO!$H17=1,COUNTRY_INFO!F17+COUNTRY_INFO!G17,IF(COUNTRY_INFO!$I17=1,IF(COUNTRY_INFO!M17>=(COUNTRY_INFO!F17+COUNTRY_INFO!G17),COUNTRY_INFO!F17+COUNTRY_INFO!G17,COUNTRY_INFO!$M17),0))))","v":0},{"$f":"IF(AND(INTRO!$E$39=\"Non-endemic\",INTRO!$E$37=\"Non-endemic\"),\"Not required\",IF(INTRO!$E$39=\"Non-endemic\",\"Treat with DEC\",COUNTRY_INFO!V17))","v":0},{"$f":"IF(INTRO!$E$39<>\"Non-endemic\",COUNTRY_INFO!W17,\"Not required\")","v":0},{"$f":"IF(COUNTRY_INFO!H17=1, IF($E17=1,$D17, 0),0)","v":0},{"$f":"IF(COUNTRY_INFO!I17=1, IF(AND(COUNTRY_INFO!$I17=1,$F17<>0),IF(COUNTRY_INFO!M17>=(COUNTRY_INFO!F17+COUNTRY_INFO!G17),COUNTRY_INFO!F17+COUNTRY_INFO!G17,COUNTRY_INFO!$M17), 0),0)","v":0},0,0,0,0,null,0]
[{"$f":"IF(INTRO!$E$39=\"Non-endemic\",\" \",IF(COUNTRY_INFO!A18=0,\" \",COUNTRY_INFO!A18))","v":"Uganda"},{"$f":"IF(INTRO!$E$39=\"Non-endemic\",\" \",IF(COUNTRY_INFO!B18=0,\" \",COUNTRY_INFO!B18))","v":"Central"},{"$f":"IF(INTRO!$E$39=\"Non-endemic\",\" \",IF(COUNTRY_INFO!C18=0,\" \",COUNTRY_INFO!C18))","v":"Kassanda"},{"$f":"IF(INTRO!$E$39=\"Non-endemic\",0,IF(INTRO!$E$39=\"Endemic but PC is not required\",IF(COUNTRY_INFO!$H18=1,COUNTRY_INFO!F18+COUNTRY_INFO!G18,0),IF(COUNTRY_INFO!$H18=1,COUNTRY_INFO!F18+COUNTRY_INFO!G18,IF(COUNTRY_INFO!$I18=1,IF(COUNTRY_INFO!M18>=(COUNTRY_INFO!F18+COUNTRY_INFO!G18),COUNTRY_INFO!F18+COUNTRY_INFO!G18,COUNTRY_INFO!$M18),0))))","v":0},{"$f":"IF(AND(INTRO!$E$39=\"Non-endemic\",INTRO!$E$37=\"Non-endemic\"),\"Not required\",IF(INTRO!$E$39=\"Non-endemic\",\"Treat with DEC\",COUNTRY_INFO!V18))","v":0},{"$f":"IF(INTRO!$E$39<>\"Non-endemic\",COUNTRY_INFO!W18,\"Not required\")","v":0},{"$f":"IF(COUNTRY_INFO!H18=1, IF($E18=1,$D18, 0),0)","v":0},{"$f":"IF(COUNTRY_INFO!I18=1, IF(AND(COUNTRY_INFO!$I18=1,$F18<>0),IF(COUNTRY_INFO!M18>=(COUNTRY_INFO!F18+COUNTRY_INFO!G18),COUNTRY_INFO!F18+COUNTRY_INFO!G18,COUNTRY_INFO!$M18), 0),0)","v":0},0,0,0,0,null,0]
[{"$f":"IF(INTRO!$E$39=\"Non-endemic\",\" \",IF(COUNTRY_INFO!A19=0,\" \",COUNTRY_INFO!A19))","v":"Uganda"},{"$f":"IF(INTRO!$E$39=\"Non-endemic\",\" \",IF(COUNTRY_INFO!B19=0,\" \",COUNTRY_INFO!B19))","v":"Central"},{"$f":"IF(INTRO!$E$39=\"Non-endemic\",\" \",IF(COUNTRY_INFO!C19=0,\" \",COUNTRY_INFO!C19))","v":"Kayunga"},{"$f":"IF(INTRO!$E$39=\"Non-endemic\",0,IF(INTRO!$E$39=\"Endemic but PC is not required\",IF(COUNTRY_INFO!$H19=1,COUNTRY_INFO!F19+COUNTRY_INFO!G19,0),IF(COUNTRY_INFO!$H19=1,COUNTRY_INFO!F19+COUNTRY_INFO!G19,IF(COUNTRY_INFO!$I19=1,IF(COUNTRY_INFO!M19>=(COUNTRY_INFO!F19+COUNTRY_INFO!G19),COUNTRY_INFO!F19+COUNTRY_INFO!G19,COUNTRY_INFO!$M19),0))))","v":0},{"$f":"IF(AND(INTRO!$E$39=\"Non-endemic\",INTRO!$E$37=\"Non-endemic\"),\"Not required\",IF(INTRO!$E$39=\"Non-endemic\",\"Treat with DEC\",COUNTRY_INFO!V19))","v":0},{"$f":"IF(INTRO!$E$39<>\"Non-endemic\",COUNTRY_INFO!W19,\"Not required\")","v":0},{"$f":"IF(COUNTRY_INFO!H19=1, IF($E19=1,$D19, 0),0)","v":0},{"$f":"IF(COUNTRY_INFO!I19=1, IF(AND(COUNTRY_INFO!$I19=1,$F19<>0),IF(COUNTRY_INFO!M19>=(COUNTRY_INFO!F19+COUNTRY_INFO!G19),COUNTRY_INFO!F19+COUNTRY_INFO!G19,COUNTRY_INFO!$M19), 0),0)","v":0},0,0,0,0,null,0]
[{"$f":"IF(INTRO!$E$39=\"Non-endemic\",\" \",IF(COUNTRY_INFO!A20=0,\" \",COUNTRY_INFO!A20))","v":"Uganda"},{"$f":"IF(INTRO!$E$39=\"Non-endemic\",\" \",IF(COUNTRY_INFO!B20=0,\" \",COUNTRY_INFO!B20))","v":"Central"},{"$f":"IF(INTRO!$E$39=\"Non-endemic\",\" \",IF(COUNTRY_INFO!C20=0,\" \",COUNTRY_INFO!C20))","v":"Kiboga"},{"$f":"IF(INTRO!$E$39=\"Non-endemic\",0,IF(INTRO!$E$39=\"Endemic but PC is not required\",IF(COUNTRY_INFO!$H20=1,COUNTRY_INFO!F20+COUNTRY_INFO!G20,0),IF(COUNTRY_INFO!$H20=1,COUNTRY_INFO!F20+COUNTRY_INFO!G20,IF(COUNTRY_INFO!$I20=1,IF(COUNTRY_INFO!M20>=(COUNTRY_INFO!F20+COUNTRY_INFO!G20),COUNTRY_INFO!F20+COUNTRY_INFO!G20,COUNTRY_INFO!$M20),0))))","v":0},{"$f":"IF(AND(INTRO!$E$39=\"Non-endemic\",INTRO!$E$37=\"Non-endemic\"),\"Not required\",IF(INTRO!$E$39=\"Non-endemic\",\"Treat with DEC\",COUNTRY_INFO!V20))","v":0},{"$f":"IF(INTRO!$E$39<>\"Non-endemic\",COUNTRY_INFO!W20,\"Not required\")","v":0},{"$f":"IF(COUNTRY_INFO!H20=1, IF($E20=1,$D20, 0),0)","v":0},{"$f":"IF(COUNTRY_INFO!I20=1, IF(AND(COUNTRY_INFO!$I20=1,$F20<>0),IF(COUNTRY_INFO!M20>=(COUNTRY_INFO!F20+COUNTRY_INFO!G20),COUNTRY_INFO!F20+COUNTRY_INFO!G20,COUNTRY_INFO!$M20), 0),0)","v":0},0,0,0,0,null,0]
[{"$f":"IF(INTRO!$E$39=\"Non-endemic\",\" \",IF(COUNTRY_INFO!A21=0,\" \",COUNTRY_INFO!A21))","v":"Uganda"},{"$f":"IF(INTRO!$E$39=\"Non-endemic\",\" \",IF(COUNTRY_INFO!B21=0,\" \",COUNTRY_INFO!B21))","v":"Central"},{"$f":"IF(INTRO!$E$39=\"Non-endemic\",\" \",IF(COUNTRY_INFO!C21=0,\" \",COUNTRY_INFO!C21))","v":"Kyankwanzi"},{"$f":"IF(INTRO!$E$39=\"Non-endemic\",0,IF(INTRO!$E$39=\"Endemic but PC is not required\",IF(COUNTRY_INFO!$H21=1,COUNTRY_INFO!F21+COUNTRY_INFO!G21,0),IF(COUNTRY_INFO!$H21=1,COUNTRY_INFO!F21+COUNTRY_INFO!G21,IF(COUNTRY_INFO!$I21=1,IF(COUNTRY_INFO!M21>=(COUNTRY_INFO!F21+COUNTRY_INFO!G21),COUNTRY_INFO!F21+COUNTRY_INFO!G21,COUNTRY_INFO!$M21),0))))","v":0},{"$f":"IF(AND(INTRO!$E$39=\"Non-endemic\",INTRO!$E$37=\"Non-endemic\"),\"Not required\",IF(INTRO!$E$39=\"Non-endemic\",\"Treat with DEC\",COUNTRY_INFO!V21))","v":0},{"$f":"IF(INTRO!$E$39<>\"Non-endemic\",COUNTRY_INFO!W21,\"Not required\")","v":0},{"$f":"IF(COUNTRY_INFO!H21=1, IF($E21=1,$D21, 0),0)","v":0},{"$f":"IF(COUNTRY_INFO!I21=1, IF(AND(COUNTRY_INFO!$I21=1,$F21<>0),IF(COUNTRY_INFO!M21>=(COUNTRY_INFO!F21+COUNTRY_INFO!G21),COUNTRY_INFO!F21+COUNTRY_INFO!G21,COUNTRY_INFO!$M21), 0),0)","v":0},0,0,0,0,null,0]
[{"$f":"IF(INTRO!$E$39=\"Non-endemic\",\" \",IF(COUNTRY_INFO!A22=0,\" \",COUNTRY_INFO!A22))","v":"Uganda"},{"$f":"IF(INTRO!$E$39=\"Non-endemic\",\" \",IF(COUNTRY_INFO!B22=0,\" \",COUNTRY_INFO!B22))","v":"Central"},{"$f":"IF(INTRO!$E$39=\"Non-endemic\",\" \",IF(COUNTRY_INFO!C22=0,\" \",COUNTRY_INFO!C22))","v":"Kyotera"},{"$f":"IF(INTRO!$E$39=\"Non-endemic\",0,IF(INTRO!$E$39=\"Endemic but PC is not required\",IF(COUNTRY_INFO!$H22=1,COUNTRY_INFO!F22+COUNTRY_INFO!G22,0),IF(COUNTRY_INFO!$H22=1,COUNTRY_INFO!F22+COUNTRY_INFO!G22,IF(COUNTRY_INFO!$I22=1,IF(COUNTRY_INFO!M22>=(COUNTRY_INFO!F22+COUNTRY_INFO!G22),COUNTRY_INFO!F22+COUNTRY_INFO!G22,COUNTRY_INFO!$M22),0))))","v":0},{"$f":"IF(AND(INTRO!$E$39=\"Non-endemic\",INTRO!$E$37=\"Non-endemic\"),\"Not required\",IF(INTRO!$E$39=\"Non-endemic\",\"Treat with DEC\",COUNTRY_INFO!V22))","v":0},{"$f":"IF(INTRO!$E$39<>\"Non-endemic\",COUNTRY_INFO!W22,\"Not required\")","v":0},{"$f":"IF(COUNTRY_INFO!H22=1, IF($E22=1,$D22, 0),0)","v":0},{"$f":"IF(COUNTRY_INFO!I22=1, IF(AND(COUNTRY_INFO!$I22=1,$F22<>0),IF(COUNTRY_INFO!M22>=(COUNTRY_INFO!F22+COUNTRY_INFO!G22),COUNTRY_INFO!F22+COUNTRY_INFO!G22,COUNTRY_INFO!$M22), 0),0)","v":0},0,0,0,0,null,0]
[{"$f":"IF(INTRO!$E$39=\"Non-endemic\",\" \",IF(COUNTRY_INFO!A23=0,\" \",COUNTRY_INFO!A23))","v":"Uganda"},{"$f":"IF(INTRO!$E$39=\"Non-endemic\",\" \",IF(COUNTRY_INFO!B23=0,\" \",COUNTRY_INFO!B23))","v":"Central"},{"$f":"IF(INTRO!$E$39=\"Non-endemic\",\" \",IF(COUNTRY_INFO!C23=0,\" \",COUNTRY_INFO!C23))","v":"Luwero"},{"$f":"IF(INTRO!$E$39=\"Non-endemic\",0,IF(INTRO!$E$39=\"Endemic but PC is not required\",IF(COUNTRY_INFO!$H23=1,COUNTRY_INFO!F23+COUNTRY_INFO!G23,0),IF(COUNTRY_INFO!$H23=1,COUNTRY_INFO!F23+COUNTRY_INFO!G23,IF(COUNTRY_INFO!$I23=1,IF(COUNTRY_INFO!M23>=(COUNTRY_INFO!F23+COUNTRY_INFO!G23),COUNTRY_INFO!F23+COUNTRY_INFO!G23,COUNTRY_INFO!$M23),0))))","v":0},{"$f":"IF(AND(INTRO!$E$39=\"Non-endemic\",INTRO!$E$37=\"Non-endemic\"),\"Not required\",IF(INTRO!$E$39=\"Non-endemic\",\"Treat with DEC\",COUNTRY_INFO!V23))","v":0},{"$f":"IF(INTRO!$E$39<>\"Non-endemic\",COUNTRY_INFO!W23,\"Not required\")","v":0},{"$f":"IF(COUNTRY_INFO!H23=1, IF($E23=1,$D23, 0),0)","v":0},{"$f":"IF(COUNTRY_INFO!I23=1, IF(AND(COUNTRY_INFO!$I23=1,$F23<>0),IF(COUNTRY_INFO!M23>=(COUNTRY_INFO!F23+COUNTRY_INFO!G23),COUNTRY_INFO!F23+COUNTRY_INFO!G23,COUNTRY_INFO!$M23), 0),0)","v":0},0,0,0,0,null,0]
[{"$f":"IF(INTRO!$E$39=\"Non-endemic\",\" \",IF(COUNTRY_INFO!A24=0,\" \",COUNTRY_INFO!A24))","v":"Uganda"},{"$f":"IF(INTRO!$E$39=\"Non-endemic\",\" \",IF(COUNTRY_INFO!B24=0,\" \",COUNTRY_INFO!B24))","v":"Central"},{"$f":"IF(INTRO!$E$39=\"Non-endemic\",\" \",IF(COUNTRY_INFO!C24=0,\" \",COUNTRY_INFO!C24))","v":"Lwengo"},{"$f":"IF(INTRO!$E$39=\"Non-endemic\",0,IF(INTRO!$E$39=\"Endemic but PC is not required\",IF(COUNTRY_INFO!$H24=1,COUNTRY_INFO!F24+COUNTRY_INFO!G24,0),IF(COUNTRY_INFO!$H24=1,COUNTRY_INFO!F24+COUNTRY_INFO!G24,IF(COUNTRY_INFO!$I24=1,IF(COUNTRY_INFO!M24>=(COUNTRY_INFO!F24+COUNTRY_INFO!G24),COUNTRY_INFO!F24+COUNTRY_INFO!G24,COUNTRY_INFO!$M24),0))))","v":0},{"$f":"IF(AND(INTRO!$E$39=\"Non-endemic\",INTRO!$E$37=\"Non-endemic\"),\"Not required\",IF(INTRO!$E$39=\"Non-endemic\",\"Treat with DEC\",COUNTRY_INFO!V24))","v":0},{"$f":"IF(INTRO!$E$39<>\"Non-endemic\",COUNTRY_INFO!W24,\"Not required\")","v":0},{"$f":"IF(COUNTRY_INFO!H24=1, IF($E24=1,$D24, 0),0)","v":0},{"$f":"IF(COUNTRY_INFO!I24=1, IF(AND(COUNTRY_INFO!$I24=1,$F24<>0),IF(COUNTRY_INFO!M24>=(COUNTRY_INFO!F24+COUNTRY_INFO!G24),COUNTRY_INFO!F24+COUNTRY_INFO!G24,COUNTRY_INFO!$M24), 0),0)","v":0},0,0,0,0,null,0]
[{"$f":"IF(INTRO!$E$39=\"Non-endemic\",\" \",IF(COUNTRY_INFO!A25=0,\" \",COUNTRY_INFO!A25))","v":"Uganda"},{"$f":"IF(INTRO!$E$39=\"Non-endemic\",\" \",IF(COUNTRY_INFO!B25=0,\" \",COUNTRY_INFO!B25))","v":"Central"},{"$f":"IF(INTRO!$E$39=\"Non-endemic\",\" \",IF(COUNTRY_INFO!C25=0,\" \",COUNTRY_INFO!C25))","v":"Lyantonde"},{"$f":"IF(INTRO!$E$39=\"Non-endemic\",0,IF(INTRO!$E$39=\"Endemic but PC is not required\",IF(COUNTRY_INFO!$H25=1,COUNTRY_INFO!F25+COUNTRY_INFO!G25,0),IF(COUNTRY_INFO!$H25=1,COUNTRY_INFO!F25+COUNTRY_INFO!G25,IF(COUNTRY_INFO!$I25=1,IF(COUNTRY_INFO!M25>=(COUNTRY_INFO!F25+COUNTRY_INFO!G25),COUNTRY_INFO!F25+COUNTRY_INFO!G25,COUNTRY_INFO!$M25),0))))","v":0},{"$f":"IF(AND(INTRO!$E$39=\"Non-endemic\",INTRO!$E$37=\"Non-endemic\"),\"Not required\",IF(INTRO!$E$39=\"Non-endemic\",\"Treat with DEC\",COUNTRY_INFO!V25))","v":0},{"$f":"IF(INTRO!$E$39<>\"Non-endemic\",COUNTRY_INFO!W25,\"Not required\")","v":0},{"$f":"IF(COUNTRY_INFO!H25=1, IF($E25=1,$D25, 0),0)","v":0},{"$f":"IF(COUNTRY_INFO!I25=1, IF(AND(COUNTRY_INFO!$I25=1,$F25<>0),IF(COUNTRY_INFO!M25>=(COUNTRY_INFO!F25+COUNTRY_INFO!G25),COUNTRY_INFO!F25+COUNTRY_INFO!G25,COUNTRY_INFO!$M25), 0),0)","v":0},0,0,0,0,null,0]
[{"$f":"IF(INTRO!$E$39=\"Non-endemic\",\" \",IF(COUNTRY_INFO!A26=0,\" \",COUNTRY_INFO!A26))","v":"Uganda"},{"$f":"IF(INTRO!$E$39=\"Non-endemic\",\" \",IF(COUNTRY_INFO!B26=0,\" \",COUNTRY_INFO!B26))","v":"Central"},{"$f":"IF(INTRO!$E$39=\"Non-endemic\",\" \",IF(COUNTRY_INFO!C26=0,\" \",COUNTRY_INFO!C26))","v":"Masaka"},{"$f":"IF(INTRO!$E$39=\"Non-endemic\",0,IF(INTRO!$E$39=\"Endemic but PC is not required\",IF(COUNTRY_INFO!$H26=1,COUNTRY_INFO!F26+COUNTRY_INFO!G26,0),IF(COUNTRY_INFO!$H26=1,COUNTRY_INFO!F26+COUNTRY_INFO!G26,IF(COUNTRY_INFO!$I26=1,IF(COUNTRY_INFO!M26>=(COUNTRY_INFO!F26+COUNTRY_INFO!G26),COUNTRY_INFO!F26+COUNTRY_INFO!G26,COUNTRY_INFO!$M26),0))))","v":0},{"$f":"IF(AND(INTRO!$E$39=\"Non-endemic\",INTRO!$E$37=\"Non-endemic\"),\"Not required\",IF(INTRO!$E$39=\"Non-endemic\",\"Treat with DEC\",COUNTRY_INFO!V26))","v":0},{"$f":"IF(INTRO!$E$39<>\"Non-endemic\",COUNTRY_INFO!W26,\"Not required\")","v":0},{"$f":"IF(COUNTRY_INFO!H26=1, IF($E26=1,$D26, 0),0)","v":0},{"$f":"IF(COUNTRY_INFO!I26=1, IF(AND(COUNTRY_INFO!$I26=1,$F26<>0),IF(COUNTRY_INFO!M26>=(COUNTRY_INFO!F26+COUNTRY_INFO!G26),COUNTRY_INFO!F26+COUNTRY_INFO!G26,COUNTRY_INFO!$M26), 0),0)","v":0},0,0,0,0,null,0]
[{"$f":"IF(INTRO!$E$39=\"Non-endemic\",\" \",IF(COUNTRY_INFO!A27=0,\" \",COUNTRY_INFO!A27))","v":"Uganda"},{"$f":"IF(INTRO!$E$39=\"Non-endemic\",\" \",IF(COUNTRY_INFO!B27=0,\" \",COUNTRY_INFO!B27))","v":"Central"},{"$f":"IF(INTRO!$E$39=\"Non-endemic\",\" \",IF(COUNTRY_INFO!C27=0,\" \",COUNTRY_INFO!C27))","v":"Masaka City"},{"$f":"IF(INTRO!$E$39=\"Non-endemic\",0,IF(INTRO!$E$39=\"Endemic but PC is not required\",IF(COUNTRY_INFO!$H27=1,COUNTRY_INFO!F27+COUNTRY_INFO!G27,0),IF(COUNTRY_INFO!$H27=1,COUNTRY_INFO!F27+COUNTRY_INFO!G27,IF(COUNTRY_INFO!$I27=1,IF(COUNTRY_INFO!M27>=(COUNTRY_INFO!F27+COUNTRY_INFO!G27),COUNTRY_INFO!F27+COUNTRY_INFO!G27,COUNTRY_INFO!$M27),0))))","v":0},{"$f":"IF(AND(INTRO!$E$39=\"Non-endemic\",INTRO!$E$37=\"Non-endemic\"),\"Not required\",IF(INTRO!$E$39=\"Non-endemic\",\"Treat with DEC\",COUNTRY_INFO!V27))","v":0},{"$f":"IF(INTRO!$E$39<>\"Non-endemic\",COUNTRY_INFO!W27,\"Not required\")","v":0},{"$f":"IF(COUNTRY_INFO!H27=1, IF($E27=1,$D27, 0),0)","v":0},{"$f":"IF(COUNTRY_INFO!I27=1, IF(AND(COUNTRY_INFO!$I27=1,$F27<>0),IF(COUNTRY_INFO!M27>=(COUNTRY_INFO!F27+COUNTRY_INFO!G27),COUNTRY_INFO!F27+COUNTRY_INFO!G27,COUNTRY_INFO!$M27), 0),0)","v":0},0,0,0,0,null,0]
[{"$f":"IF(INTRO!$E$39=\"Non-endemic\",\" \",IF(COUNTRY_INFO!A28=0,\" \",COUNTRY_INFO!A28))","v":"Uganda"},{"$f":"IF(INTRO!$E$39=\"Non-endemic\",\" \",IF(COUNTRY_INFO!B28=0,\" \",COUNTRY_INFO!B28))","v":"Central"},{"$f":"IF(INTRO!$E$39=\"Non-endemic\",\" \",IF(COUNTRY_INFO!C28=0,\" \",COUNTRY_INFO!C28))","v":"Mityana"},{"$f":"IF(INTRO!$E$39=\"Non-endemic\",0,IF(INTRO!$E$39=\"Endemic but PC is not required\",IF(COUNTRY_INFO!$H28=1,COUNTRY_INFO!F28+COUNTRY_INFO!G28,0),IF(COUNTRY_INFO!$H28=1,COUNTRY_INFO!F28+COUNTRY_INFO!G28,IF(COUNTRY_INFO!$I28=1,IF(COUNTRY_INFO!M28>=(COUNTRY_INFO!F28+COUNTRY_INFO!G28),COUNTRY_INFO!F28+COUNTRY_INFO!G28,COUNTRY_INFO!$M28),0))))","v":0},{"$f":"IF(AND(INTRO!$E$39=\"Non-endemic\",INTRO!$E$37=\"Non-endemic\"),\"Not required\",IF(INTRO!$E$39=\"Non-endemic\",\"Treat with DEC\",COUNTRY_INFO!V28))","v":0},{"$f":"IF(INTRO!$E$39<>\"Non-endemic\",COUNTRY_INFO!W28,\"Not required\")","v":0},{"$f":"IF(COUNTRY_INFO!H28=1, IF($E28=1,$D28, 0),0)","v":0},{"$f":"IF(COUNTRY_INFO!I28=1, IF(AND(COUNTRY_INFO!$I28=1,$F28<>0),IF(COUNTRY_INFO!M28>=(COUNTRY_INFO!F28+COUNTRY_INFO!G28),COUNTRY_INFO!F28+COUNTRY_INFO!G28,COUNTRY_INFO!$M28), 0),0)","v":0},0,0,0,0,null,0]
[{"$f":"IF(INTRO!$E$39=\"Non-endemic\",\" \",IF(COUNTRY_INFO!A29=0,\" \",COUNTRY_INFO!A29))","v":"Uganda"},{"$f":"IF(INTRO!$E$39=\"Non-endemic\",\" \",IF(COUNTRY_INFO!B29=0,\" \",COUNTRY_INFO!B29))","v":"Central"},{"$f":"IF(INTRO!$E$39=\"Non-endemic\",\" \",IF(COUNTRY_INFO!C29=0,\" \",COUNTRY_INFO!C29))","v":"Mpigi"},{"$f":"IF(INTRO!$E$39=\"Non-endemic\",0,IF(INTRO!$E$39=\"Endemic but PC is not required\",IF(COUNTRY_INFO!$H29=1,COUNTRY_INFO!F29+COUNTRY_INFO!G29,0),IF(COUNTRY_INFO!$H29=1,COUNTRY_INFO!F29+COUNTRY_INFO!G29,IF(COUNTRY_INFO!$I29=1,IF(COUNTRY_INFO!M29>=(COUNTRY_INFO!F29+COUNTRY_INFO!G29),COUNTRY_INFO!F29+COUNTRY_INFO!G29,COUNTRY_INFO!$M29),0))))","v":0},{"$f":"IF(AND(INTRO!$E$39=\"Non-endemic\",INTRO!$E$37=\"Non-endemic\"),\"Not required\",IF(INTRO!$E$39=\"Non-endemic\",\"Treat with DEC\",COUNTRY_INFO!V29))","v":0},{"$f":"IF(INTRO!$E$39<>\"Non-endemic\",COUNTRY_INFO!W29,\"Not required\")","v":0},{"$f":"IF(COUNTRY_INFO!H29=1, IF($E29=1,$D29, 0),0)","v":0},{"$f":"IF(COUNTRY_INFO!I29=1, IF(AND(COUNTRY_INFO!$I29=1,$F29<>0),IF(COUNTRY_INFO!M29>=(COUNTRY_INFO!F29+COUNTRY_INFO!G29),COUNTRY_INFO!F29+COUNTRY_INFO!G29,COUNTRY_INFO!$M29), 0),0)","v":0},0,0,0,0,null,0]
[{"$f":"IF(INTRO!$E$39=\"Non-endemic\",\" \",IF(COUNTRY_INFO!A30=0,\" \",COUNTRY_INFO!A30))","v":"Uganda"},{"$f":"IF(INTRO!$E$39=\"Non-endemic\",\" \",IF(COUNTRY_INFO!B30=0,\" \",COUNTRY_INFO!B30))","v":"Central"},{"$f":"IF(INTRO!$E$39=\"Non-endemic\",\" \",IF(COUNTRY_INFO!C30=0,\" \",COUNTRY_INFO!C30))","v":"Mubende"},{"$f":"IF(INTRO!$E$39=\"Non-endemic\",0,IF(INTRO!$E$39=\"Endemic but PC is not required\",IF(COUNTRY_INFO!$H30=1,COUNTRY_INFO!F30+COUNTRY_INFO!G30,0),IF(COUNTRY_INFO!$H30=1,COUNTRY_INFO!F30+COUNTRY_INFO!G30,IF(COUNTRY_INFO!$I30=1,IF(COUNTRY_INFO!M30>=(COUNTRY_INFO!F30+COUNTRY_INFO!G30),COUNTRY_INFO!F30+COUNTRY_INFO!G30,COUNTRY_INFO!$M30),0))))","v":0},{"$f":"IF(AND(INTRO!$E$39=\"Non-endemic\",INTRO!$E$37=\"Non-endemic\"),\"Not required\",IF(INTRO!$E$39=\"Non-endemic\",\"Treat with DEC\",COUNTRY_INFO!V30))","v":0},{"$f":"IF(INTRO!$E$39<>\"Non-endemic\",COUNTRY_INFO!W30,\"Not required\")","v":0},{"$f":"IF(COUNTRY_INFO!H30=1, IF($E30=1,$D30, 0),0)","v":0},{"$f":"IF(COUNTRY_INFO!I30=1, IF(AND(COUNTRY_INFO!$I30=1,$F30<>0),IF(COUNTRY_INFO!M30>=(COUNTRY_INFO!F30+COUNTRY_INFO!G30),COUNTRY_INFO!F30+COUNTRY_INFO!G30,COUNTRY_INFO!$M30), 0),0)","v":0},0,0,0,0,null,0]
[{"$f":"IF(INTRO!$E$39=\"Non-endemic\",\" \",IF(COUNTRY_INFO!A31=0,\" \",COUNTRY_INFO!A31))","v":"Uganda"},{"$f":"IF(INTRO!$E$39=\"Non-endemic\",\" \",IF(COUNTRY_INFO!B31=0,\" \",COUNTRY_INFO!B31))","v":"Central"},{"$f":"IF(INTRO!$E$39=\"Non-endemic\",\" \",IF(COUNTRY_INFO!C31=0,\" \",COUNTRY_INFO!C31))","v":"Mukono"},{"$f":"IF(INTRO!$E$39=\"Non-endemic\",0,IF(INTRO!$E$39=\"Endemic but PC is not required\",IF(COUNTRY_INFO!$H31=1,COUNTRY_INFO!F31+COUNTRY_INFO!G31,0),IF(COUNTRY_INFO!$H31=1,COUNTRY_INFO!F31+COUNTRY_INFO!G31,IF(COUNTRY_INFO!$I31=1,IF(COUNTRY_INFO!M31>=(COUNTRY_INFO!F31+COUNTRY_INFO!G31),COUNTRY_INFO!F31+COUNTRY_INFO!G31,COUNTRY_INFO!$M31),0))))","v":0},{"$f":"IF(AND(INTRO!$E$39=\"Non-endemic\",INTRO!$E$37=\"Non-endemic\"),\"Not required\",IF(INTRO!$E$39=\"Non-endemic\",\"Treat with DEC\",COUNTRY_INFO!V31))","v":0},{"$f":"IF(INTRO!$E$39<>\"Non-endemic\",COUNTRY_INFO!W31,\"Not required\")","v":0},{"$f":"IF(COUNTRY_INFO!H31=1, IF($E31=1,$D31, 0),0)","v":0},{"$f":"IF(COUNTRY_INFO!I31=1, IF(AND(COUNTRY_INFO!$I31=1,$F31<>0),IF(COUNTRY_INFO!M31>=(COUNTRY_INFO!F31+COUNTRY_INFO!G31),COUNTRY_INFO!F31+COUNTRY_INFO!G31,COUNTRY_INFO!$M31), 0),0)","v":0},0,0,0,0,null,0]
[{"$f":"IF(INTRO!$E$39=\"Non-endemic\",\" \",IF(COUNTRY_INFO!A32=0,\" \",COUNTRY_INFO!A32))","v":"Uganda"},{"$f":"IF(INTRO!$E$39=\"Non-endemic\",\" \",IF(COUNTRY_INFO!B32=0,\" \",COUNTRY_INFO!B32))","v":"Central"},{"$f":"IF(INTRO!$E$39=\"Non-endemic\",\" \",IF(COUNTRY_INFO!C32=0,\" \",COUNTRY_INFO!C32))","v":"Nakaseke"},{"$f":"IF(INTRO!$E$39=\"Non-endemic\",0,IF(INTRO!$E$39=\"Endemic but PC is not required\",IF(COUNTRY_INFO!$H32=1,COUNTRY_INFO!F32+COUNTRY_INFO!G32,0),IF(COUNTRY_INFO!$H32=1,COUNTRY_INFO!F32+COUNTRY_INFO!G32,IF(COUNTRY_INFO!$I32=1,IF(COUNTRY_INFO!M32>=(COUNTRY_INFO!F32+COUNTRY_INFO!G32),COUNTRY_INFO!F32+COUNTRY_INFO!G32,COUNTRY_INFO!$M32),0))))","v":0},{"$f":"IF(AND(INTRO!$E$39=\"Non-endemic\",INTRO!$E$37=\"Non-endemic\"),\"Not required\",IF(INTRO!$E$39=\"Non-endemic\",\"Treat with DEC\",COUNTRY_INFO!V32))","v":0},{"$f":"IF(INTRO!$E$39<>\"Non-endemic\",COUNTRY_INFO!W32,\"Not required\")","v":0},{"$f":"IF(COUNTRY_INFO!H32=1, IF($E32=1,$D32, 0),0)","v":0},{"$f":"IF(COUNTRY_INFO!I32=1, IF(AND(COUNTRY_INFO!$I32=1,$F32<>0),IF(COUNTRY_INFO!M32>=(COUNTRY_INFO!F32+COUNTRY_INFO!G32),COUNTRY_INFO!F32+COUNTRY_INFO!G32,COUNTRY_INFO!$M32), 0),0)","v":0},0,0,0,0,null,0]
[{"$f":"IF(INTRO!$E$39=\"Non-endemic\",\" \",IF(COUNTRY_INFO!A33=0,\" \",COUNTRY_INFO!A33))","v":"Uganda"},{"$f":"IF(INTRO!$E$39=\"Non-endemic\",\" \",IF(COUNTRY_INFO!B33=0,\" \",COUNTRY_INFO!B33))","v":"Central"},{"$f":"IF(INTRO!$E$39=\"Non-endemic\",\" \",IF(COUNTRY_INFO!C33=0,\" \",COUNTRY_INFO!C33))","v":"Nakasongola"},{"$f":"IF(INTRO!$E$39=\"Non-endemic\",0,IF(INTRO!$E$39=\"Endemic but PC is not required\",IF(COUNTRY_INFO!$H33=1,COUNTRY_INFO!F33+COUNTRY_INFO!G33,0),IF(COUNTRY_INFO!$H33=1,COUNTRY_INFO!F33+COUNTRY_INFO!G33,IF(COUNTRY_INFO!$I33=1,IF(COUNTRY_INFO!M33>=(COUNTRY_INFO!F33+COUNTRY_INFO!G33),COUNTRY_INFO!F33+COUNTRY_INFO!G33,COUNTRY_INFO!$M33),0))))","v":0},{"$f":"IF(AND(INTRO!$E$39=\"Non-endemic\",INTRO!$E$37=\"Non-endemic\"),\"Not required\",IF(INTRO!$E$39=\"Non-endemic\",\"Treat with DEC\",COUNTRY_INFO!V33))","v":0},{"$f":"IF(INTRO!$E$39<>\"Non-endemic\",COUNTRY_INFO!W33,\"Not required\")","v":0},{"$f":"IF(COUNTRY_INFO!H33=1, IF($E33=1,$D33, 0),0)","v":0},{"$f":"IF(COUNTRY_INFO!I33=1, IF(AND(COUNTRY_INFO!$I33=1,$F33<>0),IF(COUNTRY_INFO!M33>=(COUNTRY_INFO!F33+COUNTRY_INFO!G33),COUNTRY_INFO!F33+COUNTRY_INFO!G33,COUNTRY_INFO!$M33), 0),0)","v":0},0,0,0,0,null,0]
[{"$f":"IF(INTRO!$E$39=\"Non-endemic\",\" \",IF(COUNTRY_INFO!A34=0,\" \",COUNTRY_INFO!A34))","v":"Uganda"},{"$f":"IF(INTRO!$E$39=\"Non-endemic\",\" \",IF(COUNTRY_INFO!B34=0,\" \",COUNTRY_INFO!B34))","v":"Central"},{"$f":"IF(INTRO!$E$39=\"Non-endemic\",\" \",IF(COUNTRY_INFO!C34=0,\" \",COUNTRY_INFO!C34))","v":"Rakai"},{"$f":"IF(INTRO!$E$39=\"Non-endemic\",0,IF(INTRO!$E$39=\"Endemic but PC is not required\",IF(COUNTRY_INFO!$H34=1,COUNTRY_INFO!F34+COUNTRY_INFO!G34,0),IF(COUNTRY_INFO!$H34=1,COUNTRY_INFO!F34+COUNTRY_INFO!G34,IF(COUNTRY_INFO!$I34=1,IF(COUNTRY_INFO!M34>=(COUNTRY_INFO!F34+COUNTRY_INFO!G34),COUNTRY_INFO!F34+COUNTRY_INFO!G34,COUNTRY_INFO!$M34),0))))","v":0},{"$f":"IF(AND(INTRO!$E$39=\"Non-endemic\",INTRO!$E$37=\"Non-endemic\"),\"Not required\",IF(INTRO!$E$39=\"Non-endemic\",\"Treat with DEC\",COUNTRY_INFO!V34))","v":0},{"$f":"IF(INTRO!$E$39<>\"Non-endemic\",COUNTRY_INFO!W34,\"Not required\")","v":0},{"$f":"IF(COUNTRY_INFO!H34=1, IF($E34=1,$D34, 0),0)","v":0},{"$f":"IF(COUNTRY_INFO!I34=1, IF(AND(COUNTRY_INFO!$I34=1,$F34<>0),IF(COUNTRY_INFO!M34>=(COUNTRY_INFO!F34+COUNTRY_INFO!G34),COUNTRY_INFO!F34+COUNTRY_INFO!G34,COUNTRY_INFO!$M34), 0),0)","v":0},0,0,0,0,null,0]
[{"$f":"IF(INTRO!$E$39=\"Non-endemic\",\" \",IF(COUNTRY_INFO!A35=0,\" \",COUNTRY_INFO!A35))","v":"Uganda"},{"$f":"IF(INTRO!$E$39=\"Non-endemic\",\" \",IF(COUNTRY_INFO!B35=0,\" \",COUNTRY_INFO!B35))","v":"Central"},{"$f":"IF(INTRO!$E$39=\"Non-endemic\",\" \",IF(COUNTRY_INFO!C35=0,\" \",COUNTRY_INFO!C35))","v":"Sembabule"},{"$f":"IF(INTRO!$E$39=\"Non-endemic\",0,IF(INTRO!$E$39=\"Endemic but PC is not required\",IF(COUNTRY_INFO!$H35=1,COUNTRY_INFO!F35+COUNTRY_INFO!G35,0),IF(COUNTRY_INFO!$H35=1,COUNTRY_INFO!F35+COUNTRY_INFO!G35,IF(COUNTRY_INFO!$I35=1,IF(COUNTRY_INFO!M35>=(COUNTRY_INFO!F35+COUNTRY_INFO!G35),COUNTRY_INFO!F35+COUNTRY_INFO!G35,COUNTRY_INFO!$M35),0))))","v":0},{"$f":"IF(AND(INTRO!$E$39=\"Non-endemic\",INTRO!$E$37=\"Non-endemic\"),\"Not required\",IF(INTRO!$E$39=\"Non-endemic\",\"Treat with DEC\",COUNTRY_INFO!V35))","v":0},{"$f":"IF(INTRO!$E$39<>\"Non-endemic\",COUNTRY_INFO!W35,\"Not required\")","v":0},{"$f":"IF(COUNTRY_INFO!H35=1, IF($E35=1,$D35, 0),0)","v":0},{"$f":"IF(COUNTRY_INFO!I35=1, IF(AND(COUNTRY_INFO!$I35=1,$F35<>0),IF(COUNTRY_INFO!M35>=(COUNTRY_INFO!F35+COUNTRY_INFO!G35),COUNTRY_INFO!F35+COUNTRY_INFO!G35,COUNTRY_INFO!$M35), 0),0)","v":0},0,0,0,0,null,0]
[{"$f":"IF(INTRO!$E$39=\"Non-endemic\",\" \",IF(COUNTRY_INFO!A36=0,\" \",COUNTRY_INFO!A36))","v":"Uganda"},{"$f":"IF(INTRO!$E$39=\"Non-endemic\",\" \",IF(COUNTRY_INFO!B36=0,\" \",COUNTRY_INFO!B36))","v":"Central"},{"$f":"IF(INTRO!$E$39=\"Non-endemic\",\" \",IF(COUNTRY_INFO!C36=0,\" \",COUNTRY_INFO!C36))","v":"Wakiso"},{"$f":"IF(INTRO!$E$39=\"Non-endemic\",0,IF(INTRO!$E$39=\"Endemic but PC is not required\",IF(COUNTRY_INFO!$H36=1,COUNTRY_INFO!F36+COUNTRY_INFO!G36,0),IF(COUNTRY_INFO!$H36=1,COUNTRY_INFO!F36+COUNTRY_INFO!G36,IF(COUNTRY_INFO!$I36=1,IF(COUNTRY_INFO!M36>=(COUNTRY_INFO!F36+COUNTRY_INFO!G36),COUNTRY_INFO!F36+COUNTRY_INFO!G36,COUNTRY_INFO!$M36),0))))","v":0},{"$f":"IF(AND(INTRO!$E$39=\"Non-endemic\",INTRO!$E$37=\"Non-endemic\"),\"Not required\",IF(INTRO!$E$39=\"Non-endemic\",\"Treat with DEC\",COUNTRY_INFO!V36))","v":0},{"$f":"IF(INTRO!$E$39<>\"Non-endemic\",COUNTRY_INFO!W36,\"Not required\")","v":0},{"$f":"IF(COUNTRY_INFO!H36=1, IF($E36=1,$D36, 0),0)","v":0},{"$f":"IF(COUNTRY_INFO!I36=1, IF(AND(COUNTRY_INFO!$I36=1,$F36<>0),IF(COUNTRY_INFO!M36>=(COUNTRY_INFO!F36+COUNTRY_INFO!G36),COUNTRY_INFO!F36+COUNTRY_INFO!G36,COUNTRY_INFO!$M36), 0),0)","v":0},0,0,0,0,null,0]
[{"$f":"IF(INTRO!$E$39=\"Non-endemic\",\" \",IF(COUNTRY_INFO!A37=0,\" \",COUNTRY_INFO!A37))","v":"Uganda"},{"$f":"IF(INTRO!$E$39=\"Non-endemic\",\" \",IF(COUNTRY_INFO!B37=0,\" \",COUNTRY_INFO!B37))","v":"Eastern"},{"$f":"IF(INTRO!$E$39=\"Non-endemic\",\" \",IF(COUNTRY_INFO!C37=0,\" \",COUNTRY_INFO!C37))","v":"Amuria"},{"$f":"IF(INTRO!$E$39=\"Non-endemic\",0,IF(INTRO!$E$39=\"Endemic but PC is not required\",IF(COUNTRY_INFO!$H37=1,COUNTRY_INFO!F37+COUNTRY_INFO!G37,0),IF(COUNTRY_INFO!$H37=1,COUNTRY_INFO!F37+COUNTRY_INFO!G37,IF(COUNTRY_INFO!$I37=1,IF(COUNTRY_INFO!M37>=(COUNTRY_INFO!F37+COUNTRY_INFO!G37),COUNTRY_INFO!F37+COUNTRY_INFO!G37,COUNTRY_INFO!$M37),0))))","v":0},{"$f":"IF(AND(INTRO!$E$39=\"Non-endemic\",INTRO!$E$37=\"Non-endemic\"),\"Not required\",IF(INTRO!$E$39=\"Non-endemic\",\"Treat with DEC\",COUNTRY_INFO!V37))","v":0},{"$f":"IF(INTRO!$E$39<>\"Non-endemic\",COUNTRY_INFO!W37,\"Not required\")","v":0},{"$f":"IF(COUNTRY_INFO!H37=1, IF($E37=1,$D37, 0),0)","v":0},{"$f":"IF(COUNTRY_INFO!I37=1, IF(AND(COUNTRY_INFO!$I37=1,$F37<>0),IF(COUNTRY_INFO!M37>=(COUNTRY_INFO!F37+COUNTRY_INFO!G37),COUNTRY_INFO!F37+COUNTRY_INFO!G37,COUNTRY_INFO!$M37), 0),0)","v":0},0,0,0,0,null,0]
[{"$f":"IF(INTRO!$E$39=\"Non-endemic\",\" \",IF(COUNTRY_INFO!A38=0,\" \",COUNTRY_INFO!A38))","v":"Uganda"},{"$f":"IF(INTRO!$E$39=\"Non-endemic\",\" \",IF(COUNTRY_INFO!B38=0,\" \",COUNTRY_INFO!B38))","v":"Eastern"},{"$f":"IF(INTRO!$E$39=\"Non-endemic\",\" \",IF(COUNTRY_INFO!C38=0,\" \",COUNTRY_INFO!C38))","v":"Budaka"},{"$f":"IF(INTRO!$E$39=\"Non-endemic\",0,IF(INTRO!$E$39=\"Endemic but PC is not required\",IF(COUNTRY_INFO!$H38=1,COUNTRY_INFO!F38+COUNTRY_INFO!G38,0),IF(COUNTRY_INFO!$H38=1,COUNTRY_INFO!F38+COUNTRY_INFO!G38,IF(COUNTRY_INFO!$I38=1,IF(COUNTRY_INFO!M38>=(COUNTRY_INFO!F38+COUNTRY_INFO!G38),COUNTRY_INFO!F38+COUNTRY_INFO!G38,COUNTRY_INFO!$M38),0))))","v":0},{"$f":"IF(AND(INTRO!$E$39=\"Non-endemic\",INTRO!$E$37=\"Non-endemic\"),\"Not required\",IF(INTRO!$E$39=\"Non-endemic\",\"Treat with DEC\",COUNTRY_INFO!V38))","v":0},{"$f":"IF(INTRO!$E$39<>\"Non-endemic\",COUNTRY_INFO!W38,\"Not required\")","v":0},{"$f":"IF(COUNTRY_INFO!H38=1, IF($E38=1,$D38, 0),0)","v":0},{"$f":"IF(COUNTRY_INFO!I38=1, IF(AND(COUNTRY_INFO!$I38=1,$F38<>0),IF(COUNTRY_INFO!M38>=(COUNTRY_INFO!F38+COUNTRY_INFO!G38),COUNTRY_INFO!F38+COUNTRY_INFO!G38,COUNTRY_INFO!$M38), 0),0)","v":0},0,0,0,0,null,0]
[{"$f":"IF(INTRO!$E$39=\"Non-endemic\",\" \",IF(COUNTRY_INFO!A39=0,\" \",COUNTRY_INFO!A39))","v":"Uganda"},{"$f":"IF(INTRO!$E$39=\"Non-endemic\",\" \",IF(COUNTRY_INFO!B39=0,\" \",COUNTRY_INFO!B39))","v":"Eastern"},{"$f":"IF(INTRO!$E$39=\"Non-endemic\",\" \",IF(COUNTRY_INFO!C39=0,\" \",COUNTRY_INFO!C39))","v":"Bududa"},{"$f":"IF(INTRO!$E$39=\"Non-endemic\",0,IF(INTRO!$E$39=\"Endemic but PC is not required\",IF(COUNTRY_INFO!$H39=1,COUNTRY_INFO!F39+COUNTRY_INFO!G39,0),IF(COUNTRY_INFO!$H39=1,COUNTRY_INFO!F39+COUNTRY_INFO!G39,IF(COUNTRY_INFO!$I39=1,IF(COUNTRY_INFO!M39>=(COUNTRY_INFO!F39+COUNTRY_INFO!G39),COUNTRY_INFO!F39+COUNTRY_INFO!G39,COUNTRY_INFO!$M39),0))))","v":0},{"$f":"IF(AND(INTRO!$E$39=\"Non-endemic\",INTRO!$E$37=\"Non-endemic\"),\"Not required\",IF(INTRO!$E$39=\"Non-endemic\",\"Treat with DEC\",COUNTRY_INFO!V39))","v":0},{"$f":"IF(INTRO!$E$39<>\"Non-endemic\",COUNTRY_INFO!W39,\"Not required\")","v":0},{"$f":"IF(COUNTRY_INFO!H39=1, IF($E39=1,$D39, 0),0)","v":0},{"$f":"IF(COUNTRY_INFO!I39=1, IF(AND(COUNTRY_INFO!$I39=1,$F39<>0),IF(COUNTRY_INFO!M39>=(COUNTRY_INFO!F39+COUNTRY_INFO!G39),COUNTRY_INFO!F39+COUNTRY_INFO!G39,COUNTRY_INFO!$M39), 0),0)","v":0},0,0,0,0,null,0]
[{"$f":"IF(INTRO!$E$39=\"Non-endemic\",\" \",IF(COUNTRY_INFO!A40=0,\" \",COUNTRY_INFO!A40))","v":"Uganda"},{"$f":"IF(INTRO!$E$39=\"Non-endemic\",\" \",IF(COUNTRY_INFO!B40=0,\" \",COUNTRY_INFO!B40))","v":"Eastern"},{"$f":"IF(INTRO!$E$39=\"Non-endemic\",\" \",IF(COUNTRY_INFO!C40=0,\" \",COUNTRY_INFO!C40))","v":"Bugiri"},{"$f":"IF(INTRO!$E$39=\"Non-endemic\",0,IF(INTRO!$E$39=\"Endemic but PC is not required\",IF(COUNTRY_INFO!$H40=1,COUNTRY_INFO!F40+COUNTRY_INFO!G40,0),IF(COUNTRY_INFO!$H40=1,COUNTRY_INFO!F40+COUNTRY_INFO!G40,IF(COUNTRY_INFO!$I40=1,IF(COUNTRY_INFO!M40>=(COUNTRY_INFO!F40+COUNTRY_INFO!G40),COUNTRY_INFO!F40+COUNTRY_INFO!G40,COUNTRY_INFO!$M40),0))))","v":0},{"$f":"IF(AND(INTRO!$E$39=\"Non-endemic\",INTRO!$E$37=\"Non-endemic\"),\"Not required\",IF(INTRO!$E$39=\"Non-endemic\",\"Treat with DEC\",COUNTRY_INFO!V40))","v":0},{"$f":"IF(INTRO!$E$39<>\"Non-endemic\",COUNTRY_INFO!W40,\"Not required\")","v":0},{"$f":"IF(COUNTRY_INFO!H40=1, IF($E40=1,$D40, 0),0)","v":0},{"$f":"IF(COUNTRY_INFO!I40=1, IF(AND(COUNTRY_INFO!$I40=1,$F40<>0),IF(COUNTRY_INFO!M40>=(COUNTRY_INFO!F40+COUNTRY_INFO!G40),COUNTRY_INFO!F40+COUNTRY_INFO!G40,COUNTRY_INFO!$M40), 0),0)","v":0},0,0,0,0,null,0]
[{"$f":"IF(INTRO!$E$39=\"Non-endemic\",\" \",IF(COUNTRY_INFO!A41=0,\" \",COUNTRY_INFO!A41))","v":"Uganda"},{"$f":"IF(INTRO!$E$39=\"Non-endemic\",\" \",IF(COUNTRY_INFO!B41=0,\" \",COUNTRY_INFO!B41))","v":"Eastern"},{"$f":"IF(INTRO!$E$39=\"Non-endemic\",\" \",IF(COUNTRY_INFO!C41=0,\" \",COUNTRY_INFO!C41))","v":"Bugweri"},{"$f":"IF(INTRO!$E$39=\"Non-endemic\",0,IF(INTRO!$E$39=\"Endemic but PC is not required\",IF(COUNTRY_INFO!$H41=1,COUNTRY_INFO!F41+COUNTRY_INFO!G41,0),IF(COUNTRY_INFO!$H41=1,COUNTRY_INFO!F41+COUNTRY_INFO!G41,IF(COUNTRY_INFO!$I41=1,IF(COUNTRY_INFO!M41>=(COUNTRY_INFO!F41+COUNTRY_INFO!G41),COUNTRY_INFO!F41+COUNTRY_INFO!G41,COUNTRY_INFO!$M41),0))))","v":0},{"$f":"IF(AND(INTRO!$E$39=\"Non-endemic\",INTRO!$E$37=\"Non-endemic\"),\"Not required\",IF(INTRO!$E$39=\"Non-endemic\",\"Treat with DEC\",COUNTRY_INFO!V41))","v":0},{"$f":"IF(INTRO!$E$39<>\"Non-endemic\",COUNTRY_INFO!W41,\"Not required\")","v":0},{"$f":"IF(COUNTRY_INFO!H41=1, IF($E41=1,$D41, 0),0)","v":0},{"$f":"IF(COUNTRY_INFO!I41=1, IF(AND(COUNTRY_INFO!$I41=1,$F41<>0),IF(COUNTRY_INFO!M41>=(COUNTRY_INFO!F41+COUNTRY_INFO!G41),COUNTRY_INFO!F41+COUNTRY_INFO!G41,COUNTRY_INFO!$M41), 0),0)","v":0},0,0,0,0,null,0]
[{"$f":"IF(INTRO!$E$39=\"Non-endemic\",\" \",IF(COUNTRY_INFO!A42=0,\" \",COUNTRY_INFO!A42))","v":"Uganda"},{"$f":"IF(INTRO!$E$39=\"Non-endemic\",\" \",IF(COUNTRY_INFO!B42=0,\" \",COUNTRY_INFO!B42))","v":"Eastern"},{"$f":"IF(INTRO!$E$39=\"Non-endemic\",\" \",IF(COUNTRY_INFO!C42=0,\" \",COUNTRY_INFO!C42))","v":"Bukedea"},{"$f":"IF(INTRO!$E$39=\"Non-endemic\",0,IF(INTRO!$E$39=\"Endemic but PC is not required\",IF(COUNTRY_INFO!$H42=1,COUNTRY_INFO!F42+COUNTRY_INFO!G42,0),IF(COUNTRY_INFO!$H42=1,COUNTRY_INFO!F42+COUNTRY_INFO!G42,IF(COUNTRY_INFO!$I42=1,IF(COUNTRY_INFO!M42>=(COUNTRY_INFO!F42+COUNTRY_INFO!G42),COUNTRY_INFO!F42+COUNTRY_INFO!G42,COUNTRY_INFO!$M42),0))))","v":0},{"$f":"IF(AND(INTRO!$E$39=\"Non-endemic\",INTRO!$E$37=\"Non-endemic\"),\"Not required\",IF(INTRO!$E$39=\"Non-endemic\",\"Treat with DEC\",COUNTRY_INFO!V42))","v":0},{"$f":"IF(INTRO!$E$39<>\"Non-endemic\",COUNTRY_INFO!W42,\"Not required\")","v":0},{"$f":"IF(COUNTRY_INFO!H42=1, IF($E42=1,$D42, 0),0)","v":0},{"$f":"IF(COUNTRY_INFO!I42=1, IF(AND(COUNTRY_INFO!$I42=1,$F42<>0),IF(COUNTRY_INFO!M42>=(COUNTRY_INFO!F42+COUNTRY_INFO!G42),COUNTRY_INFO!F42+COUNTRY_INFO!G42,COUNTRY_INFO!$M42), 0),0)","v":0},{"$f":"IF(G42<H42,0,IF($E42=1, (G42-H42)*2.8, 0))","v":0},{"$f":"IF($E42<$F42, H42*(F42-E42)*2.8, 0)","v":0},0,0,null,0]
[{"$f":"IF(INTRO!$E$39=\"Non-endemic\",\" \",IF(COUNTRY_INFO!A43=0,\" \",COUNTRY_INFO!A43))","v":"Uganda"},{"$f":"IF(INTRO!$E$39=\"Non-endemic\",\" \",IF(COUNTRY_INFO!B43=0,\" \",COUNTRY_INFO!B43))","v":"Eastern"},{"$f":"IF(INTRO!$E$39=\"Non-endemic\",\" \",IF(COUNTRY_INFO!C43=0,\" \",COUNTRY_INFO!C43))","v":"Bukwo"},{"$f":"IF(INTRO!$E$39=\"Non-endemic\",0,IF(INTRO!$E$39=\"Endemic but PC is not required\",IF(COUNTRY_INFO!$H43=1,COUNTRY_INFO!F43+COUNTRY_INFO!G43,0),IF(COUNTRY_INFO!$H43=1,COUNTRY_INFO!F43+COUNTRY_INFO!G43,IF(COUNTRY_INFO!$I43=1,IF(COUNTRY_INFO!M43>=(COUNTRY_INFO!F43+COUNTRY_INFO!G43),COUNTRY_INFO!F43+COUNTRY_INFO!G43,COUNTRY_INFO!$M43),0))))","v":0},{"$f":"IF(AND(INTRO!$E$39=\"Non-endemic\",INTRO!$E$37=\"Non-endemic\"),\"Not required\",IF(INTRO!$E$39=\"Non-endemic\",\"Treat with DEC\",COUNTRY_INFO!V43))","v":0},{"$f":"IF(INTRO!$E$39<>\"Non-endemic\",COUNTRY_INFO!W43,\"Not required\")","v":0},{"$f":"IF(COUNTRY_INFO!H43=1, IF($E43=1,$D43, 0),0)","v":0},{"$f":"IF(COUNTRY_INFO!I43=1, IF(AND(COUNTRY_INFO!$I43=1,$F43<>0),IF(COUNTRY_INFO!M43>=(COUNTRY_INFO!F43+COUNTRY_INFO!G43),COUNTRY_INFO!F43+COUNTRY_INFO!G43,COUNTRY_INFO!$M43), 0),0)","v":0},0,0,0,0,null,0]
[{"$f":"IF(INTRO!$E$39=\"Non-endemic\",\" \",IF(COUNTRY_INFO!A44=0,\" \",COUNTRY_INFO!A44))","v":"Uganda"},{"$f":"IF(INTRO!$E$39=\"Non-endemic\",\" \",IF(COUNTRY_INFO!B44=0,\" \",COUNTRY_INFO!B44))","v":"Eastern"},{"$f":"IF(INTRO!$E$39=\"Non-endemic\",\" \",IF(COUNTRY_INFO!C44=0,\" \",COUNTRY_INFO!C44))","v":"Bulambuli"},{"$f":"IF(INTRO!$E$39=\"Non-endemic\",0,IF(INTRO!$E$39=\"Endemic but PC is not required\",IF(COUNTRY_INFO!$H44=1,COUNTRY_INFO!F44+COUNTRY_INFO!G44,0),IF(COUNTRY_INFO!$H44=1,COUNTRY_INFO!F44+COUNTRY_INFO!G44,IF(COUNTRY_INFO!$I44=1,IF(COUNTRY_INFO!M44>=(COUNTRY_INFO!F44+COUNTRY_INFO!G44),COUNTRY_INFO!F44+COUNTRY_INFO!G44,COUNTRY_INFO!$M44),0))))","v":0},{"$f":"IF(AND(INTRO!$E$39=\"Non-endemic\",INTRO!$E$37=\"Non-endemic\"),\"Not required\",IF(INTRO!$E$39=\"Non-endemic\",\"Treat with DEC\",COUNTRY_INFO!V44))","v":0},{"$f":"IF(INTRO!$E$39<>\"Non-endemic\",COUNTRY_INFO!W44,\"Not required\")","v":0},{"$f":"IF(COUNTRY_INFO!H44=1, IF($E44=1,$D44, 0),0)","v":0},{"$f":"IF(COUNTRY_INFO!I44=1, IF(AND(COUNTRY_INFO!$I44=1,$F44<>0),IF(COUNTRY_INFO!M44>=(COUNTRY_INFO!F44+COUNTRY_INFO!G44),COUNTRY_INFO!F44+COUNTRY_INFO!G44,COUNTRY_INFO!$M44), 0),0)","v":0},0,0,0,0,null,0]
[{"$f":"IF(INTRO!$E$39=\"Non-endemic\",\" \",IF(COUNTRY_INFO!A45=0,\" \",COUNTRY_INFO!A45))","v":"Uganda"},{"$f":"IF(INTRO!$E$39=\"Non-endemic\",\" \",IF(COUNTRY_INFO!B45=0,\" \",COUNTRY_INFO!B45))","v":"Eastern"},{"$f":"IF(INTRO!$E$39=\"Non-endemic\",\" \",IF(COUNTRY_INFO!C45=0,\" \",COUNTRY_INFO!C45))","v":"Busia"},{"$f":"IF(INTRO!$E$39=\"Non-endemic\",0,IF(INTRO!$E$39=\"Endemic but PC is not required\",IF(COUNTRY_INFO!$H45=1,COUNTRY_INFO!F45+COUNTRY_INFO!G45,0),IF(COUNTRY_INFO!$H45=1,COUNTRY_INFO!F45+COUNTRY_INFO!G45,IF(COUNTRY_INFO!$I45=1,IF(COUNTRY_INFO!M45>=(COUNTRY_INFO!F45+COUNTRY_INFO!G45),COUNTRY_INFO!F45+COUNTRY_INFO!G45,COUNTRY_INFO!$M45),0))))","v":0},{"$f":"IF(AND(INTRO!$E$39=\"Non-endemic\",INTRO!$E$37=\"Non-endemic\"),\"Not required\",IF(INTRO!$E$39=\"Non-endemic\",\"Treat with DEC\",COUNTRY_INFO!V45))","v":0},{"$f":"IF(INTRO!$E$39<>\"Non-endemic\",COUNTRY_INFO!W45,\"Not required\")","v":0},{"$f":"IF(COUNTRY_INFO!H45=1, IF($E45=1,$D45, 0),0)","v":0},{"$f":"IF(COUNTRY_INFO!I45=1, IF(AND(COUNTRY_INFO!$I45=1,$F45<>0),IF(COUNTRY_INFO!M45>=(COUNTRY_INFO!F45+COUNTRY_INFO!G45),COUNTRY_INFO!F45+COUNTRY_INFO!G45,COUNTRY_INFO!$M45), 0),0)","v":0},0,0,0,0,null,0]
[{"$f":"IF(INTRO!$E$39=\"Non-endemic\",\" \",IF(COUNTRY_INFO!A46=0,\" \",COUNTRY_INFO!A46))","v":"Uganda"},{"$f":"IF(INTRO!$E$39=\"Non-endemic\",\" \",IF(COUNTRY_INFO!B46=0,\" \",COUNTRY_INFO!B46))","v":"Eastern"},{"$f":"IF(INTRO!$E$39=\"Non-endemic\",\" \",IF(COUNTRY_INFO!C46=0,\" \",COUNTRY_INFO!C46))","v":"Butaleja"},{"$f":"IF(INTRO!$E$39=\"Non-endemic\",0,IF(INTRO!$E$39=\"Endemic but PC is not required\",IF(COUNTRY_INFO!$H46=1,COUNTRY_INFO!F46+COUNTRY_INFO!G46,0),IF(COUNTRY_INFO!$H46=1,COUNTRY_INFO!F46+COUNTRY_INFO!G46,IF(COUNTRY_INFO!$I46=1,IF(COUNTRY_INFO!M46>=(COUNTRY_INFO!F46+COUNTRY_INFO!G46),COUNTRY_INFO!F46+COUNTRY_INFO!G46,COUNTRY_INFO!$M46),0))))","v":0},{"$f":"IF(AND(INTRO!$E$39=\"Non-endemic\",INTRO!$E$37=\"Non-endemic\"),\"Not required\",IF(INTRO!$E$39=\"Non-endemic\",\"Treat with DEC\",COUNTRY_INFO!V46))","v":0},{"$f":"IF(INTRO!$E$39<>\"Non-endemic\",COUNTRY_INFO!W46,\"Not required\")","v":0},{"$f":"IF(COUNTRY_INFO!H46=1, IF($E46=1,$D46, 0),0)","v":0},{"$f":"IF(COUNTRY_INFO!I46=1, IF(AND(COUNTRY_INFO!$I46=1,$F46<>0),IF(COUNTRY_INFO!M46>=(COUNTRY_INFO!F46+COUNTRY_INFO!G46),COUNTRY_INFO!F46+COUNTRY_INFO!G46,COUNTRY_INFO!$M46), 0),0)","v":0},0,0,0,0,null,0]
[{"$f":"IF(INTRO!$E$39=\"Non-endemic\",\" \",IF(COUNTRY_INFO!A47=0,\" \",COUNTRY_INFO!A47))","v":"Uganda"},{"$f":"IF(INTRO!$E$39=\"Non-endemic\",\" \",IF(COUNTRY_INFO!B47=0,\" \",COUNTRY_INFO!B47))","v":"Eastern"},{"$f":"IF(INTRO!$E$39=\"Non-endemic\",\" \",IF(COUNTRY_INFO!C47=0,\" \",COUNTRY_INFO!C47))","v":"Butebo"},{"$f":"IF(INTRO!$E$39=\"Non-endemic\",0,IF(INTRO!$E$39=\"Endemic but PC is not required\",IF(COUNTRY_INFO!$H47=1,COUNTRY_INFO!F47+COUNTRY_INFO!G47,0),IF(COUNTRY_INFO!$H47=1,COUNTRY_INFO!F47+COUNTRY_INFO!G47,IF(COUNTRY_INFO!$I47=1,IF(COUNTRY_INFO!M47>=(COUNTRY_INFO!F47+COUNTRY_INFO!G47),COUNTRY_INFO!F47+COUNTRY_INFO!G47,COUNTRY_INFO!$M47),0))))","v":0},{"$f":"IF(AND(INTRO!$E$39=\"Non-endemic\",INTRO!$E$37=\"Non-endemic\"),\"Not required\",IF(INTRO!$E$39=\"Non-endemic\",\"Treat with DEC\",COUNTRY_INFO!V47))","v":0},{"$f":"IF(INTRO!$E$39<>\"Non-endemic\",COUNTRY_INFO!W47,\"Not required\")","v":0},{"$f":"IF(COUNTRY_INFO!H47=1, IF($E47=1,$D47, 0),0)","v":0},{"$f":"IF(COUNTRY_INFO!I47=1, IF(AND(COUNTRY_INFO!$I47=1,$F47<>0),IF(COUNTRY_INFO!M47>=(COUNTRY_INFO!F47+COUNTRY_INFO!G47),COUNTRY_INFO!F47+COUNTRY_INFO!G47,COUNTRY_INFO!$M47), 0),0)","v":0},0,0,0,0,null,0]
[{"$f":"IF(INTRO!$E$39=\"Non-endemic\",\" \",IF(COUNTRY_INFO!A48=0,\" \",COUNTRY_INFO!A48))","v":"Uganda"},{"$f":"IF(INTRO!$E$39=\"Non-endemic\",\" \",IF(COUNTRY_INFO!B48=0,\" \",COUNTRY_INFO!B48))","v":"Eastern"},{"$f":"IF(INTRO!$E$39=\"Non-endemic\",\" \",IF(COUNTRY_INFO!C48=0,\" \",COUNTRY_INFO!C48))","v":"Buyende"},{"$f":"IF(INTRO!$E$39=\"Non-endemic\",0,IF(INTRO!$E$39=\"Endemic but PC is not required\",IF(COUNTRY_INFO!$H48=1,COUNTRY_INFO!F48+COUNTRY_INFO!G48,0),IF(COUNTRY_INFO!$H48=1,COUNTRY_INFO!F48+COUNTRY_INFO!G48,IF(COUNTRY_INFO!$I48=1,IF(COUNTRY_INFO!M48>=(COUNTRY_INFO!F48+COUNTRY_INFO!G48),COUNTRY_INFO!F48+COUNTRY_INFO!G48,COUNTRY_INFO!$M48),0))))","v":0},{"$f":"IF(AND(INTRO!$E$39=\"Non-endemic\",INTRO!$E$37=\"Non-endemic\"),\"Not required\",IF(INTRO!$E$39=\"Non-endemic\",\"Treat with DEC\",COUNTRY_INFO!V48))","v":0},{"$f":"IF(INTRO!$E$39<>\"Non-endemic\",COUNTRY_INFO!W48,\"Not required\")","v":0},{"$f":"IF(COUNTRY_INFO!H48=1, IF($E48=1,$D48, 0),0)","v":0},{"$f":"IF(COUNTRY_INFO!I48=1, IF(AND(COUNTRY_INFO!$I48=1,$F48<>0),IF(COUNTRY_INFO!M48>=(COUNTRY_INFO!F48+COUNTRY_INFO!G48),COUNTRY_INFO!F48+COUNTRY_INFO!G48,COUNTRY_INFO!$M48), 0),0)","v":0},0,0,0,0,null,0]
[{"$f":"IF(INTRO!$E$39=\"Non-endemic\",\" \",IF(COUNTRY_INFO!A49=0,\" \",COUNTRY_INFO!A49))","v":"Uganda"},{"$f":"IF(INTRO!$E$39=\"Non-endemic\",\" \",IF(COUNTRY_INFO!B49=0,\" \",COUNTRY_INFO!B49))","v":"Eastern"},{"$f":"IF(INTRO!$E$39=\"Non-endemic\",\" \",IF(COUNTRY_INFO!C49=0,\" \",COUNTRY_INFO!C49))","v":"Iganga"},{"$f":"IF(INTRO!$E$39=\"Non-endemic\",0,IF(INTRO!$E$39=\"Endemic but PC is not required\",IF(COUNTRY_INFO!$H49=1,COUNTRY_INFO!F49+COUNTRY_INFO!G49,0),IF(COUNTRY_INFO!$H49=1,COUNTRY_INFO!F49+COUNTRY_INFO!G49,IF(COUNTRY_INFO!$I49=1,IF(COUNTRY_INFO!M49>=(COUNTRY_INFO!F49+COUNTRY_INFO!G49),COUNTRY_INFO!F49+COUNTRY_INFO!G49,COUNTRY_INFO!$M49),0))))","v":0},{"$f":"IF(AND(INTRO!$E$39=\"Non-endemic\",INTRO!$E$37=\"Non-endemic\"),\"Not required\",IF(INTRO!$E$39=\"Non-endemic\",\"Treat with DEC\",COUNTRY_INFO!V49))","v":0},{"$f":"IF(INTRO!$E$39<>\"Non-endemic\",COUNTRY_INFO!W49,\"Not required\")","v":0},{"$f":"IF(COUNTRY_INFO!H49=1, IF($E49=1,$D49, 0),0)","v":0},{"$f":"IF(COUNTRY_INFO!I49=1, IF(AND(COUNTRY_INFO!$I49=1,$F49<>0),IF(COUNTRY_INFO!M49>=(COUNTRY_INFO!F49+COUNTRY_INFO!G49),COUNTRY_INFO!F49+COUNTRY_INFO!G49,COUNTRY_INFO!$M49), 0),0)","v":0},0,0,0,0,null,0]
[{"$f":"IF(INTRO!$E$39=\"Non-endemic\",\" \",IF(COUNTRY_INFO!A50=0,\" \",COUNTRY_INFO!A50))","v":"Uganda"},{"$f":"IF(INTRO!$E$39=\"Non-endemic\",\" \",IF(COUNTRY_INFO!B50=0,\" \",COUNTRY_INFO!B50))","v":"Eastern"},{"$f":"IF(INTRO!$E$39=\"Non-endemic\",\" \",IF(COUNTRY_INFO!C50=0,\" \",COUNTRY_INFO!C50))","v":"Jinja"},{"$f":"IF(INTRO!$E$39=\"Non-endemic\",0,IF(INTRO!$E$39=\"Endemic but PC is not required\",IF(COUNTRY_INFO!$H50=1,COUNTRY_INFO!F50+COUNTRY_INFO!G50,0),IF(COUNTRY_INFO!$H50=1,COUNTRY_INFO!F50+COUNTRY_INFO!G50,IF(COUNTRY_INFO!$I50=1,IF(COUNTRY_INFO!M50>=(COUNTRY_INFO!F50+COUNTRY_INFO!G50),COUNTRY_INFO!F50+COUNTRY_INFO!G50,COUNTRY_INFO!$M50),0))))","v":0},{"$f":"IF(AND(INTRO!$E$39=\"Non-endemic\",INTRO!$E$37=\"Non-endemic\"),\"Not required\",IF(INTRO!$E$39=\"Non-endemic\",\"Treat with DEC\",COUNTRY_INFO!V50))","v":0},{"$f":"IF(INTRO!$E$39<>\"Non-endemic\",COUNTRY_INFO!W50,\"Not required\")","v":0},{"$f":"IF(COUNTRY_INFO!H50=1, IF($E50=1,$D50, 0),0)","v":0},{"$f":"IF(COUNTRY_INFO!I50=1, IF(AND(COUNTRY_INFO!$I50=1,$F50<>0),IF(COUNTRY_INFO!M50>=(COUNTRY_INFO!F50+COUNTRY_INFO!G50),COUNTRY_INFO!F50+COUNTRY_INFO!G50,COUNTRY_INFO!$M50), 0),0)","v":0},0,0,0,0,null,0]
[{"$f":"IF(INTRO!$E$39=\"Non-endemic\",\" \",IF(COUNTRY_INFO!A51=0,\" \",COUNTRY_INFO!A51))","v":"Uganda"},{"$f":"IF(INTRO!$E$39=\"Non-endemic\",\" \",IF(COUNTRY_INFO!B51=0,\" \",COUNTRY_INFO!B51))","v":"Eastern"},{"$f":"IF(INTRO!$E$39=\"Non-endemic\",\" \",IF(COUNTRY_INFO!C51=0,\" \",COUNTRY_INFO!C51))","v":"Jinja City"},{"$f":"IF(INTRO!$E$39=\"Non-endemic\",0,IF(INTRO!$E$39=\"Endemic but PC is not required\",IF(COUNTRY_INFO!$H51=1,COUNTRY_INFO!F51+COUNTRY_INFO!G51,0),IF(COUNTRY_INFO!$H51=1,COUNTRY_INFO!F51+COUNTRY_INFO!G51,IF(COUNTRY_INFO!$I51=1,IF(COUNTRY_INFO!M51>=(COUNTRY_INFO!F51+COUNTRY_INFO!G51),COUNTRY_INFO!F51+COUNTRY_INFO!G51,COUNTRY_INFO!$M51),0))))","v":0},{"$f":"IF(AND(INTRO!$E$39=\"Non-endemic\",INTRO!$E$37=\"Non-endemic\"),\"Not required\",IF(INTRO!$E$39=\"Non-endemic\",\"Treat with DEC\",COUNTRY_INFO!V51))","v":0},{"$f":"IF(INTRO!$E$39<>\"Non-endemic\",COUNTRY_INFO!W51,\"Not required\")","v":0},{"$f":"IF(COUNTRY_INFO!H51=1, IF($E51=1,$D51, 0),0)","v":0},{"$f":"IF(COUNTRY_INFO!I51=1, IF(AND(COUNTRY_INFO!$I51=1,$F51<>0),IF(COUNTRY_INFO!M51>=(COUNTRY_INFO!F51+COUNTRY_INFO!G51),COUNTRY_INFO!F51+COUNTRY_INFO!G51,COUNTRY_INFO!$M51), 0),0)","v":0},0,0,0,0,null,0]
[{"$f":"IF(INTRO!$E$39=\"Non-endemic\",\" \",IF(COUNTRY_INFO!A52=0,\" \",COUNTRY_INFO!A52))","v":"Uganda"},{"$f":"IF(INTRO!$E$39=\"Non-endemic\",\" \",IF(COUNTRY_INFO!B52=0,\" \",COUNTRY_INFO!B52))","v":"Eastern"},{"$f":"IF(INTRO!$E$39=\"Non-endemic\",\" \",IF(COUNTRY_INFO!C52=0,\" \",COUNTRY_INFO!C52))","v":"Kaberamaido"},{"$f":"IF(INTRO!$E$39=\"Non-endemic\",0,IF(INTRO!$E$39=\"Endemic but PC is not required\",IF(COUNTRY_INFO!$H52=1,COUNTRY_INFO!F52+COUNTRY_INFO!G52,0),IF(COUNTRY_INFO!$H52=1,COUNTRY_INFO!F52+COUNTRY_INFO!G52,IF(COUNTRY_INFO!$I52=1,IF(COUNTRY_INFO!M52>=(COUNTRY_INFO!F52+COUNTRY_INFO!G52),COUNTRY_INFO!F52+COUNTRY_INFO!G52,COUNTRY_INFO!$M52),0))))","v":0},{"$f":"IF(AND(INTRO!$E$39=\"Non-endemic\",INTRO!$E$37=\"Non-endemic\"),\"Not required\",IF(INTRO!$E$39=\"Non-endemic\",\"Treat with DEC\",COUNTRY_INFO!V52))","v":0},{"$f":"IF(INTRO!$E$39<>\"Non-endemic\",COUNTRY_INFO!W52,\"Not required\")","v":0},{"$f":"IF(COUNTRY_INFO!H52=1, IF($E52=1,$D52, 0),0)","v":0},{"$f":"IF(COUNTRY_INFO!I52=1, IF(AND(COUNTRY_INFO!$I52=1,$F52<>0),IF(COUNTRY_INFO!M52>=(COUNTRY_INFO!F52+COUNTRY_INFO!G52),COUNTRY_INFO!F52+COUNTRY_INFO!G52,COUNTRY_INFO!$M52), 0),0)","v":0},0,0,0,0,null,0]
[{"$f":"IF(INTRO!$E$39=\"Non-endemic\",\" \",IF(COUNTRY_INFO!A53=0,\" \",COUNTRY_INFO!A53))","v":"Uganda"},{"$f":"IF(INTRO!$E$39=\"Non-endemic\",\" \",IF(COUNTRY_INFO!B53=0,\" \",COUNTRY_INFO!B53))","v":"Eastern"},{"$f":"IF(INTRO!$E$39=\"Non-endemic\",\" \",IF(COUNTRY_INFO!C53=0,\" \",COUNTRY_INFO!C53))","v":"Kalaki"},{"$f":"IF(INTRO!$E$39=\"Non-endemic\",0,IF(INTRO!$E$39=\"Endemic but PC is not required\",IF(COUNTRY_INFO!$H53=1,COUNTRY_INFO!F53+COUNTRY_INFO!G53,0),IF(COUNTRY_INFO!$H53=1,COUNTRY_INFO!F53+COUNTRY_INFO!G53,IF(COUNTRY_INFO!$I53=1,IF(COUNTRY_INFO!M53>=(COUNTRY_INFO!F53+COUNTRY_INFO!G53),COUNTRY_INFO!F53+COUNTRY_INFO!G53,COUNTRY_INFO!$M53),0))))","v":0},{"$f":"IF(AND(INTRO!$E$39=\"Non-endemic\",INTRO!$E$37=\"Non-endemic\"),\"Not required\",IF(INTRO!$E$39=\"Non-endemic\",\"Treat with DEC\",COUNTRY_INFO!V53))","v":0},{"$f":"IF(INTRO!$E$39<>\"Non-endemic\",COUNTRY_INFO!W53,\"Not required\")","v":0},{"$f":"IF(COUNTRY_INFO!H53=1, IF($E53=1,$D53, 0),0)","v":0},{"$f":"IF(COUNTRY_INFO!I53=1, IF(AND(COUNTRY_INFO!$I53=1,$F53<>0),IF(COUNTRY_INFO!M53>=(COUNTRY_INFO!F53+COUNTRY_INFO!G53),COUNTRY_INFO!F53+COUNTRY_INFO!G53,COUNTRY_INFO!$M53), 0),0)","v":0},0,0,0,0,null,0]
[{"$f":"IF(INTRO!$E$39=\"Non-endemic\",\" \",IF(COUNTRY_INFO!A54=0,\" \",COUNTRY_INFO!A54))","v":"Uganda"},{"$f":"IF(INTRO!$E$39=\"Non-endemic\",\" \",IF(COUNTRY_INFO!B54=0,\" \",COUNTRY_INFO!B54))","v":"Eastern"},{"$f":"IF(INTRO!$E$39=\"Non-endemic\",\" \",IF(COUNTRY_INFO!C54=0,\" \",COUNTRY_INFO!C54))","v":"Kaliro"},{"$f":"IF(INTRO!$E$39=\"Non-endemic\",0,IF(INTRO!$E$39=\"Endemic but PC is not required\",IF(COUNTRY_INFO!$H54=1,COUNTRY_INFO!F54+COUNTRY_INFO!G54,0),IF(COUNTRY_INFO!$H54=1,COUNTRY_INFO!F54+COUNTRY_INFO!G54,IF(COUNTRY_INFO!$I54=1,IF(COUNTRY_INFO!M54>=(COUNTRY_INFO!F54+COUNTRY_INFO!G54),COUNTRY_INFO!F54+COUNTRY_INFO!G54,COUNTRY_INFO!$M54),0))))","v":0},{"$f":"IF(AND(INTRO!$E$39=\"Non-endemic\",INTRO!$E$37=\"Non-endemic\"),\"Not required\",IF(INTRO!$E$39=\"Non-endemic\",\"Treat with DEC\",COUNTRY_INFO!V54))","v":0},{"$f":"IF(INTRO!$E$39<>\"Non-endemic\",COUNTRY_INFO!W54,\"Not required\")","v":0},{"$f":"IF(COUNTRY_INFO!H54=1, IF($E54=1,$D54, 0),0)","v":0},{"$f":"IF(COUNTRY_INFO!I54=1, IF(AND(COUNTRY_INFO!$I54=1,$F54<>0),IF(COUNTRY_INFO!M54>=(COUNTRY_INFO!F54+COUNTRY_INFO!G54),COUNTRY_INFO!F54+COUNTRY_INFO!G54,COUNTRY_INFO!$M54), 0),0)","v":0},0,0,0,0,null,0]
[{"$f":"IF(INTRO!$E$39=\"Non-endemic\",\" \",IF(COUNTRY_INFO!A55=0,\" \",COUNTRY_INFO!A55))","v":"Uganda"},{"$f":"IF(INTRO!$E$39=\"Non-endemic\",\" \",IF(COUNTRY_INFO!B55=0,\" \",COUNTRY_INFO!B55))","v":"Eastern"},{"$f":"IF(INTRO!$E$39=\"Non-endemic\",\" \",IF(COUNTRY_INFO!C55=0,\" \",COUNTRY_INFO!C55))","v":"Kamuli"},{"$f":"IF(INTRO!$E$39=\"Non-endemic\",0,IF(INTRO!$E$39=\"Endemic but PC is not required\",IF(COUNTRY_INFO!$H55=1,COUNTRY_INFO!F55+COUNTRY_INFO!G55,0),IF(COUNTRY_INFO!$H55=1,COUNTRY_INFO!F55+COUNTRY_INFO!G55,IF(COUNTRY_INFO!$I55=1,IF(COUNTRY_INFO!M55>=(COUNTRY_INFO!F55+COUNTRY_INFO!G55),COUNTRY_INFO!F55+COUNTRY_INFO!G55,COUNTRY_INFO!$M55),0))))","v":0},{"$f":"IF(AND(INTRO!$E$39=\"Non-endemic\",INTRO!$E$37=\"Non-endemic\"),\"Not required\",IF(INTRO!$E$39=\"Non-endemic\",\"Treat with DEC\",COUNTRY_INFO!V55))","v":0},{"$f":"IF(INTRO!$E$39<>\"Non-endemic\",COUNTRY_INFO!W55,\"Not required\")","v":0},{"$f":"IF(COUNTRY_INFO!H55=1, IF($E55=1,$D55, 0),0)","v":0},{"$f":"IF(COUNTRY_INFO!I55=1, IF(AND(COUNTRY_INFO!$I55=1,$F55<>0),IF(COUNTRY_INFO!M55>=(COUNTRY_INFO!F55+COUNTRY_INFO!G55),COUNTRY_INFO!F55+COUNTRY_INFO!G55,COUNTRY_INFO!$M55), 0),0)","v":0},0,0,0,0,null,0]
[{"$f":"IF(INTRO!$E$39=\"Non-endemic\",\" \",IF(COUNTRY_INFO!A56=0,\" \",COUNTRY_INFO!A56))","v":"Uganda"},{"$f":"IF(INTRO!$E$39=\"Non-endemic\",\" \",IF(COUNTRY_INFO!B56=0,\" \",COUNTRY_INFO!B56))","v":"Eastern"},{"$f":"IF(INTRO!$E$39=\"Non-endemic\",\" \",IF(COUNTRY_INFO!C56=0,\" \",COUNTRY_INFO!C56))","v":"Kapchorwa"},{"$f":"IF(INTRO!$E$39=\"Non-endemic\",0,IF(INTRO!$E$39=\"Endemic but PC is not required\",IF(COUNTRY_INFO!$H56=1,COUNTRY_INFO!F56+COUNTRY_INFO!G56,0),IF(COUNTRY_INFO!$H56=1,COUNTRY_INFO!F56+COUNTRY_INFO!G56,IF(COUNTRY_INFO!$I56=1,IF(COUNTRY_INFO!M56>=(COUNTRY_INFO!F56+COUNTRY_INFO!G56),COUNTRY_INFO!F56+COUNTRY_INFO!G56,COUNTRY_INFO!$M56),0))))","v":0},{"$f":"IF(AND(INTRO!$E$39=\"Non-endemic\",INTRO!$E$37=\"Non-endemic\"),\"Not required\",IF(INTRO!$E$39=\"Non-endemic\",\"Treat with DEC\",COUNTRY_INFO!V56))","v":0},{"$f":"IF(INTRO!$E$39<>\"Non-endemic\",COUNTRY_INFO!W56,\"Not required\")","v":0},{"$f":"IF(COUNTRY_INFO!H56=1, IF($E56=1,$D56, 0),0)","v":0},{"$f":"IF(COUNTRY_INFO!I56=1, IF(AND(COUNTRY_INFO!$I56=1,$F56<>0),IF(COUNTRY_INFO!M56>=(COUNTRY_INFO!F56+COUNTRY_INFO!G56),COUNTRY_INFO!F56+COUNTRY_INFO!G56,COUNTRY_INFO!$M56), 0),0)","v":0},0,0,0,0,null,0]
[{"$f":"IF(INTRO!$E$39=\"Non-endemic\",\" \",IF(COUNTRY_INFO!A57=0,\" \",COUNTRY_INFO!A57))","v":"Uganda"},{"$f":"IF(INTRO!$E$39=\"Non-endemic\",\" \",IF(COUNTRY_INFO!B57=0,\" \",COUNTRY_INFO!B57))","v":"Eastern"},{"$f":"IF(INTRO!$E$39=\"Non-endemic\",\" \",IF(COUNTRY_INFO!C57=0,\" \",COUNTRY_INFO!C57))","v":"Kapelebyong"},{"$f":"IF(INTRO!$E$39=\"Non-endemic\",0,IF(INTRO!$E$39=\"Endemic but PC is not required\",IF(COUNTRY_INFO!$H57=1,COUNTRY_INFO!F57+COUNTRY_INFO!G57,0),IF(COUNTRY_INFO!$H57=1,COUNTRY_INFO!F57+COUNTRY_INFO!G57,IF(COUNTRY_INFO!$I57=1,IF(COUNTRY_INFO!M57>=(COUNTRY_INFO!F57+COUNTRY_INFO!G57),COUNTRY_INFO!F57+COUNTRY_INFO!G57,COUNTRY_INFO!$M57),0))))","v":0},{"$f":"IF(AND(INTRO!$E$39=\"Non-endemic\",INTRO!$E$37=\"Non-endemic\"),\"Not required\",IF(INTRO!$E$39=\"Non-endemic\",\"Treat with DEC\",COUNTRY_INFO!V57))","v":0},{"$f":"IF(INTRO!$E$39<>\"Non-endemic\",COUNTRY_INFO!W57,\"Not required\")","v":0},{"$f":"IF(COUNTRY_INFO!H57=1, IF($E57=1,$D57, 0),0)","v":0},{"$f":"IF(COUNTRY_INFO!I57=1, IF(AND(COUNTRY_INFO!$I57=1,$F57<>0),IF(COUNTRY_INFO!M57>=(COUNTRY_INFO!F57+COUNTRY_INFO!G57),COUNTRY_INFO!F57+COUNTRY_INFO!G57,COUNTRY_INFO!$M57), 0),0)","v":0},0,0,0,0,null,0]
[{"$f":"IF(INTRO!$E$39=\"Non-endemic\",\" \",IF(COUNTRY_INFO!A58=0,\" \",COUNTRY_INFO!A58))","v":"Uganda"},{"$f":"IF(INTRO!$E$39=\"Non-endemic\",\" \",IF(COUNTRY_INFO!B58=0,\" \",COUNTRY_INFO!B58))","v":"Eastern"},{"$f":"IF(INTRO!$E$39=\"Non-endemic\",\" \",IF(COUNTRY_INFO!C58=0,\" \",COUNTRY_INFO!C58))","v":"Katakwi"},{"$f":"IF(INTRO!$E$39=\"Non-endemic\",0,IF(INTRO!$E$39=\"Endemic but PC is not required\",IF(COUNTRY_INFO!$H58=1,COUNTRY_INFO!F58+COUNTRY_INFO!G58,0),IF(COUNTRY_INFO!$H58=1,COUNTRY_INFO!F58+COUNTRY_INFO!G58,IF(COUNTRY_INFO!$I58=1,IF(COUNTRY_INFO!M58>=(COUNTRY_INFO!F58+COUNTRY_INFO!G58),COUNTRY_INFO!F58+COUNTRY_INFO!G58,COUNTRY_INFO!$M58),0))))","v":0},{"$f":"IF(AND(INTRO!$E$39=\"Non-endemic\",INTRO!$E$37=\"Non-endemic\"),\"Not required\",IF(INTRO!$E$39=\"Non-endemic\",\"Treat with DEC\",COUNTRY_INFO!V58))","v":0},{"$f":"IF(INTRO!$E$39<>\"Non-endemic\",COUNTRY_INFO!W58,\"Not required\")","v":0},{"$f":"IF(COUNTRY_INFO!H58=1, IF($E58=1,$D58, 0),0)","v":0},{"$f":"IF(COUNTRY_INFO!I58=1, IF(AND(COUNTRY_INFO!$I58=1,$F58<>0),IF(COUNTRY_INFO!M58>=(COUNTRY_INFO!F58+COUNTRY_INFO!G58),COUNTRY_INFO!F58+COUNTRY_INFO!G58,COUNTRY_INFO!$M58), 0),0)","v":0},0,0,0,0,null,0]
[{"$f":"IF(INTRO!$E$39=\"Non-endemic\",\" \",IF(COUNTRY_INFO!A59=0,\" \",COUNTRY_INFO!A59))","v":"Uganda"},{"$f":"IF(INTRO!$E$39=\"Non-endemic\",\" \",IF(COUNTRY_INFO!B59=0,\" \",COUNTRY_INFO!B59))","v":"Eastern"},{"$f":"IF(INTRO!$E$39=\"Non-endemic\",\" \",IF(COUNTRY_INFO!C59=0,\" \",COUNTRY_INFO!C59))","v":"Kibuku"},{"$f":"IF(INTRO!$E$39=\"Non-endemic\",0,IF(INTRO!$E$39=\"Endemic but PC is not required\",IF(COUNTRY_INFO!$H59=1,COUNTRY_INFO!F59+COUNTRY_INFO!G59,0),IF(COUNTRY_INFO!$H59=1,COUNTRY_INFO!F59+COUNTRY_INFO!G59,IF(COUNTRY_INFO!$I59=1,IF(COUNTRY_INFO!M59>=(COUNTRY_INFO!F59+COUNTRY_INFO!G59),COUNTRY_INFO!F59+COUNTRY_INFO!G59,COUNTRY_INFO!$M59),0))))","v":0},{"$f":"IF(AND(INTRO!$E$39=\"Non-endemic\",INTRO!$E$37=\"Non-endemic\"),\"Not required\",IF(INTRO!$E$39=\"Non-endemic\",\"Treat with DEC\",COUNTRY_INFO!V59))","v":0},{"$f":"IF(INTRO!$E$39<>\"Non-endemic\",COUNTRY_INFO!W59,\"Not required\")","v":0},{"$f":"IF(COUNTRY_INFO!H59=1, IF($E59=1,$D59, 0),0)","v":0},{"$f":"IF(COUNTRY_INFO!I59=1, IF(AND(COUNTRY_INFO!$I59=1,$F59<>0),IF(COUNTRY_INFO!M59>=(COUNTRY_INFO!F59+COUNTRY_INFO!G59),COUNTRY_INFO!F59+COUNTRY_INFO!G59,COUNTRY_INFO!$M59), 0),0)","v":0},0,0,0,0,null,0]
[{"$f":"IF(INTRO!$E$39=\"Non-endemic\",\" \",IF(COUNTRY_INFO!A60=0,\" \",COUNTRY_INFO!A60))","v":"Uganda"},{"$f":"IF(INTRO!$E$39=\"Non-endemic\",\" \",IF(COUNTRY_INFO!B60=0,\" \",COUNTRY_INFO!B60))","v":"Eastern"},{"$f":"IF(INTRO!$E$39=\"Non-endemic\",\" \",IF(COUNTRY_INFO!C60=0,\" \",COUNTRY_INFO!C60))","v":"Kumi"},{"$f":"IF(INTRO!$E$39=\"Non-endemic\",0,IF(INTRO!$E$39=\"Endemic but PC is not required\",IF(COUNTRY_INFO!$H60=1,COUNTRY_INFO!F60+COUNTRY_INFO!G60,0),IF(COUNTRY_INFO!$H60=1,COUNTRY_INFO!F60+COUNTRY_INFO!G60,IF(COUNTRY_INFO!$I60=1,IF(COUNTRY_INFO!M60>=(COUNTRY_INFO!F60+COUNTRY_INFO!G60),COUNTRY_INFO!F60+COUNTRY_INFO!G60,COUNTRY_INFO!$M60),0))))","v":0},{"$f":"IF(AND(INTRO!$E$39=\"Non-endemic\",INTRO!$E$37=\"Non-endemic\"),\"Not required\",IF(INTRO!$E$39=\"Non-endemic\",\"Treat with DEC\",COUNTRY_INFO!V60))","v":0},{"$f":"IF(INTRO!$E$39<>\"Non-endemic\",COUNTRY_INFO!W60,\"Not required\")","v":0},{"$f":"IF(COUNTRY_INFO!H60=1, IF($E60=1,$D60, 0),0)","v":0},{"$f":"IF(COUNTRY_INFO!I60=1, IF(AND(COUNTRY_INFO!$I60=1,$F60<>0),IF(COUNTRY_INFO!M60>=(COUNTRY_INFO!F60+COUNTRY_INFO!G60),COUNTRY_INFO!F60+COUNTRY_INFO!G60,COUNTRY_INFO!$M60), 0),0)","v":0},0,0,0,0,null,0]
[{"$f":"IF(INTRO!$E$39=\"Non-endemic\",\" \",IF(COUNTRY_INFO!A61=0,\" \",COUNTRY_INFO!A61))","v":"Uganda"},{"$f":"IF(INTRO!$E$39=\"Non-endemic\",\" \",IF(COUNTRY_INFO!B61=0,\" \",COUNTRY_INFO!B61))","v":"Eastern"},{"$f":"IF(INTRO!$E$39=\"Non-endemic\",\" \",IF(COUNTRY_INFO!C61=0,\" \",COUNTRY_INFO!C61))","v":"Kween"},{"$f":"IF(INTRO!$E$39=\"Non-endemic\",0,IF(INTRO!$E$39=\"Endemic but PC is not required\",IF(COUNTRY_INFO!$H61=1,COUNTRY_INFO!F61+COUNTRY_INFO!G61,0),IF(COUNTRY_INFO!$H61=1,COUNTRY_INFO!F61+COUNTRY_INFO!G61,IF(COUNTRY_INFO!$I61=1,IF(COUNTRY_INFO!M61>=(COUNTRY_INFO!F61+COUNTRY_INFO!G61),COUNTRY_INFO!F61+COUNTRY_INFO!G61,COUNTRY_INFO!$M61),0))))","v":0},{"$f":"IF(AND(INTRO!$E$39=\"Non-endemic\",INTRO!$E$37=\"Non-endemic\"),\"Not required\",IF(INTRO!$E$39=\"Non-endemic\",\"Treat with DEC\",COUNTRY_INFO!V61))","v":0},{"$f":"IF(INTRO!$E$39<>\"Non-endemic\",COUNTRY_INFO!W61,\"Not required\")","v":0},{"$f":"IF(COUNTRY_INFO!H61=1, IF($E61=1,$D61, 0),0)","v":0},{"$f":"IF(COUNTRY_INFO!I61=1, IF(AND(COUNTRY_INFO!$I61=1,$F61<>0),IF(COUNTRY_INFO!M61>=(COUNTRY_INFO!F61+COUNTRY_INFO!G61),COUNTRY_INFO!F61+COUNTRY_INFO!G61,COUNTRY_INFO!$M61), 0),0)","v":0},0,0,0,0,null,0]
[{"$f":"IF(INTRO!$E$39=\"Non-endemic\",\" \",IF(COUNTRY_INFO!A62=0,\" \",COUNTRY_INFO!A62))","v":"Uganda"},{"$f":"IF(INTRO!$E$39=\"Non-endemic\",\" \",IF(COUNTRY_INFO!B62=0,\" \",COUNTRY_INFO!B62))","v":"Eastern"},{"$f":"IF(INTRO!$E$39=\"Non-endemic\",\" \",IF(COUNTRY_INFO!C62=0,\" \",COUNTRY_INFO!C62))","v":"Luuka"},{"$f":"IF(INTRO!$E$39=\"Non-endemic\",0,IF(INTRO!$E$39=\"Endemic but PC is not required\",IF(COUNTRY_INFO!$H62=1,COUNTRY_INFO!F62+COUNTRY_INFO!G62,0),IF(COUNTRY_INFO!$H62=1,COUNTRY_INFO!F62+COUNTRY_INFO!G62,IF(COUNTRY_INFO!$I62=1,IF(COUNTRY_INFO!M62>=(COUNTRY_INFO!F62+COUNTRY_INFO!G62),COUNTRY_INFO!F62+COUNTRY_INFO!G62,COUNTRY_INFO!$M62),0))))","v":0},{"$f":"IF(AND(INTRO!$E$39=\"Non-endemic\",INTRO!$E$37=\"Non-endemic\"),\"Not required\",IF(INTRO!$E$39=\"Non-endemic\",\"Treat with DEC\",COUNTRY_INFO!V62))","v":0},{"$f":"IF(INTRO!$E$39<>\"Non-endemic\",COUNTRY_INFO!W62,\"Not required\")","v":0},{"$f":"IF(COUNTRY_INFO!H62=1, IF($E62=1,$D62, 0),0)","v":0},{"$f":"IF(COUNTRY_INFO!I62=1, IF(AND(COUNTRY_INFO!$I62=1,$F62<>0),IF(COUNTRY_INFO!M62>=(COUNTRY_INFO!F62+COUNTRY_INFO!G62),COUNTRY_INFO!F62+COUNTRY_INFO!G62,COUNTRY_INFO!$M62), 0),0)","v":0},0,0,0,0,null,0]
[{"$f":"IF(INTRO!$E$39=\"Non-endemic\",\" \",IF(COUNTRY_INFO!A63=0,\" \",COUNTRY_INFO!A63))","v":"Uganda"},{"$f":"IF(INTRO!$E$39=\"Non-endemic\",\" \",IF(COUNTRY_INFO!B63=0,\" \",COUNTRY_INFO!B63))","v":"Eastern"},{"$f":"IF(INTRO!$E$39=\"Non-endemic\",\" \",IF(COUNTRY_INFO!C63=0,\" \",COUNTRY_INFO!C63))","v":"Manafwa"},{"$f":"IF(INTRO!$E$39=\"Non-endemic\",0,IF(INTRO!$E$39=\"Endemic but PC is not required\",IF(COUNTRY_INFO!$H63=1,COUNTRY_INFO!F63+COUNTRY_INFO!G63,0),IF(COUNTRY_INFO!$H63=1,COUNTRY_INFO!F63+COUNTRY_INFO!G63,IF(COUNTRY_INFO!$I63=1,IF(COUNTRY_INFO!M63>=(COUNTRY_INFO!F63+COUNTRY_INFO!G63),COUNTRY_INFO!F63+COUNTRY_INFO!G63,COUNTRY_INFO!$M63),0))))","v":0},{"$f":"IF(AND(INTRO!$E$39=\"Non-endemic\",INTRO!$E$37=\"Non-endemic\"),\"Not required\",IF(INTRO!$E$39=\"Non-endemic\",\"Treat with DEC\",COUNTRY_INFO!V63))","v":0},{"$f":"IF(INTRO!$E$39<>\"Non-endemic\",COUNTRY_INFO!W63,\"Not required\")","v":0},{"$f":"IF(COUNTRY_INFO!H63=1, IF($E63=1,$D63, 0),0)","v":0},{"$f":"IF(COUNTRY_INFO!I63=1, IF(AND(COUNTRY_INFO!$I63=1,$F63<>0),IF(COUNTRY_INFO!M63>=(COUNTRY_INFO!F63+COUNTRY_INFO!G63),COUNTRY_INFO!F63+COUNTRY_INFO!G63,COUNTRY_INFO!$M63), 0),0)","v":0},0,0,0,0,null,0]
[{"$f":"IF(INTRO!$E$39=\"Non-endemic\",\" \",IF(COUNTRY_INFO!A64=0,\" \",COUNTRY_INFO!A64))","v":"Uganda"},{"$f":"IF(INTRO!$E$39=\"Non-endemic\",\" \",IF(COUNTRY_INFO!B64=0,\" \",COUNTRY_INFO!B64))","v":"Eastern"},{"$f":"IF(INTRO!$E$39=\"Non-endemic\",\" \",IF(COUNTRY_INFO!C64=0,\" \",COUNTRY_INFO!C64))","v":"Mayuge"},{"$f":"IF(INTRO!$E$39=\"Non-endemic\",0,IF(INTRO!$E$39=\"Endemic but PC is not required\",IF(COUNTRY_INFO!$H64=1,COUNTRY_INFO!F64+COUNTRY_INFO!G64,0),IF(COUNTRY_INFO!$H64=1,COUNTRY_INFO!F64+COUNTRY_INFO!G64,IF(COUNTRY_INFO!$I64=1,IF(COUNTRY_INFO!M64>=(COUNTRY_INFO!F64+COUNTRY_INFO!G64),COUNTRY_INFO!F64+COUNTRY_INFO!G64,COUNTRY_INFO!$M64),0))))","v":0},{"$f":"IF(AND(INTRO!$E$39=\"Non-endemic\",INTRO!$E$37=\"Non-endemic\"),\"Not required\",IF(INTRO!$E$39=\"Non-endemic\",\"Treat with DEC\",COUNTRY_INFO!V64))","v":0},{"$f":"IF(INTRO!$E$39<>\"Non-endemic\",COUNTRY_INFO!W64,\"Not required\")","v":0},{"$f":"IF(COUNTRY_INFO!H64=1, IF($E64=1,$D64, 0),0)","v":0},{"$f":"IF(COUNTRY_INFO!I64=1, IF(AND(COUNTRY_INFO!$I64=1,$F64<>0),IF(COUNTRY_INFO!M64>=(COUNTRY_INFO!F64+COUNTRY_INFO!G64),COUNTRY_INFO!F64+COUNTRY_INFO!G64,COUNTRY_INFO!$M64), 0),0)","v":0},0,0,0,0,null,0]
[{"$f":"IF(INTRO!$E$39=\"Non-endemic\",\" \",IF(COUNTRY_INFO!A65=0,\" \",COUNTRY_INFO!A65))","v":"Uganda"},{"$f":"IF(INTRO!$E$39=\"Non-endemic\",\" \",IF(COUNTRY_INFO!B65=0,\" \",COUNTRY_INFO!B65))","v":"Eastern"},{"$f":"IF(INTRO!$E$39=\"Non-endemic\",\" \",IF(COUNTRY_INFO!C65=0,\" \",COUNTRY_INFO!C65))","v":"Mbale"},{"$f":"IF(INTRO!$E$39=\"Non-endemic\",0,IF(INTRO!$E$39=\"Endemic but PC is not required\",IF(COUNTRY_INFO!$H65=1,COUNTRY_INFO!F65+COUNTRY_INFO!G65,0),IF(COUNTRY_INFO!$H65=1,COUNTRY_INFO!F65+COUNTRY_INFO!G65,IF(COUNTRY_INFO!$I65=1,IF(COUNTRY_INFO!M65>=(COUNTRY_INFO!F65+COUNTRY_INFO!G65),COUNTRY_INFO!F65+COUNTRY_INFO!G65,COUNTRY_INFO!$M65),0))))","v":0},{"$f":"IF(AND(INTRO!$E$39=\"Non-endemic\",INTRO!$E$37=\"Non-endemic\"),\"Not required\",IF(INTRO!$E$39=\"Non-endemic\",\"Treat with DEC\",COUNTRY_INFO!V65))","v":0},{"$f":"IF(INTRO!$E$39<>\"Non-endemic\",COUNTRY_INFO!W65,\"Not required\")","v":0},{"$f":"IF(COUNTRY_INFO!H65=1, IF($E65=1,$D65, 0),0)","v":0},{"$f":"IF(COUNTRY_INFO!I65=1, IF(AND(COUNTRY_INFO!$I65=1,$F65<>0),IF(COUNTRY_INFO!M65>=(COUNTRY_INFO!F65+COUNTRY_INFO!G65),COUNTRY_INFO!F65+COUNTRY_INFO!G65,COUNTRY_INFO!$M65), 0),0)","v":0},0,0,0,0,null,0]
[{"$f":"IF(INTRO!$E$39=\"Non-endemic\",\" \",IF(COUNTRY_INFO!A66=0,\" \",COUNTRY_INFO!A66))","v":"Uganda"},{"$f":"IF(INTRO!$E$39=\"Non-endemic\",\" \",IF(COUNTRY_INFO!B66=0,\" \",COUNTRY_INFO!B66))","v":"Eastern"},{"$f":"IF(INTRO!$E$39=\"Non-endemic\",\" \",IF(COUNTRY_INFO!C66=0,\" \",COUNTRY_INFO!C66))","v":"Mbale City"},{"$f":"IF(INTRO!$E$39=\"Non-endemic\",0,IF(INTRO!$E$39=\"Endemic but PC is not required\",IF(COUNTRY_INFO!$H66=1,COUNTRY_INFO!F66+COUNTRY_INFO!G66,0),IF(COUNTRY_INFO!$H66=1,COUNTRY_INFO!F66+COUNTRY_INFO!G66,IF(COUNTRY_INFO!$I66=1,IF(COUNTRY_INFO!M66>=(COUNTRY_INFO!F66+COUNTRY_INFO!G66),COUNTRY_INFO!F66+COUNTRY_INFO!G66,COUNTRY_INFO!$M66),0))))","v":0},{"$f":"IF(AND(INTRO!$E$39=\"Non-endemic\",INTRO!$E$37=\"Non-endemic\"),\"Not required\",IF(INTRO!$E$39=\"Non-endemic\",\"Treat with DEC\",COUNTRY_INFO!V66))","v":0},{"$f":"IF(INTRO!$E$39<>\"Non-endemic\",COUNTRY_INFO!W66,\"Not required\")","v":0},{"$f":"IF(COUNTRY_INFO!H66=1, IF($E66=1,$D66, 0),0)","v":0},{"$f":"IF(COUNTRY_INFO!I66=1, IF(AND(COUNTRY_INFO!$I66=1,$F66<>0),IF(COUNTRY_INFO!M66>=(COUNTRY_INFO!F66+COUNTRY_INFO!G66),COUNTRY_INFO!F66+COUNTRY_INFO!G66,COUNTRY_INFO!$M66), 0),0)","v":0},0,0,0,0,null,0]
[{"$f":"IF(INTRO!$E$39=\"Non-endemic\",\" \",IF(COUNTRY_INFO!A67=0,\" \",COUNTRY_INFO!A67))","v":"Uganda"},{"$f":"IF(INTRO!$E$39=\"Non-endemic\",\" \",IF(COUNTRY_INFO!B67=0,\" \",COUNTRY_INFO!B67))","v":"Eastern"},{"$f":"IF(INTRO!$E$39=\"Non-endemic\",\" \",IF(COUNTRY_INFO!C67=0,\" \",COUNTRY_INFO!C67))","v":"Namayingo"},{"$f":"IF(INTRO!$E$39=\"Non-endemic\",0,IF(INTRO!$E$39=\"Endemic but PC is not required\",IF(COUNTRY_INFO!$H67=1,COUNTRY_INFO!F67+COUNTRY_INFO!G67,0),IF(COUNTRY_INFO!$H67=1,COUNTRY_INFO!F67+COUNTRY_INFO!G67,IF(COUNTRY_INFO!$I67=1,IF(COUNTRY_INFO!M67>=(COUNTRY_INFO!F67+COUNTRY_INFO!G67),COUNTRY_INFO!F67+COUNTRY_INFO!G67,COUNTRY_INFO!$M67),0))))","v":0},{"$f":"IF(AND(INTRO!$E$39=\"Non-endemic\",INTRO!$E$37=\"Non-endemic\"),\"Not required\",IF(INTRO!$E$39=\"Non-endemic\",\"Treat with DEC\",COUNTRY_INFO!V67))","v":0},{"$f":"IF(INTRO!$E$39<>\"Non-endemic\",COUNTRY_INFO!W67,\"Not required\")","v":0},{"$f":"IF(COUNTRY_INFO!H67=1, IF($E67=1,$D67, 0),0)","v":0},{"$f":"IF(COUNTRY_INFO!I67=1, IF(AND(COUNTRY_INFO!$I67=1,$F67<>0),IF(COUNTRY_INFO!M67>=(COUNTRY_INFO!F67+COUNTRY_INFO!G67),COUNTRY_INFO!F67+COUNTRY_INFO!G67,COUNTRY_INFO!$M67), 0),0)","v":0},0,0,0,0,null,0]
[{"$f":"IF(INTRO!$E$39=\"Non-endemic\",\" \",IF(COUNTRY_INFO!A68=0,\" \",COUNTRY_INFO!A68))","v":"Uganda"},{"$f":"IF(INTRO!$E$39=\"Non-endemic\",\" \",IF(COUNTRY_INFO!B68=0,\" \",COUNTRY_INFO!B68))","v":"Eastern"},{"$f":"IF(INTRO!$E$39=\"Non-endemic\",\" \",IF(COUNTRY_INFO!C68=0,\" \",COUNTRY_INFO!C68))","v":"Namisindwa"},{"$f":"IF(INTRO!$E$39=\"Non-endemic\",0,IF(INTRO!$E$39=\"Endemic but PC is not required\",IF(COUNTRY_INFO!$H68=1,COUNTRY_INFO!F68+COUNTRY_INFO!G68,0),IF(COUNTRY_INFO!$H68=1,COUNTRY_INFO!F68+COUNTRY_INFO!G68,IF(COUNTRY_INFO!$I68=1,IF(COUNTRY_INFO!M68>=(COUNTRY_INFO!F68+COUNTRY_INFO!G68),COUNTRY_INFO!F68+COUNTRY_INFO!G68,COUNTRY_INFO!$M68),0))))","v":0},{"$f":"IF(AND(INTRO!$E$39=\"Non-endemic\",INTRO!$E$37=\"Non-endemic\"),\"Not required\",IF(INTRO!$E$39=\"Non-endemic\",\"Treat with DEC\",COUNTRY_INFO!V68))","v":0},{"$f":"IF(INTRO!$E$39<>\"Non-endemic\",COUNTRY_INFO!W68,\"Not required\")","v":0},{"$f":"IF(COUNTRY_INFO!H68=1, IF($E68=1,$D68, 0),0)","v":0},{"$f":"IF(COUNTRY_INFO!I68=1, IF(AND(COUNTRY_INFO!$I68=1,$F68<>0),IF(COUNTRY_INFO!M68>=(COUNTRY_INFO!F68+COUNTRY_INFO!G68),COUNTRY_INFO!F68+COUNTRY_INFO!G68,COUNTRY_INFO!$M68), 0),0)","v":0},0,0,0,0,null,0]
[{"$f":"IF(INTRO!$E$39=\"Non-endemic\",\" \",IF(COUNTRY_INFO!A69=0,\" \",COUNTRY_INFO!A69))","v":"Uganda"},{"$f":"IF(INTRO!$E$39=\"Non-endemic\",\" \",IF(COUNTRY_INFO!B69=0,\" \",COUNTRY_INFO!B69))","v":"Eastern"},{"$f":"IF(INTRO!$E$39=\"Non-endemic\",\" \",IF(COUNTRY_INFO!C69=0,\" \",COUNTRY_INFO!C69))","v":"Namutumba"},{"$f":"IF(INTRO!$E$39=\"Non-endemic\",0,IF(INTRO!$E$39=\"Endemic but PC is not required\",IF(COUNTRY_INFO!$H69=1,COUNTRY_INFO!F69+COUNTRY_INFO!G69,0),IF(COUNTRY_INFO!$H69=1,COUNTRY_INFO!F69+COUNTRY_INFO!G69,IF(COUNTRY_INFO!$I69=1,IF(COUNTRY_INFO!M69>=(COUNTRY_INFO!F69+COUNTRY_INFO!G69),COUNTRY_INFO!F69+COUNTRY_INFO!G69,COUNTRY_INFO!$M69),0))))","v":0},{"$f":"IF(AND(INTRO!$E$39=\"Non-endemic\",INTRO!$E$37=\"Non-endemic\"),\"Not required\",IF(INTRO!$E$39=\"Non-endemic\",\"Treat with DEC\",COUNTRY_INFO!V69))","v":0},{"$f":"IF(INTRO!$E$39<>\"Non-endemic\",COUNTRY_INFO!W69,\"Not required\")","v":0},{"$f":"IF(COUNTRY_INFO!H69=1, IF($E69=1,$D69, 0),0)","v":0},{"$f":"IF(COUNTRY_INFO!I69=1, IF(AND(COUNTRY_INFO!$I69=1,$F69<>0),IF(COUNTRY_INFO!M69>=(COUNTRY_INFO!F69+COUNTRY_INFO!G69),COUNTRY_INFO!F69+COUNTRY_INFO!G69,COUNTRY_INFO!$M69), 0),0)","v":0},0,0,0,0,null,0]
[{"$f":"IF(INTRO!$E$39=\"Non-endemic\",\" \",IF(COUNTRY_INFO!A70=0,\" \",COUNTRY_INFO!A70))","v":"Uganda"},{"$f":"IF(INTRO!$E$39=\"Non-endemic\",\" \",IF(COUNTRY_INFO!B70=0,\" \",COUNTRY_INFO!B70))","v":"Eastern"},{"$f":"IF(INTRO!$E$39=\"Non-endemic\",\" \",IF(COUNTRY_INFO!C70=0,\" \",COUNTRY_INFO!C70))","v":"Ngora"},{"$f":"IF(INTRO!$E$39=\"Non-endemic\",0,IF(INTRO!$E$39=\"Endemic but PC is not required\",IF(COUNTRY_INFO!$H70=1,COUNTRY_INFO!F70+COUNTRY_INFO!G70,0),IF(COUNTRY_INFO!$H70=1,COUNTRY_INFO!F70+COUNTRY_INFO!G70,IF(COUNTRY_INFO!$I70=1,IF(COUNTRY_INFO!M70>=(COUNTRY_INFO!F70+COUNTRY_INFO!G70),COUNTRY_INFO!F70+COUNTRY_INFO!G70,COUNTRY_INFO!$M70),0))))","v":0},{"$f":"IF(AND(INTRO!$E$39=\"Non-endemic\",INTRO!$E$37=\"Non-endemic\"),\"Not required\",IF(INTRO!$E$39=\"Non-endemic\",\"Treat with DEC\",COUNTRY_INFO!V70))","v":0},{"$f":"IF(INTRO!$E$39<>\"Non-endemic\",COUNTRY_INFO!W70,\"Not required\")","v":0},{"$f":"IF(COUNTRY_INFO!H70=1, IF($E70=1,$D70, 0),0)","v":0},{"$f":"IF(COUNTRY_INFO!I70=1, IF(AND(COUNTRY_INFO!$I70=1,$F70<>0),IF(COUNTRY_INFO!M70>=(COUNTRY_INFO!F70+COUNTRY_INFO!G70),COUNTRY_INFO!F70+COUNTRY_INFO!G70,COUNTRY_INFO!$M70), 0),0)","v":0},0,0,0,0,null,0]
[{"$f":"IF(INTRO!$E$39=\"Non-endemic\",\" \",IF(COUNTRY_INFO!A71=0,\" \",COUNTRY_INFO!A71))","v":"Uganda"},{"$f":"IF(INTRO!$E$39=\"Non-endemic\",\" \",IF(COUNTRY_INFO!B71=0,\" \",COUNTRY_INFO!B71))","v":"Eastern"},{"$f":"IF(INTRO!$E$39=\"Non-endemic\",\" \",IF(COUNTRY_INFO!C71=0,\" \",COUNTRY_INFO!C71))","v":"Pallisa"},{"$f":"IF(INTRO!$E$39=\"Non-endemic\",0,IF(INTRO!$E$39=\"Endemic but PC is not required\",IF(COUNTRY_INFO!$H71=1,COUNTRY_INFO!F71+COUNTRY_INFO!G71,0),IF(COUNTRY_INFO!$H71=1,COUNTRY_INFO!F71+COUNTRY_INFO!G71,IF(COUNTRY_INFO!$I71=1,IF(COUNTRY_INFO!M71>=(COUNTRY_INFO!F71+COUNTRY_INFO!G71),COUNTRY_INFO!F71+COUNTRY_INFO!G71,COUNTRY_INFO!$M71),0))))","v":0},{"$f":"IF(AND(INTRO!$E$39=\"Non-endemic\",INTRO!$E$37=\"Non-endemic\"),\"Not required\",IF(INTRO!$E$39=\"Non-endemic\",\"Treat with DEC\",COUNTRY_INFO!V71))","v":0},{"$f":"IF(INTRO!$E$39<>\"Non-endemic\",COUNTRY_INFO!W71,\"Not required\")","v":0},{"$f":"IF(COUNTRY_INFO!H71=1, IF($E71=1,$D71, 0),0)","v":0},{"$f":"IF(COUNTRY_INFO!I71=1, IF(AND(COUNTRY_INFO!$I71=1,$F71<>0),IF(COUNTRY_INFO!M71>=(COUNTRY_INFO!F71+COUNTRY_INFO!G71),COUNTRY_INFO!F71+COUNTRY_INFO!G71,COUNTRY_INFO!$M71), 0),0)","v":0},0,0,0,0,null,0]
[{"$f":"IF(INTRO!$E$39=\"Non-endemic\",\" \",IF(COUNTRY_INFO!A72=0,\" \",COUNTRY_INFO!A72))","v":"Uganda"},{"$f":"IF(INTRO!$E$39=\"Non-endemic\",\" \",IF(COUNTRY_INFO!B72=0,\" \",COUNTRY_INFO!B72))","v":"Eastern"},{"$f":"IF(INTRO!$E$39=\"Non-endemic\",\" \",IF(COUNTRY_INFO!C72=0,\" \",COUNTRY_INFO!C72))","v":"Serere"},{"$f":"IF(INTRO!$E$39=\"Non-endemic\",0,IF(INTRO!$E$39=\"Endemic but PC is not required\",IF(COUNTRY_INFO!$H72=1,COUNTRY_INFO!F72+COUNTRY_INFO!G72,0),IF(COUNTRY_INFO!$H72=1,COUNTRY_INFO!F72+COUNTRY_INFO!G72,IF(COUNTRY_INFO!$I72=1,IF(COUNTRY_INFO!M72>=(COUNTRY_INFO!F72+COUNTRY_INFO!G72),COUNTRY_INFO!F72+COUNTRY_INFO!G72,COUNTRY_INFO!$M72),0))))","v":0},{"$f":"IF(AND(INTRO!$E$39=\"Non-endemic\",INTRO!$E$37=\"Non-endemic\"),\"Not required\",IF(INTRO!$E$39=\"Non-endemic\",\"Treat with DEC\",COUNTRY_INFO!V72))","v":0},{"$f":"IF(INTRO!$E$39<>\"Non-endemic\",COUNTRY_INFO!W72,\"Not required\")","v":0},{"$f":"IF(COUNTRY_INFO!H72=1, IF($E72=1,$D72, 0),0)","v":0},{"$f":"IF(COUNTRY_INFO!I72=1, IF(AND(COUNTRY_INFO!$I72=1,$F72<>0),IF(COUNTRY_INFO!M72>=(COUNTRY_INFO!F72+COUNTRY_INFO!G72),COUNTRY_INFO!F72+COUNTRY_INFO!G72,COUNTRY_INFO!$M72), 0),0)","v":0},0,0,0,0,null,0]
[{"$f":"IF(INTRO!$E$39=\"Non-endemic\",\" \",IF(COUNTRY_INFO!A73=0,\" \",COUNTRY_INFO!A73))","v":"Uganda"},{"$f":"IF(INTRO!$E$39=\"Non-endemic\",\" \",IF(COUNTRY_INFO!B73=0,\" \",COUNTRY_INFO!B73))","v":"Eastern"},{"$f":"IF(INTRO!$E$39=\"Non-endemic\",\" \",IF(COUNTRY_INFO!C73=0,\" \",COUNTRY_INFO!C73))","v":"Sironko"},{"$f":"IF(INTRO!$E$39=\"Non-endemic\",0,IF(INTRO!$E$39=\"Endemic but PC is not required\",IF(COUNTRY_INFO!$H73=1,COUNTRY_INFO!F73+COUNTRY_INFO!G73,0),IF(COUNTRY_INFO!$H73=1,COUNTRY_INFO!F73+COUNTRY_INFO!G73,IF(COUNTRY_INFO!$I73=1,IF(COUNTRY_INFO!M73>=(COUNTRY_INFO!F73+COUNTRY_INFO!G73),COUNTRY_INFO!F73+COUNTRY_INFO!G73,COUNTRY_INFO!$M73),0))))","v":0},{"$f":"IF(AND(INTRO!$E$39=\"Non-endemic\",INTRO!$E$37=\"Non-endemic\"),\"Not required\",IF(INTRO!$E$39=\"Non-endemic\",\"Treat with DEC\",COUNTRY_INFO!V73))","v":0},{"$f":"IF(INTRO!$E$39<>\"Non-endemic\",COUNTRY_INFO!W73,\"Not required\")","v":0},{"$f":"IF(COUNTRY_INFO!H73=1, IF($E73=1,$D73, 0),0)","v":0},{"$f":"IF(COUNTRY_INFO!I73=1, IF(AND(COUNTRY_INFO!$I73=1,$F73<>0),IF(COUNTRY_INFO!M73>=(COUNTRY_INFO!F73+COUNTRY_INFO!G73),COUNTRY_INFO!F73+COUNTRY_INFO!G73,COUNTRY_INFO!$M73), 0),0)","v":0},0,0,0,0,null,0]
[{"$f":"IF(INTRO!$E$39=\"Non-endemic\",\" \",IF(COUNTRY_INFO!A74=0,\" \",COUNTRY_INFO!A74))","v":"Uganda"},{"$f":"IF(INTRO!$E$39=\"Non-endemic\",\" \",IF(COUNTRY_INFO!B74=0,\" \",COUNTRY_INFO!B74))","v":"Eastern"},{"$f":"IF(INTRO!$E$39=\"Non-endemic\",\" \",IF(COUNTRY_INFO!C74=0,\" \",COUNTRY_INFO!C74))","v":"Soroti"},{"$f":"IF(INTRO!$E$39=\"Non-endemic\",0,IF(INTRO!$E$39=\"Endemic but PC is not required\",IF(COUNTRY_INFO!$H74=1,COUNTRY_INFO!F74+COUNTRY_INFO!G74,0),IF(COUNTRY_INFO!$H74=1,COUNTRY_INFO!F74+COUNTRY_INFO!G74,IF(COUNTRY_INFO!$I74=1,IF(COUNTRY_INFO!M74>=(COUNTRY_INFO!F74+COUNTRY_INFO!G74),COUNTRY_INFO!F74+COUNTRY_INFO!G74,COUNTRY_INFO!$M74),0))))","v":0},{"$f":"IF(AND(INTRO!$E$39=\"Non-endemic\",INTRO!$E$37=\"Non-endemic\"),\"Not required\",IF(INTRO!$E$39=\"Non-endemic\",\"Treat with DEC\",COUNTRY_INFO!V74))","v":0},{"$f":"IF(INTRO!$E$39<>\"Non-endemic\",COUNTRY_INFO!W74,\"Not required\")","v":0},{"$f":"IF(COUNTRY_INFO!H74=1, IF($E74=1,$D74, 0),0)","v":0},{"$f":"IF(COUNTRY_INFO!I74=1, IF(AND(COUNTRY_INFO!$I74=1,$F74<>0),IF(COUNTRY_INFO!M74>=(COUNTRY_INFO!F74+COUNTRY_INFO!G74),COUNTRY_INFO!F74+COUNTRY_INFO!G74,COUNTRY_INFO!$M74), 0),0)","v":0},{"$f":"IF(G74<H74,0,IF($E74=1, (G74-H74)*2.8, 0))","v":0},{"$f":"IF($E74<$F74, H74*(F74-E74)*2.8, 0)","v":0},0,0,null,0]
[{"$f":"IF(INTRO!$E$39=\"Non-endemic\",\" \",IF(COUNTRY_INFO!A75=0,\" \",COUNTRY_INFO!A75))","v":"Uganda"},{"$f":"IF(INTRO!$E$39=\"Non-endemic\",\" \",IF(COUNTRY_INFO!B75=0,\" \",COUNTRY_INFO!B75))","v":"Eastern"},{"$f":"IF(INTRO!$E$39=\"Non-endemic\",\" \",IF(COUNTRY_INFO!C75=0,\" \",COUNTRY_INFO!C75))","v":"Soroti City"},{"$f":"IF(INTRO!$E$39=\"Non-endemic\",0,IF(INTRO!$E$39=\"Endemic but PC is not required\",IF(COUNTRY_INFO!$H75=1,COUNTRY_INFO!F75+COUNTRY_INFO!G75,0),IF(COUNTRY_INFO!$H75=1,COUNTRY_INFO!F75+COUNTRY_INFO!G75,IF(COUNTRY_INFO!$I75=1,IF(COUNTRY_INFO!M75>=(COUNTRY_INFO!F75+COUNTRY_INFO!G75),COUNTRY_INFO!F75+COUNTRY_INFO!G75,COUNTRY_INFO!$M75),0))))","v":0},{"$f":"IF(AND(INTRO!$E$39=\"Non-endemic\",INTRO!$E$37=\"Non-endemic\"),\"Not required\",IF(INTRO!$E$39=\"Non-endemic\",\"Treat with DEC\",COUNTRY_INFO!V75))","v":0},{"$f":"IF(INTRO!$E$39<>\"Non-endemic\",COUNTRY_INFO!W75,\"Not required\")","v":0},{"$f":"IF(COUNTRY_INFO!H75=1, IF($E75=1,$D75, 0),0)","v":0},{"$f":"IF(COUNTRY_INFO!I75=1, IF(AND(COUNTRY_INFO!$I75=1,$F75<>0),IF(COUNTRY_INFO!M75>=(COUNTRY_INFO!F75+COUNTRY_INFO!G75),COUNTRY_INFO!F75+COUNTRY_INFO!G75,COUNTRY_INFO!$M75), 0),0)","v":0},0,0,{"$f":"IF(AND($E75=1, $F75<>0), H75*2.8, 0)","v":0},{"$f":"SUM(I75:K75)","v":0},null,0]
[{"$f":"IF(INTRO!$E$39=\"Non-endemic\",\" \",IF(COUNTRY_INFO!A76=0,\" \",COUNTRY_INFO!A76))","v":"Uganda"},{"$f":"IF(INTRO!$E$39=\"Non-endemic\",\" \",IF(COUNTRY_INFO!B76=0,\" \",COUNTRY_INFO!B76))","v":"Eastern"},{"$f":"IF(INTRO!$E$39=\"Non-endemic\",\" \",IF(COUNTRY_INFO!C76=0,\" \",COUNTRY_INFO!C76))","v":"Tororo"},{"$f":"IF(INTRO!$E$39=\"Non-endemic\",0,IF(INTRO!$E$39=\"Endemic but PC is not required\",IF(COUNTRY_INFO!$H76=1,COUNTRY_INFO!F76+COUNTRY_INFO!G76,0),IF(COUNTRY_INFO!$H76=1,COUNTRY_INFO!F76+COUNTRY_INFO!G76,IF(COUNTRY_INFO!$I76=1,IF(COUNTRY_INFO!M76>=(COUNTRY_INFO!F76+COUNTRY_INFO!G76),COUNTRY_INFO!F76+COUNTRY_INFO!G76,COUNTRY_INFO!$M76),0))))","v":0},{"$f":"IF(AND(INTRO!$E$39=\"Non-endemic\",INTRO!$E$37=\"Non-endemic\"),\"Not required\",IF(INTRO!$E$39=\"Non-endemic\",\"Treat with DEC\",COUNTRY_INFO!V76))","v":0},{"$f":"IF(INTRO!$E$39<>\"Non-endemic\",COUNTRY_INFO!W76,\"Not required\")","v":0},{"$f":"IF(COUNTRY_INFO!H76=1, IF($E76=1,$D76, 0),0)","v":0},{"$f":"IF(COUNTRY_INFO!I76=1, IF(AND(COUNTRY_INFO!$I76=1,$F76<>0),IF(COUNTRY_INFO!M76>=(COUNTRY_INFO!F76+COUNTRY_INFO!G76),COUNTRY_INFO!F76+COUNTRY_INFO!G76,COUNTRY_INFO!$M76), 0),0)","v":0},0,0,0,0,null,0]
[{"$f":"IF(INTRO!$E$39=\"Non-endemic\",\" \",IF(COUNTRY_INFO!A77=0,\" \",COUNTRY_INFO!A77))","v":"Uganda"},{"$f":"IF(INTRO!$E$39=\"Non-endemic\",\" \",IF(COUNTRY_INFO!B77=0,\" \",COUNTRY_INFO!B77))","v":"Northern"},{"$f":"IF(INTRO!$E$39=\"Non-endemic\",\" \",IF(COUNTRY_INFO!C77=0,\" \",COUNTRY_INFO!C77))","v":"Abim"},{"$f":"IF(INTRO!$E$39=\"Non-endemic\",0,IF(INTRO!$E$39=\"Endemic but PC is not required\",IF(COUNTRY_INFO!$H77=1,COUNTRY_INFO!F77+COUNTRY_INFO!G77,0),IF(COUNTRY_INFO!$H77=1,COUNTRY_INFO!F77+COUNTRY_INFO!G77,IF(COUNTRY_INFO!$I77=1,IF(COUNTRY_INFO!M77>=(COUNTRY_INFO!F77+COUNTRY_INFO!G77),COUNTRY_INFO!F77+COUNTRY_INFO!G77,COUNTRY_INFO!$M77),0))))","v":0},{"$f":"IF(AND(INTRO!$E$39=\"Non-endemic\",INTRO!$E$37=\"Non-endemic\"),\"Not required\",IF(INTRO!$E$39=\"Non-endemic\",\"Treat with DEC\",COUNTRY_INFO!V77))","v":0},{"$f":"IF(INTRO!$E$39<>\"Non-endemic\",COUNTRY_INFO!W77,\"Not required\")","v":0},{"$f":"IF(COUNTRY_INFO!H77=1, IF($E77=1,$D77, 0),0)","v":0},{"$f":"IF(COUNTRY_INFO!I77=1, IF(AND(COUNTRY_INFO!$I77=1,$F77<>0),IF(COUNTRY_INFO!M77>=(COUNTRY_INFO!F77+COUNTRY_INFO!G77),COUNTRY_INFO!F77+COUNTRY_INFO!G77,COUNTRY_INFO!$M77), 0),0)","v":0},0,0,0,0,null,0]
[{"$f":"IF(INTRO!$E$39=\"Non-endemic\",\" \",IF(COUNTRY_INFO!A78=0,\" \",COUNTRY_INFO!A78))","v":"Uganda"},{"$f":"IF(INTRO!$E$39=\"Non-endemic\",\" \",IF(COUNTRY_INFO!B78=0,\" \",COUNTRY_INFO!B78))","v":"Northern"},{"$f":"IF(INTRO!$E$39=\"Non-endemic\",\" \",IF(COUNTRY_INFO!C78=0,\" \",COUNTRY_INFO!C78))","v":"Adjumani"},{"$f":"IF(INTRO!$E$39=\"Non-endemic\",0,IF(INTRO!$E$39=\"Endemic but PC is not required\",IF(COUNTRY_INFO!$H78=1,COUNTRY_INFO!F78+COUNTRY_INFO!G78,0),IF(COUNTRY_INFO!$H78=1,COUNTRY_INFO!F78+COUNTRY_INFO!G78,IF(COUNTRY_INFO!$I78=1,IF(COUNTRY_INFO!M78>=(COUNTRY_INFO!F78+COUNTRY_INFO!G78),COUNTRY_INFO!F78+COUNTRY_INFO!G78,COUNTRY_INFO!$M78),0))))","v":32079},{"$f":"IF(AND(INTRO!$E$39=\"Non-endemic\",INTRO!$E$37=\"Non-endemic\"),\"Not required\",IF(INTRO!$E$39=\"Non-endemic\",\"Treat with DEC\",COUNTRY_INFO!V78))","v":0},{"$f":"IF(INTRO!$E$39<>\"Non-endemic\",COUNTRY_INFO!W78,\"Not required\")","v":2},{"$f":"IF(COUNTRY_INFO!H78=1, IF($E78=1,$D78, 0),0)","v":0},{"$f":"IF(COUNTRY_INFO!I78=1, IF(AND(COUNTRY_INFO!$I78=1,$F78<>0),IF(COUNTRY_INFO!M78>=(COUNTRY_INFO!F78+COUNTRY_INFO!G78),COUNTRY_INFO!F78+COUNTRY_INFO!G78,COUNTRY_INFO!$M78), 0),0)","v":32079},0,179642.4,0,179642.4,0,179642.4]
[{"$f":"IF(INTRO!$E$39=\"Non-endemic\",\" \",IF(COUNTRY_INFO!A79=0,\" \",COUNTRY_INFO!A79))","v":"Uganda"},{"$f":"IF(INTRO!$E$39=\"Non-endemic\",\" \",IF(COUNTRY_INFO!B79=0,\" \",COUNTRY_INFO!B79))","v":"Northern"},{"$f":"IF(INTRO!$E$39=\"Non-endemic\",\" \",IF(COUNTRY_INFO!C79=0,\" \",COUNTRY_INFO!C79))","v":"Agago"},{"$f":"IF(INTRO!$E$39=\"Non-endemic\",0,IF(INTRO!$E$39=\"Endemic but PC is not required\",IF(COUNTRY_INFO!$H79=1,COUNTRY_INFO!F79+COUNTRY_INFO!G79,0),IF(COUNTRY_INFO!$H79=1,COUNTRY_INFO!F79+COUNTRY_INFO!G79,IF(COUNTRY_INFO!$I79=1,IF(COUNTRY_INFO!M79>=(COUNTRY_INFO!F79+COUNTRY_INFO!G79),COUNTRY_INFO!F79+COUNTRY_INFO!G79,COUNTRY_INFO!$M79),0))))","v":0},{"$f":"IF(AND(INTRO!$E$39=\"Non-endemic\",INTRO!$E$37=\"Non-endemic\"),\"Not required\",IF(INTRO!$E$39=\"Non-endemic\",\"Treat with DEC\",COUNTRY_INFO!V79))","v":0},{"$f":"IF(INTRO!$E$39<>\"Non-endemic\",COUNTRY_INFO!W79,\"Not required\")","v":0},{"$f":"IF(COUNTRY_INFO!H79=1, IF($E79=1,$D79, 0),0)","v":0},{"$f":"IF(COUNTRY_INFO!I79=1, IF(AND(COUNTRY_INFO!$I79=1,$F79<>0),IF(COUNTRY_INFO!M79>=(COUNTRY_INFO!F79+COUNTRY_INFO!G79),COUNTRY_INFO!F79+COUNTRY_INFO!G79,COUNTRY_INFO!$M79), 0),0)","v":0},0,0,0,0,null,0]
[{"$f":"IF(INTRO!$E$39=\"Non-endemic\",\" \",IF(COUNTRY_INFO!A80=0,\" \",COUNTRY_INFO!A80))","v":"Uganda"},{"$f":"IF(INTRO!$E$39=\"Non-endemic\",\" \",IF(COUNTRY_INFO!B80=0,\" \",COUNTRY_INFO!B80))","v":"Northern"},{"$f":"IF(INTRO!$E$39=\"Non-endemic\",\" \",IF(COUNTRY_INFO!C80=0,\" \",COUNTRY_INFO!C80))","v":"Alebtong"},{"$f":"IF(INTRO!$E$39=\"Non-endemic\",0,IF(INTRO!$E$39=\"Endemic but PC is not required\",IF(COUNTRY_INFO!$H80=1,COUNTRY_INFO!F80+COUNTRY_INFO!G80,0),IF(COUNTRY_INFO!$H80=1,COUNTRY_INFO!F80+COUNTRY_INFO!G80,IF(COUNTRY_INFO!$I80=1,IF(COUNTRY_INFO!M80>=(COUNTRY_INFO!F80+COUNTRY_INFO!G80),COUNTRY_INFO!F80+COUNTRY_INFO!G80,COUNTRY_INFO!$M80),0))))","v":0},{"$f":"IF(AND(INTRO!$E$39=\"Non-endemic\",INTRO!$E$37=\"Non-endemic\"),\"Not required\",IF(INTRO!$E$39=\"Non-endemic\",\"Treat with DEC\",COUNTRY_INFO!V80))","v":0},{"$f":"IF(INTRO!$E$39<>\"Non-endemic\",COUNTRY_INFO!W80,\"Not required\")","v":0},{"$f":"IF(COUNTRY_INFO!H80=1, IF($E80=1,$D80, 0),0)","v":0},{"$f":"IF(COUNTRY_INFO!I80=1, IF(AND(COUNTRY_INFO!$I80=1,$F80<>0),IF(COUNTRY_INFO!M80>=(COUNTRY_INFO!F80+COUNTRY_INFO!G80),COUNTRY_INFO!F80+COUNTRY_INFO!G80,COUNTRY_INFO!$M80), 0),0)","v":0},0,0,0,0,null,0]
[{"$f":"IF(INTRO!$E$39=\"Non-endemic\",\" \",IF(COUNTRY_INFO!A81=0,\" \",COUNTRY_INFO!A81))","v":"Uganda"},{"$f":"IF(INTRO!$E$39=\"Non-endemic\",\" \",IF(COUNTRY_INFO!B81=0,\" \",COUNTRY_INFO!B81))","v":"Northern"},{"$f":"IF(INTRO!$E$39=\"Non-endemic\",\" \",IF(COUNTRY_INFO!C81=0,\" \",COUNTRY_INFO!C81))","v":"Amolatar"},{"$f":"IF(INTRO!$E$39=\"Non-endemic\",0,IF(INTRO!$E$39=\"Endemic but PC is not required\",IF(COUNTRY_INFO!$H81=1,COUNTRY_INFO!F81+COUNTRY_INFO!G81,0),IF(COUNTRY_INFO!$H81=1,COUNTRY_INFO!F81+COUNTRY_INFO!G81,IF(COUNTRY_INFO!$I81=1,IF(COUNTRY_INFO!M81>=(COUNTRY_INFO!F81+COUNTRY_INFO!G81),COUNTRY_INFO!F81+COUNTRY_INFO!G81,COUNTRY_INFO!$M81),0))))","v":0},{"$f":"IF(AND(INTRO!$E$39=\"Non-endemic\",INTRO!$E$37=\"Non-endemic\"),\"Not required\",IF(INTRO!$E$39=\"Non-endemic\",\"Treat with DEC\",COUNTRY_INFO!V81))","v":0},{"$f":"IF(INTRO!$E$39<>\"Non-endemic\",COUNTRY_INFO!W81,\"Not required\")","v":0},{"$f":"IF(COUNTRY_INFO!H81=1, IF($E81=1,$D81, 0),0)","v":0},{"$f":"IF(COUNTRY_INFO!I81=1, IF(AND(COUNTRY_INFO!$I81=1,$F81<>0),IF(COUNTRY_INFO!M81>=(COUNTRY_INFO!F81+COUNTRY_INFO!G81),COUNTRY_INFO!F81+COUNTRY_INFO!G81,COUNTRY_INFO!$M81), 0),0)","v":0},0,0,0,0,null,0]
[{"$f":"IF(INTRO!$E$39=\"Non-endemic\",\" \",IF(COUNTRY_INFO!A82=0,\" \",COUNTRY_INFO!A82))","v":"Uganda"},{"$f":"IF(INTRO!$E$39=\"Non-endemic\",\" \",IF(COUNTRY_INFO!B82=0,\" \",COUNTRY_INFO!B82))","v":"Northern"},{"$f":"IF(INTRO!$E$39=\"Non-endemic\",\" \",IF(COUNTRY_INFO!C82=0,\" \",COUNTRY_INFO!C82))","v":"Amudat"},{"$f":"IF(INTRO!$E$39=\"Non-endemic\",0,IF(INTRO!$E$39=\"Endemic but PC is not required\",IF(COUNTRY_INFO!$H82=1,COUNTRY_INFO!F82+COUNTRY_INFO!G82,0),IF(COUNTRY_INFO!$H82=1,COUNTRY_INFO!F82+COUNTRY_INFO!G82,IF(COUNTRY_INFO!$I82=1,IF(COUNTRY_INFO!M82>=(COUNTRY_INFO!F82+COUNTRY_INFO!G82),COUNTRY_INFO!F82+COUNTRY_INFO!G82,COUNTRY_INFO!$M82),0))))","v":0},{"$f":"IF(AND(INTRO!$E$39=\"Non-endemic\",INTRO!$E$37=\"Non-endemic\"),\"Not required\",IF(INTRO!$E$39=\"Non-endemic\",\"Treat with DEC\",COUNTRY_INFO!V82))","v":0},{"$f":"IF(INTRO!$E$39<>\"Non-endemic\",COUNTRY_INFO!W82,\"Not required\")","v":0},{"$f":"IF(COUNTRY_INFO!H82=1, IF($E82=1,$D82, 0),0)","v":0},{"$f":"IF(COUNTRY_INFO!I82=1, IF(AND(COUNTRY_INFO!$I82=1,$F82<>0),IF(COUNTRY_INFO!M82>=(COUNTRY_INFO!F82+COUNTRY_INFO!G82),COUNTRY_INFO!F82+COUNTRY_INFO!G82,COUNTRY_INFO!$M82), 0),0)","v":0},0,0,0,0,null,0]
[{"$f":"IF(INTRO!$E$39=\"Non-endemic\",\" \",IF(COUNTRY_INFO!A83=0,\" \",COUNTRY_INFO!A83))","v":"Uganda"},{"$f":"IF(INTRO!$E$39=\"Non-endemic\",\" \",IF(COUNTRY_INFO!B83=0,\" \",COUNTRY_INFO!B83))","v":"Northern"},{"$f":"IF(INTRO!$E$39=\"Non-endemic\",\" \",IF(COUNTRY_INFO!C83=0,\" \",COUNTRY_INFO!C83))","v":"Amuru"},{"$f":"IF(INTRO!$E$39=\"Non-endemic\",0,IF(INTRO!$E$39=\"Endemic but PC is not required\",IF(COUNTRY_INFO!$H83=1,COUNTRY_INFO!F83+COUNTRY_INFO!G83,0),IF(COUNTRY_INFO!$H83=1,COUNTRY_INFO!F83+COUNTRY_INFO!G83,IF(COUNTRY_INFO!$I83=1,IF(COUNTRY_INFO!M83>=(COUNTRY_INFO!F83+COUNTRY_INFO!G83),COUNTRY_INFO!F83+COUNTRY_INFO!G83,COUNTRY_INFO!$M83),0))))","v":211332},{"$f":"IF(AND(INTRO!$E$39=\"Non-endemic\",INTRO!$E$37=\"Non-endemic\"),\"Not required\",IF(INTRO!$E$39=\"Non-endemic\",\"Treat with DEC\",COUNTRY_INFO!V83))","v":0},{"$f":"IF(INTRO!$E$39<>\"Non-endemic\",COUNTRY_INFO!W83,\"Not required\")","v":2},{"$f":"IF(COUNTRY_INFO!H83=1, IF($E83=1,$D83, 0),0)","v":0},{"$f":"IF(COUNTRY_INFO!I83=1, IF(AND(COUNTRY_INFO!$I83=1,$F83<>0),IF(COUNTRY_INFO!M83>=(COUNTRY_INFO!F83+COUNTRY_INFO!G83),COUNTRY_INFO!F83+COUNTRY_INFO!G83,COUNTRY_INFO!$M83), 0),0)","v":211332},0,1183459.2,0,1183459.2,0,1183459.2]
[{"$f":"IF(INTRO!$E$39=\"Non-endemic\",\" \",IF(COUNTRY_INFO!A84=0,\" \",COUNTRY_INFO!A84))","v":"Uganda"},{"$f":"IF(INTRO!$E$39=\"Non-endemic\",\" \",IF(COUNTRY_INFO!B84=0,\" \",COUNTRY_INFO!B84))","v":"Northern"},{"$f":"IF(INTRO!$E$39=\"Non-endemic\",\" \",IF(COUNTRY_INFO!C84=0,\" \",COUNTRY_INFO!C84))","v":"Apac"},{"$f":"IF(INTRO!$E$39=\"Non-endemic\",0,IF(INTRO!$E$39=\"Endemic but PC is not required\",IF(COUNTRY_INFO!$H84=1,COUNTRY_INFO!F84+COUNTRY_INFO!G84,0),IF(COUNTRY_INFO!$H84=1,COUNTRY_INFO!F84+COUNTRY_INFO!G84,IF(COUNTRY_INFO!$I84=1,IF(COUNTRY_INFO!M84>=(COUNTRY_INFO!F84+COUNTRY_INFO!G84),COUNTRY_INFO!F84+COUNTRY_INFO!G84,COUNTRY_INFO!$M84),0))))","v":0},{"$f":"IF(AND(INTRO!$E$39=\"Non-endemic\",INTRO!$E$37=\"Non-endemic\"),\"Not required\",IF(INTRO!$E$39=\"Non-endemic\",\"Treat with DEC\",COUNTRY_INFO!V84))","v":0},{"$f":"IF(INTRO!$E$39<>\"Non-endemic\",COUNTRY_INFO!W84,\"Not required\")","v":0},{"$f":"IF(COUNTRY_INFO!H84=1, IF($E84=1,$D84, 0),0)","v":0},{"$f":"IF(COUNTRY_INFO!I84=1, IF(AND(COUNTRY_INFO!$I84=1,$F84<>0),IF(COUNTRY_INFO!M84>=(COUNTRY_INFO!F84+COUNTRY_INFO!G84),COUNTRY_INFO!F84+COUNTRY_INFO!G84,COUNTRY_INFO!$M84), 0),0)","v":0},0,0,0,0,null,0]
[{"$f":"IF(INTRO!$E$39=\"Non-endemic\",\" \",IF(COUNTRY_INFO!A85=0,\" \",COUNTRY_INFO!A85))","v":"Uganda"},{"$f":"IF(INTRO!$E$39=\"Non-endemic\",\" \",IF(COUNTRY_INFO!B85=0,\" \",COUNTRY_INFO!B85))","v":"Northern"},{"$f":"IF(INTRO!$E$39=\"Non-endemic\",\" \",IF(COUNTRY_INFO!C85=0,\" \",COUNTRY_INFO!C85))","v":"Arua"},{"$f":"IF(INTRO!$E$39=\"Non-endemic\",0,IF(INTRO!$E$39=\"Endemic but PC is not required\",IF(COUNTRY_INFO!$H85=1,COUNTRY_INFO!F85+COUNTRY_INFO!G85,0),IF(COUNTRY_INFO!$H85=1,COUNTRY_INFO!F85+COUNTRY_INFO!G85,IF(COUNTRY_INFO!$I85=1,IF(COUNTRY_INFO!M85>=(COUNTRY_INFO!F85+COUNTRY_INFO!G85),COUNTRY_INFO!F85+COUNTRY_INFO!G85,COUNTRY_INFO!$M85),0))))","v":0},{"$f":"IF(AND(INTRO!$E$39=\"Non-endemic\",INTRO!$E$37=\"Non-endemic\"),\"Not required\",IF(INTRO!$E$39=\"Non-endemic\",\"Treat with DEC\",COUNTRY_INFO!V85))","v":0},{"$f":"IF(INTRO!$E$39<>\"Non-endemic\",COUNTRY_INFO!W85,\"Not required\")","v":0},{"$f":"IF(COUNTRY_INFO!H85=1, IF($E85=1,$D85, 0),0)","v":0},{"$f":"IF(COUNTRY_INFO!I85=1, IF(AND(COUNTRY_INFO!$I85=1,$F85<>0),IF(COUNTRY_INFO!M85>=(COUNTRY_INFO!F85+COUNTRY_INFO!G85),COUNTRY_INFO!F85+COUNTRY_INFO!G85,COUNTRY_INFO!$M85), 0),0)","v":0},0,0,0,0,null,0]
[{"$f":"IF(INTRO!$E$39=\"Non-endemic\",\" \",IF(COUNTRY_INFO!A86=0,\" \",COUNTRY_INFO!A86))","v":"Uganda"},{"$f":"IF(INTRO!$E$39=\"Non-endemic\",\" \",IF(COUNTRY_INFO!B86=0,\" \",COUNTRY_INFO!B86))","v":"Northern"},{"$f":"IF(INTRO!$E$39=\"Non-endemic\",\" \",IF(COUNTRY_INFO!C86=0,\" \",COUNTRY_INFO!C86))","v":"Arua City"},{"$f":"IF(INTRO!$E$39=\"Non-endemic\",0,IF(INTRO!$E$39=\"Endemic but PC is not required\",IF(COUNTRY_INFO!$H86=1,COUNTRY_INFO!F86+COUNTRY_INFO!G86,0),IF(COUNTRY_INFO!$H86=1,COUNTRY_INFO!F86+COUNTRY_INFO!G86,IF(COUNTRY_INFO!$I86=1,IF(COUNTRY_INFO!M86>=(COUNTRY_INFO!F86+COUNTRY_INFO!G86),COUNTRY_INFO!F86+COUNTRY_INFO!G86,COUNTRY_INFO!$M86),0))))","v":0},{"$f":"IF(AND(INTRO!$E$39=\"Non-endemic\",INTRO!$E$37=\"Non-endemic\"),\"Not required\",IF(INTRO!$E$39=\"Non-endemic\",\"Treat with DEC\",COUNTRY_INFO!V86))","v":0},{"$f":"IF(INTRO!$E$39<>\"Non-endemic\",COUNTRY_INFO!W86,\"Not required\")","v":0},{"$f":"IF(COUNTRY_INFO!H86=1, IF($E86=1,$D86, 0),0)","v":0},{"$f":"IF(COUNTRY_INFO!I86=1, IF(AND(COUNTRY_INFO!$I86=1,$F86<>0),IF(COUNTRY_INFO!M86>=(COUNTRY_INFO!F86+COUNTRY_INFO!G86),COUNTRY_INFO!F86+COUNTRY_INFO!G86,COUNTRY_INFO!$M86), 0),0)","v":0},0,0,0,0,null,0]
[{"$f":"IF(INTRO!$E$39=\"Non-endemic\",\" \",IF(COUNTRY_INFO!A87=0,\" \",COUNTRY_INFO!A87))","v":"Uganda"},{"$f":"IF(INTRO!$E$39=\"Non-endemic\",\" \",IF(COUNTRY_INFO!B87=0,\" \",COUNTRY_INFO!B87))","v":"Northern"},{"$f":"IF(INTRO!$E$39=\"Non-endemic\",\" \",IF(COUNTRY_INFO!C87=0,\" \",COUNTRY_INFO!C87))","v":"Dokolo"},{"$f":"IF(INTRO!$E$39=\"Non-endemic\",0,IF(INTRO!$E$39=\"Endemic but PC is not required\",IF(COUNTRY_INFO!$H87=1,COUNTRY_INFO!F87+COUNTRY_INFO!G87,0),IF(COUNTRY_INFO!$H87=1,COUNTRY_INFO!F87+COUNTRY_INFO!G87,IF(COUNTRY_INFO!$I87=1,IF(COUNTRY_INFO!M87>=(COUNTRY_INFO!F87+COUNTRY_INFO!G87),COUNTRY_INFO!F87+COUNTRY_INFO!G87,COUNTRY_INFO!$M87),0))))","v":0},{"$f":"IF(AND(INTRO!$E$39=\"Non-endemic\",INTRO!$E$37=\"Non-endemic\"),\"Not required\",IF(INTRO!$E$39=\"Non-endemic\",\"Treat with DEC\",COUNTRY_INFO!V87))","v":0},{"$f":"IF(INTRO!$E$39<>\"Non-endemic\",COUNTRY_INFO!W87,\"Not required\")","v":0},{"$f":"IF(COUNTRY_INFO!H87=1, IF($E87=1,$D87, 0),0)","v":0},{"$f":"IF(COUNTRY_INFO!I87=1, IF(AND(COUNTRY_INFO!$I87=1,$F87<>0),IF(COUNTRY_INFO!M87>=(COUNTRY_INFO!F87+COUNTRY_INFO!G87),COUNTRY_INFO!F87+COUNTRY_INFO!G87,COUNTRY_INFO!$M87), 0),0)","v":0},0,0,0,0,null,0]
[{"$f":"IF(INTRO!$E$39=\"Non-endemic\",\" \",IF(COUNTRY_INFO!A88=0,\" \",COUNTRY_INFO!A88))","v":"Uganda"},{"$f":"IF(INTRO!$E$39=\"Non-endemic\",\" \",IF(COUNTRY_INFO!B88=0,\" \",COUNTRY_INFO!B88))","v":"Northern"},{"$f":"IF(INTRO!$E$39=\"Non-endemic\",\" \",IF(COUNTRY_INFO!C88=0,\" \",COUNTRY_INFO!C88))","v":"Gulu"},{"$f":"IF(INTRO!$E$39=\"Non-endemic\",0,IF(INTRO!$E$39=\"Endemic but PC is not required\",IF(COUNTRY_INFO!$H88=1,COUNTRY_INFO!F88+COUNTRY_INFO!G88,0),IF(COUNTRY_INFO!$H88=1,COUNTRY_INFO!F88+COUNTRY_INFO!G88,IF(COUNTRY_INFO!$I88=1,IF(COUNTRY_INFO!M88>=(COUNTRY_INFO!F88+COUNTRY_INFO!G88),COUNTRY_INFO!F88+COUNTRY_INFO!G88,COUNTRY_INFO!$M88),0))))","v":139563},{"$f":"IF(AND(INTRO!$E$39=\"Non-endemic\",INTRO!$E$37=\"Non-endemic\"),\"Not required\",IF(INTRO!$E$39=\"Non-endemic\",\"Treat with DEC\",COUNTRY_INFO!V88))","v":0},{"$f":"IF(INTRO!$E$39<>\"Non-endemic\",COUNTRY_INFO!W88,\"Not required\")","v":2},{"$f":"IF(COUNTRY_INFO!H88=1, IF($E88=1,$D88, 0),0)","v":0},{"$f":"IF(COUNTRY_INFO!I88=1, IF(AND(COUNTRY_INFO!$I88=1,$F88<>0),IF(COUNTRY_INFO!M88>=(COUNTRY_INFO!F88+COUNTRY_INFO!G88),COUNTRY_INFO!F88+COUNTRY_INFO!G88,COUNTRY_INFO!$M88), 0),0)","v":139563},0,781552.79999999993,0,781552.79999999993,0,781552.79999999993]
[{"$f":"IF(INTRO!$E$39=\"Non-endemic\",\" \",IF(COUNTRY_INFO!A89=0,\" \",COUNTRY_INFO!A89))","v":"Uganda"},{"$f":"IF(INTRO!$E$39=\"Non-endemic\",\" \",IF(COUNTRY_INFO!B89=0,\" \",COUNTRY_INFO!B89))","v":"Northern"},{"$f":"IF(INTRO!$E$39=\"Non-endemic\",\" \",IF(COUNTRY_INFO!C89=0,\" \",COUNTRY_INFO!C89))","v":"Gulu City"},{"$f":"IF(INTRO!$E$39=\"Non-endemic\",0,IF(INTRO!$E$39=\"Endemic but PC is not required\",IF(COUNTRY_INFO!$H89=1,COUNTRY_INFO!F89+COUNTRY_INFO!G89,0),IF(COUNTRY_INFO!$H89=1,COUNTRY_INFO!F89+COUNTRY_INFO!G89,IF(COUNTRY_INFO!$I89=1,IF(COUNTRY_INFO!M89>=(COUNTRY_INFO!F89+COUNTRY_INFO!G89),COUNTRY_INFO!F89+COUNTRY_INFO!G89,COUNTRY_INFO!$M89),0))))","v":0},{"$f":"IF(AND(INTRO!$E$39=\"Non-endemic\",INTRO!$E$37=\"Non-endemic\"),\"Not required\",IF(INTRO!$E$39=\"Non-endemic\",\"Treat with DEC\",COUNTRY_INFO!V89))","v":0},{"$f":"IF(INTRO!$E$39<>\"Non-endemic\",COUNTRY_INFO!W89,\"Not required\")","v":0},{"$f":"IF(COUNTRY_INFO!H89=1, IF($E89=1,$D89, 0),0)","v":0},{"$f":"IF(COUNTRY_INFO!I89=1, IF(AND(COUNTRY_INFO!$I89=1,$F89<>0),IF(COUNTRY_INFO!M89>=(COUNTRY_INFO!F89+COUNTRY_INFO!G89),COUNTRY_INFO!F89+COUNTRY_INFO!G89,COUNTRY_INFO!$M89), 0),0)","v":0},0,0,0,0,null,0]
[{"$f":"IF(INTRO!$E$39=\"Non-endemic\",\" \",IF(COUNTRY_INFO!A90=0,\" \",COUNTRY_INFO!A90))","v":"Uganda"},{"$f":"IF(INTRO!$E$39=\"Non-endemic\",\" \",IF(COUNTRY_INFO!B90=0,\" \",COUNTRY_INFO!B90))","v":"Northern"},{"$f":"IF(INTRO!$E$39=\"Non-endemic\",\" \",IF(COUNTRY_INFO!C90=0,\" \",COUNTRY_INFO!C90))","v":"Kaabong"},{"$f":"IF(INTRO!$E$39=\"Non-endemic\",0,IF(INTRO!$E$39=\"Endemic but PC is not required\",IF(COUNTRY_INFO!$H90=1,COUNTRY_INFO!F90+COUNTRY_INFO!G90,0),IF(COUNTRY_INFO!$H90=1,COUNTRY_INFO!F90+COUNTRY_INFO!G90,IF(COUNTRY_INFO!$I90=1,IF(COUNTRY_INFO!M90>=(COUNTRY_INFO!F90+COUNTRY_INFO!G90),COUNTRY_INFO!F90+COUNTRY_INFO!G90,COUNTRY_INFO!$M90),0))))","v":0},{"$f":"IF(AND(INTRO!$E$39=\"Non-endemic\",INTRO!$E$37=\"Non-endemic\"),\"Not required\",IF(INTRO!$E$39=\"Non-endemic\",\"Treat with DEC\",COUNTRY_INFO!V90))","v":0},{"$f":"IF(INTRO!$E$39<>\"Non-endemic\",COUNTRY_INFO!W90,\"Not required\")","v":0},{"$f":"IF(COUNTRY_INFO!H90=1, IF($E90=1,$D90, 0),0)","v":0},{"$f":"IF(COUNTRY_INFO!I90=1, IF(AND(COUNTRY_INFO!$I90=1,$F90<>0),IF(COUNTRY_INFO!M90>=(COUNTRY_INFO!F90+COUNTRY_INFO!G90),COUNTRY_INFO!F90+COUNTRY_INFO!G90,COUNTRY_INFO!$M90), 0),0)","v":0},0,0,0,0,null,0]
[{"$f":"IF(INTRO!$E$39=\"Non-endemic\",\" \",IF(COUNTRY_INFO!A91=0,\" \",COUNTRY_INFO!A91))","v":"Uganda"},{"$f":"IF(INTRO!$E$39=\"Non-endemic\",\" \",IF(COUNTRY_INFO!B91=0,\" \",COUNTRY_INFO!B91))","v":"Northern"},{"$f":"IF(INTRO!$E$39=\"Non-endemic\",\" \",IF(COUNTRY_INFO!C91=0,\" \",COUNTRY_INFO!C91))","v":"Karenga"},{"$f":"IF(INTRO!$E$39=\"Non-endemic\",0,IF(INTRO!$E$39=\"Endemic but PC is not required\",IF(COUNTRY_INFO!$H91=1,COUNTRY_INFO!F91+COUNTRY_INFO!G91,0),IF(COUNTRY_INFO!$H91=1,COUNTRY_INFO!F91+COUNTRY_INFO!G91,IF(COUNTRY_INFO!$I91=1,IF(COUNTRY_INFO!M91>=(COUNTRY_INFO!F91+COUNTRY_INFO!G91),COUNTRY_INFO!F91+COUNTRY_INFO!G91,COUNTRY_INFO!$M91),0))))","v":0},{"$f":"IF(AND(INTRO!$E$39=\"Non-endemic\",INTRO!$E$37=\"Non-endemic\"),\"Not required\",IF(INTRO!$E$39=\"Non-endemic\",\"Treat with DEC\",COUNTRY_INFO!V91))","v":0},{"$f":"IF(INTRO!$E$39<>\"Non-endemic\",COUNTRY_INFO!W91,\"Not required\")","v":0},{"$f":"IF(COUNTRY_INFO!H91=1, IF($E91=1,$D91, 0),0)","v":0},{"$f":"IF(COUNTRY_INFO!I91=1, IF(AND(COUNTRY_INFO!$I91=1,$F91<>0),IF(COUNTRY_INFO!M91>=(COUNTRY_INFO!F91+COUNTRY_INFO!G91),COUNTRY_INFO!F91+COUNTRY_INFO!G91,COUNTRY_INFO!$M91), 0),0)","v":0},0,0,0,0,null,0]
[{"$f":"IF(INTRO!$E$39=\"Non-endemic\",\" \",IF(COUNTRY_INFO!A92=0,\" \",COUNTRY_INFO!A92))","v":"Uganda"},{"$f":"IF(INTRO!$E$39=\"Non-endemic\",\" \",IF(COUNTRY_INFO!B92=0,\" \",COUNTRY_INFO!B92))","v":"Northern"},{"$f":"IF(INTRO!$E$39=\"Non-endemic\",\" \",IF(COUNTRY_INFO!C92=0,\" \",COUNTRY_INFO!C92))","v":"Kitgum"},{"$f":"IF(INTRO!$E$39=\"Non-endemic\",0,IF(INTRO!$E$39=\"Endemic but PC is not required\",IF(COUNTRY_INFO!$H92=1,COUNTRY_INFO!F92+COUNTRY_INFO!G92,0),IF(COUNTRY_INFO!$H92=1,COUNTRY_INFO!F92+COUNTRY_INFO!G92,IF(COUNTRY_INFO!$I92=1,IF(COUNTRY_INFO!M92>=(COUNTRY_INFO!F92+COUNTRY_INFO!G92),COUNTRY_INFO!F92+COUNTRY_INFO!G92,COUNTRY_INFO!$M92),0))))","v":101222},{"$f":"IF(AND(INTRO!$E$39=\"Non-endemic\",INTRO!$E$37=\"Non-endemic\"),\"Not required\",IF(INTRO!$E$39=\"Non-endemic\",\"Treat with DEC\",COUNTRY_INFO!V92))","v":0},{"$f":"IF(INTRO!$E$39<>\"Non-endemic\",COUNTRY_INFO!W92,\"Not required\")","v":2},{"$f":"IF(COUNTRY_INFO!H92=1, IF($E92=1,$D92, 0),0)","v":0},{"$f":"IF(COUNTRY_INFO!I92=1, IF(AND(COUNTRY_INFO!$I92=1,$F92<>0),IF(COUNTRY_INFO!M92>=(COUNTRY_INFO!F92+COUNTRY_INFO!G92),COUNTRY_INFO!F92+COUNTRY_INFO!G92,COUNTRY_INFO!$M92), 0),0)","v":101222},0,566843.19999999995,0,566843.19999999995,0,566843.19999999995]
[{"$f":"IF(INTRO!$E$39=\"Non-endemic\",\" \",IF(COUNTRY_INFO!A93=0,\" \",COUNTRY_INFO!A93))","v":"Uganda"},{"$f":"IF(INTRO!$E$39=\"Non-endemic\",\" \",IF(COUNTRY_INFO!B93=0,\" \",COUNTRY_INFO!B93))","v":"Northern"},{"$f":"IF(INTRO!$E$39=\"Non-endemic\",\" \",IF(COUNTRY_INFO!C93=0,\" \",COUNTRY_INFO!C93))","v":"Koboko"},{"$f":"IF(INTRO!$E$39=\"Non-endemic\",0,IF(INTRO!$E$39=\"Endemic but PC is not required\",IF(COUNTRY_INFO!$H93=1,COUNTRY_INFO!F93+COUNTRY_INFO!G93,0),IF(COUNTRY_INFO!$H93=1,COUNTRY_INFO!F93+COUNTRY_INFO!G93,IF(COUNTRY_INFO!$I93=1,IF(COUNTRY_INFO!M93>=(COUNTRY_INFO!F93+COUNTRY_INFO!G93),COUNTRY_INFO!F93+COUNTRY_INFO!G93,COUNTRY_INFO!$M93),0))))","v":0},{"$f":"IF(AND(INTRO!$E$39=\"Non-endemic\",INTRO!$E$37=\"Non-endemic\"),\"Not required\",IF(INTRO!$E$39=\"Non-endemic\",\"Treat with DEC\",COUNTRY_INFO!V93))","v":0},{"$f":"IF(INTRO!$E$39<>\"Non-endemic\",COUNTRY_INFO!W93,\"Not required\")","v":0},{"$f":"IF(COUNTRY_INFO!H93=1, IF($E93=1,$D93, 0),0)","v":0},{"$f":"IF(COUNTRY_INFO!I93=1, IF(AND(COUNTRY_INFO!$I93=1,$F93<>0),IF(COUNTRY_INFO!M93>=(COUNTRY_INFO!F93+COUNTRY_INFO!G93),COUNTRY_INFO!F93+COUNTRY_INFO!G93,COUNTRY_INFO!$M93), 0),0)","v":0},0,0,0,0,null,0]
[{"$f":"IF(INTRO!$E$39=\"Non-endemic\",\" \",IF(COUNTRY_INFO!A94=0,\" \",COUNTRY_INFO!A94))","v":"Uganda"},{"$f":"IF(INTRO!$E$39=\"Non-endemic\",\" \",IF(COUNTRY_INFO!B94=0,\" \",COUNTRY_INFO!B94))","v":"Northern"},{"$f":"IF(INTRO!$E$39=\"Non-endemic\",\" \",IF(COUNTRY_INFO!C94=0,\" \",COUNTRY_INFO!C94))","v":"Kole"},{"$f":"IF(INTRO!$E$39=\"Non-endemic\",0,IF(INTRO!$E$39=\"Endemic but PC is not required\",IF(COUNTRY_INFO!$H94=1,COUNTRY_INFO!F94+COUNTRY_INFO!G94,0),IF(COUNTRY_INFO!$H94=1,COUNTRY_INFO!F94+COUNTRY_INFO!G94,IF(COUNTRY_INFO!$I94=1,IF(COUNTRY_INFO!M94>=(COUNTRY_INFO!F94+COUNTRY_INFO!G94),COUNTRY_INFO!F94+COUNTRY_INFO!G94,COUNTRY_INFO!$M94),0))))","v":0},{"$f":"IF(AND(INTRO!$E$39=\"Non-endemic\",INTRO!$E$37=\"Non-endemic\"),\"Not required\",IF(INTRO!$E$39=\"Non-endemic\",\"Treat with DEC\",COUNTRY_INFO!V94))","v":0},{"$f":"IF(INTRO!$E$39<>\"Non-endemic\",COUNTRY_INFO!W94,\"Not required\")","v":0},{"$f":"IF(COUNTRY_INFO!H94=1, IF($E94=1,$D94, 0),0)","v":0},{"$f":"IF(COUNTRY_INFO!I94=1, IF(AND(COUNTRY_INFO!$I94=1,$F94<>0),IF(COUNTRY_INFO!M94>=(COUNTRY_INFO!F94+COUNTRY_INFO!G94),COUNTRY_INFO!F94+COUNTRY_INFO!G94,COUNTRY_INFO!$M94), 0),0)","v":0},0,0,0,0,null,0]
[{"$f":"IF(INTRO!$E$39=\"Non-endemic\",\" \",IF(COUNTRY_INFO!A95=0,\" \",COUNTRY_INFO!A95))","v":"Uganda"},{"$f":"IF(INTRO!$E$39=\"Non-endemic\",\" \",IF(COUNTRY_INFO!B95=0,\" \",COUNTRY_INFO!B95))","v":"Northern"},{"$f":"IF(INTRO!$E$39=\"Non-endemic\",\" \",IF(COUNTRY_INFO!C95=0,\" \",COUNTRY_INFO!C95))","v":"Kotido"},{"$f":"IF(INTRO!$E$39=\"Non-endemic\",0,IF(INTRO!$E$39=\"Endemic but PC is not required\",IF(COUNTRY_INFO!$H95=1,COUNTRY_INFO!F95+COUNTRY_INFO!G95,0),IF(COUNTRY_INFO!$H95=1,COUNTRY_INFO!F95+COUNTRY_INFO!G95,IF(COUNTRY_INFO!$I95=1,IF(COUNTRY_INFO!M95>=(COUNTRY_INFO!F95+COUNTRY_INFO!G95),COUNTRY_INFO!F95+COUNTRY_INFO!G95,COUNTRY_INFO!$M95),0))))","v":0},{"$f":"IF(AND(INTRO!$E$39=\"Non-endemic\",INTRO!$E$37=\"Non-endemic\"),\"Not required\",IF(INTRO!$E$39=\"Non-endemic\",\"Treat with DEC\",COUNTRY_INFO!V95))","v":0},{"$f":"IF(INTRO!$E$39<>\"Non-endemic\",COUNTRY_INFO!W95,\"Not required\")","v":0},{"$f":"IF(COUNTRY_INFO!H95=1, IF($E95=1,$D95, 0),0)","v":0},{"$f":"IF(COUNTRY_INFO!I95=1, IF(AND(COUNTRY_INFO!$I95=1,$F95<>0),IF(COUNTRY_INFO!M95>=(COUNTRY_INFO!F95+COUNTRY_INFO!G95),COUNTRY_INFO!F95+COUNTRY_INFO!G95,COUNTRY_INFO!$M95), 0),0)","v":0},0,0,0,0,null,0]
[{"$f":"IF(INTRO!$E$39=\"Non-endemic\",\" \",IF(COUNTRY_INFO!A96=0,\" \",COUNTRY_INFO!A96))","v":"Uganda"},{"$f":"IF(INTRO!$E$39=\"Non-endemic\",\" \",IF(COUNTRY_INFO!B96=0,\" \",COUNTRY_INFO!B96))","v":"Northern"},{"$f":"IF(INTRO!$E$39=\"Non-endemic\",\" \",IF(COUNTRY_INFO!C96=0,\" \",COUNTRY_INFO!C96))","v":"Kwania"},{"$f":"IF(INTRO!$E$39=\"Non-endemic\",0,IF(INTRO!$E$39=\"Endemic but PC is not required\",IF(COUNTRY_INFO!$H96=1,COUNTRY_INFO!F96+COUNTRY_INFO!G96,0),IF(COUNTRY_INFO!$H96=1,COUNTRY_INFO!F96+COUNTRY_INFO!G96,IF(COUNTRY_INFO!$I96=1,IF(COUNTRY_INFO!M96>=(COUNTRY_INFO!F96+COUNTRY_INFO!G96),COUNTRY_INFO!F96+COUNTRY_INFO!G96,COUNTRY_INFO!$M96),0))))","v":0},{"$f":"IF(AND(INTRO!$E$39=\"Non-endemic\",INTRO!$E$37=\"Non-endemic\"),\"Not required\",IF(INTRO!$E$39=\"Non-endemic\",\"Treat with DEC\",COUNTRY_INFO!V96))","v":0},{"$f":"IF(INTRO!$E$39<>\"Non-endemic\",COUNTRY_INFO!W96,\"Not required\")","v":0},{"$f":"IF(COUNTRY_INFO!H96=1, IF($E96=1,$D96, 0),0)","v":0},{"$f":"IF(COUNTRY_INFO!I96=1, IF(AND(COUNTRY_INFO!$I96=1,$F96<>0),IF(COUNTRY_INFO!M96>=(COUNTRY_INFO!F96+COUNTRY_INFO!G96),COUNTRY_INFO!F96+COUNTRY_INFO!G96,COUNTRY_INFO!$M96), 0),0)","v":0},0,0,0,0,null,0]
[{"$f":"IF(INTRO!$E$39=\"Non-endemic\",\" \",IF(COUNTRY_INFO!A97=0,\" \",COUNTRY_INFO!A97))","v":"Uganda"},{"$f":"IF(INTRO!$E$39=\"Non-endemic\",\" \",IF(COUNTRY_INFO!B97=0,\" \",COUNTRY_INFO!B97))","v":"Northern"},{"$f":"IF(INTRO!$E$39=\"Non-endemic\",\" \",IF(COUNTRY_INFO!C97=0,\" \",COUNTRY_INFO!C97))","v":"Lamwo"},{"$f":"IF(INTRO!$E$39=\"Non-endemic\",0,IF(INTRO!$E$39=\"Endemic but PC is not required\",IF(COUNTRY_INFO!$H97=1,COUNTRY_INFO!F97+COUNTRY_INFO!G97,0),IF(COUNTRY_INFO!$H97=1,COUNTRY_INFO!F97+COUNTRY_INFO!G97,IF(COUNTRY_INFO!$I97=1,IF(COUNTRY_INFO!M97>=(COUNTRY_INFO!F97+COUNTRY_INFO!G97),COUNTRY_INFO!F97+COUNTRY_INFO!G97,COUNTRY_INFO!$M97),0))))","v":148703},{"$f":"IF(AND(INTRO!$E$39=\"Non-endemic\",INTRO!$E$37=\"Non-endemic\"),\"Not required\",IF(INTRO!$E$39=\"Non-endemic\",\"Treat with DEC\",COUNTRY_INFO!V97))","v":0},{"$f":"IF(INTRO!$E$39<>\"Non-endemic\",COUNTRY_INFO!W97,\"Not required\")","v":2},{"$f":"IF(COUNTRY_INFO!H97=1, IF($E97=1,$D97, 0),0)","v":0},{"$f":"IF(COUNTRY_INFO!I97=1, IF(AND(COUNTRY_INFO!$I97=1,$F97<>0),IF(COUNTRY_INFO!M97>=(COUNTRY_INFO!F97+COUNTRY_INFO!G97),COUNTRY_INFO!F97+COUNTRY_INFO!G97,COUNTRY_INFO!$M97), 0),0)","v":148703},0,832736.79999999993,0,832736.79999999993,0,832736.79999999993]
[{"$f":"IF(INTRO!$E$39=\"Non-endemic\",\" \",IF(COUNTRY_INFO!A98=0,\" \",COUNTRY_INFO!A98))","v":"Uganda"},{"$f":"IF(INTRO!$E$39=\"Non-endemic\",\" \",IF(COUNTRY_INFO!B98=0,\" \",COUNTRY_INFO!B98))","v":"Northern"},{"$f":"IF(INTRO!$E$39=\"Non-endemic\",\" \",IF(COUNTRY_INFO!C98=0,\" \",COUNTRY_INFO!C98))","v":"Lira"},{"$f":"IF(INTRO!$E$39=\"Non-endemic\",0,IF(INTRO!$E$39=\"Endemic but PC is not required\",IF(COUNTRY_INFO!$H98=1,COUNTRY_INFO!F98+COUNTRY_INFO!G98,0),IF(COUNTRY_INFO!$H98=1,COUNTRY_INFO!F98+COUNTRY_INFO!G98,IF(COUNTRY_INFO!$I98=1,IF(COUNTRY_INFO!M98>=(COUNTRY_INFO!F98+COUNTRY_INFO!G98),COUNTRY_INFO!F98+COUNTRY_INFO!G98,COUNTRY_INFO!$M98),0))))","v":75632},{"$f":"IF(AND(INTRO!$E$39=\"Non-endemic\",INTRO!$E$37=\"Non-endemic\"),\"Not required\",IF(INTRO!$E$39=\"Non-endemic\",\"Treat with DEC\",COUNTRY_INFO!V98))","v":0},{"$f":"IF(INTRO!$E$39<>\"Non-endemic\",COUNTRY_INFO!W98,\"Not required\")","v":2},{"$f":"IF(COUNTRY_INFO!H98=1, IF($E98=1,$D98, 0),0)","v":0},{"$f":"IF(COUNTRY_INFO!I98=1, IF(AND(COUNTRY_INFO!$I98=1,$F98<>0),IF(COUNTRY_INFO!M98>=(COUNTRY_INFO!F98+COUNTRY_INFO!G98),COUNTRY_INFO!F98+COUNTRY_INFO!G98,COUNTRY_INFO!$M98), 0),0)","v":75632},0,423539.19999999995,0,423539.19999999995,0,423539.19999999995]
[{"$f":"IF(INTRO!$E$39=\"Non-endemic\",\" \",IF(COUNTRY_INFO!A99=0,\" \",COUNTRY_INFO!A99))","v":"Uganda"},{"$f":"IF(INTRO!$E$39=\"Non-endemic\",\" \",IF(COUNTRY_INFO!B99=0,\" \",COUNTRY_INFO!B99))","v":"Northern"},{"$f":"IF(INTRO!$E$39=\"Non-endemic\",\" \",IF(COUNTRY_INFO!C99=0,\" \",COUNTRY_INFO!C99))","v":"Lira City"},{"$f":"IF(INTRO!$E$39=\"Non-endemic\",0,IF(INTRO!$E$39=\"Endemic but PC is not required\",IF(COUNTRY_INFO!$H99=1,COUNTRY_INFO!F99+COUNTRY_INFO!G99,0),IF(COUNTRY_INFO!$H99=1,COUNTRY_INFO!F99+COUNTRY_INFO!G99,IF(COUNTRY_INFO!$I99=1,IF(COUNTRY_INFO!M99>=(COUNTRY_INFO!F99+COUNTRY_INFO!G99),COUNTRY_INFO!F99+COUNTRY_INFO!G99,COUNTRY_INFO!$M99),0))))","v":0},{"$f":"IF(AND(INTRO!$E$39=\"Non-endemic\",INTRO!$E$37=\"Non-endemic\"),\"Not required\",IF(INTRO!$E$39=\"Non-endemic\",\"Treat with DEC\",COUNTRY_INFO!V99))","v":0},{"$f":"IF(INTRO!$E$39<>\"Non-endemic\",COUNTRY_INFO!W99,\"Not required\")","v":0},{"$f":"IF(COUNTRY_INFO!H99=1, IF($E99=1,$D99, 0),0)","v":0},{"$f":"IF(COUNTRY_INFO!I99=1, IF(AND(COUNTRY_INFO!$I99=1,$F99<>0),IF(COUNTRY_INFO!M99>=(COUNTRY_INFO!F99+COUNTRY_INFO!G99),COUNTRY_INFO!F99+COUNTRY_INFO!G99,COUNTRY_INFO!$M99), 0),0)","v":0},0,0,0,0,null,0]
[{"$f":"IF(INTRO!$E$39=\"Non-endemic\",\" \",IF(COUNTRY_INFO!A100=0,\" \",COUNTRY_INFO!A100))","v":"Uganda"},{"$f":"IF(INTRO!$E$39=\"Non-endemic\",\" \",IF(COUNTRY_INFO!B100=0,\" \",COUNTRY_INFO!B100))","v":"Northern"},{"$f":"IF(INTRO!$E$39=\"Non-endemic\",\" \",IF(COUNTRY_INFO!C100=0,\" \",COUNTRY_INFO!C100))","v":"Madi Okollo"},{"$f":"IF(INTRO!$E$39=\"Non-endemic\",0,IF(INTRO!$E$39=\"Endemic but PC is not required\",IF(COUNTRY_INFO!$H100=1,COUNTRY_INFO!F100+COUNTRY_INFO!G100,0),IF(COUNTRY_INFO!$H100=1,COUNTRY_INFO!F100+COUNTRY_INFO!G100,IF(COUNTRY_INFO!$I100=1,IF(COUNTRY_INFO!M100>=(COUNTRY_INFO!F100+COUNTRY_INFO!G100),COUNTRY_INFO!F100+COUNTRY_INFO!G100,COUNTRY_INFO!$M100),0))))","v":0},{"$f":"IF(AND(INTRO!$E$39=\"Non-endemic\",INTRO!$E$37=\"Non-endemic\"),\"Not required\",IF(INTRO!$E$39=\"Non-endemic\",\"Treat with DEC\",COUNTRY_INFO!V100))","v":0},{"$f":"IF(INTRO!$E$39<>\"Non-endemic\",COUNTRY_INFO!W100,\"Not required\")","v":0},{"$f":"IF(COUNTRY_INFO!H100=1, IF($E100=1,$D100, 0),0)","v":0},{"$f":"IF(COUNTRY_INFO!I100=1, IF(AND(COUNTRY_INFO!$I100=1,$F100<>0),IF(COUNTRY_INFO!M100>=(COUNTRY_INFO!F100+COUNTRY_INFO!G100),COUNTRY_INFO!F100+COUNTRY_INFO!G100,COUNTRY_INFO!$M100), 0),0)","v":0},0,0,0,0,null,0]
[{"$f":"IF(INTRO!$E$39=\"Non-endemic\",\" \",IF(COUNTRY_INFO!A101=0,\" \",COUNTRY_INFO!A101))","v":"Uganda"},{"$f":"IF(INTRO!$E$39=\"Non-endemic\",\" \",IF(COUNTRY_INFO!B101=0,\" \",COUNTRY_INFO!B101))","v":"Northern"},{"$f":"IF(INTRO!$E$39=\"Non-endemic\",\" \",IF(COUNTRY_INFO!C101=0,\" \",COUNTRY_INFO!C101))","v":"Maracha"},{"$f":"IF(INTRO!$E$39=\"Non-endemic\",0,IF(INTRO!$E$39=\"Endemic but PC is not required\",IF(COUNTRY_INFO!$H101=1,COUNTRY_INFO!F101+COUNTRY_INFO!G101,0),IF(COUNTRY_INFO!$H101=1,COUNTRY_INFO!F101+COUNTRY_INFO!G101,IF(COUNTRY_INFO!$I101=1,IF(COUNTRY_INFO!M101>=(COUNTRY_INFO!F101+COUNTRY_INFO!G101),COUNTRY_INFO!F101+COUNTRY_INFO!G101,COUNTRY_INFO!$M101),0))))","v":0},{"$f":"IF(AND(INTRO!$E$39=\"Non-endemic\",INTRO!$E$37=\"Non-endemic\"),\"Not required\",IF(INTRO!$E$39=\"Non-endemic\",\"Treat with DEC\",COUNTRY_INFO!V101))","v":0},{"$f":"IF(INTRO!$E$39<>\"Non-endemic\",COUNTRY_INFO!W101,\"Not required\")","v":0},{"$f":"IF(COUNTRY_INFO!H101=1, IF($E101=1,$D101, 0),0)","v":0},{"$f":"IF(COUNTRY_INFO!I101=1, IF(AND(COUNTRY_INFO!$I101=1,$F101<>0),IF(COUNTRY_INFO!M101>=(COUNTRY_INFO!F101+COUNTRY_INFO!G101),COUNTRY_INFO!F101+COUNTRY_INFO!G101,COUNTRY_INFO!$M101), 0),0)","v":0},0,0,0,0,null,0]
[{"$f":"IF(INTRO!$E$39=\"Non-endemic\",\" \",IF(COUNTRY_INFO!A102=0,\" \",COUNTRY_INFO!A102))","v":"Uganda"},{"$f":"IF(INTRO!$E$39=\"Non-endemic\",\" \",IF(COUNTRY_INFO!B102=0,\" \",COUNTRY_INFO!B102))","v":"Northern"},{"$f":"IF(INTRO!$E$39=\"Non-endemic\",\" \",IF(COUNTRY_INFO!C102=0,\" \",COUNTRY_INFO!C102))","v":"Moroto"},{"$f":"IF(INTRO!$E$39=\"Non-endemic\",0,IF(INTRO!$E$39=\"Endemic but PC is not required\",IF(COUNTRY_INFO!$H102=1,COUNTRY_INFO!F102+COUNTRY_INFO!G102,0),IF(COUNTRY_INFO!$H102=1,COUNTRY_INFO!F102+COUNTRY_INFO!G102,IF(COUNTRY_INFO!$I102=1,IF(COUNTRY_INFO!M102>=(COUNTRY_INFO!F102+COUNTRY_INFO!G102),COUNTRY_INFO!F102+COUNTRY_INFO!G102,COUNTRY_INFO!$M102),0))))","v":0},{"$f":"IF(AND(INTRO!$E$39=\"Non-endemic\",INTRO!$E$37=\"Non-endemic\"),\"Not required\",IF(INTRO!$E$39=\"Non-endemic\",\"Treat with DEC\",COUNTRY_INFO!V102))","v":0},{"$f":"IF(INTRO!$E$39<>\"Non-endemic\",COUNTRY_INFO!W102,\"Not required\")","v":0},{"$f":"IF(COUNTRY_INFO!H102=1, IF($E102=1,$D102, 0),0)","v":0},{"$f":"IF(COUNTRY_INFO!I102=1, IF(AND(COUNTRY_INFO!$I102=1,$F102<>0),IF(COUNTRY_INFO!M102>=(COUNTRY_INFO!F102+COUNTRY_INFO!G102),COUNTRY_INFO!F102+COUNTRY_INFO!G102,COUNTRY_INFO!$M102), 0),0)","v":0},0,0,0,0,null,0]
[{"$f":"IF(INTRO!$E$39=\"Non-endemic\",\" \",IF(COUNTRY_INFO!A103=0,\" \",COUNTRY_INFO!A103))","v":"Uganda"},{"$f":"IF(INTRO!$E$39=\"Non-endemic\",\" \",IF(COUNTRY_INFO!B103=0,\" \",COUNTRY_INFO!B103))","v":"Northern"},{"$f":"IF(INTRO!$E$39=\"Non-endemic\",\" \",IF(COUNTRY_INFO!C103=0,\" \",COUNTRY_INFO!C103))","v":"Moyo"},{"$f":"IF(INTRO!$E$39=\"Non-endemic\",0,IF(INTRO!$E$39=\"Endemic but PC is not required\",IF(COUNTRY_INFO!$H103=1,COUNTRY_INFO!F103+COUNTRY_INFO!G103,0),IF(COUNTRY_INFO!$H103=1,COUNTRY_INFO!F103+COUNTRY_INFO!G103,IF(COUNTRY_INFO!$I103=1,IF(COUNTRY_INFO!M103>=(COUNTRY_INFO!F103+COUNTRY_INFO!G103),COUNTRY_INFO!F103+COUNTRY_INFO!G103,COUNTRY_INFO!$M103),0))))","v":98811},{"$f":"IF(AND(INTRO!$E$39=\"Non-endemic\",INTRO!$E$37=\"Non-endemic\"),\"Not required\",IF(INTRO!$E$39=\"Non-endemic\",\"Treat with DEC\",COUNTRY_INFO!V103))","v":0},{"$f":"IF(INTRO!$E$39<>\"Non-endemic\",COUNTRY_INFO!W103,\"Not required\")","v":2},{"$f":"IF(COUNTRY_INFO!H103=1, IF($E103=1,$D103, 0),0)","v":0},{"$f":"IF(COUNTRY_INFO!I103=1, IF(AND(COUNTRY_INFO!$I103=1,$F103<>0),IF(COUNTRY_INFO!M103>=(COUNTRY_INFO!F103+COUNTRY_INFO!G103),COUNTRY_INFO!F103+COUNTRY_INFO!G103,COUNTRY_INFO!$M103), 0),0)","v":98811},0,553341.6,0,553341.6,0,553341.6]
[{"$f":"IF(INTRO!$E$39=\"Non-endemic\",\" \",IF(COUNTRY_INFO!A104=0,\" \",COUNTRY_INFO!A104))","v":"Uganda"},{"$f":"IF(INTRO!$E$39=\"Non-endemic\",\" \",IF(COUNTRY_INFO!B104=0,\" \",COUNTRY_INFO!B104))","v":"Northern"},{"$f":"IF(INTRO!$E$39=\"Non-endemic\",\" \",IF(COUNTRY_INFO!C104=0,\" \",COUNTRY_INFO!C104))","v":"Nabilatuk"},{"$f":"IF(INTRO!$E$39=\"Non-endemic\",0,IF(INTRO!$E$39=\"Endemic but PC is not required\",IF(COUNTRY_INFO!$H104=1,COUNTRY_INFO!F104+COUNTRY_INFO!G104,0),IF(COUNTRY_INFO!$H104=1,COUNTRY_INFO!F104+COUNTRY_INFO!G104,IF(COUNTRY_INFO!$I104=1,IF(COUNTRY_INFO!M104>=(COUNTRY_INFO!F104+COUNTRY_INFO!G104),COUNTRY_INFO!F104+COUNTRY_INFO!G104,COUNTRY_INFO!$M104),0))))","v":0},{"$f":"IF(AND(INTRO!$E$39=\"Non-endemic\",INTRO!$E$37=\"Non-endemic\"),\"Not required\",IF(INTRO!$E$39=\"Non-endemic\",\"Treat with DEC\",COUNTRY_INFO!V104))","v":0},{"$f":"IF(INTRO!$E$39<>\"Non-endemic\",COUNTRY_INFO!W104,\"Not required\")","v":0},{"$f":"IF(COUNTRY_INFO!H104=1, IF($E104=1,$D104, 0),0)","v":0},{"$f":"IF(COUNTRY_INFO!I104=1, IF(AND(COUNTRY_INFO!$I104=1,$F104<>0),IF(COUNTRY_INFO!M104>=(COUNTRY_INFO!F104+COUNTRY_INFO!G104),COUNTRY_INFO!F104+COUNTRY_INFO!G104,COUNTRY_INFO!$M104), 0),0)","v":0},0,0,0,0,null,0]
[{"$f":"IF(INTRO!$E$39=\"Non-endemic\",\" \",IF(COUNTRY_INFO!A105=0,\" \",COUNTRY_INFO!A105))","v":"Uganda"},{"$f":"IF(INTRO!$E$39=\"Non-endemic\",\" \",IF(COUNTRY_INFO!B105=0,\" \",COUNTRY_INFO!B105))","v":"Northern"},{"$f":"IF(INTRO!$E$39=\"Non-endemic\",\" \",IF(COUNTRY_INFO!C105=0,\" \",COUNTRY_INFO!C105))","v":"Nakapiripirit"},{"$f":"IF(INTRO!$E$39=\"Non-endemic\",0,IF(INTRO!$E$39=\"Endemic but PC is not required\",IF(COUNTRY_INFO!$H105=1,COUNTRY_INFO!F105+COUNTRY_INFO!G105,0),IF(COUNTRY_INFO!$H105=1,COUNTRY_INFO!F105+COUNTRY_INFO!G105,IF(COUNTRY_INFO!$I105=1,IF(COUNTRY_INFO!M105>=(COUNTRY_INFO!F105+COUNTRY_INFO!G105),COUNTRY_INFO!F105+COUNTRY_INFO!G105,COUNTRY_INFO!$M105),0))))","v":0},{"$f":"IF(AND(INTRO!$E$39=\"Non-endemic\",INTRO!$E$37=\"Non-endemic\"),\"Not required\",IF(INTRO!$E$39=\"Non-endemic\",\"Treat with DEC\",COUNTRY_INFO!V105))","v":0},{"$f":"IF(INTRO!$E$39<>\"Non-endemic\",COUNTRY_INFO!W105,\"Not required\")","v":0},{"$f":"IF(COUNTRY_INFO!H105=1, IF($E105=1,$D105, 0),0)","v":0},{"$f":"IF(COUNTRY_INFO!I105=1, IF(AND(COUNTRY_INFO!$I105=1,$F105<>0),IF(COUNTRY_INFO!M105>=(COUNTRY_INFO!F105+COUNTRY_INFO!G105),COUNTRY_INFO!F105+COUNTRY_INFO!G105,COUNTRY_INFO!$M105), 0),0)","v":0},0,0,0,0,null,0]
[{"$f":"IF(INTRO!$E$39=\"Non-endemic\",\" \",IF(COUNTRY_INFO!A106=0,\" \",COUNTRY_INFO!A106))","v":"Uganda"},{"$f":"IF(INTRO!$E$39=\"Non-endemic\",\" \",IF(COUNTRY_INFO!B106=0,\" \",COUNTRY_INFO!B106))","v":"Northern"},{"$f":"IF(INTRO!$E$39=\"Non-endemic\",\" \",IF(COUNTRY_INFO!C106=0,\" \",COUNTRY_INFO!C106))","v":"Napak"},{"$f":"IF(INTRO!$E$39=\"Non-endemic\",0,IF(INTRO!$E$39=\"Endemic but PC is not required\",IF(COUNTRY_INFO!$H106=1,COUNTRY_INFO!F106+COUNTRY_INFO!G106,0),IF(COUNTRY_INFO!$H106=1,COUNTRY_INFO!F106+COUNTRY_INFO!G106,IF(COUNTRY_INFO!$I106=1,IF(COUNTRY_INFO!M106>=(COUNTRY_INFO!F106+COUNTRY_INFO!G106),COUNTRY_INFO!F106+COUNTRY_INFO!G106,COUNTRY_INFO!$M106),0))))","v":0},{"$f":"IF(AND(INTRO!$E$39=\"Non-endemic\",INTRO!$E$37=\"Non-endemic\"),\"Not required\",IF(INTRO!$E$39=\"Non-endemic\",\"Treat with DEC\",COUNTRY_INFO!V106))","v":0},{"$f":"IF(INTRO!$E$39<>\"Non-endemic\",COUNTRY_INFO!W106,\"Not required\")","v":0},{"$f":"IF(COUNTRY_INFO!H106=1, IF($E106=1,$D106, 0),0)","v":0},{"$f":"IF(COUNTRY_INFO!I106=1, IF(AND(COUNTRY_INFO!$I106=1,$F106<>0),IF(COUNTRY_INFO!M106>=(COUNTRY_INFO!F106+COUNTRY_INFO!G106),COUNTRY_INFO!F106+COUNTRY_INFO!G106,COUNTRY_INFO!$M106), 0),0)","v":0},{"$f":"IF(G106<H106,0,IF($E106=1, (G106-H106)*2.8, 0))","v":0},{"$f":"IF($E106<$F106, H106*(F106-E106)*2.8, 0)","v":0},0,0,null,0]
[{"$f":"IF(INTRO!$E$39=\"Non-endemic\",\" \",IF(COUNTRY_INFO!A107=0,\" \",COUNTRY_INFO!A107))","v":"Uganda"},{"$f":"IF(INTRO!$E$39=\"Non-endemic\",\" \",IF(COUNTRY_INFO!B107=0,\" \",COUNTRY_INFO!B107))","v":"Northern"},{"$f":"IF(INTRO!$E$39=\"Non-endemic\",\" \",IF(COUNTRY_INFO!C107=0,\" \",COUNTRY_INFO!C107))","v":"Nebbi"},{"$f":"IF(INTRO!$E$39=\"Non-endemic\",0,IF(INTRO!$E$39=\"Endemic but PC is not required\",IF(COUNTRY_INFO!$H107=1,COUNTRY_INFO!F107+COUNTRY_INFO!G107,0),IF(COUNTRY_INFO!$H107=1,COUNTRY_INFO!F107+COUNTRY_INFO!G107,IF(COUNTRY_INFO!$I107=1,IF(COUNTRY_INFO!M107>=(COUNTRY_INFO!F107+COUNTRY_INFO!G107),COUNTRY_INFO!F107+COUNTRY_INFO!G107,COUNTRY_INFO!$M107),0))))","v":0},{"$f":"IF(AND(INTRO!$E$39=\"Non-endemic\",INTRO!$E$37=\"Non-endemic\"),\"Not required\",IF(INTRO!$E$39=\"Non-endemic\",\"Treat with DEC\",COUNTRY_INFO!V107))","v":0},{"$f":"IF(INTRO!$E$39<>\"Non-endemic\",COUNTRY_INFO!W107,\"Not required\")","v":0},{"$f":"IF(COUNTRY_INFO!H107=1, IF($E107=1,$D107, 0),0)","v":0},{"$f":"IF(COUNTRY_INFO!I107=1, IF(AND(COUNTRY_INFO!$I107=1,$F107<>0),IF(COUNTRY_INFO!M107>=(COUNTRY_INFO!F107+COUNTRY_INFO!G107),COUNTRY_INFO!F107+COUNTRY_INFO!G107,COUNTRY_INFO!$M107), 0),0)","v":0},0,0,0,0,null,0]
[{"$f":"IF(INTRO!$E$39=\"Non-endemic\",\" \",IF(COUNTRY_INFO!A108=0,\" \",COUNTRY_INFO!A108))","v":"Uganda"},{"$f":"IF(INTRO!$E$39=\"Non-endemic\",\" \",IF(COUNTRY_INFO!B108=0,\" \",COUNTRY_INFO!B108))","v":"Northern"},{"$f":"IF(INTRO!$E$39=\"Non-endemic\",\" \",IF(COUNTRY_INFO!C108=0,\" \",COUNTRY_INFO!C108))","v":"Nwoya"},{"$f":"IF(INTRO!$E$39=\"Non-endemic\",0,IF(INTRO!$E$39=\"Endemic but PC is not required\",IF(COUNTRY_INFO!$H108=1,COUNTRY_INFO!F108+COUNTRY_INFO!G108,0),IF(COUNTRY_INFO!$H108=1,COUNTRY_INFO!F108+COUNTRY_INFO!G108,IF(COUNTRY_INFO!$I108=1,IF(COUNTRY_INFO!M108>=(COUNTRY_INFO!F108+COUNTRY_INFO!G108),COUNTRY_INFO!F108+COUNTRY_INFO!G108,COUNTRY_INFO!$M108),0))))","v":142095},{"$f":"IF(AND(INTRO!$E$39=\"Non-endemic\",INTRO!$E$37=\"Non-endemic\"),\"Not required\",IF(INTRO!$E$39=\"Non-endemic\",\"Treat with DEC\",COUNTRY_INFO!V108))","v":0},{"$f":"IF(INTRO!$E$39<>\"Non-endemic\",COUNTRY_INFO!W108,\"Not required\")","v":2},{"$f":"IF(COUNTRY_INFO!H108=1, IF($E108=1,$D108, 0),0)","v":0},{"$f":"IF(COUNTRY_INFO!I108=1, IF(AND(COUNTRY_INFO!$I108=1,$F108<>0),IF(COUNTRY_INFO!M108>=(COUNTRY_INFO!F108+COUNTRY_INFO!G108),COUNTRY_INFO!F108+COUNTRY_INFO!G108,COUNTRY_INFO!$M108), 0),0)","v":142095},0,795732,0,795732,0,795732]
[{"$f":"IF(INTRO!$E$39=\"Non-endemic\",\" \",IF(COUNTRY_INFO!A109=0,\" \",COUNTRY_INFO!A109))","v":"Uganda"},{"$f":"IF(INTRO!$E$39=\"Non-endemic\",\" \",IF(COUNTRY_INFO!B109=0,\" \",COUNTRY_INFO!B109))","v":"Northern"},{"$f":"IF(INTRO!$E$39=\"Non-endemic\",\" \",IF(COUNTRY_INFO!C109=0,\" \",COUNTRY_INFO!C109))","v":"Obongi"},{"$f":"IF(INTRO!$E$39=\"Non-endemic\",0,IF(INTRO!$E$39=\"Endemic but PC is not required\",IF(COUNTRY_INFO!$H109=1,COUNTRY_INFO!F109+COUNTRY_INFO!G109,0),IF(COUNTRY_INFO!$H109=1,COUNTRY_INFO!F109+COUNTRY_INFO!G109,IF(COUNTRY_INFO!$I109=1,IF(COUNTRY_INFO!M109>=(COUNTRY_INFO!F109+COUNTRY_INFO!G109),COUNTRY_INFO!F109+COUNTRY_INFO!G109,COUNTRY_INFO!$M109),0))))","v":0},{"$f":"IF(AND(INTRO!$E$39=\"Non-endemic\",INTRO!$E$37=\"Non-endemic\"),\"Not required\",IF(INTRO!$E$39=\"Non-endemic\",\"Treat with DEC\",COUNTRY_INFO!V109))","v":0},{"$f":"IF(INTRO!$E$39<>\"Non-endemic\",COUNTRY_INFO!W109,\"Not required\")","v":0},{"$f":"IF(COUNTRY_INFO!H109=1, IF($E109=1,$D109, 0),0)","v":0},{"$f":"IF(COUNTRY_INFO!I109=1, IF(AND(COUNTRY_INFO!$I109=1,$F109<>0),IF(COUNTRY_INFO!M109>=(COUNTRY_INFO!F109+COUNTRY_INFO!G109),COUNTRY_INFO!F109+COUNTRY_INFO!G109,COUNTRY_INFO!$M109), 0),0)","v":0},0,0,0,0,null,0]
[{"$f":"IF(INTRO!$E$39=\"Non-endemic\",\" \",IF(COUNTRY_INFO!A110=0,\" \",COUNTRY_INFO!A110))","v":"Uganda"},{"$f":"IF(INTRO!$E$39=\"Non-endemic\",\" \",IF(COUNTRY_INFO!B110=0,\" \",COUNTRY_INFO!B110))","v":"Northern"},{"$f":"IF(INTRO!$E$39=\"Non-endemic\",\" \",IF(COUNTRY_INFO!C110=0,\" \",COUNTRY_INFO!C110))","v":"Omoro"},{"$f":"IF(INTRO!$E$39=\"Non-endemic\",0,IF(INTRO!$E$39=\"Endemic but PC is not required\",IF(COUNTRY_INFO!$H110=1,COUNTRY_INFO!F110+COUNTRY_INFO!G110,0),IF(COUNTRY_INFO!$H110=1,COUNTRY_INFO!F110+COUNTRY_INFO!G110,IF(COUNTRY_INFO!$I110=1,IF(COUNTRY_INFO!M110>=(COUNTRY_INFO!F110+COUNTRY_INFO!G110),COUNTRY_INFO!F110+COUNTRY_INFO!G110,COUNTRY_INFO!$M110),0))))","v":183739},{"$f":"IF(AND(INTRO!$E$39=\"Non-endemic\",INTRO!$E$37=\"Non-endemic\"),\"Not required\",IF(INTRO!$E$39=\"Non-endemic\",\"Treat with DEC\",COUNTRY_INFO!V110))","v":0},{"$f":"IF(INTRO!$E$39<>\"Non-endemic\",COUNTRY_INFO!W110,\"Not required\")","v":2},{"$f":"IF(COUNTRY_INFO!H110=1, IF($E110=1,$D110, 0),0)","v":0},{"$f":"IF(COUNTRY_INFO!I110=1, IF(AND(COUNTRY_INFO!$I110=1,$F110<>0),IF(COUNTRY_INFO!M110>=(COUNTRY_INFO!F110+COUNTRY_INFO!G110),COUNTRY_INFO!F110+COUNTRY_INFO!G110,COUNTRY_INFO!$M110), 0),0)","v":183739},0,1028938.3999999999,0,1028938.3999999999,0,1028938.3999999999]
[{"$f":"IF(INTRO!$E$39=\"Non-endemic\",\" \",IF(COUNTRY_INFO!A111=0,\" \",COUNTRY_INFO!A111))","v":"Uganda"},{"$f":"IF(INTRO!$E$39=\"Non-endemic\",\" \",IF(COUNTRY_INFO!B111=0,\" \",COUNTRY_INFO!B111))","v":"Northern"},{"$f":"IF(INTRO!$E$39=\"Non-endemic\",\" \",IF(COUNTRY_INFO!C111=0,\" \",COUNTRY_INFO!C111))","v":"Otuke"},{"$f":"IF(INTRO!$E$39=\"Non-endemic\",0,IF(INTRO!$E$39=\"Endemic but PC is not required\",IF(COUNTRY_INFO!$H111=1,COUNTRY_INFO!F111+COUNTRY_INFO!G111,0),IF(COUNTRY_INFO!$H111=1,COUNTRY_INFO!F111+COUNTRY_INFO!G111,IF(COUNTRY_INFO!$I111=1,IF(COUNTRY_INFO!M111>=(COUNTRY_INFO!F111+COUNTRY_INFO!G111),COUNTRY_INFO!F111+COUNTRY_INFO!G111,COUNTRY_INFO!$M111),0))))","v":0},{"$f":"IF(AND(INTRO!$E$39=\"Non-endemic\",INTRO!$E$37=\"Non-endemic\"),\"Not required\",IF(INTRO!$E$39=\"Non-endemic\",\"Treat with DEC\",COUNTRY_INFO!V111))","v":0},{"$f":"IF(INTRO!$E$39<>\"Non-endemic\",COUNTRY_INFO!W111,\"Not required\")","v":0},{"$f":"IF(COUNTRY_INFO!H111=1, IF($E111=1,$D111, 0),0)","v":0},{"$f":"IF(COUNTRY_INFO!I111=1, IF(AND(COUNTRY_INFO!$I111=1,$F111<>0),IF(COUNTRY_INFO!M111>=(COUNTRY_INFO!F111+COUNTRY_INFO!G111),COUNTRY_INFO!F111+COUNTRY_INFO!G111,COUNTRY_INFO!$M111), 0),0)","v":0},0,0,0,0,null,0]
[{"$f":"IF(INTRO!$E$39=\"Non-endemic\",\" \",IF(COUNTRY_INFO!A112=0,\" \",COUNTRY_INFO!A112))","v":"Uganda"},{"$f":"IF(INTRO!$E$39=\"Non-endemic\",\" \",IF(COUNTRY_INFO!B112=0,\" \",COUNTRY_INFO!B112))","v":"Northern"},{"$f":"IF(INTRO!$E$39=\"Non-endemic\",\" \",IF(COUNTRY_INFO!C112=0,\" \",COUNTRY_INFO!C112))","v":"Oyam"},{"$f":"IF(INTRO!$E$39=\"Non-endemic\",0,IF(INTRO!$E$39=\"Endemic but PC is not required\",IF(COUNTRY_INFO!$H112=1,COUNTRY_INFO!F112+COUNTRY_INFO!G112,0),IF(COUNTRY_INFO!$H112=1,COUNTRY_INFO!F112+COUNTRY_INFO!G112,IF(COUNTRY_INFO!$I112=1,IF(COUNTRY_INFO!M112>=(COUNTRY_INFO!F112+COUNTRY_INFO!G112),COUNTRY_INFO!F112+COUNTRY_INFO!G112,COUNTRY_INFO!$M112),0))))","v":27249},{"$f":"IF(AND(INTRO!$E$39=\"Non-endemic\",INTRO!$E$37=\"Non-endemic\"),\"Not required\",IF(INTRO!$E$39=\"Non-endemic\",\"Treat with DEC\",COUNTRY_INFO!V112))","v":0},{"$f":"IF(INTRO!$E$39<>\"Non-endemic\",COUNTRY_INFO!W112,\"Not required\")","v":2},{"$f":"IF(COUNTRY_INFO!H112=1, IF($E112=1,$D112, 0),0)","v":0},{"$f":"IF(COUNTRY_INFO!I112=1, IF(AND(COUNTRY_INFO!$I112=1,$F112<>0),IF(COUNTRY_INFO!M112>=(COUNTRY_INFO!F112+COUNTRY_INFO!G112),COUNTRY_INFO!F112+COUNTRY_INFO!G112,COUNTRY_INFO!$M112), 0),0)","v":27249},0,152594.4,0,152594.4,0,152594.4]
[{"$f":"IF(INTRO!$E$39=\"Non-endemic\",\" \",IF(COUNTRY_INFO!A113=0,\" \",COUNTRY_INFO!A113))","v":"Uganda"},{"$f":"IF(INTRO!$E$39=\"Non-endemic\",\" \",IF(COUNTRY_INFO!B113=0,\" \",COUNTRY_INFO!B113))","v":"Northern"},{"$f":"IF(INTRO!$E$39=\"Non-endemic\",\" \",IF(COUNTRY_INFO!C113=0,\" \",COUNTRY_INFO!C113))","v":"Pader"},{"$f":"IF(INTRO!$E$39=\"Non-endemic\",0,IF(INTRO!$E$39=\"Endemic but PC is not required\",IF(COUNTRY_INFO!$H113=1,COUNTRY_INFO!F113+COUNTRY_INFO!G113,0),IF(COUNTRY_INFO!$H113=1,COUNTRY_INFO!F113+COUNTRY_INFO!G113,IF(COUNTRY_INFO!$I113=1,IF(COUNTRY_INFO!M113>=(COUNTRY_INFO!F113+COUNTRY_INFO!G113),COUNTRY_INFO!F113+COUNTRY_INFO!G113,COUNTRY_INFO!$M113),0))))","v":199290},{"$f":"IF(AND(INTRO!$E$39=\"Non-endemic\",INTRO!$E$37=\"Non-endemic\"),\"Not required\",IF(INTRO!$E$39=\"Non-endemic\",\"Treat with DEC\",COUNTRY_INFO!V113))","v":0},{"$f":"IF(INTRO!$E$39<>\"Non-endemic\",COUNTRY_INFO!W113,\"Not required\")","v":2},{"$f":"IF(COUNTRY_INFO!H113=1, IF($E113=1,$D113, 0),0)","v":0},{"$f":"IF(COUNTRY_INFO!I113=1, IF(AND(COUNTRY_INFO!$I113=1,$F113<>0),IF(COUNTRY_INFO!M113>=(COUNTRY_INFO!F113+COUNTRY_INFO!G113),COUNTRY_INFO!F113+COUNTRY_INFO!G113,COUNTRY_INFO!$M113), 0),0)","v":199290},0,1116024,0,1116024,0,1116024]
[{"$f":"IF(INTRO!$E$39=\"Non-endemic\",\" \",IF(COUNTRY_INFO!A114=0,\" \",COUNTRY_INFO!A114))","v":"Uganda"},{"$f":"IF(INTRO!$E$39=\"Non-endemic\",\" \",IF(COUNTRY_INFO!B114=0,\" \",COUNTRY_INFO!B114))","v":"Northern"},{"$f":"IF(INTRO!$E$39=\"Non-endemic\",\" \",IF(COUNTRY_INFO!C114=0,\" \",COUNTRY_INFO!C114))","v":"Pakwach"},{"$f":"IF(INTRO!$E$39=\"Non-endemic\",0,IF(INTRO!$E$39=\"Endemic but PC is not required\",IF(COUNTRY_INFO!$H114=1,COUNTRY_INFO!F114+COUNTRY_INFO!G114,0),IF(COUNTRY_INFO!$H114=1,COUNTRY_INFO!F114+COUNTRY_INFO!G114,IF(COUNTRY_INFO!$I114=1,IF(COUNTRY_INFO!M114>=(COUNTRY_INFO!F114+COUNTRY_INFO!G114),COUNTRY_INFO!F114+COUNTRY_INFO!G114,COUNTRY_INFO!$M114),0))))","v":0},{"$f":"IF(AND(INTRO!$E$39=\"Non-endemic\",INTRO!$E$37=\"Non-endemic\"),\"Not required\",IF(INTRO!$E$39=\"Non-endemic\",\"Treat with DEC\",COUNTRY_INFO!V114))","v":0},{"$f":"IF(INTRO!$E$39<>\"Non-endemic\",COUNTRY_INFO!W114,\"Not required\")","v":0},{"$f":"IF(COUNTRY_INFO!H114=1, IF($E114=1,$D114, 0),0)","v":0},{"$f":"IF(COUNTRY_INFO!I114=1, IF(AND(COUNTRY_INFO!$I114=1,$F114<>0),IF(COUNTRY_INFO!M114>=(COUNTRY_INFO!F114+COUNTRY_INFO!G114),COUNTRY_INFO!F114+COUNTRY_INFO!G114,COUNTRY_INFO!$M114), 0),0)","v":0},0,0,0,0,null,0]
[{"$f":"IF(INTRO!$E$39=\"Non-endemic\",\" \",IF(COUNTRY_INFO!A115=0,\" \",COUNTRY_INFO!A115))","v":"Uganda"},{"$f":"IF(INTRO!$E$39=\"Non-endemic\",\" \",IF(COUNTRY_INFO!B115=0,\" \",COUNTRY_INFO!B115))","v":"Northern"},{"$f":"IF(INTRO!$E$39=\"Non-endemic\",\" \",IF(COUNTRY_INFO!C115=0,\" \",COUNTRY_INFO!C115))","v":"Terego"},{"$f":"IF(INTRO!$E$39=\"Non-endemic\",0,IF(INTRO!$E$39=\"Endemic but PC is not required\",IF(COUNTRY_INFO!$H115=1,COUNTRY_INFO!F115+COUNTRY_INFO!G115,0),IF(COUNTRY_INFO!$H115=1,COUNTRY_INFO!F115+COUNTRY_INFO!G115,IF(COUNTRY_INFO!$I115=1,IF(COUNTRY_INFO!M115>=(COUNTRY_INFO!F115+COUNTRY_INFO!G115),COUNTRY_INFO!F115+COUNTRY_INFO!G115,COUNTRY_INFO!$M115),0))))","v":0},{"$f":"IF(AND(INTRO!$E$39=\"Non-endemic\",INTRO!$E$37=\"Non-endemic\"),\"Not required\",IF(INTRO!$E$39=\"Non-endemic\",\"Treat with DEC\",COUNTRY_INFO!V115))","v":0},{"$f":"IF(INTRO!$E$39<>\"Non-endemic\",COUNTRY_INFO!W115,\"Not required\")","v":0},{"$f":"IF(COUNTRY_INFO!H115=1, IF($E115=1,$D115, 0),0)","v":0},{"$f":"IF(COUNTRY_INFO!I115=1, IF(AND(COUNTRY_INFO!$I115=1,$F115<>0),IF(COUNTRY_INFO!M115>=(COUNTRY_INFO!F115+COUNTRY_INFO!G115),COUNTRY_INFO!F115+COUNTRY_INFO!G115,COUNTRY_INFO!$M115), 0),0)","v":0},0,0,0,0,null,0]
[{"$f":"IF(INTRO!$E$39=\"Non-endemic\",\" \",IF(COUNTRY_INFO!A116=0,\" \",COUNTRY_INFO!A116))","v":"Uganda"},{"$f":"IF(INTRO!$E$39=\"Non-endemic\",\" \",IF(COUNTRY_INFO!B116=0,\" \",COUNTRY_INFO!B116))","v":"Northern"},{"$f":"IF(INTRO!$E$39=\"Non-endemic\",\" \",IF(COUNTRY_INFO!C116=0,\" \",COUNTRY_INFO!C116))","v":"Yumbe"},{"$f":"IF(INTRO!$E$39=\"Non-endemic\",0,IF(INTRO!$E$39=\"Endemic but PC is not required\",IF(COUNTRY_INFO!$H116=1,COUNTRY_INFO!F116+COUNTRY_INFO!G116,0),IF(COUNTRY_INFO!$H116=1,COUNTRY_INFO!F116+COUNTRY_INFO!G116,IF(COUNTRY_INFO!$I116=1,IF(COUNTRY_INFO!M116>=(COUNTRY_INFO!F116+COUNTRY_INFO!G116),COUNTRY_INFO!F116+COUNTRY_INFO!G116,COUNTRY_INFO!$M116),0))))","v":0},{"$f":"IF(AND(INTRO!$E$39=\"Non-endemic\",INTRO!$E$37=\"Non-endemic\"),\"Not required\",IF(INTRO!$E$39=\"Non-endemic\",\"Treat with DEC\",COUNTRY_INFO!V116))","v":0},{"$f":"IF(INTRO!$E$39<>\"Non-endemic\",COUNTRY_INFO!W116,\"Not required\")","v":0},{"$f":"IF(COUNTRY_INFO!H116=1, IF($E116=1,$D116, 0),0)","v":0},{"$f":"IF(COUNTRY_INFO!I116=1, IF(AND(COUNTRY_INFO!$I116=1,$F116<>0),IF(COUNTRY_INFO!M116>=(COUNTRY_INFO!F116+COUNTRY_INFO!G116),COUNTRY_INFO!F116+COUNTRY_INFO!G116,COUNTRY_INFO!$M116), 0),0)","v":0},0,0,0,0,null,0]
[{"$f":"IF(INTRO!$E$39=\"Non-endemic\",\" \",IF(COUNTRY_INFO!A117=0,\" \",COUNTRY_INFO!A117))","v":"Uganda"},{"$f":"IF(INTRO!$E$39=\"Non-endemic\",\" \",IF(COUNTRY_INFO!B117=0,\" \",COUNTRY_INFO!B117))","v":"Northern"},{"$f":"IF(INTRO!$E$39=\"Non-endemic\",\" \",IF(COUNTRY_INFO!C117=0,\" \",COUNTRY_INFO!C117))","v":"Zombo"},{"$f":"IF(INTRO!$E$39=\"Non-endemic\",0,IF(INTRO!$E$39=\"Endemic but PC is not required\",IF(COUNTRY_INFO!$H117=1,COUNTRY_INFO!F117+COUNTRY_INFO!G117,0),IF(COUNTRY_INFO!$H117=1,COUNTRY_INFO!F117+COUNTRY_INFO!G117,IF(COUNTRY_INFO!$I117=1,IF(COUNTRY_INFO!M117>=(COUNTRY_INFO!F117+COUNTRY_INFO!G117),COUNTRY_INFO!F117+COUNTRY_INFO!G117,COUNTRY_INFO!$M117),0))))","v":0},{"$f":"IF(AND(INTRO!$E$39=\"Non-endemic\",INTRO!$E$37=\"Non-endemic\"),\"Not required\",IF(INTRO!$E$39=\"Non-endemic\",\"Treat with DEC\",COUNTRY_INFO!V117))","v":0},{"$f":"IF(INTRO!$E$39<>\"Non-endemic\",COUNTRY_INFO!W117,\"Not required\")","v":0},{"$f":"IF(COUNTRY_INFO!H117=1, IF($E117=1,$D117, 0),0)","v":0},{"$f":"IF(COUNTRY_INFO!I117=1, IF(AND(COUNTRY_INFO!$I117=1,$F117<>0),IF(COUNTRY_INFO!M117>=(COUNTRY_INFO!F117+COUNTRY_INFO!G117),COUNTRY_INFO!F117+COUNTRY_INFO!G117,COUNTRY_INFO!$M117), 0),0)","v":0},0,0,0,0,null,0]
[{"$f":"IF(INTRO!$E$39=\"Non-endemic\",\" \",IF(COUNTRY_INFO!A118=0,\" \",COUNTRY_INFO!A118))","v":"Uganda"},{"$f":"IF(INTRO!$E$39=\"Non-endemic\",\" \",IF(COUNTRY_INFO!B118=0,\" \",COUNTRY_INFO!B118))","v":"Western"},{"$f":"IF(INTRO!$E$39=\"Non-endemic\",\" \",IF(COUNTRY_INFO!C118=0,\" \",COUNTRY_INFO!C118))","v":"Buhweju"},{"$f":"IF(INTRO!$E$39=\"Non-endemic\",0,IF(INTRO!$E$39=\"Endemic but PC is not required\",IF(COUNTRY_INFO!$H118=1,COUNTRY_INFO!F118+COUNTRY_INFO!G118,0),IF(COUNTRY_INFO!$H118=1,COUNTRY_INFO!F118+COUNTRY_INFO!G118,IF(COUNTRY_INFO!$I118=1,IF(COUNTRY_INFO!M118>=(COUNTRY_INFO!F118+COUNTRY_INFO!G118),COUNTRY_INFO!F118+COUNTRY_INFO!G118,COUNTRY_INFO!$M118),0))))","v":0},{"$f":"IF(AND(INTRO!$E$39=\"Non-endemic\",INTRO!$E$37=\"Non-endemic\"),\"Not required\",IF(INTRO!$E$39=\"Non-endemic\",\"Treat with DEC\",COUNTRY_INFO!V118))","v":0},{"$f":"IF(INTRO!$E$39<>\"Non-endemic\",COUNTRY_INFO!W118,\"Not required\")","v":0},{"$f":"IF(COUNTRY_INFO!H118=1, IF($E118=1,$D118, 0),0)","v":0},{"$f":"IF(COUNTRY_INFO!I118=1, IF(AND(COUNTRY_INFO!$I118=1,$F118<>0),IF(COUNTRY_INFO!M118>=(COUNTRY_INFO!F118+COUNTRY_INFO!G118),COUNTRY_INFO!F118+COUNTRY_INFO!G118,COUNTRY_INFO!$M118), 0),0)","v":0},0,0,0,0,null,0]
[{"$f":"IF(INTRO!$E$39=\"Non-endemic\",\" \",IF(COUNTRY_INFO!A119=0,\" \",COUNTRY_INFO!A119))","v":"Uganda"},{"$f":"IF(INTRO!$E$39=\"Non-endemic\",\" \",IF(COUNTRY_INFO!B119=0,\" \",COUNTRY_INFO!B119))","v":"Western"},{"$f":"IF(INTRO!$E$39=\"Non-endemic\",\" \",IF(COUNTRY_INFO!C119=0,\" \",COUNTRY_INFO!C119))","v":"Buliisa"},{"$f":"IF(INTRO!$E$39=\"Non-endemic\",0,IF(INTRO!$E$39=\"Endemic but PC is not required\",IF(COUNTRY_INFO!$H119=1,COUNTRY_INFO!F119+COUNTRY_INFO!G119,0),IF(COUNTRY_INFO!$H119=1,COUNTRY_INFO!F119+COUNTRY_INFO!G119,IF(COUNTRY_INFO!$I119=1,IF(COUNTRY_INFO!M119>=(COUNTRY_INFO!F119+COUNTRY_INFO!G119),COUNTRY_INFO!F119+COUNTRY_INFO!G119,COUNTRY_INFO!$M119),0))))","v":0},{"$f":"IF(AND(INTRO!$E$39=\"Non-endemic\",INTRO!$E$37=\"Non-endemic\"),\"Not required\",IF(INTRO!$E$39=\"Non-endemic\",\"Treat with DEC\",COUNTRY_INFO!V119))","v":0},{"$f":"IF(INTRO!$E$39<>\"Non-endemic\",COUNTRY_INFO!W119,\"Not required\")","v":0},{"$f":"IF(COUNTRY_INFO!H119=1, IF($E119=1,$D119, 0),0)","v":0},{"$f":"IF(COUNTRY_INFO!I119=1, IF(AND(COUNTRY_INFO!$I119=1,$F119<>0),IF(COUNTRY_INFO!M119>=(COUNTRY_INFO!F119+COUNTRY_INFO!G119),COUNTRY_INFO!F119+COUNTRY_INFO!G119,COUNTRY_INFO!$M119), 0),0)","v":0},0,0,0,0,null,0]
[{"$f":"IF(INTRO!$E$39=\"Non-endemic\",\" \",IF(COUNTRY_INFO!A120=0,\" \",COUNTRY_INFO!A120))","v":"Uganda"},{"$f":"IF(INTRO!$E$39=\"Non-endemic\",\" \",IF(COUNTRY_INFO!B120=0,\" \",COUNTRY_INFO!B120))","v":"Western"},{"$f":"IF(INTRO!$E$39=\"Non-endemic\",\" \",IF(COUNTRY_INFO!C120=0,\" \",COUNTRY_INFO!C120))","v":"Bundibugyo"},{"$f":"IF(INTRO!$E$39=\"Non-endemic\",0,IF(INTRO!$E$39=\"Endemic but PC is not required\",IF(COUNTRY_INFO!$H120=1,COUNTRY_INFO!F120+COUNTRY_INFO!G120,0),IF(COUNTRY_INFO!$H120=1,COUNTRY_INFO!F120+COUNTRY_INFO!G120,IF(COUNTRY_INFO!$I120=1,IF(COUNTRY_INFO!M120>=(COUNTRY_INFO!F120+COUNTRY_INFO!G120),COUNTRY_INFO!F120+COUNTRY_INFO!G120,COUNTRY_INFO!$M120),0))))","v":0},{"$f":"IF(AND(INTRO!$E$39=\"Non-endemic\",INTRO!$E$37=\"Non-endemic\"),\"Not required\",IF(INTRO!$E$39=\"Non-endemic\",\"Treat with DEC\",COUNTRY_INFO!V120))","v":0},{"$f":"IF(INTRO!$E$39<>\"Non-endemic\",COUNTRY_INFO!W120,\"Not required\")","v":0},{"$f":"IF(COUNTRY_INFO!H120=1, IF($E120=1,$D120, 0),0)","v":0},{"$f":"IF(COUNTRY_INFO!I120=1, IF(AND(COUNTRY_INFO!$I120=1,$F120<>0),IF(COUNTRY_INFO!M120>=(COUNTRY_INFO!F120+COUNTRY_INFO!G120),COUNTRY_INFO!F120+COUNTRY_INFO!G120,COUNTRY_INFO!$M120), 0),0)","v":0},0,0,0,0,null,0]
[{"$f":"IF(INTRO!$E$39=\"Non-endemic\",\" \",IF(COUNTRY_INFO!A121=0,\" \",COUNTRY_INFO!A121))","v":"Uganda"},{"$f":"IF(INTRO!$E$39=\"Non-endemic\",\" \",IF(COUNTRY_INFO!B121=0,\" \",COUNTRY_INFO!B121))","v":"Western"},{"$f":"IF(INTRO!$E$39=\"Non-endemic\",\" \",IF(COUNTRY_INFO!C121=0,\" \",COUNTRY_INFO!C121))","v":"Bunyangabu"},{"$f":"IF(INTRO!$E$39=\"Non-endemic\",0,IF(INTRO!$E$39=\"Endemic but PC is not required\",IF(COUNTRY_INFO!$H121=1,COUNTRY_INFO!F121+COUNTRY_INFO!G121,0),IF(COUNTRY_INFO!$H121=1,COUNTRY_INFO!F121+COUNTRY_INFO!G121,IF(COUNTRY_INFO!$I121=1,IF(COUNTRY_INFO!M121>=(COUNTRY_INFO!F121+COUNTRY_INFO!G121),COUNTRY_INFO!F121+COUNTRY_INFO!G121,COUNTRY_INFO!$M121),0))))","v":0},{"$f":"IF(AND(INTRO!$E$39=\"Non-endemic\",INTRO!$E$37=\"Non-endemic\"),\"Not required\",IF(INTRO!$E$39=\"Non-endemic\",\"Treat with DEC\",COUNTRY_INFO!V121))","v":0},{"$f":"IF(INTRO!$E$39<>\"Non-endemic\",COUNTRY_INFO!W121,\"Not required\")","v":0},{"$f":"IF(COUNTRY_INFO!H121=1, IF($E121=1,$D121, 0),0)","v":0},{"$f":"IF(COUNTRY_INFO!I121=1, IF(AND(COUNTRY_INFO!$I121=1,$F121<>0),IF(COUNTRY_INFO!M121>=(COUNTRY_INFO!F121+COUNTRY_INFO!G121),COUNTRY_INFO!F121+COUNTRY_INFO!G121,COUNTRY_INFO!$M121), 0),0)","v":0},0,0,0,0,null,0]
[{"$f":"IF(INTRO!$E$39=\"Non-endemic\",\" \",IF(COUNTRY_INFO!A122=0,\" \",COUNTRY_INFO!A122))","v":"Uganda"},{"$f":"IF(INTRO!$E$39=\"Non-endemic\",\" \",IF(COUNTRY_INFO!B122=0,\" \",COUNTRY_INFO!B122))","v":"Western"},{"$f":"IF(INTRO!$E$39=\"Non-endemic\",\" \",IF(COUNTRY_INFO!C122=0,\" \",COUNTRY_INFO!C122))","v":"Bushenyi"},{"$f":"IF(INTRO!$E$39=\"Non-endemic\",0,IF(INTRO!$E$39=\"Endemic but PC is not required\",IF(COUNTRY_INFO!$H122=1,COUNTRY_INFO!F122+COUNTRY_INFO!G122,0),IF(COUNTRY_INFO!$H122=1,COUNTRY_INFO!F122+COUNTRY_INFO!G122,IF(COUNTRY_INFO!$I122=1,IF(COUNTRY_INFO!M122>=(COUNTRY_INFO!F122+COUNTRY_INFO!G122),COUNTRY_INFO!F122+COUNTRY_INFO!G122,COUNTRY_INFO!$M122),0))))","v":0},{"$f":"IF(AND(INTRO!$E$39=\"Non-endemic\",INTRO!$E$37=\"Non-endemic\"),\"Not required\",IF(INTRO!$E$39=\"Non-endemic\",\"Treat with DEC\",COUNTRY_INFO!V122))","v":0},{"$f":"IF(INTRO!$E$39<>\"Non-endemic\",COUNTRY_INFO!W122,\"Not required\")","v":0},{"$f":"IF(COUNTRY_INFO!H122=1, IF($E122=1,$D122, 0),0)","v":0},{"$f":"IF(COUNTRY_INFO!I122=1, IF(AND(COUNTRY_INFO!$I122=1,$F122<>0),IF(COUNTRY_INFO!M122>=(COUNTRY_INFO!F122+COUNTRY_INFO!G122),COUNTRY_INFO!F122+COUNTRY_INFO!G122,COUNTRY_INFO!$M122), 0),0)","v":0},0,0,0,0,null,0]
[{"$f":"IF(INTRO!$E$39=\"Non-endemic\",\" \",IF(COUNTRY_INFO!A123=0,\" \",COUNTRY_INFO!A123))","v":"Uganda"},{"$f":"IF(INTRO!$E$39=\"Non-endemic\",\" \",IF(COUNTRY_INFO!B123=0,\" \",COUNTRY_INFO!B123))","v":"Western"},{"$f":"IF(INTRO!$E$39=\"Non-endemic\",\" \",IF(COUNTRY_INFO!C123=0,\" \",COUNTRY_INFO!C123))","v":"Fortportal City"},{"$f":"IF(INTRO!$E$39=\"Non-endemic\",0,IF(INTRO!$E$39=\"Endemic but PC is not required\",IF(COUNTRY_INFO!$H123=1,COUNTRY_INFO!F123+COUNTRY_INFO!G123,0),IF(COUNTRY_INFO!$H123=1,COUNTRY_INFO!F123+COUNTRY_INFO!G123,IF(COUNTRY_INFO!$I123=1,IF(COUNTRY_INFO!M123>=(COUNTRY_INFO!F123+COUNTRY_INFO!G123),COUNTRY_INFO!F123+COUNTRY_INFO!G123,COUNTRY_INFO!$M123),0))))","v":0},{"$f":"IF(AND(INTRO!$E$39=\"Non-endemic\",INTRO!$E$37=\"Non-endemic\"),\"Not required\",IF(INTRO!$E$39=\"Non-endemic\",\"Treat with DEC\",COUNTRY_INFO!V123))","v":0},{"$f":"IF(INTRO!$E$39<>\"Non-endemic\",COUNTRY_INFO!W123,\"Not required\")","v":0},{"$f":"IF(COUNTRY_INFO!H123=1, IF($E123=1,$D123, 0),0)","v":0},{"$f":"IF(COUNTRY_INFO!I123=1, IF(AND(COUNTRY_INFO!$I123=1,$F123<>0),IF(COUNTRY_INFO!M123>=(COUNTRY_INFO!F123+COUNTRY_INFO!G123),COUNTRY_INFO!F123+COUNTRY_INFO!G123,COUNTRY_INFO!$M123), 0),0)","v":0},0,0,0,0,null,0]
[{"$f":"IF(INTRO!$E$39=\"Non-endemic\",\" \",IF(COUNTRY_INFO!A124=0,\" \",COUNTRY_INFO!A124))","v":"Uganda"},{"$f":"IF(INTRO!$E$39=\"Non-endemic\",\" \",IF(COUNTRY_INFO!B124=0,\" \",COUNTRY_INFO!B124))","v":"Western"},{"$f":"IF(INTRO!$E$39=\"Non-endemic\",\" \",IF(COUNTRY_INFO!C124=0,\" \",COUNTRY_INFO!C124))","v":"Hoima"},{"$f":"IF(INTRO!$E$39=\"Non-endemic\",0,IF(INTRO!$E$39=\"Endemic but PC is not required\",IF(COUNTRY_INFO!$H124=1,COUNTRY_INFO!F124+COUNTRY_INFO!G124,0),IF(COUNTRY_INFO!$H124=1,COUNTRY_INFO!F124+COUNTRY_INFO!G124,IF(COUNTRY_INFO!$I124=1,IF(COUNTRY_INFO!M124>=(COUNTRY_INFO!F124+COUNTRY_INFO!G124),COUNTRY_INFO!F124+COUNTRY_INFO!G124,COUNTRY_INFO!$M124),0))))","v":0},{"$f":"IF(AND(INTRO!$E$39=\"Non-endemic\",INTRO!$E$37=\"Non-endemic\"),\"Not required\",IF(INTRO!$E$39=\"Non-endemic\",\"Treat with DEC\",COUNTRY_INFO!V124))","v":0},{"$f":"IF(INTRO!$E$39<>\"Non-endemic\",COUNTRY_INFO!W124,\"Not required\")","v":0},{"$f":"IF(COUNTRY_INFO!H124=1, IF($E124=1,$D124, 0),0)","v":0},{"$f":"IF(COUNTRY_INFO!I124=1, IF(AND(COUNTRY_INFO!$I124=1,$F124<>0),IF(COUNTRY_INFO!M124>=(COUNTRY_INFO!F124+COUNTRY_INFO!G124),COUNTRY_INFO!F124+COUNTRY_INFO!G124,COUNTRY_INFO!$M124), 0),0)","v":0},0,0,0,0,null,0]
[{"$f":"IF(INTRO!$E$39=\"Non-endemic\",\" \",IF(COUNTRY_INFO!A125=0,\" \",COUNTRY_INFO!A125))","v":"Uganda"},{"$f":"IF(INTRO!$E$39=\"Non-endemic\",\" \",IF(COUNTRY_INFO!B125=0,\" \",COUNTRY_INFO!B125))","v":"Western"},{"$f":"IF(INTRO!$E$39=\"Non-endemic\",\" \",IF(COUNTRY_INFO!C125=0,\" \",COUNTRY_INFO!C125))","v":"Hoima City"},{"$f":"IF(INTRO!$E$39=\"Non-endemic\",0,IF(INTRO!$E$39=\"Endemic but PC is not required\",IF(COUNTRY_INFO!$H125=1,COUNTRY_INFO!F125+COUNTRY_INFO!G125,0),IF(COUNTRY_INFO!$H125=1,COUNTRY_INFO!F125+COUNTRY_INFO!G125,IF(COUNTRY_INFO!$I125=1,IF(COUNTRY_INFO!M125>=(COUNTRY_INFO!F125+COUNTRY_INFO!G125),COUNTRY_INFO!F125+COUNTRY_INFO!G125,COUNTRY_INFO!$M125),0))))","v":0},{"$f":"IF(AND(INTRO!$E$39=\"Non-endemic\",INTRO!$E$37=\"Non-endemic\"),\"Not required\",IF(INTRO!$E$39=\"Non-endemic\",\"Treat with DEC\",COUNTRY_INFO!V125))","v":0},{"$f":"IF(INTRO!$E$39<>\"Non-endemic\",COUNTRY_INFO!W125,\"Not required\")","v":0},{"$f":"IF(COUNTRY_INFO!H125=1, IF($E125=1,$D125, 0),0)","v":0},{"$f":"IF(COUNTRY_INFO!I125=1, IF(AND(COUNTRY_INFO!$I125=1,$F125<>0),IF(COUNTRY_INFO!M125>=(COUNTRY_INFO!F125+COUNTRY_INFO!G125),COUNTRY_INFO!F125+COUNTRY_INFO!G125,COUNTRY_INFO!$M125), 0),0)","v":0},0,0,0,0,null,0]
[{"$f":"IF(INTRO!$E$39=\"Non-endemic\",\" \",IF(COUNTRY_INFO!A126=0,\" \",COUNTRY_INFO!A126))","v":"Uganda"},{"$f":"IF(INTRO!$E$39=\"Non-endemic\",\" \",IF(COUNTRY_INFO!B126=0,\" \",COUNTRY_INFO!B126))","v":"Western"},{"$f":"IF(INTRO!$E$39=\"Non-endemic\",\" \",IF(COUNTRY_INFO!C126=0,\" \",COUNTRY_INFO!C126))","v":"Ibanda"},{"$f":"IF(INTRO!$E$39=\"Non-endemic\",0,IF(INTRO!$E$39=\"Endemic but PC is not required\",IF(COUNTRY_INFO!$H126=1,COUNTRY_INFO!F126+COUNTRY_INFO!G126,0),IF(COUNTRY_INFO!$H126=1,COUNTRY_INFO!F126+COUNTRY_INFO!G126,IF(COUNTRY_INFO!$I126=1,IF(COUNTRY_INFO!M126>=(COUNTRY_INFO!F126+COUNTRY_INFO!G126),COUNTRY_INFO!F126+COUNTRY_INFO!G126,COUNTRY_INFO!$M126),0))))","v":0},{"$f":"IF(AND(INTRO!$E$39=\"Non-endemic\",INTRO!$E$37=\"Non-endemic\"),\"Not required\",IF(INTRO!$E$39=\"Non-endemic\",\"Treat with DEC\",COUNTRY_INFO!V126))","v":0},{"$f":"IF(INTRO!$E$39<>\"Non-endemic\",COUNTRY_INFO!W126,\"Not required\")","v":0},{"$f":"IF(COUNTRY_INFO!H126=1, IF($E126=1,$D126, 0),0)","v":0},{"$f":"IF(COUNTRY_INFO!I126=1, IF(AND(COUNTRY_INFO!$I126=1,$F126<>0),IF(COUNTRY_INFO!M126>=(COUNTRY_INFO!F126+COUNTRY_INFO!G126),COUNTRY_INFO!F126+COUNTRY_INFO!G126,COUNTRY_INFO!$M126), 0),0)","v":0},0,0,0,0,null,0]
[{"$f":"IF(INTRO!$E$39=\"Non-endemic\",\" \",IF(COUNTRY_INFO!A127=0,\" \",COUNTRY_INFO!A127))","v":"Uganda"},{"$f":"IF(INTRO!$E$39=\"Non-endemic\",\" \",IF(COUNTRY_INFO!B127=0,\" \",COUNTRY_INFO!B127))","v":"Western"},{"$f":"IF(INTRO!$E$39=\"Non-endemic\",\" \",IF(COUNTRY_INFO!C127=0,\" \",COUNTRY_INFO!C127))","v":"Isingiro"},{"$f":"IF(INTRO!$E$39=\"Non-endemic\",0,IF(INTRO!$E$39=\"Endemic but PC is not required\",IF(COUNTRY_INFO!$H127=1,COUNTRY_INFO!F127+COUNTRY_INFO!G127,0),IF(COUNTRY_INFO!$H127=1,COUNTRY_INFO!F127+COUNTRY_INFO!G127,IF(COUNTRY_INFO!$I127=1,IF(COUNTRY_INFO!M127>=(COUNTRY_INFO!F127+COUNTRY_INFO!G127),COUNTRY_INFO!F127+COUNTRY_INFO!G127,COUNTRY_INFO!$M127),0))))","v":0},{"$f":"IF(AND(INTRO!$E$39=\"Non-endemic\",INTRO!$E$37=\"Non-endemic\"),\"Not required\",IF(INTRO!$E$39=\"Non-endemic\",\"Treat with DEC\",COUNTRY_INFO!V127))","v":0},{"$f":"IF(INTRO!$E$39<>\"Non-endemic\",COUNTRY_INFO!W127,\"Not required\")","v":0},{"$f":"IF(COUNTRY_INFO!H127=1, IF($E127=1,$D127, 0),0)","v":0},{"$f":"IF(COUNTRY_INFO!I127=1, IF(AND(COUNTRY_INFO!$I127=1,$F127<>0),IF(COUNTRY_INFO!M127>=(COUNTRY_INFO!F127+COUNTRY_INFO!G127),COUNTRY_INFO!F127+COUNTRY_INFO!G127,COUNTRY_INFO!$M127), 0),0)","v":0},0,0,0,0,null,0]
[{"$f":"IF(INTRO!$E$39=\"Non-endemic\",\" \",IF(COUNTRY_INFO!A128=0,\" \",COUNTRY_INFO!A128))","v":"Uganda"},{"$f":"IF(INTRO!$E$39=\"Non-endemic\",\" \",IF(COUNTRY_INFO!B128=0,\" \",COUNTRY_INFO!B128))","v":"Western"},{"$f":"IF(INTRO!$E$39=\"Non-endemic\",\" \",IF(COUNTRY_INFO!C128=0,\" \",COUNTRY_INFO!C128))","v":"Kabale"},{"$f":"IF(INTRO!$E$39=\"Non-endemic\",0,IF(INTRO!$E$39=\"Endemic but PC is not required\",IF(COUNTRY_INFO!$H128=1,COUNTRY_INFO!F128+COUNTRY_INFO!G128,0),IF(COUNTRY_INFO!$H128=1,COUNTRY_INFO!F128+COUNTRY_INFO!G128,IF(COUNTRY_INFO!$I128=1,IF(COUNTRY_INFO!M128>=(COUNTRY_INFO!F128+COUNTRY_INFO!G128),COUNTRY_INFO!F128+COUNTRY_INFO!G128,COUNTRY_INFO!$M128),0))))","v":0},{"$f":"IF(AND(INTRO!$E$39=\"Non-endemic\",INTRO!$E$37=\"Non-endemic\"),\"Not required\",IF(INTRO!$E$39=\"Non-endemic\",\"Treat with DEC\",COUNTRY_INFO!V128))","v":0},{"$f":"IF(INTRO!$E$39<>\"Non-endemic\",COUNTRY_INFO!W128,\"Not required\")","v":0},{"$f":"IF(COUNTRY_INFO!H128=1, IF($E128=1,$D128, 0),0)","v":0},{"$f":"IF(COUNTRY_INFO!I128=1, IF(AND(COUNTRY_INFO!$I128=1,$F128<>0),IF(COUNTRY_INFO!M128>=(COUNTRY_INFO!F128+COUNTRY_INFO!G128),COUNTRY_INFO!F128+COUNTRY_INFO!G128,COUNTRY_INFO!$M128), 0),0)","v":0},0,0,0,0,null,0]
[{"$f":"IF(INTRO!$E$39=\"Non-endemic\",\" \",IF(COUNTRY_INFO!A129=0,\" \",COUNTRY_INFO!A129))","v":"Uganda"},{"$f":"IF(INTRO!$E$39=\"Non-endemic\",\" \",IF(COUNTRY_INFO!B129=0,\" \",COUNTRY_INFO!B129))","v":"Western"},{"$f":"IF(INTRO!$E$39=\"Non-endemic\",\" \",IF(COUNTRY_INFO!C129=0,\" \",COUNTRY_INFO!C129))","v":"Kabarole"},{"$f":"IF(INTRO!$E$39=\"Non-endemic\",0,IF(INTRO!$E$39=\"Endemic but PC is not required\",IF(COUNTRY_INFO!$H129=1,COUNTRY_INFO!F129+COUNTRY_INFO!G129,0),IF(COUNTRY_INFO!$H129=1,COUNTRY_INFO!F129+COUNTRY_INFO!G129,IF(COUNTRY_INFO!$I129=1,IF(COUNTRY_INFO!M129>=(COUNTRY_INFO!F129+COUNTRY_INFO!G129),COUNTRY_INFO!F129+COUNTRY_INFO!G129,COUNTRY_INFO!$M129),0))))","v":0},{"$f":"IF(AND(INTRO!$E$39=\"Non-endemic\",INTRO!$E$37=\"Non-endemic\"),\"Not required\",IF(INTRO!$E$39=\"Non-endemic\",\"Treat with DEC\",COUNTRY_INFO!V129))","v":0},{"$f":"IF(INTRO!$E$39<>\"Non-endemic\",COUNTRY_INFO!W129,\"Not required\")","v":0},{"$f":"IF(COUNTRY_INFO!H129=1, IF($E129=1,$D129, 0),0)","v":0},{"$f":"IF(COUNTRY_INFO!I129=1, IF(AND(COUNTRY_INFO!$I129=1,$F129<>0),IF(COUNTRY_INFO!M129>=(COUNTRY_INFO!F129+COUNTRY_INFO!G129),COUNTRY_INFO!F129+COUNTRY_INFO!G129,COUNTRY_INFO!$M129), 0),0)","v":0},0,0,0,0,null,0]
[{"$f":"IF(INTRO!$E$39=\"Non-endemic\",\" \",IF(COUNTRY_INFO!A130=0,\" \",COUNTRY_INFO!A130))","v":"Uganda"},{"$f":"IF(INTRO!$E$39=\"Non-endemic\",\" \",IF(COUNTRY_INFO!B130=0,\" \",COUNTRY_INFO!B130))","v":"Western"},{"$f":"IF(INTRO!$E$39=\"Non-endemic\",\" \",IF(COUNTRY_INFO!C130=0,\" \",COUNTRY_INFO!C130))","v":"Kagadi"},{"$f":"IF(INTRO!$E$39=\"Non-endemic\",0,IF(INTRO!$E$39=\"Endemic but PC is not required\",IF(COUNTRY_INFO!$H130=1,COUNTRY_INFO!F130+COUNTRY_INFO!G130,0),IF(COUNTRY_INFO!$H130=1,COUNTRY_INFO!F130+COUNTRY_INFO!G130,IF(COUNTRY_INFO!$I130=1,IF(COUNTRY_INFO!M130>=(COUNTRY_INFO!F130+COUNTRY_INFO!G130),COUNTRY_INFO!F130+COUNTRY_INFO!G130,COUNTRY_INFO!$M130),0))))","v":0},{"$f":"IF(AND(INTRO!$E$39=\"Non-endemic\",INTRO!$E$37=\"Non-endemic\"),\"Not required\",IF(INTRO!$E$39=\"Non-endemic\",\"Treat with DEC\",COUNTRY_INFO!V130))","v":0},{"$f":"IF(INTRO!$E$39<>\"Non-endemic\",COUNTRY_INFO!W130,\"Not required\")","v":0},{"$f":"IF(COUNTRY_INFO!H130=1, IF($E130=1,$D130, 0),0)","v":0},{"$f":"IF(COUNTRY_INFO!I130=1, IF(AND(COUNTRY_INFO!$I130=1,$F130<>0),IF(COUNTRY_INFO!M130>=(COUNTRY_INFO!F130+COUNTRY_INFO!G130),COUNTRY_INFO!F130+COUNTRY_INFO!G130,COUNTRY_INFO!$M130), 0),0)","v":0},0,0,0,0,null,0]
[{"$f":"IF(INTRO!$E$39=\"Non-endemic\",\" \",IF(COUNTRY_INFO!A131=0,\" \",COUNTRY_INFO!A131))","v":"Uganda"},{"$f":"IF(INTRO!$E$39=\"Non-endemic\",\" \",IF(COUNTRY_INFO!B131=0,\" \",COUNTRY_INFO!B131))","v":"Western"},{"$f":"IF(INTRO!$E$39=\"Non-endemic\",\" \",IF(COUNTRY_INFO!C131=0,\" \",COUNTRY_INFO!C131))","v":"Kakumiro"},{"$f":"IF(INTRO!$E$39=\"Non-endemic\",0,IF(INTRO!$E$39=\"Endemic but PC is not required\",IF(COUNTRY_INFO!$H131=1,COUNTRY_INFO!F131+COUNTRY_INFO!G131,0),IF(COUNTRY_INFO!$H131=1,COUNTRY_INFO!F131+COUNTRY_INFO!G131,IF(COUNTRY_INFO!$I131=1,IF(COUNTRY_INFO!M131>=(COUNTRY_INFO!F131+COUNTRY_INFO!G131),COUNTRY_INFO!F131+COUNTRY_INFO!G131,COUNTRY_INFO!$M131),0))))","v":0},{"$f":"IF(AND(INTRO!$E$39=\"Non-endemic\",INTRO!$E$37=\"Non-endemic\"),\"Not required\",IF(INTRO!$E$39=\"Non-endemic\",\"Treat with DEC\",COUNTRY_INFO!V131))","v":0},{"$f":"IF(INTRO!$E$39<>\"Non-endemic\",COUNTRY_INFO!W131,\"Not required\")","v":0},{"$f":"IF(COUNTRY_INFO!H131=1, IF($E131=1,$D131, 0),0)","v":0},{"$f":"IF(COUNTRY_INFO!I131=1, IF(AND(COUNTRY_INFO!$I131=1,$F131<>0),IF(COUNTRY_INFO!M131>=(COUNTRY_INFO!F131+COUNTRY_INFO!G131),COUNTRY_INFO!F131+COUNTRY_INFO!G131,COUNTRY_INFO!$M131), 0),0)","v":0},0,0,0,0,null,0]
[{"$f":"IF(INTRO!$E$39=\"Non-endemic\",\" \",IF(COUNTRY_INFO!A132=0,\" \",COUNTRY_INFO!A132))","v":"Uganda"},{"$f":"IF(INTRO!$E$39=\"Non-endemic\",\" \",IF(COUNTRY_INFO!B132=0,\" \",COUNTRY_INFO!B132))","v":"Western"},{"$f":"IF(INTRO!$E$39=\"Non-endemic\",\" \",IF(COUNTRY_INFO!C132=0,\" \",COUNTRY_INFO!C132))","v":"Kamwenge"},{"$f":"IF(INTRO!$E$39=\"Non-endemic\",0,IF(INTRO!$E$39=\"Endemic but PC is not required\",IF(COUNTRY_INFO!$H132=1,COUNTRY_INFO!F132+COUNTRY_INFO!G132,0),IF(COUNTRY_INFO!$H132=1,COUNTRY_INFO!F132+COUNTRY_INFO!G132,IF(COUNTRY_INFO!$I132=1,IF(COUNTRY_INFO!M132>=(COUNTRY_INFO!F132+COUNTRY_INFO!G132),COUNTRY_INFO!F132+COUNTRY_INFO!G132,COUNTRY_INFO!$M132),0))))","v":0},{"$f":"IF(AND(INTRO!$E$39=\"Non-endemic\",INTRO!$E$37=\"Non-endemic\"),\"Not required\",IF(INTRO!$E$39=\"Non-endemic\",\"Treat with DEC\",COUNTRY_INFO!V132))","v":0},{"$f":"IF(INTRO!$E$39<>\"Non-endemic\",COUNTRY_INFO!W132,\"Not required\")","v":0},{"$f":"IF(COUNTRY_INFO!H132=1, IF($E132=1,$D132, 0),0)","v":0},{"$f":"IF(COUNTRY_INFO!I132=1, IF(AND(COUNTRY_INFO!$I132=1,$F132<>0),IF(COUNTRY_INFO!M132>=(COUNTRY_INFO!F132+COUNTRY_INFO!G132),COUNTRY_INFO!F132+COUNTRY_INFO!G132,COUNTRY_INFO!$M132), 0),0)","v":0},0,0,0,0,null,0]
[{"$f":"IF(INTRO!$E$39=\"Non-endemic\",\" \",IF(COUNTRY_INFO!A133=0,\" \",COUNTRY_INFO!A133))","v":"Uganda"},{"$f":"IF(INTRO!$E$39=\"Non-endemic\",\" \",IF(COUNTRY_INFO!B133=0,\" \",COUNTRY_INFO!B133))","v":"Western"},{"$f":"IF(INTRO!$E$39=\"Non-endemic\",\" \",IF(COUNTRY_INFO!C133=0,\" \",COUNTRY_INFO!C133))","v":"Kanungu"},{"$f":"IF(INTRO!$E$39=\"Non-endemic\",0,IF(INTRO!$E$39=\"Endemic but PC is not required\",IF(COUNTRY_INFO!$H133=1,COUNTRY_INFO!F133+COUNTRY_INFO!G133,0),IF(COUNTRY_INFO!$H133=1,COUNTRY_INFO!F133+COUNTRY_INFO!G133,IF(COUNTRY_INFO!$I133=1,IF(COUNTRY_INFO!M133>=(COUNTRY_INFO!F133+COUNTRY_INFO!G133),COUNTRY_INFO!F133+COUNTRY_INFO!G133,COUNTRY_INFO!$M133),0))))","v":0},{"$f":"IF(AND(INTRO!$E$39=\"Non-endemic\",INTRO!$E$37=\"Non-endemic\"),\"Not required\",IF(INTRO!$E$39=\"Non-endemic\",\"Treat with DEC\",COUNTRY_INFO!V133))","v":0},{"$f":"IF(INTRO!$E$39<>\"Non-endemic\",COUNTRY_INFO!W133,\"Not required\")","v":0},{"$f":"IF(COUNTRY_INFO!H133=1, IF($E133=1,$D133, 0),0)","v":0},{"$f":"IF(COUNTRY_INFO!I133=1, IF(AND(COUNTRY_INFO!$I133=1,$F133<>0),IF(COUNTRY_INFO!M133>=(COUNTRY_INFO!F133+COUNTRY_INFO!G133),COUNTRY_INFO!F133+COUNTRY_INFO!G133,COUNTRY_INFO!$M133), 0),0)","v":0},0,0,0,0,null,0]
[{"$f":"IF(INTRO!$E$39=\"Non-endemic\",\" \",IF(COUNTRY_INFO!A134=0,\" \",COUNTRY_INFO!A134))","v":"Uganda"},{"$f":"IF(INTRO!$E$39=\"Non-endemic\",\" \",IF(COUNTRY_INFO!B134=0,\" \",COUNTRY_INFO!B134))","v":"Western"},{"$f":"IF(INTRO!$E$39=\"Non-endemic\",\" \",IF(COUNTRY_INFO!C134=0,\" \",COUNTRY_INFO!C134))","v":"Kasese"},{"$f":"IF(INTRO!$E$39=\"Non-endemic\",0,IF(INTRO!$E$39=\"Endemic but PC is not required\",IF(COUNTRY_INFO!$H134=1,COUNTRY_INFO!F134+COUNTRY_INFO!G134,0),IF(COUNTRY_INFO!$H134=1,COUNTRY_INFO!F134+COUNTRY_INFO!G134,IF(COUNTRY_INFO!$I134=1,IF(COUNTRY_INFO!M134>=(COUNTRY_INFO!F134+COUNTRY_INFO!G134),COUNTRY_INFO!F134+COUNTRY_INFO!G134,COUNTRY_INFO!$M134),0))))","v":136711},{"$f":"IF(AND(INTRO!$E$39=\"Non-endemic\",INTRO!$E$37=\"Non-endemic\"),\"Not required\",IF(INTRO!$E$39=\"Non-endemic\",\"Treat with DEC\",COUNTRY_INFO!V134))","v":0},{"$f":"IF(INTRO!$E$39<>\"Non-endemic\",COUNTRY_INFO!W134,\"Not required\")","v":2},{"$f":"IF(COUNTRY_INFO!H134=1, IF($E134=1,$D134, 0),0)","v":0},{"$f":"IF(COUNTRY_INFO!I134=1, IF(AND(COUNTRY_INFO!$I134=1,$F134<>0),IF(COUNTRY_INFO!M134>=(COUNTRY_INFO!F134+COUNTRY_INFO!G134),COUNTRY_INFO!F134+COUNTRY_INFO!G134,COUNTRY_INFO!$M134), 0),0)","v":136711},0,765581.6,0,765581.6,0,765581.6]
[{"$f":"IF(INTRO!$E$39=\"Non-endemic\",\" \",IF(COUNTRY_INFO!A135=0,\" \",COUNTRY_INFO!A135))","v":"Uganda"},{"$f":"IF(INTRO!$E$39=\"Non-endemic\",\" \",IF(COUNTRY_INFO!B135=0,\" \",COUNTRY_INFO!B135))","v":"Western"},{"$f":"IF(INTRO!$E$39=\"Non-endemic\",\" \",IF(COUNTRY_INFO!C135=0,\" \",COUNTRY_INFO!C135))","v":"Kazo"},{"$f":"IF(INTRO!$E$39=\"Non-endemic\",0,IF(INTRO!$E$39=\"Endemic but PC is not required\",IF(COUNTRY_INFO!$H135=1,COUNTRY_INFO!F135+COUNTRY_INFO!G135,0),IF(COUNTRY_INFO!$H135=1,COUNTRY_INFO!F135+COUNTRY_INFO!G135,IF(COUNTRY_INFO!$I135=1,IF(COUNTRY_INFO!M135>=(COUNTRY_INFO!F135+COUNTRY_INFO!G135),COUNTRY_INFO!F135+COUNTRY_INFO!G135,COUNTRY_INFO!$M135),0))))","v":0},{"$f":"IF(AND(INTRO!$E$39=\"Non-endemic\",INTRO!$E$37=\"Non-endemic\"),\"Not required\",IF(INTRO!$E$39=\"Non-endemic\",\"Treat with DEC\",COUNTRY_INFO!V135))","v":0},{"$f":"IF(INTRO!$E$39<>\"Non-endemic\",COUNTRY_INFO!W135,\"Not required\")","v":0},{"$f":"IF(COUNTRY_INFO!H135=1, IF($E135=1,$D135, 0),0)","v":0},{"$f":"IF(COUNTRY_INFO!I135=1, IF(AND(COUNTRY_INFO!$I135=1,$F135<>0),IF(COUNTRY_INFO!M135>=(COUNTRY_INFO!F135+COUNTRY_INFO!G135),COUNTRY_INFO!F135+COUNTRY_INFO!G135,COUNTRY_INFO!$M135), 0),0)","v":0},0,0,0,0,null,0]
[{"$f":"IF(INTRO!$E$39=\"Non-endemic\",\" \",IF(COUNTRY_INFO!A136=0,\" \",COUNTRY_INFO!A136))","v":"Uganda"},{"$f":"IF(INTRO!$E$39=\"Non-endemic\",\" \",IF(COUNTRY_INFO!B136=0,\" \",COUNTRY_INFO!B136))","v":"Western"},{"$f":"IF(INTRO!$E$39=\"Non-endemic\",\" \",IF(COUNTRY_INFO!C136=0,\" \",COUNTRY_INFO!C136))","v":"Kibaale"},{"$f":"IF(INTRO!$E$39=\"Non-endemic\",0,IF(INTRO!$E$39=\"Endemic but PC is not required\",IF(COUNTRY_INFO!$H136=1,COUNTRY_INFO!F136+COUNTRY_INFO!G136,0),IF(COUNTRY_INFO!$H136=1,COUNTRY_INFO!F136+COUNTRY_INFO!G136,IF(COUNTRY_INFO!$I136=1,IF(COUNTRY_INFO!M136>=(COUNTRY_INFO!F136+COUNTRY_INFO!G136),COUNTRY_INFO!F136+COUNTRY_INFO!G136,COUNTRY_INFO!$M136),0))))","v":0},{"$f":"IF(AND(INTRO!$E$39=\"Non-endemic\",INTRO!$E$37=\"Non-endemic\"),\"Not required\",IF(INTRO!$E$39=\"Non-endemic\",\"Treat with DEC\",COUNTRY_INFO!V136))","v":0},{"$f":"IF(INTRO!$E$39<>\"Non-endemic\",COUNTRY_INFO!W136,\"Not required\")","v":0},{"$f":"IF(COUNTRY_INFO!H136=1, IF($E136=1,$D136, 0),0)","v":0},{"$f":"IF(COUNTRY_INFO!I136=1, IF(AND(COUNTRY_INFO!$I136=1,$F136<>0),IF(COUNTRY_INFO!M136>=(COUNTRY_INFO!F136+COUNTRY_INFO!G136),COUNTRY_INFO!F136+COUNTRY_INFO!G136,COUNTRY_INFO!$M136), 0),0)","v":0},0,0,0,0,null,0]
[{"$f":"IF(INTRO!$E$39=\"Non-endemic\",\" \",IF(COUNTRY_INFO!A137=0,\" \",COUNTRY_INFO!A137))","v":"Uganda"},{"$f":"IF(INTRO!$E$39=\"Non-endemic\",\" \",IF(COUNTRY_INFO!B137=0,\" \",COUNTRY_INFO!B137))","v":"Western"},{"$f":"IF(INTRO!$E$39=\"Non-endemic\",\" \",IF(COUNTRY_INFO!C137=0,\" \",COUNTRY_INFO!C137))","v":"Kikuube"},{"$f":"IF(INTRO!$E$39=\"Non-endemic\",0,IF(INTRO!$E$39=\"Endemic but PC is not required\",IF(COUNTRY_INFO!$H137=1,COUNTRY_INFO!F137+COUNTRY_INFO!G137,0),IF(COUNTRY_INFO!$H137=1,COUNTRY_INFO!F137+COUNTRY_INFO!G137,IF(COUNTRY_INFO!$I137=1,IF(COUNTRY_INFO!M137>=(COUNTRY_INFO!F137+COUNTRY_INFO!G137),COUNTRY_INFO!F137+COUNTRY_INFO!G137,COUNTRY_INFO!$M137),0))))","v":0},{"$f":"IF(AND(INTRO!$E$39=\"Non-endemic\",INTRO!$E$37=\"Non-endemic\"),\"Not required\",IF(INTRO!$E$39=\"Non-endemic\",\"Treat with DEC\",COUNTRY_INFO!V137))","v":0},{"$f":"IF(INTRO!$E$39<>\"Non-endemic\",COUNTRY_INFO!W137,\"Not required\")","v":0},{"$f":"IF(COUNTRY_INFO!H137=1, IF($E137=1,$D137, 0),0)","v":0},{"$f":"IF(COUNTRY_INFO!I137=1, IF(AND(COUNTRY_INFO!$I137=1,$F137<>0),IF(COUNTRY_INFO!M137>=(COUNTRY_INFO!F137+COUNTRY_INFO!G137),COUNTRY_INFO!F137+COUNTRY_INFO!G137,COUNTRY_INFO!$M137), 0),0)","v":0},0,0,0,0,null,0]
[{"$f":"IF(INTRO!$E$39=\"Non-endemic\",\" \",IF(COUNTRY_INFO!A138=0,\" \",COUNTRY_INFO!A138))","v":"Uganda"},{"$f":"IF(INTRO!$E$39=\"Non-endemic\",\" \",IF(COUNTRY_INFO!B138=0,\" \",COUNTRY_INFO!B138))","v":"Western"},{"$f":"IF(INTRO!$E$39=\"Non-endemic\",\" \",IF(COUNTRY_INFO!C138=0,\" \",COUNTRY_INFO!C138))","v":"Kiruhura"},{"$f":"IF(INTRO!$E$39=\"Non-endemic\",0,IF(INTRO!$E$39=\"Endemic but PC is not required\",IF(COUNTRY_INFO!$H138=1,COUNTRY_INFO!F138+COUNTRY_INFO!G138,0),IF(COUNTRY_INFO!$H138=1,COUNTRY_INFO!F138+COUNTRY_INFO!G138,IF(COUNTRY_INFO!$I138=1,IF(COUNTRY_INFO!M138>=(COUNTRY_INFO!F138+COUNTRY_INFO!G138),COUNTRY_INFO!F138+COUNTRY_INFO!G138,COUNTRY_INFO!$M138),0))))","v":0},{"$f":"IF(AND(INTRO!$E$39=\"Non-endemic\",INTRO!$E$37=\"Non-endemic\"),\"Not required\",IF(INTRO!$E$39=\"Non-endemic\",\"Treat with DEC\",COUNTRY_INFO!V138))","v":0},{"$f":"IF(INTRO!$E$39<>\"Non-endemic\",COUNTRY_INFO!W138,\"Not required\")","v":0},{"$f":"IF(COUNTRY_INFO!H138=1, IF($E138=1,$D138, 0),0)","v":0},{"$f":"IF(COUNTRY_INFO!I138=1, IF(AND(COUNTRY_INFO!$I138=1,$F138<>0),IF(COUNTRY_INFO!M138>=(COUNTRY_INFO!F138+COUNTRY_INFO!G138),COUNTRY_INFO!F138+COUNTRY_INFO!G138,COUNTRY_INFO!$M138), 0),0)","v":0},{"$f":"IF(G138<H138,0,IF($E138=1, (G138-H138)*2.8, 0))","v":0},{"$f":"IF($E138<$F138, H138*(F138-E138)*2.8, 0)","v":0},0,0,null,0]
[{"$f":"IF(INTRO!$E$39=\"Non-endemic\",\" \",IF(COUNTRY_INFO!A139=0,\" \",COUNTRY_INFO!A139))","v":"Uganda"},{"$f":"IF(INTRO!$E$39=\"Non-endemic\",\" \",IF(COUNTRY_INFO!B139=0,\" \",COUNTRY_INFO!B139))","v":"Western"},{"$f":"IF(INTRO!$E$39=\"Non-endemic\",\" \",IF(COUNTRY_INFO!C139=0,\" \",COUNTRY_INFO!C139))","v":"Kiryandongo"},{"$f":"IF(INTRO!$E$39=\"Non-endemic\",0,IF(INTRO!$E$39=\"Endemic but PC is not required\",IF(COUNTRY_INFO!$H139=1,COUNTRY_INFO!F139+COUNTRY_INFO!G139,0),IF(COUNTRY_INFO!$H139=1,COUNTRY_INFO!F139+COUNTRY_INFO!G139,IF(COUNTRY_INFO!$I139=1,IF(COUNTRY_INFO!M139>=(COUNTRY_INFO!F139+COUNTRY_INFO!G139),COUNTRY_INFO!F139+COUNTRY_INFO!G139,COUNTRY_INFO!$M139),0))))","v":0},{"$f":"IF(AND(INTRO!$E$39=\"Non-endemic\",INTRO!$E$37=\"Non-endemic\"),\"Not required\",IF(INTRO!$E$39=\"Non-endemic\",\"Treat with DEC\",COUNTRY_INFO!V139))","v":0},{"$f":"IF(INTRO!$E$39<>\"Non-endemic\",COUNTRY_INFO!W139,\"Not required\")","v":0},{"$f":"IF(COUNTRY_INFO!H139=1, IF($E139=1,$D139, 0),0)","v":0},{"$f":"IF(COUNTRY_INFO!I139=1, IF(AND(COUNTRY_INFO!$I139=1,$F139<>0),IF(COUNTRY_INFO!M139>=(COUNTRY_INFO!F139+COUNTRY_INFO!G139),COUNTRY_INFO!F139+COUNTRY_INFO!G139,COUNTRY_INFO!$M139), 0),0)","v":0},0,0,{"$f":"IF(AND($E139=1, $F139<>0), H139*2.8, 0)","v":0},{"$f":"SUM(I139:K139)","v":0},null,0]
[{"$f":"IF(INTRO!$E$39=\"Non-endemic\",\" \",IF(COUNTRY_INFO!A140=0,\" \",COUNTRY_INFO!A140))","v":"Uganda"},{"$f":"IF(INTRO!$E$39=\"Non-endemic\",\" \",IF(COUNTRY_INFO!B140=0,\" \",COUNTRY_INFO!B140))","v":"Western"},{"$f":"IF(INTRO!$E$39=\"Non-endemic\",\" \",IF(COUNTRY_INFO!C140=0,\" \",COUNTRY_INFO!C140))","v":"Kisoro"},{"$f":"IF(INTRO!$E$39=\"Non-endemic\",0,IF(INTRO!$E$39=\"Endemic but PC is not required\",IF(COUNTRY_INFO!$H140=1,COUNTRY_INFO!F140+COUNTRY_INFO!G140,0),IF(COUNTRY_INFO!$H140=1,COUNTRY_INFO!F140+COUNTRY_INFO!G140,IF(COUNTRY_INFO!$I140=1,IF(COUNTRY_INFO!M140>=(COUNTRY_INFO!F140+COUNTRY_INFO!G140),COUNTRY_INFO!F140+COUNTRY_INFO!G140,COUNTRY_INFO!$M140),0))))","v":0},{"$f":"IF(AND(INTRO!$E$39=\"Non-endemic\",INTRO!$E$37=\"Non-endemic\"),\"Not required\",IF(INTRO!$E$39=\"Non-endemic\",\"Treat with DEC\",COUNTRY_INFO!V140))","v":0},{"$f":"IF(INTRO!$E$39<>\"Non-endemic\",COUNTRY_INFO!W140,\"Not required\")","v":0},{"$f":"IF(COUNTRY_INFO!H140=1, IF($E140=1,$D140, 0),0)","v":0},{"$f":"IF(COUNTRY_INFO!I140=1, IF(AND(COUNTRY_INFO!$I140=1,$F140<>0),IF(COUNTRY_INFO!M140>=(COUNTRY_INFO!F140+COUNTRY_INFO!G140),COUNTRY_INFO!F140+COUNTRY_INFO!G140,COUNTRY_INFO!$M140), 0),0)","v":0},0,0,0,0,null,0]
[{"$f":"IF(INTRO!$E$39=\"Non-endemic\",\" \",IF(COUNTRY_INFO!A141=0,\" \",COUNTRY_INFO!A141))","v":"Uganda"},{"$f":"IF(INTRO!$E$39=\"Non-endemic\",\" \",IF(COUNTRY_INFO!B141=0,\" \",COUNTRY_INFO!B141))","v":"Western"},{"$f":"IF(INTRO!$E$39=\"Non-endemic\",\" \",IF(COUNTRY_INFO!C141=0,\" \",COUNTRY_INFO!C141))","v":"Kitagwenda"},{"$f":"IF(INTRO!$E$39=\"Non-endemic\",0,IF(INTRO!$E$39=\"Endemic but PC is not required\",IF(COUNTRY_INFO!$H141=1,COUNTRY_INFO!F141+COUNTRY_INFO!G141,0),IF(COUNTRY_INFO!$H141=1,COUNTRY_INFO!F141+COUNTRY_INFO!G141,IF(COUNTRY_INFO!$I141=1,IF(COUNTRY_INFO!M141>=(COUNTRY_INFO!F141+COUNTRY_INFO!G141),COUNTRY_INFO!F141+COUNTRY_INFO!G141,COUNTRY_INFO!$M141),0))))","v":0},{"$f":"IF(AND(INTRO!$E$39=\"Non-endemic\",INTRO!$E$37=\"Non-endemic\"),\"Not required\",IF(INTRO!$E$39=\"Non-endemic\",\"Treat with DEC\",COUNTRY_INFO!V141))","v":0},{"$f":"IF(INTRO!$E$39<>\"Non-endemic\",COUNTRY_INFO!W141,\"Not required\")","v":0},{"$f":"IF(COUNTRY_INFO!H141=1, IF($E141=1,$D141, 0),0)","v":0},{"$f":"IF(COUNTRY_INFO!I141=1, IF(AND(COUNTRY_INFO!$I141=1,$F141<>0),IF(COUNTRY_INFO!M141>=(COUNTRY_INFO!F141+COUNTRY_INFO!G141),COUNTRY_INFO!F141+COUNTRY_INFO!G141,COUNTRY_INFO!$M141), 0),0)","v":0},0,0,0,0,null,0]
[{"$f":"IF(INTRO!$E$39=\"Non-endemic\",\" \",IF(COUNTRY_INFO!A142=0,\" \",COUNTRY_INFO!A142))","v":"Uganda"},{"$f":"IF(INTRO!$E$39=\"Non-endemic\",\" \",IF(COUNTRY_INFO!B142=0,\" \",COUNTRY_INFO!B142))","v":"Western"},{"$f":"IF(INTRO!$E$39=\"Non-endemic\",\" \",IF(COUNTRY_INFO!C142=0,\" \",COUNTRY_INFO!C142))","v":"Kyegegwa"},{"$f":"IF(INTRO!$E$39=\"Non-endemic\",0,IF(INTRO!$E$39=\"Endemic but PC is not required\",IF(COUNTRY_INFO!$H142=1,COUNTRY_INFO!F142+COUNTRY_INFO!G142,0),IF(COUNTRY_INFO!$H142=1,COUNTRY_INFO!F142+COUNTRY_INFO!G142,IF(COUNTRY_INFO!$I142=1,IF(COUNTRY_INFO!M142>=(COUNTRY_INFO!F142+COUNTRY_INFO!G142),COUNTRY_INFO!F142+COUNTRY_INFO!G142,COUNTRY_INFO!$M142),0))))","v":0},{"$f":"IF(AND(INTRO!$E$39=\"Non-endemic\",INTRO!$E$37=\"Non-endemic\"),\"Not required\",IF(INTRO!$E$39=\"Non-endemic\",\"Treat with DEC\",COUNTRY_INFO!V142))","v":0},{"$f":"IF(INTRO!$E$39<>\"Non-endemic\",COUNTRY_INFO!W142,\"Not required\")","v":0},{"$f":"IF(COUNTRY_INFO!H142=1, IF($E142=1,$D142, 0),0)","v":0},{"$f":"IF(COUNTRY_INFO!I142=1, IF(AND(COUNTRY_INFO!$I142=1,$F142<>0),IF(COUNTRY_INFO!M142>=(COUNTRY_INFO!F142+COUNTRY_INFO!G142),COUNTRY_INFO!F142+COUNTRY_INFO!G142,COUNTRY_INFO!$M142), 0),0)","v":0},0,0,0,0,null,0]
[{"$f":"IF(INTRO!$E$39=\"Non-endemic\",\" \",IF(COUNTRY_INFO!A143=0,\" \",COUNTRY_INFO!A143))","v":"Uganda"},{"$f":"IF(INTRO!$E$39=\"Non-endemic\",\" \",IF(COUNTRY_INFO!B143=0,\" \",COUNTRY_INFO!B143))","v":"Western"},{"$f":"IF(INTRO!$E$39=\"Non-endemic\",\" \",IF(COUNTRY_INFO!C143=0,\" \",COUNTRY_INFO!C143))","v":"Kyenjojo"},{"$f":"IF(INTRO!$E$39=\"Non-endemic\",0,IF(INTRO!$E$39=\"Endemic but PC is not required\",IF(COUNTRY_INFO!$H143=1,COUNTRY_INFO!F143+COUNTRY_INFO!G143,0),IF(COUNTRY_INFO!$H143=1,COUNTRY_INFO!F143+COUNTRY_INFO!G143,IF(COUNTRY_INFO!$I143=1,IF(COUNTRY_INFO!M143>=(COUNTRY_INFO!F143+COUNTRY_INFO!G143),COUNTRY_INFO!F143+COUNTRY_INFO!G143,COUNTRY_INFO!$M143),0))))","v":0},{"$f":"IF(AND(INTRO!$E$39=\"Non-endemic\",INTRO!$E$37=\"Non-endemic\"),\"Not required\",IF(INTRO!$E$39=\"Non-endemic\",\"Treat with DEC\",COUNTRY_INFO!V143))","v":0},{"$f":"IF(INTRO!$E$39<>\"Non-endemic\",COUNTRY_INFO!W143,\"Not required\")","v":0},{"$f":"IF(COUNTRY_INFO!H143=1, IF($E143=1,$D143, 0),0)","v":0},{"$f":"IF(COUNTRY_INFO!I143=1, IF(AND(COUNTRY_INFO!$I143=1,$F143<>0),IF(COUNTRY_INFO!M143>=(COUNTRY_INFO!F143+COUNTRY_INFO!G143),COUNTRY_INFO!F143+COUNTRY_INFO!G143,COUNTRY_INFO!$M143), 0),0)","v":0},0,0,0,0,null,0]
[{"$f":"IF(INTRO!$E$39=\"Non-endemic\",\" \",IF(COUNTRY_INFO!A144=0,\" \",COUNTRY_INFO!A144))","v":"Uganda"},{"$f":"IF(INTRO!$E$39=\"Non-endemic\",\" \",IF(COUNTRY_INFO!B144=0,\" \",COUNTRY_INFO!B144))","v":"Western"},{"$f":"IF(INTRO!$E$39=\"Non-endemic\",\" \",IF(COUNTRY_INFO!C144=0,\" \",COUNTRY_INFO!C144))","v":"Masindi"},{"$f":"IF(INTRO!$E$39=\"Non-endemic\",0,IF(INTRO!$E$39=\"Endemic but PC is not required\",IF(COUNTRY_INFO!$H144=1,COUNTRY_INFO!F144+COUNTRY_INFO!G144,0),IF(COUNTRY_INFO!$H144=1,COUNTRY_INFO!F144+COUNTRY_INFO!G144,IF(COUNTRY_INFO!$I144=1,IF(COUNTRY_INFO!M144>=(COUNTRY_INFO!F144+COUNTRY_INFO!G144),COUNTRY_INFO!F144+COUNTRY_INFO!G144,COUNTRY_INFO!$M144),0))))","v":0},{"$f":"IF(AND(INTRO!$E$39=\"Non-endemic\",INTRO!$E$37=\"Non-endemic\"),\"Not required\",IF(INTRO!$E$39=\"Non-endemic\",\"Treat with DEC\",COUNTRY_INFO!V144))","v":0},{"$f":"IF(INTRO!$E$39<>\"Non-endemic\",COUNTRY_INFO!W144,\"Not required\")","v":0},{"$f":"IF(COUNTRY_INFO!H144=1, IF($E144=1,$D144, 0),0)","v":0},{"$f":"IF(COUNTRY_INFO!I144=1, IF(AND(COUNTRY_INFO!$I144=1,$F144<>0),IF(COUNTRY_INFO!M144>=(COUNTRY_INFO!F144+COUNTRY_INFO!G144),COUNTRY_INFO!F144+COUNTRY_INFO!G144,COUNTRY_INFO!$M144), 0),0)","v":0},0,0,0,0,null,0]
[{"$f":"IF(INTRO!$E$39=\"Non-endemic\",\" \",IF(COUNTRY_INFO!A145=0,\" \",COUNTRY_INFO!A145))","v":"Uganda"},{"$f":"IF(INTRO!$E$39=\"Non-endemic\",\" \",IF(COUNTRY_INFO!B145=0,\" \",COUNTRY_INFO!B145))","v":"Western"},{"$f":"IF(INTRO!$E$39=\"Non-endemic\",\" \",IF(COUNTRY_INFO!C145=0,\" \",COUNTRY_INFO!C145))","v":"Mbarara"},{"$f":"IF(INTRO!$E$39=\"Non-endemic\",0,IF(INTRO!$E$39=\"Endemic but PC is not required\",IF(COUNTRY_INFO!$H145=1,COUNTRY_INFO!F145+COUNTRY_INFO!G145,0),IF(COUNTRY_INFO!$H145=1,COUNTRY_INFO!F145+COUNTRY_INFO!G145,IF(COUNTRY_INFO!$I145=1,IF(COUNTRY_INFO!M145>=(COUNTRY_INFO!F145+COUNTRY_INFO!G145),COUNTRY_INFO!F145+COUNTRY_INFO!G145,COUNTRY_INFO!$M145),0))))","v":0},{"$f":"IF(AND(INTRO!$E$39=\"Non-endemic\",INTRO!$E$37=\"Non-endemic\"),\"Not required\",IF(INTRO!$E$39=\"Non-endemic\",\"Treat with DEC\",COUNTRY_INFO!V145))","v":0},{"$f":"IF(INTRO!$E$39<>\"Non-endemic\",COUNTRY_INFO!W145,\"Not required\")","v":0},{"$f":"IF(COUNTRY_INFO!H145=1, IF($E145=1,$D145, 0),0)","v":0},{"$f":"IF(COUNTRY_INFO!I145=1, IF(AND(COUNTRY_INFO!$I145=1,$F145<>0),IF(COUNTRY_INFO!M145>=(COUNTRY_INFO!F145+COUNTRY_INFO!G145),COUNTRY_INFO!F145+COUNTRY_INFO!G145,COUNTRY_INFO!$M145), 0),0)","v":0},0,0,0,0,null,0]
[{"$f":"IF(INTRO!$E$39=\"Non-endemic\",\" \",IF(COUNTRY_INFO!A146=0,\" \",COUNTRY_INFO!A146))","v":"Uganda"},{"$f":"IF(INTRO!$E$39=\"Non-endemic\",\" \",IF(COUNTRY_INFO!B146=0,\" \",COUNTRY_INFO!B146))","v":"Western"},{"$f":"IF(INTRO!$E$39=\"Non-endemic\",\" \",IF(COUNTRY_INFO!C146=0,\" \",COUNTRY_INFO!C146))","v":"Mbarara City"},{"$f":"IF(INTRO!$E$39=\"Non-endemic\",0,IF(INTRO!$E$39=\"Endemic but PC is not required\",IF(COUNTRY_INFO!$H146=1,COUNTRY_INFO!F146+COUNTRY_INFO!G146,0),IF(COUNTRY_INFO!$H146=1,COUNTRY_INFO!F146+COUNTRY_INFO!G146,IF(COUNTRY_INFO!$I146=1,IF(COUNTRY_INFO!M146>=(COUNTRY_INFO!F146+COUNTRY_INFO!G146),COUNTRY_INFO!F146+COUNTRY_INFO!G146,COUNTRY_INFO!$M146),0))))","v":0},{"$f":"IF(AND(INTRO!$E$39=\"Non-endemic\",INTRO!$E$37=\"Non-endemic\"),\"Not required\",IF(INTRO!$E$39=\"Non-endemic\",\"Treat with DEC\",COUNTRY_INFO!V146))","v":0},{"$f":"IF(INTRO!$E$39<>\"Non-endemic\",COUNTRY_INFO!W146,\"Not required\")","v":0},{"$f":"IF(COUNTRY_INFO!H146=1, IF($E146=1,$D146, 0),0)","v":0},{"$f":"IF(COUNTRY_INFO!I146=1, IF(AND(COUNTRY_INFO!$I146=1,$F146<>0),IF(COUNTRY_INFO!M146>=(COUNTRY_INFO!F146+COUNTRY_INFO!G146),COUNTRY_INFO!F146+COUNTRY_INFO!G146,COUNTRY_INFO!$M146), 0),0)","v":0},0,0,0,0,null,0]
[{"$f":"IF(INTRO!$E$39=\"Non-endemic\",\" \",IF(COUNTRY_INFO!A147=0,\" \",COUNTRY_INFO!A147))","v":"Uganda"},{"$f":"IF(INTRO!$E$39=\"Non-endemic\",\" \",IF(COUNTRY_INFO!B147=0,\" \",COUNTRY_INFO!B147))","v":"Western"},{"$f":"IF(INTRO!$E$39=\"Non-endemic\",\" \",IF(COUNTRY_INFO!C147=0,\" \",COUNTRY_INFO!C147))","v":"Mitooma"},{"$f":"IF(INTRO!$E$39=\"Non-endemic\",0,IF(INTRO!$E$39=\"Endemic but PC is not required\",IF(COUNTRY_INFO!$H147=1,COUNTRY_INFO!F147+COUNTRY_INFO!G147,0),IF(COUNTRY_INFO!$H147=1,COUNTRY_INFO!F147+COUNTRY_INFO!G147,IF(COUNTRY_INFO!$I147=1,IF(COUNTRY_INFO!M147>=(COUNTRY_INFO!F147+COUNTRY_INFO!G147),COUNTRY_INFO!F147+COUNTRY_INFO!G147,COUNTRY_INFO!$M147),0))))","v":0},{"$f":"IF(AND(INTRO!$E$39=\"Non-endemic\",INTRO!$E$37=\"Non-endemic\"),\"Not required\",IF(INTRO!$E$39=\"Non-endemic\",\"Treat with DEC\",COUNTRY_INFO!V147))","v":0},{"$f":"IF(INTRO!$E$39<>\"Non-endemic\",COUNTRY_INFO!W147,\"Not required\")","v":0},{"$f":"IF(COUNTRY_INFO!H147=1, IF($E147=1,$D147, 0),0)","v":0},{"$f":"IF(COUNTRY_INFO!I147=1, IF(AND(COUNTRY_INFO!$I147=1,$F147<>0),IF(COUNTRY_INFO!M147>=(COUNTRY_INFO!F147+COUNTRY_INFO!G147),COUNTRY_INFO!F147+COUNTRY_INFO!G147,COUNTRY_INFO!$M147), 0),0)","v":0},0,0,0,0,null,0]
[{"$f":"IF(INTRO!$E$39=\"Non-endemic\",\" \",IF(COUNTRY_INFO!A148=0,\" \",COUNTRY_INFO!A148))","v":"Uganda"},{"$f":"IF(INTRO!$E$39=\"Non-endemic\",\" \",IF(COUNTRY_INFO!B148=0,\" \",COUNTRY_INFO!B148))","v":"Western"},{"$f":"IF(INTRO!$E$39=\"Non-endemic\",\" \",IF(COUNTRY_INFO!C148=0,\" \",COUNTRY_INFO!C148))","v":"Ntoroko"},{"$f":"IF(INTRO!$E$39=\"Non-endemic\",0,IF(INTRO!$E$39=\"Endemic but PC is not required\",IF(COUNTRY_INFO!$H148=1,COUNTRY_INFO!F148+COUNTRY_INFO!G148,0),IF(COUNTRY_INFO!$H148=1,COUNTRY_INFO!F148+COUNTRY_INFO!G148,IF(COUNTRY_INFO!$I148=1,IF(COUNTRY_INFO!M148>=(COUNTRY_INFO!F148+COUNTRY_INFO!G148),COUNTRY_INFO!F148+COUNTRY_INFO!G148,COUNTRY_INFO!$M148),0))))","v":0},{"$f":"IF(AND(INTRO!$E$39=\"Non-endemic\",INTRO!$E$37=\"Non-endemic\"),\"Not required\",IF(INTRO!$E$39=\"Non-endemic\",\"Treat with DEC\",COUNTRY_INFO!V148))","v":0},{"$f":"IF(INTRO!$E$39<>\"Non-endemic\",COUNTRY_INFO!W148,\"Not required\")","v":0},{"$f":"IF(COUNTRY_INFO!H148=1, IF($E148=1,$D148, 0),0)","v":0},{"$f":"IF(COUNTRY_INFO!I148=1, IF(AND(COUNTRY_INFO!$I148=1,$F148<>0),IF(COUNTRY_INFO!M148>=(COUNTRY_INFO!F148+COUNTRY_INFO!G148),COUNTRY_INFO!F148+COUNTRY_INFO!G148,COUNTRY_INFO!$M148), 0),0)","v":0},0,0,0,0,null,0]
[{"$f":"IF(INTRO!$E$39=\"Non-endemic\",\" \",IF(COUNTRY_INFO!A149=0,\" \",COUNTRY_INFO!A149))","v":"Uganda"},{"$f":"IF(INTRO!$E$39=\"Non-endemic\",\" \",IF(COUNTRY_INFO!B149=0,\" \",COUNTRY_INFO!B149))","v":"Western"},{"$f":"IF(INTRO!$E$39=\"Non-endemic\",\" \",IF(COUNTRY_INFO!C149=0,\" \",COUNTRY_INFO!C149))","v":"Ntungamo"},{"$f":"IF(INTRO!$E$39=\"Non-endemic\",0,IF(INTRO!$E$39=\"Endemic but PC is not required\",IF(COUNTRY_INFO!$H149=1,COUNTRY_INFO!F149+COUNTRY_INFO!G149,0),IF(COUNTRY_INFO!$H149=1,COUNTRY_INFO!F149+COUNTRY_INFO!G149,IF(COUNTRY_INFO!$I149=1,IF(COUNTRY_INFO!M149>=(COUNTRY_INFO!F149+COUNTRY_INFO!G149),COUNTRY_INFO!F149+COUNTRY_INFO!G149,COUNTRY_INFO!$M149),0))))","v":0},{"$f":"IF(AND(INTRO!$E$39=\"Non-endemic\",INTRO!$E$37=\"Non-endemic\"),\"Not required\",IF(INTRO!$E$39=\"Non-endemic\",\"Treat with DEC\",COUNTRY_INFO!V149))","v":0},{"$f":"IF(INTRO!$E$39<>\"Non-endemic\",COUNTRY_INFO!W149,\"Not required\")","v":0},{"$f":"IF(COUNTRY_INFO!H149=1, IF($E149=1,$D149, 0),0)","v":0},{"$f":"IF(COUNTRY_INFO!I149=1, IF(AND(COUNTRY_INFO!$I149=1,$F149<>0),IF(COUNTRY_INFO!M149>=(COUNTRY_INFO!F149+COUNTRY_INFO!G149),COUNTRY_INFO!F149+COUNTRY_INFO!G149,COUNTRY_INFO!$M149), 0),0)","v":0},0,0,0,0,null,0]
[{"$f":"IF(INTRO!$E$39=\"Non-endemic\",\" \",IF(COUNTRY_INFO!A150=0,\" \",COUNTRY_INFO!A150))","v":"Uganda"},{"$f":"IF(INTRO!$E$39=\"Non-endemic\",\" \",IF(COUNTRY_INFO!B150=0,\" \",COUNTRY_INFO!B150))","v":"Western"},{"$f":"IF(INTRO!$E$39=\"Non-endemic\",\" \",IF(COUNTRY_INFO!C150=0,\" \",COUNTRY_INFO!C150))","v":"Rubanda"},{"$f":"IF(INTRO!$E$39=\"Non-endemic\",0,IF(INTRO!$E$39=\"Endemic but PC is not required\",IF(COUNTRY_INFO!$H150=1,COUNTRY_INFO!F150+COUNTRY_INFO!G150,0),IF(COUNTRY_INFO!$H150=1,COUNTRY_INFO!F150+COUNTRY_INFO!G150,IF(COUNTRY_INFO!$I150=1,IF(COUNTRY_INFO!M150>=(COUNTRY_INFO!F150+COUNTRY_INFO!G150),COUNTRY_INFO!F150+COUNTRY_INFO!G150,COUNTRY_INFO!$M150),0))))","v":0},{"$f":"IF(AND(INTRO!$E$39=\"Non-endemic\",INTRO!$E$37=\"Non-endemic\"),\"Not required\",IF(INTRO!$E$39=\"Non-endemic\",\"Treat with DEC\",COUNTRY_INFO!V150))","v":0},{"$f":"IF(INTRO!$E$39<>\"Non-endemic\",COUNTRY_INFO!W150,\"Not required\")","v":0},{"$f":"IF(COUNTRY_INFO!H150=1, IF($E150=1,$D150, 0),0)","v":0},{"$f":"IF(COUNTRY_INFO!I150=1, IF(AND(COUNTRY_INFO!$I150=1,$F150<>0),IF(COUNTRY_INFO!M150>=(COUNTRY_INFO!F150+COUNTRY_INFO!G150),COUNTRY_INFO!F150+COUNTRY_INFO!G150,COUNTRY_INFO!$M150), 0),0)","v":0},0,0,0,0,null,0]
[{"$f":"IF(INTRO!$E$39=\"Non-endemic\",\" \",IF(COUNTRY_INFO!A151=0,\" \",COUNTRY_INFO!A151))","v":"Uganda"},{"$f":"IF(INTRO!$E$39=\"Non-endemic\",\" \",IF(COUNTRY_INFO!B151=0,\" \",COUNTRY_INFO!B151))","v":"Western"},{"$f":"IF(INTRO!$E$39=\"Non-endemic\",\" \",IF(COUNTRY_INFO!C151=0,\" \",COUNTRY_INFO!C151))","v":"Rubirizi"},{"$f":"IF(INTRO!$E$39=\"Non-endemic\",0,IF(INTRO!$E$39=\"Endemic but PC is not required\",IF(COUNTRY_INFO!$H151=1,COUNTRY_INFO!F151+COUNTRY_INFO!G151,0),IF(COUNTRY_INFO!$H151=1,COUNTRY_INFO!F151+COUNTRY_INFO!G151,IF(COUNTRY_INFO!$I151=1,IF(COUNTRY_INFO!M151>=(COUNTRY_INFO!F151+COUNTRY_INFO!G151),COUNTRY_INFO!F151+COUNTRY_INFO!G151,COUNTRY_INFO!$M151),0))))","v":0},{"$f":"IF(AND(INTRO!$E$39=\"Non-endemic\",INTRO!$E$37=\"Non-endemic\"),\"Not required\",IF(INTRO!$E$39=\"Non-endemic\",\"Treat with DEC\",COUNTRY_INFO!V151))","v":0},{"$f":"IF(INTRO!$E$39<>\"Non-endemic\",COUNTRY_INFO!W151,\"Not required\")","v":0},{"$f":"IF(COUNTRY_INFO!H151=1, IF($E151=1,$D151, 0),0)","v":0},{"$f":"IF(COUNTRY_INFO!I151=1, IF(AND(COUNTRY_INFO!$I151=1,$F151<>0),IF(COUNTRY_INFO!M151>=(COUNTRY_INFO!F151+COUNTRY_INFO!G151),COUNTRY_INFO!F151+COUNTRY_INFO!G151,COUNTRY_INFO!$M151), 0),0)","v":0},0,0,0,0,null,0]
[{"$f":"IF(INTRO!$E$39=\"Non-endemic\",\" \",IF(COUNTRY_INFO!A152=0,\" \",COUNTRY_INFO!A152))","v":"Uganda"},{"$f":"IF(INTRO!$E$39=\"Non-endemic\",\" \",IF(COUNTRY_INFO!B152=0,\" \",COUNTRY_INFO!B152))","v":"Western"},{"$f":"IF(INTRO!$E$39=\"Non-endemic\",\" \",IF(COUNTRY_INFO!C152=0,\" \",COUNTRY_INFO!C152))","v":"Rukiga"},{"$f":"IF(INTRO!$E$39=\"Non-endemic\",0,IF(INTRO!$E$39=\"Endemic but PC is not required\",IF(COUNTRY_INFO!$H152=1,COUNTRY_INFO!F152+COUNTRY_INFO!G152,0),IF(COUNTRY_INFO!$H152=1,COUNTRY_INFO!F152+COUNTRY_INFO!G152,IF(COUNTRY_INFO!$I152=1,IF(COUNTRY_INFO!M152>=(COUNTRY_INFO!F152+COUNTRY_INFO!G152),COUNTRY_INFO!F152+COUNTRY_INFO!G152,COUNTRY_INFO!$M152),0))))","v":0},{"$f":"IF(AND(INTRO!$E$39=\"Non-endemic\",INTRO!$E$37=\"Non-endemic\"),\"Not required\",IF(INTRO!$E$39=\"Non-endemic\",\"Treat with DEC\",COUNTRY_INFO!V152))","v":0},{"$f":"IF(INTRO!$E$39<>\"Non-endemic\",COUNTRY_INFO!W152,\"Not required\")","v":0},{"$f":"IF(COUNTRY_INFO!H152=1, IF($E152=1,$D152, 0),0)","v":0},{"$f":"IF(COUNTRY_INFO!I152=1, IF(AND(COUNTRY_INFO!$I152=1,$F152<>0),IF(COUNTRY_INFO!M152>=(COUNTRY_INFO!F152+COUNTRY_INFO!G152),COUNTRY_INFO!F152+COUNTRY_INFO!G152,COUNTRY_INFO!$M152), 0),0)","v":0},0,0,0,0,null,0]
[{"$f":"IF(INTRO!$E$39=\"Non-endemic\",\" \",IF(COUNTRY_INFO!A153=0,\" \",COUNTRY_INFO!A153))","v":"Uganda"},{"$f":"IF(INTRO!$E$39=\"Non-endemic\",\" \",IF(COUNTRY_INFO!B153=0,\" \",COUNTRY_INFO!B153))","v":"Western"},{"$f":"IF(INTRO!$E$39=\"Non-endemic\",\" \",IF(COUNTRY_INFO!C153=0,\" \",COUNTRY_INFO!C153))","v":"Rukungiri"},{"$f":"IF(INTRO!$E$39=\"Non-endemic\",0,IF(INTRO!$E$39=\"Endemic but PC is not required\",IF(COUNTRY_INFO!$H153=1,COUNTRY_INFO!F153+COUNTRY_INFO!G153,0),IF(COUNTRY_INFO!$H153=1,COUNTRY_INFO!F153+COUNTRY_INFO!G153,IF(COUNTRY_INFO!$I153=1,IF(COUNTRY_INFO!M153>=(COUNTRY_INFO!F153+COUNTRY_INFO!G153),COUNTRY_INFO!F153+COUNTRY_INFO!G153,COUNTRY_INFO!$M153),0))))","v":0},{"$f":"IF(AND(INTRO!$E$39=\"Non-endemic\",INTRO!$E$37=\"Non-endemic\"),\"Not required\",IF(INTRO!$E$39=\"Non-endemic\",\"Treat with DEC\",COUNTRY_INFO!V153))","v":0},{"$f":"IF(INTRO!$E$39<>\"Non-endemic\",COUNTRY_INFO!W153,\"Not required\")","v":0},{"$f":"IF(COUNTRY_INFO!H153=1, IF($E153=1,$D153, 0),0)","v":0},{"$f":"IF(COUNTRY_INFO!I153=1, IF(AND(COUNTRY_INFO!$I153=1,$F153<>0),IF(COUNTRY_INFO!M153>=(COUNTRY_INFO!F153+COUNTRY_INFO!G153),COUNTRY_INFO!F153+COUNTRY_INFO!G153,COUNTRY_INFO!$M153), 0),0)","v":0},0,0,0,0,null,0]
[{"$f":"IF(INTRO!$E$39=\"Non-endemic\",\" \",IF(COUNTRY_INFO!A154=0,\" \",COUNTRY_INFO!A154))","v":"Uganda"},{"$f":"IF(INTRO!$E$39=\"Non-endemic\",\" \",IF(COUNTRY_INFO!B154=0,\" \",COUNTRY_INFO!B154))","v":"Western"},{"$f":"IF(INTRO!$E$39=\"Non-endemic\",\" \",IF(COUNTRY_INFO!C154=0,\" \",COUNTRY_INFO!C154))","v":"Rwampara"},{"$f":"IF(INTRO!$E$39=\"Non-endemic\",0,IF(INTRO!$E$39=\"Endemic but PC is not required\",IF(COUNTRY_INFO!$H154=1,COUNTRY_INFO!F154+COUNTRY_INFO!G154,0),IF(COUNTRY_INFO!$H154=1,COUNTRY_INFO!F154+COUNTRY_INFO!G154,IF(COUNTRY_INFO!$I154=1,IF(COUNTRY_INFO!M154>=(COUNTRY_INFO!F154+COUNTRY_INFO!G154),COUNTRY_INFO!F154+COUNTRY_INFO!G154,COUNTRY_INFO!$M154),0))))","v":0},{"$f":"IF(AND(INTRO!$E$39=\"Non-endemic\",INTRO!$E$37=\"Non-endemic\"),\"Not required\",IF(INTRO!$E$39=\"Non-endemic\",\"Treat with DEC\",COUNTRY_INFO!V154))","v":0},{"$f":"IF(INTRO!$E$39<>\"Non-endemic\",COUNTRY_INFO!W154,\"Not required\")","v":0},{"$f":"IF(COUNTRY_INFO!H154=1, IF($E154=1,$D154, 0),0)","v":0},{"$f":"IF(COUNTRY_INFO!I154=1, IF(AND(COUNTRY_INFO!$I154=1,$F154<>0),IF(COUNTRY_INFO!M154>=(COUNTRY_INFO!F154+COUNTRY_INFO!G154),COUNTRY_INFO!F154+COUNTRY_INFO!G154,COUNTRY_INFO!$M154), 0),0)","v":0},0,0,0,0,null,0]
[{"$f":"IF(INTRO!$E$39=\"Non-endemic\",\" \",IF(COUNTRY_INFO!A155=0,\" \",COUNTRY_INFO!A155))","v":"Uganda"},{"$f":"IF(INTRO!$E$39=\"Non-endemic\",\" \",IF(COUNTRY_INFO!B155=0,\" \",COUNTRY_INFO!B155))","v":"Western"},{"$f":"IF(INTRO!$E$39=\"Non-endemic\",\" \",IF(COUNTRY_INFO!C155=0,\" \",COUNTRY_INFO!C155))","v":"Sheema"},{"$f":"IF(INTRO!$E$39=\"Non-endemic\",0,IF(INTRO!$E$39=\"Endemic but PC is not required\",IF(COUNTRY_INFO!$H155=1,COUNTRY_INFO!F155+COUNTRY_INFO!G155,0),IF(COUNTRY_INFO!$H155=1,COUNTRY_INFO!F155+COUNTRY_INFO!G155,IF(COUNTRY_INFO!$I155=1,IF(COUNTRY_INFO!M155>=(COUNTRY_INFO!F155+COUNTRY_INFO!G155),COUNTRY_INFO!F155+COUNTRY_INFO!G155,COUNTRY_INFO!$M155),0))))","v":0},{"$f":"IF(AND(INTRO!$E$39=\"Non-endemic\",INTRO!$E$37=\"Non-endemic\"),\"Not required\",IF(INTRO!$E$39=\"Non-endemic\",\"Treat with DEC\",COUNTRY_INFO!V155))","v":0},{"$f":"IF(INTRO!$E$39<>\"Non-endemic\",COUNTRY_INFO!W155,\"Not required\")","v":0},{"$f":"IF(COUNTRY_INFO!H155=1, IF($E155=1,$D155, 0),0)","v":0},{"$f":"IF(COUNTRY_INFO!I155=1, IF(AND(COUNTRY_INFO!$I155=1,$F155<>0),IF(COUNTRY_INFO!M155>=(COUNTRY_INFO!F155+COUNTRY_INFO!G155),COUNTRY_INFO!F155+COUNTRY_INFO!G155,COUNTRY_INFO!$M155), 0),0)","v":0},0,0,0,0,null,0]

{"sheet":"IVM+","index":6,"n_rows":155,"n_cols":8,"rows_kept":155,"cut":false,"hidden":true,"merged":[[6,5,7,5],[6,6,7,6],[6,7,7,7],[5,4,7,4],[5,5,5,7],[6,0,7,0],[6,1,7,1],[6,2,7,2],[6,3,7,3],[3,0,3,2],[5,0,5,2]]}
["Ivermectin (IVM) for IDA therapy"]
["Administrative structure, eligible population by age group, treatment plan and information about tablets"]
[]
["TOTAL",null,null,null,{"$f":"SUBTOTAL(9,E$10:E$1010)","v":0},0,0,0]
[]
["Country administrative structure",null,null,"Treatment plan","Population targeted for treatment with IVM \n(IDA therapy)","Ivermectin (IVM)"]
["Country","Province/State","District","LF",null,"Total required","Remaining in stock","Tablets to be procured"]
[]
[]
[{"$f":"IF(AND(INTRO!$E$37=\"Endemic\",INTRO!$E$39=\"Non-endemic\"),IF(COUNTRY_INFO!A10=0,\" \",COUNTRY_INFO!A10),\" \")","v":" "},{"$f":"IF(AND(INTRO!$E$37=\"Endemic\",INTRO!$E$39=\"Non-endemic\"),IF(COUNTRY_INFO!B10=0,\" \",COUNTRY_INFO!B10),\" \")","v":" "},{"$f":"IF(AND(INTRO!$E$37=\"Endemic\",INTRO!$E$39=\"Non-endemic\"),IF(COUNTRY_INFO!C10=0,\" \",COUNTRY_INFO!C10),\" \")","v":" "},{"$f":"IF(COUNTRY_INFO!Z10<>\"\",COUNTRY_INFO!V10,0)","v":0},{"$f":"IF(AND(COUNTRY_INFO!Z10<>\"\",COUNTRY_INFO!$H10=1),COUNTRY_INFO!F10+COUNTRY_INFO!G10,0)","v":0},{"$f":"E10*2.8","v":0},null,{"$f":"IF($F10>$G10,$F10-$G10,0)","v":0}]
[{"$f":"IF(AND(INTRO!$E$37=\"Endemic\",INTRO!$E$39=\"Non-endemic\"),IF(COUNTRY_INFO!A11=0,\" \",COUNTRY_INFO!A11),\" \")","v":" "},{"$f":"IF(AND(INTRO!$E$37=\"Endemic\",INTRO!$E$39=\"Non-endemic\"),IF(COUNTRY_INFO!B11=0,\" \",COUNTRY_INFO!B11),\" \")","v":" "},{"$f":"IF(AND(INTRO!$E$37=\"Endemic\",INTRO!$E$39=\"Non-endemic\"),IF(COUNTRY_INFO!C11=0,\" \",COUNTRY_INFO!C11),\" \")","v":" "},{"$f":"IF(COUNTRY_INFO!Z11<>\"\",COUNTRY_INFO!V11,0)","v":0},{"$f":"IF(AND(COUNTRY_INFO!Z11<>\"\",COUNTRY_INFO!$H11=1),COUNTRY_INFO!F11+COUNTRY_INFO!G11,0)","v":0},{"$f":"E11*2.8","v":0},null,0]
[{"$f":"IF(AND(INTRO!$E$37=\"Endemic\",INTRO!$E$39=\"Non-endemic\"),IF(COUNTRY_INFO!A12=0,\" \",COUNTRY_INFO!A12),\" \")","v":" "},{"$f":"IF(AND(INTRO!$E$37=\"Endemic\",INTRO!$E$39=\"Non-endemic\"),IF(COUNTRY_INFO!B12=0,\" \",COUNTRY_INFO!B12),\" \")","v":" "},{"$f":"IF(AND(INTRO!$E$37=\"Endemic\",INTRO!$E$39=\"Non-endemic\"),IF(COUNTRY_INFO!C12=0,\" \",COUNTRY_INFO!C12),\" \")","v":" "},{"$f":"IF(COUNTRY_INFO!Z12<>\"\",COUNTRY_INFO!V12,0)","v":0},{"$f":"IF(AND(COUNTRY_INFO!Z12<>\"\",COUNTRY_INFO!$H12=1),COUNTRY_INFO!F12+COUNTRY_INFO!G12,0)","v":0},0,null,0]
[{"$f":"IF(AND(INTRO!$E$37=\"Endemic\",INTRO!$E$39=\"Non-endemic\"),IF(COUNTRY_INFO!A13=0,\" \",COUNTRY_INFO!A13),\" \")","v":" "},{"$f":"IF(AND(INTRO!$E$37=\"Endemic\",INTRO!$E$39=\"Non-endemic\"),IF(COUNTRY_INFO!B13=0,\" \",COUNTRY_INFO!B13),\" \")","v":" "},{"$f":"IF(AND(INTRO!$E$37=\"Endemic\",INTRO!$E$39=\"Non-endemic\"),IF(COUNTRY_INFO!C13=0,\" \",COUNTRY_INFO!C13),\" \")","v":" "},{"$f":"IF(COUNTRY_INFO!Z13<>\"\",COUNTRY_INFO!V13,0)","v":0},{"$f":"IF(AND(COUNTRY_INFO!Z13<>\"\",COUNTRY_INFO!$H13=1),COUNTRY_INFO!F13+COUNTRY_INFO!G13,0)","v":0},0,null,0]
[{"$f":"IF(AND(INTRO!$E$37=\"Endemic\",INTRO!$E$39=\"Non-endemic\"),IF(COUNTRY_INFO!A14=0,\" \",COUNTRY_INFO!A14),\" \")","v":" "},{"$f":"IF(AND(INTRO!$E$37=\"Endemic\",INTRO!$E$39=\"Non-endemic\"),IF(COUNTRY_INFO!B14=0,\" \",COUNTRY_INFO!B14),\" \")","v":" "},{"$f":"IF(AND(INTRO!$E$37=\"Endemic\",INTRO!$E$39=\"Non-endemic\"),IF(COUNTRY_INFO!C14=0,\" \",COUNTRY_INFO!C14),\" \")","v":" "},{"$f":"IF(COUNTRY_INFO!Z14<>\"\",COUNTRY_INFO!V14,0)","v":0},{"$f":"IF(AND(COUNTRY_INFO!Z14<>\"\",COUNTRY_INFO!$H14=1),COUNTRY_INFO!F14+COUNTRY_INFO!G14,0)","v":0},0,null,0]
[{"$f":"IF(AND(INTRO!$E$37=\"Endemic\",INTRO!$E$39=\"Non-endemic\"),IF(COUNTRY_INFO!A15=0,\" \",COUNTRY_INFO!A15),\" \")","v":" "},{"$f":"IF(AND(INTRO!$E$37=\"Endemic\",INTRO!$E$39=\"Non-endemic\"),IF(COUNTRY_INFO!B15=0,\" \",COUNTRY_INFO!B15),\" \")","v":" "},{"$f":"IF(AND(INTRO!$E$37=\"Endemic\",INTRO!$E$39=\"Non-endemic\"),IF(COUNTRY_INFO!C15=0,\" \",COUNTRY_INFO!C15),\" \")","v":" "},{"$f":"IF(COUNTRY_INFO!Z15<>\"\",COUNTRY_INFO!V15,0)","v":0},{"$f":"IF(AND(COUNTRY_INFO!Z15<>\"\",COUNTRY_INFO!$H15=1),COUNTRY_INFO!F15+COUNTRY_INFO!G15,0)","v":0},0,null,0]
[{"$f":"IF(AND(INTRO!$E$37=\"Endemic\",INTRO!$E$39=\"Non-endemic\"),IF(COUNTRY_INFO!A16=0,\" \",COUNTRY_INFO!A16),\" \")","v":" "},{"$f":"IF(AND(INTRO!$E$37=\"Endemic\",INTRO!$E$39=\"Non-endemic\"),IF(COUNTRY_INFO!B16=0,\" \",COUNTRY_INFO!B16),\" \")","v":" "},{"$f":"IF(AND(INTRO!$E$37=\"Endemic\",INTRO!$E$39=\"Non-endemic\"),IF(COUNTRY_INFO!C16=0,\" \",COUNTRY_INFO!C16),\" \")","v":" "},{"$f":"IF(COUNTRY_INFO!Z16<>\"\",COUNTRY_INFO!V16,0)","v":0},{"$f":"IF(AND(COUNTRY_INFO!Z16<>\"\",COUNTRY_INFO!$H16=1),COUNTRY_INFO!F16+COUNTRY_INFO!G16,0)","v":0},0,null,0]
[{"$f":"IF(AND(INTRO!$E$37=\"Endemic\",INTRO!$E$39=\"Non-endemic\"),IF(COUNTRY_INFO!A17=0,\" \",COUNTRY_INFO!A17),\" \")","v":" "},{"$f":"IF(AND(INTRO!$E$37=\"Endemic\",INTRO!$E$39=\"Non-endemic\"),IF(COUNTRY_INFO!B17=0,\" \",COUNTRY_INFO!B17),\" \")","v":" "},{"$f":"IF(AND(INTRO!$E$37=\"Endemic\",INTRO!$E$39=\"Non-endemic\"),IF(COUNTRY_INFO!C17=0,\" \",COUNTRY_INFO!C17),\" \")","v":" "},{"$f":"IF(COUNTRY_INFO!Z17<>\"\",COUNTRY_INFO!V17,0)","v":0},{"$f":"IF(AND(COUNTRY_INFO!Z17<>\"\",COUNTRY_INFO!$H17=1),COUNTRY_INFO!F17+COUNTRY_INFO!G17,0)","v":0},0,null,0]
[{"$f":"IF(AND(INTRO!$E$37=\"Endemic\",INTRO!$E$39=\"Non-endemic\"),IF(COUNTRY_INFO!A18=0,\" \",COUNTRY_INFO!A18),\" \")","v":" "},{"$f":"IF(AND(INTRO!$E$37=\"Endemic\",INTRO!$E$39=\"Non-endemic\"),IF(COUNTRY_INFO!B18=0,\" \",COUNTRY_INFO!B18),\" \")","v":" "},{"$f":"IF(AND(INTRO!$E$37=\"Endemic\",INTRO!$E$39=\"Non-endemic\"),IF(COUNTRY_INFO!C18=0,\" \",COUNTRY_INFO!C18),\" \")","v":" "},{"$f":"IF(COUNTRY_INFO!Z18<>\"\",COUNTRY_INFO!V18,0)","v":0},{"$f":"IF(AND(COUNTRY_INFO!Z18<>\"\",COUNTRY_INFO!$H18=1),COUNTRY_INFO!F18+COUNTRY_INFO!G18,0)","v":0},0,null,0]
[{"$f":"IF(AND(INTRO!$E$37=\"Endemic\",INTRO!$E$39=\"Non-endemic\"),IF(COUNTRY_INFO!A19=0,\" \",COUNTRY_INFO!A19),\" \")","v":" "},{"$f":"IF(AND(INTRO!$E$37=\"Endemic\",INTRO!$E$39=\"Non-endemic\"),IF(COUNTRY_INFO!B19=0,\" \",COUNTRY_INFO!B19),\" \")","v":" "},{"$f":"IF(AND(INTRO!$E$37=\"Endemic\",INTRO!$E$39=\"Non-endemic\"),IF(COUNTRY_INFO!C19=0,\" \",COUNTRY_INFO!C19),\" \")","v":" "},{"$f":"IF(COUNTRY_INFO!Z19<>\"\",COUNTRY_INFO!V19,0)","v":0},{"$f":"IF(AND(COUNTRY_INFO!Z19<>\"\",COUNTRY_INFO!$H19=1),COUNTRY_INFO!F19+COUNTRY_INFO!G19,0)","v":0},0,null,0]
[{"$f":"IF(AND(INTRO!$E$37=\"Endemic\",INTRO!$E$39=\"Non-endemic\"),IF(COUNTRY_INFO!A20=0,\" \",COUNTRY_INFO!A20),\" \")","v":" "},{"$f":"IF(AND(INTRO!$E$37=\"Endemic\",INTRO!$E$39=\"Non-endemic\"),IF(COUNTRY_INFO!B20=0,\" \",COUNTRY_INFO!B20),\" \")","v":" "},{"$f":"IF(AND(INTRO!$E$37=\"Endemic\",INTRO!$E$39=\"Non-endemic\"),IF(COUNTRY_INFO!C20=0,\" \",COUNTRY_INFO!C20),\" \")","v":" "},{"$f":"IF(COUNTRY_INFO!Z20<>\"\",COUNTRY_INFO!V20,0)","v":0},{"$f":"IF(AND(COUNTRY_INFO!Z20<>\"\",COUNTRY_INFO!$H20=1),COUNTRY_INFO!F20+COUNTRY_INFO!G20,0)","v":0},0,null,0]
[{"$f":"IF(AND(INTRO!$E$37=\"Endemic\",INTRO!$E$39=\"Non-endemic\"),IF(COUNTRY_INFO!A21=0,\" \",COUNTRY_INFO!A21),\" \")","v":" "},{"$f":"IF(AND(INTRO!$E$37=\"Endemic\",INTRO!$E$39=\"Non-endemic\"),IF(COUNTRY_INFO!B21=0,\" \",COUNTRY_INFO!B21),\" \")","v":" "},{"$f":"IF(AND(INTRO!$E$37=\"Endemic\",INTRO!$E$39=\"Non-endemic\"),IF(COUNTRY_INFO!C21=0,\" \",COUNTRY_INFO!C21),\" \")","v":" "},{"$f":"IF(COUNTRY_INFO!Z21<>\"\",COUNTRY_INFO!V21,0)","v":0},{"$f":"IF(AND(COUNTRY_INFO!Z21<>\"\",COUNTRY_INFO!$H21=1),COUNTRY_INFO!F21+COUNTRY_INFO!G21,0)","v":0},0,null,0]
[{"$f":"IF(AND(INTRO!$E$37=\"Endemic\",INTRO!$E$39=\"Non-endemic\"),IF(COUNTRY_INFO!A22=0,\" \",COUNTRY_INFO!A22),\" \")","v":" "},{"$f":"IF(AND(INTRO!$E$37=\"Endemic\",INTRO!$E$39=\"Non-endemic\"),IF(COUNTRY_INFO!B22=0,\" \",COUNTRY_INFO!B22),\" \")","v":" "},{"$f":"IF(AND(INTRO!$E$37=\"Endemic\",INTRO!$E$39=\"Non-endemic\"),IF(COUNTRY_INFO!C22=0,\" \",COUNTRY_INFO!C22),\" \")","v":" "},{"$f":"IF(COUNTRY_INFO!Z22<>\"\",COUNTRY_INFO!V22,0)","v":0},{"$f":"IF(AND(COUNTRY_INFO!Z22<>\"\",COUNTRY_INFO!$H22=1),COUNTRY_INFO!F22+COUNTRY_INFO!G22,0)","v":0},0,null,0]
[{"$f":"IF(AND(INTRO!$E$37=\"Endemic\",INTRO!$E$39=\"Non-endemic\"),IF(COUNTRY_INFO!A23=0,\" \",COUNTRY_INFO!A23),\" \")","v":" "},{"$f":"IF(AND(INTRO!$E$37=\"Endemic\",INTRO!$E$39=\"Non-endemic\"),IF(COUNTRY_INFO!B23=0,\" \",COUNTRY_INFO!B23),\" \")","v":" "},{"$f":"IF(AND(INTRO!$E$37=\"Endemic\",INTRO!$E$39=\"Non-endemic\"),IF(COUNTRY_INFO!C23=0,\" \",COUNTRY_INFO!C23),\" \")","v":" "},{"$f":"IF(COUNTRY_INFO!Z23<>\"\",COUNTRY_INFO!V23,0)","v":0},{"$f":"IF(AND(COUNTRY_INFO!Z23<>\"\",COUNTRY_INFO!$H23=1),COUNTRY_INFO!F23+COUNTRY_INFO!G23,0)","v":0},0,null,0]
[{"$f":"IF(AND(INTRO!$E$37=\"Endemic\",INTRO!$E$39=\"Non-endemic\"),IF(COUNTRY_INFO!A24=0,\" \",COUNTRY_INFO!A24),\" \")","v":" "},{"$f":"IF(AND(INTRO!$E$37=\"Endemic\",INTRO!$E$39=\"Non-endemic\"),IF(COUNTRY_INFO!B24=0,\" \",COUNTRY_INFO!B24),\" \")","v":" "},{"$f":"IF(AND(INTRO!$E$37=\"Endemic\",INTRO!$E$39=\"Non-endemic\"),IF(COUNTRY_INFO!C24=0,\" \",COUNTRY_INFO!C24),\" \")","v":" "},{"$f":"IF(COUNTRY_INFO!Z24<>\"\",COUNTRY_INFO!V24,0)","v":0},{"$f":"IF(AND(COUNTRY_INFO!Z24<>\"\",COUNTRY_INFO!$H24=1),COUNTRY_INFO!F24+COUNTRY_INFO!G24,0)","v":0},0,null,0]
[{"$f":"IF(AND(INTRO!$E$37=\"Endemic\",INTRO!$E$39=\"Non-endemic\"),IF(COUNTRY_INFO!A25=0,\" \",COUNTRY_INFO!A25),\" \")","v":" "},{"$f":"IF(AND(INTRO!$E$37=\"Endemic\",INTRO!$E$39=\"Non-endemic\"),IF(COUNTRY_INFO!B25=0,\" \",COUNTRY_INFO!B25),\" \")","v":" "},{"$f":"IF(AND(INTRO!$E$37=\"Endemic\",INTRO!$E$39=\"Non-endemic\"),IF(COUNTRY_INFO!C25=0,\" \",COUNTRY_INFO!C25),\" \")","v":" "},{"$f":"IF(COUNTRY_INFO!Z25<>\"\",COUNTRY_INFO!V25,0)","v":0},{"$f":"IF(AND(COUNTRY_INFO!Z25<>\"\",COUNTRY_INFO!$H25=1),COUNTRY_INFO!F25+COUNTRY_INFO!G25,0)","v":0},0,null,0]
[{"$f":"IF(AND(INTRO!$E$37=\"Endemic\",INTRO!$E$39=\"Non-endemic\"),IF(COUNTRY_INFO!A26=0,\" \",COUNTRY_INFO!A26),\" \")","v":" "},{"$f":"IF(AND(INTRO!$E$37=\"Endemic\",INTRO!$E$39=\"Non-endemic\"),IF(COUNTRY_INFO!B26=0,\" \",COUNTRY_INFO!B26),\" \")","v":" "},{"$f":"IF(AND(INTRO!$E$37=\"Endemic\",INTRO!$E$39=\"Non-endemic\"),IF(COUNTRY_INFO!C26=0,\" \",COUNTRY_INFO!C26),\" \")","v":" "},{"$f":"IF(COUNTRY_INFO!Z26<>\"\",COUNTRY_INFO!V26,0)","v":0},{"$f":"IF(AND(COUNTRY_INFO!Z26<>\"\",COUNTRY_INFO!$H26=1),COUNTRY_INFO!F26+COUNTRY_INFO!G26,0)","v":0},0,null,0]
[{"$f":"IF(AND(INTRO!$E$37=\"Endemic\",INTRO!$E$39=\"Non-endemic\"),IF(COUNTRY_INFO!A27=0,\" \",COUNTRY_INFO!A27),\" \")","v":" "},{"$f":"IF(AND(INTRO!$E$37=\"Endemic\",INTRO!$E$39=\"Non-endemic\"),IF(COUNTRY_INFO!B27=0,\" \",COUNTRY_INFO!B27),\" \")","v":" "},{"$f":"IF(AND(INTRO!$E$37=\"Endemic\",INTRO!$E$39=\"Non-endemic\"),IF(COUNTRY_INFO!C27=0,\" \",COUNTRY_INFO!C27),\" \")","v":" "},{"$f":"IF(COUNTRY_INFO!Z27<>\"\",COUNTRY_INFO!V27,0)","v":0},{"$f":"IF(AND(COUNTRY_INFO!Z27<>\"\",COUNTRY_INFO!$H27=1),COUNTRY_INFO!F27+COUNTRY_INFO!G27,0)","v":0},0,null,0]
[{"$f":"IF(AND(INTRO!$E$37=\"Endemic\",INTRO!$E$39=\"Non-endemic\"),IF(COUNTRY_INFO!A28=0,\" \",COUNTRY_INFO!A28),\" \")","v":" "},{"$f":"IF(AND(INTRO!$E$37=\"Endemic\",INTRO!$E$39=\"Non-endemic\"),IF(COUNTRY_INFO!B28=0,\" \",COUNTRY_INFO!B28),\" \")","v":" "},{"$f":"IF(AND(INTRO!$E$37=\"Endemic\",INTRO!$E$39=\"Non-endemic\"),IF(COUNTRY_INFO!C28=0,\" \",COUNTRY_INFO!C28),\" \")","v":" "},{"$f":"IF(COUNTRY_INFO!Z28<>\"\",COUNTRY_INFO!V28,0)","v":0},{"$f":"IF(AND(COUNTRY_INFO!Z28<>\"\",COUNTRY_INFO!$H28=1),COUNTRY_INFO!F28+COUNTRY_INFO!G28,0)","v":0},0,null,0]
[{"$f":"IF(AND(INTRO!$E$37=\"Endemic\",INTRO!$E$39=\"Non-endemic\"),IF(COUNTRY_INFO!A29=0,\" \",COUNTRY_INFO!A29),\" \")","v":" "},{"$f":"IF(AND(INTRO!$E$37=\"Endemic\",INTRO!$E$39=\"Non-endemic\"),IF(COUNTRY_INFO!B29=0,\" \",COUNTRY_INFO!B29),\" \")","v":" "},{"$f":"IF(AND(INTRO!$E$37=\"Endemic\",INTRO!$E$39=\"Non-endemic\"),IF(COUNTRY_INFO!C29=0,\" \",COUNTRY_INFO!C29),\" \")","v":" "},{"$f":"IF(COUNTRY_INFO!Z29<>\"\",COUNTRY_INFO!V29,0)","v":0},{"$f":"IF(AND(COUNTRY_INFO!Z29<>\"\",COUNTRY_INFO!$H29=1),COUNTRY_INFO!F29+COUNTRY_INFO!G29,0)","v":0},0,null,0]
[{"$f":"IF(AND(INTRO!$E$37=\"Endemic\",INTRO!$E$39=\"Non-endemic\"),IF(COUNTRY_INFO!A30=0,\" \",COUNTRY_INFO!A30),\" \")","v":" "},{"$f":"IF(AND(INTRO!$E$37=\"Endemic\",INTRO!$E$39=\"Non-endemic\"),IF(COUNTRY_INFO!B30=0,\" \",COUNTRY_INFO!B30),\" \")","v":" "},{"$f":"IF(AND(INTRO!$E$37=\"Endemic\",INTRO!$E$39=\"Non-endemic\"),IF(COUNTRY_INFO!C30=0,\" \",COUNTRY_INFO!C30),\" \")","v":" "},{"$f":"IF(COUNTRY_INFO!Z30<>\"\",COUNTRY_INFO!V30,0)","v":0},{"$f":"IF(AND(COUNTRY_INFO!Z30<>\"\",COUNTRY_INFO!$H30=1),COUNTRY_INFO!F30+COUNTRY_INFO!G30,0)","v":0},0,null,0]
[{"$f":"IF(AND(INTRO!$E$37=\"Endemic\",INTRO!$E$39=\"Non-endemic\"),IF(COUNTRY_INFO!A31=0,\" \",COUNTRY_INFO!A31),\" \")","v":" "},{"$f":"IF(AND(INTRO!$E$37=\"Endemic\",INTRO!$E$39=\"Non-endemic\"),IF(COUNTRY_INFO!B31=0,\" \",COUNTRY_INFO!B31),\" \")","v":" "},{"$f":"IF(AND(INTRO!$E$37=\"Endemic\",INTRO!$E$39=\"Non-endemic\"),IF(COUNTRY_INFO!C31=0,\" \",COUNTRY_INFO!C31),\" \")","v":" "},{"$f":"IF(COUNTRY_INFO!Z31<>\"\",COUNTRY_INFO!V31,0)","v":0},{"$f":"IF(AND(COUNTRY_INFO!Z31<>\"\",COUNTRY_INFO!$H31=1),COUNTRY_INFO!F31+COUNTRY_INFO!G31,0)","v":0},0,null,0]
[{"$f":"IF(AND(INTRO!$E$37=\"Endemic\",INTRO!$E$39=\"Non-endemic\"),IF(COUNTRY_INFO!A32=0,\" \",COUNTRY_INFO!A32),\" \")","v":" "},{"$f":"IF(AND(INTRO!$E$37=\"Endemic\",INTRO!$E$39=\"Non-endemic\"),IF(COUNTRY_INFO!B32=0,\" \",COUNTRY_INFO!B32),\" \")","v":" "},{"$f":"IF(AND(INTRO!$E$37=\"Endemic\",INTRO!$E$39=\"Non-endemic\"),IF(COUNTRY_INFO!C32=0,\" \",COUNTRY_INFO!C32),\" \")","v":" "},{"$f":"IF(COUNTRY_INFO!Z32<>\"\",COUNTRY_INFO!V32,0)","v":0},{"$f":"IF(AND(COUNTRY_INFO!Z32<>\"\",COUNTRY_INFO!$H32=1),COUNTRY_INFO!F32+COUNTRY_INFO!G32,0)","v":0},0,null,0]
[{"$f":"IF(AND(INTRO!$E$37=\"Endemic\",INTRO!$E$39=\"Non-endemic\"),IF(COUNTRY_INFO!A33=0,\" \",COUNTRY_INFO!A33),\" \")","v":" "},{"$f":"IF(AND(INTRO!$E$37=\"Endemic\",INTRO!$E$39=\"Non-endemic\"),IF(COUNTRY_INFO!B33=0,\" \",COUNTRY_INFO!B33),\" \")","v":" "},{"$f":"IF(AND(INTRO!$E$37=\"Endemic\",INTRO!$E$39=\"Non-endemic\"),IF(COUNTRY_INFO!C33=0,\" \",COUNTRY_INFO!C33),\" \")","v":" "},{"$f":"IF(COUNTRY_INFO!Z33<>\"\",COUNTRY_INFO!V33,0)","v":0},{"$f":"IF(AND(COUNTRY_INFO!Z33<>\"\",COUNTRY_INFO!$H33=1),COUNTRY_INFO!F33+COUNTRY_INFO!G33,0)","v":0},0,null,0]
[{"$f":"IF(AND(INTRO!$E$37=\"Endemic\",INTRO!$E$39=\"Non-endemic\"),IF(COUNTRY_INFO!A34=0,\" \",COUNTRY_INFO!A34),\" \")","v":" "},{"$f":"IF(AND(INTRO!$E$37=\"Endemic\",INTRO!$E$39=\"Non-endemic\"),IF(COUNTRY_INFO!B34=0,\" \",COUNTRY_INFO!B34),\" \")","v":" "},{"$f":"IF(AND(INTRO!$E$37=\"Endemic\",INTRO!$E$39=\"Non-endemic\"),IF(COUNTRY_INFO!C34=0,\" \",COUNTRY_INFO!C34),\" \")","v":" "},{"$f":"IF(COUNTRY_INFO!Z34<>\"\",COUNTRY_INFO!V34,0)","v":0},{"$f":"IF(AND(COUNTRY_INFO!Z34<>\"\",COUNTRY_INFO!$H34=1),COUNTRY_INFO!F34+COUNTRY_INFO!G34,0)","v":0},0,null,0]
[{"$f":"IF(AND(INTRO!$E$37=\"Endemic\",INTRO!$E$39=\"Non-endemic\"),IF(COUNTRY_INFO!A35=0,\" \",COUNTRY_INFO!A35),\" \")","v":" "},{"$f":"IF(AND(INTRO!$E$37=\"Endemic\",INTRO!$E$39=\"Non-endemic\"),IF(COUNTRY_INFO!B35=0,\" \",COUNTRY_INFO!B35),\" \")","v":" "},{"$f":"IF(AND(INTRO!$E$37=\"Endemic\",INTRO!$E$39=\"Non-endemic\"),IF(COUNTRY_INFO!C35=0,\" \",COUNTRY_INFO!C35),\" \")","v":" "},{"$f":"IF(COUNTRY_INFO!Z35<>\"\",COUNTRY_INFO!V35,0)","v":0},{"$f":"IF(AND(COUNTRY_INFO!Z35<>\"\",COUNTRY_INFO!$H35=1),COUNTRY_INFO!F35+COUNTRY_INFO!G35,0)","v":0},0,null,0]
[{"$f":"IF(AND(INTRO!$E$37=\"Endemic\",INTRO!$E$39=\"Non-endemic\"),IF(COUNTRY_INFO!A36=0,\" \",COUNTRY_INFO!A36),\" \")","v":" "},{"$f":"IF(AND(INTRO!$E$37=\"Endemic\",INTRO!$E$39=\"Non-endemic\"),IF(COUNTRY_INFO!B36=0,\" \",COUNTRY_INFO!B36),\" \")","v":" "},{"$f":"IF(AND(INTRO!$E$37=\"Endemic\",INTRO!$E$39=\"Non-endemic\"),IF(COUNTRY_INFO!C36=0,\" \",COUNTRY_INFO!C36),\" \")","v":" "},{"$f":"IF(COUNTRY_INFO!Z36<>\"\",COUNTRY_INFO!V36,0)","v":0},{"$f":"IF(AND(COUNTRY_INFO!Z36<>\"\",COUNTRY_INFO!$H36=1),COUNTRY_INFO!F36+COUNTRY_INFO!G36,0)","v":0},0,null,0]
[{"$f":"IF(AND(INTRO!$E$37=\"Endemic\",INTRO!$E$39=\"Non-endemic\"),IF(COUNTRY_INFO!A37=0,\" \",COUNTRY_INFO!A37),\" \")","v":" "},{"$f":"IF(AND(INTRO!$E$37=\"Endemic\",INTRO!$E$39=\"Non-endemic\"),IF(COUNTRY_INFO!B37=0,\" \",COUNTRY_INFO!B37),\" \")","v":" "},{"$f":"IF(AND(INTRO!$E$37=\"Endemic\",INTRO!$E$39=\"Non-endemic\"),IF(COUNTRY_INFO!C37=0,\" \",COUNTRY_INFO!C37),\" \")","v":" "},{"$f":"IF(COUNTRY_INFO!Z37<>\"\",COUNTRY_INFO!V37,0)","v":0},{"$f":"IF(AND(COUNTRY_INFO!Z37<>\"\",COUNTRY_INFO!$H37=1),COUNTRY_INFO!F37+COUNTRY_INFO!G37,0)","v":0},0,null,0]
[{"$f":"IF(AND(INTRO!$E$37=\"Endemic\",INTRO!$E$39=\"Non-endemic\"),IF(COUNTRY_INFO!A38=0,\" \",COUNTRY_INFO!A38),\" \")","v":" "},{"$f":"IF(AND(INTRO!$E$37=\"Endemic\",INTRO!$E$39=\"Non-endemic\"),IF(COUNTRY_INFO!B38=0,\" \",COUNTRY_INFO!B38),\" \")","v":" "},{"$f":"IF(AND(INTRO!$E$37=\"Endemic\",INTRO!$E$39=\"Non-endemic\"),IF(COUNTRY_INFO!C38=0,\" \",COUNTRY_INFO!C38),\" \")","v":" "},{"$f":"IF(COUNTRY_INFO!Z38<>\"\",COUNTRY_INFO!V38,0)","v":0},{"$f":"IF(AND(COUNTRY_INFO!Z38<>\"\",COUNTRY_INFO!$H38=1),COUNTRY_INFO!F38+COUNTRY_INFO!G38,0)","v":0},0,null,0]
[{"$f":"IF(AND(INTRO!$E$37=\"Endemic\",INTRO!$E$39=\"Non-endemic\"),IF(COUNTRY_INFO!A39=0,\" \",COUNTRY_INFO!A39),\" \")","v":" "},{"$f":"IF(AND(INTRO!$E$37=\"Endemic\",INTRO!$E$39=\"Non-endemic\"),IF(COUNTRY_INFO!B39=0,\" \",COUNTRY_INFO!B39),\" \")","v":" "},{"$f":"IF(AND(INTRO!$E$37=\"Endemic\",INTRO!$E$39=\"Non-endemic\"),IF(COUNTRY_INFO!C39=0,\" \",COUNTRY_INFO!C39),\" \")","v":" "},{"$f":"IF(COUNTRY_INFO!Z39<>\"\",COUNTRY_INFO!V39,0)","v":0},{"$f":"IF(AND(COUNTRY_INFO!Z39<>\"\",COUNTRY_INFO!$H39=1),COUNTRY_INFO!F39+COUNTRY_INFO!G39,0)","v":0},0,null,0]
[{"$f":"IF(AND(INTRO!$E$37=\"Endemic\",INTRO!$E$39=\"Non-endemic\"),IF(COUNTRY_INFO!A40=0,\" \",COUNTRY_INFO!A40),\" \")","v":" "},{"$f":"IF(AND(INTRO!$E$37=\"Endemic\",INTRO!$E$39=\"Non-endemic\"),IF(COUNTRY_INFO!B40=0,\" \",COUNTRY_INFO!B40),\" \")","v":" "},{"$f":"IF(AND(INTRO!$E$37=\"Endemic\",INTRO!$E$39=\"Non-endemic\"),IF(COUNTRY_INFO!C40=0,\" \",COUNTRY_INFO!C40),\" \")","v":" "},{"$f":"IF(COUNTRY_INFO!Z40<>\"\",COUNTRY_INFO!V40,0)","v":0},{"$f":"IF(AND(COUNTRY_INFO!Z40<>\"\",COUNTRY_INFO!$H40=1),COUNTRY_INFO!F40+COUNTRY_INFO!G40,0)","v":0},0,null,0]
[{"$f":"IF(AND(INTRO!$E$37=\"Endemic\",INTRO!$E$39=\"Non-endemic\"),IF(COUNTRY_INFO!A41=0,\" \",COUNTRY_INFO!A41),\" \")","v":" "},{"$f":"IF(AND(INTRO!$E$37=\"Endemic\",INTRO!$E$39=\"Non-endemic\"),IF(COUNTRY_INFO!B41=0,\" \",COUNTRY_INFO!B41),\" \")","v":" "},{"$f":"IF(AND(INTRO!$E$37=\"Endemic\",INTRO!$E$39=\"Non-endemic\"),IF(COUNTRY_INFO!C41=0,\" \",COUNTRY_INFO!C41),\" \")","v":" "},{"$f":"IF(COUNTRY_INFO!Z41<>\"\",COUNTRY_INFO!V41,0)","v":0},{"$f":"IF(AND(COUNTRY_INFO!Z41<>\"\",COUNTRY_INFO!$H41=1),COUNTRY_INFO!F41+COUNTRY_INFO!G41,0)","v":0},0,null,0]
[{"$f":"IF(AND(INTRO!$E$37=\"Endemic\",INTRO!$E$39=\"Non-endemic\"),IF(COUNTRY_INFO!A42=0,\" \",COUNTRY_INFO!A42),\" \")","v":" "},{"$f":"IF(AND(INTRO!$E$37=\"Endemic\",INTRO!$E$39=\"Non-endemic\"),IF(COUNTRY_INFO!B42=0,\" \",COUNTRY_INFO!B42),\" \")","v":" "},{"$f":"IF(AND(INTRO!$E$37=\"Endemic\",INTRO!$E$39=\"Non-endemic\"),IF(COUNTRY_INFO!C42=0,\" \",COUNTRY_INFO!C42),\" \")","v":" "},{"$f":"IF(COUNTRY_INFO!Z42<>\"\",COUNTRY_INFO!V42,0)","v":0},{"$f":"IF(AND(COUNTRY_INFO!Z42<>\"\",COUNTRY_INFO!$H42=1),COUNTRY_INFO!F42+COUNTRY_INFO!G42,0)","v":0},0,null,0]
[{"$f":"IF(AND(INTRO!$E$37=\"Endemic\",INTRO!$E$39=\"Non-endemic\"),IF(COUNTRY_INFO!A43=0,\" \",COUNTRY_INFO!A43),\" \")","v":" "},{"$f":"IF(AND(INTRO!$E$37=\"Endemic\",INTRO!$E$39=\"Non-endemic\"),IF(COUNTRY_INFO!B43=0,\" \",COUNTRY_INFO!B43),\" \")","v":" "},{"$f":"IF(AND(INTRO!$E$37=\"Endemic\",INTRO!$E$39=\"Non-endemic\"),IF(COUNTRY_INFO!C43=0,\" \",COUNTRY_INFO!C43),\" \")","v":" "},{"$f":"IF(COUNTRY_INFO!Z43<>\"\",COUNTRY_INFO!V43,0)","v":0},{"$f":"IF(AND(COUNTRY_INFO!Z43<>\"\",COUNTRY_INFO!$H43=1),COUNTRY_INFO!F43+COUNTRY_INFO!G43,0)","v":0},0,null,0]
[{"$f":"IF(AND(INTRO!$E$37=\"Endemic\",INTRO!$E$39=\"Non-endemic\"),IF(COUNTRY_INFO!A44=0,\" \",COUNTRY_INFO!A44),\" \")","v":" "},{"$f":"IF(AND(INTRO!$E$37=\"Endemic\",INTRO!$E$39=\"Non-endemic\"),IF(COUNTRY_INFO!B44=0,\" \",COUNTRY_INFO!B44),\" \")","v":" "},{"$f":"IF(AND(INTRO!$E$37=\"Endemic\",INTRO!$E$39=\"Non-endemic\"),IF(COUNTRY_INFO!C44=0,\" \",COUNTRY_INFO!C44),\" \")","v":" "},{"$f":"IF(COUNTRY_INFO!Z44<>\"\",COUNTRY_INFO!V44,0)","v":0},{"$f":"IF(AND(COUNTRY_INFO!Z44<>\"\",COUNTRY_INFO!$H44=1),COUNTRY_INFO!F44+COUNTRY_INFO!G44,0)","v":0},0,null,0]
[{"$f":"IF(AND(INTRO!$E$37=\"Endemic\",INTRO!$E$39=\"Non-endemic\"),IF(COUNTRY_INFO!A45=0,\" \",COUNTRY_INFO!A45),\" \")","v":" "},{"$f":"IF(AND(INTRO!$E$37=\"Endemic\",INTRO!$E$39=\"Non-endemic\"),IF(COUNTRY_INFO!B45=0,\" \",COUNTRY_INFO!B45),\" \")","v":" "},{"$f":"IF(AND(INTRO!$E$37=\"Endemic\",INTRO!$E$39=\"Non-endemic\"),IF(COUNTRY_INFO!C45=0,\" \",COUNTRY_INFO!C45),\" \")","v":" "},{"$f":"IF(COUNTRY_INFO!Z45<>\"\",COUNTRY_INFO!V45,0)","v":0},{"$f":"IF(AND(COUNTRY_INFO!Z45<>\"\",COUNTRY_INFO!$H45=1),COUNTRY_INFO!F45+COUNTRY_INFO!G45,0)","v":0},0,null,0]
[{"$f":"IF(AND(INTRO!$E$37=\"Endemic\",INTRO!$E$39=\"Non-endemic\"),IF(COUNTRY_INFO!A46=0,\" \",COUNTRY_INFO!A46),\" \")","v":" "},{"$f":"IF(AND(INTRO!$E$37=\"Endemic\",INTRO!$E$39=\"Non-endemic\"),IF(COUNTRY_INFO!B46=0,\" \",COUNTRY_INFO!B46),\" \")","v":" "},{"$f":"IF(AND(INTRO!$E$37=\"Endemic\",INTRO!$E$39=\"Non-endemic\"),IF(COUNTRY_INFO!C46=0,\" \",COUNTRY_INFO!C46),\" \")","v":" "},{"$f":"IF(COUNTRY_INFO!Z46<>\"\",COUNTRY_INFO!V46,0)","v":0},{"$f":"IF(AND(COUNTRY_INFO!Z46<>\"\",COUNTRY_INFO!$H46=1),COUNTRY_INFO!F46+COUNTRY_INFO!G46,0)","v":0},0,null,0]
[{"$f":"IF(AND(INTRO!$E$37=\"Endemic\",INTRO!$E$39=\"Non-endemic\"),IF(COUNTRY_INFO!A47=0,\" \",COUNTRY_INFO!A47),\" \")","v":" "},{"$f":"IF(AND(INTRO!$E$37=\"Endemic\",INTRO!$E$39=\"Non-endemic\"),IF(COUNTRY_INFO!B47=0,\" \",COUNTRY_INFO!B47),\" \")","v":" "},{"$f":"IF(AND(INTRO!$E$37=\"Endemic\",INTRO!$E$39=\"Non-endemic\"),IF(COUNTRY_INFO!C47=0,\" \",COUNTRY_INFO!C47),\" \")","v":" "},{"$f":"IF(COUNTRY_INFO!Z47<>\"\",COUNTRY_INFO!V47,0)","v":0},{"$f":"IF(AND(COUNTRY_INFO!Z47<>\"\",COUNTRY_INFO!$H47=1),COUNTRY_INFO!F47+COUNTRY_INFO!G47,0)","v":0},0,null,0]
[{"$f":"IF(AND(INTRO!$E$37=\"Endemic\",INTRO!$E$39=\"Non-endemic\"),IF(COUNTRY_INFO!A48=0,\" \",COUNTRY_INFO!A48),\" \")","v":" "},{"$f":"IF(AND(INTRO!$E$37=\"Endemic\",INTRO!$E$39=\"Non-endemic\"),IF(COUNTRY_INFO!B48=0,\" \",COUNTRY_INFO!B48),\" \")","v":" "},{"$f":"IF(AND(INTRO!$E$37=\"Endemic\",INTRO!$E$39=\"Non-endemic\"),IF(COUNTRY_INFO!C48=0,\" \",COUNTRY_INFO!C48),\" \")","v":" "},{"$f":"IF(COUNTRY_INFO!Z48<>\"\",COUNTRY_INFO!V48,0)","v":0},{"$f":"IF(AND(COUNTRY_INFO!Z48<>\"\",COUNTRY_INFO!$H48=1),COUNTRY_INFO!F48+COUNTRY_INFO!G48,0)","v":0},0,null,0]
[{"$f":"IF(AND(INTRO!$E$37=\"Endemic\",INTRO!$E$39=\"Non-endemic\"),IF(COUNTRY_INFO!A49=0,\" \",COUNTRY_INFO!A49),\" \")","v":" "},{"$f":"IF(AND(INTRO!$E$37=\"Endemic\",INTRO!$E$39=\"Non-endemic\"),IF(COUNTRY_INFO!B49=0,\" \",COUNTRY_INFO!B49),\" \")","v":" "},{"$f":"IF(AND(INTRO!$E$37=\"Endemic\",INTRO!$E$39=\"Non-endemic\"),IF(COUNTRY_INFO!C49=0,\" \",COUNTRY_INFO!C49),\" \")","v":" "},{"$f":"IF(COUNTRY_INFO!Z49<>\"\",COUNTRY_INFO!V49,0)","v":0},{"$f":"IF(AND(COUNTRY_INFO!Z49<>\"\",COUNTRY_INFO!$H49=1),COUNTRY_INFO!F49+COUNTRY_INFO!G49,0)","v":0},0,null,0]
[{"$f":"IF(AND(INTRO!$E$37=\"Endemic\",INTRO!$E$39=\"Non-endemic\"),IF(COUNTRY_INFO!A50=0,\" \",COUNTRY_INFO!A50),\" \")","v":" "},{"$f":"IF(AND(INTRO!$E$37=\"Endemic\",INTRO!$E$39=\"Non-endemic\"),IF(COUNTRY_INFO!B50=0,\" \",COUNTRY_INFO!B50),\" \")","v":" "},{"$f":"IF(AND(INTRO!$E$37=\"Endemic\",INTRO!$E$39=\"Non-endemic\"),IF(COUNTRY_INFO!C50=0,\" \",COUNTRY_INFO!C50),\" \")","v":" "},{"$f":"IF(COUNTRY_INFO!Z50<>\"\",COUNTRY_INFO!V50,0)","v":0},{"$f":"IF(AND(COUNTRY_INFO!Z50<>\"\",COUNTRY_INFO!$H50=1),COUNTRY_INFO!F50+COUNTRY_INFO!G50,0)","v":0},0,null,0]
[{"$f":"IF(AND(INTRO!$E$37=\"Endemic\",INTRO!$E$39=\"Non-endemic\"),IF(COUNTRY_INFO!A51=0,\" \",COUNTRY_INFO!A51),\" \")","v":" "},{"$f":"IF(AND(INTRO!$E$37=\"Endemic\",INTRO!$E$39=\"Non-endemic\"),IF(COUNTRY_INFO!B51=0,\" \",COUNTRY_INFO!B51),\" \")","v":" "},{"$f":"IF(AND(INTRO!$E$37=\"Endemic\",INTRO!$E$39=\"Non-endemic\"),IF(COUNTRY_INFO!C51=0,\" \",COUNTRY_INFO!C51),\" \")","v":" "},{"$f":"IF(COUNTRY_INFO!Z51<>\"\",COUNTRY_INFO!V51,0)","v":0},{"$f":"IF(AND(COUNTRY_INFO!Z51<>\"\",COUNTRY_INFO!$H51=1),COUNTRY_INFO!F51+COUNTRY_INFO!G51,0)","v":0},0,null,0]
[{"$f":"IF(AND(INTRO!$E$37=\"Endemic\",INTRO!$E$39=\"Non-endemic\"),IF(COUNTRY_INFO!A52=0,\" \",COUNTRY_INFO!A52),\" \")","v":" "},{"$f":"IF(AND(INTRO!$E$37=\"Endemic\",INTRO!$E$39=\"Non-endemic\"),IF(COUNTRY_INFO!B52=0,\" \",COUNTRY_INFO!B52),\" \")","v":" "},{"$f":"IF(AND(INTRO!$E$37=\"Endemic\",INTRO!$E$39=\"Non-endemic\"),IF(COUNTRY_INFO!C52=0,\" \",COUNTRY_INFO!C52),\" \")","v":" "},{"$f":"IF(COUNTRY_INFO!Z52<>\"\",COUNTRY_INFO!V52,0)","v":0},{"$f":"IF(AND(COUNTRY_INFO!Z52<>\"\",COUNTRY_INFO!$H52=1),COUNTRY_INFO!F52+COUNTRY_INFO!G52,0)","v":0},0,null,0]
[{"$f":"IF(AND(INTRO!$E$37=\"Endemic\",INTRO!$E$39=\"Non-endemic\"),IF(COUNTRY_INFO!A53=0,\" \",COUNTRY_INFO!A53),\" \")","v":" "},{"$f":"IF(AND(INTRO!$E$37=\"Endemic\",INTRO!$E$39=\"Non-endemic\"),IF(COUNTRY_INFO!B53=0,\" \",COUNTRY_INFO!B53),\" \")","v":" "},{"$f":"IF(AND(INTRO!$E$37=\"Endemic\",INTRO!$E$39=\"Non-endemic\"),IF(COUNTRY_INFO!C53=0,\" \",COUNTRY_INFO!C53),\" \")","v":" "},{"$f":"IF(COUNTRY_INFO!Z53<>\"\",COUNTRY_INFO!V53,0)","v":0},{"$f":"IF(AND(COUNTRY_INFO!Z53<>\"\",COUNTRY_INFO!$H53=1),COUNTRY_INFO!F53+COUNTRY_INFO!G53,0)","v":0},0,null,0]
[{"$f":"IF(AND(INTRO!$E$37=\"Endemic\",INTRO!$E$39=\"Non-endemic\"),IF(COUNTRY_INFO!A54=0,\" \",COUNTRY_INFO!A54),\" \")","v":" "},{"$f":"IF(AND(INTRO!$E$37=\"Endemic\",INTRO!$E$39=\"Non-endemic\"),IF(COUNTRY_INFO!B54=0,\" \",COUNTRY_INFO!B54),\" \")","v":" "},{"$f":"IF(AND(INTRO!$E$37=\"Endemic\",INTRO!$E$39=\"Non-endemic\"),IF(COUNTRY_INFO!C54=0,\" \",COUNTRY_INFO!C54),\" \")","v":" "},{"$f":"IF(COUNTRY_INFO!Z54<>\"\",COUNTRY_INFO!V54,0)","v":0},{"$f":"IF(AND(COUNTRY_INFO!Z54<>\"\",COUNTRY_INFO!$H54=1),COUNTRY_INFO!F54+COUNTRY_INFO!G54,0)","v":0},0,null,0]
[{"$f":"IF(AND(INTRO!$E$37=\"Endemic\",INTRO!$E$39=\"Non-endemic\"),IF(COUNTRY_INFO!A55=0,\" \",COUNTRY_INFO!A55),\" \")","v":" "},{"$f":"IF(AND(INTRO!$E$37=\"Endemic\",INTRO!$E$39=\"Non-endemic\"),IF(COUNTRY_INFO!B55=0,\" \",COUNTRY_INFO!B55),\" \")","v":" "},{"$f":"IF(AND(INTRO!$E$37=\"Endemic\",INTRO!$E$39=\"Non-endemic\"),IF(COUNTRY_INFO!C55=0,\" \",COUNTRY_INFO!C55),\" \")","v":" "},{"$f":"IF(COUNTRY_INFO!Z55<>\"\",COUNTRY_INFO!V55,0)","v":0},{"$f":"IF(AND(COUNTRY_INFO!Z55<>\"\",COUNTRY_INFO!$H55=1),COUNTRY_INFO!F55+COUNTRY_INFO!G55,0)","v":0},0,null,0]
[{"$f":"IF(AND(INTRO!$E$37=\"Endemic\",INTRO!$E$39=\"Non-endemic\"),IF(COUNTRY_INFO!A56=0,\" \",COUNTRY_INFO!A56),\" \")","v":" "},{"$f":"IF(AND(INTRO!$E$37=\"Endemic\",INTRO!$E$39=\"Non-endemic\"),IF(COUNTRY_INFO!B56=0,\" \",COUNTRY_INFO!B56),\" \")","v":" "},{"$f":"IF(AND(INTRO!$E$37=\"Endemic\",INTRO!$E$39=\"Non-endemic\"),IF(COUNTRY_INFO!C56=0,\" \",COUNTRY_INFO!C56),\" \")","v":" "},{"$f":"IF(COUNTRY_INFO!Z56<>\"\",COUNTRY_INFO!V56,0)","v":0},{"$f":"IF(AND(COUNTRY_INFO!Z56<>\"\",COUNTRY_INFO!$H56=1),COUNTRY_INFO!F56+COUNTRY_INFO!G56,0)","v":0},0,null,0]
[{"$f":"IF(AND(INTRO!$E$37=\"Endemic\",INTRO!$E$39=\"Non-endemic\"),IF(COUNTRY_INFO!A57=0,\" \",COUNTRY_INFO!A57),\" \")","v":" "},{"$f":"IF(AND(INTRO!$E$37=\"Endemic\",INTRO!$E$39=\"Non-endemic\"),IF(COUNTRY_INFO!B57=0,\" \",COUNTRY_INFO!B57),\" \")","v":" "},{"$f":"IF(AND(INTRO!$E$37=\"Endemic\",INTRO!$E$39=\"Non-endemic\"),IF(COUNTRY_INFO!C57=0,\" \",COUNTRY_INFO!C57),\" \")","v":" "},{"$f":"IF(COUNTRY_INFO!Z57<>\"\",COUNTRY_INFO!V57,0)","v":0},{"$f":"IF(AND(COUNTRY_INFO!Z57<>\"\",COUNTRY_INFO!$H57=1),COUNTRY_INFO!F57+COUNTRY_INFO!G57,0)","v":0},0,null,0]
[{"$f":"IF(AND(INTRO!$E$37=\"Endemic\",INTRO!$E$39=\"Non-endemic\"),IF(COUNTRY_INFO!A58=0,\" \",COUNTRY_INFO!A58),\" \")","v":" "},{"$f":"IF(AND(INTRO!$E$37=\"Endemic\",INTRO!$E$39=\"Non-endemic\"),IF(COUNTRY_INFO!B58=0,\" \",COUNTRY_INFO!B58),\" \")","v":" "},{"$f":"IF(AND(INTRO!$E$37=\"Endemic\",INTRO!$E$39=\"Non-endemic\"),IF(COUNTRY_INFO!C58=0,\" \",COUNTRY_INFO!C58),\" \")","v":" "},{"$f":"IF(COUNTRY_INFO!Z58<>\"\",COUNTRY_INFO!V58,0)","v":0},{"$f":"IF(AND(COUNTRY_INFO!Z58<>\"\",COUNTRY_INFO!$H58=1),COUNTRY_INFO!F58+COUNTRY_INFO!G58,0)","v":0},0,null,0]
[{"$f":"IF(AND(INTRO!$E$37=\"Endemic\",INTRO!$E$39=\"Non-endemic\"),IF(COUNTRY_INFO!A59=0,\" \",COUNTRY_INFO!A59),\" \")","v":" "},{"$f":"IF(AND(INTRO!$E$37=\"Endemic\",INTRO!$E$39=\"Non-endemic\"),IF(COUNTRY_INFO!B59=0,\" \",COUNTRY_INFO!B59),\" \")","v":" "},{"$f":"IF(AND(INTRO!$E$37=\"Endemic\",INTRO!$E$39=\"Non-endemic\"),IF(COUNTRY_INFO!C59=0,\" \",COUNTRY_INFO!C59),\" \")","v":" "},{"$f":"IF(COUNTRY_INFO!Z59<>\"\",COUNTRY_INFO!V59,0)","v":0},{"$f":"IF(AND(COUNTRY_INFO!Z59<>\"\",COUNTRY_INFO!$H59=1),COUNTRY_INFO!F59+COUNTRY_INFO!G59,0)","v":0},0,null,0]
[{"$f":"IF(AND(INTRO!$E$37=\"Endemic\",INTRO!$E$39=\"Non-endemic\"),IF(COUNTRY_INFO!A60=0,\" \",COUNTRY_INFO!A60),\" \")","v":" "},{"$f":"IF(AND(INTRO!$E$37=\"Endemic\",INTRO!$E$39=\"Non-endemic\"),IF(COUNTRY_INFO!B60=0,\" \",COUNTRY_INFO!B60),\" \")","v":" "},{"$f":"IF(AND(INTRO!$E$37=\"Endemic\",INTRO!$E$39=\"Non-endemic\"),IF(COUNTRY_INFO!C60=0,\" \",COUNTRY_INFO!C60),\" \")","v":" "},{"$f":"IF(COUNTRY_INFO!Z60<>\"\",COUNTRY_INFO!V60,0)","v":0},{"$f":"IF(AND(COUNTRY_INFO!Z60<>\"\",COUNTRY_INFO!$H60=1),COUNTRY_INFO!F60+COUNTRY_INFO!G60,0)","v":0},0,null,0]
[{"$f":"IF(AND(INTRO!$E$37=\"Endemic\",INTRO!$E$39=\"Non-endemic\"),IF(COUNTRY_INFO!A61=0,\" \",COUNTRY_INFO!A61),\" \")","v":" "},{"$f":"IF(AND(INTRO!$E$37=\"Endemic\",INTRO!$E$39=\"Non-endemic\"),IF(COUNTRY_INFO!B61=0,\" \",COUNTRY_INFO!B61),\" \")","v":" "},{"$f":"IF(AND(INTRO!$E$37=\"Endemic\",INTRO!$E$39=\"Non-endemic\"),IF(COUNTRY_INFO!C61=0,\" \",COUNTRY_INFO!C61),\" \")","v":" "},{"$f":"IF(COUNTRY_INFO!Z61<>\"\",COUNTRY_INFO!V61,0)","v":0},{"$f":"IF(AND(COUNTRY_INFO!Z61<>\"\",COUNTRY_INFO!$H61=1),COUNTRY_INFO!F61+COUNTRY_INFO!G61,0)","v":0},0,null,0]
[{"$f":"IF(AND(INTRO!$E$37=\"Endemic\",INTRO!$E$39=\"Non-endemic\"),IF(COUNTRY_INFO!A62=0,\" \",COUNTRY_INFO!A62),\" \")","v":" "},{"$f":"IF(AND(INTRO!$E$37=\"Endemic\",INTRO!$E$39=\"Non-endemic\"),IF(COUNTRY_INFO!B62=0,\" \",COUNTRY_INFO!B62),\" \")","v":" "},{"$f":"IF(AND(INTRO!$E$37=\"Endemic\",INTRO!$E$39=\"Non-endemic\"),IF(COUNTRY_INFO!C62=0,\" \",COUNTRY_INFO!C62),\" \")","v":" "},{"$f":"IF(COUNTRY_INFO!Z62<>\"\",COUNTRY_INFO!V62,0)","v":0},{"$f":"IF(AND(COUNTRY_INFO!Z62<>\"\",COUNTRY_INFO!$H62=1),COUNTRY_INFO!F62+COUNTRY_INFO!G62,0)","v":0},0,null,0]
[{"$f":"IF(AND(INTRO!$E$37=\"Endemic\",INTRO!$E$39=\"Non-endemic\"),IF(COUNTRY_INFO!A63=0,\" \",COUNTRY_INFO!A63),\" \")","v":" "},{"$f":"IF(AND(INTRO!$E$37=\"Endemic\",INTRO!$E$39=\"Non-endemic\"),IF(COUNTRY_INFO!B63=0,\" \",COUNTRY_INFO!B63),\" \")","v":" "},{"$f":"IF(AND(INTRO!$E$37=\"Endemic\",INTRO!$E$39=\"Non-endemic\"),IF(COUNTRY_INFO!C63=0,\" \",COUNTRY_INFO!C63),\" \")","v":" "},{"$f":"IF(COUNTRY_INFO!Z63<>\"\",COUNTRY_INFO!V63,0)","v":0},{"$f":"IF(AND(COUNTRY_INFO!Z63<>\"\",COUNTRY_INFO!$H63=1),COUNTRY_INFO!F63+COUNTRY_INFO!G63,0)","v":0},0,null,0]
[{"$f":"IF(AND(INTRO!$E$37=\"Endemic\",INTRO!$E$39=\"Non-endemic\"),IF(COUNTRY_INFO!A64=0,\" \",COUNTRY_INFO!A64),\" \")","v":" "},{"$f":"IF(AND(INTRO!$E$37=\"Endemic\",INTRO!$E$39=\"Non-endemic\"),IF(COUNTRY_INFO!B64=0,\" \",COUNTRY_INFO!B64),\" \")","v":" "},{"$f":"IF(AND(INTRO!$E$37=\"Endemic\",INTRO!$E$39=\"Non-endemic\"),IF(COUNTRY_INFO!C64=0,\" \",COUNTRY_INFO!C64),\" \")","v":" "},{"$f":"IF(COUNTRY_INFO!Z64<>\"\",COUNTRY_INFO!V64,0)","v":0},{"$f":"IF(AND(COUNTRY_INFO!Z64<>\"\",COUNTRY_INFO!$H64=1),COUNTRY_INFO!F64+COUNTRY_INFO!G64,0)","v":0},0,null,0]
[{"$f":"IF(AND(INTRO!$E$37=\"Endemic\",INTRO!$E$39=\"Non-endemic\"),IF(COUNTRY_INFO!A65=0,\" \",COUNTRY_INFO!A65),\" \")","v":" "},{"$f":"IF(AND(INTRO!$E$37=\"Endemic\",INTRO!$E$39=\"Non-endemic\"),IF(COUNTRY_INFO!B65=0,\" \",COUNTRY_INFO!B65),\" \")","v":" "},{"$f":"IF(AND(INTRO!$E$37=\"Endemic\",INTRO!$E$39=\"Non-endemic\"),IF(COUNTRY_INFO!C65=0,\" \",COUNTRY_INFO!C65),\" \")","v":" "},{"$f":"IF(COUNTRY_INFO!Z65<>\"\",COUNTRY_INFO!V65,0)","v":0},{"$f":"IF(AND(COUNTRY_INFO!Z65<>\"\",COUNTRY_INFO!$H65=1),COUNTRY_INFO!F65+COUNTRY_INFO!G65,0)","v":0},0,null,0]
[{"$f":"IF(AND(INTRO!$E$37=\"Endemic\",INTRO!$E$39=\"Non-endemic\"),IF(COUNTRY_INFO!A66=0,\" \",COUNTRY_INFO!A66),\" \")","v":" "},{"$f":"IF(AND(INTRO!$E$37=\"Endemic\",INTRO!$E$39=\"Non-endemic\"),IF(COUNTRY_INFO!B66=0,\" \",COUNTRY_INFO!B66),\" \")","v":" "},{"$f":"IF(AND(INTRO!$E$37=\"Endemic\",INTRO!$E$39=\"Non-endemic\"),IF(COUNTRY_INFO!C66=0,\" \",COUNTRY_INFO!C66),\" \")","v":" "},{"$f":"IF(COUNTRY_INFO!Z66<>\"\",COUNTRY_INFO!V66,0)","v":0},{"$f":"IF(AND(COUNTRY_INFO!Z66<>\"\",COUNTRY_INFO!$H66=1),COUNTRY_INFO!F66+COUNTRY_INFO!G66,0)","v":0},0,null,0]
[{"$f":"IF(AND(INTRO!$E$37=\"Endemic\",INTRO!$E$39=\"Non-endemic\"),IF(COUNTRY_INFO!A67=0,\" \",COUNTRY_INFO!A67),\" \")","v":" "},{"$f":"IF(AND(INTRO!$E$37=\"Endemic\",INTRO!$E$39=\"Non-endemic\"),IF(COUNTRY_INFO!B67=0,\" \",COUNTRY_INFO!B67),\" \")","v":" "},{"$f":"IF(AND(INTRO!$E$37=\"Endemic\",INTRO!$E$39=\"Non-endemic\"),IF(COUNTRY_INFO!C67=0,\" \",COUNTRY_INFO!C67),\" \")","v":" "},{"$f":"IF(COUNTRY_INFO!Z67<>\"\",COUNTRY_INFO!V67,0)","v":0},{"$f":"IF(AND(COUNTRY_INFO!Z67<>\"\",COUNTRY_INFO!$H67=1),COUNTRY_INFO!F67+COUNTRY_INFO!G67,0)","v":0},0,null,0]
[{"$f":"IF(AND(INTRO!$E$37=\"Endemic\",INTRO!$E$39=\"Non-endemic\"),IF(COUNTRY_INFO!A68=0,\" \",COUNTRY_INFO!A68),\" \")","v":" "},{"$f":"IF(AND(INTRO!$E$37=\"Endemic\",INTRO!$E$39=\"Non-endemic\"),IF(COUNTRY_INFO!B68=0,\" \",COUNTRY_INFO!B68),\" \")","v":" "},{"$f":"IF(AND(INTRO!$E$37=\"Endemic\",INTRO!$E$39=\"Non-endemic\"),IF(COUNTRY_INFO!C68=0,\" \",COUNTRY_INFO!C68),\" \")","v":" "},{"$f":"IF(COUNTRY_INFO!Z68<>\"\",COUNTRY_INFO!V68,0)","v":0},{"$f":"IF(AND(COUNTRY_INFO!Z68<>\"\",COUNTRY_INFO!$H68=1),COUNTRY_INFO!F68+COUNTRY_INFO!G68,0)","v":0},0,null,0]
[{"$f":"IF(AND(INTRO!$E$37=\"Endemic\",INTRO!$E$39=\"Non-endemic\"),IF(COUNTRY_INFO!A69=0,\" \",COUNTRY_INFO!A69),\" \")","v":" "},{"$f":"IF(AND(INTRO!$E$37=\"Endemic\",INTRO!$E$39=\"Non-endemic\"),IF(COUNTRY_INFO!B69=0,\" \",COUNTRY_INFO!B69),\" \")","v":" "},{"$f":"IF(AND(INTRO!$E$37=\"Endemic\",INTRO!$E$39=\"Non-endemic\"),IF(COUNTRY_INFO!C69=0,\" \",COUNTRY_INFO!C69),\" \")","v":" "},{"$f":"IF(COUNTRY_INFO!Z69<>\"\",COUNTRY_INFO!V69,0)","v":0},{"$f":"IF(AND(COUNTRY_INFO!Z69<>\"\",COUNTRY_INFO!$H69=1),COUNTRY_INFO!F69+COUNTRY_INFO!G69,0)","v":0},0,null,0]
[{"$f":"IF(AND(INTRO!$E$37=\"Endemic\",INTRO!$E$39=\"Non-endemic\"),IF(COUNTRY_INFO!A70=0,\" \",COUNTRY_INFO!A70),\" \")","v":" "},{"$f":"IF(AND(INTRO!$E$37=\"Endemic\",INTRO!$E$39=\"Non-endemic\"),IF(COUNTRY_INFO!B70=0,\" \",COUNTRY_INFO!B70),\" \")","v":" "},{"$f":"IF(AND(INTRO!$E$37=\"Endemic\",INTRO!$E$39=\"Non-endemic\"),IF(COUNTRY_INFO!C70=0,\" \",COUNTRY_INFO!C70),\" \")","v":" "},{"$f":"IF(COUNTRY_INFO!Z70<>\"\",COUNTRY_INFO!V70,0)","v":0},{"$f":"IF(AND(COUNTRY_INFO!Z70<>\"\",COUNTRY_INFO!$H70=1),COUNTRY_INFO!F70+COUNTRY_INFO!G70,0)","v":0},0,null,0]
[{"$f":"IF(AND(INTRO!$E$37=\"Endemic\",INTRO!$E$39=\"Non-endemic\"),IF(COUNTRY_INFO!A71=0,\" \",COUNTRY_INFO!A71),\" \")","v":" "},{"$f":"IF(AND(INTRO!$E$37=\"Endemic\",INTRO!$E$39=\"Non-endemic\"),IF(COUNTRY_INFO!B71=0,\" \",COUNTRY_INFO!B71),\" \")","v":" "},{"$f":"IF(AND(INTRO!$E$37=\"Endemic\",INTRO!$E$39=\"Non-endemic\"),IF(COUNTRY_INFO!C71=0,\" \",COUNTRY_INFO!C71),\" \")","v":" "},{"$f":"IF(COUNTRY_INFO!Z71<>\"\",COUNTRY_INFO!V71,0)","v":0},{"$f":"IF(AND(COUNTRY_INFO!Z71<>\"\",COUNTRY_INFO!$H71=1),COUNTRY_INFO!F71+COUNTRY_INFO!G71,0)","v":0},0,null,0]
[{"$f":"IF(AND(INTRO!$E$37=\"Endemic\",INTRO!$E$39=\"Non-endemic\"),IF(COUNTRY_INFO!A72=0,\" \",COUNTRY_INFO!A72),\" \")","v":" "},{"$f":"IF(AND(INTRO!$E$37=\"Endemic\",INTRO!$E$39=\"Non-endemic\"),IF(COUNTRY_INFO!B72=0,\" \",COUNTRY_INFO!B72),\" \")","v":" "},{"$f":"IF(AND(INTRO!$E$37=\"Endemic\",INTRO!$E$39=\"Non-endemic\"),IF(COUNTRY_INFO!C72=0,\" \",COUNTRY_INFO!C72),\" \")","v":" "},{"$f":"IF(COUNTRY_INFO!Z72<>\"\",COUNTRY_INFO!V72,0)","v":0},{"$f":"IF(AND(COUNTRY_INFO!Z72<>\"\",COUNTRY_INFO!$H72=1),COUNTRY_INFO!F72+COUNTRY_INFO!G72,0)","v":0},0,null,0]
[{"$f":"IF(AND(INTRO!$E$37=\"Endemic\",INTRO!$E$39=\"Non-endemic\"),IF(COUNTRY_INFO!A73=0,\" \",COUNTRY_INFO!A73),\" \")","v":" "},{"$f":"IF(AND(INTRO!$E$37=\"Endemic\",INTRO!$E$39=\"Non-endemic\"),IF(COUNTRY_INFO!B73=0,\" \",COUNTRY_INFO!B73),\" \")","v":" "},{"$f":"IF(AND(INTRO!$E$37=\"Endemic\",INTRO!$E$39=\"Non-endemic\"),IF(COUNTRY_INFO!C73=0,\" \",COUNTRY_INFO!C73),\" \")","v":" "},{"$f":"IF(COUNTRY_INFO!Z73<>\"\",COUNTRY_INFO!V73,0)","v":0},{"$f":"IF(AND(COUNTRY_INFO!Z73<>\"\",COUNTRY_INFO!$H73=1),COUNTRY_INFO!F73+COUNTRY_INFO!G73,0)","v":0},0,null,0]
[{"$f":"IF(AND(INTRO!$E$37=\"Endemic\",INTRO!$E$39=\"Non-endemic\"),IF(COUNTRY_INFO!A74=0,\" \",COUNTRY_INFO!A74),\" \")","v":" "},{"$f":"IF(AND(INTRO!$E$37=\"Endemic\",INTRO!$E$39=\"Non-endemic\"),IF(COUNTRY_INFO!B74=0,\" \",COUNTRY_INFO!B74),\" \")","v":" "},{"$f":"IF(AND(INTRO!$E$37=\"Endemic\",INTRO!$E$39=\"Non-endemic\"),IF(COUNTRY_INFO!C74=0,\" \",COUNTRY_INFO!C74),\" \")","v":" "},{"$f":"IF(COUNTRY_INFO!Z74<>\"\",COUNTRY_INFO!V74,0)","v":0},{"$f":"IF(AND(COUNTRY_INFO!Z74<>\"\",COUNTRY_INFO!$H74=1),COUNTRY_INFO!F74+COUNTRY_INFO!G74,0)","v":0},0,null,0]
[{"$f":"IF(AND(INTRO!$E$37=\"Endemic\",INTRO!$E$39=\"Non-endemic\"),IF(COUNTRY_INFO!A75=0,\" \",COUNTRY_INFO!A75),\" \")","v":" "},{"$f":"IF(AND(INTRO!$E$37=\"Endemic\",INTRO!$E$39=\"Non-endemic\"),IF(COUNTRY_INFO!B75=0,\" \",COUNTRY_INFO!B75),\" \")","v":" "},{"$f":"IF(AND(INTRO!$E$37=\"Endemic\",INTRO!$E$39=\"Non-endemic\"),IF(COUNTRY_INFO!C75=0,\" \",COUNTRY_INFO!C75),\" \")","v":" "},{"$f":"IF(COUNTRY_INFO!Z75<>\"\",COUNTRY_INFO!V75,0)","v":0},{"$f":"IF(AND(COUNTRY_INFO!Z75<>\"\",COUNTRY_INFO!$H75=1),COUNTRY_INFO!F75+COUNTRY_INFO!G75,0)","v":0},{"$f":"E75*2.8","v":0},null,0]
[{"$f":"IF(AND(INTRO!$E$37=\"Endemic\",INTRO!$E$39=\"Non-endemic\"),IF(COUNTRY_INFO!A76=0,\" \",COUNTRY_INFO!A76),\" \")","v":" "},{"$f":"IF(AND(INTRO!$E$37=\"Endemic\",INTRO!$E$39=\"Non-endemic\"),IF(COUNTRY_INFO!B76=0,\" \",COUNTRY_INFO!B76),\" \")","v":" "},{"$f":"IF(AND(INTRO!$E$37=\"Endemic\",INTRO!$E$39=\"Non-endemic\"),IF(COUNTRY_INFO!C76=0,\" \",COUNTRY_INFO!C76),\" \")","v":" "},{"$f":"IF(COUNTRY_INFO!Z76<>\"\",COUNTRY_INFO!V76,0)","v":0},{"$f":"IF(AND(COUNTRY_INFO!Z76<>\"\",COUNTRY_INFO!$H76=1),COUNTRY_INFO!F76+COUNTRY_INFO!G76,0)","v":0},0,null,0]
[{"$f":"IF(AND(INTRO!$E$37=\"Endemic\",INTRO!$E$39=\"Non-endemic\"),IF(COUNTRY_INFO!A77=0,\" \",COUNTRY_INFO!A77),\" \")","v":" "},{"$f":"IF(AND(INTRO!$E$37=\"Endemic\",INTRO!$E$39=\"Non-endemic\"),IF(COUNTRY_INFO!B77=0,\" \",COUNTRY_INFO!B77),\" \")","v":" "},{"$f":"IF(AND(INTRO!$E$37=\"Endemic\",INTRO!$E$39=\"Non-endemic\"),IF(COUNTRY_INFO!C77=0,\" \",COUNTRY_INFO!C77),\" \")","v":" "},{"$f":"IF(COUNTRY_INFO!Z77<>\"\",COUNTRY_INFO!V77,0)","v":0},{"$f":"IF(AND(COUNTRY_INFO!Z77<>\"\",COUNTRY_INFO!$H77=1),COUNTRY_INFO!F77+COUNTRY_INFO!G77,0)","v":0},0,null,0]
[{"$f":"IF(AND(INTRO!$E$37=\"Endemic\",INTRO!$E$39=\"Non-endemic\"),IF(COUNTRY_INFO!A78=0,\" \",COUNTRY_INFO!A78),\" \")","v":" "},{"$f":"IF(AND(INTRO!$E$37=\"Endemic\",INTRO!$E$39=\"Non-endemic\"),IF(COUNTRY_INFO!B78=0,\" \",COUNTRY_INFO!B78),\" \")","v":" "},{"$f":"IF(AND(INTRO!$E$37=\"Endemic\",INTRO!$E$39=\"Non-endemic\"),IF(COUNTRY_INFO!C78=0,\" \",COUNTRY_INFO!C78),\" \")","v":" "},{"$f":"IF(COUNTRY_INFO!Z78<>\"\",COUNTRY_INFO!V78,0)","v":0},{"$f":"IF(AND(COUNTRY_INFO!Z78<>\"\",COUNTRY_INFO!$H78=1),COUNTRY_INFO!F78+COUNTRY_INFO!G78,0)","v":0},0,null,0]
[{"$f":"IF(AND(INTRO!$E$37=\"Endemic\",INTRO!$E$39=\"Non-endemic\"),IF(COUNTRY_INFO!A79=0,\" \",COUNTRY_INFO!A79),\" \")","v":" "},{"$f":"IF(AND(INTRO!$E$37=\"Endemic\",INTRO!$E$39=\"Non-endemic\"),IF(COUNTRY_INFO!B79=0,\" \",COUNTRY_INFO!B79),\" \")","v":" "},{"$f":"IF(AND(INTRO!$E$37=\"Endemic\",INTRO!$E$39=\"Non-endemic\"),IF(COUNTRY_INFO!C79=0,\" \",COUNTRY_INFO!C79),\" \")","v":" "},{"$f":"IF(COUNTRY_INFO!Z79<>\"\",COUNTRY_INFO!V79,0)","v":0},{"$f":"IF(AND(COUNTRY_INFO!Z79<>\"\",COUNTRY_INFO!$H79=1),COUNTRY_INFO!F79+COUNTRY_INFO!G79,0)","v":0},0,null,0]
[{"$f":"IF(AND(INTRO!$E$37=\"Endemic\",INTRO!$E$39=\"Non-endemic\"),IF(COUNTRY_INFO!A80=0,\" \",COUNTRY_INFO!A80),\" \")","v":" "},{"$f":"IF(AND(INTRO!$E$37=\"Endemic\",INTRO!$E$39=\"Non-endemic\"),IF(COUNTRY_INFO!B80=0,\" \",COUNTRY_INFO!B80),\" \")","v":" "},{"$f":"IF(AND(INTRO!$E$37=\"Endemic\",INTRO!$E$39=\"Non-endemic\"),IF(COUNTRY_INFO!C80=0,\" \",COUNTRY_INFO!C80),\" \")","v":" "},{"$f":"IF(COUNTRY_INFO!Z80<>\"\",COUNTRY_INFO!V80,0)","v":0},{"$f":"IF(AND(COUNTRY_INFO!Z80<>\"\",COUNTRY_INFO!$H80=1),COUNTRY_INFO!F80+COUNTRY_INFO!G80,0)","v":0},0,null,0]
[{"$f":"IF(AND(INTRO!$E$37=\"Endemic\",INTRO!$E$39=\"Non-endemic\"),IF(COUNTRY_INFO!A81=0,\" \",COUNTRY_INFO!A81),\" \")","v":" "},{"$f":"IF(AND(INTRO!$E$37=\"Endemic\",INTRO!$E$39=\"Non-endemic\"),IF(COUNTRY_INFO!B81=0,\" \",COUNTRY_INFO!B81),\" \")","v":" "},{"$f":"IF(AND(INTRO!$E$37=\"Endemic\",INTRO!$E$39=\"Non-endemic\"),IF(COUNTRY_INFO!C81=0,\" \",COUNTRY_INFO!C81),\" \")","v":" "},{"$f":"IF(COUNTRY_INFO!Z81<>\"\",COUNTRY_INFO!V81,0)","v":0},{"$f":"IF(AND(COUNTRY_INFO!Z81<>\"\",COUNTRY_INFO!$H81=1),COUNTRY_INFO!F81+COUNTRY_INFO!G81,0)","v":0},0,null,0]
[{"$f":"IF(AND(INTRO!$E$37=\"Endemic\",INTRO!$E$39=\"Non-endemic\"),IF(COUNTRY_INFO!A82=0,\" \",COUNTRY_INFO!A82),\" \")","v":" "},{"$f":"IF(AND(INTRO!$E$37=\"Endemic\",INTRO!$E$39=\"Non-endemic\"),IF(COUNTRY_INFO!B82=0,\" \",COUNTRY_INFO!B82),\" \")","v":" "},{"$f":"IF(AND(INTRO!$E$37=\"Endemic\",INTRO!$E$39=\"Non-endemic\"),IF(COUNTRY_INFO!C82=0,\" \",COUNTRY_INFO!C82),\" \")","v":" "},{"$f":"IF(COUNTRY_INFO!Z82<>\"\",COUNTRY_INFO!V82,0)","v":0},{"$f":"IF(AND(COUNTRY_INFO!Z82<>\"\",COUNTRY_INFO!$H82=1),COUNTRY_INFO!F82+COUNTRY_INFO!G82,0)","v":0},0,null,0]
[{"$f":"IF(AND(INTRO!$E$37=\"Endemic\",INTRO!$E$39=\"Non-endemic\"),IF(COUNTRY_INFO!A83=0,\" \",COUNTRY_INFO!A83),\" \")","v":" "},{"$f":"IF(AND(INTRO!$E$37=\"Endemic\",INTRO!$E$39=\"Non-endemic\"),IF(COUNTRY_INFO!B83=0,\" \",COUNTRY_INFO!B83),\" \")","v":" "},{"$f":"IF(AND(INTRO!$E$37=\"Endemic\",INTRO!$E$39=\"Non-endemic\"),IF(COUNTRY_INFO!C83=0,\" \",COUNTRY_INFO!C83),\" \")","v":" "},{"$f":"IF(COUNTRY_INFO!Z83<>\"\",COUNTRY_INFO!V83,0)","v":0},{"$f":"IF(AND(COUNTRY_INFO!Z83<>\"\",COUNTRY_INFO!$H83=1),COUNTRY_INFO!F83+COUNTRY_INFO!G83,0)","v":0},0,null,0]
[{"$f":"IF(AND(INTRO!$E$37=\"Endemic\",INTRO!$E$39=\"Non-endemic\"),IF(COUNTRY_INFO!A84=0,\" \",COUNTRY_INFO!A84),\" \")","v":" "},{"$f":"IF(AND(INTRO!$E$37=\"Endemic\",INTRO!$E$39=\"Non-endemic\"),IF(COUNTRY_INFO!B84=0,\" \",COUNTRY_INFO!B84),\" \")","v":" "},{"$f":"IF(AND(INTRO!$E$37=\"Endemic\",INTRO!$E$39=\"Non-endemic\"),IF(COUNTRY_INFO!C84=0,\" \",COUNTRY_INFO!C84),\" \")","v":" "},{"$f":"IF(COUNTRY_INFO!Z84<>\"\",COUNTRY_INFO!V84,0)","v":0},{"$f":"IF(AND(COUNTRY_INFO!Z84<>\"\",COUNTRY_INFO!$H84=1),COUNTRY_INFO!F84+COUNTRY_INFO!G84,0)","v":0},0,null,0]
[{"$f":"IF(AND(INTRO!$E$37=\"Endemic\",INTRO!$E$39=\"Non-endemic\"),IF(COUNTRY_INFO!A85=0,\" \",COUNTRY_INFO!A85),\" \")","v":" "},{"$f":"IF(AND(INTRO!$E$37=\"Endemic\",INTRO!$E$39=\"Non-endemic\"),IF(COUNTRY_INFO!B85=0,\" \",COUNTRY_INFO!B85),\" \")","v":" "},{"$f":"IF(AND(INTRO!$E$37=\"Endemic\",INTRO!$E$39=\"Non-endemic\"),IF(COUNTRY_INFO!C85=0,\" \",COUNTRY_INFO!C85),\" \")","v":" "},{"$f":"IF(COUNTRY_INFO!Z85<>\"\",COUNTRY_INFO!V85,0)","v":0},{"$f":"IF(AND(COUNTRY_INFO!Z85<>\"\",COUNTRY_INFO!$H85=1),COUNTRY_INFO!F85+COUNTRY_INFO!G85,0)","v":0},0,null,0]
[{"$f":"IF(AND(INTRO!$E$37=\"Endemic\",INTRO!$E$39=\"Non-endemic\"),IF(COUNTRY_INFO!A86=0,\" \",COUNTRY_INFO!A86),\" \")","v":" "},{"$f":"IF(AND(INTRO!$E$37=\"Endemic\",INTRO!$E$39=\"Non-endemic\"),IF(COUNTRY_INFO!B86=0,\" \",COUNTRY_INFO!B86),\" \")","v":" "},{"$f":"IF(AND(INTRO!$E$37=\"Endemic\",INTRO!$E$39=\"Non-endemic\"),IF(COUNTRY_INFO!C86=0,\" \",COUNTRY_INFO!C86),\" \")","v":" "},{"$f":"IF(COUNTRY_INFO!Z86<>\"\",COUNTRY_INFO!V86,0)","v":0},{"$f":"IF(AND(COUNTRY_INFO!Z86<>\"\",COUNTRY_INFO!$H86=1),COUNTRY_INFO!F86+COUNTRY_INFO!G86,0)","v":0},0,null,0]
[{"$f":"IF(AND(INTRO!$E$37=\"Endemic\",INTRO!$E$39=\"Non-endemic\"),IF(COUNTRY_INFO!A87=0,\" \",COUNTRY_INFO!A87),\" \")","v":" "},{"$f":"IF(AND(INTRO!$E$37=\"Endemic\",INTRO!$E$39=\"Non-endemic\"),IF(COUNTRY_INFO!B87=0,\" \",COUNTRY_INFO!B87),\" \")","v":" "},{"$f":"IF(AND(INTRO!$E$37=\"Endemic\",INTRO!$E$39=\"Non-endemic\"),IF(COUNTRY_INFO!C87=0,\" \",COUNTRY_INFO!C87),\" \")","v":" "},{"$f":"IF(COUNTRY_INFO!Z87<>\"\",COUNTRY_INFO!V87,0)","v":0},{"$f":"IF(AND(COUNTRY_INFO!Z87<>\"\",COUNTRY_INFO!$H87=1),COUNTRY_INFO!F87+COUNTRY_INFO!G87,0)","v":0},0,null,0]
[{"$f":"IF(AND(INTRO!$E$37=\"Endemic\",INTRO!$E$39=\"Non-endemic\"),IF(COUNTRY_INFO!A88=0,\" \",COUNTRY_INFO!A88),\" \")","v":" "},{"$f":"IF(AND(INTRO!$E$37=\"Endemic\",INTRO!$E$39=\"Non-endemic\"),IF(COUNTRY_INFO!B88=0,\" \",COUNTRY_INFO!B88),\" \")","v":" "},{"$f":"IF(AND(INTRO!$E$37=\"Endemic\",INTRO!$E$39=\"Non-endemic\"),IF(COUNTRY_INFO!C88=0,\" \",COUNTRY_INFO!C88),\" \")","v":" "},{"$f":"IF(COUNTRY_INFO!Z88<>\"\",COUNTRY_INFO!V88,0)","v":0},{"$f":"IF(AND(COUNTRY_INFO!Z88<>\"\",COUNTRY_INFO!$H88=1),COUNTRY_INFO!F88+COUNTRY_INFO!G88,0)","v":0},0,null,0]
[{"$f":"IF(AND(INTRO!$E$37=\"Endemic\",INTRO!$E$39=\"Non-endemic\"),IF(COUNTRY_INFO!A89=0,\" \",COUNTRY_INFO!A89),\" \")","v":" "},{"$f":"IF(AND(INTRO!$E$37=\"Endemic\",INTRO!$E$39=\"Non-endemic\"),IF(COUNTRY_INFO!B89=0,\" \",COUNTRY_INFO!B89),\" \")","v":" "},{"$f":"IF(AND(INTRO!$E$37=\"Endemic\",INTRO!$E$39=\"Non-endemic\"),IF(COUNTRY_INFO!C89=0,\" \",COUNTRY_INFO!C89),\" \")","v":" "},{"$f":"IF(COUNTRY_INFO!Z89<>\"\",COUNTRY_INFO!V89,0)","v":0},{"$f":"IF(AND(COUNTRY_INFO!Z89<>\"\",COUNTRY_INFO!$H89=1),COUNTRY_INFO!F89+COUNTRY_INFO!G89,0)","v":0},0,null,0]
[{"$f":"IF(AND(INTRO!$E$37=\"Endemic\",INTRO!$E$39=\"Non-endemic\"),IF(COUNTRY_INFO!A90=0,\" \",COUNTRY_INFO!A90),\" \")","v":" "},{"$f":"IF(AND(INTRO!$E$37=\"Endemic\",INTRO!$E$39=\"Non-endemic\"),IF(COUNTRY_INFO!B90=0,\" \",COUNTRY_INFO!B90),\" \")","v":" "},{"$f":"IF(AND(INTRO!$E$37=\"Endemic\",INTRO!$E$39=\"Non-endemic\"),IF(COUNTRY_INFO!C90=0,\" \",COUNTRY_INFO!C90),\" \")","v":" "},{"$f":"IF(COUNTRY_INFO!Z90<>\"\",COUNTRY_INFO!V90,0)","v":0},{"$f":"IF(AND(COUNTRY_INFO!Z90<>\"\",COUNTRY_INFO!$H90=1),COUNTRY_INFO!F90+COUNTRY_INFO!G90,0)","v":0},0,null,0]
[{"$f":"IF(AND(INTRO!$E$37=\"Endemic\",INTRO!$E$39=\"Non-endemic\"),IF(COUNTRY_INFO!A91=0,\" \",COUNTRY_INFO!A91),\" \")","v":" "},{"$f":"IF(AND(INTRO!$E$37=\"Endemic\",INTRO!$E$39=\"Non-endemic\"),IF(COUNTRY_INFO!B91=0,\" \",COUNTRY_INFO!B91),\" \")","v":" "},{"$f":"IF(AND(INTRO!$E$37=\"Endemic\",INTRO!$E$39=\"Non-endemic\"),IF(COUNTRY_INFO!C91=0,\" \",COUNTRY_INFO!C91),\" \")","v":" "},{"$f":"IF(COUNTRY_INFO!Z91<>\"\",COUNTRY_INFO!V91,0)","v":0},{"$f":"IF(AND(COUNTRY_INFO!Z91<>\"\",COUNTRY_INFO!$H91=1),COUNTRY_INFO!F91+COUNTRY_INFO!G91,0)","v":0},0,null,0]
[{"$f":"IF(AND(INTRO!$E$37=\"Endemic\",INTRO!$E$39=\"Non-endemic\"),IF(COUNTRY_INFO!A92=0,\" \",COUNTRY_INFO!A92),\" \")","v":" "},{"$f":"IF(AND(INTRO!$E$37=\"Endemic\",INTRO!$E$39=\"Non-endemic\"),IF(COUNTRY_INFO!B92=0,\" \",COUNTRY_INFO!B92),\" \")","v":" "},{"$f":"IF(AND(INTRO!$E$37=\"Endemic\",INTRO!$E$39=\"Non-endemic\"),IF(COUNTRY_INFO!C92=0,\" \",COUNTRY_INFO!C92),\" \")","v":" "},{"$f":"IF(COUNTRY_INFO!Z92<>\"\",COUNTRY_INFO!V92,0)","v":0},{"$f":"IF(AND(COUNTRY_INFO!Z92<>\"\",COUNTRY_INFO!$H92=1),COUNTRY_INFO!F92+COUNTRY_INFO!G92,0)","v":0},0,null,0]
[{"$f":"IF(AND(INTRO!$E$37=\"Endemic\",INTRO!$E$39=\"Non-endemic\"),IF(COUNTRY_INFO!A93=0,\" \",COUNTRY_INFO!A93),\" \")","v":" "},{"$f":"IF(AND(INTRO!$E$37=\"Endemic\",INTRO!$E$39=\"Non-endemic\"),IF(COUNTRY_INFO!B93=0,\" \",COUNTRY_INFO!B93),\" \")","v":" "},{"$f":"IF(AND(INTRO!$E$37=\"Endemic\",INTRO!$E$39=\"Non-endemic\"),IF(COUNTRY_INFO!C93=0,\" \",COUNTRY_INFO!C93),\" \")","v":" "},{"$f":"IF(COUNTRY_INFO!Z93<>\"\",COUNTRY_INFO!V93,0)","v":0},{"$f":"IF(AND(COUNTRY_INFO!Z93<>\"\",COUNTRY_INFO!$H93=1),COUNTRY_INFO!F93+COUNTRY_INFO!G93,0)","v":0},0,null,0]
[{"$f":"IF(AND(INTRO!$E$37=\"Endemic\",INTRO!$E$39=\"Non-endemic\"),IF(COUNTRY_INFO!A94=0,\" \",COUNTRY_INFO!A94),\" \")","v":" "},{"$f":"IF(AND(INTRO!$E$37=\"Endemic\",INTRO!$E$39=\"Non-endemic\"),IF(COUNTRY_INFO!B94=0,\" \",COUNTRY_INFO!B94),\" \")","v":" "},{"$f":"IF(AND(INTRO!$E$37=\"Endemic\",INTRO!$E$39=\"Non-endemic\"),IF(COUNTRY_INFO!C94=0,\" \",COUNTRY_INFO!C94),\" \")","v":" "},{"$f":"IF(COUNTRY_INFO!Z94<>\"\",COUNTRY_INFO!V94,0)","v":0},{"$f":"IF(AND(COUNTRY_INFO!Z94<>\"\",COUNTRY_INFO!$H94=1),COUNTRY_INFO!F94+COUNTRY_INFO!G94,0)","v":0},0,null,0]
[{"$f":"IF(AND(INTRO!$E$37=\"Endemic\",INTRO!$E$39=\"Non-endemic\"),IF(COUNTRY_INFO!A95=0,\" \",COUNTRY_INFO!A95),\" \")","v":" "},{"$f":"IF(AND(INTRO!$E$37=\"Endemic\",INTRO!$E$39=\"Non-endemic\"),IF(COUNTRY_INFO!B95=0,\" \",COUNTRY_INFO!B95),\" \")","v":" "},{"$f":"IF(AND(INTRO!$E$37=\"Endemic\",INTRO!$E$39=\"Non-endemic\"),IF(COUNTRY_INFO!C95=0,\" \",COUNTRY_INFO!C95),\" \")","v":" "},{"$f":"IF(COUNTRY_INFO!Z95<>\"\",COUNTRY_INFO!V95,0)","v":0},{"$f":"IF(AND(COUNTRY_INFO!Z95<>\"\",COUNTRY_INFO!$H95=1),COUNTRY_INFO!F95+COUNTRY_INFO!G95,0)","v":0},0,null,0]
[{"$f":"IF(AND(INTRO!$E$37=\"Endemic\",INTRO!$E$39=\"Non-endemic\"),IF(COUNTRY_INFO!A96=0,\" \",COUNTRY_INFO!A96),\" \")","v":" "},{"$f":"IF(AND(INTRO!$E$37=\"Endemic\",INTRO!$E$39=\"Non-endemic\"),IF(COUNTRY_INFO!B96=0,\" \",COUNTRY_INFO!B96),\" \")","v":" "},{"$f":"IF(AND(INTRO!$E$37=\"Endemic\",INTRO!$E$39=\"Non-endemic\"),IF(COUNTRY_INFO!C96=0,\" \",COUNTRY_INFO!C96),\" \")","v":" "},{"$f":"IF(COUNTRY_INFO!Z96<>\"\",COUNTRY_INFO!V96,0)","v":0},{"$f":"IF(AND(COUNTRY_INFO!Z96<>\"\",COUNTRY_INFO!$H96=1),COUNTRY_INFO!F96+COUNTRY_INFO!G96,0)","v":0},0,null,0]
[{"$f":"IF(AND(INTRO!$E$37=\"Endemic\",INTRO!$E$39=\"Non-endemic\"),IF(COUNTRY_INFO!A97=0,\" \",COUNTRY_INFO!A97),\" \")","v":" "},{"$f":"IF(AND(INTRO!$E$37=\"Endemic\",INTRO!$E$39=\"Non-endemic\"),IF(COUNTRY_INFO!B97=0,\" \",COUNTRY_INFO!B97),\" \")","v":" "},{"$f":"IF(AND(INTRO!$E$37=\"Endemic\",INTRO!$E$39=\"Non-endemic\"),IF(COUNTRY_INFO!C97=0,\" \",COUNTRY_INFO!C97),\" \")","v":" "},{"$f":"IF(COUNTRY_INFO!Z97<>\"\",COUNTRY_INFO!V97,0)","v":0},{"$f":"IF(AND(COUNTRY_INFO!Z97<>\"\",COUNTRY_INFO!$H97=1),COUNTRY_INFO!F97+COUNTRY_INFO!G97,0)","v":0},0,null,0]
[{"$f":"IF(AND(INTRO!$E$37=\"Endemic\",INTRO!$E$39=\"Non-endemic\"),IF(COUNTRY_INFO!A98=0,\" \",COUNTRY_INFO!A98),\" \")","v":" "},{"$f":"IF(AND(INTRO!$E$37=\"Endemic\",INTRO!$E$39=\"Non-endemic\"),IF(COUNTRY_INFO!B98=0,\" \",COUNTRY_INFO!B98),\" \")","v":" "},{"$f":"IF(AND(INTRO!$E$37=\"Endemic\",INTRO!$E$39=\"Non-endemic\"),IF(COUNTRY_INFO!C98=0,\" \",COUNTRY_INFO!C98),\" \")","v":" "},{"$f":"IF(COUNTRY_INFO!Z98<>\"\",COUNTRY_INFO!V98,0)","v":0},{"$f":"IF(AND(COUNTRY_INFO!Z98<>\"\",COUNTRY_INFO!$H98=1),COUNTRY_INFO!F98+COUNTRY_INFO!G98,0)","v":0},0,null,0]
[{"$f":"IF(AND(INTRO!$E$37=\"Endemic\",INTRO!$E$39=\"Non-endemic\"),IF(COUNTRY_INFO!A99=0,\" \",COUNTRY_INFO!A99),\" \")","v":" "},{"$f":"IF(AND(INTRO!$E$37=\"Endemic\",INTRO!$E$39=\"Non-endemic\"),IF(COUNTRY_INFO!B99=0,\" \",COUNTRY_INFO!B99),\" \")","v":" "},{"$f":"IF(AND(INTRO!$E$37=\"Endemic\",INTRO!$E$39=\"Non-endemic\"),IF(COUNTRY_INFO!C99=0,\" \",COUNTRY_INFO!C99),\" \")","v":" "},{"$f":"IF(COUNTRY_INFO!Z99<>\"\",COUNTRY_INFO!V99,0)","v":0},{"$f":"IF(AND(COUNTRY_INFO!Z99<>\"\",COUNTRY_INFO!$H99=1),COUNTRY_INFO!F99+COUNTRY_INFO!G99,0)","v":0},0,null,0]
[{"$f":"IF(AND(INTRO!$E$37=\"Endemic\",INTRO!$E$39=\"Non-endemic\"),IF(COUNTRY_INFO!A100=0,\" \",COUNTRY_INFO!A100),\" \")","v":" "},{"$f":"IF(AND(INTRO!$E$37=\"Endemic\",INTRO!$E$39=\"Non-endemic\"),IF(COUNTRY_INFO!B100=0,\" \",COUNTRY_INFO!B100),\" \")","v":" "},{"$f":"IF(AND(INTRO!$E$37=\"Endemic\",INTRO!$E$39=\"Non-endemic\"),IF(COUNTRY_INFO!C100=0,\" \",COUNTRY_INFO!C100),\" \")","v":" "},{"$f":"IF(COUNTRY_INFO!Z100<>\"\",COUNTRY_INFO!V100,0)","v":0},{"$f":"IF(AND(COUNTRY_INFO!Z100<>\"\",COUNTRY_INFO!$H100=1),COUNTRY_INFO!F100+COUNTRY_INFO!G100,0)","v":0},0,null,0]
[{"$f":"IF(AND(INTRO!$E$37=\"Endemic\",INTRO!$E$39=\"Non-endemic\"),IF(COUNTRY_INFO!A101=0,\" \",COUNTRY_INFO!A101),\" \")","v":" "},{"$f":"IF(AND(INTRO!$E$37=\"Endemic\",INTRO!$E$39=\"Non-endemic\"),IF(COUNTRY_INFO!B101=0,\" \",COUNTRY_INFO!B101),\" \")","v":" "},{"$f":"IF(AND(INTRO!$E$37=\"Endemic\",INTRO!$E$39=\"Non-endemic\"),IF(COUNTRY_INFO!C101=0,\" \",COUNTRY_INFO!C101),\" \")","v":" "},{"$f":"IF(COUNTRY_INFO!Z101<>\"\",COUNTRY_INFO!V101,0)","v":0},{"$f":"IF(AND(COUNTRY_INFO!Z101<>\"\",COUNTRY_INFO!$H101=1),COUNTRY_INFO!F101+COUNTRY_INFO!G101,0)","v":0},0,null,0]
[{"$f":"IF(AND(INTRO!$E$37=\"Endemic\",INTRO!$E$39=\"Non-endemic\"),IF(COUNTRY_INFO!A102=0,\" \",COUNTRY_INFO!A102),\" \")","v":" "},{"$f":"IF(AND(INTRO!$E$37=\"Endemic\",INTRO!$E$39=\"Non-endemic\"),IF(COUNTRY_INFO!B102=0,\" \",COUNTRY_INFO!B102),\" \")","v":" "},{"$f":"IF(AND(INTRO!$E$37=\"Endemic\",INTRO!$E$39=\"Non-endemic\"),IF(COUNTRY_INFO!C102=0,\" \",COUNTRY_INFO!C102),\" \")","v":" "},{"$f":"IF(COUNTRY_INFO!Z102<>\"\",COUNTRY_INFO!V102,0)","v":0},{"$f":"IF(AND(COUNTRY_INFO!Z102<>\"\",COUNTRY_INFO!$H102=1),COUNTRY_INFO!F102+COUNTRY_INFO!G102,0)","v":0},0,null,0]
[{"$f":"IF(AND(INTRO!$E$37=\"Endemic\",INTRO!$E$39=\"Non-endemic\"),IF(COUNTRY_INFO!A103=0,\" \",COUNTRY_INFO!A103),\" \")","v":" "},{"$f":"IF(AND(INTRO!$E$37=\"Endemic\",INTRO!$E$39=\"Non-endemic\"),IF(COUNTRY_INFO!B103=0,\" \",COUNTRY_INFO!B103),\" \")","v":" "},{"$f":"IF(AND(INTRO!$E$37=\"Endemic\",INTRO!$E$39=\"Non-endemic\"),IF(COUNTRY_INFO!C103=0,\" \",COUNTRY_INFO!C103),\" \")","v":" "},{"$f":"IF(COUNTRY_INFO!Z103<>\"\",COUNTRY_INFO!V103,0)","v":0},{"$f":"IF(AND(COUNTRY_INFO!Z103<>\"\",COUNTRY_INFO!$H103=1),COUNTRY_INFO!F103+COUNTRY_INFO!G103,0)","v":0},0,null,0]
[{"$f":"IF(AND(INTRO!$E$37=\"Endemic\",INTRO!$E$39=\"Non-endemic\"),IF(COUNTRY_INFO!A104=0,\" \",COUNTRY_INFO!A104),\" \")","v":" "},{"$f":"IF(AND(INTRO!$E$37=\"Endemic\",INTRO!$E$39=\"Non-endemic\"),IF(COUNTRY_INFO!B104=0,\" \",COUNTRY_INFO!B104),\" \")","v":" "},{"$f":"IF(AND(INTRO!$E$37=\"Endemic\",INTRO!$E$39=\"Non-endemic\"),IF(COUNTRY_INFO!C104=0,\" \",COUNTRY_INFO!C104),\" \")","v":" "},{"$f":"IF(COUNTRY_INFO!Z104<>\"\",COUNTRY_INFO!V104,0)","v":0},{"$f":"IF(AND(COUNTRY_INFO!Z104<>\"\",COUNTRY_INFO!$H104=1),COUNTRY_INFO!F104+COUNTRY_INFO!G104,0)","v":0},0,null,0]
[{"$f":"IF(AND(INTRO!$E$37=\"Endemic\",INTRO!$E$39=\"Non-endemic\"),IF(COUNTRY_INFO!A105=0,\" \",COUNTRY_INFO!A105),\" \")","v":" "},{"$f":"IF(AND(INTRO!$E$37=\"Endemic\",INTRO!$E$39=\"Non-endemic\"),IF(COUNTRY_INFO!B105=0,\" \",COUNTRY_INFO!B105),\" \")","v":" "},{"$f":"IF(AND(INTRO!$E$37=\"Endemic\",INTRO!$E$39=\"Non-endemic\"),IF(COUNTRY_INFO!C105=0,\" \",COUNTRY_INFO!C105),\" \")","v":" "},{"$f":"IF(COUNTRY_INFO!Z105<>\"\",COUNTRY_INFO!V105,0)","v":0},{"$f":"IF(AND(COUNTRY_INFO!Z105<>\"\",COUNTRY_INFO!$H105=1),COUNTRY_INFO!F105+COUNTRY_INFO!G105,0)","v":0},0,null,0]
[{"$f":"IF(AND(INTRO!$E$37=\"Endemic\",INTRO!$E$39=\"Non-endemic\"),IF(COUNTRY_INFO!A106=0,\" \",COUNTRY_INFO!A106),\" \")","v":" "},{"$f":"IF(AND(INTRO!$E$37=\"Endemic\",INTRO!$E$39=\"Non-endemic\"),IF(COUNTRY_INFO!B106=0,\" \",COUNTRY_INFO!B106),\" \")","v":" "},{"$f":"IF(AND(INTRO!$E$37=\"Endemic\",INTRO!$E$39=\"Non-endemic\"),IF(COUNTRY_INFO!C106=0,\" \",COUNTRY_INFO!C106),\" \")","v":" "},{"$f":"IF(COUNTRY_INFO!Z106<>\"\",COUNTRY_INFO!V106,0)","v":0},{"$f":"IF(AND(COUNTRY_INFO!Z106<>\"\",COUNTRY_INFO!$H106=1),COUNTRY_INFO!F106+COUNTRY_INFO!G106,0)","v":0},0,null,0]
[{"$f":"IF(AND(INTRO!$E$37=\"Endemic\",INTRO!$E$39=\"Non-endemic\"),IF(COUNTRY_INFO!A107=0,\" \",COUNTRY_INFO!A107),\" \")","v":" "},{"$f":"IF(AND(INTRO!$E$37=\"Endemic\",INTRO!$E$39=\"Non-endemic\"),IF(COUNTRY_INFO!B107=0,\" \",COUNTRY_INFO!B107),\" \")","v":" "},{"$f":"IF(AND(INTRO!$E$37=\"Endemic\",INTRO!$E$39=\"Non-endemic\"),IF(COUNTRY_INFO!C107=0,\" \",COUNTRY_INFO!C107),\" \")","v":" "},{"$f":"IF(COUNTRY_INFO!Z107<>\"\",COUNTRY_INFO!V107,0)","v":0},{"$f":"IF(AND(COUNTRY_INFO!Z107<>\"\",COUNTRY_INFO!$H107=1),COUNTRY_INFO!F107+COUNTRY_INFO!G107,0)","v":0},0,null,0]
[{"$f":"IF(AND(INTRO!$E$37=\"Endemic\",INTRO!$E$39=\"Non-endemic\"),IF(COUNTRY_INFO!A108=0,\" \",COUNTRY_INFO!A108),\" \")","v":" "},{"$f":"IF(AND(INTRO!$E$37=\"Endemic\",INTRO!$E$39=\"Non-endemic\"),IF(COUNTRY_INFO!B108=0,\" \",COUNTRY_INFO!B108),\" \")","v":" "},{"$f":"IF(AND(INTRO!$E$37=\"Endemic\",INTRO!$E$39=\"Non-endemic\"),IF(COUNTRY_INFO!C108=0,\" \",COUNTRY_INFO!C108),\" \")","v":" "},{"$f":"IF(COUNTRY_INFO!Z108<>\"\",COUNTRY_INFO!V108,0)","v":0},{"$f":"IF(AND(COUNTRY_INFO!Z108<>\"\",COUNTRY_INFO!$H108=1),COUNTRY_INFO!F108+COUNTRY_INFO!G108,0)","v":0},0,null,0]
[{"$f":"IF(AND(INTRO!$E$37=\"Endemic\",INTRO!$E$39=\"Non-endemic\"),IF(COUNTRY_INFO!A109=0,\" \",COUNTRY_INFO!A109),\" \")","v":" "},{"$f":"IF(AND(INTRO!$E$37=\"Endemic\",INTRO!$E$39=\"Non-endemic\"),IF(COUNTRY_INFO!B109=0,\" \",COUNTRY_INFO!B109),\" \")","v":" "},{"$f":"IF(AND(INTRO!$E$37=\"Endemic\",INTRO!$E$39=\"Non-endemic\"),IF(COUNTRY_INFO!C109=0,\" \",COUNTRY_INFO!C109),\" \")","v":" "},{"$f":"IF(COUNTRY_INFO!Z109<>\"\",COUNTRY_INFO!V109,0)","v":0},{"$f":"IF(AND(COUNTRY_INFO!Z109<>\"\",COUNTRY_INFO!$H109=1),COUNTRY_INFO!F109+COUNTRY_INFO!G109,0)","v":0},0,null,0]
[{"$f":"IF(AND(INTRO!$E$37=\"Endemic\",INTRO!$E$39=\"Non-endemic\"),IF(COUNTRY_INFO!A110=0,\" \",COUNTRY_INFO!A110),\" \")","v":" "},{"$f":"IF(AND(INTRO!$E$37=\"Endemic\",INTRO!$E$39=\"Non-endemic\"),IF(COUNTRY_INFO!B110=0,\" \",COUNTRY_INFO!B110),\" \")","v":" "},{"$f":"IF(AND(INTRO!$E$37=\"Endemic\",INTRO!$E$39=\"Non-endemic\"),IF(COUNTRY_INFO!C110=0,\" \",COUNTRY_INFO!C110),\" \")","v":" "},{"$f":"IF(COUNTRY_INFO!Z110<>\"\",COUNTRY_INFO!V110,0)","v":0},{"$f":"IF(AND(COUNTRY_INFO!Z110<>\"\",COUNTRY_INFO!$H110=1),COUNTRY_INFO!F110+COUNTRY_INFO!G110,0)","v":0},0,null,0]
[{"$f":"IF(AND(INTRO!$E$37=\"Endemic\",INTRO!$E$39=\"Non-endemic\"),IF(COUNTRY_INFO!A111=0,\" \",COUNTRY_INFO!A111),\" \")","v":" "},{"$f":"IF(AND(INTRO!$E$37=\"Endemic\",INTRO!$E$39=\"Non-endemic\"),IF(COUNTRY_INFO!B111=0,\" \",COUNTRY_INFO!B111),\" \")","v":" "},{"$f":"IF(AND(INTRO!$E$37=\"Endemic\",INTRO!$E$39=\"Non-endemic\"),IF(COUNTRY_INFO!C111=0,\" \",COUNTRY_INFO!C111),\" \")","v":" "},{"$f":"IF(COUNTRY_INFO!Z111<>\"\",COUNTRY_INFO!V111,0)","v":0},{"$f":"IF(AND(COUNTRY_INFO!Z111<>\"\",COUNTRY_INFO!$H111=1),COUNTRY_INFO!F111+COUNTRY_INFO!G111,0)","v":0},0,null,0]
[{"$f":"IF(AND(INTRO!$E$37=\"Endemic\",INTRO!$E$39=\"Non-endemic\"),IF(COUNTRY_INFO!A112=0,\" \",COUNTRY_INFO!A112),\" \")","v":" "},{"$f":"IF(AND(INTRO!$E$37=\"Endemic\",INTRO!$E$39=\"Non-endemic\"),IF(COUNTRY_INFO!B112=0,\" \",COUNTRY_INFO!B112),\" \")","v":" "},{"$f":"IF(AND(INTRO!$E$37=\"Endemic\",INTRO!$E$39=\"Non-endemic\"),IF(COUNTRY_INFO!C112=0,\" \",COUNTRY_INFO!C112),\" \")","v":" "},{"$f":"IF(COUNTRY_INFO!Z112<>\"\",COUNTRY_INFO!V112,0)","v":0},{"$f":"IF(AND(COUNTRY_INFO!Z112<>\"\",COUNTRY_INFO!$H112=1),COUNTRY_INFO!F112+COUNTRY_INFO!G112,0)","v":0},0,null,0]
[{"$f":"IF(AND(INTRO!$E$37=\"Endemic\",INTRO!$E$39=\"Non-endemic\"),IF(COUNTRY_INFO!A113=0,\" \",COUNTRY_INFO!A113),\" \")","v":" "},{"$f":"IF(AND(INTRO!$E$37=\"Endemic\",INTRO!$E$39=\"Non-endemic\"),IF(COUNTRY_INFO!B113=0,\" \",COUNTRY_INFO!B113),\" \")","v":" "},{"$f":"IF(AND(INTRO!$E$37=\"Endemic\",INTRO!$E$39=\"Non-endemic\"),IF(COUNTRY_INFO!C113=0,\" \",COUNTRY_INFO!C113),\" \")","v":" "},{"$f":"IF(COUNTRY_INFO!Z113<>\"\",COUNTRY_INFO!V113,0)","v":0},{"$f":"IF(AND(COUNTRY_INFO!Z113<>\"\",COUNTRY_INFO!$H113=1),COUNTRY_INFO!F113+COUNTRY_INFO!G113,0)","v":0},0,null,0]
[{"$f":"IF(AND(INTRO!$E$37=\"Endemic\",INTRO!$E$39=\"Non-endemic\"),IF(COUNTRY_INFO!A114=0,\" \",COUNTRY_INFO!A114),\" \")","v":" "},{"$f":"IF(AND(INTRO!$E$37=\"Endemic\",INTRO!$E$39=\"Non-endemic\"),IF(COUNTRY_INFO!B114=0,\" \",COUNTRY_INFO!B114),\" \")","v":" "},{"$f":"IF(AND(INTRO!$E$37=\"Endemic\",INTRO!$E$39=\"Non-endemic\"),IF(COUNTRY_INFO!C114=0,\" \",COUNTRY_INFO!C114),\" \")","v":" "},{"$f":"IF(COUNTRY_INFO!Z114<>\"\",COUNTRY_INFO!V114,0)","v":0},{"$f":"IF(AND(COUNTRY_INFO!Z114<>\"\",COUNTRY_INFO!$H114=1),COUNTRY_INFO!F114+COUNTRY_INFO!G114,0)","v":0},0,null,0]
[{"$f":"IF(AND(INTRO!$E$37=\"Endemic\",INTRO!$E$39=\"Non-endemic\"),IF(COUNTRY_INFO!A115=0,\" \",COUNTRY_INFO!A115),\" \")","v":" "},{"$f":"IF(AND(INTRO!$E$37=\"Endemic\",INTRO!$E$39=\"Non-endemic\"),IF(COUNTRY_INFO!B115=0,\" \",COUNTRY_INFO!B115),\" \")","v":" "},{"$f":"IF(AND(INTRO!$E$37=\"Endemic\",INTRO!$E$39=\"Non-endemic\"),IF(COUNTRY_INFO!C115=0,\" \",COUNTRY_INFO!C115),\" \")","v":" "},{"$f":"IF(COUNTRY_INFO!Z115<>\"\",COUNTRY_INFO!V115,0)","v":0},{"$f":"IF(AND(COUNTRY_INFO!Z115<>\"\",COUNTRY_INFO!$H115=1),COUNTRY_INFO!F115+COUNTRY_INFO!G115,0)","v":0},0,null,0]
[{"$f":"IF(AND(INTRO!$E$37=\"Endemic\",INTRO!$E$39=\"Non-endemic\"),IF(COUNTRY_INFO!A116=0,\" \",COUNTRY_INFO!A116),\" \")","v":" "},{"$f":"IF(AND(INTRO!$E$37=\"Endemic\",INTRO!$E$39=\"Non-endemic\"),IF(COUNTRY_INFO!B116=0,\" \",COUNTRY_INFO!B116),\" \")","v":" "},{"$f":"IF(AND(INTRO!$E$37=\"Endemic\",INTRO!$E$39=\"Non-endemic\"),IF(COUNTRY_INFO!C116=0,\" \",COUNTRY_INFO!C116),\" \")","v":" "},{"$f":"IF(COUNTRY_INFO!Z116<>\"\",COUNTRY_INFO!V116,0)","v":0},{"$f":"IF(AND(COUNTRY_INFO!Z116<>\"\",COUNTRY_INFO!$H116=1),COUNTRY_INFO!F116+COUNTRY_INFO!G116,0)","v":0},0,null,0]
[{"$f":"IF(AND(INTRO!$E$37=\"Endemic\",INTRO!$E$39=\"Non-endemic\"),IF(COUNTRY_INFO!A117=0,\" \",COUNTRY_INFO!A117),\" \")","v":" "},{"$f":"IF(AND(INTRO!$E$37=\"Endemic\",INTRO!$E$39=\"Non-endemic\"),IF(COUNTRY_INFO!B117=0,\" \",COUNTRY_INFO!B117),\" \")","v":" "},{"$f":"IF(AND(INTRO!$E$37=\"Endemic\",INTRO!$E$39=\"Non-endemic\"),IF(COUNTRY_INFO!C117=0,\" \",COUNTRY_INFO!C117),\" \")","v":" "},{"$f":"IF(COUNTRY_INFO!Z117<>\"\",COUNTRY_INFO!V117,0)","v":0},{"$f":"IF(AND(COUNTRY_INFO!Z117<>\"\",COUNTRY_INFO!$H117=1),COUNTRY_INFO!F117+COUNTRY_INFO!G117,0)","v":0},0,null,0]
[{"$f":"IF(AND(INTRO!$E$37=\"Endemic\",INTRO!$E$39=\"Non-endemic\"),IF(COUNTRY_INFO!A118=0,\" \",COUNTRY_INFO!A118),\" \")","v":" "},{"$f":"IF(AND(INTRO!$E$37=\"Endemic\",INTRO!$E$39=\"Non-endemic\"),IF(COUNTRY_INFO!B118=0,\" \",COUNTRY_INFO!B118),\" \")","v":" "},{"$f":"IF(AND(INTRO!$E$37=\"Endemic\",INTRO!$E$39=\"Non-endemic\"),IF(COUNTRY_INFO!C118=0,\" \",COUNTRY_INFO!C118),\" \")","v":" "},{"$f":"IF(COUNTRY_INFO!Z118<>\"\",COUNTRY_INFO!V118,0)","v":0},{"$f":"IF(AND(COUNTRY_INFO!Z118<>\"\",COUNTRY_INFO!$H118=1),COUNTRY_INFO!F118+COUNTRY_INFO!G118,0)","v":0},0,null,0]
[{"$f":"IF(AND(INTRO!$E$37=\"Endemic\",INTRO!$E$39=\"Non-endemic\"),IF(COUNTRY_INFO!A119=0,\" \",COUNTRY_INFO!A119),\" \")","v":" "},{"$f":"IF(AND(INTRO!$E$37=\"Endemic\",INTRO!$E$39=\"Non-endemic\"),IF(COUNTRY_INFO!B119=0,\" \",COUNTRY_INFO!B119),\" \")","v":" "},{"$f":"IF(AND(INTRO!$E$37=\"Endemic\",INTRO!$E$39=\"Non-endemic\"),IF(COUNTRY_INFO!C119=0,\" \",COUNTRY_INFO!C119),\" \")","v":" "},{"$f":"IF(COUNTRY_INFO!Z119<>\"\",COUNTRY_INFO!V119,0)","v":0},{"$f":"IF(AND(COUNTRY_INFO!Z119<>\"\",COUNTRY_INFO!$H119=1),COUNTRY_INFO!F119+COUNTRY_INFO!G119,0)","v":0},0,null,0]
[{"$f":"IF(AND(INTRO!$E$37=\"Endemic\",INTRO!$E$39=\"Non-endemic\"),IF(COUNTRY_INFO!A120=0,\" \",COUNTRY_INFO!A120),\" \")","v":" "},{"$f":"IF(AND(INTRO!$E$37=\"Endemic\",INTRO!$E$39=\"Non-endemic\"),IF(COUNTRY_INFO!B120=0,\" \",COUNTRY_INFO!B120),\" \")","v":" "},{"$f":"IF(AND(INTRO!$E$37=\"Endemic\",INTRO!$E$39=\"Non-endemic\"),IF(COUNTRY_INFO!C120=0,\" \",COUNTRY_INFO!C120),\" \")","v":" "},{"$f":"IF(COUNTRY_INFO!Z120<>\"\",COUNTRY_INFO!V120,0)","v":0},{"$f":"IF(AND(COUNTRY_INFO!Z120<>\"\",COUNTRY_INFO!$H120=1),COUNTRY_INFO!F120+COUNTRY_INFO!G120,0)","v":0},0,null,0]
[{"$f":"IF(AND(INTRO!$E$37=\"Endemic\",INTRO!$E$39=\"Non-endemic\"),IF(COUNTRY_INFO!A121=0,\" \",COUNTRY_INFO!A121),\" \")","v":" "},{"$f":"IF(AND(INTRO!$E$37=\"Endemic\",INTRO!$E$39=\"Non-endemic\"),IF(COUNTRY_INFO!B121=0,\" \",COUNTRY_INFO!B121),\" \")","v":" "},{"$f":"IF(AND(INTRO!$E$37=\"Endemic\",INTRO!$E$39=\"Non-endemic\"),IF(COUNTRY_INFO!C121=0,\" \",COUNTRY_INFO!C121),\" \")","v":" "},{"$f":"IF(COUNTRY_INFO!Z121<>\"\",COUNTRY_INFO!V121,0)","v":0},{"$f":"IF(AND(COUNTRY_INFO!Z121<>\"\",COUNTRY_INFO!$H121=1),COUNTRY_INFO!F121+COUNTRY_INFO!G121,0)","v":0},0,null,0]
[{"$f":"IF(AND(INTRO!$E$37=\"Endemic\",INTRO!$E$39=\"Non-endemic\"),IF(COUNTRY_INFO!A122=0,\" \",COUNTRY_INFO!A122),\" \")","v":" "},{"$f":"IF(AND(INTRO!$E$37=\"Endemic\",INTRO!$E$39=\"Non-endemic\"),IF(COUNTRY_INFO!B122=0,\" \",COUNTRY_INFO!B122),\" \")","v":" "},{"$f":"IF(AND(INTRO!$E$37=\"Endemic\",INTRO!$E$39=\"Non-endemic\"),IF(COUNTRY_INFO!C122=0,\" \",COUNTRY_INFO!C122),\" \")","v":" "},{"$f":"IF(COUNTRY_INFO!Z122<>\"\",COUNTRY_INFO!V122,0)","v":0},{"$f":"IF(AND(COUNTRY_INFO!Z122<>\"\",COUNTRY_INFO!$H122=1),COUNTRY_INFO!F122+COUNTRY_INFO!G122,0)","v":0},0,null,0]
[{"$f":"IF(AND(INTRO!$E$37=\"Endemic\",INTRO!$E$39=\"Non-endemic\"),IF(COUNTRY_INFO!A123=0,\" \",COUNTRY_INFO!A123),\" \")","v":" "},{"$f":"IF(AND(INTRO!$E$37=\"Endemic\",INTRO!$E$39=\"Non-endemic\"),IF(COUNTRY_INFO!B123=0,\" \",COUNTRY_INFO!B123),\" \")","v":" "},{"$f":"IF(AND(INTRO!$E$37=\"Endemic\",INTRO!$E$39=\"Non-endemic\"),IF(COUNTRY_INFO!C123=0,\" \",COUNTRY_INFO!C123),\" \")","v":" "},{"$f":"IF(COUNTRY_INFO!Z123<>\"\",COUNTRY_INFO!V123,0)","v":0},{"$f":"IF(AND(COUNTRY_INFO!Z123<>\"\",COUNTRY_INFO!$H123=1),COUNTRY_INFO!F123+COUNTRY_INFO!G123,0)","v":0},0,null,0]
[{"$f":"IF(AND(INTRO!$E$37=\"Endemic\",INTRO!$E$39=\"Non-endemic\"),IF(COUNTRY_INFO!A124=0,\" \",COUNTRY_INFO!A124),\" \")","v":" "},{"$f":"IF(AND(INTRO!$E$37=\"Endemic\",INTRO!$E$39=\"Non-endemic\"),IF(COUNTRY_INFO!B124=0,\" \",COUNTRY_INFO!B124),\" \")","v":" "},{"$f":"IF(AND(INTRO!$E$37=\"Endemic\",INTRO!$E$39=\"Non-endemic\"),IF(COUNTRY_INFO!C124=0,\" \",COUNTRY_INFO!C124),\" \")","v":" "},{"$f":"IF(COUNTRY_INFO!Z124<>\"\",COUNTRY_INFO!V124,0)","v":0},{"$f":"IF(AND(COUNTRY_INFO!Z124<>\"\",COUNTRY_INFO!$H124=1),COUNTRY_INFO!F124+COUNTRY_INFO!G124,0)","v":0},0,null,0]
[{"$f":"IF(AND(INTRO!$E$37=\"Endemic\",INTRO!$E$39=\"Non-endemic\"),IF(COUNTRY_INFO!A125=0,\" \",COUNTRY_INFO!A125),\" \")","v":" "},{"$f":"IF(AND(INTRO!$E$37=\"Endemic\",INTRO!$E$39=\"Non-endemic\"),IF(COUNTRY_INFO!B125=0,\" \",COUNTRY_INFO!B125),\" \")","v":" "},{"$f":"IF(AND(INTRO!$E$37=\"Endemic\",INTRO!$E$39=\"Non-endemic\"),IF(COUNTRY_INFO!C125=0,\" \",COUNTRY_INFO!C125),\" \")","v":" "},{"$f":"IF(COUNTRY_INFO!Z125<>\"\",COUNTRY_INFO!V125,0)","v":0},{"$f":"IF(AND(COUNTRY_INFO!Z125<>\"\",COUNTRY_INFO!$H125=1),COUNTRY_INFO!F125+COUNTRY_INFO!G125,0)","v":0},0,null,0]
[{"$f":"IF(AND(INTRO!$E$37=\"Endemic\",INTRO!$E$39=\"Non-endemic\"),IF(COUNTRY_INFO!A126=0,\" \",COUNTRY_INFO!A126),\" \")","v":" "},{"$f":"IF(AND(INTRO!$E$37=\"Endemic\",INTRO!$E$39=\"Non-endemic\"),IF(COUNTRY_INFO!B126=0,\" \",COUNTRY_INFO!B126),\" \")","v":" "},{"$f":"IF(AND(INTRO!$E$37=\"Endemic\",INTRO!$E$39=\"Non-endemic\"),IF(COUNTRY_INFO!C126=0,\" \",COUNTRY_INFO!C126),\" \")","v":" "},{"$f":"IF(COUNTRY_INFO!Z126<>\"\",COUNTRY_INFO!V126,0)","v":0},{"$f":"IF(AND(COUNTRY_INFO!Z126<>\"\",COUNTRY_INFO!$H126=1),COUNTRY_INFO!F126+COUNTRY_INFO!G126,0)","v":0},0,null,0]
[{"$f":"IF(AND(INTRO!$E$37=\"Endemic\",INTRO!$E$39=\"Non-endemic\"),IF(COUNTRY_INFO!A127=0,\" \",COUNTRY_INFO!A127),\" \")","v":" "},{"$f":"IF(AND(INTRO!$E$37=\"Endemic\",INTRO!$E$39=\"Non-endemic\"),IF(COUNTRY_INFO!B127=0,\" \",COUNTRY_INFO!B127),\" \")","v":" "},{"$f":"IF(AND(INTRO!$E$37=\"Endemic\",INTRO!$E$39=\"Non-endemic\"),IF(COUNTRY_INFO!C127=0,\" \",COUNTRY_INFO!C127),\" \")","v":" "},{"$f":"IF(COUNTRY_INFO!Z127<>\"\",COUNTRY_INFO!V127,0)","v":0},{"$f":"IF(AND(COUNTRY_INFO!Z127<>\"\",COUNTRY_INFO!$H127=1),COUNTRY_INFO!F127+COUNTRY_INFO!G127,0)","v":0},0,null,0]
[{"$f":"IF(AND(INTRO!$E$37=\"Endemic\",INTRO!$E$39=\"Non-endemic\"),IF(COUNTRY_INFO!A128=0,\" \",COUNTRY_INFO!A128),\" \")","v":" "},{"$f":"IF(AND(INTRO!$E$37=\"Endemic\",INTRO!$E$39=\"Non-endemic\"),IF(COUNTRY_INFO!B128=0,\" \",COUNTRY_INFO!B128),\" \")","v":" "},{"$f":"IF(AND(INTRO!$E$37=\"Endemic\",INTRO!$E$39=\"Non-endemic\"),IF(COUNTRY_INFO!C128=0,\" \",COUNTRY_INFO!C128),\" \")","v":" "},{"$f":"IF(COUNTRY_INFO!Z128<>\"\",COUNTRY_INFO!V128,0)","v":0},{"$f":"IF(AND(COUNTRY_INFO!Z128<>\"\",COUNTRY_INFO!$H128=1),COUNTRY_INFO!F128+COUNTRY_INFO!G128,0)","v":0},0,null,0]
[{"$f":"IF(AND(INTRO!$E$37=\"Endemic\",INTRO!$E$39=\"Non-endemic\"),IF(COUNTRY_INFO!A129=0,\" \",COUNTRY_INFO!A129),\" \")","v":" "},{"$f":"IF(AND(INTRO!$E$37=\"Endemic\",INTRO!$E$39=\"Non-endemic\"),IF(COUNTRY_INFO!B129=0,\" \",COUNTRY_INFO!B129),\" \")","v":" "},{"$f":"IF(AND(INTRO!$E$37=\"Endemic\",INTRO!$E$39=\"Non-endemic\"),IF(COUNTRY_INFO!C129=0,\" \",COUNTRY_INFO!C129),\" \")","v":" "},{"$f":"IF(COUNTRY_INFO!Z129<>\"\",COUNTRY_INFO!V129,0)","v":0},{"$f":"IF(AND(COUNTRY_INFO!Z129<>\"\",COUNTRY_INFO!$H129=1),COUNTRY_INFO!F129+COUNTRY_INFO!G129,0)","v":0},0,null,0]
[{"$f":"IF(AND(INTRO!$E$37=\"Endemic\",INTRO!$E$39=\"Non-endemic\"),IF(COUNTRY_INFO!A130=0,\" \",COUNTRY_INFO!A130),\" \")","v":" "},{"$f":"IF(AND(INTRO!$E$37=\"Endemic\",INTRO!$E$39=\"Non-endemic\"),IF(COUNTRY_INFO!B130=0,\" \",COUNTRY_INFO!B130),\" \")","v":" "},{"$f":"IF(AND(INTRO!$E$37=\"Endemic\",INTRO!$E$39=\"Non-endemic\"),IF(COUNTRY_INFO!C130=0,\" \",COUNTRY_INFO!C130),\" \")","v":" "},{"$f":"IF(COUNTRY_INFO!Z130<>\"\",COUNTRY_INFO!V130,0)","v":0},{"$f":"IF(AND(COUNTRY_INFO!Z130<>\"\",COUNTRY_INFO!$H130=1),COUNTRY_INFO!F130+COUNTRY_INFO!G130,0)","v":0},0,null,0]
[{"$f":"IF(AND(INTRO!$E$37=\"Endemic\",INTRO!$E$39=\"Non-endemic\"),IF(COUNTRY_INFO!A131=0,\" \",COUNTRY_INFO!A131),\" \")","v":" "},{"$f":"IF(AND(INTRO!$E$37=\"Endemic\",INTRO!$E$39=\"Non-endemic\"),IF(COUNTRY_INFO!B131=0,\" \",COUNTRY_INFO!B131),\" \")","v":" "},{"$f":"IF(AND(INTRO!$E$37=\"Endemic\",INTRO!$E$39=\"Non-endemic\"),IF(COUNTRY_INFO!C131=0,\" \",COUNTRY_INFO!C131),\" \")","v":" "},{"$f":"IF(COUNTRY_INFO!Z131<>\"\",COUNTRY_INFO!V131,0)","v":0},{"$f":"IF(AND(COUNTRY_INFO!Z131<>\"\",COUNTRY_INFO!$H131=1),COUNTRY_INFO!F131+COUNTRY_INFO!G131,0)","v":0},0,null,0]
[{"$f":"IF(AND(INTRO!$E$37=\"Endemic\",INTRO!$E$39=\"Non-endemic\"),IF(COUNTRY_INFO!A132=0,\" \",COUNTRY_INFO!A132),\" \")","v":" "},{"$f":"IF(AND(INTRO!$E$37=\"Endemic\",INTRO!$E$39=\"Non-endemic\"),IF(COUNTRY_INFO!B132=0,\" \",COUNTRY_INFO!B132),\" \")","v":" "},{"$f":"IF(AND(INTRO!$E$37=\"Endemic\",INTRO!$E$39=\"Non-endemic\"),IF(COUNTRY_INFO!C132=0,\" \",COUNTRY_INFO!C132),\" \")","v":" "},{"$f":"IF(COUNTRY_INFO!Z132<>\"\",COUNTRY_INFO!V132,0)","v":0},{"$f":"IF(AND(COUNTRY_INFO!Z132<>\"\",COUNTRY_INFO!$H132=1),COUNTRY_INFO!F132+COUNTRY_INFO!G132,0)","v":0},0,null,0]
[{"$f":"IF(AND(INTRO!$E$37=\"Endemic\",INTRO!$E$39=\"Non-endemic\"),IF(COUNTRY_INFO!A133=0,\" \",COUNTRY_INFO!A133),\" \")","v":" "},{"$f":"IF(AND(INTRO!$E$37=\"Endemic\",INTRO!$E$39=\"Non-endemic\"),IF(COUNTRY_INFO!B133=0,\" \",COUNTRY_INFO!B133),\" \")","v":" "},{"$f":"IF(AND(INTRO!$E$37=\"Endemic\",INTRO!$E$39=\"Non-endemic\"),IF(COUNTRY_INFO!C133=0,\" \",COUNTRY_INFO!C133),\" \")","v":" "},{"$f":"IF(COUNTRY_INFO!Z133<>\"\",COUNTRY_INFO!V133,0)","v":0},{"$f":"IF(AND(COUNTRY_INFO!Z133<>\"\",COUNTRY_INFO!$H133=1),COUNTRY_INFO!F133+COUNTRY_INFO!G133,0)","v":0},0,null,0]
[{"$f":"IF(AND(INTRO!$E$37=\"Endemic\",INTRO!$E$39=\"Non-endemic\"),IF(COUNTRY_INFO!A134=0,\" \",COUNTRY_INFO!A134),\" \")","v":" "},{"$f":"IF(AND(INTRO!$E$37=\"Endemic\",INTRO!$E$39=\"Non-endemic\"),IF(COUNTRY_INFO!B134=0,\" \",COUNTRY_INFO!B134),\" \")","v":" "},{"$f":"IF(AND(INTRO!$E$37=\"Endemic\",INTRO!$E$39=\"Non-endemic\"),IF(COUNTRY_INFO!C134=0,\" \",COUNTRY_INFO!C134),\" \")","v":" "},{"$f":"IF(COUNTRY_INFO!Z134<>\"\",COUNTRY_INFO!V134,0)","v":0},{"$f":"IF(AND(COUNTRY_INFO!Z134<>\"\",COUNTRY_INFO!$H134=1),COUNTRY_INFO!F134+COUNTRY_INFO!G134,0)","v":0},0,null,0]
[{"$f":"IF(AND(INTRO!$E$37=\"Endemic\",INTRO!$E$39=\"Non-endemic\"),IF(COUNTRY_INFO!A135=0,\" \",COUNTRY_INFO!A135),\" \")","v":" "},{"$f":"IF(AND(INTRO!$E$37=\"Endemic\",INTRO!$E$39=\"Non-endemic\"),IF(COUNTRY_INFO!B135=0,\" \",COUNTRY_INFO!B135),\" \")","v":" "},{"$f":"IF(AND(INTRO!$E$37=\"Endemic\",INTRO!$E$39=\"Non-endemic\"),IF(COUNTRY_INFO!C135=0,\" \",COUNTRY_INFO!C135),\" \")","v":" "},{"$f":"IF(COUNTRY_INFO!Z135<>\"\",COUNTRY_INFO!V135,0)","v":0},{"$f":"IF(AND(COUNTRY_INFO!Z135<>\"\",COUNTRY_INFO!$H135=1),COUNTRY_INFO!F135+COUNTRY_INFO!G135,0)","v":0},0,null,0]
[{"$f":"IF(AND(INTRO!$E$37=\"Endemic\",INTRO!$E$39=\"Non-endemic\"),IF(COUNTRY_INFO!A136=0,\" \",COUNTRY_INFO!A136),\" \")","v":" "},{"$f":"IF(AND(INTRO!$E$37=\"Endemic\",INTRO!$E$39=\"Non-endemic\"),IF(COUNTRY_INFO!B136=0,\" \",COUNTRY_INFO!B136),\" \")","v":" "},{"$f":"IF(AND(INTRO!$E$37=\"Endemic\",INTRO!$E$39=\"Non-endemic\"),IF(COUNTRY_INFO!C136=0,\" \",COUNTRY_INFO!C136),\" \")","v":" "},{"$f":"IF(COUNTRY_INFO!Z136<>\"\",COUNTRY_INFO!V136,0)","v":0},{"$f":"IF(AND(COUNTRY_INFO!Z136<>\"\",COUNTRY_INFO!$H136=1),COUNTRY_INFO!F136+COUNTRY_INFO!G136,0)","v":0},0,null,0]
[{"$f":"IF(AND(INTRO!$E$37=\"Endemic\",INTRO!$E$39=\"Non-endemic\"),IF(COUNTRY_INFO!A137=0,\" \",COUNTRY_INFO!A137),\" \")","v":" "},{"$f":"IF(AND(INTRO!$E$37=\"Endemic\",INTRO!$E$39=\"Non-endemic\"),IF(COUNTRY_INFO!B137=0,\" \",COUNTRY_INFO!B137),\" \")","v":" "},{"$f":"IF(AND(INTRO!$E$37=\"Endemic\",INTRO!$E$39=\"Non-endemic\"),IF(COUNTRY_INFO!C137=0,\" \",COUNTRY_INFO!C137),\" \")","v":" "},{"$f":"IF(COUNTRY_INFO!Z137<>\"\",COUNTRY_INFO!V137,0)","v":0},{"$f":"IF(AND(COUNTRY_INFO!Z137<>\"\",COUNTRY_INFO!$H137=1),COUNTRY_INFO!F137+COUNTRY_INFO!G137,0)","v":0},0,null,0]
[{"$f":"IF(AND(INTRO!$E$37=\"Endemic\",INTRO!$E$39=\"Non-endemic\"),IF(COUNTRY_INFO!A138=0,\" \",COUNTRY_INFO!A138),\" \")","v":" "},{"$f":"IF(AND(INTRO!$E$37=\"Endemic\",INTRO!$E$39=\"Non-endemic\"),IF(COUNTRY_INFO!B138=0,\" \",COUNTRY_INFO!B138),\" \")","v":" "},{"$f":"IF(AND(INTRO!$E$37=\"Endemic\",INTRO!$E$39=\"Non-endemic\"),IF(COUNTRY_INFO!C138=0,\" \",COUNTRY_INFO!C138),\" \")","v":" "},{"$f":"IF(COUNTRY_INFO!Z138<>\"\",COUNTRY_INFO!V138,0)","v":0},{"$f":"IF(AND(COUNTRY_INFO!Z138<>\"\",COUNTRY_INFO!$H138=1),COUNTRY_INFO!F138+COUNTRY_INFO!G138,0)","v":0},0,null,0]
[{"$f":"IF(AND(INTRO!$E$37=\"Endemic\",INTRO!$E$39=\"Non-endemic\"),IF(COUNTRY_INFO!A139=0,\" \",COUNTRY_INFO!A139),\" \")","v":" "},{"$f":"IF(AND(INTRO!$E$37=\"Endemic\",INTRO!$E$39=\"Non-endemic\"),IF(COUNTRY_INFO!B139=0,\" \",COUNTRY_INFO!B139),\" \")","v":" "},{"$f":"IF(AND(INTRO!$E$37=\"Endemic\",INTRO!$E$39=\"Non-endemic\"),IF(COUNTRY_INFO!C139=0,\" \",COUNTRY_INFO!C139),\" \")","v":" "},{"$f":"IF(COUNTRY_INFO!Z139<>\"\",COUNTRY_INFO!V139,0)","v":0},{"$f":"IF(AND(COUNTRY_INFO!Z139<>\"\",COUNTRY_INFO!$H139=1),COUNTRY_INFO!F139+COUNTRY_INFO!G139,0)","v":0},{"$f":"E139*2.8","v":0},null,0]
[{"$f":"IF(AND(INTRO!$E$37=\"Endemic\",INTRO!$E$39=\"Non-endemic\"),IF(COUNTRY_INFO!A140=0,\" \",COUNTRY_INFO!A140),\" \")","v":" "},{"$f":"IF(AND(INTRO!$E$37=\"Endemic\",INTRO!$E$39=\"Non-endemic\"),IF(COUNTRY_INFO!B140=0,\" \",COUNTRY_INFO!B140),\" \")","v":" "},{"$f":"IF(AND(INTRO!$E$37=\"Endemic\",INTRO!$E$39=\"Non-endemic\"),IF(COUNTRY_INFO!C140=0,\" \",COUNTRY_INFO!C140),\" \")","v":" "},{"$f":"IF(COUNTRY_INFO!Z140<>\"\",COUNTRY_INFO!V140,0)","v":0},{"$f":"IF(AND(COUNTRY_INFO!Z140<>\"\",COUNTRY_INFO!$H140=1),COUNTRY_INFO!F140+COUNTRY_INFO!G140,0)","v":0},0,null,0]
[{"$f":"IF(AND(INTRO!$E$37=\"Endemic\",INTRO!$E$39=\"Non-endemic\"),IF(COUNTRY_INFO!A141=0,\" \",COUNTRY_INFO!A141),\" \")","v":" "},{"$f":"IF(AND(INTRO!$E$37=\"Endemic\",INTRO!$E$39=\"Non-endemic\"),IF(COUNTRY_INFO!B141=0,\" \",COUNTRY_INFO!B141),\" \")","v":" "},{"$f":"IF(AND(INTRO!$E$37=\"Endemic\",INTRO!$E$39=\"Non-endemic\"),IF(COUNTRY_INFO!C141=0,\" \",COUNTRY_INFO!C141),\" \")","v":" "},{"$f":"IF(COUNTRY_INFO!Z141<>\"\",COUNTRY_INFO!V141,0)","v":0},{"$f":"IF(AND(COUNTRY_INFO!Z141<>\"\",COUNTRY_INFO!$H141=1),COUNTRY_INFO!F141+COUNTRY_INFO!G141,0)","v":0},0,null,0]
[{"$f":"IF(AND(INTRO!$E$37=\"Endemic\",INTRO!$E$39=\"Non-endemic\"),IF(COUNTRY_INFO!A142=0,\" \",COUNTRY_INFO!A142),\" \")","v":" "},{"$f":"IF(AND(INTRO!$E$37=\"Endemic\",INTRO!$E$39=\"Non-endemic\"),IF(COUNTRY_INFO!B142=0,\" \",COUNTRY_INFO!B142),\" \")","v":" "},{"$f":"IF(AND(INTRO!$E$37=\"Endemic\",INTRO!$E$39=\"Non-endemic\"),IF(COUNTRY_INFO!C142=0,\" \",COUNTRY_INFO!C142),\" \")","v":" "},{"$f":"IF(COUNTRY_INFO!Z142<>\"\",COUNTRY_INFO!V142,0)","v":0},{"$f":"IF(AND(COUNTRY_INFO!Z142<>\"\",COUNTRY_INFO!$H142=1),COUNTRY_INFO!F142+COUNTRY_INFO!G142,0)","v":0},0,null,0]
[{"$f":"IF(AND(INTRO!$E$37=\"Endemic\",INTRO!$E$39=\"Non-endemic\"),IF(COUNTRY_INFO!A143=0,\" \",COUNTRY_INFO!A143),\" \")","v":" "},{"$f":"IF(AND(INTRO!$E$37=\"Endemic\",INTRO!$E$39=\"Non-endemic\"),IF(COUNTRY_INFO!B143=0,\" \",COUNTRY_INFO!B143),\" \")","v":" "},{"$f":"IF(AND(INTRO!$E$37=\"Endemic\",INTRO!$E$39=\"Non-endemic\"),IF(COUNTRY_INFO!C143=0,\" \",COUNTRY_INFO!C143),\" \")","v":" "},{"$f":"IF(COUNTRY_INFO!Z143<>\"\",COUNTRY_INFO!V143,0)","v":0},{"$f":"IF(AND(COUNTRY_INFO!Z143<>\"\",COUNTRY_INFO!$H143=1),COUNTRY_INFO!F143+COUNTRY_INFO!G143,0)","v":0},0,null,0]
[{"$f":"IF(AND(INTRO!$E$37=\"Endemic\",INTRO!$E$39=\"Non-endemic\"),IF(COUNTRY_INFO!A144=0,\" \",COUNTRY_INFO!A144),\" \")","v":" "},{"$f":"IF(AND(INTRO!$E$37=\"Endemic\",INTRO!$E$39=\"Non-endemic\"),IF(COUNTRY_INFO!B144=0,\" \",COUNTRY_INFO!B144),\" \")","v":" "},{"$f":"IF(AND(INTRO!$E$37=\"Endemic\",INTRO!$E$39=\"Non-endemic\"),IF(COUNTRY_INFO!C144=0,\" \",COUNTRY_INFO!C144),\" \")","v":" "},{"$f":"IF(COUNTRY_INFO!Z144<>\"\",COUNTRY_INFO!V144,0)","v":0},{"$f":"IF(AND(COUNTRY_INFO!Z144<>\"\",COUNTRY_INFO!$H144=1),COUNTRY_INFO!F144+COUNTRY_INFO!G144,0)","v":0},0,null,0]
[{"$f":"IF(AND(INTRO!$E$37=\"Endemic\",INTRO!$E$39=\"Non-endemic\"),IF(COUNTRY_INFO!A145=0,\" \",COUNTRY_INFO!A145),\" \")","v":" "},{"$f":"IF(AND(INTRO!$E$37=\"Endemic\",INTRO!$E$39=\"Non-endemic\"),IF(COUNTRY_INFO!B145=0,\" \",COUNTRY_INFO!B145),\" \")","v":" "},{"$f":"IF(AND(INTRO!$E$37=\"Endemic\",INTRO!$E$39=\"Non-endemic\"),IF(COUNTRY_INFO!C145=0,\" \",COUNTRY_INFO!C145),\" \")","v":" "},{"$f":"IF(COUNTRY_INFO!Z145<>\"\",COUNTRY_INFO!V145,0)","v":0},{"$f":"IF(AND(COUNTRY_INFO!Z145<>\"\",COUNTRY_INFO!$H145=1),COUNTRY_INFO!F145+COUNTRY_INFO!G145,0)","v":0},0,null,0]
[{"$f":"IF(AND(INTRO!$E$37=\"Endemic\",INTRO!$E$39=\"Non-endemic\"),IF(COUNTRY_INFO!A146=0,\" \",COUNTRY_INFO!A146),\" \")","v":" "},{"$f":"IF(AND(INTRO!$E$37=\"Endemic\",INTRO!$E$39=\"Non-endemic\"),IF(COUNTRY_INFO!B146=0,\" \",COUNTRY_INFO!B146),\" \")","v":" "},{"$f":"IF(AND(INTRO!$E$37=\"Endemic\",INTRO!$E$39=\"Non-endemic\"),IF(COUNTRY_INFO!C146=0,\" \",COUNTRY_INFO!C146),\" \")","v":" "},{"$f":"IF(COUNTRY_INFO!Z146<>\"\",COUNTRY_INFO!V146,0)","v":0},{"$f":"IF(AND(COUNTRY_INFO!Z146<>\"\",COUNTRY_INFO!$H146=1),COUNTRY_INFO!F146+COUNTRY_INFO!G146,0)","v":0},0,null,0]
[{"$f":"IF(AND(INTRO!$E$37=\"Endemic\",INTRO!$E$39=\"Non-endemic\"),IF(COUNTRY_INFO!A147=0,\" \",COUNTRY_INFO!A147),\" \")","v":" "},{"$f":"IF(AND(INTRO!$E$37=\"Endemic\",INTRO!$E$39=\"Non-endemic\"),IF(COUNTRY_INFO!B147=0,\" \",COUNTRY_INFO!B147),\" \")","v":" "},{"$f":"IF(AND(INTRO!$E$37=\"Endemic\",INTRO!$E$39=\"Non-endemic\"),IF(COUNTRY_INFO!C147=0,\" \",COUNTRY_INFO!C147),\" \")","v":" "},{"$f":"IF(COUNTRY_INFO!Z147<>\"\",COUNTRY_INFO!V147,0)","v":0},{"$f":"IF(AND(COUNTRY_INFO!Z147<>\"\",COUNTRY_INFO!$H147=1),COUNTRY_INFO!F147+COUNTRY_INFO!G147,0)","v":0},0,null,0]
[{"$f":"IF(AND(INTRO!$E$37=\"Endemic\",INTRO!$E$39=\"Non-endemic\"),IF(COUNTRY_INFO!A148=0,\" \",COUNTRY_INFO!A148),\" \")","v":" "},{"$f":"IF(AND(INTRO!$E$37=\"Endemic\",INTRO!$E$39=\"Non-endemic\"),IF(COUNTRY_INFO!B148=0,\" \",COUNTRY_INFO!B148),\" \")","v":" "},{"$f":"IF(AND(INTRO!$E$37=\"Endemic\",INTRO!$E$39=\"Non-endemic\"),IF(COUNTRY_INFO!C148=0,\" \",COUNTRY_INFO!C148),\" \")","v":" "},{"$f":"IF(COUNTRY_INFO!Z148<>\"\",COUNTRY_INFO!V148,0)","v":0},{"$f":"IF(AND(COUNTRY_INFO!Z148<>\"\",COUNTRY_INFO!$H148=1),COUNTRY_INFO!F148+COUNTRY_INFO!G148,0)","v":0},0,null,0]
[{"$f":"IF(AND(INTRO!$E$37=\"Endemic\",INTRO!$E$39=\"Non-endemic\"),IF(COUNTRY_INFO!A149=0,\" \",COUNTRY_INFO!A149),\" \")","v":" "},{"$f":"IF(AND(INTRO!$E$37=\"Endemic\",INTRO!$E$39=\"Non-endemic\"),IF(COUNTRY_INFO!B149=0,\" \",COUNTRY_INFO!B149),\" \")","v":" "},{"$f":"IF(AND(INTRO!$E$37=\"Endemic\",INTRO!$E$39=\"Non-endemic\"),IF(COUNTRY_INFO!C149=0,\" \",COUNTRY_INFO!C149),\" \")","v":" "},{"$f":"IF(COUNTRY_INFO!Z149<>\"\",COUNTRY_INFO!V149,0)","v":0},{"$f":"IF(AND(COUNTRY_INFO!Z149<>\"\",COUNTRY_INFO!$H149=1),COUNTRY_INFO!F149+COUNTRY_INFO!G149,0)","v":0},0,null,0]
[{"$f":"IF(AND(INTRO!$E$37=\"Endemic\",INTRO!$E$39=\"Non-endemic\"),IF(COUNTRY_INFO!A150=0,\" \",COUNTRY_INFO!A150),\" \")","v":" "},{"$f":"IF(AND(INTRO!$E$37=\"Endemic\",INTRO!$E$39=\"Non-endemic\"),IF(COUNTRY_INFO!B150=0,\" \",COUNTRY_INFO!B150),\" \")","v":" "},{"$f":"IF(AND(INTRO!$E$37=\"Endemic\",INTRO!$E$39=\"Non-endemic\"),IF(COUNTRY_INFO!C150=0,\" \",COUNTRY_INFO!C150),\" \")","v":" "},{"$f":"IF(COUNTRY_INFO!Z150<>\"\",COUNTRY_INFO!V150,0)","v":0},{"$f":"IF(AND(COUNTRY_INFO!Z150<>\"\",COUNTRY_INFO!$H150=1),COUNTRY_INFO!F150+COUNTRY_INFO!G150,0)","v":0},0,null,0]
[{"$f":"IF(AND(INTRO!$E$37=\"Endemic\",INTRO!$E$39=\"Non-endemic\"),IF(COUNTRY_INFO!A151=0,\" \",COUNTRY_INFO!A151),\" \")","v":" "},{"$f":"IF(AND(INTRO!$E$37=\"Endemic\",INTRO!$E$39=\"Non-endemic\"),IF(COUNTRY_INFO!B151=0,\" \",COUNTRY_INFO!B151),\" \")","v":" "},{"$f":"IF(AND(INTRO!$E$37=\"Endemic\",INTRO!$E$39=\"Non-endemic\"),IF(COUNTRY_INFO!C151=0,\" \",COUNTRY_INFO!C151),\" \")","v":" "},{"$f":"IF(COUNTRY_INFO!Z151<>\"\",COUNTRY_INFO!V151,0)","v":0},{"$f":"IF(AND(COUNTRY_INFO!Z151<>\"\",COUNTRY_INFO!$H151=1),COUNTRY_INFO!F151+COUNTRY_INFO!G151,0)","v":0},0,null,0]
[{"$f":"IF(AND(INTRO!$E$37=\"Endemic\",INTRO!$E$39=\"Non-endemic\"),IF(COUNTRY_INFO!A152=0,\" \",COUNTRY_INFO!A152),\" \")","v":" "},{"$f":"IF(AND(INTRO!$E$37=\"Endemic\",INTRO!$E$39=\"Non-endemic\"),IF(COUNTRY_INFO!B152=0,\" \",COUNTRY_INFO!B152),\" \")","v":" "},{"$f":"IF(AND(INTRO!$E$37=\"Endemic\",INTRO!$E$39=\"Non-endemic\"),IF(COUNTRY_INFO!C152=0,\" \",COUNTRY_INFO!C152),\" \")","v":" "},{"$f":"IF(COUNTRY_INFO!Z152<>\"\",COUNTRY_INFO!V152,0)","v":0},{"$f":"IF(AND(COUNTRY_INFO!Z152<>\"\",COUNTRY_INFO!$H152=1),COUNTRY_INFO!F152+COUNTRY_INFO!G152,0)","v":0},0,null,0]
[{"$f":"IF(AND(INTRO!$E$37=\"Endemic\",INTRO!$E$39=\"Non-endemic\"),IF(COUNTRY_INFO!A153=0,\" \",COUNTRY_INFO!A153),\" \")","v":" "},{"$f":"IF(AND(INTRO!$E$37=\"Endemic\",INTRO!$E$39=\"Non-endemic\"),IF(COUNTRY_INFO!B153=0,\" \",COUNTRY_INFO!B153),\" \")","v":" "},{"$f":"IF(AND(INTRO!$E$37=\"Endemic\",INTRO!$E$39=\"Non-endemic\"),IF(COUNTRY_INFO!C153=0,\" \",COUNTRY_INFO!C153),\" \")","v":" "},{"$f":"IF(COUNTRY_INFO!Z153<>\"\",COUNTRY_INFO!V153,0)","v":0},{"$f":"IF(AND(COUNTRY_INFO!Z153<>\"\",COUNTRY_INFO!$H153=1),COUNTRY_INFO!F153+COUNTRY_INFO!G153,0)","v":0},0,null,0]
[{"$f":"IF(AND(INTRO!$E$37=\"Endemic\",INTRO!$E$39=\"Non-endemic\"),IF(COUNTRY_INFO!A154=0,\" \",COUNTRY_INFO!A154),\" \")","v":" "},{"$f":"IF(AND(INTRO!$E$37=\"Endemic\",INTRO!$E$39=\"Non-endemic\"),IF(COUNTRY_INFO!B154=0,\" \",COUNTRY_INFO!B154),\" \")","v":" "},{"$f":"IF(AND(INTRO!$E$37=\"Endemic\",INTRO!$E$39=\"Non-endemic\"),IF(COUNTRY_INFO!C154=0,\" \",COUNTRY_INFO!C154),\" \")","v":" "},{"$f":"IF(COUNTRY_INFO!Z154<>\"\",COUNTRY_INFO!V154,0)","v":0},{"$f":"IF(AND(COUNTRY_INFO!Z154<>\"\",COUNTRY_INFO!$H154=1),COUNTRY_INFO!F154+COUNTRY_INFO!G154,0)","v":0},0,null,0]
[{"$f":"IF(AND(INTRO!$E$37=\"Endemic\",INTRO!$E$39=\"Non-endemic\"),IF(COUNTRY_INFO!A155=0,\" \",COUNTRY_INFO!A155),\" \")","v":" "},{"$f":"IF(AND(INTRO!$E$37=\"Endemic\",INTRO!$E$39=\"Non-endemic\"),IF(COUNTRY_INFO!B155=0,\" \",COUNTRY_INFO!B155),\" \")","v":" "},{"$f":"IF(AND(INTRO!$E$37=\"Endemic\",INTRO!$E$39=\"Non-endemic\"),IF(COUNTRY_INFO!C155=0,\" \",COUNTRY_INFO!C155),\" \")","v":" "},{"$f":"IF(COUNTRY_INFO!Z155<>\"\",COUNTRY_INFO!V155,0)","v":0},{"$f":"IF(AND(COUNTRY_INFO!Z155<>\"\",COUNTRY_INFO!$H155=1),COUNTRY_INFO!F155+COUNTRY_INFO!G155,0)","v":0},0,null,0]

{"sheet":"SUMMARY","index":7,"n_rows":93,"n_cols":8,"rows_kept":93,"cut":false,"hidden":false,"merged":[[82,2,82,6],[63,4,63,6],[75,2,75,3],[97,1,97,7],[75,4,75,5],[70,4,70,5],[71,4,71,5],[70,2,70,3],[71,2,71,3],[92,1,92,7],[76,4,76,5],[87,1,87,7],[91,1,91,7],[86,1,86,7],[84,1,84,2],[84,3,84,7],[83,1,83,2],[0,1,0,7],[1,1,1,7],[2,1,2,5],[3,1,3,7],[4,1,4,7],[6,1,6,7],[5,2,5,5],[65,1,65,7],[54,1,54,7],[53,1,53,7],[36,1,36,7],[41,2,41,3],[41,4,41,5],[41,6,41,7],[55,1,55,7],[9,1,10,1],[9,3,9,6],[9,2,10,2],[17,1,19,1],[21,1,23,1],[25,1,27,1],[9,7,10,7],[32,2,35,4],[81,2,81,7],[83,3,83,7],[59,4,59,6],[50,1,50,7],[56,1,56,7],[51,1,51,7],[52,1,52,7],[80,1,80,7],[58,1,58,7],[78,1,78,7],[79,1,79,7],[66,1,66,7],[76,2,76,3],[74,2,74,3],[74,4,74,5],[73,2,73,3],[73,4,73,5],[60,4,60,6],[61,4,61,6],[62,4,62,6],[72,2,72,3],[72,4,72,5]]}
[]
[null,"Joint request for selected PC medicines v.4.2"]
[]
[null,"This form constitutes an official government request to WHO for the supply of the PC medicines. To ensure the medicines are delivered on time, the request for PC medicines should be submitted at least 9 months before the first date of MDA planned in the calendar year of the request. "]
[]
[null,"Country",{"$f":"IF(INTRO!$E$33<>0,INTRO!$E$33,\" \")","v":"Uganda"},null,null,null,"Year",{"$f":"IF(INTRO!$E$35<>0,INTRO!$E$35,\" \")","v":2024}]
[]
[null,"Information on PC medicines requested to WHO"]
[]
[null,"PC medicine","Target group","Number of tablets",null,null,null,"Specify \nsource"]
[null,null,null,"Required","In stock","In pipeline","Requested"]
[null,"Diethylcarbamazine citrate","ALL",0,0,null,{"$f":"IF(D12>(E12+F12),D12-E12-F12, 0)","v":0}]
[null,null,null,null,null,null,0]
[null,"Ivermectin","ALL",8379985.5999999996,0,null,8379985.5999999996]
[]
[null,"Albendazole for LF","ALL",0,0,null,0]
[null,null,null,null,null,null,0]
[null,"Albendazole for STH","PreSAC",null,null,null,0]
[null,null,"SAC",null,null,null,0]
[null,null,"WRA",null,null,null,0]
[]
[null,"Mebendazole","PreSAC",6196216,null,null,6196216]
[null,null,"SAC",13177862,null,null,13177862]
[null,null,"WRA",10777921,null,null,10777921]
[]
[null,"Praziquantel","PreSAC",0,null,null,0]
[null,null,"SAC",10705660,null,null,10705660]
[null,null,"Adults",20266443,null,null,{"$f":"IF(D28>(E28+F28),D28-E28-F28, 0)","v":20266443}]
[]
[null,"Number of people to be treated with donated medicine ( see User Guide for details )"]
[]
[null,"Disease",null,null,null,"Round 1","Round 2","Round 3"]
[null,"Lymphatic filariasis","These figures are estimated only \nfor targeted age groups to be treated \nwith donated medicines in areas \nwhere treatment for \na specific disease is planned",null,null,0]
[null,"Onchocerciasis",null,null,null,1496426,1496426]
[null,"Schistosomiasis",null,null,null,12108311,0]
[null,"Soil-transmitted helminthiases",null,null,null,30151999,0,0]
[]
[]
[]
[null,"Information on planned PC interventions"]
[]
[null,"PC medicine","Planned date of the \n1st round of PC",null,"Planned date of the \n2nd round of PC",null,"Date by which the medicine should arrive to the national warehouse"]
[null,"Diethylcarbamazine citrate"]
[null,"Ivermectin","April",2024,"October",2024,"March",2024]
[null,"Albendazole for LF"]
[null,"Albendazole for STH"]
[null,"Mebendazole","April",2024,"October",2024,"March",2024]
[null,"Praziquantel","April",2024,"October",2024,"March",2024]
[]
[null,"Checklist"]
[null,"Submission"]
[null,"What should be submitted?"]
[null,"The supply of the requested medicines should be based on up-to-date epidemiological data, specific usage plans, and capacity for implementation. The following checklist ensures that all necessary forms and information are provided to WHO (in electronic format). "]
[null,"Joint request for selected PC medicines"]
[null,"Joint reporting form"]
[null,"PC epidemiological data reporting form"]
[]
[null,"Availability of funding for implementation in the year for which the medicines are requested"]
[]
[null,"Diseases \ntargeted for implementation","Total treatments","Funding secured for","Source",null,null,"Amount"]
[null,{"$f":"B33","v":"Lymphatic filariasis"},{"$f":"SUM(F33:H33)","v":0}]
[null,{"$f":"B34","v":"Onchocerciasis"},{"$f":"SUM(F34:H34)","v":2992852},"all","The Carter Center"]
[null,{"$f":"B35","v":"Schistosomiasis"},{"$f":"SUM(F35:H35)","v":12108311},"None","No Partner"]
[null,{"$f":"B36","v":"Soil-transmitted helminthiases"},{"$f":"SUM(F36:H36)","v":30151999},0.6," Rely on Child Health Days"]
[]
[null,"Who should fill in the form? "]
[null,"National NTD coordinator should compile all required information needed to complete the request form. In the absence of such a coordinator, specific programme managers should coordinate their respective part. The final single request must be approved by the Ministry of Health."]
[]
[null,"Information on person(s) who has filled in the form"]
[]
[null,"Title ","Name",null,"Phone",null,"Email","Date"]
[null,"NTD/PC Coordinator","Alfred Mubangizi",null,"+256-772686842",null,"alfmbngz@yahoo.com"]
[null,"SCH Programme Manager","Beinaryo Prudence",null,"+256-0789548930",null,"prudenceb13@gmail.com"]
[null,"ONCHO Programme Manager","David Ogutu",null,"+256-782495847",null,"dogutu@gmail.com"]
[null,"MandE Focal Point","Tinkitina Benjamin",null,"+256-774556823",null,"tinkitina@gmail.com"]
[]
[]
[]
[null,"The WHO recommends that all serious adverse events suspected to be associated with use of PC medicines should be reported in accordance with national Pharmacovigilance guidelines. In the absence of a national Pharmacovigilance system, contact the WHO Neglected Tropical Disease department for guidance."]
[null,"The WHO is committed to facilitate PC medicines donation with a free-of-charge supply of a) albendazole, mebendazole and praziquantel to the MoH’s national warehouse; and b) diethylcarbamazine citrate to the entry port/airport of recipient countries."]
[null,"The institution submitting the present request is responsible for a) arranging the offloading of the medicines from the truck and storing it in the national warehouse and subsequent shipment to the final distribution centres; b) for registering the donated medicine, if required, by the relevant national regulatory authorities; and c) for informing about any changes of their PC campaigns (e.g. postpone of the planned MDA date, replacement of NTD coordinator, etc.)."]
[null,null,"I have read and accept WHO Data Sharing Policy"]
[null,null,"I confirm that all information provided in this form is complete and correct"]
[null,"Name and signature of NTD coordinator \nor Ministry of Health representative",null,"Dr. Alfred Mubangizi"]
[null,"Date:",null,"2023-04-21"]
[]
[null,"Please complete information on shipment and consignee in the worksheet SHIPMENT. Any additional details related to this Request should be provided in the \"Additional information\" box in the worksheet SHIPMENT."]
[null,"Please send the national request (signed and in electronic format) to the concerned WR with copy to:"]
[null,"WHO headquarters","PC_JointForms@who.int"]
[null,"WHO Regional Office","Regional Advisor for NTD"]
[null,"Mectizan donation program","Dr Yao Sodahlon, email: ysodahlon@taskforce.org"]
[]
[null,"Please note that your request will be reviewed by an independent panel before approval. The information in this form, joint reporting form and PC epidemiological data reporting form are essential for WHO to ensure efficient usage of medicines. As part of its ongoing monitoring and evaluation activities, and to meet its contractual obligations to donors and other partners, WHO and its appointed agents reserve the right to periodically inspect stocks of the medicines at country level."]

{"sheet":"SHIPMENT","index":8,"n_rows":48,"n_cols":8,"rows_kept":48,"cut":false,"hidden":false,"merged":[[32,2,32,4],[32,5,32,7],[29,2,29,4],[29,5,29,7],[30,2,30,4],[30,5,30,7],[31,2,31,4],[31,5,31,7],[26,2,26,4],[26,5,26,7],[27,2,27,4],[27,5,27,7],[28,2,28,4],[28,5,28,7],[23,2,23,4],[23,5,23,7],[21,5,21,7],[16,5,16,7],[17,2,17,4],[12,2,12,4],[12,5,12,7],[13,2,13,4],[13,5,13,7],[14,2,14,4],[14,5,14,7],[9,2,9,4],[9,5,9,7],[10,2,10,4],[10,5,10,7],[11,2,11,4],[11,5,11,7],[6,1,6,7],[7,2,7,4],[7,5,7,7],[8,2,8,4],[8,5,8,7],[15,5,15,7],[20,2,20,4],[18,2,18,4],[16,2,16,4],[47,1,56,7],[45,1,45,7],[37,1,37,6],[38,1,38,5],[40,1,40,7],[41,1,41,6],[39,1,39,6],[42,1,42,6],[43,1,43,7],[25,2,25,4],[25,5,25,7],[24,1,24,7],[34,1,34,7],[36,1,36,7],[0,1,0,7],[1,1,1,7],[2,1,2,5],[17,5,17,7],[18,5,18,7],[19,2,19,4],[19,5,19,7],[21,2,21,4],[3,2,3,5],[4,1,4,7],[22,2,22,4],[22,5,22,7],[15,2,15,4],[20,5,20,7]]}
[]
[null,"Joint request for selected PC medicines v.4.2"]
[]
[null,"Country",{"$f":"IF(INTRO!$E$33<>0,INTRO!$E$33,\" \")","v":"Uganda"},null,null,null,"Year",{"$f":"IF(INTRO!$E$35<>0,INTRO!$E$35,\" \")","v":2024}]
[]
[null,"Information on shipment and consignee "]
[]
[null,"IVM, PZQ, MBD","Consignee",null,null,"Delivery point / Final recipient\nif different from the consignee"]
[null,"Name","Dr Charles Katurebe",null,null,"Mr. Mosese Kamabale"]
[null,"Department/Unit","WHO/Uganda Office",null,null,"GM"]
[null,"Organization","World Health Organisation",null,null,"National Medical Stores (NMS)"]
[null,"Phone","+256 313335500",null,null,"+256 414320089"]
[null,"Fax",null,null,null,"+256 414320089"]
[null,"E-mail","katureebec@who.int ",null,null,"nms@nms.go.ug"]
[null,"Mailing address","Prince Charles Drive, Kololo, Kampala, Uganda · ",null,null,"Plot 4-12 Nsamizi Road, P.O,Box 16, Entebbe"]
[]
[null,null,"Consignee",null,null,"Delivery point / Final recipient\nif different from the consignee"]
[null,"Name",null,null,null,"Dr, Alfred Mubangizi"]
[null,"Department/Unit",null,null,null,"Assistant Commissioner VB and NTDs"]
[null,"Organization",null,null,null,"Ministry of Health"]
[null,"Phone",null,null,null,"+256 772686842"]
[null,"Fax",null,null,null,"alfmbngz@yahoo.com"]
[null,"E-mail"]
[null,"Mailing address"]
[]
[null,null,"Consignee",null,null,"Delivery point / Final recipient\nif different from the consignee"]
[null,"Name",null,null,null,"Dr, Diana Atwine"]
[null,"Department/Unit",null,null,null,"Permanent Secretary"]
[null,"Organization",null,null,null,"Ministry of Health"]
[null,"Phone",null,null,null,"+256 414 340872"]
[null,"Fax"]
[null,"E-mail",null,null,null,"ps@health.go.ug"]
[null,"Mailing address"]
[]
[]
[null,"Information on import requirements"]
[]
[null,"Is the Import Permit required?",null,null,null,null,null,"Yes"]
[null,"How long does it take to obtain the Import Permit?",null,null,null,null,1,"Days"]
[null,"Do you require any documents to be submitted together with the Import Permit application?",null,null,null,null,null,"No"]
[]
[null,"Does the consignee have to get customs clearance before the shipment can proceed?",null,null,null,null,null,"Yes"]
[null,"Is there any additional information may be helpful in ensuring timely clearance and delivery of medicines to your country? ",null,null,null,null,null,"No"]
[]
[]
[null,"Additional information"]
[]
[null,"The treatment needs for Onchocerciasis (with IVM) will likely change after the Expert committee meeting that will be held by Aug 2023.\nThe treatment of SCH will depend on availability of resources. Currently the country has no partner funding the MDAs."]

{"sheet":"DATA_POLICY","index":9,"n_rows":39,"n_cols":8,"rows_kept":39,"cut":false,"hidden":true,"merged":[[55,1,55,2],[0,1,0,5],[1,1,1,7],[3,3,3,5],[6,1,6,7],[8,1,12,7],[13,1,16,7],[17,1,21,7],[22,1,25,7],[26,2,36,7],[38,1,45,7]]}
[]
[null,"Joint request for selected PC medicines v.4.2"]
[]
[null,"Country",null,{"$f":"IF(INTRO!$E$33<>0,INTRO!$E$33,\" \")","v":"Uganda"},null,null,"Year",{"$f":"IF(INTRO!$E$35<>0,INTRO!$E$35,\" \")","v":2024}]
[]
[]
[null,"WHO Data Sharing Policy statement"]
[]
[null,"Data are the basis for all sound public health actions and the benefits of data sharing are widely recognized, including scientific and public health benefits. Whenever possible, WHO wishes to promote the sharing of health data, including but not restricted to surveillance and epidemiological data.  "]
[]
[]
[]
[]
[null,{"$f":"\"In this connection, and without prejudice to information sharing and publication pursuant to legally binding instruments, by providing data to WHO, the Ministry of Health of \" & D4 & \":\"","v":"In this connection, and without prejudice to information sharing and publication pursuant to legally binding instruments, by providing data to WHO, the Ministry of Health of Uganda:"}]
[]
[]
[]
[null,"Confirms that all data to be supplied to WHO hereunder have been collected in accordance with applicable national laws, including data protection laws aimed at protecting the confidentiality of identifiable persons;"]
[]
[]
[]
[]
[null,{"$f":"\"Agrees that WHO shall be entitled, subject always to measures to ensure the ethical and secure use of the data, and subject always to an appropriate acknowledgement of \"&D4&\":\"","v":"Agrees that WHO shall be entitled, subject always to measures to ensure the ethical and secure use of the data, and subject always to an appropriate acknowledgement of Uganda:"}]
[]
[]
[]
[null,null,"to publish the data, stripped of any personal identifiers and make the Data available to any interested party on request (to the extent they have not, or not yet, been published by WHO) on terms that allow non-commercial, not-for-profit use of the Data for public health purposes (provided always that publication of the Data shall remain under the control of WHO); \nto use, compile, aggregate, evaluate and analyse the Data and publish and disseminate the results thereof in conjunction with WHO’s work and in accordance with the Organization’s policies and practices."]
[]
[]
[]
[]
[]
[]
[]
[]
[]
[]
[]
[null,{"$f":"CONCATENATE(\"Except where data sharing and publication is required under legally binding instruments (IHR, WHO Nomenclature Regulations 1967, etc.), the Ministry of Health of \", D4,\" may in respect of certain data opt out of (any part of) the above,\" & \" by notifying WHO thereof in writing at the following address, provided that any such notification shall clearly identify the data in question and clearly indicate the scope of the opt-out (in reference to the  above), \" & \"and provided that specific reasons shall be given for the opt out.\")","v":"Except where data sharing and publication is required under legally binding instruments (IHR, WHO Nomenclature Regulations 1967, etc.), the Ministry of Health of Uganda may in respect of certain data opt out of (any part of) the above, by notifying WHO thereof in writing at the following address, provided that any such notification shall clearly identify the data in question and clearly indicate the scope of the opt-out (in reference to the  above), and provided that specific reasons shall be given for the opt out."}]