{"text_format":"1","workbook":"xlsx","n_sheets":10,"sheets":["INTRO","COUNTRY_INFO","DEC","ALB_MBD","PZQ","IVM","IVM+","SUMMARY","SHIPMENT","DATA_POLICY"],"not_rendered":{"charts":0,"images":3,"macros":1,"external_links":2,"defined_names":7,"comments":9,"pivot_tables":0},"unopened":[],"bounds":{"document_bytes":16777216,"sheet_cells":100000,"rows_first":2000,"rows_last":500,"rows_between":2000,"halvings":0,"cell_chars":16384,"cell_head_chars":4096},"cells_cut":0,"cells_raw":0,"read":"whole","date_system":"1900"}

{"sheet":"INTRO","index":0,"n_rows":50,"n_cols":5,"rows_kept":50,"cut":false,"hidden":false,"merged":[[7,2,7,4],[11,1,11,4],[4,1,4,4],[10,2,10,4],[20,2,20,4],[17,1,17,4],[13,1,13,4],[18,2,18,4],[8,2,8,4],[9,2,9,4],[19,1,19,4],[12,1,12,4],[16,1,16,4],[14,1,14,4],[15,1,15,4],[0,1,0,4],[2,1,2,4],[1,1,1,4],[5,1,5,4],[3,1,3,4],[21,1,21,4],[46,1,46,4],[38,1,38,2],[40,1,40,2],[42,1,42,2],[44,1,44,2],[36,1,36,2],[22,2,23,4],[25,2,26,4],[27,1,27,4],[32,1,32,2],[29,1,29,4],[30,1,30,4],[28,2,28,4],[24,1,24,4],[34,1,34,2]]}
[]
[null,"Joint request for selected PC medicines v.3.1"]
[]
[null,"As part of global efforts to accelerate expansion of preventive chemotherapy (PC) for control and elimination of lymphatic filariasis, schistosomiasis and soil-transmitted helminthiases, the World Health Organization (WHO) facilitates the supply of albendazole 400 mg tablets (GSK) to national lymphatic filariasis elimination programmes and national soil-transmitted helminth control programmes; diethylcarbamazine citrate 100 mg tablets (Eisai) to national lymphatic filariasis elimination programmes; mebendazole 500 mg tablets (J&J) for national soil-transmitted helminth control programmes; and praziquantel 600 mg tablets (Merck KGaA)  for school-age children to national schistosomiasis control programmes. WHO also collaborates to supply ivermectin 3 mg tablets (Merck) for onchocerciasis and lymphatic filariasis donation programmes.  \nThis Excel-based tool is designed to assist countries in quantifying the number of tablets of relevant PC medicines required to reach the planned target population and districts for the year of request. Output of the tool is a joint request for PC medicines, which can be printed, signed and submitted to WHO to request these medicines."]
[]
[null,"Structure of the application (worksheets):"]
[]
[null,"INTRO","This worksheet includes guides on how to complete the joint request for selected PC medicines and information about the status of PC for endemic diseases in the country."]
[null,"COUNTRY_INFO","This worksheet includes information about administrative structure of the country, population by age group, status of endemicity for each disease, population requiring PC and planned interventions."]
[null,"DEC, ALB_MBD, PZQ and IVM","These worksheets include information about endemic districts targeted for treatment with specified PC medicines, treatment plan, and number of tablets required and requested. "]
[null,"SUMMARY","This worksheet includes summary of number of tablets requested, information about stock, and date for submission of requested medicines. Before generating the report (run macros) please select the medicine for which the report is needed. Follow the same rule to see the number of people to be treated for the specific disease. \nThis worksheet should be printed and submitted as a joint request for selected PC medicines (see the instruction for submission in the SUMMARY worksheet)."]
[]
[null,"Instruction for data entry"]
[]
[null,"Most of the cells in the above-mentioned worksheets include formula that are calculated automatically according to the treatment policy recommended by WHO for each disease.\nSee the link http://www.who.int/neglected_diseases/preventive_chemotherapy/pct_manual/en/index.html"]
[]
[null,"Please enter your data into the cells according to their colour code:"]
[]
[null,null,"White - cell is not protected. Please enter the value of the requested indicator."]
[]
[null,null,"Yellow - cell is protected and includes name of indicator. No data entry required."]
[]
[null,null,"Orange - cell is not protected and includes a drop-down menu. Please select the value from the drop-down list."]
[]
[]
[null,null,"Green - cell is not protected and includes formula. Please change the value only if your data are different from those that are calculated automatically."]
[]
[]
[null,null,"Blue - cell is protected and includes formula. No data entry required."]
[]
[null,"Country data"]
[]
[null,"COUNTRY",null,null,"Uganda"]
[]
[null,"Year for request of the medicine",null,null,2023]
[]
[null,"Is country endemic for lymphatic filariasis (LF)?",null,null,"Endemic but PC is not required"]
[]
[null,"Is country endemic for onchocerciasis (ONCHO)?",null,null,"Endemic"]
[]
[null,"Is country endemic for soil-transmitted helminthiases (STH)?",null,null,"Endemic"]
[]
[null,"Is country endemic for schistosomiasis (SCH)?",null,null,"Endemic"]
[]
[null,"How many administrative units in the country?",null,null,146]
[]
[null,"If demographical data at the second administrative level are not available by age group, please enter the proportion (%) of population by age group in the country. If data are available, please leave these cells blank."]
[null,"1-4 years age","Preschool-age children (PreSAC)",null,0.14199999999999999]
[null,"5-14 years age","School-age children (SAC)",null,0.30199999999999999]
[null,"15 years +","Adults",null,0.52100000000000002]

{"sheet":"COUNTRY_INFO","index":1,"n_rows":154,"n_cols":58,"rows_kept":154,"cut":false,"hidden":false,"merged":[[3,0,3,2],[3,7,3,10],[3,15,3,18],[5,0,5,2],[3,20,3,23],[5,20,5,23],[7,0,7,18],[5,3,5,6],[5,7,5,10],[5,11,5,14],[5,15,5,18]]}
["COUNTRY INFORMATION"]
["Administrative structure, population by age group, status of endemicity and planned interventions"]
[]
["TOTAL",null,null,{"$f":"SUM(D$9:D$993)","v":45590948},{"$f":"SUM(E$9:E$993)","v":6473921},{"$f":"SUM(F$9:F$993)","v":13768463},{"$f":"SUM(G$9:G$993)","v":23752884},null,null,null,null,{"$f":"SUM(L$9:L$993)","v":0},{"$f":"SUM(M$9:M$993)","v":3941346},{"$f":"SUM(N$9:N$993)","v":20242384},{"$f":"SUM(O$9:O$993)","v":17098654.840000004}]
[]
["Country administrative structure",null,null,"Population",null,null,null,"Endemicity",null,null,null,"Population requiring PC",null,null,null,"Number of treatment rounds planned for the year",null,null,null,"Criteria to apply for \nIVM+DEC+ALB therapy","Epidemiological surveys planned for the year",null,null,null,null,null,null,null,null,null,null,null,"variation (%)","Pop JRF2021",null,null,null,"End JRF2021",null,null,null,null,null,null,null,null,null,null,"Impact assessment"]
["Country","Province/State","District","Total","PreSAC","SAC","Adults","LF","Oncho","STH","SCH","LF","Oncho","STH","SCH","LF","Oncho","STH","SCH","LF","LF","Oncho","STH","SCH","IU_ID","IU_NAME","Parent_ID","Parent_Name",null,null,"x","x","x","x","x","x","x","x","x","x","x","x","x","x","x","x","x","x","x","x","x","x","x","x","x","x","x","x"]
[]
[{"$f":"IF(INTRO!$E$33<>0,INTRO!$E$33, \" \")","v":"Uganda"},"CENTRAL","BUIKWE",570905,{"$f":"IF(INTRO!$E$48=\"\",\"\",ROUND($D9*INTRO!$E$48,0))","v":81069},{"$f":"IF(INTRO!$E$49=\"\",\"\",ROUND($D9*INTRO!$E$49,0))","v":172413},{"$f":"IF(INTRO!$E$50=\"\",\"\",ROUND($D9*INTRO!$E$50,0))","v":297442},0,0,3,3,{"$f":"IF(INTRO!$E$37=\"Endemic\",IF($H9>0,IF($H9=4,\"Unknown\",IF($H9=99,\"Stopped\",$D9)),0),\"Not required\")","v":"Not required"},{"$f":"IF(INTRO!$E$39=\"Endemic\", IF($I9>0, IF($I9=4,\"Unknown\",IF($I9=99,\"Stopped\",$D9)), 0),\"Not required\")","v":0},{"$f":"IF(INTRO!$E$41=\"Endemic\", IF(AND($J9>1,$J9<5), IF($J9=4, \"Unknown\", E9+F9), 0),\"Not required\")","v":253482},{"$f":"IF(INTRO!$E$43=\"Endemic\", IF(AND($K9>0,$K9<5), IF($K9=4,\"Unknown\", IF($K9=1, $F9*0.33, IF($K9=2, $F9*0.5+$G9*0.2, SUM(F9:G9)))), 0),\"Not required\")","v":469855},0,0,2,1,null,null,null,null,null,49725,"BUIKWE",null,null,null,null,0,null,{"$f":"(D9-AH9)/AH9*100","v":6.1514890642053768},{"$f":"_xlfn.XLOOKUP(Y9,[1]COUNTRY_INFO!$Y$9:$Y$143,[1]COUNTRY_INFO!$D$9:$D$143)","v":537821},{"$f":"_xlfn.XLOOKUP(Y9,[1]COUNTRY_INFO!$Y$9:$Y$143,[1]COUNTRY_INFO!$D$9:$D$143)","v":537821},null,null,{"$f":"_xlfn.XLOOKUP($Y9,[1]COUNTRY_INFO!$Y$9:$Y$143,[1]COUNTRY_INFO!H$9:H$143)","v":0},{"$f":"_xlfn.XLOOKUP($Y9,[1]COUNTRY_INFO!$Y$9:$Y$143,[1]COUNTRY_INFO!I$9:I$143)","v":0},{"$f":"_xlfn.XLOOKUP($Y9,[1]COUNTRY_INFO!$Y$9:$Y$143,[1]COUNTRY_INFO!J$9:J$143)","v":3},{"$f":"_xlfn.XLOOKUP($Y9,[1]COUNTRY_INFO!$Y$9:$Y$143,[1]COUNTRY_INFO!K$9:K$143)","v":3},{"$f":"AL9=H9","v":true},{"$f":"AM9=I9","v":true},true,true,null,null,null,{"$f":"_xlfn.XLOOKUP($Y9,[2]Sheet1!$B$4:$B$41,[2]Sheet1!$D$4:$D$41)","v":{"$error":"#N/A"}},{"$f":"K9","v":3}]
[{"$f":"IF(INTRO!$E$33<>0,INTRO!$E$33, \" \")","v":"Uganda"},"CENTRAL","BUKOMANSIMBI",197631,{"$f":"IF(INTRO!$E$48=\"\",\"\",ROUND($D10*INTRO!$E$48,0))","v":28064},{"$f":"IF(INTRO!$E$49=\"\",\"\",ROUND($D10*INTRO!$E$49,0))","v":59685},{"$f":"IF(INTRO!$E$50=\"\",\"\",ROUND($D10*INTRO!$E$50,0))","v":102966},0,0,3,0,{"$f":"IF(INTRO!$E$37=\"Endemic\",IF($H10>0,IF($H10=4,\"Unknown\",IF($H10=99,\"Stopped\",$D10)),0),\"Not required\")","v":"Not required"},{"$f":"IF(INTRO!$E$39=\"Endemic\", IF($I10>0, IF($I10=4,\"Unknown\",IF($I10=99,\"Stopped\",$D10)), 0),\"Not required\")","v":0},{"$f":"IF(INTRO!$E$41=\"Endemic\", IF(AND($J10>1,$J10<5), IF($J10=4, \"Unknown\", E10+F10), 0),\"Not required\")","v":87749},{"$f":"IF(INTRO!$E$43=\"Endemic\", IF(AND($K10>0,$K10<5), IF($K10=4,\"Unknown\", IF($K10=1, $F10*0.33, IF($K10=2, $F10*0.5+$G10*0.2, SUM(F10:G10)))), 0),\"Not required\")","v":0},0,0,2,0,null,null,null,null,null,49726,"BUKOMANSIMBI",null,null,null,null,0,null,{"$f":"(D10-AH10)/AH10*100","v":6.1499293698068014},{"$f":"_xlfn.XLOOKUP(Y10,[1]COUNTRY_INFO!$Y$9:$Y$143,[1]COUNTRY_INFO!$D$9:$D$143)","v":186181},{"$f":"_xlfn.XLOOKUP(Y10,[1]COUNTRY_INFO!$Y$9:$Y$143,[1]COUNTRY_INFO!$D$9:$D$143)","v":186181},null,null,{"$f":"_xlfn.XLOOKUP($Y10,[1]COUNTRY_INFO!$Y$9:$Y$143,[1]COUNTRY_INFO!H$9:H$143)","v":0},{"$f":"_xlfn.XLOOKUP($Y10,[1]COUNTRY_INFO!$Y$9:$Y$143,[1]COUNTRY_INFO!I$9:I$143)","v":0},{"$f":"_xlfn.XLOOKUP($Y10,[1]COUNTRY_INFO!$Y$9:$Y$143,[1]COUNTRY_INFO!J$9:J$143)","v":3},{"$f":"_xlfn.XLOOKUP($Y10,[1]COUNTRY_INFO!$Y$9:$Y$143,[1]COUNTRY_INFO!K$9:K$143)","v":0},{"$f":"AL10=H10","v":true},{"$f":"AM10=I10","v":true},{"$f":"AN10=J10","v":true},{"$f":"AO10=K10","v":true},null,null,null,{"$f":"_xlfn.XLOOKUP($Y10,[2]Sheet1!$B$4:$B$41,[2]Sheet1!$D$4:$D$41)","v":{"$error":"#N/A"}},{"$f":"K10","v":0}]
[{"$f":"IF(INTRO!$E$33<>0,INTRO!$E$33, \" \")","v":"Uganda"},"CENTRAL","BUTAMBALA",131429,{"$f":"IF(INTRO!$E$48=\"\",\"\",ROUND($D11*INTRO!$E$48,0))","v":18663},{"$f":"IF(INTRO!$E$49=\"\",\"\",ROUND($D11*INTRO!$E$49,0))","v":39692},{"$f":"IF(INTRO!$E$50=\"\",\"\",ROUND($D11*INTRO!$E$50,0))","v":68475},0,0,3,0,{"$f":"IF(INTRO!$E$37=\"Endemic\",IF($H11>0,IF($H11=4,\"Unknown\",IF($H11=99,\"Stopped\",$D11)),0),\"Not required\")","v":"Not required"},{"$f":"IF(INTRO!$E$39=\"Endemic\", IF($I11>0, IF($I11=4,\"Unknown\",IF($I11=99,\"Stopped\",$D11)), 0),\"Not required\")","v":0},{"$f":"IF(INTRO!$E$41=\"Endemic\", IF(AND($J11>1,$J11<5), IF($J11=4, \"Unknown\", E11+F11), 0),\"Not required\")","v":58355},{"$f":"IF(INTRO!$E$43=\"Endemic\", IF(AND($K11>0,$K11<5), IF($K11=4,\"Unknown\", IF($K11=1, $F11*0.33, IF($K11=2, $F11*0.5+$G11*0.2, SUM(F11:G11)))), 0),\"Not required\")","v":0},0,0,2,0,null,null,null,null,null,49730,"BUTAMBALA",null,null,null,null,0,null,6.1434963092180706,{"$f":"_xlfn.XLOOKUP(Y11,[1]COUNTRY_INFO!$Y$9:$Y$143,[1]COUNTRY_INFO!$D$9:$D$143)","v":123822},{"$f":"_xlfn.XLOOKUP(Y11,[1]COUNTRY_INFO!$Y$9:$Y$143,[1]COUNTRY_INFO!$D$9:$D$143)","v":123822},null,null,{"$f":"_xlfn.XLOOKUP($Y11,[1]COUNTRY_INFO!$Y$9:$Y$143,[1]COUNTRY_INFO!H$9:H$143)","v":0},{"$f":"_xlfn.XLOOKUP($Y11,[1]COUNTRY_INFO!$Y$9:$Y$143,[1]COUNTRY_INFO!I$9:I$143)","v":0},{"$f":"_xlfn.XLOOKUP($Y11,[1]COUNTRY_INFO!$Y$9:$Y$143,[1]COUNTRY_INFO!J$9:J$143)","v":3},{"$f":"_xlfn.XLOOKUP($Y11,[1]COUNTRY_INFO!$Y$9:$Y$143,[1]COUNTRY_INFO!K$9:K$143)","v":0},true,true,true,true,null,null,null,{"$f":"_xlfn.XLOOKUP($Y11,[2]Sheet1!$B$4:$B$41,[2]Sheet1!$D$4:$D$41)","v":{"$error":"#N/A"}},0]
[{"$f":"IF(INTRO!$E$33<>0,INTRO!$E$33, \" \")","v":"Uganda"},"CENTRAL","BUVUMA",117691,{"$f":"IF(INTRO!$E$48=\"\",\"\",ROUND($D12*INTRO!$E$48,0))","v":16712},{"$f":"IF(INTRO!$E$49=\"\",\"\",ROUND($D12*INTRO!$E$49,0))","v":35543},{"$f":"IF(INTRO!$E$50=\"\",\"\",ROUND($D12*INTRO!$E$50,0))","v":61317},0,0,3,3,{"$f":"IF(INTRO!$E$37=\"Endemic\",IF($H12>0,IF($H12=4,\"Unknown\",IF($H12=99,\"Stopped\",$D12)),0),\"Not required\")","v":"Not required"},{"$f":"IF(INTRO!$E$39=\"Endemic\", IF($I12>0, IF($I12=4,\"Unknown\",IF($I12=99,\"Stopped\",$D12)), 0),\"Not required\")","v":0},{"$f":"IF(INTRO!$E$41=\"Endemic\", IF(AND($J12>1,$J12<5), IF($J12=4, \"Unknown\", E12+F12), 0),\"Not required\")","v":52255},{"$f":"IF(INTRO!$E$43=\"Endemic\", IF(AND($K12>0,$K12<5), IF($K12=4,\"Unknown\", IF($K12=1, $F12*0.33, IF($K12=2, $F12*0.5+$G12*0.2, SUM(F12:G12)))), 0),\"Not required\")","v":96860},0,0,2,1,null,null,null,null,null,49731,"BUVUMA",null,null,null,null,0,null,6.1532078398831054,{"$f":"_xlfn.XLOOKUP(Y12,[1]COUNTRY_INFO!$Y$9:$Y$143,[1]COUNTRY_INFO!$D$9:$D$143)","v":110869},{"$f":"_xlfn.XLOOKUP(Y12,[1]COUNTRY_INFO!$Y$9:$Y$143,[1]COUNTRY_INFO!$D$9:$D$143)","v":110869},null,null,{"$f":"_xlfn.XLOOKUP($Y12,[1]COUNTRY_INFO!$Y$9:$Y$143,[1]COUNTRY_INFO!H$9:H$143)","v":0},{"$f":"_xlfn.XLOOKUP($Y12,[1]COUNTRY_INFO!$Y$9:$Y$143,[1]COUNTRY_INFO!I$9:I$143)","v":0},{"$f":"_xlfn.XLOOKUP($Y12,[1]COUNTRY_INFO!$Y$9:$Y$143,[1]COUNTRY_INFO!J$9:J$143)","v":3},{"$f":"_xlfn.XLOOKUP($Y12,[1]COUNTRY_INFO!$Y$9:$Y$143,[1]COUNTRY_INFO!K$9:K$143)","v":3},true,true,true,true,null,null,null,{"$f":"_xlfn.XLOOKUP($Y12,[2]Sheet1!$B$4:$B$41,[2]Sheet1!$D$4:$D$41)","v":{"$error":"#N/A"}},3]
[{"$f":"IF(INTRO!$E$33<>0,INTRO!$E$33, \" \")","v":"Uganda"},"CENTRAL","GOMBA",209412,{"$f":"IF(INTRO!$E$48=\"\",\"\",ROUND($D13*INTRO!$E$48,0))","v":29737},{"$f":"IF(INTRO!$E$49=\"\",\"\",ROUND($D13*INTRO!$E$49,0))","v":63242},{"$f":"IF(INTRO!$E$50=\"\",\"\",ROUND($D13*INTRO!$E$50,0))","v":109104},0,0,3,1,{"$f":"IF(INTRO!$E$37=\"Endemic\",IF($H13>0,IF($H13=4,\"Unknown\",IF($H13=99,\"Stopped\",$D13)),0),\"Not required\")","v":"Not required"},{"$f":"IF(INTRO!$E$39=\"Endemic\", IF($I13>0, IF($I13=4,\"Unknown\",IF($I13=99,\"Stopped\",$D13)), 0),\"Not required\")","v":0},{"$f":"IF(INTRO!$E$41=\"Endemic\", IF(AND($J13>1,$J13<5), IF($J13=4, \"Unknown\", E13+F13), 0),\"Not required\")","v":92979},{"$f":"IF(INTRO!$E$43=\"Endemic\", IF(AND($K13>0,$K13<5), IF($K13=4,\"Unknown\", IF($K13=1, $F13*0.33, IF($K13=2, $F13*0.5+$G13*0.2, SUM(F13:G13)))), 0),\"Not required\")","v":20869.86},0,0,2,1,null,null,null,null,null,49735,"GOMBA",null,null,null,null,0,null,6.1528635299127101,{"$f":"_xlfn.XLOOKUP(Y13,[1]COUNTRY_INFO!$Y$9:$Y$143,[1]COUNTRY_INFO!$D$9:$D$143)","v":197274},{"$f":"_xlfn.XLOOKUP(Y13,[1]COUNTRY_INFO!$Y$9:$Y$143,[1]COUNTRY_INFO!$D$9:$D$143)","v":197274},null,null,{"$f":"_xlfn.XLOOKUP($Y13,[1]COUNTRY_INFO!$Y$9:$Y$143,[1]COUNTRY_INFO!H$9:H$143)","v":0},{"$f":"_xlfn.XLOOKUP($Y13,[1]COUNTRY_INFO!$Y$9:$Y$143,[1]COUNTRY_INFO!I$9:I$143)","v":0},{"$f":"_xlfn.XLOOKUP($Y13,[1]COUNTRY_INFO!$Y$9:$Y$143,[1]COUNTRY_INFO!J$9:J$143)","v":3},{"$f":"_xlfn.XLOOKUP($Y13,[1]COUNTRY_INFO!$Y$9:$Y$143,[1]COUNTRY_INFO!K$9:K$143)","v":1},true,true,true,true,null,null,null,{"$f":"_xlfn.XLOOKUP($Y13,[2]Sheet1!$B$4:$B$41,[2]Sheet1!$D$4:$D$41)","v":{"$error":"#N/A"}},{"$f":"AO13","v":1}]
[{"$f":"IF(INTRO!$E$33<>0,INTRO!$E$33, \" \")","v":"Uganda"},"CENTRAL","KALANGALA",69874,{"$f":"IF(INTRO!$E$48=\"\",\"\",ROUND($D14*INTRO!$E$48,0))","v":9922},{"$f":"IF(INTRO!$E$49=\"\",\"\",ROUND($D14*INTRO!$E$49,0))","v":21102},{"$f":"IF(INTRO!$E$50=\"\",\"\",ROUND($D14*INTRO!$E$50,0))","v":36404},0,0,3,3,{"$f":"IF(INTRO!$E$37=\"Endemic\",IF($H14>0,IF($H14=4,\"Unknown\",IF($H14=99,\"Stopped\",$D14)),0),\"Not required\")","v":"Not required"},{"$f":"IF(INTRO!$E$39=\"Endemic\", IF($I14>0, IF($I14=4,\"Unknown\",IF($I14=99,\"Stopped\",$D14)), 0),\"Not required\")","v":0},{"$f":"IF(INTRO!$E$41=\"Endemic\", IF(AND($J14>1,$J14<5), IF($J14=4, \"Unknown\", E14+F14), 0),\"Not required\")","v":31024},{"$f":"IF(INTRO!$E$43=\"Endemic\", IF(AND($K14>0,$K14<5), IF($K14=4,\"Unknown\", IF($K14=1, $F14*0.33, IF($K14=2, $F14*0.5+$G14*0.2, SUM(F14:G14)))), 0),\"Not required\")","v":57506},0,0,2,1,null,null,null,null,null,49745,"KALANGALA",null,null,null,null,0,null,6.1689002339927672,{"$f":"_xlfn.XLOOKUP(Y14,[1]COUNTRY_INFO!$Y$9:$Y$143,[1]COUNTRY_INFO!$D$9:$D$143)","v":65814},{"$f":"_xlfn.XLOOKUP(Y14,[1]COUNTRY_INFO!$Y$9:$Y$143,[1]COUNTRY_INFO!$D$9:$D$143)","v":65814},null,null,{"$f":"_xlfn.XLOOKUP($Y14,[1]COUNTRY_INFO!$Y$9:$Y$143,[1]COUNTRY_INFO!H$9:H$143)","v":0},{"$f":"_xlfn.XLOOKUP($Y14,[1]COUNTRY_INFO!$Y$9:$Y$143,[1]COUNTRY_INFO!I$9:I$143)","v":0},{"$f":"_xlfn.XLOOKUP($Y14,[1]COUNTRY_INFO!$Y$9:$Y$143,[1]COUNTRY_INFO!J$9:J$143)","v":3},{"$f":"_xlfn.XLOOKUP($Y14,[1]COUNTRY_INFO!$Y$9:$Y$143,[1]COUNTRY_INFO!K$9:K$143)","v":3},true,true,true,true,null,null,null,{"$f":"_xlfn.XLOOKUP($Y14,[2]Sheet1!$B$4:$B$41,[2]Sheet1!$D$4:$D$41)","v":{"$error":"#N/A"}},3]
[{"$f":"IF(INTRO!$E$33<>0,INTRO!$E$33, \" \")","v":"Uganda"},"CENTRAL","KALUNGU",240877,{"$f":"IF(INTRO!$E$48=\"\",\"\",ROUND($D15*INTRO!$E$48,0))","v":34205},{"$f":"IF(INTRO!$E$49=\"\",\"\",ROUND($D15*INTRO!$E$49,0))","v":72745},{"$f":"IF(INTRO!$E$50=\"\",\"\",ROUND($D15*INTRO!$E$50,0))","v":125497},0,0,3,1,{"$f":"IF(INTRO!$E$37=\"Endemic\",IF($H15>0,IF($H15=4,\"Unknown\",IF($H15=99,\"Stopped\",$D15)),0),\"Not required\")","v":"Not required"},{"$f":"IF(INTRO!$E$39=\"Endemic\", IF($I15>0, IF($I15=4,\"Unknown\",IF($I15=99,\"Stopped\",$D15)), 0),\"Not required\")","v":0},{"$f":"IF(INTRO!$E$41=\"Endemic\", IF(AND($J15>1,$J15<5), IF($J15=4, \"Unknown\", E15+F15), 0),\"Not required\")","v":106950},{"$f":"IF(INTRO!$E$43=\"Endemic\", IF(AND($K15>0,$K15<5), IF($K15=4,\"Unknown\", IF($K15=1, $F15*0.33, IF($K15=2, $F15*0.5+$G15*0.2, SUM(F15:G15)))), 0),\"Not required\")","v":24005.850000000002},0,0,2,1,null,null,null,null,null,49758,"KALUNGU",null,null,null,null,0,null,6.1492224234652282,{"$f":"_xlfn.XLOOKUP(Y15,[1]COUNTRY_INFO!$Y$9:$Y$143,[1]COUNTRY_INFO!$D$9:$D$143)","v":226923},{"$f":"_xlfn.XLOOKUP(Y15,[1]COUNTRY_INFO!$Y$9:$Y$143,[1]COUNTRY_INFO!$D$9:$D$143)","v":226923},null,null,{"$f":"_xlfn.XLOOKUP($Y15,[1]COUNTRY_INFO!$Y$9:$Y$143,[1]COUNTRY_INFO!H$9:H$143)","v":0},{"$f":"_xlfn.XLOOKUP($Y15,[1]COUNTRY_INFO!$Y$9:$Y$143,[1]COUNTRY_INFO!I$9:I$143)","v":0},{"$f":"_xlfn.XLOOKUP($Y15,[1]COUNTRY_INFO!$Y$9:$Y$143,[1]COUNTRY_INFO!J$9:J$143)","v":3},{"$f":"_xlfn.XLOOKUP($Y15,[1]COUNTRY_INFO!$Y$9:$Y$143,[1]COUNTRY_INFO!K$9:K$143)","v":1},true,true,true,true,null,null,null,{"$f":"_xlfn.XLOOKUP($Y15,[2]Sheet1!$B$4:$B$41,[2]Sheet1!$D$4:$D$41)","v":8},1]
[{"$f":"IF(INTRO!$E$33<>0,INTRO!$E$33, \" \")","v":"Uganda"},"CENTRAL","KAMPALA",1983508,{"$f":"IF(INTRO!$E$48=\"\",\"\",ROUND($D16*INTRO!$E$48,0))","v":281658},{"$f":"IF(INTRO!$E$49=\"\",\"\",ROUND($D16*INTRO!$E$49,0))","v":599019},{"$f":"IF(INTRO!$E$50=\"\",\"\",ROUND($D16*INTRO!$E$50,0))","v":1033408},0,0,3,0,{"$f":"IF(INTRO!$E$37=\"Endemic\",IF($H16>0,IF($H16=4,\"Unknown\",IF($H16=99,\"Stopped\",$D16)),0),\"Not required\")","v":"Not required"},{"$f":"IF(INTRO!$E$39=\"Endemic\", IF($I16>0, IF($I16=4,\"Unknown\",IF($I16=99,\"Stopped\",$D16)), 0),\"Not required\")","v":0},{"$f":"IF(INTRO!$E$41=\"Endemic\", IF(AND($J16>1,$J16<5), IF($J16=4, \"Unknown\", E16+F16), 0),\"Not required\")","v":880677},{"$f":"IF(INTRO!$E$43=\"Endemic\", IF(AND($K16>0,$K16<5), IF($K16=4,\"Unknown\", IF($K16=1, $F16*0.33, IF($K16=2, $F16*0.5+$G16*0.2, SUM(F16:G16)))), 0),\"Not required\")","v":0},0,0,2,0,null,null,null,null,null,49759,"KAMPALA",null,null,null,null,0,null,6.1520298583824715,{"$f":"_xlfn.XLOOKUP(Y16,[1]COUNTRY_INFO!$Y$9:$Y$143,[1]COUNTRY_INFO!$D$9:$D$143)","v":1868554},{"$f":"_xlfn.XLOOKUP(Y16,[1]COUNTRY_INFO!$Y$9:$Y$143,[1]COUNTRY_INFO!$D$9:$D$143)","v":1868554},null,null,{"$f":"_xlfn.XLOOKUP($Y16,[1]COUNTRY_INFO!$Y$9:$Y$143,[1]COUNTRY_INFO!H$9:H$143)","v":0},{"$f":"_xlfn.XLOOKUP($Y16,[1]COUNTRY_INFO!$Y$9:$Y$143,[1]COUNTRY_INFO!I$9:I$143)","v":0},{"$f":"_xlfn.XLOOKUP($Y16,[1]COUNTRY_INFO!$Y$9:$Y$143,[1]COUNTRY_INFO!J$9:J$143)","v":3},{"$f":"_xlfn.XLOOKUP($Y16,[1]COUNTRY_INFO!$Y$9:$Y$143,[1]COUNTRY_INFO!K$9:K$143)","v":0},true,true,true,true,null,null,null,{"$f":"_xlfn.XLOOKUP($Y16,[2]Sheet1!$B$4:$B$41,[2]Sheet1!$D$4:$D$41)","v":{"$error":"#N/A"}},0]
[{"$f":"IF(INTRO!$E$33<>0,INTRO!$E$33, \" \")","v":"Uganda"},"CENTRAL","KASSANDA",360103,{"$f":"IF(INTRO!$E$48=\"\",\"\",ROUND($D17*INTRO!$E$48,0))","v":51135},{"$f":"IF(INTRO!$E$49=\"\",\"\",ROUND($D17*INTRO!$E$49,0))","v":108751},{"$f":"IF(INTRO!$E$50=\"\",\"\",ROUND($D17*INTRO!$E$50,0))","v":187614},0,0,3,2,{"$f":"IF(INTRO!$E$37=\"Endemic\",IF($H17>0,IF($H17=4,\"Unknown\",IF($H17=99,\"Stopped\",$D17)),0),\"Not required\")","v":"Not required"},{"$f":"IF(INTRO!$E$39=\"Endemic\", IF($I17>0, IF($I17=4,\"Unknown\",IF($I17=99,\"Stopped\",$D17)), 0),\"Not required\")","v":0},{"$f":"IF(INTRO!$E$41=\"Endemic\", IF(AND($J17>1,$J17<5), IF($J17=4, \"Unknown\", E17+F17), 0),\"Not required\")","v":159886},{"$f":"IF(INTRO!$E$43=\"Endemic\", IF(AND($K17>0,$K17<5), IF($K17=4,\"Unknown\", IF($K17=1, $F17*0.33, IF($K17=2, $F17*0.5+$G17*0.2, SUM(F17:G17)))), 0),\"Not required\")","v":91898.3},0,0,2,1,null,null,null,null,null,49830,"KASSANDA",null,null,null,null,0,null,6.1527395786352068,{"$f":"_xlfn.XLOOKUP(Y17,[1]COUNTRY_INFO!$Y$9:$Y$143,[1]COUNTRY_INFO!$D$9:$D$143)","v":339231},{"$f":"_xlfn.XLOOKUP(Y17,[1]COUNTRY_INFO!$Y$9:$Y$143,[1]COUNTRY_INFO!$D$9:$D$143)","v":339231},null,null,{"$f":"_xlfn.XLOOKUP($Y17,[1]COUNTRY_INFO!$Y$9:$Y$143,[1]COUNTRY_INFO!H$9:H$143)","v":0},{"$f":"_xlfn.XLOOKUP($Y17,[1]COUNTRY_INFO!$Y$9:$Y$143,[1]COUNTRY_INFO!I$9:I$143)","v":0},{"$f":"_xlfn.XLOOKUP($Y17,[1]COUNTRY_INFO!$Y$9:$Y$143,[1]COUNTRY_INFO!J$9:J$143)","v":3},{"$f":"_xlfn.XLOOKUP($Y17,[1]COUNTRY_INFO!$Y$9:$Y$143,[1]COUNTRY_INFO!K$9:K$143)","v":1},true,true,true,false,null,null,null,{"$f":"_xlfn.XLOOKUP($Y17,[2]Sheet1!$B$4:$B$41,[2]Sheet1!$D$4:$D$41)","v":20},2]
[{"$f":"IF(INTRO!$E$33<>0,INTRO!$E$33, \" \")","v":"Uganda"},"CENTRAL","KAYUNGA",484308,{"$f":"IF(INTRO!$E$48=\"\",\"\",ROUND($D18*INTRO!$E$48,0))","v":68772},{"$f":"IF(INTRO!$E$49=\"\",\"\",ROUND($D18*INTRO!$E$49,0))","v":146261},{"$f":"IF(INTRO!$E$50=\"\",\"\",ROUND($D18*INTRO!$E$50,0))","v":252324},0,0,3,3,{"$f":"IF(INTRO!$E$37=\"Endemic\",IF($H18>0,IF($H18=4,\"Unknown\",IF($H18=99,\"Stopped\",$D18)),0),\"Not required\")","v":"Not required"},{"$f":"IF(INTRO!$E$39=\"Endemic\", IF($I18>0, IF($I18=4,\"Unknown\",IF($I18=99,\"Stopped\",$D18)), 0),\"Not required\")","v":0},{"$f":"IF(INTRO!$E$41=\"Endemic\", IF(AND($J18>1,$J18<5), IF($J18=4, \"Unknown\", E18+F18), 0),\"Not required\")","v":215033},{"$f":"IF(INTRO!$E$43=\"Endemic\", IF(AND($K18>0,$K18<5), IF($K18=4,\"Unknown\", IF($K18=1, $F18*0.33, IF($K18=2, $F18*0.5+$G18*0.2, SUM(F18:G18)))), 0),\"Not required\")","v":398585},0,0,2,1,null,null,null,null,null,49761,"KAYUNGA",null,null,null,null,0,null,6.1515599177629419,{"$f":"_xlfn.XLOOKUP(Y18,[1]COUNTRY_INFO!$Y$9:$Y$143,[1]COUNTRY_INFO!$D$9:$D$143)","v":456242},{"$f":"_xlfn.XLOOKUP(Y18,[1]COUNTRY_INFO!$Y$9:$Y$143,[1]COUNTRY_INFO!$D$9:$D$143)","v":456242},null,null,{"$f":"_xlfn.XLOOKUP($Y18,[1]COUNTRY_INFO!$Y$9:$Y$143,[1]COUNTRY_INFO!H$9:H$143)","v":0},{"$f":"_xlfn.XLOOKUP($Y18,[1]COUNTRY_INFO!$Y$9:$Y$143,[1]COUNTRY_INFO!I$9:I$143)","v":0},{"$f":"_xlfn.XLOOKUP($Y18,[1]COUNTRY_INFO!$Y$9:$Y$143,[1]COUNTRY_INFO!J$9:J$143)","v":3},{"$f":"_xlfn.XLOOKUP($Y18,[1]COUNTRY_INFO!$Y$9:$Y$143,[1]COUNTRY_INFO!K$9:K$143)","v":3},true,true,true,true,null,null,null,{"$f":"_xlfn.XLOOKUP($Y18,[2]Sheet1!$B$4:$B$41,[2]Sheet1!$D$4:$D$41)","v":{"$error":"#N/A"}},3]
[{"$f":"IF(INTRO!$E$33<>0,INTRO!$E$33, \" \")","v":"Uganda"},"CENTRAL","KIBOGA",193898,{"$f":"IF(INTRO!$E$48=\"\",\"\",ROUND($D19*INTRO!$E$48,0))","v":27534},{"$f":"IF(INTRO!$E$49=\"\",\"\",ROUND($D19*INTRO!$E$49,0))","v":58557},{"$f":"IF(INTRO!$E$50=\"\",\"\",ROUND($D19*INTRO!$E$50,0))","v":101021},0,0,3,0,{"$f":"IF(INTRO!$E$37=\"Endemic\",IF($H19>0,IF($H19=4,\"Unknown\",IF($H19=99,\"Stopped\",$D19)),0),\"Not required\")","v":"Not required"},{"$f":"IF(INTRO!$E$39=\"Endemic\", IF($I19>0, IF($I19=4,\"Unknown\",IF($I19=99,\"Stopped\",$D19)), 0),\"Not required\")","v":0},{"$f":"IF(INTRO!$E$41=\"Endemic\", IF(AND($J19>1,$J19<5), IF($J19=4, \"Unknown\", E19+F19), 0),\"Not required\")","v":86091},{"$f":"IF(INTRO!$E$43=\"Endemic\", IF(AND($K19>0,$K19<5), IF($K19=4,\"Unknown\", IF($K19=1, $F19*0.33, IF($K19=2, $F19*0.5+$G19*0.2, SUM(F19:G19)))), 0),\"Not required\")","v":0},0,0,2,0,null,null,null,null,null,49762,"KIBOGA",null,null,null,null,0,null,6.1500897823325884,{"$f":"_xlfn.XLOOKUP(Y19,[1]COUNTRY_INFO!$Y$9:$Y$143,[1]COUNTRY_INFO!$D$9:$D$143)","v":182664},{"$f":"_xlfn.XLOOKUP(Y19,[1]COUNTRY_INFO!$Y$9:$Y$143,[1]COUNTRY_INFO!$D$9:$D$143)","v":182664},null,null,{"$f":"_xlfn.XLOOKUP($Y19,[1]COUNTRY_INFO!$Y$9:$Y$143,[1]COUNTRY_INFO!H$9:H$143)","v":0},{"$f":"_xlfn.XLOOKUP($Y19,[1]COUNTRY_INFO!$Y$9:$Y$143,[1]COUNTRY_INFO!I$9:I$143)","v":0},{"$f":"_xlfn.XLOOKUP($Y19,[1]COUNTRY_INFO!$Y$9:$Y$143,[1]COUNTRY_INFO!J$9:J$143)","v":3},{"$f":"_xlfn.XLOOKUP($Y19,[1]COUNTRY_INFO!$Y$9:$Y$143,[1]COUNTRY_INFO!K$9:K$143)","v":0},true,true,true,true,null,null,null,{"$f":"_xlfn.XLOOKUP($Y19,[2]Sheet1!$B$4:$B$41,[2]Sheet1!$D$4:$D$41)","v":{"$error":"#N/A"}},0]
[{"$f":"IF(INTRO!$E$33<>0,INTRO!$E$33, \" \")","v":"Uganda"},"CENTRAL","KYANKWANZI",280863,{"$f":"IF(INTRO!$E$48=\"\",\"\",ROUND($D20*INTRO!$E$48,0))","v":39883},{"$f":"IF(INTRO!$E$49=\"\",\"\",ROUND($D20*INTRO!$E$49,0))","v":84821},{"$f":"IF(INTRO!$E$50=\"\",\"\",ROUND($D20*INTRO!$E$50,0))","v":146330},0,0,3,0,{"$f":"IF(INTRO!$E$37=\"Endemic\",IF($H20>0,IF($H20=4,\"Unknown\",IF($H20=99,\"Stopped\",$D20)),0),\"Not required\")","v":"Not required"},{"$f":"IF(INTRO!$E$39=\"Endemic\", IF($I20>0, IF($I20=4,\"Unknown\",IF($I20=99,\"Stopped\",$D20)), 0),\"Not required\")","v":0},{"$f":"IF(INTRO!$E$41=\"Endemic\", IF(AND($J20>1,$J20<5), IF($J20=4, \"Unknown\", E20+F20), 0),\"Not required\")","v":124704},{"$f":"IF(INTRO!$E$43=\"Endemic\", IF(AND($K20>0,$K20<5), IF($K20=4,\"Unknown\", IF($K20=1, $F20*0.33, IF($K20=2, $F20*0.5+$G20*0.2, SUM(F20:G20)))), 0),\"Not required\")","v":0},0,0,2,0,null,null,null,null,null,49769,"KYANKWANZI",null,null,null,null,0,null,6.1526774105766036,{"$f":"_xlfn.XLOOKUP(Y20,[1]COUNTRY_INFO!$Y$9:$Y$143,[1]COUNTRY_INFO!$D$9:$D$143)","v":264584},{"$f":"_xlfn.XLOOKUP(Y20,[1]COUNTRY_INFO!$Y$9:$Y$143,[1]COUNTRY_INFO!$D$9:$D$143)","v":264584},null,null,{"$f":"_xlfn.XLOOKUP($Y20,[1]COUNTRY_INFO!$Y$9:$Y$143,[1]COUNTRY_INFO!H$9:H$143)","v":0},{"$f":"_xlfn.XLOOKUP($Y20,[1]COUNTRY_INFO!$Y$9:$Y$143,[1]COUNTRY_INFO!I$9:I$143)","v":0},{"$f":"_xlfn.XLOOKUP($Y20,[1]COUNTRY_INFO!$Y$9:$Y$143,[1]COUNTRY_INFO!J$9:J$143)","v":3},{"$f":"_xlfn.XLOOKUP($Y20,[1]COUNTRY_INFO!$Y$9:$Y$143,[1]COUNTRY_INFO!K$9:K$143)","v":0},true,true,true,true,null,null,null,{"$f":"_xlfn.XLOOKUP($Y20,[2]Sheet1!$B$4:$B$41,[2]Sheet1!$D$4:$D$41)","v":{"$error":"#N/A"}},0]
[{"$f":"IF(INTRO!$E$33<>0,INTRO!$E$33, \" \")","v":"Uganda"},"CENTRAL","KYOTERA",211821,{"$f":"IF(INTRO!$E$48=\"\",\"\",ROUND($D21*INTRO!$E$48,0))","v":30079},{"$f":"IF(INTRO!$E$49=\"\",\"\",ROUND($D21*INTRO!$E$49,0))","v":63970},{"$f":"IF(INTRO!$E$50=\"\",\"\",ROUND($D21*INTRO!$E$50,0))","v":110359},0,0,3,1,{"$f":"IF(INTRO!$E$37=\"Endemic\",IF($H21>0,IF($H21=4,\"Unknown\",IF($H21=99,\"Stopped\",$D21)),0),\"Not required\")","v":"Not required"},{"$f":"IF(INTRO!$E$39=\"Endemic\", IF($I21>0, IF($I21=4,\"Unknown\",IF($I21=99,\"Stopped\",$D21)), 0),\"Not required\")","v":0},{"$f":"IF(INTRO!$E$41=\"Endemic\", IF(AND($J21>1,$J21<5), IF($J21=4, \"Unknown\", E21+F21), 0),\"Not required\")","v":94049},{"$f":"IF(INTRO!$E$43=\"Endemic\", IF(AND($K21>0,$K21<5), IF($K21=4,\"Unknown\", IF($K21=1, $F21*0.33, IF($K21=2, $F21*0.5+$G21*0.2, SUM(F21:G21)))), 0),\"Not required\")","v":21110.100000000002},0,0,2,1,null,null,null,null,null,49823,"KYOTERA",null,null,null,null,0,null,6.1514638228779335,{"$f":"_xlfn.XLOOKUP(Y21,[1]COUNTRY_INFO!$Y$9:$Y$143,[1]COUNTRY_INFO!$D$9:$D$143)","v":199546},{"$f":"_xlfn.XLOOKUP(Y21,[1]COUNTRY_INFO!$Y$9:$Y$143,[1]COUNTRY_INFO!$D$9:$D$143)","v":199546},null,null,{"$f":"_xlfn.XLOOKUP($Y21,[1]COUNTRY_INFO!$Y$9:$Y$143,[1]COUNTRY_INFO!H$9:H$143)","v":0},{"$f":"_xlfn.XLOOKUP($Y21,[1]COUNTRY_INFO!$Y$9:$Y$143,[1]COUNTRY_INFO!I$9:I$143)","v":0},{"$f":"_xlfn.XLOOKUP($Y21,[1]COUNTRY_INFO!$Y$9:$Y$143,[1]COUNTRY_INFO!J$9:J$143)","v":3},{"$f":"_xlfn.XLOOKUP($Y21,[1]COUNTRY_INFO!$Y$9:$Y$143,[1]COUNTRY_INFO!K$9:K$143)","v":2},true,true,true,false,null,null,null,{"$f":"_xlfn.XLOOKUP($Y21,[2]Sheet1!$B$4:$B$41,[2]Sheet1!$D$4:$D$41)","v":2},1]
[{"$f":"IF(INTRO!$E$33<>0,INTRO!$E$33, \" \")","v":"Uganda"},"CENTRAL","LUWERO",597791,{"$f":"IF(INTRO!$E$48=\"\",\"\",ROUND($D22*INTRO!$E$48,0))","v":84886},{"$f":"IF(INTRO!$E$49=\"\",\"\",ROUND($D22*INTRO!$E$49,0))","v":180533},{"$f":"IF(INTRO!$E$50=\"\",\"\",ROUND($D22*INTRO!$E$50,0))","v":311449},0,0,3,0,{"$f":"IF(INTRO!$E$37=\"Endemic\",IF($H22>0,IF($H22=4,\"Unknown\",IF($H22=99,\"Stopped\",$D22)),0),\"Not required\")","v":"Not required"},{"$f":"IF(INTRO!$E$39=\"Endemic\", IF($I22>0, IF($I22=4,\"Unknown\",IF($I22=99,\"Stopped\",$D22)), 0),\"Not required\")","v":0},{"$f":"IF(INTRO!$E$41=\"Endemic\", IF(AND($J22>1,$J22<5), IF($J22=4, \"Unknown\", E22+F22), 0),\"Not required\")","v":265419},{"$f":"IF(INTRO!$E$43=\"Endemic\", IF(AND($K22>0,$K22<5), IF($K22=4,\"Unknown\", IF($K22=1, $F22*0.33, IF($K22=2, $F22*0.5+$G22*0.2, SUM(F22:G22)))), 0),\"Not required\")","v":0},0,0,2,0,null,null,null,null,null,49774,"LUWERO",null,null,null,null,0,null,6.1524228261332805,{"$f":"_xlfn.XLOOKUP(Y22,[1]COUNTRY_INFO!$Y$9:$Y$143,[1]COUNTRY_INFO!$D$9:$D$143)","v":563144},{"$f":"_xlfn.XLOOKUP(Y22,[1]COUNTRY_INFO!$Y$9:$Y$143,[1]COUNTRY_INFO!$D$9:$D$143)","v":563144},null,null,{"$f":"_xlfn.XLOOKUP($Y22,[1]COUNTRY_INFO!$Y$9:$Y$143,[1]COUNTRY_INFO!H$9:H$143)","v":0},{"$f":"_xlfn.XLOOKUP($Y22,[1]COUNTRY_INFO!$Y$9:$Y$143,[1]COUNTRY_INFO!I$9:I$143)","v":0},{"$f":"_xlfn.XLOOKUP($Y22,[1]COUNTRY_INFO!$Y$9:$Y$143,[1]COUNTRY_INFO!J$9:J$143)","v":3},{"$f":"_xlfn.XLOOKUP($Y22,[1]COUNTRY_INFO!$Y$9:$Y$143,[1]COUNTRY_INFO!K$9:K$143)","v":0},true,true,true,true,null,null,null,{"$f":"_xlfn.XLOOKUP($Y22,[2]Sheet1!$B$4:$B$41,[2]Sheet1!$D$4:$D$41)","v":{"$error":"#N/A"}},0]
[{"$f":"IF(INTRO!$E$33<>0,INTRO!$E$33, \" \")","v":"Uganda"},"CENTRAL","LWENGO",360342,{"$f":"IF(INTRO!$E$48=\"\",\"\",ROUND($D23*INTRO!$E$48,0))","v":51169},{"$f":"IF(INTRO!$E$49=\"\",\"\",ROUND($D23*INTRO!$E$49,0))","v":108823},{"$f":"IF(INTRO!$E$50=\"\",\"\",ROUND($D23*INTRO!$E$50,0))","v":187738},0,0,3,0,{"$f":"IF(INTRO!$E$37=\"Endemic\",IF($H23>0,IF($H23=4,\"Unknown\",IF($H23=99,\"Stopped\",$D23)),0),\"Not required\")","v":"Not required"},{"$f":"IF(INTRO!$E$39=\"Endemic\", IF($I23>0, IF($I23=4,\"Unknown\",IF($I23=99,\"Stopped\",$D23)), 0),\"Not required\")","v":0},{"$f":"IF(INTRO!$E$41=\"Endemic\", IF(AND($J23>1,$J23<5), IF($J23=4, \"Unknown\", E23+F23), 0),\"Not required\")","v":159992},{"$f":"IF(INTRO!$E$43=\"Endemic\", IF(AND($K23>0,$K23<5), IF($K23=4,\"Unknown\", IF($K23=1, $F23*0.33, IF($K23=2, $F23*0.5+$G23*0.2, SUM(F23:G23)))), 0),\"Not required\")","v":0},0,0,2,0,null,null,null,null,null,49775,"LWENGO",null,null,null,null,0,null,6.1518474985197029,{"$f":"_xlfn.XLOOKUP(Y23,[1]COUNTRY_INFO!$Y$9:$Y$143,[1]COUNTRY_INFO!$D$9:$D$143)","v":339459},{"$f":"_xlfn.XLOOKUP(Y23,[1]COUNTRY_INFO!$Y$9:$Y$143,[1]COUNTRY_INFO!$D$9:$D$143)","v":339459},null,null,{"$f":"_xlfn.XLOOKUP($Y23,[1]COUNTRY_INFO!$Y$9:$Y$143,[1]COUNTRY_INFO!H$9:H$143)","v":0},{"$f":"_xlfn.XLOOKUP($Y23,[1]COUNTRY_INFO!$Y$9:$Y$143,[1]COUNTRY_INFO!I$9:I$143)","v":0},{"$f":"_xlfn.XLOOKUP($Y23,[1]COUNTRY_INFO!$Y$9:$Y$143,[1]COUNTRY_INFO!J$9:J$143)","v":3},{"$f":"_xlfn.XLOOKUP($Y23,[1]COUNTRY_INFO!$Y$9:$Y$143,[1]COUNTRY_INFO!K$9:K$143)","v":0},true,true,true,true,null,null,null,{"$f":"_xlfn.XLOOKUP($Y23,[2]Sheet1!$B$4:$B$41,[2]Sheet1!$D$4:$D$41)","v":{"$error":"#N/A"}},0]
[{"$f":"IF(INTRO!$E$33<>0,INTRO!$E$33, \" \")","v":"Uganda"},"CENTRAL","LYANTONDE",123720,{"$f":"IF(INTRO!$E$48=\"\",\"\",ROUND($D24*INTRO!$E$48,0))","v":17568},{"$f":"IF(INTRO!$E$49=\"\",\"\",ROUND($D24*INTRO!$E$49,0))","v":37363},{"$f":"IF(INTRO!$E$50=\"\",\"\",ROUND($D24*INTRO!$E$50,0))","v":64458},0,0,3,0,{"$f":"IF(INTRO!$E$37=\"Endemic\",IF($H24>0,IF($H24=4,\"Unknown\",IF($H24=99,\"Stopped\",$D24)),0),\"Not required\")","v":"Not required"},{"$f":"IF(INTRO!$E$39=\"Endemic\", IF($I24>0, IF($I24=4,\"Unknown\",IF($I24=99,\"Stopped\",$D24)), 0),\"Not required\")","v":0},{"$f":"IF(INTRO!$E$41=\"Endemic\", IF(AND($J24>1,$J24<5), IF($J24=4, \"Unknown\", E24+F24), 0),\"Not required\")","v":54931},{"$f":"IF(INTRO!$E$43=\"Endemic\", IF(AND($K24>0,$K24<5), IF($K24=4,\"Unknown\", IF($K24=1, $F24*0.33, IF($K24=2, $F24*0.5+$G24*0.2, SUM(F24:G24)))), 0),\"Not required\")","v":0},0,0,2,0,null,null,null,null,null,49776,"LYANTONDE",null,null,null,null,0,null,6.155509412592453,{"$f":"_xlfn.XLOOKUP(Y24,[1]COUNTRY_INFO!$Y$9:$Y$143,[1]COUNTRY_INFO!$D$9:$D$143)","v":116546},{"$f":"_xlfn.XLOOKUP(Y24,[1]COUNTRY_INFO!$Y$9:$Y$143,[1]COUNTRY_INFO!$D$9:$D$143)","v":116546},null,null,{"$f":"_xlfn.XLOOKUP($Y24,[1]COUNTRY_INFO!$Y$9:$Y$143,[1]COUNTRY_INFO!H$9:H$143)","v":0},{"$f":"_xlfn.XLOOKUP($Y24,[1]COUNTRY_INFO!$Y$9:$Y$143,[1]COUNTRY_INFO!I$9:I$143)","v":0},{"$f":"_xlfn.XLOOKUP($Y24,[1]COUNTRY_INFO!$Y$9:$Y$143,[1]COUNTRY_INFO!J$9:J$143)","v":3},{"$f":"_xlfn.XLOOKUP($Y24,[1]COUNTRY_INFO!$Y$9:$Y$143,[1]COUNTRY_INFO!K$9:K$143)","v":0},true,true,true,true,null,null,null,{"$f":"_xlfn.XLOOKUP($Y24,[2]Sheet1!$B$4:$B$41,[2]Sheet1!$D$4:$D$41)","v":{"$error":"#N/A"}},0]
[{"$f":"IF(INTRO!$E$33<>0,INTRO!$E$33, \" \")","v":"Uganda"},"CENTRAL","MASAKA",252246,{"$f":"IF(INTRO!$E$48=\"\",\"\",ROUND($D25*INTRO!$E$48,0))","v":35819},{"$f":"IF(INTRO!$E$49=\"\",\"\",ROUND($D25*INTRO!$E$49,0))","v":76178},{"$f":"IF(INTRO!$E$50=\"\",\"\",ROUND($D25*INTRO!$E$50,0))","v":131420},0,0,3,3,{"$f":"IF(INTRO!$E$37=\"Endemic\",IF($H25>0,IF($H25=4,\"Unknown\",IF($H25=99,\"Stopped\",$D25)),0),\"Not required\")","v":"Not required"},{"$f":"IF(INTRO!$E$39=\"Endemic\", IF($I25>0, IF($I25=4,\"Unknown\",IF($I25=99,\"Stopped\",$D25)), 0),\"Not required\")","v":0},{"$f":"IF(INTRO!$E$41=\"Endemic\", IF(AND($J25>1,$J25<5), IF($J25=4, \"Unknown\", E25+F25), 0),\"Not required\")","v":111997},{"$f":"IF(INTRO!$E$43=\"Endemic\", IF(AND($K25>0,$K25<5), IF($K25=4,\"Unknown\", IF($K25=1, $F25*0.33, IF($K25=2, $F25*0.5+$G25*0.2, SUM(F25:G25)))), 0),\"Not required\")","v":207598},0,0,2,1,null,null,null,null,null,49785,"MASAKA",null,null,null,null,0,null,-31.001715068807904,{"$f":"_xlfn.XLOOKUP(Y25,[1]COUNTRY_INFO!$Y$9:$Y$143,[1]COUNTRY_INFO!$D$9:$D$143)","v":365583},{"$f":"_xlfn.XLOOKUP(Y25,[1]COUNTRY_INFO!$Y$9:$Y$143,[1]COUNTRY_INFO!$D$9:$D$143)","v":365583},null,null,{"$f":"_xlfn.XLOOKUP($Y25,[1]COUNTRY_INFO!$Y$9:$Y$143,[1]COUNTRY_INFO!H$9:H$143)","v":0},{"$f":"_xlfn.XLOOKUP($Y25,[1]COUNTRY_INFO!$Y$9:$Y$143,[1]COUNTRY_INFO!I$9:I$143)","v":0},{"$f":"_xlfn.XLOOKUP($Y25,[1]COUNTRY_INFO!$Y$9:$Y$143,[1]COUNTRY_INFO!J$9:J$143)","v":3},{"$f":"_xlfn.XLOOKUP($Y25,[1]COUNTRY_INFO!$Y$9:$Y$143,[1]COUNTRY_INFO!K$9:K$143)","v":3},true,true,true,true,null,null,null,{"$f":"_xlfn.XLOOKUP($Y25,[2]Sheet1!$B$4:$B$41,[2]Sheet1!$D$4:$D$41)","v":{"$error":"#N/A"}},3]
[{"$f":"IF(INTRO!$E$33<>0,INTRO!$E$33, \" \")","v":"Uganda"},"CENTRAL","Masaka City",135825,{"$f":"IF(INTRO!$E$48=\"\",\"\",ROUND($D26*INTRO!$E$48,0))","v":19287},{"$f":"IF(INTRO!$E$49=\"\",\"\",ROUND($D26*INTRO!$E$49,0))","v":41019},{"$f":"IF(INTRO!$E$50=\"\",\"\",ROUND($D26*INTRO!$E$50,0))","v":70765},0,0,3,0,{"$f":"IF(INTRO!$E$37=\"Endemic\",IF($H26>0,IF($H26=4,\"Unknown\",IF($H26=99,\"Stopped\",$D26)),0),\"Not required\")","v":"Not required"},{"$f":"IF(INTRO!$E$39=\"Endemic\", IF($I26>0, IF($I26=4,\"Unknown\",IF($I26=99,\"Stopped\",$D26)), 0),\"Not required\")","v":0},{"$f":"IF(INTRO!$E$41=\"Endemic\", IF(AND($J26>1,$J26<5), IF($J26=4, \"Unknown\", E26+F26), 0),\"Not required\")","v":60306},{"$f":"IF(INTRO!$E$43=\"Endemic\", IF(AND($K26>0,$K26<5), IF($K26=4,\"Unknown\", IF($K26=1, $F26*0.33, IF($K26=2, $F26*0.5+$G26*0.2, SUM(F26:G26)))), 0),\"Not required\")","v":0},0,0,2,0,null,null,null,null,null,49845,"Masaka City",49785,"MASAKA",null,null,0,null,{"$error":"#N/A"},{"$f":"_xlfn.XLOOKUP(Y26,[1]COUNTRY_INFO!$Y$9:$Y$143,[1]COUNTRY_INFO!$D$9:$D$143)","v":{"$error":"#N/A"}},{"$f":"_xlfn.XLOOKUP(Y26,[1]COUNTRY_INFO!$Y$9:$Y$143,[1]COUNTRY_INFO!$D$9:$D$143)","v":{"$error":"#N/A"}},null,null,{"$f":"_xlfn.XLOOKUP($Y26,[1]COUNTRY_INFO!$Y$9:$Y$143,[1]COUNTRY_INFO!H$9:H$143)","v":{"$error":"#N/A"}},{"$f":"_xlfn.XLOOKUP($Y26,[1]COUNTRY_INFO!$Y$9:$Y$143,[1]COUNTRY_INFO!I$9:I$143)","v":{"$error":"#N/A"}},{"$f":"_xlfn.XLOOKUP($Y26,[1]COUNTRY_INFO!$Y$9:$Y$143,[1]COUNTRY_INFO!J$9:J$143)","v":{"$error":"#N/A"}},{"$f":"_xlfn.XLOOKUP($Y26,[1]COUNTRY_INFO!$Y$9:$Y$143,[1]COUNTRY_INFO!K$9:K$143)","v":{"$error":"#N/A"}},{"$error":"#N/A"},{"$error":"#N/A"},{"$error":"#N/A"},{"$error":"#N/A"},null,null,null,{"$f":"_xlfn.XLOOKUP($Y26,[2]Sheet1!$B$4:$B$41,[2]Sheet1!$D$4:$D$41)","v":{"$error":"#N/A"}},0]
[{"$f":"IF(INTRO!$E$33<>0,INTRO!$E$33, \" \")","v":"Uganda"},"CENTRAL","MITYANA",433352,{"$f":"IF(INTRO!$E$48=\"\",\"\",ROUND($D27*INTRO!$E$48,0))","v":61536},{"$f":"IF(INTRO!$E$49=\"\",\"\",ROUND($D27*INTRO!$E$49,0))","v":130872},{"$f":"IF(INTRO!$E$50=\"\",\"\",ROUND($D27*INTRO!$E$50,0))","v":225776},0,0,3,3,{"$f":"IF(INTRO!$E$37=\"Endemic\",IF($H27>0,IF($H27=4,\"Unknown\",IF($H27=99,\"Stopped\",$D27)),0),\"Not required\")","v":"Not required"},{"$f":"IF(INTRO!$E$39=\"Endemic\", IF($I27>0, IF($I27=4,\"Unknown\",IF($I27=99,\"Stopped\",$D27)), 0),\"Not required\")","v":0},{"$f":"IF(INTRO!$E$41=\"Endemic\", IF(AND($J27>1,$J27<5), IF($J27=4, \"Unknown\", E27+F27), 0),\"Not required\")","v":192408},{"$f":"IF(INTRO!$E$43=\"Endemic\", IF(AND($K27>0,$K27<5), IF($K27=4,\"Unknown\", IF($K27=1, $F27*0.33, IF($K27=2, $F27*0.5+$G27*0.2, SUM(F27:G27)))), 0),\"Not required\")","v":356648},0,0,2,1,null,null,null,null,null,49788,"MITYANA",null,null,null,null,0,null,6.1494634375757817,{"$f":"_xlfn.XLOOKUP(Y27,[1]COUNTRY_INFO!$Y$9:$Y$143,[1]COUNTRY_INFO!$D$9:$D$143)","v":408247},{"$f":"_xlfn.XLOOKUP(Y27,[1]COUNTRY_INFO!$Y$9:$Y$143,[1]COUNTRY_INFO!$D$9:$D$143)","v":408247},null,null,{"$f":"_xlfn.XLOOKUP($Y27,[1]COUNTRY_INFO!$Y$9:$Y$143,[1]COUNTRY_INFO!H$9:H$143)","v":0},{"$f":"_xlfn.XLOOKUP($Y27,[1]COUNTRY_INFO!$Y$9:$Y$143,[1]COUNTRY_INFO!I$9:I$143)","v":0},{"$f":"_xlfn.XLOOKUP($Y27,[1]COUNTRY_INFO!$Y$9:$Y$143,[1]COUNTRY_INFO!J$9:J$143)","v":3},{"$f":"_xlfn.XLOOKUP($Y27,[1]COUNTRY_INFO!$Y$9:$Y$143,[1]COUNTRY_INFO!K$9:K$143)","v":3},true,true,true,true,null,null,null,{"$f":"_xlfn.XLOOKUP($Y27,[2]Sheet1!$B$4:$B$41,[2]Sheet1!$D$4:$D$41)","v":{"$error":"#N/A"}},3]
[{"$f":"IF(INTRO!$E$33<>0,INTRO!$E$33, \" \")","v":"Uganda"},"CENTRAL","MPIGI",329032,{"$f":"IF(INTRO!$E$48=\"\",\"\",ROUND($D28*INTRO!$E$48,0))","v":46723},{"$f":"IF(INTRO!$E$49=\"\",\"\",ROUND($D28*INTRO!$E$49,0))","v":99368},{"$f":"IF(INTRO!$E$50=\"\",\"\",ROUND($D28*INTRO!$E$50,0))","v":171426},0,0,3,2,{"$f":"IF(INTRO!$E$37=\"Endemic\",IF($H28>0,IF($H28=4,\"Unknown\",IF($H28=99,\"Stopped\",$D28)),0),\"Not required\")","v":"Not required"},{"$f":"IF(INTRO!$E$39=\"Endemic\", IF($I28>0, IF($I28=4,\"Unknown\",IF($I28=99,\"Stopped\",$D28)), 0),\"Not required\")","v":0},{"$f":"IF(INTRO!$E$41=\"Endemic\", IF(AND($J28>1,$J28<5), IF($J28=4, \"Unknown\", E28+F28), 0),\"Not required\")","v":146091},{"$f":"IF(INTRO!$E$43=\"Endemic\", IF(AND($K28>0,$K28<5), IF($K28=4,\"Unknown\", IF($K28=1, $F28*0.33, IF($K28=2, $F28*0.5+$G28*0.2, SUM(F28:G28)))), 0),\"Not required\")","v":83969.200000000012},0,0,2,1,null,null,null,null,null,49789,"MPIGI",null,null,null,null,0,null,6.153394481205579,{"$f":"_xlfn.XLOOKUP(Y28,[1]COUNTRY_INFO!$Y$9:$Y$143,[1]COUNTRY_INFO!$D$9:$D$143)","v":309959},{"$f":"_xlfn.XLOOKUP(Y28,[1]COUNTRY_INFO!$Y$9:$Y$143,[1]COUNTRY_INFO!$D$9:$D$143)","v":309959},null,null,{"$f":"_xlfn.XLOOKUP($Y28,[1]COUNTRY_INFO!$Y$9:$Y$143,[1]COUNTRY_INFO!H$9:H$143)","v":0},{"$f":"_xlfn.XLOOKUP($Y28,[1]COUNTRY_INFO!$Y$9:$Y$143,[1]COUNTRY_INFO!I$9:I$143)","v":0},{"$f":"_xlfn.XLOOKUP($Y28,[1]COUNTRY_INFO!$Y$9:$Y$143,[1]COUNTRY_INFO!J$9:J$143)","v":3},{"$f":"_xlfn.XLOOKUP($Y28,[1]COUNTRY_INFO!$Y$9:$Y$143,[1]COUNTRY_INFO!K$9:K$143)","v":2},true,true,true,true,null,null,null,{"$f":"_xlfn.XLOOKUP($Y28,[2]Sheet1!$B$4:$B$41,[2]Sheet1!$D$4:$D$41)","v":{"$error":"#N/A"}},2]
[{"$f":"IF(INTRO!$E$33<>0,INTRO!$E$33, \" \")","v":"Uganda"},"CENTRAL","MUBENDE",541009,{"$f":"IF(INTRO!$E$48=\"\",\"\",ROUND($D29*INTRO!$E$48,0))","v":76823},{"$f":"IF(INTRO!$E$49=\"\",\"\",ROUND($D29*INTRO!$E$49,0))","v":163385},{"$f":"IF(INTRO!$E$50=\"\",\"\",ROUND($D29*INTRO!$E$50,0))","v":281866},0,0,3,1,{"$f":"IF(INTRO!$E$37=\"Endemic\",IF($H29>0,IF($H29=4,\"Unknown\",IF($H29=99,\"Stopped\",$D29)),0),\"Not required\")","v":"Not required"},{"$f":"IF(INTRO!$E$39=\"Endemic\", IF($I29>0, IF($I29=4,\"Unknown\",IF($I29=99,\"Stopped\",$D29)), 0),\"Not required\")","v":0},{"$f":"IF(INTRO!$E$41=\"Endemic\", IF(AND($J29>1,$J29<5), IF($J29=4, \"Unknown\", E29+F29), 0),\"Not required\")","v":240208},{"$f":"IF(INTRO!$E$43=\"Endemic\", IF(AND($K29>0,$K29<5), IF($K29=4,\"Unknown\", IF($K29=1, $F29*0.33, IF($K29=2, $F29*0.5+$G29*0.2, SUM(F29:G29)))), 0),\"Not required\")","v":53917.05},0,0,2,1,null,null,null,null,"Yes",49790,"MUBENDE",null,null,null,null,0,null,6.1520047875523645,{"$f":"_xlfn.XLOOKUP(Y29,[1]COUNTRY_INFO!$Y$9:$Y$143,[1]COUNTRY_INFO!$D$9:$D$143)","v":509655},{"$f":"_xlfn.XLOOKUP(Y29,[1]COUNTRY_INFO!$Y$9:$Y$143,[1]COUNTRY_INFO!$D$9:$D$143)","v":509655},null,null,{"$f":"_xlfn.XLOOKUP($Y29,[1]COUNTRY_INFO!$Y$9:$Y$143,[1]COUNTRY_INFO!H$9:H$143)","v":0},{"$f":"_xlfn.XLOOKUP($Y29,[1]COUNTRY_INFO!$Y$9:$Y$143,[1]COUNTRY_INFO!I$9:I$143)","v":0},{"$f":"_xlfn.XLOOKUP($Y29,[1]COUNTRY_INFO!$Y$9:$Y$143,[1]COUNTRY_INFO!J$9:J$143)","v":3},{"$f":"_xlfn.XLOOKUP($Y29,[1]COUNTRY_INFO!$Y$9:$Y$143,[1]COUNTRY_INFO!K$9:K$143)","v":1},true,true,true,true,null,null,null,{"$f":"_xlfn.XLOOKUP($Y29,[2]Sheet1!$B$4:$B$41,[2]Sheet1!$D$4:$D$41)","v":{"$error":"#N/A"}},1]
[{"$f":"IF(INTRO!$E$33<>0,INTRO!$E$33, \" \")","v":"Uganda"},"CENTRAL","MUKONO",784676,{"$f":"IF(INTRO!$E$48=\"\",\"\",ROUND($D30*INTRO!$E$48,0))","v":111424},{"$f":"IF(INTRO!$E$49=\"\",\"\",ROUND($D30*INTRO!$E$49,0))","v":236972},{"$f":"IF(INTRO!$E$50=\"\",\"\",ROUND($D30*INTRO!$E$50,0))","v":408816},0,0,3,3,{"$f":"IF(INTRO!$E$37=\"Endemic\",IF($H30>0,IF($H30=4,\"Unknown\",IF($H30=99,\"Stopped\",$D30)),0),\"Not required\")","v":"Not required"},{"$f":"IF(INTRO!$E$39=\"Endemic\", IF($I30>0, IF($I30=4,\"Unknown\",IF($I30=99,\"Stopped\",$D30)), 0),\"Not required\")","v":0},{"$f":"IF(INTRO!$E$41=\"Endemic\", IF(AND($J30>1,$J30<5), IF($J30=4, \"Unknown\", E30+F30), 0),\"Not required\")","v":348396},{"$f":"IF(INTRO!$E$43=\"Endemic\", IF(AND($K30>0,$K30<5), IF($K30=4,\"Unknown\", IF($K30=1, $F30*0.33, IF($K30=2, $F30*0.5+$G30*0.2, SUM(F30:G30)))), 0),\"Not required\")","v":645788},0,0,2,1,null,null,null,null,null,49783,"MUKONO",null,null,null,null,0,null,6.1516254668879862,{"$f":"_xlfn.XLOOKUP(Y30,[1]COUNTRY_INFO!$Y$9:$Y$143,[1]COUNTRY_INFO!$D$9:$D$143)","v":739203},{"$f":"_xlfn.XLOOKUP(Y30,[1]COUNTRY_INFO!$Y$9:$Y$143,[1]COUNTRY_INFO!$D$9:$D$143)","v":739203},null,null,{"$f":"_xlfn.XLOOKUP($Y30,[1]COUNTRY_INFO!$Y$9:$Y$143,[1]COUNTRY_INFO!H$9:H$143)","v":0},{"$f":"_xlfn.XLOOKUP($Y30,[1]COUNTRY_INFO!$Y$9:$Y$143,[1]COUNTRY_INFO!I$9:I$143)","v":0},{"$f":"_xlfn.XLOOKUP($Y30,[1]COUNTRY_INFO!$Y$9:$Y$143,[1]COUNTRY_INFO!J$9:J$143)","v":3},{"$f":"_xlfn.XLOOKUP($Y30,[1]COUNTRY_INFO!$Y$9:$Y$143,[1]COUNTRY_INFO!K$9:K$143)","v":3},true,true,true,true,null,null,null,{"$f":"_xlfn.XLOOKUP($Y30,[2]Sheet1!$B$4:$B$41,[2]Sheet1!$D$4:$D$41)","v":{"$error":"#N/A"}},3]
[{"$f":"IF(INTRO!$E$33<>0,INTRO!$E$33, \" \")","v":"Uganda"},"CENTRAL","NAKASEKE",258642,{"$f":"IF(INTRO!$E$48=\"\",\"\",ROUND($D31*INTRO!$E$48,0))","v":36727},{"$f":"IF(INTRO!$E$49=\"\",\"\",ROUND($D31*INTRO!$E$49,0))","v":78110},{"$f":"IF(INTRO!$E$50=\"\",\"\",ROUND($D31*INTRO!$E$50,0))","v":134752},0,0,3,0,{"$f":"IF(INTRO!$E$37=\"Endemic\",IF($H31>0,IF($H31=4,\"Unknown\",IF($H31=99,\"Stopped\",$D31)),0),\"Not required\")","v":"Not required"},{"$f":"IF(INTRO!$E$39=\"Endemic\", IF($I31>0, IF($I31=4,\"Unknown\",IF($I31=99,\"Stopped\",$D31)), 0),\"Not required\")","v":0},{"$f":"IF(INTRO!$E$41=\"Endemic\", IF(AND($J31>1,$J31<5), IF($J31=4, \"Unknown\", E31+F31), 0),\"Not required\")","v":114837},{"$f":"IF(INTRO!$E$43=\"Endemic\", IF(AND($K31>0,$K31<5), IF($K31=4,\"Unknown\", IF($K31=1, $F31*0.33, IF($K31=2, $F31*0.5+$G31*0.2, SUM(F31:G31)))), 0),\"Not required\")","v":0},0,0,2,0,null,null,null,null,null,49795,"NAKASEKE",null,null,null,null,0,null,6.1543954984054805,{"$f":"_xlfn.XLOOKUP(Y31,[1]COUNTRY_INFO!$Y$9:$Y$143,[1]COUNTRY_INFO!$D$9:$D$143)","v":243647},{"$f":"_xlfn.XLOOKUP(Y31,[1]COUNTRY_INFO!$Y$9:$Y$143,[1]COUNTRY_INFO!$D$9:$D$143)","v":243647},null,null,{"$f":"_xlfn.XLOOKUP($Y31,[1]COUNTRY_INFO!$Y$9:$Y$143,[1]COUNTRY_INFO!H$9:H$143)","v":0},{"$f":"_xlfn.XLOOKUP($Y31,[1]COUNTRY_INFO!$Y$9:$Y$143,[1]COUNTRY_INFO!I$9:I$143)","v":0},{"$f":"_xlfn.XLOOKUP($Y31,[1]COUNTRY_INFO!$Y$9:$Y$143,[1]COUNTRY_INFO!J$9:J$143)","v":3},{"$f":"_xlfn.XLOOKUP($Y31,[1]COUNTRY_INFO!$Y$9:$Y$143,[1]COUNTRY_INFO!K$9:K$143)","v":0},true,true,true,true,null,null,null,{"$f":"_xlfn.XLOOKUP($Y31,[2]Sheet1!$B$4:$B$41,[2]Sheet1!$D$4:$D$41)","v":{"$error":"#N/A"}},0]
[{"$f":"IF(INTRO!$E$33<>0,INTRO!$E$33, \" \")","v":"Uganda"},"CENTRAL","NAKASONGOLA",237914,{"$f":"IF(INTRO!$E$48=\"\",\"\",ROUND($D32*INTRO!$E$48,0))","v":33784},{"$f":"IF(INTRO!$E$49=\"\",\"\",ROUND($D32*INTRO!$E$49,0))","v":71850},{"$f":"IF(INTRO!$E$50=\"\",\"\",ROUND($D32*INTRO!$E$50,0))","v":123953},0,0,3,1,{"$f":"IF(INTRO!$E$37=\"Endemic\",IF($H32>0,IF($H32=4,\"Unknown\",IF($H32=99,\"Stopped\",$D32)),0),\"Not required\")","v":"Not required"},{"$f":"IF(INTRO!$E$39=\"Endemic\", IF($I32>0, IF($I32=4,\"Unknown\",IF($I32=99,\"Stopped\",$D32)), 0),\"Not required\")","v":0},{"$f":"IF(INTRO!$E$41=\"Endemic\", IF(AND($J32>1,$J32<5), IF($J32=4, \"Unknown\", E32+F32), 0),\"Not required\")","v":105634},{"$f":"IF(INTRO!$E$43=\"Endemic\", IF(AND($K32>0,$K32<5), IF($K32=4,\"Unknown\", IF($K32=1, $F32*0.33, IF($K32=2, $F32*0.5+$G32*0.2, SUM(F32:G32)))), 0),\"Not required\")","v":23710.5},0,0,2,1,null,null,null,null,null,49791,"NAKASONGOLA",null,null,null,null,0,null,6.1533175979261392,{"$f":"_xlfn.XLOOKUP(Y32,[1]COUNTRY_INFO!$Y$9:$Y$143,[1]COUNTRY_INFO!$D$9:$D$143)","v":224123},{"$f":"_xlfn.XLOOKUP(Y32,[1]COUNTRY_INFO!$Y$9:$Y$143,[1]COUNTRY_INFO!$D$9:$D$143)","v":224123},null,null,{"$f":"_xlfn.XLOOKUP($Y32,[1]COUNTRY_INFO!$Y$9:$Y$143,[1]COUNTRY_INFO!H$9:H$143)","v":0},{"$f":"_xlfn.XLOOKUP($Y32,[1]COUNTRY_INFO!$Y$9:$Y$143,[1]COUNTRY_INFO!I$9:I$143)","v":0},{"$f":"_xlfn.XLOOKUP($Y32,[1]COUNTRY_INFO!$Y$9:$Y$143,[1]COUNTRY_INFO!J$9:J$143)","v":3},{"$f":"_xlfn.XLOOKUP($Y32,[1]COUNTRY_INFO!$Y$9:$Y$143,[1]COUNTRY_INFO!K$9:K$143)","v":3},true,true,true,false,null,null,null,{"$f":"_xlfn.XLOOKUP($Y32,[2]Sheet1!$B$4:$B$41,[2]Sheet1!$D$4:$D$41)","v":3.9215686274509802},1]
[{"$f":"IF(INTRO!$E$33<>0,INTRO!$E$33, \" \")","v":"Uganda"},"CENTRAL","RAKAI",465843,{"$f":"IF(INTRO!$E$48=\"\",\"\",ROUND($D33*INTRO!$E$48,0))","v":66150},{"$f":"IF(INTRO!$E$49=\"\",\"\",ROUND($D33*INTRO!$E$49,0))","v":140685},{"$f":"IF(INTRO!$E$50=\"\",\"\",ROUND($D33*INTRO!$E$50,0))","v":242704},0,0,3,2,{"$f":"IF(INTRO!$E$37=\"Endemic\",IF($H33>0,IF($H33=4,\"Unknown\",IF($H33=99,\"Stopped\",$D33)),0),\"Not required\")","v":"Not required"},{"$f":"IF(INTRO!$E$39=\"Endemic\", IF($I33>0, IF($I33=4,\"Unknown\",IF($I33=99,\"Stopped\",$D33)), 0),\"Not required\")","v":0},{"$f":"IF(INTRO!$E$41=\"Endemic\", IF(AND($J33>1,$J33<5), IF($J33=4, \"Unknown\", E33+F33), 0),\"Not required\")","v":206835},{"$f":"IF(INTRO!$E$43=\"Endemic\", IF(AND($K33>0,$K33<5), IF($K33=4,\"Unknown\", IF($K33=1, $F33*0.33, IF($K33=2, $F33*0.5+$G33*0.2, SUM(F33:G33)))), 0),\"Not required\")","v":118883.3},0,0,2,1,null,null,null,null,null,49807,"RAKAI",null,null,null,null,0,null,6.152058243799063,{"$f":"_xlfn.XLOOKUP(Y33,[1]COUNTRY_INFO!$Y$9:$Y$143,[1]COUNTRY_INFO!$D$9:$D$143)","v":438845},{"$f":"_xlfn.XLOOKUP(Y33,[1]COUNTRY_INFO!$Y$9:$Y$143,[1]COUNTRY_INFO!$D$9:$D$143)","v":438845},null,null,{"$f":"_xlfn.XLOOKUP($Y33,[1]COUNTRY_INFO!$Y$9:$Y$143,[1]COUNTRY_INFO!H$9:H$143)","v":0},{"$f":"_xlfn.XLOOKUP($Y33,[1]COUNTRY_INFO!$Y$9:$Y$143,[1]COUNTRY_INFO!I$9:I$143)","v":0},{"$f":"_xlfn.XLOOKUP($Y33,[1]COUNTRY_INFO!$Y$9:$Y$143,[1]COUNTRY_INFO!J$9:J$143)","v":3},{"$f":"_xlfn.XLOOKUP($Y33,[1]COUNTRY_INFO!$Y$9:$Y$143,[1]COUNTRY_INFO!K$9:K$143)","v":1},true,true,true,false,null,null,null,{"$f":"_xlfn.XLOOKUP($Y33,[2]Sheet1!$B$4:$B$41,[2]Sheet1!$D$4:$D$41)","v":18},2]
[{"$f":"IF(INTRO!$E$33<>0,INTRO!$E$33, \" \")","v":"Uganda"},"CENTRAL","SEMBABULE",330969,{"$f":"IF(INTRO!$E$48=\"\",\"\",ROUND($D34*INTRO!$E$48,0))","v":46998},{"$f":"IF(INTRO!$E$49=\"\",\"\",ROUND($D34*INTRO!$E$49,0))","v":99953},{"$f":"IF(INTRO!$E$50=\"\",\"\",ROUND($D34*INTRO!$E$50,0))","v":172435},0,0,3,0,{"$f":"IF(INTRO!$E$37=\"Endemic\",IF($H34>0,IF($H34=4,\"Unknown\",IF($H34=99,\"Stopped\",$D34)),0),\"Not required\")","v":"Not required"},{"$f":"IF(INTRO!$E$39=\"Endemic\", IF($I34>0, IF($I34=4,\"Unknown\",IF($I34=99,\"Stopped\",$D34)), 0),\"Not required\")","v":0},{"$f":"IF(INTRO!$E$41=\"Endemic\", IF(AND($J34>1,$J34<5), IF($J34=4, \"Unknown\", E34+F34), 0),\"Not required\")","v":146951},{"$f":"IF(INTRO!$E$43=\"Endemic\", IF(AND($K34>0,$K34<5), IF($K34=4,\"Unknown\", IF($K34=1, $F34*0.33, IF($K34=2, $F34*0.5+$G34*0.2, SUM(F34:G34)))), 0),\"Not required\")","v":0},0,0,2,0,null,null,null,null,null,49811,"SSEMBABULE",null,null,null,null,0,null,6.1526175004650625,{"$f":"_xlfn.XLOOKUP(Y34,[1]COUNTRY_INFO!$Y$9:$Y$143,[1]COUNTRY_INFO!$D$9:$D$143)","v":311786},{"$f":"_xlfn.XLOOKUP(Y34,[1]COUNTRY_INFO!$Y$9:$Y$143,[1]COUNTRY_INFO!$D$9:$D$143)","v":311786},null,null,{"$f":"_xlfn.XLOOKUP($Y34,[1]COUNTRY_INFO!$Y$9:$Y$143,[1]COUNTRY_INFO!H$9:H$143)","v":0},{"$f":"_xlfn.XLOOKUP($Y34,[1]COUNTRY_INFO!$Y$9:$Y$143,[1]COUNTRY_INFO!I$9:I$143)","v":0},{"$f":"_xlfn.XLOOKUP($Y34,[1]COUNTRY_INFO!$Y$9:$Y$143,[1]COUNTRY_INFO!J$9:J$143)","v":3},{"$f":"_xlfn.XLOOKUP($Y34,[1]COUNTRY_INFO!$Y$9:$Y$143,[1]COUNTRY_INFO!K$9:K$143)","v":0},true,true,true,true,null,null,null,{"$f":"_xlfn.XLOOKUP($Y34,[2]Sheet1!$B$4:$B$41,[2]Sheet1!$D$4:$D$41)","v":{"$error":"#N/A"}},0]
[{"$f":"IF(INTRO!$E$33<>0,INTRO!$E$33, \" \")","v":"Uganda"},"CENTRAL","WAKISO",2626475,{"$f":"IF(INTRO!$E$48=\"\",\"\",ROUND($D35*INTRO!$E$48,0))","v":372959},{"$f":"IF(INTRO!$E$49=\"\",\"\",ROUND($D35*INTRO!$E$49,0))","v":793195},{"$f":"IF(INTRO!$E$50=\"\",\"\",ROUND($D35*INTRO!$E$50,0))","v":1368393},0,0,3,3,{"$f":"IF(INTRO!$E$37=\"Endemic\",IF($H35>0,IF($H35=4,\"Unknown\",IF($H35=99,\"Stopped\",$D35)),0),\"Not required\")","v":"Not required"},{"$f":"IF(INTRO!$E$39=\"Endemic\", IF($I35>0, IF($I35=4,\"Unknown\",IF($I35=99,\"Stopped\",$D35)), 0),\"Not required\")","v":0},{"$f":"IF(INTRO!$E$41=\"Endemic\", IF(AND($J35>1,$J35<5), IF($J35=4, \"Unknown\", E35+F35), 0),\"Not required\")","v":1166154},{"$f":"IF(INTRO!$E$43=\"Endemic\", IF(AND($K35>0,$K35<5), IF($K35=4,\"Unknown\", IF($K35=1, $F35*0.33, IF($K35=2, $F35*0.5+$G35*0.2, SUM(F35:G35)))), 0),\"Not required\")","v":2161588},0,0,2,1,null,null,null,null,null,49815,"WAKISO",null,null,null,null,0,null,6.1518974756503049,{"$f":"_xlfn.XLOOKUP(Y35,[1]COUNTRY_INFO!$Y$9:$Y$143,[1]COUNTRY_INFO!$D$9:$D$143)","v":2474261},{"$f":"_xlfn.XLOOKUP(Y35,[1]COUNTRY_INFO!$Y$9:$Y$143,[1]COUNTRY_INFO!$D$9:$D$143)","v":2474261},null,null,{"$f":"_xlfn.XLOOKUP($Y35,[1]COUNTRY_INFO!$Y$9:$Y$143,[1]COUNTRY_INFO!H$9:H$143)","v":0},{"$f":"_xlfn.XLOOKUP($Y35,[1]COUNTRY_INFO!$Y$9:$Y$143,[1]COUNTRY_INFO!I$9:I$143)","v":0},{"$f":"_xlfn.XLOOKUP($Y35,[1]COUNTRY_INFO!$Y$9:$Y$143,[1]COUNTRY_INFO!J$9:J$143)","v":3},{"$f":"_xlfn.XLOOKUP($Y35,[1]COUNTRY_INFO!$Y$9:$Y$143,[1]COUNTRY_INFO!K$9:K$143)","v":3},true,true,true,true,null,null,null,{"$f":"_xlfn.XLOOKUP($Y35,[2]Sheet1!$B$4:$B$41,[2]Sheet1!$D$4:$D$41)","v":{"$error":"#N/A"}},3]
[{"$f":"IF(INTRO!$E$33<>0,INTRO!$E$33, \" \")","v":"Uganda"},"EASTERN","AMURIA",239409,{"$f":"IF(INTRO!$E$48=\"\",\"\",ROUND($D36*INTRO!$E$48,0))","v":33996},{"$f":"IF(INTRO!$E$49=\"\",\"\",ROUND($D36*INTRO!$E$49,0))","v":72302},{"$f":"IF(INTRO!$E$50=\"\",\"\",ROUND($D36*INTRO!$E$50,0))","v":124732},99,0,3,0,{"$f":"IF(INTRO!$E$37=\"Endemic\",IF($H36>0,IF($H36=4,\"Unknown\",IF($H36=99,\"Stopped\",$D36)),0),\"Not required\")","v":"Not required"},{"$f":"IF(INTRO!$E$39=\"Endemic\", IF($I36>0, IF($I36=4,\"Unknown\",IF($I36=99,\"Stopped\",$D36)), 0),\"Not required\")","v":0},{"$f":"IF(INTRO!$E$41=\"Endemic\", IF(AND($J36>1,$J36<5), IF($J36=4, \"Unknown\", E36+F36), 0),\"Not required\")","v":106298},{"$f":"IF(INTRO!$E$43=\"Endemic\", IF(AND($K36>0,$K36<5), IF($K36=4,\"Unknown\", IF($K36=1, $F36*0.33, IF($K36=2, $F36*0.5+$G36*0.2, SUM(F36:G36)))), 0),\"Not required\")","v":0},0,0,2,0,null,null,null,null,null,49709,"AMURIA",null,null,null,null,99,null,6.1515950961048169,{"$f":"_xlfn.XLOOKUP(Y36,[1]COUNTRY_INFO!$Y$9:$Y$143,[1]COUNTRY_INFO!$D$9:$D$143)","v":225535},{"$f":"_xlfn.XLOOKUP(Y36,[1]COUNTRY_INFO!$Y$9:$Y$143,[1]COUNTRY_INFO!$D$9:$D$143)","v":225535},null,null,{"$f":"_xlfn.XLOOKUP($Y36,[1]COUNTRY_INFO!$Y$9:$Y$143,[1]COUNTRY_INFO!H$9:H$143)","v":99},{"$f":"_xlfn.XLOOKUP($Y36,[1]COUNTRY_INFO!$Y$9:$Y$143,[1]COUNTRY_INFO!I$9:I$143)","v":0},{"$f":"_xlfn.XLOOKUP($Y36,[1]COUNTRY_INFO!$Y$9:$Y$143,[1]COUNTRY_INFO!J$9:J$143)","v":3},{"$f":"_xlfn.XLOOKUP($Y36,[1]COUNTRY_INFO!$Y$9:$Y$143,[1]COUNTRY_INFO!K$9:K$143)","v":0},true,true,true,true,null,null,null,{"$f":"_xlfn.XLOOKUP($Y36,[2]Sheet1!$B$4:$B$41,[2]Sheet1!$D$4:$D$41)","v":{"$error":"#N/A"}},0]
[{"$f":"IF(INTRO!$E$33<>0,INTRO!$E$33, \" \")","v":"Uganda"},"EASTERN","BUDAKA",272680,{"$f":"IF(INTRO!$E$48=\"\",\"\",ROUND($D37*INTRO!$E$48,0))","v":38721},{"$f":"IF(INTRO!$E$49=\"\",\"\",ROUND($D37*INTRO!$E$49,0))","v":82349},{"$f":"IF(INTRO!$E$50=\"\",\"\",ROUND($D37*INTRO!$E$50,0))","v":142066},99,0,3,2,{"$f":"IF(INTRO!$E$37=\"Endemic\",IF($H37>0,IF($H37=4,\"Unknown\",IF($H37=99,\"Stopped\",$D37)),0),\"Not required\")","v":"Not required"},{"$f":"IF(INTRO!$E$39=\"Endemic\", IF($I37>0, IF($I37=4,\"Unknown\",IF($I37=99,\"Stopped\",$D37)), 0),\"Not required\")","v":0},{"$f":"IF(INTRO!$E$41=\"Endemic\", IF(AND($J37>1,$J37<5), IF($J37=4, \"Unknown\", E37+F37), 0),\"Not required\")","v":121070},{"$f":"IF(INTRO!$E$43=\"Endemic\", IF(AND($K37>0,$K37<5), IF($K37=4,\"Unknown\", IF($K37=1, $F37*0.33, IF($K37=2, $F37*0.5+$G37*0.2, SUM(F37:G37)))), 0),\"Not required\")","v":69587.7},0,0,2,1,null,null,null,null,null,49716,"BUDAKA",null,null,null,null,99,null,6.1523848082343227,{"$f":"_xlfn.XLOOKUP(Y37,[1]COUNTRY_INFO!$Y$9:$Y$143,[1]COUNTRY_INFO!$D$9:$D$143)","v":256876},{"$f":"_xlfn.XLOOKUP(Y37,[1]COUNTRY_INFO!$Y$9:$Y$143,[1]COUNTRY_INFO!$D$9:$D$143)","v":256876},null,null,{"$f":"_xlfn.XLOOKUP($Y37,[1]COUNTRY_INFO!$Y$9:$Y$143,[1]COUNTRY_INFO!H$9:H$143)","v":99},{"$f":"_xlfn.XLOOKUP($Y37,[1]COUNTRY_INFO!$Y$9:$Y$143,[1]COUNTRY_INFO!I$9:I$143)","v":0},{"$f":"_xlfn.XLOOKUP($Y37,[1]COUNTRY_INFO!$Y$9:$Y$143,[1]COUNTRY_INFO!J$9:J$143)","v":3},{"$f":"_xlfn.XLOOKUP($Y37,[1]COUNTRY_INFO!$Y$9:$Y$143,[1]COUNTRY_INFO!K$9:K$143)","v":1},true,true,true,false,null,null,null,{"$f":"_xlfn.XLOOKUP($Y37,[2]Sheet1!$B$4:$B$41,[2]Sheet1!$D$4:$D$41)","v":34},2]
[{"$f":"IF(INTRO!$E$33<>0,INTRO!$E$33, \" \")","v":"Uganda"},"EASTERN","BUDUDA",276930,{"$f":"IF(INTRO!$E$48=\"\",\"\",ROUND($D38*INTRO!$E$48,0))","v":39324},{"$f":"IF(INTRO!$E$49=\"\",\"\",ROUND($D38*INTRO!$E$49,0))","v":83633},{"$f":"IF(INTRO!$E$50=\"\",\"\",ROUND($D38*INTRO!$E$50,0))","v":144281},0,99,3,0,{"$f":"IF(INTRO!$E$37=\"Endemic\",IF($H38>0,IF($H38=4,\"Unknown\",IF($H38=99,\"Stopped\",$D38)),0),\"Not required\")","v":"Not required"},{"$f":"IF(INTRO!$E$39=\"Endemic\", IF($I38>0, IF($I38=4,\"Unknown\",IF($I38=99,\"Stopped\",$D38)), 0),\"Not required\")","v":"Stopped"},{"$f":"IF(INTRO!$E$41=\"Endemic\", IF(AND($J38>1,$J38<5), IF($J38=4, \"Unknown\", E38+F38), 0),\"Not required\")","v":122957},{"$f":"IF(INTRO!$E$43=\"Endemic\", IF(AND($K38>0,$K38<5), IF($K38=4,\"Unknown\", IF($K38=1, $F38*0.33, IF($K38=2, $F38*0.5+$G38*0.2, SUM(F38:G38)))), 0),\"Not required\")","v":0},0,0,2,0,null,null,null,null,null,49717,"BUDUDA",null,null,null,null,0,null,6.153881537588739,{"$f":"_xlfn.XLOOKUP(Y38,[1]COUNTRY_INFO!$Y$9:$Y$143,[1]COUNTRY_INFO!$D$9:$D$143)","v":260876},{"$f":"_xlfn.XLOOKUP(Y38,[1]COUNTRY_INFO!$Y$9:$Y$143,[1]COUNTRY_INFO!$D$9:$D$143)","v":260876},null,null,{"$f":"_xlfn.XLOOKUP($Y38,[1]COUNTRY_INFO!$Y$9:$Y$143,[1]COUNTRY_INFO!H$9:H$143)","v":0},{"$f":"_xlfn.XLOOKUP($Y38,[1]COUNTRY_INFO!$Y$9:$Y$143,[1]COUNTRY_INFO!I$9:I$143)","v":99},{"$f":"_xlfn.XLOOKUP($Y38,[1]COUNTRY_INFO!$Y$9:$Y$143,[1]COUNTRY_INFO!J$9:J$143)","v":3},{"$f":"_xlfn.XLOOKUP($Y38,[1]COUNTRY_INFO!$Y$9:$Y$143,[1]COUNTRY_INFO!K$9:K$143)","v":0},true,true,true,true,null,null,null,{"$f":"_xlfn.XLOOKUP($Y38,[2]Sheet1!$B$4:$B$41,[2]Sheet1!$D$4:$D$41)","v":{"$error":"#N/A"}},0]
[{"$f":"IF(INTRO!$E$33<>0,INTRO!$E$33, \" \")","v":"Uganda"},"EASTERN","BUGIRI",510303,{"$f":"IF(INTRO!$E$48=\"\",\"\",ROUND($D39*INTRO!$E$48,0))","v":72463},{"$f":"IF(INTRO!$E$49=\"\",\"\",ROUND($D39*INTRO!$E$49,0))","v":154112},{"$f":"IF(INTRO!$E$50=\"\",\"\",ROUND($D39*INTRO!$E$50,0))","v":265868},99,0,3,2,{"$f":"IF(INTRO!$E$37=\"Endemic\",IF($H39>0,IF($H39=4,\"Unknown\",IF($H39=99,\"Stopped\",$D39)),0),\"Not required\")","v":"Not required"},{"$f":"IF(INTRO!$E$39=\"Endemic\", IF($I39>0, IF($I39=4,\"Unknown\",IF($I39=99,\"Stopped\",$D39)), 0),\"Not required\")","v":0},{"$f":"IF(INTRO!$E$41=\"Endemic\", IF(AND($J39>1,$J39<5), IF($J39=4, \"Unknown\", E39+F39), 0),\"Not required\")","v":226575},{"$f":"IF(INTRO!$E$43=\"Endemic\", IF(AND($K39>0,$K39<5), IF($K39=4,\"Unknown\", IF($K39=1, $F39*0.33, IF($K39=2, $F39*0.5+$G39*0.2, SUM(F39:G39)))), 0),\"Not required\")","v":130229.6},0,0,2,1,null,null,null,null,null,49718,"BUGIRI",null,null,null,null,99,null,6.1525692390259739,{"$f":"_xlfn.XLOOKUP(Y39,[1]COUNTRY_INFO!$Y$9:$Y$143,[1]COUNTRY_INFO!$D$9:$D$143)","v":480726},{"$f":"_xlfn.XLOOKUP(Y39,[1]COUNTRY_INFO!$Y$9:$Y$143,[1]COUNTRY_INFO!$D$9:$D$143)","v":480726},null,null,{"$f":"_xlfn.XLOOKUP($Y39,[1]COUNTRY_INFO!$Y$9:$Y$143,[1]COUNTRY_INFO!H$9:H$143)","v":99},{"$f":"_xlfn.XLOOKUP($Y39,[1]COUNTRY_INFO!$Y$9:$Y$143,[1]COUNTRY_INFO!I$9:I$143)","v":0},{"$f":"_xlfn.XLOOKUP($Y39,[1]COUNTRY_INFO!$Y$9:$Y$143,[1]COUNTRY_INFO!J$9:J$143)","v":3},{"$f":"_xlfn.XLOOKUP($Y39,[1]COUNTRY_INFO!$Y$9:$Y$143,[1]COUNTRY_INFO!K$9:K$143)","v":2},true,true,true,true,null,null,null,{"$f":"_xlfn.XLOOKUP($Y39,[2]Sheet1!$B$4:$B$41,[2]Sheet1!$D$4:$D$41)","v":{"$error":"#N/A"}},2]
[{"$f":"IF(INTRO!$E$33<>0,INTRO!$E$33, \" \")","v":"Uganda"},"EASTERN","BUGWERI",220913,{"$f":"IF(INTRO!$E$48=\"\",\"\",ROUND($D40*INTRO!$E$48,0))","v":31370},{"$f":"IF(INTRO!$E$49=\"\",\"\",ROUND($D40*INTRO!$E$49,0))","v":66716},{"$f":"IF(INTRO!$E$50=\"\",\"\",ROUND($D40*INTRO!$E$50,0))","v":115096},99,0,3,2,{"$f":"IF(INTRO!$E$37=\"Endemic\",IF($H40>0,IF($H40=4,\"Unknown\",IF($H40=99,\"Stopped\",$D40)),0),\"Not required\")","v":"Not required"},{"$f":"IF(INTRO!$E$39=\"Endemic\", IF($I40>0, IF($I40=4,\"Unknown\",IF($I40=99,\"Stopped\",$D40)), 0),\"Not required\")","v":0},{"$f":"IF(INTRO!$E$41=\"Endemic\", IF(AND($J40>1,$J40<5), IF($J40=4, \"Unknown\", E40+F40), 0),\"Not required\")","v":98086},{"$f":"IF(INTRO!$E$43=\"Endemic\", IF(AND($K40>0,$K40<5), IF($K40=4,\"Unknown\", IF($K40=1, $F40*0.33, IF($K40=2, $F40*0.5+$G40*0.2, SUM(F40:G40)))), 0),\"Not required\")","v":56377.2},0,0,2,1,null,null,null,null,"Yes",49833,"BUGWERI",null,null,null,null,99,null,6.1520349815001678,{"$f":"_xlfn.XLOOKUP(Y40,[1]COUNTRY_INFO!$Y$9:$Y$143,[1]COUNTRY_INFO!$D$9:$D$143)","v":208110},{"$f":"_xlfn.XLOOKUP(Y40,[1]COUNTRY_INFO!$Y$9:$Y$143,[1]COUNTRY_INFO!$D$9:$D$143)","v":208110},null,null,{"$f":"_xlfn.XLOOKUP($Y40,[1]COUNTRY_INFO!$Y$9:$Y$143,[1]COUNTRY_INFO!H$9:H$143)","v":99},{"$f":"_xlfn.XLOOKUP($Y40,[1]COUNTRY_INFO!$Y$9:$Y$143,[1]COUNTRY_INFO!I$9:I$143)","v":0},{"$f":"_xlfn.XLOOKUP($Y40,[1]COUNTRY_INFO!$Y$9:$Y$143,[1]COUNTRY_INFO!J$9:J$143)","v":3},{"$f":"_xlfn.XLOOKUP($Y40,[1]COUNTRY_INFO!$Y$9:$Y$143,[1]COUNTRY_INFO!K$9:K$143)","v":2},true,true,true,true,null,null,null,{"$f":"_xlfn.XLOOKUP($Y40,[2]Sheet1!$B$4:$B$41,[2]Sheet1!$D$4:$D$41)","v":{"$error":"#N/A"}},{"$f":"AO40","v":2}]
[{"$f":"IF(INTRO!$E$33<>0,INTRO!$E$33, \" \")","v":"Uganda"},"EASTERN","BUKEDEA",247140,{"$f":"IF(INTRO!$E$48=\"\",\"\",ROUND($D41*INTRO!$E$48,0))","v":35094},{"$f":"IF(INTRO!$E$49=\"\",\"\",ROUND($D41*INTRO!$E$49,0))","v":74636},{"$f":"IF(INTRO!$E$50=\"\",\"\",ROUND($D41*INTRO!$E$50,0))","v":128760},99,0,3,1,{"$f":"IF(INTRO!$E$37=\"Endemic\",IF($H41>0,IF($H41=4,\"Unknown\",IF($H41=99,\"Stopped\",$D41)),0),\"Not required\")","v":"Not required"},{"$f":"IF(INTRO!$E$39=\"Endemic\", IF($I41>0, IF($I41=4,\"Unknown\",IF($I41=99,\"Stopped\",$D41)), 0),\"Not required\")","v":0},{"$f":"IF(INTRO!$E$41=\"Endemic\", IF(AND($J41>1,$J41<5), IF($J41=4, \"Unknown\", E41+F41), 0),\"Not required\")","v":109730},{"$f":"IF(INTRO!$E$43=\"Endemic\", IF(AND($K41>0,$K41<5), IF($K41=4,\"Unknown\", IF($K41=1, $F41*0.33, IF($K41=2, $F41*0.5+$G41*0.2, SUM(F41:G41)))), 0),\"Not required\")","v":24629.88},0,0,2,1,null,null,null,null,null,49719,"BUKEDEA",null,null,null,null,99,null,6.1502184081332869,{"$f":"_xlfn.XLOOKUP(Y41,[1]COUNTRY_INFO!$Y$9:$Y$143,[1]COUNTRY_INFO!$D$9:$D$143)","v":232821},{"$f":"_xlfn.XLOOKUP(Y41,[1]COUNTRY_INFO!$Y$9:$Y$143,[1]COUNTRY_INFO!$D$9:$D$143)","v":232821},null,null,{"$f":"_xlfn.XLOOKUP($Y41,[1]COUNTRY_INFO!$Y$9:$Y$143,[1]COUNTRY_INFO!H$9:H$143)","v":99},{"$f":"_xlfn.XLOOKUP($Y41,[1]COUNTRY_INFO!$Y$9:$Y$143,[1]COUNTRY_INFO!I$9:I$143)","v":0},{"$f":"_xlfn.XLOOKUP($Y41,[1]COUNTRY_INFO!$Y$9:$Y$143,[1]COUNTRY_INFO!J$9:J$143)","v":3},{"$f":"_xlfn.XLOOKUP($Y41,[1]COUNTRY_INFO!$Y$9:$Y$143,[1]COUNTRY_INFO!K$9:K$143)","v":1},true,true,true,true,null,null,null,{"$f":"_xlfn.XLOOKUP($Y41,[2]Sheet1!$B$4:$B$41,[2]Sheet1!$D$4:$D$41)","v":4},1]
[{"$f":"IF(INTRO!$E$33<>0,INTRO!$E$33, \" \")","v":"Uganda"},"EASTERN","BUKWO",116762,{"$f":"IF(INTRO!$E$48=\"\",\"\",ROUND($D42*INTRO!$E$48,0))","v":16580},{"$f":"IF(INTRO!$E$49=\"\",\"\",ROUND($D42*INTRO!$E$49,0))","v":35262},{"$f":"IF(INTRO!$E$50=\"\",\"\",ROUND($D42*INTRO!$E$50,0))","v":60833},0,0,3,0,{"$f":"IF(INTRO!$E$37=\"Endemic\",IF($H42>0,IF($H42=4,\"Unknown\",IF($H42=99,\"Stopped\",$D42)),0),\"Not required\")","v":"Not required"},{"$f":"IF(INTRO!$E$39=\"Endemic\", IF($I42>0, IF($I42=4,\"Unknown\",IF($I42=99,\"Stopped\",$D42)), 0),\"Not required\")","v":0},{"$f":"IF(INTRO!$E$41=\"Endemic\", IF(AND($J42>1,$J42<5), IF($J42=4, \"Unknown\", E42+F42), 0),\"Not required\")","v":51842},{"$f":"IF(INTRO!$E$43=\"Endemic\", IF(AND($K42>0,$K42<5), IF($K42=4,\"Unknown\", IF($K42=1, $F42*0.33, IF($K42=2, $F42*0.5+$G42*0.2, SUM(F42:G42)))), 0),\"Not required\")","v":0},0,0,2,0,null,null,null,null,null,49727,"BUKWO",null,null,null,null,0,null,6.1530628943396914,{"$f":"_xlfn.XLOOKUP(Y42,[1]COUNTRY_INFO!$Y$9:$Y$143,[1]COUNTRY_INFO!$D$9:$D$143)","v":109994},{"$f":"_xlfn.XLOOKUP(Y42,[1]COUNTRY_INFO!$Y$9:$Y$143,[1]COUNTRY_INFO!$D$9:$D$143)","v":109994},null,null,{"$f":"_xlfn.XLOOKUP($Y42,[1]COUNTRY_INFO!$Y$9:$Y$143,[1]COUNTRY_INFO!H$9:H$143)","v":0},{"$f":"_xlfn.XLOOKUP($Y42,[1]COUNTRY_INFO!$Y$9:$Y$143,[1]COUNTRY_INFO!I$9:I$143)","v":0},{"$f":"_xlfn.XLOOKUP($Y42,[1]COUNTRY_INFO!$Y$9:$Y$143,[1]COUNTRY_INFO!J$9:J$143)","v":3},{"$f":"_xlfn.XLOOKUP($Y42,[1]COUNTRY_INFO!$Y$9:$Y$143,[1]COUNTRY_INFO!K$9:K$143)","v":0},true,true,true,true,null,null,null,{"$f":"_xlfn.XLOOKUP($Y42,[2]Sheet1!$B$4:$B$41,[2]Sheet1!$D$4:$D$41)","v":{"$error":"#N/A"}},0]
[{"$f":"IF(INTRO!$E$33<>0,INTRO!$E$33, \" \")","v":"Uganda"},"EASTERN","BULAMBULI",231974,{"$f":"IF(INTRO!$E$48=\"\",\"\",ROUND($D43*INTRO!$E$48,0))","v":32940},{"$f":"IF(INTRO!$E$49=\"\",\"\",ROUND($D43*INTRO!$E$49,0))","v":70056},{"$f":"IF(INTRO!$E$50=\"\",\"\",ROUND($D43*INTRO!$E$50,0))","v":120858},0,0,3,2,{"$f":"IF(INTRO!$E$37=\"Endemic\",IF($H43>0,IF($H43=4,\"Unknown\",IF($H43=99,\"Stopped\",$D43)),0),\"Not required\")","v":"Not required"},{"$f":"IF(INTRO!$E$39=\"Endemic\", IF($I43>0, IF($I43=4,\"Unknown\",IF($I43=99,\"Stopped\",$D43)), 0),\"Not required\")","v":0},{"$f":"IF(INTRO!$E$41=\"Endemic\", IF(AND($J43>1,$J43<5), IF($J43=4, \"Unknown\", E43+F43), 0),\"Not required\")","v":102996},{"$f":"IF(INTRO!$E$43=\"Endemic\", IF(AND($K43>0,$K43<5), IF($K43=4,\"Unknown\", IF($K43=1, $F43*0.33, IF($K43=2, $F43*0.5+$G43*0.2, SUM(F43:G43)))), 0),\"Not required\")","v":59199.600000000006},0,0,2,1,null,null,null,null,"Yes",49728,"BULAMBULI",null,null,null,null,0,null,6.1505584968860534,{"$f":"_xlfn.XLOOKUP(Y43,[1]COUNTRY_INFO!$Y$9:$Y$143,[1]COUNTRY_INFO!$D$9:$D$143)","v":218533},{"$f":"_xlfn.XLOOKUP(Y43,[1]COUNTRY_INFO!$Y$9:$Y$143,[1]COUNTRY_INFO!$D$9:$D$143)","v":218533},null,null,{"$f":"_xlfn.XLOOKUP($Y43,[1]COUNTRY_INFO!$Y$9:$Y$143,[1]COUNTRY_INFO!H$9:H$143)","v":0},{"$f":"_xlfn.XLOOKUP($Y43,[1]COUNTRY_INFO!$Y$9:$Y$143,[1]COUNTRY_INFO!I$9:I$143)","v":0},{"$f":"_xlfn.XLOOKUP($Y43,[1]COUNTRY_INFO!$Y$9:$Y$143,[1]COUNTRY_INFO!J$9:J$143)","v":3},{"$f":"_xlfn.XLOOKUP($Y43,[1]COUNTRY_INFO!$Y$9:$Y$143,[1]COUNTRY_INFO!K$9:K$143)","v":2},true,true,true,true,null,null,null,{"$f":"_xlfn.XLOOKUP($Y43,[2]Sheet1!$B$4:$B$41,[2]Sheet1!$D$4:$D$41)","v":{"$error":"#N/A"}},{"$f":"AO43","v":2}]
[{"$f":"IF(INTRO!$E$33<>0,INTRO!$E$33, \" \")","v":"Uganda"},"EASTERN","BUSIA",425853,{"$f":"IF(INTRO!$E$48=\"\",\"\",ROUND($D44*INTRO!$E$48,0))","v":60471},{"$f":"IF(INTRO!$E$49=\"\",\"\",ROUND($D44*INTRO!$E$49,0))","v":128608},{"$f":"IF(INTRO!$E$50=\"\",\"\",ROUND($D44*INTRO!$E$50,0))","v":221869},0,0,3,3,{"$f":"IF(INTRO!$E$37=\"Endemic\",IF($H44>0,IF($H44=4,\"Unknown\",IF($H44=99,\"Stopped\",$D44)),0),\"Not required\")","v":"Not required"},{"$f":"IF(INTRO!$E$39=\"Endemic\", IF($I44>0, IF($I44=4,\"Unknown\",IF($I44=99,\"Stopped\",$D44)), 0),\"Not required\")","v":0},{"$f":"IF(INTRO!$E$41=\"Endemic\", IF(AND($J44>1,$J44<5), IF($J44=4, \"Unknown\", E44+F44), 0),\"Not required\")","v":189079},{"$f":"IF(INTRO!$E$43=\"Endemic\", IF(AND($K44>0,$K44<5), IF($K44=4,\"Unknown\", IF($K44=1, $F44*0.33, IF($K44=2, $F44*0.5+$G44*0.2, SUM(F44:G44)))), 0),\"Not required\")","v":350477},0,0,2,1,null,null,null,null,null,49723,"BUSIA",null,null,null,null,0,null,6.1519593791207283,{"$f":"_xlfn.XLOOKUP(Y44,[1]COUNTRY_INFO!$Y$9:$Y$143,[1]COUNTRY_INFO!$D$9:$D$143)","v":401173},{"$f":"_xlfn.XLOOKUP(Y44,[1]COUNTRY_INFO!$Y$9:$Y$143,[1]COUNTRY_INFO!$D$9:$D$143)","v":401173},null,null,{"$f":"_xlfn.XLOOKUP($Y44,[1]COUNTRY_INFO!$Y$9:$Y$143,[1]COUNTRY_INFO!H$9:H$143)","v":0},{"$f":"_xlfn.XLOOKUP($Y44,[1]COUNTRY_INFO!$Y$9:$Y$143,[1]COUNTRY_INFO!I$9:I$143)","v":0},{"$f":"_xlfn.XLOOKUP($Y44,[1]COUNTRY_INFO!$Y$9:$Y$143,[1]COUNTRY_INFO!J$9:J$143)","v":3},{"$f":"_xlfn.XLOOKUP($Y44,[1]COUNTRY_INFO!$Y$9:$Y$143,[1]COUNTRY_INFO!K$9:K$143)","v":3},true,true,true,true,null,null,null,{"$f":"_xlfn.XLOOKUP($Y44,[2]Sheet1!$B$4:$B$41,[2]Sheet1!$D$4:$D$41)","v":{"$error":"#N/A"}},3]
[{"$f":"IF(INTRO!$E$33<>0,INTRO!$E$33, \" \")","v":"Uganda"},"EASTERN","BUTALEJA",321653,{"$f":"IF(INTRO!$E$48=\"\",\"\",ROUND($D45*INTRO!$E$48,0))","v":45675},{"$f":"IF(INTRO!$E$49=\"\",\"\",ROUND($D45*INTRO!$E$49,0))","v":97139},{"$f":"IF(INTRO!$E$50=\"\",\"\",ROUND($D45*INTRO!$E$50,0))","v":167581},99,0,3,3,{"$f":"IF(INTRO!$E$37=\"Endemic\",IF($H45>0,IF($H45=4,\"Unknown\",IF($H45=99,\"Stopped\",$D45)),0),\"Not required\")","v":"Not required"},{"$f":"IF(INTRO!$E$39=\"Endemic\", IF($I45>0, IF($I45=4,\"Unknown\",IF($I45=99,\"Stopped\",$D45)), 0),\"Not required\")","v":0},{"$f":"IF(INTRO!$E$41=\"Endemic\", IF(AND($J45>1,$J45<5), IF($J45=4, \"Unknown\", E45+F45), 0),\"Not required\")","v":142814},{"$f":"IF(INTRO!$E$43=\"Endemic\", IF(AND($K45>0,$K45<5), IF($K45=4,\"Unknown\", IF($K45=1, $F45*0.33, IF($K45=2, $F45*0.5+$G45*0.2, SUM(F45:G45)))), 0),\"Not required\")","v":264720},0,0,2,1,null,null,null,null,null,49729,"BUTALEJA",null,null,null,null,99,null,6.1522518984459307,{"$f":"_xlfn.XLOOKUP(Y45,[1]COUNTRY_INFO!$Y$9:$Y$143,[1]COUNTRY_INFO!$D$9:$D$143)","v":303011},{"$f":"_xlfn.XLOOKUP(Y45,[1]COUNTRY_INFO!$Y$9:$Y$143,[1]COUNTRY_INFO!$D$9:$D$143)","v":303011},null,null,{"$f":"_xlfn.XLOOKUP($Y45,[1]COUNTRY_INFO!$Y$9:$Y$143,[1]COUNTRY_INFO!H$9:H$143)","v":99},{"$f":"_xlfn.XLOOKUP($Y45,[1]COUNTRY_INFO!$Y$9:$Y$143,[1]COUNTRY_INFO!I$9:I$143)","v":0},{"$f":"_xlfn.XLOOKUP($Y45,[1]COUNTRY_INFO!$Y$9:$Y$143,[1]COUNTRY_INFO!J$9:J$143)","v":3},{"$f":"_xlfn.XLOOKUP($Y45,[1]COUNTRY_INFO!$Y$9:$Y$143,[1]COUNTRY_INFO!K$9:K$143)","v":1},true,true,true,false,null,null,null,{"$f":"_xlfn.XLOOKUP($Y45,[2]Sheet1!$B$4:$B$41,[2]Sheet1!$D$4:$D$41)","v":50},3]
[{"$f":"IF(INTRO!$E$33<>0,INTRO!$E$33, \" \")","v":"Uganda"},"EASTERN","BUTEBO",188744,{"$f":"IF(INTRO!$E$48=\"\",\"\",ROUND($D46*INTRO!$E$48,0))","v":26802},{"$f":"IF(INTRO!$E$49=\"\",\"\",ROUND($D46*INTRO!$E$49,0))","v":57001},{"$f":"IF(INTRO!$E$50=\"\",\"\",ROUND($D46*INTRO!$E$50,0))","v":98336},99,0,3,3,{"$f":"IF(INTRO!$E$37=\"Endemic\",IF($H46>0,IF($H46=4,\"Unknown\",IF($H46=99,\"Stopped\",$D46)),0),\"Not required\")","v":"Not required"},{"$f":"IF(INTRO!$E$39=\"Endemic\", IF($I46>0, IF($I46=4,\"Unknown\",IF($I46=99,\"Stopped\",$D46)), 0),\"Not required\")","v":0},{"$f":"IF(INTRO!$E$41=\"Endemic\", IF(AND($J46>1,$J46<5), IF($J46=4, \"Unknown\", E46+F46), 0),\"Not required\")","v":83803},{"$f":"IF(INTRO!$E$43=\"Endemic\", IF(AND($K46>0,$K46<5), IF($K46=4,\"Unknown\", IF($K46=1, $F46*0.33, IF($K46=2, $F46*0.5+$G46*0.2, SUM(F46:G46)))), 0),\"Not required\")","v":155337},0,0,2,1,null,null,null,null,null,49824,"BUTEBO",null,null,null,null,99,null,6.1480664971992898,{"$f":"_xlfn.XLOOKUP(Y46,[1]COUNTRY_INFO!$Y$9:$Y$143,[1]COUNTRY_INFO!$D$9:$D$143)","v":177812},{"$f":"_xlfn.XLOOKUP(Y46,[1]COUNTRY_INFO!$Y$9:$Y$143,[1]COUNTRY_INFO!$D$9:$D$143)","v":177812},null,null,{"$f":"_xlfn.XLOOKUP($Y46,[1]COUNTRY_INFO!$Y$9:$Y$143,[1]COUNTRY_INFO!H$9:H$143)","v":99},{"$f":"_xlfn.XLOOKUP($Y46,[1]COUNTRY_INFO!$Y$9:$Y$143,[1]COUNTRY_INFO!I$9:I$143)","v":0},{"$f":"_xlfn.XLOOKUP($Y46,[1]COUNTRY_INFO!$Y$9:$Y$143,[1]COUNTRY_INFO!J$9:J$143)","v":3},{"$f":"_xlfn.XLOOKUP($Y46,[1]COUNTRY_INFO!$Y$9:$Y$143,[1]COUNTRY_INFO!K$9:K$143)","v":1},true,true,true,false,null,null,null,{"$f":"_xlfn.XLOOKUP($Y46,[2]Sheet1!$B$4:$B$41,[2]Sheet1!$D$4:$D$41)","v":70},3]
[{"$f":"IF(INTRO!$E$33<>0,INTRO!$E$33, \" \")","v":"Uganda"},"EASTERN","BUYENDE",419234,{"$f":"IF(INTRO!$E$48=\"\",\"\",ROUND($D47*INTRO!$E$48,0))","v":59531},{"$f":"IF(INTRO!$E$49=\"\",\"\",ROUND($D47*INTRO!$E$49,0))","v":126609},{"$f":"IF(INTRO!$E$50=\"\",\"\",ROUND($D47*INTRO!$E$50,0))","v":218421},99,0,3,3,{"$f":"IF(INTRO!$E$37=\"Endemic\",IF($H47>0,IF($H47=4,\"Unknown\",IF($H47=99,\"Stopped\",$D47)),0),\"Not required\")","v":"Not required"},{"$f":"IF(INTRO!$E$39=\"Endemic\", IF($I47>0, IF($I47=4,\"Unknown\",IF($I47=99,\"Stopped\",$D47)), 0),\"Not required\")","v":0},{"$f":"IF(INTRO!$E$41=\"Endemic\", IF(AND($J47>1,$J47<5), IF($J47=4, \"Unknown\", E47+F47), 0),\"Not required\")","v":186140},{"$f":"IF(INTRO!$E$43=\"Endemic\", IF(AND($K47>0,$K47<5), IF($K47=4,\"Unknown\", IF($K47=1, $F47*0.33, IF($K47=2, $F47*0.5+$G47*0.2, SUM(F47:G47)))), 0),\"Not required\")","v":345030},0,0,2,1,null,null,null,null,null,49732,"BUYENDE",null,null,null,null,99,null,6.1518516830489842,{"$f":"_xlfn.XLOOKUP(Y47,[1]COUNTRY_INFO!$Y$9:$Y$143,[1]COUNTRY_INFO!$D$9:$D$143)","v":394938},{"$f":"_xlfn.XLOOKUP(Y47,[1]COUNTRY_INFO!$Y$9:$Y$143,[1]COUNTRY_INFO!$D$9:$D$143)","v":394938},null,null,{"$f":"_xlfn.XLOOKUP($Y47,[1]COUNTRY_INFO!$Y$9:$Y$143,[1]COUNTRY_INFO!H$9:H$143)","v":99},{"$f":"_xlfn.XLOOKUP($Y47,[1]COUNTRY_INFO!$Y$9:$Y$143,[1]COUNTRY_INFO!I$9:I$143)","v":0},{"$f":"_xlfn.XLOOKUP($Y47,[1]COUNTRY_INFO!$Y$9:$Y$143,[1]COUNTRY_INFO!J$9:J$143)","v":3},{"$f":"_xlfn.XLOOKUP($Y47,[1]COUNTRY_INFO!$Y$9:$Y$143,[1]COUNTRY_INFO!K$9:K$143)","v":3},true,true,true,true,null,null,null,{"$f":"_xlfn.XLOOKUP($Y47,[2]Sheet1!$B$4:$B$41,[2]Sheet1!$D$4:$D$41)","v":{"$error":"#N/A"}},3]
[{"$f":"IF(INTRO!$E$33<>0,INTRO!$E$33, \" \")","v":"Uganda"},"EASTERN","IGANGA",441549,{"$f":"IF(INTRO!$E$48=\"\",\"\",ROUND($D48*INTRO!$E$48,0))","v":62700},{"$f":"IF(INTRO!$E$49=\"\",\"\",ROUND($D48*INTRO!$E$49,0))","v":133348},{"$f":"IF(INTRO!$E$50=\"\",\"\",ROUND($D48*INTRO!$E$50,0))","v":230047},99,0,3,1,{"$f":"IF(INTRO!$E$37=\"Endemic\",IF($H48>0,IF($H48=4,\"Unknown\",IF($H48=99,\"Stopped\",$D48)),0),\"Not required\")","v":"Not required"},{"$f":"IF(INTRO!$E$39=\"Endemic\", IF($I48>0, IF($I48=4,\"Unknown\",IF($I48=99,\"Stopped\",$D48)), 0),\"Not required\")","v":0},{"$f":"IF(INTRO!$E$41=\"Endemic\", IF(AND($J48>1,$J48<5), IF($J48=4, \"Unknown\", E48+F48), 0),\"Not required\")","v":196048},{"$f":"IF(INTRO!$E$43=\"Endemic\", IF(AND($K48>0,$K48<5), IF($K48=4,\"Unknown\", IF($K48=1, $F48*0.33, IF($K48=2, $F48*0.5+$G48*0.2, SUM(F48:G48)))), 0),\"Not required\")","v":44004.840000000004},0,0,2,1,null,null,null,null,null,49738,"IGANGA",null,null,null,null,99,null,6.1528142399676886,{"$f":"_xlfn.XLOOKUP(Y48,[1]COUNTRY_INFO!$Y$9:$Y$143,[1]COUNTRY_INFO!$D$9:$D$143)","v":415956},{"$f":"_xlfn.XLOOKUP(Y48,[1]COUNTRY_INFO!$Y$9:$Y$143,[1]COUNTRY_INFO!$D$9:$D$143)","v":415956},null,null,{"$f":"_xlfn.XLOOKUP($Y48,[1]COUNTRY_INFO!$Y$9:$Y$143,[1]COUNTRY_INFO!H$9:H$143)","v":99},{"$f":"_xlfn.XLOOKUP($Y48,[1]COUNTRY_INFO!$Y$9:$Y$143,[1]COUNTRY_INFO!I$9:I$143)","v":0},{"$f":"_xlfn.XLOOKUP($Y48,[1]COUNTRY_INFO!$Y$9:$Y$143,[1]COUNTRY_INFO!J$9:J$143)","v":3},{"$f":"_xlfn.XLOOKUP($Y48,[1]COUNTRY_INFO!$Y$9:$Y$143,[1]COUNTRY_INFO!K$9:K$143)","v":2},true,true,true,false,null,null,null,{"$f":"_xlfn.XLOOKUP($Y48,[2]Sheet1!$B$4:$B$41,[2]Sheet1!$D$4:$D$41)","v":8},1]
[{"$f":"IF(INTRO!$E$33<>0,INTRO!$E$33, \" \")","v":"Uganda"},"EASTERN","JINJA",269669,{"$f":"IF(INTRO!$E$48=\"\",\"\",ROUND($D49*INTRO!$E$48,0))","v":38293},{"$f":"IF(INTRO!$E$49=\"\",\"\",ROUND($D49*INTRO!$E$49,0))","v":81440},{"$f":"IF(INTRO!$E$50=\"\",\"\",ROUND($D49*INTRO!$E$50,0))","v":140498},0,0,3,3,{"$f":"IF(INTRO!$E$37=\"Endemic\",IF($H49>0,IF($H49=4,\"Unknown\",IF($H49=99,\"Stopped\",$D49)),0),\"Not required\")","v":"Not required"},{"$f":"IF(INTRO!$E$39=\"Endemic\", IF($I49>0, IF($I49=4,\"Unknown\",IF($I49=99,\"Stopped\",$D49)), 0),\"Not required\")","v":0},{"$f":"IF(INTRO!$E$41=\"Endemic\", IF(AND($J49>1,$J49<5), IF($J49=4, \"Unknown\", E49+F49), 0),\"Not required\")","v":119733},{"$f":"IF(INTRO!$E$43=\"Endemic\", IF(AND($K49>0,$K49<5), IF($K49=4,\"Unknown\", IF($K49=1, $F49*0.33, IF($K49=2, $F49*0.5+$G49*0.2, SUM(F49:G49)))), 0),\"Not required\")","v":221938},0,0,2,1,null,null,null,null,null,49740,"JINJA",null,null,null,null,0,null,-53.26984093977061,{"$f":"_xlfn.XLOOKUP(Y49,[1]COUNTRY_INFO!$Y$9:$Y$143,[1]COUNTRY_INFO!$D$9:$D$143)","v":577077},{"$f":"_xlfn.XLOOKUP(Y49,[1]COUNTRY_INFO!$Y$9:$Y$143,[1]COUNTRY_INFO!$D$9:$D$143)","v":577077},null,null,{"$f":"_xlfn.XLOOKUP($Y49,[1]COUNTRY_INFO!$Y$9:$Y$143,[1]COUNTRY_INFO!H$9:H$143)","v":0},{"$f":"_xlfn.XLOOKUP($Y49,[1]COUNTRY_INFO!$Y$9:$Y$143,[1]COUNTRY_INFO!I$9:I$143)","v":0},{"$f":"_xlfn.XLOOKUP($Y49,[1]COUNTRY_INFO!$Y$9:$Y$143,[1]COUNTRY_INFO!J$9:J$143)","v":3},{"$f":"_xlfn.XLOOKUP($Y49,[1]COUNTRY_INFO!$Y$9:$Y$143,[1]COUNTRY_INFO!K$9:K$143)","v":3},true,true,true,true,null,null,null,{"$f":"_xlfn.XLOOKUP($Y49,[2]Sheet1!$B$4:$B$41,[2]Sheet1!$D$4:$D$41)","v":{"$error":"#N/A"}},3]
[{"$f":"IF(INTRO!$E$33<>0,INTRO!$E$33, \" \")","v":"Uganda"},"EASTERN","Jinja City",342908,{"$f":"IF(INTRO!$E$48=\"\",\"\",ROUND($D50*INTRO!$E$48,0))","v":48693},{"$f":"IF(INTRO!$E$49=\"\",\"\",ROUND($D50*INTRO!$E$49,0))","v":103558},{"$f":"IF(INTRO!$E$50=\"\",\"\",ROUND($D50*INTRO!$E$50,0))","v":178655},0,0,3,3,{"$f":"IF(INTRO!$E$37=\"Endemic\",IF($H50>0,IF($H50=4,\"Unknown\",IF($H50=99,\"Stopped\",$D50)),0),\"Not required\")","v":"Not required"},{"$f":"IF(INTRO!$E$39=\"Endemic\", IF($I50>0, IF($I50=4,\"Unknown\",IF($I50=99,\"Stopped\",$D50)), 0),\"Not required\")","v":0},{"$f":"IF(INTRO!$E$41=\"Endemic\", IF(AND($J50>1,$J50<5), IF($J50=4, \"Unknown\", E50+F50), 0),\"Not required\")","v":152251},{"$f":"IF(INTRO!$E$43=\"Endemic\", IF(AND($K50>0,$K50<5), IF($K50=4,\"Unknown\", IF($K50=1, $F50*0.33, IF($K50=2, $F50*0.5+$G50*0.2, SUM(F50:G50)))), 0),\"Not required\")","v":282213},0,0,2,1,null,null,null,null,null,49846,"Jinja City",49740,"JINJA",null,null,0,null,{"$error":"#N/A"},{"$f":"_xlfn.XLOOKUP(Y50,[1]COUNTRY_INFO!$Y$9:$Y$143,[1]COUNTRY_INFO!$D$9:$D$143)","v":{"$error":"#N/A"}},{"$f":"_xlfn.XLOOKUP(Y50,[1]COUNTRY_INFO!$Y$9:$Y$143,[1]COUNTRY_INFO!$D$9:$D$143)","v":{"$error":"#N/A"}},null,null,{"$f":"_xlfn.XLOOKUP($Y50,[1]COUNTRY_INFO!$Y$9:$Y$143,[1]COUNTRY_INFO!H$9:H$143)","v":{"$error":"#N/A"}},{"$f":"_xlfn.XLOOKUP($Y50,[1]COUNTRY_INFO!$Y$9:$Y$143,[1]COUNTRY_INFO!I$9:I$143)","v":{"$error":"#N/A"}},{"$f":"_xlfn.XLOOKUP($Y50,[1]COUNTRY_INFO!$Y$9:$Y$143,[1]COUNTRY_INFO!J$9:J$143)","v":{"$error":"#N/A"}},{"$f":"_xlfn.XLOOKUP($Y50,[1]COUNTRY_INFO!$Y$9:$Y$143,[1]COUNTRY_INFO!K$9:K$143)","v":{"$error":"#N/A"}},{"$error":"#N/A"},{"$error":"#N/A"},{"$error":"#N/A"},{"$error":"#N/A"},null,null,null,{"$f":"_xlfn.XLOOKUP($Y50,[2]Sheet1!$B$4:$B$41,[2]Sheet1!$D$4:$D$41)","v":{"$error":"#N/A"}},3]
[{"$f":"IF(INTRO!$E$33<>0,INTRO!$E$33, \" \")","v":"Uganda"},"EASTERN","KABERAMAIDO",135789,{"$f":"IF(INTRO!$E$48=\"\",\"\",ROUND($D51*INTRO!$E$48,0))","v":19282},{"$f":"IF(INTRO!$E$49=\"\",\"\",ROUND($D51*INTRO!$E$49,0))","v":41008},{"$f":"IF(INTRO!$E$50=\"\",\"\",ROUND($D51*INTRO!$E$50,0))","v":70746},99,0,3,2,{"$f":"IF(INTRO!$E$37=\"Endemic\",IF($H51>0,IF($H51=4,\"Unknown\",IF($H51=99,\"Stopped\",$D51)),0),\"Not required\")","v":"Not required"},{"$f":"IF(INTRO!$E$39=\"Endemic\", IF($I51>0, IF($I51=4,\"Unknown\",IF($I51=99,\"Stopped\",$D51)), 0),\"Not required\")","v":0},{"$f":"IF(INTRO!$E$41=\"Endemic\", IF(AND($J51>1,$J51<5), IF($J51=4, \"Unknown\", E51+F51), 0),\"Not required\")","v":60290},{"$f":"IF(INTRO!$E$43=\"Endemic\", IF(AND($K51>0,$K51<5), IF($K51=4,\"Unknown\", IF($K51=1, $F51*0.33, IF($K51=2, $F51*0.5+$G51*0.2, SUM(F51:G51)))), 0),\"Not required\")","v":34653.199999999997},0,0,2,1,null,null,null,null,null,49743,"KABERAMAIDO",null,null,null,null,99,null,6.1539904782007087,{"$f":"_xlfn.XLOOKUP(Y51,[1]COUNTRY_INFO!$Y$9:$Y$143,[1]COUNTRY_INFO!$D$9:$D$143)","v":127917},{"$f":"_xlfn.XLOOKUP(Y51,[1]COUNTRY_INFO!$Y$9:$Y$143,[1]COUNTRY_INFO!$D$9:$D$143)","v":127917},null,null,{"$f":"_xlfn.XLOOKUP($Y51,[1]COUNTRY_INFO!$Y$9:$Y$143,[1]COUNTRY_INFO!H$9:H$143)","v":99},{"$f":"_xlfn.XLOOKUP($Y51,[1]COUNTRY_INFO!$Y$9:$Y$143,[1]COUNTRY_INFO!I$9:I$143)","v":0},{"$f":"_xlfn.XLOOKUP($Y51,[1]COUNTRY_INFO!$Y$9:$Y$143,[1]COUNTRY_INFO!J$9:J$143)","v":3},{"$f":"_xlfn.XLOOKUP($Y51,[1]COUNTRY_INFO!$Y$9:$Y$143,[1]COUNTRY_INFO!K$9:K$143)","v":3},true,true,true,false,null,null,null,{"$f":"_xlfn.XLOOKUP($Y51,[2]Sheet1!$B$4:$B$41,[2]Sheet1!$D$4:$D$41)","v":28.000000000000004},2]
[{"$f":"IF(INTRO!$E$33<>0,INTRO!$E$33, \" \")","v":"Uganda"},"EASTERN","KALAKI",143357,{"$f":"IF(INTRO!$E$48=\"\",\"\",ROUND($D52*INTRO!$E$48,0))","v":20357},{"$f":"IF(INTRO!$E$49=\"\",\"\",ROUND($D52*INTRO!$E$49,0))","v":43294},{"$f":"IF(INTRO!$E$50=\"\",\"\",ROUND($D52*INTRO!$E$50,0))","v":74689},99,0,3,1,{"$f":"IF(INTRO!$E$37=\"Endemic\",IF($H52>0,IF($H52=4,\"Unknown\",IF($H52=99,\"Stopped\",$D52)),0),\"Not required\")","v":"Not required"},{"$f":"IF(INTRO!$E$39=\"Endemic\", IF($I52>0, IF($I52=4,\"Unknown\",IF($I52=99,\"Stopped\",$D52)), 0),\"Not required\")","v":0},{"$f":"IF(INTRO!$E$41=\"Endemic\", IF(AND($J52>1,$J52<5), IF($J52=4, \"Unknown\", E52+F52), 0),\"Not required\")","v":63651},{"$f":"IF(INTRO!$E$43=\"Endemic\", IF(AND($K52>0,$K52<5), IF($K52=4,\"Unknown\", IF($K52=1, $F52*0.33, IF($K52=2, $F52*0.5+$G52*0.2, SUM(F52:G52)))), 0),\"Not required\")","v":14287.02},0,0,2,1,null,null,null,null,null,49843,"KALAKI",null,null,null,null,99,null,6.1565575409314075,{"$f":"_xlfn.XLOOKUP(Y52,[1]COUNTRY_INFO!$Y$9:$Y$143,[1]COUNTRY_INFO!$D$9:$D$143)","v":135043},{"$f":"_xlfn.XLOOKUP(Y52,[1]COUNTRY_INFO!$Y$9:$Y$143,[1]COUNTRY_INFO!$D$9:$D$143)","v":135043},null,null,{"$f":"_xlfn.XLOOKUP($Y52,[1]COUNTRY_INFO!$Y$9:$Y$143,[1]COUNTRY_INFO!H$9:H$143)","v":99},{"$f":"_xlfn.XLOOKUP($Y52,[1]COUNTRY_INFO!$Y$9:$Y$143,[1]COUNTRY_INFO!I$9:I$143)","v":0},{"$f":"_xlfn.XLOOKUP($Y52,[1]COUNTRY_INFO!$Y$9:$Y$143,[1]COUNTRY_INFO!J$9:J$143)","v":3},{"$f":"_xlfn.XLOOKUP($Y52,[1]COUNTRY_INFO!$Y$9:$Y$143,[1]COUNTRY_INFO!K$9:K$143)","v":3},true,true,true,false,null,null,null,{"$f":"_xlfn.XLOOKUP($Y52,[2]Sheet1!$B$4:$B$41,[2]Sheet1!$D$4:$D$41)","v":2},1]
[{"$f":"IF(INTRO!$E$33<>0,INTRO!$E$33, \" \")","v":"Uganda"},"EASTERN","KALIRO",309944,{"$f":"IF(INTRO!$E$48=\"\",\"\",ROUND($D53*INTRO!$E$48,0))","v":44012},{"$f":"IF(INTRO!$E$49=\"\",\"\",ROUND($D53*INTRO!$E$49,0))","v":93603},{"$f":"IF(INTRO!$E$50=\"\",\"\",ROUND($D53*INTRO!$E$50,0))","v":161481},99,0,3,1,{"$f":"IF(INTRO!$E$37=\"Endemic\",IF($H53>0,IF($H53=4,\"Unknown\",IF($H53=99,\"Stopped\",$D53)),0),\"Not required\")","v":"Not required"},{"$f":"IF(INTRO!$E$39=\"Endemic\", IF($I53>0, IF($I53=4,\"Unknown\",IF($I53=99,\"Stopped\",$D53)), 0),\"Not required\")","v":0},{"$f":"IF(INTRO!$E$41=\"Endemic\", IF(AND($J53>1,$J53<5), IF($J53=4, \"Unknown\", E53+F53), 0),\"Not required\")","v":137615},{"$f":"IF(INTRO!$E$43=\"Endemic\", IF(AND($K53>0,$K53<5), IF($K53=4,\"Unknown\", IF($K53=1, $F53*0.33, IF($K53=2, $F53*0.5+$G53*0.2, SUM(F53:G53)))), 0),\"Not required\")","v":30888.99},0,0,2,1,null,null,null,null,null,49746,"KALIRO",null,null,null,null,99,null,6.1502948771516444,{"$f":"_xlfn.XLOOKUP(Y53,[1]COUNTRY_INFO!$Y$9:$Y$143,[1]COUNTRY_INFO!$D$9:$D$143)","v":291986},{"$f":"_xlfn.XLOOKUP(Y53,[1]COUNTRY_INFO!$Y$9:$Y$143,[1]COUNTRY_INFO!$D$9:$D$143)","v":291986},null,null,{"$f":"_xlfn.XLOOKUP($Y53,[1]COUNTRY_INFO!$Y$9:$Y$143,[1]COUNTRY_INFO!H$9:H$143)","v":99},{"$f":"_xlfn.XLOOKUP($Y53,[1]COUNTRY_INFO!$Y$9:$Y$143,[1]COUNTRY_INFO!I$9:I$143)","v":0},{"$f":"_xlfn.XLOOKUP($Y53,[1]COUNTRY_INFO!$Y$9:$Y$143,[1]COUNTRY_INFO!J$9:J$143)","v":3},{"$f":"_xlfn.XLOOKUP($Y53,[1]COUNTRY_INFO!$Y$9:$Y$143,[1]COUNTRY_INFO!K$9:K$143)","v":2},true,true,true,false,null,null,null,{"$f":"_xlfn.XLOOKUP($Y53,[2]Sheet1!$B$4:$B$41,[2]Sheet1!$D$4:$D$41)","v":2},1]
[{"$f":"IF(INTRO!$E$33<>0,INTRO!$E$33, \" \")","v":"Uganda"},"EASTERN","KAMULI",641346,{"$f":"IF(INTRO!$E$48=\"\",\"\",ROUND($D54*INTRO!$E$48,0))","v":91071},{"$f":"IF(INTRO!$E$49=\"\",\"\",ROUND($D54*INTRO!$E$49,0))","v":193686},{"$f":"IF(INTRO!$E$50=\"\",\"\",ROUND($D54*INTRO!$E$50,0))","v":334141},99,0,3,3,{"$f":"IF(INTRO!$E$37=\"Endemic\",IF($H54>0,IF($H54=4,\"Unknown\",IF($H54=99,\"Stopped\",$D54)),0),\"Not required\")","v":"Not required"},{"$f":"IF(INTRO!$E$39=\"Endemic\", IF($I54>0, IF($I54=4,\"Unknown\",IF($I54=99,\"Stopped\",$D54)), 0),\"Not required\")","v":0},{"$f":"IF(INTRO!$E$41=\"Endemic\", IF(AND($J54>1,$J54<5), IF($J54=4, \"Unknown\", E54+F54), 0),\"Not required\")","v":284757},{"$f":"IF(INTRO!$E$43=\"Endemic\", IF(AND($K54>0,$K54<5), IF($K54=4,\"Unknown\", IF($K54=1, $F54*0.33, IF($K54=2, $F54*0.5+$G54*0.2, SUM(F54:G54)))), 0),\"Not required\")","v":527827},0,0,2,1,null,null,null,null,null,49747,"KAMULI",null,null,null,null,99,null,6.1518294277514238,{"$f":"_xlfn.XLOOKUP(Y54,[1]COUNTRY_INFO!$Y$9:$Y$143,[1]COUNTRY_INFO!$D$9:$D$143)","v":604178},{"$f":"_xlfn.XLOOKUP(Y54,[1]COUNTRY_INFO!$Y$9:$Y$143,[1]COUNTRY_INFO!$D$9:$D$143)","v":604178},null,null,{"$f":"_xlfn.XLOOKUP($Y54,[1]COUNTRY_INFO!$Y$9:$Y$143,[1]COUNTRY_INFO!H$9:H$143)","v":99},{"$f":"_xlfn.XLOOKUP($Y54,[1]COUNTRY_INFO!$Y$9:$Y$143,[1]COUNTRY_INFO!I$9:I$143)","v":0},{"$f":"_xlfn.XLOOKUP($Y54,[1]COUNTRY_INFO!$Y$9:$Y$143,[1]COUNTRY_INFO!J$9:J$143)","v":3},{"$f":"_xlfn.XLOOKUP($Y54,[1]COUNTRY_INFO!$Y$9:$Y$143,[1]COUNTRY_INFO!K$9:K$143)","v":3},true,true,true,true,null,null,null,{"$f":"_xlfn.XLOOKUP($Y54,[2]Sheet1!$B$4:$B$41,[2]Sheet1!$D$4:$D$41)","v":63.829787234042556},3]
[{"$f":"IF(INTRO!$E$33<>0,INTRO!$E$33, \" \")","v":"Uganda"},"EASTERN","KAPCHORWA",145948,{"$f":"IF(INTRO!$E$48=\"\",\"\",ROUND($D55*INTRO!$E$48,0))","v":20725},{"$f":"IF(INTRO!$E$49=\"\",\"\",ROUND($D55*INTRO!$E$49,0))","v":44076},{"$f":"IF(INTRO!$E$50=\"\",\"\",ROUND($D55*INTRO!$E$50,0))","v":76039},0,0,3,0,{"$f":"IF(INTRO!$E$37=\"Endemic\",IF($H55>0,IF($H55=4,\"Unknown\",IF($H55=99,\"Stopped\",$D55)),0),\"Not required\")","v":"Not required"},{"$f":"IF(INTRO!$E$39=\"Endemic\", IF($I55>0, IF($I55=4,\"Unknown\",IF($I55=99,\"Stopped\",$D55)), 0),\"Not required\")","v":0},{"$f":"IF(INTRO!$E$41=\"Endemic\", IF(AND($J55>1,$J55<5), IF($J55=4, \"Unknown\", E55+F55), 0),\"Not required\")","v":64801},{"$f":"IF(INTRO!$E$43=\"Endemic\", IF(AND($K55>0,$K55<5), IF($K55=4,\"Unknown\", IF($K55=1, $F55*0.33, IF($K55=2, $F55*0.5+$G55*0.2, SUM(F55:G55)))), 0),\"Not required\")","v":0},0,0,2,0,null,null,null,null,null,49760,"KAPCHORWA",null,null,null,null,0,null,6.1563527392278372,{"$f":"_xlfn.XLOOKUP(Y55,[1]COUNTRY_INFO!$Y$9:$Y$143,[1]COUNTRY_INFO!$D$9:$D$143)","v":137484},{"$f":"_xlfn.XLOOKUP(Y55,[1]COUNTRY_INFO!$Y$9:$Y$143,[1]COUNTRY_INFO!$D$9:$D$143)","v":137484},null,null,{"$f":"_xlfn.XLOOKUP($Y55,[1]COUNTRY_INFO!$Y$9:$Y$143,[1]COUNTRY_INFO!H$9:H$143)","v":0},{"$f":"_xlfn.XLOOKUP($Y55,[1]COUNTRY_INFO!$Y$9:$Y$143,[1]COUNTRY_INFO!I$9:I$143)","v":0},{"$f":"_xlfn.XLOOKUP($Y55,[1]COUNTRY_INFO!$Y$9:$Y$143,[1]COUNTRY_INFO!J$9:J$143)","v":3},{"$f":"_xlfn.XLOOKUP($Y55,[1]COUNTRY_INFO!$Y$9:$Y$143,[1]COUNTRY_INFO!K$9:K$143)","v":0},true,true,true,true,null,null,null,{"$f":"_xlfn.XLOOKUP($Y55,[2]Sheet1!$B$4:$B$41,[2]Sheet1!$D$4:$D$41)","v":{"$error":"#N/A"}},0]
[{"$f":"IF(INTRO!$E$33<>0,INTRO!$E$33, \" \")","v":"Uganda"},"EASTERN","KAPELEBYONG",114593,{"$f":"IF(INTRO!$E$48=\"\",\"\",ROUND($D56*INTRO!$E$48,0))","v":16272},{"$f":"IF(INTRO!$E$49=\"\",\"\",ROUND($D56*INTRO!$E$49,0))","v":34607},{"$f":"IF(INTRO!$E$50=\"\",\"\",ROUND($D56*INTRO!$E$50,0))","v":59703},99,0,3,0,{"$f":"IF(INTRO!$E$37=\"Endemic\",IF($H56>0,IF($H56=4,\"Unknown\",IF($H56=99,\"Stopped\",$D56)),0),\"Not required\")","v":"Not required"},{"$f":"IF(INTRO!$E$39=\"Endemic\", IF($I56>0, IF($I56=4,\"Unknown\",IF($I56=99,\"Stopped\",$D56)), 0),\"Not required\")","v":0},{"$f":"IF(INTRO!$E$41=\"Endemic\", IF(AND($J56>1,$J56<5), IF($J56=4, \"Unknown\", E56+F56), 0),\"Not required\")","v":50879},{"$f":"IF(INTRO!$E$43=\"Endemic\", IF(AND($K56>0,$K56<5), IF($K56=4,\"Unknown\", IF($K56=1, $F56*0.33, IF($K56=2, $F56*0.5+$G56*0.2, SUM(F56:G56)))), 0),\"Not required\")","v":0},0,0,2,0,null,null,null,null,null,49832,"KAPELEBYONG",null,null,null,null,99,null,6.1518082110567658,{"$f":"_xlfn.XLOOKUP(Y56,[1]COUNTRY_INFO!$Y$9:$Y$143,[1]COUNTRY_INFO!$D$9:$D$143)","v":107952},{"$f":"_xlfn.XLOOKUP(Y56,[1]COUNTRY_INFO!$Y$9:$Y$143,[1]COUNTRY_INFO!$D$9:$D$143)","v":107952},null,null,{"$f":"_xlfn.XLOOKUP($Y56,[1]COUNTRY_INFO!$Y$9:$Y$143,[1]COUNTRY_INFO!H$9:H$143)","v":99},{"$f":"_xlfn.XLOOKUP($Y56,[1]COUNTRY_INFO!$Y$9:$Y$143,[1]COUNTRY_INFO!I$9:I$143)","v":0},{"$f":"_xlfn.XLOOKUP($Y56,[1]COUNTRY_INFO!$Y$9:$Y$143,[1]COUNTRY_INFO!J$9:J$143)","v":3},{"$f":"_xlfn.XLOOKUP($Y56,[1]COUNTRY_INFO!$Y$9:$Y$143,[1]COUNTRY_INFO!K$9:K$143)","v":0},true,true,true,true,null,null,null,{"$f":"_xlfn.XLOOKUP($Y56,[2]Sheet1!$B$4:$B$41,[2]Sheet1!$D$4:$D$41)","v":{"$error":"#N/A"}},0]
[{"$f":"IF(INTRO!$E$33<>0,INTRO!$E$33, \" \")","v":"Uganda"},"EASTERN","KATAKWI",216579,{"$f":"IF(INTRO!$E$48=\"\",\"\",ROUND($D57*INTRO!$E$48,0))","v":30754},{"$f":"IF(INTRO!$E$49=\"\",\"\",ROUND($D57*INTRO!$E$49,0))","v":65407},{"$f":"IF(INTRO!$E$50=\"\",\"\",ROUND($D57*INTRO!$E$50,0))","v":112838},99,0,3,1,{"$f":"IF(INTRO!$E$37=\"Endemic\",IF($H57>0,IF($H57=4,\"Unknown\",IF($H57=99,\"Stopped\",$D57)),0),\"Not required\")","v":"Not required"},{"$f":"IF(INTRO!$E$39=\"Endemic\", IF($I57>0, IF($I57=4,\"Unknown\",IF($I57=99,\"Stopped\",$D57)), 0),\"Not required\")","v":0},{"$f":"IF(INTRO!$E$41=\"Endemic\", IF(AND($J57>1,$J57<5), IF($J57=4, \"Unknown\", E57+F57), 0),\"Not required\")","v":96161},{"$f":"IF(INTRO!$E$43=\"Endemic\", IF(AND($K57>0,$K57<5), IF($K57=4,\"Unknown\", IF($K57=1, $F57*0.33, IF($K57=2, $F57*0.5+$G57*0.2, SUM(F57:G57)))), 0),\"Not required\")","v":21584.31},0,0,2,1,null,null,null,null,null,49751,"KATAKWI",null,null,null,null,99,null,6.1547284116418819,{"$f":"_xlfn.XLOOKUP(Y57,[1]COUNTRY_INFO!$Y$9:$Y$143,[1]COUNTRY_INFO!$D$9:$D$143)","v":204022},{"$f":"_xlfn.XLOOKUP(Y57,[1]COUNTRY_INFO!$Y$9:$Y$143,[1]COUNTRY_INFO!$D$9:$D$143)","v":204022},null,null,{"$f":"_xlfn.XLOOKUP($Y57,[1]COUNTRY_INFO!$Y$9:$Y$143,[1]COUNTRY_INFO!H$9:H$143)","v":99},{"$f":"_xlfn.XLOOKUP($Y57,[1]COUNTRY_INFO!$Y$9:$Y$143,[1]COUNTRY_INFO!I$9:I$143)","v":0},{"$f":"_xlfn.XLOOKUP($Y57,[1]COUNTRY_INFO!$Y$9:$Y$143,[1]COUNTRY_INFO!J$9:J$143)","v":3},{"$f":"_xlfn.XLOOKUP($Y57,[1]COUNTRY_INFO!$Y$9:$Y$143,[1]COUNTRY_INFO!K$9:K$143)","v":1},true,true,true,true,null,null,null,{"$f":"_xlfn.XLOOKUP($Y57,[2]Sheet1!$B$4:$B$41,[2]Sheet1!$D$4:$D$41)","v":1.8867924528301887},1]
[{"$f":"IF(INTRO!$E$33<>0,INTRO!$E$33, \" \")","v":"Uganda"},"EASTERN","KIBUKU",265088,{"$f":"IF(INTRO!$E$48=\"\",\"\",ROUND($D58*INTRO!$E$48,0))","v":37642},{"$f":"IF(INTRO!$E$49=\"\",\"\",ROUND($D58*INTRO!$E$49,0))","v":80057},{"$f":"IF(INTRO!$E$50=\"\",\"\",ROUND($D58*INTRO!$E$50,0))","v":138111},99,0,3,2,{"$f":"IF(INTRO!$E$37=\"Endemic\",IF($H58>0,IF($H58=4,\"Unknown\",IF($H58=99,\"Stopped\",$D58)),0),\"Not required\")","v":"Not required"},{"$f":"IF(INTRO!$E$39=\"Endemic\", IF($I58>0, IF($I58=4,\"Unknown\",IF($I58=99,\"Stopped\",$D58)), 0),\"Not required\")","v":0},{"$f":"IF(INTRO!$E$41=\"Endemic\", IF(AND($J58>1,$J58<5), IF($J58=4, \"Unknown\", E58+F58), 0),\"Not required\")","v":117699},{"$f":"IF(INTRO!$E$43=\"Endemic\", IF(AND($K58>0,$K58<5), IF($K58=4,\"Unknown\", IF($K58=1, $F58*0.33, IF($K58=2, $F58*0.5+$G58*0.2, SUM(F58:G58)))), 0),\"Not required\")","v":67650.7},0,0,2,1,null,null,null,null,null,49763,"KIBUKU",null,null,null,null,99,null,6.1557929808262184,{"$f":"_xlfn.XLOOKUP(Y58,[1]COUNTRY_INFO!$Y$9:$Y$143,[1]COUNTRY_INFO!$D$9:$D$143)","v":249716},{"$f":"_xlfn.XLOOKUP(Y58,[1]COUNTRY_INFO!$Y$9:$Y$143,[1]COUNTRY_INFO!$D$9:$D$143)","v":249716},null,null,{"$f":"_xlfn.XLOOKUP($Y58,[1]COUNTRY_INFO!$Y$9:$Y$143,[1]COUNTRY_INFO!H$9:H$143)","v":99},{"$f":"_xlfn.XLOOKUP($Y58,[1]COUNTRY_INFO!$Y$9:$Y$143,[1]COUNTRY_INFO!I$9:I$143)","v":0},{"$f":"_xlfn.XLOOKUP($Y58,[1]COUNTRY_INFO!$Y$9:$Y$143,[1]COUNTRY_INFO!J$9:J$143)","v":3},{"$f":"_xlfn.XLOOKUP($Y58,[1]COUNTRY_INFO!$Y$9:$Y$143,[1]COUNTRY_INFO!K$9:K$143)","v":1},true,true,true,false,null,null,null,{"$f":"_xlfn.XLOOKUP($Y58,[2]Sheet1!$B$4:$B$41,[2]Sheet1!$D$4:$D$41)","v":41.071428571428569},2]
[{"$f":"IF(INTRO!$E$33<>0,INTRO!$E$33, \" \")","v":"Uganda"},"EASTERN","KUMI",337603,{"$f":"IF(INTRO!$E$48=\"\",\"\",ROUND($D59*INTRO!$E$48,0))","v":47940},{"$f":"IF(INTRO!$E$49=\"\",\"\",ROUND($D59*INTRO!$E$49,0))","v":101956},{"$f":"IF(INTRO!$E$50=\"\",\"\",ROUND($D59*INTRO!$E$50,0))","v":175891},99,0,3,0,{"$f":"IF(INTRO!$E$37=\"Endemic\",IF($H59>0,IF($H59=4,\"Unknown\",IF($H59=99,\"Stopped\",$D59)),0),\"Not required\")","v":"Not required"},{"$f":"IF(INTRO!$E$39=\"Endemic\", IF($I59>0, IF($I59=4,\"Unknown\",IF($I59=99,\"Stopped\",$D59)), 0),\"Not required\")","v":0},{"$f":"IF(INTRO!$E$41=\"Endemic\", IF(AND($J59>1,$J59<5), IF($J59=4, \"Unknown\", E59+F59), 0),\"Not required\")","v":149896},{"$f":"IF(INTRO!$E$43=\"Endemic\", IF(AND($K59>0,$K59<5), IF($K59=4,\"Unknown\", IF($K59=1, $F59*0.33, IF($K59=2, $F59*0.5+$G59*0.2, SUM(F59:G59)))), 0),\"Not required\")","v":0},0,0,2,0,null,null,null,null,null,49756,"KUMI",null,null,null,null,99,null,6.1494442610322437,{"$f":"_xlfn.XLOOKUP(Y59,[1]COUNTRY_INFO!$Y$9:$Y$143,[1]COUNTRY_INFO!$D$9:$D$143)","v":318045},{"$f":"_xlfn.XLOOKUP(Y59,[1]COUNTRY_INFO!$Y$9:$Y$143,[1]COUNTRY_INFO!$D$9:$D$143)","v":318045},null,null,{"$f":"_xlfn.XLOOKUP($Y59,[1]COUNTRY_INFO!$Y$9:$Y$143,[1]COUNTRY_INFO!H$9:H$143)","v":99},{"$f":"_xlfn.XLOOKUP($Y59,[1]COUNTRY_INFO!$Y$9:$Y$143,[1]COUNTRY_INFO!I$9:I$143)","v":0},{"$f":"_xlfn.XLOOKUP($Y59,[1]COUNTRY_INFO!$Y$9:$Y$143,[1]COUNTRY_INFO!J$9:J$143)","v":3},{"$f":"_xlfn.XLOOKUP($Y59,[1]COUNTRY_INFO!$Y$9:$Y$143,[1]COUNTRY_INFO!K$9:K$143)","v":1},true,true,true,false,null,null,null,{"$f":"_xlfn.XLOOKUP($Y59,[2]Sheet1!$B$4:$B$41,[2]Sheet1!$D$4:$D$41)","v":0},0]
[{"$f":"IF(INTRO!$E$33<>0,INTRO!$E$33, \" \")","v":"Uganda"},"EASTERN","KWEEN",125094,{"$f":"IF(INTRO!$E$48=\"\",\"\",ROUND($D60*INTRO!$E$48,0))","v":17763},{"$f":"IF(INTRO!$E$49=\"\",\"\",ROUND($D60*INTRO!$E$49,0))","v":37778},{"$f":"IF(INTRO!$E$50=\"\",\"\",ROUND($D60*INTRO!$E$50,0))","v":65174},0,0,3,1,{"$f":"IF(INTRO!$E$37=\"Endemic\",IF($H60>0,IF($H60=4,\"Unknown\",IF($H60=99,\"Stopped\",$D60)),0),\"Not required\")","v":"Not required"},{"$f":"IF(INTRO!$E$39=\"Endemic\", IF($I60>0, IF($I60=4,\"Unknown\",IF($I60=99,\"Stopped\",$D60)), 0),\"Not required\")","v":0},{"$f":"IF(INTRO!$E$41=\"Endemic\", IF(AND($J60>1,$J60<5), IF($J60=4, \"Unknown\", E60+F60), 0),\"Not required\")","v":55541},{"$f":"IF(INTRO!$E$43=\"Endemic\", IF(AND($K60>0,$K60<5), IF($K60=4,\"Unknown\", IF($K60=1, $F60*0.33, IF($K60=2, $F60*0.5+$G60*0.2, SUM(F60:G60)))), 0),\"Not required\")","v":12466.74},0,0,2,1,null,null,null,null,null,49768,"KWEEN",null,null,null,null,0,null,6.1531020086046686,{"$f":"_xlfn.XLOOKUP(Y60,[1]COUNTRY_INFO!$Y$9:$Y$143,[1]COUNTRY_INFO!$D$9:$D$143)","v":117843},{"$f":"_xlfn.XLOOKUP(Y60,[1]COUNTRY_INFO!$Y$9:$Y$143,[1]COUNTRY_INFO!$D$9:$D$143)","v":117843},null,null,{"$f":"_xlfn.XLOOKUP($Y60,[1]COUNTRY_INFO!$Y$9:$Y$143,[1]COUNTRY_INFO!H$9:H$143)","v":0},{"$f":"_xlfn.XLOOKUP($Y60,[1]COUNTRY_INFO!$Y$9:$Y$143,[1]COUNTRY_INFO!I$9:I$143)","v":0},{"$f":"_xlfn.XLOOKUP($Y60,[1]COUNTRY_INFO!$Y$9:$Y$143,[1]COUNTRY_INFO!J$9:J$143)","v":3},{"$f":"_xlfn.XLOOKUP($Y60,[1]COUNTRY_INFO!$Y$9:$Y$143,[1]COUNTRY_INFO!K$9:K$143)","v":1},true,true,true,true,null,null,null,{"$f":"_xlfn.XLOOKUP($Y60,[2]Sheet1!$B$4:$B$41,[2]Sheet1!$D$4:$D$41)","v":{"$error":"#N/A"}},1]
[{"$f":"IF(INTRO!$E$33<>0,INTRO!$E$33, \" \")","v":"Uganda"},"EASTERN","LUUKA",315868,{"$f":"IF(INTRO!$E$48=\"\",\"\",ROUND($D61*INTRO!$E$48,0))","v":44853},{"$f":"IF(INTRO!$E$49=\"\",\"\",ROUND($D61*INTRO!$E$49,0))","v":95392},{"$f":"IF(INTRO!$E$50=\"\",\"\",ROUND($D61*INTRO!$E$50,0))","v":164567},99,0,3,1,{"$f":"IF(INTRO!$E$37=\"Endemic\",IF($H61>0,IF($H61=4,\"Unknown\",IF($H61=99,\"Stopped\",$D61)),0),\"Not required\")","v":"Not required"},{"$f":"IF(INTRO!$E$39=\"Endemic\", IF($I61>0, IF($I61=4,\"Unknown\",IF($I61=99,\"Stopped\",$D61)), 0),\"Not required\")","v":0},{"$f":"IF(INTRO!$E$41=\"Endemic\", IF(AND($J61>1,$J61<5), IF($J61=4, \"Unknown\", E61+F61), 0),\"Not required\")","v":140245},{"$f":"IF(INTRO!$E$43=\"Endemic\", IF(AND($K61>0,$K61<5), IF($K61=4,\"Unknown\", IF($K61=1, $F61*0.33, IF($K61=2, $F61*0.5+$G61*0.2, SUM(F61:G61)))), 0),\"Not required\")","v":31479.360000000001},0,0,2,1,null,null,null,null,null,49773,"LUUKA",null,null,null,null,99,null,6.1512817410708287,{"$f":"_xlfn.XLOOKUP(Y61,[1]COUNTRY_INFO!$Y$9:$Y$143,[1]COUNTRY_INFO!$D$9:$D$143)","v":297564},{"$f":"_xlfn.XLOOKUP(Y61,[1]COUNTRY_INFO!$Y$9:$Y$143,[1]COUNTRY_INFO!$D$9:$D$143)","v":297564},null,null,{"$f":"_xlfn.XLOOKUP($Y61,[1]COUNTRY_INFO!$Y$9:$Y$143,[1]COUNTRY_INFO!H$9:H$143)","v":99},{"$f":"_xlfn.XLOOKUP($Y61,[1]COUNTRY_INFO!$Y$9:$Y$143,[1]COUNTRY_INFO!I$9:I$143)","v":0},{"$f":"_xlfn.XLOOKUP($Y61,[1]COUNTRY_INFO!$Y$9:$Y$143,[1]COUNTRY_INFO!J$9:J$143)","v":3},{"$f":"_xlfn.XLOOKUP($Y61,[1]COUNTRY_INFO!$Y$9:$Y$143,[1]COUNTRY_INFO!K$9:K$143)","v":1},true,true,true,true,null,null,null,{"$f":"_xlfn.XLOOKUP($Y61,[2]Sheet1!$B$4:$B$41,[2]Sheet1!$D$4:$D$41)","v":4},1]
[{"$f":"IF(INTRO!$E$33<>0,INTRO!$E$33, \" \")","v":"Uganda"},"EASTERN","MANAFWA",220161,{"$f":"IF(INTRO!$E$48=\"\",\"\",ROUND($D62*INTRO!$E$48,0))","v":31263},{"$f":"IF(INTRO!$E$49=\"\",\"\",ROUND($D62*INTRO!$E$49,0))","v":66489},{"$f":"IF(INTRO!$E$50=\"\",\"\",ROUND($D62*INTRO!$E$50,0))","v":114704},0,99,3,2,{"$f":"IF(INTRO!$E$37=\"Endemic\",IF($H62>0,IF($H62=4,\"Unknown\",IF($H62=99,\"Stopped\",$D62)),0),\"Not required\")","v":"Not required"},{"$f":"IF(INTRO!$E$39=\"Endemic\", IF($I62>0, IF($I62=4,\"Unknown\",IF($I62=99,\"Stopped\",$D62)), 0),\"Not required\")","v":"Stopped"},{"$f":"IF(INTRO!$E$41=\"Endemic\", IF(AND($J62>1,$J62<5), IF($J62=4, \"Unknown\", E62+F62), 0),\"Not required\")","v":97752},{"$f":"IF(INTRO!$E$43=\"Endemic\", IF(AND($K62>0,$K62<5), IF($K62=4,\"Unknown\", IF($K62=1, $F62*0.33, IF($K62=2, $F62*0.5+$G62*0.2, SUM(F62:G62)))), 0),\"Not required\")","v":56185.3},0,0,2,1,null,null,null,null,null,49777,"MANAFWA",null,null,null,null,0,null,6.1497738734655698,{"$f":"_xlfn.XLOOKUP(Y62,[1]COUNTRY_INFO!$Y$9:$Y$143,[1]COUNTRY_INFO!$D$9:$D$143)","v":207406},{"$f":"_xlfn.XLOOKUP(Y62,[1]COUNTRY_INFO!$Y$9:$Y$143,[1]COUNTRY_INFO!$D$9:$D$143)","v":207406},null,null,{"$f":"_xlfn.XLOOKUP($Y62,[1]COUNTRY_INFO!$Y$9:$Y$143,[1]COUNTRY_INFO!H$9:H$143)","v":0},{"$f":"_xlfn.XLOOKUP($Y62,[1]COUNTRY_INFO!$Y$9:$Y$143,[1]COUNTRY_INFO!I$9:I$143)","v":99},{"$f":"_xlfn.XLOOKUP($Y62,[1]COUNTRY_INFO!$Y$9:$Y$143,[1]COUNTRY_INFO!J$9:J$143)","v":3},{"$f":"_xlfn.XLOOKUP($Y62,[1]COUNTRY_INFO!$Y$9:$Y$143,[1]COUNTRY_INFO!K$9:K$143)","v":1},true,true,true,false,null,null,null,{"$f":"_xlfn.XLOOKUP($Y62,[2]Sheet1!$B$4:$B$41,[2]Sheet1!$D$4:$D$41)","v":40},2]
[{"$f":"IF(INTRO!$E$33<>0,INTRO!$E$33, \" \")","v":"Uganda"},"EASTERN","MAYUGE",626850,{"$f":"IF(INTRO!$E$48=\"\",\"\",ROUND($D63*INTRO!$E$48,0))","v":89013},{"$f":"IF(INTRO!$E$49=\"\",\"\",ROUND($D63*INTRO!$E$49,0))","v":189309},{"$f":"IF(INTRO!$E$50=\"\",\"\",ROUND($D63*INTRO!$E$50,0))","v":326589},99,0,3,3,{"$f":"IF(INTRO!$E$37=\"Endemic\",IF($H63>0,IF($H63=4,\"Unknown\",IF($H63=99,\"Stopped\",$D63)),0),\"Not required\")","v":"Not required"},{"$f":"IF(INTRO!$E$39=\"Endemic\", IF($I63>0, IF($I63=4,\"Unknown\",IF($I63=99,\"Stopped\",$D63)), 0),\"Not required\")","v":0},{"$f":"IF(INTRO!$E$41=\"Endemic\", IF(AND($J63>1,$J63<5), IF($J63=4, \"Unknown\", E63+F63), 0),\"Not required\")","v":278322},{"$f":"IF(INTRO!$E$43=\"Endemic\", IF(AND($K63>0,$K63<5), IF($K63=4,\"Unknown\", IF($K63=1, $F63*0.33, IF($K63=2, $F63*0.5+$G63*0.2, SUM(F63:G63)))), 0),\"Not required\")","v":515898},0,0,2,1,null,null,null,null,null,49779,"MAYUGE",null,null,null,null,99,null,6.1514857990530443,{"$f":"_xlfn.XLOOKUP(Y63,[1]COUNTRY_INFO!$Y$9:$Y$143,[1]COUNTRY_INFO!$D$9:$D$143)","v":590524},{"$f":"_xlfn.XLOOKUP(Y63,[1]COUNTRY_INFO!$Y$9:$Y$143,[1]COUNTRY_INFO!$D$9:$D$143)","v":590524},null,null,{"$f":"_xlfn.XLOOKUP($Y63,[1]COUNTRY_INFO!$Y$9:$Y$143,[1]COUNTRY_INFO!H$9:H$143)","v":99},{"$f":"_xlfn.XLOOKUP($Y63,[1]COUNTRY_INFO!$Y$9:$Y$143,[1]COUNTRY_INFO!I$9:I$143)","v":0},{"$f":"_xlfn.XLOOKUP($Y63,[1]COUNTRY_INFO!$Y$9:$Y$143,[1]COUNTRY_INFO!J$9:J$143)","v":3},{"$f":"_xlfn.XLOOKUP($Y63,[1]COUNTRY_INFO!$Y$9:$Y$143,[1]COUNTRY_INFO!K$9:K$143)","v":3},true,true,true,true,null,null,null,{"$f":"_xlfn.XLOOKUP($Y63,[2]Sheet1!$B$4:$B$41,[2]Sheet1!$D$4:$D$41)","v":{"$error":"#N/A"}},3]
[{"$f":"IF(INTRO!$E$33<>0,INTRO!$E$33, \" \")","v":"Uganda"},"EASTERN","MBALE",464617,{"$f":"IF(INTRO!$E$48=\"\",\"\",ROUND($D64*INTRO!$E$48,0))","v":65976},{"$f":"IF(INTRO!$E$49=\"\",\"\",ROUND($D64*INTRO!$E$49,0))","v":140314},{"$f":"IF(INTRO!$E$50=\"\",\"\",ROUND($D64*INTRO!$E$50,0))","v":242065},0,99,3,3,{"$f":"IF(INTRO!$E$37=\"Endemic\",IF($H64>0,IF($H64=4,\"Unknown\",IF($H64=99,\"Stopped\",$D64)),0),\"Not required\")","v":"Not required"},{"$f":"IF(INTRO!$E$39=\"Endemic\", IF($I64>0, IF($I64=4,\"Unknown\",IF($I64=99,\"Stopped\",$D64)), 0),\"Not required\")","v":"Stopped"},{"$f":"IF(INTRO!$E$41=\"Endemic\", IF(AND($J64>1,$J64<5), IF($J64=4, \"Unknown\", E64+F64), 0),\"Not required\")","v":206290},{"$f":"IF(INTRO!$E$43=\"Endemic\", IF(AND($K64>0,$K64<5), IF($K64=4,\"Unknown\", IF($K64=1, $F64*0.33, IF($K64=2, $F64*0.5+$G64*0.2, SUM(F64:G64)))), 0),\"Not required\")","v":382379},0,0,2,1,null,null,null,null,null,49780,"MBALE",null,null,null,null,0,null,-23.497041917015604,{"$f":"_xlfn.XLOOKUP(Y64,[1]COUNTRY_INFO!$Y$9:$Y$143,[1]COUNTRY_INFO!$D$9:$D$143)","v":607319},{"$f":"_xlfn.XLOOKUP(Y64,[1]COUNTRY_INFO!$Y$9:$Y$143,[1]COUNTRY_INFO!$D$9:$D$143)","v":607319},null,null,{"$f":"_xlfn.XLOOKUP($Y64,[1]COUNTRY_INFO!$Y$9:$Y$143,[1]COUNTRY_INFO!H$9:H$143)","v":0},{"$f":"_xlfn.XLOOKUP($Y64,[1]COUNTRY_INFO!$Y$9:$Y$143,[1]COUNTRY_INFO!I$9:I$143)","v":99},{"$f":"_xlfn.XLOOKUP($Y64,[1]COUNTRY_INFO!$Y$9:$Y$143,[1]COUNTRY_INFO!J$9:J$143)","v":3},{"$f":"_xlfn.XLOOKUP($Y64,[1]COUNTRY_INFO!$Y$9:$Y$143,[1]COUNTRY_INFO!K$9:K$143)","v":1},true,true,true,false,null,null,null,{"$f":"_xlfn.XLOOKUP($Y64,[2]Sheet1!$B$4:$B$41,[2]Sheet1!$D$4:$D$41)","v":56.000000000000007},3]
[{"$f":"IF(INTRO!$E$33<>0,INTRO!$E$33, \" \")","v":"Uganda"},"EASTERN","Mbale City",180071,{"$f":"IF(INTRO!$E$48=\"\",\"\",ROUND($D65*INTRO!$E$48,0))","v":25570},{"$f":"IF(INTRO!$E$49=\"\",\"\",ROUND($D65*INTRO!$E$49,0))","v":54381},{"$f":"IF(INTRO!$E$50=\"\",\"\",ROUND($D65*INTRO!$E$50,0))","v":93817},0,0,3,3,{"$f":"IF(INTRO!$E$37=\"Endemic\",IF($H65>0,IF($H65=4,\"Unknown\",IF($H65=99,\"Stopped\",$D65)),0),\"Not required\")","v":"Not required"},{"$f":"IF(INTRO!$E$39=\"Endemic\", IF($I65>0, IF($I65=4,\"Unknown\",IF($I65=99,\"Stopped\",$D65)), 0),\"Not required\")","v":0},{"$f":"IF(INTRO!$E$41=\"Endemic\", IF(AND($J65>1,$J65<5), IF($J65=4, \"Unknown\", E65+F65), 0),\"Not required\")","v":79951},{"$f":"IF(INTRO!$E$43=\"Endemic\", IF(AND($K65>0,$K65<5), IF($K65=4,\"Unknown\", IF($K65=1, $F65*0.33, IF($K65=2, $F65*0.5+$G65*0.2, SUM(F65:G65)))), 0),\"Not required\")","v":148198},0,0,2,1,null,null,null,null,null,49847,"Mbale City",49780,"MBALE",null,null,0,null,{"$error":"#N/A"},{"$f":"_xlfn.XLOOKUP(Y65,[1]COUNTRY_INFO!$Y$9:$Y$143,[1]COUNTRY_INFO!$D$9:$D$143)","v":{"$error":"#N/A"}},{"$f":"_xlfn.XLOOKUP(Y65,[1]COUNTRY_INFO!$Y$9:$Y$143,[1]COUNTRY_INFO!$D$9:$D$143)","v":{"$error":"#N/A"}},null,null,{"$f":"_xlfn.XLOOKUP($Y65,[1]COUNTRY_INFO!$Y$9:$Y$143,[1]COUNTRY_INFO!H$9:H$143)","v":{"$error":"#N/A"}},{"$f":"_xlfn.XLOOKUP($Y65,[1]COUNTRY_INFO!$Y$9:$Y$143,[1]COUNTRY_INFO!I$9:I$143)","v":{"$error":"#N/A"}},{"$f":"_xlfn.XLOOKUP($Y65,[1]COUNTRY_INFO!$Y$9:$Y$143,[1]COUNTRY_INFO!J$9:J$143)","v":{"$error":"#N/A"}},{"$f":"_xlfn.XLOOKUP($Y65,[1]COUNTRY_INFO!$Y$9:$Y$143,[1]COUNTRY_INFO!K$9:K$143)","v":{"$error":"#N/A"}},{"$error":"#N/A"},{"$error":"#N/A"},{"$error":"#N/A"},{"$error":"#N/A"},null,null,null,{"$f":"_xlfn.XLOOKUP($Y65,[2]Sheet1!$B$4:$B$41,[2]Sheet1!$D$4:$D$41)","v":{"$error":"#N/A"}},3]
[{"$f":"IF(INTRO!$E$33<>0,INTRO!$E$33, \" \")","v":"Uganda"},"EASTERN","NAMAYINGO",292024,{"$f":"IF(INTRO!$E$48=\"\",\"\",ROUND($D66*INTRO!$E$48,0))","v":41467},{"$f":"IF(INTRO!$E$49=\"\",\"\",ROUND($D66*INTRO!$E$49,0))","v":88191},{"$f":"IF(INTRO!$E$50=\"\",\"\",ROUND($D66*INTRO!$E$50,0))","v":152145},99,0,3,3,{"$f":"IF(INTRO!$E$37=\"Endemic\",IF($H66>0,IF($H66=4,\"Unknown\",IF($H66=99,\"Stopped\",$D66)),0),\"Not required\")","v":"Not required"},{"$f":"IF(INTRO!$E$39=\"Endemic\", IF($I66>0, IF($I66=4,\"Unknown\",IF($I66=99,\"Stopped\",$D66)), 0),\"Not required\")","v":0},{"$f":"IF(INTRO!$E$41=\"Endemic\", IF(AND($J66>1,$J66<5), IF($J66=4, \"Unknown\", E66+F66), 0),\"Not required\")","v":129658},{"$f":"IF(INTRO!$E$43=\"Endemic\", IF(AND($K66>0,$K66<5), IF($K66=4,\"Unknown\", IF($K66=1, $F66*0.33, IF($K66=2, $F66*0.5+$G66*0.2, SUM(F66:G66)))), 0),\"Not required\")","v":240336},0,0,2,1,null,null,null,null,null,49796,"NAMAYINGO",null,null,null,null,99,null,6.1519447473645945,{"$f":"_xlfn.XLOOKUP(Y66,[1]COUNTRY_INFO!$Y$9:$Y$143,[1]COUNTRY_INFO!$D$9:$D$143)","v":275100},{"$f":"_xlfn.XLOOKUP(Y66,[1]COUNTRY_INFO!$Y$9:$Y$143,[1]COUNTRY_INFO!$D$9:$D$143)","v":275100},null,null,{"$f":"_xlfn.XLOOKUP($Y66,[1]COUNTRY_INFO!$Y$9:$Y$143,[1]COUNTRY_INFO!H$9:H$143)","v":99},{"$f":"_xlfn.XLOOKUP($Y66,[1]COUNTRY_INFO!$Y$9:$Y$143,[1]COUNTRY_INFO!I$9:I$143)","v":0},{"$f":"_xlfn.XLOOKUP($Y66,[1]COUNTRY_INFO!$Y$9:$Y$143,[1]COUNTRY_INFO!J$9:J$143)","v":3},{"$f":"_xlfn.XLOOKUP($Y66,[1]COUNTRY_INFO!$Y$9:$Y$143,[1]COUNTRY_INFO!K$9:K$143)","v":3},true,true,true,true,null,null,null,{"$f":"_xlfn.XLOOKUP($Y66,[2]Sheet1!$B$4:$B$41,[2]Sheet1!$D$4:$D$41)","v":74},3]
[{"$f":"IF(INTRO!$E$33<>0,INTRO!$E$33, \" \")","v":"Uganda"},"EASTERN","NAMISINDWA",241453,{"$f":"IF(INTRO!$E$48=\"\",\"\",ROUND($D67*INTRO!$E$48,0))","v":34286},{"$f":"IF(INTRO!$E$49=\"\",\"\",ROUND($D67*INTRO!$E$49,0))","v":72919},{"$f":"IF(INTRO!$E$50=\"\",\"\",ROUND($D67*INTRO!$E$50,0))","v":125797},0,0,3,1,{"$f":"IF(INTRO!$E$37=\"Endemic\",IF($H67>0,IF($H67=4,\"Unknown\",IF($H67=99,\"Stopped\",$D67)),0),\"Not required\")","v":"Not required"},{"$f":"IF(INTRO!$E$39=\"Endemic\", IF($I67>0, IF($I67=4,\"Unknown\",IF($I67=99,\"Stopped\",$D67)), 0),\"Not required\")","v":0},{"$f":"IF(INTRO!$E$41=\"Endemic\", IF(AND($J67>1,$J67<5), IF($J67=4, \"Unknown\", E67+F67), 0),\"Not required\")","v":107205},{"$f":"IF(INTRO!$E$43=\"Endemic\", IF(AND($K67>0,$K67<5), IF($K67=4,\"Unknown\", IF($K67=1, $F67*0.33, IF($K67=2, $F67*0.5+$G67*0.2, SUM(F67:G67)))), 0),\"Not required\")","v":24063.27},0,0,2,1,null,null,null,null,"Yes",49834,"NAMISINDWA",null,null,null,null,0,null,6.1518508748790994,{"$f":"_xlfn.XLOOKUP(Y67,[1]COUNTRY_INFO!$Y$9:$Y$143,[1]COUNTRY_INFO!$D$9:$D$143)","v":227460},{"$f":"_xlfn.XLOOKUP(Y67,[1]COUNTRY_INFO!$Y$9:$Y$143,[1]COUNTRY_INFO!$D$9:$D$143)","v":227460},null,null,{"$f":"_xlfn.XLOOKUP($Y67,[1]COUNTRY_INFO!$Y$9:$Y$143,[1]COUNTRY_INFO!H$9:H$143)","v":0},{"$f":"_xlfn.XLOOKUP($Y67,[1]COUNTRY_INFO!$Y$9:$Y$143,[1]COUNTRY_INFO!I$9:I$143)","v":0},{"$f":"_xlfn.XLOOKUP($Y67,[1]COUNTRY_INFO!$Y$9:$Y$143,[1]COUNTRY_INFO!J$9:J$143)","v":3},{"$f":"_xlfn.XLOOKUP($Y67,[1]COUNTRY_INFO!$Y$9:$Y$143,[1]COUNTRY_INFO!K$9:K$143)","v":1},true,true,true,true,null,null,null,{"$f":"_xlfn.XLOOKUP($Y67,[2]Sheet1!$B$4:$B$41,[2]Sheet1!$D$4:$D$41)","v":{"$error":"#N/A"}},1]
[{"$f":"IF(INTRO!$E$33<>0,INTRO!$E$33, \" \")","v":"Uganda"},"EASTERN","NAMUTUMBA",331312,{"$f":"IF(INTRO!$E$48=\"\",\"\",ROUND($D68*INTRO!$E$48,0))","v":47046},{"$f":"IF(INTRO!$E$49=\"\",\"\",ROUND($D68*INTRO!$E$49,0))","v":100056},{"$f":"IF(INTRO!$E$50=\"\",\"\",ROUND($D68*INTRO!$E$50,0))","v":172614},99,0,3,2,{"$f":"IF(INTRO!$E$37=\"Endemic\",IF($H68>0,IF($H68=4,\"Unknown\",IF($H68=99,\"Stopped\",$D68)),0),\"Not required\")","v":"Not required"},{"$f":"IF(INTRO!$E$39=\"Endemic\", IF($I68>0, IF($I68=4,\"Unknown\",IF($I68=99,\"Stopped\",$D68)), 0),\"Not required\")","v":0},{"$f":"IF(INTRO!$E$41=\"Endemic\", IF(AND($J68>1,$J68<5), IF($J68=4, \"Unknown\", E68+F68), 0),\"Not required\")","v":147102},{"$f":"IF(INTRO!$E$43=\"Endemic\", IF(AND($K68>0,$K68<5), IF($K68=4,\"Unknown\", IF($K68=1, $F68*0.33, IF($K68=2, $F68*0.5+$G68*0.2, SUM(F68:G68)))), 0),\"Not required\")","v":84550.8},0,0,2,1,null,null,null,null,null,49792,"NAMUTUMBA",null,null,null,null,99,null,6.1516378735838417,{"$f":"_xlfn.XLOOKUP(Y68,[1]COUNTRY_INFO!$Y$9:$Y$143,[1]COUNTRY_INFO!$D$9:$D$143)","v":312112},{"$f":"_xlfn.XLOOKUP(Y68,[1]COUNTRY_INFO!$Y$9:$Y$143,[1]COUNTRY_INFO!$D$9:$D$143)","v":312112},null,null,{"$f":"_xlfn.XLOOKUP($Y68,[1]COUNTRY_INFO!$Y$9:$Y$143,[1]COUNTRY_INFO!H$9:H$143)","v":99},{"$f":"_xlfn.XLOOKUP($Y68,[1]COUNTRY_INFO!$Y$9:$Y$143,[1]COUNTRY_INFO!I$9:I$143)","v":0},{"$f":"_xlfn.XLOOKUP($Y68,[1]COUNTRY_INFO!$Y$9:$Y$143,[1]COUNTRY_INFO!J$9:J$143)","v":3},{"$f":"_xlfn.XLOOKUP($Y68,[1]COUNTRY_INFO!$Y$9:$Y$143,[1]COUNTRY_INFO!K$9:K$143)","v":2},true,true,true,true,null,null,null,{"$f":"_xlfn.XLOOKUP($Y68,[2]Sheet1!$B$4:$B$41,[2]Sheet1!$D$4:$D$41)","v":10},2]
[{"$f":"IF(INTRO!$E$33<>0,INTRO!$E$33, \" \")","v":"Uganda"},"EASTERN","NGORA",186398,{"$f":"IF(INTRO!$E$48=\"\",\"\",ROUND($D69*INTRO!$E$48,0))","v":26469},{"$f":"IF(INTRO!$E$49=\"\",\"\",ROUND($D69*INTRO!$E$49,0))","v":56292},{"$f":"IF(INTRO!$E$50=\"\",\"\",ROUND($D69*INTRO!$E$50,0))","v":97113},99,0,3,1,{"$f":"IF(INTRO!$E$37=\"Endemic\",IF($H69>0,IF($H69=4,\"Unknown\",IF($H69=99,\"Stopped\",$D69)),0),\"Not required\")","v":"Not required"},{"$f":"IF(INTRO!$E$39=\"Endemic\", IF($I69>0, IF($I69=4,\"Unknown\",IF($I69=99,\"Stopped\",$D69)), 0),\"Not required\")","v":0},{"$f":"IF(INTRO!$E$41=\"Endemic\", IF(AND($J69>1,$J69<5), IF($J69=4, \"Unknown\", E69+F69), 0),\"Not required\")","v":82761},{"$f":"IF(INTRO!$E$43=\"Endemic\", IF(AND($K69>0,$K69<5), IF($K69=4,\"Unknown\", IF($K69=1, $F69*0.33, IF($K69=2, $F69*0.5+$G69*0.2, SUM(F69:G69)))), 0),\"Not required\")","v":18576.36},0,0,2,1,null,null,null,null,null,49798,"NGORA",null,null,null,null,99,null,6.1498072312484702,{"$f":"_xlfn.XLOOKUP(Y69,[1]COUNTRY_INFO!$Y$9:$Y$143,[1]COUNTRY_INFO!$D$9:$D$143)","v":175599},{"$f":"_xlfn.XLOOKUP(Y69,[1]COUNTRY_INFO!$Y$9:$Y$143,[1]COUNTRY_INFO!$D$9:$D$143)","v":175599},null,null,{"$f":"_xlfn.XLOOKUP($Y69,[1]COUNTRY_INFO!$Y$9:$Y$143,[1]COUNTRY_INFO!H$9:H$143)","v":99},{"$f":"_xlfn.XLOOKUP($Y69,[1]COUNTRY_INFO!$Y$9:$Y$143,[1]COUNTRY_INFO!I$9:I$143)","v":0},{"$f":"_xlfn.XLOOKUP($Y69,[1]COUNTRY_INFO!$Y$9:$Y$143,[1]COUNTRY_INFO!J$9:J$143)","v":3},{"$f":"_xlfn.XLOOKUP($Y69,[1]COUNTRY_INFO!$Y$9:$Y$143,[1]COUNTRY_INFO!K$9:K$143)","v":1},true,true,true,true,null,null,null,{"$f":"_xlfn.XLOOKUP($Y69,[2]Sheet1!$B$4:$B$41,[2]Sheet1!$D$4:$D$41)","v":1.9607843137254901},1]
[{"$f":"IF(INTRO!$E$33<>0,INTRO!$E$33, \" \")","v":"Uganda"},"EASTERN","PALLISA",316308,{"$f":"IF(INTRO!$E$48=\"\",\"\",ROUND($D70*INTRO!$E$48,0))","v":44916},{"$f":"IF(INTRO!$E$49=\"\",\"\",ROUND($D70*INTRO!$E$49,0))","v":95525},{"$f":"IF(INTRO!$E$50=\"\",\"\",ROUND($D70*INTRO!$E$50,0))","v":164796},99,0,3,1,{"$f":"IF(INTRO!$E$37=\"Endemic\",IF($H70>0,IF($H70=4,\"Unknown\",IF($H70=99,\"Stopped\",$D70)),0),\"Not required\")","v":"Not required"},{"$f":"IF(INTRO!$E$39=\"Endemic\", IF($I70>0, IF($I70=4,\"Unknown\",IF($I70=99,\"Stopped\",$D70)), 0),\"Not required\")","v":0},{"$f":"IF(INTRO!$E$41=\"Endemic\", IF(AND($J70>1,$J70<5), IF($J70=4, \"Unknown\", E70+F70), 0),\"Not required\")","v":140441},{"$f":"IF(INTRO!$E$43=\"Endemic\", IF(AND($K70>0,$K70<5), IF($K70=4,\"Unknown\", IF($K70=1, $F70*0.33, IF($K70=2, $F70*0.5+$G70*0.2, SUM(F70:G70)))), 0),\"Not required\")","v":31523.25},0,0,2,1,null,null,null,null,null,49804,"PALLISA",null,null,null,null,99,null,6.1511046080428491,{"$f":"_xlfn.XLOOKUP(Y70,[1]COUNTRY_INFO!$Y$9:$Y$143,[1]COUNTRY_INFO!$D$9:$D$143)","v":297979},{"$f":"_xlfn.XLOOKUP(Y70,[1]COUNTRY_INFO!$Y$9:$Y$143,[1]COUNTRY_INFO!$D$9:$D$143)","v":297979},null,null,{"$f":"_xlfn.XLOOKUP($Y70,[1]COUNTRY_INFO!$Y$9:$Y$143,[1]COUNTRY_INFO!H$9:H$143)","v":99},{"$f":"_xlfn.XLOOKUP($Y70,[1]COUNTRY_INFO!$Y$9:$Y$143,[1]COUNTRY_INFO!I$9:I$143)","v":0},{"$f":"_xlfn.XLOOKUP($Y70,[1]COUNTRY_INFO!$Y$9:$Y$143,[1]COUNTRY_INFO!J$9:J$143)","v":3},{"$f":"_xlfn.XLOOKUP($Y70,[1]COUNTRY_INFO!$Y$9:$Y$143,[1]COUNTRY_INFO!K$9:K$143)","v":2},true,true,true,false,null,null,null,{"$f":"_xlfn.XLOOKUP($Y70,[2]Sheet1!$B$4:$B$41,[2]Sheet1!$D$4:$D$41)","v":7.2727272727272725},1]
[{"$f":"IF(INTRO!$E$33<>0,INTRO!$E$33, \" \")","v":"Uganda"},"EASTERN","SERERE",371046,{"$f":"IF(INTRO!$E$48=\"\",\"\",ROUND($D71*INTRO!$E$48,0))","v":52689},{"$f":"IF(INTRO!$E$49=\"\",\"\",ROUND($D71*INTRO!$E$49,0))","v":112056},{"$f":"IF(INTRO!$E$50=\"\",\"\",ROUND($D71*INTRO!$E$50,0))","v":193315},99,0,3,3,{"$f":"IF(INTRO!$E$37=\"Endemic\",IF($H71>0,IF($H71=4,\"Unknown\",IF($H71=99,\"Stopped\",$D71)),0),\"Not required\")","v":"Not required"},{"$f":"IF(INTRO!$E$39=\"Endemic\", IF($I71>0, IF($I71=4,\"Unknown\",IF($I71=99,\"Stopped\",$D71)), 0),\"Not required\")","v":0},{"$f":"IF(INTRO!$E$41=\"Endemic\", IF(AND($J71>1,$J71<5), IF($J71=4, \"Unknown\", E71+F71), 0),\"Not required\")","v":164745},{"$f":"IF(INTRO!$E$43=\"Endemic\", IF(AND($K71>0,$K71<5), IF($K71=4,\"Unknown\", IF($K71=1, $F71*0.33, IF($K71=2, $F71*0.5+$G71*0.2, SUM(F71:G71)))), 0),\"Not required\")","v":305371},0,0,2,1,null,null,null,null,null,49812,"SERERE",null,null,null,null,99,null,6.1514430229098487,{"$f":"_xlfn.XLOOKUP(Y71,[1]COUNTRY_INFO!$Y$9:$Y$143,[1]COUNTRY_INFO!$D$9:$D$143)","v":349544},{"$f":"_xlfn.XLOOKUP(Y71,[1]COUNTRY_INFO!$Y$9:$Y$143,[1]COUNTRY_INFO!$D$9:$D$143)","v":349544},null,null,{"$f":"_xlfn.XLOOKUP($Y71,[1]COUNTRY_INFO!$Y$9:$Y$143,[1]COUNTRY_INFO!H$9:H$143)","v":99},{"$f":"_xlfn.XLOOKUP($Y71,[1]COUNTRY_INFO!$Y$9:$Y$143,[1]COUNTRY_INFO!I$9:I$143)","v":0},{"$f":"_xlfn.XLOOKUP($Y71,[1]COUNTRY_INFO!$Y$9:$Y$143,[1]COUNTRY_INFO!J$9:J$143)","v":3},{"$f":"_xlfn.XLOOKUP($Y71,[1]COUNTRY_INFO!$Y$9:$Y$143,[1]COUNTRY_INFO!K$9:K$143)","v":3},true,true,true,true,null,null,null,{"$f":"_xlfn.XLOOKUP($Y71,[2]Sheet1!$B$4:$B$41,[2]Sheet1!$D$4:$D$41)","v":{"$error":"#N/A"}},3]
[{"$f":"IF(INTRO!$E$33<>0,INTRO!$E$33, \" \")","v":"Uganda"},"EASTERN","SIRONKO",322652,{"$f":"IF(INTRO!$E$48=\"\",\"\",ROUND($D72*INTRO!$E$48,0))","v":45817},{"$f":"IF(INTRO!$E$49=\"\",\"\",ROUND($D72*INTRO!$E$49,0))","v":97441},{"$f":"IF(INTRO!$E$50=\"\",\"\",ROUND($D72*INTRO!$E$50,0))","v":168102},0,99,3,2,{"$f":"IF(INTRO!$E$37=\"Endemic\",IF($H72>0,IF($H72=4,\"Unknown\",IF($H72=99,\"Stopped\",$D72)),0),\"Not required\")","v":"Not required"},{"$f":"IF(INTRO!$E$39=\"Endemic\", IF($I72>0, IF($I72=4,\"Unknown\",IF($I72=99,\"Stopped\",$D72)), 0),\"Not required\")","v":"Stopped"},{"$f":"IF(INTRO!$E$41=\"Endemic\", IF(AND($J72>1,$J72<5), IF($J72=4, \"Unknown\", E72+F72), 0),\"Not required\")","v":143258},{"$f":"IF(INTRO!$E$43=\"Endemic\", IF(AND($K72>0,$K72<5), IF($K72=4,\"Unknown\", IF($K72=1, $F72*0.33, IF($K72=2, $F72*0.5+$G72*0.2, SUM(F72:G72)))), 0),\"Not required\")","v":82340.899999999994},0,0,2,1,null,null,null,null,null,49809,"SIRONKO",null,null,null,null,0,null,6.150541030474705,{"$f":"_xlfn.XLOOKUP(Y72,[1]COUNTRY_INFO!$Y$9:$Y$143,[1]COUNTRY_INFO!$D$9:$D$143)","v":303957},{"$f":"_xlfn.XLOOKUP(Y72,[1]COUNTRY_INFO!$Y$9:$Y$143,[1]COUNTRY_INFO!$D$9:$D$143)","v":303957},null,null,{"$f":"_xlfn.XLOOKUP($Y72,[1]COUNTRY_INFO!$Y$9:$Y$143,[1]COUNTRY_INFO!H$9:H$143)","v":0},{"$f":"_xlfn.XLOOKUP($Y72,[1]COUNTRY_INFO!$Y$9:$Y$143,[1]COUNTRY_INFO!I$9:I$143)","v":99},{"$f":"_xlfn.XLOOKUP($Y72,[1]COUNTRY_INFO!$Y$9:$Y$143,[1]COUNTRY_INFO!J$9:J$143)","v":3},{"$f":"_xlfn.XLOOKUP($Y72,[1]COUNTRY_INFO!$Y$9:$Y$143,[1]COUNTRY_INFO!K$9:K$143)","v":1},true,true,true,false,null,null,null,{"$f":"_xlfn.XLOOKUP($Y72,[2]Sheet1!$B$4:$B$41,[2]Sheet1!$D$4:$D$41)","v":39.285714285714285},2]
[{"$f":"IF(INTRO!$E$33<>0,INTRO!$E$33, \" \")","v":"Uganda"},"EASTERN","SOROTI",324046,{"$f":"IF(INTRO!$E$48=\"\",\"\",ROUND($D73*INTRO!$E$48,0))","v":46015},{"$f":"IF(INTRO!$E$49=\"\",\"\",ROUND($D73*INTRO!$E$49,0))","v":97862},{"$f":"IF(INTRO!$E$50=\"\",\"\",ROUND($D73*INTRO!$E$50,0))","v":168828},99,0,3,1,{"$f":"IF(INTRO!$E$37=\"Endemic\",IF($H73>0,IF($H73=4,\"Unknown\",IF($H73=99,\"Stopped\",$D73)),0),\"Not required\")","v":"Not required"},{"$f":"IF(INTRO!$E$39=\"Endemic\", IF($I73>0, IF($I73=4,\"Unknown\",IF($I73=99,\"Stopped\",$D73)), 0),\"Not required\")","v":0},{"$f":"IF(INTRO!$E$41=\"Endemic\", IF(AND($J73>1,$J73<5), IF($J73=4, \"Unknown\", E73+F73), 0),\"Not required\")","v":143877},{"$f":"IF(INTRO!$E$43=\"Endemic\", IF(AND($K73>0,$K73<5), IF($K73=4,\"Unknown\", IF($K73=1, $F73*0.33, IF($K73=2, $F73*0.5+$G73*0.2, SUM(F73:G73)))), 0),\"Not required\")","v":32294.460000000003},0,0,2,1,null,null,null,null,null,49810,"SOROTI",null,null,null,null,99,null,-11.513129150646627,{"$f":"_xlfn.XLOOKUP(Y73,[1]COUNTRY_INFO!$Y$9:$Y$143,[1]COUNTRY_INFO!$D$9:$D$143)","v":366208},{"$f":"_xlfn.XLOOKUP(Y73,[1]COUNTRY_INFO!$Y$9:$Y$143,[1]COUNTRY_INFO!$D$9:$D$143)","v":366208},null,null,{"$f":"_xlfn.XLOOKUP($Y73,[1]COUNTRY_INFO!$Y$9:$Y$143,[1]COUNTRY_INFO!H$9:H$143)","v":99},{"$f":"_xlfn.XLOOKUP($Y73,[1]COUNTRY_INFO!$Y$9:$Y$143,[1]COUNTRY_INFO!I$9:I$143)","v":0},{"$f":"_xlfn.XLOOKUP($Y73,[1]COUNTRY_INFO!$Y$9:$Y$143,[1]COUNTRY_INFO!J$9:J$143)","v":3},{"$f":"_xlfn.XLOOKUP($Y73,[1]COUNTRY_INFO!$Y$9:$Y$143,[1]COUNTRY_INFO!K$9:K$143)","v":2},true,true,true,false,null,null,null,{"$f":"_xlfn.XLOOKUP($Y73,[2]Sheet1!$B$4:$B$41,[2]Sheet1!$D$4:$D$41)","v":2},1]
[{"$f":"IF(INTRO!$E$33<>0,INTRO!$E$33, \" \")","v":"Uganda"},"EASTERN","Soroti City",64694,{"$f":"IF(INTRO!$E$48=\"\",\"\",ROUND($D74*INTRO!$E$48,0))","v":9187},{"$f":"IF(INTRO!$E$49=\"\",\"\",ROUND($D74*INTRO!$E$49,0))","v":19538},{"$f":"IF(INTRO!$E$50=\"\",\"\",ROUND($D74*INTRO!$E$50,0))","v":33706},99,0,3,0,{"$f":"IF(INTRO!$E$37=\"Endemic\",IF($H74>0,IF($H74=4,\"Unknown\",IF($H74=99,\"Stopped\",$D74)),0),\"Not required\")","v":"Not required"},{"$f":"IF(INTRO!$E$39=\"Endemic\", IF($I74>0, IF($I74=4,\"Unknown\",IF($I74=99,\"Stopped\",$D74)), 0),\"Not required\")","v":0},{"$f":"IF(INTRO!$E$41=\"Endemic\", IF(AND($J74>1,$J74<5), IF($J74=4, \"Unknown\", E74+F74), 0),\"Not required\")","v":28725},{"$f":"IF(INTRO!$E$43=\"Endemic\", IF(AND($K74>0,$K74<5), IF($K74=4,\"Unknown\", IF($K74=1, $F74*0.33, IF($K74=2, $F74*0.5+$G74*0.2, SUM(F74:G74)))), 0),\"Not required\")","v":0},0,0,2,0,null,null,null,null,null,49848,"Soroti City",49810,"SOROTI",null,null,99,null,{"$f":"(D74-AH74)/AH74*100","v":{"$error":"#N/A"}},{"$f":"_xlfn.XLOOKUP(Y74,[1]COUNTRY_INFO!$Y$9:$Y$143,[1]COUNTRY_INFO!$D$9:$D$143)","v":{"$error":"#N/A"}},{"$f":"_xlfn.XLOOKUP(Y74,[1]COUNTRY_INFO!$Y$9:$Y$143,[1]COUNTRY_INFO!$D$9:$D$143)","v":{"$error":"#N/A"}},null,null,{"$f":"_xlfn.XLOOKUP($Y74,[1]COUNTRY_INFO!$Y$9:$Y$143,[1]COUNTRY_INFO!H$9:H$143)","v":{"$error":"#N/A"}},{"$f":"_xlfn.XLOOKUP($Y74,[1]COUNTRY_INFO!$Y$9:$Y$143,[1]COUNTRY_INFO!I$9:I$143)","v":{"$error":"#N/A"}},{"$f":"_xlfn.XLOOKUP($Y74,[1]COUNTRY_INFO!$Y$9:$Y$143,[1]COUNTRY_INFO!J$9:J$143)","v":{"$error":"#N/A"}},{"$f":"_xlfn.XLOOKUP($Y74,[1]COUNTRY_INFO!$Y$9:$Y$143,[1]COUNTRY_INFO!K$9:K$143)","v":{"$error":"#N/A"}},{"$f":"AL74=H74","v":{"$error":"#N/A"}},{"$f":"AM74=I74","v":{"$error":"#N/A"}},{"$f":"AN74=J74","v":{"$error":"#N/A"}},{"$f":"AO74=K74","v":{"$error":"#N/A"}},null,null,null,{"$f":"_xlfn.XLOOKUP($Y74,[2]Sheet1!$B$4:$B$41,[2]Sheet1!$D$4:$D$41)","v":{"$error":"#N/A"}},{"$f":"K74","v":0}]
[{"$f":"IF(INTRO!$E$33<>0,INTRO!$E$33, \" \")","v":"Uganda"},"EASTERN","TORORO",688600,{"$f":"IF(INTRO!$E$48=\"\",\"\",ROUND($D75*INTRO!$E$48,0))","v":97781},{"$f":"IF(INTRO!$E$49=\"\",\"\",ROUND($D75*INTRO!$E$49,0))","v":207957},{"$f":"IF(INTRO!$E$50=\"\",\"\",ROUND($D75*INTRO!$E$50,0))","v":358761},99,0,3,3,{"$f":"IF(INTRO!$E$37=\"Endemic\",IF($H75>0,IF($H75=4,\"Unknown\",IF($H75=99,\"Stopped\",$D75)),0),\"Not required\")","v":"Not required"},{"$f":"IF(INTRO!$E$39=\"Endemic\", IF($I75>0, IF($I75=4,\"Unknown\",IF($I75=99,\"Stopped\",$D75)), 0),\"Not required\")","v":0},{"$f":"IF(INTRO!$E$41=\"Endemic\", IF(AND($J75>1,$J75<5), IF($J75=4, \"Unknown\", E75+F75), 0),\"Not required\")","v":305738},{"$f":"IF(INTRO!$E$43=\"Endemic\", IF(AND($K75>0,$K75<5), IF($K75=4,\"Unknown\", IF($K75=1, $F75*0.33, IF($K75=2, $F75*0.5+$G75*0.2, SUM(F75:G75)))), 0),\"Not required\")","v":566718},0,0,2,1,null,null,null,null,null,49814,"TORORO",null,null,null,null,99,null,6.1501085240726123,{"$f":"_xlfn.XLOOKUP(Y75,[1]COUNTRY_INFO!$Y$9:$Y$143,[1]COUNTRY_INFO!$D$9:$D$143)","v":648704},{"$f":"_xlfn.XLOOKUP(Y75,[1]COUNTRY_INFO!$Y$9:$Y$143,[1]COUNTRY_INFO!$D$9:$D$143)","v":648704},null,null,{"$f":"_xlfn.XLOOKUP($Y75,[1]COUNTRY_INFO!$Y$9:$Y$143,[1]COUNTRY_INFO!H$9:H$143)","v":99},{"$f":"_xlfn.XLOOKUP($Y75,[1]COUNTRY_INFO!$Y$9:$Y$143,[1]COUNTRY_INFO!I$9:I$143)","v":0},{"$f":"_xlfn.XLOOKUP($Y75,[1]COUNTRY_INFO!$Y$9:$Y$143,[1]COUNTRY_INFO!J$9:J$143)","v":3},{"$f":"_xlfn.XLOOKUP($Y75,[1]COUNTRY_INFO!$Y$9:$Y$143,[1]COUNTRY_INFO!K$9:K$143)","v":2},true,true,true,false,null,null,null,{"$f":"_xlfn.XLOOKUP($Y75,[2]Sheet1!$B$4:$B$41,[2]Sheet1!$D$4:$D$41)","v":50.980392156862742},3]
[{"$f":"IF(INTRO!$E$33<>0,INTRO!$E$33, \" \")","v":"Uganda"},"NORTHERN","ABIM",142643,{"$f":"IF(INTRO!$E$48=\"\",\"\",ROUND($D76*INTRO!$E$48,0))","v":20255},{"$f":"IF(INTRO!$E$49=\"\",\"\",ROUND($D76*INTRO!$E$49,0))","v":43078},{"$f":"IF(INTRO!$E$50=\"\",\"\",ROUND($D76*INTRO!$E$50,0))","v":74317},99,0,3,0,{"$f":"IF(INTRO!$E$37=\"Endemic\",IF($H76>0,IF($H76=4,\"Unknown\",IF($H76=99,\"Stopped\",$D76)),0),\"Not required\")","v":"Not required"},{"$f":"IF(INTRO!$E$39=\"Endemic\", IF($I76>0, IF($I76=4,\"Unknown\",IF($I76=99,\"Stopped\",$D76)), 0),\"Not required\")","v":0},{"$f":"IF(INTRO!$E$41=\"Endemic\", IF(AND($J76>1,$J76<5), IF($J76=4, \"Unknown\", E76+F76), 0),\"Not required\")","v":63333},{"$f":"IF(INTRO!$E$43=\"Endemic\", IF(AND($K76>0,$K76<5), IF($K76=4,\"Unknown\", IF($K76=1, $F76*0.33, IF($K76=2, $F76*0.5+$G76*0.2, SUM(F76:G76)))), 0),\"Not required\")","v":0},0,0,2,0,null,null,null,null,null,49706,"ABIM",null,null,null,null,99,null,6.1497704254384988,{"$f":"_xlfn.XLOOKUP(Y76,[1]COUNTRY_INFO!$Y$9:$Y$143,[1]COUNTRY_INFO!$D$9:$D$143)","v":134379},{"$f":"_xlfn.XLOOKUP(Y76,[1]COUNTRY_INFO!$Y$9:$Y$143,[1]COUNTRY_INFO!$D$9:$D$143)","v":134379},null,null,{"$f":"_xlfn.XLOOKUP($Y76,[1]COUNTRY_INFO!$Y$9:$Y$143,[1]COUNTRY_INFO!H$9:H$143)","v":99},{"$f":"_xlfn.XLOOKUP($Y76,[1]COUNTRY_INFO!$Y$9:$Y$143,[1]COUNTRY_INFO!I$9:I$143)","v":0},{"$f":"_xlfn.XLOOKUP($Y76,[1]COUNTRY_INFO!$Y$9:$Y$143,[1]COUNTRY_INFO!J$9:J$143)","v":3},{"$f":"_xlfn.XLOOKUP($Y76,[1]COUNTRY_INFO!$Y$9:$Y$143,[1]COUNTRY_INFO!K$9:K$143)","v":0},true,true,true,true,null,null,null,{"$f":"_xlfn.XLOOKUP($Y76,[2]Sheet1!$B$4:$B$41,[2]Sheet1!$D$4:$D$41)","v":{"$error":"#N/A"}},0]
[{"$f":"IF(INTRO!$E$33<>0,INTRO!$E$33, \" \")","v":"Uganda"},"NORTHERN","ADJUMANI",304571,{"$f":"IF(INTRO!$E$48=\"\",\"\",ROUND($D77*INTRO!$E$48,0))","v":43249},{"$f":"IF(INTRO!$E$49=\"\",\"\",ROUND($D77*INTRO!$E$49,0))","v":91980},{"$f":"IF(INTRO!$E$50=\"\",\"\",ROUND($D77*INTRO!$E$50,0))","v":158681},99,1,3,3,{"$f":"IF(INTRO!$E$37=\"Endemic\",IF($H77>0,IF($H77=4,\"Unknown\",IF($H77=99,\"Stopped\",$D77)),0),\"Not required\")","v":"Not required"},{"$f":"IF(INTRO!$E$39=\"Endemic\", IF($I77>0, IF($I77=4,\"Unknown\",IF($I77=99,\"Stopped\",$D77)), 0),\"Not required\")","v":304571},{"$f":"IF(INTRO!$E$41=\"Endemic\", IF(AND($J77>1,$J77<5), IF($J77=4, \"Unknown\", E77+F77), 0),\"Not required\")","v":135229},{"$f":"IF(INTRO!$E$43=\"Endemic\", IF(AND($K77>0,$K77<5), IF($K77=4,\"Unknown\", IF($K77=1, $F77*0.33, IF($K77=2, $F77*0.5+$G77*0.2, SUM(F77:G77)))), 0),\"Not required\")","v":250661},0,2,2,1,null,null,null,null,null,49707,"ADJUMANI",null,null,null,null,99,null,6.1537389122213897,{"$f":"_xlfn.XLOOKUP(Y77,[1]COUNTRY_INFO!$Y$9:$Y$143,[1]COUNTRY_INFO!$D$9:$D$143)","v":286915},{"$f":"_xlfn.XLOOKUP(Y77,[1]COUNTRY_INFO!$Y$9:$Y$143,[1]COUNTRY_INFO!$D$9:$D$143)","v":286915},null,null,{"$f":"_xlfn.XLOOKUP($Y77,[1]COUNTRY_INFO!$Y$9:$Y$143,[1]COUNTRY_INFO!H$9:H$143)","v":99},{"$f":"_xlfn.XLOOKUP($Y77,[1]COUNTRY_INFO!$Y$9:$Y$143,[1]COUNTRY_INFO!I$9:I$143)","v":1},{"$f":"_xlfn.XLOOKUP($Y77,[1]COUNTRY_INFO!$Y$9:$Y$143,[1]COUNTRY_INFO!J$9:J$143)","v":3},{"$f":"_xlfn.XLOOKUP($Y77,[1]COUNTRY_INFO!$Y$9:$Y$143,[1]COUNTRY_INFO!K$9:K$143)","v":3},true,true,true,true,null,null,null,{"$f":"_xlfn.XLOOKUP($Y77,[2]Sheet1!$B$4:$B$41,[2]Sheet1!$D$4:$D$41)","v":{"$error":"#N/A"}},3]
[{"$f":"IF(INTRO!$E$33<>0,INTRO!$E$33, \" \")","v":"Uganda"},"NORTHERN","AGAGO",297603,{"$f":"IF(INTRO!$E$48=\"\",\"\",ROUND($D78*INTRO!$E$48,0))","v":42260},{"$f":"IF(INTRO!$E$49=\"\",\"\",ROUND($D78*INTRO!$E$49,0))","v":89876},{"$f":"IF(INTRO!$E$50=\"\",\"\",ROUND($D78*INTRO!$E$50,0))","v":155051},99,0,3,3,{"$f":"IF(INTRO!$E$37=\"Endemic\",IF($H78>0,IF($H78=4,\"Unknown\",IF($H78=99,\"Stopped\",$D78)),0),\"Not required\")","v":"Not required"},{"$f":"IF(INTRO!$E$39=\"Endemic\", IF($I78>0, IF($I78=4,\"Unknown\",IF($I78=99,\"Stopped\",$D78)), 0),\"Not required\")","v":0},{"$f":"IF(INTRO!$E$41=\"Endemic\", IF(AND($J78>1,$J78<5), IF($J78=4, \"Unknown\", E78+F78), 0),\"Not required\")","v":132136},{"$f":"IF(INTRO!$E$43=\"Endemic\", IF(AND($K78>0,$K78<5), IF($K78=4,\"Unknown\", IF($K78=1, $F78*0.33, IF($K78=2, $F78*0.5+$G78*0.2, SUM(F78:G78)))), 0),\"Not required\")","v":244927},0,0,2,1,null,null,null,null,null,49713,"AGAGO",null,null,null,null,99,null,6.1540930979133224,{"$f":"_xlfn.XLOOKUP(Y78,[1]COUNTRY_INFO!$Y$9:$Y$143,[1]COUNTRY_INFO!$D$9:$D$143)","v":280350},{"$f":"_xlfn.XLOOKUP(Y78,[1]COUNTRY_INFO!$Y$9:$Y$143,[1]COUNTRY_INFO!$D$9:$D$143)","v":280350},null,null,{"$f":"_xlfn.XLOOKUP($Y78,[1]COUNTRY_INFO!$Y$9:$Y$143,[1]COUNTRY_INFO!H$9:H$143)","v":99},{"$f":"_xlfn.XLOOKUP($Y78,[1]COUNTRY_INFO!$Y$9:$Y$143,[1]COUNTRY_INFO!I$9:I$143)","v":0},{"$f":"_xlfn.XLOOKUP($Y78,[1]COUNTRY_INFO!$Y$9:$Y$143,[1]COUNTRY_INFO!J$9:J$143)","v":3},{"$f":"_xlfn.XLOOKUP($Y78,[1]COUNTRY_INFO!$Y$9:$Y$143,[1]COUNTRY_INFO!K$9:K$143)","v":3},true,true,true,true,null,null,null,{"$f":"_xlfn.XLOOKUP($Y78,[2]Sheet1!$B$4:$B$41,[2]Sheet1!$D$4:$D$41)","v":{"$error":"#N/A"}},{"$f":"AO78","v":3}]
[{"$f":"IF(INTRO!$E$33<>0,INTRO!$E$33, \" \")","v":"Uganda"},"NORTHERN","ALEBTONG",294777,{"$f":"IF(INTRO!$E$48=\"\",\"\",ROUND($D79*INTRO!$E$48,0))","v":41858},{"$f":"IF(INTRO!$E$49=\"\",\"\",ROUND($D79*INTRO!$E$49,0))","v":89023},{"$f":"IF(INTRO!$E$50=\"\",\"\",ROUND($D79*INTRO!$E$50,0))","v":153579},99,0,3,2,{"$f":"IF(INTRO!$E$37=\"Endemic\",IF($H79>0,IF($H79=4,\"Unknown\",IF($H79=99,\"Stopped\",$D79)),0),\"Not required\")","v":"Not required"},{"$f":"IF(INTRO!$E$39=\"Endemic\", IF($I79>0, IF($I79=4,\"Unknown\",IF($I79=99,\"Stopped\",$D79)), 0),\"Not required\")","v":0},{"$f":"IF(INTRO!$E$41=\"Endemic\", IF(AND($J79>1,$J79<5), IF($J79=4, \"Unknown\", E79+F79), 0),\"Not required\")","v":130881},{"$f":"IF(INTRO!$E$43=\"Endemic\", IF(AND($K79>0,$K79<5), IF($K79=4,\"Unknown\", IF($K79=1, $F79*0.33, IF($K79=2, $F79*0.5+$G79*0.2, SUM(F79:G79)))), 0),\"Not required\")","v":75227.3},0,0,2,1,null,null,null,null,null,49714,"ALEBTONG",null,null,null,null,99,null,6.1547935437868668,{"$f":"_xlfn.XLOOKUP(Y79,[1]COUNTRY_INFO!$Y$9:$Y$143,[1]COUNTRY_INFO!$D$9:$D$143)","v":277686},{"$f":"_xlfn.XLOOKUP(Y79,[1]COUNTRY_INFO!$Y$9:$Y$143,[1]COUNTRY_INFO!$D$9:$D$143)","v":277686},null,null,{"$f":"_xlfn.XLOOKUP($Y79,[1]COUNTRY_INFO!$Y$9:$Y$143,[1]COUNTRY_INFO!H$9:H$143)","v":99},{"$f":"_xlfn.XLOOKUP($Y79,[1]COUNTRY_INFO!$Y$9:$Y$143,[1]COUNTRY_INFO!I$9:I$143)","v":0},{"$f":"_xlfn.XLOOKUP($Y79,[1]COUNTRY_INFO!$Y$9:$Y$143,[1]COUNTRY_INFO!J$9:J$143)","v":3},{"$f":"_xlfn.XLOOKUP($Y79,[1]COUNTRY_INFO!$Y$9:$Y$143,[1]COUNTRY_INFO!K$9:K$143)","v":2},true,true,true,true,null,null,null,{"$f":"_xlfn.XLOOKUP($Y79,[2]Sheet1!$B$4:$B$41,[2]Sheet1!$D$4:$D$41)","v":{"$error":"#N/A"}},{"$f":"AO79","v":2}]
[{"$f":"IF(INTRO!$E$33<>0,INTRO!$E$33, \" \")","v":"Uganda"},"NORTHERN","AMOLATAR",192183,{"$f":"IF(INTRO!$E$48=\"\",\"\",ROUND($D80*INTRO!$E$48,0))","v":27290},{"$f":"IF(INTRO!$E$49=\"\",\"\",ROUND($D80*INTRO!$E$49,0))","v":58039},{"$f":"IF(INTRO!$E$50=\"\",\"\",ROUND($D80*INTRO!$E$50,0))","v":100127},99,0,3,3,{"$f":"IF(INTRO!$E$37=\"Endemic\",IF($H80>0,IF($H80=4,\"Unknown\",IF($H80=99,\"Stopped\",$D80)),0),\"Not required\")","v":"Not required"},{"$f":"IF(INTRO!$E$39=\"Endemic\", IF($I80>0, IF($I80=4,\"Unknown\",IF($I80=99,\"Stopped\",$D80)), 0),\"Not required\")","v":0},{"$f":"IF(INTRO!$E$41=\"Endemic\", IF(AND($J80>1,$J80<5), IF($J80=4, \"Unknown\", E80+F80), 0),\"Not required\")","v":85329},{"$f":"IF(INTRO!$E$43=\"Endemic\", IF(AND($K80>0,$K80<5), IF($K80=4,\"Unknown\", IF($K80=1, $F80*0.33, IF($K80=2, $F80*0.5+$G80*0.2, SUM(F80:G80)))), 0),\"Not required\")","v":158166},0,0,2,1,null,null,null,null,null,49708,"AMOLATAR",null,null,null,null,99,null,6.15323431449987,{"$f":"_xlfn.XLOOKUP(Y80,[1]COUNTRY_INFO!$Y$9:$Y$143,[1]COUNTRY_INFO!$D$9:$D$143)","v":181043},{"$f":"_xlfn.XLOOKUP(Y80,[1]COUNTRY_INFO!$Y$9:$Y$143,[1]COUNTRY_INFO!$D$9:$D$143)","v":181043},null,null,{"$f":"_xlfn.XLOOKUP($Y80,[1]COUNTRY_INFO!$Y$9:$Y$143,[1]COUNTRY_INFO!H$9:H$143)","v":99},{"$f":"_xlfn.XLOOKUP($Y80,[1]COUNTRY_INFO!$Y$9:$Y$143,[1]COUNTRY_INFO!I$9:I$143)","v":0},{"$f":"_xlfn.XLOOKUP($Y80,[1]COUNTRY_INFO!$Y$9:$Y$143,[1]COUNTRY_INFO!J$9:J$143)","v":3},{"$f":"_xlfn.XLOOKUP($Y80,[1]COUNTRY_INFO!$Y$9:$Y$143,[1]COUNTRY_INFO!K$9:K$143)","v":3},true,true,true,true,null,null,null,{"$f":"_xlfn.XLOOKUP($Y80,[2]Sheet1!$B$4:$B$41,[2]Sheet1!$D$4:$D$41)","v":{"$error":"#N/A"}},3]
[{"$f":"IF(INTRO!$E$33<>0,INTRO!$E$33, \" \")","v":"Uganda"},"NORTHERN","AMUDAT",146199,{"$f":"IF(INTRO!$E$48=\"\",\"\",ROUND($D81*INTRO!$E$48,0))","v":20760},{"$f":"IF(INTRO!$E$49=\"\",\"\",ROUND($D81*INTRO!$E$49,0))","v":44152},{"$f":"IF(INTRO!$E$50=\"\",\"\",ROUND($D81*INTRO!$E$50,0))","v":76170},99,0,3,0,{"$f":"IF(INTRO!$E$37=\"Endemic\",IF($H81>0,IF($H81=4,\"Unknown\",IF($H81=99,\"Stopped\",$D81)),0),\"Not required\")","v":"Not required"},{"$f":"IF(INTRO!$E$39=\"Endemic\", IF($I81>0, IF($I81=4,\"Unknown\",IF($I81=99,\"Stopped\",$D81)), 0),\"Not required\")","v":0},{"$f":"IF(INTRO!$E$41=\"Endemic\", IF(AND($J81>1,$J81<5), IF($J81=4, \"Unknown\", E81+F81), 0),\"Not required\")","v":64912},{"$f":"IF(INTRO!$E$43=\"Endemic\", IF(AND($K81>0,$K81<5), IF($K81=4,\"Unknown\", IF($K81=1, $F81*0.33, IF($K81=2, $F81*0.5+$G81*0.2, SUM(F81:G81)))), 0),\"Not required\")","v":0},0,0,2,0,null,null,null,null,null,49715,"AMUDAT",null,null,null,null,99,null,6.1474457642377951,{"$f":"_xlfn.XLOOKUP(Y81,[1]COUNTRY_INFO!$Y$9:$Y$143,[1]COUNTRY_INFO!$D$9:$D$143)","v":137732},{"$f":"_xlfn.XLOOKUP(Y81,[1]COUNTRY_INFO!$Y$9:$Y$143,[1]COUNTRY_INFO!$D$9:$D$143)","v":137732},null,null,{"$f":"_xlfn.XLOOKUP($Y81,[1]COUNTRY_INFO!$Y$9:$Y$143,[1]COUNTRY_INFO!H$9:H$143)","v":99},{"$f":"_xlfn.XLOOKUP($Y81,[1]COUNTRY_INFO!$Y$9:$Y$143,[1]COUNTRY_INFO!I$9:I$143)","v":0},{"$f":"_xlfn.XLOOKUP($Y81,[1]COUNTRY_INFO!$Y$9:$Y$143,[1]COUNTRY_INFO!J$9:J$143)","v":3},{"$f":"_xlfn.XLOOKUP($Y81,[1]COUNTRY_INFO!$Y$9:$Y$143,[1]COUNTRY_INFO!K$9:K$143)","v":0},true,true,true,true,null,null,null,{"$f":"_xlfn.XLOOKUP($Y81,[2]Sheet1!$B$4:$B$41,[2]Sheet1!$D$4:$D$41)","v":{"$error":"#N/A"}},0]
[{"$f":"IF(INTRO!$E$33<>0,INTRO!$E$33, \" \")","v":"Uganda"},"NORTHERN","AMURU",249231,{"$f":"IF(INTRO!$E$48=\"\",\"\",ROUND($D82*INTRO!$E$48,0))","v":35391},{"$f":"IF(INTRO!$E$49=\"\",\"\",ROUND($D82*INTRO!$E$49,0))","v":75268},{"$f":"IF(INTRO!$E$50=\"\",\"\",ROUND($D82*INTRO!$E$50,0))","v":129849},99,1,3,3,{"$f":"IF(INTRO!$E$37=\"Endemic\",IF($H82>0,IF($H82=4,\"Unknown\",IF($H82=99,\"Stopped\",$D82)),0),\"Not required\")","v":"Not required"},{"$f":"IF(INTRO!$E$39=\"Endemic\", IF($I82>0, IF($I82=4,\"Unknown\",IF($I82=99,\"Stopped\",$D82)), 0),\"Not required\")","v":249231},{"$f":"IF(INTRO!$E$41=\"Endemic\", IF(AND($J82>1,$J82<5), IF($J82=4, \"Unknown\", E82+F82), 0),\"Not required\")","v":110659},{"$f":"IF(INTRO!$E$43=\"Endemic\", IF(AND($K82>0,$K82<5), IF($K82=4,\"Unknown\", IF($K82=1, $F82*0.33, IF($K82=2, $F82*0.5+$G82*0.2, SUM(F82:G82)))), 0),\"Not required\")","v":205117},0,2,2,1,null,null,null,null,null,49710,"AMURU",null,null,null,null,99,null,6.151506891323236,{"$f":"_xlfn.XLOOKUP(Y82,[1]COUNTRY_INFO!$Y$9:$Y$143,[1]COUNTRY_INFO!$D$9:$D$143)","v":234788},{"$f":"_xlfn.XLOOKUP(Y82,[1]COUNTRY_INFO!$Y$9:$Y$143,[1]COUNTRY_INFO!$D$9:$D$143)","v":234788},null,null,{"$f":"_xlfn.XLOOKUP($Y82,[1]COUNTRY_INFO!$Y$9:$Y$143,[1]COUNTRY_INFO!H$9:H$143)","v":99},{"$f":"_xlfn.XLOOKUP($Y82,[1]COUNTRY_INFO!$Y$9:$Y$143,[1]COUNTRY_INFO!I$9:I$143)","v":1},{"$f":"_xlfn.XLOOKUP($Y82,[1]COUNTRY_INFO!$Y$9:$Y$143,[1]COUNTRY_INFO!J$9:J$143)","v":3},{"$f":"_xlfn.XLOOKUP($Y82,[1]COUNTRY_INFO!$Y$9:$Y$143,[1]COUNTRY_INFO!K$9:K$143)","v":3},true,true,true,true,null,null,null,{"$f":"_xlfn.XLOOKUP($Y82,[2]Sheet1!$B$4:$B$41,[2]Sheet1!$D$4:$D$41)","v":{"$error":"#N/A"}},3]
[{"$f":"IF(INTRO!$E$33<>0,INTRO!$E$33, \" \")","v":"Uganda"},"NORTHERN","APAC",242514,{"$f":"IF(INTRO!$E$48=\"\",\"\",ROUND($D83*INTRO!$E$48,0))","v":34437},{"$f":"IF(INTRO!$E$49=\"\",\"\",ROUND($D83*INTRO!$E$49,0))","v":73239},{"$f":"IF(INTRO!$E$50=\"\",\"\",ROUND($D83*INTRO!$E$50,0))","v":126350},99,0,3,3,{"$f":"IF(INTRO!$E$37=\"Endemic\",IF($H83>0,IF($H83=4,\"Unknown\",IF($H83=99,\"Stopped\",$D83)),0),\"Not required\")","v":"Not required"},{"$f":"IF(INTRO!$E$39=\"Endemic\", IF($I83>0, IF($I83=4,\"Unknown\",IF($I83=99,\"Stopped\",$D83)), 0),\"Not required\")","v":0},{"$f":"IF(INTRO!$E$41=\"Endemic\", IF(AND($J83>1,$J83<5), IF($J83=4, \"Unknown\", E83+F83), 0),\"Not required\")","v":107676},{"$f":"IF(INTRO!$E$43=\"Endemic\", IF(AND($K83>0,$K83<5), IF($K83=4,\"Unknown\", IF($K83=1, $F83*0.33, IF($K83=2, $F83*0.5+$G83*0.2, SUM(F83:G83)))), 0),\"Not required\")","v":199589},0,0,2,1,null,null,null,null,null,49711,"APAC",null,null,null,null,99,null,6.1497653897331741,{"$f":"_xlfn.XLOOKUP(Y83,[1]COUNTRY_INFO!$Y$9:$Y$143,[1]COUNTRY_INFO!$D$9:$D$143)","v":228464},{"$f":"_xlfn.XLOOKUP(Y83,[1]COUNTRY_INFO!$Y$9:$Y$143,[1]COUNTRY_INFO!$D$9:$D$143)","v":228464},null,null,{"$f":"_xlfn.XLOOKUP($Y83,[1]COUNTRY_INFO!$Y$9:$Y$143,[1]COUNTRY_INFO!H$9:H$143)","v":99},{"$f":"_xlfn.XLOOKUP($Y83,[1]COUNTRY_INFO!$Y$9:$Y$143,[1]COUNTRY_INFO!I$9:I$143)","v":0},{"$f":"_xlfn.XLOOKUP($Y83,[1]COUNTRY_INFO!$Y$9:$Y$143,[1]COUNTRY_INFO!J$9:J$143)","v":3},{"$f":"_xlfn.XLOOKUP($Y83,[1]COUNTRY_INFO!$Y$9:$Y$143,[1]COUNTRY_INFO!K$9:K$143)","v":3},true,true,true,true,null,null,null,{"$f":"_xlfn.XLOOKUP($Y83,[2]Sheet1!$B$4:$B$41,[2]Sheet1!$D$4:$D$41)","v":{"$error":"#N/A"}},3]
[{"$f":"IF(INTRO!$E$33<>0,INTRO!$E$33, \" \")","v":"Uganda"},"NORTHERN","ARUA",174828,{"$f":"IF(INTRO!$E$48=\"\",\"\",ROUND($D84*INTRO!$E$48,0))","v":24826},{"$f":"IF(INTRO!$E$49=\"\",\"\",ROUND($D84*INTRO!$E$49,0))","v":52798},{"$f":"IF(INTRO!$E$50=\"\",\"\",ROUND($D84*INTRO!$E$50,0))","v":91085},99,99,3,3,{"$f":"IF(INTRO!$E$37=\"Endemic\",IF($H84>0,IF($H84=4,\"Unknown\",IF($H84=99,\"Stopped\",$D84)),0),\"Not required\")","v":"Not required"},{"$f":"IF(INTRO!$E$39=\"Endemic\", IF($I84>0, IF($I84=4,\"Unknown\",IF($I84=99,\"Stopped\",$D84)), 0),\"Not required\")","v":"Stopped"},{"$f":"IF(INTRO!$E$41=\"Endemic\", IF(AND($J84>1,$J84<5), IF($J84=4, \"Unknown\", E84+F84), 0),\"Not required\")","v":77624},{"$f":"IF(INTRO!$E$43=\"Endemic\", IF(AND($K84>0,$K84<5), IF($K84=4,\"Unknown\", IF($K84=1, $F84*0.33, IF($K84=2, $F84*0.5+$G84*0.2, SUM(F84:G84)))), 0),\"Not required\")","v":143883},0,0,2,1,null,null,null,null,null,49712,"ARUA",null,null,null,null,99,null,-78.057220315157295,{"$f":"_xlfn.XLOOKUP(Y84,[1]COUNTRY_INFO!$Y$9:$Y$143,[1]COUNTRY_INFO!$D$9:$D$143)","v":796745},{"$f":"_xlfn.XLOOKUP(Y84,[1]COUNTRY_INFO!$Y$9:$Y$143,[1]COUNTRY_INFO!$D$9:$D$143)","v":796745},null,null,{"$f":"_xlfn.XLOOKUP($Y84,[1]COUNTRY_INFO!$Y$9:$Y$143,[1]COUNTRY_INFO!H$9:H$143)","v":99},{"$f":"_xlfn.XLOOKUP($Y84,[1]COUNTRY_INFO!$Y$9:$Y$143,[1]COUNTRY_INFO!I$9:I$143)","v":99},{"$f":"_xlfn.XLOOKUP($Y84,[1]COUNTRY_INFO!$Y$9:$Y$143,[1]COUNTRY_INFO!J$9:J$143)","v":3},{"$f":"_xlfn.XLOOKUP($Y84,[1]COUNTRY_INFO!$Y$9:$Y$143,[1]COUNTRY_INFO!K$9:K$143)","v":3},true,true,true,true,null,null,null,{"$f":"_xlfn.XLOOKUP($Y84,[2]Sheet1!$B$4:$B$41,[2]Sheet1!$D$4:$D$41)","v":{"$error":"#N/A"}},3]
[{"$f":"IF(INTRO!$E$33<>0,INTRO!$E$33, \" \")","v":"Uganda"},"NORTHERN","Arua City",404045,{"$f":"IF(INTRO!$E$48=\"\",\"\",ROUND($D85*INTRO!$E$48,0))","v":57374},{"$f":"IF(INTRO!$E$49=\"\",\"\",ROUND($D85*INTRO!$E$49,0))","v":122022},{"$f":"IF(INTRO!$E$50=\"\",\"\",ROUND($D85*INTRO!$E$50,0))","v":210507},99,0,3,3,{"$f":"IF(INTRO!$E$37=\"Endemic\",IF($H85>0,IF($H85=4,\"Unknown\",IF($H85=99,\"Stopped\",$D85)),0),\"Not required\")","v":"Not required"},{"$f":"IF(INTRO!$E$39=\"Endemic\", IF($I85>0, IF($I85=4,\"Unknown\",IF($I85=99,\"Stopped\",$D85)), 0),\"Not required\")","v":0},{"$f":"IF(INTRO!$E$41=\"Endemic\", IF(AND($J85>1,$J85<5), IF($J85=4, \"Unknown\", E85+F85), 0),\"Not required\")","v":179396},{"$f":"IF(INTRO!$E$43=\"Endemic\", IF(AND($K85>0,$K85<5), IF($K85=4,\"Unknown\", IF($K85=1, $F85*0.33, IF($K85=2, $F85*0.5+$G85*0.2, SUM(F85:G85)))), 0),\"Not required\")","v":332529},0,0,2,1,null,null,null,null,null,49849,"Arua City",49712,"ARUA",null,null,99,null,{"$error":"#N/A"},{"$f":"_xlfn.XLOOKUP(Y85,[1]COUNTRY_INFO!$Y$9:$Y$143,[1]COUNTRY_INFO!$D$9:$D$143)","v":{"$error":"#N/A"}},{"$f":"_xlfn.XLOOKUP(Y85,[1]COUNTRY_INFO!$Y$9:$Y$143,[1]COUNTRY_INFO!$D$9:$D$143)","v":{"$error":"#N/A"}},null,null,{"$f":"_xlfn.XLOOKUP($Y85,[1]COUNTRY_INFO!$Y$9:$Y$143,[1]COUNTRY_INFO!H$9:H$143)","v":{"$error":"#N/A"}},{"$f":"_xlfn.XLOOKUP($Y85,[1]COUNTRY_INFO!$Y$9:$Y$143,[1]COUNTRY_INFO!I$9:I$143)","v":{"$error":"#N/A"}},{"$f":"_xlfn.XLOOKUP($Y85,[1]COUNTRY_INFO!$Y$9:$Y$143,[1]COUNTRY_INFO!J$9:J$143)","v":{"$error":"#N/A"}},{"$f":"_xlfn.XLOOKUP($Y85,[1]COUNTRY_INFO!$Y$9:$Y$143,[1]COUNTRY_INFO!K$9:K$143)","v":{"$error":"#N/A"}},{"$error":"#N/A"},{"$error":"#N/A"},{"$error":"#N/A"},{"$error":"#N/A"},null,null,null,{"$f":"_xlfn.XLOOKUP($Y85,[2]Sheet1!$B$4:$B$41,[2]Sheet1!$D$4:$D$41)","v":{"$error":"#N/A"}},3]
[{"$f":"IF(INTRO!$E$33<>0,INTRO!$E$33, \" \")","v":"Uganda"},"NORTHERN","DOKOLO",238852,{"$f":"IF(INTRO!$E$48=\"\",\"\",ROUND($D86*INTRO!$E$48,0))","v":33917},{"$f":"IF(INTRO!$E$49=\"\",\"\",ROUND($D86*INTRO!$E$49,0))","v":72133},{"$f":"IF(INTRO!$E$50=\"\",\"\",ROUND($D86*INTRO!$E$50,0))","v":124442},99,0,3,2,{"$f":"IF(INTRO!$E$37=\"Endemic\",IF($H86>0,IF($H86=4,\"Unknown\",IF($H86=99,\"Stopped\",$D86)),0),\"Not required\")","v":"Not required"},{"$f":"IF(INTRO!$E$39=\"Endemic\", IF($I86>0, IF($I86=4,\"Unknown\",IF($I86=99,\"Stopped\",$D86)), 0),\"Not required\")","v":0},{"$f":"IF(INTRO!$E$41=\"Endemic\", IF(AND($J86>1,$J86<5), IF($J86=4, \"Unknown\", E86+F86), 0),\"Not required\")","v":106050},{"$f":"IF(INTRO!$E$43=\"Endemic\", IF(AND($K86>0,$K86<5), IF($K86=4,\"Unknown\", IF($K86=1, $F86*0.33, IF($K86=2, $F86*0.5+$G86*0.2, SUM(F86:G86)))), 0),\"Not required\")","v":60954.9},0,0,2,1,null,null,null,null,null,49733,"DOKOLO",null,null,null,null,99,null,6.1540854647674497,{"$f":"_xlfn.XLOOKUP(Y86,[1]COUNTRY_INFO!$Y$9:$Y$143,[1]COUNTRY_INFO!$D$9:$D$143)","v":225005},{"$f":"_xlfn.XLOOKUP(Y86,[1]COUNTRY_INFO!$Y$9:$Y$143,[1]COUNTRY_INFO!$D$9:$D$143)","v":225005},null,null,{"$f":"_xlfn.XLOOKUP($Y86,[1]COUNTRY_INFO!$Y$9:$Y$143,[1]COUNTRY_INFO!H$9:H$143)","v":99},{"$f":"_xlfn.XLOOKUP($Y86,[1]COUNTRY_INFO!$Y$9:$Y$143,[1]COUNTRY_INFO!I$9:I$143)","v":0},{"$f":"_xlfn.XLOOKUP($Y86,[1]COUNTRY_INFO!$Y$9:$Y$143,[1]COUNTRY_INFO!J$9:J$143)","v":3},{"$f":"_xlfn.XLOOKUP($Y86,[1]COUNTRY_INFO!$Y$9:$Y$143,[1]COUNTRY_INFO!K$9:K$143)","v":1},true,true,true,false,null,null,null,{"$f":"_xlfn.XLOOKUP($Y86,[2]Sheet1!$B$4:$B$41,[2]Sheet1!$D$4:$D$41)","v":18},2]
[{"$f":"IF(INTRO!$E$33<>0,INTRO!$E$33, \" \")","v":"Uganda"},"NORTHERN","GULU",164591,{"$f":"IF(INTRO!$E$48=\"\",\"\",ROUND($D87*INTRO!$E$48,0))","v":23372},{"$f":"IF(INTRO!$E$49=\"\",\"\",ROUND($D87*INTRO!$E$49,0))","v":49706},{"$f":"IF(INTRO!$E$50=\"\",\"\",ROUND($D87*INTRO!$E$50,0))","v":85752},99,1,3,2,{"$f":"IF(INTRO!$E$37=\"Endemic\",IF($H87>0,IF($H87=4,\"Unknown\",IF($H87=99,\"Stopped\",$D87)),0),\"Not required\")","v":"Not required"},{"$f":"IF(INTRO!$E$39=\"Endemic\", IF($I87>0, IF($I87=4,\"Unknown\",IF($I87=99,\"Stopped\",$D87)), 0),\"Not required\")","v":164591},{"$f":"IF(INTRO!$E$41=\"Endemic\", IF(AND($J87>1,$J87<5), IF($J87=4, \"Unknown\", E87+F87), 0),\"Not required\")","v":73078},{"$f":"IF(INTRO!$E$43=\"Endemic\", IF(AND($K87>0,$K87<5), IF($K87=4,\"Unknown\", IF($K87=1, $F87*0.33, IF($K87=2, $F87*0.5+$G87*0.2, SUM(F87:G87)))), 0),\"Not required\")","v":42003.4},0,2,2,1,null,null,null,null,null,49734,"GULU",null,null,null,null,99,null,-57.345257963863297,{"$f":"_xlfn.XLOOKUP(Y87,[1]COUNTRY_INFO!$Y$9:$Y$143,[1]COUNTRY_INFO!$D$9:$D$143)","v":385868},{"$f":"_xlfn.XLOOKUP(Y87,[1]COUNTRY_INFO!$Y$9:$Y$143,[1]COUNTRY_INFO!$D$9:$D$143)","v":385868},null,null,{"$f":"_xlfn.XLOOKUP($Y87,[1]COUNTRY_INFO!$Y$9:$Y$143,[1]COUNTRY_INFO!H$9:H$143)","v":99},{"$f":"_xlfn.XLOOKUP($Y87,[1]COUNTRY_INFO!$Y$9:$Y$143,[1]COUNTRY_INFO!I$9:I$143)","v":1},{"$f":"_xlfn.XLOOKUP($Y87,[1]COUNTRY_INFO!$Y$9:$Y$143,[1]COUNTRY_INFO!J$9:J$143)","v":3},{"$f":"_xlfn.XLOOKUP($Y87,[1]COUNTRY_INFO!$Y$9:$Y$143,[1]COUNTRY_INFO!K$9:K$143)","v":2},true,true,true,true,null,null,null,{"$f":"_xlfn.XLOOKUP($Y87,[2]Sheet1!$B$4:$B$41,[2]Sheet1!$D$4:$D$41)","v":{"$error":"#N/A"}},2]
[{"$f":"IF(INTRO!$E$33<>0,INTRO!$E$33, \" \")","v":"Uganda"},"NORTHERN","Gulu City",199214,{"$f":"IF(INTRO!$E$48=\"\",\"\",ROUND($D88*INTRO!$E$48,0))","v":28288},{"$f":"IF(INTRO!$E$49=\"\",\"\",ROUND($D88*INTRO!$E$49,0))","v":60163},{"$f":"IF(INTRO!$E$50=\"\",\"\",ROUND($D88*INTRO!$E$50,0))","v":103790},99,1,3,1,{"$f":"IF(INTRO!$E$37=\"Endemic\",IF($H88>0,IF($H88=4,\"Unknown\",IF($H88=99,\"Stopped\",$D88)),0),\"Not required\")","v":"Not required"},{"$f":"IF(INTRO!$E$39=\"Endemic\", IF($I88>0, IF($I88=4,\"Unknown\",IF($I88=99,\"Stopped\",$D88)), 0),\"Not required\")","v":199214},{"$f":"IF(INTRO!$E$41=\"Endemic\", IF(AND($J88>1,$J88<5), IF($J88=4, \"Unknown\", E88+F88), 0),\"Not required\")","v":88451},{"$f":"IF(INTRO!$E$43=\"Endemic\", IF(AND($K88>0,$K88<5), IF($K88=4,\"Unknown\", IF($K88=1, $F88*0.33, IF($K88=2, $F88*0.5+$G88*0.2, SUM(F88:G88)))), 0),\"Not required\")","v":19853.79},0,0,2,1,null,null,null,null,null,49850,"Gulu City",49734,"GULU",null,null,99,null,{"$error":"#N/A"},{"$f":"_xlfn.XLOOKUP(Y88,[1]COUNTRY_INFO!$Y$9:$Y$143,[1]COUNTRY_INFO!$D$9:$D$143)","v":{"$error":"#N/A"}},{"$f":"_xlfn.XLOOKUP(Y88,[1]COUNTRY_INFO!$Y$9:$Y$143,[1]COUNTRY_INFO!$D$9:$D$143)","v":{"$error":"#N/A"}},null,null,{"$f":"_xlfn.XLOOKUP($Y88,[1]COUNTRY_INFO!$Y$9:$Y$143,[1]COUNTRY_INFO!H$9:H$143)","v":{"$error":"#N/A"}},{"$f":"_xlfn.XLOOKUP($Y88,[1]COUNTRY_INFO!$Y$9:$Y$143,[1]COUNTRY_INFO!I$9:I$143)","v":{"$error":"#N/A"}},{"$f":"_xlfn.XLOOKUP($Y88,[1]COUNTRY_INFO!$Y$9:$Y$143,[1]COUNTRY_INFO!J$9:J$143)","v":{"$error":"#N/A"}},{"$f":"_xlfn.XLOOKUP($Y88,[1]COUNTRY_INFO!$Y$9:$Y$143,[1]COUNTRY_INFO!K$9:K$143)","v":{"$error":"#N/A"}},{"$error":"#N/A"},{"$error":"#N/A"},{"$error":"#N/A"},{"$error":"#N/A"},null,null,null,{"$f":"_xlfn.XLOOKUP($Y88,[2]Sheet1!$B$4:$B$41,[2]Sheet1!$D$4:$D$41)","v":{"$error":"#N/A"}},1]
[{"$f":"IF(INTRO!$E$33<>0,INTRO!$E$33, \" \")","v":"Uganda"},"NORTHERN","KAABONG",144501,{"$f":"IF(INTRO!$E$48=\"\",\"\",ROUND($D89*INTRO!$E$48,0))","v":20519},{"$f":"IF(INTRO!$E$49=\"\",\"\",ROUND($D89*INTRO!$E$49,0))","v":43639},{"$f":"IF(INTRO!$E$50=\"\",\"\",ROUND($D89*INTRO!$E$50,0))","v":75285},99,0,3,0,{"$f":"IF(INTRO!$E$37=\"Endemic\",IF($H89>0,IF($H89=4,\"Unknown\",IF($H89=99,\"Stopped\",$D89)),0),\"Not required\")","v":"Not required"},{"$f":"IF(INTRO!$E$39=\"Endemic\", IF($I89>0, IF($I89=4,\"Unknown\",IF($I89=99,\"Stopped\",$D89)), 0),\"Not required\")","v":0},{"$f":"IF(INTRO!$E$41=\"Endemic\", IF(AND($J89>1,$J89<5), IF($J89=4, \"Unknown\", E89+F89), 0),\"Not required\")","v":64158},{"$f":"IF(INTRO!$E$43=\"Endemic\", IF(AND($K89>0,$K89<5), IF($K89=4,\"Unknown\", IF($K89=1, $F89*0.33, IF($K89=2, $F89*0.5+$G89*0.2, SUM(F89:G89)))), 0),\"Not required\")","v":0},0,0,2,0,null,null,null,null,null,49744,"KAABONG",null,null,null,null,99,null,6.1562874207506555,{"$f":"_xlfn.XLOOKUP(Y89,[1]COUNTRY_INFO!$Y$9:$Y$143,[1]COUNTRY_INFO!$D$9:$D$143)","v":136121},{"$f":"_xlfn.XLOOKUP(Y89,[1]COUNTRY_INFO!$Y$9:$Y$143,[1]COUNTRY_INFO!$D$9:$D$143)","v":136121},null,null,{"$f":"_xlfn.XLOOKUP($Y89,[1]COUNTRY_INFO!$Y$9:$Y$143,[1]COUNTRY_INFO!H$9:H$143)","v":99},{"$f":"_xlfn.XLOOKUP($Y89,[1]COUNTRY_INFO!$Y$9:$Y$143,[1]COUNTRY_INFO!I$9:I$143)","v":0},{"$f":"_xlfn.XLOOKUP($Y89,[1]COUNTRY_INFO!$Y$9:$Y$143,[1]COUNTRY_INFO!J$9:J$143)","v":3},{"$f":"_xlfn.XLOOKUP($Y89,[1]COUNTRY_INFO!$Y$9:$Y$143,[1]COUNTRY_INFO!K$9:K$143)","v":0},true,true,true,true,null,null,null,{"$f":"_xlfn.XLOOKUP($Y89,[2]Sheet1!$B$4:$B$41,[2]Sheet1!$D$4:$D$41)","v":{"$error":"#N/A"}},0]
[{"$f":"IF(INTRO!$E$33<>0,INTRO!$E$33, \" \")","v":"Uganda"},"NORTHERN","KARENGA",76946,{"$f":"IF(INTRO!$E$48=\"\",\"\",ROUND($D90*INTRO!$E$48,0))","v":10926},{"$f":"IF(INTRO!$E$49=\"\",\"\",ROUND($D90*INTRO!$E$49,0))","v":23238},{"$f":"IF(INTRO!$E$50=\"\",\"\",ROUND($D90*INTRO!$E$50,0))","v":40089},99,0,3,0,{"$f":"IF(INTRO!$E$37=\"Endemic\",IF($H90>0,IF($H90=4,\"Unknown\",IF($H90=99,\"Stopped\",$D90)),0),\"Not required\")","v":"Not required"},{"$f":"IF(INTRO!$E$39=\"Endemic\", IF($I90>0, IF($I90=4,\"Unknown\",IF($I90=99,\"Stopped\",$D90)), 0),\"Not required\")","v":0},{"$f":"IF(INTRO!$E$41=\"Endemic\", IF(AND($J90>1,$J90<5), IF($J90=4, \"Unknown\", E90+F90), 0),\"Not required\")","v":34164},{"$f":"IF(INTRO!$E$43=\"Endemic\", IF(AND($K90>0,$K90<5), IF($K90=4,\"Unknown\", IF($K90=1, $F90*0.33, IF($K90=2, $F90*0.5+$G90*0.2, SUM(F90:G90)))), 0),\"Not required\")","v":0},0,0,2,0,null,null,null,null,null,49837,"KARENGA",null,null,null,null,99,null,6.1485190856543754,{"$f":"_xlfn.XLOOKUP(Y90,[1]COUNTRY_INFO!$Y$9:$Y$143,[1]COUNTRY_INFO!$D$9:$D$143)","v":72489},{"$f":"_xlfn.XLOOKUP(Y90,[1]COUNTRY_INFO!$Y$9:$Y$143,[1]COUNTRY_INFO!$D$9:$D$143)","v":72489},null,null,{"$f":"_xlfn.XLOOKUP($Y90,[1]COUNTRY_INFO!$Y$9:$Y$143,[1]COUNTRY_INFO!H$9:H$143)","v":99},{"$f":"_xlfn.XLOOKUP($Y90,[1]COUNTRY_INFO!$Y$9:$Y$143,[1]COUNTRY_INFO!I$9:I$143)","v":0},{"$f":"_xlfn.XLOOKUP($Y90,[1]COUNTRY_INFO!$Y$9:$Y$143,[1]COUNTRY_INFO!J$9:J$143)","v":3},{"$f":"_xlfn.XLOOKUP($Y90,[1]COUNTRY_INFO!$Y$9:$Y$143,[1]COUNTRY_INFO!K$9:K$143)","v":0},true,true,true,true,null,null,null,{"$f":"_xlfn.XLOOKUP($Y90,[2]Sheet1!$B$4:$B$41,[2]Sheet1!$D$4:$D$41)","v":{"$error":"#N/A"}},0]
[{"$f":"IF(INTRO!$E$33<>0,INTRO!$E$33, \" \")","v":"Uganda"},"NORTHERN","KITGUM",266889,{"$f":"IF(INTRO!$E$48=\"\",\"\",ROUND($D91*INTRO!$E$48,0))","v":37898},{"$f":"IF(INTRO!$E$49=\"\",\"\",ROUND($D91*INTRO!$E$49,0))","v":80600},{"$f":"IF(INTRO!$E$50=\"\",\"\",ROUND($D91*INTRO!$E$50,0))","v":139049},99,1,3,3,{"$f":"IF(INTRO!$E$37=\"Endemic\",IF($H91>0,IF($H91=4,\"Unknown\",IF($H91=99,\"Stopped\",$D91)),0),\"Not required\")","v":"Not required"},{"$f":"IF(INTRO!$E$39=\"Endemic\", IF($I91>0, IF($I91=4,\"Unknown\",IF($I91=99,\"Stopped\",$D91)), 0),\"Not required\")","v":266889},{"$f":"IF(INTRO!$E$41=\"Endemic\", IF(AND($J91>1,$J91<5), IF($J91=4, \"Unknown\", E91+F91), 0),\"Not required\")","v":118498},{"$f":"IF(INTRO!$E$43=\"Endemic\", IF(AND($K91>0,$K91<5), IF($K91=4,\"Unknown\", IF($K91=1, $F91*0.33, IF($K91=2, $F91*0.5+$G91*0.2, SUM(F91:G91)))), 0),\"Not required\")","v":219649},0,2,2,1,null,null,null,null,null,49766,"KITGUM",null,null,null,null,99,null,6.1534973629573058,{"$f":"_xlfn.XLOOKUP(Y91,[1]COUNTRY_INFO!$Y$9:$Y$143,[1]COUNTRY_INFO!$D$9:$D$143)","v":251418},{"$f":"_xlfn.XLOOKUP(Y91,[1]COUNTRY_INFO!$Y$9:$Y$143,[1]COUNTRY_INFO!$D$9:$D$143)","v":251418},null,null,{"$f":"_xlfn.XLOOKUP($Y91,[1]COUNTRY_INFO!$Y$9:$Y$143,[1]COUNTRY_INFO!H$9:H$143)","v":99},{"$f":"_xlfn.XLOOKUP($Y91,[1]COUNTRY_INFO!$Y$9:$Y$143,[1]COUNTRY_INFO!I$9:I$143)","v":1},{"$f":"_xlfn.XLOOKUP($Y91,[1]COUNTRY_INFO!$Y$9:$Y$143,[1]COUNTRY_INFO!J$9:J$143)","v":3},{"$f":"_xlfn.XLOOKUP($Y91,[1]COUNTRY_INFO!$Y$9:$Y$143,[1]COUNTRY_INFO!K$9:K$143)","v":3},true,true,true,true,null,null,null,{"$f":"_xlfn.XLOOKUP($Y91,[2]Sheet1!$B$4:$B$41,[2]Sheet1!$D$4:$D$41)","v":{"$error":"#N/A"}},3]
[{"$f":"IF(INTRO!$E$33<>0,INTRO!$E$33, \" \")","v":"Uganda"},"NORTHERN","KOBOKO",272319,{"$f":"IF(INTRO!$E$48=\"\",\"\",ROUND($D92*INTRO!$E$48,0))","v":38669},{"$f":"IF(INTRO!$E$49=\"\",\"\",ROUND($D92*INTRO!$E$49,0))","v":82240},{"$f":"IF(INTRO!$E$50=\"\",\"\",ROUND($D92*INTRO!$E$50,0))","v":141878},99,99,3,3,{"$f":"IF(INTRO!$E$37=\"Endemic\",IF($H92>0,IF($H92=4,\"Unknown\",IF($H92=99,\"Stopped\",$D92)),0),\"Not required\")","v":"Not required"},{"$f":"IF(INTRO!$E$39=\"Endemic\", IF($I92>0, IF($I92=4,\"Unknown\",IF($I92=99,\"Stopped\",$D92)), 0),\"Not required\")","v":"Stopped"},{"$f":"IF(INTRO!$E$41=\"Endemic\", IF(AND($J92>1,$J92<5), IF($J92=4, \"Unknown\", E92+F92), 0),\"Not required\")","v":120909},{"$f":"IF(INTRO!$E$43=\"Endemic\", IF(AND($K92>0,$K92<5), IF($K92=4,\"Unknown\", IF($K92=1, $F92*0.33, IF($K92=2, $F92*0.5+$G92*0.2, SUM(F92:G92)))), 0),\"Not required\")","v":224118},0,0,2,1,null,null,null,null,null,49754,"KOBOKO",null,null,null,null,99,null,6.1527666790106617,{"$f":"_xlfn.XLOOKUP(Y92,[1]COUNTRY_INFO!$Y$9:$Y$143,[1]COUNTRY_INFO!$D$9:$D$143)","v":256535},{"$f":"_xlfn.XLOOKUP(Y92,[1]COUNTRY_INFO!$Y$9:$Y$143,[1]COUNTRY_INFO!$D$9:$D$143)","v":256535},null,null,{"$f":"_xlfn.XLOOKUP($Y92,[1]COUNTRY_INFO!$Y$9:$Y$143,[1]COUNTRY_INFO!H$9:H$143)","v":99},{"$f":"_xlfn.XLOOKUP($Y92,[1]COUNTRY_INFO!$Y$9:$Y$143,[1]COUNTRY_INFO!I$9:I$143)","v":99},{"$f":"_xlfn.XLOOKUP($Y92,[1]COUNTRY_INFO!$Y$9:$Y$143,[1]COUNTRY_INFO!J$9:J$143)","v":3},{"$f":"_xlfn.XLOOKUP($Y92,[1]COUNTRY_INFO!$Y$9:$Y$143,[1]COUNTRY_INFO!K$9:K$143)","v":3},true,true,true,true,null,null,null,{"$f":"_xlfn.XLOOKUP($Y92,[2]Sheet1!$B$4:$B$41,[2]Sheet1!$D$4:$D$41)","v":{"$error":"#N/A"}},3]
[{"$f":"IF(INTRO!$E$33<>0,INTRO!$E$33, \" \")","v":"Uganda"},"NORTHERN","KOLE",316422,{"$f":"IF(INTRO!$E$48=\"\",\"\",ROUND($D93*INTRO!$E$48,0))","v":44932},{"$f":"IF(INTRO!$E$49=\"\",\"\",ROUND($D93*INTRO!$E$49,0))","v":95559},{"$f":"IF(INTRO!$E$50=\"\",\"\",ROUND($D93*INTRO!$E$50,0))","v":164856},99,0,3,0,{"$f":"IF(INTRO!$E$37=\"Endemic\",IF($H93>0,IF($H93=4,\"Unknown\",IF($H93=99,\"Stopped\",$D93)),0),\"Not required\")","v":"Not required"},{"$f":"IF(INTRO!$E$39=\"Endemic\", IF($I93>0, IF($I93=4,\"Unknown\",IF($I93=99,\"Stopped\",$D93)), 0),\"Not required\")","v":0},{"$f":"IF(INTRO!$E$41=\"Endemic\", IF(AND($J93>1,$J93<5), IF($J93=4, \"Unknown\", E93+F93), 0),\"Not required\")","v":140491},{"$f":"IF(INTRO!$E$43=\"Endemic\", IF(AND($K93>0,$K93<5), IF($K93=4,\"Unknown\", IF($K93=1, $F93*0.33, IF($K93=2, $F93*0.5+$G93*0.2, SUM(F93:G93)))), 0),\"Not required\")","v":0},0,0,2,0,null,null,null,null,null,49767,"KOLE",null,null,null,null,99,null,6.1512449427346469,{"$f":"_xlfn.XLOOKUP(Y93,[1]COUNTRY_INFO!$Y$9:$Y$143,[1]COUNTRY_INFO!$D$9:$D$143)","v":298086},{"$f":"_xlfn.XLOOKUP(Y93,[1]COUNTRY_INFO!$Y$9:$Y$143,[1]COUNTRY_INFO!$D$9:$D$143)","v":298086},null,null,{"$f":"_xlfn.XLOOKUP($Y93,[1]COUNTRY_INFO!$Y$9:$Y$143,[1]COUNTRY_INFO!H$9:H$143)","v":99},{"$f":"_xlfn.XLOOKUP($Y93,[1]COUNTRY_INFO!$Y$9:$Y$143,[1]COUNTRY_INFO!I$9:I$143)","v":0},{"$f":"_xlfn.XLOOKUP($Y93,[1]COUNTRY_INFO!$Y$9:$Y$143,[1]COUNTRY_INFO!J$9:J$143)","v":3},{"$f":"_xlfn.XLOOKUP($Y93,[1]COUNTRY_INFO!$Y$9:$Y$143,[1]COUNTRY_INFO!K$9:K$143)","v":0},true,true,true,true,null,null,null,{"$f":"_xlfn.XLOOKUP($Y93,[2]Sheet1!$B$4:$B$41,[2]Sheet1!$D$4:$D$41)","v":{"$error":"#N/A"}},0]
[{"$f":"IF(INTRO!$E$33<>0,INTRO!$E$33, \" \")","v":"Uganda"},"NORTHERN","KOTIDO",234051,{"$f":"IF(INTRO!$E$48=\"\",\"\",ROUND($D94*INTRO!$E$48,0))","v":33235},{"$f":"IF(INTRO!$E$49=\"\",\"\",ROUND($D94*INTRO!$E$49,0))","v":70683},{"$f":"IF(INTRO!$E$50=\"\",\"\",ROUND($D94*INTRO!$E$50,0))","v":121941},99,0,3,0,{"$f":"IF(INTRO!$E$37=\"Endemic\",IF($H94>0,IF($H94=4,\"Unknown\",IF($H94=99,\"Stopped\",$D94)),0),\"Not required\")","v":"Not required"},{"$f":"IF(INTRO!$E$39=\"Endemic\", IF($I94>0, IF($I94=4,\"Unknown\",IF($I94=99,\"Stopped\",$D94)), 0),\"Not required\")","v":0},{"$f":"IF(INTRO!$E$41=\"Endemic\", IF(AND($J94>1,$J94<5), IF($J94=4, \"Unknown\", E94+F94), 0),\"Not required\")","v":103918},{"$f":"IF(INTRO!$E$43=\"Endemic\", IF(AND($K94>0,$K94<5), IF($K94=4,\"Unknown\", IF($K94=1, $F94*0.33, IF($K94=2, $F94*0.5+$G94*0.2, SUM(F94:G94)))), 0),\"Not required\")","v":0},0,0,2,0,null,null,null,null,null,49755,"KOTIDO",null,null,null,null,99,null,6.1537624215925941,{"$f":"_xlfn.XLOOKUP(Y94,[1]COUNTRY_INFO!$Y$9:$Y$143,[1]COUNTRY_INFO!$D$9:$D$143)","v":220483},{"$f":"_xlfn.XLOOKUP(Y94,[1]COUNTRY_INFO!$Y$9:$Y$143,[1]COUNTRY_INFO!$D$9:$D$143)","v":220483},null,null,{"$f":"_xlfn.XLOOKUP($Y94,[1]COUNTRY_INFO!$Y$9:$Y$143,[1]COUNTRY_INFO!H$9:H$143)","v":99},{"$f":"_xlfn.XLOOKUP($Y94,[1]COUNTRY_INFO!$Y$9:$Y$143,[1]COUNTRY_INFO!I$9:I$143)","v":0},{"$f":"_xlfn.XLOOKUP($Y94,[1]COUNTRY_INFO!$Y$9:$Y$143,[1]COUNTRY_INFO!J$9:J$143)","v":3},{"$f":"_xlfn.XLOOKUP($Y94,[1]COUNTRY_INFO!$Y$9:$Y$143,[1]COUNTRY_INFO!K$9:K$143)","v":0},true,true,true,true,null,null,null,{"$f":"_xlfn.XLOOKUP($Y94,[2]Sheet1!$B$4:$B$41,[2]Sheet1!$D$4:$D$41)","v":{"$error":"#N/A"}},0]
[{"$f":"IF(INTRO!$E$33<>0,INTRO!$E$33, \" \")","v":"Uganda"},"NORTHERN","KWANIA",239933,{"$f":"IF(INTRO!$E$48=\"\",\"\",ROUND($D95*INTRO!$E$48,0))","v":34070},{"$f":"IF(INTRO!$E$49=\"\",\"\",ROUND($D95*INTRO!$E$49,0))","v":72460},{"$f":"IF(INTRO!$E$50=\"\",\"\",ROUND($D95*INTRO!$E$50,0))","v":125005},99,0,3,1,{"$f":"IF(INTRO!$E$37=\"Endemic\",IF($H95>0,IF($H95=4,\"Unknown\",IF($H95=99,\"Stopped\",$D95)),0),\"Not required\")","v":"Not required"},{"$f":"IF(INTRO!$E$39=\"Endemic\", IF($I95>0, IF($I95=4,\"Unknown\",IF($I95=99,\"Stopped\",$D95)), 0),\"Not required\")","v":0},{"$f":"IF(INTRO!$E$41=\"Endemic\", IF(AND($J95>1,$J95<5), IF($J95=4, \"Unknown\", E95+F95), 0),\"Not required\")","v":106530},{"$f":"IF(INTRO!$E$43=\"Endemic\", IF(AND($K95>0,$K95<5), IF($K95=4,\"Unknown\", IF($K95=1, $F95*0.33, IF($K95=2, $F95*0.5+$G95*0.2, SUM(F95:G95)))), 0),\"Not required\")","v":23911.800000000003},0,0,2,1,null,null,null,null,null,49835,"KWANIA",null,null,null,null,99,null,6.1523623283943953,{"$f":"_xlfn.XLOOKUP(Y95,[1]COUNTRY_INFO!$Y$9:$Y$143,[1]COUNTRY_INFO!$D$9:$D$143)","v":226027},{"$f":"_xlfn.XLOOKUP(Y95,[1]COUNTRY_INFO!$Y$9:$Y$143,[1]COUNTRY_INFO!$D$9:$D$143)","v":226027},null,null,{"$f":"_xlfn.XLOOKUP($Y95,[1]COUNTRY_INFO!$Y$9:$Y$143,[1]COUNTRY_INFO!H$9:H$143)","v":99},{"$f":"_xlfn.XLOOKUP($Y95,[1]COUNTRY_INFO!$Y$9:$Y$143,[1]COUNTRY_INFO!I$9:I$143)","v":0},{"$f":"_xlfn.XLOOKUP($Y95,[1]COUNTRY_INFO!$Y$9:$Y$143,[1]COUNTRY_INFO!J$9:J$143)","v":3},{"$f":"_xlfn.XLOOKUP($Y95,[1]COUNTRY_INFO!$Y$9:$Y$143,[1]COUNTRY_INFO!K$9:K$143)","v":3},true,true,true,false,null,null,null,{"$f":"_xlfn.XLOOKUP($Y95,[2]Sheet1!$B$4:$B$41,[2]Sheet1!$D$4:$D$41)","v":3.8461538461538463},1]
[{"$f":"IF(INTRO!$E$33<>0,INTRO!$E$33, \" \")","v":"Uganda"},"NORTHERN","LAMWO",175370,{"$f":"IF(INTRO!$E$48=\"\",\"\",ROUND($D96*INTRO!$E$48,0))","v":24903},{"$f":"IF(INTRO!$E$49=\"\",\"\",ROUND($D96*INTRO!$E$49,0))","v":52962},{"$f":"IF(INTRO!$E$50=\"\",\"\",ROUND($D96*INTRO!$E$50,0))","v":91368},99,1,3,1,{"$f":"IF(INTRO!$E$37=\"Endemic\",IF($H96>0,IF($H96=4,\"Unknown\",IF($H96=99,\"Stopped\",$D96)),0),\"Not required\")","v":"Not required"},{"$f":"IF(INTRO!$E$39=\"Endemic\", IF($I96>0, IF($I96=4,\"Unknown\",IF($I96=99,\"Stopped\",$D96)), 0),\"Not required\")","v":175370},{"$f":"IF(INTRO!$E$41=\"Endemic\", IF(AND($J96>1,$J96<5), IF($J96=4, \"Unknown\", E96+F96), 0),\"Not required\")","v":77865},{"$f":"IF(INTRO!$E$43=\"Endemic\", IF(AND($K96>0,$K96<5), IF($K96=4,\"Unknown\", IF($K96=1, $F96*0.33, IF($K96=2, $F96*0.5+$G96*0.2, SUM(F96:G96)))), 0),\"Not required\")","v":17477.46},0,2,2,1,null,null,null,null,"Yes",49772,"LAMWO",null,null,null,null,99,null,6.1568169298845632,{"$f":"_xlfn.XLOOKUP(Y96,[1]COUNTRY_INFO!$Y$9:$Y$143,[1]COUNTRY_INFO!$D$9:$D$143)","v":165199},{"$f":"_xlfn.XLOOKUP(Y96,[1]COUNTRY_INFO!$Y$9:$Y$143,[1]COUNTRY_INFO!$D$9:$D$143)","v":165199},null,null,{"$f":"_xlfn.XLOOKUP($Y96,[1]COUNTRY_INFO!$Y$9:$Y$143,[1]COUNTRY_INFO!H$9:H$143)","v":99},{"$f":"_xlfn.XLOOKUP($Y96,[1]COUNTRY_INFO!$Y$9:$Y$143,[1]COUNTRY_INFO!I$9:I$143)","v":1},{"$f":"_xlfn.XLOOKUP($Y96,[1]COUNTRY_INFO!$Y$9:$Y$143,[1]COUNTRY_INFO!J$9:J$143)","v":3},{"$f":"_xlfn.XLOOKUP($Y96,[1]COUNTRY_INFO!$Y$9:$Y$143,[1]COUNTRY_INFO!K$9:K$143)","v":1},true,true,true,true,null,null,null,{"$f":"_xlfn.XLOOKUP($Y96,[2]Sheet1!$B$4:$B$41,[2]Sheet1!$D$4:$D$41)","v":{"$error":"#N/A"}},1]
[{"$f":"IF(INTRO!$E$33<>0,INTRO!$E$33, \" \")","v":"Uganda"},"NORTHERN","LIRA",407449,{"$f":"IF(INTRO!$E$48=\"\",\"\",ROUND($D97*INTRO!$E$48,0))","v":57858},{"$f":"IF(INTRO!$E$49=\"\",\"\",ROUND($D97*INTRO!$E$49,0))","v":123050},{"$f":"IF(INTRO!$E$50=\"\",\"\",ROUND($D97*INTRO!$E$50,0))","v":212281},99,1,3,3,{"$f":"IF(INTRO!$E$37=\"Endemic\",IF($H97>0,IF($H97=4,\"Unknown\",IF($H97=99,\"Stopped\",$D97)),0),\"Not required\")","v":"Not required"},{"$f":"IF(INTRO!$E$39=\"Endemic\", IF($I97>0, IF($I97=4,\"Unknown\",IF($I97=99,\"Stopped\",$D97)), 0),\"Not required\")","v":407449},{"$f":"IF(INTRO!$E$41=\"Endemic\", IF(AND($J97>1,$J97<5), IF($J97=4, \"Unknown\", E97+F97), 0),\"Not required\")","v":180908},{"$f":"IF(INTRO!$E$43=\"Endemic\", IF(AND($K97>0,$K97<5), IF($K97=4,\"Unknown\", IF($K97=1, $F97*0.33, IF($K97=2, $F97*0.5+$G97*0.2, SUM(F97:G97)))), 0),\"Not required\")","v":335331},0,2,2,1,null,null,null,null,null,49771,"LIRA",null,null,null,null,99,null,-19.461838911422628,{"$f":"_xlfn.XLOOKUP(Y97,[1]COUNTRY_INFO!$Y$9:$Y$143,[1]COUNTRY_INFO!$D$9:$D$143)","v":505908},{"$f":"_xlfn.XLOOKUP(Y97,[1]COUNTRY_INFO!$Y$9:$Y$143,[1]COUNTRY_INFO!$D$9:$D$143)","v":505908},null,null,{"$f":"_xlfn.XLOOKUP($Y97,[1]COUNTRY_INFO!$Y$9:$Y$143,[1]COUNTRY_INFO!H$9:H$143)","v":99},{"$f":"_xlfn.XLOOKUP($Y97,[1]COUNTRY_INFO!$Y$9:$Y$143,[1]COUNTRY_INFO!I$9:I$143)","v":1},{"$f":"_xlfn.XLOOKUP($Y97,[1]COUNTRY_INFO!$Y$9:$Y$143,[1]COUNTRY_INFO!J$9:J$143)","v":3},{"$f":"_xlfn.XLOOKUP($Y97,[1]COUNTRY_INFO!$Y$9:$Y$143,[1]COUNTRY_INFO!K$9:K$143)","v":3},true,true,true,true,null,null,null,{"$f":"_xlfn.XLOOKUP($Y97,[2]Sheet1!$B$4:$B$41,[2]Sheet1!$D$4:$D$41)","v":{"$error":"#N/A"}},3]
[{"$f":"IF(INTRO!$E$33<>0,INTRO!$E$33, \" \")","v":"Uganda"},"NORTHERN","Lira City",129585,{"$f":"IF(INTRO!$E$48=\"\",\"\",ROUND($D98*INTRO!$E$48,0))","v":18401},{"$f":"IF(INTRO!$E$49=\"\",\"\",ROUND($D98*INTRO!$E$49,0))","v":39135},{"$f":"IF(INTRO!$E$50=\"\",\"\",ROUND($D98*INTRO!$E$50,0))","v":67514},99,0,3,0,{"$f":"IF(INTRO!$E$37=\"Endemic\",IF($H98>0,IF($H98=4,\"Unknown\",IF($H98=99,\"Stopped\",$D98)),0),\"Not required\")","v":"Not required"},{"$f":"IF(INTRO!$E$39=\"Endemic\", IF($I98>0, IF($I98=4,\"Unknown\",IF($I98=99,\"Stopped\",$D98)), 0),\"Not required\")","v":0},{"$f":"IF(INTRO!$E$41=\"Endemic\", IF(AND($J98>1,$J98<5), IF($J98=4, \"Unknown\", E98+F98), 0),\"Not required\")","v":57536},{"$f":"IF(INTRO!$E$43=\"Endemic\", IF(AND($K98>0,$K98<5), IF($K98=4,\"Unknown\", IF($K98=1, $F98*0.33, IF($K98=2, $F98*0.5+$G98*0.2, SUM(F98:G98)))), 0),\"Not required\")","v":0},0,0,2,0,null,null,null,null,null,49851,"Lira City",49771,"LIRA",null,null,99,null,{"$error":"#N/A"},{"$f":"_xlfn.XLOOKUP(Y98,[1]COUNTRY_INFO!$Y$9:$Y$143,[1]COUNTRY_INFO!$D$9:$D$143)","v":{"$error":"#N/A"}},{"$f":"_xlfn.XLOOKUP(Y98,[1]COUNTRY_INFO!$Y$9:$Y$143,[1]COUNTRY_INFO!$D$9:$D$143)","v":{"$error":"#N/A"}},null,null,{"$f":"_xlfn.XLOOKUP($Y98,[1]COUNTRY_INFO!$Y$9:$Y$143,[1]COUNTRY_INFO!H$9:H$143)","v":{"$error":"#N/A"}},{"$f":"_xlfn.XLOOKUP($Y98,[1]COUNTRY_INFO!$Y$9:$Y$143,[1]COUNTRY_INFO!I$9:I$143)","v":{"$error":"#N/A"}},{"$f":"_xlfn.XLOOKUP($Y98,[1]COUNTRY_INFO!$Y$9:$Y$143,[1]COUNTRY_INFO!J$9:J$143)","v":{"$error":"#N/A"}},{"$f":"_xlfn.XLOOKUP($Y98,[1]COUNTRY_INFO!$Y$9:$Y$143,[1]COUNTRY_INFO!K$9:K$143)","v":{"$error":"#N/A"}},{"$error":"#N/A"},{"$error":"#N/A"},{"$error":"#N/A"},{"$error":"#N/A"},null,null,null,{"$f":"_xlfn.XLOOKUP($Y98,[2]Sheet1!$B$4:$B$41,[2]Sheet1!$D$4:$D$41)","v":{"$error":"#N/A"}},0]
[{"$f":"IF(INTRO!$E$33<>0,INTRO!$E$33, \" \")","v":"Uganda"},"NORTHERN","MADI OKOLLO",181419,{"$f":"IF(INTRO!$E$48=\"\",\"\",ROUND($D99*INTRO!$E$48,0))","v":25761},{"$f":"IF(INTRO!$E$49=\"\",\"\",ROUND($D99*INTRO!$E$49,0))","v":54789},{"$f":"IF(INTRO!$E$50=\"\",\"\",ROUND($D99*INTRO!$E$50,0))","v":94519},99,99,3,2,{"$f":"IF(INTRO!$E$37=\"Endemic\",IF($H99>0,IF($H99=4,\"Unknown\",IF($H99=99,\"Stopped\",$D99)),0),\"Not required\")","v":"Not required"},{"$f":"IF(INTRO!$E$39=\"Endemic\", IF($I99>0, IF($I99=4,\"Unknown\",IF($I99=99,\"Stopped\",$D99)), 0),\"Not required\")","v":"Stopped"},{"$f":"IF(INTRO!$E$41=\"Endemic\", IF(AND($J99>1,$J99<5), IF($J99=4, \"Unknown\", E99+F99), 0),\"Not required\")","v":80550},{"$f":"IF(INTRO!$E$43=\"Endemic\", IF(AND($K99>0,$K99<5), IF($K99=4,\"Unknown\", IF($K99=1, $F99*0.33, IF($K99=2, $F99*0.5+$G99*0.2, SUM(F99:G99)))), 0),\"Not required\")","v":46298.3},0,0,2,1,null,null,null,null,null,49836,"MADI OKOLLO",null,null,null,null,99,null,6.1531980129079065,{"$f":"_xlfn.XLOOKUP(Y99,[1]COUNTRY_INFO!$Y$9:$Y$143,[1]COUNTRY_INFO!$D$9:$D$143)","v":170903},{"$f":"_xlfn.XLOOKUP(Y99,[1]COUNTRY_INFO!$Y$9:$Y$143,[1]COUNTRY_INFO!$D$9:$D$143)","v":170903},null,null,{"$f":"_xlfn.XLOOKUP($Y99,[1]COUNTRY_INFO!$Y$9:$Y$143,[1]COUNTRY_INFO!H$9:H$143)","v":99},{"$f":"_xlfn.XLOOKUP($Y99,[1]COUNTRY_INFO!$Y$9:$Y$143,[1]COUNTRY_INFO!I$9:I$143)","v":99},{"$f":"_xlfn.XLOOKUP($Y99,[1]COUNTRY_INFO!$Y$9:$Y$143,[1]COUNTRY_INFO!J$9:J$143)","v":3},{"$f":"_xlfn.XLOOKUP($Y99,[1]COUNTRY_INFO!$Y$9:$Y$143,[1]COUNTRY_INFO!K$9:K$143)","v":2},true,true,true,true,null,null,null,{"$f":"_xlfn.XLOOKUP($Y99,[2]Sheet1!$B$4:$B$41,[2]Sheet1!$D$4:$D$41)","v":{"$error":"#N/A"}},2]
[{"$f":"IF(INTRO!$E$33<>0,INTRO!$E$33, \" \")","v":"Uganda"},"NORTHERN","MARACHA",243552,{"$f":"IF(INTRO!$E$48=\"\",\"\",ROUND($D100*INTRO!$E$48,0))","v":34584},{"$f":"IF(INTRO!$E$49=\"\",\"\",ROUND($D100*INTRO!$E$49,0))","v":73553},{"$f":"IF(INTRO!$E$50=\"\",\"\",ROUND($D100*INTRO!$E$50,0))","v":126891},99,99,3,3,{"$f":"IF(INTRO!$E$37=\"Endemic\",IF($H100>0,IF($H100=4,\"Unknown\",IF($H100=99,\"Stopped\",$D100)),0),\"Not required\")","v":"Not required"},{"$f":"IF(INTRO!$E$39=\"Endemic\", IF($I100>0, IF($I100=4,\"Unknown\",IF($I100=99,\"Stopped\",$D100)), 0),\"Not required\")","v":"Stopped"},{"$f":"IF(INTRO!$E$41=\"Endemic\", IF(AND($J100>1,$J100<5), IF($J100=4, \"Unknown\", E100+F100), 0),\"Not required\")","v":108137},{"$f":"IF(INTRO!$E$43=\"Endemic\", IF(AND($K100>0,$K100<5), IF($K100=4,\"Unknown\", IF($K100=1, $F100*0.33, IF($K100=2, $F100*0.5+$G100*0.2, SUM(F100:G100)))), 0),\"Not required\")","v":200444},0,0,2,1,null,null,null,null,null,49784,"MARACHA",null,null,null,null,99,null,6.1497023212838107,{"$f":"_xlfn.XLOOKUP(Y100,[1]COUNTRY_INFO!$Y$9:$Y$143,[1]COUNTRY_INFO!$D$9:$D$143)","v":229442},{"$f":"_xlfn.XLOOKUP(Y100,[1]COUNTRY_INFO!$Y$9:$Y$143,[1]COUNTRY_INFO!$D$9:$D$143)","v":229442},null,null,{"$f":"_xlfn.XLOOKUP($Y100,[1]COUNTRY_INFO!$Y$9:$Y$143,[1]COUNTRY_INFO!H$9:H$143)","v":99},{"$f":"_xlfn.XLOOKUP($Y100,[1]COUNTRY_INFO!$Y$9:$Y$143,[1]COUNTRY_INFO!I$9:I$143)","v":99},{"$f":"_xlfn.XLOOKUP($Y100,[1]COUNTRY_INFO!$Y$9:$Y$143,[1]COUNTRY_INFO!J$9:J$143)","v":3},{"$f":"_xlfn.XLOOKUP($Y100,[1]COUNTRY_INFO!$Y$9:$Y$143,[1]COUNTRY_INFO!K$9:K$143)","v":1},true,true,true,false,null,null,null,{"$f":"_xlfn.XLOOKUP($Y100,[2]Sheet1!$B$4:$B$41,[2]Sheet1!$D$4:$D$41)","v":84.313725490196077},3]
[{"$f":"IF(INTRO!$E$33<>0,INTRO!$E$33, \" \")","v":"Uganda"},"NORTHERN","MOROTO",136756,{"$f":"IF(INTRO!$E$48=\"\",\"\",ROUND($D101*INTRO!$E$48,0))","v":19419},{"$f":"IF(INTRO!$E$49=\"\",\"\",ROUND($D101*INTRO!$E$49,0))","v":41300},{"$f":"IF(INTRO!$E$50=\"\",\"\",ROUND($D101*INTRO!$E$50,0))","v":71250},99,0,3,0,{"$f":"IF(INTRO!$E$37=\"Endemic\",IF($H101>0,IF($H101=4,\"Unknown\",IF($H101=99,\"Stopped\",$D101)),0),\"Not required\")","v":"Not required"},{"$f":"IF(INTRO!$E$39=\"Endemic\", IF($I101>0, IF($I101=4,\"Unknown\",IF($I101=99,\"Stopped\",$D101)), 0),\"Not required\")","v":0},{"$f":"IF(INTRO!$E$41=\"Endemic\", IF(AND($J101>1,$J101<5), IF($J101=4, \"Unknown\", E101+F101), 0),\"Not required\")","v":60719},{"$f":"IF(INTRO!$E$43=\"Endemic\", IF(AND($K101>0,$K101<5), IF($K101=4,\"Unknown\", IF($K101=1, $F101*0.33, IF($K101=2, $F101*0.5+$G101*0.2, SUM(F101:G101)))), 0),\"Not required\")","v":0},0,0,2,0,null,null,null,null,null,49781,"MOROTO",null,null,null,null,99,null,6.1522937204067372,{"$f":"_xlfn.XLOOKUP(Y101,[1]COUNTRY_INFO!$Y$9:$Y$143,[1]COUNTRY_INFO!$D$9:$D$143)","v":128830},{"$f":"_xlfn.XLOOKUP(Y101,[1]COUNTRY_INFO!$Y$9:$Y$143,[1]COUNTRY_INFO!$D$9:$D$143)","v":128830},null,null,{"$f":"_xlfn.XLOOKUP($Y101,[1]COUNTRY_INFO!$Y$9:$Y$143,[1]COUNTRY_INFO!H$9:H$143)","v":99},{"$f":"_xlfn.XLOOKUP($Y101,[1]COUNTRY_INFO!$Y$9:$Y$143,[1]COUNTRY_INFO!I$9:I$143)","v":0},{"$f":"_xlfn.XLOOKUP($Y101,[1]COUNTRY_INFO!$Y$9:$Y$143,[1]COUNTRY_INFO!J$9:J$143)","v":3},{"$f":"_xlfn.XLOOKUP($Y101,[1]COUNTRY_INFO!$Y$9:$Y$143,[1]COUNTRY_INFO!K$9:K$143)","v":0},true,true,true,true,null,null,null,{"$f":"_xlfn.XLOOKUP($Y101,[2]Sheet1!$B$4:$B$41,[2]Sheet1!$D$4:$D$41)","v":{"$error":"#N/A"}},0]
[{"$f":"IF(INTRO!$E$33<>0,INTRO!$E$33, \" \")","v":"Uganda"},"NORTHERN","MOYO",123421,{"$f":"IF(INTRO!$E$48=\"\",\"\",ROUND($D102*INTRO!$E$48,0))","v":17526},{"$f":"IF(INTRO!$E$49=\"\",\"\",ROUND($D102*INTRO!$E$49,0))","v":37273},{"$f":"IF(INTRO!$E$50=\"\",\"\",ROUND($D102*INTRO!$E$50,0))","v":64302},99,1,3,2,{"$f":"IF(INTRO!$E$37=\"Endemic\",IF($H102>0,IF($H102=4,\"Unknown\",IF($H102=99,\"Stopped\",$D102)),0),\"Not required\")","v":"Not required"},{"$f":"IF(INTRO!$E$39=\"Endemic\", IF($I102>0, IF($I102=4,\"Unknown\",IF($I102=99,\"Stopped\",$D102)), 0),\"Not required\")","v":123421},{"$f":"IF(INTRO!$E$41=\"Endemic\", IF(AND($J102>1,$J102<5), IF($J102=4, \"Unknown\", E102+F102), 0),\"Not required\")","v":54799},{"$f":"IF(INTRO!$E$43=\"Endemic\", IF(AND($K102>0,$K102<5), IF($K102=4,\"Unknown\", IF($K102=1, $F102*0.33, IF($K102=2, $F102*0.5+$G102*0.2, SUM(F102:G102)))), 0),\"Not required\")","v":31496.9},0,2,2,1,null,null,null,null,null,49782,"MOYO",null,null,null,null,99,null,6.1448622243627229,{"$f":"_xlfn.XLOOKUP(Y102,[1]COUNTRY_INFO!$Y$9:$Y$143,[1]COUNTRY_INFO!$D$9:$D$143)","v":116276},{"$f":"_xlfn.XLOOKUP(Y102,[1]COUNTRY_INFO!$Y$9:$Y$143,[1]COUNTRY_INFO!$D$9:$D$143)","v":116276},null,null,{"$f":"_xlfn.XLOOKUP($Y102,[1]COUNTRY_INFO!$Y$9:$Y$143,[1]COUNTRY_INFO!H$9:H$143)","v":99},{"$f":"_xlfn.XLOOKUP($Y102,[1]COUNTRY_INFO!$Y$9:$Y$143,[1]COUNTRY_INFO!I$9:I$143)","v":1},{"$f":"_xlfn.XLOOKUP($Y102,[1]COUNTRY_INFO!$Y$9:$Y$143,[1]COUNTRY_INFO!J$9:J$143)","v":3},{"$f":"_xlfn.XLOOKUP($Y102,[1]COUNTRY_INFO!$Y$9:$Y$143,[1]COUNTRY_INFO!K$9:K$143)","v":2},true,true,true,true,null,null,null,{"$f":"_xlfn.XLOOKUP($Y102,[2]Sheet1!$B$4:$B$41,[2]Sheet1!$D$4:$D$41)","v":{"$error":"#N/A"}},2]
[{"$f":"IF(INTRO!$E$33<>0,INTRO!$E$33, \" \")","v":"Uganda"},"NORTHERN","NABILATUK",91146,{"$f":"IF(INTRO!$E$48=\"\",\"\",ROUND($D103*INTRO!$E$48,0))","v":12943},{"$f":"IF(INTRO!$E$49=\"\",\"\",ROUND($D103*INTRO!$E$49,0))","v":27526},{"$f":"IF(INTRO!$E$50=\"\",\"\",ROUND($D103*INTRO!$E$50,0))","v":47487},99,0,3,0,{"$f":"IF(INTRO!$E$37=\"Endemic\",IF($H103>0,IF($H103=4,\"Unknown\",IF($H103=99,\"Stopped\",$D103)),0),\"Not required\")","v":"Not required"},{"$f":"IF(INTRO!$E$39=\"Endemic\", IF($I103>0, IF($I103=4,\"Unknown\",IF($I103=99,\"Stopped\",$D103)), 0),\"Not required\")","v":0},{"$f":"IF(INTRO!$E$41=\"Endemic\", IF(AND($J103>1,$J103<5), IF($J103=4, \"Unknown\", E103+F103), 0),\"Not required\")","v":40469},{"$f":"IF(INTRO!$E$43=\"Endemic\", IF(AND($K103>0,$K103<5), IF($K103=4,\"Unknown\", IF($K103=1, $F103*0.33, IF($K103=2, $F103*0.5+$G103*0.2, SUM(F103:G103)))), 0),\"Not required\")","v":0},0,0,2,0,null,null,null,null,null,49826,"NABILATUK",null,null,null,null,99,null,6.1441714219168508,{"$f":"_xlfn.XLOOKUP(Y103,[1]COUNTRY_INFO!$Y$9:$Y$143,[1]COUNTRY_INFO!$D$9:$D$143)","v":85870},{"$f":"_xlfn.XLOOKUP(Y103,[1]COUNTRY_INFO!$Y$9:$Y$143,[1]COUNTRY_INFO!$D$9:$D$143)","v":85870},null,null,{"$f":"_xlfn.XLOOKUP($Y103,[1]COUNTRY_INFO!$Y$9:$Y$143,[1]COUNTRY_INFO!H$9:H$143)","v":99},{"$f":"_xlfn.XLOOKUP($Y103,[1]COUNTRY_INFO!$Y$9:$Y$143,[1]COUNTRY_INFO!I$9:I$143)","v":0},{"$f":"_xlfn.XLOOKUP($Y103,[1]COUNTRY_INFO!$Y$9:$Y$143,[1]COUNTRY_INFO!J$9:J$143)","v":3},{"$f":"_xlfn.XLOOKUP($Y103,[1]COUNTRY_INFO!$Y$9:$Y$143,[1]COUNTRY_INFO!K$9:K$143)","v":0},true,true,true,true,null,null,null,{"$f":"_xlfn.XLOOKUP($Y103,[2]Sheet1!$B$4:$B$41,[2]Sheet1!$D$4:$D$41)","v":{"$error":"#N/A"}},0]
[{"$f":"IF(INTRO!$E$33<>0,INTRO!$E$33, \" \")","v":"Uganda"},"NORTHERN","NAKAPIRIPIRIT",130835,{"$f":"IF(INTRO!$E$48=\"\",\"\",ROUND($D104*INTRO!$E$48,0))","v":18579},{"$f":"IF(INTRO!$E$49=\"\",\"\",ROUND($D104*INTRO!$E$49,0))","v":39512},{"$f":"IF(INTRO!$E$50=\"\",\"\",ROUND($D104*INTRO!$E$50,0))","v":68165},99,0,3,2,{"$f":"IF(INTRO!$E$37=\"Endemic\",IF($H104>0,IF($H104=4,\"Unknown\",IF($H104=99,\"Stopped\",$D104)),0),\"Not required\")","v":"Not required"},{"$f":"IF(INTRO!$E$39=\"Endemic\", IF($I104>0, IF($I104=4,\"Unknown\",IF($I104=99,\"Stopped\",$D104)), 0),\"Not required\")","v":0},{"$f":"IF(INTRO!$E$41=\"Endemic\", IF(AND($J104>1,$J104<5), IF($J104=4, \"Unknown\", E104+F104), 0),\"Not required\")","v":58091},{"$f":"IF(INTRO!$E$43=\"Endemic\", IF(AND($K104>0,$K104<5), IF($K104=4,\"Unknown\", IF($K104=1, $F104*0.33, IF($K104=2, $F104*0.5+$G104*0.2, SUM(F104:G104)))), 0),\"Not required\")","v":33389},0,0,2,1,null,null,null,null,null,49794,"NAKAPIRIPIRIT",null,null,null,null,99,null,6.1481295179989779,{"$f":"_xlfn.XLOOKUP(Y104,[1]COUNTRY_INFO!$Y$9:$Y$143,[1]COUNTRY_INFO!$D$9:$D$143)","v":123257},{"$f":"_xlfn.XLOOKUP(Y104,[1]COUNTRY_INFO!$Y$9:$Y$143,[1]COUNTRY_INFO!$D$9:$D$143)","v":123257},null,null,{"$f":"_xlfn.XLOOKUP($Y104,[1]COUNTRY_INFO!$Y$9:$Y$143,[1]COUNTRY_INFO!H$9:H$143)","v":99},{"$f":"_xlfn.XLOOKUP($Y104,[1]COUNTRY_INFO!$Y$9:$Y$143,[1]COUNTRY_INFO!I$9:I$143)","v":0},{"$f":"_xlfn.XLOOKUP($Y104,[1]COUNTRY_INFO!$Y$9:$Y$143,[1]COUNTRY_INFO!J$9:J$143)","v":3},{"$f":"_xlfn.XLOOKUP($Y104,[1]COUNTRY_INFO!$Y$9:$Y$143,[1]COUNTRY_INFO!K$9:K$143)","v":1},true,true,true,false,null,null,null,{"$f":"_xlfn.XLOOKUP($Y104,[2]Sheet1!$B$4:$B$41,[2]Sheet1!$D$4:$D$41)","v":38},2]
[{"$f":"IF(INTRO!$E$33<>0,INTRO!$E$33, \" \")","v":"Uganda"},"NORTHERN","NAPAK",189978,{"$f":"IF(INTRO!$E$48=\"\",\"\",ROUND($D105*INTRO!$E$48,0))","v":26977},{"$f":"IF(INTRO!$E$49=\"\",\"\",ROUND($D105*INTRO!$E$49,0))","v":57373},{"$f":"IF(INTRO!$E$50=\"\",\"\",ROUND($D105*INTRO!$E$50,0))","v":98979},99,0,3,0,{"$f":"IF(INTRO!$E$37=\"Endemic\",IF($H105>0,IF($H105=4,\"Unknown\",IF($H105=99,\"Stopped\",$D105)),0),\"Not required\")","v":"Not required"},{"$f":"IF(INTRO!$E$39=\"Endemic\", IF($I105>0, IF($I105=4,\"Unknown\",IF($I105=99,\"Stopped\",$D105)), 0),\"Not required\")","v":0},{"$f":"IF(INTRO!$E$41=\"Endemic\", IF(AND($J105>1,$J105<5), IF($J105=4, \"Unknown\", E105+F105), 0),\"Not required\")","v":84350},{"$f":"IF(INTRO!$E$43=\"Endemic\", IF(AND($K105>0,$K105<5), IF($K105=4,\"Unknown\", IF($K105=1, $F105*0.33, IF($K105=2, $F105*0.5+$G105*0.2, SUM(F105:G105)))), 0),\"Not required\")","v":0},0,0,2,0,null,null,null,null,null,49797,"NAPAK",null,null,null,null,99,null,6.1525309135203692,{"$f":"_xlfn.XLOOKUP(Y105,[1]COUNTRY_INFO!$Y$9:$Y$143,[1]COUNTRY_INFO!$D$9:$D$143)","v":178967},{"$f":"_xlfn.XLOOKUP(Y105,[1]COUNTRY_INFO!$Y$9:$Y$143,[1]COUNTRY_INFO!$D$9:$D$143)","v":178967},null,null,{"$f":"_xlfn.XLOOKUP($Y105,[1]COUNTRY_INFO!$Y$9:$Y$143,[1]COUNTRY_INFO!H$9:H$143)","v":99},{"$f":"_xlfn.XLOOKUP($Y105,[1]COUNTRY_INFO!$Y$9:$Y$143,[1]COUNTRY_INFO!I$9:I$143)","v":0},{"$f":"_xlfn.XLOOKUP($Y105,[1]COUNTRY_INFO!$Y$9:$Y$143,[1]COUNTRY_INFO!J$9:J$143)","v":3},{"$f":"_xlfn.XLOOKUP($Y105,[1]COUNTRY_INFO!$Y$9:$Y$143,[1]COUNTRY_INFO!K$9:K$143)","v":0},true,true,true,true,null,null,null,{"$f":"_xlfn.XLOOKUP($Y105,[2]Sheet1!$B$4:$B$41,[2]Sheet1!$D$4:$D$41)","v":{"$error":"#N/A"}},0]
[{"$f":"IF(INTRO!$E$33<>0,INTRO!$E$33, \" \")","v":"Uganda"},"NORTHERN","NEBBI",310377,{"$f":"IF(INTRO!$E$48=\"\",\"\",ROUND($D106*INTRO!$E$48,0))","v":44074},{"$f":"IF(INTRO!$E$49=\"\",\"\",ROUND($D106*INTRO!$E$49,0))","v":93734},{"$f":"IF(INTRO!$E$50=\"\",\"\",ROUND($D106*INTRO!$E$50,0))","v":161706},99,99,3,0,{"$f":"IF(INTRO!$E$37=\"Endemic\",IF($H106>0,IF($H106=4,\"Unknown\",IF($H106=99,\"Stopped\",$D106)),0),\"Not required\")","v":"Not required"},{"$f":"IF(INTRO!$E$39=\"Endemic\", IF($I106>0, IF($I106=4,\"Unknown\",IF($I106=99,\"Stopped\",$D106)), 0),\"Not required\")","v":"Stopped"},{"$f":"IF(INTRO!$E$41=\"Endemic\", IF(AND($J106>1,$J106<5), IF($J106=4, \"Unknown\", E106+F106), 0),\"Not required\")","v":137808},{"$f":"IF(INTRO!$E$43=\"Endemic\", IF(AND($K106>0,$K106<5), IF($K106=4,\"Unknown\", IF($K106=1, $F106*0.33, IF($K106=2, $F106*0.5+$G106*0.2, SUM(F106:G106)))), 0),\"Not required\")","v":0},0,0,2,0,null,null,null,null,null,49793,"NEBBI",null,null,null,null,99,null,6.1509890831486498,{"$f":"_xlfn.XLOOKUP(Y106,[1]COUNTRY_INFO!$Y$9:$Y$143,[1]COUNTRY_INFO!$D$9:$D$143)","v":292392},{"$f":"_xlfn.XLOOKUP(Y106,[1]COUNTRY_INFO!$Y$9:$Y$143,[1]COUNTRY_INFO!$D$9:$D$143)","v":292392},null,null,{"$f":"_xlfn.XLOOKUP($Y106,[1]COUNTRY_INFO!$Y$9:$Y$143,[1]COUNTRY_INFO!H$9:H$143)","v":99},{"$f":"_xlfn.XLOOKUP($Y106,[1]COUNTRY_INFO!$Y$9:$Y$143,[1]COUNTRY_INFO!I$9:I$143)","v":99},{"$f":"_xlfn.XLOOKUP($Y106,[1]COUNTRY_INFO!$Y$9:$Y$143,[1]COUNTRY_INFO!J$9:J$143)","v":3},{"$f":"_xlfn.XLOOKUP($Y106,[1]COUNTRY_INFO!$Y$9:$Y$143,[1]COUNTRY_INFO!K$9:K$143)","v":0},true,true,true,true,null,null,null,{"$f":"_xlfn.XLOOKUP($Y106,[2]Sheet1!$B$4:$B$41,[2]Sheet1!$D$4:$D$41)","v":{"$error":"#N/A"}},0]
[{"$f":"IF(INTRO!$E$33<>0,INTRO!$E$33, \" \")","v":"Uganda"},"NORTHERN","NWOYA",167576,{"$f":"IF(INTRO!$E$48=\"\",\"\",ROUND($D107*INTRO!$E$48,0))","v":23796},{"$f":"IF(INTRO!$E$49=\"\",\"\",ROUND($D107*INTRO!$E$49,0))","v":50608},{"$f":"IF(INTRO!$E$50=\"\",\"\",ROUND($D107*INTRO!$E$50,0))","v":87307},99,1,3,2,{"$f":"IF(INTRO!$E$37=\"Endemic\",IF($H107>0,IF($H107=4,\"Unknown\",IF($H107=99,\"Stopped\",$D107)),0),\"Not required\")","v":"Not required"},{"$f":"IF(INTRO!$E$39=\"Endemic\", IF($I107>0, IF($I107=4,\"Unknown\",IF($I107=99,\"Stopped\",$D107)), 0),\"Not required\")","v":167576},{"$f":"IF(INTRO!$E$41=\"Endemic\", IF(AND($J107>1,$J107<5), IF($J107=4, \"Unknown\", E107+F107), 0),\"Not required\")","v":74404},{"$f":"IF(INTRO!$E$43=\"Endemic\", IF(AND($K107>0,$K107<5), IF($K107=4,\"Unknown\", IF($K107=1, $F107*0.33, IF($K107=2, $F107*0.5+$G107*0.2, SUM(F107:G107)))), 0),\"Not required\")","v":42765.4},0,2,2,1,null,null,null,null,null,49801,"NWOYA",null,null,null,null,99,null,6.1548207272266566,{"$f":"_xlfn.XLOOKUP(Y107,[1]COUNTRY_INFO!$Y$9:$Y$143,[1]COUNTRY_INFO!$D$9:$D$143)","v":157860},{"$f":"_xlfn.XLOOKUP(Y107,[1]COUNTRY_INFO!$Y$9:$Y$143,[1]COUNTRY_INFO!$D$9:$D$143)","v":157860},null,null,{"$f":"_xlfn.XLOOKUP($Y107,[1]COUNTRY_INFO!$Y$9:$Y$143,[1]COUNTRY_INFO!H$9:H$143)","v":99},{"$f":"_xlfn.XLOOKUP($Y107,[1]COUNTRY_INFO!$Y$9:$Y$143,[1]COUNTRY_INFO!I$9:I$143)","v":1},{"$f":"_xlfn.XLOOKUP($Y107,[1]COUNTRY_INFO!$Y$9:$Y$143,[1]COUNTRY_INFO!J$9:J$143)","v":3},{"$f":"_xlfn.XLOOKUP($Y107,[1]COUNTRY_INFO!$Y$9:$Y$143,[1]COUNTRY_INFO!K$9:K$143)","v":2},true,true,true,true,null,null,null,{"$f":"_xlfn.XLOOKUP($Y107,[2]Sheet1!$B$4:$B$41,[2]Sheet1!$D$4:$D$41)","v":{"$error":"#N/A"}},2]
[{"$f":"IF(INTRO!$E$33<>0,INTRO!$E$33, \" \")","v":"Uganda"},"NORTHERN","OBONGI",56437,{"$f":"IF(INTRO!$E$48=\"\",\"\",ROUND($D108*INTRO!$E$48,0))","v":8014},{"$f":"IF(INTRO!$E$49=\"\",\"\",ROUND($D108*INTRO!$E$49,0))","v":17044},{"$f":"IF(INTRO!$E$50=\"\",\"\",ROUND($D108*INTRO!$E$50,0))","v":29404},99,99,3,2,{"$f":"IF(INTRO!$E$37=\"Endemic\",IF($H108>0,IF($H108=4,\"Unknown\",IF($H108=99,\"Stopped\",$D108)),0),\"Not required\")","v":"Not required"},{"$f":"IF(INTRO!$E$39=\"Endemic\", IF($I108>0, IF($I108=4,\"Unknown\",IF($I108=99,\"Stopped\",$D108)), 0),\"Not required\")","v":"Stopped"},{"$f":"IF(INTRO!$E$41=\"Endemic\", IF(AND($J108>1,$J108<5), IF($J108=4, \"Unknown\", E108+F108), 0),\"Not required\")","v":25058},{"$f":"IF(INTRO!$E$43=\"Endemic\", IF(AND($K108>0,$K108<5), IF($K108=4,\"Unknown\", IF($K108=1, $F108*0.33, IF($K108=2, $F108*0.5+$G108*0.2, SUM(F108:G108)))), 0),\"Not required\")","v":14402.8},0,0,2,1,null,null,null,null,null,49838,"OBONGI",null,null,null,null,99,null,6.1504316587356822,{"$f":"_xlfn.XLOOKUP(Y108,[1]COUNTRY_INFO!$Y$9:$Y$143,[1]COUNTRY_INFO!$D$9:$D$143)","v":53167},{"$f":"_xlfn.XLOOKUP(Y108,[1]COUNTRY_INFO!$Y$9:$Y$143,[1]COUNTRY_INFO!$D$9:$D$143)","v":53167},null,null,{"$f":"_xlfn.XLOOKUP($Y108,[1]COUNTRY_INFO!$Y$9:$Y$143,[1]COUNTRY_INFO!H$9:H$143)","v":99},{"$f":"_xlfn.XLOOKUP($Y108,[1]COUNTRY_INFO!$Y$9:$Y$143,[1]COUNTRY_INFO!I$9:I$143)","v":99},{"$f":"_xlfn.XLOOKUP($Y108,[1]COUNTRY_INFO!$Y$9:$Y$143,[1]COUNTRY_INFO!J$9:J$143)","v":3},{"$f":"_xlfn.XLOOKUP($Y108,[1]COUNTRY_INFO!$Y$9:$Y$143,[1]COUNTRY_INFO!K$9:K$143)","v":2},true,true,true,true,null,null,null,{"$f":"_xlfn.XLOOKUP($Y108,[2]Sheet1!$B$4:$B$41,[2]Sheet1!$D$4:$D$41)","v":{"$error":"#N/A"}},2]
[{"$f":"IF(INTRO!$E$33<>0,INTRO!$E$33, \" \")","v":"Uganda"},"NORTHERN","OMORO",216689,{"$f":"IF(INTRO!$E$48=\"\",\"\",ROUND($D109*INTRO!$E$48,0))","v":30770},{"$f":"IF(INTRO!$E$49=\"\",\"\",ROUND($D109*INTRO!$E$49,0))","v":65440},{"$f":"IF(INTRO!$E$50=\"\",\"\",ROUND($D109*INTRO!$E$50,0))","v":112895},99,1,3,2,{"$f":"IF(INTRO!$E$37=\"Endemic\",IF($H109>0,IF($H109=4,\"Unknown\",IF($H109=99,\"Stopped\",$D109)),0),\"Not required\")","v":"Not required"},{"$f":"IF(INTRO!$E$39=\"Endemic\", IF($I109>0, IF($I109=4,\"Unknown\",IF($I109=99,\"Stopped\",$D109)), 0),\"Not required\")","v":216689},{"$f":"IF(INTRO!$E$41=\"Endemic\", IF(AND($J109>1,$J109<5), IF($J109=4, \"Unknown\", E109+F109), 0),\"Not required\")","v":96210},{"$f":"IF(INTRO!$E$43=\"Endemic\", IF(AND($K109>0,$K109<5), IF($K109=4,\"Unknown\", IF($K109=1, $F109*0.33, IF($K109=2, $F109*0.5+$G109*0.2, SUM(F109:G109)))), 0),\"Not required\")","v":55299},0,2,2,1,null,null,null,null,null,49818,"OMORO",null,null,null,null,99,null,6.1503718145923756,{"$f":"_xlfn.XLOOKUP(Y109,[1]COUNTRY_INFO!$Y$9:$Y$143,[1]COUNTRY_INFO!$D$9:$D$143)","v":204134},{"$f":"_xlfn.XLOOKUP(Y109,[1]COUNTRY_INFO!$Y$9:$Y$143,[1]COUNTRY_INFO!$D$9:$D$143)","v":204134},null,null,{"$f":"_xlfn.XLOOKUP($Y109,[1]COUNTRY_INFO!$Y$9:$Y$143,[1]COUNTRY_INFO!H$9:H$143)","v":99},{"$f":"_xlfn.XLOOKUP($Y109,[1]COUNTRY_INFO!$Y$9:$Y$143,[1]COUNTRY_INFO!I$9:I$143)","v":1},{"$f":"_xlfn.XLOOKUP($Y109,[1]COUNTRY_INFO!$Y$9:$Y$143,[1]COUNTRY_INFO!J$9:J$143)","v":3},{"$f":"_xlfn.XLOOKUP($Y109,[1]COUNTRY_INFO!$Y$9:$Y$143,[1]COUNTRY_INFO!K$9:K$143)","v":2},true,true,true,true,null,null,null,{"$f":"_xlfn.XLOOKUP($Y109,[2]Sheet1!$B$4:$B$41,[2]Sheet1!$D$4:$D$41)","v":{"$error":"#N/A"}},2]
[{"$f":"IF(INTRO!$E$33<>0,INTRO!$E$33, \" \")","v":"Uganda"},"NORTHERN","OTUKE",138171,{"$f":"IF(INTRO!$E$48=\"\",\"\",ROUND($D110*INTRO!$E$48,0))","v":19620},{"$f":"IF(INTRO!$E$49=\"\",\"\",ROUND($D110*INTRO!$E$49,0))","v":41728},{"$f":"IF(INTRO!$E$50=\"\",\"\",ROUND($D110*INTRO!$E$50,0))","v":71987},99,0,3,0,{"$f":"IF(INTRO!$E$37=\"Endemic\",IF($H110>0,IF($H110=4,\"Unknown\",IF($H110=99,\"Stopped\",$D110)),0),\"Not required\")","v":"Not required"},{"$f":"IF(INTRO!$E$39=\"Endemic\", IF($I110>0, IF($I110=4,\"Unknown\",IF($I110=99,\"Stopped\",$D110)), 0),\"Not required\")","v":0},{"$f":"IF(INTRO!$E$41=\"Endemic\", IF(AND($J110>1,$J110<5), IF($J110=4, \"Unknown\", E110+F110), 0),\"Not required\")","v":61348},{"$f":"IF(INTRO!$E$43=\"Endemic\", IF(AND($K110>0,$K110<5), IF($K110=4,\"Unknown\", IF($K110=1, $F110*0.33, IF($K110=2, $F110*0.5+$G110*0.2, SUM(F110:G110)))), 0),\"Not required\")","v":0},0,0,2,0,null,null,null,null,null,49803,"OTUKE",null,null,null,null,99,null,6.1555482141073616,{"$f":"_xlfn.XLOOKUP(Y110,[1]COUNTRY_INFO!$Y$9:$Y$143,[1]COUNTRY_INFO!$D$9:$D$143)","v":130159},{"$f":"_xlfn.XLOOKUP(Y110,[1]COUNTRY_INFO!$Y$9:$Y$143,[1]COUNTRY_INFO!$D$9:$D$143)","v":130159},null,null,{"$f":"_xlfn.XLOOKUP($Y110,[1]COUNTRY_INFO!$Y$9:$Y$143,[1]COUNTRY_INFO!H$9:H$143)","v":99},{"$f":"_xlfn.XLOOKUP($Y110,[1]COUNTRY_INFO!$Y$9:$Y$143,[1]COUNTRY_INFO!I$9:I$143)","v":0},{"$f":"_xlfn.XLOOKUP($Y110,[1]COUNTRY_INFO!$Y$9:$Y$143,[1]COUNTRY_INFO!J$9:J$143)","v":3},{"$f":"_xlfn.XLOOKUP($Y110,[1]COUNTRY_INFO!$Y$9:$Y$143,[1]COUNTRY_INFO!K$9:K$143)","v":0},true,true,true,true,null,null,null,{"$f":"_xlfn.XLOOKUP($Y110,[2]Sheet1!$B$4:$B$41,[2]Sheet1!$D$4:$D$41)","v":{"$error":"#N/A"}},0]
[{"$f":"IF(INTRO!$E$33<>0,INTRO!$E$33, \" \")","v":"Uganda"},"NORTHERN","OYAM",507598,{"$f":"IF(INTRO!$E$48=\"\",\"\",ROUND($D111*INTRO!$E$48,0))","v":72079},{"$f":"IF(INTRO!$E$49=\"\",\"\",ROUND($D111*INTRO!$E$49,0))","v":153295},{"$f":"IF(INTRO!$E$50=\"\",\"\",ROUND($D111*INTRO!$E$50,0))","v":264459},99,1,3,3,{"$f":"IF(INTRO!$E$37=\"Endemic\",IF($H111>0,IF($H111=4,\"Unknown\",IF($H111=99,\"Stopped\",$D111)),0),\"Not required\")","v":"Not required"},{"$f":"IF(INTRO!$E$39=\"Endemic\", IF($I111>0, IF($I111=4,\"Unknown\",IF($I111=99,\"Stopped\",$D111)), 0),\"Not required\")","v":507598},{"$f":"IF(INTRO!$E$41=\"Endemic\", IF(AND($J111>1,$J111<5), IF($J111=4, \"Unknown\", E111+F111), 0),\"Not required\")","v":225374},{"$f":"IF(INTRO!$E$43=\"Endemic\", IF(AND($K111>0,$K111<5), IF($K111=4,\"Unknown\", IF($K111=1, $F111*0.33, IF($K111=2, $F111*0.5+$G111*0.2, SUM(F111:G111)))), 0),\"Not required\")","v":417754},0,2,2,1,null,null,null,null,null,49802,"OYAM",null,null,null,null,99,null,6.1531865948658959,{"$f":"_xlfn.XLOOKUP(Y111,[1]COUNTRY_INFO!$Y$9:$Y$143,[1]COUNTRY_INFO!$D$9:$D$143)","v":478175},{"$f":"_xlfn.XLOOKUP(Y111,[1]COUNTRY_INFO!$Y$9:$Y$143,[1]COUNTRY_INFO!$D$9:$D$143)","v":478175},null,null,{"$f":"_xlfn.XLOOKUP($Y111,[1]COUNTRY_INFO!$Y$9:$Y$143,[1]COUNTRY_INFO!H$9:H$143)","v":99},{"$f":"_xlfn.XLOOKUP($Y111,[1]COUNTRY_INFO!$Y$9:$Y$143,[1]COUNTRY_INFO!I$9:I$143)","v":1},{"$f":"_xlfn.XLOOKUP($Y111,[1]COUNTRY_INFO!$Y$9:$Y$143,[1]COUNTRY_INFO!J$9:J$143)","v":3},{"$f":"_xlfn.XLOOKUP($Y111,[1]COUNTRY_INFO!$Y$9:$Y$143,[1]COUNTRY_INFO!K$9:K$143)","v":3},true,true,true,true,null,null,null,{"$f":"_xlfn.XLOOKUP($Y111,[2]Sheet1!$B$4:$B$41,[2]Sheet1!$D$4:$D$41)","v":{"$error":"#N/A"}},3]
[{"$f":"IF(INTRO!$E$33<>0,INTRO!$E$33, \" \")","v":"Uganda"},"NORTHERN","PADER",240350,{"$f":"IF(INTRO!$E$48=\"\",\"\",ROUND($D112*INTRO!$E$48,0))","v":34130},{"$f":"IF(INTRO!$E$49=\"\",\"\",ROUND($D112*INTRO!$E$49,0))","v":72586},{"$f":"IF(INTRO!$E$50=\"\",\"\",ROUND($D112*INTRO!$E$50,0))","v":125222},99,1,3,2,{"$f":"IF(INTRO!$E$37=\"Endemic\",IF($H112>0,IF($H112=4,\"Unknown\",IF($H112=99,\"Stopped\",$D112)),0),\"Not required\")","v":"Not required"},{"$f":"IF(INTRO!$E$39=\"Endemic\", IF($I112>0, IF($I112=4,\"Unknown\",IF($I112=99,\"Stopped\",$D112)), 0),\"Not required\")","v":240350},{"$f":"IF(INTRO!$E$41=\"Endemic\", IF(AND($J112>1,$J112<5), IF($J112=4, \"Unknown\", E112+F112), 0),\"Not required\")","v":106716},{"$f":"IF(INTRO!$E$43=\"Endemic\", IF(AND($K112>0,$K112<5), IF($K112=4,\"Unknown\", IF($K112=1, $F112*0.33, IF($K112=2, $F112*0.5+$G112*0.2, SUM(F112:G112)))), 0),\"Not required\")","v":61337.4},0,2,2,1,null,null,null,null,null,49805,"PADER",null,null,null,null,99,null,6.1499392734901184,{"$f":"_xlfn.XLOOKUP(Y112,[1]COUNTRY_INFO!$Y$9:$Y$143,[1]COUNTRY_INFO!$D$9:$D$143)","v":226425},{"$f":"_xlfn.XLOOKUP(Y112,[1]COUNTRY_INFO!$Y$9:$Y$143,[1]COUNTRY_INFO!$D$9:$D$143)","v":226425},null,null,{"$f":"_xlfn.XLOOKUP($Y112,[1]COUNTRY_INFO!$Y$9:$Y$143,[1]COUNTRY_INFO!H$9:H$143)","v":99},{"$f":"_xlfn.XLOOKUP($Y112,[1]COUNTRY_INFO!$Y$9:$Y$143,[1]COUNTRY_INFO!I$9:I$143)","v":1},{"$f":"_xlfn.XLOOKUP($Y112,[1]COUNTRY_INFO!$Y$9:$Y$143,[1]COUNTRY_INFO!J$9:J$143)","v":3},{"$f":"_xlfn.XLOOKUP($Y112,[1]COUNTRY_INFO!$Y$9:$Y$143,[1]COUNTRY_INFO!K$9:K$143)","v":2},true,true,true,true,null,null,null,{"$f":"_xlfn.XLOOKUP($Y112,[2]Sheet1!$B$4:$B$41,[2]Sheet1!$D$4:$D$41)","v":{"$error":"#N/A"}},2]
[{"$f":"IF(INTRO!$E$33<>0,INTRO!$E$33, \" \")","v":"Uganda"},"NORTHERN","PAKWACH",193561,{"$f":"IF(INTRO!$E$48=\"\",\"\",ROUND($D113*INTRO!$E$48,0))","v":27486},{"$f":"IF(INTRO!$E$49=\"\",\"\",ROUND($D113*INTRO!$E$49,0))","v":58455},{"$f":"IF(INTRO!$E$50=\"\",\"\",ROUND($D113*INTRO!$E$50,0))","v":100845},99,99,3,3,{"$f":"IF(INTRO!$E$37=\"Endemic\",IF($H113>0,IF($H113=4,\"Unknown\",IF($H113=99,\"Stopped\",$D113)),0),\"Not required\")","v":"Not required"},{"$f":"IF(INTRO!$E$39=\"Endemic\", IF($I113>0, IF($I113=4,\"Unknown\",IF($I113=99,\"Stopped\",$D113)), 0),\"Not required\")","v":"Stopped"},{"$f":"IF(INTRO!$E$41=\"Endemic\", IF(AND($J113>1,$J113<5), IF($J113=4, \"Unknown\", E113+F113), 0),\"Not required\")","v":85941},{"$f":"IF(INTRO!$E$43=\"Endemic\", IF(AND($K113>0,$K113<5), IF($K113=4,\"Unknown\", IF($K113=1, $F113*0.33, IF($K113=2, $F113*0.5+$G113*0.2, SUM(F113:G113)))), 0),\"Not required\")","v":159300},0,0,2,1,null,null,null,null,null,49827,"PAKWACH",null,null,null,null,99,null,6.1503954021475655,{"$f":"_xlfn.XLOOKUP(Y113,[1]COUNTRY_INFO!$Y$9:$Y$143,[1]COUNTRY_INFO!$D$9:$D$143)","v":182346},{"$f":"_xlfn.XLOOKUP(Y113,[1]COUNTRY_INFO!$Y$9:$Y$143,[1]COUNTRY_INFO!$D$9:$D$143)","v":182346},null,null,{"$f":"_xlfn.XLOOKUP($Y113,[1]COUNTRY_INFO!$Y$9:$Y$143,[1]COUNTRY_INFO!H$9:H$143)","v":99},{"$f":"_xlfn.XLOOKUP($Y113,[1]COUNTRY_INFO!$Y$9:$Y$143,[1]COUNTRY_INFO!I$9:I$143)","v":99},{"$f":"_xlfn.XLOOKUP($Y113,[1]COUNTRY_INFO!$Y$9:$Y$143,[1]COUNTRY_INFO!J$9:J$143)","v":3},{"$f":"_xlfn.XLOOKUP($Y113,[1]COUNTRY_INFO!$Y$9:$Y$143,[1]COUNTRY_INFO!K$9:K$143)","v":3},true,true,true,true,null,null,null,{"$f":"_xlfn.XLOOKUP($Y113,[2]Sheet1!$B$4:$B$41,[2]Sheet1!$D$4:$D$41)","v":69.642857142857139},3]
[{"$f":"IF(INTRO!$E$33<>0,INTRO!$E$33, \" \")","v":"Uganda"},"NORTHERN","TEREGO",266901,{"$f":"IF(INTRO!$E$48=\"\",\"\",ROUND($D114*INTRO!$E$48,0))","v":37900},{"$f":"IF(INTRO!$E$49=\"\",\"\",ROUND($D114*INTRO!$E$49,0))","v":80604},{"$f":"IF(INTRO!$E$50=\"\",\"\",ROUND($D114*INTRO!$E$50,0))","v":139055},99,0,3,3,{"$f":"IF(INTRO!$E$37=\"Endemic\",IF($H114>0,IF($H114=4,\"Unknown\",IF($H114=99,\"Stopped\",$D114)),0),\"Not required\")","v":"Not required"},{"$f":"IF(INTRO!$E$39=\"Endemic\", IF($I114>0, IF($I114=4,\"Unknown\",IF($I114=99,\"Stopped\",$D114)), 0),\"Not required\")","v":0},{"$f":"IF(INTRO!$E$41=\"Endemic\", IF(AND($J114>1,$J114<5), IF($J114=4, \"Unknown\", E114+F114), 0),\"Not required\")","v":118504},{"$f":"IF(INTRO!$E$43=\"Endemic\", IF(AND($K114>0,$K114<5), IF($K114=4,\"Unknown\", IF($K114=1, $F114*0.33, IF($K114=2, $F114*0.5+$G114*0.2, SUM(F114:G114)))), 0),\"Not required\")","v":219659},0,0,2,1,null,null,null,null,null,49844,"TEREGO",49712,"ARUA",null,null,99,null,{"$error":"#N/A"},{"$f":"_xlfn.XLOOKUP(Y114,[1]COUNTRY_INFO!$Y$9:$Y$143,[1]COUNTRY_INFO!$D$9:$D$143)","v":{"$error":"#N/A"}},{"$f":"_xlfn.XLOOKUP(Y114,[1]COUNTRY_INFO!$Y$9:$Y$143,[1]COUNTRY_INFO!$D$9:$D$143)","v":{"$error":"#N/A"}},null,null,{"$f":"_xlfn.XLOOKUP($Y114,[1]COUNTRY_INFO!$Y$9:$Y$143,[1]COUNTRY_INFO!H$9:H$143)","v":{"$error":"#N/A"}},{"$f":"_xlfn.XLOOKUP($Y114,[1]COUNTRY_INFO!$Y$9:$Y$143,[1]COUNTRY_INFO!I$9:I$143)","v":{"$error":"#N/A"}},{"$f":"_xlfn.XLOOKUP($Y114,[1]COUNTRY_INFO!$Y$9:$Y$143,[1]COUNTRY_INFO!J$9:J$143)","v":{"$error":"#N/A"}},{"$f":"_xlfn.XLOOKUP($Y114,[1]COUNTRY_INFO!$Y$9:$Y$143,[1]COUNTRY_INFO!K$9:K$143)","v":{"$error":"#N/A"}},{"$error":"#N/A"},{"$error":"#N/A"},{"$error":"#N/A"},{"$error":"#N/A"},null,null,null,{"$f":"_xlfn.XLOOKUP($Y114,[2]Sheet1!$B$4:$B$41,[2]Sheet1!$D$4:$D$41)","v":{"$error":"#N/A"}},3]
[{"$f":"IF(INTRO!$E$33<>0,INTRO!$E$33, \" \")","v":"Uganda"},"NORTHERN","YUMBE",635234,{"$f":"IF(INTRO!$E$48=\"\",\"\",ROUND($D115*INTRO!$E$48,0))","v":90203},{"$f":"IF(INTRO!$E$49=\"\",\"\",ROUND($D115*INTRO!$E$49,0))","v":191841},{"$f":"IF(INTRO!$E$50=\"\",\"\",ROUND($D115*INTRO!$E$50,0))","v":330957},99,99,3,2,{"$f":"IF(INTRO!$E$37=\"Endemic\",IF($H115>0,IF($H115=4,\"Unknown\",IF($H115=99,\"Stopped\",$D115)),0),\"Not required\")","v":"Not required"},{"$f":"IF(INTRO!$E$39=\"Endemic\", IF($I115>0, IF($I115=4,\"Unknown\",IF($I115=99,\"Stopped\",$D115)), 0),\"Not required\")","v":"Stopped"},{"$f":"IF(INTRO!$E$41=\"Endemic\", IF(AND($J115>1,$J115<5), IF($J115=4, \"Unknown\", E115+F115), 0),\"Not required\")","v":282044},{"$f":"IF(INTRO!$E$43=\"Endemic\", IF(AND($K115>0,$K115<5), IF($K115=4,\"Unknown\", IF($K115=1, $F115*0.33, IF($K115=2, $F115*0.5+$G115*0.2, SUM(F115:G115)))), 0),\"Not required\")","v":162111.90000000002},0,0,2,1,null,null,null,null,null,49816,"YUMBE",null,null,null,null,99,null,6.1522213569778987,{"$f":"_xlfn.XLOOKUP(Y115,[1]COUNTRY_INFO!$Y$9:$Y$143,[1]COUNTRY_INFO!$D$9:$D$143)","v":598418},{"$f":"_xlfn.XLOOKUP(Y115,[1]COUNTRY_INFO!$Y$9:$Y$143,[1]COUNTRY_INFO!$D$9:$D$143)","v":598418},null,null,{"$f":"_xlfn.XLOOKUP($Y115,[1]COUNTRY_INFO!$Y$9:$Y$143,[1]COUNTRY_INFO!H$9:H$143)","v":99},{"$f":"_xlfn.XLOOKUP($Y115,[1]COUNTRY_INFO!$Y$9:$Y$143,[1]COUNTRY_INFO!I$9:I$143)","v":99},{"$f":"_xlfn.XLOOKUP($Y115,[1]COUNTRY_INFO!$Y$9:$Y$143,[1]COUNTRY_INFO!J$9:J$143)","v":3},{"$f":"_xlfn.XLOOKUP($Y115,[1]COUNTRY_INFO!$Y$9:$Y$143,[1]COUNTRY_INFO!K$9:K$143)","v":2},true,true,true,true,null,null,null,{"$f":"_xlfn.XLOOKUP($Y115,[2]Sheet1!$B$4:$B$41,[2]Sheet1!$D$4:$D$41)","v":{"$error":"#N/A"}},2]
[{"$f":"IF(INTRO!$E$33<>0,INTRO!$E$33, \" \")","v":"Uganda"},"NORTHERN","ZOMBO",314447,{"$f":"IF(INTRO!$E$48=\"\",\"\",ROUND($D116*INTRO!$E$48,0))","v":44651},{"$f":"IF(INTRO!$E$49=\"\",\"\",ROUND($D116*INTRO!$E$49,0))","v":94963},{"$f":"IF(INTRO!$E$50=\"\",\"\",ROUND($D116*INTRO!$E$50,0))","v":163827},99,99,3,1,{"$f":"IF(INTRO!$E$37=\"Endemic\",IF($H116>0,IF($H116=4,\"Unknown\",IF($H116=99,\"Stopped\",$D116)),0),\"Not required\")","v":"Not required"},{"$f":"IF(INTRO!$E$39=\"Endemic\", IF($I116>0, IF($I116=4,\"Unknown\",IF($I116=99,\"Stopped\",$D116)), 0),\"Not required\")","v":"Stopped"},{"$f":"IF(INTRO!$E$41=\"Endemic\", IF(AND($J116>1,$J116<5), IF($J116=4, \"Unknown\", E116+F116), 0),\"Not required\")","v":139614},{"$f":"IF(INTRO!$E$43=\"Endemic\", IF(AND($K116>0,$K116<5), IF($K116=4,\"Unknown\", IF($K116=1, $F116*0.33, IF($K116=2, $F116*0.5+$G116*0.2, SUM(F116:G116)))), 0),\"Not required\")","v":31337.79},0,0,2,1,null,null,null,null,"Yes",49817,"ZOMBO",null,null,null,null,99,null,6.1503301510998281,{"$f":"_xlfn.XLOOKUP(Y116,[1]COUNTRY_INFO!$Y$9:$Y$143,[1]COUNTRY_INFO!$D$9:$D$143)","v":296228},{"$f":"_xlfn.XLOOKUP(Y116,[1]COUNTRY_INFO!$Y$9:$Y$143,[1]COUNTRY_INFO!$D$9:$D$143)","v":296228},null,null,{"$f":"_xlfn.XLOOKUP($Y116,[1]COUNTRY_INFO!$Y$9:$Y$143,[1]COUNTRY_INFO!H$9:H$143)","v":99},{"$f":"_xlfn.XLOOKUP($Y116,[1]COUNTRY_INFO!$Y$9:$Y$143,[1]COUNTRY_INFO!I$9:I$143)","v":99},{"$f":"_xlfn.XLOOKUP($Y116,[1]COUNTRY_INFO!$Y$9:$Y$143,[1]COUNTRY_INFO!J$9:J$143)","v":3},{"$f":"_xlfn.XLOOKUP($Y116,[1]COUNTRY_INFO!$Y$9:$Y$143,[1]COUNTRY_INFO!K$9:K$143)","v":1},true,true,true,true,null,null,null,{"$f":"_xlfn.XLOOKUP($Y116,[2]Sheet1!$B$4:$B$41,[2]Sheet1!$D$4:$D$41)","v":{"$error":"#N/A"}},1]
[{"$f":"IF(INTRO!$E$33<>0,INTRO!$E$33, \" \")","v":"Uganda"},"WESTERN","BUHWEJU",162282,{"$f":"IF(INTRO!$E$48=\"\",\"\",ROUND($D117*INTRO!$E$48,0))","v":23044},{"$f":"IF(INTRO!$E$49=\"\",\"\",ROUND($D117*INTRO!$E$49,0))","v":49009},{"$f":"IF(INTRO!$E$50=\"\",\"\",ROUND($D117*INTRO!$E$50,0))","v":84549},0,99,3,0,{"$f":"IF(INTRO!$E$37=\"Endemic\",IF($H117>0,IF($H117=4,\"Unknown\",IF($H117=99,\"Stopped\",$D117)),0),\"Not required\")","v":"Not required"},{"$f":"IF(INTRO!$E$39=\"Endemic\", IF($I117>0, IF($I117=4,\"Unknown\",IF($I117=99,\"Stopped\",$D117)), 0),\"Not required\")","v":"Stopped"},{"$f":"IF(INTRO!$E$41=\"Endemic\", IF(AND($J117>1,$J117<5), IF($J117=4, \"Unknown\", E117+F117), 0),\"Not required\")","v":72053},{"$f":"IF(INTRO!$E$43=\"Endemic\", IF(AND($K117>0,$K117<5), IF($K117=4,\"Unknown\", IF($K117=1, $F117*0.33, IF($K117=2, $F117*0.5+$G117*0.2, SUM(F117:G117)))), 0),\"Not required\")","v":0},0,0,2,0,null,null,null,null,null,49724,"BUHWEJU",null,null,null,null,0,null,6.1547820740091446,{"$f":"_xlfn.XLOOKUP(Y117,[1]COUNTRY_INFO!$Y$9:$Y$143,[1]COUNTRY_INFO!$D$9:$D$143)","v":152873},{"$f":"_xlfn.XLOOKUP(Y117,[1]COUNTRY_INFO!$Y$9:$Y$143,[1]COUNTRY_INFO!$D$9:$D$143)","v":152873},null,null,{"$f":"_xlfn.XLOOKUP($Y117,[1]COUNTRY_INFO!$Y$9:$Y$143,[1]COUNTRY_INFO!H$9:H$143)","v":0},{"$f":"_xlfn.XLOOKUP($Y117,[1]COUNTRY_INFO!$Y$9:$Y$143,[1]COUNTRY_INFO!I$9:I$143)","v":99},{"$f":"_xlfn.XLOOKUP($Y117,[1]COUNTRY_INFO!$Y$9:$Y$143,[1]COUNTRY_INFO!J$9:J$143)","v":3},{"$f":"_xlfn.XLOOKUP($Y117,[1]COUNTRY_INFO!$Y$9:$Y$143,[1]COUNTRY_INFO!K$9:K$143)","v":0},true,true,true,true,null,null,null,{"$f":"_xlfn.XLOOKUP($Y117,[2]Sheet1!$B$4:$B$41,[2]Sheet1!$D$4:$D$41)","v":{"$error":"#N/A"}},0]
[{"$f":"IF(INTRO!$E$33<>0,INTRO!$E$33, \" \")","v":"Uganda"},"WESTERN","BULIISA",148571,{"$f":"IF(INTRO!$E$48=\"\",\"\",ROUND($D118*INTRO!$E$48,0))","v":21097},{"$f":"IF(INTRO!$E$49=\"\",\"\",ROUND($D118*INTRO!$E$49,0))","v":44868},{"$f":"IF(INTRO!$E$50=\"\",\"\",ROUND($D118*INTRO!$E$50,0))","v":77405},0,99,3,3,{"$f":"IF(INTRO!$E$37=\"Endemic\",IF($H118>0,IF($H118=4,\"Unknown\",IF($H118=99,\"Stopped\",$D118)),0),\"Not required\")","v":"Not required"},{"$f":"IF(INTRO!$E$39=\"Endemic\", IF($I118>0, IF($I118=4,\"Unknown\",IF($I118=99,\"Stopped\",$D118)), 0),\"Not required\")","v":"Stopped"},{"$f":"IF(INTRO!$E$41=\"Endemic\", IF(AND($J118>1,$J118<5), IF($J118=4, \"Unknown\", E118+F118), 0),\"Not required\")","v":65965},{"$f":"IF(INTRO!$E$43=\"Endemic\", IF(AND($K118>0,$K118<5), IF($K118=4,\"Unknown\", IF($K118=1, $F118*0.33, IF($K118=2, $F118*0.5+$G118*0.2, SUM(F118:G118)))), 0),\"Not required\")","v":122273},0,0,2,1,null,null,null,null,null,49720,"BULIISA",null,null,null,null,0,null,6.1509552592846628,{"$f":"_xlfn.XLOOKUP(Y118,[1]COUNTRY_INFO!$Y$9:$Y$143,[1]COUNTRY_INFO!$D$9:$D$143)","v":139962},{"$f":"_xlfn.XLOOKUP(Y118,[1]COUNTRY_INFO!$Y$9:$Y$143,[1]COUNTRY_INFO!$D$9:$D$143)","v":139962},null,null,{"$f":"_xlfn.XLOOKUP($Y118,[1]COUNTRY_INFO!$Y$9:$Y$143,[1]COUNTRY_INFO!H$9:H$143)","v":0},{"$f":"_xlfn.XLOOKUP($Y118,[1]COUNTRY_INFO!$Y$9:$Y$143,[1]COUNTRY_INFO!I$9:I$143)","v":99},{"$f":"_xlfn.XLOOKUP($Y118,[1]COUNTRY_INFO!$Y$9:$Y$143,[1]COUNTRY_INFO!J$9:J$143)","v":3},{"$f":"_xlfn.XLOOKUP($Y118,[1]COUNTRY_INFO!$Y$9:$Y$143,[1]COUNTRY_INFO!K$9:K$143)","v":3},true,true,true,true,null,null,null,{"$f":"_xlfn.XLOOKUP($Y118,[2]Sheet1!$B$4:$B$41,[2]Sheet1!$D$4:$D$41)","v":74.074074074074076},3]
[{"$f":"IF(INTRO!$E$33<>0,INTRO!$E$33, \" \")","v":"Uganda"},"WESTERN","BUNDIBUGYO",293223,{"$f":"IF(INTRO!$E$48=\"\",\"\",ROUND($D119*INTRO!$E$48,0))","v":41638},{"$f":"IF(INTRO!$E$49=\"\",\"\",ROUND($D119*INTRO!$E$49,0))","v":88553},{"$f":"IF(INTRO!$E$50=\"\",\"\",ROUND($D119*INTRO!$E$50,0))","v":152769},99,0,3,3,{"$f":"IF(INTRO!$E$37=\"Endemic\",IF($H119>0,IF($H119=4,\"Unknown\",IF($H119=99,\"Stopped\",$D119)),0),\"Not required\")","v":"Not required"},{"$f":"IF(INTRO!$E$39=\"Endemic\", IF($I119>0, IF($I119=4,\"Unknown\",IF($I119=99,\"Stopped\",$D119)), 0),\"Not required\")","v":0},{"$f":"IF(INTRO!$E$41=\"Endemic\", IF(AND($J119>1,$J119<5), IF($J119=4, \"Unknown\", E119+F119), 0),\"Not required\")","v":130191},{"$f":"IF(INTRO!$E$43=\"Endemic\", IF(AND($K119>0,$K119<5), IF($K119=4,\"Unknown\", IF($K119=1, $F119*0.33, IF($K119=2, $F119*0.5+$G119*0.2, SUM(F119:G119)))), 0),\"Not required\")","v":241322},0,0,2,1,null,null,null,null,null,49721,"BUNDIBUGYO",null,null,null,null,99,null,6.1517575933099229,{"$f":"_xlfn.XLOOKUP(Y119,[1]COUNTRY_INFO!$Y$9:$Y$143,[1]COUNTRY_INFO!$D$9:$D$143)","v":276230},{"$f":"_xlfn.XLOOKUP(Y119,[1]COUNTRY_INFO!$Y$9:$Y$143,[1]COUNTRY_INFO!$D$9:$D$143)","v":276230},null,null,{"$f":"_xlfn.XLOOKUP($Y119,[1]COUNTRY_INFO!$Y$9:$Y$143,[1]COUNTRY_INFO!H$9:H$143)","v":99},{"$f":"_xlfn.XLOOKUP($Y119,[1]COUNTRY_INFO!$Y$9:$Y$143,[1]COUNTRY_INFO!I$9:I$143)","v":0},{"$f":"_xlfn.XLOOKUP($Y119,[1]COUNTRY_INFO!$Y$9:$Y$143,[1]COUNTRY_INFO!J$9:J$143)","v":3},{"$f":"_xlfn.XLOOKUP($Y119,[1]COUNTRY_INFO!$Y$9:$Y$143,[1]COUNTRY_INFO!K$9:K$143)","v":3},true,true,true,true,null,null,null,{"$f":"_xlfn.XLOOKUP($Y119,[2]Sheet1!$B$4:$B$41,[2]Sheet1!$D$4:$D$41)","v":{"$error":"#N/A"}},3]
[{"$f":"IF(INTRO!$E$33<>0,INTRO!$E$33, \" \")","v":"Uganda"},"WESTERN","BUNYANGABU",224084,{"$f":"IF(INTRO!$E$48=\"\",\"\",ROUND($D120*INTRO!$E$48,0))","v":31820},{"$f":"IF(INTRO!$E$49=\"\",\"\",ROUND($D120*INTRO!$E$49,0))","v":67673},{"$f":"IF(INTRO!$E$50=\"\",\"\",ROUND($D120*INTRO!$E$50,0))","v":116748},0,99,3,1,{"$f":"IF(INTRO!$E$37=\"Endemic\",IF($H120>0,IF($H120=4,\"Unknown\",IF($H120=99,\"Stopped\",$D120)),0),\"Not required\")","v":"Not required"},{"$f":"IF(INTRO!$E$39=\"Endemic\", IF($I120>0, IF($I120=4,\"Unknown\",IF($I120=99,\"Stopped\",$D120)), 0),\"Not required\")","v":"Stopped"},{"$f":"IF(INTRO!$E$41=\"Endemic\", IF(AND($J120>1,$J120<5), IF($J120=4, \"Unknown\", E120+F120), 0),\"Not required\")","v":99493},{"$f":"IF(INTRO!$E$43=\"Endemic\", IF(AND($K120>0,$K120<5), IF($K120=4,\"Unknown\", IF($K120=1, $F120*0.33, IF($K120=2, $F120*0.5+$G120*0.2, SUM(F120:G120)))), 0),\"Not required\")","v":22332.09},0,0,2,1,null,null,null,null,null,49828,"BUNYANGABU",null,null,null,null,0,null,6.1516452074391994,{"$f":"_xlfn.XLOOKUP(Y120,[1]COUNTRY_INFO!$Y$9:$Y$143,[1]COUNTRY_INFO!$D$9:$D$143)","v":211098},{"$f":"_xlfn.XLOOKUP(Y120,[1]COUNTRY_INFO!$Y$9:$Y$143,[1]COUNTRY_INFO!$D$9:$D$143)","v":211098},null,null,{"$f":"_xlfn.XLOOKUP($Y120,[1]COUNTRY_INFO!$Y$9:$Y$143,[1]COUNTRY_INFO!H$9:H$143)","v":0},{"$f":"_xlfn.XLOOKUP($Y120,[1]COUNTRY_INFO!$Y$9:$Y$143,[1]COUNTRY_INFO!I$9:I$143)","v":99},{"$f":"_xlfn.XLOOKUP($Y120,[1]COUNTRY_INFO!$Y$9:$Y$143,[1]COUNTRY_INFO!J$9:J$143)","v":3},{"$f":"_xlfn.XLOOKUP($Y120,[1]COUNTRY_INFO!$Y$9:$Y$143,[1]COUNTRY_INFO!K$9:K$143)","v":1},true,true,true,true,null,null,null,{"$f":"_xlfn.XLOOKUP($Y120,[2]Sheet1!$B$4:$B$41,[2]Sheet1!$D$4:$D$41)","v":8},1]
[{"$f":"IF(INTRO!$E$33<>0,INTRO!$E$33, \" \")","v":"Uganda"},"WESTERN","BUSHENYI",308244,{"$f":"IF(INTRO!$E$48=\"\",\"\",ROUND($D121*INTRO!$E$48,0))","v":43771},{"$f":"IF(INTRO!$E$49=\"\",\"\",ROUND($D121*INTRO!$E$49,0))","v":93090},{"$f":"IF(INTRO!$E$50=\"\",\"\",ROUND($D121*INTRO!$E$50,0))","v":160595},0,99,3,0,{"$f":"IF(INTRO!$E$37=\"Endemic\",IF($H121>0,IF($H121=4,\"Unknown\",IF($H121=99,\"Stopped\",$D121)),0),\"Not required\")","v":"Not required"},{"$f":"IF(INTRO!$E$39=\"Endemic\", IF($I121>0, IF($I121=4,\"Unknown\",IF($I121=99,\"Stopped\",$D121)), 0),\"Not required\")","v":"Stopped"},{"$f":"IF(INTRO!$E$41=\"Endemic\", IF(AND($J121>1,$J121<5), IF($J121=4, \"Unknown\", E121+F121), 0),\"Not required\")","v":136861},{"$f":"IF(INTRO!$E$43=\"Endemic\", IF(AND($K121>0,$K121<5), IF($K121=4,\"Unknown\", IF($K121=1, $F121*0.33, IF($K121=2, $F121*0.5+$G121*0.2, SUM(F121:G121)))), 0),\"Not required\")","v":0},0,0,2,0,null,null,null,null,null,49722,"BUSHENYI",null,null,null,null,0,null,6.1530355365610916,{"$f":"_xlfn.XLOOKUP(Y121,[1]COUNTRY_INFO!$Y$9:$Y$143,[1]COUNTRY_INFO!$D$9:$D$143)","v":290377},{"$f":"_xlfn.XLOOKUP(Y121,[1]COUNTRY_INFO!$Y$9:$Y$143,[1]COUNTRY_INFO!$D$9:$D$143)","v":290377},null,null,{"$f":"_xlfn.XLOOKUP($Y121,[1]COUNTRY_INFO!$Y$9:$Y$143,[1]COUNTRY_INFO!H$9:H$143)","v":0},{"$f":"_xlfn.XLOOKUP($Y121,[1]COUNTRY_INFO!$Y$9:$Y$143,[1]COUNTRY_INFO!I$9:I$143)","v":99},{"$f":"_xlfn.XLOOKUP($Y121,[1]COUNTRY_INFO!$Y$9:$Y$143,[1]COUNTRY_INFO!J$9:J$143)","v":3},{"$f":"_xlfn.XLOOKUP($Y121,[1]COUNTRY_INFO!$Y$9:$Y$143,[1]COUNTRY_INFO!K$9:K$143)","v":0},true,true,true,true,null,null,null,{"$f":"_xlfn.XLOOKUP($Y121,[2]Sheet1!$B$4:$B$41,[2]Sheet1!$D$4:$D$41)","v":{"$error":"#N/A"}},0]
[{"$f":"IF(INTRO!$E$33<>0,INTRO!$E$33, \" \")","v":"Uganda"},"WESTERN","Fortportal City",94512,{"$f":"IF(INTRO!$E$48=\"\",\"\",ROUND($D122*INTRO!$E$48,0))","v":13421},{"$f":"IF(INTRO!$E$49=\"\",\"\",ROUND($D122*INTRO!$E$49,0))","v":28543},{"$f":"IF(INTRO!$E$50=\"\",\"\",ROUND($D122*INTRO!$E$50,0))","v":49241},0,0,3,0,{"$f":"IF(INTRO!$E$37=\"Endemic\",IF($H122>0,IF($H122=4,\"Unknown\",IF($H122=99,\"Stopped\",$D122)),0),\"Not required\")","v":"Not required"},{"$f":"IF(INTRO!$E$39=\"Endemic\", IF($I122>0, IF($I122=4,\"Unknown\",IF($I122=99,\"Stopped\",$D122)), 0),\"Not required\")","v":0},{"$f":"IF(INTRO!$E$41=\"Endemic\", IF(AND($J122>1,$J122<5), IF($J122=4, \"Unknown\", E122+F122), 0),\"Not required\")","v":41964},{"$f":"IF(INTRO!$E$43=\"Endemic\", IF(AND($K122>0,$K122<5), IF($K122=4,\"Unknown\", IF($K122=1, $F122*0.33, IF($K122=2, $F122*0.5+$G122*0.2, SUM(F122:G122)))), 0),\"Not required\")","v":0},0,0,2,0,null,null,null,null,null,49852,"Fortportal City",49742,"KABAROLE",null,null,0,null,{"$error":"#N/A"},{"$f":"_xlfn.XLOOKUP(Y122,[1]COUNTRY_INFO!$Y$9:$Y$143,[1]COUNTRY_INFO!$D$9:$D$143)","v":{"$error":"#N/A"}},{"$f":"_xlfn.XLOOKUP(Y122,[1]COUNTRY_INFO!$Y$9:$Y$143,[1]COUNTRY_INFO!$D$9:$D$143)","v":{"$error":"#N/A"}},null,null,{"$f":"_xlfn.XLOOKUP($Y122,[1]COUNTRY_INFO!$Y$9:$Y$143,[1]COUNTRY_INFO!H$9:H$143)","v":{"$error":"#N/A"}},{"$f":"_xlfn.XLOOKUP($Y122,[1]COUNTRY_INFO!$Y$9:$Y$143,[1]COUNTRY_INFO!I$9:I$143)","v":{"$error":"#N/A"}},{"$f":"_xlfn.XLOOKUP($Y122,[1]COUNTRY_INFO!$Y$9:$Y$143,[1]COUNTRY_INFO!J$9:J$143)","v":{"$error":"#N/A"}},{"$f":"_xlfn.XLOOKUP($Y122,[1]COUNTRY_INFO!$Y$9:$Y$143,[1]COUNTRY_INFO!K$9:K$143)","v":{"$error":"#N/A"}},{"$error":"#N/A"},{"$error":"#N/A"},{"$error":"#N/A"},{"$error":"#N/A"},null,null,null,{"$f":"_xlfn.XLOOKUP($Y122,[2]Sheet1!$B$4:$B$41,[2]Sheet1!$D$4:$D$41)","v":{"$error":"#N/A"}},0]
[{"$f":"IF(INTRO!$E$33<>0,INTRO!$E$33, \" \")","v":"Uganda"},"WESTERN","HOIMA",272173,{"$f":"IF(INTRO!$E$48=\"\",\"\",ROUND($D123*INTRO!$E$48,0))","v":38649},{"$f":"IF(INTRO!$E$49=\"\",\"\",ROUND($D123*INTRO!$E$49,0))","v":82196},{"$f":"IF(INTRO!$E$50=\"\",\"\",ROUND($D123*INTRO!$E$50,0))","v":141802},0,99,3,3,{"$f":"IF(INTRO!$E$37=\"Endemic\",IF($H123>0,IF($H123=4,\"Unknown\",IF($H123=99,\"Stopped\",$D123)),0),\"Not required\")","v":"Not required"},{"$f":"IF(INTRO!$E$39=\"Endemic\", IF($I123>0, IF($I123=4,\"Unknown\",IF($I123=99,\"Stopped\",$D123)), 0),\"Not required\")","v":"Stopped"},{"$f":"IF(INTRO!$E$41=\"Endemic\", IF(AND($J123>1,$J123<5), IF($J123=4, \"Unknown\", E123+F123), 0),\"Not required\")","v":120845},{"$f":"IF(INTRO!$E$43=\"Endemic\", IF(AND($K123>0,$K123<5), IF($K123=4,\"Unknown\", IF($K123=1, $F123*0.33, IF($K123=2, $F123*0.5+$G123*0.2, SUM(F123:G123)))), 0),\"Not required\")","v":223998},0,0,2,1,null,null,null,null,null,49736,"HOIMA",null,null,null,null,0,null,-28.451969737596151,{"$f":"_xlfn.XLOOKUP(Y123,[1]COUNTRY_INFO!$Y$9:$Y$143,[1]COUNTRY_INFO!$D$9:$D$143)","v":380406},{"$f":"_xlfn.XLOOKUP(Y123,[1]COUNTRY_INFO!$Y$9:$Y$143,[1]COUNTRY_INFO!$D$9:$D$143)","v":380406},null,null,{"$f":"_xlfn.XLOOKUP($Y123,[1]COUNTRY_INFO!$Y$9:$Y$143,[1]COUNTRY_INFO!H$9:H$143)","v":0},{"$f":"_xlfn.XLOOKUP($Y123,[1]COUNTRY_INFO!$Y$9:$Y$143,[1]COUNTRY_INFO!I$9:I$143)","v":99},{"$f":"_xlfn.XLOOKUP($Y123,[1]COUNTRY_INFO!$Y$9:$Y$143,[1]COUNTRY_INFO!J$9:J$143)","v":3},{"$f":"_xlfn.XLOOKUP($Y123,[1]COUNTRY_INFO!$Y$9:$Y$143,[1]COUNTRY_INFO!K$9:K$143)","v":3},true,true,true,true,null,null,null,{"$f":"_xlfn.XLOOKUP($Y123,[2]Sheet1!$B$4:$B$41,[2]Sheet1!$D$4:$D$41)","v":{"$error":"#N/A"}},3]
[{"$f":"IF(INTRO!$E$33<>0,INTRO!$E$33, \" \")","v":"Uganda"},"WESTERN","Hoima City",131634,{"$f":"IF(INTRO!$E$48=\"\",\"\",ROUND($D124*INTRO!$E$48,0))","v":18692},{"$f":"IF(INTRO!$E$49=\"\",\"\",ROUND($D124*INTRO!$E$49,0))","v":39753},{"$f":"IF(INTRO!$E$50=\"\",\"\",ROUND($D124*INTRO!$E$50,0))","v":68581},0,0,3,0,{"$f":"IF(INTRO!$E$37=\"Endemic\",IF($H124>0,IF($H124=4,\"Unknown\",IF($H124=99,\"Stopped\",$D124)),0),\"Not required\")","v":"Not required"},{"$f":"IF(INTRO!$E$39=\"Endemic\", IF($I124>0, IF($I124=4,\"Unknown\",IF($I124=99,\"Stopped\",$D124)), 0),\"Not required\")","v":0},{"$f":"IF(INTRO!$E$41=\"Endemic\", IF(AND($J124>1,$J124<5), IF($J124=4, \"Unknown\", E124+F124), 0),\"Not required\")","v":58445},{"$f":"IF(INTRO!$E$43=\"Endemic\", IF(AND($K124>0,$K124<5), IF($K124=4,\"Unknown\", IF($K124=1, $F124*0.33, IF($K124=2, $F124*0.5+$G124*0.2, SUM(F124:G124)))), 0),\"Not required\")","v":0},0,0,2,0,null,null,null,null,null,49853,"Hoima City",49736,"HOIMA",null,null,0,null,{"$error":"#N/A"},{"$f":"_xlfn.XLOOKUP(Y124,[1]COUNTRY_INFO!$Y$9:$Y$143,[1]COUNTRY_INFO!$D$9:$D$143)","v":{"$error":"#N/A"}},{"$f":"_xlfn.XLOOKUP(Y124,[1]COUNTRY_INFO!$Y$9:$Y$143,[1]COUNTRY_INFO!$D$9:$D$143)","v":{"$error":"#N/A"}},null,null,{"$f":"_xlfn.XLOOKUP($Y124,[1]COUNTRY_INFO!$Y$9:$Y$143,[1]COUNTRY_INFO!H$9:H$143)","v":{"$error":"#N/A"}},{"$f":"_xlfn.XLOOKUP($Y124,[1]COUNTRY_INFO!$Y$9:$Y$143,[1]COUNTRY_INFO!I$9:I$143)","v":{"$error":"#N/A"}},{"$f":"_xlfn.XLOOKUP($Y124,[1]COUNTRY_INFO!$Y$9:$Y$143,[1]COUNTRY_INFO!J$9:J$143)","v":{"$error":"#N/A"}},{"$f":"_xlfn.XLOOKUP($Y124,[1]COUNTRY_INFO!$Y$9:$Y$143,[1]COUNTRY_INFO!K$9:K$143)","v":{"$error":"#N/A"}},{"$error":"#N/A"},{"$error":"#N/A"},{"$error":"#N/A"},{"$error":"#N/A"},null,null,null,{"$f":"_xlfn.XLOOKUP($Y124,[2]Sheet1!$B$4:$B$41,[2]Sheet1!$D$4:$D$41)","v":{"$error":"#N/A"}},0]
[{"$f":"IF(INTRO!$E$33<>0,INTRO!$E$33, \" \")","v":"Uganda"},"WESTERN","IBANDA",324541,{"$f":"IF(INTRO!$E$48=\"\",\"\",ROUND($D125*INTRO!$E$48,0))","v":46085},{"$f":"IF(INTRO!$E$49=\"\",\"\",ROUND($D125*INTRO!$E$49,0))","v":98011},{"$f":"IF(INTRO!$E$50=\"\",\"\",ROUND($D125*INTRO!$E$50,0))","v":169086},0,99,3,1,{"$f":"IF(INTRO!$E$37=\"Endemic\",IF($H125>0,IF($H125=4,\"Unknown\",IF($H125=99,\"Stopped\",$D125)),0),\"Not required\")","v":"Not required"},{"$f":"IF(INTRO!$E$39=\"Endemic\", IF($I125>0, IF($I125=4,\"Unknown\",IF($I125=99,\"Stopped\",$D125)), 0),\"Not required\")","v":"Stopped"},{"$f":"IF(INTRO!$E$41=\"Endemic\", IF(AND($J125>1,$J125<5), IF($J125=4, \"Unknown\", E125+F125), 0),\"Not required\")","v":144096},{"$f":"IF(INTRO!$E$43=\"Endemic\", IF(AND($K125>0,$K125<5), IF($K125=4,\"Unknown\", IF($K125=1, $F125*0.33, IF($K125=2, $F125*0.5+$G125*0.2, SUM(F125:G125)))), 0),\"Not required\")","v":32343.63},0,0,2,1,null,null,null,null,null,49737,"IBANDA",null,null,null,null,0,null,6.1510785484161117,{"$f":"_xlfn.XLOOKUP(Y125,[1]COUNTRY_INFO!$Y$9:$Y$143,[1]COUNTRY_INFO!$D$9:$D$143)","v":305735},{"$f":"_xlfn.XLOOKUP(Y125,[1]COUNTRY_INFO!$Y$9:$Y$143,[1]COUNTRY_INFO!$D$9:$D$143)","v":305735},null,null,{"$f":"_xlfn.XLOOKUP($Y125,[1]COUNTRY_INFO!$Y$9:$Y$143,[1]COUNTRY_INFO!H$9:H$143)","v":0},{"$f":"_xlfn.XLOOKUP($Y125,[1]COUNTRY_INFO!$Y$9:$Y$143,[1]COUNTRY_INFO!I$9:I$143)","v":99},{"$f":"_xlfn.XLOOKUP($Y125,[1]COUNTRY_INFO!$Y$9:$Y$143,[1]COUNTRY_INFO!J$9:J$143)","v":3},{"$f":"_xlfn.XLOOKUP($Y125,[1]COUNTRY_INFO!$Y$9:$Y$143,[1]COUNTRY_INFO!K$9:K$143)","v":2},true,true,true,false,null,null,null,{"$f":"_xlfn.XLOOKUP($Y125,[2]Sheet1!$B$4:$B$41,[2]Sheet1!$D$4:$D$41)","v":4},1]
[{"$f":"IF(INTRO!$E$33<>0,INTRO!$E$33, \" \")","v":"Uganda"},"WESTERN","ISINGIRO",643779,{"$f":"IF(INTRO!$E$48=\"\",\"\",ROUND($D126*INTRO!$E$48,0))","v":91417},{"$f":"IF(INTRO!$E$49=\"\",\"\",ROUND($D126*INTRO!$E$49,0))","v":194421},{"$f":"IF(INTRO!$E$50=\"\",\"\",ROUND($D126*INTRO!$E$50,0))","v":335409},0,0,3,2,{"$f":"IF(INTRO!$E$37=\"Endemic\",IF($H126>0,IF($H126=4,\"Unknown\",IF($H126=99,\"Stopped\",$D126)),0),\"Not required\")","v":"Not required"},{"$f":"IF(INTRO!$E$39=\"Endemic\", IF($I126>0, IF($I126=4,\"Unknown\",IF($I126=99,\"Stopped\",$D126)), 0),\"Not required\")","v":0},{"$f":"IF(INTRO!$E$41=\"Endemic\", IF(AND($J126>1,$J126<5), IF($J126=4, \"Unknown\", E126+F126), 0),\"Not required\")","v":285838},{"$f":"IF(INTRO!$E$43=\"Endemic\", IF(AND($K126>0,$K126<5), IF($K126=4,\"Unknown\", IF($K126=1, $F126*0.33, IF($K126=2, $F126*0.5+$G126*0.2, SUM(F126:G126)))), 0),\"Not required\")","v":164292.29999999999},0,0,2,1,null,null,null,null,null,49739,"ISINGIRO",null,null,null,null,0,null,6.149204019885075,{"$f":"_xlfn.XLOOKUP(Y126,[1]COUNTRY_INFO!$Y$9:$Y$143,[1]COUNTRY_INFO!$D$9:$D$143)","v":606485},{"$f":"_xlfn.XLOOKUP(Y126,[1]COUNTRY_INFO!$Y$9:$Y$143,[1]COUNTRY_INFO!$D$9:$D$143)","v":606485},null,null,{"$f":"_xlfn.XLOOKUP($Y126,[1]COUNTRY_INFO!$Y$9:$Y$143,[1]COUNTRY_INFO!H$9:H$143)","v":0},{"$f":"_xlfn.XLOOKUP($Y126,[1]COUNTRY_INFO!$Y$9:$Y$143,[1]COUNTRY_INFO!I$9:I$143)","v":0},{"$f":"_xlfn.XLOOKUP($Y126,[1]COUNTRY_INFO!$Y$9:$Y$143,[1]COUNTRY_INFO!J$9:J$143)","v":3},{"$f":"_xlfn.XLOOKUP($Y126,[1]COUNTRY_INFO!$Y$9:$Y$143,[1]COUNTRY_INFO!K$9:K$143)","v":1},true,true,true,false,null,null,null,{"$f":"_xlfn.XLOOKUP($Y126,[2]Sheet1!$B$4:$B$41,[2]Sheet1!$D$4:$D$41)","v":33.962264150943398},2]
[{"$f":"IF(INTRO!$E$33<>0,INTRO!$E$33, \" \")","v":"Uganda"},"WESTERN","KABALE",304169,{"$f":"IF(INTRO!$E$48=\"\",\"\",ROUND($D127*INTRO!$E$48,0))","v":43192},{"$f":"IF(INTRO!$E$49=\"\",\"\",ROUND($D127*INTRO!$E$49,0))","v":91859},{"$f":"IF(INTRO!$E$50=\"\",\"\",ROUND($D127*INTRO!$E$50,0))","v":158472},0,0,3,0,{"$f":"IF(INTRO!$E$37=\"Endemic\",IF($H127>0,IF($H127=4,\"Unknown\",IF($H127=99,\"Stopped\",$D127)),0),\"Not required\")","v":"Not required"},{"$f":"IF(INTRO!$E$39=\"Endemic\", IF($I127>0, IF($I127=4,\"Unknown\",IF($I127=99,\"Stopped\",$D127)), 0),\"Not required\")","v":0},{"$f":"IF(INTRO!$E$41=\"Endemic\", IF(AND($J127>1,$J127<5), IF($J127=4, \"Unknown\", E127+F127), 0),\"Not required\")","v":135051},{"$f":"IF(INTRO!$E$43=\"Endemic\", IF(AND($K127>0,$K127<5), IF($K127=4,\"Unknown\", IF($K127=1, $F127*0.33, IF($K127=2, $F127*0.5+$G127*0.2, SUM(F127:G127)))), 0),\"Not required\")","v":0},0,0,2,0,null,null,null,null,null,49741,"KABALE",null,null,null,null,0,null,6.1549629536562973,{"$f":"_xlfn.XLOOKUP(Y127,[1]COUNTRY_INFO!$Y$9:$Y$143,[1]COUNTRY_INFO!$D$9:$D$143)","v":286533},{"$f":"_xlfn.XLOOKUP(Y127,[1]COUNTRY_INFO!$Y$9:$Y$143,[1]COUNTRY_INFO!$D$9:$D$143)","v":286533},null,null,{"$f":"_xlfn.XLOOKUP($Y127,[1]COUNTRY_INFO!$Y$9:$Y$143,[1]COUNTRY_INFO!H$9:H$143)","v":0},{"$f":"_xlfn.XLOOKUP($Y127,[1]COUNTRY_INFO!$Y$9:$Y$143,[1]COUNTRY_INFO!I$9:I$143)","v":0},{"$f":"_xlfn.XLOOKUP($Y127,[1]COUNTRY_INFO!$Y$9:$Y$143,[1]COUNTRY_INFO!J$9:J$143)","v":3},{"$f":"_xlfn.XLOOKUP($Y127,[1]COUNTRY_INFO!$Y$9:$Y$143,[1]COUNTRY_INFO!K$9:K$143)","v":0},true,true,true,true,null,null,null,{"$f":"_xlfn.XLOOKUP($Y127,[2]Sheet1!$B$4:$B$41,[2]Sheet1!$D$4:$D$41)","v":{"$error":"#N/A"}},0]
[{"$f":"IF(INTRO!$E$33<>0,INTRO!$E$33, \" \")","v":"Uganda"},"WESTERN","KABAROLE",301778,{"$f":"IF(INTRO!$E$48=\"\",\"\",ROUND($D128*INTRO!$E$48,0))","v":42852},{"$f":"IF(INTRO!$E$49=\"\",\"\",ROUND($D128*INTRO!$E$49,0))","v":91137},{"$f":"IF(INTRO!$E$50=\"\",\"\",ROUND($D128*INTRO!$E$50,0))","v":157226},0,99,3,2,{"$f":"IF(INTRO!$E$37=\"Endemic\",IF($H128>0,IF($H128=4,\"Unknown\",IF($H128=99,\"Stopped\",$D128)),0),\"Not required\")","v":"Not required"},{"$f":"IF(INTRO!$E$39=\"Endemic\", IF($I128>0, IF($I128=4,\"Unknown\",IF($I128=99,\"Stopped\",$D128)), 0),\"Not required\")","v":"Stopped"},{"$f":"IF(INTRO!$E$41=\"Endemic\", IF(AND($J128>1,$J128<5), IF($J128=4, \"Unknown\", E128+F128), 0),\"Not required\")","v":133989},{"$f":"IF(INTRO!$E$43=\"Endemic\", IF(AND($K128>0,$K128<5), IF($K128=4,\"Unknown\", IF($K128=1, $F128*0.33, IF($K128=2, $F128*0.5+$G128*0.2, SUM(F128:G128)))), 0),\"Not required\")","v":77013.7},0,0,2,1,null,null,null,null,null,49742,"KABAROLE",null,null,null,null,0,null,-19.164153197507783,{"$f":"_xlfn.XLOOKUP(Y128,[1]COUNTRY_INFO!$Y$9:$Y$143,[1]COUNTRY_INFO!$D$9:$D$143)","v":373322},{"$f":"_xlfn.XLOOKUP(Y128,[1]COUNTRY_INFO!$Y$9:$Y$143,[1]COUNTRY_INFO!$D$9:$D$143)","v":373322},null,null,{"$f":"_xlfn.XLOOKUP($Y128,[1]COUNTRY_INFO!$Y$9:$Y$143,[1]COUNTRY_INFO!H$9:H$143)","v":0},{"$f":"_xlfn.XLOOKUP($Y128,[1]COUNTRY_INFO!$Y$9:$Y$143,[1]COUNTRY_INFO!I$9:I$143)","v":99},{"$f":"_xlfn.XLOOKUP($Y128,[1]COUNTRY_INFO!$Y$9:$Y$143,[1]COUNTRY_INFO!J$9:J$143)","v":3},{"$f":"_xlfn.XLOOKUP($Y128,[1]COUNTRY_INFO!$Y$9:$Y$143,[1]COUNTRY_INFO!K$9:K$143)","v":2},true,true,true,true,null,null,null,{"$f":"_xlfn.XLOOKUP($Y128,[2]Sheet1!$B$4:$B$41,[2]Sheet1!$D$4:$D$41)","v":{"$error":"#N/A"}},2]
[{"$f":"IF(INTRO!$E$33<>0,INTRO!$E$33, \" \")","v":"Uganda"},"WESTERN","KAGADI",461547,{"$f":"IF(INTRO!$E$48=\"\",\"\",ROUND($D129*INTRO!$E$48,0))","v":65540},{"$f":"IF(INTRO!$E$49=\"\",\"\",ROUND($D129*INTRO!$E$49,0))","v":139387},{"$f":"IF(INTRO!$E$50=\"\",\"\",ROUND($D129*INTRO!$E$50,0))","v":240466},0,99,3,3,{"$f":"IF(INTRO!$E$37=\"Endemic\",IF($H129>0,IF($H129=4,\"Unknown\",IF($H129=99,\"Stopped\",$D129)),0),\"Not required\")","v":"Not required"},{"$f":"IF(INTRO!$E$39=\"Endemic\", IF($I129>0, IF($I129=4,\"Unknown\",IF($I129=99,\"Stopped\",$D129)), 0),\"Not required\")","v":"Stopped"},{"$f":"IF(INTRO!$E$41=\"Endemic\", IF(AND($J129>1,$J129<5), IF($J129=4, \"Unknown\", E129+F129), 0),\"Not required\")","v":204927},{"$f":"IF(INTRO!$E$43=\"Endemic\", IF(AND($K129>0,$K129<5), IF($K129=4,\"Unknown\", IF($K129=1, $F129*0.33, IF($K129=2, $F129*0.5+$G129*0.2, SUM(F129:G129)))), 0),\"Not required\")","v":379853},0,0,2,1,null,null,null,null,null,49752,"KAGADI",null,null,null,null,0,null,6.1510756620254732,{"$f":"_xlfn.XLOOKUP(Y129,[1]COUNTRY_INFO!$Y$9:$Y$143,[1]COUNTRY_INFO!$D$9:$D$143)","v":434802},{"$f":"_xlfn.XLOOKUP(Y129,[1]COUNTRY_INFO!$Y$9:$Y$143,[1]COUNTRY_INFO!$D$9:$D$143)","v":434802},null,null,{"$f":"_xlfn.XLOOKUP($Y129,[1]COUNTRY_INFO!$Y$9:$Y$143,[1]COUNTRY_INFO!H$9:H$143)","v":0},{"$f":"_xlfn.XLOOKUP($Y129,[1]COUNTRY_INFO!$Y$9:$Y$143,[1]COUNTRY_INFO!I$9:I$143)","v":99},{"$f":"_xlfn.XLOOKUP($Y129,[1]COUNTRY_INFO!$Y$9:$Y$143,[1]COUNTRY_INFO!J$9:J$143)","v":3},{"$f":"_xlfn.XLOOKUP($Y129,[1]COUNTRY_INFO!$Y$9:$Y$143,[1]COUNTRY_INFO!K$9:K$143)","v":3},true,true,true,true,null,null,null,{"$f":"_xlfn.XLOOKUP($Y129,[2]Sheet1!$B$4:$B$41,[2]Sheet1!$D$4:$D$41)","v":{"$error":"#N/A"}},3]
[{"$f":"IF(INTRO!$E$33<>0,INTRO!$E$33, \" \")","v":"Uganda"},"WESTERN","KAKUMIRO",387720,{"$f":"IF(INTRO!$E$48=\"\",\"\",ROUND($D130*INTRO!$E$48,0))","v":55056},{"$f":"IF(INTRO!$E$49=\"\",\"\",ROUND($D130*INTRO!$E$49,0))","v":117091},{"$f":"IF(INTRO!$E$50=\"\",\"\",ROUND($D130*INTRO!$E$50,0))","v":202002},0,0,3,0,{"$f":"IF(INTRO!$E$37=\"Endemic\",IF($H130>0,IF($H130=4,\"Unknown\",IF($H130=99,\"Stopped\",$D130)),0),\"Not required\")","v":"Not required"},{"$f":"IF(INTRO!$E$39=\"Endemic\", IF($I130>0, IF($I130=4,\"Unknown\",IF($I130=99,\"Stopped\",$D130)), 0),\"Not required\")","v":0},{"$f":"IF(INTRO!$E$41=\"Endemic\", IF(AND($J130>1,$J130<5), IF($J130=4, \"Unknown\", E130+F130), 0),\"Not required\")","v":172147},{"$f":"IF(INTRO!$E$43=\"Endemic\", IF(AND($K130>0,$K130<5), IF($K130=4,\"Unknown\", IF($K130=1, $F130*0.33, IF($K130=2, $F130*0.5+$G130*0.2, SUM(F130:G130)))), 0),\"Not required\")","v":0},0,0,2,0,null,null,null,null,null,49819,"KAKUMIRO",null,null,null,null,0,null,6.153694516542366,{"$f":"_xlfn.XLOOKUP(Y130,[1]COUNTRY_INFO!$Y$9:$Y$143,[1]COUNTRY_INFO!$D$9:$D$143)","v":365244},{"$f":"_xlfn.XLOOKUP(Y130,[1]COUNTRY_INFO!$Y$9:$Y$143,[1]COUNTRY_INFO!$D$9:$D$143)","v":365244},null,null,{"$f":"_xlfn.XLOOKUP($Y130,[1]COUNTRY_INFO!$Y$9:$Y$143,[1]COUNTRY_INFO!H$9:H$143)","v":0},{"$f":"_xlfn.XLOOKUP($Y130,[1]COUNTRY_INFO!$Y$9:$Y$143,[1]COUNTRY_INFO!I$9:I$143)","v":0},{"$f":"_xlfn.XLOOKUP($Y130,[1]COUNTRY_INFO!$Y$9:$Y$143,[1]COUNTRY_INFO!J$9:J$143)","v":3},{"$f":"_xlfn.XLOOKUP($Y130,[1]COUNTRY_INFO!$Y$9:$Y$143,[1]COUNTRY_INFO!K$9:K$143)","v":0},true,true,true,true,null,null,null,{"$f":"_xlfn.XLOOKUP($Y130,[2]Sheet1!$B$4:$B$41,[2]Sheet1!$D$4:$D$41)","v":{"$error":"#N/A"}},0]
[{"$f":"IF(INTRO!$E$33<>0,INTRO!$E$33, \" \")","v":"Uganda"},"WESTERN","KAMWENGE",360912,{"$f":"IF(INTRO!$E$48=\"\",\"\",ROUND($D131*INTRO!$E$48,0))","v":51250},{"$f":"IF(INTRO!$E$49=\"\",\"\",ROUND($D131*INTRO!$E$49,0))","v":108995},{"$f":"IF(INTRO!$E$50=\"\",\"\",ROUND($D131*INTRO!$E$50,0))","v":188035},0,99,3,0,{"$f":"IF(INTRO!$E$37=\"Endemic\",IF($H131>0,IF($H131=4,\"Unknown\",IF($H131=99,\"Stopped\",$D131)),0),\"Not required\")","v":"Not required"},{"$f":"IF(INTRO!$E$39=\"Endemic\", IF($I131>0, IF($I131=4,\"Unknown\",IF($I131=99,\"Stopped\",$D131)), 0),\"Not required\")","v":"Stopped"},{"$f":"IF(INTRO!$E$41=\"Endemic\", IF(AND($J131>1,$J131<5), IF($J131=4, \"Unknown\", E131+F131), 0),\"Not required\")","v":160245},{"$f":"IF(INTRO!$E$43=\"Endemic\", IF(AND($K131>0,$K131<5), IF($K131=4,\"Unknown\", IF($K131=1, $F131*0.33, IF($K131=2, $F131*0.5+$G131*0.2, SUM(F131:G131)))), 0),\"Not required\")","v":0},0,0,2,0,null,null,null,null,null,49748,"KAMWENGE",null,null,null,null,0,null,6.1521492963131807,{"$f":"_xlfn.XLOOKUP(Y131,[1]COUNTRY_INFO!$Y$9:$Y$143,[1]COUNTRY_INFO!$D$9:$D$143)","v":339995},{"$f":"_xlfn.XLOOKUP(Y131,[1]COUNTRY_INFO!$Y$9:$Y$143,[1]COUNTRY_INFO!$D$9:$D$143)","v":339995},null,null,{"$f":"_xlfn.XLOOKUP($Y131,[1]COUNTRY_INFO!$Y$9:$Y$143,[1]COUNTRY_INFO!H$9:H$143)","v":0},{"$f":"_xlfn.XLOOKUP($Y131,[1]COUNTRY_INFO!$Y$9:$Y$143,[1]COUNTRY_INFO!I$9:I$143)","v":99},{"$f":"_xlfn.XLOOKUP($Y131,[1]COUNTRY_INFO!$Y$9:$Y$143,[1]COUNTRY_INFO!J$9:J$143)","v":3},{"$f":"_xlfn.XLOOKUP($Y131,[1]COUNTRY_INFO!$Y$9:$Y$143,[1]COUNTRY_INFO!K$9:K$143)","v":0},true,true,true,true,null,null,null,{"$f":"_xlfn.XLOOKUP($Y131,[2]Sheet1!$B$4:$B$41,[2]Sheet1!$D$4:$D$41)","v":{"$error":"#N/A"}},0]
[{"$f":"IF(INTRO!$E$33<>0,INTRO!$E$33, \" \")","v":"Uganda"},"WESTERN","KANUNGU",329756,{"$f":"IF(INTRO!$E$48=\"\",\"\",ROUND($D132*INTRO!$E$48,0))","v":46825},{"$f":"IF(INTRO!$E$49=\"\",\"\",ROUND($D132*INTRO!$E$49,0))","v":99586},{"$f":"IF(INTRO!$E$50=\"\",\"\",ROUND($D132*INTRO!$E$50,0))","v":171803},0,99,3,0,{"$f":"IF(INTRO!$E$37=\"Endemic\",IF($H132>0,IF($H132=4,\"Unknown\",IF($H132=99,\"Stopped\",$D132)),0),\"Not required\")","v":"Not required"},{"$f":"IF(INTRO!$E$39=\"Endemic\", IF($I132>0, IF($I132=4,\"Unknown\",IF($I132=99,\"Stopped\",$D132)), 0),\"Not required\")","v":"Stopped"},{"$f":"IF(INTRO!$E$41=\"Endemic\", IF(AND($J132>1,$J132<5), IF($J132=4, \"Unknown\", E132+F132), 0),\"Not required\")","v":146411},{"$f":"IF(INTRO!$E$43=\"Endemic\", IF(AND($K132>0,$K132<5), IF($K132=4,\"Unknown\", IF($K132=1, $F132*0.33, IF($K132=2, $F132*0.5+$G132*0.2, SUM(F132:G132)))), 0),\"Not required\")","v":0},0,0,2,0,null,null,null,null,null,49749,"KANUNGU",null,null,null,null,0,null,6.1479380796183571,{"$f":"_xlfn.XLOOKUP(Y132,[1]COUNTRY_INFO!$Y$9:$Y$143,[1]COUNTRY_INFO!$D$9:$D$143)","v":310657},{"$f":"_xlfn.XLOOKUP(Y132,[1]COUNTRY_INFO!$Y$9:$Y$143,[1]COUNTRY_INFO!$D$9:$D$143)","v":310657},null,null,{"$f":"_xlfn.XLOOKUP($Y132,[1]COUNTRY_INFO!$Y$9:$Y$143,[1]COUNTRY_INFO!H$9:H$143)","v":0},{"$f":"_xlfn.XLOOKUP($Y132,[1]COUNTRY_INFO!$Y$9:$Y$143,[1]COUNTRY_INFO!I$9:I$143)","v":99},{"$f":"_xlfn.XLOOKUP($Y132,[1]COUNTRY_INFO!$Y$9:$Y$143,[1]COUNTRY_INFO!J$9:J$143)","v":3},{"$f":"_xlfn.XLOOKUP($Y132,[1]COUNTRY_INFO!$Y$9:$Y$143,[1]COUNTRY_INFO!K$9:K$143)","v":0},true,true,true,true,null,null,null,{"$f":"_xlfn.XLOOKUP($Y132,[2]Sheet1!$B$4:$B$41,[2]Sheet1!$D$4:$D$41)","v":{"$error":"#N/A"}},0]
[{"$f":"IF(INTRO!$E$33<>0,INTRO!$E$33, \" \")","v":"Uganda"},"WESTERN","KASESE",918397,{"$f":"IF(INTRO!$E$48=\"\",\"\",ROUND($D133*INTRO!$E$48,0))","v":130412},{"$f":"IF(INTRO!$E$49=\"\",\"\",ROUND($D133*INTRO!$E$49,0))","v":277356},{"$f":"IF(INTRO!$E$50=\"\",\"\",ROUND($D133*INTRO!$E$50,0))","v":478485},0,1,3,3,{"$f":"IF(INTRO!$E$37=\"Endemic\",IF($H133>0,IF($H133=4,\"Unknown\",IF($H133=99,\"Stopped\",$D133)),0),\"Not required\")","v":"Not required"},{"$f":"IF(INTRO!$E$39=\"Endemic\", IF($I133>0, IF($I133=4,\"Unknown\",IF($I133=99,\"Stopped\",$D133)), 0),\"Not required\")","v":918397},{"$f":"IF(INTRO!$E$41=\"Endemic\", IF(AND($J133>1,$J133<5), IF($J133=4, \"Unknown\", E133+F133), 0),\"Not required\")","v":407768},{"$f":"IF(INTRO!$E$43=\"Endemic\", IF(AND($K133>0,$K133<5), IF($K133=4,\"Unknown\", IF($K133=1, $F133*0.33, IF($K133=2, $F133*0.5+$G133*0.2, SUM(F133:G133)))), 0),\"Not required\")","v":755841},0,2,2,1,null,null,null,null,null,49750,"KASESE",null,null,null,null,0,null,6.152078606425782,{"$f":"_xlfn.XLOOKUP(Y133,[1]COUNTRY_INFO!$Y$9:$Y$143,[1]COUNTRY_INFO!$D$9:$D$143)","v":865171},{"$f":"_xlfn.XLOOKUP(Y133,[1]COUNTRY_INFO!$Y$9:$Y$143,[1]COUNTRY_INFO!$D$9:$D$143)","v":865171},null,null,{"$f":"_xlfn.XLOOKUP($Y133,[1]COUNTRY_INFO!$Y$9:$Y$143,[1]COUNTRY_INFO!H$9:H$143)","v":0},{"$f":"_xlfn.XLOOKUP($Y133,[1]COUNTRY_INFO!$Y$9:$Y$143,[1]COUNTRY_INFO!I$9:I$143)","v":1},{"$f":"_xlfn.XLOOKUP($Y133,[1]COUNTRY_INFO!$Y$9:$Y$143,[1]COUNTRY_INFO!J$9:J$143)","v":3},{"$f":"_xlfn.XLOOKUP($Y133,[1]COUNTRY_INFO!$Y$9:$Y$143,[1]COUNTRY_INFO!K$9:K$143)","v":3},true,true,true,true,null,null,null,{"$f":"_xlfn.XLOOKUP($Y133,[2]Sheet1!$B$4:$B$41,[2]Sheet1!$D$4:$D$41)","v":{"$error":"#N/A"}},3]
[{"$f":"IF(INTRO!$E$33<>0,INTRO!$E$33, \" \")","v":"Uganda"},"WESTERN","KAZO",231365,{"$f":"IF(INTRO!$E$48=\"\",\"\",ROUND($D134*INTRO!$E$48,0))","v":32854},{"$f":"IF(INTRO!$E$49=\"\",\"\",ROUND($D134*INTRO!$E$49,0))","v":69872},{"$f":"IF(INTRO!$E$50=\"\",\"\",ROUND($D134*INTRO!$E$50,0))","v":120541},0,0,3,1,{"$f":"IF(INTRO!$E$37=\"Endemic\",IF($H134>0,IF($H134=4,\"Unknown\",IF($H134=99,\"Stopped\",$D134)),0),\"Not required\")","v":"Not required"},{"$f":"IF(INTRO!$E$39=\"Endemic\", IF($I134>0, IF($I134=4,\"Unknown\",IF($I134=99,\"Stopped\",$D134)), 0),\"Not required\")","v":0},{"$f":"IF(INTRO!$E$41=\"Endemic\", IF(AND($J134>1,$J134<5), IF($J134=4, \"Unknown\", E134+F134), 0),\"Not required\")","v":102726},{"$f":"IF(INTRO!$E$43=\"Endemic\", IF(AND($K134>0,$K134<5), IF($K134=4,\"Unknown\", IF($K134=1, $F134*0.33, IF($K134=2, $F134*0.5+$G134*0.2, SUM(F134:G134)))), 0),\"Not required\")","v":23057.760000000002},0,0,2,1,null,null,null,null,"Yes",49841,"KAZO",null,null,null,null,0,null,6.1511850907055488,{"$f":"_xlfn.XLOOKUP(Y134,[1]COUNTRY_INFO!$Y$9:$Y$143,[1]COUNTRY_INFO!$D$9:$D$143)","v":217958},{"$f":"_xlfn.XLOOKUP(Y134,[1]COUNTRY_INFO!$Y$9:$Y$143,[1]COUNTRY_INFO!$D$9:$D$143)","v":217958},null,null,{"$f":"_xlfn.XLOOKUP($Y134,[1]COUNTRY_INFO!$Y$9:$Y$143,[1]COUNTRY_INFO!H$9:H$143)","v":0},{"$f":"_xlfn.XLOOKUP($Y134,[1]COUNTRY_INFO!$Y$9:$Y$143,[1]COUNTRY_INFO!I$9:I$143)","v":0},{"$f":"_xlfn.XLOOKUP($Y134,[1]COUNTRY_INFO!$Y$9:$Y$143,[1]COUNTRY_INFO!J$9:J$143)","v":3},{"$f":"_xlfn.XLOOKUP($Y134,[1]COUNTRY_INFO!$Y$9:$Y$143,[1]COUNTRY_INFO!K$9:K$143)","v":1},true,true,true,true,null,null,null,{"$f":"_xlfn.XLOOKUP($Y134,[2]Sheet1!$B$4:$B$41,[2]Sheet1!$D$4:$D$41)","v":{"$error":"#N/A"}},1]
[{"$f":"IF(INTRO!$E$33<>0,INTRO!$E$33, \" \")","v":"Uganda"},"WESTERN","KIBAALE",182540,{"$f":"IF(INTRO!$E$48=\"\",\"\",ROUND($D135*INTRO!$E$48,0))","v":25921},{"$f":"IF(INTRO!$E$49=\"\",\"\",ROUND($D135*INTRO!$E$49,0))","v":55127},{"$f":"IF(INTRO!$E$50=\"\",\"\",ROUND($D135*INTRO!$E$50,0))","v":95103},0,99,3,0,{"$f":"IF(INTRO!$E$37=\"Endemic\",IF($H135>0,IF($H135=4,\"Unknown\",IF($H135=99,\"Stopped\",$D135)),0),\"Not required\")","v":"Not required"},{"$f":"IF(INTRO!$E$39=\"Endemic\", IF($I135>0, IF($I135=4,\"Unknown\",IF($I135=99,\"Stopped\",$D135)), 0),\"Not required\")","v":"Stopped"},{"$f":"IF(INTRO!$E$41=\"Endemic\", IF(AND($J135>1,$J135<5), IF($J135=4, \"Unknown\", E135+F135), 0),\"Not required\")","v":81048},{"$f":"IF(INTRO!$E$43=\"Endemic\", IF(AND($K135>0,$K135<5), IF($K135=4,\"Unknown\", IF($K135=1, $F135*0.33, IF($K135=2, $F135*0.5+$G135*0.2, SUM(F135:G135)))), 0),\"Not required\")","v":0},0,0,2,0,null,null,null,null,null,49820,"KIBAALE",null,null,null,null,0,null,6.1575323346050057,{"$f":"_xlfn.XLOOKUP(Y135,[1]COUNTRY_INFO!$Y$9:$Y$143,[1]COUNTRY_INFO!$D$9:$D$143)","v":171952},{"$f":"_xlfn.XLOOKUP(Y135,[1]COUNTRY_INFO!$Y$9:$Y$143,[1]COUNTRY_INFO!$D$9:$D$143)","v":171952},null,null,{"$f":"_xlfn.XLOOKUP($Y135,[1]COUNTRY_INFO!$Y$9:$Y$143,[1]COUNTRY_INFO!H$9:H$143)","v":0},{"$f":"_xlfn.XLOOKUP($Y135,[1]COUNTRY_INFO!$Y$9:$Y$143,[1]COUNTRY_INFO!I$9:I$143)","v":99},{"$f":"_xlfn.XLOOKUP($Y135,[1]COUNTRY_INFO!$Y$9:$Y$143,[1]COUNTRY_INFO!J$9:J$143)","v":3},{"$f":"_xlfn.XLOOKUP($Y135,[1]COUNTRY_INFO!$Y$9:$Y$143,[1]COUNTRY_INFO!K$9:K$143)","v":0},true,true,true,true,null,null,null,{"$f":"_xlfn.XLOOKUP($Y135,[2]Sheet1!$B$4:$B$41,[2]Sheet1!$D$4:$D$41)","v":{"$error":"#N/A"}},0]
[{"$f":"IF(INTRO!$E$33<>0,INTRO!$E$33, \" \")","v":"Uganda"},"WESTERN","KIKUUBE",346969,{"$f":"IF(INTRO!$E$48=\"\",\"\",ROUND($D136*INTRO!$E$48,0))","v":49270},{"$f":"IF(INTRO!$E$49=\"\",\"\",ROUND($D136*INTRO!$E$49,0))","v":104785},{"$f":"IF(INTRO!$E$50=\"\",\"\",ROUND($D136*INTRO!$E$50,0))","v":180771},0,99,3,3,{"$f":"IF(INTRO!$E$37=\"Endemic\",IF($H136>0,IF($H136=4,\"Unknown\",IF($H136=99,\"Stopped\",$D136)),0),\"Not required\")","v":"Not required"},{"$f":"IF(INTRO!$E$39=\"Endemic\", IF($I136>0, IF($I136=4,\"Unknown\",IF($I136=99,\"Stopped\",$D136)), 0),\"Not required\")","v":"Stopped"},{"$f":"IF(INTRO!$E$41=\"Endemic\", IF(AND($J136>1,$J136<5), IF($J136=4, \"Unknown\", E136+F136), 0),\"Not required\")","v":154055},{"$f":"IF(INTRO!$E$43=\"Endemic\", IF(AND($K136>0,$K136<5), IF($K136=4,\"Unknown\", IF($K136=1, $F136*0.33, IF($K136=2, $F136*0.5+$G136*0.2, SUM(F136:G136)))), 0),\"Not required\")","v":285556},0,0,2,1,null,null,null,null,null,49839,"KIKUUBE",null,null,null,null,0,null,6.1515257203345755,{"$f":"_xlfn.XLOOKUP(Y136,[1]COUNTRY_INFO!$Y$9:$Y$143,[1]COUNTRY_INFO!$D$9:$D$143)","v":326862},{"$f":"_xlfn.XLOOKUP(Y136,[1]COUNTRY_INFO!$Y$9:$Y$143,[1]COUNTRY_INFO!$D$9:$D$143)","v":326862},null,null,{"$f":"_xlfn.XLOOKUP($Y136,[1]COUNTRY_INFO!$Y$9:$Y$143,[1]COUNTRY_INFO!H$9:H$143)","v":0},{"$f":"_xlfn.XLOOKUP($Y136,[1]COUNTRY_INFO!$Y$9:$Y$143,[1]COUNTRY_INFO!I$9:I$143)","v":99},{"$f":"_xlfn.XLOOKUP($Y136,[1]COUNTRY_INFO!$Y$9:$Y$143,[1]COUNTRY_INFO!J$9:J$143)","v":3},{"$f":"_xlfn.XLOOKUP($Y136,[1]COUNTRY_INFO!$Y$9:$Y$143,[1]COUNTRY_INFO!K$9:K$143)","v":3},true,true,true,true,null,null,null,{"$f":"_xlfn.XLOOKUP($Y136,[2]Sheet1!$B$4:$B$41,[2]Sheet1!$D$4:$D$41)","v":{"$error":"#N/A"}},3]
[{"$f":"IF(INTRO!$E$33<>0,INTRO!$E$33, \" \")","v":"Uganda"},"WESTERN","KIRUHURA",198432,{"$f":"IF(INTRO!$E$48=\"\",\"\",ROUND($D137*INTRO!$E$48,0))","v":28177},{"$f":"IF(INTRO!$E$49=\"\",\"\",ROUND($D137*INTRO!$E$49,0))","v":59926},{"$f":"IF(INTRO!$E$50=\"\",\"\",ROUND($D137*INTRO!$E$50,0))","v":103383},0,0,3,1,{"$f":"IF(INTRO!$E$37=\"Endemic\",IF($H137>0,IF($H137=4,\"Unknown\",IF($H137=99,\"Stopped\",$D137)),0),\"Not required\")","v":"Not required"},{"$f":"IF(INTRO!$E$39=\"Endemic\", IF($I137>0, IF($I137=4,\"Unknown\",IF($I137=99,\"Stopped\",$D137)), 0),\"Not required\")","v":0},{"$f":"IF(INTRO!$E$41=\"Endemic\", IF(AND($J137>1,$J137<5), IF($J137=4, \"Unknown\", E137+F137), 0),\"Not required\")","v":88103},{"$f":"IF(INTRO!$E$43=\"Endemic\", IF(AND($K137>0,$K137<5), IF($K137=4,\"Unknown\", IF($K137=1, $F137*0.33, IF($K137=2, $F137*0.5+$G137*0.2, SUM(F137:G137)))), 0),\"Not required\")","v":19775.580000000002},0,0,2,0,null,null,null,null,null,49764,"KIRUHURA",null,null,null,null,0,null,6.1508339841869315,{"$f":"_xlfn.XLOOKUP(Y137,[1]COUNTRY_INFO!$Y$9:$Y$143,[1]COUNTRY_INFO!$D$9:$D$143)","v":186934},{"$f":"_xlfn.XLOOKUP(Y137,[1]COUNTRY_INFO!$Y$9:$Y$143,[1]COUNTRY_INFO!$D$9:$D$143)","v":186934},null,null,{"$f":"_xlfn.XLOOKUP($Y137,[1]COUNTRY_INFO!$Y$9:$Y$143,[1]COUNTRY_INFO!H$9:H$143)","v":0},{"$f":"_xlfn.XLOOKUP($Y137,[1]COUNTRY_INFO!$Y$9:$Y$143,[1]COUNTRY_INFO!I$9:I$143)","v":0},{"$f":"_xlfn.XLOOKUP($Y137,[1]COUNTRY_INFO!$Y$9:$Y$143,[1]COUNTRY_INFO!J$9:J$143)","v":3},{"$f":"_xlfn.XLOOKUP($Y137,[1]COUNTRY_INFO!$Y$9:$Y$143,[1]COUNTRY_INFO!K$9:K$143)","v":1},true,true,true,true,null,null,null,{"$f":"_xlfn.XLOOKUP($Y137,[2]Sheet1!$B$4:$B$41,[2]Sheet1!$D$4:$D$41)","v":3.8461538461538463},1]
[{"$f":"IF(INTRO!$E$33<>0,INTRO!$E$33, \" \")","v":"Uganda"},"WESTERN","KIRYANDONGO",350844,{"$f":"IF(INTRO!$E$48=\"\",\"\",ROUND($D138*INTRO!$E$48,0))","v":49820},{"$f":"IF(INTRO!$E$49=\"\",\"\",ROUND($D138*INTRO!$E$49,0))","v":105955},{"$f":"IF(INTRO!$E$50=\"\",\"\",ROUND($D138*INTRO!$E$50,0))","v":182790},0,0,3,3,{"$f":"IF(INTRO!$E$37=\"Endemic\",IF($H138>0,IF($H138=4,\"Unknown\",IF($H138=99,\"Stopped\",$D138)),0),\"Not required\")","v":"Not required"},{"$f":"IF(INTRO!$E$39=\"Endemic\", IF($I138>0, IF($I138=4,\"Unknown\",IF($I138=99,\"Stopped\",$D138)), 0),\"Not required\")","v":0},{"$f":"IF(INTRO!$E$41=\"Endemic\", IF(AND($J138>1,$J138<5), IF($J138=4, \"Unknown\", E138+F138), 0),\"Not required\")","v":155775},{"$f":"IF(INTRO!$E$43=\"Endemic\", IF(AND($K138>0,$K138<5), IF($K138=4,\"Unknown\", IF($K138=1, $F138*0.33, IF($K138=2, $F138*0.5+$G138*0.2, SUM(F138:G138)))), 0),\"Not required\")","v":288745},0,0,2,1,null,null,null,null,null,49765,"KIRYANDONGO",null,null,null,null,0,null,{"$f":"(D138-AH138)/AH138*100","v":6.1510253726014632},{"$f":"_xlfn.XLOOKUP(Y138,[1]COUNTRY_INFO!$Y$9:$Y$143,[1]COUNTRY_INFO!$D$9:$D$143)","v":330514},{"$f":"_xlfn.XLOOKUP(Y138,[1]COUNTRY_INFO!$Y$9:$Y$143,[1]COUNTRY_INFO!$D$9:$D$143)","v":330514},null,null,{"$f":"_xlfn.XLOOKUP($Y138,[1]COUNTRY_INFO!$Y$9:$Y$143,[1]COUNTRY_INFO!H$9:H$143)","v":0},{"$f":"_xlfn.XLOOKUP($Y138,[1]COUNTRY_INFO!$Y$9:$Y$143,[1]COUNTRY_INFO!I$9:I$143)","v":0},{"$f":"_xlfn.XLOOKUP($Y138,[1]COUNTRY_INFO!$Y$9:$Y$143,[1]COUNTRY_INFO!J$9:J$143)","v":3},{"$f":"_xlfn.XLOOKUP($Y138,[1]COUNTRY_INFO!$Y$9:$Y$143,[1]COUNTRY_INFO!K$9:K$143)","v":3},{"$f":"AL138=H138","v":true},{"$f":"AM138=I138","v":true},{"$f":"AN138=J138","v":true},{"$f":"AO138=K138","v":true},null,null,null,{"$f":"_xlfn.XLOOKUP($Y138,[2]Sheet1!$B$4:$B$41,[2]Sheet1!$D$4:$D$41)","v":{"$error":"#N/A"}},{"$f":"K138","v":3}]
[{"$f":"IF(INTRO!$E$33<>0,INTRO!$E$33, \" \")","v":"Uganda"},"WESTERN","KISORO",375688,{"$f":"IF(INTRO!$E$48=\"\",\"\",ROUND($D139*INTRO!$E$48,0))","v":53348},{"$f":"IF(INTRO!$E$49=\"\",\"\",ROUND($D139*INTRO!$E$49,0))","v":113458},{"$f":"IF(INTRO!$E$50=\"\",\"\",ROUND($D139*INTRO!$E$50,0))","v":195733},0,99,3,0,{"$f":"IF(INTRO!$E$37=\"Endemic\",IF($H139>0,IF($H139=4,\"Unknown\",IF($H139=99,\"Stopped\",$D139)),0),\"Not required\")","v":"Not required"},{"$f":"IF(INTRO!$E$39=\"Endemic\", IF($I139>0, IF($I139=4,\"Unknown\",IF($I139=99,\"Stopped\",$D139)), 0),\"Not required\")","v":"Stopped"},{"$f":"IF(INTRO!$E$41=\"Endemic\", IF(AND($J139>1,$J139<5), IF($J139=4, \"Unknown\", E139+F139), 0),\"Not required\")","v":166806},{"$f":"IF(INTRO!$E$43=\"Endemic\", IF(AND($K139>0,$K139<5), IF($K139=4,\"Unknown\", IF($K139=1, $F139*0.33, IF($K139=2, $F139*0.5+$G139*0.2, SUM(F139:G139)))), 0),\"Not required\")","v":0},0,0,2,0,null,null,null,null,null,49753,"KISORO",null,null,null,null,0,null,6.152042157015102,{"$f":"_xlfn.XLOOKUP(Y139,[1]COUNTRY_INFO!$Y$9:$Y$143,[1]COUNTRY_INFO!$D$9:$D$143)","v":353915},{"$f":"_xlfn.XLOOKUP(Y139,[1]COUNTRY_INFO!$Y$9:$Y$143,[1]COUNTRY_INFO!$D$9:$D$143)","v":353915},null,null,{"$f":"_xlfn.XLOOKUP($Y139,[1]COUNTRY_INFO!$Y$9:$Y$143,[1]COUNTRY_INFO!H$9:H$143)","v":0},{"$f":"_xlfn.XLOOKUP($Y139,[1]COUNTRY_INFO!$Y$9:$Y$143,[1]COUNTRY_INFO!I$9:I$143)","v":99},{"$f":"_xlfn.XLOOKUP($Y139,[1]COUNTRY_INFO!$Y$9:$Y$143,[1]COUNTRY_INFO!J$9:J$143)","v":3},{"$f":"_xlfn.XLOOKUP($Y139,[1]COUNTRY_INFO!$Y$9:$Y$143,[1]COUNTRY_INFO!K$9:K$143)","v":0},true,true,true,true,null,null,null,{"$f":"_xlfn.XLOOKUP($Y139,[2]Sheet1!$B$4:$B$41,[2]Sheet1!$D$4:$D$41)","v":{"$error":"#N/A"}},0]
[{"$f":"IF(INTRO!$E$33<>0,INTRO!$E$33, \" \")","v":"Uganda"},"WESTERN","KITAGWENDA",190462,{"$f":"IF(INTRO!$E$48=\"\",\"\",ROUND($D140*INTRO!$E$48,0))","v":27046},{"$f":"IF(INTRO!$E$49=\"\",\"\",ROUND($D140*INTRO!$E$49,0))","v":57520},{"$f":"IF(INTRO!$E$50=\"\",\"\",ROUND($D140*INTRO!$E$50,0))","v":99231},0,99,3,3,{"$f":"IF(INTRO!$E$37=\"Endemic\",IF($H140>0,IF($H140=4,\"Unknown\",IF($H140=99,\"Stopped\",$D140)),0),\"Not required\")","v":"Not required"},{"$f":"IF(INTRO!$E$39=\"Endemic\", IF($I140>0, IF($I140=4,\"Unknown\",IF($I140=99,\"Stopped\",$D140)), 0),\"Not required\")","v":"Stopped"},{"$f":"IF(INTRO!$E$41=\"Endemic\", IF(AND($J140>1,$J140<5), IF($J140=4, \"Unknown\", E140+F140), 0),\"Not required\")","v":84566},{"$f":"IF(INTRO!$E$43=\"Endemic\", IF(AND($K140>0,$K140<5), IF($K140=4,\"Unknown\", IF($K140=1, $F140*0.33, IF($K140=2, $F140*0.5+$G140*0.2, SUM(F140:G140)))), 0),\"Not required\")","v":156751},0,0,2,1,null,null,null,null,null,49840,"KITAGWENDA",null,null,null,null,0,null,6.1524999581993391,{"$f":"_xlfn.XLOOKUP(Y140,[1]COUNTRY_INFO!$Y$9:$Y$143,[1]COUNTRY_INFO!$D$9:$D$143)","v":179423},{"$f":"_xlfn.XLOOKUP(Y140,[1]COUNTRY_INFO!$Y$9:$Y$143,[1]COUNTRY_INFO!$D$9:$D$143)","v":179423},null,null,{"$f":"_xlfn.XLOOKUP($Y140,[1]COUNTRY_INFO!$Y$9:$Y$143,[1]COUNTRY_INFO!H$9:H$143)","v":0},{"$f":"_xlfn.XLOOKUP($Y140,[1]COUNTRY_INFO!$Y$9:$Y$143,[1]COUNTRY_INFO!I$9:I$143)","v":99},{"$f":"_xlfn.XLOOKUP($Y140,[1]COUNTRY_INFO!$Y$9:$Y$143,[1]COUNTRY_INFO!J$9:J$143)","v":3},{"$f":"_xlfn.XLOOKUP($Y140,[1]COUNTRY_INFO!$Y$9:$Y$143,[1]COUNTRY_INFO!K$9:K$143)","v":3},true,true,true,true,null,null,null,{"$f":"_xlfn.XLOOKUP($Y140,[2]Sheet1!$B$4:$B$41,[2]Sheet1!$D$4:$D$41)","v":{"$error":"#N/A"}},3]
[{"$f":"IF(INTRO!$E$33<>0,INTRO!$E$33, \" \")","v":"Uganda"},"WESTERN","KYEGEGWA",362872,{"$f":"IF(INTRO!$E$48=\"\",\"\",ROUND($D141*INTRO!$E$48,0))","v":51528},{"$f":"IF(INTRO!$E$49=\"\",\"\",ROUND($D141*INTRO!$E$49,0))","v":109587},{"$f":"IF(INTRO!$E$50=\"\",\"\",ROUND($D141*INTRO!$E$50,0))","v":189056},0,0,3,0,{"$f":"IF(INTRO!$E$37=\"Endemic\",IF($H141>0,IF($H141=4,\"Unknown\",IF($H141=99,\"Stopped\",$D141)),0),\"Not required\")","v":"Not required"},{"$f":"IF(INTRO!$E$39=\"Endemic\", IF($I141>0, IF($I141=4,\"Unknown\",IF($I141=99,\"Stopped\",$D141)), 0),\"Not required\")","v":0},{"$f":"IF(INTRO!$E$41=\"Endemic\", IF(AND($J141>1,$J141<5), IF($J141=4, \"Unknown\", E141+F141), 0),\"Not required\")","v":161115},{"$f":"IF(INTRO!$E$43=\"Endemic\", IF(AND($K141>0,$K141<5), IF($K141=4,\"Unknown\", IF($K141=1, $F141*0.33, IF($K141=2, $F141*0.5+$G141*0.2, SUM(F141:G141)))), 0),\"Not required\")","v":0},0,0,2,0,null,null,null,null,null,49770,"KYEGEGWA",null,null,null,null,0,null,6.1532070746962013,{"$f":"_xlfn.XLOOKUP(Y141,[1]COUNTRY_INFO!$Y$9:$Y$143,[1]COUNTRY_INFO!$D$9:$D$143)","v":341838},{"$f":"_xlfn.XLOOKUP(Y141,[1]COUNTRY_INFO!$Y$9:$Y$143,[1]COUNTRY_INFO!$D$9:$D$143)","v":341838},null,null,{"$f":"_xlfn.XLOOKUP($Y141,[1]COUNTRY_INFO!$Y$9:$Y$143,[1]COUNTRY_INFO!H$9:H$143)","v":0},{"$f":"_xlfn.XLOOKUP($Y141,[1]COUNTRY_INFO!$Y$9:$Y$143,[1]COUNTRY_INFO!I$9:I$143)","v":0},{"$f":"_xlfn.XLOOKUP($Y141,[1]COUNTRY_INFO!$Y$9:$Y$143,[1]COUNTRY_INFO!J$9:J$143)","v":3},{"$f":"_xlfn.XLOOKUP($Y141,[1]COUNTRY_INFO!$Y$9:$Y$143,[1]COUNTRY_INFO!K$9:K$143)","v":0},true,true,true,true,null,null,null,{"$f":"_xlfn.XLOOKUP($Y141,[2]Sheet1!$B$4:$B$41,[2]Sheet1!$D$4:$D$41)","v":{"$error":"#N/A"}},0]
[{"$f":"IF(INTRO!$E$33<>0,INTRO!$E$33, \" \")","v":"Uganda"},"WESTERN","KYENJOJO",523419,{"$f":"IF(INTRO!$E$48=\"\",\"\",ROUND($D142*INTRO!$E$48,0))","v":74325},{"$f":"IF(INTRO!$E$49=\"\",\"\",ROUND($D142*INTRO!$E$49,0))","v":158073},{"$f":"IF(INTRO!$E$50=\"\",\"\",ROUND($D142*INTRO!$E$50,0))","v":272701},0,99,3,0,{"$f":"IF(INTRO!$E$37=\"Endemic\",IF($H142>0,IF($H142=4,\"Unknown\",IF($H142=99,\"Stopped\",$D142)),0),\"Not required\")","v":"Not required"},{"$f":"IF(INTRO!$E$39=\"Endemic\", IF($I142>0, IF($I142=4,\"Unknown\",IF($I142=99,\"Stopped\",$D142)), 0),\"Not required\")","v":"Stopped"},{"$f":"IF(INTRO!$E$41=\"Endemic\", IF(AND($J142>1,$J142<5), IF($J142=4, \"Unknown\", E142+F142), 0),\"Not required\")","v":232398},{"$f":"IF(INTRO!$E$43=\"Endemic\", IF(AND($K142>0,$K142<5), IF($K142=4,\"Unknown\", IF($K142=1, $F142*0.33, IF($K142=2, $F142*0.5+$G142*0.2, SUM(F142:G142)))), 0),\"Not required\")","v":0},0,0,2,0,null,null,null,null,null,49757,"KYENJOJO",null,null,null,null,0,null,6.152956923825748,{"$f":"_xlfn.XLOOKUP(Y142,[1]COUNTRY_INFO!$Y$9:$Y$143,[1]COUNTRY_INFO!$D$9:$D$143)","v":493080},{"$f":"_xlfn.XLOOKUP(Y142,[1]COUNTRY_INFO!$Y$9:$Y$143,[1]COUNTRY_INFO!$D$9:$D$143)","v":493080},null,null,{"$f":"_xlfn.XLOOKUP($Y142,[1]COUNTRY_INFO!$Y$9:$Y$143,[1]COUNTRY_INFO!H$9:H$143)","v":0},{"$f":"_xlfn.XLOOKUP($Y142,[1]COUNTRY_INFO!$Y$9:$Y$143,[1]COUNTRY_INFO!I$9:I$143)","v":99},{"$f":"_xlfn.XLOOKUP($Y142,[1]COUNTRY_INFO!$Y$9:$Y$143,[1]COUNTRY_INFO!J$9:J$143)","v":3},{"$f":"_xlfn.XLOOKUP($Y142,[1]COUNTRY_INFO!$Y$9:$Y$143,[1]COUNTRY_INFO!K$9:K$143)","v":0},true,true,true,true,null,null,null,{"$f":"_xlfn.XLOOKUP($Y142,[2]Sheet1!$B$4:$B$41,[2]Sheet1!$D$4:$D$41)","v":{"$error":"#N/A"}},0]
[{"$f":"IF(INTRO!$E$33<>0,INTRO!$E$33, \" \")","v":"Uganda"},"WESTERN","MASINDI",414477,{"$f":"IF(INTRO!$E$48=\"\",\"\",ROUND($D143*INTRO!$E$48,0))","v":58856},{"$f":"IF(INTRO!$E$49=\"\",\"\",ROUND($D143*INTRO!$E$49,0))","v":125172},{"$f":"IF(INTRO!$E$50=\"\",\"\",ROUND($D143*INTRO!$E$50,0))","v":215943},0,99,3,0,{"$f":"IF(INTRO!$E$37=\"Endemic\",IF($H143>0,IF($H143=4,\"Unknown\",IF($H143=99,\"Stopped\",$D143)),0),\"Not required\")","v":"Not required"},{"$f":"IF(INTRO!$E$39=\"Endemic\", IF($I143>0, IF($I143=4,\"Unknown\",IF($I143=99,\"Stopped\",$D143)), 0),\"Not required\")","v":"Stopped"},{"$f":"IF(INTRO!$E$41=\"Endemic\", IF(AND($J143>1,$J143<5), IF($J143=4, \"Unknown\", E143+F143), 0),\"Not required\")","v":184028},{"$f":"IF(INTRO!$E$43=\"Endemic\", IF(AND($K143>0,$K143<5), IF($K143=4,\"Unknown\", IF($K143=1, $F143*0.33, IF($K143=2, $F143*0.5+$G143*0.2, SUM(F143:G143)))), 0),\"Not required\")","v":0},0,0,2,0,null,null,null,null,null,49778,"MASINDI",null,null,null,null,0,null,6.1509501613481534,{"$f":"_xlfn.XLOOKUP(Y143,[1]COUNTRY_INFO!$Y$9:$Y$143,[1]COUNTRY_INFO!$D$9:$D$143)","v":390460},{"$f":"_xlfn.XLOOKUP(Y143,[1]COUNTRY_INFO!$Y$9:$Y$143,[1]COUNTRY_INFO!$D$9:$D$143)","v":390460},null,null,{"$f":"_xlfn.XLOOKUP($Y143,[1]COUNTRY_INFO!$Y$9:$Y$143,[1]COUNTRY_INFO!H$9:H$143)","v":0},{"$f":"_xlfn.XLOOKUP($Y143,[1]COUNTRY_INFO!$Y$9:$Y$143,[1]COUNTRY_INFO!I$9:I$143)","v":99},{"$f":"_xlfn.XLOOKUP($Y143,[1]COUNTRY_INFO!$Y$9:$Y$143,[1]COUNTRY_INFO!J$9:J$143)","v":3},{"$f":"_xlfn.XLOOKUP($Y143,[1]COUNTRY_INFO!$Y$9:$Y$143,[1]COUNTRY_INFO!K$9:K$143)","v":0},true,true,true,true,null,null,null,{"$f":"_xlfn.XLOOKUP($Y143,[2]Sheet1!$B$4:$B$41,[2]Sheet1!$D$4:$D$41)","v":{"$error":"#N/A"}},0]
[{"$f":"IF(INTRO!$E$33<>0,INTRO!$E$33, \" \")","v":"Uganda"},"WESTERN","MBARARA",197237,{"$f":"IF(INTRO!$E$48=\"\",\"\",ROUND($D144*INTRO!$E$48,0))","v":28008},{"$f":"IF(INTRO!$E$49=\"\",\"\",ROUND($D144*INTRO!$E$49,0))","v":59566},{"$f":"IF(INTRO!$E$50=\"\",\"\",ROUND($D144*INTRO!$E$50,0))","v":102760},0,0,3,0,{"$f":"IF(INTRO!$E$37=\"Endemic\",IF($H144>0,IF($H144=4,\"Unknown\",IF($H144=99,\"Stopped\",$D144)),0),\"Not required\")","v":"Not required"},{"$f":"IF(INTRO!$E$39=\"Endemic\", IF($I144>0, IF($I144=4,\"Unknown\",IF($I144=99,\"Stopped\",$D144)), 0),\"Not required\")","v":0},{"$f":"IF(INTRO!$E$41=\"Endemic\", IF(AND($J144>1,$J144<5), IF($J144=4, \"Unknown\", E144+F144), 0),\"Not required\")","v":87574},{"$f":"IF(INTRO!$E$43=\"Endemic\", IF(AND($K144>0,$K144<5), IF($K144=4,\"Unknown\", IF($K144=1, $F144*0.33, IF($K144=2, $F144*0.5+$G144*0.2, SUM(F144:G144)))), 0),\"Not required\")","v":0},0,0,2,0,null,null,null,null,null,49786,"MBARARA",null,null,null,null,0,null,-53.714250848921338,{"$f":"_xlfn.XLOOKUP(Y144,[1]COUNTRY_INFO!$Y$9:$Y$143,[1]COUNTRY_INFO!$D$9:$D$143)","v":426129},{"$f":"_xlfn.XLOOKUP(Y144,[1]COUNTRY_INFO!$Y$9:$Y$143,[1]COUNTRY_INFO!$D$9:$D$143)","v":426129},null,null,{"$f":"_xlfn.XLOOKUP($Y144,[1]COUNTRY_INFO!$Y$9:$Y$143,[1]COUNTRY_INFO!H$9:H$143)","v":0},{"$f":"_xlfn.XLOOKUP($Y144,[1]COUNTRY_INFO!$Y$9:$Y$143,[1]COUNTRY_INFO!I$9:I$143)","v":0},{"$f":"_xlfn.XLOOKUP($Y144,[1]COUNTRY_INFO!$Y$9:$Y$143,[1]COUNTRY_INFO!J$9:J$143)","v":3},{"$f":"_xlfn.XLOOKUP($Y144,[1]COUNTRY_INFO!$Y$9:$Y$143,[1]COUNTRY_INFO!K$9:K$143)","v":0},true,true,true,true,null,null,null,{"$f":"_xlfn.XLOOKUP($Y144,[2]Sheet1!$B$4:$B$41,[2]Sheet1!$D$4:$D$41)","v":{"$error":"#N/A"}},0]
[{"$f":"IF(INTRO!$E$33<>0,INTRO!$E$33, \" \")","v":"Uganda"},"WESTERN","Mbarara City",255119,{"$f":"IF(INTRO!$E$48=\"\",\"\",ROUND($D145*INTRO!$E$48,0))","v":36227},{"$f":"IF(INTRO!$E$49=\"\",\"\",ROUND($D145*INTRO!$E$49,0))","v":77046},{"$f":"IF(INTRO!$E$50=\"\",\"\",ROUND($D145*INTRO!$E$50,0))","v":132917},0,0,3,0,{"$f":"IF(INTRO!$E$37=\"Endemic\",IF($H145>0,IF($H145=4,\"Unknown\",IF($H145=99,\"Stopped\",$D145)),0),\"Not required\")","v":"Not required"},{"$f":"IF(INTRO!$E$39=\"Endemic\", IF($I145>0, IF($I145=4,\"Unknown\",IF($I145=99,\"Stopped\",$D145)), 0),\"Not required\")","v":0},{"$f":"IF(INTRO!$E$41=\"Endemic\", IF(AND($J145>1,$J145<5), IF($J145=4, \"Unknown\", E145+F145), 0),\"Not required\")","v":113273},{"$f":"IF(INTRO!$E$43=\"Endemic\", IF(AND($K145>0,$K145<5), IF($K145=4,\"Unknown\", IF($K145=1, $F145*0.33, IF($K145=2, $F145*0.5+$G145*0.2, SUM(F145:G145)))), 0),\"Not required\")","v":0},0,0,2,0,null,null,null,null,null,49854,"Mbarara City",49786,"MBARARA",null,null,0,null,{"$error":"#N/A"},{"$f":"_xlfn.XLOOKUP(Y145,[1]COUNTRY_INFO!$Y$9:$Y$143,[1]COUNTRY_INFO!$D$9:$D$143)","v":{"$error":"#N/A"}},{"$f":"_xlfn.XLOOKUP(Y145,[1]COUNTRY_INFO!$Y$9:$Y$143,[1]COUNTRY_INFO!$D$9:$D$143)","v":{"$error":"#N/A"}},null,null,{"$f":"_xlfn.XLOOKUP($Y145,[1]COUNTRY_INFO!$Y$9:$Y$143,[1]COUNTRY_INFO!H$9:H$143)","v":{"$error":"#N/A"}},{"$f":"_xlfn.XLOOKUP($Y145,[1]COUNTRY_INFO!$Y$9:$Y$143,[1]COUNTRY_INFO!I$9:I$143)","v":{"$error":"#N/A"}},{"$f":"_xlfn.XLOOKUP($Y145,[1]COUNTRY_INFO!$Y$9:$Y$143,[1]COUNTRY_INFO!J$9:J$143)","v":{"$error":"#N/A"}},{"$f":"_xlfn.XLOOKUP($Y145,[1]COUNTRY_INFO!$Y$9:$Y$143,[1]COUNTRY_INFO!K$9:K$143)","v":{"$error":"#N/A"}},{"$error":"#N/A"},{"$error":"#N/A"},{"$error":"#N/A"},{"$error":"#N/A"},null,null,null,{"$f":"_xlfn.XLOOKUP($Y145,[2]Sheet1!$B$4:$B$41,[2]Sheet1!$D$4:$D$41)","v":{"$error":"#N/A"}},0]
[{"$f":"IF(INTRO!$E$33<>0,INTRO!$E$33, \" \")","v":"Uganda"},"WESTERN","MITOOMA",242692,{"$f":"IF(INTRO!$E$48=\"\",\"\",ROUND($D146*INTRO!$E$48,0))","v":34462},{"$f":"IF(INTRO!$E$49=\"\",\"\",ROUND($D146*INTRO!$E$49,0))","v":73293},{"$f":"IF(INTRO!$E$50=\"\",\"\",ROUND($D146*INTRO!$E$50,0))","v":126443},0,99,3,0,{"$f":"IF(INTRO!$E$37=\"Endemic\",IF($H146>0,IF($H146=4,\"Unknown\",IF($H146=99,\"Stopped\",$D146)),0),\"Not required\")","v":"Not required"},{"$f":"IF(INTRO!$E$39=\"Endemic\", IF($I146>0, IF($I146=4,\"Unknown\",IF($I146=99,\"Stopped\",$D146)), 0),\"Not required\")","v":"Stopped"},{"$f":"IF(INTRO!$E$41=\"Endemic\", IF(AND($J146>1,$J146<5), IF($J146=4, \"Unknown\", E146+F146), 0),\"Not required\")","v":107755},{"$f":"IF(INTRO!$E$43=\"Endemic\", IF(AND($K146>0,$K146<5), IF($K146=4,\"Unknown\", IF($K146=1, $F146*0.33, IF($K146=2, $F146*0.5+$G146*0.2, SUM(F146:G146)))), 0),\"Not required\")","v":0},0,0,2,0,null,null,null,null,null,49787,"MITOOMA",null,null,null,null,0,null,6.1491560710833522,{"$f":"_xlfn.XLOOKUP(Y146,[1]COUNTRY_INFO!$Y$9:$Y$143,[1]COUNTRY_INFO!$D$9:$D$143)","v":228633},{"$f":"_xlfn.XLOOKUP(Y146,[1]COUNTRY_INFO!$Y$9:$Y$143,[1]COUNTRY_INFO!$D$9:$D$143)","v":228633},null,null,{"$f":"_xlfn.XLOOKUP($Y146,[1]COUNTRY_INFO!$Y$9:$Y$143,[1]COUNTRY_INFO!H$9:H$143)","v":0},{"$f":"_xlfn.XLOOKUP($Y146,[1]COUNTRY_INFO!$Y$9:$Y$143,[1]COUNTRY_INFO!I$9:I$143)","v":99},{"$f":"_xlfn.XLOOKUP($Y146,[1]COUNTRY_INFO!$Y$9:$Y$143,[1]COUNTRY_INFO!J$9:J$143)","v":3},{"$f":"_xlfn.XLOOKUP($Y146,[1]COUNTRY_INFO!$Y$9:$Y$143,[1]COUNTRY_INFO!K$9:K$143)","v":0},true,true,true,true,null,null,null,{"$f":"_xlfn.XLOOKUP($Y146,[2]Sheet1!$B$4:$B$41,[2]Sheet1!$D$4:$D$41)","v":{"$error":"#N/A"}},0]
[{"$f":"IF(INTRO!$E$33<>0,INTRO!$E$33, \" \")","v":"Uganda"},"WESTERN","NTOROKO",86888,{"$f":"IF(INTRO!$E$48=\"\",\"\",ROUND($D147*INTRO!$E$48,0))","v":12338},{"$f":"IF(INTRO!$E$49=\"\",\"\",ROUND($D147*INTRO!$E$49,0))","v":26240},{"$f":"IF(INTRO!$E$50=\"\",\"\",ROUND($D147*INTRO!$E$50,0))","v":45269},99,0,3,3,{"$f":"IF(INTRO!$E$37=\"Endemic\",IF($H147>0,IF($H147=4,\"Unknown\",IF($H147=99,\"Stopped\",$D147)),0),\"Not required\")","v":"Not required"},{"$f":"IF(INTRO!$E$39=\"Endemic\", IF($I147>0, IF($I147=4,\"Unknown\",IF($I147=99,\"Stopped\",$D147)), 0),\"Not required\")","v":0},{"$f":"IF(INTRO!$E$41=\"Endemic\", IF(AND($J147>1,$J147<5), IF($J147=4, \"Unknown\", E147+F147), 0),\"Not required\")","v":38578},{"$f":"IF(INTRO!$E$43=\"Endemic\", IF(AND($K147>0,$K147<5), IF($K147=4,\"Unknown\", IF($K147=1, $F147*0.33, IF($K147=2, $F147*0.5+$G147*0.2, SUM(F147:G147)))), 0),\"Not required\")","v":71509},0,0,2,1,null,null,null,null,null,49799,"NTOROKO",null,null,null,null,0,null,6.142193989738578,{"$f":"_xlfn.XLOOKUP(Y147,[1]COUNTRY_INFO!$Y$9:$Y$143,[1]COUNTRY_INFO!$D$9:$D$143)","v":81860},{"$f":"_xlfn.XLOOKUP(Y147,[1]COUNTRY_INFO!$Y$9:$Y$143,[1]COUNTRY_INFO!$D$9:$D$143)","v":81860},null,null,{"$f":"_xlfn.XLOOKUP($Y147,[1]COUNTRY_INFO!$Y$9:$Y$143,[1]COUNTRY_INFO!H$9:H$143)","v":99},{"$f":"_xlfn.XLOOKUP($Y147,[1]COUNTRY_INFO!$Y$9:$Y$143,[1]COUNTRY_INFO!I$9:I$143)","v":0},{"$f":"_xlfn.XLOOKUP($Y147,[1]COUNTRY_INFO!$Y$9:$Y$143,[1]COUNTRY_INFO!J$9:J$143)","v":3},{"$f":"_xlfn.XLOOKUP($Y147,[1]COUNTRY_INFO!$Y$9:$Y$143,[1]COUNTRY_INFO!K$9:K$143)","v":3},true,true,true,true,null,null,null,{"$f":"_xlfn.XLOOKUP($Y147,[2]Sheet1!$B$4:$B$41,[2]Sheet1!$D$4:$D$41)","v":{"$error":"#N/A"}},3]
[{"$f":"IF(INTRO!$E$33<>0,INTRO!$E$33, \" \")","v":"Uganda"},"WESTERN","NTUNGAMO",640135,{"$f":"IF(INTRO!$E$48=\"\",\"\",ROUND($D148*INTRO!$E$48,0))","v":90899},{"$f":"IF(INTRO!$E$49=\"\",\"\",ROUND($D148*INTRO!$E$49,0))","v":193321},{"$f":"IF(INTRO!$E$50=\"\",\"\",ROUND($D148*INTRO!$E$50,0))","v":333510},0,0,3,0,{"$f":"IF(INTRO!$E$37=\"Endemic\",IF($H148>0,IF($H148=4,\"Unknown\",IF($H148=99,\"Stopped\",$D148)),0),\"Not required\")","v":"Not required"},{"$f":"IF(INTRO!$E$39=\"Endemic\", IF($I148>0, IF($I148=4,\"Unknown\",IF($I148=99,\"Stopped\",$D148)), 0),\"Not required\")","v":0},{"$f":"IF(INTRO!$E$41=\"Endemic\", IF(AND($J148>1,$J148<5), IF($J148=4, \"Unknown\", E148+F148), 0),\"Not required\")","v":284220},{"$f":"IF(INTRO!$E$43=\"Endemic\", IF(AND($K148>0,$K148<5), IF($K148=4,\"Unknown\", IF($K148=1, $F148*0.33, IF($K148=2, $F148*0.5+$G148*0.2, SUM(F148:G148)))), 0),\"Not required\")","v":0},0,0,2,0,null,null,null,null,null,49800,"NTUNGAMO",null,null,null,null,0,null,6.1518613285751949,{"$f":"_xlfn.XLOOKUP(Y148,[1]COUNTRY_INFO!$Y$9:$Y$143,[1]COUNTRY_INFO!$D$9:$D$143)","v":603037},{"$f":"_xlfn.XLOOKUP(Y148,[1]COUNTRY_INFO!$Y$9:$Y$143,[1]COUNTRY_INFO!$D$9:$D$143)","v":603037},null,null,{"$f":"_xlfn.XLOOKUP($Y148,[1]COUNTRY_INFO!$Y$9:$Y$143,[1]COUNTRY_INFO!H$9:H$143)","v":0},{"$f":"_xlfn.XLOOKUP($Y148,[1]COUNTRY_INFO!$Y$9:$Y$143,[1]COUNTRY_INFO!I$9:I$143)","v":0},{"$f":"_xlfn.XLOOKUP($Y148,[1]COUNTRY_INFO!$Y$9:$Y$143,[1]COUNTRY_INFO!J$9:J$143)","v":3},{"$f":"_xlfn.XLOOKUP($Y148,[1]COUNTRY_INFO!$Y$9:$Y$143,[1]COUNTRY_INFO!K$9:K$143)","v":0},true,true,true,true,null,null,null,{"$f":"_xlfn.XLOOKUP($Y148,[2]Sheet1!$B$4:$B$41,[2]Sheet1!$D$4:$D$41)","v":{"$error":"#N/A"}},0]
[{"$f":"IF(INTRO!$E$33<>0,INTRO!$E$33, \" \")","v":"Uganda"},"WESTERN","RUBANDA",261137,{"$f":"IF(INTRO!$E$48=\"\",\"\",ROUND($D149*INTRO!$E$48,0))","v":37081},{"$f":"IF(INTRO!$E$49=\"\",\"\",ROUND($D149*INTRO!$E$49,0))","v":78863},{"$f":"IF(INTRO!$E$50=\"\",\"\",ROUND($D149*INTRO!$E$50,0))","v":136052},0,99,3,0,{"$f":"IF(INTRO!$E$37=\"Endemic\",IF($H149>0,IF($H149=4,\"Unknown\",IF($H149=99,\"Stopped\",$D149)),0),\"Not required\")","v":"Not required"},{"$f":"IF(INTRO!$E$39=\"Endemic\", IF($I149>0, IF($I149=4,\"Unknown\",IF($I149=99,\"Stopped\",$D149)), 0),\"Not required\")","v":"Stopped"},{"$f":"IF(INTRO!$E$41=\"Endemic\", IF(AND($J149>1,$J149<5), IF($J149=4, \"Unknown\", E149+F149), 0),\"Not required\")","v":115944},{"$f":"IF(INTRO!$E$43=\"Endemic\", IF(AND($K149>0,$K149<5), IF($K149=4,\"Unknown\", IF($K149=1, $F149*0.33, IF($K149=2, $F149*0.5+$G149*0.2, SUM(F149:G149)))), 0),\"Not required\")","v":0},0,0,2,0,null,null,null,null,null,49821,"RUBANDA",null,null,null,null,0,null,6.1510944899493918,{"$f":"_xlfn.XLOOKUP(Y149,[1]COUNTRY_INFO!$Y$9:$Y$143,[1]COUNTRY_INFO!$D$9:$D$143)","v":246005},{"$f":"_xlfn.XLOOKUP(Y149,[1]COUNTRY_INFO!$Y$9:$Y$143,[1]COUNTRY_INFO!$D$9:$D$143)","v":246005},null,null,{"$f":"_xlfn.XLOOKUP($Y149,[1]COUNTRY_INFO!$Y$9:$Y$143,[1]COUNTRY_INFO!H$9:H$143)","v":0},{"$f":"_xlfn.XLOOKUP($Y149,[1]COUNTRY_INFO!$Y$9:$Y$143,[1]COUNTRY_INFO!I$9:I$143)","v":99},{"$f":"_xlfn.XLOOKUP($Y149,[1]COUNTRY_INFO!$Y$9:$Y$143,[1]COUNTRY_INFO!J$9:J$143)","v":3},{"$f":"_xlfn.XLOOKUP($Y149,[1]COUNTRY_INFO!$Y$9:$Y$143,[1]COUNTRY_INFO!K$9:K$143)","v":0},true,true,true,true,null,null,null,{"$f":"_xlfn.XLOOKUP($Y149,[2]Sheet1!$B$4:$B$41,[2]Sheet1!$D$4:$D$41)","v":{"$error":"#N/A"}},0]
[{"$f":"IF(INTRO!$E$33<>0,INTRO!$E$33, \" \")","v":"Uganda"},"WESTERN","RUBIRIZI",169125,{"$f":"IF(INTRO!$E$48=\"\",\"\",ROUND($D150*INTRO!$E$48,0))","v":24016},{"$f":"IF(INTRO!$E$49=\"\",\"\",ROUND($D150*INTRO!$E$49,0))","v":51076},{"$f":"IF(INTRO!$E$50=\"\",\"\",ROUND($D150*INTRO!$E$50,0))","v":88114},0,0,3,3,{"$f":"IF(INTRO!$E$37=\"Endemic\",IF($H150>0,IF($H150=4,\"Unknown\",IF($H150=99,\"Stopped\",$D150)),0),\"Not required\")","v":"Not required"},{"$f":"IF(INTRO!$E$39=\"Endemic\", IF($I150>0, IF($I150=4,\"Unknown\",IF($I150=99,\"Stopped\",$D150)), 0),\"Not required\")","v":0},{"$f":"IF(INTRO!$E$41=\"Endemic\", IF(AND($J150>1,$J150<5), IF($J150=4, \"Unknown\", E150+F150), 0),\"Not required\")","v":75092},{"$f":"IF(INTRO!$E$43=\"Endemic\", IF(AND($K150>0,$K150<5), IF($K150=4,\"Unknown\", IF($K150=1, $F150*0.33, IF($K150=2, $F150*0.5+$G150*0.2, SUM(F150:G150)))), 0),\"Not required\")","v":139190},0,0,2,1,null,null,null,null,null,49808,"RUBIRIZI",null,null,null,null,0,null,6.1496168257734096,{"$f":"_xlfn.XLOOKUP(Y150,[1]COUNTRY_INFO!$Y$9:$Y$143,[1]COUNTRY_INFO!$D$9:$D$143)","v":159327},{"$f":"_xlfn.XLOOKUP(Y150,[1]COUNTRY_INFO!$Y$9:$Y$143,[1]COUNTRY_INFO!$D$9:$D$143)","v":159327},null,null,{"$f":"_xlfn.XLOOKUP($Y150,[1]COUNTRY_INFO!$Y$9:$Y$143,[1]COUNTRY_INFO!H$9:H$143)","v":0},{"$f":"_xlfn.XLOOKUP($Y150,[1]COUNTRY_INFO!$Y$9:$Y$143,[1]COUNTRY_INFO!I$9:I$143)","v":0},{"$f":"_xlfn.XLOOKUP($Y150,[1]COUNTRY_INFO!$Y$9:$Y$143,[1]COUNTRY_INFO!J$9:J$143)","v":3},{"$f":"_xlfn.XLOOKUP($Y150,[1]COUNTRY_INFO!$Y$9:$Y$143,[1]COUNTRY_INFO!K$9:K$143)","v":3},true,true,true,true,null,null,null,{"$f":"_xlfn.XLOOKUP($Y150,[2]Sheet1!$B$4:$B$41,[2]Sheet1!$D$4:$D$41)","v":{"$error":"#N/A"}},3]
[{"$f":"IF(INTRO!$E$33<>0,INTRO!$E$33, \" \")","v":"Uganda"},"WESTERN","RUKIGA",133485,{"$f":"IF(INTRO!$E$48=\"\",\"\",ROUND($D151*INTRO!$E$48,0))","v":18955},{"$f":"IF(INTRO!$E$49=\"\",\"\",ROUND($D151*INTRO!$E$49,0))","v":40312},{"$f":"IF(INTRO!$E$50=\"\",\"\",ROUND($D151*INTRO!$E$50,0))","v":69546},0,0,3,0,{"$f":"IF(INTRO!$E$37=\"Endemic\",IF($H151>0,IF($H151=4,\"Unknown\",IF($H151=99,\"Stopped\",$D151)),0),\"Not required\")","v":"Not required"},{"$f":"IF(INTRO!$E$39=\"Endemic\", IF($I151>0, IF($I151=4,\"Unknown\",IF($I151=99,\"Stopped\",$D151)), 0),\"Not required\")","v":0},{"$f":"IF(INTRO!$E$41=\"Endemic\", IF(AND($J151>1,$J151<5), IF($J151=4, \"Unknown\", E151+F151), 0),\"Not required\")","v":59267},{"$f":"IF(INTRO!$E$43=\"Endemic\", IF(AND($K151>0,$K151<5), IF($K151=4,\"Unknown\", IF($K151=1, $F151*0.33, IF($K151=2, $F151*0.5+$G151*0.2, SUM(F151:G151)))), 0),\"Not required\")","v":0},0,0,2,0,null,null,null,null,null,49829,"RUKIGA",null,null,null,null,0,null,6.1494051784464663,{"$f":"_xlfn.XLOOKUP(Y151,[1]COUNTRY_INFO!$Y$9:$Y$143,[1]COUNTRY_INFO!$D$9:$D$143)","v":125752},{"$f":"_xlfn.XLOOKUP(Y151,[1]COUNTRY_INFO!$Y$9:$Y$143,[1]COUNTRY_INFO!$D$9:$D$143)","v":125752},null,null,{"$f":"_xlfn.XLOOKUP($Y151,[1]COUNTRY_INFO!$Y$9:$Y$143,[1]COUNTRY_INFO!H$9:H$143)","v":0},{"$f":"_xlfn.XLOOKUP($Y151,[1]COUNTRY_INFO!$Y$9:$Y$143,[1]COUNTRY_INFO!I$9:I$143)","v":0},{"$f":"_xlfn.XLOOKUP($Y151,[1]COUNTRY_INFO!$Y$9:$Y$143,[1]COUNTRY_INFO!J$9:J$143)","v":3},{"$f":"_xlfn.XLOOKUP($Y151,[1]COUNTRY_INFO!$Y$9:$Y$143,[1]COUNTRY_INFO!K$9:K$143)","v":0},true,true,true,true,null,null,null,{"$f":"_xlfn.XLOOKUP($Y151,[2]Sheet1!$B$4:$B$41,[2]Sheet1!$D$4:$D$41)","v":{"$error":"#N/A"}},0]
[{"$f":"IF(INTRO!$E$33<>0,INTRO!$E$33, \" \")","v":"Uganda"},"WESTERN","RUKUNGIRI",419361,{"$f":"IF(INTRO!$E$48=\"\",\"\",ROUND($D152*INTRO!$E$48,0))","v":59549},{"$f":"IF(INTRO!$E$49=\"\",\"\",ROUND($D152*INTRO!$E$49,0))","v":126647},{"$f":"IF(INTRO!$E$50=\"\",\"\",ROUND($D152*INTRO!$E$50,0))","v":218487},0,0,3,0,{"$f":"IF(INTRO!$E$37=\"Endemic\",IF($H152>0,IF($H152=4,\"Unknown\",IF($H152=99,\"Stopped\",$D152)),0),\"Not required\")","v":"Not required"},{"$f":"IF(INTRO!$E$39=\"Endemic\", IF($I152>0, IF($I152=4,\"Unknown\",IF($I152=99,\"Stopped\",$D152)), 0),\"Not required\")","v":0},{"$f":"IF(INTRO!$E$41=\"Endemic\", IF(AND($J152>1,$J152<5), IF($J152=4, \"Unknown\", E152+F152), 0),\"Not required\")","v":186196},{"$f":"IF(INTRO!$E$43=\"Endemic\", IF(AND($K152>0,$K152<5), IF($K152=4,\"Unknown\", IF($K152=1, $F152*0.33, IF($K152=2, $F152*0.5+$G152*0.2, SUM(F152:G152)))), 0),\"Not required\")","v":0},0,0,2,0,null,null,null,null,null,49806,"RUKUNGIRI",null,null,null,null,0,null,6.1501427616791204,{"$f":"_xlfn.XLOOKUP(Y152,[1]COUNTRY_INFO!$Y$9:$Y$143,[1]COUNTRY_INFO!$D$9:$D$143)","v":395064},{"$f":"_xlfn.XLOOKUP(Y152,[1]COUNTRY_INFO!$Y$9:$Y$143,[1]COUNTRY_INFO!$D$9:$D$143)","v":395064},null,null,{"$f":"_xlfn.XLOOKUP($Y152,[1]COUNTRY_INFO!$Y$9:$Y$143,[1]COUNTRY_INFO!H$9:H$143)","v":0},{"$f":"_xlfn.XLOOKUP($Y152,[1]COUNTRY_INFO!$Y$9:$Y$143,[1]COUNTRY_INFO!I$9:I$143)","v":0},{"$f":"_xlfn.XLOOKUP($Y152,[1]COUNTRY_INFO!$Y$9:$Y$143,[1]COUNTRY_INFO!J$9:J$143)","v":3},{"$f":"_xlfn.XLOOKUP($Y152,[1]COUNTRY_INFO!$Y$9:$Y$143,[1]COUNTRY_INFO!K$9:K$143)","v":1},true,true,true,false,null,null,null,{"$f":"_xlfn.XLOOKUP($Y152,[2]Sheet1!$B$4:$B$41,[2]Sheet1!$D$4:$D$41)","v":0},0]
[{"$f":"IF(INTRO!$E$33<>0,INTRO!$E$33, \" \")","v":"Uganda"},"WESTERN","RWAMPARA",167930,{"$f":"IF(INTRO!$E$48=\"\",\"\",ROUND($D153*INTRO!$E$48,0))","v":23846},{"$f":"IF(INTRO!$E$49=\"\",\"\",ROUND($D153*INTRO!$E$49,0))","v":50715},{"$f":"IF(INTRO!$E$50=\"\",\"\",ROUND($D153*INTRO!$E$50,0))","v":87492},0,0,3,0,{"$f":"IF(INTRO!$E$37=\"Endemic\",IF($H153>0,IF($H153=4,\"Unknown\",IF($H153=99,\"Stopped\",$D153)),0),\"Not required\")","v":"Not required"},{"$f":"IF(INTRO!$E$39=\"Endemic\", IF($I153>0, IF($I153=4,\"Unknown\",IF($I153=99,\"Stopped\",$D153)), 0),\"Not required\")","v":0},{"$f":"IF(INTRO!$E$41=\"Endemic\", IF(AND($J153>1,$J153<5), IF($J153=4, \"Unknown\", E153+F153), 0),\"Not required\")","v":74561},{"$f":"IF(INTRO!$E$43=\"Endemic\", IF(AND($K153>0,$K153<5), IF($K153=4,\"Unknown\", IF($K153=1, $F153*0.33, IF($K153=2, $F153*0.5+$G153*0.2, SUM(F153:G153)))), 0),\"Not required\")","v":0},0,0,2,0,null,null,null,null,null,49842,"RWAMPARA",null,null,null,null,0,null,6.1537975283668889,{"$f":"_xlfn.XLOOKUP(Y153,[1]COUNTRY_INFO!$Y$9:$Y$143,[1]COUNTRY_INFO!$D$9:$D$143)","v":158195},{"$f":"_xlfn.XLOOKUP(Y153,[1]COUNTRY_INFO!$Y$9:$Y$143,[1]COUNTRY_INFO!$D$9:$D$143)","v":158195},null,null,{"$f":"_xlfn.XLOOKUP($Y153,[1]COUNTRY_INFO!$Y$9:$Y$143,[1]COUNTRY_INFO!H$9:H$143)","v":0},{"$f":"_xlfn.XLOOKUP($Y153,[1]COUNTRY_INFO!$Y$9:$Y$143,[1]COUNTRY_INFO!I$9:I$143)","v":0},{"$f":"_xlfn.XLOOKUP($Y153,[1]COUNTRY_INFO!$Y$9:$Y$143,[1]COUNTRY_INFO!J$9:J$143)","v":3},{"$f":"_xlfn.XLOOKUP($Y153,[1]COUNTRY_INFO!$Y$9:$Y$143,[1]COUNTRY_INFO!K$9:K$143)","v":0},true,true,true,true,null,null,null,{"$f":"_xlfn.XLOOKUP($Y153,[2]Sheet1!$B$4:$B$41,[2]Sheet1!$D$4:$D$41)","v":{"$error":"#N/A"}},0]
[{"$f":"IF(INTRO!$E$33<>0,INTRO!$E$33, \" \")","v":"Uganda"},"WESTERN","SHEEMA",276967,{"$f":"IF(INTRO!$E$48=\"\",\"\",ROUND($D154*INTRO!$E$48,0))","v":39329},{"$f":"IF(INTRO!$E$49=\"\",\"\",ROUND($D154*INTRO!$E$49,0))","v":83644},{"$f":"IF(INTRO!$E$50=\"\",\"\",ROUND($D154*INTRO!$E$50,0))","v":144300},0,0,3,0,{"$f":"IF(INTRO!$E$37=\"Endemic\",IF($H154>0,IF($H154=4,\"Unknown\",IF($H154=99,\"Stopped\",$D154)),0),\"Not required\")","v":"Not required"},{"$f":"IF(INTRO!$E$39=\"Endemic\", IF($I154>0, IF($I154=4,\"Unknown\",IF($I154=99,\"Stopped\",$D154)), 0),\"Not required\")","v":0},{"$f":"IF(INTRO!$E$41=\"Endemic\", IF(AND($J154>1,$J154<5), IF($J154=4, \"Unknown\", E154+F154), 0),\"Not required\")","v":122973},{"$f":"IF(INTRO!$E$43=\"Endemic\", IF(AND($K154>0,$K154<5), IF($K154=4,\"Unknown\", IF($K154=1, $F154*0.33, IF($K154=2, $F154*0.5+$G154*0.2, SUM(F154:G154)))), 0),\"Not required\")","v":0},0,0,2,0,null,null,null,null,null,49813,"SHEEMA",null,null,null,null,0,null,6.1509746357093036,{"$f":"_xlfn.XLOOKUP(Y154,[1]COUNTRY_INFO!$Y$9:$Y$143,[1]COUNTRY_INFO!$D$9:$D$143)","v":260918},{"$f":"_xlfn.XLOOKUP(Y154,[1]COUNTRY_INFO!$Y$9:$Y$143,[1]COUNTRY_INFO!$D$9:$D$143)","v":260918},null,null,{"$f":"_xlfn.XLOOKUP($Y154,[1]COUNTRY_INFO!$Y$9:$Y$143,[1]COUNTRY_INFO!H$9:H$143)","v":0},{"$f":"_xlfn.XLOOKUP($Y154,[1]COUNTRY_INFO!$Y$9:$Y$143,[1]COUNTRY_INFO!I$9:I$143)","v":0},{"$f":"_xlfn.XLOOKUP($Y154,[1]COUNTRY_INFO!$Y$9:$Y$143,[1]COUNTRY_INFO!J$9:J$143)","v":3},{"$f":"_xlfn.XLOOKUP($Y154,[1]COUNTRY_INFO!$Y$9:$Y$143,[1]COUNTRY_INFO!K$9:K$143)","v":0},true,true,true,true,null,null,null,{"$f":"_xlfn.XLOOKUP($Y154,[2]Sheet1!$B$4:$B$41,[2]Sheet1!$D$4:$D$41)","v":{"$error":"#N/A"}},0]

{"sheet":"DEC","index":2,"n_rows":154,"n_cols":13,"rows_kept":154,"cut":false,"hidden":true,"merged":[[6,10,7,10],[6,0,7,0],[6,11,7,11],[5,3,5,6],[5,9,5,12],[6,4,7,4],[6,3,7,3],[6,8,7,8],[6,12,7,12],[6,7,7,7],[6,6,7,6],[6,9,7,9],[3,0,3,2],[5,0,5,2],[6,5,7,5],[6,2,7,2],[6,1,7,1]]}
["Diethylcarbamazine citrate (DEC)"]
["Administrative structure, eligible population by age group, treatment plan and information about tablets"]
[]
["TOTAL",null,null,{"$f":"SUM(D$9:D$1000)","v":0},{"$f":"SUM(E$9:E$1000)","v":0},{"$f":"SUM(F$9:F$1000)","v":0},{"$f":"SUM(G$9:G$1000)","v":0},null,{"$f":"SUM(I$9:I$1000)","v":0},{"$f":"SUM(J$9:J$1000)","v":0},{"$f":"SUM(K$9:K$1000)","v":0},{"$f":"SUM(L$9:L$1000)","v":0},{"$f":"SUM(M$9:M$1000)","v":0}]
[]
["Country administrative structure",null,null,"Population requiring treatment with DEC",null,null,null,"Treatment plan","Target population","Diethylcarbamazine citrate (DEC)"]
["Country","Province/State","District","PreSAC","SAC","Adults","Total","LF","LF","Total required","Remaining in stock","Tablets to be procured","Bottle (100 mg)\n1000 tablets"]
[]
[{"$f":"IF(INTRO!$E$39<>\"Non-endemic\", \" \", IF(INTRO!$E$37=\"Non-endemic\",\" \", IF(COUNTRY_INFO!A9=0,\" \",COUNTRY_INFO!A9)))","v":" "},{"$f":"IF(INTRO!$E$39<>\"Non-endemic\", \" \", IF(INTRO!$E$37=\"Non-endemic\",\" \", IF(COUNTRY_INFO!B9=0,\" \",COUNTRY_INFO!B9)))","v":" "},{"$f":"IF(INTRO!$E$39<>\"Non-endemic\", \" \", IF(INTRO!$E$37=\"Non-endemic\",\" \", IF(COUNTRY_INFO!C9=0,\" \",COUNTRY_INFO!C9)))","v":" "},{"$f":"IF(INTRO!$E$39<>\"Non-endemic\", 0, IF(INTRO!$E$37=\"Non-endemic\",0,IF(COUNTRY_INFO!$H9=1,COUNTRY_INFO!E9,0)))","v":0},{"$f":"IF(INTRO!$E$39<>\"Non-endemic\", 0, IF(INTRO!$E$37=\"Non-endemic\",0,IF(COUNTRY_INFO!$H9=1,COUNTRY_INFO!F9,0)))","v":0},{"$f":"IF(INTRO!$E$39<>\"Non-endemic\", 0, IF(INTRO!$E$37=\"Non-endemic\",0,IF(COUNTRY_INFO!$H9=1,COUNTRY_INFO!G9,0)))","v":0},{"$f":"SUM(D9:F9)","v":0},{"$f":"IF(INTRO!$E$39=\"Non-endemic\",IF(INTRO!$E$37=\"Non-endemic\",\"Not required\",COUNTRY_INFO!P9),\"Treat with IVM\")","v":"Treat with IVM"},{"$f":"IF(H9=1,G9,0)","v":0},{"$f":"IF(I9>0,I9*2.5,0)","v":0},null,{"$f":"IF($J9>$K9,$J9-$K9,0)","v":0},{"$f":"ROUNDUP($J9/1000,0)","v":0}]
[{"$f":"IF(INTRO!$E$39<>\"Non-endemic\", \" \", IF(INTRO!$E$37=\"Non-endemic\",\" \", IF(COUNTRY_INFO!A10=0,\" \",COUNTRY_INFO!A10)))","v":" "},{"$f":"IF(INTRO!$E$39<>\"Non-endemic\", \" \", IF(INTRO!$E$37=\"Non-endemic\",\" \", IF(COUNTRY_INFO!B10=0,\" \",COUNTRY_INFO!B10)))","v":" "},{"$f":"IF(INTRO!$E$39<>\"Non-endemic\", \" \", IF(INTRO!$E$37=\"Non-endemic\",\" \", IF(COUNTRY_INFO!C10=0,\" \",COUNTRY_INFO!C10)))","v":" "},{"$f":"IF(INTRO!$E$39<>\"Non-endemic\", 0, IF(INTRO!$E$37=\"Non-endemic\",0,IF(COUNTRY_INFO!$H10=1,COUNTRY_INFO!E10,0)))","v":0},{"$f":"IF(INTRO!$E$39<>\"Non-endemic\", 0, IF(INTRO!$E$37=\"Non-endemic\",0,IF(COUNTRY_INFO!$H10=1,COUNTRY_INFO!F10,0)))","v":0},{"$f":"IF(INTRO!$E$39<>\"Non-endemic\", 0, IF(INTRO!$E$37=\"Non-endemic\",0,IF(COUNTRY_INFO!$H10=1,COUNTRY_INFO!G10,0)))","v":0},{"$f":"SUM(D10:F10)","v":0},{"$f":"IF(INTRO!$E$39=\"Non-endemic\",IF(INTRO!$E$37=\"Non-endemic\",\"Not required\",COUNTRY_INFO!P10),\"Treat with IVM\")","v":"Treat with IVM"},{"$f":"IF(H10=1,G10,0)","v":0},{"$f":"IF(I10>0,I10*2.5,0)","v":0},null,0,0]
[{"$f":"IF(INTRO!$E$39<>\"Non-endemic\", \" \", IF(INTRO!$E$37=\"Non-endemic\",\" \", IF(COUNTRY_INFO!A11=0,\" \",COUNTRY_INFO!A11)))","v":" "},{"$f":"IF(INTRO!$E$39<>\"Non-endemic\", \" \", IF(INTRO!$E$37=\"Non-endemic\",\" \", IF(COUNTRY_INFO!B11=0,\" \",COUNTRY_INFO!B11)))","v":" "},{"$f":"IF(INTRO!$E$39<>\"Non-endemic\", \" \", IF(INTRO!$E$37=\"Non-endemic\",\" \", IF(COUNTRY_INFO!C11=0,\" \",COUNTRY_INFO!C11)))","v":" "},{"$f":"IF(INTRO!$E$39<>\"Non-endemic\", 0, IF(INTRO!$E$37=\"Non-endemic\",0,IF(COUNTRY_INFO!$H11=1,COUNTRY_INFO!E11,0)))","v":0},{"$f":"IF(INTRO!$E$39<>\"Non-endemic\", 0, IF(INTRO!$E$37=\"Non-endemic\",0,IF(COUNTRY_INFO!$H11=1,COUNTRY_INFO!F11,0)))","v":0},{"$f":"IF(INTRO!$E$39<>\"Non-endemic\", 0, IF(INTRO!$E$37=\"Non-endemic\",0,IF(COUNTRY_INFO!$H11=1,COUNTRY_INFO!G11,0)))","v":0},0,{"$f":"IF(INTRO!$E$39=\"Non-endemic\",IF(INTRO!$E$37=\"Non-endemic\",\"Not required\",COUNTRY_INFO!P11),\"Treat with IVM\")","v":"Treat with IVM"},0,0,null,0,0]
[{"$f":"IF(INTRO!$E$39<>\"Non-endemic\", \" \", IF(INTRO!$E$37=\"Non-endemic\",\" \", IF(COUNTRY_INFO!A12=0,\" \",COUNTRY_INFO!A12)))","v":" "},{"$f":"IF(INTRO!$E$39<>\"Non-endemic\", \" \", IF(INTRO!$E$37=\"Non-endemic\",\" \", IF(COUNTRY_INFO!B12=0,\" \",COUNTRY_INFO!B12)))","v":" "},{"$f":"IF(INTRO!$E$39<>\"Non-endemic\", \" \", IF(INTRO!$E$37=\"Non-endemic\",\" \", IF(COUNTRY_INFO!C12=0,\" \",COUNTRY_INFO!C12)))","v":" "},{"$f":"IF(INTRO!$E$39<>\"Non-endemic\", 0, IF(INTRO!$E$37=\"Non-endemic\",0,IF(COUNTRY_INFO!$H12=1,COUNTRY_INFO!E12,0)))","v":0},{"$f":"IF(INTRO!$E$39<>\"Non-endemic\", 0, IF(INTRO!$E$37=\"Non-endemic\",0,IF(COUNTRY_INFO!$H12=1,COUNTRY_INFO!F12,0)))","v":0},{"$f":"IF(INTRO!$E$39<>\"Non-endemic\", 0, IF(INTRO!$E$37=\"Non-endemic\",0,IF(COUNTRY_INFO!$H12=1,COUNTRY_INFO!G12,0)))","v":0},0,{"$f":"IF(INTRO!$E$39=\"Non-endemic\",IF(INTRO!$E$37=\"Non-endemic\",\"Not required\",COUNTRY_INFO!P12),\"Treat with IVM\")","v":"Treat with IVM"},0,0,null,0,0]
[{"$f":"IF(INTRO!$E$39<>\"Non-endemic\", \" \", IF(INTRO!$E$37=\"Non-endemic\",\" \", IF(COUNTRY_INFO!A13=0,\" \",COUNTRY_INFO!A13)))","v":" "},{"$f":"IF(INTRO!$E$39<>\"Non-endemic\", \" \", IF(INTRO!$E$37=\"Non-endemic\",\" \", IF(COUNTRY_INFO!B13=0,\" \",COUNTRY_INFO!B13)))","v":" "},{"$f":"IF(INTRO!$E$39<>\"Non-endemic\", \" \", IF(INTRO!$E$37=\"Non-endemic\",\" \", IF(COUNTRY_INFO!C13=0,\" \",COUNTRY_INFO!C13)))","v":" "},{"$f":"IF(INTRO!$E$39<>\"Non-endemic\", 0, IF(INTRO!$E$37=\"Non-endemic\",0,IF(COUNTRY_INFO!$H13=1,COUNTRY_INFO!E13,0)))","v":0},{"$f":"IF(INTRO!$E$39<>\"Non-endemic\", 0, IF(INTRO!$E$37=\"Non-endemic\",0,IF(COUNTRY_INFO!$H13=1,COUNTRY_INFO!F13,0)))","v":0},{"$f":"IF(INTRO!$E$39<>\"Non-endemic\", 0, IF(INTRO!$E$37=\"Non-endemic\",0,IF(COUNTRY_INFO!$H13=1,COUNTRY_INFO!G13,0)))","v":0},0,{"$f":"IF(INTRO!$E$39=\"Non-endemic\",IF(INTRO!$E$37=\"Non-endemic\",\"Not required\",COUNTRY_INFO!P13),\"Treat with IVM\")","v":"Treat with IVM"},0,0,null,0,0]
[{"$f":"IF(INTRO!$E$39<>\"Non-endemic\", \" \", IF(INTRO!$E$37=\"Non-endemic\",\" \", IF(COUNTRY_INFO!A14=0,\" \",COUNTRY_INFO!A14)))","v":" "},{"$f":"IF(INTRO!$E$39<>\"Non-endemic\", \" \", IF(INTRO!$E$37=\"Non-endemic\",\" \", IF(COUNTRY_INFO!B14=0,\" \",COUNTRY_INFO!B14)))","v":" "},{"$f":"IF(INTRO!$E$39<>\"Non-endemic\", \" \", IF(INTRO!$E$37=\"Non-endemic\",\" \", IF(COUNTRY_INFO!C14=0,\" \",COUNTRY_INFO!C14)))","v":" "},{"$f":"IF(INTRO!$E$39<>\"Non-endemic\", 0, IF(INTRO!$E$37=\"Non-endemic\",0,IF(COUNTRY_INFO!$H14=1,COUNTRY_INFO!E14,0)))","v":0},{"$f":"IF(INTRO!$E$39<>\"Non-endemic\", 0, IF(INTRO!$E$37=\"Non-endemic\",0,IF(COUNTRY_INFO!$H14=1,COUNTRY_INFO!F14,0)))","v":0},{"$f":"IF(INTRO!$E$39<>\"Non-endemic\", 0, IF(INTRO!$E$37=\"Non-endemic\",0,IF(COUNTRY_INFO!$H14=1,COUNTRY_INFO!G14,0)))","v":0},0,{"$f":"IF(INTRO!$E$39=\"Non-endemic\",IF(INTRO!$E$37=\"Non-endemic\",\"Not required\",COUNTRY_INFO!P14),\"Treat with IVM\")","v":"Treat with IVM"},0,0,null,0,0]
[{"$f":"IF(INTRO!$E$39<>\"Non-endemic\", \" \", IF(INTRO!$E$37=\"Non-endemic\",\" \", IF(COUNTRY_INFO!A15=0,\" \",COUNTRY_INFO!A15)))","v":" "},{"$f":"IF(INTRO!$E$39<>\"Non-endemic\", \" \", IF(INTRO!$E$37=\"Non-endemic\",\" \", IF(COUNTRY_INFO!B15=0,\" \",COUNTRY_INFO!B15)))","v":" "},{"$f":"IF(INTRO!$E$39<>\"Non-endemic\", \" \", IF(INTRO!$E$37=\"Non-endemic\",\" \", IF(COUNTRY_INFO!C15=0,\" \",COUNTRY_INFO!C15)))","v":" "},{"$f":"IF(INTRO!$E$39<>\"Non-endemic\", 0, IF(INTRO!$E$37=\"Non-endemic\",0,IF(COUNTRY_INFO!$H15=1,COUNTRY_INFO!E15,0)))","v":0},{"$f":"IF(INTRO!$E$39<>\"Non-endemic\", 0, IF(INTRO!$E$37=\"Non-endemic\",0,IF(COUNTRY_INFO!$H15=1,COUNTRY_INFO!F15,0)))","v":0},{"$f":"IF(INTRO!$E$39<>\"Non-endemic\", 0, IF(INTRO!$E$37=\"Non-endemic\",0,IF(COUNTRY_INFO!$H15=1,COUNTRY_INFO!G15,0)))","v":0},0,{"$f":"IF(INTRO!$E$39=\"Non-endemic\",IF(INTRO!$E$37=\"Non-endemic\",\"Not required\",COUNTRY_INFO!P15),\"Treat with IVM\")","v":"Treat with IVM"},0,0,null,0,0]
[{"$f":"IF(INTRO!$E$39<>\"Non-endemic\", \" \", IF(INTRO!$E$37=\"Non-endemic\",\" \", IF(COUNTRY_INFO!A16=0,\" \",COUNTRY_INFO!A16)))","v":" "},{"$f":"IF(INTRO!$E$39<>\"Non-endemic\", \" \", IF(INTRO!$E$37=\"Non-endemic\",\" \", IF(COUNTRY_INFO!B16=0,\" \",COUNTRY_INFO!B16)))","v":" "},{"$f":"IF(INTRO!$E$39<>\"Non-endemic\", \" \", IF(INTRO!$E$37=\"Non-endemic\",\" \", IF(COUNTRY_INFO!C16=0,\" \",COUNTRY_INFO!C16)))","v":" "},{"$f":"IF(INTRO!$E$39<>\"Non-endemic\", 0, IF(INTRO!$E$37=\"Non-endemic\",0,IF(COUNTRY_INFO!$H16=1,COUNTRY_INFO!E16,0)))","v":0},{"$f":"IF(INTRO!$E$39<>\"Non-endemic\", 0, IF(INTRO!$E$37=\"Non-endemic\",0,IF(COUNTRY_INFO!$H16=1,COUNTRY_INFO!F16,0)))","v":0},{"$f":"IF(INTRO!$E$39<>\"Non-endemic\", 0, IF(INTRO!$E$37=\"Non-endemic\",0,IF(COUNTRY_INFO!$H16=1,COUNTRY_INFO!G16,0)))","v":0},0,{"$f":"IF(INTRO!$E$39=\"Non-endemic\",IF(INTRO!$E$37=\"Non-endemic\",\"Not required\",COUNTRY_INFO!P16),\"Treat with IVM\")","v":"Treat with IVM"},0,0,null,0,0]
[{"$f":"IF(INTRO!$E$39<>\"Non-endemic\", \" \", IF(INTRO!$E$37=\"Non-endemic\",\" \", IF(COUNTRY_INFO!A17=0,\" \",COUNTRY_INFO!A17)))","v":" "},{"$f":"IF(INTRO!$E$39<>\"Non-endemic\", \" \", IF(INTRO!$E$37=\"Non-endemic\",\" \", IF(COUNTRY_INFO!B17=0,\" \",COUNTRY_INFO!B17)))","v":" "},{"$f":"IF(INTRO!$E$39<>\"Non-endemic\", \" \", IF(INTRO!$E$37=\"Non-endemic\",\" \", IF(COUNTRY_INFO!C17=0,\" \",COUNTRY_INFO!C17)))","v":" "},{"$f":"IF(INTRO!$E$39<>\"Non-endemic\", 0, IF(INTRO!$E$37=\"Non-endemic\",0,IF(COUNTRY_INFO!$H17=1,COUNTRY_INFO!E17,0)))","v":0},{"$f":"IF(INTRO!$E$39<>\"Non-endemic\", 0, IF(INTRO!$E$37=\"Non-endemic\",0,IF(COUNTRY_INFO!$H17=1,COUNTRY_INFO!F17,0)))","v":0},{"$f":"IF(INTRO!$E$39<>\"Non-endemic\", 0, IF(INTRO!$E$37=\"Non-endemic\",0,IF(COUNTRY_INFO!$H17=1,COUNTRY_INFO!G17,0)))","v":0},0,{"$f":"IF(INTRO!$E$39=\"Non-endemic\",IF(INTRO!$E$37=\"Non-endemic\",\"Not required\",COUNTRY_INFO!P17),\"Treat with IVM\")","v":"Treat with IVM"},0,0,null,0,0]
[{"$f":"IF(INTRO!$E$39<>\"Non-endemic\", \" \", IF(INTRO!$E$37=\"Non-endemic\",\" \", IF(COUNTRY_INFO!A18=0,\" \",COUNTRY_INFO!A18)))","v":" "},{"$f":"IF(INTRO!$E$39<>\"Non-endemic\", \" \", IF(INTRO!$E$37=\"Non-endemic\",\" \", IF(COUNTRY_INFO!B18=0,\" \",COUNTRY_INFO!B18)))","v":" "},{"$f":"IF(INTRO!$E$39<>\"Non-endemic\", \" \", IF(INTRO!$E$37=\"Non-endemic\",\" \", IF(COUNTRY_INFO!C18=0,\" \",COUNTRY_INFO!C18)))","v":" "},{"$f":"IF(INTRO!$E$39<>\"Non-endemic\", 0, IF(INTRO!$E$37=\"Non-endemic\",0,IF(COUNTRY_INFO!$H18=1,COUNTRY_INFO!E18,0)))","v":0},{"$f":"IF(INTRO!$E$39<>\"Non-endemic\", 0, IF(INTRO!$E$37=\"Non-endemic\",0,IF(COUNTRY_INFO!$H18=1,COUNTRY_INFO!F18,0)))","v":0},{"$f":"IF(INTRO!$E$39<>\"Non-endemic\", 0, IF(INTRO!$E$37=\"Non-endemic\",0,IF(COUNTRY_INFO!$H18=1,COUNTRY_INFO!G18,0)))","v":0},0,{"$f":"IF(INTRO!$E$39=\"Non-endemic\",IF(INTRO!$E$37=\"Non-endemic\",\"Not required\",COUNTRY_INFO!P18),\"Treat with IVM\")","v":"Treat with IVM"},0,0,null,0,0]
[{"$f":"IF(INTRO!$E$39<>\"Non-endemic\", \" \", IF(INTRO!$E$37=\"Non-endemic\",\" \", IF(COUNTRY_INFO!A19=0,\" \",COUNTRY_INFO!A19)))","v":" "},{"$f":"IF(INTRO!$E$39<>\"Non-endemic\", \" \", IF(INTRO!$E$37=\"Non-endemic\",\" \", IF(COUNTRY_INFO!B19=0,\" \",COUNTRY_INFO!B19)))","v":" "},{"$f":"IF(INTRO!$E$39<>\"Non-endemic\", \" \", IF(INTRO!$E$37=\"Non-endemic\",\" \", IF(COUNTRY_INFO!C19=0,\" \",COUNTRY_INFO!C19)))","v":" "},{"$f":"IF(INTRO!$E$39<>\"Non-endemic\", 0, IF(INTRO!$E$37=\"Non-endemic\",0,IF(COUNTRY_INFO!$H19=1,COUNTRY_INFO!E19,0)))","v":0},{"$f":"IF(INTRO!$E$39<>\"Non-endemic\", 0, IF(INTRO!$E$37=\"Non-endemic\",0,IF(COUNTRY_INFO!$H19=1,COUNTRY_INFO!F19,0)))","v":0},{"$f":"IF(INTRO!$E$39<>\"Non-endemic\", 0, IF(INTRO!$E$37=\"Non-endemic\",0,IF(COUNTRY_INFO!$H19=1,COUNTRY_INFO!G19,0)))","v":0},0,{"$f":"IF(INTRO!$E$39=\"Non-endemic\",IF(INTRO!$E$37=\"Non-endemic\",\"Not required\",COUNTRY_INFO!P19),\"Treat with IVM\")","v":"Treat with IVM"},0,0,null,0,0]
[{"$f":"IF(INTRO!$E$39<>\"Non-endemic\", \" \", IF(INTRO!$E$37=\"Non-endemic\",\" \", IF(COUNTRY_INFO!A20=0,\" \",COUNTRY_INFO!A20)))","v":" "},{"$f":"IF(INTRO!$E$39<>\"Non-endemic\", \" \", IF(INTRO!$E$37=\"Non-endemic\",\" \", IF(COUNTRY_INFO!B20=0,\" \",COUNTRY_INFO!B20)))","v":" "},{"$f":"IF(INTRO!$E$39<>\"Non-endemic\", \" \", IF(INTRO!$E$37=\"Non-endemic\",\" \", IF(COUNTRY_INFO!C20=0,\" \",COUNTRY_INFO!C20)))","v":" "},{"$f":"IF(INTRO!$E$39<>\"Non-endemic\", 0, IF(INTRO!$E$37=\"Non-endemic\",0,IF(COUNTRY_INFO!$H20=1,COUNTRY_INFO!E20,0)))","v":0},{"$f":"IF(INTRO!$E$39<>\"Non-endemic\", 0, IF(INTRO!$E$37=\"Non-endemic\",0,IF(COUNTRY_INFO!$H20=1,COUNTRY_INFO!F20,0)))","v":0},{"$f":"IF(INTRO!$E$39<>\"Non-endemic\", 0, IF(INTRO!$E$37=\"Non-endemic\",0,IF(COUNTRY_INFO!$H20=1,COUNTRY_INFO!G20,0)))","v":0},0,{"$f":"IF(INTRO!$E$39=\"Non-endemic\",IF(INTRO!$E$37=\"Non-endemic\",\"Not required\",COUNTRY_INFO!P20),\"Treat with IVM\")","v":"Treat with IVM"},0,0,null,0,0]
[{"$f":"IF(INTRO!$E$39<>\"Non-endemic\", \" \", IF(INTRO!$E$37=\"Non-endemic\",\" \", IF(COUNTRY_INFO!A21=0,\" \",COUNTRY_INFO!A21)))","v":" "},{"$f":"IF(INTRO!$E$39<>\"Non-endemic\", \" \", IF(INTRO!$E$37=\"Non-endemic\",\" \", IF(COUNTRY_INFO!B21=0,\" \",COUNTRY_INFO!B21)))","v":" "},{"$f":"IF(INTRO!$E$39<>\"Non-endemic\", \" \", IF(INTRO!$E$37=\"Non-endemic\",\" \", IF(COUNTRY_INFO!C21=0,\" \",COUNTRY_INFO!C21)))","v":" "},{"$f":"IF(INTRO!$E$39<>\"Non-endemic\", 0, IF(INTRO!$E$37=\"Non-endemic\",0,IF(COUNTRY_INFO!$H21=1,COUNTRY_INFO!E21,0)))","v":0},{"$f":"IF(INTRO!$E$39<>\"Non-endemic\", 0, IF(INTRO!$E$37=\"Non-endemic\",0,IF(COUNTRY_INFO!$H21=1,COUNTRY_INFO!F21,0)))","v":0},{"$f":"IF(INTRO!$E$39<>\"Non-endemic\", 0, IF(INTRO!$E$37=\"Non-endemic\",0,IF(COUNTRY_INFO!$H21=1,COUNTRY_INFO!G21,0)))","v":0},0,{"$f":"IF(INTRO!$E$39=\"Non-endemic\",IF(INTRO!$E$37=\"Non-endemic\",\"Not required\",COUNTRY_INFO!P21),\"Treat with IVM\")","v":"Treat with IVM"},0,0,null,0,0]
[{"$f":"IF(INTRO!$E$39<>\"Non-endemic\", \" \", IF(INTRO!$E$37=\"Non-endemic\",\" \", IF(COUNTRY_INFO!A22=0,\" \",COUNTRY_INFO!A22)))","v":" "},{"$f":"IF(INTRO!$E$39<>\"Non-endemic\", \" \", IF(INTRO!$E$37=\"Non-endemic\",\" \", IF(COUNTRY_INFO!B22=0,\" \",COUNTRY_INFO!B22)))","v":" "},{"$f":"IF(INTRO!$E$39<>\"Non-endemic\", \" \", IF(INTRO!$E$37=\"Non-endemic\",\" \", IF(COUNTRY_INFO!C22=0,\" \",COUNTRY_INFO!C22)))","v":" "},{"$f":"IF(INTRO!$E$39<>\"Non-endemic\", 0, IF(INTRO!$E$37=\"Non-endemic\",0,IF(COUNTRY_INFO!$H22=1,COUNTRY_INFO!E22,0)))","v":0},{"$f":"IF(INTRO!$E$39<>\"Non-endemic\", 0, IF(INTRO!$E$37=\"Non-endemic\",0,IF(COUNTRY_INFO!$H22=1,COUNTRY_INFO!F22,0)))","v":0},{"$f":"IF(INTRO!$E$39<>\"Non-endemic\", 0, IF(INTRO!$E$37=\"Non-endemic\",0,IF(COUNTRY_INFO!$H22=1,COUNTRY_INFO!G22,0)))","v":0},0,{"$f":"IF(INTRO!$E$39=\"Non-endemic\",IF(INTRO!$E$37=\"Non-endemic\",\"Not required\",COUNTRY_INFO!P22),\"Treat with IVM\")","v":"Treat with IVM"},0,0,null,0,0]
[{"$f":"IF(INTRO!$E$39<>\"Non-endemic\", \" \", IF(INTRO!$E$37=\"Non-endemic\",\" \", IF(COUNTRY_INFO!A23=0,\" \",COUNTRY_INFO!A23)))","v":" "},{"$f":"IF(INTRO!$E$39<>\"Non-endemic\", \" \", IF(INTRO!$E$37=\"Non-endemic\",\" \", IF(COUNTRY_INFO!B23=0,\" \",COUNTRY_INFO!B23)))","v":" "},{"$f":"IF(INTRO!$E$39<>\"Non-endemic\", \" \", IF(INTRO!$E$37=\"Non-endemic\",\" \", IF(COUNTRY_INFO!C23=0,\" \",COUNTRY_INFO!C23)))","v":" "},{"$f":"IF(INTRO!$E$39<>\"Non-endemic\", 0, IF(INTRO!$E$37=\"Non-endemic\",0,IF(COUNTRY_INFO!$H23=1,COUNTRY_INFO!E23,0)))","v":0},{"$f":"IF(INTRO!$E$39<>\"Non-endemic\", 0, IF(INTRO!$E$37=\"Non-endemic\",0,IF(COUNTRY_INFO!$H23=1,COUNTRY_INFO!F23,0)))","v":0},{"$f":"IF(INTRO!$E$39<>\"Non-endemic\", 0, IF(INTRO!$E$37=\"Non-endemic\",0,IF(COUNTRY_INFO!$H23=1,COUNTRY_INFO!G23,0)))","v":0},0,{"$f":"IF(INTRO!$E$39=\"Non-endemic\",IF(INTRO!$E$37=\"Non-endemic\",\"Not required\",COUNTRY_INFO!P23),\"Treat with IVM\")","v":"Treat with IVM"},0,0,null,0,0]
[{"$f":"IF(INTRO!$E$39<>\"Non-endemic\", \" \", IF(INTRO!$E$37=\"Non-endemic\",\" \", IF(COUNTRY_INFO!A24=0,\" \",COUNTRY_INFO!A24)))","v":" "},{"$f":"IF(INTRO!$E$39<>\"Non-endemic\", \" \", IF(INTRO!$E$37=\"Non-endemic\",\" \", IF(COUNTRY_INFO!B24=0,\" \",COUNTRY_INFO!B24)))","v":" "},{"$f":"IF(INTRO!$E$39<>\"Non-endemic\", \" \", IF(INTRO!$E$37=\"Non-endemic\",\" \", IF(COUNTRY_INFO!C24=0,\" \",COUNTRY_INFO!C24)))","v":" "},{"$f":"IF(INTRO!$E$39<>\"Non-endemic\", 0, IF(INTRO!$E$37=\"Non-endemic\",0,IF(COUNTRY_INFO!$H24=1,COUNTRY_INFO!E24,0)))","v":0},{"$f":"IF(INTRO!$E$39<>\"Non-endemic\", 0, IF(INTRO!$E$37=\"Non-endemic\",0,IF(COUNTRY_INFO!$H24=1,COUNTRY_INFO!F24,0)))","v":0},{"$f":"IF(INTRO!$E$39<>\"Non-endemic\", 0, IF(INTRO!$E$37=\"Non-endemic\",0,IF(COUNTRY_INFO!$H24=1,COUNTRY_INFO!G24,0)))","v":0},0,{"$f":"IF(INTRO!$E$39=\"Non-endemic\",IF(INTRO!$E$37=\"Non-endemic\",\"Not required\",COUNTRY_INFO!P24),\"Treat with IVM\")","v":"Treat with IVM"},0,0,null,0,0]
[{"$f":"IF(INTRO!$E$39<>\"Non-endemic\", \" \", IF(INTRO!$E$37=\"Non-endemic\",\" \", IF(COUNTRY_INFO!A25=0,\" \",COUNTRY_INFO!A25)))","v":" "},{"$f":"IF(INTRO!$E$39<>\"Non-endemic\", \" \", IF(INTRO!$E$37=\"Non-endemic\",\" \", IF(COUNTRY_INFO!B25=0,\" \",COUNTRY_INFO!B25)))","v":" "},{"$f":"IF(INTRO!$E$39<>\"Non-endemic\", \" \", IF(INTRO!$E$37=\"Non-endemic\",\" \", IF(COUNTRY_INFO!C25=0,\" \",COUNTRY_INFO!C25)))","v":" "},{"$f":"IF(INTRO!$E$39<>\"Non-endemic\", 0, IF(INTRO!$E$37=\"Non-endemic\",0,IF(COUNTRY_INFO!$H25=1,COUNTRY_INFO!E25,0)))","v":0},{"$f":"IF(INTRO!$E$39<>\"Non-endemic\", 0, IF(INTRO!$E$37=\"Non-endemic\",0,IF(COUNTRY_INFO!$H25=1,COUNTRY_INFO!F25,0)))","v":0},{"$f":"IF(INTRO!$E$39<>\"Non-endemic\", 0, IF(INTRO!$E$37=\"Non-endemic\",0,IF(COUNTRY_INFO!$H25=1,COUNTRY_INFO!G25,0)))","v":0},0,{"$f":"IF(INTRO!$E$39=\"Non-endemic\",IF(INTRO!$E$37=\"Non-endemic\",\"Not required\",COUNTRY_INFO!P25),\"Treat with IVM\")","v":"Treat with IVM"},0,0,null,0,0]
[{"$f":"IF(INTRO!$E$39<>\"Non-endemic\", \" \", IF(INTRO!$E$37=\"Non-endemic\",\" \", IF(COUNTRY_INFO!A26=0,\" \",COUNTRY_INFO!A26)))","v":" "},{"$f":"IF(INTRO!$E$39<>\"Non-endemic\", \" \", IF(INTRO!$E$37=\"Non-endemic\",\" \", IF(COUNTRY_INFO!B26=0,\" \",COUNTRY_INFO!B26)))","v":" "},{"$f":"IF(INTRO!$E$39<>\"Non-endemic\", \" \", IF(INTRO!$E$37=\"Non-endemic\",\" \", IF(COUNTRY_INFO!C26=0,\" \",COUNTRY_INFO!C26)))","v":" "},{"$f":"IF(INTRO!$E$39<>\"Non-endemic\", 0, IF(INTRO!$E$37=\"Non-endemic\",0,IF(COUNTRY_INFO!$H26=1,COUNTRY_INFO!E26,0)))","v":0},{"$f":"IF(INTRO!$E$39<>\"Non-endemic\", 0, IF(INTRO!$E$37=\"Non-endemic\",0,IF(COUNTRY_INFO!$H26=1,COUNTRY_INFO!F26,0)))","v":0},{"$f":"IF(INTRO!$E$39<>\"Non-endemic\", 0, IF(INTRO!$E$37=\"Non-endemic\",0,IF(COUNTRY_INFO!$H26=1,COUNTRY_INFO!G26,0)))","v":0},0,{"$f":"IF(INTRO!$E$39=\"Non-endemic\",IF(INTRO!$E$37=\"Non-endemic\",\"Not required\",COUNTRY_INFO!P26),\"Treat with IVM\")","v":"Treat with IVM"},0,0,null,0,0]
[{"$f":"IF(INTRO!$E$39<>\"Non-endemic\", \" \", IF(INTRO!$E$37=\"Non-endemic\",\" \", IF(COUNTRY_INFO!A27=0,\" \",COUNTRY_INFO!A27)))","v":" "},{"$f":"IF(INTRO!$E$39<>\"Non-endemic\", \" \", IF(INTRO!$E$37=\"Non-endemic\",\" \", IF(COUNTRY_INFO!B27=0,\" \",COUNTRY_INFO!B27)))","v":" "},{"$f":"IF(INTRO!$E$39<>\"Non-endemic\", \" \", IF(INTRO!$E$37=\"Non-endemic\",\" \", IF(COUNTRY_INFO!C27=0,\" \",COUNTRY_INFO!C27)))","v":" "},{"$f":"IF(INTRO!$E$39<>\"Non-endemic\", 0, IF(INTRO!$E$37=\"Non-endemic\",0,IF(COUNTRY_INFO!$H27=1,COUNTRY_INFO!E27,0)))","v":0},{"$f":"IF(INTRO!$E$39<>\"Non-endemic\", 0, IF(INTRO!$E$37=\"Non-endemic\",0,IF(COUNTRY_INFO!$H27=1,COUNTRY_INFO!F27,0)))","v":0},{"$f":"IF(INTRO!$E$39<>\"Non-endemic\", 0, IF(INTRO!$E$37=\"Non-endemic\",0,IF(COUNTRY_INFO!$H27=1,COUNTRY_INFO!G27,0)))","v":0},0,{"$f":"IF(INTRO!$E$39=\"Non-endemic\",IF(INTRO!$E$37=\"Non-endemic\",\"Not required\",COUNTRY_INFO!P27),\"Treat with IVM\")","v":"Treat with IVM"},0,0,null,0,0]
[{"$f":"IF(INTRO!$E$39<>\"Non-endemic\", \" \", IF(INTRO!$E$37=\"Non-endemic\",\" \", IF(COUNTRY_INFO!A28=0,\" \",COUNTRY_INFO!A28)))","v":" "},{"$f":"IF(INTRO!$E$39<>\"Non-endemic\", \" \", IF(INTRO!$E$37=\"Non-endemic\",\" \", IF(COUNTRY_INFO!B28=0,\" \",COUNTRY_INFO!B28)))","v":" "},{"$f":"IF(INTRO!$E$39<>\"Non-endemic\", \" \", IF(INTRO!$E$37=\"Non-endemic\",\" \", IF(COUNTRY_INFO!C28=0,\" \",COUNTRY_INFO!C28)))","v":" "},{"$f":"IF(INTRO!$E$39<>\"Non-endemic\", 0, IF(INTRO!$E$37=\"Non-endemic\",0,IF(COUNTRY_INFO!$H28=1,COUNTRY_INFO!E28,0)))","v":0},{"$f":"IF(INTRO!$E$39<>\"Non-endemic\", 0, IF(INTRO!$E$37=\"Non-endemic\",0,IF(COUNTRY_INFO!$H28=1,COUNTRY_INFO!F28,0)))","v":0},{"$f":"IF(INTRO!$E$39<>\"Non-endemic\", 0, IF(INTRO!$E$37=\"Non-endemic\",0,IF(COUNTRY_INFO!$H28=1,COUNTRY_INFO!G28,0)))","v":0},0,{"$f":"IF(INTRO!$E$39=\"Non-endemic\",IF(INTRO!$E$37=\"Non-endemic\",\"Not required\",COUNTRY_INFO!P28),\"Treat with IVM\")","v":"Treat with IVM"},0,0,null,0,0]
[{"$f":"IF(INTRO!$E$39<>\"Non-endemic\", \" \", IF(INTRO!$E$37=\"Non-endemic\",\" \", IF(COUNTRY_INFO!A29=0,\" \",COUNTRY_INFO!A29)))","v":" "},{"$f":"IF(INTRO!$E$39<>\"Non-endemic\", \" \", IF(INTRO!$E$37=\"Non-endemic\",\" \", IF(COUNTRY_INFO!B29=0,\" \",COUNTRY_INFO!B29)))","v":" "},{"$f":"IF(INTRO!$E$39<>\"Non-endemic\", \" \", IF(INTRO!$E$37=\"Non-endemic\",\" \", IF(COUNTRY_INFO!C29=0,\" \",COUNTRY_INFO!C29)))","v":" "},{"$f":"IF(INTRO!$E$39<>\"Non-endemic\", 0, IF(INTRO!$E$37=\"Non-endemic\",0,IF(COUNTRY_INFO!$H29=1,COUNTRY_INFO!E29,0)))","v":0},{"$f":"IF(INTRO!$E$39<>\"Non-endemic\", 0, IF(INTRO!$E$37=\"Non-endemic\",0,IF(COUNTRY_INFO!$H29=1,COUNTRY_INFO!F29,0)))","v":0},{"$f":"IF(INTRO!$E$39<>\"Non-endemic\", 0, IF(INTRO!$E$37=\"Non-endemic\",0,IF(COUNTRY_INFO!$H29=1,COUNTRY_INFO!G29,0)))","v":0},0,{"$f":"IF(INTRO!$E$39=\"Non-endemic\",IF(INTRO!$E$37=\"Non-endemic\",\"Not required\",COUNTRY_INFO!P29),\"Treat with IVM\")","v":"Treat with IVM"},0,0,null,0,0]
[{"$f":"IF(INTRO!$E$39<>\"Non-endemic\", \" \", IF(INTRO!$E$37=\"Non-endemic\",\" \", IF(COUNTRY_INFO!A30=0,\" \",COUNTRY_INFO!A30)))","v":" "},{"$f":"IF(INTRO!$E$39<>\"Non-endemic\", \" \", IF(INTRO!$E$37=\"Non-endemic\",\" \", IF(COUNTRY_INFO!B30=0,\" \",COUNTRY_INFO!B30)))","v":" "},{"$f":"IF(INTRO!$E$39<>\"Non-endemic\", \" \", IF(INTRO!$E$37=\"Non-endemic\",\" \", IF(COUNTRY_INFO!C30=0,\" \",COUNTRY_INFO!C30)))","v":" "},{"$f":"IF(INTRO!$E$39<>\"Non-endemic\", 0, IF(INTRO!$E$37=\"Non-endemic\",0,IF(COUNTRY_INFO!$H30=1,COUNTRY_INFO!E30,0)))","v":0},{"$f":"IF(INTRO!$E$39<>\"Non-endemic\", 0, IF(INTRO!$E$37=\"Non-endemic\",0,IF(COUNTRY_INFO!$H30=1,COUNTRY_INFO!F30,0)))","v":0},{"$f":"IF(INTRO!$E$39<>\"Non-endemic\", 0, IF(INTRO!$E$37=\"Non-endemic\",0,IF(COUNTRY_INFO!$H30=1,COUNTRY_INFO!G30,0)))","v":0},0,{"$f":"IF(INTRO!$E$39=\"Non-endemic\",IF(INTRO!$E$37=\"Non-endemic\",\"Not required\",COUNTRY_INFO!P30),\"Treat with IVM\")","v":"Treat with IVM"},0,0,null,0,0]
[{"$f":"IF(INTRO!$E$39<>\"Non-endemic\", \" \", IF(INTRO!$E$37=\"Non-endemic\",\" \", IF(COUNTRY_INFO!A31=0,\" \",COUNTRY_INFO!A31)))","v":" "},{"$f":"IF(INTRO!$E$39<>\"Non-endemic\", \" \", IF(INTRO!$E$37=\"Non-endemic\",\" \", IF(COUNTRY_INFO!B31=0,\" \",COUNTRY_INFO!B31)))","v":" "},{"$f":"IF(INTRO!$E$39<>\"Non-endemic\", \" \", IF(INTRO!$E$37=\"Non-endemic\",\" \", IF(COUNTRY_INFO!C31=0,\" \",COUNTRY_INFO!C31)))","v":" "},{"$f":"IF(INTRO!$E$39<>\"Non-endemic\", 0, IF(INTRO!$E$37=\"Non-endemic\",0,IF(COUNTRY_INFO!$H31=1,COUNTRY_INFO!E31,0)))","v":0},{"$f":"IF(INTRO!$E$39<>\"Non-endemic\", 0, IF(INTRO!$E$37=\"Non-endemic\",0,IF(COUNTRY_INFO!$H31=1,COUNTRY_INFO!F31,0)))","v":0},{"$f":"IF(INTRO!$E$39<>\"Non-endemic\", 0, IF(INTRO!$E$37=\"Non-endemic\",0,IF(COUNTRY_INFO!$H31=1,COUNTRY_INFO!G31,0)))","v":0},0,{"$f":"IF(INTRO!$E$39=\"Non-endemic\",IF(INTRO!$E$37=\"Non-endemic\",\"Not required\",COUNTRY_INFO!P31),\"Treat with IVM\")","v":"Treat with IVM"},0,0,null,0,0]
[{"$f":"IF(INTRO!$E$39<>\"Non-endemic\", \" \", IF(INTRO!$E$37=\"Non-endemic\",\" \", IF(COUNTRY_INFO!A32=0,\" \",COUNTRY_INFO!A32)))","v":" "},{"$f":"IF(INTRO!$E$39<>\"Non-endemic\", \" \", IF(INTRO!$E$37=\"Non-endemic\",\" \", IF(COUNTRY_INFO!B32=0,\" \",COUNTRY_INFO!B32)))","v":" "},{"$f":"IF(INTRO!$E$39<>\"Non-endemic\", \" \", IF(INTRO!$E$37=\"Non-endemic\",\" \", IF(COUNTRY_INFO!C32=0,\" \",COUNTRY_INFO!C32)))","v":" "},{"$f":"IF(INTRO!$E$39<>\"Non-endemic\", 0, IF(INTRO!$E$37=\"Non-endemic\",0,IF(COUNTRY_INFO!$H32=1,COUNTRY_INFO!E32,0)))","v":0},{"$f":"IF(INTRO!$E$39<>\"Non-endemic\", 0, IF(INTRO!$E$37=\"Non-endemic\",0,IF(COUNTRY_INFO!$H32=1,COUNTRY_INFO!F32,0)))","v":0},{"$f":"IF(INTRO!$E$39<>\"Non-endemic\", 0, IF(INTRO!$E$37=\"Non-endemic\",0,IF(COUNTRY_INFO!$H32=1,COUNTRY_INFO!G32,0)))","v":0},0,{"$f":"IF(INTRO!$E$39=\"Non-endemic\",IF(INTRO!$E$37=\"Non-endemic\",\"Not required\",COUNTRY_INFO!P32),\"Treat with IVM\")","v":"Treat with IVM"},0,0,null,0,0]
[{"$f":"IF(INTRO!$E$39<>\"Non-endemic\", \" \", IF(INTRO!$E$37=\"Non-endemic\",\" \", IF(COUNTRY_INFO!A33=0,\" \",COUNTRY_INFO!A33)))","v":" "},{"$f":"IF(INTRO!$E$39<>\"Non-endemic\", \" \", IF(INTRO!$E$37=\"Non-endemic\",\" \", IF(COUNTRY_INFO!B33=0,\" \",COUNTRY_INFO!B33)))","v":" "},{"$f":"IF(INTRO!$E$39<>\"Non-endemic\", \" \", IF(INTRO!$E$37=\"Non-endemic\",\" \", IF(COUNTRY_INFO!C33=0,\" \",COUNTRY_INFO!C33)))","v":" "},{"$f":"IF(INTRO!$E$39<>\"Non-endemic\", 0, IF(INTRO!$E$37=\"Non-endemic\",0,IF(COUNTRY_INFO!$H33=1,COUNTRY_INFO!E33,0)))","v":0},{"$f":"IF(INTRO!$E$39<>\"Non-endemic\", 0, IF(INTRO!$E$37=\"Non-endemic\",0,IF(COUNTRY_INFO!$H33=1,COUNTRY_INFO!F33,0)))","v":0},{"$f":"IF(INTRO!$E$39<>\"Non-endemic\", 0, IF(INTRO!$E$37=\"Non-endemic\",0,IF(COUNTRY_INFO!$H33=1,COUNTRY_INFO!G33,0)))","v":0},0,{"$f":"IF(INTRO!$E$39=\"Non-endemic\",IF(INTRO!$E$37=\"Non-endemic\",\"Not required\",COUNTRY_INFO!P33),\"Treat with IVM\")","v":"Treat with IVM"},0,0,null,0,0]
[{"$f":"IF(INTRO!$E$39<>\"Non-endemic\", \" \", IF(INTRO!$E$37=\"Non-endemic\",\" \", IF(COUNTRY_INFO!A34=0,\" \",COUNTRY_INFO!A34)))","v":" "},{"$f":"IF(INTRO!$E$39<>\"Non-endemic\", \" \", IF(INTRO!$E$37=\"Non-endemic\",\" \", IF(COUNTRY_INFO!B34=0,\" \",COUNTRY_INFO!B34)))","v":" "},{"$f":"IF(INTRO!$E$39<>\"Non-endemic\", \" \", IF(INTRO!$E$37=\"Non-endemic\",\" \", IF(COUNTRY_INFO!C34=0,\" \",COUNTRY_INFO!C34)))","v":" "},{"$f":"IF(INTRO!$E$39<>\"Non-endemic\", 0, IF(INTRO!$E$37=\"Non-endemic\",0,IF(COUNTRY_INFO!$H34=1,COUNTRY_INFO!E34,0)))","v":0},{"$f":"IF(INTRO!$E$39<>\"Non-endemic\", 0, IF(INTRO!$E$37=\"Non-endemic\",0,IF(COUNTRY_INFO!$H34=1,COUNTRY_INFO!F34,0)))","v":0},{"$f":"IF(INTRO!$E$39<>\"Non-endemic\", 0, IF(INTRO!$E$37=\"Non-endemic\",0,IF(COUNTRY_INFO!$H34=1,COUNTRY_INFO!G34,0)))","v":0},0,{"$f":"IF(INTRO!$E$39=\"Non-endemic\",IF(INTRO!$E$37=\"Non-endemic\",\"Not required\",COUNTRY_INFO!P34),\"Treat with IVM\")","v":"Treat with IVM"},0,0,null,0,0]
[{"$f":"IF(INTRO!$E$39<>\"Non-endemic\", \" \", IF(INTRO!$E$37=\"Non-endemic\",\" \", IF(COUNTRY_INFO!A35=0,\" \",COUNTRY_INFO!A35)))","v":" "},{"$f":"IF(INTRO!$E$39<>\"Non-endemic\", \" \", IF(INTRO!$E$37=\"Non-endemic\",\" \", IF(COUNTRY_INFO!B35=0,\" \",COUNTRY_INFO!B35)))","v":" "},{"$f":"IF(INTRO!$E$39<>\"Non-endemic\", \" \", IF(INTRO!$E$37=\"Non-endemic\",\" \", IF(COUNTRY_INFO!C35=0,\" \",COUNTRY_INFO!C35)))","v":" "},{"$f":"IF(INTRO!$E$39<>\"Non-endemic\", 0, IF(INTRO!$E$37=\"Non-endemic\",0,IF(COUNTRY_INFO!$H35=1,COUNTRY_INFO!E35,0)))","v":0},{"$f":"IF(INTRO!$E$39<>\"Non-endemic\", 0, IF(INTRO!$E$37=\"Non-endemic\",0,IF(COUNTRY_INFO!$H35=1,COUNTRY_INFO!F35,0)))","v":0},{"$f":"IF(INTRO!$E$39<>\"Non-endemic\", 0, IF(INTRO!$E$37=\"Non-endemic\",0,IF(COUNTRY_INFO!$H35=1,COUNTRY_INFO!G35,0)))","v":0},0,{"$f":"IF(INTRO!$E$39=\"Non-endemic\",IF(INTRO!$E$37=\"Non-endemic\",\"Not required\",COUNTRY_INFO!P35),\"Treat with IVM\")","v":"Treat with IVM"},0,0,null,0,0]
[{"$f":"IF(INTRO!$E$39<>\"Non-endemic\", \" \", IF(INTRO!$E$37=\"Non-endemic\",\" \", IF(COUNTRY_INFO!A36=0,\" \",COUNTRY_INFO!A36)))","v":" "},{"$f":"IF(INTRO!$E$39<>\"Non-endemic\", \" \", IF(INTRO!$E$37=\"Non-endemic\",\" \", IF(COUNTRY_INFO!B36=0,\" \",COUNTRY_INFO!B36)))","v":" "},{"$f":"IF(INTRO!$E$39<>\"Non-endemic\", \" \", IF(INTRO!$E$37=\"Non-endemic\",\" \", IF(COUNTRY_INFO!C36=0,\" \",COUNTRY_INFO!C36)))","v":" "},{"$f":"IF(INTRO!$E$39<>\"Non-endemic\", 0, IF(INTRO!$E$37=\"Non-endemic\",0,IF(COUNTRY_INFO!$H36=1,COUNTRY_INFO!E36,0)))","v":0},{"$f":"IF(INTRO!$E$39<>\"Non-endemic\", 0, IF(INTRO!$E$37=\"Non-endemic\",0,IF(COUNTRY_INFO!$H36=1,COUNTRY_INFO!F36,0)))","v":0},{"$f":"IF(INTRO!$E$39<>\"Non-endemic\", 0, IF(INTRO!$E$37=\"Non-endemic\",0,IF(COUNTRY_INFO!$H36=1,COUNTRY_INFO!G36,0)))","v":0},0,{"$f":"IF(INTRO!$E$39=\"Non-endemic\",IF(INTRO!$E$37=\"Non-endemic\",\"Not required\",COUNTRY_INFO!P36),\"Treat with IVM\")","v":"Treat with IVM"},0,0,null,0,0]
[{"$f":"IF(INTRO!$E$39<>\"Non-endemic\", \" \", IF(INTRO!$E$37=\"Non-endemic\",\" \", IF(COUNTRY_INFO!A37=0,\" \",COUNTRY_INFO!A37)))","v":" "},{"$f":"IF(INTRO!$E$39<>\"Non-endemic\", \" \", IF(INTRO!$E$37=\"Non-endemic\",\" \", IF(COUNTRY_INFO!B37=0,\" \",COUNTRY_INFO!B37)))","v":" "},{"$f":"IF(INTRO!$E$39<>\"Non-endemic\", \" \", IF(INTRO!$E$37=\"Non-endemic\",\" \", IF(COUNTRY_INFO!C37=0,\" \",COUNTRY_INFO!C37)))","v":" "},{"$f":"IF(INTRO!$E$39<>\"Non-endemic\", 0, IF(INTRO!$E$37=\"Non-endemic\",0,IF(COUNTRY_INFO!$H37=1,COUNTRY_INFO!E37,0)))","v":0},{"$f":"IF(INTRO!$E$39<>\"Non-endemic\", 0, IF(INTRO!$E$37=\"Non-endemic\",0,IF(COUNTRY_INFO!$H37=1,COUNTRY_INFO!F37,0)))","v":0},{"$f":"IF(INTRO!$E$39<>\"Non-endemic\", 0, IF(INTRO!$E$37=\"Non-endemic\",0,IF(COUNTRY_INFO!$H37=1,COUNTRY_INFO!G37,0)))","v":0},0,{"$f":"IF(INTRO!$E$39=\"Non-endemic\",IF(INTRO!$E$37=\"Non-endemic\",\"Not required\",COUNTRY_INFO!P37),\"Treat with IVM\")","v":"Treat with IVM"},0,0,null,0,0]
[{"$f":"IF(INTRO!$E$39<>\"Non-endemic\", \" \", IF(INTRO!$E$37=\"Non-endemic\",\" \", IF(COUNTRY_INFO!A38=0,\" \",COUNTRY_INFO!A38)))","v":" "},{"$f":"IF(INTRO!$E$39<>\"Non-endemic\", \" \", IF(INTRO!$E$37=\"Non-endemic\",\" \", IF(COUNTRY_INFO!B38=0,\" \",COUNTRY_INFO!B38)))","v":" "},{"$f":"IF(INTRO!$E$39<>\"Non-endemic\", \" \", IF(INTRO!$E$37=\"Non-endemic\",\" \", IF(COUNTRY_INFO!C38=0,\" \",COUNTRY_INFO!C38)))","v":" "},{"$f":"IF(INTRO!$E$39<>\"Non-endemic\", 0, IF(INTRO!$E$37=\"Non-endemic\",0,IF(COUNTRY_INFO!$H38=1,COUNTRY_INFO!E38,0)))","v":0},{"$f":"IF(INTRO!$E$39<>\"Non-endemic\", 0, IF(INTRO!$E$37=\"Non-endemic\",0,IF(COUNTRY_INFO!$H38=1,COUNTRY_INFO!F38,0)))","v":0},{"$f":"IF(INTRO!$E$39<>\"Non-endemic\", 0, IF(INTRO!$E$37=\"Non-endemic\",0,IF(COUNTRY_INFO!$H38=1,COUNTRY_INFO!G38,0)))","v":0},0,{"$f":"IF(INTRO!$E$39=\"Non-endemic\",IF(INTRO!$E$37=\"Non-endemic\",\"Not required\",COUNTRY_INFO!P38),\"Treat with IVM\")","v":"Treat with IVM"},0,0,null,0,0]
[{"$f":"IF(INTRO!$E$39<>\"Non-endemic\", \" \", IF(INTRO!$E$37=\"Non-endemic\",\" \", IF(COUNTRY_INFO!A39=0,\" \",COUNTRY_INFO!A39)))","v":" "},{"$f":"IF(INTRO!$E$39<>\"Non-endemic\", \" \", IF(INTRO!$E$37=\"Non-endemic\",\" \", IF(COUNTRY_INFO!B39=0,\" \",COUNTRY_INFO!B39)))","v":" "},{"$f":"IF(INTRO!$E$39<>\"Non-endemic\", \" \", IF(INTRO!$E$37=\"Non-endemic\",\" \", IF(COUNTRY_INFO!C39=0,\" \",COUNTRY_INFO!C39)))","v":" "},{"$f":"IF(INTRO!$E$39<>\"Non-endemic\", 0, IF(INTRO!$E$37=\"Non-endemic\",0,IF(COUNTRY_INFO!$H39=1,COUNTRY_INFO!E39,0)))","v":0},{"$f":"IF(INTRO!$E$39<>\"Non-endemic\", 0, IF(INTRO!$E$37=\"Non-endemic\",0,IF(COUNTRY_INFO!$H39=1,COUNTRY_INFO!F39,0)))","v":0},{"$f":"IF(INTRO!$E$39<>\"Non-endemic\", 0, IF(INTRO!$E$37=\"Non-endemic\",0,IF(COUNTRY_INFO!$H39=1,COUNTRY_INFO!G39,0)))","v":0},0,{"$f":"IF(INTRO!$E$39=\"Non-endemic\",IF(INTRO!$E$37=\"Non-endemic\",\"Not required\",COUNTRY_INFO!P39),\"Treat with IVM\")","v":"Treat with IVM"},0,0,null,0,0]
[{"$f":"IF(INTRO!$E$39<>\"Non-endemic\", \" \", IF(INTRO!$E$37=\"Non-endemic\",\" \", IF(COUNTRY_INFO!A40=0,\" \",COUNTRY_INFO!A40)))","v":" "},{"$f":"IF(INTRO!$E$39<>\"Non-endemic\", \" \", IF(INTRO!$E$37=\"Non-endemic\",\" \", IF(COUNTRY_INFO!B40=0,\" \",COUNTRY_INFO!B40)))","v":" "},{"$f":"IF(INTRO!$E$39<>\"Non-endemic\", \" \", IF(INTRO!$E$37=\"Non-endemic\",\" \", IF(COUNTRY_INFO!C40=0,\" \",COUNTRY_INFO!C40)))","v":" "},{"$f":"IF(INTRO!$E$39<>\"Non-endemic\", 0, IF(INTRO!$E$37=\"Non-endemic\",0,IF(COUNTRY_INFO!$H40=1,COUNTRY_INFO!E40,0)))","v":0},{"$f":"IF(INTRO!$E$39<>\"Non-endemic\", 0, IF(INTRO!$E$37=\"Non-endemic\",0,IF(COUNTRY_INFO!$H40=1,COUNTRY_INFO!F40,0)))","v":0},{"$f":"IF(INTRO!$E$39<>\"Non-endemic\", 0, IF(INTRO!$E$37=\"Non-endemic\",0,IF(COUNTRY_INFO!$H40=1,COUNTRY_INFO!G40,0)))","v":0},0,{"$f":"IF(INTRO!$E$39=\"Non-endemic\",IF(INTRO!$E$37=\"Non-endemic\",\"Not required\",COUNTRY_INFO!P40),\"Treat with IVM\")","v":"Treat with IVM"},0,0,null,0,0]
[{"$f":"IF(INTRO!$E$39<>\"Non-endemic\", \" \", IF(INTRO!$E$37=\"Non-endemic\",\" \", IF(COUNTRY_INFO!A41=0,\" \",COUNTRY_INFO!A41)))","v":" "},{"$f":"IF(INTRO!$E$39<>\"Non-endemic\", \" \", IF(INTRO!$E$37=\"Non-endemic\",\" \", IF(COUNTRY_INFO!B41=0,\" \",COUNTRY_INFO!B41)))","v":" "},{"$f":"IF(INTRO!$E$39<>\"Non-endemic\", \" \", IF(INTRO!$E$37=\"Non-endemic\",\" \", IF(COUNTRY_INFO!C41=0,\" \",COUNTRY_INFO!C41)))","v":" "},{"$f":"IF(INTRO!$E$39<>\"Non-endemic\", 0, IF(INTRO!$E$37=\"Non-endemic\",0,IF(COUNTRY_INFO!$H41=1,COUNTRY_INFO!E41,0)))","v":0},{"$f":"IF(INTRO!$E$39<>\"Non-endemic\", 0, IF(INTRO!$E$37=\"Non-endemic\",0,IF(COUNTRY_INFO!$H41=1,COUNTRY_INFO!F41,0)))","v":0},{"$f":"IF(INTRO!$E$39<>\"Non-endemic\", 0, IF(INTRO!$E$37=\"Non-endemic\",0,IF(COUNTRY_INFO!$H41=1,COUNTRY_INFO!G41,0)))","v":0},0,{"$f":"IF(INTRO!$E$39=\"Non-endemic\",IF(INTRO!$E$37=\"Non-endemic\",\"Not required\",COUNTRY_INFO!P41),\"Treat with IVM\")","v":"Treat with IVM"},0,0,null,0,0]
[{"$f":"IF(INTRO!$E$39<>\"Non-endemic\", \" \", IF(INTRO!$E$37=\"Non-endemic\",\" \", IF(COUNTRY_INFO!A42=0,\" \",COUNTRY_INFO!A42)))","v":" "},{"$f":"IF(INTRO!$E$39<>\"Non-endemic\", \" \", IF(INTRO!$E$37=\"Non-endemic\",\" \", IF(COUNTRY_INFO!B42=0,\" \",COUNTRY_INFO!B42)))","v":" "},{"$f":"IF(INTRO!$E$39<>\"Non-endemic\", \" \", IF(INTRO!$E$37=\"Non-endemic\",\" \", IF(COUNTRY_INFO!C42=0,\" \",COUNTRY_INFO!C42)))","v":" "},{"$f":"IF(INTRO!$E$39<>\"Non-endemic\", 0, IF(INTRO!$E$37=\"Non-endemic\",0,IF(COUNTRY_INFO!$H42=1,COUNTRY_INFO!E42,0)))","v":0},{"$f":"IF(INTRO!$E$39<>\"Non-endemic\", 0, IF(INTRO!$E$37=\"Non-endemic\",0,IF(COUNTRY_INFO!$H42=1,COUNTRY_INFO!F42,0)))","v":0},{"$f":"IF(INTRO!$E$39<>\"Non-endemic\", 0, IF(INTRO!$E$37=\"Non-endemic\",0,IF(COUNTRY_INFO!$H42=1,COUNTRY_INFO!G42,0)))","v":0},0,{"$f":"IF(INTRO!$E$39=\"Non-endemic\",IF(INTRO!$E$37=\"Non-endemic\",\"Not required\",COUNTRY_INFO!P42),\"Treat with IVM\")","v":"Treat with IVM"},0,0,null,0,0]
[{"$f":"IF(INTRO!$E$39<>\"Non-endemic\", \" \", IF(INTRO!$E$37=\"Non-endemic\",\" \", IF(COUNTRY_INFO!A43=0,\" \",COUNTRY_INFO!A43)))","v":" "},{"$f":"IF(INTRO!$E$39<>\"Non-endemic\", \" \", IF(INTRO!$E$37=\"Non-endemic\",\" \", IF(COUNTRY_INFO!B43=0,\" \",COUNTRY_INFO!B43)))","v":" "},{"$f":"IF(INTRO!$E$39<>\"Non-endemic\", \" \", IF(INTRO!$E$37=\"Non-endemic\",\" \", IF(COUNTRY_INFO!C43=0,\" \",COUNTRY_INFO!C43)))","v":" "},{"$f":"IF(INTRO!$E$39<>\"Non-endemic\", 0, IF(INTRO!$E$37=\"Non-endemic\",0,IF(COUNTRY_INFO!$H43=1,COUNTRY_INFO!E43,0)))","v":0},{"$f":"IF(INTRO!$E$39<>\"Non-endemic\", 0, IF(INTRO!$E$37=\"Non-endemic\",0,IF(COUNTRY_INFO!$H43=1,COUNTRY_INFO!F43,0)))","v":0},{"$f":"IF(INTRO!$E$39<>\"Non-endemic\", 0, IF(INTRO!$E$37=\"Non-endemic\",0,IF(COUNTRY_INFO!$H43=1,COUNTRY_INFO!G43,0)))","v":0},0,{"$f":"IF(INTRO!$E$39=\"Non-endemic\",IF(INTRO!$E$37=\"Non-endemic\",\"Not required\",COUNTRY_INFO!P43),\"Treat with IVM\")","v":"Treat with IVM"},0,0,null,0,0]
[{"$f":"IF(INTRO!$E$39<>\"Non-endemic\", \" \", IF(INTRO!$E$37=\"Non-endemic\",\" \", IF(COUNTRY_INFO!A44=0,\" \",COUNTRY_INFO!A44)))","v":" "},{"$f":"IF(INTRO!$E$39<>\"Non-endemic\", \" \", IF(INTRO!$E$37=\"Non-endemic\",\" \", IF(COUNTRY_INFO!B44=0,\" \",COUNTRY_INFO!B44)))","v":" "},{"$f":"IF(INTRO!$E$39<>\"Non-endemic\", \" \", IF(INTRO!$E$37=\"Non-endemic\",\" \", IF(COUNTRY_INFO!C44=0,\" \",COUNTRY_INFO!C44)))","v":" "},{"$f":"IF(INTRO!$E$39<>\"Non-endemic\", 0, IF(INTRO!$E$37=\"Non-endemic\",0,IF(COUNTRY_INFO!$H44=1,COUNTRY_INFO!E44,0)))","v":0},{"$f":"IF(INTRO!$E$39<>\"Non-endemic\", 0, IF(INTRO!$E$37=\"Non-endemic\",0,IF(COUNTRY_INFO!$H44=1,COUNTRY_INFO!F44,0)))","v":0},{"$f":"IF(INTRO!$E$39<>\"Non-endemic\", 0, IF(INTRO!$E$37=\"Non-endemic\",0,IF(COUNTRY_INFO!$H44=1,COUNTRY_INFO!G44,0)))","v":0},0,{"$f":"IF(INTRO!$E$39=\"Non-endemic\",IF(INTRO!$E$37=\"Non-endemic\",\"Not required\",COUNTRY_INFO!P44),\"Treat with IVM\")","v":"Treat with IVM"},0,0,null,0,0]
[{"$f":"IF(INTRO!$E$39<>\"Non-endemic\", \" \", IF(INTRO!$E$37=\"Non-endemic\",\" \", IF(COUNTRY_INFO!A45=0,\" \",COUNTRY_INFO!A45)))","v":" "},{"$f":"IF(INTRO!$E$39<>\"Non-endemic\", \" \", IF(INTRO!$E$37=\"Non-endemic\",\" \", IF(COUNTRY_INFO!B45=0,\" \",COUNTRY_INFO!B45)))","v":" "},{"$f":"IF(INTRO!$E$39<>\"Non-endemic\", \" \", IF(INTRO!$E$37=\"Non-endemic\",\" \", IF(COUNTRY_INFO!C45=0,\" \",COUNTRY_INFO!C45)))","v":" "},{"$f":"IF(INTRO!$E$39<>\"Non-endemic\", 0, IF(INTRO!$E$37=\"Non-endemic\",0,IF(COUNTRY_INFO!$H45=1,COUNTRY_INFO!E45,0)))","v":0},{"$f":"IF(INTRO!$E$39<>\"Non-endemic\", 0, IF(INTRO!$E$37=\"Non-endemic\",0,IF(COUNTRY_INFO!$H45=1,COUNTRY_INFO!F45,0)))","v":0},{"$f":"IF(INTRO!$E$39<>\"Non-endemic\", 0, IF(INTRO!$E$37=\"Non-endemic\",0,IF(COUNTRY_INFO!$H45=1,COUNTRY_INFO!G45,0)))","v":0},0,{"$f":"IF(INTRO!$E$39=\"Non-endemic\",IF(INTRO!$E$37=\"Non-endemic\",\"Not required\",COUNTRY_INFO!P45),\"Treat with IVM\")","v":"Treat with IVM"},0,0,null,0,0]
[{"$f":"IF(INTRO!$E$39<>\"Non-endemic\", \" \", IF(INTRO!$E$37=\"Non-endemic\",\" \", IF(COUNTRY_INFO!A46=0,\" \",COUNTRY_INFO!A46)))","v":" "},{"$f":"IF(INTRO!$E$39<>\"Non-endemic\", \" \", IF(INTRO!$E$37=\"Non-endemic\",\" \", IF(COUNTRY_INFO!B46=0,\" \",COUNTRY_INFO!B46)))","v":" "},{"$f":"IF(INTRO!$E$39<>\"Non-endemic\", \" \", IF(INTRO!$E$37=\"Non-endemic\",\" \", IF(COUNTRY_INFO!C46=0,\" \",COUNTRY_INFO!C46)))","v":" "},{"$f":"IF(INTRO!$E$39<>\"Non-endemic\", 0, IF(INTRO!$E$37=\"Non-endemic\",0,IF(COUNTRY_INFO!$H46=1,COUNTRY_INFO!E46,0)))","v":0},{"$f":"IF(INTRO!$E$39<>\"Non-endemic\", 0, IF(INTRO!$E$37=\"Non-endemic\",0,IF(COUNTRY_INFO!$H46=1,COUNTRY_INFO!F46,0)))","v":0},{"$f":"IF(INTRO!$E$39<>\"Non-endemic\", 0, IF(INTRO!$E$37=\"Non-endemic\",0,IF(COUNTRY_INFO!$H46=1,COUNTRY_INFO!G46,0)))","v":0},0,{"$f":"IF(INTRO!$E$39=\"Non-endemic\",IF(INTRO!$E$37=\"Non-endemic\",\"Not required\",COUNTRY_INFO!P46),\"Treat with IVM\")","v":"Treat with IVM"},0,0,null,0,0]
[{"$f":"IF(INTRO!$E$39<>\"Non-endemic\", \" \", IF(INTRO!$E$37=\"Non-endemic\",\" \", IF(COUNTRY_INFO!A47=0,\" \",COUNTRY_INFO!A47)))","v":" "},{"$f":"IF(INTRO!$E$39<>\"Non-endemic\", \" \", IF(INTRO!$E$37=\"Non-endemic\",\" \", IF(COUNTRY_INFO!B47=0,\" \",COUNTRY_INFO!B47)))","v":" "},{"$f":"IF(INTRO!$E$39<>\"Non-endemic\", \" \", IF(INTRO!$E$37=\"Non-endemic\",\" \", IF(COUNTRY_INFO!C47=0,\" \",COUNTRY_INFO!C47)))","v":" "},{"$f":"IF(INTRO!$E$39<>\"Non-endemic\", 0, IF(INTRO!$E$37=\"Non-endemic\",0,IF(COUNTRY_INFO!$H47=1,COUNTRY_INFO!E47,0)))","v":0},{"$f":"IF(INTRO!$E$39<>\"Non-endemic\", 0, IF(INTRO!$E$37=\"Non-endemic\",0,IF(COUNTRY_INFO!$H47=1,COUNTRY_INFO!F47,0)))","v":0},{"$f":"IF(INTRO!$E$39<>\"Non-endemic\", 0, IF(INTRO!$E$37=\"Non-endemic\",0,IF(COUNTRY_INFO!$H47=1,COUNTRY_INFO!G47,0)))","v":0},0,{"$f":"IF(INTRO!$E$39=\"Non-endemic\",IF(INTRO!$E$37=\"Non-endemic\",\"Not required\",COUNTRY_INFO!P47),\"Treat with IVM\")","v":"Treat with IVM"},0,0,null,0,0]
[{"$f":"IF(INTRO!$E$39<>\"Non-endemic\", \" \", IF(INTRO!$E$37=\"Non-endemic\",\" \", IF(COUNTRY_INFO!A48=0,\" \",COUNTRY_INFO!A48)))","v":" "},{"$f":"IF(INTRO!$E$39<>\"Non-endemic\", \" \", IF(INTRO!$E$37=\"Non-endemic\",\" \", IF(COUNTRY_INFO!B48=0,\" \",COUNTRY_INFO!B48)))","v":" "},{"$f":"IF(INTRO!$E$39<>\"Non-endemic\", \" \", IF(INTRO!$E$37=\"Non-endemic\",\" \", IF(COUNTRY_INFO!C48=0,\" \",COUNTRY_INFO!C48)))","v":" "},{"$f":"IF(INTRO!$E$39<>\"Non-endemic\", 0, IF(INTRO!$E$37=\"Non-endemic\",0,IF(COUNTRY_INFO!$H48=1,COUNTRY_INFO!E48,0)))","v":0},{"$f":"IF(INTRO!$E$39<>\"Non-endemic\", 0, IF(INTRO!$E$37=\"Non-endemic\",0,IF(COUNTRY_INFO!$H48=1,COUNTRY_INFO!F48,0)))","v":0},{"$f":"IF(INTRO!$E$39<>\"Non-endemic\", 0, IF(INTRO!$E$37=\"Non-endemic\",0,IF(COUNTRY_INFO!$H48=1,COUNTRY_INFO!G48,0)))","v":0},0,{"$f":"IF(INTRO!$E$39=\"Non-endemic\",IF(INTRO!$E$37=\"Non-endemic\",\"Not required\",COUNTRY_INFO!P48),\"Treat with IVM\")","v":"Treat with IVM"},0,0,null,0,0]
[{"$f":"IF(INTRO!$E$39<>\"Non-endemic\", \" \", IF(INTRO!$E$37=\"Non-endemic\",\" \", IF(COUNTRY_INFO!A49=0,\" \",COUNTRY_INFO!A49)))","v":" "},{"$f":"IF(INTRO!$E$39<>\"Non-endemic\", \" \", IF(INTRO!$E$37=\"Non-endemic\",\" \", IF(COUNTRY_INFO!B49=0,\" \",COUNTRY_INFO!B49)))","v":" "},{"$f":"IF(INTRO!$E$39<>\"Non-endemic\", \" \", IF(INTRO!$E$37=\"Non-endemic\",\" \", IF(COUNTRY_INFO!C49=0,\" \",COUNTRY_INFO!C49)))","v":" "},{"$f":"IF(INTRO!$E$39<>\"Non-endemic\", 0, IF(INTRO!$E$37=\"Non-endemic\",0,IF(COUNTRY_INFO!$H49=1,COUNTRY_INFO!E49,0)))","v":0},{"$f":"IF(INTRO!$E$39<>\"Non-endemic\", 0, IF(INTRO!$E$37=\"Non-endemic\",0,IF(COUNTRY_INFO!$H49=1,COUNTRY_INFO!F49,0)))","v":0},{"$f":"IF(INTRO!$E$39<>\"Non-endemic\", 0, IF(INTRO!$E$37=\"Non-endemic\",0,IF(COUNTRY_INFO!$H49=1,COUNTRY_INFO!G49,0)))","v":0},0,{"$f":"IF(INTRO!$E$39=\"Non-endemic\",IF(INTRO!$E$37=\"Non-endemic\",\"Not required\",COUNTRY_INFO!P49),\"Treat with IVM\")","v":"Treat with IVM"},0,0,null,0,0]
[{"$f":"IF(INTRO!$E$39<>\"Non-endemic\", \" \", IF(INTRO!$E$37=\"Non-endemic\",\" \", IF(COUNTRY_INFO!A50=0,\" \",COUNTRY_INFO!A50)))","v":" "},{"$f":"IF(INTRO!$E$39<>\"Non-endemic\", \" \", IF(INTRO!$E$37=\"Non-endemic\",\" \", IF(COUNTRY_INFO!B50=0,\" \",COUNTRY_INFO!B50)))","v":" "},{"$f":"IF(INTRO!$E$39<>\"Non-endemic\", \" \", IF(INTRO!$E$37=\"Non-endemic\",\" \", IF(COUNTRY_INFO!C50=0,\" \",COUNTRY_INFO!C50)))","v":" "},{"$f":"IF(INTRO!$E$39<>\"Non-endemic\", 0, IF(INTRO!$E$37=\"Non-endemic\",0,IF(COUNTRY_INFO!$H50=1,COUNTRY_INFO!E50,0)))","v":0},{"$f":"IF(INTRO!$E$39<>\"Non-endemic\", 0, IF(INTRO!$E$37=\"Non-endemic\",0,IF(COUNTRY_INFO!$H50=1,COUNTRY_INFO!F50,0)))","v":0},{"$f":"IF(INTRO!$E$39<>\"Non-endemic\", 0, IF(INTRO!$E$37=\"Non-endemic\",0,IF(COUNTRY_INFO!$H50=1,COUNTRY_INFO!G50,0)))","v":0},0,{"$f":"IF(INTRO!$E$39=\"Non-endemic\",IF(INTRO!$E$37=\"Non-endemic\",\"Not required\",COUNTRY_INFO!P50),\"Treat with IVM\")","v":"Treat with IVM"},0,0,null,0,0]
[{"$f":"IF(INTRO!$E$39<>\"Non-endemic\", \" \", IF(INTRO!$E$37=\"Non-endemic\",\" \", IF(COUNTRY_INFO!A51=0,\" \",COUNTRY_INFO!A51)))","v":" "},{"$f":"IF(INTRO!$E$39<>\"Non-endemic\", \" \", IF(INTRO!$E$37=\"Non-endemic\",\" \", IF(COUNTRY_INFO!B51=0,\" \",COUNTRY_INFO!B51)))","v":" "},{"$f":"IF(INTRO!$E$39<>\"Non-endemic\", \" \", IF(INTRO!$E$37=\"Non-endemic\",\" \", IF(COUNTRY_INFO!C51=0,\" \",COUNTRY_INFO!C51)))","v":" "},{"$f":"IF(INTRO!$E$39<>\"Non-endemic\", 0, IF(INTRO!$E$37=\"Non-endemic\",0,IF(COUNTRY_INFO!$H51=1,COUNTRY_INFO!E51,0)))","v":0},{"$f":"IF(INTRO!$E$39<>\"Non-endemic\", 0, IF(INTRO!$E$37=\"Non-endemic\",0,IF(COUNTRY_INFO!$H51=1,COUNTRY_INFO!F51,0)))","v":0},{"$f":"IF(INTRO!$E$39<>\"Non-endemic\", 0, IF(INTRO!$E$37=\"Non-endemic\",0,IF(COUNTRY_INFO!$H51=1,COUNTRY_INFO!G51,0)))","v":0},0,{"$f":"IF(INTRO!$E$39=\"Non-endemic\",IF(INTRO!$E$37=\"Non-endemic\",\"Not required\",COUNTRY_INFO!P51),\"Treat with IVM\")","v":"Treat with IVM"},0,0,null,0,0]
[{"$f":"IF(INTRO!$E$39<>\"Non-endemic\", \" \", IF(INTRO!$E$37=\"Non-endemic\",\" \", IF(COUNTRY_INFO!A52=0,\" \",COUNTRY_INFO!A52)))","v":" "},{"$f":"IF(INTRO!$E$39<>\"Non-endemic\", \" \", IF(INTRO!$E$37=\"Non-endemic\",\" \", IF(COUNTRY_INFO!B52=0,\" \",COUNTRY_INFO!B52)))","v":" "},{"$f":"IF(INTRO!$E$39<>\"Non-endemic\", \" \", IF(INTRO!$E$37=\"Non-endemic\",\" \", IF(COUNTRY_INFO!C52=0,\" \",COUNTRY_INFO!C52)))","v":" "},{"$f":"IF(INTRO!$E$39<>\"Non-endemic\", 0, IF(INTRO!$E$37=\"Non-endemic\",0,IF(COUNTRY_INFO!$H52=1,COUNTRY_INFO!E52,0)))","v":0},{"$f":"IF(INTRO!$E$39<>\"Non-endemic\", 0, IF(INTRO!$E$37=\"Non-endemic\",0,IF(COUNTRY_INFO!$H52=1,COUNTRY_INFO!F52,0)))","v":0},{"$f":"IF(INTRO!$E$39<>\"Non-endemic\", 0, IF(INTRO!$E$37=\"Non-endemic\",0,IF(COUNTRY_INFO!$H52=1,COUNTRY_INFO!G52,0)))","v":0},0,{"$f":"IF(INTRO!$E$39=\"Non-endemic\",IF(INTRO!$E$37=\"Non-endemic\",\"Not required\",COUNTRY_INFO!P52),\"Treat with IVM\")","v":"Treat with IVM"},0,0,null,0,0]
[{"$f":"IF(INTRO!$E$39<>\"Non-endemic\", \" \", IF(INTRO!$E$37=\"Non-endemic\",\" \", IF(COUNTRY_INFO!A53=0,\" \",COUNTRY_INFO!A53)))","v":" "},{"$f":"IF(INTRO!$E$39<>\"Non-endemic\", \" \", IF(INTRO!$E$37=\"Non-endemic\",\" \", IF(COUNTRY_INFO!B53=0,\" \",COUNTRY_INFO!B53)))","v":" "},{"$f":"IF(INTRO!$E$39<>\"Non-endemic\", \" \", IF(INTRO!$E$37=\"Non-endemic\",\" \", IF(COUNTRY_INFO!C53=0,\" \",COUNTRY_INFO!C53)))","v":" "},{"$f":"IF(INTRO!$E$39<>\"Non-endemic\", 0, IF(INTRO!$E$37=\"Non-endemic\",0,IF(COUNTRY_INFO!$H53=1,COUNTRY_INFO!E53,0)))","v":0},{"$f":"IF(INTRO!$E$39<>\"Non-endemic\", 0, IF(INTRO!$E$37=\"Non-endemic\",0,IF(COUNTRY_INFO!$H53=1,COUNTRY_INFO!F53,0)))","v":0},{"$f":"IF(INTRO!$E$39<>\"Non-endemic\", 0, IF(INTRO!$E$37=\"Non-endemic\",0,IF(COUNTRY_INFO!$H53=1,COUNTRY_INFO!G53,0)))","v":0},0,{"$f":"IF(INTRO!$E$39=\"Non-endemic\",IF(INTRO!$E$37=\"Non-endemic\",\"Not required\",COUNTRY_INFO!P53),\"Treat with IVM\")","v":"Treat with IVM"},0,0,null,0,0]
[{"$f":"IF(INTRO!$E$39<>\"Non-endemic\", \" \", IF(INTRO!$E$37=\"Non-endemic\",\" \", IF(COUNTRY_INFO!A54=0,\" \",COUNTRY_INFO!A54)))","v":" "},{"$f":"IF(INTRO!$E$39<>\"Non-endemic\", \" \", IF(INTRO!$E$37=\"Non-endemic\",\" \", IF(COUNTRY_INFO!B54=0,\" \",COUNTRY_INFO!B54)))","v":" "},{"$f":"IF(INTRO!$E$39<>\"Non-endemic\", \" \", IF(INTRO!$E$37=\"Non-endemic\",\" \", IF(COUNTRY_INFO!C54=0,\" \",COUNTRY_INFO!C54)))","v":" "},{"$f":"IF(INTRO!$E$39<>\"Non-endemic\", 0, IF(INTRO!$E$37=\"Non-endemic\",0,IF(COUNTRY_INFO!$H54=1,COUNTRY_INFO!E54,0)))","v":0},{"$f":"IF(INTRO!$E$39<>\"Non-endemic\", 0, IF(INTRO!$E$37=\"Non-endemic\",0,IF(COUNTRY_INFO!$H54=1,COUNTRY_INFO!F54,0)))","v":0},{"$f":"IF(INTRO!$E$39<>\"Non-endemic\", 0, IF(INTRO!$E$37=\"Non-endemic\",0,IF(COUNTRY_INFO!$H54=1,COUNTRY_INFO!G54,0)))","v":0},0,{"$f":"IF(INTRO!$E$39=\"Non-endemic\",IF(INTRO!$E$37=\"Non-endemic\",\"Not required\",COUNTRY_INFO!P54),\"Treat with IVM\")","v":"Treat with IVM"},0,0,null,0,0]
[{"$f":"IF(INTRO!$E$39<>\"Non-endemic\", \" \", IF(INTRO!$E$37=\"Non-endemic\",\" \", IF(COUNTRY_INFO!A55=0,\" \",COUNTRY_INFO!A55)))","v":" "},{"$f":"IF(INTRO!$E$39<>\"Non-endemic\", \" \", IF(INTRO!$E$37=\"Non-endemic\",\" \", IF(COUNTRY_INFO!B55=0,\" \",COUNTRY_INFO!B55)))","v":" "},{"$f":"IF(INTRO!$E$39<>\"Non-endemic\", \" \", IF(INTRO!$E$37=\"Non-endemic\",\" \", IF(COUNTRY_INFO!C55=0,\" \",COUNTRY_INFO!C55)))","v":" "},{"$f":"IF(INTRO!$E$39<>\"Non-endemic\", 0, IF(INTRO!$E$37=\"Non-endemic\",0,IF(COUNTRY_INFO!$H55=1,COUNTRY_INFO!E55,0)))","v":0},{"$f":"IF(INTRO!$E$39<>\"Non-endemic\", 0, IF(INTRO!$E$37=\"Non-endemic\",0,IF(COUNTRY_INFO!$H55=1,COUNTRY_INFO!F55,0)))","v":0},{"$f":"IF(INTRO!$E$39<>\"Non-endemic\", 0, IF(INTRO!$E$37=\"Non-endemic\",0,IF(COUNTRY_INFO!$H55=1,COUNTRY_INFO!G55,0)))","v":0},0,{"$f":"IF(INTRO!$E$39=\"Non-endemic\",IF(INTRO!$E$37=\"Non-endemic\",\"Not required\",COUNTRY_INFO!P55),\"Treat with IVM\")","v":"Treat with IVM"},0,0,null,0,0]
[{"$f":"IF(INTRO!$E$39<>\"Non-endemic\", \" \", IF(INTRO!$E$37=\"Non-endemic\",\" \", IF(COUNTRY_INFO!A56=0,\" \",COUNTRY_INFO!A56)))","v":" "},{"$f":"IF(INTRO!$E$39<>\"Non-endemic\", \" \", IF(INTRO!$E$37=\"Non-endemic\",\" \", IF(COUNTRY_INFO!B56=0,\" \",COUNTRY_INFO!B56)))","v":" "},{"$f":"IF(INTRO!$E$39<>\"Non-endemic\", \" \", IF(INTRO!$E$37=\"Non-endemic\",\" \", IF(COUNTRY_INFO!C56=0,\" \",COUNTRY_INFO!C56)))","v":" "},{"$f":"IF(INTRO!$E$39<>\"Non-endemic\", 0, IF(INTRO!$E$37=\"Non-endemic\",0,IF(COUNTRY_INFO!$H56=1,COUNTRY_INFO!E56,0)))","v":0},{"$f":"IF(INTRO!$E$39<>\"Non-endemic\", 0, IF(INTRO!$E$37=\"Non-endemic\",0,IF(COUNTRY_INFO!$H56=1,COUNTRY_INFO!F56,0)))","v":0},{"$f":"IF(INTRO!$E$39<>\"Non-endemic\", 0, IF(INTRO!$E$37=\"Non-endemic\",0,IF(COUNTRY_INFO!$H56=1,COUNTRY_INFO!G56,0)))","v":0},0,{"$f":"IF(INTRO!$E$39=\"Non-endemic\",IF(INTRO!$E$37=\"Non-endemic\",\"Not required\",COUNTRY_INFO!P56),\"Treat with IVM\")","v":"Treat with IVM"},0,0,null,0,0]
[{"$f":"IF(INTRO!$E$39<>\"Non-endemic\", \" \", IF(INTRO!$E$37=\"Non-endemic\",\" \", IF(COUNTRY_INFO!A57=0,\" \",COUNTRY_INFO!A57)))","v":" "},{"$f":"IF(INTRO!$E$39<>\"Non-endemic\", \" \", IF(INTRO!$E$37=\"Non-endemic\",\" \", IF(COUNTRY_INFO!B57=0,\" \",COUNTRY_INFO!B57)))","v":" "},{"$f":"IF(INTRO!$E$39<>\"Non-endemic\", \" \", IF(INTRO!$E$37=\"Non-endemic\",\" \", IF(COUNTRY_INFO!C57=0,\" \",COUNTRY_INFO!C57)))","v":" "},{"$f":"IF(INTRO!$E$39<>\"Non-endemic\", 0, IF(INTRO!$E$37=\"Non-endemic\",0,IF(COUNTRY_INFO!$H57=1,COUNTRY_INFO!E57,0)))","v":0},{"$f":"IF(INTRO!$E$39<>\"Non-endemic\", 0, IF(INTRO!$E$37=\"Non-endemic\",0,IF(COUNTRY_INFO!$H57=1,COUNTRY_INFO!F57,0)))","v":0},{"$f":"IF(INTRO!$E$39<>\"Non-endemic\", 0, IF(INTRO!$E$37=\"Non-endemic\",0,IF(COUNTRY_INFO!$H57=1,COUNTRY_INFO!G57,0)))","v":0},0,{"$f":"IF(INTRO!$E$39=\"Non-endemic\",IF(INTRO!$E$37=\"Non-endemic\",\"Not required\",COUNTRY_INFO!P57),\"Treat with IVM\")","v":"Treat with IVM"},0,0,null,0,0]
[{"$f":"IF(INTRO!$E$39<>\"Non-endemic\", \" \", IF(INTRO!$E$37=\"Non-endemic\",\" \", IF(COUNTRY_INFO!A58=0,\" \",COUNTRY_INFO!A58)))","v":" "},{"$f":"IF(INTRO!$E$39<>\"Non-endemic\", \" \", IF(INTRO!$E$37=\"Non-endemic\",\" \", IF(COUNTRY_INFO!B58=0,\" \",COUNTRY_INFO!B58)))","v":" "},{"$f":"IF(INTRO!$E$39<>\"Non-endemic\", \" \", IF(INTRO!$E$37=\"Non-endemic\",\" \", IF(COUNTRY_INFO!C58=0,\" \",COUNTRY_INFO!C58)))","v":" "},{"$f":"IF(INTRO!$E$39<>\"Non-endemic\", 0, IF(INTRO!$E$37=\"Non-endemic\",0,IF(COUNTRY_INFO!$H58=1,COUNTRY_INFO!E58,0)))","v":0},{"$f":"IF(INTRO!$E$39<>\"Non-endemic\", 0, IF(INTRO!$E$37=\"Non-endemic\",0,IF(COUNTRY_INFO!$H58=1,COUNTRY_INFO!F58,0)))","v":0},{"$f":"IF(INTRO!$E$39<>\"Non-endemic\", 0, IF(INTRO!$E$37=\"Non-endemic\",0,IF(COUNTRY_INFO!$H58=1,COUNTRY_INFO!G58,0)))","v":0},0,{"$f":"IF(INTRO!$E$39=\"Non-endemic\",IF(INTRO!$E$37=\"Non-endemic\",\"Not required\",COUNTRY_INFO!P58),\"Treat with IVM\")","v":"Treat with IVM"},0,0,null,0,0]
[{"$f":"IF(INTRO!$E$39<>\"Non-endemic\", \" \", IF(INTRO!$E$37=\"Non-endemic\",\" \", IF(COUNTRY_INFO!A59=0,\" \",COUNTRY_INFO!A59)))","v":" "},{"$f":"IF(INTRO!$E$39<>\"Non-endemic\", \" \", IF(INTRO!$E$37=\"Non-endemic\",\" \", IF(COUNTRY_INFO!B59=0,\" \",COUNTRY_INFO!B59)))","v":" "},{"$f":"IF(INTRO!$E$39<>\"Non-endemic\", \" \", IF(INTRO!$E$37=\"Non-endemic\",\" \", IF(COUNTRY_INFO!C59=0,\" \",COUNTRY_INFO!C59)))","v":" "},{"$f":"IF(INTRO!$E$39<>\"Non-endemic\", 0, IF(INTRO!$E$37=\"Non-endemic\",0,IF(COUNTRY_INFO!$H59=1,COUNTRY_INFO!E59,0)))","v":0},{"$f":"IF(INTRO!$E$39<>\"Non-endemic\", 0, IF(INTRO!$E$37=\"Non-endemic\",0,IF(COUNTRY_INFO!$H59=1,COUNTRY_INFO!F59,0)))","v":0},{"$f":"IF(INTRO!$E$39<>\"Non-endemic\", 0, IF(INTRO!$E$37=\"Non-endemic\",0,IF(COUNTRY_INFO!$H59=1,COUNTRY_INFO!G59,0)))","v":0},0,{"$f":"IF(INTRO!$E$39=\"Non-endemic\",IF(INTRO!$E$37=\"Non-endemic\",\"Not required\",COUNTRY_INFO!P59),\"Treat with IVM\")","v":"Treat with IVM"},0,0,null,0,0]
[{"$f":"IF(INTRO!$E$39<>\"Non-endemic\", \" \", IF(INTRO!$E$37=\"Non-endemic\",\" \", IF(COUNTRY_INFO!A60=0,\" \",COUNTRY_INFO!A60)))","v":" "},{"$f":"IF(INTRO!$E$39<>\"Non-endemic\", \" \", IF(INTRO!$E$37=\"Non-endemic\",\" \", IF(COUNTRY_INFO!B60=0,\" \",COUNTRY_INFO!B60)))","v":" "},{"$f":"IF(INTRO!$E$39<>\"Non-endemic\", \" \", IF(INTRO!$E$37=\"Non-endemic\",\" \", IF(COUNTRY_INFO!C60=0,\" \",COUNTRY_INFO!C60)))","v":" "},{"$f":"IF(INTRO!$E$39<>\"Non-endemic\", 0, IF(INTRO!$E$37=\"Non-endemic\",0,IF(COUNTRY_INFO!$H60=1,COUNTRY_INFO!E60,0)))","v":0},{"$f":"IF(INTRO!$E$39<>\"Non-endemic\", 0, IF(INTRO!$E$37=\"Non-endemic\",0,IF(COUNTRY_INFO!$H60=1,COUNTRY_INFO!F60,0)))","v":0},{"$f":"IF(INTRO!$E$39<>\"Non-endemic\", 0, IF(INTRO!$E$37=\"Non-endemic\",0,IF(COUNTRY_INFO!$H60=1,COUNTRY_INFO!G60,0)))","v":0},0,{"$f":"IF(INTRO!$E$39=\"Non-endemic\",IF(INTRO!$E$37=\"Non-endemic\",\"Not required\",COUNTRY_INFO!P60),\"Treat with IVM\")","v":"Treat with IVM"},0,0,null,0,0]
[{"$f":"IF(INTRO!$E$39<>\"Non-endemic\", \" \", IF(INTRO!$E$37=\"Non-endemic\",\" \", IF(COUNTRY_INFO!A61=0,\" \",COUNTRY_INFO!A61)))","v":" "},{"$f":"IF(INTRO!$E$39<>\"Non-endemic\", \" \", IF(INTRO!$E$37=\"Non-endemic\",\" \", IF(COUNTRY_INFO!B61=0,\" \",COUNTRY_INFO!B61)))","v":" "},{"$f":"IF(INTRO!$E$39<>\"Non-endemic\", \" \", IF(INTRO!$E$37=\"Non-endemic\",\" \", IF(COUNTRY_INFO!C61=0,\" \",COUNTRY_INFO!C61)))","v":" "},{"$f":"IF(INTRO!$E$39<>\"Non-endemic\", 0, IF(INTRO!$E$37=\"Non-endemic\",0,IF(COUNTRY_INFO!$H61=1,COUNTRY_INFO!E61,0)))","v":0},{"$f":"IF(INTRO!$E$39<>\"Non-endemic\", 0, IF(INTRO!$E$37=\"Non-endemic\",0,IF(COUNTRY_INFO!$H61=1,COUNTRY_INFO!F61,0)))","v":0},{"$f":"IF(INTRO!$E$39<>\"Non-endemic\", 0, IF(INTRO!$E$37=\"Non-endemic\",0,IF(COUNTRY_INFO!$H61=1,COUNTRY_INFO!G61,0)))","v":0},0,{"$f":"IF(INTRO!$E$39=\"Non-endemic\",IF(INTRO!$E$37=\"Non-endemic\",\"Not required\",COUNTRY_INFO!P61),\"Treat with IVM\")","v":"Treat with IVM"},0,0,null,0,0]
[{"$f":"IF(INTRO!$E$39<>\"Non-endemic\", \" \", IF(INTRO!$E$37=\"Non-endemic\",\" \", IF(COUNTRY_INFO!A62=0,\" \",COUNTRY_INFO!A62)))","v":" "},{"$f":"IF(INTRO!$E$39<>\"Non-endemic\", \" \", IF(INTRO!$E$37=\"Non-endemic\",\" \", IF(COUNTRY_INFO!B62=0,\" \",COUNTRY_INFO!B62)))","v":" "},{"$f":"IF(INTRO!$E$39<>\"Non-endemic\", \" \", IF(INTRO!$E$37=\"Non-endemic\",\" \", IF(COUNTRY_INFO!C62=0,\" \",COUNTRY_INFO!C62)))","v":" "},{"$f":"IF(INTRO!$E$39<>\"Non-endemic\", 0, IF(INTRO!$E$37=\"Non-endemic\",0,IF(COUNTRY_INFO!$H62=1,COUNTRY_INFO!E62,0)))","v":0},{"$f":"IF(INTRO!$E$39<>\"Non-endemic\", 0, IF(INTRO!$E$37=\"Non-endemic\",0,IF(COUNTRY_INFO!$H62=1,COUNTRY_INFO!F62,0)))","v":0},{"$f":"IF(INTRO!$E$39<>\"Non-endemic\", 0, IF(INTRO!$E$37=\"Non-endemic\",0,IF(COUNTRY_INFO!$H62=1,COUNTRY_INFO!G62,0)))","v":0},0,{"$f":"IF(INTRO!$E$39=\"Non-endemic\",IF(INTRO!$E$37=\"Non-endemic\",\"Not required\",COUNTRY_INFO!P62),\"Treat with IVM\")","v":"Treat with IVM"},0,0,null,0,0]
[{"$f":"IF(INTRO!$E$39<>\"Non-endemic\", \" \", IF(INTRO!$E$37=\"Non-endemic\",\" \", IF(COUNTRY_INFO!A63=0,\" \",COUNTRY_INFO!A63)))","v":" "},{"$f":"IF(INTRO!$E$39<>\"Non-endemic\", \" \", IF(INTRO!$E$37=\"Non-endemic\",\" \", IF(COUNTRY_INFO!B63=0,\" \",COUNTRY_INFO!B63)))","v":" "},{"$f":"IF(INTRO!$E$39<>\"Non-endemic\", \" \", IF(INTRO!$E$37=\"Non-endemic\",\" \", IF(COUNTRY_INFO!C63=0,\" \",COUNTRY_INFO!C63)))","v":" "},{"$f":"IF(INTRO!$E$39<>\"Non-endemic\", 0, IF(INTRO!$E$37=\"Non-endemic\",0,IF(COUNTRY_INFO!$H63=1,COUNTRY_INFO!E63,0)))","v":0},{"$f":"IF(INTRO!$E$39<>\"Non-endemic\", 0, IF(INTRO!$E$37=\"Non-endemic\",0,IF(COUNTRY_INFO!$H63=1,COUNTRY_INFO!F63,0)))","v":0},{"$f":"IF(INTRO!$E$39<>\"Non-endemic\", 0, IF(INTRO!$E$37=\"Non-endemic\",0,IF(COUNTRY_INFO!$H63=1,COUNTRY_INFO!G63,0)))","v":0},0,{"$f":"IF(INTRO!$E$39=\"Non-endemic\",IF(INTRO!$E$37=\"Non-endemic\",\"Not required\",COUNTRY_INFO!P63),\"Treat with IVM\")","v":"Treat with IVM"},0,0,null,0,0]
[{"$f":"IF(INTRO!$E$39<>\"Non-endemic\", \" \", IF(INTRO!$E$37=\"Non-endemic\",\" \", IF(COUNTRY_INFO!A64=0,\" \",COUNTRY_INFO!A64)))","v":" "},{"$f":"IF(INTRO!$E$39<>\"Non-endemic\", \" \", IF(INTRO!$E$37=\"Non-endemic\",\" \", IF(COUNTRY_INFO!B64=0,\" \",COUNTRY_INFO!B64)))","v":" "},{"$f":"IF(INTRO!$E$39<>\"Non-endemic\", \" \", IF(INTRO!$E$37=\"Non-endemic\",\" \", IF(COUNTRY_INFO!C64=0,\" \",COUNTRY_INFO!C64)))","v":" "},{"$f":"IF(INTRO!$E$39<>\"Non-endemic\", 0, IF(INTRO!$E$37=\"Non-endemic\",0,IF(COUNTRY_INFO!$H64=1,COUNTRY_INFO!E64,0)))","v":0},{"$f":"IF(INTRO!$E$39<>\"Non-endemic\", 0, IF(INTRO!$E$37=\"Non-endemic\",0,IF(COUNTRY_INFO!$H64=1,COUNTRY_INFO!F64,0)))","v":0},{"$f":"IF(INTRO!$E$39<>\"Non-endemic\", 0, IF(INTRO!$E$37=\"Non-endemic\",0,IF(COUNTRY_INFO!$H64=1,COUNTRY_INFO!G64,0)))","v":0},0,{"$f":"IF(INTRO!$E$39=\"Non-endemic\",IF(INTRO!$E$37=\"Non-endemic\",\"Not required\",COUNTRY_INFO!P64),\"Treat with IVM\")","v":"Treat with IVM"},0,0,null,0,0]
[{"$f":"IF(INTRO!$E$39<>\"Non-endemic\", \" \", IF(INTRO!$E$37=\"Non-endemic\",\" \", IF(COUNTRY_INFO!A65=0,\" \",COUNTRY_INFO!A65)))","v":" "},{"$f":"IF(INTRO!$E$39<>\"Non-endemic\", \" \", IF(INTRO!$E$37=\"Non-endemic\",\" \", IF(COUNTRY_INFO!B65=0,\" \",COUNTRY_INFO!B65)))","v":" "},{"$f":"IF(INTRO!$E$39<>\"Non-endemic\", \" \", IF(INTRO!$E$37=\"Non-endemic\",\" \", IF(COUNTRY_INFO!C65=0,\" \",COUNTRY_INFO!C65)))","v":" "},{"$f":"IF(INTRO!$E$39<>\"Non-endemic\", 0, IF(INTRO!$E$37=\"Non-endemic\",0,IF(COUNTRY_INFO!$H65=1,COUNTRY_INFO!E65,0)))","v":0},{"$f":"IF(INTRO!$E$39<>\"Non-endemic\", 0, IF(INTRO!$E$37=\"Non-endemic\",0,IF(COUNTRY_INFO!$H65=1,COUNTRY_INFO!F65,0)))","v":0},{"$f":"IF(INTRO!$E$39<>\"Non-endemic\", 0, IF(INTRO!$E$37=\"Non-endemic\",0,IF(COUNTRY_INFO!$H65=1,COUNTRY_INFO!G65,0)))","v":0},0,{"$f":"IF(INTRO!$E$39=\"Non-endemic\",IF(INTRO!$E$37=\"Non-endemic\",\"Not required\",COUNTRY_INFO!P65),\"Treat with IVM\")","v":"Treat with IVM"},0,0,null,0,0]
[{"$f":"IF(INTRO!$E$39<>\"Non-endemic\", \" \", IF(INTRO!$E$37=\"Non-endemic\",\" \", IF(COUNTRY_INFO!A66=0,\" \",COUNTRY_INFO!A66)))","v":" "},{"$f":"IF(INTRO!$E$39<>\"Non-endemic\", \" \", IF(INTRO!$E$37=\"Non-endemic\",\" \", IF(COUNTRY_INFO!B66=0,\" \",COUNTRY_INFO!B66)))","v":" "},{"$f":"IF(INTRO!$E$39<>\"Non-endemic\", \" \", IF(INTRO!$E$37=\"Non-endemic\",\" \", IF(COUNTRY_INFO!C66=0,\" \",COUNTRY_INFO!C66)))","v":" "},{"$f":"IF(INTRO!$E$39<>\"Non-endemic\", 0, IF(INTRO!$E$37=\"Non-endemic\",0,IF(COUNTRY_INFO!$H66=1,COUNTRY_INFO!E66,0)))","v":0},{"$f":"IF(INTRO!$E$39<>\"Non-endemic\", 0, IF(INTRO!$E$37=\"Non-endemic\",0,IF(COUNTRY_INFO!$H66=1,COUNTRY_INFO!F66,0)))","v":0},{"$f":"IF(INTRO!$E$39<>\"Non-endemic\", 0, IF(INTRO!$E$37=\"Non-endemic\",0,IF(COUNTRY_INFO!$H66=1,COUNTRY_INFO!G66,0)))","v":0},0,{"$f":"IF(INTRO!$E$39=\"Non-endemic\",IF(INTRO!$E$37=\"Non-endemic\",\"Not required\",COUNTRY_INFO!P66),\"Treat with IVM\")","v":"Treat with IVM"},0,0,null,0,0]
[{"$f":"IF(INTRO!$E$39<>\"Non-endemic\", \" \", IF(INTRO!$E$37=\"Non-endemic\",\" \", IF(COUNTRY_INFO!A67=0,\" \",COUNTRY_INFO!A67)))","v":" "},{"$f":"IF(INTRO!$E$39<>\"Non-endemic\", \" \", IF(INTRO!$E$37=\"Non-endemic\",\" \", IF(COUNTRY_INFO!B67=0,\" \",COUNTRY_INFO!B67)))","v":" "},{"$f":"IF(INTRO!$E$39<>\"Non-endemic\", \" \", IF(INTRO!$E$37=\"Non-endemic\",\" \", IF(COUNTRY_INFO!C67=0,\" \",COUNTRY_INFO!C67)))","v":" "},{"$f":"IF(INTRO!$E$39<>\"Non-endemic\", 0, IF(INTRO!$E$37=\"Non-endemic\",0,IF(COUNTRY_INFO!$H67=1,COUNTRY_INFO!E67,0)))","v":0},{"$f":"IF(INTRO!$E$39<>\"Non-endemic\", 0, IF(INTRO!$E$37=\"Non-endemic\",0,IF(COUNTRY_INFO!$H67=1,COUNTRY_INFO!F67,0)))","v":0},{"$f":"IF(INTRO!$E$39<>\"Non-endemic\", 0, IF(INTRO!$E$37=\"Non-endemic\",0,IF(COUNTRY_INFO!$H67=1,COUNTRY_INFO!G67,0)))","v":0},0,{"$f":"IF(INTRO!$E$39=\"Non-endemic\",IF(INTRO!$E$37=\"Non-endemic\",\"Not required\",COUNTRY_INFO!P67),\"Treat with IVM\")","v":"Treat with IVM"},0,0,null,0,0]
[{"$f":"IF(INTRO!$E$39<>\"Non-endemic\", \" \", IF(INTRO!$E$37=\"Non-endemic\",\" \", IF(COUNTRY_INFO!A68=0,\" \",COUNTRY_INFO!A68)))","v":" "},{"$f":"IF(INTRO!$E$39<>\"Non-endemic\", \" \", IF(INTRO!$E$37=\"Non-endemic\",\" \", IF(COUNTRY_INFO!B68=0,\" \",COUNTRY_INFO!B68)))","v":" "},{"$f":"IF(INTRO!$E$39<>\"Non-endemic\", \" \", IF(INTRO!$E$37=\"Non-endemic\",\" \", IF(COUNTRY_INFO!C68=0,\" \",COUNTRY_INFO!C68)))","v":" "},{"$f":"IF(INTRO!$E$39<>\"Non-endemic\", 0, IF(INTRO!$E$37=\"Non-endemic\",0,IF(COUNTRY_INFO!$H68=1,COUNTRY_INFO!E68,0)))","v":0},{"$f":"IF(INTRO!$E$39<>\"Non-endemic\", 0, IF(INTRO!$E$37=\"Non-endemic\",0,IF(COUNTRY_INFO!$H68=1,COUNTRY_INFO!F68,0)))","v":0},{"$f":"IF(INTRO!$E$39<>\"Non-endemic\", 0, IF(INTRO!$E$37=\"Non-endemic\",0,IF(COUNTRY_INFO!$H68=1,COUNTRY_INFO!G68,0)))","v":0},0,{"$f":"IF(INTRO!$E$39=\"Non-endemic\",IF(INTRO!$E$37=\"Non-endemic\",\"Not required\",COUNTRY_INFO!P68),\"Treat with IVM\")","v":"Treat with IVM"},0,0,null,0,0]
[{"$f":"IF(INTRO!$E$39<>\"Non-endemic\", \" \", IF(INTRO!$E$37=\"Non-endemic\",\" \", IF(COUNTRY_INFO!A69=0,\" \",COUNTRY_INFO!A69)))","v":" "},{"$f":"IF(INTRO!$E$39<>\"Non-endemic\", \" \", IF(INTRO!$E$37=\"Non-endemic\",\" \", IF(COUNTRY_INFO!B69=0,\" \",COUNTRY_INFO!B69)))","v":" "},{"$f":"IF(INTRO!$E$39<>\"Non-endemic\", \" \", IF(INTRO!$E$37=\"Non-endemic\",\" \", IF(COUNTRY_INFO!C69=0,\" \",COUNTRY_INFO!C69)))","v":" "},{"$f":"IF(INTRO!$E$39<>\"Non-endemic\", 0, IF(INTRO!$E$37=\"Non-endemic\",0,IF(COUNTRY_INFO!$H69=1,COUNTRY_INFO!E69,0)))","v":0},{"$f":"IF(INTRO!$E$39<>\"Non-endemic\", 0, IF(INTRO!$E$37=\"Non-endemic\",0,IF(COUNTRY_INFO!$H69=1,COUNTRY_INFO!F69,0)))","v":0},{"$f":"IF(INTRO!$E$39<>\"Non-endemic\", 0, IF(INTRO!$E$37=\"Non-endemic\",0,IF(COUNTRY_INFO!$H69=1,COUNTRY_INFO!G69,0)))","v":0},0,{"$f":"IF(INTRO!$E$39=\"Non-endemic\",IF(INTRO!$E$37=\"Non-endemic\",\"Not required\",COUNTRY_INFO!P69),\"Treat with IVM\")","v":"Treat with IVM"},0,0,null,0,0]
[{"$f":"IF(INTRO!$E$39<>\"Non-endemic\", \" \", IF(INTRO!$E$37=\"Non-endemic\",\" \", IF(COUNTRY_INFO!A70=0,\" \",COUNTRY_INFO!A70)))","v":" "},{"$f":"IF(INTRO!$E$39<>\"Non-endemic\", \" \", IF(INTRO!$E$37=\"Non-endemic\",\" \", IF(COUNTRY_INFO!B70=0,\" \",COUNTRY_INFO!B70)))","v":" "},{"$f":"IF(INTRO!$E$39<>\"Non-endemic\", \" \", IF(INTRO!$E$37=\"Non-endemic\",\" \", IF(COUNTRY_INFO!C70=0,\" \",COUNTRY_INFO!C70)))","v":" "},{"$f":"IF(INTRO!$E$39<>\"Non-endemic\", 0, IF(INTRO!$E$37=\"Non-endemic\",0,IF(COUNTRY_INFO!$H70=1,COUNTRY_INFO!E70,0)))","v":0},{"$f":"IF(INTRO!$E$39<>\"Non-endemic\", 0, IF(INTRO!$E$37=\"Non-endemic\",0,IF(COUNTRY_INFO!$H70=1,COUNTRY_INFO!F70,0)))","v":0},{"$f":"IF(INTRO!$E$39<>\"Non-endemic\", 0, IF(INTRO!$E$37=\"Non-endemic\",0,IF(COUNTRY_INFO!$H70=1,COUNTRY_INFO!G70,0)))","v":0},0,{"$f":"IF(INTRO!$E$39=\"Non-endemic\",IF(INTRO!$E$37=\"Non-endemic\",\"Not required\",COUNTRY_INFO!P70),\"Treat with IVM\")","v":"Treat with IVM"},0,0,null,0,0]
[{"$f":"IF(INTRO!$E$39<>\"Non-endemic\", \" \", IF(INTRO!$E$37=\"Non-endemic\",\" \", IF(COUNTRY_INFO!A71=0,\" \",COUNTRY_INFO!A71)))","v":" "},{"$f":"IF(INTRO!$E$39<>\"Non-endemic\", \" \", IF(INTRO!$E$37=\"Non-endemic\",\" \", IF(COUNTRY_INFO!B71=0,\" \",COUNTRY_INFO!B71)))","v":" "},{"$f":"IF(INTRO!$E$39<>\"Non-endemic\", \" \", IF(INTRO!$E$37=\"Non-endemic\",\" \", IF(COUNTRY_INFO!C71=0,\" \",COUNTRY_INFO!C71)))","v":" "},{"$f":"IF(INTRO!$E$39<>\"Non-endemic\", 0, IF(INTRO!$E$37=\"Non-endemic\",0,IF(COUNTRY_INFO!$H71=1,COUNTRY_INFO!E71,0)))","v":0},{"$f":"IF(INTRO!$E$39<>\"Non-endemic\", 0, IF(INTRO!$E$37=\"Non-endemic\",0,IF(COUNTRY_INFO!$H71=1,COUNTRY_INFO!F71,0)))","v":0},{"$f":"IF(INTRO!$E$39<>\"Non-endemic\", 0, IF(INTRO!$E$37=\"Non-endemic\",0,IF(COUNTRY_INFO!$H71=1,COUNTRY_INFO!G71,0)))","v":0},0,{"$f":"IF(INTRO!$E$39=\"Non-endemic\",IF(INTRO!$E$37=\"Non-endemic\",\"Not required\",COUNTRY_INFO!P71),\"Treat with IVM\")","v":"Treat with IVM"},0,0,null,0,0]
[{"$f":"IF(INTRO!$E$39<>\"Non-endemic\", \" \", IF(INTRO!$E$37=\"Non-endemic\",\" \", IF(COUNTRY_INFO!A72=0,\" \",COUNTRY_INFO!A72)))","v":" "},{"$f":"IF(INTRO!$E$39<>\"Non-endemic\", \" \", IF(INTRO!$E$37=\"Non-endemic\",\" \", IF(COUNTRY_INFO!B72=0,\" \",COUNTRY_INFO!B72)))","v":" "},{"$f":"IF(INTRO!$E$39<>\"Non-endemic\", \" \", IF(INTRO!$E$37=\"Non-endemic\",\" \", IF(COUNTRY_INFO!C72=0,\" \",COUNTRY_INFO!C72)))","v":" "},{"$f":"IF(INTRO!$E$39<>\"Non-endemic\", 0, IF(INTRO!$E$37=\"Non-endemic\",0,IF(COUNTRY_INFO!$H72=1,COUNTRY_INFO!E72,0)))","v":0},{"$f":"IF(INTRO!$E$39<>\"Non-endemic\", 0, IF(INTRO!$E$37=\"Non-endemic\",0,IF(COUNTRY_INFO!$H72=1,COUNTRY_INFO!F72,0)))","v":0},{"$f":"IF(INTRO!$E$39<>\"Non-endemic\", 0, IF(INTRO!$E$37=\"Non-endemic\",0,IF(COUNTRY_INFO!$H72=1,COUNTRY_INFO!G72,0)))","v":0},0,{"$f":"IF(INTRO!$E$39=\"Non-endemic\",IF(INTRO!$E$37=\"Non-endemic\",\"Not required\",COUNTRY_INFO!P72),\"Treat with IVM\")","v":"Treat with IVM"},0,0,null,0,0]
[{"$f":"IF(INTRO!$E$39<>\"Non-endemic\", \" \", IF(INTRO!$E$37=\"Non-endemic\",\" \", IF(COUNTRY_INFO!A73=0,\" \",COUNTRY_INFO!A73)))","v":" "},{"$f":"IF(INTRO!$E$39<>\"Non-endemic\", \" \", IF(INTRO!$E$37=\"Non-endemic\",\" \", IF(COUNTRY_INFO!B73=0,\" \",COUNTRY_INFO!B73)))","v":" "},{"$f":"IF(INTRO!$E$39<>\"Non-endemic\", \" \", IF(INTRO!$E$37=\"Non-endemic\",\" \", IF(COUNTRY_INFO!C73=0,\" \",COUNTRY_INFO!C73)))","v":" "},{"$f":"IF(INTRO!$E$39<>\"Non-endemic\", 0, IF(INTRO!$E$37=\"Non-endemic\",0,IF(COUNTRY_INFO!$H73=1,COUNTRY_INFO!E73,0)))","v":0},{"$f":"IF(INTRO!$E$39<>\"Non-endemic\", 0, IF(INTRO!$E$37=\"Non-endemic\",0,IF(COUNTRY_INFO!$H73=1,COUNTRY_INFO!F73,0)))","v":0},{"$f":"IF(INTRO!$E$39<>\"Non-endemic\", 0, IF(INTRO!$E$37=\"Non-endemic\",0,IF(COUNTRY_INFO!$H73=1,COUNTRY_INFO!G73,0)))","v":0},0,{"$f":"IF(INTRO!$E$39=\"Non-endemic\",IF(INTRO!$E$37=\"Non-endemic\",\"Not required\",COUNTRY_INFO!P73),\"Treat with IVM\")","v":"Treat with IVM"},0,0,null,0,0]
[{"$f":"IF(INTRO!$E$39<>\"Non-endemic\", \" \", IF(INTRO!$E$37=\"Non-endemic\",\" \", IF(COUNTRY_INFO!A74=0,\" \",COUNTRY_INFO!A74)))","v":" "},{"$f":"IF(INTRO!$E$39<>\"Non-endemic\", \" \", IF(INTRO!$E$37=\"Non-endemic\",\" \", IF(COUNTRY_INFO!B74=0,\" \",COUNTRY_INFO!B74)))","v":" "},{"$f":"IF(INTRO!$E$39<>\"Non-endemic\", \" \", IF(INTRO!$E$37=\"Non-endemic\",\" \", IF(COUNTRY_INFO!C74=0,\" \",COUNTRY_INFO!C74)))","v":" "},{"$f":"IF(INTRO!$E$39<>\"Non-endemic\", 0, IF(INTRO!$E$37=\"Non-endemic\",0,IF(COUNTRY_INFO!$H74=1,COUNTRY_INFO!E74,0)))","v":0},{"$f":"IF(INTRO!$E$39<>\"Non-endemic\", 0, IF(INTRO!$E$37=\"Non-endemic\",0,IF(COUNTRY_INFO!$H74=1,COUNTRY_INFO!F74,0)))","v":0},{"$f":"IF(INTRO!$E$39<>\"Non-endemic\", 0, IF(INTRO!$E$37=\"Non-endemic\",0,IF(COUNTRY_INFO!$H74=1,COUNTRY_INFO!G74,0)))","v":0},{"$f":"SUM(D74:F74)","v":0},{"$f":"IF(INTRO!$E$39=\"Non-endemic\",IF(INTRO!$E$37=\"Non-endemic\",\"Not required\",COUNTRY_INFO!P74),\"Treat with IVM\")","v":"Treat with IVM"},{"$f":"IF(H74=1,G74,0)","v":0},{"$f":"IF(I74>0,I74*2.5,0)","v":0},null,0,0]
[{"$f":"IF(INTRO!$E$39<>\"Non-endemic\", \" \", IF(INTRO!$E$37=\"Non-endemic\",\" \", IF(COUNTRY_INFO!A75=0,\" \",COUNTRY_INFO!A75)))","v":" "},{"$f":"IF(INTRO!$E$39<>\"Non-endemic\", \" \", IF(INTRO!$E$37=\"Non-endemic\",\" \", IF(COUNTRY_INFO!B75=0,\" \",COUNTRY_INFO!B75)))","v":" "},{"$f":"IF(INTRO!$E$39<>\"Non-endemic\", \" \", IF(INTRO!$E$37=\"Non-endemic\",\" \", IF(COUNTRY_INFO!C75=0,\" \",COUNTRY_INFO!C75)))","v":" "},{"$f":"IF(INTRO!$E$39<>\"Non-endemic\", 0, IF(INTRO!$E$37=\"Non-endemic\",0,IF(COUNTRY_INFO!$H75=1,COUNTRY_INFO!E75,0)))","v":0},{"$f":"IF(INTRO!$E$39<>\"Non-endemic\", 0, IF(INTRO!$E$37=\"Non-endemic\",0,IF(COUNTRY_INFO!$H75=1,COUNTRY_INFO!F75,0)))","v":0},{"$f":"IF(INTRO!$E$39<>\"Non-endemic\", 0, IF(INTRO!$E$37=\"Non-endemic\",0,IF(COUNTRY_INFO!$H75=1,COUNTRY_INFO!G75,0)))","v":0},0,{"$f":"IF(INTRO!$E$39=\"Non-endemic\",IF(INTRO!$E$37=\"Non-endemic\",\"Not required\",COUNTRY_INFO!P75),\"Treat with IVM\")","v":"Treat with IVM"},0,0,null,0,0]
[{"$f":"IF(INTRO!$E$39<>\"Non-endemic\", \" \", IF(INTRO!$E$37=\"Non-endemic\",\" \", IF(COUNTRY_INFO!A76=0,\" \",COUNTRY_INFO!A76)))","v":" "},{"$f":"IF(INTRO!$E$39<>\"Non-endemic\", \" \", IF(INTRO!$E$37=\"Non-endemic\",\" \", IF(COUNTRY_INFO!B76=0,\" \",COUNTRY_INFO!B76)))","v":" "},{"$f":"IF(INTRO!$E$39<>\"Non-endemic\", \" \", IF(INTRO!$E$37=\"Non-endemic\",\" \", IF(COUNTRY_INFO!C76=0,\" \",COUNTRY_INFO!C76)))","v":" "},{"$f":"IF(INTRO!$E$39<>\"Non-endemic\", 0, IF(INTRO!$E$37=\"Non-endemic\",0,IF(COUNTRY_INFO!$H76=1,COUNTRY_INFO!E76,0)))","v":0},{"$f":"IF(INTRO!$E$39<>\"Non-endemic\", 0, IF(INTRO!$E$37=\"Non-endemic\",0,IF(COUNTRY_INFO!$H76=1,COUNTRY_INFO!F76,0)))","v":0},{"$f":"IF(INTRO!$E$39<>\"Non-endemic\", 0, IF(INTRO!$E$37=\"Non-endemic\",0,IF(COUNTRY_INFO!$H76=1,COUNTRY_INFO!G76,0)))","v":0},0,{"$f":"IF(INTRO!$E$39=\"Non-endemic\",IF(INTRO!$E$37=\"Non-endemic\",\"Not required\",COUNTRY_INFO!P76),\"Treat with IVM\")","v":"Treat with IVM"},0,0,null,0,0]
[{"$f":"IF(INTRO!$E$39<>\"Non-endemic\", \" \", IF(INTRO!$E$37=\"Non-endemic\",\" \", IF(COUNTRY_INFO!A77=0,\" \",COUNTRY_INFO!A77)))","v":" "},{"$f":"IF(INTRO!$E$39<>\"Non-endemic\", \" \", IF(INTRO!$E$37=\"Non-endemic\",\" \", IF(COUNTRY_INFO!B77=0,\" \",COUNTRY_INFO!B77)))","v":" "},{"$f":"IF(INTRO!$E$39<>\"Non-endemic\", \" \", IF(INTRO!$E$37=\"Non-endemic\",\" \", IF(COUNTRY_INFO!C77=0,\" \",COUNTRY_INFO!C77)))","v":" "},{"$f":"IF(INTRO!$E$39<>\"Non-endemic\", 0, IF(INTRO!$E$37=\"Non-endemic\",0,IF(COUNTRY_INFO!$H77=1,COUNTRY_INFO!E77,0)))","v":0},{"$f":"IF(INTRO!$E$39<>\"Non-endemic\", 0, IF(INTRO!$E$37=\"Non-endemic\",0,IF(COUNTRY_INFO!$H77=1,COUNTRY_INFO!F77,0)))","v":0},{"$f":"IF(INTRO!$E$39<>\"Non-endemic\", 0, IF(INTRO!$E$37=\"Non-endemic\",0,IF(COUNTRY_INFO!$H77=1,COUNTRY_INFO!G77,0)))","v":0},0,{"$f":"IF(INTRO!$E$39=\"Non-endemic\",IF(INTRO!$E$37=\"Non-endemic\",\"Not required\",COUNTRY_INFO!P77),\"Treat with IVM\")","v":"Treat with IVM"},0,0,null,0,0]
[{"$f":"IF(INTRO!$E$39<>\"Non-endemic\", \" \", IF(INTRO!$E$37=\"Non-endemic\",\" \", IF(COUNTRY_INFO!A78=0,\" \",COUNTRY_INFO!A78)))","v":" "},{"$f":"IF(INTRO!$E$39<>\"Non-endemic\", \" \", IF(INTRO!$E$37=\"Non-endemic\",\" \", IF(COUNTRY_INFO!B78=0,\" \",COUNTRY_INFO!B78)))","v":" "},{"$f":"IF(INTRO!$E$39<>\"Non-endemic\", \" \", IF(INTRO!$E$37=\"Non-endemic\",\" \", IF(COUNTRY_INFO!C78=0,\" \",COUNTRY_INFO!C78)))","v":" "},{"$f":"IF(INTRO!$E$39<>\"Non-endemic\", 0, IF(INTRO!$E$37=\"Non-endemic\",0,IF(COUNTRY_INFO!$H78=1,COUNTRY_INFO!E78,0)))","v":0},{"$f":"IF(INTRO!$E$39<>\"Non-endemic\", 0, IF(INTRO!$E$37=\"Non-endemic\",0,IF(COUNTRY_INFO!$H78=1,COUNTRY_INFO!F78,0)))","v":0},{"$f":"IF(INTRO!$E$39<>\"Non-endemic\", 0, IF(INTRO!$E$37=\"Non-endemic\",0,IF(COUNTRY_INFO!$H78=1,COUNTRY_INFO!G78,0)))","v":0},0,{"$f":"IF(INTRO!$E$39=\"Non-endemic\",IF(INTRO!$E$37=\"Non-endemic\",\"Not required\",COUNTRY_INFO!P78),\"Treat with IVM\")","v":"Treat with IVM"},0,0,null,0,0]
[{"$f":"IF(INTRO!$E$39<>\"Non-endemic\", \" \", IF(INTRO!$E$37=\"Non-endemic\",\" \", IF(COUNTRY_INFO!A79=0,\" \",COUNTRY_INFO!A79)))","v":" "},{"$f":"IF(INTRO!$E$39<>\"Non-endemic\", \" \", IF(INTRO!$E$37=\"Non-endemic\",\" \", IF(COUNTRY_INFO!B79=0,\" \",COUNTRY_INFO!B79)))","v":" "},{"$f":"IF(INTRO!$E$39<>\"Non-endemic\", \" \", IF(INTRO!$E$37=\"Non-endemic\",\" \", IF(COUNTRY_INFO!C79=0,\" \",COUNTRY_INFO!C79)))","v":" "},{"$f":"IF(INTRO!$E$39<>\"Non-endemic\", 0, IF(INTRO!$E$37=\"Non-endemic\",0,IF(COUNTRY_INFO!$H79=1,COUNTRY_INFO!E79,0)))","v":0},{"$f":"IF(INTRO!$E$39<>\"Non-endemic\", 0, IF(INTRO!$E$37=\"Non-endemic\",0,IF(COUNTRY_INFO!$H79=1,COUNTRY_INFO!F79,0)))","v":0},{"$f":"IF(INTRO!$E$39<>\"Non-endemic\", 0, IF(INTRO!$E$37=\"Non-endemic\",0,IF(COUNTRY_INFO!$H79=1,COUNTRY_INFO!G79,0)))","v":0},0,{"$f":"IF(INTRO!$E$39=\"Non-endemic\",IF(INTRO!$E$37=\"Non-endemic\",\"Not required\",COUNTRY_INFO!P79),\"Treat with IVM\")","v":"Treat with IVM"},0,0,null,0,0]
[{"$f":"IF(INTRO!$E$39<>\"Non-endemic\", \" \", IF(INTRO!$E$37=\"Non-endemic\",\" \", IF(COUNTRY_INFO!A80=0,\" \",COUNTRY_INFO!A80)))","v":" "},{"$f":"IF(INTRO!$E$39<>\"Non-endemic\", \" \", IF(INTRO!$E$37=\"Non-endemic\",\" \", IF(COUNTRY_INFO!B80=0,\" \",COUNTRY_INFO!B80)))","v":" "},{"$f":"IF(INTRO!$E$39<>\"Non-endemic\", \" \", IF(INTRO!$E$37=\"Non-endemic\",\" \", IF(COUNTRY_INFO!C80=0,\" \",COUNTRY_INFO!C80)))","v":" "},{"$f":"IF(INTRO!$E$39<>\"Non-endemic\", 0, IF(INTRO!$E$37=\"Non-endemic\",0,IF(COUNTRY_INFO!$H80=1,COUNTRY_INFO!E80,0)))","v":0},{"$f":"IF(INTRO!$E$39<>\"Non-endemic\", 0, IF(INTRO!$E$37=\"Non-endemic\",0,IF(COUNTRY_INFO!$H80=1,COUNTRY_INFO!F80,0)))","v":0},{"$f":"IF(INTRO!$E$39<>\"Non-endemic\", 0, IF(INTRO!$E$37=\"Non-endemic\",0,IF(COUNTRY_INFO!$H80=1,COUNTRY_INFO!G80,0)))","v":0},0,{"$f":"IF(INTRO!$E$39=\"Non-endemic\",IF(INTRO!$E$37=\"Non-endemic\",\"Not required\",COUNTRY_INFO!P80),\"Treat with IVM\")","v":"Treat with IVM"},0,0,null,0,0]
[{"$f":"IF(INTRO!$E$39<>\"Non-endemic\", \" \", IF(INTRO!$E$37=\"Non-endemic\",\" \", IF(COUNTRY_INFO!A81=0,\" \",COUNTRY_INFO!A81)))","v":" "},{"$f":"IF(INTRO!$E$39<>\"Non-endemic\", \" \", IF(INTRO!$E$37=\"Non-endemic\",\" \", IF(COUNTRY_INFO!B81=0,\" \",COUNTRY_INFO!B81)))","v":" "},{"$f":"IF(INTRO!$E$39<>\"Non-endemic\", \" \", IF(INTRO!$E$37=\"Non-endemic\",\" \", IF(COUNTRY_INFO!C81=0,\" \",COUNTRY_INFO!C81)))","v":" "},{"$f":"IF(INTRO!$E$39<>\"Non-endemic\", 0, IF(INTRO!$E$37=\"Non-endemic\",0,IF(COUNTRY_INFO!$H81=1,COUNTRY_INFO!E81,0)))","v":0},{"$f":"IF(INTRO!$E$39<>\"Non-endemic\", 0, IF(INTRO!$E$37=\"Non-endemic\",0,IF(COUNTRY_INFO!$H81=1,COUNTRY_INFO!F81,0)))","v":0},{"$f":"IF(INTRO!$E$39<>\"Non-endemic\", 0, IF(INTRO!$E$37=\"Non-endemic\",0,IF(COUNTRY_INFO!$H81=1,COUNTRY_INFO!G81,0)))","v":0},0,{"$f":"IF(INTRO!$E$39=\"Non-endemic\",IF(INTRO!$E$37=\"Non-endemic\",\"Not required\",COUNTRY_INFO!P81),\"Treat with IVM\")","v":"Treat with IVM"},0,0,null,0,0]
[{"$f":"IF(INTRO!$E$39<>\"Non-endemic\", \" \", IF(INTRO!$E$37=\"Non-endemic\",\" \", IF(COUNTRY_INFO!A82=0,\" \",COUNTRY_INFO!A82)))","v":" "},{"$f":"IF(INTRO!$E$39<>\"Non-endemic\", \" \", IF(INTRO!$E$37=\"Non-endemic\",\" \", IF(COUNTRY_INFO!B82=0,\" \",COUNTRY_INFO!B82)))","v":" "},{"$f":"IF(INTRO!$E$39<>\"Non-endemic\", \" \", IF(INTRO!$E$37=\"Non-endemic\",\" \", IF(COUNTRY_INFO!C82=0,\" \",COUNTRY_INFO!C82)))","v":" "},{"$f":"IF(INTRO!$E$39<>\"Non-endemic\", 0, IF(INTRO!$E$37=\"Non-endemic\",0,IF(COUNTRY_INFO!$H82=1,COUNTRY_INFO!E82,0)))","v":0},{"$f":"IF(INTRO!$E$39<>\"Non-endemic\", 0, IF(INTRO!$E$37=\"Non-endemic\",0,IF(COUNTRY_INFO!$H82=1,COUNTRY_INFO!F82,0)))","v":0},{"$f":"IF(INTRO!$E$39<>\"Non-endemic\", 0, IF(INTRO!$E$37=\"Non-endemic\",0,IF(COUNTRY_INFO!$H82=1,COUNTRY_INFO!G82,0)))","v":0},0,{"$f":"IF(INTRO!$E$39=\"Non-endemic\",IF(INTRO!$E$37=\"Non-endemic\",\"Not required\",COUNTRY_INFO!P82),\"Treat with IVM\")","v":"Treat with IVM"},0,0,null,0,0]
[{"$f":"IF(INTRO!$E$39<>\"Non-endemic\", \" \", IF(INTRO!$E$37=\"Non-endemic\",\" \", IF(COUNTRY_INFO!A83=0,\" \",COUNTRY_INFO!A83)))","v":" "},{"$f":"IF(INTRO!$E$39<>\"Non-endemic\", \" \", IF(INTRO!$E$37=\"Non-endemic\",\" \", IF(COUNTRY_INFO!B83=0,\" \",COUNTRY_INFO!B83)))","v":" "},{"$f":"IF(INTRO!$E$39<>\"Non-endemic\", \" \", IF(INTRO!$E$37=\"Non-endemic\",\" \", IF(COUNTRY_INFO!C83=0,\" \",COUNTRY_INFO!C83)))","v":" "},{"$f":"IF(INTRO!$E$39<>\"Non-endemic\", 0, IF(INTRO!$E$37=\"Non-endemic\",0,IF(COUNTRY_INFO!$H83=1,COUNTRY_INFO!E83,0)))","v":0},{"$f":"IF(INTRO!$E$39<>\"Non-endemic\", 0, IF(INTRO!$E$37=\"Non-endemic\",0,IF(COUNTRY_INFO!$H83=1,COUNTRY_INFO!F83,0)))","v":0},{"$f":"IF(INTRO!$E$39<>\"Non-endemic\", 0, IF(INTRO!$E$37=\"Non-endemic\",0,IF(COUNTRY_INFO!$H83=1,COUNTRY_INFO!G83,0)))","v":0},0,{"$f":"IF(INTRO!$E$39=\"Non-endemic\",IF(INTRO!$E$37=\"Non-endemic\",\"Not required\",COUNTRY_INFO!P83),\"Treat with IVM\")","v":"Treat with IVM"},0,0,null,0,0]
[{"$f":"IF(INTRO!$E$39<>\"Non-endemic\", \" \", IF(INTRO!$E$37=\"Non-endemic\",\" \", IF(COUNTRY_INFO!A84=0,\" \",COUNTRY_INFO!A84)))","v":" "},{"$f":"IF(INTRO!$E$39<>\"Non-endemic\", \" \", IF(INTRO!$E$37=\"Non-endemic\",\" \", IF(COUNTRY_INFO!B84=0,\" \",COUNTRY_INFO!B84)))","v":" "},{"$f":"IF(INTRO!$E$39<>\"Non-endemic\", \" \", IF(INTRO!$E$37=\"Non-endemic\",\" \", IF(COUNTRY_INFO!C84=0,\" \",COUNTRY_INFO!C84)))","v":" "},{"$f":"IF(INTRO!$E$39<>\"Non-endemic\", 0, IF(INTRO!$E$37=\"Non-endemic\",0,IF(COUNTRY_INFO!$H84=1,COUNTRY_INFO!E84,0)))","v":0},{"$f":"IF(INTRO!$E$39<>\"Non-endemic\", 0, IF(INTRO!$E$37=\"Non-endemic\",0,IF(COUNTRY_INFO!$H84=1,COUNTRY_INFO!F84,0)))","v":0},{"$f":"IF(INTRO!$E$39<>\"Non-endemic\", 0, IF(INTRO!$E$37=\"Non-endemic\",0,IF(COUNTRY_INFO!$H84=1,COUNTRY_INFO!G84,0)))","v":0},0,{"$f":"IF(INTRO!$E$39=\"Non-endemic\",IF(INTRO!$E$37=\"Non-endemic\",\"Not required\",COUNTRY_INFO!P84),\"Treat with IVM\")","v":"Treat with IVM"},0,0,null,0,0]
[{"$f":"IF(INTRO!$E$39<>\"Non-endemic\", \" \", IF(INTRO!$E$37=\"Non-endemic\",\" \", IF(COUNTRY_INFO!A85=0,\" \",COUNTRY_INFO!A85)))","v":" "},{"$f":"IF(INTRO!$E$39<>\"Non-endemic\", \" \", IF(INTRO!$E$37=\"Non-endemic\",\" \", IF(COUNTRY_INFO!B85=0,\" \",COUNTRY_INFO!B85)))","v":" "},{"$f":"IF(INTRO!$E$39<>\"Non-endemic\", \" \", IF(INTRO!$E$37=\"Non-endemic\",\" \", IF(COUNTRY_INFO!C85=0,\" \",COUNTRY_INFO!C85)))","v":" "},{"$f":"IF(INTRO!$E$39<>\"Non-endemic\", 0, IF(INTRO!$E$37=\"Non-endemic\",0,IF(COUNTRY_INFO!$H85=1,COUNTRY_INFO!E85,0)))","v":0},{"$f":"IF(INTRO!$E$39<>\"Non-endemic\", 0, IF(INTRO!$E$37=\"Non-endemic\",0,IF(COUNTRY_INFO!$H85=1,COUNTRY_INFO!F85,0)))","v":0},{"$f":"IF(INTRO!$E$39<>\"Non-endemic\", 0, IF(INTRO!$E$37=\"Non-endemic\",0,IF(COUNTRY_INFO!$H85=1,COUNTRY_INFO!G85,0)))","v":0},0,{"$f":"IF(INTRO!$E$39=\"Non-endemic\",IF(INTRO!$E$37=\"Non-endemic\",\"Not required\",COUNTRY_INFO!P85),\"Treat with IVM\")","v":"Treat with IVM"},0,0,null,0,0]
[{"$f":"IF(INTRO!$E$39<>\"Non-endemic\", \" \", IF(INTRO!$E$37=\"Non-endemic\",\" \", IF(COUNTRY_INFO!A86=0,\" \",COUNTRY_INFO!A86)))","v":" "},{"$f":"IF(INTRO!$E$39<>\"Non-endemic\", \" \", IF(INTRO!$E$37=\"Non-endemic\",\" \", IF(COUNTRY_INFO!B86=0,\" \",COUNTRY_INFO!B86)))","v":" "},{"$f":"IF(INTRO!$E$39<>\"Non-endemic\", \" \", IF(INTRO!$E$37=\"Non-endemic\",\" \", IF(COUNTRY_INFO!C86=0,\" \",COUNTRY_INFO!C86)))","v":" "},{"$f":"IF(INTRO!$E$39<>\"Non-endemic\", 0, IF(INTRO!$E$37=\"Non-endemic\",0,IF(COUNTRY_INFO!$H86=1,COUNTRY_INFO!E86,0)))","v":0},{"$f":"IF(INTRO!$E$39<>\"Non-endemic\", 0, IF(INTRO!$E$37=\"Non-endemic\",0,IF(COUNTRY_INFO!$H86=1,COUNTRY_INFO!F86,0)))","v":0},{"$f":"IF(INTRO!$E$39<>\"Non-endemic\", 0, IF(INTRO!$E$37=\"Non-endemic\",0,IF(COUNTRY_INFO!$H86=1,COUNTRY_INFO!G86,0)))","v":0},0,{"$f":"IF(INTRO!$E$39=\"Non-endemic\",IF(INTRO!$E$37=\"Non-endemic\",\"Not required\",COUNTRY_INFO!P86),\"Treat with IVM\")","v":"Treat with IVM"},0,0,null,0,0]
[{"$f":"IF(INTRO!$E$39<>\"Non-endemic\", \" \", IF(INTRO!$E$37=\"Non-endemic\",\" \", IF(COUNTRY_INFO!A87=0,\" \",COUNTRY_INFO!A87)))","v":" "},{"$f":"IF(INTRO!$E$39<>\"Non-endemic\", \" \", IF(INTRO!$E$37=\"Non-endemic\",\" \", IF(COUNTRY_INFO!B87=0,\" \",COUNTRY_INFO!B87)))","v":" "},{"$f":"IF(INTRO!$E$39<>\"Non-endemic\", \" \", IF(INTRO!$E$37=\"Non-endemic\",\" \", IF(COUNTRY_INFO!C87=0,\" \",COUNTRY_INFO!C87)))","v":" "},{"$f":"IF(INTRO!$E$39<>\"Non-endemic\", 0, IF(INTRO!$E$37=\"Non-endemic\",0,IF(COUNTRY_INFO!$H87=1,COUNTRY_INFO!E87,0)))","v":0},{"$f":"IF(INTRO!$E$39<>\"Non-endemic\", 0, IF(INTRO!$E$37=\"Non-endemic\",0,IF(COUNTRY_INFO!$H87=1,COUNTRY_INFO!F87,0)))","v":0},{"$f":"IF(INTRO!$E$39<>\"Non-endemic\", 0, IF(INTRO!$E$37=\"Non-endemic\",0,IF(COUNTRY_INFO!$H87=1,COUNTRY_INFO!G87,0)))","v":0},0,{"$f":"IF(INTRO!$E$39=\"Non-endemic\",IF(INTRO!$E$37=\"Non-endemic\",\"Not required\",COUNTRY_INFO!P87),\"Treat with IVM\")","v":"Treat with IVM"},0,0,null,0,0]
[{"$f":"IF(INTRO!$E$39<>\"Non-endemic\", \" \", IF(INTRO!$E$37=\"Non-endemic\",\" \", IF(COUNTRY_INFO!A88=0,\" \",COUNTRY_INFO!A88)))","v":" "},{"$f":"IF(INTRO!$E$39<>\"Non-endemic\", \" \", IF(INTRO!$E$37=\"Non-endemic\",\" \", IF(COUNTRY_INFO!B88=0,\" \",COUNTRY_INFO!B88)))","v":" "},{"$f":"IF(INTRO!$E$39<>\"Non-endemic\", \" \", IF(INTRO!$E$37=\"Non-endemic\",\" \", IF(COUNTRY_INFO!C88=0,\" \",COUNTRY_INFO!C88)))","v":" "},{"$f":"IF(INTRO!$E$39<>\"Non-endemic\", 0, IF(INTRO!$E$37=\"Non-endemic\",0,IF(COUNTRY_INFO!$H88=1,COUNTRY_INFO!E88,0)))","v":0},{"$f":"IF(INTRO!$E$39<>\"Non-endemic\", 0, IF(INTRO!$E$37=\"Non-endemic\",0,IF(COUNTRY_INFO!$H88=1,COUNTRY_INFO!F88,0)))","v":0},{"$f":"IF(INTRO!$E$39<>\"Non-endemic\", 0, IF(INTRO!$E$37=\"Non-endemic\",0,IF(COUNTRY_INFO!$H88=1,COUNTRY_INFO!G88,0)))","v":0},0,{"$f":"IF(INTRO!$E$39=\"Non-endemic\",IF(INTRO!$E$37=\"Non-endemic\",\"Not required\",COUNTRY_INFO!P88),\"Treat with IVM\")","v":"Treat with IVM"},0,0,null,0,0]
[{"$f":"IF(INTRO!$E$39<>\"Non-endemic\", \" \", IF(INTRO!$E$37=\"Non-endemic\",\" \", IF(COUNTRY_INFO!A89=0,\" \",COUNTRY_INFO!A89)))","v":" "},{"$f":"IF(INTRO!$E$39<>\"Non-endemic\", \" \", IF(INTRO!$E$37=\"Non-endemic\",\" \", IF(COUNTRY_INFO!B89=0,\" \",COUNTRY_INFO!B89)))","v":" "},{"$f":"IF(INTRO!$E$39<>\"Non-endemic\", \" \", IF(INTRO!$E$37=\"Non-endemic\",\" \", IF(COUNTRY_INFO!C89=0,\" \",COUNTRY_INFO!C89)))","v":" "},{"$f":"IF(INTRO!$E$39<>\"Non-endemic\", 0, IF(INTRO!$E$37=\"Non-endemic\",0,IF(COUNTRY_INFO!$H89=1,COUNTRY_INFO!E89,0)))","v":0},{"$f":"IF(INTRO!$E$39<>\"Non-endemic\", 0, IF(INTRO!$E$37=\"Non-endemic\",0,IF(COUNTRY_INFO!$H89=1,COUNTRY_INFO!F89,0)))","v":0},{"$f":"IF(INTRO!$E$39<>\"Non-endemic\", 0, IF(INTRO!$E$37=\"Non-endemic\",0,IF(COUNTRY_INFO!$H89=1,COUNTRY_INFO!G89,0)))","v":0},0,{"$f":"IF(INTRO!$E$39=\"Non-endemic\",IF(INTRO!$E$37=\"Non-endemic\",\"Not required\",COUNTRY_INFO!P89),\"Treat with IVM\")","v":"Treat with IVM"},0,0,null,0,0]
[{"$f":"IF(INTRO!$E$39<>\"Non-endemic\", \" \", IF(INTRO!$E$37=\"Non-endemic\",\" \", IF(COUNTRY_INFO!A90=0,\" \",COUNTRY_INFO!A90)))","v":" "},{"$f":"IF(INTRO!$E$39<>\"Non-endemic\", \" \", IF(INTRO!$E$37=\"Non-endemic\",\" \", IF(COUNTRY_INFO!B90=0,\" \",COUNTRY_INFO!B90)))","v":" "},{"$f":"IF(INTRO!$E$39<>\"Non-endemic\", \" \", IF(INTRO!$E$37=\"Non-endemic\",\" \", IF(COUNTRY_INFO!C90=0,\" \",COUNTRY_INFO!C90)))","v":" "},{"$f":"IF(INTRO!$E$39<>\"Non-endemic\", 0, IF(INTRO!$E$37=\"Non-endemic\",0,IF(COUNTRY_INFO!$H90=1,COUNTRY_INFO!E90,0)))","v":0},{"$f":"IF(INTRO!$E$39<>\"Non-endemic\", 0, IF(INTRO!$E$37=\"Non-endemic\",0,IF(COUNTRY_INFO!$H90=1,COUNTRY_INFO!F90,0)))","v":0},{"$f":"IF(INTRO!$E$39<>\"Non-endemic\", 0, IF(INTRO!$E$37=\"Non-endemic\",0,IF(COUNTRY_INFO!$H90=1,COUNTRY_INFO!G90,0)))","v":0},0,{"$f":"IF(INTRO!$E$39=\"Non-endemic\",IF(INTRO!$E$37=\"Non-endemic\",\"Not required\",COUNTRY_INFO!P90),\"Treat with IVM\")","v":"Treat with IVM"},0,0,null,0,0]
[{"$f":"IF(INTRO!$E$39<>\"Non-endemic\", \" \", IF(INTRO!$E$37=\"Non-endemic\",\" \", IF(COUNTRY_INFO!A91=0,\" \",COUNTRY_INFO!A91)))","v":" "},{"$f":"IF(INTRO!$E$39<>\"Non-endemic\", \" \", IF(INTRO!$E$37=\"Non-endemic\",\" \", IF(COUNTRY_INFO!B91=0,\" \",COUNTRY_INFO!B91)))","v":" "},{"$f":"IF(INTRO!$E$39<>\"Non-endemic\", \" \", IF(INTRO!$E$37=\"Non-endemic\",\" \", IF(COUNTRY_INFO!C91=0,\" \",COUNTRY_INFO!C91)))","v":" "},{"$f":"IF(INTRO!$E$39<>\"Non-endemic\", 0, IF(INTRO!$E$37=\"Non-endemic\",0,IF(COUNTRY_INFO!$H91=1,COUNTRY_INFO!E91,0)))","v":0},{"$f":"IF(INTRO!$E$39<>\"Non-endemic\", 0, IF(INTRO!$E$37=\"Non-endemic\",0,IF(COUNTRY_INFO!$H91=1,COUNTRY_INFO!F91,0)))","v":0},{"$f":"IF(INTRO!$E$39<>\"Non-endemic\", 0, IF(INTRO!$E$37=\"Non-endemic\",0,IF(COUNTRY_INFO!$H91=1,COUNTRY_INFO!G91,0)))","v":0},0,{"$f":"IF(INTRO!$E$39=\"Non-endemic\",IF(INTRO!$E$37=\"Non-endemic\",\"Not required\",COUNTRY_INFO!P91),\"Treat with IVM\")","v":"Treat with IVM"},0,0,null,0,0]
[{"$f":"IF(INTRO!$E$39<>\"Non-endemic\", \" \", IF(INTRO!$E$37=\"Non-endemic\",\" \", IF(COUNTRY_INFO!A92=0,\" \",COUNTRY_INFO!A92)))","v":" "},{"$f":"IF(INTRO!$E$39<>\"Non-endemic\", \" \", IF(INTRO!$E$37=\"Non-endemic\",\" \", IF(COUNTRY_INFO!B92=0,\" \",COUNTRY_INFO!B92)))","v":" "},{"$f":"IF(INTRO!$E$39<>\"Non-endemic\", \" \", IF(INTRO!$E$37=\"Non-endemic\",\" \", IF(COUNTRY_INFO!C92=0,\" \",COUNTRY_INFO!C92)))","v":" "},{"$f":"IF(INTRO!$E$39<>\"Non-endemic\", 0, IF(INTRO!$E$37=\"Non-endemic\",0,IF(COUNTRY_INFO!$H92=1,COUNTRY_INFO!E92,0)))","v":0},{"$f":"IF(INTRO!$E$39<>\"Non-endemic\", 0, IF(INTRO!$E$37=\"Non-endemic\",0,IF(COUNTRY_INFO!$H92=1,COUNTRY_INFO!F92,0)))","v":0},{"$f":"IF(INTRO!$E$39<>\"Non-endemic\", 0, IF(INTRO!$E$37=\"Non-endemic\",0,IF(COUNTRY_INFO!$H92=1,COUNTRY_INFO!G92,0)))","v":0},0,{"$f":"IF(INTRO!$E$39=\"Non-endemic\",IF(INTRO!$E$37=\"Non-endemic\",\"Not required\",COUNTRY_INFO!P92),\"Treat with IVM\")","v":"Treat with IVM"},0,0,null,0,0]
[{"$f":"IF(INTRO!$E$39<>\"Non-endemic\", \" \", IF(INTRO!$E$37=\"Non-endemic\",\" \", IF(COUNTRY_INFO!A93=0,\" \",COUNTRY_INFO!A93)))","v":" "},{"$f":"IF(INTRO!$E$39<>\"Non-endemic\", \" \", IF(INTRO!$E$37=\"Non-endemic\",\" \", IF(COUNTRY_INFO!B93=0,\" \",COUNTRY_INFO!B93)))","v":" "},{"$f":"IF(INTRO!$E$39<>\"Non-endemic\", \" \", IF(INTRO!$E$37=\"Non-endemic\",\" \", IF(COUNTRY_INFO!C93=0,\" \",COUNTRY_INFO!C93)))","v":" "},{"$f":"IF(INTRO!$E$39<>\"Non-endemic\", 0, IF(INTRO!$E$37=\"Non-endemic\",0,IF(COUNTRY_INFO!$H93=1,COUNTRY_INFO!E93,0)))","v":0},{"$f":"IF(INTRO!$E$39<>\"Non-endemic\", 0, IF(INTRO!$E$37=\"Non-endemic\",0,IF(COUNTRY_INFO!$H93=1,COUNTRY_INFO!F93,0)))","v":0},{"$f":"IF(INTRO!$E$39<>\"Non-endemic\", 0, IF(INTRO!$E$37=\"Non-endemic\",0,IF(COUNTRY_INFO!$H93=1,COUNTRY_INFO!G93,0)))","v":0},0,{"$f":"IF(INTRO!$E$39=\"Non-endemic\",IF(INTRO!$E$37=\"Non-endemic\",\"Not required\",COUNTRY_INFO!P93),\"Treat with IVM\")","v":"Treat with IVM"},0,0,null,0,0]
[{"$f":"IF(INTRO!$E$39<>\"Non-endemic\", \" \", IF(INTRO!$E$37=\"Non-endemic\",\" \", IF(COUNTRY_INFO!A94=0,\" \",COUNTRY_INFO!A94)))","v":" "},{"$f":"IF(INTRO!$E$39<>\"Non-endemic\", \" \", IF(INTRO!$E$37=\"Non-endemic\",\" \", IF(COUNTRY_INFO!B94=0,\" \",COUNTRY_INFO!B94)))","v":" "},{"$f":"IF(INTRO!$E$39<>\"Non-endemic\", \" \", IF(INTRO!$E$37=\"Non-endemic\",\" \", IF(COUNTRY_INFO!C94=0,\" \",COUNTRY_INFO!C94)))","v":" "},{"$f":"IF(INTRO!$E$39<>\"Non-endemic\", 0, IF(INTRO!$E$37=\"Non-endemic\",0,IF(COUNTRY_INFO!$H94=1,COUNTRY_INFO!E94,0)))","v":0},{"$f":"IF(INTRO!$E$39<>\"Non-endemic\", 0, IF(INTRO!$E$37=\"Non-endemic\",0,IF(COUNTRY_INFO!$H94=1,COUNTRY_INFO!F94,0)))","v":0},{"$f":"IF(INTRO!$E$39<>\"Non-endemic\", 0, IF(INTRO!$E$37=\"Non-endemic\",0,IF(COUNTRY_INFO!$H94=1,COUNTRY_INFO!G94,0)))","v":0},0,{"$f":"IF(INTRO!$E$39=\"Non-endemic\",IF(INTRO!$E$37=\"Non-endemic\",\"Not required\",COUNTRY_INFO!P94),\"Treat with IVM\")","v":"Treat with IVM"},0,0,null,0,0]
[{"$f":"IF(INTRO!$E$39<>\"Non-endemic\", \" \", IF(INTRO!$E$37=\"Non-endemic\",\" \", IF(COUNTRY_INFO!A95=0,\" \",COUNTRY_INFO!A95)))","v":" "},{"$f":"IF(INTRO!$E$39<>\"Non-endemic\", \" \", IF(INTRO!$E$37=\"Non-endemic\",\" \", IF(COUNTRY_INFO!B95=0,\" \",COUNTRY_INFO!B95)))","v":" "},{"$f":"IF(INTRO!$E$39<>\"Non-endemic\", \" \", IF(INTRO!$E$37=\"Non-endemic\",\" \", IF(COUNTRY_INFO!C95=0,\" \",COUNTRY_INFO!C95)))","v":" "},{"$f":"IF(INTRO!$E$39<>\"Non-endemic\", 0, IF(INTRO!$E$37=\"Non-endemic\",0,IF(COUNTRY_INFO!$H95=1,COUNTRY_INFO!E95,0)))","v":0},{"$f":"IF(INTRO!$E$39<>\"Non-endemic\", 0, IF(INTRO!$E$37=\"Non-endemic\",0,IF(COUNTRY_INFO!$H95=1,COUNTRY_INFO!F95,0)))","v":0},{"$f":"IF(INTRO!$E$39<>\"Non-endemic\", 0, IF(INTRO!$E$37=\"Non-endemic\",0,IF(COUNTRY_INFO!$H95=1,COUNTRY_INFO!G95,0)))","v":0},0,{"$f":"IF(INTRO!$E$39=\"Non-endemic\",IF(INTRO!$E$37=\"Non-endemic\",\"Not required\",COUNTRY_INFO!P95),\"Treat with IVM\")","v":"Treat with IVM"},0,0,null,0,0]
[{"$f":"IF(INTRO!$E$39<>\"Non-endemic\", \" \", IF(INTRO!$E$37=\"Non-endemic\",\" \", IF(COUNTRY_INFO!A96=0,\" \",COUNTRY_INFO!A96)))","v":" "},{"$f":"IF(INTRO!$E$39<>\"Non-endemic\", \" \", IF(INTRO!$E$37=\"Non-endemic\",\" \", IF(COUNTRY_INFO!B96=0,\" \",COUNTRY_INFO!B96)))","v":" "},{"$f":"IF(INTRO!$E$39<>\"Non-endemic\", \" \", IF(INTRO!$E$37=\"Non-endemic\",\" \", IF(COUNTRY_INFO!C96=0,\" \",COUNTRY_INFO!C96)))","v":" "},{"$f":"IF(INTRO!$E$39<>\"Non-endemic\", 0, IF(INTRO!$E$37=\"Non-endemic\",0,IF(COUNTRY_INFO!$H96=1,COUNTRY_INFO!E96,0)))","v":0},{"$f":"IF(INTRO!$E$39<>\"Non-endemic\", 0, IF(INTRO!$E$37=\"Non-endemic\",0,IF(COUNTRY_INFO!$H96=1,COUNTRY_INFO!F96,0)))","v":0},{"$f":"IF(INTRO!$E$39<>\"Non-endemic\", 0, IF(INTRO!$E$37=\"Non-endemic\",0,IF(COUNTRY_INFO!$H96=1,COUNTRY_INFO!G96,0)))","v":0},0,{"$f":"IF(INTRO!$E$39=\"Non-endemic\",IF(INTRO!$E$37=\"Non-endemic\",\"Not required\",COUNTRY_INFO!P96),\"Treat with IVM\")","v":"Treat with IVM"},0,0,null,0,0]
[{"$f":"IF(INTRO!$E$39<>\"Non-endemic\", \" \", IF(INTRO!$E$37=\"Non-endemic\",\" \", IF(COUNTRY_INFO!A97=0,\" \",COUNTRY_INFO!A97)))","v":" "},{"$f":"IF(INTRO!$E$39<>\"Non-endemic\", \" \", IF(INTRO!$E$37=\"Non-endemic\",\" \", IF(COUNTRY_INFO!B97=0,\" \",COUNTRY_INFO!B97)))","v":" "},{"$f":"IF(INTRO!$E$39<>\"Non-endemic\", \" \", IF(INTRO!$E$37=\"Non-endemic\",\" \", IF(COUNTRY_INFO!C97=0,\" \",COUNTRY_INFO!C97)))","v":" "},{"$f":"IF(INTRO!$E$39<>\"Non-endemic\", 0, IF(INTRO!$E$37=\"Non-endemic\",0,IF(COUNTRY_INFO!$H97=1,COUNTRY_INFO!E97,0)))","v":0},{"$f":"IF(INTRO!$E$39<>\"Non-endemic\", 0, IF(INTRO!$E$37=\"Non-endemic\",0,IF(COUNTRY_INFO!$H97=1,COUNTRY_INFO!F97,0)))","v":0},{"$f":"IF(INTRO!$E$39<>\"Non-endemic\", 0, IF(INTRO!$E$37=\"Non-endemic\",0,IF(COUNTRY_INFO!$H97=1,COUNTRY_INFO!G97,0)))","v":0},0,{"$f":"IF(INTRO!$E$39=\"Non-endemic\",IF(INTRO!$E$37=\"Non-endemic\",\"Not required\",COUNTRY_INFO!P97),\"Treat with IVM\")","v":"Treat with IVM"},0,0,null,0,0]
[{"$f":"IF(INTRO!$E$39<>\"Non-endemic\", \" \", IF(INTRO!$E$37=\"Non-endemic\",\" \", IF(COUNTRY_INFO!A98=0,\" \",COUNTRY_INFO!A98)))","v":" "},{"$f":"IF(INTRO!$E$39<>\"Non-endemic\", \" \", IF(INTRO!$E$37=\"Non-endemic\",\" \", IF(COUNTRY_INFO!B98=0,\" \",COUNTRY_INFO!B98)))","v":" "},{"$f":"IF(INTRO!$E$39<>\"Non-endemic\", \" \", IF(INTRO!$E$37=\"Non-endemic\",\" \", IF(COUNTRY_INFO!C98=0,\" \",COUNTRY_INFO!C98)))","v":" "},{"$f":"IF(INTRO!$E$39<>\"Non-endemic\", 0, IF(INTRO!$E$37=\"Non-endemic\",0,IF(COUNTRY_INFO!$H98=1,COUNTRY_INFO!E98,0)))","v":0},{"$f":"IF(INTRO!$E$39<>\"Non-endemic\", 0, IF(INTRO!$E$37=\"Non-endemic\",0,IF(COUNTRY_INFO!$H98=1,COUNTRY_INFO!F98,0)))","v":0},{"$f":"IF(INTRO!$E$39<>\"Non-endemic\", 0, IF(INTRO!$E$37=\"Non-endemic\",0,IF(COUNTRY_INFO!$H98=1,COUNTRY_INFO!G98,0)))","v":0},0,{"$f":"IF(INTRO!$E$39=\"Non-endemic\",IF(INTRO!$E$37=\"Non-endemic\",\"Not required\",COUNTRY_INFO!P98),\"Treat with IVM\")","v":"Treat with IVM"},0,0,null,0,0]
[{"$f":"IF(INTRO!$E$39<>\"Non-endemic\", \" \", IF(INTRO!$E$37=\"Non-endemic\",\" \", IF(COUNTRY_INFO!A99=0,\" \",COUNTRY_INFO!A99)))","v":" "},{"$f":"IF(INTRO!$E$39<>\"Non-endemic\", \" \", IF(INTRO!$E$37=\"Non-endemic\",\" \", IF(COUNTRY_INFO!B99=0,\" \",COUNTRY_INFO!B99)))","v":" "},{"$f":"IF(INTRO!$E$39<>\"Non-endemic\", \" \", IF(INTRO!$E$37=\"Non-endemic\",\" \", IF(COUNTRY_INFO!C99=0,\" \",COUNTRY_INFO!C99)))","v":" "},{"$f":"IF(INTRO!$E$39<>\"Non-endemic\", 0, IF(INTRO!$E$37=\"Non-endemic\",0,IF(COUNTRY_INFO!$H99=1,COUNTRY_INFO!E99,0)))","v":0},{"$f":"IF(INTRO!$E$39<>\"Non-endemic\", 0, IF(INTRO!$E$37=\"Non-endemic\",0,IF(COUNTRY_INFO!$H99=1,COUNTRY_INFO!F99,0)))","v":0},{"$f":"IF(INTRO!$E$39<>\"Non-endemic\", 0, IF(INTRO!$E$37=\"Non-endemic\",0,IF(COUNTRY_INFO!$H99=1,COUNTRY_INFO!G99,0)))","v":0},0,{"$f":"IF(INTRO!$E$39=\"Non-endemic\",IF(INTRO!$E$37=\"Non-endemic\",\"Not required\",COUNTRY_INFO!P99),\"Treat with IVM\")","v":"Treat with IVM"},0,0,null,0,0]
[{"$f":"IF(INTRO!$E$39<>\"Non-endemic\", \" \", IF(INTRO!$E$37=\"Non-endemic\",\" \", IF(COUNTRY_INFO!A100=0,\" \",COUNTRY_INFO!A100)))","v":" "},{"$f":"IF(INTRO!$E$39<>\"Non-endemic\", \" \", IF(INTRO!$E$37=\"Non-endemic\",\" \", IF(COUNTRY_INFO!B100=0,\" \",COUNTRY_INFO!B100)))","v":" "},{"$f":"IF(INTRO!$E$39<>\"Non-endemic\", \" \", IF(INTRO!$E$37=\"Non-endemic\",\" \", IF(COUNTRY_INFO!C100=0,\" \",COUNTRY_INFO!C100)))","v":" "},{"$f":"IF(INTRO!$E$39<>\"Non-endemic\", 0, IF(INTRO!$E$37=\"Non-endemic\",0,IF(COUNTRY_INFO!$H100=1,COUNTRY_INFO!E100,0)))","v":0},{"$f":"IF(INTRO!$E$39<>\"Non-endemic\", 0, IF(INTRO!$E$37=\"Non-endemic\",0,IF(COUNTRY_INFO!$H100=1,COUNTRY_INFO!F100,0)))","v":0},{"$f":"IF(INTRO!$E$39<>\"Non-endemic\", 0, IF(INTRO!$E$37=\"Non-endemic\",0,IF(COUNTRY_INFO!$H100=1,COUNTRY_INFO!G100,0)))","v":0},0,{"$f":"IF(INTRO!$E$39=\"Non-endemic\",IF(INTRO!$E$37=\"Non-endemic\",\"Not required\",COUNTRY_INFO!P100),\"Treat with IVM\")","v":"Treat with IVM"},0,0,null,0,0]
[{"$f":"IF(INTRO!$E$39<>\"Non-endemic\", \" \", IF(INTRO!$E$37=\"Non-endemic\",\" \", IF(COUNTRY_INFO!A101=0,\" \",COUNTRY_INFO!A101)))","v":" "},{"$f":"IF(INTRO!$E$39<>\"Non-endemic\", \" \", IF(INTRO!$E$37=\"Non-endemic\",\" \", IF(COUNTRY_INFO!B101=0,\" \",COUNTRY_INFO!B101)))","v":" "},{"$f":"IF(INTRO!$E$39<>\"Non-endemic\", \" \", IF(INTRO!$E$37=\"Non-endemic\",\" \", IF(COUNTRY_INFO!C101=0,\" \",COUNTRY_INFO!C101)))","v":" "},{"$f":"IF(INTRO!$E$39<>\"Non-endemic\", 0, IF(INTRO!$E$37=\"Non-endemic\",0,IF(COUNTRY_INFO!$H101=1,COUNTRY_INFO!E101,0)))","v":0},{"$f":"IF(INTRO!$E$39<>\"Non-endemic\", 0, IF(INTRO!$E$37=\"Non-endemic\",0,IF(COUNTRY_INFO!$H101=1,COUNTRY_INFO!F101,0)))","v":0},{"$f":"IF(INTRO!$E$39<>\"Non-endemic\", 0, IF(INTRO!$E$37=\"Non-endemic\",0,IF(COUNTRY_INFO!$H101=1,COUNTRY_INFO!G101,0)))","v":0},0,{"$f":"IF(INTRO!$E$39=\"Non-endemic\",IF(INTRO!$E$37=\"Non-endemic\",\"Not required\",COUNTRY_INFO!P101),\"Treat with IVM\")","v":"Treat with IVM"},0,0,null,0,0]
[{"$f":"IF(INTRO!$E$39<>\"Non-endemic\", \" \", IF(INTRO!$E$37=\"Non-endemic\",\" \", IF(COUNTRY_INFO!A102=0,\" \",COUNTRY_INFO!A102)))","v":" "},{"$f":"IF(INTRO!$E$39<>\"Non-endemic\", \" \", IF(INTRO!$E$37=\"Non-endemic\",\" \", IF(COUNTRY_INFO!B102=0,\" \",COUNTRY_INFO!B102)))","v":" "},{"$f":"IF(INTRO!$E$39<>\"Non-endemic\", \" \", IF(INTRO!$E$37=\"Non-endemic\",\" \", IF(COUNTRY_INFO!C102=0,\" \",COUNTRY_INFO!C102)))","v":" "},{"$f":"IF(INTRO!$E$39<>\"Non-endemic\", 0, IF(INTRO!$E$37=\"Non-endemic\",0,IF(COUNTRY_INFO!$H102=1,COUNTRY_INFO!E102,0)))","v":0},{"$f":"IF(INTRO!$E$39<>\"Non-endemic\", 0, IF(INTRO!$E$37=\"Non-endemic\",0,IF(COUNTRY_INFO!$H102=1,COUNTRY_INFO!F102,0)))","v":0},{"$f":"IF(INTRO!$E$39<>\"Non-endemic\", 0, IF(INTRO!$E$37=\"Non-endemic\",0,IF(COUNTRY_INFO!$H102=1,COUNTRY_INFO!G102,0)))","v":0},0,{"$f":"IF(INTRO!$E$39=\"Non-endemic\",IF(INTRO!$E$37=\"Non-endemic\",\"Not required\",COUNTRY_INFO!P102),\"Treat with IVM\")","v":"Treat with IVM"},0,0,null,0,0]
[{"$f":"IF(INTRO!$E$39<>\"Non-endemic\", \" \", IF(INTRO!$E$37=\"Non-endemic\",\" \", IF(COUNTRY_INFO!A103=0,\" \",COUNTRY_INFO!A103)))","v":" "},{"$f":"IF(INTRO!$E$39<>\"Non-endemic\", \" \", IF(INTRO!$E$37=\"Non-endemic\",\" \", IF(COUNTRY_INFO!B103=0,\" \",COUNTRY_INFO!B103)))","v":" "},{"$f":"IF(INTRO!$E$39<>\"Non-endemic\", \" \", IF(INTRO!$E$37=\"Non-endemic\",\" \", IF(COUNTRY_INFO!C103=0,\" \",COUNTRY_INFO!C103)))","v":" "},{"$f":"IF(INTRO!$E$39<>\"Non-endemic\", 0, IF(INTRO!$E$37=\"Non-endemic\",0,IF(COUNTRY_INFO!$H103=1,COUNTRY_INFO!E103,0)))","v":0},{"$f":"IF(INTRO!$E$39<>\"Non-endemic\", 0, IF(INTRO!$E$37=\"Non-endemic\",0,IF(COUNTRY_INFO!$H103=1,COUNTRY_INFO!F103,0)))","v":0},{"$f":"IF(INTRO!$E$39<>\"Non-endemic\", 0, IF(INTRO!$E$37=\"Non-endemic\",0,IF(COUNTRY_INFO!$H103=1,COUNTRY_INFO!G103,0)))","v":0},0,{"$f":"IF(INTRO!$E$39=\"Non-endemic\",IF(INTRO!$E$37=\"Non-endemic\",\"Not required\",COUNTRY_INFO!P103),\"Treat with IVM\")","v":"Treat with IVM"},0,0,null,0,0]
[{"$f":"IF(INTRO!$E$39<>\"Non-endemic\", \" \", IF(INTRO!$E$37=\"Non-endemic\",\" \", IF(COUNTRY_INFO!A104=0,\" \",COUNTRY_INFO!A104)))","v":" "},{"$f":"IF(INTRO!$E$39<>\"Non-endemic\", \" \", IF(INTRO!$E$37=\"Non-endemic\",\" \", IF(COUNTRY_INFO!B104=0,\" \",COUNTRY_INFO!B104)))","v":" "},{"$f":"IF(INTRO!$E$39<>\"Non-endemic\", \" \", IF(INTRO!$E$37=\"Non-endemic\",\" \", IF(COUNTRY_INFO!C104=0,\" \",COUNTRY_INFO!C104)))","v":" "},{"$f":"IF(INTRO!$E$39<>\"Non-endemic\", 0, IF(INTRO!$E$37=\"Non-endemic\",0,IF(COUNTRY_INFO!$H104=1,COUNTRY_INFO!E104,0)))","v":0},{"$f":"IF(INTRO!$E$39<>\"Non-endemic\", 0, IF(INTRO!$E$37=\"Non-endemic\",0,IF(COUNTRY_INFO!$H104=1,COUNTRY_INFO!F104,0)))","v":0},{"$f":"IF(INTRO!$E$39<>\"Non-endemic\", 0, IF(INTRO!$E$37=\"Non-endemic\",0,IF(COUNTRY_INFO!$H104=1,COUNTRY_INFO!G104,0)))","v":0},0,{"$f":"IF(INTRO!$E$39=\"Non-endemic\",IF(INTRO!$E$37=\"Non-endemic\",\"Not required\",COUNTRY_INFO!P104),\"Treat with IVM\")","v":"Treat with IVM"},0,0,null,0,0]
[{"$f":"IF(INTRO!$E$39<>\"Non-endemic\", \" \", IF(INTRO!$E$37=\"Non-endemic\",\" \", IF(COUNTRY_INFO!A105=0,\" \",COUNTRY_INFO!A105)))","v":" "},{"$f":"IF(INTRO!$E$39<>\"Non-endemic\", \" \", IF(INTRO!$E$37=\"Non-endemic\",\" \", IF(COUNTRY_INFO!B105=0,\" \",COUNTRY_INFO!B105)))","v":" "},{"$f":"IF(INTRO!$E$39<>\"Non-endemic\", \" \", IF(INTRO!$E$37=\"Non-endemic\",\" \", IF(COUNTRY_INFO!C105=0,\" \",COUNTRY_INFO!C105)))","v":" "},{"$f":"IF(INTRO!$E$39<>\"Non-endemic\", 0, IF(INTRO!$E$37=\"Non-endemic\",0,IF(COUNTRY_INFO!$H105=1,COUNTRY_INFO!E105,0)))","v":0},{"$f":"IF(INTRO!$E$39<>\"Non-endemic\", 0, IF(INTRO!$E$37=\"Non-endemic\",0,IF(COUNTRY_INFO!$H105=1,COUNTRY_INFO!F105,0)))","v":0},{"$f":"IF(INTRO!$E$39<>\"Non-endemic\", 0, IF(INTRO!$E$37=\"Non-endemic\",0,IF(COUNTRY_INFO!$H105=1,COUNTRY_INFO!G105,0)))","v":0},0,{"$f":"IF(INTRO!$E$39=\"Non-endemic\",IF(INTRO!$E$37=\"Non-endemic\",\"Not required\",COUNTRY_INFO!P105),\"Treat with IVM\")","v":"Treat with IVM"},0,0,null,0,0]
[{"$f":"IF(INTRO!$E$39<>\"Non-endemic\", \" \", IF(INTRO!$E$37=\"Non-endemic\",\" \", IF(COUNTRY_INFO!A106=0,\" \",COUNTRY_INFO!A106)))","v":" "},{"$f":"IF(INTRO!$E$39<>\"Non-endemic\", \" \", IF(INTRO!$E$37=\"Non-endemic\",\" \", IF(COUNTRY_INFO!B106=0,\" \",COUNTRY_INFO!B106)))","v":" "},{"$f":"IF(INTRO!$E$39<>\"Non-endemic\", \" \", IF(INTRO!$E$37=\"Non-endemic\",\" \", IF(COUNTRY_INFO!C106=0,\" \",COUNTRY_INFO!C106)))","v":" "},{"$f":"IF(INTRO!$E$39<>\"Non-endemic\", 0, IF(INTRO!$E$37=\"Non-endemic\",0,IF(COUNTRY_INFO!$H106=1,COUNTRY_INFO!E106,0)))","v":0},{"$f":"IF(INTRO!$E$39<>\"Non-endemic\", 0, IF(INTRO!$E$37=\"Non-endemic\",0,IF(COUNTRY_INFO!$H106=1,COUNTRY_INFO!F106,0)))","v":0},{"$f":"IF(INTRO!$E$39<>\"Non-endemic\", 0, IF(INTRO!$E$37=\"Non-endemic\",0,IF(COUNTRY_INFO!$H106=1,COUNTRY_INFO!G106,0)))","v":0},0,{"$f":"IF(INTRO!$E$39=\"Non-endemic\",IF(INTRO!$E$37=\"Non-endemic\",\"Not required\",COUNTRY_INFO!P106),\"Treat with IVM\")","v":"Treat with IVM"},0,0,null,0,0]
[{"$f":"IF(INTRO!$E$39<>\"Non-endemic\", \" \", IF(INTRO!$E$37=\"Non-endemic\",\" \", IF(COUNTRY_INFO!A107=0,\" \",COUNTRY_INFO!A107)))","v":" "},{"$f":"IF(INTRO!$E$39<>\"Non-endemic\", \" \", IF(INTRO!$E$37=\"Non-endemic\",\" \", IF(COUNTRY_INFO!B107=0,\" \",COUNTRY_INFO!B107)))","v":" "},{"$f":"IF(INTRO!$E$39<>\"Non-endemic\", \" \", IF(INTRO!$E$37=\"Non-endemic\",\" \", IF(COUNTRY_INFO!C107=0,\" \",COUNTRY_INFO!C107)))","v":" "},{"$f":"IF(INTRO!$E$39<>\"Non-endemic\", 0, IF(INTRO!$E$37=\"Non-endemic\",0,IF(COUNTRY_INFO!$H107=1,COUNTRY_INFO!E107,0)))","v":0},{"$f":"IF(INTRO!$E$39<>\"Non-endemic\", 0, IF(INTRO!$E$37=\"Non-endemic\",0,IF(COUNTRY_INFO!$H107=1,COUNTRY_INFO!F107,0)))","v":0},{"$f":"IF(INTRO!$E$39<>\"Non-endemic\", 0, IF(INTRO!$E$37=\"Non-endemic\",0,IF(COUNTRY_INFO!$H107=1,COUNTRY_INFO!G107,0)))","v":0},0,{"$f":"IF(INTRO!$E$39=\"Non-endemic\",IF(INTRO!$E$37=\"Non-endemic\",\"Not required\",COUNTRY_INFO!P107),\"Treat with IVM\")","v":"Treat with IVM"},0,0,null,0,0]
[{"$f":"IF(INTRO!$E$39<>\"Non-endemic\", \" \", IF(INTRO!$E$37=\"Non-endemic\",\" \", IF(COUNTRY_INFO!A108=0,\" \",COUNTRY_INFO!A108)))","v":" "},{"$f":"IF(INTRO!$E$39<>\"Non-endemic\", \" \", IF(INTRO!$E$37=\"Non-endemic\",\" \", IF(COUNTRY_INFO!B108=0,\" \",COUNTRY_INFO!B108)))","v":" "},{"$f":"IF(INTRO!$E$39<>\"Non-endemic\", \" \", IF(INTRO!$E$37=\"Non-endemic\",\" \", IF(COUNTRY_INFO!C108=0,\" \",COUNTRY_INFO!C108)))","v":" "},{"$f":"IF(INTRO!$E$39<>\"Non-endemic\", 0, IF(INTRO!$E$37=\"Non-endemic\",0,IF(COUNTRY_INFO!$H108=1,COUNTRY_INFO!E108,0)))","v":0},{"$f":"IF(INTRO!$E$39<>\"Non-endemic\", 0, IF(INTRO!$E$37=\"Non-endemic\",0,IF(COUNTRY_INFO!$H108=1,COUNTRY_INFO!F108,0)))","v":0},{"$f":"IF(INTRO!$E$39<>\"Non-endemic\", 0, IF(INTRO!$E$37=\"Non-endemic\",0,IF(COUNTRY_INFO!$H108=1,COUNTRY_INFO!G108,0)))","v":0},0,{"$f":"IF(INTRO!$E$39=\"Non-endemic\",IF(INTRO!$E$37=\"Non-endemic\",\"Not required\",COUNTRY_INFO!P108),\"Treat with IVM\")","v":"Treat with IVM"},0,0,null,0,0]
[{"$f":"IF(INTRO!$E$39<>\"Non-endemic\", \" \", IF(INTRO!$E$37=\"Non-endemic\",\" \", IF(COUNTRY_INFO!A109=0,\" \",COUNTRY_INFO!A109)))","v":" "},{"$f":"IF(INTRO!$E$39<>\"Non-endemic\", \" \", IF(INTRO!$E$37=\"Non-endemic\",\" \", IF(COUNTRY_INFO!B109=0,\" \",COUNTRY_INFO!B109)))","v":" "},{"$f":"IF(INTRO!$E$39<>\"Non-endemic\", \" \", IF(INTRO!$E$37=\"Non-endemic\",\" \", IF(COUNTRY_INFO!C109=0,\" \",COUNTRY_INFO!C109)))","v":" "},{"$f":"IF(INTRO!$E$39<>\"Non-endemic\", 0, IF(INTRO!$E$37=\"Non-endemic\",0,IF(COUNTRY_INFO!$H109=1,COUNTRY_INFO!E109,0)))","v":0},{"$f":"IF(INTRO!$E$39<>\"Non-endemic\", 0, IF(INTRO!$E$37=\"Non-endemic\",0,IF(COUNTRY_INFO!$H109=1,COUNTRY_INFO!F109,0)))","v":0},{"$f":"IF(INTRO!$E$39<>\"Non-endemic\", 0, IF(INTRO!$E$37=\"Non-endemic\",0,IF(COUNTRY_INFO!$H109=1,COUNTRY_INFO!G109,0)))","v":0},0,{"$f":"IF(INTRO!$E$39=\"Non-endemic\",IF(INTRO!$E$37=\"Non-endemic\",\"Not required\",COUNTRY_INFO!P109),\"Treat with IVM\")","v":"Treat with IVM"},0,0,null,0,0]
[{"$f":"IF(INTRO!$E$39<>\"Non-endemic\", \" \", IF(INTRO!$E$37=\"Non-endemic\",\" \", IF(COUNTRY_INFO!A110=0,\" \",COUNTRY_INFO!A110)))","v":" "},{"$f":"IF(INTRO!$E$39<>\"Non-endemic\", \" \", IF(INTRO!$E$37=\"Non-endemic\",\" \", IF(COUNTRY_INFO!B110=0,\" \",COUNTRY_INFO!B110)))","v":" "},{"$f":"IF(INTRO!$E$39<>\"Non-endemic\", \" \", IF(INTRO!$E$37=\"Non-endemic\",\" \", IF(COUNTRY_INFO!C110=0,\" \",COUNTRY_INFO!C110)))","v":" "},{"$f":"IF(INTRO!$E$39<>\"Non-endemic\", 0, IF(INTRO!$E$37=\"Non-endemic\",0,IF(COUNTRY_INFO!$H110=1,COUNTRY_INFO!E110,0)))","v":0},{"$f":"IF(INTRO!$E$39<>\"Non-endemic\", 0, IF(INTRO!$E$37=\"Non-endemic\",0,IF(COUNTRY_INFO!$H110=1,COUNTRY_INFO!F110,0)))","v":0},{"$f":"IF(INTRO!$E$39<>\"Non-endemic\", 0, IF(INTRO!$E$37=\"Non-endemic\",0,IF(COUNTRY_INFO!$H110=1,COUNTRY_INFO!G110,0)))","v":0},0,{"$f":"IF(INTRO!$E$39=\"Non-endemic\",IF(INTRO!$E$37=\"Non-endemic\",\"Not required\",COUNTRY_INFO!P110),\"Treat with IVM\")","v":"Treat with IVM"},0,0,null,0,0]
[{"$f":"IF(INTRO!$E$39<>\"Non-endemic\", \" \", IF(INTRO!$E$37=\"Non-endemic\",\" \", IF(COUNTRY_INFO!A111=0,\" \",COUNTRY_INFO!A111)))","v":" "},{"$f":"IF(INTRO!$E$39<>\"Non-endemic\", \" \", IF(INTRO!$E$37=\"Non-endemic\",\" \", IF(COUNTRY_INFO!B111=0,\" \",COUNTRY_INFO!B111)))","v":" "},{"$f":"IF(INTRO!$E$39<>\"Non-endemic\", \" \", IF(INTRO!$E$37=\"Non-endemic\",\" \", IF(COUNTRY_INFO!C111=0,\" \",COUNTRY_INFO!C111)))","v":" "},{"$f":"IF(INTRO!$E$39<>\"Non-endemic\", 0, IF(INTRO!$E$37=\"Non-endemic\",0,IF(COUNTRY_INFO!$H111=1,COUNTRY_INFO!E111,0)))","v":0},{"$f":"IF(INTRO!$E$39<>\"Non-endemic\", 0, IF(INTRO!$E$37=\"Non-endemic\",0,IF(COUNTRY_INFO!$H111=1,COUNTRY_INFO!F111,0)))","v":0},{"$f":"IF(INTRO!$E$39<>\"Non-endemic\", 0, IF(INTRO!$E$37=\"Non-endemic\",0,IF(COUNTRY_INFO!$H111=1,COUNTRY_INFO!G111,0)))","v":0},0,{"$f":"IF(INTRO!$E$39=\"Non-endemic\",IF(INTRO!$E$37=\"Non-endemic\",\"Not required\",COUNTRY_INFO!P111),\"Treat with IVM\")","v":"Treat with IVM"},0,0,null,0,0]
[{"$f":"IF(INTRO!$E$39<>\"Non-endemic\", \" \", IF(INTRO!$E$37=\"Non-endemic\",\" \", IF(COUNTRY_INFO!A112=0,\" \",COUNTRY_INFO!A112)))","v":" "},{"$f":"IF(INTRO!$E$39<>\"Non-endemic\", \" \", IF(INTRO!$E$37=\"Non-endemic\",\" \", IF(COUNTRY_INFO!B112=0,\" \",COUNTRY_INFO!B112)))","v":" "},{"$f":"IF(INTRO!$E$39<>\"Non-endemic\", \" \", IF(INTRO!$E$37=\"Non-endemic\",\" \", IF(COUNTRY_INFO!C112=0,\" \",COUNTRY_INFO!C112)))","v":" "},{"$f":"IF(INTRO!$E$39<>\"Non-endemic\", 0, IF(INTRO!$E$37=\"Non-endemic\",0,IF(COUNTRY_INFO!$H112=1,COUNTRY_INFO!E112,0)))","v":0},{"$f":"IF(INTRO!$E$39<>\"Non-endemic\", 0, IF(INTRO!$E$37=\"Non-endemic\",0,IF(COUNTRY_INFO!$H112=1,COUNTRY_INFO!F112,0)))","v":0},{"$f":"IF(INTRO!$E$39<>\"Non-endemic\", 0, IF(INTRO!$E$37=\"Non-endemic\",0,IF(COUNTRY_INFO!$H112=1,COUNTRY_INFO!G112,0)))","v":0},0,{"$f":"IF(INTRO!$E$39=\"Non-endemic\",IF(INTRO!$E$37=\"Non-endemic\",\"Not required\",COUNTRY_INFO!P112),\"Treat with IVM\")","v":"Treat with IVM"},0,0,null,0,0]
[{"$f":"IF(INTRO!$E$39<>\"Non-endemic\", \" \", IF(INTRO!$E$37=\"Non-endemic\",\" \", IF(COUNTRY_INFO!A113=0,\" \",COUNTRY_INFO!A113)))","v":" "},{"$f":"IF(INTRO!$E$39<>\"Non-endemic\", \" \", IF(INTRO!$E$37=\"Non-endemic\",\" \", IF(COUNTRY_INFO!B113=0,\" \",COUNTRY_INFO!B113)))","v":" "},{"$f":"IF(INTRO!$E$39<>\"Non-endemic\", \" \", IF(INTRO!$E$37=\"Non-endemic\",\" \", IF(COUNTRY_INFO!C113=0,\" \",COUNTRY_INFO!C113)))","v":" "},{"$f":"IF(INTRO!$E$39<>\"Non-endemic\", 0, IF(INTRO!$E$37=\"Non-endemic\",0,IF(COUNTRY_INFO!$H113=1,COUNTRY_INFO!E113,0)))","v":0},{"$f":"IF(INTRO!$E$39<>\"Non-endemic\", 0, IF(INTRO!$E$37=\"Non-endemic\",0,IF(COUNTRY_INFO!$H113=1,COUNTRY_INFO!F113,0)))","v":0},{"$f":"IF(INTRO!$E$39<>\"Non-endemic\", 0, IF(INTRO!$E$37=\"Non-endemic\",0,IF(COUNTRY_INFO!$H113=1,COUNTRY_INFO!G113,0)))","v":0},0,{"$f":"IF(INTRO!$E$39=\"Non-endemic\",IF(INTRO!$E$37=\"Non-endemic\",\"Not required\",COUNTRY_INFO!P113),\"Treat with IVM\")","v":"Treat with IVM"},0,0,null,0,0]
[{"$f":"IF(INTRO!$E$39<>\"Non-endemic\", \" \", IF(INTRO!$E$37=\"Non-endemic\",\" \", IF(COUNTRY_INFO!A114=0,\" \",COUNTRY_INFO!A114)))","v":" "},{"$f":"IF(INTRO!$E$39<>\"Non-endemic\", \" \", IF(INTRO!$E$37=\"Non-endemic\",\" \", IF(COUNTRY_INFO!B114=0,\" \",COUNTRY_INFO!B114)))","v":" "},{"$f":"IF(INTRO!$E$39<>\"Non-endemic\", \" \", IF(INTRO!$E$37=\"Non-endemic\",\" \", IF(COUNTRY_INFO!C114=0,\" \",COUNTRY_INFO!C114)))","v":" "},{"$f":"IF(INTRO!$E$39<>\"Non-endemic\", 0, IF(INTRO!$E$37=\"Non-endemic\",0,IF(COUNTRY_INFO!$H114=1,COUNTRY_INFO!E114,0)))","v":0},{"$f":"IF(INTRO!$E$39<>\"Non-endemic\", 0, IF(INTRO!$E$37=\"Non-endemic\",0,IF(COUNTRY_INFO!$H114=1,COUNTRY_INFO!F114,0)))","v":0},{"$f":"IF(INTRO!$E$39<>\"Non-endemic\", 0, IF(INTRO!$E$37=\"Non-endemic\",0,IF(COUNTRY_INFO!$H114=1,COUNTRY_INFO!G114,0)))","v":0},0,{"$f":"IF(INTRO!$E$39=\"Non-endemic\",IF(INTRO!$E$37=\"Non-endemic\",\"Not required\",COUNTRY_INFO!P114),\"Treat with IVM\")","v":"Treat with IVM"},0,0,null,0,0]
[{"$f":"IF(INTRO!$E$39<>\"Non-endemic\", \" \", IF(INTRO!$E$37=\"Non-endemic\",\" \", IF(COUNTRY_INFO!A115=0,\" \",COUNTRY_INFO!A115)))","v":" "},{"$f":"IF(INTRO!$E$39<>\"Non-endemic\", \" \", IF(INTRO!$E$37=\"Non-endemic\",\" \", IF(COUNTRY_INFO!B115=0,\" \",COUNTRY_INFO!B115)))","v":" "},{"$f":"IF(INTRO!$E$39<>\"Non-endemic\", \" \", IF(INTRO!$E$37=\"Non-endemic\",\" \", IF(COUNTRY_INFO!C115=0,\" \",COUNTRY_INFO!C115)))","v":" "},{"$f":"IF(INTRO!$E$39<>\"Non-endemic\", 0, IF(INTRO!$E$37=\"Non-endemic\",0,IF(COUNTRY_INFO!$H115=1,COUNTRY_INFO!E115,0)))","v":0},{"$f":"IF(INTRO!$E$39<>\"Non-endemic\", 0, IF(INTRO!$E$37=\"Non-endemic\",0,IF(COUNTRY_INFO!$H115=1,COUNTRY_INFO!F115,0)))","v":0},{"$f":"IF(INTRO!$E$39<>\"Non-endemic\", 0, IF(INTRO!$E$37=\"Non-endemic\",0,IF(COUNTRY_INFO!$H115=1,COUNTRY_INFO!G115,0)))","v":0},0,{"$f":"IF(INTRO!$E$39=\"Non-endemic\",IF(INTRO!$E$37=\"Non-endemic\",\"Not required\",COUNTRY_INFO!P115),\"Treat with IVM\")","v":"Treat with IVM"},0,0,null,0,0]
[{"$f":"IF(INTRO!$E$39<>\"Non-endemic\", \" \", IF(INTRO!$E$37=\"Non-endemic\",\" \", IF(COUNTRY_INFO!A116=0,\" \",COUNTRY_INFO!A116)))","v":" "},{"$f":"IF(INTRO!$E$39<>\"Non-endemic\", \" \", IF(INTRO!$E$37=\"Non-endemic\",\" \", IF(COUNTRY_INFO!B116=0,\" \",COUNTRY_INFO!B116)))","v":" "},{"$f":"IF(INTRO!$E$39<>\"Non-endemic\", \" \", IF(INTRO!$E$37=\"Non-endemic\",\" \", IF(COUNTRY_INFO!C116=0,\" \",COUNTRY_INFO!C116)))","v":" "},{"$f":"IF(INTRO!$E$39<>\"Non-endemic\", 0, IF(INTRO!$E$37=\"Non-endemic\",0,IF(COUNTRY_INFO!$H116=1,COUNTRY_INFO!E116,0)))","v":0},{"$f":"IF(INTRO!$E$39<>\"Non-endemic\", 0, IF(INTRO!$E$37=\"Non-endemic\",0,IF(COUNTRY_INFO!$H116=1,COUNTRY_INFO!F116,0)))","v":0},{"$f":"IF(INTRO!$E$39<>\"Non-endemic\", 0, IF(INTRO!$E$37=\"Non-endemic\",0,IF(COUNTRY_INFO!$H116=1,COUNTRY_INFO!G116,0)))","v":0},0,{"$f":"IF(INTRO!$E$39=\"Non-endemic\",IF(INTRO!$E$37=\"Non-endemic\",\"Not required\",COUNTRY_INFO!P116),\"Treat with IVM\")","v":"Treat with IVM"},0,0,null,0,0]
[{"$f":"IF(INTRO!$E$39<>\"Non-endemic\", \" \", IF(INTRO!$E$37=\"Non-endemic\",\" \", IF(COUNTRY_INFO!A117=0,\" \",COUNTRY_INFO!A117)))","v":" "},{"$f":"IF(INTRO!$E$39<>\"Non-endemic\", \" \", IF(INTRO!$E$37=\"Non-endemic\",\" \", IF(COUNTRY_INFO!B117=0,\" \",COUNTRY_INFO!B117)))","v":" "},{"$f":"IF(INTRO!$E$39<>\"Non-endemic\", \" \", IF(INTRO!$E$37=\"Non-endemic\",\" \", IF(COUNTRY_INFO!C117=0,\" \",COUNTRY_INFO!C117)))","v":" "},{"$f":"IF(INTRO!$E$39<>\"Non-endemic\", 0, IF(INTRO!$E$37=\"Non-endemic\",0,IF(COUNTRY_INFO!$H117=1,COUNTRY_INFO!E117,0)))","v":0},{"$f":"IF(INTRO!$E$39<>\"Non-endemic\", 0, IF(INTRO!$E$37=\"Non-endemic\",0,IF(COUNTRY_INFO!$H117=1,COUNTRY_INFO!F117,0)))","v":0},{"$f":"IF(INTRO!$E$39<>\"Non-endemic\", 0, IF(INTRO!$E$37=\"Non-endemic\",0,IF(COUNTRY_INFO!$H117=1,COUNTRY_INFO!G117,0)))","v":0},0,{"$f":"IF(INTRO!$E$39=\"Non-endemic\",IF(INTRO!$E$37=\"Non-endemic\",\"Not required\",COUNTRY_INFO!P117),\"Treat with IVM\")","v":"Treat with IVM"},0,0,null,0,0]
[{"$f":"IF(INTRO!$E$39<>\"Non-endemic\", \" \", IF(INTRO!$E$37=\"Non-endemic\",\" \", IF(COUNTRY_INFO!A118=0,\" \",COUNTRY_INFO!A118)))","v":" "},{"$f":"IF(INTRO!$E$39<>\"Non-endemic\", \" \", IF(INTRO!$E$37=\"Non-endemic\",\" \", IF(COUNTRY_INFO!B118=0,\" \",COUNTRY_INFO!B118)))","v":" "},{"$f":"IF(INTRO!$E$39<>\"Non-endemic\", \" \", IF(INTRO!$E$37=\"Non-endemic\",\" \", IF(COUNTRY_INFO!C118=0,\" \",COUNTRY_INFO!C118)))","v":" "},{"$f":"IF(INTRO!$E$39<>\"Non-endemic\", 0, IF(INTRO!$E$37=\"Non-endemic\",0,IF(COUNTRY_INFO!$H118=1,COUNTRY_INFO!E118,0)))","v":0},{"$f":"IF(INTRO!$E$39<>\"Non-endemic\", 0, IF(INTRO!$E$37=\"Non-endemic\",0,IF(COUNTRY_INFO!$H118=1,COUNTRY_INFO!F118,0)))","v":0},{"$f":"IF(INTRO!$E$39<>\"Non-endemic\", 0, IF(INTRO!$E$37=\"Non-endemic\",0,IF(COUNTRY_INFO!$H118=1,COUNTRY_INFO!G118,0)))","v":0},0,{"$f":"IF(INTRO!$E$39=\"Non-endemic\",IF(INTRO!$E$37=\"Non-endemic\",\"Not required\",COUNTRY_INFO!P118),\"Treat with IVM\")","v":"Treat with IVM"},0,0,null,0,0]
[{"$f":"IF(INTRO!$E$39<>\"Non-endemic\", \" \", IF(INTRO!$E$37=\"Non-endemic\",\" \", IF(COUNTRY_INFO!A119=0,\" \",COUNTRY_INFO!A119)))","v":" "},{"$f":"IF(INTRO!$E$39<>\"Non-endemic\", \" \", IF(INTRO!$E$37=\"Non-endemic\",\" \", IF(COUNTRY_INFO!B119=0,\" \",COUNTRY_INFO!B119)))","v":" "},{"$f":"IF(INTRO!$E$39<>\"Non-endemic\", \" \", IF(INTRO!$E$37=\"Non-endemic\",\" \", IF(COUNTRY_INFO!C119=0,\" \",COUNTRY_INFO!C119)))","v":" "},{"$f":"IF(INTRO!$E$39<>\"Non-endemic\", 0, IF(INTRO!$E$37=\"Non-endemic\",0,IF(COUNTRY_INFO!$H119=1,COUNTRY_INFO!E119,0)))","v":0},{"$f":"IF(INTRO!$E$39<>\"Non-endemic\", 0, IF(INTRO!$E$37=\"Non-endemic\",0,IF(COUNTRY_INFO!$H119=1,COUNTRY_INFO!F119,0)))","v":0},{"$f":"IF(INTRO!$E$39<>\"Non-endemic\", 0, IF(INTRO!$E$37=\"Non-endemic\",0,IF(COUNTRY_INFO!$H119=1,COUNTRY_INFO!G119,0)))","v":0},0,{"$f":"IF(INTRO!$E$39=\"Non-endemic\",IF(INTRO!$E$37=\"Non-endemic\",\"Not required\",COUNTRY_INFO!P119),\"Treat with IVM\")","v":"Treat with IVM"},0,0,null,0,0]
[{"$f":"IF(INTRO!$E$39<>\"Non-endemic\", \" \", IF(INTRO!$E$37=\"Non-endemic\",\" \", IF(COUNTRY_INFO!A120=0,\" \",COUNTRY_INFO!A120)))","v":" "},{"$f":"IF(INTRO!$E$39<>\"Non-endemic\", \" \", IF(INTRO!$E$37=\"Non-endemic\",\" \", IF(COUNTRY_INFO!B120=0,\" \",COUNTRY_INFO!B120)))","v":" "},{"$f":"IF(INTRO!$E$39<>\"Non-endemic\", \" \", IF(INTRO!$E$37=\"Non-endemic\",\" \", IF(COUNTRY_INFO!C120=0,\" \",COUNTRY_INFO!C120)))","v":" "},{"$f":"IF(INTRO!$E$39<>\"Non-endemic\", 0, IF(INTRO!$E$37=\"Non-endemic\",0,IF(COUNTRY_INFO!$H120=1,COUNTRY_INFO!E120,0)))","v":0},{"$f":"IF(INTRO!$E$39<>\"Non-endemic\", 0, IF(INTRO!$E$37=\"Non-endemic\",0,IF(COUNTRY_INFO!$H120=1,COUNTRY_INFO!F120,0)))","v":0},{"$f":"IF(INTRO!$E$39<>\"Non-endemic\", 0, IF(INTRO!$E$37=\"Non-endemic\",0,IF(COUNTRY_INFO!$H120=1,COUNTRY_INFO!G120,0)))","v":0},0,{"$f":"IF(INTRO!$E$39=\"Non-endemic\",IF(INTRO!$E$37=\"Non-endemic\",\"Not required\",COUNTRY_INFO!P120),\"Treat with IVM\")","v":"Treat with IVM"},0,0,null,0,0]
[{"$f":"IF(INTRO!$E$39<>\"Non-endemic\", \" \", IF(INTRO!$E$37=\"Non-endemic\",\" \", IF(COUNTRY_INFO!A121=0,\" \",COUNTRY_INFO!A121)))","v":" "},{"$f":"IF(INTRO!$E$39<>\"Non-endemic\", \" \", IF(INTRO!$E$37=\"Non-endemic\",\" \", IF(COUNTRY_INFO!B121=0,\" \",COUNTRY_INFO!B121)))","v":" "},{"$f":"IF(INTRO!$E$39<>\"Non-endemic\", \" \", IF(INTRO!$E$37=\"Non-endemic\",\" \", IF(COUNTRY_INFO!C121=0,\" \",COUNTRY_INFO!C121)))","v":" "},{"$f":"IF(INTRO!$E$39<>\"Non-endemic\", 0, IF(INTRO!$E$37=\"Non-endemic\",0,IF(COUNTRY_INFO!$H121=1,COUNTRY_INFO!E121,0)))","v":0},{"$f":"IF(INTRO!$E$39<>\"Non-endemic\", 0, IF(INTRO!$E$37=\"Non-endemic\",0,IF(COUNTRY_INFO!$H121=1,COUNTRY_INFO!F121,0)))","v":0},{"$f":"IF(INTRO!$E$39<>\"Non-endemic\", 0, IF(INTRO!$E$37=\"Non-endemic\",0,IF(COUNTRY_INFO!$H121=1,COUNTRY_INFO!G121,0)))","v":0},0,{"$f":"IF(INTRO!$E$39=\"Non-endemic\",IF(INTRO!$E$37=\"Non-endemic\",\"Not required\",COUNTRY_INFO!P121),\"Treat with IVM\")","v":"Treat with IVM"},0,0,null,0,0]
[{"$f":"IF(INTRO!$E$39<>\"Non-endemic\", \" \", IF(INTRO!$E$37=\"Non-endemic\",\" \", IF(COUNTRY_INFO!A122=0,\" \",COUNTRY_INFO!A122)))","v":" "},{"$f":"IF(INTRO!$E$39<>\"Non-endemic\", \" \", IF(INTRO!$E$37=\"Non-endemic\",\" \", IF(COUNTRY_INFO!B122=0,\" \",COUNTRY_INFO!B122)))","v":" "},{"$f":"IF(INTRO!$E$39<>\"Non-endemic\", \" \", IF(INTRO!$E$37=\"Non-endemic\",\" \", IF(COUNTRY_INFO!C122=0,\" \",COUNTRY_INFO!C122)))","v":" "},{"$f":"IF(INTRO!$E$39<>\"Non-endemic\", 0, IF(INTRO!$E$37=\"Non-endemic\",0,IF(COUNTRY_INFO!$H122=1,COUNTRY_INFO!E122,0)))","v":0},{"$f":"IF(INTRO!$E$39<>\"Non-endemic\", 0, IF(INTRO!$E$37=\"Non-endemic\",0,IF(COUNTRY_INFO!$H122=1,COUNTRY_INFO!F122,0)))","v":0},{"$f":"IF(INTRO!$E$39<>\"Non-endemic\", 0, IF(INTRO!$E$37=\"Non-endemic\",0,IF(COUNTRY_INFO!$H122=1,COUNTRY_INFO!G122,0)))","v":0},0,{"$f":"IF(INTRO!$E$39=\"Non-endemic\",IF(INTRO!$E$37=\"Non-endemic\",\"Not required\",COUNTRY_INFO!P122),\"Treat with IVM\")","v":"Treat with IVM"},0,0,null,0,0]
[{"$f":"IF(INTRO!$E$39<>\"Non-endemic\", \" \", IF(INTRO!$E$37=\"Non-endemic\",\" \", IF(COUNTRY_INFO!A123=0,\" \",COUNTRY_INFO!A123)))","v":" "},{"$f":"IF(INTRO!$E$39<>\"Non-endemic\", \" \", IF(INTRO!$E$37=\"Non-endemic\",\" \", IF(COUNTRY_INFO!B123=0,\" \",COUNTRY_INFO!B123)))","v":" "},{"$f":"IF(INTRO!$E$39<>\"Non-endemic\", \" \", IF(INTRO!$E$37=\"Non-endemic\",\" \", IF(COUNTRY_INFO!C123=0,\" \",COUNTRY_INFO!C123)))","v":" "},{"$f":"IF(INTRO!$E$39<>\"Non-endemic\", 0, IF(INTRO!$E$37=\"Non-endemic\",0,IF(COUNTRY_INFO!$H123=1,COUNTRY_INFO!E123,0)))","v":0},{"$f":"IF(INTRO!$E$39<>\"Non-endemic\", 0, IF(INTRO!$E$37=\"Non-endemic\",0,IF(COUNTRY_INFO!$H123=1,COUNTRY_INFO!F123,0)))","v":0},{"$f":"IF(INTRO!$E$39<>\"Non-endemic\", 0, IF(INTRO!$E$37=\"Non-endemic\",0,IF(COUNTRY_INFO!$H123=1,COUNTRY_INFO!G123,0)))","v":0},0,{"$f":"IF(INTRO!$E$39=\"Non-endemic\",IF(INTRO!$E$37=\"Non-endemic\",\"Not required\",COUNTRY_INFO!P123),\"Treat with IVM\")","v":"Treat with IVM"},0,0,null,0,0]
[{"$f":"IF(INTRO!$E$39<>\"Non-endemic\", \" \", IF(INTRO!$E$37=\"Non-endemic\",\" \", IF(COUNTRY_INFO!A124=0,\" \",COUNTRY_INFO!A124)))","v":" "},{"$f":"IF(INTRO!$E$39<>\"Non-endemic\", \" \", IF(INTRO!$E$37=\"Non-endemic\",\" \", IF(COUNTRY_INFO!B124=0,\" \",COUNTRY_INFO!B124)))","v":" "},{"$f":"IF(INTRO!$E$39<>\"Non-endemic\", \" \", IF(INTRO!$E$37=\"Non-endemic\",\" \", IF(COUNTRY_INFO!C124=0,\" \",COUNTRY_INFO!C124)))","v":" "},{"$f":"IF(INTRO!$E$39<>\"Non-endemic\", 0, IF(INTRO!$E$37=\"Non-endemic\",0,IF(COUNTRY_INFO!$H124=1,COUNTRY_INFO!E124,0)))","v":0},{"$f":"IF(INTRO!$E$39<>\"Non-endemic\", 0, IF(INTRO!$E$37=\"Non-endemic\",0,IF(COUNTRY_INFO!$H124=1,COUNTRY_INFO!F124,0)))","v":0},{"$f":"IF(INTRO!$E$39<>\"Non-endemic\", 0, IF(INTRO!$E$37=\"Non-endemic\",0,IF(COUNTRY_INFO!$H124=1,COUNTRY_INFO!G124,0)))","v":0},0,{"$f":"IF(INTRO!$E$39=\"Non-endemic\",IF(INTRO!$E$37=\"Non-endemic\",\"Not required\",COUNTRY_INFO!P124),\"Treat with IVM\")","v":"Treat with IVM"},0,0,null,0,0]
[{"$f":"IF(INTRO!$E$39<>\"Non-endemic\", \" \", IF(INTRO!$E$37=\"Non-endemic\",\" \", IF(COUNTRY_INFO!A125=0,\" \",COUNTRY_INFO!A125)))","v":" "},{"$f":"IF(INTRO!$E$39<>\"Non-endemic\", \" \", IF(INTRO!$E$37=\"Non-endemic\",\" \", IF(COUNTRY_INFO!B125=0,\" \",COUNTRY_INFO!B125)))","v":" "},{"$f":"IF(INTRO!$E$39<>\"Non-endemic\", \" \", IF(INTRO!$E$37=\"Non-endemic\",\" \", IF(COUNTRY_INFO!C125=0,\" \",COUNTRY_INFO!C125)))","v":" "},{"$f":"IF(INTRO!$E$39<>\"Non-endemic\", 0, IF(INTRO!$E$37=\"Non-endemic\",0,IF(COUNTRY_INFO!$H125=1,COUNTRY_INFO!E125,0)))","v":0},{"$f":"IF(INTRO!$E$39<>\"Non-endemic\", 0, IF(INTRO!$E$37=\"Non-endemic\",0,IF(COUNTRY_INFO!$H125=1,COUNTRY_INFO!F125,0)))","v":0},{"$f":"IF(INTRO!$E$39<>\"Non-endemic\", 0, IF(INTRO!$E$37=\"Non-endemic\",0,IF(COUNTRY_INFO!$H125=1,COUNTRY_INFO!G125,0)))","v":0},0,{"$f":"IF(INTRO!$E$39=\"Non-endemic\",IF(INTRO!$E$37=\"Non-endemic\",\"Not required\",COUNTRY_INFO!P125),\"Treat with IVM\")","v":"Treat with IVM"},0,0,null,0,0]
[{"$f":"IF(INTRO!$E$39<>\"Non-endemic\", \" \", IF(INTRO!$E$37=\"Non-endemic\",\" \", IF(COUNTRY_INFO!A126=0,\" \",COUNTRY_INFO!A126)))","v":" "},{"$f":"IF(INTRO!$E$39<>\"Non-endemic\", \" \", IF(INTRO!$E$37=\"Non-endemic\",\" \", IF(COUNTRY_INFO!B126=0,\" \",COUNTRY_INFO!B126)))","v":" "},{"$f":"IF(INTRO!$E$39<>\"Non-endemic\", \" \", IF(INTRO!$E$37=\"Non-endemic\",\" \", IF(COUNTRY_INFO!C126=0,\" \",COUNTRY_INFO!C126)))","v":" "},{"$f":"IF(INTRO!$E$39<>\"Non-endemic\", 0, IF(INTRO!$E$37=\"Non-endemic\",0,IF(COUNTRY_INFO!$H126=1,COUNTRY_INFO!E126,0)))","v":0},{"$f":"IF(INTRO!$E$39<>\"Non-endemic\", 0, IF(INTRO!$E$37=\"Non-endemic\",0,IF(COUNTRY_INFO!$H126=1,COUNTRY_INFO!F126,0)))","v":0},{"$f":"IF(INTRO!$E$39<>\"Non-endemic\", 0, IF(INTRO!$E$37=\"Non-endemic\",0,IF(COUNTRY_INFO!$H126=1,COUNTRY_INFO!G126,0)))","v":0},0,{"$f":"IF(INTRO!$E$39=\"Non-endemic\",IF(INTRO!$E$37=\"Non-endemic\",\"Not required\",COUNTRY_INFO!P126),\"Treat with IVM\")","v":"Treat with IVM"},0,0,null,0,0]
[{"$f":"IF(INTRO!$E$39<>\"Non-endemic\", \" \", IF(INTRO!$E$37=\"Non-endemic\",\" \", IF(COUNTRY_INFO!A127=0,\" \",COUNTRY_INFO!A127)))","v":" "},{"$f":"IF(INTRO!$E$39<>\"Non-endemic\", \" \", IF(INTRO!$E$37=\"Non-endemic\",\" \", IF(COUNTRY_INFO!B127=0,\" \",COUNTRY_INFO!B127)))","v":" "},{"$f":"IF(INTRO!$E$39<>\"Non-endemic\", \" \", IF(INTRO!$E$37=\"Non-endemic\",\" \", IF(COUNTRY_INFO!C127=0,\" \",COUNTRY_INFO!C127)))","v":" "},{"$f":"IF(INTRO!$E$39<>\"Non-endemic\", 0, IF(INTRO!$E$37=\"Non-endemic\",0,IF(COUNTRY_INFO!$H127=1,COUNTRY_INFO!E127,0)))","v":0},{"$f":"IF(INTRO!$E$39<>\"Non-endemic\", 0, IF(INTRO!$E$37=\"Non-endemic\",0,IF(COUNTRY_INFO!$H127=1,COUNTRY_INFO!F127,0)))","v":0},{"$f":"IF(INTRO!$E$39<>\"Non-endemic\", 0, IF(INTRO!$E$37=\"Non-endemic\",0,IF(COUNTRY_INFO!$H127=1,COUNTRY_INFO!G127,0)))","v":0},0,{"$f":"IF(INTRO!$E$39=\"Non-endemic\",IF(INTRO!$E$37=\"Non-endemic\",\"Not required\",COUNTRY_INFO!P127),\"Treat with IVM\")","v":"Treat with IVM"},0,0,null,0,0]
[{"$f":"IF(INTRO!$E$39<>\"Non-endemic\", \" \", IF(INTRO!$E$37=\"Non-endemic\",\" \", IF(COUNTRY_INFO!A128=0,\" \",COUNTRY_INFO!A128)))","v":" "},{"$f":"IF(INTRO!$E$39<>\"Non-endemic\", \" \", IF(INTRO!$E$37=\"Non-endemic\",\" \", IF(COUNTRY_INFO!B128=0,\" \",COUNTRY_INFO!B128)))","v":" "},{"$f":"IF(INTRO!$E$39<>\"Non-endemic\", \" \", IF(INTRO!$E$37=\"Non-endemic\",\" \", IF(COUNTRY_INFO!C128=0,\" \",COUNTRY_INFO!C128)))","v":" "},{"$f":"IF(INTRO!$E$39<>\"Non-endemic\", 0, IF(INTRO!$E$37=\"Non-endemic\",0,IF(COUNTRY_INFO!$H128=1,COUNTRY_INFO!E128,0)))","v":0},{"$f":"IF(INTRO!$E$39<>\"Non-endemic\", 0, IF(INTRO!$E$37=\"Non-endemic\",0,IF(COUNTRY_INFO!$H128=1,COUNTRY_INFO!F128,0)))","v":0},{"$f":"IF(INTRO!$E$39<>\"Non-endemic\", 0, IF(INTRO!$E$37=\"Non-endemic\",0,IF(COUNTRY_INFO!$H128=1,COUNTRY_INFO!G128,0)))","v":0},0,{"$f":"IF(INTRO!$E$39=\"Non-endemic\",IF(INTRO!$E$37=\"Non-endemic\",\"Not required\",COUNTRY_INFO!P128),\"Treat with IVM\")","v":"Treat with IVM"},0,0,null,0,0]
[{"$f":"IF(INTRO!$E$39<>\"Non-endemic\", \" \", IF(INTRO!$E$37=\"Non-endemic\",\" \", IF(COUNTRY_INFO!A129=0,\" \",COUNTRY_INFO!A129)))","v":" "},{"$f":"IF(INTRO!$E$39<>\"Non-endemic\", \" \", IF(INTRO!$E$37=\"Non-endemic\",\" \", IF(COUNTRY_INFO!B129=0,\" \",COUNTRY_INFO!B129)))","v":" "},{"$f":"IF(INTRO!$E$39<>\"Non-endemic\", \" \", IF(INTRO!$E$37=\"Non-endemic\",\" \", IF(COUNTRY_INFO!C129=0,\" \",COUNTRY_INFO!C129)))","v":" "},{"$f":"IF(INTRO!$E$39<>\"Non-endemic\", 0, IF(INTRO!$E$37=\"Non-endemic\",0,IF(COUNTRY_INFO!$H129=1,COUNTRY_INFO!E129,0)))","v":0},{"$f":"IF(INTRO!$E$39<>\"Non-endemic\", 0, IF(INTRO!$E$37=\"Non-endemic\",0,IF(COUNTRY_INFO!$H129=1,COUNTRY_INFO!F129,0)))","v":0},{"$f":"IF(INTRO!$E$39<>\"Non-endemic\", 0, IF(INTRO!$E$37=\"Non-endemic\",0,IF(COUNTRY_INFO!$H129=1,COUNTRY_INFO!G129,0)))","v":0},0,{"$f":"IF(INTRO!$E$39=\"Non-endemic\",IF(INTRO!$E$37=\"Non-endemic\",\"Not required\",COUNTRY_INFO!P129),\"Treat with IVM\")","v":"Treat with IVM"},0,0,null,0,0]
[{"$f":"IF(INTRO!$E$39<>\"Non-endemic\", \" \", IF(INTRO!$E$37=\"Non-endemic\",\" \", IF(COUNTRY_INFO!A130=0,\" \",COUNTRY_INFO!A130)))","v":" "},{"$f":"IF(INTRO!$E$39<>\"Non-endemic\", \" \", IF(INTRO!$E$37=\"Non-endemic\",\" \", IF(COUNTRY_INFO!B130=0,\" \",COUNTRY_INFO!B130)))","v":" "},{"$f":"IF(INTRO!$E$39<>\"Non-endemic\", \" \", IF(INTRO!$E$37=\"Non-endemic\",\" \", IF(COUNTRY_INFO!C130=0,\" \",COUNTRY_INFO!C130)))","v":" "},{"$f":"IF(INTRO!$E$39<>\"Non-endemic\", 0, IF(INTRO!$E$37=\"Non-endemic\",0,IF(COUNTRY_INFO!$H130=1,COUNTRY_INFO!E130,0)))","v":0},{"$f":"IF(INTRO!$E$39<>\"Non-endemic\", 0, IF(INTRO!$E$37=\"Non-endemic\",0,IF(COUNTRY_INFO!$H130=1,COUNTRY_INFO!F130,0)))","v":0},{"$f":"IF(INTRO!$E$39<>\"Non-endemic\", 0, IF(INTRO!$E$37=\"Non-endemic\",0,IF(COUNTRY_INFO!$H130=1,COUNTRY_INFO!G130,0)))","v":0},0,{"$f":"IF(INTRO!$E$39=\"Non-endemic\",IF(INTRO!$E$37=\"Non-endemic\",\"Not required\",COUNTRY_INFO!P130),\"Treat with IVM\")","v":"Treat with IVM"},0,0,null,0,0]
[{"$f":"IF(INTRO!$E$39<>\"Non-endemic\", \" \", IF(INTRO!$E$37=\"Non-endemic\",\" \", IF(COUNTRY_INFO!A131=0,\" \",COUNTRY_INFO!A131)))","v":" "},{"$f":"IF(INTRO!$E$39<>\"Non-endemic\", \" \", IF(INTRO!$E$37=\"Non-endemic\",\" \", IF(COUNTRY_INFO!B131=0,\" \",COUNTRY_INFO!B131)))","v":" "},{"$f":"IF(INTRO!$E$39<>\"Non-endemic\", \" \", IF(INTRO!$E$37=\"Non-endemic\",\" \", IF(COUNTRY_INFO!C131=0,\" \",COUNTRY_INFO!C131)))","v":" "},{"$f":"IF(INTRO!$E$39<>\"Non-endemic\", 0, IF(INTRO!$E$37=\"Non-endemic\",0,IF(COUNTRY_INFO!$H131=1,COUNTRY_INFO!E131,0)))","v":0},{"$f":"IF(INTRO!$E$39<>\"Non-endemic\", 0, IF(INTRO!$E$37=\"Non-endemic\",0,IF(COUNTRY_INFO!$H131=1,COUNTRY_INFO!F131,0)))","v":0},{"$f":"IF(INTRO!$E$39<>\"Non-endemic\", 0, IF(INTRO!$E$37=\"Non-endemic\",0,IF(COUNTRY_INFO!$H131=1,COUNTRY_INFO!G131,0)))","v":0},0,{"$f":"IF(INTRO!$E$39=\"Non-endemic\",IF(INTRO!$E$37=\"Non-endemic\",\"Not required\",COUNTRY_INFO!P131),\"Treat with IVM\")","v":"Treat with IVM"},0,0,null,0,0]
[{"$f":"IF(INTRO!$E$39<>\"Non-endemic\", \" \", IF(INTRO!$E$37=\"Non-endemic\",\" \", IF(COUNTRY_INFO!A132=0,\" \",COUNTRY_INFO!A132)))","v":" "},{"$f":"IF(INTRO!$E$39<>\"Non-endemic\", \" \", IF(INTRO!$E$37=\"Non-endemic\",\" \", IF(COUNTRY_INFO!B132=0,\" \",COUNTRY_INFO!B132)))","v":" "},{"$f":"IF(INTRO!$E$39<>\"Non-endemic\", \" \", IF(INTRO!$E$37=\"Non-endemic\",\" \", IF(COUNTRY_INFO!C132=0,\" \",COUNTRY_INFO!C132)))","v":" "},{"$f":"IF(INTRO!$E$39<>\"Non-endemic\", 0, IF(INTRO!$E$37=\"Non-endemic\",0,IF(COUNTRY_INFO!$H132=1,COUNTRY_INFO!E132,0)))","v":0},{"$f":"IF(INTRO!$E$39<>\"Non-endemic\", 0, IF(INTRO!$E$37=\"Non-endemic\",0,IF(COUNTRY_INFO!$H132=1,COUNTRY_INFO!F132,0)))","v":0},{"$f":"IF(INTRO!$E$39<>\"Non-endemic\", 0, IF(INTRO!$E$37=\"Non-endemic\",0,IF(COUNTRY_INFO!$H132=1,COUNTRY_INFO!G132,0)))","v":0},0,{"$f":"IF(INTRO!$E$39=\"Non-endemic\",IF(INTRO!$E$37=\"Non-endemic\",\"Not required\",COUNTRY_INFO!P132),\"Treat with IVM\")","v":"Treat with IVM"},0,0,null,0,0]
[{"$f":"IF(INTRO!$E$39<>\"Non-endemic\", \" \", IF(INTRO!$E$37=\"Non-endemic\",\" \", IF(COUNTRY_INFO!A133=0,\" \",COUNTRY_INFO!A133)))","v":" "},{"$f":"IF(INTRO!$E$39<>\"Non-endemic\", \" \", IF(INTRO!$E$37=\"Non-endemic\",\" \", IF(COUNTRY_INFO!B133=0,\" \",COUNTRY_INFO!B133)))","v":" "},{"$f":"IF(INTRO!$E$39<>\"Non-endemic\", \" \", IF(INTRO!$E$37=\"Non-endemic\",\" \", IF(COUNTRY_INFO!C133=0,\" \",COUNTRY_INFO!C133)))","v":" "},{"$f":"IF(INTRO!$E$39<>\"Non-endemic\", 0, IF(INTRO!$E$37=\"Non-endemic\",0,IF(COUNTRY_INFO!$H133=1,COUNTRY_INFO!E133,0)))","v":0},{"$f":"IF(INTRO!$E$39<>\"Non-endemic\", 0, IF(INTRO!$E$37=\"Non-endemic\",0,IF(COUNTRY_INFO!$H133=1,COUNTRY_INFO!F133,0)))","v":0},{"$f":"IF(INTRO!$E$39<>\"Non-endemic\", 0, IF(INTRO!$E$37=\"Non-endemic\",0,IF(COUNTRY_INFO!$H133=1,COUNTRY_INFO!G133,0)))","v":0},0,{"$f":"IF(INTRO!$E$39=\"Non-endemic\",IF(INTRO!$E$37=\"Non-endemic\",\"Not required\",COUNTRY_INFO!P133),\"Treat with IVM\")","v":"Treat with IVM"},0,0,null,0,0]
[{"$f":"IF(INTRO!$E$39<>\"Non-endemic\", \" \", IF(INTRO!$E$37=\"Non-endemic\",\" \", IF(COUNTRY_INFO!A134=0,\" \",COUNTRY_INFO!A134)))","v":" "},{"$f":"IF(INTRO!$E$39<>\"Non-endemic\", \" \", IF(INTRO!$E$37=\"Non-endemic\",\" \", IF(COUNTRY_INFO!B134=0,\" \",COUNTRY_INFO!B134)))","v":" "},{"$f":"IF(INTRO!$E$39<>\"Non-endemic\", \" \", IF(INTRO!$E$37=\"Non-endemic\",\" \", IF(COUNTRY_INFO!C134=0,\" \",COUNTRY_INFO!C134)))","v":" "},{"$f":"IF(INTRO!$E$39<>\"Non-endemic\", 0, IF(INTRO!$E$37=\"Non-endemic\",0,IF(COUNTRY_INFO!$H134=1,COUNTRY_INFO!E134,0)))","v":0},{"$f":"IF(INTRO!$E$39<>\"Non-endemic\", 0, IF(INTRO!$E$37=\"Non-endemic\",0,IF(COUNTRY_INFO!$H134=1,COUNTRY_INFO!F134,0)))","v":0},{"$f":"IF(INTRO!$E$39<>\"Non-endemic\", 0, IF(INTRO!$E$37=\"Non-endemic\",0,IF(COUNTRY_INFO!$H134=1,COUNTRY_INFO!G134,0)))","v":0},0,{"$f":"IF(INTRO!$E$39=\"Non-endemic\",IF(INTRO!$E$37=\"Non-endemic\",\"Not required\",COUNTRY_INFO!P134),\"Treat with IVM\")","v":"Treat with IVM"},0,0,null,0,0]
[{"$f":"IF(INTRO!$E$39<>\"Non-endemic\", \" \", IF(INTRO!$E$37=\"Non-endemic\",\" \", IF(COUNTRY_INFO!A135=0,\" \",COUNTRY_INFO!A135)))","v":" "},{"$f":"IF(INTRO!$E$39<>\"Non-endemic\", \" \", IF(INTRO!$E$37=\"Non-endemic\",\" \", IF(COUNTRY_INFO!B135=0,\" \",COUNTRY_INFO!B135)))","v":" "},{"$f":"IF(INTRO!$E$39<>\"Non-endemic\", \" \", IF(INTRO!$E$37=\"Non-endemic\",\" \", IF(COUNTRY_INFO!C135=0,\" \",COUNTRY_INFO!C135)))","v":" "},{"$f":"IF(INTRO!$E$39<>\"Non-endemic\", 0, IF(INTRO!$E$37=\"Non-endemic\",0,IF(COUNTRY_INFO!$H135=1,COUNTRY_INFO!E135,0)))","v":0},{"$f":"IF(INTRO!$E$39<>\"Non-endemic\", 0, IF(INTRO!$E$37=\"Non-endemic\",0,IF(COUNTRY_INFO!$H135=1,COUNTRY_INFO!F135,0)))","v":0},{"$f":"IF(INTRO!$E$39<>\"Non-endemic\", 0, IF(INTRO!$E$37=\"Non-endemic\",0,IF(COUNTRY_INFO!$H135=1,COUNTRY_INFO!G135,0)))","v":0},0,{"$f":"IF(INTRO!$E$39=\"Non-endemic\",IF(INTRO!$E$37=\"Non-endemic\",\"Not required\",COUNTRY_INFO!P135),\"Treat with IVM\")","v":"Treat with IVM"},0,0,null,0,0]
[{"$f":"IF(INTRO!$E$39<>\"Non-endemic\", \" \", IF(INTRO!$E$37=\"Non-endemic\",\" \", IF(COUNTRY_INFO!A136=0,\" \",COUNTRY_INFO!A136)))","v":" "},{"$f":"IF(INTRO!$E$39<>\"Non-endemic\", \" \", IF(INTRO!$E$37=\"Non-endemic\",\" \", IF(COUNTRY_INFO!B136=0,\" \",COUNTRY_INFO!B136)))","v":" "},{"$f":"IF(INTRO!$E$39<>\"Non-endemic\", \" \", IF(INTRO!$E$37=\"Non-endemic\",\" \", IF(COUNTRY_INFO!C136=0,\" \",COUNTRY_INFO!C136)))","v":" "},{"$f":"IF(INTRO!$E$39<>\"Non-endemic\", 0, IF(INTRO!$E$37=\"Non-endemic\",0,IF(COUNTRY_INFO!$H136=1,COUNTRY_INFO!E136,0)))","v":0},{"$f":"IF(INTRO!$E$39<>\"Non-endemic\", 0, IF(INTRO!$E$37=\"Non-endemic\",0,IF(COUNTRY_INFO!$H136=1,COUNTRY_INFO!F136,0)))","v":0},{"$f":"IF(INTRO!$E$39<>\"Non-endemic\", 0, IF(INTRO!$E$37=\"Non-endemic\",0,IF(COUNTRY_INFO!$H136=1,COUNTRY_INFO!G136,0)))","v":0},0,{"$f":"IF(INTRO!$E$39=\"Non-endemic\",IF(INTRO!$E$37=\"Non-endemic\",\"Not required\",COUNTRY_INFO!P136),\"Treat with IVM\")","v":"Treat with IVM"},0,0,null,0,0]
[{"$f":"IF(INTRO!$E$39<>\"Non-endemic\", \" \", IF(INTRO!$E$37=\"Non-endemic\",\" \", IF(COUNTRY_INFO!A137=0,\" \",COUNTRY_INFO!A137)))","v":" "},{"$f":"IF(INTRO!$E$39<>\"Non-endemic\", \" \", IF(INTRO!$E$37=\"Non-endemic\",\" \", IF(COUNTRY_INFO!B137=0,\" \",COUNTRY_INFO!B137)))","v":" "},{"$f":"IF(INTRO!$E$39<>\"Non-endemic\", \" \", IF(INTRO!$E$37=\"Non-endemic\",\" \", IF(COUNTRY_INFO!C137=0,\" \",COUNTRY_INFO!C137)))","v":" "},{"$f":"IF(INTRO!$E$39<>\"Non-endemic\", 0, IF(INTRO!$E$37=\"Non-endemic\",0,IF(COUNTRY_INFO!$H137=1,COUNTRY_INFO!E137,0)))","v":0},{"$f":"IF(INTRO!$E$39<>\"Non-endemic\", 0, IF(INTRO!$E$37=\"Non-endemic\",0,IF(COUNTRY_INFO!$H137=1,COUNTRY_INFO!F137,0)))","v":0},{"$f":"IF(INTRO!$E$39<>\"Non-endemic\", 0, IF(INTRO!$E$37=\"Non-endemic\",0,IF(COUNTRY_INFO!$H137=1,COUNTRY_INFO!G137,0)))","v":0},0,{"$f":"IF(INTRO!$E$39=\"Non-endemic\",IF(INTRO!$E$37=\"Non-endemic\",\"Not required\",COUNTRY_INFO!P137),\"Treat with IVM\")","v":"Treat with IVM"},0,0,null,0,0]
[{"$f":"IF(INTRO!$E$39<>\"Non-endemic\", \" \", IF(INTRO!$E$37=\"Non-endemic\",\" \", IF(COUNTRY_INFO!A138=0,\" \",COUNTRY_INFO!A138)))","v":" "},{"$f":"IF(INTRO!$E$39<>\"Non-endemic\", \" \", IF(INTRO!$E$37=\"Non-endemic\",\" \", IF(COUNTRY_INFO!B138=0,\" \",COUNTRY_INFO!B138)))","v":" "},{"$f":"IF(INTRO!$E$39<>\"Non-endemic\", \" \", IF(INTRO!$E$37=\"Non-endemic\",\" \", IF(COUNTRY_INFO!C138=0,\" \",COUNTRY_INFO!C138)))","v":" "},{"$f":"IF(INTRO!$E$39<>\"Non-endemic\", 0, IF(INTRO!$E$37=\"Non-endemic\",0,IF(COUNTRY_INFO!$H138=1,COUNTRY_INFO!E138,0)))","v":0},{"$f":"IF(INTRO!$E$39<>\"Non-endemic\", 0, IF(INTRO!$E$37=\"Non-endemic\",0,IF(COUNTRY_INFO!$H138=1,COUNTRY_INFO!F138,0)))","v":0},{"$f":"IF(INTRO!$E$39<>\"Non-endemic\", 0, IF(INTRO!$E$37=\"Non-endemic\",0,IF(COUNTRY_INFO!$H138=1,COUNTRY_INFO!G138,0)))","v":0},{"$f":"SUM(D138:F138)","v":0},{"$f":"IF(INTRO!$E$39=\"Non-endemic\",IF(INTRO!$E$37=\"Non-endemic\",\"Not required\",COUNTRY_INFO!P138),\"Treat with IVM\")","v":"Treat with IVM"},{"$f":"IF(H138=1,G138,0)","v":0},{"$f":"IF(I138>0,I138*2.5,0)","v":0},null,0,0]
[{"$f":"IF(INTRO!$E$39<>\"Non-endemic\", \" \", IF(INTRO!$E$37=\"Non-endemic\",\" \", IF(COUNTRY_INFO!A139=0,\" \",COUNTRY_INFO!A139)))","v":" "},{"$f":"IF(INTRO!$E$39<>\"Non-endemic\", \" \", IF(INTRO!$E$37=\"Non-endemic\",\" \", IF(COUNTRY_INFO!B139=0,\" \",COUNTRY_INFO!B139)))","v":" "},{"$f":"IF(INTRO!$E$39<>\"Non-endemic\", \" \", IF(INTRO!$E$37=\"Non-endemic\",\" \", IF(COUNTRY_INFO!C139=0,\" \",COUNTRY_INFO!C139)))","v":" "},{"$f":"IF(INTRO!$E$39<>\"Non-endemic\", 0, IF(INTRO!$E$37=\"Non-endemic\",0,IF(COUNTRY_INFO!$H139=1,COUNTRY_INFO!E139,0)))","v":0},{"$f":"IF(INTRO!$E$39<>\"Non-endemic\", 0, IF(INTRO!$E$37=\"Non-endemic\",0,IF(COUNTRY_INFO!$H139=1,COUNTRY_INFO!F139,0)))","v":0},{"$f":"IF(INTRO!$E$39<>\"Non-endemic\", 0, IF(INTRO!$E$37=\"Non-endemic\",0,IF(COUNTRY_INFO!$H139=1,COUNTRY_INFO!G139,0)))","v":0},0,{"$f":"IF(INTRO!$E$39=\"Non-endemic\",IF(INTRO!$E$37=\"Non-endemic\",\"Not required\",COUNTRY_INFO!P139),\"Treat with IVM\")","v":"Treat with IVM"},0,0,null,0,0]
[{"$f":"IF(INTRO!$E$39<>\"Non-endemic\", \" \", IF(INTRO!$E$37=\"Non-endemic\",\" \", IF(COUNTRY_INFO!A140=0,\" \",COUNTRY_INFO!A140)))","v":" "},{"$f":"IF(INTRO!$E$39<>\"Non-endemic\", \" \", IF(INTRO!$E$37=\"Non-endemic\",\" \", IF(COUNTRY_INFO!B140=0,\" \",COUNTRY_INFO!B140)))","v":" "},{"$f":"IF(INTRO!$E$39<>\"Non-endemic\", \" \", IF(INTRO!$E$37=\"Non-endemic\",\" \", IF(COUNTRY_INFO!C140=0,\" \",COUNTRY_INFO!C140)))","v":" "},{"$f":"IF(INTRO!$E$39<>\"Non-endemic\", 0, IF(INTRO!$E$37=\"Non-endemic\",0,IF(COUNTRY_INFO!$H140=1,COUNTRY_INFO!E140,0)))","v":0},{"$f":"IF(INTRO!$E$39<>\"Non-endemic\", 0, IF(INTRO!$E$37=\"Non-endemic\",0,IF(COUNTRY_INFO!$H140=1,COUNTRY_INFO!F140,0)))","v":0},{"$f":"IF(INTRO!$E$39<>\"Non-endemic\", 0, IF(INTRO!$E$37=\"Non-endemic\",0,IF(COUNTRY_INFO!$H140=1,COUNTRY_INFO!G140,0)))","v":0},0,{"$f":"IF(INTRO!$E$39=\"Non-endemic\",IF(INTRO!$E$37=\"Non-endemic\",\"Not required\",COUNTRY_INFO!P140),\"Treat with IVM\")","v":"Treat with IVM"},0,0,null,0,0]
[{"$f":"IF(INTRO!$E$39<>\"Non-endemic\", \" \", IF(INTRO!$E$37=\"Non-endemic\",\" \", IF(COUNTRY_INFO!A141=0,\" \",COUNTRY_INFO!A141)))","v":" "},{"$f":"IF(INTRO!$E$39<>\"Non-endemic\", \" \", IF(INTRO!$E$37=\"Non-endemic\",\" \", IF(COUNTRY_INFO!B141=0,\" \",COUNTRY_INFO!B141)))","v":" "},{"$f":"IF(INTRO!$E$39<>\"Non-endemic\", \" \", IF(INTRO!$E$37=\"Non-endemic\",\" \", IF(COUNTRY_INFO!C141=0,\" \",COUNTRY_INFO!C141)))","v":" "},{"$f":"IF(INTRO!$E$39<>\"Non-endemic\", 0, IF(INTRO!$E$37=\"Non-endemic\",0,IF(COUNTRY_INFO!$H141=1,COUNTRY_INFO!E141,0)))","v":0},{"$f":"IF(INTRO!$E$39<>\"Non-endemic\", 0, IF(INTRO!$E$37=\"Non-endemic\",0,IF(COUNTRY_INFO!$H141=1,COUNTRY_INFO!F141,0)))","v":0},{"$f":"IF(INTRO!$E$39<>\"Non-endemic\", 0, IF(INTRO!$E$37=\"Non-endemic\",0,IF(COUNTRY_INFO!$H141=1,COUNTRY_INFO!G141,0)))","v":0},0,{"$f":"IF(INTRO!$E$39=\"Non-endemic\",IF(INTRO!$E$37=\"Non-endemic\",\"Not required\",COUNTRY_INFO!P141),\"Treat with IVM\")","v":"Treat with IVM"},0,0,null,0,0]
[{"$f":"IF(INTRO!$E$39<>\"Non-endemic\", \" \", IF(INTRO!$E$37=\"Non-endemic\",\" \", IF(COUNTRY_INFO!A142=0,\" \",COUNTRY_INFO!A142)))","v":" "},{"$f":"IF(INTRO!$E$39<>\"Non-endemic\", \" \", IF(INTRO!$E$37=\"Non-endemic\",\" \", IF(COUNTRY_INFO!B142=0,\" \",COUNTRY_INFO!B142)))","v":" "},{"$f":"IF(INTRO!$E$39<>\"Non-endemic\", \" \", IF(INTRO!$E$37=\"Non-endemic\",\" \", IF(COUNTRY_INFO!C142=0,\" \",COUNTRY_INFO!C142)))","v":" "},{"$f":"IF(INTRO!$E$39<>\"Non-endemic\", 0, IF(INTRO!$E$37=\"Non-endemic\",0,IF(COUNTRY_INFO!$H142=1,COUNTRY_INFO!E142,0)))","v":0},{"$f":"IF(INTRO!$E$39<>\"Non-endemic\", 0, IF(INTRO!$E$37=\"Non-endemic\",0,IF(COUNTRY_INFO!$H142=1,COUNTRY_INFO!F142,0)))","v":0},{"$f":"IF(INTRO!$E$39<>\"Non-endemic\", 0, IF(INTRO!$E$37=\"Non-endemic\",0,IF(COUNTRY_INFO!$H142=1,COUNTRY_INFO!G142,0)))","v":0},0,{"$f":"IF(INTRO!$E$39=\"Non-endemic\",IF(INTRO!$E$37=\"Non-endemic\",\"Not required\",COUNTRY_INFO!P142),\"Treat with IVM\")","v":"Treat with IVM"},0,0,null,0,0]
[{"$f":"IF(INTRO!$E$39<>\"Non-endemic\", \" \", IF(INTRO!$E$37=\"Non-endemic\",\" \", IF(COUNTRY_INFO!A143=0,\" \",COUNTRY_INFO!A143)))","v":" "},{"$f":"IF(INTRO!$E$39<>\"Non-endemic\", \" \", IF(INTRO!$E$37=\"Non-endemic\",\" \", IF(COUNTRY_INFO!B143=0,\" \",COUNTRY_INFO!B143)))","v":" "},{"$f":"IF(INTRO!$E$39<>\"Non-endemic\", \" \", IF(INTRO!$E$37=\"Non-endemic\",\" \", IF(COUNTRY_INFO!C143=0,\" \",COUNTRY_INFO!C143)))","v":" "},{"$f":"IF(INTRO!$E$39<>\"Non-endemic\", 0, IF(INTRO!$E$37=\"Non-endemic\",0,IF(COUNTRY_INFO!$H143=1,COUNTRY_INFO!E143,0)))","v":0},{"$f":"IF(INTRO!$E$39<>\"Non-endemic\", 0, IF(INTRO!$E$37=\"Non-endemic\",0,IF(COUNTRY_INFO!$H143=1,COUNTRY_INFO!F143,0)))","v":0},{"$f":"IF(INTRO!$E$39<>\"Non-endemic\", 0, IF(INTRO!$E$37=\"Non-endemic\",0,IF(COUNTRY_INFO!$H143=1,COUNTRY_INFO!G143,0)))","v":0},0,{"$f":"IF(INTRO!$E$39=\"Non-endemic\",IF(INTRO!$E$37=\"Non-endemic\",\"Not required\",COUNTRY_INFO!P143),\"Treat with IVM\")","v":"Treat with IVM"},0,0,null,0,0]
[{"$f":"IF(INTRO!$E$39<>\"Non-endemic\", \" \", IF(INTRO!$E$37=\"Non-endemic\",\" \", IF(COUNTRY_INFO!A144=0,\" \",COUNTRY_INFO!A144)))","v":" "},{"$f":"IF(INTRO!$E$39<>\"Non-endemic\", \" \", IF(INTRO!$E$37=\"Non-endemic\",\" \", IF(COUNTRY_INFO!B144=0,\" \",COUNTRY_INFO!B144)))","v":" "},{"$f":"IF(INTRO!$E$39<>\"Non-endemic\", \" \", IF(INTRO!$E$37=\"Non-endemic\",\" \", IF(COUNTRY_INFO!C144=0,\" \",COUNTRY_INFO!C144)))","v":" "},{"$f":"IF(INTRO!$E$39<>\"Non-endemic\", 0, IF(INTRO!$E$37=\"Non-endemic\",0,IF(COUNTRY_INFO!$H144=1,COUNTRY_INFO!E144,0)))","v":0},{"$f":"IF(INTRO!$E$39<>\"Non-endemic\", 0, IF(INTRO!$E$37=\"Non-endemic\",0,IF(COUNTRY_INFO!$H144=1,COUNTRY_INFO!F144,0)))","v":0},{"$f":"IF(INTRO!$E$39<>\"Non-endemic\", 0, IF(INTRO!$E$37=\"Non-endemic\",0,IF(COUNTRY_INFO!$H144=1,COUNTRY_INFO!G144,0)))","v":0},0,{"$f":"IF(INTRO!$E$39=\"Non-endemic\",IF(INTRO!$E$37=\"Non-endemic\",\"Not required\",COUNTRY_INFO!P144),\"Treat with IVM\")","v":"Treat with IVM"},0,0,null,0,0]
[{"$f":"IF(INTRO!$E$39<>\"Non-endemic\", \" \", IF(INTRO!$E$37=\"Non-endemic\",\" \", IF(COUNTRY_INFO!A145=0,\" \",COUNTRY_INFO!A145)))","v":" "},{"$f":"IF(INTRO!$E$39<>\"Non-endemic\", \" \", IF(INTRO!$E$37=\"Non-endemic\",\" \", IF(COUNTRY_INFO!B145=0,\" \",COUNTRY_INFO!B145)))","v":" "},{"$f":"IF(INTRO!$E$39<>\"Non-endemic\", \" \", IF(INTRO!$E$37=\"Non-endemic\",\" \", IF(COUNTRY_INFO!C145=0,\" \",COUNTRY_INFO!C145)))","v":" "},{"$f":"IF(INTRO!$E$39<>\"Non-endemic\", 0, IF(INTRO!$E$37=\"Non-endemic\",0,IF(COUNTRY_INFO!$H145=1,COUNTRY_INFO!E145,0)))","v":0},{"$f":"IF(INTRO!$E$39<>\"Non-endemic\", 0, IF(INTRO!$E$37=\"Non-endemic\",0,IF(COUNTRY_INFO!$H145=1,COUNTRY_INFO!F145,0)))","v":0},{"$f":"IF(INTRO!$E$39<>\"Non-endemic\", 0, IF(INTRO!$E$37=\"Non-endemic\",0,IF(COUNTRY_INFO!$H145=1,COUNTRY_INFO!G145,0)))","v":0},0,{"$f":"IF(INTRO!$E$39=\"Non-endemic\",IF(INTRO!$E$37=\"Non-endemic\",\"Not required\",COUNTRY_INFO!P145),\"Treat with IVM\")","v":"Treat with IVM"},0,0,null,0,0]
[{"$f":"IF(INTRO!$E$39<>\"Non-endemic\", \" \", IF(INTRO!$E$37=\"Non-endemic\",\" \", IF(COUNTRY_INFO!A146=0,\" \",COUNTRY_INFO!A146)))","v":" "},{"$f":"IF(INTRO!$E$39<>\"Non-endemic\", \" \", IF(INTRO!$E$37=\"Non-endemic\",\" \", IF(COUNTRY_INFO!B146=0,\" \",COUNTRY_INFO!B146)))","v":" "},{"$f":"IF(INTRO!$E$39<>\"Non-endemic\", \" \", IF(INTRO!$E$37=\"Non-endemic\",\" \", IF(COUNTRY_INFO!C146=0,\" \",COUNTRY_INFO!C146)))","v":" "},{"$f":"IF(INTRO!$E$39<>\"Non-endemic\", 0, IF(INTRO!$E$37=\"Non-endemic\",0,IF(COUNTRY_INFO!$H146=1,COUNTRY_INFO!E146,0)))","v":0},{"$f":"IF(INTRO!$E$39<>\"Non-endemic\", 0, IF(INTRO!$E$37=\"Non-endemic\",0,IF(COUNTRY_INFO!$H146=1,COUNTRY_INFO!F146,0)))","v":0},{"$f":"IF(INTRO!$E$39<>\"Non-endemic\", 0, IF(INTRO!$E$37=\"Non-endemic\",0,IF(COUNTRY_INFO!$H146=1,COUNTRY_INFO!G146,0)))","v":0},0,{"$f":"IF(INTRO!$E$39=\"Non-endemic\",IF(INTRO!$E$37=\"Non-endemic\",\"Not required\",COUNTRY_INFO!P146),\"Treat with IVM\")","v":"Treat with IVM"},0,0,null,0,0]
[{"$f":"IF(INTRO!$E$39<>\"Non-endemic\", \" \", IF(INTRO!$E$37=\"Non-endemic\",\" \", IF(COUNTRY_INFO!A147=0,\" \",COUNTRY_INFO!A147)))","v":" "},{"$f":"IF(INTRO!$E$39<>\"Non-endemic\", \" \", IF(INTRO!$E$37=\"Non-endemic\",\" \", IF(COUNTRY_INFO!B147=0,\" \",COUNTRY_INFO!B147)))","v":" "},{"$f":"IF(INTRO!$E$39<>\"Non-endemic\", \" \", IF(INTRO!$E$37=\"Non-endemic\",\" \", IF(COUNTRY_INFO!C147=0,\" \",COUNTRY_INFO!C147)))","v":" "},{"$f":"IF(INTRO!$E$39<>\"Non-endemic\", 0, IF(INTRO!$E$37=\"Non-endemic\",0,IF(COUNTRY_INFO!$H147=1,COUNTRY_INFO!E147,0)))","v":0},{"$f":"IF(INTRO!$E$39<>\"Non-endemic\", 0, IF(INTRO!$E$37=\"Non-endemic\",0,IF(COUNTRY_INFO!$H147=1,COUNTRY_INFO!F147,0)))","v":0},{"$f":"IF(INTRO!$E$39<>\"Non-endemic\", 0, IF(INTRO!$E$37=\"Non-endemic\",0,IF(COUNTRY_INFO!$H147=1,COUNTRY_INFO!G147,0)))","v":0},0,{"$f":"IF(INTRO!$E$39=\"Non-endemic\",IF(INTRO!$E$37=\"Non-endemic\",\"Not required\",COUNTRY_INFO!P147),\"Treat with IVM\")","v":"Treat with IVM"},0,0,null,0,0]
[{"$f":"IF(INTRO!$E$39<>\"Non-endemic\", \" \", IF(INTRO!$E$37=\"Non-endemic\",\" \", IF(COUNTRY_INFO!A148=0,\" \",COUNTRY_INFO!A148)))","v":" "},{"$f":"IF(INTRO!$E$39<>\"Non-endemic\", \" \", IF(INTRO!$E$37=\"Non-endemic\",\" \", IF(COUNTRY_INFO!B148=0,\" \",COUNTRY_INFO!B148)))","v":" "},{"$f":"IF(INTRO!$E$39<>\"Non-endemic\", \" \", IF(INTRO!$E$37=\"Non-endemic\",\" \", IF(COUNTRY_INFO!C148=0,\" \",COUNTRY_INFO!C148)))","v":" "},{"$f":"IF(INTRO!$E$39<>\"Non-endemic\", 0, IF(INTRO!$E$37=\"Non-endemic\",0,IF(COUNTRY_INFO!$H148=1,COUNTRY_INFO!E148,0)))","v":0},{"$f":"IF(INTRO!$E$39<>\"Non-endemic\", 0, IF(INTRO!$E$37=\"Non-endemic\",0,IF(COUNTRY_INFO!$H148=1,COUNTRY_INFO!F148,0)))","v":0},{"$f":"IF(INTRO!$E$39<>\"Non-endemic\", 0, IF(INTRO!$E$37=\"Non-endemic\",0,IF(COUNTRY_INFO!$H148=1,COUNTRY_INFO!G148,0)))","v":0},0,{"$f":"IF(INTRO!$E$39=\"Non-endemic\",IF(INTRO!$E$37=\"Non-endemic\",\"Not required\",COUNTRY_INFO!P148),\"Treat with IVM\")","v":"Treat with IVM"},0,0,null,0,0]
[{"$f":"IF(INTRO!$E$39<>\"Non-endemic\", \" \", IF(INTRO!$E$37=\"Non-endemic\",\" \", IF(COUNTRY_INFO!A149=0,\" \",COUNTRY_INFO!A149)))","v":" "},{"$f":"IF(INTRO!$E$39<>\"Non-endemic\", \" \", IF(INTRO!$E$37=\"Non-endemic\",\" \", IF(COUNTRY_INFO!B149=0,\" \",COUNTRY_INFO!B149)))","v":" "},{"$f":"IF(INTRO!$E$39<>\"Non-endemic\", \" \", IF(INTRO!$E$37=\"Non-endemic\",\" \", IF(COUNTRY_INFO!C149=0,\" \",COUNTRY_INFO!C149)))","v":" "},{"$f":"IF(INTRO!$E$39<>\"Non-endemic\", 0, IF(INTRO!$E$37=\"Non-endemic\",0,IF(COUNTRY_INFO!$H149=1,COUNTRY_INFO!E149,0)))","v":0},{"$f":"IF(INTRO!$E$39<>\"Non-endemic\", 0, IF(INTRO!$E$37=\"Non-endemic\",0,IF(COUNTRY_INFO!$H149=1,COUNTRY_INFO!F149,0)))","v":0},{"$f":"IF(INTRO!$E$39<>\"Non-endemic\", 0, IF(INTRO!$E$37=\"Non-endemic\",0,IF(COUNTRY_INFO!$H149=1,COUNTRY_INFO!G149,0)))","v":0},0,{"$f":"IF(INTRO!$E$39=\"Non-endemic\",IF(INTRO!$E$37=\"Non-endemic\",\"Not required\",COUNTRY_INFO!P149),\"Treat with IVM\")","v":"Treat with IVM"},0,0,null,0,0]
[{"$f":"IF(INTRO!$E$39<>\"Non-endemic\", \" \", IF(INTRO!$E$37=\"Non-endemic\",\" \", IF(COUNTRY_INFO!A150=0,\" \",COUNTRY_INFO!A150)))","v":" "},{"$f":"IF(INTRO!$E$39<>\"Non-endemic\", \" \", IF(INTRO!$E$37=\"Non-endemic\",\" \", IF(COUNTRY_INFO!B150=0,\" \",COUNTRY_INFO!B150)))","v":" "},{"$f":"IF(INTRO!$E$39<>\"Non-endemic\", \" \", IF(INTRO!$E$37=\"Non-endemic\",\" \", IF(COUNTRY_INFO!C150=0,\" \",COUNTRY_INFO!C150)))","v":" "},{"$f":"IF(INTRO!$E$39<>\"Non-endemic\", 0, IF(INTRO!$E$37=\"Non-endemic\",0,IF(COUNTRY_INFO!$H150=1,COUNTRY_INFO!E150,0)))","v":0},{"$f":"IF(INTRO!$E$39<>\"Non-endemic\", 0, IF(INTRO!$E$37=\"Non-endemic\",0,IF(COUNTRY_INFO!$H150=1,COUNTRY_INFO!F150,0)))","v":0},{"$f":"IF(INTRO!$E$39<>\"Non-endemic\", 0, IF(INTRO!$E$37=\"Non-endemic\",0,IF(COUNTRY_INFO!$H150=1,COUNTRY_INFO!G150,0)))","v":0},0,{"$f":"IF(INTRO!$E$39=\"Non-endemic\",IF(INTRO!$E$37=\"Non-endemic\",\"Not required\",COUNTRY_INFO!P150),\"Treat with IVM\")","v":"Treat with IVM"},0,0,null,0,0]
[{"$f":"IF(INTRO!$E$39<>\"Non-endemic\", \" \", IF(INTRO!$E$37=\"Non-endemic\",\" \", IF(COUNTRY_INFO!A151=0,\" \",COUNTRY_INFO!A151)))","v":" "},{"$f":"IF(INTRO!$E$39<>\"Non-endemic\", \" \", IF(INTRO!$E$37=\"Non-endemic\",\" \", IF(COUNTRY_INFO!B151=0,\" \",COUNTRY_INFO!B151)))","v":" "},{"$f":"IF(INTRO!$E$39<>\"Non-endemic\", \" \", IF(INTRO!$E$37=\"Non-endemic\",\" \", IF(COUNTRY_INFO!C151=0,\" \",COUNTRY_INFO!C151)))","v":" "},{"$f":"IF(INTRO!$E$39<>\"Non-endemic\", 0, IF(INTRO!$E$37=\"Non-endemic\",0,IF(COUNTRY_INFO!$H151=1,COUNTRY_INFO!E151,0)))","v":0},{"$f":"IF(INTRO!$E$39<>\"Non-endemic\", 0, IF(INTRO!$E$37=\"Non-endemic\",0,IF(COUNTRY_INFO!$H151=1,COUNTRY_INFO!F151,0)))","v":0},{"$f":"IF(INTRO!$E$39<>\"Non-endemic\", 0, IF(INTRO!$E$37=\"Non-endemic\",0,IF(COUNTRY_INFO!$H151=1,COUNTRY_INFO!G151,0)))","v":0},0,{"$f":"IF(INTRO!$E$39=\"Non-endemic\",IF(INTRO!$E$37=\"Non-endemic\",\"Not required\",COUNTRY_INFO!P151),\"Treat with IVM\")","v":"Treat with IVM"},0,0,null,0,0]
[{"$f":"IF(INTRO!$E$39<>\"Non-endemic\", \" \", IF(INTRO!$E$37=\"Non-endemic\",\" \", IF(COUNTRY_INFO!A152=0,\" \",COUNTRY_INFO!A152)))","v":" "},{"$f":"IF(INTRO!$E$39<>\"Non-endemic\", \" \", IF(INTRO!$E$37=\"Non-endemic\",\" \", IF(COUNTRY_INFO!B152=0,\" \",COUNTRY_INFO!B152)))","v":" "},{"$f":"IF(INTRO!$E$39<>\"Non-endemic\", \" \", IF(INTRO!$E$37=\"Non-endemic\",\" \", IF(COUNTRY_INFO!C152=0,\" \",COUNTRY_INFO!C152)))","v":" "},{"$f":"IF(INTRO!$E$39<>\"Non-endemic\", 0, IF(INTRO!$E$37=\"Non-endemic\",0,IF(COUNTRY_INFO!$H152=1,COUNTRY_INFO!E152,0)))","v":0},{"$f":"IF(INTRO!$E$39<>\"Non-endemic\", 0, IF(INTRO!$E$37=\"Non-endemic\",0,IF(COUNTRY_INFO!$H152=1,COUNTRY_INFO!F152,0)))","v":0},{"$f":"IF(INTRO!$E$39<>\"Non-endemic\", 0, IF(INTRO!$E$37=\"Non-endemic\",0,IF(COUNTRY_INFO!$H152=1,COUNTRY_INFO!G152,0)))","v":0},0,{"$f":"IF(INTRO!$E$39=\"Non-endemic\",IF(INTRO!$E$37=\"Non-endemic\",\"Not required\",COUNTRY_INFO!P152),\"Treat with IVM\")","v":"Treat with IVM"},0,0,null,0,0]
[{"$f":"IF(INTRO!$E$39<>\"Non-endemic\", \" \", IF(INTRO!$E$37=\"Non-endemic\",\" \", IF(COUNTRY_INFO!A153=0,\" \",COUNTRY_INFO!A153)))","v":" "},{"$f":"IF(INTRO!$E$39<>\"Non-endemic\", \" \", IF(INTRO!$E$37=\"Non-endemic\",\" \", IF(COUNTRY_INFO!B153=0,\" \",COUNTRY_INFO!B153)))","v":" "},{"$f":"IF(INTRO!$E$39<>\"Non-endemic\", \" \", IF(INTRO!$E$37=\"Non-endemic\",\" \", IF(COUNTRY_INFO!C153=0,\" \",COUNTRY_INFO!C153)))","v":" "},{"$f":"IF(INTRO!$E$39<>\"Non-endemic\", 0, IF(INTRO!$E$37=\"Non-endemic\",0,IF(COUNTRY_INFO!$H153=1,COUNTRY_INFO!E153,0)))","v":0},{"$f":"IF(INTRO!$E$39<>\"Non-endemic\", 0, IF(INTRO!$E$37=\"Non-endemic\",0,IF(COUNTRY_INFO!$H153=1,COUNTRY_INFO!F153,0)))","v":0},{"$f":"IF(INTRO!$E$39<>\"Non-endemic\", 0, IF(INTRO!$E$37=\"Non-endemic\",0,IF(COUNTRY_INFO!$H153=1,COUNTRY_INFO!G153,0)))","v":0},0,{"$f":"IF(INTRO!$E$39=\"Non-endemic\",IF(INTRO!$E$37=\"Non-endemic\",\"Not required\",COUNTRY_INFO!P153),\"Treat with IVM\")","v":"Treat with IVM"},0,0,null,0,0]
[{"$f":"IF(INTRO!$E$39<>\"Non-endemic\", \" \", IF(INTRO!$E$37=\"Non-endemic\",\" \", IF(COUNTRY_INFO!A154=0,\" \",COUNTRY_INFO!A154)))","v":" "},{"$f":"IF(INTRO!$E$39<>\"Non-endemic\", \" \", IF(INTRO!$E$37=\"Non-endemic\",\" \", IF(COUNTRY_INFO!B154=0,\" \",COUNTRY_INFO!B154)))","v":" "},{"$f":"IF(INTRO!$E$39<>\"Non-endemic\", \" \", IF(INTRO!$E$37=\"Non-endemic\",\" \", IF(COUNTRY_INFO!C154=0,\" \",COUNTRY_INFO!C154)))","v":" "},{"$f":"IF(INTRO!$E$39<>\"Non-endemic\", 0, IF(INTRO!$E$37=\"Non-endemic\",0,IF(COUNTRY_INFO!$H154=1,COUNTRY_INFO!E154,0)))","v":0},{"$f":"IF(INTRO!$E$39<>\"Non-endemic\", 0, IF(INTRO!$E$37=\"Non-endemic\",0,IF(COUNTRY_INFO!$H154=1,COUNTRY_INFO!F154,0)))","v":0},{"$f":"IF(INTRO!$E$39<>\"Non-endemic\", 0, IF(INTRO!$E$37=\"Non-endemic\",0,IF(COUNTRY_INFO!$H154=1,COUNTRY_INFO!G154,0)))","v":0},0,{"$f":"IF(INTRO!$E$39=\"Non-endemic\",IF(INTRO!$E$37=\"Non-endemic\",\"Not required\",COUNTRY_INFO!P154),\"Treat with IVM\")","v":"Treat with IVM"},0,0,null,0,0]

{"sheet":"ALB_MBD","index":3,"n_rows":154,"n_cols":27,"rows_kept":154,"cut":false,"hidden":false,"merged":[[5,10,5,17],[5,8,7,8],[5,18,5,23],[6,26,7,26],[5,24,5,26],[6,24,7,24],[6,25,7,25],[6,22,7,22],[3,0,3,2],[3,6,3,7],[5,0,5,2],[5,6,5,7],[5,3,5,5],[6,0,7,0],[6,1,7,1],[6,2,7,2],[6,3,7,3],[6,23,7,23],[6,21,7,21],[6,18,7,18],[6,19,7,19],[6,20,7,20],[6,4,7,4],[6,5,7,5],[6,6,7,6],[6,7,7,7],[6,14,6,17],[5,9,7,9],[6,10,6,13]]}
["Albendazole (ALB) and Mebendazole (MBD)"]
["Administrative structure, eligible population by age group, treatment plan and information about tablets"]
[]
["TOTAL",null,null,{"$f":"SUM(D$9:D$1000)","v":6473921},{"$f":"SUM(E$9:E$1000)","v":13768463},{"$f":"SUM(F$9:F$1000)","v":20242384},null,null,{"$f":"SUM(I$9:I$1000)","v":0},null,{"$f":"SUM(K$9:K$1000)","v":0},{"$f":"SUM(L$9:L$1000)","v":0},{"$f":"SUM(M$9:M$1000)","v":0},{"$f":"SUM(N$9:N$1000)","v":0},{"$f":"SUM(O$9:O$1000)","v":12947842},{"$f":"SUM(P$9:P$1000)","v":27536926},0,40484768,0,0,0,0,0,0,0,27536926,183648]
[]
["Country administrative structure",null,null,"Population requiring treatment with ALB/MBD",null,null,"Treatment plan",null,"People covered by PELF with ALB","Select medicine for treatment of STH","Target population",null,null,null,null,null,null,null,"Albendazole (ALB)",null,null,null,null,null,"Mebendazole (MBD)"]
["Country","Province/State","District","PreSAC","SAC","Total","LF","STH",null,null,"STH (ALB)",null,null,null,"STH (MBD)",null,null,null,"Remaining in stock (LF)","Tablets to be procured (LF)","Bottle (400 mg)\n200 tablets (LF)","Remaining in stock (STH)","Tablets to be procured for SAC (STH)","Bottle (400 mg)\n200 tablets (STH)","Remaining in stock","Tablets to be procured for SAC","Bottles (500 mg)\n150 tablets"]
[null,null,null,null,null,null,null,null,null,null,"PreSAC","SAC","Other","Total","PreSAC","SAC","Other","Total"]
[{"$f":"IF(AND(INTRO!$E$37=\"Non-endemic\",INTRO!$E$41=\"Non-endemic\"),\" \",IF(COUNTRY_INFO!A9=0,\" \",COUNTRY_INFO!A9))","v":"Uganda"},{"$f":"IF(AND(INTRO!$E$37=\"Non-endemic\",INTRO!$E$41=\"Non-endemic\"),\" \",IF(COUNTRY_INFO!B9=0,\" \",COUNTRY_INFO!B9))","v":"CENTRAL"},{"$f":"IF(AND(INTRO!$E$37=\"Non-endemic\",INTRO!$E$41=\"Non-endemic\"),\" \",IF(COUNTRY_INFO!C9=0,\" \",COUNTRY_INFO!C9))","v":"BUIKWE"},{"$f":"IF(AND(INTRO!$E$37=\"Non-endemic\",INTRO!$E$41=\"Non-endemic\"),0,IF(AND(OR(COUNTRY_INFO!$H9=0,COUNTRY_INFO!$H9=4,COUNTRY_INFO!$H9=99),OR(COUNTRY_INFO!$J9=0,COUNTRY_INFO!$J9=4)),0,COUNTRY_INFO!$E9))","v":81069},{"$f":"IF(AND(INTRO!$E$37=\"Non-endemic\",INTRO!$E$41=\"Non-endemic\"),0,IF(AND(OR(COUNTRY_INFO!$H9=0,COUNTRY_INFO!$H9=4,COUNTRY_INFO!$H9=99),OR(COUNTRY_INFO!$J9=0,COUNTRY_INFO!$J9=4)),0,COUNTRY_INFO!$F9))","v":172413},{"$f":"SUM(D9:E9)","v":253482},{"$f":"IF(AND(INTRO!$E$37=\"Non-endemic\",INTRO!$E$41=\"Non-endemic\"),0,COUNTRY_INFO!P9)","v":0},{"$f":"IF(AND(INTRO!$E$37=\"Non-endemic\",INTRO!$E$41=\"Non-endemic\"),0,COUNTRY_INFO!R9)","v":2},{"$f":"IF(INTRO!$E$39=\"Non-endemic\",IF($G9=1,DEC!I9,0),IF($G9=1,IVM!G9,0))","v":0},"MBD",{"$f":"IF($J9=\"ALB\", IF(INTRO!$E$39=\"Non-endemic\", IF($H9<>0, IF($I9=0, $D9*$H9, $D9*($H9-$G9)), 0), $D9*$H9), 0)","v":0},{"$f":"IF($J9=\"ALB\", IF($H9<>0, IF($I9=0, $E9*$H9, $E9*($H9-$G9)),0), 0)","v":0},null,{"$f":"SUM(K9:M9)","v":0},{"$f":"IF($J9=\"MBD\", IF(INTRO!$E$39=\"Non-endemic\", IF($H9<>0, IF($I9=0, $D9*$H9, $D9*($H9-$G9)), 0), $D9*$H9), 0)","v":162138},{"$f":"IF($J9=\"MBD\", IF($H9<>0,IF($I9=0, $E9*$H9, $E9*($H9-$G9)),0), 0 )","v":344826},null,{"$f":"SUM(O9:Q9)","v":506964},null,{"$f":"IF($I9>$S9, $I9-$S9,0)","v":0},{"$f":"ROUNDUP($I9/200,0)","v":0},null,{"$f":"IF($L9>$V9,$L9-$V9,0)","v":0},{"$f":"ROUNDUP($L9/200,0)","v":0},null,{"$f":"IF($P9>$Y9,$P9-$Y9,0)","v":344826},{"$f":"ROUNDUP($P9/150,0)","v":2299}]
[{"$f":"IF(AND(INTRO!$E$37=\"Non-endemic\",INTRO!$E$41=\"Non-endemic\"),\" \",IF(COUNTRY_INFO!A10=0,\" \",COUNTRY_INFO!A10))","v":"Uganda"},{"$f":"IF(AND(INTRO!$E$37=\"Non-endemic\",INTRO!$E$41=\"Non-endemic\"),\" \",IF(COUNTRY_INFO!B10=0,\" \",COUNTRY_INFO!B10))","v":"CENTRAL"},{"$f":"IF(AND(INTRO!$E$37=\"Non-endemic\",INTRO!$E$41=\"Non-endemic\"),\" \",IF(COUNTRY_INFO!C10=0,\" \",COUNTRY_INFO!C10))","v":"BUKOMANSIMBI"},{"$f":"IF(AND(INTRO!$E$37=\"Non-endemic\",INTRO!$E$41=\"Non-endemic\"),0,IF(AND(OR(COUNTRY_INFO!$H10=0,COUNTRY_INFO!$H10=4,COUNTRY_INFO!$H10=99),OR(COUNTRY_INFO!$J10=0,COUNTRY_INFO!$J10=4)),0,COUNTRY_INFO!$E10))","v":28064},{"$f":"IF(AND(INTRO!$E$37=\"Non-endemic\",INTRO!$E$41=\"Non-endemic\"),0,IF(AND(OR(COUNTRY_INFO!$H10=0,COUNTRY_INFO!$H10=4,COUNTRY_INFO!$H10=99),OR(COUNTRY_INFO!$J10=0,COUNTRY_INFO!$J10=4)),0,COUNTRY_INFO!$F10))","v":59685},{"$f":"SUM(D10:E10)","v":87749},{"$f":"IF(AND(INTRO!$E$37=\"Non-endemic\",INTRO!$E$41=\"Non-endemic\"),0,COUNTRY_INFO!P10)","v":0},{"$f":"IF(AND(INTRO!$E$37=\"Non-endemic\",INTRO!$E$41=\"Non-endemic\"),0,COUNTRY_INFO!R10)","v":2},{"$f":"IF(INTRO!$E$39=\"Non-endemic\",IF($G10=1,DEC!I10,0),IF($G10=1,IVM!G10,0))","v":0},"MBD",{"$f":"IF($J10=\"ALB\", IF(INTRO!$E$39=\"Non-endemic\", IF($H10<>0, IF($I10=0, $D10*$H10, $D10*($H10-$G10)), 0), $D10*$H10), 0)","v":0},0,null,{"$f":"SUM(K10:M10)","v":0},{"$f":"IF($J10=\"MBD\", IF(INTRO!$E$39=\"Non-endemic\", IF($H10<>0, IF($I10=0, $D10*$H10, $D10*($H10-$G10)), 0), $D10*$H10), 0)","v":56128},119370,null,{"$f":"SUM(O10:Q10)","v":175498},null,0,0,null,0,0,null,119370,796]
[{"$f":"IF(AND(INTRO!$E$37=\"Non-endemic\",INTRO!$E$41=\"Non-endemic\"),\" \",IF(COUNTRY_INFO!A11=0,\" \",COUNTRY_INFO!A11))","v":"Uganda"},{"$f":"IF(AND(INTRO!$E$37=\"Non-endemic\",INTRO!$E$41=\"Non-endemic\"),\" \",IF(COUNTRY_INFO!B11=0,\" \",COUNTRY_INFO!B11))","v":"CENTRAL"},{"$f":"IF(AND(INTRO!$E$37=\"Non-endemic\",INTRO!$E$41=\"Non-endemic\"),\" \",IF(COUNTRY_INFO!C11=0,\" \",COUNTRY_INFO!C11))","v":"BUTAMBALA"},{"$f":"IF(AND(INTRO!$E$37=\"Non-endemic\",INTRO!$E$41=\"Non-endemic\"),0,IF(AND(OR(COUNTRY_INFO!$H11=0,COUNTRY_INFO!$H11=4,COUNTRY_INFO!$H11=99),OR(COUNTRY_INFO!$J11=0,COUNTRY_INFO!$J11=4)),0,COUNTRY_INFO!$E11))","v":18663},{"$f":"IF(AND(INTRO!$E$37=\"Non-endemic\",INTRO!$E$41=\"Non-endemic\"),0,IF(AND(OR(COUNTRY_INFO!$H11=0,COUNTRY_INFO!$H11=4,COUNTRY_INFO!$H11=99),OR(COUNTRY_INFO!$J11=0,COUNTRY_INFO!$J11=4)),0,COUNTRY_INFO!$F11))","v":39692},58355,{"$f":"IF(AND(INTRO!$E$37=\"Non-endemic\",INTRO!$E$41=\"Non-endemic\"),0,COUNTRY_INFO!P11)","v":0},{"$f":"IF(AND(INTRO!$E$37=\"Non-endemic\",INTRO!$E$41=\"Non-endemic\"),0,COUNTRY_INFO!R11)","v":2},{"$f":"IF(INTRO!$E$39=\"Non-endemic\",IF($G11=1,DEC!I11,0),IF($G11=1,IVM!G11,0))","v":0},"MBD",{"$f":"IF($J11=\"ALB\", IF(INTRO!$E$39=\"Non-endemic\", IF($H11<>0, IF($I11=0, $D11*$H11, $D11*($H11-$G11)), 0), $D11*$H11), 0)","v":0},0,null,0,{"$f":"IF($J11=\"MBD\", IF(INTRO!$E$39=\"Non-endemic\", IF($H11<>0, IF($I11=0, $D11*$H11, $D11*($H11-$G11)), 0), $D11*$H11), 0)","v":37326},79384,null,116710,null,0,0,null,0,0,null,79384,530]
[{"$f":"IF(AND(INTRO!$E$37=\"Non-endemic\",INTRO!$E$41=\"Non-endemic\"),\" \",IF(COUNTRY_INFO!A12=0,\" \",COUNTRY_INFO!A12))","v":"Uganda"},{"$f":"IF(AND(INTRO!$E$37=\"Non-endemic\",INTRO!$E$41=\"Non-endemic\"),\" \",IF(COUNTRY_INFO!B12=0,\" \",COUNTRY_INFO!B12))","v":"CENTRAL"},{"$f":"IF(AND(INTRO!$E$37=\"Non-endemic\",INTRO!$E$41=\"Non-endemic\"),\" \",IF(COUNTRY_INFO!C12=0,\" \",COUNTRY_INFO!C12))","v":"BUVUMA"},{"$f":"IF(AND(INTRO!$E$37=\"Non-endemic\",INTRO!$E$41=\"Non-endemic\"),0,IF(AND(OR(COUNTRY_INFO!$H12=0,COUNTRY_INFO!$H12=4,COUNTRY_INFO!$H12=99),OR(COUNTRY_INFO!$J12=0,COUNTRY_INFO!$J12=4)),0,COUNTRY_INFO!$E12))","v":16712},{"$f":"IF(AND(INTRO!$E$37=\"Non-endemic\",INTRO!$E$41=\"Non-endemic\"),0,IF(AND(OR(COUNTRY_INFO!$H12=0,COUNTRY_INFO!$H12=4,COUNTRY_INFO!$H12=99),OR(COUNTRY_INFO!$J12=0,COUNTRY_INFO!$J12=4)),0,COUNTRY_INFO!$F12))","v":35543},52255,{"$f":"IF(AND(INTRO!$E$37=\"Non-endemic\",INTRO!$E$41=\"Non-endemic\"),0,COUNTRY_INFO!P12)","v":0},{"$f":"IF(AND(INTRO!$E$37=\"Non-endemic\",INTRO!$E$41=\"Non-endemic\"),0,COUNTRY_INFO!R12)","v":2},{"$f":"IF(INTRO!$E$39=\"Non-endemic\",IF($G12=1,DEC!I12,0),IF($G12=1,IVM!G12,0))","v":0},"MBD",{"$f":"IF($J12=\"ALB\", IF(INTRO!$E$39=\"Non-endemic\", IF($H12<>0, IF($I12=0, $D12*$H12, $D12*($H12-$G12)), 0), $D12*$H12), 0)","v":0},0,null,0,{"$f":"IF($J12=\"MBD\", IF(INTRO!$E$39=\"Non-endemic\", IF($H12<>0, IF($I12=0, $D12*$H12, $D12*($H12-$G12)), 0), $D12*$H12), 0)","v":33424},71086,null,104510,null,0,0,null,0,0,null,71086,474]
[{"$f":"IF(AND(INTRO!$E$37=\"Non-endemic\",INTRO!$E$41=\"Non-endemic\"),\" \",IF(COUNTRY_INFO!A13=0,\" \",COUNTRY_INFO!A13))","v":"Uganda"},{"$f":"IF(AND(INTRO!$E$37=\"Non-endemic\",INTRO!$E$41=\"Non-endemic\"),\" \",IF(COUNTRY_INFO!B13=0,\" \",COUNTRY_INFO!B13))","v":"CENTRAL"},{"$f":"IF(AND(INTRO!$E$37=\"Non-endemic\",INTRO!$E$41=\"Non-endemic\"),\" \",IF(COUNTRY_INFO!C13=0,\" \",COUNTRY_INFO!C13))","v":"GOMBA"},{"$f":"IF(AND(INTRO!$E$37=\"Non-endemic\",INTRO!$E$41=\"Non-endemic\"),0,IF(AND(OR(COUNTRY_INFO!$H13=0,COUNTRY_INFO!$H13=4,COUNTRY_INFO!$H13=99),OR(COUNTRY_INFO!$J13=0,COUNTRY_INFO!$J13=4)),0,COUNTRY_INFO!$E13))","v":29737},{"$f":"IF(AND(INTRO!$E$37=\"Non-endemic\",INTRO!$E$41=\"Non-endemic\"),0,IF(AND(OR(COUNTRY_INFO!$H13=0,COUNTRY_INFO!$H13=4,COUNTRY_INFO!$H13=99),OR(COUNTRY_INFO!$J13=0,COUNTRY_INFO!$J13=4)),0,COUNTRY_INFO!$F13))","v":63242},92979,{"$f":"IF(AND(INTRO!$E$37=\"Non-endemic\",INTRO!$E$41=\"Non-endemic\"),0,COUNTRY_INFO!P13)","v":0},{"$f":"IF(AND(INTRO!$E$37=\"Non-endemic\",INTRO!$E$41=\"Non-endemic\"),0,COUNTRY_INFO!R13)","v":2},{"$f":"IF(INTRO!$E$39=\"Non-endemic\",IF($G13=1,DEC!I13,0),IF($G13=1,IVM!G13,0))","v":0},"MBD",{"$f":"IF($J13=\"ALB\", IF(INTRO!$E$39=\"Non-endemic\", IF($H13<>0, IF($I13=0, $D13*$H13, $D13*($H13-$G13)), 0), $D13*$H13), 0)","v":0},0,null,0,{"$f":"IF($J13=\"MBD\", IF(INTRO!$E$39=\"Non-endemic\", IF($H13<>0, IF($I13=0, $D13*$H13, $D13*($H13-$G13)), 0), $D13*$H13), 0)","v":59474},126484,null,185958,null,0,0,null,0,0,null,126484,844]
[{"$f":"IF(AND(INTRO!$E$37=\"Non-endemic\",INTRO!$E$41=\"Non-endemic\"),\" \",IF(COUNTRY_INFO!A14=0,\" \",COUNTRY_INFO!A14))","v":"Uganda"},{"$f":"IF(AND(INTRO!$E$37=\"Non-endemic\",INTRO!$E$41=\"Non-endemic\"),\" \",IF(COUNTRY_INFO!B14=0,\" \",COUNTRY_INFO!B14))","v":"CENTRAL"},{"$f":"IF(AND(INTRO!$E$37=\"Non-endemic\",INTRO!$E$41=\"Non-endemic\"),\" \",IF(COUNTRY_INFO!C14=0,\" \",COUNTRY_INFO!C14))","v":"KALANGALA"},{"$f":"IF(AND(INTRO!$E$37=\"Non-endemic\",INTRO!$E$41=\"Non-endemic\"),0,IF(AND(OR(COUNTRY_INFO!$H14=0,COUNTRY_INFO!$H14=4,COUNTRY_INFO!$H14=99),OR(COUNTRY_INFO!$J14=0,COUNTRY_INFO!$J14=4)),0,COUNTRY_INFO!$E14))","v":9922},{"$f":"IF(AND(INTRO!$E$37=\"Non-endemic\",INTRO!$E$41=\"Non-endemic\"),0,IF(AND(OR(COUNTRY_INFO!$H14=0,COUNTRY_INFO!$H14=4,COUNTRY_INFO!$H14=99),OR(COUNTRY_INFO!$J14=0,COUNTRY_INFO!$J14=4)),0,COUNTRY_INFO!$F14))","v":21102},31024,{"$f":"IF(AND(INTRO!$E$37=\"Non-endemic\",INTRO!$E$41=\"Non-endemic\"),0,COUNTRY_INFO!P14)","v":0},{"$f":"IF(AND(INTRO!$E$37=\"Non-endemic\",INTRO!$E$41=\"Non-endemic\"),0,COUNTRY_INFO!R14)","v":2},{"$f":"IF(INTRO!$E$39=\"Non-endemic\",IF($G14=1,DEC!I14,0),IF($G14=1,IVM!G14,0))","v":0},"MBD",{"$f":"IF($J14=\"ALB\", IF(INTRO!$E$39=\"Non-endemic\", IF($H14<>0, IF($I14=0, $D14*$H14, $D14*($H14-$G14)), 0), $D14*$H14), 0)","v":0},0,null,0,{"$f":"IF($J14=\"MBD\", IF(INTRO!$E$39=\"Non-endemic\", IF($H14<>0, IF($I14=0, $D14*$H14, $D14*($H14-$G14)), 0), $D14*$H14), 0)","v":19844},42204,null,62048,null,0,0,null,0,0,null,42204,282]
[{"$f":"IF(AND(INTRO!$E$37=\"Non-endemic\",INTRO!$E$41=\"Non-endemic\"),\" \",IF(COUNTRY_INFO!A15=0,\" \",COUNTRY_INFO!A15))","v":"Uganda"},{"$f":"IF(AND(INTRO!$E$37=\"Non-endemic\",INTRO!$E$41=\"Non-endemic\"),\" \",IF(COUNTRY_INFO!B15=0,\" \",COUNTRY_INFO!B15))","v":"CENTRAL"},{"$f":"IF(AND(INTRO!$E$37=\"Non-endemic\",INTRO!$E$41=\"Non-endemic\"),\" \",IF(COUNTRY_INFO!C15=0,\" \",COUNTRY_INFO!C15))","v":"KALUNGU"},{"$f":"IF(AND(INTRO!$E$37=\"Non-endemic\",INTRO!$E$41=\"Non-endemic\"),0,IF(AND(OR(COUNTRY_INFO!$H15=0,COUNTRY_INFO!$H15=4,COUNTRY_INFO!$H15=99),OR(COUNTRY_INFO!$J15=0,COUNTRY_INFO!$J15=4)),0,COUNTRY_INFO!$E15))","v":34205},{"$f":"IF(AND(INTRO!$E$37=\"Non-endemic\",INTRO!$E$41=\"Non-endemic\"),0,IF(AND(OR(COUNTRY_INFO!$H15=0,COUNTRY_INFO!$H15=4,COUNTRY_INFO!$H15=99),OR(COUNTRY_INFO!$J15=0,COUNTRY_INFO!$J15=4)),0,COUNTRY_INFO!$F15))","v":72745},106950,{"$f":"IF(AND(INTRO!$E$37=\"Non-endemic\",INTRO!$E$41=\"Non-endemic\"),0,COUNTRY_INFO!P15)","v":0},{"$f":"IF(AND(INTRO!$E$37=\"Non-endemic\",INTRO!$E$41=\"Non-endemic\"),0,COUNTRY_INFO!R15)","v":2},{"$f":"IF(INTRO!$E$39=\"Non-endemic\",IF($G15=1,DEC!I15,0),IF($G15=1,IVM!G15,0))","v":0},"MBD",{"$f":"IF($J15=\"ALB\", IF(INTRO!$E$39=\"Non-endemic\", IF($H15<>0, IF($I15=0, $D15*$H15, $D15*($H15-$G15)), 0), $D15*$H15), 0)","v":0},0,null,0,{"$f":"IF($J15=\"MBD\", IF(INTRO!$E$39=\"Non-endemic\", IF($H15<>0, IF($I15=0, $D15*$H15, $D15*($H15-$G15)), 0), $D15*$H15), 0)","v":68410},145490,null,213900,null,0,0,null,0,0,null,145490,970]
[{"$f":"IF(AND(INTRO!$E$37=\"Non-endemic\",INTRO!$E$41=\"Non-endemic\"),\" \",IF(COUNTRY_INFO!A16=0,\" \",COUNTRY_INFO!A16))","v":"Uganda"},{"$f":"IF(AND(INTRO!$E$37=\"Non-endemic\",INTRO!$E$41=\"Non-endemic\"),\" \",IF(COUNTRY_INFO!B16=0,\" \",COUNTRY_INFO!B16))","v":"CENTRAL"},{"$f":"IF(AND(INTRO!$E$37=\"Non-endemic\",INTRO!$E$41=\"Non-endemic\"),\" \",IF(COUNTRY_INFO!C16=0,\" \",COUNTRY_INFO!C16))","v":"KAMPALA"},{"$f":"IF(AND(INTRO!$E$37=\"Non-endemic\",INTRO!$E$41=\"Non-endemic\"),0,IF(AND(OR(COUNTRY_INFO!$H16=0,COUNTRY_INFO!$H16=4,COUNTRY_INFO!$H16=99),OR(COUNTRY_INFO!$J16=0,COUNTRY_INFO!$J16=4)),0,COUNTRY_INFO!$E16))","v":281658},{"$f":"IF(AND(INTRO!$E$37=\"Non-endemic\",INTRO!$E$41=\"Non-endemic\"),0,IF(AND(OR(COUNTRY_INFO!$H16=0,COUNTRY_INFO!$H16=4,COUNTRY_INFO!$H16=99),OR(COUNTRY_INFO!$J16=0,COUNTRY_INFO!$J16=4)),0,COUNTRY_INFO!$F16))","v":599019},880677,{"$f":"IF(AND(INTRO!$E$37=\"Non-endemic\",INTRO!$E$41=\"Non-endemic\"),0,COUNTRY_INFO!P16)","v":0},{"$f":"IF(AND(INTRO!$E$37=\"Non-endemic\",INTRO!$E$41=\"Non-endemic\"),0,COUNTRY_INFO!R16)","v":2},{"$f":"IF(INTRO!$E$39=\"Non-endemic\",IF($G16=1,DEC!I16,0),IF($G16=1,IVM!G16,0))","v":0},"MBD",{"$f":"IF($J16=\"ALB\", IF(INTRO!$E$39=\"Non-endemic\", IF($H16<>0, IF($I16=0, $D16*$H16, $D16*($H16-$G16)), 0), $D16*$H16), 0)","v":0},0,null,0,{"$f":"IF($J16=\"MBD\", IF(INTRO!$E$39=\"Non-endemic\", IF($H16<>0, IF($I16=0, $D16*$H16, $D16*($H16-$G16)), 0), $D16*$H16), 0)","v":563316},1198038,null,1761354,null,0,0,null,0,0,null,1198038,7987]
[{"$f":"IF(AND(INTRO!$E$37=\"Non-endemic\",INTRO!$E$41=\"Non-endemic\"),\" \",IF(COUNTRY_INFO!A17=0,\" \",COUNTRY_INFO!A17))","v":"Uganda"},{"$f":"IF(AND(INTRO!$E$37=\"Non-endemic\",INTRO!$E$41=\"Non-endemic\"),\" \",IF(COUNTRY_INFO!B17=0,\" \",COUNTRY_INFO!B17))","v":"CENTRAL"},{"$f":"IF(AND(INTRO!$E$37=\"Non-endemic\",INTRO!$E$41=\"Non-endemic\"),\" \",IF(COUNTRY_INFO!C17=0,\" \",COUNTRY_INFO!C17))","v":"KASSANDA"},{"$f":"IF(AND(INTRO!$E$37=\"Non-endemic\",INTRO!$E$41=\"Non-endemic\"),0,IF(AND(OR(COUNTRY_INFO!$H17=0,COUNTRY_INFO!$H17=4,COUNTRY_INFO!$H17=99),OR(COUNTRY_INFO!$J17=0,COUNTRY_INFO!$J17=4)),0,COUNTRY_INFO!$E17))","v":51135},{"$f":"IF(AND(INTRO!$E$37=\"Non-endemic\",INTRO!$E$41=\"Non-endemic\"),0,IF(AND(OR(COUNTRY_INFO!$H17=0,COUNTRY_INFO!$H17=4,COUNTRY_INFO!$H17=99),OR(COUNTRY_INFO!$J17=0,COUNTRY_INFO!$J17=4)),0,COUNTRY_INFO!$F17))","v":108751},159886,{"$f":"IF(AND(INTRO!$E$37=\"Non-endemic\",INTRO!$E$41=\"Non-endemic\"),0,COUNTRY_INFO!P17)","v":0},{"$f":"IF(AND(INTRO!$E$37=\"Non-endemic\",INTRO!$E$41=\"Non-endemic\"),0,COUNTRY_INFO!R17)","v":2},{"$f":"IF(INTRO!$E$39=\"Non-endemic\",IF($G17=1,DEC!I17,0),IF($G17=1,IVM!G17,0))","v":0},"MBD",{"$f":"IF($J17=\"ALB\", IF(INTRO!$E$39=\"Non-endemic\", IF($H17<>0, IF($I17=0, $D17*$H17, $D17*($H17-$G17)), 0), $D17*$H17), 0)","v":0},0,null,0,{"$f":"IF($J17=\"MBD\", IF(INTRO!$E$39=\"Non-endemic\", IF($H17<>0, IF($I17=0, $D17*$H17, $D17*($H17-$G17)), 0), $D17*$H17), 0)","v":102270},217502,null,319772,null,0,0,null,0,0,null,217502,1451]
[{"$f":"IF(AND(INTRO!$E$37=\"Non-endemic\",INTRO!$E$41=\"Non-endemic\"),\" \",IF(COUNTRY_INFO!A18=0,\" \",COUNTRY_INFO!A18))","v":"Uganda"},{"$f":"IF(AND(INTRO!$E$37=\"Non-endemic\",INTRO!$E$41=\"Non-endemic\"),\" \",IF(COUNTRY_INFO!B18=0,\" \",COUNTRY_INFO!B18))","v":"CENTRAL"},{"$f":"IF(AND(INTRO!$E$37=\"Non-endemic\",INTRO!$E$41=\"Non-endemic\"),\" \",IF(COUNTRY_INFO!C18=0,\" \",COUNTRY_INFO!C18))","v":"KAYUNGA"},{"$f":"IF(AND(INTRO!$E$37=\"Non-endemic\",INTRO!$E$41=\"Non-endemic\"),0,IF(AND(OR(COUNTRY_INFO!$H18=0,COUNTRY_INFO!$H18=4,COUNTRY_INFO!$H18=99),OR(COUNTRY_INFO!$J18=0,COUNTRY_INFO!$J18=4)),0,COUNTRY_INFO!$E18))","v":68772},{"$f":"IF(AND(INTRO!$E$37=\"Non-endemic\",INTRO!$E$41=\"Non-endemic\"),0,IF(AND(OR(COUNTRY_INFO!$H18=0,COUNTRY_INFO!$H18=4,COUNTRY_INFO!$H18=99),OR(COUNTRY_INFO!$J18=0,COUNTRY_INFO!$J18=4)),0,COUNTRY_INFO!$F18))","v":146261},215033,{"$f":"IF(AND(INTRO!$E$37=\"Non-endemic\",INTRO!$E$41=\"Non-endemic\"),0,COUNTRY_INFO!P18)","v":0},{"$f":"IF(AND(INTRO!$E$37=\"Non-endemic\",INTRO!$E$41=\"Non-endemic\"),0,COUNTRY_INFO!R18)","v":2},{"$f":"IF(INTRO!$E$39=\"Non-endemic\",IF($G18=1,DEC!I18,0),IF($G18=1,IVM!G18,0))","v":0},"MBD",{"$f":"IF($J18=\"ALB\", IF(INTRO!$E$39=\"Non-endemic\", IF($H18<>0, IF($I18=0, $D18*$H18, $D18*($H18-$G18)), 0), $D18*$H18), 0)","v":0},0,null,0,{"$f":"IF($J18=\"MBD\", IF(INTRO!$E$39=\"Non-endemic\", IF($H18<>0, IF($I18=0, $D18*$H18, $D18*($H18-$G18)), 0), $D18*$H18), 0)","v":137544},292522,null,430066,null,0,0,null,0,0,null,292522,1951]
[{"$f":"IF(AND(INTRO!$E$37=\"Non-endemic\",INTRO!$E$41=\"Non-endemic\"),\" \",IF(COUNTRY_INFO!A19=0,\" \",COUNTRY_INFO!A19))","v":"Uganda"},{"$f":"IF(AND(INTRO!$E$37=\"Non-endemic\",INTRO!$E$41=\"Non-endemic\"),\" \",IF(COUNTRY_INFO!B19=0,\" \",COUNTRY_INFO!B19))","v":"CENTRAL"},{"$f":"IF(AND(INTRO!$E$37=\"Non-endemic\",INTRO!$E$41=\"Non-endemic\"),\" \",IF(COUNTRY_INFO!C19=0,\" \",COUNTRY_INFO!C19))","v":"KIBOGA"},{"$f":"IF(AND(INTRO!$E$37=\"Non-endemic\",INTRO!$E$41=\"Non-endemic\"),0,IF(AND(OR(COUNTRY_INFO!$H19=0,COUNTRY_INFO!$H19=4,COUNTRY_INFO!$H19=99),OR(COUNTRY_INFO!$J19=0,COUNTRY_INFO!$J19=4)),0,COUNTRY_INFO!$E19))","v":27534},{"$f":"IF(AND(INTRO!$E$37=\"Non-endemic\",INTRO!$E$41=\"Non-endemic\"),0,IF(AND(OR(COUNTRY_INFO!$H19=0,COUNTRY_INFO!$H19=4,COUNTRY_INFO!$H19=99),OR(COUNTRY_INFO!$J19=0,COUNTRY_INFO!$J19=4)),0,COUNTRY_INFO!$F19))","v":58557},86091,{"$f":"IF(AND(INTRO!$E$37=\"Non-endemic\",INTRO!$E$41=\"Non-endemic\"),0,COUNTRY_INFO!P19)","v":0},{"$f":"IF(AND(INTRO!$E$37=\"Non-endemic\",INTRO!$E$41=\"Non-endemic\"),0,COUNTRY_INFO!R19)","v":2},{"$f":"IF(INTRO!$E$39=\"Non-endemic\",IF($G19=1,DEC!I19,0),IF($G19=1,IVM!G19,0))","v":0},"MBD",{"$f":"IF($J19=\"ALB\", IF(INTRO!$E$39=\"Non-endemic\", IF($H19<>0, IF($I19=0, $D19*$H19, $D19*($H19-$G19)), 0), $D19*$H19), 0)","v":0},0,null,0,{"$f":"IF($J19=\"MBD\", IF(INTRO!$E$39=\"Non-endemic\", IF($H19<>0, IF($I19=0, $D19*$H19, $D19*($H19-$G19)), 0), $D19*$H19), 0)","v":55068},117114,null,172182,null,0,0,null,0,0,null,117114,781]
[{"$f":"IF(AND(INTRO!$E$37=\"Non-endemic\",INTRO!$E$41=\"Non-endemic\"),\" \",IF(COUNTRY_INFO!A20=0,\" \",COUNTRY_INFO!A20))","v":"Uganda"},{"$f":"IF(AND(INTRO!$E$37=\"Non-endemic\",INTRO!$E$41=\"Non-endemic\"),\" \",IF(COUNTRY_INFO!B20=0,\" \",COUNTRY_INFO!B20))","v":"CENTRAL"},{"$f":"IF(AND(INTRO!$E$37=\"Non-endemic\",INTRO!$E$41=\"Non-endemic\"),\" \",IF(COUNTRY_INFO!C20=0,\" \",COUNTRY_INFO!C20))","v":"KYANKWANZI"},{"$f":"IF(AND(INTRO!$E$37=\"Non-endemic\",INTRO!$E$41=\"Non-endemic\"),0,IF(AND(OR(COUNTRY_INFO!$H20=0,COUNTRY_INFO!$H20=4,COUNTRY_INFO!$H20=99),OR(COUNTRY_INFO!$J20=0,COUNTRY_INFO!$J20=4)),0,COUNTRY_INFO!$E20))","v":39883},{"$f":"IF(AND(INTRO!$E$37=\"Non-endemic\",INTRO!$E$41=\"Non-endemic\"),0,IF(AND(OR(COUNTRY_INFO!$H20=0,COUNTRY_INFO!$H20=4,COUNTRY_INFO!$H20=99),OR(COUNTRY_INFO!$J20=0,COUNTRY_INFO!$J20=4)),0,COUNTRY_INFO!$F20))","v":84821},124704,{"$f":"IF(AND(INTRO!$E$37=\"Non-endemic\",INTRO!$E$41=\"Non-endemic\"),0,COUNTRY_INFO!P20)","v":0},{"$f":"IF(AND(INTRO!$E$37=\"Non-endemic\",INTRO!$E$41=\"Non-endemic\"),0,COUNTRY_INFO!R20)","v":2},{"$f":"IF(INTRO!$E$39=\"Non-endemic\",IF($G20=1,DEC!I20,0),IF($G20=1,IVM!G20,0))","v":0},"MBD",{"$f":"IF($J20=\"ALB\", IF(INTRO!$E$39=\"Non-endemic\", IF($H20<>0, IF($I20=0, $D20*$H20, $D20*($H20-$G20)), 0), $D20*$H20), 0)","v":0},0,null,0,{"$f":"IF($J20=\"MBD\", IF(INTRO!$E$39=\"Non-endemic\", IF($H20<>0, IF($I20=0, $D20*$H20, $D20*($H20-$G20)), 0), $D20*$H20), 0)","v":79766},169642,null,249408,null,0,0,null,0,0,null,169642,1131]
[{"$f":"IF(AND(INTRO!$E$37=\"Non-endemic\",INTRO!$E$41=\"Non-endemic\"),\" \",IF(COUNTRY_INFO!A21=0,\" \",COUNTRY_INFO!A21))","v":"Uganda"},{"$f":"IF(AND(INTRO!$E$37=\"Non-endemic\",INTRO!$E$41=\"Non-endemic\"),\" \",IF(COUNTRY_INFO!B21=0,\" \",COUNTRY_INFO!B21))","v":"CENTRAL"},{"$f":"IF(AND(INTRO!$E$37=\"Non-endemic\",INTRO!$E$41=\"Non-endemic\"),\" \",IF(COUNTRY_INFO!C21=0,\" \",COUNTRY_INFO!C21))","v":"KYOTERA"},{"$f":"IF(AND(INTRO!$E$37=\"Non-endemic\",INTRO!$E$41=\"Non-endemic\"),0,IF(AND(OR(COUNTRY_INFO!$H21=0,COUNTRY_INFO!$H21=4,COUNTRY_INFO!$H21=99),OR(COUNTRY_INFO!$J21=0,COUNTRY_INFO!$J21=4)),0,COUNTRY_INFO!$E21))","v":30079},{"$f":"IF(AND(INTRO!$E$37=\"Non-endemic\",INTRO!$E$41=\"Non-endemic\"),0,IF(AND(OR(COUNTRY_INFO!$H21=0,COUNTRY_INFO!$H21=4,COUNTRY_INFO!$H21=99),OR(COUNTRY_INFO!$J21=0,COUNTRY_INFO!$J21=4)),0,COUNTRY_INFO!$F21))","v":63970},94049,{"$f":"IF(AND(INTRO!$E$37=\"Non-endemic\",INTRO!$E$41=\"Non-endemic\"),0,COUNTRY_INFO!P21)","v":0},{"$f":"IF(AND(INTRO!$E$37=\"Non-endemic\",INTRO!$E$41=\"Non-endemic\"),0,COUNTRY_INFO!R21)","v":2},{"$f":"IF(INTRO!$E$39=\"Non-endemic\",IF($G21=1,DEC!I21,0),IF($G21=1,IVM!G21,0))","v":0},"MBD",{"$f":"IF($J21=\"ALB\", IF(INTRO!$E$39=\"Non-endemic\", IF($H21<>0, IF($I21=0, $D21*$H21, $D21*($H21-$G21)), 0), $D21*$H21), 0)","v":0},0,null,0,{"$f":"IF($J21=\"MBD\", IF(INTRO!$E$39=\"Non-endemic\", IF($H21<>0, IF($I21=0, $D21*$H21, $D21*($H21-$G21)), 0), $D21*$H21), 0)","v":60158},127940,null,188098,null,0,0,null,0,0,null,127940,853]
[{"$f":"IF(AND(INTRO!$E$37=\"Non-endemic\",INTRO!$E$41=\"Non-endemic\"),\" \",IF(COUNTRY_INFO!A22=0,\" \",COUNTRY_INFO!A22))","v":"Uganda"},{"$f":"IF(AND(INTRO!$E$37=\"Non-endemic\",INTRO!$E$41=\"Non-endemic\"),\" \",IF(COUNTRY_INFO!B22=0,\" \",COUNTRY_INFO!B22))","v":"CENTRAL"},{"$f":"IF(AND(INTRO!$E$37=\"Non-endemic\",INTRO!$E$41=\"Non-endemic\"),\" \",IF(COUNTRY_INFO!C22=0,\" \",COUNTRY_INFO!C22))","v":"LUWERO"},{"$f":"IF(AND(INTRO!$E$37=\"Non-endemic\",INTRO!$E$41=\"Non-endemic\"),0,IF(AND(OR(COUNTRY_INFO!$H22=0,COUNTRY_INFO!$H22=4,COUNTRY_INFO!$H22=99),OR(COUNTRY_INFO!$J22=0,COUNTRY_INFO!$J22=4)),0,COUNTRY_INFO!$E22))","v":84886},{"$f":"IF(AND(INTRO!$E$37=\"Non-endemic\",INTRO!$E$41=\"Non-endemic\"),0,IF(AND(OR(COUNTRY_INFO!$H22=0,COUNTRY_INFO!$H22=4,COUNTRY_INFO!$H22=99),OR(COUNTRY_INFO!$J22=0,COUNTRY_INFO!$J22=4)),0,COUNTRY_INFO!$F22))","v":180533},265419,{"$f":"IF(AND(INTRO!$E$37=\"Non-endemic\",INTRO!$E$41=\"Non-endemic\"),0,COUNTRY_INFO!P22)","v":0},{"$f":"IF(AND(INTRO!$E$37=\"Non-endemic\",INTRO!$E$41=\"Non-endemic\"),0,COUNTRY_INFO!R22)","v":2},{"$f":"IF(INTRO!$E$39=\"Non-endemic\",IF($G22=1,DEC!I22,0),IF($G22=1,IVM!G22,0))","v":0},"MBD",{"$f":"IF($J22=\"ALB\", IF(INTRO!$E$39=\"Non-endemic\", IF($H22<>0, IF($I22=0, $D22*$H22, $D22*($H22-$G22)), 0), $D22*$H22), 0)","v":0},0,null,0,{"$f":"IF($J22=\"MBD\", IF(INTRO!$E$39=\"Non-endemic\", IF($H22<>0, IF($I22=0, $D22*$H22, $D22*($H22-$G22)), 0), $D22*$H22), 0)","v":169772},361066,null,530838,null,0,0,null,0,0,null,361066,2408]
[{"$f":"IF(AND(INTRO!$E$37=\"Non-endemic\",INTRO!$E$41=\"Non-endemic\"),\" \",IF(COUNTRY_INFO!A23=0,\" \",COUNTRY_INFO!A23))","v":"Uganda"},{"$f":"IF(AND(INTRO!$E$37=\"Non-endemic\",INTRO!$E$41=\"Non-endemic\"),\" \",IF(COUNTRY_INFO!B23=0,\" \",COUNTRY_INFO!B23))","v":"CENTRAL"},{"$f":"IF(AND(INTRO!$E$37=\"Non-endemic\",INTRO!$E$41=\"Non-endemic\"),\" \",IF(COUNTRY_INFO!C23=0,\" \",COUNTRY_INFO!C23))","v":"LWENGO"},{"$f":"IF(AND(INTRO!$E$37=\"Non-endemic\",INTRO!$E$41=\"Non-endemic\"),0,IF(AND(OR(COUNTRY_INFO!$H23=0,COUNTRY_INFO!$H23=4,COUNTRY_INFO!$H23=99),OR(COUNTRY_INFO!$J23=0,COUNTRY_INFO!$J23=4)),0,COUNTRY_INFO!$E23))","v":51169},{"$f":"IF(AND(INTRO!$E$37=\"Non-endemic\",INTRO!$E$41=\"Non-endemic\"),0,IF(AND(OR(COUNTRY_INFO!$H23=0,COUNTRY_INFO!$H23=4,COUNTRY_INFO!$H23=99),OR(COUNTRY_INFO!$J23=0,COUNTRY_INFO!$J23=4)),0,COUNTRY_INFO!$F23))","v":108823},159992,{"$f":"IF(AND(INTRO!$E$37=\"Non-endemic\",INTRO!$E$41=\"Non-endemic\"),0,COUNTRY_INFO!P23)","v":0},{"$f":"IF(AND(INTRO!$E$37=\"Non-endemic\",INTRO!$E$41=\"Non-endemic\"),0,COUNTRY_INFO!R23)","v":2},{"$f":"IF(INTRO!$E$39=\"Non-endemic\",IF($G23=1,DEC!I23,0),IF($G23=1,IVM!G23,0))","v":0},"MBD",{"$f":"IF($J23=\"ALB\", IF(INTRO!$E$39=\"Non-endemic\", IF($H23<>0, IF($I23=0, $D23*$H23, $D23*($H23-$G23)), 0), $D23*$H23), 0)","v":0},0,null,0,{"$f":"IF($J23=\"MBD\", IF(INTRO!$E$39=\"Non-endemic\", IF($H23<>0, IF($I23=0, $D23*$H23, $D23*($H23-$G23)), 0), $D23*$H23), 0)","v":102338},217646,null,319984,null,0,0,null,0,0,null,217646,1451]
[{"$f":"IF(AND(INTRO!$E$37=\"Non-endemic\",INTRO!$E$41=\"Non-endemic\"),\" \",IF(COUNTRY_INFO!A24=0,\" \",COUNTRY_INFO!A24))","v":"Uganda"},{"$f":"IF(AND(INTRO!$E$37=\"Non-endemic\",INTRO!$E$41=\"Non-endemic\"),\" \",IF(COUNTRY_INFO!B24=0,\" \",COUNTRY_INFO!B24))","v":"CENTRAL"},{"$f":"IF(AND(INTRO!$E$37=\"Non-endemic\",INTRO!$E$41=\"Non-endemic\"),\" \",IF(COUNTRY_INFO!C24=0,\" \",COUNTRY_INFO!C24))","v":"LYANTONDE"},{"$f":"IF(AND(INTRO!$E$37=\"Non-endemic\",INTRO!$E$41=\"Non-endemic\"),0,IF(AND(OR(COUNTRY_INFO!$H24=0,COUNTRY_INFO!$H24=4,COUNTRY_INFO!$H24=99),OR(COUNTRY_INFO!$J24=0,COUNTRY_INFO!$J24=4)),0,COUNTRY_INFO!$E24))","v":17568},{"$f":"IF(AND(INTRO!$E$37=\"Non-endemic\",INTRO!$E$41=\"Non-endemic\"),0,IF(AND(OR(COUNTRY_INFO!$H24=0,COUNTRY_INFO!$H24=4,COUNTRY_INFO!$H24=99),OR(COUNTRY_INFO!$J24=0,COUNTRY_INFO!$J24=4)),0,COUNTRY_INFO!$F24))","v":37363},54931,{"$f":"IF(AND(INTRO!$E$37=\"Non-endemic\",INTRO!$E$41=\"Non-endemic\"),0,COUNTRY_INFO!P24)","v":0},{"$f":"IF(AND(INTRO!$E$37=\"Non-endemic\",INTRO!$E$41=\"Non-endemic\"),0,COUNTRY_INFO!R24)","v":2},{"$f":"IF(INTRO!$E$39=\"Non-endemic\",IF($G24=1,DEC!I24,0),IF($G24=1,IVM!G24,0))","v":0},"MBD",{"$f":"IF($J24=\"ALB\", IF(INTRO!$E$39=\"Non-endemic\", IF($H24<>0, IF($I24=0, $D24*$H24, $D24*($H24-$G24)), 0), $D24*$H24), 0)","v":0},0,null,0,{"$f":"IF($J24=\"MBD\", IF(INTRO!$E$39=\"Non-endemic\", IF($H24<>0, IF($I24=0, $D24*$H24, $D24*($H24-$G24)), 0), $D24*$H24), 0)","v":35136},74726,null,109862,null,0,0,null,0,0,null,74726,499]
[{"$f":"IF(AND(INTRO!$E$37=\"Non-endemic\",INTRO!$E$41=\"Non-endemic\"),\" \",IF(COUNTRY_INFO!A25=0,\" \",COUNTRY_INFO!A25))","v":"Uganda"},{"$f":"IF(AND(INTRO!$E$37=\"Non-endemic\",INTRO!$E$41=\"Non-endemic\"),\" \",IF(COUNTRY_INFO!B25=0,\" \",COUNTRY_INFO!B25))","v":"CENTRAL"},{"$f":"IF(AND(INTRO!$E$37=\"Non-endemic\",INTRO!$E$41=\"Non-endemic\"),\" \",IF(COUNTRY_INFO!C25=0,\" \",COUNTRY_INFO!C25))","v":"MASAKA"},{"$f":"IF(AND(INTRO!$E$37=\"Non-endemic\",INTRO!$E$41=\"Non-endemic\"),0,IF(AND(OR(COUNTRY_INFO!$H25=0,COUNTRY_INFO!$H25=4,COUNTRY_INFO!$H25=99),OR(COUNTRY_INFO!$J25=0,COUNTRY_INFO!$J25=4)),0,COUNTRY_INFO!$E25))","v":35819},{"$f":"IF(AND(INTRO!$E$37=\"Non-endemic\",INTRO!$E$41=\"Non-endemic\"),0,IF(AND(OR(COUNTRY_INFO!$H25=0,COUNTRY_INFO!$H25=4,COUNTRY_INFO!$H25=99),OR(COUNTRY_INFO!$J25=0,COUNTRY_INFO!$J25=4)),0,COUNTRY_INFO!$F25))","v":76178},111997,{"$f":"IF(AND(INTRO!$E$37=\"Non-endemic\",INTRO!$E$41=\"Non-endemic\"),0,COUNTRY_INFO!P25)","v":0},{"$f":"IF(AND(INTRO!$E$37=\"Non-endemic\",INTRO!$E$41=\"Non-endemic\"),0,COUNTRY_INFO!R25)","v":2},{"$f":"IF(INTRO!$E$39=\"Non-endemic\",IF($G25=1,DEC!I25,0),IF($G25=1,IVM!G25,0))","v":0},"MBD",{"$f":"IF($J25=\"ALB\", IF(INTRO!$E$39=\"Non-endemic\", IF($H25<>0, IF($I25=0, $D25*$H25, $D25*($H25-$G25)), 0), $D25*$H25), 0)","v":0},0,null,0,{"$f":"IF($J25=\"MBD\", IF(INTRO!$E$39=\"Non-endemic\", IF($H25<>0, IF($I25=0, $D25*$H25, $D25*($H25-$G25)), 0), $D25*$H25), 0)","v":71638},152356,null,223994,null,0,0,null,0,0,null,152356,1016]
[{"$f":"IF(AND(INTRO!$E$37=\"Non-endemic\",INTRO!$E$41=\"Non-endemic\"),\" \",IF(COUNTRY_INFO!A26=0,\" \",COUNTRY_INFO!A26))","v":"Uganda"},{"$f":"IF(AND(INTRO!$E$37=\"Non-endemic\",INTRO!$E$41=\"Non-endemic\"),\" \",IF(COUNTRY_INFO!B26=0,\" \",COUNTRY_INFO!B26))","v":"CENTRAL"},{"$f":"IF(AND(INTRO!$E$37=\"Non-endemic\",INTRO!$E$41=\"Non-endemic\"),\" \",IF(COUNTRY_INFO!C26=0,\" \",COUNTRY_INFO!C26))","v":"Masaka City"},{"$f":"IF(AND(INTRO!$E$37=\"Non-endemic\",INTRO!$E$41=\"Non-endemic\"),0,IF(AND(OR(COUNTRY_INFO!$H26=0,COUNTRY_INFO!$H26=4,COUNTRY_INFO!$H26=99),OR(COUNTRY_INFO!$J26=0,COUNTRY_INFO!$J26=4)),0,COUNTRY_INFO!$E26))","v":19287},{"$f":"IF(AND(INTRO!$E$37=\"Non-endemic\",INTRO!$E$41=\"Non-endemic\"),0,IF(AND(OR(COUNTRY_INFO!$H26=0,COUNTRY_INFO!$H26=4,COUNTRY_INFO!$H26=99),OR(COUNTRY_INFO!$J26=0,COUNTRY_INFO!$J26=4)),0,COUNTRY_INFO!$F26))","v":41019},60306,{"$f":"IF(AND(INTRO!$E$37=\"Non-endemic\",INTRO!$E$41=\"Non-endemic\"),0,COUNTRY_INFO!P26)","v":0},{"$f":"IF(AND(INTRO!$E$37=\"Non-endemic\",INTRO!$E$41=\"Non-endemic\"),0,COUNTRY_INFO!R26)","v":2},{"$f":"IF(INTRO!$E$39=\"Non-endemic\",IF($G26=1,DEC!I26,0),IF($G26=1,IVM!G26,0))","v":0},"MBD",{"$f":"IF($J26=\"ALB\", IF(INTRO!$E$39=\"Non-endemic\", IF($H26<>0, IF($I26=0, $D26*$H26, $D26*($H26-$G26)), 0), $D26*$H26), 0)","v":0},0,null,0,{"$f":"IF($J26=\"MBD\", IF(INTRO!$E$39=\"Non-endemic\", IF($H26<>0, IF($I26=0, $D26*$H26, $D26*($H26-$G26)), 0), $D26*$H26), 0)","v":38574},82038,null,120612,null,0,0,null,0,0,null,82038,547]
[{"$f":"IF(AND(INTRO!$E$37=\"Non-endemic\",INTRO!$E$41=\"Non-endemic\"),\" \",IF(COUNTRY_INFO!A27=0,\" \",COUNTRY_INFO!A27))","v":"Uganda"},{"$f":"IF(AND(INTRO!$E$37=\"Non-endemic\",INTRO!$E$41=\"Non-endemic\"),\" \",IF(COUNTRY_INFO!B27=0,\" \",COUNTRY_INFO!B27))","v":"CENTRAL"},{"$f":"IF(AND(INTRO!$E$37=\"Non-endemic\",INTRO!$E$41=\"Non-endemic\"),\" \",IF(COUNTRY_INFO!C27=0,\" \",COUNTRY_INFO!C27))","v":"MITYANA"},{"$f":"IF(AND(INTRO!$E$37=\"Non-endemic\",INTRO!$E$41=\"Non-endemic\"),0,IF(AND(OR(COUNTRY_INFO!$H27=0,COUNTRY_INFO!$H27=4,COUNTRY_INFO!$H27=99),OR(COUNTRY_INFO!$J27=0,COUNTRY_INFO!$J27=4)),0,COUNTRY_INFO!$E27))","v":61536},{"$f":"IF(AND(INTRO!$E$37=\"Non-endemic\",INTRO!$E$41=\"Non-endemic\"),0,IF(AND(OR(COUNTRY_INFO!$H27=0,COUNTRY_INFO!$H27=4,COUNTRY_INFO!$H27=99),OR(COUNTRY_INFO!$J27=0,COUNTRY_INFO!$J27=4)),0,COUNTRY_INFO!$F27))","v":130872},192408,{"$f":"IF(AND(INTRO!$E$37=\"Non-endemic\",INTRO!$E$41=\"Non-endemic\"),0,COUNTRY_INFO!P27)","v":0},{"$f":"IF(AND(INTRO!$E$37=\"Non-endemic\",INTRO!$E$41=\"Non-endemic\"),0,COUNTRY_INFO!R27)","v":2},{"$f":"IF(INTRO!$E$39=\"Non-endemic\",IF($G27=1,DEC!I27,0),IF($G27=1,IVM!G27,0))","v":0},"MBD",{"$f":"IF($J27=\"ALB\", IF(INTRO!$E$39=\"Non-endemic\", IF($H27<>0, IF($I27=0, $D27*$H27, $D27*($H27-$G27)), 0), $D27*$H27), 0)","v":0},0,null,0,{"$f":"IF($J27=\"MBD\", IF(INTRO!$E$39=\"Non-endemic\", IF($H27<>0, IF($I27=0, $D27*$H27, $D27*($H27-$G27)), 0), $D27*$H27), 0)","v":123072},261744,null,384816,null,0,0,null,0,0,null,261744,1745]
[{"$f":"IF(AND(INTRO!$E$37=\"Non-endemic\",INTRO!$E$41=\"Non-endemic\"),\" \",IF(COUNTRY_INFO!A28=0,\" \",COUNTRY_INFO!A28))","v":"Uganda"},{"$f":"IF(AND(INTRO!$E$37=\"Non-endemic\",INTRO!$E$41=\"Non-endemic\"),\" \",IF(COUNTRY_INFO!B28=0,\" \",COUNTRY_INFO!B28))","v":"CENTRAL"},{"$f":"IF(AND(INTRO!$E$37=\"Non-endemic\",INTRO!$E$41=\"Non-endemic\"),\" \",IF(COUNTRY_INFO!C28=0,\" \",COUNTRY_INFO!C28))","v":"MPIGI"},{"$f":"IF(AND(INTRO!$E$37=\"Non-endemic\",INTRO!$E$41=\"Non-endemic\"),0,IF(AND(OR(COUNTRY_INFO!$H28=0,COUNTRY_INFO!$H28=4,COUNTRY_INFO!$H28=99),OR(COUNTRY_INFO!$J28=0,COUNTRY_INFO!$J28=4)),0,COUNTRY_INFO!$E28))","v":46723},{"$f":"IF(AND(INTRO!$E$37=\"Non-endemic\",INTRO!$E$41=\"Non-endemic\"),0,IF(AND(OR(COUNTRY_INFO!$H28=0,COUNTRY_INFO!$H28=4,COUNTRY_INFO!$H28=99),OR(COUNTRY_INFO!$J28=0,COUNTRY_INFO!$J28=4)),0,COUNTRY_INFO!$F28))","v":99368},146091,{"$f":"IF(AND(INTRO!$E$37=\"Non-endemic\",INTRO!$E$41=\"Non-endemic\"),0,COUNTRY_INFO!P28)","v":0},{"$f":"IF(AND(INTRO!$E$37=\"Non-endemic\",INTRO!$E$41=\"Non-endemic\"),0,COUNTRY_INFO!R28)","v":2},{"$f":"IF(INTRO!$E$39=\"Non-endemic\",IF($G28=1,DEC!I28,0),IF($G28=1,IVM!G28,0))","v":0},"MBD",{"$f":"IF($J28=\"ALB\", IF(INTRO!$E$39=\"Non-endemic\", IF($H28<>0, IF($I28=0, $D28*$H28, $D28*($H28-$G28)), 0), $D28*$H28), 0)","v":0},0,null,0,{"$f":"IF($J28=\"MBD\", IF(INTRO!$E$39=\"Non-endemic\", IF($H28<>0, IF($I28=0, $D28*$H28, $D28*($H28-$G28)), 0), $D28*$H28), 0)","v":93446},198736,null,292182,null,0,0,null,0,0,null,198736,1325]
[{"$f":"IF(AND(INTRO!$E$37=\"Non-endemic\",INTRO!$E$41=\"Non-endemic\"),\" \",IF(COUNTRY_INFO!A29=0,\" \",COUNTRY_INFO!A29))","v":"Uganda"},{"$f":"IF(AND(INTRO!$E$37=\"Non-endemic\",INTRO!$E$41=\"Non-endemic\"),\" \",IF(COUNTRY_INFO!B29=0,\" \",COUNTRY_INFO!B29))","v":"CENTRAL"},{"$f":"IF(AND(INTRO!$E$37=\"Non-endemic\",INTRO!$E$41=\"Non-endemic\"),\" \",IF(COUNTRY_INFO!C29=0,\" \",COUNTRY_INFO!C29))","v":"MUBENDE"},{"$f":"IF(AND(INTRO!$E$37=\"Non-endemic\",INTRO!$E$41=\"Non-endemic\"),0,IF(AND(OR(COUNTRY_INFO!$H29=0,COUNTRY_INFO!$H29=4,COUNTRY_INFO!$H29=99),OR(COUNTRY_INFO!$J29=0,COUNTRY_INFO!$J29=4)),0,COUNTRY_INFO!$E29))","v":76823},{"$f":"IF(AND(INTRO!$E$37=\"Non-endemic\",INTRO!$E$41=\"Non-endemic\"),0,IF(AND(OR(COUNTRY_INFO!$H29=0,COUNTRY_INFO!$H29=4,COUNTRY_INFO!$H29=99),OR(COUNTRY_INFO!$J29=0,COUNTRY_INFO!$J29=4)),0,COUNTRY_INFO!$F29))","v":163385},240208,{"$f":"IF(AND(INTRO!$E$37=\"Non-endemic\",INTRO!$E$41=\"Non-endemic\"),0,COUNTRY_INFO!P29)","v":0},{"$f":"IF(AND(INTRO!$E$37=\"Non-endemic\",INTRO!$E$41=\"Non-endemic\"),0,COUNTRY_INFO!R29)","v":2},{"$f":"IF(INTRO!$E$39=\"Non-endemic\",IF($G29=1,DEC!I29,0),IF($G29=1,IVM!G29,0))","v":0},"MBD",{"$f":"IF($J29=\"ALB\", IF(INTRO!$E$39=\"Non-endemic\", IF($H29<>0, IF($I29=0, $D29*$H29, $D29*($H29-$G29)), 0), $D29*$H29), 0)","v":0},0,null,0,{"$f":"IF($J29=\"MBD\", IF(INTRO!$E$39=\"Non-endemic\", IF($H29<>0, IF($I29=0, $D29*$H29, $D29*($H29-$G29)), 0), $D29*$H29), 0)","v":153646},326770,null,480416,null,0,0,null,0,0,null,326770,2179]
[{"$f":"IF(AND(INTRO!$E$37=\"Non-endemic\",INTRO!$E$41=\"Non-endemic\"),\" \",IF(COUNTRY_INFO!A30=0,\" \",COUNTRY_INFO!A30))","v":"Uganda"},{"$f":"IF(AND(INTRO!$E$37=\"Non-endemic\",INTRO!$E$41=\"Non-endemic\"),\" \",IF(COUNTRY_INFO!B30=0,\" \",COUNTRY_INFO!B30))","v":"CENTRAL"},{"$f":"IF(AND(INTRO!$E$37=\"Non-endemic\",INTRO!$E$41=\"Non-endemic\"),\" \",IF(COUNTRY_INFO!C30=0,\" \",COUNTRY_INFO!C30))","v":"MUKONO"},{"$f":"IF(AND(INTRO!$E$37=\"Non-endemic\",INTRO!$E$41=\"Non-endemic\"),0,IF(AND(OR(COUNTRY_INFO!$H30=0,COUNTRY_INFO!$H30=4,COUNTRY_INFO!$H30=99),OR(COUNTRY_INFO!$J30=0,COUNTRY_INFO!$J30=4)),0,COUNTRY_INFO!$E30))","v":111424},{"$f":"IF(AND(INTRO!$E$37=\"Non-endemic\",INTRO!$E$41=\"Non-endemic\"),0,IF(AND(OR(COUNTRY_INFO!$H30=0,COUNTRY_INFO!$H30=4,COUNTRY_INFO!$H30=99),OR(COUNTRY_INFO!$J30=0,COUNTRY_INFO!$J30=4)),0,COUNTRY_INFO!$F30))","v":236972},348396,{"$f":"IF(AND(INTRO!$E$37=\"Non-endemic\",INTRO!$E$41=\"Non-endemic\"),0,COUNTRY_INFO!P30)","v":0},{"$f":"IF(AND(INTRO!$E$37=\"Non-endemic\",INTRO!$E$41=\"Non-endemic\"),0,COUNTRY_INFO!R30)","v":2},{"$f":"IF(INTRO!$E$39=\"Non-endemic\",IF($G30=1,DEC!I30,0),IF($G30=1,IVM!G30,0))","v":0},"MBD",{"$f":"IF($J30=\"ALB\", IF(INTRO!$E$39=\"Non-endemic\", IF($H30<>0, IF($I30=0, $D30*$H30, $D30*($H30-$G30)), 0), $D30*$H30), 0)","v":0},0,null,0,{"$f":"IF($J30=\"MBD\", IF(INTRO!$E$39=\"Non-endemic\", IF($H30<>0, IF($I30=0, $D30*$H30, $D30*($H30-$G30)), 0), $D30*$H30), 0)","v":222848},473944,null,696792,null,0,0,null,0,0,null,473944,3160]
[{"$f":"IF(AND(INTRO!$E$37=\"Non-endemic\",INTRO!$E$41=\"Non-endemic\"),\" \",IF(COUNTRY_INFO!A31=0,\" \",COUNTRY_INFO!A31))","v":"Uganda"},{"$f":"IF(AND(INTRO!$E$37=\"Non-endemic\",INTRO!$E$41=\"Non-endemic\"),\" \",IF(COUNTRY_INFO!B31=0,\" \",COUNTRY_INFO!B31))","v":"CENTRAL"},{"$f":"IF(AND(INTRO!$E$37=\"Non-endemic\",INTRO!$E$41=\"Non-endemic\"),\" \",IF(COUNTRY_INFO!C31=0,\" \",COUNTRY_INFO!C31))","v":"NAKASEKE"},{"$f":"IF(AND(INTRO!$E$37=\"Non-endemic\",INTRO!$E$41=\"Non-endemic\"),0,IF(AND(OR(COUNTRY_INFO!$H31=0,COUNTRY_INFO!$H31=4,COUNTRY_INFO!$H31=99),OR(COUNTRY_INFO!$J31=0,COUNTRY_INFO!$J31=4)),0,COUNTRY_INFO!$E31))","v":36727},{"$f":"IF(AND(INTRO!$E$37=\"Non-endemic\",INTRO!$E$41=\"Non-endemic\"),0,IF(AND(OR(COUNTRY_INFO!$H31=0,COUNTRY_INFO!$H31=4,COUNTRY_INFO!$H31=99),OR(COUNTRY_INFO!$J31=0,COUNTRY_INFO!$J31=4)),0,COUNTRY_INFO!$F31))","v":78110},114837,{"$f":"IF(AND(INTRO!$E$37=\"Non-endemic\",INTRO!$E$41=\"Non-endemic\"),0,COUNTRY_INFO!P31)","v":0},{"$f":"IF(AND(INTRO!$E$37=\"Non-endemic\",INTRO!$E$41=\"Non-endemic\"),0,COUNTRY_INFO!R31)","v":2},{"$f":"IF(INTRO!$E$39=\"Non-endemic\",IF($G31=1,DEC!I31,0),IF($G31=1,IVM!G31,0))","v":0},"MBD",{"$f":"IF($J31=\"ALB\", IF(INTRO!$E$39=\"Non-endemic\", IF($H31<>0, IF($I31=0, $D31*$H31, $D31*($H31-$G31)), 0), $D31*$H31), 0)","v":0},0,null,0,{"$f":"IF($J31=\"MBD\", IF(INTRO!$E$39=\"Non-endemic\", IF($H31<>0, IF($I31=0, $D31*$H31, $D31*($H31-$G31)), 0), $D31*$H31), 0)","v":73454},156220,null,229674,null,0,0,null,0,0,null,156220,1042]
[{"$f":"IF(AND(INTRO!$E$37=\"Non-endemic\",INTRO!$E$41=\"Non-endemic\"),\" \",IF(COUNTRY_INFO!A32=0,\" \",COUNTRY_INFO!A32))","v":"Uganda"},{"$f":"IF(AND(INTRO!$E$37=\"Non-endemic\",INTRO!$E$41=\"Non-endemic\"),\" \",IF(COUNTRY_INFO!B32=0,\" \",COUNTRY_INFO!B32))","v":"CENTRAL"},{"$f":"IF(AND(INTRO!$E$37=\"Non-endemic\",INTRO!$E$41=\"Non-endemic\"),\" \",IF(COUNTRY_INFO!C32=0,\" \",COUNTRY_INFO!C32))","v":"NAKASONGOLA"},{"$f":"IF(AND(INTRO!$E$37=\"Non-endemic\",INTRO!$E$41=\"Non-endemic\"),0,IF(AND(OR(COUNTRY_INFO!$H32=0,COUNTRY_INFO!$H32=4,COUNTRY_INFO!$H32=99),OR(COUNTRY_INFO!$J32=0,COUNTRY_INFO!$J32=4)),0,COUNTRY_INFO!$E32))","v":33784},{"$f":"IF(AND(INTRO!$E$37=\"Non-endemic\",INTRO!$E$41=\"Non-endemic\"),0,IF(AND(OR(COUNTRY_INFO!$H32=0,COUNTRY_INFO!$H32=4,COUNTRY_INFO!$H32=99),OR(COUNTRY_INFO!$J32=0,COUNTRY_INFO!$J32=4)),0,COUNTRY_INFO!$F32))","v":71850},105634,{"$f":"IF(AND(INTRO!$E$37=\"Non-endemic\",INTRO!$E$41=\"Non-endemic\"),0,COUNTRY_INFO!P32)","v":0},{"$f":"IF(AND(INTRO!$E$37=\"Non-endemic\",INTRO!$E$41=\"Non-endemic\"),0,COUNTRY_INFO!R32)","v":2},{"$f":"IF(INTRO!$E$39=\"Non-endemic\",IF($G32=1,DEC!I32,0),IF($G32=1,IVM!G32,0))","v":0},"MBD",{"$f":"IF($J32=\"ALB\", IF(INTRO!$E$39=\"Non-endemic\", IF($H32<>0, IF($I32=0, $D32*$H32, $D32*($H32-$G32)), 0), $D32*$H32), 0)","v":0},0,null,0,{"$f":"IF($J32=\"MBD\", IF(INTRO!$E$39=\"Non-endemic\", IF($H32<>0, IF($I32=0, $D32*$H32, $D32*($H32-$G32)), 0), $D32*$H32), 0)","v":67568},143700,null,211268,null,0,0,null,0,0,null,143700,958]
[{"$f":"IF(AND(INTRO!$E$37=\"Non-endemic\",INTRO!$E$41=\"Non-endemic\"),\" \",IF(COUNTRY_INFO!A33=0,\" \",COUNTRY_INFO!A33))","v":"Uganda"},{"$f":"IF(AND(INTRO!$E$37=\"Non-endemic\",INTRO!$E$41=\"Non-endemic\"),\" \",IF(COUNTRY_INFO!B33=0,\" \",COUNTRY_INFO!B33))","v":"CENTRAL"},{"$f":"IF(AND(INTRO!$E$37=\"Non-endemic\",INTRO!$E$41=\"Non-endemic\"),\" \",IF(COUNTRY_INFO!C33=0,\" \",COUNTRY_INFO!C33))","v":"RAKAI"},{"$f":"IF(AND(INTRO!$E$37=\"Non-endemic\",INTRO!$E$41=\"Non-endemic\"),0,IF(AND(OR(COUNTRY_INFO!$H33=0,COUNTRY_INFO!$H33=4,COUNTRY_INFO!$H33=99),OR(COUNTRY_INFO!$J33=0,COUNTRY_INFO!$J33=4)),0,COUNTRY_INFO!$E33))","v":66150},{"$f":"IF(AND(INTRO!$E$37=\"Non-endemic\",INTRO!$E$41=\"Non-endemic\"),0,IF(AND(OR(COUNTRY_INFO!$H33=0,COUNTRY_INFO!$H33=4,COUNTRY_INFO!$H33=99),OR(COUNTRY_INFO!$J33=0,COUNTRY_INFO!$J33=4)),0,COUNTRY_INFO!$F33))","v":140685},206835,{"$f":"IF(AND(INTRO!$E$37=\"Non-endemic\",INTRO!$E$41=\"Non-endemic\"),0,COUNTRY_INFO!P33)","v":0},{"$f":"IF(AND(INTRO!$E$37=\"Non-endemic\",INTRO!$E$41=\"Non-endemic\"),0,COUNTRY_INFO!R33)","v":2},{"$f":"IF(INTRO!$E$39=\"Non-endemic\",IF($G33=1,DEC!I33,0),IF($G33=1,IVM!G33,0))","v":0},"MBD",{"$f":"IF($J33=\"ALB\", IF(INTRO!$E$39=\"Non-endemic\", IF($H33<>0, IF($I33=0, $D33*$H33, $D33*($H33-$G33)), 0), $D33*$H33), 0)","v":0},0,null,0,{"$f":"IF($J33=\"MBD\", IF(INTRO!$E$39=\"Non-endemic\", IF($H33<>0, IF($I33=0, $D33*$H33, $D33*($H33-$G33)), 0), $D33*$H33), 0)","v":132300},281370,null,413670,null,0,0,null,0,0,null,281370,1876]
[{"$f":"IF(AND(INTRO!$E$37=\"Non-endemic\",INTRO!$E$41=\"Non-endemic\"),\" \",IF(COUNTRY_INFO!A34=0,\" \",COUNTRY_INFO!A34))","v":"Uganda"},{"$f":"IF(AND(INTRO!$E$37=\"Non-endemic\",INTRO!$E$41=\"Non-endemic\"),\" \",IF(COUNTRY_INFO!B34=0,\" \",COUNTRY_INFO!B34))","v":"CENTRAL"},{"$f":"IF(AND(INTRO!$E$37=\"Non-endemic\",INTRO!$E$41=\"Non-endemic\"),\" \",IF(COUNTRY_INFO!C34=0,\" \",COUNTRY_INFO!C34))","v":"SEMBABULE"},{"$f":"IF(AND(INTRO!$E$37=\"Non-endemic\",INTRO!$E$41=\"Non-endemic\"),0,IF(AND(OR(COUNTRY_INFO!$H34=0,COUNTRY_INFO!$H34=4,COUNTRY_INFO!$H34=99),OR(COUNTRY_INFO!$J34=0,COUNTRY_INFO!$J34=4)),0,COUNTRY_INFO!$E34))","v":46998},{"$f":"IF(AND(INTRO!$E$37=\"Non-endemic\",INTRO!$E$41=\"Non-endemic\"),0,IF(AND(OR(COUNTRY_INFO!$H34=0,COUNTRY_INFO!$H34=4,COUNTRY_INFO!$H34=99),OR(COUNTRY_INFO!$J34=0,COUNTRY_INFO!$J34=4)),0,COUNTRY_INFO!$F34))","v":99953},146951,{"$f":"IF(AND(INTRO!$E$37=\"Non-endemic\",INTRO!$E$41=\"Non-endemic\"),0,COUNTRY_INFO!P34)","v":0},{"$f":"IF(AND(INTRO!$E$37=\"Non-endemic\",INTRO!$E$41=\"Non-endemic\"),0,COUNTRY_INFO!R34)","v":2},{"$f":"IF(INTRO!$E$39=\"Non-endemic\",IF($G34=1,DEC!I34,0),IF($G34=1,IVM!G34,0))","v":0},"MBD",{"$f":"IF($J34=\"ALB\", IF(INTRO!$E$39=\"Non-endemic\", IF($H34<>0, IF($I34=0, $D34*$H34, $D34*($H34-$G34)), 0), $D34*$H34), 0)","v":0},0,null,0,{"$f":"IF($J34=\"MBD\", IF(INTRO!$E$39=\"Non-endemic\", IF($H34<>0, IF($I34=0, $D34*$H34, $D34*($H34-$G34)), 0), $D34*$H34), 0)","v":93996},199906,null,293902,null,0,0,null,0,0,null,199906,1333]
[{"$f":"IF(AND(INTRO!$E$37=\"Non-endemic\",INTRO!$E$41=\"Non-endemic\"),\" \",IF(COUNTRY_INFO!A35=0,\" \",COUNTRY_INFO!A35))","v":"Uganda"},{"$f":"IF(AND(INTRO!$E$37=\"Non-endemic\",INTRO!$E$41=\"Non-endemic\"),\" \",IF(COUNTRY_INFO!B35=0,\" \",COUNTRY_INFO!B35))","v":"CENTRAL"},{"$f":"IF(AND(INTRO!$E$37=\"Non-endemic\",INTRO!$E$41=\"Non-endemic\"),\" \",IF(COUNTRY_INFO!C35=0,\" \",COUNTRY_INFO!C35))","v":"WAKISO"},{"$f":"IF(AND(INTRO!$E$37=\"Non-endemic\",INTRO!$E$41=\"Non-endemic\"),0,IF(AND(OR(COUNTRY_INFO!$H35=0,COUNTRY_INFO!$H35=4,COUNTRY_INFO!$H35=99),OR(COUNTRY_INFO!$J35=0,COUNTRY_INFO!$J35=4)),0,COUNTRY_INFO!$E35))","v":372959},{"$f":"IF(AND(INTRO!$E$37=\"Non-endemic\",INTRO!$E$41=\"Non-endemic\"),0,IF(AND(OR(COUNTRY_INFO!$H35=0,COUNTRY_INFO!$H35=4,COUNTRY_INFO!$H35=99),OR(COUNTRY_INFO!$J35=0,COUNTRY_INFO!$J35=4)),0,COUNTRY_INFO!$F35))","v":793195},1166154,{"$f":"IF(AND(INTRO!$E$37=\"Non-endemic\",INTRO!$E$41=\"Non-endemic\"),0,COUNTRY_INFO!P35)","v":0},{"$f":"IF(AND(INTRO!$E$37=\"Non-endemic\",INTRO!$E$41=\"Non-endemic\"),0,COUNTRY_INFO!R35)","v":2},{"$f":"IF(INTRO!$E$39=\"Non-endemic\",IF($G35=1,DEC!I35,0),IF($G35=1,IVM!G35,0))","v":0},"MBD",{"$f":"IF($J35=\"ALB\", IF(INTRO!$E$39=\"Non-endemic\", IF($H35<>0, IF($I35=0, $D35*$H35, $D35*($H35-$G35)), 0), $D35*$H35), 0)","v":0},0,null,0,{"$f":"IF($J35=\"MBD\", IF(INTRO!$E$39=\"Non-endemic\", IF($H35<>0, IF($I35=0, $D35*$H35, $D35*($H35-$G35)), 0), $D35*$H35), 0)","v":745918},1586390,null,2332308,null,0,0,null,0,0,null,1586390,10576]
[{"$f":"IF(AND(INTRO!$E$37=\"Non-endemic\",INTRO!$E$41=\"Non-endemic\"),\" \",IF(COUNTRY_INFO!A36=0,\" \",COUNTRY_INFO!A36))","v":"Uganda"},{"$f":"IF(AND(INTRO!$E$37=\"Non-endemic\",INTRO!$E$41=\"Non-endemic\"),\" \",IF(COUNTRY_INFO!B36=0,\" \",COUNTRY_INFO!B36))","v":"EASTERN"},{"$f":"IF(AND(INTRO!$E$37=\"Non-endemic\",INTRO!$E$41=\"Non-endemic\"),\" \",IF(COUNTRY_INFO!C36=0,\" \",COUNTRY_INFO!C36))","v":"AMURIA"},{"$f":"IF(AND(INTRO!$E$37=\"Non-endemic\",INTRO!$E$41=\"Non-endemic\"),0,IF(AND(OR(COUNTRY_INFO!$H36=0,COUNTRY_INFO!$H36=4,COUNTRY_INFO!$H36=99),OR(COUNTRY_INFO!$J36=0,COUNTRY_INFO!$J36=4)),0,COUNTRY_INFO!$E36))","v":33996},{"$f":"IF(AND(INTRO!$E$37=\"Non-endemic\",INTRO!$E$41=\"Non-endemic\"),0,IF(AND(OR(COUNTRY_INFO!$H36=0,COUNTRY_INFO!$H36=4,COUNTRY_INFO!$H36=99),OR(COUNTRY_INFO!$J36=0,COUNTRY_INFO!$J36=4)),0,COUNTRY_INFO!$F36))","v":72302},106298,{"$f":"IF(AND(INTRO!$E$37=\"Non-endemic\",INTRO!$E$41=\"Non-endemic\"),0,COUNTRY_INFO!P36)","v":0},{"$f":"IF(AND(INTRO!$E$37=\"Non-endemic\",INTRO!$E$41=\"Non-endemic\"),0,COUNTRY_INFO!R36)","v":2},{"$f":"IF(INTRO!$E$39=\"Non-endemic\",IF($G36=1,DEC!I36,0),IF($G36=1,IVM!G36,0))","v":0},"MBD",{"$f":"IF($J36=\"ALB\", IF(INTRO!$E$39=\"Non-endemic\", IF($H36<>0, IF($I36=0, $D36*$H36, $D36*($H36-$G36)), 0), $D36*$H36), 0)","v":0},0,null,0,{"$f":"IF($J36=\"MBD\", IF(INTRO!$E$39=\"Non-endemic\", IF($H36<>0, IF($I36=0, $D36*$H36, $D36*($H36-$G36)), 0), $D36*$H36), 0)","v":67992},144604,null,212596,null,0,0,null,0,0,null,144604,965]
[{"$f":"IF(AND(INTRO!$E$37=\"Non-endemic\",INTRO!$E$41=\"Non-endemic\"),\" \",IF(COUNTRY_INFO!A37=0,\" \",COUNTRY_INFO!A37))","v":"Uganda"},{"$f":"IF(AND(INTRO!$E$37=\"Non-endemic\",INTRO!$E$41=\"Non-endemic\"),\" \",IF(COUNTRY_INFO!B37=0,\" \",COUNTRY_INFO!B37))","v":"EASTERN"},{"$f":"IF(AND(INTRO!$E$37=\"Non-endemic\",INTRO!$E$41=\"Non-endemic\"),\" \",IF(COUNTRY_INFO!C37=0,\" \",COUNTRY_INFO!C37))","v":"BUDAKA"},{"$f":"IF(AND(INTRO!$E$37=\"Non-endemic\",INTRO!$E$41=\"Non-endemic\"),0,IF(AND(OR(COUNTRY_INFO!$H37=0,COUNTRY_INFO!$H37=4,COUNTRY_INFO!$H37=99),OR(COUNTRY_INFO!$J37=0,COUNTRY_INFO!$J37=4)),0,COUNTRY_INFO!$E37))","v":38721},{"$f":"IF(AND(INTRO!$E$37=\"Non-endemic\",INTRO!$E$41=\"Non-endemic\"),0,IF(AND(OR(COUNTRY_INFO!$H37=0,COUNTRY_INFO!$H37=4,COUNTRY_INFO!$H37=99),OR(COUNTRY_INFO!$J37=0,COUNTRY_INFO!$J37=4)),0,COUNTRY_INFO!$F37))","v":82349},121070,{"$f":"IF(AND(INTRO!$E$37=\"Non-endemic\",INTRO!$E$41=\"Non-endemic\"),0,COUNTRY_INFO!P37)","v":0},{"$f":"IF(AND(INTRO!$E$37=\"Non-endemic\",INTRO!$E$41=\"Non-endemic\"),0,COUNTRY_INFO!R37)","v":2},{"$f":"IF(INTRO!$E$39=\"Non-endemic\",IF($G37=1,DEC!I37,0),IF($G37=1,IVM!G37,0))","v":0},"MBD",{"$f":"IF($J37=\"ALB\", IF(INTRO!$E$39=\"Non-endemic\", IF($H37<>0, IF($I37=0, $D37*$H37, $D37*($H37-$G37)), 0), $D37*$H37), 0)","v":0},0,null,0,{"$f":"IF($J37=\"MBD\", IF(INTRO!$E$39=\"Non-endemic\", IF($H37<>0, IF($I37=0, $D37*$H37, $D37*($H37-$G37)), 0), $D37*$H37), 0)","v":77442},164698,null,242140,null,0,0,null,0,0,null,164698,1098]
[{"$f":"IF(AND(INTRO!$E$37=\"Non-endemic\",INTRO!$E$41=\"Non-endemic\"),\" \",IF(COUNTRY_INFO!A38=0,\" \",COUNTRY_INFO!A38))","v":"Uganda"},{"$f":"IF(AND(INTRO!$E$37=\"Non-endemic\",INTRO!$E$41=\"Non-endemic\"),\" \",IF(COUNTRY_INFO!B38=0,\" \",COUNTRY_INFO!B38))","v":"EASTERN"},{"$f":"IF(AND(INTRO!$E$37=\"Non-endemic\",INTRO!$E$41=\"Non-endemic\"),\" \",IF(COUNTRY_INFO!C38=0,\" \",COUNTRY_INFO!C38))","v":"BUDUDA"},{"$f":"IF(AND(INTRO!$E$37=\"Non-endemic\",INTRO!$E$41=\"Non-endemic\"),0,IF(AND(OR(COUNTRY_INFO!$H38=0,COUNTRY_INFO!$H38=4,COUNTRY_INFO!$H38=99),OR(COUNTRY_INFO!$J38=0,COUNTRY_INFO!$J38=4)),0,COUNTRY_INFO!$E38))","v":39324},{"$f":"IF(AND(INTRO!$E$37=\"Non-endemic\",INTRO!$E$41=\"Non-endemic\"),0,IF(AND(OR(COUNTRY_INFO!$H38=0,COUNTRY_INFO!$H38=4,COUNTRY_INFO!$H38=99),OR(COUNTRY_INFO!$J38=0,COUNTRY_INFO!$J38=4)),0,COUNTRY_INFO!$F38))","v":83633},122957,{"$f":"IF(AND(INTRO!$E$37=\"Non-endemic\",INTRO!$E$41=\"Non-endemic\"),0,COUNTRY_INFO!P38)","v":0},{"$f":"IF(AND(INTRO!$E$37=\"Non-endemic\",INTRO!$E$41=\"Non-endemic\"),0,COUNTRY_INFO!R38)","v":2},{"$f":"IF(INTRO!$E$39=\"Non-endemic\",IF($G38=1,DEC!I38,0),IF($G38=1,IVM!G38,0))","v":0},"MBD",{"$f":"IF($J38=\"ALB\", IF(INTRO!$E$39=\"Non-endemic\", IF($H38<>0, IF($I38=0, $D38*$H38, $D38*($H38-$G38)), 0), $D38*$H38), 0)","v":0},0,null,0,{"$f":"IF($J38=\"MBD\", IF(INTRO!$E$39=\"Non-endemic\", IF($H38<>0, IF($I38=0, $D38*$H38, $D38*($H38-$G38)), 0), $D38*$H38), 0)","v":78648},167266,null,245914,null,0,0,null,0,0,null,167266,1116]
[{"$f":"IF(AND(INTRO!$E$37=\"Non-endemic\",INTRO!$E$41=\"Non-endemic\"),\" \",IF(COUNTRY_INFO!A39=0,\" \",COUNTRY_INFO!A39))","v":"Uganda"},{"$f":"IF(AND(INTRO!$E$37=\"Non-endemic\",INTRO!$E$41=\"Non-endemic\"),\" \",IF(COUNTRY_INFO!B39=0,\" \",COUNTRY_INFO!B39))","v":"EASTERN"},{"$f":"IF(AND(INTRO!$E$37=\"Non-endemic\",INTRO!$E$41=\"Non-endemic\"),\" \",IF(COUNTRY_INFO!C39=0,\" \",COUNTRY_INFO!C39))","v":"BUGIRI"},{"$f":"IF(AND(INTRO!$E$37=\"Non-endemic\",INTRO!$E$41=\"Non-endemic\"),0,IF(AND(OR(COUNTRY_INFO!$H39=0,COUNTRY_INFO!$H39=4,COUNTRY_INFO!$H39=99),OR(COUNTRY_INFO!$J39=0,COUNTRY_INFO!$J39=4)),0,COUNTRY_INFO!$E39))","v":72463},{"$f":"IF(AND(INTRO!$E$37=\"Non-endemic\",INTRO!$E$41=\"Non-endemic\"),0,IF(AND(OR(COUNTRY_INFO!$H39=0,COUNTRY_INFO!$H39=4,COUNTRY_INFO!$H39=99),OR(COUNTRY_INFO!$J39=0,COUNTRY_INFO!$J39=4)),0,COUNTRY_INFO!$F39))","v":154112},226575,{"$f":"IF(AND(INTRO!$E$37=\"Non-endemic\",INTRO!$E$41=\"Non-endemic\"),0,COUNTRY_INFO!P39)","v":0},{"$f":"IF(AND(INTRO!$E$37=\"Non-endemic\",INTRO!$E$41=\"Non-endemic\"),0,COUNTRY_INFO!R39)","v":2},{"$f":"IF(INTRO!$E$39=\"Non-endemic\",IF($G39=1,DEC!I39,0),IF($G39=1,IVM!G39,0))","v":0},"MBD",{"$f":"IF($J39=\"ALB\", IF(INTRO!$E$39=\"Non-endemic\", IF($H39<>0, IF($I39=0, $D39*$H39, $D39*($H39-$G39)), 0), $D39*$H39), 0)","v":0},0,null,0,{"$f":"IF($J39=\"MBD\", IF(INTRO!$E$39=\"Non-endemic\", IF($H39<>0, IF($I39=0, $D39*$H39, $D39*($H39-$G39)), 0), $D39*$H39), 0)","v":144926},308224,null,453150,null,0,0,null,0,0,null,308224,2055]
[{"$f":"IF(AND(INTRO!$E$37=\"Non-endemic\",INTRO!$E$41=\"Non-endemic\"),\" \",IF(COUNTRY_INFO!A40=0,\" \",COUNTRY_INFO!A40))","v":"Uganda"},{"$f":"IF(AND(INTRO!$E$37=\"Non-endemic\",INTRO!$E$41=\"Non-endemic\"),\" \",IF(COUNTRY_INFO!B40=0,\" \",COUNTRY_INFO!B40))","v":"EASTERN"},{"$f":"IF(AND(INTRO!$E$37=\"Non-endemic\",INTRO!$E$41=\"Non-endemic\"),\" \",IF(COUNTRY_INFO!C40=0,\" \",COUNTRY_INFO!C40))","v":"BUGWERI"},{"$f":"IF(AND(INTRO!$E$37=\"Non-endemic\",INTRO!$E$41=\"Non-endemic\"),0,IF(AND(OR(COUNTRY_INFO!$H40=0,COUNTRY_INFO!$H40=4,COUNTRY_INFO!$H40=99),OR(COUNTRY_INFO!$J40=0,COUNTRY_INFO!$J40=4)),0,COUNTRY_INFO!$E40))","v":31370},{"$f":"IF(AND(INTRO!$E$37=\"Non-endemic\",INTRO!$E$41=\"Non-endemic\"),0,IF(AND(OR(COUNTRY_INFO!$H40=0,COUNTRY_INFO!$H40=4,COUNTRY_INFO!$H40=99),OR(COUNTRY_INFO!$J40=0,COUNTRY_INFO!$J40=4)),0,COUNTRY_INFO!$F40))","v":66716},98086,{"$f":"IF(AND(INTRO!$E$37=\"Non-endemic\",INTRO!$E$41=\"Non-endemic\"),0,COUNTRY_INFO!P40)","v":0},{"$f":"IF(AND(INTRO!$E$37=\"Non-endemic\",INTRO!$E$41=\"Non-endemic\"),0,COUNTRY_INFO!R40)","v":2},{"$f":"IF(INTRO!$E$39=\"Non-endemic\",IF($G40=1,DEC!I40,0),IF($G40=1,IVM!G40,0))","v":0},"MBD",{"$f":"IF($J40=\"ALB\", IF(INTRO!$E$39=\"Non-endemic\", IF($H40<>0, IF($I40=0, $D40*$H40, $D40*($H40-$G40)), 0), $D40*$H40), 0)","v":0},0,null,0,{"$f":"IF($J40=\"MBD\", IF(INTRO!$E$39=\"Non-endemic\", IF($H40<>0, IF($I40=0, $D40*$H40, $D40*($H40-$G40)), 0), $D40*$H40), 0)","v":62740},133432,null,196172,null,0,0,null,0,0,null,133432,890]
[{"$f":"IF(AND(INTRO!$E$37=\"Non-endemic\",INTRO!$E$41=\"Non-endemic\"),\" \",IF(COUNTRY_INFO!A41=0,\" \",COUNTRY_INFO!A41))","v":"Uganda"},{"$f":"IF(AND(INTRO!$E$37=\"Non-endemic\",INTRO!$E$41=\"Non-endemic\"),\" \",IF(COUNTRY_INFO!B41=0,\" \",COUNTRY_INFO!B41))","v":"EASTERN"},{"$f":"IF(AND(INTRO!$E$37=\"Non-endemic\",INTRO!$E$41=\"Non-endemic\"),\" \",IF(COUNTRY_INFO!C41=0,\" \",COUNTRY_INFO!C41))","v":"BUKEDEA"},{"$f":"IF(AND(INTRO!$E$37=\"Non-endemic\",INTRO!$E$41=\"Non-endemic\"),0,IF(AND(OR(COUNTRY_INFO!$H41=0,COUNTRY_INFO!$H41=4,COUNTRY_INFO!$H41=99),OR(COUNTRY_INFO!$J41=0,COUNTRY_INFO!$J41=4)),0,COUNTRY_INFO!$E41))","v":35094},{"$f":"IF(AND(INTRO!$E$37=\"Non-endemic\",INTRO!$E$41=\"Non-endemic\"),0,IF(AND(OR(COUNTRY_INFO!$H41=0,COUNTRY_INFO!$H41=4,COUNTRY_INFO!$H41=99),OR(COUNTRY_INFO!$J41=0,COUNTRY_INFO!$J41=4)),0,COUNTRY_INFO!$F41))","v":74636},109730,{"$f":"IF(AND(INTRO!$E$37=\"Non-endemic\",INTRO!$E$41=\"Non-endemic\"),0,COUNTRY_INFO!P41)","v":0},{"$f":"IF(AND(INTRO!$E$37=\"Non-endemic\",INTRO!$E$41=\"Non-endemic\"),0,COUNTRY_INFO!R41)","v":2},{"$f":"IF(INTRO!$E$39=\"Non-endemic\",IF($G41=1,DEC!I41,0),IF($G41=1,IVM!G41,0))","v":0},"MBD",{"$f":"IF($J41=\"ALB\", IF(INTRO!$E$39=\"Non-endemic\", IF($H41<>0, IF($I41=0, $D41*$H41, $D41*($H41-$G41)), 0), $D41*$H41), 0)","v":0},0,null,0,{"$f":"IF($J41=\"MBD\", IF(INTRO!$E$39=\"Non-endemic\", IF($H41<>0, IF($I41=0, $D41*$H41, $D41*($H41-$G41)), 0), $D41*$H41), 0)","v":70188},149272,null,219460,null,0,0,null,0,0,null,149272,996]
[{"$f":"IF(AND(INTRO!$E$37=\"Non-endemic\",INTRO!$E$41=\"Non-endemic\"),\" \",IF(COUNTRY_INFO!A42=0,\" \",COUNTRY_INFO!A42))","v":"Uganda"},{"$f":"IF(AND(INTRO!$E$37=\"Non-endemic\",INTRO!$E$41=\"Non-endemic\"),\" \",IF(COUNTRY_INFO!B42=0,\" \",COUNTRY_INFO!B42))","v":"EASTERN"},{"$f":"IF(AND(INTRO!$E$37=\"Non-endemic\",INTRO!$E$41=\"Non-endemic\"),\" \",IF(COUNTRY_INFO!C42=0,\" \",COUNTRY_INFO!C42))","v":"BUKWO"},{"$f":"IF(AND(INTRO!$E$37=\"Non-endemic\",INTRO!$E$41=\"Non-endemic\"),0,IF(AND(OR(COUNTRY_INFO!$H42=0,COUNTRY_INFO!$H42=4,COUNTRY_INFO!$H42=99),OR(COUNTRY_INFO!$J42=0,COUNTRY_INFO!$J42=4)),0,COUNTRY_INFO!$E42))","v":16580},{"$f":"IF(AND(INTRO!$E$37=\"Non-endemic\",INTRO!$E$41=\"Non-endemic\"),0,IF(AND(OR(COUNTRY_INFO!$H42=0,COUNTRY_INFO!$H42=4,COUNTRY_INFO!$H42=99),OR(COUNTRY_INFO!$J42=0,COUNTRY_INFO!$J42=4)),0,COUNTRY_INFO!$F42))","v":35262},51842,{"$f":"IF(AND(INTRO!$E$37=\"Non-endemic\",INTRO!$E$41=\"Non-endemic\"),0,COUNTRY_INFO!P42)","v":0},{"$f":"IF(AND(INTRO!$E$37=\"Non-endemic\",INTRO!$E$41=\"Non-endemic\"),0,COUNTRY_INFO!R42)","v":2},{"$f":"IF(INTRO!$E$39=\"Non-endemic\",IF($G42=1,DEC!I42,0),IF($G42=1,IVM!G42,0))","v":0},"MBD",{"$f":"IF($J42=\"ALB\", IF(INTRO!$E$39=\"Non-endemic\", IF($H42<>0, IF($I42=0, $D42*$H42, $D42*($H42-$G42)), 0), $D42*$H42), 0)","v":0},0,null,0,{"$f":"IF($J42=\"MBD\", IF(INTRO!$E$39=\"Non-endemic\", IF($H42<>0, IF($I42=0, $D42*$H42, $D42*($H42-$G42)), 0), $D42*$H42), 0)","v":33160},70524,null,103684,null,0,0,null,0,0,null,70524,471]
[{"$f":"IF(AND(INTRO!$E$37=\"Non-endemic\",INTRO!$E$41=\"Non-endemic\"),\" \",IF(COUNTRY_INFO!A43=0,\" \",COUNTRY_INFO!A43))","v":"Uganda"},{"$f":"IF(AND(INTRO!$E$37=\"Non-endemic\",INTRO!$E$41=\"Non-endemic\"),\" \",IF(COUNTRY_INFO!B43=0,\" \",COUNTRY_INFO!B43))","v":"EASTERN"},{"$f":"IF(AND(INTRO!$E$37=\"Non-endemic\",INTRO!$E$41=\"Non-endemic\"),\" \",IF(COUNTRY_INFO!C43=0,\" \",COUNTRY_INFO!C43))","v":"BULAMBULI"},{"$f":"IF(AND(INTRO!$E$37=\"Non-endemic\",INTRO!$E$41=\"Non-endemic\"),0,IF(AND(OR(COUNTRY_INFO!$H43=0,COUNTRY_INFO!$H43=4,COUNTRY_INFO!$H43=99),OR(COUNTRY_INFO!$J43=0,COUNTRY_INFO!$J43=4)),0,COUNTRY_INFO!$E43))","v":32940},{"$f":"IF(AND(INTRO!$E$37=\"Non-endemic\",INTRO!$E$41=\"Non-endemic\"),0,IF(AND(OR(COUNTRY_INFO!$H43=0,COUNTRY_INFO!$H43=4,COUNTRY_INFO!$H43=99),OR(COUNTRY_INFO!$J43=0,COUNTRY_INFO!$J43=4)),0,COUNTRY_INFO!$F43))","v":70056},102996,{"$f":"IF(AND(INTRO!$E$37=\"Non-endemic\",INTRO!$E$41=\"Non-endemic\"),0,COUNTRY_INFO!P43)","v":0},{"$f":"IF(AND(INTRO!$E$37=\"Non-endemic\",INTRO!$E$41=\"Non-endemic\"),0,COUNTRY_INFO!R43)","v":2},{"$f":"IF(INTRO!$E$39=\"Non-endemic\",IF($G43=1,DEC!I43,0),IF($G43=1,IVM!G43,0))","v":0},"MBD",{"$f":"IF($J43=\"ALB\", IF(INTRO!$E$39=\"Non-endemic\", IF($H43<>0, IF($I43=0, $D43*$H43, $D43*($H43-$G43)), 0), $D43*$H43), 0)","v":0},0,null,0,{"$f":"IF($J43=\"MBD\", IF(INTRO!$E$39=\"Non-endemic\", IF($H43<>0, IF($I43=0, $D43*$H43, $D43*($H43-$G43)), 0), $D43*$H43), 0)","v":65880},140112,null,205992,null,0,0,null,0,0,null,140112,935]
[{"$f":"IF(AND(INTRO!$E$37=\"Non-endemic\",INTRO!$E$41=\"Non-endemic\"),\" \",IF(COUNTRY_INFO!A44=0,\" \",COUNTRY_INFO!A44))","v":"Uganda"},{"$f":"IF(AND(INTRO!$E$37=\"Non-endemic\",INTRO!$E$41=\"Non-endemic\"),\" \",IF(COUNTRY_INFO!B44=0,\" \",COUNTRY_INFO!B44))","v":"EASTERN"},{"$f":"IF(AND(INTRO!$E$37=\"Non-endemic\",INTRO!$E$41=\"Non-endemic\"),\" \",IF(COUNTRY_INFO!C44=0,\" \",COUNTRY_INFO!C44))","v":"BUSIA"},{"$f":"IF(AND(INTRO!$E$37=\"Non-endemic\",INTRO!$E$41=\"Non-endemic\"),0,IF(AND(OR(COUNTRY_INFO!$H44=0,COUNTRY_INFO!$H44=4,COUNTRY_INFO!$H44=99),OR(COUNTRY_INFO!$J44=0,COUNTRY_INFO!$J44=4)),0,COUNTRY_INFO!$E44))","v":60471},{"$f":"IF(AND(INTRO!$E$37=\"Non-endemic\",INTRO!$E$41=\"Non-endemic\"),0,IF(AND(OR(COUNTRY_INFO!$H44=0,COUNTRY_INFO!$H44=4,COUNTRY_INFO!$H44=99),OR(COUNTRY_INFO!$J44=0,COUNTRY_INFO!$J44=4)),0,COUNTRY_INFO!$F44))","v":128608},189079,{"$f":"IF(AND(INTRO!$E$37=\"Non-endemic\",INTRO!$E$41=\"Non-endemic\"),0,COUNTRY_INFO!P44)","v":0},{"$f":"IF(AND(INTRO!$E$37=\"Non-endemic\",INTRO!$E$41=\"Non-endemic\"),0,COUNTRY_INFO!R44)","v":2},{"$f":"IF(INTRO!$E$39=\"Non-endemic\",IF($G44=1,DEC!I44,0),IF($G44=1,IVM!G44,0))","v":0},"MBD",{"$f":"IF($J44=\"ALB\", IF(INTRO!$E$39=\"Non-endemic\", IF($H44<>0, IF($I44=0, $D44*$H44, $D44*($H44-$G44)), 0), $D44*$H44), 0)","v":0},0,null,0,{"$f":"IF($J44=\"MBD\", IF(INTRO!$E$39=\"Non-endemic\", IF($H44<>0, IF($I44=0, $D44*$H44, $D44*($H44-$G44)), 0), $D44*$H44), 0)","v":120942},257216,null,378158,null,0,0,null,0,0,null,257216,1715]
[{"$f":"IF(AND(INTRO!$E$37=\"Non-endemic\",INTRO!$E$41=\"Non-endemic\"),\" \",IF(COUNTRY_INFO!A45=0,\" \",COUNTRY_INFO!A45))","v":"Uganda"},{"$f":"IF(AND(INTRO!$E$37=\"Non-endemic\",INTRO!$E$41=\"Non-endemic\"),\" \",IF(COUNTRY_INFO!B45=0,\" \",COUNTRY_INFO!B45))","v":"EASTERN"},{"$f":"IF(AND(INTRO!$E$37=\"Non-endemic\",INTRO!$E$41=\"Non-endemic\"),\" \",IF(COUNTRY_INFO!C45=0,\" \",COUNTRY_INFO!C45))","v":"BUTALEJA"},{"$f":"IF(AND(INTRO!$E$37=\"Non-endemic\",INTRO!$E$41=\"Non-endemic\"),0,IF(AND(OR(COUNTRY_INFO!$H45=0,COUNTRY_INFO!$H45=4,COUNTRY_INFO!$H45=99),OR(COUNTRY_INFO!$J45=0,COUNTRY_INFO!$J45=4)),0,COUNTRY_INFO!$E45))","v":45675},{"$f":"IF(AND(INTRO!$E$37=\"Non-endemic\",INTRO!$E$41=\"Non-endemic\"),0,IF(AND(OR(COUNTRY_INFO!$H45=0,COUNTRY_INFO!$H45=4,COUNTRY_INFO!$H45=99),OR(COUNTRY_INFO!$J45=0,COUNTRY_INFO!$J45=4)),0,COUNTRY_INFO!$F45))","v":97139},142814,{"$f":"IF(AND(INTRO!$E$37=\"Non-endemic\",INTRO!$E$41=\"Non-endemic\"),0,COUNTRY_INFO!P45)","v":0},{"$f":"IF(AND(INTRO!$E$37=\"Non-endemic\",INTRO!$E$41=\"Non-endemic\"),0,COUNTRY_INFO!R45)","v":2},{"$f":"IF(INTRO!$E$39=\"Non-endemic\",IF($G45=1,DEC!I45,0),IF($G45=1,IVM!G45,0))","v":0},"MBD",{"$f":"IF($J45=\"ALB\", IF(INTRO!$E$39=\"Non-endemic\", IF($H45<>0, IF($I45=0, $D45*$H45, $D45*($H45-$G45)), 0), $D45*$H45), 0)","v":0},0,null,0,{"$f":"IF($J45=\"MBD\", IF(INTRO!$E$39=\"Non-endemic\", IF($H45<>0, IF($I45=0, $D45*$H45, $D45*($H45-$G45)), 0), $D45*$H45), 0)","v":91350},194278,null,285628,null,0,0,null,0,0,null,194278,1296]
[{"$f":"IF(AND(INTRO!$E$37=\"Non-endemic\",INTRO!$E$41=\"Non-endemic\"),\" \",IF(COUNTRY_INFO!A46=0,\" \",COUNTRY_INFO!A46))","v":"Uganda"},{"$f":"IF(AND(INTRO!$E$37=\"Non-endemic\",INTRO!$E$41=\"Non-endemic\"),\" \",IF(COUNTRY_INFO!B46=0,\" \",COUNTRY_INFO!B46))","v":"EASTERN"},{"$f":"IF(AND(INTRO!$E$37=\"Non-endemic\",INTRO!$E$41=\"Non-endemic\"),\" \",IF(COUNTRY_INFO!C46=0,\" \",COUNTRY_INFO!C46))","v":"BUTEBO"},{"$f":"IF(AND(INTRO!$E$37=\"Non-endemic\",INTRO!$E$41=\"Non-endemic\"),0,IF(AND(OR(COUNTRY_INFO!$H46=0,COUNTRY_INFO!$H46=4,COUNTRY_INFO!$H46=99),OR(COUNTRY_INFO!$J46=0,COUNTRY_INFO!$J46=4)),0,COUNTRY_INFO!$E46))","v":26802},{"$f":"IF(AND(INTRO!$E$37=\"Non-endemic\",INTRO!$E$41=\"Non-endemic\"),0,IF(AND(OR(COUNTRY_INFO!$H46=0,COUNTRY_INFO!$H46=4,COUNTRY_INFO!$H46=99),OR(COUNTRY_INFO!$J46=0,COUNTRY_INFO!$J46=4)),0,COUNTRY_INFO!$F46))","v":57001},83803,{"$f":"IF(AND(INTRO!$E$37=\"Non-endemic\",INTRO!$E$41=\"Non-endemic\"),0,COUNTRY_INFO!P46)","v":0},{"$f":"IF(AND(INTRO!$E$37=\"Non-endemic\",INTRO!$E$41=\"Non-endemic\"),0,COUNTRY_INFO!R46)","v":2},{"$f":"IF(INTRO!$E$39=\"Non-endemic\",IF($G46=1,DEC!I46,0),IF($G46=1,IVM!G46,0))","v":0},"MBD",{"$f":"IF($J46=\"ALB\", IF(INTRO!$E$39=\"Non-endemic\", IF($H46<>0, IF($I46=0, $D46*$H46, $D46*($H46-$G46)), 0), $D46*$H46), 0)","v":0},0,null,0,{"$f":"IF($J46=\"MBD\", IF(INTRO!$E$39=\"Non-endemic\", IF($H46<>0, IF($I46=0, $D46*$H46, $D46*($H46-$G46)), 0), $D46*$H46), 0)","v":53604},114002,null,167606,null,0,0,null,0,0,null,114002,761]
[{"$f":"IF(AND(INTRO!$E$37=\"Non-endemic\",INTRO!$E$41=\"Non-endemic\"),\" \",IF(COUNTRY_INFO!A47=0,\" \",COUNTRY_INFO!A47))","v":"Uganda"},{"$f":"IF(AND(INTRO!$E$37=\"Non-endemic\",INTRO!$E$41=\"Non-endemic\"),\" \",IF(COUNTRY_INFO!B47=0,\" \",COUNTRY_INFO!B47))","v":"EASTERN"},{"$f":"IF(AND(INTRO!$E$37=\"Non-endemic\",INTRO!$E$41=\"Non-endemic\"),\" \",IF(COUNTRY_INFO!C47=0,\" \",COUNTRY_INFO!C47))","v":"BUYENDE"},{"$f":"IF(AND(INTRO!$E$37=\"Non-endemic\",INTRO!$E$41=\"Non-endemic\"),0,IF(AND(OR(COUNTRY_INFO!$H47=0,COUNTRY_INFO!$H47=4,COUNTRY_INFO!$H47=99),OR(COUNTRY_INFO!$J47=0,COUNTRY_INFO!$J47=4)),0,COUNTRY_INFO!$E47))","v":59531},{"$f":"IF(AND(INTRO!$E$37=\"Non-endemic\",INTRO!$E$41=\"Non-endemic\"),0,IF(AND(OR(COUNTRY_INFO!$H47=0,COUNTRY_INFO!$H47=4,COUNTRY_INFO!$H47=99),OR(COUNTRY_INFO!$J47=0,COUNTRY_INFO!$J47=4)),0,COUNTRY_INFO!$F47))","v":126609},186140,{"$f":"IF(AND(INTRO!$E$37=\"Non-endemic\",INTRO!$E$41=\"Non-endemic\"),0,COUNTRY_INFO!P47)","v":0},{"$f":"IF(AND(INTRO!$E$37=\"Non-endemic\",INTRO!$E$41=\"Non-endemic\"),0,COUNTRY_INFO!R47)","v":2},{"$f":"IF(INTRO!$E$39=\"Non-endemic\",IF($G47=1,DEC!I47,0),IF($G47=1,IVM!G47,0))","v":0},"MBD",{"$f":"IF($J47=\"ALB\", IF(INTRO!$E$39=\"Non-endemic\", IF($H47<>0, IF($I47=0, $D47*$H47, $D47*($H47-$G47)), 0), $D47*$H47), 0)","v":0},0,null,0,{"$f":"IF($J47=\"MBD\", IF(INTRO!$E$39=\"Non-endemic\", IF($H47<>0, IF($I47=0, $D47*$H47, $D47*($H47-$G47)), 0), $D47*$H47), 0)","v":119062},253218,null,372280,null,0,0,null,0,0,null,253218,1689]
[{"$f":"IF(AND(INTRO!$E$37=\"Non-endemic\",INTRO!$E$41=\"Non-endemic\"),\" \",IF(COUNTRY_INFO!A48=0,\" \",COUNTRY_INFO!A48))","v":"Uganda"},{"$f":"IF(AND(INTRO!$E$37=\"Non-endemic\",INTRO!$E$41=\"Non-endemic\"),\" \",IF(COUNTRY_INFO!B48=0,\" \",COUNTRY_INFO!B48))","v":"EASTERN"},{"$f":"IF(AND(INTRO!$E$37=\"Non-endemic\",INTRO!$E$41=\"Non-endemic\"),\" \",IF(COUNTRY_INFO!C48=0,\" \",COUNTRY_INFO!C48))","v":"IGANGA"},{"$f":"IF(AND(INTRO!$E$37=\"Non-endemic\",INTRO!$E$41=\"Non-endemic\"),0,IF(AND(OR(COUNTRY_INFO!$H48=0,COUNTRY_INFO!$H48=4,COUNTRY_INFO!$H48=99),OR(COUNTRY_INFO!$J48=0,COUNTRY_INFO!$J48=4)),0,COUNTRY_INFO!$E48))","v":62700},{"$f":"IF(AND(INTRO!$E$37=\"Non-endemic\",INTRO!$E$41=\"Non-endemic\"),0,IF(AND(OR(COUNTRY_INFO!$H48=0,COUNTRY_INFO!$H48=4,COUNTRY_INFO!$H48=99),OR(COUNTRY_INFO!$J48=0,COUNTRY_INFO!$J48=4)),0,COUNTRY_INFO!$F48))","v":133348},196048,{"$f":"IF(AND(INTRO!$E$37=\"Non-endemic\",INTRO!$E$41=\"Non-endemic\"),0,COUNTRY_INFO!P48)","v":0},{"$f":"IF(AND(INTRO!$E$37=\"Non-endemic\",INTRO!$E$41=\"Non-endemic\"),0,COUNTRY_INFO!R48)","v":2},{"$f":"IF(INTRO!$E$39=\"Non-endemic\",IF($G48=1,DEC!I48,0),IF($G48=1,IVM!G48,0))","v":0},"MBD",{"$f":"IF($J48=\"ALB\", IF(INTRO!$E$39=\"Non-endemic\", IF($H48<>0, IF($I48=0, $D48*$H48, $D48*($H48-$G48)), 0), $D48*$H48), 0)","v":0},0,null,0,{"$f":"IF($J48=\"MBD\", IF(INTRO!$E$39=\"Non-endemic\", IF($H48<>0, IF($I48=0, $D48*$H48, $D48*($H48-$G48)), 0), $D48*$H48), 0)","v":125400},266696,null,392096,null,0,0,null,0,0,null,266696,1778]
[{"$f":"IF(AND(INTRO!$E$37=\"Non-endemic\",INTRO!$E$41=\"Non-endemic\"),\" \",IF(COUNTRY_INFO!A49=0,\" \",COUNTRY_INFO!A49))","v":"Uganda"},{"$f":"IF(AND(INTRO!$E$37=\"Non-endemic\",INTRO!$E$41=\"Non-endemic\"),\" \",IF(COUNTRY_INFO!B49=0,\" \",COUNTRY_INFO!B49))","v":"EASTERN"},{"$f":"IF(AND(INTRO!$E$37=\"Non-endemic\",INTRO!$E$41=\"Non-endemic\"),\" \",IF(COUNTRY_INFO!C49=0,\" \",COUNTRY_INFO!C49))","v":"JINJA"},{"$f":"IF(AND(INTRO!$E$37=\"Non-endemic\",INTRO!$E$41=\"Non-endemic\"),0,IF(AND(OR(COUNTRY_INFO!$H49=0,COUNTRY_INFO!$H49=4,COUNTRY_INFO!$H49=99),OR(COUNTRY_INFO!$J49=0,COUNTRY_INFO!$J49=4)),0,COUNTRY_INFO!$E49))","v":38293},{"$f":"IF(AND(INTRO!$E$37=\"Non-endemic\",INTRO!$E$41=\"Non-endemic\"),0,IF(AND(OR(COUNTRY_INFO!$H49=0,COUNTRY_INFO!$H49=4,COUNTRY_INFO!$H49=99),OR(COUNTRY_INFO!$J49=0,COUNTRY_INFO!$J49=4)),0,COUNTRY_INFO!$F49))","v":81440},119733,{"$f":"IF(AND(INTRO!$E$37=\"Non-endemic\",INTRO!$E$41=\"Non-endemic\"),0,COUNTRY_INFO!P49)","v":0},{"$f":"IF(AND(INTRO!$E$37=\"Non-endemic\",INTRO!$E$41=\"Non-endemic\"),0,COUNTRY_INFO!R49)","v":2},{"$f":"IF(INTRO!$E$39=\"Non-endemic\",IF($G49=1,DEC!I49,0),IF($G49=1,IVM!G49,0))","v":0},"MBD",{"$f":"IF($J49=\"ALB\", IF(INTRO!$E$39=\"Non-endemic\", IF($H49<>0, IF($I49=0, $D49*$H49, $D49*($H49-$G49)), 0), $D49*$H49), 0)","v":0},0,null,0,{"$f":"IF($J49=\"MBD\", IF(INTRO!$E$39=\"Non-endemic\", IF($H49<>0, IF($I49=0, $D49*$H49, $D49*($H49-$G49)), 0), $D49*$H49), 0)","v":76586},162880,null,239466,null,0,0,null,0,0,null,162880,1086]
[{"$f":"IF(AND(INTRO!$E$37=\"Non-endemic\",INTRO!$E$41=\"Non-endemic\"),\" \",IF(COUNTRY_INFO!A50=0,\" \",COUNTRY_INFO!A50))","v":"Uganda"},{"$f":"IF(AND(INTRO!$E$37=\"Non-endemic\",INTRO!$E$41=\"Non-endemic\"),\" \",IF(COUNTRY_INFO!B50=0,\" \",COUNTRY_INFO!B50))","v":"EASTERN"},{"$f":"IF(AND(INTRO!$E$37=\"Non-endemic\",INTRO!$E$41=\"Non-endemic\"),\" \",IF(COUNTRY_INFO!C50=0,\" \",COUNTRY_INFO!C50))","v":"Jinja City"},{"$f":"IF(AND(INTRO!$E$37=\"Non-endemic\",INTRO!$E$41=\"Non-endemic\"),0,IF(AND(OR(COUNTRY_INFO!$H50=0,COUNTRY_INFO!$H50=4,COUNTRY_INFO!$H50=99),OR(COUNTRY_INFO!$J50=0,COUNTRY_INFO!$J50=4)),0,COUNTRY_INFO!$E50))","v":48693},{"$f":"IF(AND(INTRO!$E$37=\"Non-endemic\",INTRO!$E$41=\"Non-endemic\"),0,IF(AND(OR(COUNTRY_INFO!$H50=0,COUNTRY_INFO!$H50=4,COUNTRY_INFO!$H50=99),OR(COUNTRY_INFO!$J50=0,COUNTRY_INFO!$J50=4)),0,COUNTRY_INFO!$F50))","v":103558},152251,{"$f":"IF(AND(INTRO!$E$37=\"Non-endemic\",INTRO!$E$41=\"Non-endemic\"),0,COUNTRY_INFO!P50)","v":0},{"$f":"IF(AND(INTRO!$E$37=\"Non-endemic\",INTRO!$E$41=\"Non-endemic\"),0,COUNTRY_INFO!R50)","v":2},{"$f":"IF(INTRO!$E$39=\"Non-endemic\",IF($G50=1,DEC!I50,0),IF($G50=1,IVM!G50,0))","v":0},"MBD",{"$f":"IF($J50=\"ALB\", IF(INTRO!$E$39=\"Non-endemic\", IF($H50<>0, IF($I50=0, $D50*$H50, $D50*($H50-$G50)), 0), $D50*$H50), 0)","v":0},0,null,0,{"$f":"IF($J50=\"MBD\", IF(INTRO!$E$39=\"Non-endemic\", IF($H50<>0, IF($I50=0, $D50*$H50, $D50*($H50-$G50)), 0), $D50*$H50), 0)","v":97386},207116,null,304502,null,0,0,null,0,0,null,207116,1381]
[{"$f":"IF(AND(INTRO!$E$37=\"Non-endemic\",INTRO!$E$41=\"Non-endemic\"),\" \",IF(COUNTRY_INFO!A51=0,\" \",COUNTRY_INFO!A51))","v":"Uganda"},{"$f":"IF(AND(INTRO!$E$37=\"Non-endemic\",INTRO!$E$41=\"Non-endemic\"),\" \",IF(COUNTRY_INFO!B51=0,\" \",COUNTRY_INFO!B51))","v":"EASTERN"},{"$f":"IF(AND(INTRO!$E$37=\"Non-endemic\",INTRO!$E$41=\"Non-endemic\"),\" \",IF(COUNTRY_INFO!C51=0,\" \",COUNTRY_INFO!C51))","v":"KABERAMAIDO"},{"$f":"IF(AND(INTRO!$E$37=\"Non-endemic\",INTRO!$E$41=\"Non-endemic\"),0,IF(AND(OR(COUNTRY_INFO!$H51=0,COUNTRY_INFO!$H51=4,COUNTRY_INFO!$H51=99),OR(COUNTRY_INFO!$J51=0,COUNTRY_INFO!$J51=4)),0,COUNTRY_INFO!$E51))","v":19282},{"$f":"IF(AND(INTRO!$E$37=\"Non-endemic\",INTRO!$E$41=\"Non-endemic\"),0,IF(AND(OR(COUNTRY_INFO!$H51=0,COUNTRY_INFO!$H51=4,COUNTRY_INFO!$H51=99),OR(COUNTRY_INFO!$J51=0,COUNTRY_INFO!$J51=4)),0,COUNTRY_INFO!$F51))","v":41008},60290,{"$f":"IF(AND(INTRO!$E$37=\"Non-endemic\",INTRO!$E$41=\"Non-endemic\"),0,COUNTRY_INFO!P51)","v":0},{"$f":"IF(AND(INTRO!$E$37=\"Non-endemic\",INTRO!$E$41=\"Non-endemic\"),0,COUNTRY_INFO!R51)","v":2},{"$f":"IF(INTRO!$E$39=\"Non-endemic\",IF($G51=1,DEC!I51,0),IF($G51=1,IVM!G51,0))","v":0},"MBD",{"$f":"IF($J51=\"ALB\", IF(INTRO!$E$39=\"Non-endemic\", IF($H51<>0, IF($I51=0, $D51*$H51, $D51*($H51-$G51)), 0), $D51*$H51), 0)","v":0},0,null,0,{"$f":"IF($J51=\"MBD\", IF(INTRO!$E$39=\"Non-endemic\", IF($H51<>0, IF($I51=0, $D51*$H51, $D51*($H51-$G51)), 0), $D51*$H51), 0)","v":38564},82016,null,120580,null,0,0,null,0,0,null,82016,547]
[{"$f":"IF(AND(INTRO!$E$37=\"Non-endemic\",INTRO!$E$41=\"Non-endemic\"),\" \",IF(COUNTRY_INFO!A52=0,\" \",COUNTRY_INFO!A52))","v":"Uganda"},{"$f":"IF(AND(INTRO!$E$37=\"Non-endemic\",INTRO!$E$41=\"Non-endemic\"),\" \",IF(COUNTRY_INFO!B52=0,\" \",COUNTRY_INFO!B52))","v":"EASTERN"},{"$f":"IF(AND(INTRO!$E$37=\"Non-endemic\",INTRO!$E$41=\"Non-endemic\"),\" \",IF(COUNTRY_INFO!C52=0,\" \",COUNTRY_INFO!C52))","v":"KALAKI"},{"$f":"IF(AND(INTRO!$E$37=\"Non-endemic\",INTRO!$E$41=\"Non-endemic\"),0,IF(AND(OR(COUNTRY_INFO!$H52=0,COUNTRY_INFO!$H52=4,COUNTRY_INFO!$H52=99),OR(COUNTRY_INFO!$J52=0,COUNTRY_INFO!$J52=4)),0,COUNTRY_INFO!$E52))","v":20357},{"$f":"IF(AND(INTRO!$E$37=\"Non-endemic\",INTRO!$E$41=\"Non-endemic\"),0,IF(AND(OR(COUNTRY_INFO!$H52=0,COUNTRY_INFO!$H52=4,COUNTRY_INFO!$H52=99),OR(COUNTRY_INFO!$J52=0,COUNTRY_INFO!$J52=4)),0,COUNTRY_INFO!$F52))","v":43294},63651,{"$f":"IF(AND(INTRO!$E$37=\"Non-endemic\",INTRO!$E$41=\"Non-endemic\"),0,COUNTRY_INFO!P52)","v":0},{"$f":"IF(AND(INTRO!$E$37=\"Non-endemic\",INTRO!$E$41=\"Non-endemic\"),0,COUNTRY_INFO!R52)","v":2},{"$f":"IF(INTRO!$E$39=\"Non-endemic\",IF($G52=1,DEC!I52,0),IF($G52=1,IVM!G52,0))","v":0},"MBD",{"$f":"IF($J52=\"ALB\", IF(INTRO!$E$39=\"Non-endemic\", IF($H52<>0, IF($I52=0, $D52*$H52, $D52*($H52-$G52)), 0), $D52*$H52), 0)","v":0},0,null,0,{"$f":"IF($J52=\"MBD\", IF(INTRO!$E$39=\"Non-endemic\", IF($H52<>0, IF($I52=0, $D52*$H52, $D52*($H52-$G52)), 0), $D52*$H52), 0)","v":40714},86588,null,127302,null,0,0,null,0,0,null,86588,578]
[{"$f":"IF(AND(INTRO!$E$37=\"Non-endemic\",INTRO!$E$41=\"Non-endemic\"),\" \",IF(COUNTRY_INFO!A53=0,\" \",COUNTRY_INFO!A53))","v":"Uganda"},{"$f":"IF(AND(INTRO!$E$37=\"Non-endemic\",INTRO!$E$41=\"Non-endemic\"),\" \",IF(COUNTRY_INFO!B53=0,\" \",COUNTRY_INFO!B53))","v":"EASTERN"},{"$f":"IF(AND(INTRO!$E$37=\"Non-endemic\",INTRO!$E$41=\"Non-endemic\"),\" \",IF(COUNTRY_INFO!C53=0,\" \",COUNTRY_INFO!C53))","v":"KALIRO"},{"$f":"IF(AND(INTRO!$E$37=\"Non-endemic\",INTRO!$E$41=\"Non-endemic\"),0,IF(AND(OR(COUNTRY_INFO!$H53=0,COUNTRY_INFO!$H53=4,COUNTRY_INFO!$H53=99),OR(COUNTRY_INFO!$J53=0,COUNTRY_INFO!$J53=4)),0,COUNTRY_INFO!$E53))","v":44012},{"$f":"IF(AND(INTRO!$E$37=\"Non-endemic\",INTRO!$E$41=\"Non-endemic\"),0,IF(AND(OR(COUNTRY_INFO!$H53=0,COUNTRY_INFO!$H53=4,COUNTRY_INFO!$H53=99),OR(COUNTRY_INFO!$J53=0,COUNTRY_INFO!$J53=4)),0,COUNTRY_INFO!$F53))","v":93603},137615,{"$f":"IF(AND(INTRO!$E$37=\"Non-endemic\",INTRO!$E$41=\"Non-endemic\"),0,COUNTRY_INFO!P53)","v":0},{"$f":"IF(AND(INTRO!$E$37=\"Non-endemic\",INTRO!$E$41=\"Non-endemic\"),0,COUNTRY_INFO!R53)","v":2},{"$f":"IF(INTRO!$E$39=\"Non-endemic\",IF($G53=1,DEC!I53,0),IF($G53=1,IVM!G53,0))","v":0},"MBD",{"$f":"IF($J53=\"ALB\", IF(INTRO!$E$39=\"Non-endemic\", IF($H53<>0, IF($I53=0, $D53*$H53, $D53*($H53-$G53)), 0), $D53*$H53), 0)","v":0},0,null,0,{"$f":"IF($J53=\"MBD\", IF(INTRO!$E$39=\"Non-endemic\", IF($H53<>0, IF($I53=0, $D53*$H53, $D53*($H53-$G53)), 0), $D53*$H53), 0)","v":88024},187206,null,275230,null,0,0,null,0,0,null,187206,1249]
[{"$f":"IF(AND(INTRO!$E$37=\"Non-endemic\",INTRO!$E$41=\"Non-endemic\"),\" \",IF(COUNTRY_INFO!A54=0,\" \",COUNTRY_INFO!A54))","v":"Uganda"},{"$f":"IF(AND(INTRO!$E$37=\"Non-endemic\",INTRO!$E$41=\"Non-endemic\"),\" \",IF(COUNTRY_INFO!B54=0,\" \",COUNTRY_INFO!B54))","v":"EASTERN"},{"$f":"IF(AND(INTRO!$E$37=\"Non-endemic\",INTRO!$E$41=\"Non-endemic\"),\" \",IF(COUNTRY_INFO!C54=0,\" \",COUNTRY_INFO!C54))","v":"KAMULI"},{"$f":"IF(AND(INTRO!$E$37=\"Non-endemic\",INTRO!$E$41=\"Non-endemic\"),0,IF(AND(OR(COUNTRY_INFO!$H54=0,COUNTRY_INFO!$H54=4,COUNTRY_INFO!$H54=99),OR(COUNTRY_INFO!$J54=0,COUNTRY_INFO!$J54=4)),0,COUNTRY_INFO!$E54))","v":91071},{"$f":"IF(AND(INTRO!$E$37=\"Non-endemic\",INTRO!$E$41=\"Non-endemic\"),0,IF(AND(OR(COUNTRY_INFO!$H54=0,COUNTRY_INFO!$H54=4,COUNTRY_INFO!$H54=99),OR(COUNTRY_INFO!$J54=0,COUNTRY_INFO!$J54=4)),0,COUNTRY_INFO!$F54))","v":193686},284757,{"$f":"IF(AND(INTRO!$E$37=\"Non-endemic\",INTRO!$E$41=\"Non-endemic\"),0,COUNTRY_INFO!P54)","v":0},{"$f":"IF(AND(INTRO!$E$37=\"Non-endemic\",INTRO!$E$41=\"Non-endemic\"),0,COUNTRY_INFO!R54)","v":2},{"$f":"IF(INTRO!$E$39=\"Non-endemic\",IF($G54=1,DEC!I54,0),IF($G54=1,IVM!G54,0))","v":0},"MBD",{"$f":"IF($J54=\"ALB\", IF(INTRO!$E$39=\"Non-endemic\", IF($H54<>0, IF($I54=0, $D54*$H54, $D54*($H54-$G54)), 0), $D54*$H54), 0)","v":0},0,null,0,{"$f":"IF($J54=\"MBD\", IF(INTRO!$E$39=\"Non-endemic\", IF($H54<>0, IF($I54=0, $D54*$H54, $D54*($H54-$G54)), 0), $D54*$H54), 0)","v":182142},387372,null,569514,null,0,0,null,0,0,null,387372,2583]
[{"$f":"IF(AND(INTRO!$E$37=\"Non-endemic\",INTRO!$E$41=\"Non-endemic\"),\" \",IF(COUNTRY_INFO!A55=0,\" \",COUNTRY_INFO!A55))","v":"Uganda"},{"$f":"IF(AND(INTRO!$E$37=\"Non-endemic\",INTRO!$E$41=\"Non-endemic\"),\" \",IF(COUNTRY_INFO!B55=0,\" \",COUNTRY_INFO!B55))","v":"EASTERN"},{"$f":"IF(AND(INTRO!$E$37=\"Non-endemic\",INTRO!$E$41=\"Non-endemic\"),\" \",IF(COUNTRY_INFO!C55=0,\" \",COUNTRY_INFO!C55))","v":"KAPCHORWA"},{"$f":"IF(AND(INTRO!$E$37=\"Non-endemic\",INTRO!$E$41=\"Non-endemic\"),0,IF(AND(OR(COUNTRY_INFO!$H55=0,COUNTRY_INFO!$H55=4,COUNTRY_INFO!$H55=99),OR(COUNTRY_INFO!$J55=0,COUNTRY_INFO!$J55=4)),0,COUNTRY_INFO!$E55))","v":20725},{"$f":"IF(AND(INTRO!$E$37=\"Non-endemic\",INTRO!$E$41=\"Non-endemic\"),0,IF(AND(OR(COUNTRY_INFO!$H55=0,COUNTRY_INFO!$H55=4,COUNTRY_INFO!$H55=99),OR(COUNTRY_INFO!$J55=0,COUNTRY_INFO!$J55=4)),0,COUNTRY_INFO!$F55))","v":44076},64801,{"$f":"IF(AND(INTRO!$E$37=\"Non-endemic\",INTRO!$E$41=\"Non-endemic\"),0,COUNTRY_INFO!P55)","v":0},{"$f":"IF(AND(INTRO!$E$37=\"Non-endemic\",INTRO!$E$41=\"Non-endemic\"),0,COUNTRY_INFO!R55)","v":2},{"$f":"IF(INTRO!$E$39=\"Non-endemic\",IF($G55=1,DEC!I55,0),IF($G55=1,IVM!G55,0))","v":0},"MBD",{"$f":"IF($J55=\"ALB\", IF(INTRO!$E$39=\"Non-endemic\", IF($H55<>0, IF($I55=0, $D55*$H55, $D55*($H55-$G55)), 0), $D55*$H55), 0)","v":0},0,null,0,{"$f":"IF($J55=\"MBD\", IF(INTRO!$E$39=\"Non-endemic\", IF($H55<>0, IF($I55=0, $D55*$H55, $D55*($H55-$G55)), 0), $D55*$H55), 0)","v":41450},88152,null,129602,null,0,0,null,0,0,null,88152,588]
[{"$f":"IF(AND(INTRO!$E$37=\"Non-endemic\",INTRO!$E$41=\"Non-endemic\"),\" \",IF(COUNTRY_INFO!A56=0,\" \",COUNTRY_INFO!A56))","v":"Uganda"},{"$f":"IF(AND(INTRO!$E$37=\"Non-endemic\",INTRO!$E$41=\"Non-endemic\"),\" \",IF(COUNTRY_INFO!B56=0,\" \",COUNTRY_INFO!B56))","v":"EASTERN"},{"$f":"IF(AND(INTRO!$E$37=\"Non-endemic\",INTRO!$E$41=\"Non-endemic\"),\" \",IF(COUNTRY_INFO!C56=0,\" \",COUNTRY_INFO!C56))","v":"KAPELEBYONG"},{"$f":"IF(AND(INTRO!$E$37=\"Non-endemic\",INTRO!$E$41=\"Non-endemic\"),0,IF(AND(OR(COUNTRY_INFO!$H56=0,COUNTRY_INFO!$H56=4,COUNTRY_INFO!$H56=99),OR(COUNTRY_INFO!$J56=0,COUNTRY_INFO!$J56=4)),0,COUNTRY_INFO!$E56))","v":16272},{"$f":"IF(AND(INTRO!$E$37=\"Non-endemic\",INTRO!$E$41=\"Non-endemic\"),0,IF(AND(OR(COUNTRY_INFO!$H56=0,COUNTRY_INFO!$H56=4,COUNTRY_INFO!$H56=99),OR(COUNTRY_INFO!$J56=0,COUNTRY_INFO!$J56=4)),0,COUNTRY_INFO!$F56))","v":34607},50879,{"$f":"IF(AND(INTRO!$E$37=\"Non-endemic\",INTRO!$E$41=\"Non-endemic\"),0,COUNTRY_INFO!P56)","v":0},{"$f":"IF(AND(INTRO!$E$37=\"Non-endemic\",INTRO!$E$41=\"Non-endemic\"),0,COUNTRY_INFO!R56)","v":2},{"$f":"IF(INTRO!$E$39=\"Non-endemic\",IF($G56=1,DEC!I56,0),IF($G56=1,IVM!G56,0))","v":0},"MBD",{"$f":"IF($J56=\"ALB\", IF(INTRO!$E$39=\"Non-endemic\", IF($H56<>0, IF($I56=0, $D56*$H56, $D56*($H56-$G56)), 0), $D56*$H56), 0)","v":0},0,null,0,{"$f":"IF($J56=\"MBD\", IF(INTRO!$E$39=\"Non-endemic\", IF($H56<>0, IF($I56=0, $D56*$H56, $D56*($H56-$G56)), 0), $D56*$H56), 0)","v":32544},69214,null,101758,null,0,0,null,0,0,null,69214,462]
[{"$f":"IF(AND(INTRO!$E$37=\"Non-endemic\",INTRO!$E$41=\"Non-endemic\"),\" \",IF(COUNTRY_INFO!A57=0,\" \",COUNTRY_INFO!A57))","v":"Uganda"},{"$f":"IF(AND(INTRO!$E$37=\"Non-endemic\",INTRO!$E$41=\"Non-endemic\"),\" \",IF(COUNTRY_INFO!B57=0,\" \",COUNTRY_INFO!B57))","v":"EASTERN"},{"$f":"IF(AND(INTRO!$E$37=\"Non-endemic\",INTRO!$E$41=\"Non-endemic\"),\" \",IF(COUNTRY_INFO!C57=0,\" \",COUNTRY_INFO!C57))","v":"KATAKWI"},{"$f":"IF(AND(INTRO!$E$37=\"Non-endemic\",INTRO!$E$41=\"Non-endemic\"),0,IF(AND(OR(COUNTRY_INFO!$H57=0,COUNTRY_INFO!$H57=4,COUNTRY_INFO!$H57=99),OR(COUNTRY_INFO!$J57=0,COUNTRY_INFO!$J57=4)),0,COUNTRY_INFO!$E57))","v":30754},{"$f":"IF(AND(INTRO!$E$37=\"Non-endemic\",INTRO!$E$41=\"Non-endemic\"),0,IF(AND(OR(COUNTRY_INFO!$H57=0,COUNTRY_INFO!$H57=4,COUNTRY_INFO!$H57=99),OR(COUNTRY_INFO!$J57=0,COUNTRY_INFO!$J57=4)),0,COUNTRY_INFO!$F57))","v":65407},96161,{"$f":"IF(AND(INTRO!$E$37=\"Non-endemic\",INTRO!$E$41=\"Non-endemic\"),0,COUNTRY_INFO!P57)","v":0},{"$f":"IF(AND(INTRO!$E$37=\"Non-endemic\",INTRO!$E$41=\"Non-endemic\"),0,COUNTRY_INFO!R57)","v":2},{"$f":"IF(INTRO!$E$39=\"Non-endemic\",IF($G57=1,DEC!I57,0),IF($G57=1,IVM!G57,0))","v":0},"MBD",{"$f":"IF($J57=\"ALB\", IF(INTRO!$E$39=\"Non-endemic\", IF($H57<>0, IF($I57=0, $D57*$H57, $D57*($H57-$G57)), 0), $D57*$H57), 0)","v":0},0,null,0,{"$f":"IF($J57=\"MBD\", IF(INTRO!$E$39=\"Non-endemic\", IF($H57<>0, IF($I57=0, $D57*$H57, $D57*($H57-$G57)), 0), $D57*$H57), 0)","v":61508},130814,null,192322,null,0,0,null,0,0,null,130814,873]
[{"$f":"IF(AND(INTRO!$E$37=\"Non-endemic\",INTRO!$E$41=\"Non-endemic\"),\" \",IF(COUNTRY_INFO!A58=0,\" \",COUNTRY_INFO!A58))","v":"Uganda"},{"$f":"IF(AND(INTRO!$E$37=\"Non-endemic\",INTRO!$E$41=\"Non-endemic\"),\" \",IF(COUNTRY_INFO!B58=0,\" \",COUNTRY_INFO!B58))","v":"EASTERN"},{"$f":"IF(AND(INTRO!$E$37=\"Non-endemic\",INTRO!$E$41=\"Non-endemic\"),\" \",IF(COUNTRY_INFO!C58=0,\" \",COUNTRY_INFO!C58))","v":"KIBUKU"},{"$f":"IF(AND(INTRO!$E$37=\"Non-endemic\",INTRO!$E$41=\"Non-endemic\"),0,IF(AND(OR(COUNTRY_INFO!$H58=0,COUNTRY_INFO!$H58=4,COUNTRY_INFO!$H58=99),OR(COUNTRY_INFO!$J58=0,COUNTRY_INFO!$J58=4)),0,COUNTRY_INFO!$E58))","v":37642},{"$f":"IF(AND(INTRO!$E$37=\"Non-endemic\",INTRO!$E$41=\"Non-endemic\"),0,IF(AND(OR(COUNTRY_INFO!$H58=0,COUNTRY_INFO!$H58=4,COUNTRY_INFO!$H58=99),OR(COUNTRY_INFO!$J58=0,COUNTRY_INFO!$J58=4)),0,COUNTRY_INFO!$F58))","v":80057},117699,{"$f":"IF(AND(INTRO!$E$37=\"Non-endemic\",INTRO!$E$41=\"Non-endemic\"),0,COUNTRY_INFO!P58)","v":0},{"$f":"IF(AND(INTRO!$E$37=\"Non-endemic\",INTRO!$E$41=\"Non-endemic\"),0,COUNTRY_INFO!R58)","v":2},{"$f":"IF(INTRO!$E$39=\"Non-endemic\",IF($G58=1,DEC!I58,0),IF($G58=1,IVM!G58,0))","v":0},"MBD",{"$f":"IF($J58=\"ALB\", IF(INTRO!$E$39=\"Non-endemic\", IF($H58<>0, IF($I58=0, $D58*$H58, $D58*($H58-$G58)), 0), $D58*$H58), 0)","v":0},0,null,0,{"$f":"IF($J58=\"MBD\", IF(INTRO!$E$39=\"Non-endemic\", IF($H58<>0, IF($I58=0, $D58*$H58, $D58*($H58-$G58)), 0), $D58*$H58), 0)","v":75284},160114,null,235398,null,0,0,null,0,0,null,160114,1068]
[{"$f":"IF(AND(INTRO!$E$37=\"Non-endemic\",INTRO!$E$41=\"Non-endemic\"),\" \",IF(COUNTRY_INFO!A59=0,\" \",COUNTRY_INFO!A59))","v":"Uganda"},{"$f":"IF(AND(INTRO!$E$37=\"Non-endemic\",INTRO!$E$41=\"Non-endemic\"),\" \",IF(COUNTRY_INFO!B59=0,\" \",COUNTRY_INFO!B59))","v":"EASTERN"},{"$f":"IF(AND(INTRO!$E$37=\"Non-endemic\",INTRO!$E$41=\"Non-endemic\"),\" \",IF(COUNTRY_INFO!C59=0,\" \",COUNTRY_INFO!C59))","v":"KUMI"},{"$f":"IF(AND(INTRO!$E$37=\"Non-endemic\",INTRO!$E$41=\"Non-endemic\"),0,IF(AND(OR(COUNTRY_INFO!$H59=0,COUNTRY_INFO!$H59=4,COUNTRY_INFO!$H59=99),OR(COUNTRY_INFO!$J59=0,COUNTRY_INFO!$J59=4)),0,COUNTRY_INFO!$E59))","v":47940},{"$f":"IF(AND(INTRO!$E$37=\"Non-endemic\",INTRO!$E$41=\"Non-endemic\"),0,IF(AND(OR(COUNTRY_INFO!$H59=0,COUNTRY_INFO!$H59=4,COUNTRY_INFO!$H59=99),OR(COUNTRY_INFO!$J59=0,COUNTRY_INFO!$J59=4)),0,COUNTRY_INFO!$F59))","v":101956},149896,{"$f":"IF(AND(INTRO!$E$37=\"Non-endemic\",INTRO!$E$41=\"Non-endemic\"),0,COUNTRY_INFO!P59)","v":0},{"$f":"IF(AND(INTRO!$E$37=\"Non-endemic\",INTRO!$E$41=\"Non-endemic\"),0,COUNTRY_INFO!R59)","v":2},{"$f":"IF(INTRO!$E$39=\"Non-endemic\",IF($G59=1,DEC!I59,0),IF($G59=1,IVM!G59,0))","v":0},"MBD",{"$f":"IF($J59=\"ALB\", IF(INTRO!$E$39=\"Non-endemic\", IF($H59<>0, IF($I59=0, $D59*$H59, $D59*($H59-$G59)), 0), $D59*$H59), 0)","v":0},0,null,0,{"$f":"IF($J59=\"MBD\", IF(INTRO!$E$39=\"Non-endemic\", IF($H59<>0, IF($I59=0, $D59*$H59, $D59*($H59-$G59)), 0), $D59*$H59), 0)","v":95880},203912,null,299792,null,0,0,null,0,0,null,203912,1360]
[{"$f":"IF(AND(INTRO!$E$37=\"Non-endemic\",INTRO!$E$41=\"Non-endemic\"),\" \",IF(COUNTRY_INFO!A60=0,\" \",COUNTRY_INFO!A60))","v":"Uganda"},{"$f":"IF(AND(INTRO!$E$37=\"Non-endemic\",INTRO!$E$41=\"Non-endemic\"),\" \",IF(COUNTRY_INFO!B60=0,\" \",COUNTRY_INFO!B60))","v":"EASTERN"},{"$f":"IF(AND(INTRO!$E$37=\"Non-endemic\",INTRO!$E$41=\"Non-endemic\"),\" \",IF(COUNTRY_INFO!C60=0,\" \",COUNTRY_INFO!C60))","v":"KWEEN"},{"$f":"IF(AND(INTRO!$E$37=\"Non-endemic\",INTRO!$E$41=\"Non-endemic\"),0,IF(AND(OR(COUNTRY_INFO!$H60=0,COUNTRY_INFO!$H60=4,COUNTRY_INFO!$H60=99),OR(COUNTRY_INFO!$J60=0,COUNTRY_INFO!$J60=4)),0,COUNTRY_INFO!$E60))","v":17763},{"$f":"IF(AND(INTRO!$E$37=\"Non-endemic\",INTRO!$E$41=\"Non-endemic\"),0,IF(AND(OR(COUNTRY_INFO!$H60=0,COUNTRY_INFO!$H60=4,COUNTRY_INFO!$H60=99),OR(COUNTRY_INFO!$J60=0,COUNTRY_INFO!$J60=4)),0,COUNTRY_INFO!$F60))","v":37778},55541,{"$f":"IF(AND(INTRO!$E$37=\"Non-endemic\",INTRO!$E$41=\"Non-endemic\"),0,COUNTRY_INFO!P60)","v":0},{"$f":"IF(AND(INTRO!$E$37=\"Non-endemic\",INTRO!$E$41=\"Non-endemic\"),0,COUNTRY_INFO!R60)","v":2},{"$f":"IF(INTRO!$E$39=\"Non-endemic\",IF($G60=1,DEC!I60,0),IF($G60=1,IVM!G60,0))","v":0},"MBD",{"$f":"IF($J60=\"ALB\", IF(INTRO!$E$39=\"Non-endemic\", IF($H60<>0, IF($I60=0, $D60*$H60, $D60*($H60-$G60)), 0), $D60*$H60), 0)","v":0},0,null,0,{"$f":"IF($J60=\"MBD\", IF(INTRO!$E$39=\"Non-endemic\", IF($H60<>0, IF($I60=0, $D60*$H60, $D60*($H60-$G60)), 0), $D60*$H60), 0)","v":35526},75556,null,111082,null,0,0,null,0,0,null,75556,504]
[{"$f":"IF(AND(INTRO!$E$37=\"Non-endemic\",INTRO!$E$41=\"Non-endemic\"),\" \",IF(COUNTRY_INFO!A61=0,\" \",COUNTRY_INFO!A61))","v":"Uganda"},{"$f":"IF(AND(INTRO!$E$37=\"Non-endemic\",INTRO!$E$41=\"Non-endemic\"),\" \",IF(COUNTRY_INFO!B61=0,\" \",COUNTRY_INFO!B61))","v":"EASTERN"},{"$f":"IF(AND(INTRO!$E$37=\"Non-endemic\",INTRO!$E$41=\"Non-endemic\"),\" \",IF(COUNTRY_INFO!C61=0,\" \",COUNTRY_INFO!C61))","v":"LUUKA"},{"$f":"IF(AND(INTRO!$E$37=\"Non-endemic\",INTRO!$E$41=\"Non-endemic\"),0,IF(AND(OR(COUNTRY_INFO!$H61=0,COUNTRY_INFO!$H61=4,COUNTRY_INFO!$H61=99),OR(COUNTRY_INFO!$J61=0,COUNTRY_INFO!$J61=4)),0,COUNTRY_INFO!$E61))","v":44853},{"$f":"IF(AND(INTRO!$E$37=\"Non-endemic\",INTRO!$E$41=\"Non-endemic\"),0,IF(AND(OR(COUNTRY_INFO!$H61=0,COUNTRY_INFO!$H61=4,COUNTRY_INFO!$H61=99),OR(COUNTRY_INFO!$J61=0,COUNTRY_INFO!$J61=4)),0,COUNTRY_INFO!$F61))","v":95392},140245,{"$f":"IF(AND(INTRO!$E$37=\"Non-endemic\",INTRO!$E$41=\"Non-endemic\"),0,COUNTRY_INFO!P61)","v":0},{"$f":"IF(AND(INTRO!$E$37=\"Non-endemic\",INTRO!$E$41=\"Non-endemic\"),0,COUNTRY_INFO!R61)","v":2},{"$f":"IF(INTRO!$E$39=\"Non-endemic\",IF($G61=1,DEC!I61,0),IF($G61=1,IVM!G61,0))","v":0},"MBD",{"$f":"IF($J61=\"ALB\", IF(INTRO!$E$39=\"Non-endemic\", IF($H61<>0, IF($I61=0, $D61*$H61, $D61*($H61-$G61)), 0), $D61*$H61), 0)","v":0},0,null,0,{"$f":"IF($J61=\"MBD\", IF(INTRO!$E$39=\"Non-endemic\", IF($H61<>0, IF($I61=0, $D61*$H61, $D61*($H61-$G61)), 0), $D61*$H61), 0)","v":89706},190784,null,280490,null,0,0,null,0,0,null,190784,1272]
[{"$f":"IF(AND(INTRO!$E$37=\"Non-endemic\",INTRO!$E$41=\"Non-endemic\"),\" \",IF(COUNTRY_INFO!A62=0,\" \",COUNTRY_INFO!A62))","v":"Uganda"},{"$f":"IF(AND(INTRO!$E$37=\"Non-endemic\",INTRO!$E$41=\"Non-endemic\"),\" \",IF(COUNTRY_INFO!B62=0,\" \",COUNTRY_INFO!B62))","v":"EASTERN"},{"$f":"IF(AND(INTRO!$E$37=\"Non-endemic\",INTRO!$E$41=\"Non-endemic\"),\" \",IF(COUNTRY_INFO!C62=0,\" \",COUNTRY_INFO!C62))","v":"MANAFWA"},{"$f":"IF(AND(INTRO!$E$37=\"Non-endemic\",INTRO!$E$41=\"Non-endemic\"),0,IF(AND(OR(COUNTRY_INFO!$H62=0,COUNTRY_INFO!$H62=4,COUNTRY_INFO!$H62=99),OR(COUNTRY_INFO!$J62=0,COUNTRY_INFO!$J62=4)),0,COUNTRY_INFO!$E62))","v":31263},{"$f":"IF(AND(INTRO!$E$37=\"Non-endemic\",INTRO!$E$41=\"Non-endemic\"),0,IF(AND(OR(COUNTRY_INFO!$H62=0,COUNTRY_INFO!$H62=4,COUNTRY_INFO!$H62=99),OR(COUNTRY_INFO!$J62=0,COUNTRY_INFO!$J62=4)),0,COUNTRY_INFO!$F62))","v":66489},97752,{"$f":"IF(AND(INTRO!$E$37=\"Non-endemic\",INTRO!$E$41=\"Non-endemic\"),0,COUNTRY_INFO!P62)","v":0},{"$f":"IF(AND(INTRO!$E$37=\"Non-endemic\",INTRO!$E$41=\"Non-endemic\"),0,COUNTRY_INFO!R62)","v":2},{"$f":"IF(INTRO!$E$39=\"Non-endemic\",IF($G62=1,DEC!I62,0),IF($G62=1,IVM!G62,0))","v":0},"MBD",{"$f":"IF($J62=\"ALB\", IF(INTRO!$E$39=\"Non-endemic\", IF($H62<>0, IF($I62=0, $D62*$H62, $D62*($H62-$G62)), 0), $D62*$H62), 0)","v":0},0,null,0,{"$f":"IF($J62=\"MBD\", IF(INTRO!$E$39=\"Non-endemic\", IF($H62<>0, IF($I62=0, $D62*$H62, $D62*($H62-$G62)), 0), $D62*$H62), 0)","v":62526},132978,null,195504,null,0,0,null,0,0,null,132978,887]
[{"$f":"IF(AND(INTRO!$E$37=\"Non-endemic\",INTRO!$E$41=\"Non-endemic\"),\" \",IF(COUNTRY_INFO!A63=0,\" \",COUNTRY_INFO!A63))","v":"Uganda"},{"$f":"IF(AND(INTRO!$E$37=\"Non-endemic\",INTRO!$E$41=\"Non-endemic\"),\" \",IF(COUNTRY_INFO!B63=0,\" \",COUNTRY_INFO!B63))","v":"EASTERN"},{"$f":"IF(AND(INTRO!$E$37=\"Non-endemic\",INTRO!$E$41=\"Non-endemic\"),\" \",IF(COUNTRY_INFO!C63=0,\" \",COUNTRY_INFO!C63))","v":"MAYUGE"},{"$f":"IF(AND(INTRO!$E$37=\"Non-endemic\",INTRO!$E$41=\"Non-endemic\"),0,IF(AND(OR(COUNTRY_INFO!$H63=0,COUNTRY_INFO!$H63=4,COUNTRY_INFO!$H63=99),OR(COUNTRY_INFO!$J63=0,COUNTRY_INFO!$J63=4)),0,COUNTRY_INFO!$E63))","v":89013},{"$f":"IF(AND(INTRO!$E$37=\"Non-endemic\",INTRO!$E$41=\"Non-endemic\"),0,IF(AND(OR(COUNTRY_INFO!$H63=0,COUNTRY_INFO!$H63=4,COUNTRY_INFO!$H63=99),OR(COUNTRY_INFO!$J63=0,COUNTRY_INFO!$J63=4)),0,COUNTRY_INFO!$F63))","v":189309},278322,{"$f":"IF(AND(INTRO!$E$37=\"Non-endemic\",INTRO!$E$41=\"Non-endemic\"),0,COUNTRY_INFO!P63)","v":0},{"$f":"IF(AND(INTRO!$E$37=\"Non-endemic\",INTRO!$E$41=\"Non-endemic\"),0,COUNTRY_INFO!R63)","v":2},{"$f":"IF(INTRO!$E$39=\"Non-endemic\",IF($G63=1,DEC!I63,0),IF($G63=1,IVM!G63,0))","v":0},"MBD",{"$f":"IF($J63=\"ALB\", IF(INTRO!$E$39=\"Non-endemic\", IF($H63<>0, IF($I63=0, $D63*$H63, $D63*($H63-$G63)), 0), $D63*$H63), 0)","v":0},0,null,0,{"$f":"IF($J63=\"MBD\", IF(INTRO!$E$39=\"Non-endemic\", IF($H63<>0, IF($I63=0, $D63*$H63, $D63*($H63-$G63)), 0), $D63*$H63), 0)","v":178026},378618,null,556644,null,0,0,null,0,0,null,378618,2525]
[{"$f":"IF(AND(INTRO!$E$37=\"Non-endemic\",INTRO!$E$41=\"Non-endemic\"),\" \",IF(COUNTRY_INFO!A64=0,\" \",COUNTRY_INFO!A64))","v":"Uganda"},{"$f":"IF(AND(INTRO!$E$37=\"Non-endemic\",INTRO!$E$41=\"Non-endemic\"),\" \",IF(COUNTRY_INFO!B64=0,\" \",COUNTRY_INFO!B64))","v":"EASTERN"},{"$f":"IF(AND(INTRO!$E$37=\"Non-endemic\",INTRO!$E$41=\"Non-endemic\"),\" \",IF(COUNTRY_INFO!C64=0,\" \",COUNTRY_INFO!C64))","v":"MBALE"},{"$f":"IF(AND(INTRO!$E$37=\"Non-endemic\",INTRO!$E$41=\"Non-endemic\"),0,IF(AND(OR(COUNTRY_INFO!$H64=0,COUNTRY_INFO!$H64=4,COUNTRY_INFO!$H64=99),OR(COUNTRY_INFO!$J64=0,COUNTRY_INFO!$J64=4)),0,COUNTRY_INFO!$E64))","v":65976},{"$f":"IF(AND(INTRO!$E$37=\"Non-endemic\",INTRO!$E$41=\"Non-endemic\"),0,IF(AND(OR(COUNTRY_INFO!$H64=0,COUNTRY_INFO!$H64=4,COUNTRY_INFO!$H64=99),OR(COUNTRY_INFO!$J64=0,COUNTRY_INFO!$J64=4)),0,COUNTRY_INFO!$F64))","v":140314},206290,{"$f":"IF(AND(INTRO!$E$37=\"Non-endemic\",INTRO!$E$41=\"Non-endemic\"),0,COUNTRY_INFO!P64)","v":0},{"$f":"IF(AND(INTRO!$E$37=\"Non-endemic\",INTRO!$E$41=\"Non-endemic\"),0,COUNTRY_INFO!R64)","v":2},{"$f":"IF(INTRO!$E$39=\"Non-endemic\",IF($G64=1,DEC!I64,0),IF($G64=1,IVM!G64,0))","v":0},"MBD",{"$f":"IF($J64=\"ALB\", IF(INTRO!$E$39=\"Non-endemic\", IF($H64<>0, IF($I64=0, $D64*$H64, $D64*($H64-$G64)), 0), $D64*$H64), 0)","v":0},0,null,0,{"$f":"IF($J64=\"MBD\", IF(INTRO!$E$39=\"Non-endemic\", IF($H64<>0, IF($I64=0, $D64*$H64, $D64*($H64-$G64)), 0), $D64*$H64), 0)","v":131952},280628,null,412580,null,0,0,null,0,0,null,280628,1871]
[{"$f":"IF(AND(INTRO!$E$37=\"Non-endemic\",INTRO!$E$41=\"Non-endemic\"),\" \",IF(COUNTRY_INFO!A65=0,\" \",COUNTRY_INFO!A65))","v":"Uganda"},{"$f":"IF(AND(INTRO!$E$37=\"Non-endemic\",INTRO!$E$41=\"Non-endemic\"),\" \",IF(COUNTRY_INFO!B65=0,\" \",COUNTRY_INFO!B65))","v":"EASTERN"},{"$f":"IF(AND(INTRO!$E$37=\"Non-endemic\",INTRO!$E$41=\"Non-endemic\"),\" \",IF(COUNTRY_INFO!C65=0,\" \",COUNTRY_INFO!C65))","v":"Mbale City"},{"$f":"IF(AND(INTRO!$E$37=\"Non-endemic\",INTRO!$E$41=\"Non-endemic\"),0,IF(AND(OR(COUNTRY_INFO!$H65=0,COUNTRY_INFO!$H65=4,COUNTRY_INFO!$H65=99),OR(COUNTRY_INFO!$J65=0,COUNTRY_INFO!$J65=4)),0,COUNTRY_INFO!$E65))","v":25570},{"$f":"IF(AND(INTRO!$E$37=\"Non-endemic\",INTRO!$E$41=\"Non-endemic\"),0,IF(AND(OR(COUNTRY_INFO!$H65=0,COUNTRY_INFO!$H65=4,COUNTRY_INFO!$H65=99),OR(COUNTRY_INFO!$J65=0,COUNTRY_INFO!$J65=4)),0,COUNTRY_INFO!$F65))","v":54381},79951,{"$f":"IF(AND(INTRO!$E$37=\"Non-endemic\",INTRO!$E$41=\"Non-endemic\"),0,COUNTRY_INFO!P65)","v":0},{"$f":"IF(AND(INTRO!$E$37=\"Non-endemic\",INTRO!$E$41=\"Non-endemic\"),0,COUNTRY_INFO!R65)","v":2},{"$f":"IF(INTRO!$E$39=\"Non-endemic\",IF($G65=1,DEC!I65,0),IF($G65=1,IVM!G65,0))","v":0},"MBD",{"$f":"IF($J65=\"ALB\", IF(INTRO!$E$39=\"Non-endemic\", IF($H65<>0, IF($I65=0, $D65*$H65, $D65*($H65-$G65)), 0), $D65*$H65), 0)","v":0},0,null,0,{"$f":"IF($J65=\"MBD\", IF(INTRO!$E$39=\"Non-endemic\", IF($H65<>0, IF($I65=0, $D65*$H65, $D65*($H65-$G65)), 0), $D65*$H65), 0)","v":51140},108762,null,159902,null,0,0,null,0,0,null,108762,726]
[{"$f":"IF(AND(INTRO!$E$37=\"Non-endemic\",INTRO!$E$41=\"Non-endemic\"),\" \",IF(COUNTRY_INFO!A66=0,\" \",COUNTRY_INFO!A66))","v":"Uganda"},{"$f":"IF(AND(INTRO!$E$37=\"Non-endemic\",INTRO!$E$41=\"Non-endemic\"),\" \",IF(COUNTRY_INFO!B66=0,\" \",COUNTRY_INFO!B66))","v":"EASTERN"},{"$f":"IF(AND(INTRO!$E$37=\"Non-endemic\",INTRO!$E$41=\"Non-endemic\"),\" \",IF(COUNTRY_INFO!C66=0,\" \",COUNTRY_INFO!C66))","v":"NAMAYINGO"},{"$f":"IF(AND(INTRO!$E$37=\"Non-endemic\",INTRO!$E$41=\"Non-endemic\"),0,IF(AND(OR(COUNTRY_INFO!$H66=0,COUNTRY_INFO!$H66=4,COUNTRY_INFO!$H66=99),OR(COUNTRY_INFO!$J66=0,COUNTRY_INFO!$J66=4)),0,COUNTRY_INFO!$E66))","v":41467},{"$f":"IF(AND(INTRO!$E$37=\"Non-endemic\",INTRO!$E$41=\"Non-endemic\"),0,IF(AND(OR(COUNTRY_INFO!$H66=0,COUNTRY_INFO!$H66=4,COUNTRY_INFO!$H66=99),OR(COUNTRY_INFO!$J66=0,COUNTRY_INFO!$J66=4)),0,COUNTRY_INFO!$F66))","v":88191},129658,{"$f":"IF(AND(INTRO!$E$37=\"Non-endemic\",INTRO!$E$41=\"Non-endemic\"),0,COUNTRY_INFO!P66)","v":0},{"$f":"IF(AND(INTRO!$E$37=\"Non-endemic\",INTRO!$E$41=\"Non-endemic\"),0,COUNTRY_INFO!R66)","v":2},{"$f":"IF(INTRO!$E$39=\"Non-endemic\",IF($G66=1,DEC!I66,0),IF($G66=1,IVM!G66,0))","v":0},"MBD",{"$f":"IF($J66=\"ALB\", IF(INTRO!$E$39=\"Non-endemic\", IF($H66<>0, IF($I66=0, $D66*$H66, $D66*($H66-$G66)), 0), $D66*$H66), 0)","v":0},0,null,0,{"$f":"IF($J66=\"MBD\", IF(INTRO!$E$39=\"Non-endemic\", IF($H66<>0, IF($I66=0, $D66*$H66, $D66*($H66-$G66)), 0), $D66*$H66), 0)","v":82934},176382,null,259316,null,0,0,null,0,0,null,176382,1176]
[{"$f":"IF(AND(INTRO!$E$37=\"Non-endemic\",INTRO!$E$41=\"Non-endemic\"),\" \",IF(COUNTRY_INFO!A67=0,\" \",COUNTRY_INFO!A67))","v":"Uganda"},{"$f":"IF(AND(INTRO!$E$37=\"Non-endemic\",INTRO!$E$41=\"Non-endemic\"),\" \",IF(COUNTRY_INFO!B67=0,\" \",COUNTRY_INFO!B67))","v":"EASTERN"},{"$f":"IF(AND(INTRO!$E$37=\"Non-endemic\",INTRO!$E$41=\"Non-endemic\"),\" \",IF(COUNTRY_INFO!C67=0,\" \",COUNTRY_INFO!C67))","v":"NAMISINDWA"},{"$f":"IF(AND(INTRO!$E$37=\"Non-endemic\",INTRO!$E$41=\"Non-endemic\"),0,IF(AND(OR(COUNTRY_INFO!$H67=0,COUNTRY_INFO!$H67=4,COUNTRY_INFO!$H67=99),OR(COUNTRY_INFO!$J67=0,COUNTRY_INFO!$J67=4)),0,COUNTRY_INFO!$E67))","v":34286},{"$f":"IF(AND(INTRO!$E$37=\"Non-endemic\",INTRO!$E$41=\"Non-endemic\"),0,IF(AND(OR(COUNTRY_INFO!$H67=0,COUNTRY_INFO!$H67=4,COUNTRY_INFO!$H67=99),OR(COUNTRY_INFO!$J67=0,COUNTRY_INFO!$J67=4)),0,COUNTRY_INFO!$F67))","v":72919},107205,{"$f":"IF(AND(INTRO!$E$37=\"Non-endemic\",INTRO!$E$41=\"Non-endemic\"),0,COUNTRY_INFO!P67)","v":0},{"$f":"IF(AND(INTRO!$E$37=\"Non-endemic\",INTRO!$E$41=\"Non-endemic\"),0,COUNTRY_INFO!R67)","v":2},{"$f":"IF(INTRO!$E$39=\"Non-endemic\",IF($G67=1,DEC!I67,0),IF($G67=1,IVM!G67,0))","v":0},"MBD",{"$f":"IF($J67=\"ALB\", IF(INTRO!$E$39=\"Non-endemic\", IF($H67<>0, IF($I67=0, $D67*$H67, $D67*($H67-$G67)), 0), $D67*$H67), 0)","v":0},0,null,0,{"$f":"IF($J67=\"MBD\", IF(INTRO!$E$39=\"Non-endemic\", IF($H67<>0, IF($I67=0, $D67*$H67, $D67*($H67-$G67)), 0), $D67*$H67), 0)","v":68572},145838,null,214410,null,0,0,null,0,0,null,145838,973]
[{"$f":"IF(AND(INTRO!$E$37=\"Non-endemic\",INTRO!$E$41=\"Non-endemic\"),\" \",IF(COUNTRY_INFO!A68=0,\" \",COUNTRY_INFO!A68))","v":"Uganda"},{"$f":"IF(AND(INTRO!$E$37=\"Non-endemic\",INTRO!$E$41=\"Non-endemic\"),\" \",IF(COUNTRY_INFO!B68=0,\" \",COUNTRY_INFO!B68))","v":"EASTERN"},{"$f":"IF(AND(INTRO!$E$37=\"Non-endemic\",INTRO!$E$41=\"Non-endemic\"),\" \",IF(COUNTRY_INFO!C68=0,\" \",COUNTRY_INFO!C68))","v":"NAMUTUMBA"},{"$f":"IF(AND(INTRO!$E$37=\"Non-endemic\",INTRO!$E$41=\"Non-endemic\"),0,IF(AND(OR(COUNTRY_INFO!$H68=0,COUNTRY_INFO!$H68=4,COUNTRY_INFO!$H68=99),OR(COUNTRY_INFO!$J68=0,COUNTRY_INFO!$J68=4)),0,COUNTRY_INFO!$E68))","v":47046},{"$f":"IF(AND(INTRO!$E$37=\"Non-endemic\",INTRO!$E$41=\"Non-endemic\"),0,IF(AND(OR(COUNTRY_INFO!$H68=0,COUNTRY_INFO!$H68=4,COUNTRY_INFO!$H68=99),OR(COUNTRY_INFO!$J68=0,COUNTRY_INFO!$J68=4)),0,COUNTRY_INFO!$F68))","v":100056},147102,{"$f":"IF(AND(INTRO!$E$37=\"Non-endemic\",INTRO!$E$41=\"Non-endemic\"),0,COUNTRY_INFO!P68)","v":0},{"$f":"IF(AND(INTRO!$E$37=\"Non-endemic\",INTRO!$E$41=\"Non-endemic\"),0,COUNTRY_INFO!R68)","v":2},{"$f":"IF(INTRO!$E$39=\"Non-endemic\",IF($G68=1,DEC!I68,0),IF($G68=1,IVM!G68,0))","v":0},"MBD",{"$f":"IF($J68=\"ALB\", IF(INTRO!$E$39=\"Non-endemic\", IF($H68<>0, IF($I68=0, $D68*$H68, $D68*($H68-$G68)), 0), $D68*$H68), 0)","v":0},0,null,0,{"$f":"IF($J68=\"MBD\", IF(INTRO!$E$39=\"Non-endemic\", IF($H68<>0, IF($I68=0, $D68*$H68, $D68*($H68-$G68)), 0), $D68*$H68), 0)","v":94092},200112,null,294204,null,0,0,null,0,0,null,200112,1335]
[{"$f":"IF(AND(INTRO!$E$37=\"Non-endemic\",INTRO!$E$41=\"Non-endemic\"),\" \",IF(COUNTRY_INFO!A69=0,\" \",COUNTRY_INFO!A69))","v":"Uganda"},{"$f":"IF(AND(INTRO!$E$37=\"Non-endemic\",INTRO!$E$41=\"Non-endemic\"),\" \",IF(COUNTRY_INFO!B69=0,\" \",COUNTRY_INFO!B69))","v":"EASTERN"},{"$f":"IF(AND(INTRO!$E$37=\"Non-endemic\",INTRO!$E$41=\"Non-endemic\"),\" \",IF(COUNTRY_INFO!C69=0,\" \",COUNTRY_INFO!C69))","v":"NGORA"},{"$f":"IF(AND(INTRO!$E$37=\"Non-endemic\",INTRO!$E$41=\"Non-endemic\"),0,IF(AND(OR(COUNTRY_INFO!$H69=0,COUNTRY_INFO!$H69=4,COUNTRY_INFO!$H69=99),OR(COUNTRY_INFO!$J69=0,COUNTRY_INFO!$J69=4)),0,COUNTRY_INFO!$E69))","v":26469},{"$f":"IF(AND(INTRO!$E$37=\"Non-endemic\",INTRO!$E$41=\"Non-endemic\"),0,IF(AND(OR(COUNTRY_INFO!$H69=0,COUNTRY_INFO!$H69=4,COUNTRY_INFO!$H69=99),OR(COUNTRY_INFO!$J69=0,COUNTRY_INFO!$J69=4)),0,COUNTRY_INFO!$F69))","v":56292},82761,{"$f":"IF(AND(INTRO!$E$37=\"Non-endemic\",INTRO!$E$41=\"Non-endemic\"),0,COUNTRY_INFO!P69)","v":0},{"$f":"IF(AND(INTRO!$E$37=\"Non-endemic\",INTRO!$E$41=\"Non-endemic\"),0,COUNTRY_INFO!R69)","v":2},{"$f":"IF(INTRO!$E$39=\"Non-endemic\",IF($G69=1,DEC!I69,0),IF($G69=1,IVM!G69,0))","v":0},"MBD",{"$f":"IF($J69=\"ALB\", IF(INTRO!$E$39=\"Non-endemic\", IF($H69<>0, IF($I69=0, $D69*$H69, $D69*($H69-$G69)), 0), $D69*$H69), 0)","v":0},0,null,0,{"$f":"IF($J69=\"MBD\", IF(INTRO!$E$39=\"Non-endemic\", IF($H69<>0, IF($I69=0, $D69*$H69, $D69*($H69-$G69)), 0), $D69*$H69), 0)","v":52938},112584,null,165522,null,0,0,null,0,0,null,112584,751]
[{"$f":"IF(AND(INTRO!$E$37=\"Non-endemic\",INTRO!$E$41=\"Non-endemic\"),\" \",IF(COUNTRY_INFO!A70=0,\" \",COUNTRY_INFO!A70))","v":"Uganda"},{"$f":"IF(AND(INTRO!$E$37=\"Non-endemic\",INTRO!$E$41=\"Non-endemic\"),\" \",IF(COUNTRY_INFO!B70=0,\" \",COUNTRY_INFO!B70))","v":"EASTERN"},{"$f":"IF(AND(INTRO!$E$37=\"Non-endemic\",INTRO!$E$41=\"Non-endemic\"),\" \",IF(COUNTRY_INFO!C70=0,\" \",COUNTRY_INFO!C70))","v":"PALLISA"},{"$f":"IF(AND(INTRO!$E$37=\"Non-endemic\",INTRO!$E$41=\"Non-endemic\"),0,IF(AND(OR(COUNTRY_INFO!$H70=0,COUNTRY_INFO!$H70=4,COUNTRY_INFO!$H70=99),OR(COUNTRY_INFO!$J70=0,COUNTRY_INFO!$J70=4)),0,COUNTRY_INFO!$E70))","v":44916},{"$f":"IF(AND(INTRO!$E$37=\"Non-endemic\",INTRO!$E$41=\"Non-endemic\"),0,IF(AND(OR(COUNTRY_INFO!$H70=0,COUNTRY_INFO!$H70=4,COUNTRY_INFO!$H70=99),OR(COUNTRY_INFO!$J70=0,COUNTRY_INFO!$J70=4)),0,COUNTRY_INFO!$F70))","v":95525},140441,{"$f":"IF(AND(INTRO!$E$37=\"Non-endemic\",INTRO!$E$41=\"Non-endemic\"),0,COUNTRY_INFO!P70)","v":0},{"$f":"IF(AND(INTRO!$E$37=\"Non-endemic\",INTRO!$E$41=\"Non-endemic\"),0,COUNTRY_INFO!R70)","v":2},{"$f":"IF(INTRO!$E$39=\"Non-endemic\",IF($G70=1,DEC!I70,0),IF($G70=1,IVM!G70,0))","v":0},"MBD",{"$f":"IF($J70=\"ALB\", IF(INTRO!$E$39=\"Non-endemic\", IF($H70<>0, IF($I70=0, $D70*$H70, $D70*($H70-$G70)), 0), $D70*$H70), 0)","v":0},0,null,0,{"$f":"IF($J70=\"MBD\", IF(INTRO!$E$39=\"Non-endemic\", IF($H70<>0, IF($I70=0, $D70*$H70, $D70*($H70-$G70)), 0), $D70*$H70), 0)","v":89832},191050,null,280882,null,0,0,null,0,0,null,191050,1274]
[{"$f":"IF(AND(INTRO!$E$37=\"Non-endemic\",INTRO!$E$41=\"Non-endemic\"),\" \",IF(COUNTRY_INFO!A71=0,\" \",COUNTRY_INFO!A71))","v":"Uganda"},{"$f":"IF(AND(INTRO!$E$37=\"Non-endemic\",INTRO!$E$41=\"Non-endemic\"),\" \",IF(COUNTRY_INFO!B71=0,\" \",COUNTRY_INFO!B71))","v":"EASTERN"},{"$f":"IF(AND(INTRO!$E$37=\"Non-endemic\",INTRO!$E$41=\"Non-endemic\"),\" \",IF(COUNTRY_INFO!C71=0,\" \",COUNTRY_INFO!C71))","v":"SERERE"},{"$f":"IF(AND(INTRO!$E$37=\"Non-endemic\",INTRO!$E$41=\"Non-endemic\"),0,IF(AND(OR(COUNTRY_INFO!$H71=0,COUNTRY_INFO!$H71=4,COUNTRY_INFO!$H71=99),OR(COUNTRY_INFO!$J71=0,COUNTRY_INFO!$J71=4)),0,COUNTRY_INFO!$E71))","v":52689},{"$f":"IF(AND(INTRO!$E$37=\"Non-endemic\",INTRO!$E$41=\"Non-endemic\"),0,IF(AND(OR(COUNTRY_INFO!$H71=0,COUNTRY_INFO!$H71=4,COUNTRY_INFO!$H71=99),OR(COUNTRY_INFO!$J71=0,COUNTRY_INFO!$J71=4)),0,COUNTRY_INFO!$F71))","v":112056},164745,{"$f":"IF(AND(INTRO!$E$37=\"Non-endemic\",INTRO!$E$41=\"Non-endemic\"),0,COUNTRY_INFO!P71)","v":0},{"$f":"IF(AND(INTRO!$E$37=\"Non-endemic\",INTRO!$E$41=\"Non-endemic\"),0,COUNTRY_INFO!R71)","v":2},{"$f":"IF(INTRO!$E$39=\"Non-endemic\",IF($G71=1,DEC!I71,0),IF($G71=1,IVM!G71,0))","v":0},"MBD",{"$f":"IF($J71=\"ALB\", IF(INTRO!$E$39=\"Non-endemic\", IF($H71<>0, IF($I71=0, $D71*$H71, $D71*($H71-$G71)), 0), $D71*$H71), 0)","v":0},0,null,0,{"$f":"IF($J71=\"MBD\", IF(INTRO!$E$39=\"Non-endemic\", IF($H71<>0, IF($I71=0, $D71*$H71, $D71*($H71-$G71)), 0), $D71*$H71), 0)","v":105378},224112,null,329490,null,0,0,null,0,0,null,224112,1495]
[{"$f":"IF(AND(INTRO!$E$37=\"Non-endemic\",INTRO!$E$41=\"Non-endemic\"),\" \",IF(COUNTRY_INFO!A72=0,\" \",COUNTRY_INFO!A72))","v":"Uganda"},{"$f":"IF(AND(INTRO!$E$37=\"Non-endemic\",INTRO!$E$41=\"Non-endemic\"),\" \",IF(COUNTRY_INFO!B72=0,\" \",COUNTRY_INFO!B72))","v":"EASTERN"},{"$f":"IF(AND(INTRO!$E$37=\"Non-endemic\",INTRO!$E$41=\"Non-endemic\"),\" \",IF(COUNTRY_INFO!C72=0,\" \",COUNTRY_INFO!C72))","v":"SIRONKO"},{"$f":"IF(AND(INTRO!$E$37=\"Non-endemic\",INTRO!$E$41=\"Non-endemic\"),0,IF(AND(OR(COUNTRY_INFO!$H72=0,COUNTRY_INFO!$H72=4,COUNTRY_INFO!$H72=99),OR(COUNTRY_INFO!$J72=0,COUNTRY_INFO!$J72=4)),0,COUNTRY_INFO!$E72))","v":45817},{"$f":"IF(AND(INTRO!$E$37=\"Non-endemic\",INTRO!$E$41=\"Non-endemic\"),0,IF(AND(OR(COUNTRY_INFO!$H72=0,COUNTRY_INFO!$H72=4,COUNTRY_INFO!$H72=99),OR(COUNTRY_INFO!$J72=0,COUNTRY_INFO!$J72=4)),0,COUNTRY_INFO!$F72))","v":97441},143258,{"$f":"IF(AND(INTRO!$E$37=\"Non-endemic\",INTRO!$E$41=\"Non-endemic\"),0,COUNTRY_INFO!P72)","v":0},{"$f":"IF(AND(INTRO!$E$37=\"Non-endemic\",INTRO!$E$41=\"Non-endemic\"),0,COUNTRY_INFO!R72)","v":2},{"$f":"IF(INTRO!$E$39=\"Non-endemic\",IF($G72=1,DEC!I72,0),IF($G72=1,IVM!G72,0))","v":0},"MBD",{"$f":"IF($J72=\"ALB\", IF(INTRO!$E$39=\"Non-endemic\", IF($H72<>0, IF($I72=0, $D72*$H72, $D72*($H72-$G72)), 0), $D72*$H72), 0)","v":0},0,null,0,{"$f":"IF($J72=\"MBD\", IF(INTRO!$E$39=\"Non-endemic\", IF($H72<>0, IF($I72=0, $D72*$H72, $D72*($H72-$G72)), 0), $D72*$H72), 0)","v":91634},194882,null,286516,null,0,0,null,0,0,null,194882,1300]
[{"$f":"IF(AND(INTRO!$E$37=\"Non-endemic\",INTRO!$E$41=\"Non-endemic\"),\" \",IF(COUNTRY_INFO!A73=0,\" \",COUNTRY_INFO!A73))","v":"Uganda"},{"$f":"IF(AND(INTRO!$E$37=\"Non-endemic\",INTRO!$E$41=\"Non-endemic\"),\" \",IF(COUNTRY_INFO!B73=0,\" \",COUNTRY_INFO!B73))","v":"EASTERN"},{"$f":"IF(AND(INTRO!$E$37=\"Non-endemic\",INTRO!$E$41=\"Non-endemic\"),\" \",IF(COUNTRY_INFO!C73=0,\" \",COUNTRY_INFO!C73))","v":"SOROTI"},{"$f":"IF(AND(INTRO!$E$37=\"Non-endemic\",INTRO!$E$41=\"Non-endemic\"),0,IF(AND(OR(COUNTRY_INFO!$H73=0,COUNTRY_INFO!$H73=4,COUNTRY_INFO!$H73=99),OR(COUNTRY_INFO!$J73=0,COUNTRY_INFO!$J73=4)),0,COUNTRY_INFO!$E73))","v":46015},{"$f":"IF(AND(INTRO!$E$37=\"Non-endemic\",INTRO!$E$41=\"Non-endemic\"),0,IF(AND(OR(COUNTRY_INFO!$H73=0,COUNTRY_INFO!$H73=4,COUNTRY_INFO!$H73=99),OR(COUNTRY_INFO!$J73=0,COUNTRY_INFO!$J73=4)),0,COUNTRY_INFO!$F73))","v":97862},143877,{"$f":"IF(AND(INTRO!$E$37=\"Non-endemic\",INTRO!$E$41=\"Non-endemic\"),0,COUNTRY_INFO!P73)","v":0},{"$f":"IF(AND(INTRO!$E$37=\"Non-endemic\",INTRO!$E$41=\"Non-endemic\"),0,COUNTRY_INFO!R73)","v":2},{"$f":"IF(INTRO!$E$39=\"Non-endemic\",IF($G73=1,DEC!I73,0),IF($G73=1,IVM!G73,0))","v":0},"MBD",{"$f":"IF($J73=\"ALB\", IF(INTRO!$E$39=\"Non-endemic\", IF($H73<>0, IF($I73=0, $D73*$H73, $D73*($H73-$G73)), 0), $D73*$H73), 0)","v":0},0,null,0,{"$f":"IF($J73=\"MBD\", IF(INTRO!$E$39=\"Non-endemic\", IF($H73<>0, IF($I73=0, $D73*$H73, $D73*($H73-$G73)), 0), $D73*$H73), 0)","v":92030},195724,null,287754,null,0,0,null,0,0,null,195724,1305]
[{"$f":"IF(AND(INTRO!$E$37=\"Non-endemic\",INTRO!$E$41=\"Non-endemic\"),\" \",IF(COUNTRY_INFO!A74=0,\" \",COUNTRY_INFO!A74))","v":"Uganda"},{"$f":"IF(AND(INTRO!$E$37=\"Non-endemic\",INTRO!$E$41=\"Non-endemic\"),\" \",IF(COUNTRY_INFO!B74=0,\" \",COUNTRY_INFO!B74))","v":"EASTERN"},{"$f":"IF(AND(INTRO!$E$37=\"Non-endemic\",INTRO!$E$41=\"Non-endemic\"),\" \",IF(COUNTRY_INFO!C74=0,\" \",COUNTRY_INFO!C74))","v":"Soroti City"},{"$f":"IF(AND(INTRO!$E$37=\"Non-endemic\",INTRO!$E$41=\"Non-endemic\"),0,IF(AND(OR(COUNTRY_INFO!$H74=0,COUNTRY_INFO!$H74=4,COUNTRY_INFO!$H74=99),OR(COUNTRY_INFO!$J74=0,COUNTRY_INFO!$J74=4)),0,COUNTRY_INFO!$E74))","v":9187},{"$f":"IF(AND(INTRO!$E$37=\"Non-endemic\",INTRO!$E$41=\"Non-endemic\"),0,IF(AND(OR(COUNTRY_INFO!$H74=0,COUNTRY_INFO!$H74=4,COUNTRY_INFO!$H74=99),OR(COUNTRY_INFO!$J74=0,COUNTRY_INFO!$J74=4)),0,COUNTRY_INFO!$F74))","v":19538},{"$f":"SUM(D74:E74)","v":28725},{"$f":"IF(AND(INTRO!$E$37=\"Non-endemic\",INTRO!$E$41=\"Non-endemic\"),0,COUNTRY_INFO!P74)","v":0},{"$f":"IF(AND(INTRO!$E$37=\"Non-endemic\",INTRO!$E$41=\"Non-endemic\"),0,COUNTRY_INFO!R74)","v":2},{"$f":"IF(INTRO!$E$39=\"Non-endemic\",IF($G74=1,DEC!I74,0),IF($G74=1,IVM!G74,0))","v":0},"MBD",{"$f":"IF($J74=\"ALB\", IF(INTRO!$E$39=\"Non-endemic\", IF($H74<>0, IF($I74=0, $D74*$H74, $D74*($H74-$G74)), 0), $D74*$H74), 0)","v":0},0,null,{"$f":"SUM(K74:M74)","v":0},{"$f":"IF($J74=\"MBD\", IF(INTRO!$E$39=\"Non-endemic\", IF($H74<>0, IF($I74=0, $D74*$H74, $D74*($H74-$G74)), 0), $D74*$H74), 0)","v":18374},39076,null,{"$f":"SUM(O74:Q74)","v":57450},null,0,0,null,0,0,null,39076,261]
[{"$f":"IF(AND(INTRO!$E$37=\"Non-endemic\",INTRO!$E$41=\"Non-endemic\"),\" \",IF(COUNTRY_INFO!A75=0,\" \",COUNTRY_INFO!A75))","v":"Uganda"},{"$f":"IF(AND(INTRO!$E$37=\"Non-endemic\",INTRO!$E$41=\"Non-endemic\"),\" \",IF(COUNTRY_INFO!B75=0,\" \",COUNTRY_INFO!B75))","v":"EASTERN"},{"$f":"IF(AND(INTRO!$E$37=\"Non-endemic\",INTRO!$E$41=\"Non-endemic\"),\" \",IF(COUNTRY_INFO!C75=0,\" \",COUNTRY_INFO!C75))","v":"TORORO"},{"$f":"IF(AND(INTRO!$E$37=\"Non-endemic\",INTRO!$E$41=\"Non-endemic\"),0,IF(AND(OR(COUNTRY_INFO!$H75=0,COUNTRY_INFO!$H75=4,COUNTRY_INFO!$H75=99),OR(COUNTRY_INFO!$J75=0,COUNTRY_INFO!$J75=4)),0,COUNTRY_INFO!$E75))","v":97781},{"$f":"IF(AND(INTRO!$E$37=\"Non-endemic\",INTRO!$E$41=\"Non-endemic\"),0,IF(AND(OR(COUNTRY_INFO!$H75=0,COUNTRY_INFO!$H75=4,COUNTRY_INFO!$H75=99),OR(COUNTRY_INFO!$J75=0,COUNTRY_INFO!$J75=4)),0,COUNTRY_INFO!$F75))","v":207957},305738,{"$f":"IF(AND(INTRO!$E$37=\"Non-endemic\",INTRO!$E$41=\"Non-endemic\"),0,COUNTRY_INFO!P75)","v":0},{"$f":"IF(AND(INTRO!$E$37=\"Non-endemic\",INTRO!$E$41=\"Non-endemic\"),0,COUNTRY_INFO!R75)","v":2},{"$f":"IF(INTRO!$E$39=\"Non-endemic\",IF($G75=1,DEC!I75,0),IF($G75=1,IVM!G75,0))","v":0},"MBD",{"$f":"IF($J75=\"ALB\", IF(INTRO!$E$39=\"Non-endemic\", IF($H75<>0, IF($I75=0, $D75*$H75, $D75*($H75-$G75)), 0), $D75*$H75), 0)","v":0},0,null,0,{"$f":"IF($J75=\"MBD\", IF(INTRO!$E$39=\"Non-endemic\", IF($H75<>0, IF($I75=0, $D75*$H75, $D75*($H75-$G75)), 0), $D75*$H75), 0)","v":195562},415914,null,611476,null,0,0,null,0,0,null,415914,2773]
[{"$f":"IF(AND(INTRO!$E$37=\"Non-endemic\",INTRO!$E$41=\"Non-endemic\"),\" \",IF(COUNTRY_INFO!A76=0,\" \",COUNTRY_INFO!A76))","v":"Uganda"},{"$f":"IF(AND(INTRO!$E$37=\"Non-endemic\",INTRO!$E$41=\"Non-endemic\"),\" \",IF(COUNTRY_INFO!B76=0,\" \",COUNTRY_INFO!B76))","v":"NORTHERN"},{"$f":"IF(AND(INTRO!$E$37=\"Non-endemic\",INTRO!$E$41=\"Non-endemic\"),\" \",IF(COUNTRY_INFO!C76=0,\" \",COUNTRY_INFO!C76))","v":"ABIM"},{"$f":"IF(AND(INTRO!$E$37=\"Non-endemic\",INTRO!$E$41=\"Non-endemic\"),0,IF(AND(OR(COUNTRY_INFO!$H76=0,COUNTRY_INFO!$H76=4,COUNTRY_INFO!$H76=99),OR(COUNTRY_INFO!$J76=0,COUNTRY_INFO!$J76=4)),0,COUNTRY_INFO!$E76))","v":20255},{"$f":"IF(AND(INTRO!$E$37=\"Non-endemic\",INTRO!$E$41=\"Non-endemic\"),0,IF(AND(OR(COUNTRY_INFO!$H76=0,COUNTRY_INFO!$H76=4,COUNTRY_INFO!$H76=99),OR(COUNTRY_INFO!$J76=0,COUNTRY_INFO!$J76=4)),0,COUNTRY_INFO!$F76))","v":43078},63333,{"$f":"IF(AND(INTRO!$E$37=\"Non-endemic\",INTRO!$E$41=\"Non-endemic\"),0,COUNTRY_INFO!P76)","v":0},{"$f":"IF(AND(INTRO!$E$37=\"Non-endemic\",INTRO!$E$41=\"Non-endemic\"),0,COUNTRY_INFO!R76)","v":2},{"$f":"IF(INTRO!$E$39=\"Non-endemic\",IF($G76=1,DEC!I76,0),IF($G76=1,IVM!G76,0))","v":0},"MBD",{"$f":"IF($J76=\"ALB\", IF(INTRO!$E$39=\"Non-endemic\", IF($H76<>0, IF($I76=0, $D76*$H76, $D76*($H76-$G76)), 0), $D76*$H76), 0)","v":0},0,null,0,{"$f":"IF($J76=\"MBD\", IF(INTRO!$E$39=\"Non-endemic\", IF($H76<>0, IF($I76=0, $D76*$H76, $D76*($H76-$G76)), 0), $D76*$H76), 0)","v":40510},86156,null,126666,null,0,0,null,0,0,null,86156,575]
[{"$f":"IF(AND(INTRO!$E$37=\"Non-endemic\",INTRO!$E$41=\"Non-endemic\"),\" \",IF(COUNTRY_INFO!A77=0,\" \",COUNTRY_INFO!A77))","v":"Uganda"},{"$f":"IF(AND(INTRO!$E$37=\"Non-endemic\",INTRO!$E$41=\"Non-endemic\"),\" \",IF(COUNTRY_INFO!B77=0,\" \",COUNTRY_INFO!B77))","v":"NORTHERN"},{"$f":"IF(AND(INTRO!$E$37=\"Non-endemic\",INTRO!$E$41=\"Non-endemic\"),\" \",IF(COUNTRY_INFO!C77=0,\" \",COUNTRY_INFO!C77))","v":"ADJUMANI"},{"$f":"IF(AND(INTRO!$E$37=\"Non-endemic\",INTRO!$E$41=\"Non-endemic\"),0,IF(AND(OR(COUNTRY_INFO!$H77=0,COUNTRY_INFO!$H77=4,COUNTRY_INFO!$H77=99),OR(COUNTRY_INFO!$J77=0,COUNTRY_INFO!$J77=4)),0,COUNTRY_INFO!$E77))","v":43249},{"$f":"IF(AND(INTRO!$E$37=\"Non-endemic\",INTRO!$E$41=\"Non-endemic\"),0,IF(AND(OR(COUNTRY_INFO!$H77=0,COUNTRY_INFO!$H77=4,COUNTRY_INFO!$H77=99),OR(COUNTRY_INFO!$J77=0,COUNTRY_INFO!$J77=4)),0,COUNTRY_INFO!$F77))","v":91980},135229,{"$f":"IF(AND(INTRO!$E$37=\"Non-endemic\",INTRO!$E$41=\"Non-endemic\"),0,COUNTRY_INFO!P77)","v":0},{"$f":"IF(AND(INTRO!$E$37=\"Non-endemic\",INTRO!$E$41=\"Non-endemic\"),0,COUNTRY_INFO!R77)","v":2},{"$f":"IF(INTRO!$E$39=\"Non-endemic\",IF($G77=1,DEC!I77,0),IF($G77=1,IVM!G77,0))","v":0},"MBD",{"$f":"IF($J77=\"ALB\", IF(INTRO!$E$39=\"Non-endemic\", IF($H77<>0, IF($I77=0, $D77*$H77, $D77*($H77-$G77)), 0), $D77*$H77), 0)","v":0},0,null,0,{"$f":"IF($J77=\"MBD\", IF(INTRO!$E$39=\"Non-endemic\", IF($H77<>0, IF($I77=0, $D77*$H77, $D77*($H77-$G77)), 0), $D77*$H77), 0)","v":86498},183960,null,270458,null,0,0,null,0,0,null,183960,1227]
[{"$f":"IF(AND(INTRO!$E$37=\"Non-endemic\",INTRO!$E$41=\"Non-endemic\"),\" \",IF(COUNTRY_INFO!A78=0,\" \",COUNTRY_INFO!A78))","v":"Uganda"},{"$f":"IF(AND(INTRO!$E$37=\"Non-endemic\",INTRO!$E$41=\"Non-endemic\"),\" \",IF(COUNTRY_INFO!B78=0,\" \",COUNTRY_INFO!B78))","v":"NORTHERN"},{"$f":"IF(AND(INTRO!$E$37=\"Non-endemic\",INTRO!$E$41=\"Non-endemic\"),\" \",IF(COUNTRY_INFO!C78=0,\" \",COUNTRY_INFO!C78))","v":"AGAGO"},{"$f":"IF(AND(INTRO!$E$37=\"Non-endemic\",INTRO!$E$41=\"Non-endemic\"),0,IF(AND(OR(COUNTRY_INFO!$H78=0,COUNTRY_INFO!$H78=4,COUNTRY_INFO!$H78=99),OR(COUNTRY_INFO!$J78=0,COUNTRY_INFO!$J78=4)),0,COUNTRY_INFO!$E78))","v":42260},{"$f":"IF(AND(INTRO!$E$37=\"Non-endemic\",INTRO!$E$41=\"Non-endemic\"),0,IF(AND(OR(COUNTRY_INFO!$H78=0,COUNTRY_INFO!$H78=4,COUNTRY_INFO!$H78=99),OR(COUNTRY_INFO!$J78=0,COUNTRY_INFO!$J78=4)),0,COUNTRY_INFO!$F78))","v":89876},132136,{"$f":"IF(AND(INTRO!$E$37=\"Non-endemic\",INTRO!$E$41=\"Non-endemic\"),0,COUNTRY_INFO!P78)","v":0},{"$f":"IF(AND(INTRO!$E$37=\"Non-endemic\",INTRO!$E$41=\"Non-endemic\"),0,COUNTRY_INFO!R78)","v":2},{"$f":"IF(INTRO!$E$39=\"Non-endemic\",IF($G78=1,DEC!I78,0),IF($G78=1,IVM!G78,0))","v":0},"MBD",{"$f":"IF($J78=\"ALB\", IF(INTRO!$E$39=\"Non-endemic\", IF($H78<>0, IF($I78=0, $D78*$H78, $D78*($H78-$G78)), 0), $D78*$H78), 0)","v":0},0,null,0,{"$f":"IF($J78=\"MBD\", IF(INTRO!$E$39=\"Non-endemic\", IF($H78<>0, IF($I78=0, $D78*$H78, $D78*($H78-$G78)), 0), $D78*$H78), 0)","v":84520},179752,null,264272,null,0,0,null,0,0,null,179752,1199]
[{"$f":"IF(AND(INTRO!$E$37=\"Non-endemic\",INTRO!$E$41=\"Non-endemic\"),\" \",IF(COUNTRY_INFO!A79=0,\" \",COUNTRY_INFO!A79))","v":"Uganda"},{"$f":"IF(AND(INTRO!$E$37=\"Non-endemic\",INTRO!$E$41=\"Non-endemic\"),\" \",IF(COUNTRY_INFO!B79=0,\" \",COUNTRY_INFO!B79))","v":"NORTHERN"},{"$f":"IF(AND(INTRO!$E$37=\"Non-endemic\",INTRO!$E$41=\"Non-endemic\"),\" \",IF(COUNTRY_INFO!C79=0,\" \",COUNTRY_INFO!C79))","v":"ALEBTONG"},{"$f":"IF(AND(INTRO!$E$37=\"Non-endemic\",INTRO!$E$41=\"Non-endemic\"),0,IF(AND(OR(COUNTRY_INFO!$H79=0,COUNTRY_INFO!$H79=4,COUNTRY_INFO!$H79=99),OR(COUNTRY_INFO!$J79=0,COUNTRY_INFO!$J79=4)),0,COUNTRY_INFO!$E79))","v":41858},{"$f":"IF(AND(INTRO!$E$37=\"Non-endemic\",INTRO!$E$41=\"Non-endemic\"),0,IF(AND(OR(COUNTRY_INFO!$H79=0,COUNTRY_INFO!$H79=4,COUNTRY_INFO!$H79=99),OR(COUNTRY_INFO!$J79=0,COUNTRY_INFO!$J79=4)),0,COUNTRY_INFO!$F79))","v":89023},130881,{"$f":"IF(AND(INTRO!$E$37=\"Non-endemic\",INTRO!$E$41=\"Non-endemic\"),0,COUNTRY_INFO!P79)","v":0},{"$f":"IF(AND(INTRO!$E$37=\"Non-endemic\",INTRO!$E$41=\"Non-endemic\"),0,COUNTRY_INFO!R79)","v":2},{"$f":"IF(INTRO!$E$39=\"Non-endemic\",IF($G79=1,DEC!I79,0),IF($G79=1,IVM!G79,0))","v":0},"MBD",{"$f":"IF($J79=\"ALB\", IF(INTRO!$E$39=\"Non-endemic\", IF($H79<>0, IF($I79=0, $D79*$H79, $D79*($H79-$G79)), 0), $D79*$H79), 0)","v":0},0,null,0,{"$f":"IF($J79=\"MBD\", IF(INTRO!$E$39=\"Non-endemic\", IF($H79<>0, IF($I79=0, $D79*$H79, $D79*($H79-$G79)), 0), $D79*$H79), 0)","v":83716},178046,null,261762,null,0,0,null,0,0,null,178046,1187]
[{"$f":"IF(AND(INTRO!$E$37=\"Non-endemic\",INTRO!$E$41=\"Non-endemic\"),\" \",IF(COUNTRY_INFO!A80=0,\" \",COUNTRY_INFO!A80))","v":"Uganda"},{"$f":"IF(AND(INTRO!$E$37=\"Non-endemic\",INTRO!$E$41=\"Non-endemic\"),\" \",IF(COUNTRY_INFO!B80=0,\" \",COUNTRY_INFO!B80))","v":"NORTHERN"},{"$f":"IF(AND(INTRO!$E$37=\"Non-endemic\",INTRO!$E$41=\"Non-endemic\"),\" \",IF(COUNTRY_INFO!C80=0,\" \",COUNTRY_INFO!C80))","v":"AMOLATAR"},{"$f":"IF(AND(INTRO!$E$37=\"Non-endemic\",INTRO!$E$41=\"Non-endemic\"),0,IF(AND(OR(COUNTRY_INFO!$H80=0,COUNTRY_INFO!$H80=4,COUNTRY_INFO!$H80=99),OR(COUNTRY_INFO!$J80=0,COUNTRY_INFO!$J80=4)),0,COUNTRY_INFO!$E80))","v":27290},{"$f":"IF(AND(INTRO!$E$37=\"Non-endemic\",INTRO!$E$41=\"Non-endemic\"),0,IF(AND(OR(COUNTRY_INFO!$H80=0,COUNTRY_INFO!$H80=4,COUNTRY_INFO!$H80=99),OR(COUNTRY_INFO!$J80=0,COUNTRY_INFO!$J80=4)),0,COUNTRY_INFO!$F80))","v":58039},85329,{"$f":"IF(AND(INTRO!$E$37=\"Non-endemic\",INTRO!$E$41=\"Non-endemic\"),0,COUNTRY_INFO!P80)","v":0},{"$f":"IF(AND(INTRO!$E$37=\"Non-endemic\",INTRO!$E$41=\"Non-endemic\"),0,COUNTRY_INFO!R80)","v":2},{"$f":"IF(INTRO!$E$39=\"Non-endemic\",IF($G80=1,DEC!I80,0),IF($G80=1,IVM!G80,0))","v":0},"MBD",{"$f":"IF($J80=\"ALB\", IF(INTRO!$E$39=\"Non-endemic\", IF($H80<>0, IF($I80=0, $D80*$H80, $D80*($H80-$G80)), 0), $D80*$H80), 0)","v":0},0,null,0,{"$f":"IF($J80=\"MBD\", IF(INTRO!$E$39=\"Non-endemic\", IF($H80<>0, IF($I80=0, $D80*$H80, $D80*($H80-$G80)), 0), $D80*$H80), 0)","v":54580},116078,null,170658,null,0,0,null,0,0,null,116078,774]
[{"$f":"IF(AND(INTRO!$E$37=\"Non-endemic\",INTRO!$E$41=\"Non-endemic\"),\" \",IF(COUNTRY_INFO!A81=0,\" \",COUNTRY_INFO!A81))","v":"Uganda"},{"$f":"IF(AND(INTRO!$E$37=\"Non-endemic\",INTRO!$E$41=\"Non-endemic\"),\" \",IF(COUNTRY_INFO!B81=0,\" \",COUNTRY_INFO!B81))","v":"NORTHERN"},{"$f":"IF(AND(INTRO!$E$37=\"Non-endemic\",INTRO!$E$41=\"Non-endemic\"),\" \",IF(COUNTRY_INFO!C81=0,\" \",COUNTRY_INFO!C81))","v":"AMUDAT"},{"$f":"IF(AND(INTRO!$E$37=\"Non-endemic\",INTRO!$E$41=\"Non-endemic\"),0,IF(AND(OR(COUNTRY_INFO!$H81=0,COUNTRY_INFO!$H81=4,COUNTRY_INFO!$H81=99),OR(COUNTRY_INFO!$J81=0,COUNTRY_INFO!$J81=4)),0,COUNTRY_INFO!$E81))","v":20760},{"$f":"IF(AND(INTRO!$E$37=\"Non-endemic\",INTRO!$E$41=\"Non-endemic\"),0,IF(AND(OR(COUNTRY_INFO!$H81=0,COUNTRY_INFO!$H81=4,COUNTRY_INFO!$H81=99),OR(COUNTRY_INFO!$J81=0,COUNTRY_INFO!$J81=4)),0,COUNTRY_INFO!$F81))","v":44152},64912,{"$f":"IF(AND(INTRO!$E$37=\"Non-endemic\",INTRO!$E$41=\"Non-endemic\"),0,COUNTRY_INFO!P81)","v":0},{"$f":"IF(AND(INTRO!$E$37=\"Non-endemic\",INTRO!$E$41=\"Non-endemic\"),0,COUNTRY_INFO!R81)","v":2},{"$f":"IF(INTRO!$E$39=\"Non-endemic\",IF($G81=1,DEC!I81,0),IF($G81=1,IVM!G81,0))","v":0},"MBD",{"$f":"IF($J81=\"ALB\", IF(INTRO!$E$39=\"Non-endemic\", IF($H81<>0, IF($I81=0, $D81*$H81, $D81*($H81-$G81)), 0), $D81*$H81), 0)","v":0},0,null,0,{"$f":"IF($J81=\"MBD\", IF(INTRO!$E$39=\"Non-endemic\", IF($H81<>0, IF($I81=0, $D81*$H81, $D81*($H81-$G81)), 0), $D81*$H81), 0)","v":41520},88304,null,129824,null,0,0,null,0,0,null,88304,589]
[{"$f":"IF(AND(INTRO!$E$37=\"Non-endemic\",INTRO!$E$41=\"Non-endemic\"),\" \",IF(COUNTRY_INFO!A82=0,\" \",COUNTRY_INFO!A82))","v":"Uganda"},{"$f":"IF(AND(INTRO!$E$37=\"Non-endemic\",INTRO!$E$41=\"Non-endemic\"),\" \",IF(COUNTRY_INFO!B82=0,\" \",COUNTRY_INFO!B82))","v":"NORTHERN"},{"$f":"IF(AND(INTRO!$E$37=\"Non-endemic\",INTRO!$E$41=\"Non-endemic\"),\" \",IF(COUNTRY_INFO!C82=0,\" \",COUNTRY_INFO!C82))","v":"AMURU"},{"$f":"IF(AND(INTRO!$E$37=\"Non-endemic\",INTRO!$E$41=\"Non-endemic\"),0,IF(AND(OR(COUNTRY_INFO!$H82=0,COUNTRY_INFO!$H82=4,COUNTRY_INFO!$H82=99),OR(COUNTRY_INFO!$J82=0,COUNTRY_INFO!$J82=4)),0,COUNTRY_INFO!$E82))","v":35391},{"$f":"IF(AND(INTRO!$E$37=\"Non-endemic\",INTRO!$E$41=\"Non-endemic\"),0,IF(AND(OR(COUNTRY_INFO!$H82=0,COUNTRY_INFO!$H82=4,COUNTRY_INFO!$H82=99),OR(COUNTRY_INFO!$J82=0,COUNTRY_INFO!$J82=4)),0,COUNTRY_INFO!$F82))","v":75268},110659,{"$f":"IF(AND(INTRO!$E$37=\"Non-endemic\",INTRO!$E$41=\"Non-endemic\"),0,COUNTRY_INFO!P82)","v":0},{"$f":"IF(AND(INTRO!$E$37=\"Non-endemic\",INTRO!$E$41=\"Non-endemic\"),0,COUNTRY_INFO!R82)","v":2},{"$f":"IF(INTRO!$E$39=\"Non-endemic\",IF($G82=1,DEC!I82,0),IF($G82=1,IVM!G82,0))","v":0},"MBD",{"$f":"IF($J82=\"ALB\", IF(INTRO!$E$39=\"Non-endemic\", IF($H82<>0, IF($I82=0, $D82*$H82, $D82*($H82-$G82)), 0), $D82*$H82), 0)","v":0},0,null,0,{"$f":"IF($J82=\"MBD\", IF(INTRO!$E$39=\"Non-endemic\", IF($H82<>0, IF($I82=0, $D82*$H82, $D82*($H82-$G82)), 0), $D82*$H82), 0)","v":70782},150536,null,221318,null,0,0,null,0,0,null,150536,1004]
[{"$f":"IF(AND(INTRO!$E$37=\"Non-endemic\",INTRO!$E$41=\"Non-endemic\"),\" \",IF(COUNTRY_INFO!A83=0,\" \",COUNTRY_INFO!A83))","v":"Uganda"},{"$f":"IF(AND(INTRO!$E$37=\"Non-endemic\",INTRO!$E$41=\"Non-endemic\"),\" \",IF(COUNTRY_INFO!B83=0,\" \",COUNTRY_INFO!B83))","v":"NORTHERN"},{"$f":"IF(AND(INTRO!$E$37=\"Non-endemic\",INTRO!$E$41=\"Non-endemic\"),\" \",IF(COUNTRY_INFO!C83=0,\" \",COUNTRY_INFO!C83))","v":"APAC"},{"$f":"IF(AND(INTRO!$E$37=\"Non-endemic\",INTRO!$E$41=\"Non-endemic\"),0,IF(AND(OR(COUNTRY_INFO!$H83=0,COUNTRY_INFO!$H83=4,COUNTRY_INFO!$H83=99),OR(COUNTRY_INFO!$J83=0,COUNTRY_INFO!$J83=4)),0,COUNTRY_INFO!$E83))","v":34437},{"$f":"IF(AND(INTRO!$E$37=\"Non-endemic\",INTRO!$E$41=\"Non-endemic\"),0,IF(AND(OR(COUNTRY_INFO!$H83=0,COUNTRY_INFO!$H83=4,COUNTRY_INFO!$H83=99),OR(COUNTRY_INFO!$J83=0,COUNTRY_INFO!$J83=4)),0,COUNTRY_INFO!$F83))","v":73239},107676,{"$f":"IF(AND(INTRO!$E$37=\"Non-endemic\",INTRO!$E$41=\"Non-endemic\"),0,COUNTRY_INFO!P83)","v":0},{"$f":"IF(AND(INTRO!$E$37=\"Non-endemic\",INTRO!$E$41=\"Non-endemic\"),0,COUNTRY_INFO!R83)","v":2},{"$f":"IF(INTRO!$E$39=\"Non-endemic\",IF($G83=1,DEC!I83,0),IF($G83=1,IVM!G83,0))","v":0},"MBD",{"$f":"IF($J83=\"ALB\", IF(INTRO!$E$39=\"Non-endemic\", IF($H83<>0, IF($I83=0, $D83*$H83, $D83*($H83-$G83)), 0), $D83*$H83), 0)","v":0},0,null,0,{"$f":"IF($J83=\"MBD\", IF(INTRO!$E$39=\"Non-endemic\", IF($H83<>0, IF($I83=0, $D83*$H83, $D83*($H83-$G83)), 0), $D83*$H83), 0)","v":68874},146478,null,215352,null,0,0,null,0,0,null,146478,977]
[{"$f":"IF(AND(INTRO!$E$37=\"Non-endemic\",INTRO!$E$41=\"Non-endemic\"),\" \",IF(COUNTRY_INFO!A84=0,\" \",COUNTRY_INFO!A84))","v":"Uganda"},{"$f":"IF(AND(INTRO!$E$37=\"Non-endemic\",INTRO!$E$41=\"Non-endemic\"),\" \",IF(COUNTRY_INFO!B84=0,\" \",COUNTRY_INFO!B84))","v":"NORTHERN"},{"$f":"IF(AND(INTRO!$E$37=\"Non-endemic\",INTRO!$E$41=\"Non-endemic\"),\" \",IF(COUNTRY_INFO!C84=0,\" \",COUNTRY_INFO!C84))","v":"ARUA"},{"$f":"IF(AND(INTRO!$E$37=\"Non-endemic\",INTRO!$E$41=\"Non-endemic\"),0,IF(AND(OR(COUNTRY_INFO!$H84=0,COUNTRY_INFO!$H84=4,COUNTRY_INFO!$H84=99),OR(COUNTRY_INFO!$J84=0,COUNTRY_INFO!$J84=4)),0,COUNTRY_INFO!$E84))","v":24826},{"$f":"IF(AND(INTRO!$E$37=\"Non-endemic\",INTRO!$E$41=\"Non-endemic\"),0,IF(AND(OR(COUNTRY_INFO!$H84=0,COUNTRY_INFO!$H84=4,COUNTRY_INFO!$H84=99),OR(COUNTRY_INFO!$J84=0,COUNTRY_INFO!$J84=4)),0,COUNTRY_INFO!$F84))","v":52798},77624,{"$f":"IF(AND(INTRO!$E$37=\"Non-endemic\",INTRO!$E$41=\"Non-endemic\"),0,COUNTRY_INFO!P84)","v":0},{"$f":"IF(AND(INTRO!$E$37=\"Non-endemic\",INTRO!$E$41=\"Non-endemic\"),0,COUNTRY_INFO!R84)","v":2},{"$f":"IF(INTRO!$E$39=\"Non-endemic\",IF($G84=1,DEC!I84,0),IF($G84=1,IVM!G84,0))","v":0},"MBD",{"$f":"IF($J84=\"ALB\", IF(INTRO!$E$39=\"Non-endemic\", IF($H84<>0, IF($I84=0, $D84*$H84, $D84*($H84-$G84)), 0), $D84*$H84), 0)","v":0},0,null,0,{"$f":"IF($J84=\"MBD\", IF(INTRO!$E$39=\"Non-endemic\", IF($H84<>0, IF($I84=0, $D84*$H84, $D84*($H84-$G84)), 0), $D84*$H84), 0)","v":49652},105596,null,155248,null,0,0,null,0,0,null,105596,704]
[{"$f":"IF(AND(INTRO!$E$37=\"Non-endemic\",INTRO!$E$41=\"Non-endemic\"),\" \",IF(COUNTRY_INFO!A85=0,\" \",COUNTRY_INFO!A85))","v":"Uganda"},{"$f":"IF(AND(INTRO!$E$37=\"Non-endemic\",INTRO!$E$41=\"Non-endemic\"),\" \",IF(COUNTRY_INFO!B85=0,\" \",COUNTRY_INFO!B85))","v":"NORTHERN"},{"$f":"IF(AND(INTRO!$E$37=\"Non-endemic\",INTRO!$E$41=\"Non-endemic\"),\" \",IF(COUNTRY_INFO!C85=0,\" \",COUNTRY_INFO!C85))","v":"Arua City"},{"$f":"IF(AND(INTRO!$E$37=\"Non-endemic\",INTRO!$E$41=\"Non-endemic\"),0,IF(AND(OR(COUNTRY_INFO!$H85=0,COUNTRY_INFO!$H85=4,COUNTRY_INFO!$H85=99),OR(COUNTRY_INFO!$J85=0,COUNTRY_INFO!$J85=4)),0,COUNTRY_INFO!$E85))","v":57374},{"$f":"IF(AND(INTRO!$E$37=\"Non-endemic\",INTRO!$E$41=\"Non-endemic\"),0,IF(AND(OR(COUNTRY_INFO!$H85=0,COUNTRY_INFO!$H85=4,COUNTRY_INFO!$H85=99),OR(COUNTRY_INFO!$J85=0,COUNTRY_INFO!$J85=4)),0,COUNTRY_INFO!$F85))","v":122022},179396,{"$f":"IF(AND(INTRO!$E$37=\"Non-endemic\",INTRO!$E$41=\"Non-endemic\"),0,COUNTRY_INFO!P85)","v":0},{"$f":"IF(AND(INTRO!$E$37=\"Non-endemic\",INTRO!$E$41=\"Non-endemic\"),0,COUNTRY_INFO!R85)","v":2},{"$f":"IF(INTRO!$E$39=\"Non-endemic\",IF($G85=1,DEC!I85,0),IF($G85=1,IVM!G85,0))","v":0},"MBD",{"$f":"IF($J85=\"ALB\", IF(INTRO!$E$39=\"Non-endemic\", IF($H85<>0, IF($I85=0, $D85*$H85, $D85*($H85-$G85)), 0), $D85*$H85), 0)","v":0},0,null,0,{"$f":"IF($J85=\"MBD\", IF(INTRO!$E$39=\"Non-endemic\", IF($H85<>0, IF($I85=0, $D85*$H85, $D85*($H85-$G85)), 0), $D85*$H85), 0)","v":114748},244044,null,358792,null,0,0,null,0,0,null,244044,1627]
[{"$f":"IF(AND(INTRO!$E$37=\"Non-endemic\",INTRO!$E$41=\"Non-endemic\"),\" \",IF(COUNTRY_INFO!A86=0,\" \",COUNTRY_INFO!A86))","v":"Uganda"},{"$f":"IF(AND(INTRO!$E$37=\"Non-endemic\",INTRO!$E$41=\"Non-endemic\"),\" \",IF(COUNTRY_INFO!B86=0,\" \",COUNTRY_INFO!B86))","v":"NORTHERN"},{"$f":"IF(AND(INTRO!$E$37=\"Non-endemic\",INTRO!$E$41=\"Non-endemic\"),\" \",IF(COUNTRY_INFO!C86=0,\" \",COUNTRY_INFO!C86))","v":"DOKOLO"},{"$f":"IF(AND(INTRO!$E$37=\"Non-endemic\",INTRO!$E$41=\"Non-endemic\"),0,IF(AND(OR(COUNTRY_INFO!$H86=0,COUNTRY_INFO!$H86=4,COUNTRY_INFO!$H86=99),OR(COUNTRY_INFO!$J86=0,COUNTRY_INFO!$J86=4)),0,COUNTRY_INFO!$E86))","v":33917},{"$f":"IF(AND(INTRO!$E$37=\"Non-endemic\",INTRO!$E$41=\"Non-endemic\"),0,IF(AND(OR(COUNTRY_INFO!$H86=0,COUNTRY_INFO!$H86=4,COUNTRY_INFO!$H86=99),OR(COUNTRY_INFO!$J86=0,COUNTRY_INFO!$J86=4)),0,COUNTRY_INFO!$F86))","v":72133},106050,{"$f":"IF(AND(INTRO!$E$37=\"Non-endemic\",INTRO!$E$41=\"Non-endemic\"),0,COUNTRY_INFO!P86)","v":0},{"$f":"IF(AND(INTRO!$E$37=\"Non-endemic\",INTRO!$E$41=\"Non-endemic\"),0,COUNTRY_INFO!R86)","v":2},{"$f":"IF(INTRO!$E$39=\"Non-endemic\",IF($G86=1,DEC!I86,0),IF($G86=1,IVM!G86,0))","v":0},"MBD",{"$f":"IF($J86=\"ALB\", IF(INTRO!$E$39=\"Non-endemic\", IF($H86<>0, IF($I86=0, $D86*$H86, $D86*($H86-$G86)), 0), $D86*$H86), 0)","v":0},0,null,0,{"$f":"IF($J86=\"MBD\", IF(INTRO!$E$39=\"Non-endemic\", IF($H86<>0, IF($I86=0, $D86*$H86, $D86*($H86-$G86)), 0), $D86*$H86), 0)","v":67834},144266,null,212100,null,0,0,null,0,0,null,144266,962]
[{"$f":"IF(AND(INTRO!$E$37=\"Non-endemic\",INTRO!$E$41=\"Non-endemic\"),\" \",IF(COUNTRY_INFO!A87=0,\" \",COUNTRY_INFO!A87))","v":"Uganda"},{"$f":"IF(AND(INTRO!$E$37=\"Non-endemic\",INTRO!$E$41=\"Non-endemic\"),\" \",IF(COUNTRY_INFO!B87=0,\" \",COUNTRY_INFO!B87))","v":"NORTHERN"},{"$f":"IF(AND(INTRO!$E$37=\"Non-endemic\",INTRO!$E$41=\"Non-endemic\"),\" \",IF(COUNTRY_INFO!C87=0,\" \",COUNTRY_INFO!C87))","v":"GULU"},{"$f":"IF(AND(INTRO!$E$37=\"Non-endemic\",INTRO!$E$41=\"Non-endemic\"),0,IF(AND(OR(COUNTRY_INFO!$H87=0,COUNTRY_INFO!$H87=4,COUNTRY_INFO!$H87=99),OR(COUNTRY_INFO!$J87=0,COUNTRY_INFO!$J87=4)),0,COUNTRY_INFO!$E87))","v":23372},{"$f":"IF(AND(INTRO!$E$37=\"Non-endemic\",INTRO!$E$41=\"Non-endemic\"),0,IF(AND(OR(COUNTRY_INFO!$H87=0,COUNTRY_INFO!$H87=4,COUNTRY_INFO!$H87=99),OR(COUNTRY_INFO!$J87=0,COUNTRY_INFO!$J87=4)),0,COUNTRY_INFO!$F87))","v":49706},73078,{"$f":"IF(AND(INTRO!$E$37=\"Non-endemic\",INTRO!$E$41=\"Non-endemic\"),0,COUNTRY_INFO!P87)","v":0},{"$f":"IF(AND(INTRO!$E$37=\"Non-endemic\",INTRO!$E$41=\"Non-endemic\"),0,COUNTRY_INFO!R87)","v":2},{"$f":"IF(INTRO!$E$39=\"Non-endemic\",IF($G87=1,DEC!I87,0),IF($G87=1,IVM!G87,0))","v":0},"MBD",{"$f":"IF($J87=\"ALB\", IF(INTRO!$E$39=\"Non-endemic\", IF($H87<>0, IF($I87=0, $D87*$H87, $D87*($H87-$G87)), 0), $D87*$H87), 0)","v":0},0,null,0,{"$f":"IF($J87=\"MBD\", IF(INTRO!$E$39=\"Non-endemic\", IF($H87<>0, IF($I87=0, $D87*$H87, $D87*($H87-$G87)), 0), $D87*$H87), 0)","v":46744},99412,null,146156,null,0,0,null,0,0,null,99412,663]
[{"$f":"IF(AND(INTRO!$E$37=\"Non-endemic\",INTRO!$E$41=\"Non-endemic\"),\" \",IF(COUNTRY_INFO!A88=0,\" \",COUNTRY_INFO!A88))","v":"Uganda"},{"$f":"IF(AND(INTRO!$E$37=\"Non-endemic\",INTRO!$E$41=\"Non-endemic\"),\" \",IF(COUNTRY_INFO!B88=0,\" \",COUNTRY_INFO!B88))","v":"NORTHERN"},{"$f":"IF(AND(INTRO!$E$37=\"Non-endemic\",INTRO!$E$41=\"Non-endemic\"),\" \",IF(COUNTRY_INFO!C88=0,\" \",COUNTRY_INFO!C88))","v":"Gulu City"},{"$f":"IF(AND(INTRO!$E$37=\"Non-endemic\",INTRO!$E$41=\"Non-endemic\"),0,IF(AND(OR(COUNTRY_INFO!$H88=0,COUNTRY_INFO!$H88=4,COUNTRY_INFO!$H88=99),OR(COUNTRY_INFO!$J88=0,COUNTRY_INFO!$J88=4)),0,COUNTRY_INFO!$E88))","v":28288},{"$f":"IF(AND(INTRO!$E$37=\"Non-endemic\",INTRO!$E$41=\"Non-endemic\"),0,IF(AND(OR(COUNTRY_INFO!$H88=0,COUNTRY_INFO!$H88=4,COUNTRY_INFO!$H88=99),OR(COUNTRY_INFO!$J88=0,COUNTRY_INFO!$J88=4)),0,COUNTRY_INFO!$F88))","v":60163},88451,{"$f":"IF(AND(INTRO!$E$37=\"Non-endemic\",INTRO!$E$41=\"Non-endemic\"),0,COUNTRY_INFO!P88)","v":0},{"$f":"IF(AND(INTRO!$E$37=\"Non-endemic\",INTRO!$E$41=\"Non-endemic\"),0,COUNTRY_INFO!R88)","v":2},{"$f":"IF(INTRO!$E$39=\"Non-endemic\",IF($G88=1,DEC!I88,0),IF($G88=1,IVM!G88,0))","v":0},"MBD",{"$f":"IF($J88=\"ALB\", IF(INTRO!$E$39=\"Non-endemic\", IF($H88<>0, IF($I88=0, $D88*$H88, $D88*($H88-$G88)), 0), $D88*$H88), 0)","v":0},0,null,0,{"$f":"IF($J88=\"MBD\", IF(INTRO!$E$39=\"Non-endemic\", IF($H88<>0, IF($I88=0, $D88*$H88, $D88*($H88-$G88)), 0), $D88*$H88), 0)","v":56576},120326,null,176902,null,0,0,null,0,0,null,120326,803]
[{"$f":"IF(AND(INTRO!$E$37=\"Non-endemic\",INTRO!$E$41=\"Non-endemic\"),\" \",IF(COUNTRY_INFO!A89=0,\" \",COUNTRY_INFO!A89))","v":"Uganda"},{"$f":"IF(AND(INTRO!$E$37=\"Non-endemic\",INTRO!$E$41=\"Non-endemic\"),\" \",IF(COUNTRY_INFO!B89=0,\" \",COUNTRY_INFO!B89))","v":"NORTHERN"},{"$f":"IF(AND(INTRO!$E$37=\"Non-endemic\",INTRO!$E$41=\"Non-endemic\"),\" \",IF(COUNTRY_INFO!C89=0,\" \",COUNTRY_INFO!C89))","v":"KAABONG"},{"$f":"IF(AND(INTRO!$E$37=\"Non-endemic\",INTRO!$E$41=\"Non-endemic\"),0,IF(AND(OR(COUNTRY_INFO!$H89=0,COUNTRY_INFO!$H89=4,COUNTRY_INFO!$H89=99),OR(COUNTRY_INFO!$J89=0,COUNTRY_INFO!$J89=4)),0,COUNTRY_INFO!$E89))","v":20519},{"$f":"IF(AND(INTRO!$E$37=\"Non-endemic\",INTRO!$E$41=\"Non-endemic\"),0,IF(AND(OR(COUNTRY_INFO!$H89=0,COUNTRY_INFO!$H89=4,COUNTRY_INFO!$H89=99),OR(COUNTRY_INFO!$J89=0,COUNTRY_INFO!$J89=4)),0,COUNTRY_INFO!$F89))","v":43639},64158,{"$f":"IF(AND(INTRO!$E$37=\"Non-endemic\",INTRO!$E$41=\"Non-endemic\"),0,COUNTRY_INFO!P89)","v":0},{"$f":"IF(AND(INTRO!$E$37=\"Non-endemic\",INTRO!$E$41=\"Non-endemic\"),0,COUNTRY_INFO!R89)","v":2},{"$f":"IF(INTRO!$E$39=\"Non-endemic\",IF($G89=1,DEC!I89,0),IF($G89=1,IVM!G89,0))","v":0},"MBD",{"$f":"IF($J89=\"ALB\", IF(INTRO!$E$39=\"Non-endemic\", IF($H89<>0, IF($I89=0, $D89*$H89, $D89*($H89-$G89)), 0), $D89*$H89), 0)","v":0},0,null,0,{"$f":"IF($J89=\"MBD\", IF(INTRO!$E$39=\"Non-endemic\", IF($H89<>0, IF($I89=0, $D89*$H89, $D89*($H89-$G89)), 0), $D89*$H89), 0)","v":41038},87278,null,128316,null,0,0,null,0,0,null,87278,582]
[{"$f":"IF(AND(INTRO!$E$37=\"Non-endemic\",INTRO!$E$41=\"Non-endemic\"),\" \",IF(COUNTRY_INFO!A90=0,\" \",COUNTRY_INFO!A90))","v":"Uganda"},{"$f":"IF(AND(INTRO!$E$37=\"Non-endemic\",INTRO!$E$41=\"Non-endemic\"),\" \",IF(COUNTRY_INFO!B90=0,\" \",COUNTRY_INFO!B90))","v":"NORTHERN"},{"$f":"IF(AND(INTRO!$E$37=\"Non-endemic\",INTRO!$E$41=\"Non-endemic\"),\" \",IF(COUNTRY_INFO!C90=0,\" \",COUNTRY_INFO!C90))","v":"KARENGA"},{"$f":"IF(AND(INTRO!$E$37=\"Non-endemic\",INTRO!$E$41=\"Non-endemic\"),0,IF(AND(OR(COUNTRY_INFO!$H90=0,COUNTRY_INFO!$H90=4,COUNTRY_INFO!$H90=99),OR(COUNTRY_INFO!$J90=0,COUNTRY_INFO!$J90=4)),0,COUNTRY_INFO!$E90))","v":10926},{"$f":"IF(AND(INTRO!$E$37=\"Non-endemic\",INTRO!$E$41=\"Non-endemic\"),0,IF(AND(OR(COUNTRY_INFO!$H90=0,COUNTRY_INFO!$H90=4,COUNTRY_INFO!$H90=99),OR(COUNTRY_INFO!$J90=0,COUNTRY_INFO!$J90=4)),0,COUNTRY_INFO!$F90))","v":23238},34164,{"$f":"IF(AND(INTRO!$E$37=\"Non-endemic\",INTRO!$E$41=\"Non-endemic\"),0,COUNTRY_INFO!P90)","v":0},{"$f":"IF(AND(INTRO!$E$37=\"Non-endemic\",INTRO!$E$41=\"Non-endemic\"),0,COUNTRY_INFO!R90)","v":2},{"$f":"IF(INTRO!$E$39=\"Non-endemic\",IF($G90=1,DEC!I90,0),IF($G90=1,IVM!G90,0))","v":0},"MBD",{"$f":"IF($J90=\"ALB\", IF(INTRO!$E$39=\"Non-endemic\", IF($H90<>0, IF($I90=0, $D90*$H90, $D90*($H90-$G90)), 0), $D90*$H90), 0)","v":0},0,null,0,{"$f":"IF($J90=\"MBD\", IF(INTRO!$E$39=\"Non-endemic\", IF($H90<>0, IF($I90=0, $D90*$H90, $D90*($H90-$G90)), 0), $D90*$H90), 0)","v":21852},46476,null,68328,null,0,0,null,0,0,null,46476,310]
[{"$f":"IF(AND(INTRO!$E$37=\"Non-endemic\",INTRO!$E$41=\"Non-endemic\"),\" \",IF(COUNTRY_INFO!A91=0,\" \",COUNTRY_INFO!A91))","v":"Uganda"},{"$f":"IF(AND(INTRO!$E$37=\"Non-endemic\",INTRO!$E$41=\"Non-endemic\"),\" \",IF(COUNTRY_INFO!B91=0,\" \",COUNTRY_INFO!B91))","v":"NORTHERN"},{"$f":"IF(AND(INTRO!$E$37=\"Non-endemic\",INTRO!$E$41=\"Non-endemic\"),\" \",IF(COUNTRY_INFO!C91=0,\" \",COUNTRY_INFO!C91))","v":"KITGUM"},{"$f":"IF(AND(INTRO!$E$37=\"Non-endemic\",INTRO!$E$41=\"Non-endemic\"),0,IF(AND(OR(COUNTRY_INFO!$H91=0,COUNTRY_INFO!$H91=4,COUNTRY_INFO!$H91=99),OR(COUNTRY_INFO!$J91=0,COUNTRY_INFO!$J91=4)),0,COUNTRY_INFO!$E91))","v":37898},{"$f":"IF(AND(INTRO!$E$37=\"Non-endemic\",INTRO!$E$41=\"Non-endemic\"),0,IF(AND(OR(COUNTRY_INFO!$H91=0,COUNTRY_INFO!$H91=4,COUNTRY_INFO!$H91=99),OR(COUNTRY_INFO!$J91=0,COUNTRY_INFO!$J91=4)),0,COUNTRY_INFO!$F91))","v":80600},118498,{"$f":"IF(AND(INTRO!$E$37=\"Non-endemic\",INTRO!$E$41=\"Non-endemic\"),0,COUNTRY_INFO!P91)","v":0},{"$f":"IF(AND(INTRO!$E$37=\"Non-endemic\",INTRO!$E$41=\"Non-endemic\"),0,COUNTRY_INFO!R91)","v":2},{"$f":"IF(INTRO!$E$39=\"Non-endemic\",IF($G91=1,DEC!I91,0),IF($G91=1,IVM!G91,0))","v":0},"MBD",{"$f":"IF($J91=\"ALB\", IF(INTRO!$E$39=\"Non-endemic\", IF($H91<>0, IF($I91=0, $D91*$H91, $D91*($H91-$G91)), 0), $D91*$H91), 0)","v":0},0,null,0,{"$f":"IF($J91=\"MBD\", IF(INTRO!$E$39=\"Non-endemic\", IF($H91<>0, IF($I91=0, $D91*$H91, $D91*($H91-$G91)), 0), $D91*$H91), 0)","v":75796},161200,null,236996,null,0,0,null,0,0,null,161200,1075]
[{"$f":"IF(AND(INTRO!$E$37=\"Non-endemic\",INTRO!$E$41=\"Non-endemic\"),\" \",IF(COUNTRY_INFO!A92=0,\" \",COUNTRY_INFO!A92))","v":"Uganda"},{"$f":"IF(AND(INTRO!$E$37=\"Non-endemic\",INTRO!$E$41=\"Non-endemic\"),\" \",IF(COUNTRY_INFO!B92=0,\" \",COUNTRY_INFO!B92))","v":"NORTHERN"},{"$f":"IF(AND(INTRO!$E$37=\"Non-endemic\",INTRO!$E$41=\"Non-endemic\"),\" \",IF(COUNTRY_INFO!C92=0,\" \",COUNTRY_INFO!C92))","v":"KOBOKO"},{"$f":"IF(AND(INTRO!$E$37=\"Non-endemic\",INTRO!$E$41=\"Non-endemic\"),0,IF(AND(OR(COUNTRY_INFO!$H92=0,COUNTRY_INFO!$H92=4,COUNTRY_INFO!$H92=99),OR(COUNTRY_INFO!$J92=0,COUNTRY_INFO!$J92=4)),0,COUNTRY_INFO!$E92))","v":38669},{"$f":"IF(AND(INTRO!$E$37=\"Non-endemic\",INTRO!$E$41=\"Non-endemic\"),0,IF(AND(OR(COUNTRY_INFO!$H92=0,COUNTRY_INFO!$H92=4,COUNTRY_INFO!$H92=99),OR(COUNTRY_INFO!$J92=0,COUNTRY_INFO!$J92=4)),0,COUNTRY_INFO!$F92))","v":82240},120909,{"$f":"IF(AND(INTRO!$E$37=\"Non-endemic\",INTRO!$E$41=\"Non-endemic\"),0,COUNTRY_INFO!P92)","v":0},{"$f":"IF(AND(INTRO!$E$37=\"Non-endemic\",INTRO!$E$41=\"Non-endemic\"),0,COUNTRY_INFO!R92)","v":2},{"$f":"IF(INTRO!$E$39=\"Non-endemic\",IF($G92=1,DEC!I92,0),IF($G92=1,IVM!G92,0))","v":0},"MBD",{"$f":"IF($J92=\"ALB\", IF(INTRO!$E$39=\"Non-endemic\", IF($H92<>0, IF($I92=0, $D92*$H92, $D92*($H92-$G92)), 0), $D92*$H92), 0)","v":0},0,null,0,{"$f":"IF($J92=\"MBD\", IF(INTRO!$E$39=\"Non-endemic\", IF($H92<>0, IF($I92=0, $D92*$H92, $D92*($H92-$G92)), 0), $D92*$H92), 0)","v":77338},164480,null,241818,null,0,0,null,0,0,null,164480,1097]
[{"$f":"IF(AND(INTRO!$E$37=\"Non-endemic\",INTRO!$E$41=\"Non-endemic\"),\" \",IF(COUNTRY_INFO!A93=0,\" \",COUNTRY_INFO!A93))","v":"Uganda"},{"$f":"IF(AND(INTRO!$E$37=\"Non-endemic\",INTRO!$E$41=\"Non-endemic\"),\" \",IF(COUNTRY_INFO!B93=0,\" \",COUNTRY_INFO!B93))","v":"NORTHERN"},{"$f":"IF(AND(INTRO!$E$37=\"Non-endemic\",INTRO!$E$41=\"Non-endemic\"),\" \",IF(COUNTRY_INFO!C93=0,\" \",COUNTRY_INFO!C93))","v":"KOLE"},{"$f":"IF(AND(INTRO!$E$37=\"Non-endemic\",INTRO!$E$41=\"Non-endemic\"),0,IF(AND(OR(COUNTRY_INFO!$H93=0,COUNTRY_INFO!$H93=4,COUNTRY_INFO!$H93=99),OR(COUNTRY_INFO!$J93=0,COUNTRY_INFO!$J93=4)),0,COUNTRY_INFO!$E93))","v":44932},{"$f":"IF(AND(INTRO!$E$37=\"Non-endemic\",INTRO!$E$41=\"Non-endemic\"),0,IF(AND(OR(COUNTRY_INFO!$H93=0,COUNTRY_INFO!$H93=4,COUNTRY_INFO!$H93=99),OR(COUNTRY_INFO!$J93=0,COUNTRY_INFO!$J93=4)),0,COUNTRY_INFO!$F93))","v":95559},140491,{"$f":"IF(AND(INTRO!$E$37=\"Non-endemic\",INTRO!$E$41=\"Non-endemic\"),0,COUNTRY_INFO!P93)","v":0},{"$f":"IF(AND(INTRO!$E$37=\"Non-endemic\",INTRO!$E$41=\"Non-endemic\"),0,COUNTRY_INFO!R93)","v":2},{"$f":"IF(INTRO!$E$39=\"Non-endemic\",IF($G93=1,DEC!I93,0),IF($G93=1,IVM!G93,0))","v":0},"MBD",{"$f":"IF($J93=\"ALB\", IF(INTRO!$E$39=\"Non-endemic\", IF($H93<>0, IF($I93=0, $D93*$H93, $D93*($H93-$G93)), 0), $D93*$H93), 0)","v":0},0,null,0,{"$f":"IF($J93=\"MBD\", IF(INTRO!$E$39=\"Non-endemic\", IF($H93<>0, IF($I93=0, $D93*$H93, $D93*($H93-$G93)), 0), $D93*$H93), 0)","v":89864},191118,null,280982,null,0,0,null,0,0,null,191118,1275]
[{"$f":"IF(AND(INTRO!$E$37=\"Non-endemic\",INTRO!$E$41=\"Non-endemic\"),\" \",IF(COUNTRY_INFO!A94=0,\" \",COUNTRY_INFO!A94))","v":"Uganda"},{"$f":"IF(AND(INTRO!$E$37=\"Non-endemic\",INTRO!$E$41=\"Non-endemic\"),\" \",IF(COUNTRY_INFO!B94=0,\" \",COUNTRY_INFO!B94))","v":"NORTHERN"},{"$f":"IF(AND(INTRO!$E$37=\"Non-endemic\",INTRO!$E$41=\"Non-endemic\"),\" \",IF(COUNTRY_INFO!C94=0,\" \",COUNTRY_INFO!C94))","v":"KOTIDO"},{"$f":"IF(AND(INTRO!$E$37=\"Non-endemic\",INTRO!$E$41=\"Non-endemic\"),0,IF(AND(OR(COUNTRY_INFO!$H94=0,COUNTRY_INFO!$H94=4,COUNTRY_INFO!$H94=99),OR(COUNTRY_INFO!$J94=0,COUNTRY_INFO!$J94=4)),0,COUNTRY_INFO!$E94))","v":33235},{"$f":"IF(AND(INTRO!$E$37=\"Non-endemic\",INTRO!$E$41=\"Non-endemic\"),0,IF(AND(OR(COUNTRY_INFO!$H94=0,COUNTRY_INFO!$H94=4,COUNTRY_INFO!$H94=99),OR(COUNTRY_INFO!$J94=0,COUNTRY_INFO!$J94=4)),0,COUNTRY_INFO!$F94))","v":70683},103918,{"$f":"IF(AND(INTRO!$E$37=\"Non-endemic\",INTRO!$E$41=\"Non-endemic\"),0,COUNTRY_INFO!P94)","v":0},{"$f":"IF(AND(INTRO!$E$37=\"Non-endemic\",INTRO!$E$41=\"Non-endemic\"),0,COUNTRY_INFO!R94)","v":2},{"$f":"IF(INTRO!$E$39=\"Non-endemic\",IF($G94=1,DEC!I94,0),IF($G94=1,IVM!G94,0))","v":0},"MBD",{"$f":"IF($J94=\"ALB\", IF(INTRO!$E$39=\"Non-endemic\", IF($H94<>0, IF($I94=0, $D94*$H94, $D94*($H94-$G94)), 0), $D94*$H94), 0)","v":0},0,null,0,{"$f":"IF($J94=\"MBD\", IF(INTRO!$E$39=\"Non-endemic\", IF($H94<>0, IF($I94=0, $D94*$H94, $D94*($H94-$G94)), 0), $D94*$H94), 0)","v":66470},141366,null,207836,null,0,0,null,0,0,null,141366,943]
[{"$f":"IF(AND(INTRO!$E$37=\"Non-endemic\",INTRO!$E$41=\"Non-endemic\"),\" \",IF(COUNTRY_INFO!A95=0,\" \",COUNTRY_INFO!A95))","v":"Uganda"},{"$f":"IF(AND(INTRO!$E$37=\"Non-endemic\",INTRO!$E$41=\"Non-endemic\"),\" \",IF(COUNTRY_INFO!B95=0,\" \",COUNTRY_INFO!B95))","v":"NORTHERN"},{"$f":"IF(AND(INTRO!$E$37=\"Non-endemic\",INTRO!$E$41=\"Non-endemic\"),\" \",IF(COUNTRY_INFO!C95=0,\" \",COUNTRY_INFO!C95))","v":"KWANIA"},{"$f":"IF(AND(INTRO!$E$37=\"Non-endemic\",INTRO!$E$41=\"Non-endemic\"),0,IF(AND(OR(COUNTRY_INFO!$H95=0,COUNTRY_INFO!$H95=4,COUNTRY_INFO!$H95=99),OR(COUNTRY_INFO!$J95=0,COUNTRY_INFO!$J95=4)),0,COUNTRY_INFO!$E95))","v":34070},{"$f":"IF(AND(INTRO!$E$37=\"Non-endemic\",INTRO!$E$41=\"Non-endemic\"),0,IF(AND(OR(COUNTRY_INFO!$H95=0,COUNTRY_INFO!$H95=4,COUNTRY_INFO!$H95=99),OR(COUNTRY_INFO!$J95=0,COUNTRY_INFO!$J95=4)),0,COUNTRY_INFO!$F95))","v":72460},106530,{"$f":"IF(AND(INTRO!$E$37=\"Non-endemic\",INTRO!$E$41=\"Non-endemic\"),0,COUNTRY_INFO!P95)","v":0},{"$f":"IF(AND(INTRO!$E$37=\"Non-endemic\",INTRO!$E$41=\"Non-endemic\"),0,COUNTRY_INFO!R95)","v":2},{"$f":"IF(INTRO!$E$39=\"Non-endemic\",IF($G95=1,DEC!I95,0),IF($G95=1,IVM!G95,0))","v":0},"MBD",{"$f":"IF($J95=\"ALB\", IF(INTRO!$E$39=\"Non-endemic\", IF($H95<>0, IF($I95=0, $D95*$H95, $D95*($H95-$G95)), 0), $D95*$H95), 0)","v":0},0,null,0,{"$f":"IF($J95=\"MBD\", IF(INTRO!$E$39=\"Non-endemic\", IF($H95<>0, IF($I95=0, $D95*$H95, $D95*($H95-$G95)), 0), $D95*$H95), 0)","v":68140},144920,null,213060,null,0,0,null,0,0,null,144920,967]
[{"$f":"IF(AND(INTRO!$E$37=\"Non-endemic\",INTRO!$E$41=\"Non-endemic\"),\" \",IF(COUNTRY_INFO!A96=0,\" \",COUNTRY_INFO!A96))","v":"Uganda"},{"$f":"IF(AND(INTRO!$E$37=\"Non-endemic\",INTRO!$E$41=\"Non-endemic\"),\" \",IF(COUNTRY_INFO!B96=0,\" \",COUNTRY_INFO!B96))","v":"NORTHERN"},{"$f":"IF(AND(INTRO!$E$37=\"Non-endemic\",INTRO!$E$41=\"Non-endemic\"),\" \",IF(COUNTRY_INFO!C96=0,\" \",COUNTRY_INFO!C96))","v":"LAMWO"},{"$f":"IF(AND(INTRO!$E$37=\"Non-endemic\",INTRO!$E$41=\"Non-endemic\"),0,IF(AND(OR(COUNTRY_INFO!$H96=0,COUNTRY_INFO!$H96=4,COUNTRY_INFO!$H96=99),OR(COUNTRY_INFO!$J96=0,COUNTRY_INFO!$J96=4)),0,COUNTRY_INFO!$E96))","v":24903},{"$f":"IF(AND(INTRO!$E$37=\"Non-endemic\",INTRO!$E$41=\"Non-endemic\"),0,IF(AND(OR(COUNTRY_INFO!$H96=0,COUNTRY_INFO!$H96=4,COUNTRY_INFO!$H96=99),OR(COUNTRY_INFO!$J96=0,COUNTRY_INFO!$J96=4)),0,COUNTRY_INFO!$F96))","v":52962},77865,{"$f":"IF(AND(INTRO!$E$37=\"Non-endemic\",INTRO!$E$41=\"Non-endemic\"),0,COUNTRY_INFO!P96)","v":0},{"$f":"IF(AND(INTRO!$E$37=\"Non-endemic\",INTRO!$E$41=\"Non-endemic\"),0,COUNTRY_INFO!R96)","v":2},{"$f":"IF(INTRO!$E$39=\"Non-endemic\",IF($G96=1,DEC!I96,0),IF($G96=1,IVM!G96,0))","v":0},"MBD",{"$f":"IF($J96=\"ALB\", IF(INTRO!$E$39=\"Non-endemic\", IF($H96<>0, IF($I96=0, $D96*$H96, $D96*($H96-$G96)), 0), $D96*$H96), 0)","v":0},0,null,0,{"$f":"IF($J96=\"MBD\", IF(INTRO!$E$39=\"Non-endemic\", IF($H96<>0, IF($I96=0, $D96*$H96, $D96*($H96-$G96)), 0), $D96*$H96), 0)","v":49806},105924,null,155730,null,0,0,null,0,0,null,105924,707]
[{"$f":"IF(AND(INTRO!$E$37=\"Non-endemic\",INTRO!$E$41=\"Non-endemic\"),\" \",IF(COUNTRY_INFO!A97=0,\" \",COUNTRY_INFO!A97))","v":"Uganda"},{"$f":"IF(AND(INTRO!$E$37=\"Non-endemic\",INTRO!$E$41=\"Non-endemic\"),\" \",IF(COUNTRY_INFO!B97=0,\" \",COUNTRY_INFO!B97))","v":"NORTHERN"},{"$f":"IF(AND(INTRO!$E$37=\"Non-endemic\",INTRO!$E$41=\"Non-endemic\"),\" \",IF(COUNTRY_INFO!C97=0,\" \",COUNTRY_INFO!C97))","v":"LIRA"},{"$f":"IF(AND(INTRO!$E$37=\"Non-endemic\",INTRO!$E$41=\"Non-endemic\"),0,IF(AND(OR(COUNTRY_INFO!$H97=0,COUNTRY_INFO!$H97=4,COUNTRY_INFO!$H97=99),OR(COUNTRY_INFO!$J97=0,COUNTRY_INFO!$J97=4)),0,COUNTRY_INFO!$E97))","v":57858},{"$f":"IF(AND(INTRO!$E$37=\"Non-endemic\",INTRO!$E$41=\"Non-endemic\"),0,IF(AND(OR(COUNTRY_INFO!$H97=0,COUNTRY_INFO!$H97=4,COUNTRY_INFO!$H97=99),OR(COUNTRY_INFO!$J97=0,COUNTRY_INFO!$J97=4)),0,COUNTRY_INFO!$F97))","v":123050},180908,{"$f":"IF(AND(INTRO!$E$37=\"Non-endemic\",INTRO!$E$41=\"Non-endemic\"),0,COUNTRY_INFO!P97)","v":0},{"$f":"IF(AND(INTRO!$E$37=\"Non-endemic\",INTRO!$E$41=\"Non-endemic\"),0,COUNTRY_INFO!R97)","v":2},{"$f":"IF(INTRO!$E$39=\"Non-endemic\",IF($G97=1,DEC!I97,0),IF($G97=1,IVM!G97,0))","v":0},"MBD",{"$f":"IF($J97=\"ALB\", IF(INTRO!$E$39=\"Non-endemic\", IF($H97<>0, IF($I97=0, $D97*$H97, $D97*($H97-$G97)), 0), $D97*$H97), 0)","v":0},0,null,0,{"$f":"IF($J97=\"MBD\", IF(INTRO!$E$39=\"Non-endemic\", IF($H97<>0, IF($I97=0, $D97*$H97, $D97*($H97-$G97)), 0), $D97*$H97), 0)","v":115716},246100,null,361816,null,0,0,null,0,0,null,246100,1641]
[{"$f":"IF(AND(INTRO!$E$37=\"Non-endemic\",INTRO!$E$41=\"Non-endemic\"),\" \",IF(COUNTRY_INFO!A98=0,\" \",COUNTRY_INFO!A98))","v":"Uganda"},{"$f":"IF(AND(INTRO!$E$37=\"Non-endemic\",INTRO!$E$41=\"Non-endemic\"),\" \",IF(COUNTRY_INFO!B98=0,\" \",COUNTRY_INFO!B98))","v":"NORTHERN"},{"$f":"IF(AND(INTRO!$E$37=\"Non-endemic\",INTRO!$E$41=\"Non-endemic\"),\" \",IF(COUNTRY_INFO!C98=0,\" \",COUNTRY_INFO!C98))","v":"Lira City"},{"$f":"IF(AND(INTRO!$E$37=\"Non-endemic\",INTRO!$E$41=\"Non-endemic\"),0,IF(AND(OR(COUNTRY_INFO!$H98=0,COUNTRY_INFO!$H98=4,COUNTRY_INFO!$H98=99),OR(COUNTRY_INFO!$J98=0,COUNTRY_INFO!$J98=4)),0,COUNTRY_INFO!$E98))","v":18401},{"$f":"IF(AND(INTRO!$E$37=\"Non-endemic\",INTRO!$E$41=\"Non-endemic\"),0,IF(AND(OR(COUNTRY_INFO!$H98=0,COUNTRY_INFO!$H98=4,COUNTRY_INFO!$H98=99),OR(COUNTRY_INFO!$J98=0,COUNTRY_INFO!$J98=4)),0,COUNTRY_INFO!$F98))","v":39135},57536,{"$f":"IF(AND(INTRO!$E$37=\"Non-endemic\",INTRO!$E$41=\"Non-endemic\"),0,COUNTRY_INFO!P98)","v":0},{"$f":"IF(AND(INTRO!$E$37=\"Non-endemic\",INTRO!$E$41=\"Non-endemic\"),0,COUNTRY_INFO!R98)","v":2},{"$f":"IF(INTRO!$E$39=\"Non-endemic\",IF($G98=1,DEC!I98,0),IF($G98=1,IVM!G98,0))","v":0},"MBD",{"$f":"IF($J98=\"ALB\", IF(INTRO!$E$39=\"Non-endemic\", IF($H98<>0, IF($I98=0, $D98*$H98, $D98*($H98-$G98)), 0), $D98*$H98), 0)","v":0},0,null,0,{"$f":"IF($J98=\"MBD\", IF(INTRO!$E$39=\"Non-endemic\", IF($H98<>0, IF($I98=0, $D98*$H98, $D98*($H98-$G98)), 0), $D98*$H98), 0)","v":36802},78270,null,115072,null,0,0,null,0,0,null,78270,522]
[{"$f":"IF(AND(INTRO!$E$37=\"Non-endemic\",INTRO!$E$41=\"Non-endemic\"),\" \",IF(COUNTRY_INFO!A99=0,\" \",COUNTRY_INFO!A99))","v":"Uganda"},{"$f":"IF(AND(INTRO!$E$37=\"Non-endemic\",INTRO!$E$41=\"Non-endemic\"),\" \",IF(COUNTRY_INFO!B99=0,\" \",COUNTRY_INFO!B99))","v":"NORTHERN"},{"$f":"IF(AND(INTRO!$E$37=\"Non-endemic\",INTRO!$E$41=\"Non-endemic\"),\" \",IF(COUNTRY_INFO!C99=0,\" \",COUNTRY_INFO!C99))","v":"MADI OKOLLO"},{"$f":"IF(AND(INTRO!$E$37=\"Non-endemic\",INTRO!$E$41=\"Non-endemic\"),0,IF(AND(OR(COUNTRY_INFO!$H99=0,COUNTRY_INFO!$H99=4,COUNTRY_INFO!$H99=99),OR(COUNTRY_INFO!$J99=0,COUNTRY_INFO!$J99=4)),0,COUNTRY_INFO!$E99))","v":25761},{"$f":"IF(AND(INTRO!$E$37=\"Non-endemic\",INTRO!$E$41=\"Non-endemic\"),0,IF(AND(OR(COUNTRY_INFO!$H99=0,COUNTRY_INFO!$H99=4,COUNTRY_INFO!$H99=99),OR(COUNTRY_INFO!$J99=0,COUNTRY_INFO!$J99=4)),0,COUNTRY_INFO!$F99))","v":54789},80550,{"$f":"IF(AND(INTRO!$E$37=\"Non-endemic\",INTRO!$E$41=\"Non-endemic\"),0,COUNTRY_INFO!P99)","v":0},{"$f":"IF(AND(INTRO!$E$37=\"Non-endemic\",INTRO!$E$41=\"Non-endemic\"),0,COUNTRY_INFO!R99)","v":2},{"$f":"IF(INTRO!$E$39=\"Non-endemic\",IF($G99=1,DEC!I99,0),IF($G99=1,IVM!G99,0))","v":0},"MBD",{"$f":"IF($J99=\"ALB\", IF(INTRO!$E$39=\"Non-endemic\", IF($H99<>0, IF($I99=0, $D99*$H99, $D99*($H99-$G99)), 0), $D99*$H99), 0)","v":0},0,null,0,{"$f":"IF($J99=\"MBD\", IF(INTRO!$E$39=\"Non-endemic\", IF($H99<>0, IF($I99=0, $D99*$H99, $D99*($H99-$G99)), 0), $D99*$H99), 0)","v":51522},109578,null,161100,null,0,0,null,0,0,null,109578,731]
[{"$f":"IF(AND(INTRO!$E$37=\"Non-endemic\",INTRO!$E$41=\"Non-endemic\"),\" \",IF(COUNTRY_INFO!A100=0,\" \",COUNTRY_INFO!A100))","v":"Uganda"},{"$f":"IF(AND(INTRO!$E$37=\"Non-endemic\",INTRO!$E$41=\"Non-endemic\"),\" \",IF(COUNTRY_INFO!B100=0,\" \",COUNTRY_INFO!B100))","v":"NORTHERN"},{"$f":"IF(AND(INTRO!$E$37=\"Non-endemic\",INTRO!$E$41=\"Non-endemic\"),\" \",IF(COUNTRY_INFO!C100=0,\" \",COUNTRY_INFO!C100))","v":"MARACHA"},{"$f":"IF(AND(INTRO!$E$37=\"Non-endemic\",INTRO!$E$41=\"Non-endemic\"),0,IF(AND(OR(COUNTRY_INFO!$H100=0,COUNTRY_INFO!$H100=4,COUNTRY_INFO!$H100=99),OR(COUNTRY_INFO!$J100=0,COUNTRY_INFO!$J100=4)),0,COUNTRY_INFO!$E100))","v":34584},{"$f":"IF(AND(INTRO!$E$37=\"Non-endemic\",INTRO!$E$41=\"Non-endemic\"),0,IF(AND(OR(COUNTRY_INFO!$H100=0,COUNTRY_INFO!$H100=4,COUNTRY_INFO!$H100=99),OR(COUNTRY_INFO!$J100=0,COUNTRY_INFO!$J100=4)),0,COUNTRY_INFO!$F100))","v":73553},108137,{"$f":"IF(AND(INTRO!$E$37=\"Non-endemic\",INTRO!$E$41=\"Non-endemic\"),0,COUNTRY_INFO!P100)","v":0},{"$f":"IF(AND(INTRO!$E$37=\"Non-endemic\",INTRO!$E$41=\"Non-endemic\"),0,COUNTRY_INFO!R100)","v":2},{"$f":"IF(INTRO!$E$39=\"Non-endemic\",IF($G100=1,DEC!I100,0),IF($G100=1,IVM!G100,0))","v":0},"MBD",{"$f":"IF($J100=\"ALB\", IF(INTRO!$E$39=\"Non-endemic\", IF($H100<>0, IF($I100=0, $D100*$H100, $D100*($H100-$G100)), 0), $D100*$H100), 0)","v":0},0,null,0,{"$f":"IF($J100=\"MBD\", IF(INTRO!$E$39=\"Non-endemic\", IF($H100<>0, IF($I100=0, $D100*$H100, $D100*($H100-$G100)), 0), $D100*$H100), 0)","v":69168},147106,null,216274,null,0,0,null,0,0,null,147106,981]
[{"$f":"IF(AND(INTRO!$E$37=\"Non-endemic\",INTRO!$E$41=\"Non-endemic\"),\" \",IF(COUNTRY_INFO!A101=0,\" \",COUNTRY_INFO!A101))","v":"Uganda"},{"$f":"IF(AND(INTRO!$E$37=\"Non-endemic\",INTRO!$E$41=\"Non-endemic\"),\" \",IF(COUNTRY_INFO!B101=0,\" \",COUNTRY_INFO!B101))","v":"NORTHERN"},{"$f":"IF(AND(INTRO!$E$37=\"Non-endemic\",INTRO!$E$41=\"Non-endemic\"),\" \",IF(COUNTRY_INFO!C101=0,\" \",COUNTRY_INFO!C101))","v":"MOROTO"},{"$f":"IF(AND(INTRO!$E$37=\"Non-endemic\",INTRO!$E$41=\"Non-endemic\"),0,IF(AND(OR(COUNTRY_INFO!$H101=0,COUNTRY_INFO!$H101=4,COUNTRY_INFO!$H101=99),OR(COUNTRY_INFO!$J101=0,COUNTRY_INFO!$J101=4)),0,COUNTRY_INFO!$E101))","v":19419},{"$f":"IF(AND(INTRO!$E$37=\"Non-endemic\",INTRO!$E$41=\"Non-endemic\"),0,IF(AND(OR(COUNTRY_INFO!$H101=0,COUNTRY_INFO!$H101=4,COUNTRY_INFO!$H101=99),OR(COUNTRY_INFO!$J101=0,COUNTRY_INFO!$J101=4)),0,COUNTRY_INFO!$F101))","v":41300},60719,{"$f":"IF(AND(INTRO!$E$37=\"Non-endemic\",INTRO!$E$41=\"Non-endemic\"),0,COUNTRY_INFO!P101)","v":0},{"$f":"IF(AND(INTRO!$E$37=\"Non-endemic\",INTRO!$E$41=\"Non-endemic\"),0,COUNTRY_INFO!R101)","v":2},{"$f":"IF(INTRO!$E$39=\"Non-endemic\",IF($G101=1,DEC!I101,0),IF($G101=1,IVM!G101,0))","v":0},"MBD",{"$f":"IF($J101=\"ALB\", IF(INTRO!$E$39=\"Non-endemic\", IF($H101<>0, IF($I101=0, $D101*$H101, $D101*($H101-$G101)), 0), $D101*$H101), 0)","v":0},0,null,0,{"$f":"IF($J101=\"MBD\", IF(INTRO!$E$39=\"Non-endemic\", IF($H101<>0, IF($I101=0, $D101*$H101, $D101*($H101-$G101)), 0), $D101*$H101), 0)","v":38838},82600,null,121438,null,0,0,null,0,0,null,82600,551]
[{"$f":"IF(AND(INTRO!$E$37=\"Non-endemic\",INTRO!$E$41=\"Non-endemic\"),\" \",IF(COUNTRY_INFO!A102=0,\" \",COUNTRY_INFO!A102))","v":"Uganda"},{"$f":"IF(AND(INTRO!$E$37=\"Non-endemic\",INTRO!$E$41=\"Non-endemic\"),\" \",IF(COUNTRY_INFO!B102=0,\" \",COUNTRY_INFO!B102))","v":"NORTHERN"},{"$f":"IF(AND(INTRO!$E$37=\"Non-endemic\",INTRO!$E$41=\"Non-endemic\"),\" \",IF(COUNTRY_INFO!C102=0,\" \",COUNTRY_INFO!C102))","v":"MOYO"},{"$f":"IF(AND(INTRO!$E$37=\"Non-endemic\",INTRO!$E$41=\"Non-endemic\"),0,IF(AND(OR(COUNTRY_INFO!$H102=0,COUNTRY_INFO!$H102=4,COUNTRY_INFO!$H102=99),OR(COUNTRY_INFO!$J102=0,COUNTRY_INFO!$J102=4)),0,COUNTRY_INFO!$E102))","v":17526},{"$f":"IF(AND(INTRO!$E$37=\"Non-endemic\",INTRO!$E$41=\"Non-endemic\"),0,IF(AND(OR(COUNTRY_INFO!$H102=0,COUNTRY_INFO!$H102=4,COUNTRY_INFO!$H102=99),OR(COUNTRY_INFO!$J102=0,COUNTRY_INFO!$J102=4)),0,COUNTRY_INFO!$F102))","v":37273},54799,{"$f":"IF(AND(INTRO!$E$37=\"Non-endemic\",INTRO!$E$41=\"Non-endemic\"),0,COUNTRY_INFO!P102)","v":0},{"$f":"IF(AND(INTRO!$E$37=\"Non-endemic\",INTRO!$E$41=\"Non-endemic\"),0,COUNTRY_INFO!R102)","v":2},{"$f":"IF(INTRO!$E$39=\"Non-endemic\",IF($G102=1,DEC!I102,0),IF($G102=1,IVM!G102,0))","v":0},"MBD",{"$f":"IF($J102=\"ALB\", IF(INTRO!$E$39=\"Non-endemic\", IF($H102<>0, IF($I102=0, $D102*$H102, $D102*($H102-$G102)), 0), $D102*$H102), 0)","v":0},0,null,0,{"$f":"IF($J102=\"MBD\", IF(INTRO!$E$39=\"Non-endemic\", IF($H102<>0, IF($I102=0, $D102*$H102, $D102*($H102-$G102)), 0), $D102*$H102), 0)","v":35052},74546,null,109598,null,0,0,null,0,0,null,74546,497]
[{"$f":"IF(AND(INTRO!$E$37=\"Non-endemic\",INTRO!$E$41=\"Non-endemic\"),\" \",IF(COUNTRY_INFO!A103=0,\" \",COUNTRY_INFO!A103))","v":"Uganda"},{"$f":"IF(AND(INTRO!$E$37=\"Non-endemic\",INTRO!$E$41=\"Non-endemic\"),\" \",IF(COUNTRY_INFO!B103=0,\" \",COUNTRY_INFO!B103))","v":"NORTHERN"},{"$f":"IF(AND(INTRO!$E$37=\"Non-endemic\",INTRO!$E$41=\"Non-endemic\"),\" \",IF(COUNTRY_INFO!C103=0,\" \",COUNTRY_INFO!C103))","v":"NABILATUK"},{"$f":"IF(AND(INTRO!$E$37=\"Non-endemic\",INTRO!$E$41=\"Non-endemic\"),0,IF(AND(OR(COUNTRY_INFO!$H103=0,COUNTRY_INFO!$H103=4,COUNTRY_INFO!$H103=99),OR(COUNTRY_INFO!$J103=0,COUNTRY_INFO!$J103=4)),0,COUNTRY_INFO!$E103))","v":12943},{"$f":"IF(AND(INTRO!$E$37=\"Non-endemic\",INTRO!$E$41=\"Non-endemic\"),0,IF(AND(OR(COUNTRY_INFO!$H103=0,COUNTRY_INFO!$H103=4,COUNTRY_INFO!$H103=99),OR(COUNTRY_INFO!$J103=0,COUNTRY_INFO!$J103=4)),0,COUNTRY_INFO!$F103))","v":27526},40469,{"$f":"IF(AND(INTRO!$E$37=\"Non-endemic\",INTRO!$E$41=\"Non-endemic\"),0,COUNTRY_INFO!P103)","v":0},{"$f":"IF(AND(INTRO!$E$37=\"Non-endemic\",INTRO!$E$41=\"Non-endemic\"),0,COUNTRY_INFO!R103)","v":2},{"$f":"IF(INTRO!$E$39=\"Non-endemic\",IF($G103=1,DEC!I103,0),IF($G103=1,IVM!G103,0))","v":0},"MBD",{"$f":"IF($J103=\"ALB\", IF(INTRO!$E$39=\"Non-endemic\", IF($H103<>0, IF($I103=0, $D103*$H103, $D103*($H103-$G103)), 0), $D103*$H103), 0)","v":0},0,null,0,{"$f":"IF($J103=\"MBD\", IF(INTRO!$E$39=\"Non-endemic\", IF($H103<>0, IF($I103=0, $D103*$H103, $D103*($H103-$G103)), 0), $D103*$H103), 0)","v":25886},55052,null,80938,null,0,0,null,0,0,null,55052,368]
[{"$f":"IF(AND(INTRO!$E$37=\"Non-endemic\",INTRO!$E$41=\"Non-endemic\"),\" \",IF(COUNTRY_INFO!A104=0,\" \",COUNTRY_INFO!A104))","v":"Uganda"},{"$f":"IF(AND(INTRO!$E$37=\"Non-endemic\",INTRO!$E$41=\"Non-endemic\"),\" \",IF(COUNTRY_INFO!B104=0,\" \",COUNTRY_INFO!B104))","v":"NORTHERN"},{"$f":"IF(AND(INTRO!$E$37=\"Non-endemic\",INTRO!$E$41=\"Non-endemic\"),\" \",IF(COUNTRY_INFO!C104=0,\" \",COUNTRY_INFO!C104))","v":"NAKAPIRIPIRIT"},{"$f":"IF(AND(INTRO!$E$37=\"Non-endemic\",INTRO!$E$41=\"Non-endemic\"),0,IF(AND(OR(COUNTRY_INFO!$H104=0,COUNTRY_INFO!$H104=4,COUNTRY_INFO!$H104=99),OR(COUNTRY_INFO!$J104=0,COUNTRY_INFO!$J104=4)),0,COUNTRY_INFO!$E104))","v":18579},{"$f":"IF(AND(INTRO!$E$37=\"Non-endemic\",INTRO!$E$41=\"Non-endemic\"),0,IF(AND(OR(COUNTRY_INFO!$H104=0,COUNTRY_INFO!$H104=4,COUNTRY_INFO!$H104=99),OR(COUNTRY_INFO!$J104=0,COUNTRY_INFO!$J104=4)),0,COUNTRY_INFO!$F104))","v":39512},58091,{"$f":"IF(AND(INTRO!$E$37=\"Non-endemic\",INTRO!$E$41=\"Non-endemic\"),0,COUNTRY_INFO!P104)","v":0},{"$f":"IF(AND(INTRO!$E$37=\"Non-endemic\",INTRO!$E$41=\"Non-endemic\"),0,COUNTRY_INFO!R104)","v":2},{"$f":"IF(INTRO!$E$39=\"Non-endemic\",IF($G104=1,DEC!I104,0),IF($G104=1,IVM!G104,0))","v":0},"MBD",{"$f":"IF($J104=\"ALB\", IF(INTRO!$E$39=\"Non-endemic\", IF($H104<>0, IF($I104=0, $D104*$H104, $D104*($H104-$G104)), 0), $D104*$H104), 0)","v":0},0,null,0,{"$f":"IF($J104=\"MBD\", IF(INTRO!$E$39=\"Non-endemic\", IF($H104<>0, IF($I104=0, $D104*$H104, $D104*($H104-$G104)), 0), $D104*$H104), 0)","v":37158},79024,null,116182,null,0,0,null,0,0,null,79024,527]
[{"$f":"IF(AND(INTRO!$E$37=\"Non-endemic\",INTRO!$E$41=\"Non-endemic\"),\" \",IF(COUNTRY_INFO!A105=0,\" \",COUNTRY_INFO!A105))","v":"Uganda"},{"$f":"IF(AND(INTRO!$E$37=\"Non-endemic\",INTRO!$E$41=\"Non-endemic\"),\" \",IF(COUNTRY_INFO!B105=0,\" \",COUNTRY_INFO!B105))","v":"NORTHERN"},{"$f":"IF(AND(INTRO!$E$37=\"Non-endemic\",INTRO!$E$41=\"Non-endemic\"),\" \",IF(COUNTRY_INFO!C105=0,\" \",COUNTRY_INFO!C105))","v":"NAPAK"},{"$f":"IF(AND(INTRO!$E$37=\"Non-endemic\",INTRO!$E$41=\"Non-endemic\"),0,IF(AND(OR(COUNTRY_INFO!$H105=0,COUNTRY_INFO!$H105=4,COUNTRY_INFO!$H105=99),OR(COUNTRY_INFO!$J105=0,COUNTRY_INFO!$J105=4)),0,COUNTRY_INFO!$E105))","v":26977},{"$f":"IF(AND(INTRO!$E$37=\"Non-endemic\",INTRO!$E$41=\"Non-endemic\"),0,IF(AND(OR(COUNTRY_INFO!$H105=0,COUNTRY_INFO!$H105=4,COUNTRY_INFO!$H105=99),OR(COUNTRY_INFO!$J105=0,COUNTRY_INFO!$J105=4)),0,COUNTRY_INFO!$F105))","v":57373},84350,{"$f":"IF(AND(INTRO!$E$37=\"Non-endemic\",INTRO!$E$41=\"Non-endemic\"),0,COUNTRY_INFO!P105)","v":0},{"$f":"IF(AND(INTRO!$E$37=\"Non-endemic\",INTRO!$E$41=\"Non-endemic\"),0,COUNTRY_INFO!R105)","v":2},{"$f":"IF(INTRO!$E$39=\"Non-endemic\",IF($G105=1,DEC!I105,0),IF($G105=1,IVM!G105,0))","v":0},"MBD",{"$f":"IF($J105=\"ALB\", IF(INTRO!$E$39=\"Non-endemic\", IF($H105<>0, IF($I105=0, $D105*$H105, $D105*($H105-$G105)), 0), $D105*$H105), 0)","v":0},0,null,0,{"$f":"IF($J105=\"MBD\", IF(INTRO!$E$39=\"Non-endemic\", IF($H105<>0, IF($I105=0, $D105*$H105, $D105*($H105-$G105)), 0), $D105*$H105), 0)","v":53954},114746,null,168700,null,0,0,null,0,0,null,114746,765]
[{"$f":"IF(AND(INTRO!$E$37=\"Non-endemic\",INTRO!$E$41=\"Non-endemic\"),\" \",IF(COUNTRY_INFO!A106=0,\" \",COUNTRY_INFO!A106))","v":"Uganda"},{"$f":"IF(AND(INTRO!$E$37=\"Non-endemic\",INTRO!$E$41=\"Non-endemic\"),\" \",IF(COUNTRY_INFO!B106=0,\" \",COUNTRY_INFO!B106))","v":"NORTHERN"},{"$f":"IF(AND(INTRO!$E$37=\"Non-endemic\",INTRO!$E$41=\"Non-endemic\"),\" \",IF(COUNTRY_INFO!C106=0,\" \",COUNTRY_INFO!C106))","v":"NEBBI"},{"$f":"IF(AND(INTRO!$E$37=\"Non-endemic\",INTRO!$E$41=\"Non-endemic\"),0,IF(AND(OR(COUNTRY_INFO!$H106=0,COUNTRY_INFO!$H106=4,COUNTRY_INFO!$H106=99),OR(COUNTRY_INFO!$J106=0,COUNTRY_INFO!$J106=4)),0,COUNTRY_INFO!$E106))","v":44074},{"$f":"IF(AND(INTRO!$E$37=\"Non-endemic\",INTRO!$E$41=\"Non-endemic\"),0,IF(AND(OR(COUNTRY_INFO!$H106=0,COUNTRY_INFO!$H106=4,COUNTRY_INFO!$H106=99),OR(COUNTRY_INFO!$J106=0,COUNTRY_INFO!$J106=4)),0,COUNTRY_INFO!$F106))","v":93734},137808,{"$f":"IF(AND(INTRO!$E$37=\"Non-endemic\",INTRO!$E$41=\"Non-endemic\"),0,COUNTRY_INFO!P106)","v":0},{"$f":"IF(AND(INTRO!$E$37=\"Non-endemic\",INTRO!$E$41=\"Non-endemic\"),0,COUNTRY_INFO!R106)","v":2},{"$f":"IF(INTRO!$E$39=\"Non-endemic\",IF($G106=1,DEC!I106,0),IF($G106=1,IVM!G106,0))","v":0},"MBD",{"$f":"IF($J106=\"ALB\", IF(INTRO!$E$39=\"Non-endemic\", IF($H106<>0, IF($I106=0, $D106*$H106, $D106*($H106-$G106)), 0), $D106*$H106), 0)","v":0},0,null,0,{"$f":"IF($J106=\"MBD\", IF(INTRO!$E$39=\"Non-endemic\", IF($H106<>0, IF($I106=0, $D106*$H106, $D106*($H106-$G106)), 0), $D106*$H106), 0)","v":88148},187468,null,275616,null,0,0,null,0,0,null,187468,1250]
[{"$f":"IF(AND(INTRO!$E$37=\"Non-endemic\",INTRO!$E$41=\"Non-endemic\"),\" \",IF(COUNTRY_INFO!A107=0,\" \",COUNTRY_INFO!A107))","v":"Uganda"},{"$f":"IF(AND(INTRO!$E$37=\"Non-endemic\",INTRO!$E$41=\"Non-endemic\"),\" \",IF(COUNTRY_INFO!B107=0,\" \",COUNTRY_INFO!B107))","v":"NORTHERN"},{"$f":"IF(AND(INTRO!$E$37=\"Non-endemic\",INTRO!$E$41=\"Non-endemic\"),\" \",IF(COUNTRY_INFO!C107=0,\" \",COUNTRY_INFO!C107))","v":"NWOYA"},{"$f":"IF(AND(INTRO!$E$37=\"Non-endemic\",INTRO!$E$41=\"Non-endemic\"),0,IF(AND(OR(COUNTRY_INFO!$H107=0,COUNTRY_INFO!$H107=4,COUNTRY_INFO!$H107=99),OR(COUNTRY_INFO!$J107=0,COUNTRY_INFO!$J107=4)),0,COUNTRY_INFO!$E107))","v":23796},{"$f":"IF(AND(INTRO!$E$37=\"Non-endemic\",INTRO!$E$41=\"Non-endemic\"),0,IF(AND(OR(COUNTRY_INFO!$H107=0,COUNTRY_INFO!$H107=4,COUNTRY_INFO!$H107=99),OR(COUNTRY_INFO!$J107=0,COUNTRY_INFO!$J107=4)),0,COUNTRY_INFO!$F107))","v":50608},74404,{"$f":"IF(AND(INTRO!$E$37=\"Non-endemic\",INTRO!$E$41=\"Non-endemic\"),0,COUNTRY_INFO!P107)","v":0},{"$f":"IF(AND(INTRO!$E$37=\"Non-endemic\",INTRO!$E$41=\"Non-endemic\"),0,COUNTRY_INFO!R107)","v":2},{"$f":"IF(INTRO!$E$39=\"Non-endemic\",IF($G107=1,DEC!I107,0),IF($G107=1,IVM!G107,0))","v":0},"MBD",{"$f":"IF($J107=\"ALB\", IF(INTRO!$E$39=\"Non-endemic\", IF($H107<>0, IF($I107=0, $D107*$H107, $D107*($H107-$G107)), 0), $D107*$H107), 0)","v":0},0,null,0,{"$f":"IF($J107=\"MBD\", IF(INTRO!$E$39=\"Non-endemic\", IF($H107<>0, IF($I107=0, $D107*$H107, $D107*($H107-$G107)), 0), $D107*$H107), 0)","v":47592},101216,null,148808,null,0,0,null,0,0,null,101216,675]
[{"$f":"IF(AND(INTRO!$E$37=\"Non-endemic\",INTRO!$E$41=\"Non-endemic\"),\" \",IF(COUNTRY_INFO!A108=0,\" \",COUNTRY_INFO!A108))","v":"Uganda"},{"$f":"IF(AND(INTRO!$E$37=\"Non-endemic\",INTRO!$E$41=\"Non-endemic\"),\" \",IF(COUNTRY_INFO!B108=0,\" \",COUNTRY_INFO!B108))","v":"NORTHERN"},{"$f":"IF(AND(INTRO!$E$37=\"Non-endemic\",INTRO!$E$41=\"Non-endemic\"),\" \",IF(COUNTRY_INFO!C108=0,\" \",COUNTRY_INFO!C108))","v":"OBONGI"},{"$f":"IF(AND(INTRO!$E$37=\"Non-endemic\",INTRO!$E$41=\"Non-endemic\"),0,IF(AND(OR(COUNTRY_INFO!$H108=0,COUNTRY_INFO!$H108=4,COUNTRY_INFO!$H108=99),OR(COUNTRY_INFO!$J108=0,COUNTRY_INFO!$J108=4)),0,COUNTRY_INFO!$E108))","v":8014},{"$f":"IF(AND(INTRO!$E$37=\"Non-endemic\",INTRO!$E$41=\"Non-endemic\"),0,IF(AND(OR(COUNTRY_INFO!$H108=0,COUNTRY_INFO!$H108=4,COUNTRY_INFO!$H108=99),OR(COUNTRY_INFO!$J108=0,COUNTRY_INFO!$J108=4)),0,COUNTRY_INFO!$F108))","v":17044},25058,{"$f":"IF(AND(INTRO!$E$37=\"Non-endemic\",INTRO!$E$41=\"Non-endemic\"),0,COUNTRY_INFO!P108)","v":0},{"$f":"IF(AND(INTRO!$E$37=\"Non-endemic\",INTRO!$E$41=\"Non-endemic\"),0,COUNTRY_INFO!R108)","v":2},{"$f":"IF(INTRO!$E$39=\"Non-endemic\",IF($G108=1,DEC!I108,0),IF($G108=1,IVM!G108,0))","v":0},"MBD",{"$f":"IF($J108=\"ALB\", IF(INTRO!$E$39=\"Non-endemic\", IF($H108<>0, IF($I108=0, $D108*$H108, $D108*($H108-$G108)), 0), $D108*$H108), 0)","v":0},0,null,0,{"$f":"IF($J108=\"MBD\", IF(INTRO!$E$39=\"Non-endemic\", IF($H108<>0, IF($I108=0, $D108*$H108, $D108*($H108-$G108)), 0), $D108*$H108), 0)","v":16028},34088,null,50116,null,0,0,null,0,0,null,34088,228]
[{"$f":"IF(AND(INTRO!$E$37=\"Non-endemic\",INTRO!$E$41=\"Non-endemic\"),\" \",IF(COUNTRY_INFO!A109=0,\" \",COUNTRY_INFO!A109))","v":"Uganda"},{"$f":"IF(AND(INTRO!$E$37=\"Non-endemic\",INTRO!$E$41=\"Non-endemic\"),\" \",IF(COUNTRY_INFO!B109=0,\" \",COUNTRY_INFO!B109))","v":"NORTHERN"},{"$f":"IF(AND(INTRO!$E$37=\"Non-endemic\",INTRO!$E$41=\"Non-endemic\"),\" \",IF(COUNTRY_INFO!C109=0,\" \",COUNTRY_INFO!C109))","v":"OMORO"},{"$f":"IF(AND(INTRO!$E$37=\"Non-endemic\",INTRO!$E$41=\"Non-endemic\"),0,IF(AND(OR(COUNTRY_INFO!$H109=0,COUNTRY_INFO!$H109=4,COUNTRY_INFO!$H109=99),OR(COUNTRY_INFO!$J109=0,COUNTRY_INFO!$J109=4)),0,COUNTRY_INFO!$E109))","v":30770},{"$f":"IF(AND(INTRO!$E$37=\"Non-endemic\",INTRO!$E$41=\"Non-endemic\"),0,IF(AND(OR(COUNTRY_INFO!$H109=0,COUNTRY_INFO!$H109=4,COUNTRY_INFO!$H109=99),OR(COUNTRY_INFO!$J109=0,COUNTRY_INFO!$J109=4)),0,COUNTRY_INFO!$F109))","v":65440},96210,{"$f":"IF(AND(INTRO!$E$37=\"Non-endemic\",INTRO!$E$41=\"Non-endemic\"),0,COUNTRY_INFO!P109)","v":0},{"$f":"IF(AND(INTRO!$E$37=\"Non-endemic\",INTRO!$E$41=\"Non-endemic\"),0,COUNTRY_INFO!R109)","v":2},{"$f":"IF(INTRO!$E$39=\"Non-endemic\",IF($G109=1,DEC!I109,0),IF($G109=1,IVM!G109,0))","v":0},"MBD",{"$f":"IF($J109=\"ALB\", IF(INTRO!$E$39=\"Non-endemic\", IF($H109<>0, IF($I109=0, $D109*$H109, $D109*($H109-$G109)), 0), $D109*$H109), 0)","v":0},0,null,0,{"$f":"IF($J109=\"MBD\", IF(INTRO!$E$39=\"Non-endemic\", IF($H109<>0, IF($I109=0, $D109*$H109, $D109*($H109-$G109)), 0), $D109*$H109), 0)","v":61540},130880,null,192420,null,0,0,null,0,0,null,130880,873]
[{"$f":"IF(AND(INTRO!$E$37=\"Non-endemic\",INTRO!$E$41=\"Non-endemic\"),\" \",IF(COUNTRY_INFO!A110=0,\" \",COUNTRY_INFO!A110))","v":"Uganda"},{"$f":"IF(AND(INTRO!$E$37=\"Non-endemic\",INTRO!$E$41=\"Non-endemic\"),\" \",IF(COUNTRY_INFO!B110=0,\" \",COUNTRY_INFO!B110))","v":"NORTHERN"},{"$f":"IF(AND(INTRO!$E$37=\"Non-endemic\",INTRO!$E$41=\"Non-endemic\"),\" \",IF(COUNTRY_INFO!C110=0,\" \",COUNTRY_INFO!C110))","v":"OTUKE"},{"$f":"IF(AND(INTRO!$E$37=\"Non-endemic\",INTRO!$E$41=\"Non-endemic\"),0,IF(AND(OR(COUNTRY_INFO!$H110=0,COUNTRY_INFO!$H110=4,COUNTRY_INFO!$H110=99),OR(COUNTRY_INFO!$J110=0,COUNTRY_INFO!$J110=4)),0,COUNTRY_INFO!$E110))","v":19620},{"$f":"IF(AND(INTRO!$E$37=\"Non-endemic\",INTRO!$E$41=\"Non-endemic\"),0,IF(AND(OR(COUNTRY_INFO!$H110=0,COUNTRY_INFO!$H110=4,COUNTRY_INFO!$H110=99),OR(COUNTRY_INFO!$J110=0,COUNTRY_INFO!$J110=4)),0,COUNTRY_INFO!$F110))","v":41728},61348,{"$f":"IF(AND(INTRO!$E$37=\"Non-endemic\",INTRO!$E$41=\"Non-endemic\"),0,COUNTRY_INFO!P110)","v":0},{"$f":"IF(AND(INTRO!$E$37=\"Non-endemic\",INTRO!$E$41=\"Non-endemic\"),0,COUNTRY_INFO!R110)","v":2},{"$f":"IF(INTRO!$E$39=\"Non-endemic\",IF($G110=1,DEC!I110,0),IF($G110=1,IVM!G110,0))","v":0},"MBD",{"$f":"IF($J110=\"ALB\", IF(INTRO!$E$39=\"Non-endemic\", IF($H110<>0, IF($I110=0, $D110*$H110, $D110*($H110-$G110)), 0), $D110*$H110), 0)","v":0},0,null,0,{"$f":"IF($J110=\"MBD\", IF(INTRO!$E$39=\"Non-endemic\", IF($H110<>0, IF($I110=0, $D110*$H110, $D110*($H110-$G110)), 0), $D110*$H110), 0)","v":39240},83456,null,122696,null,0,0,null,0,0,null,83456,557]
[{"$f":"IF(AND(INTRO!$E$37=\"Non-endemic\",INTRO!$E$41=\"Non-endemic\"),\" \",IF(COUNTRY_INFO!A111=0,\" \",COUNTRY_INFO!A111))","v":"Uganda"},{"$f":"IF(AND(INTRO!$E$37=\"Non-endemic\",INTRO!$E$41=\"Non-endemic\"),\" \",IF(COUNTRY_INFO!B111=0,\" \",COUNTRY_INFO!B111))","v":"NORTHERN"},{"$f":"IF(AND(INTRO!$E$37=\"Non-endemic\",INTRO!$E$41=\"Non-endemic\"),\" \",IF(COUNTRY_INFO!C111=0,\" \",COUNTRY_INFO!C111))","v":"OYAM"},{"$f":"IF(AND(INTRO!$E$37=\"Non-endemic\",INTRO!$E$41=\"Non-endemic\"),0,IF(AND(OR(COUNTRY_INFO!$H111=0,COUNTRY_INFO!$H111=4,COUNTRY_INFO!$H111=99),OR(COUNTRY_INFO!$J111=0,COUNTRY_INFO!$J111=4)),0,COUNTRY_INFO!$E111))","v":72079},{"$f":"IF(AND(INTRO!$E$37=\"Non-endemic\",INTRO!$E$41=\"Non-endemic\"),0,IF(AND(OR(COUNTRY_INFO!$H111=0,COUNTRY_INFO!$H111=4,COUNTRY_INFO!$H111=99),OR(COUNTRY_INFO!$J111=0,COUNTRY_INFO!$J111=4)),0,COUNTRY_INFO!$F111))","v":153295},225374,{"$f":"IF(AND(INTRO!$E$37=\"Non-endemic\",INTRO!$E$41=\"Non-endemic\"),0,COUNTRY_INFO!P111)","v":0},{"$f":"IF(AND(INTRO!$E$37=\"Non-endemic\",INTRO!$E$41=\"Non-endemic\"),0,COUNTRY_INFO!R111)","v":2},{"$f":"IF(INTRO!$E$39=\"Non-endemic\",IF($G111=1,DEC!I111,0),IF($G111=1,IVM!G111,0))","v":0},"MBD",{"$f":"IF($J111=\"ALB\", IF(INTRO!$E$39=\"Non-endemic\", IF($H111<>0, IF($I111=0, $D111*$H111, $D111*($H111-$G111)), 0), $D111*$H111), 0)","v":0},0,null,0,{"$f":"IF($J111=\"MBD\", IF(INTRO!$E$39=\"Non-endemic\", IF($H111<>0, IF($I111=0, $D111*$H111, $D111*($H111-$G111)), 0), $D111*$H111), 0)","v":144158},306590,null,450748,null,0,0,null,0,0,null,306590,2044]
[{"$f":"IF(AND(INTRO!$E$37=\"Non-endemic\",INTRO!$E$41=\"Non-endemic\"),\" \",IF(COUNTRY_INFO!A112=0,\" \",COUNTRY_INFO!A112))","v":"Uganda"},{"$f":"IF(AND(INTRO!$E$37=\"Non-endemic\",INTRO!$E$41=\"Non-endemic\"),\" \",IF(COUNTRY_INFO!B112=0,\" \",COUNTRY_INFO!B112))","v":"NORTHERN"},{"$f":"IF(AND(INTRO!$E$37=\"Non-endemic\",INTRO!$E$41=\"Non-endemic\"),\" \",IF(COUNTRY_INFO!C112=0,\" \",COUNTRY_INFO!C112))","v":"PADER"},{"$f":"IF(AND(INTRO!$E$37=\"Non-endemic\",INTRO!$E$41=\"Non-endemic\"),0,IF(AND(OR(COUNTRY_INFO!$H112=0,COUNTRY_INFO!$H112=4,COUNTRY_INFO!$H112=99),OR(COUNTRY_INFO!$J112=0,COUNTRY_INFO!$J112=4)),0,COUNTRY_INFO!$E112))","v":34130},{"$f":"IF(AND(INTRO!$E$37=\"Non-endemic\",INTRO!$E$41=\"Non-endemic\"),0,IF(AND(OR(COUNTRY_INFO!$H112=0,COUNTRY_INFO!$H112=4,COUNTRY_INFO!$H112=99),OR(COUNTRY_INFO!$J112=0,COUNTRY_INFO!$J112=4)),0,COUNTRY_INFO!$F112))","v":72586},106716,{"$f":"IF(AND(INTRO!$E$37=\"Non-endemic\",INTRO!$E$41=\"Non-endemic\"),0,COUNTRY_INFO!P112)","v":0},{"$f":"IF(AND(INTRO!$E$37=\"Non-endemic\",INTRO!$E$41=\"Non-endemic\"),0,COUNTRY_INFO!R112)","v":2},{"$f":"IF(INTRO!$E$39=\"Non-endemic\",IF($G112=1,DEC!I112,0),IF($G112=1,IVM!G112,0))","v":0},"MBD",{"$f":"IF($J112=\"ALB\", IF(INTRO!$E$39=\"Non-endemic\", IF($H112<>0, IF($I112=0, $D112*$H112, $D112*($H112-$G112)), 0), $D112*$H112), 0)","v":0},0,null,0,{"$f":"IF($J112=\"MBD\", IF(INTRO!$E$39=\"Non-endemic\", IF($H112<>0, IF($I112=0, $D112*$H112, $D112*($H112-$G112)), 0), $D112*$H112), 0)","v":68260},145172,null,213432,null,0,0,null,0,0,null,145172,968]
[{"$f":"IF(AND(INTRO!$E$37=\"Non-endemic\",INTRO!$E$41=\"Non-endemic\"),\" \",IF(COUNTRY_INFO!A113=0,\" \",COUNTRY_INFO!A113))","v":"Uganda"},{"$f":"IF(AND(INTRO!$E$37=\"Non-endemic\",INTRO!$E$41=\"Non-endemic\"),\" \",IF(COUNTRY_INFO!B113=0,\" \",COUNTRY_INFO!B113))","v":"NORTHERN"},{"$f":"IF(AND(INTRO!$E$37=\"Non-endemic\",INTRO!$E$41=\"Non-endemic\"),\" \",IF(COUNTRY_INFO!C113=0,\" \",COUNTRY_INFO!C113))","v":"PAKWACH"},{"$f":"IF(AND(INTRO!$E$37=\"Non-endemic\",INTRO!$E$41=\"Non-endemic\"),0,IF(AND(OR(COUNTRY_INFO!$H113=0,COUNTRY_INFO!$H113=4,COUNTRY_INFO!$H113=99),OR(COUNTRY_INFO!$J113=0,COUNTRY_INFO!$J113=4)),0,COUNTRY_INFO!$E113))","v":27486},{"$f":"IF(AND(INTRO!$E$37=\"Non-endemic\",INTRO!$E$41=\"Non-endemic\"),0,IF(AND(OR(COUNTRY_INFO!$H113=0,COUNTRY_INFO!$H113=4,COUNTRY_INFO!$H113=99),OR(COUNTRY_INFO!$J113=0,COUNTRY_INFO!$J113=4)),0,COUNTRY_INFO!$F113))","v":58455},85941,{"$f":"IF(AND(INTRO!$E$37=\"Non-endemic\",INTRO!$E$41=\"Non-endemic\"),0,COUNTRY_INFO!P113)","v":0},{"$f":"IF(AND(INTRO!$E$37=\"Non-endemic\",INTRO!$E$41=\"Non-endemic\"),0,COUNTRY_INFO!R113)","v":2},{"$f":"IF(INTRO!$E$39=\"Non-endemic\",IF($G113=1,DEC!I113,0),IF($G113=1,IVM!G113,0))","v":0},"MBD",{"$f":"IF($J113=\"ALB\", IF(INTRO!$E$39=\"Non-endemic\", IF($H113<>0, IF($I113=0, $D113*$H113, $D113*($H113-$G113)), 0), $D113*$H113), 0)","v":0},0,null,0,{"$f":"IF($J113=\"MBD\", IF(INTRO!$E$39=\"Non-endemic\", IF($H113<>0, IF($I113=0, $D113*$H113, $D113*($H113-$G113)), 0), $D113*$H113), 0)","v":54972},116910,null,171882,null,0,0,null,0,0,null,116910,780]
[{"$f":"IF(AND(INTRO!$E$37=\"Non-endemic\",INTRO!$E$41=\"Non-endemic\"),\" \",IF(COUNTRY_INFO!A114=0,\" \",COUNTRY_INFO!A114))","v":"Uganda"},{"$f":"IF(AND(INTRO!$E$37=\"Non-endemic\",INTRO!$E$41=\"Non-endemic\"),\" \",IF(COUNTRY_INFO!B114=0,\" \",COUNTRY_INFO!B114))","v":"NORTHERN"},{"$f":"IF(AND(INTRO!$E$37=\"Non-endemic\",INTRO!$E$41=\"Non-endemic\"),\" \",IF(COUNTRY_INFO!C114=0,\" \",COUNTRY_INFO!C114))","v":"TEREGO"},{"$f":"IF(AND(INTRO!$E$37=\"Non-endemic\",INTRO!$E$41=\"Non-endemic\"),0,IF(AND(OR(COUNTRY_INFO!$H114=0,COUNTRY_INFO!$H114=4,COUNTRY_INFO!$H114=99),OR(COUNTRY_INFO!$J114=0,COUNTRY_INFO!$J114=4)),0,COUNTRY_INFO!$E114))","v":37900},{"$f":"IF(AND(INTRO!$E$37=\"Non-endemic\",INTRO!$E$41=\"Non-endemic\"),0,IF(AND(OR(COUNTRY_INFO!$H114=0,COUNTRY_INFO!$H114=4,COUNTRY_INFO!$H114=99),OR(COUNTRY_INFO!$J114=0,COUNTRY_INFO!$J114=4)),0,COUNTRY_INFO!$F114))","v":80604},118504,{"$f":"IF(AND(INTRO!$E$37=\"Non-endemic\",INTRO!$E$41=\"Non-endemic\"),0,COUNTRY_INFO!P114)","v":0},{"$f":"IF(AND(INTRO!$E$37=\"Non-endemic\",INTRO!$E$41=\"Non-endemic\"),0,COUNTRY_INFO!R114)","v":2},{"$f":"IF(INTRO!$E$39=\"Non-endemic\",IF($G114=1,DEC!I114,0),IF($G114=1,IVM!G114,0))","v":0},"MBD",{"$f":"IF($J114=\"ALB\", IF(INTRO!$E$39=\"Non-endemic\", IF($H114<>0, IF($I114=0, $D114*$H114, $D114*($H114-$G114)), 0), $D114*$H114), 0)","v":0},0,null,0,{"$f":"IF($J114=\"MBD\", IF(INTRO!$E$39=\"Non-endemic\", IF($H114<>0, IF($I114=0, $D114*$H114, $D114*($H114-$G114)), 0), $D114*$H114), 0)","v":75800},161208,null,237008,null,0,0,null,0,0,null,161208,1075]
[{"$f":"IF(AND(INTRO!$E$37=\"Non-endemic\",INTRO!$E$41=\"Non-endemic\"),\" \",IF(COUNTRY_INFO!A115=0,\" \",COUNTRY_INFO!A115))","v":"Uganda"},{"$f":"IF(AND(INTRO!$E$37=\"Non-endemic\",INTRO!$E$41=\"Non-endemic\"),\" \",IF(COUNTRY_INFO!B115=0,\" \",COUNTRY_INFO!B115))","v":"NORTHERN"},{"$f":"IF(AND(INTRO!$E$37=\"Non-endemic\",INTRO!$E$41=\"Non-endemic\"),\" \",IF(COUNTRY_INFO!C115=0,\" \",COUNTRY_INFO!C115))","v":"YUMBE"},{"$f":"IF(AND(INTRO!$E$37=\"Non-endemic\",INTRO!$E$41=\"Non-endemic\"),0,IF(AND(OR(COUNTRY_INFO!$H115=0,COUNTRY_INFO!$H115=4,COUNTRY_INFO!$H115=99),OR(COUNTRY_INFO!$J115=0,COUNTRY_INFO!$J115=4)),0,COUNTRY_INFO!$E115))","v":90203},{"$f":"IF(AND(INTRO!$E$37=\"Non-endemic\",INTRO!$E$41=\"Non-endemic\"),0,IF(AND(OR(COUNTRY_INFO!$H115=0,COUNTRY_INFO!$H115=4,COUNTRY_INFO!$H115=99),OR(COUNTRY_INFO!$J115=0,COUNTRY_INFO!$J115=4)),0,COUNTRY_INFO!$F115))","v":191841},282044,{"$f":"IF(AND(INTRO!$E$37=\"Non-endemic\",INTRO!$E$41=\"Non-endemic\"),0,COUNTRY_INFO!P115)","v":0},{"$f":"IF(AND(INTRO!$E$37=\"Non-endemic\",INTRO!$E$41=\"Non-endemic\"),0,COUNTRY_INFO!R115)","v":2},{"$f":"IF(INTRO!$E$39=\"Non-endemic\",IF($G115=1,DEC!I115,0),IF($G115=1,IVM!G115,0))","v":0},"MBD",{"$f":"IF($J115=\"ALB\", IF(INTRO!$E$39=\"Non-endemic\", IF($H115<>0, IF($I115=0, $D115*$H115, $D115*($H115-$G115)), 0), $D115*$H115), 0)","v":0},0,null,0,{"$f":"IF($J115=\"MBD\", IF(INTRO!$E$39=\"Non-endemic\", IF($H115<>0, IF($I115=0, $D115*$H115, $D115*($H115-$G115)), 0), $D115*$H115), 0)","v":180406},383682,null,564088,null,0,0,null,0,0,null,383682,2558]
[{"$f":"IF(AND(INTRO!$E$37=\"Non-endemic\",INTRO!$E$41=\"Non-endemic\"),\" \",IF(COUNTRY_INFO!A116=0,\" \",COUNTRY_INFO!A116))","v":"Uganda"},{"$f":"IF(AND(INTRO!$E$37=\"Non-endemic\",INTRO!$E$41=\"Non-endemic\"),\" \",IF(COUNTRY_INFO!B116=0,\" \",COUNTRY_INFO!B116))","v":"NORTHERN"},{"$f":"IF(AND(INTRO!$E$37=\"Non-endemic\",INTRO!$E$41=\"Non-endemic\"),\" \",IF(COUNTRY_INFO!C116=0,\" \",COUNTRY_INFO!C116))","v":"ZOMBO"},{"$f":"IF(AND(INTRO!$E$37=\"Non-endemic\",INTRO!$E$41=\"Non-endemic\"),0,IF(AND(OR(COUNTRY_INFO!$H116=0,COUNTRY_INFO!$H116=4,COUNTRY_INFO!$H116=99),OR(COUNTRY_INFO!$J116=0,COUNTRY_INFO!$J116=4)),0,COUNTRY_INFO!$E116))","v":44651},{"$f":"IF(AND(INTRO!$E$37=\"Non-endemic\",INTRO!$E$41=\"Non-endemic\"),0,IF(AND(OR(COUNTRY_INFO!$H116=0,COUNTRY_INFO!$H116=4,COUNTRY_INFO!$H116=99),OR(COUNTRY_INFO!$J116=0,COUNTRY_INFO!$J116=4)),0,COUNTRY_INFO!$F116))","v":94963},139614,{"$f":"IF(AND(INTRO!$E$37=\"Non-endemic\",INTRO!$E$41=\"Non-endemic\"),0,COUNTRY_INFO!P116)","v":0},{"$f":"IF(AND(INTRO!$E$37=\"Non-endemic\",INTRO!$E$41=\"Non-endemic\"),0,COUNTRY_INFO!R116)","v":2},{"$f":"IF(INTRO!$E$39=\"Non-endemic\",IF($G116=1,DEC!I116,0),IF($G116=1,IVM!G116,0))","v":0},"MBD",{"$f":"IF($J116=\"ALB\", IF(INTRO!$E$39=\"Non-endemic\", IF($H116<>0, IF($I116=0, $D116*$H116, $D116*($H116-$G116)), 0), $D116*$H116), 0)","v":0},0,null,0,{"$f":"IF($J116=\"MBD\", IF(INTRO!$E$39=\"Non-endemic\", IF($H116<>0, IF($I116=0, $D116*$H116, $D116*($H116-$G116)), 0), $D116*$H116), 0)","v":89302},189926,null,279228,null,0,0,null,0,0,null,189926,1267]
[{"$f":"IF(AND(INTRO!$E$37=\"Non-endemic\",INTRO!$E$41=\"Non-endemic\"),\" \",IF(COUNTRY_INFO!A117=0,\" \",COUNTRY_INFO!A117))","v":"Uganda"},{"$f":"IF(AND(INTRO!$E$37=\"Non-endemic\",INTRO!$E$41=\"Non-endemic\"),\" \",IF(COUNTRY_INFO!B117=0,\" \",COUNTRY_INFO!B117))","v":"WESTERN"},{"$f":"IF(AND(INTRO!$E$37=\"Non-endemic\",INTRO!$E$41=\"Non-endemic\"),\" \",IF(COUNTRY_INFO!C117=0,\" \",COUNTRY_INFO!C117))","v":"BUHWEJU"},{"$f":"IF(AND(INTRO!$E$37=\"Non-endemic\",INTRO!$E$41=\"Non-endemic\"),0,IF(AND(OR(COUNTRY_INFO!$H117=0,COUNTRY_INFO!$H117=4,COUNTRY_INFO!$H117=99),OR(COUNTRY_INFO!$J117=0,COUNTRY_INFO!$J117=4)),0,COUNTRY_INFO!$E117))","v":23044},{"$f":"IF(AND(INTRO!$E$37=\"Non-endemic\",INTRO!$E$41=\"Non-endemic\"),0,IF(AND(OR(COUNTRY_INFO!$H117=0,COUNTRY_INFO!$H117=4,COUNTRY_INFO!$H117=99),OR(COUNTRY_INFO!$J117=0,COUNTRY_INFO!$J117=4)),0,COUNTRY_INFO!$F117))","v":49009},72053,{"$f":"IF(AND(INTRO!$E$37=\"Non-endemic\",INTRO!$E$41=\"Non-endemic\"),0,COUNTRY_INFO!P117)","v":0},{"$f":"IF(AND(INTRO!$E$37=\"Non-endemic\",INTRO!$E$41=\"Non-endemic\"),0,COUNTRY_INFO!R117)","v":2},{"$f":"IF(INTRO!$E$39=\"Non-endemic\",IF($G117=1,DEC!I117,0),IF($G117=1,IVM!G117,0))","v":0},"MBD",{"$f":"IF($J117=\"ALB\", IF(INTRO!$E$39=\"Non-endemic\", IF($H117<>0, IF($I117=0, $D117*$H117, $D117*($H117-$G117)), 0), $D117*$H117), 0)","v":0},0,null,0,{"$f":"IF($J117=\"MBD\", IF(INTRO!$E$39=\"Non-endemic\", IF($H117<>0, IF($I117=0, $D117*$H117, $D117*($H117-$G117)), 0), $D117*$H117), 0)","v":46088},98018,null,144106,null,0,0,null,0,0,null,98018,654]
[{"$f":"IF(AND(INTRO!$E$37=\"Non-endemic\",INTRO!$E$41=\"Non-endemic\"),\" \",IF(COUNTRY_INFO!A118=0,\" \",COUNTRY_INFO!A118))","v":"Uganda"},{"$f":"IF(AND(INTRO!$E$37=\"Non-endemic\",INTRO!$E$41=\"Non-endemic\"),\" \",IF(COUNTRY_INFO!B118=0,\" \",COUNTRY_INFO!B118))","v":"WESTERN"},{"$f":"IF(AND(INTRO!$E$37=\"Non-endemic\",INTRO!$E$41=\"Non-endemic\"),\" \",IF(COUNTRY_INFO!C118=0,\" \",COUNTRY_INFO!C118))","v":"BULIISA"},{"$f":"IF(AND(INTRO!$E$37=\"Non-endemic\",INTRO!$E$41=\"Non-endemic\"),0,IF(AND(OR(COUNTRY_INFO!$H118=0,COUNTRY_INFO!$H118=4,COUNTRY_INFO!$H118=99),OR(COUNTRY_INFO!$J118=0,COUNTRY_INFO!$J118=4)),0,COUNTRY_INFO!$E118))","v":21097},{"$f":"IF(AND(INTRO!$E$37=\"Non-endemic\",INTRO!$E$41=\"Non-endemic\"),0,IF(AND(OR(COUNTRY_INFO!$H118=0,COUNTRY_INFO!$H118=4,COUNTRY_INFO!$H118=99),OR(COUNTRY_INFO!$J118=0,COUNTRY_INFO!$J118=4)),0,COUNTRY_INFO!$F118))","v":44868},65965,{"$f":"IF(AND(INTRO!$E$37=\"Non-endemic\",INTRO!$E$41=\"Non-endemic\"),0,COUNTRY_INFO!P118)","v":0},{"$f":"IF(AND(INTRO!$E$37=\"Non-endemic\",INTRO!$E$41=\"Non-endemic\"),0,COUNTRY_INFO!R118)","v":2},{"$f":"IF(INTRO!$E$39=\"Non-endemic\",IF($G118=1,DEC!I118,0),IF($G118=1,IVM!G118,0))","v":0},"MBD",{"$f":"IF($J118=\"ALB\", IF(INTRO!$E$39=\"Non-endemic\", IF($H118<>0, IF($I118=0, $D118*$H118, $D118*($H118-$G118)), 0), $D118*$H118), 0)","v":0},0,null,0,{"$f":"IF($J118=\"MBD\", IF(INTRO!$E$39=\"Non-endemic\", IF($H118<>0, IF($I118=0, $D118*$H118, $D118*($H118-$G118)), 0), $D118*$H118), 0)","v":42194},89736,null,131930,null,0,0,null,0,0,null,89736,599]
[{"$f":"IF(AND(INTRO!$E$37=\"Non-endemic\",INTRO!$E$41=\"Non-endemic\"),\" \",IF(COUNTRY_INFO!A119=0,\" \",COUNTRY_INFO!A119))","v":"Uganda"},{"$f":"IF(AND(INTRO!$E$37=\"Non-endemic\",INTRO!$E$41=\"Non-endemic\"),\" \",IF(COUNTRY_INFO!B119=0,\" \",COUNTRY_INFO!B119))","v":"WESTERN"},{"$f":"IF(AND(INTRO!$E$37=\"Non-endemic\",INTRO!$E$41=\"Non-endemic\"),\" \",IF(COUNTRY_INFO!C119=0,\" \",COUNTRY_INFO!C119))","v":"BUNDIBUGYO"},{"$f":"IF(AND(INTRO!$E$37=\"Non-endemic\",INTRO!$E$41=\"Non-endemic\"),0,IF(AND(OR(COUNTRY_INFO!$H119=0,COUNTRY_INFO!$H119=4,COUNTRY_INFO!$H119=99),OR(COUNTRY_INFO!$J119=0,COUNTRY_INFO!$J119=4)),0,COUNTRY_INFO!$E119))","v":41638},{"$f":"IF(AND(INTRO!$E$37=\"Non-endemic\",INTRO!$E$41=\"Non-endemic\"),0,IF(AND(OR(COUNTRY_INFO!$H119=0,COUNTRY_INFO!$H119=4,COUNTRY_INFO!$H119=99),OR(COUNTRY_INFO!$J119=0,COUNTRY_INFO!$J119=4)),0,COUNTRY_INFO!$F119))","v":88553},130191,{"$f":"IF(AND(INTRO!$E$37=\"Non-endemic\",INTRO!$E$41=\"Non-endemic\"),0,COUNTRY_INFO!P119)","v":0},{"$f":"IF(AND(INTRO!$E$37=\"Non-endemic\",INTRO!$E$41=\"Non-endemic\"),0,COUNTRY_INFO!R119)","v":2},{"$f":"IF(INTRO!$E$39=\"Non-endemic\",IF($G119=1,DEC!I119,0),IF($G119=1,IVM!G119,0))","v":0},"MBD",{"$f":"IF($J119=\"ALB\", IF(INTRO!$E$39=\"Non-endemic\", IF($H119<>0, IF($I119=0, $D119*$H119, $D119*($H119-$G119)), 0), $D119*$H119), 0)","v":0},0,null,0,{"$f":"IF($J119=\"MBD\", IF(INTRO!$E$39=\"Non-endemic\", IF($H119<>0, IF($I119=0, $D119*$H119, $D119*($H119-$G119)), 0), $D119*$H119), 0)","v":83276},177106,null,260382,null,0,0,null,0,0,null,177106,1181]
[{"$f":"IF(AND(INTRO!$E$37=\"Non-endemic\",INTRO!$E$41=\"Non-endemic\"),\" \",IF(COUNTRY_INFO!A120=0,\" \",COUNTRY_INFO!A120))","v":"Uganda"},{"$f":"IF(AND(INTRO!$E$37=\"Non-endemic\",INTRO!$E$41=\"Non-endemic\"),\" \",IF(COUNTRY_INFO!B120=0,\" \",COUNTRY_INFO!B120))","v":"WESTERN"},{"$f":"IF(AND(INTRO!$E$37=\"Non-endemic\",INTRO!$E$41=\"Non-endemic\"),\" \",IF(COUNTRY_INFO!C120=0,\" \",COUNTRY_INFO!C120))","v":"BUNYANGABU"},{"$f":"IF(AND(INTRO!$E$37=\"Non-endemic\",INTRO!$E$41=\"Non-endemic\"),0,IF(AND(OR(COUNTRY_INFO!$H120=0,COUNTRY_INFO!$H120=4,COUNTRY_INFO!$H120=99),OR(COUNTRY_INFO!$J120=0,COUNTRY_INFO!$J120=4)),0,COUNTRY_INFO!$E120))","v":31820},{"$f":"IF(AND(INTRO!$E$37=\"Non-endemic\",INTRO!$E$41=\"Non-endemic\"),0,IF(AND(OR(COUNTRY_INFO!$H120=0,COUNTRY_INFO!$H120=4,COUNTRY_INFO!$H120=99),OR(COUNTRY_INFO!$J120=0,COUNTRY_INFO!$J120=4)),0,COUNTRY_INFO!$F120))","v":67673},99493,{"$f":"IF(AND(INTRO!$E$37=\"Non-endemic\",INTRO!$E$41=\"Non-endemic\"),0,COUNTRY_INFO!P120)","v":0},{"$f":"IF(AND(INTRO!$E$37=\"Non-endemic\",INTRO!$E$41=\"Non-endemic\"),0,COUNTRY_INFO!R120)","v":2},{"$f":"IF(INTRO!$E$39=\"Non-endemic\",IF($G120=1,DEC!I120,0),IF($G120=1,IVM!G120,0))","v":0},"MBD",{"$f":"IF($J120=\"ALB\", IF(INTRO!$E$39=\"Non-endemic\", IF($H120<>0, IF($I120=0, $D120*$H120, $D120*($H120-$G120)), 0), $D120*$H120), 0)","v":0},0,null,0,{"$f":"IF($J120=\"MBD\", IF(INTRO!$E$39=\"Non-endemic\", IF($H120<>0, IF($I120=0, $D120*$H120, $D120*($H120-$G120)), 0), $D120*$H120), 0)","v":63640},135346,null,198986,null,0,0,null,0,0,null,135346,903]
[{"$f":"IF(AND(INTRO!$E$37=\"Non-endemic\",INTRO!$E$41=\"Non-endemic\"),\" \",IF(COUNTRY_INFO!A121=0,\" \",COUNTRY_INFO!A121))","v":"Uganda"},{"$f":"IF(AND(INTRO!$E$37=\"Non-endemic\",INTRO!$E$41=\"Non-endemic\"),\" \",IF(COUNTRY_INFO!B121=0,\" \",COUNTRY_INFO!B121))","v":"WESTERN"},{"$f":"IF(AND(INTRO!$E$37=\"Non-endemic\",INTRO!$E$41=\"Non-endemic\"),\" \",IF(COUNTRY_INFO!C121=0,\" \",COUNTRY_INFO!C121))","v":"BUSHENYI"},{"$f":"IF(AND(INTRO!$E$37=\"Non-endemic\",INTRO!$E$41=\"Non-endemic\"),0,IF(AND(OR(COUNTRY_INFO!$H121=0,COUNTRY_INFO!$H121=4,COUNTRY_INFO!$H121=99),OR(COUNTRY_INFO!$J121=0,COUNTRY_INFO!$J121=4)),0,COUNTRY_INFO!$E121))","v":43771},{"$f":"IF(AND(INTRO!$E$37=\"Non-endemic\",INTRO!$E$41=\"Non-endemic\"),0,IF(AND(OR(COUNTRY_INFO!$H121=0,COUNTRY_INFO!$H121=4,COUNTRY_INFO!$H121=99),OR(COUNTRY_INFO!$J121=0,COUNTRY_INFO!$J121=4)),0,COUNTRY_INFO!$F121))","v":93090},136861,{"$f":"IF(AND(INTRO!$E$37=\"Non-endemic\",INTRO!$E$41=\"Non-endemic\"),0,COUNTRY_INFO!P121)","v":0},{"$f":"IF(AND(INTRO!$E$37=\"Non-endemic\",INTRO!$E$41=\"Non-endemic\"),0,COUNTRY_INFO!R121)","v":2},{"$f":"IF(INTRO!$E$39=\"Non-endemic\",IF($G121=1,DEC!I121,0),IF($G121=1,IVM!G121,0))","v":0},"MBD",{"$f":"IF($J121=\"ALB\", IF(INTRO!$E$39=\"Non-endemic\", IF($H121<>0, IF($I121=0, $D121*$H121, $D121*($H121-$G121)), 0), $D121*$H121), 0)","v":0},0,null,0,{"$f":"IF($J121=\"MBD\", IF(INTRO!$E$39=\"Non-endemic\", IF($H121<>0, IF($I121=0, $D121*$H121, $D121*($H121-$G121)), 0), $D121*$H121), 0)","v":87542},186180,null,273722,null,0,0,null,0,0,null,186180,1242]
[{"$f":"IF(AND(INTRO!$E$37=\"Non-endemic\",INTRO!$E$41=\"Non-endemic\"),\" \",IF(COUNTRY_INFO!A122=0,\" \",COUNTRY_INFO!A122))","v":"Uganda"},{"$f":"IF(AND(INTRO!$E$37=\"Non-endemic\",INTRO!$E$41=\"Non-endemic\"),\" \",IF(COUNTRY_INFO!B122=0,\" \",COUNTRY_INFO!B122))","v":"WESTERN"},{"$f":"IF(AND(INTRO!$E$37=\"Non-endemic\",INTRO!$E$41=\"Non-endemic\"),\" \",IF(COUNTRY_INFO!C122=0,\" \",COUNTRY_INFO!C122))","v":"Fortportal City"},{"$f":"IF(AND(INTRO!$E$37=\"Non-endemic\",INTRO!$E$41=\"Non-endemic\"),0,IF(AND(OR(COUNTRY_INFO!$H122=0,COUNTRY_INFO!$H122=4,COUNTRY_INFO!$H122=99),OR(COUNTRY_INFO!$J122=0,COUNTRY_INFO!$J122=4)),0,COUNTRY_INFO!$E122))","v":13421},{"$f":"IF(AND(INTRO!$E$37=\"Non-endemic\",INTRO!$E$41=\"Non-endemic\"),0,IF(AND(OR(COUNTRY_INFO!$H122=0,COUNTRY_INFO!$H122=4,COUNTRY_INFO!$H122=99),OR(COUNTRY_INFO!$J122=0,COUNTRY_INFO!$J122=4)),0,COUNTRY_INFO!$F122))","v":28543},41964,{"$f":"IF(AND(INTRO!$E$37=\"Non-endemic\",INTRO!$E$41=\"Non-endemic\"),0,COUNTRY_INFO!P122)","v":0},{"$f":"IF(AND(INTRO!$E$37=\"Non-endemic\",INTRO!$E$41=\"Non-endemic\"),0,COUNTRY_INFO!R122)","v":2},{"$f":"IF(INTRO!$E$39=\"Non-endemic\",IF($G122=1,DEC!I122,0),IF($G122=1,IVM!G122,0))","v":0},"MBD",{"$f":"IF($J122=\"ALB\", IF(INTRO!$E$39=\"Non-endemic\", IF($H122<>0, IF($I122=0, $D122*$H122, $D122*($H122-$G122)), 0), $D122*$H122), 0)","v":0},0,null,0,{"$f":"IF($J122=\"MBD\", IF(INTRO!$E$39=\"Non-endemic\", IF($H122<>0, IF($I122=0, $D122*$H122, $D122*($H122-$G122)), 0), $D122*$H122), 0)","v":26842},57086,null,83928,null,0,0,null,0,0,null,57086,381]
[{"$f":"IF(AND(INTRO!$E$37=\"Non-endemic\",INTRO!$E$41=\"Non-endemic\"),\" \",IF(COUNTRY_INFO!A123=0,\" \",COUNTRY_INFO!A123))","v":"Uganda"},{"$f":"IF(AND(INTRO!$E$37=\"Non-endemic\",INTRO!$E$41=\"Non-endemic\"),\" \",IF(COUNTRY_INFO!B123=0,\" \",COUNTRY_INFO!B123))","v":"WESTERN"},{"$f":"IF(AND(INTRO!$E$37=\"Non-endemic\",INTRO!$E$41=\"Non-endemic\"),\" \",IF(COUNTRY_INFO!C123=0,\" \",COUNTRY_INFO!C123))","v":"HOIMA"},{"$f":"IF(AND(INTRO!$E$37=\"Non-endemic\",INTRO!$E$41=\"Non-endemic\"),0,IF(AND(OR(COUNTRY_INFO!$H123=0,COUNTRY_INFO!$H123=4,COUNTRY_INFO!$H123=99),OR(COUNTRY_INFO!$J123=0,COUNTRY_INFO!$J123=4)),0,COUNTRY_INFO!$E123))","v":38649},{"$f":"IF(AND(INTRO!$E$37=\"Non-endemic\",INTRO!$E$41=\"Non-endemic\"),0,IF(AND(OR(COUNTRY_INFO!$H123=0,COUNTRY_INFO!$H123=4,COUNTRY_INFO!$H123=99),OR(COUNTRY_INFO!$J123=0,COUNTRY_INFO!$J123=4)),0,COUNTRY_INFO!$F123))","v":82196},120845,{"$f":"IF(AND(INTRO!$E$37=\"Non-endemic\",INTRO!$E$41=\"Non-endemic\"),0,COUNTRY_INFO!P123)","v":0},{"$f":"IF(AND(INTRO!$E$37=\"Non-endemic\",INTRO!$E$41=\"Non-endemic\"),0,COUNTRY_INFO!R123)","v":2},{"$f":"IF(INTRO!$E$39=\"Non-endemic\",IF($G123=1,DEC!I123,0),IF($G123=1,IVM!G123,0))","v":0},"MBD",{"$f":"IF($J123=\"ALB\", IF(INTRO!$E$39=\"Non-endemic\", IF($H123<>0, IF($I123=0, $D123*$H123, $D123*($H123-$G123)), 0), $D123*$H123), 0)","v":0},0,null,0,{"$f":"IF($J123=\"MBD\", IF(INTRO!$E$39=\"Non-endemic\", IF($H123<>0, IF($I123=0, $D123*$H123, $D123*($H123-$G123)), 0), $D123*$H123), 0)","v":77298},164392,null,241690,null,0,0,null,0,0,null,164392,1096]
[{"$f":"IF(AND(INTRO!$E$37=\"Non-endemic\",INTRO!$E$41=\"Non-endemic\"),\" \",IF(COUNTRY_INFO!A124=0,\" \",COUNTRY_INFO!A124))","v":"Uganda"},{"$f":"IF(AND(INTRO!$E$37=\"Non-endemic\",INTRO!$E$41=\"Non-endemic\"),\" \",IF(COUNTRY_INFO!B124=0,\" \",COUNTRY_INFO!B124))","v":"WESTERN"},{"$f":"IF(AND(INTRO!$E$37=\"Non-endemic\",INTRO!$E$41=\"Non-endemic\"),\" \",IF(COUNTRY_INFO!C124=0,\" \",COUNTRY_INFO!C124))","v":"Hoima City"},{"$f":"IF(AND(INTRO!$E$37=\"Non-endemic\",INTRO!$E$41=\"Non-endemic\"),0,IF(AND(OR(COUNTRY_INFO!$H124=0,COUNTRY_INFO!$H124=4,COUNTRY_INFO!$H124=99),OR(COUNTRY_INFO!$J124=0,COUNTRY_INFO!$J124=4)),0,COUNTRY_INFO!$E124))","v":18692},{"$f":"IF(AND(INTRO!$E$37=\"Non-endemic\",INTRO!$E$41=\"Non-endemic\"),0,IF(AND(OR(COUNTRY_INFO!$H124=0,COUNTRY_INFO!$H124=4,COUNTRY_INFO!$H124=99),OR(COUNTRY_INFO!$J124=0,COUNTRY_INFO!$J124=4)),0,COUNTRY_INFO!$F124))","v":39753},58445,{"$f":"IF(AND(INTRO!$E$37=\"Non-endemic\",INTRO!$E$41=\"Non-endemic\"),0,COUNTRY_INFO!P124)","v":0},{"$f":"IF(AND(INTRO!$E$37=\"Non-endemic\",INTRO!$E$41=\"Non-endemic\"),0,COUNTRY_INFO!R124)","v":2},{"$f":"IF(INTRO!$E$39=\"Non-endemic\",IF($G124=1,DEC!I124,0),IF($G124=1,IVM!G124,0))","v":0},"MBD",{"$f":"IF($J124=\"ALB\", IF(INTRO!$E$39=\"Non-endemic\", IF($H124<>0, IF($I124=0, $D124*$H124, $D124*($H124-$G124)), 0), $D124*$H124), 0)","v":0},0,null,0,{"$f":"IF($J124=\"MBD\", IF(INTRO!$E$39=\"Non-endemic\", IF($H124<>0, IF($I124=0, $D124*$H124, $D124*($H124-$G124)), 0), $D124*$H124), 0)","v":37384},79506,null,116890,null,0,0,null,0,0,null,79506,531]
[{"$f":"IF(AND(INTRO!$E$37=\"Non-endemic\",INTRO!$E$41=\"Non-endemic\"),\" \",IF(COUNTRY_INFO!A125=0,\" \",COUNTRY_INFO!A125))","v":"Uganda"},{"$f":"IF(AND(INTRO!$E$37=\"Non-endemic\",INTRO!$E$41=\"Non-endemic\"),\" \",IF(COUNTRY_INFO!B125=0,\" \",COUNTRY_INFO!B125))","v":"WESTERN"},{"$f":"IF(AND(INTRO!$E$37=\"Non-endemic\",INTRO!$E$41=\"Non-endemic\"),\" \",IF(COUNTRY_INFO!C125=0,\" \",COUNTRY_INFO!C125))","v":"IBANDA"},{"$f":"IF(AND(INTRO!$E$37=\"Non-endemic\",INTRO!$E$41=\"Non-endemic\"),0,IF(AND(OR(COUNTRY_INFO!$H125=0,COUNTRY_INFO!$H125=4,COUNTRY_INFO!$H125=99),OR(COUNTRY_INFO!$J125=0,COUNTRY_INFO!$J125=4)),0,COUNTRY_INFO!$E125))","v":46085},{"$f":"IF(AND(INTRO!$E$37=\"Non-endemic\",INTRO!$E$41=\"Non-endemic\"),0,IF(AND(OR(COUNTRY_INFO!$H125=0,COUNTRY_INFO!$H125=4,COUNTRY_INFO!$H125=99),OR(COUNTRY_INFO!$J125=0,COUNTRY_INFO!$J125=4)),0,COUNTRY_INFO!$F125))","v":98011},144096,{"$f":"IF(AND(INTRO!$E$37=\"Non-endemic\",INTRO!$E$41=\"Non-endemic\"),0,COUNTRY_INFO!P125)","v":0},{"$f":"IF(AND(INTRO!$E$37=\"Non-endemic\",INTRO!$E$41=\"Non-endemic\"),0,COUNTRY_INFO!R125)","v":2},{"$f":"IF(INTRO!$E$39=\"Non-endemic\",IF($G125=1,DEC!I125,0),IF($G125=1,IVM!G125,0))","v":0},"MBD",{"$f":"IF($J125=\"ALB\", IF(INTRO!$E$39=\"Non-endemic\", IF($H125<>0, IF($I125=0, $D125*$H125, $D125*($H125-$G125)), 0), $D125*$H125), 0)","v":0},0,null,0,{"$f":"IF($J125=\"MBD\", IF(INTRO!$E$39=\"Non-endemic\", IF($H125<>0, IF($I125=0, $D125*$H125, $D125*($H125-$G125)), 0), $D125*$H125), 0)","v":92170},196022,null,288192,null,0,0,null,0,0,null,196022,1307]
[{"$f":"IF(AND(INTRO!$E$37=\"Non-endemic\",INTRO!$E$41=\"Non-endemic\"),\" \",IF(COUNTRY_INFO!A126=0,\" \",COUNTRY_INFO!A126))","v":"Uganda"},{"$f":"IF(AND(INTRO!$E$37=\"Non-endemic\",INTRO!$E$41=\"Non-endemic\"),\" \",IF(COUNTRY_INFO!B126=0,\" \",COUNTRY_INFO!B126))","v":"WESTERN"},{"$f":"IF(AND(INTRO!$E$37=\"Non-endemic\",INTRO!$E$41=\"Non-endemic\"),\" \",IF(COUNTRY_INFO!C126=0,\" \",COUNTRY_INFO!C126))","v":"ISINGIRO"},{"$f":"IF(AND(INTRO!$E$37=\"Non-endemic\",INTRO!$E$41=\"Non-endemic\"),0,IF(AND(OR(COUNTRY_INFO!$H126=0,COUNTRY_INFO!$H126=4,COUNTRY_INFO!$H126=99),OR(COUNTRY_INFO!$J126=0,COUNTRY_INFO!$J126=4)),0,COUNTRY_INFO!$E126))","v":91417},{"$f":"IF(AND(INTRO!$E$37=\"Non-endemic\",INTRO!$E$41=\"Non-endemic\"),0,IF(AND(OR(COUNTRY_INFO!$H126=0,COUNTRY_INFO!$H126=4,COUNTRY_INFO!$H126=99),OR(COUNTRY_INFO!$J126=0,COUNTRY_INFO!$J126=4)),0,COUNTRY_INFO!$F126))","v":194421},285838,{"$f":"IF(AND(INTRO!$E$37=\"Non-endemic\",INTRO!$E$41=\"Non-endemic\"),0,COUNTRY_INFO!P126)","v":0},{"$f":"IF(AND(INTRO!$E$37=\"Non-endemic\",INTRO!$E$41=\"Non-endemic\"),0,COUNTRY_INFO!R126)","v":2},{"$f":"IF(INTRO!$E$39=\"Non-endemic\",IF($G126=1,DEC!I126,0),IF($G126=1,IVM!G126,0))","v":0},"MBD",{"$f":"IF($J126=\"ALB\", IF(INTRO!$E$39=\"Non-endemic\", IF($H126<>0, IF($I126=0, $D126*$H126, $D126*($H126-$G126)), 0), $D126*$H126), 0)","v":0},0,null,0,{"$f":"IF($J126=\"MBD\", IF(INTRO!$E$39=\"Non-endemic\", IF($H126<>0, IF($I126=0, $D126*$H126, $D126*($H126-$G126)), 0), $D126*$H126), 0)","v":182834},388842,null,571676,null,0,0,null,0,0,null,388842,2593]
[{"$f":"IF(AND(INTRO!$E$37=\"Non-endemic\",INTRO!$E$41=\"Non-endemic\"),\" \",IF(COUNTRY_INFO!A127=0,\" \",COUNTRY_INFO!A127))","v":"Uganda"},{"$f":"IF(AND(INTRO!$E$37=\"Non-endemic\",INTRO!$E$41=\"Non-endemic\"),\" \",IF(COUNTRY_INFO!B127=0,\" \",COUNTRY_INFO!B127))","v":"WESTERN"},{"$f":"IF(AND(INTRO!$E$37=\"Non-endemic\",INTRO!$E$41=\"Non-endemic\"),\" \",IF(COUNTRY_INFO!C127=0,\" \",COUNTRY_INFO!C127))","v":"KABALE"},{"$f":"IF(AND(INTRO!$E$37=\"Non-endemic\",INTRO!$E$41=\"Non-endemic\"),0,IF(AND(OR(COUNTRY_INFO!$H127=0,COUNTRY_INFO!$H127=4,COUNTRY_INFO!$H127=99),OR(COUNTRY_INFO!$J127=0,COUNTRY_INFO!$J127=4)),0,COUNTRY_INFO!$E127))","v":43192},{"$f":"IF(AND(INTRO!$E$37=\"Non-endemic\",INTRO!$E$41=\"Non-endemic\"),0,IF(AND(OR(COUNTRY_INFO!$H127=0,COUNTRY_INFO!$H127=4,COUNTRY_INFO!$H127=99),OR(COUNTRY_INFO!$J127=0,COUNTRY_INFO!$J127=4)),0,COUNTRY_INFO!$F127))","v":91859},135051,{"$f":"IF(AND(INTRO!$E$37=\"Non-endemic\",INTRO!$E$41=\"Non-endemic\"),0,COUNTRY_INFO!P127)","v":0},{"$f":"IF(AND(INTRO!$E$37=\"Non-endemic\",INTRO!$E$41=\"Non-endemic\"),0,COUNTRY_INFO!R127)","v":2},{"$f":"IF(INTRO!$E$39=\"Non-endemic\",IF($G127=1,DEC!I127,0),IF($G127=1,IVM!G127,0))","v":0},"MBD",{"$f":"IF($J127=\"ALB\", IF(INTRO!$E$39=\"Non-endemic\", IF($H127<>0, IF($I127=0, $D127*$H127, $D127*($H127-$G127)), 0), $D127*$H127), 0)","v":0},0,null,0,{"$f":"IF($J127=\"MBD\", IF(INTRO!$E$39=\"Non-endemic\", IF($H127<>0, IF($I127=0, $D127*$H127, $D127*($H127-$G127)), 0), $D127*$H127), 0)","v":86384},183718,null,270102,null,0,0,null,0,0,null,183718,1225]
[{"$f":"IF(AND(INTRO!$E$37=\"Non-endemic\",INTRO!$E$41=\"Non-endemic\"),\" \",IF(COUNTRY_INFO!A128=0,\" \",COUNTRY_INFO!A128))","v":"Uganda"},{"$f":"IF(AND(INTRO!$E$37=\"Non-endemic\",INTRO!$E$41=\"Non-endemic\"),\" \",IF(COUNTRY_INFO!B128=0,\" \",COUNTRY_INFO!B128))","v":"WESTERN"},{"$f":"IF(AND(INTRO!$E$37=\"Non-endemic\",INTRO!$E$41=\"Non-endemic\"),\" \",IF(COUNTRY_INFO!C128=0,\" \",COUNTRY_INFO!C128))","v":"KABAROLE"},{"$f":"IF(AND(INTRO!$E$37=\"Non-endemic\",INTRO!$E$41=\"Non-endemic\"),0,IF(AND(OR(COUNTRY_INFO!$H128=0,COUNTRY_INFO!$H128=4,COUNTRY_INFO!$H128=99),OR(COUNTRY_INFO!$J128=0,COUNTRY_INFO!$J128=4)),0,COUNTRY_INFO!$E128))","v":42852},{"$f":"IF(AND(INTRO!$E$37=\"Non-endemic\",INTRO!$E$41=\"Non-endemic\"),0,IF(AND(OR(COUNTRY_INFO!$H128=0,COUNTRY_INFO!$H128=4,COUNTRY_INFO!$H128=99),OR(COUNTRY_INFO!$J128=0,COUNTRY_INFO!$J128=4)),0,COUNTRY_INFO!$F128))","v":91137},133989,{"$f":"IF(AND(INTRO!$E$37=\"Non-endemic\",INTRO!$E$41=\"Non-endemic\"),0,COUNTRY_INFO!P128)","v":0},{"$f":"IF(AND(INTRO!$E$37=\"Non-endemic\",INTRO!$E$41=\"Non-endemic\"),0,COUNTRY_INFO!R128)","v":2},{"$f":"IF(INTRO!$E$39=\"Non-endemic\",IF($G128=1,DEC!I128,0),IF($G128=1,IVM!G128,0))","v":0},"MBD",{"$f":"IF($J128=\"ALB\", IF(INTRO!$E$39=\"Non-endemic\", IF($H128<>0, IF($I128=0, $D128*$H128, $D128*($H128-$G128)), 0), $D128*$H128), 0)","v":0},0,null,0,{"$f":"IF($J128=\"MBD\", IF(INTRO!$E$39=\"Non-endemic\", IF($H128<>0, IF($I128=0, $D128*$H128, $D128*($H128-$G128)), 0), $D128*$H128), 0)","v":85704},182274,null,267978,null,0,0,null,0,0,null,182274,1216]
[{"$f":"IF(AND(INTRO!$E$37=\"Non-endemic\",INTRO!$E$41=\"Non-endemic\"),\" \",IF(COUNTRY_INFO!A129=0,\" \",COUNTRY_INFO!A129))","v":"Uganda"},{"$f":"IF(AND(INTRO!$E$37=\"Non-endemic\",INTRO!$E$41=\"Non-endemic\"),\" \",IF(COUNTRY_INFO!B129=0,\" \",COUNTRY_INFO!B129))","v":"WESTERN"},{"$f":"IF(AND(INTRO!$E$37=\"Non-endemic\",INTRO!$E$41=\"Non-endemic\"),\" \",IF(COUNTRY_INFO!C129=0,\" \",COUNTRY_INFO!C129))","v":"KAGADI"},{"$f":"IF(AND(INTRO!$E$37=\"Non-endemic\",INTRO!$E$41=\"Non-endemic\"),0,IF(AND(OR(COUNTRY_INFO!$H129=0,COUNTRY_INFO!$H129=4,COUNTRY_INFO!$H129=99),OR(COUNTRY_INFO!$J129=0,COUNTRY_INFO!$J129=4)),0,COUNTRY_INFO!$E129))","v":65540},{"$f":"IF(AND(INTRO!$E$37=\"Non-endemic\",INTRO!$E$41=\"Non-endemic\"),0,IF(AND(OR(COUNTRY_INFO!$H129=0,COUNTRY_INFO!$H129=4,COUNTRY_INFO!$H129=99),OR(COUNTRY_INFO!$J129=0,COUNTRY_INFO!$J129=4)),0,COUNTRY_INFO!$F129))","v":139387},204927,{"$f":"IF(AND(INTRO!$E$37=\"Non-endemic\",INTRO!$E$41=\"Non-endemic\"),0,COUNTRY_INFO!P129)","v":0},{"$f":"IF(AND(INTRO!$E$37=\"Non-endemic\",INTRO!$E$41=\"Non-endemic\"),0,COUNTRY_INFO!R129)","v":2},{"$f":"IF(INTRO!$E$39=\"Non-endemic\",IF($G129=1,DEC!I129,0),IF($G129=1,IVM!G129,0))","v":0},"MBD",{"$f":"IF($J129=\"ALB\", IF(INTRO!$E$39=\"Non-endemic\", IF($H129<>0, IF($I129=0, $D129*$H129, $D129*($H129-$G129)), 0), $D129*$H129), 0)","v":0},0,null,0,{"$f":"IF($J129=\"MBD\", IF(INTRO!$E$39=\"Non-endemic\", IF($H129<>0, IF($I129=0, $D129*$H129, $D129*($H129-$G129)), 0), $D129*$H129), 0)","v":131080},278774,null,409854,null,0,0,null,0,0,null,278774,1859]
[{"$f":"IF(AND(INTRO!$E$37=\"Non-endemic\",INTRO!$E$41=\"Non-endemic\"),\" \",IF(COUNTRY_INFO!A130=0,\" \",COUNTRY_INFO!A130))","v":"Uganda"},{"$f":"IF(AND(INTRO!$E$37=\"Non-endemic\",INTRO!$E$41=\"Non-endemic\"),\" \",IF(COUNTRY_INFO!B130=0,\" \",COUNTRY_INFO!B130))","v":"WESTERN"},{"$f":"IF(AND(INTRO!$E$37=\"Non-endemic\",INTRO!$E$41=\"Non-endemic\"),\" \",IF(COUNTRY_INFO!C130=0,\" \",COUNTRY_INFO!C130))","v":"KAKUMIRO"},{"$f":"IF(AND(INTRO!$E$37=\"Non-endemic\",INTRO!$E$41=\"Non-endemic\"),0,IF(AND(OR(COUNTRY_INFO!$H130=0,COUNTRY_INFO!$H130=4,COUNTRY_INFO!$H130=99),OR(COUNTRY_INFO!$J130=0,COUNTRY_INFO!$J130=4)),0,COUNTRY_INFO!$E130))","v":55056},{"$f":"IF(AND(INTRO!$E$37=\"Non-endemic\",INTRO!$E$41=\"Non-endemic\"),0,IF(AND(OR(COUNTRY_INFO!$H130=0,COUNTRY_INFO!$H130=4,COUNTRY_INFO!$H130=99),OR(COUNTRY_INFO!$J130=0,COUNTRY_INFO!$J130=4)),0,COUNTRY_INFO!$F130))","v":117091},172147,{"$f":"IF(AND(INTRO!$E$37=\"Non-endemic\",INTRO!$E$41=\"Non-endemic\"),0,COUNTRY_INFO!P130)","v":0},{"$f":"IF(AND(INTRO!$E$37=\"Non-endemic\",INTRO!$E$41=\"Non-endemic\"),0,COUNTRY_INFO!R130)","v":2},{"$f":"IF(INTRO!$E$39=\"Non-endemic\",IF($G130=1,DEC!I130,0),IF($G130=1,IVM!G130,0))","v":0},"MBD",{"$f":"IF($J130=\"ALB\", IF(INTRO!$E$39=\"Non-endemic\", IF($H130<>0, IF($I130=0, $D130*$H130, $D130*($H130-$G130)), 0), $D130*$H130), 0)","v":0},0,null,0,{"$f":"IF($J130=\"MBD\", IF(INTRO!$E$39=\"Non-endemic\", IF($H130<>0, IF($I130=0, $D130*$H130, $D130*($H130-$G130)), 0), $D130*$H130), 0)","v":110112},234182,null,344294,null,0,0,null,0,0,null,234182,1562]
[{"$f":"IF(AND(INTRO!$E$37=\"Non-endemic\",INTRO!$E$41=\"Non-endemic\"),\" \",IF(COUNTRY_INFO!A131=0,\" \",COUNTRY_INFO!A131))","v":"Uganda"},{"$f":"IF(AND(INTRO!$E$37=\"Non-endemic\",INTRO!$E$41=\"Non-endemic\"),\" \",IF(COUNTRY_INFO!B131=0,\" \",COUNTRY_INFO!B131))","v":"WESTERN"},{"$f":"IF(AND(INTRO!$E$37=\"Non-endemic\",INTRO!$E$41=\"Non-endemic\"),\" \",IF(COUNTRY_INFO!C131=0,\" \",COUNTRY_INFO!C131))","v":"KAMWENGE"},{"$f":"IF(AND(INTRO!$E$37=\"Non-endemic\",INTRO!$E$41=\"Non-endemic\"),0,IF(AND(OR(COUNTRY_INFO!$H131=0,COUNTRY_INFO!$H131=4,COUNTRY_INFO!$H131=99),OR(COUNTRY_INFO!$J131=0,COUNTRY_INFO!$J131=4)),0,COUNTRY_INFO!$E131))","v":51250},{"$f":"IF(AND(INTRO!$E$37=\"Non-endemic\",INTRO!$E$41=\"Non-endemic\"),0,IF(AND(OR(COUNTRY_INFO!$H131=0,COUNTRY_INFO!$H131=4,COUNTRY_INFO!$H131=99),OR(COUNTRY_INFO!$J131=0,COUNTRY_INFO!$J131=4)),0,COUNTRY_INFO!$F131))","v":108995},160245,{"$f":"IF(AND(INTRO!$E$37=\"Non-endemic\",INTRO!$E$41=\"Non-endemic\"),0,COUNTRY_INFO!P131)","v":0},{"$f":"IF(AND(INTRO!$E$37=\"Non-endemic\",INTRO!$E$41=\"Non-endemic\"),0,COUNTRY_INFO!R131)","v":2},{"$f":"IF(INTRO!$E$39=\"Non-endemic\",IF($G131=1,DEC!I131,0),IF($G131=1,IVM!G131,0))","v":0},"MBD",{"$f":"IF($J131=\"ALB\", IF(INTRO!$E$39=\"Non-endemic\", IF($H131<>0, IF($I131=0, $D131*$H131, $D131*($H131-$G131)), 0), $D131*$H131), 0)","v":0},0,null,0,{"$f":"IF($J131=\"MBD\", IF(INTRO!$E$39=\"Non-endemic\", IF($H131<>0, IF($I131=0, $D131*$H131, $D131*($H131-$G131)), 0), $D131*$H131), 0)","v":102500},217990,null,320490,null,0,0,null,0,0,null,217990,1454]
[{"$f":"IF(AND(INTRO!$E$37=\"Non-endemic\",INTRO!$E$41=\"Non-endemic\"),\" \",IF(COUNTRY_INFO!A132=0,\" \",COUNTRY_INFO!A132))","v":"Uganda"},{"$f":"IF(AND(INTRO!$E$37=\"Non-endemic\",INTRO!$E$41=\"Non-endemic\"),\" \",IF(COUNTRY_INFO!B132=0,\" \",COUNTRY_INFO!B132))","v":"WESTERN"},{"$f":"IF(AND(INTRO!$E$37=\"Non-endemic\",INTRO!$E$41=\"Non-endemic\"),\" \",IF(COUNTRY_INFO!C132=0,\" \",COUNTRY_INFO!C132))","v":"KANUNGU"},{"$f":"IF(AND(INTRO!$E$37=\"Non-endemic\",INTRO!$E$41=\"Non-endemic\"),0,IF(AND(OR(COUNTRY_INFO!$H132=0,COUNTRY_INFO!$H132=4,COUNTRY_INFO!$H132=99),OR(COUNTRY_INFO!$J132=0,COUNTRY_INFO!$J132=4)),0,COUNTRY_INFO!$E132))","v":46825},{"$f":"IF(AND(INTRO!$E$37=\"Non-endemic\",INTRO!$E$41=\"Non-endemic\"),0,IF(AND(OR(COUNTRY_INFO!$H132=0,COUNTRY_INFO!$H132=4,COUNTRY_INFO!$H132=99),OR(COUNTRY_INFO!$J132=0,COUNTRY_INFO!$J132=4)),0,COUNTRY_INFO!$F132))","v":99586},146411,{"$f":"IF(AND(INTRO!$E$37=\"Non-endemic\",INTRO!$E$41=\"Non-endemic\"),0,COUNTRY_INFO!P132)","v":0},{"$f":"IF(AND(INTRO!$E$37=\"Non-endemic\",INTRO!$E$41=\"Non-endemic\"),0,COUNTRY_INFO!R132)","v":2},{"$f":"IF(INTRO!$E$39=\"Non-endemic\",IF($G132=1,DEC!I132,0),IF($G132=1,IVM!G132,0))","v":0},"MBD",{"$f":"IF($J132=\"ALB\", IF(INTRO!$E$39=\"Non-endemic\", IF($H132<>0, IF($I132=0, $D132*$H132, $D132*($H132-$G132)), 0), $D132*$H132), 0)","v":0},0,null,0,{"$f":"IF($J132=\"MBD\", IF(INTRO!$E$39=\"Non-endemic\", IF($H132<>0, IF($I132=0, $D132*$H132, $D132*($H132-$G132)), 0), $D132*$H132), 0)","v":93650},199172,null,292822,null,0,0,null,0,0,null,199172,1328]
[{"$f":"IF(AND(INTRO!$E$37=\"Non-endemic\",INTRO!$E$41=\"Non-endemic\"),\" \",IF(COUNTRY_INFO!A133=0,\" \",COUNTRY_INFO!A133))","v":"Uganda"},{"$f":"IF(AND(INTRO!$E$37=\"Non-endemic\",INTRO!$E$41=\"Non-endemic\"),\" \",IF(COUNTRY_INFO!B133=0,\" \",COUNTRY_INFO!B133))","v":"WESTERN"},{"$f":"IF(AND(INTRO!$E$37=\"Non-endemic\",INTRO!$E$41=\"Non-endemic\"),\" \",IF(COUNTRY_INFO!C133=0,\" \",COUNTRY_INFO!C133))","v":"KASESE"},{"$f":"IF(AND(INTRO!$E$37=\"Non-endemic\",INTRO!$E$41=\"Non-endemic\"),0,IF(AND(OR(COUNTRY_INFO!$H133=0,COUNTRY_INFO!$H133=4,COUNTRY_INFO!$H133=99),OR(COUNTRY_INFO!$J133=0,COUNTRY_INFO!$J133=4)),0,COUNTRY_INFO!$E133))","v":130412},{"$f":"IF(AND(INTRO!$E$37=\"Non-endemic\",INTRO!$E$41=\"Non-endemic\"),0,IF(AND(OR(COUNTRY_INFO!$H133=0,COUNTRY_INFO!$H133=4,COUNTRY_INFO!$H133=99),OR(COUNTRY_INFO!$J133=0,COUNTRY_INFO!$J133=4)),0,COUNTRY_INFO!$F133))","v":277356},407768,{"$f":"IF(AND(INTRO!$E$37=\"Non-endemic\",INTRO!$E$41=\"Non-endemic\"),0,COUNTRY_INFO!P133)","v":0},{"$f":"IF(AND(INTRO!$E$37=\"Non-endemic\",INTRO!$E$41=\"Non-endemic\"),0,COUNTRY_INFO!R133)","v":2},{"$f":"IF(INTRO!$E$39=\"Non-endemic\",IF($G133=1,DEC!I133,0),IF($G133=1,IVM!G133,0))","v":0},"MBD",{"$f":"IF($J133=\"ALB\", IF(INTRO!$E$39=\"Non-endemic\", IF($H133<>0, IF($I133=0, $D133*$H133, $D133*($H133-$G133)), 0), $D133*$H133), 0)","v":0},0,null,0,{"$f":"IF($J133=\"MBD\", IF(INTRO!$E$39=\"Non-endemic\", IF($H133<>0, IF($I133=0, $D133*$H133, $D133*($H133-$G133)), 0), $D133*$H133), 0)","v":260824},554712,null,815536,null,0,0,null,0,0,null,554712,3699]
[{"$f":"IF(AND(INTRO!$E$37=\"Non-endemic\",INTRO!$E$41=\"Non-endemic\"),\" \",IF(COUNTRY_INFO!A134=0,\" \",COUNTRY_INFO!A134))","v":"Uganda"},{"$f":"IF(AND(INTRO!$E$37=\"Non-endemic\",INTRO!$E$41=\"Non-endemic\"),\" \",IF(COUNTRY_INFO!B134=0,\" \",COUNTRY_INFO!B134))","v":"WESTERN"},{"$f":"IF(AND(INTRO!$E$37=\"Non-endemic\",INTRO!$E$41=\"Non-endemic\"),\" \",IF(COUNTRY_INFO!C134=0,\" \",COUNTRY_INFO!C134))","v":"KAZO"},{"$f":"IF(AND(INTRO!$E$37=\"Non-endemic\",INTRO!$E$41=\"Non-endemic\"),0,IF(AND(OR(COUNTRY_INFO!$H134=0,COUNTRY_INFO!$H134=4,COUNTRY_INFO!$H134=99),OR(COUNTRY_INFO!$J134=0,COUNTRY_INFO!$J134=4)),0,COUNTRY_INFO!$E134))","v":32854},{"$f":"IF(AND(INTRO!$E$37=\"Non-endemic\",INTRO!$E$41=\"Non-endemic\"),0,IF(AND(OR(COUNTRY_INFO!$H134=0,COUNTRY_INFO!$H134=4,COUNTRY_INFO!$H134=99),OR(COUNTRY_INFO!$J134=0,COUNTRY_INFO!$J134=4)),0,COUNTRY_INFO!$F134))","v":69872},102726,{"$f":"IF(AND(INTRO!$E$37=\"Non-endemic\",INTRO!$E$41=\"Non-endemic\"),0,COUNTRY_INFO!P134)","v":0},{"$f":"IF(AND(INTRO!$E$37=\"Non-endemic\",INTRO!$E$41=\"Non-endemic\"),0,COUNTRY_INFO!R134)","v":2},{"$f":"IF(INTRO!$E$39=\"Non-endemic\",IF($G134=1,DEC!I134,0),IF($G134=1,IVM!G134,0))","v":0},"MBD",{"$f":"IF($J134=\"ALB\", IF(INTRO!$E$39=\"Non-endemic\", IF($H134<>0, IF($I134=0, $D134*$H134, $D134*($H134-$G134)), 0), $D134*$H134), 0)","v":0},0,null,0,{"$f":"IF($J134=\"MBD\", IF(INTRO!$E$39=\"Non-endemic\", IF($H134<>0, IF($I134=0, $D134*$H134, $D134*($H134-$G134)), 0), $D134*$H134), 0)","v":65708},139744,null,205452,null,0,0,null,0,0,null,139744,932]
[{"$f":"IF(AND(INTRO!$E$37=\"Non-endemic\",INTRO!$E$41=\"Non-endemic\"),\" \",IF(COUNTRY_INFO!A135=0,\" \",COUNTRY_INFO!A135))","v":"Uganda"},{"$f":"IF(AND(INTRO!$E$37=\"Non-endemic\",INTRO!$E$41=\"Non-endemic\"),\" \",IF(COUNTRY_INFO!B135=0,\" \",COUNTRY_INFO!B135))","v":"WESTERN"},{"$f":"IF(AND(INTRO!$E$37=\"Non-endemic\",INTRO!$E$41=\"Non-endemic\"),\" \",IF(COUNTRY_INFO!C135=0,\" \",COUNTRY_INFO!C135))","v":"KIBAALE"},{"$f":"IF(AND(INTRO!$E$37=\"Non-endemic\",INTRO!$E$41=\"Non-endemic\"),0,IF(AND(OR(COUNTRY_INFO!$H135=0,COUNTRY_INFO!$H135=4,COUNTRY_INFO!$H135=99),OR(COUNTRY_INFO!$J135=0,COUNTRY_INFO!$J135=4)),0,COUNTRY_INFO!$E135))","v":25921},{"$f":"IF(AND(INTRO!$E$37=\"Non-endemic\",INTRO!$E$41=\"Non-endemic\"),0,IF(AND(OR(COUNTRY_INFO!$H135=0,COUNTRY_INFO!$H135=4,COUNTRY_INFO!$H135=99),OR(COUNTRY_INFO!$J135=0,COUNTRY_INFO!$J135=4)),0,COUNTRY_INFO!$F135))","v":55127},81048,{"$f":"IF(AND(INTRO!$E$37=\"Non-endemic\",INTRO!$E$41=\"Non-endemic\"),0,COUNTRY_INFO!P135)","v":0},{"$f":"IF(AND(INTRO!$E$37=\"Non-endemic\",INTRO!$E$41=\"Non-endemic\"),0,COUNTRY_INFO!R135)","v":2},{"$f":"IF(INTRO!$E$39=\"Non-endemic\",IF($G135=1,DEC!I135,0),IF($G135=1,IVM!G135,0))","v":0},"MBD",{"$f":"IF($J135=\"ALB\", IF(INTRO!$E$39=\"Non-endemic\", IF($H135<>0, IF($I135=0, $D135*$H135, $D135*($H135-$G135)), 0), $D135*$H135), 0)","v":0},0,null,0,{"$f":"IF($J135=\"MBD\", IF(INTRO!$E$39=\"Non-endemic\", IF($H135<>0, IF($I135=0, $D135*$H135, $D135*($H135-$G135)), 0), $D135*$H135), 0)","v":51842},110254,null,162096,null,0,0,null,0,0,null,110254,736]
[{"$f":"IF(AND(INTRO!$E$37=\"Non-endemic\",INTRO!$E$41=\"Non-endemic\"),\" \",IF(COUNTRY_INFO!A136=0,\" \",COUNTRY_INFO!A136))","v":"Uganda"},{"$f":"IF(AND(INTRO!$E$37=\"Non-endemic\",INTRO!$E$41=\"Non-endemic\"),\" \",IF(COUNTRY_INFO!B136=0,\" \",COUNTRY_INFO!B136))","v":"WESTERN"},{"$f":"IF(AND(INTRO!$E$37=\"Non-endemic\",INTRO!$E$41=\"Non-endemic\"),\" \",IF(COUNTRY_INFO!C136=0,\" \",COUNTRY_INFO!C136))","v":"KIKUUBE"},{"$f":"IF(AND(INTRO!$E$37=\"Non-endemic\",INTRO!$E$41=\"Non-endemic\"),0,IF(AND(OR(COUNTRY_INFO!$H136=0,COUNTRY_INFO!$H136=4,COUNTRY_INFO!$H136=99),OR(COUNTRY_INFO!$J136=0,COUNTRY_INFO!$J136=4)),0,COUNTRY_INFO!$E136))","v":49270},{"$f":"IF(AND(INTRO!$E$37=\"Non-endemic\",INTRO!$E$41=\"Non-endemic\"),0,IF(AND(OR(COUNTRY_INFO!$H136=0,COUNTRY_INFO!$H136=4,COUNTRY_INFO!$H136=99),OR(COUNTRY_INFO!$J136=0,COUNTRY_INFO!$J136=4)),0,COUNTRY_INFO!$F136))","v":104785},154055,{"$f":"IF(AND(INTRO!$E$37=\"Non-endemic\",INTRO!$E$41=\"Non-endemic\"),0,COUNTRY_INFO!P136)","v":0},{"$f":"IF(AND(INTRO!$E$37=\"Non-endemic\",INTRO!$E$41=\"Non-endemic\"),0,COUNTRY_INFO!R136)","v":2},{"$f":"IF(INTRO!$E$39=\"Non-endemic\",IF($G136=1,DEC!I136,0),IF($G136=1,IVM!G136,0))","v":0},"MBD",{"$f":"IF($J136=\"ALB\", IF(INTRO!$E$39=\"Non-endemic\", IF($H136<>0, IF($I136=0, $D136*$H136, $D136*($H136-$G136)), 0), $D136*$H136), 0)","v":0},0,null,0,{"$f":"IF($J136=\"MBD\", IF(INTRO!$E$39=\"Non-endemic\", IF($H136<>0, IF($I136=0, $D136*$H136, $D136*($H136-$G136)), 0), $D136*$H136), 0)","v":98540},209570,null,308110,null,0,0,null,0,0,null,209570,1398]
[{"$f":"IF(AND(INTRO!$E$37=\"Non-endemic\",INTRO!$E$41=\"Non-endemic\"),\" \",IF(COUNTRY_INFO!A137=0,\" \",COUNTRY_INFO!A137))","v":"Uganda"},{"$f":"IF(AND(INTRO!$E$37=\"Non-endemic\",INTRO!$E$41=\"Non-endemic\"),\" \",IF(COUNTRY_INFO!B137=0,\" \",COUNTRY_INFO!B137))","v":"WESTERN"},{"$f":"IF(AND(INTRO!$E$37=\"Non-endemic\",INTRO!$E$41=\"Non-endemic\"),\" \",IF(COUNTRY_INFO!C137=0,\" \",COUNTRY_INFO!C137))","v":"KIRUHURA"},{"$f":"IF(AND(INTRO!$E$37=\"Non-endemic\",INTRO!$E$41=\"Non-endemic\"),0,IF(AND(OR(COUNTRY_INFO!$H137=0,COUNTRY_INFO!$H137=4,COUNTRY_INFO!$H137=99),OR(COUNTRY_INFO!$J137=0,COUNTRY_INFO!$J137=4)),0,COUNTRY_INFO!$E137))","v":28177},{"$f":"IF(AND(INTRO!$E$37=\"Non-endemic\",INTRO!$E$41=\"Non-endemic\"),0,IF(AND(OR(COUNTRY_INFO!$H137=0,COUNTRY_INFO!$H137=4,COUNTRY_INFO!$H137=99),OR(COUNTRY_INFO!$J137=0,COUNTRY_INFO!$J137=4)),0,COUNTRY_INFO!$F137))","v":59926},88103,{"$f":"IF(AND(INTRO!$E$37=\"Non-endemic\",INTRO!$E$41=\"Non-endemic\"),0,COUNTRY_INFO!P137)","v":0},{"$f":"IF(AND(INTRO!$E$37=\"Non-endemic\",INTRO!$E$41=\"Non-endemic\"),0,COUNTRY_INFO!R137)","v":2},{"$f":"IF(INTRO!$E$39=\"Non-endemic\",IF($G137=1,DEC!I137,0),IF($G137=1,IVM!G137,0))","v":0},"MBD",{"$f":"IF($J137=\"ALB\", IF(INTRO!$E$39=\"Non-endemic\", IF($H137<>0, IF($I137=0, $D137*$H137, $D137*($H137-$G137)), 0), $D137*$H137), 0)","v":0},0,null,0,{"$f":"IF($J137=\"MBD\", IF(INTRO!$E$39=\"Non-endemic\", IF($H137<>0, IF($I137=0, $D137*$H137, $D137*($H137-$G137)), 0), $D137*$H137), 0)","v":56354},119852,null,176206,null,0,0,null,0,0,null,119852,800]
[{"$f":"IF(AND(INTRO!$E$37=\"Non-endemic\",INTRO!$E$41=\"Non-endemic\"),\" \",IF(COUNTRY_INFO!A138=0,\" \",COUNTRY_INFO!A138))","v":"Uganda"},{"$f":"IF(AND(INTRO!$E$37=\"Non-endemic\",INTRO!$E$41=\"Non-endemic\"),\" \",IF(COUNTRY_INFO!B138=0,\" \",COUNTRY_INFO!B138))","v":"WESTERN"},{"$f":"IF(AND(INTRO!$E$37=\"Non-endemic\",INTRO!$E$41=\"Non-endemic\"),\" \",IF(COUNTRY_INFO!C138=0,\" \",COUNTRY_INFO!C138))","v":"KIRYANDONGO"},{"$f":"IF(AND(INTRO!$E$37=\"Non-endemic\",INTRO!$E$41=\"Non-endemic\"),0,IF(AND(OR(COUNTRY_INFO!$H138=0,COUNTRY_INFO!$H138=4,COUNTRY_INFO!$H138=99),OR(COUNTRY_INFO!$J138=0,COUNTRY_INFO!$J138=4)),0,COUNTRY_INFO!$E138))","v":49820},{"$f":"IF(AND(INTRO!$E$37=\"Non-endemic\",INTRO!$E$41=\"Non-endemic\"),0,IF(AND(OR(COUNTRY_INFO!$H138=0,COUNTRY_INFO!$H138=4,COUNTRY_INFO!$H138=99),OR(COUNTRY_INFO!$J138=0,COUNTRY_INFO!$J138=4)),0,COUNTRY_INFO!$F138))","v":105955},{"$f":"SUM(D138:E138)","v":155775},{"$f":"IF(AND(INTRO!$E$37=\"Non-endemic\",INTRO!$E$41=\"Non-endemic\"),0,COUNTRY_INFO!P138)","v":0},{"$f":"IF(AND(INTRO!$E$37=\"Non-endemic\",INTRO!$E$41=\"Non-endemic\"),0,COUNTRY_INFO!R138)","v":2},{"$f":"IF(INTRO!$E$39=\"Non-endemic\",IF($G138=1,DEC!I138,0),IF($G138=1,IVM!G138,0))","v":0},"MBD",{"$f":"IF($J138=\"ALB\", IF(INTRO!$E$39=\"Non-endemic\", IF($H138<>0, IF($I138=0, $D138*$H138, $D138*($H138-$G138)), 0), $D138*$H138), 0)","v":0},0,null,{"$f":"SUM(K138:M138)","v":0},{"$f":"IF($J138=\"MBD\", IF(INTRO!$E$39=\"Non-endemic\", IF($H138<>0, IF($I138=0, $D138*$H138, $D138*($H138-$G138)), 0), $D138*$H138), 0)","v":99640},211910,null,{"$f":"SUM(O138:Q138)","v":311550},null,0,0,null,0,0,null,211910,1413]
[{"$f":"IF(AND(INTRO!$E$37=\"Non-endemic\",INTRO!$E$41=\"Non-endemic\"),\" \",IF(COUNTRY_INFO!A139=0,\" \",COUNTRY_INFO!A139))","v":"Uganda"},{"$f":"IF(AND(INTRO!$E$37=\"Non-endemic\",INTRO!$E$41=\"Non-endemic\"),\" \",IF(COUNTRY_INFO!B139=0,\" \",COUNTRY_INFO!B139))","v":"WESTERN"},{"$f":"IF(AND(INTRO!$E$37=\"Non-endemic\",INTRO!$E$41=\"Non-endemic\"),\" \",IF(COUNTRY_INFO!C139=0,\" \",COUNTRY_INFO!C139))","v":"KISORO"},{"$f":"IF(AND(INTRO!$E$37=\"Non-endemic\",INTRO!$E$41=\"Non-endemic\"),0,IF(AND(OR(COUNTRY_INFO!$H139=0,COUNTRY_INFO!$H139=4,COUNTRY_INFO!$H139=99),OR(COUNTRY_INFO!$J139=0,COUNTRY_INFO!$J139=4)),0,COUNTRY_INFO!$E139))","v":53348},{"$f":"IF(AND(INTRO!$E$37=\"Non-endemic\",INTRO!$E$41=\"Non-endemic\"),0,IF(AND(OR(COUNTRY_INFO!$H139=0,COUNTRY_INFO!$H139=4,COUNTRY_INFO!$H139=99),OR(COUNTRY_INFO!$J139=0,COUNTRY_INFO!$J139=4)),0,COUNTRY_INFO!$F139))","v":113458},166806,{"$f":"IF(AND(INTRO!$E$37=\"Non-endemic\",INTRO!$E$41=\"Non-endemic\"),0,COUNTRY_INFO!P139)","v":0},{"$f":"IF(AND(INTRO!$E$37=\"Non-endemic\",INTRO!$E$41=\"Non-endemic\"),0,COUNTRY_INFO!R139)","v":2},{"$f":"IF(INTRO!$E$39=\"Non-endemic\",IF($G139=1,DEC!I139,0),IF($G139=1,IVM!G139,0))","v":0},"MBD",{"$f":"IF($J139=\"ALB\", IF(INTRO!$E$39=\"Non-endemic\", IF($H139<>0, IF($I139=0, $D139*$H139, $D139*($H139-$G139)), 0), $D139*$H139), 0)","v":0},0,null,0,{"$f":"IF($J139=\"MBD\", IF(INTRO!$E$39=\"Non-endemic\", IF($H139<>0, IF($I139=0, $D139*$H139, $D139*($H139-$G139)), 0), $D139*$H139), 0)","v":106696},226916,null,333612,null,0,0,null,0,0,null,226916,1513]
[{"$f":"IF(AND(INTRO!$E$37=\"Non-endemic\",INTRO!$E$41=\"Non-endemic\"),\" \",IF(COUNTRY_INFO!A140=0,\" \",COUNTRY_INFO!A140))","v":"Uganda"},{"$f":"IF(AND(INTRO!$E$37=\"Non-endemic\",INTRO!$E$41=\"Non-endemic\"),\" \",IF(COUNTRY_INFO!B140=0,\" \",COUNTRY_INFO!B140))","v":"WESTERN"},{"$f":"IF(AND(INTRO!$E$37=\"Non-endemic\",INTRO!$E$41=\"Non-endemic\"),\" \",IF(COUNTRY_INFO!C140=0,\" \",COUNTRY_INFO!C140))","v":"KITAGWENDA"},{"$f":"IF(AND(INTRO!$E$37=\"Non-endemic\",INTRO!$E$41=\"Non-endemic\"),0,IF(AND(OR(COUNTRY_INFO!$H140=0,COUNTRY_INFO!$H140=4,COUNTRY_INFO!$H140=99),OR(COUNTRY_INFO!$J140=0,COUNTRY_INFO!$J140=4)),0,COUNTRY_INFO!$E140))","v":27046},{"$f":"IF(AND(INTRO!$E$37=\"Non-endemic\",INTRO!$E$41=\"Non-endemic\"),0,IF(AND(OR(COUNTRY_INFO!$H140=0,COUNTRY_INFO!$H140=4,COUNTRY_INFO!$H140=99),OR(COUNTRY_INFO!$J140=0,COUNTRY_INFO!$J140=4)),0,COUNTRY_INFO!$F140))","v":57520},84566,{"$f":"IF(AND(INTRO!$E$37=\"Non-endemic\",INTRO!$E$41=\"Non-endemic\"),0,COUNTRY_INFO!P140)","v":0},{"$f":"IF(AND(INTRO!$E$37=\"Non-endemic\",INTRO!$E$41=\"Non-endemic\"),0,COUNTRY_INFO!R140)","v":2},{"$f":"IF(INTRO!$E$39=\"Non-endemic\",IF($G140=1,DEC!I140,0),IF($G140=1,IVM!G140,0))","v":0},"MBD",{"$f":"IF($J140=\"ALB\", IF(INTRO!$E$39=\"Non-endemic\", IF($H140<>0, IF($I140=0, $D140*$H140, $D140*($H140-$G140)), 0), $D140*$H140), 0)","v":0},0,null,0,{"$f":"IF($J140=\"MBD\", IF(INTRO!$E$39=\"Non-endemic\", IF($H140<>0, IF($I140=0, $D140*$H140, $D140*($H140-$G140)), 0), $D140*$H140), 0)","v":54092},115040,null,169132,null,0,0,null,0,0,null,115040,767]
[{"$f":"IF(AND(INTRO!$E$37=\"Non-endemic\",INTRO!$E$41=\"Non-endemic\"),\" \",IF(COUNTRY_INFO!A141=0,\" \",COUNTRY_INFO!A141))","v":"Uganda"},{"$f":"IF(AND(INTRO!$E$37=\"Non-endemic\",INTRO!$E$41=\"Non-endemic\"),\" \",IF(COUNTRY_INFO!B141=0,\" \",COUNTRY_INFO!B141))","v":"WESTERN"},{"$f":"IF(AND(INTRO!$E$37=\"Non-endemic\",INTRO!$E$41=\"Non-endemic\"),\" \",IF(COUNTRY_INFO!C141=0,\" \",COUNTRY_INFO!C141))","v":"KYEGEGWA"},{"$f":"IF(AND(INTRO!$E$37=\"Non-endemic\",INTRO!$E$41=\"Non-endemic\"),0,IF(AND(OR(COUNTRY_INFO!$H141=0,COUNTRY_INFO!$H141=4,COUNTRY_INFO!$H141=99),OR(COUNTRY_INFO!$J141=0,COUNTRY_INFO!$J141=4)),0,COUNTRY_INFO!$E141))","v":51528},{"$f":"IF(AND(INTRO!$E$37=\"Non-endemic\",INTRO!$E$41=\"Non-endemic\"),0,IF(AND(OR(COUNTRY_INFO!$H141=0,COUNTRY_INFO!$H141=4,COUNTRY_INFO!$H141=99),OR(COUNTRY_INFO!$J141=0,COUNTRY_INFO!$J141=4)),0,COUNTRY_INFO!$F141))","v":109587},161115,{"$f":"IF(AND(INTRO!$E$37=\"Non-endemic\",INTRO!$E$41=\"Non-endemic\"),0,COUNTRY_INFO!P141)","v":0},{"$f":"IF(AND(INTRO!$E$37=\"Non-endemic\",INTRO!$E$41=\"Non-endemic\"),0,COUNTRY_INFO!R141)","v":2},{"$f":"IF(INTRO!$E$39=\"Non-endemic\",IF($G141=1,DEC!I141,0),IF($G141=1,IVM!G141,0))","v":0},"MBD",{"$f":"IF($J141=\"ALB\", IF(INTRO!$E$39=\"Non-endemic\", IF($H141<>0, IF($I141=0, $D141*$H141, $D141*($H141-$G141)), 0), $D141*$H141), 0)","v":0},0,null,0,{"$f":"IF($J141=\"MBD\", IF(INTRO!$E$39=\"Non-endemic\", IF($H141<>0, IF($I141=0, $D141*$H141, $D141*($H141-$G141)), 0), $D141*$H141), 0)","v":103056},219174,null,322230,null,0,0,null,0,0,null,219174,1462]
[{"$f":"IF(AND(INTRO!$E$37=\"Non-endemic\",INTRO!$E$41=\"Non-endemic\"),\" \",IF(COUNTRY_INFO!A142=0,\" \",COUNTRY_INFO!A142))","v":"Uganda"},{"$f":"IF(AND(INTRO!$E$37=\"Non-endemic\",INTRO!$E$41=\"Non-endemic\"),\" \",IF(COUNTRY_INFO!B142=0,\" \",COUNTRY_INFO!B142))","v":"WESTERN"},{"$f":"IF(AND(INTRO!$E$37=\"Non-endemic\",INTRO!$E$41=\"Non-endemic\"),\" \",IF(COUNTRY_INFO!C142=0,\" \",COUNTRY_INFO!C142))","v":"KYENJOJO"},{"$f":"IF(AND(INTRO!$E$37=\"Non-endemic\",INTRO!$E$41=\"Non-endemic\"),0,IF(AND(OR(COUNTRY_INFO!$H142=0,COUNTRY_INFO!$H142=4,COUNTRY_INFO!$H142=99),OR(COUNTRY_INFO!$J142=0,COUNTRY_INFO!$J142=4)),0,COUNTRY_INFO!$E142))","v":74325},{"$f":"IF(AND(INTRO!$E$37=\"Non-endemic\",INTRO!$E$41=\"Non-endemic\"),0,IF(AND(OR(COUNTRY_INFO!$H142=0,COUNTRY_INFO!$H142=4,COUNTRY_INFO!$H142=99),OR(COUNTRY_INFO!$J142=0,COUNTRY_INFO!$J142=4)),0,COUNTRY_INFO!$F142))","v":158073},232398,{"$f":"IF(AND(INTRO!$E$37=\"Non-endemic\",INTRO!$E$41=\"Non-endemic\"),0,COUNTRY_INFO!P142)","v":0},{"$f":"IF(AND(INTRO!$E$37=\"Non-endemic\",INTRO!$E$41=\"Non-endemic\"),0,COUNTRY_INFO!R142)","v":2},{"$f":"IF(INTRO!$E$39=\"Non-endemic\",IF($G142=1,DEC!I142,0),IF($G142=1,IVM!G142,0))","v":0},"MBD",{"$f":"IF($J142=\"ALB\", IF(INTRO!$E$39=\"Non-endemic\", IF($H142<>0, IF($I142=0, $D142*$H142, $D142*($H142-$G142)), 0), $D142*$H142), 0)","v":0},0,null,0,{"$f":"IF($J142=\"MBD\", IF(INTRO!$E$39=\"Non-endemic\", IF($H142<>0, IF($I142=0, $D142*$H142, $D142*($H142-$G142)), 0), $D142*$H142), 0)","v":148650},316146,null,464796,null,0,0,null,0,0,null,316146,2108]
[{"$f":"IF(AND(INTRO!$E$37=\"Non-endemic\",INTRO!$E$41=\"Non-endemic\"),\" \",IF(COUNTRY_INFO!A143=0,\" \",COUNTRY_INFO!A143))","v":"Uganda"},{"$f":"IF(AND(INTRO!$E$37=\"Non-endemic\",INTRO!$E$41=\"Non-endemic\"),\" \",IF(COUNTRY_INFO!B143=0,\" \",COUNTRY_INFO!B143))","v":"WESTERN"},{"$f":"IF(AND(INTRO!$E$37=\"Non-endemic\",INTRO!$E$41=\"Non-endemic\"),\" \",IF(COUNTRY_INFO!C143=0,\" \",COUNTRY_INFO!C143))","v":"MASINDI"},{"$f":"IF(AND(INTRO!$E$37=\"Non-endemic\",INTRO!$E$41=\"Non-endemic\"),0,IF(AND(OR(COUNTRY_INFO!$H143=0,COUNTRY_INFO!$H143=4,COUNTRY_INFO!$H143=99),OR(COUNTRY_INFO!$J143=0,COUNTRY_INFO!$J143=4)),0,COUNTRY_INFO!$E143))","v":58856},{"$f":"IF(AND(INTRO!$E$37=\"Non-endemic\",INTRO!$E$41=\"Non-endemic\"),0,IF(AND(OR(COUNTRY_INFO!$H143=0,COUNTRY_INFO!$H143=4,COUNTRY_INFO!$H143=99),OR(COUNTRY_INFO!$J143=0,COUNTRY_INFO!$J143=4)),0,COUNTRY_INFO!$F143))","v":125172},184028,{"$f":"IF(AND(INTRO!$E$37=\"Non-endemic\",INTRO!$E$41=\"Non-endemic\"),0,COUNTRY_INFO!P143)","v":0},{"$f":"IF(AND(INTRO!$E$37=\"Non-endemic\",INTRO!$E$41=\"Non-endemic\"),0,COUNTRY_INFO!R143)","v":2},{"$f":"IF(INTRO!$E$39=\"Non-endemic\",IF($G143=1,DEC!I143,0),IF($G143=1,IVM!G143,0))","v":0},"MBD",{"$f":"IF($J143=\"ALB\", IF(INTRO!$E$39=\"Non-endemic\", IF($H143<>0, IF($I143=0, $D143*$H143, $D143*($H143-$G143)), 0), $D143*$H143), 0)","v":0},0,null,0,{"$f":"IF($J143=\"MBD\", IF(INTRO!$E$39=\"Non-endemic\", IF($H143<>0, IF($I143=0, $D143*$H143, $D143*($H143-$G143)), 0), $D143*$H143), 0)","v":117712},250344,null,368056,null,0,0,null,0,0,null,250344,1669]
[{"$f":"IF(AND(INTRO!$E$37=\"Non-endemic\",INTRO!$E$41=\"Non-endemic\"),\" \",IF(COUNTRY_INFO!A144=0,\" \",COUNTRY_INFO!A144))","v":"Uganda"},{"$f":"IF(AND(INTRO!$E$37=\"Non-endemic\",INTRO!$E$41=\"Non-endemic\"),\" \",IF(COUNTRY_INFO!B144=0,\" \",COUNTRY_INFO!B144))","v":"WESTERN"},{"$f":"IF(AND(INTRO!$E$37=\"Non-endemic\",INTRO!$E$41=\"Non-endemic\"),\" \",IF(COUNTRY_INFO!C144=0,\" \",COUNTRY_INFO!C144))","v":"MBARARA"},{"$f":"IF(AND(INTRO!$E$37=\"Non-endemic\",INTRO!$E$41=\"Non-endemic\"),0,IF(AND(OR(COUNTRY_INFO!$H144=0,COUNTRY_INFO!$H144=4,COUNTRY_INFO!$H144=99),OR(COUNTRY_INFO!$J144=0,COUNTRY_INFO!$J144=4)),0,COUNTRY_INFO!$E144))","v":28008},{"$f":"IF(AND(INTRO!$E$37=\"Non-endemic\",INTRO!$E$41=\"Non-endemic\"),0,IF(AND(OR(COUNTRY_INFO!$H144=0,COUNTRY_INFO!$H144=4,COUNTRY_INFO!$H144=99),OR(COUNTRY_INFO!$J144=0,COUNTRY_INFO!$J144=4)),0,COUNTRY_INFO!$F144))","v":59566},87574,{"$f":"IF(AND(INTRO!$E$37=\"Non-endemic\",INTRO!$E$41=\"Non-endemic\"),0,COUNTRY_INFO!P144)","v":0},{"$f":"IF(AND(INTRO!$E$37=\"Non-endemic\",INTRO!$E$41=\"Non-endemic\"),0,COUNTRY_INFO!R144)","v":2},{"$f":"IF(INTRO!$E$39=\"Non-endemic\",IF($G144=1,DEC!I144,0),IF($G144=1,IVM!G144,0))","v":0},"MBD",{"$f":"IF($J144=\"ALB\", IF(INTRO!$E$39=\"Non-endemic\", IF($H144<>0, IF($I144=0, $D144*$H144, $D144*($H144-$G144)), 0), $D144*$H144), 0)","v":0},0,null,0,{"$f":"IF($J144=\"MBD\", IF(INTRO!$E$39=\"Non-endemic\", IF($H144<>0, IF($I144=0, $D144*$H144, $D144*($H144-$G144)), 0), $D144*$H144), 0)","v":56016},119132,null,175148,null,0,0,null,0,0,null,119132,795]
[{"$f":"IF(AND(INTRO!$E$37=\"Non-endemic\",INTRO!$E$41=\"Non-endemic\"),\" \",IF(COUNTRY_INFO!A145=0,\" \",COUNTRY_INFO!A145))","v":"Uganda"},{"$f":"IF(AND(INTRO!$E$37=\"Non-endemic\",INTRO!$E$41=\"Non-endemic\"),\" \",IF(COUNTRY_INFO!B145=0,\" \",COUNTRY_INFO!B145))","v":"WESTERN"},{"$f":"IF(AND(INTRO!$E$37=\"Non-endemic\",INTRO!$E$41=\"Non-endemic\"),\" \",IF(COUNTRY_INFO!C145=0,\" \",COUNTRY_INFO!C145))","v":"Mbarara City"},{"$f":"IF(AND(INTRO!$E$37=\"Non-endemic\",INTRO!$E$41=\"Non-endemic\"),0,IF(AND(OR(COUNTRY_INFO!$H145=0,COUNTRY_INFO!$H145=4,COUNTRY_INFO!$H145=99),OR(COUNTRY_INFO!$J145=0,COUNTRY_INFO!$J145=4)),0,COUNTRY_INFO!$E145))","v":36227},{"$f":"IF(AND(INTRO!$E$37=\"Non-endemic\",INTRO!$E$41=\"Non-endemic\"),0,IF(AND(OR(COUNTRY_INFO!$H145=0,COUNTRY_INFO!$H145=4,COUNTRY_INFO!$H145=99),OR(COUNTRY_INFO!$J145=0,COUNTRY_INFO!$J145=4)),0,COUNTRY_INFO!$F145))","v":77046},113273,{"$f":"IF(AND(INTRO!$E$37=\"Non-endemic\",INTRO!$E$41=\"Non-endemic\"),0,COUNTRY_INFO!P145)","v":0},{"$f":"IF(AND(INTRO!$E$37=\"Non-endemic\",INTRO!$E$41=\"Non-endemic\"),0,COUNTRY_INFO!R145)","v":2},{"$f":"IF(INTRO!$E$39=\"Non-endemic\",IF($G145=1,DEC!I145,0),IF($G145=1,IVM!G145,0))","v":0},"MBD",{"$f":"IF($J145=\"ALB\", IF(INTRO!$E$39=\"Non-endemic\", IF($H145<>0, IF($I145=0, $D145*$H145, $D145*($H145-$G145)), 0), $D145*$H145), 0)","v":0},0,null,0,{"$f":"IF($J145=\"MBD\", IF(INTRO!$E$39=\"Non-endemic\", IF($H145<>0, IF($I145=0, $D145*$H145, $D145*($H145-$G145)), 0), $D145*$H145), 0)","v":72454},154092,null,226546,null,0,0,null,0,0,null,154092,1028]
[{"$f":"IF(AND(INTRO!$E$37=\"Non-endemic\",INTRO!$E$41=\"Non-endemic\"),\" \",IF(COUNTRY_INFO!A146=0,\" \",COUNTRY_INFO!A146))","v":"Uganda"},{"$f":"IF(AND(INTRO!$E$37=\"Non-endemic\",INTRO!$E$41=\"Non-endemic\"),\" \",IF(COUNTRY_INFO!B146=0,\" \",COUNTRY_INFO!B146))","v":"WESTERN"},{"$f":"IF(AND(INTRO!$E$37=\"Non-endemic\",INTRO!$E$41=\"Non-endemic\"),\" \",IF(COUNTRY_INFO!C146=0,\" \",COUNTRY_INFO!C146))","v":"MITOOMA"},{"$f":"IF(AND(INTRO!$E$37=\"Non-endemic\",INTRO!$E$41=\"Non-endemic\"),0,IF(AND(OR(COUNTRY_INFO!$H146=0,COUNTRY_INFO!$H146=4,COUNTRY_INFO!$H146=99),OR(COUNTRY_INFO!$J146=0,COUNTRY_INFO!$J146=4)),0,COUNTRY_INFO!$E146))","v":34462},{"$f":"IF(AND(INTRO!$E$37=\"Non-endemic\",INTRO!$E$41=\"Non-endemic\"),0,IF(AND(OR(COUNTRY_INFO!$H146=0,COUNTRY_INFO!$H146=4,COUNTRY_INFO!$H146=99),OR(COUNTRY_INFO!$J146=0,COUNTRY_INFO!$J146=4)),0,COUNTRY_INFO!$F146))","v":73293},107755,{"$f":"IF(AND(INTRO!$E$37=\"Non-endemic\",INTRO!$E$41=\"Non-endemic\"),0,COUNTRY_INFO!P146)","v":0},{"$f":"IF(AND(INTRO!$E$37=\"Non-endemic\",INTRO!$E$41=\"Non-endemic\"),0,COUNTRY_INFO!R146)","v":2},{"$f":"IF(INTRO!$E$39=\"Non-endemic\",IF($G146=1,DEC!I146,0),IF($G146=1,IVM!G146,0))","v":0},"MBD",{"$f":"IF($J146=\"ALB\", IF(INTRO!$E$39=\"Non-endemic\", IF($H146<>0, IF($I146=0, $D146*$H146, $D146*($H146-$G146)), 0), $D146*$H146), 0)","v":0},0,null,0,{"$f":"IF($J146=\"MBD\", IF(INTRO!$E$39=\"Non-endemic\", IF($H146<>0, IF($I146=0, $D146*$H146, $D146*($H146-$G146)), 0), $D146*$H146), 0)","v":68924},146586,null,215510,null,0,0,null,0,0,null,146586,978]
[{"$f":"IF(AND(INTRO!$E$37=\"Non-endemic\",INTRO!$E$41=\"Non-endemic\"),\" \",IF(COUNTRY_INFO!A147=0,\" \",COUNTRY_INFO!A147))","v":"Uganda"},{"$f":"IF(AND(INTRO!$E$37=\"Non-endemic\",INTRO!$E$41=\"Non-endemic\"),\" \",IF(COUNTRY_INFO!B147=0,\" \",COUNTRY_INFO!B147))","v":"WESTERN"},{"$f":"IF(AND(INTRO!$E$37=\"Non-endemic\",INTRO!$E$41=\"Non-endemic\"),\" \",IF(COUNTRY_INFO!C147=0,\" \",COUNTRY_INFO!C147))","v":"NTOROKO"},{"$f":"IF(AND(INTRO!$E$37=\"Non-endemic\",INTRO!$E$41=\"Non-endemic\"),0,IF(AND(OR(COUNTRY_INFO!$H147=0,COUNTRY_INFO!$H147=4,COUNTRY_INFO!$H147=99),OR(COUNTRY_INFO!$J147=0,COUNTRY_INFO!$J147=4)),0,COUNTRY_INFO!$E147))","v":12338},{"$f":"IF(AND(INTRO!$E$37=\"Non-endemic\",INTRO!$E$41=\"Non-endemic\"),0,IF(AND(OR(COUNTRY_INFO!$H147=0,COUNTRY_INFO!$H147=4,COUNTRY_INFO!$H147=99),OR(COUNTRY_INFO!$J147=0,COUNTRY_INFO!$J147=4)),0,COUNTRY_INFO!$F147))","v":26240},38578,{"$f":"IF(AND(INTRO!$E$37=\"Non-endemic\",INTRO!$E$41=\"Non-endemic\"),0,COUNTRY_INFO!P147)","v":0},{"$f":"IF(AND(INTRO!$E$37=\"Non-endemic\",INTRO!$E$41=\"Non-endemic\"),0,COUNTRY_INFO!R147)","v":2},{"$f":"IF(INTRO!$E$39=\"Non-endemic\",IF($G147=1,DEC!I147,0),IF($G147=1,IVM!G147,0))","v":0},"MBD",{"$f":"IF($J147=\"ALB\", IF(INTRO!$E$39=\"Non-endemic\", IF($H147<>0, IF($I147=0, $D147*$H147, $D147*($H147-$G147)), 0), $D147*$H147), 0)","v":0},0,null,0,{"$f":"IF($J147=\"MBD\", IF(INTRO!$E$39=\"Non-endemic\", IF($H147<>0, IF($I147=0, $D147*$H147, $D147*($H147-$G147)), 0), $D147*$H147), 0)","v":24676},52480,null,77156,null,0,0,null,0,0,null,52480,350]
[{"$f":"IF(AND(INTRO!$E$37=\"Non-endemic\",INTRO!$E$41=\"Non-endemic\"),\" \",IF(COUNTRY_INFO!A148=0,\" \",COUNTRY_INFO!A148))","v":"Uganda"},{"$f":"IF(AND(INTRO!$E$37=\"Non-endemic\",INTRO!$E$41=\"Non-endemic\"),\" \",IF(COUNTRY_INFO!B148=0,\" \",COUNTRY_INFO!B148))","v":"WESTERN"},{"$f":"IF(AND(INTRO!$E$37=\"Non-endemic\",INTRO!$E$41=\"Non-endemic\"),\" \",IF(COUNTRY_INFO!C148=0,\" \",COUNTRY_INFO!C148))","v":"NTUNGAMO"},{"$f":"IF(AND(INTRO!$E$37=\"Non-endemic\",INTRO!$E$41=\"Non-endemic\"),0,IF(AND(OR(COUNTRY_INFO!$H148=0,COUNTRY_INFO!$H148=4,COUNTRY_INFO!$H148=99),OR(COUNTRY_INFO!$J148=0,COUNTRY_INFO!$J148=4)),0,COUNTRY_INFO!$E148))","v":90899},{"$f":"IF(AND(INTRO!$E$37=\"Non-endemic\",INTRO!$E$41=\"Non-endemic\"),0,IF(AND(OR(COUNTRY_INFO!$H148=0,COUNTRY_INFO!$H148=4,COUNTRY_INFO!$H148=99),OR(COUNTRY_INFO!$J148=0,COUNTRY_INFO!$J148=4)),0,COUNTRY_INFO!$F148))","v":193321},284220,{"$f":"IF(AND(INTRO!$E$37=\"Non-endemic\",INTRO!$E$41=\"Non-endemic\"),0,COUNTRY_INFO!P148)","v":0},{"$f":"IF(AND(INTRO!$E$37=\"Non-endemic\",INTRO!$E$41=\"Non-endemic\"),0,COUNTRY_INFO!R148)","v":2},{"$f":"IF(INTRO!$E$39=\"Non-endemic\",IF($G148=1,DEC!I148,0),IF($G148=1,IVM!G148,0))","v":0},"MBD",{"$f":"IF($J148=\"ALB\", IF(INTRO!$E$39=\"Non-endemic\", IF($H148<>0, IF($I148=0, $D148*$H148, $D148*($H148-$G148)), 0), $D148*$H148), 0)","v":0},0,null,0,{"$f":"IF($J148=\"MBD\", IF(INTRO!$E$39=\"Non-endemic\", IF($H148<>0, IF($I148=0, $D148*$H148, $D148*($H148-$G148)), 0), $D148*$H148), 0)","v":181798},386642,null,568440,null,0,0,null,0,0,null,386642,2578]
[{"$f":"IF(AND(INTRO!$E$37=\"Non-endemic\",INTRO!$E$41=\"Non-endemic\"),\" \",IF(COUNTRY_INFO!A149=0,\" \",COUNTRY_INFO!A149))","v":"Uganda"},{"$f":"IF(AND(INTRO!$E$37=\"Non-endemic\",INTRO!$E$41=\"Non-endemic\"),\" \",IF(COUNTRY_INFO!B149=0,\" \",COUNTRY_INFO!B149))","v":"WESTERN"},{"$f":"IF(AND(INTRO!$E$37=\"Non-endemic\",INTRO!$E$41=\"Non-endemic\"),\" \",IF(COUNTRY_INFO!C149=0,\" \",COUNTRY_INFO!C149))","v":"RUBANDA"},{"$f":"IF(AND(INTRO!$E$37=\"Non-endemic\",INTRO!$E$41=\"Non-endemic\"),0,IF(AND(OR(COUNTRY_INFO!$H149=0,COUNTRY_INFO!$H149=4,COUNTRY_INFO!$H149=99),OR(COUNTRY_INFO!$J149=0,COUNTRY_INFO!$J149=4)),0,COUNTRY_INFO!$E149))","v":37081},{"$f":"IF(AND(INTRO!$E$37=\"Non-endemic\",INTRO!$E$41=\"Non-endemic\"),0,IF(AND(OR(COUNTRY_INFO!$H149=0,COUNTRY_INFO!$H149=4,COUNTRY_INFO!$H149=99),OR(COUNTRY_INFO!$J149=0,COUNTRY_INFO!$J149=4)),0,COUNTRY_INFO!$F149))","v":78863},115944,{"$f":"IF(AND(INTRO!$E$37=\"Non-endemic\",INTRO!$E$41=\"Non-endemic\"),0,COUNTRY_INFO!P149)","v":0},{"$f":"IF(AND(INTRO!$E$37=\"Non-endemic\",INTRO!$E$41=\"Non-endemic\"),0,COUNTRY_INFO!R149)","v":2},{"$f":"IF(INTRO!$E$39=\"Non-endemic\",IF($G149=1,DEC!I149,0),IF($G149=1,IVM!G149,0))","v":0},"MBD",{"$f":"IF($J149=\"ALB\", IF(INTRO!$E$39=\"Non-endemic\", IF($H149<>0, IF($I149=0, $D149*$H149, $D149*($H149-$G149)), 0), $D149*$H149), 0)","v":0},0,null,0,{"$f":"IF($J149=\"MBD\", IF(INTRO!$E$39=\"Non-endemic\", IF($H149<>0, IF($I149=0, $D149*$H149, $D149*($H149-$G149)), 0), $D149*$H149), 0)","v":74162},157726,null,231888,null,0,0,null,0,0,null,157726,1052]
[{"$f":"IF(AND(INTRO!$E$37=\"Non-endemic\",INTRO!$E$41=\"Non-endemic\"),\" \",IF(COUNTRY_INFO!A150=0,\" \",COUNTRY_INFO!A150))","v":"Uganda"},{"$f":"IF(AND(INTRO!$E$37=\"Non-endemic\",INTRO!$E$41=\"Non-endemic\"),\" \",IF(COUNTRY_INFO!B150=0,\" \",COUNTRY_INFO!B150))","v":"WESTERN"},{"$f":"IF(AND(INTRO!$E$37=\"Non-endemic\",INTRO!$E$41=\"Non-endemic\"),\" \",IF(COUNTRY_INFO!C150=0,\" \",COUNTRY_INFO!C150))","v":"RUBIRIZI"},{"$f":"IF(AND(INTRO!$E$37=\"Non-endemic\",INTRO!$E$41=\"Non-endemic\"),0,IF(AND(OR(COUNTRY_INFO!$H150=0,COUNTRY_INFO!$H150=4,COUNTRY_INFO!$H150=99),OR(COUNTRY_INFO!$J150=0,COUNTRY_INFO!$J150=4)),0,COUNTRY_INFO!$E150))","v":24016},{"$f":"IF(AND(INTRO!$E$37=\"Non-endemic\",INTRO!$E$41=\"Non-endemic\"),0,IF(AND(OR(COUNTRY_INFO!$H150=0,COUNTRY_INFO!$H150=4,COUNTRY_INFO!$H150=99),OR(COUNTRY_INFO!$J150=0,COUNTRY_INFO!$J150=4)),0,COUNTRY_INFO!$F150))","v":51076},75092,{"$f":"IF(AND(INTRO!$E$37=\"Non-endemic\",INTRO!$E$41=\"Non-endemic\"),0,COUNTRY_INFO!P150)","v":0},{"$f":"IF(AND(INTRO!$E$37=\"Non-endemic\",INTRO!$E$41=\"Non-endemic\"),0,COUNTRY_INFO!R150)","v":2},{"$f":"IF(INTRO!$E$39=\"Non-endemic\",IF($G150=1,DEC!I150,0),IF($G150=1,IVM!G150,0))","v":0},"MBD",{"$f":"IF($J150=\"ALB\", IF(INTRO!$E$39=\"Non-endemic\", IF($H150<>0, IF($I150=0, $D150*$H150, $D150*($H150-$G150)), 0), $D150*$H150), 0)","v":0},0,null,0,{"$f":"IF($J150=\"MBD\", IF(INTRO!$E$39=\"Non-endemic\", IF($H150<>0, IF($I150=0, $D150*$H150, $D150*($H150-$G150)), 0), $D150*$H150), 0)","v":48032},102152,null,150184,null,0,0,null,0,0,null,102152,682]
[{"$f":"IF(AND(INTRO!$E$37=\"Non-endemic\",INTRO!$E$41=\"Non-endemic\"),\" \",IF(COUNTRY_INFO!A151=0,\" \",COUNTRY_INFO!A151))","v":"Uganda"},{"$f":"IF(AND(INTRO!$E$37=\"Non-endemic\",INTRO!$E$41=\"Non-endemic\"),\" \",IF(COUNTRY_INFO!B151=0,\" \",COUNTRY_INFO!B151))","v":"WESTERN"},{"$f":"IF(AND(INTRO!$E$37=\"Non-endemic\",INTRO!$E$41=\"Non-endemic\"),\" \",IF(COUNTRY_INFO!C151=0,\" \",COUNTRY_INFO!C151))","v":"RUKIGA"},{"$f":"IF(AND(INTRO!$E$37=\"Non-endemic\",INTRO!$E$41=\"Non-endemic\"),0,IF(AND(OR(COUNTRY_INFO!$H151=0,COUNTRY_INFO!$H151=4,COUNTRY_INFO!$H151=99),OR(COUNTRY_INFO!$J151=0,COUNTRY_INFO!$J151=4)),0,COUNTRY_INFO!$E151))","v":18955},{"$f":"IF(AND(INTRO!$E$37=\"Non-endemic\",INTRO!$E$41=\"Non-endemic\"),0,IF(AND(OR(COUNTRY_INFO!$H151=0,COUNTRY_INFO!$H151=4,COUNTRY_INFO!$H151=99),OR(COUNTRY_INFO!$J151=0,COUNTRY_INFO!$J151=4)),0,COUNTRY_INFO!$F151))","v":40312},59267,{"$f":"IF(AND(INTRO!$E$37=\"Non-endemic\",INTRO!$E$41=\"Non-endemic\"),0,COUNTRY_INFO!P151)","v":0},{"$f":"IF(AND(INTRO!$E$37=\"Non-endemic\",INTRO!$E$41=\"Non-endemic\"),0,COUNTRY_INFO!R151)","v":2},{"$f":"IF(INTRO!$E$39=\"Non-endemic\",IF($G151=1,DEC!I151,0),IF($G151=1,IVM!G151,0))","v":0},"MBD",{"$f":"IF($J151=\"ALB\", IF(INTRO!$E$39=\"Non-endemic\", IF($H151<>0, IF($I151=0, $D151*$H151, $D151*($H151-$G151)), 0), $D151*$H151), 0)","v":0},0,null,0,{"$f":"IF($J151=\"MBD\", IF(INTRO!$E$39=\"Non-endemic\", IF($H151<>0, IF($I151=0, $D151*$H151, $D151*($H151-$G151)), 0), $D151*$H151), 0)","v":37910},80624,null,118534,null,0,0,null,0,0,null,80624,538]
[{"$f":"IF(AND(INTRO!$E$37=\"Non-endemic\",INTRO!$E$41=\"Non-endemic\"),\" \",IF(COUNTRY_INFO!A152=0,\" \",COUNTRY_INFO!A152))","v":"Uganda"},{"$f":"IF(AND(INTRO!$E$37=\"Non-endemic\",INTRO!$E$41=\"Non-endemic\"),\" \",IF(COUNTRY_INFO!B152=0,\" \",COUNTRY_INFO!B152))","v":"WESTERN"},{"$f":"IF(AND(INTRO!$E$37=\"Non-endemic\",INTRO!$E$41=\"Non-endemic\"),\" \",IF(COUNTRY_INFO!C152=0,\" \",COUNTRY_INFO!C152))","v":"RUKUNGIRI"},{"$f":"IF(AND(INTRO!$E$37=\"Non-endemic\",INTRO!$E$41=\"Non-endemic\"),0,IF(AND(OR(COUNTRY_INFO!$H152=0,COUNTRY_INFO!$H152=4,COUNTRY_INFO!$H152=99),OR(COUNTRY_INFO!$J152=0,COUNTRY_INFO!$J152=4)),0,COUNTRY_INFO!$E152))","v":59549},{"$f":"IF(AND(INTRO!$E$37=\"Non-endemic\",INTRO!$E$41=\"Non-endemic\"),0,IF(AND(OR(COUNTRY_INFO!$H152=0,COUNTRY_INFO!$H152=4,COUNTRY_INFO!$H152=99),OR(COUNTRY_INFO!$J152=0,COUNTRY_INFO!$J152=4)),0,COUNTRY_INFO!$F152))","v":126647},186196,{"$f":"IF(AND(INTRO!$E$37=\"Non-endemic\",INTRO!$E$41=\"Non-endemic\"),0,COUNTRY_INFO!P152)","v":0},{"$f":"IF(AND(INTRO!$E$37=\"Non-endemic\",INTRO!$E$41=\"Non-endemic\"),0,COUNTRY_INFO!R152)","v":2},{"$f":"IF(INTRO!$E$39=\"Non-endemic\",IF($G152=1,DEC!I152,0),IF($G152=1,IVM!G152,0))","v":0},"MBD",{"$f":"IF($J152=\"ALB\", IF(INTRO!$E$39=\"Non-endemic\", IF($H152<>0, IF($I152=0, $D152*$H152, $D152*($H152-$G152)), 0), $D152*$H152), 0)","v":0},0,null,0,{"$f":"IF($J152=\"MBD\", IF(INTRO!$E$39=\"Non-endemic\", IF($H152<>0, IF($I152=0, $D152*$H152, $D152*($H152-$G152)), 0), $D152*$H152), 0)","v":119098},253294,null,372392,null,0,0,null,0,0,null,253294,1689]
[{"$f":"IF(AND(INTRO!$E$37=\"Non-endemic\",INTRO!$E$41=\"Non-endemic\"),\" \",IF(COUNTRY_INFO!A153=0,\" \",COUNTRY_INFO!A153))","v":"Uganda"},{"$f":"IF(AND(INTRO!$E$37=\"Non-endemic\",INTRO!$E$41=\"Non-endemic\"),\" \",IF(COUNTRY_INFO!B153=0,\" \",COUNTRY_INFO!B153))","v":"WESTERN"},{"$f":"IF(AND(INTRO!$E$37=\"Non-endemic\",INTRO!$E$41=\"Non-endemic\"),\" \",IF(COUNTRY_INFO!C153=0,\" \",COUNTRY_INFO!C153))","v":"RWAMPARA"},{"$f":"IF(AND(INTRO!$E$37=\"Non-endemic\",INTRO!$E$41=\"Non-endemic\"),0,IF(AND(OR(COUNTRY_INFO!$H153=0,COUNTRY_INFO!$H153=4,COUNTRY_INFO!$H153=99),OR(COUNTRY_INFO!$J153=0,COUNTRY_INFO!$J153=4)),0,COUNTRY_INFO!$E153))","v":23846},{"$f":"IF(AND(INTRO!$E$37=\"Non-endemic\",INTRO!$E$41=\"Non-endemic\"),0,IF(AND(OR(COUNTRY_INFO!$H153=0,COUNTRY_INFO!$H153=4,COUNTRY_INFO!$H153=99),OR(COUNTRY_INFO!$J153=0,COUNTRY_INFO!$J153=4)),0,COUNTRY_INFO!$F153))","v":50715},74561,{"$f":"IF(AND(INTRO!$E$37=\"Non-endemic\",INTRO!$E$41=\"Non-endemic\"),0,COUNTRY_INFO!P153)","v":0},{"$f":"IF(AND(INTRO!$E$37=\"Non-endemic\",INTRO!$E$41=\"Non-endemic\"),0,COUNTRY_INFO!R153)","v":2},{"$f":"IF(INTRO!$E$39=\"Non-endemic\",IF($G153=1,DEC!I153,0),IF($G153=1,IVM!G153,0))","v":0},"MBD",{"$f":"IF($J153=\"ALB\", IF(INTRO!$E$39=\"Non-endemic\", IF($H153<>0, IF($I153=0, $D153*$H153, $D153*($H153-$G153)), 0), $D153*$H153), 0)","v":0},0,null,0,{"$f":"IF($J153=\"MBD\", IF(INTRO!$E$39=\"Non-endemic\", IF($H153<>0, IF($I153=0, $D153*$H153, $D153*($H153-$G153)), 0), $D153*$H153), 0)","v":47692},101430,null,149122,null,0,0,null,0,0,null,101430,677]
[{"$f":"IF(AND(INTRO!$E$37=\"Non-endemic\",INTRO!$E$41=\"Non-endemic\"),\" \",IF(COUNTRY_INFO!A154=0,\" \",COUNTRY_INFO!A154))","v":"Uganda"},{"$f":"IF(AND(INTRO!$E$37=\"Non-endemic\",INTRO!$E$41=\"Non-endemic\"),\" \",IF(COUNTRY_INFO!B154=0,\" \",COUNTRY_INFO!B154))","v":"WESTERN"},{"$f":"IF(AND(INTRO!$E$37=\"Non-endemic\",INTRO!$E$41=\"Non-endemic\"),\" \",IF(COUNTRY_INFO!C154=0,\" \",COUNTRY_INFO!C154))","v":"SHEEMA"},{"$f":"IF(AND(INTRO!$E$37=\"Non-endemic\",INTRO!$E$41=\"Non-endemic\"),0,IF(AND(OR(COUNTRY_INFO!$H154=0,COUNTRY_INFO!$H154=4,COUNTRY_INFO!$H154=99),OR(COUNTRY_INFO!$J154=0,COUNTRY_INFO!$J154=4)),0,COUNTRY_INFO!$E154))","v":39329},{"$f":"IF(AND(INTRO!$E$37=\"Non-endemic\",INTRO!$E$41=\"Non-endemic\"),0,IF(AND(OR(COUNTRY_INFO!$H154=0,COUNTRY_INFO!$H154=4,COUNTRY_INFO!$H154=99),OR(COUNTRY_INFO!$J154=0,COUNTRY_INFO!$J154=4)),0,COUNTRY_INFO!$F154))","v":83644},122973,{"$f":"IF(AND(INTRO!$E$37=\"Non-endemic\",INTRO!$E$41=\"Non-endemic\"),0,COUNTRY_INFO!P154)","v":0},{"$f":"IF(AND(INTRO!$E$37=\"Non-endemic\",INTRO!$E$41=\"Non-endemic\"),0,COUNTRY_INFO!R154)","v":2},{"$f":"IF(INTRO!$E$39=\"Non-endemic\",IF($G154=1,DEC!I154,0),IF($G154=1,IVM!G155,0))","v":0},"MBD",{"$f":"IF($J154=\"ALB\", IF(INTRO!$E$39=\"Non-endemic\", IF($H154<>0, IF($I154=0, $D154*$H154, $D154*($H154-$G154)), 0), $D154*$H154), 0)","v":0},0,null,0,{"$f":"IF($J154=\"MBD\", IF(INTRO!$E$39=\"Non-endemic\", IF($H154<>0, IF($I154=0, $D154*$H154, $D154*($H154-$G154)), 0), $D154*$H154), 0)","v":78658},167288,null,245946,null,0,0,null,0,0,null,167288,1116]

{"sheet":"PZQ","index":4,"n_rows":154,"n_cols":18,"rows_kept":154,"cut":false,"hidden":false,"merged":[[5,12,5,17],[6,6,7,6],[6,8,7,8],[6,9,7,9],[3,0,3,2],[5,0,5,2],[5,3,5,5],[5,8,5,11],[5,6,5,7],[6,10,7,10],[6,17,7,17],[6,13,7,13],[6,14,7,14],[6,15,7,15],[6,11,7,11],[6,12,7,12],[6,16,7,16],[6,4,7,4],[6,5,7,5],[6,7,7,7],[6,0,7,0],[6,1,7,1],[6,2,7,2],[6,3,7,3]]}
["Praziquantel (PZQ)"]
["Administrative structure, eligible population by age group, treatment plan and information about tablets"]
[]
["TOTAL",null,null,{"$f":"SUM(D$9:D$1000)","v":7071542.2399999993},{"$f":"SUM(E$9:E$1000)","v":10027112.600000001},{"$f":"SUM(F$9:F$1000)","v":17098654.840000004},null,null,{"$f":"SUM(I$9:I$1000)","v":7100487.1599999992},5009012,10027112.600000001,15715004.420000004,14219729.549999999,30081337.79999999,14219729.549999999,0,14219729.549999999,14268]
[]
["Country administrative structure",null,null,"Population requiring treatment with PZQ",null,null,"Treatment plan",null,"Target population",null,null,null,"Praziquantel (PZQ)"]
["Country","Province/State","District","SAC","Adults","Total","SCH","All SAC targeted?","SAC","SAC\nat lower level","Adults","Total","SAC","Adults","Total required\nfor SAC","Remaining in stock","Tablets to be procured","Bottle (600 mg)\n1000 tablets"]
[]
[{"$f":"IF(INTRO!$E$43=\"Non-endemic\",\" \", IF(COUNTRY_INFO!A9=0,\" \",COUNTRY_INFO!A9))","v":"Uganda"},{"$f":"IF(INTRO!$E$43=\"Non-endemic\",\" \", IF(COUNTRY_INFO!B9=0,\" \",COUNTRY_INFO!B9))","v":"CENTRAL"},{"$f":"IF(INTRO!$E$43=\"Non-endemic\",\" \", IF(COUNTRY_INFO!C9=0,\" \",COUNTRY_INFO!C9))","v":"BUIKWE"},{"$f":"IF(INTRO!$E$43=\"Non-endemic\", 0, IF(COUNTRY_INFO!$K9>0, IF(COUNTRY_INFO!$K9=4, 0, IF(COUNTRY_INFO!$K9=1, COUNTRY_INFO!$F9*0.33, IF(COUNTRY_INFO!$K9=2, COUNTRY_INFO!$F9*0.5, COUNTRY_INFO!$F9))), 0))","v":172413},{"$f":"IF(INTRO!$E$43=\"Non-endemic\", 0, IF(COUNTRY_INFO!$K9>0, IF(COUNTRY_INFO!$K9=4, 0, IF(COUNTRY_INFO!$K9=1, 0, IF(COUNTRY_INFO!$K9=2, COUNTRY_INFO!$G9*0.2, COUNTRY_INFO!$G9))), 0))","v":297442},{"$f":"SUM(D9:E9)","v":469855},{"$f":"IF(INTRO!$E$43=\"Non-endemic\", \"Not required\", COUNTRY_INFO!S9)","v":1},null,{"$f":"IF($D9=0,0,IF(AND($G9>0,$H9<>\"Yes\"),D9,IF(AND($G9>0,$H9=\"Yes\"),COUNTRY_INFO!$F9,0)))","v":172413},102838,{"$f":"IF($G9>0,E9, 0)","v":297442},{"$f":"IF($J9=0,SUM(I9,K9),SUM(J9,K9))","v":400280},{"$f":"IF($J9=0,$I9*2.5,$J9*2.5)","v":257095},{"$f":"$K9*3","v":892326},{"$f":"M9","v":257095},0,{"$f":"IF($O9>$P9,O9-P9,0)","v":257095},{"$f":"ROUNDUP($O9/1000,0)","v":258}]
[{"$f":"IF(INTRO!$E$43=\"Non-endemic\",\" \", IF(COUNTRY_INFO!A10=0,\" \",COUNTRY_INFO!A10))","v":"Uganda"},{"$f":"IF(INTRO!$E$43=\"Non-endemic\",\" \", IF(COUNTRY_INFO!B10=0,\" \",COUNTRY_INFO!B10))","v":"CENTRAL"},{"$f":"IF(INTRO!$E$43=\"Non-endemic\",\" \", IF(COUNTRY_INFO!C10=0,\" \",COUNTRY_INFO!C10))","v":"BUKOMANSIMBI"},{"$f":"IF(INTRO!$E$43=\"Non-endemic\", 0, IF(COUNTRY_INFO!$K10>0, IF(COUNTRY_INFO!$K10=4, 0, IF(COUNTRY_INFO!$K10=1, COUNTRY_INFO!$F10*0.33, IF(COUNTRY_INFO!$K10=2, COUNTRY_INFO!$F10*0.5, COUNTRY_INFO!$F10))), 0))","v":0},{"$f":"IF(INTRO!$E$43=\"Non-endemic\", 0, IF(COUNTRY_INFO!$K10>0, IF(COUNTRY_INFO!$K10=4, 0, IF(COUNTRY_INFO!$K10=1, 0, IF(COUNTRY_INFO!$K10=2, COUNTRY_INFO!$G10*0.2, COUNTRY_INFO!$G10))), 0))","v":0},{"$f":"SUM(D10:E10)","v":0},{"$f":"IF(INTRO!$E$43=\"Non-endemic\", \"Not required\", COUNTRY_INFO!S10)","v":0},null,{"$f":"IF($D10=0,0,IF(AND($G10>0,$H10<>\"Yes\"),D10,IF(AND($G10>0,$H10=\"Yes\"),COUNTRY_INFO!$F10,0)))","v":0},0,0,{"$f":"IF($J10=0,SUM(I10,K10),SUM(J10,K10))","v":0},0,0,{"$f":"M10","v":0},null,{"$f":"IF($O10>$P10,O10-P10,0)","v":0},0]
[{"$f":"IF(INTRO!$E$43=\"Non-endemic\",\" \", IF(COUNTRY_INFO!A11=0,\" \",COUNTRY_INFO!A11))","v":"Uganda"},{"$f":"IF(INTRO!$E$43=\"Non-endemic\",\" \", IF(COUNTRY_INFO!B11=0,\" \",COUNTRY_INFO!B11))","v":"CENTRAL"},{"$f":"IF(INTRO!$E$43=\"Non-endemic\",\" \", IF(COUNTRY_INFO!C11=0,\" \",COUNTRY_INFO!C11))","v":"BUTAMBALA"},{"$f":"IF(INTRO!$E$43=\"Non-endemic\", 0, IF(COUNTRY_INFO!$K11>0, IF(COUNTRY_INFO!$K11=4, 0, IF(COUNTRY_INFO!$K11=1, COUNTRY_INFO!$F11*0.33, IF(COUNTRY_INFO!$K11=2, COUNTRY_INFO!$F11*0.5, COUNTRY_INFO!$F11))), 0))","v":0},{"$f":"IF(INTRO!$E$43=\"Non-endemic\", 0, IF(COUNTRY_INFO!$K11>0, IF(COUNTRY_INFO!$K11=4, 0, IF(COUNTRY_INFO!$K11=1, 0, IF(COUNTRY_INFO!$K11=2, COUNTRY_INFO!$G11*0.2, COUNTRY_INFO!$G11))), 0))","v":0},0,{"$f":"IF(INTRO!$E$43=\"Non-endemic\", \"Not required\", COUNTRY_INFO!S11)","v":0},null,{"$f":"IF($D11=0,0,IF(AND($G11>0,$H11<>\"Yes\"),D11,IF(AND($G11>0,$H11=\"Yes\"),COUNTRY_INFO!$F11,0)))","v":0},0,0,0,0,0,0,null,0,0]
[{"$f":"IF(INTRO!$E$43=\"Non-endemic\",\" \", IF(COUNTRY_INFO!A12=0,\" \",COUNTRY_INFO!A12))","v":"Uganda"},{"$f":"IF(INTRO!$E$43=\"Non-endemic\",\" \", IF(COUNTRY_INFO!B12=0,\" \",COUNTRY_INFO!B12))","v":"CENTRAL"},{"$f":"IF(INTRO!$E$43=\"Non-endemic\",\" \", IF(COUNTRY_INFO!C12=0,\" \",COUNTRY_INFO!C12))","v":"BUVUMA"},{"$f":"IF(INTRO!$E$43=\"Non-endemic\", 0, IF(COUNTRY_INFO!$K12>0, IF(COUNTRY_INFO!$K12=4, 0, IF(COUNTRY_INFO!$K12=1, COUNTRY_INFO!$F12*0.33, IF(COUNTRY_INFO!$K12=2, COUNTRY_INFO!$F12*0.5, COUNTRY_INFO!$F12))), 0))","v":35543},{"$f":"IF(INTRO!$E$43=\"Non-endemic\", 0, IF(COUNTRY_INFO!$K12>0, IF(COUNTRY_INFO!$K12=4, 0, IF(COUNTRY_INFO!$K12=1, 0, IF(COUNTRY_INFO!$K12=2, COUNTRY_INFO!$G12*0.2, COUNTRY_INFO!$G12))), 0))","v":61317},96860,{"$f":"IF(INTRO!$E$43=\"Non-endemic\", \"Not required\", COUNTRY_INFO!S12)","v":1},null,{"$f":"IF($D12=0,0,IF(AND($G12>0,$H12<>\"Yes\"),D12,IF(AND($G12>0,$H12=\"Yes\"),COUNTRY_INFO!$F12,0)))","v":35543},40937,61317,102254,102342.5,183951,102342.5,0,102342.5,103]
[{"$f":"IF(INTRO!$E$43=\"Non-endemic\",\" \", IF(COUNTRY_INFO!A13=0,\" \",COUNTRY_INFO!A13))","v":"Uganda"},{"$f":"IF(INTRO!$E$43=\"Non-endemic\",\" \", IF(COUNTRY_INFO!B13=0,\" \",COUNTRY_INFO!B13))","v":"CENTRAL"},{"$f":"IF(INTRO!$E$43=\"Non-endemic\",\" \", IF(COUNTRY_INFO!C13=0,\" \",COUNTRY_INFO!C13))","v":"GOMBA"},{"$f":"IF(INTRO!$E$43=\"Non-endemic\", 0, IF(COUNTRY_INFO!$K13>0, IF(COUNTRY_INFO!$K13=4, 0, IF(COUNTRY_INFO!$K13=1, COUNTRY_INFO!$F13*0.33, IF(COUNTRY_INFO!$K13=2, COUNTRY_INFO!$F13*0.5, COUNTRY_INFO!$F13))), 0))","v":20869.86},{"$f":"IF(INTRO!$E$43=\"Non-endemic\", 0, IF(COUNTRY_INFO!$K13>0, IF(COUNTRY_INFO!$K13=4, 0, IF(COUNTRY_INFO!$K13=1, 0, IF(COUNTRY_INFO!$K13=2, COUNTRY_INFO!$G13*0.2, COUNTRY_INFO!$G13))), 0))","v":0},20869.86,{"$f":"IF(INTRO!$E$43=\"Non-endemic\", \"Not required\", COUNTRY_INFO!S13)","v":1},null,{"$f":"IF($D13=0,0,IF(AND($G13>0,$H13<>\"Yes\"),D13,IF(AND($G13>0,$H13=\"Yes\"),COUNTRY_INFO!$F13,0)))","v":20869.86},16444,0,16444,41110,0,41110,0,41110,42]
[{"$f":"IF(INTRO!$E$43=\"Non-endemic\",\" \", IF(COUNTRY_INFO!A14=0,\" \",COUNTRY_INFO!A14))","v":"Uganda"},{"$f":"IF(INTRO!$E$43=\"Non-endemic\",\" \", IF(COUNTRY_INFO!B14=0,\" \",COUNTRY_INFO!B14))","v":"CENTRAL"},{"$f":"IF(INTRO!$E$43=\"Non-endemic\",\" \", IF(COUNTRY_INFO!C14=0,\" \",COUNTRY_INFO!C14))","v":"KALANGALA"},{"$f":"IF(INTRO!$E$43=\"Non-endemic\", 0, IF(COUNTRY_INFO!$K14>0, IF(COUNTRY_INFO!$K14=4, 0, IF(COUNTRY_INFO!$K14=1, COUNTRY_INFO!$F14*0.33, IF(COUNTRY_INFO!$K14=2, COUNTRY_INFO!$F14*0.5, COUNTRY_INFO!$F14))), 0))","v":21102},{"$f":"IF(INTRO!$E$43=\"Non-endemic\", 0, IF(COUNTRY_INFO!$K14>0, IF(COUNTRY_INFO!$K14=4, 0, IF(COUNTRY_INFO!$K14=1, 0, IF(COUNTRY_INFO!$K14=2, COUNTRY_INFO!$G14*0.2, COUNTRY_INFO!$G14))), 0))","v":36404},57506,{"$f":"IF(INTRO!$E$43=\"Non-endemic\", \"Not required\", COUNTRY_INFO!S14)","v":1},null,{"$f":"IF($D14=0,0,IF(AND($G14>0,$H14<>\"Yes\"),D14,IF(AND($G14>0,$H14=\"Yes\"),COUNTRY_INFO!$F14,0)))","v":21102},8084,36404,44488,20210,109212,20210,0,20210,21]
[{"$f":"IF(INTRO!$E$43=\"Non-endemic\",\" \", IF(COUNTRY_INFO!A15=0,\" \",COUNTRY_INFO!A15))","v":"Uganda"},{"$f":"IF(INTRO!$E$43=\"Non-endemic\",\" \", IF(COUNTRY_INFO!B15=0,\" \",COUNTRY_INFO!B15))","v":"CENTRAL"},{"$f":"IF(INTRO!$E$43=\"Non-endemic\",\" \", IF(COUNTRY_INFO!C15=0,\" \",COUNTRY_INFO!C15))","v":"KALUNGU"},{"$f":"IF(INTRO!$E$43=\"Non-endemic\", 0, IF(COUNTRY_INFO!$K15>0, IF(COUNTRY_INFO!$K15=4, 0, IF(COUNTRY_INFO!$K15=1, COUNTRY_INFO!$F15*0.33, IF(COUNTRY_INFO!$K15=2, COUNTRY_INFO!$F15*0.5, COUNTRY_INFO!$F15))), 0))","v":24005.850000000002},{"$f":"IF(INTRO!$E$43=\"Non-endemic\", 0, IF(COUNTRY_INFO!$K15>0, IF(COUNTRY_INFO!$K15=4, 0, IF(COUNTRY_INFO!$K15=1, 0, IF(COUNTRY_INFO!$K15=2, COUNTRY_INFO!$G15*0.2, COUNTRY_INFO!$G15))), 0))","v":0},24005.850000000002,{"$f":"IF(INTRO!$E$43=\"Non-endemic\", \"Not required\", COUNTRY_INFO!S15)","v":1},null,{"$f":"IF($D15=0,0,IF(AND($G15>0,$H15<>\"Yes\"),D15,IF(AND($G15>0,$H15=\"Yes\"),COUNTRY_INFO!$F15,0)))","v":24005.850000000002},23290,0,23290,58225,0,58225,0,58225,59]
[{"$f":"IF(INTRO!$E$43=\"Non-endemic\",\" \", IF(COUNTRY_INFO!A16=0,\" \",COUNTRY_INFO!A16))","v":"Uganda"},{"$f":"IF(INTRO!$E$43=\"Non-endemic\",\" \", IF(COUNTRY_INFO!B16=0,\" \",COUNTRY_INFO!B16))","v":"CENTRAL"},{"$f":"IF(INTRO!$E$43=\"Non-endemic\",\" \", IF(COUNTRY_INFO!C16=0,\" \",COUNTRY_INFO!C16))","v":"KAMPALA"},{"$f":"IF(INTRO!$E$43=\"Non-endemic\", 0, IF(COUNTRY_INFO!$K16>0, IF(COUNTRY_INFO!$K16=4, 0, IF(COUNTRY_INFO!$K16=1, COUNTRY_INFO!$F16*0.33, IF(COUNTRY_INFO!$K16=2, COUNTRY_INFO!$F16*0.5, COUNTRY_INFO!$F16))), 0))","v":0},{"$f":"IF(INTRO!$E$43=\"Non-endemic\", 0, IF(COUNTRY_INFO!$K16>0, IF(COUNTRY_INFO!$K16=4, 0, IF(COUNTRY_INFO!$K16=1, 0, IF(COUNTRY_INFO!$K16=2, COUNTRY_INFO!$G16*0.2, COUNTRY_INFO!$G16))), 0))","v":0},0,{"$f":"IF(INTRO!$E$43=\"Non-endemic\", \"Not required\", COUNTRY_INFO!S16)","v":0},null,{"$f":"IF($D16=0,0,IF(AND($G16>0,$H16<>\"Yes\"),D16,IF(AND($G16>0,$H16=\"Yes\"),COUNTRY_INFO!$F16,0)))","v":0},0,0,0,0,0,0,null,0,0]
[{"$f":"IF(INTRO!$E$43=\"Non-endemic\",\" \", IF(COUNTRY_INFO!A17=0,\" \",COUNTRY_INFO!A17))","v":"Uganda"},{"$f":"IF(INTRO!$E$43=\"Non-endemic\",\" \", IF(COUNTRY_INFO!B17=0,\" \",COUNTRY_INFO!B17))","v":"CENTRAL"},{"$f":"IF(INTRO!$E$43=\"Non-endemic\",\" \", IF(COUNTRY_INFO!C17=0,\" \",COUNTRY_INFO!C17))","v":"KASSANDA"},{"$f":"IF(INTRO!$E$43=\"Non-endemic\", 0, IF(COUNTRY_INFO!$K17>0, IF(COUNTRY_INFO!$K17=4, 0, IF(COUNTRY_INFO!$K17=1, COUNTRY_INFO!$F17*0.33, IF(COUNTRY_INFO!$K17=2, COUNTRY_INFO!$F17*0.5, COUNTRY_INFO!$F17))), 0))","v":54375.5},{"$f":"IF(INTRO!$E$43=\"Non-endemic\", 0, IF(COUNTRY_INFO!$K17>0, IF(COUNTRY_INFO!$K17=4, 0, IF(COUNTRY_INFO!$K17=1, 0, IF(COUNTRY_INFO!$K17=2, COUNTRY_INFO!$G17*0.2, COUNTRY_INFO!$G17))), 0))","v":37522.800000000003},91898.3,{"$f":"IF(INTRO!$E$43=\"Non-endemic\", \"Not required\", COUNTRY_INFO!S17)","v":1},null,{"$f":"IF($D17=0,0,IF(AND($G17>0,$H17<>\"Yes\"),D17,IF(AND($G17>0,$H17=\"Yes\"),COUNTRY_INFO!$F17,0)))","v":54375.5},0,37522.800000000003,91898.3,135938.75,112568.40000000001,135938.75,0,135938.75,136]
[{"$f":"IF(INTRO!$E$43=\"Non-endemic\",\" \", IF(COUNTRY_INFO!A18=0,\" \",COUNTRY_INFO!A18))","v":"Uganda"},{"$f":"IF(INTRO!$E$43=\"Non-endemic\",\" \", IF(COUNTRY_INFO!B18=0,\" \",COUNTRY_INFO!B18))","v":"CENTRAL"},{"$f":"IF(INTRO!$E$43=\"Non-endemic\",\" \", IF(COUNTRY_INFO!C18=0,\" \",COUNTRY_INFO!C18))","v":"KAYUNGA"},{"$f":"IF(INTRO!$E$43=\"Non-endemic\", 0, IF(COUNTRY_INFO!$K18>0, IF(COUNTRY_INFO!$K18=4, 0, IF(COUNTRY_INFO!$K18=1, COUNTRY_INFO!$F18*0.33, IF(COUNTRY_INFO!$K18=2, COUNTRY_INFO!$F18*0.5, COUNTRY_INFO!$F18))), 0))","v":146261},{"$f":"IF(INTRO!$E$43=\"Non-endemic\", 0, IF(COUNTRY_INFO!$K18>0, IF(COUNTRY_INFO!$K18=4, 0, IF(COUNTRY_INFO!$K18=1, 0, IF(COUNTRY_INFO!$K18=2, COUNTRY_INFO!$G18*0.2, COUNTRY_INFO!$G18))), 0))","v":252324},398585,{"$f":"IF(INTRO!$E$43=\"Non-endemic\", \"Not required\", COUNTRY_INFO!S18)","v":1},null,{"$f":"IF($D18=0,0,IF(AND($G18>0,$H18<>\"Yes\"),D18,IF(AND($G18>0,$H18=\"Yes\"),COUNTRY_INFO!$F18,0)))","v":146261},72921,252324,325245,182302.5,756972,182302.5,0,182302.5,183]
[{"$f":"IF(INTRO!$E$43=\"Non-endemic\",\" \", IF(COUNTRY_INFO!A19=0,\" \",COUNTRY_INFO!A19))","v":"Uganda"},{"$f":"IF(INTRO!$E$43=\"Non-endemic\",\" \", IF(COUNTRY_INFO!B19=0,\" \",COUNTRY_INFO!B19))","v":"CENTRAL"},{"$f":"IF(INTRO!$E$43=\"Non-endemic\",\" \", IF(COUNTRY_INFO!C19=0,\" \",COUNTRY_INFO!C19))","v":"KIBOGA"},{"$f":"IF(INTRO!$E$43=\"Non-endemic\", 0, IF(COUNTRY_INFO!$K19>0, IF(COUNTRY_INFO!$K19=4, 0, IF(COUNTRY_INFO!$K19=1, COUNTRY_INFO!$F19*0.33, IF(COUNTRY_INFO!$K19=2, COUNTRY_INFO!$F19*0.5, COUNTRY_INFO!$F19))), 0))","v":0},{"$f":"IF(INTRO!$E$43=\"Non-endemic\", 0, IF(COUNTRY_INFO!$K19>0, IF(COUNTRY_INFO!$K19=4, 0, IF(COUNTRY_INFO!$K19=1, 0, IF(COUNTRY_INFO!$K19=2, COUNTRY_INFO!$G19*0.2, COUNTRY_INFO!$G19))), 0))","v":0},0,{"$f":"IF(INTRO!$E$43=\"Non-endemic\", \"Not required\", COUNTRY_INFO!S19)","v":0},null,{"$f":"IF($D19=0,0,IF(AND($G19>0,$H19<>\"Yes\"),D19,IF(AND($G19>0,$H19=\"Yes\"),COUNTRY_INFO!$F19,0)))","v":0},0,0,0,0,0,0,null,0,0]
[{"$f":"IF(INTRO!$E$43=\"Non-endemic\",\" \", IF(COUNTRY_INFO!A20=0,\" \",COUNTRY_INFO!A20))","v":"Uganda"},{"$f":"IF(INTRO!$E$43=\"Non-endemic\",\" \", IF(COUNTRY_INFO!B20=0,\" \",COUNTRY_INFO!B20))","v":"CENTRAL"},{"$f":"IF(INTRO!$E$43=\"Non-endemic\",\" \", IF(COUNTRY_INFO!C20=0,\" \",COUNTRY_INFO!C20))","v":"KYANKWANZI"},{"$f":"IF(INTRO!$E$43=\"Non-endemic\", 0, IF(COUNTRY_INFO!$K20>0, IF(COUNTRY_INFO!$K20=4, 0, IF(COUNTRY_INFO!$K20=1, COUNTRY_INFO!$F20*0.33, IF(COUNTRY_INFO!$K20=2, COUNTRY_INFO!$F20*0.5, COUNTRY_INFO!$F20))), 0))","v":0},{"$f":"IF(INTRO!$E$43=\"Non-endemic\", 0, IF(COUNTRY_INFO!$K20>0, IF(COUNTRY_INFO!$K20=4, 0, IF(COUNTRY_INFO!$K20=1, 0, IF(COUNTRY_INFO!$K20=2, COUNTRY_INFO!$G20*0.2, COUNTRY_INFO!$G20))), 0))","v":0},0,{"$f":"IF(INTRO!$E$43=\"Non-endemic\", \"Not required\", COUNTRY_INFO!S20)","v":0},null,{"$f":"IF($D20=0,0,IF(AND($G20>0,$H20<>\"Yes\"),D20,IF(AND($G20>0,$H20=\"Yes\"),COUNTRY_INFO!$F20,0)))","v":0},0,0,0,0,0,0,null,0,0]
[{"$f":"IF(INTRO!$E$43=\"Non-endemic\",\" \", IF(COUNTRY_INFO!A21=0,\" \",COUNTRY_INFO!A21))","v":"Uganda"},{"$f":"IF(INTRO!$E$43=\"Non-endemic\",\" \", IF(COUNTRY_INFO!B21=0,\" \",COUNTRY_INFO!B21))","v":"CENTRAL"},{"$f":"IF(INTRO!$E$43=\"Non-endemic\",\" \", IF(COUNTRY_INFO!C21=0,\" \",COUNTRY_INFO!C21))","v":"KYOTERA"},{"$f":"IF(INTRO!$E$43=\"Non-endemic\", 0, IF(COUNTRY_INFO!$K21>0, IF(COUNTRY_INFO!$K21=4, 0, IF(COUNTRY_INFO!$K21=1, COUNTRY_INFO!$F21*0.33, IF(COUNTRY_INFO!$K21=2, COUNTRY_INFO!$F21*0.5, COUNTRY_INFO!$F21))), 0))","v":21110.100000000002},{"$f":"IF(INTRO!$E$43=\"Non-endemic\", 0, IF(COUNTRY_INFO!$K21>0, IF(COUNTRY_INFO!$K21=4, 0, IF(COUNTRY_INFO!$K21=1, 0, IF(COUNTRY_INFO!$K21=2, COUNTRY_INFO!$G21*0.2, COUNTRY_INFO!$G21))), 0))","v":0},21110.100000000002,{"$f":"IF(INTRO!$E$43=\"Non-endemic\", \"Not required\", COUNTRY_INFO!S21)","v":1},null,{"$f":"IF($D21=0,0,IF(AND($G21>0,$H21<>\"Yes\"),D21,IF(AND($G21>0,$H21=\"Yes\"),COUNTRY_INFO!$F21,0)))","v":21110.100000000002},0,0,21110.100000000002,52775.250000000007,0,52775.250000000007,0,52775.250000000007,53]
[{"$f":"IF(INTRO!$E$43=\"Non-endemic\",\" \", IF(COUNTRY_INFO!A22=0,\" \",COUNTRY_INFO!A22))","v":"Uganda"},{"$f":"IF(INTRO!$E$43=\"Non-endemic\",\" \", IF(COUNTRY_INFO!B22=0,\" \",COUNTRY_INFO!B22))","v":"CENTRAL"},{"$f":"IF(INTRO!$E$43=\"Non-endemic\",\" \", IF(COUNTRY_INFO!C22=0,\" \",COUNTRY_INFO!C22))","v":"LUWERO"},{"$f":"IF(INTRO!$E$43=\"Non-endemic\", 0, IF(COUNTRY_INFO!$K22>0, IF(COUNTRY_INFO!$K22=4, 0, IF(COUNTRY_INFO!$K22=1, COUNTRY_INFO!$F22*0.33, IF(COUNTRY_INFO!$K22=2, COUNTRY_INFO!$F22*0.5, COUNTRY_INFO!$F22))), 0))","v":0},{"$f":"IF(INTRO!$E$43=\"Non-endemic\", 0, IF(COUNTRY_INFO!$K22>0, IF(COUNTRY_INFO!$K22=4, 0, IF(COUNTRY_INFO!$K22=1, 0, IF(COUNTRY_INFO!$K22=2, COUNTRY_INFO!$G22*0.2, COUNTRY_INFO!$G22))), 0))","v":0},0,{"$f":"IF(INTRO!$E$43=\"Non-endemic\", \"Not required\", COUNTRY_INFO!S22)","v":0},null,{"$f":"IF($D22=0,0,IF(AND($G22>0,$H22<>\"Yes\"),D22,IF(AND($G22>0,$H22=\"Yes\"),COUNTRY_INFO!$F22,0)))","v":0},0,0,0,0,0,0,null,0,0]
[{"$f":"IF(INTRO!$E$43=\"Non-endemic\",\" \", IF(COUNTRY_INFO!A23=0,\" \",COUNTRY_INFO!A23))","v":"Uganda"},{"$f":"IF(INTRO!$E$43=\"Non-endemic\",\" \", IF(COUNTRY_INFO!B23=0,\" \",COUNTRY_INFO!B23))","v":"CENTRAL"},{"$f":"IF(INTRO!$E$43=\"Non-endemic\",\" \", IF(COUNTRY_INFO!C23=0,\" \",COUNTRY_INFO!C23))","v":"LWENGO"},{"$f":"IF(INTRO!$E$43=\"Non-endemic\", 0, IF(COUNTRY_INFO!$K23>0, IF(COUNTRY_INFO!$K23=4, 0, IF(COUNTRY_INFO!$K23=1, COUNTRY_INFO!$F23*0.33, IF(COUNTRY_INFO!$K23=2, COUNTRY_INFO!$F23*0.5, COUNTRY_INFO!$F23))), 0))","v":0},{"$f":"IF(INTRO!$E$43=\"Non-endemic\", 0, IF(COUNTRY_INFO!$K23>0, IF(COUNTRY_INFO!$K23=4, 0, IF(COUNTRY_INFO!$K23=1, 0, IF(COUNTRY_INFO!$K23=2, COUNTRY_INFO!$G23*0.2, COUNTRY_INFO!$G23))), 0))","v":0},0,{"$f":"IF(INTRO!$E$43=\"Non-endemic\", \"Not required\", COUNTRY_INFO!S23)","v":0},null,{"$f":"IF($D23=0,0,IF(AND($G23>0,$H23<>\"Yes\"),D23,IF(AND($G23>0,$H23=\"Yes\"),COUNTRY_INFO!$F23,0)))","v":0},0,0,0,0,0,0,null,0,0]
[{"$f":"IF(INTRO!$E$43=\"Non-endemic\",\" \", IF(COUNTRY_INFO!A24=0,\" \",COUNTRY_INFO!A24))","v":"Uganda"},{"$f":"IF(INTRO!$E$43=\"Non-endemic\",\" \", IF(COUNTRY_INFO!B24=0,\" \",COUNTRY_INFO!B24))","v":"CENTRAL"},{"$f":"IF(INTRO!$E$43=\"Non-endemic\",\" \", IF(COUNTRY_INFO!C24=0,\" \",COUNTRY_INFO!C24))","v":"LYANTONDE"},{"$f":"IF(INTRO!$E$43=\"Non-endemic\", 0, IF(COUNTRY_INFO!$K24>0, IF(COUNTRY_INFO!$K24=4, 0, IF(COUNTRY_INFO!$K24=1, COUNTRY_INFO!$F24*0.33, IF(COUNTRY_INFO!$K24=2, COUNTRY_INFO!$F24*0.5, COUNTRY_INFO!$F24))), 0))","v":0},{"$f":"IF(INTRO!$E$43=\"Non-endemic\", 0, IF(COUNTRY_INFO!$K24>0, IF(COUNTRY_INFO!$K24=4, 0, IF(COUNTRY_INFO!$K24=1, 0, IF(COUNTRY_INFO!$K24=2, COUNTRY_INFO!$G24*0.2, COUNTRY_INFO!$G24))), 0))","v":0},0,{"$f":"IF(INTRO!$E$43=\"Non-endemic\", \"Not required\", COUNTRY_INFO!S24)","v":0},null,{"$f":"IF($D24=0,0,IF(AND($G24>0,$H24<>\"Yes\"),D24,IF(AND($G24>0,$H24=\"Yes\"),COUNTRY_INFO!$F24,0)))","v":0},0,0,0,0,0,0,null,0,0]
[{"$f":"IF(INTRO!$E$43=\"Non-endemic\",\" \", IF(COUNTRY_INFO!A25=0,\" \",COUNTRY_INFO!A25))","v":"Uganda"},{"$f":"IF(INTRO!$E$43=\"Non-endemic\",\" \", IF(COUNTRY_INFO!B25=0,\" \",COUNTRY_INFO!B25))","v":"CENTRAL"},{"$f":"IF(INTRO!$E$43=\"Non-endemic\",\" \", IF(COUNTRY_INFO!C25=0,\" \",COUNTRY_INFO!C25))","v":"MASAKA"},{"$f":"IF(INTRO!$E$43=\"Non-endemic\", 0, IF(COUNTRY_INFO!$K25>0, IF(COUNTRY_INFO!$K25=4, 0, IF(COUNTRY_INFO!$K25=1, COUNTRY_INFO!$F25*0.33, IF(COUNTRY_INFO!$K25=2, COUNTRY_INFO!$F25*0.5, COUNTRY_INFO!$F25))), 0))","v":76178},{"$f":"IF(INTRO!$E$43=\"Non-endemic\", 0, IF(COUNTRY_INFO!$K25>0, IF(COUNTRY_INFO!$K25=4, 0, IF(COUNTRY_INFO!$K25=1, 0, IF(COUNTRY_INFO!$K25=2, COUNTRY_INFO!$G25*0.2, COUNTRY_INFO!$G25))), 0))","v":131420},207598,{"$f":"IF(INTRO!$E$43=\"Non-endemic\", \"Not required\", COUNTRY_INFO!S25)","v":1},null,{"$f":"IF($D25=0,0,IF(AND($G25>0,$H25<>\"Yes\"),D25,IF(AND($G25>0,$H25=\"Yes\"),COUNTRY_INFO!$F25,0)))","v":76178},42854,131420,174274,107135,394260,107135,0,107135,108]
[{"$f":"IF(INTRO!$E$43=\"Non-endemic\",\" \", IF(COUNTRY_INFO!A26=0,\" \",COUNTRY_INFO!A26))","v":"Uganda"},{"$f":"IF(INTRO!$E$43=\"Non-endemic\",\" \", IF(COUNTRY_INFO!B26=0,\" \",COUNTRY_INFO!B26))","v":"CENTRAL"},{"$f":"IF(INTRO!$E$43=\"Non-endemic\",\" \", IF(COUNTRY_INFO!C26=0,\" \",COUNTRY_INFO!C26))","v":"Masaka City"},{"$f":"IF(INTRO!$E$43=\"Non-endemic\", 0, IF(COUNTRY_INFO!$K26>0, IF(COUNTRY_INFO!$K26=4, 0, IF(COUNTRY_INFO!$K26=1, COUNTRY_INFO!$F26*0.33, IF(COUNTRY_INFO!$K26=2, COUNTRY_INFO!$F26*0.5, COUNTRY_INFO!$F26))), 0))","v":0},{"$f":"IF(INTRO!$E$43=\"Non-endemic\", 0, IF(COUNTRY_INFO!$K26>0, IF(COUNTRY_INFO!$K26=4, 0, IF(COUNTRY_INFO!$K26=1, 0, IF(COUNTRY_INFO!$K26=2, COUNTRY_INFO!$G26*0.2, COUNTRY_INFO!$G26))), 0))","v":0},0,{"$f":"IF(INTRO!$E$43=\"Non-endemic\", \"Not required\", COUNTRY_INFO!S26)","v":0},null,{"$f":"IF($D26=0,0,IF(AND($G26>0,$H26<>\"Yes\"),D26,IF(AND($G26>0,$H26=\"Yes\"),COUNTRY_INFO!$F26,0)))","v":0},0,0,0,0,0,0,null,0,0]
[{"$f":"IF(INTRO!$E$43=\"Non-endemic\",\" \", IF(COUNTRY_INFO!A27=0,\" \",COUNTRY_INFO!A27))","v":"Uganda"},{"$f":"IF(INTRO!$E$43=\"Non-endemic\",\" \", IF(COUNTRY_INFO!B27=0,\" \",COUNTRY_INFO!B27))","v":"CENTRAL"},{"$f":"IF(INTRO!$E$43=\"Non-endemic\",\" \", IF(COUNTRY_INFO!C27=0,\" \",COUNTRY_INFO!C27))","v":"MITYANA"},{"$f":"IF(INTRO!$E$43=\"Non-endemic\", 0, IF(COUNTRY_INFO!$K27>0, IF(COUNTRY_INFO!$K27=4, 0, IF(COUNTRY_INFO!$K27=1, COUNTRY_INFO!$F27*0.33, IF(COUNTRY_INFO!$K27=2, COUNTRY_INFO!$F27*0.5, COUNTRY_INFO!$F27))), 0))","v":130872},{"$f":"IF(INTRO!$E$43=\"Non-endemic\", 0, IF(COUNTRY_INFO!$K27>0, IF(COUNTRY_INFO!$K27=4, 0, IF(COUNTRY_INFO!$K27=1, 0, IF(COUNTRY_INFO!$K27=2, COUNTRY_INFO!$G27*0.2, COUNTRY_INFO!$G27))), 0))","v":225776},356648,{"$f":"IF(INTRO!$E$43=\"Non-endemic\", \"Not required\", COUNTRY_INFO!S27)","v":1},null,{"$f":"IF($D27=0,0,IF(AND($G27>0,$H27<>\"Yes\"),D27,IF(AND($G27>0,$H27=\"Yes\"),COUNTRY_INFO!$F27,0)))","v":130872},15932,225776,241708,39830,677328,39830,0,39830,40]
[{"$f":"IF(INTRO!$E$43=\"Non-endemic\",\" \", IF(COUNTRY_INFO!A28=0,\" \",COUNTRY_INFO!A28))","v":"Uganda"},{"$f":"IF(INTRO!$E$43=\"Non-endemic\",\" \", IF(COUNTRY_INFO!B28=0,\" \",COUNTRY_INFO!B28))","v":"CENTRAL"},{"$f":"IF(INTRO!$E$43=\"Non-endemic\",\" \", IF(COUNTRY_INFO!C28=0,\" \",COUNTRY_INFO!C28))","v":"MPIGI"},{"$f":"IF(INTRO!$E$43=\"Non-endemic\", 0, IF(COUNTRY_INFO!$K28>0, IF(COUNTRY_INFO!$K28=4, 0, IF(COUNTRY_INFO!$K28=1, COUNTRY_INFO!$F28*0.33, IF(COUNTRY_INFO!$K28=2, COUNTRY_INFO!$F28*0.5, COUNTRY_INFO!$F28))), 0))","v":49684},{"$f":"IF(INTRO!$E$43=\"Non-endemic\", 0, IF(COUNTRY_INFO!$K28>0, IF(COUNTRY_INFO!$K28=4, 0, IF(COUNTRY_INFO!$K28=1, 0, IF(COUNTRY_INFO!$K28=2, COUNTRY_INFO!$G28*0.2, COUNTRY_INFO!$G28))), 0))","v":34285.200000000004},83969.200000000012,{"$f":"IF(INTRO!$E$43=\"Non-endemic\", \"Not required\", COUNTRY_INFO!S28)","v":1},null,{"$f":"IF($D28=0,0,IF(AND($G28>0,$H28<>\"Yes\"),D28,IF(AND($G28>0,$H28=\"Yes\"),COUNTRY_INFO!$F28,0)))","v":49684},30569,34285.200000000004,64854.200000000004,76422.5,102855.6,76422.5,0,76422.5,77]
[{"$f":"IF(INTRO!$E$43=\"Non-endemic\",\" \", IF(COUNTRY_INFO!A29=0,\" \",COUNTRY_INFO!A29))","v":"Uganda"},{"$f":"IF(INTRO!$E$43=\"Non-endemic\",\" \", IF(COUNTRY_INFO!B29=0,\" \",COUNTRY_INFO!B29))","v":"CENTRAL"},{"$f":"IF(INTRO!$E$43=\"Non-endemic\",\" \", IF(COUNTRY_INFO!C29=0,\" \",COUNTRY_INFO!C29))","v":"MUBENDE"},{"$f":"IF(INTRO!$E$43=\"Non-endemic\", 0, IF(COUNTRY_INFO!$K29>0, IF(COUNTRY_INFO!$K29=4, 0, IF(COUNTRY_INFO!$K29=1, COUNTRY_INFO!$F29*0.33, IF(COUNTRY_INFO!$K29=2, COUNTRY_INFO!$F29*0.5, COUNTRY_INFO!$F29))), 0))","v":53917.05},{"$f":"IF(INTRO!$E$43=\"Non-endemic\", 0, IF(COUNTRY_INFO!$K29>0, IF(COUNTRY_INFO!$K29=4, 0, IF(COUNTRY_INFO!$K29=1, 0, IF(COUNTRY_INFO!$K29=2, COUNTRY_INFO!$G29*0.2, COUNTRY_INFO!$G29))), 0))","v":0},53917.05,{"$f":"IF(INTRO!$E$43=\"Non-endemic\", \"Not required\", COUNTRY_INFO!S29)","v":1},null,{"$f":"IF($D29=0,0,IF(AND($G29>0,$H29<>\"Yes\"),D29,IF(AND($G29>0,$H29=\"Yes\"),COUNTRY_INFO!$F29,0)))","v":53917.05},0,0,53917.05,134792.625,0,134792.625,0,134792.625,135]
[{"$f":"IF(INTRO!$E$43=\"Non-endemic\",\" \", IF(COUNTRY_INFO!A30=0,\" \",COUNTRY_INFO!A30))","v":"Uganda"},{"$f":"IF(INTRO!$E$43=\"Non-endemic\",\" \", IF(COUNTRY_INFO!B30=0,\" \",COUNTRY_INFO!B30))","v":"CENTRAL"},{"$f":"IF(INTRO!$E$43=\"Non-endemic\",\" \", IF(COUNTRY_INFO!C30=0,\" \",COUNTRY_INFO!C30))","v":"MUKONO"},{"$f":"IF(INTRO!$E$43=\"Non-endemic\", 0, IF(COUNTRY_INFO!$K30>0, IF(COUNTRY_INFO!$K30=4, 0, IF(COUNTRY_INFO!$K30=1, COUNTRY_INFO!$F30*0.33, IF(COUNTRY_INFO!$K30=2, COUNTRY_INFO!$F30*0.5, COUNTRY_INFO!$F30))), 0))","v":236972},{"$f":"IF(INTRO!$E$43=\"Non-endemic\", 0, IF(COUNTRY_INFO!$K30>0, IF(COUNTRY_INFO!$K30=4, 0, IF(COUNTRY_INFO!$K30=1, 0, IF(COUNTRY_INFO!$K30=2, COUNTRY_INFO!$G30*0.2, COUNTRY_INFO!$G30))), 0))","v":408816},645788,{"$f":"IF(INTRO!$E$43=\"Non-endemic\", \"Not required\", COUNTRY_INFO!S30)","v":1},null,{"$f":"IF($D30=0,0,IF(AND($G30>0,$H30<>\"Yes\"),D30,IF(AND($G30>0,$H30=\"Yes\"),COUNTRY_INFO!$F30,0)))","v":236972},32830,408816,441646,82075,1226448,82075,0,82075,83]
[{"$f":"IF(INTRO!$E$43=\"Non-endemic\",\" \", IF(COUNTRY_INFO!A31=0,\" \",COUNTRY_INFO!A31))","v":"Uganda"},{"$f":"IF(INTRO!$E$43=\"Non-endemic\",\" \", IF(COUNTRY_INFO!B31=0,\" \",COUNTRY_INFO!B31))","v":"CENTRAL"},{"$f":"IF(INTRO!$E$43=\"Non-endemic\",\" \", IF(COUNTRY_INFO!C31=0,\" \",COUNTRY_INFO!C31))","v":"NAKASEKE"},{"$f":"IF(INTRO!$E$43=\"Non-endemic\", 0, IF(COUNTRY_INFO!$K31>0, IF(COUNTRY_INFO!$K31=4, 0, IF(COUNTRY_INFO!$K31=1, COUNTRY_INFO!$F31*0.33, IF(COUNTRY_INFO!$K31=2, COUNTRY_INFO!$F31*0.5, COUNTRY_INFO!$F31))), 0))","v":0},{"$f":"IF(INTRO!$E$43=\"Non-endemic\", 0, IF(COUNTRY_INFO!$K31>0, IF(COUNTRY_INFO!$K31=4, 0, IF(COUNTRY_INFO!$K31=1, 0, IF(COUNTRY_INFO!$K31=2, COUNTRY_INFO!$G31*0.2, COUNTRY_INFO!$G31))), 0))","v":0},0,{"$f":"IF(INTRO!$E$43=\"Non-endemic\", \"Not required\", COUNTRY_INFO!S31)","v":0},null,{"$f":"IF($D31=0,0,IF(AND($G31>0,$H31<>\"Yes\"),D31,IF(AND($G31>0,$H31=\"Yes\"),COUNTRY_INFO!$F31,0)))","v":0},0,0,0,0,0,0,null,0,0]
[{"$f":"IF(INTRO!$E$43=\"Non-endemic\",\" \", IF(COUNTRY_INFO!A32=0,\" \",COUNTRY_INFO!A32))","v":"Uganda"},{"$f":"IF(INTRO!$E$43=\"Non-endemic\",\" \", IF(COUNTRY_INFO!B32=0,\" \",COUNTRY_INFO!B32))","v":"CENTRAL"},{"$f":"IF(INTRO!$E$43=\"Non-endemic\",\" \", IF(COUNTRY_INFO!C32=0,\" \",COUNTRY_INFO!C32))","v":"NAKASONGOLA"},{"$f":"IF(INTRO!$E$43=\"Non-endemic\", 0, IF(COUNTRY_INFO!$K32>0, IF(COUNTRY_INFO!$K32=4, 0, IF(COUNTRY_INFO!$K32=1, COUNTRY_INFO!$F32*0.33, IF(COUNTRY_INFO!$K32=2, COUNTRY_INFO!$F32*0.5, COUNTRY_INFO!$F32))), 0))","v":23710.5},{"$f":"IF(INTRO!$E$43=\"Non-endemic\", 0, IF(COUNTRY_INFO!$K32>0, IF(COUNTRY_INFO!$K32=4, 0, IF(COUNTRY_INFO!$K32=1, 0, IF(COUNTRY_INFO!$K32=2, COUNTRY_INFO!$G32*0.2, COUNTRY_INFO!$G32))), 0))","v":0},23710.5,{"$f":"IF(INTRO!$E$43=\"Non-endemic\", \"Not required\", COUNTRY_INFO!S32)","v":1},null,{"$f":"IF($D32=0,0,IF(AND($G32>0,$H32<>\"Yes\"),D32,IF(AND($G32>0,$H32=\"Yes\"),COUNTRY_INFO!$F32,0)))","v":23710.5},0,0,23710.5,59276.25,0,59276.25,0,59276.25,60]
[{"$f":"IF(INTRO!$E$43=\"Non-endemic\",\" \", IF(COUNTRY_INFO!A33=0,\" \",COUNTRY_INFO!A33))","v":"Uganda"},{"$f":"IF(INTRO!$E$43=\"Non-endemic\",\" \", IF(COUNTRY_INFO!B33=0,\" \",COUNTRY_INFO!B33))","v":"CENTRAL"},{"$f":"IF(INTRO!$E$43=\"Non-endemic\",\" \", IF(COUNTRY_INFO!C33=0,\" \",COUNTRY_INFO!C33))","v":"RAKAI"},{"$f":"IF(INTRO!$E$43=\"Non-endemic\", 0, IF(COUNTRY_INFO!$K33>0, IF(COUNTRY_INFO!$K33=4, 0, IF(COUNTRY_INFO!$K33=1, COUNTRY_INFO!$F33*0.33, IF(COUNTRY_INFO!$K33=2, COUNTRY_INFO!$F33*0.5, COUNTRY_INFO!$F33))), 0))","v":70342.5},{"$f":"IF(INTRO!$E$43=\"Non-endemic\", 0, IF(COUNTRY_INFO!$K33>0, IF(COUNTRY_INFO!$K33=4, 0, IF(COUNTRY_INFO!$K33=1, 0, IF(COUNTRY_INFO!$K33=2, COUNTRY_INFO!$G33*0.2, COUNTRY_INFO!$G33))), 0))","v":48540.800000000003},118883.3,{"$f":"IF(INTRO!$E$43=\"Non-endemic\", \"Not required\", COUNTRY_INFO!S33)","v":1},null,{"$f":"IF($D33=0,0,IF(AND($G33>0,$H33<>\"Yes\"),D33,IF(AND($G33>0,$H33=\"Yes\"),COUNTRY_INFO!$F33,0)))","v":70342.5},82086,48540.800000000003,130626.8,205215,145622.40000000002,205215,0,205215,206]
[{"$f":"IF(INTRO!$E$43=\"Non-endemic\",\" \", IF(COUNTRY_INFO!A34=0,\" \",COUNTRY_INFO!A34))","v":"Uganda"},{"$f":"IF(INTRO!$E$43=\"Non-endemic\",\" \", IF(COUNTRY_INFO!B34=0,\" \",COUNTRY_INFO!B34))","v":"CENTRAL"},{"$f":"IF(INTRO!$E$43=\"Non-endemic\",\" \", IF(COUNTRY_INFO!C34=0,\" \",COUNTRY_INFO!C34))","v":"SEMBABULE"},{"$f":"IF(INTRO!$E$43=\"Non-endemic\", 0, IF(COUNTRY_INFO!$K34>0, IF(COUNTRY_INFO!$K34=4, 0, IF(COUNTRY_INFO!$K34=1, COUNTRY_INFO!$F34*0.33, IF(COUNTRY_INFO!$K34=2, COUNTRY_INFO!$F34*0.5, COUNTRY_INFO!$F34))), 0))","v":0},{"$f":"IF(INTRO!$E$43=\"Non-endemic\", 0, IF(COUNTRY_INFO!$K34>0, IF(COUNTRY_INFO!$K34=4, 0, IF(COUNTRY_INFO!$K34=1, 0, IF(COUNTRY_INFO!$K34=2, COUNTRY_INFO!$G34*0.2, COUNTRY_INFO!$G34))), 0))","v":0},0,{"$f":"IF(INTRO!$E$43=\"Non-endemic\", \"Not required\", COUNTRY_INFO!S34)","v":0},null,{"$f":"IF($D34=0,0,IF(AND($G34>0,$H34<>\"Yes\"),D34,IF(AND($G34>0,$H34=\"Yes\"),COUNTRY_INFO!$F34,0)))","v":0},0,0,0,0,0,0,null,0,0]
[{"$f":"IF(INTRO!$E$43=\"Non-endemic\",\" \", IF(COUNTRY_INFO!A35=0,\" \",COUNTRY_INFO!A35))","v":"Uganda"},{"$f":"IF(INTRO!$E$43=\"Non-endemic\",\" \", IF(COUNTRY_INFO!B35=0,\" \",COUNTRY_INFO!B35))","v":"CENTRAL"},{"$f":"IF(INTRO!$E$43=\"Non-endemic\",\" \", IF(COUNTRY_INFO!C35=0,\" \",COUNTRY_INFO!C35))","v":"WAKISO"},{"$f":"IF(INTRO!$E$43=\"Non-endemic\", 0, IF(COUNTRY_INFO!$K35>0, IF(COUNTRY_INFO!$K35=4, 0, IF(COUNTRY_INFO!$K35=1, COUNTRY_INFO!$F35*0.33, IF(COUNTRY_INFO!$K35=2, COUNTRY_INFO!$F35*0.5, COUNTRY_INFO!$F35))), 0))","v":793195},{"$f":"IF(INTRO!$E$43=\"Non-endemic\", 0, IF(COUNTRY_INFO!$K35>0, IF(COUNTRY_INFO!$K35=4, 0, IF(COUNTRY_INFO!$K35=1, 0, IF(COUNTRY_INFO!$K35=2, COUNTRY_INFO!$G35*0.2, COUNTRY_INFO!$G35))), 0))","v":1368393},2161588,{"$f":"IF(INTRO!$E$43=\"Non-endemic\", \"Not required\", COUNTRY_INFO!S35)","v":1},null,{"$f":"IF($D35=0,0,IF(AND($G35>0,$H35<>\"Yes\"),D35,IF(AND($G35>0,$H35=\"Yes\"),COUNTRY_INFO!$F35,0)))","v":793195},147815,1368393,1516208,369537.5,4105179,369537.5,0,369537.5,370]
[{"$f":"IF(INTRO!$E$43=\"Non-endemic\",\" \", IF(COUNTRY_INFO!A36=0,\" \",COUNTRY_INFO!A36))","v":"Uganda"},{"$f":"IF(INTRO!$E$43=\"Non-endemic\",\" \", IF(COUNTRY_INFO!B36=0,\" \",COUNTRY_INFO!B36))","v":"EASTERN"},{"$f":"IF(INTRO!$E$43=\"Non-endemic\",\" \", IF(COUNTRY_INFO!C36=0,\" \",COUNTRY_INFO!C36))","v":"AMURIA"},{"$f":"IF(INTRO!$E$43=\"Non-endemic\", 0, IF(COUNTRY_INFO!$K36>0, IF(COUNTRY_INFO!$K36=4, 0, IF(COUNTRY_INFO!$K36=1, COUNTRY_INFO!$F36*0.33, IF(COUNTRY_INFO!$K36=2, COUNTRY_INFO!$F36*0.5, COUNTRY_INFO!$F36))), 0))","v":0},{"$f":"IF(INTRO!$E$43=\"Non-endemic\", 0, IF(COUNTRY_INFO!$K36>0, IF(COUNTRY_INFO!$K36=4, 0, IF(COUNTRY_INFO!$K36=1, 0, IF(COUNTRY_INFO!$K36=2, COUNTRY_INFO!$G36*0.2, COUNTRY_INFO!$G36))), 0))","v":0},0,{"$f":"IF(INTRO!$E$43=\"Non-endemic\", \"Not required\", COUNTRY_INFO!S36)","v":0},null,{"$f":"IF($D36=0,0,IF(AND($G36>0,$H36<>\"Yes\"),D36,IF(AND($G36>0,$H36=\"Yes\"),COUNTRY_INFO!$F36,0)))","v":0},0,0,0,0,0,0,null,0,0]
[{"$f":"IF(INTRO!$E$43=\"Non-endemic\",\" \", IF(COUNTRY_INFO!A37=0,\" \",COUNTRY_INFO!A37))","v":"Uganda"},{"$f":"IF(INTRO!$E$43=\"Non-endemic\",\" \", IF(COUNTRY_INFO!B37=0,\" \",COUNTRY_INFO!B37))","v":"EASTERN"},{"$f":"IF(INTRO!$E$43=\"Non-endemic\",\" \", IF(COUNTRY_INFO!C37=0,\" \",COUNTRY_INFO!C37))","v":"BUDAKA"},{"$f":"IF(INTRO!$E$43=\"Non-endemic\", 0, IF(COUNTRY_INFO!$K37>0, IF(COUNTRY_INFO!$K37=4, 0, IF(COUNTRY_INFO!$K37=1, COUNTRY_INFO!$F37*0.33, IF(COUNTRY_INFO!$K37=2, COUNTRY_INFO!$F37*0.5, COUNTRY_INFO!$F37))), 0))","v":41174.5},{"$f":"IF(INTRO!$E$43=\"Non-endemic\", 0, IF(COUNTRY_INFO!$K37>0, IF(COUNTRY_INFO!$K37=4, 0, IF(COUNTRY_INFO!$K37=1, 0, IF(COUNTRY_INFO!$K37=2, COUNTRY_INFO!$G37*0.2, COUNTRY_INFO!$G37))), 0))","v":28413.200000000001},69587.7,{"$f":"IF(INTRO!$E$43=\"Non-endemic\", \"Not required\", COUNTRY_INFO!S37)","v":1},null,{"$f":"IF($D37=0,0,IF(AND($G37>0,$H37<>\"Yes\"),D37,IF(AND($G37>0,$H37=\"Yes\"),COUNTRY_INFO!$F37,0)))","v":41174.5},77946,28413.200000000001,106359.2,194865,85239.6,194865,0,194865,195]
[{"$f":"IF(INTRO!$E$43=\"Non-endemic\",\" \", IF(COUNTRY_INFO!A38=0,\" \",COUNTRY_INFO!A38))","v":"Uganda"},{"$f":"IF(INTRO!$E$43=\"Non-endemic\",\" \", IF(COUNTRY_INFO!B38=0,\" \",COUNTRY_INFO!B38))","v":"EASTERN"},{"$f":"IF(INTRO!$E$43=\"Non-endemic\",\" \", IF(COUNTRY_INFO!C38=0,\" \",COUNTRY_INFO!C38))","v":"BUDUDA"},{"$f":"IF(INTRO!$E$43=\"Non-endemic\", 0, IF(COUNTRY_INFO!$K38>0, IF(COUNTRY_INFO!$K38=4, 0, IF(COUNTRY_INFO!$K38=1, COUNTRY_INFO!$F38*0.33, IF(COUNTRY_INFO!$K38=2, COUNTRY_INFO!$F38*0.5, COUNTRY_INFO!$F38))), 0))","v":0},{"$f":"IF(INTRO!$E$43=\"Non-endemic\", 0, IF(COUNTRY_INFO!$K38>0, IF(COUNTRY_INFO!$K38=4, 0, IF(COUNTRY_INFO!$K38=1, 0, IF(COUNTRY_INFO!$K38=2, COUNTRY_INFO!$G38*0.2, COUNTRY_INFO!$G38))), 0))","v":0},0,{"$f":"IF(INTRO!$E$43=\"Non-endemic\", \"Not required\", COUNTRY_INFO!S38)","v":0},null,{"$f":"IF($D38=0,0,IF(AND($G38>0,$H38<>\"Yes\"),D38,IF(AND($G38>0,$H38=\"Yes\"),COUNTRY_INFO!$F38,0)))","v":0},0,0,0,0,0,0,null,0,0]
[{"$f":"IF(INTRO!$E$43=\"Non-endemic\",\" \", IF(COUNTRY_INFO!A39=0,\" \",COUNTRY_INFO!A39))","v":"Uganda"},{"$f":"IF(INTRO!$E$43=\"Non-endemic\",\" \", IF(COUNTRY_INFO!B39=0,\" \",COUNTRY_INFO!B39))","v":"EASTERN"},{"$f":"IF(INTRO!$E$43=\"Non-endemic\",\" \", IF(COUNTRY_INFO!C39=0,\" \",COUNTRY_INFO!C39))","v":"BUGIRI"},{"$f":"IF(INTRO!$E$43=\"Non-endemic\", 0, IF(COUNTRY_INFO!$K39>0, IF(COUNTRY_INFO!$K39=4, 0, IF(COUNTRY_INFO!$K39=1, COUNTRY_INFO!$F39*0.33, IF(COUNTRY_INFO!$K39=2, COUNTRY_INFO!$F39*0.5, COUNTRY_INFO!$F39))), 0))","v":77056},{"$f":"IF(INTRO!$E$43=\"Non-endemic\", 0, IF(COUNTRY_INFO!$K39>0, IF(COUNTRY_INFO!$K39=4, 0, IF(COUNTRY_INFO!$K39=1, 0, IF(COUNTRY_INFO!$K39=2, COUNTRY_INFO!$G39*0.2, COUNTRY_INFO!$G39))), 0))","v":53173.600000000006},130229.6,{"$f":"IF(INTRO!$E$43=\"Non-endemic\", \"Not required\", COUNTRY_INFO!S39)","v":1},null,{"$f":"IF($D39=0,0,IF(AND($G39>0,$H39<>\"Yes\"),D39,IF(AND($G39>0,$H39=\"Yes\"),COUNTRY_INFO!$F39,0)))","v":77056},38932,53173.600000000006,92105.600000000006,97330,159520.80000000002,97330,0,97330,98]
[{"$f":"IF(INTRO!$E$43=\"Non-endemic\",\" \", IF(COUNTRY_INFO!A40=0,\" \",COUNTRY_INFO!A40))","v":"Uganda"},{"$f":"IF(INTRO!$E$43=\"Non-endemic\",\" \", IF(COUNTRY_INFO!B40=0,\" \",COUNTRY_INFO!B40))","v":"EASTERN"},{"$f":"IF(INTRO!$E$43=\"Non-endemic\",\" \", IF(COUNTRY_INFO!C40=0,\" \",COUNTRY_INFO!C40))","v":"BUGWERI"},{"$f":"IF(INTRO!$E$43=\"Non-endemic\", 0, IF(COUNTRY_INFO!$K40>0, IF(COUNTRY_INFO!$K40=4, 0, IF(COUNTRY_INFO!$K40=1, COUNTRY_INFO!$F40*0.33, IF(COUNTRY_INFO!$K40=2, COUNTRY_INFO!$F40*0.5, COUNTRY_INFO!$F40))), 0))","v":33358},{"$f":"IF(INTRO!$E$43=\"Non-endemic\", 0, IF(COUNTRY_INFO!$K40>0, IF(COUNTRY_INFO!$K40=4, 0, IF(COUNTRY_INFO!$K40=1, 0, IF(COUNTRY_INFO!$K40=2, COUNTRY_INFO!$G40*0.2, COUNTRY_INFO!$G40))), 0))","v":23019.200000000001},56377.2,{"$f":"IF(INTRO!$E$43=\"Non-endemic\", \"Not required\", COUNTRY_INFO!S40)","v":1},null,{"$f":"IF($D40=0,0,IF(AND($G40>0,$H40<>\"Yes\"),D40,IF(AND($G40>0,$H40=\"Yes\"),COUNTRY_INFO!$F40,0)))","v":33358},0,23019.200000000001,56377.2,83395,69057.600000000006,83395,0,83395,84]
[{"$f":"IF(INTRO!$E$43=\"Non-endemic\",\" \", IF(COUNTRY_INFO!A41=0,\" \",COUNTRY_INFO!A41))","v":"Uganda"},{"$f":"IF(INTRO!$E$43=\"Non-endemic\",\" \", IF(COUNTRY_INFO!B41=0,\" \",COUNTRY_INFO!B41))","v":"EASTERN"},{"$f":"IF(INTRO!$E$43=\"Non-endemic\",\" \", IF(COUNTRY_INFO!C41=0,\" \",COUNTRY_INFO!C41))","v":"BUKEDEA"},{"$f":"IF(INTRO!$E$43=\"Non-endemic\", 0, IF(COUNTRY_INFO!$K41>0, IF(COUNTRY_INFO!$K41=4, 0, IF(COUNTRY_INFO!$K41=1, COUNTRY_INFO!$F41*0.33, IF(COUNTRY_INFO!$K41=2, COUNTRY_INFO!$F41*0.5, COUNTRY_INFO!$F41))), 0))","v":24629.88},{"$f":"IF(INTRO!$E$43=\"Non-endemic\", 0, IF(COUNTRY_INFO!$K41>0, IF(COUNTRY_INFO!$K41=4, 0, IF(COUNTRY_INFO!$K41=1, 0, IF(COUNTRY_INFO!$K41=2, COUNTRY_INFO!$G41*0.2, COUNTRY_INFO!$G41))), 0))","v":0},24629.88,{"$f":"IF(INTRO!$E$43=\"Non-endemic\", \"Not required\", COUNTRY_INFO!S41)","v":1},null,{"$f":"IF($D41=0,0,IF(AND($G41>0,$H41<>\"Yes\"),D41,IF(AND($G41>0,$H41=\"Yes\"),COUNTRY_INFO!$F41,0)))","v":24629.88},0,{"$f":"IF($G41>0,E41, 0)","v":0},24629.88,61574.700000000004,0,61574.700000000004,0,61574.700000000004,62]
[{"$f":"IF(INTRO!$E$43=\"Non-endemic\",\" \", IF(COUNTRY_INFO!A42=0,\" \",COUNTRY_INFO!A42))","v":"Uganda"},{"$f":"IF(INTRO!$E$43=\"Non-endemic\",\" \", IF(COUNTRY_INFO!B42=0,\" \",COUNTRY_INFO!B42))","v":"EASTERN"},{"$f":"IF(INTRO!$E$43=\"Non-endemic\",\" \", IF(COUNTRY_INFO!C42=0,\" \",COUNTRY_INFO!C42))","v":"BUKWO"},{"$f":"IF(INTRO!$E$43=\"Non-endemic\", 0, IF(COUNTRY_INFO!$K42>0, IF(COUNTRY_INFO!$K42=4, 0, IF(COUNTRY_INFO!$K42=1, COUNTRY_INFO!$F42*0.33, IF(COUNTRY_INFO!$K42=2, COUNTRY_INFO!$F42*0.5, COUNTRY_INFO!$F42))), 0))","v":0},{"$f":"IF(INTRO!$E$43=\"Non-endemic\", 0, IF(COUNTRY_INFO!$K42>0, IF(COUNTRY_INFO!$K42=4, 0, IF(COUNTRY_INFO!$K42=1, 0, IF(COUNTRY_INFO!$K42=2, COUNTRY_INFO!$G42*0.2, COUNTRY_INFO!$G42))), 0))","v":0},0,{"$f":"IF(INTRO!$E$43=\"Non-endemic\", \"Not required\", COUNTRY_INFO!S42)","v":0},null,{"$f":"IF($D42=0,0,IF(AND($G42>0,$H42<>\"Yes\"),D42,IF(AND($G42>0,$H42=\"Yes\"),COUNTRY_INFO!$F42,0)))","v":0},0,0,0,0,0,0,null,0,0]
[{"$f":"IF(INTRO!$E$43=\"Non-endemic\",\" \", IF(COUNTRY_INFO!A43=0,\" \",COUNTRY_INFO!A43))","v":"Uganda"},{"$f":"IF(INTRO!$E$43=\"Non-endemic\",\" \", IF(COUNTRY_INFO!B43=0,\" \",COUNTRY_INFO!B43))","v":"EASTERN"},{"$f":"IF(INTRO!$E$43=\"Non-endemic\",\" \", IF(COUNTRY_INFO!C43=0,\" \",COUNTRY_INFO!C43))","v":"BULAMBULI"},{"$f":"IF(INTRO!$E$43=\"Non-endemic\", 0, IF(COUNTRY_INFO!$K43>0, IF(COUNTRY_INFO!$K43=4, 0, IF(COUNTRY_INFO!$K43=1, COUNTRY_INFO!$F43*0.33, IF(COUNTRY_INFO!$K43=2, COUNTRY_INFO!$F43*0.5, COUNTRY_INFO!$F43))), 0))","v":35028},{"$f":"IF(INTRO!$E$43=\"Non-endemic\", 0, IF(COUNTRY_INFO!$K43>0, IF(COUNTRY_INFO!$K43=4, 0, IF(COUNTRY_INFO!$K43=1, 0, IF(COUNTRY_INFO!$K43=2, COUNTRY_INFO!$G43*0.2, COUNTRY_INFO!$G43))), 0))","v":24171.600000000002},59199.600000000006,{"$f":"IF(INTRO!$E$43=\"Non-endemic\", \"Not required\", COUNTRY_INFO!S43)","v":1},null,{"$f":"IF($D43=0,0,IF(AND($G43>0,$H43<>\"Yes\"),D43,IF(AND($G43>0,$H43=\"Yes\"),COUNTRY_INFO!$F43,0)))","v":35028},0,24171.600000000002,59199.600000000006,87570,72514.8,87570,0,87570,88]
[{"$f":"IF(INTRO!$E$43=\"Non-endemic\",\" \", IF(COUNTRY_INFO!A44=0,\" \",COUNTRY_INFO!A44))","v":"Uganda"},{"$f":"IF(INTRO!$E$43=\"Non-endemic\",\" \", IF(COUNTRY_INFO!B44=0,\" \",COUNTRY_INFO!B44))","v":"EASTERN"},{"$f":"IF(INTRO!$E$43=\"Non-endemic\",\" \", IF(COUNTRY_INFO!C44=0,\" \",COUNTRY_INFO!C44))","v":"BUSIA"},{"$f":"IF(INTRO!$E$43=\"Non-endemic\", 0, IF(COUNTRY_INFO!$K44>0, IF(COUNTRY_INFO!$K44=4, 0, IF(COUNTRY_INFO!$K44=1, COUNTRY_INFO!$F44*0.33, IF(COUNTRY_INFO!$K44=2, COUNTRY_INFO!$F44*0.5, COUNTRY_INFO!$F44))), 0))","v":128608},{"$f":"IF(INTRO!$E$43=\"Non-endemic\", 0, IF(COUNTRY_INFO!$K44>0, IF(COUNTRY_INFO!$K44=4, 0, IF(COUNTRY_INFO!$K44=1, 0, IF(COUNTRY_INFO!$K44=2, COUNTRY_INFO!$G44*0.2, COUNTRY_INFO!$G44))), 0))","v":221869},350477,{"$f":"IF(INTRO!$E$43=\"Non-endemic\", \"Not required\", COUNTRY_INFO!S44)","v":1},null,{"$f":"IF($D44=0,0,IF(AND($G44>0,$H44<>\"Yes\"),D44,IF(AND($G44>0,$H44=\"Yes\"),COUNTRY_INFO!$F44,0)))","v":128608},41258,221869,263127,103145,665607,103145,0,103145,104]
[{"$f":"IF(INTRO!$E$43=\"Non-endemic\",\" \", IF(COUNTRY_INFO!A45=0,\" \",COUNTRY_INFO!A45))","v":"Uganda"},{"$f":"IF(INTRO!$E$43=\"Non-endemic\",\" \", IF(COUNTRY_INFO!B45=0,\" \",COUNTRY_INFO!B45))","v":"EASTERN"},{"$f":"IF(INTRO!$E$43=\"Non-endemic\",\" \", IF(COUNTRY_INFO!C45=0,\" \",COUNTRY_INFO!C45))","v":"BUTALEJA"},{"$f":"IF(INTRO!$E$43=\"Non-endemic\", 0, IF(COUNTRY_INFO!$K45>0, IF(COUNTRY_INFO!$K45=4, 0, IF(COUNTRY_INFO!$K45=1, COUNTRY_INFO!$F45*0.33, IF(COUNTRY_INFO!$K45=2, COUNTRY_INFO!$F45*0.5, COUNTRY_INFO!$F45))), 0))","v":97139},{"$f":"IF(INTRO!$E$43=\"Non-endemic\", 0, IF(COUNTRY_INFO!$K45>0, IF(COUNTRY_INFO!$K45=4, 0, IF(COUNTRY_INFO!$K45=1, 0, IF(COUNTRY_INFO!$K45=2, COUNTRY_INFO!$G45*0.2, COUNTRY_INFO!$G45))), 0))","v":167581},264720,{"$f":"IF(INTRO!$E$43=\"Non-endemic\", \"Not required\", COUNTRY_INFO!S45)","v":1},null,{"$f":"IF($D45=0,0,IF(AND($G45>0,$H45<>\"Yes\"),D45,IF(AND($G45>0,$H45=\"Yes\"),COUNTRY_INFO!$F45,0)))","v":97139},89331,167581,256912,223327.5,502743,223327.5,0,223327.5,224]
[{"$f":"IF(INTRO!$E$43=\"Non-endemic\",\" \", IF(COUNTRY_INFO!A46=0,\" \",COUNTRY_INFO!A46))","v":"Uganda"},{"$f":"IF(INTRO!$E$43=\"Non-endemic\",\" \", IF(COUNTRY_INFO!B46=0,\" \",COUNTRY_INFO!B46))","v":"EASTERN"},{"$f":"IF(INTRO!$E$43=\"Non-endemic\",\" \", IF(COUNTRY_INFO!C46=0,\" \",COUNTRY_INFO!C46))","v":"BUTEBO"},{"$f":"IF(INTRO!$E$43=\"Non-endemic\", 0, IF(COUNTRY_INFO!$K46>0, IF(COUNTRY_INFO!$K46=4, 0, IF(COUNTRY_INFO!$K46=1, COUNTRY_INFO!$F46*0.33, IF(COUNTRY_INFO!$K46=2, COUNTRY_INFO!$F46*0.5, COUNTRY_INFO!$F46))), 0))","v":57001},{"$f":"IF(INTRO!$E$43=\"Non-endemic\", 0, IF(COUNTRY_INFO!$K46>0, IF(COUNTRY_INFO!$K46=4, 0, IF(COUNTRY_INFO!$K46=1, 0, IF(COUNTRY_INFO!$K46=2, COUNTRY_INFO!$G46*0.2, COUNTRY_INFO!$G46))), 0))","v":98336},155337,{"$f":"IF(INTRO!$E$43=\"Non-endemic\", \"Not required\", COUNTRY_INFO!S46)","v":1},null,{"$f":"IF($D46=0,0,IF(AND($G46>0,$H46<>\"Yes\"),D46,IF(AND($G46>0,$H46=\"Yes\"),COUNTRY_INFO!$F46,0)))","v":57001},43395,98336,141731,108487.5,295008,108487.5,0,108487.5,109]
[{"$f":"IF(INTRO!$E$43=\"Non-endemic\",\" \", IF(COUNTRY_INFO!A47=0,\" \",COUNTRY_INFO!A47))","v":"Uganda"},{"$f":"IF(INTRO!$E$43=\"Non-endemic\",\" \", IF(COUNTRY_INFO!B47=0,\" \",COUNTRY_INFO!B47))","v":"EASTERN"},{"$f":"IF(INTRO!$E$43=\"Non-endemic\",\" \", IF(COUNTRY_INFO!C47=0,\" \",COUNTRY_INFO!C47))","v":"BUYENDE"},{"$f":"IF(INTRO!$E$43=\"Non-endemic\", 0, IF(COUNTRY_INFO!$K47>0, IF(COUNTRY_INFO!$K47=4, 0, IF(COUNTRY_INFO!$K47=1, COUNTRY_INFO!$F47*0.33, IF(COUNTRY_INFO!$K47=2, COUNTRY_INFO!$F47*0.5, COUNTRY_INFO!$F47))), 0))","v":126609},{"$f":"IF(INTRO!$E$43=\"Non-endemic\", 0, IF(COUNTRY_INFO!$K47>0, IF(COUNTRY_INFO!$K47=4, 0, IF(COUNTRY_INFO!$K47=1, 0, IF(COUNTRY_INFO!$K47=2, COUNTRY_INFO!$G47*0.2, COUNTRY_INFO!$G47))), 0))","v":218421},345030,{"$f":"IF(INTRO!$E$43=\"Non-endemic\", \"Not required\", COUNTRY_INFO!S47)","v":1},null,{"$f":"IF($D47=0,0,IF(AND($G47>0,$H47<>\"Yes\"),D47,IF(AND($G47>0,$H47=\"Yes\"),COUNTRY_INFO!$F47,0)))","v":126609},143043,218421,361464,357607.5,655263,357607.5,0,357607.5,358]
[{"$f":"IF(INTRO!$E$43=\"Non-endemic\",\" \", IF(COUNTRY_INFO!A48=0,\" \",COUNTRY_INFO!A48))","v":"Uganda"},{"$f":"IF(INTRO!$E$43=\"Non-endemic\",\" \", IF(COUNTRY_INFO!B48=0,\" \",COUNTRY_INFO!B48))","v":"EASTERN"},{"$f":"IF(INTRO!$E$43=\"Non-endemic\",\" \", IF(COUNTRY_INFO!C48=0,\" \",COUNTRY_INFO!C48))","v":"IGANGA"},{"$f":"IF(INTRO!$E$43=\"Non-endemic\", 0, IF(COUNTRY_INFO!$K48>0, IF(COUNTRY_INFO!$K48=4, 0, IF(COUNTRY_INFO!$K48=1, COUNTRY_INFO!$F48*0.33, IF(COUNTRY_INFO!$K48=2, COUNTRY_INFO!$F48*0.5, COUNTRY_INFO!$F48))), 0))","v":44004.840000000004},{"$f":"IF(INTRO!$E$43=\"Non-endemic\", 0, IF(COUNTRY_INFO!$K48>0, IF(COUNTRY_INFO!$K48=4, 0, IF(COUNTRY_INFO!$K48=1, 0, IF(COUNTRY_INFO!$K48=2, COUNTRY_INFO!$G48*0.2, COUNTRY_INFO!$G48))), 0))","v":0},44004.840000000004,{"$f":"IF(INTRO!$E$43=\"Non-endemic\", \"Not required\", COUNTRY_INFO!S48)","v":1},null,{"$f":"IF($D48=0,0,IF(AND($G48>0,$H48<>\"Yes\"),D48,IF(AND($G48>0,$H48=\"Yes\"),COUNTRY_INFO!$F48,0)))","v":44004.840000000004},119076,0,119076,297690,0,297690,0,297690,298]
[{"$f":"IF(INTRO!$E$43=\"Non-endemic\",\" \", IF(COUNTRY_INFO!A49=0,\" \",COUNTRY_INFO!A49))","v":"Uganda"},{"$f":"IF(INTRO!$E$43=\"Non-endemic\",\" \", IF(COUNTRY_INFO!B49=0,\" \",COUNTRY_INFO!B49))","v":"EASTERN"},{"$f":"IF(INTRO!$E$43=\"Non-endemic\",\" \", IF(COUNTRY_INFO!C49=0,\" \",COUNTRY_INFO!C49))","v":"JINJA"},{"$f":"IF(INTRO!$E$43=\"Non-endemic\", 0, IF(COUNTRY_INFO!$K49>0, IF(COUNTRY_INFO!$K49=4, 0, IF(COUNTRY_INFO!$K49=1, COUNTRY_INFO!$F49*0.33, IF(COUNTRY_INFO!$K49=2, COUNTRY_INFO!$F49*0.5, COUNTRY_INFO!$F49))), 0))","v":81440},{"$f":"IF(INTRO!$E$43=\"Non-endemic\", 0, IF(COUNTRY_INFO!$K49>0, IF(COUNTRY_INFO!$K49=4, 0, IF(COUNTRY_INFO!$K49=1, 0, IF(COUNTRY_INFO!$K49=2, COUNTRY_INFO!$G49*0.2, COUNTRY_INFO!$G49))), 0))","v":140498},221938,{"$f":"IF(INTRO!$E$43=\"Non-endemic\", \"Not required\", COUNTRY_INFO!S49)","v":1},null,{"$f":"IF($D49=0,0,IF(AND($G49>0,$H49<>\"Yes\"),D49,IF(AND($G49>0,$H49=\"Yes\"),COUNTRY_INFO!$F49,0)))","v":81440},154495,140498,294993,386237.5,421494,386237.5,0,386237.5,387]
[{"$f":"IF(INTRO!$E$43=\"Non-endemic\",\" \", IF(COUNTRY_INFO!A50=0,\" \",COUNTRY_INFO!A50))","v":"Uganda"},{"$f":"IF(INTRO!$E$43=\"Non-endemic\",\" \", IF(COUNTRY_INFO!B50=0,\" \",COUNTRY_INFO!B50))","v":"EASTERN"},{"$f":"IF(INTRO!$E$43=\"Non-endemic\",\" \", IF(COUNTRY_INFO!C50=0,\" \",COUNTRY_INFO!C50))","v":"Jinja City"},{"$f":"IF(INTRO!$E$43=\"Non-endemic\", 0, IF(COUNTRY_INFO!$K50>0, IF(COUNTRY_INFO!$K50=4, 0, IF(COUNTRY_INFO!$K50=1, COUNTRY_INFO!$F50*0.33, IF(COUNTRY_INFO!$K50=2, COUNTRY_INFO!$F50*0.5, COUNTRY_INFO!$F50))), 0))","v":103558},{"$f":"IF(INTRO!$E$43=\"Non-endemic\", 0, IF(COUNTRY_INFO!$K50>0, IF(COUNTRY_INFO!$K50=4, 0, IF(COUNTRY_INFO!$K50=1, 0, IF(COUNTRY_INFO!$K50=2, COUNTRY_INFO!$G50*0.2, COUNTRY_INFO!$G50))), 0))","v":178655},282213,{"$f":"IF(INTRO!$E$43=\"Non-endemic\", \"Not required\", COUNTRY_INFO!S50)","v":1},null,{"$f":"IF($D50=0,0,IF(AND($G50>0,$H50<>\"Yes\"),D50,IF(AND($G50>0,$H50=\"Yes\"),COUNTRY_INFO!$F50,0)))","v":103558},0,178655,282213,258895,535965,258895,0,258895,259]
[{"$f":"IF(INTRO!$E$43=\"Non-endemic\",\" \", IF(COUNTRY_INFO!A51=0,\" \",COUNTRY_INFO!A51))","v":"Uganda"},{"$f":"IF(INTRO!$E$43=\"Non-endemic\",\" \", IF(COUNTRY_INFO!B51=0,\" \",COUNTRY_INFO!B51))","v":"EASTERN"},{"$f":"IF(INTRO!$E$43=\"Non-endemic\",\" \", IF(COUNTRY_INFO!C51=0,\" \",COUNTRY_INFO!C51))","v":"KABERAMAIDO"},{"$f":"IF(INTRO!$E$43=\"Non-endemic\", 0, IF(COUNTRY_INFO!$K51>0, IF(COUNTRY_INFO!$K51=4, 0, IF(COUNTRY_INFO!$K51=1, COUNTRY_INFO!$F51*0.33, IF(COUNTRY_INFO!$K51=2, COUNTRY_INFO!$F51*0.5, COUNTRY_INFO!$F51))), 0))","v":20504},{"$f":"IF(INTRO!$E$43=\"Non-endemic\", 0, IF(COUNTRY_INFO!$K51>0, IF(COUNTRY_INFO!$K51=4, 0, IF(COUNTRY_INFO!$K51=1, 0, IF(COUNTRY_INFO!$K51=2, COUNTRY_INFO!$G51*0.2, COUNTRY_INFO!$G51))), 0))","v":14149.2},34653.199999999997,{"$f":"IF(INTRO!$E$43=\"Non-endemic\", \"Not required\", COUNTRY_INFO!S51)","v":1},null,{"$f":"IF($D51=0,0,IF(AND($G51>0,$H51<>\"Yes\"),D51,IF(AND($G51>0,$H51=\"Yes\"),COUNTRY_INFO!$F51,0)))","v":20504},39333,14149.2,53482.2,98332.5,42447.600000000006,98332.5,0,98332.5,99]
[{"$f":"IF(INTRO!$E$43=\"Non-endemic\",\" \", IF(COUNTRY_INFO!A52=0,\" \",COUNTRY_INFO!A52))","v":"Uganda"},{"$f":"IF(INTRO!$E$43=\"Non-endemic\",\" \", IF(COUNTRY_INFO!B52=0,\" \",COUNTRY_INFO!B52))","v":"EASTERN"},{"$f":"IF(INTRO!$E$43=\"Non-endemic\",\" \", IF(COUNTRY_INFO!C52=0,\" \",COUNTRY_INFO!C52))","v":"KALAKI"},{"$f":"IF(INTRO!$E$43=\"Non-endemic\", 0, IF(COUNTRY_INFO!$K52>0, IF(COUNTRY_INFO!$K52=4, 0, IF(COUNTRY_INFO!$K52=1, COUNTRY_INFO!$F52*0.33, IF(COUNTRY_INFO!$K52=2, COUNTRY_INFO!$F52*0.5, COUNTRY_INFO!$F52))), 0))","v":14287.02},{"$f":"IF(INTRO!$E$43=\"Non-endemic\", 0, IF(COUNTRY_INFO!$K52>0, IF(COUNTRY_INFO!$K52=4, 0, IF(COUNTRY_INFO!$K52=1, 0, IF(COUNTRY_INFO!$K52=2, COUNTRY_INFO!$G52*0.2, COUNTRY_INFO!$G52))), 0))","v":0},14287.02,{"$f":"IF(INTRO!$E$43=\"Non-endemic\", \"Not required\", COUNTRY_INFO!S52)","v":1},null,{"$f":"IF($D52=0,0,IF(AND($G52>0,$H52<>\"Yes\"),D52,IF(AND($G52>0,$H52=\"Yes\"),COUNTRY_INFO!$F52,0)))","v":14287.02},19129,0,19129,47822.5,0,47822.5,0,47822.5,48]
[{"$f":"IF(INTRO!$E$43=\"Non-endemic\",\" \", IF(COUNTRY_INFO!A53=0,\" \",COUNTRY_INFO!A53))","v":"Uganda"},{"$f":"IF(INTRO!$E$43=\"Non-endemic\",\" \", IF(COUNTRY_INFO!B53=0,\" \",COUNTRY_INFO!B53))","v":"EASTERN"},{"$f":"IF(INTRO!$E$43=\"Non-endemic\",\" \", IF(COUNTRY_INFO!C53=0,\" \",COUNTRY_INFO!C53))","v":"KALIRO"},{"$f":"IF(INTRO!$E$43=\"Non-endemic\", 0, IF(COUNTRY_INFO!$K53>0, IF(COUNTRY_INFO!$K53=4, 0, IF(COUNTRY_INFO!$K53=1, COUNTRY_INFO!$F53*0.33, IF(COUNTRY_INFO!$K53=2, COUNTRY_INFO!$F53*0.5, COUNTRY_INFO!$F53))), 0))","v":30888.99},{"$f":"IF(INTRO!$E$43=\"Non-endemic\", 0, IF(COUNTRY_INFO!$K53>0, IF(COUNTRY_INFO!$K53=4, 0, IF(COUNTRY_INFO!$K53=1, 0, IF(COUNTRY_INFO!$K53=2, COUNTRY_INFO!$G53*0.2, COUNTRY_INFO!$G53))), 0))","v":0},30888.99,{"$f":"IF(INTRO!$E$43=\"Non-endemic\", \"Not required\", COUNTRY_INFO!S53)","v":1},null,{"$f":"IF($D53=0,0,IF(AND($G53>0,$H53<>\"Yes\"),D53,IF(AND($G53>0,$H53=\"Yes\"),COUNTRY_INFO!$F53,0)))","v":30888.99},92548,0,92548,231370,0,231370,0,231370,232]
[{"$f":"IF(INTRO!$E$43=\"Non-endemic\",\" \", IF(COUNTRY_INFO!A54=0,\" \",COUNTRY_INFO!A54))","v":"Uganda"},{"$f":"IF(INTRO!$E$43=\"Non-endemic\",\" \", IF(COUNTRY_INFO!B54=0,\" \",COUNTRY_INFO!B54))","v":"EASTERN"},{"$f":"IF(INTRO!$E$43=\"Non-endemic\",\" \", IF(COUNTRY_INFO!C54=0,\" \",COUNTRY_INFO!C54))","v":"KAMULI"},{"$f":"IF(INTRO!$E$43=\"Non-endemic\", 0, IF(COUNTRY_INFO!$K54>0, IF(COUNTRY_INFO!$K54=4, 0, IF(COUNTRY_INFO!$K54=1, COUNTRY_INFO!$F54*0.33, IF(COUNTRY_INFO!$K54=2, COUNTRY_INFO!$F54*0.5, COUNTRY_INFO!$F54))), 0))","v":193686},{"$f":"IF(INTRO!$E$43=\"Non-endemic\", 0, IF(COUNTRY_INFO!$K54>0, IF(COUNTRY_INFO!$K54=4, 0, IF(COUNTRY_INFO!$K54=1, 0, IF(COUNTRY_INFO!$K54=2, COUNTRY_INFO!$G54*0.2, COUNTRY_INFO!$G54))), 0))","v":334141},527827,{"$f":"IF(INTRO!$E$43=\"Non-endemic\", \"Not required\", COUNTRY_INFO!S54)","v":1},null,{"$f":"IF($D54=0,0,IF(AND($G54>0,$H54<>\"Yes\"),D54,IF(AND($G54>0,$H54=\"Yes\"),COUNTRY_INFO!$F54,0)))","v":193686},153225,334141,487366,383062.5,1002423,383062.5,0,383062.5,384]
[{"$f":"IF(INTRO!$E$43=\"Non-endemic\",\" \", IF(COUNTRY_INFO!A55=0,\" \",COUNTRY_INFO!A55))","v":"Uganda"},{"$f":"IF(INTRO!$E$43=\"Non-endemic\",\" \", IF(COUNTRY_INFO!B55=0,\" \",COUNTRY_INFO!B55))","v":"EASTERN"},{"$f":"IF(INTRO!$E$43=\"Non-endemic\",\" \", IF(COUNTRY_INFO!C55=0,\" \",COUNTRY_INFO!C55))","v":"KAPCHORWA"},{"$f":"IF(INTRO!$E$43=\"Non-endemic\", 0, IF(COUNTRY_INFO!$K55>0, IF(COUNTRY_INFO!$K55=4, 0, IF(COUNTRY_INFO!$K55=1, COUNTRY_INFO!$F55*0.33, IF(COUNTRY_INFO!$K55=2, COUNTRY_INFO!$F55*0.5, COUNTRY_INFO!$F55))), 0))","v":0},{"$f":"IF(INTRO!$E$43=\"Non-endemic\", 0, IF(COUNTRY_INFO!$K55>0, IF(COUNTRY_INFO!$K55=4, 0, IF(COUNTRY_INFO!$K55=1, 0, IF(COUNTRY_INFO!$K55=2, COUNTRY_INFO!$G55*0.2, COUNTRY_INFO!$G55))), 0))","v":0},0,{"$f":"IF(INTRO!$E$43=\"Non-endemic\", \"Not required\", COUNTRY_INFO!S55)","v":0},null,{"$f":"IF($D55=0,0,IF(AND($G55>0,$H55<>\"Yes\"),D55,IF(AND($G55>0,$H55=\"Yes\"),COUNTRY_INFO!$F55,0)))","v":0},0,0,0,0,0,0,null,0,0]
[{"$f":"IF(INTRO!$E$43=\"Non-endemic\",\" \", IF(COUNTRY_INFO!A56=0,\" \",COUNTRY_INFO!A56))","v":"Uganda"},{"$f":"IF(INTRO!$E$43=\"Non-endemic\",\" \", IF(COUNTRY_INFO!B56=0,\" \",COUNTRY_INFO!B56))","v":"EASTERN"},{"$f":"IF(INTRO!$E$43=\"Non-endemic\",\" \", IF(COUNTRY_INFO!C56=0,\" \",COUNTRY_INFO!C56))","v":"KAPELEBYONG"},{"$f":"IF(INTRO!$E$43=\"Non-endemic\", 0, IF(COUNTRY_INFO!$K56>0, IF(COUNTRY_INFO!$K56=4, 0, IF(COUNTRY_INFO!$K56=1, COUNTRY_INFO!$F56*0.33, IF(COUNTRY_INFO!$K56=2, COUNTRY_INFO!$F56*0.5, COUNTRY_INFO!$F56))), 0))","v":0},{"$f":"IF(INTRO!$E$43=\"Non-endemic\", 0, IF(COUNTRY_INFO!$K56>0, IF(COUNTRY_INFO!$K56=4, 0, IF(COUNTRY_INFO!$K56=1, 0, IF(COUNTRY_INFO!$K56=2, COUNTRY_INFO!$G56*0.2, COUNTRY_INFO!$G56))), 0))","v":0},0,{"$f":"IF(INTRO!$E$43=\"Non-endemic\", \"Not required\", COUNTRY_INFO!S56)","v":0},null,{"$f":"IF($D56=0,0,IF(AND($G56>0,$H56<>\"Yes\"),D56,IF(AND($G56>0,$H56=\"Yes\"),COUNTRY_INFO!$F56,0)))","v":0},0,0,0,0,0,0,null,0,0]
[{"$f":"IF(INTRO!$E$43=\"Non-endemic\",\" \", IF(COUNTRY_INFO!A57=0,\" \",COUNTRY_INFO!A57))","v":"Uganda"},{"$f":"IF(INTRO!$E$43=\"Non-endemic\",\" \", IF(COUNTRY_INFO!B57=0,\" \",COUNTRY_INFO!B57))","v":"EASTERN"},{"$f":"IF(INTRO!$E$43=\"Non-endemic\",\" \", IF(COUNTRY_INFO!C57=0,\" \",COUNTRY_INFO!C57))","v":"KATAKWI"},{"$f":"IF(INTRO!$E$43=\"Non-endemic\", 0, IF(COUNTRY_INFO!$K57>0, IF(COUNTRY_INFO!$K57=4, 0, IF(COUNTRY_INFO!$K57=1, COUNTRY_INFO!$F57*0.33, IF(COUNTRY_INFO!$K57=2, COUNTRY_INFO!$F57*0.5, COUNTRY_INFO!$F57))), 0))","v":21584.31},{"$f":"IF(INTRO!$E$43=\"Non-endemic\", 0, IF(COUNTRY_INFO!$K57>0, IF(COUNTRY_INFO!$K57=4, 0, IF(COUNTRY_INFO!$K57=1, 0, IF(COUNTRY_INFO!$K57=2, COUNTRY_INFO!$G57*0.2, COUNTRY_INFO!$G57))), 0))","v":0},21584.31,{"$f":"IF(INTRO!$E$43=\"Non-endemic\", \"Not required\", COUNTRY_INFO!S57)","v":1},null,{"$f":"IF($D57=0,0,IF(AND($G57>0,$H57<>\"Yes\"),D57,IF(AND($G57>0,$H57=\"Yes\"),COUNTRY_INFO!$F57,0)))","v":21584.31},23587,0,23587,58967.5,0,58967.5,0,58967.5,59]
[{"$f":"IF(INTRO!$E$43=\"Non-endemic\",\" \", IF(COUNTRY_INFO!A58=0,\" \",COUNTRY_INFO!A58))","v":"Uganda"},{"$f":"IF(INTRO!$E$43=\"Non-endemic\",\" \", IF(COUNTRY_INFO!B58=0,\" \",COUNTRY_INFO!B58))","v":"EASTERN"},{"$f":"IF(INTRO!$E$43=\"Non-endemic\",\" \", IF(COUNTRY_INFO!C58=0,\" \",COUNTRY_INFO!C58))","v":"KIBUKU"},{"$f":"IF(INTRO!$E$43=\"Non-endemic\", 0, IF(COUNTRY_INFO!$K58>0, IF(COUNTRY_INFO!$K58=4, 0, IF(COUNTRY_INFO!$K58=1, COUNTRY_INFO!$F58*0.33, IF(COUNTRY_INFO!$K58=2, COUNTRY_INFO!$F58*0.5, COUNTRY_INFO!$F58))), 0))","v":40028.5},{"$f":"IF(INTRO!$E$43=\"Non-endemic\", 0, IF(COUNTRY_INFO!$K58>0, IF(COUNTRY_INFO!$K58=4, 0, IF(COUNTRY_INFO!$K58=1, 0, IF(COUNTRY_INFO!$K58=2, COUNTRY_INFO!$G58*0.2, COUNTRY_INFO!$G58))), 0))","v":27622.2},67650.7,{"$f":"IF(INTRO!$E$43=\"Non-endemic\", \"Not required\", COUNTRY_INFO!S58)","v":1},null,{"$f":"IF($D58=0,0,IF(AND($G58>0,$H58<>\"Yes\"),D58,IF(AND($G58>0,$H58=\"Yes\"),COUNTRY_INFO!$F58,0)))","v":40028.5},41228,27622.2,68850.2,103070,82866.600000000006,103070,0,103070,104]
[{"$f":"IF(INTRO!$E$43=\"Non-endemic\",\" \", IF(COUNTRY_INFO!A59=0,\" \",COUNTRY_INFO!A59))","v":"Uganda"},{"$f":"IF(INTRO!$E$43=\"Non-endemic\",\" \", IF(COUNTRY_INFO!B59=0,\" \",COUNTRY_INFO!B59))","v":"EASTERN"},{"$f":"IF(INTRO!$E$43=\"Non-endemic\",\" \", IF(COUNTRY_INFO!C59=0,\" \",COUNTRY_INFO!C59))","v":"KUMI"},{"$f":"IF(INTRO!$E$43=\"Non-endemic\", 0, IF(COUNTRY_INFO!$K59>0, IF(COUNTRY_INFO!$K59=4, 0, IF(COUNTRY_INFO!$K59=1, COUNTRY_INFO!$F59*0.33, IF(COUNTRY_INFO!$K59=2, COUNTRY_INFO!$F59*0.5, COUNTRY_INFO!$F59))), 0))","v":0},{"$f":"IF(INTRO!$E$43=\"Non-endemic\", 0, IF(COUNTRY_INFO!$K59>0, IF(COUNTRY_INFO!$K59=4, 0, IF(COUNTRY_INFO!$K59=1, 0, IF(COUNTRY_INFO!$K59=2, COUNTRY_INFO!$G59*0.2, COUNTRY_INFO!$G59))), 0))","v":0},0,{"$f":"IF(INTRO!$E$43=\"Non-endemic\", \"Not required\", COUNTRY_INFO!S59)","v":0},null,{"$f":"IF($D59=0,0,IF(AND($G59>0,$H59<>\"Yes\"),D59,IF(AND($G59>0,$H59=\"Yes\"),COUNTRY_INFO!$F59,0)))","v":0},0,0,0,0,0,0,null,0,0]
[{"$f":"IF(INTRO!$E$43=\"Non-endemic\",\" \", IF(COUNTRY_INFO!A60=0,\" \",COUNTRY_INFO!A60))","v":"Uganda"},{"$f":"IF(INTRO!$E$43=\"Non-endemic\",\" \", IF(COUNTRY_INFO!B60=0,\" \",COUNTRY_INFO!B60))","v":"EASTERN"},{"$f":"IF(INTRO!$E$43=\"Non-endemic\",\" \", IF(COUNTRY_INFO!C60=0,\" \",COUNTRY_INFO!C60))","v":"KWEEN"},{"$f":"IF(INTRO!$E$43=\"Non-endemic\", 0, IF(COUNTRY_INFO!$K60>0, IF(COUNTRY_INFO!$K60=4, 0, IF(COUNTRY_INFO!$K60=1, COUNTRY_INFO!$F60*0.33, IF(COUNTRY_INFO!$K60=2, COUNTRY_INFO!$F60*0.5, COUNTRY_INFO!$F60))), 0))","v":12466.74},{"$f":"IF(INTRO!$E$43=\"Non-endemic\", 0, IF(COUNTRY_INFO!$K60>0, IF(COUNTRY_INFO!$K60=4, 0, IF(COUNTRY_INFO!$K60=1, 0, IF(COUNTRY_INFO!$K60=2, COUNTRY_INFO!$G60*0.2, COUNTRY_INFO!$G60))), 0))","v":0},12466.74,{"$f":"IF(INTRO!$E$43=\"Non-endemic\", \"Not required\", COUNTRY_INFO!S60)","v":1},null,{"$f":"IF($D60=0,0,IF(AND($G60>0,$H60<>\"Yes\"),D60,IF(AND($G60>0,$H60=\"Yes\"),COUNTRY_INFO!$F60,0)))","v":12466.74},3581,0,3581,8952.5,0,8952.5,0,8952.5,9]
[{"$f":"IF(INTRO!$E$43=\"Non-endemic\",\" \", IF(COUNTRY_INFO!A61=0,\" \",COUNTRY_INFO!A61))","v":"Uganda"},{"$f":"IF(INTRO!$E$43=\"Non-endemic\",\" \", IF(COUNTRY_INFO!B61=0,\" \",COUNTRY_INFO!B61))","v":"EASTERN"},{"$f":"IF(INTRO!$E$43=\"Non-endemic\",\" \", IF(COUNTRY_INFO!C61=0,\" \",COUNTRY_INFO!C61))","v":"LUUKA"},{"$f":"IF(INTRO!$E$43=\"Non-endemic\", 0, IF(COUNTRY_INFO!$K61>0, IF(COUNTRY_INFO!$K61=4, 0, IF(COUNTRY_INFO!$K61=1, COUNTRY_INFO!$F61*0.33, IF(COUNTRY_INFO!$K61=2, COUNTRY_INFO!$F61*0.5, COUNTRY_INFO!$F61))), 0))","v":31479.360000000001},{"$f":"IF(INTRO!$E$43=\"Non-endemic\", 0, IF(COUNTRY_INFO!$K61>0, IF(COUNTRY_INFO!$K61=4, 0, IF(COUNTRY_INFO!$K61=1, 0, IF(COUNTRY_INFO!$K61=2, COUNTRY_INFO!$G61*0.2, COUNTRY_INFO!$G61))), 0))","v":0},31479.360000000001,{"$f":"IF(INTRO!$E$43=\"Non-endemic\", \"Not required\", COUNTRY_INFO!S61)","v":1},null,{"$f":"IF($D61=0,0,IF(AND($G61>0,$H61<>\"Yes\"),D61,IF(AND($G61>0,$H61=\"Yes\"),COUNTRY_INFO!$F61,0)))","v":31479.360000000001},88634,0,88634,221585,0,221585,0,221585,222]
[{"$f":"IF(INTRO!$E$43=\"Non-endemic\",\" \", IF(COUNTRY_INFO!A62=0,\" \",COUNTRY_INFO!A62))","v":"Uganda"},{"$f":"IF(INTRO!$E$43=\"Non-endemic\",\" \", IF(COUNTRY_INFO!B62=0,\" \",COUNTRY_INFO!B62))","v":"EASTERN"},{"$f":"IF(INTRO!$E$43=\"Non-endemic\",\" \", IF(COUNTRY_INFO!C62=0,\" \",COUNTRY_INFO!C62))","v":"MANAFWA"},{"$f":"IF(INTRO!$E$43=\"Non-endemic\", 0, IF(COUNTRY_INFO!$K62>0, IF(COUNTRY_INFO!$K62=4, 0, IF(COUNTRY_INFO!$K62=1, COUNTRY_INFO!$F62*0.33, IF(COUNTRY_INFO!$K62=2, COUNTRY_INFO!$F62*0.5, COUNTRY_INFO!$F62))), 0))","v":33244.5},{"$f":"IF(INTRO!$E$43=\"Non-endemic\", 0, IF(COUNTRY_INFO!$K62>0, IF(COUNTRY_INFO!$K62=4, 0, IF(COUNTRY_INFO!$K62=1, 0, IF(COUNTRY_INFO!$K62=2, COUNTRY_INFO!$G62*0.2, COUNTRY_INFO!$G62))), 0))","v":22940.800000000003},56185.3,{"$f":"IF(INTRO!$E$43=\"Non-endemic\", \"Not required\", COUNTRY_INFO!S62)","v":1},null,{"$f":"IF($D62=0,0,IF(AND($G62>0,$H62<>\"Yes\"),D62,IF(AND($G62>0,$H62=\"Yes\"),COUNTRY_INFO!$F62,0)))","v":33244.5},40303,22940.800000000003,63243.8,100757.5,68822.400000000009,100757.5,0,100757.5,101]
[{"$f":"IF(INTRO!$E$43=\"Non-endemic\",\" \", IF(COUNTRY_INFO!A63=0,\" \",COUNTRY_INFO!A63))","v":"Uganda"},{"$f":"IF(INTRO!$E$43=\"Non-endemic\",\" \", IF(COUNTRY_INFO!B63=0,\" \",COUNTRY_INFO!B63))","v":"EASTERN"},{"$f":"IF(INTRO!$E$43=\"Non-endemic\",\" \", IF(COUNTRY_INFO!C63=0,\" \",COUNTRY_INFO!C63))","v":"MAYUGE"},{"$f":"IF(INTRO!$E$43=\"Non-endemic\", 0, IF(COUNTRY_INFO!$K63>0, IF(COUNTRY_INFO!$K63=4, 0, IF(COUNTRY_INFO!$K63=1, COUNTRY_INFO!$F63*0.33, IF(COUNTRY_INFO!$K63=2, COUNTRY_INFO!$F63*0.5, COUNTRY_INFO!$F63))), 0))","v":189309},{"$f":"IF(INTRO!$E$43=\"Non-endemic\", 0, IF(COUNTRY_INFO!$K63>0, IF(COUNTRY_INFO!$K63=4, 0, IF(COUNTRY_INFO!$K63=1, 0, IF(COUNTRY_INFO!$K63=2, COUNTRY_INFO!$G63*0.2, COUNTRY_INFO!$G63))), 0))","v":326589},515898,{"$f":"IF(INTRO!$E$43=\"Non-endemic\", \"Not required\", COUNTRY_INFO!S63)","v":1},null,{"$f":"IF($D63=0,0,IF(AND($G63>0,$H63<>\"Yes\"),D63,IF(AND($G63>0,$H63=\"Yes\"),COUNTRY_INFO!$F63,0)))","v":189309},92129,326589,418718,230322.5,979767,230322.5,0,230322.5,231]
[{"$f":"IF(INTRO!$E$43=\"Non-endemic\",\" \", IF(COUNTRY_INFO!A64=0,\" \",COUNTRY_INFO!A64))","v":"Uganda"},{"$f":"IF(INTRO!$E$43=\"Non-endemic\",\" \", IF(COUNTRY_INFO!B64=0,\" \",COUNTRY_INFO!B64))","v":"EASTERN"},{"$f":"IF(INTRO!$E$43=\"Non-endemic\",\" \", IF(COUNTRY_INFO!C64=0,\" \",COUNTRY_INFO!C64))","v":"MBALE"},{"$f":"IF(INTRO!$E$43=\"Non-endemic\", 0, IF(COUNTRY_INFO!$K64>0, IF(COUNTRY_INFO!$K64=4, 0, IF(COUNTRY_INFO!$K64=1, COUNTRY_INFO!$F64*0.33, IF(COUNTRY_INFO!$K64=2, COUNTRY_INFO!$F64*0.5, COUNTRY_INFO!$F64))), 0))","v":140314},{"$f":"IF(INTRO!$E$43=\"Non-endemic\", 0, IF(COUNTRY_INFO!$K64>0, IF(COUNTRY_INFO!$K64=4, 0, IF(COUNTRY_INFO!$K64=1, 0, IF(COUNTRY_INFO!$K64=2, COUNTRY_INFO!$G64*0.2, COUNTRY_INFO!$G64))), 0))","v":242065},382379,{"$f":"IF(INTRO!$E$43=\"Non-endemic\", \"Not required\", COUNTRY_INFO!S64)","v":1},null,{"$f":"IF($D64=0,0,IF(AND($G64>0,$H64<>\"Yes\"),D64,IF(AND($G64>0,$H64=\"Yes\"),COUNTRY_INFO!$F64,0)))","v":140314},85000,242065,327065,212500,726195,212500,0,212500,213]
[{"$f":"IF(INTRO!$E$43=\"Non-endemic\",\" \", IF(COUNTRY_INFO!A65=0,\" \",COUNTRY_INFO!A65))","v":"Uganda"},{"$f":"IF(INTRO!$E$43=\"Non-endemic\",\" \", IF(COUNTRY_INFO!B65=0,\" \",COUNTRY_INFO!B65))","v":"EASTERN"},{"$f":"IF(INTRO!$E$43=\"Non-endemic\",\" \", IF(COUNTRY_INFO!C65=0,\" \",COUNTRY_INFO!C65))","v":"Mbale City"},{"$f":"IF(INTRO!$E$43=\"Non-endemic\", 0, IF(COUNTRY_INFO!$K65>0, IF(COUNTRY_INFO!$K65=4, 0, IF(COUNTRY_INFO!$K65=1, COUNTRY_INFO!$F65*0.33, IF(COUNTRY_INFO!$K65=2, COUNTRY_INFO!$F65*0.5, COUNTRY_INFO!$F65))), 0))","v":54381},{"$f":"IF(INTRO!$E$43=\"Non-endemic\", 0, IF(COUNTRY_INFO!$K65>0, IF(COUNTRY_INFO!$K65=4, 0, IF(COUNTRY_INFO!$K65=1, 0, IF(COUNTRY_INFO!$K65=2, COUNTRY_INFO!$G65*0.2, COUNTRY_INFO!$G65))), 0))","v":93817},148198,{"$f":"IF(INTRO!$E$43=\"Non-endemic\", \"Not required\", COUNTRY_INFO!S65)","v":1},null,{"$f":"IF($D65=0,0,IF(AND($G65>0,$H65<>\"Yes\"),D65,IF(AND($G65>0,$H65=\"Yes\"),COUNTRY_INFO!$F65,0)))","v":54381},35000,93817,128817,87500,281451,87500,0,87500,88]
[{"$f":"IF(INTRO!$E$43=\"Non-endemic\",\" \", IF(COUNTRY_INFO!A66=0,\" \",COUNTRY_INFO!A66))","v":"Uganda"},{"$f":"IF(INTRO!$E$43=\"Non-endemic\",\" \", IF(COUNTRY_INFO!B66=0,\" \",COUNTRY_INFO!B66))","v":"EASTERN"},{"$f":"IF(INTRO!$E$43=\"Non-endemic\",\" \", IF(COUNTRY_INFO!C66=0,\" \",COUNTRY_INFO!C66))","v":"NAMAYINGO"},{"$f":"IF(INTRO!$E$43=\"Non-endemic\", 0, IF(COUNTRY_INFO!$K66>0, IF(COUNTRY_INFO!$K66=4, 0, IF(COUNTRY_INFO!$K66=1, COUNTRY_INFO!$F66*0.33, IF(COUNTRY_INFO!$K66=2, COUNTRY_INFO!$F66*0.5, COUNTRY_INFO!$F66))), 0))","v":88191},{"$f":"IF(INTRO!$E$43=\"Non-endemic\", 0, IF(COUNTRY_INFO!$K66>0, IF(COUNTRY_INFO!$K66=4, 0, IF(COUNTRY_INFO!$K66=1, 0, IF(COUNTRY_INFO!$K66=2, COUNTRY_INFO!$G66*0.2, COUNTRY_INFO!$G66))), 0))","v":152145},240336,{"$f":"IF(INTRO!$E$43=\"Non-endemic\", \"Not required\", COUNTRY_INFO!S66)","v":1},null,{"$f":"IF($D66=0,0,IF(AND($G66>0,$H66<>\"Yes\"),D66,IF(AND($G66>0,$H66=\"Yes\"),COUNTRY_INFO!$F66,0)))","v":88191},99814,152145,251959,249535,456435,249535,0,249535,250]
[{"$f":"IF(INTRO!$E$43=\"Non-endemic\",\" \", IF(COUNTRY_INFO!A67=0,\" \",COUNTRY_INFO!A67))","v":"Uganda"},{"$f":"IF(INTRO!$E$43=\"Non-endemic\",\" \", IF(COUNTRY_INFO!B67=0,\" \",COUNTRY_INFO!B67))","v":"EASTERN"},{"$f":"IF(INTRO!$E$43=\"Non-endemic\",\" \", IF(COUNTRY_INFO!C67=0,\" \",COUNTRY_INFO!C67))","v":"NAMISINDWA"},{"$f":"IF(INTRO!$E$43=\"Non-endemic\", 0, IF(COUNTRY_INFO!$K67>0, IF(COUNTRY_INFO!$K67=4, 0, IF(COUNTRY_INFO!$K67=1, COUNTRY_INFO!$F67*0.33, IF(COUNTRY_INFO!$K67=2, COUNTRY_INFO!$F67*0.5, COUNTRY_INFO!$F67))), 0))","v":24063.27},{"$f":"IF(INTRO!$E$43=\"Non-endemic\", 0, IF(COUNTRY_INFO!$K67>0, IF(COUNTRY_INFO!$K67=4, 0, IF(COUNTRY_INFO!$K67=1, 0, IF(COUNTRY_INFO!$K67=2, COUNTRY_INFO!$G67*0.2, COUNTRY_INFO!$G67))), 0))","v":0},24063.27,{"$f":"IF(INTRO!$E$43=\"Non-endemic\", \"Not required\", COUNTRY_INFO!S67)","v":1},null,{"$f":"IF($D67=0,0,IF(AND($G67>0,$H67<>\"Yes\"),D67,IF(AND($G67>0,$H67=\"Yes\"),COUNTRY_INFO!$F67,0)))","v":24063.27},52235,0,52235,130587.5,0,130587.5,0,130587.5,131]
[{"$f":"IF(INTRO!$E$43=\"Non-endemic\",\" \", IF(COUNTRY_INFO!A68=0,\" \",COUNTRY_INFO!A68))","v":"Uganda"},{"$f":"IF(INTRO!$E$43=\"Non-endemic\",\" \", IF(COUNTRY_INFO!B68=0,\" \",COUNTRY_INFO!B68))","v":"EASTERN"},{"$f":"IF(INTRO!$E$43=\"Non-endemic\",\" \", IF(COUNTRY_INFO!C68=0,\" \",COUNTRY_INFO!C68))","v":"NAMUTUMBA"},{"$f":"IF(INTRO!$E$43=\"Non-endemic\", 0, IF(COUNTRY_INFO!$K68>0, IF(COUNTRY_INFO!$K68=4, 0, IF(COUNTRY_INFO!$K68=1, COUNTRY_INFO!$F68*0.33, IF(COUNTRY_INFO!$K68=2, COUNTRY_INFO!$F68*0.5, COUNTRY_INFO!$F68))), 0))","v":50028},{"$f":"IF(INTRO!$E$43=\"Non-endemic\", 0, IF(COUNTRY_INFO!$K68>0, IF(COUNTRY_INFO!$K68=4, 0, IF(COUNTRY_INFO!$K68=1, 0, IF(COUNTRY_INFO!$K68=2, COUNTRY_INFO!$G68*0.2, COUNTRY_INFO!$G68))), 0))","v":34522.800000000003},84550.8,{"$f":"IF(INTRO!$E$43=\"Non-endemic\", \"Not required\", COUNTRY_INFO!S68)","v":1},null,{"$f":"IF($D68=0,0,IF(AND($G68>0,$H68<>\"Yes\"),D68,IF(AND($G68>0,$H68=\"Yes\"),COUNTRY_INFO!$F68,0)))","v":50028},94789,34522.800000000003,129311.8,236972.5,103568.40000000001,236972.5,0,236972.5,237]
[{"$f":"IF(INTRO!$E$43=\"Non-endemic\",\" \", IF(COUNTRY_INFO!A69=0,\" \",COUNTRY_INFO!A69))","v":"Uganda"},{"$f":"IF(INTRO!$E$43=\"Non-endemic\",\" \", IF(COUNTRY_INFO!B69=0,\" \",COUNTRY_INFO!B69))","v":"EASTERN"},{"$f":"IF(INTRO!$E$43=\"Non-endemic\",\" \", IF(COUNTRY_INFO!C69=0,\" \",COUNTRY_INFO!C69))","v":"NGORA"},{"$f":"IF(INTRO!$E$43=\"Non-endemic\", 0, IF(COUNTRY_INFO!$K69>0, IF(COUNTRY_INFO!$K69=4, 0, IF(COUNTRY_INFO!$K69=1, COUNTRY_INFO!$F69*0.33, IF(COUNTRY_INFO!$K69=2, COUNTRY_INFO!$F69*0.5, COUNTRY_INFO!$F69))), 0))","v":18576.36},{"$f":"IF(INTRO!$E$43=\"Non-endemic\", 0, IF(COUNTRY_INFO!$K69>0, IF(COUNTRY_INFO!$K69=4, 0, IF(COUNTRY_INFO!$K69=1, 0, IF(COUNTRY_INFO!$K69=2, COUNTRY_INFO!$G69*0.2, COUNTRY_INFO!$G69))), 0))","v":0},18576.36,{"$f":"IF(INTRO!$E$43=\"Non-endemic\", \"Not required\", COUNTRY_INFO!S69)","v":1},null,{"$f":"IF($D69=0,0,IF(AND($G69>0,$H69<>\"Yes\"),D69,IF(AND($G69>0,$H69=\"Yes\"),COUNTRY_INFO!$F69,0)))","v":18576.36},63305,0,63305,158262.5,0,158262.5,0,158262.5,159]
[{"$f":"IF(INTRO!$E$43=\"Non-endemic\",\" \", IF(COUNTRY_INFO!A70=0,\" \",COUNTRY_INFO!A70))","v":"Uganda"},{"$f":"IF(INTRO!$E$43=\"Non-endemic\",\" \", IF(COUNTRY_INFO!B70=0,\" \",COUNTRY_INFO!B70))","v":"EASTERN"},{"$f":"IF(INTRO!$E$43=\"Non-endemic\",\" \", IF(COUNTRY_INFO!C70=0,\" \",COUNTRY_INFO!C70))","v":"PALLISA"},{"$f":"IF(INTRO!$E$43=\"Non-endemic\", 0, IF(COUNTRY_INFO!$K70>0, IF(COUNTRY_INFO!$K70=4, 0, IF(COUNTRY_INFO!$K70=1, COUNTRY_INFO!$F70*0.33, IF(COUNTRY_INFO!$K70=2, COUNTRY_INFO!$F70*0.5, COUNTRY_INFO!$F70))), 0))","v":31523.25},{"$f":"IF(INTRO!$E$43=\"Non-endemic\", 0, IF(COUNTRY_INFO!$K70>0, IF(COUNTRY_INFO!$K70=4, 0, IF(COUNTRY_INFO!$K70=1, 0, IF(COUNTRY_INFO!$K70=2, COUNTRY_INFO!$G70*0.2, COUNTRY_INFO!$G70))), 0))","v":0},31523.25,{"$f":"IF(INTRO!$E$43=\"Non-endemic\", \"Not required\", COUNTRY_INFO!S70)","v":1},null,{"$f":"IF($D70=0,0,IF(AND($G70>0,$H70<>\"Yes\"),D70,IF(AND($G70>0,$H70=\"Yes\"),COUNTRY_INFO!$F70,0)))","v":31523.25},111513,0,111513,278782.5,0,278782.5,0,278782.5,279]
[{"$f":"IF(INTRO!$E$43=\"Non-endemic\",\" \", IF(COUNTRY_INFO!A71=0,\" \",COUNTRY_INFO!A71))","v":"Uganda"},{"$f":"IF(INTRO!$E$43=\"Non-endemic\",\" \", IF(COUNTRY_INFO!B71=0,\" \",COUNTRY_INFO!B71))","v":"EASTERN"},{"$f":"IF(INTRO!$E$43=\"Non-endemic\",\" \", IF(COUNTRY_INFO!C71=0,\" \",COUNTRY_INFO!C71))","v":"SERERE"},{"$f":"IF(INTRO!$E$43=\"Non-endemic\", 0, IF(COUNTRY_INFO!$K71>0, IF(COUNTRY_INFO!$K71=4, 0, IF(COUNTRY_INFO!$K71=1, COUNTRY_INFO!$F71*0.33, IF(COUNTRY_INFO!$K71=2, COUNTRY_INFO!$F71*0.5, COUNTRY_INFO!$F71))), 0))","v":112056},{"$f":"IF(INTRO!$E$43=\"Non-endemic\", 0, IF(COUNTRY_INFO!$K71>0, IF(COUNTRY_INFO!$K71=4, 0, IF(COUNTRY_INFO!$K71=1, 0, IF(COUNTRY_INFO!$K71=2, COUNTRY_INFO!$G71*0.2, COUNTRY_INFO!$G71))), 0))","v":193315},305371,{"$f":"IF(INTRO!$E$43=\"Non-endemic\", \"Not required\", COUNTRY_INFO!S71)","v":1},null,{"$f":"IF($D71=0,0,IF(AND($G71>0,$H71<>\"Yes\"),D71,IF(AND($G71>0,$H71=\"Yes\"),COUNTRY_INFO!$F71,0)))","v":112056},104515,193315,297830,261287.5,579945,261287.5,0,261287.5,262]
[{"$f":"IF(INTRO!$E$43=\"Non-endemic\",\" \", IF(COUNTRY_INFO!A72=0,\" \",COUNTRY_INFO!A72))","v":"Uganda"},{"$f":"IF(INTRO!$E$43=\"Non-endemic\",\" \", IF(COUNTRY_INFO!B72=0,\" \",COUNTRY_INFO!B72))","v":"EASTERN"},{"$f":"IF(INTRO!$E$43=\"Non-endemic\",\" \", IF(COUNTRY_INFO!C72=0,\" \",COUNTRY_INFO!C72))","v":"SIRONKO"},{"$f":"IF(INTRO!$E$43=\"Non-endemic\", 0, IF(COUNTRY_INFO!$K72>0, IF(COUNTRY_INFO!$K72=4, 0, IF(COUNTRY_INFO!$K72=1, COUNTRY_INFO!$F72*0.33, IF(COUNTRY_INFO!$K72=2, COUNTRY_INFO!$F72*0.5, COUNTRY_INFO!$F72))), 0))","v":48720.5},{"$f":"IF(INTRO!$E$43=\"Non-endemic\", 0, IF(COUNTRY_INFO!$K72>0, IF(COUNTRY_INFO!$K72=4, 0, IF(COUNTRY_INFO!$K72=1, 0, IF(COUNTRY_INFO!$K72=2, COUNTRY_INFO!$G72*0.2, COUNTRY_INFO!$G72))), 0))","v":33620.400000000001},82340.899999999994,{"$f":"IF(INTRO!$E$43=\"Non-endemic\", \"Not required\", COUNTRY_INFO!S72)","v":1},"Yes",{"$f":"IF($D72=0,0,IF(AND($G72>0,$H72<>\"Yes\"),D72,IF(AND($G72>0,$H72=\"Yes\"),COUNTRY_INFO!$F72,0)))","v":97441},0,33620.400000000001,131061.4,243602.5,100861.20000000001,243602.5,0,243602.5,244]
[{"$f":"IF(INTRO!$E$43=\"Non-endemic\",\" \", IF(COUNTRY_INFO!A73=0,\" \",COUNTRY_INFO!A73))","v":"Uganda"},{"$f":"IF(INTRO!$E$43=\"Non-endemic\",\" \", IF(COUNTRY_INFO!B73=0,\" \",COUNTRY_INFO!B73))","v":"EASTERN"},{"$f":"IF(INTRO!$E$43=\"Non-endemic\",\" \", IF(COUNTRY_INFO!C73=0,\" \",COUNTRY_INFO!C73))","v":"SOROTI"},{"$f":"IF(INTRO!$E$43=\"Non-endemic\", 0, IF(COUNTRY_INFO!$K73>0, IF(COUNTRY_INFO!$K73=4, 0, IF(COUNTRY_INFO!$K73=1, COUNTRY_INFO!$F73*0.33, IF(COUNTRY_INFO!$K73=2, COUNTRY_INFO!$F73*0.5, COUNTRY_INFO!$F73))), 0))","v":32294.460000000003},{"$f":"IF(INTRO!$E$43=\"Non-endemic\", 0, IF(COUNTRY_INFO!$K73>0, IF(COUNTRY_INFO!$K73=4, 0, IF(COUNTRY_INFO!$K73=1, 0, IF(COUNTRY_INFO!$K73=2, COUNTRY_INFO!$G73*0.2, COUNTRY_INFO!$G73))), 0))","v":0},32294.460000000003,{"$f":"IF(INTRO!$E$43=\"Non-endemic\", \"Not required\", COUNTRY_INFO!S73)","v":1},null,{"$f":"IF($D73=0,0,IF(AND($G73>0,$H73<>\"Yes\"),D73,IF(AND($G73>0,$H73=\"Yes\"),COUNTRY_INFO!$F73,0)))","v":32294.460000000003},118498,{"$f":"IF($G73>0,E73, 0)","v":0},118498,296245,0,296245,0,296245,297]
[{"$f":"IF(INTRO!$E$43=\"Non-endemic\",\" \", IF(COUNTRY_INFO!A74=0,\" \",COUNTRY_INFO!A74))","v":"Uganda"},{"$f":"IF(INTRO!$E$43=\"Non-endemic\",\" \", IF(COUNTRY_INFO!B74=0,\" \",COUNTRY_INFO!B74))","v":"EASTERN"},{"$f":"IF(INTRO!$E$43=\"Non-endemic\",\" \", IF(COUNTRY_INFO!C74=0,\" \",COUNTRY_INFO!C74))","v":"Soroti City"},{"$f":"IF(INTRO!$E$43=\"Non-endemic\", 0, IF(COUNTRY_INFO!$K74>0, IF(COUNTRY_INFO!$K74=4, 0, IF(COUNTRY_INFO!$K74=1, COUNTRY_INFO!$F74*0.33, IF(COUNTRY_INFO!$K74=2, COUNTRY_INFO!$F74*0.5, COUNTRY_INFO!$F74))), 0))","v":0},{"$f":"IF(INTRO!$E$43=\"Non-endemic\", 0, IF(COUNTRY_INFO!$K74>0, IF(COUNTRY_INFO!$K74=4, 0, IF(COUNTRY_INFO!$K74=1, 0, IF(COUNTRY_INFO!$K74=2, COUNTRY_INFO!$G74*0.2, COUNTRY_INFO!$G74))), 0))","v":0},{"$f":"SUM(D74:E74)","v":0},{"$f":"IF(INTRO!$E$43=\"Non-endemic\", \"Not required\", COUNTRY_INFO!S74)","v":0},null,{"$f":"IF($D74=0,0,IF(AND($G74>0,$H74<>\"Yes\"),D74,IF(AND($G74>0,$H74=\"Yes\"),COUNTRY_INFO!$F74,0)))","v":0},0,0,{"$f":"IF($J74=0,SUM(I74,K74),SUM(J74,K74))","v":0},0,0,{"$f":"M74","v":0},null,{"$f":"IF($O74>$P74,O74-P74,0)","v":0},0]
[{"$f":"IF(INTRO!$E$43=\"Non-endemic\",\" \", IF(COUNTRY_INFO!A75=0,\" \",COUNTRY_INFO!A75))","v":"Uganda"},{"$f":"IF(INTRO!$E$43=\"Non-endemic\",\" \", IF(COUNTRY_INFO!B75=0,\" \",COUNTRY_INFO!B75))","v":"EASTERN"},{"$f":"IF(INTRO!$E$43=\"Non-endemic\",\" \", IF(COUNTRY_INFO!C75=0,\" \",COUNTRY_INFO!C75))","v":"TORORO"},{"$f":"IF(INTRO!$E$43=\"Non-endemic\", 0, IF(COUNTRY_INFO!$K75>0, IF(COUNTRY_INFO!$K75=4, 0, IF(COUNTRY_INFO!$K75=1, COUNTRY_INFO!$F75*0.33, IF(COUNTRY_INFO!$K75=2, COUNTRY_INFO!$F75*0.5, COUNTRY_INFO!$F75))), 0))","v":207957},{"$f":"IF(INTRO!$E$43=\"Non-endemic\", 0, IF(COUNTRY_INFO!$K75>0, IF(COUNTRY_INFO!$K75=4, 0, IF(COUNTRY_INFO!$K75=1, 0, IF(COUNTRY_INFO!$K75=2, COUNTRY_INFO!$G75*0.2, COUNTRY_INFO!$G75))), 0))","v":358761},566718,{"$f":"IF(INTRO!$E$43=\"Non-endemic\", \"Not required\", COUNTRY_INFO!S75)","v":1},null,{"$f":"IF($D75=0,0,IF(AND($G75>0,$H75<>\"Yes\"),D75,IF(AND($G75>0,$H75=\"Yes\"),COUNTRY_INFO!$F75,0)))","v":207957},109352,358761,468113,273380,1076283,273380,0,273380,274]
[{"$f":"IF(INTRO!$E$43=\"Non-endemic\",\" \", IF(COUNTRY_INFO!A76=0,\" \",COUNTRY_INFO!A76))","v":"Uganda"},{"$f":"IF(INTRO!$E$43=\"Non-endemic\",\" \", IF(COUNTRY_INFO!B76=0,\" \",COUNTRY_INFO!B76))","v":"NORTHERN"},{"$f":"IF(INTRO!$E$43=\"Non-endemic\",\" \", IF(COUNTRY_INFO!C76=0,\" \",COUNTRY_INFO!C76))","v":"ABIM"},{"$f":"IF(INTRO!$E$43=\"Non-endemic\", 0, IF(COUNTRY_INFO!$K76>0, IF(COUNTRY_INFO!$K76=4, 0, IF(COUNTRY_INFO!$K76=1, COUNTRY_INFO!$F76*0.33, IF(COUNTRY_INFO!$K76=2, COUNTRY_INFO!$F76*0.5, COUNTRY_INFO!$F76))), 0))","v":0},{"$f":"IF(INTRO!$E$43=\"Non-endemic\", 0, IF(COUNTRY_INFO!$K76>0, IF(COUNTRY_INFO!$K76=4, 0, IF(COUNTRY_INFO!$K76=1, 0, IF(COUNTRY_INFO!$K76=2, COUNTRY_INFO!$G76*0.2, COUNTRY_INFO!$G76))), 0))","v":0},0,{"$f":"IF(INTRO!$E$43=\"Non-endemic\", \"Not required\", COUNTRY_INFO!S76)","v":0},null,{"$f":"IF($D76=0,0,IF(AND($G76>0,$H76<>\"Yes\"),D76,IF(AND($G76>0,$H76=\"Yes\"),COUNTRY_INFO!$F76,0)))","v":0},0,0,0,0,0,0,null,0,0]
[{"$f":"IF(INTRO!$E$43=\"Non-endemic\",\" \", IF(COUNTRY_INFO!A77=0,\" \",COUNTRY_INFO!A77))","v":"Uganda"},{"$f":"IF(INTRO!$E$43=\"Non-endemic\",\" \", IF(COUNTRY_INFO!B77=0,\" \",COUNTRY_INFO!B77))","v":"NORTHERN"},{"$f":"IF(INTRO!$E$43=\"Non-endemic\",\" \", IF(COUNTRY_INFO!C77=0,\" \",COUNTRY_INFO!C77))","v":"ADJUMANI"},{"$f":"IF(INTRO!$E$43=\"Non-endemic\", 0, IF(COUNTRY_INFO!$K77>0, IF(COUNTRY_INFO!$K77=4, 0, IF(COUNTRY_INFO!$K77=1, COUNTRY_INFO!$F77*0.33, IF(COUNTRY_INFO!$K77=2, COUNTRY_INFO!$F77*0.5, COUNTRY_INFO!$F77))), 0))","v":91980},{"$f":"IF(INTRO!$E$43=\"Non-endemic\", 0, IF(COUNTRY_INFO!$K77>0, IF(COUNTRY_INFO!$K77=4, 0, IF(COUNTRY_INFO!$K77=1, 0, IF(COUNTRY_INFO!$K77=2, COUNTRY_INFO!$G77*0.2, COUNTRY_INFO!$G77))), 0))","v":158681},250661,{"$f":"IF(INTRO!$E$43=\"Non-endemic\", \"Not required\", COUNTRY_INFO!S77)","v":1},null,{"$f":"IF($D77=0,0,IF(AND($G77>0,$H77<>\"Yes\"),D77,IF(AND($G77>0,$H77=\"Yes\"),COUNTRY_INFO!$F77,0)))","v":91980},20526,158681,179207,51315,476043,51315,0,51315,52]
[{"$f":"IF(INTRO!$E$43=\"Non-endemic\",\" \", IF(COUNTRY_INFO!A78=0,\" \",COUNTRY_INFO!A78))","v":"Uganda"},{"$f":"IF(INTRO!$E$43=\"Non-endemic\",\" \", IF(COUNTRY_INFO!B78=0,\" \",COUNTRY_INFO!B78))","v":"NORTHERN"},{"$f":"IF(INTRO!$E$43=\"Non-endemic\",\" \", IF(COUNTRY_INFO!C78=0,\" \",COUNTRY_INFO!C78))","v":"AGAGO"},{"$f":"IF(INTRO!$E$43=\"Non-endemic\", 0, IF(COUNTRY_INFO!$K78>0, IF(COUNTRY_INFO!$K78=4, 0, IF(COUNTRY_INFO!$K78=1, COUNTRY_INFO!$F78*0.33, IF(COUNTRY_INFO!$K78=2, COUNTRY_INFO!$F78*0.5, COUNTRY_INFO!$F78))), 0))","v":89876},{"$f":"IF(INTRO!$E$43=\"Non-endemic\", 0, IF(COUNTRY_INFO!$K78>0, IF(COUNTRY_INFO!$K78=4, 0, IF(COUNTRY_INFO!$K78=1, 0, IF(COUNTRY_INFO!$K78=2, COUNTRY_INFO!$G78*0.2, COUNTRY_INFO!$G78))), 0))","v":155051},244927,{"$f":"IF(INTRO!$E$43=\"Non-endemic\", \"Not required\", COUNTRY_INFO!S78)","v":1},null,{"$f":"IF($D78=0,0,IF(AND($G78>0,$H78<>\"Yes\"),D78,IF(AND($G78>0,$H78=\"Yes\"),COUNTRY_INFO!$F78,0)))","v":89876},0,155051,244927,224690,465153,224690,null,224690,225]
[{"$f":"IF(INTRO!$E$43=\"Non-endemic\",\" \", IF(COUNTRY_INFO!A79=0,\" \",COUNTRY_INFO!A79))","v":"Uganda"},{"$f":"IF(INTRO!$E$43=\"Non-endemic\",\" \", IF(COUNTRY_INFO!B79=0,\" \",COUNTRY_INFO!B79))","v":"NORTHERN"},{"$f":"IF(INTRO!$E$43=\"Non-endemic\",\" \", IF(COUNTRY_INFO!C79=0,\" \",COUNTRY_INFO!C79))","v":"ALEBTONG"},{"$f":"IF(INTRO!$E$43=\"Non-endemic\", 0, IF(COUNTRY_INFO!$K79>0, IF(COUNTRY_INFO!$K79=4, 0, IF(COUNTRY_INFO!$K79=1, COUNTRY_INFO!$F79*0.33, IF(COUNTRY_INFO!$K79=2, COUNTRY_INFO!$F79*0.5, COUNTRY_INFO!$F79))), 0))","v":44511.5},{"$f":"IF(INTRO!$E$43=\"Non-endemic\", 0, IF(COUNTRY_INFO!$K79>0, IF(COUNTRY_INFO!$K79=4, 0, IF(COUNTRY_INFO!$K79=1, 0, IF(COUNTRY_INFO!$K79=2, COUNTRY_INFO!$G79*0.2, COUNTRY_INFO!$G79))), 0))","v":30715.800000000003},75227.3,{"$f":"IF(INTRO!$E$43=\"Non-endemic\", \"Not required\", COUNTRY_INFO!S79)","v":1},null,{"$f":"IF($D79=0,0,IF(AND($G79>0,$H79<>\"Yes\"),D79,IF(AND($G79>0,$H79=\"Yes\"),COUNTRY_INFO!$F79,0)))","v":44511.5},86389,30715.800000000003,117104.8,215972.5,92147.400000000009,215972.5,0,215972.5,216]
[{"$f":"IF(INTRO!$E$43=\"Non-endemic\",\" \", IF(COUNTRY_INFO!A80=0,\" \",COUNTRY_INFO!A80))","v":"Uganda"},{"$f":"IF(INTRO!$E$43=\"Non-endemic\",\" \", IF(COUNTRY_INFO!B80=0,\" \",COUNTRY_INFO!B80))","v":"NORTHERN"},{"$f":"IF(INTRO!$E$43=\"Non-endemic\",\" \", IF(COUNTRY_INFO!C80=0,\" \",COUNTRY_INFO!C80))","v":"AMOLATAR"},{"$f":"IF(INTRO!$E$43=\"Non-endemic\", 0, IF(COUNTRY_INFO!$K80>0, IF(COUNTRY_INFO!$K80=4, 0, IF(COUNTRY_INFO!$K80=1, COUNTRY_INFO!$F80*0.33, IF(COUNTRY_INFO!$K80=2, COUNTRY_INFO!$F80*0.5, COUNTRY_INFO!$F80))), 0))","v":58039},{"$f":"IF(INTRO!$E$43=\"Non-endemic\", 0, IF(COUNTRY_INFO!$K80>0, IF(COUNTRY_INFO!$K80=4, 0, IF(COUNTRY_INFO!$K80=1, 0, IF(COUNTRY_INFO!$K80=2, COUNTRY_INFO!$G80*0.2, COUNTRY_INFO!$G80))), 0))","v":100127},158166,{"$f":"IF(INTRO!$E$43=\"Non-endemic\", \"Not required\", COUNTRY_INFO!S80)","v":1},null,{"$f":"IF($D80=0,0,IF(AND($G80>0,$H80<>\"Yes\"),D80,IF(AND($G80>0,$H80=\"Yes\"),COUNTRY_INFO!$F80,0)))","v":58039},57326,100127,157453,143315,300381,143315,0,143315,144]
[{"$f":"IF(INTRO!$E$43=\"Non-endemic\",\" \", IF(COUNTRY_INFO!A81=0,\" \",COUNTRY_INFO!A81))","v":"Uganda"},{"$f":"IF(INTRO!$E$43=\"Non-endemic\",\" \", IF(COUNTRY_INFO!B81=0,\" \",COUNTRY_INFO!B81))","v":"NORTHERN"},{"$f":"IF(INTRO!$E$43=\"Non-endemic\",\" \", IF(COUNTRY_INFO!C81=0,\" \",COUNTRY_INFO!C81))","v":"AMUDAT"},{"$f":"IF(INTRO!$E$43=\"Non-endemic\", 0, IF(COUNTRY_INFO!$K81>0, IF(COUNTRY_INFO!$K81=4, 0, IF(COUNTRY_INFO!$K81=1, COUNTRY_INFO!$F81*0.33, IF(COUNTRY_INFO!$K81=2, COUNTRY_INFO!$F81*0.5, COUNTRY_INFO!$F81))), 0))","v":0},{"$f":"IF(INTRO!$E$43=\"Non-endemic\", 0, IF(COUNTRY_INFO!$K81>0, IF(COUNTRY_INFO!$K81=4, 0, IF(COUNTRY_INFO!$K81=1, 0, IF(COUNTRY_INFO!$K81=2, COUNTRY_INFO!$G81*0.2, COUNTRY_INFO!$G81))), 0))","v":0},0,{"$f":"IF(INTRO!$E$43=\"Non-endemic\", \"Not required\", COUNTRY_INFO!S81)","v":0},null,{"$f":"IF($D81=0,0,IF(AND($G81>0,$H81<>\"Yes\"),D81,IF(AND($G81>0,$H81=\"Yes\"),COUNTRY_INFO!$F81,0)))","v":0},0,0,0,0,0,0,null,0,0]
[{"$f":"IF(INTRO!$E$43=\"Non-endemic\",\" \", IF(COUNTRY_INFO!A82=0,\" \",COUNTRY_INFO!A82))","v":"Uganda"},{"$f":"IF(INTRO!$E$43=\"Non-endemic\",\" \", IF(COUNTRY_INFO!B82=0,\" \",COUNTRY_INFO!B82))","v":"NORTHERN"},{"$f":"IF(INTRO!$E$43=\"Non-endemic\",\" \", IF(COUNTRY_INFO!C82=0,\" \",COUNTRY_INFO!C82))","v":"AMURU"},{"$f":"IF(INTRO!$E$43=\"Non-endemic\", 0, IF(COUNTRY_INFO!$K82>0, IF(COUNTRY_INFO!$K82=4, 0, IF(COUNTRY_INFO!$K82=1, COUNTRY_INFO!$F82*0.33, IF(COUNTRY_INFO!$K82=2, COUNTRY_INFO!$F82*0.5, COUNTRY_INFO!$F82))), 0))","v":75268},{"$f":"IF(INTRO!$E$43=\"Non-endemic\", 0, IF(COUNTRY_INFO!$K82>0, IF(COUNTRY_INFO!$K82=4, 0, IF(COUNTRY_INFO!$K82=1, 0, IF(COUNTRY_INFO!$K82=2, COUNTRY_INFO!$G82*0.2, COUNTRY_INFO!$G82))), 0))","v":129849},205117,{"$f":"IF(INTRO!$E$43=\"Non-endemic\", \"Not required\", COUNTRY_INFO!S82)","v":1},null,{"$f":"IF($D82=0,0,IF(AND($G82>0,$H82<>\"Yes\"),D82,IF(AND($G82>0,$H82=\"Yes\"),COUNTRY_INFO!$F82,0)))","v":75268},64234,129849,194083,160585,389547,160585,0,160585,161]
[{"$f":"IF(INTRO!$E$43=\"Non-endemic\",\" \", IF(COUNTRY_INFO!A83=0,\" \",COUNTRY_INFO!A83))","v":"Uganda"},{"$f":"IF(INTRO!$E$43=\"Non-endemic\",\" \", IF(COUNTRY_INFO!B83=0,\" \",COUNTRY_INFO!B83))","v":"NORTHERN"},{"$f":"IF(INTRO!$E$43=\"Non-endemic\",\" \", IF(COUNTRY_INFO!C83=0,\" \",COUNTRY_INFO!C83))","v":"APAC"},{"$f":"IF(INTRO!$E$43=\"Non-endemic\", 0, IF(COUNTRY_INFO!$K83>0, IF(COUNTRY_INFO!$K83=4, 0, IF(COUNTRY_INFO!$K83=1, COUNTRY_INFO!$F83*0.33, IF(COUNTRY_INFO!$K83=2, COUNTRY_INFO!$F83*0.5, COUNTRY_INFO!$F83))), 0))","v":73239},{"$f":"IF(INTRO!$E$43=\"Non-endemic\", 0, IF(COUNTRY_INFO!$K83>0, IF(COUNTRY_INFO!$K83=4, 0, IF(COUNTRY_INFO!$K83=1, 0, IF(COUNTRY_INFO!$K83=2, COUNTRY_INFO!$G83*0.2, COUNTRY_INFO!$G83))), 0))","v":126350},199589,{"$f":"IF(INTRO!$E$43=\"Non-endemic\", \"Not required\", COUNTRY_INFO!S83)","v":1},null,{"$f":"IF($D83=0,0,IF(AND($G83>0,$H83<>\"Yes\"),D83,IF(AND($G83>0,$H83=\"Yes\"),COUNTRY_INFO!$F83,0)))","v":73239},91436,126350,217786,228590,379050,228590,0,228590,229]
[{"$f":"IF(INTRO!$E$43=\"Non-endemic\",\" \", IF(COUNTRY_INFO!A84=0,\" \",COUNTRY_INFO!A84))","v":"Uganda"},{"$f":"IF(INTRO!$E$43=\"Non-endemic\",\" \", IF(COUNTRY_INFO!B84=0,\" \",COUNTRY_INFO!B84))","v":"NORTHERN"},{"$f":"IF(INTRO!$E$43=\"Non-endemic\",\" \", IF(COUNTRY_INFO!C84=0,\" \",COUNTRY_INFO!C84))","v":"ARUA"},{"$f":"IF(INTRO!$E$43=\"Non-endemic\", 0, IF(COUNTRY_INFO!$K84>0, IF(COUNTRY_INFO!$K84=4, 0, IF(COUNTRY_INFO!$K84=1, COUNTRY_INFO!$F84*0.33, IF(COUNTRY_INFO!$K84=2, COUNTRY_INFO!$F84*0.5, COUNTRY_INFO!$F84))), 0))","v":52798},{"$f":"IF(INTRO!$E$43=\"Non-endemic\", 0, IF(COUNTRY_INFO!$K84>0, IF(COUNTRY_INFO!$K84=4, 0, IF(COUNTRY_INFO!$K84=1, 0, IF(COUNTRY_INFO!$K84=2, COUNTRY_INFO!$G84*0.2, COUNTRY_INFO!$G84))), 0))","v":91085},143883,{"$f":"IF(INTRO!$E$43=\"Non-endemic\", \"Not required\", COUNTRY_INFO!S84)","v":1},null,{"$f":"IF($D84=0,0,IF(AND($G84>0,$H84<>\"Yes\"),D84,IF(AND($G84>0,$H84=\"Yes\"),COUNTRY_INFO!$F84,0)))","v":52798},43483,91085,134568,108707.5,273255,108707.5,0,108707.5,109]
[{"$f":"IF(INTRO!$E$43=\"Non-endemic\",\" \", IF(COUNTRY_INFO!A85=0,\" \",COUNTRY_INFO!A85))","v":"Uganda"},{"$f":"IF(INTRO!$E$43=\"Non-endemic\",\" \", IF(COUNTRY_INFO!B85=0,\" \",COUNTRY_INFO!B85))","v":"NORTHERN"},{"$f":"IF(INTRO!$E$43=\"Non-endemic\",\" \", IF(COUNTRY_INFO!C85=0,\" \",COUNTRY_INFO!C85))","v":"Arua City"},{"$f":"IF(INTRO!$E$43=\"Non-endemic\", 0, IF(COUNTRY_INFO!$K85>0, IF(COUNTRY_INFO!$K85=4, 0, IF(COUNTRY_INFO!$K85=1, COUNTRY_INFO!$F85*0.33, IF(COUNTRY_INFO!$K85=2, COUNTRY_INFO!$F85*0.5, COUNTRY_INFO!$F85))), 0))","v":122022},{"$f":"IF(INTRO!$E$43=\"Non-endemic\", 0, IF(COUNTRY_INFO!$K85>0, IF(COUNTRY_INFO!$K85=4, 0, IF(COUNTRY_INFO!$K85=1, 0, IF(COUNTRY_INFO!$K85=2, COUNTRY_INFO!$G85*0.2, COUNTRY_INFO!$G85))), 0))","v":210507},332529,{"$f":"IF(INTRO!$E$43=\"Non-endemic\", \"Not required\", COUNTRY_INFO!S85)","v":1},null,{"$f":"IF($D85=0,0,IF(AND($G85>0,$H85<>\"Yes\"),D85,IF(AND($G85>0,$H85=\"Yes\"),COUNTRY_INFO!$F85,0)))","v":122022},0,210507,332529,305055,631521,305055,0,305055,306]
[{"$f":"IF(INTRO!$E$43=\"Non-endemic\",\" \", IF(COUNTRY_INFO!A86=0,\" \",COUNTRY_INFO!A86))","v":"Uganda"},{"$f":"IF(INTRO!$E$43=\"Non-endemic\",\" \", IF(COUNTRY_INFO!B86=0,\" \",COUNTRY_INFO!B86))","v":"NORTHERN"},{"$f":"IF(INTRO!$E$43=\"Non-endemic\",\" \", IF(COUNTRY_INFO!C86=0,\" \",COUNTRY_INFO!C86))","v":"DOKOLO"},{"$f":"IF(INTRO!$E$43=\"Non-endemic\", 0, IF(COUNTRY_INFO!$K86>0, IF(COUNTRY_INFO!$K86=4, 0, IF(COUNTRY_INFO!$K86=1, COUNTRY_INFO!$F86*0.33, IF(COUNTRY_INFO!$K86=2, COUNTRY_INFO!$F86*0.5, COUNTRY_INFO!$F86))), 0))","v":36066.5},{"$f":"IF(INTRO!$E$43=\"Non-endemic\", 0, IF(COUNTRY_INFO!$K86>0, IF(COUNTRY_INFO!$K86=4, 0, IF(COUNTRY_INFO!$K86=1, 0, IF(COUNTRY_INFO!$K86=2, COUNTRY_INFO!$G86*0.2, COUNTRY_INFO!$G86))), 0))","v":24888.400000000001},60954.9,{"$f":"IF(INTRO!$E$43=\"Non-endemic\", \"Not required\", COUNTRY_INFO!S86)","v":1},null,{"$f":"IF($D86=0,0,IF(AND($G86>0,$H86<>\"Yes\"),D86,IF(AND($G86>0,$H86=\"Yes\"),COUNTRY_INFO!$F86,0)))","v":36066.5},54407,24888.400000000001,79295.399999999994,136017.5,74665.200000000012,136017.5,0,136017.5,137]
[{"$f":"IF(INTRO!$E$43=\"Non-endemic\",\" \", IF(COUNTRY_INFO!A87=0,\" \",COUNTRY_INFO!A87))","v":"Uganda"},{"$f":"IF(INTRO!$E$43=\"Non-endemic\",\" \", IF(COUNTRY_INFO!B87=0,\" \",COUNTRY_INFO!B87))","v":"NORTHERN"},{"$f":"IF(INTRO!$E$43=\"Non-endemic\",\" \", IF(COUNTRY_INFO!C87=0,\" \",COUNTRY_INFO!C87))","v":"GULU"},{"$f":"IF(INTRO!$E$43=\"Non-endemic\", 0, IF(COUNTRY_INFO!$K87>0, IF(COUNTRY_INFO!$K87=4, 0, IF(COUNTRY_INFO!$K87=1, COUNTRY_INFO!$F87*0.33, IF(COUNTRY_INFO!$K87=2, COUNTRY_INFO!$F87*0.5, COUNTRY_INFO!$F87))), 0))","v":24853},{"$f":"IF(INTRO!$E$43=\"Non-endemic\", 0, IF(COUNTRY_INFO!$K87>0, IF(COUNTRY_INFO!$K87=4, 0, IF(COUNTRY_INFO!$K87=1, 0, IF(COUNTRY_INFO!$K87=2, COUNTRY_INFO!$G87*0.2, COUNTRY_INFO!$G87))), 0))","v":17150.400000000001},42003.4,{"$f":"IF(INTRO!$E$43=\"Non-endemic\", \"Not required\", COUNTRY_INFO!S87)","v":1},null,{"$f":"IF($D87=0,0,IF(AND($G87>0,$H87<>\"Yes\"),D87,IF(AND($G87>0,$H87=\"Yes\"),COUNTRY_INFO!$F87,0)))","v":24853},77894,17150.400000000001,95044.4,194735,51451.200000000004,194735,0,194735,195]
[{"$f":"IF(INTRO!$E$43=\"Non-endemic\",\" \", IF(COUNTRY_INFO!A88=0,\" \",COUNTRY_INFO!A88))","v":"Uganda"},{"$f":"IF(INTRO!$E$43=\"Non-endemic\",\" \", IF(COUNTRY_INFO!B88=0,\" \",COUNTRY_INFO!B88))","v":"NORTHERN"},{"$f":"IF(INTRO!$E$43=\"Non-endemic\",\" \", IF(COUNTRY_INFO!C88=0,\" \",COUNTRY_INFO!C88))","v":"Gulu City"},{"$f":"IF(INTRO!$E$43=\"Non-endemic\", 0, IF(COUNTRY_INFO!$K88>0, IF(COUNTRY_INFO!$K88=4, 0, IF(COUNTRY_INFO!$K88=1, COUNTRY_INFO!$F88*0.33, IF(COUNTRY_INFO!$K88=2, COUNTRY_INFO!$F88*0.5, COUNTRY_INFO!$F88))), 0))","v":19853.79},{"$f":"IF(INTRO!$E$43=\"Non-endemic\", 0, IF(COUNTRY_INFO!$K88>0, IF(COUNTRY_INFO!$K88=4, 0, IF(COUNTRY_INFO!$K88=1, 0, IF(COUNTRY_INFO!$K88=2, COUNTRY_INFO!$G88*0.2, COUNTRY_INFO!$G88))), 0))","v":0},19853.79,{"$f":"IF(INTRO!$E$43=\"Non-endemic\", \"Not required\", COUNTRY_INFO!S88)","v":1},null,{"$f":"IF($D88=0,0,IF(AND($G88>0,$H88<>\"Yes\"),D88,IF(AND($G88>0,$H88=\"Yes\"),COUNTRY_INFO!$F88,0)))","v":19853.79},0,0,19853.79,49634.475000000006,0,49634.475000000006,0,49634.475000000006,50]
[{"$f":"IF(INTRO!$E$43=\"Non-endemic\",\" \", IF(COUNTRY_INFO!A89=0,\" \",COUNTRY_INFO!A89))","v":"Uganda"},{"$f":"IF(INTRO!$E$43=\"Non-endemic\",\" \", IF(COUNTRY_INFO!B89=0,\" \",COUNTRY_INFO!B89))","v":"NORTHERN"},{"$f":"IF(INTRO!$E$43=\"Non-endemic\",\" \", IF(COUNTRY_INFO!C89=0,\" \",COUNTRY_INFO!C89))","v":"KAABONG"},{"$f":"IF(INTRO!$E$43=\"Non-endemic\", 0, IF(COUNTRY_INFO!$K89>0, IF(COUNTRY_INFO!$K89=4, 0, IF(COUNTRY_INFO!$K89=1, COUNTRY_INFO!$F89*0.33, IF(COUNTRY_INFO!$K89=2, COUNTRY_INFO!$F89*0.5, COUNTRY_INFO!$F89))), 0))","v":0},{"$f":"IF(INTRO!$E$43=\"Non-endemic\", 0, IF(COUNTRY_INFO!$K89>0, IF(COUNTRY_INFO!$K89=4, 0, IF(COUNTRY_INFO!$K89=1, 0, IF(COUNTRY_INFO!$K89=2, COUNTRY_INFO!$G89*0.2, COUNTRY_INFO!$G89))), 0))","v":0},0,{"$f":"IF(INTRO!$E$43=\"Non-endemic\", \"Not required\", COUNTRY_INFO!S89)","v":0},null,{"$f":"IF($D89=0,0,IF(AND($G89>0,$H89<>\"Yes\"),D89,IF(AND($G89>0,$H89=\"Yes\"),COUNTRY_INFO!$F89,0)))","v":0},0,0,0,0,0,0,null,0,0]
[{"$f":"IF(INTRO!$E$43=\"Non-endemic\",\" \", IF(COUNTRY_INFO!A90=0,\" \",COUNTRY_INFO!A90))","v":"Uganda"},{"$f":"IF(INTRO!$E$43=\"Non-endemic\",\" \", IF(COUNTRY_INFO!B90=0,\" \",COUNTRY_INFO!B90))","v":"NORTHERN"},{"$f":"IF(INTRO!$E$43=\"Non-endemic\",\" \", IF(COUNTRY_INFO!C90=0,\" \",COUNTRY_INFO!C90))","v":"KARENGA"},{"$f":"IF(INTRO!$E$43=\"Non-endemic\", 0, IF(COUNTRY_INFO!$K90>0, IF(COUNTRY_INFO!$K90=4, 0, IF(COUNTRY_INFO!$K90=1, COUNTRY_INFO!$F90*0.33, IF(COUNTRY_INFO!$K90=2, COUNTRY_INFO!$F90*0.5, COUNTRY_INFO!$F90))), 0))","v":0},{"$f":"IF(INTRO!$E$43=\"Non-endemic\", 0, IF(COUNTRY_INFO!$K90>0, IF(COUNTRY_INFO!$K90=4, 0, IF(COUNTRY_INFO!$K90=1, 0, IF(COUNTRY_INFO!$K90=2, COUNTRY_INFO!$G90*0.2, COUNTRY_INFO!$G90))), 0))","v":0},0,{"$f":"IF(INTRO!$E$43=\"Non-endemic\", \"Not required\", COUNTRY_INFO!S90)","v":0},null,{"$f":"IF($D90=0,0,IF(AND($G90>0,$H90<>\"Yes\"),D90,IF(AND($G90>0,$H90=\"Yes\"),COUNTRY_INFO!$F90,0)))","v":0},0,0,0,0,0,0,null,0,0]
[{"$f":"IF(INTRO!$E$43=\"Non-endemic\",\" \", IF(COUNTRY_INFO!A91=0,\" \",COUNTRY_INFO!A91))","v":"Uganda"},{"$f":"IF(INTRO!$E$43=\"Non-endemic\",\" \", IF(COUNTRY_INFO!B91=0,\" \",COUNTRY_INFO!B91))","v":"NORTHERN"},{"$f":"IF(INTRO!$E$43=\"Non-endemic\",\" \", IF(COUNTRY_INFO!C91=0,\" \",COUNTRY_INFO!C91))","v":"KITGUM"},{"$f":"IF(INTRO!$E$43=\"Non-endemic\", 0, IF(COUNTRY_INFO!$K91>0, IF(COUNTRY_INFO!$K91=4, 0, IF(COUNTRY_INFO!$K91=1, COUNTRY_INFO!$F91*0.33, IF(COUNTRY_INFO!$K91=2, COUNTRY_INFO!$F91*0.5, COUNTRY_INFO!$F91))), 0))","v":80600},{"$f":"IF(INTRO!$E$43=\"Non-endemic\", 0, IF(COUNTRY_INFO!$K91>0, IF(COUNTRY_INFO!$K91=4, 0, IF(COUNTRY_INFO!$K91=1, 0, IF(COUNTRY_INFO!$K91=2, COUNTRY_INFO!$G91*0.2, COUNTRY_INFO!$G91))), 0))","v":139049},219649,{"$f":"IF(INTRO!$E$43=\"Non-endemic\", \"Not required\", COUNTRY_INFO!S91)","v":1},null,{"$f":"IF($D91=0,0,IF(AND($G91>0,$H91<>\"Yes\"),D91,IF(AND($G91>0,$H91=\"Yes\"),COUNTRY_INFO!$F91,0)))","v":80600},47342,139049,186391,118355,417147,118355,0,118355,119]
[{"$f":"IF(INTRO!$E$43=\"Non-endemic\",\" \", IF(COUNTRY_INFO!A92=0,\" \",COUNTRY_INFO!A92))","v":"Uganda"},{"$f":"IF(INTRO!$E$43=\"Non-endemic\",\" \", IF(COUNTRY_INFO!B92=0,\" \",COUNTRY_INFO!B92))","v":"NORTHERN"},{"$f":"IF(INTRO!$E$43=\"Non-endemic\",\" \", IF(COUNTRY_INFO!C92=0,\" \",COUNTRY_INFO!C92))","v":"KOBOKO"},{"$f":"IF(INTRO!$E$43=\"Non-endemic\", 0, IF(COUNTRY_INFO!$K92>0, IF(COUNTRY_INFO!$K92=4, 0, IF(COUNTRY_INFO!$K92=1, COUNTRY_INFO!$F92*0.33, IF(COUNTRY_INFO!$K92=2, COUNTRY_INFO!$F92*0.5, COUNTRY_INFO!$F92))), 0))","v":82240},{"$f":"IF(INTRO!$E$43=\"Non-endemic\", 0, IF(COUNTRY_INFO!$K92>0, IF(COUNTRY_INFO!$K92=4, 0, IF(COUNTRY_INFO!$K92=1, 0, IF(COUNTRY_INFO!$K92=2, COUNTRY_INFO!$G92*0.2, COUNTRY_INFO!$G92))), 0))","v":141878},224118,{"$f":"IF(INTRO!$E$43=\"Non-endemic\", \"Not required\", COUNTRY_INFO!S92)","v":1},null,{"$f":"IF($D92=0,0,IF(AND($G92>0,$H92<>\"Yes\"),D92,IF(AND($G92>0,$H92=\"Yes\"),COUNTRY_INFO!$F92,0)))","v":82240},119849,141878,261727,299622.5,425634,299622.5,0,299622.5,300]
[{"$f":"IF(INTRO!$E$43=\"Non-endemic\",\" \", IF(COUNTRY_INFO!A93=0,\" \",COUNTRY_INFO!A93))","v":"Uganda"},{"$f":"IF(INTRO!$E$43=\"Non-endemic\",\" \", IF(COUNTRY_INFO!B93=0,\" \",COUNTRY_INFO!B93))","v":"NORTHERN"},{"$f":"IF(INTRO!$E$43=\"Non-endemic\",\" \", IF(COUNTRY_INFO!C93=0,\" \",COUNTRY_INFO!C93))","v":"KOLE"},{"$f":"IF(INTRO!$E$43=\"Non-endemic\", 0, IF(COUNTRY_INFO!$K93>0, IF(COUNTRY_INFO!$K93=4, 0, IF(COUNTRY_INFO!$K93=1, COUNTRY_INFO!$F93*0.33, IF(COUNTRY_INFO!$K93=2, COUNTRY_INFO!$F93*0.5, COUNTRY_INFO!$F93))), 0))","v":0},{"$f":"IF(INTRO!$E$43=\"Non-endemic\", 0, IF(COUNTRY_INFO!$K93>0, IF(COUNTRY_INFO!$K93=4, 0, IF(COUNTRY_INFO!$K93=1, 0, IF(COUNTRY_INFO!$K93=2, COUNTRY_INFO!$G93*0.2, COUNTRY_INFO!$G93))), 0))","v":0},0,{"$f":"IF(INTRO!$E$43=\"Non-endemic\", \"Not required\", COUNTRY_INFO!S93)","v":0},null,{"$f":"IF($D93=0,0,IF(AND($G93>0,$H93<>\"Yes\"),D93,IF(AND($G93>0,$H93=\"Yes\"),COUNTRY_INFO!$F93,0)))","v":0},0,0,0,0,0,0,null,0,0]
[{"$f":"IF(INTRO!$E$43=\"Non-endemic\",\" \", IF(COUNTRY_INFO!A94=0,\" \",COUNTRY_INFO!A94))","v":"Uganda"},{"$f":"IF(INTRO!$E$43=\"Non-endemic\",\" \", IF(COUNTRY_INFO!B94=0,\" \",COUNTRY_INFO!B94))","v":"NORTHERN"},{"$f":"IF(INTRO!$E$43=\"Non-endemic\",\" \", IF(COUNTRY_INFO!C94=0,\" \",COUNTRY_INFO!C94))","v":"KOTIDO"},{"$f":"IF(INTRO!$E$43=\"Non-endemic\", 0, IF(COUNTRY_INFO!$K94>0, IF(COUNTRY_INFO!$K94=4, 0, IF(COUNTRY_INFO!$K94=1, COUNTRY_INFO!$F94*0.33, IF(COUNTRY_INFO!$K94=2, COUNTRY_INFO!$F94*0.5, COUNTRY_INFO!$F94))), 0))","v":0},{"$f":"IF(INTRO!$E$43=\"Non-endemic\", 0, IF(COUNTRY_INFO!$K94>0, IF(COUNTRY_INFO!$K94=4, 0, IF(COUNTRY_INFO!$K94=1, 0, IF(COUNTRY_INFO!$K94=2, COUNTRY_INFO!$G94*0.2, COUNTRY_INFO!$G94))), 0))","v":0},0,{"$f":"IF(INTRO!$E$43=\"Non-endemic\", \"Not required\", COUNTRY_INFO!S94)","v":0},null,{"$f":"IF($D94=0,0,IF(AND($G94>0,$H94<>\"Yes\"),D94,IF(AND($G94>0,$H94=\"Yes\"),COUNTRY_INFO!$F94,0)))","v":0},0,0,0,0,0,0,null,0,0]
[{"$f":"IF(INTRO!$E$43=\"Non-endemic\",\" \", IF(COUNTRY_INFO!A95=0,\" \",COUNTRY_INFO!A95))","v":"Uganda"},{"$f":"IF(INTRO!$E$43=\"Non-endemic\",\" \", IF(COUNTRY_INFO!B95=0,\" \",COUNTRY_INFO!B95))","v":"NORTHERN"},{"$f":"IF(INTRO!$E$43=\"Non-endemic\",\" \", IF(COUNTRY_INFO!C95=0,\" \",COUNTRY_INFO!C95))","v":"KWANIA"},{"$f":"IF(INTRO!$E$43=\"Non-endemic\", 0, IF(COUNTRY_INFO!$K95>0, IF(COUNTRY_INFO!$K95=4, 0, IF(COUNTRY_INFO!$K95=1, COUNTRY_INFO!$F95*0.33, IF(COUNTRY_INFO!$K95=2, COUNTRY_INFO!$F95*0.5, COUNTRY_INFO!$F95))), 0))","v":23911.800000000003},{"$f":"IF(INTRO!$E$43=\"Non-endemic\", 0, IF(COUNTRY_INFO!$K95>0, IF(COUNTRY_INFO!$K95=4, 0, IF(COUNTRY_INFO!$K95=1, 0, IF(COUNTRY_INFO!$K95=2, COUNTRY_INFO!$G95*0.2, COUNTRY_INFO!$G95))), 0))","v":0},23911.800000000003,{"$f":"IF(INTRO!$E$43=\"Non-endemic\", \"Not required\", COUNTRY_INFO!S95)","v":1},null,{"$f":"IF($D95=0,0,IF(AND($G95>0,$H95<>\"Yes\"),D95,IF(AND($G95>0,$H95=\"Yes\"),COUNTRY_INFO!$F95,0)))","v":23911.800000000003},45782,0,45782,114455,0,114455,0,114455,115]
[{"$f":"IF(INTRO!$E$43=\"Non-endemic\",\" \", IF(COUNTRY_INFO!A96=0,\" \",COUNTRY_INFO!A96))","v":"Uganda"},{"$f":"IF(INTRO!$E$43=\"Non-endemic\",\" \", IF(COUNTRY_INFO!B96=0,\" \",COUNTRY_INFO!B96))","v":"NORTHERN"},{"$f":"IF(INTRO!$E$43=\"Non-endemic\",\" \", IF(COUNTRY_INFO!C96=0,\" \",COUNTRY_INFO!C96))","v":"LAMWO"},{"$f":"IF(INTRO!$E$43=\"Non-endemic\", 0, IF(COUNTRY_INFO!$K96>0, IF(COUNTRY_INFO!$K96=4, 0, IF(COUNTRY_INFO!$K96=1, COUNTRY_INFO!$F96*0.33, IF(COUNTRY_INFO!$K96=2, COUNTRY_INFO!$F96*0.5, COUNTRY_INFO!$F96))), 0))","v":17477.46},{"$f":"IF(INTRO!$E$43=\"Non-endemic\", 0, IF(COUNTRY_INFO!$K96>0, IF(COUNTRY_INFO!$K96=4, 0, IF(COUNTRY_INFO!$K96=1, 0, IF(COUNTRY_INFO!$K96=2, COUNTRY_INFO!$G96*0.2, COUNTRY_INFO!$G96))), 0))","v":0},17477.46,{"$f":"IF(INTRO!$E$43=\"Non-endemic\", \"Not required\", COUNTRY_INFO!S96)","v":1},null,{"$f":"IF($D96=0,0,IF(AND($G96>0,$H96<>\"Yes\"),D96,IF(AND($G96>0,$H96=\"Yes\"),COUNTRY_INFO!$F96,0)))","v":17477.46},90000,0,90000,225000,0,225000,0,225000,225]
[{"$f":"IF(INTRO!$E$43=\"Non-endemic\",\" \", IF(COUNTRY_INFO!A97=0,\" \",COUNTRY_INFO!A97))","v":"Uganda"},{"$f":"IF(INTRO!$E$43=\"Non-endemic\",\" \", IF(COUNTRY_INFO!B97=0,\" \",COUNTRY_INFO!B97))","v":"NORTHERN"},{"$f":"IF(INTRO!$E$43=\"Non-endemic\",\" \", IF(COUNTRY_INFO!C97=0,\" \",COUNTRY_INFO!C97))","v":"LIRA"},{"$f":"IF(INTRO!$E$43=\"Non-endemic\", 0, IF(COUNTRY_INFO!$K97>0, IF(COUNTRY_INFO!$K97=4, 0, IF(COUNTRY_INFO!$K97=1, COUNTRY_INFO!$F97*0.33, IF(COUNTRY_INFO!$K97=2, COUNTRY_INFO!$F97*0.5, COUNTRY_INFO!$F97))), 0))","v":123050},{"$f":"IF(INTRO!$E$43=\"Non-endemic\", 0, IF(COUNTRY_INFO!$K97>0, IF(COUNTRY_INFO!$K97=4, 0, IF(COUNTRY_INFO!$K97=1, 0, IF(COUNTRY_INFO!$K97=2, COUNTRY_INFO!$G97*0.2, COUNTRY_INFO!$G97))), 0))","v":212281},335331,{"$f":"IF(INTRO!$E$43=\"Non-endemic\", \"Not required\", COUNTRY_INFO!S97)","v":1},null,{"$f":"IF($D97=0,0,IF(AND($G97>0,$H97<>\"Yes\"),D97,IF(AND($G97>0,$H97=\"Yes\"),COUNTRY_INFO!$F97,0)))","v":123050},83434,212281,295715,208585,636843,208585,0,208585,209]
[{"$f":"IF(INTRO!$E$43=\"Non-endemic\",\" \", IF(COUNTRY_INFO!A98=0,\" \",COUNTRY_INFO!A98))","v":"Uganda"},{"$f":"IF(INTRO!$E$43=\"Non-endemic\",\" \", IF(COUNTRY_INFO!B98=0,\" \",COUNTRY_INFO!B98))","v":"NORTHERN"},{"$f":"IF(INTRO!$E$43=\"Non-endemic\",\" \", IF(COUNTRY_INFO!C98=0,\" \",COUNTRY_INFO!C98))","v":"Lira City"},{"$f":"IF(INTRO!$E$43=\"Non-endemic\", 0, IF(COUNTRY_INFO!$K98>0, IF(COUNTRY_INFO!$K98=4, 0, IF(COUNTRY_INFO!$K98=1, COUNTRY_INFO!$F98*0.33, IF(COUNTRY_INFO!$K98=2, COUNTRY_INFO!$F98*0.5, COUNTRY_INFO!$F98))), 0))","v":0},{"$f":"IF(INTRO!$E$43=\"Non-endemic\", 0, IF(COUNTRY_INFO!$K98>0, IF(COUNTRY_INFO!$K98=4, 0, IF(COUNTRY_INFO!$K98=1, 0, IF(COUNTRY_INFO!$K98=2, COUNTRY_INFO!$G98*0.2, COUNTRY_INFO!$G98))), 0))","v":0},0,{"$f":"IF(INTRO!$E$43=\"Non-endemic\", \"Not required\", COUNTRY_INFO!S98)","v":0},null,{"$f":"IF($D98=0,0,IF(AND($G98>0,$H98<>\"Yes\"),D98,IF(AND($G98>0,$H98=\"Yes\"),COUNTRY_INFO!$F98,0)))","v":0},0,0,0,0,0,0,null,0,0]
[{"$f":"IF(INTRO!$E$43=\"Non-endemic\",\" \", IF(COUNTRY_INFO!A99=0,\" \",COUNTRY_INFO!A99))","v":"Uganda"},{"$f":"IF(INTRO!$E$43=\"Non-endemic\",\" \", IF(COUNTRY_INFO!B99=0,\" \",COUNTRY_INFO!B99))","v":"NORTHERN"},{"$f":"IF(INTRO!$E$43=\"Non-endemic\",\" \", IF(COUNTRY_INFO!C99=0,\" \",COUNTRY_INFO!C99))","v":"MADI OKOLLO"},{"$f":"IF(INTRO!$E$43=\"Non-endemic\", 0, IF(COUNTRY_INFO!$K99>0, IF(COUNTRY_INFO!$K99=4, 0, IF(COUNTRY_INFO!$K99=1, COUNTRY_INFO!$F99*0.33, IF(COUNTRY_INFO!$K99=2, COUNTRY_INFO!$F99*0.5, COUNTRY_INFO!$F99))), 0))","v":27394.5},{"$f":"IF(INTRO!$E$43=\"Non-endemic\", 0, IF(COUNTRY_INFO!$K99>0, IF(COUNTRY_INFO!$K99=4, 0, IF(COUNTRY_INFO!$K99=1, 0, IF(COUNTRY_INFO!$K99=2, COUNTRY_INFO!$G99*0.2, COUNTRY_INFO!$G99))), 0))","v":18903.8},46298.3,{"$f":"IF(INTRO!$E$43=\"Non-endemic\", \"Not required\", COUNTRY_INFO!S99)","v":1},null,{"$f":"IF($D99=0,0,IF(AND($G99>0,$H99<>\"Yes\"),D99,IF(AND($G99>0,$H99=\"Yes\"),COUNTRY_INFO!$F99,0)))","v":27394.5},38828,18903.8,57731.8,97070,56711.399999999994,97070,0,97070,98]
[{"$f":"IF(INTRO!$E$43=\"Non-endemic\",\" \", IF(COUNTRY_INFO!A100=0,\" \",COUNTRY_INFO!A100))","v":"Uganda"},{"$f":"IF(INTRO!$E$43=\"Non-endemic\",\" \", IF(COUNTRY_INFO!B100=0,\" \",COUNTRY_INFO!B100))","v":"NORTHERN"},{"$f":"IF(INTRO!$E$43=\"Non-endemic\",\" \", IF(COUNTRY_INFO!C100=0,\" \",COUNTRY_INFO!C100))","v":"MARACHA"},{"$f":"IF(INTRO!$E$43=\"Non-endemic\", 0, IF(COUNTRY_INFO!$K100>0, IF(COUNTRY_INFO!$K100=4, 0, IF(COUNTRY_INFO!$K100=1, COUNTRY_INFO!$F100*0.33, IF(COUNTRY_INFO!$K100=2, COUNTRY_INFO!$F100*0.5, COUNTRY_INFO!$F100))), 0))","v":73553},{"$f":"IF(INTRO!$E$43=\"Non-endemic\", 0, IF(COUNTRY_INFO!$K100>0, IF(COUNTRY_INFO!$K100=4, 0, IF(COUNTRY_INFO!$K100=1, 0, IF(COUNTRY_INFO!$K100=2, COUNTRY_INFO!$G100*0.2, COUNTRY_INFO!$G100))), 0))","v":126891},200444,{"$f":"IF(INTRO!$E$43=\"Non-endemic\", \"Not required\", COUNTRY_INFO!S100)","v":1},null,{"$f":"IF($D100=0,0,IF(AND($G100>0,$H100<>\"Yes\"),D100,IF(AND($G100>0,$H100=\"Yes\"),COUNTRY_INFO!$F100,0)))","v":73553},68383,126891,195274,170957.5,380673,170957.5,0,170957.5,171]
[{"$f":"IF(INTRO!$E$43=\"Non-endemic\",\" \", IF(COUNTRY_INFO!A101=0,\" \",COUNTRY_INFO!A101))","v":"Uganda"},{"$f":"IF(INTRO!$E$43=\"Non-endemic\",\" \", IF(COUNTRY_INFO!B101=0,\" \",COUNTRY_INFO!B101))","v":"NORTHERN"},{"$f":"IF(INTRO!$E$43=\"Non-endemic\",\" \", IF(COUNTRY_INFO!C101=0,\" \",COUNTRY_INFO!C101))","v":"MOROTO"},{"$f":"IF(INTRO!$E$43=\"Non-endemic\", 0, IF(COUNTRY_INFO!$K101>0, IF(COUNTRY_INFO!$K101=4, 0, IF(COUNTRY_INFO!$K101=1, COUNTRY_INFO!$F101*0.33, IF(COUNTRY_INFO!$K101=2, COUNTRY_INFO!$F101*0.5, COUNTRY_INFO!$F101))), 0))","v":0},{"$f":"IF(INTRO!$E$43=\"Non-endemic\", 0, IF(COUNTRY_INFO!$K101>0, IF(COUNTRY_INFO!$K101=4, 0, IF(COUNTRY_INFO!$K101=1, 0, IF(COUNTRY_INFO!$K101=2, COUNTRY_INFO!$G101*0.2, COUNTRY_INFO!$G101))), 0))","v":0},0,{"$f":"IF(INTRO!$E$43=\"Non-endemic\", \"Not required\", COUNTRY_INFO!S101)","v":0},null,{"$f":"IF($D101=0,0,IF(AND($G101>0,$H101<>\"Yes\"),D101,IF(AND($G101>0,$H101=\"Yes\"),COUNTRY_INFO!$F101,0)))","v":0},0,0,0,0,0,0,null,0,0]
[{"$f":"IF(INTRO!$E$43=\"Non-endemic\",\" \", IF(COUNTRY_INFO!A102=0,\" \",COUNTRY_INFO!A102))","v":"Uganda"},{"$f":"IF(INTRO!$E$43=\"Non-endemic\",\" \", IF(COUNTRY_INFO!B102=0,\" \",COUNTRY_INFO!B102))","v":"NORTHERN"},{"$f":"IF(INTRO!$E$43=\"Non-endemic\",\" \", IF(COUNTRY_INFO!C102=0,\" \",COUNTRY_INFO!C102))","v":"MOYO"},{"$f":"IF(INTRO!$E$43=\"Non-endemic\", 0, IF(COUNTRY_INFO!$K102>0, IF(COUNTRY_INFO!$K102=4, 0, IF(COUNTRY_INFO!$K102=1, COUNTRY_INFO!$F102*0.33, IF(COUNTRY_INFO!$K102=2, COUNTRY_INFO!$F102*0.5, COUNTRY_INFO!$F102))), 0))","v":18636.5},{"$f":"IF(INTRO!$E$43=\"Non-endemic\", 0, IF(COUNTRY_INFO!$K102>0, IF(COUNTRY_INFO!$K102=4, 0, IF(COUNTRY_INFO!$K102=1, 0, IF(COUNTRY_INFO!$K102=2, COUNTRY_INFO!$G102*0.2, COUNTRY_INFO!$G102))), 0))","v":12860.400000000001},31496.9,{"$f":"IF(INTRO!$E$43=\"Non-endemic\", \"Not required\", COUNTRY_INFO!S102)","v":1},null,{"$f":"IF($D102=0,0,IF(AND($G102>0,$H102<>\"Yes\"),D102,IF(AND($G102>0,$H102=\"Yes\"),COUNTRY_INFO!$F102,0)))","v":18636.5},9891,12860.400000000001,22751.4,24727.5,38581.200000000004,24727.5,0,24727.5,25]
[{"$f":"IF(INTRO!$E$43=\"Non-endemic\",\" \", IF(COUNTRY_INFO!A103=0,\" \",COUNTRY_INFO!A103))","v":"Uganda"},{"$f":"IF(INTRO!$E$43=\"Non-endemic\",\" \", IF(COUNTRY_INFO!B103=0,\" \",COUNTRY_INFO!B103))","v":"NORTHERN"},{"$f":"IF(INTRO!$E$43=\"Non-endemic\",\" \", IF(COUNTRY_INFO!C103=0,\" \",COUNTRY_INFO!C103))","v":"NABILATUK"},{"$f":"IF(INTRO!$E$43=\"Non-endemic\", 0, IF(COUNTRY_INFO!$K103>0, IF(COUNTRY_INFO!$K103=4, 0, IF(COUNTRY_INFO!$K103=1, COUNTRY_INFO!$F103*0.33, IF(COUNTRY_INFO!$K103=2, COUNTRY_INFO!$F103*0.5, COUNTRY_INFO!$F103))), 0))","v":0},{"$f":"IF(INTRO!$E$43=\"Non-endemic\", 0, IF(COUNTRY_INFO!$K103>0, IF(COUNTRY_INFO!$K103=4, 0, IF(COUNTRY_INFO!$K103=1, 0, IF(COUNTRY_INFO!$K103=2, COUNTRY_INFO!$G103*0.2, COUNTRY_INFO!$G103))), 0))","v":0},0,{"$f":"IF(INTRO!$E$43=\"Non-endemic\", \"Not required\", COUNTRY_INFO!S103)","v":0},null,{"$f":"IF($D103=0,0,IF(AND($G103>0,$H103<>\"Yes\"),D103,IF(AND($G103>0,$H103=\"Yes\"),COUNTRY_INFO!$F103,0)))","v":0},0,0,0,0,0,0,null,0,0]
[{"$f":"IF(INTRO!$E$43=\"Non-endemic\",\" \", IF(COUNTRY_INFO!A104=0,\" \",COUNTRY_INFO!A104))","v":"Uganda"},{"$f":"IF(INTRO!$E$43=\"Non-endemic\",\" \", IF(COUNTRY_INFO!B104=0,\" \",COUNTRY_INFO!B104))","v":"NORTHERN"},{"$f":"IF(INTRO!$E$43=\"Non-endemic\",\" \", IF(COUNTRY_INFO!C104=0,\" \",COUNTRY_INFO!C104))","v":"NAKAPIRIPIRIT"},{"$f":"IF(INTRO!$E$43=\"Non-endemic\", 0, IF(COUNTRY_INFO!$K104>0, IF(COUNTRY_INFO!$K104=4, 0, IF(COUNTRY_INFO!$K104=1, COUNTRY_INFO!$F104*0.33, IF(COUNTRY_INFO!$K104=2, COUNTRY_INFO!$F104*0.5, COUNTRY_INFO!$F104))), 0))","v":19756},{"$f":"IF(INTRO!$E$43=\"Non-endemic\", 0, IF(COUNTRY_INFO!$K104>0, IF(COUNTRY_INFO!$K104=4, 0, IF(COUNTRY_INFO!$K104=1, 0, IF(COUNTRY_INFO!$K104=2, COUNTRY_INFO!$G104*0.2, COUNTRY_INFO!$G104))), 0))","v":13633},33389,{"$f":"IF(INTRO!$E$43=\"Non-endemic\", \"Not required\", COUNTRY_INFO!S104)","v":1},null,{"$f":"IF($D104=0,0,IF(AND($G104>0,$H104<>\"Yes\"),D104,IF(AND($G104>0,$H104=\"Yes\"),COUNTRY_INFO!$F104,0)))","v":19756},9936,13633,23569,24840,40899,24840,0,24840,25]
[{"$f":"IF(INTRO!$E$43=\"Non-endemic\",\" \", IF(COUNTRY_INFO!A105=0,\" \",COUNTRY_INFO!A105))","v":"Uganda"},{"$f":"IF(INTRO!$E$43=\"Non-endemic\",\" \", IF(COUNTRY_INFO!B105=0,\" \",COUNTRY_INFO!B105))","v":"NORTHERN"},{"$f":"IF(INTRO!$E$43=\"Non-endemic\",\" \", IF(COUNTRY_INFO!C105=0,\" \",COUNTRY_INFO!C105))","v":"NAPAK"},{"$f":"IF(INTRO!$E$43=\"Non-endemic\", 0, IF(COUNTRY_INFO!$K105>0, IF(COUNTRY_INFO!$K105=4, 0, IF(COUNTRY_INFO!$K105=1, COUNTRY_INFO!$F105*0.33, IF(COUNTRY_INFO!$K105=2, COUNTRY_INFO!$F105*0.5, COUNTRY_INFO!$F105))), 0))","v":0},{"$f":"IF(INTRO!$E$43=\"Non-endemic\", 0, IF(COUNTRY_INFO!$K105>0, IF(COUNTRY_INFO!$K105=4, 0, IF(COUNTRY_INFO!$K105=1, 0, IF(COUNTRY_INFO!$K105=2, COUNTRY_INFO!$G105*0.2, COUNTRY_INFO!$G105))), 0))","v":0},0,{"$f":"IF(INTRO!$E$43=\"Non-endemic\", \"Not required\", COUNTRY_INFO!S105)","v":0},null,{"$f":"IF($D105=0,0,IF(AND($G105>0,$H105<>\"Yes\"),D105,IF(AND($G105>0,$H105=\"Yes\"),COUNTRY_INFO!$F105,0)))","v":0},0,{"$f":"IF($G105>0,E105, 0)","v":0},0,0,0,0,null,0,0]
[{"$f":"IF(INTRO!$E$43=\"Non-endemic\",\" \", IF(COUNTRY_INFO!A106=0,\" \",COUNTRY_INFO!A106))","v":"Uganda"},{"$f":"IF(INTRO!$E$43=\"Non-endemic\",\" \", IF(COUNTRY_INFO!B106=0,\" \",COUNTRY_INFO!B106))","v":"NORTHERN"},{"$f":"IF(INTRO!$E$43=\"Non-endemic\",\" \", IF(COUNTRY_INFO!C106=0,\" \",COUNTRY_INFO!C106))","v":"NEBBI"},{"$f":"IF(INTRO!$E$43=\"Non-endemic\", 0, IF(COUNTRY_INFO!$K106>0, IF(COUNTRY_INFO!$K106=4, 0, IF(COUNTRY_INFO!$K106=1, COUNTRY_INFO!$F106*0.33, IF(COUNTRY_INFO!$K106=2, COUNTRY_INFO!$F106*0.5, COUNTRY_INFO!$F106))), 0))","v":0},{"$f":"IF(INTRO!$E$43=\"Non-endemic\", 0, IF(COUNTRY_INFO!$K106>0, IF(COUNTRY_INFO!$K106=4, 0, IF(COUNTRY_INFO!$K106=1, 0, IF(COUNTRY_INFO!$K106=2, COUNTRY_INFO!$G106*0.2, COUNTRY_INFO!$G106))), 0))","v":0},0,{"$f":"IF(INTRO!$E$43=\"Non-endemic\", \"Not required\", COUNTRY_INFO!S106)","v":0},null,{"$f":"IF($D106=0,0,IF(AND($G106>0,$H106<>\"Yes\"),D106,IF(AND($G106>0,$H106=\"Yes\"),COUNTRY_INFO!$F106,0)))","v":0},0,0,0,0,0,0,null,0,0]
[{"$f":"IF(INTRO!$E$43=\"Non-endemic\",\" \", IF(COUNTRY_INFO!A107=0,\" \",COUNTRY_INFO!A107))","v":"Uganda"},{"$f":"IF(INTRO!$E$43=\"Non-endemic\",\" \", IF(COUNTRY_INFO!B107=0,\" \",COUNTRY_INFO!B107))","v":"NORTHERN"},{"$f":"IF(INTRO!$E$43=\"Non-endemic\",\" \", IF(COUNTRY_INFO!C107=0,\" \",COUNTRY_INFO!C107))","v":"NWOYA"},{"$f":"IF(INTRO!$E$43=\"Non-endemic\", 0, IF(COUNTRY_INFO!$K107>0, IF(COUNTRY_INFO!$K107=4, 0, IF(COUNTRY_INFO!$K107=1, COUNTRY_INFO!$F107*0.33, IF(COUNTRY_INFO!$K107=2, COUNTRY_INFO!$F107*0.5, COUNTRY_INFO!$F107))), 0))","v":25304},{"$f":"IF(INTRO!$E$43=\"Non-endemic\", 0, IF(COUNTRY_INFO!$K107>0, IF(COUNTRY_INFO!$K107=4, 0, IF(COUNTRY_INFO!$K107=1, 0, IF(COUNTRY_INFO!$K107=2, COUNTRY_INFO!$G107*0.2, COUNTRY_INFO!$G107))), 0))","v":17461.400000000001},42765.4,{"$f":"IF(INTRO!$E$43=\"Non-endemic\", \"Not required\", COUNTRY_INFO!S107)","v":1},null,{"$f":"IF($D107=0,0,IF(AND($G107>0,$H107<>\"Yes\"),D107,IF(AND($G107>0,$H107=\"Yes\"),COUNTRY_INFO!$F107,0)))","v":25304},45300,17461.400000000001,62761.4,113250,52384.200000000004,113250,0,113250,114]
[{"$f":"IF(INTRO!$E$43=\"Non-endemic\",\" \", IF(COUNTRY_INFO!A108=0,\" \",COUNTRY_INFO!A108))","v":"Uganda"},{"$f":"IF(INTRO!$E$43=\"Non-endemic\",\" \", IF(COUNTRY_INFO!B108=0,\" \",COUNTRY_INFO!B108))","v":"NORTHERN"},{"$f":"IF(INTRO!$E$43=\"Non-endemic\",\" \", IF(COUNTRY_INFO!C108=0,\" \",COUNTRY_INFO!C108))","v":"OBONGI"},{"$f":"IF(INTRO!$E$43=\"Non-endemic\", 0, IF(COUNTRY_INFO!$K108>0, IF(COUNTRY_INFO!$K108=4, 0, IF(COUNTRY_INFO!$K108=1, COUNTRY_INFO!$F108*0.33, IF(COUNTRY_INFO!$K108=2, COUNTRY_INFO!$F108*0.5, COUNTRY_INFO!$F108))), 0))","v":8522},{"$f":"IF(INTRO!$E$43=\"Non-endemic\", 0, IF(COUNTRY_INFO!$K108>0, IF(COUNTRY_INFO!$K108=4, 0, IF(COUNTRY_INFO!$K108=1, 0, IF(COUNTRY_INFO!$K108=2, COUNTRY_INFO!$G108*0.2, COUNTRY_INFO!$G108))), 0))","v":5880.8},14402.8,{"$f":"IF(INTRO!$E$43=\"Non-endemic\", \"Not required\", COUNTRY_INFO!S108)","v":1},null,{"$f":"IF($D108=0,0,IF(AND($G108>0,$H108<>\"Yes\"),D108,IF(AND($G108>0,$H108=\"Yes\"),COUNTRY_INFO!$F108,0)))","v":8522},46166,5880.8,52046.8,115415,17642.400000000001,115415,0,115415,116]
[{"$f":"IF(INTRO!$E$43=\"Non-endemic\",\" \", IF(COUNTRY_INFO!A109=0,\" \",COUNTRY_INFO!A109))","v":"Uganda"},{"$f":"IF(INTRO!$E$43=\"Non-endemic\",\" \", IF(COUNTRY_INFO!B109=0,\" \",COUNTRY_INFO!B109))","v":"NORTHERN"},{"$f":"IF(INTRO!$E$43=\"Non-endemic\",\" \", IF(COUNTRY_INFO!C109=0,\" \",COUNTRY_INFO!C109))","v":"OMORO"},{"$f":"IF(INTRO!$E$43=\"Non-endemic\", 0, IF(COUNTRY_INFO!$K109>0, IF(COUNTRY_INFO!$K109=4, 0, IF(COUNTRY_INFO!$K109=1, COUNTRY_INFO!$F109*0.33, IF(COUNTRY_INFO!$K109=2, COUNTRY_INFO!$F109*0.5, COUNTRY_INFO!$F109))), 0))","v":32720},{"$f":"IF(INTRO!$E$43=\"Non-endemic\", 0, IF(COUNTRY_INFO!$K109>0, IF(COUNTRY_INFO!$K109=4, 0, IF(COUNTRY_INFO!$K109=1, 0, IF(COUNTRY_INFO!$K109=2, COUNTRY_INFO!$G109*0.2, COUNTRY_INFO!$G109))), 0))","v":22579},55299,{"$f":"IF(INTRO!$E$43=\"Non-endemic\", \"Not required\", COUNTRY_INFO!S109)","v":1},null,{"$f":"IF($D109=0,0,IF(AND($G109>0,$H109<>\"Yes\"),D109,IF(AND($G109>0,$H109=\"Yes\"),COUNTRY_INFO!$F109,0)))","v":32720},43034,22579,65613,107585,67737,107585,0,107585,108]
[{"$f":"IF(INTRO!$E$43=\"Non-endemic\",\" \", IF(COUNTRY_INFO!A110=0,\" \",COUNTRY_INFO!A110))","v":"Uganda"},{"$f":"IF(INTRO!$E$43=\"Non-endemic\",\" \", IF(COUNTRY_INFO!B110=0,\" \",COUNTRY_INFO!B110))","v":"NORTHERN"},{"$f":"IF(INTRO!$E$43=\"Non-endemic\",\" \", IF(COUNTRY_INFO!C110=0,\" \",COUNTRY_INFO!C110))","v":"OTUKE"},{"$f":"IF(INTRO!$E$43=\"Non-endemic\", 0, IF(COUNTRY_INFO!$K110>0, IF(COUNTRY_INFO!$K110=4, 0, IF(COUNTRY_INFO!$K110=1, COUNTRY_INFO!$F110*0.33, IF(COUNTRY_INFO!$K110=2, COUNTRY_INFO!$F110*0.5, COUNTRY_INFO!$F110))), 0))","v":0},{"$f":"IF(INTRO!$E$43=\"Non-endemic\", 0, IF(COUNTRY_INFO!$K110>0, IF(COUNTRY_INFO!$K110=4, 0, IF(COUNTRY_INFO!$K110=1, 0, IF(COUNTRY_INFO!$K110=2, COUNTRY_INFO!$G110*0.2, COUNTRY_INFO!$G110))), 0))","v":0},0,{"$f":"IF(INTRO!$E$43=\"Non-endemic\", \"Not required\", COUNTRY_INFO!S110)","v":0},null,{"$f":"IF($D110=0,0,IF(AND($G110>0,$H110<>\"Yes\"),D110,IF(AND($G110>0,$H110=\"Yes\"),COUNTRY_INFO!$F110,0)))","v":0},0,0,0,0,0,0,null,0,0]
[{"$f":"IF(INTRO!$E$43=\"Non-endemic\",\" \", IF(COUNTRY_INFO!A111=0,\" \",COUNTRY_INFO!A111))","v":"Uganda"},{"$f":"IF(INTRO!$E$43=\"Non-endemic\",\" \", IF(COUNTRY_INFO!B111=0,\" \",COUNTRY_INFO!B111))","v":"NORTHERN"},{"$f":"IF(INTRO!$E$43=\"Non-endemic\",\" \", IF(COUNTRY_INFO!C111=0,\" \",COUNTRY_INFO!C111))","v":"OYAM"},{"$f":"IF(INTRO!$E$43=\"Non-endemic\", 0, IF(COUNTRY_INFO!$K111>0, IF(COUNTRY_INFO!$K111=4, 0, IF(COUNTRY_INFO!$K111=1, COUNTRY_INFO!$F111*0.33, IF(COUNTRY_INFO!$K111=2, COUNTRY_INFO!$F111*0.5, COUNTRY_INFO!$F111))), 0))","v":153295},{"$f":"IF(INTRO!$E$43=\"Non-endemic\", 0, IF(COUNTRY_INFO!$K111>0, IF(COUNTRY_INFO!$K111=4, 0, IF(COUNTRY_INFO!$K111=1, 0, IF(COUNTRY_INFO!$K111=2, COUNTRY_INFO!$G111*0.2, COUNTRY_INFO!$G111))), 0))","v":264459},417754,{"$f":"IF(INTRO!$E$43=\"Non-endemic\", \"Not required\", COUNTRY_INFO!S111)","v":1},null,{"$f":"IF($D111=0,0,IF(AND($G111>0,$H111<>\"Yes\"),D111,IF(AND($G111>0,$H111=\"Yes\"),COUNTRY_INFO!$F111,0)))","v":153295},108100,264459,372559,270250,793377,270250,0,270250,271]
[{"$f":"IF(INTRO!$E$43=\"Non-endemic\",\" \", IF(COUNTRY_INFO!A112=0,\" \",COUNTRY_INFO!A112))","v":"Uganda"},{"$f":"IF(INTRO!$E$43=\"Non-endemic\",\" \", IF(COUNTRY_INFO!B112=0,\" \",COUNTRY_INFO!B112))","v":"NORTHERN"},{"$f":"IF(INTRO!$E$43=\"Non-endemic\",\" \", IF(COUNTRY_INFO!C112=0,\" \",COUNTRY_INFO!C112))","v":"PADER"},{"$f":"IF(INTRO!$E$43=\"Non-endemic\", 0, IF(COUNTRY_INFO!$K112>0, IF(COUNTRY_INFO!$K112=4, 0, IF(COUNTRY_INFO!$K112=1, COUNTRY_INFO!$F112*0.33, IF(COUNTRY_INFO!$K112=2, COUNTRY_INFO!$F112*0.5, COUNTRY_INFO!$F112))), 0))","v":36293},{"$f":"IF(INTRO!$E$43=\"Non-endemic\", 0, IF(COUNTRY_INFO!$K112>0, IF(COUNTRY_INFO!$K112=4, 0, IF(COUNTRY_INFO!$K112=1, 0, IF(COUNTRY_INFO!$K112=2, COUNTRY_INFO!$G112*0.2, COUNTRY_INFO!$G112))), 0))","v":25044.400000000001},61337.4,{"$f":"IF(INTRO!$E$43=\"Non-endemic\", \"Not required\", COUNTRY_INFO!S112)","v":1},null,{"$f":"IF($D112=0,0,IF(AND($G112>0,$H112<>\"Yes\"),D112,IF(AND($G112>0,$H112=\"Yes\"),COUNTRY_INFO!$F112,0)))","v":36293},56486,25044.400000000001,81530.399999999994,141215,75133.200000000012,141215,0,141215,142]
[{"$f":"IF(INTRO!$E$43=\"Non-endemic\",\" \", IF(COUNTRY_INFO!A113=0,\" \",COUNTRY_INFO!A113))","v":"Uganda"},{"$f":"IF(INTRO!$E$43=\"Non-endemic\",\" \", IF(COUNTRY_INFO!B113=0,\" \",COUNTRY_INFO!B113))","v":"NORTHERN"},{"$f":"IF(INTRO!$E$43=\"Non-endemic\",\" \", IF(COUNTRY_INFO!C113=0,\" \",COUNTRY_INFO!C113))","v":"PAKWACH"},{"$f":"IF(INTRO!$E$43=\"Non-endemic\", 0, IF(COUNTRY_INFO!$K113>0, IF(COUNTRY_INFO!$K113=4, 0, IF(COUNTRY_INFO!$K113=1, COUNTRY_INFO!$F113*0.33, IF(COUNTRY_INFO!$K113=2, COUNTRY_INFO!$F113*0.5, COUNTRY_INFO!$F113))), 0))","v":58455},{"$f":"IF(INTRO!$E$43=\"Non-endemic\", 0, IF(COUNTRY_INFO!$K113>0, IF(COUNTRY_INFO!$K113=4, 0, IF(COUNTRY_INFO!$K113=1, 0, IF(COUNTRY_INFO!$K113=2, COUNTRY_INFO!$G113*0.2, COUNTRY_INFO!$G113))), 0))","v":100845},159300,{"$f":"IF(INTRO!$E$43=\"Non-endemic\", \"Not required\", COUNTRY_INFO!S113)","v":1},null,{"$f":"IF($D113=0,0,IF(AND($G113>0,$H113<>\"Yes\"),D113,IF(AND($G113>0,$H113=\"Yes\"),COUNTRY_INFO!$F113,0)))","v":58455},81398,100845,182243,203495,302535,203495,0,203495,204]
[{"$f":"IF(INTRO!$E$43=\"Non-endemic\",\" \", IF(COUNTRY_INFO!A114=0,\" \",COUNTRY_INFO!A114))","v":"Uganda"},{"$f":"IF(INTRO!$E$43=\"Non-endemic\",\" \", IF(COUNTRY_INFO!B114=0,\" \",COUNTRY_INFO!B114))","v":"NORTHERN"},{"$f":"IF(INTRO!$E$43=\"Non-endemic\",\" \", IF(COUNTRY_INFO!C114=0,\" \",COUNTRY_INFO!C114))","v":"TEREGO"},{"$f":"IF(INTRO!$E$43=\"Non-endemic\", 0, IF(COUNTRY_INFO!$K114>0, IF(COUNTRY_INFO!$K114=4, 0, IF(COUNTRY_INFO!$K114=1, COUNTRY_INFO!$F114*0.33, IF(COUNTRY_INFO!$K114=2, COUNTRY_INFO!$F114*0.5, COUNTRY_INFO!$F114))), 0))","v":80604},{"$f":"IF(INTRO!$E$43=\"Non-endemic\", 0, IF(COUNTRY_INFO!$K114>0, IF(COUNTRY_INFO!$K114=4, 0, IF(COUNTRY_INFO!$K114=1, 0, IF(COUNTRY_INFO!$K114=2, COUNTRY_INFO!$G114*0.2, COUNTRY_INFO!$G114))), 0))","v":139055},219659,{"$f":"IF(INTRO!$E$43=\"Non-endemic\", \"Not required\", COUNTRY_INFO!S114)","v":1},null,{"$f":"IF($D114=0,0,IF(AND($G114>0,$H114<>\"Yes\"),D114,IF(AND($G114>0,$H114=\"Yes\"),COUNTRY_INFO!$F114,0)))","v":80604},93216,139055,232271,233040,417165,233040,0,233040,234]
[{"$f":"IF(INTRO!$E$43=\"Non-endemic\",\" \", IF(COUNTRY_INFO!A115=0,\" \",COUNTRY_INFO!A115))","v":"Uganda"},{"$f":"IF(INTRO!$E$43=\"Non-endemic\",\" \", IF(COUNTRY_INFO!B115=0,\" \",COUNTRY_INFO!B115))","v":"NORTHERN"},{"$f":"IF(INTRO!$E$43=\"Non-endemic\",\" \", IF(COUNTRY_INFO!C115=0,\" \",COUNTRY_INFO!C115))","v":"YUMBE"},{"$f":"IF(INTRO!$E$43=\"Non-endemic\", 0, IF(COUNTRY_INFO!$K115>0, IF(COUNTRY_INFO!$K115=4, 0, IF(COUNTRY_INFO!$K115=1, COUNTRY_INFO!$F115*0.33, IF(COUNTRY_INFO!$K115=2, COUNTRY_INFO!$F115*0.5, COUNTRY_INFO!$F115))), 0))","v":95920.5},{"$f":"IF(INTRO!$E$43=\"Non-endemic\", 0, IF(COUNTRY_INFO!$K115>0, IF(COUNTRY_INFO!$K115=4, 0, IF(COUNTRY_INFO!$K115=1, 0, IF(COUNTRY_INFO!$K115=2, COUNTRY_INFO!$G115*0.2, COUNTRY_INFO!$G115))), 0))","v":66191.400000000009},162111.90000000002,{"$f":"IF(INTRO!$E$43=\"Non-endemic\", \"Not required\", COUNTRY_INFO!S115)","v":1},null,{"$f":"IF($D115=0,0,IF(AND($G115>0,$H115<>\"Yes\"),D115,IF(AND($G115>0,$H115=\"Yes\"),COUNTRY_INFO!$F115,0)))","v":95920.5},155866,66191.400000000009,222057.40000000002,389665,198574.2,389665,0,389665,390]
[{"$f":"IF(INTRO!$E$43=\"Non-endemic\",\" \", IF(COUNTRY_INFO!A116=0,\" \",COUNTRY_INFO!A116))","v":"Uganda"},{"$f":"IF(INTRO!$E$43=\"Non-endemic\",\" \", IF(COUNTRY_INFO!B116=0,\" \",COUNTRY_INFO!B116))","v":"NORTHERN"},{"$f":"IF(INTRO!$E$43=\"Non-endemic\",\" \", IF(COUNTRY_INFO!C116=0,\" \",COUNTRY_INFO!C116))","v":"ZOMBO"},{"$f":"IF(INTRO!$E$43=\"Non-endemic\", 0, IF(COUNTRY_INFO!$K116>0, IF(COUNTRY_INFO!$K116=4, 0, IF(COUNTRY_INFO!$K116=1, COUNTRY_INFO!$F116*0.33, IF(COUNTRY_INFO!$K116=2, COUNTRY_INFO!$F116*0.5, COUNTRY_INFO!$F116))), 0))","v":31337.79},{"$f":"IF(INTRO!$E$43=\"Non-endemic\", 0, IF(COUNTRY_INFO!$K116>0, IF(COUNTRY_INFO!$K116=4, 0, IF(COUNTRY_INFO!$K116=1, 0, IF(COUNTRY_INFO!$K116=2, COUNTRY_INFO!$G116*0.2, COUNTRY_INFO!$G116))), 0))","v":0},31337.79,{"$f":"IF(INTRO!$E$43=\"Non-endemic\", \"Not required\", COUNTRY_INFO!S116)","v":1},null,{"$f":"IF($D116=0,0,IF(AND($G116>0,$H116<>\"Yes\"),D116,IF(AND($G116>0,$H116=\"Yes\"),COUNTRY_INFO!$F116,0)))","v":31337.79},30954,0,30954,77385,0,77385,0,77385,78]
[{"$f":"IF(INTRO!$E$43=\"Non-endemic\",\" \", IF(COUNTRY_INFO!A117=0,\" \",COUNTRY_INFO!A117))","v":"Uganda"},{"$f":"IF(INTRO!$E$43=\"Non-endemic\",\" \", IF(COUNTRY_INFO!B117=0,\" \",COUNTRY_INFO!B117))","v":"WESTERN"},{"$f":"IF(INTRO!$E$43=\"Non-endemic\",\" \", IF(COUNTRY_INFO!C117=0,\" \",COUNTRY_INFO!C117))","v":"BUHWEJU"},{"$f":"IF(INTRO!$E$43=\"Non-endemic\", 0, IF(COUNTRY_INFO!$K117>0, IF(COUNTRY_INFO!$K117=4, 0, IF(COUNTRY_INFO!$K117=1, COUNTRY_INFO!$F117*0.33, IF(COUNTRY_INFO!$K117=2, COUNTRY_INFO!$F117*0.5, COUNTRY_INFO!$F117))), 0))","v":0},{"$f":"IF(INTRO!$E$43=\"Non-endemic\", 0, IF(COUNTRY_INFO!$K117>0, IF(COUNTRY_INFO!$K117=4, 0, IF(COUNTRY_INFO!$K117=1, 0, IF(COUNTRY_INFO!$K117=2, COUNTRY_INFO!$G117*0.2, COUNTRY_INFO!$G117))), 0))","v":0},0,{"$f":"IF(INTRO!$E$43=\"Non-endemic\", \"Not required\", COUNTRY_INFO!S117)","v":0},null,{"$f":"IF($D117=0,0,IF(AND($G117>0,$H117<>\"Yes\"),D117,IF(AND($G117>0,$H117=\"Yes\"),COUNTRY_INFO!$F117,0)))","v":0},0,0,0,0,0,0,null,0,0]
[{"$f":"IF(INTRO!$E$43=\"Non-endemic\",\" \", IF(COUNTRY_INFO!A118=0,\" \",COUNTRY_INFO!A118))","v":"Uganda"},{"$f":"IF(INTRO!$E$43=\"Non-endemic\",\" \", IF(COUNTRY_INFO!B118=0,\" \",COUNTRY_INFO!B118))","v":"WESTERN"},{"$f":"IF(INTRO!$E$43=\"Non-endemic\",\" \", IF(COUNTRY_INFO!C118=0,\" \",COUNTRY_INFO!C118))","v":"BULIISA"},{"$f":"IF(INTRO!$E$43=\"Non-endemic\", 0, IF(COUNTRY_INFO!$K118>0, IF(COUNTRY_INFO!$K118=4, 0, IF(COUNTRY_INFO!$K118=1, COUNTRY_INFO!$F118*0.33, IF(COUNTRY_INFO!$K118=2, COUNTRY_INFO!$F118*0.5, COUNTRY_INFO!$F118))), 0))","v":44868},{"$f":"IF(INTRO!$E$43=\"Non-endemic\", 0, IF(COUNTRY_INFO!$K118>0, IF(COUNTRY_INFO!$K118=4, 0, IF(COUNTRY_INFO!$K118=1, 0, IF(COUNTRY_INFO!$K118=2, COUNTRY_INFO!$G118*0.2, COUNTRY_INFO!$G118))), 0))","v":77405},122273,{"$f":"IF(INTRO!$E$43=\"Non-endemic\", \"Not required\", COUNTRY_INFO!S118)","v":1},null,{"$f":"IF($D118=0,0,IF(AND($G118>0,$H118<>\"Yes\"),D118,IF(AND($G118>0,$H118=\"Yes\"),COUNTRY_INFO!$F118,0)))","v":44868},45639,77405,123044,114097.5,232215,114097.5,0,114097.5,115]
[{"$f":"IF(INTRO!$E$43=\"Non-endemic\",\" \", IF(COUNTRY_INFO!A119=0,\" \",COUNTRY_INFO!A119))","v":"Uganda"},{"$f":"IF(INTRO!$E$43=\"Non-endemic\",\" \", IF(COUNTRY_INFO!B119=0,\" \",COUNTRY_INFO!B119))","v":"WESTERN"},{"$f":"IF(INTRO!$E$43=\"Non-endemic\",\" \", IF(COUNTRY_INFO!C119=0,\" \",COUNTRY_INFO!C119))","v":"BUNDIBUGYO"},{"$f":"IF(INTRO!$E$43=\"Non-endemic\", 0, IF(COUNTRY_INFO!$K119>0, IF(COUNTRY_INFO!$K119=4, 0, IF(COUNTRY_INFO!$K119=1, COUNTRY_INFO!$F119*0.33, IF(COUNTRY_INFO!$K119=2, COUNTRY_INFO!$F119*0.5, COUNTRY_INFO!$F119))), 0))","v":88553},{"$f":"IF(INTRO!$E$43=\"Non-endemic\", 0, IF(COUNTRY_INFO!$K119>0, IF(COUNTRY_INFO!$K119=4, 0, IF(COUNTRY_INFO!$K119=1, 0, IF(COUNTRY_INFO!$K119=2, COUNTRY_INFO!$G119*0.2, COUNTRY_INFO!$G119))), 0))","v":152769},241322,{"$f":"IF(INTRO!$E$43=\"Non-endemic\", \"Not required\", COUNTRY_INFO!S119)","v":1},null,{"$f":"IF($D119=0,0,IF(AND($G119>0,$H119<>\"Yes\"),D119,IF(AND($G119>0,$H119=\"Yes\"),COUNTRY_INFO!$F119,0)))","v":88553},41175,152769,193944,102937.5,458307,102937.5,0,102937.5,103]
[{"$f":"IF(INTRO!$E$43=\"Non-endemic\",\" \", IF(COUNTRY_INFO!A120=0,\" \",COUNTRY_INFO!A120))","v":"Uganda"},{"$f":"IF(INTRO!$E$43=\"Non-endemic\",\" \", IF(COUNTRY_INFO!B120=0,\" \",COUNTRY_INFO!B120))","v":"WESTERN"},{"$f":"IF(INTRO!$E$43=\"Non-endemic\",\" \", IF(COUNTRY_INFO!C120=0,\" \",COUNTRY_INFO!C120))","v":"BUNYANGABU"},{"$f":"IF(INTRO!$E$43=\"Non-endemic\", 0, IF(COUNTRY_INFO!$K120>0, IF(COUNTRY_INFO!$K120=4, 0, IF(COUNTRY_INFO!$K120=1, COUNTRY_INFO!$F120*0.33, IF(COUNTRY_INFO!$K120=2, COUNTRY_INFO!$F120*0.5, COUNTRY_INFO!$F120))), 0))","v":22332.09},{"$f":"IF(INTRO!$E$43=\"Non-endemic\", 0, IF(COUNTRY_INFO!$K120>0, IF(COUNTRY_INFO!$K120=4, 0, IF(COUNTRY_INFO!$K120=1, 0, IF(COUNTRY_INFO!$K120=2, COUNTRY_INFO!$G120*0.2, COUNTRY_INFO!$G120))), 0))","v":0},22332.09,{"$f":"IF(INTRO!$E$43=\"Non-endemic\", \"Not required\", COUNTRY_INFO!S120)","v":1},null,{"$f":"IF($D120=0,0,IF(AND($G120>0,$H120<>\"Yes\"),D120,IF(AND($G120>0,$H120=\"Yes\"),COUNTRY_INFO!$F120,0)))","v":22332.09},16828,0,16828,42070,0,42070,0,42070,43]
[{"$f":"IF(INTRO!$E$43=\"Non-endemic\",\" \", IF(COUNTRY_INFO!A121=0,\" \",COUNTRY_INFO!A121))","v":"Uganda"},{"$f":"IF(INTRO!$E$43=\"Non-endemic\",\" \", IF(COUNTRY_INFO!B121=0,\" \",COUNTRY_INFO!B121))","v":"WESTERN"},{"$f":"IF(INTRO!$E$43=\"Non-endemic\",\" \", IF(COUNTRY_INFO!C121=0,\" \",COUNTRY_INFO!C121))","v":"BUSHENYI"},{"$f":"IF(INTRO!$E$43=\"Non-endemic\", 0, IF(COUNTRY_INFO!$K121>0, IF(COUNTRY_INFO!$K121=4, 0, IF(COUNTRY_INFO!$K121=1, COUNTRY_INFO!$F121*0.33, IF(COUNTRY_INFO!$K121=2, COUNTRY_INFO!$F121*0.5, COUNTRY_INFO!$F121))), 0))","v":0},{"$f":"IF(INTRO!$E$43=\"Non-endemic\", 0, IF(COUNTRY_INFO!$K121>0, IF(COUNTRY_INFO!$K121=4, 0, IF(COUNTRY_INFO!$K121=1, 0, IF(COUNTRY_INFO!$K121=2, COUNTRY_INFO!$G121*0.2, COUNTRY_INFO!$G121))), 0))","v":0},0,{"$f":"IF(INTRO!$E$43=\"Non-endemic\", \"Not required\", COUNTRY_INFO!S121)","v":0},null,{"$f":"IF($D121=0,0,IF(AND($G121>0,$H121<>\"Yes\"),D121,IF(AND($G121>0,$H121=\"Yes\"),COUNTRY_INFO!$F121,0)))","v":0},0,0,0,0,0,0,null,0,0]
[{"$f":"IF(INTRO!$E$43=\"Non-endemic\",\" \", IF(COUNTRY_INFO!A122=0,\" \",COUNTRY_INFO!A122))","v":"Uganda"},{"$f":"IF(INTRO!$E$43=\"Non-endemic\",\" \", IF(COUNTRY_INFO!B122=0,\" \",COUNTRY_INFO!B122))","v":"WESTERN"},{"$f":"IF(INTRO!$E$43=\"Non-endemic\",\" \", IF(COUNTRY_INFO!C122=0,\" \",COUNTRY_INFO!C122))","v":"Fortportal City"},{"$f":"IF(INTRO!$E$43=\"Non-endemic\", 0, IF(COUNTRY_INFO!$K122>0, IF(COUNTRY_INFO!$K122=4, 0, IF(COUNTRY_INFO!$K122=1, COUNTRY_INFO!$F122*0.33, IF(COUNTRY_INFO!$K122=2, COUNTRY_INFO!$F122*0.5, COUNTRY_INFO!$F122))), 0))","v":0},{"$f":"IF(INTRO!$E$43=\"Non-endemic\", 0, IF(COUNTRY_INFO!$K122>0, IF(COUNTRY_INFO!$K122=4, 0, IF(COUNTRY_INFO!$K122=1, 0, IF(COUNTRY_INFO!$K122=2, COUNTRY_INFO!$G122*0.2, COUNTRY_INFO!$G122))), 0))","v":0},0,{"$f":"IF(INTRO!$E$43=\"Non-endemic\", \"Not required\", COUNTRY_INFO!S122)","v":0},null,{"$f":"IF($D122=0,0,IF(AND($G122>0,$H122<>\"Yes\"),D122,IF(AND($G122>0,$H122=\"Yes\"),COUNTRY_INFO!$F122,0)))","v":0},0,0,0,0,0,0,null,0,0]
[{"$f":"IF(INTRO!$E$43=\"Non-endemic\",\" \", IF(COUNTRY_INFO!A123=0,\" \",COUNTRY_INFO!A123))","v":"Uganda"},{"$f":"IF(INTRO!$E$43=\"Non-endemic\",\" \", IF(COUNTRY_INFO!B123=0,\" \",COUNTRY_INFO!B123))","v":"WESTERN"},{"$f":"IF(INTRO!$E$43=\"Non-endemic\",\" \", IF(COUNTRY_INFO!C123=0,\" \",COUNTRY_INFO!C123))","v":"HOIMA"},{"$f":"IF(INTRO!$E$43=\"Non-endemic\", 0, IF(COUNTRY_INFO!$K123>0, IF(COUNTRY_INFO!$K123=4, 0, IF(COUNTRY_INFO!$K123=1, COUNTRY_INFO!$F123*0.33, IF(COUNTRY_INFO!$K123=2, COUNTRY_INFO!$F123*0.5, COUNTRY_INFO!$F123))), 0))","v":82196},{"$f":"IF(INTRO!$E$43=\"Non-endemic\", 0, IF(COUNTRY_INFO!$K123>0, IF(COUNTRY_INFO!$K123=4, 0, IF(COUNTRY_INFO!$K123=1, 0, IF(COUNTRY_INFO!$K123=2, COUNTRY_INFO!$G123*0.2, COUNTRY_INFO!$G123))), 0))","v":141802},223998,{"$f":"IF(INTRO!$E$43=\"Non-endemic\", \"Not required\", COUNTRY_INFO!S123)","v":1},null,{"$f":"IF($D123=0,0,IF(AND($G123>0,$H123<>\"Yes\"),D123,IF(AND($G123>0,$H123=\"Yes\"),COUNTRY_INFO!$F123,0)))","v":82196},44424,141802,186226,111060,425406,111060,0,111060,112]
[{"$f":"IF(INTRO!$E$43=\"Non-endemic\",\" \", IF(COUNTRY_INFO!A124=0,\" \",COUNTRY_INFO!A124))","v":"Uganda"},{"$f":"IF(INTRO!$E$43=\"Non-endemic\",\" \", IF(COUNTRY_INFO!B124=0,\" \",COUNTRY_INFO!B124))","v":"WESTERN"},{"$f":"IF(INTRO!$E$43=\"Non-endemic\",\" \", IF(COUNTRY_INFO!C124=0,\" \",COUNTRY_INFO!C124))","v":"Hoima City"},{"$f":"IF(INTRO!$E$43=\"Non-endemic\", 0, IF(COUNTRY_INFO!$K124>0, IF(COUNTRY_INFO!$K124=4, 0, IF(COUNTRY_INFO!$K124=1, COUNTRY_INFO!$F124*0.33, IF(COUNTRY_INFO!$K124=2, COUNTRY_INFO!$F124*0.5, COUNTRY_INFO!$F124))), 0))","v":0},{"$f":"IF(INTRO!$E$43=\"Non-endemic\", 0, IF(COUNTRY_INFO!$K124>0, IF(COUNTRY_INFO!$K124=4, 0, IF(COUNTRY_INFO!$K124=1, 0, IF(COUNTRY_INFO!$K124=2, COUNTRY_INFO!$G124*0.2, COUNTRY_INFO!$G124))), 0))","v":0},0,{"$f":"IF(INTRO!$E$43=\"Non-endemic\", \"Not required\", COUNTRY_INFO!S124)","v":0},null,{"$f":"IF($D124=0,0,IF(AND($G124>0,$H124<>\"Yes\"),D124,IF(AND($G124>0,$H124=\"Yes\"),COUNTRY_INFO!$F124,0)))","v":0},0,0,0,0,0,0,null,0,0]
[{"$f":"IF(INTRO!$E$43=\"Non-endemic\",\" \", IF(COUNTRY_INFO!A125=0,\" \",COUNTRY_INFO!A125))","v":"Uganda"},{"$f":"IF(INTRO!$E$43=\"Non-endemic\",\" \", IF(COUNTRY_INFO!B125=0,\" \",COUNTRY_INFO!B125))","v":"WESTERN"},{"$f":"IF(INTRO!$E$43=\"Non-endemic\",\" \", IF(COUNTRY_INFO!C125=0,\" \",COUNTRY_INFO!C125))","v":"IBANDA"},{"$f":"IF(INTRO!$E$43=\"Non-endemic\", 0, IF(COUNTRY_INFO!$K125>0, IF(COUNTRY_INFO!$K125=4, 0, IF(COUNTRY_INFO!$K125=1, COUNTRY_INFO!$F125*0.33, IF(COUNTRY_INFO!$K125=2, COUNTRY_INFO!$F125*0.5, COUNTRY_INFO!$F125))), 0))","v":32343.63},{"$f":"IF(INTRO!$E$43=\"Non-endemic\", 0, IF(COUNTRY_INFO!$K125>0, IF(COUNTRY_INFO!$K125=4, 0, IF(COUNTRY_INFO!$K125=1, 0, IF(COUNTRY_INFO!$K125=2, COUNTRY_INFO!$G125*0.2, COUNTRY_INFO!$G125))), 0))","v":0},32343.63,{"$f":"IF(INTRO!$E$43=\"Non-endemic\", \"Not required\", COUNTRY_INFO!S125)","v":1},null,{"$f":"IF($D125=0,0,IF(AND($G125>0,$H125<>\"Yes\"),D125,IF(AND($G125>0,$H125=\"Yes\"),COUNTRY_INFO!$F125,0)))","v":32343.63},11106,0,11106,27765,0,27765,0,27765,28]
[{"$f":"IF(INTRO!$E$43=\"Non-endemic\",\" \", IF(COUNTRY_INFO!A126=0,\" \",COUNTRY_INFO!A126))","v":"Uganda"},{"$f":"IF(INTRO!$E$43=\"Non-endemic\",\" \", IF(COUNTRY_INFO!B126=0,\" \",COUNTRY_INFO!B126))","v":"WESTERN"},{"$f":"IF(INTRO!$E$43=\"Non-endemic\",\" \", IF(COUNTRY_INFO!C126=0,\" \",COUNTRY_INFO!C126))","v":"ISINGIRO"},{"$f":"IF(INTRO!$E$43=\"Non-endemic\", 0, IF(COUNTRY_INFO!$K126>0, IF(COUNTRY_INFO!$K126=4, 0, IF(COUNTRY_INFO!$K126=1, COUNTRY_INFO!$F126*0.33, IF(COUNTRY_INFO!$K126=2, COUNTRY_INFO!$F126*0.5, COUNTRY_INFO!$F126))), 0))","v":97210.5},{"$f":"IF(INTRO!$E$43=\"Non-endemic\", 0, IF(COUNTRY_INFO!$K126>0, IF(COUNTRY_INFO!$K126=4, 0, IF(COUNTRY_INFO!$K126=1, 0, IF(COUNTRY_INFO!$K126=2, COUNTRY_INFO!$G126*0.2, COUNTRY_INFO!$G126))), 0))","v":67081.8},164292.29999999999,{"$f":"IF(INTRO!$E$43=\"Non-endemic\", \"Not required\", COUNTRY_INFO!S126)","v":1},null,{"$f":"IF($D126=0,0,IF(AND($G126>0,$H126<>\"Yes\"),D126,IF(AND($G126>0,$H126=\"Yes\"),COUNTRY_INFO!$F126,0)))","v":97210.5},37299,67081.8,104380.8,93247.5,201245.40000000002,93247.5,0,93247.5,94]
[{"$f":"IF(INTRO!$E$43=\"Non-endemic\",\" \", IF(COUNTRY_INFO!A127=0,\" \",COUNTRY_INFO!A127))","v":"Uganda"},{"$f":"IF(INTRO!$E$43=\"Non-endemic\",\" \", IF(COUNTRY_INFO!B127=0,\" \",COUNTRY_INFO!B127))","v":"WESTERN"},{"$f":"IF(INTRO!$E$43=\"Non-endemic\",\" \", IF(COUNTRY_INFO!C127=0,\" \",COUNTRY_INFO!C127))","v":"KABALE"},{"$f":"IF(INTRO!$E$43=\"Non-endemic\", 0, IF(COUNTRY_INFO!$K127>0, IF(COUNTRY_INFO!$K127=4, 0, IF(COUNTRY_INFO!$K127=1, COUNTRY_INFO!$F127*0.33, IF(COUNTRY_INFO!$K127=2, COUNTRY_INFO!$F127*0.5, COUNTRY_INFO!$F127))), 0))","v":0},{"$f":"IF(INTRO!$E$43=\"Non-endemic\", 0, IF(COUNTRY_INFO!$K127>0, IF(COUNTRY_INFO!$K127=4, 0, IF(COUNTRY_INFO!$K127=1, 0, IF(COUNTRY_INFO!$K127=2, COUNTRY_INFO!$G127*0.2, COUNTRY_INFO!$G127))), 0))","v":0},0,{"$f":"IF(INTRO!$E$43=\"Non-endemic\", \"Not required\", COUNTRY_INFO!S127)","v":0},null,{"$f":"IF($D127=0,0,IF(AND($G127>0,$H127<>\"Yes\"),D127,IF(AND($G127>0,$H127=\"Yes\"),COUNTRY_INFO!$F127,0)))","v":0},0,0,0,0,0,0,null,0,0]
[{"$f":"IF(INTRO!$E$43=\"Non-endemic\",\" \", IF(COUNTRY_INFO!A128=0,\" \",COUNTRY_INFO!A128))","v":"Uganda"},{"$f":"IF(INTRO!$E$43=\"Non-endemic\",\" \", IF(COUNTRY_INFO!B128=0,\" \",COUNTRY_INFO!B128))","v":"WESTERN"},{"$f":"IF(INTRO!$E$43=\"Non-endemic\",\" \", IF(COUNTRY_INFO!C128=0,\" \",COUNTRY_INFO!C128))","v":"KABAROLE"},{"$f":"IF(INTRO!$E$43=\"Non-endemic\", 0, IF(COUNTRY_INFO!$K128>0, IF(COUNTRY_INFO!$K128=4, 0, IF(COUNTRY_INFO!$K128=1, COUNTRY_INFO!$F128*0.33, IF(COUNTRY_INFO!$K128=2, COUNTRY_INFO!$F128*0.5, COUNTRY_INFO!$F128))), 0))","v":45568.5},{"$f":"IF(INTRO!$E$43=\"Non-endemic\", 0, IF(COUNTRY_INFO!$K128>0, IF(COUNTRY_INFO!$K128=4, 0, IF(COUNTRY_INFO!$K128=1, 0, IF(COUNTRY_INFO!$K128=2, COUNTRY_INFO!$G128*0.2, COUNTRY_INFO!$G128))), 0))","v":31445.200000000001},77013.7,{"$f":"IF(INTRO!$E$43=\"Non-endemic\", \"Not required\", COUNTRY_INFO!S128)","v":1},null,{"$f":"IF($D128=0,0,IF(AND($G128>0,$H128<>\"Yes\"),D128,IF(AND($G128>0,$H128=\"Yes\"),COUNTRY_INFO!$F128,0)))","v":45568.5},15152,31445.200000000001,46597.2,37880,94335.6,37880,0,37880,38]
[{"$f":"IF(INTRO!$E$43=\"Non-endemic\",\" \", IF(COUNTRY_INFO!A129=0,\" \",COUNTRY_INFO!A129))","v":"Uganda"},{"$f":"IF(INTRO!$E$43=\"Non-endemic\",\" \", IF(COUNTRY_INFO!B129=0,\" \",COUNTRY_INFO!B129))","v":"WESTERN"},{"$f":"IF(INTRO!$E$43=\"Non-endemic\",\" \", IF(COUNTRY_INFO!C129=0,\" \",COUNTRY_INFO!C129))","v":"KAGADI"},{"$f":"IF(INTRO!$E$43=\"Non-endemic\", 0, IF(COUNTRY_INFO!$K129>0, IF(COUNTRY_INFO!$K129=4, 0, IF(COUNTRY_INFO!$K129=1, COUNTRY_INFO!$F129*0.33, IF(COUNTRY_INFO!$K129=2, COUNTRY_INFO!$F129*0.5, COUNTRY_INFO!$F129))), 0))","v":139387},{"$f":"IF(INTRO!$E$43=\"Non-endemic\", 0, IF(COUNTRY_INFO!$K129>0, IF(COUNTRY_INFO!$K129=4, 0, IF(COUNTRY_INFO!$K129=1, 0, IF(COUNTRY_INFO!$K129=2, COUNTRY_INFO!$G129*0.2, COUNTRY_INFO!$G129))), 0))","v":240466},379853,{"$f":"IF(INTRO!$E$43=\"Non-endemic\", \"Not required\", COUNTRY_INFO!S129)","v":1},null,{"$f":"IF($D129=0,0,IF(AND($G129>0,$H129<>\"Yes\"),D129,IF(AND($G129>0,$H129=\"Yes\"),COUNTRY_INFO!$F129,0)))","v":139387},78557,240466,319023,196392.5,721398,196392.5,0,196392.5,197]
[{"$f":"IF(INTRO!$E$43=\"Non-endemic\",\" \", IF(COUNTRY_INFO!A130=0,\" \",COUNTRY_INFO!A130))","v":"Uganda"},{"$f":"IF(INTRO!$E$43=\"Non-endemic\",\" \", IF(COUNTRY_INFO!B130=0,\" \",COUNTRY_INFO!B130))","v":"WESTERN"},{"$f":"IF(INTRO!$E$43=\"Non-endemic\",\" \", IF(COUNTRY_INFO!C130=0,\" \",COUNTRY_INFO!C130))","v":"KAKUMIRO"},{"$f":"IF(INTRO!$E$43=\"Non-endemic\", 0, IF(COUNTRY_INFO!$K130>0, IF(COUNTRY_INFO!$K130=4, 0, IF(COUNTRY_INFO!$K130=1, COUNTRY_INFO!$F130*0.33, IF(COUNTRY_INFO!$K130=2, COUNTRY_INFO!$F130*0.5, COUNTRY_INFO!$F130))), 0))","v":0},{"$f":"IF(INTRO!$E$43=\"Non-endemic\", 0, IF(COUNTRY_INFO!$K130>0, IF(COUNTRY_INFO!$K130=4, 0, IF(COUNTRY_INFO!$K130=1, 0, IF(COUNTRY_INFO!$K130=2, COUNTRY_INFO!$G130*0.2, COUNTRY_INFO!$G130))), 0))","v":0},0,{"$f":"IF(INTRO!$E$43=\"Non-endemic\", \"Not required\", COUNTRY_INFO!S130)","v":0},null,{"$f":"IF($D130=0,0,IF(AND($G130>0,$H130<>\"Yes\"),D130,IF(AND($G130>0,$H130=\"Yes\"),COUNTRY_INFO!$F130,0)))","v":0},0,0,0,0,0,0,null,0,0]
[{"$f":"IF(INTRO!$E$43=\"Non-endemic\",\" \", IF(COUNTRY_INFO!A131=0,\" \",COUNTRY_INFO!A131))","v":"Uganda"},{"$f":"IF(INTRO!$E$43=\"Non-endemic\",\" \", IF(COUNTRY_INFO!B131=0,\" \",COUNTRY_INFO!B131))","v":"WESTERN"},{"$f":"IF(INTRO!$E$43=\"Non-endemic\",\" \", IF(COUNTRY_INFO!C131=0,\" \",COUNTRY_INFO!C131))","v":"KAMWENGE"},{"$f":"IF(INTRO!$E$43=\"Non-endemic\", 0, IF(COUNTRY_INFO!$K131>0, IF(COUNTRY_INFO!$K131=4, 0, IF(COUNTRY_INFO!$K131=1, COUNTRY_INFO!$F131*0.33, IF(COUNTRY_INFO!$K131=2, COUNTRY_INFO!$F131*0.5, COUNTRY_INFO!$F131))), 0))","v":0},{"$f":"IF(INTRO!$E$43=\"Non-endemic\", 0, IF(COUNTRY_INFO!$K131>0, IF(COUNTRY_INFO!$K131=4, 0, IF(COUNTRY_INFO!$K131=1, 0, IF(COUNTRY_INFO!$K131=2, COUNTRY_INFO!$G131*0.2, COUNTRY_INFO!$G131))), 0))","v":0},0,{"$f":"IF(INTRO!$E$43=\"Non-endemic\", \"Not required\", COUNTRY_INFO!S131)","v":0},null,{"$f":"IF($D131=0,0,IF(AND($G131>0,$H131<>\"Yes\"),D131,IF(AND($G131>0,$H131=\"Yes\"),COUNTRY_INFO!$F131,0)))","v":0},0,0,0,0,0,0,null,0,0]
[{"$f":"IF(INTRO!$E$43=\"Non-endemic\",\" \", IF(COUNTRY_INFO!A132=0,\" \",COUNTRY_INFO!A132))","v":"Uganda"},{"$f":"IF(INTRO!$E$43=\"Non-endemic\",\" \", IF(COUNTRY_INFO!B132=0,\" \",COUNTRY_INFO!B132))","v":"WESTERN"},{"$f":"IF(INTRO!$E$43=\"Non-endemic\",\" \", IF(COUNTRY_INFO!C132=0,\" \",COUNTRY_INFO!C132))","v":"KANUNGU"},{"$f":"IF(INTRO!$E$43=\"Non-endemic\", 0, IF(COUNTRY_INFO!$K132>0, IF(COUNTRY_INFO!$K132=4, 0, IF(COUNTRY_INFO!$K132=1, COUNTRY_INFO!$F132*0.33, IF(COUNTRY_INFO!$K132=2, COUNTRY_INFO!$F132*0.5, COUNTRY_INFO!$F132))), 0))","v":0},{"$f":"IF(INTRO!$E$43=\"Non-endemic\", 0, IF(COUNTRY_INFO!$K132>0, IF(COUNTRY_INFO!$K132=4, 0, IF(COUNTRY_INFO!$K132=1, 0, IF(COUNTRY_INFO!$K132=2, COUNTRY_INFO!$G132*0.2, COUNTRY_INFO!$G132))), 0))","v":0},0,{"$f":"IF(INTRO!$E$43=\"Non-endemic\", \"Not required\", COUNTRY_INFO!S132)","v":0},null,{"$f":"IF($D132=0,0,IF(AND($G132>0,$H132<>\"Yes\"),D132,IF(AND($G132>0,$H132=\"Yes\"),COUNTRY_INFO!$F132,0)))","v":0},0,0,0,0,0,0,null,0,0]
[{"$f":"IF(INTRO!$E$43=\"Non-endemic\",\" \", IF(COUNTRY_INFO!A133=0,\" \",COUNTRY_INFO!A133))","v":"Uganda"},{"$f":"IF(INTRO!$E$43=\"Non-endemic\",\" \", IF(COUNTRY_INFO!B133=0,\" \",COUNTRY_INFO!B133))","v":"WESTERN"},{"$f":"IF(INTRO!$E$43=\"Non-endemic\",\" \", IF(COUNTRY_INFO!C133=0,\" \",COUNTRY_INFO!C133))","v":"KASESE"},{"$f":"IF(INTRO!$E$43=\"Non-endemic\", 0, IF(COUNTRY_INFO!$K133>0, IF(COUNTRY_INFO!$K133=4, 0, IF(COUNTRY_INFO!$K133=1, COUNTRY_INFO!$F133*0.33, IF(COUNTRY_INFO!$K133=2, COUNTRY_INFO!$F133*0.5, COUNTRY_INFO!$F133))), 0))","v":277356},{"$f":"IF(INTRO!$E$43=\"Non-endemic\", 0, IF(COUNTRY_INFO!$K133>0, IF(COUNTRY_INFO!$K133=4, 0, IF(COUNTRY_INFO!$K133=1, 0, IF(COUNTRY_INFO!$K133=2, COUNTRY_INFO!$G133*0.2, COUNTRY_INFO!$G133))), 0))","v":478485},755841,{"$f":"IF(INTRO!$E$43=\"Non-endemic\", \"Not required\", COUNTRY_INFO!S133)","v":1},null,{"$f":"IF($D133=0,0,IF(AND($G133>0,$H133<>\"Yes\"),D133,IF(AND($G133>0,$H133=\"Yes\"),COUNTRY_INFO!$F133,0)))","v":277356},4368,478485,482853,10920,1435455,10920,0,10920,11]
[{"$f":"IF(INTRO!$E$43=\"Non-endemic\",\" \", IF(COUNTRY_INFO!A134=0,\" \",COUNTRY_INFO!A134))","v":"Uganda"},{"$f":"IF(INTRO!$E$43=\"Non-endemic\",\" \", IF(COUNTRY_INFO!B134=0,\" \",COUNTRY_INFO!B134))","v":"WESTERN"},{"$f":"IF(INTRO!$E$43=\"Non-endemic\",\" \", IF(COUNTRY_INFO!C134=0,\" \",COUNTRY_INFO!C134))","v":"KAZO"},{"$f":"IF(INTRO!$E$43=\"Non-endemic\", 0, IF(COUNTRY_INFO!$K134>0, IF(COUNTRY_INFO!$K134=4, 0, IF(COUNTRY_INFO!$K134=1, COUNTRY_INFO!$F134*0.33, IF(COUNTRY_INFO!$K134=2, COUNTRY_INFO!$F134*0.5, COUNTRY_INFO!$F134))), 0))","v":23057.760000000002},{"$f":"IF(INTRO!$E$43=\"Non-endemic\", 0, IF(COUNTRY_INFO!$K134>0, IF(COUNTRY_INFO!$K134=4, 0, IF(COUNTRY_INFO!$K134=1, 0, IF(COUNTRY_INFO!$K134=2, COUNTRY_INFO!$G134*0.2, COUNTRY_INFO!$G134))), 0))","v":0},23057.760000000002,{"$f":"IF(INTRO!$E$43=\"Non-endemic\", \"Not required\", COUNTRY_INFO!S134)","v":1},null,{"$f":"IF($D134=0,0,IF(AND($G134>0,$H134<>\"Yes\"),D134,IF(AND($G134>0,$H134=\"Yes\"),COUNTRY_INFO!$F134,0)))","v":23057.760000000002},28237,0,28237,70592.5,0,70592.5,0,70592.5,71]
[{"$f":"IF(INTRO!$E$43=\"Non-endemic\",\" \", IF(COUNTRY_INFO!A135=0,\" \",COUNTRY_INFO!A135))","v":"Uganda"},{"$f":"IF(INTRO!$E$43=\"Non-endemic\",\" \", IF(COUNTRY_INFO!B135=0,\" \",COUNTRY_INFO!B135))","v":"WESTERN"},{"$f":"IF(INTRO!$E$43=\"Non-endemic\",\" \", IF(COUNTRY_INFO!C135=0,\" \",COUNTRY_INFO!C135))","v":"KIBAALE"},{"$f":"IF(INTRO!$E$43=\"Non-endemic\", 0, IF(COUNTRY_INFO!$K135>0, IF(COUNTRY_INFO!$K135=4, 0, IF(COUNTRY_INFO!$K135=1, COUNTRY_INFO!$F135*0.33, IF(COUNTRY_INFO!$K135=2, COUNTRY_INFO!$F135*0.5, COUNTRY_INFO!$F135))), 0))","v":0},{"$f":"IF(INTRO!$E$43=\"Non-endemic\", 0, IF(COUNTRY_INFO!$K135>0, IF(COUNTRY_INFO!$K135=4, 0, IF(COUNTRY_INFO!$K135=1, 0, IF(COUNTRY_INFO!$K135=2, COUNTRY_INFO!$G135*0.2, COUNTRY_INFO!$G135))), 0))","v":0},0,{"$f":"IF(INTRO!$E$43=\"Non-endemic\", \"Not required\", COUNTRY_INFO!S135)","v":0},null,{"$f":"IF($D135=0,0,IF(AND($G135>0,$H135<>\"Yes\"),D135,IF(AND($G135>0,$H135=\"Yes\"),COUNTRY_INFO!$F135,0)))","v":0},0,0,0,0,0,0,null,0,0]
[{"$f":"IF(INTRO!$E$43=\"Non-endemic\",\" \", IF(COUNTRY_INFO!A136=0,\" \",COUNTRY_INFO!A136))","v":"Uganda"},{"$f":"IF(INTRO!$E$43=\"Non-endemic\",\" \", IF(COUNTRY_INFO!B136=0,\" \",COUNTRY_INFO!B136))","v":"WESTERN"},{"$f":"IF(INTRO!$E$43=\"Non-endemic\",\" \", IF(COUNTRY_INFO!C136=0,\" \",COUNTRY_INFO!C136))","v":"KIKUUBE"},{"$f":"IF(INTRO!$E$43=\"Non-endemic\", 0, IF(COUNTRY_INFO!$K136>0, IF(COUNTRY_INFO!$K136=4, 0, IF(COUNTRY_INFO!$K136=1, COUNTRY_INFO!$F136*0.33, IF(COUNTRY_INFO!$K136=2, COUNTRY_INFO!$F136*0.5, COUNTRY_INFO!$F136))), 0))","v":104785},{"$f":"IF(INTRO!$E$43=\"Non-endemic\", 0, IF(COUNTRY_INFO!$K136>0, IF(COUNTRY_INFO!$K136=4, 0, IF(COUNTRY_INFO!$K136=1, 0, IF(COUNTRY_INFO!$K136=2, COUNTRY_INFO!$G136*0.2, COUNTRY_INFO!$G136))), 0))","v":180771},285556,{"$f":"IF(INTRO!$E$43=\"Non-endemic\", \"Not required\", COUNTRY_INFO!S136)","v":1},null,{"$f":"IF($D136=0,0,IF(AND($G136>0,$H136<>\"Yes\"),D136,IF(AND($G136>0,$H136=\"Yes\"),COUNTRY_INFO!$F136,0)))","v":104785},133805,180771,314576,334512.5,542313,334512.5,0,334512.5,335]
[{"$f":"IF(INTRO!$E$43=\"Non-endemic\",\" \", IF(COUNTRY_INFO!A137=0,\" \",COUNTRY_INFO!A137))","v":"Uganda"},{"$f":"IF(INTRO!$E$43=\"Non-endemic\",\" \", IF(COUNTRY_INFO!B137=0,\" \",COUNTRY_INFO!B137))","v":"WESTERN"},{"$f":"IF(INTRO!$E$43=\"Non-endemic\",\" \", IF(COUNTRY_INFO!C137=0,\" \",COUNTRY_INFO!C137))","v":"KIRUHURA"},{"$f":"IF(INTRO!$E$43=\"Non-endemic\", 0, IF(COUNTRY_INFO!$K137>0, IF(COUNTRY_INFO!$K137=4, 0, IF(COUNTRY_INFO!$K137=1, COUNTRY_INFO!$F137*0.33, IF(COUNTRY_INFO!$K137=2, COUNTRY_INFO!$F137*0.5, COUNTRY_INFO!$F137))), 0))","v":19775.580000000002},{"$f":"IF(INTRO!$E$43=\"Non-endemic\", 0, IF(COUNTRY_INFO!$K137>0, IF(COUNTRY_INFO!$K137=4, 0, IF(COUNTRY_INFO!$K137=1, 0, IF(COUNTRY_INFO!$K137=2, COUNTRY_INFO!$G137*0.2, COUNTRY_INFO!$G137))), 0))","v":0},19775.580000000002,{"$f":"IF(INTRO!$E$43=\"Non-endemic\", \"Not required\", COUNTRY_INFO!S137)","v":0},null,{"$f":"IF($D137=0,0,IF(AND($G137>0,$H137<>\"Yes\"),D137,IF(AND($G137>0,$H137=\"Yes\"),COUNTRY_INFO!$F137,0)))","v":0},0,{"$f":"IF($G137>0,E137, 0)","v":0},0,0,0,0,null,0,0]
[{"$f":"IF(INTRO!$E$43=\"Non-endemic\",\" \", IF(COUNTRY_INFO!A138=0,\" \",COUNTRY_INFO!A138))","v":"Uganda"},{"$f":"IF(INTRO!$E$43=\"Non-endemic\",\" \", IF(COUNTRY_INFO!B138=0,\" \",COUNTRY_INFO!B138))","v":"WESTERN"},{"$f":"IF(INTRO!$E$43=\"Non-endemic\",\" \", IF(COUNTRY_INFO!C138=0,\" \",COUNTRY_INFO!C138))","v":"KIRYANDONGO"},{"$f":"IF(INTRO!$E$43=\"Non-endemic\", 0, IF(COUNTRY_INFO!$K138>0, IF(COUNTRY_INFO!$K138=4, 0, IF(COUNTRY_INFO!$K138=1, COUNTRY_INFO!$F138*0.33, IF(COUNTRY_INFO!$K138=2, COUNTRY_INFO!$F138*0.5, COUNTRY_INFO!$F138))), 0))","v":105955},{"$f":"IF(INTRO!$E$43=\"Non-endemic\", 0, IF(COUNTRY_INFO!$K138>0, IF(COUNTRY_INFO!$K138=4, 0, IF(COUNTRY_INFO!$K138=1, 0, IF(COUNTRY_INFO!$K138=2, COUNTRY_INFO!$G138*0.2, COUNTRY_INFO!$G138))), 0))","v":182790},{"$f":"SUM(D138:E138)","v":288745},{"$f":"IF(INTRO!$E$43=\"Non-endemic\", \"Not required\", COUNTRY_INFO!S138)","v":1},null,{"$f":"IF($D138=0,0,IF(AND($G138>0,$H138<>\"Yes\"),D138,IF(AND($G138>0,$H138=\"Yes\"),COUNTRY_INFO!$F138,0)))","v":105955},50889,182790,{"$f":"IF($J138=0,SUM(I138,K138),SUM(J138,K138))","v":233679},127222.5,548370,{"$f":"M138","v":127222.5},0,{"$f":"IF($O138>$P138,O138-P138,0)","v":127222.5},128]
[{"$f":"IF(INTRO!$E$43=\"Non-endemic\",\" \", IF(COUNTRY_INFO!A139=0,\" \",COUNTRY_INFO!A139))","v":"Uganda"},{"$f":"IF(INTRO!$E$43=\"Non-endemic\",\" \", IF(COUNTRY_INFO!B139=0,\" \",COUNTRY_INFO!B139))","v":"WESTERN"},{"$f":"IF(INTRO!$E$43=\"Non-endemic\",\" \", IF(COUNTRY_INFO!C139=0,\" \",COUNTRY_INFO!C139))","v":"KISORO"},{"$f":"IF(INTRO!$E$43=\"Non-endemic\", 0, IF(COUNTRY_INFO!$K139>0, IF(COUNTRY_INFO!$K139=4, 0, IF(COUNTRY_INFO!$K139=1, COUNTRY_INFO!$F139*0.33, IF(COUNTRY_INFO!$K139=2, COUNTRY_INFO!$F139*0.5, COUNTRY_INFO!$F139))), 0))","v":0},{"$f":"IF(INTRO!$E$43=\"Non-endemic\", 0, IF(COUNTRY_INFO!$K139>0, IF(COUNTRY_INFO!$K139=4, 0, IF(COUNTRY_INFO!$K139=1, 0, IF(COUNTRY_INFO!$K139=2, COUNTRY_INFO!$G139*0.2, COUNTRY_INFO!$G139))), 0))","v":0},0,{"$f":"IF(INTRO!$E$43=\"Non-endemic\", \"Not required\", COUNTRY_INFO!S139)","v":0},null,{"$f":"IF($D139=0,0,IF(AND($G139>0,$H139<>\"Yes\"),D139,IF(AND($G139>0,$H139=\"Yes\"),COUNTRY_INFO!$F139,0)))","v":0},0,0,0,0,0,0,null,0,0]
[{"$f":"IF(INTRO!$E$43=\"Non-endemic\",\" \", IF(COUNTRY_INFO!A140=0,\" \",COUNTRY_INFO!A140))","v":"Uganda"},{"$f":"IF(INTRO!$E$43=\"Non-endemic\",\" \", IF(COUNTRY_INFO!B140=0,\" \",COUNTRY_INFO!B140))","v":"WESTERN"},{"$f":"IF(INTRO!$E$43=\"Non-endemic\",\" \", IF(COUNTRY_INFO!C140=0,\" \",COUNTRY_INFO!C140))","v":"KITAGWENDA"},{"$f":"IF(INTRO!$E$43=\"Non-endemic\", 0, IF(COUNTRY_INFO!$K140>0, IF(COUNTRY_INFO!$K140=4, 0, IF(COUNTRY_INFO!$K140=1, COUNTRY_INFO!$F140*0.33, IF(COUNTRY_INFO!$K140=2, COUNTRY_INFO!$F140*0.5, COUNTRY_INFO!$F140))), 0))","v":57520},{"$f":"IF(INTRO!$E$43=\"Non-endemic\", 0, IF(COUNTRY_INFO!$K140>0, IF(COUNTRY_INFO!$K140=4, 0, IF(COUNTRY_INFO!$K140=1, 0, IF(COUNTRY_INFO!$K140=2, COUNTRY_INFO!$G140*0.2, COUNTRY_INFO!$G140))), 0))","v":99231},156751,{"$f":"IF(INTRO!$E$43=\"Non-endemic\", \"Not required\", COUNTRY_INFO!S140)","v":1},null,{"$f":"IF($D140=0,0,IF(AND($G140>0,$H140<>\"Yes\"),D140,IF(AND($G140>0,$H140=\"Yes\"),COUNTRY_INFO!$F140,0)))","v":57520},27771,99231,127002,69427.5,297693,69427.5,0,69427.5,70]
[{"$f":"IF(INTRO!$E$43=\"Non-endemic\",\" \", IF(COUNTRY_INFO!A141=0,\" \",COUNTRY_INFO!A141))","v":"Uganda"},{"$f":"IF(INTRO!$E$43=\"Non-endemic\",\" \", IF(COUNTRY_INFO!B141=0,\" \",COUNTRY_INFO!B141))","v":"WESTERN"},{"$f":"IF(INTRO!$E$43=\"Non-endemic\",\" \", IF(COUNTRY_INFO!C141=0,\" \",COUNTRY_INFO!C141))","v":"KYEGEGWA"},{"$f":"IF(INTRO!$E$43=\"Non-endemic\", 0, IF(COUNTRY_INFO!$K141>0, IF(COUNTRY_INFO!$K141=4, 0, IF(COUNTRY_INFO!$K141=1, COUNTRY_INFO!$F141*0.33, IF(COUNTRY_INFO!$K141=2, COUNTRY_INFO!$F141*0.5, COUNTRY_INFO!$F141))), 0))","v":0},{"$f":"IF(INTRO!$E$43=\"Non-endemic\", 0, IF(COUNTRY_INFO!$K141>0, IF(COUNTRY_INFO!$K141=4, 0, IF(COUNTRY_INFO!$K141=1, 0, IF(COUNTRY_INFO!$K141=2, COUNTRY_INFO!$G141*0.2, COUNTRY_INFO!$G141))), 0))","v":0},0,{"$f":"IF(INTRO!$E$43=\"Non-endemic\", \"Not required\", COUNTRY_INFO!S141)","v":0},null,{"$f":"IF($D141=0,0,IF(AND($G141>0,$H141<>\"Yes\"),D141,IF(AND($G141>0,$H141=\"Yes\"),COUNTRY_INFO!$F141,0)))","v":0},0,0,0,0,0,0,null,0,0]
[{"$f":"IF(INTRO!$E$43=\"Non-endemic\",\" \", IF(COUNTRY_INFO!A142=0,\" \",COUNTRY_INFO!A142))","v":"Uganda"},{"$f":"IF(INTRO!$E$43=\"Non-endemic\",\" \", IF(COUNTRY_INFO!B142=0,\" \",COUNTRY_INFO!B142))","v":"WESTERN"},{"$f":"IF(INTRO!$E$43=\"Non-endemic\",\" \", IF(COUNTRY_INFO!C142=0,\" \",COUNTRY_INFO!C142))","v":"KYENJOJO"},{"$f":"IF(INTRO!$E$43=\"Non-endemic\", 0, IF(COUNTRY_INFO!$K142>0, IF(COUNTRY_INFO!$K142=4, 0, IF(COUNTRY_INFO!$K142=1, COUNTRY_INFO!$F142*0.33, IF(COUNTRY_INFO!$K142=2, COUNTRY_INFO!$F142*0.5, COUNTRY_INFO!$F142))), 0))","v":0},{"$f":"IF(INTRO!$E$43=\"Non-endemic\", 0, IF(COUNTRY_INFO!$K142>0, IF(COUNTRY_INFO!$K142=4, 0, IF(COUNTRY_INFO!$K142=1, 0, IF(COUNTRY_INFO!$K142=2, COUNTRY_INFO!$G142*0.2, COUNTRY_INFO!$G142))), 0))","v":0},0,{"$f":"IF(INTRO!$E$43=\"Non-endemic\", \"Not required\", COUNTRY_INFO!S142)","v":0},null,{"$f":"IF($D142=0,0,IF(AND($G142>0,$H142<>\"Yes\"),D142,IF(AND($G142>0,$H142=\"Yes\"),COUNTRY_INFO!$F142,0)))","v":0},0,0,0,0,0,0,null,0,0]
[{"$f":"IF(INTRO!$E$43=\"Non-endemic\",\" \", IF(COUNTRY_INFO!A143=0,\" \",COUNTRY_INFO!A143))","v":"Uganda"},{"$f":"IF(INTRO!$E$43=\"Non-endemic\",\" \", IF(COUNTRY_INFO!B143=0,\" \",COUNTRY_INFO!B143))","v":"WESTERN"},{"$f":"IF(INTRO!$E$43=\"Non-endemic\",\" \", IF(COUNTRY_INFO!C143=0,\" \",COUNTRY_INFO!C143))","v":"MASINDI"},{"$f":"IF(INTRO!$E$43=\"Non-endemic\", 0, IF(COUNTRY_INFO!$K143>0, IF(COUNTRY_INFO!$K143=4, 0, IF(COUNTRY_INFO!$K143=1, COUNTRY_INFO!$F143*0.33, IF(COUNTRY_INFO!$K143=2, COUNTRY_INFO!$F143*0.5, COUNTRY_INFO!$F143))), 0))","v":0},{"$f":"IF(INTRO!$E$43=\"Non-endemic\", 0, IF(COUNTRY_INFO!$K143>0, IF(COUNTRY_INFO!$K143=4, 0, IF(COUNTRY_INFO!$K143=1, 0, IF(COUNTRY_INFO!$K143=2, COUNTRY_INFO!$G143*0.2, COUNTRY_INFO!$G143))), 0))","v":0},0,{"$f":"IF(INTRO!$E$43=\"Non-endemic\", \"Not required\", COUNTRY_INFO!S143)","v":0},null,{"$f":"IF($D143=0,0,IF(AND($G143>0,$H143<>\"Yes\"),D143,IF(AND($G143>0,$H143=\"Yes\"),COUNTRY_INFO!$F143,0)))","v":0},0,0,0,0,0,0,null,0,0]
[{"$f":"IF(INTRO!$E$43=\"Non-endemic\",\" \", IF(COUNTRY_INFO!A144=0,\" \",COUNTRY_INFO!A144))","v":"Uganda"},{"$f":"IF(INTRO!$E$43=\"Non-endemic\",\" \", IF(COUNTRY_INFO!B144=0,\" \",COUNTRY_INFO!B144))","v":"WESTERN"},{"$f":"IF(INTRO!$E$43=\"Non-endemic\",\" \", IF(COUNTRY_INFO!C144=0,\" \",COUNTRY_INFO!C144))","v":"MBARARA"},{"$f":"IF(INTRO!$E$43=\"Non-endemic\", 0, IF(COUNTRY_INFO!$K144>0, IF(COUNTRY_INFO!$K144=4, 0, IF(COUNTRY_INFO!$K144=1, COUNTRY_INFO!$F144*0.33, IF(COUNTRY_INFO!$K144=2, COUNTRY_INFO!$F144*0.5, COUNTRY_INFO!$F144))), 0))","v":0},{"$f":"IF(INTRO!$E$43=\"Non-endemic\", 0, IF(COUNTRY_INFO!$K144>0, IF(COUNTRY_INFO!$K144=4, 0, IF(COUNTRY_INFO!$K144=1, 0, IF(COUNTRY_INFO!$K144=2, COUNTRY_INFO!$G144*0.2, COUNTRY_INFO!$G144))), 0))","v":0},0,{"$f":"IF(INTRO!$E$43=\"Non-endemic\", \"Not required\", COUNTRY_INFO!S144)","v":0},null,{"$f":"IF($D144=0,0,IF(AND($G144>0,$H144<>\"Yes\"),D144,IF(AND($G144>0,$H144=\"Yes\"),COUNTRY_INFO!$F144,0)))","v":0},0,0,0,0,0,0,null,0,0]
[{"$f":"IF(INTRO!$E$43=\"Non-endemic\",\" \", IF(COUNTRY_INFO!A145=0,\" \",COUNTRY_INFO!A145))","v":"Uganda"},{"$f":"IF(INTRO!$E$43=\"Non-endemic\",\" \", IF(COUNTRY_INFO!B145=0,\" \",COUNTRY_INFO!B145))","v":"WESTERN"},{"$f":"IF(INTRO!$E$43=\"Non-endemic\",\" \", IF(COUNTRY_INFO!C145=0,\" \",COUNTRY_INFO!C145))","v":"Mbarara City"},{"$f":"IF(INTRO!$E$43=\"Non-endemic\", 0, IF(COUNTRY_INFO!$K145>0, IF(COUNTRY_INFO!$K145=4, 0, IF(COUNTRY_INFO!$K145=1, COUNTRY_INFO!$F145*0.33, IF(COUNTRY_INFO!$K145=2, COUNTRY_INFO!$F145*0.5, COUNTRY_INFO!$F145))), 0))","v":0},{"$f":"IF(INTRO!$E$43=\"Non-endemic\", 0, IF(COUNTRY_INFO!$K145>0, IF(COUNTRY_INFO!$K145=4, 0, IF(COUNTRY_INFO!$K145=1, 0, IF(COUNTRY_INFO!$K145=2, COUNTRY_INFO!$G145*0.2, COUNTRY_INFO!$G145))), 0))","v":0},0,{"$f":"IF(INTRO!$E$43=\"Non-endemic\", \"Not required\", COUNTRY_INFO!S145)","v":0},null,{"$f":"IF($D145=0,0,IF(AND($G145>0,$H145<>\"Yes\"),D145,IF(AND($G145>0,$H145=\"Yes\"),COUNTRY_INFO!$F145,0)))","v":0},0,0,0,0,0,0,null,0,0]
[{"$f":"IF(INTRO!$E$43=\"Non-endemic\",\" \", IF(COUNTRY_INFO!A146=0,\" \",COUNTRY_INFO!A146))","v":"Uganda"},{"$f":"IF(INTRO!$E$43=\"Non-endemic\",\" \", IF(COUNTRY_INFO!B146=0,\" \",COUNTRY_INFO!B146))","v":"WESTERN"},{"$f":"IF(INTRO!$E$43=\"Non-endemic\",\" \", IF(COUNTRY_INFO!C146=0,\" \",COUNTRY_INFO!C146))","v":"MITOOMA"},{"$f":"IF(INTRO!$E$43=\"Non-endemic\", 0, IF(COUNTRY_INFO!$K146>0, IF(COUNTRY_INFO!$K146=4, 0, IF(COUNTRY_INFO!$K146=1, COUNTRY_INFO!$F146*0.33, IF(COUNTRY_INFO!$K146=2, COUNTRY_INFO!$F146*0.5, COUNTRY_INFO!$F146))), 0))","v":0},{"$f":"IF(INTRO!$E$43=\"Non-endemic\", 0, IF(COUNTRY_INFO!$K146>0, IF(COUNTRY_INFO!$K146=4, 0, IF(COUNTRY_INFO!$K146=1, 0, IF(COUNTRY_INFO!$K146=2, COUNTRY_INFO!$G146*0.2, COUNTRY_INFO!$G146))), 0))","v":0},0,{"$f":"IF(INTRO!$E$43=\"Non-endemic\", \"Not required\", COUNTRY_INFO!S146)","v":0},null,{"$f":"IF($D146=0,0,IF(AND($G146>0,$H146<>\"Yes\"),D146,IF(AND($G146>0,$H146=\"Yes\"),COUNTRY_INFO!$F146,0)))","v":0},0,0,0,0,0,0,null,0,0]
[{"$f":"IF(INTRO!$E$43=\"Non-endemic\",\" \", IF(COUNTRY_INFO!A147=0,\" \",COUNTRY_INFO!A147))","v":"Uganda"},{"$f":"IF(INTRO!$E$43=\"Non-endemic\",\" \", IF(COUNTRY_INFO!B147=0,\" \",COUNTRY_INFO!B147))","v":"WESTERN"},{"$f":"IF(INTRO!$E$43=\"Non-endemic\",\" \", IF(COUNTRY_INFO!C147=0,\" \",COUNTRY_INFO!C147))","v":"NTOROKO"},{"$f":"IF(INTRO!$E$43=\"Non-endemic\", 0, IF(COUNTRY_INFO!$K147>0, IF(COUNTRY_INFO!$K147=4, 0, IF(COUNTRY_INFO!$K147=1, COUNTRY_INFO!$F147*0.33, IF(COUNTRY_INFO!$K147=2, COUNTRY_INFO!$F147*0.5, COUNTRY_INFO!$F147))), 0))","v":26240},{"$f":"IF(INTRO!$E$43=\"Non-endemic\", 0, IF(COUNTRY_INFO!$K147>0, IF(COUNTRY_INFO!$K147=4, 0, IF(COUNTRY_INFO!$K147=1, 0, IF(COUNTRY_INFO!$K147=2, COUNTRY_INFO!$G147*0.2, COUNTRY_INFO!$G147))), 0))","v":45269},71509,{"$f":"IF(INTRO!$E$43=\"Non-endemic\", \"Not required\", COUNTRY_INFO!S147)","v":1},null,{"$f":"IF($D147=0,0,IF(AND($G147>0,$H147<>\"Yes\"),D147,IF(AND($G147>0,$H147=\"Yes\"),COUNTRY_INFO!$F147,0)))","v":26240},10105,45269,55374,25262.5,135807,25262.5,0,25262.5,26]
[{"$f":"IF(INTRO!$E$43=\"Non-endemic\",\" \", IF(COUNTRY_INFO!A148=0,\" \",COUNTRY_INFO!A148))","v":"Uganda"},{"$f":"IF(INTRO!$E$43=\"Non-endemic\",\" \", IF(COUNTRY_INFO!B148=0,\" \",COUNTRY_INFO!B148))","v":"WESTERN"},{"$f":"IF(INTRO!$E$43=\"Non-endemic\",\" \", IF(COUNTRY_INFO!C148=0,\" \",COUNTRY_INFO!C148))","v":"NTUNGAMO"},{"$f":"IF(INTRO!$E$43=\"Non-endemic\", 0, IF(COUNTRY_INFO!$K148>0, IF(COUNTRY_INFO!$K148=4, 0, IF(COUNTRY_INFO!$K148=1, COUNTRY_INFO!$F148*0.33, IF(COUNTRY_INFO!$K148=2, COUNTRY_INFO!$F148*0.5, COUNTRY_INFO!$F148))), 0))","v":0},{"$f":"IF(INTRO!$E$43=\"Non-endemic\", 0, IF(COUNTRY_INFO!$K148>0, IF(COUNTRY_INFO!$K148=4, 0, IF(COUNTRY_INFO!$K148=1, 0, IF(COUNTRY_INFO!$K148=2, COUNTRY_INFO!$G148*0.2, COUNTRY_INFO!$G148))), 0))","v":0},0,{"$f":"IF(INTRO!$E$43=\"Non-endemic\", \"Not required\", COUNTRY_INFO!S148)","v":0},null,{"$f":"IF($D148=0,0,IF(AND($G148>0,$H148<>\"Yes\"),D148,IF(AND($G148>0,$H148=\"Yes\"),COUNTRY_INFO!$F148,0)))","v":0},0,0,0,0,0,0,null,0,0]
[{"$f":"IF(INTRO!$E$43=\"Non-endemic\",\" \", IF(COUNTRY_INFO!A149=0,\" \",COUNTRY_INFO!A149))","v":"Uganda"},{"$f":"IF(INTRO!$E$43=\"Non-endemic\",\" \", IF(COUNTRY_INFO!B149=0,\" \",COUNTRY_INFO!B149))","v":"WESTERN"},{"$f":"IF(INTRO!$E$43=\"Non-endemic\",\" \", IF(COUNTRY_INFO!C149=0,\" \",COUNTRY_INFO!C149))","v":"RUBANDA"},{"$f":"IF(INTRO!$E$43=\"Non-endemic\", 0, IF(COUNTRY_INFO!$K149>0, IF(COUNTRY_INFO!$K149=4, 0, IF(COUNTRY_INFO!$K149=1, COUNTRY_INFO!$F149*0.33, IF(COUNTRY_INFO!$K149=2, COUNTRY_INFO!$F149*0.5, COUNTRY_INFO!$F149))), 0))","v":0},{"$f":"IF(INTRO!$E$43=\"Non-endemic\", 0, IF(COUNTRY_INFO!$K149>0, IF(COUNTRY_INFO!$K149=4, 0, IF(COUNTRY_INFO!$K149=1, 0, IF(COUNTRY_INFO!$K149=2, COUNTRY_INFO!$G149*0.2, COUNTRY_INFO!$G149))), 0))","v":0},0,{"$f":"IF(INTRO!$E$43=\"Non-endemic\", \"Not required\", COUNTRY_INFO!S149)","v":0},null,{"$f":"IF($D149=0,0,IF(AND($G149>0,$H149<>\"Yes\"),D149,IF(AND($G149>0,$H149=\"Yes\"),COUNTRY_INFO!$F149,0)))","v":0},0,0,0,0,0,0,null,0,0]
[{"$f":"IF(INTRO!$E$43=\"Non-endemic\",\" \", IF(COUNTRY_INFO!A150=0,\" \",COUNTRY_INFO!A150))","v":"Uganda"},{"$f":"IF(INTRO!$E$43=\"Non-endemic\",\" \", IF(COUNTRY_INFO!B150=0,\" \",COUNTRY_INFO!B150))","v":"WESTERN"},{"$f":"IF(INTRO!$E$43=\"Non-endemic\",\" \", IF(COUNTRY_INFO!C150=0,\" \",COUNTRY_INFO!C150))","v":"RUBIRIZI"},{"$f":"IF(INTRO!$E$43=\"Non-endemic\", 0, IF(COUNTRY_INFO!$K150>0, IF(COUNTRY_INFO!$K150=4, 0, IF(COUNTRY_INFO!$K150=1, COUNTRY_INFO!$F150*0.33, IF(COUNTRY_INFO!$K150=2, COUNTRY_INFO!$F150*0.5, COUNTRY_INFO!$F150))), 0))","v":51076},{"$f":"IF(INTRO!$E$43=\"Non-endemic\", 0, IF(COUNTRY_INFO!$K150>0, IF(COUNTRY_INFO!$K150=4, 0, IF(COUNTRY_INFO!$K150=1, 0, IF(COUNTRY_INFO!$K150=2, COUNTRY_INFO!$G150*0.2, COUNTRY_INFO!$G150))), 0))","v":88114},139190,{"$f":"IF(INTRO!$E$43=\"Non-endemic\", \"Not required\", COUNTRY_INFO!S150)","v":1},null,{"$f":"IF($D150=0,0,IF(AND($G150>0,$H150<>\"Yes\"),D150,IF(AND($G150>0,$H150=\"Yes\"),COUNTRY_INFO!$F150,0)))","v":51076},2203,88114,90317,5507.5,264342,5507.5,0,5507.5,6]
[{"$f":"IF(INTRO!$E$43=\"Non-endemic\",\" \", IF(COUNTRY_INFO!A151=0,\" \",COUNTRY_INFO!A151))","v":"Uganda"},{"$f":"IF(INTRO!$E$43=\"Non-endemic\",\" \", IF(COUNTRY_INFO!B151=0,\" \",COUNTRY_INFO!B151))","v":"WESTERN"},{"$f":"IF(INTRO!$E$43=\"Non-endemic\",\" \", IF(COUNTRY_INFO!C151=0,\" \",COUNTRY_INFO!C151))","v":"RUKIGA"},{"$f":"IF(INTRO!$E$43=\"Non-endemic\", 0, IF(COUNTRY_INFO!$K151>0, IF(COUNTRY_INFO!$K151=4, 0, IF(COUNTRY_INFO!$K151=1, COUNTRY_INFO!$F151*0.33, IF(COUNTRY_INFO!$K151=2, COUNTRY_INFO!$F151*0.5, COUNTRY_INFO!$F151))), 0))","v":0},{"$f":"IF(INTRO!$E$43=\"Non-endemic\", 0, IF(COUNTRY_INFO!$K151>0, IF(COUNTRY_INFO!$K151=4, 0, IF(COUNTRY_INFO!$K151=1, 0, IF(COUNTRY_INFO!$K151=2, COUNTRY_INFO!$G151*0.2, COUNTRY_INFO!$G151))), 0))","v":0},0,{"$f":"IF(INTRO!$E$43=\"Non-endemic\", \"Not required\", COUNTRY_INFO!S151)","v":0},null,{"$f":"IF($D151=0,0,IF(AND($G151>0,$H151<>\"Yes\"),D151,IF(AND($G151>0,$H151=\"Yes\"),COUNTRY_INFO!$F151,0)))","v":0},0,0,0,0,0,0,null,0,0]
[{"$f":"IF(INTRO!$E$43=\"Non-endemic\",\" \", IF(COUNTRY_INFO!A152=0,\" \",COUNTRY_INFO!A152))","v":"Uganda"},{"$f":"IF(INTRO!$E$43=\"Non-endemic\",\" \", IF(COUNTRY_INFO!B152=0,\" \",COUNTRY_INFO!B152))","v":"WESTERN"},{"$f":"IF(INTRO!$E$43=\"Non-endemic\",\" \", IF(COUNTRY_INFO!C152=0,\" \",COUNTRY_INFO!C152))","v":"RUKUNGIRI"},{"$f":"IF(INTRO!$E$43=\"Non-endemic\", 0, IF(COUNTRY_INFO!$K152>0, IF(COUNTRY_INFO!$K152=4, 0, IF(COUNTRY_INFO!$K152=1, COUNTRY_INFO!$F152*0.33, IF(COUNTRY_INFO!$K152=2, COUNTRY_INFO!$F152*0.5, COUNTRY_INFO!$F152))), 0))","v":0},{"$f":"IF(INTRO!$E$43=\"Non-endemic\", 0, IF(COUNTRY_INFO!$K152>0, IF(COUNTRY_INFO!$K152=4, 0, IF(COUNTRY_INFO!$K152=1, 0, IF(COUNTRY_INFO!$K152=2, COUNTRY_INFO!$G152*0.2, COUNTRY_INFO!$G152))), 0))","v":0},0,{"$f":"IF(INTRO!$E$43=\"Non-endemic\", \"Not required\", COUNTRY_INFO!S152)","v":0},null,{"$f":"IF($D152=0,0,IF(AND($G152>0,$H152<>\"Yes\"),D152,IF(AND($G152>0,$H152=\"Yes\"),COUNTRY_INFO!$F152,0)))","v":0},0,0,0,0,0,0,null,0,0]
[{"$f":"IF(INTRO!$E$43=\"Non-endemic\",\" \", IF(COUNTRY_INFO!A153=0,\" \",COUNTRY_INFO!A153))","v":"Uganda"},{"$f":"IF(INTRO!$E$43=\"Non-endemic\",\" \", IF(COUNTRY_INFO!B153=0,\" \",COUNTRY_INFO!B153))","v":"WESTERN"},{"$f":"IF(INTRO!$E$43=\"Non-endemic\",\" \", IF(COUNTRY_INFO!C153=0,\" \",COUNTRY_INFO!C153))","v":"RWAMPARA"},{"$f":"IF(INTRO!$E$43=\"Non-endemic\", 0, IF(COUNTRY_INFO!$K153>0, IF(COUNTRY_INFO!$K153=4, 0, IF(COUNTRY_INFO!$K153=1, COUNTRY_INFO!$F153*0.33, IF(COUNTRY_INFO!$K153=2, COUNTRY_INFO!$F153*0.5, COUNTRY_INFO!$F153))), 0))","v":0},{"$f":"IF(INTRO!$E$43=\"Non-endemic\", 0, IF(COUNTRY_INFO!$K153>0, IF(COUNTRY_INFO!$K153=4, 0, IF(COUNTRY_INFO!$K153=1, 0, IF(COUNTRY_INFO!$K153=2, COUNTRY_INFO!$G153*0.2, COUNTRY_INFO!$G153))), 0))","v":0},0,{"$f":"IF(INTRO!$E$43=\"Non-endemic\", \"Not required\", COUNTRY_INFO!S153)","v":0},null,{"$f":"IF($D153=0,0,IF(AND($G153>0,$H153<>\"Yes\"),D153,IF(AND($G153>0,$H153=\"Yes\"),COUNTRY_INFO!$F153,0)))","v":0},0,0,0,0,0,0,null,0,0]
[{"$f":"IF(INTRO!$E$43=\"Non-endemic\",\" \", IF(COUNTRY_INFO!A154=0,\" \",COUNTRY_INFO!A154))","v":"Uganda"},{"$f":"IF(INTRO!$E$43=\"Non-endemic\",\" \", IF(COUNTRY_INFO!B154=0,\" \",COUNTRY_INFO!B154))","v":"WESTERN"},{"$f":"IF(INTRO!$E$43=\"Non-endemic\",\" \", IF(COUNTRY_INFO!C154=0,\" \",COUNTRY_INFO!C154))","v":"SHEEMA"},{"$f":"IF(INTRO!$E$43=\"Non-endemic\", 0, IF(COUNTRY_INFO!$K154>0, IF(COUNTRY_INFO!$K154=4, 0, IF(COUNTRY_INFO!$K154=1, COUNTRY_INFO!$F154*0.33, IF(COUNTRY_INFO!$K154=2, COUNTRY_INFO!$F154*0.5, COUNTRY_INFO!$F154))), 0))","v":0},{"$f":"IF(INTRO!$E$43=\"Non-endemic\", 0, IF(COUNTRY_INFO!$K154>0, IF(COUNTRY_INFO!$K154=4, 0, IF(COUNTRY_INFO!$K154=1, 0, IF(COUNTRY_INFO!$K154=2, COUNTRY_INFO!$G154*0.2, COUNTRY_INFO!$G154))), 0))","v":0},0,{"$f":"IF(INTRO!$E$43=\"Non-endemic\", \"Not required\", COUNTRY_INFO!S154)","v":0},null,{"$f":"IF($D154=0,0,IF(AND($G154>0,$H154<>\"Yes\"),D154,IF(AND($G154>0,$H154=\"Yes\"),COUNTRY_INFO!$F154,0)))","v":0},0,0,0,0,0,0,null,0,0]

{"sheet":"IVM","index":5,"n_rows":155,"n_cols":17,"rows_kept":155,"cut":false,"hidden":false,"merged":[[6,14,7,14],[5,3,7,3],[6,15,7,15],[6,16,7,16],[6,10,7,10],[6,11,7,11],[6,12,7,12],[6,13,7,13],[3,0,3,2],[3,4,3,5],[6,4,7,4],[6,5,7,5],[5,10,5,16],[6,0,7,0],[6,1,7,1],[6,2,7,2],[6,7,6,9],[5,0,5,2],[5,4,5,5],[5,6,5,9]]}
["Ivermectin (IVM)"]
["Administrative structure, eligible population by age group, treatment plan and information about tablets"]
[]
["TOTAL",null,null,{"$f":"SUM(D$9:D$1001)","v":1768524},null,null,{"$f":"SUM(G$9:G$1001)","v":0},2008510,1768524,1768524,0,9903734.3999999985,0,9903734.3999999985,0,9903734.3999999985,19814]
[]
["Country administrative structure",null,null,"Population requiring treatment with IVM","Treatment plan",null,"Target population",null,null,null,"Ivermectin (IVM)"]
["Country","Province/State","District",null,"LF","Oncho","LF","Oncho",null,null,"LF only","Oncho only","LF+Oncho","Total required","Remaining in stock","Tablets to be procured","Bottles (3mg)\n500 tablets"]
[null,null,null,null,null,null,null,"in the district","in villages","total"]
[{"$f":"IF(INTRO!$E$39=\"Non-endemic\",\" \",IF(COUNTRY_INFO!A9=0,\" \",COUNTRY_INFO!A9))","v":"Uganda"},{"$f":"IF(INTRO!$E$39=\"Non-endemic\",\" \",IF(COUNTRY_INFO!B9=0,\" \",COUNTRY_INFO!B9))","v":"CENTRAL"},{"$f":"IF(INTRO!$E$39=\"Non-endemic\",\" \",IF(COUNTRY_INFO!C9=0,\" \",COUNTRY_INFO!C9))","v":"BUIKWE"},{"$f":"IF(INTRO!$E$39=\"Non-endemic\",0,IF(INTRO!$E$39=\"Endemic but PC is not required\",IF(COUNTRY_INFO!$H9=1,COUNTRY_INFO!F9+COUNTRY_INFO!G9,0),IF(COUNTRY_INFO!$H9=1,COUNTRY_INFO!F9+COUNTRY_INFO!G9,IF(COUNTRY_INFO!$I9=1,IF(COUNTRY_INFO!M9>=(COUNTRY_INFO!F9+COUNTRY_INFO!G9),COUNTRY_INFO!F9+COUNTRY_INFO!G9,COUNTRY_INFO!$M9),0))))","v":0},{"$f":"IF(AND(INTRO!$E$39=\"Non-endemic\",INTRO!$E$37=\"Non-endemic\"),\"Not required\",IF(INTRO!$E$39=\"Non-endemic\",\"Treat with DEC\",COUNTRY_INFO!P9))","v":0},{"$f":"IF(INTRO!$E$39<>\"Non-endemic\",COUNTRY_INFO!Q9,\"Not required\")","v":0},{"$f":"IF(COUNTRY_INFO!H9=1, IF($E9=1,$D9, 0),0)","v":0},{"$f":"IF(INTRO!$E$39<>\"Endemic\",0, IF(AND(COUNTRY_INFO!$I9=1,$F9<>0),IF(COUNTRY_INFO!M9>=(COUNTRY_INFO!F9+COUNTRY_INFO!G9),COUNTRY_INFO!F9+COUNTRY_INFO!G9,COUNTRY_INFO!$M9), 0))","v":0},0,{"$f":"IF(I9=0,H9,IF(I9>H9,H9,I9))","v":0},{"$f":"IF(G9<J9,0,IF($E9=1, (G9-J9)*2.8, 0))","v":0},{"$f":"IF($E9<$F9, J9*(F9-E9)*2.8, 0)","v":0},{"$f":"IF(AND($E9=1, $F9<>0), J9*2.8, 0)","v":0},{"$f":"SUM(K9:M9)","v":0},null,{"$f":"IF($N9>$O9,$N9-$O9,0)","v":0},{"$f":"ROUNDUP($N9/500,0)","v":0}]
[{"$f":"IF(INTRO!$E$39=\"Non-endemic\",\" \",IF(COUNTRY_INFO!A10=0,\" \",COUNTRY_INFO!A10))","v":"Uganda"},{"$f":"IF(INTRO!$E$39=\"Non-endemic\",\" \",IF(COUNTRY_INFO!B10=0,\" \",COUNTRY_INFO!B10))","v":"CENTRAL"},{"$f":"IF(INTRO!$E$39=\"Non-endemic\",\" \",IF(COUNTRY_INFO!C10=0,\" \",COUNTRY_INFO!C10))","v":"BUKOMANSIMBI"},{"$f":"IF(INTRO!$E$39=\"Non-endemic\",0,IF(INTRO!$E$39=\"Endemic but PC is not required\",IF(COUNTRY_INFO!$H10=1,COUNTRY_INFO!F10+COUNTRY_INFO!G10,0),IF(COUNTRY_INFO!$H10=1,COUNTRY_INFO!F10+COUNTRY_INFO!G10,IF(COUNTRY_INFO!$I10=1,IF(COUNTRY_INFO!M10>=(COUNTRY_INFO!F10+COUNTRY_INFO!G10),COUNTRY_INFO!F10+COUNTRY_INFO!G10,COUNTRY_INFO!$M10),0))))","v":0},{"$f":"IF(AND(INTRO!$E$39=\"Non-endemic\",INTRO!$E$37=\"Non-endemic\"),\"Not required\",IF(INTRO!$E$39=\"Non-endemic\",\"Treat with DEC\",COUNTRY_INFO!P10))","v":0},{"$f":"IF(INTRO!$E$39<>\"Non-endemic\",COUNTRY_INFO!Q10,\"Not required\")","v":0},{"$f":"IF(COUNTRY_INFO!H10=1, IF($E10=1,$D10, 0),0)","v":0},{"$f":"IF(INTRO!$E$39<>\"Endemic\",0, IF(AND(COUNTRY_INFO!$I10=1,$F10<>0),IF(COUNTRY_INFO!M10>=(COUNTRY_INFO!F10+COUNTRY_INFO!G10),COUNTRY_INFO!F10+COUNTRY_INFO!G10,COUNTRY_INFO!$M10), 0))","v":0},0,{"$f":"IF(I10=0,H10,IF(I10>H10,H10,I10))","v":0},{"$f":"IF(G10<J10,0,IF($E10=1, (G10-J10)*2.8, 0))","v":0},{"$f":"IF($E10<$F10, J10*(F10-E10)*2.8, 0)","v":0},{"$f":"IF(AND($E10=1, $F10<>0), J10*2.8, 0)","v":0},{"$f":"SUM(K10:M10)","v":0},null,0,0]
[{"$f":"IF(INTRO!$E$39=\"Non-endemic\",\" \",IF(COUNTRY_INFO!A11=0,\" \",COUNTRY_INFO!A11))","v":"Uganda"},{"$f":"IF(INTRO!$E$39=\"Non-endemic\",\" \",IF(COUNTRY_INFO!B11=0,\" \",COUNTRY_INFO!B11))","v":"CENTRAL"},{"$f":"IF(INTRO!$E$39=\"Non-endemic\",\" \",IF(COUNTRY_INFO!C11=0,\" \",COUNTRY_INFO!C11))","v":"BUTAMBALA"},{"$f":"IF(INTRO!$E$39=\"Non-endemic\",0,IF(INTRO!$E$39=\"Endemic but PC is not required\",IF(COUNTRY_INFO!$H11=1,COUNTRY_INFO!F11+COUNTRY_INFO!G11,0),IF(COUNTRY_INFO!$H11=1,COUNTRY_INFO!F11+COUNTRY_INFO!G11,IF(COUNTRY_INFO!$I11=1,IF(COUNTRY_INFO!M11>=(COUNTRY_INFO!F11+COUNTRY_INFO!G11),COUNTRY_INFO!F11+COUNTRY_INFO!G11,COUNTRY_INFO!$M11),0))))","v":0},{"$f":"IF(AND(INTRO!$E$39=\"Non-endemic\",INTRO!$E$37=\"Non-endemic\"),\"Not required\",IF(INTRO!$E$39=\"Non-endemic\",\"Treat with DEC\",COUNTRY_INFO!P11))","v":0},{"$f":"IF(INTRO!$E$39<>\"Non-endemic\",COUNTRY_INFO!Q11,\"Not required\")","v":0},{"$f":"IF(COUNTRY_INFO!H11=1, IF($E11=1,$D11, 0),0)","v":0},{"$f":"IF(INTRO!$E$39<>\"Endemic\",0, IF(AND(COUNTRY_INFO!$I11=1,$F11<>0),IF(COUNTRY_INFO!M11>=(COUNTRY_INFO!F11+COUNTRY_INFO!G11),COUNTRY_INFO!F11+COUNTRY_INFO!G11,COUNTRY_INFO!$M11), 0))","v":0},0,0,0,0,0,0,null,0,0]
[{"$f":"IF(INTRO!$E$39=\"Non-endemic\",\" \",IF(COUNTRY_INFO!A12=0,\" \",COUNTRY_INFO!A12))","v":"Uganda"},{"$f":"IF(INTRO!$E$39=\"Non-endemic\",\" \",IF(COUNTRY_INFO!B12=0,\" \",COUNTRY_INFO!B12))","v":"CENTRAL"},{"$f":"IF(INTRO!$E$39=\"Non-endemic\",\" \",IF(COUNTRY_INFO!C12=0,\" \",COUNTRY_INFO!C12))","v":"BUVUMA"},{"$f":"IF(INTRO!$E$39=\"Non-endemic\",0,IF(INTRO!$E$39=\"Endemic but PC is not required\",IF(COUNTRY_INFO!$H12=1,COUNTRY_INFO!F12+COUNTRY_INFO!G12,0),IF(COUNTRY_INFO!$H12=1,COUNTRY_INFO!F12+COUNTRY_INFO!G12,IF(COUNTRY_INFO!$I12=1,IF(COUNTRY_INFO!M12>=(COUNTRY_INFO!F12+COUNTRY_INFO!G12),COUNTRY_INFO!F12+COUNTRY_INFO!G12,COUNTRY_INFO!$M12),0))))","v":0},{"$f":"IF(AND(INTRO!$E$39=\"Non-endemic\",INTRO!$E$37=\"Non-endemic\"),\"Not required\",IF(INTRO!$E$39=\"Non-endemic\",\"Treat with DEC\",COUNTRY_INFO!P12))","v":0},{"$f":"IF(INTRO!$E$39<>\"Non-endemic\",COUNTRY_INFO!Q12,\"Not required\")","v":0},{"$f":"IF(COUNTRY_INFO!H12=1, IF($E12=1,$D12, 0),0)","v":0},{"$f":"IF(INTRO!$E$39<>\"Endemic\",0, IF(AND(COUNTRY_INFO!$I12=1,$F12<>0),IF(COUNTRY_INFO!M12>=(COUNTRY_INFO!F12+COUNTRY_INFO!G12),COUNTRY_INFO!F12+COUNTRY_INFO!G12,COUNTRY_INFO!$M12), 0))","v":0},0,0,0,0,0,0,null,0,0]
[{"$f":"IF(INTRO!$E$39=\"Non-endemic\",\" \",IF(COUNTRY_INFO!A13=0,\" \",COUNTRY_INFO!A13))","v":"Uganda"},{"$f":"IF(INTRO!$E$39=\"Non-endemic\",\" \",IF(COUNTRY_INFO!B13=0,\" \",COUNTRY_INFO!B13))","v":"CENTRAL"},{"$f":"IF(INTRO!$E$39=\"Non-endemic\",\" \",IF(COUNTRY_INFO!C13=0,\" \",COUNTRY_INFO!C13))","v":"GOMBA"},{"$f":"IF(INTRO!$E$39=\"Non-endemic\",0,IF(INTRO!$E$39=\"Endemic but PC is not required\",IF(COUNTRY_INFO!$H13=1,COUNTRY_INFO!F13+COUNTRY_INFO!G13,0),IF(COUNTRY_INFO!$H13=1,COUNTRY_INFO!F13+COUNTRY_INFO!G13,IF(COUNTRY_INFO!$I13=1,IF(COUNTRY_INFO!M13>=(COUNTRY_INFO!F13+COUNTRY_INFO!G13),COUNTRY_INFO!F13+COUNTRY_INFO!G13,COUNTRY_INFO!$M13),0))))","v":0},{"$f":"IF(AND(INTRO!$E$39=\"Non-endemic\",INTRO!$E$37=\"Non-endemic\"),\"Not required\",IF(INTRO!$E$39=\"Non-endemic\",\"Treat with DEC\",COUNTRY_INFO!P13))","v":0},{"$f":"IF(INTRO!$E$39<>\"Non-endemic\",COUNTRY_INFO!Q13,\"Not required\")","v":0},{"$f":"IF(COUNTRY_INFO!H13=1, IF($E13=1,$D13, 0),0)","v":0},{"$f":"IF(INTRO!$E$39<>\"Endemic\",0, IF(AND(COUNTRY_INFO!$I13=1,$F13<>0),IF(COUNTRY_INFO!M13>=(COUNTRY_INFO!F13+COUNTRY_INFO!G13),COUNTRY_INFO!F13+COUNTRY_INFO!G13,COUNTRY_INFO!$M13), 0))","v":0},0,0,0,0,0,0,null,0,0]
[{"$f":"IF(INTRO!$E$39=\"Non-endemic\",\" \",IF(COUNTRY_INFO!A14=0,\" \",COUNTRY_INFO!A14))","v":"Uganda"},{"$f":"IF(INTRO!$E$39=\"Non-endemic\",\" \",IF(COUNTRY_INFO!B14=0,\" \",COUNTRY_INFO!B14))","v":"CENTRAL"},{"$f":"IF(INTRO!$E$39=\"Non-endemic\",\" \",IF(COUNTRY_INFO!C14=0,\" \",COUNTRY_INFO!C14))","v":"KALANGALA"},{"$f":"IF(INTRO!$E$39=\"Non-endemic\",0,IF(INTRO!$E$39=\"Endemic but PC is not required\",IF(COUNTRY_INFO!$H14=1,COUNTRY_INFO!F14+COUNTRY_INFO!G14,0),IF(COUNTRY_INFO!$H14=1,COUNTRY_INFO!F14+COUNTRY_INFO!G14,IF(COUNTRY_INFO!$I14=1,IF(COUNTRY_INFO!M14>=(COUNTRY_INFO!F14+COUNTRY_INFO!G14),COUNTRY_INFO!F14+COUNTRY_INFO!G14,COUNTRY_INFO!$M14),0))))","v":0},{"$f":"IF(AND(INTRO!$E$39=\"Non-endemic\",INTRO!$E$37=\"Non-endemic\"),\"Not required\",IF(INTRO!$E$39=\"Non-endemic\",\"Treat with DEC\",COUNTRY_INFO!P14))","v":0},{"$f":"IF(INTRO!$E$39<>\"Non-endemic\",COUNTRY_INFO!Q14,\"Not required\")","v":0},{"$f":"IF(COUNTRY_INFO!H14=1, IF($E14=1,$D14, 0),0)","v":0},{"$f":"IF(INTRO!$E$39<>\"Endemic\",0, IF(AND(COUNTRY_INFO!$I14=1,$F14<>0),IF(COUNTRY_INFO!M14>=(COUNTRY_INFO!F14+COUNTRY_INFO!G14),COUNTRY_INFO!F14+COUNTRY_INFO!G14,COUNTRY_INFO!$M14), 0))","v":0},0,0,0,0,0,0,null,0,0]
[{"$f":"IF(INTRO!$E$39=\"Non-endemic\",\" \",IF(COUNTRY_INFO!A15=0,\" \",COUNTRY_INFO!A15))","v":"Uganda"},{"$f":"IF(INTRO!$E$39=\"Non-endemic\",\" \",IF(COUNTRY_INFO!B15=0,\" \",COUNTRY_INFO!B15))","v":"CENTRAL"},{"$f":"IF(INTRO!$E$39=\"Non-endemic\",\" \",IF(COUNTRY_INFO!C15=0,\" \",COUNTRY_INFO!C15))","v":"KALUNGU"},{"$f":"IF(INTRO!$E$39=\"Non-endemic\",0,IF(INTRO!$E$39=\"Endemic but PC is not required\",IF(COUNTRY_INFO!$H15=1,COUNTRY_INFO!F15+COUNTRY_INFO!G15,0),IF(COUNTRY_INFO!$H15=1,COUNTRY_INFO!F15+COUNTRY_INFO!G15,IF(COUNTRY_INFO!$I15=1,IF(COUNTRY_INFO!M15>=(COUNTRY_INFO!F15+COUNTRY_INFO!G15),COUNTRY_INFO!F15+COUNTRY_INFO!G15,COUNTRY_INFO!$M15),0))))","v":0},{"$f":"IF(AND(INTRO!$E$39=\"Non-endemic\",INTRO!$E$37=\"Non-endemic\"),\"Not required\",IF(INTRO!$E$39=\"Non-endemic\",\"Treat with DEC\",COUNTRY_INFO!P15))","v":0},{"$f":"IF(INTRO!$E$39<>\"Non-endemic\",COUNTRY_INFO!Q15,\"Not required\")","v":0},{"$f":"IF(COUNTRY_INFO!H15=1, IF($E15=1,$D15, 0),0)","v":0},{"$f":"IF(INTRO!$E$39<>\"Endemic\",0, IF(AND(COUNTRY_INFO!$I15=1,$F15<>0),IF(COUNTRY_INFO!M15>=(COUNTRY_INFO!F15+COUNTRY_INFO!G15),COUNTRY_INFO!F15+COUNTRY_INFO!G15,COUNTRY_INFO!$M15), 0))","v":0},0,0,0,0,0,0,null,0,0]
[{"$f":"IF(INTRO!$E$39=\"Non-endemic\",\" \",IF(COUNTRY_INFO!A16=0,\" \",COUNTRY_INFO!A16))","v":"Uganda"},{"$f":"IF(INTRO!$E$39=\"Non-endemic\",\" \",IF(COUNTRY_INFO!B16=0,\" \",COUNTRY_INFO!B16))","v":"CENTRAL"},{"$f":"IF(INTRO!$E$39=\"Non-endemic\",\" \",IF(COUNTRY_INFO!C16=0,\" \",COUNTRY_INFO!C16))","v":"KAMPALA"},{"$f":"IF(INTRO!$E$39=\"Non-endemic\",0,IF(INTRO!$E$39=\"Endemic but PC is not required\",IF(COUNTRY_INFO!$H16=1,COUNTRY_INFO!F16+COUNTRY_INFO!G16,0),IF(COUNTRY_INFO!$H16=1,COUNTRY_INFO!F16+COUNTRY_INFO!G16,IF(COUNTRY_INFO!$I16=1,IF(COUNTRY_INFO!M16>=(COUNTRY_INFO!F16+COUNTRY_INFO!G16),COUNTRY_INFO!F16+COUNTRY_INFO!G16,COUNTRY_INFO!$M16),0))))","v":0},{"$f":"IF(AND(INTRO!$E$39=\"Non-endemic\",INTRO!$E$37=\"Non-endemic\"),\"Not required\",IF(INTRO!$E$39=\"Non-endemic\",\"Treat with DEC\",COUNTRY_INFO!P16))","v":0},{"$f":"IF(INTRO!$E$39<>\"Non-endemic\",COUNTRY_INFO!Q16,\"Not required\")","v":0},{"$f":"IF(COUNTRY_INFO!H16=1, IF($E16=1,$D16, 0),0)","v":0},{"$f":"IF(INTRO!$E$39<>\"Endemic\",0, IF(AND(COUNTRY_INFO!$I16=1,$F16<>0),IF(COUNTRY_INFO!M16>=(COUNTRY_INFO!F16+COUNTRY_INFO!G16),COUNTRY_INFO!F16+COUNTRY_INFO!G16,COUNTRY_INFO!$M16), 0))","v":0},0,0,0,0,0,0,null,0,0]
[{"$f":"IF(INTRO!$E$39=\"Non-endemic\",\" \",IF(COUNTRY_INFO!A17=0,\" \",COUNTRY_INFO!A17))","v":"Uganda"},{"$f":"IF(INTRO!$E$39=\"Non-endemic\",\" \",IF(COUNTRY_INFO!B17=0,\" \",COUNTRY_INFO!B17))","v":"CENTRAL"},{"$f":"IF(INTRO!$E$39=\"Non-endemic\",\" \",IF(COUNTRY_INFO!C17=0,\" \",COUNTRY_INFO!C17))","v":"KASSANDA"},{"$f":"IF(INTRO!$E$39=\"Non-endemic\",0,IF(INTRO!$E$39=\"Endemic but PC is not required\",IF(COUNTRY_INFO!$H17=1,COUNTRY_INFO!F17+COUNTRY_INFO!G17,0),IF(COUNTRY_INFO!$H17=1,COUNTRY_INFO!F17+COUNTRY_INFO!G17,IF(COUNTRY_INFO!$I17=1,IF(COUNTRY_INFO!M17>=(COUNTRY_INFO!F17+COUNTRY_INFO!G17),COUNTRY_INFO!F17+COUNTRY_INFO!G17,COUNTRY_INFO!$M17),0))))","v":0},{"$f":"IF(AND(INTRO!$E$39=\"Non-endemic\",INTRO!$E$37=\"Non-endemic\"),\"Not required\",IF(INTRO!$E$39=\"Non-endemic\",\"Treat with DEC\",COUNTRY_INFO!P17))","v":0},{"$f":"IF(INTRO!$E$39<>\"Non-endemic\",COUNTRY_INFO!Q17,\"Not required\")","v":0},{"$f":"IF(COUNTRY_INFO!H17=1, IF($E17=1,$D17, 0),0)","v":0},{"$f":"IF(INTRO!$E$39<>\"Endemic\",0, IF(AND(COUNTRY_INFO!$I17=1,$F17<>0),IF(COUNTRY_INFO!M17>=(COUNTRY_INFO!F17+COUNTRY_INFO!G17),COUNTRY_INFO!F17+COUNTRY_INFO!G17,COUNTRY_INFO!$M17), 0))","v":0},0,0,0,0,0,0,null,0,0]
[{"$f":"IF(INTRO!$E$39=\"Non-endemic\",\" \",IF(COUNTRY_INFO!A18=0,\" \",COUNTRY_INFO!A18))","v":"Uganda"},{"$f":"IF(INTRO!$E$39=\"Non-endemic\",\" \",IF(COUNTRY_INFO!B18=0,\" \",COUNTRY_INFO!B18))","v":"CENTRAL"},{"$f":"IF(INTRO!$E$39=\"Non-endemic\",\" \",IF(COUNTRY_INFO!C18=0,\" \",COUNTRY_INFO!C18))","v":"KAYUNGA"},{"$f":"IF(INTRO!$E$39=\"Non-endemic\",0,IF(INTRO!$E$39=\"Endemic but PC is not required\",IF(COUNTRY_INFO!$H18=1,COUNTRY_INFO!F18+COUNTRY_INFO!G18,0),IF(COUNTRY_INFO!$H18=1,COUNTRY_INFO!F18+COUNTRY_INFO!G18,IF(COUNTRY_INFO!$I18=1,IF(COUNTRY_INFO!M18>=(COUNTRY_INFO!F18+COUNTRY_INFO!G18),COUNTRY_INFO!F18+COUNTRY_INFO!G18,COUNTRY_INFO!$M18),0))))","v":0},{"$f":"IF(AND(INTRO!$E$39=\"Non-endemic\",INTRO!$E$37=\"Non-endemic\"),\"Not required\",IF(INTRO!$E$39=\"Non-endemic\",\"Treat with DEC\",COUNTRY_INFO!P18))","v":0},{"$f":"IF(INTRO!$E$39<>\"Non-endemic\",COUNTRY_INFO!Q18,\"Not required\")","v":0},{"$f":"IF(COUNTRY_INFO!H18=1, IF($E18=1,$D18, 0),0)","v":0},{"$f":"IF(INTRO!$E$39<>\"Endemic\",0, IF(AND(COUNTRY_INFO!$I18=1,$F18<>0),IF(COUNTRY_INFO!M18>=(COUNTRY_INFO!F18+COUNTRY_INFO!G18),COUNTRY_INFO!F18+COUNTRY_INFO!G18,COUNTRY_INFO!$M18), 0))","v":0},0,0,0,0,0,0,null,0,0]
[{"$f":"IF(INTRO!$E$39=\"Non-endemic\",\" \",IF(COUNTRY_INFO!A19=0,\" \",COUNTRY_INFO!A19))","v":"Uganda"},{"$f":"IF(INTRO!$E$39=\"Non-endemic\",\" \",IF(COUNTRY_INFO!B19=0,\" \",COUNTRY_INFO!B19))","v":"CENTRAL"},{"$f":"IF(INTRO!$E$39=\"Non-endemic\",\" \",IF(COUNTRY_INFO!C19=0,\" \",COUNTRY_INFO!C19))","v":"KIBOGA"},{"$f":"IF(INTRO!$E$39=\"Non-endemic\",0,IF(INTRO!$E$39=\"Endemic but PC is not required\",IF(COUNTRY_INFO!$H19=1,COUNTRY_INFO!F19+COUNTRY_INFO!G19,0),IF(COUNTRY_INFO!$H19=1,COUNTRY_INFO!F19+COUNTRY_INFO!G19,IF(COUNTRY_INFO!$I19=1,IF(COUNTRY_INFO!M19>=(COUNTRY_INFO!F19+COUNTRY_INFO!G19),COUNTRY_INFO!F19+COUNTRY_INFO!G19,COUNTRY_INFO!$M19),0))))","v":0},{"$f":"IF(AND(INTRO!$E$39=\"Non-endemic\",INTRO!$E$37=\"Non-endemic\"),\"Not required\",IF(INTRO!$E$39=\"Non-endemic\",\"Treat with DEC\",COUNTRY_INFO!P19))","v":0},{"$f":"IF(INTRO!$E$39<>\"Non-endemic\",COUNTRY_INFO!Q19,\"Not required\")","v":0},{"$f":"IF(COUNTRY_INFO!H19=1, IF($E19=1,$D19, 0),0)","v":0},{"$f":"IF(INTRO!$E$39<>\"Endemic\",0, IF(AND(COUNTRY_INFO!$I19=1,$F19<>0),IF(COUNTRY_INFO!M19>=(COUNTRY_INFO!F19+COUNTRY_INFO!G19),COUNTRY_INFO!F19+COUNTRY_INFO!G19,COUNTRY_INFO!$M19), 0))","v":0},0,0,0,0,0,0,null,0,0]
[{"$f":"IF(INTRO!$E$39=\"Non-endemic\",\" \",IF(COUNTRY_INFO!A20=0,\" \",COUNTRY_INFO!A20))","v":"Uganda"},{"$f":"IF(INTRO!$E$39=\"Non-endemic\",\" \",IF(COUNTRY_INFO!B20=0,\" \",COUNTRY_INFO!B20))","v":"CENTRAL"},{"$f":"IF(INTRO!$E$39=\"Non-endemic\",\" \",IF(COUNTRY_INFO!C20=0,\" \",COUNTRY_INFO!C20))","v":"KYANKWANZI"},{"$f":"IF(INTRO!$E$39=\"Non-endemic\",0,IF(INTRO!$E$39=\"Endemic but PC is not required\",IF(COUNTRY_INFO!$H20=1,COUNTRY_INFO!F20+COUNTRY_INFO!G20,0),IF(COUNTRY_INFO!$H20=1,COUNTRY_INFO!F20+COUNTRY_INFO!G20,IF(COUNTRY_INFO!$I20=1,IF(COUNTRY_INFO!M20>=(COUNTRY_INFO!F20+COUNTRY_INFO!G20),COUNTRY_INFO!F20+COUNTRY_INFO!G20,COUNTRY_INFO!$M20),0))))","v":0},{"$f":"IF(AND(INTRO!$E$39=\"Non-endemic\",INTRO!$E$37=\"Non-endemic\"),\"Not required\",IF(INTRO!$E$39=\"Non-endemic\",\"Treat with DEC\",COUNTRY_INFO!P20))","v":0},{"$f":"IF(INTRO!$E$39<>\"Non-endemic\",COUNTRY_INFO!Q20,\"Not required\")","v":0},{"$f":"IF(COUNTRY_INFO!H20=1, IF($E20=1,$D20, 0),0)","v":0},{"$f":"IF(INTRO!$E$39<>\"Endemic\",0, IF(AND(COUNTRY_INFO!$I20=1,$F20<>0),IF(COUNTRY_INFO!M20>=(COUNTRY_INFO!F20+COUNTRY_INFO!G20),COUNTRY_INFO!F20+COUNTRY_INFO!G20,COUNTRY_INFO!$M20), 0))","v":0},0,0,0,0,0,0,null,0,0]
[{"$f":"IF(INTRO!$E$39=\"Non-endemic\",\" \",IF(COUNTRY_INFO!A21=0,\" \",COUNTRY_INFO!A21))","v":"Uganda"},{"$f":"IF(INTRO!$E$39=\"Non-endemic\",\" \",IF(COUNTRY_INFO!B21=0,\" \",COUNTRY_INFO!B21))","v":"CENTRAL"},{"$f":"IF(INTRO!$E$39=\"Non-endemic\",\" \",IF(COUNTRY_INFO!C21=0,\" \",COUNTRY_INFO!C21))","v":"KYOTERA"},{"$f":"IF(INTRO!$E$39=\"Non-endemic\",0,IF(INTRO!$E$39=\"Endemic but PC is not required\",IF(COUNTRY_INFO!$H21=1,COUNTRY_INFO!F21+COUNTRY_INFO!G21,0),IF(COUNTRY_INFO!$H21=1,COUNTRY_INFO!F21+COUNTRY_INFO!G21,IF(COUNTRY_INFO!$I21=1,IF(COUNTRY_INFO!M21>=(COUNTRY_INFO!F21+COUNTRY_INFO!G21),COUNTRY_INFO!F21+COUNTRY_INFO!G21,COUNTRY_INFO!$M21),0))))","v":0},{"$f":"IF(AND(INTRO!$E$39=\"Non-endemic\",INTRO!$E$37=\"Non-endemic\"),\"Not required\",IF(INTRO!$E$39=\"Non-endemic\",\"Treat with DEC\",COUNTRY_INFO!P21))","v":0},{"$f":"IF(INTRO!$E$39<>\"Non-endemic\",COUNTRY_INFO!Q21,\"Not required\")","v":0},{"$f":"IF(COUNTRY_INFO!H21=1, IF($E21=1,$D21, 0),0)","v":0},{"$f":"IF(INTRO!$E$39<>\"Endemic\",0, IF(AND(COUNTRY_INFO!$I21=1,$F21<>0),IF(COUNTRY_INFO!M21>=(COUNTRY_INFO!F21+COUNTRY_INFO!G21),COUNTRY_INFO!F21+COUNTRY_INFO!G21,COUNTRY_INFO!$M21), 0))","v":0},0,0,0,0,0,0,null,0,0]
[{"$f":"IF(INTRO!$E$39=\"Non-endemic\",\" \",IF(COUNTRY_INFO!A22=0,\" \",COUNTRY_INFO!A22))","v":"Uganda"},{"$f":"IF(INTRO!$E$39=\"Non-endemic\",\" \",IF(COUNTRY_INFO!B22=0,\" \",COUNTRY_INFO!B22))","v":"CENTRAL"},{"$f":"IF(INTRO!$E$39=\"Non-endemic\",\" \",IF(COUNTRY_INFO!C22=0,\" \",COUNTRY_INFO!C22))","v":"LUWERO"},{"$f":"IF(INTRO!$E$39=\"Non-endemic\",0,IF(INTRO!$E$39=\"Endemic but PC is not required\",IF(COUNTRY_INFO!$H22=1,COUNTRY_INFO!F22+COUNTRY_INFO!G22,0),IF(COUNTRY_INFO!$H22=1,COUNTRY_INFO!F22+COUNTRY_INFO!G22,IF(COUNTRY_INFO!$I22=1,IF(COUNTRY_INFO!M22>=(COUNTRY_INFO!F22+COUNTRY_INFO!G22),COUNTRY_INFO!F22+COUNTRY_INFO!G22,COUNTRY_INFO!$M22),0))))","v":0},{"$f":"IF(AND(INTRO!$E$39=\"Non-endemic\",INTRO!$E$37=\"Non-endemic\"),\"Not required\",IF(INTRO!$E$39=\"Non-endemic\",\"Treat with DEC\",COUNTRY_INFO!P22))","v":0},{"$f":"IF(INTRO!$E$39<>\"Non-endemic\",COUNTRY_INFO!Q22,\"Not required\")","v":0},{"$f":"IF(COUNTRY_INFO!H22=1, IF($E22=1,$D22, 0),0)","v":0},{"$f":"IF(INTRO!$E$39<>\"Endemic\",0, IF(AND(COUNTRY_INFO!$I22=1,$F22<>0),IF(COUNTRY_INFO!M22>=(COUNTRY_INFO!F22+COUNTRY_INFO!G22),COUNTRY_INFO!F22+COUNTRY_INFO!G22,COUNTRY_INFO!$M22), 0))","v":0},0,0,0,0,0,0,null,0,0]
[{"$f":"IF(INTRO!$E$39=\"Non-endemic\",\" \",IF(COUNTRY_INFO!A23=0,\" \",COUNTRY_INFO!A23))","v":"Uganda"},{"$f":"IF(INTRO!$E$39=\"Non-endemic\",\" \",IF(COUNTRY_INFO!B23=0,\" \",COUNTRY_INFO!B23))","v":"CENTRAL"},{"$f":"IF(INTRO!$E$39=\"Non-endemic\",\" \",IF(COUNTRY_INFO!C23=0,\" \",COUNTRY_INFO!C23))","v":"LWENGO"},{"$f":"IF(INTRO!$E$39=\"Non-endemic\",0,IF(INTRO!$E$39=\"Endemic but PC is not required\",IF(COUNTRY_INFO!$H23=1,COUNTRY_INFO!F23+COUNTRY_INFO!G23,0),IF(COUNTRY_INFO!$H23=1,COUNTRY_INFO!F23+COUNTRY_INFO!G23,IF(COUNTRY_INFO!$I23=1,IF(COUNTRY_INFO!M23>=(COUNTRY_INFO!F23+COUNTRY_INFO!G23),COUNTRY_INFO!F23+COUNTRY_INFO!G23,COUNTRY_INFO!$M23),0))))","v":0},{"$f":"IF(AND(INTRO!$E$39=\"Non-endemic\",INTRO!$E$37=\"Non-endemic\"),\"Not required\",IF(INTRO!$E$39=\"Non-endemic\",\"Treat with DEC\",COUNTRY_INFO!P23))","v":0},{"$f":"IF(INTRO!$E$39<>\"Non-endemic\",COUNTRY_INFO!Q23,\"Not required\")","v":0},{"$f":"IF(COUNTRY_INFO!H23=1, IF($E23=1,$D23, 0),0)","v":0},{"$f":"IF(INTRO!$E$39<>\"Endemic\",0, IF(AND(COUNTRY_INFO!$I23=1,$F23<>0),IF(COUNTRY_INFO!M23>=(COUNTRY_INFO!F23+COUNTRY_INFO!G23),COUNTRY_INFO!F23+COUNTRY_INFO!G23,COUNTRY_INFO!$M23), 0))","v":0},0,0,0,0,0,0,null,0,0]
[{"$f":"IF(INTRO!$E$39=\"Non-endemic\",\" \",IF(COUNTRY_INFO!A24=0,\" \",COUNTRY_INFO!A24))","v":"Uganda"},{"$f":"IF(INTRO!$E$39=\"Non-endemic\",\" \",IF(COUNTRY_INFO!B24=0,\" \",COUNTRY_INFO!B24))","v":"CENTRAL"},{"$f":"IF(INTRO!$E$39=\"Non-endemic\",\" \",IF(COUNTRY_INFO!C24=0,\" \",COUNTRY_INFO!C24))","v":"LYANTONDE"},{"$f":"IF(INTRO!$E$39=\"Non-endemic\",0,IF(INTRO!$E$39=\"Endemic but PC is not required\",IF(COUNTRY_INFO!$H24=1,COUNTRY_INFO!F24+COUNTRY_INFO!G24,0),IF(COUNTRY_INFO!$H24=1,COUNTRY_INFO!F24+COUNTRY_INFO!G24,IF(COUNTRY_INFO!$I24=1,IF(COUNTRY_INFO!M24>=(COUNTRY_INFO!F24+COUNTRY_INFO!G24),COUNTRY_INFO!F24+COUNTRY_INFO!G24,COUNTRY_INFO!$M24),0))))","v":0},{"$f":"IF(AND(INTRO!$E$39=\"Non-endemic\",INTRO!$E$37=\"Non-endemic\"),\"Not required\",IF(INTRO!$E$39=\"Non-endemic\",\"Treat with DEC\",COUNTRY_INFO!P24))","v":0},{"$f":"IF(INTRO!$E$39<>\"Non-endemic\",COUNTRY_INFO!Q24,\"Not required\")","v":0},{"$f":"IF(COUNTRY_INFO!H24=1, IF($E24=1,$D24, 0),0)","v":0},{"$f":"IF(INTRO!$E$39<>\"Endemic\",0, IF(AND(COUNTRY_INFO!$I24=1,$F24<>0),IF(COUNTRY_INFO!M24>=(COUNTRY_INFO!F24+COUNTRY_INFO!G24),COUNTRY_INFO!F24+COUNTRY_INFO!G24,COUNTRY_INFO!$M24), 0))","v":0},0,0,0,0,0,0,null,0,0]
[{"$f":"IF(INTRO!$E$39=\"Non-endemic\",\" \",IF(COUNTRY_INFO!A25=0,\" \",COUNTRY_INFO!A25))","v":"Uganda"},{"$f":"IF(INTRO!$E$39=\"Non-endemic\",\" \",IF(COUNTRY_INFO!B25=0,\" \",COUNTRY_INFO!B25))","v":"CENTRAL"},{"$f":"IF(INTRO!$E$39=\"Non-endemic\",\" \",IF(COUNTRY_INFO!C25=0,\" \",COUNTRY_INFO!C25))","v":"MASAKA"},{"$f":"IF(INTRO!$E$39=\"Non-endemic\",0,IF(INTRO!$E$39=\"Endemic but PC is not required\",IF(COUNTRY_INFO!$H25=1,COUNTRY_INFO!F25+COUNTRY_INFO!G25,0),IF(COUNTRY_INFO!$H25=1,COUNTRY_INFO!F25+COUNTRY_INFO!G25,IF(COUNTRY_INFO!$I25=1,IF(COUNTRY_INFO!M25>=(COUNTRY_INFO!F25+COUNTRY_INFO!G25),COUNTRY_INFO!F25+COUNTRY_INFO!G25,COUNTRY_INFO!$M25),0))))","v":0},{"$f":"IF(AND(INTRO!$E$39=\"Non-endemic\",INTRO!$E$37=\"Non-endemic\"),\"Not required\",IF(INTRO!$E$39=\"Non-endemic\",\"Treat with DEC\",COUNTRY_INFO!P25))","v":0},{"$f":"IF(INTRO!$E$39<>\"Non-endemic\",COUNTRY_INFO!Q25,\"Not required\")","v":0},{"$f":"IF(COUNTRY_INFO!H25=1, IF($E25=1,$D25, 0),0)","v":0},{"$f":"IF(INTRO!$E$39<>\"Endemic\",0, IF(AND(COUNTRY_INFO!$I25=1,$F25<>0),IF(COUNTRY_INFO!M25>=(COUNTRY_INFO!F25+COUNTRY_INFO!G25),COUNTRY_INFO!F25+COUNTRY_INFO!G25,COUNTRY_INFO!$M25), 0))","v":0},0,0,0,0,0,0,null,0,0]
[{"$f":"IF(INTRO!$E$39=\"Non-endemic\",\" \",IF(COUNTRY_INFO!A26=0,\" \",COUNTRY_INFO!A26))","v":"Uganda"},{"$f":"IF(INTRO!$E$39=\"Non-endemic\",\" \",IF(COUNTRY_INFO!B26=0,\" \",COUNTRY_INFO!B26))","v":"CENTRAL"},{"$f":"IF(INTRO!$E$39=\"Non-endemic\",\" \",IF(COUNTRY_INFO!C26=0,\" \",COUNTRY_INFO!C26))","v":"Masaka City"},{"$f":"IF(INTRO!$E$39=\"Non-endemic\",0,IF(INTRO!$E$39=\"Endemic but PC is not required\",IF(COUNTRY_INFO!$H26=1,COUNTRY_INFO!F26+COUNTRY_INFO!G26,0),IF(COUNTRY_INFO!$H26=1,COUNTRY_INFO!F26+COUNTRY_INFO!G26,IF(COUNTRY_INFO!$I26=1,IF(COUNTRY_INFO!M26>=(COUNTRY_INFO!F26+COUNTRY_INFO!G26),COUNTRY_INFO!F26+COUNTRY_INFO!G26,COUNTRY_INFO!$M26),0))))","v":0},{"$f":"IF(AND(INTRO!$E$39=\"Non-endemic\",INTRO!$E$37=\"Non-endemic\"),\"Not required\",IF(INTRO!$E$39=\"Non-endemic\",\"Treat with DEC\",COUNTRY_INFO!P26))","v":0},{"$f":"IF(INTRO!$E$39<>\"Non-endemic\",COUNTRY_INFO!Q26,\"Not required\")","v":0},{"$f":"IF(COUNTRY_INFO!H26=1, IF($E26=1,$D26, 0),0)","v":0},{"$f":"IF(INTRO!$E$39<>\"Endemic\",0, IF(AND(COUNTRY_INFO!$I26=1,$F26<>0),IF(COUNTRY_INFO!M26>=(COUNTRY_INFO!F26+COUNTRY_INFO!G26),COUNTRY_INFO!F26+COUNTRY_INFO!G26,COUNTRY_INFO!$M26), 0))","v":0},0,0,0,0,0,0,null,0,0]
[{"$f":"IF(INTRO!$E$39=\"Non-endemic\",\" \",IF(COUNTRY_INFO!A27=0,\" \",COUNTRY_INFO!A27))","v":"Uganda"},{"$f":"IF(INTRO!$E$39=\"Non-endemic\",\" \",IF(COUNTRY_INFO!B27=0,\" \",COUNTRY_INFO!B27))","v":"CENTRAL"},{"$f":"IF(INTRO!$E$39=\"Non-endemic\",\" \",IF(COUNTRY_INFO!C27=0,\" \",COUNTRY_INFO!C27))","v":"MITYANA"},{"$f":"IF(INTRO!$E$39=\"Non-endemic\",0,IF(INTRO!$E$39=\"Endemic but PC is not required\",IF(COUNTRY_INFO!$H27=1,COUNTRY_INFO!F27+COUNTRY_INFO!G27,0),IF(COUNTRY_INFO!$H27=1,COUNTRY_INFO!F27+COUNTRY_INFO!G27,IF(COUNTRY_INFO!$I27=1,IF(COUNTRY_INFO!M27>=(COUNTRY_INFO!F27+COUNTRY_INFO!G27),COUNTRY_INFO!F27+COUNTRY_INFO!G27,COUNTRY_INFO!$M27),0))))","v":0},{"$f":"IF(AND(INTRO!$E$39=\"Non-endemic\",INTRO!$E$37=\"Non-endemic\"),\"Not required\",IF(INTRO!$E$39=\"Non-endemic\",\"Treat with DEC\",COUNTRY_INFO!P27))","v":0},{"$f":"IF(INTRO!$E$39<>\"Non-endemic\",COUNTRY_INFO!Q27,\"Not required\")","v":0},{"$f":"IF(COUNTRY_INFO!H27=1, IF($E27=1,$D27, 0),0)","v":0},{"$f":"IF(INTRO!$E$39<>\"Endemic\",0, IF(AND(COUNTRY_INFO!$I27=1,$F27<>0),IF(COUNTRY_INFO!M27>=(COUNTRY_INFO!F27+COUNTRY_INFO!G27),COUNTRY_INFO!F27+COUNTRY_INFO!G27,COUNTRY_INFO!$M27), 0))","v":0},0,0,0,0,0,0,null,0,0]
[{"$f":"IF(INTRO!$E$39=\"Non-endemic\",\" \",IF(COUNTRY_INFO!A28=0,\" \",COUNTRY_INFO!A28))","v":"Uganda"},{"$f":"IF(INTRO!$E$39=\"Non-endemic\",\" \",IF(COUNTRY_INFO!B28=0,\" \",COUNTRY_INFO!B28))","v":"CENTRAL"},{"$f":"IF(INTRO!$E$39=\"Non-endemic\",\" \",IF(COUNTRY_INFO!C28=0,\" \",COUNTRY_INFO!C28))","v":"MPIGI"},{"$f":"IF(INTRO!$E$39=\"Non-endemic\",0,IF(INTRO!$E$39=\"Endemic but PC is not required\",IF(COUNTRY_INFO!$H28=1,COUNTRY_INFO!F28+COUNTRY_INFO!G28,0),IF(COUNTRY_INFO!$H28=1,COUNTRY_INFO!F28+COUNTRY_INFO!G28,IF(COUNTRY_INFO!$I28=1,IF(COUNTRY_INFO!M28>=(COUNTRY_INFO!F28+COUNTRY_INFO!G28),COUNTRY_INFO!F28+COUNTRY_INFO!G28,COUNTRY_INFO!$M28),0))))","v":0},{"$f":"IF(AND(INTRO!$E$39=\"Non-endemic\",INTRO!$E$37=\"Non-endemic\"),\"Not required\",IF(INTRO!$E$39=\"Non-endemic\",\"Treat with DEC\",COUNTRY_INFO!P28))","v":0},{"$f":"IF(INTRO!$E$39<>\"Non-endemic\",COUNTRY_INFO!Q28,\"Not required\")","v":0},{"$f":"IF(COUNTRY_INFO!H28=1, IF($E28=1,$D28, 0),0)","v":0},{"$f":"IF(INTRO!$E$39<>\"Endemic\",0, IF(AND(COUNTRY_INFO!$I28=1,$F28<>0),IF(COUNTRY_INFO!M28>=(COUNTRY_INFO!F28+COUNTRY_INFO!G28),COUNTRY_INFO!F28+COUNTRY_INFO!G28,COUNTRY_INFO!$M28), 0))","v":0},0,0,0,0,0,0,null,0,0]
[{"$f":"IF(INTRO!$E$39=\"Non-endemic\",\" \",IF(COUNTRY_INFO!A29=0,\" \",COUNTRY_INFO!A29))","v":"Uganda"},{"$f":"IF(INTRO!$E$39=\"Non-endemic\",\" \",IF(COUNTRY_INFO!B29=0,\" \",COUNTRY_INFO!B29))","v":"CENTRAL"},{"$f":"IF(INTRO!$E$39=\"Non-endemic\",\" \",IF(COUNTRY_INFO!C29=0,\" \",COUNTRY_INFO!C29))","v":"MUBENDE"},{"$f":"IF(INTRO!$E$39=\"Non-endemic\",0,IF(INTRO!$E$39=\"Endemic but PC is not required\",IF(COUNTRY_INFO!$H29=1,COUNTRY_INFO!F29+COUNTRY_INFO!G29,0),IF(COUNTRY_INFO!$H29=1,COUNTRY_INFO!F29+COUNTRY_INFO!G29,IF(COUNTRY_INFO!$I29=1,IF(COUNTRY_INFO!M29>=(COUNTRY_INFO!F29+COUNTRY_INFO!G29),COUNTRY_INFO!F29+COUNTRY_INFO!G29,COUNTRY_INFO!$M29),0))))","v":0},{"$f":"IF(AND(INTRO!$E$39=\"Non-endemic\",INTRO!$E$37=\"Non-endemic\"),\"Not required\",IF(INTRO!$E$39=\"Non-endemic\",\"Treat with DEC\",COUNTRY_INFO!P29))","v":0},{"$f":"IF(INTRO!$E$39<>\"Non-endemic\",COUNTRY_INFO!Q29,\"Not required\")","v":0},{"$f":"IF(COUNTRY_INFO!H29=1, IF($E29=1,$D29, 0),0)","v":0},{"$f":"IF(INTRO!$E$39<>\"Endemic\",0, IF(AND(COUNTRY_INFO!$I29=1,$F29<>0),IF(COUNTRY_INFO!M29>=(COUNTRY_INFO!F29+COUNTRY_INFO!G29),COUNTRY_INFO!F29+COUNTRY_INFO!G29,COUNTRY_INFO!$M29), 0))","v":0},0,0,0,0,0,0,null,0,0]
[{"$f":"IF(INTRO!$E$39=\"Non-endemic\",\" \",IF(COUNTRY_INFO!A30=0,\" \",COUNTRY_INFO!A30))","v":"Uganda"},{"$f":"IF(INTRO!$E$39=\"Non-endemic\",\" \",IF(COUNTRY_INFO!B30=0,\" \",COUNTRY_INFO!B30))","v":"CENTRAL"},{"$f":"IF(INTRO!$E$39=\"Non-endemic\",\" \",IF(COUNTRY_INFO!C30=0,\" \",COUNTRY_INFO!C30))","v":"MUKONO"},{"$f":"IF(INTRO!$E$39=\"Non-endemic\",0,IF(INTRO!$E$39=\"Endemic but PC is not required\",IF(COUNTRY_INFO!$H30=1,COUNTRY_INFO!F30+COUNTRY_INFO!G30,0),IF(COUNTRY_INFO!$H30=1,COUNTRY_INFO!F30+COUNTRY_INFO!G30,IF(COUNTRY_INFO!$I30=1,IF(COUNTRY_INFO!M30>=(COUNTRY_INFO!F30+COUNTRY_INFO!G30),COUNTRY_INFO!F30+COUNTRY_INFO!G30,COUNTRY_INFO!$M30),0))))","v":0},{"$f":"IF(AND(INTRO!$E$39=\"Non-endemic\",INTRO!$E$37=\"Non-endemic\"),\"Not required\",IF(INTRO!$E$39=\"Non-endemic\",\"Treat with DEC\",COUNTRY_INFO!P30))","v":0},{"$f":"IF(INTRO!$E$39<>\"Non-endemic\",COUNTRY_INFO!Q30,\"Not required\")","v":0},{"$f":"IF(COUNTRY_INFO!H30=1, IF($E30=1,$D30, 0),0)","v":0},{"$f":"IF(INTRO!$E$39<>\"Endemic\",0, IF(AND(COUNTRY_INFO!$I30=1,$F30<>0),IF(COUNTRY_INFO!M30>=(COUNTRY_INFO!F30+COUNTRY_INFO!G30),COUNTRY_INFO!F30+COUNTRY_INFO!G30,COUNTRY_INFO!$M30), 0))","v":0},0,0,0,0,0,0,null,0,0]
[{"$f":"IF(INTRO!$E$39=\"Non-endemic\",\" \",IF(COUNTRY_INFO!A31=0,\" \",COUNTRY_INFO!A31))","v":"Uganda"},{"$f":"IF(INTRO!$E$39=\"Non-endemic\",\" \",IF(COUNTRY_INFO!B31=0,\" \",COUNTRY_INFO!B31))","v":"CENTRAL"},{"$f":"IF(INTRO!$E$39=\"Non-endemic\",\" \",IF(COUNTRY_INFO!C31=0,\" \",COUNTRY_INFO!C31))","v":"NAKASEKE"},{"$f":"IF(INTRO!$E$39=\"Non-endemic\",0,IF(INTRO!$E$39=\"Endemic but PC is not required\",IF(COUNTRY_INFO!$H31=1,COUNTRY_INFO!F31+COUNTRY_INFO!G31,0),IF(COUNTRY_INFO!$H31=1,COUNTRY_INFO!F31+COUNTRY_INFO!G31,IF(COUNTRY_INFO!$I31=1,IF(COUNTRY_INFO!M31>=(COUNTRY_INFO!F31+COUNTRY_INFO!G31),COUNTRY_INFO!F31+COUNTRY_INFO!G31,COUNTRY_INFO!$M31),0))))","v":0},{"$f":"IF(AND(INTRO!$E$39=\"Non-endemic\",INTRO!$E$37=\"Non-endemic\"),\"Not required\",IF(INTRO!$E$39=\"Non-endemic\",\"Treat with DEC\",COUNTRY_INFO!P31))","v":0},{"$f":"IF(INTRO!$E$39<>\"Non-endemic\",COUNTRY_INFO!Q31,\"Not required\")","v":0},{"$f":"IF(COUNTRY_INFO!H31=1, IF($E31=1,$D31, 0),0)","v":0},{"$f":"IF(INTRO!$E$39<>\"Endemic\",0, IF(AND(COUNTRY_INFO!$I31=1,$F31<>0),IF(COUNTRY_INFO!M31>=(COUNTRY_INFO!F31+COUNTRY_INFO!G31),COUNTRY_INFO!F31+COUNTRY_INFO!G31,COUNTRY_INFO!$M31), 0))","v":0},0,0,0,0,0,0,null,0,0]
[{"$f":"IF(INTRO!$E$39=\"Non-endemic\",\" \",IF(COUNTRY_INFO!A32=0,\" \",COUNTRY_INFO!A32))","v":"Uganda"},{"$f":"IF(INTRO!$E$39=\"Non-endemic\",\" \",IF(COUNTRY_INFO!B32=0,\" \",COUNTRY_INFO!B32))","v":"CENTRAL"},{"$f":"IF(INTRO!$E$39=\"Non-endemic\",\" \",IF(COUNTRY_INFO!C32=0,\" \",COUNTRY_INFO!C32))","v":"NAKASONGOLA"},{"$f":"IF(INTRO!$E$39=\"Non-endemic\",0,IF(INTRO!$E$39=\"Endemic but PC is not required\",IF(COUNTRY_INFO!$H32=1,COUNTRY_INFO!F32+COUNTRY_INFO!G32,0),IF(COUNTRY_INFO!$H32=1,COUNTRY_INFO!F32+COUNTRY_INFO!G32,IF(COUNTRY_INFO!$I32=1,IF(COUNTRY_INFO!M32>=(COUNTRY_INFO!F32+COUNTRY_INFO!G32),COUNTRY_INFO!F32+COUNTRY_INFO!G32,COUNTRY_INFO!$M32),0))))","v":0},{"$f":"IF(AND(INTRO!$E$39=\"Non-endemic\",INTRO!$E$37=\"Non-endemic\"),\"Not required\",IF(INTRO!$E$39=\"Non-endemic\",\"Treat with DEC\",COUNTRY_INFO!P32))","v":0},{"$f":"IF(INTRO!$E$39<>\"Non-endemic\",COUNTRY_INFO!Q32,\"Not required\")","v":0},{"$f":"IF(COUNTRY_INFO!H32=1, IF($E32=1,$D32, 0),0)","v":0},{"$f":"IF(INTRO!$E$39<>\"Endemic\",0, IF(AND(COUNTRY_INFO!$I32=1,$F32<>0),IF(COUNTRY_INFO!M32>=(COUNTRY_INFO!F32+COUNTRY_INFO!G32),COUNTRY_INFO!F32+COUNTRY_INFO!G32,COUNTRY_INFO!$M32), 0))","v":0},0,0,0,0,0,0,null,0,0]
[{"$f":"IF(INTRO!$E$39=\"Non-endemic\",\" \",IF(COUNTRY_INFO!A33=0,\" \",COUNTRY_INFO!A33))","v":"Uganda"},{"$f":"IF(INTRO!$E$39=\"Non-endemic\",\" \",IF(COUNTRY_INFO!B33=0,\" \",COUNTRY_INFO!B33))","v":"CENTRAL"},{"$f":"IF(INTRO!$E$39=\"Non-endemic\",\" \",IF(COUNTRY_INFO!C33=0,\" \",COUNTRY_INFO!C33))","v":"RAKAI"},{"$f":"IF(INTRO!$E$39=\"Non-endemic\",0,IF(INTRO!$E$39=\"Endemic but PC is not required\",IF(COUNTRY_INFO!$H33=1,COUNTRY_INFO!F33+COUNTRY_INFO!G33,0),IF(COUNTRY_INFO!$H33=1,COUNTRY_INFO!F33+COUNTRY_INFO!G33,IF(COUNTRY_INFO!$I33=1,IF(COUNTRY_INFO!M33>=(COUNTRY_INFO!F33+COUNTRY_INFO!G33),COUNTRY_INFO!F33+COUNTRY_INFO!G33,COUNTRY_INFO!$M33),0))))","v":0},{"$f":"IF(AND(INTRO!$E$39=\"Non-endemic\",INTRO!$E$37=\"Non-endemic\"),\"Not required\",IF(INTRO!$E$39=\"Non-endemic\",\"Treat with DEC\",COUNTRY_INFO!P33))","v":0},{"$f":"IF(INTRO!$E$39<>\"Non-endemic\",COUNTRY_INFO!Q33,\"Not required\")","v":0},{"$f":"IF(COUNTRY_INFO!H33=1, IF($E33=1,$D33, 0),0)","v":0},{"$f":"IF(INTRO!$E$39<>\"Endemic\",0, IF(AND(COUNTRY_INFO!$I33=1,$F33<>0),IF(COUNTRY_INFO!M33>=(COUNTRY_INFO!F33+COUNTRY_INFO!G33),COUNTRY_INFO!F33+COUNTRY_INFO!G33,COUNTRY_INFO!$M33), 0))","v":0},0,0,0,0,0,0,null,0,0]
[{"$f":"IF(INTRO!$E$39=\"Non-endemic\",\" \",IF(COUNTRY_INFO!A34=0,\" \",COUNTRY_INFO!A34))","v":"Uganda"},{"$f":"IF(INTRO!$E$39=\"Non-endemic\",\" \",IF(COUNTRY_INFO!B34=0,\" \",COUNTRY_INFO!B34))","v":"CENTRAL"},{"$f":"IF(INTRO!$E$39=\"Non-endemic\",\" \",IF(COUNTRY_INFO!C34=0,\" \",COUNTRY_INFO!C34))","v":"SEMBABULE"},{"$f":"IF(INTRO!$E$39=\"Non-endemic\",0,IF(INTRO!$E$39=\"Endemic but PC is not required\",IF(COUNTRY_INFO!$H34=1,COUNTRY_INFO!F34+COUNTRY_INFO!G34,0),IF(COUNTRY_INFO!$H34=1,COUNTRY_INFO!F34+COUNTRY_INFO!G34,IF(COUNTRY_INFO!$I34=1,IF(COUNTRY_INFO!M34>=(COUNTRY_INFO!F34+COUNTRY_INFO!G34),COUNTRY_INFO!F34+COUNTRY_INFO!G34,COUNTRY_INFO!$M34),0))))","v":0},{"$f":"IF(AND(INTRO!$E$39=\"Non-endemic\",INTRO!$E$37=\"Non-endemic\"),\"Not required\",IF(INTRO!$E$39=\"Non-endemic\",\"Treat with DEC\",COUNTRY_INFO!P34))","v":0},{"$f":"IF(INTRO!$E$39<>\"Non-endemic\",COUNTRY_INFO!Q34,\"Not required\")","v":0},{"$f":"IF(COUNTRY_INFO!H34=1, IF($E34=1,$D34, 0),0)","v":0},{"$f":"IF(INTRO!$E$39<>\"Endemic\",0, IF(AND(COUNTRY_INFO!$I34=1,$F34<>0),IF(COUNTRY_INFO!M34>=(COUNTRY_INFO!F34+COUNTRY_INFO!G34),COUNTRY_INFO!F34+COUNTRY_INFO!G34,COUNTRY_INFO!$M34), 0))","v":0},0,0,0,0,0,0,null,0,0]
[{"$f":"IF(INTRO!$E$39=\"Non-endemic\",\" \",IF(COUNTRY_INFO!A35=0,\" \",COUNTRY_INFO!A35))","v":"Uganda"},{"$f":"IF(INTRO!$E$39=\"Non-endemic\",\" \",IF(COUNTRY_INFO!B35=0,\" \",COUNTRY_INFO!B35))","v":"CENTRAL"},{"$f":"IF(INTRO!$E$39=\"Non-endemic\",\" \",IF(COUNTRY_INFO!C35=0,\" \",COUNTRY_INFO!C35))","v":"WAKISO"},{"$f":"IF(INTRO!$E$39=\"Non-endemic\",0,IF(INTRO!$E$39=\"Endemic but PC is not required\",IF(COUNTRY_INFO!$H35=1,COUNTRY_INFO!F35+COUNTRY_INFO!G35,0),IF(COUNTRY_INFO!$H35=1,COUNTRY_INFO!F35+COUNTRY_INFO!G35,IF(COUNTRY_INFO!$I35=1,IF(COUNTRY_INFO!M35>=(COUNTRY_INFO!F35+COUNTRY_INFO!G35),COUNTRY_INFO!F35+COUNTRY_INFO!G35,COUNTRY_INFO!$M35),0))))","v":0},{"$f":"IF(AND(INTRO!$E$39=\"Non-endemic\",INTRO!$E$37=\"Non-endemic\"),\"Not required\",IF(INTRO!$E$39=\"Non-endemic\",\"Treat with DEC\",COUNTRY_INFO!P35))","v":0},{"$f":"IF(INTRO!$E$39<>\"Non-endemic\",COUNTRY_INFO!Q35,\"Not required\")","v":0},{"$f":"IF(COUNTRY_INFO!H35=1, IF($E35=1,$D35, 0),0)","v":0},{"$f":"IF(INTRO!$E$39<>\"Endemic\",0, IF(AND(COUNTRY_INFO!$I35=1,$F35<>0),IF(COUNTRY_INFO!M35>=(COUNTRY_INFO!F35+COUNTRY_INFO!G35),COUNTRY_INFO!F35+COUNTRY_INFO!G35,COUNTRY_INFO!$M35), 0))","v":0},0,0,0,0,0,0,null,0,0]
[{"$f":"IF(INTRO!$E$39=\"Non-endemic\",\" \",IF(COUNTRY_INFO!A36=0,\" \",COUNTRY_INFO!A36))","v":"Uganda"},{"$f":"IF(INTRO!$E$39=\"Non-endemic\",\" \",IF(COUNTRY_INFO!B36=0,\" \",COUNTRY_INFO!B36))","v":"EASTERN"},{"$f":"IF(INTRO!$E$39=\"Non-endemic\",\" \",IF(COUNTRY_INFO!C36=0,\" \",COUNTRY_INFO!C36))","v":"AMURIA"},{"$f":"IF(INTRO!$E$39=\"Non-endemic\",0,IF(INTRO!$E$39=\"Endemic but PC is not required\",IF(COUNTRY_INFO!$H36=1,COUNTRY_INFO!F36+COUNTRY_INFO!G36,0),IF(COUNTRY_INFO!$H36=1,COUNTRY_INFO!F36+COUNTRY_INFO!G36,IF(COUNTRY_INFO!$I36=1,IF(COUNTRY_INFO!M36>=(COUNTRY_INFO!F36+COUNTRY_INFO!G36),COUNTRY_INFO!F36+COUNTRY_INFO!G36,COUNTRY_INFO!$M36),0))))","v":0},{"$f":"IF(AND(INTRO!$E$39=\"Non-endemic\",INTRO!$E$37=\"Non-endemic\"),\"Not required\",IF(INTRO!$E$39=\"Non-endemic\",\"Treat with DEC\",COUNTRY_INFO!P36))","v":0},{"$f":"IF(INTRO!$E$39<>\"Non-endemic\",COUNTRY_INFO!Q36,\"Not required\")","v":0},{"$f":"IF(COUNTRY_INFO!H36=1, IF($E36=1,$D36, 0),0)","v":0},{"$f":"IF(INTRO!$E$39<>\"Endemic\",0, IF(AND(COUNTRY_INFO!$I36=1,$F36<>0),IF(COUNTRY_INFO!M36>=(COUNTRY_INFO!F36+COUNTRY_INFO!G36),COUNTRY_INFO!F36+COUNTRY_INFO!G36,COUNTRY_INFO!$M36), 0))","v":0},0,0,0,0,0,0,null,0,0]
[{"$f":"IF(INTRO!$E$39=\"Non-endemic\",\" \",IF(COUNTRY_INFO!A37=0,\" \",COUNTRY_INFO!A37))","v":"Uganda"},{"$f":"IF(INTRO!$E$39=\"Non-endemic\",\" \",IF(COUNTRY_INFO!B37=0,\" \",COUNTRY_INFO!B37))","v":"EASTERN"},{"$f":"IF(INTRO!$E$39=\"Non-endemic\",\" \",IF(COUNTRY_INFO!C37=0,\" \",COUNTRY_INFO!C37))","v":"BUDAKA"},{"$f":"IF(INTRO!$E$39=\"Non-endemic\",0,IF(INTRO!$E$39=\"Endemic but PC is not required\",IF(COUNTRY_INFO!$H37=1,COUNTRY_INFO!F37+COUNTRY_INFO!G37,0),IF(COUNTRY_INFO!$H37=1,COUNTRY_INFO!F37+COUNTRY_INFO!G37,IF(COUNTRY_INFO!$I37=1,IF(COUNTRY_INFO!M37>=(COUNTRY_INFO!F37+COUNTRY_INFO!G37),COUNTRY_INFO!F37+COUNTRY_INFO!G37,COUNTRY_INFO!$M37),0))))","v":0},{"$f":"IF(AND(INTRO!$E$39=\"Non-endemic\",INTRO!$E$37=\"Non-endemic\"),\"Not required\",IF(INTRO!$E$39=\"Non-endemic\",\"Treat with DEC\",COUNTRY_INFO!P37))","v":0},{"$f":"IF(INTRO!$E$39<>\"Non-endemic\",COUNTRY_INFO!Q37,\"Not required\")","v":0},{"$f":"IF(COUNTRY_INFO!H37=1, IF($E37=1,$D37, 0),0)","v":0},{"$f":"IF(INTRO!$E$39<>\"Endemic\",0, IF(AND(COUNTRY_INFO!$I37=1,$F37<>0),IF(COUNTRY_INFO!M37>=(COUNTRY_INFO!F37+COUNTRY_INFO!G37),COUNTRY_INFO!F37+COUNTRY_INFO!G37,COUNTRY_INFO!$M37), 0))","v":0},0,0,0,0,0,0,null,0,0]
[{"$f":"IF(INTRO!$E$39=\"Non-endemic\",\" \",IF(COUNTRY_INFO!A38=0,\" \",COUNTRY_INFO!A38))","v":"Uganda"},{"$f":"IF(INTRO!$E$39=\"Non-endemic\",\" \",IF(COUNTRY_INFO!B38=0,\" \",COUNTRY_INFO!B38))","v":"EASTERN"},{"$f":"IF(INTRO!$E$39=\"Non-endemic\",\" \",IF(COUNTRY_INFO!C38=0,\" \",COUNTRY_INFO!C38))","v":"BUDUDA"},{"$f":"IF(INTRO!$E$39=\"Non-endemic\",0,IF(INTRO!$E$39=\"Endemic but PC is not required\",IF(COUNTRY_INFO!$H38=1,COUNTRY_INFO!F38+COUNTRY_INFO!G38,0),IF(COUNTRY_INFO!$H38=1,COUNTRY_INFO!F38+COUNTRY_INFO!G38,IF(COUNTRY_INFO!$I38=1,IF(COUNTRY_INFO!M38>=(COUNTRY_INFO!F38+COUNTRY_INFO!G38),COUNTRY_INFO!F38+COUNTRY_INFO!G38,COUNTRY_INFO!$M38),0))))","v":0},{"$f":"IF(AND(INTRO!$E$39=\"Non-endemic\",INTRO!$E$37=\"Non-endemic\"),\"Not required\",IF(INTRO!$E$39=\"Non-endemic\",\"Treat with DEC\",COUNTRY_INFO!P38))","v":0},{"$f":"IF(INTRO!$E$39<>\"Non-endemic\",COUNTRY_INFO!Q38,\"Not required\")","v":0},{"$f":"IF(COUNTRY_INFO!H38=1, IF($E38=1,$D38, 0),0)","v":0},{"$f":"IF(INTRO!$E$39<>\"Endemic\",0, IF(AND(COUNTRY_INFO!$I38=1,$F38<>0),IF(COUNTRY_INFO!M38>=(COUNTRY_INFO!F38+COUNTRY_INFO!G38),COUNTRY_INFO!F38+COUNTRY_INFO!G38,COUNTRY_INFO!$M38), 0))","v":0},0,0,0,0,0,0,null,0,0]
[{"$f":"IF(INTRO!$E$39=\"Non-endemic\",\" \",IF(COUNTRY_INFO!A39=0,\" \",COUNTRY_INFO!A39))","v":"Uganda"},{"$f":"IF(INTRO!$E$39=\"Non-endemic\",\" \",IF(COUNTRY_INFO!B39=0,\" \",COUNTRY_INFO!B39))","v":"EASTERN"},{"$f":"IF(INTRO!$E$39=\"Non-endemic\",\" \",IF(COUNTRY_INFO!C39=0,\" \",COUNTRY_INFO!C39))","v":"BUGIRI"},{"$f":"IF(INTRO!$E$39=\"Non-endemic\",0,IF(INTRO!$E$39=\"Endemic but PC is not required\",IF(COUNTRY_INFO!$H39=1,COUNTRY_INFO!F39+COUNTRY_INFO!G39,0),IF(COUNTRY_INFO!$H39=1,COUNTRY_INFO!F39+COUNTRY_INFO!G39,IF(COUNTRY_INFO!$I39=1,IF(COUNTRY_INFO!M39>=(COUNTRY_INFO!F39+COUNTRY_INFO!G39),COUNTRY_INFO!F39+COUNTRY_INFO!G39,COUNTRY_INFO!$M39),0))))","v":0},{"$f":"IF(AND(INTRO!$E$39=\"Non-endemic\",INTRO!$E$37=\"Non-endemic\"),\"Not required\",IF(INTRO!$E$39=\"Non-endemic\",\"Treat with DEC\",COUNTRY_INFO!P39))","v":0},{"$f":"IF(INTRO!$E$39<>\"Non-endemic\",COUNTRY_INFO!Q39,\"Not required\")","v":0},{"$f":"IF(COUNTRY_INFO!H39=1, IF($E39=1,$D39, 0),0)","v":0},{"$f":"IF(INTRO!$E$39<>\"Endemic\",0, IF(AND(COUNTRY_INFO!$I39=1,$F39<>0),IF(COUNTRY_INFO!M39>=(COUNTRY_INFO!F39+COUNTRY_INFO!G39),COUNTRY_INFO!F39+COUNTRY_INFO!G39,COUNTRY_INFO!$M39), 0))","v":0},0,0,0,0,0,0,null,0,0]
[{"$f":"IF(INTRO!$E$39=\"Non-endemic\",\" \",IF(COUNTRY_INFO!A40=0,\" \",COUNTRY_INFO!A40))","v":"Uganda"},{"$f":"IF(INTRO!$E$39=\"Non-endemic\",\" \",IF(COUNTRY_INFO!B40=0,\" \",COUNTRY_INFO!B40))","v":"EASTERN"},{"$f":"IF(INTRO!$E$39=\"Non-endemic\",\" \",IF(COUNTRY_INFO!C40=0,\" \",COUNTRY_INFO!C40))","v":"BUGWERI"},{"$f":"IF(INTRO!$E$39=\"Non-endemic\",0,IF(INTRO!$E$39=\"Endemic but PC is not required\",IF(COUNTRY_INFO!$H40=1,COUNTRY_INFO!F40+COUNTRY_INFO!G40,0),IF(COUNTRY_INFO!$H40=1,COUNTRY_INFO!F40+COUNTRY_INFO!G40,IF(COUNTRY_INFO!$I40=1,IF(COUNTRY_INFO!M40>=(COUNTRY_INFO!F40+COUNTRY_INFO!G40),COUNTRY_INFO!F40+COUNTRY_INFO!G40,COUNTRY_INFO!$M40),0))))","v":0},{"$f":"IF(AND(INTRO!$E$39=\"Non-endemic\",INTRO!$E$37=\"Non-endemic\"),\"Not required\",IF(INTRO!$E$39=\"Non-endemic\",\"Treat with DEC\",COUNTRY_INFO!P40))","v":0},{"$f":"IF(INTRO!$E$39<>\"Non-endemic\",COUNTRY_INFO!Q40,\"Not required\")","v":0},{"$f":"IF(COUNTRY_INFO!H40=1, IF($E40=1,$D40, 0),0)","v":0},{"$f":"IF(INTRO!$E$39<>\"Endemic\",0, IF(AND(COUNTRY_INFO!$I40=1,$F40<>0),IF(COUNTRY_INFO!M40>=(COUNTRY_INFO!F40+COUNTRY_INFO!G40),COUNTRY_INFO!F40+COUNTRY_INFO!G40,COUNTRY_INFO!$M40), 0))","v":0},0,0,0,0,0,0,null,0,0]
[{"$f":"IF(INTRO!$E$39=\"Non-endemic\",\" \",IF(COUNTRY_INFO!A41=0,\" \",COUNTRY_INFO!A41))","v":"Uganda"},{"$f":"IF(INTRO!$E$39=\"Non-endemic\",\" \",IF(COUNTRY_INFO!B41=0,\" \",COUNTRY_INFO!B41))","v":"EASTERN"},{"$f":"IF(INTRO!$E$39=\"Non-endemic\",\" \",IF(COUNTRY_INFO!C41=0,\" \",COUNTRY_INFO!C41))","v":"BUKEDEA"},{"$f":"IF(INTRO!$E$39=\"Non-endemic\",0,IF(INTRO!$E$39=\"Endemic but PC is not required\",IF(COUNTRY_INFO!$H41=1,COUNTRY_INFO!F41+COUNTRY_INFO!G41,0),IF(COUNTRY_INFO!$H41=1,COUNTRY_INFO!F41+COUNTRY_INFO!G41,IF(COUNTRY_INFO!$I41=1,IF(COUNTRY_INFO!M41>=(COUNTRY_INFO!F41+COUNTRY_INFO!G41),COUNTRY_INFO!F41+COUNTRY_INFO!G41,COUNTRY_INFO!$M41),0))))","v":0},{"$f":"IF(AND(INTRO!$E$39=\"Non-endemic\",INTRO!$E$37=\"Non-endemic\"),\"Not required\",IF(INTRO!$E$39=\"Non-endemic\",\"Treat with DEC\",COUNTRY_INFO!P41))","v":0},{"$f":"IF(INTRO!$E$39<>\"Non-endemic\",COUNTRY_INFO!Q41,\"Not required\")","v":0},{"$f":"IF(COUNTRY_INFO!H41=1, IF($E41=1,$D41, 0),0)","v":0},{"$f":"IF(INTRO!$E$39<>\"Endemic\",0, IF(AND(COUNTRY_INFO!$I41=1,$F41<>0),IF(COUNTRY_INFO!M41>=(COUNTRY_INFO!F41+COUNTRY_INFO!G41),COUNTRY_INFO!F41+COUNTRY_INFO!G41,COUNTRY_INFO!$M41), 0))","v":0},0,0,0,0,0,0,null,0,0]
[{"$f":"IF(INTRO!$E$39=\"Non-endemic\",\" \",IF(COUNTRY_INFO!A42=0,\" \",COUNTRY_INFO!A42))","v":"Uganda"},{"$f":"IF(INTRO!$E$39=\"Non-endemic\",\" \",IF(COUNTRY_INFO!B42=0,\" \",COUNTRY_INFO!B42))","v":"EASTERN"},{"$f":"IF(INTRO!$E$39=\"Non-endemic\",\" \",IF(COUNTRY_INFO!C42=0,\" \",COUNTRY_INFO!C42))","v":"BUKWO"},{"$f":"IF(INTRO!$E$39=\"Non-endemic\",0,IF(INTRO!$E$39=\"Endemic but PC is not required\",IF(COUNTRY_INFO!$H42=1,COUNTRY_INFO!F42+COUNTRY_INFO!G42,0),IF(COUNTRY_INFO!$H42=1,COUNTRY_INFO!F42+COUNTRY_INFO!G42,IF(COUNTRY_INFO!$I42=1,IF(COUNTRY_INFO!M42>=(COUNTRY_INFO!F42+COUNTRY_INFO!G42),COUNTRY_INFO!F42+COUNTRY_INFO!G42,COUNTRY_INFO!$M42),0))))","v":0},{"$f":"IF(AND(INTRO!$E$39=\"Non-endemic\",INTRO!$E$37=\"Non-endemic\"),\"Not required\",IF(INTRO!$E$39=\"Non-endemic\",\"Treat with DEC\",COUNTRY_INFO!P42))","v":0},{"$f":"IF(INTRO!$E$39<>\"Non-endemic\",COUNTRY_INFO!Q42,\"Not required\")","v":0},{"$f":"IF(COUNTRY_INFO!H42=1, IF($E42=1,$D42, 0),0)","v":0},{"$f":"IF(INTRO!$E$39<>\"Endemic\",0, IF(AND(COUNTRY_INFO!$I42=1,$F42<>0),IF(COUNTRY_INFO!M42>=(COUNTRY_INFO!F42+COUNTRY_INFO!G42),COUNTRY_INFO!F42+COUNTRY_INFO!G42,COUNTRY_INFO!$M42), 0))","v":0},0,0,0,0,0,0,null,0,0]
[{"$f":"IF(INTRO!$E$39=\"Non-endemic\",\" \",IF(COUNTRY_INFO!A43=0,\" \",COUNTRY_INFO!A43))","v":"Uganda"},{"$f":"IF(INTRO!$E$39=\"Non-endemic\",\" \",IF(COUNTRY_INFO!B43=0,\" \",COUNTRY_INFO!B43))","v":"EASTERN"},{"$f":"IF(INTRO!$E$39=\"Non-endemic\",\" \",IF(COUNTRY_INFO!C43=0,\" \",COUNTRY_INFO!C43))","v":"BULAMBULI"},{"$f":"IF(INTRO!$E$39=\"Non-endemic\",0,IF(INTRO!$E$39=\"Endemic but PC is not required\",IF(COUNTRY_INFO!$H43=1,COUNTRY_INFO!F43+COUNTRY_INFO!G43,0),IF(COUNTRY_INFO!$H43=1,COUNTRY_INFO!F43+COUNTRY_INFO!G43,IF(COUNTRY_INFO!$I43=1,IF(COUNTRY_INFO!M43>=(COUNTRY_INFO!F43+COUNTRY_INFO!G43),COUNTRY_INFO!F43+COUNTRY_INFO!G43,COUNTRY_INFO!$M43),0))))","v":0},{"$f":"IF(AND(INTRO!$E$39=\"Non-endemic\",INTRO!$E$37=\"Non-endemic\"),\"Not required\",IF(INTRO!$E$39=\"Non-endemic\",\"Treat with DEC\",COUNTRY_INFO!P43))","v":0},{"$f":"IF(INTRO!$E$39<>\"Non-endemic\",COUNTRY_INFO!Q43,\"Not required\")","v":0},{"$f":"IF(COUNTRY_INFO!H43=1, IF($E43=1,$D43, 0),0)","v":0},{"$f":"IF(INTRO!$E$39<>\"Endemic\",0, IF(AND(COUNTRY_INFO!$I43=1,$F43<>0),IF(COUNTRY_INFO!M43>=(COUNTRY_INFO!F43+COUNTRY_INFO!G43),COUNTRY_INFO!F43+COUNTRY_INFO!G43,COUNTRY_INFO!$M43), 0))","v":0},0,0,0,0,0,0,null,0,0]
[{"$f":"IF(INTRO!$E$39=\"Non-endemic\",\" \",IF(COUNTRY_INFO!A44=0,\" \",COUNTRY_INFO!A44))","v":"Uganda"},{"$f":"IF(INTRO!$E$39=\"Non-endemic\",\" \",IF(COUNTRY_INFO!B44=0,\" \",COUNTRY_INFO!B44))","v":"EASTERN"},{"$f":"IF(INTRO!$E$39=\"Non-endemic\",\" \",IF(COUNTRY_INFO!C44=0,\" \",COUNTRY_INFO!C44))","v":"BUSIA"},{"$f":"IF(INTRO!$E$39=\"Non-endemic\",0,IF(INTRO!$E$39=\"Endemic but PC is not required\",IF(COUNTRY_INFO!$H44=1,COUNTRY_INFO!F44+COUNTRY_INFO!G44,0),IF(COUNTRY_INFO!$H44=1,COUNTRY_INFO!F44+COUNTRY_INFO!G44,IF(COUNTRY_INFO!$I44=1,IF(COUNTRY_INFO!M44>=(COUNTRY_INFO!F44+COUNTRY_INFO!G44),COUNTRY_INFO!F44+COUNTRY_INFO!G44,COUNTRY_INFO!$M44),0))))","v":0},{"$f":"IF(AND(INTRO!$E$39=\"Non-endemic\",INTRO!$E$37=\"Non-endemic\"),\"Not required\",IF(INTRO!$E$39=\"Non-endemic\",\"Treat with DEC\",COUNTRY_INFO!P44))","v":0},{"$f":"IF(INTRO!$E$39<>\"Non-endemic\",COUNTRY_INFO!Q44,\"Not required\")","v":0},{"$f":"IF(COUNTRY_INFO!H44=1, IF($E44=1,$D44, 0),0)","v":0},{"$f":"IF(INTRO!$E$39<>\"Endemic\",0, IF(AND(COUNTRY_INFO!$I44=1,$F44<>0),IF(COUNTRY_INFO!M44>=(COUNTRY_INFO!F44+COUNTRY_INFO!G44),COUNTRY_INFO!F44+COUNTRY_INFO!G44,COUNTRY_INFO!$M44), 0))","v":0},0,0,0,0,0,0,null,0,0]
[{"$f":"IF(INTRO!$E$39=\"Non-endemic\",\" \",IF(COUNTRY_INFO!A45=0,\" \",COUNTRY_INFO!A45))","v":"Uganda"},{"$f":"IF(INTRO!$E$39=\"Non-endemic\",\" \",IF(COUNTRY_INFO!B45=0,\" \",COUNTRY_INFO!B45))","v":"EASTERN"},{"$f":"IF(INTRO!$E$39=\"Non-endemic\",\" \",IF(COUNTRY_INFO!C45=0,\" \",COUNTRY_INFO!C45))","v":"BUTALEJA"},{"$f":"IF(INTRO!$E$39=\"Non-endemic\",0,IF(INTRO!$E$39=\"Endemic but PC is not required\",IF(COUNTRY_INFO!$H45=1,COUNTRY_INFO!F45+COUNTRY_INFO!G45,0),IF(COUNTRY_INFO!$H45=1,COUNTRY_INFO!F45+COUNTRY_INFO!G45,IF(COUNTRY_INFO!$I45=1,IF(COUNTRY_INFO!M45>=(COUNTRY_INFO!F45+COUNTRY_INFO!G45),COUNTRY_INFO!F45+COUNTRY_INFO!G45,COUNTRY_INFO!$M45),0))))","v":0},{"$f":"IF(AND(INTRO!$E$39=\"Non-endemic\",INTRO!$E$37=\"Non-endemic\"),\"Not required\",IF(INTRO!$E$39=\"Non-endemic\",\"Treat with DEC\",COUNTRY_INFO!P45))","v":0},{"$f":"IF(INTRO!$E$39<>\"Non-endemic\",COUNTRY_INFO!Q45,\"Not required\")","v":0},{"$f":"IF(COUNTRY_INFO!H45=1, IF($E45=1,$D45, 0),0)","v":0},{"$f":"IF(INTRO!$E$39<>\"Endemic\",0, IF(AND(COUNTRY_INFO!$I45=1,$F45<>0),IF(COUNTRY_INFO!M45>=(COUNTRY_INFO!F45+COUNTRY_INFO!G45),COUNTRY_INFO!F45+COUNTRY_INFO!G45,COUNTRY_INFO!$M45), 0))","v":0},0,0,0,0,0,0,null,0,0]
[{"$f":"IF(INTRO!$E$39=\"Non-endemic\",\" \",IF(COUNTRY_INFO!A46=0,\" \",COUNTRY_INFO!A46))","v":"Uganda"},{"$f":"IF(INTRO!$E$39=\"Non-endemic\",\" \",IF(COUNTRY_INFO!B46=0,\" \",COUNTRY_INFO!B46))","v":"EASTERN"},{"$f":"IF(INTRO!$E$39=\"Non-endemic\",\" \",IF(COUNTRY_INFO!C46=0,\" \",COUNTRY_INFO!C46))","v":"BUTEBO"},{"$f":"IF(INTRO!$E$39=\"Non-endemic\",0,IF(INTRO!$E$39=\"Endemic but PC is not required\",IF(COUNTRY_INFO!$H46=1,COUNTRY_INFO!F46+COUNTRY_INFO!G46,0),IF(COUNTRY_INFO!$H46=1,COUNTRY_INFO!F46+COUNTRY_INFO!G46,IF(COUNTRY_INFO!$I46=1,IF(COUNTRY_INFO!M46>=(COUNTRY_INFO!F46+COUNTRY_INFO!G46),COUNTRY_INFO!F46+COUNTRY_INFO!G46,COUNTRY_INFO!$M46),0))))","v":0},{"$f":"IF(AND(INTRO!$E$39=\"Non-endemic\",INTRO!$E$37=\"Non-endemic\"),\"Not required\",IF(INTRO!$E$39=\"Non-endemic\",\"Treat with DEC\",COUNTRY_INFO!P46))","v":0},{"$f":"IF(INTRO!$E$39<>\"Non-endemic\",COUNTRY_INFO!Q46,\"Not required\")","v":0},{"$f":"IF(COUNTRY_INFO!H46=1, IF($E46=1,$D46, 0),0)","v":0},{"$f":"IF(INTRO!$E$39<>\"Endemic\",0, IF(AND(COUNTRY_INFO!$I46=1,$F46<>0),IF(COUNTRY_INFO!M46>=(COUNTRY_INFO!F46+COUNTRY_INFO!G46),COUNTRY_INFO!F46+COUNTRY_INFO!G46,COUNTRY_INFO!$M46), 0))","v":0},0,0,0,0,0,0,null,0,0]
[{"$f":"IF(INTRO!$E$39=\"Non-endemic\",\" \",IF(COUNTRY_INFO!A47=0,\" \",COUNTRY_INFO!A47))","v":"Uganda"},{"$f":"IF(INTRO!$E$39=\"Non-endemic\",\" \",IF(COUNTRY_INFO!B47=0,\" \",COUNTRY_INFO!B47))","v":"EASTERN"},{"$f":"IF(INTRO!$E$39=\"Non-endemic\",\" \",IF(COUNTRY_INFO!C47=0,\" \",COUNTRY_INFO!C47))","v":"BUYENDE"},{"$f":"IF(INTRO!$E$39=\"Non-endemic\",0,IF(INTRO!$E$39=\"Endemic but PC is not required\",IF(COUNTRY_INFO!$H47=1,COUNTRY_INFO!F47+COUNTRY_INFO!G47,0),IF(COUNTRY_INFO!$H47=1,COUNTRY_INFO!F47+COUNTRY_INFO!G47,IF(COUNTRY_INFO!$I47=1,IF(COUNTRY_INFO!M47>=(COUNTRY_INFO!F47+COUNTRY_INFO!G47),COUNTRY_INFO!F47+COUNTRY_INFO!G47,COUNTRY_INFO!$M47),0))))","v":0},{"$f":"IF(AND(INTRO!$E$39=\"Non-endemic\",INTRO!$E$37=\"Non-endemic\"),\"Not required\",IF(INTRO!$E$39=\"Non-endemic\",\"Treat with DEC\",COUNTRY_INFO!P47))","v":0},{"$f":"IF(INTRO!$E$39<>\"Non-endemic\",COUNTRY_INFO!Q47,\"Not required\")","v":0},{"$f":"IF(COUNTRY_INFO!H47=1, IF($E47=1,$D47, 0),0)","v":0},{"$f":"IF(INTRO!$E$39<>\"Endemic\",0, IF(AND(COUNTRY_INFO!$I47=1,$F47<>0),IF(COUNTRY_INFO!M47>=(COUNTRY_INFO!F47+COUNTRY_INFO!G47),COUNTRY_INFO!F47+COUNTRY_INFO!G47,COUNTRY_INFO!$M47), 0))","v":0},0,0,0,0,0,0,null,0,0]
[{"$f":"IF(INTRO!$E$39=\"Non-endemic\",\" \",IF(COUNTRY_INFO!A48=0,\" \",COUNTRY_INFO!A48))","v":"Uganda"},{"$f":"IF(INTRO!$E$39=\"Non-endemic\",\" \",IF(COUNTRY_INFO!B48=0,\" \",COUNTRY_INFO!B48))","v":"EASTERN"},{"$f":"IF(INTRO!$E$39=\"Non-endemic\",\" \",IF(COUNTRY_INFO!C48=0,\" \",COUNTRY_INFO!C48))","v":"IGANGA"},{"$f":"IF(INTRO!$E$39=\"Non-endemic\",0,IF(INTRO!$E$39=\"Endemic but PC is not required\",IF(COUNTRY_INFO!$H48=1,COUNTRY_INFO!F48+COUNTRY_INFO!G48,0),IF(COUNTRY_INFO!$H48=1,COUNTRY_INFO!F48+COUNTRY_INFO!G48,IF(COUNTRY_INFO!$I48=1,IF(COUNTRY_INFO!M48>=(COUNTRY_INFO!F48+COUNTRY_INFO!G48),COUNTRY_INFO!F48+COUNTRY_INFO!G48,COUNTRY_INFO!$M48),0))))","v":0},{"$f":"IF(AND(INTRO!$E$39=\"Non-endemic\",INTRO!$E$37=\"Non-endemic\"),\"Not required\",IF(INTRO!$E$39=\"Non-endemic\",\"Treat with DEC\",COUNTRY_INFO!P48))","v":0},{"$f":"IF(INTRO!$E$39<>\"Non-endemic\",COUNTRY_INFO!Q48,\"Not required\")","v":0},{"$f":"IF(COUNTRY_INFO!H48=1, IF($E48=1,$D48, 0),0)","v":0},{"$f":"IF(INTRO!$E$39<>\"Endemic\",0, IF(AND(COUNTRY_INFO!$I48=1,$F48<>0),IF(COUNTRY_INFO!M48>=(COUNTRY_INFO!F48+COUNTRY_INFO!G48),COUNTRY_INFO!F48+COUNTRY_INFO!G48,COUNTRY_INFO!$M48), 0))","v":0},0,0,0,0,0,0,null,0,0]
[{"$f":"IF(INTRO!$E$39=\"Non-endemic\",\" \",IF(COUNTRY_INFO!A49=0,\" \",COUNTRY_INFO!A49))","v":"Uganda"},{"$f":"IF(INTRO!$E$39=\"Non-endemic\",\" \",IF(COUNTRY_INFO!B49=0,\" \",COUNTRY_INFO!B49))","v":"EASTERN"},{"$f":"IF(INTRO!$E$39=\"Non-endemic\",\" \",IF(COUNTRY_INFO!C49=0,\" \",COUNTRY_INFO!C49))","v":"JINJA"},{"$f":"IF(INTRO!$E$39=\"Non-endemic\",0,IF(INTRO!$E$39=\"Endemic but PC is not required\",IF(COUNTRY_INFO!$H49=1,COUNTRY_INFO!F49+COUNTRY_INFO!G49,0),IF(COUNTRY_INFO!$H49=1,COUNTRY_INFO!F49+COUNTRY_INFO!G49,IF(COUNTRY_INFO!$I49=1,IF(COUNTRY_INFO!M49>=(COUNTRY_INFO!F49+COUNTRY_INFO!G49),COUNTRY_INFO!F49+COUNTRY_INFO!G49,COUNTRY_INFO!$M49),0))))","v":0},{"$f":"IF(AND(INTRO!$E$39=\"Non-endemic\",INTRO!$E$37=\"Non-endemic\"),\"Not required\",IF(INTRO!$E$39=\"Non-endemic\",\"Treat with DEC\",COUNTRY_INFO!P49))","v":0},{"$f":"IF(INTRO!$E$39<>\"Non-endemic\",COUNTRY_INFO!Q49,\"Not required\")","v":0},{"$f":"IF(COUNTRY_INFO!H49=1, IF($E49=1,$D49, 0),0)","v":0},{"$f":"IF(INTRO!$E$39<>\"Endemic\",0, IF(AND(COUNTRY_INFO!$I49=1,$F49<>0),IF(COUNTRY_INFO!M49>=(COUNTRY_INFO!F49+COUNTRY_INFO!G49),COUNTRY_INFO!F49+COUNTRY_INFO!G49,COUNTRY_INFO!$M49), 0))","v":0},0,0,0,0,0,0,null,0,0]
[{"$f":"IF(INTRO!$E$39=\"Non-endemic\",\" \",IF(COUNTRY_INFO!A50=0,\" \",COUNTRY_INFO!A50))","v":"Uganda"},{"$f":"IF(INTRO!$E$39=\"Non-endemic\",\" \",IF(COUNTRY_INFO!B50=0,\" \",COUNTRY_INFO!B50))","v":"EASTERN"},{"$f":"IF(INTRO!$E$39=\"Non-endemic\",\" \",IF(COUNTRY_INFO!C50=0,\" \",COUNTRY_INFO!C50))","v":"Jinja City"},{"$f":"IF(INTRO!$E$39=\"Non-endemic\",0,IF(INTRO!$E$39=\"Endemic but PC is not required\",IF(COUNTRY_INFO!$H50=1,COUNTRY_INFO!F50+COUNTRY_INFO!G50,0),IF(COUNTRY_INFO!$H50=1,COUNTRY_INFO!F50+COUNTRY_INFO!G50,IF(COUNTRY_INFO!$I50=1,IF(COUNTRY_INFO!M50>=(COUNTRY_INFO!F50+COUNTRY_INFO!G50),COUNTRY_INFO!F50+COUNTRY_INFO!G50,COUNTRY_INFO!$M50),0))))","v":0},{"$f":"IF(AND(INTRO!$E$39=\"Non-endemic\",INTRO!$E$37=\"Non-endemic\"),\"Not required\",IF(INTRO!$E$39=\"Non-endemic\",\"Treat with DEC\",COUNTRY_INFO!P50))","v":0},{"$f":"IF(INTRO!$E$39<>\"Non-endemic\",COUNTRY_INFO!Q50,\"Not required\")","v":0},{"$f":"IF(COUNTRY_INFO!H50=1, IF($E50=1,$D50, 0),0)","v":0},{"$f":"IF(INTRO!$E$39<>\"Endemic\",0, IF(AND(COUNTRY_INFO!$I50=1,$F50<>0),IF(COUNTRY_INFO!M50>=(COUNTRY_INFO!F50+COUNTRY_INFO!G50),COUNTRY_INFO!F50+COUNTRY_INFO!G50,COUNTRY_INFO!$M50), 0))","v":0},0,0,0,0,0,0,null,0,0]
[{"$f":"IF(INTRO!$E$39=\"Non-endemic\",\" \",IF(COUNTRY_INFO!A51=0,\" \",COUNTRY_INFO!A51))","v":"Uganda"},{"$f":"IF(INTRO!$E$39=\"Non-endemic\",\" \",IF(COUNTRY_INFO!B51=0,\" \",COUNTRY_INFO!B51))","v":"EASTERN"},{"$f":"IF(INTRO!$E$39=\"Non-endemic\",\" \",IF(COUNTRY_INFO!C51=0,\" \",COUNTRY_INFO!C51))","v":"KABERAMAIDO"},{"$f":"IF(INTRO!$E$39=\"Non-endemic\",0,IF(INTRO!$E$39=\"Endemic but PC is not required\",IF(COUNTRY_INFO!$H51=1,COUNTRY_INFO!F51+COUNTRY_INFO!G51,0),IF(COUNTRY_INFO!$H51=1,COUNTRY_INFO!F51+COUNTRY_INFO!G51,IF(COUNTRY_INFO!$I51=1,IF(COUNTRY_INFO!M51>=(COUNTRY_INFO!F51+COUNTRY_INFO!G51),COUNTRY_INFO!F51+COUNTRY_INFO!G51,COUNTRY_INFO!$M51),0))))","v":0},{"$f":"IF(AND(INTRO!$E$39=\"Non-endemic\",INTRO!$E$37=\"Non-endemic\"),\"Not required\",IF(INTRO!$E$39=\"Non-endemic\",\"Treat with DEC\",COUNTRY_INFO!P51))","v":0},{"$f":"IF(INTRO!$E$39<>\"Non-endemic\",COUNTRY_INFO!Q51,\"Not required\")","v":0},{"$f":"IF(COUNTRY_INFO!H51=1, IF($E51=1,$D51, 0),0)","v":0},{"$f":"IF(INTRO!$E$39<>\"Endemic\",0, IF(AND(COUNTRY_INFO!$I51=1,$F51<>0),IF(COUNTRY_INFO!M51>=(COUNTRY_INFO!F51+COUNTRY_INFO!G51),COUNTRY_INFO!F51+COUNTRY_INFO!G51,COUNTRY_INFO!$M51), 0))","v":0},0,0,0,0,0,0,null,0,0]
[{"$f":"IF(INTRO!$E$39=\"Non-endemic\",\" \",IF(COUNTRY_INFO!A52=0,\" \",COUNTRY_INFO!A52))","v":"Uganda"},{"$f":"IF(INTRO!$E$39=\"Non-endemic\",\" \",IF(COUNTRY_INFO!B52=0,\" \",COUNTRY_INFO!B52))","v":"EASTERN"},{"$f":"IF(INTRO!$E$39=\"Non-endemic\",\" \",IF(COUNTRY_INFO!C52=0,\" \",COUNTRY_INFO!C52))","v":"KALAKI"},{"$f":"IF(INTRO!$E$39=\"Non-endemic\",0,IF(INTRO!$E$39=\"Endemic but PC is not required\",IF(COUNTRY_INFO!$H52=1,COUNTRY_INFO!F52+COUNTRY_INFO!G52,0),IF(COUNTRY_INFO!$H52=1,COUNTRY_INFO!F52+COUNTRY_INFO!G52,IF(COUNTRY_INFO!$I52=1,IF(COUNTRY_INFO!M52>=(COUNTRY_INFO!F52+COUNTRY_INFO!G52),COUNTRY_INFO!F52+COUNTRY_INFO!G52,COUNTRY_INFO!$M52),0))))","v":0},{"$f":"IF(AND(INTRO!$E$39=\"Non-endemic\",INTRO!$E$37=\"Non-endemic\"),\"Not required\",IF(INTRO!$E$39=\"Non-endemic\",\"Treat with DEC\",COUNTRY_INFO!P52))","v":0},{"$f":"IF(INTRO!$E$39<>\"Non-endemic\",COUNTRY_INFO!Q52,\"Not required\")","v":0},{"$f":"IF(COUNTRY_INFO!H52=1, IF($E52=1,$D52, 0),0)","v":0},{"$f":"IF(INTRO!$E$39<>\"Endemic\",0, IF(AND(COUNTRY_INFO!$I52=1,$F52<>0),IF(COUNTRY_INFO!M52>=(COUNTRY_INFO!F52+COUNTRY_INFO!G52),COUNTRY_INFO!F52+COUNTRY_INFO!G52,COUNTRY_INFO!$M52), 0))","v":0},0,0,0,0,0,0,null,0,0]
[{"$f":"IF(INTRO!$E$39=\"Non-endemic\",\" \",IF(COUNTRY_INFO!A53=0,\" \",COUNTRY_INFO!A53))","v":"Uganda"},{"$f":"IF(INTRO!$E$39=\"Non-endemic\",\" \",IF(COUNTRY_INFO!B53=0,\" \",COUNTRY_INFO!B53))","v":"EASTERN"},{"$f":"IF(INTRO!$E$39=\"Non-endemic\",\" \",IF(COUNTRY_INFO!C53=0,\" \",COUNTRY_INFO!C53))","v":"KALIRO"},{"$f":"IF(INTRO!$E$39=\"Non-endemic\",0,IF(INTRO!$E$39=\"Endemic but PC is not required\",IF(COUNTRY_INFO!$H53=1,COUNTRY_INFO!F53+COUNTRY_INFO!G53,0),IF(COUNTRY_INFO!$H53=1,COUNTRY_INFO!F53+COUNTRY_INFO!G53,IF(COUNTRY_INFO!$I53=1,IF(COUNTRY_INFO!M53>=(COUNTRY_INFO!F53+COUNTRY_INFO!G53),COUNTRY_INFO!F53+COUNTRY_INFO!G53,COUNTRY_INFO!$M53),0))))","v":0},{"$f":"IF(AND(INTRO!$E$39=\"Non-endemic\",INTRO!$E$37=\"Non-endemic\"),\"Not required\",IF(INTRO!$E$39=\"Non-endemic\",\"Treat with DEC\",COUNTRY_INFO!P53))","v":0},{"$f":"IF(INTRO!$E$39<>\"Non-endemic\",COUNTRY_INFO!Q53,\"Not required\")","v":0},{"$f":"IF(COUNTRY_INFO!H53=1, IF($E53=1,$D53, 0),0)","v":0},{"$f":"IF(INTRO!$E$39<>\"Endemic\",0, IF(AND(COUNTRY_INFO!$I53=1,$F53<>0),IF(COUNTRY_INFO!M53>=(COUNTRY_INFO!F53+COUNTRY_INFO!G53),COUNTRY_INFO!F53+COUNTRY_INFO!G53,COUNTRY_INFO!$M53), 0))","v":0},0,0,0,0,0,0,null,0,0]
[{"$f":"IF(INTRO!$E$39=\"Non-endemic\",\" \",IF(COUNTRY_INFO!A54=0,\" \",COUNTRY_INFO!A54))","v":"Uganda"},{"$f":"IF(INTRO!$E$39=\"Non-endemic\",\" \",IF(COUNTRY_INFO!B54=0,\" \",COUNTRY_INFO!B54))","v":"EASTERN"},{"$f":"IF(INTRO!$E$39=\"Non-endemic\",\" \",IF(COUNTRY_INFO!C54=0,\" \",COUNTRY_INFO!C54))","v":"KAMULI"},{"$f":"IF(INTRO!$E$39=\"Non-endemic\",0,IF(INTRO!$E$39=\"Endemic but PC is not required\",IF(COUNTRY_INFO!$H54=1,COUNTRY_INFO!F54+COUNTRY_INFO!G54,0),IF(COUNTRY_INFO!$H54=1,COUNTRY_INFO!F54+COUNTRY_INFO!G54,IF(COUNTRY_INFO!$I54=1,IF(COUNTRY_INFO!M54>=(COUNTRY_INFO!F54+COUNTRY_INFO!G54),COUNTRY_INFO!F54+COUNTRY_INFO!G54,COUNTRY_INFO!$M54),0))))","v":0},{"$f":"IF(AND(INTRO!$E$39=\"Non-endemic\",INTRO!$E$37=\"Non-endemic\"),\"Not required\",IF(INTRO!$E$39=\"Non-endemic\",\"Treat with DEC\",COUNTRY_INFO!P54))","v":0},{"$f":"IF(INTRO!$E$39<>\"Non-endemic\",COUNTRY_INFO!Q54,\"Not required\")","v":0},{"$f":"IF(COUNTRY_INFO!H54=1, IF($E54=1,$D54, 0),0)","v":0},{"$f":"IF(INTRO!$E$39<>\"Endemic\",0, IF(AND(COUNTRY_INFO!$I54=1,$F54<>0),IF(COUNTRY_INFO!M54>=(COUNTRY_INFO!F54+COUNTRY_INFO!G54),COUNTRY_INFO!F54+COUNTRY_INFO!G54,COUNTRY_INFO!$M54), 0))","v":0},0,0,0,0,0,0,null,0,0]
[{"$f":"IF(INTRO!$E$39=\"Non-endemic\",\" \",IF(COUNTRY_INFO!A55=0,\" \",COUNTRY_INFO!A55))","v":"Uganda"},{"$f":"IF(INTRO!$E$39=\"Non-endemic\",\" \",IF(COUNTRY_INFO!B55=0,\" \",COUNTRY_INFO!B55))","v":"EASTERN"},{"$f":"IF(INTRO!$E$39=\"Non-endemic\",\" \",IF(COUNTRY_INFO!C55=0,\" \",COUNTRY_INFO!C55))","v":"KAPCHORWA"},{"$f":"IF(INTRO!$E$39=\"Non-endemic\",0,IF(INTRO!$E$39=\"Endemic but PC is not required\",IF(COUNTRY_INFO!$H55=1,COUNTRY_INFO!F55+COUNTRY_INFO!G55,0),IF(COUNTRY_INFO!$H55=1,COUNTRY_INFO!F55+COUNTRY_INFO!G55,IF(COUNTRY_INFO!$I55=1,IF(COUNTRY_INFO!M55>=(COUNTRY_INFO!F55+COUNTRY_INFO!G55),COUNTRY_INFO!F55+COUNTRY_INFO!G55,COUNTRY_INFO!$M55),0))))","v":0},{"$f":"IF(AND(INTRO!$E$39=\"Non-endemic\",INTRO!$E$37=\"Non-endemic\"),\"Not required\",IF(INTRO!$E$39=\"Non-endemic\",\"Treat with DEC\",COUNTRY_INFO!P55))","v":0},{"$f":"IF(INTRO!$E$39<>\"Non-endemic\",COUNTRY_INFO!Q55,\"Not required\")","v":0},{"$f":"IF(COUNTRY_INFO!H55=1, IF($E55=1,$D55, 0),0)","v":0},{"$f":"IF(INTRO!$E$39<>\"Endemic\",0, IF(AND(COUNTRY_INFO!$I55=1,$F55<>0),IF(COUNTRY_INFO!M55>=(COUNTRY_INFO!F55+COUNTRY_INFO!G55),COUNTRY_INFO!F55+COUNTRY_INFO!G55,COUNTRY_INFO!$M55), 0))","v":0},0,0,0,0,0,0,null,0,0]
[{"$f":"IF(INTRO!$E$39=\"Non-endemic\",\" \",IF(COUNTRY_INFO!A56=0,\" \",COUNTRY_INFO!A56))","v":"Uganda"},{"$f":"IF(INTRO!$E$39=\"Non-endemic\",\" \",IF(COUNTRY_INFO!B56=0,\" \",COUNTRY_INFO!B56))","v":"EASTERN"},{"$f":"IF(INTRO!$E$39=\"Non-endemic\",\" \",IF(COUNTRY_INFO!C56=0,\" \",COUNTRY_INFO!C56))","v":"KAPELEBYONG"},{"$f":"IF(INTRO!$E$39=\"Non-endemic\",0,IF(INTRO!$E$39=\"Endemic but PC is not required\",IF(COUNTRY_INFO!$H56=1,COUNTRY_INFO!F56+COUNTRY_INFO!G56,0),IF(COUNTRY_INFO!$H56=1,COUNTRY_INFO!F56+COUNTRY_INFO!G56,IF(COUNTRY_INFO!$I56=1,IF(COUNTRY_INFO!M56>=(COUNTRY_INFO!F56+COUNTRY_INFO!G56),COUNTRY_INFO!F56+COUNTRY_INFO!G56,COUNTRY_INFO!$M56),0))))","v":0},{"$f":"IF(AND(INTRO!$E$39=\"Non-endemic\",INTRO!$E$37=\"Non-endemic\"),\"Not required\",IF(INTRO!$E$39=\"Non-endemic\",\"Treat with DEC\",COUNTRY_INFO!P56))","v":0},{"$f":"IF(INTRO!$E$39<>\"Non-endemic\",COUNTRY_INFO!Q56,\"Not required\")","v":0},{"$f":"IF(COUNTRY_INFO!H56=1, IF($E56=1,$D56, 0),0)","v":0},{"$f":"IF(INTRO!$E$39<>\"Endemic\",0, IF(AND(COUNTRY_INFO!$I56=1,$F56<>0),IF(COUNTRY_INFO!M56>=(COUNTRY_INFO!F56+COUNTRY_INFO!G56),COUNTRY_INFO!F56+COUNTRY_INFO!G56,COUNTRY_INFO!$M56), 0))","v":0},0,0,0,0,0,0,null,0,0]
[{"$f":"IF(INTRO!$E$39=\"Non-endemic\",\" \",IF(COUNTRY_INFO!A57=0,\" \",COUNTRY_INFO!A57))","v":"Uganda"},{"$f":"IF(INTRO!$E$39=\"Non-endemic\",\" \",IF(COUNTRY_INFO!B57=0,\" \",COUNTRY_INFO!B57))","v":"EASTERN"},{"$f":"IF(INTRO!$E$39=\"Non-endemic\",\" \",IF(COUNTRY_INFO!C57=0,\" \",COUNTRY_INFO!C57))","v":"KATAKWI"},{"$f":"IF(INTRO!$E$39=\"Non-endemic\",0,IF(INTRO!$E$39=\"Endemic but PC is not required\",IF(COUNTRY_INFO!$H57=1,COUNTRY_INFO!F57+COUNTRY_INFO!G57,0),IF(COUNTRY_INFO!$H57=1,COUNTRY_INFO!F57+COUNTRY_INFO!G57,IF(COUNTRY_INFO!$I57=1,IF(COUNTRY_INFO!M57>=(COUNTRY_INFO!F57+COUNTRY_INFO!G57),COUNTRY_INFO!F57+COUNTRY_INFO!G57,COUNTRY_INFO!$M57),0))))","v":0},{"$f":"IF(AND(INTRO!$E$39=\"Non-endemic\",INTRO!$E$37=\"Non-endemic\"),\"Not required\",IF(INTRO!$E$39=\"Non-endemic\",\"Treat with DEC\",COUNTRY_INFO!P57))","v":0},{"$f":"IF(INTRO!$E$39<>\"Non-endemic\",COUNTRY_INFO!Q57,\"Not required\")","v":0},{"$f":"IF(COUNTRY_INFO!H57=1, IF($E57=1,$D57, 0),0)","v":0},{"$f":"IF(INTRO!$E$39<>\"Endemic\",0, IF(AND(COUNTRY_INFO!$I57=1,$F57<>0),IF(COUNTRY_INFO!M57>=(COUNTRY_INFO!F57+COUNTRY_INFO!G57),COUNTRY_INFO!F57+COUNTRY_INFO!G57,COUNTRY_INFO!$M57), 0))","v":0},0,0,0,0,0,0,null,0,0]
[{"$f":"IF(INTRO!$E$39=\"Non-endemic\",\" \",IF(COUNTRY_INFO!A58=0,\" \",COUNTRY_INFO!A58))","v":"Uganda"},{"$f":"IF(INTRO!$E$39=\"Non-endemic\",\" \",IF(COUNTRY_INFO!B58=0,\" \",COUNTRY_INFO!B58))","v":"EASTERN"},{"$f":"IF(INTRO!$E$39=\"Non-endemic\",\" \",IF(COUNTRY_INFO!C58=0,\" \",COUNTRY_INFO!C58))","v":"KIBUKU"},{"$f":"IF(INTRO!$E$39=\"Non-endemic\",0,IF(INTRO!$E$39=\"Endemic but PC is not required\",IF(COUNTRY_INFO!$H58=1,COUNTRY_INFO!F58+COUNTRY_INFO!G58,0),IF(COUNTRY_INFO!$H58=1,COUNTRY_INFO!F58+COUNTRY_INFO!G58,IF(COUNTRY_INFO!$I58=1,IF(COUNTRY_INFO!M58>=(COUNTRY_INFO!F58+COUNTRY_INFO!G58),COUNTRY_INFO!F58+COUNTRY_INFO!G58,COUNTRY_INFO!$M58),0))))","v":0},{"$f":"IF(AND(INTRO!$E$39=\"Non-endemic\",INTRO!$E$37=\"Non-endemic\"),\"Not required\",IF(INTRO!$E$39=\"Non-endemic\",\"Treat with DEC\",COUNTRY_INFO!P58))","v":0},{"$f":"IF(INTRO!$E$39<>\"Non-endemic\",COUNTRY_INFO!Q58,\"Not required\")","v":0},{"$f":"IF(COUNTRY_INFO!H58=1, IF($E58=1,$D58, 0),0)","v":0},{"$f":"IF(INTRO!$E$39<>\"Endemic\",0, IF(AND(COUNTRY_INFO!$I58=1,$F58<>0),IF(COUNTRY_INFO!M58>=(COUNTRY_INFO!F58+COUNTRY_INFO!G58),COUNTRY_INFO!F58+COUNTRY_INFO!G58,COUNTRY_INFO!$M58), 0))","v":0},0,0,0,0,0,0,null,0,0]
[{"$f":"IF(INTRO!$E$39=\"Non-endemic\",\" \",IF(COUNTRY_INFO!A59=0,\" \",COUNTRY_INFO!A59))","v":"Uganda"},{"$f":"IF(INTRO!$E$39=\"Non-endemic\",\" \",IF(COUNTRY_INFO!B59=0,\" \",COUNTRY_INFO!B59))","v":"EASTERN"},{"$f":"IF(INTRO!$E$39=\"Non-endemic\",\" \",IF(COUNTRY_INFO!C59=0,\" \",COUNTRY_INFO!C59))","v":"KUMI"},{"$f":"IF(INTRO!$E$39=\"Non-endemic\",0,IF(INTRO!$E$39=\"Endemic but PC is not required\",IF(COUNTRY_INFO!$H59=1,COUNTRY_INFO!F59+COUNTRY_INFO!G59,0),IF(COUNTRY_INFO!$H59=1,COUNTRY_INFO!F59+COUNTRY_INFO!G59,IF(COUNTRY_INFO!$I59=1,IF(COUNTRY_INFO!M59>=(COUNTRY_INFO!F59+COUNTRY_INFO!G59),COUNTRY_INFO!F59+COUNTRY_INFO!G59,COUNTRY_INFO!$M59),0))))","v":0},{"$f":"IF(AND(INTRO!$E$39=\"Non-endemic\",INTRO!$E$37=\"Non-endemic\"),\"Not required\",IF(INTRO!$E$39=\"Non-endemic\",\"Treat with DEC\",COUNTRY_INFO!P59))","v":0},{"$f":"IF(INTRO!$E$39<>\"Non-endemic\",COUNTRY_INFO!Q59,\"Not required\")","v":0},{"$f":"IF(COUNTRY_INFO!H59=1, IF($E59=1,$D59, 0),0)","v":0},{"$f":"IF(INTRO!$E$39<>\"Endemic\",0, IF(AND(COUNTRY_INFO!$I59=1,$F59<>0),IF(COUNTRY_INFO!M59>=(COUNTRY_INFO!F59+COUNTRY_INFO!G59),COUNTRY_INFO!F59+COUNTRY_INFO!G59,COUNTRY_INFO!$M59), 0))","v":0},0,0,0,0,0,0,null,0,0]
[{"$f":"IF(INTRO!$E$39=\"Non-endemic\",\" \",IF(COUNTRY_INFO!A60=0,\" \",COUNTRY_INFO!A60))","v":"Uganda"},{"$f":"IF(INTRO!$E$39=\"Non-endemic\",\" \",IF(COUNTRY_INFO!B60=0,\" \",COUNTRY_INFO!B60))","v":"EASTERN"},{"$f":"IF(INTRO!$E$39=\"Non-endemic\",\" \",IF(COUNTRY_INFO!C60=0,\" \",COUNTRY_INFO!C60))","v":"KWEEN"},{"$f":"IF(INTRO!$E$39=\"Non-endemic\",0,IF(INTRO!$E$39=\"Endemic but PC is not required\",IF(COUNTRY_INFO!$H60=1,COUNTRY_INFO!F60+COUNTRY_INFO!G60,0),IF(COUNTRY_INFO!$H60=1,COUNTRY_INFO!F60+COUNTRY_INFO!G60,IF(COUNTRY_INFO!$I60=1,IF(COUNTRY_INFO!M60>=(COUNTRY_INFO!F60+COUNTRY_INFO!G60),COUNTRY_INFO!F60+COUNTRY_INFO!G60,COUNTRY_INFO!$M60),0))))","v":0},{"$f":"IF(AND(INTRO!$E$39=\"Non-endemic\",INTRO!$E$37=\"Non-endemic\"),\"Not required\",IF(INTRO!$E$39=\"Non-endemic\",\"Treat with DEC\",COUNTRY_INFO!P60))","v":0},{"$f":"IF(INTRO!$E$39<>\"Non-endemic\",COUNTRY_INFO!Q60,\"Not required\")","v":0},{"$f":"IF(COUNTRY_INFO!H60=1, IF($E60=1,$D60, 0),0)","v":0},{"$f":"IF(INTRO!$E$39<>\"Endemic\",0, IF(AND(COUNTRY_INFO!$I60=1,$F60<>0),IF(COUNTRY_INFO!M60>=(COUNTRY_INFO!F60+COUNTRY_INFO!G60),COUNTRY_INFO!F60+COUNTRY_INFO!G60,COUNTRY_INFO!$M60), 0))","v":0},0,0,0,0,0,0,null,0,0]
[{"$f":"IF(INTRO!$E$39=\"Non-endemic\",\" \",IF(COUNTRY_INFO!A61=0,\" \",COUNTRY_INFO!A61))","v":"Uganda"},{"$f":"IF(INTRO!$E$39=\"Non-endemic\",\" \",IF(COUNTRY_INFO!B61=0,\" \",COUNTRY_INFO!B61))","v":"EASTERN"},{"$f":"IF(INTRO!$E$39=\"Non-endemic\",\" \",IF(COUNTRY_INFO!C61=0,\" \",COUNTRY_INFO!C61))","v":"LUUKA"},{"$f":"IF(INTRO!$E$39=\"Non-endemic\",0,IF(INTRO!$E$39=\"Endemic but PC is not required\",IF(COUNTRY_INFO!$H61=1,COUNTRY_INFO!F61+COUNTRY_INFO!G61,0),IF(COUNTRY_INFO!$H61=1,COUNTRY_INFO!F61+COUNTRY_INFO!G61,IF(COUNTRY_INFO!$I61=1,IF(COUNTRY_INFO!M61>=(COUNTRY_INFO!F61+COUNTRY_INFO!G61),COUNTRY_INFO!F61+COUNTRY_INFO!G61,COUNTRY_INFO!$M61),0))))","v":0},{"$f":"IF(AND(INTRO!$E$39=\"Non-endemic\",INTRO!$E$37=\"Non-endemic\"),\"Not required\",IF(INTRO!$E$39=\"Non-endemic\",\"Treat with DEC\",COUNTRY_INFO!P61))","v":0},{"$f":"IF(INTRO!$E$39<>\"Non-endemic\",COUNTRY_INFO!Q61,\"Not required\")","v":0},{"$f":"IF(COUNTRY_INFO!H61=1, IF($E61=1,$D61, 0),0)","v":0},{"$f":"IF(INTRO!$E$39<>\"Endemic\",0, IF(AND(COUNTRY_INFO!$I61=1,$F61<>0),IF(COUNTRY_INFO!M61>=(COUNTRY_INFO!F61+COUNTRY_INFO!G61),COUNTRY_INFO!F61+COUNTRY_INFO!G61,COUNTRY_INFO!$M61), 0))","v":0},0,0,0,0,0,0,null,0,0]
[{"$f":"IF(INTRO!$E$39=\"Non-endemic\",\" \",IF(COUNTRY_INFO!A62=0,\" \",COUNTRY_INFO!A62))","v":"Uganda"},{"$f":"IF(INTRO!$E$39=\"Non-endemic\",\" \",IF(COUNTRY_INFO!B62=0,\" \",COUNTRY_INFO!B62))","v":"EASTERN"},{"$f":"IF(INTRO!$E$39=\"Non-endemic\",\" \",IF(COUNTRY_INFO!C62=0,\" \",COUNTRY_INFO!C62))","v":"MANAFWA"},{"$f":"IF(INTRO!$E$39=\"Non-endemic\",0,IF(INTRO!$E$39=\"Endemic but PC is not required\",IF(COUNTRY_INFO!$H62=1,COUNTRY_INFO!F62+COUNTRY_INFO!G62,0),IF(COUNTRY_INFO!$H62=1,COUNTRY_INFO!F62+COUNTRY_INFO!G62,IF(COUNTRY_INFO!$I62=1,IF(COUNTRY_INFO!M62>=(COUNTRY_INFO!F62+COUNTRY_INFO!G62),COUNTRY_INFO!F62+COUNTRY_INFO!G62,COUNTRY_INFO!$M62),0))))","v":0},{"$f":"IF(AND(INTRO!$E$39=\"Non-endemic\",INTRO!$E$37=\"Non-endemic\"),\"Not required\",IF(INTRO!$E$39=\"Non-endemic\",\"Treat with DEC\",COUNTRY_INFO!P62))","v":0},{"$f":"IF(INTRO!$E$39<>\"Non-endemic\",COUNTRY_INFO!Q62,\"Not required\")","v":0},{"$f":"IF(COUNTRY_INFO!H62=1, IF($E62=1,$D62, 0),0)","v":0},{"$f":"IF(INTRO!$E$39<>\"Endemic\",0, IF(AND(COUNTRY_INFO!$I62=1,$F62<>0),IF(COUNTRY_INFO!M62>=(COUNTRY_INFO!F62+COUNTRY_INFO!G62),COUNTRY_INFO!F62+COUNTRY_INFO!G62,COUNTRY_INFO!$M62), 0))","v":0},0,0,0,0,0,0,null,0,0]
[{"$f":"IF(INTRO!$E$39=\"Non-endemic\",\" \",IF(COUNTRY_INFO!A63=0,\" \",COUNTRY_INFO!A63))","v":"Uganda"},{"$f":"IF(INTRO!$E$39=\"Non-endemic\",\" \",IF(COUNTRY_INFO!B63=0,\" \",COUNTRY_INFO!B63))","v":"EASTERN"},{"$f":"IF(INTRO!$E$39=\"Non-endemic\",\" \",IF(COUNTRY_INFO!C63=0,\" \",COUNTRY_INFO!C63))","v":"MAYUGE"},{"$f":"IF(INTRO!$E$39=\"Non-endemic\",0,IF(INTRO!$E$39=\"Endemic but PC is not required\",IF(COUNTRY_INFO!$H63=1,COUNTRY_INFO!F63+COUNTRY_INFO!G63,0),IF(COUNTRY_INFO!$H63=1,COUNTRY_INFO!F63+COUNTRY_INFO!G63,IF(COUNTRY_INFO!$I63=1,IF(COUNTRY_INFO!M63>=(COUNTRY_INFO!F63+COUNTRY_INFO!G63),COUNTRY_INFO!F63+COUNTRY_INFO!G63,COUNTRY_INFO!$M63),0))))","v":0},{"$f":"IF(AND(INTRO!$E$39=\"Non-endemic\",INTRO!$E$37=\"Non-endemic\"),\"Not required\",IF(INTRO!$E$39=\"Non-endemic\",\"Treat with DEC\",COUNTRY_INFO!P63))","v":0},{"$f":"IF(INTRO!$E$39<>\"Non-endemic\",COUNTRY_INFO!Q63,\"Not required\")","v":0},{"$f":"IF(COUNTRY_INFO!H63=1, IF($E63=1,$D63, 0),0)","v":0},{"$f":"IF(INTRO!$E$39<>\"Endemic\",0, IF(AND(COUNTRY_INFO!$I63=1,$F63<>0),IF(COUNTRY_INFO!M63>=(COUNTRY_INFO!F63+COUNTRY_INFO!G63),COUNTRY_INFO!F63+COUNTRY_INFO!G63,COUNTRY_INFO!$M63), 0))","v":0},0,0,0,0,0,0,null,0,0]
[{"$f":"IF(INTRO!$E$39=\"Non-endemic\",\" \",IF(COUNTRY_INFO!A64=0,\" \",COUNTRY_INFO!A64))","v":"Uganda"},{"$f":"IF(INTRO!$E$39=\"Non-endemic\",\" \",IF(COUNTRY_INFO!B64=0,\" \",COUNTRY_INFO!B64))","v":"EASTERN"},{"$f":"IF(INTRO!$E$39=\"Non-endemic\",\" \",IF(COUNTRY_INFO!C64=0,\" \",COUNTRY_INFO!C64))","v":"MBALE"},{"$f":"IF(INTRO!$E$39=\"Non-endemic\",0,IF(INTRO!$E$39=\"Endemic but PC is not required\",IF(COUNTRY_INFO!$H64=1,COUNTRY_INFO!F64+COUNTRY_INFO!G64,0),IF(COUNTRY_INFO!$H64=1,COUNTRY_INFO!F64+COUNTRY_INFO!G64,IF(COUNTRY_INFO!$I64=1,IF(COUNTRY_INFO!M64>=(COUNTRY_INFO!F64+COUNTRY_INFO!G64),COUNTRY_INFO!F64+COUNTRY_INFO!G64,COUNTRY_INFO!$M64),0))))","v":0},{"$f":"IF(AND(INTRO!$E$39=\"Non-endemic\",INTRO!$E$37=\"Non-endemic\"),\"Not required\",IF(INTRO!$E$39=\"Non-endemic\",\"Treat with DEC\",COUNTRY_INFO!P64))","v":0},{"$f":"IF(INTRO!$E$39<>\"Non-endemic\",COUNTRY_INFO!Q64,\"Not required\")","v":0},{"$f":"IF(COUNTRY_INFO!H64=1, IF($E64=1,$D64, 0),0)","v":0},{"$f":"IF(INTRO!$E$39<>\"Endemic\",0, IF(AND(COUNTRY_INFO!$I64=1,$F64<>0),IF(COUNTRY_INFO!M64>=(COUNTRY_INFO!F64+COUNTRY_INFO!G64),COUNTRY_INFO!F64+COUNTRY_INFO!G64,COUNTRY_INFO!$M64), 0))","v":0},0,0,0,0,0,0,null,0,0]
[{"$f":"IF(INTRO!$E$39=\"Non-endemic\",\" \",IF(COUNTRY_INFO!A65=0,\" \",COUNTRY_INFO!A65))","v":"Uganda"},{"$f":"IF(INTRO!$E$39=\"Non-endemic\",\" \",IF(COUNTRY_INFO!B65=0,\" \",COUNTRY_INFO!B65))","v":"EASTERN"},{"$f":"IF(INTRO!$E$39=\"Non-endemic\",\" \",IF(COUNTRY_INFO!C65=0,\" \",COUNTRY_INFO!C65))","v":"Mbale City"},{"$f":"IF(INTRO!$E$39=\"Non-endemic\",0,IF(INTRO!$E$39=\"Endemic but PC is not required\",IF(COUNTRY_INFO!$H65=1,COUNTRY_INFO!F65+COUNTRY_INFO!G65,0),IF(COUNTRY_INFO!$H65=1,COUNTRY_INFO!F65+COUNTRY_INFO!G65,IF(COUNTRY_INFO!$I65=1,IF(COUNTRY_INFO!M65>=(COUNTRY_INFO!F65+COUNTRY_INFO!G65),COUNTRY_INFO!F65+COUNTRY_INFO!G65,COUNTRY_INFO!$M65),0))))","v":0},{"$f":"IF(AND(INTRO!$E$39=\"Non-endemic\",INTRO!$E$37=\"Non-endemic\"),\"Not required\",IF(INTRO!$E$39=\"Non-endemic\",\"Treat with DEC\",COUNTRY_INFO!P65))","v":0},{"$f":"IF(INTRO!$E$39<>\"Non-endemic\",COUNTRY_INFO!Q65,\"Not required\")","v":0},{"$f":"IF(COUNTRY_INFO!H65=1, IF($E65=1,$D65, 0),0)","v":0},{"$f":"IF(INTRO!$E$39<>\"Endemic\",0, IF(AND(COUNTRY_INFO!$I65=1,$F65<>0),IF(COUNTRY_INFO!M65>=(COUNTRY_INFO!F65+COUNTRY_INFO!G65),COUNTRY_INFO!F65+COUNTRY_INFO!G65,COUNTRY_INFO!$M65), 0))","v":0},0,0,0,0,0,0,null,0,0]
[{"$f":"IF(INTRO!$E$39=\"Non-endemic\",\" \",IF(COUNTRY_INFO!A66=0,\" \",COUNTRY_INFO!A66))","v":"Uganda"},{"$f":"IF(INTRO!$E$39=\"Non-endemic\",\" \",IF(COUNTRY_INFO!B66=0,\" \",COUNTRY_INFO!B66))","v":"EASTERN"},{"$f":"IF(INTRO!$E$39=\"Non-endemic\",\" \",IF(COUNTRY_INFO!C66=0,\" \",COUNTRY_INFO!C66))","v":"NAMAYINGO"},{"$f":"IF(INTRO!$E$39=\"Non-endemic\",0,IF(INTRO!$E$39=\"Endemic but PC is not required\",IF(COUNTRY_INFO!$H66=1,COUNTRY_INFO!F66+COUNTRY_INFO!G66,0),IF(COUNTRY_INFO!$H66=1,COUNTRY_INFO!F66+COUNTRY_INFO!G66,IF(COUNTRY_INFO!$I66=1,IF(COUNTRY_INFO!M66>=(COUNTRY_INFO!F66+COUNTRY_INFO!G66),COUNTRY_INFO!F66+COUNTRY_INFO!G66,COUNTRY_INFO!$M66),0))))","v":0},{"$f":"IF(AND(INTRO!$E$39=\"Non-endemic\",INTRO!$E$37=\"Non-endemic\"),\"Not required\",IF(INTRO!$E$39=\"Non-endemic\",\"Treat with DEC\",COUNTRY_INFO!P66))","v":0},{"$f":"IF(INTRO!$E$39<>\"Non-endemic\",COUNTRY_INFO!Q66,\"Not required\")","v":0},{"$f":"IF(COUNTRY_INFO!H66=1, IF($E66=1,$D66, 0),0)","v":0},{"$f":"IF(INTRO!$E$39<>\"Endemic\",0, IF(AND(COUNTRY_INFO!$I66=1,$F66<>0),IF(COUNTRY_INFO!M66>=(COUNTRY_INFO!F66+COUNTRY_INFO!G66),COUNTRY_INFO!F66+COUNTRY_INFO!G66,COUNTRY_INFO!$M66), 0))","v":0},0,0,0,0,0,0,null,0,0]
[{"$f":"IF(INTRO!$E$39=\"Non-endemic\",\" \",IF(COUNTRY_INFO!A67=0,\" \",COUNTRY_INFO!A67))","v":"Uganda"},{"$f":"IF(INTRO!$E$39=\"Non-endemic\",\" \",IF(COUNTRY_INFO!B67=0,\" \",COUNTRY_INFO!B67))","v":"EASTERN"},{"$f":"IF(INTRO!$E$39=\"Non-endemic\",\" \",IF(COUNTRY_INFO!C67=0,\" \",COUNTRY_INFO!C67))","v":"NAMISINDWA"},{"$f":"IF(INTRO!$E$39=\"Non-endemic\",0,IF(INTRO!$E$39=\"Endemic but PC is not required\",IF(COUNTRY_INFO!$H67=1,COUNTRY_INFO!F67+COUNTRY_INFO!G67,0),IF(COUNTRY_INFO!$H67=1,COUNTRY_INFO!F67+COUNTRY_INFO!G67,IF(COUNTRY_INFO!$I67=1,IF(COUNTRY_INFO!M67>=(COUNTRY_INFO!F67+COUNTRY_INFO!G67),COUNTRY_INFO!F67+COUNTRY_INFO!G67,COUNTRY_INFO!$M67),0))))","v":0},{"$f":"IF(AND(INTRO!$E$39=\"Non-endemic\",INTRO!$E$37=\"Non-endemic\"),\"Not required\",IF(INTRO!$E$39=\"Non-endemic\",\"Treat with DEC\",COUNTRY_INFO!P67))","v":0},{"$f":"IF(INTRO!$E$39<>\"Non-endemic\",COUNTRY_INFO!Q67,\"Not required\")","v":0},{"$f":"IF(COUNTRY_INFO!H67=1, IF($E67=1,$D67, 0),0)","v":0},{"$f":"IF(INTRO!$E$39<>\"Endemic\",0, IF(AND(COUNTRY_INFO!$I67=1,$F67<>0),IF(COUNTRY_INFO!M67>=(COUNTRY_INFO!F67+COUNTRY_INFO!G67),COUNTRY_INFO!F67+COUNTRY_INFO!G67,COUNTRY_INFO!$M67), 0))","v":0},0,0,0,0,0,0,null,0,0]
[{"$f":"IF(INTRO!$E$39=\"Non-endemic\",\" \",IF(COUNTRY_INFO!A68=0,\" \",COUNTRY_INFO!A68))","v":"Uganda"},{"$f":"IF(INTRO!$E$39=\"Non-endemic\",\" \",IF(COUNTRY_INFO!B68=0,\" \",COUNTRY_INFO!B68))","v":"EASTERN"},{"$f":"IF(INTRO!$E$39=\"Non-endemic\",\" \",IF(COUNTRY_INFO!C68=0,\" \",COUNTRY_INFO!C68))","v":"NAMUTUMBA"},{"$f":"IF(INTRO!$E$39=\"Non-endemic\",0,IF(INTRO!$E$39=\"Endemic but PC is not required\",IF(COUNTRY_INFO!$H68=1,COUNTRY_INFO!F68+COUNTRY_INFO!G68,0),IF(COUNTRY_INFO!$H68=1,COUNTRY_INFO!F68+COUNTRY_INFO!G68,IF(COUNTRY_INFO!$I68=1,IF(COUNTRY_INFO!M68>=(COUNTRY_INFO!F68+COUNTRY_INFO!G68),COUNTRY_INFO!F68+COUNTRY_INFO!G68,COUNTRY_INFO!$M68),0))))","v":0},{"$f":"IF(AND(INTRO!$E$39=\"Non-endemic\",INTRO!$E$37=\"Non-endemic\"),\"Not required\",IF(INTRO!$E$39=\"Non-endemic\",\"Treat with DEC\",COUNTRY_INFO!P68))","v":0},{"$f":"IF(INTRO!$E$39<>\"Non-endemic\",COUNTRY_INFO!Q68,\"Not required\")","v":0},{"$f":"IF(COUNTRY_INFO!H68=1, IF($E68=1,$D68, 0),0)","v":0},{"$f":"IF(INTRO!$E$39<>\"Endemic\",0, IF(AND(COUNTRY_INFO!$I68=1,$F68<>0),IF(COUNTRY_INFO!M68>=(COUNTRY_INFO!F68+COUNTRY_INFO!G68),COUNTRY_INFO!F68+COUNTRY_INFO!G68,COUNTRY_INFO!$M68), 0))","v":0},0,0,0,0,0,0,null,0,0]
[{"$f":"IF(INTRO!$E$39=\"Non-endemic\",\" \",IF(COUNTRY_INFO!A69=0,\" \",COUNTRY_INFO!A69))","v":"Uganda"},{"$f":"IF(INTRO!$E$39=\"Non-endemic\",\" \",IF(COUNTRY_INFO!B69=0,\" \",COUNTRY_INFO!B69))","v":"EASTERN"},{"$f":"IF(INTRO!$E$39=\"Non-endemic\",\" \",IF(COUNTRY_INFO!C69=0,\" \",COUNTRY_INFO!C69))","v":"NGORA"},{"$f":"IF(INTRO!$E$39=\"Non-endemic\",0,IF(INTRO!$E$39=\"Endemic but PC is not required\",IF(COUNTRY_INFO!$H69=1,COUNTRY_INFO!F69+COUNTRY_INFO!G69,0),IF(COUNTRY_INFO!$H69=1,COUNTRY_INFO!F69+COUNTRY_INFO!G69,IF(COUNTRY_INFO!$I69=1,IF(COUNTRY_INFO!M69>=(COUNTRY_INFO!F69+COUNTRY_INFO!G69),COUNTRY_INFO!F69+COUNTRY_INFO!G69,COUNTRY_INFO!$M69),0))))","v":0},{"$f":"IF(AND(INTRO!$E$39=\"Non-endemic\",INTRO!$E$37=\"Non-endemic\"),\"Not required\",IF(INTRO!$E$39=\"Non-endemic\",\"Treat with DEC\",COUNTRY_INFO!P69))","v":0},{"$f":"IF(INTRO!$E$39<>\"Non-endemic\",COUNTRY_INFO!Q69,\"Not required\")","v":0},{"$f":"IF(COUNTRY_INFO!H69=1, IF($E69=1,$D69, 0),0)","v":0},{"$f":"IF(INTRO!$E$39<>\"Endemic\",0, IF(AND(COUNTRY_INFO!$I69=1,$F69<>0),IF(COUNTRY_INFO!M69>=(COUNTRY_INFO!F69+COUNTRY_INFO!G69),COUNTRY_INFO!F69+COUNTRY_INFO!G69,COUNTRY_INFO!$M69), 0))","v":0},0,0,0,0,0,0,null,0,0]
[{"$f":"IF(INTRO!$E$39=\"Non-endemic\",\" \",IF(COUNTRY_INFO!A70=0,\" \",COUNTRY_INFO!A70))","v":"Uganda"},{"$f":"IF(INTRO!$E$39=\"Non-endemic\",\" \",IF(COUNTRY_INFO!B70=0,\" \",COUNTRY_INFO!B70))","v":"EASTERN"},{"$f":"IF(INTRO!$E$39=\"Non-endemic\",\" \",IF(COUNTRY_INFO!C70=0,\" \",COUNTRY_INFO!C70))","v":"PALLISA"},{"$f":"IF(INTRO!$E$39=\"Non-endemic\",0,IF(INTRO!$E$39=\"Endemic but PC is not required\",IF(COUNTRY_INFO!$H70=1,COUNTRY_INFO!F70+COUNTRY_INFO!G70,0),IF(COUNTRY_INFO!$H70=1,COUNTRY_INFO!F70+COUNTRY_INFO!G70,IF(COUNTRY_INFO!$I70=1,IF(COUNTRY_INFO!M70>=(COUNTRY_INFO!F70+COUNTRY_INFO!G70),COUNTRY_INFO!F70+COUNTRY_INFO!G70,COUNTRY_INFO!$M70),0))))","v":0},{"$f":"IF(AND(INTRO!$E$39=\"Non-endemic\",INTRO!$E$37=\"Non-endemic\"),\"Not required\",IF(INTRO!$E$39=\"Non-endemic\",\"Treat with DEC\",COUNTRY_INFO!P70))","v":0},{"$f":"IF(INTRO!$E$39<>\"Non-endemic\",COUNTRY_INFO!Q70,\"Not required\")","v":0},{"$f":"IF(COUNTRY_INFO!H70=1, IF($E70=1,$D70, 0),0)","v":0},{"$f":"IF(INTRO!$E$39<>\"Endemic\",0, IF(AND(COUNTRY_INFO!$I70=1,$F70<>0),IF(COUNTRY_INFO!M70>=(COUNTRY_INFO!F70+COUNTRY_INFO!G70),COUNTRY_INFO!F70+COUNTRY_INFO!G70,COUNTRY_INFO!$M70), 0))","v":0},0,0,0,0,0,0,null,0,0]
[{"$f":"IF(INTRO!$E$39=\"Non-endemic\",\" \",IF(COUNTRY_INFO!A71=0,\" \",COUNTRY_INFO!A71))","v":"Uganda"},{"$f":"IF(INTRO!$E$39=\"Non-endemic\",\" \",IF(COUNTRY_INFO!B71=0,\" \",COUNTRY_INFO!B71))","v":"EASTERN"},{"$f":"IF(INTRO!$E$39=\"Non-endemic\",\" \",IF(COUNTRY_INFO!C71=0,\" \",COUNTRY_INFO!C71))","v":"SERERE"},{"$f":"IF(INTRO!$E$39=\"Non-endemic\",0,IF(INTRO!$E$39=\"Endemic but PC is not required\",IF(COUNTRY_INFO!$H71=1,COUNTRY_INFO!F71+COUNTRY_INFO!G71,0),IF(COUNTRY_INFO!$H71=1,COUNTRY_INFO!F71+COUNTRY_INFO!G71,IF(COUNTRY_INFO!$I71=1,IF(COUNTRY_INFO!M71>=(COUNTRY_INFO!F71+COUNTRY_INFO!G71),COUNTRY_INFO!F71+COUNTRY_INFO!G71,COUNTRY_INFO!$M71),0))))","v":0},{"$f":"IF(AND(INTRO!$E$39=\"Non-endemic\",INTRO!$E$37=\"Non-endemic\"),\"Not required\",IF(INTRO!$E$39=\"Non-endemic\",\"Treat with DEC\",COUNTRY_INFO!P71))","v":0},{"$f":"IF(INTRO!$E$39<>\"Non-endemic\",COUNTRY_INFO!Q71,\"Not required\")","v":0},{"$f":"IF(COUNTRY_INFO!H71=1, IF($E71=1,$D71, 0),0)","v":0},{"$f":"IF(INTRO!$E$39<>\"Endemic\",0, IF(AND(COUNTRY_INFO!$I71=1,$F71<>0),IF(COUNTRY_INFO!M71>=(COUNTRY_INFO!F71+COUNTRY_INFO!G71),COUNTRY_INFO!F71+COUNTRY_INFO!G71,COUNTRY_INFO!$M71), 0))","v":0},0,0,0,0,0,0,null,0,0]
[{"$f":"IF(INTRO!$E$39=\"Non-endemic\",\" \",IF(COUNTRY_INFO!A72=0,\" \",COUNTRY_INFO!A72))","v":"Uganda"},{"$f":"IF(INTRO!$E$39=\"Non-endemic\",\" \",IF(COUNTRY_INFO!B72=0,\" \",COUNTRY_INFO!B72))","v":"EASTERN"},{"$f":"IF(INTRO!$E$39=\"Non-endemic\",\" \",IF(COUNTRY_INFO!C72=0,\" \",COUNTRY_INFO!C72))","v":"SIRONKO"},{"$f":"IF(INTRO!$E$39=\"Non-endemic\",0,IF(INTRO!$E$39=\"Endemic but PC is not required\",IF(COUNTRY_INFO!$H72=1,COUNTRY_INFO!F72+COUNTRY_INFO!G72,0),IF(COUNTRY_INFO!$H72=1,COUNTRY_INFO!F72+COUNTRY_INFO!G72,IF(COUNTRY_INFO!$I72=1,IF(COUNTRY_INFO!M72>=(COUNTRY_INFO!F72+COUNTRY_INFO!G72),COUNTRY_INFO!F72+COUNTRY_INFO!G72,COUNTRY_INFO!$M72),0))))","v":0},{"$f":"IF(AND(INTRO!$E$39=\"Non-endemic\",INTRO!$E$37=\"Non-endemic\"),\"Not required\",IF(INTRO!$E$39=\"Non-endemic\",\"Treat with DEC\",COUNTRY_INFO!P72))","v":0},{"$f":"IF(INTRO!$E$39<>\"Non-endemic\",COUNTRY_INFO!Q72,\"Not required\")","v":0},{"$f":"IF(COUNTRY_INFO!H72=1, IF($E72=1,$D72, 0),0)","v":0},{"$f":"IF(INTRO!$E$39<>\"Endemic\",0, IF(AND(COUNTRY_INFO!$I72=1,$F72<>0),IF(COUNTRY_INFO!M72>=(COUNTRY_INFO!F72+COUNTRY_INFO!G72),COUNTRY_INFO!F72+COUNTRY_INFO!G72,COUNTRY_INFO!$M72), 0))","v":0},0,0,0,0,0,0,null,0,0]
[{"$f":"IF(INTRO!$E$39=\"Non-endemic\",\" \",IF(COUNTRY_INFO!A73=0,\" \",COUNTRY_INFO!A73))","v":"Uganda"},{"$f":"IF(INTRO!$E$39=\"Non-endemic\",\" \",IF(COUNTRY_INFO!B73=0,\" \",COUNTRY_INFO!B73))","v":"EASTERN"},{"$f":"IF(INTRO!$E$39=\"Non-endemic\",\" \",IF(COUNTRY_INFO!C73=0,\" \",COUNTRY_INFO!C73))","v":"SOROTI"},{"$f":"IF(INTRO!$E$39=\"Non-endemic\",0,IF(INTRO!$E$39=\"Endemic but PC is not required\",IF(COUNTRY_INFO!$H73=1,COUNTRY_INFO!F73+COUNTRY_INFO!G73,0),IF(COUNTRY_INFO!$H73=1,COUNTRY_INFO!F73+COUNTRY_INFO!G73,IF(COUNTRY_INFO!$I73=1,IF(COUNTRY_INFO!M73>=(COUNTRY_INFO!F73+COUNTRY_INFO!G73),COUNTRY_INFO!F73+COUNTRY_INFO!G73,COUNTRY_INFO!$M73),0))))","v":0},{"$f":"IF(AND(INTRO!$E$39=\"Non-endemic\",INTRO!$E$37=\"Non-endemic\"),\"Not required\",IF(INTRO!$E$39=\"Non-endemic\",\"Treat with DEC\",COUNTRY_INFO!P73))","v":0},{"$f":"IF(INTRO!$E$39<>\"Non-endemic\",COUNTRY_INFO!Q73,\"Not required\")","v":0},{"$f":"IF(COUNTRY_INFO!H73=1, IF($E73=1,$D73, 0),0)","v":0},{"$f":"IF(INTRO!$E$39<>\"Endemic\",0, IF(AND(COUNTRY_INFO!$I73=1,$F73<>0),IF(COUNTRY_INFO!M73>=(COUNTRY_INFO!F73+COUNTRY_INFO!G73),COUNTRY_INFO!F73+COUNTRY_INFO!G73,COUNTRY_INFO!$M73), 0))","v":0},0,0,0,0,0,0,null,0,0]
[{"$f":"IF(INTRO!$E$39=\"Non-endemic\",\" \",IF(COUNTRY_INFO!A74=0,\" \",COUNTRY_INFO!A74))","v":"Uganda"},{"$f":"IF(INTRO!$E$39=\"Non-endemic\",\" \",IF(COUNTRY_INFO!B74=0,\" \",COUNTRY_INFO!B74))","v":"EASTERN"},{"$f":"IF(INTRO!$E$39=\"Non-endemic\",\" \",IF(COUNTRY_INFO!C74=0,\" \",COUNTRY_INFO!C74))","v":"Soroti City"},{"$f":"IF(INTRO!$E$39=\"Non-endemic\",0,IF(INTRO!$E$39=\"Endemic but PC is not required\",IF(COUNTRY_INFO!$H74=1,COUNTRY_INFO!F74+COUNTRY_INFO!G74,0),IF(COUNTRY_INFO!$H74=1,COUNTRY_INFO!F74+COUNTRY_INFO!G74,IF(COUNTRY_INFO!$I74=1,IF(COUNTRY_INFO!M74>=(COUNTRY_INFO!F74+COUNTRY_INFO!G74),COUNTRY_INFO!F74+COUNTRY_INFO!G74,COUNTRY_INFO!$M74),0))))","v":0},{"$f":"IF(AND(INTRO!$E$39=\"Non-endemic\",INTRO!$E$37=\"Non-endemic\"),\"Not required\",IF(INTRO!$E$39=\"Non-endemic\",\"Treat with DEC\",COUNTRY_INFO!P74))","v":0},{"$f":"IF(INTRO!$E$39<>\"Non-endemic\",COUNTRY_INFO!Q74,\"Not required\")","v":0},{"$f":"IF(COUNTRY_INFO!H74=1, IF($E74=1,$D74, 0),0)","v":0},{"$f":"IF(INTRO!$E$39<>\"Endemic\",0, IF(AND(COUNTRY_INFO!$I74=1,$F74<>0),IF(COUNTRY_INFO!M74>=(COUNTRY_INFO!F74+COUNTRY_INFO!G74),COUNTRY_INFO!F74+COUNTRY_INFO!G74,COUNTRY_INFO!$M74), 0))","v":0},0,{"$f":"IF(I74=0,H74,IF(I74>H74,H74,I74))","v":0},{"$f":"IF(G74<J74,0,IF($E74=1, (G74-J74)*2.8, 0))","v":0},{"$f":"IF($E74<$F74, J74*(F74-E74)*2.8, 0)","v":0},{"$f":"IF(AND($E74=1, $F74<>0), J74*2.8, 0)","v":0},{"$f":"SUM(K74:M74)","v":0},null,0,0]
[{"$f":"IF(INTRO!$E$39=\"Non-endemic\",\" \",IF(COUNTRY_INFO!A75=0,\" \",COUNTRY_INFO!A75))","v":"Uganda"},{"$f":"IF(INTRO!$E$39=\"Non-endemic\",\" \",IF(COUNTRY_INFO!B75=0,\" \",COUNTRY_INFO!B75))","v":"EASTERN"},{"$f":"IF(INTRO!$E$39=\"Non-endemic\",\" \",IF(COUNTRY_INFO!C75=0,\" \",COUNTRY_INFO!C75))","v":"TORORO"},{"$f":"IF(INTRO!$E$39=\"Non-endemic\",0,IF(INTRO!$E$39=\"Endemic but PC is not required\",IF(COUNTRY_INFO!$H75=1,COUNTRY_INFO!F75+COUNTRY_INFO!G75,0),IF(COUNTRY_INFO!$H75=1,COUNTRY_INFO!F75+COUNTRY_INFO!G75,IF(COUNTRY_INFO!$I75=1,IF(COUNTRY_INFO!M75>=(COUNTRY_INFO!F75+COUNTRY_INFO!G75),COUNTRY_INFO!F75+COUNTRY_INFO!G75,COUNTRY_INFO!$M75),0))))","v":0},{"$f":"IF(AND(INTRO!$E$39=\"Non-endemic\",INTRO!$E$37=\"Non-endemic\"),\"Not required\",IF(INTRO!$E$39=\"Non-endemic\",\"Treat with DEC\",COUNTRY_INFO!P75))","v":0},{"$f":"IF(INTRO!$E$39<>\"Non-endemic\",COUNTRY_INFO!Q75,\"Not required\")","v":0},{"$f":"IF(COUNTRY_INFO!H75=1, IF($E75=1,$D75, 0),0)","v":0},{"$f":"IF(INTRO!$E$39<>\"Endemic\",0, IF(AND(COUNTRY_INFO!$I75=1,$F75<>0),IF(COUNTRY_INFO!M75>=(COUNTRY_INFO!F75+COUNTRY_INFO!G75),COUNTRY_INFO!F75+COUNTRY_INFO!G75,COUNTRY_INFO!$M75), 0))","v":0},0,0,0,0,0,0,null,0,0]
[{"$f":"IF(INTRO!$E$39=\"Non-endemic\",\" \",IF(COUNTRY_INFO!A76=0,\" \",COUNTRY_INFO!A76))","v":"Uganda"},{"$f":"IF(INTRO!$E$39=\"Non-endemic\",\" \",IF(COUNTRY_INFO!B76=0,\" \",COUNTRY_INFO!B76))","v":"NORTHERN"},{"$f":"IF(INTRO!$E$39=\"Non-endemic\",\" \",IF(COUNTRY_INFO!C76=0,\" \",COUNTRY_INFO!C76))","v":"ABIM"},{"$f":"IF(INTRO!$E$39=\"Non-endemic\",0,IF(INTRO!$E$39=\"Endemic but PC is not required\",IF(COUNTRY_INFO!$H76=1,COUNTRY_INFO!F76+COUNTRY_INFO!G76,0),IF(COUNTRY_INFO!$H76=1,COUNTRY_INFO!F76+COUNTRY_INFO!G76,IF(COUNTRY_INFO!$I76=1,IF(COUNTRY_INFO!M76>=(COUNTRY_INFO!F76+COUNTRY_INFO!G76),COUNTRY_INFO!F76+COUNTRY_INFO!G76,COUNTRY_INFO!$M76),0))))","v":0},{"$f":"IF(AND(INTRO!$E$39=\"Non-endemic\",INTRO!$E$37=\"Non-endemic\"),\"Not required\",IF(INTRO!$E$39=\"Non-endemic\",\"Treat with DEC\",COUNTRY_INFO!P76))","v":0},{"$f":"IF(INTRO!$E$39<>\"Non-endemic\",COUNTRY_INFO!Q76,\"Not required\")","v":0},{"$f":"IF(COUNTRY_INFO!H76=1, IF($E76=1,$D76, 0),0)","v":0},{"$f":"IF(INTRO!$E$39<>\"Endemic\",0, IF(AND(COUNTRY_INFO!$I76=1,$F76<>0),IF(COUNTRY_INFO!M76>=(COUNTRY_INFO!F76+COUNTRY_INFO!G76),COUNTRY_INFO!F76+COUNTRY_INFO!G76,COUNTRY_INFO!$M76), 0))","v":0},0,0,0,0,0,0,null,0,0]
[{"$f":"IF(INTRO!$E$39=\"Non-endemic\",\" \",IF(COUNTRY_INFO!A77=0,\" \",COUNTRY_INFO!A77))","v":"Uganda"},{"$f":"IF(INTRO!$E$39=\"Non-endemic\",\" \",IF(COUNTRY_INFO!B77=0,\" \",COUNTRY_INFO!B77))","v":"NORTHERN"},{"$f":"IF(INTRO!$E$39=\"Non-endemic\",\" \",IF(COUNTRY_INFO!C77=0,\" \",COUNTRY_INFO!C77))","v":"ADJUMANI"},31084,{"$f":"IF(AND(INTRO!$E$39=\"Non-endemic\",INTRO!$E$37=\"Non-endemic\"),\"Not required\",IF(INTRO!$E$39=\"Non-endemic\",\"Treat with DEC\",COUNTRY_INFO!P77))","v":0},{"$f":"IF(INTRO!$E$39<>\"Non-endemic\",COUNTRY_INFO!Q77,\"Not required\")","v":2},{"$f":"IF(COUNTRY_INFO!H77=1, IF($E77=1,$D77, 0),0)","v":0},32791,31084,31084,0,174070.39999999999,0,174070.39999999999,null,174070.39999999999,349]
[{"$f":"IF(INTRO!$E$39=\"Non-endemic\",\" \",IF(COUNTRY_INFO!A78=0,\" \",COUNTRY_INFO!A78))","v":"Uganda"},{"$f":"IF(INTRO!$E$39=\"Non-endemic\",\" \",IF(COUNTRY_INFO!B78=0,\" \",COUNTRY_INFO!B78))","v":"NORTHERN"},{"$f":"IF(INTRO!$E$39=\"Non-endemic\",\" \",IF(COUNTRY_INFO!C78=0,\" \",COUNTRY_INFO!C78))","v":"AGAGO"},{"$f":"IF(INTRO!$E$39=\"Non-endemic\",0,IF(INTRO!$E$39=\"Endemic but PC is not required\",IF(COUNTRY_INFO!$H78=1,COUNTRY_INFO!F78+COUNTRY_INFO!G78,0),IF(COUNTRY_INFO!$H78=1,COUNTRY_INFO!F78+COUNTRY_INFO!G78,IF(COUNTRY_INFO!$I78=1,IF(COUNTRY_INFO!M78>=(COUNTRY_INFO!F78+COUNTRY_INFO!G78),COUNTRY_INFO!F78+COUNTRY_INFO!G78,COUNTRY_INFO!$M78),0))))","v":0},{"$f":"IF(AND(INTRO!$E$39=\"Non-endemic\",INTRO!$E$37=\"Non-endemic\"),\"Not required\",IF(INTRO!$E$39=\"Non-endemic\",\"Treat with DEC\",COUNTRY_INFO!P78))","v":0},{"$f":"IF(INTRO!$E$39<>\"Non-endemic\",COUNTRY_INFO!Q78,\"Not required\")","v":0},{"$f":"IF(COUNTRY_INFO!H78=1, IF($E78=1,$D78, 0),0)","v":0},{"$f":"IF(INTRO!$E$39<>\"Endemic\",0, IF(AND(COUNTRY_INFO!$I78=1,$F78<>0),IF(COUNTRY_INFO!M78>=(COUNTRY_INFO!F78+COUNTRY_INFO!G78),COUNTRY_INFO!F78+COUNTRY_INFO!G78,COUNTRY_INFO!$M78), 0))","v":0},0,0,0,0,0,0,null,0,0]
[{"$f":"IF(INTRO!$E$39=\"Non-endemic\",\" \",IF(COUNTRY_INFO!A79=0,\" \",COUNTRY_INFO!A79))","v":"Uganda"},{"$f":"IF(INTRO!$E$39=\"Non-endemic\",\" \",IF(COUNTRY_INFO!B79=0,\" \",COUNTRY_INFO!B79))","v":"NORTHERN"},{"$f":"IF(INTRO!$E$39=\"Non-endemic\",\" \",IF(COUNTRY_INFO!C79=0,\" \",COUNTRY_INFO!C79))","v":"ALEBTONG"},{"$f":"IF(INTRO!$E$39=\"Non-endemic\",0,IF(INTRO!$E$39=\"Endemic but PC is not required\",IF(COUNTRY_INFO!$H79=1,COUNTRY_INFO!F79+COUNTRY_INFO!G79,0),IF(COUNTRY_INFO!$H79=1,COUNTRY_INFO!F79+COUNTRY_INFO!G79,IF(COUNTRY_INFO!$I79=1,IF(COUNTRY_INFO!M79>=(COUNTRY_INFO!F79+COUNTRY_INFO!G79),COUNTRY_INFO!F79+COUNTRY_INFO!G79,COUNTRY_INFO!$M79),0))))","v":0},{"$f":"IF(AND(INTRO!$E$39=\"Non-endemic\",INTRO!$E$37=\"Non-endemic\"),\"Not required\",IF(INTRO!$E$39=\"Non-endemic\",\"Treat with DEC\",COUNTRY_INFO!P79))","v":0},{"$f":"IF(INTRO!$E$39<>\"Non-endemic\",COUNTRY_INFO!Q79,\"Not required\")","v":0},{"$f":"IF(COUNTRY_INFO!H79=1, IF($E79=1,$D79, 0),0)","v":0},{"$f":"IF(INTRO!$E$39<>\"Endemic\",0, IF(AND(COUNTRY_INFO!$I79=1,$F79<>0),IF(COUNTRY_INFO!M79>=(COUNTRY_INFO!F79+COUNTRY_INFO!G79),COUNTRY_INFO!F79+COUNTRY_INFO!G79,COUNTRY_INFO!$M79), 0))","v":0},0,0,0,0,0,0,null,0,0]
[{"$f":"IF(INTRO!$E$39=\"Non-endemic\",\" \",IF(COUNTRY_INFO!A80=0,\" \",COUNTRY_INFO!A80))","v":"Uganda"},{"$f":"IF(INTRO!$E$39=\"Non-endemic\",\" \",IF(COUNTRY_INFO!B80=0,\" \",COUNTRY_INFO!B80))","v":"NORTHERN"},{"$f":"IF(INTRO!$E$39=\"Non-endemic\",\" \",IF(COUNTRY_INFO!C80=0,\" \",COUNTRY_INFO!C80))","v":"AMOLATAR"},{"$f":"IF(INTRO!$E$39=\"Non-endemic\",0,IF(INTRO!$E$39=\"Endemic but PC is not required\",IF(COUNTRY_INFO!$H80=1,COUNTRY_INFO!F80+COUNTRY_INFO!G80,0),IF(COUNTRY_INFO!$H80=1,COUNTRY_INFO!F80+COUNTRY_INFO!G80,IF(COUNTRY_INFO!$I80=1,IF(COUNTRY_INFO!M80>=(COUNTRY_INFO!F80+COUNTRY_INFO!G80),COUNTRY_INFO!F80+COUNTRY_INFO!G80,COUNTRY_INFO!$M80),0))))","v":0},{"$f":"IF(AND(INTRO!$E$39=\"Non-endemic\",INTRO!$E$37=\"Non-endemic\"),\"Not required\",IF(INTRO!$E$39=\"Non-endemic\",\"Treat with DEC\",COUNTRY_INFO!P80))","v":0},{"$f":"IF(INTRO!$E$39<>\"Non-endemic\",COUNTRY_INFO!Q80,\"Not required\")","v":0},{"$f":"IF(COUNTRY_INFO!H80=1, IF($E80=1,$D80, 0),0)","v":0},{"$f":"IF(INTRO!$E$39<>\"Endemic\",0, IF(AND(COUNTRY_INFO!$I80=1,$F80<>0),IF(COUNTRY_INFO!M80>=(COUNTRY_INFO!F80+COUNTRY_INFO!G80),COUNTRY_INFO!F80+COUNTRY_INFO!G80,COUNTRY_INFO!$M80), 0))","v":0},0,0,0,0,0,0,null,0,0]
[{"$f":"IF(INTRO!$E$39=\"Non-endemic\",\" \",IF(COUNTRY_INFO!A81=0,\" \",COUNTRY_INFO!A81))","v":"Uganda"},{"$f":"IF(INTRO!$E$39=\"Non-endemic\",\" \",IF(COUNTRY_INFO!B81=0,\" \",COUNTRY_INFO!B81))","v":"NORTHERN"},{"$f":"IF(INTRO!$E$39=\"Non-endemic\",\" \",IF(COUNTRY_INFO!C81=0,\" \",COUNTRY_INFO!C81))","v":"AMUDAT"},{"$f":"IF(INTRO!$E$39=\"Non-endemic\",0,IF(INTRO!$E$39=\"Endemic but PC is not required\",IF(COUNTRY_INFO!$H81=1,COUNTRY_INFO!F81+COUNTRY_INFO!G81,0),IF(COUNTRY_INFO!$H81=1,COUNTRY_INFO!F81+COUNTRY_INFO!G81,IF(COUNTRY_INFO!$I81=1,IF(COUNTRY_INFO!M81>=(COUNTRY_INFO!F81+COUNTRY_INFO!G81),COUNTRY_INFO!F81+COUNTRY_INFO!G81,COUNTRY_INFO!$M81),0))))","v":0},{"$f":"IF(AND(INTRO!$E$39=\"Non-endemic\",INTRO!$E$37=\"Non-endemic\"),\"Not required\",IF(INTRO!$E$39=\"Non-endemic\",\"Treat with DEC\",COUNTRY_INFO!P81))","v":0},{"$f":"IF(INTRO!$E$39<>\"Non-endemic\",COUNTRY_INFO!Q81,\"Not required\")","v":0},{"$f":"IF(COUNTRY_INFO!H81=1, IF($E81=1,$D81, 0),0)","v":0},{"$f":"IF(INTRO!$E$39<>\"Endemic\",0, IF(AND(COUNTRY_INFO!$I81=1,$F81<>0),IF(COUNTRY_INFO!M81>=(COUNTRY_INFO!F81+COUNTRY_INFO!G81),COUNTRY_INFO!F81+COUNTRY_INFO!G81,COUNTRY_INFO!$M81), 0))","v":0},0,0,0,0,0,0,null,0,0]
[{"$f":"IF(INTRO!$E$39=\"Non-endemic\",\" \",IF(COUNTRY_INFO!A82=0,\" \",COUNTRY_INFO!A82))","v":"Uganda"},{"$f":"IF(INTRO!$E$39=\"Non-endemic\",\" \",IF(COUNTRY_INFO!B82=0,\" \",COUNTRY_INFO!B82))","v":"NORTHERN"},{"$f":"IF(INTRO!$E$39=\"Non-endemic\",\" \",IF(COUNTRY_INFO!C82=0,\" \",COUNTRY_INFO!C82))","v":"AMURU"},241851,{"$f":"IF(AND(INTRO!$E$39=\"Non-endemic\",INTRO!$E$37=\"Non-endemic\"),\"Not required\",IF(INTRO!$E$39=\"Non-endemic\",\"Treat with DEC\",COUNTRY_INFO!P82))","v":0},{"$f":"IF(INTRO!$E$39<>\"Non-endemic\",COUNTRY_INFO!Q82,\"Not required\")","v":2},{"$f":"IF(COUNTRY_INFO!H82=1, IF($E82=1,$D82, 0),0)","v":0},278733,241851,241851,0,1354365.5999999999,0,1354365.5999999999,null,1354365.5999999999,2709]
[{"$f":"IF(INTRO!$E$39=\"Non-endemic\",\" \",IF(COUNTRY_INFO!A83=0,\" \",COUNTRY_INFO!A83))","v":"Uganda"},{"$f":"IF(INTRO!$E$39=\"Non-endemic\",\" \",IF(COUNTRY_INFO!B83=0,\" \",COUNTRY_INFO!B83))","v":"NORTHERN"},{"$f":"IF(INTRO!$E$39=\"Non-endemic\",\" \",IF(COUNTRY_INFO!C83=0,\" \",COUNTRY_INFO!C83))","v":"APAC"},{"$f":"IF(INTRO!$E$39=\"Non-endemic\",0,IF(INTRO!$E$39=\"Endemic but PC is not required\",IF(COUNTRY_INFO!$H83=1,COUNTRY_INFO!F83+COUNTRY_INFO!G83,0),IF(COUNTRY_INFO!$H83=1,COUNTRY_INFO!F83+COUNTRY_INFO!G83,IF(COUNTRY_INFO!$I83=1,IF(COUNTRY_INFO!M83>=(COUNTRY_INFO!F83+COUNTRY_INFO!G83),COUNTRY_INFO!F83+COUNTRY_INFO!G83,COUNTRY_INFO!$M83),0))))","v":0},{"$f":"IF(AND(INTRO!$E$39=\"Non-endemic\",INTRO!$E$37=\"Non-endemic\"),\"Not required\",IF(INTRO!$E$39=\"Non-endemic\",\"Treat with DEC\",COUNTRY_INFO!P83))","v":0},{"$f":"IF(INTRO!$E$39<>\"Non-endemic\",COUNTRY_INFO!Q83,\"Not required\")","v":0},{"$f":"IF(COUNTRY_INFO!H83=1, IF($E83=1,$D83, 0),0)","v":0},{"$f":"IF(INTRO!$E$39<>\"Endemic\",0, IF(AND(COUNTRY_INFO!$I83=1,$F83<>0),IF(COUNTRY_INFO!M83>=(COUNTRY_INFO!F83+COUNTRY_INFO!G83),COUNTRY_INFO!F83+COUNTRY_INFO!G83,COUNTRY_INFO!$M83), 0))","v":0},0,0,0,0,0,0,null,0,0]
[{"$f":"IF(INTRO!$E$39=\"Non-endemic\",\" \",IF(COUNTRY_INFO!A84=0,\" \",COUNTRY_INFO!A84))","v":"Uganda"},{"$f":"IF(INTRO!$E$39=\"Non-endemic\",\" \",IF(COUNTRY_INFO!B84=0,\" \",COUNTRY_INFO!B84))","v":"NORTHERN"},{"$f":"IF(INTRO!$E$39=\"Non-endemic\",\" \",IF(COUNTRY_INFO!C84=0,\" \",COUNTRY_INFO!C84))","v":"ARUA"},{"$f":"IF(INTRO!$E$39=\"Non-endemic\",0,IF(INTRO!$E$39=\"Endemic but PC is not required\",IF(COUNTRY_INFO!$H84=1,COUNTRY_INFO!F84+COUNTRY_INFO!G84,0),IF(COUNTRY_INFO!$H84=1,COUNTRY_INFO!F84+COUNTRY_INFO!G84,IF(COUNTRY_INFO!$I84=1,IF(COUNTRY_INFO!M84>=(COUNTRY_INFO!F84+COUNTRY_INFO!G84),COUNTRY_INFO!F84+COUNTRY_INFO!G84,COUNTRY_INFO!$M84),0))))","v":0},{"$f":"IF(AND(INTRO!$E$39=\"Non-endemic\",INTRO!$E$37=\"Non-endemic\"),\"Not required\",IF(INTRO!$E$39=\"Non-endemic\",\"Treat with DEC\",COUNTRY_INFO!P84))","v":0},{"$f":"IF(INTRO!$E$39<>\"Non-endemic\",COUNTRY_INFO!Q84,\"Not required\")","v":0},{"$f":"IF(COUNTRY_INFO!H84=1, IF($E84=1,$D84, 0),0)","v":0},{"$f":"IF(INTRO!$E$39<>\"Endemic\",0, IF(AND(COUNTRY_INFO!$I84=1,$F84<>0),IF(COUNTRY_INFO!M84>=(COUNTRY_INFO!F84+COUNTRY_INFO!G84),COUNTRY_INFO!F84+COUNTRY_INFO!G84,COUNTRY_INFO!$M84), 0))","v":0},0,0,0,0,0,0,null,0,0]
[{"$f":"IF(INTRO!$E$39=\"Non-endemic\",\" \",IF(COUNTRY_INFO!A85=0,\" \",COUNTRY_INFO!A85))","v":"Uganda"},{"$f":"IF(INTRO!$E$39=\"Non-endemic\",\" \",IF(COUNTRY_INFO!B85=0,\" \",COUNTRY_INFO!B85))","v":"NORTHERN"},{"$f":"IF(INTRO!$E$39=\"Non-endemic\",\" \",IF(COUNTRY_INFO!C85=0,\" \",COUNTRY_INFO!C85))","v":"Arua City"},{"$f":"IF(INTRO!$E$39=\"Non-endemic\",0,IF(INTRO!$E$39=\"Endemic but PC is not required\",IF(COUNTRY_INFO!$H85=1,COUNTRY_INFO!F85+COUNTRY_INFO!G85,0),IF(COUNTRY_INFO!$H85=1,COUNTRY_INFO!F85+COUNTRY_INFO!G85,IF(COUNTRY_INFO!$I85=1,IF(COUNTRY_INFO!M85>=(COUNTRY_INFO!F85+COUNTRY_INFO!G85),COUNTRY_INFO!F85+COUNTRY_INFO!G85,COUNTRY_INFO!$M85),0))))","v":0},{"$f":"IF(AND(INTRO!$E$39=\"Non-endemic\",INTRO!$E$37=\"Non-endemic\"),\"Not required\",IF(INTRO!$E$39=\"Non-endemic\",\"Treat with DEC\",COUNTRY_INFO!P85))","v":0},{"$f":"IF(INTRO!$E$39<>\"Non-endemic\",COUNTRY_INFO!Q85,\"Not required\")","v":0},{"$f":"IF(COUNTRY_INFO!H85=1, IF($E85=1,$D85, 0),0)","v":0},{"$f":"IF(INTRO!$E$39<>\"Endemic\",0, IF(AND(COUNTRY_INFO!$I85=1,$F85<>0),IF(COUNTRY_INFO!M85>=(COUNTRY_INFO!F85+COUNTRY_INFO!G85),COUNTRY_INFO!F85+COUNTRY_INFO!G85,COUNTRY_INFO!$M85), 0))","v":0},0,0,0,0,0,0,null,0,0]
[{"$f":"IF(INTRO!$E$39=\"Non-endemic\",\" \",IF(COUNTRY_INFO!A86=0,\" \",COUNTRY_INFO!A86))","v":"Uganda"},{"$f":"IF(INTRO!$E$39=\"Non-endemic\",\" \",IF(COUNTRY_INFO!B86=0,\" \",COUNTRY_INFO!B86))","v":"NORTHERN"},{"$f":"IF(INTRO!$E$39=\"Non-endemic\",\" \",IF(COUNTRY_INFO!C86=0,\" \",COUNTRY_INFO!C86))","v":"DOKOLO"},{"$f":"IF(INTRO!$E$39=\"Non-endemic\",0,IF(INTRO!$E$39=\"Endemic but PC is not required\",IF(COUNTRY_INFO!$H86=1,COUNTRY_INFO!F86+COUNTRY_INFO!G86,0),IF(COUNTRY_INFO!$H86=1,COUNTRY_INFO!F86+COUNTRY_INFO!G86,IF(COUNTRY_INFO!$I86=1,IF(COUNTRY_INFO!M86>=(COUNTRY_INFO!F86+COUNTRY_INFO!G86),COUNTRY_INFO!F86+COUNTRY_INFO!G86,COUNTRY_INFO!$M86),0))))","v":0},{"$f":"IF(AND(INTRO!$E$39=\"Non-endemic\",INTRO!$E$37=\"Non-endemic\"),\"Not required\",IF(INTRO!$E$39=\"Non-endemic\",\"Treat with DEC\",COUNTRY_INFO!P86))","v":0},{"$f":"IF(INTRO!$E$39<>\"Non-endemic\",COUNTRY_INFO!Q86,\"Not required\")","v":0},{"$f":"IF(COUNTRY_INFO!H86=1, IF($E86=1,$D86, 0),0)","v":0},{"$f":"IF(INTRO!$E$39<>\"Endemic\",0, IF(AND(COUNTRY_INFO!$I86=1,$F86<>0),IF(COUNTRY_INFO!M86>=(COUNTRY_INFO!F86+COUNTRY_INFO!G86),COUNTRY_INFO!F86+COUNTRY_INFO!G86,COUNTRY_INFO!$M86), 0))","v":0},0,0,0,0,0,0,null,0,0]
[{"$f":"IF(INTRO!$E$39=\"Non-endemic\",\" \",IF(COUNTRY_INFO!A87=0,\" \",COUNTRY_INFO!A87))","v":"Uganda"},{"$f":"IF(INTRO!$E$39=\"Non-endemic\",\" \",IF(COUNTRY_INFO!B87=0,\" \",COUNTRY_INFO!B87))","v":"NORTHERN"},{"$f":"IF(INTRO!$E$39=\"Non-endemic\",\" \",IF(COUNTRY_INFO!C87=0,\" \",COUNTRY_INFO!C87))","v":"GULU"},144379,{"$f":"IF(AND(INTRO!$E$39=\"Non-endemic\",INTRO!$E$37=\"Non-endemic\"),\"Not required\",IF(INTRO!$E$39=\"Non-endemic\",\"Treat with DEC\",COUNTRY_INFO!P87))","v":0},{"$f":"IF(INTRO!$E$39<>\"Non-endemic\",COUNTRY_INFO!Q87,\"Not required\")","v":2},{"$f":"IF(COUNTRY_INFO!H87=1, IF($E87=1,$D87, 0),0)","v":0},161547,144379,144379,0,808522.39999999991,0,808522.39999999991,null,808522.39999999991,1618]
[{"$f":"IF(INTRO!$E$39=\"Non-endemic\",\" \",IF(COUNTRY_INFO!A88=0,\" \",COUNTRY_INFO!A88))","v":"Uganda"},{"$f":"IF(INTRO!$E$39=\"Non-endemic\",\" \",IF(COUNTRY_INFO!B88=0,\" \",COUNTRY_INFO!B88))","v":"NORTHERN"},{"$f":"IF(INTRO!$E$39=\"Non-endemic\",\" \",IF(COUNTRY_INFO!C88=0,\" \",COUNTRY_INFO!C88))","v":"Gulu City"},35820,{"$f":"IF(AND(INTRO!$E$39=\"Non-endemic\",INTRO!$E$37=\"Non-endemic\"),\"Not required\",IF(INTRO!$E$39=\"Non-endemic\",\"Treat with DEC\",COUNTRY_INFO!P88))","v":0},2,{"$f":"IF(COUNTRY_INFO!H88=1, IF($E88=1,$D88, 0),0)","v":0},35820,35820,35820,0,200592,0,200592,null,200592,402]
[{"$f":"IF(INTRO!$E$39=\"Non-endemic\",\" \",IF(COUNTRY_INFO!A89=0,\" \",COUNTRY_INFO!A89))","v":"Uganda"},{"$f":"IF(INTRO!$E$39=\"Non-endemic\",\" \",IF(COUNTRY_INFO!B89=0,\" \",COUNTRY_INFO!B89))","v":"NORTHERN"},{"$f":"IF(INTRO!$E$39=\"Non-endemic\",\" \",IF(COUNTRY_INFO!C89=0,\" \",COUNTRY_INFO!C89))","v":"KAABONG"},{"$f":"IF(INTRO!$E$39=\"Non-endemic\",0,IF(INTRO!$E$39=\"Endemic but PC is not required\",IF(COUNTRY_INFO!$H89=1,COUNTRY_INFO!F89+COUNTRY_INFO!G89,0),IF(COUNTRY_INFO!$H89=1,COUNTRY_INFO!F89+COUNTRY_INFO!G89,IF(COUNTRY_INFO!$I89=1,IF(COUNTRY_INFO!M89>=(COUNTRY_INFO!F89+COUNTRY_INFO!G89),COUNTRY_INFO!F89+COUNTRY_INFO!G89,COUNTRY_INFO!$M89),0))))","v":0},{"$f":"IF(AND(INTRO!$E$39=\"Non-endemic\",INTRO!$E$37=\"Non-endemic\"),\"Not required\",IF(INTRO!$E$39=\"Non-endemic\",\"Treat with DEC\",COUNTRY_INFO!P89))","v":0},{"$f":"IF(INTRO!$E$39<>\"Non-endemic\",COUNTRY_INFO!Q89,\"Not required\")","v":0},{"$f":"IF(COUNTRY_INFO!H89=1, IF($E89=1,$D89, 0),0)","v":0},{"$f":"IF(INTRO!$E$39<>\"Endemic\",0, IF(AND(COUNTRY_INFO!$I89=1,$F89<>0),IF(COUNTRY_INFO!M89>=(COUNTRY_INFO!F89+COUNTRY_INFO!G89),COUNTRY_INFO!F89+COUNTRY_INFO!G89,COUNTRY_INFO!$M89), 0))","v":0},0,0,0,0,0,0,null,0,0]
[{"$f":"IF(INTRO!$E$39=\"Non-endemic\",\" \",IF(COUNTRY_INFO!A90=0,\" \",COUNTRY_INFO!A90))","v":"Uganda"},{"$f":"IF(INTRO!$E$39=\"Non-endemic\",\" \",IF(COUNTRY_INFO!B90=0,\" \",COUNTRY_INFO!B90))","v":"NORTHERN"},{"$f":"IF(INTRO!$E$39=\"Non-endemic\",\" \",IF(COUNTRY_INFO!C90=0,\" \",COUNTRY_INFO!C90))","v":"KARENGA"},{"$f":"IF(INTRO!$E$39=\"Non-endemic\",0,IF(INTRO!$E$39=\"Endemic but PC is not required\",IF(COUNTRY_INFO!$H90=1,COUNTRY_INFO!F90+COUNTRY_INFO!G90,0),IF(COUNTRY_INFO!$H90=1,COUNTRY_INFO!F90+COUNTRY_INFO!G90,IF(COUNTRY_INFO!$I90=1,IF(COUNTRY_INFO!M90>=(COUNTRY_INFO!F90+COUNTRY_INFO!G90),COUNTRY_INFO!F90+COUNTRY_INFO!G90,COUNTRY_INFO!$M90),0))))","v":0},{"$f":"IF(AND(INTRO!$E$39=\"Non-endemic\",INTRO!$E$37=\"Non-endemic\"),\"Not required\",IF(INTRO!$E$39=\"Non-endemic\",\"Treat with DEC\",COUNTRY_INFO!P90))","v":0},{"$f":"IF(INTRO!$E$39<>\"Non-endemic\",COUNTRY_INFO!Q90,\"Not required\")","v":0},{"$f":"IF(COUNTRY_INFO!H90=1, IF($E90=1,$D90, 0),0)","v":0},{"$f":"IF(INTRO!$E$39<>\"Endemic\",0, IF(AND(COUNTRY_INFO!$I90=1,$F90<>0),IF(COUNTRY_INFO!M90>=(COUNTRY_INFO!F90+COUNTRY_INFO!G90),COUNTRY_INFO!F90+COUNTRY_INFO!G90,COUNTRY_INFO!$M90), 0))","v":0},0,0,0,0,0,0,null,0,0]
[{"$f":"IF(INTRO!$E$39=\"Non-endemic\",\" \",IF(COUNTRY_INFO!A91=0,\" \",COUNTRY_INFO!A91))","v":"Uganda"},{"$f":"IF(INTRO!$E$39=\"Non-endemic\",\" \",IF(COUNTRY_INFO!B91=0,\" \",COUNTRY_INFO!B91))","v":"NORTHERN"},{"$f":"IF(INTRO!$E$39=\"Non-endemic\",\" \",IF(COUNTRY_INFO!C91=0,\" \",COUNTRY_INFO!C91))","v":"KITGUM"},142384,{"$f":"IF(AND(INTRO!$E$39=\"Non-endemic\",INTRO!$E$37=\"Non-endemic\"),\"Not required\",IF(INTRO!$E$39=\"Non-endemic\",\"Treat with DEC\",COUNTRY_INFO!P91))","v":0},{"$f":"IF(INTRO!$E$39<>\"Non-endemic\",COUNTRY_INFO!Q91,\"Not required\")","v":2},{"$f":"IF(COUNTRY_INFO!H91=1, IF($E91=1,$D91, 0),0)","v":0},159765,142384,142384,0,797350.39999999991,0,797350.39999999991,null,797350.39999999991,1595]
[{"$f":"IF(INTRO!$E$39=\"Non-endemic\",\" \",IF(COUNTRY_INFO!A92=0,\" \",COUNTRY_INFO!A92))","v":"Uganda"},{"$f":"IF(INTRO!$E$39=\"Non-endemic\",\" \",IF(COUNTRY_INFO!B92=0,\" \",COUNTRY_INFO!B92))","v":"NORTHERN"},{"$f":"IF(INTRO!$E$39=\"Non-endemic\",\" \",IF(COUNTRY_INFO!C92=0,\" \",COUNTRY_INFO!C92))","v":"KOBOKO"},{"$f":"IF(INTRO!$E$39=\"Non-endemic\",0,IF(INTRO!$E$39=\"Endemic but PC is not required\",IF(COUNTRY_INFO!$H92=1,COUNTRY_INFO!F92+COUNTRY_INFO!G92,0),IF(COUNTRY_INFO!$H92=1,COUNTRY_INFO!F92+COUNTRY_INFO!G92,IF(COUNTRY_INFO!$I92=1,IF(COUNTRY_INFO!M92>=(COUNTRY_INFO!F92+COUNTRY_INFO!G92),COUNTRY_INFO!F92+COUNTRY_INFO!G92,COUNTRY_INFO!$M92),0))))","v":0},{"$f":"IF(AND(INTRO!$E$39=\"Non-endemic\",INTRO!$E$37=\"Non-endemic\"),\"Not required\",IF(INTRO!$E$39=\"Non-endemic\",\"Treat with DEC\",COUNTRY_INFO!P92))","v":0},{"$f":"IF(INTRO!$E$39<>\"Non-endemic\",COUNTRY_INFO!Q92,\"Not required\")","v":0},{"$f":"IF(COUNTRY_INFO!H92=1, IF($E92=1,$D92, 0),0)","v":0},{"$f":"IF(INTRO!$E$39<>\"Endemic\",0, IF(AND(COUNTRY_INFO!$I92=1,$F92<>0),IF(COUNTRY_INFO!M92>=(COUNTRY_INFO!F92+COUNTRY_INFO!G92),COUNTRY_INFO!F92+COUNTRY_INFO!G92,COUNTRY_INFO!$M92), 0))","v":0},0,0,0,0,0,0,null,0,0]
[{"$f":"IF(INTRO!$E$39=\"Non-endemic\",\" \",IF(COUNTRY_INFO!A93=0,\" \",COUNTRY_INFO!A93))","v":"Uganda"},{"$f":"IF(INTRO!$E$39=\"Non-endemic\",\" \",IF(COUNTRY_INFO!B93=0,\" \",COUNTRY_INFO!B93))","v":"NORTHERN"},{"$f":"IF(INTRO!$E$39=\"Non-endemic\",\" \",IF(COUNTRY_INFO!C93=0,\" \",COUNTRY_INFO!C93))","v":"KOLE"},{"$f":"IF(INTRO!$E$39=\"Non-endemic\",0,IF(INTRO!$E$39=\"Endemic but PC is not required\",IF(COUNTRY_INFO!$H93=1,COUNTRY_INFO!F93+COUNTRY_INFO!G93,0),IF(COUNTRY_INFO!$H93=1,COUNTRY_INFO!F93+COUNTRY_INFO!G93,IF(COUNTRY_INFO!$I93=1,IF(COUNTRY_INFO!M93>=(COUNTRY_INFO!F93+COUNTRY_INFO!G93),COUNTRY_INFO!F93+COUNTRY_INFO!G93,COUNTRY_INFO!$M93),0))))","v":0},{"$f":"IF(AND(INTRO!$E$39=\"Non-endemic\",INTRO!$E$37=\"Non-endemic\"),\"Not required\",IF(INTRO!$E$39=\"Non-endemic\",\"Treat with DEC\",COUNTRY_INFO!P93))","v":0},{"$f":"IF(INTRO!$E$39<>\"Non-endemic\",COUNTRY_INFO!Q93,\"Not required\")","v":0},{"$f":"IF(COUNTRY_INFO!H93=1, IF($E93=1,$D93, 0),0)","v":0},{"$f":"IF(INTRO!$E$39<>\"Endemic\",0, IF(AND(COUNTRY_INFO!$I93=1,$F93<>0),IF(COUNTRY_INFO!M93>=(COUNTRY_INFO!F93+COUNTRY_INFO!G93),COUNTRY_INFO!F93+COUNTRY_INFO!G93,COUNTRY_INFO!$M93), 0))","v":0},0,0,0,0,0,0,null,0,0]
[{"$f":"IF(INTRO!$E$39=\"Non-endemic\",\" \",IF(COUNTRY_INFO!A94=0,\" \",COUNTRY_INFO!A94))","v":"Uganda"},{"$f":"IF(INTRO!$E$39=\"Non-endemic\",\" \",IF(COUNTRY_INFO!B94=0,\" \",COUNTRY_INFO!B94))","v":"NORTHERN"},{"$f":"IF(INTRO!$E$39=\"Non-endemic\",\" \",IF(COUNTRY_INFO!C94=0,\" \",COUNTRY_INFO!C94))","v":"KOTIDO"},{"$f":"IF(INTRO!$E$39=\"Non-endemic\",0,IF(INTRO!$E$39=\"Endemic but PC is not required\",IF(COUNTRY_INFO!$H94=1,COUNTRY_INFO!F94+COUNTRY_INFO!G94,0),IF(COUNTRY_INFO!$H94=1,COUNTRY_INFO!F94+COUNTRY_INFO!G94,IF(COUNTRY_INFO!$I94=1,IF(COUNTRY_INFO!M94>=(COUNTRY_INFO!F94+COUNTRY_INFO!G94),COUNTRY_INFO!F94+COUNTRY_INFO!G94,COUNTRY_INFO!$M94),0))))","v":0},{"$f":"IF(AND(INTRO!$E$39=\"Non-endemic\",INTRO!$E$37=\"Non-endemic\"),\"Not required\",IF(INTRO!$E$39=\"Non-endemic\",\"Treat with DEC\",COUNTRY_INFO!P94))","v":0},{"$f":"IF(INTRO!$E$39<>\"Non-endemic\",COUNTRY_INFO!Q94,\"Not required\")","v":0},{"$f":"IF(COUNTRY_INFO!H94=1, IF($E94=1,$D94, 0),0)","v":0},{"$f":"IF(INTRO!$E$39<>\"Endemic\",0, IF(AND(COUNTRY_INFO!$I94=1,$F94<>0),IF(COUNTRY_INFO!M94>=(COUNTRY_INFO!F94+COUNTRY_INFO!G94),COUNTRY_INFO!F94+COUNTRY_INFO!G94,COUNTRY_INFO!$M94), 0))","v":0},0,0,0,0,0,0,null,0,0]
[{"$f":"IF(INTRO!$E$39=\"Non-endemic\",\" \",IF(COUNTRY_INFO!A95=0,\" \",COUNTRY_INFO!A95))","v":"Uganda"},{"$f":"IF(INTRO!$E$39=\"Non-endemic\",\" \",IF(COUNTRY_INFO!B95=0,\" \",COUNTRY_INFO!B95))","v":"NORTHERN"},{"$f":"IF(INTRO!$E$39=\"Non-endemic\",\" \",IF(COUNTRY_INFO!C95=0,\" \",COUNTRY_INFO!C95))","v":"KWANIA"},{"$f":"IF(INTRO!$E$39=\"Non-endemic\",0,IF(INTRO!$E$39=\"Endemic but PC is not required\",IF(COUNTRY_INFO!$H95=1,COUNTRY_INFO!F95+COUNTRY_INFO!G95,0),IF(COUNTRY_INFO!$H95=1,COUNTRY_INFO!F95+COUNTRY_INFO!G95,IF(COUNTRY_INFO!$I95=1,IF(COUNTRY_INFO!M95>=(COUNTRY_INFO!F95+COUNTRY_INFO!G95),COUNTRY_INFO!F95+COUNTRY_INFO!G95,COUNTRY_INFO!$M95),0))))","v":0},{"$f":"IF(AND(INTRO!$E$39=\"Non-endemic\",INTRO!$E$37=\"Non-endemic\"),\"Not required\",IF(INTRO!$E$39=\"Non-endemic\",\"Treat with DEC\",COUNTRY_INFO!P95))","v":0},{"$f":"IF(INTRO!$E$39<>\"Non-endemic\",COUNTRY_INFO!Q95,\"Not required\")","v":0},{"$f":"IF(COUNTRY_INFO!H95=1, IF($E95=1,$D95, 0),0)","v":0},{"$f":"IF(INTRO!$E$39<>\"Endemic\",0, IF(AND(COUNTRY_INFO!$I95=1,$F95<>0),IF(COUNTRY_INFO!M95>=(COUNTRY_INFO!F95+COUNTRY_INFO!G95),COUNTRY_INFO!F95+COUNTRY_INFO!G95,COUNTRY_INFO!$M95), 0))","v":0},0,0,0,0,0,0,null,0,0]
[{"$f":"IF(INTRO!$E$39=\"Non-endemic\",\" \",IF(COUNTRY_INFO!A96=0,\" \",COUNTRY_INFO!A96))","v":"Uganda"},{"$f":"IF(INTRO!$E$39=\"Non-endemic\",\" \",IF(COUNTRY_INFO!B96=0,\" \",COUNTRY_INFO!B96))","v":"NORTHERN"},{"$f":"IF(INTRO!$E$39=\"Non-endemic\",\" \",IF(COUNTRY_INFO!C96=0,\" \",COUNTRY_INFO!C96))","v":"LAMWO"},172644,{"$f":"IF(AND(INTRO!$E$39=\"Non-endemic\",INTRO!$E$37=\"Non-endemic\"),\"Not required\",IF(INTRO!$E$39=\"Non-endemic\",\"Treat with DEC\",COUNTRY_INFO!P96))","v":0},{"$f":"IF(INTRO!$E$39<>\"Non-endemic\",COUNTRY_INFO!Q96,\"Not required\")","v":2},{"$f":"IF(COUNTRY_INFO!H96=1, IF($E96=1,$D96, 0),0)","v":0},198064,172644,172644,0,966806.39999999991,0,966806.39999999991,null,966806.39999999991,1934]
[{"$f":"IF(INTRO!$E$39=\"Non-endemic\",\" \",IF(COUNTRY_INFO!A97=0,\" \",COUNTRY_INFO!A97))","v":"Uganda"},{"$f":"IF(INTRO!$E$39=\"Non-endemic\",\" \",IF(COUNTRY_INFO!B97=0,\" \",COUNTRY_INFO!B97))","v":"NORTHERN"},{"$f":"IF(INTRO!$E$39=\"Non-endemic\",\" \",IF(COUNTRY_INFO!C97=0,\" \",COUNTRY_INFO!C97))","v":"LIRA"},73287,{"$f":"IF(AND(INTRO!$E$39=\"Non-endemic\",INTRO!$E$37=\"Non-endemic\"),\"Not required\",IF(INTRO!$E$39=\"Non-endemic\",\"Treat with DEC\",COUNTRY_INFO!P97))","v":0},{"$f":"IF(INTRO!$E$39<>\"Non-endemic\",COUNTRY_INFO!Q97,\"Not required\")","v":2},{"$f":"IF(COUNTRY_INFO!H97=1, IF($E97=1,$D97, 0),0)","v":0},87297,73287,73287,0,410407.19999999995,0,410407.19999999995,null,410407.19999999995,821]
[{"$f":"IF(INTRO!$E$39=\"Non-endemic\",\" \",IF(COUNTRY_INFO!A98=0,\" \",COUNTRY_INFO!A98))","v":"Uganda"},{"$f":"IF(INTRO!$E$39=\"Non-endemic\",\" \",IF(COUNTRY_INFO!B98=0,\" \",COUNTRY_INFO!B98))","v":"NORTHERN"},{"$f":"IF(INTRO!$E$39=\"Non-endemic\",\" \",IF(COUNTRY_INFO!C98=0,\" \",COUNTRY_INFO!C98))","v":"Lira City"},{"$f":"IF(INTRO!$E$39=\"Non-endemic\",0,IF(INTRO!$E$39=\"Endemic but PC is not required\",IF(COUNTRY_INFO!$H98=1,COUNTRY_INFO!F98+COUNTRY_INFO!G98,0),IF(COUNTRY_INFO!$H98=1,COUNTRY_INFO!F98+COUNTRY_INFO!G98,IF(COUNTRY_INFO!$I98=1,IF(COUNTRY_INFO!M98>=(COUNTRY_INFO!F98+COUNTRY_INFO!G98),COUNTRY_INFO!F98+COUNTRY_INFO!G98,COUNTRY_INFO!$M98),0))))","v":0},{"$f":"IF(AND(INTRO!$E$39=\"Non-endemic\",INTRO!$E$37=\"Non-endemic\"),\"Not required\",IF(INTRO!$E$39=\"Non-endemic\",\"Treat with DEC\",COUNTRY_INFO!P98))","v":0},{"$f":"IF(INTRO!$E$39<>\"Non-endemic\",COUNTRY_INFO!Q98,\"Not required\")","v":0},{"$f":"IF(COUNTRY_INFO!H98=1, IF($E98=1,$D98, 0),0)","v":0},{"$f":"IF(INTRO!$E$39<>\"Endemic\",0, IF(AND(COUNTRY_INFO!$I98=1,$F98<>0),IF(COUNTRY_INFO!M98>=(COUNTRY_INFO!F98+COUNTRY_INFO!G98),COUNTRY_INFO!F98+COUNTRY_INFO!G98,COUNTRY_INFO!$M98), 0))","v":0},0,0,0,0,0,0,null,0,0]
[{"$f":"IF(INTRO!$E$39=\"Non-endemic\",\" \",IF(COUNTRY_INFO!A99=0,\" \",COUNTRY_INFO!A99))","v":"Uganda"},{"$f":"IF(INTRO!$E$39=\"Non-endemic\",\" \",IF(COUNTRY_INFO!B99=0,\" \",COUNTRY_INFO!B99))","v":"NORTHERN"},{"$f":"IF(INTRO!$E$39=\"Non-endemic\",\" \",IF(COUNTRY_INFO!C99=0,\" \",COUNTRY_INFO!C99))","v":"MADI OKOLLO"},{"$f":"IF(INTRO!$E$39=\"Non-endemic\",0,IF(INTRO!$E$39=\"Endemic but PC is not required\",IF(COUNTRY_INFO!$H99=1,COUNTRY_INFO!F99+COUNTRY_INFO!G99,0),IF(COUNTRY_INFO!$H99=1,COUNTRY_INFO!F99+COUNTRY_INFO!G99,IF(COUNTRY_INFO!$I99=1,IF(COUNTRY_INFO!M99>=(COUNTRY_INFO!F99+COUNTRY_INFO!G99),COUNTRY_INFO!F99+COUNTRY_INFO!G99,COUNTRY_INFO!$M99),0))))","v":0},{"$f":"IF(AND(INTRO!$E$39=\"Non-endemic\",INTRO!$E$37=\"Non-endemic\"),\"Not required\",IF(INTRO!$E$39=\"Non-endemic\",\"Treat with DEC\",COUNTRY_INFO!P99))","v":0},{"$f":"IF(INTRO!$E$39<>\"Non-endemic\",COUNTRY_INFO!Q99,\"Not required\")","v":0},{"$f":"IF(COUNTRY_INFO!H99=1, IF($E99=1,$D99, 0),0)","v":0},{"$f":"IF(INTRO!$E$39<>\"Endemic\",0, IF(AND(COUNTRY_INFO!$I99=1,$F99<>0),IF(COUNTRY_INFO!M99>=(COUNTRY_INFO!F99+COUNTRY_INFO!G99),COUNTRY_INFO!F99+COUNTRY_INFO!G99,COUNTRY_INFO!$M99), 0))","v":0},0,0,0,0,0,0,null,0,0]
[{"$f":"IF(INTRO!$E$39=\"Non-endemic\",\" \",IF(COUNTRY_INFO!A100=0,\" \",COUNTRY_INFO!A100))","v":"Uganda"},{"$f":"IF(INTRO!$E$39=\"Non-endemic\",\" \",IF(COUNTRY_INFO!B100=0,\" \",COUNTRY_INFO!B100))","v":"NORTHERN"},{"$f":"IF(INTRO!$E$39=\"Non-endemic\",\" \",IF(COUNTRY_INFO!C100=0,\" \",COUNTRY_INFO!C100))","v":"MARACHA"},{"$f":"IF(INTRO!$E$39=\"Non-endemic\",0,IF(INTRO!$E$39=\"Endemic but PC is not required\",IF(COUNTRY_INFO!$H100=1,COUNTRY_INFO!F100+COUNTRY_INFO!G100,0),IF(COUNTRY_INFO!$H100=1,COUNTRY_INFO!F100+COUNTRY_INFO!G100,IF(COUNTRY_INFO!$I100=1,IF(COUNTRY_INFO!M100>=(COUNTRY_INFO!F100+COUNTRY_INFO!G100),COUNTRY_INFO!F100+COUNTRY_INFO!G100,COUNTRY_INFO!$M100),0))))","v":0},{"$f":"IF(AND(INTRO!$E$39=\"Non-endemic\",INTRO!$E$37=\"Non-endemic\"),\"Not required\",IF(INTRO!$E$39=\"Non-endemic\",\"Treat with DEC\",COUNTRY_INFO!P100))","v":0},{"$f":"IF(INTRO!$E$39<>\"Non-endemic\",COUNTRY_INFO!Q100,\"Not required\")","v":0},{"$f":"IF(COUNTRY_INFO!H100=1, IF($E100=1,$D100, 0),0)","v":0},{"$f":"IF(INTRO!$E$39<>\"Endemic\",0, IF(AND(COUNTRY_INFO!$I100=1,$F100<>0),IF(COUNTRY_INFO!M100>=(COUNTRY_INFO!F100+COUNTRY_INFO!G100),COUNTRY_INFO!F100+COUNTRY_INFO!G100,COUNTRY_INFO!$M100), 0))","v":0},0,0,0,0,0,0,null,0,0]
[{"$f":"IF(INTRO!$E$39=\"Non-endemic\",\" \",IF(COUNTRY_INFO!A101=0,\" \",COUNTRY_INFO!A101))","v":"Uganda"},{"$f":"IF(INTRO!$E$39=\"Non-endemic\",\" \",IF(COUNTRY_INFO!B101=0,\" \",COUNTRY_INFO!B101))","v":"NORTHERN"},{"$f":"IF(INTRO!$E$39=\"Non-endemic\",\" \",IF(COUNTRY_INFO!C101=0,\" \",COUNTRY_INFO!C101))","v":"MOROTO"},{"$f":"IF(INTRO!$E$39=\"Non-endemic\",0,IF(INTRO!$E$39=\"Endemic but PC is not required\",IF(COUNTRY_INFO!$H101=1,COUNTRY_INFO!F101+COUNTRY_INFO!G101,0),IF(COUNTRY_INFO!$H101=1,COUNTRY_INFO!F101+COUNTRY_INFO!G101,IF(COUNTRY_INFO!$I101=1,IF(COUNTRY_INFO!M101>=(COUNTRY_INFO!F101+COUNTRY_INFO!G101),COUNTRY_INFO!F101+COUNTRY_INFO!G101,COUNTRY_INFO!$M101),0))))","v":0},{"$f":"IF(AND(INTRO!$E$39=\"Non-endemic\",INTRO!$E$37=\"Non-endemic\"),\"Not required\",IF(INTRO!$E$39=\"Non-endemic\",\"Treat with DEC\",COUNTRY_INFO!P101))","v":0},{"$f":"IF(INTRO!$E$39<>\"Non-endemic\",COUNTRY_INFO!Q101,\"Not required\")","v":0},{"$f":"IF(COUNTRY_INFO!H101=1, IF($E101=1,$D101, 0),0)","v":0},{"$f":"IF(INTRO!$E$39<>\"Endemic\",0, IF(AND(COUNTRY_INFO!$I101=1,$F101<>0),IF(COUNTRY_INFO!M101>=(COUNTRY_INFO!F101+COUNTRY_INFO!G101),COUNTRY_INFO!F101+COUNTRY_INFO!G101,COUNTRY_INFO!$M101), 0))","v":0},0,0,0,0,0,0,null,0,0]
[{"$f":"IF(INTRO!$E$39=\"Non-endemic\",\" \",IF(COUNTRY_INFO!A102=0,\" \",COUNTRY_INFO!A102))","v":"Uganda"},{"$f":"IF(INTRO!$E$39=\"Non-endemic\",\" \",IF(COUNTRY_INFO!B102=0,\" \",COUNTRY_INFO!B102))","v":"NORTHERN"},{"$f":"IF(INTRO!$E$39=\"Non-endemic\",\" \",IF(COUNTRY_INFO!C102=0,\" \",COUNTRY_INFO!C102))","v":"MOYO"},95747,{"$f":"IF(AND(INTRO!$E$39=\"Non-endemic\",INTRO!$E$37=\"Non-endemic\"),\"Not required\",IF(INTRO!$E$39=\"Non-endemic\",\"Treat with DEC\",COUNTRY_INFO!P102))","v":0},{"$f":"IF(INTRO!$E$39<>\"Non-endemic\",COUNTRY_INFO!Q102,\"Not required\")","v":2},{"$f":"IF(COUNTRY_INFO!H102=1, IF($E102=1,$D102, 0),0)","v":0},108193,95747,95747,0,536183.19999999995,0,536183.19999999995,null,536183.19999999995,1073]
[{"$f":"IF(INTRO!$E$39=\"Non-endemic\",\" \",IF(COUNTRY_INFO!A103=0,\" \",COUNTRY_INFO!A103))","v":"Uganda"},{"$f":"IF(INTRO!$E$39=\"Non-endemic\",\" \",IF(COUNTRY_INFO!B103=0,\" \",COUNTRY_INFO!B103))","v":"NORTHERN"},{"$f":"IF(INTRO!$E$39=\"Non-endemic\",\" \",IF(COUNTRY_INFO!C103=0,\" \",COUNTRY_INFO!C103))","v":"NABILATUK"},{"$f":"IF(INTRO!$E$39=\"Non-endemic\",0,IF(INTRO!$E$39=\"Endemic but PC is not required\",IF(COUNTRY_INFO!$H103=1,COUNTRY_INFO!F103+COUNTRY_INFO!G103,0),IF(COUNTRY_INFO!$H103=1,COUNTRY_INFO!F103+COUNTRY_INFO!G103,IF(COUNTRY_INFO!$I103=1,IF(COUNTRY_INFO!M103>=(COUNTRY_INFO!F103+COUNTRY_INFO!G103),COUNTRY_INFO!F103+COUNTRY_INFO!G103,COUNTRY_INFO!$M103),0))))","v":0},{"$f":"IF(AND(INTRO!$E$39=\"Non-endemic\",INTRO!$E$37=\"Non-endemic\"),\"Not required\",IF(INTRO!$E$39=\"Non-endemic\",\"Treat with DEC\",COUNTRY_INFO!P103))","v":0},{"$f":"IF(INTRO!$E$39<>\"Non-endemic\",COUNTRY_INFO!Q103,\"Not required\")","v":0},{"$f":"IF(COUNTRY_INFO!H103=1, IF($E103=1,$D103, 0),0)","v":0},{"$f":"IF(INTRO!$E$39<>\"Endemic\",0, IF(AND(COUNTRY_INFO!$I103=1,$F103<>0),IF(COUNTRY_INFO!M103>=(COUNTRY_INFO!F103+COUNTRY_INFO!G103),COUNTRY_INFO!F103+COUNTRY_INFO!G103,COUNTRY_INFO!$M103), 0))","v":0},0,0,0,0,0,0,null,0,0]
[{"$f":"IF(INTRO!$E$39=\"Non-endemic\",\" \",IF(COUNTRY_INFO!A104=0,\" \",COUNTRY_INFO!A104))","v":"Uganda"},{"$f":"IF(INTRO!$E$39=\"Non-endemic\",\" \",IF(COUNTRY_INFO!B104=0,\" \",COUNTRY_INFO!B104))","v":"NORTHERN"},{"$f":"IF(INTRO!$E$39=\"Non-endemic\",\" \",IF(COUNTRY_INFO!C104=0,\" \",COUNTRY_INFO!C104))","v":"NAKAPIRIPIRIT"},{"$f":"IF(INTRO!$E$39=\"Non-endemic\",0,IF(INTRO!$E$39=\"Endemic but PC is not required\",IF(COUNTRY_INFO!$H104=1,COUNTRY_INFO!F104+COUNTRY_INFO!G104,0),IF(COUNTRY_INFO!$H104=1,COUNTRY_INFO!F104+COUNTRY_INFO!G104,IF(COUNTRY_INFO!$I104=1,IF(COUNTRY_INFO!M104>=(COUNTRY_INFO!F104+COUNTRY_INFO!G104),COUNTRY_INFO!F104+COUNTRY_INFO!G104,COUNTRY_INFO!$M104),0))))","v":0},{"$f":"IF(AND(INTRO!$E$39=\"Non-endemic\",INTRO!$E$37=\"Non-endemic\"),\"Not required\",IF(INTRO!$E$39=\"Non-endemic\",\"Treat with DEC\",COUNTRY_INFO!P104))","v":0},{"$f":"IF(INTRO!$E$39<>\"Non-endemic\",COUNTRY_INFO!Q104,\"Not required\")","v":0},{"$f":"IF(COUNTRY_INFO!H104=1, IF($E104=1,$D104, 0),0)","v":0},{"$f":"IF(INTRO!$E$39<>\"Endemic\",0, IF(AND(COUNTRY_INFO!$I104=1,$F104<>0),IF(COUNTRY_INFO!M104>=(COUNTRY_INFO!F104+COUNTRY_INFO!G104),COUNTRY_INFO!F104+COUNTRY_INFO!G104,COUNTRY_INFO!$M104), 0))","v":0},0,0,0,0,0,0,null,0,0]
[{"$f":"IF(INTRO!$E$39=\"Non-endemic\",\" \",IF(COUNTRY_INFO!A105=0,\" \",COUNTRY_INFO!A105))","v":"Uganda"},{"$f":"IF(INTRO!$E$39=\"Non-endemic\",\" \",IF(COUNTRY_INFO!B105=0,\" \",COUNTRY_INFO!B105))","v":"NORTHERN"},{"$f":"IF(INTRO!$E$39=\"Non-endemic\",\" \",IF(COUNTRY_INFO!C105=0,\" \",COUNTRY_INFO!C105))","v":"NAPAK"},{"$f":"IF(INTRO!$E$39=\"Non-endemic\",0,IF(INTRO!$E$39=\"Endemic but PC is not required\",IF(COUNTRY_INFO!$H105=1,COUNTRY_INFO!F105+COUNTRY_INFO!G105,0),IF(COUNTRY_INFO!$H105=1,COUNTRY_INFO!F105+COUNTRY_INFO!G105,IF(COUNTRY_INFO!$I105=1,IF(COUNTRY_INFO!M105>=(COUNTRY_INFO!F105+COUNTRY_INFO!G105),COUNTRY_INFO!F105+COUNTRY_INFO!G105,COUNTRY_INFO!$M105),0))))","v":0},{"$f":"IF(AND(INTRO!$E$39=\"Non-endemic\",INTRO!$E$37=\"Non-endemic\"),\"Not required\",IF(INTRO!$E$39=\"Non-endemic\",\"Treat with DEC\",COUNTRY_INFO!P105))","v":0},{"$f":"IF(INTRO!$E$39<>\"Non-endemic\",COUNTRY_INFO!Q105,\"Not required\")","v":0},{"$f":"IF(COUNTRY_INFO!H105=1, IF($E105=1,$D105, 0),0)","v":0},{"$f":"IF(INTRO!$E$39<>\"Endemic\",0, IF(AND(COUNTRY_INFO!$I105=1,$F105<>0),IF(COUNTRY_INFO!M105>=(COUNTRY_INFO!F105+COUNTRY_INFO!G105),COUNTRY_INFO!F105+COUNTRY_INFO!G105,COUNTRY_INFO!$M105), 0))","v":0},0,0,0,0,0,0,null,0,0]
[{"$f":"IF(INTRO!$E$39=\"Non-endemic\",\" \",IF(COUNTRY_INFO!A106=0,\" \",COUNTRY_INFO!A106))","v":"Uganda"},{"$f":"IF(INTRO!$E$39=\"Non-endemic\",\" \",IF(COUNTRY_INFO!B106=0,\" \",COUNTRY_INFO!B106))","v":"NORTHERN"},{"$f":"IF(INTRO!$E$39=\"Non-endemic\",\" \",IF(COUNTRY_INFO!C106=0,\" \",COUNTRY_INFO!C106))","v":"NEBBI"},{"$f":"IF(INTRO!$E$39=\"Non-endemic\",0,IF(INTRO!$E$39=\"Endemic but PC is not required\",IF(COUNTRY_INFO!$H106=1,COUNTRY_INFO!F106+COUNTRY_INFO!G106,0),IF(COUNTRY_INFO!$H106=1,COUNTRY_INFO!F106+COUNTRY_INFO!G106,IF(COUNTRY_INFO!$I106=1,IF(COUNTRY_INFO!M106>=(COUNTRY_INFO!F106+COUNTRY_INFO!G106),COUNTRY_INFO!F106+COUNTRY_INFO!G106,COUNTRY_INFO!$M106),0))))","v":0},{"$f":"IF(AND(INTRO!$E$39=\"Non-endemic\",INTRO!$E$37=\"Non-endemic\"),\"Not required\",IF(INTRO!$E$39=\"Non-endemic\",\"Treat with DEC\",COUNTRY_INFO!P106))","v":0},{"$f":"IF(INTRO!$E$39<>\"Non-endemic\",COUNTRY_INFO!Q106,\"Not required\")","v":0},{"$f":"IF(COUNTRY_INFO!H106=1, IF($E106=1,$D106, 0),0)","v":0},{"$f":"IF(INTRO!$E$39<>\"Endemic\",0, IF(AND(COUNTRY_INFO!$I106=1,$F106<>0),IF(COUNTRY_INFO!M106>=(COUNTRY_INFO!F106+COUNTRY_INFO!G106),COUNTRY_INFO!F106+COUNTRY_INFO!G106,COUNTRY_INFO!$M106), 0))","v":0},0,0,0,0,0,0,null,0,0]
[{"$f":"IF(INTRO!$E$39=\"Non-endemic\",\" \",IF(COUNTRY_INFO!A107=0,\" \",COUNTRY_INFO!A107))","v":"Uganda"},{"$f":"IF(INTRO!$E$39=\"Non-endemic\",\" \",IF(COUNTRY_INFO!B107=0,\" \",COUNTRY_INFO!B107))","v":"NORTHERN"},{"$f":"IF(INTRO!$E$39=\"Non-endemic\",\" \",IF(COUNTRY_INFO!C107=0,\" \",COUNTRY_INFO!C107))","v":"NWOYA"},196101,{"$f":"IF(AND(INTRO!$E$39=\"Non-endemic\",INTRO!$E$37=\"Non-endemic\"),\"Not required\",IF(INTRO!$E$39=\"Non-endemic\",\"Treat with DEC\",COUNTRY_INFO!P107))","v":0},{"$f":"IF(INTRO!$E$39<>\"Non-endemic\",COUNTRY_INFO!Q107,\"Not required\")","v":2},{"$f":"IF(COUNTRY_INFO!H107=1, IF($E107=1,$D107, 0),0)","v":0},227009,196101,196101,0,1098165.5999999999,0,1098165.5999999999,null,1098165.5999999999,2197]
[{"$f":"IF(INTRO!$E$39=\"Non-endemic\",\" \",IF(COUNTRY_INFO!A108=0,\" \",COUNTRY_INFO!A108))","v":"Uganda"},{"$f":"IF(INTRO!$E$39=\"Non-endemic\",\" \",IF(COUNTRY_INFO!B108=0,\" \",COUNTRY_INFO!B108))","v":"NORTHERN"},{"$f":"IF(INTRO!$E$39=\"Non-endemic\",\" \",IF(COUNTRY_INFO!C108=0,\" \",COUNTRY_INFO!C108))","v":"OBONGI"},100173,{"$f":"IF(AND(INTRO!$E$39=\"Non-endemic\",INTRO!$E$37=\"Non-endemic\"),\"Not required\",IF(INTRO!$E$39=\"Non-endemic\",\"Treat with DEC\",COUNTRY_INFO!P108))","v":0},2,{"$f":"IF(COUNTRY_INFO!H108=1, IF($E108=1,$D108, 0),0)","v":0},100173,100173,100173,0,560968.79999999993,0,560968.79999999993,null,560968.79999999993,1122]
[{"$f":"IF(INTRO!$E$39=\"Non-endemic\",\" \",IF(COUNTRY_INFO!A109=0,\" \",COUNTRY_INFO!A109))","v":"Uganda"},{"$f":"IF(INTRO!$E$39=\"Non-endemic\",\" \",IF(COUNTRY_INFO!B109=0,\" \",COUNTRY_INFO!B109))","v":"NORTHERN"},{"$f":"IF(INTRO!$E$39=\"Non-endemic\",\" \",IF(COUNTRY_INFO!C109=0,\" \",COUNTRY_INFO!C109))","v":"OMORO"},183068,{"$f":"IF(AND(INTRO!$E$39=\"Non-endemic\",INTRO!$E$37=\"Non-endemic\"),\"Not required\",IF(INTRO!$E$39=\"Non-endemic\",\"Treat with DEC\",COUNTRY_INFO!P109))","v":0},{"$f":"IF(INTRO!$E$39<>\"Non-endemic\",COUNTRY_INFO!Q109,\"Not required\")","v":2},{"$f":"IF(COUNTRY_INFO!H109=1, IF($E109=1,$D109, 0),0)","v":0},208774,183068,183068,0,1025180.7999999999,0,1025180.7999999999,null,1025180.7999999999,2051]
[{"$f":"IF(INTRO!$E$39=\"Non-endemic\",\" \",IF(COUNTRY_INFO!A110=0,\" \",COUNTRY_INFO!A110))","v":"Uganda"},{"$f":"IF(INTRO!$E$39=\"Non-endemic\",\" \",IF(COUNTRY_INFO!B110=0,\" \",COUNTRY_INFO!B110))","v":"NORTHERN"},{"$f":"IF(INTRO!$E$39=\"Non-endemic\",\" \",IF(COUNTRY_INFO!C110=0,\" \",COUNTRY_INFO!C110))","v":"OTUKE"},{"$f":"IF(INTRO!$E$39=\"Non-endemic\",0,IF(INTRO!$E$39=\"Endemic but PC is not required\",IF(COUNTRY_INFO!$H110=1,COUNTRY_INFO!F110+COUNTRY_INFO!G110,0),IF(COUNTRY_INFO!$H110=1,COUNTRY_INFO!F110+COUNTRY_INFO!G110,IF(COUNTRY_INFO!$I110=1,IF(COUNTRY_INFO!M110>=(COUNTRY_INFO!F110+COUNTRY_INFO!G110),COUNTRY_INFO!F110+COUNTRY_INFO!G110,COUNTRY_INFO!$M110),0))))","v":0},{"$f":"IF(AND(INTRO!$E$39=\"Non-endemic\",INTRO!$E$37=\"Non-endemic\"),\"Not required\",IF(INTRO!$E$39=\"Non-endemic\",\"Treat with DEC\",COUNTRY_INFO!P110))","v":0},{"$f":"IF(INTRO!$E$39<>\"Non-endemic\",COUNTRY_INFO!Q110,\"Not required\")","v":0},{"$f":"IF(COUNTRY_INFO!H110=1, IF($E110=1,$D110, 0),0)","v":0},{"$f":"IF(INTRO!$E$39<>\"Endemic\",0, IF(AND(COUNTRY_INFO!$I110=1,$F110<>0),IF(COUNTRY_INFO!M110>=(COUNTRY_INFO!F110+COUNTRY_INFO!G110),COUNTRY_INFO!F110+COUNTRY_INFO!G110,COUNTRY_INFO!$M110), 0))","v":0},0,0,0,0,0,0,null,0,0]
[{"$f":"IF(INTRO!$E$39=\"Non-endemic\",\" \",IF(COUNTRY_INFO!A111=0,\" \",COUNTRY_INFO!A111))","v":"Uganda"},{"$f":"IF(INTRO!$E$39=\"Non-endemic\",\" \",IF(COUNTRY_INFO!B111=0,\" \",COUNTRY_INFO!B111))","v":"NORTHERN"},{"$f":"IF(INTRO!$E$39=\"Non-endemic\",\" \",IF(COUNTRY_INFO!C111=0,\" \",COUNTRY_INFO!C111))","v":"OYAM"},26404,{"$f":"IF(AND(INTRO!$E$39=\"Non-endemic\",INTRO!$E$37=\"Non-endemic\"),\"Not required\",IF(INTRO!$E$39=\"Non-endemic\",\"Treat with DEC\",COUNTRY_INFO!P111))","v":0},{"$f":"IF(INTRO!$E$39<>\"Non-endemic\",COUNTRY_INFO!Q111,\"Not required\")","v":2},{"$f":"IF(COUNTRY_INFO!H111=1, IF($E111=1,$D111, 0),0)","v":0},30684,26404,26404,0,147862.39999999999,0,147862.39999999999,null,147862.39999999999,296]
[{"$f":"IF(INTRO!$E$39=\"Non-endemic\",\" \",IF(COUNTRY_INFO!A112=0,\" \",COUNTRY_INFO!A112))","v":"Uganda"},{"$f":"IF(INTRO!$E$39=\"Non-endemic\",\" \",IF(COUNTRY_INFO!B112=0,\" \",COUNTRY_INFO!B112))","v":"NORTHERN"},{"$f":"IF(INTRO!$E$39=\"Non-endemic\",\" \",IF(COUNTRY_INFO!C112=0,\" \",COUNTRY_INFO!C112))","v":"PADER"},193110,{"$f":"IF(AND(INTRO!$E$39=\"Non-endemic\",INTRO!$E$37=\"Non-endemic\"),\"Not required\",IF(INTRO!$E$39=\"Non-endemic\",\"Treat with DEC\",COUNTRY_INFO!P112))","v":0},{"$f":"IF(INTRO!$E$39<>\"Non-endemic\",COUNTRY_INFO!Q112,\"Not required\")","v":2},{"$f":"IF(COUNTRY_INFO!H112=1, IF($E112=1,$D112, 0),0)","v":0},225958,193110,193110,0,1081416,0,1081416,null,1081416,2163]
[{"$f":"IF(INTRO!$E$39=\"Non-endemic\",\" \",IF(COUNTRY_INFO!A113=0,\" \",COUNTRY_INFO!A113))","v":"Uganda"},{"$f":"IF(INTRO!$E$39=\"Non-endemic\",\" \",IF(COUNTRY_INFO!B113=0,\" \",COUNTRY_INFO!B113))","v":"NORTHERN"},{"$f":"IF(INTRO!$E$39=\"Non-endemic\",\" \",IF(COUNTRY_INFO!C113=0,\" \",COUNTRY_INFO!C113))","v":"PAKWACH"},{"$f":"IF(INTRO!$E$39=\"Non-endemic\",0,IF(INTRO!$E$39=\"Endemic but PC is not required\",IF(COUNTRY_INFO!$H113=1,COUNTRY_INFO!F113+COUNTRY_INFO!G113,0),IF(COUNTRY_INFO!$H113=1,COUNTRY_INFO!F113+COUNTRY_INFO!G113,IF(COUNTRY_INFO!$I113=1,IF(COUNTRY_INFO!M113>=(COUNTRY_INFO!F113+COUNTRY_INFO!G113),COUNTRY_INFO!F113+COUNTRY_INFO!G113,COUNTRY_INFO!$M113),0))))","v":0},{"$f":"IF(AND(INTRO!$E$39=\"Non-endemic\",INTRO!$E$37=\"Non-endemic\"),\"Not required\",IF(INTRO!$E$39=\"Non-endemic\",\"Treat with DEC\",COUNTRY_INFO!P113))","v":0},{"$f":"IF(INTRO!$E$39<>\"Non-endemic\",COUNTRY_INFO!Q113,\"Not required\")","v":0},{"$f":"IF(COUNTRY_INFO!H113=1, IF($E113=1,$D113, 0),0)","v":0},{"$f":"IF(INTRO!$E$39<>\"Endemic\",0, IF(AND(COUNTRY_INFO!$I113=1,$F113<>0),IF(COUNTRY_INFO!M113>=(COUNTRY_INFO!F113+COUNTRY_INFO!G113),COUNTRY_INFO!F113+COUNTRY_INFO!G113,COUNTRY_INFO!$M113), 0))","v":0},0,0,0,0,0,0,null,0,0]
[{"$f":"IF(INTRO!$E$39=\"Non-endemic\",\" \",IF(COUNTRY_INFO!A114=0,\" \",COUNTRY_INFO!A114))","v":"Uganda"},{"$f":"IF(INTRO!$E$39=\"Non-endemic\",\" \",IF(COUNTRY_INFO!B114=0,\" \",COUNTRY_INFO!B114))","v":"NORTHERN"},{"$f":"IF(INTRO!$E$39=\"Non-endemic\",\" \",IF(COUNTRY_INFO!C114=0,\" \",COUNTRY_INFO!C114))","v":"TEREGO"},{"$f":"IF(INTRO!$E$39=\"Non-endemic\",0,IF(INTRO!$E$39=\"Endemic but PC is not required\",IF(COUNTRY_INFO!$H114=1,COUNTRY_INFO!F114+COUNTRY_INFO!G114,0),IF(COUNTRY_INFO!$H114=1,COUNTRY_INFO!F114+COUNTRY_INFO!G114,IF(COUNTRY_INFO!$I114=1,IF(COUNTRY_INFO!M114>=(COUNTRY_INFO!F114+COUNTRY_INFO!G114),COUNTRY_INFO!F114+COUNTRY_INFO!G114,COUNTRY_INFO!$M114),0))))","v":0},{"$f":"IF(AND(INTRO!$E$39=\"Non-endemic\",INTRO!$E$37=\"Non-endemic\"),\"Not required\",IF(INTRO!$E$39=\"Non-endemic\",\"Treat with DEC\",COUNTRY_INFO!P114))","v":0},{"$f":"IF(INTRO!$E$39<>\"Non-endemic\",COUNTRY_INFO!Q114,\"Not required\")","v":0},{"$f":"IF(COUNTRY_INFO!H114=1, IF($E114=1,$D114, 0),0)","v":0},{"$f":"IF(INTRO!$E$39<>\"Endemic\",0, IF(AND(COUNTRY_INFO!$I114=1,$F114<>0),IF(COUNTRY_INFO!M114>=(COUNTRY_INFO!F114+COUNTRY_INFO!G114),COUNTRY_INFO!F114+COUNTRY_INFO!G114,COUNTRY_INFO!$M114), 0))","v":0},0,0,0,0,0,0,null,0,0]
[{"$f":"IF(INTRO!$E$39=\"Non-endemic\",\" \",IF(COUNTRY_INFO!A115=0,\" \",COUNTRY_INFO!A115))","v":"Uganda"},{"$f":"IF(INTRO!$E$39=\"Non-endemic\",\" \",IF(COUNTRY_INFO!B115=0,\" \",COUNTRY_INFO!B115))","v":"NORTHERN"},{"$f":"IF(INTRO!$E$39=\"Non-endemic\",\" \",IF(COUNTRY_INFO!C115=0,\" \",COUNTRY_INFO!C115))","v":"YUMBE"},{"$f":"IF(INTRO!$E$39=\"Non-endemic\",0,IF(INTRO!$E$39=\"Endemic but PC is not required\",IF(COUNTRY_INFO!$H115=1,COUNTRY_INFO!F115+COUNTRY_INFO!G115,0),IF(COUNTRY_INFO!$H115=1,COUNTRY_INFO!F115+COUNTRY_INFO!G115,IF(COUNTRY_INFO!$I115=1,IF(COUNTRY_INFO!M115>=(COUNTRY_INFO!F115+COUNTRY_INFO!G115),COUNTRY_INFO!F115+COUNTRY_INFO!G115,COUNTRY_INFO!$M115),0))))","v":0},{"$f":"IF(AND(INTRO!$E$39=\"Non-endemic\",INTRO!$E$37=\"Non-endemic\"),\"Not required\",IF(INTRO!$E$39=\"Non-endemic\",\"Treat with DEC\",COUNTRY_INFO!P115))","v":0},{"$f":"IF(INTRO!$E$39<>\"Non-endemic\",COUNTRY_INFO!Q115,\"Not required\")","v":0},{"$f":"IF(COUNTRY_INFO!H115=1, IF($E115=1,$D115, 0),0)","v":0},{"$f":"IF(INTRO!$E$39<>\"Endemic\",0, IF(AND(COUNTRY_INFO!$I115=1,$F115<>0),IF(COUNTRY_INFO!M115>=(COUNTRY_INFO!F115+COUNTRY_INFO!G115),COUNTRY_INFO!F115+COUNTRY_INFO!G115,COUNTRY_INFO!$M115), 0))","v":0},0,0,0,0,0,0,null,0,0]
[{"$f":"IF(INTRO!$E$39=\"Non-endemic\",\" \",IF(COUNTRY_INFO!A116=0,\" \",COUNTRY_INFO!A116))","v":"Uganda"},{"$f":"IF(INTRO!$E$39=\"Non-endemic\",\" \",IF(COUNTRY_INFO!B116=0,\" \",COUNTRY_INFO!B116))","v":"NORTHERN"},{"$f":"IF(INTRO!$E$39=\"Non-endemic\",\" \",IF(COUNTRY_INFO!C116=0,\" \",COUNTRY_INFO!C116))","v":"ZOMBO"},{"$f":"IF(INTRO!$E$39=\"Non-endemic\",0,IF(INTRO!$E$39=\"Endemic but PC is not required\",IF(COUNTRY_INFO!$H116=1,COUNTRY_INFO!F116+COUNTRY_INFO!G116,0),IF(COUNTRY_INFO!$H116=1,COUNTRY_INFO!F116+COUNTRY_INFO!G116,IF(COUNTRY_INFO!$I116=1,IF(COUNTRY_INFO!M116>=(COUNTRY_INFO!F116+COUNTRY_INFO!G116),COUNTRY_INFO!F116+COUNTRY_INFO!G116,COUNTRY_INFO!$M116),0))))","v":0},{"$f":"IF(AND(INTRO!$E$39=\"Non-endemic\",INTRO!$E$37=\"Non-endemic\"),\"Not required\",IF(INTRO!$E$39=\"Non-endemic\",\"Treat with DEC\",COUNTRY_INFO!P116))","v":0},{"$f":"IF(INTRO!$E$39<>\"Non-endemic\",COUNTRY_INFO!Q116,\"Not required\")","v":0},{"$f":"IF(COUNTRY_INFO!H116=1, IF($E116=1,$D116, 0),0)","v":0},{"$f":"IF(INTRO!$E$39<>\"Endemic\",0, IF(AND(COUNTRY_INFO!$I116=1,$F116<>0),IF(COUNTRY_INFO!M116>=(COUNTRY_INFO!F116+COUNTRY_INFO!G116),COUNTRY_INFO!F116+COUNTRY_INFO!G116,COUNTRY_INFO!$M116), 0))","v":0},0,0,0,0,0,0,null,0,0]
[{"$f":"IF(INTRO!$E$39=\"Non-endemic\",\" \",IF(COUNTRY_INFO!A117=0,\" \",COUNTRY_INFO!A117))","v":"Uganda"},{"$f":"IF(INTRO!$E$39=\"Non-endemic\",\" \",IF(COUNTRY_INFO!B117=0,\" \",COUNTRY_INFO!B117))","v":"WESTERN"},{"$f":"IF(INTRO!$E$39=\"Non-endemic\",\" \",IF(COUNTRY_INFO!C117=0,\" \",COUNTRY_INFO!C117))","v":"BUHWEJU"},{"$f":"IF(INTRO!$E$39=\"Non-endemic\",0,IF(INTRO!$E$39=\"Endemic but PC is not required\",IF(COUNTRY_INFO!$H117=1,COUNTRY_INFO!F117+COUNTRY_INFO!G117,0),IF(COUNTRY_INFO!$H117=1,COUNTRY_INFO!F117+COUNTRY_INFO!G117,IF(COUNTRY_INFO!$I117=1,IF(COUNTRY_INFO!M117>=(COUNTRY_INFO!F117+COUNTRY_INFO!G117),COUNTRY_INFO!F117+COUNTRY_INFO!G117,COUNTRY_INFO!$M117),0))))","v":0},{"$f":"IF(AND(INTRO!$E$39=\"Non-endemic\",INTRO!$E$37=\"Non-endemic\"),\"Not required\",IF(INTRO!$E$39=\"Non-endemic\",\"Treat with DEC\",COUNTRY_INFO!P117))","v":0},{"$f":"IF(INTRO!$E$39<>\"Non-endemic\",COUNTRY_INFO!Q117,\"Not required\")","v":0},{"$f":"IF(COUNTRY_INFO!H117=1, IF($E117=1,$D117, 0),0)","v":0},{"$f":"IF(INTRO!$E$39<>\"Endemic\",0, IF(AND(COUNTRY_INFO!$I117=1,$F117<>0),IF(COUNTRY_INFO!M117>=(COUNTRY_INFO!F117+COUNTRY_INFO!G117),COUNTRY_INFO!F117+COUNTRY_INFO!G117,COUNTRY_INFO!$M117), 0))","v":0},0,0,0,0,0,0,null,0,0]
[{"$f":"IF(INTRO!$E$39=\"Non-endemic\",\" \",IF(COUNTRY_INFO!A118=0,\" \",COUNTRY_INFO!A118))","v":"Uganda"},{"$f":"IF(INTRO!$E$39=\"Non-endemic\",\" \",IF(COUNTRY_INFO!B118=0,\" \",COUNTRY_INFO!B118))","v":"WESTERN"},{"$f":"IF(INTRO!$E$39=\"Non-endemic\",\" \",IF(COUNTRY_INFO!C118=0,\" \",COUNTRY_INFO!C118))","v":"BULIISA"},{"$f":"IF(INTRO!$E$39=\"Non-endemic\",0,IF(INTRO!$E$39=\"Endemic but PC is not required\",IF(COUNTRY_INFO!$H118=1,COUNTRY_INFO!F118+COUNTRY_INFO!G118,0),IF(COUNTRY_INFO!$H118=1,COUNTRY_INFO!F118+COUNTRY_INFO!G118,IF(COUNTRY_INFO!$I118=1,IF(COUNTRY_INFO!M118>=(COUNTRY_INFO!F118+COUNTRY_INFO!G118),COUNTRY_INFO!F118+COUNTRY_INFO!G118,COUNTRY_INFO!$M118),0))))","v":0},{"$f":"IF(AND(INTRO!$E$39=\"Non-endemic\",INTRO!$E$37=\"Non-endemic\"),\"Not required\",IF(INTRO!$E$39=\"Non-endemic\",\"Treat with DEC\",COUNTRY_INFO!P118))","v":0},{"$f":"IF(INTRO!$E$39<>\"Non-endemic\",COUNTRY_INFO!Q118,\"Not required\")","v":0},{"$f":"IF(COUNTRY_INFO!H118=1, IF($E118=1,$D118, 0),0)","v":0},{"$f":"IF(INTRO!$E$39<>\"Endemic\",0, IF(AND(COUNTRY_INFO!$I118=1,$F118<>0),IF(COUNTRY_INFO!M118>=(COUNTRY_INFO!F118+COUNTRY_INFO!G118),COUNTRY_INFO!F118+COUNTRY_INFO!G118,COUNTRY_INFO!$M118), 0))","v":0},0,0,0,0,0,0,null,0,0]
[{"$f":"IF(INTRO!$E$39=\"Non-endemic\",\" \",IF(COUNTRY_INFO!A119=0,\" \",COUNTRY_INFO!A119))","v":"Uganda"},{"$f":"IF(INTRO!$E$39=\"Non-endemic\",\" \",IF(COUNTRY_INFO!B119=0,\" \",COUNTRY_INFO!B119))","v":"WESTERN"},{"$f":"IF(INTRO!$E$39=\"Non-endemic\",\" \",IF(COUNTRY_INFO!C119=0,\" \",COUNTRY_INFO!C119))","v":"BUNDIBUGYO"},{"$f":"IF(INTRO!$E$39=\"Non-endemic\",0,IF(INTRO!$E$39=\"Endemic but PC is not required\",IF(COUNTRY_INFO!$H119=1,COUNTRY_INFO!F119+COUNTRY_INFO!G119,0),IF(COUNTRY_INFO!$H119=1,COUNTRY_INFO!F119+COUNTRY_INFO!G119,IF(COUNTRY_INFO!$I119=1,IF(COUNTRY_INFO!M119>=(COUNTRY_INFO!F119+COUNTRY_INFO!G119),COUNTRY_INFO!F119+COUNTRY_INFO!G119,COUNTRY_INFO!$M119),0))))","v":0},{"$f":"IF(AND(INTRO!$E$39=\"Non-endemic\",INTRO!$E$37=\"Non-endemic\"),\"Not required\",IF(INTRO!$E$39=\"Non-endemic\",\"Treat with DEC\",COUNTRY_INFO!P119))","v":0},{"$f":"IF(INTRO!$E$39<>\"Non-endemic\",COUNTRY_INFO!Q119,\"Not required\")","v":0},{"$f":"IF(COUNTRY_INFO!H119=1, IF($E119=1,$D119, 0),0)","v":0},{"$f":"IF(INTRO!$E$39<>\"Endemic\",0, IF(AND(COUNTRY_INFO!$I119=1,$F119<>0),IF(COUNTRY_INFO!M119>=(COUNTRY_INFO!F119+COUNTRY_INFO!G119),COUNTRY_INFO!F119+COUNTRY_INFO!G119,COUNTRY_INFO!$M119), 0))","v":0},0,0,0,0,0,0,null,0,0]
[{"$f":"IF(INTRO!$E$39=\"Non-endemic\",\" \",IF(COUNTRY_INFO!A120=0,\" \",COUNTRY_INFO!A120))","v":"Uganda"},{"$f":"IF(INTRO!$E$39=\"Non-endemic\",\" \",IF(COUNTRY_INFO!B120=0,\" \",COUNTRY_INFO!B120))","v":"WESTERN"},{"$f":"IF(INTRO!$E$39=\"Non-endemic\",\" \",IF(COUNTRY_INFO!C120=0,\" \",COUNTRY_INFO!C120))","v":"BUNYANGABU"},{"$f":"IF(INTRO!$E$39=\"Non-endemic\",0,IF(INTRO!$E$39=\"Endemic but PC is not required\",IF(COUNTRY_INFO!$H120=1,COUNTRY_INFO!F120+COUNTRY_INFO!G120,0),IF(COUNTRY_INFO!$H120=1,COUNTRY_INFO!F120+COUNTRY_INFO!G120,IF(COUNTRY_INFO!$I120=1,IF(COUNTRY_INFO!M120>=(COUNTRY_INFO!F120+COUNTRY_INFO!G120),COUNTRY_INFO!F120+COUNTRY_INFO!G120,COUNTRY_INFO!$M120),0))))","v":0},{"$f":"IF(AND(INTRO!$E$39=\"Non-endemic\",INTRO!$E$37=\"Non-endemic\"),\"Not required\",IF(INTRO!$E$39=\"Non-endemic\",\"Treat with DEC\",COUNTRY_INFO!P120))","v":0},{"$f":"IF(INTRO!$E$39<>\"Non-endemic\",COUNTRY_INFO!Q120,\"Not required\")","v":0},{"$f":"IF(COUNTRY_INFO!H120=1, IF($E120=1,$D120, 0),0)","v":0},{"$f":"IF(INTRO!$E$39<>\"Endemic\",0, IF(AND(COUNTRY_INFO!$I120=1,$F120<>0),IF(COUNTRY_INFO!M120>=(COUNTRY_INFO!F120+COUNTRY_INFO!G120),COUNTRY_INFO!F120+COUNTRY_INFO!G120,COUNTRY_INFO!$M120), 0))","v":0},0,0,0,0,0,0,null,0,0]
[{"$f":"IF(INTRO!$E$39=\"Non-endemic\",\" \",IF(COUNTRY_INFO!A121=0,\" \",COUNTRY_INFO!A121))","v":"Uganda"},{"$f":"IF(INTRO!$E$39=\"Non-endemic\",\" \",IF(COUNTRY_INFO!B121=0,\" \",COUNTRY_INFO!B121))","v":"WESTERN"},{"$f":"IF(INTRO!$E$39=\"Non-endemic\",\" \",IF(COUNTRY_INFO!C121=0,\" \",COUNTRY_INFO!C121))","v":"BUSHENYI"},{"$f":"IF(INTRO!$E$39=\"Non-endemic\",0,IF(INTRO!$E$39=\"Endemic but PC is not required\",IF(COUNTRY_INFO!$H121=1,COUNTRY_INFO!F121+COUNTRY_INFO!G121,0),IF(COUNTRY_INFO!$H121=1,COUNTRY_INFO!F121+COUNTRY_INFO!G121,IF(COUNTRY_INFO!$I121=1,IF(COUNTRY_INFO!M121>=(COUNTRY_INFO!F121+COUNTRY_INFO!G121),COUNTRY_INFO!F121+COUNTRY_INFO!G121,COUNTRY_INFO!$M121),0))))","v":0},{"$f":"IF(AND(INTRO!$E$39=\"Non-endemic\",INTRO!$E$37=\"Non-endemic\"),\"Not required\",IF(INTRO!$E$39=\"Non-endemic\",\"Treat with DEC\",COUNTRY_INFO!P121))","v":0},{"$f":"IF(INTRO!$E$39<>\"Non-endemic\",COUNTRY_INFO!Q121,\"Not required\")","v":0},{"$f":"IF(COUNTRY_INFO!H121=1, IF($E121=1,$D121, 0),0)","v":0},{"$f":"IF(INTRO!$E$39<>\"Endemic\",0, IF(AND(COUNTRY_INFO!$I121=1,$F121<>0),IF(COUNTRY_INFO!M121>=(COUNTRY_INFO!F121+COUNTRY_INFO!G121),COUNTRY_INFO!F121+COUNTRY_INFO!G121,COUNTRY_INFO!$M121), 0))","v":0},0,0,0,0,0,0,null,0,0]
[{"$f":"IF(INTRO!$E$39=\"Non-endemic\",\" \",IF(COUNTRY_INFO!A122=0,\" \",COUNTRY_INFO!A122))","v":"Uganda"},{"$f":"IF(INTRO!$E$39=\"Non-endemic\",\" \",IF(COUNTRY_INFO!B122=0,\" \",COUNTRY_INFO!B122))","v":"WESTERN"},{"$f":"IF(INTRO!$E$39=\"Non-endemic\",\" \",IF(COUNTRY_INFO!C122=0,\" \",COUNTRY_INFO!C122))","v":"Fortportal City"},{"$f":"IF(INTRO!$E$39=\"Non-endemic\",0,IF(INTRO!$E$39=\"Endemic but PC is not required\",IF(COUNTRY_INFO!$H122=1,COUNTRY_INFO!F122+COUNTRY_INFO!G122,0),IF(COUNTRY_INFO!$H122=1,COUNTRY_INFO!F122+COUNTRY_INFO!G122,IF(COUNTRY_INFO!$I122=1,IF(COUNTRY_INFO!M122>=(COUNTRY_INFO!F122+COUNTRY_INFO!G122),COUNTRY_INFO!F122+COUNTRY_INFO!G122,COUNTRY_INFO!$M122),0))))","v":0},{"$f":"IF(AND(INTRO!$E$39=\"Non-endemic\",INTRO!$E$37=\"Non-endemic\"),\"Not required\",IF(INTRO!$E$39=\"Non-endemic\",\"Treat with DEC\",COUNTRY_INFO!P122))","v":0},{"$f":"IF(INTRO!$E$39<>\"Non-endemic\",COUNTRY_INFO!Q122,\"Not required\")","v":0},{"$f":"IF(COUNTRY_INFO!H122=1, IF($E122=1,$D122, 0),0)","v":0},{"$f":"IF(INTRO!$E$39<>\"Endemic\",0, IF(AND(COUNTRY_INFO!$I122=1,$F122<>0),IF(COUNTRY_INFO!M122>=(COUNTRY_INFO!F122+COUNTRY_INFO!G122),COUNTRY_INFO!F122+COUNTRY_INFO!G122,COUNTRY_INFO!$M122), 0))","v":0},0,0,0,0,0,0,null,0,0]
[{"$f":"IF(INTRO!$E$39=\"Non-endemic\",\" \",IF(COUNTRY_INFO!A123=0,\" \",COUNTRY_INFO!A123))","v":"Uganda"},{"$f":"IF(INTRO!$E$39=\"Non-endemic\",\" \",IF(COUNTRY_INFO!B123=0,\" \",COUNTRY_INFO!B123))","v":"WESTERN"},{"$f":"IF(INTRO!$E$39=\"Non-endemic\",\" \",IF(COUNTRY_INFO!C123=0,\" \",COUNTRY_INFO!C123))","v":"HOIMA"},{"$f":"IF(INTRO!$E$39=\"Non-endemic\",0,IF(INTRO!$E$39=\"Endemic but PC is not required\",IF(COUNTRY_INFO!$H123=1,COUNTRY_INFO!F123+COUNTRY_INFO!G123,0),IF(COUNTRY_INFO!$H123=1,COUNTRY_INFO!F123+COUNTRY_INFO!G123,IF(COUNTRY_INFO!$I123=1,IF(COUNTRY_INFO!M123>=(COUNTRY_INFO!F123+COUNTRY_INFO!G123),COUNTRY_INFO!F123+COUNTRY_INFO!G123,COUNTRY_INFO!$M123),0))))","v":0},{"$f":"IF(AND(INTRO!$E$39=\"Non-endemic\",INTRO!$E$37=\"Non-endemic\"),\"Not required\",IF(INTRO!$E$39=\"Non-endemic\",\"Treat with DEC\",COUNTRY_INFO!P123))","v":0},{"$f":"IF(INTRO!$E$39<>\"Non-endemic\",COUNTRY_INFO!Q123,\"Not required\")","v":0},{"$f":"IF(COUNTRY_INFO!H123=1, IF($E123=1,$D123, 0),0)","v":0},{"$f":"IF(INTRO!$E$39<>\"Endemic\",0, IF(AND(COUNTRY_INFO!$I123=1,$F123<>0),IF(COUNTRY_INFO!M123>=(COUNTRY_INFO!F123+COUNTRY_INFO!G123),COUNTRY_INFO!F123+COUNTRY_INFO!G123,COUNTRY_INFO!$M123), 0))","v":0},0,0,0,0,0,0,null,0,0]
[{"$f":"IF(INTRO!$E$39=\"Non-endemic\",\" \",IF(COUNTRY_INFO!A124=0,\" \",COUNTRY_INFO!A124))","v":"Uganda"},{"$f":"IF(INTRO!$E$39=\"Non-endemic\",\" \",IF(COUNTRY_INFO!B124=0,\" \",COUNTRY_INFO!B124))","v":"WESTERN"},{"$f":"IF(INTRO!$E$39=\"Non-endemic\",\" \",IF(COUNTRY_INFO!C124=0,\" \",COUNTRY_INFO!C124))","v":"Hoima City"},{"$f":"IF(INTRO!$E$39=\"Non-endemic\",0,IF(INTRO!$E$39=\"Endemic but PC is not required\",IF(COUNTRY_INFO!$H124=1,COUNTRY_INFO!F124+COUNTRY_INFO!G124,0),IF(COUNTRY_INFO!$H124=1,COUNTRY_INFO!F124+COUNTRY_INFO!G124,IF(COUNTRY_INFO!$I124=1,IF(COUNTRY_INFO!M124>=(COUNTRY_INFO!F124+COUNTRY_INFO!G124),COUNTRY_INFO!F124+COUNTRY_INFO!G124,COUNTRY_INFO!$M124),0))))","v":0},{"$f":"IF(AND(INTRO!$E$39=\"Non-endemic\",INTRO!$E$37=\"Non-endemic\"),\"Not required\",IF(INTRO!$E$39=\"Non-endemic\",\"Treat with DEC\",COUNTRY_INFO!P124))","v":0},{"$f":"IF(INTRO!$E$39<>\"Non-endemic\",COUNTRY_INFO!Q124,\"Not required\")","v":0},{"$f":"IF(COUNTRY_INFO!H124=1, IF($E124=1,$D124, 0),0)","v":0},{"$f":"IF(INTRO!$E$39<>\"Endemic\",0, IF(AND(COUNTRY_INFO!$I124=1,$F124<>0),IF(COUNTRY_INFO!M124>=(COUNTRY_INFO!F124+COUNTRY_INFO!G124),COUNTRY_INFO!F124+COUNTRY_INFO!G124,COUNTRY_INFO!$M124), 0))","v":0},0,0,0,0,0,0,null,0,0]
[{"$f":"IF(INTRO!$E$39=\"Non-endemic\",\" \",IF(COUNTRY_INFO!A125=0,\" \",COUNTRY_INFO!A125))","v":"Uganda"},{"$f":"IF(INTRO!$E$39=\"Non-endemic\",\" \",IF(COUNTRY_INFO!B125=0,\" \",COUNTRY_INFO!B125))","v":"WESTERN"},{"$f":"IF(INTRO!$E$39=\"Non-endemic\",\" \",IF(COUNTRY_INFO!C125=0,\" \",COUNTRY_INFO!C125))","v":"IBANDA"},{"$f":"IF(INTRO!$E$39=\"Non-endemic\",0,IF(INTRO!$E$39=\"Endemic but PC is not required\",IF(COUNTRY_INFO!$H125=1,COUNTRY_INFO!F125+COUNTRY_INFO!G125,0),IF(COUNTRY_INFO!$H125=1,COUNTRY_INFO!F125+COUNTRY_INFO!G125,IF(COUNTRY_INFO!$I125=1,IF(COUNTRY_INFO!M125>=(COUNTRY_INFO!F125+COUNTRY_INFO!G125),COUNTRY_INFO!F125+COUNTRY_INFO!G125,COUNTRY_INFO!$M125),0))))","v":0},{"$f":"IF(AND(INTRO!$E$39=\"Non-endemic\",INTRO!$E$37=\"Non-endemic\"),\"Not required\",IF(INTRO!$E$39=\"Non-endemic\",\"Treat with DEC\",COUNTRY_INFO!P125))","v":0},{"$f":"IF(INTRO!$E$39<>\"Non-endemic\",COUNTRY_INFO!Q125,\"Not required\")","v":0},{"$f":"IF(COUNTRY_INFO!H125=1, IF($E125=1,$D125, 0),0)","v":0},{"$f":"IF(INTRO!$E$39<>\"Endemic\",0, IF(AND(COUNTRY_INFO!$I125=1,$F125<>0),IF(COUNTRY_INFO!M125>=(COUNTRY_INFO!F125+COUNTRY_INFO!G125),COUNTRY_INFO!F125+COUNTRY_INFO!G125,COUNTRY_INFO!$M125), 0))","v":0},0,0,0,0,0,0,null,0,0]
[{"$f":"IF(INTRO!$E$39=\"Non-endemic\",\" \",IF(COUNTRY_INFO!A126=0,\" \",COUNTRY_INFO!A126))","v":"Uganda"},{"$f":"IF(INTRO!$E$39=\"Non-endemic\",\" \",IF(COUNTRY_INFO!B126=0,\" \",COUNTRY_INFO!B126))","v":"WESTERN"},{"$f":"IF(INTRO!$E$39=\"Non-endemic\",\" \",IF(COUNTRY_INFO!C126=0,\" \",COUNTRY_INFO!C126))","v":"ISINGIRO"},{"$f":"IF(INTRO!$E$39=\"Non-endemic\",0,IF(INTRO!$E$39=\"Endemic but PC is not required\",IF(COUNTRY_INFO!$H126=1,COUNTRY_INFO!F126+COUNTRY_INFO!G126,0),IF(COUNTRY_INFO!$H126=1,COUNTRY_INFO!F126+COUNTRY_INFO!G126,IF(COUNTRY_INFO!$I126=1,IF(COUNTRY_INFO!M126>=(COUNTRY_INFO!F126+COUNTRY_INFO!G126),COUNTRY_INFO!F126+COUNTRY_INFO!G126,COUNTRY_INFO!$M126),0))))","v":0},{"$f":"IF(AND(INTRO!$E$39=\"Non-endemic\",INTRO!$E$37=\"Non-endemic\"),\"Not required\",IF(INTRO!$E$39=\"Non-endemic\",\"Treat with DEC\",COUNTRY_INFO!P126))","v":0},{"$f":"IF(INTRO!$E$39<>\"Non-endemic\",COUNTRY_INFO!Q126,\"Not required\")","v":0},{"$f":"IF(COUNTRY_INFO!H126=1, IF($E126=1,$D126, 0),0)","v":0},{"$f":"IF(INTRO!$E$39<>\"Endemic\",0, IF(AND(COUNTRY_INFO!$I126=1,$F126<>0),IF(COUNTRY_INFO!M126>=(COUNTRY_INFO!F126+COUNTRY_INFO!G126),COUNTRY_INFO!F126+COUNTRY_INFO!G126,COUNTRY_INFO!$M126), 0))","v":0},0,0,0,0,0,0,null,0,0]
[{"$f":"IF(INTRO!$E$39=\"Non-endemic\",\" \",IF(COUNTRY_INFO!A127=0,\" \",COUNTRY_INFO!A127))","v":"Uganda"},{"$f":"IF(INTRO!$E$39=\"Non-endemic\",\" \",IF(COUNTRY_INFO!B127=0,\" \",COUNTRY_INFO!B127))","v":"WESTERN"},{"$f":"IF(INTRO!$E$39=\"Non-endemic\",\" \",IF(COUNTRY_INFO!C127=0,\" \",COUNTRY_INFO!C127))","v":"KABALE"},{"$f":"IF(INTRO!$E$39=\"Non-endemic\",0,IF(INTRO!$E$39=\"Endemic but PC is not required\",IF(COUNTRY_INFO!$H127=1,COUNTRY_INFO!F127+COUNTRY_INFO!G127,0),IF(COUNTRY_INFO!$H127=1,COUNTRY_INFO!F127+COUNTRY_INFO!G127,IF(COUNTRY_INFO!$I127=1,IF(COUNTRY_INFO!M127>=(COUNTRY_INFO!F127+COUNTRY_INFO!G127),COUNTRY_INFO!F127+COUNTRY_INFO!G127,COUNTRY_INFO!$M127),0))))","v":0},{"$f":"IF(AND(INTRO!$E$39=\"Non-endemic\",INTRO!$E$37=\"Non-endemic\"),\"Not required\",IF(INTRO!$E$39=\"Non-endemic\",\"Treat with DEC\",COUNTRY_INFO!P127))","v":0},{"$f":"IF(INTRO!$E$39<>\"Non-endemic\",COUNTRY_INFO!Q127,\"Not required\")","v":0},{"$f":"IF(COUNTRY_INFO!H127=1, IF($E127=1,$D127, 0),0)","v":0},{"$f":"IF(INTRO!$E$39<>\"Endemic\",0, IF(AND(COUNTRY_INFO!$I127=1,$F127<>0),IF(COUNTRY_INFO!M127>=(COUNTRY_INFO!F127+COUNTRY_INFO!G127),COUNTRY_INFO!F127+COUNTRY_INFO!G127,COUNTRY_INFO!$M127), 0))","v":0},0,0,0,0,0,0,null,0,0]
[{"$f":"IF(INTRO!$E$39=\"Non-endemic\",\" \",IF(COUNTRY_INFO!A128=0,\" \",COUNTRY_INFO!A128))","v":"Uganda"},{"$f":"IF(INTRO!$E$39=\"Non-endemic\",\" \",IF(COUNTRY_INFO!B128=0,\" \",COUNTRY_INFO!B128))","v":"WESTERN"},{"$f":"IF(INTRO!$E$39=\"Non-endemic\",\" \",IF(COUNTRY_INFO!C128=0,\" \",COUNTRY_INFO!C128))","v":"KABAROLE"},{"$f":"IF(INTRO!$E$39=\"Non-endemic\",0,IF(INTRO!$E$39=\"Endemic but PC is not required\",IF(COUNTRY_INFO!$H128=1,COUNTRY_INFO!F128+COUNTRY_INFO!G128,0),IF(COUNTRY_INFO!$H128=1,COUNTRY_INFO!F128+COUNTRY_INFO!G128,IF(COUNTRY_INFO!$I128=1,IF(COUNTRY_INFO!M128>=(COUNTRY_INFO!F128+COUNTRY_INFO!G128),COUNTRY_INFO!F128+COUNTRY_INFO!G128,COUNTRY_INFO!$M128),0))))","v":0},{"$f":"IF(AND(INTRO!$E$39=\"Non-endemic\",INTRO!$E$37=\"Non-endemic\"),\"Not required\",IF(INTRO!$E$39=\"Non-endemic\",\"Treat with DEC\",COUNTRY_INFO!P128))","v":0},{"$f":"IF(INTRO!$E$39<>\"Non-endemic\",COUNTRY_INFO!Q128,\"Not required\")","v":0},{"$f":"IF(COUNTRY_INFO!H128=1, IF($E128=1,$D128, 0),0)","v":0},{"$f":"IF(INTRO!$E$39<>\"Endemic\",0, IF(AND(COUNTRY_INFO!$I128=1,$F128<>0),IF(COUNTRY_INFO!M128>=(COUNTRY_INFO!F128+COUNTRY_INFO!G128),COUNTRY_INFO!F128+COUNTRY_INFO!G128,COUNTRY_INFO!$M128), 0))","v":0},0,0,0,0,0,0,null,0,0]
[{"$f":"IF(INTRO!$E$39=\"Non-endemic\",\" \",IF(COUNTRY_INFO!A129=0,\" \",COUNTRY_INFO!A129))","v":"Uganda"},{"$f":"IF(INTRO!$E$39=\"Non-endemic\",\" \",IF(COUNTRY_INFO!B129=0,\" \",COUNTRY_INFO!B129))","v":"WESTERN"},{"$f":"IF(INTRO!$E$39=\"Non-endemic\",\" \",IF(COUNTRY_INFO!C129=0,\" \",COUNTRY_INFO!C129))","v":"KAGADI"},{"$f":"IF(INTRO!$E$39=\"Non-endemic\",0,IF(INTRO!$E$39=\"Endemic but PC is not required\",IF(COUNTRY_INFO!$H129=1,COUNTRY_INFO!F129+COUNTRY_INFO!G129,0),IF(COUNTRY_INFO!$H129=1,COUNTRY_INFO!F129+COUNTRY_INFO!G129,IF(COUNTRY_INFO!$I129=1,IF(COUNTRY_INFO!M129>=(COUNTRY_INFO!F129+COUNTRY_INFO!G129),COUNTRY_INFO!F129+COUNTRY_INFO!G129,COUNTRY_INFO!$M129),0))))","v":0},{"$f":"IF(AND(INTRO!$E$39=\"Non-endemic\",INTRO!$E$37=\"Non-endemic\"),\"Not required\",IF(INTRO!$E$39=\"Non-endemic\",\"Treat with DEC\",COUNTRY_INFO!P129))","v":0},{"$f":"IF(INTRO!$E$39<>\"Non-endemic\",COUNTRY_INFO!Q129,\"Not required\")","v":0},{"$f":"IF(COUNTRY_INFO!H129=1, IF($E129=1,$D129, 0),0)","v":0},{"$f":"IF(INTRO!$E$39<>\"Endemic\",0, IF(AND(COUNTRY_INFO!$I129=1,$F129<>0),IF(COUNTRY_INFO!M129>=(COUNTRY_INFO!F129+COUNTRY_INFO!G129),COUNTRY_INFO!F129+COUNTRY_INFO!G129,COUNTRY_INFO!$M129), 0))","v":0},0,0,0,0,0,0,null,0,0]
[{"$f":"IF(INTRO!$E$39=\"Non-endemic\",\" \",IF(COUNTRY_INFO!A130=0,\" \",COUNTRY_INFO!A130))","v":"Uganda"},{"$f":"IF(INTRO!$E$39=\"Non-endemic\",\" \",IF(COUNTRY_INFO!B130=0,\" \",COUNTRY_INFO!B130))","v":"WESTERN"},{"$f":"IF(INTRO!$E$39=\"Non-endemic\",\" \",IF(COUNTRY_INFO!C130=0,\" \",COUNTRY_INFO!C130))","v":"KAKUMIRO"},{"$f":"IF(INTRO!$E$39=\"Non-endemic\",0,IF(INTRO!$E$39=\"Endemic but PC is not required\",IF(COUNTRY_INFO!$H130=1,COUNTRY_INFO!F130+COUNTRY_INFO!G130,0),IF(COUNTRY_INFO!$H130=1,COUNTRY_INFO!F130+COUNTRY_INFO!G130,IF(COUNTRY_INFO!$I130=1,IF(COUNTRY_INFO!M130>=(COUNTRY_INFO!F130+COUNTRY_INFO!G130),COUNTRY_INFO!F130+COUNTRY_INFO!G130,COUNTRY_INFO!$M130),0))))","v":0},{"$f":"IF(AND(INTRO!$E$39=\"Non-endemic\",INTRO!$E$37=\"Non-endemic\"),\"Not required\",IF(INTRO!$E$39=\"Non-endemic\",\"Treat with DEC\",COUNTRY_INFO!P130))","v":0},{"$f":"IF(INTRO!$E$39<>\"Non-endemic\",COUNTRY_INFO!Q130,\"Not required\")","v":0},{"$f":"IF(COUNTRY_INFO!H130=1, IF($E130=1,$D130, 0),0)","v":0},{"$f":"IF(INTRO!$E$39<>\"Endemic\",0, IF(AND(COUNTRY_INFO!$I130=1,$F130<>0),IF(COUNTRY_INFO!M130>=(COUNTRY_INFO!F130+COUNTRY_INFO!G130),COUNTRY_INFO!F130+COUNTRY_INFO!G130,COUNTRY_INFO!$M130), 0))","v":0},0,0,0,0,0,0,null,0,0]
[{"$f":"IF(INTRO!$E$39=\"Non-endemic\",\" \",IF(COUNTRY_INFO!A131=0,\" \",COUNTRY_INFO!A131))","v":"Uganda"},{"$f":"IF(INTRO!$E$39=\"Non-endemic\",\" \",IF(COUNTRY_INFO!B131=0,\" \",COUNTRY_INFO!B131))","v":"WESTERN"},{"$f":"IF(INTRO!$E$39=\"Non-endemic\",\" \",IF(COUNTRY_INFO!C131=0,\" \",COUNTRY_INFO!C131))","v":"KAMWENGE"},{"$f":"IF(INTRO!$E$39=\"Non-endemic\",0,IF(INTRO!$E$39=\"Endemic but PC is not required\",IF(COUNTRY_INFO!$H131=1,COUNTRY_INFO!F131+COUNTRY_INFO!G131,0),IF(COUNTRY_INFO!$H131=1,COUNTRY_INFO!F131+COUNTRY_INFO!G131,IF(COUNTRY_INFO!$I131=1,IF(COUNTRY_INFO!M131>=(COUNTRY_INFO!F131+COUNTRY_INFO!G131),COUNTRY_INFO!F131+COUNTRY_INFO!G131,COUNTRY_INFO!$M131),0))))","v":0},{"$f":"IF(AND(INTRO!$E$39=\"Non-endemic\",INTRO!$E$37=\"Non-endemic\"),\"Not required\",IF(INTRO!$E$39=\"Non-endemic\",\"Treat with DEC\",COUNTRY_INFO!P131))","v":0},{"$f":"IF(INTRO!$E$39<>\"Non-endemic\",COUNTRY_INFO!Q131,\"Not required\")","v":0},{"$f":"IF(COUNTRY_INFO!H131=1, IF($E131=1,$D131, 0),0)","v":0},{"$f":"IF(INTRO!$E$39<>\"Endemic\",0, IF(AND(COUNTRY_INFO!$I131=1,$F131<>0),IF(COUNTRY_INFO!M131>=(COUNTRY_INFO!F131+COUNTRY_INFO!G131),COUNTRY_INFO!F131+COUNTRY_INFO!G131,COUNTRY_INFO!$M131), 0))","v":0},0,0,0,0,0,0,null,0,0]
[{"$f":"IF(INTRO!$E$39=\"Non-endemic\",\" \",IF(COUNTRY_INFO!A132=0,\" \",COUNTRY_INFO!A132))","v":"Uganda"},{"$f":"IF(INTRO!$E$39=\"Non-endemic\",\" \",IF(COUNTRY_INFO!B132=0,\" \",COUNTRY_INFO!B132))","v":"WESTERN"},{"$f":"IF(INTRO!$E$39=\"Non-endemic\",\" \",IF(COUNTRY_INFO!C132=0,\" \",COUNTRY_INFO!C132))","v":"KANUNGU"},{"$f":"IF(INTRO!$E$39=\"Non-endemic\",0,IF(INTRO!$E$39=\"Endemic but PC is not required\",IF(COUNTRY_INFO!$H132=1,COUNTRY_INFO!F132+COUNTRY_INFO!G132,0),IF(COUNTRY_INFO!$H132=1,COUNTRY_INFO!F132+COUNTRY_INFO!G132,IF(COUNTRY_INFO!$I132=1,IF(COUNTRY_INFO!M132>=(COUNTRY_INFO!F132+COUNTRY_INFO!G132),COUNTRY_INFO!F132+COUNTRY_INFO!G132,COUNTRY_INFO!$M132),0))))","v":0},{"$f":"IF(AND(INTRO!$E$39=\"Non-endemic\",INTRO!$E$37=\"Non-endemic\"),\"Not required\",IF(INTRO!$E$39=\"Non-endemic\",\"Treat with DEC\",COUNTRY_INFO!P132))","v":0},{"$f":"IF(INTRO!$E$39<>\"Non-endemic\",COUNTRY_INFO!Q132,\"Not required\")","v":0},{"$f":"IF(COUNTRY_INFO!H132=1, IF($E132=1,$D132, 0),0)","v":0},{"$f":"IF(INTRO!$E$39<>\"Endemic\",0, IF(AND(COUNTRY_INFO!$I132=1,$F132<>0),IF(COUNTRY_INFO!M132>=(COUNTRY_INFO!F132+COUNTRY_INFO!G132),COUNTRY_INFO!F132+COUNTRY_INFO!G132,COUNTRY_INFO!$M132), 0))","v":0},0,0,0,0,0,0,null,0,0]
[{"$f":"IF(INTRO!$E$39=\"Non-endemic\",\" \",IF(COUNTRY_INFO!A133=0,\" \",COUNTRY_INFO!A133))","v":"Uganda"},{"$f":"IF(INTRO!$E$39=\"Non-endemic\",\" \",IF(COUNTRY_INFO!B133=0,\" \",COUNTRY_INFO!B133))","v":"WESTERN"},{"$f":"IF(INTRO!$E$39=\"Non-endemic\",\" \",IF(COUNTRY_INFO!C133=0,\" \",COUNTRY_INFO!C133))","v":"KASESE"},132472,{"$f":"IF(AND(INTRO!$E$39=\"Non-endemic\",INTRO!$E$37=\"Non-endemic\"),\"Not required\",IF(INTRO!$E$39=\"Non-endemic\",\"Treat with DEC\",COUNTRY_INFO!P133))","v":0},{"$f":"IF(INTRO!$E$39<>\"Non-endemic\",COUNTRY_INFO!Q133,\"Not required\")","v":2},{"$f":"IF(COUNTRY_INFO!H133=1, IF($E133=1,$D133, 0),0)","v":0},153702,132472,132472,0,741843.2,0,741843.2,null,741843.2,1484]
[{"$f":"IF(INTRO!$E$39=\"Non-endemic\",\" \",IF(COUNTRY_INFO!A134=0,\" \",COUNTRY_INFO!A134))","v":"Uganda"},{"$f":"IF(INTRO!$E$39=\"Non-endemic\",\" \",IF(COUNTRY_INFO!B134=0,\" \",COUNTRY_INFO!B134))","v":"WESTERN"},{"$f":"IF(INTRO!$E$39=\"Non-endemic\",\" \",IF(COUNTRY_INFO!C134=0,\" \",COUNTRY_INFO!C134))","v":"KAZO"},{"$f":"IF(INTRO!$E$39=\"Non-endemic\",0,IF(INTRO!$E$39=\"Endemic but PC is not required\",IF(COUNTRY_INFO!$H134=1,COUNTRY_INFO!F134+COUNTRY_INFO!G134,0),IF(COUNTRY_INFO!$H134=1,COUNTRY_INFO!F134+COUNTRY_INFO!G134,IF(COUNTRY_INFO!$I134=1,IF(COUNTRY_INFO!M134>=(COUNTRY_INFO!F134+COUNTRY_INFO!G134),COUNTRY_INFO!F134+COUNTRY_INFO!G134,COUNTRY_INFO!$M134),0))))","v":0},{"$f":"IF(AND(INTRO!$E$39=\"Non-endemic\",INTRO!$E$37=\"Non-endemic\"),\"Not required\",IF(INTRO!$E$39=\"Non-endemic\",\"Treat with DEC\",COUNTRY_INFO!P134))","v":0},{"$f":"IF(INTRO!$E$39<>\"Non-endemic\",COUNTRY_INFO!Q134,\"Not required\")","v":0},{"$f":"IF(COUNTRY_INFO!H134=1, IF($E134=1,$D134, 0),0)","v":0},{"$f":"IF(INTRO!$E$39<>\"Endemic\",0, IF(AND(COUNTRY_INFO!$I134=1,$F134<>0),IF(COUNTRY_INFO!M134>=(COUNTRY_INFO!F134+COUNTRY_INFO!G134),COUNTRY_INFO!F134+COUNTRY_INFO!G134,COUNTRY_INFO!$M134), 0))","v":0},0,0,0,0,0,0,null,0,0]
[{"$f":"IF(INTRO!$E$39=\"Non-endemic\",\" \",IF(COUNTRY_INFO!A135=0,\" \",COUNTRY_INFO!A135))","v":"Uganda"},{"$f":"IF(INTRO!$E$39=\"Non-endemic\",\" \",IF(COUNTRY_INFO!B135=0,\" \",COUNTRY_INFO!B135))","v":"WESTERN"},{"$f":"IF(INTRO!$E$39=\"Non-endemic\",\" \",IF(COUNTRY_INFO!C135=0,\" \",COUNTRY_INFO!C135))","v":"KIBAALE"},{"$f":"IF(INTRO!$E$39=\"Non-endemic\",0,IF(INTRO!$E$39=\"Endemic but PC is not required\",IF(COUNTRY_INFO!$H135=1,COUNTRY_INFO!F135+COUNTRY_INFO!G135,0),IF(COUNTRY_INFO!$H135=1,COUNTRY_INFO!F135+COUNTRY_INFO!G135,IF(COUNTRY_INFO!$I135=1,IF(COUNTRY_INFO!M135>=(COUNTRY_INFO!F135+COUNTRY_INFO!G135),COUNTRY_INFO!F135+COUNTRY_INFO!G135,COUNTRY_INFO!$M135),0))))","v":0},{"$f":"IF(AND(INTRO!$E$39=\"Non-endemic\",INTRO!$E$37=\"Non-endemic\"),\"Not required\",IF(INTRO!$E$39=\"Non-endemic\",\"Treat with DEC\",COUNTRY_INFO!P135))","v":0},{"$f":"IF(INTRO!$E$39<>\"Non-endemic\",COUNTRY_INFO!Q135,\"Not required\")","v":0},{"$f":"IF(COUNTRY_INFO!H135=1, IF($E135=1,$D135, 0),0)","v":0},{"$f":"IF(INTRO!$E$39<>\"Endemic\",0, IF(AND(COUNTRY_INFO!$I135=1,$F135<>0),IF(COUNTRY_INFO!M135>=(COUNTRY_INFO!F135+COUNTRY_INFO!G135),COUNTRY_INFO!F135+COUNTRY_INFO!G135,COUNTRY_INFO!$M135), 0))","v":0},0,0,0,0,0,0,null,0,0]
[{"$f":"IF(INTRO!$E$39=\"Non-endemic\",\" \",IF(COUNTRY_INFO!A136=0,\" \",COUNTRY_INFO!A136))","v":"Uganda"},{"$f":"IF(INTRO!$E$39=\"Non-endemic\",\" \",IF(COUNTRY_INFO!B136=0,\" \",COUNTRY_INFO!B136))","v":"WESTERN"},{"$f":"IF(INTRO!$E$39=\"Non-endemic\",\" \",IF(COUNTRY_INFO!C136=0,\" \",COUNTRY_INFO!C136))","v":"KIKUUBE"},{"$f":"IF(INTRO!$E$39=\"Non-endemic\",0,IF(INTRO!$E$39=\"Endemic but PC is not required\",IF(COUNTRY_INFO!$H136=1,COUNTRY_INFO!F136+COUNTRY_INFO!G136,0),IF(COUNTRY_INFO!$H136=1,COUNTRY_INFO!F136+COUNTRY_INFO!G136,IF(COUNTRY_INFO!$I136=1,IF(COUNTRY_INFO!M136>=(COUNTRY_INFO!F136+COUNTRY_INFO!G136),COUNTRY_INFO!F136+COUNTRY_INFO!G136,COUNTRY_INFO!$M136),0))))","v":0},{"$f":"IF(AND(INTRO!$E$39=\"Non-endemic\",INTRO!$E$37=\"Non-endemic\"),\"Not required\",IF(INTRO!$E$39=\"Non-endemic\",\"Treat with DEC\",COUNTRY_INFO!P136))","v":0},{"$f":"IF(INTRO!$E$39<>\"Non-endemic\",COUNTRY_INFO!Q136,\"Not required\")","v":0},{"$f":"IF(COUNTRY_INFO!H136=1, IF($E136=1,$D136, 0),0)","v":0},{"$f":"IF(INTRO!$E$39<>\"Endemic\",0, IF(AND(COUNTRY_INFO!$I136=1,$F136<>0),IF(COUNTRY_INFO!M136>=(COUNTRY_INFO!F136+COUNTRY_INFO!G136),COUNTRY_INFO!F136+COUNTRY_INFO!G136,COUNTRY_INFO!$M136), 0))","v":0},0,0,0,0,0,0,null,0,0]
[{"$f":"IF(INTRO!$E$39=\"Non-endemic\",\" \",IF(COUNTRY_INFO!A137=0,\" \",COUNTRY_INFO!A137))","v":"Uganda"},{"$f":"IF(INTRO!$E$39=\"Non-endemic\",\" \",IF(COUNTRY_INFO!B137=0,\" \",COUNTRY_INFO!B137))","v":"WESTERN"},{"$f":"IF(INTRO!$E$39=\"Non-endemic\",\" \",IF(COUNTRY_INFO!C137=0,\" \",COUNTRY_INFO!C137))","v":"KIRUHURA"},{"$f":"IF(INTRO!$E$39=\"Non-endemic\",0,IF(INTRO!$E$39=\"Endemic but PC is not required\",IF(COUNTRY_INFO!$H137=1,COUNTRY_INFO!F137+COUNTRY_INFO!G137,0),IF(COUNTRY_INFO!$H137=1,COUNTRY_INFO!F137+COUNTRY_INFO!G137,IF(COUNTRY_INFO!$I137=1,IF(COUNTRY_INFO!M137>=(COUNTRY_INFO!F137+COUNTRY_INFO!G137),COUNTRY_INFO!F137+COUNTRY_INFO!G137,COUNTRY_INFO!$M137),0))))","v":0},{"$f":"IF(AND(INTRO!$E$39=\"Non-endemic\",INTRO!$E$37=\"Non-endemic\"),\"Not required\",IF(INTRO!$E$39=\"Non-endemic\",\"Treat with DEC\",COUNTRY_INFO!P137))","v":0},{"$f":"IF(INTRO!$E$39<>\"Non-endemic\",COUNTRY_INFO!Q137,\"Not required\")","v":0},{"$f":"IF(COUNTRY_INFO!H137=1, IF($E137=1,$D137, 0),0)","v":0},{"$f":"IF(INTRO!$E$39<>\"Endemic\",0, IF(AND(COUNTRY_INFO!$I137=1,$F137<>0),IF(COUNTRY_INFO!M137>=(COUNTRY_INFO!F137+COUNTRY_INFO!G137),COUNTRY_INFO!F137+COUNTRY_INFO!G137,COUNTRY_INFO!$M137), 0))","v":0},0,0,0,0,0,0,null,0,0]
[{"$f":"IF(INTRO!$E$39=\"Non-endemic\",\" \",IF(COUNTRY_INFO!A138=0,\" \",COUNTRY_INFO!A138))","v":"Uganda"},{"$f":"IF(INTRO!$E$39=\"Non-endemic\",\" \",IF(COUNTRY_INFO!B138=0,\" \",COUNTRY_INFO!B138))","v":"WESTERN"},{"$f":"IF(INTRO!$E$39=\"Non-endemic\",\" \",IF(COUNTRY_INFO!C138=0,\" \",COUNTRY_INFO!C138))","v":"KIRYANDONGO"},{"$f":"IF(INTRO!$E$39=\"Non-endemic\",0,IF(INTRO!$E$39=\"Endemic but PC is not required\",IF(COUNTRY_INFO!$H138=1,COUNTRY_INFO!F138+COUNTRY_INFO!G138,0),IF(COUNTRY_INFO!$H138=1,COUNTRY_INFO!F138+COUNTRY_INFO!G138,IF(COUNTRY_INFO!$I138=1,IF(COUNTRY_INFO!M138>=(COUNTRY_INFO!F138+COUNTRY_INFO!G138),COUNTRY_INFO!F138+COUNTRY_INFO!G138,COUNTRY_INFO!$M138),0))))","v":0},{"$f":"IF(AND(INTRO!$E$39=\"Non-endemic\",INTRO!$E$37=\"Non-endemic\"),\"Not required\",IF(INTRO!$E$39=\"Non-endemic\",\"Treat with DEC\",COUNTRY_INFO!P138))","v":0},{"$f":"IF(INTRO!$E$39<>\"Non-endemic\",COUNTRY_INFO!Q138,\"Not required\")","v":0},{"$f":"IF(COUNTRY_INFO!H138=1, IF($E138=1,$D138, 0),0)","v":0},{"$f":"IF(INTRO!$E$39<>\"Endemic\",0, IF(AND(COUNTRY_INFO!$I138=1,$F138<>0),IF(COUNTRY_INFO!M138>=(COUNTRY_INFO!F138+COUNTRY_INFO!G138),COUNTRY_INFO!F138+COUNTRY_INFO!G138,COUNTRY_INFO!$M138), 0))","v":0},0,{"$f":"IF(I138=0,H138,IF(I138>H138,H138,I138))","v":0},{"$f":"IF(G138<J138,0,IF($E138=1, (G138-J138)*2.8, 0))","v":0},{"$f":"IF($E138<$F138, J138*(F138-E138)*2.8, 0)","v":0},{"$f":"IF(AND($E138=1, $F138<>0), J138*2.8, 0)","v":0},{"$f":"SUM(K138:M138)","v":0},null,0,0]
[{"$f":"IF(INTRO!$E$39=\"Non-endemic\",\" \",IF(COUNTRY_INFO!A139=0,\" \",COUNTRY_INFO!A139))","v":"Uganda"},{"$f":"IF(INTRO!$E$39=\"Non-endemic\",\" \",IF(COUNTRY_INFO!B139=0,\" \",COUNTRY_INFO!B139))","v":"WESTERN"},{"$f":"IF(INTRO!$E$39=\"Non-endemic\",\" \",IF(COUNTRY_INFO!C139=0,\" \",COUNTRY_INFO!C139))","v":"KISORO"},{"$f":"IF(INTRO!$E$39=\"Non-endemic\",0,IF(INTRO!$E$39=\"Endemic but PC is not required\",IF(COUNTRY_INFO!$H139=1,COUNTRY_INFO!F139+COUNTRY_INFO!G139,0),IF(COUNTRY_INFO!$H139=1,COUNTRY_INFO!F139+COUNTRY_INFO!G139,IF(COUNTRY_INFO!$I139=1,IF(COUNTRY_INFO!M139>=(COUNTRY_INFO!F139+COUNTRY_INFO!G139),COUNTRY_INFO!F139+COUNTRY_INFO!G139,COUNTRY_INFO!$M139),0))))","v":0},{"$f":"IF(AND(INTRO!$E$39=\"Non-endemic\",INTRO!$E$37=\"Non-endemic\"),\"Not required\",IF(INTRO!$E$39=\"Non-endemic\",\"Treat with DEC\",COUNTRY_INFO!P139))","v":0},{"$f":"IF(INTRO!$E$39<>\"Non-endemic\",COUNTRY_INFO!Q139,\"Not required\")","v":0},{"$f":"IF(COUNTRY_INFO!H139=1, IF($E139=1,$D139, 0),0)","v":0},{"$f":"IF(INTRO!$E$39<>\"Endemic\",0, IF(AND(COUNTRY_INFO!$I139=1,$F139<>0),IF(COUNTRY_INFO!M139>=(COUNTRY_INFO!F139+COUNTRY_INFO!G139),COUNTRY_INFO!F139+COUNTRY_INFO!G139,COUNTRY_INFO!$M139), 0))","v":0},0,0,0,0,0,0,null,0,0]
[{"$f":"IF(INTRO!$E$39=\"Non-endemic\",\" \",IF(COUNTRY_INFO!A140=0,\" \",COUNTRY_INFO!A140))","v":"Uganda"},{"$f":"IF(INTRO!$E$39=\"Non-endemic\",\" \",IF(COUNTRY_INFO!B140=0,\" \",COUNTRY_INFO!B140))","v":"WESTERN"},{"$f":"IF(INTRO!$E$39=\"Non-endemic\",\" \",IF(COUNTRY_INFO!C140=0,\" \",COUNTRY_INFO!C140))","v":"KITAGWENDA"},{"$f":"IF(INTRO!$E$39=\"Non-endemic\",0,IF(INTRO!$E$39=\"Endemic but PC is not required\",IF(COUNTRY_INFO!$H140=1,COUNTRY_INFO!F140+COUNTRY_INFO!G140,0),IF(COUNTRY_INFO!$H140=1,COUNTRY_INFO!F140+COUNTRY_INFO!G140,IF(COUNTRY_INFO!$I140=1,IF(COUNTRY_INFO!M140>=(COUNTRY_INFO!F140+COUNTRY_INFO!G140),COUNTRY_INFO!F140+COUNTRY_INFO!G140,COUNTRY_INFO!$M140),0))))","v":0},{"$f":"IF(AND(INTRO!$E$39=\"Non-endemic\",INTRO!$E$37=\"Non-endemic\"),\"Not required\",IF(INTRO!$E$39=\"Non-endemic\",\"Treat with DEC\",COUNTRY_INFO!P140))","v":0},{"$f":"IF(INTRO!$E$39<>\"Non-endemic\",COUNTRY_INFO!Q140,\"Not required\")","v":0},{"$f":"IF(COUNTRY_INFO!H140=1, IF($E140=1,$D140, 0),0)","v":0},{"$f":"IF(INTRO!$E$39<>\"Endemic\",0, IF(AND(COUNTRY_INFO!$I140=1,$F140<>0),IF(COUNTRY_INFO!M140>=(COUNTRY_INFO!F140+COUNTRY_INFO!G140),COUNTRY_INFO!F140+COUNTRY_INFO!G140,COUNTRY_INFO!$M140), 0))","v":0},0,0,0,0,0,0,null,0,0]
[{"$f":"IF(INTRO!$E$39=\"Non-endemic\",\" \",IF(COUNTRY_INFO!A141=0,\" \",COUNTRY_INFO!A141))","v":"Uganda"},{"$f":"IF(INTRO!$E$39=\"Non-endemic\",\" \",IF(COUNTRY_INFO!B141=0,\" \",COUNTRY_INFO!B141))","v":"WESTERN"},{"$f":"IF(INTRO!$E$39=\"Non-endemic\",\" \",IF(COUNTRY_INFO!C141=0,\" \",COUNTRY_INFO!C141))","v":"KYEGEGWA"},{"$f":"IF(INTRO!$E$39=\"Non-endemic\",0,IF(INTRO!$E$39=\"Endemic but PC is not required\",IF(COUNTRY_INFO!$H141=1,COUNTRY_INFO!F141+COUNTRY_INFO!G141,0),IF(COUNTRY_INFO!$H141=1,COUNTRY_INFO!F141+COUNTRY_INFO!G141,IF(COUNTRY_INFO!$I141=1,IF(COUNTRY_INFO!M141>=(COUNTRY_INFO!F141+COUNTRY_INFO!G141),COUNTRY_INFO!F141+COUNTRY_INFO!G141,COUNTRY_INFO!$M141),0))))","v":0},{"$f":"IF(AND(INTRO!$E$39=\"Non-endemic\",INTRO!$E$37=\"Non-endemic\"),\"Not required\",IF(INTRO!$E$39=\"Non-endemic\",\"Treat with DEC\",COUNTRY_INFO!P141))","v":0},{"$f":"IF(INTRO!$E$39<>\"Non-endemic\",COUNTRY_INFO!Q141,\"Not required\")","v":0},{"$f":"IF(COUNTRY_INFO!H141=1, IF($E141=1,$D141, 0),0)","v":0},{"$f":"IF(INTRO!$E$39<>\"Endemic\",0, IF(AND(COUNTRY_INFO!$I141=1,$F141<>0),IF(COUNTRY_INFO!M141>=(COUNTRY_INFO!F141+COUNTRY_INFO!G141),COUNTRY_INFO!F141+COUNTRY_INFO!G141,COUNTRY_INFO!$M141), 0))","v":0},0,0,0,0,0,0,null,0,0]
[{"$f":"IF(INTRO!$E$39=\"Non-endemic\",\" \",IF(COUNTRY_INFO!A142=0,\" \",COUNTRY_INFO!A142))","v":"Uganda"},{"$f":"IF(INTRO!$E$39=\"Non-endemic\",\" \",IF(COUNTRY_INFO!B142=0,\" \",COUNTRY_INFO!B142))","v":"WESTERN"},{"$f":"IF(INTRO!$E$39=\"Non-endemic\",\" \",IF(COUNTRY_INFO!C142=0,\" \",COUNTRY_INFO!C142))","v":"KYENJOJO"},{"$f":"IF(INTRO!$E$39=\"Non-endemic\",0,IF(INTRO!$E$39=\"Endemic but PC is not required\",IF(COUNTRY_INFO!$H142=1,COUNTRY_INFO!F142+COUNTRY_INFO!G142,0),IF(COUNTRY_INFO!$H142=1,COUNTRY_INFO!F142+COUNTRY_INFO!G142,IF(COUNTRY_INFO!$I142=1,IF(COUNTRY_INFO!M142>=(COUNTRY_INFO!F142+COUNTRY_INFO!G142),COUNTRY_INFO!F142+COUNTRY_INFO!G142,COUNTRY_INFO!$M142),0))))","v":0},{"$f":"IF(AND(INTRO!$E$39=\"Non-endemic\",INTRO!$E$37=\"Non-endemic\"),\"Not required\",IF(INTRO!$E$39=\"Non-endemic\",\"Treat with DEC\",COUNTRY_INFO!P142))","v":0},{"$f":"IF(INTRO!$E$39<>\"Non-endemic\",COUNTRY_INFO!Q142,\"Not required\")","v":0},{"$f":"IF(COUNTRY_INFO!H142=1, IF($E142=1,$D142, 0),0)","v":0},{"$f":"IF(INTRO!$E$39<>\"Endemic\",0, IF(AND(COUNTRY_INFO!$I142=1,$F142<>0),IF(COUNTRY_INFO!M142>=(COUNTRY_INFO!F142+COUNTRY_INFO!G142),COUNTRY_INFO!F142+COUNTRY_INFO!G142,COUNTRY_INFO!$M142), 0))","v":0},0,0,0,0,0,0,null,0,0]
[{"$f":"IF(INTRO!$E$39=\"Non-endemic\",\" \",IF(COUNTRY_INFO!A143=0,\" \",COUNTRY_INFO!A143))","v":"Uganda"},{"$f":"IF(INTRO!$E$39=\"Non-endemic\",\" \",IF(COUNTRY_INFO!B143=0,\" \",COUNTRY_INFO!B143))","v":"WESTERN"},{"$f":"IF(INTRO!$E$39=\"Non-endemic\",\" \",IF(COUNTRY_INFO!C143=0,\" \",COUNTRY_INFO!C143))","v":"MASINDI"},{"$f":"IF(INTRO!$E$39=\"Non-endemic\",0,IF(INTRO!$E$39=\"Endemic but PC is not required\",IF(COUNTRY_INFO!$H143=1,COUNTRY_INFO!F143+COUNTRY_INFO!G143,0),IF(COUNTRY_INFO!$H143=1,COUNTRY_INFO!F143+COUNTRY_INFO!G143,IF(COUNTRY_INFO!$I143=1,IF(COUNTRY_INFO!M143>=(COUNTRY_INFO!F143+COUNTRY_INFO!G143),COUNTRY_INFO!F143+COUNTRY_INFO!G143,COUNTRY_INFO!$M143),0))))","v":0},{"$f":"IF(AND(INTRO!$E$39=\"Non-endemic\",INTRO!$E$37=\"Non-endemic\"),\"Not required\",IF(INTRO!$E$39=\"Non-endemic\",\"Treat with DEC\",COUNTRY_INFO!P143))","v":0},{"$f":"IF(INTRO!$E$39<>\"Non-endemic\",COUNTRY_INFO!Q143,\"Not required\")","v":0},{"$f":"IF(COUNTRY_INFO!H143=1, IF($E143=1,$D143, 0),0)","v":0},{"$f":"IF(INTRO!$E$39<>\"Endemic\",0, IF(AND(COUNTRY_INFO!$I143=1,$F143<>0),IF(COUNTRY_INFO!M143>=(COUNTRY_INFO!F143+COUNTRY_INFO!G143),COUNTRY_INFO!F143+COUNTRY_INFO!G143,COUNTRY_INFO!$M143), 0))","v":0},0,0,0,0,0,0,null,0,0]
[{"$f":"IF(INTRO!$E$39=\"Non-endemic\",\" \",IF(COUNTRY_INFO!A144=0,\" \",COUNTRY_INFO!A144))","v":"Uganda"},{"$f":"IF(INTRO!$E$39=\"Non-endemic\",\" \",IF(COUNTRY_INFO!B144=0,\" \",COUNTRY_INFO!B144))","v":"WESTERN"},{"$f":"IF(INTRO!$E$39=\"Non-endemic\",\" \",IF(COUNTRY_INFO!C144=0,\" \",COUNTRY_INFO!C144))","v":"MBARARA"},{"$f":"IF(INTRO!$E$39=\"Non-endemic\",0,IF(INTRO!$E$39=\"Endemic but PC is not required\",IF(COUNTRY_INFO!$H144=1,COUNTRY_INFO!F144+COUNTRY_INFO!G144,0),IF(COUNTRY_INFO!$H144=1,COUNTRY_INFO!F144+COUNTRY_INFO!G144,IF(COUNTRY_INFO!$I144=1,IF(COUNTRY_INFO!M144>=(COUNTRY_INFO!F144+COUNTRY_INFO!G144),COUNTRY_INFO!F144+COUNTRY_INFO!G144,COUNTRY_INFO!$M144),0))))","v":0},{"$f":"IF(AND(INTRO!$E$39=\"Non-endemic\",INTRO!$E$37=\"Non-endemic\"),\"Not required\",IF(INTRO!$E$39=\"Non-endemic\",\"Treat with DEC\",COUNTRY_INFO!P144))","v":0},{"$f":"IF(INTRO!$E$39<>\"Non-endemic\",COUNTRY_INFO!Q144,\"Not required\")","v":0},{"$f":"IF(COUNTRY_INFO!H144=1, IF($E144=1,$D144, 0),0)","v":0},{"$f":"IF(INTRO!$E$39<>\"Endemic\",0, IF(AND(COUNTRY_INFO!$I144=1,$F144<>0),IF(COUNTRY_INFO!M144>=(COUNTRY_INFO!F144+COUNTRY_INFO!G144),COUNTRY_INFO!F144+COUNTRY_INFO!G144,COUNTRY_INFO!$M144), 0))","v":0},0,0,0,0,0,0,null,0,0]
[{"$f":"IF(INTRO!$E$39=\"Non-endemic\",\" \",IF(COUNTRY_INFO!A145=0,\" \",COUNTRY_INFO!A145))","v":"Uganda"},{"$f":"IF(INTRO!$E$39=\"Non-endemic\",\" \",IF(COUNTRY_INFO!B145=0,\" \",COUNTRY_INFO!B145))","v":"WESTERN"},{"$f":"IF(INTRO!$E$39=\"Non-endemic\",\" \",IF(COUNTRY_INFO!C145=0,\" \",COUNTRY_INFO!C145))","v":"Mbarara City"},{"$f":"IF(INTRO!$E$39=\"Non-endemic\",0,IF(INTRO!$E$39=\"Endemic but PC is not required\",IF(COUNTRY_INFO!$H145=1,COUNTRY_INFO!F145+COUNTRY_INFO!G145,0),IF(COUNTRY_INFO!$H145=1,COUNTRY_INFO!F145+COUNTRY_INFO!G145,IF(COUNTRY_INFO!$I145=1,IF(COUNTRY_INFO!M145>=(COUNTRY_INFO!F145+COUNTRY_INFO!G145),COUNTRY_INFO!F145+COUNTRY_INFO!G145,COUNTRY_INFO!$M145),0))))","v":0},{"$f":"IF(AND(INTRO!$E$39=\"Non-endemic\",INTRO!$E$37=\"Non-endemic\"),\"Not required\",IF(INTRO!$E$39=\"Non-endemic\",\"Treat with DEC\",COUNTRY_INFO!P145))","v":0},{"$f":"IF(INTRO!$E$39<>\"Non-endemic\",COUNTRY_INFO!Q145,\"Not required\")","v":0},{"$f":"IF(COUNTRY_INFO!H145=1, IF($E145=1,$D145, 0),0)","v":0},{"$f":"IF(INTRO!$E$39<>\"Endemic\",0, IF(AND(COUNTRY_INFO!$I145=1,$F145<>0),IF(COUNTRY_INFO!M145>=(COUNTRY_INFO!F145+COUNTRY_INFO!G145),COUNTRY_INFO!F145+COUNTRY_INFO!G145,COUNTRY_INFO!$M145), 0))","v":0},0,0,0,0,0,0,null,0,0]
[{"$f":"IF(INTRO!$E$39=\"Non-endemic\",\" \",IF(COUNTRY_INFO!A146=0,\" \",COUNTRY_INFO!A146))","v":"Uganda"},{"$f":"IF(INTRO!$E$39=\"Non-endemic\",\" \",IF(COUNTRY_INFO!B146=0,\" \",COUNTRY_INFO!B146))","v":"WESTERN"},{"$f":"IF(INTRO!$E$39=\"Non-endemic\",\" \",IF(COUNTRY_INFO!C146=0,\" \",COUNTRY_INFO!C146))","v":"MITOOMA"},{"$f":"IF(INTRO!$E$39=\"Non-endemic\",0,IF(INTRO!$E$39=\"Endemic but PC is not required\",IF(COUNTRY_INFO!$H146=1,COUNTRY_INFO!F146+COUNTRY_INFO!G146,0),IF(COUNTRY_INFO!$H146=1,COUNTRY_INFO!F146+COUNTRY_INFO!G146,IF(COUNTRY_INFO!$I146=1,IF(COUNTRY_INFO!M146>=(COUNTRY_INFO!F146+COUNTRY_INFO!G146),COUNTRY_INFO!F146+COUNTRY_INFO!G146,COUNTRY_INFO!$M146),0))))","v":0},{"$f":"IF(AND(INTRO!$E$39=\"Non-endemic\",INTRO!$E$37=\"Non-endemic\"),\"Not required\",IF(INTRO!$E$39=\"Non-endemic\",\"Treat with DEC\",COUNTRY_INFO!P146))","v":0},{"$f":"IF(INTRO!$E$39<>\"Non-endemic\",COUNTRY_INFO!Q146,\"Not required\")","v":0},{"$f":"IF(COUNTRY_INFO!H146=1, IF($E146=1,$D146, 0),0)","v":0},{"$f":"IF(INTRO!$E$39<>\"Endemic\",0, IF(AND(COUNTRY_INFO!$I146=1,$F146<>0),IF(COUNTRY_INFO!M146>=(COUNTRY_INFO!F146+COUNTRY_INFO!G146),COUNTRY_INFO!F146+COUNTRY_INFO!G146,COUNTRY_INFO!$M146), 0))","v":0},0,0,0,0,0,0,null,0,0]
[{"$f":"IF(INTRO!$E$39=\"Non-endemic\",\" \",IF(COUNTRY_INFO!A147=0,\" \",COUNTRY_INFO!A147))","v":"Uganda"},{"$f":"IF(INTRO!$E$39=\"Non-endemic\",\" \",IF(COUNTRY_INFO!B147=0,\" \",COUNTRY_INFO!B147))","v":"WESTERN"},{"$f":"IF(INTRO!$E$39=\"Non-endemic\",\" \",IF(COUNTRY_INFO!C147=0,\" \",COUNTRY_INFO!C147))","v":"NTOROKO"},{"$f":"IF(INTRO!$E$39=\"Non-endemic\",0,IF(INTRO!$E$39=\"Endemic but PC is not required\",IF(COUNTRY_INFO!$H147=1,COUNTRY_INFO!F147+COUNTRY_INFO!G147,0),IF(COUNTRY_INFO!$H147=1,COUNTRY_INFO!F147+COUNTRY_INFO!G147,IF(COUNTRY_INFO!$I147=1,IF(COUNTRY_INFO!M147>=(COUNTRY_INFO!F147+COUNTRY_INFO!G147),COUNTRY_INFO!F147+COUNTRY_INFO!G147,COUNTRY_INFO!$M147),0))))","v":0},{"$f":"IF(AND(INTRO!$E$39=\"Non-endemic\",INTRO!$E$37=\"Non-endemic\"),\"Not required\",IF(INTRO!$E$39=\"Non-endemic\",\"Treat with DEC\",COUNTRY_INFO!P147))","v":0},{"$f":"IF(INTRO!$E$39<>\"Non-endemic\",COUNTRY_INFO!Q147,\"Not required\")","v":0},{"$f":"IF(COUNTRY_INFO!H147=1, IF($E147=1,$D147, 0),0)","v":0},{"$f":"IF(INTRO!$E$39<>\"Endemic\",0, IF(AND(COUNTRY_INFO!$I147=1,$F147<>0),IF(COUNTRY_INFO!M147>=(COUNTRY_INFO!F147+COUNTRY_INFO!G147),COUNTRY_INFO!F147+COUNTRY_INFO!G147,COUNTRY_INFO!$M147), 0))","v":0},0,0,0,0,0,0,null,0,0]
[{"$f":"IF(INTRO!$E$39=\"Non-endemic\",\" \",IF(COUNTRY_INFO!A148=0,\" \",COUNTRY_INFO!A148))","v":"Uganda"},{"$f":"IF(INTRO!$E$39=\"Non-endemic\",\" \",IF(COUNTRY_INFO!B148=0,\" \",COUNTRY_INFO!B148))","v":"WESTERN"},{"$f":"IF(INTRO!$E$39=\"Non-endemic\",\" \",IF(COUNTRY_INFO!C148=0,\" \",COUNTRY_INFO!C148))","v":"NTUNGAMO"},{"$f":"IF(INTRO!$E$39=\"Non-endemic\",0,IF(INTRO!$E$39=\"Endemic but PC is not required\",IF(COUNTRY_INFO!$H148=1,COUNTRY_INFO!F148+COUNTRY_INFO!G148,0),IF(COUNTRY_INFO!$H148=1,COUNTRY_INFO!F148+COUNTRY_INFO!G148,IF(COUNTRY_INFO!$I148=1,IF(COUNTRY_INFO!M148>=(COUNTRY_INFO!F148+COUNTRY_INFO!G148),COUNTRY_INFO!F148+COUNTRY_INFO!G148,COUNTRY_INFO!$M148),0))))","v":0},{"$f":"IF(AND(INTRO!$E$39=\"Non-endemic\",INTRO!$E$37=\"Non-endemic\"),\"Not required\",IF(INTRO!$E$39=\"Non-endemic\",\"Treat with DEC\",COUNTRY_INFO!P148))","v":0},{"$f":"IF(INTRO!$E$39<>\"Non-endemic\",COUNTRY_INFO!Q148,\"Not required\")","v":0},{"$f":"IF(COUNTRY_INFO!H148=1, IF($E148=1,$D148, 0),0)","v":0},{"$f":"IF(INTRO!$E$39<>\"Endemic\",0, IF(AND(COUNTRY_INFO!$I148=1,$F148<>0),IF(COUNTRY_INFO!M148>=(COUNTRY_INFO!F148+COUNTRY_INFO!G148),COUNTRY_INFO!F148+COUNTRY_INFO!G148,COUNTRY_INFO!$M148), 0))","v":0},0,0,0,0,0,0,null,0,0]
[{"$f":"IF(INTRO!$E$39=\"Non-endemic\",\" \",IF(COUNTRY_INFO!A149=0,\" \",COUNTRY_INFO!A149))","v":"Uganda"},{"$f":"IF(INTRO!$E$39=\"Non-endemic\",\" \",IF(COUNTRY_INFO!B149=0,\" \",COUNTRY_INFO!B149))","v":"WESTERN"},{"$f":"IF(INTRO!$E$39=\"Non-endemic\",\" \",IF(COUNTRY_INFO!C149=0,\" \",COUNTRY_INFO!C149))","v":"RUBANDA"},{"$f":"IF(INTRO!$E$39=\"Non-endemic\",0,IF(INTRO!$E$39=\"Endemic but PC is not required\",IF(COUNTRY_INFO!$H149=1,COUNTRY_INFO!F149+COUNTRY_INFO!G149,0),IF(COUNTRY_INFO!$H149=1,COUNTRY_INFO!F149+COUNTRY_INFO!G149,IF(COUNTRY_INFO!$I149=1,IF(COUNTRY_INFO!M149>=(COUNTRY_INFO!F149+COUNTRY_INFO!G149),COUNTRY_INFO!F149+COUNTRY_INFO!G149,COUNTRY_INFO!$M149),0))))","v":0},{"$f":"IF(AND(INTRO!$E$39=\"Non-endemic\",INTRO!$E$37=\"Non-endemic\"),\"Not required\",IF(INTRO!$E$39=\"Non-endemic\",\"Treat with DEC\",COUNTRY_INFO!P149))","v":0},{"$f":"IF(INTRO!$E$39<>\"Non-endemic\",COUNTRY_INFO!Q149,\"Not required\")","v":0},{"$f":"IF(COUNTRY_INFO!H149=1, IF($E149=1,$D149, 0),0)","v":0},{"$f":"IF(INTRO!$E$39<>\"Endemic\",0, IF(AND(COUNTRY_INFO!$I149=1,$F149<>0),IF(COUNTRY_INFO!M149>=(COUNTRY_INFO!F149+COUNTRY_INFO!G149),COUNTRY_INFO!F149+COUNTRY_INFO!G149,COUNTRY_INFO!$M149), 0))","v":0},0,0,0,0,0,0,null,0,0]
[{"$f":"IF(INTRO!$E$39=\"Non-endemic\",\" \",IF(COUNTRY_INFO!A150=0,\" \",COUNTRY_INFO!A150))","v":"Uganda"},{"$f":"IF(INTRO!$E$39=\"Non-endemic\",\" \",IF(COUNTRY_INFO!B150=0,\" \",COUNTRY_INFO!B150))","v":"WESTERN"},{"$f":"IF(INTRO!$E$39=\"Non-endemic\",\" \",IF(COUNTRY_INFO!C150=0,\" \",COUNTRY_INFO!C150))","v":"RUBIRIZI"},{"$f":"IF(INTRO!$E$39=\"Non-endemic\",0,IF(INTRO!$E$39=\"Endemic but PC is not required\",IF(COUNTRY_INFO!$H150=1,COUNTRY_INFO!F150+COUNTRY_INFO!G150,0),IF(COUNTRY_INFO!$H150=1,COUNTRY_INFO!F150+COUNTRY_INFO!G150,IF(COUNTRY_INFO!$I150=1,IF(COUNTRY_INFO!M150>=(COUNTRY_INFO!F150+COUNTRY_INFO!G150),COUNTRY_INFO!F150+COUNTRY_INFO!G150,COUNTRY_INFO!$M150),0))))","v":0},{"$f":"IF(AND(INTRO!$E$39=\"Non-endemic\",INTRO!$E$37=\"Non-endemic\"),\"Not required\",IF(INTRO!$E$39=\"Non-endemic\",\"Treat with DEC\",COUNTRY_INFO!P150))","v":0},{"$f":"IF(INTRO!$E$39<>\"Non-endemic\",COUNTRY_INFO!Q150,\"Not required\")","v":0},{"$f":"IF(COUNTRY_INFO!H150=1, IF($E150=1,$D150, 0),0)","v":0},{"$f":"IF(INTRO!$E$39<>\"Endemic\",0, IF(AND(COUNTRY_INFO!$I150=1,$F150<>0),IF(COUNTRY_INFO!M150>=(COUNTRY_INFO!F150+COUNTRY_INFO!G150),COUNTRY_INFO!F150+COUNTRY_INFO!G150,COUNTRY_INFO!$M150), 0))","v":0},0,0,0,0,0,0,null,0,0]
[{"$f":"IF(INTRO!$E$39=\"Non-endemic\",\" \",IF(COUNTRY_INFO!A151=0,\" \",COUNTRY_INFO!A151))","v":"Uganda"},{"$f":"IF(INTRO!$E$39=\"Non-endemic\",\" \",IF(COUNTRY_INFO!B151=0,\" \",COUNTRY_INFO!B151))","v":"WESTERN"},{"$f":"IF(INTRO!$E$39=\"Non-endemic\",\" \",IF(COUNTRY_INFO!C151=0,\" \",COUNTRY_INFO!C151))","v":"RUKIGA"},{"$f":"IF(INTRO!$E$39=\"Non-endemic\",0,IF(INTRO!$E$39=\"Endemic but PC is not required\",IF(COUNTRY_INFO!$H151=1,COUNTRY_INFO!F151+COUNTRY_INFO!G151,0),IF(COUNTRY_INFO!$H151=1,COUNTRY_INFO!F151+COUNTRY_INFO!G151,IF(COUNTRY_INFO!$I151=1,IF(COUNTRY_INFO!M151>=(COUNTRY_INFO!F151+COUNTRY_INFO!G151),COUNTRY_INFO!F151+COUNTRY_INFO!G151,COUNTRY_INFO!$M151),0))))","v":0},{"$f":"IF(AND(INTRO!$E$39=\"Non-endemic\",INTRO!$E$37=\"Non-endemic\"),\"Not required\",IF(INTRO!$E$39=\"Non-endemic\",\"Treat with DEC\",COUNTRY_INFO!P151))","v":0},{"$f":"IF(INTRO!$E$39<>\"Non-endemic\",COUNTRY_INFO!Q151,\"Not required\")","v":0},{"$f":"IF(COUNTRY_INFO!H151=1, IF($E151=1,$D151, 0),0)","v":0},{"$f":"IF(INTRO!$E$39<>\"Endemic\",0, IF(AND(COUNTRY_INFO!$I151=1,$F151<>0),IF(COUNTRY_INFO!M151>=(COUNTRY_INFO!F151+COUNTRY_INFO!G151),COUNTRY_INFO!F151+COUNTRY_INFO!G151,COUNTRY_INFO!$M151), 0))","v":0},0,0,0,0,0,0,null,0,0]
[{"$f":"IF(INTRO!$E$39=\"Non-endemic\",\" \",IF(COUNTRY_INFO!A152=0,\" \",COUNTRY_INFO!A152))","v":"Uganda"},{"$f":"IF(INTRO!$E$39=\"Non-endemic\",\" \",IF(COUNTRY_INFO!B152=0,\" \",COUNTRY_INFO!B152))","v":"WESTERN"},{"$f":"IF(INTRO!$E$39=\"Non-endemic\",\" \",IF(COUNTRY_INFO!C152=0,\" \",COUNTRY_INFO!C152))","v":"RUKUNGIRI"},{"$f":"IF(INTRO!$E$39=\"Non-endemic\",0,IF(INTRO!$E$39=\"Endemic but PC is not required\",IF(COUNTRY_INFO!$H152=1,COUNTRY_INFO!F152+COUNTRY_INFO!G152,0),IF(COUNTRY_INFO!$H152=1,COUNTRY_INFO!F152+COUNTRY_INFO!G152,IF(COUNTRY_INFO!$I152=1,IF(COUNTRY_INFO!M152>=(COUNTRY_INFO!F152+COUNTRY_INFO!G152),COUNTRY_INFO!F152+COUNTRY_INFO!G152,COUNTRY_INFO!$M152),0))))","v":0},{"$f":"IF(AND(INTRO!$E$39=\"Non-endemic\",INTRO!$E$37=\"Non-endemic\"),\"Not required\",IF(INTRO!$E$39=\"Non-endemic\",\"Treat with DEC\",COUNTRY_INFO!P152))","v":0},{"$f":"IF(INTRO!$E$39<>\"Non-endemic\",COUNTRY_INFO!Q152,\"Not required\")","v":0},{"$f":"IF(COUNTRY_INFO!H152=1, IF($E152=1,$D152, 0),0)","v":0},{"$f":"IF(INTRO!$E$39<>\"Endemic\",0, IF(AND(COUNTRY_INFO!$I152=1,$F152<>0),IF(COUNTRY_INFO!M152>=(COUNTRY_INFO!F152+COUNTRY_INFO!G152),COUNTRY_INFO!F152+COUNTRY_INFO!G152,COUNTRY_INFO!$M152), 0))","v":0},0,0,0,0,0,0,null,0,0]
[{"$f":"IF(INTRO!$E$39=\"Non-endemic\",\" \",IF(COUNTRY_INFO!A153=0,\" \",COUNTRY_INFO!A153))","v":"Uganda"},{"$f":"IF(INTRO!$E$39=\"Non-endemic\",\" \",IF(COUNTRY_INFO!B153=0,\" \",COUNTRY_INFO!B153))","v":"WESTERN"},{"$f":"IF(INTRO!$E$39=\"Non-endemic\",\" \",IF(COUNTRY_INFO!C153=0,\" \",COUNTRY_INFO!C153))","v":"RWAMPARA"},{"$f":"IF(INTRO!$E$39=\"Non-endemic\",0,IF(INTRO!$E$39=\"Endemic but PC is not required\",IF(COUNTRY_INFO!$H153=1,COUNTRY_INFO!F153+COUNTRY_INFO!G153,0),IF(COUNTRY_INFO!$H153=1,COUNTRY_INFO!F153+COUNTRY_INFO!G153,IF(COUNTRY_INFO!$I153=1,IF(COUNTRY_INFO!M153>=(COUNTRY_INFO!F153+COUNTRY_INFO!G153),COUNTRY_INFO!F153+COUNTRY_INFO!G153,COUNTRY_INFO!$M153),0))))","v":0},{"$f":"IF(AND(INTRO!$E$39=\"Non-endemic\",INTRO!$E$37=\"Non-endemic\"),\"Not required\",IF(INTRO!$E$39=\"Non-endemic\",\"Treat with DEC\",COUNTRY_INFO!P153))","v":0},{"$f":"IF(INTRO!$E$39<>\"Non-endemic\",COUNTRY_INFO!Q153,\"Not required\")","v":0},{"$f":"IF(COUNTRY_INFO!H153=1, IF($E153=1,$D153, 0),0)","v":0},{"$f":"IF(INTRO!$E$39<>\"Endemic\",0, IF(AND(COUNTRY_INFO!$I153=1,$F153<>0),IF(COUNTRY_INFO!M153>=(COUNTRY_INFO!F153+COUNTRY_INFO!G153),COUNTRY_INFO!F153+COUNTRY_INFO!G153,COUNTRY_INFO!$M153), 0))","v":0},0,0,0,0,0,0,null,0,0]
[{"$f":"IF(INTRO!$E$39=\"Non-endemic\",\" \",IF(COUNTRY_INFO!A153=0,\" \",COUNTRY_INFO!A153))","v":"Uganda"},{"$f":"IF(INTRO!$E$39=\"Non-endemic\",\" \",IF(COUNTRY_INFO!B153=0,\" \",COUNTRY_INFO!B153))","v":"WESTERN"},{"$f":"IF(INTRO!$E$39=\"Non-endemic\",\" \",IF(COUNTRY_INFO!C153=0,\" \",COUNTRY_INFO!C153))","v":"RWAMPARA"},{"$f":"IF(INTRO!$E$39=\"Non-endemic\",0,IF(INTRO!$E$39=\"Endemic but PC is not required\",IF(COUNTRY_INFO!$H153=1,COUNTRY_INFO!F153+COUNTRY_INFO!G153,0),IF(COUNTRY_INFO!$H153=1,COUNTRY_INFO!F153+COUNTRY_INFO!G153,IF(COUNTRY_INFO!$I153=1,IF(COUNTRY_INFO!M153>=(COUNTRY_INFO!F153+COUNTRY_INFO!G153),COUNTRY_INFO!F153+COUNTRY_INFO!G153,COUNTRY_INFO!$M153),0))))","v":0},{"$f":"IF(AND(INTRO!$E$39=\"Non-endemic\",INTRO!$E$37=\"Non-endemic\"),\"Not required\",IF(INTRO!$E$39=\"Non-endemic\",\"Treat with DEC\",COUNTRY_INFO!P153))","v":0},{"$f":"IF(INTRO!$E$39<>\"Non-endemic\",COUNTRY_INFO!Q153,\"Not required\")","v":0},{"$f":"IF(COUNTRY_INFO!H153=1, IF($E154=1,$D154, 0),0)","v":0},{"$f":"IF(INTRO!$E$39<>\"Endemic\",0, IF(AND(COUNTRY_INFO!$I153=1,$F154<>0),IF(COUNTRY_INFO!M153>=(COUNTRY_INFO!F153+COUNTRY_INFO!G153),COUNTRY_INFO!F153+COUNTRY_INFO!G153,COUNTRY_INFO!$M153), 0))","v":0},0,{"$f":"IF(I154=0,H154,IF(I154>H154,H154,I154))","v":0},{"$f":"IF(G154<J154,0,IF($E154=1, (G154-J154)*2.8, 0))","v":0},{"$f":"IF($E154<$F154, J154*(F154-E154)*2.8, 0)","v":0},{"$f":"IF(AND($E154=1, $F154<>0), J154*2.8, 0)","v":0},{"$f":"SUM(K154:M154)","v":0},null,0,0]
[{"$f":"IF(INTRO!$E$39=\"Non-endemic\",\" \",IF(COUNTRY_INFO!A154=0,\" \",COUNTRY_INFO!A154))","v":"Uganda"},{"$f":"IF(INTRO!$E$39=\"Non-endemic\",\" \",IF(COUNTRY_INFO!B154=0,\" \",COUNTRY_INFO!B154))","v":"WESTERN"},{"$f":"IF(INTRO!$E$39=\"Non-endemic\",\" \",IF(COUNTRY_INFO!C154=0,\" \",COUNTRY_INFO!C154))","v":"SHEEMA"},{"$f":"IF(INTRO!$E$39=\"Non-endemic\",0,IF(INTRO!$E$39=\"Endemic but PC is not required\",IF(COUNTRY_INFO!$H154=1,COUNTRY_INFO!F154+COUNTRY_INFO!G154,0),IF(COUNTRY_INFO!$H154=1,COUNTRY_INFO!F154+COUNTRY_INFO!G154,IF(COUNTRY_INFO!$I154=1,IF(COUNTRY_INFO!M154>=(COUNTRY_INFO!F154+COUNTRY_INFO!G154),COUNTRY_INFO!F154+COUNTRY_INFO!G154,COUNTRY_INFO!$M154),0))))","v":0},{"$f":"IF(AND(INTRO!$E$39=\"Non-endemic\",INTRO!$E$37=\"Non-endemic\"),\"Not required\",IF(INTRO!$E$39=\"Non-endemic\",\"Treat with DEC\",COUNTRY_INFO!P154))","v":0},{"$f":"IF(INTRO!$E$39<>\"Non-endemic\",COUNTRY_INFO!Q154,\"Not required\")","v":0},{"$f":"IF(COUNTRY_INFO!H154=1, IF($E155=1,$D155, 0),0)","v":0},{"$f":"IF(INTRO!$E$39<>\"Endemic\",0, IF(AND(COUNTRY_INFO!$I154=1,$F155<>0),IF(COUNTRY_INFO!M154>=(COUNTRY_INFO!F154+COUNTRY_INFO!G154),COUNTRY_INFO!F154+COUNTRY_INFO!G154,COUNTRY_INFO!$M154), 0))","v":0},0,0,0,0,0,0,null,0,0]

{"sheet":"IVM+","index":6,"n_rows":154,"n_cols":9,"rows_kept":154,"cut":false,"hidden":true,"merged":[[6,5,7,5],[6,6,7,6],[6,7,7,7],[6,8,7,8],[5,4,7,4],[5,5,5,8],[6,0,7,0],[6,1,7,1],[6,2,7,2],[6,3,7,3],[3,0,3,2],[5,0,5,2]]}
["Ivermectin (IVM) for IDA therapy"]
["Administrative structure, eligible population by age group, treatment plan and information about tablets"]
[]
["TOTAL",null,null,null,{"$f":"SUM(E$9:E$1000)","v":0},0,0,0,0]
[]
["Country administrative structure",null,null,"Treatment plan","Population targeted for treatment with IVM \n(IDA therapy)","Ivermectin (IVM)"]
["Country","Province/State","District","LF",null,"Total required","Remaining in stock","Tablets to be procured","Bottles (3mg)\n500 tablets"]
[]
[{"$f":"IF(AND(INTRO!$E$37=\"Endemic\",INTRO!$E$39=\"Non-endemic\"),IF(COUNTRY_INFO!A9=0,\" \",COUNTRY_INFO!A9),\" \")","v":" "},{"$f":"IF(AND(INTRO!$E$37=\"Endemic\",INTRO!$E$39=\"Non-endemic\"),IF(COUNTRY_INFO!B9=0,\" \",COUNTRY_INFO!B9),\" \")","v":" "},{"$f":"IF(AND(INTRO!$E$37=\"Endemic\",INTRO!$E$39=\"Non-endemic\"),IF(COUNTRY_INFO!C9=0,\" \",COUNTRY_INFO!C9),\" \")","v":" "},{"$f":"IF(COUNTRY_INFO!T9<>\"\",COUNTRY_INFO!P9,0)","v":0},{"$f":"IF(AND(COUNTRY_INFO!T9<>\"\",COUNTRY_INFO!$H9=1),COUNTRY_INFO!F9+COUNTRY_INFO!G9,0)","v":0},{"$f":"E9*2.8","v":0},null,{"$f":"IF($F9>$G9,$F9-$G9,0)","v":0},{"$f":"ROUNDUP($F9/500,0)","v":0}]
[{"$f":"IF(AND(INTRO!$E$37=\"Endemic\",INTRO!$E$39=\"Non-endemic\"),IF(COUNTRY_INFO!A10=0,\" \",COUNTRY_INFO!A10),\" \")","v":" "},{"$f":"IF(AND(INTRO!$E$37=\"Endemic\",INTRO!$E$39=\"Non-endemic\"),IF(COUNTRY_INFO!B10=0,\" \",COUNTRY_INFO!B10),\" \")","v":" "},{"$f":"IF(AND(INTRO!$E$37=\"Endemic\",INTRO!$E$39=\"Non-endemic\"),IF(COUNTRY_INFO!C10=0,\" \",COUNTRY_INFO!C10),\" \")","v":" "},{"$f":"IF(COUNTRY_INFO!T10<>\"\",COUNTRY_INFO!P10,0)","v":0},{"$f":"IF(AND(COUNTRY_INFO!T10<>\"\",COUNTRY_INFO!$H10=1),COUNTRY_INFO!F10+COUNTRY_INFO!G10,0)","v":0},{"$f":"E10*2.8","v":0},null,0,0]
[{"$f":"IF(AND(INTRO!$E$37=\"Endemic\",INTRO!$E$39=\"Non-endemic\"),IF(COUNTRY_INFO!A11=0,\" \",COUNTRY_INFO!A11),\" \")","v":" "},{"$f":"IF(AND(INTRO!$E$37=\"Endemic\",INTRO!$E$39=\"Non-endemic\"),IF(COUNTRY_INFO!B11=0,\" \",COUNTRY_INFO!B11),\" \")","v":" "},{"$f":"IF(AND(INTRO!$E$37=\"Endemic\",INTRO!$E$39=\"Non-endemic\"),IF(COUNTRY_INFO!C11=0,\" \",COUNTRY_INFO!C11),\" \")","v":" "},{"$f":"IF(COUNTRY_INFO!T11<>\"\",COUNTRY_INFO!P11,0)","v":0},{"$f":"IF(AND(COUNTRY_INFO!T11<>\"\",COUNTRY_INFO!$H11=1),COUNTRY_INFO!F11+COUNTRY_INFO!G11,0)","v":0},0,null,0,0]
[{"$f":"IF(AND(INTRO!$E$37=\"Endemic\",INTRO!$E$39=\"Non-endemic\"),IF(COUNTRY_INFO!A12=0,\" \",COUNTRY_INFO!A12),\" \")","v":" "},{"$f":"IF(AND(INTRO!$E$37=\"Endemic\",INTRO!$E$39=\"Non-endemic\"),IF(COUNTRY_INFO!B12=0,\" \",COUNTRY_INFO!B12),\" \")","v":" "},{"$f":"IF(AND(INTRO!$E$37=\"Endemic\",INTRO!$E$39=\"Non-endemic\"),IF(COUNTRY_INFO!C12=0,\" \",COUNTRY_INFO!C12),\" \")","v":" "},{"$f":"IF(COUNTRY_INFO!T12<>\"\",COUNTRY_INFO!P12,0)","v":0},{"$f":"IF(AND(COUNTRY_INFO!T12<>\"\",COUNTRY_INFO!$H12=1),COUNTRY_INFO!F12+COUNTRY_INFO!G12,0)","v":0},0,null,0,0]
[{"$f":"IF(AND(INTRO!$E$37=\"Endemic\",INTRO!$E$39=\"Non-endemic\"),IF(COUNTRY_INFO!A13=0,\" \",COUNTRY_INFO!A13),\" \")","v":" "},{"$f":"IF(AND(INTRO!$E$37=\"Endemic\",INTRO!$E$39=\"Non-endemic\"),IF(COUNTRY_INFO!B13=0,\" \",COUNTRY_INFO!B13),\" \")","v":" "},{"$f":"IF(AND(INTRO!$E$37=\"Endemic\",INTRO!$E$39=\"Non-endemic\"),IF(COUNTRY_INFO!C13=0,\" \",COUNTRY_INFO!C13),\" \")","v":" "},{"$f":"IF(COUNTRY_INFO!T13<>\"\",COUNTRY_INFO!P13,0)","v":0},{"$f":"IF(AND(COUNTRY_INFO!T13<>\"\",COUNTRY_INFO!$H13=1),COUNTRY_INFO!F13+COUNTRY_INFO!G13,0)","v":0},0,null,0,0]
[{"$f":"IF(AND(INTRO!$E$37=\"Endemic\",INTRO!$E$39=\"Non-endemic\"),IF(COUNTRY_INFO!A14=0,\" \",COUNTRY_INFO!A14),\" \")","v":" "},{"$f":"IF(AND(INTRO!$E$37=\"Endemic\",INTRO!$E$39=\"Non-endemic\"),IF(COUNTRY_INFO!B14=0,\" \",COUNTRY_INFO!B14),\" \")","v":" "},{"$f":"IF(AND(INTRO!$E$37=\"Endemic\",INTRO!$E$39=\"Non-endemic\"),IF(COUNTRY_INFO!C14=0,\" \",COUNTRY_INFO!C14),\" \")","v":" "},{"$f":"IF(COUNTRY_INFO!T14<>\"\",COUNTRY_INFO!P14,0)","v":0},{"$f":"IF(AND(COUNTRY_INFO!T14<>\"\",COUNTRY_INFO!$H14=1),COUNTRY_INFO!F14+COUNTRY_INFO!G14,0)","v":0},0,null,0,0]
[{"$f":"IF(AND(INTRO!$E$37=\"Endemic\",INTRO!$E$39=\"Non-endemic\"),IF(COUNTRY_INFO!A15=0,\" \",COUNTRY_INFO!A15),\" \")","v":" "},{"$f":"IF(AND(INTRO!$E$37=\"Endemic\",INTRO!$E$39=\"Non-endemic\"),IF(COUNTRY_INFO!B15=0,\" \",COUNTRY_INFO!B15),\" \")","v":" "},{"$f":"IF(AND(INTRO!$E$37=\"Endemic\",INTRO!$E$39=\"Non-endemic\"),IF(COUNTRY_INFO!C15=0,\" \",COUNTRY_INFO!C15),\" \")","v":" "},{"$f":"IF(COUNTRY_INFO!T15<>\"\",COUNTRY_INFO!P15,0)","v":0},{"$f":"IF(AND(COUNTRY_INFO!T15<>\"\",COUNTRY_INFO!$H15=1),COUNTRY_INFO!F15+COUNTRY_INFO!G15,0)","v":0},0,null,0,0]
[{"$f":"IF(AND(INTRO!$E$37=\"Endemic\",INTRO!$E$39=\"Non-endemic\"),IF(COUNTRY_INFO!A16=0,\" \",COUNTRY_INFO!A16),\" \")","v":" "},{"$f":"IF(AND(INTRO!$E$37=\"Endemic\",INTRO!$E$39=\"Non-endemic\"),IF(COUNTRY_INFO!B16=0,\" \",COUNTRY_INFO!B16),\" \")","v":" "},{"$f":"IF(AND(INTRO!$E$37=\"Endemic\",INTRO!$E$39=\"Non-endemic\"),IF(COUNTRY_INFO!C16=0,\" \",COUNTRY_INFO!C16),\" \")","v":" "},{"$f":"IF(COUNTRY_INFO!T16<>\"\",COUNTRY_INFO!P16,0)","v":0},{"$f":"IF(AND(COUNTRY_INFO!T16<>\"\",COUNTRY_INFO!$H16=1),COUNTRY_INFO!F16+COUNTRY_INFO!G16,0)","v":0},0,null,0,0]
[{"$f":"IF(AND(INTRO!$E$37=\"Endemic\",INTRO!$E$39=\"Non-endemic\"),IF(COUNTRY_INFO!A17=0,\" \",COUNTRY_INFO!A17),\" \")","v":" "},{"$f":"IF(AND(INTRO!$E$37=\"Endemic\",INTRO!$E$39=\"Non-endemic\"),IF(COUNTRY_INFO!B17=0,\" \",COUNTRY_INFO!B17),\" \")","v":" "},{"$f":"IF(AND(INTRO!$E$37=\"Endemic\",INTRO!$E$39=\"Non-endemic\"),IF(COUNTRY_INFO!C17=0,\" \",COUNTRY_INFO!C17),\" \")","v":" "},{"$f":"IF(COUNTRY_INFO!T17<>\"\",COUNTRY_INFO!P17,0)","v":0},{"$f":"IF(AND(COUNTRY_INFO!T17<>\"\",COUNTRY_INFO!$H17=1),COUNTRY_INFO!F17+COUNTRY_INFO!G17,0)","v":0},0,null,0,0]
[{"$f":"IF(AND(INTRO!$E$37=\"Endemic\",INTRO!$E$39=\"Non-endemic\"),IF(COUNTRY_INFO!A18=0,\" \",COUNTRY_INFO!A18),\" \")","v":" "},{"$f":"IF(AND(INTRO!$E$37=\"Endemic\",INTRO!$E$39=\"Non-endemic\"),IF(COUNTRY_INFO!B18=0,\" \",COUNTRY_INFO!B18),\" \")","v":" "},{"$f":"IF(AND(INTRO!$E$37=\"Endemic\",INTRO!$E$39=\"Non-endemic\"),IF(COUNTRY_INFO!C18=0,\" \",COUNTRY_INFO!C18),\" \")","v":" "},{"$f":"IF(COUNTRY_INFO!T18<>\"\",COUNTRY_INFO!P18,0)","v":0},{"$f":"IF(AND(COUNTRY_INFO!T18<>\"\",COUNTRY_INFO!$H18=1),COUNTRY_INFO!F18+COUNTRY_INFO!G18,0)","v":0},0,null,0,0]
[{"$f":"IF(AND(INTRO!$E$37=\"Endemic\",INTRO!$E$39=\"Non-endemic\"),IF(COUNTRY_INFO!A19=0,\" \",COUNTRY_INFO!A19),\" \")","v":" "},{"$f":"IF(AND(INTRO!$E$37=\"Endemic\",INTRO!$E$39=\"Non-endemic\"),IF(COUNTRY_INFO!B19=0,\" \",COUNTRY_INFO!B19),\" \")","v":" "},{"$f":"IF(AND(INTRO!$E$37=\"Endemic\",INTRO!$E$39=\"Non-endemic\"),IF(COUNTRY_INFO!C19=0,\" \",COUNTRY_INFO!C19),\" \")","v":" "},{"$f":"IF(COUNTRY_INFO!T19<>\"\",COUNTRY_INFO!P19,0)","v":0},{"$f":"IF(AND(COUNTRY_INFO!T19<>\"\",COUNTRY_INFO!$H19=1),COUNTRY_INFO!F19+COUNTRY_INFO!G19,0)","v":0},0,null,0,0]
[{"$f":"IF(AND(INTRO!$E$37=\"Endemic\",INTRO!$E$39=\"Non-endemic\"),IF(COUNTRY_INFO!A20=0,\" \",COUNTRY_INFO!A20),\" \")","v":" "},{"$f":"IF(AND(INTRO!$E$37=\"Endemic\",INTRO!$E$39=\"Non-endemic\"),IF(COUNTRY_INFO!B20=0,\" \",COUNTRY_INFO!B20),\" \")","v":" "},{"$f":"IF(AND(INTRO!$E$37=\"Endemic\",INTRO!$E$39=\"Non-endemic\"),IF(COUNTRY_INFO!C20=0,\" \",COUNTRY_INFO!C20),\" \")","v":" "},{"$f":"IF(COUNTRY_INFO!T20<>\"\",COUNTRY_INFO!P20,0)","v":0},{"$f":"IF(AND(COUNTRY_INFO!T20<>\"\",COUNTRY_INFO!$H20=1),COUNTRY_INFO!F20+COUNTRY_INFO!G20,0)","v":0},0,null,0,0]
[{"$f":"IF(AND(INTRO!$E$37=\"Endemic\",INTRO!$E$39=\"Non-endemic\"),IF(COUNTRY_INFO!A21=0,\" \",COUNTRY_INFO!A21),\" \")","v":" "},{"$f":"IF(AND(INTRO!$E$37=\"Endemic\",INTRO!$E$39=\"Non-endemic\"),IF(COUNTRY_INFO!B21=0,\" \",COUNTRY_INFO!B21),\" \")","v":" "},{"$f":"IF(AND(INTRO!$E$37=\"Endemic\",INTRO!$E$39=\"Non-endemic\"),IF(COUNTRY_INFO!C21=0,\" \",COUNTRY_INFO!C21),\" \")","v":" "},{"$f":"IF(COUNTRY_INFO!T21<>\"\",COUNTRY_INFO!P21,0)","v":0},{"$f":"IF(AND(COUNTRY_INFO!T21<>\"\",COUNTRY_INFO!$H21=1),COUNTRY_INFO!F21+COUNTRY_INFO!G21,0)","v":0},0,null,0,0]
[{"$f":"IF(AND(INTRO!$E$37=\"Endemic\",INTRO!$E$39=\"Non-endemic\"),IF(COUNTRY_INFO!A22=0,\" \",COUNTRY_INFO!A22),\" \")","v":" "},{"$f":"IF(AND(INTRO!$E$37=\"Endemic\",INTRO!$E$39=\"Non-endemic\"),IF(COUNTRY_INFO!B22=0,\" \",COUNTRY_INFO!B22),\" \")","v":" "},{"$f":"IF(AND(INTRO!$E$37=\"Endemic\",INTRO!$E$39=\"Non-endemic\"),IF(COUNTRY_INFO!C22=0,\" \",COUNTRY_INFO!C22),\" \")","v":" "},{"$f":"IF(COUNTRY_INFO!T22<>\"\",COUNTRY_INFO!P22,0)","v":0},{"$f":"IF(AND(COUNTRY_INFO!T22<>\"\",COUNTRY_INFO!$H22=1),COUNTRY_INFO!F22+COUNTRY_INFO!G22,0)","v":0},0,null,0,0]
[{"$f":"IF(AND(INTRO!$E$37=\"Endemic\",INTRO!$E$39=\"Non-endemic\"),IF(COUNTRY_INFO!A23=0,\" \",COUNTRY_INFO!A23),\" \")","v":" "},{"$f":"IF(AND(INTRO!$E$37=\"Endemic\",INTRO!$E$39=\"Non-endemic\"),IF(COUNTRY_INFO!B23=0,\" \",COUNTRY_INFO!B23),\" \")","v":" "},{"$f":"IF(AND(INTRO!$E$37=\"Endemic\",INTRO!$E$39=\"Non-endemic\"),IF(COUNTRY_INFO!C23=0,\" \",COUNTRY_INFO!C23),\" \")","v":" "},{"$f":"IF(COUNTRY_INFO!T23<>\"\",COUNTRY_INFO!P23,0)","v":0},{"$f":"IF(AND(COUNTRY_INFO!T23<>\"\",COUNTRY_INFO!$H23=1),COUNTRY_INFO!F23+COUNTRY_INFO!G23,0)","v":0},0,null,0,0]
[{"$f":"IF(AND(INTRO!$E$37=\"Endemic\",INTRO!$E$39=\"Non-endemic\"),IF(COUNTRY_INFO!A24=0,\" \",COUNTRY_INFO!A24),\" \")","v":" "},{"$f":"IF(AND(INTRO!$E$37=\"Endemic\",INTRO!$E$39=\"Non-endemic\"),IF(COUNTRY_INFO!B24=0,\" \",COUNTRY_INFO!B24),\" \")","v":" "},{"$f":"IF(AND(INTRO!$E$37=\"Endemic\",INTRO!$E$39=\"Non-endemic\"),IF(COUNTRY_INFO!C24=0,\" \",COUNTRY_INFO!C24),\" \")","v":" "},{"$f":"IF(COUNTRY_INFO!T24<>\"\",COUNTRY_INFO!P24,0)","v":0},{"$f":"IF(AND(COUNTRY_INFO!T24<>\"\",COUNTRY_INFO!$H24=1),COUNTRY_INFO!F24+COUNTRY_INFO!G24,0)","v":0},0,null,0,0]
[{"$f":"IF(AND(INTRO!$E$37=\"Endemic\",INTRO!$E$39=\"Non-endemic\"),IF(COUNTRY_INFO!A25=0,\" \",COUNTRY_INFO!A25),\" \")","v":" "},{"$f":"IF(AND(INTRO!$E$37=\"Endemic\",INTRO!$E$39=\"Non-endemic\"),IF(COUNTRY_INFO!B25=0,\" \",COUNTRY_INFO!B25),\" \")","v":" "},{"$f":"IF(AND(INTRO!$E$37=\"Endemic\",INTRO!$E$39=\"Non-endemic\"),IF(COUNTRY_INFO!C25=0,\" \",COUNTRY_INFO!C25),\" \")","v":" "},{"$f":"IF(COUNTRY_INFO!T25<>\"\",COUNTRY_INFO!P25,0)","v":0},{"$f":"IF(AND(COUNTRY_INFO!T25<>\"\",COUNTRY_INFO!$H25=1),COUNTRY_INFO!F25+COUNTRY_INFO!G25,0)","v":0},0,null,0,0]
[{"$f":"IF(AND(INTRO!$E$37=\"Endemic\",INTRO!$E$39=\"Non-endemic\"),IF(COUNTRY_INFO!A26=0,\" \",COUNTRY_INFO!A26),\" \")","v":" "},{"$f":"IF(AND(INTRO!$E$37=\"Endemic\",INTRO!$E$39=\"Non-endemic\"),IF(COUNTRY_INFO!B26=0,\" \",COUNTRY_INFO!B26),\" \")","v":" "},{"$f":"IF(AND(INTRO!$E$37=\"Endemic\",INTRO!$E$39=\"Non-endemic\"),IF(COUNTRY_INFO!C26=0,\" \",COUNTRY_INFO!C26),\" \")","v":" "},{"$f":"IF(COUNTRY_INFO!T26<>\"\",COUNTRY_INFO!P26,0)","v":0},{"$f":"IF(AND(COUNTRY_INFO!T26<>\"\",COUNTRY_INFO!$H26=1),COUNTRY_INFO!F26+COUNTRY_INFO!G26,0)","v":0},0,null,0,0]
[{"$f":"IF(AND(INTRO!$E$37=\"Endemic\",INTRO!$E$39=\"Non-endemic\"),IF(COUNTRY_INFO!A27=0,\" \",COUNTRY_INFO!A27),\" \")","v":" "},{"$f":"IF(AND(INTRO!$E$37=\"Endemic\",INTRO!$E$39=\"Non-endemic\"),IF(COUNTRY_INFO!B27=0,\" \",COUNTRY_INFO!B27),\" \")","v":" "},{"$f":"IF(AND(INTRO!$E$37=\"Endemic\",INTRO!$E$39=\"Non-endemic\"),IF(COUNTRY_INFO!C27=0,\" \",COUNTRY_INFO!C27),\" \")","v":" "},{"$f":"IF(COUNTRY_INFO!T27<>\"\",COUNTRY_INFO!P27,0)","v":0},{"$f":"IF(AND(COUNTRY_INFO!T27<>\"\",COUNTRY_INFO!$H27=1),COUNTRY_INFO!F27+COUNTRY_INFO!G27,0)","v":0},0,null,0,0]
[{"$f":"IF(AND(INTRO!$E$37=\"Endemic\",INTRO!$E$39=\"Non-endemic\"),IF(COUNTRY_INFO!A28=0,\" \",COUNTRY_INFO!A28),\" \")","v":" "},{"$f":"IF(AND(INTRO!$E$37=\"Endemic\",INTRO!$E$39=\"Non-endemic\"),IF(COUNTRY_INFO!B28=0,\" \",COUNTRY_INFO!B28),\" \")","v":" "},{"$f":"IF(AND(INTRO!$E$37=\"Endemic\",INTRO!$E$39=\"Non-endemic\"),IF(COUNTRY_INFO!C28=0,\" \",COUNTRY_INFO!C28),\" \")","v":" "},{"$f":"IF(COUNTRY_INFO!T28<>\"\",COUNTRY_INFO!P28,0)","v":0},{"$f":"IF(AND(COUNTRY_INFO!T28<>\"\",COUNTRY_INFO!$H28=1),COUNTRY_INFO!F28+COUNTRY_INFO!G28,0)","v":0},0,null,0,0]
[{"$f":"IF(AND(INTRO!$E$37=\"Endemic\",INTRO!$E$39=\"Non-endemic\"),IF(COUNTRY_INFO!A29=0,\" \",COUNTRY_INFO!A29),\" \")","v":" "},{"$f":"IF(AND(INTRO!$E$37=\"Endemic\",INTRO!$E$39=\"Non-endemic\"),IF(COUNTRY_INFO!B29=0,\" \",COUNTRY_INFO!B29),\" \")","v":" "},{"$f":"IF(AND(INTRO!$E$37=\"Endemic\",INTRO!$E$39=\"Non-endemic\"),IF(COUNTRY_INFO!C29=0,\" \",COUNTRY_INFO!C29),\" \")","v":" "},{"$f":"IF(COUNTRY_INFO!T29<>\"\",COUNTRY_INFO!P29,0)","v":0},{"$f":"IF(AND(COUNTRY_INFO!T29<>\"\",COUNTRY_INFO!$H29=1),COUNTRY_INFO!F29+COUNTRY_INFO!G29,0)","v":0},0,null,0,0]
[{"$f":"IF(AND(INTRO!$E$37=\"Endemic\",INTRO!$E$39=\"Non-endemic\"),IF(COUNTRY_INFO!A30=0,\" \",COUNTRY_INFO!A30),\" \")","v":" "},{"$f":"IF(AND(INTRO!$E$37=\"Endemic\",INTRO!$E$39=\"Non-endemic\"),IF(COUNTRY_INFO!B30=0,\" \",COUNTRY_INFO!B30),\" \")","v":" "},{"$f":"IF(AND(INTRO!$E$37=\"Endemic\",INTRO!$E$39=\"Non-endemic\"),IF(COUNTRY_INFO!C30=0,\" \",COUNTRY_INFO!C30),\" \")","v":" "},{"$f":"IF(COUNTRY_INFO!T30<>\"\",COUNTRY_INFO!P30,0)","v":0},{"$f":"IF(AND(COUNTRY_INFO!T30<>\"\",COUNTRY_INFO!$H30=1),COUNTRY_INFO!F30+COUNTRY_INFO!G30,0)","v":0},0,null,0,0]
[{"$f":"IF(AND(INTRO!$E$37=\"Endemic\",INTRO!$E$39=\"Non-endemic\"),IF(COUNTRY_INFO!A31=0,\" \",COUNTRY_INFO!A31),\" \")","v":" "},{"$f":"IF(AND(INTRO!$E$37=\"Endemic\",INTRO!$E$39=\"Non-endemic\"),IF(COUNTRY_INFO!B31=0,\" \",COUNTRY_INFO!B31),\" \")","v":" "},{"$f":"IF(AND(INTRO!$E$37=\"Endemic\",INTRO!$E$39=\"Non-endemic\"),IF(COUNTRY_INFO!C31=0,\" \",COUNTRY_INFO!C31),\" \")","v":" "},{"$f":"IF(COUNTRY_INFO!T31<>\"\",COUNTRY_INFO!P31,0)","v":0},{"$f":"IF(AND(COUNTRY_INFO!T31<>\"\",COUNTRY_INFO!$H31=1),COUNTRY_INFO!F31+COUNTRY_INFO!G31,0)","v":0},0,null,0,0]
[{"$f":"IF(AND(INTRO!$E$37=\"Endemic\",INTRO!$E$39=\"Non-endemic\"),IF(COUNTRY_INFO!A32=0,\" \",COUNTRY_INFO!A32),\" \")","v":" "},{"$f":"IF(AND(INTRO!$E$37=\"Endemic\",INTRO!$E$39=\"Non-endemic\"),IF(COUNTRY_INFO!B32=0,\" \",COUNTRY_INFO!B32),\" \")","v":" "},{"$f":"IF(AND(INTRO!$E$37=\"Endemic\",INTRO!$E$39=\"Non-endemic\"),IF(COUNTRY_INFO!C32=0,\" \",COUNTRY_INFO!C32),\" \")","v":" "},{"$f":"IF(COUNTRY_INFO!T32<>\"\",COUNTRY_INFO!P32,0)","v":0},{"$f":"IF(AND(COUNTRY_INFO!T32<>\"\",COUNTRY_INFO!$H32=1),COUNTRY_INFO!F32+COUNTRY_INFO!G32,0)","v":0},0,null,0,0]
[{"$f":"IF(AND(INTRO!$E$37=\"Endemic\",INTRO!$E$39=\"Non-endemic\"),IF(COUNTRY_INFO!A33=0,\" \",COUNTRY_INFO!A33),\" \")","v":" "},{"$f":"IF(AND(INTRO!$E$37=\"Endemic\",INTRO!$E$39=\"Non-endemic\"),IF(COUNTRY_INFO!B33=0,\" \",COUNTRY_INFO!B33),\" \")","v":" "},{"$f":"IF(AND(INTRO!$E$37=\"Endemic\",INTRO!$E$39=\"Non-endemic\"),IF(COUNTRY_INFO!C33=0,\" \",COUNTRY_INFO!C33),\" \")","v":" "},{"$f":"IF(COUNTRY_INFO!T33<>\"\",COUNTRY_INFO!P33,0)","v":0},{"$f":"IF(AND(COUNTRY_INFO!T33<>\"\",COUNTRY_INFO!$H33=1),COUNTRY_INFO!F33+COUNTRY_INFO!G33,0)","v":0},0,null,0,0]
[{"$f":"IF(AND(INTRO!$E$37=\"Endemic\",INTRO!$E$39=\"Non-endemic\"),IF(COUNTRY_INFO!A34=0,\" \",COUNTRY_INFO!A34),\" \")","v":" "},{"$f":"IF(AND(INTRO!$E$37=\"Endemic\",INTRO!$E$39=\"Non-endemic\"),IF(COUNTRY_INFO!B34=0,\" \",COUNTRY_INFO!B34),\" \")","v":" "},{"$f":"IF(AND(INTRO!$E$37=\"Endemic\",INTRO!$E$39=\"Non-endemic\"),IF(COUNTRY_INFO!C34=0,\" \",COUNTRY_INFO!C34),\" \")","v":" "},{"$f":"IF(COUNTRY_INFO!T34<>\"\",COUNTRY_INFO!P34,0)","v":0},{"$f":"IF(AND(COUNTRY_INFO!T34<>\"\",COUNTRY_INFO!$H34=1),COUNTRY_INFO!F34+COUNTRY_INFO!G34,0)","v":0},0,null,0,0]
[{"$f":"IF(AND(INTRO!$E$37=\"Endemic\",INTRO!$E$39=\"Non-endemic\"),IF(COUNTRY_INFO!A35=0,\" \",COUNTRY_INFO!A35),\" \")","v":" "},{"$f":"IF(AND(INTRO!$E$37=\"Endemic\",INTRO!$E$39=\"Non-endemic\"),IF(COUNTRY_INFO!B35=0,\" \",COUNTRY_INFO!B35),\" \")","v":" "},{"$f":"IF(AND(INTRO!$E$37=\"Endemic\",INTRO!$E$39=\"Non-endemic\"),IF(COUNTRY_INFO!C35=0,\" \",COUNTRY_INFO!C35),\" \")","v":" "},{"$f":"IF(COUNTRY_INFO!T35<>\"\",COUNTRY_INFO!P35,0)","v":0},{"$f":"IF(AND(COUNTRY_INFO!T35<>\"\",COUNTRY_INFO!$H35=1),COUNTRY_INFO!F35+COUNTRY_INFO!G35,0)","v":0},0,null,0,0]
[{"$f":"IF(AND(INTRO!$E$37=\"Endemic\",INTRO!$E$39=\"Non-endemic\"),IF(COUNTRY_INFO!A36=0,\" \",COUNTRY_INFO!A36),\" \")","v":" "},{"$f":"IF(AND(INTRO!$E$37=\"Endemic\",INTRO!$E$39=\"Non-endemic\"),IF(COUNTRY_INFO!B36=0,\" \",COUNTRY_INFO!B36),\" \")","v":" "},{"$f":"IF(AND(INTRO!$E$37=\"Endemic\",INTRO!$E$39=\"Non-endemic\"),IF(COUNTRY_INFO!C36=0,\" \",COUNTRY_INFO!C36),\" \")","v":" "},{"$f":"IF(COUNTRY_INFO!T36<>\"\",COUNTRY_INFO!P36,0)","v":0},{"$f":"IF(AND(COUNTRY_INFO!T36<>\"\",COUNTRY_INFO!$H36=1),COUNTRY_INFO!F36+COUNTRY_INFO!G36,0)","v":0},0,null,0,0]
[{"$f":"IF(AND(INTRO!$E$37=\"Endemic\",INTRO!$E$39=\"Non-endemic\"),IF(COUNTRY_INFO!A37=0,\" \",COUNTRY_INFO!A37),\" \")","v":" "},{"$f":"IF(AND(INTRO!$E$37=\"Endemic\",INTRO!$E$39=\"Non-endemic\"),IF(COUNTRY_INFO!B37=0,\" \",COUNTRY_INFO!B37),\" \")","v":" "},{"$f":"IF(AND(INTRO!$E$37=\"Endemic\",INTRO!$E$39=\"Non-endemic\"),IF(COUNTRY_INFO!C37=0,\" \",COUNTRY_INFO!C37),\" \")","v":" "},{"$f":"IF(COUNTRY_INFO!T37<>\"\",COUNTRY_INFO!P37,0)","v":0},{"$f":"IF(AND(COUNTRY_INFO!T37<>\"\",COUNTRY_INFO!$H37=1),COUNTRY_INFO!F37+COUNTRY_INFO!G37,0)","v":0},0,null,0,0]
[{"$f":"IF(AND(INTRO!$E$37=\"Endemic\",INTRO!$E$39=\"Non-endemic\"),IF(COUNTRY_INFO!A38=0,\" \",COUNTRY_INFO!A38),\" \")","v":" "},{"$f":"IF(AND(INTRO!$E$37=\"Endemic\",INTRO!$E$39=\"Non-endemic\"),IF(COUNTRY_INFO!B38=0,\" \",COUNTRY_INFO!B38),\" \")","v":" "},{"$f":"IF(AND(INTRO!$E$37=\"Endemic\",INTRO!$E$39=\"Non-endemic\"),IF(COUNTRY_INFO!C38=0,\" \",COUNTRY_INFO!C38),\" \")","v":" "},{"$f":"IF(COUNTRY_INFO!T38<>\"\",COUNTRY_INFO!P38,0)","v":0},{"$f":"IF(AND(COUNTRY_INFO!T38<>\"\",COUNTRY_INFO!$H38=1),COUNTRY_INFO!F38+COUNTRY_INFO!G38,0)","v":0},0,null,0,0]
[{"$f":"IF(AND(INTRO!$E$37=\"Endemic\",INTRO!$E$39=\"Non-endemic\"),IF(COUNTRY_INFO!A39=0,\" \",COUNTRY_INFO!A39),\" \")","v":" "},{"$f":"IF(AND(INTRO!$E$37=\"Endemic\",INTRO!$E$39=\"Non-endemic\"),IF(COUNTRY_INFO!B39=0,\" \",COUNTRY_INFO!B39),\" \")","v":" "},{"$f":"IF(AND(INTRO!$E$37=\"Endemic\",INTRO!$E$39=\"Non-endemic\"),IF(COUNTRY_INFO!C39=0,\" \",COUNTRY_INFO!C39),\" \")","v":" "},{"$f":"IF(COUNTRY_INFO!T39<>\"\",COUNTRY_INFO!P39,0)","v":0},{"$f":"IF(AND(COUNTRY_INFO!T39<>\"\",COUNTRY_INFO!$H39=1),COUNTRY_INFO!F39+COUNTRY_INFO!G39,0)","v":0},0,null,0,0]
[{"$f":"IF(AND(INTRO!$E$37=\"Endemic\",INTRO!$E$39=\"Non-endemic\"),IF(COUNTRY_INFO!A40=0,\" \",COUNTRY_INFO!A40),\" \")","v":" "},{"$f":"IF(AND(INTRO!$E$37=\"Endemic\",INTRO!$E$39=\"Non-endemic\"),IF(COUNTRY_INFO!B40=0,\" \",COUNTRY_INFO!B40),\" \")","v":" "},{"$f":"IF(AND(INTRO!$E$37=\"Endemic\",INTRO!$E$39=\"Non-endemic\"),IF(COUNTRY_INFO!C40=0,\" \",COUNTRY_INFO!C40),\" \")","v":" "},{"$f":"IF(COUNTRY_INFO!T40<>\"\",COUNTRY_INFO!P40,0)","v":0},{"$f":"IF(AND(COUNTRY_INFO!T40<>\"\",COUNTRY_INFO!$H40=1),COUNTRY_INFO!F40+COUNTRY_INFO!G40,0)","v":0},0,null,0,0]
[{"$f":"IF(AND(INTRO!$E$37=\"Endemic\",INTRO!$E$39=\"Non-endemic\"),IF(COUNTRY_INFO!A41=0,\" \",COUNTRY_INFO!A41),\" \")","v":" "},{"$f":"IF(AND(INTRO!$E$37=\"Endemic\",INTRO!$E$39=\"Non-endemic\"),IF(COUNTRY_INFO!B41=0,\" \",COUNTRY_INFO!B41),\" \")","v":" "},{"$f":"IF(AND(INTRO!$E$37=\"Endemic\",INTRO!$E$39=\"Non-endemic\"),IF(COUNTRY_INFO!C41=0,\" \",COUNTRY_INFO!C41),\" \")","v":" "},{"$f":"IF(COUNTRY_INFO!T41<>\"\",COUNTRY_INFO!P41,0)","v":0},{"$f":"IF(AND(COUNTRY_INFO!T41<>\"\",COUNTRY_INFO!$H41=1),COUNTRY_INFO!F41+COUNTRY_INFO!G41,0)","v":0},0,null,0,0]
[{"$f":"IF(AND(INTRO!$E$37=\"Endemic\",INTRO!$E$39=\"Non-endemic\"),IF(COUNTRY_INFO!A42=0,\" \",COUNTRY_INFO!A42),\" \")","v":" "},{"$f":"IF(AND(INTRO!$E$37=\"Endemic\",INTRO!$E$39=\"Non-endemic\"),IF(COUNTRY_INFO!B42=0,\" \",COUNTRY_INFO!B42),\" \")","v":" "},{"$f":"IF(AND(INTRO!$E$37=\"Endemic\",INTRO!$E$39=\"Non-endemic\"),IF(COUNTRY_INFO!C42=0,\" \",COUNTRY_INFO!C42),\" \")","v":" "},{"$f":"IF(COUNTRY_INFO!T42<>\"\",COUNTRY_INFO!P42,0)","v":0},{"$f":"IF(AND(COUNTRY_INFO!T42<>\"\",COUNTRY_INFO!$H42=1),COUNTRY_INFO!F42+COUNTRY_INFO!G42,0)","v":0},0,null,0,0]
[{"$f":"IF(AND(INTRO!$E$37=\"Endemic\",INTRO!$E$39=\"Non-endemic\"),IF(COUNTRY_INFO!A43=0,\" \",COUNTRY_INFO!A43),\" \")","v":" "},{"$f":"IF(AND(INTRO!$E$37=\"Endemic\",INTRO!$E$39=\"Non-endemic\"),IF(COUNTRY_INFO!B43=0,\" \",COUNTRY_INFO!B43),\" \")","v":" "},{"$f":"IF(AND(INTRO!$E$37=\"Endemic\",INTRO!$E$39=\"Non-endemic\"),IF(COUNTRY_INFO!C43=0,\" \",COUNTRY_INFO!C43),\" \")","v":" "},{"$f":"IF(COUNTRY_INFO!T43<>\"\",COUNTRY_INFO!P43,0)","v":0},{"$f":"IF(AND(COUNTRY_INFO!T43<>\"\",COUNTRY_INFO!$H43=1),COUNTRY_INFO!F43+COUNTRY_INFO!G43,0)","v":0},0,null,0,0]
[{"$f":"IF(AND(INTRO!$E$37=\"Endemic\",INTRO!$E$39=\"Non-endemic\"),IF(COUNTRY_INFO!A44=0,\" \",COUNTRY_INFO!A44),\" \")","v":" "},{"$f":"IF(AND(INTRO!$E$37=\"Endemic\",INTRO!$E$39=\"Non-endemic\"),IF(COUNTRY_INFO!B44=0,\" \",COUNTRY_INFO!B44),\" \")","v":" "},{"$f":"IF(AND(INTRO!$E$37=\"Endemic\",INTRO!$E$39=\"Non-endemic\"),IF(COUNTRY_INFO!C44=0,\" \",COUNTRY_INFO!C44),\" \")","v":" "},{"$f":"IF(COUNTRY_INFO!T44<>\"\",COUNTRY_INFO!P44,0)","v":0},{"$f":"IF(AND(COUNTRY_INFO!T44<>\"\",COUNTRY_INFO!$H44=1),COUNTRY_INFO!F44+COUNTRY_INFO!G44,0)","v":0},0,null,0,0]
[{"$f":"IF(AND(INTRO!$E$37=\"Endemic\",INTRO!$E$39=\"Non-endemic\"),IF(COUNTRY_INFO!A45=0,\" \",COUNTRY_INFO!A45),\" \")","v":" "},{"$f":"IF(AND(INTRO!$E$37=\"Endemic\",INTRO!$E$39=\"Non-endemic\"),IF(COUNTRY_INFO!B45=0,\" \",COUNTRY_INFO!B45),\" \")","v":" "},{"$f":"IF(AND(INTRO!$E$37=\"Endemic\",INTRO!$E$39=\"Non-endemic\"),IF(COUNTRY_INFO!C45=0,\" \",COUNTRY_INFO!C45),\" \")","v":" "},{"$f":"IF(COUNTRY_INFO!T45<>\"\",COUNTRY_INFO!P45,0)","v":0},{"$f":"IF(AND(COUNTRY_INFO!T45<>\"\",COUNTRY_INFO!$H45=1),COUNTRY_INFO!F45+COUNTRY_INFO!G45,0)","v":0},0,null,0,0]
[{"$f":"IF(AND(INTRO!$E$37=\"Endemic\",INTRO!$E$39=\"Non-endemic\"),IF(COUNTRY_INFO!A46=0,\" \",COUNTRY_INFO!A46),\" \")","v":" "},{"$f":"IF(AND(INTRO!$E$37=\"Endemic\",INTRO!$E$39=\"Non-endemic\"),IF(COUNTRY_INFO!B46=0,\" \",COUNTRY_INFO!B46),\" \")","v":" "},{"$f":"IF(AND(INTRO!$E$37=\"Endemic\",INTRO!$E$39=\"Non-endemic\"),IF(COUNTRY_INFO!C46=0,\" \",COUNTRY_INFO!C46),\" \")","v":" "},{"$f":"IF(COUNTRY_INFO!T46<>\"\",COUNTRY_INFO!P46,0)","v":0},{"$f":"IF(AND(COUNTRY_INFO!T46<>\"\",COUNTRY_INFO!$H46=1),COUNTRY_INFO!F46+COUNTRY_INFO!G46,0)","v":0},0,null,0,0]
[{"$f":"IF(AND(INTRO!$E$37=\"Endemic\",INTRO!$E$39=\"Non-endemic\"),IF(COUNTRY_INFO!A47=0,\" \",COUNTRY_INFO!A47),\" \")","v":" "},{"$f":"IF(AND(INTRO!$E$37=\"Endemic\",INTRO!$E$39=\"Non-endemic\"),IF(COUNTRY_INFO!B47=0,\" \",COUNTRY_INFO!B47),\" \")","v":" "},{"$f":"IF(AND(INTRO!$E$37=\"Endemic\",INTRO!$E$39=\"Non-endemic\"),IF(COUNTRY_INFO!C47=0,\" \",COUNTRY_INFO!C47),\" \")","v":" "},{"$f":"IF(COUNTRY_INFO!T47<>\"\",COUNTRY_INFO!P47,0)","v":0},{"$f":"IF(AND(COUNTRY_INFO!T47<>\"\",COUNTRY_INFO!$H47=1),COUNTRY_INFO!F47+COUNTRY_INFO!G47,0)","v":0},0,null,0,0]
[{"$f":"IF(AND(INTRO!$E$37=\"Endemic\",INTRO!$E$39=\"Non-endemic\"),IF(COUNTRY_INFO!A48=0,\" \",COUNTRY_INFO!A48),\" \")","v":" "},{"$f":"IF(AND(INTRO!$E$37=\"Endemic\",INTRO!$E$39=\"Non-endemic\"),IF(COUNTRY_INFO!B48=0,\" \",COUNTRY_INFO!B48),\" \")","v":" "},{"$f":"IF(AND(INTRO!$E$37=\"Endemic\",INTRO!$E$39=\"Non-endemic\"),IF(COUNTRY_INFO!C48=0,\" \",COUNTRY_INFO!C48),\" \")","v":" "},{"$f":"IF(COUNTRY_INFO!T48<>\"\",COUNTRY_INFO!P48,0)","v":0},{"$f":"IF(AND(COUNTRY_INFO!T48<>\"\",COUNTRY_INFO!$H48=1),COUNTRY_INFO!F48+COUNTRY_INFO!G48,0)","v":0},0,null,0,0]
[{"$f":"IF(AND(INTRO!$E$37=\"Endemic\",INTRO!$E$39=\"Non-endemic\"),IF(COUNTRY_INFO!A49=0,\" \",COUNTRY_INFO!A49),\" \")","v":" "},{"$f":"IF(AND(INTRO!$E$37=\"Endemic\",INTRO!$E$39=\"Non-endemic\"),IF(COUNTRY_INFO!B49=0,\" \",COUNTRY_INFO!B49),\" \")","v":" "},{"$f":"IF(AND(INTRO!$E$37=\"Endemic\",INTRO!$E$39=\"Non-endemic\"),IF(COUNTRY_INFO!C49=0,\" \",COUNTRY_INFO!C49),\" \")","v":" "},{"$f":"IF(COUNTRY_INFO!T49<>\"\",COUNTRY_INFO!P49,0)","v":0},{"$f":"IF(AND(COUNTRY_INFO!T49<>\"\",COUNTRY_INFO!$H49=1),COUNTRY_INFO!F49+COUNTRY_INFO!G49,0)","v":0},0,null,0,0]
[{"$f":"IF(AND(INTRO!$E$37=\"Endemic\",INTRO!$E$39=\"Non-endemic\"),IF(COUNTRY_INFO!A50=0,\" \",COUNTRY_INFO!A50),\" \")","v":" "},{"$f":"IF(AND(INTRO!$E$37=\"Endemic\",INTRO!$E$39=\"Non-endemic\"),IF(COUNTRY_INFO!B50=0,\" \",COUNTRY_INFO!B50),\" \")","v":" "},{"$f":"IF(AND(INTRO!$E$37=\"Endemic\",INTRO!$E$39=\"Non-endemic\"),IF(COUNTRY_INFO!C50=0,\" \",COUNTRY_INFO!C50),\" \")","v":" "},{"$f":"IF(COUNTRY_INFO!T50<>\"\",COUNTRY_INFO!P50,0)","v":0},{"$f":"IF(AND(COUNTRY_INFO!T50<>\"\",COUNTRY_INFO!$H50=1),COUNTRY_INFO!F50+COUNTRY_INFO!G50,0)","v":0},0,null,0,0]
[{"$f":"IF(AND(INTRO!$E$37=\"Endemic\",INTRO!$E$39=\"Non-endemic\"),IF(COUNTRY_INFO!A51=0,\" \",COUNTRY_INFO!A51),\" \")","v":" "},{"$f":"IF(AND(INTRO!$E$37=\"Endemic\",INTRO!$E$39=\"Non-endemic\"),IF(COUNTRY_INFO!B51=0,\" \",COUNTRY_INFO!B51),\" \")","v":" "},{"$f":"IF(AND(INTRO!$E$37=\"Endemic\",INTRO!$E$39=\"Non-endemic\"),IF(COUNTRY_INFO!C51=0,\" \",COUNTRY_INFO!C51),\" \")","v":" "},{"$f":"IF(COUNTRY_INFO!T51<>\"\",COUNTRY_INFO!P51,0)","v":0},{"$f":"IF(AND(COUNTRY_INFO!T51<>\"\",COUNTRY_INFO!$H51=1),COUNTRY_INFO!F51+COUNTRY_INFO!G51,0)","v":0},0,null,0,0]
[{"$f":"IF(AND(INTRO!$E$37=\"Endemic\",INTRO!$E$39=\"Non-endemic\"),IF(COUNTRY_INFO!A52=0,\" \",COUNTRY_INFO!A52),\" \")","v":" "},{"$f":"IF(AND(INTRO!$E$37=\"Endemic\",INTRO!$E$39=\"Non-endemic\"),IF(COUNTRY_INFO!B52=0,\" \",COUNTRY_INFO!B52),\" \")","v":" "},{"$f":"IF(AND(INTRO!$E$37=\"Endemic\",INTRO!$E$39=\"Non-endemic\"),IF(COUNTRY_INFO!C52=0,\" \",COUNTRY_INFO!C52),\" \")","v":" "},{"$f":"IF(COUNTRY_INFO!T52<>\"\",COUNTRY_INFO!P52,0)","v":0},{"$f":"IF(AND(COUNTRY_INFO!T52<>\"\",COUNTRY_INFO!$H52=1),COUNTRY_INFO!F52+COUNTRY_INFO!G52,0)","v":0},0,null,0,0]
[{"$f":"IF(AND(INTRO!$E$37=\"Endemic\",INTRO!$E$39=\"Non-endemic\"),IF(COUNTRY_INFO!A53=0,\" \",COUNTRY_INFO!A53),\" \")","v":" "},{"$f":"IF(AND(INTRO!$E$37=\"Endemic\",INTRO!$E$39=\"Non-endemic\"),IF(COUNTRY_INFO!B53=0,\" \",COUNTRY_INFO!B53),\" \")","v":" "},{"$f":"IF(AND(INTRO!$E$37=\"Endemic\",INTRO!$E$39=\"Non-endemic\"),IF(COUNTRY_INFO!C53=0,\" \",COUNTRY_INFO!C53),\" \")","v":" "},{"$f":"IF(COUNTRY_INFO!T53<>\"\",COUNTRY_INFO!P53,0)","v":0},{"$f":"IF(AND(COUNTRY_INFO!T53<>\"\",COUNTRY_INFO!$H53=1),COUNTRY_INFO!F53+COUNTRY_INFO!G53,0)","v":0},0,null,0,0]
[{"$f":"IF(AND(INTRO!$E$37=\"Endemic\",INTRO!$E$39=\"Non-endemic\"),IF(COUNTRY_INFO!A54=0,\" \",COUNTRY_INFO!A54),\" \")","v":" "},{"$f":"IF(AND(INTRO!$E$37=\"Endemic\",INTRO!$E$39=\"Non-endemic\"),IF(COUNTRY_INFO!B54=0,\" \",COUNTRY_INFO!B54),\" \")","v":" "},{"$f":"IF(AND(INTRO!$E$37=\"Endemic\",INTRO!$E$39=\"Non-endemic\"),IF(COUNTRY_INFO!C54=0,\" \",COUNTRY_INFO!C54),\" \")","v":" "},{"$f":"IF(COUNTRY_INFO!T54<>\"\",COUNTRY_INFO!P54,0)","v":0},{"$f":"IF(AND(COUNTRY_INFO!T54<>\"\",COUNTRY_INFO!$H54=1),COUNTRY_INFO!F54+COUNTRY_INFO!G54,0)","v":0},0,null,0,0]
[{"$f":"IF(AND(INTRO!$E$37=\"Endemic\",INTRO!$E$39=\"Non-endemic\"),IF(COUNTRY_INFO!A55=0,\" \",COUNTRY_INFO!A55),\" \")","v":" "},{"$f":"IF(AND(INTRO!$E$37=\"Endemic\",INTRO!$E$39=\"Non-endemic\"),IF(COUNTRY_INFO!B55=0,\" \",COUNTRY_INFO!B55),\" \")","v":" "},{"$f":"IF(AND(INTRO!$E$37=\"Endemic\",INTRO!$E$39=\"Non-endemic\"),IF(COUNTRY_INFO!C55=0,\" \",COUNTRY_INFO!C55),\" \")","v":" "},{"$f":"IF(COUNTRY_INFO!T55<>\"\",COUNTRY_INFO!P55,0)","v":0},{"$f":"IF(AND(COUNTRY_INFO!T55<>\"\",COUNTRY_INFO!$H55=1),COUNTRY_INFO!F55+COUNTRY_INFO!G55,0)","v":0},0,null,0,0]
[{"$f":"IF(AND(INTRO!$E$37=\"Endemic\",INTRO!$E$39=\"Non-endemic\"),IF(COUNTRY_INFO!A56=0,\" \",COUNTRY_INFO!A56),\" \")","v":" "},{"$f":"IF(AND(INTRO!$E$37=\"Endemic\",INTRO!$E$39=\"Non-endemic\"),IF(COUNTRY_INFO!B56=0,\" \",COUNTRY_INFO!B56),\" \")","v":" "},{"$f":"IF(AND(INTRO!$E$37=\"Endemic\",INTRO!$E$39=\"Non-endemic\"),IF(COUNTRY_INFO!C56=0,\" \",COUNTRY_INFO!C56),\" \")","v":" "},{"$f":"IF(COUNTRY_INFO!T56<>\"\",COUNTRY_INFO!P56,0)","v":0},{"$f":"IF(AND(COUNTRY_INFO!T56<>\"\",COUNTRY_INFO!$H56=1),COUNTRY_INFO!F56+COUNTRY_INFO!G56,0)","v":0},0,null,0,0]
[{"$f":"IF(AND(INTRO!$E$37=\"Endemic\",INTRO!$E$39=\"Non-endemic\"),IF(COUNTRY_INFO!A57=0,\" \",COUNTRY_INFO!A57),\" \")","v":" "},{"$f":"IF(AND(INTRO!$E$37=\"Endemic\",INTRO!$E$39=\"Non-endemic\"),IF(COUNTRY_INFO!B57=0,\" \",COUNTRY_INFO!B57),\" \")","v":" "},{"$f":"IF(AND(INTRO!$E$37=\"Endemic\",INTRO!$E$39=\"Non-endemic\"),IF(COUNTRY_INFO!C57=0,\" \",COUNTRY_INFO!C57),\" \")","v":" "},{"$f":"IF(COUNTRY_INFO!T57<>\"\",COUNTRY_INFO!P57,0)","v":0},{"$f":"IF(AND(COUNTRY_INFO!T57<>\"\",COUNTRY_INFO!$H57=1),COUNTRY_INFO!F57+COUNTRY_INFO!G57,0)","v":0},0,null,0,0]
[{"$f":"IF(AND(INTRO!$E$37=\"Endemic\",INTRO!$E$39=\"Non-endemic\"),IF(COUNTRY_INFO!A58=0,\" \",COUNTRY_INFO!A58),\" \")","v":" "},{"$f":"IF(AND(INTRO!$E$37=\"Endemic\",INTRO!$E$39=\"Non-endemic\"),IF(COUNTRY_INFO!B58=0,\" \",COUNTRY_INFO!B58),\" \")","v":" "},{"$f":"IF(AND(INTRO!$E$37=\"Endemic\",INTRO!$E$39=\"Non-endemic\"),IF(COUNTRY_INFO!C58=0,\" \",COUNTRY_INFO!C58),\" \")","v":" "},{"$f":"IF(COUNTRY_INFO!T58<>\"\",COUNTRY_INFO!P58,0)","v":0},{"$f":"IF(AND(COUNTRY_INFO!T58<>\"\",COUNTRY_INFO!$H58=1),COUNTRY_INFO!F58+COUNTRY_INFO!G58,0)","v":0},0,null,0,0]
[{"$f":"IF(AND(INTRO!$E$37=\"Endemic\",INTRO!$E$39=\"Non-endemic\"),IF(COUNTRY_INFO!A59=0,\" \",COUNTRY_INFO!A59),\" \")","v":" "},{"$f":"IF(AND(INTRO!$E$37=\"Endemic\",INTRO!$E$39=\"Non-endemic\"),IF(COUNTRY_INFO!B59=0,\" \",COUNTRY_INFO!B59),\" \")","v":" "},{"$f":"IF(AND(INTRO!$E$37=\"Endemic\",INTRO!$E$39=\"Non-endemic\"),IF(COUNTRY_INFO!C59=0,\" \",COUNTRY_INFO!C59),\" \")","v":" "},{"$f":"IF(COUNTRY_INFO!T59<>\"\",COUNTRY_INFO!P59,0)","v":0},{"$f":"IF(AND(COUNTRY_INFO!T59<>\"\",COUNTRY_INFO!$H59=1),COUNTRY_INFO!F59+COUNTRY_INFO!G59,0)","v":0},0,null,0,0]
[{"$f":"IF(AND(INTRO!$E$37=\"Endemic\",INTRO!$E$39=\"Non-endemic\"),IF(COUNTRY_INFO!A60=0,\" \",COUNTRY_INFO!A60),\" \")","v":" "},{"$f":"IF(AND(INTRO!$E$37=\"Endemic\",INTRO!$E$39=\"Non-endemic\"),IF(COUNTRY_INFO!B60=0,\" \",COUNTRY_INFO!B60),\" \")","v":" "},{"$f":"IF(AND(INTRO!$E$37=\"Endemic\",INTRO!$E$39=\"Non-endemic\"),IF(COUNTRY_INFO!C60=0,\" \",COUNTRY_INFO!C60),\" \")","v":" "},{"$f":"IF(COUNTRY_INFO!T60<>\"\",COUNTRY_INFO!P60,0)","v":0},{"$f":"IF(AND(COUNTRY_INFO!T60<>\"\",COUNTRY_INFO!$H60=1),COUNTRY_INFO!F60+COUNTRY_INFO!G60,0)","v":0},0,null,0,0]
[{"$f":"IF(AND(INTRO!$E$37=\"Endemic\",INTRO!$E$39=\"Non-endemic\"),IF(COUNTRY_INFO!A61=0,\" \",COUNTRY_INFO!A61),\" \")","v":" "},{"$f":"IF(AND(INTRO!$E$37=\"Endemic\",INTRO!$E$39=\"Non-endemic\"),IF(COUNTRY_INFO!B61=0,\" \",COUNTRY_INFO!B61),\" \")","v":" "},{"$f":"IF(AND(INTRO!$E$37=\"Endemic\",INTRO!$E$39=\"Non-endemic\"),IF(COUNTRY_INFO!C61=0,\" \",COUNTRY_INFO!C61),\" \")","v":" "},{"$f":"IF(COUNTRY_INFO!T61<>\"\",COUNTRY_INFO!P61,0)","v":0},{"$f":"IF(AND(COUNTRY_INFO!T61<>\"\",COUNTRY_INFO!$H61=1),COUNTRY_INFO!F61+COUNTRY_INFO!G61,0)","v":0},0,null,0,0]
[{"$f":"IF(AND(INTRO!$E$37=\"Endemic\",INTRO!$E$39=\"Non-endemic\"),IF(COUNTRY_INFO!A62=0,\" \",COUNTRY_INFO!A62),\" \")","v":" "},{"$f":"IF(AND(INTRO!$E$37=\"Endemic\",INTRO!$E$39=\"Non-endemic\"),IF(COUNTRY_INFO!B62=0,\" \",COUNTRY_INFO!B62),\" \")","v":" "},{"$f":"IF(AND(INTRO!$E$37=\"Endemic\",INTRO!$E$39=\"Non-endemic\"),IF(COUNTRY_INFO!C62=0,\" \",COUNTRY_INFO!C62),\" \")","v":" "},{"$f":"IF(COUNTRY_INFO!T62<>\"\",COUNTRY_INFO!P62,0)","v":0},{"$f":"IF(AND(COUNTRY_INFO!T62<>\"\",COUNTRY_INFO!$H62=1),COUNTRY_INFO!F62+COUNTRY_INFO!G62,0)","v":0},0,null,0,0]
[{"$f":"IF(AND(INTRO!$E$37=\"Endemic\",INTRO!$E$39=\"Non-endemic\"),IF(COUNTRY_INFO!A63=0,\" \",COUNTRY_INFO!A63),\" \")","v":" "},{"$f":"IF(AND(INTRO!$E$37=\"Endemic\",INTRO!$E$39=\"Non-endemic\"),IF(COUNTRY_INFO!B63=0,\" \",COUNTRY_INFO!B63),\" \")","v":" "},{"$f":"IF(AND(INTRO!$E$37=\"Endemic\",INTRO!$E$39=\"Non-endemic\"),IF(COUNTRY_INFO!C63=0,\" \",COUNTRY_INFO!C63),\" \")","v":" "},{"$f":"IF(COUNTRY_INFO!T63<>\"\",COUNTRY_INFO!P63,0)","v":0},{"$f":"IF(AND(COUNTRY_INFO!T63<>\"\",COUNTRY_INFO!$H63=1),COUNTRY_INFO!F63+COUNTRY_INFO!G63,0)","v":0},0,null,0,0]
[{"$f":"IF(AND(INTRO!$E$37=\"Endemic\",INTRO!$E$39=\"Non-endemic\"),IF(COUNTRY_INFO!A64=0,\" \",COUNTRY_INFO!A64),\" \")","v":" "},{"$f":"IF(AND(INTRO!$E$37=\"Endemic\",INTRO!$E$39=\"Non-endemic\"),IF(COUNTRY_INFO!B64=0,\" \",COUNTRY_INFO!B64),\" \")","v":" "},{"$f":"IF(AND(INTRO!$E$37=\"Endemic\",INTRO!$E$39=\"Non-endemic\"),IF(COUNTRY_INFO!C64=0,\" \",COUNTRY_INFO!C64),\" \")","v":" "},{"$f":"IF(COUNTRY_INFO!T64<>\"\",COUNTRY_INFO!P64,0)","v":0},{"$f":"IF(AND(COUNTRY_INFO!T64<>\"\",COUNTRY_INFO!$H64=1),COUNTRY_INFO!F64+COUNTRY_INFO!G64,0)","v":0},0,null,0,0]
[{"$f":"IF(AND(INTRO!$E$37=\"Endemic\",INTRO!$E$39=\"Non-endemic\"),IF(COUNTRY_INFO!A65=0,\" \",COUNTRY_INFO!A65),\" \")","v":" "},{"$f":"IF(AND(INTRO!$E$37=\"Endemic\",INTRO!$E$39=\"Non-endemic\"),IF(COUNTRY_INFO!B65=0,\" \",COUNTRY_INFO!B65),\" \")","v":" "},{"$f":"IF(AND(INTRO!$E$37=\"Endemic\",INTRO!$E$39=\"Non-endemic\"),IF(COUNTRY_INFO!C65=0,\" \",COUNTRY_INFO!C65),\" \")","v":" "},{"$f":"IF(COUNTRY_INFO!T65<>\"\",COUNTRY_INFO!P65,0)","v":0},{"$f":"IF(AND(COUNTRY_INFO!T65<>\"\",COUNTRY_INFO!$H65=1),COUNTRY_INFO!F65+COUNTRY_INFO!G65,0)","v":0},0,null,0,0]
[{"$f":"IF(AND(INTRO!$E$37=\"Endemic\",INTRO!$E$39=\"Non-endemic\"),IF(COUNTRY_INFO!A66=0,\" \",COUNTRY_INFO!A66),\" \")","v":" "},{"$f":"IF(AND(INTRO!$E$37=\"Endemic\",INTRO!$E$39=\"Non-endemic\"),IF(COUNTRY_INFO!B66=0,\" \",COUNTRY_INFO!B66),\" \")","v":" "},{"$f":"IF(AND(INTRO!$E$37=\"Endemic\",INTRO!$E$39=\"Non-endemic\"),IF(COUNTRY_INFO!C66=0,\" \",COUNTRY_INFO!C66),\" \")","v":" "},{"$f":"IF(COUNTRY_INFO!T66<>\"\",COUNTRY_INFO!P66,0)","v":0},{"$f":"IF(AND(COUNTRY_INFO!T66<>\"\",COUNTRY_INFO!$H66=1),COUNTRY_INFO!F66+COUNTRY_INFO!G66,0)","v":0},0,null,0,0]
[{"$f":"IF(AND(INTRO!$E$37=\"Endemic\",INTRO!$E$39=\"Non-endemic\"),IF(COUNTRY_INFO!A67=0,\" \",COUNTRY_INFO!A67),\" \")","v":" "},{"$f":"IF(AND(INTRO!$E$37=\"Endemic\",INTRO!$E$39=\"Non-endemic\"),IF(COUNTRY_INFO!B67=0,\" \",COUNTRY_INFO!B67),\" \")","v":" "},{"$f":"IF(AND(INTRO!$E$37=\"Endemic\",INTRO!$E$39=\"Non-endemic\"),IF(COUNTRY_INFO!C67=0,\" \",COUNTRY_INFO!C67),\" \")","v":" "},{"$f":"IF(COUNTRY_INFO!T67<>\"\",COUNTRY_INFO!P67,0)","v":0},{"$f":"IF(AND(COUNTRY_INFO!T67<>\"\",COUNTRY_INFO!$H67=1),COUNTRY_INFO!F67+COUNTRY_INFO!G67,0)","v":0},0,null,0,0]
[{"$f":"IF(AND(INTRO!$E$37=\"Endemic\",INTRO!$E$39=\"Non-endemic\"),IF(COUNTRY_INFO!A68=0,\" \",COUNTRY_INFO!A68),\" \")","v":" "},{"$f":"IF(AND(INTRO!$E$37=\"Endemic\",INTRO!$E$39=\"Non-endemic\"),IF(COUNTRY_INFO!B68=0,\" \",COUNTRY_INFO!B68),\" \")","v":" "},{"$f":"IF(AND(INTRO!$E$37=\"Endemic\",INTRO!$E$39=\"Non-endemic\"),IF(COUNTRY_INFO!C68=0,\" \",COUNTRY_INFO!C68),\" \")","v":" "},{"$f":"IF(COUNTRY_INFO!T68<>\"\",COUNTRY_INFO!P68,0)","v":0},{"$f":"IF(AND(COUNTRY_INFO!T68<>\"\",COUNTRY_INFO!$H68=1),COUNTRY_INFO!F68+COUNTRY_INFO!G68,0)","v":0},0,null,0,0]
[{"$f":"IF(AND(INTRO!$E$37=\"Endemic\",INTRO!$E$39=\"Non-endemic\"),IF(COUNTRY_INFO!A69=0,\" \",COUNTRY_INFO!A69),\" \")","v":" "},{"$f":"IF(AND(INTRO!$E$37=\"Endemic\",INTRO!$E$39=\"Non-endemic\"),IF(COUNTRY_INFO!B69=0,\" \",COUNTRY_INFO!B69),\" \")","v":" "},{"$f":"IF(AND(INTRO!$E$37=\"Endemic\",INTRO!$E$39=\"Non-endemic\"),IF(COUNTRY_INFO!C69=0,\" \",COUNTRY_INFO!C69),\" \")","v":" "},{"$f":"IF(COUNTRY_INFO!T69<>\"\",COUNTRY_INFO!P69,0)","v":0},{"$f":"IF(AND(COUNTRY_INFO!T69<>\"\",COUNTRY_INFO!$H69=1),COUNTRY_INFO!F69+COUNTRY_INFO!G69,0)","v":0},0,null,0,0]
[{"$f":"IF(AND(INTRO!$E$37=\"Endemic\",INTRO!$E$39=\"Non-endemic\"),IF(COUNTRY_INFO!A70=0,\" \",COUNTRY_INFO!A70),\" \")","v":" "},{"$f":"IF(AND(INTRO!$E$37=\"Endemic\",INTRO!$E$39=\"Non-endemic\"),IF(COUNTRY_INFO!B70=0,\" \",COUNTRY_INFO!B70),\" \")","v":" "},{"$f":"IF(AND(INTRO!$E$37=\"Endemic\",INTRO!$E$39=\"Non-endemic\"),IF(COUNTRY_INFO!C70=0,\" \",COUNTRY_INFO!C70),\" \")","v":" "},{"$f":"IF(COUNTRY_INFO!T70<>\"\",COUNTRY_INFO!P70,0)","v":0},{"$f":"IF(AND(COUNTRY_INFO!T70<>\"\",COUNTRY_INFO!$H70=1),COUNTRY_INFO!F70+COUNTRY_INFO!G70,0)","v":0},0,null,0,0]
[{"$f":"IF(AND(INTRO!$E$37=\"Endemic\",INTRO!$E$39=\"Non-endemic\"),IF(COUNTRY_INFO!A71=0,\" \",COUNTRY_INFO!A71),\" \")","v":" "},{"$f":"IF(AND(INTRO!$E$37=\"Endemic\",INTRO!$E$39=\"Non-endemic\"),IF(COUNTRY_INFO!B71=0,\" \",COUNTRY_INFO!B71),\" \")","v":" "},{"$f":"IF(AND(INTRO!$E$37=\"Endemic\",INTRO!$E$39=\"Non-endemic\"),IF(COUNTRY_INFO!C71=0,\" \",COUNTRY_INFO!C71),\" \")","v":" "},{"$f":"IF(COUNTRY_INFO!T71<>\"\",COUNTRY_INFO!P71,0)","v":0},{"$f":"IF(AND(COUNTRY_INFO!T71<>\"\",COUNTRY_INFO!$H71=1),COUNTRY_INFO!F71+COUNTRY_INFO!G71,0)","v":0},0,null,0,0]
[{"$f":"IF(AND(INTRO!$E$37=\"Endemic\",INTRO!$E$39=\"Non-endemic\"),IF(COUNTRY_INFO!A72=0,\" \",COUNTRY_INFO!A72),\" \")","v":" "},{"$f":"IF(AND(INTRO!$E$37=\"Endemic\",INTRO!$E$39=\"Non-endemic\"),IF(COUNTRY_INFO!B72=0,\" \",COUNTRY_INFO!B72),\" \")","v":" "},{"$f":"IF(AND(INTRO!$E$37=\"Endemic\",INTRO!$E$39=\"Non-endemic\"),IF(COUNTRY_INFO!C72=0,\" \",COUNTRY_INFO!C72),\" \")","v":" "},{"$f":"IF(COUNTRY_INFO!T72<>\"\",COUNTRY_INFO!P72,0)","v":0},{"$f":"IF(AND(COUNTRY_INFO!T72<>\"\",COUNTRY_INFO!$H72=1),COUNTRY_INFO!F72+COUNTRY_INFO!G72,0)","v":0},0,null,0,0]
[{"$f":"IF(AND(INTRO!$E$37=\"Endemic\",INTRO!$E$39=\"Non-endemic\"),IF(COUNTRY_INFO!A73=0,\" \",COUNTRY_INFO!A73),\" \")","v":" "},{"$f":"IF(AND(INTRO!$E$37=\"Endemic\",INTRO!$E$39=\"Non-endemic\"),IF(COUNTRY_INFO!B73=0,\" \",COUNTRY_INFO!B73),\" \")","v":" "},{"$f":"IF(AND(INTRO!$E$37=\"Endemic\",INTRO!$E$39=\"Non-endemic\"),IF(COUNTRY_INFO!C73=0,\" \",COUNTRY_INFO!C73),\" \")","v":" "},{"$f":"IF(COUNTRY_INFO!T73<>\"\",COUNTRY_INFO!P73,0)","v":0},{"$f":"IF(AND(COUNTRY_INFO!T73<>\"\",COUNTRY_INFO!$H73=1),COUNTRY_INFO!F73+COUNTRY_INFO!G73,0)","v":0},0,null,0,0]
[{"$f":"IF(AND(INTRO!$E$37=\"Endemic\",INTRO!$E$39=\"Non-endemic\"),IF(COUNTRY_INFO!A74=0,\" \",COUNTRY_INFO!A74),\" \")","v":" "},{"$f":"IF(AND(INTRO!$E$37=\"Endemic\",INTRO!$E$39=\"Non-endemic\"),IF(COUNTRY_INFO!B74=0,\" \",COUNTRY_INFO!B74),\" \")","v":" "},{"$f":"IF(AND(INTRO!$E$37=\"Endemic\",INTRO!$E$39=\"Non-endemic\"),IF(COUNTRY_INFO!C74=0,\" \",COUNTRY_INFO!C74),\" \")","v":" "},{"$f":"IF(COUNTRY_INFO!T74<>\"\",COUNTRY_INFO!P74,0)","v":0},{"$f":"IF(AND(COUNTRY_INFO!T74<>\"\",COUNTRY_INFO!$H74=1),COUNTRY_INFO!F74+COUNTRY_INFO!G74,0)","v":0},{"$f":"E74*2.8","v":0},null,0,0]
[{"$f":"IF(AND(INTRO!$E$37=\"Endemic\",INTRO!$E$39=\"Non-endemic\"),IF(COUNTRY_INFO!A75=0,\" \",COUNTRY_INFO!A75),\" \")","v":" "},{"$f":"IF(AND(INTRO!$E$37=\"Endemic\",INTRO!$E$39=\"Non-endemic\"),IF(COUNTRY_INFO!B75=0,\" \",COUNTRY_INFO!B75),\" \")","v":" "},{"$f":"IF(AND(INTRO!$E$37=\"Endemic\",INTRO!$E$39=\"Non-endemic\"),IF(COUNTRY_INFO!C75=0,\" \",COUNTRY_INFO!C75),\" \")","v":" "},{"$f":"IF(COUNTRY_INFO!T75<>\"\",COUNTRY_INFO!P75,0)","v":0},{"$f":"IF(AND(COUNTRY_INFO!T75<>\"\",COUNTRY_INFO!$H75=1),COUNTRY_INFO!F75+COUNTRY_INFO!G75,0)","v":0},0,null,0,0]
[{"$f":"IF(AND(INTRO!$E$37=\"Endemic\",INTRO!$E$39=\"Non-endemic\"),IF(COUNTRY_INFO!A76=0,\" \",COUNTRY_INFO!A76),\" \")","v":" "},{"$f":"IF(AND(INTRO!$E$37=\"Endemic\",INTRO!$E$39=\"Non-endemic\"),IF(COUNTRY_INFO!B76=0,\" \",COUNTRY_INFO!B76),\" \")","v":" "},{"$f":"IF(AND(INTRO!$E$37=\"Endemic\",INTRO!$E$39=\"Non-endemic\"),IF(COUNTRY_INFO!C76=0,\" \",COUNTRY_INFO!C76),\" \")","v":" "},{"$f":"IF(COUNTRY_INFO!T76<>\"\",COUNTRY_INFO!P76,0)","v":0},{"$f":"IF(AND(COUNTRY_INFO!T76<>\"\",COUNTRY_INFO!$H76=1),COUNTRY_INFO!F76+COUNTRY_INFO!G76,0)","v":0},0,null,0,0]
[{"$f":"IF(AND(INTRO!$E$37=\"Endemic\",INTRO!$E$39=\"Non-endemic\"),IF(COUNTRY_INFO!A77=0,\" \",COUNTRY_INFO!A77),\" \")","v":" "},{"$f":"IF(AND(INTRO!$E$37=\"Endemic\",INTRO!$E$39=\"Non-endemic\"),IF(COUNTRY_INFO!B77=0,\" \",COUNTRY_INFO!B77),\" \")","v":" "},{"$f":"IF(AND(INTRO!$E$37=\"Endemic\",INTRO!$E$39=\"Non-endemic\"),IF(COUNTRY_INFO!C77=0,\" \",COUNTRY_INFO!C77),\" \")","v":" "},{"$f":"IF(COUNTRY_INFO!T77<>\"\",COUNTRY_INFO!P77,0)","v":0},{"$f":"IF(AND(COUNTRY_INFO!T77<>\"\",COUNTRY_INFO!$H77=1),COUNTRY_INFO!F77+COUNTRY_INFO!G77,0)","v":0},0,null,0,0]
[{"$f":"IF(AND(INTRO!$E$37=\"Endemic\",INTRO!$E$39=\"Non-endemic\"),IF(COUNTRY_INFO!A78=0,\" \",COUNTRY_INFO!A78),\" \")","v":" "},{"$f":"IF(AND(INTRO!$E$37=\"Endemic\",INTRO!$E$39=\"Non-endemic\"),IF(COUNTRY_INFO!B78=0,\" \",COUNTRY_INFO!B78),\" \")","v":" "},{"$f":"IF(AND(INTRO!$E$37=\"Endemic\",INTRO!$E$39=\"Non-endemic\"),IF(COUNTRY_INFO!C78=0,\" \",COUNTRY_INFO!C78),\" \")","v":" "},{"$f":"IF(COUNTRY_INFO!T78<>\"\",COUNTRY_INFO!P78,0)","v":0},{"$f":"IF(AND(COUNTRY_INFO!T78<>\"\",COUNTRY_INFO!$H78=1),COUNTRY_INFO!F78+COUNTRY_INFO!G78,0)","v":0},0,null,0,0]
[{"$f":"IF(AND(INTRO!$E$37=\"Endemic\",INTRO!$E$39=\"Non-endemic\"),IF(COUNTRY_INFO!A79=0,\" \",COUNTRY_INFO!A79),\" \")","v":" "},{"$f":"IF(AND(INTRO!$E$37=\"Endemic\",INTRO!$E$39=\"Non-endemic\"),IF(COUNTRY_INFO!B79=0,\" \",COUNTRY_INFO!B79),\" \")","v":" "},{"$f":"IF(AND(INTRO!$E$37=\"Endemic\",INTRO!$E$39=\"Non-endemic\"),IF(COUNTRY_INFO!C79=0,\" \",COUNTRY_INFO!C79),\" \")","v":" "},{"$f":"IF(COUNTRY_INFO!T79<>\"\",COUNTRY_INFO!P79,0)","v":0},{"$f":"IF(AND(COUNTRY_INFO!T79<>\"\",COUNTRY_INFO!$H79=1),COUNTRY_INFO!F79+COUNTRY_INFO!G79,0)","v":0},0,null,0,0]
[{"$f":"IF(AND(INTRO!$E$37=\"Endemic\",INTRO!$E$39=\"Non-endemic\"),IF(COUNTRY_INFO!A80=0,\" \",COUNTRY_INFO!A80),\" \")","v":" "},{"$f":"IF(AND(INTRO!$E$37=\"Endemic\",INTRO!$E$39=\"Non-endemic\"),IF(COUNTRY_INFO!B80=0,\" \",COUNTRY_INFO!B80),\" \")","v":" "},{"$f":"IF(AND(INTRO!$E$37=\"Endemic\",INTRO!$E$39=\"Non-endemic\"),IF(COUNTRY_INFO!C80=0,\" \",COUNTRY_INFO!C80),\" \")","v":" "},{"$f":"IF(COUNTRY_INFO!T80<>\"\",COUNTRY_INFO!P80,0)","v":0},{"$f":"IF(AND(COUNTRY_INFO!T80<>\"\",COUNTRY_INFO!$H80=1),COUNTRY_INFO!F80+COUNTRY_INFO!G80,0)","v":0},0,null,0,0]
[{"$f":"IF(AND(INTRO!$E$37=\"Endemic\",INTRO!$E$39=\"Non-endemic\"),IF(COUNTRY_INFO!A81=0,\" \",COUNTRY_INFO!A81),\" \")","v":" "},{"$f":"IF(AND(INTRO!$E$37=\"Endemic\",INTRO!$E$39=\"Non-endemic\"),IF(COUNTRY_INFO!B81=0,\" \",COUNTRY_INFO!B81),\" \")","v":" "},{"$f":"IF(AND(INTRO!$E$37=\"Endemic\",INTRO!$E$39=\"Non-endemic\"),IF(COUNTRY_INFO!C81=0,\" \",COUNTRY_INFO!C81),\" \")","v":" "},{"$f":"IF(COUNTRY_INFO!T81<>\"\",COUNTRY_INFO!P81,0)","v":0},{"$f":"IF(AND(COUNTRY_INFO!T81<>\"\",COUNTRY_INFO!$H81=1),COUNTRY_INFO!F81+COUNTRY_INFO!G81,0)","v":0},0,null,0,0]
[{"$f":"IF(AND(INTRO!$E$37=\"Endemic\",INTRO!$E$39=\"Non-endemic\"),IF(COUNTRY_INFO!A82=0,\" \",COUNTRY_INFO!A82),\" \")","v":" "},{"$f":"IF(AND(INTRO!$E$37=\"Endemic\",INTRO!$E$39=\"Non-endemic\"),IF(COUNTRY_INFO!B82=0,\" \",COUNTRY_INFO!B82),\" \")","v":" "},{"$f":"IF(AND(INTRO!$E$37=\"Endemic\",INTRO!$E$39=\"Non-endemic\"),IF(COUNTRY_INFO!C82=0,\" \",COUNTRY_INFO!C82),\" \")","v":" "},{"$f":"IF(COUNTRY_INFO!T82<>\"\",COUNTRY_INFO!P82,0)","v":0},{"$f":"IF(AND(COUNTRY_INFO!T82<>\"\",COUNTRY_INFO!$H82=1),COUNTRY_INFO!F82+COUNTRY_INFO!G82,0)","v":0},0,null,0,0]
[{"$f":"IF(AND(INTRO!$E$37=\"Endemic\",INTRO!$E$39=\"Non-endemic\"),IF(COUNTRY_INFO!A83=0,\" \",COUNTRY_INFO!A83),\" \")","v":" "},{"$f":"IF(AND(INTRO!$E$37=\"Endemic\",INTRO!$E$39=\"Non-endemic\"),IF(COUNTRY_INFO!B83=0,\" \",COUNTRY_INFO!B83),\" \")","v":" "},{"$f":"IF(AND(INTRO!$E$37=\"Endemic\",INTRO!$E$39=\"Non-endemic\"),IF(COUNTRY_INFO!C83=0,\" \",COUNTRY_INFO!C83),\" \")","v":" "},{"$f":"IF(COUNTRY_INFO!T83<>\"\",COUNTRY_INFO!P83,0)","v":0},{"$f":"IF(AND(COUNTRY_INFO!T83<>\"\",COUNTRY_INFO!$H83=1),COUNTRY_INFO!F83+COUNTRY_INFO!G83,0)","v":0},0,null,0,0]
[{"$f":"IF(AND(INTRO!$E$37=\"Endemic\",INTRO!$E$39=\"Non-endemic\"),IF(COUNTRY_INFO!A84=0,\" \",COUNTRY_INFO!A84),\" \")","v":" "},{"$f":"IF(AND(INTRO!$E$37=\"Endemic\",INTRO!$E$39=\"Non-endemic\"),IF(COUNTRY_INFO!B84=0,\" \",COUNTRY_INFO!B84),\" \")","v":" "},{"$f":"IF(AND(INTRO!$E$37=\"Endemic\",INTRO!$E$39=\"Non-endemic\"),IF(COUNTRY_INFO!C84=0,\" \",COUNTRY_INFO!C84),\" \")","v":" "},{"$f":"IF(COUNTRY_INFO!T84<>\"\",COUNTRY_INFO!P84,0)","v":0},{"$f":"IF(AND(COUNTRY_INFO!T84<>\"\",COUNTRY_INFO!$H84=1),COUNTRY_INFO!F84+COUNTRY_INFO!G84,0)","v":0},0,null,0,0]
[{"$f":"IF(AND(INTRO!$E$37=\"Endemic\",INTRO!$E$39=\"Non-endemic\"),IF(COUNTRY_INFO!A85=0,\" \",COUNTRY_INFO!A85),\" \")","v":" "},{"$f":"IF(AND(INTRO!$E$37=\"Endemic\",INTRO!$E$39=\"Non-endemic\"),IF(COUNTRY_INFO!B85=0,\" \",COUNTRY_INFO!B85),\" \")","v":" "},{"$f":"IF(AND(INTRO!$E$37=\"Endemic\",INTRO!$E$39=\"Non-endemic\"),IF(COUNTRY_INFO!C85=0,\" \",COUNTRY_INFO!C85),\" \")","v":" "},{"$f":"IF(COUNTRY_INFO!T85<>\"\",COUNTRY_INFO!P85,0)","v":0},{"$f":"IF(AND(COUNTRY_INFO!T85<>\"\",COUNTRY_INFO!$H85=1),COUNTRY_INFO!F85+COUNTRY_INFO!G85,0)","v":0},0,null,0,0]
[{"$f":"IF(AND(INTRO!$E$37=\"Endemic\",INTRO!$E$39=\"Non-endemic\"),IF(COUNTRY_INFO!A86=0,\" \",COUNTRY_INFO!A86),\" \")","v":" "},{"$f":"IF(AND(INTRO!$E$37=\"Endemic\",INTRO!$E$39=\"Non-endemic\"),IF(COUNTRY_INFO!B86=0,\" \",COUNTRY_INFO!B86),\" \")","v":" "},{"$f":"IF(AND(INTRO!$E$37=\"Endemic\",INTRO!$E$39=\"Non-endemic\"),IF(COUNTRY_INFO!C86=0,\" \",COUNTRY_INFO!C86),\" \")","v":" "},{"$f":"IF(COUNTRY_INFO!T86<>\"\",COUNTRY_INFO!P86,0)","v":0},{"$f":"IF(AND(COUNTRY_INFO!T86<>\"\",COUNTRY_INFO!$H86=1),COUNTRY_INFO!F86+COUNTRY_INFO!G86,0)","v":0},0,null,0,0]
[{"$f":"IF(AND(INTRO!$E$37=\"Endemic\",INTRO!$E$39=\"Non-endemic\"),IF(COUNTRY_INFO!A87=0,\" \",COUNTRY_INFO!A87),\" \")","v":" "},{"$f":"IF(AND(INTRO!$E$37=\"Endemic\",INTRO!$E$39=\"Non-endemic\"),IF(COUNTRY_INFO!B87=0,\" \",COUNTRY_INFO!B87),\" \")","v":" "},{"$f":"IF(AND(INTRO!$E$37=\"Endemic\",INTRO!$E$39=\"Non-endemic\"),IF(COUNTRY_INFO!C87=0,\" \",COUNTRY_INFO!C87),\" \")","v":" "},{"$f":"IF(COUNTRY_INFO!T87<>\"\",COUNTRY_INFO!P87,0)","v":0},{"$f":"IF(AND(COUNTRY_INFO!T87<>\"\",COUNTRY_INFO!$H87=1),COUNTRY_INFO!F87+COUNTRY_INFO!G87,0)","v":0},0,null,0,0]
[{"$f":"IF(AND(INTRO!$E$37=\"Endemic\",INTRO!$E$39=\"Non-endemic\"),IF(COUNTRY_INFO!A88=0,\" \",COUNTRY_INFO!A88),\" \")","v":" "},{"$f":"IF(AND(INTRO!$E$37=\"Endemic\",INTRO!$E$39=\"Non-endemic\"),IF(COUNTRY_INFO!B88=0,\" \",COUNTRY_INFO!B88),\" \")","v":" "},{"$f":"IF(AND(INTRO!$E$37=\"Endemic\",INTRO!$E$39=\"Non-endemic\"),IF(COUNTRY_INFO!C88=0,\" \",COUNTRY_INFO!C88),\" \")","v":" "},{"$f":"IF(COUNTRY_INFO!T88<>\"\",COUNTRY_INFO!P88,0)","v":0},{"$f":"IF(AND(COUNTRY_INFO!T88<>\"\",COUNTRY_INFO!$H88=1),COUNTRY_INFO!F88+COUNTRY_INFO!G88,0)","v":0},0,null,0,0]
[{"$f":"IF(AND(INTRO!$E$37=\"Endemic\",INTRO!$E$39=\"Non-endemic\"),IF(COUNTRY_INFO!A89=0,\" \",COUNTRY_INFO!A89),\" \")","v":" "},{"$f":"IF(AND(INTRO!$E$37=\"Endemic\",INTRO!$E$39=\"Non-endemic\"),IF(COUNTRY_INFO!B89=0,\" \",COUNTRY_INFO!B89),\" \")","v":" "},{"$f":"IF(AND(INTRO!$E$37=\"Endemic\",INTRO!$E$39=\"Non-endemic\"),IF(COUNTRY_INFO!C89=0,\" \",COUNTRY_INFO!C89),\" \")","v":" "},{"$f":"IF(COUNTRY_INFO!T89<>\"\",COUNTRY_INFO!P89,0)","v":0},{"$f":"IF(AND(COUNTRY_INFO!T89<>\"\",COUNTRY_INFO!$H89=1),COUNTRY_INFO!F89+COUNTRY_INFO!G89,0)","v":0},0,null,0,0]
[{"$f":"IF(AND(INTRO!$E$37=\"Endemic\",INTRO!$E$39=\"Non-endemic\"),IF(COUNTRY_INFO!A90=0,\" \",COUNTRY_INFO!A90),\" \")","v":" "},{"$f":"IF(AND(INTRO!$E$37=\"Endemic\",INTRO!$E$39=\"Non-endemic\"),IF(COUNTRY_INFO!B90=0,\" \",COUNTRY_INFO!B90),\" \")","v":" "},{"$f":"IF(AND(INTRO!$E$37=\"Endemic\",INTRO!$E$39=\"Non-endemic\"),IF(COUNTRY_INFO!C90=0,\" \",COUNTRY_INFO!C90),\" \")","v":" "},{"$f":"IF(COUNTRY_INFO!T90<>\"\",COUNTRY_INFO!P90,0)","v":0},{"$f":"IF(AND(COUNTRY_INFO!T90<>\"\",COUNTRY_INFO!$H90=1),COUNTRY_INFO!F90+COUNTRY_INFO!G90,0)","v":0},0,null,0,0]
[{"$f":"IF(AND(INTRO!$E$37=\"Endemic\",INTRO!$E$39=\"Non-endemic\"),IF(COUNTRY_INFO!A91=0,\" \",COUNTRY_INFO!A91),\" \")","v":" "},{"$f":"IF(AND(INTRO!$E$37=\"Endemic\",INTRO!$E$39=\"Non-endemic\"),IF(COUNTRY_INFO!B91=0,\" \",COUNTRY_INFO!B91),\" \")","v":" "},{"$f":"IF(AND(INTRO!$E$37=\"Endemic\",INTRO!$E$39=\"Non-endemic\"),IF(COUNTRY_INFO!C91=0,\" \",COUNTRY_INFO!C91),\" \")","v":" "},{"$f":"IF(COUNTRY_INFO!T91<>\"\",COUNTRY_INFO!P91,0)","v":0},{"$f":"IF(AND(COUNTRY_INFO!T91<>\"\",COUNTRY_INFO!$H91=1),COUNTRY_INFO!F91+COUNTRY_INFO!G91,0)","v":0},0,null,0,0]
[{"$f":"IF(AND(INTRO!$E$37=\"Endemic\",INTRO!$E$39=\"Non-endemic\"),IF(COUNTRY_INFO!A92=0,\" \",COUNTRY_INFO!A92),\" \")","v":" "},{"$f":"IF(AND(INTRO!$E$37=\"Endemic\",INTRO!$E$39=\"Non-endemic\"),IF(COUNTRY_INFO!B92=0,\" \",COUNTRY_INFO!B92),\" \")","v":" "},{"$f":"IF(AND(INTRO!$E$37=\"Endemic\",INTRO!$E$39=\"Non-endemic\"),IF(COUNTRY_INFO!C92=0,\" \",COUNTRY_INFO!C92),\" \")","v":" "},{"$f":"IF(COUNTRY_INFO!T92<>\"\",COUNTRY_INFO!P92,0)","v":0},{"$f":"IF(AND(COUNTRY_INFO!T92<>\"\",COUNTRY_INFO!$H92=1),COUNTRY_INFO!F92+COUNTRY_INFO!G92,0)","v":0},0,null,0,0]
[{"$f":"IF(AND(INTRO!$E$37=\"Endemic\",INTRO!$E$39=\"Non-endemic\"),IF(COUNTRY_INFO!A93=0,\" \",COUNTRY_INFO!A93),\" \")","v":" "},{"$f":"IF(AND(INTRO!$E$37=\"Endemic\",INTRO!$E$39=\"Non-endemic\"),IF(COUNTRY_INFO!B93=0,\" \",COUNTRY_INFO!B93),\" \")","v":" "},{"$f":"IF(AND(INTRO!$E$37=\"Endemic\",INTRO!$E$39=\"Non-endemic\"),IF(COUNTRY_INFO!C93=0,\" \",COUNTRY_INFO!C93),\" \")","v":" "},{"$f":"IF(COUNTRY_INFO!T93<>\"\",COUNTRY_INFO!P93,0)","v":0},{"$f":"IF(AND(COUNTRY_INFO!T93<>\"\",COUNTRY_INFO!$H93=1),COUNTRY_INFO!F93+COUNTRY_INFO!G93,0)","v":0},0,null,0,0]
[{"$f":"IF(AND(INTRO!$E$37=\"Endemic\",INTRO!$E$39=\"Non-endemic\"),IF(COUNTRY_INFO!A94=0,\" \",COUNTRY_INFO!A94),\" \")","v":" "},{"$f":"IF(AND(INTRO!$E$37=\"Endemic\",INTRO!$E$39=\"Non-endemic\"),IF(COUNTRY_INFO!B94=0,\" \",COUNTRY_INFO!B94),\" \")","v":" "},{"$f":"IF(AND(INTRO!$E$37=\"Endemic\",INTRO!$E$39=\"Non-endemic\"),IF(COUNTRY_INFO!C94=0,\" \",COUNTRY_INFO!C94),\" \")","v":" "},{"$f":"IF(COUNTRY_INFO!T94<>\"\",COUNTRY_INFO!P94,0)","v":0},{"$f":"IF(AND(COUNTRY_INFO!T94<>\"\",COUNTRY_INFO!$H94=1),COUNTRY_INFO!F94+COUNTRY_INFO!G94,0)","v":0},0,null,0,0]
[{"$f":"IF(AND(INTRO!$E$37=\"Endemic\",INTRO!$E$39=\"Non-endemic\"),IF(COUNTRY_INFO!A95=0,\" \",COUNTRY_INFO!A95),\" \")","v":" "},{"$f":"IF(AND(INTRO!$E$37=\"Endemic\",INTRO!$E$39=\"Non-endemic\"),IF(COUNTRY_INFO!B95=0,\" \",COUNTRY_INFO!B95),\" \")","v":" "},{"$f":"IF(AND(INTRO!$E$37=\"Endemic\",INTRO!$E$39=\"Non-endemic\"),IF(COUNTRY_INFO!C95=0,\" \",COUNTRY_INFO!C95),\" \")","v":" "},{"$f":"IF(COUNTRY_INFO!T95<>\"\",COUNTRY_INFO!P95,0)","v":0},{"$f":"IF(AND(COUNTRY_INFO!T95<>\"\",COUNTRY_INFO!$H95=1),COUNTRY_INFO!F95+COUNTRY_INFO!G95,0)","v":0},0,null,0,0]
[{"$f":"IF(AND(INTRO!$E$37=\"Endemic\",INTRO!$E$39=\"Non-endemic\"),IF(COUNTRY_INFO!A96=0,\" \",COUNTRY_INFO!A96),\" \")","v":" "},{"$f":"IF(AND(INTRO!$E$37=\"Endemic\",INTRO!$E$39=\"Non-endemic\"),IF(COUNTRY_INFO!B96=0,\" \",COUNTRY_INFO!B96),\" \")","v":" "},{"$f":"IF(AND(INTRO!$E$37=\"Endemic\",INTRO!$E$39=\"Non-endemic\"),IF(COUNTRY_INFO!C96=0,\" \",COUNTRY_INFO!C96),\" \")","v":" "},{"$f":"IF(COUNTRY_INFO!T96<>\"\",COUNTRY_INFO!P96,0)","v":0},{"$f":"IF(AND(COUNTRY_INFO!T96<>\"\",COUNTRY_INFO!$H96=1),COUNTRY_INFO!F96+COUNTRY_INFO!G96,0)","v":0},0,null,0,0]
[{"$f":"IF(AND(INTRO!$E$37=\"Endemic\",INTRO!$E$39=\"Non-endemic\"),IF(COUNTRY_INFO!A97=0,\" \",COUNTRY_INFO!A97),\" \")","v":" "},{"$f":"IF(AND(INTRO!$E$37=\"Endemic\",INTRO!$E$39=\"Non-endemic\"),IF(COUNTRY_INFO!B97=0,\" \",COUNTRY_INFO!B97),\" \")","v":" "},{"$f":"IF(AND(INTRO!$E$37=\"Endemic\",INTRO!$E$39=\"Non-endemic\"),IF(COUNTRY_INFO!C97=0,\" \",COUNTRY_INFO!C97),\" \")","v":" "},{"$f":"IF(COUNTRY_INFO!T97<>\"\",COUNTRY_INFO!P97,0)","v":0},{"$f":"IF(AND(COUNTRY_INFO!T97<>\"\",COUNTRY_INFO!$H97=1),COUNTRY_INFO!F97+COUNTRY_INFO!G97,0)","v":0},0,null,0,0]
[{"$f":"IF(AND(INTRO!$E$37=\"Endemic\",INTRO!$E$39=\"Non-endemic\"),IF(COUNTRY_INFO!A98=0,\" \",COUNTRY_INFO!A98),\" \")","v":" "},{"$f":"IF(AND(INTRO!$E$37=\"Endemic\",INTRO!$E$39=\"Non-endemic\"),IF(COUNTRY_INFO!B98=0,\" \",COUNTRY_INFO!B98),\" \")","v":" "},{"$f":"IF(AND(INTRO!$E$37=\"Endemic\",INTRO!$E$39=\"Non-endemic\"),IF(COUNTRY_INFO!C98=0,\" \",COUNTRY_INFO!C98),\" \")","v":" "},{"$f":"IF(COUNTRY_INFO!T98<>\"\",COUNTRY_INFO!P98,0)","v":0},{"$f":"IF(AND(COUNTRY_INFO!T98<>\"\",COUNTRY_INFO!$H98=1),COUNTRY_INFO!F98+COUNTRY_INFO!G98,0)","v":0},0,null,0,0]
[{"$f":"IF(AND(INTRO!$E$37=\"Endemic\",INTRO!$E$39=\"Non-endemic\"),IF(COUNTRY_INFO!A99=0,\" \",COUNTRY_INFO!A99),\" \")","v":" "},{"$f":"IF(AND(INTRO!$E$37=\"Endemic\",INTRO!$E$39=\"Non-endemic\"),IF(COUNTRY_INFO!B99=0,\" \",COUNTRY_INFO!B99),\" \")","v":" "},{"$f":"IF(AND(INTRO!$E$37=\"Endemic\",INTRO!$E$39=\"Non-endemic\"),IF(COUNTRY_INFO!C99=0,\" \",COUNTRY_INFO!C99),\" \")","v":" "},{"$f":"IF(COUNTRY_INFO!T99<>\"\",COUNTRY_INFO!P99,0)","v":0},{"$f":"IF(AND(COUNTRY_INFO!T99<>\"\",COUNTRY_INFO!$H99=1),COUNTRY_INFO!F99+COUNTRY_INFO!G99,0)","v":0},0,null,0,0]
[{"$f":"IF(AND(INTRO!$E$37=\"Endemic\",INTRO!$E$39=\"Non-endemic\"),IF(COUNTRY_INFO!A100=0,\" \",COUNTRY_INFO!A100),\" \")","v":" "},{"$f":"IF(AND(INTRO!$E$37=\"Endemic\",INTRO!$E$39=\"Non-endemic\"),IF(COUNTRY_INFO!B100=0,\" \",COUNTRY_INFO!B100),\" \")","v":" "},{"$f":"IF(AND(INTRO!$E$37=\"Endemic\",INTRO!$E$39=\"Non-endemic\"),IF(COUNTRY_INFO!C100=0,\" \",COUNTRY_INFO!C100),\" \")","v":" "},{"$f":"IF(COUNTRY_INFO!T100<>\"\",COUNTRY_INFO!P100,0)","v":0},{"$f":"IF(AND(COUNTRY_INFO!T100<>\"\",COUNTRY_INFO!$H100=1),COUNTRY_INFO!F100+COUNTRY_INFO!G100,0)","v":0},0,null,0,0]
[{"$f":"IF(AND(INTRO!$E$37=\"Endemic\",INTRO!$E$39=\"Non-endemic\"),IF(COUNTRY_INFO!A101=0,\" \",COUNTRY_INFO!A101),\" \")","v":" "},{"$f":"IF(AND(INTRO!$E$37=\"Endemic\",INTRO!$E$39=\"Non-endemic\"),IF(COUNTRY_INFO!B101=0,\" \",COUNTRY_INFO!B101),\" \")","v":" "},{"$f":"IF(AND(INTRO!$E$37=\"Endemic\",INTRO!$E$39=\"Non-endemic\"),IF(COUNTRY_INFO!C101=0,\" \",COUNTRY_INFO!C101),\" \")","v":" "},{"$f":"IF(COUNTRY_INFO!T101<>\"\",COUNTRY_INFO!P101,0)","v":0},{"$f":"IF(AND(COUNTRY_INFO!T101<>\"\",COUNTRY_INFO!$H101=1),COUNTRY_INFO!F101+COUNTRY_INFO!G101,0)","v":0},0,null,0,0]
[{"$f":"IF(AND(INTRO!$E$37=\"Endemic\",INTRO!$E$39=\"Non-endemic\"),IF(COUNTRY_INFO!A102=0,\" \",COUNTRY_INFO!A102),\" \")","v":" "},{"$f":"IF(AND(INTRO!$E$37=\"Endemic\",INTRO!$E$39=\"Non-endemic\"),IF(COUNTRY_INFO!B102=0,\" \",COUNTRY_INFO!B102),\" \")","v":" "},{"$f":"IF(AND(INTRO!$E$37=\"Endemic\",INTRO!$E$39=\"Non-endemic\"),IF(COUNTRY_INFO!C102=0,\" \",COUNTRY_INFO!C102),\" \")","v":" "},{"$f":"IF(COUNTRY_INFO!T102<>\"\",COUNTRY_INFO!P102,0)","v":0},{"$f":"IF(AND(COUNTRY_INFO!T102<>\"\",COUNTRY_INFO!$H102=1),COUNTRY_INFO!F102+COUNTRY_INFO!G102,0)","v":0},0,null,0,0]
[{"$f":"IF(AND(INTRO!$E$37=\"Endemic\",INTRO!$E$39=\"Non-endemic\"),IF(COUNTRY_INFO!A103=0,\" \",COUNTRY_INFO!A103),\" \")","v":" "},{"$f":"IF(AND(INTRO!$E$37=\"Endemic\",INTRO!$E$39=\"Non-endemic\"),IF(COUNTRY_INFO!B103=0,\" \",COUNTRY_INFO!B103),\" \")","v":" "},{"$f":"IF(AND(INTRO!$E$37=\"Endemic\",INTRO!$E$39=\"Non-endemic\"),IF(COUNTRY_INFO!C103=0,\" \",COUNTRY_INFO!C103),\" \")","v":" "},{"$f":"IF(COUNTRY_INFO!T103<>\"\",COUNTRY_INFO!P103,0)","v":0},{"$f":"IF(AND(COUNTRY_INFO!T103<>\"\",COUNTRY_INFO!$H103=1),COUNTRY_INFO!F103+COUNTRY_INFO!G103,0)","v":0},0,null,0,0]
[{"$f":"IF(AND(INTRO!$E$37=\"Endemic\",INTRO!$E$39=\"Non-endemic\"),IF(COUNTRY_INFO!A104=0,\" \",COUNTRY_INFO!A104),\" \")","v":" "},{"$f":"IF(AND(INTRO!$E$37=\"Endemic\",INTRO!$E$39=\"Non-endemic\"),IF(COUNTRY_INFO!B104=0,\" \",COUNTRY_INFO!B104),\" \")","v":" "},{"$f":"IF(AND(INTRO!$E$37=\"Endemic\",INTRO!$E$39=\"Non-endemic\"),IF(COUNTRY_INFO!C104=0,\" \",COUNTRY_INFO!C104),\" \")","v":" "},{"$f":"IF(COUNTRY_INFO!T104<>\"\",COUNTRY_INFO!P104,0)","v":0},{"$f":"IF(AND(COUNTRY_INFO!T104<>\"\",COUNTRY_INFO!$H104=1),COUNTRY_INFO!F104+COUNTRY_INFO!G104,0)","v":0},0,null,0,0]
[{"$f":"IF(AND(INTRO!$E$37=\"Endemic\",INTRO!$E$39=\"Non-endemic\"),IF(COUNTRY_INFO!A105=0,\" \",COUNTRY_INFO!A105),\" \")","v":" "},{"$f":"IF(AND(INTRO!$E$37=\"Endemic\",INTRO!$E$39=\"Non-endemic\"),IF(COUNTRY_INFO!B105=0,\" \",COUNTRY_INFO!B105),\" \")","v":" "},{"$f":"IF(AND(INTRO!$E$37=\"Endemic\",INTRO!$E$39=\"Non-endemic\"),IF(COUNTRY_INFO!C105=0,\" \",COUNTRY_INFO!C105),\" \")","v":" "},{"$f":"IF(COUNTRY_INFO!T105<>\"\",COUNTRY_INFO!P105,0)","v":0},{"$f":"IF(AND(COUNTRY_INFO!T105<>\"\",COUNTRY_INFO!$H105=1),COUNTRY_INFO!F105+COUNTRY_INFO!G105,0)","v":0},0,null,0,0]
[{"$f":"IF(AND(INTRO!$E$37=\"Endemic\",INTRO!$E$39=\"Non-endemic\"),IF(COUNTRY_INFO!A106=0,\" \",COUNTRY_INFO!A106),\" \")","v":" "},{"$f":"IF(AND(INTRO!$E$37=\"Endemic\",INTRO!$E$39=\"Non-endemic\"),IF(COUNTRY_INFO!B106=0,\" \",COUNTRY_INFO!B106),\" \")","v":" "},{"$f":"IF(AND(INTRO!$E$37=\"Endemic\",INTRO!$E$39=\"Non-endemic\"),IF(COUNTRY_INFO!C106=0,\" \",COUNTRY_INFO!C106),\" \")","v":" "},{"$f":"IF(COUNTRY_INFO!T106<>\"\",COUNTRY_INFO!P106,0)","v":0},{"$f":"IF(AND(COUNTRY_INFO!T106<>\"\",COUNTRY_INFO!$H106=1),COUNTRY_INFO!F106+COUNTRY_INFO!G106,0)","v":0},0,null,0,0]
[{"$f":"IF(AND(INTRO!$E$37=\"Endemic\",INTRO!$E$39=\"Non-endemic\"),IF(COUNTRY_INFO!A107=0,\" \",COUNTRY_INFO!A107),\" \")","v":" "},{"$f":"IF(AND(INTRO!$E$37=\"Endemic\",INTRO!$E$39=\"Non-endemic\"),IF(COUNTRY_INFO!B107=0,\" \",COUNTRY_INFO!B107),\" \")","v":" "},{"$f":"IF(AND(INTRO!$E$37=\"Endemic\",INTRO!$E$39=\"Non-endemic\"),IF(COUNTRY_INFO!C107=0,\" \",COUNTRY_INFO!C107),\" \")","v":" "},{"$f":"IF(COUNTRY_INFO!T107<>\"\",COUNTRY_INFO!P107,0)","v":0},{"$f":"IF(AND(COUNTRY_INFO!T107<>\"\",COUNTRY_INFO!$H107=1),COUNTRY_INFO!F107+COUNTRY_INFO!G107,0)","v":0},0,null,0,0]
[{"$f":"IF(AND(INTRO!$E$37=\"Endemic\",INTRO!$E$39=\"Non-endemic\"),IF(COUNTRY_INFO!A108=0,\" \",COUNTRY_INFO!A108),\" \")","v":" "},{"$f":"IF(AND(INTRO!$E$37=\"Endemic\",INTRO!$E$39=\"Non-endemic\"),IF(COUNTRY_INFO!B108=0,\" \",COUNTRY_INFO!B108),\" \")","v":" "},{"$f":"IF(AND(INTRO!$E$37=\"Endemic\",INTRO!$E$39=\"Non-endemic\"),IF(COUNTRY_INFO!C108=0,\" \",COUNTRY_INFO!C108),\" \")","v":" "},{"$f":"IF(COUNTRY_INFO!T108<>\"\",COUNTRY_INFO!P108,0)","v":0},{"$f":"IF(AND(COUNTRY_INFO!T108<>\"\",COUNTRY_INFO!$H108=1),COUNTRY_INFO!F108+COUNTRY_INFO!G108,0)","v":0},0,null,0,0]
[{"$f":"IF(AND(INTRO!$E$37=\"Endemic\",INTRO!$E$39=\"Non-endemic\"),IF(COUNTRY_INFO!A109=0,\" \",COUNTRY_INFO!A109),\" \")","v":" "},{"$f":"IF(AND(INTRO!$E$37=\"Endemic\",INTRO!$E$39=\"Non-endemic\"),IF(COUNTRY_INFO!B109=0,\" \",COUNTRY_INFO!B109),\" \")","v":" "},{"$f":"IF(AND(INTRO!$E$37=\"Endemic\",INTRO!$E$39=\"Non-endemic\"),IF(COUNTRY_INFO!C109=0,\" \",COUNTRY_INFO!C109),\" \")","v":" "},{"$f":"IF(COUNTRY_INFO!T109<>\"\",COUNTRY_INFO!P109,0)","v":0},{"$f":"IF(AND(COUNTRY_INFO!T109<>\"\",COUNTRY_INFO!$H109=1),COUNTRY_INFO!F109+COUNTRY_INFO!G109,0)","v":0},0,null,0,0]
[{"$f":"IF(AND(INTRO!$E$37=\"Endemic\",INTRO!$E$39=\"Non-endemic\"),IF(COUNTRY_INFO!A110=0,\" \",COUNTRY_INFO!A110),\" \")","v":" "},{"$f":"IF(AND(INTRO!$E$37=\"Endemic\",INTRO!$E$39=\"Non-endemic\"),IF(COUNTRY_INFO!B110=0,\" \",COUNTRY_INFO!B110),\" \")","v":" "},{"$f":"IF(AND(INTRO!$E$37=\"Endemic\",INTRO!$E$39=\"Non-endemic\"),IF(COUNTRY_INFO!C110=0,\" \",COUNTRY_INFO!C110),\" \")","v":" "},{"$f":"IF(COUNTRY_INFO!T110<>\"\",COUNTRY_INFO!P110,0)","v":0},{"$f":"IF(AND(COUNTRY_INFO!T110<>\"\",COUNTRY_INFO!$H110=1),COUNTRY_INFO!F110+COUNTRY_INFO!G110,0)","v":0},0,null,0,0]
[{"$f":"IF(AND(INTRO!$E$37=\"Endemic\",INTRO!$E$39=\"Non-endemic\"),IF(COUNTRY_INFO!A111=0,\" \",COUNTRY_INFO!A111),\" \")","v":" "},{"$f":"IF(AND(INTRO!$E$37=\"Endemic\",INTRO!$E$39=\"Non-endemic\"),IF(COUNTRY_INFO!B111=0,\" \",COUNTRY_INFO!B111),\" \")","v":" "},{"$f":"IF(AND(INTRO!$E$37=\"Endemic\",INTRO!$E$39=\"Non-endemic\"),IF(COUNTRY_INFO!C111=0,\" \",COUNTRY_INFO!C111),\" \")","v":" "},{"$f":"IF(COUNTRY_INFO!T111<>\"\",COUNTRY_INFO!P111,0)","v":0},{"$f":"IF(AND(COUNTRY_INFO!T111<>\"\",COUNTRY_INFO!$H111=1),COUNTRY_INFO!F111+COUNTRY_INFO!G111,0)","v":0},0,null,0,0]
[{"$f":"IF(AND(INTRO!$E$37=\"Endemic\",INTRO!$E$39=\"Non-endemic\"),IF(COUNTRY_INFO!A112=0,\" \",COUNTRY_INFO!A112),\" \")","v":" "},{"$f":"IF(AND(INTRO!$E$37=\"Endemic\",INTRO!$E$39=\"Non-endemic\"),IF(COUNTRY_INFO!B112=0,\" \",COUNTRY_INFO!B112),\" \")","v":" "},{"$f":"IF(AND(INTRO!$E$37=\"Endemic\",INTRO!$E$39=\"Non-endemic\"),IF(COUNTRY_INFO!C112=0,\" \",COUNTRY_INFO!C112),\" \")","v":" "},{"$f":"IF(COUNTRY_INFO!T112<>\"\",COUNTRY_INFO!P112,0)","v":0},{"$f":"IF(AND(COUNTRY_INFO!T112<>\"\",COUNTRY_INFO!$H112=1),COUNTRY_INFO!F112+COUNTRY_INFO!G112,0)","v":0},0,null,0,0]
[{"$f":"IF(AND(INTRO!$E$37=\"Endemic\",INTRO!$E$39=\"Non-endemic\"),IF(COUNTRY_INFO!A113=0,\" \",COUNTRY_INFO!A113),\" \")","v":" "},{"$f":"IF(AND(INTRO!$E$37=\"Endemic\",INTRO!$E$39=\"Non-endemic\"),IF(COUNTRY_INFO!B113=0,\" \",COUNTRY_INFO!B113),\" \")","v":" "},{"$f":"IF(AND(INTRO!$E$37=\"Endemic\",INTRO!$E$39=\"Non-endemic\"),IF(COUNTRY_INFO!C113=0,\" \",COUNTRY_INFO!C113),\" \")","v":" "},{"$f":"IF(COUNTRY_INFO!T113<>\"\",COUNTRY_INFO!P113,0)","v":0},{"$f":"IF(AND(COUNTRY_INFO!T113<>\"\",COUNTRY_INFO!$H113=1),COUNTRY_INFO!F113+COUNTRY_INFO!G113,0)","v":0},0,null,0,0]
[{"$f":"IF(AND(INTRO!$E$37=\"Endemic\",INTRO!$E$39=\"Non-endemic\"),IF(COUNTRY_INFO!A114=0,\" \",COUNTRY_INFO!A114),\" \")","v":" "},{"$f":"IF(AND(INTRO!$E$37=\"Endemic\",INTRO!$E$39=\"Non-endemic\"),IF(COUNTRY_INFO!B114=0,\" \",COUNTRY_INFO!B114),\" \")","v":" "},{"$f":"IF(AND(INTRO!$E$37=\"Endemic\",INTRO!$E$39=\"Non-endemic\"),IF(COUNTRY_INFO!C114=0,\" \",COUNTRY_INFO!C114),\" \")","v":" "},{"$f":"IF(COUNTRY_INFO!T114<>\"\",COUNTRY_INFO!P114,0)","v":0},{"$f":"IF(AND(COUNTRY_INFO!T114<>\"\",COUNTRY_INFO!$H114=1),COUNTRY_INFO!F114+COUNTRY_INFO!G114,0)","v":0},0,null,0,0]
[{"$f":"IF(AND(INTRO!$E$37=\"Endemic\",INTRO!$E$39=\"Non-endemic\"),IF(COUNTRY_INFO!A115=0,\" \",COUNTRY_INFO!A115),\" \")","v":" "},{"$f":"IF(AND(INTRO!$E$37=\"Endemic\",INTRO!$E$39=\"Non-endemic\"),IF(COUNTRY_INFO!B115=0,\" \",COUNTRY_INFO!B115),\" \")","v":" "},{"$f":"IF(AND(INTRO!$E$37=\"Endemic\",INTRO!$E$39=\"Non-endemic\"),IF(COUNTRY_INFO!C115=0,\" \",COUNTRY_INFO!C115),\" \")","v":" "},{"$f":"IF(COUNTRY_INFO!T115<>\"\",COUNTRY_INFO!P115,0)","v":0},{"$f":"IF(AND(COUNTRY_INFO!T115<>\"\",COUNTRY_INFO!$H115=1),COUNTRY_INFO!F115+COUNTRY_INFO!G115,0)","v":0},0,null,0,0]
[{"$f":"IF(AND(INTRO!$E$37=\"Endemic\",INTRO!$E$39=\"Non-endemic\"),IF(COUNTRY_INFO!A116=0,\" \",COUNTRY_INFO!A116),\" \")","v":" "},{"$f":"IF(AND(INTRO!$E$37=\"Endemic\",INTRO!$E$39=\"Non-endemic\"),IF(COUNTRY_INFO!B116=0,\" \",COUNTRY_INFO!B116),\" \")","v":" "},{"$f":"IF(AND(INTRO!$E$37=\"Endemic\",INTRO!$E$39=\"Non-endemic\"),IF(COUNTRY_INFO!C116=0,\" \",COUNTRY_INFO!C116),\" \")","v":" "},{"$f":"IF(COUNTRY_INFO!T116<>\"\",COUNTRY_INFO!P116,0)","v":0},{"$f":"IF(AND(COUNTRY_INFO!T116<>\"\",COUNTRY_INFO!$H116=1),COUNTRY_INFO!F116+COUNTRY_INFO!G116,0)","v":0},0,null,0,0]
[{"$f":"IF(AND(INTRO!$E$37=\"Endemic\",INTRO!$E$39=\"Non-endemic\"),IF(COUNTRY_INFO!A117=0,\" \",COUNTRY_INFO!A117),\" \")","v":" "},{"$f":"IF(AND(INTRO!$E$37=\"Endemic\",INTRO!$E$39=\"Non-endemic\"),IF(COUNTRY_INFO!B117=0,\" \",COUNTRY_INFO!B117),\" \")","v":" "},{"$f":"IF(AND(INTRO!$E$37=\"Endemic\",INTRO!$E$39=\"Non-endemic\"),IF(COUNTRY_INFO!C117=0,\" \",COUNTRY_INFO!C117),\" \")","v":" "},{"$f":"IF(COUNTRY_INFO!T117<>\"\",COUNTRY_INFO!P117,0)","v":0},{"$f":"IF(AND(COUNTRY_INFO!T117<>\"\",COUNTRY_INFO!$H117=1),COUNTRY_INFO!F117+COUNTRY_INFO!G117,0)","v":0},0,null,0,0]
[{"$f":"IF(AND(INTRO!$E$37=\"Endemic\",INTRO!$E$39=\"Non-endemic\"),IF(COUNTRY_INFO!A118=0,\" \",COUNTRY_INFO!A118),\" \")","v":" "},{"$f":"IF(AND(INTRO!$E$37=\"Endemic\",INTRO!$E$39=\"Non-endemic\"),IF(COUNTRY_INFO!B118=0,\" \",COUNTRY_INFO!B118),\" \")","v":" "},{"$f":"IF(AND(INTRO!$E$37=\"Endemic\",INTRO!$E$39=\"Non-endemic\"),IF(COUNTRY_INFO!C118=0,\" \",COUNTRY_INFO!C118),\" \")","v":" "},{"$f":"IF(COUNTRY_INFO!T118<>\"\",COUNTRY_INFO!P118,0)","v":0},{"$f":"IF(AND(COUNTRY_INFO!T118<>\"\",COUNTRY_INFO!$H118=1),COUNTRY_INFO!F118+COUNTRY_INFO!G118,0)","v":0},0,null,0,0]
[{"$f":"IF(AND(INTRO!$E$37=\"Endemic\",INTRO!$E$39=\"Non-endemic\"),IF(COUNTRY_INFO!A119=0,\" \",COUNTRY_INFO!A119),\" \")","v":" "},{"$f":"IF(AND(INTRO!$E$37=\"Endemic\",INTRO!$E$39=\"Non-endemic\"),IF(COUNTRY_INFO!B119=0,\" \",COUNTRY_INFO!B119),\" \")","v":" "},{"$f":"IF(AND(INTRO!$E$37=\"Endemic\",INTRO!$E$39=\"Non-endemic\"),IF(COUNTRY_INFO!C119=0,\" \",COUNTRY_INFO!C119),\" \")","v":" "},{"$f":"IF(COUNTRY_INFO!T119<>\"\",COUNTRY_INFO!P119,0)","v":0},{"$f":"IF(AND(COUNTRY_INFO!T119<>\"\",COUNTRY_INFO!$H119=1),COUNTRY_INFO!F119+COUNTRY_INFO!G119,0)","v":0},0,null,0,0]
[{"$f":"IF(AND(INTRO!$E$37=\"Endemic\",INTRO!$E$39=\"Non-endemic\"),IF(COUNTRY_INFO!A120=0,\" \",COUNTRY_INFO!A120),\" \")","v":" "},{"$f":"IF(AND(INTRO!$E$37=\"Endemic\",INTRO!$E$39=\"Non-endemic\"),IF(COUNTRY_INFO!B120=0,\" \",COUNTRY_INFO!B120),\" \")","v":" "},{"$f":"IF(AND(INTRO!$E$37=\"Endemic\",INTRO!$E$39=\"Non-endemic\"),IF(COUNTRY_INFO!C120=0,\" \",COUNTRY_INFO!C120),\" \")","v":" "},{"$f":"IF(COUNTRY_INFO!T120<>\"\",COUNTRY_INFO!P120,0)","v":0},{"$f":"IF(AND(COUNTRY_INFO!T120<>\"\",COUNTRY_INFO!$H120=1),COUNTRY_INFO!F120+COUNTRY_INFO!G120,0)","v":0},0,null,0,0]
[{"$f":"IF(AND(INTRO!$E$37=\"Endemic\",INTRO!$E$39=\"Non-endemic\"),IF(COUNTRY_INFO!A121=0,\" \",COUNTRY_INFO!A121),\" \")","v":" "},{"$f":"IF(AND(INTRO!$E$37=\"Endemic\",INTRO!$E$39=\"Non-endemic\"),IF(COUNTRY_INFO!B121=0,\" \",COUNTRY_INFO!B121),\" \")","v":" "},{"$f":"IF(AND(INTRO!$E$37=\"Endemic\",INTRO!$E$39=\"Non-endemic\"),IF(COUNTRY_INFO!C121=0,\" \",COUNTRY_INFO!C121),\" \")","v":" "},{"$f":"IF(COUNTRY_INFO!T121<>\"\",COUNTRY_INFO!P121,0)","v":0},{"$f":"IF(AND(COUNTRY_INFO!T121<>\"\",COUNTRY_INFO!$H121=1),COUNTRY_INFO!F121+COUNTRY_INFO!G121,0)","v":0},0,null,0,0]
[{"$f":"IF(AND(INTRO!$E$37=\"Endemic\",INTRO!$E$39=\"Non-endemic\"),IF(COUNTRY_INFO!A122=0,\" \",COUNTRY_INFO!A122),\" \")","v":" "},{"$f":"IF(AND(INTRO!$E$37=\"Endemic\",INTRO!$E$39=\"Non-endemic\"),IF(COUNTRY_INFO!B122=0,\" \",COUNTRY_INFO!B122),\" \")","v":" "},{"$f":"IF(AND(INTRO!$E$37=\"Endemic\",INTRO!$E$39=\"Non-endemic\"),IF(COUNTRY_INFO!C122=0,\" \",COUNTRY_INFO!C122),\" \")","v":" "},{"$f":"IF(COUNTRY_INFO!T122<>\"\",COUNTRY_INFO!P122,0)","v":0},{"$f":"IF(AND(COUNTRY_INFO!T122<>\"\",COUNTRY_INFO!$H122=1),COUNTRY_INFO!F122+COUNTRY_INFO!G122,0)","v":0},0,null,0,0]
[{"$f":"IF(AND(INTRO!$E$37=\"Endemic\",INTRO!$E$39=\"Non-endemic\"),IF(COUNTRY_INFO!A123=0,\" \",COUNTRY_INFO!A123),\" \")","v":" "},{"$f":"IF(AND(INTRO!$E$37=\"Endemic\",INTRO!$E$39=\"Non-endemic\"),IF(COUNTRY_INFO!B123=0,\" \",COUNTRY_INFO!B123),\" \")","v":" "},{"$f":"IF(AND(INTRO!$E$37=\"Endemic\",INTRO!$E$39=\"Non-endemic\"),IF(COUNTRY_INFO!C123=0,\" \",COUNTRY_INFO!C123),\" \")","v":" "},{"$f":"IF(COUNTRY_INFO!T123<>\"\",COUNTRY_INFO!P123,0)","v":0},{"$f":"IF(AND(COUNTRY_INFO!T123<>\"\",COUNTRY_INFO!$H123=1),COUNTRY_INFO!F123+COUNTRY_INFO!G123,0)","v":0},0,null,0,0]
[{"$f":"IF(AND(INTRO!$E$37=\"Endemic\",INTRO!$E$39=\"Non-endemic\"),IF(COUNTRY_INFO!A124=0,\" \",COUNTRY_INFO!A124),\" \")","v":" "},{"$f":"IF(AND(INTRO!$E$37=\"Endemic\",INTRO!$E$39=\"Non-endemic\"),IF(COUNTRY_INFO!B124=0,\" \",COUNTRY_INFO!B124),\" \")","v":" "},{"$f":"IF(AND(INTRO!$E$37=\"Endemic\",INTRO!$E$39=\"Non-endemic\"),IF(COUNTRY_INFO!C124=0,\" \",COUNTRY_INFO!C124),\" \")","v":" "},{"$f":"IF(COUNTRY_INFO!T124<>\"\",COUNTRY_INFO!P124,0)","v":0},{"$f":"IF(AND(COUNTRY_INFO!T124<>\"\",COUNTRY_INFO!$H124=1),COUNTRY_INFO!F124+COUNTRY_INFO!G124,0)","v":0},0,null,0,0]
[{"$f":"IF(AND(INTRO!$E$37=\"Endemic\",INTRO!$E$39=\"Non-endemic\"),IF(COUNTRY_INFO!A125=0,\" \",COUNTRY_INFO!A125),\" \")","v":" "},{"$f":"IF(AND(INTRO!$E$37=\"Endemic\",INTRO!$E$39=\"Non-endemic\"),IF(COUNTRY_INFO!B125=0,\" \",COUNTRY_INFO!B125),\" \")","v":" "},{"$f":"IF(AND(INTRO!$E$37=\"Endemic\",INTRO!$E$39=\"Non-endemic\"),IF(COUNTRY_INFO!C125=0,\" \",COUNTRY_INFO!C125),\" \")","v":" "},{"$f":"IF(COUNTRY_INFO!T125<>\"\",COUNTRY_INFO!P125,0)","v":0},{"$f":"IF(AND(COUNTRY_INFO!T125<>\"\",COUNTRY_INFO!$H125=1),COUNTRY_INFO!F125+COUNTRY_INFO!G125,0)","v":0},0,null,0,0]
[{"$f":"IF(AND(INTRO!$E$37=\"Endemic\",INTRO!$E$39=\"Non-endemic\"),IF(COUNTRY_INFO!A126=0,\" \",COUNTRY_INFO!A126),\" \")","v":" "},{"$f":"IF(AND(INTRO!$E$37=\"Endemic\",INTRO!$E$39=\"Non-endemic\"),IF(COUNTRY_INFO!B126=0,\" \",COUNTRY_INFO!B126),\" \")","v":" "},{"$f":"IF(AND(INTRO!$E$37=\"Endemic\",INTRO!$E$39=\"Non-endemic\"),IF(COUNTRY_INFO!C126=0,\" \",COUNTRY_INFO!C126),\" \")","v":" "},{"$f":"IF(COUNTRY_INFO!T126<>\"\",COUNTRY_INFO!P126,0)","v":0},{"$f":"IF(AND(COUNTRY_INFO!T126<>\"\",COUNTRY_INFO!$H126=1),COUNTRY_INFO!F126+COUNTRY_INFO!G126,0)","v":0},0,null,0,0]
[{"$f":"IF(AND(INTRO!$E$37=\"Endemic\",INTRO!$E$39=\"Non-endemic\"),IF(COUNTRY_INFO!A127=0,\" \",COUNTRY_INFO!A127),\" \")","v":" "},{"$f":"IF(AND(INTRO!$E$37=\"Endemic\",INTRO!$E$39=\"Non-endemic\"),IF(COUNTRY_INFO!B127=0,\" \",COUNTRY_INFO!B127),\" \")","v":" "},{"$f":"IF(AND(INTRO!$E$37=\"Endemic\",INTRO!$E$39=\"Non-endemic\"),IF(COUNTRY_INFO!C127=0,\" \",COUNTRY_INFO!C127),\" \")","v":" "},{"$f":"IF(COUNTRY_INFO!T127<>\"\",COUNTRY_INFO!P127,0)","v":0},{"$f":"IF(AND(COUNTRY_INFO!T127<>\"\",COUNTRY_INFO!$H127=1),COUNTRY_INFO!F127+COUNTRY_INFO!G127,0)","v":0},0,null,0,0]
[{"$f":"IF(AND(INTRO!$E$37=\"Endemic\",INTRO!$E$39=\"Non-endemic\"),IF(COUNTRY_INFO!A128=0,\" \",COUNTRY_INFO!A128),\" \")","v":" "},{"$f":"IF(AND(INTRO!$E$37=\"Endemic\",INTRO!$E$39=\"Non-endemic\"),IF(COUNTRY_INFO!B128=0,\" \",COUNTRY_INFO!B128),\" \")","v":" "},{"$f":"IF(AND(INTRO!$E$37=\"Endemic\",INTRO!$E$39=\"Non-endemic\"),IF(COUNTRY_INFO!C128=0,\" \",COUNTRY_INFO!C128),\" \")","v":" "},{"$f":"IF(COUNTRY_INFO!T128<>\"\",COUNTRY_INFO!P128,0)","v":0},{"$f":"IF(AND(COUNTRY_INFO!T128<>\"\",COUNTRY_INFO!$H128=1),COUNTRY_INFO!F128+COUNTRY_INFO!G128,0)","v":0},0,null,0,0]
[{"$f":"IF(AND(INTRO!$E$37=\"Endemic\",INTRO!$E$39=\"Non-endemic\"),IF(COUNTRY_INFO!A129=0,\" \",COUNTRY_INFO!A129),\" \")","v":" "},{"$f":"IF(AND(INTRO!$E$37=\"Endemic\",INTRO!$E$39=\"Non-endemic\"),IF(COUNTRY_INFO!B129=0,\" \",COUNTRY_INFO!B129),\" \")","v":" "},{"$f":"IF(AND(INTRO!$E$37=\"Endemic\",INTRO!$E$39=\"Non-endemic\"),IF(COUNTRY_INFO!C129=0,\" \",COUNTRY_INFO!C129),\" \")","v":" "},{"$f":"IF(COUNTRY_INFO!T129<>\"\",COUNTRY_INFO!P129,0)","v":0},{"$f":"IF(AND(COUNTRY_INFO!T129<>\"\",COUNTRY_INFO!$H129=1),COUNTRY_INFO!F129+COUNTRY_INFO!G129,0)","v":0},0,null,0,0]
[{"$f":"IF(AND(INTRO!$E$37=\"Endemic\",INTRO!$E$39=\"Non-endemic\"),IF(COUNTRY_INFO!A130=0,\" \",COUNTRY_INFO!A130),\" \")","v":" "},{"$f":"IF(AND(INTRO!$E$37=\"Endemic\",INTRO!$E$39=\"Non-endemic\"),IF(COUNTRY_INFO!B130=0,\" \",COUNTRY_INFO!B130),\" \")","v":" "},{"$f":"IF(AND(INTRO!$E$37=\"Endemic\",INTRO!$E$39=\"Non-endemic\"),IF(COUNTRY_INFO!C130=0,\" \",COUNTRY_INFO!C130),\" \")","v":" "},{"$f":"IF(COUNTRY_INFO!T130<>\"\",COUNTRY_INFO!P130,0)","v":0},{"$f":"IF(AND(COUNTRY_INFO!T130<>\"\",COUNTRY_INFO!$H130=1),COUNTRY_INFO!F130+COUNTRY_INFO!G130,0)","v":0},0,null,0,0]
[{"$f":"IF(AND(INTRO!$E$37=\"Endemic\",INTRO!$E$39=\"Non-endemic\"),IF(COUNTRY_INFO!A131=0,\" \",COUNTRY_INFO!A131),\" \")","v":" "},{"$f":"IF(AND(INTRO!$E$37=\"Endemic\",INTRO!$E$39=\"Non-endemic\"),IF(COUNTRY_INFO!B131=0,\" \",COUNTRY_INFO!B131),\" \")","v":" "},{"$f":"IF(AND(INTRO!$E$37=\"Endemic\",INTRO!$E$39=\"Non-endemic\"),IF(COUNTRY_INFO!C131=0,\" \",COUNTRY_INFO!C131),\" \")","v":" "},{"$f":"IF(COUNTRY_INFO!T131<>\"\",COUNTRY_INFO!P131,0)","v":0},{"$f":"IF(AND(COUNTRY_INFO!T131<>\"\",COUNTRY_INFO!$H131=1),COUNTRY_INFO!F131+COUNTRY_INFO!G131,0)","v":0},0,null,0,0]
[{"$f":"IF(AND(INTRO!$E$37=\"Endemic\",INTRO!$E$39=\"Non-endemic\"),IF(COUNTRY_INFO!A132=0,\" \",COUNTRY_INFO!A132),\" \")","v":" "},{"$f":"IF(AND(INTRO!$E$37=\"Endemic\",INTRO!$E$39=\"Non-endemic\"),IF(COUNTRY_INFO!B132=0,\" \",COUNTRY_INFO!B132),\" \")","v":" "},{"$f":"IF(AND(INTRO!$E$37=\"Endemic\",INTRO!$E$39=\"Non-endemic\"),IF(COUNTRY_INFO!C132=0,\" \",COUNTRY_INFO!C132),\" \")","v":" "},{"$f":"IF(COUNTRY_INFO!T132<>\"\",COUNTRY_INFO!P132,0)","v":0},{"$f":"IF(AND(COUNTRY_INFO!T132<>\"\",COUNTRY_INFO!$H132=1),COUNTRY_INFO!F132+COUNTRY_INFO!G132,0)","v":0},0,null,0,0]
[{"$f":"IF(AND(INTRO!$E$37=\"Endemic\",INTRO!$E$39=\"Non-endemic\"),IF(COUNTRY_INFO!A133=0,\" \",COUNTRY_INFO!A133),\" \")","v":" "},{"$f":"IF(AND(INTRO!$E$37=\"Endemic\",INTRO!$E$39=\"Non-endemic\"),IF(COUNTRY_INFO!B133=0,\" \",COUNTRY_INFO!B133),\" \")","v":" "},{"$f":"IF(AND(INTRO!$E$37=\"Endemic\",INTRO!$E$39=\"Non-endemic\"),IF(COUNTRY_INFO!C133=0,\" \",COUNTRY_INFO!C133),\" \")","v":" "},{"$f":"IF(COUNTRY_INFO!T133<>\"\",COUNTRY_INFO!P133,0)","v":0},{"$f":"IF(AND(COUNTRY_INFO!T133<>\"\",COUNTRY_INFO!$H133=1),COUNTRY_INFO!F133+COUNTRY_INFO!G133,0)","v":0},0,null,0,0]
[{"$f":"IF(AND(INTRO!$E$37=\"Endemic\",INTRO!$E$39=\"Non-endemic\"),IF(COUNTRY_INFO!A134=0,\" \",COUNTRY_INFO!A134),\" \")","v":" "},{"$f":"IF(AND(INTRO!$E$37=\"Endemic\",INTRO!$E$39=\"Non-endemic\"),IF(COUNTRY_INFO!B134=0,\" \",COUNTRY_INFO!B134),\" \")","v":" "},{"$f":"IF(AND(INTRO!$E$37=\"Endemic\",INTRO!$E$39=\"Non-endemic\"),IF(COUNTRY_INFO!C134=0,\" \",COUNTRY_INFO!C134),\" \")","v":" "},{"$f":"IF(COUNTRY_INFO!T134<>\"\",COUNTRY_INFO!P134,0)","v":0},{"$f":"IF(AND(COUNTRY_INFO!T134<>\"\",COUNTRY_INFO!$H134=1),COUNTRY_INFO!F134+COUNTRY_INFO!G134,0)","v":0},0,null,0,0]
[{"$f":"IF(AND(INTRO!$E$37=\"Endemic\",INTRO!$E$39=\"Non-endemic\"),IF(COUNTRY_INFO!A135=0,\" \",COUNTRY_INFO!A135),\" \")","v":" "},{"$f":"IF(AND(INTRO!$E$37=\"Endemic\",INTRO!$E$39=\"Non-endemic\"),IF(COUNTRY_INFO!B135=0,\" \",COUNTRY_INFO!B135),\" \")","v":" "},{"$f":"IF(AND(INTRO!$E$37=\"Endemic\",INTRO!$E$39=\"Non-endemic\"),IF(COUNTRY_INFO!C135=0,\" \",COUNTRY_INFO!C135),\" \")","v":" "},{"$f":"IF(COUNTRY_INFO!T135<>\"\",COUNTRY_INFO!P135,0)","v":0},{"$f":"IF(AND(COUNTRY_INFO!T135<>\"\",COUNTRY_INFO!$H135=1),COUNTRY_INFO!F135+COUNTRY_INFO!G135,0)","v":0},0,null,0,0]
[{"$f":"IF(AND(INTRO!$E$37=\"Endemic\",INTRO!$E$39=\"Non-endemic\"),IF(COUNTRY_INFO!A136=0,\" \",COUNTRY_INFO!A136),\" \")","v":" "},{"$f":"IF(AND(INTRO!$E$37=\"Endemic\",INTRO!$E$39=\"Non-endemic\"),IF(COUNTRY_INFO!B136=0,\" \",COUNTRY_INFO!B136),\" \")","v":" "},{"$f":"IF(AND(INTRO!$E$37=\"Endemic\",INTRO!$E$39=\"Non-endemic\"),IF(COUNTRY_INFO!C136=0,\" \",COUNTRY_INFO!C136),\" \")","v":" "},{"$f":"IF(COUNTRY_INFO!T136<>\"\",COUNTRY_INFO!P136,0)","v":0},{"$f":"IF(AND(COUNTRY_INFO!T136<>\"\",COUNTRY_INFO!$H136=1),COUNTRY_INFO!F136+COUNTRY_INFO!G136,0)","v":0},0,null,0,0]
[{"$f":"IF(AND(INTRO!$E$37=\"Endemic\",INTRO!$E$39=\"Non-endemic\"),IF(COUNTRY_INFO!A137=0,\" \",COUNTRY_INFO!A137),\" \")","v":" "},{"$f":"IF(AND(INTRO!$E$37=\"Endemic\",INTRO!$E$39=\"Non-endemic\"),IF(COUNTRY_INFO!B137=0,\" \",COUNTRY_INFO!B137),\" \")","v":" "},{"$f":"IF(AND(INTRO!$E$37=\"Endemic\",INTRO!$E$39=\"Non-endemic\"),IF(COUNTRY_INFO!C137=0,\" \",COUNTRY_INFO!C137),\" \")","v":" "},{"$f":"IF(COUNTRY_INFO!T137<>\"\",COUNTRY_INFO!P137,0)","v":0},{"$f":"IF(AND(COUNTRY_INFO!T137<>\"\",COUNTRY_INFO!$H137=1),COUNTRY_INFO!F137+COUNTRY_INFO!G137,0)","v":0},0,null,0,0]
[{"$f":"IF(AND(INTRO!$E$37=\"Endemic\",INTRO!$E$39=\"Non-endemic\"),IF(COUNTRY_INFO!A138=0,\" \",COUNTRY_INFO!A138),\" \")","v":" "},{"$f":"IF(AND(INTRO!$E$37=\"Endemic\",INTRO!$E$39=\"Non-endemic\"),IF(COUNTRY_INFO!B138=0,\" \",COUNTRY_INFO!B138),\" \")","v":" "},{"$f":"IF(AND(INTRO!$E$37=\"Endemic\",INTRO!$E$39=\"Non-endemic\"),IF(COUNTRY_INFO!C138=0,\" \",COUNTRY_INFO!C138),\" \")","v":" "},{"$f":"IF(COUNTRY_INFO!T138<>\"\",COUNTRY_INFO!P138,0)","v":0},{"$f":"IF(AND(COUNTRY_INFO!T138<>\"\",COUNTRY_INFO!$H138=1),COUNTRY_INFO!F138+COUNTRY_INFO!G138,0)","v":0},{"$f":"E138*2.8","v":0},null,0,0]
[{"$f":"IF(AND(INTRO!$E$37=\"Endemic\",INTRO!$E$39=\"Non-endemic\"),IF(COUNTRY_INFO!A139=0,\" \",COUNTRY_INFO!A139),\" \")","v":" "},{"$f":"IF(AND(INTRO!$E$37=\"Endemic\",INTRO!$E$39=\"Non-endemic\"),IF(COUNTRY_INFO!B139=0,\" \",COUNTRY_INFO!B139),\" \")","v":" "},{"$f":"IF(AND(INTRO!$E$37=\"Endemic\",INTRO!$E$39=\"Non-endemic\"),IF(COUNTRY_INFO!C139=0,\" \",COUNTRY_INFO!C139),\" \")","v":" "},{"$f":"IF(COUNTRY_INFO!T139<>\"\",COUNTRY_INFO!P139,0)","v":0},{"$f":"IF(AND(COUNTRY_INFO!T139<>\"\",COUNTRY_INFO!$H139=1),COUNTRY_INFO!F139+COUNTRY_INFO!G139,0)","v":0},0,null,0,0]
[{"$f":"IF(AND(INTRO!$E$37=\"Endemic\",INTRO!$E$39=\"Non-endemic\"),IF(COUNTRY_INFO!A140=0,\" \",COUNTRY_INFO!A140),\" \")","v":" "},{"$f":"IF(AND(INTRO!$E$37=\"Endemic\",INTRO!$E$39=\"Non-endemic\"),IF(COUNTRY_INFO!B140=0,\" \",COUNTRY_INFO!B140),\" \")","v":" "},{"$f":"IF(AND(INTRO!$E$37=\"Endemic\",INTRO!$E$39=\"Non-endemic\"),IF(COUNTRY_INFO!C140=0,\" \",COUNTRY_INFO!C140),\" \")","v":" "},{"$f":"IF(COUNTRY_INFO!T140<>\"\",COUNTRY_INFO!P140,0)","v":0},{"$f":"IF(AND(COUNTRY_INFO!T140<>\"\",COUNTRY_INFO!$H140=1),COUNTRY_INFO!F140+COUNTRY_INFO!G140,0)","v":0},0,null,0,0]
[{"$f":"IF(AND(INTRO!$E$37=\"Endemic\",INTRO!$E$39=\"Non-endemic\"),IF(COUNTRY_INFO!A141=0,\" \",COUNTRY_INFO!A141),\" \")","v":" "},{"$f":"IF(AND(INTRO!$E$37=\"Endemic\",INTRO!$E$39=\"Non-endemic\"),IF(COUNTRY_INFO!B141=0,\" \",COUNTRY_INFO!B141),\" \")","v":" "},{"$f":"IF(AND(INTRO!$E$37=\"Endemic\",INTRO!$E$39=\"Non-endemic\"),IF(COUNTRY_INFO!C141=0,\" \",COUNTRY_INFO!C141),\" \")","v":" "},{"$f":"IF(COUNTRY_INFO!T141<>\"\",COUNTRY_INFO!P141,0)","v":0},{"$f":"IF(AND(COUNTRY_INFO!T141<>\"\",COUNTRY_INFO!$H141=1),COUNTRY_INFO!F141+COUNTRY_INFO!G141,0)","v":0},0,null,0,0]
[{"$f":"IF(AND(INTRO!$E$37=\"Endemic\",INTRO!$E$39=\"Non-endemic\"),IF(COUNTRY_INFO!A142=0,\" \",COUNTRY_INFO!A142),\" \")","v":" "},{"$f":"IF(AND(INTRO!$E$37=\"Endemic\",INTRO!$E$39=\"Non-endemic\"),IF(COUNTRY_INFO!B142=0,\" \",COUNTRY_INFO!B142),\" \")","v":" "},{"$f":"IF(AND(INTRO!$E$37=\"Endemic\",INTRO!$E$39=\"Non-endemic\"),IF(COUNTRY_INFO!C142=0,\" \",COUNTRY_INFO!C142),\" \")","v":" "},{"$f":"IF(COUNTRY_INFO!T142<>\"\",COUNTRY_INFO!P142,0)","v":0},{"$f":"IF(AND(COUNTRY_INFO!T142<>\"\",COUNTRY_INFO!$H142=1),COUNTRY_INFO!F142+COUNTRY_INFO!G142,0)","v":0},0,null,0,0]
[{"$f":"IF(AND(INTRO!$E$37=\"Endemic\",INTRO!$E$39=\"Non-endemic\"),IF(COUNTRY_INFO!A143=0,\" \",COUNTRY_INFO!A143),\" \")","v":" "},{"$f":"IF(AND(INTRO!$E$37=\"Endemic\",INTRO!$E$39=\"Non-endemic\"),IF(COUNTRY_INFO!B143=0,\" \",COUNTRY_INFO!B143),\" \")","v":" "},{"$f":"IF(AND(INTRO!$E$37=\"Endemic\",INTRO!$E$39=\"Non-endemic\"),IF(COUNTRY_INFO!C143=0,\" \",COUNTRY_INFO!C143),\" \")","v":" "},{"$f":"IF(COUNTRY_INFO!T143<>\"\",COUNTRY_INFO!P143,0)","v":0},{"$f":"IF(AND(COUNTRY_INFO!T143<>\"\",COUNTRY_INFO!$H143=1),COUNTRY_INFO!F143+COUNTRY_INFO!G143,0)","v":0},0,null,0,0]
[{"$f":"IF(AND(INTRO!$E$37=\"Endemic\",INTRO!$E$39=\"Non-endemic\"),IF(COUNTRY_INFO!A144=0,\" \",COUNTRY_INFO!A144),\" \")","v":" "},{"$f":"IF(AND(INTRO!$E$37=\"Endemic\",INTRO!$E$39=\"Non-endemic\"),IF(COUNTRY_INFO!B144=0,\" \",COUNTRY_INFO!B144),\" \")","v":" "},{"$f":"IF(AND(INTRO!$E$37=\"Endemic\",INTRO!$E$39=\"Non-endemic\"),IF(COUNTRY_INFO!C144=0,\" \",COUNTRY_INFO!C144),\" \")","v":" "},{"$f":"IF(COUNTRY_INFO!T144<>\"\",COUNTRY_INFO!P144,0)","v":0},{"$f":"IF(AND(COUNTRY_INFO!T144<>\"\",COUNTRY_INFO!$H144=1),COUNTRY_INFO!F144+COUNTRY_INFO!G144,0)","v":0},0,null,0,0]
[{"$f":"IF(AND(INTRO!$E$37=\"Endemic\",INTRO!$E$39=\"Non-endemic\"),IF(COUNTRY_INFO!A145=0,\" \",COUNTRY_INFO!A145),\" \")","v":" "},{"$f":"IF(AND(INTRO!$E$37=\"Endemic\",INTRO!$E$39=\"Non-endemic\"),IF(COUNTRY_INFO!B145=0,\" \",COUNTRY_INFO!B145),\" \")","v":" "},{"$f":"IF(AND(INTRO!$E$37=\"Endemic\",INTRO!$E$39=\"Non-endemic\"),IF(COUNTRY_INFO!C145=0,\" \",COUNTRY_INFO!C145),\" \")","v":" "},{"$f":"IF(COUNTRY_INFO!T145<>\"\",COUNTRY_INFO!P145,0)","v":0},{"$f":"IF(AND(COUNTRY_INFO!T145<>\"\",COUNTRY_INFO!$H145=1),COUNTRY_INFO!F145+COUNTRY_INFO!G145,0)","v":0},0,null,0,0]
[{"$f":"IF(AND(INTRO!$E$37=\"Endemic\",INTRO!$E$39=\"Non-endemic\"),IF(COUNTRY_INFO!A146=0,\" \",COUNTRY_INFO!A146),\" \")","v":" "},{"$f":"IF(AND(INTRO!$E$37=\"Endemic\",INTRO!$E$39=\"Non-endemic\"),IF(COUNTRY_INFO!B146=0,\" \",COUNTRY_INFO!B146),\" \")","v":" "},{"$f":"IF(AND(INTRO!$E$37=\"Endemic\",INTRO!$E$39=\"Non-endemic\"),IF(COUNTRY_INFO!C146=0,\" \",COUNTRY_INFO!C146),\" \")","v":" "},{"$f":"IF(COUNTRY_INFO!T146<>\"\",COUNTRY_INFO!P146,0)","v":0},{"$f":"IF(AND(COUNTRY_INFO!T146<>\"\",COUNTRY_INFO!$H146=1),COUNTRY_INFO!F146+COUNTRY_INFO!G146,0)","v":0},0,null,0,0]
[{"$f":"IF(AND(INTRO!$E$37=\"Endemic\",INTRO!$E$39=\"Non-endemic\"),IF(COUNTRY_INFO!A147=0,\" \",COUNTRY_INFO!A147),\" \")","v":" "},{"$f":"IF(AND(INTRO!$E$37=\"Endemic\",INTRO!$E$39=\"Non-endemic\"),IF(COUNTRY_INFO!B147=0,\" \",COUNTRY_INFO!B147),\" \")","v":" "},{"$f":"IF(AND(INTRO!$E$37=\"Endemic\",INTRO!$E$39=\"Non-endemic\"),IF(COUNTRY_INFO!C147=0,\" \",COUNTRY_INFO!C147),\" \")","v":" "},{"$f":"IF(COUNTRY_INFO!T147<>\"\",COUNTRY_INFO!P147,0)","v":0},{"$f":"IF(AND(COUNTRY_INFO!T147<>\"\",COUNTRY_INFO!$H147=1),COUNTRY_INFO!F147+COUNTRY_INFO!G147,0)","v":0},0,null,0,0]
[{"$f":"IF(AND(INTRO!$E$37=\"Endemic\",INTRO!$E$39=\"Non-endemic\"),IF(COUNTRY_INFO!A148=0,\" \",COUNTRY_INFO!A148),\" \")","v":" "},{"$f":"IF(AND(INTRO!$E$37=\"Endemic\",INTRO!$E$39=\"Non-endemic\"),IF(COUNTRY_INFO!B148=0,\" \",COUNTRY_INFO!B148),\" \")","v":" "},{"$f":"IF(AND(INTRO!$E$37=\"Endemic\",INTRO!$E$39=\"Non-endemic\"),IF(COUNTRY_INFO!C148=0,\" \",COUNTRY_INFO!C148),\" \")","v":" "},{"$f":"IF(COUNTRY_INFO!T148<>\"\",COUNTRY_INFO!P148,0)","v":0},{"$f":"IF(AND(COUNTRY_INFO!T148<>\"\",COUNTRY_INFO!$H148=1),COUNTRY_INFO!F148+COUNTRY_INFO!G148,0)","v":0},0,null,0,0]
[{"$f":"IF(AND(INTRO!$E$37=\"Endemic\",INTRO!$E$39=\"Non-endemic\"),IF(COUNTRY_INFO!A149=0,\" \",COUNTRY_INFO!A149),\" \")","v":" "},{"$f":"IF(AND(INTRO!$E$37=\"Endemic\",INTRO!$E$39=\"Non-endemic\"),IF(COUNTRY_INFO!B149=0,\" \",COUNTRY_INFO!B149),\" \")","v":" "},{"$f":"IF(AND(INTRO!$E$37=\"Endemic\",INTRO!$E$39=\"Non-endemic\"),IF(COUNTRY_INFO!C149=0,\" \",COUNTRY_INFO!C149),\" \")","v":" "},{"$f":"IF(COUNTRY_INFO!T149<>\"\",COUNTRY_INFO!P149,0)","v":0},{"$f":"IF(AND(COUNTRY_INFO!T149<>\"\",COUNTRY_INFO!$H149=1),COUNTRY_INFO!F149+COUNTRY_INFO!G149,0)","v":0},0,null,0,0]
[{"$f":"IF(AND(INTRO!$E$37=\"Endemic\",INTRO!$E$39=\"Non-endemic\"),IF(COUNTRY_INFO!A150=0,\" \",COUNTRY_INFO!A150),\" \")","v":" "},{"$f":"IF(AND(INTRO!$E$37=\"Endemic\",INTRO!$E$39=\"Non-endemic\"),IF(COUNTRY_INFO!B150=0,\" \",COUNTRY_INFO!B150),\" \")","v":" "},{"$f":"IF(AND(INTRO!$E$37=\"Endemic\",INTRO!$E$39=\"Non-endemic\"),IF(COUNTRY_INFO!C150=0,\" \",COUNTRY_INFO!C150),\" \")","v":" "},{"$f":"IF(COUNTRY_INFO!T150<>\"\",COUNTRY_INFO!P150,0)","v":0},{"$f":"IF(AND(COUNTRY_INFO!T150<>\"\",COUNTRY_INFO!$H150=1),COUNTRY_INFO!F150+COUNTRY_INFO!G150,0)","v":0},0,null,0,0]
[{"$f":"IF(AND(INTRO!$E$37=\"Endemic\",INTRO!$E$39=\"Non-endemic\"),IF(COUNTRY_INFO!A151=0,\" \",COUNTRY_INFO!A151),\" \")","v":" "},{"$f":"IF(AND(INTRO!$E$37=\"Endemic\",INTRO!$E$39=\"Non-endemic\"),IF(COUNTRY_INFO!B151=0,\" \",COUNTRY_INFO!B151),\" \")","v":" "},{"$f":"IF(AND(INTRO!$E$37=\"Endemic\",INTRO!$E$39=\"Non-endemic\"),IF(COUNTRY_INFO!C151=0,\" \",COUNTRY_INFO!C151),\" \")","v":" "},{"$f":"IF(COUNTRY_INFO!T151<>\"\",COUNTRY_INFO!P151,0)","v":0},{"$f":"IF(AND(COUNTRY_INFO!T151<>\"\",COUNTRY_INFO!$H151=1),COUNTRY_INFO!F151+COUNTRY_INFO!G151,0)","v":0},0,null,0,0]
[{"$f":"IF(AND(INTRO!$E$37=\"Endemic\",INTRO!$E$39=\"Non-endemic\"),IF(COUNTRY_INFO!A152=0,\" \",COUNTRY_INFO!A152),\" \")","v":" "},{"$f":"IF(AND(INTRO!$E$37=\"Endemic\",INTRO!$E$39=\"Non-endemic\"),IF(COUNTRY_INFO!B152=0,\" \",COUNTRY_INFO!B152),\" \")","v":" "},{"$f":"IF(AND(INTRO!$E$37=\"Endemic\",INTRO!$E$39=\"Non-endemic\"),IF(COUNTRY_INFO!C152=0,\" \",COUNTRY_INFO!C152),\" \")","v":" "},{"$f":"IF(COUNTRY_INFO!T152<>\"\",COUNTRY_INFO!P152,0)","v":0},{"$f":"IF(AND(COUNTRY_INFO!T152<>\"\",COUNTRY_INFO!$H152=1),COUNTRY_INFO!F152+COUNTRY_INFO!G152,0)","v":0},0,null,0,0]
[{"$f":"IF(AND(INTRO!$E$37=\"Endemic\",INTRO!$E$39=\"Non-endemic\"),IF(COUNTRY_INFO!A153=0,\" \",COUNTRY_INFO!A153),\" \")","v":" "},{"$f":"IF(AND(INTRO!$E$37=\"Endemic\",INTRO!$E$39=\"Non-endemic\"),IF(COUNTRY_INFO!B153=0,\" \",COUNTRY_INFO!B153),\" \")","v":" "},{"$f":"IF(AND(INTRO!$E$37=\"Endemic\",INTRO!$E$39=\"Non-endemic\"),IF(COUNTRY_INFO!C153=0,\" \",COUNTRY_INFO!C153),\" \")","v":" "},{"$f":"IF(COUNTRY_INFO!T153<>\"\",COUNTRY_INFO!P153,0)","v":0},{"$f":"IF(AND(COUNTRY_INFO!T153<>\"\",COUNTRY_INFO!$H153=1),COUNTRY_INFO!F153+COUNTRY_INFO!G153,0)","v":0},0,null,0,0]
[{"$f":"IF(AND(INTRO!$E$37=\"Endemic\",INTRO!$E$39=\"Non-endemic\"),IF(COUNTRY_INFO!A154=0,\" \",COUNTRY_INFO!A154),\" \")","v":" "},{"$f":"IF(AND(INTRO!$E$37=\"Endemic\",INTRO!$E$39=\"Non-endemic\"),IF(COUNTRY_INFO!B154=0,\" \",COUNTRY_INFO!B154),\" \")","v":" "},{"$f":"IF(AND(INTRO!$E$37=\"Endemic\",INTRO!$E$39=\"Non-endemic\"),IF(COUNTRY_INFO!C154=0,\" \",COUNTRY_INFO!C154),\" \")","v":" "},{"$f":"IF(COUNTRY_INFO!T154<>\"\",COUNTRY_INFO!P154,0)","v":0},{"$f":"IF(AND(COUNTRY_INFO!T154<>\"\",COUNTRY_INFO!$H154=1),COUNTRY_INFO!F154+COUNTRY_INFO!G154,0)","v":0},0,null,0,0]

{"sheet":"SUMMARY","index":7,"n_rows":93,"n_cols":8,"rows_kept":93,"cut":false,"hidden":false,"merged":[[97,1,97,7],[76,4,76,5],[75,2,75,3],[73,4,73,5],[74,4,74,5],[75,4,75,5],[73,2,73,3],[74,2,74,3],[92,1,92,7],[77,4,77,5],[87,1,87,7],[91,1,91,7],[86,1,86,7],[84,1,84,2],[84,3,84,7],[83,1,83,2],[77,2,77,3],[63,4,63,6],[64,4,64,6],[65,4,65,6],[66,4,66,6],[76,2,76,3],[0,1,0,7],[1,1,1,7],[2,1,2,5],[3,1,3,7],[4,1,4,7],[6,1,6,7],[5,2,5,5],[68,1,68,7],[57,1,57,7],[56,1,56,7],[25,1,25,7],[21,2,24,5],[30,2,30,3],[30,4,30,5],[30,6,30,7],[42,5,42,6],[43,5,43,6],[44,5,44,6],[58,1,58,7],[45,5,45,6],[40,5,40,6],[41,5,41,6],[9,1,10,1],[9,2,9,5],[9,6,9,7],[49,5,49,6],[82,2,82,7],[83,3,83,7],[50,5,50,6],[46,5,46,6],[47,5,47,6],[48,5,48,6],[62,4,62,6],[53,1,53,7],[59,1,59,7],[54,1,54,7],[55,1,55,7],[81,1,81,7],[61,1,61,7],[79,1,79,7],[80,1,80,7],[69,1,69,7]]}
[]
[null,"Joint request for selected PC medicines v.3.1"]
[]
[null,"This form constitutes an official government request to WHO for the supply of the PC medicines. It can be submitted any time before 15 August of the current year for distribution of medicines during the following year, but at least 6-8 months before the planned PC intervention(s) to allow time for reviewing and approval of the request, placing order, manufacturing PC medicines and shipment to the country."]
[]
[null,"Country",{"$f":"IF(INTRO!$E$33<>0,INTRO!$E$33,\" \")","v":"Uganda"},null,null,null,"Year",{"$f":"IF(INTRO!$E$35<>0,INTRO!$E$35,\" \")","v":2023}]
[]
[null,"Information on PC medicines requested to WHO"]
[]
[null,"PC medicine","Number of tablets",null,null,null,"Total number of bottles"]
[null,null,"Required","In stock","In pipeline","Requested","Required","Requested"]
[null,"Ivermectin",9903734,0,null,{"$f":"IF(C12>(D12+E12),C12-D12-E12, 0)","v":9903734},{"$f":"IF($C12=0,0, IF($B12=\"Albendazole for LF\", IF($C12=ALB_MBD!$I$4,ALB_MBD!$U$4,ROUNDUP($C12/200,0)), IF($B12=\"Albendazole for STH (SAC)\", IF($C12=ALB_MBD!$L$4,ALB_MBD!$X$4,ROUNDUP($C12/200,0)), IF($B12=\"Mebendazole (SAC)\", IF($C12=ALB_MBD!$P$4,ALB_MBD!$AA$4,ROUNDUP($C12/150,0)), IF($B12=\"Diethylcarbamazine citrate\", IF($C12=DEC!$J$4,DEC!$M$4,ROUNDUP($C12/1000,0)), IF($B12=\"Praziquantel (SAC)\", IF($C12=PZQ!$O$4,PZQ!$R$4,ROUNDUP($C12/1000,0)), IF($B12=\"Ivermectin\", IF($C12=IVM!$N$4,IVM!$Q$4,$C12/500+0.49),0)))))))","v":19807.958000000002},{"$f":"IF($F12=0,0,IF(OR($B12=\"Albendazole for LF\",$B12=\"Albendazole for STH (SAC)\"),$G12-ROUNDUP(($E12+$D12)/200,0),IF($B12=\"Ivermectin\",$G12-ROUNDUP(($E12+$D12)/500,0),IF($B12=\"Mebendazole (SAC)\",$G12-ROUNDUP(($E12+$D12)/150,0),$G12-ROUNDUP(($E12+$D12)/1000,0)))))","v":19807.958000000002}]
[null,"Praziquantel (SAC)",14219729.549999999,0,null,14219729.549999999,{"$f":"IF($C13=0,0, IF($B13=\"Albendazole for LF\", IF($C13=ALB_MBD!$I$4,ALB_MBD!$U$4,ROUNDUP($C13/200,0)), IF($B13=\"Albendazole for STH (SAC)\", IF($C13=ALB_MBD!$L$4,ALB_MBD!$X$4,ROUNDUP($C13/200,0)), IF($B13=\"Mebendazole (SAC)\", IF($C13=ALB_MBD!$P$4,ALB_MBD!$AA$4,ROUNDUP($C13/150,0)), IF($B13=\"Diethylcarbamazine citrate\", IF($C13=DEC!$J$4,DEC!$M$4,ROUNDUP($C13/1000,0)), IF($B13=\"Praziquantel (SAC)\", IF($C13=PZQ!$O$4,PZQ!$R$4,ROUNDUP($C13/1000,0)), IF($B13=\"Ivermectin\", IF($C13=IVM!$N$4,IVM!$Q$4,$C13/500+0.49),0)))))))","v":14268},14268]
[null,"Mebendazole (SAC)",27536926,0,null,27536926,{"$f":"IF($C14=0,0, IF($B14=\"Albendazole for LF\", IF($C14=ALB_MBD!$I$4,ALB_MBD!$U$4,ROUNDUP($C14/200,0)), IF($B14=\"Albendazole for STH (SAC)\", IF($C14=ALB_MBD!$L$4,ALB_MBD!$X$4,ROUNDUP($C14/200,0)), IF($B14=\"Mebendazole (SAC)\", IF($C14=ALB_MBD!$P$4,ALB_MBD!$AA$4,ROUNDUP($C14/150,0)), IF($B14=\"Diethylcarbamazine citrate\", IF($C14=DEC!$J$4,DEC!$M$4,ROUNDUP($C14/1000,0)), IF($B14=\"Praziquantel (SAC)\", IF($C14=PZQ!$O$4,PZQ!$R$4,ROUNDUP($C14/1000,0)), IF($B14=\"Ivermectin\", IF($C14=IVM!$N$4,IVM!$Q$4,$C14/500+0.49),0)))))))","v":183648},183648]
[null,null,0,0,null,0,{"$f":"IF($C15=0,0, IF($B15=\"Albendazole for LF\", IF($C15=ALB_MBD!$I$4,ALB_MBD!$U$4,ROUNDUP($C15/200,0)), IF($B15=\"Albendazole for STH (SAC)\", IF($C15=ALB_MBD!$L$4,ALB_MBD!$X$4,ROUNDUP($C15/200,0)), IF($B15=\"Mebendazole (SAC)\", IF($C15=ALB_MBD!$P$4,ALB_MBD!$AA$4,ROUNDUP($C15/150,0)), IF($B15=\"Diethylcarbamazine citrate\", IF($C15=DEC!$J$4,DEC!$M$4,ROUNDUP($C15/1000,0)), IF($B15=\"Praziquantel (SAC)\", IF($C15=PZQ!$O$4,PZQ!$R$4,ROUNDUP($C15/1000,0)), IF($B15=\"Ivermectin\", IF($C15=IVM!$N$4,IVM!$Q$4,$C15/500+0.49),0)))))))","v":0},0]
[null,null,0,0,null,0,{"$f":"IF($C16=0,0, IF($B16=\"Albendazole for LF\", IF($C16=ALB_MBD!$I$4,ALB_MBD!$U$4,ROUNDUP($C16/200,0)), IF($B16=\"Albendazole for STH (SAC)\", IF($C16=ALB_MBD!$L$4,ALB_MBD!$X$4,ROUNDUP($C16/200,0)), IF($B16=\"Mebendazole (SAC)\", IF($C16=ALB_MBD!$P$4,ALB_MBD!$AA$4,ROUNDUP($C16/150,0)), IF($B16=\"Diethylcarbamazine citrate\", IF($C16=DEC!$J$4,DEC!$M$4,ROUNDUP($C16/1000,0)), IF($B16=\"Praziquantel (SAC)\", IF($C16=PZQ!$O$4,PZQ!$R$4,ROUNDUP($C16/1000,0)), IF($B16=\"Ivermectin\", IF($C16=IVM!$N$4,IVM!$Q$4,$C16/500+0.49),0)))))))","v":0},0]
[null,null,0,0,null,0,{"$f":"IF($C17=0,0, IF($B17=\"Albendazole for LF\", IF($C17=ALB_MBD!$I$4,ALB_MBD!$U$4,ROUNDUP($C17/200,0)), IF($B17=\"Albendazole for STH (SAC)\", IF($C17=ALB_MBD!$L$4,ALB_MBD!$X$4,ROUNDUP($C17/200,0)), IF($B17=\"Mebendazole (SAC)\", IF($C17=ALB_MBD!$P$4,ALB_MBD!$AA$4,ROUNDUP($C17/150,0)), IF($B17=\"Diethylcarbamazine citrate\", IF($C17=DEC!$J$4,DEC!$M$4,ROUNDUP($C17/1000,0)), IF($B17=\"Praziquantel (SAC)\", IF($C17=PZQ!$O$4,PZQ!$R$4,ROUNDUP($C17/1000,0)), IF($B17=\"Ivermectin\", IF($C17=IVM!$N$4,IVM!$Q$4,$C17/500+0.49),0)))))))","v":0},0]
[]
[null,"Number of people to be treated with donated medicine ( see User Guide for details )"]
[]
[null,"Disease",null,null,null,null,"Round 1","Round 2"]
[null,"Onchocerciasis","These figures are estimated only for targeted \nage groups to be treated with donated \nmedicines in areas where treatment for specific disease is required",null,null,null,1768524,1768524]
[null,"Schistosomiasis",null,null,null,null,5687891.8199999994," "]
[null,"Soil-transmitted helminthiases",null,null,null,null,13768463,13768463]
[null,"Lymphatic filariasis",null,null,null,null,0," "]
[]
[]
[]
[null,"Information on planned PC interventions"]
[]
[null,"PC medicine","Planned date of the \n1st round of PC",null,"Planned date of the \n2nd round of PC",null,"Date by which the medicine \nshould arrive to the national warehouse"]
[null,"Praziquantel","April",2023,null,null,"January",2023]
[null,"Ivermectin","April",2023,null,null,"January",2023]
[null,"Mebendazole","April",2023,null,null,"January",2023]
[]
[]
[]
[]
[null,"Information on PC medicines for treatment of population not targeted with current donation through WHO"]
[]
[null,"PC medicine","Age group","# of people","# of tablets","Specify source",null,"Status"]
[null,"Mebendazole","PreSAC",{"$f":"ALB_MBD!O4","v":12947842},{"$f":"D42","v":12947842},"None",null,"Required"]
[null,"Praziquantel","Adults",{"$f":"PZQ!K4","v":10027112.600000001},null,"None",null,"Required"]
[]
[]
[]
[]
[]
[]
[]
[]
[]
[null,"Checklist"]
[null,"Submission"]
[null,"What should be submitted?"]
[null,"The supply of the requested medicines should be based on up-to-date epidemiological data, specific usage plans, and capacity for implementation. The following checklist ensures that all necessary forms and information are provided to WHO (in electronic format). "]
[null,"Joint request for selected PC medicines"]
[null,"Joint reporting form"]
[null,"PC epidemiological data reporting form"]
[]
[null,"Availability of funding for implementation in the year for which the medicines are requested"]
[]
[null,"Diseases \ntargeted for implementation","Total treatments","Funding secured for","Source",null,null,"Amount"]
[null,{"$f":"B22","v":"Onchocerciasis"},{"$f":"SUM(G22:H22)","v":3537048},"All","The Carter Center, RTI"]
[null,{"$f":"B23","v":"Schistosomiasis"},{"$f":"SUM(G23:H23)","v":5687891.8199999994},"None","No Partners"]
[null,{"$f":"B24","v":"Soil-transmitted helminthiases"},{"$f":"SUM(G24:H24)","v":27536926},"None"," Child Health Days"]
[null,{"$f":"B25","v":"Lymphatic filariasis"},{"$f":"SUM(G25:H25)","v":0}]
[]
[null,"Who should fill in the form? "]
[null,"National NTD coordinator should compile all required information needed to complete the request form. In the absence of such a coordinator, specific programme managers should coordinate their respective part. The final single request must be approved by the Ministry of Health."]
[]
[null,"Information on person(s) who has filled in the form"]
[]
[null,"Title ","Name",null,"Phone",null,"Email","Date"]
[null,"NTD/PC Coordinator","Alfred Mubangizi",null,"+256-772686842",null,"alfmbngz@yahoo.com","2022-07-01"]
[null,"SCH Programme Manager","Beinaryo Prudence",null,"+256-0789548930",null,"prudenceb13@gmail.com","2022-07-01"]
[null,"ONCHO Programme Manager","David Ogutu",null,"+256-782495847",null,"dogutu@gmail.com","2022-07-01"]
[null,"Data Manager","Tinkitina Benjamin",null,"+256-774556823",null,"tinkitina@gmail.com","2022-07-01"]
[]
[null,"The WHO recommends that all serious adverse events suspected to be associated with use of PC medicines should be reported in accordance with national Pharmacovigilance guidelines. In the absence of a national Pharmacovigilance system, contact the WHO Neglected Tropical Disease department for guidance."]
[null,"The WHO is committed to facilitate PC medicines donation with a free-of-charge supply of a) albendazole, mebendazole and praziquantel to the MoH’s national warehouse; and b) diethylcarbamazine citrate to the entry port/airport of recipient countries."]
[null,"The institution submitting the present request is responsible for a) arranging the offloading of the medicines from the truck and storing it in the national warehouse and subsequent shipment to the final distribution centres; b) for registering the donated medicine, if required, by the relevant national regulatory authorities; and c) for informing about any changes of their PC campaigns (e.g. postpone of the planned MDA date, replacement of NTD coordinator, etc.)."]
[null,null,"I have read and accept WHO Data Sharing Policy"]
[null,"Name and signature of NTD coordinator \nor Ministry of Health representative",null,"Dr. Mubangizi Alfred"]
[null,"Date:",null,"2022-07-01"]
[]
[null,"Please complete information on shipment and consignee in the worksheet SHIPMENT. Any additional details related to this Request should be provided in the \"Additional information\" box in the worksheet SHIPMENT."]
[null,"Please send the national request (signed and in electronic format) to the concerned WR with copy to:"]
[null,"WHO headquarters","PC_JointForms@who.int"]
[null,"WHO Regional Office","Regional Advisor for NTD"]
[null,"Mectizan donation program","Dr Yao Sodahlon, email: ysodahlon@taskforce.org"]
[]
[null,"Please note that your request will be reviewed by an independent panel before approval. The information in this form, joint reporting form and PC epidemiological data reporting form are essential for WHO to ensure efficient usage of medicines. As part of its ongoing monitoring and evaluation activities, and to meet its contractual obligations to donors and other partners, WHO and its appointed agents reserve the right to periodically inspect stocks of the medicines at country level."]

{"sheet":"SHIPMENT","index":8,"n_rows":48,"n_cols":8,"rows_kept":48,"cut":false,"hidden":false,"merged":[[32,2,32,4],[32,5,32,7],[29,2,29,4],[29,5,29,7],[30,2,30,4],[30,5,30,7],[31,2,31,4],[31,5,31,7],[26,2,26,4],[26,5,26,7],[27,2,27,4],[27,5,27,7],[28,2,28,4],[28,5,28,7],[23,2,23,4],[23,5,23,7],[21,5,21,7],[16,5,16,7],[17,2,17,4],[12,2,12,4],[12,5,12,7],[13,2,13,4],[13,5,13,7],[14,2,14,4],[14,5,14,7],[9,2,9,4],[9,5,9,7],[10,2,10,4],[10,5,10,7],[11,2,11,4],[11,5,11,7],[6,1,6,7],[7,2,7,4],[7,5,7,7],[8,2,8,4],[8,5,8,7],[15,5,15,7],[20,2,20,4],[18,2,18,4],[16,2,16,4],[47,1,56,7],[45,1,45,7],[37,1,37,6],[38,1,38,5],[40,1,40,7],[41,1,41,6],[39,1,39,6],[42,1,42,6],[43,1,43,7],[25,2,25,4],[25,5,25,7],[24,1,24,7],[34,1,34,7],[36,1,36,7],[0,1,0,7],[1,1,1,7],[2,1,2,5],[17,5,17,7],[18,5,18,7],[19,2,19,4],[19,5,19,7],[21,2,21,4],[3,2,3,5],[4,1,4,7],[22,2,22,4],[22,5,22,7],[15,2,15,4],[20,5,20,7]]}
[]
[null,"Joint request for selected PC medicines v.3.1"]
[]
[null,"Country",{"$f":"IF(INTRO!$E$33<>0,INTRO!$E$33,\" \")","v":"Uganda"},null,null,null,"Year",{"$f":"IF(INTRO!$E$35<>0,INTRO!$E$35,\" \")","v":2023}]
[]
[null,"Information on shipment and consignee "]
[]
[null,null,"Consignee",null,null,"Delivery point / Final recipient\nif different from the consignee"]
[null,"Name","Fatumbi Bayo",null,null,"Mr. Mosese Kamabale"]
[null,"Department/Unit","WHO/Uganda Office",null,null,"GM"]
[null,"Organization","World Health Organisation",null,null,"National Medical Stores (NMS)"]
[null,"Phone",null,null,null,"+256 414320089"]
[null,"Fax",null,null,null,"+256 414320089"]
[null,"E-mail","fatumbib@who.int",null,null,"nms@nms.go.ug"]
[null,"Mailing address",null,null,null,"Plot 4-12 Nsamizi Road, P.O,Box 16, Entebbe"]
[]
[null,null,"Consignee",null,null,"Delivery point / Final recipient\nif different from the consignee"]
[null,"Name",null,null,null,"Dr, Alfred Mubangizi"]
[null,"Department/Unit",null,null,null,"Assistant Commissioner VB and NTDs"]
[null,"Organization",null,null,null,"Ministry of Health"]
[null,"Phone",null,null,null,"+256 772686842"]
[null,"Fax",null,null,null,"alfmbngz@yahoo.com"]
[null,"E-mail"]
[null,"Mailing address"]
[]
[null,null,"Consignee",null,null,"Delivery point / Final recipient\nif different from the consignee"]
[null,"Name",null,null,null,"Dr, Diana Atwine"]
[null,"Department/Unit",null,null,null,"Permanent Secretary"]
[null,"Organization",null,null,null,"Ministry of Health"]
[null,"Phone",null,null,null,"+256 414 340872"]
[null,"Fax"]
[null,"E-mail",null,null,null,"ps@health.go.ug"]
[null,"Mailing address"]
[]
[]
[null,"Information on import requirements"]
[]
[null,"Is the Import Permit required?",null,null,null,null,null,"Yes"]
[null,"How long does it take to obtain the Import Permit?",null,null,null,null,1,"Weeks"]
[null,"Do you require any documents to be submitted together with the Import Permit application?",null,null,null,null,null,"No"]
[null,"If YES, please specify here"]
[null,"Does the consignee have to get customs clearance before the shipment can proceed?",null,null,null,null,null,"Yes"]
[null,"Is there any additional information may be helpful in ensuring timely clearance and delivery of medicines to your country? ",null,null,null,null,null,"No"]
[null,"If YES, please specify here"]
[]
[null,"Additional information"]
[]
[null,"Please take note that treatments for refugees in Adjumani, Moyo & Lamwo districts estimated at Passive treatments & Refugees 2022 treatment targets = 239,988 x 2 rounds\nRequested Mebebdazole for one round. \n\nNo balance for IVM and PZQ"]

{"sheet":"DATA_POLICY","index":9,"n_rows":39,"n_cols":8,"rows_kept":39,"cut":false,"hidden":true,"merged":[[55,1,55,2],[0,1,0,5],[1,1,1,7],[3,3,3,5],[6,1,6,7],[8,1,12,7],[13,1,16,7],[17,1,21,7],[22,1,25,7],[26,2,36,7],[38,1,45,7]]}
[]
[null,"Joint request for selected PC medicines v.3.1"]
[]
[null,"Country",null,{"$f":"IF(INTRO!$E$33<>0,INTRO!$E$33,\" \")","v":"Uganda"},null,null,"Year",{"$f":"IF(INTRO!$E$35<>0,INTRO!$E$35,\" \")","v":2023}]
[]
[]
[null,"WHO Data Sharing Policy statement"]
[]
[null,"Data are the basis for all sound public health actions and the benefits of data sharing are widely recognized, including scientific and public health benefits. Whenever possible, WHO wishes to promote the sharing of health data, including but not restricted to surveillance and epidemiological data.  "]
[]
[]
[]
[]
[null,{"$f":"\"In this connection, and without prejudice to information sharing and publication pursuant to legally binding instruments, by providing data to WHO, the Ministry of Health of \" & D4 & \":\"","v":"In this connection, and without prejudice to information sharing and publication pursuant to legally binding instruments, by providing data to WHO, the Ministry of Health of Uganda:"}]
[]
[]
[]
[null,"Confirms that all data to be supplied to WHO hereunder have been collected in accordance with applicable national laws, including data protection laws aimed at protecting the confidentiality of identifiable persons;"]
[]
[]
[]
[]
[null,{"$f":"\"Agrees that WHO shall be entitled, subject always to measures to ensure the ethical and secure use of the data, and subject always to an appropriate acknowledgement of \"&D4&\":\"","v":"Agrees that WHO shall be entitled, subject always to measures to ensure the ethical and secure use of the data, and subject always to an appropriate acknowledgement of Uganda:"}]
[]
[]
[]
[null,null,"to publish the data, stripped of any personal identifiers and make the Data available to any interested party on request (to the extent they have not, or not yet, been published by WHO) on terms that allow non-commercial, not-for-profit use of the Data for public health purposes (provided always that publication of the Data shall remain under the control of WHO); \nto use, compile, aggregate, evaluate and analyse the Data and publish and disseminate the results thereof in conjunction with WHO’s work and in accordance with the Organization’s policies and practices."]
[]
[]
[]
[]
[]
[]
[]
[]
[]
[]
[]
[null,{"$f":"CONCATENATE(\"Except where data sharing and publication is required under legally binding instruments (IHR, WHO Nomenclature Regulations 1967, etc.), the Ministry of Health of \", D4,\" may in respect of certain data opt out of (any part of) the above,\" & \" by notifying WHO thereof in writing at the following address, provided that any such notification shall clearly identify the data in question and clearly indicate the scope of the opt-out (in reference to the  above), \" & \"and provided that specific reasons shall be given for the opt out.\")","v":"Except where data sharing and publication is required under legally binding instruments (IHR, WHO Nomenclature Regulations 1967, etc.), the Ministry of Health of Uganda may in respect of certain data opt out of (any part of) the above, by notifying WHO thereof in writing at the following address, provided that any such notification shall clearly identify the data in question and clearly indicate the scope of the opt-out (in reference to the  above), and provided that specific reasons shall be given for the opt out."}]