{"text_format":"1","workbook":"xlsx","n_sheets":8,"sheets":["INTRO","COUNTRY_INFO","DEC","ALB_MBD","PZQ","IVM","SUMMARY","SHIPMENT"],"not_rendered":{"charts":0,"images":3,"macros":1,"external_links":0,"defined_names":6,"comments":8,"pivot_tables":0},"unopened":[],"bounds":{"document_bytes":16777216,"sheet_cells":100000,"rows_first":2000,"rows_last":500,"rows_between":2000,"halvings":0,"cell_chars":16384,"cell_head_chars":4096},"cells_cut":0,"cells_raw":0,"read":"whole","date_system":"1900"}

{"sheet":"INTRO","index":0,"n_rows":50,"n_cols":5,"rows_kept":50,"cut":false,"hidden":false,"merged":[[21,1,21,4],[46,1,46,4],[38,1,38,2],[40,1,40,2],[42,1,42,2],[44,1,44,2],[36,1,36,2],[22,2,23,4],[25,2,26,4],[27,1,27,4],[32,1,32,2],[29,1,29,4],[30,1,30,4],[28,2,28,4],[24,1,24,4],[34,1,34,2],[0,1,0,4],[2,1,2,4],[1,1,1,4],[5,1,5,4],[3,1,3,4],[7,2,7,4],[11,1,11,4],[4,1,4,4],[10,2,10,4],[20,2,20,4],[17,1,17,4],[13,1,13,4],[18,2,18,4],[8,2,8,4],[9,2,9,4],[19,1,19,4],[12,1,12,4],[16,1,16,4],[14,1,14,4],[15,1,15,4]]}
[]
[null,"Joint request for selected PC medicines v.3"]
[]
[null,"As part of global efforts to accelerate expansion of preventive chemotherapy (PC) for control and elimination of lymphatic filariasis, schistosomiasis and soil-transmitted helminthiases, the World Health Organization (WHO) facilitates the supply of albendazole 400 mg tablets (GSK) to national lymphatic filariasis elimination programmes and national soil-transmitted helminth control programmes; diethylcarbamazine citrate 100 mg tablets (Eisai) to national lymphatic filariasis elimination programmes; mebendazole 500 mg tablets (J&J) for national soil-transmitted helminth control programmes; and praziquantel 600 mg tablets (Merck KGaA)  for school-age children to national schistosomiasis control programmes. WHO also collaborates to supply ivermectin 3 mg tablets (Merck) for onchocerciasis and lymphatic filariasis donation programmes.  \nThis Excel-based tool is designed to assist countries in quantifying the number of tablets of relevant PC medicines required to reach the planned target population and districts for the year of request. Output of the tool is a joint request for PC medicines, which can be printed, signed and submitted to WHO to request these medicines."]
[]
[null,"Structure of the application (worksheets):"]
[]
[null,"INTRO","This worksheet includes guides on how to complete the joint request for selected PC medicines and information about the status of PC for endemic diseases in the country."]
[null,"COUNTRY_INFO","This worksheet includes information about administrative structure of the country, population by age group, status of endemicity for each disease, population requiring PC and planned interventions."]
[null,"DEC, ALB_MBD, PZQ and IVM","These worksheets include information about endemic districts targeted for treatment with specified PC medicines, treatment plan, and number of tablets required and requested. "]
[null,"SUMMARY","This worksheet includes summary of number of tablets requested, information about stock, and date for submission of requested medicines. Before generating the report (run macros) please select the medicine for which the report is needed. Follow the same rule to see the number of people to be treated for the specific disease. \nThis worksheet should be printed and submitted as a joint request for selected PC medicines (see the instruction for submission in the SUMMARY worksheet)."]
[]
[null,"Instruction for data entry"]
[]
[null,"Most of the cells in the above-mentioned worksheets include formula that are calculated automatically according to the treatment policy recommended by WHO for each disease.\nSee the link http://www.who.int/neglected_diseases/preventive_chemotherapy/pct_manual/en/index.html"]
[]
[null,"Please enter your data into the cells according to their colour code:"]
[]
[null,null,"White - cell is not protected. Please enter the value of the requested indicator."]
[]
[null,null,"Yellow - cell is protected and includes name of indicator. No data entry required."]
[]
[null,null,"Orange - cell is not protected and includes a drop-down menu. Please select the value from the drop-down list."]
[]
[]
[null,null,"Green - cell is not protected and includes formula. Please change the value only if your data are different from those that are calculated automatically."]
[]
[]
[null,null,"Blue - cell is protected and includes formula. No data entry required."]
[]
[null,"Country data"]
[]
[null,"COUNTRY",null,null,"Uganda"]
[]
[null,"Year for request of the medicine",null,null,2019]
[]
[null,"Is country endemic for lymphatic filariasis (LF)?",null,null,"Endemic"]
[]
[null,"Is country endemic for onchocerciasis (ONCHO)?",null,null,"Endemic"]
[]
[null,"Is country endemic for soil-transmitted helminthiases (STH)?",null,null,"Endemic"]
[]
[null,"Is country endemic for schistosomiasis (SCH)?",null,null,"Endemic"]
[]
[null,"How many administrative units in the country?",null,null,130]
[]
[null,"If demographical data at the second administrative level are not available by age group, please enter the proportion (%) of population by age group in the country. If data are available, please leave these cells blank."]
[null,"1-4 years age","Preschool-age children (PreSAC)",null,0.14199999999999999]
[null,"5-14 years age","School-age children (SAC)",null,0.30199999999999999]
[null,"15 years +","Adults",null,0.52100000000000002]

{"sheet":"COUNTRY_INFO","index":1,"n_rows":138,"n_cols":28,"rows_kept":138,"cut":false,"hidden":false,"merged":[[7,0,7,18],[5,3,5,6],[5,7,5,10],[5,11,5,14],[5,15,5,18],[3,0,3,2],[3,7,3,10],[3,15,3,18],[5,0,5,2],[3,19,3,22],[5,19,5,22]]}
["COUNTRY INFORMATION"]
["Administrative structure, population by age group, status of endemicity and planned interventions"]
[]
["TOTAL",null,null,{"$f":"SUM(D$9:D$1000)","v":40693882},{"$f":"SUM(E$9:E$1000)","v":5778534},{"$f":"SUM(F$9:F$1000)","v":12289550},{"$f":"SUM(G$9:G$1000)","v":21201515},null,null,null,null,{"$f":"SUM(L$9:L$1000)","v":3306283},{"$f":"SUM(M$9:M$1000)","v":2220343},{"$f":"SUM(N$9:N$1000)","v":18068084},{"$f":"SUM(O$9:O$1000)","v":9293703}]
[]
["Country administrative structure",null,null,"Population",null,null,null,"Endemicity",null,null,null,"Population requiring PC",null,null,null,"Number of treatment rounds planned for the year",null,null,null,"Epidemiological surveys planned for the year"]
["Country","Province/State","District","Total","PreSAC","SAC","Adults","LF","Oncho","STH","SCH","LF","Oncho","STH","SCH","LF","Oncho","STH","SCH","LF","Oncho","STH","SCH","IU_ID","IU_NAME"]
[]
[{"$f":"IF(INTRO!$E$33<>0,INTRO!$E$33, \" \")","v":"Uganda"},"NORTHERN","ABIM",125344,{"$f":"IF(INTRO!$E$48=\"\",\"\",ROUND($D9*INTRO!$E$48,0))","v":17799},{"$f":"IF(INTRO!$E$49=\"\",\"\",ROUND($D9*INTRO!$E$49,0))","v":37854},{"$f":"IF(INTRO!$E$50=\"\",\"\",ROUND($D9*INTRO!$E$50,0))","v":65304},99,0,3,0,{"$f":"IF(INTRO!$E$37=\"Endemic\",IF($H9>0,IF($H9=4,\"Unknown\",IF($H9=99,\"Stopped\",$D9)),0),\"Not required\")","v":"Stopped"},0,{"$f":"IF(INTRO!$E$41=\"Endemic\", IF(AND($J9>1,$J9<5), IF($J9=4, \"Unknown\", E9+F9), 0),\"Not required\")","v":55653},0,0,0,2,0,null,null,null,null,49706,"ABIM"]
[{"$f":"IF(INTRO!$E$33<>0,INTRO!$E$33, \" \")","v":"Uganda"},"NORTHERN","ADJUMANI",261508,{"$f":"IF(INTRO!$E$48=\"\",\"\",ROUND($D10*INTRO!$E$48,0))","v":37134},{"$f":"IF(INTRO!$E$49=\"\",\"\",ROUND($D10*INTRO!$E$49,0))","v":78975},{"$f":"IF(INTRO!$E$50=\"\",\"\",ROUND($D10*INTRO!$E$50,0))","v":136246},99,1,3,3,{"$f":"IF(INTRO!$E$37=\"Endemic\",IF($H10>0,IF($H10=4,\"Unknown\",IF($H10=99,\"Stopped\",$D10)),0),\"Not required\")","v":"Stopped"},29447,{"$f":"IF(INTRO!$E$41=\"Endemic\", IF(AND($J10>1,$J10<5), IF($J10=4, \"Unknown\", E10+F10), 0),\"Not required\")","v":116109},60141,0,2,2,1,null,null,null,null,49707,"ADJUMANI"]
[{"$f":"IF(INTRO!$E$33<>0,INTRO!$E$33, \" \")","v":"Uganda"},"NORTHERN","AGAGO",264458,{"$f":"IF(INTRO!$E$48=\"\",\"\",ROUND($D11*INTRO!$E$48,0))","v":37553},{"$f":"IF(INTRO!$E$49=\"\",\"\",ROUND($D11*INTRO!$E$49,0))","v":79866},{"$f":"IF(INTRO!$E$50=\"\",\"\",ROUND($D11*INTRO!$E$50,0))","v":137783},99,0,3,3,{"$f":"IF(INTRO!$E$37=\"Endemic\",IF($H11>0,IF($H11=4,\"Unknown\",IF($H11=99,\"Stopped\",$D11)),0),\"Not required\")","v":"Stopped"},0,{"$f":"IF(INTRO!$E$41=\"Endemic\", IF(AND($J11>1,$J11<5), IF($J11=4, \"Unknown\", E11+F11), 0),\"Not required\")","v":117419},264458,0,0,2,1,null,null,null,null,49713,"AGAGO"]
[{"$f":"IF(INTRO!$E$33<>0,INTRO!$E$33, \" \")","v":"Uganda"},"NORTHERN","ALEBTONG",264166,{"$f":"IF(INTRO!$E$48=\"\",\"\",ROUND($D12*INTRO!$E$48,0))","v":37512},{"$f":"IF(INTRO!$E$49=\"\",\"\",ROUND($D12*INTRO!$E$49,0))","v":79778},{"$f":"IF(INTRO!$E$50=\"\",\"\",ROUND($D12*INTRO!$E$50,0))","v":137630},99,0,3,2,{"$f":"IF(INTRO!$E$37=\"Endemic\",IF($H12>0,IF($H12=4,\"Unknown\",IF($H12=99,\"Stopped\",$D12)),0),\"Not required\")","v":"Stopped"},0,{"$f":"IF(INTRO!$E$41=\"Endemic\", IF(AND($J12>1,$J12<5), IF($J12=4, \"Unknown\", E12+F12), 0),\"Not required\")","v":117290},122836,0,0,2,1,null,null,null,null,49714,"ALEBTONG"]
[{"$f":"IF(INTRO!$E$33<>0,INTRO!$E$33, \" \")","v":"Uganda"},"NORTHERN","AMOLATAR",170854,{"$f":"IF(INTRO!$E$48=\"\",\"\",ROUND($D13*INTRO!$E$48,0))","v":24261},{"$f":"IF(INTRO!$E$49=\"\",\"\",ROUND($D13*INTRO!$E$49,0))","v":51598},{"$f":"IF(INTRO!$E$50=\"\",\"\",ROUND($D13*INTRO!$E$50,0))","v":89015},99,0,3,3,{"$f":"IF(INTRO!$E$37=\"Endemic\",IF($H13>0,IF($H13=4,\"Unknown\",IF($H13=99,\"Stopped\",$D13)),0),\"Not required\")","v":"Stopped"},0,{"$f":"IF(INTRO!$E$41=\"Endemic\", IF(AND($J13>1,$J13<5), IF($J13=4, \"Unknown\", E13+F13), 0),\"Not required\")","v":75859},170854,0,0,2,1,null,null,null,null,49708,"AMOLATAR"]
[{"$f":"IF(INTRO!$E$33<>0,INTRO!$E$33, \" \")","v":"Uganda"},"NORTHERN","AMUDAT",122792,{"$f":"IF(INTRO!$E$48=\"\",\"\",ROUND($D14*INTRO!$E$48,0))","v":17436},{"$f":"IF(INTRO!$E$49=\"\",\"\",ROUND($D14*INTRO!$E$49,0))","v":37083},{"$f":"IF(INTRO!$E$50=\"\",\"\",ROUND($D14*INTRO!$E$50,0))","v":63975},99,0,3,0,{"$f":"IF(INTRO!$E$37=\"Endemic\",IF($H14>0,IF($H14=4,\"Unknown\",IF($H14=99,\"Stopped\",$D14)),0),\"Not required\")","v":"Stopped"},0,{"$f":"IF(INTRO!$E$41=\"Endemic\", IF(AND($J14>1,$J14<5), IF($J14=4, \"Unknown\", E14+F14), 0),\"Not required\")","v":54519},null,0,0,2,0,null,null,null,null,49715,"AMUDAT"]
[{"$f":"IF(INTRO!$E$33<>0,INTRO!$E$33, \" \")","v":"Uganda"},"EASTERN","AMURIA",314537,{"$f":"IF(INTRO!$E$48=\"\",\"\",ROUND($D15*INTRO!$E$48,0))","v":44664},{"$f":"IF(INTRO!$E$49=\"\",\"\",ROUND($D15*INTRO!$E$49,0))","v":94990},{"$f":"IF(INTRO!$E$50=\"\",\"\",ROUND($D15*INTRO!$E$50,0))","v":163874},99,0,3,0,{"$f":"IF(INTRO!$E$37=\"Endemic\",IF($H15>0,IF($H15=4,\"Unknown\",IF($H15=99,\"Stopped\",$D15)),0),\"Not required\")","v":"Stopped"},0,{"$f":"IF(INTRO!$E$41=\"Endemic\", IF(AND($J15>1,$J15<5), IF($J15=4, \"Unknown\", E15+F15), 0),\"Not required\")","v":139654},null,0,0,2,0,null,null,null,null,49709,"AMURIA"]
[{"$f":"IF(INTRO!$E$33<>0,INTRO!$E$33, \" \")","v":"Uganda"},"NORTHERN","AMURU",223249,{"$f":"IF(INTRO!$E$48=\"\",\"\",ROUND($D16*INTRO!$E$48,0))","v":31701},{"$f":"IF(INTRO!$E$49=\"\",\"\",ROUND($D16*INTRO!$E$49,0))","v":67421},{"$f":"IF(INTRO!$E$50=\"\",\"\",ROUND($D16*INTRO!$E$50,0))","v":116313},99,99,3,3,{"$f":"IF(INTRO!$E$37=\"Endemic\",IF($H16>0,IF($H16=4,\"Unknown\",IF($H16=99,\"Stopped\",$D16)),0),\"Not required\")","v":"Stopped"},"Stopped",{"$f":"IF(INTRO!$E$41=\"Endemic\", IF(AND($J16>1,$J16<5), IF($J16=4, \"Unknown\", E16+F16), 0),\"Not required\")","v":99122},223249,0,0,2,1,null,null,null,null,49710,"AMURU"]
[{"$f":"IF(INTRO!$E$33<>0,INTRO!$E$33, \" \")","v":"Uganda"},"NORTHERN","APAC",427961,{"$f":"IF(INTRO!$E$48=\"\",\"\",ROUND($D17*INTRO!$E$48,0))","v":60770},{"$f":"IF(INTRO!$E$49=\"\",\"\",ROUND($D17*INTRO!$E$49,0))","v":129244},{"$f":"IF(INTRO!$E$50=\"\",\"\",ROUND($D17*INTRO!$E$50,0))","v":222968},99,0,3,3,{"$f":"IF(INTRO!$E$37=\"Endemic\",IF($H17>0,IF($H17=4,\"Unknown\",IF($H17=99,\"Stopped\",$D17)),0),\"Not required\")","v":"Stopped"},0,{"$f":"IF(INTRO!$E$41=\"Endemic\", IF(AND($J17>1,$J17<5), IF($J17=4, \"Unknown\", E17+F17), 0),\"Not required\")","v":190014},302129,0,0,2,1,null,null,null,null,49711,"APAC"]
[{"$f":"IF(INTRO!$E$33<>0,INTRO!$E$33, \" \")","v":"Uganda"},"NORTHERN","ARUA",907963,{"$f":"IF(INTRO!$E$48=\"\",\"\",ROUND($D18*INTRO!$E$48,0))","v":128931},{"$f":"IF(INTRO!$E$49=\"\",\"\",ROUND($D18*INTRO!$E$49,0))","v":274205},{"$f":"IF(INTRO!$E$50=\"\",\"\",ROUND($D18*INTRO!$E$50,0))","v":473049},1,1,3,2,{"$f":"IF(INTRO!$E$37=\"Endemic\",IF($H18>0,IF($H18=4,\"Unknown\",IF($H18=99,\"Stopped\",$D18)),0),\"Not required\")","v":907963},191883,{"$f":"IF(INTRO!$E$41=\"Endemic\", IF(AND($J18>1,$J18<5), IF($J18=4, \"Unknown\", E18+F18), 0),\"Not required\")","v":403136},907963,1,2,2,1,null,null,null,null,49712,"ARUA"]
[{"$f":"IF(INTRO!$E$33<>0,INTRO!$E$33, \" \")","v":"Uganda"},"EASTERN","BUDAKA",241012,{"$f":"IF(INTRO!$E$48=\"\",\"\",ROUND($D19*INTRO!$E$48,0))","v":34224},{"$f":"IF(INTRO!$E$49=\"\",\"\",ROUND($D19*INTRO!$E$49,0))","v":72786},{"$f":"IF(INTRO!$E$50=\"\",\"\",ROUND($D19*INTRO!$E$50,0))","v":125567},99,0,3,1,{"$f":"IF(INTRO!$E$37=\"Endemic\",IF($H19>0,IF($H19=4,\"Unknown\",IF($H19=99,\"Stopped\",$D19)),0),\"Not required\")","v":"Stopped"},0,{"$f":"IF(INTRO!$E$41=\"Endemic\", IF(AND($J19>1,$J19<5), IF($J19=4, \"Unknown\", E19+F19), 0),\"Not required\")","v":107010},34176,0,0,2,1,null,null,null,null,49716,"BUDAKA"]
[{"$f":"IF(INTRO!$E$33<>0,INTRO!$E$33, \" \")","v":"Uganda"},"EASTERN","BUDUDA",244003,{"$f":"IF(INTRO!$E$48=\"\",\"\",ROUND($D20*INTRO!$E$48,0))","v":34648},{"$f":"IF(INTRO!$E$49=\"\",\"\",ROUND($D20*INTRO!$E$49,0))","v":73689},{"$f":"IF(INTRO!$E$50=\"\",\"\",ROUND($D20*INTRO!$E$50,0))","v":127126},0,99,3,0,{"$f":"IF(INTRO!$E$37=\"Endemic\",IF($H20>0,IF($H20=4,\"Unknown\",IF($H20=99,\"Stopped\",$D20)),0),\"Not required\")","v":0},"Stopped",{"$f":"IF(INTRO!$E$41=\"Endemic\", IF(AND($J20>1,$J20<5), IF($J20=4, \"Unknown\", E20+F20), 0),\"Not required\")","v":108337},null,0,0,2,0,null,null,null,null,49717,"BUDUDA"]
[{"$f":"IF(INTRO!$E$33<>0,INTRO!$E$33, \" \")","v":"Uganda"},"EASTERN","BUGIRI",444548,{"$f":"IF(INTRO!$E$48=\"\",\"\",ROUND($D21*INTRO!$E$48,0))","v":63126},{"$f":"IF(INTRO!$E$49=\"\",\"\",ROUND($D21*INTRO!$E$49,0))","v":134253},{"$f":"IF(INTRO!$E$50=\"\",\"\",ROUND($D21*INTRO!$E$50,0))","v":231610},1,0,3,2,{"$f":"IF(INTRO!$E$37=\"Endemic\",IF($H21>0,IF($H21=4,\"Unknown\",IF($H21=99,\"Stopped\",$D21)),0),\"Not required\")","v":444548},0,{"$f":"IF(INTRO!$E$41=\"Endemic\", IF(AND($J21>1,$J21<5), IF($J21=4, \"Unknown\", E21+F21), 0),\"Not required\")","v":197379},100052,1,0,2,1,null,null,null,null,49718,"BUGIRI"]
[{"$f":"IF(INTRO!$E$33<>0,INTRO!$E$33, \" \")","v":"Uganda"},"WESTERN","BUHWEJU",140153,{"$f":"IF(INTRO!$E$48=\"\",\"\",ROUND($D22*INTRO!$E$48,0))","v":19902},{"$f":"IF(INTRO!$E$49=\"\",\"\",ROUND($D22*INTRO!$E$49,0))","v":42326},{"$f":"IF(INTRO!$E$50=\"\",\"\",ROUND($D22*INTRO!$E$50,0))","v":73020},0,99,3,0,{"$f":"IF(INTRO!$E$37=\"Endemic\",IF($H22>0,IF($H22=4,\"Unknown\",IF($H22=99,\"Stopped\",$D22)),0),\"Not required\")","v":0},"Stopped",{"$f":"IF(INTRO!$E$41=\"Endemic\", IF(AND($J22>1,$J22<5), IF($J22=4, \"Unknown\", E22+F22), 0),\"Not required\")","v":62228},null,0,0,2,0,null,null,null,null,49724,"BUHWEJU"]
[{"$f":"IF(INTRO!$E$33<>0,INTRO!$E$33, \" \")","v":"Uganda"},"CENTRAL","BUIKWE",490822,{"$f":"IF(INTRO!$E$48=\"\",\"\",ROUND($D23*INTRO!$E$48,0))","v":69697},{"$f":"IF(INTRO!$E$49=\"\",\"\",ROUND($D23*INTRO!$E$49,0))","v":148228},{"$f":"IF(INTRO!$E$50=\"\",\"\",ROUND($D23*INTRO!$E$50,0))","v":255718},0,0,3,2,{"$f":"IF(INTRO!$E$37=\"Endemic\",IF($H23>0,IF($H23=4,\"Unknown\",IF($H23=99,\"Stopped\",$D23)),0),\"Not required\")","v":0},0,{"$f":"IF(INTRO!$E$41=\"Endemic\", IF(AND($J23>1,$J23<5), IF($J23=4, \"Unknown\", E23+F23), 0),\"Not required\")","v":217925},182170,0,0,2,1,null,null,null,null,49725,"BUIKWE"]
[{"$f":"IF(INTRO!$E$33<>0,INTRO!$E$33, \" \")","v":"Uganda"},"EASTERN","BUKEDEA",236372,{"$f":"IF(INTRO!$E$48=\"\",\"\",ROUND($D24*INTRO!$E$48,0))","v":33565},{"$f":"IF(INTRO!$E$49=\"\",\"\",ROUND($D24*INTRO!$E$49,0))","v":71384},{"$f":"IF(INTRO!$E$50=\"\",\"\",ROUND($D24*INTRO!$E$50,0))","v":123150},99,0,3,1,{"$f":"IF(INTRO!$E$37=\"Endemic\",IF($H24>0,IF($H24=4,\"Unknown\",IF($H24=99,\"Stopped\",$D24)),0),\"Not required\")","v":"Stopped"},0,{"$f":"IF(INTRO!$E$41=\"Endemic\", IF(AND($J24>1,$J24<5), IF($J24=4, \"Unknown\", E24+F24), 0),\"Not required\")","v":104949},71621,0,0,2,1,null,null,null,null,49719,"BUKEDEA"]
[{"$f":"IF(INTRO!$E$33<>0,INTRO!$E$33, \" \")","v":"Uganda"},"CENTRAL","BUKOMANSIMBI",175786,{"$f":"IF(INTRO!$E$48=\"\",\"\",ROUND($D25*INTRO!$E$48,0))","v":24962},{"$f":"IF(INTRO!$E$49=\"\",\"\",ROUND($D25*INTRO!$E$49,0))","v":53087},{"$f":"IF(INTRO!$E$50=\"\",\"\",ROUND($D25*INTRO!$E$50,0))","v":91585},0,0,3,0,{"$f":"IF(INTRO!$E$37=\"Endemic\",IF($H25>0,IF($H25=4,\"Unknown\",IF($H25=99,\"Stopped\",$D25)),0),\"Not required\")","v":0},0,{"$f":"IF(INTRO!$E$41=\"Endemic\", IF(AND($J25>1,$J25<5), IF($J25=4, \"Unknown\", E25+F25), 0),\"Not required\")","v":78049},null,0,0,2,0,null,null,null,null,49726,"BUKOMANSIMBI"]
[{"$f":"IF(INTRO!$E$33<>0,INTRO!$E$33, \" \")","v":"Uganda"},"EASTERN","BUKWO",103739,{"$f":"IF(INTRO!$E$48=\"\",\"\",ROUND($D26*INTRO!$E$48,0))","v":14731},{"$f":"IF(INTRO!$E$49=\"\",\"\",ROUND($D26*INTRO!$E$49,0))","v":31329},{"$f":"IF(INTRO!$E$50=\"\",\"\",ROUND($D26*INTRO!$E$50,0))","v":54048},0,0,3,0,{"$f":"IF(INTRO!$E$37=\"Endemic\",IF($H26>0,IF($H26=4,\"Unknown\",IF($H26=99,\"Stopped\",$D26)),0),\"Not required\")","v":0},0,{"$f":"IF(INTRO!$E$41=\"Endemic\", IF(AND($J26>1,$J26<5), IF($J26=4, \"Unknown\", E26+F26), 0),\"Not required\")","v":46060},null,0,0,2,0,null,null,null,null,49727,"BUKWO"]
[{"$f":"IF(INTRO!$E$33<>0,INTRO!$E$33, \" \")","v":"Uganda"},"EASTERN","BULAMBULI",202598,{"$f":"IF(INTRO!$E$48=\"\",\"\",ROUND($D27*INTRO!$E$48,0))","v":28769},{"$f":"IF(INTRO!$E$49=\"\",\"\",ROUND($D27*INTRO!$E$49,0))","v":61185},{"$f":"IF(INTRO!$E$50=\"\",\"\",ROUND($D27*INTRO!$E$50,0))","v":105554},0,0,3,1,{"$f":"IF(INTRO!$E$37=\"Endemic\",IF($H27>0,IF($H27=4,\"Unknown\",IF($H27=99,\"Stopped\",$D27)),0),\"Not required\")","v":0},0,{"$f":"IF(INTRO!$E$41=\"Endemic\", IF(AND($J27>1,$J27<5), IF($J27=4, \"Unknown\", E27+F27), 0),\"Not required\")","v":89954},8686,0,0,2,1,null,null,null,null,49728,"BULAMBULI"]
[{"$f":"IF(INTRO!$E$33<>0,INTRO!$E$33, \" \")","v":"Uganda"},"WESTERN","BULIISA",141859,{"$f":"IF(INTRO!$E$48=\"\",\"\",ROUND($D28*INTRO!$E$48,0))","v":20144},{"$f":"IF(INTRO!$E$49=\"\",\"\",ROUND($D28*INTRO!$E$49,0))","v":42841},{"$f":"IF(INTRO!$E$50=\"\",\"\",ROUND($D28*INTRO!$E$50,0))","v":73909},0,1,3,3,{"$f":"IF(INTRO!$E$37=\"Endemic\",IF($H28>0,IF($H28=4,\"Unknown\",IF($H28=99,\"Stopped\",$D28)),0),\"Not required\")","v":0},35407,{"$f":"IF(INTRO!$E$41=\"Endemic\", IF(AND($J28>1,$J28<5), IF($J28=4, \"Unknown\", E28+F28), 0),\"Not required\")","v":62985},141859,0,2,2,1,null,null,null,null,49720,"BULIISA"]
[{"$f":"IF(INTRO!$E$33<>0,INTRO!$E$33, \" \")","v":"Uganda"},"WESTERN","BUNDIBUGYO",260505,{"$f":"IF(INTRO!$E$48=\"\",\"\",ROUND($D29*INTRO!$E$48,0))","v":36992},{"$f":"IF(INTRO!$E$49=\"\",\"\",ROUND($D29*INTRO!$E$49,0))","v":78673},{"$f":"IF(INTRO!$E$50=\"\",\"\",ROUND($D29*INTRO!$E$50,0))","v":135723},99,0,3,0,{"$f":"IF(INTRO!$E$37=\"Endemic\",IF($H29>0,IF($H29=4,\"Unknown\",IF($H29=99,\"Stopped\",$D29)),0),\"Not required\")","v":"Stopped"},0,{"$f":"IF(INTRO!$E$41=\"Endemic\", IF(AND($J29>1,$J29<5), IF($J29=4, \"Unknown\", E29+F29), 0),\"Not required\")","v":115665},null,0,0,2,0,null,null,null,null,49721,"BUNDIBUGYO"]
[{"$f":"IF(INTRO!$E$33<>0,INTRO!$E$33, \" \")","v":"Uganda"},"Western","Bunyangabu",217545,{"$f":"IF(INTRO!$E$48=\"\",\"\",ROUND($D30*INTRO!$E$48,0))","v":30891},{"$f":"IF(INTRO!$E$49=\"\",\"\",ROUND($D30*INTRO!$E$49,0))","v":65699},{"$f":"IF(INTRO!$E$50=\"\",\"\",ROUND($D30*INTRO!$E$50,0))","v":113341},0,99,3,3,{"$f":"IF(INTRO!$E$37=\"Endemic\",IF($H30>0,IF($H30=4,\"Unknown\",IF($H30=99,\"Stopped\",$D30)),0),\"Not required\")","v":0},"Stopped",{"$f":"IF(INTRO!$E$41=\"Endemic\", IF(AND($J30>1,$J30<5), IF($J30=4, \"Unknown\", E30+F30), 0),\"Not required\")","v":96590},33427,0,0,2,1,null,null,null,null,49828,"BUNYANGABU"]
[{"$f":"IF(INTRO!$E$33<>0,INTRO!$E$33, \" \")","v":"Uganda"},"WESTERN","BUSHENYI",272177,{"$f":"IF(INTRO!$E$48=\"\",\"\",ROUND($D31*INTRO!$E$48,0))","v":38649},{"$f":"IF(INTRO!$E$49=\"\",\"\",ROUND($D31*INTRO!$E$49,0))","v":82197},{"$f":"IF(INTRO!$E$50=\"\",\"\",ROUND($D31*INTRO!$E$50,0))","v":141804},0,99,3,0,{"$f":"IF(INTRO!$E$37=\"Endemic\",IF($H31>0,IF($H31=4,\"Unknown\",IF($H31=99,\"Stopped\",$D31)),0),\"Not required\")","v":0},"Stopped",{"$f":"IF(INTRO!$E$41=\"Endemic\", IF(AND($J31>1,$J31<5), IF($J31=4, \"Unknown\", E31+F31), 0),\"Not required\")","v":120846},null,0,0,2,0,null,null,null,null,49722,"BUSHENYI"]
[{"$f":"IF(INTRO!$E$33<>0,INTRO!$E$33, \" \")","v":"Uganda"},"EASTERN","BUSIA",375760,{"$f":"IF(INTRO!$E$48=\"\",\"\",ROUND($D32*INTRO!$E$48,0))","v":53358},{"$f":"IF(INTRO!$E$49=\"\",\"\",ROUND($D32*INTRO!$E$49,0))","v":113480},{"$f":"IF(INTRO!$E$50=\"\",\"\",ROUND($D32*INTRO!$E$50,0))","v":195771},0,0,3,3,{"$f":"IF(INTRO!$E$37=\"Endemic\",IF($H32>0,IF($H32=4,\"Unknown\",IF($H32=99,\"Stopped\",$D32)),0),\"Not required\")","v":0},0,{"$f":"IF(INTRO!$E$41=\"Endemic\", IF(AND($J32>1,$J32<5), IF($J32=4, \"Unknown\", E32+F32), 0),\"Not required\")","v":166838},141039,0,0,2,1,null,null,null,null,49723,"BUSIA"]
[{"$f":"IF(INTRO!$E$33<>0,INTRO!$E$33, \" \")","v":"Uganda"},"EASTERN","BUTALEJA",283453,{"$f":"IF(INTRO!$E$48=\"\",\"\",ROUND($D33*INTRO!$E$48,0))","v":40250},{"$f":"IF(INTRO!$E$49=\"\",\"\",ROUND($D33*INTRO!$E$49,0))","v":85603},{"$f":"IF(INTRO!$E$50=\"\",\"\",ROUND($D33*INTRO!$E$50,0))","v":147679},99,0,3,1,{"$f":"IF(INTRO!$E$37=\"Endemic\",IF($H33>0,IF($H33=4,\"Unknown\",IF($H33=99,\"Stopped\",$D33)),0),\"Not required\")","v":"Stopped"},0,{"$f":"IF(INTRO!$E$41=\"Endemic\", IF(AND($J33>1,$J33<5), IF($J33=4, \"Unknown\", E33+F33), 0),\"Not required\")","v":125853},24997,0,0,2,1,null,null,null,null,49729,"BUTALEJA"]
[{"$f":"IF(INTRO!$E$33<>0,INTRO!$E$33, \" \")","v":"Uganda"},"CENTRAL","BUTAMBALA",117071,{"$f":"IF(INTRO!$E$48=\"\",\"\",ROUND($D34*INTRO!$E$48,0))","v":16624},{"$f":"IF(INTRO!$E$49=\"\",\"\",ROUND($D34*INTRO!$E$49,0))","v":35355},{"$f":"IF(INTRO!$E$50=\"\",\"\",ROUND($D34*INTRO!$E$50,0))","v":60994},0,0,3,0,{"$f":"IF(INTRO!$E$37=\"Endemic\",IF($H34>0,IF($H34=4,\"Unknown\",IF($H34=99,\"Stopped\",$D34)),0),\"Not required\")","v":0},0,{"$f":"IF(INTRO!$E$41=\"Endemic\", IF(AND($J34>1,$J34<5), IF($J34=4, \"Unknown\", E34+F34), 0),\"Not required\")","v":51979},null,0,0,2,0,null,null,null,null,49730,"BUTAMBALA"]
[{"$f":"IF(INTRO!$E$33<>0,INTRO!$E$33, \" \")","v":"Uganda"},"Eastern","BUTEBO",168307,{"$f":"IF(INTRO!$E$48=\"\",\"\",ROUND($D35*INTRO!$E$48,0))","v":23900},{"$f":"IF(INTRO!$E$49=\"\",\"\",ROUND($D35*INTRO!$E$49,0))","v":50829},{"$f":"IF(INTRO!$E$50=\"\",\"\",ROUND($D35*INTRO!$E$50,0))","v":87688},99,0,3,1,{"$f":"IF(INTRO!$E$37=\"Endemic\",IF($H35>0,IF($H35=4,\"Unknown\",IF($H35=99,\"Stopped\",$D35)),0),\"Not required\")","v":"Stopped"},0,{"$f":"IF(INTRO!$E$41=\"Endemic\", IF(AND($J35>1,$J35<5), IF($J35=4, \"Unknown\", E35+F35), 0),\"Not required\")","v":74729},30165,0,0,2,1,null,null,null,null,49824,"BUTEBO"]
[{"$f":"IF(INTRO!$E$33<>0,INTRO!$E$33, \" \")","v":"Uganda"},"CENTRAL","BUVUMA",104359,{"$f":"IF(INTRO!$E$48=\"\",\"\",ROUND($D36*INTRO!$E$48,0))","v":14819},{"$f":"IF(INTRO!$E$49=\"\",\"\",ROUND($D36*INTRO!$E$49,0))","v":31516},{"$f":"IF(INTRO!$E$50=\"\",\"\",ROUND($D36*INTRO!$E$50,0))","v":54371},0,0,3,3,{"$f":"IF(INTRO!$E$37=\"Endemic\",IF($H36>0,IF($H36=4,\"Unknown\",IF($H36=99,\"Stopped\",$D36)),0),\"Not required\")","v":0},0,{"$f":"IF(INTRO!$E$41=\"Endemic\", IF(AND($J36>1,$J36<5), IF($J36=4, \"Unknown\", E36+F36), 0),\"Not required\")","v":46335},104359,0,0,2,1,null,null,null,null,49731,"BUVUMA"]
[{"$f":"IF(INTRO!$E$33<>0,INTRO!$E$33, \" \")","v":"Uganda"},"EASTERN","BUYENDE",375069,{"$f":"IF(INTRO!$E$48=\"\",\"\",ROUND($D37*INTRO!$E$48,0))","v":53260},{"$f":"IF(INTRO!$E$49=\"\",\"\",ROUND($D37*INTRO!$E$49,0))","v":113271},{"$f":"IF(INTRO!$E$50=\"\",\"\",ROUND($D37*INTRO!$E$50,0))","v":195411},99,0,3,3,{"$f":"IF(INTRO!$E$37=\"Endemic\",IF($H37>0,IF($H37=4,\"Unknown\",IF($H37=99,\"Stopped\",$D37)),0),\"Not required\")","v":"Stopped"},0,{"$f":"IF(INTRO!$E$41=\"Endemic\", IF(AND($J37>1,$J37<5), IF($J37=4, \"Unknown\", E37+F37), 0),\"Not required\")","v":166531},341499,0,0,2,1,null,null,null,null,49732,"BUYENDE"]
[{"$f":"IF(INTRO!$E$33<>0,INTRO!$E$33, \" \")","v":"Uganda"},"NORTHERN","DOKOLO",212564,{"$f":"IF(INTRO!$E$48=\"\",\"\",ROUND($D38*INTRO!$E$48,0))","v":30184},{"$f":"IF(INTRO!$E$49=\"\",\"\",ROUND($D38*INTRO!$E$49,0))","v":64194},{"$f":"IF(INTRO!$E$50=\"\",\"\",ROUND($D38*INTRO!$E$50,0))","v":110746},99,0,3,1,{"$f":"IF(INTRO!$E$37=\"Endemic\",IF($H38>0,IF($H38=4,\"Unknown\",IF($H38=99,\"Stopped\",$D38)),0),\"Not required\")","v":"Stopped"},0,{"$f":"IF(INTRO!$E$41=\"Endemic\", IF(AND($J38>1,$J38<5), IF($J38=4, \"Unknown\", E38+F38), 0),\"Not required\")","v":94378},34432,0,0,2,1,null,null,null,null,49733,"DOKOLO"]
[{"$f":"IF(INTRO!$E$33<>0,INTRO!$E$33, \" \")","v":"Uganda"},"CENTRAL","GOMBA",185664,{"$f":"IF(INTRO!$E$48=\"\",\"\",ROUND($D39*INTRO!$E$48,0))","v":26364},{"$f":"IF(INTRO!$E$49=\"\",\"\",ROUND($D39*INTRO!$E$49,0))","v":56071},{"$f":"IF(INTRO!$E$50=\"\",\"\",ROUND($D39*INTRO!$E$50,0))","v":96731},0,0,3,3,{"$f":"IF(INTRO!$E$37=\"Endemic\",IF($H39>0,IF($H39=4,\"Unknown\",IF($H39=99,\"Stopped\",$D39)),0),\"Not required\")","v":0},0,{"$f":"IF(INTRO!$E$41=\"Endemic\", IF(AND($J39>1,$J39<5), IF($J39=4, \"Unknown\", E39+F39), 0),\"Not required\")","v":82435},26767,0,0,2,1,null,null,null,null,49735,"GOMBA"]
[{"$f":"IF(INTRO!$E$33<>0,INTRO!$E$33, \" \")","v":"Uganda"},"NORTHERN","GULU",319976,{"$f":"IF(INTRO!$E$48=\"\",\"\",ROUND($D40*INTRO!$E$48,0))","v":45437},{"$f":"IF(INTRO!$E$49=\"\",\"\",ROUND($D40*INTRO!$E$49,0))","v":96633},{"$f":"IF(INTRO!$E$50=\"\",\"\",ROUND($D40*INTRO!$E$50,0))","v":166707},1,1,3,2,{"$f":"IF(INTRO!$E$37=\"Endemic\",IF($H40>0,IF($H40=4,\"Unknown\",IF($H40=99,\"Stopped\",$D40)),0),\"Not required\")","v":319976},154490,{"$f":"IF(INTRO!$E$41=\"Endemic\", IF(AND($J40>1,$J40<5), IF($J40=4, \"Unknown\", E40+F40), 0),\"Not required\")","v":142070},154490,1,2,2,1,null,null,null,null,49734,"GULU"]
[{"$f":"IF(INTRO!$E$33<>0,INTRO!$E$33, \" \")","v":"Uganda"},"WESTERN","HOIMA",665216,{"$f":"IF(INTRO!$E$48=\"\",\"\",ROUND($D41*INTRO!$E$48,0))","v":94461},{"$f":"IF(INTRO!$E$49=\"\",\"\",ROUND($D41*INTRO!$E$49,0))","v":200895},{"$f":"IF(INTRO!$E$50=\"\",\"\",ROUND($D41*INTRO!$E$50,0))","v":346578},0,1,3,3,{"$f":"IF(INTRO!$E$37=\"Endemic\",IF($H41>0,IF($H41=4,\"Unknown\",IF($H41=99,\"Stopped\",$D41)),0),\"Not required\")","v":0},84994,{"$f":"IF(INTRO!$E$41=\"Endemic\", IF(AND($J41>1,$J41<5), IF($J41=4, \"Unknown\", E41+F41), 0),\"Not required\")","v":295356},219738,0,2,2,1,null,null,null,null,49736,"HOIMA"]
[{"$f":"IF(INTRO!$E$33<>0,INTRO!$E$33, \" \")","v":"Uganda"},"WESTERN","IBANDA",289806,{"$f":"IF(INTRO!$E$48=\"\",\"\",ROUND($D42*INTRO!$E$48,0))","v":41152},{"$f":"IF(INTRO!$E$49=\"\",\"\",ROUND($D42*INTRO!$E$49,0))","v":87521},{"$f":"IF(INTRO!$E$50=\"\",\"\",ROUND($D42*INTRO!$E$50,0))","v":150989},0,99,3,1,{"$f":"IF(INTRO!$E$37=\"Endemic\",IF($H42>0,IF($H42=4,\"Unknown\",IF($H42=99,\"Stopped\",$D42)),0),\"Not required\")","v":0},"Stopped",{"$f":"IF(INTRO!$E$41=\"Endemic\", IF(AND($J42>1,$J42<5), IF($J42=4, \"Unknown\", E42+F42), 0),\"Not required\")","v":128673},7902,0,0,2,1,null,null,null,null,49737,"IBANDA"]
[{"$f":"IF(INTRO!$E$33<>0,INTRO!$E$33, \" \")","v":"Uganda"},"EASTERN","IGANGA",585354,{"$f":"IF(INTRO!$E$48=\"\",\"\",ROUND($D43*INTRO!$E$48,0))","v":83120},{"$f":"IF(INTRO!$E$49=\"\",\"\",ROUND($D43*INTRO!$E$49,0))","v":176777},{"$f":"IF(INTRO!$E$50=\"\",\"\",ROUND($D43*INTRO!$E$50,0))","v":304969},99,0,3,1,{"$f":"IF(INTRO!$E$37=\"Endemic\",IF($H43>0,IF($H43=4,\"Unknown\",IF($H43=99,\"Stopped\",$D43)),0),\"Not required\")","v":"Stopped"},0,{"$f":"IF(INTRO!$E$41=\"Endemic\", IF(AND($J43>1,$J43<5), IF($J43=4, \"Unknown\", E43+F43), 0),\"Not required\")","v":259897},35031,0,0,2,1,null,null,null,null,49738,"IGANGA"]
[{"$f":"IF(INTRO!$E$33<>0,INTRO!$E$33, \" \")","v":"Uganda"},"WESTERN","ISINGIRO",564646,{"$f":"IF(INTRO!$E$48=\"\",\"\",ROUND($D44*INTRO!$E$48,0))","v":80180},{"$f":"IF(INTRO!$E$49=\"\",\"\",ROUND($D44*INTRO!$E$49,0))","v":170523},{"$f":"IF(INTRO!$E$50=\"\",\"\",ROUND($D44*INTRO!$E$50,0))","v":294181},0,0,3,1,{"$f":"IF(INTRO!$E$37=\"Endemic\",IF($H44>0,IF($H44=4,\"Unknown\",IF($H44=99,\"Stopped\",$D44)),0),\"Not required\")","v":0},0,{"$f":"IF(INTRO!$E$41=\"Endemic\", IF(AND($J44>1,$J44<5), IF($J44=4, \"Unknown\", E44+F44), 0),\"Not required\")","v":250703},23868,0,0,2,1,null,null,null,null,49739,"ISINGIRO"]
[{"$f":"IF(INTRO!$E$33<>0,INTRO!$E$33, \" \")","v":"Uganda"},"EASTERN","JINJA",547094,{"$f":"IF(INTRO!$E$48=\"\",\"\",ROUND($D45*INTRO!$E$48,0))","v":77687},{"$f":"IF(INTRO!$E$49=\"\",\"\",ROUND($D45*INTRO!$E$49,0))","v":165222},{"$f":"IF(INTRO!$E$50=\"\",\"\",ROUND($D45*INTRO!$E$50,0))","v":285036},0,0,3,3,{"$f":"IF(INTRO!$E$37=\"Endemic\",IF($H45>0,IF($H45=4,\"Unknown\",IF($H45=99,\"Stopped\",$D45)),0),\"Not required\")","v":0},0,{"$f":"IF(INTRO!$E$41=\"Endemic\", IF(AND($J45>1,$J45<5), IF($J45=4, \"Unknown\", E45+F45), 0),\"Not required\")","v":242909},445090,0,0,2,1,null,null,null,null,49740,"JINJA"]
[{"$f":"IF(INTRO!$E$33<>0,INTRO!$E$33, \" \")","v":"Uganda"},"NORTHERN","KAABONG",194902,{"$f":"IF(INTRO!$E$48=\"\",\"\",ROUND($D46*INTRO!$E$48,0))","v":27676},{"$f":"IF(INTRO!$E$49=\"\",\"\",ROUND($D46*INTRO!$E$49,0))","v":58860},{"$f":"IF(INTRO!$E$50=\"\",\"\",ROUND($D46*INTRO!$E$50,0))","v":101544},99,0,3,0,{"$f":"IF(INTRO!$E$37=\"Endemic\",IF($H46>0,IF($H46=4,\"Unknown\",IF($H46=99,\"Stopped\",$D46)),0),\"Not required\")","v":"Stopped"},0,{"$f":"IF(INTRO!$E$41=\"Endemic\", IF(AND($J46>1,$J46<5), IF($J46=4, \"Unknown\", E46+F46), 0),\"Not required\")","v":86536},null,0,0,2,0,null,null,null,null,49744,"KAABONG"]
[{"$f":"IF(INTRO!$E$33<>0,INTRO!$E$33, \" \")","v":"Uganda"},"WESTERN","KABALE",267728,{"$f":"IF(INTRO!$E$48=\"\",\"\",ROUND($D47*INTRO!$E$48,0))","v":38017},{"$f":"IF(INTRO!$E$49=\"\",\"\",ROUND($D47*INTRO!$E$49,0))","v":80854},{"$f":"IF(INTRO!$E$50=\"\",\"\",ROUND($D47*INTRO!$E$50,0))","v":139486},0,0,3,0,{"$f":"IF(INTRO!$E$37=\"Endemic\",IF($H47>0,IF($H47=4,\"Unknown\",IF($H47=99,\"Stopped\",$D47)),0),\"Not required\")","v":0},0,{"$f":"IF(INTRO!$E$41=\"Endemic\", IF(AND($J47>1,$J47<5), IF($J47=4, \"Unknown\", E47+F47), 0),\"Not required\")","v":118871},null,0,0,2,0,null,null,null,null,49741,"KABALE"]
[{"$f":"IF(INTRO!$E$33<>0,INTRO!$E$33, \" \")","v":"Uganda"},"WESTERN","KABAROLE",327222,{"$f":"IF(INTRO!$E$48=\"\",\"\",ROUND($D48*INTRO!$E$48,0))","v":46466},{"$f":"IF(INTRO!$E$49=\"\",\"\",ROUND($D48*INTRO!$E$49,0))","v":98821},{"$f":"IF(INTRO!$E$50=\"\",\"\",ROUND($D48*INTRO!$E$50,0))","v":170483},0,99,3,3,{"$f":"IF(INTRO!$E$37=\"Endemic\",IF($H48>0,IF($H48=4,\"Unknown\",IF($H48=99,\"Stopped\",$D48)),0),\"Not required\")","v":0},"Stopped",{"$f":"IF(INTRO!$E$41=\"Endemic\", IF(AND($J48>1,$J48<5), IF($J48=4, \"Unknown\", E48+F48), 0),\"Not required\")","v":145287},40854,0,0,2,1,null,null,null,null,49742,"KABAROLE"]
[{"$f":"IF(INTRO!$E$33<>0,INTRO!$E$33, \" \")","v":"Uganda"},"EASTERN","KABERAMAIDO",249638,{"$f":"IF(INTRO!$E$48=\"\",\"\",ROUND($D49*INTRO!$E$48,0))","v":35449},{"$f":"IF(INTRO!$E$49=\"\",\"\",ROUND($D49*INTRO!$E$49,0))","v":75391},{"$f":"IF(INTRO!$E$50=\"\",\"\",ROUND($D49*INTRO!$E$50,0))","v":130061},99,0,3,3,{"$f":"IF(INTRO!$E$37=\"Endemic\",IF($H49>0,IF($H49=4,\"Unknown\",IF($H49=99,\"Stopped\",$D49)),0),\"Not required\")","v":"Stopped"},0,{"$f":"IF(INTRO!$E$41=\"Endemic\", IF(AND($J49>1,$J49<5), IF($J49=4, \"Unknown\", E49+F49), 0),\"Not required\")","v":110840},137423,0,0,2,1,null,null,null,null,49743,"KABERAMAIDO"]
[{"$f":"IF(INTRO!$E$33<>0,INTRO!$E$33, \" \")","v":"Uganda"},"WESTERN","KAGADI",447245,{"$f":"IF(INTRO!$E$48=\"\",\"\",ROUND($D50*INTRO!$E$48,0))","v":63509},{"$f":"IF(INTRO!$E$49=\"\",\"\",ROUND($D50*INTRO!$E$49,0))","v":135068},{"$f":"IF(INTRO!$E$50=\"\",\"\",ROUND($D50*INTRO!$E$50,0))","v":233015},0,99,3,3,{"$f":"IF(INTRO!$E$37=\"Endemic\",IF($H50>0,IF($H50=4,\"Unknown\",IF($H50=99,\"Stopped\",$D50)),0),\"Not required\")","v":0},"Stopped",{"$f":"IF(INTRO!$E$41=\"Endemic\", IF(AND($J50>1,$J50<5), IF($J50=4, \"Unknown\", E50+F50), 0),\"Not required\")","v":198577},262622,0,0,2,1,null,null,null,null,49752,"KAGADI"]
[{"$f":"IF(INTRO!$E$33<>0,INTRO!$E$33, \" \")","v":"Uganda"},"WESTERN","KAKUMIRO",280084,{"$f":"IF(INTRO!$E$48=\"\",\"\",ROUND($D51*INTRO!$E$48,0))","v":39772},{"$f":"IF(INTRO!$E$49=\"\",\"\",ROUND($D51*INTRO!$E$49,0))","v":84585},{"$f":"IF(INTRO!$E$50=\"\",\"\",ROUND($D51*INTRO!$E$50,0))","v":145924},0,0,3,0,{"$f":"IF(INTRO!$E$37=\"Endemic\",IF($H51>0,IF($H51=4,\"Unknown\",IF($H51=99,\"Stopped\",$D51)),0),\"Not required\")","v":0},0,{"$f":"IF(INTRO!$E$41=\"Endemic\", IF(AND($J51>1,$J51<5), IF($J51=4, \"Unknown\", E51+F51), 0),\"Not required\")","v":124357},null,0,0,2,0,null,null,null,null,49819,"KAKUMIRO"]
[{"$f":"IF(INTRO!$E$33<>0,INTRO!$E$33, \" \")","v":"Uganda"},"CENTRAL","KALANGALA",63032,{"$f":"IF(INTRO!$E$48=\"\",\"\",ROUND($D52*INTRO!$E$48,0))","v":8951},{"$f":"IF(INTRO!$E$49=\"\",\"\",ROUND($D52*INTRO!$E$49,0))","v":19036},{"$f":"IF(INTRO!$E$50=\"\",\"\",ROUND($D52*INTRO!$E$50,0))","v":32840},0,0,3,3,{"$f":"IF(INTRO!$E$37=\"Endemic\",IF($H52>0,IF($H52=4,\"Unknown\",IF($H52=99,\"Stopped\",$D52)),0),\"Not required\")","v":0},0,{"$f":"IF(INTRO!$E$41=\"Endemic\", IF(AND($J52>1,$J52<5), IF($J52=4, \"Unknown\", E52+F52), 0),\"Not required\")","v":27987},63032,0,0,2,1,null,null,null,null,49745,"KALANGALA"]
[{"$f":"IF(INTRO!$E$33<>0,INTRO!$E$33, \" \")","v":"Uganda"},"EASTERN","KALIRO",274218,{"$f":"IF(INTRO!$E$48=\"\",\"\",ROUND($D53*INTRO!$E$48,0))","v":38939},{"$f":"IF(INTRO!$E$49=\"\",\"\",ROUND($D53*INTRO!$E$49,0))","v":82814},{"$f":"IF(INTRO!$E$50=\"\",\"\",ROUND($D53*INTRO!$E$50,0))","v":142868},99,0,3,1,{"$f":"IF(INTRO!$E$37=\"Endemic\",IF($H53>0,IF($H53=4,\"Unknown\",IF($H53=99,\"Stopped\",$D53)),0),\"Not required\")","v":"Stopped"},0,{"$f":"IF(INTRO!$E$41=\"Endemic\", IF(AND($J53>1,$J53<5), IF($J53=4, \"Unknown\", E53+F53), 0),\"Not required\")","v":121753},83088,0,0,2,1,null,null,null,null,49746,"KALIRO"]
[{"$f":"IF(INTRO!$E$33<>0,INTRO!$E$33, \" \")","v":"Uganda"},"CENTRAL","KALUNGU",212725,{"$f":"IF(INTRO!$E$48=\"\",\"\",ROUND($D54*INTRO!$E$48,0))","v":30207},{"$f":"IF(INTRO!$E$49=\"\",\"\",ROUND($D54*INTRO!$E$49,0))","v":64243},{"$f":"IF(INTRO!$E$50=\"\",\"\",ROUND($D54*INTRO!$E$50,0))","v":110830},0,0,3,1,{"$f":"IF(INTRO!$E$37=\"Endemic\",IF($H54>0,IF($H54=4,\"Unknown\",IF($H54=99,\"Stopped\",$D54)),0),\"Not required\")","v":0},0,{"$f":"IF(INTRO!$E$41=\"Endemic\", IF(AND($J54>1,$J54<5), IF($J54=4, \"Unknown\", E54+F54), 0),\"Not required\")","v":94450},24110,0,0,2,1,null,null,null,null,49758,"KALUNGU"]
[{"$f":"IF(INTRO!$E$33<>0,INTRO!$E$33, \" \")","v":"Uganda"},"CENTRAL","KAMPALA",1749665,{"$f":"IF(INTRO!$E$48=\"\",\"\",ROUND($D55*INTRO!$E$48,0))","v":248452},{"$f":"IF(INTRO!$E$49=\"\",\"\",ROUND($D55*INTRO!$E$49,0))","v":528399},{"$f":"IF(INTRO!$E$50=\"\",\"\",ROUND($D55*INTRO!$E$50,0))","v":911575},0,0,3,0,{"$f":"IF(INTRO!$E$37=\"Endemic\",IF($H55>0,IF($H55=4,\"Unknown\",IF($H55=99,\"Stopped\",$D55)),0),\"Not required\")","v":0},0,{"$f":"IF(INTRO!$E$41=\"Endemic\", IF(AND($J55>1,$J55<5), IF($J55=4, \"Unknown\", E55+F55), 0),\"Not required\")","v":776851},null,0,0,2,0,null,null,null,null,49759,"KAMPALA"]
[{"$f":"IF(INTRO!$E$33<>0,INTRO!$E$33, \" \")","v":"Uganda"},"EASTERN","KAMULI",564598,{"$f":"IF(INTRO!$E$48=\"\",\"\",ROUND($D56*INTRO!$E$48,0))","v":80173},{"$f":"IF(INTRO!$E$49=\"\",\"\",ROUND($D56*INTRO!$E$49,0))","v":170509},{"$f":"IF(INTRO!$E$50=\"\",\"\",ROUND($D56*INTRO!$E$50,0))","v":294156},99,0,3,1,{"$f":"IF(INTRO!$E$37=\"Endemic\",IF($H56>0,IF($H56=4,\"Unknown\",IF($H56=99,\"Stopped\",$D56)),0),\"Not required\")","v":"Stopped"},0,{"$f":"IF(INTRO!$E$41=\"Endemic\", IF(AND($J56>1,$J56<5), IF($J56=4, \"Unknown\", E56+F56), 0),\"Not required\")","v":250682},99399,0,0,2,1,null,null,null,null,49747,"KAMULI"]
[{"$f":"IF(INTRO!$E$33<>0,INTRO!$E$33, \" \")","v":"Uganda"},"WESTERN","KAMWENGE",481165,{"$f":"IF(INTRO!$E$48=\"\",\"\",ROUND($D57*INTRO!$E$48,0))","v":68325},{"$f":"IF(INTRO!$E$49=\"\",\"\",ROUND($D57*INTRO!$E$49,0))","v":145312},{"$f":"IF(INTRO!$E$50=\"\",\"\",ROUND($D57*INTRO!$E$50,0))","v":250687},0,99,3,2,{"$f":"IF(INTRO!$E$37=\"Endemic\",IF($H57>0,IF($H57=4,\"Unknown\",IF($H57=99,\"Stopped\",$D57)),0),\"Not required\")","v":0},"Stopped",{"$f":"IF(INTRO!$E$41=\"Endemic\", IF(AND($J57>1,$J57<5), IF($J57=4, \"Unknown\", E57+F57), 0),\"Not required\")","v":213637},25742,0,0,2,1,null,null,null,null,49748,"KAMWENGE"]
[{"$f":"IF(INTRO!$E$33<>0,INTRO!$E$33, \" \")","v":"Uganda"},"WESTERN","KANUNGU",292730,{"$f":"IF(INTRO!$E$48=\"\",\"\",ROUND($D58*INTRO!$E$48,0))","v":41568},{"$f":"IF(INTRO!$E$49=\"\",\"\",ROUND($D58*INTRO!$E$49,0))","v":88404},{"$f":"IF(INTRO!$E$50=\"\",\"\",ROUND($D58*INTRO!$E$50,0))","v":152512},0,1,3,0,{"$f":"IF(INTRO!$E$37=\"Endemic\",IF($H58>0,IF($H58=4,\"Unknown\",IF($H58=99,\"Stopped\",$D58)),0),\"Not required\")","v":0},66091,{"$f":"IF(INTRO!$E$41=\"Endemic\", IF(AND($J58>1,$J58<5), IF($J58=4, \"Unknown\", E58+F58), 0),\"Not required\")","v":129972},null,0,2,2,0,null,null,null,null,49749,"KANUNGU"]
[{"$f":"IF(INTRO!$E$33<>0,INTRO!$E$33, \" \")","v":"Uganda"},"EASTERN","KAPCHORWA",122117,{"$f":"IF(INTRO!$E$48=\"\",\"\",ROUND($D59*INTRO!$E$48,0))","v":17341},{"$f":"IF(INTRO!$E$49=\"\",\"\",ROUND($D59*INTRO!$E$49,0))","v":36879},{"$f":"IF(INTRO!$E$50=\"\",\"\",ROUND($D59*INTRO!$E$50,0))","v":63623},0,0,3,0,{"$f":"IF(INTRO!$E$37=\"Endemic\",IF($H59>0,IF($H59=4,\"Unknown\",IF($H59=99,\"Stopped\",$D59)),0),\"Not required\")","v":0},0,{"$f":"IF(INTRO!$E$41=\"Endemic\", IF(AND($J59>1,$J59<5), IF($J59=4, \"Unknown\", E59+F59), 0),\"Not required\")","v":54220},null,0,0,2,0,null,null,null,null,49760,"KAPCHORWA"]
[{"$f":"IF(INTRO!$E$33<>0,INTRO!$E$33, \" \")","v":"Uganda"},"WESTERN","KASESE",806860,{"$f":"IF(INTRO!$E$48=\"\",\"\",ROUND($D60*INTRO!$E$48,0))","v":114574},{"$f":"IF(INTRO!$E$49=\"\",\"\",ROUND($D60*INTRO!$E$49,0))","v":243672},{"$f":"IF(INTRO!$E$50=\"\",\"\",ROUND($D60*INTRO!$E$50,0))","v":420374},0,1,3,3,{"$f":"IF(INTRO!$E$37=\"Endemic\",IF($H60>0,IF($H60=4,\"Unknown\",IF($H60=99,\"Stopped\",$D60)),0),\"Not required\")","v":0},139097,{"$f":"IF(INTRO!$E$41=\"Endemic\", IF(AND($J60>1,$J60<5), IF($J60=4, \"Unknown\", E60+F60), 0),\"Not required\")","v":358246},13993,0,2,2,1,null,null,null,null,49750,"KASESE"]
[{"$f":"IF(INTRO!$E$33<>0,INTRO!$E$33, \" \")","v":"Uganda"},"EASTERN","KATAKWI",192989,{"$f":"IF(INTRO!$E$48=\"\",\"\",ROUND($D61*INTRO!$E$48,0))","v":27404},{"$f":"IF(INTRO!$E$49=\"\",\"\",ROUND($D61*INTRO!$E$49,0))","v":58283},{"$f":"IF(INTRO!$E$50=\"\",\"\",ROUND($D61*INTRO!$E$50,0))","v":100547},99,0,3,1,{"$f":"IF(INTRO!$E$37=\"Endemic\",IF($H61>0,IF($H61=4,\"Unknown\",IF($H61=99,\"Stopped\",$D61)),0),\"Not required\")","v":"Stopped"},0,{"$f":"IF(INTRO!$E$41=\"Endemic\", IF(AND($J61>1,$J61<5), IF($J61=4, \"Unknown\", E61+F61), 0),\"Not required\")","v":85687},19815,0,0,2,1,null,null,null,null,49751,"KATAKWI"]
[{"$f":"IF(INTRO!$E$33<>0,INTRO!$E$33, \" \")","v":"Uganda"},"CENTRAL","KAYUNGA",427306,{"$f":"IF(INTRO!$E$48=\"\",\"\",ROUND($D62*INTRO!$E$48,0))","v":60677},{"$f":"IF(INTRO!$E$49=\"\",\"\",ROUND($D62*INTRO!$E$49,0))","v":129046},{"$f":"IF(INTRO!$E$50=\"\",\"\",ROUND($D62*INTRO!$E$50,0))","v":222626},0,0,3,3,{"$f":"IF(INTRO!$E$37=\"Endemic\",IF($H62>0,IF($H62=4,\"Unknown\",IF($H62=99,\"Stopped\",$D62)),0),\"Not required\")","v":0},0,{"$f":"IF(INTRO!$E$41=\"Endemic\", IF(AND($J62>1,$J62<5), IF($J62=4, \"Unknown\", E62+F62), 0),\"Not required\")","v":189723},144697,0,0,2,1,null,null,null,null,49761,"KAYUNGA"]
[{"$f":"IF(INTRO!$E$33<>0,INTRO!$E$33, \" \")","v":"Uganda"},"WESTERN","KIBAALE",184130,{"$f":"IF(INTRO!$E$48=\"\",\"\",ROUND($D63*INTRO!$E$48,0))","v":26146},{"$f":"IF(INTRO!$E$49=\"\",\"\",ROUND($D63*INTRO!$E$49,0))","v":55607},{"$f":"IF(INTRO!$E$50=\"\",\"\",ROUND($D63*INTRO!$E$50,0))","v":95932},0,99,3,0,{"$f":"IF(INTRO!$E$37=\"Endemic\",IF($H63>0,IF($H63=4,\"Unknown\",IF($H63=99,\"Stopped\",$D63)),0),\"Not required\")","v":0},"Stopped",{"$f":"IF(INTRO!$E$41=\"Endemic\", IF(AND($J63>1,$J63<5), IF($J63=4, \"Unknown\", E63+F63), 0),\"Not required\")","v":81753},null,0,0,2,0,null,null,null,null,49820,"KIBAALE"]
[{"$f":"IF(INTRO!$E$33<>0,INTRO!$E$33, \" \")","v":"Uganda"},"CENTRAL","KIBOGA",172076,{"$f":"IF(INTRO!$E$48=\"\",\"\",ROUND($D64*INTRO!$E$48,0))","v":24435},{"$f":"IF(INTRO!$E$49=\"\",\"\",ROUND($D64*INTRO!$E$49,0))","v":51967},{"$f":"IF(INTRO!$E$50=\"\",\"\",ROUND($D64*INTRO!$E$50,0))","v":89652},0,0,3,0,{"$f":"IF(INTRO!$E$37=\"Endemic\",IF($H64>0,IF($H64=4,\"Unknown\",IF($H64=99,\"Stopped\",$D64)),0),\"Not required\")","v":0},0,{"$f":"IF(INTRO!$E$41=\"Endemic\", IF(AND($J64>1,$J64<5), IF($J64=4, \"Unknown\", E64+F64), 0),\"Not required\")","v":76402},null,0,0,2,0,null,null,null,null,49762,"KIBOGA"]
[{"$f":"IF(INTRO!$E$33<>0,INTRO!$E$33, \" \")","v":"Uganda"},"EASTERN","KIBUKU",234553,{"$f":"IF(INTRO!$E$48=\"\",\"\",ROUND($D65*INTRO!$E$48,0))","v":33307},{"$f":"IF(INTRO!$E$49=\"\",\"\",ROUND($D65*INTRO!$E$49,0))","v":70835},{"$f":"IF(INTRO!$E$50=\"\",\"\",ROUND($D65*INTRO!$E$50,0))","v":122202},99,0,3,1,{"$f":"IF(INTRO!$E$37=\"Endemic\",IF($H65>0,IF($H65=4,\"Unknown\",IF($H65=99,\"Stopped\",$D65)),0),\"Not required\")","v":"Stopped"},0,{"$f":"IF(INTRO!$E$41=\"Endemic\", IF(AND($J65>1,$J65<5), IF($J65=4, \"Unknown\", E65+F65), 0),\"Not required\")","v":104142},48131,0,0,2,1,null,null,null,null,49763,"KIBUKU"]
[{"$f":"IF(INTRO!$E$33<>0,INTRO!$E$33, \" \")","v":"Uganda"},"WESTERN","KIRUHURA",380885,{"$f":"IF(INTRO!$E$48=\"\",\"\",ROUND($D66*INTRO!$E$48,0))","v":54086},{"$f":"IF(INTRO!$E$49=\"\",\"\",ROUND($D66*INTRO!$E$49,0))","v":115027},{"$f":"IF(INTRO!$E$50=\"\",\"\",ROUND($D66*INTRO!$E$50,0))","v":198441},0,0,3,1,{"$f":"IF(INTRO!$E$37=\"Endemic\",IF($H66>0,IF($H66=4,\"Unknown\",IF($H66=99,\"Stopped\",$D66)),0),\"Not required\")","v":0},0,{"$f":"IF(INTRO!$E$41=\"Endemic\", IF(AND($J66>1,$J66<5), IF($J66=4, \"Unknown\", E66+F66), 0),\"Not required\")","v":169113},53467,0,0,2,1,null,null,null,null,49764,"KIRUHURA"]
[{"$f":"IF(INTRO!$E$33<>0,INTRO!$E$33, \" \")","v":"Uganda"},"WESTERN","KIRYANDONGO",309045,{"$f":"IF(INTRO!$E$48=\"\",\"\",ROUND($D67*INTRO!$E$48,0))","v":43884},{"$f":"IF(INTRO!$E$49=\"\",\"\",ROUND($D67*INTRO!$E$49,0))","v":93332},{"$f":"IF(INTRO!$E$50=\"\",\"\",ROUND($D67*INTRO!$E$50,0))","v":161012},0,0,3,3,{"$f":"IF(INTRO!$E$37=\"Endemic\",IF($H67>0,IF($H67=4,\"Unknown\",IF($H67=99,\"Stopped\",$D67)),0),\"Not required\")","v":0},0,{"$f":"IF(INTRO!$E$41=\"Endemic\", IF(AND($J67>1,$J67<5), IF($J67=4, \"Unknown\", E67+F67), 0),\"Not required\")","v":137216},107991,0,0,2,1,null,null,null,null,49765,"KIRYANDONGO"]
[{"$f":"IF(INTRO!$E$33<>0,INTRO!$E$33, \" \")","v":"Uganda"},"WESTERN","KISORO",327049,{"$f":"IF(INTRO!$E$48=\"\",\"\",ROUND($D68*INTRO!$E$48,0))","v":46441},{"$f":"IF(INTRO!$E$49=\"\",\"\",ROUND($D68*INTRO!$E$49,0))","v":98769},{"$f":"IF(INTRO!$E$50=\"\",\"\",ROUND($D68*INTRO!$E$50,0))","v":170393},0,1,3,0,{"$f":"IF(INTRO!$E$37=\"Endemic\",IF($H68>0,IF($H68=4,\"Unknown\",IF($H68=99,\"Stopped\",$D68)),0),\"Not required\")","v":0},42255,{"$f":"IF(INTRO!$E$41=\"Endemic\", IF(AND($J68>1,$J68<5), IF($J68=4, \"Unknown\", E68+F68), 0),\"Not required\")","v":145210},null,0,2,2,0,null,null,null,null,49753,"KISORO"]
[{"$f":"IF(INTRO!$E$33<>0,INTRO!$E$33, \" \")","v":"Uganda"},"NORTHERN","KITGUM",236893,{"$f":"IF(INTRO!$E$48=\"\",\"\",ROUND($D69*INTRO!$E$48,0))","v":33639},{"$f":"IF(INTRO!$E$49=\"\",\"\",ROUND($D69*INTRO!$E$49,0))","v":71542},{"$f":"IF(INTRO!$E$50=\"\",\"\",ROUND($D69*INTRO!$E$50,0))","v":123421},1,1,3,3,{"$f":"IF(INTRO!$E$37=\"Endemic\",IF($H69>0,IF($H69=4,\"Unknown\",IF($H69=99,\"Stopped\",$D69)),0),\"Not required\")","v":236893},110998,{"$f":"IF(INTRO!$E$41=\"Endemic\", IF(AND($J69>1,$J69<5), IF($J69=4, \"Unknown\", E69+F69), 0),\"Not required\")","v":105181},244000,1,2,2,1,null,null,null,null,49766,"KITGUM"]
[{"$f":"IF(INTRO!$E$33<>0,INTRO!$E$33, \" \")","v":"Uganda"},"NORTHERN","KOBOKO",239733,{"$f":"IF(INTRO!$E$48=\"\",\"\",ROUND($D70*INTRO!$E$48,0))","v":34042},{"$f":"IF(INTRO!$E$49=\"\",\"\",ROUND($D70*INTRO!$E$49,0))","v":72399},{"$f":"IF(INTRO!$E$50=\"\",\"\",ROUND($D70*INTRO!$E$50,0))","v":124901},99,99,3,3,{"$f":"IF(INTRO!$E$37=\"Endemic\",IF($H70>0,IF($H70=4,\"Unknown\",IF($H70=99,\"Stopped\",$D70)),0),\"Not required\")","v":"Stopped"},"Stopped",{"$f":"IF(INTRO!$E$41=\"Endemic\", IF(AND($J70>1,$J70<5), IF($J70=4, \"Unknown\", E70+F70), 0),\"Not required\")","v":106441},77117,0,0,2,1,null,null,null,null,49754,"KOBOKO"]
[{"$f":"IF(INTRO!$E$33<>0,INTRO!$E$33, \" \")","v":"Uganda"},"NORTHERN","KOLE",277850,{"$f":"IF(INTRO!$E$48=\"\",\"\",ROUND($D71*INTRO!$E$48,0))","v":39455},{"$f":"IF(INTRO!$E$49=\"\",\"\",ROUND($D71*INTRO!$E$49,0))","v":83911},{"$f":"IF(INTRO!$E$50=\"\",\"\",ROUND($D71*INTRO!$E$50,0))","v":144760},99,0,3,0,{"$f":"IF(INTRO!$E$37=\"Endemic\",IF($H71>0,IF($H71=4,\"Unknown\",IF($H71=99,\"Stopped\",$D71)),0),\"Not required\")","v":"Stopped"},0,{"$f":"IF(INTRO!$E$41=\"Endemic\", IF(AND($J71>1,$J71<5), IF($J71=4, \"Unknown\", E71+F71), 0),\"Not required\")","v":123366},null,0,0,2,0,null,null,null,null,49767,"KOLE"]
[{"$f":"IF(INTRO!$E$33<>0,INTRO!$E$33, \" \")","v":"Uganda"},"NORTHERN","KOTIDO",210193,{"$f":"IF(INTRO!$E$48=\"\",\"\",ROUND($D72*INTRO!$E$48,0))","v":29847},{"$f":"IF(INTRO!$E$49=\"\",\"\",ROUND($D72*INTRO!$E$49,0))","v":63478},{"$f":"IF(INTRO!$E$50=\"\",\"\",ROUND($D72*INTRO!$E$50,0))","v":109511},99,0,3,0,{"$f":"IF(INTRO!$E$37=\"Endemic\",IF($H72>0,IF($H72=4,\"Unknown\",IF($H72=99,\"Stopped\",$D72)),0),\"Not required\")","v":"Stopped"},0,{"$f":"IF(INTRO!$E$41=\"Endemic\", IF(AND($J72>1,$J72<5), IF($J72=4, \"Unknown\", E72+F72), 0),\"Not required\")","v":93325},null,0,0,2,0,null,null,null,null,49755,"KOTIDO"]
[{"$f":"IF(INTRO!$E$33<>0,INTRO!$E$33, \" \")","v":"Uganda"},"EASTERN","KUMI",277781,{"$f":"IF(INTRO!$E$48=\"\",\"\",ROUND($D73*INTRO!$E$48,0))","v":39445},{"$f":"IF(INTRO!$E$49=\"\",\"\",ROUND($D73*INTRO!$E$49,0))","v":83890},{"$f":"IF(INTRO!$E$50=\"\",\"\",ROUND($D73*INTRO!$E$50,0))","v":144724},99,0,3,1,{"$f":"IF(INTRO!$E$37=\"Endemic\",IF($H73>0,IF($H73=4,\"Unknown\",IF($H73=99,\"Stopped\",$D73)),0),\"Not required\")","v":"Stopped"},0,{"$f":"IF(INTRO!$E$41=\"Endemic\", IF(AND($J73>1,$J73<5), IF($J73=4, \"Unknown\", E73+F73), 0),\"Not required\")","v":123335},45164,0,0,2,1,null,null,null,null,49756,"KUMI"]
[{"$f":"IF(INTRO!$E$33<>0,INTRO!$E$33, \" \")","v":"Uganda"},"EASTERN","KWEEN",108744,{"$f":"IF(INTRO!$E$48=\"\",\"\",ROUND($D74*INTRO!$E$48,0))","v":15442},{"$f":"IF(INTRO!$E$49=\"\",\"\",ROUND($D74*INTRO!$E$49,0))","v":32841},{"$f":"IF(INTRO!$E$50=\"\",\"\",ROUND($D74*INTRO!$E$50,0))","v":56656},0,0,3,1,{"$f":"IF(INTRO!$E$37=\"Endemic\",IF($H74>0,IF($H74=4,\"Unknown\",IF($H74=99,\"Stopped\",$D74)),0),\"Not required\")","v":0},0,{"$f":"IF(INTRO!$E$41=\"Endemic\", IF(AND($J74>1,$J74<5), IF($J74=4, \"Unknown\", E74+F74), 0),\"Not required\")","v":48283},3425,0,0,2,1,null,null,null,null,49768,"KWEEN",null,null,"REFUGEE"]
[{"$f":"IF(INTRO!$E$33<>0,INTRO!$E$33, \" \")","v":"Uganda"},"CENTRAL","KYANKWANZI",249250,{"$f":"IF(INTRO!$E$48=\"\",\"\",ROUND($D75*INTRO!$E$48,0))","v":35394},{"$f":"IF(INTRO!$E$49=\"\",\"\",ROUND($D75*INTRO!$E$49,0))","v":75274},{"$f":"IF(INTRO!$E$50=\"\",\"\",ROUND($D75*INTRO!$E$50,0))","v":129859},0,0,3,0,{"$f":"IF(INTRO!$E$37=\"Endemic\",IF($H75>0,IF($H75=4,\"Unknown\",IF($H75=99,\"Stopped\",$D75)),0),\"Not required\")","v":0},0,{"$f":"IF(INTRO!$E$41=\"Endemic\", IF(AND($J75>1,$J75<5), IF($J75=4, \"Unknown\", E75+F75), 0),\"Not required\")","v":110668},null,0,0,2,0,null,null,null,null,49769,"KYANKWANZI",null,null,"LYANTONDE"]
[{"$f":"IF(INTRO!$E$33<>0,INTRO!$E$33, \" \")","v":"Uganda"},"WESTERN","KYEGEGWA",326971,{"$f":"IF(INTRO!$E$48=\"\",\"\",ROUND($D76*INTRO!$E$48,0))","v":46430},{"$f":"IF(INTRO!$E$49=\"\",\"\",ROUND($D76*INTRO!$E$49,0))","v":98745},{"$f":"IF(INTRO!$E$50=\"\",\"\",ROUND($D76*INTRO!$E$50,0))","v":170352},0,0,3,0,{"$f":"IF(INTRO!$E$37=\"Endemic\",IF($H76>0,IF($H76=4,\"Unknown\",IF($H76=99,\"Stopped\",$D76)),0),\"Not required\")","v":0},0,{"$f":"IF(INTRO!$E$41=\"Endemic\", IF(AND($J76>1,$J76<5), IF($J76=4, \"Unknown\", E76+F76), 0),\"Not required\")","v":145175},null,0,0,2,0,null,null,null,null,49770,"KYEGEGWA",null,null,"KAMPALA"]
[{"$f":"IF(INTRO!$E$33<>0,INTRO!$E$33, \" \")","v":"Uganda"},"WESTERN","KYENJOJO",490163,{"$f":"IF(INTRO!$E$48=\"\",\"\",ROUND($D77*INTRO!$E$48,0))","v":69603},{"$f":"IF(INTRO!$E$49=\"\",\"\",ROUND($D77*INTRO!$E$49,0))","v":148029},{"$f":"IF(INTRO!$E$50=\"\",\"\",ROUND($D77*INTRO!$E$50,0))","v":255375},0,99,3,0,{"$f":"IF(INTRO!$E$37=\"Endemic\",IF($H77>0,IF($H77=4,\"Unknown\",IF($H77=99,\"Stopped\",$D77)),0),\"Not required\")","v":0},"Stopped",{"$f":"IF(INTRO!$E$41=\"Endemic\", IF(AND($J77>1,$J77<5), IF($J77=4, \"Unknown\", E77+F77), 0),\"Not required\")","v":217632},null,0,0,2,0,null,null,null,null,49757,"KYENJOJO"]
[{"$f":"IF(INTRO!$E$33<>0,INTRO!$E$33, \" \")","v":"Uganda"},"Central","KYOTERA",188690,{"$f":"IF(INTRO!$E$48=\"\",\"\",ROUND($D78*INTRO!$E$48,0))","v":26794},{"$f":"IF(INTRO!$E$49=\"\",\"\",ROUND($D78*INTRO!$E$49,0))","v":56984},{"$f":"IF(INTRO!$E$50=\"\",\"\",ROUND($D78*INTRO!$E$50,0))","v":98307},0,0,3,1,{"$f":"IF(INTRO!$E$37=\"Endemic\",IF($H78>0,IF($H78=4,\"Unknown\",IF($H78=99,\"Stopped\",$D78)),0),\"Not required\")","v":0},0,{"$f":"IF(INTRO!$E$41=\"Endemic\", IF(AND($J78>1,$J78<5), IF($J78=4, \"Unknown\", E78+F78), 0),\"Not required\")","v":83778},22129,0,0,2,1,null,null,null,null,49823,"KYOTERA"]
[{"$f":"IF(INTRO!$E$33<>0,INTRO!$E$33, \" \")","v":"Uganda"},"NORTHERN","LAMWO",157591,{"$f":"IF(INTRO!$E$48=\"\",\"\",ROUND($D79*INTRO!$E$48,0))","v":22378},{"$f":"IF(INTRO!$E$49=\"\",\"\",ROUND($D79*INTRO!$E$49,0))","v":47592},{"$f":"IF(INTRO!$E$50=\"\",\"\",ROUND($D79*INTRO!$E$50,0))","v":82105},1,1,3,1,{"$f":"IF(INTRO!$E$37=\"Endemic\",IF($H79>0,IF($H79=4,\"Unknown\",IF($H79=99,\"Stopped\",$D79)),0),\"Not required\")","v":157591},157591,{"$f":"IF(INTRO!$E$41=\"Endemic\", IF(AND($J79>1,$J79<5), IF($J79=4, \"Unknown\", E79+F79), 0),\"Not required\")","v":69970},47271,1,2,2,1,null,null,null,null,49772,"LAMWO"]
[{"$f":"IF(INTRO!$E$33<>0,INTRO!$E$33, \" \")","v":"Uganda"},"NORTHERN","LIRA",473723,{"$f":"IF(INTRO!$E$48=\"\",\"\",ROUND($D80*INTRO!$E$48,0))","v":67269},{"$f":"IF(INTRO!$E$49=\"\",\"\",ROUND($D80*INTRO!$E$49,0))","v":143064},{"$f":"IF(INTRO!$E$50=\"\",\"\",ROUND($D80*INTRO!$E$50,0))","v":246810},99,1,3,3,{"$f":"IF(INTRO!$E$37=\"Endemic\",IF($H80>0,IF($H80=4,\"Unknown\",IF($H80=99,\"Stopped\",$D80)),0),\"Not required\")","v":"Stopped"},75303,{"$f":"IF(INTRO!$E$41=\"Endemic\", IF(AND($J80>1,$J80<5), IF($J80=4, \"Unknown\", E80+F80), 0),\"Not required\")","v":210333},143538,0,2,2,1,null,null,null,null,49771,"LIRA"]
[{"$f":"IF(INTRO!$E$33<>0,INTRO!$E$33, \" \")","v":"Uganda"},"EASTERN","LUUKA",276334,{"$f":"IF(INTRO!$E$48=\"\",\"\",ROUND($D81*INTRO!$E$48,0))","v":39239},{"$f":"IF(INTRO!$E$49=\"\",\"\",ROUND($D81*INTRO!$E$49,0))","v":83453},{"$f":"IF(INTRO!$E$50=\"\",\"\",ROUND($D81*INTRO!$E$50,0))","v":143970},99,0,3,1,{"$f":"IF(INTRO!$E$37=\"Endemic\",IF($H81>0,IF($H81=4,\"Unknown\",IF($H81=99,\"Stopped\",$D81)),0),\"Not required\")","v":"Stopped"},0,{"$f":"IF(INTRO!$E$41=\"Endemic\", IF(AND($J81>1,$J81<5), IF($J81=4, \"Unknown\", E81+F81), 0),\"Not required\")","v":122692},83729,0,0,2,1,null,null,null,null,49773,"LUUKA"]
[{"$f":"IF(INTRO!$E$33<>0,INTRO!$E$33, \" \")","v":"Uganda"},"CENTRAL","LUWERO",530512,{"$f":"IF(INTRO!$E$48=\"\",\"\",ROUND($D82*INTRO!$E$48,0))","v":75333},{"$f":"IF(INTRO!$E$49=\"\",\"\",ROUND($D82*INTRO!$E$49,0))","v":160215},{"$f":"IF(INTRO!$E$50=\"\",\"\",ROUND($D82*INTRO!$E$50,0))","v":276397},0,0,3,0,{"$f":"IF(INTRO!$E$37=\"Endemic\",IF($H82>0,IF($H82=4,\"Unknown\",IF($H82=99,\"Stopped\",$D82)),0),\"Not required\")","v":0},0,{"$f":"IF(INTRO!$E$41=\"Endemic\", IF(AND($J82>1,$J82<5), IF($J82=4, \"Unknown\", E82+F82), 0),\"Not required\")","v":235548},null,0,0,2,0,null,null,null,null,49774,"LUWERO"]
[{"$f":"IF(INTRO!$E$33<>0,INTRO!$E$33, \" \")","v":"Uganda"},"CENTRAL","LWENGO",319212,{"$f":"IF(INTRO!$E$48=\"\",\"\",ROUND($D83*INTRO!$E$48,0))","v":45328},{"$f":"IF(INTRO!$E$49=\"\",\"\",ROUND($D83*INTRO!$E$49,0))","v":96402},{"$f":"IF(INTRO!$E$50=\"\",\"\",ROUND($D83*INTRO!$E$50,0))","v":166309},0,0,3,0,{"$f":"IF(INTRO!$E$37=\"Endemic\",IF($H83>0,IF($H83=4,\"Unknown\",IF($H83=99,\"Stopped\",$D83)),0),\"Not required\")","v":0},0,{"$f":"IF(INTRO!$E$41=\"Endemic\", IF(AND($J83>1,$J83<5), IF($J83=4, \"Unknown\", E83+F83), 0),\"Not required\")","v":141730},null,0,0,2,0,null,null,null,null,49775,"LWENGO"]
[{"$f":"IF(INTRO!$E$33<>0,INTRO!$E$33, \" \")","v":"Uganda"},"CENTRAL","LYANTONDE",108844,{"$f":"IF(INTRO!$E$48=\"\",\"\",ROUND($D84*INTRO!$E$48,0))","v":15456},{"$f":"IF(INTRO!$E$49=\"\",\"\",ROUND($D84*INTRO!$E$49,0))","v":32871},{"$f":"IF(INTRO!$E$50=\"\",\"\",ROUND($D84*INTRO!$E$50,0))","v":56708},0,0,3,0,{"$f":"IF(INTRO!$E$37=\"Endemic\",IF($H84>0,IF($H84=4,\"Unknown\",IF($H84=99,\"Stopped\",$D84)),0),\"Not required\")","v":0},0,{"$f":"IF(INTRO!$E$41=\"Endemic\", IF(AND($J84>1,$J84<5), IF($J84=4, \"Unknown\", E84+F84), 0),\"Not required\")","v":48327},null,0,0,2,0,null,null,null,null,49776,"LYANTONDE"]
[{"$f":"IF(INTRO!$E$33<>0,INTRO!$E$33, \" \")","v":"Uganda"},"EASTERN","MANAFWA",225928,{"$f":"IF(INTRO!$E$48=\"\",\"\",ROUND($D85*INTRO!$E$48,0))","v":32082},{"$f":"IF(INTRO!$E$49=\"\",\"\",ROUND($D85*INTRO!$E$49,0))","v":68230},{"$f":"IF(INTRO!$E$50=\"\",\"\",ROUND($D85*INTRO!$E$50,0))","v":117708},0,99,3,1,{"$f":"IF(INTRO!$E$37=\"Endemic\",IF($H85>0,IF($H85=4,\"Unknown\",IF($H85=99,\"Stopped\",$D85)),0),\"Not required\")","v":0},"Stopped",{"$f":"IF(INTRO!$E$41=\"Endemic\", IF(AND($J85>1,$J85<5), IF($J85=4, \"Unknown\", E85+F85), 0),\"Not required\")","v":100312},7896,0,0,2,1,null,null,null,null,49777,"MANAFWA"]
[{"$f":"IF(INTRO!$E$33<>0,INTRO!$E$33, \" \")","v":"Uganda"},"NORTHERN","MARACHA",216095,{"$f":"IF(INTRO!$E$48=\"\",\"\",ROUND($D86*INTRO!$E$48,0))","v":30685},{"$f":"IF(INTRO!$E$49=\"\",\"\",ROUND($D86*INTRO!$E$49,0))","v":65261},{"$f":"IF(INTRO!$E$50=\"\",\"\",ROUND($D86*INTRO!$E$50,0))","v":112585},1,99,3,1,{"$f":"IF(INTRO!$E$37=\"Endemic\",IF($H86>0,IF($H86=4,\"Unknown\",IF($H86=99,\"Stopped\",$D86)),0),\"Not required\")","v":216095},"Stopped",{"$f":"IF(INTRO!$E$41=\"Endemic\", IF(AND($J86>1,$J86<5), IF($J86=4, \"Unknown\", E86+F86), 0),\"Not required\")","v":95946},65477,1,0,2,1,null,null,null,null,49784,"MARACHA"]
[{"$f":"IF(INTRO!$E$33<>0,INTRO!$E$33, \" \")","v":"Uganda"},"CENTRAL","MASAKA",344811,{"$f":"IF(INTRO!$E$48=\"\",\"\",ROUND($D87*INTRO!$E$48,0))","v":48963},{"$f":"IF(INTRO!$E$49=\"\",\"\",ROUND($D87*INTRO!$E$49,0))","v":104133},{"$f":"IF(INTRO!$E$50=\"\",\"\",ROUND($D87*INTRO!$E$50,0))","v":179647},0,0,3,3,{"$f":"IF(INTRO!$E$37=\"Endemic\",IF($H87>0,IF($H87=4,\"Unknown\",IF($H87=99,\"Stopped\",$D87)),0),\"Not required\")","v":0},0,{"$f":"IF(INTRO!$E$41=\"Endemic\", IF(AND($J87>1,$J87<5), IF($J87=4, \"Unknown\", E87+F87), 0),\"Not required\")","v":153096},66506,0,0,2,1,null,null,null,null,49785,"MASAKA"]
[{"$f":"IF(INTRO!$E$33<>0,INTRO!$E$33, \" \")","v":"Uganda"},"WESTERN","MASINDI",337971,{"$f":"IF(INTRO!$E$48=\"\",\"\",ROUND($D88*INTRO!$E$48,0))","v":47992},{"$f":"IF(INTRO!$E$49=\"\",\"\",ROUND($D88*INTRO!$E$49,0))","v":102067},{"$f":"IF(INTRO!$E$50=\"\",\"\",ROUND($D88*INTRO!$E$50,0))","v":176083},0,1,3,0,{"$f":"IF(INTRO!$E$37=\"Endemic\",IF($H88>0,IF($H88=4,\"Unknown\",IF($H88=99,\"Stopped\",$D88)),0),\"Not required\")","v":0},55621,{"$f":"IF(INTRO!$E$41=\"Endemic\", IF(AND($J88>1,$J88<5), IF($J88=4, \"Unknown\", E88+F88), 0),\"Not required\")","v":150059},null,0,2,2,0,null,null,null,null,49778,"MASINDI"]
[{"$f":"IF(INTRO!$E$33<>0,INTRO!$E$33, \" \")","v":"Uganda"},"EASTERN","MAYUGE",549413,{"$f":"IF(INTRO!$E$48=\"\",\"\",ROUND($D89*INTRO!$E$48,0))","v":78017},{"$f":"IF(INTRO!$E$49=\"\",\"\",ROUND($D89*INTRO!$E$49,0))","v":165923},{"$f":"IF(INTRO!$E$50=\"\",\"\",ROUND($D89*INTRO!$E$50,0))","v":286244},1,0,3,3,{"$f":"IF(INTRO!$E$37=\"Endemic\",IF($H89>0,IF($H89=4,\"Unknown\",IF($H89=99,\"Stopped\",$D89)),0),\"Not required\")","v":549413},0,{"$f":"IF(INTRO!$E$41=\"Endemic\", IF(AND($J89>1,$J89<5), IF($J89=4, \"Unknown\", E89+F89), 0),\"Not required\")","v":243940},179510,1,0,2,1,null,null,null,null,49779,"MAYUGE"]
[{"$f":"IF(INTRO!$E$33<>0,INTRO!$E$33, \" \")","v":"Uganda"},"EASTERN","MBALE",567663,{"$f":"IF(INTRO!$E$48=\"\",\"\",ROUND($D90*INTRO!$E$48,0))","v":80608},{"$f":"IF(INTRO!$E$49=\"\",\"\",ROUND($D90*INTRO!$E$49,0))","v":171434},{"$f":"IF(INTRO!$E$50=\"\",\"\",ROUND($D90*INTRO!$E$50,0))","v":295752},0,99,3,1,{"$f":"IF(INTRO!$E$37=\"Endemic\",IF($H90>0,IF($H90=4,\"Unknown\",IF($H90=99,\"Stopped\",$D90)),0),\"Not required\")","v":0},"Stopped",{"$f":"IF(INTRO!$E$41=\"Endemic\", IF(AND($J90>1,$J90<5), IF($J90=4, \"Unknown\", E90+F90), 0),\"Not required\")","v":252042},4674,0,0,2,1,null,null,null,null,49780,"MBALE"]
[{"$f":"IF(INTRO!$E$33<>0,INTRO!$E$33, \" \")","v":"Uganda"},"WESTERN","MBARARA",548706,{"$f":"IF(INTRO!$E$48=\"\",\"\",ROUND($D91*INTRO!$E$48,0))","v":77916},{"$f":"IF(INTRO!$E$49=\"\",\"\",ROUND($D91*INTRO!$E$49,0))","v":165709},{"$f":"IF(INTRO!$E$50=\"\",\"\",ROUND($D91*INTRO!$E$50,0))","v":285876},0,0,3,0,{"$f":"IF(INTRO!$E$37=\"Endemic\",IF($H91>0,IF($H91=4,\"Unknown\",IF($H91=99,\"Stopped\",$D91)),0),\"Not required\")","v":0},0,{"$f":"IF(INTRO!$E$41=\"Endemic\", IF(AND($J91>1,$J91<5), IF($J91=4, \"Unknown\", E91+F91), 0),\"Not required\")","v":243625},null,0,0,2,0,null,null,null,null,49786,"MBARARA"]
[{"$f":"IF(INTRO!$E$33<>0,INTRO!$E$33, \" \")","v":"Uganda"},"WESTERN","MITOOMA",212971,{"$f":"IF(INTRO!$E$48=\"\",\"\",ROUND($D92*INTRO!$E$48,0))","v":30242},{"$f":"IF(INTRO!$E$49=\"\",\"\",ROUND($D92*INTRO!$E$49,0))","v":64317},{"$f":"IF(INTRO!$E$50=\"\",\"\",ROUND($D92*INTRO!$E$50,0))","v":110958},0,99,3,0,{"$f":"IF(INTRO!$E$37=\"Endemic\",IF($H92>0,IF($H92=4,\"Unknown\",IF($H92=99,\"Stopped\",$D92)),0),\"Not required\")","v":0},"Stopped",{"$f":"IF(INTRO!$E$41=\"Endemic\", IF(AND($J92>1,$J92<5), IF($J92=4, \"Unknown\", E92+F92), 0),\"Not required\")","v":94559},null,0,0,2,0,null,null,null,null,49787,"MITOOMA"]
[{"$f":"IF(INTRO!$E$33<>0,INTRO!$E$33, \" \")","v":"Uganda"},"CENTRAL","MITYANA",381916,{"$f":"IF(INTRO!$E$48=\"\",\"\",ROUND($D93*INTRO!$E$48,0))","v":54232},{"$f":"IF(INTRO!$E$49=\"\",\"\",ROUND($D93*INTRO!$E$49,0))","v":115339},{"$f":"IF(INTRO!$E$50=\"\",\"\",ROUND($D93*INTRO!$E$50,0))","v":198978},0,0,3,3,{"$f":"IF(INTRO!$E$37=\"Endemic\",IF($H93>0,IF($H93=4,\"Unknown\",IF($H93=99,\"Stopped\",$D93)),0),\"Not required\")","v":0},0,{"$f":"IF(INTRO!$E$41=\"Endemic\", IF(AND($J93>1,$J93<5), IF($J93=4, \"Unknown\", E93+F93), 0),\"Not required\")","v":169571},33842,0,0,2,1,null,null,null,null,49788,"MITYANA"]
[{"$f":"IF(INTRO!$E$33<>0,INTRO!$E$33, \" \")","v":"Uganda"},"NORTHERN","MOROTO",120081,{"$f":"IF(INTRO!$E$48=\"\",\"\",ROUND($D94*INTRO!$E$48,0))","v":17052},{"$f":"IF(INTRO!$E$49=\"\",\"\",ROUND($D94*INTRO!$E$49,0))","v":36264},{"$f":"IF(INTRO!$E$50=\"\",\"\",ROUND($D94*INTRO!$E$50,0))","v":62562},99,0,3,0,{"$f":"IF(INTRO!$E$37=\"Endemic\",IF($H94>0,IF($H94=4,\"Unknown\",IF($H94=99,\"Stopped\",$D94)),0),\"Not required\")","v":"Stopped"},0,{"$f":"IF(INTRO!$E$41=\"Endemic\", IF(AND($J94>1,$J94<5), IF($J94=4, \"Unknown\", E94+F94), 0),\"Not required\")","v":53316},null,0,0,2,0,null,null,null,null,49781,"MOROTO"]
[{"$f":"IF(INTRO!$E$33<>0,INTRO!$E$33, \" \")","v":"Uganda"},"NORTHERN","MOYO",161388,{"$f":"IF(INTRO!$E$48=\"\",\"\",ROUND($D95*INTRO!$E$48,0))","v":22917},{"$f":"IF(INTRO!$E$49=\"\",\"\",ROUND($D95*INTRO!$E$49,0))","v":48739},{"$f":"IF(INTRO!$E$50=\"\",\"\",ROUND($D95*INTRO!$E$50,0))","v":84083},99,1,3,3,{"$f":"IF(INTRO!$E$37=\"Endemic\",IF($H95>0,IF($H95=4,\"Unknown\",IF($H95=99,\"Stopped\",$D95)),0),\"Not required\")","v":"Stopped"},93451,{"$f":"IF(INTRO!$E$41=\"Endemic\", IF(AND($J95>1,$J95<5), IF($J95=4, \"Unknown\", E95+F95), 0),\"Not required\")","v":71656},110864,0,2,2,1,null,null,null,null,49782,"MOYO"]
[{"$f":"IF(INTRO!$E$33<>0,INTRO!$E$33, \" \")","v":"Uganda"},"CENTRAL","MPIGI",290878,{"$f":"IF(INTRO!$E$48=\"\",\"\",ROUND($D96*INTRO!$E$48,0))","v":41305},{"$f":"IF(INTRO!$E$49=\"\",\"\",ROUND($D96*INTRO!$E$49,0))","v":87845},{"$f":"IF(INTRO!$E$50=\"\",\"\",ROUND($D96*INTRO!$E$50,0))","v":151547},0,0,3,2,{"$f":"IF(INTRO!$E$37=\"Endemic\",IF($H96>0,IF($H96=4,\"Unknown\",IF($H96=99,\"Stopped\",$D96)),0),\"Not required\")","v":0},0,{"$f":"IF(INTRO!$E$41=\"Endemic\", IF(AND($J96>1,$J96<5), IF($J96=4, \"Unknown\", E96+F96), 0),\"Not required\")","v":129150},131388,0,0,2,1,null,null,null,null,49789,"MPIGI"]
[{"$f":"IF(INTRO!$E$33<>0,INTRO!$E$33, \" \")","v":"Uganda"},"CENTRAL","MUBENDE",794490,{"$f":"IF(INTRO!$E$48=\"\",\"\",ROUND($D97*INTRO!$E$48,0))","v":112818},{"$f":"IF(INTRO!$E$49=\"\",\"\",ROUND($D97*INTRO!$E$49,0))","v":239936},{"$f":"IF(INTRO!$E$50=\"\",\"\",ROUND($D97*INTRO!$E$50,0))","v":413929},0,0,3,1,{"$f":"IF(INTRO!$E$37=\"Endemic\",IF($H97>0,IF($H97=4,\"Unknown\",IF($H97=99,\"Stopped\",$D97)),0),\"Not required\")","v":0},0,{"$f":"IF(INTRO!$E$41=\"Endemic\", IF(AND($J97>1,$J97<5), IF($J97=4, \"Unknown\", E97+F97), 0),\"Not required\")","v":352754},69585,0,0,2,1,null,null,null,null,49790,"MUBENDE"]
[{"$f":"IF(INTRO!$E$33<>0,INTRO!$E$33, \" \")","v":"Uganda"},"CENTRAL","MUKONO",692867,{"$f":"IF(INTRO!$E$48=\"\",\"\",ROUND($D98*INTRO!$E$48,0))","v":98387},{"$f":"IF(INTRO!$E$49=\"\",\"\",ROUND($D98*INTRO!$E$49,0))","v":209246},{"$f":"IF(INTRO!$E$50=\"\",\"\",ROUND($D98*INTRO!$E$50,0))","v":360984},0,0,3,3,{"$f":"IF(INTRO!$E$37=\"Endemic\",IF($H98>0,IF($H98=4,\"Unknown\",IF($H98=99,\"Stopped\",$D98)),0),\"Not required\")","v":0},0,{"$f":"IF(INTRO!$E$41=\"Endemic\", IF(AND($J98>1,$J98<5), IF($J98=4, \"Unknown\", E98+F98), 0),\"Not required\")","v":307633},78210,0,0,2,1,null,null,null,null,49783,"MUKONO"]
[{"$f":"IF(INTRO!$E$33<>0,INTRO!$E$33, \" \")","v":"Uganda"},"Northern","NABILATUK",79421,{"$f":"IF(INTRO!$E$48=\"\",\"\",ROUND($D99*INTRO!$E$48,0))","v":11278},{"$f":"IF(INTRO!$E$49=\"\",\"\",ROUND($D99*INTRO!$E$49,0))","v":23985},{"$f":"IF(INTRO!$E$50=\"\",\"\",ROUND($D99*INTRO!$E$50,0))","v":41378},99,0,3,0,{"$f":"IF(INTRO!$E$37=\"Endemic\",IF($H99>0,IF($H99=4,\"Unknown\",IF($H99=99,\"Stopped\",$D99)),0),\"Not required\")","v":"Stopped"},0,{"$f":"IF(INTRO!$E$41=\"Endemic\", IF(AND($J99>1,$J99<5), IF($J99=4, \"Unknown\", E99+F99), 0),\"Not required\")","v":35263},null,0,0,2,0,null,null,null,null,49826,"NABILATUK"]
[{"$f":"IF(INTRO!$E$33<>0,INTRO!$E$33, \" \")","v":"Uganda"},"NORTHERN","NAKAPIRIPIRIT",102490,{"$f":"IF(INTRO!$E$48=\"\",\"\",ROUND($D100*INTRO!$E$48,0))","v":14554},{"$f":"IF(INTRO!$E$49=\"\",\"\",ROUND($D100*INTRO!$E$49,0))","v":30952},{"$f":"IF(INTRO!$E$50=\"\",\"\",ROUND($D100*INTRO!$E$50,0))","v":53397},99,0,3,1,{"$f":"IF(INTRO!$E$37=\"Endemic\",IF($H100>0,IF($H100=4,\"Unknown\",IF($H100=99,\"Stopped\",$D100)),0),\"Not required\")","v":"Stopped"},0,{"$f":"IF(INTRO!$E$41=\"Endemic\", IF(AND($J100>1,$J100<5), IF($J100=4, \"Unknown\", E100+F100), 0),\"Not required\")","v":45506},8658,0,0,2,1,null,null,null,null,49794,"NAKAPIRIPIRIT"]
[{"$f":"IF(INTRO!$E$33<>0,INTRO!$E$33, \" \")","v":"Uganda"},"CENTRAL","NAKASEKE",229137,{"$f":"IF(INTRO!$E$48=\"\",\"\",ROUND($D101*INTRO!$E$48,0))","v":32537},{"$f":"IF(INTRO!$E$49=\"\",\"\",ROUND($D101*INTRO!$E$49,0))","v":69199},{"$f":"IF(INTRO!$E$50=\"\",\"\",ROUND($D101*INTRO!$E$50,0))","v":119380},0,0,3,0,{"$f":"IF(INTRO!$E$37=\"Endemic\",IF($H101>0,IF($H101=4,\"Unknown\",IF($H101=99,\"Stopped\",$D101)),0),\"Not required\")","v":0},0,{"$f":"IF(INTRO!$E$41=\"Endemic\", IF(AND($J101>1,$J101<5), IF($J101=4, \"Unknown\", E101+F101), 0),\"Not required\")","v":101736},null,0,0,2,0,null,null,null,null,49795,"NAKASEKE"]
[{"$f":"IF(INTRO!$E$33<>0,INTRO!$E$33, \" \")","v":"Uganda"},"CENTRAL","NAKASONGOLA",211062,{"$f":"IF(INTRO!$E$48=\"\",\"\",ROUND($D102*INTRO!$E$48,0))","v":29971},{"$f":"IF(INTRO!$E$49=\"\",\"\",ROUND($D102*INTRO!$E$49,0))","v":63741},{"$f":"IF(INTRO!$E$50=\"\",\"\",ROUND($D102*INTRO!$E$50,0))","v":109963},0,0,3,1,{"$f":"IF(INTRO!$E$37=\"Endemic\",IF($H102>0,IF($H102=4,\"Unknown\",IF($H102=99,\"Stopped\",$D102)),0),\"Not required\")","v":0},0,{"$f":"IF(INTRO!$E$41=\"Endemic\", IF(AND($J102>1,$J102<5), IF($J102=4, \"Unknown\", E102+F102), 0),\"Not required\")","v":93712},44713,0,0,2,1,null,null,null,null,49791,"NAKASONGOLA"]
[{"$f":"IF(INTRO!$E$33<>0,INTRO!$E$33, \" \")","v":"Uganda"},"EASTERN","NAMAYINGO",275470,{"$f":"IF(INTRO!$E$48=\"\",\"\",ROUND($D103*INTRO!$E$48,0))","v":39117},{"$f":"IF(INTRO!$E$49=\"\",\"\",ROUND($D103*INTRO!$E$49,0))","v":83192},{"$f":"IF(INTRO!$E$50=\"\",\"\",ROUND($D103*INTRO!$E$50,0))","v":143520},1,0,3,3,{"$f":"IF(INTRO!$E$37=\"Endemic\",IF($H103>0,IF($H103=4,\"Unknown\",IF($H103=99,\"Stopped\",$D103)),0),\"Not required\")","v":275470},0,{"$f":"IF(INTRO!$E$41=\"Endemic\", IF(AND($J103>1,$J103<5), IF($J103=4, \"Unknown\", E103+F103), 0),\"Not required\")","v":122309},275470,1,0,2,1,null,null,null,null,49796,"NAMAYINGO"]
[{"$f":"IF(INTRO!$E$33<>0,INTRO!$E$33, \" \")","v":"Uganda"},"Eastern","Namusidwa",184849,{"$f":"IF(INTRO!$E$48=\"\",\"\",ROUND($D104*INTRO!$E$48,0))","v":26249},{"$f":"IF(INTRO!$E$49=\"\",\"\",ROUND($D104*INTRO!$E$49,0))","v":55824},{"$f":"IF(INTRO!$E$50=\"\",\"\",ROUND($D104*INTRO!$E$50,0))","v":96306},0,0,3,1,{"$f":"IF(INTRO!$E$37=\"Endemic\",IF($H104>0,IF($H104=4,\"Unknown\",IF($H104=99,\"Stopped\",$D104)),0),\"Not required\")","v":0},0,{"$f":"IF(INTRO!$E$41=\"Endemic\", IF(AND($J104>1,$J104<5), IF($J104=4, \"Unknown\", E104+F104), 0),\"Not required\")","v":82073},7896,0,0,2,1,null,null,null,null,49834,"NAMISINDWA"]
[{"$f":"IF(INTRO!$E$33<>0,INTRO!$E$33, \" \")","v":"Uganda"},"EASTERN","NAMUTUMBA",293216,{"$f":"IF(INTRO!$E$48=\"\",\"\",ROUND($D105*INTRO!$E$48,0))","v":41637},{"$f":"IF(INTRO!$E$49=\"\",\"\",ROUND($D105*INTRO!$E$49,0))","v":88551},{"$f":"IF(INTRO!$E$50=\"\",\"\",ROUND($D105*INTRO!$E$50,0))","v":152766},99,0,3,1,{"$f":"IF(INTRO!$E$37=\"Endemic\",IF($H105>0,IF($H105=4,\"Unknown\",IF($H105=99,\"Stopped\",$D105)),0),\"Not required\")","v":"Stopped"},0,{"$f":"IF(INTRO!$E$41=\"Endemic\", IF(AND($J105>1,$J105<5), IF($J105=4, \"Unknown\", E105+F105), 0),\"Not required\")","v":130188},105833,0,0,2,1,null,null,null,null,49792,"NAMUTUMBA"]
[{"$f":"IF(INTRO!$E$33<>0,INTRO!$E$33, \" \")","v":"Uganda"},"NORTHERN","NAPAK",165116,{"$f":"IF(INTRO!$E$48=\"\",\"\",ROUND($D106*INTRO!$E$48,0))","v":23446},{"$f":"IF(INTRO!$E$49=\"\",\"\",ROUND($D106*INTRO!$E$49,0))","v":49865},{"$f":"IF(INTRO!$E$50=\"\",\"\",ROUND($D106*INTRO!$E$50,0))","v":86025},99,0,3,0,{"$f":"IF(INTRO!$E$37=\"Endemic\",IF($H106>0,IF($H106=4,\"Unknown\",IF($H106=99,\"Stopped\",$D106)),0),\"Not required\")","v":"Stopped"},0,{"$f":"IF(INTRO!$E$41=\"Endemic\", IF(AND($J106>1,$J106<5), IF($J106=4, \"Unknown\", E106+F106), 0),\"Not required\")","v":73311},null,0,0,2,0,null,null,null,null,49797,"NAPAK"]
[{"$f":"IF(INTRO!$E$33<>0,INTRO!$E$33, \" \")","v":"Uganda"},"NORTHERN","NEBBI",277188,{"$f":"IF(INTRO!$E$48=\"\",\"\",ROUND($D107*INTRO!$E$48,0))","v":39361},{"$f":"IF(INTRO!$E$49=\"\",\"\",ROUND($D107*INTRO!$E$49,0))","v":83711},{"$f":"IF(INTRO!$E$50=\"\",\"\",ROUND($D107*INTRO!$E$50,0))","v":144415},99,1,3,0,{"$f":"IF(INTRO!$E$37=\"Endemic\",IF($H107>0,IF($H107=4,\"Unknown\",IF($H107=99,\"Stopped\",$D107)),0),\"Not required\")","v":"Stopped"},66211,{"$f":"IF(INTRO!$E$41=\"Endemic\", IF(AND($J107>1,$J107<5), IF($J107=4, \"Unknown\", E107+F107), 0),\"Not required\")","v":123072},null,0,2,2,0,null,null,null,null,49793,"NEBBI"]
[{"$f":"IF(INTRO!$E$33<>0,INTRO!$E$33, \" \")","v":"Uganda"},"EASTERN","NGORA",164762,{"$f":"IF(INTRO!$E$48=\"\",\"\",ROUND($D108*INTRO!$E$48,0))","v":23396},{"$f":"IF(INTRO!$E$49=\"\",\"\",ROUND($D108*INTRO!$E$49,0))","v":49758},{"$f":"IF(INTRO!$E$50=\"\",\"\",ROUND($D108*INTRO!$E$50,0))","v":85841},99,0,3,1,{"$f":"IF(INTRO!$E$37=\"Endemic\",IF($H108>0,IF($H108=4,\"Unknown\",IF($H108=99,\"Stopped\",$D108)),0),\"Not required\")","v":"Stopped"},0,{"$f":"IF(INTRO!$E$41=\"Endemic\", IF(AND($J108>1,$J108<5), IF($J108=4, \"Unknown\", E108+F108), 0),\"Not required\")","v":73154},49923,0,0,2,1,null,null,null,null,49798,"NGORA"]
[{"$f":"IF(INTRO!$E$33<>0,INTRO!$E$33, \" \")","v":"Uganda"},"WESTERN","NTOROKO",77790,{"$f":"IF(INTRO!$E$48=\"\",\"\",ROUND($D109*INTRO!$E$48,0))","v":11046},{"$f":"IF(INTRO!$E$49=\"\",\"\",ROUND($D109*INTRO!$E$49,0))","v":23493},{"$f":"IF(INTRO!$E$50=\"\",\"\",ROUND($D109*INTRO!$E$50,0))","v":40529},99,0,3,3,{"$f":"IF(INTRO!$E$37=\"Endemic\",IF($H109>0,IF($H109=4,\"Unknown\",IF($H109=99,\"Stopped\",$D109)),0),\"Not required\")","v":"Stopped"},0,{"$f":"IF(INTRO!$E$41=\"Endemic\", IF(AND($J109>1,$J109<5), IF($J109=4, \"Unknown\", E109+F109), 0),\"Not required\")","v":34539},18578,0,0,2,1,null,null,null,null,49799,"NTOROKO"]
[{"$f":"IF(INTRO!$E$33<>0,INTRO!$E$33, \" \")","v":"Uganda"},"WESTERN","NTUNGAMO",561722,{"$f":"IF(INTRO!$E$48=\"\",\"\",ROUND($D110*INTRO!$E$48,0))","v":79765},{"$f":"IF(INTRO!$E$49=\"\",\"\",ROUND($D110*INTRO!$E$49,0))","v":169640},{"$f":"IF(INTRO!$E$50=\"\",\"\",ROUND($D110*INTRO!$E$50,0))","v":292657},0,0,3,0,{"$f":"IF(INTRO!$E$37=\"Endemic\",IF($H110>0,IF($H110=4,\"Unknown\",IF($H110=99,\"Stopped\",$D110)),0),\"Not required\")","v":0},0,{"$f":"IF(INTRO!$E$41=\"Endemic\", IF(AND($J110>1,$J110<5), IF($J110=4, \"Unknown\", E110+F110), 0),\"Not required\")","v":249405},null,0,0,2,0,null,null,null,null,49800,"NTUNGAMO"]
[{"$f":"IF(INTRO!$E$33<>0,INTRO!$E$33, \" \")","v":"Uganda"},"NORTHERN","NWOYA",186036,{"$f":"IF(INTRO!$E$48=\"\",\"\",ROUND($D111*INTRO!$E$48,0))","v":26417},{"$f":"IF(INTRO!$E$49=\"\",\"\",ROUND($D111*INTRO!$E$49,0))","v":56183},{"$f":"IF(INTRO!$E$50=\"\",\"\",ROUND($D111*INTRO!$E$50,0))","v":96925},99,99,3,2,{"$f":"IF(INTRO!$E$37=\"Endemic\",IF($H111>0,IF($H111=4,\"Unknown\",IF($H111=99,\"Stopped\",$D111)),0),\"Not required\")","v":"Stopped"},"Stopped",{"$f":"IF(INTRO!$E$41=\"Endemic\", IF(AND($J111>1,$J111<5), IF($J111=4, \"Unknown\", E111+F111), 0),\"Not required\")","v":82600},186036,0,0,2,1,null,null,null,null,49801,"NWOYA"]
[{"$f":"IF(INTRO!$E$33<>0,INTRO!$E$33, \" \")","v":"Uganda"},"NORTHERN","OMORO",198334,{"$f":"IF(INTRO!$E$48=\"\",\"\",ROUND($D112*INTRO!$E$48,0))","v":28163},{"$f":"IF(INTRO!$E$49=\"\",\"\",ROUND($D112*INTRO!$E$49,0))","v":59897},{"$f":"IF(INTRO!$E$50=\"\",\"\",ROUND($D112*INTRO!$E$50,0))","v":103332},1,1,3,2,{"$f":"IF(INTRO!$E$37=\"Endemic\",IF($H112>0,IF($H112=4,\"Unknown\",IF($H112=99,\"Stopped\",$D112)),0),\"Not required\")","v":198334},198334,{"$f":"IF(INTRO!$E$41=\"Endemic\", IF(AND($J112>1,$J112<5), IF($J112=4, \"Unknown\", E112+F112), 0),\"Not required\")","v":88060},198334,1,2,2,1,null,null,null,null,49818,"OMORO"]
[{"$f":"IF(INTRO!$E$33<>0,INTRO!$E$33, \" \")","v":"Uganda"},"NORTHERN","OTUKE",121036,{"$f":"IF(INTRO!$E$48=\"\",\"\",ROUND($D113*INTRO!$E$48,0))","v":17187},{"$f":"IF(INTRO!$E$49=\"\",\"\",ROUND($D113*INTRO!$E$49,0))","v":36553},{"$f":"IF(INTRO!$E$50=\"\",\"\",ROUND($D113*INTRO!$E$50,0))","v":63060},99,0,3,0,{"$f":"IF(INTRO!$E$37=\"Endemic\",IF($H113>0,IF($H113=4,\"Unknown\",IF($H113=99,\"Stopped\",$D113)),0),\"Not required\")","v":"Stopped"},0,{"$f":"IF(INTRO!$E$41=\"Endemic\", IF(AND($J113>1,$J113<5), IF($J113=4, \"Unknown\", E113+F113), 0),\"Not required\")","v":53740},null,0,0,2,0,null,null,null,null,49803,"OTUKE"]
[{"$f":"IF(INTRO!$E$33<>0,INTRO!$E$33, \" \")","v":"Uganda"},"NORTHERN","OYAM",445397,{"$f":"IF(INTRO!$E$48=\"\",\"\",ROUND($D114*INTRO!$E$48,0))","v":63246},{"$f":"IF(INTRO!$E$49=\"\",\"\",ROUND($D114*INTRO!$E$49,0))","v":134510},{"$f":"IF(INTRO!$E$50=\"\",\"\",ROUND($D114*INTRO!$E$50,0))","v":232052},99,1,3,3,{"$f":"IF(INTRO!$E$37=\"Endemic\",IF($H114>0,IF($H114=4,\"Unknown\",IF($H114=99,\"Stopped\",$D114)),0),\"Not required\")","v":"Stopped"},24556,{"$f":"IF(INTRO!$E$41=\"Endemic\", IF(AND($J114>1,$J114<5), IF($J114=4, \"Unknown\", E114+F114), 0),\"Not required\")","v":197756},230545,0,2,2,1,null,null,null,null,49802,"OYAM"]
[{"$f":"IF(INTRO!$E$33<>0,INTRO!$E$33, \" \")","v":"Uganda"},"NORTHERN","PADER",404286,{"$f":"IF(INTRO!$E$48=\"\",\"\",ROUND($D115*INTRO!$E$48,0))","v":57409},{"$f":"IF(INTRO!$E$49=\"\",\"\",ROUND($D115*INTRO!$E$49,0))","v":122094},{"$f":"IF(INTRO!$E$50=\"\",\"\",ROUND($D115*INTRO!$E$50,0))","v":210633},99,1,3,3,{"$f":"IF(INTRO!$E$37=\"Endemic\",IF($H115>0,IF($H115=4,\"Unknown\",IF($H115=99,\"Stopped\",$D115)),0),\"Not required\")","v":"Stopped"},200673,{"$f":"IF(INTRO!$E$41=\"Endemic\", IF(AND($J115>1,$J115<5), IF($J115=4, \"Unknown\", E115+F115), 0),\"Not required\")","v":179503},207734,0,2,2,1,null,null,null,null,49805,"PADER"]
[{"$f":"IF(INTRO!$E$33<>0,INTRO!$E$33, \" \")","v":"Uganda"},"NORTHERN","PAKWACH",183476,{"$f":"IF(INTRO!$E$48=\"\",\"\",ROUND($D116*INTRO!$E$48,0))","v":26054},{"$f":"IF(INTRO!$E$49=\"\",\"\",ROUND($D116*INTRO!$E$49,0))","v":55410},{"$f":"IF(INTRO!$E$50=\"\",\"\",ROUND($D116*INTRO!$E$50,0))","v":95591},99,1,3,3,{"$f":"IF(INTRO!$E$37=\"Endemic\",IF($H116>0,IF($H116=4,\"Unknown\",IF($H116=99,\"Stopped\",$D116)),0),\"Not required\")","v":"Stopped"},0,{"$f":"IF(INTRO!$E$41=\"Endemic\", IF(AND($J116>1,$J116<5), IF($J116=4, \"Unknown\", E116+F116), 0),\"Not required\")","v":81464},174203,0,2,2,1,null,null,null,null,49827,"PAKWACH"]
[{"$f":"IF(INTRO!$E$33<>0,INTRO!$E$33, \" \")","v":"Uganda"},"EASTERN","PALLISA",280858,{"$f":"IF(INTRO!$E$48=\"\",\"\",ROUND($D117*INTRO!$E$48,0))","v":39882},{"$f":"IF(INTRO!$E$49=\"\",\"\",ROUND($D117*INTRO!$E$49,0))","v":84819},{"$f":"IF(INTRO!$E$50=\"\",\"\",ROUND($D117*INTRO!$E$50,0))","v":146327},99,0,3,1,{"$f":"IF(INTRO!$E$37=\"Endemic\",IF($H117>0,IF($H117=4,\"Unknown\",IF($H117=99,\"Stopped\",$D117)),0),\"Not required\")","v":"Stopped"},0,{"$f":"IF(INTRO!$E$41=\"Endemic\", IF(AND($J117>1,$J117<5), IF($J117=4, \"Unknown\", E117+F117), 0),\"Not required\")","v":124701},45263,0,0,2,1,null,null,null,null,49804,"PALLISA"]
[{"$f":"IF(INTRO!$E$33<>0,INTRO!$E$33, \" \")","v":"Uganda"},"CENTRAL","RAKAI",410727,{"$f":"IF(INTRO!$E$48=\"\",\"\",ROUND($D118*INTRO!$E$48,0))","v":58323},{"$f":"IF(INTRO!$E$49=\"\",\"\",ROUND($D118*INTRO!$E$49,0))","v":124040},{"$f":"IF(INTRO!$E$50=\"\",\"\",ROUND($D118*INTRO!$E$50,0))","v":213989},0,0,3,1,{"$f":"IF(INTRO!$E$37=\"Endemic\",IF($H118>0,IF($H118=4,\"Unknown\",IF($H118=99,\"Stopped\",$D118)),0),\"Not required\")","v":0},0,{"$f":"IF(INTRO!$E$41=\"Endemic\", IF(AND($J118>1,$J118<5), IF($J118=4, \"Unknown\", E118+F118), 0),\"Not required\")","v":182363},22130,0,0,2,1,null,null,null,null,49807,"RAKAI"]
[{"$f":"IF(INTRO!$E$33<>0,INTRO!$E$33, \" \")","v":"Uganda"},"WESTERN","RUBANDA",228590,{"$f":"IF(INTRO!$E$48=\"\",\"\",ROUND($D119*INTRO!$E$48,0))","v":32460},{"$f":"IF(INTRO!$E$49=\"\",\"\",ROUND($D119*INTRO!$E$49,0))","v":69034},{"$f":"IF(INTRO!$E$50=\"\",\"\",ROUND($D119*INTRO!$E$50,0))","v":119095},0,1,3,0,{"$f":"IF(INTRO!$E$37=\"Endemic\",IF($H119>0,IF($H119=4,\"Unknown\",IF($H119=99,\"Stopped\",$D119)),0),\"Not required\")","v":0},34280,{"$f":"IF(INTRO!$E$41=\"Endemic\", IF(AND($J119>1,$J119<5), IF($J119=4, \"Unknown\", E119+F119), 0),\"Not required\")","v":101494},null,0,2,2,0,null,null,null,null,49821,"RUBANDA"]
[{"$f":"IF(INTRO!$E$33<>0,INTRO!$E$33, \" \")","v":"Uganda"},"WESTERN","RUBIRIZI",149937,{"$f":"IF(INTRO!$E$48=\"\",\"\",ROUND($D120*INTRO!$E$48,0))","v":21291},{"$f":"IF(INTRO!$E$49=\"\",\"\",ROUND($D120*INTRO!$E$49,0))","v":45281},{"$f":"IF(INTRO!$E$50=\"\",\"\",ROUND($D120*INTRO!$E$50,0))","v":78117},0,0,3,3,{"$f":"IF(INTRO!$E$37=\"Endemic\",IF($H120>0,IF($H120=4,\"Unknown\",IF($H120=99,\"Stopped\",$D120)),0),\"Not required\")","v":0},0,{"$f":"IF(INTRO!$E$41=\"Endemic\", IF(AND($J120>1,$J120<5), IF($J120=4, \"Unknown\", E120+F120), 0),\"Not required\")","v":66572},4258,0,0,2,1,null,null,null,null,49808,"RUBIRIZI"]
[{"$f":"IF(INTRO!$E$33<>0,INTRO!$E$33, \" \")","v":"Uganda"},"Western","RUKIGA",116939,{"$f":"IF(INTRO!$E$48=\"\",\"\",ROUND($D121*INTRO!$E$48,0))","v":16605},{"$f":"IF(INTRO!$E$49=\"\",\"\",ROUND($D121*INTRO!$E$49,0))","v":35316},{"$f":"IF(INTRO!$E$50=\"\",\"\",ROUND($D121*INTRO!$E$50,0))","v":60925},0,0,3,0,{"$f":"IF(INTRO!$E$37=\"Endemic\",IF($H121>0,IF($H121=4,\"Unknown\",IF($H121=99,\"Stopped\",$D121)),0),\"Not required\")","v":0},0,{"$f":"IF(INTRO!$E$41=\"Endemic\", IF(AND($J121>1,$J121<5), IF($J121=4, \"Unknown\", E121+F121), 0),\"Not required\")","v":51921},null,0,0,2,0,null,null,null,null,49829,"RUKIGA"]
[{"$f":"IF(INTRO!$E$33<>0,INTRO!$E$33, \" \")","v":"Uganda"},"WESTERN","RUKUNGIRI",365349,{"$f":"IF(INTRO!$E$48=\"\",\"\",ROUND($D122*INTRO!$E$48,0))","v":51880},{"$f":"IF(INTRO!$E$49=\"\",\"\",ROUND($D122*INTRO!$E$49,0))","v":110335},{"$f":"IF(INTRO!$E$50=\"\",\"\",ROUND($D122*INTRO!$E$50,0))","v":190347},0,0,3,1,{"$f":"IF(INTRO!$E$37=\"Endemic\",IF($H122>0,IF($H122=4,\"Unknown\",IF($H122=99,\"Stopped\",$D122)),0),\"Not required\")","v":0},0,{"$f":"IF(INTRO!$E$41=\"Endemic\", IF(AND($J122>1,$J122<5), IF($J122=4, \"Unknown\", E122+F122), 0),\"Not required\")","v":162215},12994,0,0,2,1,null,null,null,null,49806,"RUKUNGIRI"]
[{"$f":"IF(INTRO!$E$33<>0,INTRO!$E$33, \" \")","v":"Uganda"},"CENTRAL","SEMBABULE",293257,{"$f":"IF(INTRO!$E$48=\"\",\"\",ROUND($D123*INTRO!$E$48,0))","v":41642},{"$f":"IF(INTRO!$E$49=\"\",\"\",ROUND($D123*INTRO!$E$49,0))","v":88564},{"$f":"IF(INTRO!$E$50=\"\",\"\",ROUND($D123*INTRO!$E$50,0))","v":152787},0,0,3,0,{"$f":"IF(INTRO!$E$37=\"Endemic\",IF($H123>0,IF($H123=4,\"Unknown\",IF($H123=99,\"Stopped\",$D123)),0),\"Not required\")","v":0},0,{"$f":"IF(INTRO!$E$41=\"Endemic\", IF(AND($J123>1,$J123<5), IF($J123=4, \"Unknown\", E123+F123), 0),\"Not required\")","v":130206},null,0,0,2,0,null,null,null,null,49811,"SSEMBABULE"]
[{"$f":"IF(INTRO!$E$33<>0,INTRO!$E$33, \" \")","v":"Uganda"},"EASTERN","SERERE",331922,{"$f":"IF(INTRO!$E$48=\"\",\"\",ROUND($D124*INTRO!$E$48,0))","v":47133},{"$f":"IF(INTRO!$E$49=\"\",\"\",ROUND($D124*INTRO!$E$49,0))","v":100240},{"$f":"IF(INTRO!$E$50=\"\",\"\",ROUND($D124*INTRO!$E$50,0))","v":172931},99,0,3,3,{"$f":"IF(INTRO!$E$37=\"Endemic\",IF($H124>0,IF($H124=4,\"Unknown\",IF($H124=99,\"Stopped\",$D124)),0),\"Not required\")","v":"Stopped"},0,{"$f":"IF(INTRO!$E$41=\"Endemic\", IF(AND($J124>1,$J124<5), IF($J124=4, \"Unknown\", E124+F124), 0),\"Not required\")","v":147373},207735,0,0,2,1,null,null,null,null,49812,"SERERE"]
[{"$f":"IF(INTRO!$E$33<>0,INTRO!$E$33, \" \")","v":"Uganda"},"WESTERN","SHEEMA",240717,{"$f":"IF(INTRO!$E$48=\"\",\"\",ROUND($D125*INTRO!$E$48,0))","v":34182},{"$f":"IF(INTRO!$E$49=\"\",\"\",ROUND($D125*INTRO!$E$49,0))","v":72697},{"$f":"IF(INTRO!$E$50=\"\",\"\",ROUND($D125*INTRO!$E$50,0))","v":125414},0,0,3,0,{"$f":"IF(INTRO!$E$37=\"Endemic\",IF($H125>0,IF($H125=4,\"Unknown\",IF($H125=99,\"Stopped\",$D125)),0),\"Not required\")","v":0},0,{"$f":"IF(INTRO!$E$41=\"Endemic\", IF(AND($J125>1,$J125<5), IF($J125=4, \"Unknown\", E125+F125), 0),\"Not required\")","v":106879},null,0,0,2,0,null,null,null,null,49813,"SHEEMA"]
[{"$f":"IF(INTRO!$E$33<>0,INTRO!$E$33, \" \")","v":"Uganda"},"EASTERN","SIRONKO",281442,{"$f":"IF(INTRO!$E$48=\"\",\"\",ROUND($D126*INTRO!$E$48,0))","v":39965},{"$f":"IF(INTRO!$E$49=\"\",\"\",ROUND($D126*INTRO!$E$49,0))","v":84995},{"$f":"IF(INTRO!$E$50=\"\",\"\",ROUND($D126*INTRO!$E$50,0))","v":146631},0,99,3,1,{"$f":"IF(INTRO!$E$37=\"Endemic\",IF($H126>0,IF($H126=4,\"Unknown\",IF($H126=99,\"Stopped\",$D126)),0),\"Not required\")","v":0},"Stopped",{"$f":"IF(INTRO!$E$41=\"Endemic\", IF(AND($J126>1,$J126<5), IF($J126=4, \"Unknown\", E126+F126), 0),\"Not required\")","v":124960},10005,0,0,2,1,null,null,null,null,49809,"SIRONKO"]
[{"$f":"IF(INTRO!$E$33<>0,INTRO!$E$33, \" \")","v":"Uganda"},"EASTERN","SOROTI",344613,{"$f":"IF(INTRO!$E$48=\"\",\"\",ROUND($D127*INTRO!$E$48,0))","v":48935},{"$f":"IF(INTRO!$E$49=\"\",\"\",ROUND($D127*INTRO!$E$49,0))","v":104073},{"$f":"IF(INTRO!$E$50=\"\",\"\",ROUND($D127*INTRO!$E$50,0))","v":179543},99,0,3,1,{"$f":"IF(INTRO!$E$37=\"Endemic\",IF($H127>0,IF($H127=4,\"Unknown\",IF($H127=99,\"Stopped\",$D127)),0),\"Not required\")","v":"Stopped"},0,{"$f":"IF(INTRO!$E$41=\"Endemic\", IF(AND($J127>1,$J127<5), IF($J127=4, \"Unknown\", E127+F127), 0),\"Not required\")","v":153008},19646,0,0,2,1,null,null,null,null,49810,"SOROTI"]
[{"$f":"IF(INTRO!$E$33<>0,INTRO!$E$33, \" \")","v":"Uganda"},"EASTERN","TORORO",600313,{"$f":"IF(INTRO!$E$48=\"\",\"\",ROUND($D128*INTRO!$E$48,0))","v":85244},{"$f":"IF(INTRO!$E$49=\"\",\"\",ROUND($D128*INTRO!$E$49,0))","v":181295},{"$f":"IF(INTRO!$E$50=\"\",\"\",ROUND($D128*INTRO!$E$50,0))","v":312763},99,0,3,1,{"$f":"IF(INTRO!$E$37=\"Endemic\",IF($H128>0,IF($H128=4,\"Unknown\",IF($H128=99,\"Stopped\",$D128)),0),\"Not required\")","v":"Stopped"},0,{"$f":"IF(INTRO!$E$41=\"Endemic\", IF(AND($J128>1,$J128<5), IF($J128=4, \"Unknown\", E128+F128), 0),\"Not required\")","v":266539},114436,0,0,2,1,null,null,null,null,49814,"TORORO"]
[{"$f":"IF(INTRO!$E$33<>0,INTRO!$E$33, \" \")","v":"Uganda"},"CENTRAL","WAKISO",2318930,{"$f":"IF(INTRO!$E$48=\"\",\"\",ROUND($D129*INTRO!$E$48,0))","v":329288},{"$f":"IF(INTRO!$E$49=\"\",\"\",ROUND($D129*INTRO!$E$49,0))","v":700317},{"$f":"IF(INTRO!$E$50=\"\",\"\",ROUND($D129*INTRO!$E$50,0))","v":1208163},0,0,3,2,{"$f":"IF(INTRO!$E$37=\"Endemic\",IF($H129>0,IF($H129=4,\"Unknown\",IF($H129=99,\"Stopped\",$D129)),0),\"Not required\")","v":0},0,{"$f":"IF(INTRO!$E$41=\"Endemic\", IF(AND($J129>1,$J129<5), IF($J129=4, \"Unknown\", E129+F129), 0),\"Not required\")","v":1029605},219561,0,0,2,1,null,null,null,null,49815,"WAKISO"]
[{"$f":"IF(INTRO!$E$33<>0,INTRO!$E$33, \" \")","v":"Uganda"},"NORTHERN","YUMBE",562860,{"$f":"IF(INTRO!$E$48=\"\",\"\",ROUND($D130*INTRO!$E$48,0))","v":79926},{"$f":"IF(INTRO!$E$49=\"\",\"\",ROUND($D130*INTRO!$E$49,0))","v":169984},{"$f":"IF(INTRO!$E$50=\"\",\"\",ROUND($D130*INTRO!$E$50,0))","v":293250},99,99,3,2,{"$f":"IF(INTRO!$E$37=\"Endemic\",IF($H130>0,IF($H130=4,\"Unknown\",IF($H130=99,\"Stopped\",$D130)),0),\"Not required\")","v":"Stopped"},"Stopped",{"$f":"IF(INTRO!$E$41=\"Endemic\", IF(AND($J130>1,$J130<5), IF($J130=4, \"Unknown\", E130+F130), 0),\"Not required\")","v":249910},326167,0,0,2,1,null,null,null,null,49816,"YUMBE"]
[{"$f":"IF(INTRO!$E$33<>0,INTRO!$E$33, \" \")","v":"Uganda"},"NORTHERN","ZOMBO",278726,{"$f":"IF(INTRO!$E$48=\"\",\"\",ROUND($D131*INTRO!$E$48,0))","v":39579},{"$f":"IF(INTRO!$E$49=\"\",\"\",ROUND($D131*INTRO!$E$49,0))","v":84175},{"$f":"IF(INTRO!$E$50=\"\",\"\",ROUND($D131*INTRO!$E$50,0))","v":145216},99,1,3,1,{"$f":"IF(INTRO!$E$37=\"Endemic\",IF($H131>0,IF($H131=4,\"Unknown\",IF($H131=99,\"Stopped\",$D131)),0),\"Not required\")","v":"Stopped"},259661,{"$f":"IF(INTRO!$E$41=\"Endemic\", IF(AND($J131>1,$J131<5), IF($J131=4, \"Unknown\", E131+F131), 0),\"Not required\")","v":123754},31966,0,2,2,1,null,null,null,null,49817,"ZOMBO"]
[{"$f":"IF(INTRO!$E$33<>0,INTRO!$E$33, \" \")","v":"Uganda"},"NORTHERN","REFUGEE",200000,{"$f":"IF(INTRO!$E$48=\"\",\"\",ROUND($D132*INTRO!$E$48,0))","v":28400},{"$f":"IF(INTRO!$E$49=\"\",\"\",ROUND($D132*INTRO!$E$49,0))","v":60400},{"$f":"IF(INTRO!$E$50=\"\",\"\",ROUND($D132*INTRO!$E$50,0))","v":104200},99,1,3,1,{"$f":"IF(INTRO!$E$37=\"Endemic\",IF($H132>0,IF($H132=4,\"Unknown\",IF($H132=99,\"Stopped\",$D132)),0),\"Not required\")","v":"Stopped"},{"$f":"IF(INTRO!$E$39=\"Endemic\", IF($I132>0, IF($I132=4,\"Unknown\",IF($I132=99,\"Stopped\",$D132)), 0),\"Not required\")","v":200000},{"$f":"IF(INTRO!$E$41=\"Endemic\", IF(AND($J132>1,$J132<5), IF($J132=4, \"Unknown\", E132+F132), 0),\"Not required\")","v":88800},{"$f":"IF(INTRO!$E$43=\"Endemic\", IF(AND($K132>0,$K132<5), IF($K132=4,\"Unknown\", IF($K132=1, $F132*0.33, IF($K132=2, $F132*0.5+$G132*0.2, SUM(F132:G132)))), 0),\"Not required\")","v":19932},0,2,2,1]
[{"$f":"IF(INTRO!$E$33<>0,INTRO!$E$33, \" \")","v":"Uganda"},null,null,null,{"$f":"IF(INTRO!$E$48=\"\",\"\",ROUND($D133*INTRO!$E$48,0))","v":0},{"$f":"IF(INTRO!$E$49=\"\",\"\",ROUND($D133*INTRO!$E$49,0))","v":0},{"$f":"IF(INTRO!$E$50=\"\",\"\",ROUND($D133*INTRO!$E$50,0))","v":0},null,null,null,null,{"$f":"IF(INTRO!$E$37=\"Endemic\",IF($H133>0,IF($H133=4,\"Unknown\",IF($H133=99,\"Stopped\",$D133)),0),\"Not required\")","v":0},{"$f":"IF(INTRO!$E$39=\"Endemic\", IF($I133>0, IF($I133=4,\"Unknown\",IF($I133=99,\"Stopped\",$D133)), 0),\"Not required\")","v":0},{"$f":"IF(INTRO!$E$41=\"Endemic\", IF(AND($J133>1,$J133<5), IF($J133=4, \"Unknown\", E133+F133), 0),\"Not required\")","v":0},{"$f":"IF(INTRO!$E$43=\"Endemic\", IF(AND($K133>0,$K133<5), IF($K133=4,\"Unknown\", IF($K133=1, $F133*0.33, IF($K133=2, $F133*0.5+$G133*0.2, SUM(F133:G133)))), 0),\"Not required\")","v":0}]
[{"$f":"IF(INTRO!$E$33<>0,INTRO!$E$33, \" \")","v":"Uganda"},null,null,null,{"$f":"IF(INTRO!$E$48=\"\",\"\",ROUND($D134*INTRO!$E$48,0))","v":0},{"$f":"IF(INTRO!$E$49=\"\",\"\",ROUND($D134*INTRO!$E$49,0))","v":0},{"$f":"IF(INTRO!$E$50=\"\",\"\",ROUND($D134*INTRO!$E$50,0))","v":0},null,null,null,null,{"$f":"IF(INTRO!$E$37=\"Endemic\",IF($H134>0,IF($H134=4,\"Unknown\",IF($H134=99,\"Stopped\",$D134)),0),\"Not required\")","v":0},{"$f":"IF(INTRO!$E$39=\"Endemic\", IF($I134>0, IF($I134=4,\"Unknown\",IF($I134=99,\"Stopped\",$D134)), 0),\"Not required\")","v":0},{"$f":"IF(INTRO!$E$41=\"Endemic\", IF(AND($J134>1,$J134<5), IF($J134=4, \"Unknown\", E134+F134), 0),\"Not required\")","v":0},{"$f":"IF(INTRO!$E$43=\"Endemic\", IF(AND($K134>0,$K134<5), IF($K134=4,\"Unknown\", IF($K134=1, $F134*0.33, IF($K134=2, $F134*0.5+$G134*0.2, SUM(F134:G134)))), 0),\"Not required\")","v":0}]
[{"$f":"IF(INTRO!$E$33<>0,INTRO!$E$33, \" \")","v":"Uganda"},null,null,null,{"$f":"IF(INTRO!$E$48=\"\",\"\",ROUND($D135*INTRO!$E$48,0))","v":0},{"$f":"IF(INTRO!$E$49=\"\",\"\",ROUND($D135*INTRO!$E$49,0))","v":0},{"$f":"IF(INTRO!$E$50=\"\",\"\",ROUND($D135*INTRO!$E$50,0))","v":0},null,null,null,null,{"$f":"IF(INTRO!$E$37=\"Endemic\",IF($H135>0,IF($H135=4,\"Unknown\",IF($H135=99,\"Stopped\",$D135)),0),\"Not required\")","v":0},{"$f":"IF(INTRO!$E$39=\"Endemic\", IF($I135>0, IF($I135=4,\"Unknown\",IF($I135=99,\"Stopped\",$D135)), 0),\"Not required\")","v":0},{"$f":"IF(INTRO!$E$41=\"Endemic\", IF(AND($J135>1,$J135<5), IF($J135=4, \"Unknown\", E135+F135), 0),\"Not required\")","v":0},{"$f":"IF(INTRO!$E$43=\"Endemic\", IF(AND($K135>0,$K135<5), IF($K135=4,\"Unknown\", IF($K135=1, $F135*0.33, IF($K135=2, $F135*0.5+$G135*0.2, SUM(F135:G135)))), 0),\"Not required\")","v":0}]
[{"$f":"IF(INTRO!$E$33<>0,INTRO!$E$33, \" \")","v":"Uganda"},null,null,null,{"$f":"IF(INTRO!$E$48=\"\",\"\",ROUND($D136*INTRO!$E$48,0))","v":0},{"$f":"IF(INTRO!$E$49=\"\",\"\",ROUND($D136*INTRO!$E$49,0))","v":0},{"$f":"IF(INTRO!$E$50=\"\",\"\",ROUND($D136*INTRO!$E$50,0))","v":0},null,null,null,null,{"$f":"IF(INTRO!$E$37=\"Endemic\",IF($H136>0,IF($H136=4,\"Unknown\",IF($H136=99,\"Stopped\",$D136)),0),\"Not required\")","v":0},{"$f":"IF(INTRO!$E$39=\"Endemic\", IF($I136>0, IF($I136=4,\"Unknown\",IF($I136=99,\"Stopped\",$D136)), 0),\"Not required\")","v":0},{"$f":"IF(INTRO!$E$41=\"Endemic\", IF(AND($J136>1,$J136<5), IF($J136=4, \"Unknown\", E136+F136), 0),\"Not required\")","v":0},{"$f":"IF(INTRO!$E$43=\"Endemic\", IF(AND($K136>0,$K136<5), IF($K136=4,\"Unknown\", IF($K136=1, $F136*0.33, IF($K136=2, $F136*0.5+$G136*0.2, SUM(F136:G136)))), 0),\"Not required\")","v":0}]
[{"$f":"IF(INTRO!$E$33<>0,INTRO!$E$33, \" \")","v":"Uganda"},null,null,null,{"$f":"IF(INTRO!$E$48=\"\",\"\",ROUND($D137*INTRO!$E$48,0))","v":0},{"$f":"IF(INTRO!$E$49=\"\",\"\",ROUND($D137*INTRO!$E$49,0))","v":0},{"$f":"IF(INTRO!$E$50=\"\",\"\",ROUND($D137*INTRO!$E$50,0))","v":0},null,null,null,null,{"$f":"IF(INTRO!$E$37=\"Endemic\",IF($H137>0,IF($H137=4,\"Unknown\",IF($H137=99,\"Stopped\",$D137)),0),\"Not required\")","v":0},{"$f":"IF(INTRO!$E$39=\"Endemic\", IF($I137>0, IF($I137=4,\"Unknown\",IF($I137=99,\"Stopped\",$D137)), 0),\"Not required\")","v":0},{"$f":"IF(INTRO!$E$41=\"Endemic\", IF(AND($J137>1,$J137<5), IF($J137=4, \"Unknown\", E137+F137), 0),\"Not required\")","v":0},{"$f":"IF(INTRO!$E$43=\"Endemic\", IF(AND($K137>0,$K137<5), IF($K137=4,\"Unknown\", IF($K137=1, $F137*0.33, IF($K137=2, $F137*0.5+$G137*0.2, SUM(F137:G137)))), 0),\"Not required\")","v":0}]
[{"$f":"IF(INTRO!$E$33<>0,INTRO!$E$33, \" \")","v":"Uganda"},null,null,null,{"$f":"IF(INTRO!$E$48=\"\",\"\",ROUND($D138*INTRO!$E$48,0))","v":0},{"$f":"IF(INTRO!$E$49=\"\",\"\",ROUND($D138*INTRO!$E$49,0))","v":0},{"$f":"IF(INTRO!$E$50=\"\",\"\",ROUND($D138*INTRO!$E$50,0))","v":0},null,null,null,null,{"$f":"IF(INTRO!$E$37=\"Endemic\",IF($H138>0,IF($H138=4,\"Unknown\",IF($H138=99,\"Stopped\",$D138)),0),\"Not required\")","v":0},{"$f":"IF(INTRO!$E$39=\"Endemic\", IF($I138>0, IF($I138=4,\"Unknown\",IF($I138=99,\"Stopped\",$D138)), 0),\"Not required\")","v":0},{"$f":"IF(INTRO!$E$41=\"Endemic\", IF(AND($J138>1,$J138<5), IF($J138=4, \"Unknown\", E138+F138), 0),\"Not required\")","v":0},{"$f":"IF(INTRO!$E$43=\"Endemic\", IF(AND($K138>0,$K138<5), IF($K138=4,\"Unknown\", IF($K138=1, $F138*0.33, IF($K138=2, $F138*0.5+$G138*0.2, SUM(F138:G138)))), 0),\"Not required\")","v":0}]

{"sheet":"DEC","index":2,"n_rows":138,"n_cols":13,"rows_kept":138,"cut":false,"hidden":true,"merged":[[3,0,3,2],[5,0,5,2],[6,5,7,5],[6,2,7,2],[6,1,7,1],[6,10,7,10],[6,0,7,0],[6,11,7,11],[5,3,5,6],[5,9,5,12],[6,4,7,4],[6,3,7,3],[6,8,7,8],[6,12,7,12],[6,7,7,7],[6,6,7,6],[6,9,7,9]]}
["Diethylcarbamazine citrate (DEC)"]
["Administrative structure, eligible population by age group, treatment plan and information about tablets"]
[]
["TOTAL",null,null,{"$f":"SUM(D$9:D$1000)","v":0},{"$f":"SUM(E$9:E$1000)","v":0},{"$f":"SUM(F$9:F$1000)","v":0},{"$f":"SUM(G$9:G$1000)","v":0},null,{"$f":"SUM(I$9:I$1000)","v":0},{"$f":"SUM(J$9:J$1000)","v":0},{"$f":"SUM(K$9:K$1000)","v":0},{"$f":"SUM(L$9:L$1000)","v":0},{"$f":"SUM(M$9:M$1000)","v":0}]
[]
["Country administrative structure",null,null,"Population requiring treatment with DEC",null,null,null,"Treatment plan","Target population","Diethylcarbamazine citrate (DEC)"]
["Country","Province/State","District","PreSAC","SAC","Adults","Total","LF","LF","Total required","Remaining in stock","Tablets to be procured","Bottle (100 mg)\n1000 tablets"]
[]
[{"$f":"IF(INTRO!$E$39<>\"Non-endemic\", \" \", IF(INTRO!$E$37=\"Non-endemic\",\" \", IF(COUNTRY_INFO!A9=0,\" \",COUNTRY_INFO!A9)))","v":" "},{"$f":"IF(INTRO!$E$39<>\"Non-endemic\", \" \", IF(INTRO!$E$37=\"Non-endemic\",\" \", IF(COUNTRY_INFO!B9=0,\" \",COUNTRY_INFO!B9)))","v":" "},{"$f":"IF(INTRO!$E$39<>\"Non-endemic\", \" \", IF(INTRO!$E$37=\"Non-endemic\",\" \", IF(COUNTRY_INFO!C9=0,\" \",COUNTRY_INFO!C9)))","v":" "},{"$f":"IF(INTRO!$E$39<>\"Non-endemic\", 0, IF(INTRO!$E$37=\"Non-endemic\",0,IF(COUNTRY_INFO!$H9=1,COUNTRY_INFO!E9,0)))","v":0},{"$f":"IF(INTRO!$E$39<>\"Non-endemic\", 0, IF(INTRO!$E$37=\"Non-endemic\",0,IF(COUNTRY_INFO!$H9=1,COUNTRY_INFO!F9,0)))","v":0},{"$f":"IF(INTRO!$E$39<>\"Non-endemic\", 0, IF(INTRO!$E$37=\"Non-endemic\",0,IF(COUNTRY_INFO!$H9=1,COUNTRY_INFO!G9,0)))","v":0},{"$f":"SUM(D9:F9)","v":0},{"$f":"IF(INTRO!$E$39=\"Non-endemic\",IF(INTRO!$E$37=\"Non-endemic\",\"Not required\",COUNTRY_INFO!P9),\"Treat with IVM\")","v":"Treat with IVM"},{"$f":"IF(H9=1,G9,0)","v":0},{"$f":"IF(I9>0,I9*2.5,0)","v":0},null,{"$f":"IF($J9>$K9,$J9-$K9,0)","v":0},{"$f":"ROUNDUP($J9/1000,0)","v":0}]
[{"$f":"IF(INTRO!$E$39<>\"Non-endemic\", \" \", IF(INTRO!$E$37=\"Non-endemic\",\" \", IF(COUNTRY_INFO!A10=0,\" \",COUNTRY_INFO!A10)))","v":" "},{"$f":"IF(INTRO!$E$39<>\"Non-endemic\", \" \", IF(INTRO!$E$37=\"Non-endemic\",\" \", IF(COUNTRY_INFO!B10=0,\" \",COUNTRY_INFO!B10)))","v":" "},{"$f":"IF(INTRO!$E$39<>\"Non-endemic\", \" \", IF(INTRO!$E$37=\"Non-endemic\",\" \", IF(COUNTRY_INFO!C10=0,\" \",COUNTRY_INFO!C10)))","v":" "},{"$f":"IF(INTRO!$E$39<>\"Non-endemic\", 0, IF(INTRO!$E$37=\"Non-endemic\",0,IF(COUNTRY_INFO!$H10=1,COUNTRY_INFO!E10,0)))","v":0},{"$f":"IF(INTRO!$E$39<>\"Non-endemic\", 0, IF(INTRO!$E$37=\"Non-endemic\",0,IF(COUNTRY_INFO!$H10=1,COUNTRY_INFO!F10,0)))","v":0},{"$f":"IF(INTRO!$E$39<>\"Non-endemic\", 0, IF(INTRO!$E$37=\"Non-endemic\",0,IF(COUNTRY_INFO!$H10=1,COUNTRY_INFO!G10,0)))","v":0},0,{"$f":"IF(INTRO!$E$39=\"Non-endemic\",IF(INTRO!$E$37=\"Non-endemic\",\"Not required\",COUNTRY_INFO!P10),\"Treat with IVM\")","v":"Treat with IVM"},0,0,null,0,0]
[{"$f":"IF(INTRO!$E$39<>\"Non-endemic\", \" \", IF(INTRO!$E$37=\"Non-endemic\",\" \", IF(COUNTRY_INFO!A11=0,\" \",COUNTRY_INFO!A11)))","v":" "},{"$f":"IF(INTRO!$E$39<>\"Non-endemic\", \" \", IF(INTRO!$E$37=\"Non-endemic\",\" \", IF(COUNTRY_INFO!B11=0,\" \",COUNTRY_INFO!B11)))","v":" "},{"$f":"IF(INTRO!$E$39<>\"Non-endemic\", \" \", IF(INTRO!$E$37=\"Non-endemic\",\" \", IF(COUNTRY_INFO!C11=0,\" \",COUNTRY_INFO!C11)))","v":" "},{"$f":"IF(INTRO!$E$39<>\"Non-endemic\", 0, IF(INTRO!$E$37=\"Non-endemic\",0,IF(COUNTRY_INFO!$H11=1,COUNTRY_INFO!E11,0)))","v":0},{"$f":"IF(INTRO!$E$39<>\"Non-endemic\", 0, IF(INTRO!$E$37=\"Non-endemic\",0,IF(COUNTRY_INFO!$H11=1,COUNTRY_INFO!F11,0)))","v":0},{"$f":"IF(INTRO!$E$39<>\"Non-endemic\", 0, IF(INTRO!$E$37=\"Non-endemic\",0,IF(COUNTRY_INFO!$H11=1,COUNTRY_INFO!G11,0)))","v":0},0,{"$f":"IF(INTRO!$E$39=\"Non-endemic\",IF(INTRO!$E$37=\"Non-endemic\",\"Not required\",COUNTRY_INFO!P11),\"Treat with IVM\")","v":"Treat with IVM"},0,0,null,0,0]
[{"$f":"IF(INTRO!$E$39<>\"Non-endemic\", \" \", IF(INTRO!$E$37=\"Non-endemic\",\" \", IF(COUNTRY_INFO!A12=0,\" \",COUNTRY_INFO!A12)))","v":" "},{"$f":"IF(INTRO!$E$39<>\"Non-endemic\", \" \", IF(INTRO!$E$37=\"Non-endemic\",\" \", IF(COUNTRY_INFO!B12=0,\" \",COUNTRY_INFO!B12)))","v":" "},{"$f":"IF(INTRO!$E$39<>\"Non-endemic\", \" \", IF(INTRO!$E$37=\"Non-endemic\",\" \", IF(COUNTRY_INFO!C12=0,\" \",COUNTRY_INFO!C12)))","v":" "},{"$f":"IF(INTRO!$E$39<>\"Non-endemic\", 0, IF(INTRO!$E$37=\"Non-endemic\",0,IF(COUNTRY_INFO!$H12=1,COUNTRY_INFO!E12,0)))","v":0},{"$f":"IF(INTRO!$E$39<>\"Non-endemic\", 0, IF(INTRO!$E$37=\"Non-endemic\",0,IF(COUNTRY_INFO!$H12=1,COUNTRY_INFO!F12,0)))","v":0},{"$f":"IF(INTRO!$E$39<>\"Non-endemic\", 0, IF(INTRO!$E$37=\"Non-endemic\",0,IF(COUNTRY_INFO!$H12=1,COUNTRY_INFO!G12,0)))","v":0},0,{"$f":"IF(INTRO!$E$39=\"Non-endemic\",IF(INTRO!$E$37=\"Non-endemic\",\"Not required\",COUNTRY_INFO!P12),\"Treat with IVM\")","v":"Treat with IVM"},0,0,null,0,0]
[{"$f":"IF(INTRO!$E$39<>\"Non-endemic\", \" \", IF(INTRO!$E$37=\"Non-endemic\",\" \", IF(COUNTRY_INFO!A13=0,\" \",COUNTRY_INFO!A13)))","v":" "},{"$f":"IF(INTRO!$E$39<>\"Non-endemic\", \" \", IF(INTRO!$E$37=\"Non-endemic\",\" \", IF(COUNTRY_INFO!B13=0,\" \",COUNTRY_INFO!B13)))","v":" "},{"$f":"IF(INTRO!$E$39<>\"Non-endemic\", \" \", IF(INTRO!$E$37=\"Non-endemic\",\" \", IF(COUNTRY_INFO!C13=0,\" \",COUNTRY_INFO!C13)))","v":" "},{"$f":"IF(INTRO!$E$39<>\"Non-endemic\", 0, IF(INTRO!$E$37=\"Non-endemic\",0,IF(COUNTRY_INFO!$H13=1,COUNTRY_INFO!E13,0)))","v":0},{"$f":"IF(INTRO!$E$39<>\"Non-endemic\", 0, IF(INTRO!$E$37=\"Non-endemic\",0,IF(COUNTRY_INFO!$H13=1,COUNTRY_INFO!F13,0)))","v":0},{"$f":"IF(INTRO!$E$39<>\"Non-endemic\", 0, IF(INTRO!$E$37=\"Non-endemic\",0,IF(COUNTRY_INFO!$H13=1,COUNTRY_INFO!G13,0)))","v":0},0,{"$f":"IF(INTRO!$E$39=\"Non-endemic\",IF(INTRO!$E$37=\"Non-endemic\",\"Not required\",COUNTRY_INFO!P13),\"Treat with IVM\")","v":"Treat with IVM"},0,0,null,0,0]
[{"$f":"IF(INTRO!$E$39<>\"Non-endemic\", \" \", IF(INTRO!$E$37=\"Non-endemic\",\" \", IF(COUNTRY_INFO!A14=0,\" \",COUNTRY_INFO!A14)))","v":" "},{"$f":"IF(INTRO!$E$39<>\"Non-endemic\", \" \", IF(INTRO!$E$37=\"Non-endemic\",\" \", IF(COUNTRY_INFO!B14=0,\" \",COUNTRY_INFO!B14)))","v":" "},{"$f":"IF(INTRO!$E$39<>\"Non-endemic\", \" \", IF(INTRO!$E$37=\"Non-endemic\",\" \", IF(COUNTRY_INFO!C14=0,\" \",COUNTRY_INFO!C14)))","v":" "},{"$f":"IF(INTRO!$E$39<>\"Non-endemic\", 0, IF(INTRO!$E$37=\"Non-endemic\",0,IF(COUNTRY_INFO!$H14=1,COUNTRY_INFO!E14,0)))","v":0},{"$f":"IF(INTRO!$E$39<>\"Non-endemic\", 0, IF(INTRO!$E$37=\"Non-endemic\",0,IF(COUNTRY_INFO!$H14=1,COUNTRY_INFO!F14,0)))","v":0},{"$f":"IF(INTRO!$E$39<>\"Non-endemic\", 0, IF(INTRO!$E$37=\"Non-endemic\",0,IF(COUNTRY_INFO!$H14=1,COUNTRY_INFO!G14,0)))","v":0},0,{"$f":"IF(INTRO!$E$39=\"Non-endemic\",IF(INTRO!$E$37=\"Non-endemic\",\"Not required\",COUNTRY_INFO!P14),\"Treat with IVM\")","v":"Treat with IVM"},0,0,null,0,0]
[{"$f":"IF(INTRO!$E$39<>\"Non-endemic\", \" \", IF(INTRO!$E$37=\"Non-endemic\",\" \", IF(COUNTRY_INFO!A15=0,\" \",COUNTRY_INFO!A15)))","v":" "},{"$f":"IF(INTRO!$E$39<>\"Non-endemic\", \" \", IF(INTRO!$E$37=\"Non-endemic\",\" \", IF(COUNTRY_INFO!B15=0,\" \",COUNTRY_INFO!B15)))","v":" "},{"$f":"IF(INTRO!$E$39<>\"Non-endemic\", \" \", IF(INTRO!$E$37=\"Non-endemic\",\" \", IF(COUNTRY_INFO!C15=0,\" \",COUNTRY_INFO!C15)))","v":" "},{"$f":"IF(INTRO!$E$39<>\"Non-endemic\", 0, IF(INTRO!$E$37=\"Non-endemic\",0,IF(COUNTRY_INFO!$H15=1,COUNTRY_INFO!E15,0)))","v":0},{"$f":"IF(INTRO!$E$39<>\"Non-endemic\", 0, IF(INTRO!$E$37=\"Non-endemic\",0,IF(COUNTRY_INFO!$H15=1,COUNTRY_INFO!F15,0)))","v":0},{"$f":"IF(INTRO!$E$39<>\"Non-endemic\", 0, IF(INTRO!$E$37=\"Non-endemic\",0,IF(COUNTRY_INFO!$H15=1,COUNTRY_INFO!G15,0)))","v":0},0,{"$f":"IF(INTRO!$E$39=\"Non-endemic\",IF(INTRO!$E$37=\"Non-endemic\",\"Not required\",COUNTRY_INFO!P15),\"Treat with IVM\")","v":"Treat with IVM"},0,0,null,0,0]
[{"$f":"IF(INTRO!$E$39<>\"Non-endemic\", \" \", IF(INTRO!$E$37=\"Non-endemic\",\" \", IF(COUNTRY_INFO!A16=0,\" \",COUNTRY_INFO!A16)))","v":" "},{"$f":"IF(INTRO!$E$39<>\"Non-endemic\", \" \", IF(INTRO!$E$37=\"Non-endemic\",\" \", IF(COUNTRY_INFO!B16=0,\" \",COUNTRY_INFO!B16)))","v":" "},{"$f":"IF(INTRO!$E$39<>\"Non-endemic\", \" \", IF(INTRO!$E$37=\"Non-endemic\",\" \", IF(COUNTRY_INFO!C16=0,\" \",COUNTRY_INFO!C16)))","v":" "},{"$f":"IF(INTRO!$E$39<>\"Non-endemic\", 0, IF(INTRO!$E$37=\"Non-endemic\",0,IF(COUNTRY_INFO!$H16=1,COUNTRY_INFO!E16,0)))","v":0},{"$f":"IF(INTRO!$E$39<>\"Non-endemic\", 0, IF(INTRO!$E$37=\"Non-endemic\",0,IF(COUNTRY_INFO!$H16=1,COUNTRY_INFO!F16,0)))","v":0},{"$f":"IF(INTRO!$E$39<>\"Non-endemic\", 0, IF(INTRO!$E$37=\"Non-endemic\",0,IF(COUNTRY_INFO!$H16=1,COUNTRY_INFO!G16,0)))","v":0},0,{"$f":"IF(INTRO!$E$39=\"Non-endemic\",IF(INTRO!$E$37=\"Non-endemic\",\"Not required\",COUNTRY_INFO!P16),\"Treat with IVM\")","v":"Treat with IVM"},0,0,null,0,0]
[{"$f":"IF(INTRO!$E$39<>\"Non-endemic\", \" \", IF(INTRO!$E$37=\"Non-endemic\",\" \", IF(COUNTRY_INFO!A17=0,\" \",COUNTRY_INFO!A17)))","v":" "},{"$f":"IF(INTRO!$E$39<>\"Non-endemic\", \" \", IF(INTRO!$E$37=\"Non-endemic\",\" \", IF(COUNTRY_INFO!B17=0,\" \",COUNTRY_INFO!B17)))","v":" "},{"$f":"IF(INTRO!$E$39<>\"Non-endemic\", \" \", IF(INTRO!$E$37=\"Non-endemic\",\" \", IF(COUNTRY_INFO!C17=0,\" \",COUNTRY_INFO!C17)))","v":" "},{"$f":"IF(INTRO!$E$39<>\"Non-endemic\", 0, IF(INTRO!$E$37=\"Non-endemic\",0,IF(COUNTRY_INFO!$H17=1,COUNTRY_INFO!E17,0)))","v":0},{"$f":"IF(INTRO!$E$39<>\"Non-endemic\", 0, IF(INTRO!$E$37=\"Non-endemic\",0,IF(COUNTRY_INFO!$H17=1,COUNTRY_INFO!F17,0)))","v":0},{"$f":"IF(INTRO!$E$39<>\"Non-endemic\", 0, IF(INTRO!$E$37=\"Non-endemic\",0,IF(COUNTRY_INFO!$H17=1,COUNTRY_INFO!G17,0)))","v":0},0,{"$f":"IF(INTRO!$E$39=\"Non-endemic\",IF(INTRO!$E$37=\"Non-endemic\",\"Not required\",COUNTRY_INFO!P17),\"Treat with IVM\")","v":"Treat with IVM"},0,0,null,0,0]
[{"$f":"IF(INTRO!$E$39<>\"Non-endemic\", \" \", IF(INTRO!$E$37=\"Non-endemic\",\" \", IF(COUNTRY_INFO!A18=0,\" \",COUNTRY_INFO!A18)))","v":" "},{"$f":"IF(INTRO!$E$39<>\"Non-endemic\", \" \", IF(INTRO!$E$37=\"Non-endemic\",\" \", IF(COUNTRY_INFO!B18=0,\" \",COUNTRY_INFO!B18)))","v":" "},{"$f":"IF(INTRO!$E$39<>\"Non-endemic\", \" \", IF(INTRO!$E$37=\"Non-endemic\",\" \", IF(COUNTRY_INFO!C18=0,\" \",COUNTRY_INFO!C18)))","v":" "},{"$f":"IF(INTRO!$E$39<>\"Non-endemic\", 0, IF(INTRO!$E$37=\"Non-endemic\",0,IF(COUNTRY_INFO!$H18=1,COUNTRY_INFO!E18,0)))","v":0},{"$f":"IF(INTRO!$E$39<>\"Non-endemic\", 0, IF(INTRO!$E$37=\"Non-endemic\",0,IF(COUNTRY_INFO!$H18=1,COUNTRY_INFO!F18,0)))","v":0},{"$f":"IF(INTRO!$E$39<>\"Non-endemic\", 0, IF(INTRO!$E$37=\"Non-endemic\",0,IF(COUNTRY_INFO!$H18=1,COUNTRY_INFO!G18,0)))","v":0},0,{"$f":"IF(INTRO!$E$39=\"Non-endemic\",IF(INTRO!$E$37=\"Non-endemic\",\"Not required\",COUNTRY_INFO!P18),\"Treat with IVM\")","v":"Treat with IVM"},0,0,null,0,0]
[{"$f":"IF(INTRO!$E$39<>\"Non-endemic\", \" \", IF(INTRO!$E$37=\"Non-endemic\",\" \", IF(COUNTRY_INFO!A19=0,\" \",COUNTRY_INFO!A19)))","v":" "},{"$f":"IF(INTRO!$E$39<>\"Non-endemic\", \" \", IF(INTRO!$E$37=\"Non-endemic\",\" \", IF(COUNTRY_INFO!B19=0,\" \",COUNTRY_INFO!B19)))","v":" "},{"$f":"IF(INTRO!$E$39<>\"Non-endemic\", \" \", IF(INTRO!$E$37=\"Non-endemic\",\" \", IF(COUNTRY_INFO!C19=0,\" \",COUNTRY_INFO!C19)))","v":" "},{"$f":"IF(INTRO!$E$39<>\"Non-endemic\", 0, IF(INTRO!$E$37=\"Non-endemic\",0,IF(COUNTRY_INFO!$H19=1,COUNTRY_INFO!E19,0)))","v":0},{"$f":"IF(INTRO!$E$39<>\"Non-endemic\", 0, IF(INTRO!$E$37=\"Non-endemic\",0,IF(COUNTRY_INFO!$H19=1,COUNTRY_INFO!F19,0)))","v":0},{"$f":"IF(INTRO!$E$39<>\"Non-endemic\", 0, IF(INTRO!$E$37=\"Non-endemic\",0,IF(COUNTRY_INFO!$H19=1,COUNTRY_INFO!G19,0)))","v":0},0,{"$f":"IF(INTRO!$E$39=\"Non-endemic\",IF(INTRO!$E$37=\"Non-endemic\",\"Not required\",COUNTRY_INFO!P19),\"Treat with IVM\")","v":"Treat with IVM"},0,0,null,0,0]
[{"$f":"IF(INTRO!$E$39<>\"Non-endemic\", \" \", IF(INTRO!$E$37=\"Non-endemic\",\" \", IF(COUNTRY_INFO!A20=0,\" \",COUNTRY_INFO!A20)))","v":" "},{"$f":"IF(INTRO!$E$39<>\"Non-endemic\", \" \", IF(INTRO!$E$37=\"Non-endemic\",\" \", IF(COUNTRY_INFO!B20=0,\" \",COUNTRY_INFO!B20)))","v":" "},{"$f":"IF(INTRO!$E$39<>\"Non-endemic\", \" \", IF(INTRO!$E$37=\"Non-endemic\",\" \", IF(COUNTRY_INFO!C20=0,\" \",COUNTRY_INFO!C20)))","v":" "},{"$f":"IF(INTRO!$E$39<>\"Non-endemic\", 0, IF(INTRO!$E$37=\"Non-endemic\",0,IF(COUNTRY_INFO!$H20=1,COUNTRY_INFO!E20,0)))","v":0},{"$f":"IF(INTRO!$E$39<>\"Non-endemic\", 0, IF(INTRO!$E$37=\"Non-endemic\",0,IF(COUNTRY_INFO!$H20=1,COUNTRY_INFO!F20,0)))","v":0},{"$f":"IF(INTRO!$E$39<>\"Non-endemic\", 0, IF(INTRO!$E$37=\"Non-endemic\",0,IF(COUNTRY_INFO!$H20=1,COUNTRY_INFO!G20,0)))","v":0},0,{"$f":"IF(INTRO!$E$39=\"Non-endemic\",IF(INTRO!$E$37=\"Non-endemic\",\"Not required\",COUNTRY_INFO!P20),\"Treat with IVM\")","v":"Treat with IVM"},0,0,null,0,0]
[{"$f":"IF(INTRO!$E$39<>\"Non-endemic\", \" \", IF(INTRO!$E$37=\"Non-endemic\",\" \", IF(COUNTRY_INFO!A21=0,\" \",COUNTRY_INFO!A21)))","v":" "},{"$f":"IF(INTRO!$E$39<>\"Non-endemic\", \" \", IF(INTRO!$E$37=\"Non-endemic\",\" \", IF(COUNTRY_INFO!B21=0,\" \",COUNTRY_INFO!B21)))","v":" "},{"$f":"IF(INTRO!$E$39<>\"Non-endemic\", \" \", IF(INTRO!$E$37=\"Non-endemic\",\" \", IF(COUNTRY_INFO!C21=0,\" \",COUNTRY_INFO!C21)))","v":" "},{"$f":"IF(INTRO!$E$39<>\"Non-endemic\", 0, IF(INTRO!$E$37=\"Non-endemic\",0,IF(COUNTRY_INFO!$H21=1,COUNTRY_INFO!E21,0)))","v":0},{"$f":"IF(INTRO!$E$39<>\"Non-endemic\", 0, IF(INTRO!$E$37=\"Non-endemic\",0,IF(COUNTRY_INFO!$H21=1,COUNTRY_INFO!F21,0)))","v":0},{"$f":"IF(INTRO!$E$39<>\"Non-endemic\", 0, IF(INTRO!$E$37=\"Non-endemic\",0,IF(COUNTRY_INFO!$H21=1,COUNTRY_INFO!G21,0)))","v":0},0,{"$f":"IF(INTRO!$E$39=\"Non-endemic\",IF(INTRO!$E$37=\"Non-endemic\",\"Not required\",COUNTRY_INFO!P21),\"Treat with IVM\")","v":"Treat with IVM"},0,0,null,0,0]
[{"$f":"IF(INTRO!$E$39<>\"Non-endemic\", \" \", IF(INTRO!$E$37=\"Non-endemic\",\" \", IF(COUNTRY_INFO!A22=0,\" \",COUNTRY_INFO!A22)))","v":" "},{"$f":"IF(INTRO!$E$39<>\"Non-endemic\", \" \", IF(INTRO!$E$37=\"Non-endemic\",\" \", IF(COUNTRY_INFO!B22=0,\" \",COUNTRY_INFO!B22)))","v":" "},{"$f":"IF(INTRO!$E$39<>\"Non-endemic\", \" \", IF(INTRO!$E$37=\"Non-endemic\",\" \", IF(COUNTRY_INFO!C22=0,\" \",COUNTRY_INFO!C22)))","v":" "},{"$f":"IF(INTRO!$E$39<>\"Non-endemic\", 0, IF(INTRO!$E$37=\"Non-endemic\",0,IF(COUNTRY_INFO!$H22=1,COUNTRY_INFO!E22,0)))","v":0},{"$f":"IF(INTRO!$E$39<>\"Non-endemic\", 0, IF(INTRO!$E$37=\"Non-endemic\",0,IF(COUNTRY_INFO!$H22=1,COUNTRY_INFO!F22,0)))","v":0},{"$f":"IF(INTRO!$E$39<>\"Non-endemic\", 0, IF(INTRO!$E$37=\"Non-endemic\",0,IF(COUNTRY_INFO!$H22=1,COUNTRY_INFO!G22,0)))","v":0},0,{"$f":"IF(INTRO!$E$39=\"Non-endemic\",IF(INTRO!$E$37=\"Non-endemic\",\"Not required\",COUNTRY_INFO!P22),\"Treat with IVM\")","v":"Treat with IVM"},0,0,null,0,0]
[{"$f":"IF(INTRO!$E$39<>\"Non-endemic\", \" \", IF(INTRO!$E$37=\"Non-endemic\",\" \", IF(COUNTRY_INFO!A23=0,\" \",COUNTRY_INFO!A23)))","v":" "},{"$f":"IF(INTRO!$E$39<>\"Non-endemic\", \" \", IF(INTRO!$E$37=\"Non-endemic\",\" \", IF(COUNTRY_INFO!B23=0,\" \",COUNTRY_INFO!B23)))","v":" "},{"$f":"IF(INTRO!$E$39<>\"Non-endemic\", \" \", IF(INTRO!$E$37=\"Non-endemic\",\" \", IF(COUNTRY_INFO!C23=0,\" \",COUNTRY_INFO!C23)))","v":" "},{"$f":"IF(INTRO!$E$39<>\"Non-endemic\", 0, IF(INTRO!$E$37=\"Non-endemic\",0,IF(COUNTRY_INFO!$H23=1,COUNTRY_INFO!E23,0)))","v":0},{"$f":"IF(INTRO!$E$39<>\"Non-endemic\", 0, IF(INTRO!$E$37=\"Non-endemic\",0,IF(COUNTRY_INFO!$H23=1,COUNTRY_INFO!F23,0)))","v":0},{"$f":"IF(INTRO!$E$39<>\"Non-endemic\", 0, IF(INTRO!$E$37=\"Non-endemic\",0,IF(COUNTRY_INFO!$H23=1,COUNTRY_INFO!G23,0)))","v":0},0,{"$f":"IF(INTRO!$E$39=\"Non-endemic\",IF(INTRO!$E$37=\"Non-endemic\",\"Not required\",COUNTRY_INFO!P23),\"Treat with IVM\")","v":"Treat with IVM"},0,0,null,0,0]
[{"$f":"IF(INTRO!$E$39<>\"Non-endemic\", \" \", IF(INTRO!$E$37=\"Non-endemic\",\" \", IF(COUNTRY_INFO!A24=0,\" \",COUNTRY_INFO!A24)))","v":" "},{"$f":"IF(INTRO!$E$39<>\"Non-endemic\", \" \", IF(INTRO!$E$37=\"Non-endemic\",\" \", IF(COUNTRY_INFO!B24=0,\" \",COUNTRY_INFO!B24)))","v":" "},{"$f":"IF(INTRO!$E$39<>\"Non-endemic\", \" \", IF(INTRO!$E$37=\"Non-endemic\",\" \", IF(COUNTRY_INFO!C24=0,\" \",COUNTRY_INFO!C24)))","v":" "},{"$f":"IF(INTRO!$E$39<>\"Non-endemic\", 0, IF(INTRO!$E$37=\"Non-endemic\",0,IF(COUNTRY_INFO!$H24=1,COUNTRY_INFO!E24,0)))","v":0},{"$f":"IF(INTRO!$E$39<>\"Non-endemic\", 0, IF(INTRO!$E$37=\"Non-endemic\",0,IF(COUNTRY_INFO!$H24=1,COUNTRY_INFO!F24,0)))","v":0},{"$f":"IF(INTRO!$E$39<>\"Non-endemic\", 0, IF(INTRO!$E$37=\"Non-endemic\",0,IF(COUNTRY_INFO!$H24=1,COUNTRY_INFO!G24,0)))","v":0},0,{"$f":"IF(INTRO!$E$39=\"Non-endemic\",IF(INTRO!$E$37=\"Non-endemic\",\"Not required\",COUNTRY_INFO!P24),\"Treat with IVM\")","v":"Treat with IVM"},0,0,null,0,0]
[{"$f":"IF(INTRO!$E$39<>\"Non-endemic\", \" \", IF(INTRO!$E$37=\"Non-endemic\",\" \", IF(COUNTRY_INFO!A25=0,\" \",COUNTRY_INFO!A25)))","v":" "},{"$f":"IF(INTRO!$E$39<>\"Non-endemic\", \" \", IF(INTRO!$E$37=\"Non-endemic\",\" \", IF(COUNTRY_INFO!B25=0,\" \",COUNTRY_INFO!B25)))","v":" "},{"$f":"IF(INTRO!$E$39<>\"Non-endemic\", \" \", IF(INTRO!$E$37=\"Non-endemic\",\" \", IF(COUNTRY_INFO!C25=0,\" \",COUNTRY_INFO!C25)))","v":" "},{"$f":"IF(INTRO!$E$39<>\"Non-endemic\", 0, IF(INTRO!$E$37=\"Non-endemic\",0,IF(COUNTRY_INFO!$H25=1,COUNTRY_INFO!E25,0)))","v":0},{"$f":"IF(INTRO!$E$39<>\"Non-endemic\", 0, IF(INTRO!$E$37=\"Non-endemic\",0,IF(COUNTRY_INFO!$H25=1,COUNTRY_INFO!F25,0)))","v":0},{"$f":"IF(INTRO!$E$39<>\"Non-endemic\", 0, IF(INTRO!$E$37=\"Non-endemic\",0,IF(COUNTRY_INFO!$H25=1,COUNTRY_INFO!G25,0)))","v":0},0,{"$f":"IF(INTRO!$E$39=\"Non-endemic\",IF(INTRO!$E$37=\"Non-endemic\",\"Not required\",COUNTRY_INFO!P25),\"Treat with IVM\")","v":"Treat with IVM"},0,0,null,0,0]
[{"$f":"IF(INTRO!$E$39<>\"Non-endemic\", \" \", IF(INTRO!$E$37=\"Non-endemic\",\" \", IF(COUNTRY_INFO!A26=0,\" \",COUNTRY_INFO!A26)))","v":" "},{"$f":"IF(INTRO!$E$39<>\"Non-endemic\", \" \", IF(INTRO!$E$37=\"Non-endemic\",\" \", IF(COUNTRY_INFO!B26=0,\" \",COUNTRY_INFO!B26)))","v":" "},{"$f":"IF(INTRO!$E$39<>\"Non-endemic\", \" \", IF(INTRO!$E$37=\"Non-endemic\",\" \", IF(COUNTRY_INFO!C26=0,\" \",COUNTRY_INFO!C26)))","v":" "},{"$f":"IF(INTRO!$E$39<>\"Non-endemic\", 0, IF(INTRO!$E$37=\"Non-endemic\",0,IF(COUNTRY_INFO!$H26=1,COUNTRY_INFO!E26,0)))","v":0},{"$f":"IF(INTRO!$E$39<>\"Non-endemic\", 0, IF(INTRO!$E$37=\"Non-endemic\",0,IF(COUNTRY_INFO!$H26=1,COUNTRY_INFO!F26,0)))","v":0},{"$f":"IF(INTRO!$E$39<>\"Non-endemic\", 0, IF(INTRO!$E$37=\"Non-endemic\",0,IF(COUNTRY_INFO!$H26=1,COUNTRY_INFO!G26,0)))","v":0},0,{"$f":"IF(INTRO!$E$39=\"Non-endemic\",IF(INTRO!$E$37=\"Non-endemic\",\"Not required\",COUNTRY_INFO!P26),\"Treat with IVM\")","v":"Treat with IVM"},0,0,null,0,0]
[{"$f":"IF(INTRO!$E$39<>\"Non-endemic\", \" \", IF(INTRO!$E$37=\"Non-endemic\",\" \", IF(COUNTRY_INFO!A27=0,\" \",COUNTRY_INFO!A27)))","v":" "},{"$f":"IF(INTRO!$E$39<>\"Non-endemic\", \" \", IF(INTRO!$E$37=\"Non-endemic\",\" \", IF(COUNTRY_INFO!B27=0,\" \",COUNTRY_INFO!B27)))","v":" "},{"$f":"IF(INTRO!$E$39<>\"Non-endemic\", \" \", IF(INTRO!$E$37=\"Non-endemic\",\" \", IF(COUNTRY_INFO!C27=0,\" \",COUNTRY_INFO!C27)))","v":" "},{"$f":"IF(INTRO!$E$39<>\"Non-endemic\", 0, IF(INTRO!$E$37=\"Non-endemic\",0,IF(COUNTRY_INFO!$H27=1,COUNTRY_INFO!E27,0)))","v":0},{"$f":"IF(INTRO!$E$39<>\"Non-endemic\", 0, IF(INTRO!$E$37=\"Non-endemic\",0,IF(COUNTRY_INFO!$H27=1,COUNTRY_INFO!F27,0)))","v":0},{"$f":"IF(INTRO!$E$39<>\"Non-endemic\", 0, IF(INTRO!$E$37=\"Non-endemic\",0,IF(COUNTRY_INFO!$H27=1,COUNTRY_INFO!G27,0)))","v":0},0,{"$f":"IF(INTRO!$E$39=\"Non-endemic\",IF(INTRO!$E$37=\"Non-endemic\",\"Not required\",COUNTRY_INFO!P27),\"Treat with IVM\")","v":"Treat with IVM"},0,0,null,0,0]
[{"$f":"IF(INTRO!$E$39<>\"Non-endemic\", \" \", IF(INTRO!$E$37=\"Non-endemic\",\" \", IF(COUNTRY_INFO!A28=0,\" \",COUNTRY_INFO!A28)))","v":" "},{"$f":"IF(INTRO!$E$39<>\"Non-endemic\", \" \", IF(INTRO!$E$37=\"Non-endemic\",\" \", IF(COUNTRY_INFO!B28=0,\" \",COUNTRY_INFO!B28)))","v":" "},{"$f":"IF(INTRO!$E$39<>\"Non-endemic\", \" \", IF(INTRO!$E$37=\"Non-endemic\",\" \", IF(COUNTRY_INFO!C28=0,\" \",COUNTRY_INFO!C28)))","v":" "},{"$f":"IF(INTRO!$E$39<>\"Non-endemic\", 0, IF(INTRO!$E$37=\"Non-endemic\",0,IF(COUNTRY_INFO!$H28=1,COUNTRY_INFO!E28,0)))","v":0},{"$f":"IF(INTRO!$E$39<>\"Non-endemic\", 0, IF(INTRO!$E$37=\"Non-endemic\",0,IF(COUNTRY_INFO!$H28=1,COUNTRY_INFO!F28,0)))","v":0},{"$f":"IF(INTRO!$E$39<>\"Non-endemic\", 0, IF(INTRO!$E$37=\"Non-endemic\",0,IF(COUNTRY_INFO!$H28=1,COUNTRY_INFO!G28,0)))","v":0},0,{"$f":"IF(INTRO!$E$39=\"Non-endemic\",IF(INTRO!$E$37=\"Non-endemic\",\"Not required\",COUNTRY_INFO!P28),\"Treat with IVM\")","v":"Treat with IVM"},0,0,null,0,0]
[{"$f":"IF(INTRO!$E$39<>\"Non-endemic\", \" \", IF(INTRO!$E$37=\"Non-endemic\",\" \", IF(COUNTRY_INFO!A29=0,\" \",COUNTRY_INFO!A29)))","v":" "},{"$f":"IF(INTRO!$E$39<>\"Non-endemic\", \" \", IF(INTRO!$E$37=\"Non-endemic\",\" \", IF(COUNTRY_INFO!B29=0,\" \",COUNTRY_INFO!B29)))","v":" "},{"$f":"IF(INTRO!$E$39<>\"Non-endemic\", \" \", IF(INTRO!$E$37=\"Non-endemic\",\" \", IF(COUNTRY_INFO!C29=0,\" \",COUNTRY_INFO!C29)))","v":" "},{"$f":"IF(INTRO!$E$39<>\"Non-endemic\", 0, IF(INTRO!$E$37=\"Non-endemic\",0,IF(COUNTRY_INFO!$H29=1,COUNTRY_INFO!E29,0)))","v":0},{"$f":"IF(INTRO!$E$39<>\"Non-endemic\", 0, IF(INTRO!$E$37=\"Non-endemic\",0,IF(COUNTRY_INFO!$H29=1,COUNTRY_INFO!F29,0)))","v":0},{"$f":"IF(INTRO!$E$39<>\"Non-endemic\", 0, IF(INTRO!$E$37=\"Non-endemic\",0,IF(COUNTRY_INFO!$H29=1,COUNTRY_INFO!G29,0)))","v":0},0,{"$f":"IF(INTRO!$E$39=\"Non-endemic\",IF(INTRO!$E$37=\"Non-endemic\",\"Not required\",COUNTRY_INFO!P29),\"Treat with IVM\")","v":"Treat with IVM"},0,0,null,0,0]
[{"$f":"IF(INTRO!$E$39<>\"Non-endemic\", \" \", IF(INTRO!$E$37=\"Non-endemic\",\" \", IF(COUNTRY_INFO!A30=0,\" \",COUNTRY_INFO!A30)))","v":" "},{"$f":"IF(INTRO!$E$39<>\"Non-endemic\", \" \", IF(INTRO!$E$37=\"Non-endemic\",\" \", IF(COUNTRY_INFO!B30=0,\" \",COUNTRY_INFO!B30)))","v":" "},{"$f":"IF(INTRO!$E$39<>\"Non-endemic\", \" \", IF(INTRO!$E$37=\"Non-endemic\",\" \", IF(COUNTRY_INFO!C30=0,\" \",COUNTRY_INFO!C30)))","v":" "},{"$f":"IF(INTRO!$E$39<>\"Non-endemic\", 0, IF(INTRO!$E$37=\"Non-endemic\",0,IF(COUNTRY_INFO!$H30=1,COUNTRY_INFO!E30,0)))","v":0},{"$f":"IF(INTRO!$E$39<>\"Non-endemic\", 0, IF(INTRO!$E$37=\"Non-endemic\",0,IF(COUNTRY_INFO!$H30=1,COUNTRY_INFO!F30,0)))","v":0},{"$f":"IF(INTRO!$E$39<>\"Non-endemic\", 0, IF(INTRO!$E$37=\"Non-endemic\",0,IF(COUNTRY_INFO!$H30=1,COUNTRY_INFO!G30,0)))","v":0},0,{"$f":"IF(INTRO!$E$39=\"Non-endemic\",IF(INTRO!$E$37=\"Non-endemic\",\"Not required\",COUNTRY_INFO!P30),\"Treat with IVM\")","v":"Treat with IVM"},0,0,null,0,0]
[{"$f":"IF(INTRO!$E$39<>\"Non-endemic\", \" \", IF(INTRO!$E$37=\"Non-endemic\",\" \", IF(COUNTRY_INFO!A31=0,\" \",COUNTRY_INFO!A31)))","v":" "},{"$f":"IF(INTRO!$E$39<>\"Non-endemic\", \" \", IF(INTRO!$E$37=\"Non-endemic\",\" \", IF(COUNTRY_INFO!B31=0,\" \",COUNTRY_INFO!B31)))","v":" "},{"$f":"IF(INTRO!$E$39<>\"Non-endemic\", \" \", IF(INTRO!$E$37=\"Non-endemic\",\" \", IF(COUNTRY_INFO!C31=0,\" \",COUNTRY_INFO!C31)))","v":" "},{"$f":"IF(INTRO!$E$39<>\"Non-endemic\", 0, IF(INTRO!$E$37=\"Non-endemic\",0,IF(COUNTRY_INFO!$H31=1,COUNTRY_INFO!E31,0)))","v":0},{"$f":"IF(INTRO!$E$39<>\"Non-endemic\", 0, IF(INTRO!$E$37=\"Non-endemic\",0,IF(COUNTRY_INFO!$H31=1,COUNTRY_INFO!F31,0)))","v":0},{"$f":"IF(INTRO!$E$39<>\"Non-endemic\", 0, IF(INTRO!$E$37=\"Non-endemic\",0,IF(COUNTRY_INFO!$H31=1,COUNTRY_INFO!G31,0)))","v":0},0,{"$f":"IF(INTRO!$E$39=\"Non-endemic\",IF(INTRO!$E$37=\"Non-endemic\",\"Not required\",COUNTRY_INFO!P31),\"Treat with IVM\")","v":"Treat with IVM"},0,0,null,0,0]
[{"$f":"IF(INTRO!$E$39<>\"Non-endemic\", \" \", IF(INTRO!$E$37=\"Non-endemic\",\" \", IF(COUNTRY_INFO!A32=0,\" \",COUNTRY_INFO!A32)))","v":" "},{"$f":"IF(INTRO!$E$39<>\"Non-endemic\", \" \", IF(INTRO!$E$37=\"Non-endemic\",\" \", IF(COUNTRY_INFO!B32=0,\" \",COUNTRY_INFO!B32)))","v":" "},{"$f":"IF(INTRO!$E$39<>\"Non-endemic\", \" \", IF(INTRO!$E$37=\"Non-endemic\",\" \", IF(COUNTRY_INFO!C32=0,\" \",COUNTRY_INFO!C32)))","v":" "},{"$f":"IF(INTRO!$E$39<>\"Non-endemic\", 0, IF(INTRO!$E$37=\"Non-endemic\",0,IF(COUNTRY_INFO!$H32=1,COUNTRY_INFO!E32,0)))","v":0},{"$f":"IF(INTRO!$E$39<>\"Non-endemic\", 0, IF(INTRO!$E$37=\"Non-endemic\",0,IF(COUNTRY_INFO!$H32=1,COUNTRY_INFO!F32,0)))","v":0},{"$f":"IF(INTRO!$E$39<>\"Non-endemic\", 0, IF(INTRO!$E$37=\"Non-endemic\",0,IF(COUNTRY_INFO!$H32=1,COUNTRY_INFO!G32,0)))","v":0},0,{"$f":"IF(INTRO!$E$39=\"Non-endemic\",IF(INTRO!$E$37=\"Non-endemic\",\"Not required\",COUNTRY_INFO!P32),\"Treat with IVM\")","v":"Treat with IVM"},0,0,null,0,0]
[{"$f":"IF(INTRO!$E$39<>\"Non-endemic\", \" \", IF(INTRO!$E$37=\"Non-endemic\",\" \", IF(COUNTRY_INFO!A33=0,\" \",COUNTRY_INFO!A33)))","v":" "},{"$f":"IF(INTRO!$E$39<>\"Non-endemic\", \" \", IF(INTRO!$E$37=\"Non-endemic\",\" \", IF(COUNTRY_INFO!B33=0,\" \",COUNTRY_INFO!B33)))","v":" "},{"$f":"IF(INTRO!$E$39<>\"Non-endemic\", \" \", IF(INTRO!$E$37=\"Non-endemic\",\" \", IF(COUNTRY_INFO!C33=0,\" \",COUNTRY_INFO!C33)))","v":" "},{"$f":"IF(INTRO!$E$39<>\"Non-endemic\", 0, IF(INTRO!$E$37=\"Non-endemic\",0,IF(COUNTRY_INFO!$H33=1,COUNTRY_INFO!E33,0)))","v":0},{"$f":"IF(INTRO!$E$39<>\"Non-endemic\", 0, IF(INTRO!$E$37=\"Non-endemic\",0,IF(COUNTRY_INFO!$H33=1,COUNTRY_INFO!F33,0)))","v":0},{"$f":"IF(INTRO!$E$39<>\"Non-endemic\", 0, IF(INTRO!$E$37=\"Non-endemic\",0,IF(COUNTRY_INFO!$H33=1,COUNTRY_INFO!G33,0)))","v":0},0,{"$f":"IF(INTRO!$E$39=\"Non-endemic\",IF(INTRO!$E$37=\"Non-endemic\",\"Not required\",COUNTRY_INFO!P33),\"Treat with IVM\")","v":"Treat with IVM"},0,0,null,0,0]
[{"$f":"IF(INTRO!$E$39<>\"Non-endemic\", \" \", IF(INTRO!$E$37=\"Non-endemic\",\" \", IF(COUNTRY_INFO!A34=0,\" \",COUNTRY_INFO!A34)))","v":" "},{"$f":"IF(INTRO!$E$39<>\"Non-endemic\", \" \", IF(INTRO!$E$37=\"Non-endemic\",\" \", IF(COUNTRY_INFO!B34=0,\" \",COUNTRY_INFO!B34)))","v":" "},{"$f":"IF(INTRO!$E$39<>\"Non-endemic\", \" \", IF(INTRO!$E$37=\"Non-endemic\",\" \", IF(COUNTRY_INFO!C34=0,\" \",COUNTRY_INFO!C34)))","v":" "},{"$f":"IF(INTRO!$E$39<>\"Non-endemic\", 0, IF(INTRO!$E$37=\"Non-endemic\",0,IF(COUNTRY_INFO!$H34=1,COUNTRY_INFO!E34,0)))","v":0},{"$f":"IF(INTRO!$E$39<>\"Non-endemic\", 0, IF(INTRO!$E$37=\"Non-endemic\",0,IF(COUNTRY_INFO!$H34=1,COUNTRY_INFO!F34,0)))","v":0},{"$f":"IF(INTRO!$E$39<>\"Non-endemic\", 0, IF(INTRO!$E$37=\"Non-endemic\",0,IF(COUNTRY_INFO!$H34=1,COUNTRY_INFO!G34,0)))","v":0},0,{"$f":"IF(INTRO!$E$39=\"Non-endemic\",IF(INTRO!$E$37=\"Non-endemic\",\"Not required\",COUNTRY_INFO!P34),\"Treat with IVM\")","v":"Treat with IVM"},0,0,null,0,0]
[{"$f":"IF(INTRO!$E$39<>\"Non-endemic\", \" \", IF(INTRO!$E$37=\"Non-endemic\",\" \", IF(COUNTRY_INFO!A35=0,\" \",COUNTRY_INFO!A35)))","v":" "},{"$f":"IF(INTRO!$E$39<>\"Non-endemic\", \" \", IF(INTRO!$E$37=\"Non-endemic\",\" \", IF(COUNTRY_INFO!B35=0,\" \",COUNTRY_INFO!B35)))","v":" "},{"$f":"IF(INTRO!$E$39<>\"Non-endemic\", \" \", IF(INTRO!$E$37=\"Non-endemic\",\" \", IF(COUNTRY_INFO!C35=0,\" \",COUNTRY_INFO!C35)))","v":" "},{"$f":"IF(INTRO!$E$39<>\"Non-endemic\", 0, IF(INTRO!$E$37=\"Non-endemic\",0,IF(COUNTRY_INFO!$H35=1,COUNTRY_INFO!E35,0)))","v":0},{"$f":"IF(INTRO!$E$39<>\"Non-endemic\", 0, IF(INTRO!$E$37=\"Non-endemic\",0,IF(COUNTRY_INFO!$H35=1,COUNTRY_INFO!F35,0)))","v":0},{"$f":"IF(INTRO!$E$39<>\"Non-endemic\", 0, IF(INTRO!$E$37=\"Non-endemic\",0,IF(COUNTRY_INFO!$H35=1,COUNTRY_INFO!G35,0)))","v":0},0,{"$f":"IF(INTRO!$E$39=\"Non-endemic\",IF(INTRO!$E$37=\"Non-endemic\",\"Not required\",COUNTRY_INFO!P35),\"Treat with IVM\")","v":"Treat with IVM"},0,0,null,0,0]
[{"$f":"IF(INTRO!$E$39<>\"Non-endemic\", \" \", IF(INTRO!$E$37=\"Non-endemic\",\" \", IF(COUNTRY_INFO!A36=0,\" \",COUNTRY_INFO!A36)))","v":" "},{"$f":"IF(INTRO!$E$39<>\"Non-endemic\", \" \", IF(INTRO!$E$37=\"Non-endemic\",\" \", IF(COUNTRY_INFO!B36=0,\" \",COUNTRY_INFO!B36)))","v":" "},{"$f":"IF(INTRO!$E$39<>\"Non-endemic\", \" \", IF(INTRO!$E$37=\"Non-endemic\",\" \", IF(COUNTRY_INFO!C36=0,\" \",COUNTRY_INFO!C36)))","v":" "},{"$f":"IF(INTRO!$E$39<>\"Non-endemic\", 0, IF(INTRO!$E$37=\"Non-endemic\",0,IF(COUNTRY_INFO!$H36=1,COUNTRY_INFO!E36,0)))","v":0},{"$f":"IF(INTRO!$E$39<>\"Non-endemic\", 0, IF(INTRO!$E$37=\"Non-endemic\",0,IF(COUNTRY_INFO!$H36=1,COUNTRY_INFO!F36,0)))","v":0},{"$f":"IF(INTRO!$E$39<>\"Non-endemic\", 0, IF(INTRO!$E$37=\"Non-endemic\",0,IF(COUNTRY_INFO!$H36=1,COUNTRY_INFO!G36,0)))","v":0},0,{"$f":"IF(INTRO!$E$39=\"Non-endemic\",IF(INTRO!$E$37=\"Non-endemic\",\"Not required\",COUNTRY_INFO!P36),\"Treat with IVM\")","v":"Treat with IVM"},0,0,null,0,0]
[{"$f":"IF(INTRO!$E$39<>\"Non-endemic\", \" \", IF(INTRO!$E$37=\"Non-endemic\",\" \", IF(COUNTRY_INFO!A37=0,\" \",COUNTRY_INFO!A37)))","v":" "},{"$f":"IF(INTRO!$E$39<>\"Non-endemic\", \" \", IF(INTRO!$E$37=\"Non-endemic\",\" \", IF(COUNTRY_INFO!B37=0,\" \",COUNTRY_INFO!B37)))","v":" "},{"$f":"IF(INTRO!$E$39<>\"Non-endemic\", \" \", IF(INTRO!$E$37=\"Non-endemic\",\" \", IF(COUNTRY_INFO!C37=0,\" \",COUNTRY_INFO!C37)))","v":" "},{"$f":"IF(INTRO!$E$39<>\"Non-endemic\", 0, IF(INTRO!$E$37=\"Non-endemic\",0,IF(COUNTRY_INFO!$H37=1,COUNTRY_INFO!E37,0)))","v":0},{"$f":"IF(INTRO!$E$39<>\"Non-endemic\", 0, IF(INTRO!$E$37=\"Non-endemic\",0,IF(COUNTRY_INFO!$H37=1,COUNTRY_INFO!F37,0)))","v":0},{"$f":"IF(INTRO!$E$39<>\"Non-endemic\", 0, IF(INTRO!$E$37=\"Non-endemic\",0,IF(COUNTRY_INFO!$H37=1,COUNTRY_INFO!G37,0)))","v":0},0,{"$f":"IF(INTRO!$E$39=\"Non-endemic\",IF(INTRO!$E$37=\"Non-endemic\",\"Not required\",COUNTRY_INFO!P37),\"Treat with IVM\")","v":"Treat with IVM"},0,0,null,0,0]
[{"$f":"IF(INTRO!$E$39<>\"Non-endemic\", \" \", IF(INTRO!$E$37=\"Non-endemic\",\" \", IF(COUNTRY_INFO!A38=0,\" \",COUNTRY_INFO!A38)))","v":" "},{"$f":"IF(INTRO!$E$39<>\"Non-endemic\", \" \", IF(INTRO!$E$37=\"Non-endemic\",\" \", IF(COUNTRY_INFO!B38=0,\" \",COUNTRY_INFO!B38)))","v":" "},{"$f":"IF(INTRO!$E$39<>\"Non-endemic\", \" \", IF(INTRO!$E$37=\"Non-endemic\",\" \", IF(COUNTRY_INFO!C38=0,\" \",COUNTRY_INFO!C38)))","v":" "},{"$f":"IF(INTRO!$E$39<>\"Non-endemic\", 0, IF(INTRO!$E$37=\"Non-endemic\",0,IF(COUNTRY_INFO!$H38=1,COUNTRY_INFO!E38,0)))","v":0},{"$f":"IF(INTRO!$E$39<>\"Non-endemic\", 0, IF(INTRO!$E$37=\"Non-endemic\",0,IF(COUNTRY_INFO!$H38=1,COUNTRY_INFO!F38,0)))","v":0},{"$f":"IF(INTRO!$E$39<>\"Non-endemic\", 0, IF(INTRO!$E$37=\"Non-endemic\",0,IF(COUNTRY_INFO!$H38=1,COUNTRY_INFO!G38,0)))","v":0},0,{"$f":"IF(INTRO!$E$39=\"Non-endemic\",IF(INTRO!$E$37=\"Non-endemic\",\"Not required\",COUNTRY_INFO!P38),\"Treat with IVM\")","v":"Treat with IVM"},0,0,null,0,0]
[{"$f":"IF(INTRO!$E$39<>\"Non-endemic\", \" \", IF(INTRO!$E$37=\"Non-endemic\",\" \", IF(COUNTRY_INFO!A39=0,\" \",COUNTRY_INFO!A39)))","v":" "},{"$f":"IF(INTRO!$E$39<>\"Non-endemic\", \" \", IF(INTRO!$E$37=\"Non-endemic\",\" \", IF(COUNTRY_INFO!B39=0,\" \",COUNTRY_INFO!B39)))","v":" "},{"$f":"IF(INTRO!$E$39<>\"Non-endemic\", \" \", IF(INTRO!$E$37=\"Non-endemic\",\" \", IF(COUNTRY_INFO!C39=0,\" \",COUNTRY_INFO!C39)))","v":" "},{"$f":"IF(INTRO!$E$39<>\"Non-endemic\", 0, IF(INTRO!$E$37=\"Non-endemic\",0,IF(COUNTRY_INFO!$H39=1,COUNTRY_INFO!E39,0)))","v":0},{"$f":"IF(INTRO!$E$39<>\"Non-endemic\", 0, IF(INTRO!$E$37=\"Non-endemic\",0,IF(COUNTRY_INFO!$H39=1,COUNTRY_INFO!F39,0)))","v":0},{"$f":"IF(INTRO!$E$39<>\"Non-endemic\", 0, IF(INTRO!$E$37=\"Non-endemic\",0,IF(COUNTRY_INFO!$H39=1,COUNTRY_INFO!G39,0)))","v":0},0,{"$f":"IF(INTRO!$E$39=\"Non-endemic\",IF(INTRO!$E$37=\"Non-endemic\",\"Not required\",COUNTRY_INFO!P39),\"Treat with IVM\")","v":"Treat with IVM"},0,0,null,0,0]
[{"$f":"IF(INTRO!$E$39<>\"Non-endemic\", \" \", IF(INTRO!$E$37=\"Non-endemic\",\" \", IF(COUNTRY_INFO!A40=0,\" \",COUNTRY_INFO!A40)))","v":" "},{"$f":"IF(INTRO!$E$39<>\"Non-endemic\", \" \", IF(INTRO!$E$37=\"Non-endemic\",\" \", IF(COUNTRY_INFO!B40=0,\" \",COUNTRY_INFO!B40)))","v":" "},{"$f":"IF(INTRO!$E$39<>\"Non-endemic\", \" \", IF(INTRO!$E$37=\"Non-endemic\",\" \", IF(COUNTRY_INFO!C40=0,\" \",COUNTRY_INFO!C40)))","v":" "},{"$f":"IF(INTRO!$E$39<>\"Non-endemic\", 0, IF(INTRO!$E$37=\"Non-endemic\",0,IF(COUNTRY_INFO!$H40=1,COUNTRY_INFO!E40,0)))","v":0},{"$f":"IF(INTRO!$E$39<>\"Non-endemic\", 0, IF(INTRO!$E$37=\"Non-endemic\",0,IF(COUNTRY_INFO!$H40=1,COUNTRY_INFO!F40,0)))","v":0},{"$f":"IF(INTRO!$E$39<>\"Non-endemic\", 0, IF(INTRO!$E$37=\"Non-endemic\",0,IF(COUNTRY_INFO!$H40=1,COUNTRY_INFO!G40,0)))","v":0},0,{"$f":"IF(INTRO!$E$39=\"Non-endemic\",IF(INTRO!$E$37=\"Non-endemic\",\"Not required\",COUNTRY_INFO!P40),\"Treat with IVM\")","v":"Treat with IVM"},0,0,null,0,0]
[{"$f":"IF(INTRO!$E$39<>\"Non-endemic\", \" \", IF(INTRO!$E$37=\"Non-endemic\",\" \", IF(COUNTRY_INFO!A41=0,\" \",COUNTRY_INFO!A41)))","v":" "},{"$f":"IF(INTRO!$E$39<>\"Non-endemic\", \" \", IF(INTRO!$E$37=\"Non-endemic\",\" \", IF(COUNTRY_INFO!B41=0,\" \",COUNTRY_INFO!B41)))","v":" "},{"$f":"IF(INTRO!$E$39<>\"Non-endemic\", \" \", IF(INTRO!$E$37=\"Non-endemic\",\" \", IF(COUNTRY_INFO!C41=0,\" \",COUNTRY_INFO!C41)))","v":" "},{"$f":"IF(INTRO!$E$39<>\"Non-endemic\", 0, IF(INTRO!$E$37=\"Non-endemic\",0,IF(COUNTRY_INFO!$H41=1,COUNTRY_INFO!E41,0)))","v":0},{"$f":"IF(INTRO!$E$39<>\"Non-endemic\", 0, IF(INTRO!$E$37=\"Non-endemic\",0,IF(COUNTRY_INFO!$H41=1,COUNTRY_INFO!F41,0)))","v":0},{"$f":"IF(INTRO!$E$39<>\"Non-endemic\", 0, IF(INTRO!$E$37=\"Non-endemic\",0,IF(COUNTRY_INFO!$H41=1,COUNTRY_INFO!G41,0)))","v":0},{"$f":"SUM(D41:F41)","v":0},{"$f":"IF(INTRO!$E$39=\"Non-endemic\",IF(INTRO!$E$37=\"Non-endemic\",\"Not required\",COUNTRY_INFO!P41),\"Treat with IVM\")","v":"Treat with IVM"},{"$f":"IF(H41=1,G41,0)","v":0},{"$f":"IF(I41>0,I41*2.5,0)","v":0},null,{"$f":"IF($J41>$K41,$J41-$K41,0)","v":0},{"$f":"ROUNDUP($J41/1000,0)","v":0}]
[{"$f":"IF(INTRO!$E$39<>\"Non-endemic\", \" \", IF(INTRO!$E$37=\"Non-endemic\",\" \", IF(COUNTRY_INFO!A42=0,\" \",COUNTRY_INFO!A42)))","v":" "},{"$f":"IF(INTRO!$E$39<>\"Non-endemic\", \" \", IF(INTRO!$E$37=\"Non-endemic\",\" \", IF(COUNTRY_INFO!B42=0,\" \",COUNTRY_INFO!B42)))","v":" "},{"$f":"IF(INTRO!$E$39<>\"Non-endemic\", \" \", IF(INTRO!$E$37=\"Non-endemic\",\" \", IF(COUNTRY_INFO!C42=0,\" \",COUNTRY_INFO!C42)))","v":" "},{"$f":"IF(INTRO!$E$39<>\"Non-endemic\", 0, IF(INTRO!$E$37=\"Non-endemic\",0,IF(COUNTRY_INFO!$H42=1,COUNTRY_INFO!E42,0)))","v":0},{"$f":"IF(INTRO!$E$39<>\"Non-endemic\", 0, IF(INTRO!$E$37=\"Non-endemic\",0,IF(COUNTRY_INFO!$H42=1,COUNTRY_INFO!F42,0)))","v":0},{"$f":"IF(INTRO!$E$39<>\"Non-endemic\", 0, IF(INTRO!$E$37=\"Non-endemic\",0,IF(COUNTRY_INFO!$H42=1,COUNTRY_INFO!G42,0)))","v":0},0,{"$f":"IF(INTRO!$E$39=\"Non-endemic\",IF(INTRO!$E$37=\"Non-endemic\",\"Not required\",COUNTRY_INFO!P42),\"Treat with IVM\")","v":"Treat with IVM"},0,0,null,0,0]
[{"$f":"IF(INTRO!$E$39<>\"Non-endemic\", \" \", IF(INTRO!$E$37=\"Non-endemic\",\" \", IF(COUNTRY_INFO!A43=0,\" \",COUNTRY_INFO!A43)))","v":" "},{"$f":"IF(INTRO!$E$39<>\"Non-endemic\", \" \", IF(INTRO!$E$37=\"Non-endemic\",\" \", IF(COUNTRY_INFO!B43=0,\" \",COUNTRY_INFO!B43)))","v":" "},{"$f":"IF(INTRO!$E$39<>\"Non-endemic\", \" \", IF(INTRO!$E$37=\"Non-endemic\",\" \", IF(COUNTRY_INFO!C43=0,\" \",COUNTRY_INFO!C43)))","v":" "},{"$f":"IF(INTRO!$E$39<>\"Non-endemic\", 0, IF(INTRO!$E$37=\"Non-endemic\",0,IF(COUNTRY_INFO!$H43=1,COUNTRY_INFO!E43,0)))","v":0},{"$f":"IF(INTRO!$E$39<>\"Non-endemic\", 0, IF(INTRO!$E$37=\"Non-endemic\",0,IF(COUNTRY_INFO!$H43=1,COUNTRY_INFO!F43,0)))","v":0},{"$f":"IF(INTRO!$E$39<>\"Non-endemic\", 0, IF(INTRO!$E$37=\"Non-endemic\",0,IF(COUNTRY_INFO!$H43=1,COUNTRY_INFO!G43,0)))","v":0},0,{"$f":"IF(INTRO!$E$39=\"Non-endemic\",IF(INTRO!$E$37=\"Non-endemic\",\"Not required\",COUNTRY_INFO!P43),\"Treat with IVM\")","v":"Treat with IVM"},0,0,null,0,0]
[{"$f":"IF(INTRO!$E$39<>\"Non-endemic\", \" \", IF(INTRO!$E$37=\"Non-endemic\",\" \", IF(COUNTRY_INFO!A44=0,\" \",COUNTRY_INFO!A44)))","v":" "},{"$f":"IF(INTRO!$E$39<>\"Non-endemic\", \" \", IF(INTRO!$E$37=\"Non-endemic\",\" \", IF(COUNTRY_INFO!B44=0,\" \",COUNTRY_INFO!B44)))","v":" "},{"$f":"IF(INTRO!$E$39<>\"Non-endemic\", \" \", IF(INTRO!$E$37=\"Non-endemic\",\" \", IF(COUNTRY_INFO!C44=0,\" \",COUNTRY_INFO!C44)))","v":" "},{"$f":"IF(INTRO!$E$39<>\"Non-endemic\", 0, IF(INTRO!$E$37=\"Non-endemic\",0,IF(COUNTRY_INFO!$H44=1,COUNTRY_INFO!E44,0)))","v":0},{"$f":"IF(INTRO!$E$39<>\"Non-endemic\", 0, IF(INTRO!$E$37=\"Non-endemic\",0,IF(COUNTRY_INFO!$H44=1,COUNTRY_INFO!F44,0)))","v":0},{"$f":"IF(INTRO!$E$39<>\"Non-endemic\", 0, IF(INTRO!$E$37=\"Non-endemic\",0,IF(COUNTRY_INFO!$H44=1,COUNTRY_INFO!G44,0)))","v":0},0,{"$f":"IF(INTRO!$E$39=\"Non-endemic\",IF(INTRO!$E$37=\"Non-endemic\",\"Not required\",COUNTRY_INFO!P44),\"Treat with IVM\")","v":"Treat with IVM"},0,0,null,0,0]
[{"$f":"IF(INTRO!$E$39<>\"Non-endemic\", \" \", IF(INTRO!$E$37=\"Non-endemic\",\" \", IF(COUNTRY_INFO!A45=0,\" \",COUNTRY_INFO!A45)))","v":" "},{"$f":"IF(INTRO!$E$39<>\"Non-endemic\", \" \", IF(INTRO!$E$37=\"Non-endemic\",\" \", IF(COUNTRY_INFO!B45=0,\" \",COUNTRY_INFO!B45)))","v":" "},{"$f":"IF(INTRO!$E$39<>\"Non-endemic\", \" \", IF(INTRO!$E$37=\"Non-endemic\",\" \", IF(COUNTRY_INFO!C45=0,\" \",COUNTRY_INFO!C45)))","v":" "},{"$f":"IF(INTRO!$E$39<>\"Non-endemic\", 0, IF(INTRO!$E$37=\"Non-endemic\",0,IF(COUNTRY_INFO!$H45=1,COUNTRY_INFO!E45,0)))","v":0},{"$f":"IF(INTRO!$E$39<>\"Non-endemic\", 0, IF(INTRO!$E$37=\"Non-endemic\",0,IF(COUNTRY_INFO!$H45=1,COUNTRY_INFO!F45,0)))","v":0},{"$f":"IF(INTRO!$E$39<>\"Non-endemic\", 0, IF(INTRO!$E$37=\"Non-endemic\",0,IF(COUNTRY_INFO!$H45=1,COUNTRY_INFO!G45,0)))","v":0},0,{"$f":"IF(INTRO!$E$39=\"Non-endemic\",IF(INTRO!$E$37=\"Non-endemic\",\"Not required\",COUNTRY_INFO!P45),\"Treat with IVM\")","v":"Treat with IVM"},0,0,null,0,0]
[{"$f":"IF(INTRO!$E$39<>\"Non-endemic\", \" \", IF(INTRO!$E$37=\"Non-endemic\",\" \", IF(COUNTRY_INFO!A46=0,\" \",COUNTRY_INFO!A46)))","v":" "},{"$f":"IF(INTRO!$E$39<>\"Non-endemic\", \" \", IF(INTRO!$E$37=\"Non-endemic\",\" \", IF(COUNTRY_INFO!B46=0,\" \",COUNTRY_INFO!B46)))","v":" "},{"$f":"IF(INTRO!$E$39<>\"Non-endemic\", \" \", IF(INTRO!$E$37=\"Non-endemic\",\" \", IF(COUNTRY_INFO!C46=0,\" \",COUNTRY_INFO!C46)))","v":" "},{"$f":"IF(INTRO!$E$39<>\"Non-endemic\", 0, IF(INTRO!$E$37=\"Non-endemic\",0,IF(COUNTRY_INFO!$H46=1,COUNTRY_INFO!E46,0)))","v":0},{"$f":"IF(INTRO!$E$39<>\"Non-endemic\", 0, IF(INTRO!$E$37=\"Non-endemic\",0,IF(COUNTRY_INFO!$H46=1,COUNTRY_INFO!F46,0)))","v":0},{"$f":"IF(INTRO!$E$39<>\"Non-endemic\", 0, IF(INTRO!$E$37=\"Non-endemic\",0,IF(COUNTRY_INFO!$H46=1,COUNTRY_INFO!G46,0)))","v":0},0,{"$f":"IF(INTRO!$E$39=\"Non-endemic\",IF(INTRO!$E$37=\"Non-endemic\",\"Not required\",COUNTRY_INFO!P46),\"Treat with IVM\")","v":"Treat with IVM"},0,0,null,0,0]
[{"$f":"IF(INTRO!$E$39<>\"Non-endemic\", \" \", IF(INTRO!$E$37=\"Non-endemic\",\" \", IF(COUNTRY_INFO!A47=0,\" \",COUNTRY_INFO!A47)))","v":" "},{"$f":"IF(INTRO!$E$39<>\"Non-endemic\", \" \", IF(INTRO!$E$37=\"Non-endemic\",\" \", IF(COUNTRY_INFO!B47=0,\" \",COUNTRY_INFO!B47)))","v":" "},{"$f":"IF(INTRO!$E$39<>\"Non-endemic\", \" \", IF(INTRO!$E$37=\"Non-endemic\",\" \", IF(COUNTRY_INFO!C47=0,\" \",COUNTRY_INFO!C47)))","v":" "},{"$f":"IF(INTRO!$E$39<>\"Non-endemic\", 0, IF(INTRO!$E$37=\"Non-endemic\",0,IF(COUNTRY_INFO!$H47=1,COUNTRY_INFO!E47,0)))","v":0},{"$f":"IF(INTRO!$E$39<>\"Non-endemic\", 0, IF(INTRO!$E$37=\"Non-endemic\",0,IF(COUNTRY_INFO!$H47=1,COUNTRY_INFO!F47,0)))","v":0},{"$f":"IF(INTRO!$E$39<>\"Non-endemic\", 0, IF(INTRO!$E$37=\"Non-endemic\",0,IF(COUNTRY_INFO!$H47=1,COUNTRY_INFO!G47,0)))","v":0},0,{"$f":"IF(INTRO!$E$39=\"Non-endemic\",IF(INTRO!$E$37=\"Non-endemic\",\"Not required\",COUNTRY_INFO!P47),\"Treat with IVM\")","v":"Treat with IVM"},0,0,null,0,0]
[{"$f":"IF(INTRO!$E$39<>\"Non-endemic\", \" \", IF(INTRO!$E$37=\"Non-endemic\",\" \", IF(COUNTRY_INFO!A48=0,\" \",COUNTRY_INFO!A48)))","v":" "},{"$f":"IF(INTRO!$E$39<>\"Non-endemic\", \" \", IF(INTRO!$E$37=\"Non-endemic\",\" \", IF(COUNTRY_INFO!B48=0,\" \",COUNTRY_INFO!B48)))","v":" "},{"$f":"IF(INTRO!$E$39<>\"Non-endemic\", \" \", IF(INTRO!$E$37=\"Non-endemic\",\" \", IF(COUNTRY_INFO!C48=0,\" \",COUNTRY_INFO!C48)))","v":" "},{"$f":"IF(INTRO!$E$39<>\"Non-endemic\", 0, IF(INTRO!$E$37=\"Non-endemic\",0,IF(COUNTRY_INFO!$H48=1,COUNTRY_INFO!E48,0)))","v":0},{"$f":"IF(INTRO!$E$39<>\"Non-endemic\", 0, IF(INTRO!$E$37=\"Non-endemic\",0,IF(COUNTRY_INFO!$H48=1,COUNTRY_INFO!F48,0)))","v":0},{"$f":"IF(INTRO!$E$39<>\"Non-endemic\", 0, IF(INTRO!$E$37=\"Non-endemic\",0,IF(COUNTRY_INFO!$H48=1,COUNTRY_INFO!G48,0)))","v":0},0,{"$f":"IF(INTRO!$E$39=\"Non-endemic\",IF(INTRO!$E$37=\"Non-endemic\",\"Not required\",COUNTRY_INFO!P48),\"Treat with IVM\")","v":"Treat with IVM"},0,0,null,0,0]
[{"$f":"IF(INTRO!$E$39<>\"Non-endemic\", \" \", IF(INTRO!$E$37=\"Non-endemic\",\" \", IF(COUNTRY_INFO!A49=0,\" \",COUNTRY_INFO!A49)))","v":" "},{"$f":"IF(INTRO!$E$39<>\"Non-endemic\", \" \", IF(INTRO!$E$37=\"Non-endemic\",\" \", IF(COUNTRY_INFO!B49=0,\" \",COUNTRY_INFO!B49)))","v":" "},{"$f":"IF(INTRO!$E$39<>\"Non-endemic\", \" \", IF(INTRO!$E$37=\"Non-endemic\",\" \", IF(COUNTRY_INFO!C49=0,\" \",COUNTRY_INFO!C49)))","v":" "},{"$f":"IF(INTRO!$E$39<>\"Non-endemic\", 0, IF(INTRO!$E$37=\"Non-endemic\",0,IF(COUNTRY_INFO!$H49=1,COUNTRY_INFO!E49,0)))","v":0},{"$f":"IF(INTRO!$E$39<>\"Non-endemic\", 0, IF(INTRO!$E$37=\"Non-endemic\",0,IF(COUNTRY_INFO!$H49=1,COUNTRY_INFO!F49,0)))","v":0},{"$f":"IF(INTRO!$E$39<>\"Non-endemic\", 0, IF(INTRO!$E$37=\"Non-endemic\",0,IF(COUNTRY_INFO!$H49=1,COUNTRY_INFO!G49,0)))","v":0},0,{"$f":"IF(INTRO!$E$39=\"Non-endemic\",IF(INTRO!$E$37=\"Non-endemic\",\"Not required\",COUNTRY_INFO!P49),\"Treat with IVM\")","v":"Treat with IVM"},0,0,null,0,0]
[{"$f":"IF(INTRO!$E$39<>\"Non-endemic\", \" \", IF(INTRO!$E$37=\"Non-endemic\",\" \", IF(COUNTRY_INFO!A50=0,\" \",COUNTRY_INFO!A50)))","v":" "},{"$f":"IF(INTRO!$E$39<>\"Non-endemic\", \" \", IF(INTRO!$E$37=\"Non-endemic\",\" \", IF(COUNTRY_INFO!B50=0,\" \",COUNTRY_INFO!B50)))","v":" "},{"$f":"IF(INTRO!$E$39<>\"Non-endemic\", \" \", IF(INTRO!$E$37=\"Non-endemic\",\" \", IF(COUNTRY_INFO!C50=0,\" \",COUNTRY_INFO!C50)))","v":" "},{"$f":"IF(INTRO!$E$39<>\"Non-endemic\", 0, IF(INTRO!$E$37=\"Non-endemic\",0,IF(COUNTRY_INFO!$H50=1,COUNTRY_INFO!E50,0)))","v":0},{"$f":"IF(INTRO!$E$39<>\"Non-endemic\", 0, IF(INTRO!$E$37=\"Non-endemic\",0,IF(COUNTRY_INFO!$H50=1,COUNTRY_INFO!F50,0)))","v":0},{"$f":"IF(INTRO!$E$39<>\"Non-endemic\", 0, IF(INTRO!$E$37=\"Non-endemic\",0,IF(COUNTRY_INFO!$H50=1,COUNTRY_INFO!G50,0)))","v":0},0,{"$f":"IF(INTRO!$E$39=\"Non-endemic\",IF(INTRO!$E$37=\"Non-endemic\",\"Not required\",COUNTRY_INFO!P50),\"Treat with IVM\")","v":"Treat with IVM"},0,0,null,0,0]
[{"$f":"IF(INTRO!$E$39<>\"Non-endemic\", \" \", IF(INTRO!$E$37=\"Non-endemic\",\" \", IF(COUNTRY_INFO!A51=0,\" \",COUNTRY_INFO!A51)))","v":" "},{"$f":"IF(INTRO!$E$39<>\"Non-endemic\", \" \", IF(INTRO!$E$37=\"Non-endemic\",\" \", IF(COUNTRY_INFO!B51=0,\" \",COUNTRY_INFO!B51)))","v":" "},{"$f":"IF(INTRO!$E$39<>\"Non-endemic\", \" \", IF(INTRO!$E$37=\"Non-endemic\",\" \", IF(COUNTRY_INFO!C51=0,\" \",COUNTRY_INFO!C51)))","v":" "},{"$f":"IF(INTRO!$E$39<>\"Non-endemic\", 0, IF(INTRO!$E$37=\"Non-endemic\",0,IF(COUNTRY_INFO!$H51=1,COUNTRY_INFO!E51,0)))","v":0},{"$f":"IF(INTRO!$E$39<>\"Non-endemic\", 0, IF(INTRO!$E$37=\"Non-endemic\",0,IF(COUNTRY_INFO!$H51=1,COUNTRY_INFO!F51,0)))","v":0},{"$f":"IF(INTRO!$E$39<>\"Non-endemic\", 0, IF(INTRO!$E$37=\"Non-endemic\",0,IF(COUNTRY_INFO!$H51=1,COUNTRY_INFO!G51,0)))","v":0},0,{"$f":"IF(INTRO!$E$39=\"Non-endemic\",IF(INTRO!$E$37=\"Non-endemic\",\"Not required\",COUNTRY_INFO!P51),\"Treat with IVM\")","v":"Treat with IVM"},0,0,null,0,0]
[{"$f":"IF(INTRO!$E$39<>\"Non-endemic\", \" \", IF(INTRO!$E$37=\"Non-endemic\",\" \", IF(COUNTRY_INFO!A52=0,\" \",COUNTRY_INFO!A52)))","v":" "},{"$f":"IF(INTRO!$E$39<>\"Non-endemic\", \" \", IF(INTRO!$E$37=\"Non-endemic\",\" \", IF(COUNTRY_INFO!B52=0,\" \",COUNTRY_INFO!B52)))","v":" "},{"$f":"IF(INTRO!$E$39<>\"Non-endemic\", \" \", IF(INTRO!$E$37=\"Non-endemic\",\" \", IF(COUNTRY_INFO!C52=0,\" \",COUNTRY_INFO!C52)))","v":" "},{"$f":"IF(INTRO!$E$39<>\"Non-endemic\", 0, IF(INTRO!$E$37=\"Non-endemic\",0,IF(COUNTRY_INFO!$H52=1,COUNTRY_INFO!E52,0)))","v":0},{"$f":"IF(INTRO!$E$39<>\"Non-endemic\", 0, IF(INTRO!$E$37=\"Non-endemic\",0,IF(COUNTRY_INFO!$H52=1,COUNTRY_INFO!F52,0)))","v":0},{"$f":"IF(INTRO!$E$39<>\"Non-endemic\", 0, IF(INTRO!$E$37=\"Non-endemic\",0,IF(COUNTRY_INFO!$H52=1,COUNTRY_INFO!G52,0)))","v":0},0,{"$f":"IF(INTRO!$E$39=\"Non-endemic\",IF(INTRO!$E$37=\"Non-endemic\",\"Not required\",COUNTRY_INFO!P52),\"Treat with IVM\")","v":"Treat with IVM"},0,0,null,0,0]
[{"$f":"IF(INTRO!$E$39<>\"Non-endemic\", \" \", IF(INTRO!$E$37=\"Non-endemic\",\" \", IF(COUNTRY_INFO!A53=0,\" \",COUNTRY_INFO!A53)))","v":" "},{"$f":"IF(INTRO!$E$39<>\"Non-endemic\", \" \", IF(INTRO!$E$37=\"Non-endemic\",\" \", IF(COUNTRY_INFO!B53=0,\" \",COUNTRY_INFO!B53)))","v":" "},{"$f":"IF(INTRO!$E$39<>\"Non-endemic\", \" \", IF(INTRO!$E$37=\"Non-endemic\",\" \", IF(COUNTRY_INFO!C53=0,\" \",COUNTRY_INFO!C53)))","v":" "},{"$f":"IF(INTRO!$E$39<>\"Non-endemic\", 0, IF(INTRO!$E$37=\"Non-endemic\",0,IF(COUNTRY_INFO!$H53=1,COUNTRY_INFO!E53,0)))","v":0},{"$f":"IF(INTRO!$E$39<>\"Non-endemic\", 0, IF(INTRO!$E$37=\"Non-endemic\",0,IF(COUNTRY_INFO!$H53=1,COUNTRY_INFO!F53,0)))","v":0},{"$f":"IF(INTRO!$E$39<>\"Non-endemic\", 0, IF(INTRO!$E$37=\"Non-endemic\",0,IF(COUNTRY_INFO!$H53=1,COUNTRY_INFO!G53,0)))","v":0},0,{"$f":"IF(INTRO!$E$39=\"Non-endemic\",IF(INTRO!$E$37=\"Non-endemic\",\"Not required\",COUNTRY_INFO!P53),\"Treat with IVM\")","v":"Treat with IVM"},0,0,null,0,0]
[{"$f":"IF(INTRO!$E$39<>\"Non-endemic\", \" \", IF(INTRO!$E$37=\"Non-endemic\",\" \", IF(COUNTRY_INFO!A54=0,\" \",COUNTRY_INFO!A54)))","v":" "},{"$f":"IF(INTRO!$E$39<>\"Non-endemic\", \" \", IF(INTRO!$E$37=\"Non-endemic\",\" \", IF(COUNTRY_INFO!B54=0,\" \",COUNTRY_INFO!B54)))","v":" "},{"$f":"IF(INTRO!$E$39<>\"Non-endemic\", \" \", IF(INTRO!$E$37=\"Non-endemic\",\" \", IF(COUNTRY_INFO!C54=0,\" \",COUNTRY_INFO!C54)))","v":" "},{"$f":"IF(INTRO!$E$39<>\"Non-endemic\", 0, IF(INTRO!$E$37=\"Non-endemic\",0,IF(COUNTRY_INFO!$H54=1,COUNTRY_INFO!E54,0)))","v":0},{"$f":"IF(INTRO!$E$39<>\"Non-endemic\", 0, IF(INTRO!$E$37=\"Non-endemic\",0,IF(COUNTRY_INFO!$H54=1,COUNTRY_INFO!F54,0)))","v":0},{"$f":"IF(INTRO!$E$39<>\"Non-endemic\", 0, IF(INTRO!$E$37=\"Non-endemic\",0,IF(COUNTRY_INFO!$H54=1,COUNTRY_INFO!G54,0)))","v":0},0,{"$f":"IF(INTRO!$E$39=\"Non-endemic\",IF(INTRO!$E$37=\"Non-endemic\",\"Not required\",COUNTRY_INFO!P54),\"Treat with IVM\")","v":"Treat with IVM"},0,0,null,0,0]
[{"$f":"IF(INTRO!$E$39<>\"Non-endemic\", \" \", IF(INTRO!$E$37=\"Non-endemic\",\" \", IF(COUNTRY_INFO!A55=0,\" \",COUNTRY_INFO!A55)))","v":" "},{"$f":"IF(INTRO!$E$39<>\"Non-endemic\", \" \", IF(INTRO!$E$37=\"Non-endemic\",\" \", IF(COUNTRY_INFO!B55=0,\" \",COUNTRY_INFO!B55)))","v":" "},{"$f":"IF(INTRO!$E$39<>\"Non-endemic\", \" \", IF(INTRO!$E$37=\"Non-endemic\",\" \", IF(COUNTRY_INFO!C55=0,\" \",COUNTRY_INFO!C55)))","v":" "},{"$f":"IF(INTRO!$E$39<>\"Non-endemic\", 0, IF(INTRO!$E$37=\"Non-endemic\",0,IF(COUNTRY_INFO!$H55=1,COUNTRY_INFO!E55,0)))","v":0},{"$f":"IF(INTRO!$E$39<>\"Non-endemic\", 0, IF(INTRO!$E$37=\"Non-endemic\",0,IF(COUNTRY_INFO!$H55=1,COUNTRY_INFO!F55,0)))","v":0},{"$f":"IF(INTRO!$E$39<>\"Non-endemic\", 0, IF(INTRO!$E$37=\"Non-endemic\",0,IF(COUNTRY_INFO!$H55=1,COUNTRY_INFO!G55,0)))","v":0},0,{"$f":"IF(INTRO!$E$39=\"Non-endemic\",IF(INTRO!$E$37=\"Non-endemic\",\"Not required\",COUNTRY_INFO!P55),\"Treat with IVM\")","v":"Treat with IVM"},0,0,null,0,0]
[{"$f":"IF(INTRO!$E$39<>\"Non-endemic\", \" \", IF(INTRO!$E$37=\"Non-endemic\",\" \", IF(COUNTRY_INFO!A56=0,\" \",COUNTRY_INFO!A56)))","v":" "},{"$f":"IF(INTRO!$E$39<>\"Non-endemic\", \" \", IF(INTRO!$E$37=\"Non-endemic\",\" \", IF(COUNTRY_INFO!B56=0,\" \",COUNTRY_INFO!B56)))","v":" "},{"$f":"IF(INTRO!$E$39<>\"Non-endemic\", \" \", IF(INTRO!$E$37=\"Non-endemic\",\" \", IF(COUNTRY_INFO!C56=0,\" \",COUNTRY_INFO!C56)))","v":" "},{"$f":"IF(INTRO!$E$39<>\"Non-endemic\", 0, IF(INTRO!$E$37=\"Non-endemic\",0,IF(COUNTRY_INFO!$H56=1,COUNTRY_INFO!E56,0)))","v":0},{"$f":"IF(INTRO!$E$39<>\"Non-endemic\", 0, IF(INTRO!$E$37=\"Non-endemic\",0,IF(COUNTRY_INFO!$H56=1,COUNTRY_INFO!F56,0)))","v":0},{"$f":"IF(INTRO!$E$39<>\"Non-endemic\", 0, IF(INTRO!$E$37=\"Non-endemic\",0,IF(COUNTRY_INFO!$H56=1,COUNTRY_INFO!G56,0)))","v":0},0,{"$f":"IF(INTRO!$E$39=\"Non-endemic\",IF(INTRO!$E$37=\"Non-endemic\",\"Not required\",COUNTRY_INFO!P56),\"Treat with IVM\")","v":"Treat with IVM"},0,0,null,0,0]
[{"$f":"IF(INTRO!$E$39<>\"Non-endemic\", \" \", IF(INTRO!$E$37=\"Non-endemic\",\" \", IF(COUNTRY_INFO!A57=0,\" \",COUNTRY_INFO!A57)))","v":" "},{"$f":"IF(INTRO!$E$39<>\"Non-endemic\", \" \", IF(INTRO!$E$37=\"Non-endemic\",\" \", IF(COUNTRY_INFO!B57=0,\" \",COUNTRY_INFO!B57)))","v":" "},{"$f":"IF(INTRO!$E$39<>\"Non-endemic\", \" \", IF(INTRO!$E$37=\"Non-endemic\",\" \", IF(COUNTRY_INFO!C57=0,\" \",COUNTRY_INFO!C57)))","v":" "},{"$f":"IF(INTRO!$E$39<>\"Non-endemic\", 0, IF(INTRO!$E$37=\"Non-endemic\",0,IF(COUNTRY_INFO!$H57=1,COUNTRY_INFO!E57,0)))","v":0},{"$f":"IF(INTRO!$E$39<>\"Non-endemic\", 0, IF(INTRO!$E$37=\"Non-endemic\",0,IF(COUNTRY_INFO!$H57=1,COUNTRY_INFO!F57,0)))","v":0},{"$f":"IF(INTRO!$E$39<>\"Non-endemic\", 0, IF(INTRO!$E$37=\"Non-endemic\",0,IF(COUNTRY_INFO!$H57=1,COUNTRY_INFO!G57,0)))","v":0},0,{"$f":"IF(INTRO!$E$39=\"Non-endemic\",IF(INTRO!$E$37=\"Non-endemic\",\"Not required\",COUNTRY_INFO!P57),\"Treat with IVM\")","v":"Treat with IVM"},0,0,null,0,0]
[{"$f":"IF(INTRO!$E$39<>\"Non-endemic\", \" \", IF(INTRO!$E$37=\"Non-endemic\",\" \", IF(COUNTRY_INFO!A58=0,\" \",COUNTRY_INFO!A58)))","v":" "},{"$f":"IF(INTRO!$E$39<>\"Non-endemic\", \" \", IF(INTRO!$E$37=\"Non-endemic\",\" \", IF(COUNTRY_INFO!B58=0,\" \",COUNTRY_INFO!B58)))","v":" "},{"$f":"IF(INTRO!$E$39<>\"Non-endemic\", \" \", IF(INTRO!$E$37=\"Non-endemic\",\" \", IF(COUNTRY_INFO!C58=0,\" \",COUNTRY_INFO!C58)))","v":" "},{"$f":"IF(INTRO!$E$39<>\"Non-endemic\", 0, IF(INTRO!$E$37=\"Non-endemic\",0,IF(COUNTRY_INFO!$H58=1,COUNTRY_INFO!E58,0)))","v":0},{"$f":"IF(INTRO!$E$39<>\"Non-endemic\", 0, IF(INTRO!$E$37=\"Non-endemic\",0,IF(COUNTRY_INFO!$H58=1,COUNTRY_INFO!F58,0)))","v":0},{"$f":"IF(INTRO!$E$39<>\"Non-endemic\", 0, IF(INTRO!$E$37=\"Non-endemic\",0,IF(COUNTRY_INFO!$H58=1,COUNTRY_INFO!G58,0)))","v":0},0,{"$f":"IF(INTRO!$E$39=\"Non-endemic\",IF(INTRO!$E$37=\"Non-endemic\",\"Not required\",COUNTRY_INFO!P58),\"Treat with IVM\")","v":"Treat with IVM"},0,0,null,0,0]
[{"$f":"IF(INTRO!$E$39<>\"Non-endemic\", \" \", IF(INTRO!$E$37=\"Non-endemic\",\" \", IF(COUNTRY_INFO!A59=0,\" \",COUNTRY_INFO!A59)))","v":" "},{"$f":"IF(INTRO!$E$39<>\"Non-endemic\", \" \", IF(INTRO!$E$37=\"Non-endemic\",\" \", IF(COUNTRY_INFO!B59=0,\" \",COUNTRY_INFO!B59)))","v":" "},{"$f":"IF(INTRO!$E$39<>\"Non-endemic\", \" \", IF(INTRO!$E$37=\"Non-endemic\",\" \", IF(COUNTRY_INFO!C59=0,\" \",COUNTRY_INFO!C59)))","v":" "},{"$f":"IF(INTRO!$E$39<>\"Non-endemic\", 0, IF(INTRO!$E$37=\"Non-endemic\",0,IF(COUNTRY_INFO!$H59=1,COUNTRY_INFO!E59,0)))","v":0},{"$f":"IF(INTRO!$E$39<>\"Non-endemic\", 0, IF(INTRO!$E$37=\"Non-endemic\",0,IF(COUNTRY_INFO!$H59=1,COUNTRY_INFO!F59,0)))","v":0},{"$f":"IF(INTRO!$E$39<>\"Non-endemic\", 0, IF(INTRO!$E$37=\"Non-endemic\",0,IF(COUNTRY_INFO!$H59=1,COUNTRY_INFO!G59,0)))","v":0},0,{"$f":"IF(INTRO!$E$39=\"Non-endemic\",IF(INTRO!$E$37=\"Non-endemic\",\"Not required\",COUNTRY_INFO!P59),\"Treat with IVM\")","v":"Treat with IVM"},0,0,null,0,0]
[{"$f":"IF(INTRO!$E$39<>\"Non-endemic\", \" \", IF(INTRO!$E$37=\"Non-endemic\",\" \", IF(COUNTRY_INFO!A60=0,\" \",COUNTRY_INFO!A60)))","v":" "},{"$f":"IF(INTRO!$E$39<>\"Non-endemic\", \" \", IF(INTRO!$E$37=\"Non-endemic\",\" \", IF(COUNTRY_INFO!B60=0,\" \",COUNTRY_INFO!B60)))","v":" "},{"$f":"IF(INTRO!$E$39<>\"Non-endemic\", \" \", IF(INTRO!$E$37=\"Non-endemic\",\" \", IF(COUNTRY_INFO!C60=0,\" \",COUNTRY_INFO!C60)))","v":" "},{"$f":"IF(INTRO!$E$39<>\"Non-endemic\", 0, IF(INTRO!$E$37=\"Non-endemic\",0,IF(COUNTRY_INFO!$H60=1,COUNTRY_INFO!E60,0)))","v":0},{"$f":"IF(INTRO!$E$39<>\"Non-endemic\", 0, IF(INTRO!$E$37=\"Non-endemic\",0,IF(COUNTRY_INFO!$H60=1,COUNTRY_INFO!F60,0)))","v":0},{"$f":"IF(INTRO!$E$39<>\"Non-endemic\", 0, IF(INTRO!$E$37=\"Non-endemic\",0,IF(COUNTRY_INFO!$H60=1,COUNTRY_INFO!G60,0)))","v":0},0,{"$f":"IF(INTRO!$E$39=\"Non-endemic\",IF(INTRO!$E$37=\"Non-endemic\",\"Not required\",COUNTRY_INFO!P60),\"Treat with IVM\")","v":"Treat with IVM"},0,0,null,0,0]
[{"$f":"IF(INTRO!$E$39<>\"Non-endemic\", \" \", IF(INTRO!$E$37=\"Non-endemic\",\" \", IF(COUNTRY_INFO!A61=0,\" \",COUNTRY_INFO!A61)))","v":" "},{"$f":"IF(INTRO!$E$39<>\"Non-endemic\", \" \", IF(INTRO!$E$37=\"Non-endemic\",\" \", IF(COUNTRY_INFO!B61=0,\" \",COUNTRY_INFO!B61)))","v":" "},{"$f":"IF(INTRO!$E$39<>\"Non-endemic\", \" \", IF(INTRO!$E$37=\"Non-endemic\",\" \", IF(COUNTRY_INFO!C61=0,\" \",COUNTRY_INFO!C61)))","v":" "},{"$f":"IF(INTRO!$E$39<>\"Non-endemic\", 0, IF(INTRO!$E$37=\"Non-endemic\",0,IF(COUNTRY_INFO!$H61=1,COUNTRY_INFO!E61,0)))","v":0},{"$f":"IF(INTRO!$E$39<>\"Non-endemic\", 0, IF(INTRO!$E$37=\"Non-endemic\",0,IF(COUNTRY_INFO!$H61=1,COUNTRY_INFO!F61,0)))","v":0},{"$f":"IF(INTRO!$E$39<>\"Non-endemic\", 0, IF(INTRO!$E$37=\"Non-endemic\",0,IF(COUNTRY_INFO!$H61=1,COUNTRY_INFO!G61,0)))","v":0},0,{"$f":"IF(INTRO!$E$39=\"Non-endemic\",IF(INTRO!$E$37=\"Non-endemic\",\"Not required\",COUNTRY_INFO!P61),\"Treat with IVM\")","v":"Treat with IVM"},0,0,null,0,0]
[{"$f":"IF(INTRO!$E$39<>\"Non-endemic\", \" \", IF(INTRO!$E$37=\"Non-endemic\",\" \", IF(COUNTRY_INFO!A62=0,\" \",COUNTRY_INFO!A62)))","v":" "},{"$f":"IF(INTRO!$E$39<>\"Non-endemic\", \" \", IF(INTRO!$E$37=\"Non-endemic\",\" \", IF(COUNTRY_INFO!B62=0,\" \",COUNTRY_INFO!B62)))","v":" "},{"$f":"IF(INTRO!$E$39<>\"Non-endemic\", \" \", IF(INTRO!$E$37=\"Non-endemic\",\" \", IF(COUNTRY_INFO!C62=0,\" \",COUNTRY_INFO!C62)))","v":" "},{"$f":"IF(INTRO!$E$39<>\"Non-endemic\", 0, IF(INTRO!$E$37=\"Non-endemic\",0,IF(COUNTRY_INFO!$H62=1,COUNTRY_INFO!E62,0)))","v":0},{"$f":"IF(INTRO!$E$39<>\"Non-endemic\", 0, IF(INTRO!$E$37=\"Non-endemic\",0,IF(COUNTRY_INFO!$H62=1,COUNTRY_INFO!F62,0)))","v":0},{"$f":"IF(INTRO!$E$39<>\"Non-endemic\", 0, IF(INTRO!$E$37=\"Non-endemic\",0,IF(COUNTRY_INFO!$H62=1,COUNTRY_INFO!G62,0)))","v":0},0,{"$f":"IF(INTRO!$E$39=\"Non-endemic\",IF(INTRO!$E$37=\"Non-endemic\",\"Not required\",COUNTRY_INFO!P62),\"Treat with IVM\")","v":"Treat with IVM"},0,0,null,0,0]
[{"$f":"IF(INTRO!$E$39<>\"Non-endemic\", \" \", IF(INTRO!$E$37=\"Non-endemic\",\" \", IF(COUNTRY_INFO!A63=0,\" \",COUNTRY_INFO!A63)))","v":" "},{"$f":"IF(INTRO!$E$39<>\"Non-endemic\", \" \", IF(INTRO!$E$37=\"Non-endemic\",\" \", IF(COUNTRY_INFO!B63=0,\" \",COUNTRY_INFO!B63)))","v":" "},{"$f":"IF(INTRO!$E$39<>\"Non-endemic\", \" \", IF(INTRO!$E$37=\"Non-endemic\",\" \", IF(COUNTRY_INFO!C63=0,\" \",COUNTRY_INFO!C63)))","v":" "},{"$f":"IF(INTRO!$E$39<>\"Non-endemic\", 0, IF(INTRO!$E$37=\"Non-endemic\",0,IF(COUNTRY_INFO!$H63=1,COUNTRY_INFO!E63,0)))","v":0},{"$f":"IF(INTRO!$E$39<>\"Non-endemic\", 0, IF(INTRO!$E$37=\"Non-endemic\",0,IF(COUNTRY_INFO!$H63=1,COUNTRY_INFO!F63,0)))","v":0},{"$f":"IF(INTRO!$E$39<>\"Non-endemic\", 0, IF(INTRO!$E$37=\"Non-endemic\",0,IF(COUNTRY_INFO!$H63=1,COUNTRY_INFO!G63,0)))","v":0},0,{"$f":"IF(INTRO!$E$39=\"Non-endemic\",IF(INTRO!$E$37=\"Non-endemic\",\"Not required\",COUNTRY_INFO!P63),\"Treat with IVM\")","v":"Treat with IVM"},0,0,null,0,0]
[{"$f":"IF(INTRO!$E$39<>\"Non-endemic\", \" \", IF(INTRO!$E$37=\"Non-endemic\",\" \", IF(COUNTRY_INFO!A64=0,\" \",COUNTRY_INFO!A64)))","v":" "},{"$f":"IF(INTRO!$E$39<>\"Non-endemic\", \" \", IF(INTRO!$E$37=\"Non-endemic\",\" \", IF(COUNTRY_INFO!B64=0,\" \",COUNTRY_INFO!B64)))","v":" "},{"$f":"IF(INTRO!$E$39<>\"Non-endemic\", \" \", IF(INTRO!$E$37=\"Non-endemic\",\" \", IF(COUNTRY_INFO!C64=0,\" \",COUNTRY_INFO!C64)))","v":" "},{"$f":"IF(INTRO!$E$39<>\"Non-endemic\", 0, IF(INTRO!$E$37=\"Non-endemic\",0,IF(COUNTRY_INFO!$H64=1,COUNTRY_INFO!E64,0)))","v":0},{"$f":"IF(INTRO!$E$39<>\"Non-endemic\", 0, IF(INTRO!$E$37=\"Non-endemic\",0,IF(COUNTRY_INFO!$H64=1,COUNTRY_INFO!F64,0)))","v":0},{"$f":"IF(INTRO!$E$39<>\"Non-endemic\", 0, IF(INTRO!$E$37=\"Non-endemic\",0,IF(COUNTRY_INFO!$H64=1,COUNTRY_INFO!G64,0)))","v":0},0,{"$f":"IF(INTRO!$E$39=\"Non-endemic\",IF(INTRO!$E$37=\"Non-endemic\",\"Not required\",COUNTRY_INFO!P64),\"Treat with IVM\")","v":"Treat with IVM"},0,0,null,0,0]
[{"$f":"IF(INTRO!$E$39<>\"Non-endemic\", \" \", IF(INTRO!$E$37=\"Non-endemic\",\" \", IF(COUNTRY_INFO!A65=0,\" \",COUNTRY_INFO!A65)))","v":" "},{"$f":"IF(INTRO!$E$39<>\"Non-endemic\", \" \", IF(INTRO!$E$37=\"Non-endemic\",\" \", IF(COUNTRY_INFO!B65=0,\" \",COUNTRY_INFO!B65)))","v":" "},{"$f":"IF(INTRO!$E$39<>\"Non-endemic\", \" \", IF(INTRO!$E$37=\"Non-endemic\",\" \", IF(COUNTRY_INFO!C65=0,\" \",COUNTRY_INFO!C65)))","v":" "},{"$f":"IF(INTRO!$E$39<>\"Non-endemic\", 0, IF(INTRO!$E$37=\"Non-endemic\",0,IF(COUNTRY_INFO!$H65=1,COUNTRY_INFO!E65,0)))","v":0},{"$f":"IF(INTRO!$E$39<>\"Non-endemic\", 0, IF(INTRO!$E$37=\"Non-endemic\",0,IF(COUNTRY_INFO!$H65=1,COUNTRY_INFO!F65,0)))","v":0},{"$f":"IF(INTRO!$E$39<>\"Non-endemic\", 0, IF(INTRO!$E$37=\"Non-endemic\",0,IF(COUNTRY_INFO!$H65=1,COUNTRY_INFO!G65,0)))","v":0},0,{"$f":"IF(INTRO!$E$39=\"Non-endemic\",IF(INTRO!$E$37=\"Non-endemic\",\"Not required\",COUNTRY_INFO!P65),\"Treat with IVM\")","v":"Treat with IVM"},0,0,null,0,0]
[{"$f":"IF(INTRO!$E$39<>\"Non-endemic\", \" \", IF(INTRO!$E$37=\"Non-endemic\",\" \", IF(COUNTRY_INFO!A66=0,\" \",COUNTRY_INFO!A66)))","v":" "},{"$f":"IF(INTRO!$E$39<>\"Non-endemic\", \" \", IF(INTRO!$E$37=\"Non-endemic\",\" \", IF(COUNTRY_INFO!B66=0,\" \",COUNTRY_INFO!B66)))","v":" "},{"$f":"IF(INTRO!$E$39<>\"Non-endemic\", \" \", IF(INTRO!$E$37=\"Non-endemic\",\" \", IF(COUNTRY_INFO!C66=0,\" \",COUNTRY_INFO!C66)))","v":" "},{"$f":"IF(INTRO!$E$39<>\"Non-endemic\", 0, IF(INTRO!$E$37=\"Non-endemic\",0,IF(COUNTRY_INFO!$H66=1,COUNTRY_INFO!E66,0)))","v":0},{"$f":"IF(INTRO!$E$39<>\"Non-endemic\", 0, IF(INTRO!$E$37=\"Non-endemic\",0,IF(COUNTRY_INFO!$H66=1,COUNTRY_INFO!F66,0)))","v":0},{"$f":"IF(INTRO!$E$39<>\"Non-endemic\", 0, IF(INTRO!$E$37=\"Non-endemic\",0,IF(COUNTRY_INFO!$H66=1,COUNTRY_INFO!G66,0)))","v":0},0,{"$f":"IF(INTRO!$E$39=\"Non-endemic\",IF(INTRO!$E$37=\"Non-endemic\",\"Not required\",COUNTRY_INFO!P66),\"Treat with IVM\")","v":"Treat with IVM"},0,0,null,0,0]
[{"$f":"IF(INTRO!$E$39<>\"Non-endemic\", \" \", IF(INTRO!$E$37=\"Non-endemic\",\" \", IF(COUNTRY_INFO!A67=0,\" \",COUNTRY_INFO!A67)))","v":" "},{"$f":"IF(INTRO!$E$39<>\"Non-endemic\", \" \", IF(INTRO!$E$37=\"Non-endemic\",\" \", IF(COUNTRY_INFO!B67=0,\" \",COUNTRY_INFO!B67)))","v":" "},{"$f":"IF(INTRO!$E$39<>\"Non-endemic\", \" \", IF(INTRO!$E$37=\"Non-endemic\",\" \", IF(COUNTRY_INFO!C67=0,\" \",COUNTRY_INFO!C67)))","v":" "},{"$f":"IF(INTRO!$E$39<>\"Non-endemic\", 0, IF(INTRO!$E$37=\"Non-endemic\",0,IF(COUNTRY_INFO!$H67=1,COUNTRY_INFO!E67,0)))","v":0},{"$f":"IF(INTRO!$E$39<>\"Non-endemic\", 0, IF(INTRO!$E$37=\"Non-endemic\",0,IF(COUNTRY_INFO!$H67=1,COUNTRY_INFO!F67,0)))","v":0},{"$f":"IF(INTRO!$E$39<>\"Non-endemic\", 0, IF(INTRO!$E$37=\"Non-endemic\",0,IF(COUNTRY_INFO!$H67=1,COUNTRY_INFO!G67,0)))","v":0},0,{"$f":"IF(INTRO!$E$39=\"Non-endemic\",IF(INTRO!$E$37=\"Non-endemic\",\"Not required\",COUNTRY_INFO!P67),\"Treat with IVM\")","v":"Treat with IVM"},0,0,null,0,0]
[{"$f":"IF(INTRO!$E$39<>\"Non-endemic\", \" \", IF(INTRO!$E$37=\"Non-endemic\",\" \", IF(COUNTRY_INFO!A68=0,\" \",COUNTRY_INFO!A68)))","v":" "},{"$f":"IF(INTRO!$E$39<>\"Non-endemic\", \" \", IF(INTRO!$E$37=\"Non-endemic\",\" \", IF(COUNTRY_INFO!B68=0,\" \",COUNTRY_INFO!B68)))","v":" "},{"$f":"IF(INTRO!$E$39<>\"Non-endemic\", \" \", IF(INTRO!$E$37=\"Non-endemic\",\" \", IF(COUNTRY_INFO!C68=0,\" \",COUNTRY_INFO!C68)))","v":" "},{"$f":"IF(INTRO!$E$39<>\"Non-endemic\", 0, IF(INTRO!$E$37=\"Non-endemic\",0,IF(COUNTRY_INFO!$H68=1,COUNTRY_INFO!E68,0)))","v":0},{"$f":"IF(INTRO!$E$39<>\"Non-endemic\", 0, IF(INTRO!$E$37=\"Non-endemic\",0,IF(COUNTRY_INFO!$H68=1,COUNTRY_INFO!F68,0)))","v":0},{"$f":"IF(INTRO!$E$39<>\"Non-endemic\", 0, IF(INTRO!$E$37=\"Non-endemic\",0,IF(COUNTRY_INFO!$H68=1,COUNTRY_INFO!G68,0)))","v":0},0,{"$f":"IF(INTRO!$E$39=\"Non-endemic\",IF(INTRO!$E$37=\"Non-endemic\",\"Not required\",COUNTRY_INFO!P68),\"Treat with IVM\")","v":"Treat with IVM"},0,0,null,0,0]
[{"$f":"IF(INTRO!$E$39<>\"Non-endemic\", \" \", IF(INTRO!$E$37=\"Non-endemic\",\" \", IF(COUNTRY_INFO!A69=0,\" \",COUNTRY_INFO!A69)))","v":" "},{"$f":"IF(INTRO!$E$39<>\"Non-endemic\", \" \", IF(INTRO!$E$37=\"Non-endemic\",\" \", IF(COUNTRY_INFO!B69=0,\" \",COUNTRY_INFO!B69)))","v":" "},{"$f":"IF(INTRO!$E$39<>\"Non-endemic\", \" \", IF(INTRO!$E$37=\"Non-endemic\",\" \", IF(COUNTRY_INFO!C69=0,\" \",COUNTRY_INFO!C69)))","v":" "},{"$f":"IF(INTRO!$E$39<>\"Non-endemic\", 0, IF(INTRO!$E$37=\"Non-endemic\",0,IF(COUNTRY_INFO!$H69=1,COUNTRY_INFO!E69,0)))","v":0},{"$f":"IF(INTRO!$E$39<>\"Non-endemic\", 0, IF(INTRO!$E$37=\"Non-endemic\",0,IF(COUNTRY_INFO!$H69=1,COUNTRY_INFO!F69,0)))","v":0},{"$f":"IF(INTRO!$E$39<>\"Non-endemic\", 0, IF(INTRO!$E$37=\"Non-endemic\",0,IF(COUNTRY_INFO!$H69=1,COUNTRY_INFO!G69,0)))","v":0},0,{"$f":"IF(INTRO!$E$39=\"Non-endemic\",IF(INTRO!$E$37=\"Non-endemic\",\"Not required\",COUNTRY_INFO!P69),\"Treat with IVM\")","v":"Treat with IVM"},0,0,null,0,0]
[{"$f":"IF(INTRO!$E$39<>\"Non-endemic\", \" \", IF(INTRO!$E$37=\"Non-endemic\",\" \", IF(COUNTRY_INFO!A70=0,\" \",COUNTRY_INFO!A70)))","v":" "},{"$f":"IF(INTRO!$E$39<>\"Non-endemic\", \" \", IF(INTRO!$E$37=\"Non-endemic\",\" \", IF(COUNTRY_INFO!B70=0,\" \",COUNTRY_INFO!B70)))","v":" "},{"$f":"IF(INTRO!$E$39<>\"Non-endemic\", \" \", IF(INTRO!$E$37=\"Non-endemic\",\" \", IF(COUNTRY_INFO!C70=0,\" \",COUNTRY_INFO!C70)))","v":" "},{"$f":"IF(INTRO!$E$39<>\"Non-endemic\", 0, IF(INTRO!$E$37=\"Non-endemic\",0,IF(COUNTRY_INFO!$H70=1,COUNTRY_INFO!E70,0)))","v":0},{"$f":"IF(INTRO!$E$39<>\"Non-endemic\", 0, IF(INTRO!$E$37=\"Non-endemic\",0,IF(COUNTRY_INFO!$H70=1,COUNTRY_INFO!F70,0)))","v":0},{"$f":"IF(INTRO!$E$39<>\"Non-endemic\", 0, IF(INTRO!$E$37=\"Non-endemic\",0,IF(COUNTRY_INFO!$H70=1,COUNTRY_INFO!G70,0)))","v":0},0,{"$f":"IF(INTRO!$E$39=\"Non-endemic\",IF(INTRO!$E$37=\"Non-endemic\",\"Not required\",COUNTRY_INFO!P70),\"Treat with IVM\")","v":"Treat with IVM"},0,0,null,0,0]
[{"$f":"IF(INTRO!$E$39<>\"Non-endemic\", \" \", IF(INTRO!$E$37=\"Non-endemic\",\" \", IF(COUNTRY_INFO!A71=0,\" \",COUNTRY_INFO!A71)))","v":" "},{"$f":"IF(INTRO!$E$39<>\"Non-endemic\", \" \", IF(INTRO!$E$37=\"Non-endemic\",\" \", IF(COUNTRY_INFO!B71=0,\" \",COUNTRY_INFO!B71)))","v":" "},{"$f":"IF(INTRO!$E$39<>\"Non-endemic\", \" \", IF(INTRO!$E$37=\"Non-endemic\",\" \", IF(COUNTRY_INFO!C71=0,\" \",COUNTRY_INFO!C71)))","v":" "},{"$f":"IF(INTRO!$E$39<>\"Non-endemic\", 0, IF(INTRO!$E$37=\"Non-endemic\",0,IF(COUNTRY_INFO!$H71=1,COUNTRY_INFO!E71,0)))","v":0},{"$f":"IF(INTRO!$E$39<>\"Non-endemic\", 0, IF(INTRO!$E$37=\"Non-endemic\",0,IF(COUNTRY_INFO!$H71=1,COUNTRY_INFO!F71,0)))","v":0},{"$f":"IF(INTRO!$E$39<>\"Non-endemic\", 0, IF(INTRO!$E$37=\"Non-endemic\",0,IF(COUNTRY_INFO!$H71=1,COUNTRY_INFO!G71,0)))","v":0},0,{"$f":"IF(INTRO!$E$39=\"Non-endemic\",IF(INTRO!$E$37=\"Non-endemic\",\"Not required\",COUNTRY_INFO!P71),\"Treat with IVM\")","v":"Treat with IVM"},0,0,null,0,0]
[{"$f":"IF(INTRO!$E$39<>\"Non-endemic\", \" \", IF(INTRO!$E$37=\"Non-endemic\",\" \", IF(COUNTRY_INFO!A72=0,\" \",COUNTRY_INFO!A72)))","v":" "},{"$f":"IF(INTRO!$E$39<>\"Non-endemic\", \" \", IF(INTRO!$E$37=\"Non-endemic\",\" \", IF(COUNTRY_INFO!B72=0,\" \",COUNTRY_INFO!B72)))","v":" "},{"$f":"IF(INTRO!$E$39<>\"Non-endemic\", \" \", IF(INTRO!$E$37=\"Non-endemic\",\" \", IF(COUNTRY_INFO!C72=0,\" \",COUNTRY_INFO!C72)))","v":" "},{"$f":"IF(INTRO!$E$39<>\"Non-endemic\", 0, IF(INTRO!$E$37=\"Non-endemic\",0,IF(COUNTRY_INFO!$H72=1,COUNTRY_INFO!E72,0)))","v":0},{"$f":"IF(INTRO!$E$39<>\"Non-endemic\", 0, IF(INTRO!$E$37=\"Non-endemic\",0,IF(COUNTRY_INFO!$H72=1,COUNTRY_INFO!F72,0)))","v":0},{"$f":"IF(INTRO!$E$39<>\"Non-endemic\", 0, IF(INTRO!$E$37=\"Non-endemic\",0,IF(COUNTRY_INFO!$H72=1,COUNTRY_INFO!G72,0)))","v":0},0,{"$f":"IF(INTRO!$E$39=\"Non-endemic\",IF(INTRO!$E$37=\"Non-endemic\",\"Not required\",COUNTRY_INFO!P72),\"Treat with IVM\")","v":"Treat with IVM"},0,0,null,0,0]
[{"$f":"IF(INTRO!$E$39<>\"Non-endemic\", \" \", IF(INTRO!$E$37=\"Non-endemic\",\" \", IF(COUNTRY_INFO!A73=0,\" \",COUNTRY_INFO!A73)))","v":" "},{"$f":"IF(INTRO!$E$39<>\"Non-endemic\", \" \", IF(INTRO!$E$37=\"Non-endemic\",\" \", IF(COUNTRY_INFO!B73=0,\" \",COUNTRY_INFO!B73)))","v":" "},{"$f":"IF(INTRO!$E$39<>\"Non-endemic\", \" \", IF(INTRO!$E$37=\"Non-endemic\",\" \", IF(COUNTRY_INFO!C73=0,\" \",COUNTRY_INFO!C73)))","v":" "},{"$f":"IF(INTRO!$E$39<>\"Non-endemic\", 0, IF(INTRO!$E$37=\"Non-endemic\",0,IF(COUNTRY_INFO!$H73=1,COUNTRY_INFO!E73,0)))","v":0},{"$f":"IF(INTRO!$E$39<>\"Non-endemic\", 0, IF(INTRO!$E$37=\"Non-endemic\",0,IF(COUNTRY_INFO!$H73=1,COUNTRY_INFO!F73,0)))","v":0},{"$f":"IF(INTRO!$E$39<>\"Non-endemic\", 0, IF(INTRO!$E$37=\"Non-endemic\",0,IF(COUNTRY_INFO!$H73=1,COUNTRY_INFO!G73,0)))","v":0},{"$f":"SUM(D73:F73)","v":0},{"$f":"IF(INTRO!$E$39=\"Non-endemic\",IF(INTRO!$E$37=\"Non-endemic\",\"Not required\",COUNTRY_INFO!P73),\"Treat with IVM\")","v":"Treat with IVM"},{"$f":"IF(H73=1,G73,0)","v":0},{"$f":"IF(I73>0,I73*2.5,0)","v":0},null,{"$f":"IF($J73>$K73,$J73-$K73,0)","v":0},{"$f":"ROUNDUP($J73/1000,0)","v":0}]
[{"$f":"IF(INTRO!$E$39<>\"Non-endemic\", \" \", IF(INTRO!$E$37=\"Non-endemic\",\" \", IF(COUNTRY_INFO!A74=0,\" \",COUNTRY_INFO!A74)))","v":" "},{"$f":"IF(INTRO!$E$39<>\"Non-endemic\", \" \", IF(INTRO!$E$37=\"Non-endemic\",\" \", IF(COUNTRY_INFO!B74=0,\" \",COUNTRY_INFO!B74)))","v":" "},{"$f":"IF(INTRO!$E$39<>\"Non-endemic\", \" \", IF(INTRO!$E$37=\"Non-endemic\",\" \", IF(COUNTRY_INFO!C74=0,\" \",COUNTRY_INFO!C74)))","v":" "},{"$f":"IF(INTRO!$E$39<>\"Non-endemic\", 0, IF(INTRO!$E$37=\"Non-endemic\",0,IF(COUNTRY_INFO!$H74=1,COUNTRY_INFO!E74,0)))","v":0},{"$f":"IF(INTRO!$E$39<>\"Non-endemic\", 0, IF(INTRO!$E$37=\"Non-endemic\",0,IF(COUNTRY_INFO!$H74=1,COUNTRY_INFO!F74,0)))","v":0},{"$f":"IF(INTRO!$E$39<>\"Non-endemic\", 0, IF(INTRO!$E$37=\"Non-endemic\",0,IF(COUNTRY_INFO!$H74=1,COUNTRY_INFO!G74,0)))","v":0},0,{"$f":"IF(INTRO!$E$39=\"Non-endemic\",IF(INTRO!$E$37=\"Non-endemic\",\"Not required\",COUNTRY_INFO!P74),\"Treat with IVM\")","v":"Treat with IVM"},0,0,null,0,0]
[{"$f":"IF(INTRO!$E$39<>\"Non-endemic\", \" \", IF(INTRO!$E$37=\"Non-endemic\",\" \", IF(COUNTRY_INFO!A75=0,\" \",COUNTRY_INFO!A75)))","v":" "},{"$f":"IF(INTRO!$E$39<>\"Non-endemic\", \" \", IF(INTRO!$E$37=\"Non-endemic\",\" \", IF(COUNTRY_INFO!B75=0,\" \",COUNTRY_INFO!B75)))","v":" "},{"$f":"IF(INTRO!$E$39<>\"Non-endemic\", \" \", IF(INTRO!$E$37=\"Non-endemic\",\" \", IF(COUNTRY_INFO!C75=0,\" \",COUNTRY_INFO!C75)))","v":" "},{"$f":"IF(INTRO!$E$39<>\"Non-endemic\", 0, IF(INTRO!$E$37=\"Non-endemic\",0,IF(COUNTRY_INFO!$H75=1,COUNTRY_INFO!E75,0)))","v":0},{"$f":"IF(INTRO!$E$39<>\"Non-endemic\", 0, IF(INTRO!$E$37=\"Non-endemic\",0,IF(COUNTRY_INFO!$H75=1,COUNTRY_INFO!F75,0)))","v":0},{"$f":"IF(INTRO!$E$39<>\"Non-endemic\", 0, IF(INTRO!$E$37=\"Non-endemic\",0,IF(COUNTRY_INFO!$H75=1,COUNTRY_INFO!G75,0)))","v":0},0,{"$f":"IF(INTRO!$E$39=\"Non-endemic\",IF(INTRO!$E$37=\"Non-endemic\",\"Not required\",COUNTRY_INFO!P75),\"Treat with IVM\")","v":"Treat with IVM"},0,0,null,0,0]
[{"$f":"IF(INTRO!$E$39<>\"Non-endemic\", \" \", IF(INTRO!$E$37=\"Non-endemic\",\" \", IF(COUNTRY_INFO!A76=0,\" \",COUNTRY_INFO!A76)))","v":" "},{"$f":"IF(INTRO!$E$39<>\"Non-endemic\", \" \", IF(INTRO!$E$37=\"Non-endemic\",\" \", IF(COUNTRY_INFO!B76=0,\" \",COUNTRY_INFO!B76)))","v":" "},{"$f":"IF(INTRO!$E$39<>\"Non-endemic\", \" \", IF(INTRO!$E$37=\"Non-endemic\",\" \", IF(COUNTRY_INFO!C76=0,\" \",COUNTRY_INFO!C76)))","v":" "},{"$f":"IF(INTRO!$E$39<>\"Non-endemic\", 0, IF(INTRO!$E$37=\"Non-endemic\",0,IF(COUNTRY_INFO!$H76=1,COUNTRY_INFO!E76,0)))","v":0},{"$f":"IF(INTRO!$E$39<>\"Non-endemic\", 0, IF(INTRO!$E$37=\"Non-endemic\",0,IF(COUNTRY_INFO!$H76=1,COUNTRY_INFO!F76,0)))","v":0},{"$f":"IF(INTRO!$E$39<>\"Non-endemic\", 0, IF(INTRO!$E$37=\"Non-endemic\",0,IF(COUNTRY_INFO!$H76=1,COUNTRY_INFO!G76,0)))","v":0},0,{"$f":"IF(INTRO!$E$39=\"Non-endemic\",IF(INTRO!$E$37=\"Non-endemic\",\"Not required\",COUNTRY_INFO!P76),\"Treat with IVM\")","v":"Treat with IVM"},0,0,null,0,0]
[{"$f":"IF(INTRO!$E$39<>\"Non-endemic\", \" \", IF(INTRO!$E$37=\"Non-endemic\",\" \", IF(COUNTRY_INFO!A77=0,\" \",COUNTRY_INFO!A77)))","v":" "},{"$f":"IF(INTRO!$E$39<>\"Non-endemic\", \" \", IF(INTRO!$E$37=\"Non-endemic\",\" \", IF(COUNTRY_INFO!B77=0,\" \",COUNTRY_INFO!B77)))","v":" "},{"$f":"IF(INTRO!$E$39<>\"Non-endemic\", \" \", IF(INTRO!$E$37=\"Non-endemic\",\" \", IF(COUNTRY_INFO!C77=0,\" \",COUNTRY_INFO!C77)))","v":" "},{"$f":"IF(INTRO!$E$39<>\"Non-endemic\", 0, IF(INTRO!$E$37=\"Non-endemic\",0,IF(COUNTRY_INFO!$H77=1,COUNTRY_INFO!E77,0)))","v":0},{"$f":"IF(INTRO!$E$39<>\"Non-endemic\", 0, IF(INTRO!$E$37=\"Non-endemic\",0,IF(COUNTRY_INFO!$H77=1,COUNTRY_INFO!F77,0)))","v":0},{"$f":"IF(INTRO!$E$39<>\"Non-endemic\", 0, IF(INTRO!$E$37=\"Non-endemic\",0,IF(COUNTRY_INFO!$H77=1,COUNTRY_INFO!G77,0)))","v":0},0,{"$f":"IF(INTRO!$E$39=\"Non-endemic\",IF(INTRO!$E$37=\"Non-endemic\",\"Not required\",COUNTRY_INFO!P77),\"Treat with IVM\")","v":"Treat with IVM"},0,0,null,0,0]
[{"$f":"IF(INTRO!$E$39<>\"Non-endemic\", \" \", IF(INTRO!$E$37=\"Non-endemic\",\" \", IF(COUNTRY_INFO!A78=0,\" \",COUNTRY_INFO!A78)))","v":" "},{"$f":"IF(INTRO!$E$39<>\"Non-endemic\", \" \", IF(INTRO!$E$37=\"Non-endemic\",\" \", IF(COUNTRY_INFO!B78=0,\" \",COUNTRY_INFO!B78)))","v":" "},{"$f":"IF(INTRO!$E$39<>\"Non-endemic\", \" \", IF(INTRO!$E$37=\"Non-endemic\",\" \", IF(COUNTRY_INFO!C78=0,\" \",COUNTRY_INFO!C78)))","v":" "},{"$f":"IF(INTRO!$E$39<>\"Non-endemic\", 0, IF(INTRO!$E$37=\"Non-endemic\",0,IF(COUNTRY_INFO!$H78=1,COUNTRY_INFO!E78,0)))","v":0},{"$f":"IF(INTRO!$E$39<>\"Non-endemic\", 0, IF(INTRO!$E$37=\"Non-endemic\",0,IF(COUNTRY_INFO!$H78=1,COUNTRY_INFO!F78,0)))","v":0},{"$f":"IF(INTRO!$E$39<>\"Non-endemic\", 0, IF(INTRO!$E$37=\"Non-endemic\",0,IF(COUNTRY_INFO!$H78=1,COUNTRY_INFO!G78,0)))","v":0},0,{"$f":"IF(INTRO!$E$39=\"Non-endemic\",IF(INTRO!$E$37=\"Non-endemic\",\"Not required\",COUNTRY_INFO!P78),\"Treat with IVM\")","v":"Treat with IVM"},0,0,null,0,0]
[{"$f":"IF(INTRO!$E$39<>\"Non-endemic\", \" \", IF(INTRO!$E$37=\"Non-endemic\",\" \", IF(COUNTRY_INFO!A79=0,\" \",COUNTRY_INFO!A79)))","v":" "},{"$f":"IF(INTRO!$E$39<>\"Non-endemic\", \" \", IF(INTRO!$E$37=\"Non-endemic\",\" \", IF(COUNTRY_INFO!B79=0,\" \",COUNTRY_INFO!B79)))","v":" "},{"$f":"IF(INTRO!$E$39<>\"Non-endemic\", \" \", IF(INTRO!$E$37=\"Non-endemic\",\" \", IF(COUNTRY_INFO!C79=0,\" \",COUNTRY_INFO!C79)))","v":" "},{"$f":"IF(INTRO!$E$39<>\"Non-endemic\", 0, IF(INTRO!$E$37=\"Non-endemic\",0,IF(COUNTRY_INFO!$H79=1,COUNTRY_INFO!E79,0)))","v":0},{"$f":"IF(INTRO!$E$39<>\"Non-endemic\", 0, IF(INTRO!$E$37=\"Non-endemic\",0,IF(COUNTRY_INFO!$H79=1,COUNTRY_INFO!F79,0)))","v":0},{"$f":"IF(INTRO!$E$39<>\"Non-endemic\", 0, IF(INTRO!$E$37=\"Non-endemic\",0,IF(COUNTRY_INFO!$H79=1,COUNTRY_INFO!G79,0)))","v":0},0,{"$f":"IF(INTRO!$E$39=\"Non-endemic\",IF(INTRO!$E$37=\"Non-endemic\",\"Not required\",COUNTRY_INFO!P79),\"Treat with IVM\")","v":"Treat with IVM"},0,0,null,0,0]
[{"$f":"IF(INTRO!$E$39<>\"Non-endemic\", \" \", IF(INTRO!$E$37=\"Non-endemic\",\" \", IF(COUNTRY_INFO!A80=0,\" \",COUNTRY_INFO!A80)))","v":" "},{"$f":"IF(INTRO!$E$39<>\"Non-endemic\", \" \", IF(INTRO!$E$37=\"Non-endemic\",\" \", IF(COUNTRY_INFO!B80=0,\" \",COUNTRY_INFO!B80)))","v":" "},{"$f":"IF(INTRO!$E$39<>\"Non-endemic\", \" \", IF(INTRO!$E$37=\"Non-endemic\",\" \", IF(COUNTRY_INFO!C80=0,\" \",COUNTRY_INFO!C80)))","v":" "},{"$f":"IF(INTRO!$E$39<>\"Non-endemic\", 0, IF(INTRO!$E$37=\"Non-endemic\",0,IF(COUNTRY_INFO!$H80=1,COUNTRY_INFO!E80,0)))","v":0},{"$f":"IF(INTRO!$E$39<>\"Non-endemic\", 0, IF(INTRO!$E$37=\"Non-endemic\",0,IF(COUNTRY_INFO!$H80=1,COUNTRY_INFO!F80,0)))","v":0},{"$f":"IF(INTRO!$E$39<>\"Non-endemic\", 0, IF(INTRO!$E$37=\"Non-endemic\",0,IF(COUNTRY_INFO!$H80=1,COUNTRY_INFO!G80,0)))","v":0},0,{"$f":"IF(INTRO!$E$39=\"Non-endemic\",IF(INTRO!$E$37=\"Non-endemic\",\"Not required\",COUNTRY_INFO!P80),\"Treat with IVM\")","v":"Treat with IVM"},0,0,null,0,0]
[{"$f":"IF(INTRO!$E$39<>\"Non-endemic\", \" \", IF(INTRO!$E$37=\"Non-endemic\",\" \", IF(COUNTRY_INFO!A81=0,\" \",COUNTRY_INFO!A81)))","v":" "},{"$f":"IF(INTRO!$E$39<>\"Non-endemic\", \" \", IF(INTRO!$E$37=\"Non-endemic\",\" \", IF(COUNTRY_INFO!B81=0,\" \",COUNTRY_INFO!B81)))","v":" "},{"$f":"IF(INTRO!$E$39<>\"Non-endemic\", \" \", IF(INTRO!$E$37=\"Non-endemic\",\" \", IF(COUNTRY_INFO!C81=0,\" \",COUNTRY_INFO!C81)))","v":" "},{"$f":"IF(INTRO!$E$39<>\"Non-endemic\", 0, IF(INTRO!$E$37=\"Non-endemic\",0,IF(COUNTRY_INFO!$H81=1,COUNTRY_INFO!E81,0)))","v":0},{"$f":"IF(INTRO!$E$39<>\"Non-endemic\", 0, IF(INTRO!$E$37=\"Non-endemic\",0,IF(COUNTRY_INFO!$H81=1,COUNTRY_INFO!F81,0)))","v":0},{"$f":"IF(INTRO!$E$39<>\"Non-endemic\", 0, IF(INTRO!$E$37=\"Non-endemic\",0,IF(COUNTRY_INFO!$H81=1,COUNTRY_INFO!G81,0)))","v":0},0,{"$f":"IF(INTRO!$E$39=\"Non-endemic\",IF(INTRO!$E$37=\"Non-endemic\",\"Not required\",COUNTRY_INFO!P81),\"Treat with IVM\")","v":"Treat with IVM"},0,0,null,0,0]
[{"$f":"IF(INTRO!$E$39<>\"Non-endemic\", \" \", IF(INTRO!$E$37=\"Non-endemic\",\" \", IF(COUNTRY_INFO!A82=0,\" \",COUNTRY_INFO!A82)))","v":" "},{"$f":"IF(INTRO!$E$39<>\"Non-endemic\", \" \", IF(INTRO!$E$37=\"Non-endemic\",\" \", IF(COUNTRY_INFO!B82=0,\" \",COUNTRY_INFO!B82)))","v":" "},{"$f":"IF(INTRO!$E$39<>\"Non-endemic\", \" \", IF(INTRO!$E$37=\"Non-endemic\",\" \", IF(COUNTRY_INFO!C82=0,\" \",COUNTRY_INFO!C82)))","v":" "},{"$f":"IF(INTRO!$E$39<>\"Non-endemic\", 0, IF(INTRO!$E$37=\"Non-endemic\",0,IF(COUNTRY_INFO!$H82=1,COUNTRY_INFO!E82,0)))","v":0},{"$f":"IF(INTRO!$E$39<>\"Non-endemic\", 0, IF(INTRO!$E$37=\"Non-endemic\",0,IF(COUNTRY_INFO!$H82=1,COUNTRY_INFO!F82,0)))","v":0},{"$f":"IF(INTRO!$E$39<>\"Non-endemic\", 0, IF(INTRO!$E$37=\"Non-endemic\",0,IF(COUNTRY_INFO!$H82=1,COUNTRY_INFO!G82,0)))","v":0},0,{"$f":"IF(INTRO!$E$39=\"Non-endemic\",IF(INTRO!$E$37=\"Non-endemic\",\"Not required\",COUNTRY_INFO!P82),\"Treat with IVM\")","v":"Treat with IVM"},0,0,null,0,0]
[{"$f":"IF(INTRO!$E$39<>\"Non-endemic\", \" \", IF(INTRO!$E$37=\"Non-endemic\",\" \", IF(COUNTRY_INFO!A83=0,\" \",COUNTRY_INFO!A83)))","v":" "},{"$f":"IF(INTRO!$E$39<>\"Non-endemic\", \" \", IF(INTRO!$E$37=\"Non-endemic\",\" \", IF(COUNTRY_INFO!B83=0,\" \",COUNTRY_INFO!B83)))","v":" "},{"$f":"IF(INTRO!$E$39<>\"Non-endemic\", \" \", IF(INTRO!$E$37=\"Non-endemic\",\" \", IF(COUNTRY_INFO!C83=0,\" \",COUNTRY_INFO!C83)))","v":" "},{"$f":"IF(INTRO!$E$39<>\"Non-endemic\", 0, IF(INTRO!$E$37=\"Non-endemic\",0,IF(COUNTRY_INFO!$H83=1,COUNTRY_INFO!E83,0)))","v":0},{"$f":"IF(INTRO!$E$39<>\"Non-endemic\", 0, IF(INTRO!$E$37=\"Non-endemic\",0,IF(COUNTRY_INFO!$H83=1,COUNTRY_INFO!F83,0)))","v":0},{"$f":"IF(INTRO!$E$39<>\"Non-endemic\", 0, IF(INTRO!$E$37=\"Non-endemic\",0,IF(COUNTRY_INFO!$H83=1,COUNTRY_INFO!G83,0)))","v":0},0,{"$f":"IF(INTRO!$E$39=\"Non-endemic\",IF(INTRO!$E$37=\"Non-endemic\",\"Not required\",COUNTRY_INFO!P83),\"Treat with IVM\")","v":"Treat with IVM"},0,0,null,0,0]
[{"$f":"IF(INTRO!$E$39<>\"Non-endemic\", \" \", IF(INTRO!$E$37=\"Non-endemic\",\" \", IF(COUNTRY_INFO!A84=0,\" \",COUNTRY_INFO!A84)))","v":" "},{"$f":"IF(INTRO!$E$39<>\"Non-endemic\", \" \", IF(INTRO!$E$37=\"Non-endemic\",\" \", IF(COUNTRY_INFO!B84=0,\" \",COUNTRY_INFO!B84)))","v":" "},{"$f":"IF(INTRO!$E$39<>\"Non-endemic\", \" \", IF(INTRO!$E$37=\"Non-endemic\",\" \", IF(COUNTRY_INFO!C84=0,\" \",COUNTRY_INFO!C84)))","v":" "},{"$f":"IF(INTRO!$E$39<>\"Non-endemic\", 0, IF(INTRO!$E$37=\"Non-endemic\",0,IF(COUNTRY_INFO!$H84=1,COUNTRY_INFO!E84,0)))","v":0},{"$f":"IF(INTRO!$E$39<>\"Non-endemic\", 0, IF(INTRO!$E$37=\"Non-endemic\",0,IF(COUNTRY_INFO!$H84=1,COUNTRY_INFO!F84,0)))","v":0},{"$f":"IF(INTRO!$E$39<>\"Non-endemic\", 0, IF(INTRO!$E$37=\"Non-endemic\",0,IF(COUNTRY_INFO!$H84=1,COUNTRY_INFO!G84,0)))","v":0},0,{"$f":"IF(INTRO!$E$39=\"Non-endemic\",IF(INTRO!$E$37=\"Non-endemic\",\"Not required\",COUNTRY_INFO!P84),\"Treat with IVM\")","v":"Treat with IVM"},0,0,null,0,0]
[{"$f":"IF(INTRO!$E$39<>\"Non-endemic\", \" \", IF(INTRO!$E$37=\"Non-endemic\",\" \", IF(COUNTRY_INFO!A85=0,\" \",COUNTRY_INFO!A85)))","v":" "},{"$f":"IF(INTRO!$E$39<>\"Non-endemic\", \" \", IF(INTRO!$E$37=\"Non-endemic\",\" \", IF(COUNTRY_INFO!B85=0,\" \",COUNTRY_INFO!B85)))","v":" "},{"$f":"IF(INTRO!$E$39<>\"Non-endemic\", \" \", IF(INTRO!$E$37=\"Non-endemic\",\" \", IF(COUNTRY_INFO!C85=0,\" \",COUNTRY_INFO!C85)))","v":" "},{"$f":"IF(INTRO!$E$39<>\"Non-endemic\", 0, IF(INTRO!$E$37=\"Non-endemic\",0,IF(COUNTRY_INFO!$H85=1,COUNTRY_INFO!E85,0)))","v":0},{"$f":"IF(INTRO!$E$39<>\"Non-endemic\", 0, IF(INTRO!$E$37=\"Non-endemic\",0,IF(COUNTRY_INFO!$H85=1,COUNTRY_INFO!F85,0)))","v":0},{"$f":"IF(INTRO!$E$39<>\"Non-endemic\", 0, IF(INTRO!$E$37=\"Non-endemic\",0,IF(COUNTRY_INFO!$H85=1,COUNTRY_INFO!G85,0)))","v":0},0,{"$f":"IF(INTRO!$E$39=\"Non-endemic\",IF(INTRO!$E$37=\"Non-endemic\",\"Not required\",COUNTRY_INFO!P85),\"Treat with IVM\")","v":"Treat with IVM"},0,0,null,0,0]
[{"$f":"IF(INTRO!$E$39<>\"Non-endemic\", \" \", IF(INTRO!$E$37=\"Non-endemic\",\" \", IF(COUNTRY_INFO!A86=0,\" \",COUNTRY_INFO!A86)))","v":" "},{"$f":"IF(INTRO!$E$39<>\"Non-endemic\", \" \", IF(INTRO!$E$37=\"Non-endemic\",\" \", IF(COUNTRY_INFO!B86=0,\" \",COUNTRY_INFO!B86)))","v":" "},{"$f":"IF(INTRO!$E$39<>\"Non-endemic\", \" \", IF(INTRO!$E$37=\"Non-endemic\",\" \", IF(COUNTRY_INFO!C86=0,\" \",COUNTRY_INFO!C86)))","v":" "},{"$f":"IF(INTRO!$E$39<>\"Non-endemic\", 0, IF(INTRO!$E$37=\"Non-endemic\",0,IF(COUNTRY_INFO!$H86=1,COUNTRY_INFO!E86,0)))","v":0},{"$f":"IF(INTRO!$E$39<>\"Non-endemic\", 0, IF(INTRO!$E$37=\"Non-endemic\",0,IF(COUNTRY_INFO!$H86=1,COUNTRY_INFO!F86,0)))","v":0},{"$f":"IF(INTRO!$E$39<>\"Non-endemic\", 0, IF(INTRO!$E$37=\"Non-endemic\",0,IF(COUNTRY_INFO!$H86=1,COUNTRY_INFO!G86,0)))","v":0},0,{"$f":"IF(INTRO!$E$39=\"Non-endemic\",IF(INTRO!$E$37=\"Non-endemic\",\"Not required\",COUNTRY_INFO!P86),\"Treat with IVM\")","v":"Treat with IVM"},0,0,null,0,0]
[{"$f":"IF(INTRO!$E$39<>\"Non-endemic\", \" \", IF(INTRO!$E$37=\"Non-endemic\",\" \", IF(COUNTRY_INFO!A87=0,\" \",COUNTRY_INFO!A87)))","v":" "},{"$f":"IF(INTRO!$E$39<>\"Non-endemic\", \" \", IF(INTRO!$E$37=\"Non-endemic\",\" \", IF(COUNTRY_INFO!B87=0,\" \",COUNTRY_INFO!B87)))","v":" "},{"$f":"IF(INTRO!$E$39<>\"Non-endemic\", \" \", IF(INTRO!$E$37=\"Non-endemic\",\" \", IF(COUNTRY_INFO!C87=0,\" \",COUNTRY_INFO!C87)))","v":" "},{"$f":"IF(INTRO!$E$39<>\"Non-endemic\", 0, IF(INTRO!$E$37=\"Non-endemic\",0,IF(COUNTRY_INFO!$H87=1,COUNTRY_INFO!E87,0)))","v":0},{"$f":"IF(INTRO!$E$39<>\"Non-endemic\", 0, IF(INTRO!$E$37=\"Non-endemic\",0,IF(COUNTRY_INFO!$H87=1,COUNTRY_INFO!F87,0)))","v":0},{"$f":"IF(INTRO!$E$39<>\"Non-endemic\", 0, IF(INTRO!$E$37=\"Non-endemic\",0,IF(COUNTRY_INFO!$H87=1,COUNTRY_INFO!G87,0)))","v":0},0,{"$f":"IF(INTRO!$E$39=\"Non-endemic\",IF(INTRO!$E$37=\"Non-endemic\",\"Not required\",COUNTRY_INFO!P87),\"Treat with IVM\")","v":"Treat with IVM"},0,0,null,0,0]
[{"$f":"IF(INTRO!$E$39<>\"Non-endemic\", \" \", IF(INTRO!$E$37=\"Non-endemic\",\" \", IF(COUNTRY_INFO!A88=0,\" \",COUNTRY_INFO!A88)))","v":" "},{"$f":"IF(INTRO!$E$39<>\"Non-endemic\", \" \", IF(INTRO!$E$37=\"Non-endemic\",\" \", IF(COUNTRY_INFO!B88=0,\" \",COUNTRY_INFO!B88)))","v":" "},{"$f":"IF(INTRO!$E$39<>\"Non-endemic\", \" \", IF(INTRO!$E$37=\"Non-endemic\",\" \", IF(COUNTRY_INFO!C88=0,\" \",COUNTRY_INFO!C88)))","v":" "},{"$f":"IF(INTRO!$E$39<>\"Non-endemic\", 0, IF(INTRO!$E$37=\"Non-endemic\",0,IF(COUNTRY_INFO!$H88=1,COUNTRY_INFO!E88,0)))","v":0},{"$f":"IF(INTRO!$E$39<>\"Non-endemic\", 0, IF(INTRO!$E$37=\"Non-endemic\",0,IF(COUNTRY_INFO!$H88=1,COUNTRY_INFO!F88,0)))","v":0},{"$f":"IF(INTRO!$E$39<>\"Non-endemic\", 0, IF(INTRO!$E$37=\"Non-endemic\",0,IF(COUNTRY_INFO!$H88=1,COUNTRY_INFO!G88,0)))","v":0},0,{"$f":"IF(INTRO!$E$39=\"Non-endemic\",IF(INTRO!$E$37=\"Non-endemic\",\"Not required\",COUNTRY_INFO!P88),\"Treat with IVM\")","v":"Treat with IVM"},0,0,null,0,0]
[{"$f":"IF(INTRO!$E$39<>\"Non-endemic\", \" \", IF(INTRO!$E$37=\"Non-endemic\",\" \", IF(COUNTRY_INFO!A89=0,\" \",COUNTRY_INFO!A89)))","v":" "},{"$f":"IF(INTRO!$E$39<>\"Non-endemic\", \" \", IF(INTRO!$E$37=\"Non-endemic\",\" \", IF(COUNTRY_INFO!B89=0,\" \",COUNTRY_INFO!B89)))","v":" "},{"$f":"IF(INTRO!$E$39<>\"Non-endemic\", \" \", IF(INTRO!$E$37=\"Non-endemic\",\" \", IF(COUNTRY_INFO!C89=0,\" \",COUNTRY_INFO!C89)))","v":" "},{"$f":"IF(INTRO!$E$39<>\"Non-endemic\", 0, IF(INTRO!$E$37=\"Non-endemic\",0,IF(COUNTRY_INFO!$H89=1,COUNTRY_INFO!E89,0)))","v":0},{"$f":"IF(INTRO!$E$39<>\"Non-endemic\", 0, IF(INTRO!$E$37=\"Non-endemic\",0,IF(COUNTRY_INFO!$H89=1,COUNTRY_INFO!F89,0)))","v":0},{"$f":"IF(INTRO!$E$39<>\"Non-endemic\", 0, IF(INTRO!$E$37=\"Non-endemic\",0,IF(COUNTRY_INFO!$H89=1,COUNTRY_INFO!G89,0)))","v":0},0,{"$f":"IF(INTRO!$E$39=\"Non-endemic\",IF(INTRO!$E$37=\"Non-endemic\",\"Not required\",COUNTRY_INFO!P89),\"Treat with IVM\")","v":"Treat with IVM"},0,0,null,0,0]
[{"$f":"IF(INTRO!$E$39<>\"Non-endemic\", \" \", IF(INTRO!$E$37=\"Non-endemic\",\" \", IF(COUNTRY_INFO!A90=0,\" \",COUNTRY_INFO!A90)))","v":" "},{"$f":"IF(INTRO!$E$39<>\"Non-endemic\", \" \", IF(INTRO!$E$37=\"Non-endemic\",\" \", IF(COUNTRY_INFO!B90=0,\" \",COUNTRY_INFO!B90)))","v":" "},{"$f":"IF(INTRO!$E$39<>\"Non-endemic\", \" \", IF(INTRO!$E$37=\"Non-endemic\",\" \", IF(COUNTRY_INFO!C90=0,\" \",COUNTRY_INFO!C90)))","v":" "},{"$f":"IF(INTRO!$E$39<>\"Non-endemic\", 0, IF(INTRO!$E$37=\"Non-endemic\",0,IF(COUNTRY_INFO!$H90=1,COUNTRY_INFO!E90,0)))","v":0},{"$f":"IF(INTRO!$E$39<>\"Non-endemic\", 0, IF(INTRO!$E$37=\"Non-endemic\",0,IF(COUNTRY_INFO!$H90=1,COUNTRY_INFO!F90,0)))","v":0},{"$f":"IF(INTRO!$E$39<>\"Non-endemic\", 0, IF(INTRO!$E$37=\"Non-endemic\",0,IF(COUNTRY_INFO!$H90=1,COUNTRY_INFO!G90,0)))","v":0},0,{"$f":"IF(INTRO!$E$39=\"Non-endemic\",IF(INTRO!$E$37=\"Non-endemic\",\"Not required\",COUNTRY_INFO!P90),\"Treat with IVM\")","v":"Treat with IVM"},0,0,null,0,0]
[{"$f":"IF(INTRO!$E$39<>\"Non-endemic\", \" \", IF(INTRO!$E$37=\"Non-endemic\",\" \", IF(COUNTRY_INFO!A91=0,\" \",COUNTRY_INFO!A91)))","v":" "},{"$f":"IF(INTRO!$E$39<>\"Non-endemic\", \" \", IF(INTRO!$E$37=\"Non-endemic\",\" \", IF(COUNTRY_INFO!B91=0,\" \",COUNTRY_INFO!B91)))","v":" "},{"$f":"IF(INTRO!$E$39<>\"Non-endemic\", \" \", IF(INTRO!$E$37=\"Non-endemic\",\" \", IF(COUNTRY_INFO!C91=0,\" \",COUNTRY_INFO!C91)))","v":" "},{"$f":"IF(INTRO!$E$39<>\"Non-endemic\", 0, IF(INTRO!$E$37=\"Non-endemic\",0,IF(COUNTRY_INFO!$H91=1,COUNTRY_INFO!E91,0)))","v":0},{"$f":"IF(INTRO!$E$39<>\"Non-endemic\", 0, IF(INTRO!$E$37=\"Non-endemic\",0,IF(COUNTRY_INFO!$H91=1,COUNTRY_INFO!F91,0)))","v":0},{"$f":"IF(INTRO!$E$39<>\"Non-endemic\", 0, IF(INTRO!$E$37=\"Non-endemic\",0,IF(COUNTRY_INFO!$H91=1,COUNTRY_INFO!G91,0)))","v":0},0,{"$f":"IF(INTRO!$E$39=\"Non-endemic\",IF(INTRO!$E$37=\"Non-endemic\",\"Not required\",COUNTRY_INFO!P91),\"Treat with IVM\")","v":"Treat with IVM"},0,0,null,0,0]
[{"$f":"IF(INTRO!$E$39<>\"Non-endemic\", \" \", IF(INTRO!$E$37=\"Non-endemic\",\" \", IF(COUNTRY_INFO!A92=0,\" \",COUNTRY_INFO!A92)))","v":" "},{"$f":"IF(INTRO!$E$39<>\"Non-endemic\", \" \", IF(INTRO!$E$37=\"Non-endemic\",\" \", IF(COUNTRY_INFO!B92=0,\" \",COUNTRY_INFO!B92)))","v":" "},{"$f":"IF(INTRO!$E$39<>\"Non-endemic\", \" \", IF(INTRO!$E$37=\"Non-endemic\",\" \", IF(COUNTRY_INFO!C92=0,\" \",COUNTRY_INFO!C92)))","v":" "},{"$f":"IF(INTRO!$E$39<>\"Non-endemic\", 0, IF(INTRO!$E$37=\"Non-endemic\",0,IF(COUNTRY_INFO!$H92=1,COUNTRY_INFO!E92,0)))","v":0},{"$f":"IF(INTRO!$E$39<>\"Non-endemic\", 0, IF(INTRO!$E$37=\"Non-endemic\",0,IF(COUNTRY_INFO!$H92=1,COUNTRY_INFO!F92,0)))","v":0},{"$f":"IF(INTRO!$E$39<>\"Non-endemic\", 0, IF(INTRO!$E$37=\"Non-endemic\",0,IF(COUNTRY_INFO!$H92=1,COUNTRY_INFO!G92,0)))","v":0},0,{"$f":"IF(INTRO!$E$39=\"Non-endemic\",IF(INTRO!$E$37=\"Non-endemic\",\"Not required\",COUNTRY_INFO!P92),\"Treat with IVM\")","v":"Treat with IVM"},0,0,null,0,0]
[{"$f":"IF(INTRO!$E$39<>\"Non-endemic\", \" \", IF(INTRO!$E$37=\"Non-endemic\",\" \", IF(COUNTRY_INFO!A93=0,\" \",COUNTRY_INFO!A93)))","v":" "},{"$f":"IF(INTRO!$E$39<>\"Non-endemic\", \" \", IF(INTRO!$E$37=\"Non-endemic\",\" \", IF(COUNTRY_INFO!B93=0,\" \",COUNTRY_INFO!B93)))","v":" "},{"$f":"IF(INTRO!$E$39<>\"Non-endemic\", \" \", IF(INTRO!$E$37=\"Non-endemic\",\" \", IF(COUNTRY_INFO!C93=0,\" \",COUNTRY_INFO!C93)))","v":" "},{"$f":"IF(INTRO!$E$39<>\"Non-endemic\", 0, IF(INTRO!$E$37=\"Non-endemic\",0,IF(COUNTRY_INFO!$H93=1,COUNTRY_INFO!E93,0)))","v":0},{"$f":"IF(INTRO!$E$39<>\"Non-endemic\", 0, IF(INTRO!$E$37=\"Non-endemic\",0,IF(COUNTRY_INFO!$H93=1,COUNTRY_INFO!F93,0)))","v":0},{"$f":"IF(INTRO!$E$39<>\"Non-endemic\", 0, IF(INTRO!$E$37=\"Non-endemic\",0,IF(COUNTRY_INFO!$H93=1,COUNTRY_INFO!G93,0)))","v":0},0,{"$f":"IF(INTRO!$E$39=\"Non-endemic\",IF(INTRO!$E$37=\"Non-endemic\",\"Not required\",COUNTRY_INFO!P93),\"Treat with IVM\")","v":"Treat with IVM"},0,0,null,0,0]
[{"$f":"IF(INTRO!$E$39<>\"Non-endemic\", \" \", IF(INTRO!$E$37=\"Non-endemic\",\" \", IF(COUNTRY_INFO!A94=0,\" \",COUNTRY_INFO!A94)))","v":" "},{"$f":"IF(INTRO!$E$39<>\"Non-endemic\", \" \", IF(INTRO!$E$37=\"Non-endemic\",\" \", IF(COUNTRY_INFO!B94=0,\" \",COUNTRY_INFO!B94)))","v":" "},{"$f":"IF(INTRO!$E$39<>\"Non-endemic\", \" \", IF(INTRO!$E$37=\"Non-endemic\",\" \", IF(COUNTRY_INFO!C94=0,\" \",COUNTRY_INFO!C94)))","v":" "},{"$f":"IF(INTRO!$E$39<>\"Non-endemic\", 0, IF(INTRO!$E$37=\"Non-endemic\",0,IF(COUNTRY_INFO!$H94=1,COUNTRY_INFO!E94,0)))","v":0},{"$f":"IF(INTRO!$E$39<>\"Non-endemic\", 0, IF(INTRO!$E$37=\"Non-endemic\",0,IF(COUNTRY_INFO!$H94=1,COUNTRY_INFO!F94,0)))","v":0},{"$f":"IF(INTRO!$E$39<>\"Non-endemic\", 0, IF(INTRO!$E$37=\"Non-endemic\",0,IF(COUNTRY_INFO!$H94=1,COUNTRY_INFO!G94,0)))","v":0},0,{"$f":"IF(INTRO!$E$39=\"Non-endemic\",IF(INTRO!$E$37=\"Non-endemic\",\"Not required\",COUNTRY_INFO!P94),\"Treat with IVM\")","v":"Treat with IVM"},0,0,null,0,0]
[{"$f":"IF(INTRO!$E$39<>\"Non-endemic\", \" \", IF(INTRO!$E$37=\"Non-endemic\",\" \", IF(COUNTRY_INFO!A95=0,\" \",COUNTRY_INFO!A95)))","v":" "},{"$f":"IF(INTRO!$E$39<>\"Non-endemic\", \" \", IF(INTRO!$E$37=\"Non-endemic\",\" \", IF(COUNTRY_INFO!B95=0,\" \",COUNTRY_INFO!B95)))","v":" "},{"$f":"IF(INTRO!$E$39<>\"Non-endemic\", \" \", IF(INTRO!$E$37=\"Non-endemic\",\" \", IF(COUNTRY_INFO!C95=0,\" \",COUNTRY_INFO!C95)))","v":" "},{"$f":"IF(INTRO!$E$39<>\"Non-endemic\", 0, IF(INTRO!$E$37=\"Non-endemic\",0,IF(COUNTRY_INFO!$H95=1,COUNTRY_INFO!E95,0)))","v":0},{"$f":"IF(INTRO!$E$39<>\"Non-endemic\", 0, IF(INTRO!$E$37=\"Non-endemic\",0,IF(COUNTRY_INFO!$H95=1,COUNTRY_INFO!F95,0)))","v":0},{"$f":"IF(INTRO!$E$39<>\"Non-endemic\", 0, IF(INTRO!$E$37=\"Non-endemic\",0,IF(COUNTRY_INFO!$H95=1,COUNTRY_INFO!G95,0)))","v":0},0,{"$f":"IF(INTRO!$E$39=\"Non-endemic\",IF(INTRO!$E$37=\"Non-endemic\",\"Not required\",COUNTRY_INFO!P95),\"Treat with IVM\")","v":"Treat with IVM"},0,0,null,0,0]
[{"$f":"IF(INTRO!$E$39<>\"Non-endemic\", \" \", IF(INTRO!$E$37=\"Non-endemic\",\" \", IF(COUNTRY_INFO!A96=0,\" \",COUNTRY_INFO!A96)))","v":" "},{"$f":"IF(INTRO!$E$39<>\"Non-endemic\", \" \", IF(INTRO!$E$37=\"Non-endemic\",\" \", IF(COUNTRY_INFO!B96=0,\" \",COUNTRY_INFO!B96)))","v":" "},{"$f":"IF(INTRO!$E$39<>\"Non-endemic\", \" \", IF(INTRO!$E$37=\"Non-endemic\",\" \", IF(COUNTRY_INFO!C96=0,\" \",COUNTRY_INFO!C96)))","v":" "},{"$f":"IF(INTRO!$E$39<>\"Non-endemic\", 0, IF(INTRO!$E$37=\"Non-endemic\",0,IF(COUNTRY_INFO!$H96=1,COUNTRY_INFO!E96,0)))","v":0},{"$f":"IF(INTRO!$E$39<>\"Non-endemic\", 0, IF(INTRO!$E$37=\"Non-endemic\",0,IF(COUNTRY_INFO!$H96=1,COUNTRY_INFO!F96,0)))","v":0},{"$f":"IF(INTRO!$E$39<>\"Non-endemic\", 0, IF(INTRO!$E$37=\"Non-endemic\",0,IF(COUNTRY_INFO!$H96=1,COUNTRY_INFO!G96,0)))","v":0},0,{"$f":"IF(INTRO!$E$39=\"Non-endemic\",IF(INTRO!$E$37=\"Non-endemic\",\"Not required\",COUNTRY_INFO!P96),\"Treat with IVM\")","v":"Treat with IVM"},0,0,null,0,0]
[{"$f":"IF(INTRO!$E$39<>\"Non-endemic\", \" \", IF(INTRO!$E$37=\"Non-endemic\",\" \", IF(COUNTRY_INFO!A97=0,\" \",COUNTRY_INFO!A97)))","v":" "},{"$f":"IF(INTRO!$E$39<>\"Non-endemic\", \" \", IF(INTRO!$E$37=\"Non-endemic\",\" \", IF(COUNTRY_INFO!B97=0,\" \",COUNTRY_INFO!B97)))","v":" "},{"$f":"IF(INTRO!$E$39<>\"Non-endemic\", \" \", IF(INTRO!$E$37=\"Non-endemic\",\" \", IF(COUNTRY_INFO!C97=0,\" \",COUNTRY_INFO!C97)))","v":" "},{"$f":"IF(INTRO!$E$39<>\"Non-endemic\", 0, IF(INTRO!$E$37=\"Non-endemic\",0,IF(COUNTRY_INFO!$H97=1,COUNTRY_INFO!E97,0)))","v":0},{"$f":"IF(INTRO!$E$39<>\"Non-endemic\", 0, IF(INTRO!$E$37=\"Non-endemic\",0,IF(COUNTRY_INFO!$H97=1,COUNTRY_INFO!F97,0)))","v":0},{"$f":"IF(INTRO!$E$39<>\"Non-endemic\", 0, IF(INTRO!$E$37=\"Non-endemic\",0,IF(COUNTRY_INFO!$H97=1,COUNTRY_INFO!G97,0)))","v":0},0,{"$f":"IF(INTRO!$E$39=\"Non-endemic\",IF(INTRO!$E$37=\"Non-endemic\",\"Not required\",COUNTRY_INFO!P97),\"Treat with IVM\")","v":"Treat with IVM"},0,0,null,0,0]
[{"$f":"IF(INTRO!$E$39<>\"Non-endemic\", \" \", IF(INTRO!$E$37=\"Non-endemic\",\" \", IF(COUNTRY_INFO!A98=0,\" \",COUNTRY_INFO!A98)))","v":" "},{"$f":"IF(INTRO!$E$39<>\"Non-endemic\", \" \", IF(INTRO!$E$37=\"Non-endemic\",\" \", IF(COUNTRY_INFO!B98=0,\" \",COUNTRY_INFO!B98)))","v":" "},{"$f":"IF(INTRO!$E$39<>\"Non-endemic\", \" \", IF(INTRO!$E$37=\"Non-endemic\",\" \", IF(COUNTRY_INFO!C98=0,\" \",COUNTRY_INFO!C98)))","v":" "},{"$f":"IF(INTRO!$E$39<>\"Non-endemic\", 0, IF(INTRO!$E$37=\"Non-endemic\",0,IF(COUNTRY_INFO!$H98=1,COUNTRY_INFO!E98,0)))","v":0},{"$f":"IF(INTRO!$E$39<>\"Non-endemic\", 0, IF(INTRO!$E$37=\"Non-endemic\",0,IF(COUNTRY_INFO!$H98=1,COUNTRY_INFO!F98,0)))","v":0},{"$f":"IF(INTRO!$E$39<>\"Non-endemic\", 0, IF(INTRO!$E$37=\"Non-endemic\",0,IF(COUNTRY_INFO!$H98=1,COUNTRY_INFO!G98,0)))","v":0},0,{"$f":"IF(INTRO!$E$39=\"Non-endemic\",IF(INTRO!$E$37=\"Non-endemic\",\"Not required\",COUNTRY_INFO!P98),\"Treat with IVM\")","v":"Treat with IVM"},0,0,null,0,0]
[{"$f":"IF(INTRO!$E$39<>\"Non-endemic\", \" \", IF(INTRO!$E$37=\"Non-endemic\",\" \", IF(COUNTRY_INFO!A99=0,\" \",COUNTRY_INFO!A99)))","v":" "},{"$f":"IF(INTRO!$E$39<>\"Non-endemic\", \" \", IF(INTRO!$E$37=\"Non-endemic\",\" \", IF(COUNTRY_INFO!B99=0,\" \",COUNTRY_INFO!B99)))","v":" "},{"$f":"IF(INTRO!$E$39<>\"Non-endemic\", \" \", IF(INTRO!$E$37=\"Non-endemic\",\" \", IF(COUNTRY_INFO!C99=0,\" \",COUNTRY_INFO!C99)))","v":" "},{"$f":"IF(INTRO!$E$39<>\"Non-endemic\", 0, IF(INTRO!$E$37=\"Non-endemic\",0,IF(COUNTRY_INFO!$H99=1,COUNTRY_INFO!E99,0)))","v":0},{"$f":"IF(INTRO!$E$39<>\"Non-endemic\", 0, IF(INTRO!$E$37=\"Non-endemic\",0,IF(COUNTRY_INFO!$H99=1,COUNTRY_INFO!F99,0)))","v":0},{"$f":"IF(INTRO!$E$39<>\"Non-endemic\", 0, IF(INTRO!$E$37=\"Non-endemic\",0,IF(COUNTRY_INFO!$H99=1,COUNTRY_INFO!G99,0)))","v":0},0,{"$f":"IF(INTRO!$E$39=\"Non-endemic\",IF(INTRO!$E$37=\"Non-endemic\",\"Not required\",COUNTRY_INFO!P99),\"Treat with IVM\")","v":"Treat with IVM"},0,0,null,0,0]
[{"$f":"IF(INTRO!$E$39<>\"Non-endemic\", \" \", IF(INTRO!$E$37=\"Non-endemic\",\" \", IF(COUNTRY_INFO!A100=0,\" \",COUNTRY_INFO!A100)))","v":" "},{"$f":"IF(INTRO!$E$39<>\"Non-endemic\", \" \", IF(INTRO!$E$37=\"Non-endemic\",\" \", IF(COUNTRY_INFO!B100=0,\" \",COUNTRY_INFO!B100)))","v":" "},{"$f":"IF(INTRO!$E$39<>\"Non-endemic\", \" \", IF(INTRO!$E$37=\"Non-endemic\",\" \", IF(COUNTRY_INFO!C100=0,\" \",COUNTRY_INFO!C100)))","v":" "},{"$f":"IF(INTRO!$E$39<>\"Non-endemic\", 0, IF(INTRO!$E$37=\"Non-endemic\",0,IF(COUNTRY_INFO!$H100=1,COUNTRY_INFO!E100,0)))","v":0},{"$f":"IF(INTRO!$E$39<>\"Non-endemic\", 0, IF(INTRO!$E$37=\"Non-endemic\",0,IF(COUNTRY_INFO!$H100=1,COUNTRY_INFO!F100,0)))","v":0},{"$f":"IF(INTRO!$E$39<>\"Non-endemic\", 0, IF(INTRO!$E$37=\"Non-endemic\",0,IF(COUNTRY_INFO!$H100=1,COUNTRY_INFO!G100,0)))","v":0},0,{"$f":"IF(INTRO!$E$39=\"Non-endemic\",IF(INTRO!$E$37=\"Non-endemic\",\"Not required\",COUNTRY_INFO!P100),\"Treat with IVM\")","v":"Treat with IVM"},0,0,null,0,0]
[{"$f":"IF(INTRO!$E$39<>\"Non-endemic\", \" \", IF(INTRO!$E$37=\"Non-endemic\",\" \", IF(COUNTRY_INFO!A101=0,\" \",COUNTRY_INFO!A101)))","v":" "},{"$f":"IF(INTRO!$E$39<>\"Non-endemic\", \" \", IF(INTRO!$E$37=\"Non-endemic\",\" \", IF(COUNTRY_INFO!B101=0,\" \",COUNTRY_INFO!B101)))","v":" "},{"$f":"IF(INTRO!$E$39<>\"Non-endemic\", \" \", IF(INTRO!$E$37=\"Non-endemic\",\" \", IF(COUNTRY_INFO!C101=0,\" \",COUNTRY_INFO!C101)))","v":" "},{"$f":"IF(INTRO!$E$39<>\"Non-endemic\", 0, IF(INTRO!$E$37=\"Non-endemic\",0,IF(COUNTRY_INFO!$H101=1,COUNTRY_INFO!E101,0)))","v":0},{"$f":"IF(INTRO!$E$39<>\"Non-endemic\", 0, IF(INTRO!$E$37=\"Non-endemic\",0,IF(COUNTRY_INFO!$H101=1,COUNTRY_INFO!F101,0)))","v":0},{"$f":"IF(INTRO!$E$39<>\"Non-endemic\", 0, IF(INTRO!$E$37=\"Non-endemic\",0,IF(COUNTRY_INFO!$H101=1,COUNTRY_INFO!G101,0)))","v":0},0,{"$f":"IF(INTRO!$E$39=\"Non-endemic\",IF(INTRO!$E$37=\"Non-endemic\",\"Not required\",COUNTRY_INFO!P101),\"Treat with IVM\")","v":"Treat with IVM"},0,0,null,0,0]
[{"$f":"IF(INTRO!$E$39<>\"Non-endemic\", \" \", IF(INTRO!$E$37=\"Non-endemic\",\" \", IF(COUNTRY_INFO!A102=0,\" \",COUNTRY_INFO!A102)))","v":" "},{"$f":"IF(INTRO!$E$39<>\"Non-endemic\", \" \", IF(INTRO!$E$37=\"Non-endemic\",\" \", IF(COUNTRY_INFO!B102=0,\" \",COUNTRY_INFO!B102)))","v":" "},{"$f":"IF(INTRO!$E$39<>\"Non-endemic\", \" \", IF(INTRO!$E$37=\"Non-endemic\",\" \", IF(COUNTRY_INFO!C102=0,\" \",COUNTRY_INFO!C102)))","v":" "},{"$f":"IF(INTRO!$E$39<>\"Non-endemic\", 0, IF(INTRO!$E$37=\"Non-endemic\",0,IF(COUNTRY_INFO!$H102=1,COUNTRY_INFO!E102,0)))","v":0},{"$f":"IF(INTRO!$E$39<>\"Non-endemic\", 0, IF(INTRO!$E$37=\"Non-endemic\",0,IF(COUNTRY_INFO!$H102=1,COUNTRY_INFO!F102,0)))","v":0},{"$f":"IF(INTRO!$E$39<>\"Non-endemic\", 0, IF(INTRO!$E$37=\"Non-endemic\",0,IF(COUNTRY_INFO!$H102=1,COUNTRY_INFO!G102,0)))","v":0},0,{"$f":"IF(INTRO!$E$39=\"Non-endemic\",IF(INTRO!$E$37=\"Non-endemic\",\"Not required\",COUNTRY_INFO!P102),\"Treat with IVM\")","v":"Treat with IVM"},0,0,null,0,0]
[{"$f":"IF(INTRO!$E$39<>\"Non-endemic\", \" \", IF(INTRO!$E$37=\"Non-endemic\",\" \", IF(COUNTRY_INFO!A103=0,\" \",COUNTRY_INFO!A103)))","v":" "},{"$f":"IF(INTRO!$E$39<>\"Non-endemic\", \" \", IF(INTRO!$E$37=\"Non-endemic\",\" \", IF(COUNTRY_INFO!B103=0,\" \",COUNTRY_INFO!B103)))","v":" "},{"$f":"IF(INTRO!$E$39<>\"Non-endemic\", \" \", IF(INTRO!$E$37=\"Non-endemic\",\" \", IF(COUNTRY_INFO!C103=0,\" \",COUNTRY_INFO!C103)))","v":" "},{"$f":"IF(INTRO!$E$39<>\"Non-endemic\", 0, IF(INTRO!$E$37=\"Non-endemic\",0,IF(COUNTRY_INFO!$H103=1,COUNTRY_INFO!E103,0)))","v":0},{"$f":"IF(INTRO!$E$39<>\"Non-endemic\", 0, IF(INTRO!$E$37=\"Non-endemic\",0,IF(COUNTRY_INFO!$H103=1,COUNTRY_INFO!F103,0)))","v":0},{"$f":"IF(INTRO!$E$39<>\"Non-endemic\", 0, IF(INTRO!$E$37=\"Non-endemic\",0,IF(COUNTRY_INFO!$H103=1,COUNTRY_INFO!G103,0)))","v":0},0,{"$f":"IF(INTRO!$E$39=\"Non-endemic\",IF(INTRO!$E$37=\"Non-endemic\",\"Not required\",COUNTRY_INFO!P103),\"Treat with IVM\")","v":"Treat with IVM"},0,0,null,0,0]
[{"$f":"IF(INTRO!$E$39<>\"Non-endemic\", \" \", IF(INTRO!$E$37=\"Non-endemic\",\" \", IF(COUNTRY_INFO!A104=0,\" \",COUNTRY_INFO!A104)))","v":" "},{"$f":"IF(INTRO!$E$39<>\"Non-endemic\", \" \", IF(INTRO!$E$37=\"Non-endemic\",\" \", IF(COUNTRY_INFO!B104=0,\" \",COUNTRY_INFO!B104)))","v":" "},{"$f":"IF(INTRO!$E$39<>\"Non-endemic\", \" \", IF(INTRO!$E$37=\"Non-endemic\",\" \", IF(COUNTRY_INFO!C104=0,\" \",COUNTRY_INFO!C104)))","v":" "},{"$f":"IF(INTRO!$E$39<>\"Non-endemic\", 0, IF(INTRO!$E$37=\"Non-endemic\",0,IF(COUNTRY_INFO!$H104=1,COUNTRY_INFO!E104,0)))","v":0},{"$f":"IF(INTRO!$E$39<>\"Non-endemic\", 0, IF(INTRO!$E$37=\"Non-endemic\",0,IF(COUNTRY_INFO!$H104=1,COUNTRY_INFO!F104,0)))","v":0},{"$f":"IF(INTRO!$E$39<>\"Non-endemic\", 0, IF(INTRO!$E$37=\"Non-endemic\",0,IF(COUNTRY_INFO!$H104=1,COUNTRY_INFO!G104,0)))","v":0},0,{"$f":"IF(INTRO!$E$39=\"Non-endemic\",IF(INTRO!$E$37=\"Non-endemic\",\"Not required\",COUNTRY_INFO!P104),\"Treat with IVM\")","v":"Treat with IVM"},0,0,null,0,0]
[{"$f":"IF(INTRO!$E$39<>\"Non-endemic\", \" \", IF(INTRO!$E$37=\"Non-endemic\",\" \", IF(COUNTRY_INFO!A105=0,\" \",COUNTRY_INFO!A105)))","v":" "},{"$f":"IF(INTRO!$E$39<>\"Non-endemic\", \" \", IF(INTRO!$E$37=\"Non-endemic\",\" \", IF(COUNTRY_INFO!B105=0,\" \",COUNTRY_INFO!B105)))","v":" "},{"$f":"IF(INTRO!$E$39<>\"Non-endemic\", \" \", IF(INTRO!$E$37=\"Non-endemic\",\" \", IF(COUNTRY_INFO!C105=0,\" \",COUNTRY_INFO!C105)))","v":" "},{"$f":"IF(INTRO!$E$39<>\"Non-endemic\", 0, IF(INTRO!$E$37=\"Non-endemic\",0,IF(COUNTRY_INFO!$H105=1,COUNTRY_INFO!E105,0)))","v":0},{"$f":"IF(INTRO!$E$39<>\"Non-endemic\", 0, IF(INTRO!$E$37=\"Non-endemic\",0,IF(COUNTRY_INFO!$H105=1,COUNTRY_INFO!F105,0)))","v":0},{"$f":"IF(INTRO!$E$39<>\"Non-endemic\", 0, IF(INTRO!$E$37=\"Non-endemic\",0,IF(COUNTRY_INFO!$H105=1,COUNTRY_INFO!G105,0)))","v":0},{"$f":"SUM(D105:F105)","v":0},{"$f":"IF(INTRO!$E$39=\"Non-endemic\",IF(INTRO!$E$37=\"Non-endemic\",\"Not required\",COUNTRY_INFO!P105),\"Treat with IVM\")","v":"Treat with IVM"},{"$f":"IF(H105=1,G105,0)","v":0},{"$f":"IF(I105>0,I105*2.5,0)","v":0},null,{"$f":"IF($J105>$K105,$J105-$K105,0)","v":0},{"$f":"ROUNDUP($J105/1000,0)","v":0}]
[{"$f":"IF(INTRO!$E$39<>\"Non-endemic\", \" \", IF(INTRO!$E$37=\"Non-endemic\",\" \", IF(COUNTRY_INFO!A106=0,\" \",COUNTRY_INFO!A106)))","v":" "},{"$f":"IF(INTRO!$E$39<>\"Non-endemic\", \" \", IF(INTRO!$E$37=\"Non-endemic\",\" \", IF(COUNTRY_INFO!B106=0,\" \",COUNTRY_INFO!B106)))","v":" "},{"$f":"IF(INTRO!$E$39<>\"Non-endemic\", \" \", IF(INTRO!$E$37=\"Non-endemic\",\" \", IF(COUNTRY_INFO!C106=0,\" \",COUNTRY_INFO!C106)))","v":" "},{"$f":"IF(INTRO!$E$39<>\"Non-endemic\", 0, IF(INTRO!$E$37=\"Non-endemic\",0,IF(COUNTRY_INFO!$H106=1,COUNTRY_INFO!E106,0)))","v":0},{"$f":"IF(INTRO!$E$39<>\"Non-endemic\", 0, IF(INTRO!$E$37=\"Non-endemic\",0,IF(COUNTRY_INFO!$H106=1,COUNTRY_INFO!F106,0)))","v":0},{"$f":"IF(INTRO!$E$39<>\"Non-endemic\", 0, IF(INTRO!$E$37=\"Non-endemic\",0,IF(COUNTRY_INFO!$H106=1,COUNTRY_INFO!G106,0)))","v":0},0,{"$f":"IF(INTRO!$E$39=\"Non-endemic\",IF(INTRO!$E$37=\"Non-endemic\",\"Not required\",COUNTRY_INFO!P106),\"Treat with IVM\")","v":"Treat with IVM"},0,0,null,0,0]
[{"$f":"IF(INTRO!$E$39<>\"Non-endemic\", \" \", IF(INTRO!$E$37=\"Non-endemic\",\" \", IF(COUNTRY_INFO!A107=0,\" \",COUNTRY_INFO!A107)))","v":" "},{"$f":"IF(INTRO!$E$39<>\"Non-endemic\", \" \", IF(INTRO!$E$37=\"Non-endemic\",\" \", IF(COUNTRY_INFO!B107=0,\" \",COUNTRY_INFO!B107)))","v":" "},{"$f":"IF(INTRO!$E$39<>\"Non-endemic\", \" \", IF(INTRO!$E$37=\"Non-endemic\",\" \", IF(COUNTRY_INFO!C107=0,\" \",COUNTRY_INFO!C107)))","v":" "},{"$f":"IF(INTRO!$E$39<>\"Non-endemic\", 0, IF(INTRO!$E$37=\"Non-endemic\",0,IF(COUNTRY_INFO!$H107=1,COUNTRY_INFO!E107,0)))","v":0},{"$f":"IF(INTRO!$E$39<>\"Non-endemic\", 0, IF(INTRO!$E$37=\"Non-endemic\",0,IF(COUNTRY_INFO!$H107=1,COUNTRY_INFO!F107,0)))","v":0},{"$f":"IF(INTRO!$E$39<>\"Non-endemic\", 0, IF(INTRO!$E$37=\"Non-endemic\",0,IF(COUNTRY_INFO!$H107=1,COUNTRY_INFO!G107,0)))","v":0},0,{"$f":"IF(INTRO!$E$39=\"Non-endemic\",IF(INTRO!$E$37=\"Non-endemic\",\"Not required\",COUNTRY_INFO!P107),\"Treat with IVM\")","v":"Treat with IVM"},0,0,null,0,0]
[{"$f":"IF(INTRO!$E$39<>\"Non-endemic\", \" \", IF(INTRO!$E$37=\"Non-endemic\",\" \", IF(COUNTRY_INFO!A108=0,\" \",COUNTRY_INFO!A108)))","v":" "},{"$f":"IF(INTRO!$E$39<>\"Non-endemic\", \" \", IF(INTRO!$E$37=\"Non-endemic\",\" \", IF(COUNTRY_INFO!B108=0,\" \",COUNTRY_INFO!B108)))","v":" "},{"$f":"IF(INTRO!$E$39<>\"Non-endemic\", \" \", IF(INTRO!$E$37=\"Non-endemic\",\" \", IF(COUNTRY_INFO!C108=0,\" \",COUNTRY_INFO!C108)))","v":" "},{"$f":"IF(INTRO!$E$39<>\"Non-endemic\", 0, IF(INTRO!$E$37=\"Non-endemic\",0,IF(COUNTRY_INFO!$H108=1,COUNTRY_INFO!E108,0)))","v":0},{"$f":"IF(INTRO!$E$39<>\"Non-endemic\", 0, IF(INTRO!$E$37=\"Non-endemic\",0,IF(COUNTRY_INFO!$H108=1,COUNTRY_INFO!F108,0)))","v":0},{"$f":"IF(INTRO!$E$39<>\"Non-endemic\", 0, IF(INTRO!$E$37=\"Non-endemic\",0,IF(COUNTRY_INFO!$H108=1,COUNTRY_INFO!G108,0)))","v":0},0,{"$f":"IF(INTRO!$E$39=\"Non-endemic\",IF(INTRO!$E$37=\"Non-endemic\",\"Not required\",COUNTRY_INFO!P108),\"Treat with IVM\")","v":"Treat with IVM"},0,0,null,0,0]
[{"$f":"IF(INTRO!$E$39<>\"Non-endemic\", \" \", IF(INTRO!$E$37=\"Non-endemic\",\" \", IF(COUNTRY_INFO!A109=0,\" \",COUNTRY_INFO!A109)))","v":" "},{"$f":"IF(INTRO!$E$39<>\"Non-endemic\", \" \", IF(INTRO!$E$37=\"Non-endemic\",\" \", IF(COUNTRY_INFO!B109=0,\" \",COUNTRY_INFO!B109)))","v":" "},{"$f":"IF(INTRO!$E$39<>\"Non-endemic\", \" \", IF(INTRO!$E$37=\"Non-endemic\",\" \", IF(COUNTRY_INFO!C109=0,\" \",COUNTRY_INFO!C109)))","v":" "},{"$f":"IF(INTRO!$E$39<>\"Non-endemic\", 0, IF(INTRO!$E$37=\"Non-endemic\",0,IF(COUNTRY_INFO!$H109=1,COUNTRY_INFO!E109,0)))","v":0},{"$f":"IF(INTRO!$E$39<>\"Non-endemic\", 0, IF(INTRO!$E$37=\"Non-endemic\",0,IF(COUNTRY_INFO!$H109=1,COUNTRY_INFO!F109,0)))","v":0},{"$f":"IF(INTRO!$E$39<>\"Non-endemic\", 0, IF(INTRO!$E$37=\"Non-endemic\",0,IF(COUNTRY_INFO!$H109=1,COUNTRY_INFO!G109,0)))","v":0},0,{"$f":"IF(INTRO!$E$39=\"Non-endemic\",IF(INTRO!$E$37=\"Non-endemic\",\"Not required\",COUNTRY_INFO!P109),\"Treat with IVM\")","v":"Treat with IVM"},0,0,null,0,0]
[{"$f":"IF(INTRO!$E$39<>\"Non-endemic\", \" \", IF(INTRO!$E$37=\"Non-endemic\",\" \", IF(COUNTRY_INFO!A110=0,\" \",COUNTRY_INFO!A110)))","v":" "},{"$f":"IF(INTRO!$E$39<>\"Non-endemic\", \" \", IF(INTRO!$E$37=\"Non-endemic\",\" \", IF(COUNTRY_INFO!B110=0,\" \",COUNTRY_INFO!B110)))","v":" "},{"$f":"IF(INTRO!$E$39<>\"Non-endemic\", \" \", IF(INTRO!$E$37=\"Non-endemic\",\" \", IF(COUNTRY_INFO!C110=0,\" \",COUNTRY_INFO!C110)))","v":" "},{"$f":"IF(INTRO!$E$39<>\"Non-endemic\", 0, IF(INTRO!$E$37=\"Non-endemic\",0,IF(COUNTRY_INFO!$H110=1,COUNTRY_INFO!E110,0)))","v":0},{"$f":"IF(INTRO!$E$39<>\"Non-endemic\", 0, IF(INTRO!$E$37=\"Non-endemic\",0,IF(COUNTRY_INFO!$H110=1,COUNTRY_INFO!F110,0)))","v":0},{"$f":"IF(INTRO!$E$39<>\"Non-endemic\", 0, IF(INTRO!$E$37=\"Non-endemic\",0,IF(COUNTRY_INFO!$H110=1,COUNTRY_INFO!G110,0)))","v":0},0,{"$f":"IF(INTRO!$E$39=\"Non-endemic\",IF(INTRO!$E$37=\"Non-endemic\",\"Not required\",COUNTRY_INFO!P110),\"Treat with IVM\")","v":"Treat with IVM"},0,0,null,0,0]
[{"$f":"IF(INTRO!$E$39<>\"Non-endemic\", \" \", IF(INTRO!$E$37=\"Non-endemic\",\" \", IF(COUNTRY_INFO!A111=0,\" \",COUNTRY_INFO!A111)))","v":" "},{"$f":"IF(INTRO!$E$39<>\"Non-endemic\", \" \", IF(INTRO!$E$37=\"Non-endemic\",\" \", IF(COUNTRY_INFO!B111=0,\" \",COUNTRY_INFO!B111)))","v":" "},{"$f":"IF(INTRO!$E$39<>\"Non-endemic\", \" \", IF(INTRO!$E$37=\"Non-endemic\",\" \", IF(COUNTRY_INFO!C111=0,\" \",COUNTRY_INFO!C111)))","v":" "},{"$f":"IF(INTRO!$E$39<>\"Non-endemic\", 0, IF(INTRO!$E$37=\"Non-endemic\",0,IF(COUNTRY_INFO!$H111=1,COUNTRY_INFO!E111,0)))","v":0},{"$f":"IF(INTRO!$E$39<>\"Non-endemic\", 0, IF(INTRO!$E$37=\"Non-endemic\",0,IF(COUNTRY_INFO!$H111=1,COUNTRY_INFO!F111,0)))","v":0},{"$f":"IF(INTRO!$E$39<>\"Non-endemic\", 0, IF(INTRO!$E$37=\"Non-endemic\",0,IF(COUNTRY_INFO!$H111=1,COUNTRY_INFO!G111,0)))","v":0},0,{"$f":"IF(INTRO!$E$39=\"Non-endemic\",IF(INTRO!$E$37=\"Non-endemic\",\"Not required\",COUNTRY_INFO!P111),\"Treat with IVM\")","v":"Treat with IVM"},0,0,null,0,0]
[{"$f":"IF(INTRO!$E$39<>\"Non-endemic\", \" \", IF(INTRO!$E$37=\"Non-endemic\",\" \", IF(COUNTRY_INFO!A112=0,\" \",COUNTRY_INFO!A112)))","v":" "},{"$f":"IF(INTRO!$E$39<>\"Non-endemic\", \" \", IF(INTRO!$E$37=\"Non-endemic\",\" \", IF(COUNTRY_INFO!B112=0,\" \",COUNTRY_INFO!B112)))","v":" "},{"$f":"IF(INTRO!$E$39<>\"Non-endemic\", \" \", IF(INTRO!$E$37=\"Non-endemic\",\" \", IF(COUNTRY_INFO!C112=0,\" \",COUNTRY_INFO!C112)))","v":" "},{"$f":"IF(INTRO!$E$39<>\"Non-endemic\", 0, IF(INTRO!$E$37=\"Non-endemic\",0,IF(COUNTRY_INFO!$H112=1,COUNTRY_INFO!E112,0)))","v":0},{"$f":"IF(INTRO!$E$39<>\"Non-endemic\", 0, IF(INTRO!$E$37=\"Non-endemic\",0,IF(COUNTRY_INFO!$H112=1,COUNTRY_INFO!F112,0)))","v":0},{"$f":"IF(INTRO!$E$39<>\"Non-endemic\", 0, IF(INTRO!$E$37=\"Non-endemic\",0,IF(COUNTRY_INFO!$H112=1,COUNTRY_INFO!G112,0)))","v":0},0,{"$f":"IF(INTRO!$E$39=\"Non-endemic\",IF(INTRO!$E$37=\"Non-endemic\",\"Not required\",COUNTRY_INFO!P112),\"Treat with IVM\")","v":"Treat with IVM"},0,0,null,0,0]
[{"$f":"IF(INTRO!$E$39<>\"Non-endemic\", \" \", IF(INTRO!$E$37=\"Non-endemic\",\" \", IF(COUNTRY_INFO!A113=0,\" \",COUNTRY_INFO!A113)))","v":" "},{"$f":"IF(INTRO!$E$39<>\"Non-endemic\", \" \", IF(INTRO!$E$37=\"Non-endemic\",\" \", IF(COUNTRY_INFO!B113=0,\" \",COUNTRY_INFO!B113)))","v":" "},{"$f":"IF(INTRO!$E$39<>\"Non-endemic\", \" \", IF(INTRO!$E$37=\"Non-endemic\",\" \", IF(COUNTRY_INFO!C113=0,\" \",COUNTRY_INFO!C113)))","v":" "},{"$f":"IF(INTRO!$E$39<>\"Non-endemic\", 0, IF(INTRO!$E$37=\"Non-endemic\",0,IF(COUNTRY_INFO!$H113=1,COUNTRY_INFO!E113,0)))","v":0},{"$f":"IF(INTRO!$E$39<>\"Non-endemic\", 0, IF(INTRO!$E$37=\"Non-endemic\",0,IF(COUNTRY_INFO!$H113=1,COUNTRY_INFO!F113,0)))","v":0},{"$f":"IF(INTRO!$E$39<>\"Non-endemic\", 0, IF(INTRO!$E$37=\"Non-endemic\",0,IF(COUNTRY_INFO!$H113=1,COUNTRY_INFO!G113,0)))","v":0},0,{"$f":"IF(INTRO!$E$39=\"Non-endemic\",IF(INTRO!$E$37=\"Non-endemic\",\"Not required\",COUNTRY_INFO!P113),\"Treat with IVM\")","v":"Treat with IVM"},0,0,null,0,0]
[{"$f":"IF(INTRO!$E$39<>\"Non-endemic\", \" \", IF(INTRO!$E$37=\"Non-endemic\",\" \", IF(COUNTRY_INFO!A114=0,\" \",COUNTRY_INFO!A114)))","v":" "},{"$f":"IF(INTRO!$E$39<>\"Non-endemic\", \" \", IF(INTRO!$E$37=\"Non-endemic\",\" \", IF(COUNTRY_INFO!B114=0,\" \",COUNTRY_INFO!B114)))","v":" "},{"$f":"IF(INTRO!$E$39<>\"Non-endemic\", \" \", IF(INTRO!$E$37=\"Non-endemic\",\" \", IF(COUNTRY_INFO!C114=0,\" \",COUNTRY_INFO!C114)))","v":" "},{"$f":"IF(INTRO!$E$39<>\"Non-endemic\", 0, IF(INTRO!$E$37=\"Non-endemic\",0,IF(COUNTRY_INFO!$H114=1,COUNTRY_INFO!E114,0)))","v":0},{"$f":"IF(INTRO!$E$39<>\"Non-endemic\", 0, IF(INTRO!$E$37=\"Non-endemic\",0,IF(COUNTRY_INFO!$H114=1,COUNTRY_INFO!F114,0)))","v":0},{"$f":"IF(INTRO!$E$39<>\"Non-endemic\", 0, IF(INTRO!$E$37=\"Non-endemic\",0,IF(COUNTRY_INFO!$H114=1,COUNTRY_INFO!G114,0)))","v":0},0,{"$f":"IF(INTRO!$E$39=\"Non-endemic\",IF(INTRO!$E$37=\"Non-endemic\",\"Not required\",COUNTRY_INFO!P114),\"Treat with IVM\")","v":"Treat with IVM"},0,0,null,0,0]
[{"$f":"IF(INTRO!$E$39<>\"Non-endemic\", \" \", IF(INTRO!$E$37=\"Non-endemic\",\" \", IF(COUNTRY_INFO!A115=0,\" \",COUNTRY_INFO!A115)))","v":" "},{"$f":"IF(INTRO!$E$39<>\"Non-endemic\", \" \", IF(INTRO!$E$37=\"Non-endemic\",\" \", IF(COUNTRY_INFO!B115=0,\" \",COUNTRY_INFO!B115)))","v":" "},{"$f":"IF(INTRO!$E$39<>\"Non-endemic\", \" \", IF(INTRO!$E$37=\"Non-endemic\",\" \", IF(COUNTRY_INFO!C115=0,\" \",COUNTRY_INFO!C115)))","v":" "},{"$f":"IF(INTRO!$E$39<>\"Non-endemic\", 0, IF(INTRO!$E$37=\"Non-endemic\",0,IF(COUNTRY_INFO!$H115=1,COUNTRY_INFO!E115,0)))","v":0},{"$f":"IF(INTRO!$E$39<>\"Non-endemic\", 0, IF(INTRO!$E$37=\"Non-endemic\",0,IF(COUNTRY_INFO!$H115=1,COUNTRY_INFO!F115,0)))","v":0},{"$f":"IF(INTRO!$E$39<>\"Non-endemic\", 0, IF(INTRO!$E$37=\"Non-endemic\",0,IF(COUNTRY_INFO!$H115=1,COUNTRY_INFO!G115,0)))","v":0},0,{"$f":"IF(INTRO!$E$39=\"Non-endemic\",IF(INTRO!$E$37=\"Non-endemic\",\"Not required\",COUNTRY_INFO!P115),\"Treat with IVM\")","v":"Treat with IVM"},0,0,null,0,0]
[{"$f":"IF(INTRO!$E$39<>\"Non-endemic\", \" \", IF(INTRO!$E$37=\"Non-endemic\",\" \", IF(COUNTRY_INFO!A116=0,\" \",COUNTRY_INFO!A116)))","v":" "},{"$f":"IF(INTRO!$E$39<>\"Non-endemic\", \" \", IF(INTRO!$E$37=\"Non-endemic\",\" \", IF(COUNTRY_INFO!B116=0,\" \",COUNTRY_INFO!B116)))","v":" "},{"$f":"IF(INTRO!$E$39<>\"Non-endemic\", \" \", IF(INTRO!$E$37=\"Non-endemic\",\" \", IF(COUNTRY_INFO!C116=0,\" \",COUNTRY_INFO!C116)))","v":" "},{"$f":"IF(INTRO!$E$39<>\"Non-endemic\", 0, IF(INTRO!$E$37=\"Non-endemic\",0,IF(COUNTRY_INFO!$H116=1,COUNTRY_INFO!E116,0)))","v":0},{"$f":"IF(INTRO!$E$39<>\"Non-endemic\", 0, IF(INTRO!$E$37=\"Non-endemic\",0,IF(COUNTRY_INFO!$H116=1,COUNTRY_INFO!F116,0)))","v":0},{"$f":"IF(INTRO!$E$39<>\"Non-endemic\", 0, IF(INTRO!$E$37=\"Non-endemic\",0,IF(COUNTRY_INFO!$H116=1,COUNTRY_INFO!G116,0)))","v":0},0,{"$f":"IF(INTRO!$E$39=\"Non-endemic\",IF(INTRO!$E$37=\"Non-endemic\",\"Not required\",COUNTRY_INFO!P116),\"Treat with IVM\")","v":"Treat with IVM"},0,0,null,0,0]
[{"$f":"IF(INTRO!$E$39<>\"Non-endemic\", \" \", IF(INTRO!$E$37=\"Non-endemic\",\" \", IF(COUNTRY_INFO!A117=0,\" \",COUNTRY_INFO!A117)))","v":" "},{"$f":"IF(INTRO!$E$39<>\"Non-endemic\", \" \", IF(INTRO!$E$37=\"Non-endemic\",\" \", IF(COUNTRY_INFO!B117=0,\" \",COUNTRY_INFO!B117)))","v":" "},{"$f":"IF(INTRO!$E$39<>\"Non-endemic\", \" \", IF(INTRO!$E$37=\"Non-endemic\",\" \", IF(COUNTRY_INFO!C117=0,\" \",COUNTRY_INFO!C117)))","v":" "},{"$f":"IF(INTRO!$E$39<>\"Non-endemic\", 0, IF(INTRO!$E$37=\"Non-endemic\",0,IF(COUNTRY_INFO!$H117=1,COUNTRY_INFO!E117,0)))","v":0},{"$f":"IF(INTRO!$E$39<>\"Non-endemic\", 0, IF(INTRO!$E$37=\"Non-endemic\",0,IF(COUNTRY_INFO!$H117=1,COUNTRY_INFO!F117,0)))","v":0},{"$f":"IF(INTRO!$E$39<>\"Non-endemic\", 0, IF(INTRO!$E$37=\"Non-endemic\",0,IF(COUNTRY_INFO!$H117=1,COUNTRY_INFO!G117,0)))","v":0},0,{"$f":"IF(INTRO!$E$39=\"Non-endemic\",IF(INTRO!$E$37=\"Non-endemic\",\"Not required\",COUNTRY_INFO!P117),\"Treat with IVM\")","v":"Treat with IVM"},0,0,null,0,0]
[{"$f":"IF(INTRO!$E$39<>\"Non-endemic\", \" \", IF(INTRO!$E$37=\"Non-endemic\",\" \", IF(COUNTRY_INFO!A118=0,\" \",COUNTRY_INFO!A118)))","v":" "},{"$f":"IF(INTRO!$E$39<>\"Non-endemic\", \" \", IF(INTRO!$E$37=\"Non-endemic\",\" \", IF(COUNTRY_INFO!B118=0,\" \",COUNTRY_INFO!B118)))","v":" "},{"$f":"IF(INTRO!$E$39<>\"Non-endemic\", \" \", IF(INTRO!$E$37=\"Non-endemic\",\" \", IF(COUNTRY_INFO!C118=0,\" \",COUNTRY_INFO!C118)))","v":" "},{"$f":"IF(INTRO!$E$39<>\"Non-endemic\", 0, IF(INTRO!$E$37=\"Non-endemic\",0,IF(COUNTRY_INFO!$H118=1,COUNTRY_INFO!E118,0)))","v":0},{"$f":"IF(INTRO!$E$39<>\"Non-endemic\", 0, IF(INTRO!$E$37=\"Non-endemic\",0,IF(COUNTRY_INFO!$H118=1,COUNTRY_INFO!F118,0)))","v":0},{"$f":"IF(INTRO!$E$39<>\"Non-endemic\", 0, IF(INTRO!$E$37=\"Non-endemic\",0,IF(COUNTRY_INFO!$H118=1,COUNTRY_INFO!G118,0)))","v":0},0,{"$f":"IF(INTRO!$E$39=\"Non-endemic\",IF(INTRO!$E$37=\"Non-endemic\",\"Not required\",COUNTRY_INFO!P118),\"Treat with IVM\")","v":"Treat with IVM"},0,0,null,0,0]
[{"$f":"IF(INTRO!$E$39<>\"Non-endemic\", \" \", IF(INTRO!$E$37=\"Non-endemic\",\" \", IF(COUNTRY_INFO!A119=0,\" \",COUNTRY_INFO!A119)))","v":" "},{"$f":"IF(INTRO!$E$39<>\"Non-endemic\", \" \", IF(INTRO!$E$37=\"Non-endemic\",\" \", IF(COUNTRY_INFO!B119=0,\" \",COUNTRY_INFO!B119)))","v":" "},{"$f":"IF(INTRO!$E$39<>\"Non-endemic\", \" \", IF(INTRO!$E$37=\"Non-endemic\",\" \", IF(COUNTRY_INFO!C119=0,\" \",COUNTRY_INFO!C119)))","v":" "},{"$f":"IF(INTRO!$E$39<>\"Non-endemic\", 0, IF(INTRO!$E$37=\"Non-endemic\",0,IF(COUNTRY_INFO!$H119=1,COUNTRY_INFO!E119,0)))","v":0},{"$f":"IF(INTRO!$E$39<>\"Non-endemic\", 0, IF(INTRO!$E$37=\"Non-endemic\",0,IF(COUNTRY_INFO!$H119=1,COUNTRY_INFO!F119,0)))","v":0},{"$f":"IF(INTRO!$E$39<>\"Non-endemic\", 0, IF(INTRO!$E$37=\"Non-endemic\",0,IF(COUNTRY_INFO!$H119=1,COUNTRY_INFO!G119,0)))","v":0},0,{"$f":"IF(INTRO!$E$39=\"Non-endemic\",IF(INTRO!$E$37=\"Non-endemic\",\"Not required\",COUNTRY_INFO!P119),\"Treat with IVM\")","v":"Treat with IVM"},0,0,null,0,0]
[{"$f":"IF(INTRO!$E$39<>\"Non-endemic\", \" \", IF(INTRO!$E$37=\"Non-endemic\",\" \", IF(COUNTRY_INFO!A120=0,\" \",COUNTRY_INFO!A120)))","v":" "},{"$f":"IF(INTRO!$E$39<>\"Non-endemic\", \" \", IF(INTRO!$E$37=\"Non-endemic\",\" \", IF(COUNTRY_INFO!B120=0,\" \",COUNTRY_INFO!B120)))","v":" "},{"$f":"IF(INTRO!$E$39<>\"Non-endemic\", \" \", IF(INTRO!$E$37=\"Non-endemic\",\" \", IF(COUNTRY_INFO!C120=0,\" \",COUNTRY_INFO!C120)))","v":" "},{"$f":"IF(INTRO!$E$39<>\"Non-endemic\", 0, IF(INTRO!$E$37=\"Non-endemic\",0,IF(COUNTRY_INFO!$H120=1,COUNTRY_INFO!E120,0)))","v":0},{"$f":"IF(INTRO!$E$39<>\"Non-endemic\", 0, IF(INTRO!$E$37=\"Non-endemic\",0,IF(COUNTRY_INFO!$H120=1,COUNTRY_INFO!F120,0)))","v":0},{"$f":"IF(INTRO!$E$39<>\"Non-endemic\", 0, IF(INTRO!$E$37=\"Non-endemic\",0,IF(COUNTRY_INFO!$H120=1,COUNTRY_INFO!G120,0)))","v":0},0,{"$f":"IF(INTRO!$E$39=\"Non-endemic\",IF(INTRO!$E$37=\"Non-endemic\",\"Not required\",COUNTRY_INFO!P120),\"Treat with IVM\")","v":"Treat with IVM"},0,0,null,0,0]
[{"$f":"IF(INTRO!$E$39<>\"Non-endemic\", \" \", IF(INTRO!$E$37=\"Non-endemic\",\" \", IF(COUNTRY_INFO!A121=0,\" \",COUNTRY_INFO!A121)))","v":" "},{"$f":"IF(INTRO!$E$39<>\"Non-endemic\", \" \", IF(INTRO!$E$37=\"Non-endemic\",\" \", IF(COUNTRY_INFO!B121=0,\" \",COUNTRY_INFO!B121)))","v":" "},{"$f":"IF(INTRO!$E$39<>\"Non-endemic\", \" \", IF(INTRO!$E$37=\"Non-endemic\",\" \", IF(COUNTRY_INFO!C121=0,\" \",COUNTRY_INFO!C121)))","v":" "},{"$f":"IF(INTRO!$E$39<>\"Non-endemic\", 0, IF(INTRO!$E$37=\"Non-endemic\",0,IF(COUNTRY_INFO!$H121=1,COUNTRY_INFO!E121,0)))","v":0},{"$f":"IF(INTRO!$E$39<>\"Non-endemic\", 0, IF(INTRO!$E$37=\"Non-endemic\",0,IF(COUNTRY_INFO!$H121=1,COUNTRY_INFO!F121,0)))","v":0},{"$f":"IF(INTRO!$E$39<>\"Non-endemic\", 0, IF(INTRO!$E$37=\"Non-endemic\",0,IF(COUNTRY_INFO!$H121=1,COUNTRY_INFO!G121,0)))","v":0},0,{"$f":"IF(INTRO!$E$39=\"Non-endemic\",IF(INTRO!$E$37=\"Non-endemic\",\"Not required\",COUNTRY_INFO!P121),\"Treat with IVM\")","v":"Treat with IVM"},0,0,null,0,0]
[{"$f":"IF(INTRO!$E$39<>\"Non-endemic\", \" \", IF(INTRO!$E$37=\"Non-endemic\",\" \", IF(COUNTRY_INFO!A122=0,\" \",COUNTRY_INFO!A122)))","v":" "},{"$f":"IF(INTRO!$E$39<>\"Non-endemic\", \" \", IF(INTRO!$E$37=\"Non-endemic\",\" \", IF(COUNTRY_INFO!B122=0,\" \",COUNTRY_INFO!B122)))","v":" "},{"$f":"IF(INTRO!$E$39<>\"Non-endemic\", \" \", IF(INTRO!$E$37=\"Non-endemic\",\" \", IF(COUNTRY_INFO!C122=0,\" \",COUNTRY_INFO!C122)))","v":" "},{"$f":"IF(INTRO!$E$39<>\"Non-endemic\", 0, IF(INTRO!$E$37=\"Non-endemic\",0,IF(COUNTRY_INFO!$H122=1,COUNTRY_INFO!E122,0)))","v":0},{"$f":"IF(INTRO!$E$39<>\"Non-endemic\", 0, IF(INTRO!$E$37=\"Non-endemic\",0,IF(COUNTRY_INFO!$H122=1,COUNTRY_INFO!F122,0)))","v":0},{"$f":"IF(INTRO!$E$39<>\"Non-endemic\", 0, IF(INTRO!$E$37=\"Non-endemic\",0,IF(COUNTRY_INFO!$H122=1,COUNTRY_INFO!G122,0)))","v":0},0,{"$f":"IF(INTRO!$E$39=\"Non-endemic\",IF(INTRO!$E$37=\"Non-endemic\",\"Not required\",COUNTRY_INFO!P122),\"Treat with IVM\")","v":"Treat with IVM"},0,0,null,0,0]
[{"$f":"IF(INTRO!$E$39<>\"Non-endemic\", \" \", IF(INTRO!$E$37=\"Non-endemic\",\" \", IF(COUNTRY_INFO!A123=0,\" \",COUNTRY_INFO!A123)))","v":" "},{"$f":"IF(INTRO!$E$39<>\"Non-endemic\", \" \", IF(INTRO!$E$37=\"Non-endemic\",\" \", IF(COUNTRY_INFO!B123=0,\" \",COUNTRY_INFO!B123)))","v":" "},{"$f":"IF(INTRO!$E$39<>\"Non-endemic\", \" \", IF(INTRO!$E$37=\"Non-endemic\",\" \", IF(COUNTRY_INFO!C123=0,\" \",COUNTRY_INFO!C123)))","v":" "},{"$f":"IF(INTRO!$E$39<>\"Non-endemic\", 0, IF(INTRO!$E$37=\"Non-endemic\",0,IF(COUNTRY_INFO!$H123=1,COUNTRY_INFO!E123,0)))","v":0},{"$f":"IF(INTRO!$E$39<>\"Non-endemic\", 0, IF(INTRO!$E$37=\"Non-endemic\",0,IF(COUNTRY_INFO!$H123=1,COUNTRY_INFO!F123,0)))","v":0},{"$f":"IF(INTRO!$E$39<>\"Non-endemic\", 0, IF(INTRO!$E$37=\"Non-endemic\",0,IF(COUNTRY_INFO!$H123=1,COUNTRY_INFO!G123,0)))","v":0},0,{"$f":"IF(INTRO!$E$39=\"Non-endemic\",IF(INTRO!$E$37=\"Non-endemic\",\"Not required\",COUNTRY_INFO!P123),\"Treat with IVM\")","v":"Treat with IVM"},0,0,null,0,0]
[{"$f":"IF(INTRO!$E$39<>\"Non-endemic\", \" \", IF(INTRO!$E$37=\"Non-endemic\",\" \", IF(COUNTRY_INFO!A124=0,\" \",COUNTRY_INFO!A124)))","v":" "},{"$f":"IF(INTRO!$E$39<>\"Non-endemic\", \" \", IF(INTRO!$E$37=\"Non-endemic\",\" \", IF(COUNTRY_INFO!B124=0,\" \",COUNTRY_INFO!B124)))","v":" "},{"$f":"IF(INTRO!$E$39<>\"Non-endemic\", \" \", IF(INTRO!$E$37=\"Non-endemic\",\" \", IF(COUNTRY_INFO!C124=0,\" \",COUNTRY_INFO!C124)))","v":" "},{"$f":"IF(INTRO!$E$39<>\"Non-endemic\", 0, IF(INTRO!$E$37=\"Non-endemic\",0,IF(COUNTRY_INFO!$H124=1,COUNTRY_INFO!E124,0)))","v":0},{"$f":"IF(INTRO!$E$39<>\"Non-endemic\", 0, IF(INTRO!$E$37=\"Non-endemic\",0,IF(COUNTRY_INFO!$H124=1,COUNTRY_INFO!F124,0)))","v":0},{"$f":"IF(INTRO!$E$39<>\"Non-endemic\", 0, IF(INTRO!$E$37=\"Non-endemic\",0,IF(COUNTRY_INFO!$H124=1,COUNTRY_INFO!G124,0)))","v":0},0,{"$f":"IF(INTRO!$E$39=\"Non-endemic\",IF(INTRO!$E$37=\"Non-endemic\",\"Not required\",COUNTRY_INFO!P124),\"Treat with IVM\")","v":"Treat with IVM"},0,0,null,0,0]
[{"$f":"IF(INTRO!$E$39<>\"Non-endemic\", \" \", IF(INTRO!$E$37=\"Non-endemic\",\" \", IF(COUNTRY_INFO!A125=0,\" \",COUNTRY_INFO!A125)))","v":" "},{"$f":"IF(INTRO!$E$39<>\"Non-endemic\", \" \", IF(INTRO!$E$37=\"Non-endemic\",\" \", IF(COUNTRY_INFO!B125=0,\" \",COUNTRY_INFO!B125)))","v":" "},{"$f":"IF(INTRO!$E$39<>\"Non-endemic\", \" \", IF(INTRO!$E$37=\"Non-endemic\",\" \", IF(COUNTRY_INFO!C125=0,\" \",COUNTRY_INFO!C125)))","v":" "},{"$f":"IF(INTRO!$E$39<>\"Non-endemic\", 0, IF(INTRO!$E$37=\"Non-endemic\",0,IF(COUNTRY_INFO!$H125=1,COUNTRY_INFO!E125,0)))","v":0},{"$f":"IF(INTRO!$E$39<>\"Non-endemic\", 0, IF(INTRO!$E$37=\"Non-endemic\",0,IF(COUNTRY_INFO!$H125=1,COUNTRY_INFO!F125,0)))","v":0},{"$f":"IF(INTRO!$E$39<>\"Non-endemic\", 0, IF(INTRO!$E$37=\"Non-endemic\",0,IF(COUNTRY_INFO!$H125=1,COUNTRY_INFO!G125,0)))","v":0},0,{"$f":"IF(INTRO!$E$39=\"Non-endemic\",IF(INTRO!$E$37=\"Non-endemic\",\"Not required\",COUNTRY_INFO!P125),\"Treat with IVM\")","v":"Treat with IVM"},0,0,null,0,0]
[{"$f":"IF(INTRO!$E$39<>\"Non-endemic\", \" \", IF(INTRO!$E$37=\"Non-endemic\",\" \", IF(COUNTRY_INFO!A126=0,\" \",COUNTRY_INFO!A126)))","v":" "},{"$f":"IF(INTRO!$E$39<>\"Non-endemic\", \" \", IF(INTRO!$E$37=\"Non-endemic\",\" \", IF(COUNTRY_INFO!B126=0,\" \",COUNTRY_INFO!B126)))","v":" "},{"$f":"IF(INTRO!$E$39<>\"Non-endemic\", \" \", IF(INTRO!$E$37=\"Non-endemic\",\" \", IF(COUNTRY_INFO!C126=0,\" \",COUNTRY_INFO!C126)))","v":" "},{"$f":"IF(INTRO!$E$39<>\"Non-endemic\", 0, IF(INTRO!$E$37=\"Non-endemic\",0,IF(COUNTRY_INFO!$H126=1,COUNTRY_INFO!E126,0)))","v":0},{"$f":"IF(INTRO!$E$39<>\"Non-endemic\", 0, IF(INTRO!$E$37=\"Non-endemic\",0,IF(COUNTRY_INFO!$H126=1,COUNTRY_INFO!F126,0)))","v":0},{"$f":"IF(INTRO!$E$39<>\"Non-endemic\", 0, IF(INTRO!$E$37=\"Non-endemic\",0,IF(COUNTRY_INFO!$H126=1,COUNTRY_INFO!G126,0)))","v":0},0,{"$f":"IF(INTRO!$E$39=\"Non-endemic\",IF(INTRO!$E$37=\"Non-endemic\",\"Not required\",COUNTRY_INFO!P126),\"Treat with IVM\")","v":"Treat with IVM"},0,0,null,0,0]
[{"$f":"IF(INTRO!$E$39<>\"Non-endemic\", \" \", IF(INTRO!$E$37=\"Non-endemic\",\" \", IF(COUNTRY_INFO!A127=0,\" \",COUNTRY_INFO!A127)))","v":" "},{"$f":"IF(INTRO!$E$39<>\"Non-endemic\", \" \", IF(INTRO!$E$37=\"Non-endemic\",\" \", IF(COUNTRY_INFO!B127=0,\" \",COUNTRY_INFO!B127)))","v":" "},{"$f":"IF(INTRO!$E$39<>\"Non-endemic\", \" \", IF(INTRO!$E$37=\"Non-endemic\",\" \", IF(COUNTRY_INFO!C127=0,\" \",COUNTRY_INFO!C127)))","v":" "},{"$f":"IF(INTRO!$E$39<>\"Non-endemic\", 0, IF(INTRO!$E$37=\"Non-endemic\",0,IF(COUNTRY_INFO!$H127=1,COUNTRY_INFO!E127,0)))","v":0},{"$f":"IF(INTRO!$E$39<>\"Non-endemic\", 0, IF(INTRO!$E$37=\"Non-endemic\",0,IF(COUNTRY_INFO!$H127=1,COUNTRY_INFO!F127,0)))","v":0},{"$f":"IF(INTRO!$E$39<>\"Non-endemic\", 0, IF(INTRO!$E$37=\"Non-endemic\",0,IF(COUNTRY_INFO!$H127=1,COUNTRY_INFO!G127,0)))","v":0},0,{"$f":"IF(INTRO!$E$39=\"Non-endemic\",IF(INTRO!$E$37=\"Non-endemic\",\"Not required\",COUNTRY_INFO!P127),\"Treat with IVM\")","v":"Treat with IVM"},0,0,null,0,0]
[{"$f":"IF(INTRO!$E$39<>\"Non-endemic\", \" \", IF(INTRO!$E$37=\"Non-endemic\",\" \", IF(COUNTRY_INFO!A128=0,\" \",COUNTRY_INFO!A128)))","v":" "},{"$f":"IF(INTRO!$E$39<>\"Non-endemic\", \" \", IF(INTRO!$E$37=\"Non-endemic\",\" \", IF(COUNTRY_INFO!B128=0,\" \",COUNTRY_INFO!B128)))","v":" "},{"$f":"IF(INTRO!$E$39<>\"Non-endemic\", \" \", IF(INTRO!$E$37=\"Non-endemic\",\" \", IF(COUNTRY_INFO!C128=0,\" \",COUNTRY_INFO!C128)))","v":" "},{"$f":"IF(INTRO!$E$39<>\"Non-endemic\", 0, IF(INTRO!$E$37=\"Non-endemic\",0,IF(COUNTRY_INFO!$H128=1,COUNTRY_INFO!E128,0)))","v":0},{"$f":"IF(INTRO!$E$39<>\"Non-endemic\", 0, IF(INTRO!$E$37=\"Non-endemic\",0,IF(COUNTRY_INFO!$H128=1,COUNTRY_INFO!F128,0)))","v":0},{"$f":"IF(INTRO!$E$39<>\"Non-endemic\", 0, IF(INTRO!$E$37=\"Non-endemic\",0,IF(COUNTRY_INFO!$H128=1,COUNTRY_INFO!G128,0)))","v":0},0,{"$f":"IF(INTRO!$E$39=\"Non-endemic\",IF(INTRO!$E$37=\"Non-endemic\",\"Not required\",COUNTRY_INFO!P128),\"Treat with IVM\")","v":"Treat with IVM"},0,0,null,0,0]
[{"$f":"IF(INTRO!$E$39<>\"Non-endemic\", \" \", IF(INTRO!$E$37=\"Non-endemic\",\" \", IF(COUNTRY_INFO!A129=0,\" \",COUNTRY_INFO!A129)))","v":" "},{"$f":"IF(INTRO!$E$39<>\"Non-endemic\", \" \", IF(INTRO!$E$37=\"Non-endemic\",\" \", IF(COUNTRY_INFO!B129=0,\" \",COUNTRY_INFO!B129)))","v":" "},{"$f":"IF(INTRO!$E$39<>\"Non-endemic\", \" \", IF(INTRO!$E$37=\"Non-endemic\",\" \", IF(COUNTRY_INFO!C129=0,\" \",COUNTRY_INFO!C129)))","v":" "},{"$f":"IF(INTRO!$E$39<>\"Non-endemic\", 0, IF(INTRO!$E$37=\"Non-endemic\",0,IF(COUNTRY_INFO!$H129=1,COUNTRY_INFO!E129,0)))","v":0},{"$f":"IF(INTRO!$E$39<>\"Non-endemic\", 0, IF(INTRO!$E$37=\"Non-endemic\",0,IF(COUNTRY_INFO!$H129=1,COUNTRY_INFO!F129,0)))","v":0},{"$f":"IF(INTRO!$E$39<>\"Non-endemic\", 0, IF(INTRO!$E$37=\"Non-endemic\",0,IF(COUNTRY_INFO!$H129=1,COUNTRY_INFO!G129,0)))","v":0},0,{"$f":"IF(INTRO!$E$39=\"Non-endemic\",IF(INTRO!$E$37=\"Non-endemic\",\"Not required\",COUNTRY_INFO!P129),\"Treat with IVM\")","v":"Treat with IVM"},0,0,null,0,0]
[{"$f":"IF(INTRO!$E$39<>\"Non-endemic\", \" \", IF(INTRO!$E$37=\"Non-endemic\",\" \", IF(COUNTRY_INFO!A130=0,\" \",COUNTRY_INFO!A130)))","v":" "},{"$f":"IF(INTRO!$E$39<>\"Non-endemic\", \" \", IF(INTRO!$E$37=\"Non-endemic\",\" \", IF(COUNTRY_INFO!B130=0,\" \",COUNTRY_INFO!B130)))","v":" "},{"$f":"IF(INTRO!$E$39<>\"Non-endemic\", \" \", IF(INTRO!$E$37=\"Non-endemic\",\" \", IF(COUNTRY_INFO!C130=0,\" \",COUNTRY_INFO!C130)))","v":" "},{"$f":"IF(INTRO!$E$39<>\"Non-endemic\", 0, IF(INTRO!$E$37=\"Non-endemic\",0,IF(COUNTRY_INFO!$H130=1,COUNTRY_INFO!E130,0)))","v":0},{"$f":"IF(INTRO!$E$39<>\"Non-endemic\", 0, IF(INTRO!$E$37=\"Non-endemic\",0,IF(COUNTRY_INFO!$H130=1,COUNTRY_INFO!F130,0)))","v":0},{"$f":"IF(INTRO!$E$39<>\"Non-endemic\", 0, IF(INTRO!$E$37=\"Non-endemic\",0,IF(COUNTRY_INFO!$H130=1,COUNTRY_INFO!G130,0)))","v":0},0,{"$f":"IF(INTRO!$E$39=\"Non-endemic\",IF(INTRO!$E$37=\"Non-endemic\",\"Not required\",COUNTRY_INFO!P130),\"Treat with IVM\")","v":"Treat with IVM"},0,0,null,0,0]
[{"$f":"IF(INTRO!$E$39<>\"Non-endemic\", \" \", IF(INTRO!$E$37=\"Non-endemic\",\" \", IF(COUNTRY_INFO!A131=0,\" \",COUNTRY_INFO!A131)))","v":" "},{"$f":"IF(INTRO!$E$39<>\"Non-endemic\", \" \", IF(INTRO!$E$37=\"Non-endemic\",\" \", IF(COUNTRY_INFO!B131=0,\" \",COUNTRY_INFO!B131)))","v":" "},{"$f":"IF(INTRO!$E$39<>\"Non-endemic\", \" \", IF(INTRO!$E$37=\"Non-endemic\",\" \", IF(COUNTRY_INFO!C131=0,\" \",COUNTRY_INFO!C131)))","v":" "},{"$f":"IF(INTRO!$E$39<>\"Non-endemic\", 0, IF(INTRO!$E$37=\"Non-endemic\",0,IF(COUNTRY_INFO!$H131=1,COUNTRY_INFO!E131,0)))","v":0},{"$f":"IF(INTRO!$E$39<>\"Non-endemic\", 0, IF(INTRO!$E$37=\"Non-endemic\",0,IF(COUNTRY_INFO!$H131=1,COUNTRY_INFO!F131,0)))","v":0},{"$f":"IF(INTRO!$E$39<>\"Non-endemic\", 0, IF(INTRO!$E$37=\"Non-endemic\",0,IF(COUNTRY_INFO!$H131=1,COUNTRY_INFO!G131,0)))","v":0},0,{"$f":"IF(INTRO!$E$39=\"Non-endemic\",IF(INTRO!$E$37=\"Non-endemic\",\"Not required\",COUNTRY_INFO!P131),\"Treat with IVM\")","v":"Treat with IVM"},0,0,null,0,0]
[{"$f":"IF(INTRO!$E$39<>\"Non-endemic\", \" \", IF(INTRO!$E$37=\"Non-endemic\",\" \", IF(COUNTRY_INFO!A132=0,\" \",COUNTRY_INFO!A132)))","v":" "},{"$f":"IF(INTRO!$E$39<>\"Non-endemic\", \" \", IF(INTRO!$E$37=\"Non-endemic\",\" \", IF(COUNTRY_INFO!B132=0,\" \",COUNTRY_INFO!B132)))","v":" "},{"$f":"IF(INTRO!$E$39<>\"Non-endemic\", \" \", IF(INTRO!$E$37=\"Non-endemic\",\" \", IF(COUNTRY_INFO!C132=0,\" \",COUNTRY_INFO!C132)))","v":" "},{"$f":"IF(INTRO!$E$39<>\"Non-endemic\", 0, IF(INTRO!$E$37=\"Non-endemic\",0,IF(COUNTRY_INFO!$H132=1,COUNTRY_INFO!E132,0)))","v":0},{"$f":"IF(INTRO!$E$39<>\"Non-endemic\", 0, IF(INTRO!$E$37=\"Non-endemic\",0,IF(COUNTRY_INFO!$H132=1,COUNTRY_INFO!F132,0)))","v":0},{"$f":"IF(INTRO!$E$39<>\"Non-endemic\", 0, IF(INTRO!$E$37=\"Non-endemic\",0,IF(COUNTRY_INFO!$H132=1,COUNTRY_INFO!G132,0)))","v":0},0,{"$f":"IF(INTRO!$E$39=\"Non-endemic\",IF(INTRO!$E$37=\"Non-endemic\",\"Not required\",COUNTRY_INFO!P132),\"Treat with IVM\")","v":"Treat with IVM"},0,0,null,0,0]
[{"$f":"IF(INTRO!$E$39<>\"Non-endemic\", \" \", IF(INTRO!$E$37=\"Non-endemic\",\" \", IF(COUNTRY_INFO!A133=0,\" \",COUNTRY_INFO!A133)))","v":" "},{"$f":"IF(INTRO!$E$39<>\"Non-endemic\", \" \", IF(INTRO!$E$37=\"Non-endemic\",\" \", IF(COUNTRY_INFO!B133=0,\" \",COUNTRY_INFO!B133)))","v":" "},{"$f":"IF(INTRO!$E$39<>\"Non-endemic\", \" \", IF(INTRO!$E$37=\"Non-endemic\",\" \", IF(COUNTRY_INFO!C133=0,\" \",COUNTRY_INFO!C133)))","v":" "},{"$f":"IF(INTRO!$E$39<>\"Non-endemic\", 0, IF(INTRO!$E$37=\"Non-endemic\",0,IF(COUNTRY_INFO!$H133=1,COUNTRY_INFO!E133,0)))","v":0},{"$f":"IF(INTRO!$E$39<>\"Non-endemic\", 0, IF(INTRO!$E$37=\"Non-endemic\",0,IF(COUNTRY_INFO!$H133=1,COUNTRY_INFO!F133,0)))","v":0},{"$f":"IF(INTRO!$E$39<>\"Non-endemic\", 0, IF(INTRO!$E$37=\"Non-endemic\",0,IF(COUNTRY_INFO!$H133=1,COUNTRY_INFO!G133,0)))","v":0},0,{"$f":"IF(INTRO!$E$39=\"Non-endemic\",IF(INTRO!$E$37=\"Non-endemic\",\"Not required\",COUNTRY_INFO!P133),\"Treat with IVM\")","v":"Treat with IVM"},0,0,null,0,0]
[{"$f":"IF(INTRO!$E$39<>\"Non-endemic\", \" \", IF(INTRO!$E$37=\"Non-endemic\",\" \", IF(COUNTRY_INFO!A134=0,\" \",COUNTRY_INFO!A134)))","v":" "},{"$f":"IF(INTRO!$E$39<>\"Non-endemic\", \" \", IF(INTRO!$E$37=\"Non-endemic\",\" \", IF(COUNTRY_INFO!B134=0,\" \",COUNTRY_INFO!B134)))","v":" "},{"$f":"IF(INTRO!$E$39<>\"Non-endemic\", \" \", IF(INTRO!$E$37=\"Non-endemic\",\" \", IF(COUNTRY_INFO!C134=0,\" \",COUNTRY_INFO!C134)))","v":" "},{"$f":"IF(INTRO!$E$39<>\"Non-endemic\", 0, IF(INTRO!$E$37=\"Non-endemic\",0,IF(COUNTRY_INFO!$H134=1,COUNTRY_INFO!E134,0)))","v":0},{"$f":"IF(INTRO!$E$39<>\"Non-endemic\", 0, IF(INTRO!$E$37=\"Non-endemic\",0,IF(COUNTRY_INFO!$H134=1,COUNTRY_INFO!F134,0)))","v":0},{"$f":"IF(INTRO!$E$39<>\"Non-endemic\", 0, IF(INTRO!$E$37=\"Non-endemic\",0,IF(COUNTRY_INFO!$H134=1,COUNTRY_INFO!G134,0)))","v":0},0,{"$f":"IF(INTRO!$E$39=\"Non-endemic\",IF(INTRO!$E$37=\"Non-endemic\",\"Not required\",COUNTRY_INFO!P134),\"Treat with IVM\")","v":"Treat with IVM"},0,0,null,0,0]
[{"$f":"IF(INTRO!$E$39<>\"Non-endemic\", \" \", IF(INTRO!$E$37=\"Non-endemic\",\" \", IF(COUNTRY_INFO!A135=0,\" \",COUNTRY_INFO!A135)))","v":" "},{"$f":"IF(INTRO!$E$39<>\"Non-endemic\", \" \", IF(INTRO!$E$37=\"Non-endemic\",\" \", IF(COUNTRY_INFO!B135=0,\" \",COUNTRY_INFO!B135)))","v":" "},{"$f":"IF(INTRO!$E$39<>\"Non-endemic\", \" \", IF(INTRO!$E$37=\"Non-endemic\",\" \", IF(COUNTRY_INFO!C135=0,\" \",COUNTRY_INFO!C135)))","v":" "},{"$f":"IF(INTRO!$E$39<>\"Non-endemic\", 0, IF(INTRO!$E$37=\"Non-endemic\",0,IF(COUNTRY_INFO!$H135=1,COUNTRY_INFO!E135,0)))","v":0},{"$f":"IF(INTRO!$E$39<>\"Non-endemic\", 0, IF(INTRO!$E$37=\"Non-endemic\",0,IF(COUNTRY_INFO!$H135=1,COUNTRY_INFO!F135,0)))","v":0},{"$f":"IF(INTRO!$E$39<>\"Non-endemic\", 0, IF(INTRO!$E$37=\"Non-endemic\",0,IF(COUNTRY_INFO!$H135=1,COUNTRY_INFO!G135,0)))","v":0},0,{"$f":"IF(INTRO!$E$39=\"Non-endemic\",IF(INTRO!$E$37=\"Non-endemic\",\"Not required\",COUNTRY_INFO!P135),\"Treat with IVM\")","v":"Treat with IVM"},0,0,null,0,0]
[{"$f":"IF(INTRO!$E$39<>\"Non-endemic\", \" \", IF(INTRO!$E$37=\"Non-endemic\",\" \", IF(COUNTRY_INFO!A136=0,\" \",COUNTRY_INFO!A136)))","v":" "},{"$f":"IF(INTRO!$E$39<>\"Non-endemic\", \" \", IF(INTRO!$E$37=\"Non-endemic\",\" \", IF(COUNTRY_INFO!B136=0,\" \",COUNTRY_INFO!B136)))","v":" "},{"$f":"IF(INTRO!$E$39<>\"Non-endemic\", \" \", IF(INTRO!$E$37=\"Non-endemic\",\" \", IF(COUNTRY_INFO!C136=0,\" \",COUNTRY_INFO!C136)))","v":" "},{"$f":"IF(INTRO!$E$39<>\"Non-endemic\", 0, IF(INTRO!$E$37=\"Non-endemic\",0,IF(COUNTRY_INFO!$H136=1,COUNTRY_INFO!E136,0)))","v":0},{"$f":"IF(INTRO!$E$39<>\"Non-endemic\", 0, IF(INTRO!$E$37=\"Non-endemic\",0,IF(COUNTRY_INFO!$H136=1,COUNTRY_INFO!F136,0)))","v":0},{"$f":"IF(INTRO!$E$39<>\"Non-endemic\", 0, IF(INTRO!$E$37=\"Non-endemic\",0,IF(COUNTRY_INFO!$H136=1,COUNTRY_INFO!G136,0)))","v":0},0,{"$f":"IF(INTRO!$E$39=\"Non-endemic\",IF(INTRO!$E$37=\"Non-endemic\",\"Not required\",COUNTRY_INFO!P136),\"Treat with IVM\")","v":"Treat with IVM"},0,0,null,0,0]
[{"$f":"IF(INTRO!$E$39<>\"Non-endemic\", \" \", IF(INTRO!$E$37=\"Non-endemic\",\" \", IF(COUNTRY_INFO!A137=0,\" \",COUNTRY_INFO!A137)))","v":" "},{"$f":"IF(INTRO!$E$39<>\"Non-endemic\", \" \", IF(INTRO!$E$37=\"Non-endemic\",\" \", IF(COUNTRY_INFO!B137=0,\" \",COUNTRY_INFO!B137)))","v":" "},{"$f":"IF(INTRO!$E$39<>\"Non-endemic\", \" \", IF(INTRO!$E$37=\"Non-endemic\",\" \", IF(COUNTRY_INFO!C137=0,\" \",COUNTRY_INFO!C137)))","v":" "},{"$f":"IF(INTRO!$E$39<>\"Non-endemic\", 0, IF(INTRO!$E$37=\"Non-endemic\",0,IF(COUNTRY_INFO!$H137=1,COUNTRY_INFO!E137,0)))","v":0},{"$f":"IF(INTRO!$E$39<>\"Non-endemic\", 0, IF(INTRO!$E$37=\"Non-endemic\",0,IF(COUNTRY_INFO!$H137=1,COUNTRY_INFO!F137,0)))","v":0},{"$f":"IF(INTRO!$E$39<>\"Non-endemic\", 0, IF(INTRO!$E$37=\"Non-endemic\",0,IF(COUNTRY_INFO!$H137=1,COUNTRY_INFO!G137,0)))","v":0},{"$f":"SUM(D137:F137)","v":0},{"$f":"IF(INTRO!$E$39=\"Non-endemic\",IF(INTRO!$E$37=\"Non-endemic\",\"Not required\",COUNTRY_INFO!P137),\"Treat with IVM\")","v":"Treat with IVM"},{"$f":"IF(H137=1,G137,0)","v":0},{"$f":"IF(I137>0,I137*2.5,0)","v":0},null,0,0]
[{"$f":"IF(INTRO!$E$39<>\"Non-endemic\", \" \", IF(INTRO!$E$37=\"Non-endemic\",\" \", IF(COUNTRY_INFO!A138=0,\" \",COUNTRY_INFO!A138)))","v":" "},{"$f":"IF(INTRO!$E$39<>\"Non-endemic\", \" \", IF(INTRO!$E$37=\"Non-endemic\",\" \", IF(COUNTRY_INFO!B138=0,\" \",COUNTRY_INFO!B138)))","v":" "},{"$f":"IF(INTRO!$E$39<>\"Non-endemic\", \" \", IF(INTRO!$E$37=\"Non-endemic\",\" \", IF(COUNTRY_INFO!C138=0,\" \",COUNTRY_INFO!C138)))","v":" "},{"$f":"IF(INTRO!$E$39<>\"Non-endemic\", 0, IF(INTRO!$E$37=\"Non-endemic\",0,IF(COUNTRY_INFO!$H138=1,COUNTRY_INFO!E138,0)))","v":0},{"$f":"IF(INTRO!$E$39<>\"Non-endemic\", 0, IF(INTRO!$E$37=\"Non-endemic\",0,IF(COUNTRY_INFO!$H138=1,COUNTRY_INFO!F138,0)))","v":0},{"$f":"IF(INTRO!$E$39<>\"Non-endemic\", 0, IF(INTRO!$E$37=\"Non-endemic\",0,IF(COUNTRY_INFO!$H138=1,COUNTRY_INFO!G138,0)))","v":0},0,{"$f":"IF(INTRO!$E$39=\"Non-endemic\",IF(INTRO!$E$37=\"Non-endemic\",\"Not required\",COUNTRY_INFO!P138),\"Treat with IVM\")","v":"Treat with IVM"},0,0,null,0,0]

{"sheet":"ALB_MBD","index":3,"n_rows":138,"n_cols":27,"rows_kept":138,"cut":false,"hidden":false,"merged":[[6,0,7,0],[6,1,7,1],[6,2,7,2],[6,3,7,3],[6,23,7,23],[6,21,7,21],[6,18,7,18],[6,19,7,19],[6,20,7,20],[6,4,7,4],[6,5,7,5],[6,6,7,6],[6,7,7,7],[6,14,6,17],[5,9,7,9],[6,10,6,13],[3,0,3,2],[3,6,3,7],[5,0,5,2],[5,6,5,7],[5,3,5,5],[5,10,5,17],[5,8,7,8],[5,18,5,23],[6,26,7,26],[5,24,5,26],[6,24,7,24],[6,25,7,25],[6,22,7,22]]}
["Albendazole (ALB) and Mebendazole (MBD)"]
["Administrative structure, eligible population by age group, treatment plan and information about tablets"]
[]
["TOTAL",null,null,{"$f":"SUM(D$9:D$1000)","v":5778534},{"$f":"SUM(E$9:E$1000)","v":12289550},{"$f":"SUM(F$9:F$1000)","v":18068084},null,null,{"$f":"SUM(I$9:I$1000)","v":2721071},null,{"$f":"SUM(K$9:K$1000)","v":938986},{"$f":"SUM(L$9:L$1000)","v":998498},{"$f":"SUM(M$9:M$1000)","v":0},{"$f":"SUM(N$9:N$1000)","v":1937484},{"$f":"SUM(O$9:O$1000)","v":10618082},{"$f":"SUM(P$9:P$1000)","v":22582104},0,33200186,0,2721071,13610,0,998498,4997,0,22582104,150595]
[]
["Country administrative structure",null,null,"Population requiring treatment with ALB/MBD",null,null,"Treatment plan",null,"People covered by PELF with ALB","Select medicine for treatment of STH","Target population",null,null,null,null,null,null,null,"Albendazole (ALB)",null,null,null,null,null,"Mebendazole (MBD)"]
["Country","Province/State","District","PreSAC","SAC","Total","LF","STH",null,null,"STH (ALB)",null,null,null,"STH (MBD)",null,null,null,"Remaining in stock (LF)","Tablets to be procured (LF)","Bottle (400 mg)\n200 tablets (LF)","Remaining in stock (STH)","Tablets to be procured for SAC (STH)","Bottle (400 mg)\n200 tablets (STH)","Remaining in stock","Tablets to be procured for SAC","Bottles (500 mg)\n150 tablets"]
[null,null,null,null,null,null,null,null,null,null,"PreSAC","SAC","Other","Total","PreSAC","SAC","Other","Total"]
[{"$f":"IF(AND(INTRO!$E$37=\"Non-endemic\",INTRO!$E$41=\"Non-endemic\"),\" \",IF(COUNTRY_INFO!A9=0,\" \",COUNTRY_INFO!A9))","v":"Uganda"},{"$f":"IF(AND(INTRO!$E$37=\"Non-endemic\",INTRO!$E$41=\"Non-endemic\"),\" \",IF(COUNTRY_INFO!B9=0,\" \",COUNTRY_INFO!B9))","v":"NORTHERN"},{"$f":"IF(AND(INTRO!$E$37=\"Non-endemic\",INTRO!$E$41=\"Non-endemic\"),\" \",IF(COUNTRY_INFO!C9=0,\" \",COUNTRY_INFO!C9))","v":"ABIM"},{"$f":"IF(AND(INTRO!$E$37=\"Non-endemic\",INTRO!$E$41=\"Non-endemic\"),0,IF(AND(OR(COUNTRY_INFO!$H9=0,COUNTRY_INFO!$H9=4,COUNTRY_INFO!$H9=99),OR(COUNTRY_INFO!$J9=0,COUNTRY_INFO!$J9=4)),0,COUNTRY_INFO!$E9))","v":17799},{"$f":"IF(AND(INTRO!$E$37=\"Non-endemic\",INTRO!$E$41=\"Non-endemic\"),0,IF(AND(OR(COUNTRY_INFO!$H9=0,COUNTRY_INFO!$H9=4,COUNTRY_INFO!$H9=99),OR(COUNTRY_INFO!$J9=0,COUNTRY_INFO!$J9=4)),0,COUNTRY_INFO!$F9))","v":37854},{"$f":"SUM(D9:E9)","v":55653},{"$f":"IF(AND(INTRO!$E$37=\"Non-endemic\",INTRO!$E$41=\"Non-endemic\"),0,COUNTRY_INFO!P9)","v":0},{"$f":"IF(AND(INTRO!$E$37=\"Non-endemic\",INTRO!$E$41=\"Non-endemic\"),0,COUNTRY_INFO!R9)","v":2},{"$f":"IF(INTRO!$E$39=\"Non-endemic\",IF($G9=1,DEC!I9,0),IF($G9=1,IVM!G9,0))","v":0},"MBD",{"$f":"IF($J9=\"ALB\", IF(INTRO!$E$39=\"Non-endemic\", IF($H9<>0, IF($I9=0, $D9*$H9, $D9*($H9-$G9)), 0), $D9*$H9), 0)","v":0},{"$f":"IF($J9=\"ALB\", IF($H9<>0, IF($I9=0, $E9*$H9, $E9*($H9-$G9)),0), 0)","v":0},null,{"$f":"SUM(K9:M9)","v":0},{"$f":"IF($J9=\"MBD\", IF(INTRO!$E$39=\"Non-endemic\", IF($H9<>0, IF($I9=0, $D9*$H9, $D9*($H9-$G9)), 0), $D9*$H9), 0)","v":35598},{"$f":"IF($J9=\"MBD\", IF($H9<>0,IF($I9=0, $E9*$H9, $E9*($H9-$G9)),0), 0 )","v":75708},null,{"$f":"SUM(O9:Q9)","v":111306},0,{"$f":"IF($I9>$S9, $I9-$S9,0)","v":0},{"$f":"ROUNDUP($I9/200,0)","v":0},0,{"$f":"IF($L9>$V9,$L9-$V9,0)","v":0},{"$f":"ROUNDUP($L9/200,0)","v":0},0,{"$f":"IF($P9>$Y9,$P9-$Y9,0)","v":75708},{"$f":"ROUNDUP($P9/150,0)","v":505}]
[{"$f":"IF(AND(INTRO!$E$37=\"Non-endemic\",INTRO!$E$41=\"Non-endemic\"),\" \",IF(COUNTRY_INFO!A10=0,\" \",COUNTRY_INFO!A10))","v":"Uganda"},{"$f":"IF(AND(INTRO!$E$37=\"Non-endemic\",INTRO!$E$41=\"Non-endemic\"),\" \",IF(COUNTRY_INFO!B10=0,\" \",COUNTRY_INFO!B10))","v":"NORTHERN"},{"$f":"IF(AND(INTRO!$E$37=\"Non-endemic\",INTRO!$E$41=\"Non-endemic\"),\" \",IF(COUNTRY_INFO!C10=0,\" \",COUNTRY_INFO!C10))","v":"ADJUMANI"},{"$f":"IF(AND(INTRO!$E$37=\"Non-endemic\",INTRO!$E$41=\"Non-endemic\"),0,IF(AND(OR(COUNTRY_INFO!$H10=0,COUNTRY_INFO!$H10=4,COUNTRY_INFO!$H10=99),OR(COUNTRY_INFO!$J10=0,COUNTRY_INFO!$J10=4)),0,COUNTRY_INFO!$E10))","v":37134},{"$f":"IF(AND(INTRO!$E$37=\"Non-endemic\",INTRO!$E$41=\"Non-endemic\"),0,IF(AND(OR(COUNTRY_INFO!$H10=0,COUNTRY_INFO!$H10=4,COUNTRY_INFO!$H10=99),OR(COUNTRY_INFO!$J10=0,COUNTRY_INFO!$J10=4)),0,COUNTRY_INFO!$F10))","v":78975},116109,{"$f":"IF(AND(INTRO!$E$37=\"Non-endemic\",INTRO!$E$41=\"Non-endemic\"),0,COUNTRY_INFO!P10)","v":0},{"$f":"IF(AND(INTRO!$E$37=\"Non-endemic\",INTRO!$E$41=\"Non-endemic\"),0,COUNTRY_INFO!R10)","v":2},{"$f":"IF(INTRO!$E$39=\"Non-endemic\",IF($G10=1,DEC!I10,0),IF($G10=1,IVM!G10,0))","v":0},"MBD",{"$f":"IF($J10=\"ALB\", IF(INTRO!$E$39=\"Non-endemic\", IF($H10<>0, IF($I10=0, $D10*$H10, $D10*($H10-$G10)), 0), $D10*$H10), 0)","v":0},0,null,0,{"$f":"IF($J10=\"MBD\", IF(INTRO!$E$39=\"Non-endemic\", IF($H10<>0, IF($I10=0, $D10*$H10, $D10*($H10-$G10)), 0), $D10*$H10), 0)","v":74268},157950,null,232218,0,0,0,0,0,0,0,157950,1053]
[{"$f":"IF(AND(INTRO!$E$37=\"Non-endemic\",INTRO!$E$41=\"Non-endemic\"),\" \",IF(COUNTRY_INFO!A11=0,\" \",COUNTRY_INFO!A11))","v":"Uganda"},{"$f":"IF(AND(INTRO!$E$37=\"Non-endemic\",INTRO!$E$41=\"Non-endemic\"),\" \",IF(COUNTRY_INFO!B11=0,\" \",COUNTRY_INFO!B11))","v":"NORTHERN"},{"$f":"IF(AND(INTRO!$E$37=\"Non-endemic\",INTRO!$E$41=\"Non-endemic\"),\" \",IF(COUNTRY_INFO!C11=0,\" \",COUNTRY_INFO!C11))","v":"AGAGO"},{"$f":"IF(AND(INTRO!$E$37=\"Non-endemic\",INTRO!$E$41=\"Non-endemic\"),0,IF(AND(OR(COUNTRY_INFO!$H11=0,COUNTRY_INFO!$H11=4,COUNTRY_INFO!$H11=99),OR(COUNTRY_INFO!$J11=0,COUNTRY_INFO!$J11=4)),0,COUNTRY_INFO!$E11))","v":37553},{"$f":"IF(AND(INTRO!$E$37=\"Non-endemic\",INTRO!$E$41=\"Non-endemic\"),0,IF(AND(OR(COUNTRY_INFO!$H11=0,COUNTRY_INFO!$H11=4,COUNTRY_INFO!$H11=99),OR(COUNTRY_INFO!$J11=0,COUNTRY_INFO!$J11=4)),0,COUNTRY_INFO!$F11))","v":79866},117419,{"$f":"IF(AND(INTRO!$E$37=\"Non-endemic\",INTRO!$E$41=\"Non-endemic\"),0,COUNTRY_INFO!P11)","v":0},{"$f":"IF(AND(INTRO!$E$37=\"Non-endemic\",INTRO!$E$41=\"Non-endemic\"),0,COUNTRY_INFO!R11)","v":2},{"$f":"IF(INTRO!$E$39=\"Non-endemic\",IF($G11=1,DEC!I11,0),IF($G11=1,IVM!G11,0))","v":0},"MBD",{"$f":"IF($J11=\"ALB\", IF(INTRO!$E$39=\"Non-endemic\", IF($H11<>0, IF($I11=0, $D11*$H11, $D11*($H11-$G11)), 0), $D11*$H11), 0)","v":0},0,null,0,{"$f":"IF($J11=\"MBD\", IF(INTRO!$E$39=\"Non-endemic\", IF($H11<>0, IF($I11=0, $D11*$H11, $D11*($H11-$G11)), 0), $D11*$H11), 0)","v":75106},159732,null,234838,0,0,0,0,0,0,0,159732,1065]
[{"$f":"IF(AND(INTRO!$E$37=\"Non-endemic\",INTRO!$E$41=\"Non-endemic\"),\" \",IF(COUNTRY_INFO!A12=0,\" \",COUNTRY_INFO!A12))","v":"Uganda"},{"$f":"IF(AND(INTRO!$E$37=\"Non-endemic\",INTRO!$E$41=\"Non-endemic\"),\" \",IF(COUNTRY_INFO!B12=0,\" \",COUNTRY_INFO!B12))","v":"NORTHERN"},{"$f":"IF(AND(INTRO!$E$37=\"Non-endemic\",INTRO!$E$41=\"Non-endemic\"),\" \",IF(COUNTRY_INFO!C12=0,\" \",COUNTRY_INFO!C12))","v":"ALEBTONG"},{"$f":"IF(AND(INTRO!$E$37=\"Non-endemic\",INTRO!$E$41=\"Non-endemic\"),0,IF(AND(OR(COUNTRY_INFO!$H12=0,COUNTRY_INFO!$H12=4,COUNTRY_INFO!$H12=99),OR(COUNTRY_INFO!$J12=0,COUNTRY_INFO!$J12=4)),0,COUNTRY_INFO!$E12))","v":37512},{"$f":"IF(AND(INTRO!$E$37=\"Non-endemic\",INTRO!$E$41=\"Non-endemic\"),0,IF(AND(OR(COUNTRY_INFO!$H12=0,COUNTRY_INFO!$H12=4,COUNTRY_INFO!$H12=99),OR(COUNTRY_INFO!$J12=0,COUNTRY_INFO!$J12=4)),0,COUNTRY_INFO!$F12))","v":79778},117290,{"$f":"IF(AND(INTRO!$E$37=\"Non-endemic\",INTRO!$E$41=\"Non-endemic\"),0,COUNTRY_INFO!P12)","v":0},{"$f":"IF(AND(INTRO!$E$37=\"Non-endemic\",INTRO!$E$41=\"Non-endemic\"),0,COUNTRY_INFO!R12)","v":2},{"$f":"IF(INTRO!$E$39=\"Non-endemic\",IF($G12=1,DEC!I12,0),IF($G12=1,IVM!G12,0))","v":0},"MBD",{"$f":"IF($J12=\"ALB\", IF(INTRO!$E$39=\"Non-endemic\", IF($H12<>0, IF($I12=0, $D12*$H12, $D12*($H12-$G12)), 0), $D12*$H12), 0)","v":0},0,null,0,{"$f":"IF($J12=\"MBD\", IF(INTRO!$E$39=\"Non-endemic\", IF($H12<>0, IF($I12=0, $D12*$H12, $D12*($H12-$G12)), 0), $D12*$H12), 0)","v":75024},159556,null,234580,0,0,0,0,0,0,0,159556,1064]
[{"$f":"IF(AND(INTRO!$E$37=\"Non-endemic\",INTRO!$E$41=\"Non-endemic\"),\" \",IF(COUNTRY_INFO!A13=0,\" \",COUNTRY_INFO!A13))","v":"Uganda"},{"$f":"IF(AND(INTRO!$E$37=\"Non-endemic\",INTRO!$E$41=\"Non-endemic\"),\" \",IF(COUNTRY_INFO!B13=0,\" \",COUNTRY_INFO!B13))","v":"NORTHERN"},{"$f":"IF(AND(INTRO!$E$37=\"Non-endemic\",INTRO!$E$41=\"Non-endemic\"),\" \",IF(COUNTRY_INFO!C13=0,\" \",COUNTRY_INFO!C13))","v":"AMOLATAR"},{"$f":"IF(AND(INTRO!$E$37=\"Non-endemic\",INTRO!$E$41=\"Non-endemic\"),0,IF(AND(OR(COUNTRY_INFO!$H13=0,COUNTRY_INFO!$H13=4,COUNTRY_INFO!$H13=99),OR(COUNTRY_INFO!$J13=0,COUNTRY_INFO!$J13=4)),0,COUNTRY_INFO!$E13))","v":24261},{"$f":"IF(AND(INTRO!$E$37=\"Non-endemic\",INTRO!$E$41=\"Non-endemic\"),0,IF(AND(OR(COUNTRY_INFO!$H13=0,COUNTRY_INFO!$H13=4,COUNTRY_INFO!$H13=99),OR(COUNTRY_INFO!$J13=0,COUNTRY_INFO!$J13=4)),0,COUNTRY_INFO!$F13))","v":51598},75859,{"$f":"IF(AND(INTRO!$E$37=\"Non-endemic\",INTRO!$E$41=\"Non-endemic\"),0,COUNTRY_INFO!P13)","v":0},{"$f":"IF(AND(INTRO!$E$37=\"Non-endemic\",INTRO!$E$41=\"Non-endemic\"),0,COUNTRY_INFO!R13)","v":2},{"$f":"IF(INTRO!$E$39=\"Non-endemic\",IF($G13=1,DEC!I13,0),IF($G13=1,IVM!G13,0))","v":0},"MBD",{"$f":"IF($J13=\"ALB\", IF(INTRO!$E$39=\"Non-endemic\", IF($H13<>0, IF($I13=0, $D13*$H13, $D13*($H13-$G13)), 0), $D13*$H13), 0)","v":0},0,null,0,{"$f":"IF($J13=\"MBD\", IF(INTRO!$E$39=\"Non-endemic\", IF($H13<>0, IF($I13=0, $D13*$H13, $D13*($H13-$G13)), 0), $D13*$H13), 0)","v":48522},103196,null,151718,0,0,0,0,0,0,0,103196,688]
[{"$f":"IF(AND(INTRO!$E$37=\"Non-endemic\",INTRO!$E$41=\"Non-endemic\"),\" \",IF(COUNTRY_INFO!A14=0,\" \",COUNTRY_INFO!A14))","v":"Uganda"},{"$f":"IF(AND(INTRO!$E$37=\"Non-endemic\",INTRO!$E$41=\"Non-endemic\"),\" \",IF(COUNTRY_INFO!B14=0,\" \",COUNTRY_INFO!B14))","v":"NORTHERN"},{"$f":"IF(AND(INTRO!$E$37=\"Non-endemic\",INTRO!$E$41=\"Non-endemic\"),\" \",IF(COUNTRY_INFO!C14=0,\" \",COUNTRY_INFO!C14))","v":"AMUDAT"},{"$f":"IF(AND(INTRO!$E$37=\"Non-endemic\",INTRO!$E$41=\"Non-endemic\"),0,IF(AND(OR(COUNTRY_INFO!$H14=0,COUNTRY_INFO!$H14=4,COUNTRY_INFO!$H14=99),OR(COUNTRY_INFO!$J14=0,COUNTRY_INFO!$J14=4)),0,COUNTRY_INFO!$E14))","v":17436},{"$f":"IF(AND(INTRO!$E$37=\"Non-endemic\",INTRO!$E$41=\"Non-endemic\"),0,IF(AND(OR(COUNTRY_INFO!$H14=0,COUNTRY_INFO!$H14=4,COUNTRY_INFO!$H14=99),OR(COUNTRY_INFO!$J14=0,COUNTRY_INFO!$J14=4)),0,COUNTRY_INFO!$F14))","v":37083},54519,{"$f":"IF(AND(INTRO!$E$37=\"Non-endemic\",INTRO!$E$41=\"Non-endemic\"),0,COUNTRY_INFO!P14)","v":0},{"$f":"IF(AND(INTRO!$E$37=\"Non-endemic\",INTRO!$E$41=\"Non-endemic\"),0,COUNTRY_INFO!R14)","v":2},{"$f":"IF(INTRO!$E$39=\"Non-endemic\",IF($G14=1,DEC!I14,0),IF($G14=1,IVM!G14,0))","v":0},"MBD",{"$f":"IF($J14=\"ALB\", IF(INTRO!$E$39=\"Non-endemic\", IF($H14<>0, IF($I14=0, $D14*$H14, $D14*($H14-$G14)), 0), $D14*$H14), 0)","v":0},0,null,0,{"$f":"IF($J14=\"MBD\", IF(INTRO!$E$39=\"Non-endemic\", IF($H14<>0, IF($I14=0, $D14*$H14, $D14*($H14-$G14)), 0), $D14*$H14), 0)","v":34872},74166,null,109038,0,0,0,0,0,0,0,74166,495]
[{"$f":"IF(AND(INTRO!$E$37=\"Non-endemic\",INTRO!$E$41=\"Non-endemic\"),\" \",IF(COUNTRY_INFO!A15=0,\" \",COUNTRY_INFO!A15))","v":"Uganda"},{"$f":"IF(AND(INTRO!$E$37=\"Non-endemic\",INTRO!$E$41=\"Non-endemic\"),\" \",IF(COUNTRY_INFO!B15=0,\" \",COUNTRY_INFO!B15))","v":"EASTERN"},{"$f":"IF(AND(INTRO!$E$37=\"Non-endemic\",INTRO!$E$41=\"Non-endemic\"),\" \",IF(COUNTRY_INFO!C15=0,\" \",COUNTRY_INFO!C15))","v":"AMURIA"},{"$f":"IF(AND(INTRO!$E$37=\"Non-endemic\",INTRO!$E$41=\"Non-endemic\"),0,IF(AND(OR(COUNTRY_INFO!$H15=0,COUNTRY_INFO!$H15=4,COUNTRY_INFO!$H15=99),OR(COUNTRY_INFO!$J15=0,COUNTRY_INFO!$J15=4)),0,COUNTRY_INFO!$E15))","v":44664},{"$f":"IF(AND(INTRO!$E$37=\"Non-endemic\",INTRO!$E$41=\"Non-endemic\"),0,IF(AND(OR(COUNTRY_INFO!$H15=0,COUNTRY_INFO!$H15=4,COUNTRY_INFO!$H15=99),OR(COUNTRY_INFO!$J15=0,COUNTRY_INFO!$J15=4)),0,COUNTRY_INFO!$F15))","v":94990},139654,{"$f":"IF(AND(INTRO!$E$37=\"Non-endemic\",INTRO!$E$41=\"Non-endemic\"),0,COUNTRY_INFO!P15)","v":0},{"$f":"IF(AND(INTRO!$E$37=\"Non-endemic\",INTRO!$E$41=\"Non-endemic\"),0,COUNTRY_INFO!R15)","v":2},{"$f":"IF(INTRO!$E$39=\"Non-endemic\",IF($G15=1,DEC!I15,0),IF($G15=1,IVM!G15,0))","v":0},"MBD",{"$f":"IF($J15=\"ALB\", IF(INTRO!$E$39=\"Non-endemic\", IF($H15<>0, IF($I15=0, $D15*$H15, $D15*($H15-$G15)), 0), $D15*$H15), 0)","v":0},0,null,0,{"$f":"IF($J15=\"MBD\", IF(INTRO!$E$39=\"Non-endemic\", IF($H15<>0, IF($I15=0, $D15*$H15, $D15*($H15-$G15)), 0), $D15*$H15), 0)","v":89328},189980,null,279308,0,0,0,0,0,0,0,189980,1267]
[{"$f":"IF(AND(INTRO!$E$37=\"Non-endemic\",INTRO!$E$41=\"Non-endemic\"),\" \",IF(COUNTRY_INFO!A16=0,\" \",COUNTRY_INFO!A16))","v":"Uganda"},{"$f":"IF(AND(INTRO!$E$37=\"Non-endemic\",INTRO!$E$41=\"Non-endemic\"),\" \",IF(COUNTRY_INFO!B16=0,\" \",COUNTRY_INFO!B16))","v":"NORTHERN"},{"$f":"IF(AND(INTRO!$E$37=\"Non-endemic\",INTRO!$E$41=\"Non-endemic\"),\" \",IF(COUNTRY_INFO!C16=0,\" \",COUNTRY_INFO!C16))","v":"AMURU"},{"$f":"IF(AND(INTRO!$E$37=\"Non-endemic\",INTRO!$E$41=\"Non-endemic\"),0,IF(AND(OR(COUNTRY_INFO!$H16=0,COUNTRY_INFO!$H16=4,COUNTRY_INFO!$H16=99),OR(COUNTRY_INFO!$J16=0,COUNTRY_INFO!$J16=4)),0,COUNTRY_INFO!$E16))","v":31701},{"$f":"IF(AND(INTRO!$E$37=\"Non-endemic\",INTRO!$E$41=\"Non-endemic\"),0,IF(AND(OR(COUNTRY_INFO!$H16=0,COUNTRY_INFO!$H16=4,COUNTRY_INFO!$H16=99),OR(COUNTRY_INFO!$J16=0,COUNTRY_INFO!$J16=4)),0,COUNTRY_INFO!$F16))","v":67421},99122,{"$f":"IF(AND(INTRO!$E$37=\"Non-endemic\",INTRO!$E$41=\"Non-endemic\"),0,COUNTRY_INFO!P16)","v":0},{"$f":"IF(AND(INTRO!$E$37=\"Non-endemic\",INTRO!$E$41=\"Non-endemic\"),0,COUNTRY_INFO!R16)","v":2},{"$f":"IF(INTRO!$E$39=\"Non-endemic\",IF($G16=1,DEC!I16,0),IF($G16=1,IVM!G16,0))","v":0},"MBD",{"$f":"IF($J16=\"ALB\", IF(INTRO!$E$39=\"Non-endemic\", IF($H16<>0, IF($I16=0, $D16*$H16, $D16*($H16-$G16)), 0), $D16*$H16), 0)","v":0},0,null,0,{"$f":"IF($J16=\"MBD\", IF(INTRO!$E$39=\"Non-endemic\", IF($H16<>0, IF($I16=0, $D16*$H16, $D16*($H16-$G16)), 0), $D16*$H16), 0)","v":63402},134842,null,198244,0,0,0,0,0,0,0,134842,899]
[{"$f":"IF(AND(INTRO!$E$37=\"Non-endemic\",INTRO!$E$41=\"Non-endemic\"),\" \",IF(COUNTRY_INFO!A17=0,\" \",COUNTRY_INFO!A17))","v":"Uganda"},{"$f":"IF(AND(INTRO!$E$37=\"Non-endemic\",INTRO!$E$41=\"Non-endemic\"),\" \",IF(COUNTRY_INFO!B17=0,\" \",COUNTRY_INFO!B17))","v":"NORTHERN"},{"$f":"IF(AND(INTRO!$E$37=\"Non-endemic\",INTRO!$E$41=\"Non-endemic\"),\" \",IF(COUNTRY_INFO!C17=0,\" \",COUNTRY_INFO!C17))","v":"APAC"},{"$f":"IF(AND(INTRO!$E$37=\"Non-endemic\",INTRO!$E$41=\"Non-endemic\"),0,IF(AND(OR(COUNTRY_INFO!$H17=0,COUNTRY_INFO!$H17=4,COUNTRY_INFO!$H17=99),OR(COUNTRY_INFO!$J17=0,COUNTRY_INFO!$J17=4)),0,COUNTRY_INFO!$E17))","v":60770},{"$f":"IF(AND(INTRO!$E$37=\"Non-endemic\",INTRO!$E$41=\"Non-endemic\"),0,IF(AND(OR(COUNTRY_INFO!$H17=0,COUNTRY_INFO!$H17=4,COUNTRY_INFO!$H17=99),OR(COUNTRY_INFO!$J17=0,COUNTRY_INFO!$J17=4)),0,COUNTRY_INFO!$F17))","v":129244},190014,{"$f":"IF(AND(INTRO!$E$37=\"Non-endemic\",INTRO!$E$41=\"Non-endemic\"),0,COUNTRY_INFO!P17)","v":0},{"$f":"IF(AND(INTRO!$E$37=\"Non-endemic\",INTRO!$E$41=\"Non-endemic\"),0,COUNTRY_INFO!R17)","v":2},{"$f":"IF(INTRO!$E$39=\"Non-endemic\",IF($G17=1,DEC!I17,0),IF($G17=1,IVM!G17,0))","v":0},"MBD",{"$f":"IF($J17=\"ALB\", IF(INTRO!$E$39=\"Non-endemic\", IF($H17<>0, IF($I17=0, $D17*$H17, $D17*($H17-$G17)), 0), $D17*$H17), 0)","v":0},0,null,0,{"$f":"IF($J17=\"MBD\", IF(INTRO!$E$39=\"Non-endemic\", IF($H17<>0, IF($I17=0, $D17*$H17, $D17*($H17-$G17)), 0), $D17*$H17), 0)","v":121540},258488,null,380028,0,0,0,0,0,0,0,258488,1724]
[{"$f":"IF(AND(INTRO!$E$37=\"Non-endemic\",INTRO!$E$41=\"Non-endemic\"),\" \",IF(COUNTRY_INFO!A18=0,\" \",COUNTRY_INFO!A18))","v":"Uganda"},{"$f":"IF(AND(INTRO!$E$37=\"Non-endemic\",INTRO!$E$41=\"Non-endemic\"),\" \",IF(COUNTRY_INFO!B18=0,\" \",COUNTRY_INFO!B18))","v":"NORTHERN"},{"$f":"IF(AND(INTRO!$E$37=\"Non-endemic\",INTRO!$E$41=\"Non-endemic\"),\" \",IF(COUNTRY_INFO!C18=0,\" \",COUNTRY_INFO!C18))","v":"ARUA"},{"$f":"IF(AND(INTRO!$E$37=\"Non-endemic\",INTRO!$E$41=\"Non-endemic\"),0,IF(AND(OR(COUNTRY_INFO!$H18=0,COUNTRY_INFO!$H18=4,COUNTRY_INFO!$H18=99),OR(COUNTRY_INFO!$J18=0,COUNTRY_INFO!$J18=4)),0,COUNTRY_INFO!$E18))","v":128931},{"$f":"IF(AND(INTRO!$E$37=\"Non-endemic\",INTRO!$E$41=\"Non-endemic\"),0,IF(AND(OR(COUNTRY_INFO!$H18=0,COUNTRY_INFO!$H18=4,COUNTRY_INFO!$H18=99),OR(COUNTRY_INFO!$J18=0,COUNTRY_INFO!$J18=4)),0,COUNTRY_INFO!$F18))","v":274205},403136,{"$f":"IF(AND(INTRO!$E$37=\"Non-endemic\",INTRO!$E$41=\"Non-endemic\"),0,COUNTRY_INFO!P18)","v":1},{"$f":"IF(AND(INTRO!$E$37=\"Non-endemic\",INTRO!$E$41=\"Non-endemic\"),0,COUNTRY_INFO!R18)","v":2},{"$f":"IF(INTRO!$E$39=\"Non-endemic\",IF($G18=1,DEC!I18,0),IF($G18=1,IVM!G18,0))","v":747254},"ALB",{"$f":"IF($J18=\"ALB\", IF(INTRO!$E$39=\"Non-endemic\", IF($H18<>0, IF($I18=0, $D18*$H18, $D18*($H18-$G18)), 0), $D18*$H18), 0)","v":257862},274205,null,532067,{"$f":"IF($J18=\"MBD\", IF(INTRO!$E$39=\"Non-endemic\", IF($H18<>0, IF($I18=0, $D18*$H18, $D18*($H18-$G18)), 0), $D18*$H18), 0)","v":0},0,null,0,0,747254,3737,0,274205,1372,0,0,0]
[{"$f":"IF(AND(INTRO!$E$37=\"Non-endemic\",INTRO!$E$41=\"Non-endemic\"),\" \",IF(COUNTRY_INFO!A19=0,\" \",COUNTRY_INFO!A19))","v":"Uganda"},{"$f":"IF(AND(INTRO!$E$37=\"Non-endemic\",INTRO!$E$41=\"Non-endemic\"),\" \",IF(COUNTRY_INFO!B19=0,\" \",COUNTRY_INFO!B19))","v":"EASTERN"},{"$f":"IF(AND(INTRO!$E$37=\"Non-endemic\",INTRO!$E$41=\"Non-endemic\"),\" \",IF(COUNTRY_INFO!C19=0,\" \",COUNTRY_INFO!C19))","v":"BUDAKA"},{"$f":"IF(AND(INTRO!$E$37=\"Non-endemic\",INTRO!$E$41=\"Non-endemic\"),0,IF(AND(OR(COUNTRY_INFO!$H19=0,COUNTRY_INFO!$H19=4,COUNTRY_INFO!$H19=99),OR(COUNTRY_INFO!$J19=0,COUNTRY_INFO!$J19=4)),0,COUNTRY_INFO!$E19))","v":34224},{"$f":"IF(AND(INTRO!$E$37=\"Non-endemic\",INTRO!$E$41=\"Non-endemic\"),0,IF(AND(OR(COUNTRY_INFO!$H19=0,COUNTRY_INFO!$H19=4,COUNTRY_INFO!$H19=99),OR(COUNTRY_INFO!$J19=0,COUNTRY_INFO!$J19=4)),0,COUNTRY_INFO!$F19))","v":72786},107010,{"$f":"IF(AND(INTRO!$E$37=\"Non-endemic\",INTRO!$E$41=\"Non-endemic\"),0,COUNTRY_INFO!P19)","v":0},{"$f":"IF(AND(INTRO!$E$37=\"Non-endemic\",INTRO!$E$41=\"Non-endemic\"),0,COUNTRY_INFO!R19)","v":2},{"$f":"IF(INTRO!$E$39=\"Non-endemic\",IF($G19=1,DEC!I19,0),IF($G19=1,IVM!G19,0))","v":0},"MBD",{"$f":"IF($J19=\"ALB\", IF(INTRO!$E$39=\"Non-endemic\", IF($H19<>0, IF($I19=0, $D19*$H19, $D19*($H19-$G19)), 0), $D19*$H19), 0)","v":0},0,null,0,{"$f":"IF($J19=\"MBD\", IF(INTRO!$E$39=\"Non-endemic\", IF($H19<>0, IF($I19=0, $D19*$H19, $D19*($H19-$G19)), 0), $D19*$H19), 0)","v":68448},145572,null,214020,0,0,0,0,0,0,0,145572,971]
[{"$f":"IF(AND(INTRO!$E$37=\"Non-endemic\",INTRO!$E$41=\"Non-endemic\"),\" \",IF(COUNTRY_INFO!A20=0,\" \",COUNTRY_INFO!A20))","v":"Uganda"},{"$f":"IF(AND(INTRO!$E$37=\"Non-endemic\",INTRO!$E$41=\"Non-endemic\"),\" \",IF(COUNTRY_INFO!B20=0,\" \",COUNTRY_INFO!B20))","v":"EASTERN"},{"$f":"IF(AND(INTRO!$E$37=\"Non-endemic\",INTRO!$E$41=\"Non-endemic\"),\" \",IF(COUNTRY_INFO!C20=0,\" \",COUNTRY_INFO!C20))","v":"BUDUDA"},{"$f":"IF(AND(INTRO!$E$37=\"Non-endemic\",INTRO!$E$41=\"Non-endemic\"),0,IF(AND(OR(COUNTRY_INFO!$H20=0,COUNTRY_INFO!$H20=4,COUNTRY_INFO!$H20=99),OR(COUNTRY_INFO!$J20=0,COUNTRY_INFO!$J20=4)),0,COUNTRY_INFO!$E20))","v":34648},{"$f":"IF(AND(INTRO!$E$37=\"Non-endemic\",INTRO!$E$41=\"Non-endemic\"),0,IF(AND(OR(COUNTRY_INFO!$H20=0,COUNTRY_INFO!$H20=4,COUNTRY_INFO!$H20=99),OR(COUNTRY_INFO!$J20=0,COUNTRY_INFO!$J20=4)),0,COUNTRY_INFO!$F20))","v":73689},108337,{"$f":"IF(AND(INTRO!$E$37=\"Non-endemic\",INTRO!$E$41=\"Non-endemic\"),0,COUNTRY_INFO!P20)","v":0},{"$f":"IF(AND(INTRO!$E$37=\"Non-endemic\",INTRO!$E$41=\"Non-endemic\"),0,COUNTRY_INFO!R20)","v":2},{"$f":"IF(INTRO!$E$39=\"Non-endemic\",IF($G20=1,DEC!I20,0),IF($G20=1,IVM!G20,0))","v":0},"MBD",{"$f":"IF($J20=\"ALB\", IF(INTRO!$E$39=\"Non-endemic\", IF($H20<>0, IF($I20=0, $D20*$H20, $D20*($H20-$G20)), 0), $D20*$H20), 0)","v":0},0,null,0,{"$f":"IF($J20=\"MBD\", IF(INTRO!$E$39=\"Non-endemic\", IF($H20<>0, IF($I20=0, $D20*$H20, $D20*($H20-$G20)), 0), $D20*$H20), 0)","v":69296},147378,null,216674,0,0,0,0,0,0,0,147378,983]
[{"$f":"IF(AND(INTRO!$E$37=\"Non-endemic\",INTRO!$E$41=\"Non-endemic\"),\" \",IF(COUNTRY_INFO!A21=0,\" \",COUNTRY_INFO!A21))","v":"Uganda"},{"$f":"IF(AND(INTRO!$E$37=\"Non-endemic\",INTRO!$E$41=\"Non-endemic\"),\" \",IF(COUNTRY_INFO!B21=0,\" \",COUNTRY_INFO!B21))","v":"EASTERN"},{"$f":"IF(AND(INTRO!$E$37=\"Non-endemic\",INTRO!$E$41=\"Non-endemic\"),\" \",IF(COUNTRY_INFO!C21=0,\" \",COUNTRY_INFO!C21))","v":"BUGIRI"},{"$f":"IF(AND(INTRO!$E$37=\"Non-endemic\",INTRO!$E$41=\"Non-endemic\"),0,IF(AND(OR(COUNTRY_INFO!$H21=0,COUNTRY_INFO!$H21=4,COUNTRY_INFO!$H21=99),OR(COUNTRY_INFO!$J21=0,COUNTRY_INFO!$J21=4)),0,COUNTRY_INFO!$E21))","v":63126},{"$f":"IF(AND(INTRO!$E$37=\"Non-endemic\",INTRO!$E$41=\"Non-endemic\"),0,IF(AND(OR(COUNTRY_INFO!$H21=0,COUNTRY_INFO!$H21=4,COUNTRY_INFO!$H21=99),OR(COUNTRY_INFO!$J21=0,COUNTRY_INFO!$J21=4)),0,COUNTRY_INFO!$F21))","v":134253},197379,{"$f":"IF(AND(INTRO!$E$37=\"Non-endemic\",INTRO!$E$41=\"Non-endemic\"),0,COUNTRY_INFO!P21)","v":1},{"$f":"IF(AND(INTRO!$E$37=\"Non-endemic\",INTRO!$E$41=\"Non-endemic\"),0,COUNTRY_INFO!R21)","v":2},{"$f":"IF(INTRO!$E$39=\"Non-endemic\",IF($G21=1,DEC!I21,0),IF($G21=1,IVM!G21,0))","v":365863},"ALB",{"$f":"IF($J21=\"ALB\", IF(INTRO!$E$39=\"Non-endemic\", IF($H21<>0, IF($I21=0, $D21*$H21, $D21*($H21-$G21)), 0), $D21*$H21), 0)","v":126252},134253,null,260505,{"$f":"IF($J21=\"MBD\", IF(INTRO!$E$39=\"Non-endemic\", IF($H21<>0, IF($I21=0, $D21*$H21, $D21*($H21-$G21)), 0), $D21*$H21), 0)","v":0},0,null,0,0,365863,1830,0,134253,672,0,0,0]
[{"$f":"IF(AND(INTRO!$E$37=\"Non-endemic\",INTRO!$E$41=\"Non-endemic\"),\" \",IF(COUNTRY_INFO!A22=0,\" \",COUNTRY_INFO!A22))","v":"Uganda"},{"$f":"IF(AND(INTRO!$E$37=\"Non-endemic\",INTRO!$E$41=\"Non-endemic\"),\" \",IF(COUNTRY_INFO!B22=0,\" \",COUNTRY_INFO!B22))","v":"WESTERN"},{"$f":"IF(AND(INTRO!$E$37=\"Non-endemic\",INTRO!$E$41=\"Non-endemic\"),\" \",IF(COUNTRY_INFO!C22=0,\" \",COUNTRY_INFO!C22))","v":"BUHWEJU"},{"$f":"IF(AND(INTRO!$E$37=\"Non-endemic\",INTRO!$E$41=\"Non-endemic\"),0,IF(AND(OR(COUNTRY_INFO!$H22=0,COUNTRY_INFO!$H22=4,COUNTRY_INFO!$H22=99),OR(COUNTRY_INFO!$J22=0,COUNTRY_INFO!$J22=4)),0,COUNTRY_INFO!$E22))","v":19902},{"$f":"IF(AND(INTRO!$E$37=\"Non-endemic\",INTRO!$E$41=\"Non-endemic\"),0,IF(AND(OR(COUNTRY_INFO!$H22=0,COUNTRY_INFO!$H22=4,COUNTRY_INFO!$H22=99),OR(COUNTRY_INFO!$J22=0,COUNTRY_INFO!$J22=4)),0,COUNTRY_INFO!$F22))","v":42326},62228,{"$f":"IF(AND(INTRO!$E$37=\"Non-endemic\",INTRO!$E$41=\"Non-endemic\"),0,COUNTRY_INFO!P22)","v":0},{"$f":"IF(AND(INTRO!$E$37=\"Non-endemic\",INTRO!$E$41=\"Non-endemic\"),0,COUNTRY_INFO!R22)","v":2},{"$f":"IF(INTRO!$E$39=\"Non-endemic\",IF($G22=1,DEC!I22,0),IF($G22=1,IVM!G22,0))","v":0},"MBD",{"$f":"IF($J22=\"ALB\", IF(INTRO!$E$39=\"Non-endemic\", IF($H22<>0, IF($I22=0, $D22*$H22, $D22*($H22-$G22)), 0), $D22*$H22), 0)","v":0},0,null,0,{"$f":"IF($J22=\"MBD\", IF(INTRO!$E$39=\"Non-endemic\", IF($H22<>0, IF($I22=0, $D22*$H22, $D22*($H22-$G22)), 0), $D22*$H22), 0)","v":39804},84652,null,124456,0,0,0,0,0,0,0,84652,565]
[{"$f":"IF(AND(INTRO!$E$37=\"Non-endemic\",INTRO!$E$41=\"Non-endemic\"),\" \",IF(COUNTRY_INFO!A23=0,\" \",COUNTRY_INFO!A23))","v":"Uganda"},{"$f":"IF(AND(INTRO!$E$37=\"Non-endemic\",INTRO!$E$41=\"Non-endemic\"),\" \",IF(COUNTRY_INFO!B23=0,\" \",COUNTRY_INFO!B23))","v":"CENTRAL"},{"$f":"IF(AND(INTRO!$E$37=\"Non-endemic\",INTRO!$E$41=\"Non-endemic\"),\" \",IF(COUNTRY_INFO!C23=0,\" \",COUNTRY_INFO!C23))","v":"BUIKWE"},{"$f":"IF(AND(INTRO!$E$37=\"Non-endemic\",INTRO!$E$41=\"Non-endemic\"),0,IF(AND(OR(COUNTRY_INFO!$H23=0,COUNTRY_INFO!$H23=4,COUNTRY_INFO!$H23=99),OR(COUNTRY_INFO!$J23=0,COUNTRY_INFO!$J23=4)),0,COUNTRY_INFO!$E23))","v":69697},{"$f":"IF(AND(INTRO!$E$37=\"Non-endemic\",INTRO!$E$41=\"Non-endemic\"),0,IF(AND(OR(COUNTRY_INFO!$H23=0,COUNTRY_INFO!$H23=4,COUNTRY_INFO!$H23=99),OR(COUNTRY_INFO!$J23=0,COUNTRY_INFO!$J23=4)),0,COUNTRY_INFO!$F23))","v":148228},217925,{"$f":"IF(AND(INTRO!$E$37=\"Non-endemic\",INTRO!$E$41=\"Non-endemic\"),0,COUNTRY_INFO!P23)","v":0},{"$f":"IF(AND(INTRO!$E$37=\"Non-endemic\",INTRO!$E$41=\"Non-endemic\"),0,COUNTRY_INFO!R23)","v":2},{"$f":"IF(INTRO!$E$39=\"Non-endemic\",IF($G23=1,DEC!I23,0),IF($G23=1,IVM!G23,0))","v":0},"MBD",{"$f":"IF($J23=\"ALB\", IF(INTRO!$E$39=\"Non-endemic\", IF($H23<>0, IF($I23=0, $D23*$H23, $D23*($H23-$G23)), 0), $D23*$H23), 0)","v":0},0,null,0,{"$f":"IF($J23=\"MBD\", IF(INTRO!$E$39=\"Non-endemic\", IF($H23<>0, IF($I23=0, $D23*$H23, $D23*($H23-$G23)), 0), $D23*$H23), 0)","v":139394},296456,null,435850,0,0,0,0,0,0,0,296456,1977]
[{"$f":"IF(AND(INTRO!$E$37=\"Non-endemic\",INTRO!$E$41=\"Non-endemic\"),\" \",IF(COUNTRY_INFO!A24=0,\" \",COUNTRY_INFO!A24))","v":"Uganda"},{"$f":"IF(AND(INTRO!$E$37=\"Non-endemic\",INTRO!$E$41=\"Non-endemic\"),\" \",IF(COUNTRY_INFO!B24=0,\" \",COUNTRY_INFO!B24))","v":"EASTERN"},{"$f":"IF(AND(INTRO!$E$37=\"Non-endemic\",INTRO!$E$41=\"Non-endemic\"),\" \",IF(COUNTRY_INFO!C24=0,\" \",COUNTRY_INFO!C24))","v":"BUKEDEA"},{"$f":"IF(AND(INTRO!$E$37=\"Non-endemic\",INTRO!$E$41=\"Non-endemic\"),0,IF(AND(OR(COUNTRY_INFO!$H24=0,COUNTRY_INFO!$H24=4,COUNTRY_INFO!$H24=99),OR(COUNTRY_INFO!$J24=0,COUNTRY_INFO!$J24=4)),0,COUNTRY_INFO!$E24))","v":33565},{"$f":"IF(AND(INTRO!$E$37=\"Non-endemic\",INTRO!$E$41=\"Non-endemic\"),0,IF(AND(OR(COUNTRY_INFO!$H24=0,COUNTRY_INFO!$H24=4,COUNTRY_INFO!$H24=99),OR(COUNTRY_INFO!$J24=0,COUNTRY_INFO!$J24=4)),0,COUNTRY_INFO!$F24))","v":71384},104949,{"$f":"IF(AND(INTRO!$E$37=\"Non-endemic\",INTRO!$E$41=\"Non-endemic\"),0,COUNTRY_INFO!P24)","v":0},{"$f":"IF(AND(INTRO!$E$37=\"Non-endemic\",INTRO!$E$41=\"Non-endemic\"),0,COUNTRY_INFO!R24)","v":2},{"$f":"IF(INTRO!$E$39=\"Non-endemic\",IF($G24=1,DEC!I24,0),IF($G24=1,IVM!G24,0))","v":0},"MBD",{"$f":"IF($J24=\"ALB\", IF(INTRO!$E$39=\"Non-endemic\", IF($H24<>0, IF($I24=0, $D24*$H24, $D24*($H24-$G24)), 0), $D24*$H24), 0)","v":0},0,null,0,{"$f":"IF($J24=\"MBD\", IF(INTRO!$E$39=\"Non-endemic\", IF($H24<>0, IF($I24=0, $D24*$H24, $D24*($H24-$G24)), 0), $D24*$H24), 0)","v":67130},142768,null,209898,0,0,0,0,0,0,0,142768,952]
[{"$f":"IF(AND(INTRO!$E$37=\"Non-endemic\",INTRO!$E$41=\"Non-endemic\"),\" \",IF(COUNTRY_INFO!A25=0,\" \",COUNTRY_INFO!A25))","v":"Uganda"},{"$f":"IF(AND(INTRO!$E$37=\"Non-endemic\",INTRO!$E$41=\"Non-endemic\"),\" \",IF(COUNTRY_INFO!B25=0,\" \",COUNTRY_INFO!B25))","v":"CENTRAL"},{"$f":"IF(AND(INTRO!$E$37=\"Non-endemic\",INTRO!$E$41=\"Non-endemic\"),\" \",IF(COUNTRY_INFO!C25=0,\" \",COUNTRY_INFO!C25))","v":"BUKOMANSIMBI"},{"$f":"IF(AND(INTRO!$E$37=\"Non-endemic\",INTRO!$E$41=\"Non-endemic\"),0,IF(AND(OR(COUNTRY_INFO!$H25=0,COUNTRY_INFO!$H25=4,COUNTRY_INFO!$H25=99),OR(COUNTRY_INFO!$J25=0,COUNTRY_INFO!$J25=4)),0,COUNTRY_INFO!$E25))","v":24962},{"$f":"IF(AND(INTRO!$E$37=\"Non-endemic\",INTRO!$E$41=\"Non-endemic\"),0,IF(AND(OR(COUNTRY_INFO!$H25=0,COUNTRY_INFO!$H25=4,COUNTRY_INFO!$H25=99),OR(COUNTRY_INFO!$J25=0,COUNTRY_INFO!$J25=4)),0,COUNTRY_INFO!$F25))","v":53087},78049,{"$f":"IF(AND(INTRO!$E$37=\"Non-endemic\",INTRO!$E$41=\"Non-endemic\"),0,COUNTRY_INFO!P25)","v":0},{"$f":"IF(AND(INTRO!$E$37=\"Non-endemic\",INTRO!$E$41=\"Non-endemic\"),0,COUNTRY_INFO!R25)","v":2},{"$f":"IF(INTRO!$E$39=\"Non-endemic\",IF($G25=1,DEC!I25,0),IF($G25=1,IVM!G25,0))","v":0},"MBD",{"$f":"IF($J25=\"ALB\", IF(INTRO!$E$39=\"Non-endemic\", IF($H25<>0, IF($I25=0, $D25*$H25, $D25*($H25-$G25)), 0), $D25*$H25), 0)","v":0},0,null,0,{"$f":"IF($J25=\"MBD\", IF(INTRO!$E$39=\"Non-endemic\", IF($H25<>0, IF($I25=0, $D25*$H25, $D25*($H25-$G25)), 0), $D25*$H25), 0)","v":49924},106174,null,156098,0,0,0,0,0,0,0,106174,708]
[{"$f":"IF(AND(INTRO!$E$37=\"Non-endemic\",INTRO!$E$41=\"Non-endemic\"),\" \",IF(COUNTRY_INFO!A26=0,\" \",COUNTRY_INFO!A26))","v":"Uganda"},{"$f":"IF(AND(INTRO!$E$37=\"Non-endemic\",INTRO!$E$41=\"Non-endemic\"),\" \",IF(COUNTRY_INFO!B26=0,\" \",COUNTRY_INFO!B26))","v":"EASTERN"},{"$f":"IF(AND(INTRO!$E$37=\"Non-endemic\",INTRO!$E$41=\"Non-endemic\"),\" \",IF(COUNTRY_INFO!C26=0,\" \",COUNTRY_INFO!C26))","v":"BUKWO"},{"$f":"IF(AND(INTRO!$E$37=\"Non-endemic\",INTRO!$E$41=\"Non-endemic\"),0,IF(AND(OR(COUNTRY_INFO!$H26=0,COUNTRY_INFO!$H26=4,COUNTRY_INFO!$H26=99),OR(COUNTRY_INFO!$J26=0,COUNTRY_INFO!$J26=4)),0,COUNTRY_INFO!$E26))","v":14731},{"$f":"IF(AND(INTRO!$E$37=\"Non-endemic\",INTRO!$E$41=\"Non-endemic\"),0,IF(AND(OR(COUNTRY_INFO!$H26=0,COUNTRY_INFO!$H26=4,COUNTRY_INFO!$H26=99),OR(COUNTRY_INFO!$J26=0,COUNTRY_INFO!$J26=4)),0,COUNTRY_INFO!$F26))","v":31329},46060,{"$f":"IF(AND(INTRO!$E$37=\"Non-endemic\",INTRO!$E$41=\"Non-endemic\"),0,COUNTRY_INFO!P26)","v":0},{"$f":"IF(AND(INTRO!$E$37=\"Non-endemic\",INTRO!$E$41=\"Non-endemic\"),0,COUNTRY_INFO!R26)","v":2},{"$f":"IF(INTRO!$E$39=\"Non-endemic\",IF($G26=1,DEC!I26,0),IF($G26=1,IVM!G26,0))","v":0},"MBD",{"$f":"IF($J26=\"ALB\", IF(INTRO!$E$39=\"Non-endemic\", IF($H26<>0, IF($I26=0, $D26*$H26, $D26*($H26-$G26)), 0), $D26*$H26), 0)","v":0},0,null,0,{"$f":"IF($J26=\"MBD\", IF(INTRO!$E$39=\"Non-endemic\", IF($H26<>0, IF($I26=0, $D26*$H26, $D26*($H26-$G26)), 0), $D26*$H26), 0)","v":29462},62658,null,92120,0,0,0,0,0,0,0,62658,418]
[{"$f":"IF(AND(INTRO!$E$37=\"Non-endemic\",INTRO!$E$41=\"Non-endemic\"),\" \",IF(COUNTRY_INFO!A27=0,\" \",COUNTRY_INFO!A27))","v":"Uganda"},{"$f":"IF(AND(INTRO!$E$37=\"Non-endemic\",INTRO!$E$41=\"Non-endemic\"),\" \",IF(COUNTRY_INFO!B27=0,\" \",COUNTRY_INFO!B27))","v":"EASTERN"},{"$f":"IF(AND(INTRO!$E$37=\"Non-endemic\",INTRO!$E$41=\"Non-endemic\"),\" \",IF(COUNTRY_INFO!C27=0,\" \",COUNTRY_INFO!C27))","v":"BULAMBULI"},{"$f":"IF(AND(INTRO!$E$37=\"Non-endemic\",INTRO!$E$41=\"Non-endemic\"),0,IF(AND(OR(COUNTRY_INFO!$H27=0,COUNTRY_INFO!$H27=4,COUNTRY_INFO!$H27=99),OR(COUNTRY_INFO!$J27=0,COUNTRY_INFO!$J27=4)),0,COUNTRY_INFO!$E27))","v":28769},{"$f":"IF(AND(INTRO!$E$37=\"Non-endemic\",INTRO!$E$41=\"Non-endemic\"),0,IF(AND(OR(COUNTRY_INFO!$H27=0,COUNTRY_INFO!$H27=4,COUNTRY_INFO!$H27=99),OR(COUNTRY_INFO!$J27=0,COUNTRY_INFO!$J27=4)),0,COUNTRY_INFO!$F27))","v":61185},89954,{"$f":"IF(AND(INTRO!$E$37=\"Non-endemic\",INTRO!$E$41=\"Non-endemic\"),0,COUNTRY_INFO!P27)","v":0},{"$f":"IF(AND(INTRO!$E$37=\"Non-endemic\",INTRO!$E$41=\"Non-endemic\"),0,COUNTRY_INFO!R27)","v":2},{"$f":"IF(INTRO!$E$39=\"Non-endemic\",IF($G27=1,DEC!I27,0),IF($G27=1,IVM!G27,0))","v":0},"MBD",{"$f":"IF($J27=\"ALB\", IF(INTRO!$E$39=\"Non-endemic\", IF($H27<>0, IF($I27=0, $D27*$H27, $D27*($H27-$G27)), 0), $D27*$H27), 0)","v":0},0,null,0,{"$f":"IF($J27=\"MBD\", IF(INTRO!$E$39=\"Non-endemic\", IF($H27<>0, IF($I27=0, $D27*$H27, $D27*($H27-$G27)), 0), $D27*$H27), 0)","v":57538},122370,null,179908,0,0,0,0,0,0,0,122370,816]
[{"$f":"IF(AND(INTRO!$E$37=\"Non-endemic\",INTRO!$E$41=\"Non-endemic\"),\" \",IF(COUNTRY_INFO!A28=0,\" \",COUNTRY_INFO!A28))","v":"Uganda"},{"$f":"IF(AND(INTRO!$E$37=\"Non-endemic\",INTRO!$E$41=\"Non-endemic\"),\" \",IF(COUNTRY_INFO!B28=0,\" \",COUNTRY_INFO!B28))","v":"WESTERN"},{"$f":"IF(AND(INTRO!$E$37=\"Non-endemic\",INTRO!$E$41=\"Non-endemic\"),\" \",IF(COUNTRY_INFO!C28=0,\" \",COUNTRY_INFO!C28))","v":"BULIISA"},{"$f":"IF(AND(INTRO!$E$37=\"Non-endemic\",INTRO!$E$41=\"Non-endemic\"),0,IF(AND(OR(COUNTRY_INFO!$H28=0,COUNTRY_INFO!$H28=4,COUNTRY_INFO!$H28=99),OR(COUNTRY_INFO!$J28=0,COUNTRY_INFO!$J28=4)),0,COUNTRY_INFO!$E28))","v":20144},{"$f":"IF(AND(INTRO!$E$37=\"Non-endemic\",INTRO!$E$41=\"Non-endemic\"),0,IF(AND(OR(COUNTRY_INFO!$H28=0,COUNTRY_INFO!$H28=4,COUNTRY_INFO!$H28=99),OR(COUNTRY_INFO!$J28=0,COUNTRY_INFO!$J28=4)),0,COUNTRY_INFO!$F28))","v":42841},62985,{"$f":"IF(AND(INTRO!$E$37=\"Non-endemic\",INTRO!$E$41=\"Non-endemic\"),0,COUNTRY_INFO!P28)","v":0},{"$f":"IF(AND(INTRO!$E$37=\"Non-endemic\",INTRO!$E$41=\"Non-endemic\"),0,COUNTRY_INFO!R28)","v":2},{"$f":"IF(INTRO!$E$39=\"Non-endemic\",IF($G28=1,DEC!I28,0),IF($G28=1,IVM!G28,0))","v":0},"MBD",{"$f":"IF($J28=\"ALB\", IF(INTRO!$E$39=\"Non-endemic\", IF($H28<>0, IF($I28=0, $D28*$H28, $D28*($H28-$G28)), 0), $D28*$H28), 0)","v":0},0,null,0,{"$f":"IF($J28=\"MBD\", IF(INTRO!$E$39=\"Non-endemic\", IF($H28<>0, IF($I28=0, $D28*$H28, $D28*($H28-$G28)), 0), $D28*$H28), 0)","v":40288},85682,null,125970,0,0,0,0,0,0,0,85682,572]
[{"$f":"IF(AND(INTRO!$E$37=\"Non-endemic\",INTRO!$E$41=\"Non-endemic\"),\" \",IF(COUNTRY_INFO!A29=0,\" \",COUNTRY_INFO!A29))","v":"Uganda"},{"$f":"IF(AND(INTRO!$E$37=\"Non-endemic\",INTRO!$E$41=\"Non-endemic\"),\" \",IF(COUNTRY_INFO!B29=0,\" \",COUNTRY_INFO!B29))","v":"WESTERN"},{"$f":"IF(AND(INTRO!$E$37=\"Non-endemic\",INTRO!$E$41=\"Non-endemic\"),\" \",IF(COUNTRY_INFO!C29=0,\" \",COUNTRY_INFO!C29))","v":"BUNDIBUGYO"},{"$f":"IF(AND(INTRO!$E$37=\"Non-endemic\",INTRO!$E$41=\"Non-endemic\"),0,IF(AND(OR(COUNTRY_INFO!$H29=0,COUNTRY_INFO!$H29=4,COUNTRY_INFO!$H29=99),OR(COUNTRY_INFO!$J29=0,COUNTRY_INFO!$J29=4)),0,COUNTRY_INFO!$E29))","v":36992},{"$f":"IF(AND(INTRO!$E$37=\"Non-endemic\",INTRO!$E$41=\"Non-endemic\"),0,IF(AND(OR(COUNTRY_INFO!$H29=0,COUNTRY_INFO!$H29=4,COUNTRY_INFO!$H29=99),OR(COUNTRY_INFO!$J29=0,COUNTRY_INFO!$J29=4)),0,COUNTRY_INFO!$F29))","v":78673},115665,{"$f":"IF(AND(INTRO!$E$37=\"Non-endemic\",INTRO!$E$41=\"Non-endemic\"),0,COUNTRY_INFO!P29)","v":0},{"$f":"IF(AND(INTRO!$E$37=\"Non-endemic\",INTRO!$E$41=\"Non-endemic\"),0,COUNTRY_INFO!R29)","v":2},{"$f":"IF(INTRO!$E$39=\"Non-endemic\",IF($G29=1,DEC!I29,0),IF($G29=1,IVM!G29,0))","v":0},"MBD",{"$f":"IF($J29=\"ALB\", IF(INTRO!$E$39=\"Non-endemic\", IF($H29<>0, IF($I29=0, $D29*$H29, $D29*($H29-$G29)), 0), $D29*$H29), 0)","v":0},0,null,0,{"$f":"IF($J29=\"MBD\", IF(INTRO!$E$39=\"Non-endemic\", IF($H29<>0, IF($I29=0, $D29*$H29, $D29*($H29-$G29)), 0), $D29*$H29), 0)","v":73984},157346,null,231330,0,0,0,0,0,0,0,157346,1049]
[{"$f":"IF(AND(INTRO!$E$37=\"Non-endemic\",INTRO!$E$41=\"Non-endemic\"),\" \",IF(COUNTRY_INFO!A30=0,\" \",COUNTRY_INFO!A30))","v":"Uganda"},{"$f":"IF(AND(INTRO!$E$37=\"Non-endemic\",INTRO!$E$41=\"Non-endemic\"),\" \",IF(COUNTRY_INFO!B30=0,\" \",COUNTRY_INFO!B30))","v":"Western"},{"$f":"IF(AND(INTRO!$E$37=\"Non-endemic\",INTRO!$E$41=\"Non-endemic\"),\" \",IF(COUNTRY_INFO!C30=0,\" \",COUNTRY_INFO!C30))","v":"Bunyangabu"},{"$f":"IF(AND(INTRO!$E$37=\"Non-endemic\",INTRO!$E$41=\"Non-endemic\"),0,IF(AND(OR(COUNTRY_INFO!$H30=0,COUNTRY_INFO!$H30=4,COUNTRY_INFO!$H30=99),OR(COUNTRY_INFO!$J30=0,COUNTRY_INFO!$J30=4)),0,COUNTRY_INFO!$E30))","v":30891},{"$f":"IF(AND(INTRO!$E$37=\"Non-endemic\",INTRO!$E$41=\"Non-endemic\"),0,IF(AND(OR(COUNTRY_INFO!$H30=0,COUNTRY_INFO!$H30=4,COUNTRY_INFO!$H30=99),OR(COUNTRY_INFO!$J30=0,COUNTRY_INFO!$J30=4)),0,COUNTRY_INFO!$F30))","v":65699},96590,{"$f":"IF(AND(INTRO!$E$37=\"Non-endemic\",INTRO!$E$41=\"Non-endemic\"),0,COUNTRY_INFO!P30)","v":0},{"$f":"IF(AND(INTRO!$E$37=\"Non-endemic\",INTRO!$E$41=\"Non-endemic\"),0,COUNTRY_INFO!R30)","v":2},{"$f":"IF(INTRO!$E$39=\"Non-endemic\",IF($G30=1,DEC!I30,0),IF($G30=1,IVM!G30,0))","v":0},"MBD",{"$f":"IF($J30=\"ALB\", IF(INTRO!$E$39=\"Non-endemic\", IF($H30<>0, IF($I30=0, $D30*$H30, $D30*($H30-$G30)), 0), $D30*$H30), 0)","v":0},0,null,0,{"$f":"IF($J30=\"MBD\", IF(INTRO!$E$39=\"Non-endemic\", IF($H30<>0, IF($I30=0, $D30*$H30, $D30*($H30-$G30)), 0), $D30*$H30), 0)","v":61782},131398,null,193180,0,0,0,0,0,0,0,131398,876]
[{"$f":"IF(AND(INTRO!$E$37=\"Non-endemic\",INTRO!$E$41=\"Non-endemic\"),\" \",IF(COUNTRY_INFO!A31=0,\" \",COUNTRY_INFO!A31))","v":"Uganda"},{"$f":"IF(AND(INTRO!$E$37=\"Non-endemic\",INTRO!$E$41=\"Non-endemic\"),\" \",IF(COUNTRY_INFO!B31=0,\" \",COUNTRY_INFO!B31))","v":"WESTERN"},{"$f":"IF(AND(INTRO!$E$37=\"Non-endemic\",INTRO!$E$41=\"Non-endemic\"),\" \",IF(COUNTRY_INFO!C31=0,\" \",COUNTRY_INFO!C31))","v":"BUSHENYI"},{"$f":"IF(AND(INTRO!$E$37=\"Non-endemic\",INTRO!$E$41=\"Non-endemic\"),0,IF(AND(OR(COUNTRY_INFO!$H31=0,COUNTRY_INFO!$H31=4,COUNTRY_INFO!$H31=99),OR(COUNTRY_INFO!$J31=0,COUNTRY_INFO!$J31=4)),0,COUNTRY_INFO!$E31))","v":38649},{"$f":"IF(AND(INTRO!$E$37=\"Non-endemic\",INTRO!$E$41=\"Non-endemic\"),0,IF(AND(OR(COUNTRY_INFO!$H31=0,COUNTRY_INFO!$H31=4,COUNTRY_INFO!$H31=99),OR(COUNTRY_INFO!$J31=0,COUNTRY_INFO!$J31=4)),0,COUNTRY_INFO!$F31))","v":82197},120846,{"$f":"IF(AND(INTRO!$E$37=\"Non-endemic\",INTRO!$E$41=\"Non-endemic\"),0,COUNTRY_INFO!P31)","v":0},{"$f":"IF(AND(INTRO!$E$37=\"Non-endemic\",INTRO!$E$41=\"Non-endemic\"),0,COUNTRY_INFO!R31)","v":2},{"$f":"IF(INTRO!$E$39=\"Non-endemic\",IF($G31=1,DEC!I31,0),IF($G31=1,IVM!G31,0))","v":0},"MBD",{"$f":"IF($J31=\"ALB\", IF(INTRO!$E$39=\"Non-endemic\", IF($H31<>0, IF($I31=0, $D31*$H31, $D31*($H31-$G31)), 0), $D31*$H31), 0)","v":0},0,null,0,{"$f":"IF($J31=\"MBD\", IF(INTRO!$E$39=\"Non-endemic\", IF($H31<>0, IF($I31=0, $D31*$H31, $D31*($H31-$G31)), 0), $D31*$H31), 0)","v":77298},164394,null,241692,0,0,0,0,0,0,0,164394,1096]
[{"$f":"IF(AND(INTRO!$E$37=\"Non-endemic\",INTRO!$E$41=\"Non-endemic\"),\" \",IF(COUNTRY_INFO!A32=0,\" \",COUNTRY_INFO!A32))","v":"Uganda"},{"$f":"IF(AND(INTRO!$E$37=\"Non-endemic\",INTRO!$E$41=\"Non-endemic\"),\" \",IF(COUNTRY_INFO!B32=0,\" \",COUNTRY_INFO!B32))","v":"EASTERN"},{"$f":"IF(AND(INTRO!$E$37=\"Non-endemic\",INTRO!$E$41=\"Non-endemic\"),\" \",IF(COUNTRY_INFO!C32=0,\" \",COUNTRY_INFO!C32))","v":"BUSIA"},{"$f":"IF(AND(INTRO!$E$37=\"Non-endemic\",INTRO!$E$41=\"Non-endemic\"),0,IF(AND(OR(COUNTRY_INFO!$H32=0,COUNTRY_INFO!$H32=4,COUNTRY_INFO!$H32=99),OR(COUNTRY_INFO!$J32=0,COUNTRY_INFO!$J32=4)),0,COUNTRY_INFO!$E32))","v":53358},{"$f":"IF(AND(INTRO!$E$37=\"Non-endemic\",INTRO!$E$41=\"Non-endemic\"),0,IF(AND(OR(COUNTRY_INFO!$H32=0,COUNTRY_INFO!$H32=4,COUNTRY_INFO!$H32=99),OR(COUNTRY_INFO!$J32=0,COUNTRY_INFO!$J32=4)),0,COUNTRY_INFO!$F32))","v":113480},166838,{"$f":"IF(AND(INTRO!$E$37=\"Non-endemic\",INTRO!$E$41=\"Non-endemic\"),0,COUNTRY_INFO!P32)","v":0},{"$f":"IF(AND(INTRO!$E$37=\"Non-endemic\",INTRO!$E$41=\"Non-endemic\"),0,COUNTRY_INFO!R32)","v":2},{"$f":"IF(INTRO!$E$39=\"Non-endemic\",IF($G32=1,DEC!I32,0),IF($G32=1,IVM!G32,0))","v":0},"MBD",{"$f":"IF($J32=\"ALB\", IF(INTRO!$E$39=\"Non-endemic\", IF($H32<>0, IF($I32=0, $D32*$H32, $D32*($H32-$G32)), 0), $D32*$H32), 0)","v":0},0,null,0,{"$f":"IF($J32=\"MBD\", IF(INTRO!$E$39=\"Non-endemic\", IF($H32<>0, IF($I32=0, $D32*$H32, $D32*($H32-$G32)), 0), $D32*$H32), 0)","v":106716},226960,null,333676,0,0,0,0,0,0,0,226960,1514]
[{"$f":"IF(AND(INTRO!$E$37=\"Non-endemic\",INTRO!$E$41=\"Non-endemic\"),\" \",IF(COUNTRY_INFO!A33=0,\" \",COUNTRY_INFO!A33))","v":"Uganda"},{"$f":"IF(AND(INTRO!$E$37=\"Non-endemic\",INTRO!$E$41=\"Non-endemic\"),\" \",IF(COUNTRY_INFO!B33=0,\" \",COUNTRY_INFO!B33))","v":"EASTERN"},{"$f":"IF(AND(INTRO!$E$37=\"Non-endemic\",INTRO!$E$41=\"Non-endemic\"),\" \",IF(COUNTRY_INFO!C33=0,\" \",COUNTRY_INFO!C33))","v":"BUTALEJA"},{"$f":"IF(AND(INTRO!$E$37=\"Non-endemic\",INTRO!$E$41=\"Non-endemic\"),0,IF(AND(OR(COUNTRY_INFO!$H33=0,COUNTRY_INFO!$H33=4,COUNTRY_INFO!$H33=99),OR(COUNTRY_INFO!$J33=0,COUNTRY_INFO!$J33=4)),0,COUNTRY_INFO!$E33))","v":40250},{"$f":"IF(AND(INTRO!$E$37=\"Non-endemic\",INTRO!$E$41=\"Non-endemic\"),0,IF(AND(OR(COUNTRY_INFO!$H33=0,COUNTRY_INFO!$H33=4,COUNTRY_INFO!$H33=99),OR(COUNTRY_INFO!$J33=0,COUNTRY_INFO!$J33=4)),0,COUNTRY_INFO!$F33))","v":85603},125853,{"$f":"IF(AND(INTRO!$E$37=\"Non-endemic\",INTRO!$E$41=\"Non-endemic\"),0,COUNTRY_INFO!P33)","v":0},{"$f":"IF(AND(INTRO!$E$37=\"Non-endemic\",INTRO!$E$41=\"Non-endemic\"),0,COUNTRY_INFO!R33)","v":2},{"$f":"IF(INTRO!$E$39=\"Non-endemic\",IF($G33=1,DEC!I33,0),IF($G33=1,IVM!G33,0))","v":0},"MBD",{"$f":"IF($J33=\"ALB\", IF(INTRO!$E$39=\"Non-endemic\", IF($H33<>0, IF($I33=0, $D33*$H33, $D33*($H33-$G33)), 0), $D33*$H33), 0)","v":0},0,null,0,{"$f":"IF($J33=\"MBD\", IF(INTRO!$E$39=\"Non-endemic\", IF($H33<>0, IF($I33=0, $D33*$H33, $D33*($H33-$G33)), 0), $D33*$H33), 0)","v":80500},171206,null,251706,0,0,0,0,0,0,0,171206,1142]
[{"$f":"IF(AND(INTRO!$E$37=\"Non-endemic\",INTRO!$E$41=\"Non-endemic\"),\" \",IF(COUNTRY_INFO!A34=0,\" \",COUNTRY_INFO!A34))","v":"Uganda"},{"$f":"IF(AND(INTRO!$E$37=\"Non-endemic\",INTRO!$E$41=\"Non-endemic\"),\" \",IF(COUNTRY_INFO!B34=0,\" \",COUNTRY_INFO!B34))","v":"CENTRAL"},{"$f":"IF(AND(INTRO!$E$37=\"Non-endemic\",INTRO!$E$41=\"Non-endemic\"),\" \",IF(COUNTRY_INFO!C34=0,\" \",COUNTRY_INFO!C34))","v":"BUTAMBALA"},{"$f":"IF(AND(INTRO!$E$37=\"Non-endemic\",INTRO!$E$41=\"Non-endemic\"),0,IF(AND(OR(COUNTRY_INFO!$H34=0,COUNTRY_INFO!$H34=4,COUNTRY_INFO!$H34=99),OR(COUNTRY_INFO!$J34=0,COUNTRY_INFO!$J34=4)),0,COUNTRY_INFO!$E34))","v":16624},{"$f":"IF(AND(INTRO!$E$37=\"Non-endemic\",INTRO!$E$41=\"Non-endemic\"),0,IF(AND(OR(COUNTRY_INFO!$H34=0,COUNTRY_INFO!$H34=4,COUNTRY_INFO!$H34=99),OR(COUNTRY_INFO!$J34=0,COUNTRY_INFO!$J34=4)),0,COUNTRY_INFO!$F34))","v":35355},51979,{"$f":"IF(AND(INTRO!$E$37=\"Non-endemic\",INTRO!$E$41=\"Non-endemic\"),0,COUNTRY_INFO!P34)","v":0},{"$f":"IF(AND(INTRO!$E$37=\"Non-endemic\",INTRO!$E$41=\"Non-endemic\"),0,COUNTRY_INFO!R34)","v":2},{"$f":"IF(INTRO!$E$39=\"Non-endemic\",IF($G34=1,DEC!I34,0),IF($G34=1,IVM!G34,0))","v":0},"MBD",{"$f":"IF($J34=\"ALB\", IF(INTRO!$E$39=\"Non-endemic\", IF($H34<>0, IF($I34=0, $D34*$H34, $D34*($H34-$G34)), 0), $D34*$H34), 0)","v":0},0,null,0,{"$f":"IF($J34=\"MBD\", IF(INTRO!$E$39=\"Non-endemic\", IF($H34<>0, IF($I34=0, $D34*$H34, $D34*($H34-$G34)), 0), $D34*$H34), 0)","v":33248},70710,null,103958,0,0,0,0,0,0,0,70710,472]
[{"$f":"IF(AND(INTRO!$E$37=\"Non-endemic\",INTRO!$E$41=\"Non-endemic\"),\" \",IF(COUNTRY_INFO!A35=0,\" \",COUNTRY_INFO!A35))","v":"Uganda"},{"$f":"IF(AND(INTRO!$E$37=\"Non-endemic\",INTRO!$E$41=\"Non-endemic\"),\" \",IF(COUNTRY_INFO!B35=0,\" \",COUNTRY_INFO!B35))","v":"Eastern"},{"$f":"IF(AND(INTRO!$E$37=\"Non-endemic\",INTRO!$E$41=\"Non-endemic\"),\" \",IF(COUNTRY_INFO!C35=0,\" \",COUNTRY_INFO!C35))","v":"BUTEBO"},{"$f":"IF(AND(INTRO!$E$37=\"Non-endemic\",INTRO!$E$41=\"Non-endemic\"),0,IF(AND(OR(COUNTRY_INFO!$H35=0,COUNTRY_INFO!$H35=4,COUNTRY_INFO!$H35=99),OR(COUNTRY_INFO!$J35=0,COUNTRY_INFO!$J35=4)),0,COUNTRY_INFO!$E35))","v":23900},{"$f":"IF(AND(INTRO!$E$37=\"Non-endemic\",INTRO!$E$41=\"Non-endemic\"),0,IF(AND(OR(COUNTRY_INFO!$H35=0,COUNTRY_INFO!$H35=4,COUNTRY_INFO!$H35=99),OR(COUNTRY_INFO!$J35=0,COUNTRY_INFO!$J35=4)),0,COUNTRY_INFO!$F35))","v":50829},74729,{"$f":"IF(AND(INTRO!$E$37=\"Non-endemic\",INTRO!$E$41=\"Non-endemic\"),0,COUNTRY_INFO!P35)","v":0},{"$f":"IF(AND(INTRO!$E$37=\"Non-endemic\",INTRO!$E$41=\"Non-endemic\"),0,COUNTRY_INFO!R35)","v":2},{"$f":"IF(INTRO!$E$39=\"Non-endemic\",IF($G35=1,DEC!I35,0),IF($G35=1,IVM!G35,0))","v":0},"MBD",{"$f":"IF($J35=\"ALB\", IF(INTRO!$E$39=\"Non-endemic\", IF($H35<>0, IF($I35=0, $D35*$H35, $D35*($H35-$G35)), 0), $D35*$H35), 0)","v":0},0,null,0,{"$f":"IF($J35=\"MBD\", IF(INTRO!$E$39=\"Non-endemic\", IF($H35<>0, IF($I35=0, $D35*$H35, $D35*($H35-$G35)), 0), $D35*$H35), 0)","v":47800},101658,null,149458,0,0,0,0,0,0,0,101658,678]
[{"$f":"IF(AND(INTRO!$E$37=\"Non-endemic\",INTRO!$E$41=\"Non-endemic\"),\" \",IF(COUNTRY_INFO!A36=0,\" \",COUNTRY_INFO!A36))","v":"Uganda"},{"$f":"IF(AND(INTRO!$E$37=\"Non-endemic\",INTRO!$E$41=\"Non-endemic\"),\" \",IF(COUNTRY_INFO!B36=0,\" \",COUNTRY_INFO!B36))","v":"CENTRAL"},{"$f":"IF(AND(INTRO!$E$37=\"Non-endemic\",INTRO!$E$41=\"Non-endemic\"),\" \",IF(COUNTRY_INFO!C36=0,\" \",COUNTRY_INFO!C36))","v":"BUVUMA"},{"$f":"IF(AND(INTRO!$E$37=\"Non-endemic\",INTRO!$E$41=\"Non-endemic\"),0,IF(AND(OR(COUNTRY_INFO!$H36=0,COUNTRY_INFO!$H36=4,COUNTRY_INFO!$H36=99),OR(COUNTRY_INFO!$J36=0,COUNTRY_INFO!$J36=4)),0,COUNTRY_INFO!$E36))","v":14819},{"$f":"IF(AND(INTRO!$E$37=\"Non-endemic\",INTRO!$E$41=\"Non-endemic\"),0,IF(AND(OR(COUNTRY_INFO!$H36=0,COUNTRY_INFO!$H36=4,COUNTRY_INFO!$H36=99),OR(COUNTRY_INFO!$J36=0,COUNTRY_INFO!$J36=4)),0,COUNTRY_INFO!$F36))","v":31516},46335,{"$f":"IF(AND(INTRO!$E$37=\"Non-endemic\",INTRO!$E$41=\"Non-endemic\"),0,COUNTRY_INFO!P36)","v":0},{"$f":"IF(AND(INTRO!$E$37=\"Non-endemic\",INTRO!$E$41=\"Non-endemic\"),0,COUNTRY_INFO!R36)","v":2},{"$f":"IF(INTRO!$E$39=\"Non-endemic\",IF($G36=1,DEC!I36,0),IF($G36=1,IVM!G36,0))","v":0},"MBD",{"$f":"IF($J36=\"ALB\", IF(INTRO!$E$39=\"Non-endemic\", IF($H36<>0, IF($I36=0, $D36*$H36, $D36*($H36-$G36)), 0), $D36*$H36), 0)","v":0},0,null,0,{"$f":"IF($J36=\"MBD\", IF(INTRO!$E$39=\"Non-endemic\", IF($H36<>0, IF($I36=0, $D36*$H36, $D36*($H36-$G36)), 0), $D36*$H36), 0)","v":29638},63032,null,92670,0,0,0,0,0,0,0,63032,421]
[{"$f":"IF(AND(INTRO!$E$37=\"Non-endemic\",INTRO!$E$41=\"Non-endemic\"),\" \",IF(COUNTRY_INFO!A37=0,\" \",COUNTRY_INFO!A37))","v":"Uganda"},{"$f":"IF(AND(INTRO!$E$37=\"Non-endemic\",INTRO!$E$41=\"Non-endemic\"),\" \",IF(COUNTRY_INFO!B37=0,\" \",COUNTRY_INFO!B37))","v":"EASTERN"},{"$f":"IF(AND(INTRO!$E$37=\"Non-endemic\",INTRO!$E$41=\"Non-endemic\"),\" \",IF(COUNTRY_INFO!C37=0,\" \",COUNTRY_INFO!C37))","v":"BUYENDE"},{"$f":"IF(AND(INTRO!$E$37=\"Non-endemic\",INTRO!$E$41=\"Non-endemic\"),0,IF(AND(OR(COUNTRY_INFO!$H37=0,COUNTRY_INFO!$H37=4,COUNTRY_INFO!$H37=99),OR(COUNTRY_INFO!$J37=0,COUNTRY_INFO!$J37=4)),0,COUNTRY_INFO!$E37))","v":53260},{"$f":"IF(AND(INTRO!$E$37=\"Non-endemic\",INTRO!$E$41=\"Non-endemic\"),0,IF(AND(OR(COUNTRY_INFO!$H37=0,COUNTRY_INFO!$H37=4,COUNTRY_INFO!$H37=99),OR(COUNTRY_INFO!$J37=0,COUNTRY_INFO!$J37=4)),0,COUNTRY_INFO!$F37))","v":113271},166531,{"$f":"IF(AND(INTRO!$E$37=\"Non-endemic\",INTRO!$E$41=\"Non-endemic\"),0,COUNTRY_INFO!P37)","v":0},{"$f":"IF(AND(INTRO!$E$37=\"Non-endemic\",INTRO!$E$41=\"Non-endemic\"),0,COUNTRY_INFO!R37)","v":2},{"$f":"IF(INTRO!$E$39=\"Non-endemic\",IF($G37=1,DEC!I37,0),IF($G37=1,IVM!G37,0))","v":0},"MBD",{"$f":"IF($J37=\"ALB\", IF(INTRO!$E$39=\"Non-endemic\", IF($H37<>0, IF($I37=0, $D37*$H37, $D37*($H37-$G37)), 0), $D37*$H37), 0)","v":0},0,null,0,{"$f":"IF($J37=\"MBD\", IF(INTRO!$E$39=\"Non-endemic\", IF($H37<>0, IF($I37=0, $D37*$H37, $D37*($H37-$G37)), 0), $D37*$H37), 0)","v":106520},226542,null,333062,0,0,0,0,0,0,0,226542,1511]
[{"$f":"IF(AND(INTRO!$E$37=\"Non-endemic\",INTRO!$E$41=\"Non-endemic\"),\" \",IF(COUNTRY_INFO!A38=0,\" \",COUNTRY_INFO!A38))","v":"Uganda"},{"$f":"IF(AND(INTRO!$E$37=\"Non-endemic\",INTRO!$E$41=\"Non-endemic\"),\" \",IF(COUNTRY_INFO!B38=0,\" \",COUNTRY_INFO!B38))","v":"NORTHERN"},{"$f":"IF(AND(INTRO!$E$37=\"Non-endemic\",INTRO!$E$41=\"Non-endemic\"),\" \",IF(COUNTRY_INFO!C38=0,\" \",COUNTRY_INFO!C38))","v":"DOKOLO"},{"$f":"IF(AND(INTRO!$E$37=\"Non-endemic\",INTRO!$E$41=\"Non-endemic\"),0,IF(AND(OR(COUNTRY_INFO!$H38=0,COUNTRY_INFO!$H38=4,COUNTRY_INFO!$H38=99),OR(COUNTRY_INFO!$J38=0,COUNTRY_INFO!$J38=4)),0,COUNTRY_INFO!$E38))","v":30184},{"$f":"IF(AND(INTRO!$E$37=\"Non-endemic\",INTRO!$E$41=\"Non-endemic\"),0,IF(AND(OR(COUNTRY_INFO!$H38=0,COUNTRY_INFO!$H38=4,COUNTRY_INFO!$H38=99),OR(COUNTRY_INFO!$J38=0,COUNTRY_INFO!$J38=4)),0,COUNTRY_INFO!$F38))","v":64194},94378,{"$f":"IF(AND(INTRO!$E$37=\"Non-endemic\",INTRO!$E$41=\"Non-endemic\"),0,COUNTRY_INFO!P38)","v":0},{"$f":"IF(AND(INTRO!$E$37=\"Non-endemic\",INTRO!$E$41=\"Non-endemic\"),0,COUNTRY_INFO!R38)","v":2},{"$f":"IF(INTRO!$E$39=\"Non-endemic\",IF($G38=1,DEC!I38,0),IF($G38=1,IVM!G38,0))","v":0},"MBD",{"$f":"IF($J38=\"ALB\", IF(INTRO!$E$39=\"Non-endemic\", IF($H38<>0, IF($I38=0, $D38*$H38, $D38*($H38-$G38)), 0), $D38*$H38), 0)","v":0},0,null,0,{"$f":"IF($J38=\"MBD\", IF(INTRO!$E$39=\"Non-endemic\", IF($H38<>0, IF($I38=0, $D38*$H38, $D38*($H38-$G38)), 0), $D38*$H38), 0)","v":60368},128388,null,188756,0,0,0,0,0,0,0,128388,856]
[{"$f":"IF(AND(INTRO!$E$37=\"Non-endemic\",INTRO!$E$41=\"Non-endemic\"),\" \",IF(COUNTRY_INFO!A39=0,\" \",COUNTRY_INFO!A39))","v":"Uganda"},{"$f":"IF(AND(INTRO!$E$37=\"Non-endemic\",INTRO!$E$41=\"Non-endemic\"),\" \",IF(COUNTRY_INFO!B39=0,\" \",COUNTRY_INFO!B39))","v":"CENTRAL"},{"$f":"IF(AND(INTRO!$E$37=\"Non-endemic\",INTRO!$E$41=\"Non-endemic\"),\" \",IF(COUNTRY_INFO!C39=0,\" \",COUNTRY_INFO!C39))","v":"GOMBA"},{"$f":"IF(AND(INTRO!$E$37=\"Non-endemic\",INTRO!$E$41=\"Non-endemic\"),0,IF(AND(OR(COUNTRY_INFO!$H39=0,COUNTRY_INFO!$H39=4,COUNTRY_INFO!$H39=99),OR(COUNTRY_INFO!$J39=0,COUNTRY_INFO!$J39=4)),0,COUNTRY_INFO!$E39))","v":26364},{"$f":"IF(AND(INTRO!$E$37=\"Non-endemic\",INTRO!$E$41=\"Non-endemic\"),0,IF(AND(OR(COUNTRY_INFO!$H39=0,COUNTRY_INFO!$H39=4,COUNTRY_INFO!$H39=99),OR(COUNTRY_INFO!$J39=0,COUNTRY_INFO!$J39=4)),0,COUNTRY_INFO!$F39))","v":56071},82435,{"$f":"IF(AND(INTRO!$E$37=\"Non-endemic\",INTRO!$E$41=\"Non-endemic\"),0,COUNTRY_INFO!P39)","v":0},{"$f":"IF(AND(INTRO!$E$37=\"Non-endemic\",INTRO!$E$41=\"Non-endemic\"),0,COUNTRY_INFO!R39)","v":2},{"$f":"IF(INTRO!$E$39=\"Non-endemic\",IF($G39=1,DEC!I39,0),IF($G39=1,IVM!G39,0))","v":0},"MBD",{"$f":"IF($J39=\"ALB\", IF(INTRO!$E$39=\"Non-endemic\", IF($H39<>0, IF($I39=0, $D39*$H39, $D39*($H39-$G39)), 0), $D39*$H39), 0)","v":0},0,null,0,{"$f":"IF($J39=\"MBD\", IF(INTRO!$E$39=\"Non-endemic\", IF($H39<>0, IF($I39=0, $D39*$H39, $D39*($H39-$G39)), 0), $D39*$H39), 0)","v":52728},112142,null,164870,0,0,0,0,0,0,0,112142,748]
[{"$f":"IF(AND(INTRO!$E$37=\"Non-endemic\",INTRO!$E$41=\"Non-endemic\"),\" \",IF(COUNTRY_INFO!A40=0,\" \",COUNTRY_INFO!A40))","v":"Uganda"},{"$f":"IF(AND(INTRO!$E$37=\"Non-endemic\",INTRO!$E$41=\"Non-endemic\"),\" \",IF(COUNTRY_INFO!B40=0,\" \",COUNTRY_INFO!B40))","v":"NORTHERN"},{"$f":"IF(AND(INTRO!$E$37=\"Non-endemic\",INTRO!$E$41=\"Non-endemic\"),\" \",IF(COUNTRY_INFO!C40=0,\" \",COUNTRY_INFO!C40))","v":"GULU"},{"$f":"IF(AND(INTRO!$E$37=\"Non-endemic\",INTRO!$E$41=\"Non-endemic\"),0,IF(AND(OR(COUNTRY_INFO!$H40=0,COUNTRY_INFO!$H40=4,COUNTRY_INFO!$H40=99),OR(COUNTRY_INFO!$J40=0,COUNTRY_INFO!$J40=4)),0,COUNTRY_INFO!$E40))","v":45437},{"$f":"IF(AND(INTRO!$E$37=\"Non-endemic\",INTRO!$E$41=\"Non-endemic\"),0,IF(AND(OR(COUNTRY_INFO!$H40=0,COUNTRY_INFO!$H40=4,COUNTRY_INFO!$H40=99),OR(COUNTRY_INFO!$J40=0,COUNTRY_INFO!$J40=4)),0,COUNTRY_INFO!$F40))","v":96633},142070,{"$f":"IF(AND(INTRO!$E$37=\"Non-endemic\",INTRO!$E$41=\"Non-endemic\"),0,COUNTRY_INFO!P40)","v":1},{"$f":"IF(AND(INTRO!$E$37=\"Non-endemic\",INTRO!$E$41=\"Non-endemic\"),0,COUNTRY_INFO!R40)","v":2},{"$f":"IF(INTRO!$E$39=\"Non-endemic\",IF($G40=1,DEC!I40,0),IF($G40=1,IVM!G40,0))","v":263340},"ALB",{"$f":"IF($J40=\"ALB\", IF(INTRO!$E$39=\"Non-endemic\", IF($H40<>0, IF($I40=0, $D40*$H40, $D40*($H40-$G40)), 0), $D40*$H40), 0)","v":90874},96633,null,187507,{"$f":"IF($J40=\"MBD\", IF(INTRO!$E$39=\"Non-endemic\", IF($H40<>0, IF($I40=0, $D40*$H40, $D40*($H40-$G40)), 0), $D40*$H40), 0)","v":0},0,null,0,0,263340,1317,0,96633,484,0,0,0]
[{"$f":"IF(AND(INTRO!$E$37=\"Non-endemic\",INTRO!$E$41=\"Non-endemic\"),\" \",IF(COUNTRY_INFO!A41=0,\" \",COUNTRY_INFO!A41))","v":"Uganda"},{"$f":"IF(AND(INTRO!$E$37=\"Non-endemic\",INTRO!$E$41=\"Non-endemic\"),\" \",IF(COUNTRY_INFO!B41=0,\" \",COUNTRY_INFO!B41))","v":"WESTERN"},{"$f":"IF(AND(INTRO!$E$37=\"Non-endemic\",INTRO!$E$41=\"Non-endemic\"),\" \",IF(COUNTRY_INFO!C41=0,\" \",COUNTRY_INFO!C41))","v":"HOIMA"},{"$f":"IF(AND(INTRO!$E$37=\"Non-endemic\",INTRO!$E$41=\"Non-endemic\"),0,IF(AND(OR(COUNTRY_INFO!$H41=0,COUNTRY_INFO!$H41=4,COUNTRY_INFO!$H41=99),OR(COUNTRY_INFO!$J41=0,COUNTRY_INFO!$J41=4)),0,COUNTRY_INFO!$E41))","v":94461},{"$f":"IF(AND(INTRO!$E$37=\"Non-endemic\",INTRO!$E$41=\"Non-endemic\"),0,IF(AND(OR(COUNTRY_INFO!$H41=0,COUNTRY_INFO!$H41=4,COUNTRY_INFO!$H41=99),OR(COUNTRY_INFO!$J41=0,COUNTRY_INFO!$J41=4)),0,COUNTRY_INFO!$F41))","v":200895},{"$f":"SUM(D41:E41)","v":295356},{"$f":"IF(AND(INTRO!$E$37=\"Non-endemic\",INTRO!$E$41=\"Non-endemic\"),0,COUNTRY_INFO!P41)","v":0},{"$f":"IF(AND(INTRO!$E$37=\"Non-endemic\",INTRO!$E$41=\"Non-endemic\"),0,COUNTRY_INFO!R41)","v":2},{"$f":"IF(INTRO!$E$39=\"Non-endemic\",IF($G41=1,DEC!I41,0),IF($G41=1,IVM!G41,0))","v":0},"MBD",{"$f":"IF($J41=\"ALB\", IF(INTRO!$E$39=\"Non-endemic\", IF($H41<>0, IF($I41=0, $D41*$H41, $D41*($H41-$G41)), 0), $D41*$H41), 0)","v":0},{"$f":"IF($J41=\"ALB\", IF($H41<>0, IF($I41=0, $E41*$H41, $E41*($H41-$G41)),0), 0)","v":0},null,{"$f":"SUM(K41:M41)","v":0},{"$f":"IF($J41=\"MBD\", IF(INTRO!$E$39=\"Non-endemic\", IF($H41<>0, IF($I41=0, $D41*$H41, $D41*($H41-$G41)), 0), $D41*$H41), 0)","v":188922},{"$f":"IF($J41=\"MBD\", IF($H41<>0,IF($I41=0, $E41*$H41, $E41*($H41-$G41)),0), 0 )","v":401790},null,{"$f":"SUM(O41:Q41)","v":590712},0,{"$f":"IF($I41>$S41, $I41-$S41,0)","v":0},{"$f":"ROUNDUP($I41/200,0)","v":0},0,{"$f":"IF($L41>$V41,$L41-$V41,0)","v":0},{"$f":"ROUNDUP($L41/200,0)","v":0},0,{"$f":"IF($P41>$Y41,$P41-$Y41,0)","v":401790},{"$f":"ROUNDUP($P41/150,0)","v":2679}]
[{"$f":"IF(AND(INTRO!$E$37=\"Non-endemic\",INTRO!$E$41=\"Non-endemic\"),\" \",IF(COUNTRY_INFO!A42=0,\" \",COUNTRY_INFO!A42))","v":"Uganda"},{"$f":"IF(AND(INTRO!$E$37=\"Non-endemic\",INTRO!$E$41=\"Non-endemic\"),\" \",IF(COUNTRY_INFO!B42=0,\" \",COUNTRY_INFO!B42))","v":"WESTERN"},{"$f":"IF(AND(INTRO!$E$37=\"Non-endemic\",INTRO!$E$41=\"Non-endemic\"),\" \",IF(COUNTRY_INFO!C42=0,\" \",COUNTRY_INFO!C42))","v":"IBANDA"},{"$f":"IF(AND(INTRO!$E$37=\"Non-endemic\",INTRO!$E$41=\"Non-endemic\"),0,IF(AND(OR(COUNTRY_INFO!$H42=0,COUNTRY_INFO!$H42=4,COUNTRY_INFO!$H42=99),OR(COUNTRY_INFO!$J42=0,COUNTRY_INFO!$J42=4)),0,COUNTRY_INFO!$E42))","v":41152},{"$f":"IF(AND(INTRO!$E$37=\"Non-endemic\",INTRO!$E$41=\"Non-endemic\"),0,IF(AND(OR(COUNTRY_INFO!$H42=0,COUNTRY_INFO!$H42=4,COUNTRY_INFO!$H42=99),OR(COUNTRY_INFO!$J42=0,COUNTRY_INFO!$J42=4)),0,COUNTRY_INFO!$F42))","v":87521},128673,{"$f":"IF(AND(INTRO!$E$37=\"Non-endemic\",INTRO!$E$41=\"Non-endemic\"),0,COUNTRY_INFO!P42)","v":0},{"$f":"IF(AND(INTRO!$E$37=\"Non-endemic\",INTRO!$E$41=\"Non-endemic\"),0,COUNTRY_INFO!R42)","v":2},{"$f":"IF(INTRO!$E$39=\"Non-endemic\",IF($G42=1,DEC!I42,0),IF($G42=1,IVM!G42,0))","v":0},"MBD",{"$f":"IF($J42=\"ALB\", IF(INTRO!$E$39=\"Non-endemic\", IF($H42<>0, IF($I42=0, $D42*$H42, $D42*($H42-$G42)), 0), $D42*$H42), 0)","v":0},0,null,0,{"$f":"IF($J42=\"MBD\", IF(INTRO!$E$39=\"Non-endemic\", IF($H42<>0, IF($I42=0, $D42*$H42, $D42*($H42-$G42)), 0), $D42*$H42), 0)","v":82304},175042,null,257346,0,0,0,0,0,0,0,175042,1167]
[{"$f":"IF(AND(INTRO!$E$37=\"Non-endemic\",INTRO!$E$41=\"Non-endemic\"),\" \",IF(COUNTRY_INFO!A43=0,\" \",COUNTRY_INFO!A43))","v":"Uganda"},{"$f":"IF(AND(INTRO!$E$37=\"Non-endemic\",INTRO!$E$41=\"Non-endemic\"),\" \",IF(COUNTRY_INFO!B43=0,\" \",COUNTRY_INFO!B43))","v":"EASTERN"},{"$f":"IF(AND(INTRO!$E$37=\"Non-endemic\",INTRO!$E$41=\"Non-endemic\"),\" \",IF(COUNTRY_INFO!C43=0,\" \",COUNTRY_INFO!C43))","v":"IGANGA"},{"$f":"IF(AND(INTRO!$E$37=\"Non-endemic\",INTRO!$E$41=\"Non-endemic\"),0,IF(AND(OR(COUNTRY_INFO!$H43=0,COUNTRY_INFO!$H43=4,COUNTRY_INFO!$H43=99),OR(COUNTRY_INFO!$J43=0,COUNTRY_INFO!$J43=4)),0,COUNTRY_INFO!$E43))","v":83120},{"$f":"IF(AND(INTRO!$E$37=\"Non-endemic\",INTRO!$E$41=\"Non-endemic\"),0,IF(AND(OR(COUNTRY_INFO!$H43=0,COUNTRY_INFO!$H43=4,COUNTRY_INFO!$H43=99),OR(COUNTRY_INFO!$J43=0,COUNTRY_INFO!$J43=4)),0,COUNTRY_INFO!$F43))","v":176777},259897,{"$f":"IF(AND(INTRO!$E$37=\"Non-endemic\",INTRO!$E$41=\"Non-endemic\"),0,COUNTRY_INFO!P43)","v":0},{"$f":"IF(AND(INTRO!$E$37=\"Non-endemic\",INTRO!$E$41=\"Non-endemic\"),0,COUNTRY_INFO!R43)","v":2},{"$f":"IF(INTRO!$E$39=\"Non-endemic\",IF($G43=1,DEC!I43,0),IF($G43=1,IVM!G43,0))","v":0},"MBD",{"$f":"IF($J43=\"ALB\", IF(INTRO!$E$39=\"Non-endemic\", IF($H43<>0, IF($I43=0, $D43*$H43, $D43*($H43-$G43)), 0), $D43*$H43), 0)","v":0},0,null,0,{"$f":"IF($J43=\"MBD\", IF(INTRO!$E$39=\"Non-endemic\", IF($H43<>0, IF($I43=0, $D43*$H43, $D43*($H43-$G43)), 0), $D43*$H43), 0)","v":166240},353554,null,519794,0,0,0,0,0,0,0,353554,2358]
[{"$f":"IF(AND(INTRO!$E$37=\"Non-endemic\",INTRO!$E$41=\"Non-endemic\"),\" \",IF(COUNTRY_INFO!A44=0,\" \",COUNTRY_INFO!A44))","v":"Uganda"},{"$f":"IF(AND(INTRO!$E$37=\"Non-endemic\",INTRO!$E$41=\"Non-endemic\"),\" \",IF(COUNTRY_INFO!B44=0,\" \",COUNTRY_INFO!B44))","v":"WESTERN"},{"$f":"IF(AND(INTRO!$E$37=\"Non-endemic\",INTRO!$E$41=\"Non-endemic\"),\" \",IF(COUNTRY_INFO!C44=0,\" \",COUNTRY_INFO!C44))","v":"ISINGIRO"},{"$f":"IF(AND(INTRO!$E$37=\"Non-endemic\",INTRO!$E$41=\"Non-endemic\"),0,IF(AND(OR(COUNTRY_INFO!$H44=0,COUNTRY_INFO!$H44=4,COUNTRY_INFO!$H44=99),OR(COUNTRY_INFO!$J44=0,COUNTRY_INFO!$J44=4)),0,COUNTRY_INFO!$E44))","v":80180},{"$f":"IF(AND(INTRO!$E$37=\"Non-endemic\",INTRO!$E$41=\"Non-endemic\"),0,IF(AND(OR(COUNTRY_INFO!$H44=0,COUNTRY_INFO!$H44=4,COUNTRY_INFO!$H44=99),OR(COUNTRY_INFO!$J44=0,COUNTRY_INFO!$J44=4)),0,COUNTRY_INFO!$F44))","v":170523},250703,{"$f":"IF(AND(INTRO!$E$37=\"Non-endemic\",INTRO!$E$41=\"Non-endemic\"),0,COUNTRY_INFO!P44)","v":0},{"$f":"IF(AND(INTRO!$E$37=\"Non-endemic\",INTRO!$E$41=\"Non-endemic\"),0,COUNTRY_INFO!R44)","v":2},{"$f":"IF(INTRO!$E$39=\"Non-endemic\",IF($G44=1,DEC!I44,0),IF($G44=1,IVM!G44,0))","v":0},"MBD",{"$f":"IF($J44=\"ALB\", IF(INTRO!$E$39=\"Non-endemic\", IF($H44<>0, IF($I44=0, $D44*$H44, $D44*($H44-$G44)), 0), $D44*$H44), 0)","v":0},0,null,0,{"$f":"IF($J44=\"MBD\", IF(INTRO!$E$39=\"Non-endemic\", IF($H44<>0, IF($I44=0, $D44*$H44, $D44*($H44-$G44)), 0), $D44*$H44), 0)","v":160360},341046,null,501406,0,0,0,0,0,0,0,341046,2274]
[{"$f":"IF(AND(INTRO!$E$37=\"Non-endemic\",INTRO!$E$41=\"Non-endemic\"),\" \",IF(COUNTRY_INFO!A45=0,\" \",COUNTRY_INFO!A45))","v":"Uganda"},{"$f":"IF(AND(INTRO!$E$37=\"Non-endemic\",INTRO!$E$41=\"Non-endemic\"),\" \",IF(COUNTRY_INFO!B45=0,\" \",COUNTRY_INFO!B45))","v":"EASTERN"},{"$f":"IF(AND(INTRO!$E$37=\"Non-endemic\",INTRO!$E$41=\"Non-endemic\"),\" \",IF(COUNTRY_INFO!C45=0,\" \",COUNTRY_INFO!C45))","v":"JINJA"},{"$f":"IF(AND(INTRO!$E$37=\"Non-endemic\",INTRO!$E$41=\"Non-endemic\"),0,IF(AND(OR(COUNTRY_INFO!$H45=0,COUNTRY_INFO!$H45=4,COUNTRY_INFO!$H45=99),OR(COUNTRY_INFO!$J45=0,COUNTRY_INFO!$J45=4)),0,COUNTRY_INFO!$E45))","v":77687},{"$f":"IF(AND(INTRO!$E$37=\"Non-endemic\",INTRO!$E$41=\"Non-endemic\"),0,IF(AND(OR(COUNTRY_INFO!$H45=0,COUNTRY_INFO!$H45=4,COUNTRY_INFO!$H45=99),OR(COUNTRY_INFO!$J45=0,COUNTRY_INFO!$J45=4)),0,COUNTRY_INFO!$F45))","v":165222},242909,{"$f":"IF(AND(INTRO!$E$37=\"Non-endemic\",INTRO!$E$41=\"Non-endemic\"),0,COUNTRY_INFO!P45)","v":0},{"$f":"IF(AND(INTRO!$E$37=\"Non-endemic\",INTRO!$E$41=\"Non-endemic\"),0,COUNTRY_INFO!R45)","v":2},{"$f":"IF(INTRO!$E$39=\"Non-endemic\",IF($G45=1,DEC!I45,0),IF($G45=1,IVM!G45,0))","v":0},"MBD",{"$f":"IF($J45=\"ALB\", IF(INTRO!$E$39=\"Non-endemic\", IF($H45<>0, IF($I45=0, $D45*$H45, $D45*($H45-$G45)), 0), $D45*$H45), 0)","v":0},0,null,0,{"$f":"IF($J45=\"MBD\", IF(INTRO!$E$39=\"Non-endemic\", IF($H45<>0, IF($I45=0, $D45*$H45, $D45*($H45-$G45)), 0), $D45*$H45), 0)","v":155374},330444,null,485818,0,0,0,0,0,0,0,330444,2203]
[{"$f":"IF(AND(INTRO!$E$37=\"Non-endemic\",INTRO!$E$41=\"Non-endemic\"),\" \",IF(COUNTRY_INFO!A46=0,\" \",COUNTRY_INFO!A46))","v":"Uganda"},{"$f":"IF(AND(INTRO!$E$37=\"Non-endemic\",INTRO!$E$41=\"Non-endemic\"),\" \",IF(COUNTRY_INFO!B46=0,\" \",COUNTRY_INFO!B46))","v":"NORTHERN"},{"$f":"IF(AND(INTRO!$E$37=\"Non-endemic\",INTRO!$E$41=\"Non-endemic\"),\" \",IF(COUNTRY_INFO!C46=0,\" \",COUNTRY_INFO!C46))","v":"KAABONG"},{"$f":"IF(AND(INTRO!$E$37=\"Non-endemic\",INTRO!$E$41=\"Non-endemic\"),0,IF(AND(OR(COUNTRY_INFO!$H46=0,COUNTRY_INFO!$H46=4,COUNTRY_INFO!$H46=99),OR(COUNTRY_INFO!$J46=0,COUNTRY_INFO!$J46=4)),0,COUNTRY_INFO!$E46))","v":27676},{"$f":"IF(AND(INTRO!$E$37=\"Non-endemic\",INTRO!$E$41=\"Non-endemic\"),0,IF(AND(OR(COUNTRY_INFO!$H46=0,COUNTRY_INFO!$H46=4,COUNTRY_INFO!$H46=99),OR(COUNTRY_INFO!$J46=0,COUNTRY_INFO!$J46=4)),0,COUNTRY_INFO!$F46))","v":58860},86536,{"$f":"IF(AND(INTRO!$E$37=\"Non-endemic\",INTRO!$E$41=\"Non-endemic\"),0,COUNTRY_INFO!P46)","v":0},{"$f":"IF(AND(INTRO!$E$37=\"Non-endemic\",INTRO!$E$41=\"Non-endemic\"),0,COUNTRY_INFO!R46)","v":2},{"$f":"IF(INTRO!$E$39=\"Non-endemic\",IF($G46=1,DEC!I46,0),IF($G46=1,IVM!G46,0))","v":0},"MBD",{"$f":"IF($J46=\"ALB\", IF(INTRO!$E$39=\"Non-endemic\", IF($H46<>0, IF($I46=0, $D46*$H46, $D46*($H46-$G46)), 0), $D46*$H46), 0)","v":0},0,null,0,{"$f":"IF($J46=\"MBD\", IF(INTRO!$E$39=\"Non-endemic\", IF($H46<>0, IF($I46=0, $D46*$H46, $D46*($H46-$G46)), 0), $D46*$H46), 0)","v":55352},117720,null,173072,0,0,0,0,0,0,0,117720,785]
[{"$f":"IF(AND(INTRO!$E$37=\"Non-endemic\",INTRO!$E$41=\"Non-endemic\"),\" \",IF(COUNTRY_INFO!A47=0,\" \",COUNTRY_INFO!A47))","v":"Uganda"},{"$f":"IF(AND(INTRO!$E$37=\"Non-endemic\",INTRO!$E$41=\"Non-endemic\"),\" \",IF(COUNTRY_INFO!B47=0,\" \",COUNTRY_INFO!B47))","v":"WESTERN"},{"$f":"IF(AND(INTRO!$E$37=\"Non-endemic\",INTRO!$E$41=\"Non-endemic\"),\" \",IF(COUNTRY_INFO!C47=0,\" \",COUNTRY_INFO!C47))","v":"KABALE"},{"$f":"IF(AND(INTRO!$E$37=\"Non-endemic\",INTRO!$E$41=\"Non-endemic\"),0,IF(AND(OR(COUNTRY_INFO!$H47=0,COUNTRY_INFO!$H47=4,COUNTRY_INFO!$H47=99),OR(COUNTRY_INFO!$J47=0,COUNTRY_INFO!$J47=4)),0,COUNTRY_INFO!$E47))","v":38017},{"$f":"IF(AND(INTRO!$E$37=\"Non-endemic\",INTRO!$E$41=\"Non-endemic\"),0,IF(AND(OR(COUNTRY_INFO!$H47=0,COUNTRY_INFO!$H47=4,COUNTRY_INFO!$H47=99),OR(COUNTRY_INFO!$J47=0,COUNTRY_INFO!$J47=4)),0,COUNTRY_INFO!$F47))","v":80854},118871,{"$f":"IF(AND(INTRO!$E$37=\"Non-endemic\",INTRO!$E$41=\"Non-endemic\"),0,COUNTRY_INFO!P47)","v":0},{"$f":"IF(AND(INTRO!$E$37=\"Non-endemic\",INTRO!$E$41=\"Non-endemic\"),0,COUNTRY_INFO!R47)","v":2},{"$f":"IF(INTRO!$E$39=\"Non-endemic\",IF($G47=1,DEC!I47,0),IF($G47=1,IVM!G47,0))","v":0},"MBD",{"$f":"IF($J47=\"ALB\", IF(INTRO!$E$39=\"Non-endemic\", IF($H47<>0, IF($I47=0, $D47*$H47, $D47*($H47-$G47)), 0), $D47*$H47), 0)","v":0},0,null,0,{"$f":"IF($J47=\"MBD\", IF(INTRO!$E$39=\"Non-endemic\", IF($H47<>0, IF($I47=0, $D47*$H47, $D47*($H47-$G47)), 0), $D47*$H47), 0)","v":76034},161708,null,237742,0,0,0,0,0,0,0,161708,1079]
[{"$f":"IF(AND(INTRO!$E$37=\"Non-endemic\",INTRO!$E$41=\"Non-endemic\"),\" \",IF(COUNTRY_INFO!A48=0,\" \",COUNTRY_INFO!A48))","v":"Uganda"},{"$f":"IF(AND(INTRO!$E$37=\"Non-endemic\",INTRO!$E$41=\"Non-endemic\"),\" \",IF(COUNTRY_INFO!B48=0,\" \",COUNTRY_INFO!B48))","v":"WESTERN"},{"$f":"IF(AND(INTRO!$E$37=\"Non-endemic\",INTRO!$E$41=\"Non-endemic\"),\" \",IF(COUNTRY_INFO!C48=0,\" \",COUNTRY_INFO!C48))","v":"KABAROLE"},{"$f":"IF(AND(INTRO!$E$37=\"Non-endemic\",INTRO!$E$41=\"Non-endemic\"),0,IF(AND(OR(COUNTRY_INFO!$H48=0,COUNTRY_INFO!$H48=4,COUNTRY_INFO!$H48=99),OR(COUNTRY_INFO!$J48=0,COUNTRY_INFO!$J48=4)),0,COUNTRY_INFO!$E48))","v":46466},{"$f":"IF(AND(INTRO!$E$37=\"Non-endemic\",INTRO!$E$41=\"Non-endemic\"),0,IF(AND(OR(COUNTRY_INFO!$H48=0,COUNTRY_INFO!$H48=4,COUNTRY_INFO!$H48=99),OR(COUNTRY_INFO!$J48=0,COUNTRY_INFO!$J48=4)),0,COUNTRY_INFO!$F48))","v":98821},145287,{"$f":"IF(AND(INTRO!$E$37=\"Non-endemic\",INTRO!$E$41=\"Non-endemic\"),0,COUNTRY_INFO!P48)","v":0},{"$f":"IF(AND(INTRO!$E$37=\"Non-endemic\",INTRO!$E$41=\"Non-endemic\"),0,COUNTRY_INFO!R48)","v":2},{"$f":"IF(INTRO!$E$39=\"Non-endemic\",IF($G48=1,DEC!I48,0),IF($G48=1,IVM!G48,0))","v":0},"MBD",{"$f":"IF($J48=\"ALB\", IF(INTRO!$E$39=\"Non-endemic\", IF($H48<>0, IF($I48=0, $D48*$H48, $D48*($H48-$G48)), 0), $D48*$H48), 0)","v":0},0,null,0,{"$f":"IF($J48=\"MBD\", IF(INTRO!$E$39=\"Non-endemic\", IF($H48<>0, IF($I48=0, $D48*$H48, $D48*($H48-$G48)), 0), $D48*$H48), 0)","v":92932},197642,null,290574,0,0,0,0,0,0,0,197642,1318]
[{"$f":"IF(AND(INTRO!$E$37=\"Non-endemic\",INTRO!$E$41=\"Non-endemic\"),\" \",IF(COUNTRY_INFO!A49=0,\" \",COUNTRY_INFO!A49))","v":"Uganda"},{"$f":"IF(AND(INTRO!$E$37=\"Non-endemic\",INTRO!$E$41=\"Non-endemic\"),\" \",IF(COUNTRY_INFO!B49=0,\" \",COUNTRY_INFO!B49))","v":"EASTERN"},{"$f":"IF(AND(INTRO!$E$37=\"Non-endemic\",INTRO!$E$41=\"Non-endemic\"),\" \",IF(COUNTRY_INFO!C49=0,\" \",COUNTRY_INFO!C49))","v":"KABERAMAIDO"},{"$f":"IF(AND(INTRO!$E$37=\"Non-endemic\",INTRO!$E$41=\"Non-endemic\"),0,IF(AND(OR(COUNTRY_INFO!$H49=0,COUNTRY_INFO!$H49=4,COUNTRY_INFO!$H49=99),OR(COUNTRY_INFO!$J49=0,COUNTRY_INFO!$J49=4)),0,COUNTRY_INFO!$E49))","v":35449},{"$f":"IF(AND(INTRO!$E$37=\"Non-endemic\",INTRO!$E$41=\"Non-endemic\"),0,IF(AND(OR(COUNTRY_INFO!$H49=0,COUNTRY_INFO!$H49=4,COUNTRY_INFO!$H49=99),OR(COUNTRY_INFO!$J49=0,COUNTRY_INFO!$J49=4)),0,COUNTRY_INFO!$F49))","v":75391},110840,{"$f":"IF(AND(INTRO!$E$37=\"Non-endemic\",INTRO!$E$41=\"Non-endemic\"),0,COUNTRY_INFO!P49)","v":0},{"$f":"IF(AND(INTRO!$E$37=\"Non-endemic\",INTRO!$E$41=\"Non-endemic\"),0,COUNTRY_INFO!R49)","v":2},{"$f":"IF(INTRO!$E$39=\"Non-endemic\",IF($G49=1,DEC!I49,0),IF($G49=1,IVM!G49,0))","v":0},"MBD",{"$f":"IF($J49=\"ALB\", IF(INTRO!$E$39=\"Non-endemic\", IF($H49<>0, IF($I49=0, $D49*$H49, $D49*($H49-$G49)), 0), $D49*$H49), 0)","v":0},0,null,0,{"$f":"IF($J49=\"MBD\", IF(INTRO!$E$39=\"Non-endemic\", IF($H49<>0, IF($I49=0, $D49*$H49, $D49*($H49-$G49)), 0), $D49*$H49), 0)","v":70898},150782,null,221680,0,0,0,0,0,0,0,150782,1006]
[{"$f":"IF(AND(INTRO!$E$37=\"Non-endemic\",INTRO!$E$41=\"Non-endemic\"),\" \",IF(COUNTRY_INFO!A50=0,\" \",COUNTRY_INFO!A50))","v":"Uganda"},{"$f":"IF(AND(INTRO!$E$37=\"Non-endemic\",INTRO!$E$41=\"Non-endemic\"),\" \",IF(COUNTRY_INFO!B50=0,\" \",COUNTRY_INFO!B50))","v":"WESTERN"},{"$f":"IF(AND(INTRO!$E$37=\"Non-endemic\",INTRO!$E$41=\"Non-endemic\"),\" \",IF(COUNTRY_INFO!C50=0,\" \",COUNTRY_INFO!C50))","v":"KAGADI"},{"$f":"IF(AND(INTRO!$E$37=\"Non-endemic\",INTRO!$E$41=\"Non-endemic\"),0,IF(AND(OR(COUNTRY_INFO!$H50=0,COUNTRY_INFO!$H50=4,COUNTRY_INFO!$H50=99),OR(COUNTRY_INFO!$J50=0,COUNTRY_INFO!$J50=4)),0,COUNTRY_INFO!$E50))","v":63509},{"$f":"IF(AND(INTRO!$E$37=\"Non-endemic\",INTRO!$E$41=\"Non-endemic\"),0,IF(AND(OR(COUNTRY_INFO!$H50=0,COUNTRY_INFO!$H50=4,COUNTRY_INFO!$H50=99),OR(COUNTRY_INFO!$J50=0,COUNTRY_INFO!$J50=4)),0,COUNTRY_INFO!$F50))","v":135068},198577,{"$f":"IF(AND(INTRO!$E$37=\"Non-endemic\",INTRO!$E$41=\"Non-endemic\"),0,COUNTRY_INFO!P50)","v":0},{"$f":"IF(AND(INTRO!$E$37=\"Non-endemic\",INTRO!$E$41=\"Non-endemic\"),0,COUNTRY_INFO!R50)","v":2},{"$f":"IF(INTRO!$E$39=\"Non-endemic\",IF($G50=1,DEC!I50,0),IF($G50=1,IVM!G50,0))","v":0},"MBD",{"$f":"IF($J50=\"ALB\", IF(INTRO!$E$39=\"Non-endemic\", IF($H50<>0, IF($I50=0, $D50*$H50, $D50*($H50-$G50)), 0), $D50*$H50), 0)","v":0},0,null,0,{"$f":"IF($J50=\"MBD\", IF(INTRO!$E$39=\"Non-endemic\", IF($H50<>0, IF($I50=0, $D50*$H50, $D50*($H50-$G50)), 0), $D50*$H50), 0)","v":127018},270136,null,397154,0,0,0,0,0,0,0,270136,1801]
[{"$f":"IF(AND(INTRO!$E$37=\"Non-endemic\",INTRO!$E$41=\"Non-endemic\"),\" \",IF(COUNTRY_INFO!A51=0,\" \",COUNTRY_INFO!A51))","v":"Uganda"},{"$f":"IF(AND(INTRO!$E$37=\"Non-endemic\",INTRO!$E$41=\"Non-endemic\"),\" \",IF(COUNTRY_INFO!B51=0,\" \",COUNTRY_INFO!B51))","v":"WESTERN"},{"$f":"IF(AND(INTRO!$E$37=\"Non-endemic\",INTRO!$E$41=\"Non-endemic\"),\" \",IF(COUNTRY_INFO!C51=0,\" \",COUNTRY_INFO!C51))","v":"KAKUMIRO"},{"$f":"IF(AND(INTRO!$E$37=\"Non-endemic\",INTRO!$E$41=\"Non-endemic\"),0,IF(AND(OR(COUNTRY_INFO!$H51=0,COUNTRY_INFO!$H51=4,COUNTRY_INFO!$H51=99),OR(COUNTRY_INFO!$J51=0,COUNTRY_INFO!$J51=4)),0,COUNTRY_INFO!$E51))","v":39772},{"$f":"IF(AND(INTRO!$E$37=\"Non-endemic\",INTRO!$E$41=\"Non-endemic\"),0,IF(AND(OR(COUNTRY_INFO!$H51=0,COUNTRY_INFO!$H51=4,COUNTRY_INFO!$H51=99),OR(COUNTRY_INFO!$J51=0,COUNTRY_INFO!$J51=4)),0,COUNTRY_INFO!$F51))","v":84585},124357,{"$f":"IF(AND(INTRO!$E$37=\"Non-endemic\",INTRO!$E$41=\"Non-endemic\"),0,COUNTRY_INFO!P51)","v":0},{"$f":"IF(AND(INTRO!$E$37=\"Non-endemic\",INTRO!$E$41=\"Non-endemic\"),0,COUNTRY_INFO!R51)","v":2},{"$f":"IF(INTRO!$E$39=\"Non-endemic\",IF($G51=1,DEC!I51,0),IF($G51=1,IVM!G51,0))","v":0},"MBD",{"$f":"IF($J51=\"ALB\", IF(INTRO!$E$39=\"Non-endemic\", IF($H51<>0, IF($I51=0, $D51*$H51, $D51*($H51-$G51)), 0), $D51*$H51), 0)","v":0},0,null,0,{"$f":"IF($J51=\"MBD\", IF(INTRO!$E$39=\"Non-endemic\", IF($H51<>0, IF($I51=0, $D51*$H51, $D51*($H51-$G51)), 0), $D51*$H51), 0)","v":79544},169170,null,248714,0,0,0,0,0,0,0,169170,1128]
[{"$f":"IF(AND(INTRO!$E$37=\"Non-endemic\",INTRO!$E$41=\"Non-endemic\"),\" \",IF(COUNTRY_INFO!A52=0,\" \",COUNTRY_INFO!A52))","v":"Uganda"},{"$f":"IF(AND(INTRO!$E$37=\"Non-endemic\",INTRO!$E$41=\"Non-endemic\"),\" \",IF(COUNTRY_INFO!B52=0,\" \",COUNTRY_INFO!B52))","v":"CENTRAL"},{"$f":"IF(AND(INTRO!$E$37=\"Non-endemic\",INTRO!$E$41=\"Non-endemic\"),\" \",IF(COUNTRY_INFO!C52=0,\" \",COUNTRY_INFO!C52))","v":"KALANGALA"},{"$f":"IF(AND(INTRO!$E$37=\"Non-endemic\",INTRO!$E$41=\"Non-endemic\"),0,IF(AND(OR(COUNTRY_INFO!$H52=0,COUNTRY_INFO!$H52=4,COUNTRY_INFO!$H52=99),OR(COUNTRY_INFO!$J52=0,COUNTRY_INFO!$J52=4)),0,COUNTRY_INFO!$E52))","v":8951},{"$f":"IF(AND(INTRO!$E$37=\"Non-endemic\",INTRO!$E$41=\"Non-endemic\"),0,IF(AND(OR(COUNTRY_INFO!$H52=0,COUNTRY_INFO!$H52=4,COUNTRY_INFO!$H52=99),OR(COUNTRY_INFO!$J52=0,COUNTRY_INFO!$J52=4)),0,COUNTRY_INFO!$F52))","v":19036},27987,{"$f":"IF(AND(INTRO!$E$37=\"Non-endemic\",INTRO!$E$41=\"Non-endemic\"),0,COUNTRY_INFO!P52)","v":0},{"$f":"IF(AND(INTRO!$E$37=\"Non-endemic\",INTRO!$E$41=\"Non-endemic\"),0,COUNTRY_INFO!R52)","v":2},{"$f":"IF(INTRO!$E$39=\"Non-endemic\",IF($G52=1,DEC!I52,0),IF($G52=1,IVM!G52,0))","v":0},"MBD",{"$f":"IF($J52=\"ALB\", IF(INTRO!$E$39=\"Non-endemic\", IF($H52<>0, IF($I52=0, $D52*$H52, $D52*($H52-$G52)), 0), $D52*$H52), 0)","v":0},0,null,0,{"$f":"IF($J52=\"MBD\", IF(INTRO!$E$39=\"Non-endemic\", IF($H52<>0, IF($I52=0, $D52*$H52, $D52*($H52-$G52)), 0), $D52*$H52), 0)","v":17902},38072,null,55974,0,0,0,0,0,0,0,38072,254]
[{"$f":"IF(AND(INTRO!$E$37=\"Non-endemic\",INTRO!$E$41=\"Non-endemic\"),\" \",IF(COUNTRY_INFO!A53=0,\" \",COUNTRY_INFO!A53))","v":"Uganda"},{"$f":"IF(AND(INTRO!$E$37=\"Non-endemic\",INTRO!$E$41=\"Non-endemic\"),\" \",IF(COUNTRY_INFO!B53=0,\" \",COUNTRY_INFO!B53))","v":"EASTERN"},{"$f":"IF(AND(INTRO!$E$37=\"Non-endemic\",INTRO!$E$41=\"Non-endemic\"),\" \",IF(COUNTRY_INFO!C53=0,\" \",COUNTRY_INFO!C53))","v":"KALIRO"},{"$f":"IF(AND(INTRO!$E$37=\"Non-endemic\",INTRO!$E$41=\"Non-endemic\"),0,IF(AND(OR(COUNTRY_INFO!$H53=0,COUNTRY_INFO!$H53=4,COUNTRY_INFO!$H53=99),OR(COUNTRY_INFO!$J53=0,COUNTRY_INFO!$J53=4)),0,COUNTRY_INFO!$E53))","v":38939},{"$f":"IF(AND(INTRO!$E$37=\"Non-endemic\",INTRO!$E$41=\"Non-endemic\"),0,IF(AND(OR(COUNTRY_INFO!$H53=0,COUNTRY_INFO!$H53=4,COUNTRY_INFO!$H53=99),OR(COUNTRY_INFO!$J53=0,COUNTRY_INFO!$J53=4)),0,COUNTRY_INFO!$F53))","v":82814},121753,{"$f":"IF(AND(INTRO!$E$37=\"Non-endemic\",INTRO!$E$41=\"Non-endemic\"),0,COUNTRY_INFO!P53)","v":0},{"$f":"IF(AND(INTRO!$E$37=\"Non-endemic\",INTRO!$E$41=\"Non-endemic\"),0,COUNTRY_INFO!R53)","v":2},{"$f":"IF(INTRO!$E$39=\"Non-endemic\",IF($G53=1,DEC!I53,0),IF($G53=1,IVM!G53,0))","v":0},"MBD",{"$f":"IF($J53=\"ALB\", IF(INTRO!$E$39=\"Non-endemic\", IF($H53<>0, IF($I53=0, $D53*$H53, $D53*($H53-$G53)), 0), $D53*$H53), 0)","v":0},0,null,0,{"$f":"IF($J53=\"MBD\", IF(INTRO!$E$39=\"Non-endemic\", IF($H53<>0, IF($I53=0, $D53*$H53, $D53*($H53-$G53)), 0), $D53*$H53), 0)","v":77878},165628,null,243506,0,0,0,0,0,0,0,165628,1105]
[{"$f":"IF(AND(INTRO!$E$37=\"Non-endemic\",INTRO!$E$41=\"Non-endemic\"),\" \",IF(COUNTRY_INFO!A54=0,\" \",COUNTRY_INFO!A54))","v":"Uganda"},{"$f":"IF(AND(INTRO!$E$37=\"Non-endemic\",INTRO!$E$41=\"Non-endemic\"),\" \",IF(COUNTRY_INFO!B54=0,\" \",COUNTRY_INFO!B54))","v":"CENTRAL"},{"$f":"IF(AND(INTRO!$E$37=\"Non-endemic\",INTRO!$E$41=\"Non-endemic\"),\" \",IF(COUNTRY_INFO!C54=0,\" \",COUNTRY_INFO!C54))","v":"KALUNGU"},{"$f":"IF(AND(INTRO!$E$37=\"Non-endemic\",INTRO!$E$41=\"Non-endemic\"),0,IF(AND(OR(COUNTRY_INFO!$H54=0,COUNTRY_INFO!$H54=4,COUNTRY_INFO!$H54=99),OR(COUNTRY_INFO!$J54=0,COUNTRY_INFO!$J54=4)),0,COUNTRY_INFO!$E54))","v":30207},{"$f":"IF(AND(INTRO!$E$37=\"Non-endemic\",INTRO!$E$41=\"Non-endemic\"),0,IF(AND(OR(COUNTRY_INFO!$H54=0,COUNTRY_INFO!$H54=4,COUNTRY_INFO!$H54=99),OR(COUNTRY_INFO!$J54=0,COUNTRY_INFO!$J54=4)),0,COUNTRY_INFO!$F54))","v":64243},94450,{"$f":"IF(AND(INTRO!$E$37=\"Non-endemic\",INTRO!$E$41=\"Non-endemic\"),0,COUNTRY_INFO!P54)","v":0},{"$f":"IF(AND(INTRO!$E$37=\"Non-endemic\",INTRO!$E$41=\"Non-endemic\"),0,COUNTRY_INFO!R54)","v":2},{"$f":"IF(INTRO!$E$39=\"Non-endemic\",IF($G54=1,DEC!I54,0),IF($G54=1,IVM!G54,0))","v":0},"MBD",{"$f":"IF($J54=\"ALB\", IF(INTRO!$E$39=\"Non-endemic\", IF($H54<>0, IF($I54=0, $D54*$H54, $D54*($H54-$G54)), 0), $D54*$H54), 0)","v":0},0,null,0,{"$f":"IF($J54=\"MBD\", IF(INTRO!$E$39=\"Non-endemic\", IF($H54<>0, IF($I54=0, $D54*$H54, $D54*($H54-$G54)), 0), $D54*$H54), 0)","v":60414},128486,null,188900,0,0,0,0,0,0,0,128486,857]
[{"$f":"IF(AND(INTRO!$E$37=\"Non-endemic\",INTRO!$E$41=\"Non-endemic\"),\" \",IF(COUNTRY_INFO!A55=0,\" \",COUNTRY_INFO!A55))","v":"Uganda"},{"$f":"IF(AND(INTRO!$E$37=\"Non-endemic\",INTRO!$E$41=\"Non-endemic\"),\" \",IF(COUNTRY_INFO!B55=0,\" \",COUNTRY_INFO!B55))","v":"CENTRAL"},{"$f":"IF(AND(INTRO!$E$37=\"Non-endemic\",INTRO!$E$41=\"Non-endemic\"),\" \",IF(COUNTRY_INFO!C55=0,\" \",COUNTRY_INFO!C55))","v":"KAMPALA"},{"$f":"IF(AND(INTRO!$E$37=\"Non-endemic\",INTRO!$E$41=\"Non-endemic\"),0,IF(AND(OR(COUNTRY_INFO!$H55=0,COUNTRY_INFO!$H55=4,COUNTRY_INFO!$H55=99),OR(COUNTRY_INFO!$J55=0,COUNTRY_INFO!$J55=4)),0,COUNTRY_INFO!$E55))","v":248452},{"$f":"IF(AND(INTRO!$E$37=\"Non-endemic\",INTRO!$E$41=\"Non-endemic\"),0,IF(AND(OR(COUNTRY_INFO!$H55=0,COUNTRY_INFO!$H55=4,COUNTRY_INFO!$H55=99),OR(COUNTRY_INFO!$J55=0,COUNTRY_INFO!$J55=4)),0,COUNTRY_INFO!$F55))","v":528399},776851,{"$f":"IF(AND(INTRO!$E$37=\"Non-endemic\",INTRO!$E$41=\"Non-endemic\"),0,COUNTRY_INFO!P55)","v":0},{"$f":"IF(AND(INTRO!$E$37=\"Non-endemic\",INTRO!$E$41=\"Non-endemic\"),0,COUNTRY_INFO!R55)","v":2},{"$f":"IF(INTRO!$E$39=\"Non-endemic\",IF($G55=1,DEC!I55,0),IF($G55=1,IVM!G55,0))","v":0},"MBD",{"$f":"IF($J55=\"ALB\", IF(INTRO!$E$39=\"Non-endemic\", IF($H55<>0, IF($I55=0, $D55*$H55, $D55*($H55-$G55)), 0), $D55*$H55), 0)","v":0},0,null,0,{"$f":"IF($J55=\"MBD\", IF(INTRO!$E$39=\"Non-endemic\", IF($H55<>0, IF($I55=0, $D55*$H55, $D55*($H55-$G55)), 0), $D55*$H55), 0)","v":496904},1056798,null,1553702,0,0,0,0,0,0,0,1056798,7046]
[{"$f":"IF(AND(INTRO!$E$37=\"Non-endemic\",INTRO!$E$41=\"Non-endemic\"),\" \",IF(COUNTRY_INFO!A56=0,\" \",COUNTRY_INFO!A56))","v":"Uganda"},{"$f":"IF(AND(INTRO!$E$37=\"Non-endemic\",INTRO!$E$41=\"Non-endemic\"),\" \",IF(COUNTRY_INFO!B56=0,\" \",COUNTRY_INFO!B56))","v":"EASTERN"},{"$f":"IF(AND(INTRO!$E$37=\"Non-endemic\",INTRO!$E$41=\"Non-endemic\"),\" \",IF(COUNTRY_INFO!C56=0,\" \",COUNTRY_INFO!C56))","v":"KAMULI"},{"$f":"IF(AND(INTRO!$E$37=\"Non-endemic\",INTRO!$E$41=\"Non-endemic\"),0,IF(AND(OR(COUNTRY_INFO!$H56=0,COUNTRY_INFO!$H56=4,COUNTRY_INFO!$H56=99),OR(COUNTRY_INFO!$J56=0,COUNTRY_INFO!$J56=4)),0,COUNTRY_INFO!$E56))","v":80173},{"$f":"IF(AND(INTRO!$E$37=\"Non-endemic\",INTRO!$E$41=\"Non-endemic\"),0,IF(AND(OR(COUNTRY_INFO!$H56=0,COUNTRY_INFO!$H56=4,COUNTRY_INFO!$H56=99),OR(COUNTRY_INFO!$J56=0,COUNTRY_INFO!$J56=4)),0,COUNTRY_INFO!$F56))","v":170509},250682,{"$f":"IF(AND(INTRO!$E$37=\"Non-endemic\",INTRO!$E$41=\"Non-endemic\"),0,COUNTRY_INFO!P56)","v":0},{"$f":"IF(AND(INTRO!$E$37=\"Non-endemic\",INTRO!$E$41=\"Non-endemic\"),0,COUNTRY_INFO!R56)","v":2},{"$f":"IF(INTRO!$E$39=\"Non-endemic\",IF($G56=1,DEC!I56,0),IF($G56=1,IVM!G56,0))","v":0},"MBD",{"$f":"IF($J56=\"ALB\", IF(INTRO!$E$39=\"Non-endemic\", IF($H56<>0, IF($I56=0, $D56*$H56, $D56*($H56-$G56)), 0), $D56*$H56), 0)","v":0},0,null,0,{"$f":"IF($J56=\"MBD\", IF(INTRO!$E$39=\"Non-endemic\", IF($H56<>0, IF($I56=0, $D56*$H56, $D56*($H56-$G56)), 0), $D56*$H56), 0)","v":160346},341018,null,501364,0,0,0,0,0,0,0,341018,2274]
[{"$f":"IF(AND(INTRO!$E$37=\"Non-endemic\",INTRO!$E$41=\"Non-endemic\"),\" \",IF(COUNTRY_INFO!A57=0,\" \",COUNTRY_INFO!A57))","v":"Uganda"},{"$f":"IF(AND(INTRO!$E$37=\"Non-endemic\",INTRO!$E$41=\"Non-endemic\"),\" \",IF(COUNTRY_INFO!B57=0,\" \",COUNTRY_INFO!B57))","v":"WESTERN"},{"$f":"IF(AND(INTRO!$E$37=\"Non-endemic\",INTRO!$E$41=\"Non-endemic\"),\" \",IF(COUNTRY_INFO!C57=0,\" \",COUNTRY_INFO!C57))","v":"KAMWENGE"},{"$f":"IF(AND(INTRO!$E$37=\"Non-endemic\",INTRO!$E$41=\"Non-endemic\"),0,IF(AND(OR(COUNTRY_INFO!$H57=0,COUNTRY_INFO!$H57=4,COUNTRY_INFO!$H57=99),OR(COUNTRY_INFO!$J57=0,COUNTRY_INFO!$J57=4)),0,COUNTRY_INFO!$E57))","v":68325},{"$f":"IF(AND(INTRO!$E$37=\"Non-endemic\",INTRO!$E$41=\"Non-endemic\"),0,IF(AND(OR(COUNTRY_INFO!$H57=0,COUNTRY_INFO!$H57=4,COUNTRY_INFO!$H57=99),OR(COUNTRY_INFO!$J57=0,COUNTRY_INFO!$J57=4)),0,COUNTRY_INFO!$F57))","v":145312},213637,{"$f":"IF(AND(INTRO!$E$37=\"Non-endemic\",INTRO!$E$41=\"Non-endemic\"),0,COUNTRY_INFO!P57)","v":0},{"$f":"IF(AND(INTRO!$E$37=\"Non-endemic\",INTRO!$E$41=\"Non-endemic\"),0,COUNTRY_INFO!R57)","v":2},{"$f":"IF(INTRO!$E$39=\"Non-endemic\",IF($G57=1,DEC!I57,0),IF($G57=1,IVM!G57,0))","v":0},"MBD",{"$f":"IF($J57=\"ALB\", IF(INTRO!$E$39=\"Non-endemic\", IF($H57<>0, IF($I57=0, $D57*$H57, $D57*($H57-$G57)), 0), $D57*$H57), 0)","v":0},0,null,0,{"$f":"IF($J57=\"MBD\", IF(INTRO!$E$39=\"Non-endemic\", IF($H57<>0, IF($I57=0, $D57*$H57, $D57*($H57-$G57)), 0), $D57*$H57), 0)","v":136650},290624,null,427274,0,0,0,0,0,0,0,290624,1938]
[{"$f":"IF(AND(INTRO!$E$37=\"Non-endemic\",INTRO!$E$41=\"Non-endemic\"),\" \",IF(COUNTRY_INFO!A58=0,\" \",COUNTRY_INFO!A58))","v":"Uganda"},{"$f":"IF(AND(INTRO!$E$37=\"Non-endemic\",INTRO!$E$41=\"Non-endemic\"),\" \",IF(COUNTRY_INFO!B58=0,\" \",COUNTRY_INFO!B58))","v":"WESTERN"},{"$f":"IF(AND(INTRO!$E$37=\"Non-endemic\",INTRO!$E$41=\"Non-endemic\"),\" \",IF(COUNTRY_INFO!C58=0,\" \",COUNTRY_INFO!C58))","v":"KANUNGU"},{"$f":"IF(AND(INTRO!$E$37=\"Non-endemic\",INTRO!$E$41=\"Non-endemic\"),0,IF(AND(OR(COUNTRY_INFO!$H58=0,COUNTRY_INFO!$H58=4,COUNTRY_INFO!$H58=99),OR(COUNTRY_INFO!$J58=0,COUNTRY_INFO!$J58=4)),0,COUNTRY_INFO!$E58))","v":41568},{"$f":"IF(AND(INTRO!$E$37=\"Non-endemic\",INTRO!$E$41=\"Non-endemic\"),0,IF(AND(OR(COUNTRY_INFO!$H58=0,COUNTRY_INFO!$H58=4,COUNTRY_INFO!$H58=99),OR(COUNTRY_INFO!$J58=0,COUNTRY_INFO!$J58=4)),0,COUNTRY_INFO!$F58))","v":88404},129972,{"$f":"IF(AND(INTRO!$E$37=\"Non-endemic\",INTRO!$E$41=\"Non-endemic\"),0,COUNTRY_INFO!P58)","v":0},{"$f":"IF(AND(INTRO!$E$37=\"Non-endemic\",INTRO!$E$41=\"Non-endemic\"),0,COUNTRY_INFO!R58)","v":2},{"$f":"IF(INTRO!$E$39=\"Non-endemic\",IF($G58=1,DEC!I58,0),IF($G58=1,IVM!G58,0))","v":0},"MBD",{"$f":"IF($J58=\"ALB\", IF(INTRO!$E$39=\"Non-endemic\", IF($H58<>0, IF($I58=0, $D58*$H58, $D58*($H58-$G58)), 0), $D58*$H58), 0)","v":0},0,null,0,{"$f":"IF($J58=\"MBD\", IF(INTRO!$E$39=\"Non-endemic\", IF($H58<>0, IF($I58=0, $D58*$H58, $D58*($H58-$G58)), 0), $D58*$H58), 0)","v":83136},176808,null,259944,0,0,0,0,0,0,0,176808,1179]
[{"$f":"IF(AND(INTRO!$E$37=\"Non-endemic\",INTRO!$E$41=\"Non-endemic\"),\" \",IF(COUNTRY_INFO!A59=0,\" \",COUNTRY_INFO!A59))","v":"Uganda"},{"$f":"IF(AND(INTRO!$E$37=\"Non-endemic\",INTRO!$E$41=\"Non-endemic\"),\" \",IF(COUNTRY_INFO!B59=0,\" \",COUNTRY_INFO!B59))","v":"EASTERN"},{"$f":"IF(AND(INTRO!$E$37=\"Non-endemic\",INTRO!$E$41=\"Non-endemic\"),\" \",IF(COUNTRY_INFO!C59=0,\" \",COUNTRY_INFO!C59))","v":"KAPCHORWA"},{"$f":"IF(AND(INTRO!$E$37=\"Non-endemic\",INTRO!$E$41=\"Non-endemic\"),0,IF(AND(OR(COUNTRY_INFO!$H59=0,COUNTRY_INFO!$H59=4,COUNTRY_INFO!$H59=99),OR(COUNTRY_INFO!$J59=0,COUNTRY_INFO!$J59=4)),0,COUNTRY_INFO!$E59))","v":17341},{"$f":"IF(AND(INTRO!$E$37=\"Non-endemic\",INTRO!$E$41=\"Non-endemic\"),0,IF(AND(OR(COUNTRY_INFO!$H59=0,COUNTRY_INFO!$H59=4,COUNTRY_INFO!$H59=99),OR(COUNTRY_INFO!$J59=0,COUNTRY_INFO!$J59=4)),0,COUNTRY_INFO!$F59))","v":36879},54220,{"$f":"IF(AND(INTRO!$E$37=\"Non-endemic\",INTRO!$E$41=\"Non-endemic\"),0,COUNTRY_INFO!P59)","v":0},{"$f":"IF(AND(INTRO!$E$37=\"Non-endemic\",INTRO!$E$41=\"Non-endemic\"),0,COUNTRY_INFO!R59)","v":2},{"$f":"IF(INTRO!$E$39=\"Non-endemic\",IF($G59=1,DEC!I59,0),IF($G59=1,IVM!G59,0))","v":0},"MBD",{"$f":"IF($J59=\"ALB\", IF(INTRO!$E$39=\"Non-endemic\", IF($H59<>0, IF($I59=0, $D59*$H59, $D59*($H59-$G59)), 0), $D59*$H59), 0)","v":0},0,null,0,{"$f":"IF($J59=\"MBD\", IF(INTRO!$E$39=\"Non-endemic\", IF($H59<>0, IF($I59=0, $D59*$H59, $D59*($H59-$G59)), 0), $D59*$H59), 0)","v":34682},73758,null,108440,0,0,0,0,0,0,0,73758,492]
[{"$f":"IF(AND(INTRO!$E$37=\"Non-endemic\",INTRO!$E$41=\"Non-endemic\"),\" \",IF(COUNTRY_INFO!A60=0,\" \",COUNTRY_INFO!A60))","v":"Uganda"},{"$f":"IF(AND(INTRO!$E$37=\"Non-endemic\",INTRO!$E$41=\"Non-endemic\"),\" \",IF(COUNTRY_INFO!B60=0,\" \",COUNTRY_INFO!B60))","v":"WESTERN"},{"$f":"IF(AND(INTRO!$E$37=\"Non-endemic\",INTRO!$E$41=\"Non-endemic\"),\" \",IF(COUNTRY_INFO!C60=0,\" \",COUNTRY_INFO!C60))","v":"KASESE"},{"$f":"IF(AND(INTRO!$E$37=\"Non-endemic\",INTRO!$E$41=\"Non-endemic\"),0,IF(AND(OR(COUNTRY_INFO!$H60=0,COUNTRY_INFO!$H60=4,COUNTRY_INFO!$H60=99),OR(COUNTRY_INFO!$J60=0,COUNTRY_INFO!$J60=4)),0,COUNTRY_INFO!$E60))","v":114574},{"$f":"IF(AND(INTRO!$E$37=\"Non-endemic\",INTRO!$E$41=\"Non-endemic\"),0,IF(AND(OR(COUNTRY_INFO!$H60=0,COUNTRY_INFO!$H60=4,COUNTRY_INFO!$H60=99),OR(COUNTRY_INFO!$J60=0,COUNTRY_INFO!$J60=4)),0,COUNTRY_INFO!$F60))","v":243672},358246,{"$f":"IF(AND(INTRO!$E$37=\"Non-endemic\",INTRO!$E$41=\"Non-endemic\"),0,COUNTRY_INFO!P60)","v":0},{"$f":"IF(AND(INTRO!$E$37=\"Non-endemic\",INTRO!$E$41=\"Non-endemic\"),0,COUNTRY_INFO!R60)","v":2},{"$f":"IF(INTRO!$E$39=\"Non-endemic\",IF($G60=1,DEC!I60,0),IF($G60=1,IVM!G60,0))","v":0},"MBD",{"$f":"IF($J60=\"ALB\", IF(INTRO!$E$39=\"Non-endemic\", IF($H60<>0, IF($I60=0, $D60*$H60, $D60*($H60-$G60)), 0), $D60*$H60), 0)","v":0},0,null,0,{"$f":"IF($J60=\"MBD\", IF(INTRO!$E$39=\"Non-endemic\", IF($H60<>0, IF($I60=0, $D60*$H60, $D60*($H60-$G60)), 0), $D60*$H60), 0)","v":229148},487344,null,716492,0,0,0,0,0,0,0,487344,3249]
[{"$f":"IF(AND(INTRO!$E$37=\"Non-endemic\",INTRO!$E$41=\"Non-endemic\"),\" \",IF(COUNTRY_INFO!A61=0,\" \",COUNTRY_INFO!A61))","v":"Uganda"},{"$f":"IF(AND(INTRO!$E$37=\"Non-endemic\",INTRO!$E$41=\"Non-endemic\"),\" \",IF(COUNTRY_INFO!B61=0,\" \",COUNTRY_INFO!B61))","v":"EASTERN"},{"$f":"IF(AND(INTRO!$E$37=\"Non-endemic\",INTRO!$E$41=\"Non-endemic\"),\" \",IF(COUNTRY_INFO!C61=0,\" \",COUNTRY_INFO!C61))","v":"KATAKWI"},{"$f":"IF(AND(INTRO!$E$37=\"Non-endemic\",INTRO!$E$41=\"Non-endemic\"),0,IF(AND(OR(COUNTRY_INFO!$H61=0,COUNTRY_INFO!$H61=4,COUNTRY_INFO!$H61=99),OR(COUNTRY_INFO!$J61=0,COUNTRY_INFO!$J61=4)),0,COUNTRY_INFO!$E61))","v":27404},{"$f":"IF(AND(INTRO!$E$37=\"Non-endemic\",INTRO!$E$41=\"Non-endemic\"),0,IF(AND(OR(COUNTRY_INFO!$H61=0,COUNTRY_INFO!$H61=4,COUNTRY_INFO!$H61=99),OR(COUNTRY_INFO!$J61=0,COUNTRY_INFO!$J61=4)),0,COUNTRY_INFO!$F61))","v":58283},85687,{"$f":"IF(AND(INTRO!$E$37=\"Non-endemic\",INTRO!$E$41=\"Non-endemic\"),0,COUNTRY_INFO!P61)","v":0},{"$f":"IF(AND(INTRO!$E$37=\"Non-endemic\",INTRO!$E$41=\"Non-endemic\"),0,COUNTRY_INFO!R61)","v":2},{"$f":"IF(INTRO!$E$39=\"Non-endemic\",IF($G61=1,DEC!I61,0),IF($G61=1,IVM!G61,0))","v":0},"MBD",{"$f":"IF($J61=\"ALB\", IF(INTRO!$E$39=\"Non-endemic\", IF($H61<>0, IF($I61=0, $D61*$H61, $D61*($H61-$G61)), 0), $D61*$H61), 0)","v":0},0,null,0,{"$f":"IF($J61=\"MBD\", IF(INTRO!$E$39=\"Non-endemic\", IF($H61<>0, IF($I61=0, $D61*$H61, $D61*($H61-$G61)), 0), $D61*$H61), 0)","v":54808},116566,null,171374,0,0,0,0,0,0,0,116566,778]
[{"$f":"IF(AND(INTRO!$E$37=\"Non-endemic\",INTRO!$E$41=\"Non-endemic\"),\" \",IF(COUNTRY_INFO!A62=0,\" \",COUNTRY_INFO!A62))","v":"Uganda"},{"$f":"IF(AND(INTRO!$E$37=\"Non-endemic\",INTRO!$E$41=\"Non-endemic\"),\" \",IF(COUNTRY_INFO!B62=0,\" \",COUNTRY_INFO!B62))","v":"CENTRAL"},{"$f":"IF(AND(INTRO!$E$37=\"Non-endemic\",INTRO!$E$41=\"Non-endemic\"),\" \",IF(COUNTRY_INFO!C62=0,\" \",COUNTRY_INFO!C62))","v":"KAYUNGA"},{"$f":"IF(AND(INTRO!$E$37=\"Non-endemic\",INTRO!$E$41=\"Non-endemic\"),0,IF(AND(OR(COUNTRY_INFO!$H62=0,COUNTRY_INFO!$H62=4,COUNTRY_INFO!$H62=99),OR(COUNTRY_INFO!$J62=0,COUNTRY_INFO!$J62=4)),0,COUNTRY_INFO!$E62))","v":60677},{"$f":"IF(AND(INTRO!$E$37=\"Non-endemic\",INTRO!$E$41=\"Non-endemic\"),0,IF(AND(OR(COUNTRY_INFO!$H62=0,COUNTRY_INFO!$H62=4,COUNTRY_INFO!$H62=99),OR(COUNTRY_INFO!$J62=0,COUNTRY_INFO!$J62=4)),0,COUNTRY_INFO!$F62))","v":129046},189723,{"$f":"IF(AND(INTRO!$E$37=\"Non-endemic\",INTRO!$E$41=\"Non-endemic\"),0,COUNTRY_INFO!P62)","v":0},{"$f":"IF(AND(INTRO!$E$37=\"Non-endemic\",INTRO!$E$41=\"Non-endemic\"),0,COUNTRY_INFO!R62)","v":2},{"$f":"IF(INTRO!$E$39=\"Non-endemic\",IF($G62=1,DEC!I62,0),IF($G62=1,IVM!G62,0))","v":0},"MBD",{"$f":"IF($J62=\"ALB\", IF(INTRO!$E$39=\"Non-endemic\", IF($H62<>0, IF($I62=0, $D62*$H62, $D62*($H62-$G62)), 0), $D62*$H62), 0)","v":0},0,null,0,{"$f":"IF($J62=\"MBD\", IF(INTRO!$E$39=\"Non-endemic\", IF($H62<>0, IF($I62=0, $D62*$H62, $D62*($H62-$G62)), 0), $D62*$H62), 0)","v":121354},258092,null,379446,0,0,0,0,0,0,0,258092,1721]
[{"$f":"IF(AND(INTRO!$E$37=\"Non-endemic\",INTRO!$E$41=\"Non-endemic\"),\" \",IF(COUNTRY_INFO!A63=0,\" \",COUNTRY_INFO!A63))","v":"Uganda"},{"$f":"IF(AND(INTRO!$E$37=\"Non-endemic\",INTRO!$E$41=\"Non-endemic\"),\" \",IF(COUNTRY_INFO!B63=0,\" \",COUNTRY_INFO!B63))","v":"WESTERN"},{"$f":"IF(AND(INTRO!$E$37=\"Non-endemic\",INTRO!$E$41=\"Non-endemic\"),\" \",IF(COUNTRY_INFO!C63=0,\" \",COUNTRY_INFO!C63))","v":"KIBAALE"},{"$f":"IF(AND(INTRO!$E$37=\"Non-endemic\",INTRO!$E$41=\"Non-endemic\"),0,IF(AND(OR(COUNTRY_INFO!$H63=0,COUNTRY_INFO!$H63=4,COUNTRY_INFO!$H63=99),OR(COUNTRY_INFO!$J63=0,COUNTRY_INFO!$J63=4)),0,COUNTRY_INFO!$E63))","v":26146},{"$f":"IF(AND(INTRO!$E$37=\"Non-endemic\",INTRO!$E$41=\"Non-endemic\"),0,IF(AND(OR(COUNTRY_INFO!$H63=0,COUNTRY_INFO!$H63=4,COUNTRY_INFO!$H63=99),OR(COUNTRY_INFO!$J63=0,COUNTRY_INFO!$J63=4)),0,COUNTRY_INFO!$F63))","v":55607},81753,{"$f":"IF(AND(INTRO!$E$37=\"Non-endemic\",INTRO!$E$41=\"Non-endemic\"),0,COUNTRY_INFO!P63)","v":0},{"$f":"IF(AND(INTRO!$E$37=\"Non-endemic\",INTRO!$E$41=\"Non-endemic\"),0,COUNTRY_INFO!R63)","v":2},{"$f":"IF(INTRO!$E$39=\"Non-endemic\",IF($G63=1,DEC!I63,0),IF($G63=1,IVM!G63,0))","v":0},"MBD",{"$f":"IF($J63=\"ALB\", IF(INTRO!$E$39=\"Non-endemic\", IF($H63<>0, IF($I63=0, $D63*$H63, $D63*($H63-$G63)), 0), $D63*$H63), 0)","v":0},0,null,0,{"$f":"IF($J63=\"MBD\", IF(INTRO!$E$39=\"Non-endemic\", IF($H63<>0, IF($I63=0, $D63*$H63, $D63*($H63-$G63)), 0), $D63*$H63), 0)","v":52292},111214,null,163506,0,0,0,0,0,0,0,111214,742]
[{"$f":"IF(AND(INTRO!$E$37=\"Non-endemic\",INTRO!$E$41=\"Non-endemic\"),\" \",IF(COUNTRY_INFO!A64=0,\" \",COUNTRY_INFO!A64))","v":"Uganda"},{"$f":"IF(AND(INTRO!$E$37=\"Non-endemic\",INTRO!$E$41=\"Non-endemic\"),\" \",IF(COUNTRY_INFO!B64=0,\" \",COUNTRY_INFO!B64))","v":"CENTRAL"},{"$f":"IF(AND(INTRO!$E$37=\"Non-endemic\",INTRO!$E$41=\"Non-endemic\"),\" \",IF(COUNTRY_INFO!C64=0,\" \",COUNTRY_INFO!C64))","v":"KIBOGA"},{"$f":"IF(AND(INTRO!$E$37=\"Non-endemic\",INTRO!$E$41=\"Non-endemic\"),0,IF(AND(OR(COUNTRY_INFO!$H64=0,COUNTRY_INFO!$H64=4,COUNTRY_INFO!$H64=99),OR(COUNTRY_INFO!$J64=0,COUNTRY_INFO!$J64=4)),0,COUNTRY_INFO!$E64))","v":24435},{"$f":"IF(AND(INTRO!$E$37=\"Non-endemic\",INTRO!$E$41=\"Non-endemic\"),0,IF(AND(OR(COUNTRY_INFO!$H64=0,COUNTRY_INFO!$H64=4,COUNTRY_INFO!$H64=99),OR(COUNTRY_INFO!$J64=0,COUNTRY_INFO!$J64=4)),0,COUNTRY_INFO!$F64))","v":51967},76402,{"$f":"IF(AND(INTRO!$E$37=\"Non-endemic\",INTRO!$E$41=\"Non-endemic\"),0,COUNTRY_INFO!P64)","v":0},{"$f":"IF(AND(INTRO!$E$37=\"Non-endemic\",INTRO!$E$41=\"Non-endemic\"),0,COUNTRY_INFO!R64)","v":2},{"$f":"IF(INTRO!$E$39=\"Non-endemic\",IF($G64=1,DEC!I64,0),IF($G64=1,IVM!G64,0))","v":0},"MBD",{"$f":"IF($J64=\"ALB\", IF(INTRO!$E$39=\"Non-endemic\", IF($H64<>0, IF($I64=0, $D64*$H64, $D64*($H64-$G64)), 0), $D64*$H64), 0)","v":0},0,null,0,{"$f":"IF($J64=\"MBD\", IF(INTRO!$E$39=\"Non-endemic\", IF($H64<>0, IF($I64=0, $D64*$H64, $D64*($H64-$G64)), 0), $D64*$H64), 0)","v":48870},103934,null,152804,0,0,0,0,0,0,0,103934,693]
[{"$f":"IF(AND(INTRO!$E$37=\"Non-endemic\",INTRO!$E$41=\"Non-endemic\"),\" \",IF(COUNTRY_INFO!A65=0,\" \",COUNTRY_INFO!A65))","v":"Uganda"},{"$f":"IF(AND(INTRO!$E$37=\"Non-endemic\",INTRO!$E$41=\"Non-endemic\"),\" \",IF(COUNTRY_INFO!B65=0,\" \",COUNTRY_INFO!B65))","v":"EASTERN"},{"$f":"IF(AND(INTRO!$E$37=\"Non-endemic\",INTRO!$E$41=\"Non-endemic\"),\" \",IF(COUNTRY_INFO!C65=0,\" \",COUNTRY_INFO!C65))","v":"KIBUKU"},{"$f":"IF(AND(INTRO!$E$37=\"Non-endemic\",INTRO!$E$41=\"Non-endemic\"),0,IF(AND(OR(COUNTRY_INFO!$H65=0,COUNTRY_INFO!$H65=4,COUNTRY_INFO!$H65=99),OR(COUNTRY_INFO!$J65=0,COUNTRY_INFO!$J65=4)),0,COUNTRY_INFO!$E65))","v":33307},{"$f":"IF(AND(INTRO!$E$37=\"Non-endemic\",INTRO!$E$41=\"Non-endemic\"),0,IF(AND(OR(COUNTRY_INFO!$H65=0,COUNTRY_INFO!$H65=4,COUNTRY_INFO!$H65=99),OR(COUNTRY_INFO!$J65=0,COUNTRY_INFO!$J65=4)),0,COUNTRY_INFO!$F65))","v":70835},104142,{"$f":"IF(AND(INTRO!$E$37=\"Non-endemic\",INTRO!$E$41=\"Non-endemic\"),0,COUNTRY_INFO!P65)","v":0},{"$f":"IF(AND(INTRO!$E$37=\"Non-endemic\",INTRO!$E$41=\"Non-endemic\"),0,COUNTRY_INFO!R65)","v":2},{"$f":"IF(INTRO!$E$39=\"Non-endemic\",IF($G65=1,DEC!I65,0),IF($G65=1,IVM!G65,0))","v":0},"MBD",{"$f":"IF($J65=\"ALB\", IF(INTRO!$E$39=\"Non-endemic\", IF($H65<>0, IF($I65=0, $D65*$H65, $D65*($H65-$G65)), 0), $D65*$H65), 0)","v":0},0,null,0,{"$f":"IF($J65=\"MBD\", IF(INTRO!$E$39=\"Non-endemic\", IF($H65<>0, IF($I65=0, $D65*$H65, $D65*($H65-$G65)), 0), $D65*$H65), 0)","v":66614},141670,null,208284,0,0,0,0,0,0,0,141670,945]
[{"$f":"IF(AND(INTRO!$E$37=\"Non-endemic\",INTRO!$E$41=\"Non-endemic\"),\" \",IF(COUNTRY_INFO!A66=0,\" \",COUNTRY_INFO!A66))","v":"Uganda"},{"$f":"IF(AND(INTRO!$E$37=\"Non-endemic\",INTRO!$E$41=\"Non-endemic\"),\" \",IF(COUNTRY_INFO!B66=0,\" \",COUNTRY_INFO!B66))","v":"WESTERN"},{"$f":"IF(AND(INTRO!$E$37=\"Non-endemic\",INTRO!$E$41=\"Non-endemic\"),\" \",IF(COUNTRY_INFO!C66=0,\" \",COUNTRY_INFO!C66))","v":"KIRUHURA"},{"$f":"IF(AND(INTRO!$E$37=\"Non-endemic\",INTRO!$E$41=\"Non-endemic\"),0,IF(AND(OR(COUNTRY_INFO!$H66=0,COUNTRY_INFO!$H66=4,COUNTRY_INFO!$H66=99),OR(COUNTRY_INFO!$J66=0,COUNTRY_INFO!$J66=4)),0,COUNTRY_INFO!$E66))","v":54086},{"$f":"IF(AND(INTRO!$E$37=\"Non-endemic\",INTRO!$E$41=\"Non-endemic\"),0,IF(AND(OR(COUNTRY_INFO!$H66=0,COUNTRY_INFO!$H66=4,COUNTRY_INFO!$H66=99),OR(COUNTRY_INFO!$J66=0,COUNTRY_INFO!$J66=4)),0,COUNTRY_INFO!$F66))","v":115027},169113,{"$f":"IF(AND(INTRO!$E$37=\"Non-endemic\",INTRO!$E$41=\"Non-endemic\"),0,COUNTRY_INFO!P66)","v":0},{"$f":"IF(AND(INTRO!$E$37=\"Non-endemic\",INTRO!$E$41=\"Non-endemic\"),0,COUNTRY_INFO!R66)","v":2},{"$f":"IF(INTRO!$E$39=\"Non-endemic\",IF($G66=1,DEC!I66,0),IF($G66=1,IVM!G66,0))","v":0},"MBD",{"$f":"IF($J66=\"ALB\", IF(INTRO!$E$39=\"Non-endemic\", IF($H66<>0, IF($I66=0, $D66*$H66, $D66*($H66-$G66)), 0), $D66*$H66), 0)","v":0},0,null,0,{"$f":"IF($J66=\"MBD\", IF(INTRO!$E$39=\"Non-endemic\", IF($H66<>0, IF($I66=0, $D66*$H66, $D66*($H66-$G66)), 0), $D66*$H66), 0)","v":108172},230054,null,338226,0,0,0,0,0,0,0,230054,1534]
[{"$f":"IF(AND(INTRO!$E$37=\"Non-endemic\",INTRO!$E$41=\"Non-endemic\"),\" \",IF(COUNTRY_INFO!A67=0,\" \",COUNTRY_INFO!A67))","v":"Uganda"},{"$f":"IF(AND(INTRO!$E$37=\"Non-endemic\",INTRO!$E$41=\"Non-endemic\"),\" \",IF(COUNTRY_INFO!B67=0,\" \",COUNTRY_INFO!B67))","v":"WESTERN"},{"$f":"IF(AND(INTRO!$E$37=\"Non-endemic\",INTRO!$E$41=\"Non-endemic\"),\" \",IF(COUNTRY_INFO!C67=0,\" \",COUNTRY_INFO!C67))","v":"KIRYANDONGO"},{"$f":"IF(AND(INTRO!$E$37=\"Non-endemic\",INTRO!$E$41=\"Non-endemic\"),0,IF(AND(OR(COUNTRY_INFO!$H67=0,COUNTRY_INFO!$H67=4,COUNTRY_INFO!$H67=99),OR(COUNTRY_INFO!$J67=0,COUNTRY_INFO!$J67=4)),0,COUNTRY_INFO!$E67))","v":43884},{"$f":"IF(AND(INTRO!$E$37=\"Non-endemic\",INTRO!$E$41=\"Non-endemic\"),0,IF(AND(OR(COUNTRY_INFO!$H67=0,COUNTRY_INFO!$H67=4,COUNTRY_INFO!$H67=99),OR(COUNTRY_INFO!$J67=0,COUNTRY_INFO!$J67=4)),0,COUNTRY_INFO!$F67))","v":93332},137216,{"$f":"IF(AND(INTRO!$E$37=\"Non-endemic\",INTRO!$E$41=\"Non-endemic\"),0,COUNTRY_INFO!P67)","v":0},{"$f":"IF(AND(INTRO!$E$37=\"Non-endemic\",INTRO!$E$41=\"Non-endemic\"),0,COUNTRY_INFO!R67)","v":2},{"$f":"IF(INTRO!$E$39=\"Non-endemic\",IF($G67=1,DEC!I67,0),IF($G67=1,IVM!G67,0))","v":0},"MBD",{"$f":"IF($J67=\"ALB\", IF(INTRO!$E$39=\"Non-endemic\", IF($H67<>0, IF($I67=0, $D67*$H67, $D67*($H67-$G67)), 0), $D67*$H67), 0)","v":0},0,null,0,{"$f":"IF($J67=\"MBD\", IF(INTRO!$E$39=\"Non-endemic\", IF($H67<>0, IF($I67=0, $D67*$H67, $D67*($H67-$G67)), 0), $D67*$H67), 0)","v":87768},186664,null,274432,0,0,0,0,0,0,0,186664,1245]
[{"$f":"IF(AND(INTRO!$E$37=\"Non-endemic\",INTRO!$E$41=\"Non-endemic\"),\" \",IF(COUNTRY_INFO!A68=0,\" \",COUNTRY_INFO!A68))","v":"Uganda"},{"$f":"IF(AND(INTRO!$E$37=\"Non-endemic\",INTRO!$E$41=\"Non-endemic\"),\" \",IF(COUNTRY_INFO!B68=0,\" \",COUNTRY_INFO!B68))","v":"WESTERN"},{"$f":"IF(AND(INTRO!$E$37=\"Non-endemic\",INTRO!$E$41=\"Non-endemic\"),\" \",IF(COUNTRY_INFO!C68=0,\" \",COUNTRY_INFO!C68))","v":"KISORO"},{"$f":"IF(AND(INTRO!$E$37=\"Non-endemic\",INTRO!$E$41=\"Non-endemic\"),0,IF(AND(OR(COUNTRY_INFO!$H68=0,COUNTRY_INFO!$H68=4,COUNTRY_INFO!$H68=99),OR(COUNTRY_INFO!$J68=0,COUNTRY_INFO!$J68=4)),0,COUNTRY_INFO!$E68))","v":46441},{"$f":"IF(AND(INTRO!$E$37=\"Non-endemic\",INTRO!$E$41=\"Non-endemic\"),0,IF(AND(OR(COUNTRY_INFO!$H68=0,COUNTRY_INFO!$H68=4,COUNTRY_INFO!$H68=99),OR(COUNTRY_INFO!$J68=0,COUNTRY_INFO!$J68=4)),0,COUNTRY_INFO!$F68))","v":98769},145210,{"$f":"IF(AND(INTRO!$E$37=\"Non-endemic\",INTRO!$E$41=\"Non-endemic\"),0,COUNTRY_INFO!P68)","v":0},{"$f":"IF(AND(INTRO!$E$37=\"Non-endemic\",INTRO!$E$41=\"Non-endemic\"),0,COUNTRY_INFO!R68)","v":2},{"$f":"IF(INTRO!$E$39=\"Non-endemic\",IF($G68=1,DEC!I68,0),IF($G68=1,IVM!G68,0))","v":0},"MBD",{"$f":"IF($J68=\"ALB\", IF(INTRO!$E$39=\"Non-endemic\", IF($H68<>0, IF($I68=0, $D68*$H68, $D68*($H68-$G68)), 0), $D68*$H68), 0)","v":0},0,null,0,{"$f":"IF($J68=\"MBD\", IF(INTRO!$E$39=\"Non-endemic\", IF($H68<>0, IF($I68=0, $D68*$H68, $D68*($H68-$G68)), 0), $D68*$H68), 0)","v":92882},197538,null,290420,0,0,0,0,0,0,0,197538,1317]
[{"$f":"IF(AND(INTRO!$E$37=\"Non-endemic\",INTRO!$E$41=\"Non-endemic\"),\" \",IF(COUNTRY_INFO!A69=0,\" \",COUNTRY_INFO!A69))","v":"Uganda"},{"$f":"IF(AND(INTRO!$E$37=\"Non-endemic\",INTRO!$E$41=\"Non-endemic\"),\" \",IF(COUNTRY_INFO!B69=0,\" \",COUNTRY_INFO!B69))","v":"NORTHERN"},{"$f":"IF(AND(INTRO!$E$37=\"Non-endemic\",INTRO!$E$41=\"Non-endemic\"),\" \",IF(COUNTRY_INFO!C69=0,\" \",COUNTRY_INFO!C69))","v":"KITGUM"},{"$f":"IF(AND(INTRO!$E$37=\"Non-endemic\",INTRO!$E$41=\"Non-endemic\"),0,IF(AND(OR(COUNTRY_INFO!$H69=0,COUNTRY_INFO!$H69=4,COUNTRY_INFO!$H69=99),OR(COUNTRY_INFO!$J69=0,COUNTRY_INFO!$J69=4)),0,COUNTRY_INFO!$E69))","v":33639},{"$f":"IF(AND(INTRO!$E$37=\"Non-endemic\",INTRO!$E$41=\"Non-endemic\"),0,IF(AND(OR(COUNTRY_INFO!$H69=0,COUNTRY_INFO!$H69=4,COUNTRY_INFO!$H69=99),OR(COUNTRY_INFO!$J69=0,COUNTRY_INFO!$J69=4)),0,COUNTRY_INFO!$F69))","v":71542},105181,{"$f":"IF(AND(INTRO!$E$37=\"Non-endemic\",INTRO!$E$41=\"Non-endemic\"),0,COUNTRY_INFO!P69)","v":1},{"$f":"IF(AND(INTRO!$E$37=\"Non-endemic\",INTRO!$E$41=\"Non-endemic\"),0,COUNTRY_INFO!R69)","v":2},{"$f":"IF(INTRO!$E$39=\"Non-endemic\",IF($G69=1,DEC!I69,0),IF($G69=1,IVM!G69,0))","v":194963},"ALB",{"$f":"IF($J69=\"ALB\", IF(INTRO!$E$39=\"Non-endemic\", IF($H69<>0, IF($I69=0, $D69*$H69, $D69*($H69-$G69)), 0), $D69*$H69), 0)","v":67278},71542,null,138820,{"$f":"IF($J69=\"MBD\", IF(INTRO!$E$39=\"Non-endemic\", IF($H69<>0, IF($I69=0, $D69*$H69, $D69*($H69-$G69)), 0), $D69*$H69), 0)","v":0},0,null,0,0,194963,975,0,71542,358,0,0,0]
[{"$f":"IF(AND(INTRO!$E$37=\"Non-endemic\",INTRO!$E$41=\"Non-endemic\"),\" \",IF(COUNTRY_INFO!A70=0,\" \",COUNTRY_INFO!A70))","v":"Uganda"},{"$f":"IF(AND(INTRO!$E$37=\"Non-endemic\",INTRO!$E$41=\"Non-endemic\"),\" \",IF(COUNTRY_INFO!B70=0,\" \",COUNTRY_INFO!B70))","v":"NORTHERN"},{"$f":"IF(AND(INTRO!$E$37=\"Non-endemic\",INTRO!$E$41=\"Non-endemic\"),\" \",IF(COUNTRY_INFO!C70=0,\" \",COUNTRY_INFO!C70))","v":"KOBOKO"},{"$f":"IF(AND(INTRO!$E$37=\"Non-endemic\",INTRO!$E$41=\"Non-endemic\"),0,IF(AND(OR(COUNTRY_INFO!$H70=0,COUNTRY_INFO!$H70=4,COUNTRY_INFO!$H70=99),OR(COUNTRY_INFO!$J70=0,COUNTRY_INFO!$J70=4)),0,COUNTRY_INFO!$E70))","v":34042},{"$f":"IF(AND(INTRO!$E$37=\"Non-endemic\",INTRO!$E$41=\"Non-endemic\"),0,IF(AND(OR(COUNTRY_INFO!$H70=0,COUNTRY_INFO!$H70=4,COUNTRY_INFO!$H70=99),OR(COUNTRY_INFO!$J70=0,COUNTRY_INFO!$J70=4)),0,COUNTRY_INFO!$F70))","v":72399},106441,{"$f":"IF(AND(INTRO!$E$37=\"Non-endemic\",INTRO!$E$41=\"Non-endemic\"),0,COUNTRY_INFO!P70)","v":0},{"$f":"IF(AND(INTRO!$E$37=\"Non-endemic\",INTRO!$E$41=\"Non-endemic\"),0,COUNTRY_INFO!R70)","v":2},{"$f":"IF(INTRO!$E$39=\"Non-endemic\",IF($G70=1,DEC!I70,0),IF($G70=1,IVM!G70,0))","v":0},"MBD",{"$f":"IF($J70=\"ALB\", IF(INTRO!$E$39=\"Non-endemic\", IF($H70<>0, IF($I70=0, $D70*$H70, $D70*($H70-$G70)), 0), $D70*$H70), 0)","v":0},0,null,0,{"$f":"IF($J70=\"MBD\", IF(INTRO!$E$39=\"Non-endemic\", IF($H70<>0, IF($I70=0, $D70*$H70, $D70*($H70-$G70)), 0), $D70*$H70), 0)","v":68084},144798,null,212882,0,0,0,0,0,0,0,144798,966]
[{"$f":"IF(AND(INTRO!$E$37=\"Non-endemic\",INTRO!$E$41=\"Non-endemic\"),\" \",IF(COUNTRY_INFO!A71=0,\" \",COUNTRY_INFO!A71))","v":"Uganda"},{"$f":"IF(AND(INTRO!$E$37=\"Non-endemic\",INTRO!$E$41=\"Non-endemic\"),\" \",IF(COUNTRY_INFO!B71=0,\" \",COUNTRY_INFO!B71))","v":"NORTHERN"},{"$f":"IF(AND(INTRO!$E$37=\"Non-endemic\",INTRO!$E$41=\"Non-endemic\"),\" \",IF(COUNTRY_INFO!C71=0,\" \",COUNTRY_INFO!C71))","v":"KOLE"},{"$f":"IF(AND(INTRO!$E$37=\"Non-endemic\",INTRO!$E$41=\"Non-endemic\"),0,IF(AND(OR(COUNTRY_INFO!$H71=0,COUNTRY_INFO!$H71=4,COUNTRY_INFO!$H71=99),OR(COUNTRY_INFO!$J71=0,COUNTRY_INFO!$J71=4)),0,COUNTRY_INFO!$E71))","v":39455},{"$f":"IF(AND(INTRO!$E$37=\"Non-endemic\",INTRO!$E$41=\"Non-endemic\"),0,IF(AND(OR(COUNTRY_INFO!$H71=0,COUNTRY_INFO!$H71=4,COUNTRY_INFO!$H71=99),OR(COUNTRY_INFO!$J71=0,COUNTRY_INFO!$J71=4)),0,COUNTRY_INFO!$F71))","v":83911},123366,{"$f":"IF(AND(INTRO!$E$37=\"Non-endemic\",INTRO!$E$41=\"Non-endemic\"),0,COUNTRY_INFO!P71)","v":0},{"$f":"IF(AND(INTRO!$E$37=\"Non-endemic\",INTRO!$E$41=\"Non-endemic\"),0,COUNTRY_INFO!R71)","v":2},{"$f":"IF(INTRO!$E$39=\"Non-endemic\",IF($G71=1,DEC!I71,0),IF($G71=1,IVM!G71,0))","v":0},"MBD",{"$f":"IF($J71=\"ALB\", IF(INTRO!$E$39=\"Non-endemic\", IF($H71<>0, IF($I71=0, $D71*$H71, $D71*($H71-$G71)), 0), $D71*$H71), 0)","v":0},0,null,0,{"$f":"IF($J71=\"MBD\", IF(INTRO!$E$39=\"Non-endemic\", IF($H71<>0, IF($I71=0, $D71*$H71, $D71*($H71-$G71)), 0), $D71*$H71), 0)","v":78910},167822,null,246732,0,0,0,0,0,0,0,167822,1119]
[{"$f":"IF(AND(INTRO!$E$37=\"Non-endemic\",INTRO!$E$41=\"Non-endemic\"),\" \",IF(COUNTRY_INFO!A72=0,\" \",COUNTRY_INFO!A72))","v":"Uganda"},{"$f":"IF(AND(INTRO!$E$37=\"Non-endemic\",INTRO!$E$41=\"Non-endemic\"),\" \",IF(COUNTRY_INFO!B72=0,\" \",COUNTRY_INFO!B72))","v":"NORTHERN"},{"$f":"IF(AND(INTRO!$E$37=\"Non-endemic\",INTRO!$E$41=\"Non-endemic\"),\" \",IF(COUNTRY_INFO!C72=0,\" \",COUNTRY_INFO!C72))","v":"KOTIDO"},{"$f":"IF(AND(INTRO!$E$37=\"Non-endemic\",INTRO!$E$41=\"Non-endemic\"),0,IF(AND(OR(COUNTRY_INFO!$H72=0,COUNTRY_INFO!$H72=4,COUNTRY_INFO!$H72=99),OR(COUNTRY_INFO!$J72=0,COUNTRY_INFO!$J72=4)),0,COUNTRY_INFO!$E72))","v":29847},{"$f":"IF(AND(INTRO!$E$37=\"Non-endemic\",INTRO!$E$41=\"Non-endemic\"),0,IF(AND(OR(COUNTRY_INFO!$H72=0,COUNTRY_INFO!$H72=4,COUNTRY_INFO!$H72=99),OR(COUNTRY_INFO!$J72=0,COUNTRY_INFO!$J72=4)),0,COUNTRY_INFO!$F72))","v":63478},93325,{"$f":"IF(AND(INTRO!$E$37=\"Non-endemic\",INTRO!$E$41=\"Non-endemic\"),0,COUNTRY_INFO!P72)","v":0},{"$f":"IF(AND(INTRO!$E$37=\"Non-endemic\",INTRO!$E$41=\"Non-endemic\"),0,COUNTRY_INFO!R72)","v":2},{"$f":"IF(INTRO!$E$39=\"Non-endemic\",IF($G72=1,DEC!I72,0),IF($G72=1,IVM!G72,0))","v":0},"MBD",{"$f":"IF($J72=\"ALB\", IF(INTRO!$E$39=\"Non-endemic\", IF($H72<>0, IF($I72=0, $D72*$H72, $D72*($H72-$G72)), 0), $D72*$H72), 0)","v":0},0,null,0,{"$f":"IF($J72=\"MBD\", IF(INTRO!$E$39=\"Non-endemic\", IF($H72<>0, IF($I72=0, $D72*$H72, $D72*($H72-$G72)), 0), $D72*$H72), 0)","v":59694},126956,null,186650,0,0,0,0,0,0,0,126956,847]
[{"$f":"IF(AND(INTRO!$E$37=\"Non-endemic\",INTRO!$E$41=\"Non-endemic\"),\" \",IF(COUNTRY_INFO!A73=0,\" \",COUNTRY_INFO!A73))","v":"Uganda"},{"$f":"IF(AND(INTRO!$E$37=\"Non-endemic\",INTRO!$E$41=\"Non-endemic\"),\" \",IF(COUNTRY_INFO!B73=0,\" \",COUNTRY_INFO!B73))","v":"EASTERN"},{"$f":"IF(AND(INTRO!$E$37=\"Non-endemic\",INTRO!$E$41=\"Non-endemic\"),\" \",IF(COUNTRY_INFO!C73=0,\" \",COUNTRY_INFO!C73))","v":"KUMI"},{"$f":"IF(AND(INTRO!$E$37=\"Non-endemic\",INTRO!$E$41=\"Non-endemic\"),0,IF(AND(OR(COUNTRY_INFO!$H73=0,COUNTRY_INFO!$H73=4,COUNTRY_INFO!$H73=99),OR(COUNTRY_INFO!$J73=0,COUNTRY_INFO!$J73=4)),0,COUNTRY_INFO!$E73))","v":39445},{"$f":"IF(AND(INTRO!$E$37=\"Non-endemic\",INTRO!$E$41=\"Non-endemic\"),0,IF(AND(OR(COUNTRY_INFO!$H73=0,COUNTRY_INFO!$H73=4,COUNTRY_INFO!$H73=99),OR(COUNTRY_INFO!$J73=0,COUNTRY_INFO!$J73=4)),0,COUNTRY_INFO!$F73))","v":83890},{"$f":"SUM(D73:E73)","v":123335},{"$f":"IF(AND(INTRO!$E$37=\"Non-endemic\",INTRO!$E$41=\"Non-endemic\"),0,COUNTRY_INFO!P73)","v":0},{"$f":"IF(AND(INTRO!$E$37=\"Non-endemic\",INTRO!$E$41=\"Non-endemic\"),0,COUNTRY_INFO!R73)","v":2},{"$f":"IF(INTRO!$E$39=\"Non-endemic\",IF($G73=1,DEC!I73,0),IF($G73=1,IVM!G73,0))","v":0},"MBD",{"$f":"IF($J73=\"ALB\", IF(INTRO!$E$39=\"Non-endemic\", IF($H73<>0, IF($I73=0, $D73*$H73, $D73*($H73-$G73)), 0), $D73*$H73), 0)","v":0},{"$f":"IF($J73=\"ALB\", IF($H73<>0, IF($I73=0, $E73*$H73, $E73*($H73-$G73)),0), 0)","v":0},null,{"$f":"SUM(K73:M73)","v":0},{"$f":"IF($J73=\"MBD\", IF(INTRO!$E$39=\"Non-endemic\", IF($H73<>0, IF($I73=0, $D73*$H73, $D73*($H73-$G73)), 0), $D73*$H73), 0)","v":78890},{"$f":"IF($J73=\"MBD\", IF($H73<>0,IF($I73=0, $E73*$H73, $E73*($H73-$G73)),0), 0 )","v":167780},null,{"$f":"SUM(O73:Q73)","v":246670},0,{"$f":"IF($I73>$S73, $I73-$S73,0)","v":0},{"$f":"ROUNDUP($I73/200,0)","v":0},0,{"$f":"IF($L73>$V73,$L73-$V73,0)","v":0},{"$f":"ROUNDUP($L73/200,0)","v":0},0,{"$f":"IF($P73>$Y73,$P73-$Y73,0)","v":167780},{"$f":"ROUNDUP($P73/150,0)","v":1119}]
[{"$f":"IF(AND(INTRO!$E$37=\"Non-endemic\",INTRO!$E$41=\"Non-endemic\"),\" \",IF(COUNTRY_INFO!A74=0,\" \",COUNTRY_INFO!A74))","v":"Uganda"},{"$f":"IF(AND(INTRO!$E$37=\"Non-endemic\",INTRO!$E$41=\"Non-endemic\"),\" \",IF(COUNTRY_INFO!B74=0,\" \",COUNTRY_INFO!B74))","v":"EASTERN"},{"$f":"IF(AND(INTRO!$E$37=\"Non-endemic\",INTRO!$E$41=\"Non-endemic\"),\" \",IF(COUNTRY_INFO!C74=0,\" \",COUNTRY_INFO!C74))","v":"KWEEN"},{"$f":"IF(AND(INTRO!$E$37=\"Non-endemic\",INTRO!$E$41=\"Non-endemic\"),0,IF(AND(OR(COUNTRY_INFO!$H74=0,COUNTRY_INFO!$H74=4,COUNTRY_INFO!$H74=99),OR(COUNTRY_INFO!$J74=0,COUNTRY_INFO!$J74=4)),0,COUNTRY_INFO!$E74))","v":15442},{"$f":"IF(AND(INTRO!$E$37=\"Non-endemic\",INTRO!$E$41=\"Non-endemic\"),0,IF(AND(OR(COUNTRY_INFO!$H74=0,COUNTRY_INFO!$H74=4,COUNTRY_INFO!$H74=99),OR(COUNTRY_INFO!$J74=0,COUNTRY_INFO!$J74=4)),0,COUNTRY_INFO!$F74))","v":32841},48283,{"$f":"IF(AND(INTRO!$E$37=\"Non-endemic\",INTRO!$E$41=\"Non-endemic\"),0,COUNTRY_INFO!P74)","v":0},{"$f":"IF(AND(INTRO!$E$37=\"Non-endemic\",INTRO!$E$41=\"Non-endemic\"),0,COUNTRY_INFO!R74)","v":2},{"$f":"IF(INTRO!$E$39=\"Non-endemic\",IF($G74=1,DEC!I74,0),IF($G74=1,IVM!G74,0))","v":0},"MBD",{"$f":"IF($J74=\"ALB\", IF(INTRO!$E$39=\"Non-endemic\", IF($H74<>0, IF($I74=0, $D74*$H74, $D74*($H74-$G74)), 0), $D74*$H74), 0)","v":0},0,null,0,{"$f":"IF($J74=\"MBD\", IF(INTRO!$E$39=\"Non-endemic\", IF($H74<>0, IF($I74=0, $D74*$H74, $D74*($H74-$G74)), 0), $D74*$H74), 0)","v":30884},65682,null,96566,0,0,0,0,0,0,0,65682,438]
[{"$f":"IF(AND(INTRO!$E$37=\"Non-endemic\",INTRO!$E$41=\"Non-endemic\"),\" \",IF(COUNTRY_INFO!A75=0,\" \",COUNTRY_INFO!A75))","v":"Uganda"},{"$f":"IF(AND(INTRO!$E$37=\"Non-endemic\",INTRO!$E$41=\"Non-endemic\"),\" \",IF(COUNTRY_INFO!B75=0,\" \",COUNTRY_INFO!B75))","v":"CENTRAL"},{"$f":"IF(AND(INTRO!$E$37=\"Non-endemic\",INTRO!$E$41=\"Non-endemic\"),\" \",IF(COUNTRY_INFO!C75=0,\" \",COUNTRY_INFO!C75))","v":"KYANKWANZI"},{"$f":"IF(AND(INTRO!$E$37=\"Non-endemic\",INTRO!$E$41=\"Non-endemic\"),0,IF(AND(OR(COUNTRY_INFO!$H75=0,COUNTRY_INFO!$H75=4,COUNTRY_INFO!$H75=99),OR(COUNTRY_INFO!$J75=0,COUNTRY_INFO!$J75=4)),0,COUNTRY_INFO!$E75))","v":35394},{"$f":"IF(AND(INTRO!$E$37=\"Non-endemic\",INTRO!$E$41=\"Non-endemic\"),0,IF(AND(OR(COUNTRY_INFO!$H75=0,COUNTRY_INFO!$H75=4,COUNTRY_INFO!$H75=99),OR(COUNTRY_INFO!$J75=0,COUNTRY_INFO!$J75=4)),0,COUNTRY_INFO!$F75))","v":75274},110668,{"$f":"IF(AND(INTRO!$E$37=\"Non-endemic\",INTRO!$E$41=\"Non-endemic\"),0,COUNTRY_INFO!P75)","v":0},{"$f":"IF(AND(INTRO!$E$37=\"Non-endemic\",INTRO!$E$41=\"Non-endemic\"),0,COUNTRY_INFO!R75)","v":2},{"$f":"IF(INTRO!$E$39=\"Non-endemic\",IF($G75=1,DEC!I75,0),IF($G75=1,IVM!G75,0))","v":0},"MBD",{"$f":"IF($J75=\"ALB\", IF(INTRO!$E$39=\"Non-endemic\", IF($H75<>0, IF($I75=0, $D75*$H75, $D75*($H75-$G75)), 0), $D75*$H75), 0)","v":0},0,null,0,{"$f":"IF($J75=\"MBD\", IF(INTRO!$E$39=\"Non-endemic\", IF($H75<>0, IF($I75=0, $D75*$H75, $D75*($H75-$G75)), 0), $D75*$H75), 0)","v":70788},150548,null,221336,0,0,0,0,0,0,0,150548,1004]
[{"$f":"IF(AND(INTRO!$E$37=\"Non-endemic\",INTRO!$E$41=\"Non-endemic\"),\" \",IF(COUNTRY_INFO!A76=0,\" \",COUNTRY_INFO!A76))","v":"Uganda"},{"$f":"IF(AND(INTRO!$E$37=\"Non-endemic\",INTRO!$E$41=\"Non-endemic\"),\" \",IF(COUNTRY_INFO!B76=0,\" \",COUNTRY_INFO!B76))","v":"WESTERN"},{"$f":"IF(AND(INTRO!$E$37=\"Non-endemic\",INTRO!$E$41=\"Non-endemic\"),\" \",IF(COUNTRY_INFO!C76=0,\" \",COUNTRY_INFO!C76))","v":"KYEGEGWA"},{"$f":"IF(AND(INTRO!$E$37=\"Non-endemic\",INTRO!$E$41=\"Non-endemic\"),0,IF(AND(OR(COUNTRY_INFO!$H76=0,COUNTRY_INFO!$H76=4,COUNTRY_INFO!$H76=99),OR(COUNTRY_INFO!$J76=0,COUNTRY_INFO!$J76=4)),0,COUNTRY_INFO!$E76))","v":46430},{"$f":"IF(AND(INTRO!$E$37=\"Non-endemic\",INTRO!$E$41=\"Non-endemic\"),0,IF(AND(OR(COUNTRY_INFO!$H76=0,COUNTRY_INFO!$H76=4,COUNTRY_INFO!$H76=99),OR(COUNTRY_INFO!$J76=0,COUNTRY_INFO!$J76=4)),0,COUNTRY_INFO!$F76))","v":98745},145175,{"$f":"IF(AND(INTRO!$E$37=\"Non-endemic\",INTRO!$E$41=\"Non-endemic\"),0,COUNTRY_INFO!P76)","v":0},{"$f":"IF(AND(INTRO!$E$37=\"Non-endemic\",INTRO!$E$41=\"Non-endemic\"),0,COUNTRY_INFO!R76)","v":2},{"$f":"IF(INTRO!$E$39=\"Non-endemic\",IF($G76=1,DEC!I76,0),IF($G76=1,IVM!G76,0))","v":0},"MBD",{"$f":"IF($J76=\"ALB\", IF(INTRO!$E$39=\"Non-endemic\", IF($H76<>0, IF($I76=0, $D76*$H76, $D76*($H76-$G76)), 0), $D76*$H76), 0)","v":0},0,null,0,{"$f":"IF($J76=\"MBD\", IF(INTRO!$E$39=\"Non-endemic\", IF($H76<>0, IF($I76=0, $D76*$H76, $D76*($H76-$G76)), 0), $D76*$H76), 0)","v":92860},197490,null,290350,0,0,0,0,0,0,0,197490,1317]
[{"$f":"IF(AND(INTRO!$E$37=\"Non-endemic\",INTRO!$E$41=\"Non-endemic\"),\" \",IF(COUNTRY_INFO!A77=0,\" \",COUNTRY_INFO!A77))","v":"Uganda"},{"$f":"IF(AND(INTRO!$E$37=\"Non-endemic\",INTRO!$E$41=\"Non-endemic\"),\" \",IF(COUNTRY_INFO!B77=0,\" \",COUNTRY_INFO!B77))","v":"WESTERN"},{"$f":"IF(AND(INTRO!$E$37=\"Non-endemic\",INTRO!$E$41=\"Non-endemic\"),\" \",IF(COUNTRY_INFO!C77=0,\" \",COUNTRY_INFO!C77))","v":"KYENJOJO"},{"$f":"IF(AND(INTRO!$E$37=\"Non-endemic\",INTRO!$E$41=\"Non-endemic\"),0,IF(AND(OR(COUNTRY_INFO!$H77=0,COUNTRY_INFO!$H77=4,COUNTRY_INFO!$H77=99),OR(COUNTRY_INFO!$J77=0,COUNTRY_INFO!$J77=4)),0,COUNTRY_INFO!$E77))","v":69603},{"$f":"IF(AND(INTRO!$E$37=\"Non-endemic\",INTRO!$E$41=\"Non-endemic\"),0,IF(AND(OR(COUNTRY_INFO!$H77=0,COUNTRY_INFO!$H77=4,COUNTRY_INFO!$H77=99),OR(COUNTRY_INFO!$J77=0,COUNTRY_INFO!$J77=4)),0,COUNTRY_INFO!$F77))","v":148029},217632,{"$f":"IF(AND(INTRO!$E$37=\"Non-endemic\",INTRO!$E$41=\"Non-endemic\"),0,COUNTRY_INFO!P77)","v":0},{"$f":"IF(AND(INTRO!$E$37=\"Non-endemic\",INTRO!$E$41=\"Non-endemic\"),0,COUNTRY_INFO!R77)","v":2},{"$f":"IF(INTRO!$E$39=\"Non-endemic\",IF($G77=1,DEC!I77,0),IF($G77=1,IVM!G77,0))","v":0},"MBD",{"$f":"IF($J77=\"ALB\", IF(INTRO!$E$39=\"Non-endemic\", IF($H77<>0, IF($I77=0, $D77*$H77, $D77*($H77-$G77)), 0), $D77*$H77), 0)","v":0},0,null,0,{"$f":"IF($J77=\"MBD\", IF(INTRO!$E$39=\"Non-endemic\", IF($H77<>0, IF($I77=0, $D77*$H77, $D77*($H77-$G77)), 0), $D77*$H77), 0)","v":139206},296058,null,435264,0,0,0,0,0,0,0,296058,1974]
[{"$f":"IF(AND(INTRO!$E$37=\"Non-endemic\",INTRO!$E$41=\"Non-endemic\"),\" \",IF(COUNTRY_INFO!A78=0,\" \",COUNTRY_INFO!A78))","v":"Uganda"},{"$f":"IF(AND(INTRO!$E$37=\"Non-endemic\",INTRO!$E$41=\"Non-endemic\"),\" \",IF(COUNTRY_INFO!B78=0,\" \",COUNTRY_INFO!B78))","v":"Central"},{"$f":"IF(AND(INTRO!$E$37=\"Non-endemic\",INTRO!$E$41=\"Non-endemic\"),\" \",IF(COUNTRY_INFO!C78=0,\" \",COUNTRY_INFO!C78))","v":"KYOTERA"},{"$f":"IF(AND(INTRO!$E$37=\"Non-endemic\",INTRO!$E$41=\"Non-endemic\"),0,IF(AND(OR(COUNTRY_INFO!$H78=0,COUNTRY_INFO!$H78=4,COUNTRY_INFO!$H78=99),OR(COUNTRY_INFO!$J78=0,COUNTRY_INFO!$J78=4)),0,COUNTRY_INFO!$E78))","v":26794},{"$f":"IF(AND(INTRO!$E$37=\"Non-endemic\",INTRO!$E$41=\"Non-endemic\"),0,IF(AND(OR(COUNTRY_INFO!$H78=0,COUNTRY_INFO!$H78=4,COUNTRY_INFO!$H78=99),OR(COUNTRY_INFO!$J78=0,COUNTRY_INFO!$J78=4)),0,COUNTRY_INFO!$F78))","v":56984},83778,{"$f":"IF(AND(INTRO!$E$37=\"Non-endemic\",INTRO!$E$41=\"Non-endemic\"),0,COUNTRY_INFO!P78)","v":0},{"$f":"IF(AND(INTRO!$E$37=\"Non-endemic\",INTRO!$E$41=\"Non-endemic\"),0,COUNTRY_INFO!R78)","v":2},{"$f":"IF(INTRO!$E$39=\"Non-endemic\",IF($G78=1,DEC!I78,0),IF($G78=1,IVM!G78,0))","v":0},"MBD",{"$f":"IF($J78=\"ALB\", IF(INTRO!$E$39=\"Non-endemic\", IF($H78<>0, IF($I78=0, $D78*$H78, $D78*($H78-$G78)), 0), $D78*$H78), 0)","v":0},0,null,0,{"$f":"IF($J78=\"MBD\", IF(INTRO!$E$39=\"Non-endemic\", IF($H78<>0, IF($I78=0, $D78*$H78, $D78*($H78-$G78)), 0), $D78*$H78), 0)","v":53588},113968,null,167556,0,0,0,0,0,0,0,113968,760]
[{"$f":"IF(AND(INTRO!$E$37=\"Non-endemic\",INTRO!$E$41=\"Non-endemic\"),\" \",IF(COUNTRY_INFO!A79=0,\" \",COUNTRY_INFO!A79))","v":"Uganda"},{"$f":"IF(AND(INTRO!$E$37=\"Non-endemic\",INTRO!$E$41=\"Non-endemic\"),\" \",IF(COUNTRY_INFO!B79=0,\" \",COUNTRY_INFO!B79))","v":"NORTHERN"},{"$f":"IF(AND(INTRO!$E$37=\"Non-endemic\",INTRO!$E$41=\"Non-endemic\"),\" \",IF(COUNTRY_INFO!C79=0,\" \",COUNTRY_INFO!C79))","v":"LAMWO"},{"$f":"IF(AND(INTRO!$E$37=\"Non-endemic\",INTRO!$E$41=\"Non-endemic\"),0,IF(AND(OR(COUNTRY_INFO!$H79=0,COUNTRY_INFO!$H79=4,COUNTRY_INFO!$H79=99),OR(COUNTRY_INFO!$J79=0,COUNTRY_INFO!$J79=4)),0,COUNTRY_INFO!$E79))","v":22378},{"$f":"IF(AND(INTRO!$E$37=\"Non-endemic\",INTRO!$E$41=\"Non-endemic\"),0,IF(AND(OR(COUNTRY_INFO!$H79=0,COUNTRY_INFO!$H79=4,COUNTRY_INFO!$H79=99),OR(COUNTRY_INFO!$J79=0,COUNTRY_INFO!$J79=4)),0,COUNTRY_INFO!$F79))","v":47592},69970,{"$f":"IF(AND(INTRO!$E$37=\"Non-endemic\",INTRO!$E$41=\"Non-endemic\"),0,COUNTRY_INFO!P79)","v":1},{"$f":"IF(AND(INTRO!$E$37=\"Non-endemic\",INTRO!$E$41=\"Non-endemic\"),0,COUNTRY_INFO!R79)","v":2},{"$f":"IF(INTRO!$E$39=\"Non-endemic\",IF($G79=1,DEC!I79,0),IF($G79=1,IVM!G79,0))","v":129697},"ALB",{"$f":"IF($J79=\"ALB\", IF(INTRO!$E$39=\"Non-endemic\", IF($H79<>0, IF($I79=0, $D79*$H79, $D79*($H79-$G79)), 0), $D79*$H79), 0)","v":44756},47592,null,92348,{"$f":"IF($J79=\"MBD\", IF(INTRO!$E$39=\"Non-endemic\", IF($H79<>0, IF($I79=0, $D79*$H79, $D79*($H79-$G79)), 0), $D79*$H79), 0)","v":0},0,null,0,0,129697,649,0,47592,238,0,0,0]
[{"$f":"IF(AND(INTRO!$E$37=\"Non-endemic\",INTRO!$E$41=\"Non-endemic\"),\" \",IF(COUNTRY_INFO!A80=0,\" \",COUNTRY_INFO!A80))","v":"Uganda"},{"$f":"IF(AND(INTRO!$E$37=\"Non-endemic\",INTRO!$E$41=\"Non-endemic\"),\" \",IF(COUNTRY_INFO!B80=0,\" \",COUNTRY_INFO!B80))","v":"NORTHERN"},{"$f":"IF(AND(INTRO!$E$37=\"Non-endemic\",INTRO!$E$41=\"Non-endemic\"),\" \",IF(COUNTRY_INFO!C80=0,\" \",COUNTRY_INFO!C80))","v":"LIRA"},{"$f":"IF(AND(INTRO!$E$37=\"Non-endemic\",INTRO!$E$41=\"Non-endemic\"),0,IF(AND(OR(COUNTRY_INFO!$H80=0,COUNTRY_INFO!$H80=4,COUNTRY_INFO!$H80=99),OR(COUNTRY_INFO!$J80=0,COUNTRY_INFO!$J80=4)),0,COUNTRY_INFO!$E80))","v":67269},{"$f":"IF(AND(INTRO!$E$37=\"Non-endemic\",INTRO!$E$41=\"Non-endemic\"),0,IF(AND(OR(COUNTRY_INFO!$H80=0,COUNTRY_INFO!$H80=4,COUNTRY_INFO!$H80=99),OR(COUNTRY_INFO!$J80=0,COUNTRY_INFO!$J80=4)),0,COUNTRY_INFO!$F80))","v":143064},210333,{"$f":"IF(AND(INTRO!$E$37=\"Non-endemic\",INTRO!$E$41=\"Non-endemic\"),0,COUNTRY_INFO!P80)","v":0},{"$f":"IF(AND(INTRO!$E$37=\"Non-endemic\",INTRO!$E$41=\"Non-endemic\"),0,COUNTRY_INFO!R80)","v":2},{"$f":"IF(INTRO!$E$39=\"Non-endemic\",IF($G80=1,DEC!I80,0),IF($G80=1,IVM!G80,0))","v":0},"MBD",{"$f":"IF($J80=\"ALB\", IF(INTRO!$E$39=\"Non-endemic\", IF($H80<>0, IF($I80=0, $D80*$H80, $D80*($H80-$G80)), 0), $D80*$H80), 0)","v":0},0,null,0,{"$f":"IF($J80=\"MBD\", IF(INTRO!$E$39=\"Non-endemic\", IF($H80<>0, IF($I80=0, $D80*$H80, $D80*($H80-$G80)), 0), $D80*$H80), 0)","v":134538},286128,null,420666,0,0,0,0,0,0,0,286128,1908]
[{"$f":"IF(AND(INTRO!$E$37=\"Non-endemic\",INTRO!$E$41=\"Non-endemic\"),\" \",IF(COUNTRY_INFO!A81=0,\" \",COUNTRY_INFO!A81))","v":"Uganda"},{"$f":"IF(AND(INTRO!$E$37=\"Non-endemic\",INTRO!$E$41=\"Non-endemic\"),\" \",IF(COUNTRY_INFO!B81=0,\" \",COUNTRY_INFO!B81))","v":"EASTERN"},{"$f":"IF(AND(INTRO!$E$37=\"Non-endemic\",INTRO!$E$41=\"Non-endemic\"),\" \",IF(COUNTRY_INFO!C81=0,\" \",COUNTRY_INFO!C81))","v":"LUUKA"},{"$f":"IF(AND(INTRO!$E$37=\"Non-endemic\",INTRO!$E$41=\"Non-endemic\"),0,IF(AND(OR(COUNTRY_INFO!$H81=0,COUNTRY_INFO!$H81=4,COUNTRY_INFO!$H81=99),OR(COUNTRY_INFO!$J81=0,COUNTRY_INFO!$J81=4)),0,COUNTRY_INFO!$E81))","v":39239},{"$f":"IF(AND(INTRO!$E$37=\"Non-endemic\",INTRO!$E$41=\"Non-endemic\"),0,IF(AND(OR(COUNTRY_INFO!$H81=0,COUNTRY_INFO!$H81=4,COUNTRY_INFO!$H81=99),OR(COUNTRY_INFO!$J81=0,COUNTRY_INFO!$J81=4)),0,COUNTRY_INFO!$F81))","v":83453},122692,{"$f":"IF(AND(INTRO!$E$37=\"Non-endemic\",INTRO!$E$41=\"Non-endemic\"),0,COUNTRY_INFO!P81)","v":0},{"$f":"IF(AND(INTRO!$E$37=\"Non-endemic\",INTRO!$E$41=\"Non-endemic\"),0,COUNTRY_INFO!R81)","v":2},{"$f":"IF(INTRO!$E$39=\"Non-endemic\",IF($G81=1,DEC!I81,0),IF($G81=1,IVM!G81,0))","v":0},"MBD",{"$f":"IF($J81=\"ALB\", IF(INTRO!$E$39=\"Non-endemic\", IF($H81<>0, IF($I81=0, $D81*$H81, $D81*($H81-$G81)), 0), $D81*$H81), 0)","v":0},0,null,0,{"$f":"IF($J81=\"MBD\", IF(INTRO!$E$39=\"Non-endemic\", IF($H81<>0, IF($I81=0, $D81*$H81, $D81*($H81-$G81)), 0), $D81*$H81), 0)","v":78478},166906,null,245384,0,0,0,0,0,0,0,166906,1113]
[{"$f":"IF(AND(INTRO!$E$37=\"Non-endemic\",INTRO!$E$41=\"Non-endemic\"),\" \",IF(COUNTRY_INFO!A82=0,\" \",COUNTRY_INFO!A82))","v":"Uganda"},{"$f":"IF(AND(INTRO!$E$37=\"Non-endemic\",INTRO!$E$41=\"Non-endemic\"),\" \",IF(COUNTRY_INFO!B82=0,\" \",COUNTRY_INFO!B82))","v":"CENTRAL"},{"$f":"IF(AND(INTRO!$E$37=\"Non-endemic\",INTRO!$E$41=\"Non-endemic\"),\" \",IF(COUNTRY_INFO!C82=0,\" \",COUNTRY_INFO!C82))","v":"LUWERO"},{"$f":"IF(AND(INTRO!$E$37=\"Non-endemic\",INTRO!$E$41=\"Non-endemic\"),0,IF(AND(OR(COUNTRY_INFO!$H82=0,COUNTRY_INFO!$H82=4,COUNTRY_INFO!$H82=99),OR(COUNTRY_INFO!$J82=0,COUNTRY_INFO!$J82=4)),0,COUNTRY_INFO!$E82))","v":75333},{"$f":"IF(AND(INTRO!$E$37=\"Non-endemic\",INTRO!$E$41=\"Non-endemic\"),0,IF(AND(OR(COUNTRY_INFO!$H82=0,COUNTRY_INFO!$H82=4,COUNTRY_INFO!$H82=99),OR(COUNTRY_INFO!$J82=0,COUNTRY_INFO!$J82=4)),0,COUNTRY_INFO!$F82))","v":160215},235548,{"$f":"IF(AND(INTRO!$E$37=\"Non-endemic\",INTRO!$E$41=\"Non-endemic\"),0,COUNTRY_INFO!P82)","v":0},{"$f":"IF(AND(INTRO!$E$37=\"Non-endemic\",INTRO!$E$41=\"Non-endemic\"),0,COUNTRY_INFO!R82)","v":2},{"$f":"IF(INTRO!$E$39=\"Non-endemic\",IF($G82=1,DEC!I82,0),IF($G82=1,IVM!G82,0))","v":0},"MBD",{"$f":"IF($J82=\"ALB\", IF(INTRO!$E$39=\"Non-endemic\", IF($H82<>0, IF($I82=0, $D82*$H82, $D82*($H82-$G82)), 0), $D82*$H82), 0)","v":0},0,null,0,{"$f":"IF($J82=\"MBD\", IF(INTRO!$E$39=\"Non-endemic\", IF($H82<>0, IF($I82=0, $D82*$H82, $D82*($H82-$G82)), 0), $D82*$H82), 0)","v":150666},320430,null,471096,0,0,0,0,0,0,0,320430,2137]
[{"$f":"IF(AND(INTRO!$E$37=\"Non-endemic\",INTRO!$E$41=\"Non-endemic\"),\" \",IF(COUNTRY_INFO!A83=0,\" \",COUNTRY_INFO!A83))","v":"Uganda"},{"$f":"IF(AND(INTRO!$E$37=\"Non-endemic\",INTRO!$E$41=\"Non-endemic\"),\" \",IF(COUNTRY_INFO!B83=0,\" \",COUNTRY_INFO!B83))","v":"CENTRAL"},{"$f":"IF(AND(INTRO!$E$37=\"Non-endemic\",INTRO!$E$41=\"Non-endemic\"),\" \",IF(COUNTRY_INFO!C83=0,\" \",COUNTRY_INFO!C83))","v":"LWENGO"},{"$f":"IF(AND(INTRO!$E$37=\"Non-endemic\",INTRO!$E$41=\"Non-endemic\"),0,IF(AND(OR(COUNTRY_INFO!$H83=0,COUNTRY_INFO!$H83=4,COUNTRY_INFO!$H83=99),OR(COUNTRY_INFO!$J83=0,COUNTRY_INFO!$J83=4)),0,COUNTRY_INFO!$E83))","v":45328},{"$f":"IF(AND(INTRO!$E$37=\"Non-endemic\",INTRO!$E$41=\"Non-endemic\"),0,IF(AND(OR(COUNTRY_INFO!$H83=0,COUNTRY_INFO!$H83=4,COUNTRY_INFO!$H83=99),OR(COUNTRY_INFO!$J83=0,COUNTRY_INFO!$J83=4)),0,COUNTRY_INFO!$F83))","v":96402},141730,{"$f":"IF(AND(INTRO!$E$37=\"Non-endemic\",INTRO!$E$41=\"Non-endemic\"),0,COUNTRY_INFO!P83)","v":0},{"$f":"IF(AND(INTRO!$E$37=\"Non-endemic\",INTRO!$E$41=\"Non-endemic\"),0,COUNTRY_INFO!R83)","v":2},{"$f":"IF(INTRO!$E$39=\"Non-endemic\",IF($G83=1,DEC!I83,0),IF($G83=1,IVM!G83,0))","v":0},"MBD",{"$f":"IF($J83=\"ALB\", IF(INTRO!$E$39=\"Non-endemic\", IF($H83<>0, IF($I83=0, $D83*$H83, $D83*($H83-$G83)), 0), $D83*$H83), 0)","v":0},0,null,0,{"$f":"IF($J83=\"MBD\", IF(INTRO!$E$39=\"Non-endemic\", IF($H83<>0, IF($I83=0, $D83*$H83, $D83*($H83-$G83)), 0), $D83*$H83), 0)","v":90656},192804,null,283460,0,0,0,0,0,0,0,192804,1286]
[{"$f":"IF(AND(INTRO!$E$37=\"Non-endemic\",INTRO!$E$41=\"Non-endemic\"),\" \",IF(COUNTRY_INFO!A84=0,\" \",COUNTRY_INFO!A84))","v":"Uganda"},{"$f":"IF(AND(INTRO!$E$37=\"Non-endemic\",INTRO!$E$41=\"Non-endemic\"),\" \",IF(COUNTRY_INFO!B84=0,\" \",COUNTRY_INFO!B84))","v":"CENTRAL"},{"$f":"IF(AND(INTRO!$E$37=\"Non-endemic\",INTRO!$E$41=\"Non-endemic\"),\" \",IF(COUNTRY_INFO!C84=0,\" \",COUNTRY_INFO!C84))","v":"LYANTONDE"},{"$f":"IF(AND(INTRO!$E$37=\"Non-endemic\",INTRO!$E$41=\"Non-endemic\"),0,IF(AND(OR(COUNTRY_INFO!$H84=0,COUNTRY_INFO!$H84=4,COUNTRY_INFO!$H84=99),OR(COUNTRY_INFO!$J84=0,COUNTRY_INFO!$J84=4)),0,COUNTRY_INFO!$E84))","v":15456},{"$f":"IF(AND(INTRO!$E$37=\"Non-endemic\",INTRO!$E$41=\"Non-endemic\"),0,IF(AND(OR(COUNTRY_INFO!$H84=0,COUNTRY_INFO!$H84=4,COUNTRY_INFO!$H84=99),OR(COUNTRY_INFO!$J84=0,COUNTRY_INFO!$J84=4)),0,COUNTRY_INFO!$F84))","v":32871},48327,{"$f":"IF(AND(INTRO!$E$37=\"Non-endemic\",INTRO!$E$41=\"Non-endemic\"),0,COUNTRY_INFO!P84)","v":0},{"$f":"IF(AND(INTRO!$E$37=\"Non-endemic\",INTRO!$E$41=\"Non-endemic\"),0,COUNTRY_INFO!R84)","v":2},{"$f":"IF(INTRO!$E$39=\"Non-endemic\",IF($G84=1,DEC!I84,0),IF($G84=1,IVM!G84,0))","v":0},"MBD",{"$f":"IF($J84=\"ALB\", IF(INTRO!$E$39=\"Non-endemic\", IF($H84<>0, IF($I84=0, $D84*$H84, $D84*($H84-$G84)), 0), $D84*$H84), 0)","v":0},0,null,0,{"$f":"IF($J84=\"MBD\", IF(INTRO!$E$39=\"Non-endemic\", IF($H84<>0, IF($I84=0, $D84*$H84, $D84*($H84-$G84)), 0), $D84*$H84), 0)","v":30912},65742,null,96654,0,0,0,0,0,0,0,65742,439]
[{"$f":"IF(AND(INTRO!$E$37=\"Non-endemic\",INTRO!$E$41=\"Non-endemic\"),\" \",IF(COUNTRY_INFO!A85=0,\" \",COUNTRY_INFO!A85))","v":"Uganda"},{"$f":"IF(AND(INTRO!$E$37=\"Non-endemic\",INTRO!$E$41=\"Non-endemic\"),\" \",IF(COUNTRY_INFO!B85=0,\" \",COUNTRY_INFO!B85))","v":"EASTERN"},{"$f":"IF(AND(INTRO!$E$37=\"Non-endemic\",INTRO!$E$41=\"Non-endemic\"),\" \",IF(COUNTRY_INFO!C85=0,\" \",COUNTRY_INFO!C85))","v":"MANAFWA"},{"$f":"IF(AND(INTRO!$E$37=\"Non-endemic\",INTRO!$E$41=\"Non-endemic\"),0,IF(AND(OR(COUNTRY_INFO!$H85=0,COUNTRY_INFO!$H85=4,COUNTRY_INFO!$H85=99),OR(COUNTRY_INFO!$J85=0,COUNTRY_INFO!$J85=4)),0,COUNTRY_INFO!$E85))","v":32082},{"$f":"IF(AND(INTRO!$E$37=\"Non-endemic\",INTRO!$E$41=\"Non-endemic\"),0,IF(AND(OR(COUNTRY_INFO!$H85=0,COUNTRY_INFO!$H85=4,COUNTRY_INFO!$H85=99),OR(COUNTRY_INFO!$J85=0,COUNTRY_INFO!$J85=4)),0,COUNTRY_INFO!$F85))","v":68230},100312,{"$f":"IF(AND(INTRO!$E$37=\"Non-endemic\",INTRO!$E$41=\"Non-endemic\"),0,COUNTRY_INFO!P85)","v":0},{"$f":"IF(AND(INTRO!$E$37=\"Non-endemic\",INTRO!$E$41=\"Non-endemic\"),0,COUNTRY_INFO!R85)","v":2},{"$f":"IF(INTRO!$E$39=\"Non-endemic\",IF($G85=1,DEC!I85,0),IF($G85=1,IVM!G85,0))","v":0},"MBD",{"$f":"IF($J85=\"ALB\", IF(INTRO!$E$39=\"Non-endemic\", IF($H85<>0, IF($I85=0, $D85*$H85, $D85*($H85-$G85)), 0), $D85*$H85), 0)","v":0},0,null,0,{"$f":"IF($J85=\"MBD\", IF(INTRO!$E$39=\"Non-endemic\", IF($H85<>0, IF($I85=0, $D85*$H85, $D85*($H85-$G85)), 0), $D85*$H85), 0)","v":64164},136460,null,200624,0,0,0,0,0,0,0,136460,910]
[{"$f":"IF(AND(INTRO!$E$37=\"Non-endemic\",INTRO!$E$41=\"Non-endemic\"),\" \",IF(COUNTRY_INFO!A86=0,\" \",COUNTRY_INFO!A86))","v":"Uganda"},{"$f":"IF(AND(INTRO!$E$37=\"Non-endemic\",INTRO!$E$41=\"Non-endemic\"),\" \",IF(COUNTRY_INFO!B86=0,\" \",COUNTRY_INFO!B86))","v":"NORTHERN"},{"$f":"IF(AND(INTRO!$E$37=\"Non-endemic\",INTRO!$E$41=\"Non-endemic\"),\" \",IF(COUNTRY_INFO!C86=0,\" \",COUNTRY_INFO!C86))","v":"MARACHA"},{"$f":"IF(AND(INTRO!$E$37=\"Non-endemic\",INTRO!$E$41=\"Non-endemic\"),0,IF(AND(OR(COUNTRY_INFO!$H86=0,COUNTRY_INFO!$H86=4,COUNTRY_INFO!$H86=99),OR(COUNTRY_INFO!$J86=0,COUNTRY_INFO!$J86=4)),0,COUNTRY_INFO!$E86))","v":30685},{"$f":"IF(AND(INTRO!$E$37=\"Non-endemic\",INTRO!$E$41=\"Non-endemic\"),0,IF(AND(OR(COUNTRY_INFO!$H86=0,COUNTRY_INFO!$H86=4,COUNTRY_INFO!$H86=99),OR(COUNTRY_INFO!$J86=0,COUNTRY_INFO!$J86=4)),0,COUNTRY_INFO!$F86))","v":65261},95946,{"$f":"IF(AND(INTRO!$E$37=\"Non-endemic\",INTRO!$E$41=\"Non-endemic\"),0,COUNTRY_INFO!P86)","v":1},{"$f":"IF(AND(INTRO!$E$37=\"Non-endemic\",INTRO!$E$41=\"Non-endemic\"),0,COUNTRY_INFO!R86)","v":2},{"$f":"IF(INTRO!$E$39=\"Non-endemic\",IF($G86=1,DEC!I86,0),IF($G86=1,IVM!G86,0))","v":177846},"ALB",{"$f":"IF($J86=\"ALB\", IF(INTRO!$E$39=\"Non-endemic\", IF($H86<>0, IF($I86=0, $D86*$H86, $D86*($H86-$G86)), 0), $D86*$H86), 0)","v":61370},65261,null,126631,{"$f":"IF($J86=\"MBD\", IF(INTRO!$E$39=\"Non-endemic\", IF($H86<>0, IF($I86=0, $D86*$H86, $D86*($H86-$G86)), 0), $D86*$H86), 0)","v":0},0,null,0,0,177846,890,0,65261,327,0,0,0]
[{"$f":"IF(AND(INTRO!$E$37=\"Non-endemic\",INTRO!$E$41=\"Non-endemic\"),\" \",IF(COUNTRY_INFO!A87=0,\" \",COUNTRY_INFO!A87))","v":"Uganda"},{"$f":"IF(AND(INTRO!$E$37=\"Non-endemic\",INTRO!$E$41=\"Non-endemic\"),\" \",IF(COUNTRY_INFO!B87=0,\" \",COUNTRY_INFO!B87))","v":"CENTRAL"},{"$f":"IF(AND(INTRO!$E$37=\"Non-endemic\",INTRO!$E$41=\"Non-endemic\"),\" \",IF(COUNTRY_INFO!C87=0,\" \",COUNTRY_INFO!C87))","v":"MASAKA"},{"$f":"IF(AND(INTRO!$E$37=\"Non-endemic\",INTRO!$E$41=\"Non-endemic\"),0,IF(AND(OR(COUNTRY_INFO!$H87=0,COUNTRY_INFO!$H87=4,COUNTRY_INFO!$H87=99),OR(COUNTRY_INFO!$J87=0,COUNTRY_INFO!$J87=4)),0,COUNTRY_INFO!$E87))","v":48963},{"$f":"IF(AND(INTRO!$E$37=\"Non-endemic\",INTRO!$E$41=\"Non-endemic\"),0,IF(AND(OR(COUNTRY_INFO!$H87=0,COUNTRY_INFO!$H87=4,COUNTRY_INFO!$H87=99),OR(COUNTRY_INFO!$J87=0,COUNTRY_INFO!$J87=4)),0,COUNTRY_INFO!$F87))","v":104133},153096,{"$f":"IF(AND(INTRO!$E$37=\"Non-endemic\",INTRO!$E$41=\"Non-endemic\"),0,COUNTRY_INFO!P87)","v":0},{"$f":"IF(AND(INTRO!$E$37=\"Non-endemic\",INTRO!$E$41=\"Non-endemic\"),0,COUNTRY_INFO!R87)","v":2},{"$f":"IF(INTRO!$E$39=\"Non-endemic\",IF($G87=1,DEC!I87,0),IF($G87=1,IVM!G87,0))","v":0},"MBD",{"$f":"IF($J87=\"ALB\", IF(INTRO!$E$39=\"Non-endemic\", IF($H87<>0, IF($I87=0, $D87*$H87, $D87*($H87-$G87)), 0), $D87*$H87), 0)","v":0},0,null,0,{"$f":"IF($J87=\"MBD\", IF(INTRO!$E$39=\"Non-endemic\", IF($H87<>0, IF($I87=0, $D87*$H87, $D87*($H87-$G87)), 0), $D87*$H87), 0)","v":97926},208266,null,306192,0,0,0,0,0,0,0,208266,1389]
[{"$f":"IF(AND(INTRO!$E$37=\"Non-endemic\",INTRO!$E$41=\"Non-endemic\"),\" \",IF(COUNTRY_INFO!A88=0,\" \",COUNTRY_INFO!A88))","v":"Uganda"},{"$f":"IF(AND(INTRO!$E$37=\"Non-endemic\",INTRO!$E$41=\"Non-endemic\"),\" \",IF(COUNTRY_INFO!B88=0,\" \",COUNTRY_INFO!B88))","v":"WESTERN"},{"$f":"IF(AND(INTRO!$E$37=\"Non-endemic\",INTRO!$E$41=\"Non-endemic\"),\" \",IF(COUNTRY_INFO!C88=0,\" \",COUNTRY_INFO!C88))","v":"MASINDI"},{"$f":"IF(AND(INTRO!$E$37=\"Non-endemic\",INTRO!$E$41=\"Non-endemic\"),0,IF(AND(OR(COUNTRY_INFO!$H88=0,COUNTRY_INFO!$H88=4,COUNTRY_INFO!$H88=99),OR(COUNTRY_INFO!$J88=0,COUNTRY_INFO!$J88=4)),0,COUNTRY_INFO!$E88))","v":47992},{"$f":"IF(AND(INTRO!$E$37=\"Non-endemic\",INTRO!$E$41=\"Non-endemic\"),0,IF(AND(OR(COUNTRY_INFO!$H88=0,COUNTRY_INFO!$H88=4,COUNTRY_INFO!$H88=99),OR(COUNTRY_INFO!$J88=0,COUNTRY_INFO!$J88=4)),0,COUNTRY_INFO!$F88))","v":102067},150059,{"$f":"IF(AND(INTRO!$E$37=\"Non-endemic\",INTRO!$E$41=\"Non-endemic\"),0,COUNTRY_INFO!P88)","v":0},{"$f":"IF(AND(INTRO!$E$37=\"Non-endemic\",INTRO!$E$41=\"Non-endemic\"),0,COUNTRY_INFO!R88)","v":2},{"$f":"IF(INTRO!$E$39=\"Non-endemic\",IF($G88=1,DEC!I88,0),IF($G88=1,IVM!G88,0))","v":0},"MBD",{"$f":"IF($J88=\"ALB\", IF(INTRO!$E$39=\"Non-endemic\", IF($H88<>0, IF($I88=0, $D88*$H88, $D88*($H88-$G88)), 0), $D88*$H88), 0)","v":0},0,null,0,{"$f":"IF($J88=\"MBD\", IF(INTRO!$E$39=\"Non-endemic\", IF($H88<>0, IF($I88=0, $D88*$H88, $D88*($H88-$G88)), 0), $D88*$H88), 0)","v":95984},204134,null,300118,0,0,0,0,0,0,0,204134,1361]
[{"$f":"IF(AND(INTRO!$E$37=\"Non-endemic\",INTRO!$E$41=\"Non-endemic\"),\" \",IF(COUNTRY_INFO!A89=0,\" \",COUNTRY_INFO!A89))","v":"Uganda"},{"$f":"IF(AND(INTRO!$E$37=\"Non-endemic\",INTRO!$E$41=\"Non-endemic\"),\" \",IF(COUNTRY_INFO!B89=0,\" \",COUNTRY_INFO!B89))","v":"EASTERN"},{"$f":"IF(AND(INTRO!$E$37=\"Non-endemic\",INTRO!$E$41=\"Non-endemic\"),\" \",IF(COUNTRY_INFO!C89=0,\" \",COUNTRY_INFO!C89))","v":"MAYUGE"},{"$f":"IF(AND(INTRO!$E$37=\"Non-endemic\",INTRO!$E$41=\"Non-endemic\"),0,IF(AND(OR(COUNTRY_INFO!$H89=0,COUNTRY_INFO!$H89=4,COUNTRY_INFO!$H89=99),OR(COUNTRY_INFO!$J89=0,COUNTRY_INFO!$J89=4)),0,COUNTRY_INFO!$E89))","v":78017},{"$f":"IF(AND(INTRO!$E$37=\"Non-endemic\",INTRO!$E$41=\"Non-endemic\"),0,IF(AND(OR(COUNTRY_INFO!$H89=0,COUNTRY_INFO!$H89=4,COUNTRY_INFO!$H89=99),OR(COUNTRY_INFO!$J89=0,COUNTRY_INFO!$J89=4)),0,COUNTRY_INFO!$F89))","v":165923},243940,{"$f":"IF(AND(INTRO!$E$37=\"Non-endemic\",INTRO!$E$41=\"Non-endemic\"),0,COUNTRY_INFO!P89)","v":1},{"$f":"IF(AND(INTRO!$E$37=\"Non-endemic\",INTRO!$E$41=\"Non-endemic\"),0,COUNTRY_INFO!R89)","v":2},{"$f":"IF(INTRO!$E$39=\"Non-endemic\",IF($G89=1,DEC!I89,0),IF($G89=1,IVM!G89,0))","v":452167},"ALB",{"$f":"IF($J89=\"ALB\", IF(INTRO!$E$39=\"Non-endemic\", IF($H89<>0, IF($I89=0, $D89*$H89, $D89*($H89-$G89)), 0), $D89*$H89), 0)","v":156034},165923,null,321957,{"$f":"IF($J89=\"MBD\", IF(INTRO!$E$39=\"Non-endemic\", IF($H89<>0, IF($I89=0, $D89*$H89, $D89*($H89-$G89)), 0), $D89*$H89), 0)","v":0},0,null,0,0,452167,2261,0,165923,830,0,0,0]
[{"$f":"IF(AND(INTRO!$E$37=\"Non-endemic\",INTRO!$E$41=\"Non-endemic\"),\" \",IF(COUNTRY_INFO!A90=0,\" \",COUNTRY_INFO!A90))","v":"Uganda"},{"$f":"IF(AND(INTRO!$E$37=\"Non-endemic\",INTRO!$E$41=\"Non-endemic\"),\" \",IF(COUNTRY_INFO!B90=0,\" \",COUNTRY_INFO!B90))","v":"EASTERN"},{"$f":"IF(AND(INTRO!$E$37=\"Non-endemic\",INTRO!$E$41=\"Non-endemic\"),\" \",IF(COUNTRY_INFO!C90=0,\" \",COUNTRY_INFO!C90))","v":"MBALE"},{"$f":"IF(AND(INTRO!$E$37=\"Non-endemic\",INTRO!$E$41=\"Non-endemic\"),0,IF(AND(OR(COUNTRY_INFO!$H90=0,COUNTRY_INFO!$H90=4,COUNTRY_INFO!$H90=99),OR(COUNTRY_INFO!$J90=0,COUNTRY_INFO!$J90=4)),0,COUNTRY_INFO!$E90))","v":80608},{"$f":"IF(AND(INTRO!$E$37=\"Non-endemic\",INTRO!$E$41=\"Non-endemic\"),0,IF(AND(OR(COUNTRY_INFO!$H90=0,COUNTRY_INFO!$H90=4,COUNTRY_INFO!$H90=99),OR(COUNTRY_INFO!$J90=0,COUNTRY_INFO!$J90=4)),0,COUNTRY_INFO!$F90))","v":171434},252042,{"$f":"IF(AND(INTRO!$E$37=\"Non-endemic\",INTRO!$E$41=\"Non-endemic\"),0,COUNTRY_INFO!P90)","v":0},{"$f":"IF(AND(INTRO!$E$37=\"Non-endemic\",INTRO!$E$41=\"Non-endemic\"),0,COUNTRY_INFO!R90)","v":2},{"$f":"IF(INTRO!$E$39=\"Non-endemic\",IF($G90=1,DEC!I90,0),IF($G90=1,IVM!G90,0))","v":0},"MBD",{"$f":"IF($J90=\"ALB\", IF(INTRO!$E$39=\"Non-endemic\", IF($H90<>0, IF($I90=0, $D90*$H90, $D90*($H90-$G90)), 0), $D90*$H90), 0)","v":0},0,null,0,{"$f":"IF($J90=\"MBD\", IF(INTRO!$E$39=\"Non-endemic\", IF($H90<>0, IF($I90=0, $D90*$H90, $D90*($H90-$G90)), 0), $D90*$H90), 0)","v":161216},342868,null,504084,0,0,0,0,0,0,0,342868,2286]
[{"$f":"IF(AND(INTRO!$E$37=\"Non-endemic\",INTRO!$E$41=\"Non-endemic\"),\" \",IF(COUNTRY_INFO!A91=0,\" \",COUNTRY_INFO!A91))","v":"Uganda"},{"$f":"IF(AND(INTRO!$E$37=\"Non-endemic\",INTRO!$E$41=\"Non-endemic\"),\" \",IF(COUNTRY_INFO!B91=0,\" \",COUNTRY_INFO!B91))","v":"WESTERN"},{"$f":"IF(AND(INTRO!$E$37=\"Non-endemic\",INTRO!$E$41=\"Non-endemic\"),\" \",IF(COUNTRY_INFO!C91=0,\" \",COUNTRY_INFO!C91))","v":"MBARARA"},{"$f":"IF(AND(INTRO!$E$37=\"Non-endemic\",INTRO!$E$41=\"Non-endemic\"),0,IF(AND(OR(COUNTRY_INFO!$H91=0,COUNTRY_INFO!$H91=4,COUNTRY_INFO!$H91=99),OR(COUNTRY_INFO!$J91=0,COUNTRY_INFO!$J91=4)),0,COUNTRY_INFO!$E91))","v":77916},{"$f":"IF(AND(INTRO!$E$37=\"Non-endemic\",INTRO!$E$41=\"Non-endemic\"),0,IF(AND(OR(COUNTRY_INFO!$H91=0,COUNTRY_INFO!$H91=4,COUNTRY_INFO!$H91=99),OR(COUNTRY_INFO!$J91=0,COUNTRY_INFO!$J91=4)),0,COUNTRY_INFO!$F91))","v":165709},243625,{"$f":"IF(AND(INTRO!$E$37=\"Non-endemic\",INTRO!$E$41=\"Non-endemic\"),0,COUNTRY_INFO!P91)","v":0},{"$f":"IF(AND(INTRO!$E$37=\"Non-endemic\",INTRO!$E$41=\"Non-endemic\"),0,COUNTRY_INFO!R91)","v":2},{"$f":"IF(INTRO!$E$39=\"Non-endemic\",IF($G91=1,DEC!I91,0),IF($G91=1,IVM!G91,0))","v":0},"MBD",{"$f":"IF($J91=\"ALB\", IF(INTRO!$E$39=\"Non-endemic\", IF($H91<>0, IF($I91=0, $D91*$H91, $D91*($H91-$G91)), 0), $D91*$H91), 0)","v":0},0,null,0,{"$f":"IF($J91=\"MBD\", IF(INTRO!$E$39=\"Non-endemic\", IF($H91<>0, IF($I91=0, $D91*$H91, $D91*($H91-$G91)), 0), $D91*$H91), 0)","v":155832},331418,null,487250,0,0,0,0,0,0,0,331418,2210]
[{"$f":"IF(AND(INTRO!$E$37=\"Non-endemic\",INTRO!$E$41=\"Non-endemic\"),\" \",IF(COUNTRY_INFO!A92=0,\" \",COUNTRY_INFO!A92))","v":"Uganda"},{"$f":"IF(AND(INTRO!$E$37=\"Non-endemic\",INTRO!$E$41=\"Non-endemic\"),\" \",IF(COUNTRY_INFO!B92=0,\" \",COUNTRY_INFO!B92))","v":"WESTERN"},{"$f":"IF(AND(INTRO!$E$37=\"Non-endemic\",INTRO!$E$41=\"Non-endemic\"),\" \",IF(COUNTRY_INFO!C92=0,\" \",COUNTRY_INFO!C92))","v":"MITOOMA"},{"$f":"IF(AND(INTRO!$E$37=\"Non-endemic\",INTRO!$E$41=\"Non-endemic\"),0,IF(AND(OR(COUNTRY_INFO!$H92=0,COUNTRY_INFO!$H92=4,COUNTRY_INFO!$H92=99),OR(COUNTRY_INFO!$J92=0,COUNTRY_INFO!$J92=4)),0,COUNTRY_INFO!$E92))","v":30242},{"$f":"IF(AND(INTRO!$E$37=\"Non-endemic\",INTRO!$E$41=\"Non-endemic\"),0,IF(AND(OR(COUNTRY_INFO!$H92=0,COUNTRY_INFO!$H92=4,COUNTRY_INFO!$H92=99),OR(COUNTRY_INFO!$J92=0,COUNTRY_INFO!$J92=4)),0,COUNTRY_INFO!$F92))","v":64317},94559,{"$f":"IF(AND(INTRO!$E$37=\"Non-endemic\",INTRO!$E$41=\"Non-endemic\"),0,COUNTRY_INFO!P92)","v":0},{"$f":"IF(AND(INTRO!$E$37=\"Non-endemic\",INTRO!$E$41=\"Non-endemic\"),0,COUNTRY_INFO!R92)","v":2},{"$f":"IF(INTRO!$E$39=\"Non-endemic\",IF($G92=1,DEC!I92,0),IF($G92=1,IVM!G92,0))","v":0},"MBD",{"$f":"IF($J92=\"ALB\", IF(INTRO!$E$39=\"Non-endemic\", IF($H92<>0, IF($I92=0, $D92*$H92, $D92*($H92-$G92)), 0), $D92*$H92), 0)","v":0},0,null,0,{"$f":"IF($J92=\"MBD\", IF(INTRO!$E$39=\"Non-endemic\", IF($H92<>0, IF($I92=0, $D92*$H92, $D92*($H92-$G92)), 0), $D92*$H92), 0)","v":60484},128634,null,189118,0,0,0,0,0,0,0,128634,858]
[{"$f":"IF(AND(INTRO!$E$37=\"Non-endemic\",INTRO!$E$41=\"Non-endemic\"),\" \",IF(COUNTRY_INFO!A93=0,\" \",COUNTRY_INFO!A93))","v":"Uganda"},{"$f":"IF(AND(INTRO!$E$37=\"Non-endemic\",INTRO!$E$41=\"Non-endemic\"),\" \",IF(COUNTRY_INFO!B93=0,\" \",COUNTRY_INFO!B93))","v":"CENTRAL"},{"$f":"IF(AND(INTRO!$E$37=\"Non-endemic\",INTRO!$E$41=\"Non-endemic\"),\" \",IF(COUNTRY_INFO!C93=0,\" \",COUNTRY_INFO!C93))","v":"MITYANA"},{"$f":"IF(AND(INTRO!$E$37=\"Non-endemic\",INTRO!$E$41=\"Non-endemic\"),0,IF(AND(OR(COUNTRY_INFO!$H93=0,COUNTRY_INFO!$H93=4,COUNTRY_INFO!$H93=99),OR(COUNTRY_INFO!$J93=0,COUNTRY_INFO!$J93=4)),0,COUNTRY_INFO!$E93))","v":54232},{"$f":"IF(AND(INTRO!$E$37=\"Non-endemic\",INTRO!$E$41=\"Non-endemic\"),0,IF(AND(OR(COUNTRY_INFO!$H93=0,COUNTRY_INFO!$H93=4,COUNTRY_INFO!$H93=99),OR(COUNTRY_INFO!$J93=0,COUNTRY_INFO!$J93=4)),0,COUNTRY_INFO!$F93))","v":115339},169571,{"$f":"IF(AND(INTRO!$E$37=\"Non-endemic\",INTRO!$E$41=\"Non-endemic\"),0,COUNTRY_INFO!P93)","v":0},{"$f":"IF(AND(INTRO!$E$37=\"Non-endemic\",INTRO!$E$41=\"Non-endemic\"),0,COUNTRY_INFO!R93)","v":2},{"$f":"IF(INTRO!$E$39=\"Non-endemic\",IF($G93=1,DEC!I93,0),IF($G93=1,IVM!G93,0))","v":0},"MBD",{"$f":"IF($J93=\"ALB\", IF(INTRO!$E$39=\"Non-endemic\", IF($H93<>0, IF($I93=0, $D93*$H93, $D93*($H93-$G93)), 0), $D93*$H93), 0)","v":0},0,null,0,{"$f":"IF($J93=\"MBD\", IF(INTRO!$E$39=\"Non-endemic\", IF($H93<>0, IF($I93=0, $D93*$H93, $D93*($H93-$G93)), 0), $D93*$H93), 0)","v":108464},230678,null,339142,0,0,0,0,0,0,0,230678,1538]
[{"$f":"IF(AND(INTRO!$E$37=\"Non-endemic\",INTRO!$E$41=\"Non-endemic\"),\" \",IF(COUNTRY_INFO!A94=0,\" \",COUNTRY_INFO!A94))","v":"Uganda"},{"$f":"IF(AND(INTRO!$E$37=\"Non-endemic\",INTRO!$E$41=\"Non-endemic\"),\" \",IF(COUNTRY_INFO!B94=0,\" \",COUNTRY_INFO!B94))","v":"NORTHERN"},{"$f":"IF(AND(INTRO!$E$37=\"Non-endemic\",INTRO!$E$41=\"Non-endemic\"),\" \",IF(COUNTRY_INFO!C94=0,\" \",COUNTRY_INFO!C94))","v":"MOROTO"},{"$f":"IF(AND(INTRO!$E$37=\"Non-endemic\",INTRO!$E$41=\"Non-endemic\"),0,IF(AND(OR(COUNTRY_INFO!$H94=0,COUNTRY_INFO!$H94=4,COUNTRY_INFO!$H94=99),OR(COUNTRY_INFO!$J94=0,COUNTRY_INFO!$J94=4)),0,COUNTRY_INFO!$E94))","v":17052},{"$f":"IF(AND(INTRO!$E$37=\"Non-endemic\",INTRO!$E$41=\"Non-endemic\"),0,IF(AND(OR(COUNTRY_INFO!$H94=0,COUNTRY_INFO!$H94=4,COUNTRY_INFO!$H94=99),OR(COUNTRY_INFO!$J94=0,COUNTRY_INFO!$J94=4)),0,COUNTRY_INFO!$F94))","v":36264},53316,{"$f":"IF(AND(INTRO!$E$37=\"Non-endemic\",INTRO!$E$41=\"Non-endemic\"),0,COUNTRY_INFO!P94)","v":0},{"$f":"IF(AND(INTRO!$E$37=\"Non-endemic\",INTRO!$E$41=\"Non-endemic\"),0,COUNTRY_INFO!R94)","v":2},{"$f":"IF(INTRO!$E$39=\"Non-endemic\",IF($G94=1,DEC!I94,0),IF($G94=1,IVM!G94,0))","v":0},"MBD",{"$f":"IF($J94=\"ALB\", IF(INTRO!$E$39=\"Non-endemic\", IF($H94<>0, IF($I94=0, $D94*$H94, $D94*($H94-$G94)), 0), $D94*$H94), 0)","v":0},0,null,0,{"$f":"IF($J94=\"MBD\", IF(INTRO!$E$39=\"Non-endemic\", IF($H94<>0, IF($I94=0, $D94*$H94, $D94*($H94-$G94)), 0), $D94*$H94), 0)","v":34104},72528,null,106632,0,0,0,0,0,0,0,72528,484]
[{"$f":"IF(AND(INTRO!$E$37=\"Non-endemic\",INTRO!$E$41=\"Non-endemic\"),\" \",IF(COUNTRY_INFO!A95=0,\" \",COUNTRY_INFO!A95))","v":"Uganda"},{"$f":"IF(AND(INTRO!$E$37=\"Non-endemic\",INTRO!$E$41=\"Non-endemic\"),\" \",IF(COUNTRY_INFO!B95=0,\" \",COUNTRY_INFO!B95))","v":"NORTHERN"},{"$f":"IF(AND(INTRO!$E$37=\"Non-endemic\",INTRO!$E$41=\"Non-endemic\"),\" \",IF(COUNTRY_INFO!C95=0,\" \",COUNTRY_INFO!C95))","v":"MOYO"},{"$f":"IF(AND(INTRO!$E$37=\"Non-endemic\",INTRO!$E$41=\"Non-endemic\"),0,IF(AND(OR(COUNTRY_INFO!$H95=0,COUNTRY_INFO!$H95=4,COUNTRY_INFO!$H95=99),OR(COUNTRY_INFO!$J95=0,COUNTRY_INFO!$J95=4)),0,COUNTRY_INFO!$E95))","v":22917},{"$f":"IF(AND(INTRO!$E$37=\"Non-endemic\",INTRO!$E$41=\"Non-endemic\"),0,IF(AND(OR(COUNTRY_INFO!$H95=0,COUNTRY_INFO!$H95=4,COUNTRY_INFO!$H95=99),OR(COUNTRY_INFO!$J95=0,COUNTRY_INFO!$J95=4)),0,COUNTRY_INFO!$F95))","v":48739},71656,{"$f":"IF(AND(INTRO!$E$37=\"Non-endemic\",INTRO!$E$41=\"Non-endemic\"),0,COUNTRY_INFO!P95)","v":0},{"$f":"IF(AND(INTRO!$E$37=\"Non-endemic\",INTRO!$E$41=\"Non-endemic\"),0,COUNTRY_INFO!R95)","v":2},{"$f":"IF(INTRO!$E$39=\"Non-endemic\",IF($G95=1,DEC!I95,0),IF($G95=1,IVM!G95,0))","v":0},"MBD",{"$f":"IF($J95=\"ALB\", IF(INTRO!$E$39=\"Non-endemic\", IF($H95<>0, IF($I95=0, $D95*$H95, $D95*($H95-$G95)), 0), $D95*$H95), 0)","v":0},0,null,0,{"$f":"IF($J95=\"MBD\", IF(INTRO!$E$39=\"Non-endemic\", IF($H95<>0, IF($I95=0, $D95*$H95, $D95*($H95-$G95)), 0), $D95*$H95), 0)","v":45834},97478,null,143312,0,0,0,0,0,0,0,97478,650]
[{"$f":"IF(AND(INTRO!$E$37=\"Non-endemic\",INTRO!$E$41=\"Non-endemic\"),\" \",IF(COUNTRY_INFO!A96=0,\" \",COUNTRY_INFO!A96))","v":"Uganda"},{"$f":"IF(AND(INTRO!$E$37=\"Non-endemic\",INTRO!$E$41=\"Non-endemic\"),\" \",IF(COUNTRY_INFO!B96=0,\" \",COUNTRY_INFO!B96))","v":"CENTRAL"},{"$f":"IF(AND(INTRO!$E$37=\"Non-endemic\",INTRO!$E$41=\"Non-endemic\"),\" \",IF(COUNTRY_INFO!C96=0,\" \",COUNTRY_INFO!C96))","v":"MPIGI"},{"$f":"IF(AND(INTRO!$E$37=\"Non-endemic\",INTRO!$E$41=\"Non-endemic\"),0,IF(AND(OR(COUNTRY_INFO!$H96=0,COUNTRY_INFO!$H96=4,COUNTRY_INFO!$H96=99),OR(COUNTRY_INFO!$J96=0,COUNTRY_INFO!$J96=4)),0,COUNTRY_INFO!$E96))","v":41305},{"$f":"IF(AND(INTRO!$E$37=\"Non-endemic\",INTRO!$E$41=\"Non-endemic\"),0,IF(AND(OR(COUNTRY_INFO!$H96=0,COUNTRY_INFO!$H96=4,COUNTRY_INFO!$H96=99),OR(COUNTRY_INFO!$J96=0,COUNTRY_INFO!$J96=4)),0,COUNTRY_INFO!$F96))","v":87845},129150,{"$f":"IF(AND(INTRO!$E$37=\"Non-endemic\",INTRO!$E$41=\"Non-endemic\"),0,COUNTRY_INFO!P96)","v":0},{"$f":"IF(AND(INTRO!$E$37=\"Non-endemic\",INTRO!$E$41=\"Non-endemic\"),0,COUNTRY_INFO!R96)","v":2},{"$f":"IF(INTRO!$E$39=\"Non-endemic\",IF($G96=1,DEC!I96,0),IF($G96=1,IVM!G96,0))","v":0},"MBD",{"$f":"IF($J96=\"ALB\", IF(INTRO!$E$39=\"Non-endemic\", IF($H96<>0, IF($I96=0, $D96*$H96, $D96*($H96-$G96)), 0), $D96*$H96), 0)","v":0},0,null,0,{"$f":"IF($J96=\"MBD\", IF(INTRO!$E$39=\"Non-endemic\", IF($H96<>0, IF($I96=0, $D96*$H96, $D96*($H96-$G96)), 0), $D96*$H96), 0)","v":82610},175690,null,258300,0,0,0,0,0,0,0,175690,1172]
[{"$f":"IF(AND(INTRO!$E$37=\"Non-endemic\",INTRO!$E$41=\"Non-endemic\"),\" \",IF(COUNTRY_INFO!A97=0,\" \",COUNTRY_INFO!A97))","v":"Uganda"},{"$f":"IF(AND(INTRO!$E$37=\"Non-endemic\",INTRO!$E$41=\"Non-endemic\"),\" \",IF(COUNTRY_INFO!B97=0,\" \",COUNTRY_INFO!B97))","v":"CENTRAL"},{"$f":"IF(AND(INTRO!$E$37=\"Non-endemic\",INTRO!$E$41=\"Non-endemic\"),\" \",IF(COUNTRY_INFO!C97=0,\" \",COUNTRY_INFO!C97))","v":"MUBENDE"},{"$f":"IF(AND(INTRO!$E$37=\"Non-endemic\",INTRO!$E$41=\"Non-endemic\"),0,IF(AND(OR(COUNTRY_INFO!$H97=0,COUNTRY_INFO!$H97=4,COUNTRY_INFO!$H97=99),OR(COUNTRY_INFO!$J97=0,COUNTRY_INFO!$J97=4)),0,COUNTRY_INFO!$E97))","v":112818},{"$f":"IF(AND(INTRO!$E$37=\"Non-endemic\",INTRO!$E$41=\"Non-endemic\"),0,IF(AND(OR(COUNTRY_INFO!$H97=0,COUNTRY_INFO!$H97=4,COUNTRY_INFO!$H97=99),OR(COUNTRY_INFO!$J97=0,COUNTRY_INFO!$J97=4)),0,COUNTRY_INFO!$F97))","v":239936},352754,{"$f":"IF(AND(INTRO!$E$37=\"Non-endemic\",INTRO!$E$41=\"Non-endemic\"),0,COUNTRY_INFO!P97)","v":0},{"$f":"IF(AND(INTRO!$E$37=\"Non-endemic\",INTRO!$E$41=\"Non-endemic\"),0,COUNTRY_INFO!R97)","v":2},{"$f":"IF(INTRO!$E$39=\"Non-endemic\",IF($G97=1,DEC!I97,0),IF($G97=1,IVM!G97,0))","v":0},"MBD",{"$f":"IF($J97=\"ALB\", IF(INTRO!$E$39=\"Non-endemic\", IF($H97<>0, IF($I97=0, $D97*$H97, $D97*($H97-$G97)), 0), $D97*$H97), 0)","v":0},0,null,0,{"$f":"IF($J97=\"MBD\", IF(INTRO!$E$39=\"Non-endemic\", IF($H97<>0, IF($I97=0, $D97*$H97, $D97*($H97-$G97)), 0), $D97*$H97), 0)","v":225636},479872,null,705508,0,0,0,0,0,0,0,479872,3200]
[{"$f":"IF(AND(INTRO!$E$37=\"Non-endemic\",INTRO!$E$41=\"Non-endemic\"),\" \",IF(COUNTRY_INFO!A98=0,\" \",COUNTRY_INFO!A98))","v":"Uganda"},{"$f":"IF(AND(INTRO!$E$37=\"Non-endemic\",INTRO!$E$41=\"Non-endemic\"),\" \",IF(COUNTRY_INFO!B98=0,\" \",COUNTRY_INFO!B98))","v":"CENTRAL"},{"$f":"IF(AND(INTRO!$E$37=\"Non-endemic\",INTRO!$E$41=\"Non-endemic\"),\" \",IF(COUNTRY_INFO!C98=0,\" \",COUNTRY_INFO!C98))","v":"MUKONO"},{"$f":"IF(AND(INTRO!$E$37=\"Non-endemic\",INTRO!$E$41=\"Non-endemic\"),0,IF(AND(OR(COUNTRY_INFO!$H98=0,COUNTRY_INFO!$H98=4,COUNTRY_INFO!$H98=99),OR(COUNTRY_INFO!$J98=0,COUNTRY_INFO!$J98=4)),0,COUNTRY_INFO!$E98))","v":98387},{"$f":"IF(AND(INTRO!$E$37=\"Non-endemic\",INTRO!$E$41=\"Non-endemic\"),0,IF(AND(OR(COUNTRY_INFO!$H98=0,COUNTRY_INFO!$H98=4,COUNTRY_INFO!$H98=99),OR(COUNTRY_INFO!$J98=0,COUNTRY_INFO!$J98=4)),0,COUNTRY_INFO!$F98))","v":209246},307633,{"$f":"IF(AND(INTRO!$E$37=\"Non-endemic\",INTRO!$E$41=\"Non-endemic\"),0,COUNTRY_INFO!P98)","v":0},{"$f":"IF(AND(INTRO!$E$37=\"Non-endemic\",INTRO!$E$41=\"Non-endemic\"),0,COUNTRY_INFO!R98)","v":2},{"$f":"IF(INTRO!$E$39=\"Non-endemic\",IF($G98=1,DEC!I98,0),IF($G98=1,IVM!G98,0))","v":0},"MBD",{"$f":"IF($J98=\"ALB\", IF(INTRO!$E$39=\"Non-endemic\", IF($H98<>0, IF($I98=0, $D98*$H98, $D98*($H98-$G98)), 0), $D98*$H98), 0)","v":0},0,null,0,{"$f":"IF($J98=\"MBD\", IF(INTRO!$E$39=\"Non-endemic\", IF($H98<>0, IF($I98=0, $D98*$H98, $D98*($H98-$G98)), 0), $D98*$H98), 0)","v":196774},418492,null,615266,0,0,0,0,0,0,0,418492,2790]
[{"$f":"IF(AND(INTRO!$E$37=\"Non-endemic\",INTRO!$E$41=\"Non-endemic\"),\" \",IF(COUNTRY_INFO!A99=0,\" \",COUNTRY_INFO!A99))","v":"Uganda"},{"$f":"IF(AND(INTRO!$E$37=\"Non-endemic\",INTRO!$E$41=\"Non-endemic\"),\" \",IF(COUNTRY_INFO!B99=0,\" \",COUNTRY_INFO!B99))","v":"Northern"},{"$f":"IF(AND(INTRO!$E$37=\"Non-endemic\",INTRO!$E$41=\"Non-endemic\"),\" \",IF(COUNTRY_INFO!C99=0,\" \",COUNTRY_INFO!C99))","v":"NABILATUK"},{"$f":"IF(AND(INTRO!$E$37=\"Non-endemic\",INTRO!$E$41=\"Non-endemic\"),0,IF(AND(OR(COUNTRY_INFO!$H99=0,COUNTRY_INFO!$H99=4,COUNTRY_INFO!$H99=99),OR(COUNTRY_INFO!$J99=0,COUNTRY_INFO!$J99=4)),0,COUNTRY_INFO!$E99))","v":11278},{"$f":"IF(AND(INTRO!$E$37=\"Non-endemic\",INTRO!$E$41=\"Non-endemic\"),0,IF(AND(OR(COUNTRY_INFO!$H99=0,COUNTRY_INFO!$H99=4,COUNTRY_INFO!$H99=99),OR(COUNTRY_INFO!$J99=0,COUNTRY_INFO!$J99=4)),0,COUNTRY_INFO!$F99))","v":23985},35263,{"$f":"IF(AND(INTRO!$E$37=\"Non-endemic\",INTRO!$E$41=\"Non-endemic\"),0,COUNTRY_INFO!P99)","v":0},{"$f":"IF(AND(INTRO!$E$37=\"Non-endemic\",INTRO!$E$41=\"Non-endemic\"),0,COUNTRY_INFO!R99)","v":2},{"$f":"IF(INTRO!$E$39=\"Non-endemic\",IF($G99=1,DEC!I99,0),IF($G99=1,IVM!G99,0))","v":0},"MBD",{"$f":"IF($J99=\"ALB\", IF(INTRO!$E$39=\"Non-endemic\", IF($H99<>0, IF($I99=0, $D99*$H99, $D99*($H99-$G99)), 0), $D99*$H99), 0)","v":0},0,null,0,{"$f":"IF($J99=\"MBD\", IF(INTRO!$E$39=\"Non-endemic\", IF($H99<>0, IF($I99=0, $D99*$H99, $D99*($H99-$G99)), 0), $D99*$H99), 0)","v":22556},47970,null,70526,0,0,0,0,0,0,0,47970,320]
[{"$f":"IF(AND(INTRO!$E$37=\"Non-endemic\",INTRO!$E$41=\"Non-endemic\"),\" \",IF(COUNTRY_INFO!A100=0,\" \",COUNTRY_INFO!A100))","v":"Uganda"},{"$f":"IF(AND(INTRO!$E$37=\"Non-endemic\",INTRO!$E$41=\"Non-endemic\"),\" \",IF(COUNTRY_INFO!B100=0,\" \",COUNTRY_INFO!B100))","v":"NORTHERN"},{"$f":"IF(AND(INTRO!$E$37=\"Non-endemic\",INTRO!$E$41=\"Non-endemic\"),\" \",IF(COUNTRY_INFO!C100=0,\" \",COUNTRY_INFO!C100))","v":"NAKAPIRIPIRIT"},{"$f":"IF(AND(INTRO!$E$37=\"Non-endemic\",INTRO!$E$41=\"Non-endemic\"),0,IF(AND(OR(COUNTRY_INFO!$H100=0,COUNTRY_INFO!$H100=4,COUNTRY_INFO!$H100=99),OR(COUNTRY_INFO!$J100=0,COUNTRY_INFO!$J100=4)),0,COUNTRY_INFO!$E100))","v":14554},{"$f":"IF(AND(INTRO!$E$37=\"Non-endemic\",INTRO!$E$41=\"Non-endemic\"),0,IF(AND(OR(COUNTRY_INFO!$H100=0,COUNTRY_INFO!$H100=4,COUNTRY_INFO!$H100=99),OR(COUNTRY_INFO!$J100=0,COUNTRY_INFO!$J100=4)),0,COUNTRY_INFO!$F100))","v":30952},45506,{"$f":"IF(AND(INTRO!$E$37=\"Non-endemic\",INTRO!$E$41=\"Non-endemic\"),0,COUNTRY_INFO!P100)","v":0},{"$f":"IF(AND(INTRO!$E$37=\"Non-endemic\",INTRO!$E$41=\"Non-endemic\"),0,COUNTRY_INFO!R100)","v":2},{"$f":"IF(INTRO!$E$39=\"Non-endemic\",IF($G100=1,DEC!I100,0),IF($G100=1,IVM!G100,0))","v":0},"MBD",{"$f":"IF($J100=\"ALB\", IF(INTRO!$E$39=\"Non-endemic\", IF($H100<>0, IF($I100=0, $D100*$H100, $D100*($H100-$G100)), 0), $D100*$H100), 0)","v":0},0,null,0,{"$f":"IF($J100=\"MBD\", IF(INTRO!$E$39=\"Non-endemic\", IF($H100<>0, IF($I100=0, $D100*$H100, $D100*($H100-$G100)), 0), $D100*$H100), 0)","v":29108},61904,null,91012,0,0,0,0,0,0,0,61904,413]
[{"$f":"IF(AND(INTRO!$E$37=\"Non-endemic\",INTRO!$E$41=\"Non-endemic\"),\" \",IF(COUNTRY_INFO!A101=0,\" \",COUNTRY_INFO!A101))","v":"Uganda"},{"$f":"IF(AND(INTRO!$E$37=\"Non-endemic\",INTRO!$E$41=\"Non-endemic\"),\" \",IF(COUNTRY_INFO!B101=0,\" \",COUNTRY_INFO!B101))","v":"CENTRAL"},{"$f":"IF(AND(INTRO!$E$37=\"Non-endemic\",INTRO!$E$41=\"Non-endemic\"),\" \",IF(COUNTRY_INFO!C101=0,\" \",COUNTRY_INFO!C101))","v":"NAKASEKE"},{"$f":"IF(AND(INTRO!$E$37=\"Non-endemic\",INTRO!$E$41=\"Non-endemic\"),0,IF(AND(OR(COUNTRY_INFO!$H101=0,COUNTRY_INFO!$H101=4,COUNTRY_INFO!$H101=99),OR(COUNTRY_INFO!$J101=0,COUNTRY_INFO!$J101=4)),0,COUNTRY_INFO!$E101))","v":32537},{"$f":"IF(AND(INTRO!$E$37=\"Non-endemic\",INTRO!$E$41=\"Non-endemic\"),0,IF(AND(OR(COUNTRY_INFO!$H101=0,COUNTRY_INFO!$H101=4,COUNTRY_INFO!$H101=99),OR(COUNTRY_INFO!$J101=0,COUNTRY_INFO!$J101=4)),0,COUNTRY_INFO!$F101))","v":69199},101736,{"$f":"IF(AND(INTRO!$E$37=\"Non-endemic\",INTRO!$E$41=\"Non-endemic\"),0,COUNTRY_INFO!P101)","v":0},{"$f":"IF(AND(INTRO!$E$37=\"Non-endemic\",INTRO!$E$41=\"Non-endemic\"),0,COUNTRY_INFO!R101)","v":2},{"$f":"IF(INTRO!$E$39=\"Non-endemic\",IF($G101=1,DEC!I101,0),IF($G101=1,IVM!G101,0))","v":0},"MBD",{"$f":"IF($J101=\"ALB\", IF(INTRO!$E$39=\"Non-endemic\", IF($H101<>0, IF($I101=0, $D101*$H101, $D101*($H101-$G101)), 0), $D101*$H101), 0)","v":0},0,null,0,{"$f":"IF($J101=\"MBD\", IF(INTRO!$E$39=\"Non-endemic\", IF($H101<>0, IF($I101=0, $D101*$H101, $D101*($H101-$G101)), 0), $D101*$H101), 0)","v":65074},138398,null,203472,0,0,0,0,0,0,0,138398,923]
[{"$f":"IF(AND(INTRO!$E$37=\"Non-endemic\",INTRO!$E$41=\"Non-endemic\"),\" \",IF(COUNTRY_INFO!A102=0,\" \",COUNTRY_INFO!A102))","v":"Uganda"},{"$f":"IF(AND(INTRO!$E$37=\"Non-endemic\",INTRO!$E$41=\"Non-endemic\"),\" \",IF(COUNTRY_INFO!B102=0,\" \",COUNTRY_INFO!B102))","v":"CENTRAL"},{"$f":"IF(AND(INTRO!$E$37=\"Non-endemic\",INTRO!$E$41=\"Non-endemic\"),\" \",IF(COUNTRY_INFO!C102=0,\" \",COUNTRY_INFO!C102))","v":"NAKASONGOLA"},{"$f":"IF(AND(INTRO!$E$37=\"Non-endemic\",INTRO!$E$41=\"Non-endemic\"),0,IF(AND(OR(COUNTRY_INFO!$H102=0,COUNTRY_INFO!$H102=4,COUNTRY_INFO!$H102=99),OR(COUNTRY_INFO!$J102=0,COUNTRY_INFO!$J102=4)),0,COUNTRY_INFO!$E102))","v":29971},{"$f":"IF(AND(INTRO!$E$37=\"Non-endemic\",INTRO!$E$41=\"Non-endemic\"),0,IF(AND(OR(COUNTRY_INFO!$H102=0,COUNTRY_INFO!$H102=4,COUNTRY_INFO!$H102=99),OR(COUNTRY_INFO!$J102=0,COUNTRY_INFO!$J102=4)),0,COUNTRY_INFO!$F102))","v":63741},93712,{"$f":"IF(AND(INTRO!$E$37=\"Non-endemic\",INTRO!$E$41=\"Non-endemic\"),0,COUNTRY_INFO!P102)","v":0},{"$f":"IF(AND(INTRO!$E$37=\"Non-endemic\",INTRO!$E$41=\"Non-endemic\"),0,COUNTRY_INFO!R102)","v":2},{"$f":"IF(INTRO!$E$39=\"Non-endemic\",IF($G102=1,DEC!I102,0),IF($G102=1,IVM!G102,0))","v":0},"MBD",{"$f":"IF($J102=\"ALB\", IF(INTRO!$E$39=\"Non-endemic\", IF($H102<>0, IF($I102=0, $D102*$H102, $D102*($H102-$G102)), 0), $D102*$H102), 0)","v":0},0,null,0,{"$f":"IF($J102=\"MBD\", IF(INTRO!$E$39=\"Non-endemic\", IF($H102<>0, IF($I102=0, $D102*$H102, $D102*($H102-$G102)), 0), $D102*$H102), 0)","v":59942},127482,null,187424,0,0,0,0,0,0,0,127482,850]
[{"$f":"IF(AND(INTRO!$E$37=\"Non-endemic\",INTRO!$E$41=\"Non-endemic\"),\" \",IF(COUNTRY_INFO!A103=0,\" \",COUNTRY_INFO!A103))","v":"Uganda"},{"$f":"IF(AND(INTRO!$E$37=\"Non-endemic\",INTRO!$E$41=\"Non-endemic\"),\" \",IF(COUNTRY_INFO!B103=0,\" \",COUNTRY_INFO!B103))","v":"EASTERN"},{"$f":"IF(AND(INTRO!$E$37=\"Non-endemic\",INTRO!$E$41=\"Non-endemic\"),\" \",IF(COUNTRY_INFO!C103=0,\" \",COUNTRY_INFO!C103))","v":"NAMAYINGO"},{"$f":"IF(AND(INTRO!$E$37=\"Non-endemic\",INTRO!$E$41=\"Non-endemic\"),0,IF(AND(OR(COUNTRY_INFO!$H103=0,COUNTRY_INFO!$H103=4,COUNTRY_INFO!$H103=99),OR(COUNTRY_INFO!$J103=0,COUNTRY_INFO!$J103=4)),0,COUNTRY_INFO!$E103))","v":39117},{"$f":"IF(AND(INTRO!$E$37=\"Non-endemic\",INTRO!$E$41=\"Non-endemic\"),0,IF(AND(OR(COUNTRY_INFO!$H103=0,COUNTRY_INFO!$H103=4,COUNTRY_INFO!$H103=99),OR(COUNTRY_INFO!$J103=0,COUNTRY_INFO!$J103=4)),0,COUNTRY_INFO!$F103))","v":83192},122309,{"$f":"IF(AND(INTRO!$E$37=\"Non-endemic\",INTRO!$E$41=\"Non-endemic\"),0,COUNTRY_INFO!P103)","v":1},{"$f":"IF(AND(INTRO!$E$37=\"Non-endemic\",INTRO!$E$41=\"Non-endemic\"),0,COUNTRY_INFO!R103)","v":2},{"$f":"IF(INTRO!$E$39=\"Non-endemic\",IF($G103=1,DEC!I103,0),IF($G103=1,IVM!G103,0))","v":226712},"ALB",{"$f":"IF($J103=\"ALB\", IF(INTRO!$E$39=\"Non-endemic\", IF($H103<>0, IF($I103=0, $D103*$H103, $D103*($H103-$G103)), 0), $D103*$H103), 0)","v":78234},83192,null,161426,{"$f":"IF($J103=\"MBD\", IF(INTRO!$E$39=\"Non-endemic\", IF($H103<>0, IF($I103=0, $D103*$H103, $D103*($H103-$G103)), 0), $D103*$H103), 0)","v":0},0,null,0,0,226712,1134,0,83192,416,0,0,0]
[{"$f":"IF(AND(INTRO!$E$37=\"Non-endemic\",INTRO!$E$41=\"Non-endemic\"),\" \",IF(COUNTRY_INFO!A104=0,\" \",COUNTRY_INFO!A104))","v":"Uganda"},{"$f":"IF(AND(INTRO!$E$37=\"Non-endemic\",INTRO!$E$41=\"Non-endemic\"),\" \",IF(COUNTRY_INFO!B104=0,\" \",COUNTRY_INFO!B104))","v":"Eastern"},{"$f":"IF(AND(INTRO!$E$37=\"Non-endemic\",INTRO!$E$41=\"Non-endemic\"),\" \",IF(COUNTRY_INFO!C104=0,\" \",COUNTRY_INFO!C104))","v":"Namusidwa"},{"$f":"IF(AND(INTRO!$E$37=\"Non-endemic\",INTRO!$E$41=\"Non-endemic\"),0,IF(AND(OR(COUNTRY_INFO!$H104=0,COUNTRY_INFO!$H104=4,COUNTRY_INFO!$H104=99),OR(COUNTRY_INFO!$J104=0,COUNTRY_INFO!$J104=4)),0,COUNTRY_INFO!$E104))","v":26249},{"$f":"IF(AND(INTRO!$E$37=\"Non-endemic\",INTRO!$E$41=\"Non-endemic\"),0,IF(AND(OR(COUNTRY_INFO!$H104=0,COUNTRY_INFO!$H104=4,COUNTRY_INFO!$H104=99),OR(COUNTRY_INFO!$J104=0,COUNTRY_INFO!$J104=4)),0,COUNTRY_INFO!$F104))","v":55824},82073,{"$f":"IF(AND(INTRO!$E$37=\"Non-endemic\",INTRO!$E$41=\"Non-endemic\"),0,COUNTRY_INFO!P104)","v":0},{"$f":"IF(AND(INTRO!$E$37=\"Non-endemic\",INTRO!$E$41=\"Non-endemic\"),0,COUNTRY_INFO!R104)","v":2},{"$f":"IF(INTRO!$E$39=\"Non-endemic\",IF($G104=1,DEC!I104,0),IF($G104=1,IVM!G104,0))","v":0},"MBD",{"$f":"IF($J104=\"ALB\", IF(INTRO!$E$39=\"Non-endemic\", IF($H104<>0, IF($I104=0, $D104*$H104, $D104*($H104-$G104)), 0), $D104*$H104), 0)","v":0},0,null,0,{"$f":"IF($J104=\"MBD\", IF(INTRO!$E$39=\"Non-endemic\", IF($H104<>0, IF($I104=0, $D104*$H104, $D104*($H104-$G104)), 0), $D104*$H104), 0)","v":52498},111648,null,164146,0,0,0,0,0,0,0,111648,745]
[{"$f":"IF(AND(INTRO!$E$37=\"Non-endemic\",INTRO!$E$41=\"Non-endemic\"),\" \",IF(COUNTRY_INFO!A105=0,\" \",COUNTRY_INFO!A105))","v":"Uganda"},{"$f":"IF(AND(INTRO!$E$37=\"Non-endemic\",INTRO!$E$41=\"Non-endemic\"),\" \",IF(COUNTRY_INFO!B105=0,\" \",COUNTRY_INFO!B105))","v":"EASTERN"},{"$f":"IF(AND(INTRO!$E$37=\"Non-endemic\",INTRO!$E$41=\"Non-endemic\"),\" \",IF(COUNTRY_INFO!C105=0,\" \",COUNTRY_INFO!C105))","v":"NAMUTUMBA"},{"$f":"IF(AND(INTRO!$E$37=\"Non-endemic\",INTRO!$E$41=\"Non-endemic\"),0,IF(AND(OR(COUNTRY_INFO!$H105=0,COUNTRY_INFO!$H105=4,COUNTRY_INFO!$H105=99),OR(COUNTRY_INFO!$J105=0,COUNTRY_INFO!$J105=4)),0,COUNTRY_INFO!$E105))","v":41637},{"$f":"IF(AND(INTRO!$E$37=\"Non-endemic\",INTRO!$E$41=\"Non-endemic\"),0,IF(AND(OR(COUNTRY_INFO!$H105=0,COUNTRY_INFO!$H105=4,COUNTRY_INFO!$H105=99),OR(COUNTRY_INFO!$J105=0,COUNTRY_INFO!$J105=4)),0,COUNTRY_INFO!$F105))","v":88551},{"$f":"SUM(D105:E105)","v":130188},{"$f":"IF(AND(INTRO!$E$37=\"Non-endemic\",INTRO!$E$41=\"Non-endemic\"),0,COUNTRY_INFO!P105)","v":0},{"$f":"IF(AND(INTRO!$E$37=\"Non-endemic\",INTRO!$E$41=\"Non-endemic\"),0,COUNTRY_INFO!R105)","v":2},{"$f":"IF(INTRO!$E$39=\"Non-endemic\",IF($G105=1,DEC!I105,0),IF($G105=1,IVM!G105,0))","v":0},"MBD",{"$f":"IF($J105=\"ALB\", IF(INTRO!$E$39=\"Non-endemic\", IF($H105<>0, IF($I105=0, $D105*$H105, $D105*($H105-$G105)), 0), $D105*$H105), 0)","v":0},{"$f":"IF($J105=\"ALB\", IF($H105<>0, IF($I105=0, $E105*$H105, $E105*($H105-$G105)),0), 0)","v":0},null,{"$f":"SUM(K105:M105)","v":0},{"$f":"IF($J105=\"MBD\", IF(INTRO!$E$39=\"Non-endemic\", IF($H105<>0, IF($I105=0, $D105*$H105, $D105*($H105-$G105)), 0), $D105*$H105), 0)","v":83274},{"$f":"IF($J105=\"MBD\", IF($H105<>0,IF($I105=0, $E105*$H105, $E105*($H105-$G105)),0), 0 )","v":177102},null,{"$f":"SUM(O105:Q105)","v":260376},0,{"$f":"IF($I105>$S105, $I105-$S105,0)","v":0},{"$f":"ROUNDUP($I105/200,0)","v":0},0,{"$f":"IF($L105>$V105,$L105-$V105,0)","v":0},{"$f":"ROUNDUP($L105/200,0)","v":0},0,{"$f":"IF($P105>$Y105,$P105-$Y105,0)","v":177102},{"$f":"ROUNDUP($P105/150,0)","v":1181}]
[{"$f":"IF(AND(INTRO!$E$37=\"Non-endemic\",INTRO!$E$41=\"Non-endemic\"),\" \",IF(COUNTRY_INFO!A106=0,\" \",COUNTRY_INFO!A106))","v":"Uganda"},{"$f":"IF(AND(INTRO!$E$37=\"Non-endemic\",INTRO!$E$41=\"Non-endemic\"),\" \",IF(COUNTRY_INFO!B106=0,\" \",COUNTRY_INFO!B106))","v":"NORTHERN"},{"$f":"IF(AND(INTRO!$E$37=\"Non-endemic\",INTRO!$E$41=\"Non-endemic\"),\" \",IF(COUNTRY_INFO!C106=0,\" \",COUNTRY_INFO!C106))","v":"NAPAK"},{"$f":"IF(AND(INTRO!$E$37=\"Non-endemic\",INTRO!$E$41=\"Non-endemic\"),0,IF(AND(OR(COUNTRY_INFO!$H106=0,COUNTRY_INFO!$H106=4,COUNTRY_INFO!$H106=99),OR(COUNTRY_INFO!$J106=0,COUNTRY_INFO!$J106=4)),0,COUNTRY_INFO!$E106))","v":23446},{"$f":"IF(AND(INTRO!$E$37=\"Non-endemic\",INTRO!$E$41=\"Non-endemic\"),0,IF(AND(OR(COUNTRY_INFO!$H106=0,COUNTRY_INFO!$H106=4,COUNTRY_INFO!$H106=99),OR(COUNTRY_INFO!$J106=0,COUNTRY_INFO!$J106=4)),0,COUNTRY_INFO!$F106))","v":49865},73311,{"$f":"IF(AND(INTRO!$E$37=\"Non-endemic\",INTRO!$E$41=\"Non-endemic\"),0,COUNTRY_INFO!P106)","v":0},{"$f":"IF(AND(INTRO!$E$37=\"Non-endemic\",INTRO!$E$41=\"Non-endemic\"),0,COUNTRY_INFO!R106)","v":2},{"$f":"IF(INTRO!$E$39=\"Non-endemic\",IF($G106=1,DEC!I106,0),IF($G106=1,IVM!G106,0))","v":0},"MBD",{"$f":"IF($J106=\"ALB\", IF(INTRO!$E$39=\"Non-endemic\", IF($H106<>0, IF($I106=0, $D106*$H106, $D106*($H106-$G106)), 0), $D106*$H106), 0)","v":0},0,null,0,{"$f":"IF($J106=\"MBD\", IF(INTRO!$E$39=\"Non-endemic\", IF($H106<>0, IF($I106=0, $D106*$H106, $D106*($H106-$G106)), 0), $D106*$H106), 0)","v":46892},99730,null,146622,0,0,0,0,0,0,0,99730,665]
[{"$f":"IF(AND(INTRO!$E$37=\"Non-endemic\",INTRO!$E$41=\"Non-endemic\"),\" \",IF(COUNTRY_INFO!A107=0,\" \",COUNTRY_INFO!A107))","v":"Uganda"},{"$f":"IF(AND(INTRO!$E$37=\"Non-endemic\",INTRO!$E$41=\"Non-endemic\"),\" \",IF(COUNTRY_INFO!B107=0,\" \",COUNTRY_INFO!B107))","v":"NORTHERN"},{"$f":"IF(AND(INTRO!$E$37=\"Non-endemic\",INTRO!$E$41=\"Non-endemic\"),\" \",IF(COUNTRY_INFO!C107=0,\" \",COUNTRY_INFO!C107))","v":"NEBBI"},{"$f":"IF(AND(INTRO!$E$37=\"Non-endemic\",INTRO!$E$41=\"Non-endemic\"),0,IF(AND(OR(COUNTRY_INFO!$H107=0,COUNTRY_INFO!$H107=4,COUNTRY_INFO!$H107=99),OR(COUNTRY_INFO!$J107=0,COUNTRY_INFO!$J107=4)),0,COUNTRY_INFO!$E107))","v":39361},{"$f":"IF(AND(INTRO!$E$37=\"Non-endemic\",INTRO!$E$41=\"Non-endemic\"),0,IF(AND(OR(COUNTRY_INFO!$H107=0,COUNTRY_INFO!$H107=4,COUNTRY_INFO!$H107=99),OR(COUNTRY_INFO!$J107=0,COUNTRY_INFO!$J107=4)),0,COUNTRY_INFO!$F107))","v":83711},123072,{"$f":"IF(AND(INTRO!$E$37=\"Non-endemic\",INTRO!$E$41=\"Non-endemic\"),0,COUNTRY_INFO!P107)","v":0},{"$f":"IF(AND(INTRO!$E$37=\"Non-endemic\",INTRO!$E$41=\"Non-endemic\"),0,COUNTRY_INFO!R107)","v":2},{"$f":"IF(INTRO!$E$39=\"Non-endemic\",IF($G107=1,DEC!I107,0),IF($G107=1,IVM!G107,0))","v":0},"MBD",{"$f":"IF($J107=\"ALB\", IF(INTRO!$E$39=\"Non-endemic\", IF($H107<>0, IF($I107=0, $D107*$H107, $D107*($H107-$G107)), 0), $D107*$H107), 0)","v":0},0,null,0,{"$f":"IF($J107=\"MBD\", IF(INTRO!$E$39=\"Non-endemic\", IF($H107<>0, IF($I107=0, $D107*$H107, $D107*($H107-$G107)), 0), $D107*$H107), 0)","v":78722},167422,null,246144,0,0,0,0,0,0,0,167422,1117]
[{"$f":"IF(AND(INTRO!$E$37=\"Non-endemic\",INTRO!$E$41=\"Non-endemic\"),\" \",IF(COUNTRY_INFO!A108=0,\" \",COUNTRY_INFO!A108))","v":"Uganda"},{"$f":"IF(AND(INTRO!$E$37=\"Non-endemic\",INTRO!$E$41=\"Non-endemic\"),\" \",IF(COUNTRY_INFO!B108=0,\" \",COUNTRY_INFO!B108))","v":"EASTERN"},{"$f":"IF(AND(INTRO!$E$37=\"Non-endemic\",INTRO!$E$41=\"Non-endemic\"),\" \",IF(COUNTRY_INFO!C108=0,\" \",COUNTRY_INFO!C108))","v":"NGORA"},{"$f":"IF(AND(INTRO!$E$37=\"Non-endemic\",INTRO!$E$41=\"Non-endemic\"),0,IF(AND(OR(COUNTRY_INFO!$H108=0,COUNTRY_INFO!$H108=4,COUNTRY_INFO!$H108=99),OR(COUNTRY_INFO!$J108=0,COUNTRY_INFO!$J108=4)),0,COUNTRY_INFO!$E108))","v":23396},{"$f":"IF(AND(INTRO!$E$37=\"Non-endemic\",INTRO!$E$41=\"Non-endemic\"),0,IF(AND(OR(COUNTRY_INFO!$H108=0,COUNTRY_INFO!$H108=4,COUNTRY_INFO!$H108=99),OR(COUNTRY_INFO!$J108=0,COUNTRY_INFO!$J108=4)),0,COUNTRY_INFO!$F108))","v":49758},73154,{"$f":"IF(AND(INTRO!$E$37=\"Non-endemic\",INTRO!$E$41=\"Non-endemic\"),0,COUNTRY_INFO!P108)","v":0},{"$f":"IF(AND(INTRO!$E$37=\"Non-endemic\",INTRO!$E$41=\"Non-endemic\"),0,COUNTRY_INFO!R108)","v":2},{"$f":"IF(INTRO!$E$39=\"Non-endemic\",IF($G108=1,DEC!I108,0),IF($G108=1,IVM!G108,0))","v":0},"MBD",{"$f":"IF($J108=\"ALB\", IF(INTRO!$E$39=\"Non-endemic\", IF($H108<>0, IF($I108=0, $D108*$H108, $D108*($H108-$G108)), 0), $D108*$H108), 0)","v":0},0,null,0,{"$f":"IF($J108=\"MBD\", IF(INTRO!$E$39=\"Non-endemic\", IF($H108<>0, IF($I108=0, $D108*$H108, $D108*($H108-$G108)), 0), $D108*$H108), 0)","v":46792},99516,null,146308,0,0,0,0,0,0,0,99516,664]
[{"$f":"IF(AND(INTRO!$E$37=\"Non-endemic\",INTRO!$E$41=\"Non-endemic\"),\" \",IF(COUNTRY_INFO!A109=0,\" \",COUNTRY_INFO!A109))","v":"Uganda"},{"$f":"IF(AND(INTRO!$E$37=\"Non-endemic\",INTRO!$E$41=\"Non-endemic\"),\" \",IF(COUNTRY_INFO!B109=0,\" \",COUNTRY_INFO!B109))","v":"WESTERN"},{"$f":"IF(AND(INTRO!$E$37=\"Non-endemic\",INTRO!$E$41=\"Non-endemic\"),\" \",IF(COUNTRY_INFO!C109=0,\" \",COUNTRY_INFO!C109))","v":"NTOROKO"},{"$f":"IF(AND(INTRO!$E$37=\"Non-endemic\",INTRO!$E$41=\"Non-endemic\"),0,IF(AND(OR(COUNTRY_INFO!$H109=0,COUNTRY_INFO!$H109=4,COUNTRY_INFO!$H109=99),OR(COUNTRY_INFO!$J109=0,COUNTRY_INFO!$J109=4)),0,COUNTRY_INFO!$E109))","v":11046},{"$f":"IF(AND(INTRO!$E$37=\"Non-endemic\",INTRO!$E$41=\"Non-endemic\"),0,IF(AND(OR(COUNTRY_INFO!$H109=0,COUNTRY_INFO!$H109=4,COUNTRY_INFO!$H109=99),OR(COUNTRY_INFO!$J109=0,COUNTRY_INFO!$J109=4)),0,COUNTRY_INFO!$F109))","v":23493},34539,{"$f":"IF(AND(INTRO!$E$37=\"Non-endemic\",INTRO!$E$41=\"Non-endemic\"),0,COUNTRY_INFO!P109)","v":0},{"$f":"IF(AND(INTRO!$E$37=\"Non-endemic\",INTRO!$E$41=\"Non-endemic\"),0,COUNTRY_INFO!R109)","v":2},{"$f":"IF(INTRO!$E$39=\"Non-endemic\",IF($G109=1,DEC!I109,0),IF($G109=1,IVM!G109,0))","v":0},"MBD",{"$f":"IF($J109=\"ALB\", IF(INTRO!$E$39=\"Non-endemic\", IF($H109<>0, IF($I109=0, $D109*$H109, $D109*($H109-$G109)), 0), $D109*$H109), 0)","v":0},0,null,0,{"$f":"IF($J109=\"MBD\", IF(INTRO!$E$39=\"Non-endemic\", IF($H109<>0, IF($I109=0, $D109*$H109, $D109*($H109-$G109)), 0), $D109*$H109), 0)","v":22092},46986,null,69078,0,0,0,0,0,0,0,46986,314]
[{"$f":"IF(AND(INTRO!$E$37=\"Non-endemic\",INTRO!$E$41=\"Non-endemic\"),\" \",IF(COUNTRY_INFO!A110=0,\" \",COUNTRY_INFO!A110))","v":"Uganda"},{"$f":"IF(AND(INTRO!$E$37=\"Non-endemic\",INTRO!$E$41=\"Non-endemic\"),\" \",IF(COUNTRY_INFO!B110=0,\" \",COUNTRY_INFO!B110))","v":"WESTERN"},{"$f":"IF(AND(INTRO!$E$37=\"Non-endemic\",INTRO!$E$41=\"Non-endemic\"),\" \",IF(COUNTRY_INFO!C110=0,\" \",COUNTRY_INFO!C110))","v":"NTUNGAMO"},{"$f":"IF(AND(INTRO!$E$37=\"Non-endemic\",INTRO!$E$41=\"Non-endemic\"),0,IF(AND(OR(COUNTRY_INFO!$H110=0,COUNTRY_INFO!$H110=4,COUNTRY_INFO!$H110=99),OR(COUNTRY_INFO!$J110=0,COUNTRY_INFO!$J110=4)),0,COUNTRY_INFO!$E110))","v":79765},{"$f":"IF(AND(INTRO!$E$37=\"Non-endemic\",INTRO!$E$41=\"Non-endemic\"),0,IF(AND(OR(COUNTRY_INFO!$H110=0,COUNTRY_INFO!$H110=4,COUNTRY_INFO!$H110=99),OR(COUNTRY_INFO!$J110=0,COUNTRY_INFO!$J110=4)),0,COUNTRY_INFO!$F110))","v":169640},249405,{"$f":"IF(AND(INTRO!$E$37=\"Non-endemic\",INTRO!$E$41=\"Non-endemic\"),0,COUNTRY_INFO!P110)","v":0},{"$f":"IF(AND(INTRO!$E$37=\"Non-endemic\",INTRO!$E$41=\"Non-endemic\"),0,COUNTRY_INFO!R110)","v":2},{"$f":"IF(INTRO!$E$39=\"Non-endemic\",IF($G110=1,DEC!I110,0),IF($G110=1,IVM!G110,0))","v":0},"MBD",{"$f":"IF($J110=\"ALB\", IF(INTRO!$E$39=\"Non-endemic\", IF($H110<>0, IF($I110=0, $D110*$H110, $D110*($H110-$G110)), 0), $D110*$H110), 0)","v":0},0,null,0,{"$f":"IF($J110=\"MBD\", IF(INTRO!$E$39=\"Non-endemic\", IF($H110<>0, IF($I110=0, $D110*$H110, $D110*($H110-$G110)), 0), $D110*$H110), 0)","v":159530},339280,null,498810,0,0,0,0,0,0,0,339280,2262]
[{"$f":"IF(AND(INTRO!$E$37=\"Non-endemic\",INTRO!$E$41=\"Non-endemic\"),\" \",IF(COUNTRY_INFO!A111=0,\" \",COUNTRY_INFO!A111))","v":"Uganda"},{"$f":"IF(AND(INTRO!$E$37=\"Non-endemic\",INTRO!$E$41=\"Non-endemic\"),\" \",IF(COUNTRY_INFO!B111=0,\" \",COUNTRY_INFO!B111))","v":"NORTHERN"},{"$f":"IF(AND(INTRO!$E$37=\"Non-endemic\",INTRO!$E$41=\"Non-endemic\"),\" \",IF(COUNTRY_INFO!C111=0,\" \",COUNTRY_INFO!C111))","v":"NWOYA"},{"$f":"IF(AND(INTRO!$E$37=\"Non-endemic\",INTRO!$E$41=\"Non-endemic\"),0,IF(AND(OR(COUNTRY_INFO!$H111=0,COUNTRY_INFO!$H111=4,COUNTRY_INFO!$H111=99),OR(COUNTRY_INFO!$J111=0,COUNTRY_INFO!$J111=4)),0,COUNTRY_INFO!$E111))","v":26417},{"$f":"IF(AND(INTRO!$E$37=\"Non-endemic\",INTRO!$E$41=\"Non-endemic\"),0,IF(AND(OR(COUNTRY_INFO!$H111=0,COUNTRY_INFO!$H111=4,COUNTRY_INFO!$H111=99),OR(COUNTRY_INFO!$J111=0,COUNTRY_INFO!$J111=4)),0,COUNTRY_INFO!$F111))","v":56183},82600,{"$f":"IF(AND(INTRO!$E$37=\"Non-endemic\",INTRO!$E$41=\"Non-endemic\"),0,COUNTRY_INFO!P111)","v":0},{"$f":"IF(AND(INTRO!$E$37=\"Non-endemic\",INTRO!$E$41=\"Non-endemic\"),0,COUNTRY_INFO!R111)","v":2},{"$f":"IF(INTRO!$E$39=\"Non-endemic\",IF($G111=1,DEC!I111,0),IF($G111=1,IVM!G111,0))","v":0},"MBD",{"$f":"IF($J111=\"ALB\", IF(INTRO!$E$39=\"Non-endemic\", IF($H111<>0, IF($I111=0, $D111*$H111, $D111*($H111-$G111)), 0), $D111*$H111), 0)","v":0},0,null,0,{"$f":"IF($J111=\"MBD\", IF(INTRO!$E$39=\"Non-endemic\", IF($H111<>0, IF($I111=0, $D111*$H111, $D111*($H111-$G111)), 0), $D111*$H111), 0)","v":52834},112366,null,165200,0,0,0,0,0,0,0,112366,750]
[{"$f":"IF(AND(INTRO!$E$37=\"Non-endemic\",INTRO!$E$41=\"Non-endemic\"),\" \",IF(COUNTRY_INFO!A112=0,\" \",COUNTRY_INFO!A112))","v":"Uganda"},{"$f":"IF(AND(INTRO!$E$37=\"Non-endemic\",INTRO!$E$41=\"Non-endemic\"),\" \",IF(COUNTRY_INFO!B112=0,\" \",COUNTRY_INFO!B112))","v":"NORTHERN"},{"$f":"IF(AND(INTRO!$E$37=\"Non-endemic\",INTRO!$E$41=\"Non-endemic\"),\" \",IF(COUNTRY_INFO!C112=0,\" \",COUNTRY_INFO!C112))","v":"OMORO"},{"$f":"IF(AND(INTRO!$E$37=\"Non-endemic\",INTRO!$E$41=\"Non-endemic\"),0,IF(AND(OR(COUNTRY_INFO!$H112=0,COUNTRY_INFO!$H112=4,COUNTRY_INFO!$H112=99),OR(COUNTRY_INFO!$J112=0,COUNTRY_INFO!$J112=4)),0,COUNTRY_INFO!$E112))","v":28163},{"$f":"IF(AND(INTRO!$E$37=\"Non-endemic\",INTRO!$E$41=\"Non-endemic\"),0,IF(AND(OR(COUNTRY_INFO!$H112=0,COUNTRY_INFO!$H112=4,COUNTRY_INFO!$H112=99),OR(COUNTRY_INFO!$J112=0,COUNTRY_INFO!$J112=4)),0,COUNTRY_INFO!$F112))","v":59897},88060,{"$f":"IF(AND(INTRO!$E$37=\"Non-endemic\",INTRO!$E$41=\"Non-endemic\"),0,COUNTRY_INFO!P112)","v":1},{"$f":"IF(AND(INTRO!$E$37=\"Non-endemic\",INTRO!$E$41=\"Non-endemic\"),0,COUNTRY_INFO!R112)","v":2},{"$f":"IF(INTRO!$E$39=\"Non-endemic\",IF($G112=1,DEC!I112,0),IF($G112=1,IVM!G112,0))","v":163229},"ALB",{"$f":"IF($J112=\"ALB\", IF(INTRO!$E$39=\"Non-endemic\", IF($H112<>0, IF($I112=0, $D112*$H112, $D112*($H112-$G112)), 0), $D112*$H112), 0)","v":56326},59897,null,116223,{"$f":"IF($J112=\"MBD\", IF(INTRO!$E$39=\"Non-endemic\", IF($H112<>0, IF($I112=0, $D112*$H112, $D112*($H112-$G112)), 0), $D112*$H112), 0)","v":0},0,null,0,0,163229,817,0,59897,300,0,0,0]
[{"$f":"IF(AND(INTRO!$E$37=\"Non-endemic\",INTRO!$E$41=\"Non-endemic\"),\" \",IF(COUNTRY_INFO!A113=0,\" \",COUNTRY_INFO!A113))","v":"Uganda"},{"$f":"IF(AND(INTRO!$E$37=\"Non-endemic\",INTRO!$E$41=\"Non-endemic\"),\" \",IF(COUNTRY_INFO!B113=0,\" \",COUNTRY_INFO!B113))","v":"NORTHERN"},{"$f":"IF(AND(INTRO!$E$37=\"Non-endemic\",INTRO!$E$41=\"Non-endemic\"),\" \",IF(COUNTRY_INFO!C113=0,\" \",COUNTRY_INFO!C113))","v":"OTUKE"},{"$f":"IF(AND(INTRO!$E$37=\"Non-endemic\",INTRO!$E$41=\"Non-endemic\"),0,IF(AND(OR(COUNTRY_INFO!$H113=0,COUNTRY_INFO!$H113=4,COUNTRY_INFO!$H113=99),OR(COUNTRY_INFO!$J113=0,COUNTRY_INFO!$J113=4)),0,COUNTRY_INFO!$E113))","v":17187},{"$f":"IF(AND(INTRO!$E$37=\"Non-endemic\",INTRO!$E$41=\"Non-endemic\"),0,IF(AND(OR(COUNTRY_INFO!$H113=0,COUNTRY_INFO!$H113=4,COUNTRY_INFO!$H113=99),OR(COUNTRY_INFO!$J113=0,COUNTRY_INFO!$J113=4)),0,COUNTRY_INFO!$F113))","v":36553},53740,{"$f":"IF(AND(INTRO!$E$37=\"Non-endemic\",INTRO!$E$41=\"Non-endemic\"),0,COUNTRY_INFO!P113)","v":0},{"$f":"IF(AND(INTRO!$E$37=\"Non-endemic\",INTRO!$E$41=\"Non-endemic\"),0,COUNTRY_INFO!R113)","v":2},{"$f":"IF(INTRO!$E$39=\"Non-endemic\",IF($G113=1,DEC!I113,0),IF($G113=1,IVM!G113,0))","v":0},"MBD",{"$f":"IF($J113=\"ALB\", IF(INTRO!$E$39=\"Non-endemic\", IF($H113<>0, IF($I113=0, $D113*$H113, $D113*($H113-$G113)), 0), $D113*$H113), 0)","v":0},0,null,0,{"$f":"IF($J113=\"MBD\", IF(INTRO!$E$39=\"Non-endemic\", IF($H113<>0, IF($I113=0, $D113*$H113, $D113*($H113-$G113)), 0), $D113*$H113), 0)","v":34374},73106,null,107480,0,0,0,0,0,0,0,73106,488]
[{"$f":"IF(AND(INTRO!$E$37=\"Non-endemic\",INTRO!$E$41=\"Non-endemic\"),\" \",IF(COUNTRY_INFO!A114=0,\" \",COUNTRY_INFO!A114))","v":"Uganda"},{"$f":"IF(AND(INTRO!$E$37=\"Non-endemic\",INTRO!$E$41=\"Non-endemic\"),\" \",IF(COUNTRY_INFO!B114=0,\" \",COUNTRY_INFO!B114))","v":"NORTHERN"},{"$f":"IF(AND(INTRO!$E$37=\"Non-endemic\",INTRO!$E$41=\"Non-endemic\"),\" \",IF(COUNTRY_INFO!C114=0,\" \",COUNTRY_INFO!C114))","v":"OYAM"},{"$f":"IF(AND(INTRO!$E$37=\"Non-endemic\",INTRO!$E$41=\"Non-endemic\"),0,IF(AND(OR(COUNTRY_INFO!$H114=0,COUNTRY_INFO!$H114=4,COUNTRY_INFO!$H114=99),OR(COUNTRY_INFO!$J114=0,COUNTRY_INFO!$J114=4)),0,COUNTRY_INFO!$E114))","v":63246},{"$f":"IF(AND(INTRO!$E$37=\"Non-endemic\",INTRO!$E$41=\"Non-endemic\"),0,IF(AND(OR(COUNTRY_INFO!$H114=0,COUNTRY_INFO!$H114=4,COUNTRY_INFO!$H114=99),OR(COUNTRY_INFO!$J114=0,COUNTRY_INFO!$J114=4)),0,COUNTRY_INFO!$F114))","v":134510},197756,{"$f":"IF(AND(INTRO!$E$37=\"Non-endemic\",INTRO!$E$41=\"Non-endemic\"),0,COUNTRY_INFO!P114)","v":0},{"$f":"IF(AND(INTRO!$E$37=\"Non-endemic\",INTRO!$E$41=\"Non-endemic\"),0,COUNTRY_INFO!R114)","v":2},{"$f":"IF(INTRO!$E$39=\"Non-endemic\",IF($G114=1,DEC!I114,0),IF($G114=1,IVM!G114,0))","v":0},"MBD",{"$f":"IF($J114=\"ALB\", IF(INTRO!$E$39=\"Non-endemic\", IF($H114<>0, IF($I114=0, $D114*$H114, $D114*($H114-$G114)), 0), $D114*$H114), 0)","v":0},0,null,0,{"$f":"IF($J114=\"MBD\", IF(INTRO!$E$39=\"Non-endemic\", IF($H114<>0, IF($I114=0, $D114*$H114, $D114*($H114-$G114)), 0), $D114*$H114), 0)","v":126492},269020,null,395512,0,0,0,0,0,0,0,269020,1794]
[{"$f":"IF(AND(INTRO!$E$37=\"Non-endemic\",INTRO!$E$41=\"Non-endemic\"),\" \",IF(COUNTRY_INFO!A115=0,\" \",COUNTRY_INFO!A115))","v":"Uganda"},{"$f":"IF(AND(INTRO!$E$37=\"Non-endemic\",INTRO!$E$41=\"Non-endemic\"),\" \",IF(COUNTRY_INFO!B115=0,\" \",COUNTRY_INFO!B115))","v":"NORTHERN"},{"$f":"IF(AND(INTRO!$E$37=\"Non-endemic\",INTRO!$E$41=\"Non-endemic\"),\" \",IF(COUNTRY_INFO!C115=0,\" \",COUNTRY_INFO!C115))","v":"PADER"},{"$f":"IF(AND(INTRO!$E$37=\"Non-endemic\",INTRO!$E$41=\"Non-endemic\"),0,IF(AND(OR(COUNTRY_INFO!$H115=0,COUNTRY_INFO!$H115=4,COUNTRY_INFO!$H115=99),OR(COUNTRY_INFO!$J115=0,COUNTRY_INFO!$J115=4)),0,COUNTRY_INFO!$E115))","v":57409},{"$f":"IF(AND(INTRO!$E$37=\"Non-endemic\",INTRO!$E$41=\"Non-endemic\"),0,IF(AND(OR(COUNTRY_INFO!$H115=0,COUNTRY_INFO!$H115=4,COUNTRY_INFO!$H115=99),OR(COUNTRY_INFO!$J115=0,COUNTRY_INFO!$J115=4)),0,COUNTRY_INFO!$F115))","v":122094},179503,{"$f":"IF(AND(INTRO!$E$37=\"Non-endemic\",INTRO!$E$41=\"Non-endemic\"),0,COUNTRY_INFO!P115)","v":0},{"$f":"IF(AND(INTRO!$E$37=\"Non-endemic\",INTRO!$E$41=\"Non-endemic\"),0,COUNTRY_INFO!R115)","v":2},{"$f":"IF(INTRO!$E$39=\"Non-endemic\",IF($G115=1,DEC!I115,0),IF($G115=1,IVM!G115,0))","v":0},"MBD",{"$f":"IF($J115=\"ALB\", IF(INTRO!$E$39=\"Non-endemic\", IF($H115<>0, IF($I115=0, $D115*$H115, $D115*($H115-$G115)), 0), $D115*$H115), 0)","v":0},0,null,0,{"$f":"IF($J115=\"MBD\", IF(INTRO!$E$39=\"Non-endemic\", IF($H115<>0, IF($I115=0, $D115*$H115, $D115*($H115-$G115)), 0), $D115*$H115), 0)","v":114818},244188,null,359006,0,0,0,0,0,0,0,244188,1628]
[{"$f":"IF(AND(INTRO!$E$37=\"Non-endemic\",INTRO!$E$41=\"Non-endemic\"),\" \",IF(COUNTRY_INFO!A116=0,\" \",COUNTRY_INFO!A116))","v":"Uganda"},{"$f":"IF(AND(INTRO!$E$37=\"Non-endemic\",INTRO!$E$41=\"Non-endemic\"),\" \",IF(COUNTRY_INFO!B116=0,\" \",COUNTRY_INFO!B116))","v":"NORTHERN"},{"$f":"IF(AND(INTRO!$E$37=\"Non-endemic\",INTRO!$E$41=\"Non-endemic\"),\" \",IF(COUNTRY_INFO!C116=0,\" \",COUNTRY_INFO!C116))","v":"PAKWACH"},{"$f":"IF(AND(INTRO!$E$37=\"Non-endemic\",INTRO!$E$41=\"Non-endemic\"),0,IF(AND(OR(COUNTRY_INFO!$H116=0,COUNTRY_INFO!$H116=4,COUNTRY_INFO!$H116=99),OR(COUNTRY_INFO!$J116=0,COUNTRY_INFO!$J116=4)),0,COUNTRY_INFO!$E116))","v":26054},{"$f":"IF(AND(INTRO!$E$37=\"Non-endemic\",INTRO!$E$41=\"Non-endemic\"),0,IF(AND(OR(COUNTRY_INFO!$H116=0,COUNTRY_INFO!$H116=4,COUNTRY_INFO!$H116=99),OR(COUNTRY_INFO!$J116=0,COUNTRY_INFO!$J116=4)),0,COUNTRY_INFO!$F116))","v":55410},81464,{"$f":"IF(AND(INTRO!$E$37=\"Non-endemic\",INTRO!$E$41=\"Non-endemic\"),0,COUNTRY_INFO!P116)","v":0},{"$f":"IF(AND(INTRO!$E$37=\"Non-endemic\",INTRO!$E$41=\"Non-endemic\"),0,COUNTRY_INFO!R116)","v":2},{"$f":"IF(INTRO!$E$39=\"Non-endemic\",IF($G116=1,DEC!I116,0),IF($G116=1,IVM!G116,0))","v":0},"MBD",{"$f":"IF($J116=\"ALB\", IF(INTRO!$E$39=\"Non-endemic\", IF($H116<>0, IF($I116=0, $D116*$H116, $D116*($H116-$G116)), 0), $D116*$H116), 0)","v":0},0,null,0,{"$f":"IF($J116=\"MBD\", IF(INTRO!$E$39=\"Non-endemic\", IF($H116<>0, IF($I116=0, $D116*$H116, $D116*($H116-$G116)), 0), $D116*$H116), 0)","v":52108},110820,null,162928,0,0,0,0,0,0,0,110820,739]
[{"$f":"IF(AND(INTRO!$E$37=\"Non-endemic\",INTRO!$E$41=\"Non-endemic\"),\" \",IF(COUNTRY_INFO!A117=0,\" \",COUNTRY_INFO!A117))","v":"Uganda"},{"$f":"IF(AND(INTRO!$E$37=\"Non-endemic\",INTRO!$E$41=\"Non-endemic\"),\" \",IF(COUNTRY_INFO!B117=0,\" \",COUNTRY_INFO!B117))","v":"EASTERN"},{"$f":"IF(AND(INTRO!$E$37=\"Non-endemic\",INTRO!$E$41=\"Non-endemic\"),\" \",IF(COUNTRY_INFO!C117=0,\" \",COUNTRY_INFO!C117))","v":"PALLISA"},{"$f":"IF(AND(INTRO!$E$37=\"Non-endemic\",INTRO!$E$41=\"Non-endemic\"),0,IF(AND(OR(COUNTRY_INFO!$H117=0,COUNTRY_INFO!$H117=4,COUNTRY_INFO!$H117=99),OR(COUNTRY_INFO!$J117=0,COUNTRY_INFO!$J117=4)),0,COUNTRY_INFO!$E117))","v":39882},{"$f":"IF(AND(INTRO!$E$37=\"Non-endemic\",INTRO!$E$41=\"Non-endemic\"),0,IF(AND(OR(COUNTRY_INFO!$H117=0,COUNTRY_INFO!$H117=4,COUNTRY_INFO!$H117=99),OR(COUNTRY_INFO!$J117=0,COUNTRY_INFO!$J117=4)),0,COUNTRY_INFO!$F117))","v":84819},124701,{"$f":"IF(AND(INTRO!$E$37=\"Non-endemic\",INTRO!$E$41=\"Non-endemic\"),0,COUNTRY_INFO!P117)","v":0},{"$f":"IF(AND(INTRO!$E$37=\"Non-endemic\",INTRO!$E$41=\"Non-endemic\"),0,COUNTRY_INFO!R117)","v":2},{"$f":"IF(INTRO!$E$39=\"Non-endemic\",IF($G117=1,DEC!I117,0),IF($G117=1,IVM!G117,0))","v":0},"MBD",{"$f":"IF($J117=\"ALB\", IF(INTRO!$E$39=\"Non-endemic\", IF($H117<>0, IF($I117=0, $D117*$H117, $D117*($H117-$G117)), 0), $D117*$H117), 0)","v":0},0,null,0,{"$f":"IF($J117=\"MBD\", IF(INTRO!$E$39=\"Non-endemic\", IF($H117<>0, IF($I117=0, $D117*$H117, $D117*($H117-$G117)), 0), $D117*$H117), 0)","v":79764},169638,null,249402,0,0,0,0,0,0,0,169638,1131]
[{"$f":"IF(AND(INTRO!$E$37=\"Non-endemic\",INTRO!$E$41=\"Non-endemic\"),\" \",IF(COUNTRY_INFO!A118=0,\" \",COUNTRY_INFO!A118))","v":"Uganda"},{"$f":"IF(AND(INTRO!$E$37=\"Non-endemic\",INTRO!$E$41=\"Non-endemic\"),\" \",IF(COUNTRY_INFO!B118=0,\" \",COUNTRY_INFO!B118))","v":"CENTRAL"},{"$f":"IF(AND(INTRO!$E$37=\"Non-endemic\",INTRO!$E$41=\"Non-endemic\"),\" \",IF(COUNTRY_INFO!C118=0,\" \",COUNTRY_INFO!C118))","v":"RAKAI"},{"$f":"IF(AND(INTRO!$E$37=\"Non-endemic\",INTRO!$E$41=\"Non-endemic\"),0,IF(AND(OR(COUNTRY_INFO!$H118=0,COUNTRY_INFO!$H118=4,COUNTRY_INFO!$H118=99),OR(COUNTRY_INFO!$J118=0,COUNTRY_INFO!$J118=4)),0,COUNTRY_INFO!$E118))","v":58323},{"$f":"IF(AND(INTRO!$E$37=\"Non-endemic\",INTRO!$E$41=\"Non-endemic\"),0,IF(AND(OR(COUNTRY_INFO!$H118=0,COUNTRY_INFO!$H118=4,COUNTRY_INFO!$H118=99),OR(COUNTRY_INFO!$J118=0,COUNTRY_INFO!$J118=4)),0,COUNTRY_INFO!$F118))","v":124040},182363,{"$f":"IF(AND(INTRO!$E$37=\"Non-endemic\",INTRO!$E$41=\"Non-endemic\"),0,COUNTRY_INFO!P118)","v":0},{"$f":"IF(AND(INTRO!$E$37=\"Non-endemic\",INTRO!$E$41=\"Non-endemic\"),0,COUNTRY_INFO!R118)","v":2},{"$f":"IF(INTRO!$E$39=\"Non-endemic\",IF($G118=1,DEC!I118,0),IF($G118=1,IVM!G118,0))","v":0},"MBD",{"$f":"IF($J118=\"ALB\", IF(INTRO!$E$39=\"Non-endemic\", IF($H118<>0, IF($I118=0, $D118*$H118, $D118*($H118-$G118)), 0), $D118*$H118), 0)","v":0},0,null,0,{"$f":"IF($J118=\"MBD\", IF(INTRO!$E$39=\"Non-endemic\", IF($H118<>0, IF($I118=0, $D118*$H118, $D118*($H118-$G118)), 0), $D118*$H118), 0)","v":116646},248080,null,364726,0,0,0,0,0,0,0,248080,1654]
[{"$f":"IF(AND(INTRO!$E$37=\"Non-endemic\",INTRO!$E$41=\"Non-endemic\"),\" \",IF(COUNTRY_INFO!A119=0,\" \",COUNTRY_INFO!A119))","v":"Uganda"},{"$f":"IF(AND(INTRO!$E$37=\"Non-endemic\",INTRO!$E$41=\"Non-endemic\"),\" \",IF(COUNTRY_INFO!B119=0,\" \",COUNTRY_INFO!B119))","v":"WESTERN"},{"$f":"IF(AND(INTRO!$E$37=\"Non-endemic\",INTRO!$E$41=\"Non-endemic\"),\" \",IF(COUNTRY_INFO!C119=0,\" \",COUNTRY_INFO!C119))","v":"RUBANDA"},{"$f":"IF(AND(INTRO!$E$37=\"Non-endemic\",INTRO!$E$41=\"Non-endemic\"),0,IF(AND(OR(COUNTRY_INFO!$H119=0,COUNTRY_INFO!$H119=4,COUNTRY_INFO!$H119=99),OR(COUNTRY_INFO!$J119=0,COUNTRY_INFO!$J119=4)),0,COUNTRY_INFO!$E119))","v":32460},{"$f":"IF(AND(INTRO!$E$37=\"Non-endemic\",INTRO!$E$41=\"Non-endemic\"),0,IF(AND(OR(COUNTRY_INFO!$H119=0,COUNTRY_INFO!$H119=4,COUNTRY_INFO!$H119=99),OR(COUNTRY_INFO!$J119=0,COUNTRY_INFO!$J119=4)),0,COUNTRY_INFO!$F119))","v":69034},101494,{"$f":"IF(AND(INTRO!$E$37=\"Non-endemic\",INTRO!$E$41=\"Non-endemic\"),0,COUNTRY_INFO!P119)","v":0},{"$f":"IF(AND(INTRO!$E$37=\"Non-endemic\",INTRO!$E$41=\"Non-endemic\"),0,COUNTRY_INFO!R119)","v":2},{"$f":"IF(INTRO!$E$39=\"Non-endemic\",IF($G119=1,DEC!I119,0),IF($G119=1,IVM!G119,0))","v":0},"MBD",{"$f":"IF($J119=\"ALB\", IF(INTRO!$E$39=\"Non-endemic\", IF($H119<>0, IF($I119=0, $D119*$H119, $D119*($H119-$G119)), 0), $D119*$H119), 0)","v":0},0,null,0,{"$f":"IF($J119=\"MBD\", IF(INTRO!$E$39=\"Non-endemic\", IF($H119<>0, IF($I119=0, $D119*$H119, $D119*($H119-$G119)), 0), $D119*$H119), 0)","v":64920},138068,null,202988,0,0,0,0,0,0,0,138068,921]
[{"$f":"IF(AND(INTRO!$E$37=\"Non-endemic\",INTRO!$E$41=\"Non-endemic\"),\" \",IF(COUNTRY_INFO!A120=0,\" \",COUNTRY_INFO!A120))","v":"Uganda"},{"$f":"IF(AND(INTRO!$E$37=\"Non-endemic\",INTRO!$E$41=\"Non-endemic\"),\" \",IF(COUNTRY_INFO!B120=0,\" \",COUNTRY_INFO!B120))","v":"WESTERN"},{"$f":"IF(AND(INTRO!$E$37=\"Non-endemic\",INTRO!$E$41=\"Non-endemic\"),\" \",IF(COUNTRY_INFO!C120=0,\" \",COUNTRY_INFO!C120))","v":"RUBIRIZI"},{"$f":"IF(AND(INTRO!$E$37=\"Non-endemic\",INTRO!$E$41=\"Non-endemic\"),0,IF(AND(OR(COUNTRY_INFO!$H120=0,COUNTRY_INFO!$H120=4,COUNTRY_INFO!$H120=99),OR(COUNTRY_INFO!$J120=0,COUNTRY_INFO!$J120=4)),0,COUNTRY_INFO!$E120))","v":21291},{"$f":"IF(AND(INTRO!$E$37=\"Non-endemic\",INTRO!$E$41=\"Non-endemic\"),0,IF(AND(OR(COUNTRY_INFO!$H120=0,COUNTRY_INFO!$H120=4,COUNTRY_INFO!$H120=99),OR(COUNTRY_INFO!$J120=0,COUNTRY_INFO!$J120=4)),0,COUNTRY_INFO!$F120))","v":45281},66572,{"$f":"IF(AND(INTRO!$E$37=\"Non-endemic\",INTRO!$E$41=\"Non-endemic\"),0,COUNTRY_INFO!P120)","v":0},{"$f":"IF(AND(INTRO!$E$37=\"Non-endemic\",INTRO!$E$41=\"Non-endemic\"),0,COUNTRY_INFO!R120)","v":2},{"$f":"IF(INTRO!$E$39=\"Non-endemic\",IF($G120=1,DEC!I120,0),IF($G120=1,IVM!G120,0))","v":0},"MBD",{"$f":"IF($J120=\"ALB\", IF(INTRO!$E$39=\"Non-endemic\", IF($H120<>0, IF($I120=0, $D120*$H120, $D120*($H120-$G120)), 0), $D120*$H120), 0)","v":0},0,null,0,{"$f":"IF($J120=\"MBD\", IF(INTRO!$E$39=\"Non-endemic\", IF($H120<>0, IF($I120=0, $D120*$H120, $D120*($H120-$G120)), 0), $D120*$H120), 0)","v":42582},90562,null,133144,0,0,0,0,0,0,0,90562,604]
[{"$f":"IF(AND(INTRO!$E$37=\"Non-endemic\",INTRO!$E$41=\"Non-endemic\"),\" \",IF(COUNTRY_INFO!A121=0,\" \",COUNTRY_INFO!A121))","v":"Uganda"},{"$f":"IF(AND(INTRO!$E$37=\"Non-endemic\",INTRO!$E$41=\"Non-endemic\"),\" \",IF(COUNTRY_INFO!B121=0,\" \",COUNTRY_INFO!B121))","v":"Western"},{"$f":"IF(AND(INTRO!$E$37=\"Non-endemic\",INTRO!$E$41=\"Non-endemic\"),\" \",IF(COUNTRY_INFO!C121=0,\" \",COUNTRY_INFO!C121))","v":"RUKIGA"},{"$f":"IF(AND(INTRO!$E$37=\"Non-endemic\",INTRO!$E$41=\"Non-endemic\"),0,IF(AND(OR(COUNTRY_INFO!$H121=0,COUNTRY_INFO!$H121=4,COUNTRY_INFO!$H121=99),OR(COUNTRY_INFO!$J121=0,COUNTRY_INFO!$J121=4)),0,COUNTRY_INFO!$E121))","v":16605},{"$f":"IF(AND(INTRO!$E$37=\"Non-endemic\",INTRO!$E$41=\"Non-endemic\"),0,IF(AND(OR(COUNTRY_INFO!$H121=0,COUNTRY_INFO!$H121=4,COUNTRY_INFO!$H121=99),OR(COUNTRY_INFO!$J121=0,COUNTRY_INFO!$J121=4)),0,COUNTRY_INFO!$F121))","v":35316},51921,{"$f":"IF(AND(INTRO!$E$37=\"Non-endemic\",INTRO!$E$41=\"Non-endemic\"),0,COUNTRY_INFO!P121)","v":0},{"$f":"IF(AND(INTRO!$E$37=\"Non-endemic\",INTRO!$E$41=\"Non-endemic\"),0,COUNTRY_INFO!R121)","v":2},{"$f":"IF(INTRO!$E$39=\"Non-endemic\",IF($G121=1,DEC!I121,0),IF($G121=1,IVM!G121,0))","v":0},"MBD",{"$f":"IF($J121=\"ALB\", IF(INTRO!$E$39=\"Non-endemic\", IF($H121<>0, IF($I121=0, $D121*$H121, $D121*($H121-$G121)), 0), $D121*$H121), 0)","v":0},0,null,0,{"$f":"IF($J121=\"MBD\", IF(INTRO!$E$39=\"Non-endemic\", IF($H121<>0, IF($I121=0, $D121*$H121, $D121*($H121-$G121)), 0), $D121*$H121), 0)","v":33210},70632,null,103842,0,0,0,0,0,0,0,70632,471]
[{"$f":"IF(AND(INTRO!$E$37=\"Non-endemic\",INTRO!$E$41=\"Non-endemic\"),\" \",IF(COUNTRY_INFO!A122=0,\" \",COUNTRY_INFO!A122))","v":"Uganda"},{"$f":"IF(AND(INTRO!$E$37=\"Non-endemic\",INTRO!$E$41=\"Non-endemic\"),\" \",IF(COUNTRY_INFO!B122=0,\" \",COUNTRY_INFO!B122))","v":"WESTERN"},{"$f":"IF(AND(INTRO!$E$37=\"Non-endemic\",INTRO!$E$41=\"Non-endemic\"),\" \",IF(COUNTRY_INFO!C122=0,\" \",COUNTRY_INFO!C122))","v":"RUKUNGIRI"},{"$f":"IF(AND(INTRO!$E$37=\"Non-endemic\",INTRO!$E$41=\"Non-endemic\"),0,IF(AND(OR(COUNTRY_INFO!$H122=0,COUNTRY_INFO!$H122=4,COUNTRY_INFO!$H122=99),OR(COUNTRY_INFO!$J122=0,COUNTRY_INFO!$J122=4)),0,COUNTRY_INFO!$E122))","v":51880},{"$f":"IF(AND(INTRO!$E$37=\"Non-endemic\",INTRO!$E$41=\"Non-endemic\"),0,IF(AND(OR(COUNTRY_INFO!$H122=0,COUNTRY_INFO!$H122=4,COUNTRY_INFO!$H122=99),OR(COUNTRY_INFO!$J122=0,COUNTRY_INFO!$J122=4)),0,COUNTRY_INFO!$F122))","v":110335},162215,{"$f":"IF(AND(INTRO!$E$37=\"Non-endemic\",INTRO!$E$41=\"Non-endemic\"),0,COUNTRY_INFO!P122)","v":0},{"$f":"IF(AND(INTRO!$E$37=\"Non-endemic\",INTRO!$E$41=\"Non-endemic\"),0,COUNTRY_INFO!R122)","v":2},{"$f":"IF(INTRO!$E$39=\"Non-endemic\",IF($G122=1,DEC!I122,0),IF($G122=1,IVM!G122,0))","v":0},"MBD",{"$f":"IF($J122=\"ALB\", IF(INTRO!$E$39=\"Non-endemic\", IF($H122<>0, IF($I122=0, $D122*$H122, $D122*($H122-$G122)), 0), $D122*$H122), 0)","v":0},0,null,0,{"$f":"IF($J122=\"MBD\", IF(INTRO!$E$39=\"Non-endemic\", IF($H122<>0, IF($I122=0, $D122*$H122, $D122*($H122-$G122)), 0), $D122*$H122), 0)","v":103760},220670,null,324430,0,0,0,0,0,0,0,220670,1472]
[{"$f":"IF(AND(INTRO!$E$37=\"Non-endemic\",INTRO!$E$41=\"Non-endemic\"),\" \",IF(COUNTRY_INFO!A123=0,\" \",COUNTRY_INFO!A123))","v":"Uganda"},{"$f":"IF(AND(INTRO!$E$37=\"Non-endemic\",INTRO!$E$41=\"Non-endemic\"),\" \",IF(COUNTRY_INFO!B123=0,\" \",COUNTRY_INFO!B123))","v":"CENTRAL"},{"$f":"IF(AND(INTRO!$E$37=\"Non-endemic\",INTRO!$E$41=\"Non-endemic\"),\" \",IF(COUNTRY_INFO!C123=0,\" \",COUNTRY_INFO!C123))","v":"SEMBABULE"},{"$f":"IF(AND(INTRO!$E$37=\"Non-endemic\",INTRO!$E$41=\"Non-endemic\"),0,IF(AND(OR(COUNTRY_INFO!$H123=0,COUNTRY_INFO!$H123=4,COUNTRY_INFO!$H123=99),OR(COUNTRY_INFO!$J123=0,COUNTRY_INFO!$J123=4)),0,COUNTRY_INFO!$E123))","v":41642},{"$f":"IF(AND(INTRO!$E$37=\"Non-endemic\",INTRO!$E$41=\"Non-endemic\"),0,IF(AND(OR(COUNTRY_INFO!$H123=0,COUNTRY_INFO!$H123=4,COUNTRY_INFO!$H123=99),OR(COUNTRY_INFO!$J123=0,COUNTRY_INFO!$J123=4)),0,COUNTRY_INFO!$F123))","v":88564},130206,{"$f":"IF(AND(INTRO!$E$37=\"Non-endemic\",INTRO!$E$41=\"Non-endemic\"),0,COUNTRY_INFO!P123)","v":0},{"$f":"IF(AND(INTRO!$E$37=\"Non-endemic\",INTRO!$E$41=\"Non-endemic\"),0,COUNTRY_INFO!R123)","v":2},{"$f":"IF(INTRO!$E$39=\"Non-endemic\",IF($G123=1,DEC!I123,0),IF($G123=1,IVM!G123,0))","v":0},"MBD",{"$f":"IF($J123=\"ALB\", IF(INTRO!$E$39=\"Non-endemic\", IF($H123<>0, IF($I123=0, $D123*$H123, $D123*($H123-$G123)), 0), $D123*$H123), 0)","v":0},0,null,0,{"$f":"IF($J123=\"MBD\", IF(INTRO!$E$39=\"Non-endemic\", IF($H123<>0, IF($I123=0, $D123*$H123, $D123*($H123-$G123)), 0), $D123*$H123), 0)","v":83284},177128,null,260412,0,0,0,0,0,0,0,177128,1181]
[{"$f":"IF(AND(INTRO!$E$37=\"Non-endemic\",INTRO!$E$41=\"Non-endemic\"),\" \",IF(COUNTRY_INFO!A124=0,\" \",COUNTRY_INFO!A124))","v":"Uganda"},{"$f":"IF(AND(INTRO!$E$37=\"Non-endemic\",INTRO!$E$41=\"Non-endemic\"),\" \",IF(COUNTRY_INFO!B124=0,\" \",COUNTRY_INFO!B124))","v":"EASTERN"},{"$f":"IF(AND(INTRO!$E$37=\"Non-endemic\",INTRO!$E$41=\"Non-endemic\"),\" \",IF(COUNTRY_INFO!C124=0,\" \",COUNTRY_INFO!C124))","v":"SERERE"},{"$f":"IF(AND(INTRO!$E$37=\"Non-endemic\",INTRO!$E$41=\"Non-endemic\"),0,IF(AND(OR(COUNTRY_INFO!$H124=0,COUNTRY_INFO!$H124=4,COUNTRY_INFO!$H124=99),OR(COUNTRY_INFO!$J124=0,COUNTRY_INFO!$J124=4)),0,COUNTRY_INFO!$E124))","v":47133},{"$f":"IF(AND(INTRO!$E$37=\"Non-endemic\",INTRO!$E$41=\"Non-endemic\"),0,IF(AND(OR(COUNTRY_INFO!$H124=0,COUNTRY_INFO!$H124=4,COUNTRY_INFO!$H124=99),OR(COUNTRY_INFO!$J124=0,COUNTRY_INFO!$J124=4)),0,COUNTRY_INFO!$F124))","v":100240},147373,{"$f":"IF(AND(INTRO!$E$37=\"Non-endemic\",INTRO!$E$41=\"Non-endemic\"),0,COUNTRY_INFO!P124)","v":0},{"$f":"IF(AND(INTRO!$E$37=\"Non-endemic\",INTRO!$E$41=\"Non-endemic\"),0,COUNTRY_INFO!R124)","v":2},{"$f":"IF(INTRO!$E$39=\"Non-endemic\",IF($G124=1,DEC!I124,0),IF($G124=1,IVM!G124,0))","v":0},"MBD",{"$f":"IF($J124=\"ALB\", IF(INTRO!$E$39=\"Non-endemic\", IF($H124<>0, IF($I124=0, $D124*$H124, $D124*($H124-$G124)), 0), $D124*$H124), 0)","v":0},0,null,0,{"$f":"IF($J124=\"MBD\", IF(INTRO!$E$39=\"Non-endemic\", IF($H124<>0, IF($I124=0, $D124*$H124, $D124*($H124-$G124)), 0), $D124*$H124), 0)","v":94266},200480,null,294746,0,0,0,0,0,0,0,200480,1337]
[{"$f":"IF(AND(INTRO!$E$37=\"Non-endemic\",INTRO!$E$41=\"Non-endemic\"),\" \",IF(COUNTRY_INFO!A125=0,\" \",COUNTRY_INFO!A125))","v":"Uganda"},{"$f":"IF(AND(INTRO!$E$37=\"Non-endemic\",INTRO!$E$41=\"Non-endemic\"),\" \",IF(COUNTRY_INFO!B125=0,\" \",COUNTRY_INFO!B125))","v":"WESTERN"},{"$f":"IF(AND(INTRO!$E$37=\"Non-endemic\",INTRO!$E$41=\"Non-endemic\"),\" \",IF(COUNTRY_INFO!C125=0,\" \",COUNTRY_INFO!C125))","v":"SHEEMA"},{"$f":"IF(AND(INTRO!$E$37=\"Non-endemic\",INTRO!$E$41=\"Non-endemic\"),0,IF(AND(OR(COUNTRY_INFO!$H125=0,COUNTRY_INFO!$H125=4,COUNTRY_INFO!$H125=99),OR(COUNTRY_INFO!$J125=0,COUNTRY_INFO!$J125=4)),0,COUNTRY_INFO!$E125))","v":34182},{"$f":"IF(AND(INTRO!$E$37=\"Non-endemic\",INTRO!$E$41=\"Non-endemic\"),0,IF(AND(OR(COUNTRY_INFO!$H125=0,COUNTRY_INFO!$H125=4,COUNTRY_INFO!$H125=99),OR(COUNTRY_INFO!$J125=0,COUNTRY_INFO!$J125=4)),0,COUNTRY_INFO!$F125))","v":72697},106879,{"$f":"IF(AND(INTRO!$E$37=\"Non-endemic\",INTRO!$E$41=\"Non-endemic\"),0,COUNTRY_INFO!P125)","v":0},{"$f":"IF(AND(INTRO!$E$37=\"Non-endemic\",INTRO!$E$41=\"Non-endemic\"),0,COUNTRY_INFO!R125)","v":2},{"$f":"IF(INTRO!$E$39=\"Non-endemic\",IF($G125=1,DEC!I125,0),IF($G125=1,IVM!G125,0))","v":0},"MBD",{"$f":"IF($J125=\"ALB\", IF(INTRO!$E$39=\"Non-endemic\", IF($H125<>0, IF($I125=0, $D125*$H125, $D125*($H125-$G125)), 0), $D125*$H125), 0)","v":0},0,null,0,{"$f":"IF($J125=\"MBD\", IF(INTRO!$E$39=\"Non-endemic\", IF($H125<>0, IF($I125=0, $D125*$H125, $D125*($H125-$G125)), 0), $D125*$H125), 0)","v":68364},145394,null,213758,0,0,0,0,0,0,0,145394,970]
[{"$f":"IF(AND(INTRO!$E$37=\"Non-endemic\",INTRO!$E$41=\"Non-endemic\"),\" \",IF(COUNTRY_INFO!A126=0,\" \",COUNTRY_INFO!A126))","v":"Uganda"},{"$f":"IF(AND(INTRO!$E$37=\"Non-endemic\",INTRO!$E$41=\"Non-endemic\"),\" \",IF(COUNTRY_INFO!B126=0,\" \",COUNTRY_INFO!B126))","v":"EASTERN"},{"$f":"IF(AND(INTRO!$E$37=\"Non-endemic\",INTRO!$E$41=\"Non-endemic\"),\" \",IF(COUNTRY_INFO!C126=0,\" \",COUNTRY_INFO!C126))","v":"SIRONKO"},{"$f":"IF(AND(INTRO!$E$37=\"Non-endemic\",INTRO!$E$41=\"Non-endemic\"),0,IF(AND(OR(COUNTRY_INFO!$H126=0,COUNTRY_INFO!$H126=4,COUNTRY_INFO!$H126=99),OR(COUNTRY_INFO!$J126=0,COUNTRY_INFO!$J126=4)),0,COUNTRY_INFO!$E126))","v":39965},{"$f":"IF(AND(INTRO!$E$37=\"Non-endemic\",INTRO!$E$41=\"Non-endemic\"),0,IF(AND(OR(COUNTRY_INFO!$H126=0,COUNTRY_INFO!$H126=4,COUNTRY_INFO!$H126=99),OR(COUNTRY_INFO!$J126=0,COUNTRY_INFO!$J126=4)),0,COUNTRY_INFO!$F126))","v":84995},124960,{"$f":"IF(AND(INTRO!$E$37=\"Non-endemic\",INTRO!$E$41=\"Non-endemic\"),0,COUNTRY_INFO!P126)","v":0},{"$f":"IF(AND(INTRO!$E$37=\"Non-endemic\",INTRO!$E$41=\"Non-endemic\"),0,COUNTRY_INFO!R126)","v":2},{"$f":"IF(INTRO!$E$39=\"Non-endemic\",IF($G126=1,DEC!I126,0),IF($G126=1,IVM!G126,0))","v":0},"MBD",{"$f":"IF($J126=\"ALB\", IF(INTRO!$E$39=\"Non-endemic\", IF($H126<>0, IF($I126=0, $D126*$H126, $D126*($H126-$G126)), 0), $D126*$H126), 0)","v":0},0,null,0,{"$f":"IF($J126=\"MBD\", IF(INTRO!$E$39=\"Non-endemic\", IF($H126<>0, IF($I126=0, $D126*$H126, $D126*($H126-$G126)), 0), $D126*$H126), 0)","v":79930},169990,null,249920,0,0,0,0,0,0,0,169990,1134]
[{"$f":"IF(AND(INTRO!$E$37=\"Non-endemic\",INTRO!$E$41=\"Non-endemic\"),\" \",IF(COUNTRY_INFO!A127=0,\" \",COUNTRY_INFO!A127))","v":"Uganda"},{"$f":"IF(AND(INTRO!$E$37=\"Non-endemic\",INTRO!$E$41=\"Non-endemic\"),\" \",IF(COUNTRY_INFO!B127=0,\" \",COUNTRY_INFO!B127))","v":"EASTERN"},{"$f":"IF(AND(INTRO!$E$37=\"Non-endemic\",INTRO!$E$41=\"Non-endemic\"),\" \",IF(COUNTRY_INFO!C127=0,\" \",COUNTRY_INFO!C127))","v":"SOROTI"},{"$f":"IF(AND(INTRO!$E$37=\"Non-endemic\",INTRO!$E$41=\"Non-endemic\"),0,IF(AND(OR(COUNTRY_INFO!$H127=0,COUNTRY_INFO!$H127=4,COUNTRY_INFO!$H127=99),OR(COUNTRY_INFO!$J127=0,COUNTRY_INFO!$J127=4)),0,COUNTRY_INFO!$E127))","v":48935},{"$f":"IF(AND(INTRO!$E$37=\"Non-endemic\",INTRO!$E$41=\"Non-endemic\"),0,IF(AND(OR(COUNTRY_INFO!$H127=0,COUNTRY_INFO!$H127=4,COUNTRY_INFO!$H127=99),OR(COUNTRY_INFO!$J127=0,COUNTRY_INFO!$J127=4)),0,COUNTRY_INFO!$F127))","v":104073},153008,{"$f":"IF(AND(INTRO!$E$37=\"Non-endemic\",INTRO!$E$41=\"Non-endemic\"),0,COUNTRY_INFO!P127)","v":0},{"$f":"IF(AND(INTRO!$E$37=\"Non-endemic\",INTRO!$E$41=\"Non-endemic\"),0,COUNTRY_INFO!R127)","v":2},{"$f":"IF(INTRO!$E$39=\"Non-endemic\",IF($G127=1,DEC!I127,0),IF($G127=1,IVM!G127,0))","v":0},"MBD",{"$f":"IF($J127=\"ALB\", IF(INTRO!$E$39=\"Non-endemic\", IF($H127<>0, IF($I127=0, $D127*$H127, $D127*($H127-$G127)), 0), $D127*$H127), 0)","v":0},0,null,0,{"$f":"IF($J127=\"MBD\", IF(INTRO!$E$39=\"Non-endemic\", IF($H127<>0, IF($I127=0, $D127*$H127, $D127*($H127-$G127)), 0), $D127*$H127), 0)","v":97870},208146,null,306016,0,0,0,0,0,0,0,208146,1388]
[{"$f":"IF(AND(INTRO!$E$37=\"Non-endemic\",INTRO!$E$41=\"Non-endemic\"),\" \",IF(COUNTRY_INFO!A128=0,\" \",COUNTRY_INFO!A128))","v":"Uganda"},{"$f":"IF(AND(INTRO!$E$37=\"Non-endemic\",INTRO!$E$41=\"Non-endemic\"),\" \",IF(COUNTRY_INFO!B128=0,\" \",COUNTRY_INFO!B128))","v":"EASTERN"},{"$f":"IF(AND(INTRO!$E$37=\"Non-endemic\",INTRO!$E$41=\"Non-endemic\"),\" \",IF(COUNTRY_INFO!C128=0,\" \",COUNTRY_INFO!C128))","v":"TORORO"},{"$f":"IF(AND(INTRO!$E$37=\"Non-endemic\",INTRO!$E$41=\"Non-endemic\"),0,IF(AND(OR(COUNTRY_INFO!$H128=0,COUNTRY_INFO!$H128=4,COUNTRY_INFO!$H128=99),OR(COUNTRY_INFO!$J128=0,COUNTRY_INFO!$J128=4)),0,COUNTRY_INFO!$E128))","v":85244},{"$f":"IF(AND(INTRO!$E$37=\"Non-endemic\",INTRO!$E$41=\"Non-endemic\"),0,IF(AND(OR(COUNTRY_INFO!$H128=0,COUNTRY_INFO!$H128=4,COUNTRY_INFO!$H128=99),OR(COUNTRY_INFO!$J128=0,COUNTRY_INFO!$J128=4)),0,COUNTRY_INFO!$F128))","v":181295},266539,{"$f":"IF(AND(INTRO!$E$37=\"Non-endemic\",INTRO!$E$41=\"Non-endemic\"),0,COUNTRY_INFO!P128)","v":0},{"$f":"IF(AND(INTRO!$E$37=\"Non-endemic\",INTRO!$E$41=\"Non-endemic\"),0,COUNTRY_INFO!R128)","v":2},{"$f":"IF(INTRO!$E$39=\"Non-endemic\",IF($G128=1,DEC!I128,0),IF($G128=1,IVM!G128,0))","v":0},"MBD",{"$f":"IF($J128=\"ALB\", IF(INTRO!$E$39=\"Non-endemic\", IF($H128<>0, IF($I128=0, $D128*$H128, $D128*($H128-$G128)), 0), $D128*$H128), 0)","v":0},0,null,0,{"$f":"IF($J128=\"MBD\", IF(INTRO!$E$39=\"Non-endemic\", IF($H128<>0, IF($I128=0, $D128*$H128, $D128*($H128-$G128)), 0), $D128*$H128), 0)","v":170488},362590,null,533078,0,0,0,0,0,0,0,362590,2418]
[{"$f":"IF(AND(INTRO!$E$37=\"Non-endemic\",INTRO!$E$41=\"Non-endemic\"),\" \",IF(COUNTRY_INFO!A129=0,\" \",COUNTRY_INFO!A129))","v":"Uganda"},{"$f":"IF(AND(INTRO!$E$37=\"Non-endemic\",INTRO!$E$41=\"Non-endemic\"),\" \",IF(COUNTRY_INFO!B129=0,\" \",COUNTRY_INFO!B129))","v":"CENTRAL"},{"$f":"IF(AND(INTRO!$E$37=\"Non-endemic\",INTRO!$E$41=\"Non-endemic\"),\" \",IF(COUNTRY_INFO!C129=0,\" \",COUNTRY_INFO!C129))","v":"WAKISO"},{"$f":"IF(AND(INTRO!$E$37=\"Non-endemic\",INTRO!$E$41=\"Non-endemic\"),0,IF(AND(OR(COUNTRY_INFO!$H129=0,COUNTRY_INFO!$H129=4,COUNTRY_INFO!$H129=99),OR(COUNTRY_INFO!$J129=0,COUNTRY_INFO!$J129=4)),0,COUNTRY_INFO!$E129))","v":329288},{"$f":"IF(AND(INTRO!$E$37=\"Non-endemic\",INTRO!$E$41=\"Non-endemic\"),0,IF(AND(OR(COUNTRY_INFO!$H129=0,COUNTRY_INFO!$H129=4,COUNTRY_INFO!$H129=99),OR(COUNTRY_INFO!$J129=0,COUNTRY_INFO!$J129=4)),0,COUNTRY_INFO!$F129))","v":700317},1029605,{"$f":"IF(AND(INTRO!$E$37=\"Non-endemic\",INTRO!$E$41=\"Non-endemic\"),0,COUNTRY_INFO!P129)","v":0},{"$f":"IF(AND(INTRO!$E$37=\"Non-endemic\",INTRO!$E$41=\"Non-endemic\"),0,COUNTRY_INFO!R129)","v":2},{"$f":"IF(INTRO!$E$39=\"Non-endemic\",IF($G129=1,DEC!I129,0),IF($G129=1,IVM!G129,0))","v":0},"MBD",{"$f":"IF($J129=\"ALB\", IF(INTRO!$E$39=\"Non-endemic\", IF($H129<>0, IF($I129=0, $D129*$H129, $D129*($H129-$G129)), 0), $D129*$H129), 0)","v":0},0,null,0,{"$f":"IF($J129=\"MBD\", IF(INTRO!$E$39=\"Non-endemic\", IF($H129<>0, IF($I129=0, $D129*$H129, $D129*($H129-$G129)), 0), $D129*$H129), 0)","v":658576},1400634,null,2059210,0,0,0,0,0,0,0,1400634,9338]
[{"$f":"IF(AND(INTRO!$E$37=\"Non-endemic\",INTRO!$E$41=\"Non-endemic\"),\" \",IF(COUNTRY_INFO!A130=0,\" \",COUNTRY_INFO!A130))","v":"Uganda"},{"$f":"IF(AND(INTRO!$E$37=\"Non-endemic\",INTRO!$E$41=\"Non-endemic\"),\" \",IF(COUNTRY_INFO!B130=0,\" \",COUNTRY_INFO!B130))","v":"NORTHERN"},{"$f":"IF(AND(INTRO!$E$37=\"Non-endemic\",INTRO!$E$41=\"Non-endemic\"),\" \",IF(COUNTRY_INFO!C130=0,\" \",COUNTRY_INFO!C130))","v":"YUMBE"},{"$f":"IF(AND(INTRO!$E$37=\"Non-endemic\",INTRO!$E$41=\"Non-endemic\"),0,IF(AND(OR(COUNTRY_INFO!$H130=0,COUNTRY_INFO!$H130=4,COUNTRY_INFO!$H130=99),OR(COUNTRY_INFO!$J130=0,COUNTRY_INFO!$J130=4)),0,COUNTRY_INFO!$E130))","v":79926},{"$f":"IF(AND(INTRO!$E$37=\"Non-endemic\",INTRO!$E$41=\"Non-endemic\"),0,IF(AND(OR(COUNTRY_INFO!$H130=0,COUNTRY_INFO!$H130=4,COUNTRY_INFO!$H130=99),OR(COUNTRY_INFO!$J130=0,COUNTRY_INFO!$J130=4)),0,COUNTRY_INFO!$F130))","v":169984},249910,{"$f":"IF(AND(INTRO!$E$37=\"Non-endemic\",INTRO!$E$41=\"Non-endemic\"),0,COUNTRY_INFO!P130)","v":0},{"$f":"IF(AND(INTRO!$E$37=\"Non-endemic\",INTRO!$E$41=\"Non-endemic\"),0,COUNTRY_INFO!R130)","v":2},{"$f":"IF(INTRO!$E$39=\"Non-endemic\",IF($G130=1,DEC!I130,0),IF($G130=1,IVM!G130,0))","v":0},"MBD",{"$f":"IF($J130=\"ALB\", IF(INTRO!$E$39=\"Non-endemic\", IF($H130<>0, IF($I130=0, $D130*$H130, $D130*($H130-$G130)), 0), $D130*$H130), 0)","v":0},0,null,0,{"$f":"IF($J130=\"MBD\", IF(INTRO!$E$39=\"Non-endemic\", IF($H130<>0, IF($I130=0, $D130*$H130, $D130*($H130-$G130)), 0), $D130*$H130), 0)","v":159852},339968,null,499820,0,0,0,0,0,0,0,339968,2267]
[{"$f":"IF(AND(INTRO!$E$37=\"Non-endemic\",INTRO!$E$41=\"Non-endemic\"),\" \",IF(COUNTRY_INFO!A131=0,\" \",COUNTRY_INFO!A131))","v":"Uganda"},{"$f":"IF(AND(INTRO!$E$37=\"Non-endemic\",INTRO!$E$41=\"Non-endemic\"),\" \",IF(COUNTRY_INFO!B131=0,\" \",COUNTRY_INFO!B131))","v":"NORTHERN"},{"$f":"IF(AND(INTRO!$E$37=\"Non-endemic\",INTRO!$E$41=\"Non-endemic\"),\" \",IF(COUNTRY_INFO!C131=0,\" \",COUNTRY_INFO!C131))","v":"ZOMBO"},{"$f":"IF(AND(INTRO!$E$37=\"Non-endemic\",INTRO!$E$41=\"Non-endemic\"),0,IF(AND(OR(COUNTRY_INFO!$H131=0,COUNTRY_INFO!$H131=4,COUNTRY_INFO!$H131=99),OR(COUNTRY_INFO!$J131=0,COUNTRY_INFO!$J131=4)),0,COUNTRY_INFO!$E131))","v":39579},{"$f":"IF(AND(INTRO!$E$37=\"Non-endemic\",INTRO!$E$41=\"Non-endemic\"),0,IF(AND(OR(COUNTRY_INFO!$H131=0,COUNTRY_INFO!$H131=4,COUNTRY_INFO!$H131=99),OR(COUNTRY_INFO!$J131=0,COUNTRY_INFO!$J131=4)),0,COUNTRY_INFO!$F131))","v":84175},123754,{"$f":"IF(AND(INTRO!$E$37=\"Non-endemic\",INTRO!$E$41=\"Non-endemic\"),0,COUNTRY_INFO!P131)","v":0},{"$f":"IF(AND(INTRO!$E$37=\"Non-endemic\",INTRO!$E$41=\"Non-endemic\"),0,COUNTRY_INFO!R131)","v":2},{"$f":"IF(INTRO!$E$39=\"Non-endemic\",IF($G131=1,DEC!I131,0),IF($G131=1,IVM!G131,0))","v":0},"MBD",{"$f":"IF($J131=\"ALB\", IF(INTRO!$E$39=\"Non-endemic\", IF($H131<>0, IF($I131=0, $D131*$H131, $D131*($H131-$G131)), 0), $D131*$H131), 0)","v":0},0,null,0,{"$f":"IF($J131=\"MBD\", IF(INTRO!$E$39=\"Non-endemic\", IF($H131<>0, IF($I131=0, $D131*$H131, $D131*($H131-$G131)), 0), $D131*$H131), 0)","v":79158},168350,null,247508,0,0,0,0,0,0,0,168350,1123]
[{"$f":"IF(AND(INTRO!$E$37=\"Non-endemic\",INTRO!$E$41=\"Non-endemic\"),\" \",IF(COUNTRY_INFO!A132=0,\" \",COUNTRY_INFO!A132))","v":"Uganda"},{"$f":"IF(AND(INTRO!$E$37=\"Non-endemic\",INTRO!$E$41=\"Non-endemic\"),\" \",IF(COUNTRY_INFO!B132=0,\" \",COUNTRY_INFO!B132))","v":"NORTHERN"},{"$f":"IF(AND(INTRO!$E$37=\"Non-endemic\",INTRO!$E$41=\"Non-endemic\"),\" \",IF(COUNTRY_INFO!C132=0,\" \",COUNTRY_INFO!C132))","v":"REFUGEE"},{"$f":"IF(AND(INTRO!$E$37=\"Non-endemic\",INTRO!$E$41=\"Non-endemic\"),0,IF(AND(OR(COUNTRY_INFO!$H132=0,COUNTRY_INFO!$H132=4,COUNTRY_INFO!$H132=99),OR(COUNTRY_INFO!$J132=0,COUNTRY_INFO!$J132=4)),0,COUNTRY_INFO!$E132))","v":28400},{"$f":"IF(AND(INTRO!$E$37=\"Non-endemic\",INTRO!$E$41=\"Non-endemic\"),0,IF(AND(OR(COUNTRY_INFO!$H132=0,COUNTRY_INFO!$H132=4,COUNTRY_INFO!$H132=99),OR(COUNTRY_INFO!$J132=0,COUNTRY_INFO!$J132=4)),0,COUNTRY_INFO!$F132))","v":60400},88800,{"$f":"IF(AND(INTRO!$E$37=\"Non-endemic\",INTRO!$E$41=\"Non-endemic\"),0,COUNTRY_INFO!P132)","v":0},{"$f":"IF(AND(INTRO!$E$37=\"Non-endemic\",INTRO!$E$41=\"Non-endemic\"),0,COUNTRY_INFO!R132)","v":2},{"$f":"IF(INTRO!$E$39=\"Non-endemic\",IF($G132=1,DEC!I132,0),IF($G132=1,IVM!G132,0))","v":0},"MBD",{"$f":"IF($J132=\"ALB\", IF(INTRO!$E$39=\"Non-endemic\", IF($H132<>0, IF($I132=0, $D132*$H132, $D132*($H132-$G132)), 0), $D132*$H132), 0)","v":0},0,null,0,{"$f":"IF($J132=\"MBD\", IF(INTRO!$E$39=\"Non-endemic\", IF($H132<>0, IF($I132=0, $D132*$H132, $D132*($H132-$G132)), 0), $D132*$H132), 0)","v":56800},120800,null,177600,0,0,0,0,0,0,0,120800,806]
[{"$f":"IF(AND(INTRO!$E$37=\"Non-endemic\",INTRO!$E$41=\"Non-endemic\"),\" \",IF(COUNTRY_INFO!A133=0,\" \",COUNTRY_INFO!A133))","v":"Uganda"},{"$f":"IF(AND(INTRO!$E$37=\"Non-endemic\",INTRO!$E$41=\"Non-endemic\"),\" \",IF(COUNTRY_INFO!B133=0,\" \",COUNTRY_INFO!B133))","v":" "},{"$f":"IF(AND(INTRO!$E$37=\"Non-endemic\",INTRO!$E$41=\"Non-endemic\"),\" \",IF(COUNTRY_INFO!C133=0,\" \",COUNTRY_INFO!C133))","v":" "},{"$f":"IF(AND(INTRO!$E$37=\"Non-endemic\",INTRO!$E$41=\"Non-endemic\"),0,IF(AND(OR(COUNTRY_INFO!$H133=0,COUNTRY_INFO!$H133=4,COUNTRY_INFO!$H133=99),OR(COUNTRY_INFO!$J133=0,COUNTRY_INFO!$J133=4)),0,COUNTRY_INFO!$E133))","v":0},{"$f":"IF(AND(INTRO!$E$37=\"Non-endemic\",INTRO!$E$41=\"Non-endemic\"),0,IF(AND(OR(COUNTRY_INFO!$H133=0,COUNTRY_INFO!$H133=4,COUNTRY_INFO!$H133=99),OR(COUNTRY_INFO!$J133=0,COUNTRY_INFO!$J133=4)),0,COUNTRY_INFO!$F133))","v":0},0,{"$f":"IF(AND(INTRO!$E$37=\"Non-endemic\",INTRO!$E$41=\"Non-endemic\"),0,COUNTRY_INFO!P133)","v":0},{"$f":"IF(AND(INTRO!$E$37=\"Non-endemic\",INTRO!$E$41=\"Non-endemic\"),0,COUNTRY_INFO!R133)","v":0},{"$f":"IF(INTRO!$E$39=\"Non-endemic\",IF($G133=1,DEC!I133,0),IF($G133=1,IVM!G133,0))","v":0},null,{"$f":"IF($J133=\"ALB\", IF(INTRO!$E$39=\"Non-endemic\", IF($H133<>0, IF($I133=0, $D133*$H133, $D133*($H133-$G133)), 0), $D133*$H133), 0)","v":0},0,null,0,{"$f":"IF($J133=\"MBD\", IF(INTRO!$E$39=\"Non-endemic\", IF($H133<>0, IF($I133=0, $D133*$H133, $D133*($H133-$G133)), 0), $D133*$H133), 0)","v":0},0,null,0,null,0,0,null,0,0,null,0,0]
[{"$f":"IF(AND(INTRO!$E$37=\"Non-endemic\",INTRO!$E$41=\"Non-endemic\"),\" \",IF(COUNTRY_INFO!A134=0,\" \",COUNTRY_INFO!A134))","v":"Uganda"},{"$f":"IF(AND(INTRO!$E$37=\"Non-endemic\",INTRO!$E$41=\"Non-endemic\"),\" \",IF(COUNTRY_INFO!B134=0,\" \",COUNTRY_INFO!B134))","v":" "},{"$f":"IF(AND(INTRO!$E$37=\"Non-endemic\",INTRO!$E$41=\"Non-endemic\"),\" \",IF(COUNTRY_INFO!C134=0,\" \",COUNTRY_INFO!C134))","v":" "},{"$f":"IF(AND(INTRO!$E$37=\"Non-endemic\",INTRO!$E$41=\"Non-endemic\"),0,IF(AND(OR(COUNTRY_INFO!$H134=0,COUNTRY_INFO!$H134=4,COUNTRY_INFO!$H134=99),OR(COUNTRY_INFO!$J134=0,COUNTRY_INFO!$J134=4)),0,COUNTRY_INFO!$E134))","v":0},{"$f":"IF(AND(INTRO!$E$37=\"Non-endemic\",INTRO!$E$41=\"Non-endemic\"),0,IF(AND(OR(COUNTRY_INFO!$H134=0,COUNTRY_INFO!$H134=4,COUNTRY_INFO!$H134=99),OR(COUNTRY_INFO!$J134=0,COUNTRY_INFO!$J134=4)),0,COUNTRY_INFO!$F134))","v":0},0,{"$f":"IF(AND(INTRO!$E$37=\"Non-endemic\",INTRO!$E$41=\"Non-endemic\"),0,COUNTRY_INFO!P134)","v":0},{"$f":"IF(AND(INTRO!$E$37=\"Non-endemic\",INTRO!$E$41=\"Non-endemic\"),0,COUNTRY_INFO!R134)","v":0},{"$f":"IF(INTRO!$E$39=\"Non-endemic\",IF($G134=1,DEC!I134,0),IF($G134=1,IVM!G134,0))","v":0},null,{"$f":"IF($J134=\"ALB\", IF(INTRO!$E$39=\"Non-endemic\", IF($H134<>0, IF($I134=0, $D134*$H134, $D134*($H134-$G134)), 0), $D134*$H134), 0)","v":0},0,null,0,{"$f":"IF($J134=\"MBD\", IF(INTRO!$E$39=\"Non-endemic\", IF($H134<>0, IF($I134=0, $D134*$H134, $D134*($H134-$G134)), 0), $D134*$H134), 0)","v":0},0,null,0,null,0,0,null,0,0,null,0,0]
[{"$f":"IF(AND(INTRO!$E$37=\"Non-endemic\",INTRO!$E$41=\"Non-endemic\"),\" \",IF(COUNTRY_INFO!A135=0,\" \",COUNTRY_INFO!A135))","v":"Uganda"},{"$f":"IF(AND(INTRO!$E$37=\"Non-endemic\",INTRO!$E$41=\"Non-endemic\"),\" \",IF(COUNTRY_INFO!B135=0,\" \",COUNTRY_INFO!B135))","v":" "},{"$f":"IF(AND(INTRO!$E$37=\"Non-endemic\",INTRO!$E$41=\"Non-endemic\"),\" \",IF(COUNTRY_INFO!C135=0,\" \",COUNTRY_INFO!C135))","v":" "},{"$f":"IF(AND(INTRO!$E$37=\"Non-endemic\",INTRO!$E$41=\"Non-endemic\"),0,IF(AND(OR(COUNTRY_INFO!$H135=0,COUNTRY_INFO!$H135=4,COUNTRY_INFO!$H135=99),OR(COUNTRY_INFO!$J135=0,COUNTRY_INFO!$J135=4)),0,COUNTRY_INFO!$E135))","v":0},{"$f":"IF(AND(INTRO!$E$37=\"Non-endemic\",INTRO!$E$41=\"Non-endemic\"),0,IF(AND(OR(COUNTRY_INFO!$H135=0,COUNTRY_INFO!$H135=4,COUNTRY_INFO!$H135=99),OR(COUNTRY_INFO!$J135=0,COUNTRY_INFO!$J135=4)),0,COUNTRY_INFO!$F135))","v":0},0,{"$f":"IF(AND(INTRO!$E$37=\"Non-endemic\",INTRO!$E$41=\"Non-endemic\"),0,COUNTRY_INFO!P135)","v":0},{"$f":"IF(AND(INTRO!$E$37=\"Non-endemic\",INTRO!$E$41=\"Non-endemic\"),0,COUNTRY_INFO!R135)","v":0},{"$f":"IF(INTRO!$E$39=\"Non-endemic\",IF($G135=1,DEC!I135,0),IF($G135=1,IVM!G135,0))","v":0},null,{"$f":"IF($J135=\"ALB\", IF(INTRO!$E$39=\"Non-endemic\", IF($H135<>0, IF($I135=0, $D135*$H135, $D135*($H135-$G135)), 0), $D135*$H135), 0)","v":0},0,null,0,{"$f":"IF($J135=\"MBD\", IF(INTRO!$E$39=\"Non-endemic\", IF($H135<>0, IF($I135=0, $D135*$H135, $D135*($H135-$G135)), 0), $D135*$H135), 0)","v":0},0,null,0,null,0,0,null,0,0,null,0,0]
[{"$f":"IF(AND(INTRO!$E$37=\"Non-endemic\",INTRO!$E$41=\"Non-endemic\"),\" \",IF(COUNTRY_INFO!A136=0,\" \",COUNTRY_INFO!A136))","v":"Uganda"},{"$f":"IF(AND(INTRO!$E$37=\"Non-endemic\",INTRO!$E$41=\"Non-endemic\"),\" \",IF(COUNTRY_INFO!B136=0,\" \",COUNTRY_INFO!B136))","v":" "},{"$f":"IF(AND(INTRO!$E$37=\"Non-endemic\",INTRO!$E$41=\"Non-endemic\"),\" \",IF(COUNTRY_INFO!C136=0,\" \",COUNTRY_INFO!C136))","v":" "},{"$f":"IF(AND(INTRO!$E$37=\"Non-endemic\",INTRO!$E$41=\"Non-endemic\"),0,IF(AND(OR(COUNTRY_INFO!$H136=0,COUNTRY_INFO!$H136=4,COUNTRY_INFO!$H136=99),OR(COUNTRY_INFO!$J136=0,COUNTRY_INFO!$J136=4)),0,COUNTRY_INFO!$E136))","v":0},{"$f":"IF(AND(INTRO!$E$37=\"Non-endemic\",INTRO!$E$41=\"Non-endemic\"),0,IF(AND(OR(COUNTRY_INFO!$H136=0,COUNTRY_INFO!$H136=4,COUNTRY_INFO!$H136=99),OR(COUNTRY_INFO!$J136=0,COUNTRY_INFO!$J136=4)),0,COUNTRY_INFO!$F136))","v":0},0,{"$f":"IF(AND(INTRO!$E$37=\"Non-endemic\",INTRO!$E$41=\"Non-endemic\"),0,COUNTRY_INFO!P136)","v":0},{"$f":"IF(AND(INTRO!$E$37=\"Non-endemic\",INTRO!$E$41=\"Non-endemic\"),0,COUNTRY_INFO!R136)","v":0},{"$f":"IF(INTRO!$E$39=\"Non-endemic\",IF($G136=1,DEC!I136,0),IF($G136=1,IVM!G136,0))","v":0},null,{"$f":"IF($J136=\"ALB\", IF(INTRO!$E$39=\"Non-endemic\", IF($H136<>0, IF($I136=0, $D136*$H136, $D136*($H136-$G136)), 0), $D136*$H136), 0)","v":0},0,null,0,{"$f":"IF($J136=\"MBD\", IF(INTRO!$E$39=\"Non-endemic\", IF($H136<>0, IF($I136=0, $D136*$H136, $D136*($H136-$G136)), 0), $D136*$H136), 0)","v":0},0,null,0,null,0,0,null,0,0,null,0,0]
[{"$f":"IF(AND(INTRO!$E$37=\"Non-endemic\",INTRO!$E$41=\"Non-endemic\"),\" \",IF(COUNTRY_INFO!A137=0,\" \",COUNTRY_INFO!A137))","v":"Uganda"},{"$f":"IF(AND(INTRO!$E$37=\"Non-endemic\",INTRO!$E$41=\"Non-endemic\"),\" \",IF(COUNTRY_INFO!B137=0,\" \",COUNTRY_INFO!B137))","v":" "},{"$f":"IF(AND(INTRO!$E$37=\"Non-endemic\",INTRO!$E$41=\"Non-endemic\"),\" \",IF(COUNTRY_INFO!C137=0,\" \",COUNTRY_INFO!C137))","v":" "},{"$f":"IF(AND(INTRO!$E$37=\"Non-endemic\",INTRO!$E$41=\"Non-endemic\"),0,IF(AND(OR(COUNTRY_INFO!$H137=0,COUNTRY_INFO!$H137=4,COUNTRY_INFO!$H137=99),OR(COUNTRY_INFO!$J137=0,COUNTRY_INFO!$J137=4)),0,COUNTRY_INFO!$E137))","v":0},{"$f":"IF(AND(INTRO!$E$37=\"Non-endemic\",INTRO!$E$41=\"Non-endemic\"),0,IF(AND(OR(COUNTRY_INFO!$H137=0,COUNTRY_INFO!$H137=4,COUNTRY_INFO!$H137=99),OR(COUNTRY_INFO!$J137=0,COUNTRY_INFO!$J137=4)),0,COUNTRY_INFO!$F137))","v":0},{"$f":"SUM(D137:E137)","v":0},{"$f":"IF(AND(INTRO!$E$37=\"Non-endemic\",INTRO!$E$41=\"Non-endemic\"),0,COUNTRY_INFO!P137)","v":0},{"$f":"IF(AND(INTRO!$E$37=\"Non-endemic\",INTRO!$E$41=\"Non-endemic\"),0,COUNTRY_INFO!R137)","v":0},{"$f":"IF(INTRO!$E$39=\"Non-endemic\",IF($G137=1,DEC!I137,0),IF($G137=1,IVM!G137,0))","v":0},null,{"$f":"IF($J137=\"ALB\", IF(INTRO!$E$39=\"Non-endemic\", IF($H137<>0, IF($I137=0, $D137*$H137, $D137*($H137-$G137)), 0), $D137*$H137), 0)","v":0},0,null,{"$f":"SUM(K137:M137)","v":0},{"$f":"IF($J137=\"MBD\", IF(INTRO!$E$39=\"Non-endemic\", IF($H137<>0, IF($I137=0, $D137*$H137, $D137*($H137-$G137)), 0), $D137*$H137), 0)","v":0},0,null,{"$f":"SUM(O137:Q137)","v":0},null,0,0,null,0,0,null,0,0]
[{"$f":"IF(AND(INTRO!$E$37=\"Non-endemic\",INTRO!$E$41=\"Non-endemic\"),\" \",IF(COUNTRY_INFO!A138=0,\" \",COUNTRY_INFO!A138))","v":"Uganda"},{"$f":"IF(AND(INTRO!$E$37=\"Non-endemic\",INTRO!$E$41=\"Non-endemic\"),\" \",IF(COUNTRY_INFO!B138=0,\" \",COUNTRY_INFO!B138))","v":" "},{"$f":"IF(AND(INTRO!$E$37=\"Non-endemic\",INTRO!$E$41=\"Non-endemic\"),\" \",IF(COUNTRY_INFO!C138=0,\" \",COUNTRY_INFO!C138))","v":" "},{"$f":"IF(AND(INTRO!$E$37=\"Non-endemic\",INTRO!$E$41=\"Non-endemic\"),0,IF(AND(OR(COUNTRY_INFO!$H138=0,COUNTRY_INFO!$H138=4,COUNTRY_INFO!$H138=99),OR(COUNTRY_INFO!$J138=0,COUNTRY_INFO!$J138=4)),0,COUNTRY_INFO!$E138))","v":0},{"$f":"IF(AND(INTRO!$E$37=\"Non-endemic\",INTRO!$E$41=\"Non-endemic\"),0,IF(AND(OR(COUNTRY_INFO!$H138=0,COUNTRY_INFO!$H138=4,COUNTRY_INFO!$H138=99),OR(COUNTRY_INFO!$J138=0,COUNTRY_INFO!$J138=4)),0,COUNTRY_INFO!$F138))","v":0},0,{"$f":"IF(AND(INTRO!$E$37=\"Non-endemic\",INTRO!$E$41=\"Non-endemic\"),0,COUNTRY_INFO!P138)","v":0},{"$f":"IF(AND(INTRO!$E$37=\"Non-endemic\",INTRO!$E$41=\"Non-endemic\"),0,COUNTRY_INFO!R138)","v":0},{"$f":"IF(INTRO!$E$39=\"Non-endemic\",IF($G138=1,DEC!I138,0),IF($G138=1,IVM!G138,0))","v":0},null,{"$f":"IF($J138=\"ALB\", IF(INTRO!$E$39=\"Non-endemic\", IF($H138<>0, IF($I138=0, $D138*$H138, $D138*($H138-$G138)), 0), $D138*$H138), 0)","v":0},0,null,0,{"$f":"IF($J138=\"MBD\", IF(INTRO!$E$39=\"Non-endemic\", IF($H138<>0, IF($I138=0, $D138*$H138, $D138*($H138-$G138)), 0), $D138*$H138), 0)","v":0},0,null,0,null,0,0,null,0,0,null,0,0]

{"sheet":"PZQ","index":4,"n_rows":138,"n_cols":18,"rows_kept":138,"cut":false,"hidden":false,"merged":[[6,16,7,16],[6,4,7,4],[6,5,7,5],[6,7,7,7],[6,0,7,0],[6,1,7,1],[6,2,7,2],[6,3,7,3],[5,12,5,17],[6,6,7,6],[6,8,7,8],[6,9,7,9],[3,0,3,2],[5,0,5,2],[5,3,5,5],[5,8,5,11],[5,6,5,7],[6,10,7,10],[6,17,7,17],[6,13,7,13],[6,14,7,14],[6,15,7,15],[6,11,7,11],[6,12,7,12]]}
["Praziquantel (PZQ)"]
["Administrative structure, eligible population by age group, treatment plan and information about tablets"]
[]
["TOTAL",null,null,{"$f":"SUM(D$9:D$1000)","v":5575167.8599999985},{"$f":"SUM(E$9:E$1000)","v":6686048.5999999996},{"$f":"SUM(F$9:F$1000)","v":12261216.460000001},null,null,{"$f":"SUM(I$9:I$1000)","v":6058710.9000000004},3789763,4093363,7903058,9524237.5,12280089,9524237.5,0,9524237.5,9566]
[]
["Country administrative structure",null,null,"Population requiring treatment with PZQ",null,null,"Treatment plan",null,"Target population",null,null,null,"Praziquantel (PZQ)"]
["Country","Province/State","District","SAC","Adults","Total","SCH","All SAC targeted?","SAC","SAC\nat lower level","Adults","Total","SAC","Adults","Total required\nfor SAC","Remaining in stock","Tablets to be procured","Bottle (600 mg)\n1000 tablets"]
[]
[{"$f":"IF(INTRO!$E$43=\"Non-endemic\",\" \", IF(COUNTRY_INFO!A9=0,\" \",COUNTRY_INFO!A9))","v":"Uganda"},{"$f":"IF(INTRO!$E$43=\"Non-endemic\",\" \", IF(COUNTRY_INFO!B9=0,\" \",COUNTRY_INFO!B9))","v":"NORTHERN"},{"$f":"IF(INTRO!$E$43=\"Non-endemic\",\" \", IF(COUNTRY_INFO!C9=0,\" \",COUNTRY_INFO!C9))","v":"ABIM"},{"$f":"IF(INTRO!$E$43=\"Non-endemic\", 0, IF(COUNTRY_INFO!$K9>0, IF(COUNTRY_INFO!$K9=4, 0, IF(COUNTRY_INFO!$K9=1, COUNTRY_INFO!$F9*0.33, IF(COUNTRY_INFO!$K9=2, COUNTRY_INFO!$F9*0.5, COUNTRY_INFO!$F9))), 0))","v":0},{"$f":"IF(INTRO!$E$43=\"Non-endemic\", 0, IF(COUNTRY_INFO!$K9>0, IF(COUNTRY_INFO!$K9=4, 0, IF(COUNTRY_INFO!$K9=1, 0, IF(COUNTRY_INFO!$K9=2, COUNTRY_INFO!$G9*0.2, COUNTRY_INFO!$G9))), 0))","v":0},{"$f":"SUM(D9:E9)","v":0},{"$f":"IF(INTRO!$E$43=\"Non-endemic\", \"Not required\", COUNTRY_INFO!S9)","v":0},null,{"$f":"IF($D9=0,0,IF(AND($G9>0,$H9<>\"Yes\"),D9,IF(AND($G9>0,$H9=\"Yes\"),COUNTRY_INFO!$F9,0)))","v":0},0,0,{"$f":"IF($J9=0,SUM(I9,K9),SUM(J9,K9))","v":0},{"$f":"IF($J9=0,$I9*2.5,$J9*2.5)","v":0},{"$f":"$K9*3","v":0},{"$f":"M9","v":0},0,{"$f":"IF($O9>$P9,O9-P9,0)","v":0},{"$f":"ROUNDUP($O9/1000,0)","v":0}]
[{"$f":"IF(INTRO!$E$43=\"Non-endemic\",\" \", IF(COUNTRY_INFO!A10=0,\" \",COUNTRY_INFO!A10))","v":"Uganda"},{"$f":"IF(INTRO!$E$43=\"Non-endemic\",\" \", IF(COUNTRY_INFO!B10=0,\" \",COUNTRY_INFO!B10))","v":"NORTHERN"},{"$f":"IF(INTRO!$E$43=\"Non-endemic\",\" \", IF(COUNTRY_INFO!C10=0,\" \",COUNTRY_INFO!C10))","v":"ADJUMANI"},{"$f":"IF(INTRO!$E$43=\"Non-endemic\", 0, IF(COUNTRY_INFO!$K10>0, IF(COUNTRY_INFO!$K10=4, 0, IF(COUNTRY_INFO!$K10=1, COUNTRY_INFO!$F10*0.33, IF(COUNTRY_INFO!$K10=2, COUNTRY_INFO!$F10*0.5, COUNTRY_INFO!$F10))), 0))","v":78975},{"$f":"IF(INTRO!$E$43=\"Non-endemic\", 0, IF(COUNTRY_INFO!$K10>0, IF(COUNTRY_INFO!$K10=4, 0, IF(COUNTRY_INFO!$K10=1, 0, IF(COUNTRY_INFO!$K10=2, COUNTRY_INFO!$G10*0.2, COUNTRY_INFO!$G10))), 0))","v":136246},215221,{"$f":"IF(INTRO!$E$43=\"Non-endemic\", \"Not required\", COUNTRY_INFO!S10)","v":1},null,{"$f":"IF($D10=0,0,IF(AND($G10>0,$H10<>\"Yes\"),D10,IF(AND($G10>0,$H10=\"Yes\"),COUNTRY_INFO!$F10,0)))","v":78975},18163,31333,49496,45407.5,93999,45407.5,0,45407.5,46]
[{"$f":"IF(INTRO!$E$43=\"Non-endemic\",\" \", IF(COUNTRY_INFO!A11=0,\" \",COUNTRY_INFO!A11))","v":"Uganda"},{"$f":"IF(INTRO!$E$43=\"Non-endemic\",\" \", IF(COUNTRY_INFO!B11=0,\" \",COUNTRY_INFO!B11))","v":"NORTHERN"},{"$f":"IF(INTRO!$E$43=\"Non-endemic\",\" \", IF(COUNTRY_INFO!C11=0,\" \",COUNTRY_INFO!C11))","v":"AGAGO"},{"$f":"IF(INTRO!$E$43=\"Non-endemic\", 0, IF(COUNTRY_INFO!$K11>0, IF(COUNTRY_INFO!$K11=4, 0, IF(COUNTRY_INFO!$K11=1, COUNTRY_INFO!$F11*0.33, IF(COUNTRY_INFO!$K11=2, COUNTRY_INFO!$F11*0.5, COUNTRY_INFO!$F11))), 0))","v":79866},{"$f":"IF(INTRO!$E$43=\"Non-endemic\", 0, IF(COUNTRY_INFO!$K11>0, IF(COUNTRY_INFO!$K11=4, 0, IF(COUNTRY_INFO!$K11=1, 0, IF(COUNTRY_INFO!$K11=2, COUNTRY_INFO!$G11*0.2, COUNTRY_INFO!$G11))), 0))","v":137783},217649,{"$f":"IF(INTRO!$E$43=\"Non-endemic\", \"Not required\", COUNTRY_INFO!S11)","v":1},"Yes",{"$f":"IF($D11=0,0,IF(AND($G11>0,$H11<>\"Yes\"),D11,IF(AND($G11>0,$H11=\"Yes\"),COUNTRY_INFO!$F11,0)))","v":79866},79866,137783,217649,199665,413349,199665,0,199665,200]
[{"$f":"IF(INTRO!$E$43=\"Non-endemic\",\" \", IF(COUNTRY_INFO!A12=0,\" \",COUNTRY_INFO!A12))","v":"Uganda"},{"$f":"IF(INTRO!$E$43=\"Non-endemic\",\" \", IF(COUNTRY_INFO!B12=0,\" \",COUNTRY_INFO!B12))","v":"NORTHERN"},{"$f":"IF(INTRO!$E$43=\"Non-endemic\",\" \", IF(COUNTRY_INFO!C12=0,\" \",COUNTRY_INFO!C12))","v":"ALEBTONG"},{"$f":"IF(INTRO!$E$43=\"Non-endemic\", 0, IF(COUNTRY_INFO!$K12>0, IF(COUNTRY_INFO!$K12=4, 0, IF(COUNTRY_INFO!$K12=1, COUNTRY_INFO!$F12*0.33, IF(COUNTRY_INFO!$K12=2, COUNTRY_INFO!$F12*0.5, COUNTRY_INFO!$F12))), 0))","v":39889},{"$f":"IF(INTRO!$E$43=\"Non-endemic\", 0, IF(COUNTRY_INFO!$K12>0, IF(COUNTRY_INFO!$K12=4, 0, IF(COUNTRY_INFO!$K12=1, 0, IF(COUNTRY_INFO!$K12=2, COUNTRY_INFO!$G12*0.2, COUNTRY_INFO!$G12))), 0))","v":27526},67415,{"$f":"IF(INTRO!$E$43=\"Non-endemic\", \"Not required\", COUNTRY_INFO!S12)","v":1},null,{"$f":"IF($D12=0,0,IF(AND($G12>0,$H12<>\"Yes\"),D12,IF(AND($G12>0,$H12=\"Yes\"),COUNTRY_INFO!$F12,0)))","v":39889},37096,63998,101094,92740,191994,92740,0,92740,93]
[{"$f":"IF(INTRO!$E$43=\"Non-endemic\",\" \", IF(COUNTRY_INFO!A13=0,\" \",COUNTRY_INFO!A13))","v":"Uganda"},{"$f":"IF(INTRO!$E$43=\"Non-endemic\",\" \", IF(COUNTRY_INFO!B13=0,\" \",COUNTRY_INFO!B13))","v":"NORTHERN"},{"$f":"IF(INTRO!$E$43=\"Non-endemic\",\" \", IF(COUNTRY_INFO!C13=0,\" \",COUNTRY_INFO!C13))","v":"AMOLATAR"},{"$f":"IF(INTRO!$E$43=\"Non-endemic\", 0, IF(COUNTRY_INFO!$K13>0, IF(COUNTRY_INFO!$K13=4, 0, IF(COUNTRY_INFO!$K13=1, COUNTRY_INFO!$F13*0.33, IF(COUNTRY_INFO!$K13=2, COUNTRY_INFO!$F13*0.5, COUNTRY_INFO!$F13))), 0))","v":51598},{"$f":"IF(INTRO!$E$43=\"Non-endemic\", 0, IF(COUNTRY_INFO!$K13>0, IF(COUNTRY_INFO!$K13=4, 0, IF(COUNTRY_INFO!$K13=1, 0, IF(COUNTRY_INFO!$K13=2, COUNTRY_INFO!$G13*0.2, COUNTRY_INFO!$G13))), 0))","v":89015},140613,{"$f":"IF(INTRO!$E$43=\"Non-endemic\", \"Not required\", COUNTRY_INFO!S13)","v":1},"Yes",{"$f":"IF($D13=0,0,IF(AND($G13>0,$H13<>\"Yes\"),D13,IF(AND($G13>0,$H13=\"Yes\"),COUNTRY_INFO!$F13,0)))","v":51598},51598,89015,140613,128995,267045,128995,0,128995,129]
[{"$f":"IF(INTRO!$E$43=\"Non-endemic\",\" \", IF(COUNTRY_INFO!A14=0,\" \",COUNTRY_INFO!A14))","v":"Uganda"},{"$f":"IF(INTRO!$E$43=\"Non-endemic\",\" \", IF(COUNTRY_INFO!B14=0,\" \",COUNTRY_INFO!B14))","v":"NORTHERN"},{"$f":"IF(INTRO!$E$43=\"Non-endemic\",\" \", IF(COUNTRY_INFO!C14=0,\" \",COUNTRY_INFO!C14))","v":"AMUDAT"},{"$f":"IF(INTRO!$E$43=\"Non-endemic\", 0, IF(COUNTRY_INFO!$K14>0, IF(COUNTRY_INFO!$K14=4, 0, IF(COUNTRY_INFO!$K14=1, COUNTRY_INFO!$F14*0.33, IF(COUNTRY_INFO!$K14=2, COUNTRY_INFO!$F14*0.5, COUNTRY_INFO!$F14))), 0))","v":0},{"$f":"IF(INTRO!$E$43=\"Non-endemic\", 0, IF(COUNTRY_INFO!$K14>0, IF(COUNTRY_INFO!$K14=4, 0, IF(COUNTRY_INFO!$K14=1, 0, IF(COUNTRY_INFO!$K14=2, COUNTRY_INFO!$G14*0.2, COUNTRY_INFO!$G14))), 0))","v":0},0,{"$f":"IF(INTRO!$E$43=\"Non-endemic\", \"Not required\", COUNTRY_INFO!S14)","v":0},null,{"$f":"IF($D14=0,0,IF(AND($G14>0,$H14<>\"Yes\"),D14,IF(AND($G14>0,$H14=\"Yes\"),COUNTRY_INFO!$F14,0)))","v":0},0,0,0,0,0,0,0,0,0]
[{"$f":"IF(INTRO!$E$43=\"Non-endemic\",\" \", IF(COUNTRY_INFO!A15=0,\" \",COUNTRY_INFO!A15))","v":"Uganda"},{"$f":"IF(INTRO!$E$43=\"Non-endemic\",\" \", IF(COUNTRY_INFO!B15=0,\" \",COUNTRY_INFO!B15))","v":"EASTERN"},{"$f":"IF(INTRO!$E$43=\"Non-endemic\",\" \", IF(COUNTRY_INFO!C15=0,\" \",COUNTRY_INFO!C15))","v":"AMURIA"},{"$f":"IF(INTRO!$E$43=\"Non-endemic\", 0, IF(COUNTRY_INFO!$K15>0, IF(COUNTRY_INFO!$K15=4, 0, IF(COUNTRY_INFO!$K15=1, COUNTRY_INFO!$F15*0.33, IF(COUNTRY_INFO!$K15=2, COUNTRY_INFO!$F15*0.5, COUNTRY_INFO!$F15))), 0))","v":0},{"$f":"IF(INTRO!$E$43=\"Non-endemic\", 0, IF(COUNTRY_INFO!$K15>0, IF(COUNTRY_INFO!$K15=4, 0, IF(COUNTRY_INFO!$K15=1, 0, IF(COUNTRY_INFO!$K15=2, COUNTRY_INFO!$G15*0.2, COUNTRY_INFO!$G15))), 0))","v":0},0,{"$f":"IF(INTRO!$E$43=\"Non-endemic\", \"Not required\", COUNTRY_INFO!S15)","v":0},null,{"$f":"IF($D15=0,0,IF(AND($G15>0,$H15<>\"Yes\"),D15,IF(AND($G15>0,$H15=\"Yes\"),COUNTRY_INFO!$F15,0)))","v":0},0,0,0,0,0,0,0,0,0]
[{"$f":"IF(INTRO!$E$43=\"Non-endemic\",\" \", IF(COUNTRY_INFO!A16=0,\" \",COUNTRY_INFO!A16))","v":"Uganda"},{"$f":"IF(INTRO!$E$43=\"Non-endemic\",\" \", IF(COUNTRY_INFO!B16=0,\" \",COUNTRY_INFO!B16))","v":"NORTHERN"},{"$f":"IF(INTRO!$E$43=\"Non-endemic\",\" \", IF(COUNTRY_INFO!C16=0,\" \",COUNTRY_INFO!C16))","v":"AMURU"},{"$f":"IF(INTRO!$E$43=\"Non-endemic\", 0, IF(COUNTRY_INFO!$K16>0, IF(COUNTRY_INFO!$K16=4, 0, IF(COUNTRY_INFO!$K16=1, COUNTRY_INFO!$F16*0.33, IF(COUNTRY_INFO!$K16=2, COUNTRY_INFO!$F16*0.5, COUNTRY_INFO!$F16))), 0))","v":67421},{"$f":"IF(INTRO!$E$43=\"Non-endemic\", 0, IF(COUNTRY_INFO!$K16>0, IF(COUNTRY_INFO!$K16=4, 0, IF(COUNTRY_INFO!$K16=1, 0, IF(COUNTRY_INFO!$K16=2, COUNTRY_INFO!$G16*0.2, COUNTRY_INFO!$G16))), 0))","v":116313},183734,{"$f":"IF(INTRO!$E$43=\"Non-endemic\", \"Not required\", COUNTRY_INFO!S16)","v":1},"Yes",{"$f":"IF($D16=0,0,IF(AND($G16>0,$H16<>\"Yes\"),D16,IF(AND($G16>0,$H16=\"Yes\"),COUNTRY_INFO!$F16,0)))","v":67421},67421,116313,183734,168552.5,348939,168552.5,0,168552.5,169]
[{"$f":"IF(INTRO!$E$43=\"Non-endemic\",\" \", IF(COUNTRY_INFO!A17=0,\" \",COUNTRY_INFO!A17))","v":"Uganda"},{"$f":"IF(INTRO!$E$43=\"Non-endemic\",\" \", IF(COUNTRY_INFO!B17=0,\" \",COUNTRY_INFO!B17))","v":"NORTHERN"},{"$f":"IF(INTRO!$E$43=\"Non-endemic\",\" \", IF(COUNTRY_INFO!C17=0,\" \",COUNTRY_INFO!C17))","v":"APAC"},{"$f":"IF(INTRO!$E$43=\"Non-endemic\", 0, IF(COUNTRY_INFO!$K17>0, IF(COUNTRY_INFO!$K17=4, 0, IF(COUNTRY_INFO!$K17=1, COUNTRY_INFO!$F17*0.33, IF(COUNTRY_INFO!$K17=2, COUNTRY_INFO!$F17*0.5, COUNTRY_INFO!$F17))), 0))","v":129244},{"$f":"IF(INTRO!$E$43=\"Non-endemic\", 0, IF(COUNTRY_INFO!$K17>0, IF(COUNTRY_INFO!$K17=4, 0, IF(COUNTRY_INFO!$K17=1, 0, IF(COUNTRY_INFO!$K17=2, COUNTRY_INFO!$G17*0.2, COUNTRY_INFO!$G17))), 0))","v":222968},352212,{"$f":"IF(INTRO!$E$43=\"Non-endemic\", \"Not required\", COUNTRY_INFO!S17)","v":1},null,{"$f":"IF($D17=0,0,IF(AND($G17>0,$H17<>\"Yes\"),D17,IF(AND($G17>0,$H17=\"Yes\"),COUNTRY_INFO!$F17,0)))","v":129244},91243,157409,248652,228107.5,472227,228107.5,0,228107.5,229]
[{"$f":"IF(INTRO!$E$43=\"Non-endemic\",\" \", IF(COUNTRY_INFO!A18=0,\" \",COUNTRY_INFO!A18))","v":"Uganda"},{"$f":"IF(INTRO!$E$43=\"Non-endemic\",\" \", IF(COUNTRY_INFO!B18=0,\" \",COUNTRY_INFO!B18))","v":"NORTHERN"},{"$f":"IF(INTRO!$E$43=\"Non-endemic\",\" \", IF(COUNTRY_INFO!C18=0,\" \",COUNTRY_INFO!C18))","v":"ARUA"},{"$f":"IF(INTRO!$E$43=\"Non-endemic\", 0, IF(COUNTRY_INFO!$K18>0, IF(COUNTRY_INFO!$K18=4, 0, IF(COUNTRY_INFO!$K18=1, COUNTRY_INFO!$F18*0.33, IF(COUNTRY_INFO!$K18=2, COUNTRY_INFO!$F18*0.5, COUNTRY_INFO!$F18))), 0))","v":137102.5},{"$f":"IF(INTRO!$E$43=\"Non-endemic\", 0, IF(COUNTRY_INFO!$K18>0, IF(COUNTRY_INFO!$K18=4, 0, IF(COUNTRY_INFO!$K18=1, 0, IF(COUNTRY_INFO!$K18=2, COUNTRY_INFO!$G18*0.2, COUNTRY_INFO!$G18))), 0))","v":94609.8},231712.3,{"$f":"IF(INTRO!$E$43=\"Non-endemic\", \"Not required\", COUNTRY_INFO!S18)","v":1},"Yes",{"$f":"IF($D18=0,0,IF(AND($G18>0,$H18<>\"Yes\"),D18,IF(AND($G18>0,$H18=\"Yes\"),COUNTRY_INFO!$F18,0)))","v":274205},274205,473049,747254,685512.5,1419147,685512.5,0,685512.5,686]
[{"$f":"IF(INTRO!$E$43=\"Non-endemic\",\" \", IF(COUNTRY_INFO!A19=0,\" \",COUNTRY_INFO!A19))","v":"Uganda"},{"$f":"IF(INTRO!$E$43=\"Non-endemic\",\" \", IF(COUNTRY_INFO!B19=0,\" \",COUNTRY_INFO!B19))","v":"EASTERN"},{"$f":"IF(INTRO!$E$43=\"Non-endemic\",\" \", IF(COUNTRY_INFO!C19=0,\" \",COUNTRY_INFO!C19))","v":"BUDAKA"},{"$f":"IF(INTRO!$E$43=\"Non-endemic\", 0, IF(COUNTRY_INFO!$K19>0, IF(COUNTRY_INFO!$K19=4, 0, IF(COUNTRY_INFO!$K19=1, COUNTRY_INFO!$F19*0.33, IF(COUNTRY_INFO!$K19=2, COUNTRY_INFO!$F19*0.5, COUNTRY_INFO!$F19))), 0))","v":24019.38},{"$f":"IF(INTRO!$E$43=\"Non-endemic\", 0, IF(COUNTRY_INFO!$K19>0, IF(COUNTRY_INFO!$K19=4, 0, IF(COUNTRY_INFO!$K19=1, 0, IF(COUNTRY_INFO!$K19=2, COUNTRY_INFO!$G19*0.2, COUNTRY_INFO!$G19))), 0))","v":0},24019.38,{"$f":"IF(INTRO!$E$43=\"Non-endemic\", \"Not required\", COUNTRY_INFO!S19)","v":1},null,{"$f":"IF($D19=0,0,IF(AND($G19>0,$H19<>\"Yes\"),D19,IF(AND($G19>0,$H19=\"Yes\"),COUNTRY_INFO!$F19,0)))","v":24019.38},34176,0,34176,85440,0,85440,0,85440,86]
[{"$f":"IF(INTRO!$E$43=\"Non-endemic\",\" \", IF(COUNTRY_INFO!A20=0,\" \",COUNTRY_INFO!A20))","v":"Uganda"},{"$f":"IF(INTRO!$E$43=\"Non-endemic\",\" \", IF(COUNTRY_INFO!B20=0,\" \",COUNTRY_INFO!B20))","v":"EASTERN"},{"$f":"IF(INTRO!$E$43=\"Non-endemic\",\" \", IF(COUNTRY_INFO!C20=0,\" \",COUNTRY_INFO!C20))","v":"BUDUDA"},{"$f":"IF(INTRO!$E$43=\"Non-endemic\", 0, IF(COUNTRY_INFO!$K20>0, IF(COUNTRY_INFO!$K20=4, 0, IF(COUNTRY_INFO!$K20=1, COUNTRY_INFO!$F20*0.33, IF(COUNTRY_INFO!$K20=2, COUNTRY_INFO!$F20*0.5, COUNTRY_INFO!$F20))), 0))","v":0},{"$f":"IF(INTRO!$E$43=\"Non-endemic\", 0, IF(COUNTRY_INFO!$K20>0, IF(COUNTRY_INFO!$K20=4, 0, IF(COUNTRY_INFO!$K20=1, 0, IF(COUNTRY_INFO!$K20=2, COUNTRY_INFO!$G20*0.2, COUNTRY_INFO!$G20))), 0))","v":0},0,{"$f":"IF(INTRO!$E$43=\"Non-endemic\", \"Not required\", COUNTRY_INFO!S20)","v":0},null,{"$f":"IF($D20=0,0,IF(AND($G20>0,$H20<>\"Yes\"),D20,IF(AND($G20>0,$H20=\"Yes\"),COUNTRY_INFO!$F20,0)))","v":0},0,0,0,0,0,0,0,0,0]
[{"$f":"IF(INTRO!$E$43=\"Non-endemic\",\" \", IF(COUNTRY_INFO!A21=0,\" \",COUNTRY_INFO!A21))","v":"Uganda"},{"$f":"IF(INTRO!$E$43=\"Non-endemic\",\" \", IF(COUNTRY_INFO!B21=0,\" \",COUNTRY_INFO!B21))","v":"EASTERN"},{"$f":"IF(INTRO!$E$43=\"Non-endemic\",\" \", IF(COUNTRY_INFO!C21=0,\" \",COUNTRY_INFO!C21))","v":"BUGIRI"},{"$f":"IF(INTRO!$E$43=\"Non-endemic\", 0, IF(COUNTRY_INFO!$K21>0, IF(COUNTRY_INFO!$K21=4, 0, IF(COUNTRY_INFO!$K21=1, COUNTRY_INFO!$F21*0.33, IF(COUNTRY_INFO!$K21=2, COUNTRY_INFO!$F21*0.5, COUNTRY_INFO!$F21))), 0))","v":67126.5},{"$f":"IF(INTRO!$E$43=\"Non-endemic\", 0, IF(COUNTRY_INFO!$K21>0, IF(COUNTRY_INFO!$K21=4, 0, IF(COUNTRY_INFO!$K21=1, 0, IF(COUNTRY_INFO!$K21=2, COUNTRY_INFO!$G21*0.2, COUNTRY_INFO!$G21))), 0))","v":46322},113448.5,{"$f":"IF(INTRO!$E$43=\"Non-endemic\", \"Not required\", COUNTRY_INFO!S21)","v":1},null,{"$f":"IF($D21=0,0,IF(AND($G21>0,$H21<>\"Yes\"),D21,IF(AND($G21>0,$H21=\"Yes\"),COUNTRY_INFO!$F21,0)))","v":67126.5},30216,52127,82343,75540,156381,75540,0,75540,76]
[{"$f":"IF(INTRO!$E$43=\"Non-endemic\",\" \", IF(COUNTRY_INFO!A22=0,\" \",COUNTRY_INFO!A22))","v":"Uganda"},{"$f":"IF(INTRO!$E$43=\"Non-endemic\",\" \", IF(COUNTRY_INFO!B22=0,\" \",COUNTRY_INFO!B22))","v":"WESTERN"},{"$f":"IF(INTRO!$E$43=\"Non-endemic\",\" \", IF(COUNTRY_INFO!C22=0,\" \",COUNTRY_INFO!C22))","v":"BUHWEJU"},{"$f":"IF(INTRO!$E$43=\"Non-endemic\", 0, IF(COUNTRY_INFO!$K22>0, IF(COUNTRY_INFO!$K22=4, 0, IF(COUNTRY_INFO!$K22=1, COUNTRY_INFO!$F22*0.33, IF(COUNTRY_INFO!$K22=2, COUNTRY_INFO!$F22*0.5, COUNTRY_INFO!$F22))), 0))","v":0},{"$f":"IF(INTRO!$E$43=\"Non-endemic\", 0, IF(COUNTRY_INFO!$K22>0, IF(COUNTRY_INFO!$K22=4, 0, IF(COUNTRY_INFO!$K22=1, 0, IF(COUNTRY_INFO!$K22=2, COUNTRY_INFO!$G22*0.2, COUNTRY_INFO!$G22))), 0))","v":0},0,{"$f":"IF(INTRO!$E$43=\"Non-endemic\", \"Not required\", COUNTRY_INFO!S22)","v":0},null,{"$f":"IF($D22=0,0,IF(AND($G22>0,$H22<>\"Yes\"),D22,IF(AND($G22>0,$H22=\"Yes\"),COUNTRY_INFO!$F22,0)))","v":0},0,0,0,0,0,0,0,0,0]
[{"$f":"IF(INTRO!$E$43=\"Non-endemic\",\" \", IF(COUNTRY_INFO!A23=0,\" \",COUNTRY_INFO!A23))","v":"Uganda"},{"$f":"IF(INTRO!$E$43=\"Non-endemic\",\" \", IF(COUNTRY_INFO!B23=0,\" \",COUNTRY_INFO!B23))","v":"CENTRAL"},{"$f":"IF(INTRO!$E$43=\"Non-endemic\",\" \", IF(COUNTRY_INFO!C23=0,\" \",COUNTRY_INFO!C23))","v":"BUIKWE"},{"$f":"IF(INTRO!$E$43=\"Non-endemic\", 0, IF(COUNTRY_INFO!$K23>0, IF(COUNTRY_INFO!$K23=4, 0, IF(COUNTRY_INFO!$K23=1, COUNTRY_INFO!$F23*0.33, IF(COUNTRY_INFO!$K23=2, COUNTRY_INFO!$F23*0.5, COUNTRY_INFO!$F23))), 0))","v":74114},{"$f":"IF(INTRO!$E$43=\"Non-endemic\", 0, IF(COUNTRY_INFO!$K23>0, IF(COUNTRY_INFO!$K23=4, 0, IF(COUNTRY_INFO!$K23=1, 0, IF(COUNTRY_INFO!$K23=2, COUNTRY_INFO!$G23*0.2, COUNTRY_INFO!$G23))), 0))","v":51143.600000000006},125257.60000000001,{"$f":"IF(INTRO!$E$43=\"Non-endemic\", \"Not required\", COUNTRY_INFO!S23)","v":1},null,{"$f":"IF($D23=0,0,IF(AND($G23>0,$H23<>\"Yes\"),D23,IF(AND($G23>0,$H23=\"Yes\"),COUNTRY_INFO!$F23,0)))","v":74114},55015,94911,149926,137537.5,284733,137537.5,0,137537.5,138]
[{"$f":"IF(INTRO!$E$43=\"Non-endemic\",\" \", IF(COUNTRY_INFO!A24=0,\" \",COUNTRY_INFO!A24))","v":"Uganda"},{"$f":"IF(INTRO!$E$43=\"Non-endemic\",\" \", IF(COUNTRY_INFO!B24=0,\" \",COUNTRY_INFO!B24))","v":"EASTERN"},{"$f":"IF(INTRO!$E$43=\"Non-endemic\",\" \", IF(COUNTRY_INFO!C24=0,\" \",COUNTRY_INFO!C24))","v":"BUKEDEA"},{"$f":"IF(INTRO!$E$43=\"Non-endemic\", 0, IF(COUNTRY_INFO!$K24>0, IF(COUNTRY_INFO!$K24=4, 0, IF(COUNTRY_INFO!$K24=1, COUNTRY_INFO!$F24*0.33, IF(COUNTRY_INFO!$K24=2, COUNTRY_INFO!$F24*0.5, COUNTRY_INFO!$F24))), 0))","v":23556.720000000001},{"$f":"IF(INTRO!$E$43=\"Non-endemic\", 0, IF(COUNTRY_INFO!$K24>0, IF(COUNTRY_INFO!$K24=4, 0, IF(COUNTRY_INFO!$K24=1, 0, IF(COUNTRY_INFO!$K24=2, COUNTRY_INFO!$G24*0.2, COUNTRY_INFO!$G24))), 0))","v":0},23556.720000000001,{"$f":"IF(INTRO!$E$43=\"Non-endemic\", \"Not required\", COUNTRY_INFO!S24)","v":1},"Yes",{"$f":"IF($D24=0,0,IF(AND($G24>0,$H24<>\"Yes\"),D24,IF(AND($G24>0,$H24=\"Yes\"),COUNTRY_INFO!$F24,0)))","v":71384},71621,0,71621,179052.5,0,179052.5,0,179052.5,180]
[{"$f":"IF(INTRO!$E$43=\"Non-endemic\",\" \", IF(COUNTRY_INFO!A25=0,\" \",COUNTRY_INFO!A25))","v":"Uganda"},{"$f":"IF(INTRO!$E$43=\"Non-endemic\",\" \", IF(COUNTRY_INFO!B25=0,\" \",COUNTRY_INFO!B25))","v":"CENTRAL"},{"$f":"IF(INTRO!$E$43=\"Non-endemic\",\" \", IF(COUNTRY_INFO!C25=0,\" \",COUNTRY_INFO!C25))","v":"BUKOMANSIMBI"},{"$f":"IF(INTRO!$E$43=\"Non-endemic\", 0, IF(COUNTRY_INFO!$K25>0, IF(COUNTRY_INFO!$K25=4, 0, IF(COUNTRY_INFO!$K25=1, COUNTRY_INFO!$F25*0.33, IF(COUNTRY_INFO!$K25=2, COUNTRY_INFO!$F25*0.5, COUNTRY_INFO!$F25))), 0))","v":0},{"$f":"IF(INTRO!$E$43=\"Non-endemic\", 0, IF(COUNTRY_INFO!$K25>0, IF(COUNTRY_INFO!$K25=4, 0, IF(COUNTRY_INFO!$K25=1, 0, IF(COUNTRY_INFO!$K25=2, COUNTRY_INFO!$G25*0.2, COUNTRY_INFO!$G25))), 0))","v":0},0,{"$f":"IF(INTRO!$E$43=\"Non-endemic\", \"Not required\", COUNTRY_INFO!S25)","v":0},null,{"$f":"IF($D25=0,0,IF(AND($G25>0,$H25<>\"Yes\"),D25,IF(AND($G25>0,$H25=\"Yes\"),COUNTRY_INFO!$F25,0)))","v":0},0,0,0,0,0,0,0,0,0]
[{"$f":"IF(INTRO!$E$43=\"Non-endemic\",\" \", IF(COUNTRY_INFO!A26=0,\" \",COUNTRY_INFO!A26))","v":"Uganda"},{"$f":"IF(INTRO!$E$43=\"Non-endemic\",\" \", IF(COUNTRY_INFO!B26=0,\" \",COUNTRY_INFO!B26))","v":"EASTERN"},{"$f":"IF(INTRO!$E$43=\"Non-endemic\",\" \", IF(COUNTRY_INFO!C26=0,\" \",COUNTRY_INFO!C26))","v":"BUKWO"},{"$f":"IF(INTRO!$E$43=\"Non-endemic\", 0, IF(COUNTRY_INFO!$K26>0, IF(COUNTRY_INFO!$K26=4, 0, IF(COUNTRY_INFO!$K26=1, COUNTRY_INFO!$F26*0.33, IF(COUNTRY_INFO!$K26=2, COUNTRY_INFO!$F26*0.5, COUNTRY_INFO!$F26))), 0))","v":0},{"$f":"IF(INTRO!$E$43=\"Non-endemic\", 0, IF(COUNTRY_INFO!$K26>0, IF(COUNTRY_INFO!$K26=4, 0, IF(COUNTRY_INFO!$K26=1, 0, IF(COUNTRY_INFO!$K26=2, COUNTRY_INFO!$G26*0.2, COUNTRY_INFO!$G26))), 0))","v":0},0,{"$f":"IF(INTRO!$E$43=\"Non-endemic\", \"Not required\", COUNTRY_INFO!S26)","v":0},null,{"$f":"IF($D26=0,0,IF(AND($G26>0,$H26<>\"Yes\"),D26,IF(AND($G26>0,$H26=\"Yes\"),COUNTRY_INFO!$F26,0)))","v":0},0,0,0,0,0,0,0,0,0]
[{"$f":"IF(INTRO!$E$43=\"Non-endemic\",\" \", IF(COUNTRY_INFO!A27=0,\" \",COUNTRY_INFO!A27))","v":"Uganda"},{"$f":"IF(INTRO!$E$43=\"Non-endemic\",\" \", IF(COUNTRY_INFO!B27=0,\" \",COUNTRY_INFO!B27))","v":"EASTERN"},{"$f":"IF(INTRO!$E$43=\"Non-endemic\",\" \", IF(COUNTRY_INFO!C27=0,\" \",COUNTRY_INFO!C27))","v":"BULAMBULI"},{"$f":"IF(INTRO!$E$43=\"Non-endemic\", 0, IF(COUNTRY_INFO!$K27>0, IF(COUNTRY_INFO!$K27=4, 0, IF(COUNTRY_INFO!$K27=1, COUNTRY_INFO!$F27*0.33, IF(COUNTRY_INFO!$K27=2, COUNTRY_INFO!$F27*0.5, COUNTRY_INFO!$F27))), 0))","v":20191.05},{"$f":"IF(INTRO!$E$43=\"Non-endemic\", 0, IF(COUNTRY_INFO!$K27>0, IF(COUNTRY_INFO!$K27=4, 0, IF(COUNTRY_INFO!$K27=1, 0, IF(COUNTRY_INFO!$K27=2, COUNTRY_INFO!$G27*0.2, COUNTRY_INFO!$G27))), 0))","v":0},20191.05,{"$f":"IF(INTRO!$E$43=\"Non-endemic\", \"Not required\", COUNTRY_INFO!S27)","v":1},null,{"$f":"IF($D27=0,0,IF(AND($G27>0,$H27<>\"Yes\"),D27,IF(AND($G27>0,$H27=\"Yes\"),COUNTRY_INFO!$F27,0)))","v":20191.05},8686,0,8686,21715,0,21715,0,21715,22]
[{"$f":"IF(INTRO!$E$43=\"Non-endemic\",\" \", IF(COUNTRY_INFO!A28=0,\" \",COUNTRY_INFO!A28))","v":"Uganda"},{"$f":"IF(INTRO!$E$43=\"Non-endemic\",\" \", IF(COUNTRY_INFO!B28=0,\" \",COUNTRY_INFO!B28))","v":"WESTERN"},{"$f":"IF(INTRO!$E$43=\"Non-endemic\",\" \", IF(COUNTRY_INFO!C28=0,\" \",COUNTRY_INFO!C28))","v":"BULIISA"},{"$f":"IF(INTRO!$E$43=\"Non-endemic\", 0, IF(COUNTRY_INFO!$K28>0, IF(COUNTRY_INFO!$K28=4, 0, IF(COUNTRY_INFO!$K28=1, COUNTRY_INFO!$F28*0.33, IF(COUNTRY_INFO!$K28=2, COUNTRY_INFO!$F28*0.5, COUNTRY_INFO!$F28))), 0))","v":42841},{"$f":"IF(INTRO!$E$43=\"Non-endemic\", 0, IF(COUNTRY_INFO!$K28>0, IF(COUNTRY_INFO!$K28=4, 0, IF(COUNTRY_INFO!$K28=1, 0, IF(COUNTRY_INFO!$K28=2, COUNTRY_INFO!$G28*0.2, COUNTRY_INFO!$G28))), 0))","v":73909},116750,{"$f":"IF(INTRO!$E$43=\"Non-endemic\", \"Not required\", COUNTRY_INFO!S28)","v":1},null,{"$f":"IF($D28=0,0,IF(AND($G28>0,$H28<>\"Yes\"),D28,IF(AND($G28>0,$H28=\"Yes\"),COUNTRY_INFO!$F28,0)))","v":42841},42841,73909,116750,107102.5,221727,107102.5,0,107102.5,108]
[{"$f":"IF(INTRO!$E$43=\"Non-endemic\",\" \", IF(COUNTRY_INFO!A29=0,\" \",COUNTRY_INFO!A29))","v":"Uganda"},{"$f":"IF(INTRO!$E$43=\"Non-endemic\",\" \", IF(COUNTRY_INFO!B29=0,\" \",COUNTRY_INFO!B29))","v":"WESTERN"},{"$f":"IF(INTRO!$E$43=\"Non-endemic\",\" \", IF(COUNTRY_INFO!C29=0,\" \",COUNTRY_INFO!C29))","v":"BUNDIBUGYO"},{"$f":"IF(INTRO!$E$43=\"Non-endemic\", 0, IF(COUNTRY_INFO!$K29>0, IF(COUNTRY_INFO!$K29=4, 0, IF(COUNTRY_INFO!$K29=1, COUNTRY_INFO!$F29*0.33, IF(COUNTRY_INFO!$K29=2, COUNTRY_INFO!$F29*0.5, COUNTRY_INFO!$F29))), 0))","v":0},{"$f":"IF(INTRO!$E$43=\"Non-endemic\", 0, IF(COUNTRY_INFO!$K29>0, IF(COUNTRY_INFO!$K29=4, 0, IF(COUNTRY_INFO!$K29=1, 0, IF(COUNTRY_INFO!$K29=2, COUNTRY_INFO!$G29*0.2, COUNTRY_INFO!$G29))), 0))","v":0},0,{"$f":"IF(INTRO!$E$43=\"Non-endemic\", \"Not required\", COUNTRY_INFO!S29)","v":0},null,{"$f":"IF($D29=0,0,IF(AND($G29>0,$H29<>\"Yes\"),D29,IF(AND($G29>0,$H29=\"Yes\"),COUNTRY_INFO!$F29,0)))","v":0},0,0,0,0,0,0,0,0,0]
[{"$f":"IF(INTRO!$E$43=\"Non-endemic\",\" \", IF(COUNTRY_INFO!A30=0,\" \",COUNTRY_INFO!A30))","v":"Uganda"},{"$f":"IF(INTRO!$E$43=\"Non-endemic\",\" \", IF(COUNTRY_INFO!B30=0,\" \",COUNTRY_INFO!B30))","v":"Western"},{"$f":"IF(INTRO!$E$43=\"Non-endemic\",\" \", IF(COUNTRY_INFO!C30=0,\" \",COUNTRY_INFO!C30))","v":"Bunyangabu"},{"$f":"IF(INTRO!$E$43=\"Non-endemic\", 0, IF(COUNTRY_INFO!$K30>0, IF(COUNTRY_INFO!$K30=4, 0, IF(COUNTRY_INFO!$K30=1, COUNTRY_INFO!$F30*0.33, IF(COUNTRY_INFO!$K30=2, COUNTRY_INFO!$F30*0.5, COUNTRY_INFO!$F30))), 0))","v":65699},{"$f":"IF(INTRO!$E$43=\"Non-endemic\", 0, IF(COUNTRY_INFO!$K30>0, IF(COUNTRY_INFO!$K30=4, 0, IF(COUNTRY_INFO!$K30=1, 0, IF(COUNTRY_INFO!$K30=2, COUNTRY_INFO!$G30*0.2, COUNTRY_INFO!$G30))), 0))","v":113341},179040,{"$f":"IF(INTRO!$E$43=\"Non-endemic\", \"Not required\", COUNTRY_INFO!S30)","v":1},null,{"$f":"IF($D30=0,0,IF(AND($G30>0,$H30<>\"Yes\"),D30,IF(AND($G30>0,$H30=\"Yes\"),COUNTRY_INFO!$F30,0)))","v":65699},10095,17415,27510,25237.5,52245,25237.5,0,25237.5,26]
[{"$f":"IF(INTRO!$E$43=\"Non-endemic\",\" \", IF(COUNTRY_INFO!A31=0,\" \",COUNTRY_INFO!A31))","v":"Uganda"},{"$f":"IF(INTRO!$E$43=\"Non-endemic\",\" \", IF(COUNTRY_INFO!B31=0,\" \",COUNTRY_INFO!B31))","v":"WESTERN"},{"$f":"IF(INTRO!$E$43=\"Non-endemic\",\" \", IF(COUNTRY_INFO!C31=0,\" \",COUNTRY_INFO!C31))","v":"BUSHENYI"},{"$f":"IF(INTRO!$E$43=\"Non-endemic\", 0, IF(COUNTRY_INFO!$K31>0, IF(COUNTRY_INFO!$K31=4, 0, IF(COUNTRY_INFO!$K31=1, COUNTRY_INFO!$F31*0.33, IF(COUNTRY_INFO!$K31=2, COUNTRY_INFO!$F31*0.5, COUNTRY_INFO!$F31))), 0))","v":0},{"$f":"IF(INTRO!$E$43=\"Non-endemic\", 0, IF(COUNTRY_INFO!$K31>0, IF(COUNTRY_INFO!$K31=4, 0, IF(COUNTRY_INFO!$K31=1, 0, IF(COUNTRY_INFO!$K31=2, COUNTRY_INFO!$G31*0.2, COUNTRY_INFO!$G31))), 0))","v":0},0,{"$f":"IF(INTRO!$E$43=\"Non-endemic\", \"Not required\", COUNTRY_INFO!S31)","v":0},null,{"$f":"IF($D31=0,0,IF(AND($G31>0,$H31<>\"Yes\"),D31,IF(AND($G31>0,$H31=\"Yes\"),COUNTRY_INFO!$F31,0)))","v":0},0,0,0,0,0,0,0,0,0]
[{"$f":"IF(INTRO!$E$43=\"Non-endemic\",\" \", IF(COUNTRY_INFO!A32=0,\" \",COUNTRY_INFO!A32))","v":"Uganda"},{"$f":"IF(INTRO!$E$43=\"Non-endemic\",\" \", IF(COUNTRY_INFO!B32=0,\" \",COUNTRY_INFO!B32))","v":"EASTERN"},{"$f":"IF(INTRO!$E$43=\"Non-endemic\",\" \", IF(COUNTRY_INFO!C32=0,\" \",COUNTRY_INFO!C32))","v":"BUSIA"},{"$f":"IF(INTRO!$E$43=\"Non-endemic\", 0, IF(COUNTRY_INFO!$K32>0, IF(COUNTRY_INFO!$K32=4, 0, IF(COUNTRY_INFO!$K32=1, COUNTRY_INFO!$F32*0.33, IF(COUNTRY_INFO!$K32=2, COUNTRY_INFO!$F32*0.5, COUNTRY_INFO!$F32))), 0))","v":113480},{"$f":"IF(INTRO!$E$43=\"Non-endemic\", 0, IF(COUNTRY_INFO!$K32>0, IF(COUNTRY_INFO!$K32=4, 0, IF(COUNTRY_INFO!$K32=1, 0, IF(COUNTRY_INFO!$K32=2, COUNTRY_INFO!$G32*0.2, COUNTRY_INFO!$G32))), 0))","v":195771},309251,{"$f":"IF(INTRO!$E$43=\"Non-endemic\", \"Not required\", COUNTRY_INFO!S32)","v":1},null,{"$f":"IF($D32=0,0,IF(AND($G32>0,$H32<>\"Yes\"),D32,IF(AND($G32>0,$H32=\"Yes\"),COUNTRY_INFO!$F32,0)))","v":113480},42594,73481,116075,106485,220443,106485,0,106485,107]
[{"$f":"IF(INTRO!$E$43=\"Non-endemic\",\" \", IF(COUNTRY_INFO!A33=0,\" \",COUNTRY_INFO!A33))","v":"Uganda"},{"$f":"IF(INTRO!$E$43=\"Non-endemic\",\" \", IF(COUNTRY_INFO!B33=0,\" \",COUNTRY_INFO!B33))","v":"EASTERN"},{"$f":"IF(INTRO!$E$43=\"Non-endemic\",\" \", IF(COUNTRY_INFO!C33=0,\" \",COUNTRY_INFO!C33))","v":"BUTALEJA"},{"$f":"IF(INTRO!$E$43=\"Non-endemic\", 0, IF(COUNTRY_INFO!$K33>0, IF(COUNTRY_INFO!$K33=4, 0, IF(COUNTRY_INFO!$K33=1, COUNTRY_INFO!$F33*0.33, IF(COUNTRY_INFO!$K33=2, COUNTRY_INFO!$F33*0.5, COUNTRY_INFO!$F33))), 0))","v":28248.99},{"$f":"IF(INTRO!$E$43=\"Non-endemic\", 0, IF(COUNTRY_INFO!$K33>0, IF(COUNTRY_INFO!$K33=4, 0, IF(COUNTRY_INFO!$K33=1, 0, IF(COUNTRY_INFO!$K33=2, COUNTRY_INFO!$G33*0.2, COUNTRY_INFO!$G33))), 0))","v":0},28248.99,{"$f":"IF(INTRO!$E$43=\"Non-endemic\", \"Not required\", COUNTRY_INFO!S33)","v":1},null,{"$f":"IF($D33=0,0,IF(AND($G33>0,$H33<>\"Yes\"),D33,IF(AND($G33>0,$H33=\"Yes\"),COUNTRY_INFO!$F33,0)))","v":28248.99},24997,0,24997,62492.5,0,62492.5,0,62492.5,63]
[{"$f":"IF(INTRO!$E$43=\"Non-endemic\",\" \", IF(COUNTRY_INFO!A34=0,\" \",COUNTRY_INFO!A34))","v":"Uganda"},{"$f":"IF(INTRO!$E$43=\"Non-endemic\",\" \", IF(COUNTRY_INFO!B34=0,\" \",COUNTRY_INFO!B34))","v":"CENTRAL"},{"$f":"IF(INTRO!$E$43=\"Non-endemic\",\" \", IF(COUNTRY_INFO!C34=0,\" \",COUNTRY_INFO!C34))","v":"BUTAMBALA"},{"$f":"IF(INTRO!$E$43=\"Non-endemic\", 0, IF(COUNTRY_INFO!$K34>0, IF(COUNTRY_INFO!$K34=4, 0, IF(COUNTRY_INFO!$K34=1, COUNTRY_INFO!$F34*0.33, IF(COUNTRY_INFO!$K34=2, COUNTRY_INFO!$F34*0.5, COUNTRY_INFO!$F34))), 0))","v":0},{"$f":"IF(INTRO!$E$43=\"Non-endemic\", 0, IF(COUNTRY_INFO!$K34>0, IF(COUNTRY_INFO!$K34=4, 0, IF(COUNTRY_INFO!$K34=1, 0, IF(COUNTRY_INFO!$K34=2, COUNTRY_INFO!$G34*0.2, COUNTRY_INFO!$G34))), 0))","v":0},0,{"$f":"IF(INTRO!$E$43=\"Non-endemic\", \"Not required\", COUNTRY_INFO!S34)","v":0},null,{"$f":"IF($D34=0,0,IF(AND($G34>0,$H34<>\"Yes\"),D34,IF(AND($G34>0,$H34=\"Yes\"),COUNTRY_INFO!$F34,0)))","v":0},0,0,0,0,0,0,0,0,0]
[{"$f":"IF(INTRO!$E$43=\"Non-endemic\",\" \", IF(COUNTRY_INFO!A35=0,\" \",COUNTRY_INFO!A35))","v":"Uganda"},{"$f":"IF(INTRO!$E$43=\"Non-endemic\",\" \", IF(COUNTRY_INFO!B35=0,\" \",COUNTRY_INFO!B35))","v":"Eastern"},{"$f":"IF(INTRO!$E$43=\"Non-endemic\",\" \", IF(COUNTRY_INFO!C35=0,\" \",COUNTRY_INFO!C35))","v":"BUTEBO"},{"$f":"IF(INTRO!$E$43=\"Non-endemic\", 0, IF(COUNTRY_INFO!$K35>0, IF(COUNTRY_INFO!$K35=4, 0, IF(COUNTRY_INFO!$K35=1, COUNTRY_INFO!$F35*0.33, IF(COUNTRY_INFO!$K35=2, COUNTRY_INFO!$F35*0.5, COUNTRY_INFO!$F35))), 0))","v":16773.57},{"$f":"IF(INTRO!$E$43=\"Non-endemic\", 0, IF(COUNTRY_INFO!$K35>0, IF(COUNTRY_INFO!$K35=4, 0, IF(COUNTRY_INFO!$K35=1, 0, IF(COUNTRY_INFO!$K35=2, COUNTRY_INFO!$G35*0.2, COUNTRY_INFO!$G35))), 0))","v":0},16773.57,{"$f":"IF(INTRO!$E$43=\"Non-endemic\", \"Not required\", COUNTRY_INFO!S35)","v":1},null,{"$f":"IF($D35=0,0,IF(AND($G35>0,$H35<>\"Yes\"),D35,IF(AND($G35>0,$H35=\"Yes\"),COUNTRY_INFO!$F35,0)))","v":16773.57},30165,0,30165,75412.5,0,75412.5,0,75412.5,76]
[{"$f":"IF(INTRO!$E$43=\"Non-endemic\",\" \", IF(COUNTRY_INFO!A36=0,\" \",COUNTRY_INFO!A36))","v":"Uganda"},{"$f":"IF(INTRO!$E$43=\"Non-endemic\",\" \", IF(COUNTRY_INFO!B36=0,\" \",COUNTRY_INFO!B36))","v":"CENTRAL"},{"$f":"IF(INTRO!$E$43=\"Non-endemic\",\" \", IF(COUNTRY_INFO!C36=0,\" \",COUNTRY_INFO!C36))","v":"BUVUMA"},{"$f":"IF(INTRO!$E$43=\"Non-endemic\", 0, IF(COUNTRY_INFO!$K36>0, IF(COUNTRY_INFO!$K36=4, 0, IF(COUNTRY_INFO!$K36=1, COUNTRY_INFO!$F36*0.33, IF(COUNTRY_INFO!$K36=2, COUNTRY_INFO!$F36*0.5, COUNTRY_INFO!$F36))), 0))","v":31516},{"$f":"IF(INTRO!$E$43=\"Non-endemic\", 0, IF(COUNTRY_INFO!$K36>0, IF(COUNTRY_INFO!$K36=4, 0, IF(COUNTRY_INFO!$K36=1, 0, IF(COUNTRY_INFO!$K36=2, COUNTRY_INFO!$G36*0.2, COUNTRY_INFO!$G36))), 0))","v":54371},85887,{"$f":"IF(INTRO!$E$43=\"Non-endemic\", \"Not required\", COUNTRY_INFO!S36)","v":1},"Yes",{"$f":"IF($D36=0,0,IF(AND($G36>0,$H36<>\"Yes\"),D36,IF(AND($G36>0,$H36=\"Yes\"),COUNTRY_INFO!$F36,0)))","v":31516},31516,54371,85887,78790,163113,78790,0,78790,79]
[{"$f":"IF(INTRO!$E$43=\"Non-endemic\",\" \", IF(COUNTRY_INFO!A37=0,\" \",COUNTRY_INFO!A37))","v":"Uganda"},{"$f":"IF(INTRO!$E$43=\"Non-endemic\",\" \", IF(COUNTRY_INFO!B37=0,\" \",COUNTRY_INFO!B37))","v":"EASTERN"},{"$f":"IF(INTRO!$E$43=\"Non-endemic\",\" \", IF(COUNTRY_INFO!C37=0,\" \",COUNTRY_INFO!C37))","v":"BUYENDE"},{"$f":"IF(INTRO!$E$43=\"Non-endemic\", 0, IF(COUNTRY_INFO!$K37>0, IF(COUNTRY_INFO!$K37=4, 0, IF(COUNTRY_INFO!$K37=1, COUNTRY_INFO!$F37*0.33, IF(COUNTRY_INFO!$K37=2, COUNTRY_INFO!$F37*0.5, COUNTRY_INFO!$F37))), 0))","v":113271},{"$f":"IF(INTRO!$E$43=\"Non-endemic\", 0, IF(COUNTRY_INFO!$K37>0, IF(COUNTRY_INFO!$K37=4, 0, IF(COUNTRY_INFO!$K37=1, 0, IF(COUNTRY_INFO!$K37=2, COUNTRY_INFO!$G37*0.2, COUNTRY_INFO!$G37))), 0))","v":195411},308682,{"$f":"IF(INTRO!$E$43=\"Non-endemic\", \"Not required\", COUNTRY_INFO!S37)","v":1},null,{"$f":"IF($D37=0,0,IF(AND($G37>0,$H37<>\"Yes\"),D37,IF(AND($G37>0,$H37=\"Yes\"),COUNTRY_INFO!$F37,0)))","v":113271},103133,177921,281054,257832.5,533763,257832.5,0,257832.5,258]
[{"$f":"IF(INTRO!$E$43=\"Non-endemic\",\" \", IF(COUNTRY_INFO!A38=0,\" \",COUNTRY_INFO!A38))","v":"Uganda"},{"$f":"IF(INTRO!$E$43=\"Non-endemic\",\" \", IF(COUNTRY_INFO!B38=0,\" \",COUNTRY_INFO!B38))","v":"NORTHERN"},{"$f":"IF(INTRO!$E$43=\"Non-endemic\",\" \", IF(COUNTRY_INFO!C38=0,\" \",COUNTRY_INFO!C38))","v":"DOKOLO"},{"$f":"IF(INTRO!$E$43=\"Non-endemic\", 0, IF(COUNTRY_INFO!$K38>0, IF(COUNTRY_INFO!$K38=4, 0, IF(COUNTRY_INFO!$K38=1, COUNTRY_INFO!$F38*0.33, IF(COUNTRY_INFO!$K38=2, COUNTRY_INFO!$F38*0.5, COUNTRY_INFO!$F38))), 0))","v":21184.02},{"$f":"IF(INTRO!$E$43=\"Non-endemic\", 0, IF(COUNTRY_INFO!$K38>0, IF(COUNTRY_INFO!$K38=4, 0, IF(COUNTRY_INFO!$K38=1, 0, IF(COUNTRY_INFO!$K38=2, COUNTRY_INFO!$G38*0.2, COUNTRY_INFO!$G38))), 0))","v":0},21184.02,{"$f":"IF(INTRO!$E$43=\"Non-endemic\", \"Not required\", COUNTRY_INFO!S38)","v":1},null,{"$f":"IF($D38=0,0,IF(AND($G38>0,$H38<>\"Yes\"),D38,IF(AND($G38>0,$H38=\"Yes\"),COUNTRY_INFO!$F38,0)))","v":21184.02},34432,0,34432,86080,0,86080,0,86080,87]
[{"$f":"IF(INTRO!$E$43=\"Non-endemic\",\" \", IF(COUNTRY_INFO!A39=0,\" \",COUNTRY_INFO!A39))","v":"Uganda"},{"$f":"IF(INTRO!$E$43=\"Non-endemic\",\" \", IF(COUNTRY_INFO!B39=0,\" \",COUNTRY_INFO!B39))","v":"CENTRAL"},{"$f":"IF(INTRO!$E$43=\"Non-endemic\",\" \", IF(COUNTRY_INFO!C39=0,\" \",COUNTRY_INFO!C39))","v":"GOMBA"},{"$f":"IF(INTRO!$E$43=\"Non-endemic\", 0, IF(COUNTRY_INFO!$K39>0, IF(COUNTRY_INFO!$K39=4, 0, IF(COUNTRY_INFO!$K39=1, COUNTRY_INFO!$F39*0.33, IF(COUNTRY_INFO!$K39=2, COUNTRY_INFO!$F39*0.5, COUNTRY_INFO!$F39))), 0))","v":56071},{"$f":"IF(INTRO!$E$43=\"Non-endemic\", 0, IF(COUNTRY_INFO!$K39>0, IF(COUNTRY_INFO!$K39=4, 0, IF(COUNTRY_INFO!$K39=1, 0, IF(COUNTRY_INFO!$K39=2, COUNTRY_INFO!$G39*0.2, COUNTRY_INFO!$G39))), 0))","v":96731},152802,{"$f":"IF(INTRO!$E$43=\"Non-endemic\", \"Not required\", COUNTRY_INFO!S39)","v":1},null,{"$f":"IF($D39=0,0,IF(AND($G39>0,$H39<>\"Yes\"),D39,IF(AND($G39>0,$H39=\"Yes\"),COUNTRY_INFO!$F39,0)))","v":56071},8084,13946,22030,20210,41838,20210,0,20210,21]
[{"$f":"IF(INTRO!$E$43=\"Non-endemic\",\" \", IF(COUNTRY_INFO!A40=0,\" \",COUNTRY_INFO!A40))","v":"Uganda"},{"$f":"IF(INTRO!$E$43=\"Non-endemic\",\" \", IF(COUNTRY_INFO!B40=0,\" \",COUNTRY_INFO!B40))","v":"NORTHERN"},{"$f":"IF(INTRO!$E$43=\"Non-endemic\",\" \", IF(COUNTRY_INFO!C40=0,\" \",COUNTRY_INFO!C40))","v":"GULU"},{"$f":"IF(INTRO!$E$43=\"Non-endemic\", 0, IF(COUNTRY_INFO!$K40>0, IF(COUNTRY_INFO!$K40=4, 0, IF(COUNTRY_INFO!$K40=1, COUNTRY_INFO!$F40*0.33, IF(COUNTRY_INFO!$K40=2, COUNTRY_INFO!$F40*0.5, COUNTRY_INFO!$F40))), 0))","v":48316.5},{"$f":"IF(INTRO!$E$43=\"Non-endemic\", 0, IF(COUNTRY_INFO!$K40>0, IF(COUNTRY_INFO!$K40=4, 0, IF(COUNTRY_INFO!$K40=1, 0, IF(COUNTRY_INFO!$K40=2, COUNTRY_INFO!$G40*0.2, COUNTRY_INFO!$G40))), 0))","v":33341.4},81657.899999999994,{"$f":"IF(INTRO!$E$43=\"Non-endemic\", \"Not required\", COUNTRY_INFO!S40)","v":1},"Yes",{"$f":"IF($D40=0,0,IF(AND($G40>0,$H40<>\"Yes\"),D40,IF(AND($G40>0,$H40=\"Yes\"),COUNTRY_INFO!$F40,0)))","v":96633},46656,80489,127145,116640,241467,116640,0,116640,117]
[{"$f":"IF(INTRO!$E$43=\"Non-endemic\",\" \", IF(COUNTRY_INFO!A41=0,\" \",COUNTRY_INFO!A41))","v":"Uganda"},{"$f":"IF(INTRO!$E$43=\"Non-endemic\",\" \", IF(COUNTRY_INFO!B41=0,\" \",COUNTRY_INFO!B41))","v":"WESTERN"},{"$f":"IF(INTRO!$E$43=\"Non-endemic\",\" \", IF(COUNTRY_INFO!C41=0,\" \",COUNTRY_INFO!C41))","v":"HOIMA"},{"$f":"IF(INTRO!$E$43=\"Non-endemic\", 0, IF(COUNTRY_INFO!$K41>0, IF(COUNTRY_INFO!$K41=4, 0, IF(COUNTRY_INFO!$K41=1, COUNTRY_INFO!$F41*0.33, IF(COUNTRY_INFO!$K41=2, COUNTRY_INFO!$F41*0.5, COUNTRY_INFO!$F41))), 0))","v":200895},{"$f":"IF(INTRO!$E$43=\"Non-endemic\", 0, IF(COUNTRY_INFO!$K41>0, IF(COUNTRY_INFO!$K41=4, 0, IF(COUNTRY_INFO!$K41=1, 0, IF(COUNTRY_INFO!$K41=2, COUNTRY_INFO!$G41*0.2, COUNTRY_INFO!$G41))), 0))","v":346578},{"$f":"SUM(D41:E41)","v":547473},{"$f":"IF(INTRO!$E$43=\"Non-endemic\", \"Not required\", COUNTRY_INFO!S41)","v":1},null,{"$f":"IF($D41=0,0,IF(AND($G41>0,$H41<>\"Yes\"),D41,IF(AND($G41>0,$H41=\"Yes\"),COUNTRY_INFO!$F41,0)))","v":200895},66361,114483,{"$f":"IF($J41=0,SUM(I41,K41),SUM(J41,K41))","v":180844},{"$f":"IF($J41=0,$I41*2.5,$J41*2.5)","v":165902.5},{"$f":"$K41*3","v":343449},{"$f":"M41","v":165902.5},0,{"$f":"IF($O41>$P41,O41-P41,0)","v":165902.5},{"$f":"ROUNDUP($O41/1000,0)","v":166}]
[{"$f":"IF(INTRO!$E$43=\"Non-endemic\",\" \", IF(COUNTRY_INFO!A42=0,\" \",COUNTRY_INFO!A42))","v":"Uganda"},{"$f":"IF(INTRO!$E$43=\"Non-endemic\",\" \", IF(COUNTRY_INFO!B42=0,\" \",COUNTRY_INFO!B42))","v":"WESTERN"},{"$f":"IF(INTRO!$E$43=\"Non-endemic\",\" \", IF(COUNTRY_INFO!C42=0,\" \",COUNTRY_INFO!C42))","v":"IBANDA"},{"$f":"IF(INTRO!$E$43=\"Non-endemic\", 0, IF(COUNTRY_INFO!$K42>0, IF(COUNTRY_INFO!$K42=4, 0, IF(COUNTRY_INFO!$K42=1, COUNTRY_INFO!$F42*0.33, IF(COUNTRY_INFO!$K42=2, COUNTRY_INFO!$F42*0.5, COUNTRY_INFO!$F42))), 0))","v":28881.93},{"$f":"IF(INTRO!$E$43=\"Non-endemic\", 0, IF(COUNTRY_INFO!$K42>0, IF(COUNTRY_INFO!$K42=4, 0, IF(COUNTRY_INFO!$K42=1, 0, IF(COUNTRY_INFO!$K42=2, COUNTRY_INFO!$G42*0.2, COUNTRY_INFO!$G42))), 0))","v":0},28881.93,{"$f":"IF(INTRO!$E$43=\"Non-endemic\", \"Not required\", COUNTRY_INFO!S42)","v":1},null,{"$f":"IF($D42=0,0,IF(AND($G42>0,$H42<>\"Yes\"),D42,IF(AND($G42>0,$H42=\"Yes\"),COUNTRY_INFO!$F42,0)))","v":28881.93},7902,0,7902,19755,0,19755,0,19755,20]
[{"$f":"IF(INTRO!$E$43=\"Non-endemic\",\" \", IF(COUNTRY_INFO!A43=0,\" \",COUNTRY_INFO!A43))","v":"Uganda"},{"$f":"IF(INTRO!$E$43=\"Non-endemic\",\" \", IF(COUNTRY_INFO!B43=0,\" \",COUNTRY_INFO!B43))","v":"EASTERN"},{"$f":"IF(INTRO!$E$43=\"Non-endemic\",\" \", IF(COUNTRY_INFO!C43=0,\" \",COUNTRY_INFO!C43))","v":"IGANGA"},{"$f":"IF(INTRO!$E$43=\"Non-endemic\", 0, IF(COUNTRY_INFO!$K43>0, IF(COUNTRY_INFO!$K43=4, 0, IF(COUNTRY_INFO!$K43=1, COUNTRY_INFO!$F43*0.33, IF(COUNTRY_INFO!$K43=2, COUNTRY_INFO!$F43*0.5, COUNTRY_INFO!$F43))), 0))","v":58336.41},{"$f":"IF(INTRO!$E$43=\"Non-endemic\", 0, IF(COUNTRY_INFO!$K43>0, IF(COUNTRY_INFO!$K43=4, 0, IF(COUNTRY_INFO!$K43=1, 0, IF(COUNTRY_INFO!$K43=2, COUNTRY_INFO!$G43*0.2, COUNTRY_INFO!$G43))), 0))","v":0},58336.41,{"$f":"IF(INTRO!$E$43=\"Non-endemic\", \"Not required\", COUNTRY_INFO!S43)","v":1},null,{"$f":"IF($D43=0,0,IF(AND($G43>0,$H43<>\"Yes\"),D43,IF(AND($G43>0,$H43=\"Yes\"),COUNTRY_INFO!$F43,0)))","v":58336.41},35031,0,35031,87577.5,0,87577.5,0,87577.5,88]
[{"$f":"IF(INTRO!$E$43=\"Non-endemic\",\" \", IF(COUNTRY_INFO!A44=0,\" \",COUNTRY_INFO!A44))","v":"Uganda"},{"$f":"IF(INTRO!$E$43=\"Non-endemic\",\" \", IF(COUNTRY_INFO!B44=0,\" \",COUNTRY_INFO!B44))","v":"WESTERN"},{"$f":"IF(INTRO!$E$43=\"Non-endemic\",\" \", IF(COUNTRY_INFO!C44=0,\" \",COUNTRY_INFO!C44))","v":"ISINGIRO"},{"$f":"IF(INTRO!$E$43=\"Non-endemic\", 0, IF(COUNTRY_INFO!$K44>0, IF(COUNTRY_INFO!$K44=4, 0, IF(COUNTRY_INFO!$K44=1, COUNTRY_INFO!$F44*0.33, IF(COUNTRY_INFO!$K44=2, COUNTRY_INFO!$F44*0.5, COUNTRY_INFO!$F44))), 0))","v":56272.590000000004},{"$f":"IF(INTRO!$E$43=\"Non-endemic\", 0, IF(COUNTRY_INFO!$K44>0, IF(COUNTRY_INFO!$K44=4, 0, IF(COUNTRY_INFO!$K44=1, 0, IF(COUNTRY_INFO!$K44=2, COUNTRY_INFO!$G44*0.2, COUNTRY_INFO!$G44))), 0))","v":0},56272.590000000004,{"$f":"IF(INTRO!$E$43=\"Non-endemic\", \"Not required\", COUNTRY_INFO!S44)","v":1},null,{"$f":"IF($D44=0,0,IF(AND($G44>0,$H44<>\"Yes\"),D44,IF(AND($G44>0,$H44=\"Yes\"),COUNTRY_INFO!$F44,0)))","v":56272.590000000004},23868,0,23868,59670,0,59670,0,59670,60]
[{"$f":"IF(INTRO!$E$43=\"Non-endemic\",\" \", IF(COUNTRY_INFO!A45=0,\" \",COUNTRY_INFO!A45))","v":"Uganda"},{"$f":"IF(INTRO!$E$43=\"Non-endemic\",\" \", IF(COUNTRY_INFO!B45=0,\" \",COUNTRY_INFO!B45))","v":"EASTERN"},{"$f":"IF(INTRO!$E$43=\"Non-endemic\",\" \", IF(COUNTRY_INFO!C45=0,\" \",COUNTRY_INFO!C45))","v":"JINJA"},{"$f":"IF(INTRO!$E$43=\"Non-endemic\", 0, IF(COUNTRY_INFO!$K45>0, IF(COUNTRY_INFO!$K45=4, 0, IF(COUNTRY_INFO!$K45=1, COUNTRY_INFO!$F45*0.33, IF(COUNTRY_INFO!$K45=2, COUNTRY_INFO!$F45*0.5, COUNTRY_INFO!$F45))), 0))","v":165222},{"$f":"IF(INTRO!$E$43=\"Non-endemic\", 0, IF(COUNTRY_INFO!$K45>0, IF(COUNTRY_INFO!$K45=4, 0, IF(COUNTRY_INFO!$K45=1, 0, IF(COUNTRY_INFO!$K45=2, COUNTRY_INFO!$G45*0.2, COUNTRY_INFO!$G45))), 0))","v":285036},450258,{"$f":"IF(INTRO!$E$43=\"Non-endemic\", \"Not required\", COUNTRY_INFO!S45)","v":1},null,{"$f":"IF($D45=0,0,IF(AND($G45>0,$H45<>\"Yes\"),D45,IF(AND($G45>0,$H45=\"Yes\"),COUNTRY_INFO!$F45,0)))","v":165222},134417,231892,366309,336042.5,695676,336042.5,0,336042.5,337]
[{"$f":"IF(INTRO!$E$43=\"Non-endemic\",\" \", IF(COUNTRY_INFO!A46=0,\" \",COUNTRY_INFO!A46))","v":"Uganda"},{"$f":"IF(INTRO!$E$43=\"Non-endemic\",\" \", IF(COUNTRY_INFO!B46=0,\" \",COUNTRY_INFO!B46))","v":"NORTHERN"},{"$f":"IF(INTRO!$E$43=\"Non-endemic\",\" \", IF(COUNTRY_INFO!C46=0,\" \",COUNTRY_INFO!C46))","v":"KAABONG"},{"$f":"IF(INTRO!$E$43=\"Non-endemic\", 0, IF(COUNTRY_INFO!$K46>0, IF(COUNTRY_INFO!$K46=4, 0, IF(COUNTRY_INFO!$K46=1, COUNTRY_INFO!$F46*0.33, IF(COUNTRY_INFO!$K46=2, COUNTRY_INFO!$F46*0.5, COUNTRY_INFO!$F46))), 0))","v":0},{"$f":"IF(INTRO!$E$43=\"Non-endemic\", 0, IF(COUNTRY_INFO!$K46>0, IF(COUNTRY_INFO!$K46=4, 0, IF(COUNTRY_INFO!$K46=1, 0, IF(COUNTRY_INFO!$K46=2, COUNTRY_INFO!$G46*0.2, COUNTRY_INFO!$G46))), 0))","v":0},0,{"$f":"IF(INTRO!$E$43=\"Non-endemic\", \"Not required\", COUNTRY_INFO!S46)","v":0},null,{"$f":"IF($D46=0,0,IF(AND($G46>0,$H46<>\"Yes\"),D46,IF(AND($G46>0,$H46=\"Yes\"),COUNTRY_INFO!$F46,0)))","v":0},0,0,0,0,0,0,0,0,0]
[{"$f":"IF(INTRO!$E$43=\"Non-endemic\",\" \", IF(COUNTRY_INFO!A47=0,\" \",COUNTRY_INFO!A47))","v":"Uganda"},{"$f":"IF(INTRO!$E$43=\"Non-endemic\",\" \", IF(COUNTRY_INFO!B47=0,\" \",COUNTRY_INFO!B47))","v":"WESTERN"},{"$f":"IF(INTRO!$E$43=\"Non-endemic\",\" \", IF(COUNTRY_INFO!C47=0,\" \",COUNTRY_INFO!C47))","v":"KABALE"},{"$f":"IF(INTRO!$E$43=\"Non-endemic\", 0, IF(COUNTRY_INFO!$K47>0, IF(COUNTRY_INFO!$K47=4, 0, IF(COUNTRY_INFO!$K47=1, COUNTRY_INFO!$F47*0.33, IF(COUNTRY_INFO!$K47=2, COUNTRY_INFO!$F47*0.5, COUNTRY_INFO!$F47))), 0))","v":0},{"$f":"IF(INTRO!$E$43=\"Non-endemic\", 0, IF(COUNTRY_INFO!$K47>0, IF(COUNTRY_INFO!$K47=4, 0, IF(COUNTRY_INFO!$K47=1, 0, IF(COUNTRY_INFO!$K47=2, COUNTRY_INFO!$G47*0.2, COUNTRY_INFO!$G47))), 0))","v":0},0,{"$f":"IF(INTRO!$E$43=\"Non-endemic\", \"Not required\", COUNTRY_INFO!S47)","v":0},null,{"$f":"IF($D47=0,0,IF(AND($G47>0,$H47<>\"Yes\"),D47,IF(AND($G47>0,$H47=\"Yes\"),COUNTRY_INFO!$F47,0)))","v":0},0,0,0,0,0,0,0,0,0]
[{"$f":"IF(INTRO!$E$43=\"Non-endemic\",\" \", IF(COUNTRY_INFO!A48=0,\" \",COUNTRY_INFO!A48))","v":"Uganda"},{"$f":"IF(INTRO!$E$43=\"Non-endemic\",\" \", IF(COUNTRY_INFO!B48=0,\" \",COUNTRY_INFO!B48))","v":"WESTERN"},{"$f":"IF(INTRO!$E$43=\"Non-endemic\",\" \", IF(COUNTRY_INFO!C48=0,\" \",COUNTRY_INFO!C48))","v":"KABAROLE"},{"$f":"IF(INTRO!$E$43=\"Non-endemic\", 0, IF(COUNTRY_INFO!$K48>0, IF(COUNTRY_INFO!$K48=4, 0, IF(COUNTRY_INFO!$K48=1, COUNTRY_INFO!$F48*0.33, IF(COUNTRY_INFO!$K48=2, COUNTRY_INFO!$F48*0.5, COUNTRY_INFO!$F48))), 0))","v":98821},{"$f":"IF(INTRO!$E$43=\"Non-endemic\", 0, IF(COUNTRY_INFO!$K48>0, IF(COUNTRY_INFO!$K48=4, 0, IF(COUNTRY_INFO!$K48=1, 0, IF(COUNTRY_INFO!$K48=2, COUNTRY_INFO!$G48*0.2, COUNTRY_INFO!$G48))), 0))","v":170483},269304,{"$f":"IF(INTRO!$E$43=\"Non-endemic\", \"Not required\", COUNTRY_INFO!S48)","v":1},null,{"$f":"IF($D48=0,0,IF(AND($G48>0,$H48<>\"Yes\"),D48,IF(AND($G48>0,$H48=\"Yes\"),COUNTRY_INFO!$F48,0)))","v":98821},12338,21285,33623,30845,63855,30845,0,30845,31]
[{"$f":"IF(INTRO!$E$43=\"Non-endemic\",\" \", IF(COUNTRY_INFO!A49=0,\" \",COUNTRY_INFO!A49))","v":"Uganda"},{"$f":"IF(INTRO!$E$43=\"Non-endemic\",\" \", IF(COUNTRY_INFO!B49=0,\" \",COUNTRY_INFO!B49))","v":"EASTERN"},{"$f":"IF(INTRO!$E$43=\"Non-endemic\",\" \", IF(COUNTRY_INFO!C49=0,\" \",COUNTRY_INFO!C49))","v":"KABERAMAIDO"},{"$f":"IF(INTRO!$E$43=\"Non-endemic\", 0, IF(COUNTRY_INFO!$K49>0, IF(COUNTRY_INFO!$K49=4, 0, IF(COUNTRY_INFO!$K49=1, COUNTRY_INFO!$F49*0.33, IF(COUNTRY_INFO!$K49=2, COUNTRY_INFO!$F49*0.5, COUNTRY_INFO!$F49))), 0))","v":75391},{"$f":"IF(INTRO!$E$43=\"Non-endemic\", 0, IF(COUNTRY_INFO!$K49>0, IF(COUNTRY_INFO!$K49=4, 0, IF(COUNTRY_INFO!$K49=1, 0, IF(COUNTRY_INFO!$K49=2, COUNTRY_INFO!$G49*0.2, COUNTRY_INFO!$G49))), 0))","v":130061},205452,{"$f":"IF(INTRO!$E$43=\"Non-endemic\", \"Not required\", COUNTRY_INFO!S49)","v":1},null,{"$f":"IF($D49=0,0,IF(AND($G49>0,$H49<>\"Yes\"),D49,IF(AND($G49>0,$H49=\"Yes\"),COUNTRY_INFO!$F49,0)))","v":75391},41502,71597,113099,103755,214791,103755,0,103755,104]
[{"$f":"IF(INTRO!$E$43=\"Non-endemic\",\" \", IF(COUNTRY_INFO!A50=0,\" \",COUNTRY_INFO!A50))","v":"Uganda"},{"$f":"IF(INTRO!$E$43=\"Non-endemic\",\" \", IF(COUNTRY_INFO!B50=0,\" \",COUNTRY_INFO!B50))","v":"WESTERN"},{"$f":"IF(INTRO!$E$43=\"Non-endemic\",\" \", IF(COUNTRY_INFO!C50=0,\" \",COUNTRY_INFO!C50))","v":"KAGADI"},{"$f":"IF(INTRO!$E$43=\"Non-endemic\", 0, IF(COUNTRY_INFO!$K50>0, IF(COUNTRY_INFO!$K50=4, 0, IF(COUNTRY_INFO!$K50=1, COUNTRY_INFO!$F50*0.33, IF(COUNTRY_INFO!$K50=2, COUNTRY_INFO!$F50*0.5, COUNTRY_INFO!$F50))), 0))","v":135068},{"$f":"IF(INTRO!$E$43=\"Non-endemic\", 0, IF(COUNTRY_INFO!$K50>0, IF(COUNTRY_INFO!$K50=4, 0, IF(COUNTRY_INFO!$K50=1, 0, IF(COUNTRY_INFO!$K50=2, COUNTRY_INFO!$G50*0.2, COUNTRY_INFO!$G50))), 0))","v":233015},368083,{"$f":"IF(INTRO!$E$43=\"Non-endemic\", \"Not required\", COUNTRY_INFO!S50)","v":1},null,{"$f":"IF($D50=0,0,IF(AND($G50>0,$H50<>\"Yes\"),D50,IF(AND($G50>0,$H50=\"Yes\"),COUNTRY_INFO!$F50,0)))","v":135068},79312,136826,216138,198280,410478,198280,0,198280,199]
[{"$f":"IF(INTRO!$E$43=\"Non-endemic\",\" \", IF(COUNTRY_INFO!A51=0,\" \",COUNTRY_INFO!A51))","v":"Uganda"},{"$f":"IF(INTRO!$E$43=\"Non-endemic\",\" \", IF(COUNTRY_INFO!B51=0,\" \",COUNTRY_INFO!B51))","v":"WESTERN"},{"$f":"IF(INTRO!$E$43=\"Non-endemic\",\" \", IF(COUNTRY_INFO!C51=0,\" \",COUNTRY_INFO!C51))","v":"KAKUMIRO"},{"$f":"IF(INTRO!$E$43=\"Non-endemic\", 0, IF(COUNTRY_INFO!$K51>0, IF(COUNTRY_INFO!$K51=4, 0, IF(COUNTRY_INFO!$K51=1, COUNTRY_INFO!$F51*0.33, IF(COUNTRY_INFO!$K51=2, COUNTRY_INFO!$F51*0.5, COUNTRY_INFO!$F51))), 0))","v":0},{"$f":"IF(INTRO!$E$43=\"Non-endemic\", 0, IF(COUNTRY_INFO!$K51>0, IF(COUNTRY_INFO!$K51=4, 0, IF(COUNTRY_INFO!$K51=1, 0, IF(COUNTRY_INFO!$K51=2, COUNTRY_INFO!$G51*0.2, COUNTRY_INFO!$G51))), 0))","v":0},0,{"$f":"IF(INTRO!$E$43=\"Non-endemic\", \"Not required\", COUNTRY_INFO!S51)","v":0},null,{"$f":"IF($D51=0,0,IF(AND($G51>0,$H51<>\"Yes\"),D51,IF(AND($G51>0,$H51=\"Yes\"),COUNTRY_INFO!$F51,0)))","v":0},0,0,0,0,0,0,0,0,0]
[{"$f":"IF(INTRO!$E$43=\"Non-endemic\",\" \", IF(COUNTRY_INFO!A52=0,\" \",COUNTRY_INFO!A52))","v":"Uganda"},{"$f":"IF(INTRO!$E$43=\"Non-endemic\",\" \", IF(COUNTRY_INFO!B52=0,\" \",COUNTRY_INFO!B52))","v":"CENTRAL"},{"$f":"IF(INTRO!$E$43=\"Non-endemic\",\" \", IF(COUNTRY_INFO!C52=0,\" \",COUNTRY_INFO!C52))","v":"KALANGALA"},{"$f":"IF(INTRO!$E$43=\"Non-endemic\", 0, IF(COUNTRY_INFO!$K52>0, IF(COUNTRY_INFO!$K52=4, 0, IF(COUNTRY_INFO!$K52=1, COUNTRY_INFO!$F52*0.33, IF(COUNTRY_INFO!$K52=2, COUNTRY_INFO!$F52*0.5, COUNTRY_INFO!$F52))), 0))","v":19036},{"$f":"IF(INTRO!$E$43=\"Non-endemic\", 0, IF(COUNTRY_INFO!$K52>0, IF(COUNTRY_INFO!$K52=4, 0, IF(COUNTRY_INFO!$K52=1, 0, IF(COUNTRY_INFO!$K52=2, COUNTRY_INFO!$G52*0.2, COUNTRY_INFO!$G52))), 0))","v":32840},51876,{"$f":"IF(INTRO!$E$43=\"Non-endemic\", \"Not required\", COUNTRY_INFO!S52)","v":1},"Yes",{"$f":"IF($D52=0,0,IF(AND($G52>0,$H52<>\"Yes\"),D52,IF(AND($G52>0,$H52=\"Yes\"),COUNTRY_INFO!$F52,0)))","v":19036},19036,32840,51876,47590,98520,47590,0,47590,48]
[{"$f":"IF(INTRO!$E$43=\"Non-endemic\",\" \", IF(COUNTRY_INFO!A53=0,\" \",COUNTRY_INFO!A53))","v":"Uganda"},{"$f":"IF(INTRO!$E$43=\"Non-endemic\",\" \", IF(COUNTRY_INFO!B53=0,\" \",COUNTRY_INFO!B53))","v":"EASTERN"},{"$f":"IF(INTRO!$E$43=\"Non-endemic\",\" \", IF(COUNTRY_INFO!C53=0,\" \",COUNTRY_INFO!C53))","v":"KALIRO"},{"$f":"IF(INTRO!$E$43=\"Non-endemic\", 0, IF(COUNTRY_INFO!$K53>0, IF(COUNTRY_INFO!$K53=4, 0, IF(COUNTRY_INFO!$K53=1, COUNTRY_INFO!$F53*0.33, IF(COUNTRY_INFO!$K53=2, COUNTRY_INFO!$F53*0.5, COUNTRY_INFO!$F53))), 0))","v":27328.620000000003},{"$f":"IF(INTRO!$E$43=\"Non-endemic\", 0, IF(COUNTRY_INFO!$K53>0, IF(COUNTRY_INFO!$K53=4, 0, IF(COUNTRY_INFO!$K53=1, 0, IF(COUNTRY_INFO!$K53=2, COUNTRY_INFO!$G53*0.2, COUNTRY_INFO!$G53))), 0))","v":0},27328.620000000003,{"$f":"IF(INTRO!$E$43=\"Non-endemic\", \"Not required\", COUNTRY_INFO!S53)","v":1},"Yes",{"$f":"IF($D53=0,0,IF(AND($G53>0,$H53<>\"Yes\"),D53,IF(AND($G53>0,$H53=\"Yes\"),COUNTRY_INFO!$F53,0)))","v":82814},83088,0,83088,207720,0,207720,0,207720,208]
[{"$f":"IF(INTRO!$E$43=\"Non-endemic\",\" \", IF(COUNTRY_INFO!A54=0,\" \",COUNTRY_INFO!A54))","v":"Uganda"},{"$f":"IF(INTRO!$E$43=\"Non-endemic\",\" \", IF(COUNTRY_INFO!B54=0,\" \",COUNTRY_INFO!B54))","v":"CENTRAL"},{"$f":"IF(INTRO!$E$43=\"Non-endemic\",\" \", IF(COUNTRY_INFO!C54=0,\" \",COUNTRY_INFO!C54))","v":"KALUNGU"},{"$f":"IF(INTRO!$E$43=\"Non-endemic\", 0, IF(COUNTRY_INFO!$K54>0, IF(COUNTRY_INFO!$K54=4, 0, IF(COUNTRY_INFO!$K54=1, COUNTRY_INFO!$F54*0.33, IF(COUNTRY_INFO!$K54=2, COUNTRY_INFO!$F54*0.5, COUNTRY_INFO!$F54))), 0))","v":21200.190000000002},{"$f":"IF(INTRO!$E$43=\"Non-endemic\", 0, IF(COUNTRY_INFO!$K54>0, IF(COUNTRY_INFO!$K54=4, 0, IF(COUNTRY_INFO!$K54=1, 0, IF(COUNTRY_INFO!$K54=2, COUNTRY_INFO!$G54*0.2, COUNTRY_INFO!$G54))), 0))","v":0},21200.190000000002,{"$f":"IF(INTRO!$E$43=\"Non-endemic\", \"Not required\", COUNTRY_INFO!S54)","v":1},null,{"$f":"IF($D54=0,0,IF(AND($G54>0,$H54<>\"Yes\"),D54,IF(AND($G54>0,$H54=\"Yes\"),COUNTRY_INFO!$F54,0)))","v":21200.190000000002},24110,0,24110,60275,0,60275,0,60275,61]
[{"$f":"IF(INTRO!$E$43=\"Non-endemic\",\" \", IF(COUNTRY_INFO!A55=0,\" \",COUNTRY_INFO!A55))","v":"Uganda"},{"$f":"IF(INTRO!$E$43=\"Non-endemic\",\" \", IF(COUNTRY_INFO!B55=0,\" \",COUNTRY_INFO!B55))","v":"CENTRAL"},{"$f":"IF(INTRO!$E$43=\"Non-endemic\",\" \", IF(COUNTRY_INFO!C55=0,\" \",COUNTRY_INFO!C55))","v":"KAMPALA"},{"$f":"IF(INTRO!$E$43=\"Non-endemic\", 0, IF(COUNTRY_INFO!$K55>0, IF(COUNTRY_INFO!$K55=4, 0, IF(COUNTRY_INFO!$K55=1, COUNTRY_INFO!$F55*0.33, IF(COUNTRY_INFO!$K55=2, COUNTRY_INFO!$F55*0.5, COUNTRY_INFO!$F55))), 0))","v":0},{"$f":"IF(INTRO!$E$43=\"Non-endemic\", 0, IF(COUNTRY_INFO!$K55>0, IF(COUNTRY_INFO!$K55=4, 0, IF(COUNTRY_INFO!$K55=1, 0, IF(COUNTRY_INFO!$K55=2, COUNTRY_INFO!$G55*0.2, COUNTRY_INFO!$G55))), 0))","v":0},0,{"$f":"IF(INTRO!$E$43=\"Non-endemic\", \"Not required\", COUNTRY_INFO!S55)","v":0},null,{"$f":"IF($D55=0,0,IF(AND($G55>0,$H55<>\"Yes\"),D55,IF(AND($G55>0,$H55=\"Yes\"),COUNTRY_INFO!$F55,0)))","v":0},0,0,0,0,0,0,0,0,0]
[{"$f":"IF(INTRO!$E$43=\"Non-endemic\",\" \", IF(COUNTRY_INFO!A56=0,\" \",COUNTRY_INFO!A56))","v":"Uganda"},{"$f":"IF(INTRO!$E$43=\"Non-endemic\",\" \", IF(COUNTRY_INFO!B56=0,\" \",COUNTRY_INFO!B56))","v":"EASTERN"},{"$f":"IF(INTRO!$E$43=\"Non-endemic\",\" \", IF(COUNTRY_INFO!C56=0,\" \",COUNTRY_INFO!C56))","v":"KAMULI"},{"$f":"IF(INTRO!$E$43=\"Non-endemic\", 0, IF(COUNTRY_INFO!$K56>0, IF(COUNTRY_INFO!$K56=4, 0, IF(COUNTRY_INFO!$K56=1, COUNTRY_INFO!$F56*0.33, IF(COUNTRY_INFO!$K56=2, COUNTRY_INFO!$F56*0.5, COUNTRY_INFO!$F56))), 0))","v":56267.97},{"$f":"IF(INTRO!$E$43=\"Non-endemic\", 0, IF(COUNTRY_INFO!$K56>0, IF(COUNTRY_INFO!$K56=4, 0, IF(COUNTRY_INFO!$K56=1, 0, IF(COUNTRY_INFO!$K56=2, COUNTRY_INFO!$G56*0.2, COUNTRY_INFO!$G56))), 0))","v":0},56267.97,{"$f":"IF(INTRO!$E$43=\"Non-endemic\", \"Not required\", COUNTRY_INFO!S56)","v":1},null,{"$f":"IF($D56=0,0,IF(AND($G56>0,$H56<>\"Yes\"),D56,IF(AND($G56>0,$H56=\"Yes\"),COUNTRY_INFO!$F56,0)))","v":56267.97},99399,0,99399,248497.5,0,248497.5,0,248497.5,249]
[{"$f":"IF(INTRO!$E$43=\"Non-endemic\",\" \", IF(COUNTRY_INFO!A57=0,\" \",COUNTRY_INFO!A57))","v":"Uganda"},{"$f":"IF(INTRO!$E$43=\"Non-endemic\",\" \", IF(COUNTRY_INFO!B57=0,\" \",COUNTRY_INFO!B57))","v":"WESTERN"},{"$f":"IF(INTRO!$E$43=\"Non-endemic\",\" \", IF(COUNTRY_INFO!C57=0,\" \",COUNTRY_INFO!C57))","v":"KAMWENGE"},{"$f":"IF(INTRO!$E$43=\"Non-endemic\", 0, IF(COUNTRY_INFO!$K57>0, IF(COUNTRY_INFO!$K57=4, 0, IF(COUNTRY_INFO!$K57=1, COUNTRY_INFO!$F57*0.33, IF(COUNTRY_INFO!$K57=2, COUNTRY_INFO!$F57*0.5, COUNTRY_INFO!$F57))), 0))","v":72656},{"$f":"IF(INTRO!$E$43=\"Non-endemic\", 0, IF(COUNTRY_INFO!$K57>0, IF(COUNTRY_INFO!$K57=4, 0, IF(COUNTRY_INFO!$K57=1, 0, IF(COUNTRY_INFO!$K57=2, COUNTRY_INFO!$G57*0.2, COUNTRY_INFO!$G57))), 0))","v":50137.4},122793.4,{"$f":"IF(INTRO!$E$43=\"Non-endemic\", \"Not required\", COUNTRY_INFO!S57)","v":1},null,{"$f":"IF($D57=0,0,IF(AND($G57>0,$H57<>\"Yes\"),D57,IF(AND($G57>0,$H57=\"Yes\"),COUNTRY_INFO!$F57,0)))","v":72656},7774,13412,21186,19435,40236,19435,0,19435,20]
[{"$f":"IF(INTRO!$E$43=\"Non-endemic\",\" \", IF(COUNTRY_INFO!A58=0,\" \",COUNTRY_INFO!A58))","v":"Uganda"},{"$f":"IF(INTRO!$E$43=\"Non-endemic\",\" \", IF(COUNTRY_INFO!B58=0,\" \",COUNTRY_INFO!B58))","v":"WESTERN"},{"$f":"IF(INTRO!$E$43=\"Non-endemic\",\" \", IF(COUNTRY_INFO!C58=0,\" \",COUNTRY_INFO!C58))","v":"KANUNGU"},{"$f":"IF(INTRO!$E$43=\"Non-endemic\", 0, IF(COUNTRY_INFO!$K58>0, IF(COUNTRY_INFO!$K58=4, 0, IF(COUNTRY_INFO!$K58=1, COUNTRY_INFO!$F58*0.33, IF(COUNTRY_INFO!$K58=2, COUNTRY_INFO!$F58*0.5, COUNTRY_INFO!$F58))), 0))","v":0},{"$f":"IF(INTRO!$E$43=\"Non-endemic\", 0, IF(COUNTRY_INFO!$K58>0, IF(COUNTRY_INFO!$K58=4, 0, IF(COUNTRY_INFO!$K58=1, 0, IF(COUNTRY_INFO!$K58=2, COUNTRY_INFO!$G58*0.2, COUNTRY_INFO!$G58))), 0))","v":0},0,{"$f":"IF(INTRO!$E$43=\"Non-endemic\", \"Not required\", COUNTRY_INFO!S58)","v":0},null,{"$f":"IF($D58=0,0,IF(AND($G58>0,$H58<>\"Yes\"),D58,IF(AND($G58>0,$H58=\"Yes\"),COUNTRY_INFO!$F58,0)))","v":0},0,0,0,0,0,0,0,0,0]
[{"$f":"IF(INTRO!$E$43=\"Non-endemic\",\" \", IF(COUNTRY_INFO!A59=0,\" \",COUNTRY_INFO!A59))","v":"Uganda"},{"$f":"IF(INTRO!$E$43=\"Non-endemic\",\" \", IF(COUNTRY_INFO!B59=0,\" \",COUNTRY_INFO!B59))","v":"EASTERN"},{"$f":"IF(INTRO!$E$43=\"Non-endemic\",\" \", IF(COUNTRY_INFO!C59=0,\" \",COUNTRY_INFO!C59))","v":"KAPCHORWA"},{"$f":"IF(INTRO!$E$43=\"Non-endemic\", 0, IF(COUNTRY_INFO!$K59>0, IF(COUNTRY_INFO!$K59=4, 0, IF(COUNTRY_INFO!$K59=1, COUNTRY_INFO!$F59*0.33, IF(COUNTRY_INFO!$K59=2, COUNTRY_INFO!$F59*0.5, COUNTRY_INFO!$F59))), 0))","v":0},{"$f":"IF(INTRO!$E$43=\"Non-endemic\", 0, IF(COUNTRY_INFO!$K59>0, IF(COUNTRY_INFO!$K59=4, 0, IF(COUNTRY_INFO!$K59=1, 0, IF(COUNTRY_INFO!$K59=2, COUNTRY_INFO!$G59*0.2, COUNTRY_INFO!$G59))), 0))","v":0},0,{"$f":"IF(INTRO!$E$43=\"Non-endemic\", \"Not required\", COUNTRY_INFO!S59)","v":0},null,{"$f":"IF($D59=0,0,IF(AND($G59>0,$H59<>\"Yes\"),D59,IF(AND($G59>0,$H59=\"Yes\"),COUNTRY_INFO!$F59,0)))","v":0},0,0,0,0,0,0,0,0,0]
[{"$f":"IF(INTRO!$E$43=\"Non-endemic\",\" \", IF(COUNTRY_INFO!A60=0,\" \",COUNTRY_INFO!A60))","v":"Uganda"},{"$f":"IF(INTRO!$E$43=\"Non-endemic\",\" \", IF(COUNTRY_INFO!B60=0,\" \",COUNTRY_INFO!B60))","v":"WESTERN"},{"$f":"IF(INTRO!$E$43=\"Non-endemic\",\" \", IF(COUNTRY_INFO!C60=0,\" \",COUNTRY_INFO!C60))","v":"KASESE"},{"$f":"IF(INTRO!$E$43=\"Non-endemic\", 0, IF(COUNTRY_INFO!$K60>0, IF(COUNTRY_INFO!$K60=4, 0, IF(COUNTRY_INFO!$K60=1, COUNTRY_INFO!$F60*0.33, IF(COUNTRY_INFO!$K60=2, COUNTRY_INFO!$F60*0.5, COUNTRY_INFO!$F60))), 0))","v":243672},{"$f":"IF(INTRO!$E$43=\"Non-endemic\", 0, IF(COUNTRY_INFO!$K60>0, IF(COUNTRY_INFO!$K60=4, 0, IF(COUNTRY_INFO!$K60=1, 0, IF(COUNTRY_INFO!$K60=2, COUNTRY_INFO!$G60*0.2, COUNTRY_INFO!$G60))), 0))","v":420374},664046,{"$f":"IF(INTRO!$E$43=\"Non-endemic\", \"Not required\", COUNTRY_INFO!S60)","v":1},null,{"$f":"IF($D60=0,0,IF(AND($G60>0,$H60<>\"Yes\"),D60,IF(AND($G60>0,$H60=\"Yes\"),COUNTRY_INFO!$F60,0)))","v":243672},4226,7290,11516,10565,21870,10565,0,10565,11]
[{"$f":"IF(INTRO!$E$43=\"Non-endemic\",\" \", IF(COUNTRY_INFO!A61=0,\" \",COUNTRY_INFO!A61))","v":"Uganda"},{"$f":"IF(INTRO!$E$43=\"Non-endemic\",\" \", IF(COUNTRY_INFO!B61=0,\" \",COUNTRY_INFO!B61))","v":"EASTERN"},{"$f":"IF(INTRO!$E$43=\"Non-endemic\",\" \", IF(COUNTRY_INFO!C61=0,\" \",COUNTRY_INFO!C61))","v":"KATAKWI"},{"$f":"IF(INTRO!$E$43=\"Non-endemic\", 0, IF(COUNTRY_INFO!$K61>0, IF(COUNTRY_INFO!$K61=4, 0, IF(COUNTRY_INFO!$K61=1, COUNTRY_INFO!$F61*0.33, IF(COUNTRY_INFO!$K61=2, COUNTRY_INFO!$F61*0.5, COUNTRY_INFO!$F61))), 0))","v":19233.39},{"$f":"IF(INTRO!$E$43=\"Non-endemic\", 0, IF(COUNTRY_INFO!$K61>0, IF(COUNTRY_INFO!$K61=4, 0, IF(COUNTRY_INFO!$K61=1, 0, IF(COUNTRY_INFO!$K61=2, COUNTRY_INFO!$G61*0.2, COUNTRY_INFO!$G61))), 0))","v":0},19233.39,{"$f":"IF(INTRO!$E$43=\"Non-endemic\", \"Not required\", COUNTRY_INFO!S61)","v":1},null,{"$f":"IF($D61=0,0,IF(AND($G61>0,$H61<>\"Yes\"),D61,IF(AND($G61>0,$H61=\"Yes\"),COUNTRY_INFO!$F61,0)))","v":19233.39},19815,0,19815,49537.5,0,49537.5,0,49537.5,50]
[{"$f":"IF(INTRO!$E$43=\"Non-endemic\",\" \", IF(COUNTRY_INFO!A62=0,\" \",COUNTRY_INFO!A62))","v":"Uganda"},{"$f":"IF(INTRO!$E$43=\"Non-endemic\",\" \", IF(COUNTRY_INFO!B62=0,\" \",COUNTRY_INFO!B62))","v":"CENTRAL"},{"$f":"IF(INTRO!$E$43=\"Non-endemic\",\" \", IF(COUNTRY_INFO!C62=0,\" \",COUNTRY_INFO!C62))","v":"KAYUNGA"},{"$f":"IF(INTRO!$E$43=\"Non-endemic\", 0, IF(COUNTRY_INFO!$K62>0, IF(COUNTRY_INFO!$K62=4, 0, IF(COUNTRY_INFO!$K62=1, COUNTRY_INFO!$F62*0.33, IF(COUNTRY_INFO!$K62=2, COUNTRY_INFO!$F62*0.5, COUNTRY_INFO!$F62))), 0))","v":129046},{"$f":"IF(INTRO!$E$43=\"Non-endemic\", 0, IF(COUNTRY_INFO!$K62>0, IF(COUNTRY_INFO!$K62=4, 0, IF(COUNTRY_INFO!$K62=1, 0, IF(COUNTRY_INFO!$K62=2, COUNTRY_INFO!$G62*0.2, COUNTRY_INFO!$G62))), 0))","v":222626},351672,{"$f":"IF(INTRO!$E$43=\"Non-endemic\", \"Not required\", COUNTRY_INFO!S62)","v":1},null,{"$f":"IF($D62=0,0,IF(AND($G62>0,$H62<>\"Yes\"),D62,IF(AND($G62>0,$H62=\"Yes\"),COUNTRY_INFO!$F62,0)))","v":129046},43698,75387,119085,109245,226161,109245,0,109245,110]
[{"$f":"IF(INTRO!$E$43=\"Non-endemic\",\" \", IF(COUNTRY_INFO!A63=0,\" \",COUNTRY_INFO!A63))","v":"Uganda"},{"$f":"IF(INTRO!$E$43=\"Non-endemic\",\" \", IF(COUNTRY_INFO!B63=0,\" \",COUNTRY_INFO!B63))","v":"WESTERN"},{"$f":"IF(INTRO!$E$43=\"Non-endemic\",\" \", IF(COUNTRY_INFO!C63=0,\" \",COUNTRY_INFO!C63))","v":"KIBAALE"},{"$f":"IF(INTRO!$E$43=\"Non-endemic\", 0, IF(COUNTRY_INFO!$K63>0, IF(COUNTRY_INFO!$K63=4, 0, IF(COUNTRY_INFO!$K63=1, COUNTRY_INFO!$F63*0.33, IF(COUNTRY_INFO!$K63=2, COUNTRY_INFO!$F63*0.5, COUNTRY_INFO!$F63))), 0))","v":0},{"$f":"IF(INTRO!$E$43=\"Non-endemic\", 0, IF(COUNTRY_INFO!$K63>0, IF(COUNTRY_INFO!$K63=4, 0, IF(COUNTRY_INFO!$K63=1, 0, IF(COUNTRY_INFO!$K63=2, COUNTRY_INFO!$G63*0.2, COUNTRY_INFO!$G63))), 0))","v":0},0,{"$f":"IF(INTRO!$E$43=\"Non-endemic\", \"Not required\", COUNTRY_INFO!S63)","v":0},null,{"$f":"IF($D63=0,0,IF(AND($G63>0,$H63<>\"Yes\"),D63,IF(AND($G63>0,$H63=\"Yes\"),COUNTRY_INFO!$F63,0)))","v":0},0,0,0,0,0,0,0,0,0]
[{"$f":"IF(INTRO!$E$43=\"Non-endemic\",\" \", IF(COUNTRY_INFO!A64=0,\" \",COUNTRY_INFO!A64))","v":"Uganda"},{"$f":"IF(INTRO!$E$43=\"Non-endemic\",\" \", IF(COUNTRY_INFO!B64=0,\" \",COUNTRY_INFO!B64))","v":"CENTRAL"},{"$f":"IF(INTRO!$E$43=\"Non-endemic\",\" \", IF(COUNTRY_INFO!C64=0,\" \",COUNTRY_INFO!C64))","v":"KIBOGA"},{"$f":"IF(INTRO!$E$43=\"Non-endemic\", 0, IF(COUNTRY_INFO!$K64>0, IF(COUNTRY_INFO!$K64=4, 0, IF(COUNTRY_INFO!$K64=1, COUNTRY_INFO!$F64*0.33, IF(COUNTRY_INFO!$K64=2, COUNTRY_INFO!$F64*0.5, COUNTRY_INFO!$F64))), 0))","v":0},{"$f":"IF(INTRO!$E$43=\"Non-endemic\", 0, IF(COUNTRY_INFO!$K64>0, IF(COUNTRY_INFO!$K64=4, 0, IF(COUNTRY_INFO!$K64=1, 0, IF(COUNTRY_INFO!$K64=2, COUNTRY_INFO!$G64*0.2, COUNTRY_INFO!$G64))), 0))","v":0},0,{"$f":"IF(INTRO!$E$43=\"Non-endemic\", \"Not required\", COUNTRY_INFO!S64)","v":0},null,{"$f":"IF($D64=0,0,IF(AND($G64>0,$H64<>\"Yes\"),D64,IF(AND($G64>0,$H64=\"Yes\"),COUNTRY_INFO!$F64,0)))","v":0},0,0,0,0,0,0,0,0,0]
[{"$f":"IF(INTRO!$E$43=\"Non-endemic\",\" \", IF(COUNTRY_INFO!A65=0,\" \",COUNTRY_INFO!A65))","v":"Uganda"},{"$f":"IF(INTRO!$E$43=\"Non-endemic\",\" \", IF(COUNTRY_INFO!B65=0,\" \",COUNTRY_INFO!B65))","v":"EASTERN"},{"$f":"IF(INTRO!$E$43=\"Non-endemic\",\" \", IF(COUNTRY_INFO!C65=0,\" \",COUNTRY_INFO!C65))","v":"KIBUKU"},{"$f":"IF(INTRO!$E$43=\"Non-endemic\", 0, IF(COUNTRY_INFO!$K65>0, IF(COUNTRY_INFO!$K65=4, 0, IF(COUNTRY_INFO!$K65=1, COUNTRY_INFO!$F65*0.33, IF(COUNTRY_INFO!$K65=2, COUNTRY_INFO!$F65*0.5, COUNTRY_INFO!$F65))), 0))","v":23375.550000000003},{"$f":"IF(INTRO!$E$43=\"Non-endemic\", 0, IF(COUNTRY_INFO!$K65>0, IF(COUNTRY_INFO!$K65=4, 0, IF(COUNTRY_INFO!$K65=1, 0, IF(COUNTRY_INFO!$K65=2, COUNTRY_INFO!$G65*0.2, COUNTRY_INFO!$G65))), 0))","v":0},23375.550000000003,{"$f":"IF(INTRO!$E$43=\"Non-endemic\", \"Not required\", COUNTRY_INFO!S65)","v":1},null,{"$f":"IF($D65=0,0,IF(AND($G65>0,$H65<>\"Yes\"),D65,IF(AND($G65>0,$H65=\"Yes\"),COUNTRY_INFO!$F65,0)))","v":23375.550000000003},48131,0,48131,120327.5,0,120327.5,0,120327.5,121]
[{"$f":"IF(INTRO!$E$43=\"Non-endemic\",\" \", IF(COUNTRY_INFO!A66=0,\" \",COUNTRY_INFO!A66))","v":"Uganda"},{"$f":"IF(INTRO!$E$43=\"Non-endemic\",\" \", IF(COUNTRY_INFO!B66=0,\" \",COUNTRY_INFO!B66))","v":"WESTERN"},{"$f":"IF(INTRO!$E$43=\"Non-endemic\",\" \", IF(COUNTRY_INFO!C66=0,\" \",COUNTRY_INFO!C66))","v":"KIRUHURA"},{"$f":"IF(INTRO!$E$43=\"Non-endemic\", 0, IF(COUNTRY_INFO!$K66>0, IF(COUNTRY_INFO!$K66=4, 0, IF(COUNTRY_INFO!$K66=1, COUNTRY_INFO!$F66*0.33, IF(COUNTRY_INFO!$K66=2, COUNTRY_INFO!$F66*0.5, COUNTRY_INFO!$F66))), 0))","v":37958.910000000003},{"$f":"IF(INTRO!$E$43=\"Non-endemic\", 0, IF(COUNTRY_INFO!$K66>0, IF(COUNTRY_INFO!$K66=4, 0, IF(COUNTRY_INFO!$K66=1, 0, IF(COUNTRY_INFO!$K66=2, COUNTRY_INFO!$G66*0.2, COUNTRY_INFO!$G66))), 0))","v":0},37958.910000000003,{"$f":"IF(INTRO!$E$43=\"Non-endemic\", \"Not required\", COUNTRY_INFO!S66)","v":1},null,{"$f":"IF($D66=0,0,IF(AND($G66>0,$H66<>\"Yes\"),D66,IF(AND($G66>0,$H66=\"Yes\"),COUNTRY_INFO!$F66,0)))","v":37958.910000000003},53467,0,53467,133667.5,0,133667.5,0,133667.5,134]
[{"$f":"IF(INTRO!$E$43=\"Non-endemic\",\" \", IF(COUNTRY_INFO!A67=0,\" \",COUNTRY_INFO!A67))","v":"Uganda"},{"$f":"IF(INTRO!$E$43=\"Non-endemic\",\" \", IF(COUNTRY_INFO!B67=0,\" \",COUNTRY_INFO!B67))","v":"WESTERN"},{"$f":"IF(INTRO!$E$43=\"Non-endemic\",\" \", IF(COUNTRY_INFO!C67=0,\" \",COUNTRY_INFO!C67))","v":"KIRYANDONGO"},{"$f":"IF(INTRO!$E$43=\"Non-endemic\", 0, IF(COUNTRY_INFO!$K67>0, IF(COUNTRY_INFO!$K67=4, 0, IF(COUNTRY_INFO!$K67=1, COUNTRY_INFO!$F67*0.33, IF(COUNTRY_INFO!$K67=2, COUNTRY_INFO!$F67*0.5, COUNTRY_INFO!$F67))), 0))","v":93332},{"$f":"IF(INTRO!$E$43=\"Non-endemic\", 0, IF(COUNTRY_INFO!$K67>0, IF(COUNTRY_INFO!$K67=4, 0, IF(COUNTRY_INFO!$K67=1, 0, IF(COUNTRY_INFO!$K67=2, COUNTRY_INFO!$G67*0.2, COUNTRY_INFO!$G67))), 0))","v":161012},254344,{"$f":"IF(INTRO!$E$43=\"Non-endemic\", \"Not required\", COUNTRY_INFO!S67)","v":1},null,{"$f":"IF($D67=0,0,IF(AND($G67>0,$H67<>\"Yes\"),D67,IF(AND($G67>0,$H67=\"Yes\"),COUNTRY_INFO!$F67,0)))","v":93332},32613,56263,88876,81532.5,168789,81532.5,0,81532.5,82]
[{"$f":"IF(INTRO!$E$43=\"Non-endemic\",\" \", IF(COUNTRY_INFO!A68=0,\" \",COUNTRY_INFO!A68))","v":"Uganda"},{"$f":"IF(INTRO!$E$43=\"Non-endemic\",\" \", IF(COUNTRY_INFO!B68=0,\" \",COUNTRY_INFO!B68))","v":"WESTERN"},{"$f":"IF(INTRO!$E$43=\"Non-endemic\",\" \", IF(COUNTRY_INFO!C68=0,\" \",COUNTRY_INFO!C68))","v":"KISORO"},{"$f":"IF(INTRO!$E$43=\"Non-endemic\", 0, IF(COUNTRY_INFO!$K68>0, IF(COUNTRY_INFO!$K68=4, 0, IF(COUNTRY_INFO!$K68=1, COUNTRY_INFO!$F68*0.33, IF(COUNTRY_INFO!$K68=2, COUNTRY_INFO!$F68*0.5, COUNTRY_INFO!$F68))), 0))","v":0},{"$f":"IF(INTRO!$E$43=\"Non-endemic\", 0, IF(COUNTRY_INFO!$K68>0, IF(COUNTRY_INFO!$K68=4, 0, IF(COUNTRY_INFO!$K68=1, 0, IF(COUNTRY_INFO!$K68=2, COUNTRY_INFO!$G68*0.2, COUNTRY_INFO!$G68))), 0))","v":0},0,{"$f":"IF(INTRO!$E$43=\"Non-endemic\", \"Not required\", COUNTRY_INFO!S68)","v":0},null,{"$f":"IF($D68=0,0,IF(AND($G68>0,$H68<>\"Yes\"),D68,IF(AND($G68>0,$H68=\"Yes\"),COUNTRY_INFO!$F68,0)))","v":0},0,0,0,0,0,0,0,0,0]
[{"$f":"IF(INTRO!$E$43=\"Non-endemic\",\" \", IF(COUNTRY_INFO!A69=0,\" \",COUNTRY_INFO!A69))","v":"Uganda"},{"$f":"IF(INTRO!$E$43=\"Non-endemic\",\" \", IF(COUNTRY_INFO!B69=0,\" \",COUNTRY_INFO!B69))","v":"NORTHERN"},{"$f":"IF(INTRO!$E$43=\"Non-endemic\",\" \", IF(COUNTRY_INFO!C69=0,\" \",COUNTRY_INFO!C69))","v":"KITGUM"},{"$f":"IF(INTRO!$E$43=\"Non-endemic\", 0, IF(COUNTRY_INFO!$K69>0, IF(COUNTRY_INFO!$K69=4, 0, IF(COUNTRY_INFO!$K69=1, COUNTRY_INFO!$F69*0.33, IF(COUNTRY_INFO!$K69=2, COUNTRY_INFO!$F69*0.5, COUNTRY_INFO!$F69))), 0))","v":71542},{"$f":"IF(INTRO!$E$43=\"Non-endemic\", 0, IF(COUNTRY_INFO!$K69>0, IF(COUNTRY_INFO!$K69=4, 0, IF(COUNTRY_INFO!$K69=1, 0, IF(COUNTRY_INFO!$K69=2, COUNTRY_INFO!$G69*0.2, COUNTRY_INFO!$G69))), 0))","v":123421},194963,{"$f":"IF(INTRO!$E$43=\"Non-endemic\", \"Not required\", COUNTRY_INFO!S69)","v":1},"Yes",{"$f":"IF($D69=0,0,IF(AND($G69>0,$H69<>\"Yes\"),D69,IF(AND($G69>0,$H69=\"Yes\"),COUNTRY_INFO!$F69,0)))","v":71542},73688,127124,200812,184220,381372,184220,0,184220,185]
[{"$f":"IF(INTRO!$E$43=\"Non-endemic\",\" \", IF(COUNTRY_INFO!A70=0,\" \",COUNTRY_INFO!A70))","v":"Uganda"},{"$f":"IF(INTRO!$E$43=\"Non-endemic\",\" \", IF(COUNTRY_INFO!B70=0,\" \",COUNTRY_INFO!B70))","v":"NORTHERN"},{"$f":"IF(INTRO!$E$43=\"Non-endemic\",\" \", IF(COUNTRY_INFO!C70=0,\" \",COUNTRY_INFO!C70))","v":"KOBOKO"},{"$f":"IF(INTRO!$E$43=\"Non-endemic\", 0, IF(COUNTRY_INFO!$K70>0, IF(COUNTRY_INFO!$K70=4, 0, IF(COUNTRY_INFO!$K70=1, COUNTRY_INFO!$F70*0.33, IF(COUNTRY_INFO!$K70=2, COUNTRY_INFO!$F70*0.5, COUNTRY_INFO!$F70))), 0))","v":72399},{"$f":"IF(INTRO!$E$43=\"Non-endemic\", 0, IF(COUNTRY_INFO!$K70>0, IF(COUNTRY_INFO!$K70=4, 0, IF(COUNTRY_INFO!$K70=1, 0, IF(COUNTRY_INFO!$K70=2, COUNTRY_INFO!$G70*0.2, COUNTRY_INFO!$G70))), 0))","v":124901},197300,{"$f":"IF(INTRO!$E$43=\"Non-endemic\", \"Not required\", COUNTRY_INFO!S70)","v":1},null,{"$f":"IF($D70=0,0,IF(AND($G70>0,$H70<>\"Yes\"),D70,IF(AND($G70>0,$H70=\"Yes\"),COUNTRY_INFO!$F70,0)))","v":72399},23289,40178,63467,58222.5,120534,58222.5,0,58222.5,59]
[{"$f":"IF(INTRO!$E$43=\"Non-endemic\",\" \", IF(COUNTRY_INFO!A71=0,\" \",COUNTRY_INFO!A71))","v":"Uganda"},{"$f":"IF(INTRO!$E$43=\"Non-endemic\",\" \", IF(COUNTRY_INFO!B71=0,\" \",COUNTRY_INFO!B71))","v":"NORTHERN"},{"$f":"IF(INTRO!$E$43=\"Non-endemic\",\" \", IF(COUNTRY_INFO!C71=0,\" \",COUNTRY_INFO!C71))","v":"KOLE"},{"$f":"IF(INTRO!$E$43=\"Non-endemic\", 0, IF(COUNTRY_INFO!$K71>0, IF(COUNTRY_INFO!$K71=4, 0, IF(COUNTRY_INFO!$K71=1, COUNTRY_INFO!$F71*0.33, IF(COUNTRY_INFO!$K71=2, COUNTRY_INFO!$F71*0.5, COUNTRY_INFO!$F71))), 0))","v":0},{"$f":"IF(INTRO!$E$43=\"Non-endemic\", 0, IF(COUNTRY_INFO!$K71>0, IF(COUNTRY_INFO!$K71=4, 0, IF(COUNTRY_INFO!$K71=1, 0, IF(COUNTRY_INFO!$K71=2, COUNTRY_INFO!$G71*0.2, COUNTRY_INFO!$G71))), 0))","v":0},0,{"$f":"IF(INTRO!$E$43=\"Non-endemic\", \"Not required\", COUNTRY_INFO!S71)","v":0},null,{"$f":"IF($D71=0,0,IF(AND($G71>0,$H71<>\"Yes\"),D71,IF(AND($G71>0,$H71=\"Yes\"),COUNTRY_INFO!$F71,0)))","v":0},0,0,0,0,0,0,0,0,0]
[{"$f":"IF(INTRO!$E$43=\"Non-endemic\",\" \", IF(COUNTRY_INFO!A72=0,\" \",COUNTRY_INFO!A72))","v":"Uganda"},{"$f":"IF(INTRO!$E$43=\"Non-endemic\",\" \", IF(COUNTRY_INFO!B72=0,\" \",COUNTRY_INFO!B72))","v":"NORTHERN"},{"$f":"IF(INTRO!$E$43=\"Non-endemic\",\" \", IF(COUNTRY_INFO!C72=0,\" \",COUNTRY_INFO!C72))","v":"KOTIDO"},{"$f":"IF(INTRO!$E$43=\"Non-endemic\", 0, IF(COUNTRY_INFO!$K72>0, IF(COUNTRY_INFO!$K72=4, 0, IF(COUNTRY_INFO!$K72=1, COUNTRY_INFO!$F72*0.33, IF(COUNTRY_INFO!$K72=2, COUNTRY_INFO!$F72*0.5, COUNTRY_INFO!$F72))), 0))","v":0},{"$f":"IF(INTRO!$E$43=\"Non-endemic\", 0, IF(COUNTRY_INFO!$K72>0, IF(COUNTRY_INFO!$K72=4, 0, IF(COUNTRY_INFO!$K72=1, 0, IF(COUNTRY_INFO!$K72=2, COUNTRY_INFO!$G72*0.2, COUNTRY_INFO!$G72))), 0))","v":0},0,{"$f":"IF(INTRO!$E$43=\"Non-endemic\", \"Not required\", COUNTRY_INFO!S72)","v":0},null,{"$f":"IF($D72=0,0,IF(AND($G72>0,$H72<>\"Yes\"),D72,IF(AND($G72>0,$H72=\"Yes\"),COUNTRY_INFO!$F72,0)))","v":0},0,0,0,0,0,0,0,0,0]
[{"$f":"IF(INTRO!$E$43=\"Non-endemic\",\" \", IF(COUNTRY_INFO!A73=0,\" \",COUNTRY_INFO!A73))","v":"Uganda"},{"$f":"IF(INTRO!$E$43=\"Non-endemic\",\" \", IF(COUNTRY_INFO!B73=0,\" \",COUNTRY_INFO!B73))","v":"EASTERN"},{"$f":"IF(INTRO!$E$43=\"Non-endemic\",\" \", IF(COUNTRY_INFO!C73=0,\" \",COUNTRY_INFO!C73))","v":"KUMI"},{"$f":"IF(INTRO!$E$43=\"Non-endemic\", 0, IF(COUNTRY_INFO!$K73>0, IF(COUNTRY_INFO!$K73=4, 0, IF(COUNTRY_INFO!$K73=1, COUNTRY_INFO!$F73*0.33, IF(COUNTRY_INFO!$K73=2, COUNTRY_INFO!$F73*0.5, COUNTRY_INFO!$F73))), 0))","v":27683.7},{"$f":"IF(INTRO!$E$43=\"Non-endemic\", 0, IF(COUNTRY_INFO!$K73>0, IF(COUNTRY_INFO!$K73=4, 0, IF(COUNTRY_INFO!$K73=1, 0, IF(COUNTRY_INFO!$K73=2, COUNTRY_INFO!$G73*0.2, COUNTRY_INFO!$G73))), 0))","v":0},{"$f":"SUM(D73:E73)","v":27683.7},{"$f":"IF(INTRO!$E$43=\"Non-endemic\", \"Not required\", COUNTRY_INFO!S73)","v":1},null,{"$f":"IF($D73=0,0,IF(AND($G73>0,$H73<>\"Yes\"),D73,IF(AND($G73>0,$H73=\"Yes\"),COUNTRY_INFO!$F73,0)))","v":27683.7},45164,0,{"$f":"IF($J73=0,SUM(I73,K73),SUM(J73,K73))","v":45164},{"$f":"IF($J73=0,$I73*2.5,$J73*2.5)","v":112910},{"$f":"$K73*3","v":0},{"$f":"M73","v":112910},0,{"$f":"IF($O73>$P73,O73-P73,0)","v":112910},{"$f":"ROUNDUP($O73/1000,0)","v":113}]
[{"$f":"IF(INTRO!$E$43=\"Non-endemic\",\" \", IF(COUNTRY_INFO!A74=0,\" \",COUNTRY_INFO!A74))","v":"Uganda"},{"$f":"IF(INTRO!$E$43=\"Non-endemic\",\" \", IF(COUNTRY_INFO!B74=0,\" \",COUNTRY_INFO!B74))","v":"EASTERN"},{"$f":"IF(INTRO!$E$43=\"Non-endemic\",\" \", IF(COUNTRY_INFO!C74=0,\" \",COUNTRY_INFO!C74))","v":"KWEEN"},{"$f":"IF(INTRO!$E$43=\"Non-endemic\", 0, IF(COUNTRY_INFO!$K74>0, IF(COUNTRY_INFO!$K74=4, 0, IF(COUNTRY_INFO!$K74=1, COUNTRY_INFO!$F74*0.33, IF(COUNTRY_INFO!$K74=2, COUNTRY_INFO!$F74*0.5, COUNTRY_INFO!$F74))), 0))","v":10837.53},{"$f":"IF(INTRO!$E$43=\"Non-endemic\", 0, IF(COUNTRY_INFO!$K74>0, IF(COUNTRY_INFO!$K74=4, 0, IF(COUNTRY_INFO!$K74=1, 0, IF(COUNTRY_INFO!$K74=2, COUNTRY_INFO!$G74*0.2, COUNTRY_INFO!$G74))), 0))","v":0},10837.53,{"$f":"IF(INTRO!$E$43=\"Non-endemic\", \"Not required\", COUNTRY_INFO!S74)","v":1},null,{"$f":"IF($D74=0,0,IF(AND($G74>0,$H74<>\"Yes\"),D74,IF(AND($G74>0,$H74=\"Yes\"),COUNTRY_INFO!$F74,0)))","v":10837.53},3425,0,3425,8562.5,0,8562.5,0,8562.5,9]
[{"$f":"IF(INTRO!$E$43=\"Non-endemic\",\" \", IF(COUNTRY_INFO!A75=0,\" \",COUNTRY_INFO!A75))","v":"Uganda"},{"$f":"IF(INTRO!$E$43=\"Non-endemic\",\" \", IF(COUNTRY_INFO!B75=0,\" \",COUNTRY_INFO!B75))","v":"CENTRAL"},{"$f":"IF(INTRO!$E$43=\"Non-endemic\",\" \", IF(COUNTRY_INFO!C75=0,\" \",COUNTRY_INFO!C75))","v":"KYANKWANZI"},{"$f":"IF(INTRO!$E$43=\"Non-endemic\", 0, IF(COUNTRY_INFO!$K75>0, IF(COUNTRY_INFO!$K75=4, 0, IF(COUNTRY_INFO!$K75=1, COUNTRY_INFO!$F75*0.33, IF(COUNTRY_INFO!$K75=2, COUNTRY_INFO!$F75*0.5, COUNTRY_INFO!$F75))), 0))","v":0},{"$f":"IF(INTRO!$E$43=\"Non-endemic\", 0, IF(COUNTRY_INFO!$K75>0, IF(COUNTRY_INFO!$K75=4, 0, IF(COUNTRY_INFO!$K75=1, 0, IF(COUNTRY_INFO!$K75=2, COUNTRY_INFO!$G75*0.2, COUNTRY_INFO!$G75))), 0))","v":0},0,{"$f":"IF(INTRO!$E$43=\"Non-endemic\", \"Not required\", COUNTRY_INFO!S75)","v":0},null,{"$f":"IF($D75=0,0,IF(AND($G75>0,$H75<>\"Yes\"),D75,IF(AND($G75>0,$H75=\"Yes\"),COUNTRY_INFO!$F75,0)))","v":0},0,0,0,0,0,0,0,0,0]
[{"$f":"IF(INTRO!$E$43=\"Non-endemic\",\" \", IF(COUNTRY_INFO!A76=0,\" \",COUNTRY_INFO!A76))","v":"Uganda"},{"$f":"IF(INTRO!$E$43=\"Non-endemic\",\" \", IF(COUNTRY_INFO!B76=0,\" \",COUNTRY_INFO!B76))","v":"WESTERN"},{"$f":"IF(INTRO!$E$43=\"Non-endemic\",\" \", IF(COUNTRY_INFO!C76=0,\" \",COUNTRY_INFO!C76))","v":"KYEGEGWA"},{"$f":"IF(INTRO!$E$43=\"Non-endemic\", 0, IF(COUNTRY_INFO!$K76>0, IF(COUNTRY_INFO!$K76=4, 0, IF(COUNTRY_INFO!$K76=1, COUNTRY_INFO!$F76*0.33, IF(COUNTRY_INFO!$K76=2, COUNTRY_INFO!$F76*0.5, COUNTRY_INFO!$F76))), 0))","v":0},{"$f":"IF(INTRO!$E$43=\"Non-endemic\", 0, IF(COUNTRY_INFO!$K76>0, IF(COUNTRY_INFO!$K76=4, 0, IF(COUNTRY_INFO!$K76=1, 0, IF(COUNTRY_INFO!$K76=2, COUNTRY_INFO!$G76*0.2, COUNTRY_INFO!$G76))), 0))","v":0},0,{"$f":"IF(INTRO!$E$43=\"Non-endemic\", \"Not required\", COUNTRY_INFO!S76)","v":0},null,{"$f":"IF($D76=0,0,IF(AND($G76>0,$H76<>\"Yes\"),D76,IF(AND($G76>0,$H76=\"Yes\"),COUNTRY_INFO!$F76,0)))","v":0},0,0,0,0,0,0,0,0,0]
[{"$f":"IF(INTRO!$E$43=\"Non-endemic\",\" \", IF(COUNTRY_INFO!A77=0,\" \",COUNTRY_INFO!A77))","v":"Uganda"},{"$f":"IF(INTRO!$E$43=\"Non-endemic\",\" \", IF(COUNTRY_INFO!B77=0,\" \",COUNTRY_INFO!B77))","v":"WESTERN"},{"$f":"IF(INTRO!$E$43=\"Non-endemic\",\" \", IF(COUNTRY_INFO!C77=0,\" \",COUNTRY_INFO!C77))","v":"KYENJOJO"},{"$f":"IF(INTRO!$E$43=\"Non-endemic\", 0, IF(COUNTRY_INFO!$K77>0, IF(COUNTRY_INFO!$K77=4, 0, IF(COUNTRY_INFO!$K77=1, COUNTRY_INFO!$F77*0.33, IF(COUNTRY_INFO!$K77=2, COUNTRY_INFO!$F77*0.5, COUNTRY_INFO!$F77))), 0))","v":0},{"$f":"IF(INTRO!$E$43=\"Non-endemic\", 0, IF(COUNTRY_INFO!$K77>0, IF(COUNTRY_INFO!$K77=4, 0, IF(COUNTRY_INFO!$K77=1, 0, IF(COUNTRY_INFO!$K77=2, COUNTRY_INFO!$G77*0.2, COUNTRY_INFO!$G77))), 0))","v":0},0,{"$f":"IF(INTRO!$E$43=\"Non-endemic\", \"Not required\", COUNTRY_INFO!S77)","v":0},null,{"$f":"IF($D77=0,0,IF(AND($G77>0,$H77<>\"Yes\"),D77,IF(AND($G77>0,$H77=\"Yes\"),COUNTRY_INFO!$F77,0)))","v":0},0,0,0,0,0,0,0,0,0]
[{"$f":"IF(INTRO!$E$43=\"Non-endemic\",\" \", IF(COUNTRY_INFO!A78=0,\" \",COUNTRY_INFO!A78))","v":"Uganda"},{"$f":"IF(INTRO!$E$43=\"Non-endemic\",\" \", IF(COUNTRY_INFO!B78=0,\" \",COUNTRY_INFO!B78))","v":"Central"},{"$f":"IF(INTRO!$E$43=\"Non-endemic\",\" \", IF(COUNTRY_INFO!C78=0,\" \",COUNTRY_INFO!C78))","v":"KYOTERA"},{"$f":"IF(INTRO!$E$43=\"Non-endemic\", 0, IF(COUNTRY_INFO!$K78>0, IF(COUNTRY_INFO!$K78=4, 0, IF(COUNTRY_INFO!$K78=1, COUNTRY_INFO!$F78*0.33, IF(COUNTRY_INFO!$K78=2, COUNTRY_INFO!$F78*0.5, COUNTRY_INFO!$F78))), 0))","v":18804.72},{"$f":"IF(INTRO!$E$43=\"Non-endemic\", 0, IF(COUNTRY_INFO!$K78>0, IF(COUNTRY_INFO!$K78=4, 0, IF(COUNTRY_INFO!$K78=1, 0, IF(COUNTRY_INFO!$K78=2, COUNTRY_INFO!$G78*0.2, COUNTRY_INFO!$G78))), 0))","v":0},18804.72,{"$f":"IF(INTRO!$E$43=\"Non-endemic\", \"Not required\", COUNTRY_INFO!S78)","v":1},null,{"$f":"IF($D78=0,0,IF(AND($G78>0,$H78<>\"Yes\"),D78,IF(AND($G78>0,$H78=\"Yes\"),COUNTRY_INFO!$F78,0)))","v":18804.72},22129,0,22129,55322.5,0,55322.5,0,55322.5,56]
[{"$f":"IF(INTRO!$E$43=\"Non-endemic\",\" \", IF(COUNTRY_INFO!A79=0,\" \",COUNTRY_INFO!A79))","v":"Uganda"},{"$f":"IF(INTRO!$E$43=\"Non-endemic\",\" \", IF(COUNTRY_INFO!B79=0,\" \",COUNTRY_INFO!B79))","v":"NORTHERN"},{"$f":"IF(INTRO!$E$43=\"Non-endemic\",\" \", IF(COUNTRY_INFO!C79=0,\" \",COUNTRY_INFO!C79))","v":"LAMWO"},{"$f":"IF(INTRO!$E$43=\"Non-endemic\", 0, IF(COUNTRY_INFO!$K79>0, IF(COUNTRY_INFO!$K79=4, 0, IF(COUNTRY_INFO!$K79=1, COUNTRY_INFO!$F79*0.33, IF(COUNTRY_INFO!$K79=2, COUNTRY_INFO!$F79*0.5, COUNTRY_INFO!$F79))), 0))","v":15705.36},{"$f":"IF(INTRO!$E$43=\"Non-endemic\", 0, IF(COUNTRY_INFO!$K79>0, IF(COUNTRY_INFO!$K79=4, 0, IF(COUNTRY_INFO!$K79=1, 0, IF(COUNTRY_INFO!$K79=2, COUNTRY_INFO!$G79*0.2, COUNTRY_INFO!$G79))), 0))","v":0},15705.36,{"$f":"IF(INTRO!$E$43=\"Non-endemic\", \"Not required\", COUNTRY_INFO!S79)","v":1},"Yes",{"$f":"IF($D79=0,0,IF(AND($G79>0,$H79<>\"Yes\"),D79,IF(AND($G79>0,$H79=\"Yes\"),COUNTRY_INFO!$F79,0)))","v":47592},47271,0,47271,118177.5,0,118177.5,0,118177.5,119]
[{"$f":"IF(INTRO!$E$43=\"Non-endemic\",\" \", IF(COUNTRY_INFO!A80=0,\" \",COUNTRY_INFO!A80))","v":"Uganda"},{"$f":"IF(INTRO!$E$43=\"Non-endemic\",\" \", IF(COUNTRY_INFO!B80=0,\" \",COUNTRY_INFO!B80))","v":"NORTHERN"},{"$f":"IF(INTRO!$E$43=\"Non-endemic\",\" \", IF(COUNTRY_INFO!C80=0,\" \",COUNTRY_INFO!C80))","v":"LIRA"},{"$f":"IF(INTRO!$E$43=\"Non-endemic\", 0, IF(COUNTRY_INFO!$K80>0, IF(COUNTRY_INFO!$K80=4, 0, IF(COUNTRY_INFO!$K80=1, COUNTRY_INFO!$F80*0.33, IF(COUNTRY_INFO!$K80=2, COUNTRY_INFO!$F80*0.5, COUNTRY_INFO!$F80))), 0))","v":143064},{"$f":"IF(INTRO!$E$43=\"Non-endemic\", 0, IF(COUNTRY_INFO!$K80>0, IF(COUNTRY_INFO!$K80=4, 0, IF(COUNTRY_INFO!$K80=1, 0, IF(COUNTRY_INFO!$K80=2, COUNTRY_INFO!$G80*0.2, COUNTRY_INFO!$G80))), 0))","v":246810},389874,{"$f":"IF(INTRO!$E$43=\"Non-endemic\", \"Not required\", COUNTRY_INFO!S80)","v":1},"Yes",{"$f":"IF($D80=0,0,IF(AND($G80>0,$H80<>\"Yes\"),D80,IF(AND($G80>0,$H80=\"Yes\"),COUNTRY_INFO!$F80,0)))","v":143064},43348,74783,118131,108370,224349,108370,0,108370,109]
[{"$f":"IF(INTRO!$E$43=\"Non-endemic\",\" \", IF(COUNTRY_INFO!A81=0,\" \",COUNTRY_INFO!A81))","v":"Uganda"},{"$f":"IF(INTRO!$E$43=\"Non-endemic\",\" \", IF(COUNTRY_INFO!B81=0,\" \",COUNTRY_INFO!B81))","v":"EASTERN"},{"$f":"IF(INTRO!$E$43=\"Non-endemic\",\" \", IF(COUNTRY_INFO!C81=0,\" \",COUNTRY_INFO!C81))","v":"LUUKA"},{"$f":"IF(INTRO!$E$43=\"Non-endemic\", 0, IF(COUNTRY_INFO!$K81>0, IF(COUNTRY_INFO!$K81=4, 0, IF(COUNTRY_INFO!$K81=1, COUNTRY_INFO!$F81*0.33, IF(COUNTRY_INFO!$K81=2, COUNTRY_INFO!$F81*0.5, COUNTRY_INFO!$F81))), 0))","v":27539.49},{"$f":"IF(INTRO!$E$43=\"Non-endemic\", 0, IF(COUNTRY_INFO!$K81>0, IF(COUNTRY_INFO!$K81=4, 0, IF(COUNTRY_INFO!$K81=1, 0, IF(COUNTRY_INFO!$K81=2, COUNTRY_INFO!$G81*0.2, COUNTRY_INFO!$G81))), 0))","v":0},27539.49,{"$f":"IF(INTRO!$E$43=\"Non-endemic\", \"Not required\", COUNTRY_INFO!S81)","v":1},"Yes",{"$f":"IF($D81=0,0,IF(AND($G81>0,$H81<>\"Yes\"),D81,IF(AND($G81>0,$H81=\"Yes\"),COUNTRY_INFO!$F81,0)))","v":83453},83729,0,83729,209322.5,0,209322.5,0,209322.5,210]
[{"$f":"IF(INTRO!$E$43=\"Non-endemic\",\" \", IF(COUNTRY_INFO!A82=0,\" \",COUNTRY_INFO!A82))","v":"Uganda"},{"$f":"IF(INTRO!$E$43=\"Non-endemic\",\" \", IF(COUNTRY_INFO!B82=0,\" \",COUNTRY_INFO!B82))","v":"CENTRAL"},{"$f":"IF(INTRO!$E$43=\"Non-endemic\",\" \", IF(COUNTRY_INFO!C82=0,\" \",COUNTRY_INFO!C82))","v":"LUWERO"},{"$f":"IF(INTRO!$E$43=\"Non-endemic\", 0, IF(COUNTRY_INFO!$K82>0, IF(COUNTRY_INFO!$K82=4, 0, IF(COUNTRY_INFO!$K82=1, COUNTRY_INFO!$F82*0.33, IF(COUNTRY_INFO!$K82=2, COUNTRY_INFO!$F82*0.5, COUNTRY_INFO!$F82))), 0))","v":0},{"$f":"IF(INTRO!$E$43=\"Non-endemic\", 0, IF(COUNTRY_INFO!$K82>0, IF(COUNTRY_INFO!$K82=4, 0, IF(COUNTRY_INFO!$K82=1, 0, IF(COUNTRY_INFO!$K82=2, COUNTRY_INFO!$G82*0.2, COUNTRY_INFO!$G82))), 0))","v":0},0,{"$f":"IF(INTRO!$E$43=\"Non-endemic\", \"Not required\", COUNTRY_INFO!S82)","v":0},null,{"$f":"IF($D82=0,0,IF(AND($G82>0,$H82<>\"Yes\"),D82,IF(AND($G82>0,$H82=\"Yes\"),COUNTRY_INFO!$F82,0)))","v":0},0,0,0,0,0,0,0,0,0]
[{"$f":"IF(INTRO!$E$43=\"Non-endemic\",\" \", IF(COUNTRY_INFO!A83=0,\" \",COUNTRY_INFO!A83))","v":"Uganda"},{"$f":"IF(INTRO!$E$43=\"Non-endemic\",\" \", IF(COUNTRY_INFO!B83=0,\" \",COUNTRY_INFO!B83))","v":"CENTRAL"},{"$f":"IF(INTRO!$E$43=\"Non-endemic\",\" \", IF(COUNTRY_INFO!C83=0,\" \",COUNTRY_INFO!C83))","v":"LWENGO"},{"$f":"IF(INTRO!$E$43=\"Non-endemic\", 0, IF(COUNTRY_INFO!$K83>0, IF(COUNTRY_INFO!$K83=4, 0, IF(COUNTRY_INFO!$K83=1, COUNTRY_INFO!$F83*0.33, IF(COUNTRY_INFO!$K83=2, COUNTRY_INFO!$F83*0.5, COUNTRY_INFO!$F83))), 0))","v":0},{"$f":"IF(INTRO!$E$43=\"Non-endemic\", 0, IF(COUNTRY_INFO!$K83>0, IF(COUNTRY_INFO!$K83=4, 0, IF(COUNTRY_INFO!$K83=1, 0, IF(COUNTRY_INFO!$K83=2, COUNTRY_INFO!$G83*0.2, COUNTRY_INFO!$G83))), 0))","v":0},0,{"$f":"IF(INTRO!$E$43=\"Non-endemic\", \"Not required\", COUNTRY_INFO!S83)","v":0},null,{"$f":"IF($D83=0,0,IF(AND($G83>0,$H83<>\"Yes\"),D83,IF(AND($G83>0,$H83=\"Yes\"),COUNTRY_INFO!$F83,0)))","v":0},0,0,0,0,0,0,0,0,0]
[{"$f":"IF(INTRO!$E$43=\"Non-endemic\",\" \", IF(COUNTRY_INFO!A84=0,\" \",COUNTRY_INFO!A84))","v":"Uganda"},{"$f":"IF(INTRO!$E$43=\"Non-endemic\",\" \", IF(COUNTRY_INFO!B84=0,\" \",COUNTRY_INFO!B84))","v":"CENTRAL"},{"$f":"IF(INTRO!$E$43=\"Non-endemic\",\" \", IF(COUNTRY_INFO!C84=0,\" \",COUNTRY_INFO!C84))","v":"LYANTONDE"},{"$f":"IF(INTRO!$E$43=\"Non-endemic\", 0, IF(COUNTRY_INFO!$K84>0, IF(COUNTRY_INFO!$K84=4, 0, IF(COUNTRY_INFO!$K84=1, COUNTRY_INFO!$F84*0.33, IF(COUNTRY_INFO!$K84=2, COUNTRY_INFO!$F84*0.5, COUNTRY_INFO!$F84))), 0))","v":0},{"$f":"IF(INTRO!$E$43=\"Non-endemic\", 0, IF(COUNTRY_INFO!$K84>0, IF(COUNTRY_INFO!$K84=4, 0, IF(COUNTRY_INFO!$K84=1, 0, IF(COUNTRY_INFO!$K84=2, COUNTRY_INFO!$G84*0.2, COUNTRY_INFO!$G84))), 0))","v":0},0,{"$f":"IF(INTRO!$E$43=\"Non-endemic\", \"Not required\", COUNTRY_INFO!S84)","v":0},null,{"$f":"IF($D84=0,0,IF(AND($G84>0,$H84<>\"Yes\"),D84,IF(AND($G84>0,$H84=\"Yes\"),COUNTRY_INFO!$F84,0)))","v":0},0,0,0,0,0,0,0,0,0]
[{"$f":"IF(INTRO!$E$43=\"Non-endemic\",\" \", IF(COUNTRY_INFO!A85=0,\" \",COUNTRY_INFO!A85))","v":"Uganda"},{"$f":"IF(INTRO!$E$43=\"Non-endemic\",\" \", IF(COUNTRY_INFO!B85=0,\" \",COUNTRY_INFO!B85))","v":"EASTERN"},{"$f":"IF(INTRO!$E$43=\"Non-endemic\",\" \", IF(COUNTRY_INFO!C85=0,\" \",COUNTRY_INFO!C85))","v":"MANAFWA"},{"$f":"IF(INTRO!$E$43=\"Non-endemic\", 0, IF(COUNTRY_INFO!$K85>0, IF(COUNTRY_INFO!$K85=4, 0, IF(COUNTRY_INFO!$K85=1, COUNTRY_INFO!$F85*0.33, IF(COUNTRY_INFO!$K85=2, COUNTRY_INFO!$F85*0.5, COUNTRY_INFO!$F85))), 0))","v":22515.9},{"$f":"IF(INTRO!$E$43=\"Non-endemic\", 0, IF(COUNTRY_INFO!$K85>0, IF(COUNTRY_INFO!$K85=4, 0, IF(COUNTRY_INFO!$K85=1, 0, IF(COUNTRY_INFO!$K85=2, COUNTRY_INFO!$G85*0.2, COUNTRY_INFO!$G85))), 0))","v":0},22515.9,{"$f":"IF(INTRO!$E$43=\"Non-endemic\", \"Not required\", COUNTRY_INFO!S85)","v":1},null,{"$f":"IF($D85=0,0,IF(AND($G85>0,$H85<>\"Yes\"),D85,IF(AND($G85>0,$H85=\"Yes\"),COUNTRY_INFO!$F85,0)))","v":22515.9},7896,0,7896,19740,0,19740,0,19740,20]
[{"$f":"IF(INTRO!$E$43=\"Non-endemic\",\" \", IF(COUNTRY_INFO!A86=0,\" \",COUNTRY_INFO!A86))","v":"Uganda"},{"$f":"IF(INTRO!$E$43=\"Non-endemic\",\" \", IF(COUNTRY_INFO!B86=0,\" \",COUNTRY_INFO!B86))","v":"NORTHERN"},{"$f":"IF(INTRO!$E$43=\"Non-endemic\",\" \", IF(COUNTRY_INFO!C86=0,\" \",COUNTRY_INFO!C86))","v":"MARACHA"},{"$f":"IF(INTRO!$E$43=\"Non-endemic\", 0, IF(COUNTRY_INFO!$K86>0, IF(COUNTRY_INFO!$K86=4, 0, IF(COUNTRY_INFO!$K86=1, COUNTRY_INFO!$F86*0.33, IF(COUNTRY_INFO!$K86=2, COUNTRY_INFO!$F86*0.5, COUNTRY_INFO!$F86))), 0))","v":21536.13},{"$f":"IF(INTRO!$E$43=\"Non-endemic\", 0, IF(COUNTRY_INFO!$K86>0, IF(COUNTRY_INFO!$K86=4, 0, IF(COUNTRY_INFO!$K86=1, 0, IF(COUNTRY_INFO!$K86=2, COUNTRY_INFO!$G86*0.2, COUNTRY_INFO!$G86))), 0))","v":0},21536.13,{"$f":"IF(INTRO!$E$43=\"Non-endemic\", \"Not required\", COUNTRY_INFO!S86)","v":1},"Yes",{"$f":"IF($D86=0,0,IF(AND($G86>0,$H86<>\"Yes\"),D86,IF(AND($G86>0,$H86=\"Yes\"),COUNTRY_INFO!$F86,0)))","v":65261},65477,0,65477,163692.5,0,163692.5,0,163692.5,164]
[{"$f":"IF(INTRO!$E$43=\"Non-endemic\",\" \", IF(COUNTRY_INFO!A87=0,\" \",COUNTRY_INFO!A87))","v":"Uganda"},{"$f":"IF(INTRO!$E$43=\"Non-endemic\",\" \", IF(COUNTRY_INFO!B87=0,\" \",COUNTRY_INFO!B87))","v":"CENTRAL"},{"$f":"IF(INTRO!$E$43=\"Non-endemic\",\" \", IF(COUNTRY_INFO!C87=0,\" \",COUNTRY_INFO!C87))","v":"MASAKA"},{"$f":"IF(INTRO!$E$43=\"Non-endemic\", 0, IF(COUNTRY_INFO!$K87>0, IF(COUNTRY_INFO!$K87=4, 0, IF(COUNTRY_INFO!$K87=1, COUNTRY_INFO!$F87*0.33, IF(COUNTRY_INFO!$K87=2, COUNTRY_INFO!$F87*0.5, COUNTRY_INFO!$F87))), 0))","v":104133},{"$f":"IF(INTRO!$E$43=\"Non-endemic\", 0, IF(COUNTRY_INFO!$K87>0, IF(COUNTRY_INFO!$K87=4, 0, IF(COUNTRY_INFO!$K87=1, 0, IF(COUNTRY_INFO!$K87=2, COUNTRY_INFO!$G87*0.2, COUNTRY_INFO!$G87))), 0))","v":179647},283780,{"$f":"IF(INTRO!$E$43=\"Non-endemic\", \"Not required\", COUNTRY_INFO!S87)","v":1},null,{"$f":"IF($D87=0,0,IF(AND($G87>0,$H87<>\"Yes\"),D87,IF(AND($G87>0,$H87=\"Yes\"),COUNTRY_INFO!$F87,0)))","v":104133},20085,34650,54735,50212.5,103950,50212.5,0,50212.5,51]
[{"$f":"IF(INTRO!$E$43=\"Non-endemic\",\" \", IF(COUNTRY_INFO!A88=0,\" \",COUNTRY_INFO!A88))","v":"Uganda"},{"$f":"IF(INTRO!$E$43=\"Non-endemic\",\" \", IF(COUNTRY_INFO!B88=0,\" \",COUNTRY_INFO!B88))","v":"WESTERN"},{"$f":"IF(INTRO!$E$43=\"Non-endemic\",\" \", IF(COUNTRY_INFO!C88=0,\" \",COUNTRY_INFO!C88))","v":"MASINDI"},{"$f":"IF(INTRO!$E$43=\"Non-endemic\", 0, IF(COUNTRY_INFO!$K88>0, IF(COUNTRY_INFO!$K88=4, 0, IF(COUNTRY_INFO!$K88=1, COUNTRY_INFO!$F88*0.33, IF(COUNTRY_INFO!$K88=2, COUNTRY_INFO!$F88*0.5, COUNTRY_INFO!$F88))), 0))","v":0},{"$f":"IF(INTRO!$E$43=\"Non-endemic\", 0, IF(COUNTRY_INFO!$K88>0, IF(COUNTRY_INFO!$K88=4, 0, IF(COUNTRY_INFO!$K88=1, 0, IF(COUNTRY_INFO!$K88=2, COUNTRY_INFO!$G88*0.2, COUNTRY_INFO!$G88))), 0))","v":0},0,{"$f":"IF(INTRO!$E$43=\"Non-endemic\", \"Not required\", COUNTRY_INFO!S88)","v":0},null,{"$f":"IF($D88=0,0,IF(AND($G88>0,$H88<>\"Yes\"),D88,IF(AND($G88>0,$H88=\"Yes\"),COUNTRY_INFO!$F88,0)))","v":0},0,0,0,0,0,0,0,0,0]
[{"$f":"IF(INTRO!$E$43=\"Non-endemic\",\" \", IF(COUNTRY_INFO!A89=0,\" \",COUNTRY_INFO!A89))","v":"Uganda"},{"$f":"IF(INTRO!$E$43=\"Non-endemic\",\" \", IF(COUNTRY_INFO!B89=0,\" \",COUNTRY_INFO!B89))","v":"EASTERN"},{"$f":"IF(INTRO!$E$43=\"Non-endemic\",\" \", IF(COUNTRY_INFO!C89=0,\" \",COUNTRY_INFO!C89))","v":"MAYUGE"},{"$f":"IF(INTRO!$E$43=\"Non-endemic\", 0, IF(COUNTRY_INFO!$K89>0, IF(COUNTRY_INFO!$K89=4, 0, IF(COUNTRY_INFO!$K89=1, COUNTRY_INFO!$F89*0.33, IF(COUNTRY_INFO!$K89=2, COUNTRY_INFO!$F89*0.5, COUNTRY_INFO!$F89))), 0))","v":165923},{"$f":"IF(INTRO!$E$43=\"Non-endemic\", 0, IF(COUNTRY_INFO!$K89>0, IF(COUNTRY_INFO!$K89=4, 0, IF(COUNTRY_INFO!$K89=1, 0, IF(COUNTRY_INFO!$K89=2, COUNTRY_INFO!$G89*0.2, COUNTRY_INFO!$G89))), 0))","v":286244},452167,{"$f":"IF(INTRO!$E$43=\"Non-endemic\", \"Not required\", COUNTRY_INFO!S89)","v":1},null,{"$f":"IF($D89=0,0,IF(AND($G89>0,$H89<>\"Yes\"),D89,IF(AND($G89>0,$H89=\"Yes\"),COUNTRY_INFO!$F89,0)))","v":165923},54212,93525,147737,135530,280575,135530,0,135530,136]
[{"$f":"IF(INTRO!$E$43=\"Non-endemic\",\" \", IF(COUNTRY_INFO!A90=0,\" \",COUNTRY_INFO!A90))","v":"Uganda"},{"$f":"IF(INTRO!$E$43=\"Non-endemic\",\" \", IF(COUNTRY_INFO!B90=0,\" \",COUNTRY_INFO!B90))","v":"EASTERN"},{"$f":"IF(INTRO!$E$43=\"Non-endemic\",\" \", IF(COUNTRY_INFO!C90=0,\" \",COUNTRY_INFO!C90))","v":"MBALE"},{"$f":"IF(INTRO!$E$43=\"Non-endemic\", 0, IF(COUNTRY_INFO!$K90>0, IF(COUNTRY_INFO!$K90=4, 0, IF(COUNTRY_INFO!$K90=1, COUNTRY_INFO!$F90*0.33, IF(COUNTRY_INFO!$K90=2, COUNTRY_INFO!$F90*0.5, COUNTRY_INFO!$F90))), 0))","v":56573.22},{"$f":"IF(INTRO!$E$43=\"Non-endemic\", 0, IF(COUNTRY_INFO!$K90>0, IF(COUNTRY_INFO!$K90=4, 0, IF(COUNTRY_INFO!$K90=1, 0, IF(COUNTRY_INFO!$K90=2, COUNTRY_INFO!$G90*0.2, COUNTRY_INFO!$G90))), 0))","v":0},56573.22,{"$f":"IF(INTRO!$E$43=\"Non-endemic\", \"Not required\", COUNTRY_INFO!S90)","v":1},null,{"$f":"IF($D90=0,0,IF(AND($G90>0,$H90<>\"Yes\"),D90,IF(AND($G90>0,$H90=\"Yes\"),COUNTRY_INFO!$F90,0)))","v":56573.22},1412,2435,3847,3530,7305,3530,0,3530,4]
[{"$f":"IF(INTRO!$E$43=\"Non-endemic\",\" \", IF(COUNTRY_INFO!A91=0,\" \",COUNTRY_INFO!A91))","v":"Uganda"},{"$f":"IF(INTRO!$E$43=\"Non-endemic\",\" \", IF(COUNTRY_INFO!B91=0,\" \",COUNTRY_INFO!B91))","v":"WESTERN"},{"$f":"IF(INTRO!$E$43=\"Non-endemic\",\" \", IF(COUNTRY_INFO!C91=0,\" \",COUNTRY_INFO!C91))","v":"MBARARA"},{"$f":"IF(INTRO!$E$43=\"Non-endemic\", 0, IF(COUNTRY_INFO!$K91>0, IF(COUNTRY_INFO!$K91=4, 0, IF(COUNTRY_INFO!$K91=1, COUNTRY_INFO!$F91*0.33, IF(COUNTRY_INFO!$K91=2, COUNTRY_INFO!$F91*0.5, COUNTRY_INFO!$F91))), 0))","v":0},{"$f":"IF(INTRO!$E$43=\"Non-endemic\", 0, IF(COUNTRY_INFO!$K91>0, IF(COUNTRY_INFO!$K91=4, 0, IF(COUNTRY_INFO!$K91=1, 0, IF(COUNTRY_INFO!$K91=2, COUNTRY_INFO!$G91*0.2, COUNTRY_INFO!$G91))), 0))","v":0},0,{"$f":"IF(INTRO!$E$43=\"Non-endemic\", \"Not required\", COUNTRY_INFO!S91)","v":0},null,{"$f":"IF($D91=0,0,IF(AND($G91>0,$H91<>\"Yes\"),D91,IF(AND($G91>0,$H91=\"Yes\"),COUNTRY_INFO!$F91,0)))","v":0},0,0,0,0,0,0,0,0,0]
[{"$f":"IF(INTRO!$E$43=\"Non-endemic\",\" \", IF(COUNTRY_INFO!A92=0,\" \",COUNTRY_INFO!A92))","v":"Uganda"},{"$f":"IF(INTRO!$E$43=\"Non-endemic\",\" \", IF(COUNTRY_INFO!B92=0,\" \",COUNTRY_INFO!B92))","v":"WESTERN"},{"$f":"IF(INTRO!$E$43=\"Non-endemic\",\" \", IF(COUNTRY_INFO!C92=0,\" \",COUNTRY_INFO!C92))","v":"MITOOMA"},{"$f":"IF(INTRO!$E$43=\"Non-endemic\", 0, IF(COUNTRY_INFO!$K92>0, IF(COUNTRY_INFO!$K92=4, 0, IF(COUNTRY_INFO!$K92=1, COUNTRY_INFO!$F92*0.33, IF(COUNTRY_INFO!$K92=2, COUNTRY_INFO!$F92*0.5, COUNTRY_INFO!$F92))), 0))","v":0},{"$f":"IF(INTRO!$E$43=\"Non-endemic\", 0, IF(COUNTRY_INFO!$K92>0, IF(COUNTRY_INFO!$K92=4, 0, IF(COUNTRY_INFO!$K92=1, 0, IF(COUNTRY_INFO!$K92=2, COUNTRY_INFO!$G92*0.2, COUNTRY_INFO!$G92))), 0))","v":0},0,{"$f":"IF(INTRO!$E$43=\"Non-endemic\", \"Not required\", COUNTRY_INFO!S92)","v":0},null,{"$f":"IF($D92=0,0,IF(AND($G92>0,$H92<>\"Yes\"),D92,IF(AND($G92>0,$H92=\"Yes\"),COUNTRY_INFO!$F92,0)))","v":0},0,0,0,0,0,0,0,0,0]
[{"$f":"IF(INTRO!$E$43=\"Non-endemic\",\" \", IF(COUNTRY_INFO!A93=0,\" \",COUNTRY_INFO!A93))","v":"Uganda"},{"$f":"IF(INTRO!$E$43=\"Non-endemic\",\" \", IF(COUNTRY_INFO!B93=0,\" \",COUNTRY_INFO!B93))","v":"CENTRAL"},{"$f":"IF(INTRO!$E$43=\"Non-endemic\",\" \", IF(COUNTRY_INFO!C93=0,\" \",COUNTRY_INFO!C93))","v":"MITYANA"},{"$f":"IF(INTRO!$E$43=\"Non-endemic\", 0, IF(COUNTRY_INFO!$K93>0, IF(COUNTRY_INFO!$K93=4, 0, IF(COUNTRY_INFO!$K93=1, COUNTRY_INFO!$F93*0.33, IF(COUNTRY_INFO!$K93=2, COUNTRY_INFO!$F93*0.5, COUNTRY_INFO!$F93))), 0))","v":115339},{"$f":"IF(INTRO!$E$43=\"Non-endemic\", 0, IF(COUNTRY_INFO!$K93>0, IF(COUNTRY_INFO!$K93=4, 0, IF(COUNTRY_INFO!$K93=1, 0, IF(COUNTRY_INFO!$K93=2, COUNTRY_INFO!$G93*0.2, COUNTRY_INFO!$G93))), 0))","v":198978},314317,{"$f":"IF(INTRO!$E$43=\"Non-endemic\", \"Not required\", COUNTRY_INFO!S93)","v":1},null,{"$f":"IF($D93=0,0,IF(AND($G93>0,$H93<>\"Yes\"),D93,IF(AND($G93>0,$H93=\"Yes\"),COUNTRY_INFO!$F93,0)))","v":115339},10220,17632,27852,25550,52896,25550,0,25550,26]
[{"$f":"IF(INTRO!$E$43=\"Non-endemic\",\" \", IF(COUNTRY_INFO!A94=0,\" \",COUNTRY_INFO!A94))","v":"Uganda"},{"$f":"IF(INTRO!$E$43=\"Non-endemic\",\" \", IF(COUNTRY_INFO!B94=0,\" \",COUNTRY_INFO!B94))","v":"NORTHERN"},{"$f":"IF(INTRO!$E$43=\"Non-endemic\",\" \", IF(COUNTRY_INFO!C94=0,\" \",COUNTRY_INFO!C94))","v":"MOROTO"},{"$f":"IF(INTRO!$E$43=\"Non-endemic\", 0, IF(COUNTRY_INFO!$K94>0, IF(COUNTRY_INFO!$K94=4, 0, IF(COUNTRY_INFO!$K94=1, COUNTRY_INFO!$F94*0.33, IF(COUNTRY_INFO!$K94=2, COUNTRY_INFO!$F94*0.5, COUNTRY_INFO!$F94))), 0))","v":0},{"$f":"IF(INTRO!$E$43=\"Non-endemic\", 0, IF(COUNTRY_INFO!$K94>0, IF(COUNTRY_INFO!$K94=4, 0, IF(COUNTRY_INFO!$K94=1, 0, IF(COUNTRY_INFO!$K94=2, COUNTRY_INFO!$G94*0.2, COUNTRY_INFO!$G94))), 0))","v":0},0,{"$f":"IF(INTRO!$E$43=\"Non-endemic\", \"Not required\", COUNTRY_INFO!S94)","v":0},null,{"$f":"IF($D94=0,0,IF(AND($G94>0,$H94<>\"Yes\"),D94,IF(AND($G94>0,$H94=\"Yes\"),COUNTRY_INFO!$F94,0)))","v":0},0,0,0,0,0,0,0,0,0]
[{"$f":"IF(INTRO!$E$43=\"Non-endemic\",\" \", IF(COUNTRY_INFO!A95=0,\" \",COUNTRY_INFO!A95))","v":"Uganda"},{"$f":"IF(INTRO!$E$43=\"Non-endemic\",\" \", IF(COUNTRY_INFO!B95=0,\" \",COUNTRY_INFO!B95))","v":"NORTHERN"},{"$f":"IF(INTRO!$E$43=\"Non-endemic\",\" \", IF(COUNTRY_INFO!C95=0,\" \",COUNTRY_INFO!C95))","v":"MOYO"},{"$f":"IF(INTRO!$E$43=\"Non-endemic\", 0, IF(COUNTRY_INFO!$K95>0, IF(COUNTRY_INFO!$K95=4, 0, IF(COUNTRY_INFO!$K95=1, COUNTRY_INFO!$F95*0.33, IF(COUNTRY_INFO!$K95=2, COUNTRY_INFO!$F95*0.5, COUNTRY_INFO!$F95))), 0))","v":48739},{"$f":"IF(INTRO!$E$43=\"Non-endemic\", 0, IF(COUNTRY_INFO!$K95>0, IF(COUNTRY_INFO!$K95=4, 0, IF(COUNTRY_INFO!$K95=1, 0, IF(COUNTRY_INFO!$K95=2, COUNTRY_INFO!$G95*0.2, COUNTRY_INFO!$G95))), 0))","v":84083},132822,{"$f":"IF(INTRO!$E$43=\"Non-endemic\", \"Not required\", COUNTRY_INFO!S95)","v":1},null,{"$f":"IF($D95=0,0,IF(AND($G95>0,$H95<>\"Yes\"),D95,IF(AND($G95>0,$H95=\"Yes\"),COUNTRY_INFO!$F95,0)))","v":48739},33481,57760,91241,83702.5,173280,83702.5,0,83702.5,84]
[{"$f":"IF(INTRO!$E$43=\"Non-endemic\",\" \", IF(COUNTRY_INFO!A96=0,\" \",COUNTRY_INFO!A96))","v":"Uganda"},{"$f":"IF(INTRO!$E$43=\"Non-endemic\",\" \", IF(COUNTRY_INFO!B96=0,\" \",COUNTRY_INFO!B96))","v":"CENTRAL"},{"$f":"IF(INTRO!$E$43=\"Non-endemic\",\" \", IF(COUNTRY_INFO!C96=0,\" \",COUNTRY_INFO!C96))","v":"MPIGI"},{"$f":"IF(INTRO!$E$43=\"Non-endemic\", 0, IF(COUNTRY_INFO!$K96>0, IF(COUNTRY_INFO!$K96=4, 0, IF(COUNTRY_INFO!$K96=1, COUNTRY_INFO!$F96*0.33, IF(COUNTRY_INFO!$K96=2, COUNTRY_INFO!$F96*0.5, COUNTRY_INFO!$F96))), 0))","v":43922.5},{"$f":"IF(INTRO!$E$43=\"Non-endemic\", 0, IF(COUNTRY_INFO!$K96>0, IF(COUNTRY_INFO!$K96=4, 0, IF(COUNTRY_INFO!$K96=1, 0, IF(COUNTRY_INFO!$K96=2, COUNTRY_INFO!$G96*0.2, COUNTRY_INFO!$G96))), 0))","v":30309.4},74231.899999999994,{"$f":"IF(INTRO!$E$43=\"Non-endemic\", \"Not required\", COUNTRY_INFO!S96)","v":1},null,{"$f":"IF($D96=0,0,IF(AND($G96>0,$H96<>\"Yes\"),D96,IF(AND($G96>0,$H96=\"Yes\"),COUNTRY_INFO!$F96,0)))","v":43922.5},39679,68453,108132,99197.5,205359,99197.5,0,99197.5,100]
[{"$f":"IF(INTRO!$E$43=\"Non-endemic\",\" \", IF(COUNTRY_INFO!A97=0,\" \",COUNTRY_INFO!A97))","v":"Uganda"},{"$f":"IF(INTRO!$E$43=\"Non-endemic\",\" \", IF(COUNTRY_INFO!B97=0,\" \",COUNTRY_INFO!B97))","v":"CENTRAL"},{"$f":"IF(INTRO!$E$43=\"Non-endemic\",\" \", IF(COUNTRY_INFO!C97=0,\" \",COUNTRY_INFO!C97))","v":"MUBENDE"},{"$f":"IF(INTRO!$E$43=\"Non-endemic\", 0, IF(COUNTRY_INFO!$K97>0, IF(COUNTRY_INFO!$K97=4, 0, IF(COUNTRY_INFO!$K97=1, COUNTRY_INFO!$F97*0.33, IF(COUNTRY_INFO!$K97=2, COUNTRY_INFO!$F97*0.5, COUNTRY_INFO!$F97))), 0))","v":79178.880000000005},{"$f":"IF(INTRO!$E$43=\"Non-endemic\", 0, IF(COUNTRY_INFO!$K97>0, IF(COUNTRY_INFO!$K97=4, 0, IF(COUNTRY_INFO!$K97=1, 0, IF(COUNTRY_INFO!$K97=2, COUNTRY_INFO!$G97*0.2, COUNTRY_INFO!$G97))), 0))","v":0},79178.880000000005,{"$f":"IF(INTRO!$E$43=\"Non-endemic\", \"Not required\", COUNTRY_INFO!S97)","v":1},null,{"$f":"IF($D97=0,0,IF(AND($G97>0,$H97<>\"Yes\"),D97,IF(AND($G97>0,$H97=\"Yes\"),COUNTRY_INFO!$F97,0)))","v":79178.880000000005},69585,0,69585,173962.5,0,173962.5,0,173962.5,174]
[{"$f":"IF(INTRO!$E$43=\"Non-endemic\",\" \", IF(COUNTRY_INFO!A98=0,\" \",COUNTRY_INFO!A98))","v":"Uganda"},{"$f":"IF(INTRO!$E$43=\"Non-endemic\",\" \", IF(COUNTRY_INFO!B98=0,\" \",COUNTRY_INFO!B98))","v":"CENTRAL"},{"$f":"IF(INTRO!$E$43=\"Non-endemic\",\" \", IF(COUNTRY_INFO!C98=0,\" \",COUNTRY_INFO!C98))","v":"MUKONO"},{"$f":"IF(INTRO!$E$43=\"Non-endemic\", 0, IF(COUNTRY_INFO!$K98>0, IF(COUNTRY_INFO!$K98=4, 0, IF(COUNTRY_INFO!$K98=1, COUNTRY_INFO!$F98*0.33, IF(COUNTRY_INFO!$K98=2, COUNTRY_INFO!$F98*0.5, COUNTRY_INFO!$F98))), 0))","v":209246},{"$f":"IF(INTRO!$E$43=\"Non-endemic\", 0, IF(COUNTRY_INFO!$K98>0, IF(COUNTRY_INFO!$K98=4, 0, IF(COUNTRY_INFO!$K98=1, 0, IF(COUNTRY_INFO!$K98=2, COUNTRY_INFO!$G98*0.2, COUNTRY_INFO!$G98))), 0))","v":360984},570230,{"$f":"IF(INTRO!$E$43=\"Non-endemic\", \"Not required\", COUNTRY_INFO!S98)","v":1},null,{"$f":"IF($D98=0,0,IF(AND($G98>0,$H98<>\"Yes\"),D98,IF(AND($G98>0,$H98=\"Yes\"),COUNTRY_INFO!$F98,0)))","v":209246},23619,40747,64366,59047.5,122241,59047.5,0,59047.5,60]
[{"$f":"IF(INTRO!$E$43=\"Non-endemic\",\" \", IF(COUNTRY_INFO!A99=0,\" \",COUNTRY_INFO!A99))","v":"Uganda"},{"$f":"IF(INTRO!$E$43=\"Non-endemic\",\" \", IF(COUNTRY_INFO!B99=0,\" \",COUNTRY_INFO!B99))","v":"Northern"},{"$f":"IF(INTRO!$E$43=\"Non-endemic\",\" \", IF(COUNTRY_INFO!C99=0,\" \",COUNTRY_INFO!C99))","v":"NABILATUK"},{"$f":"IF(INTRO!$E$43=\"Non-endemic\", 0, IF(COUNTRY_INFO!$K99>0, IF(COUNTRY_INFO!$K99=4, 0, IF(COUNTRY_INFO!$K99=1, COUNTRY_INFO!$F99*0.33, IF(COUNTRY_INFO!$K99=2, COUNTRY_INFO!$F99*0.5, COUNTRY_INFO!$F99))), 0))","v":0},{"$f":"IF(INTRO!$E$43=\"Non-endemic\", 0, IF(COUNTRY_INFO!$K99>0, IF(COUNTRY_INFO!$K99=4, 0, IF(COUNTRY_INFO!$K99=1, 0, IF(COUNTRY_INFO!$K99=2, COUNTRY_INFO!$G99*0.2, COUNTRY_INFO!$G99))), 0))","v":0},0,{"$f":"IF(INTRO!$E$43=\"Non-endemic\", \"Not required\", COUNTRY_INFO!S99)","v":0},null,{"$f":"IF($D99=0,0,IF(AND($G99>0,$H99<>\"Yes\"),D99,IF(AND($G99>0,$H99=\"Yes\"),COUNTRY_INFO!$F99,0)))","v":0},0,0,0,0,0,0,0,0,0]
[{"$f":"IF(INTRO!$E$43=\"Non-endemic\",\" \", IF(COUNTRY_INFO!A100=0,\" \",COUNTRY_INFO!A100))","v":"Uganda"},{"$f":"IF(INTRO!$E$43=\"Non-endemic\",\" \", IF(COUNTRY_INFO!B100=0,\" \",COUNTRY_INFO!B100))","v":"NORTHERN"},{"$f":"IF(INTRO!$E$43=\"Non-endemic\",\" \", IF(COUNTRY_INFO!C100=0,\" \",COUNTRY_INFO!C100))","v":"NAKAPIRIPIRIT"},{"$f":"IF(INTRO!$E$43=\"Non-endemic\", 0, IF(COUNTRY_INFO!$K100>0, IF(COUNTRY_INFO!$K100=4, 0, IF(COUNTRY_INFO!$K100=1, COUNTRY_INFO!$F100*0.33, IF(COUNTRY_INFO!$K100=2, COUNTRY_INFO!$F100*0.5, COUNTRY_INFO!$F100))), 0))","v":10214.16},{"$f":"IF(INTRO!$E$43=\"Non-endemic\", 0, IF(COUNTRY_INFO!$K100>0, IF(COUNTRY_INFO!$K100=4, 0, IF(COUNTRY_INFO!$K100=1, 0, IF(COUNTRY_INFO!$K100=2, COUNTRY_INFO!$G100*0.2, COUNTRY_INFO!$G100))), 0))","v":0},10214.16,{"$f":"IF(INTRO!$E$43=\"Non-endemic\", \"Not required\", COUNTRY_INFO!S100)","v":1},null,{"$f":"IF($D100=0,0,IF(AND($G100>0,$H100<>\"Yes\"),D100,IF(AND($G100>0,$H100=\"Yes\"),COUNTRY_INFO!$F100,0)))","v":10214.16},8658,0,8658,21645,0,21645,0,21645,22]
[{"$f":"IF(INTRO!$E$43=\"Non-endemic\",\" \", IF(COUNTRY_INFO!A101=0,\" \",COUNTRY_INFO!A101))","v":"Uganda"},{"$f":"IF(INTRO!$E$43=\"Non-endemic\",\" \", IF(COUNTRY_INFO!B101=0,\" \",COUNTRY_INFO!B101))","v":"CENTRAL"},{"$f":"IF(INTRO!$E$43=\"Non-endemic\",\" \", IF(COUNTRY_INFO!C101=0,\" \",COUNTRY_INFO!C101))","v":"NAKASEKE"},{"$f":"IF(INTRO!$E$43=\"Non-endemic\", 0, IF(COUNTRY_INFO!$K101>0, IF(COUNTRY_INFO!$K101=4, 0, IF(COUNTRY_INFO!$K101=1, COUNTRY_INFO!$F101*0.33, IF(COUNTRY_INFO!$K101=2, COUNTRY_INFO!$F101*0.5, COUNTRY_INFO!$F101))), 0))","v":0},{"$f":"IF(INTRO!$E$43=\"Non-endemic\", 0, IF(COUNTRY_INFO!$K101>0, IF(COUNTRY_INFO!$K101=4, 0, IF(COUNTRY_INFO!$K101=1, 0, IF(COUNTRY_INFO!$K101=2, COUNTRY_INFO!$G101*0.2, COUNTRY_INFO!$G101))), 0))","v":0},0,{"$f":"IF(INTRO!$E$43=\"Non-endemic\", \"Not required\", COUNTRY_INFO!S101)","v":0},null,{"$f":"IF($D101=0,0,IF(AND($G101>0,$H101<>\"Yes\"),D101,IF(AND($G101>0,$H101=\"Yes\"),COUNTRY_INFO!$F101,0)))","v":0},0,0,0,0,0,0,0,0,0]
[{"$f":"IF(INTRO!$E$43=\"Non-endemic\",\" \", IF(COUNTRY_INFO!A102=0,\" \",COUNTRY_INFO!A102))","v":"Uganda"},{"$f":"IF(INTRO!$E$43=\"Non-endemic\",\" \", IF(COUNTRY_INFO!B102=0,\" \",COUNTRY_INFO!B102))","v":"CENTRAL"},{"$f":"IF(INTRO!$E$43=\"Non-endemic\",\" \", IF(COUNTRY_INFO!C102=0,\" \",COUNTRY_INFO!C102))","v":"NAKASONGOLA"},{"$f":"IF(INTRO!$E$43=\"Non-endemic\", 0, IF(COUNTRY_INFO!$K102>0, IF(COUNTRY_INFO!$K102=4, 0, IF(COUNTRY_INFO!$K102=1, COUNTRY_INFO!$F102*0.33, IF(COUNTRY_INFO!$K102=2, COUNTRY_INFO!$F102*0.5, COUNTRY_INFO!$F102))), 0))","v":21034.530000000002},{"$f":"IF(INTRO!$E$43=\"Non-endemic\", 0, IF(COUNTRY_INFO!$K102>0, IF(COUNTRY_INFO!$K102=4, 0, IF(COUNTRY_INFO!$K102=1, 0, IF(COUNTRY_INFO!$K102=2, COUNTRY_INFO!$G102*0.2, COUNTRY_INFO!$G102))), 0))","v":0},21034.530000000002,{"$f":"IF(INTRO!$E$43=\"Non-endemic\", \"Not required\", COUNTRY_INFO!S102)","v":1},null,{"$f":"IF($D102=0,0,IF(AND($G102>0,$H102<>\"Yes\"),D102,IF(AND($G102>0,$H102=\"Yes\"),COUNTRY_INFO!$F102,0)))","v":21034.530000000002},44713,0,44713,111782.5,0,111782.5,0,111782.5,112]
[{"$f":"IF(INTRO!$E$43=\"Non-endemic\",\" \", IF(COUNTRY_INFO!A103=0,\" \",COUNTRY_INFO!A103))","v":"Uganda"},{"$f":"IF(INTRO!$E$43=\"Non-endemic\",\" \", IF(COUNTRY_INFO!B103=0,\" \",COUNTRY_INFO!B103))","v":"EASTERN"},{"$f":"IF(INTRO!$E$43=\"Non-endemic\",\" \", IF(COUNTRY_INFO!C103=0,\" \",COUNTRY_INFO!C103))","v":"NAMAYINGO"},{"$f":"IF(INTRO!$E$43=\"Non-endemic\", 0, IF(COUNTRY_INFO!$K103>0, IF(COUNTRY_INFO!$K103=4, 0, IF(COUNTRY_INFO!$K103=1, COUNTRY_INFO!$F103*0.33, IF(COUNTRY_INFO!$K103=2, COUNTRY_INFO!$F103*0.5, COUNTRY_INFO!$F103))), 0))","v":83192},{"$f":"IF(INTRO!$E$43=\"Non-endemic\", 0, IF(COUNTRY_INFO!$K103>0, IF(COUNTRY_INFO!$K103=4, 0, IF(COUNTRY_INFO!$K103=1, 0, IF(COUNTRY_INFO!$K103=2, COUNTRY_INFO!$G103*0.2, COUNTRY_INFO!$G103))), 0))","v":143520},226712,{"$f":"IF(INTRO!$E$43=\"Non-endemic\", \"Not required\", COUNTRY_INFO!S103)","v":1},null,{"$f":"IF($D103=0,0,IF(AND($G103>0,$H103<>\"Yes\"),D103,IF(AND($G103>0,$H103=\"Yes\"),COUNTRY_INFO!$F103,0)))","v":83192},83192,143520,226712,207980,430560,207980,0,207980,208]
[{"$f":"IF(INTRO!$E$43=\"Non-endemic\",\" \", IF(COUNTRY_INFO!A104=0,\" \",COUNTRY_INFO!A104))","v":"Uganda"},{"$f":"IF(INTRO!$E$43=\"Non-endemic\",\" \", IF(COUNTRY_INFO!B104=0,\" \",COUNTRY_INFO!B104))","v":"Eastern"},{"$f":"IF(INTRO!$E$43=\"Non-endemic\",\" \", IF(COUNTRY_INFO!C104=0,\" \",COUNTRY_INFO!C104))","v":"Namusidwa"},{"$f":"IF(INTRO!$E$43=\"Non-endemic\", 0, IF(COUNTRY_INFO!$K104>0, IF(COUNTRY_INFO!$K104=4, 0, IF(COUNTRY_INFO!$K104=1, COUNTRY_INFO!$F104*0.33, IF(COUNTRY_INFO!$K104=2, COUNTRY_INFO!$F104*0.5, COUNTRY_INFO!$F104))), 0))","v":18421.920000000002},{"$f":"IF(INTRO!$E$43=\"Non-endemic\", 0, IF(COUNTRY_INFO!$K104>0, IF(COUNTRY_INFO!$K104=4, 0, IF(COUNTRY_INFO!$K104=1, 0, IF(COUNTRY_INFO!$K104=2, COUNTRY_INFO!$G104*0.2, COUNTRY_INFO!$G104))), 0))","v":0},18421.920000000002,{"$f":"IF(INTRO!$E$43=\"Non-endemic\", \"Not required\", COUNTRY_INFO!S104)","v":1},null,{"$f":"IF($D104=0,0,IF(AND($G104>0,$H104<>\"Yes\"),D104,IF(AND($G104>0,$H104=\"Yes\"),COUNTRY_INFO!$F104,0)))","v":18421.920000000002},7896,0,7896,19740,0,19740,0,19740,20]
[{"$f":"IF(INTRO!$E$43=\"Non-endemic\",\" \", IF(COUNTRY_INFO!A105=0,\" \",COUNTRY_INFO!A105))","v":"Uganda"},{"$f":"IF(INTRO!$E$43=\"Non-endemic\",\" \", IF(COUNTRY_INFO!B105=0,\" \",COUNTRY_INFO!B105))","v":"EASTERN"},{"$f":"IF(INTRO!$E$43=\"Non-endemic\",\" \", IF(COUNTRY_INFO!C105=0,\" \",COUNTRY_INFO!C105))","v":"NAMUTUMBA"},{"$f":"IF(INTRO!$E$43=\"Non-endemic\", 0, IF(COUNTRY_INFO!$K105>0, IF(COUNTRY_INFO!$K105=4, 0, IF(COUNTRY_INFO!$K105=1, COUNTRY_INFO!$F105*0.33, IF(COUNTRY_INFO!$K105=2, COUNTRY_INFO!$F105*0.5, COUNTRY_INFO!$F105))), 0))","v":29221.83},{"$f":"IF(INTRO!$E$43=\"Non-endemic\", 0, IF(COUNTRY_INFO!$K105>0, IF(COUNTRY_INFO!$K105=4, 0, IF(COUNTRY_INFO!$K105=1, 0, IF(COUNTRY_INFO!$K105=2, COUNTRY_INFO!$G105*0.2, COUNTRY_INFO!$G105))), 0))","v":0},{"$f":"SUM(D105:E105)","v":29221.83},{"$f":"IF(INTRO!$E$43=\"Non-endemic\", \"Not required\", COUNTRY_INFO!S105)","v":1},null,{"$f":"IF($D105=0,0,IF(AND($G105>0,$H105<>\"Yes\"),D105,IF(AND($G105>0,$H105=\"Yes\"),COUNTRY_INFO!$F105,0)))","v":29221.83},105833,0,{"$f":"IF($J105=0,SUM(I105,K105),SUM(J105,K105))","v":105833},{"$f":"IF($J105=0,$I105*2.5,$J105*2.5)","v":264582.5},{"$f":"$K105*3","v":0},{"$f":"M105","v":264582.5},0,{"$f":"IF($O105>$P105,O105-P105,0)","v":264582.5},{"$f":"ROUNDUP($O105/1000,0)","v":265}]
[{"$f":"IF(INTRO!$E$43=\"Non-endemic\",\" \", IF(COUNTRY_INFO!A106=0,\" \",COUNTRY_INFO!A106))","v":"Uganda"},{"$f":"IF(INTRO!$E$43=\"Non-endemic\",\" \", IF(COUNTRY_INFO!B106=0,\" \",COUNTRY_INFO!B106))","v":"NORTHERN"},{"$f":"IF(INTRO!$E$43=\"Non-endemic\",\" \", IF(COUNTRY_INFO!C106=0,\" \",COUNTRY_INFO!C106))","v":"NAPAK"},{"$f":"IF(INTRO!$E$43=\"Non-endemic\", 0, IF(COUNTRY_INFO!$K106>0, IF(COUNTRY_INFO!$K106=4, 0, IF(COUNTRY_INFO!$K106=1, COUNTRY_INFO!$F106*0.33, IF(COUNTRY_INFO!$K106=2, COUNTRY_INFO!$F106*0.5, COUNTRY_INFO!$F106))), 0))","v":0},{"$f":"IF(INTRO!$E$43=\"Non-endemic\", 0, IF(COUNTRY_INFO!$K106>0, IF(COUNTRY_INFO!$K106=4, 0, IF(COUNTRY_INFO!$K106=1, 0, IF(COUNTRY_INFO!$K106=2, COUNTRY_INFO!$G106*0.2, COUNTRY_INFO!$G106))), 0))","v":0},0,{"$f":"IF(INTRO!$E$43=\"Non-endemic\", \"Not required\", COUNTRY_INFO!S106)","v":0},null,{"$f":"IF($D106=0,0,IF(AND($G106>0,$H106<>\"Yes\"),D106,IF(AND($G106>0,$H106=\"Yes\"),COUNTRY_INFO!$F106,0)))","v":0},0,0,0,0,0,0,0,0,0]
[{"$f":"IF(INTRO!$E$43=\"Non-endemic\",\" \", IF(COUNTRY_INFO!A107=0,\" \",COUNTRY_INFO!A107))","v":"Uganda"},{"$f":"IF(INTRO!$E$43=\"Non-endemic\",\" \", IF(COUNTRY_INFO!B107=0,\" \",COUNTRY_INFO!B107))","v":"NORTHERN"},{"$f":"IF(INTRO!$E$43=\"Non-endemic\",\" \", IF(COUNTRY_INFO!C107=0,\" \",COUNTRY_INFO!C107))","v":"NEBBI"},{"$f":"IF(INTRO!$E$43=\"Non-endemic\", 0, IF(COUNTRY_INFO!$K107>0, IF(COUNTRY_INFO!$K107=4, 0, IF(COUNTRY_INFO!$K107=1, COUNTRY_INFO!$F107*0.33, IF(COUNTRY_INFO!$K107=2, COUNTRY_INFO!$F107*0.5, COUNTRY_INFO!$F107))), 0))","v":0},{"$f":"IF(INTRO!$E$43=\"Non-endemic\", 0, IF(COUNTRY_INFO!$K107>0, IF(COUNTRY_INFO!$K107=4, 0, IF(COUNTRY_INFO!$K107=1, 0, IF(COUNTRY_INFO!$K107=2, COUNTRY_INFO!$G107*0.2, COUNTRY_INFO!$G107))), 0))","v":0},0,{"$f":"IF(INTRO!$E$43=\"Non-endemic\", \"Not required\", COUNTRY_INFO!S107)","v":0},null,{"$f":"IF($D107=0,0,IF(AND($G107>0,$H107<>\"Yes\"),D107,IF(AND($G107>0,$H107=\"Yes\"),COUNTRY_INFO!$F107,0)))","v":0},0,0,0,0,0,0,0,0,0]
[{"$f":"IF(INTRO!$E$43=\"Non-endemic\",\" \", IF(COUNTRY_INFO!A108=0,\" \",COUNTRY_INFO!A108))","v":"Uganda"},{"$f":"IF(INTRO!$E$43=\"Non-endemic\",\" \", IF(COUNTRY_INFO!B108=0,\" \",COUNTRY_INFO!B108))","v":"EASTERN"},{"$f":"IF(INTRO!$E$43=\"Non-endemic\",\" \", IF(COUNTRY_INFO!C108=0,\" \",COUNTRY_INFO!C108))","v":"NGORA"},{"$f":"IF(INTRO!$E$43=\"Non-endemic\", 0, IF(COUNTRY_INFO!$K108>0, IF(COUNTRY_INFO!$K108=4, 0, IF(COUNTRY_INFO!$K108=1, COUNTRY_INFO!$F108*0.33, IF(COUNTRY_INFO!$K108=2, COUNTRY_INFO!$F108*0.5, COUNTRY_INFO!$F108))), 0))","v":16420.14},{"$f":"IF(INTRO!$E$43=\"Non-endemic\", 0, IF(COUNTRY_INFO!$K108>0, IF(COUNTRY_INFO!$K108=4, 0, IF(COUNTRY_INFO!$K108=1, 0, IF(COUNTRY_INFO!$K108=2, COUNTRY_INFO!$G108*0.2, COUNTRY_INFO!$G108))), 0))","v":0},16420.14,{"$f":"IF(INTRO!$E$43=\"Non-endemic\", \"Not required\", COUNTRY_INFO!S108)","v":1},"Yes",{"$f":"IF($D108=0,0,IF(AND($G108>0,$H108<>\"Yes\"),D108,IF(AND($G108>0,$H108=\"Yes\"),COUNTRY_INFO!$F108,0)))","v":49758},49923,0,49923,124807.5,0,124807.5,0,124807.5,125]
[{"$f":"IF(INTRO!$E$43=\"Non-endemic\",\" \", IF(COUNTRY_INFO!A109=0,\" \",COUNTRY_INFO!A109))","v":"Uganda"},{"$f":"IF(INTRO!$E$43=\"Non-endemic\",\" \", IF(COUNTRY_INFO!B109=0,\" \",COUNTRY_INFO!B109))","v":"WESTERN"},{"$f":"IF(INTRO!$E$43=\"Non-endemic\",\" \", IF(COUNTRY_INFO!C109=0,\" \",COUNTRY_INFO!C109))","v":"NTOROKO"},{"$f":"IF(INTRO!$E$43=\"Non-endemic\", 0, IF(COUNTRY_INFO!$K109>0, IF(COUNTRY_INFO!$K109=4, 0, IF(COUNTRY_INFO!$K109=1, COUNTRY_INFO!$F109*0.33, IF(COUNTRY_INFO!$K109=2, COUNTRY_INFO!$F109*0.5, COUNTRY_INFO!$F109))), 0))","v":23493},{"$f":"IF(INTRO!$E$43=\"Non-endemic\", 0, IF(COUNTRY_INFO!$K109>0, IF(COUNTRY_INFO!$K109=4, 0, IF(COUNTRY_INFO!$K109=1, 0, IF(COUNTRY_INFO!$K109=2, COUNTRY_INFO!$G109*0.2, COUNTRY_INFO!$G109))), 0))","v":40529},64022,{"$f":"IF(INTRO!$E$43=\"Non-endemic\", \"Not required\", COUNTRY_INFO!S109)","v":1},null,{"$f":"IF($D109=0,0,IF(AND($G109>0,$H109<>\"Yes\"),D109,IF(AND($G109>0,$H109=\"Yes\"),COUNTRY_INFO!$F109,0)))","v":23493},5611,9679,15290,14027.5,29037,14027.5,0,14027.5,15]
[{"$f":"IF(INTRO!$E$43=\"Non-endemic\",\" \", IF(COUNTRY_INFO!A110=0,\" \",COUNTRY_INFO!A110))","v":"Uganda"},{"$f":"IF(INTRO!$E$43=\"Non-endemic\",\" \", IF(COUNTRY_INFO!B110=0,\" \",COUNTRY_INFO!B110))","v":"WESTERN"},{"$f":"IF(INTRO!$E$43=\"Non-endemic\",\" \", IF(COUNTRY_INFO!C110=0,\" \",COUNTRY_INFO!C110))","v":"NTUNGAMO"},{"$f":"IF(INTRO!$E$43=\"Non-endemic\", 0, IF(COUNTRY_INFO!$K110>0, IF(COUNTRY_INFO!$K110=4, 0, IF(COUNTRY_INFO!$K110=1, COUNTRY_INFO!$F110*0.33, IF(COUNTRY_INFO!$K110=2, COUNTRY_INFO!$F110*0.5, COUNTRY_INFO!$F110))), 0))","v":0},{"$f":"IF(INTRO!$E$43=\"Non-endemic\", 0, IF(COUNTRY_INFO!$K110>0, IF(COUNTRY_INFO!$K110=4, 0, IF(COUNTRY_INFO!$K110=1, 0, IF(COUNTRY_INFO!$K110=2, COUNTRY_INFO!$G110*0.2, COUNTRY_INFO!$G110))), 0))","v":0},0,{"$f":"IF(INTRO!$E$43=\"Non-endemic\", \"Not required\", COUNTRY_INFO!S110)","v":0},null,{"$f":"IF($D110=0,0,IF(AND($G110>0,$H110<>\"Yes\"),D110,IF(AND($G110>0,$H110=\"Yes\"),COUNTRY_INFO!$F110,0)))","v":0},0,0,0,0,0,0,0,0,0]
[{"$f":"IF(INTRO!$E$43=\"Non-endemic\",\" \", IF(COUNTRY_INFO!A111=0,\" \",COUNTRY_INFO!A111))","v":"Uganda"},{"$f":"IF(INTRO!$E$43=\"Non-endemic\",\" \", IF(COUNTRY_INFO!B111=0,\" \",COUNTRY_INFO!B111))","v":"NORTHERN"},{"$f":"IF(INTRO!$E$43=\"Non-endemic\",\" \", IF(COUNTRY_INFO!C111=0,\" \",COUNTRY_INFO!C111))","v":"NWOYA"},{"$f":"IF(INTRO!$E$43=\"Non-endemic\", 0, IF(COUNTRY_INFO!$K111>0, IF(COUNTRY_INFO!$K111=4, 0, IF(COUNTRY_INFO!$K111=1, COUNTRY_INFO!$F111*0.33, IF(COUNTRY_INFO!$K111=2, COUNTRY_INFO!$F111*0.5, COUNTRY_INFO!$F111))), 0))","v":28091.5},{"$f":"IF(INTRO!$E$43=\"Non-endemic\", 0, IF(COUNTRY_INFO!$K111>0, IF(COUNTRY_INFO!$K111=4, 0, IF(COUNTRY_INFO!$K111=1, 0, IF(COUNTRY_INFO!$K111=2, COUNTRY_INFO!$G111*0.2, COUNTRY_INFO!$G111))), 0))","v":19385},47476.5,{"$f":"IF(INTRO!$E$43=\"Non-endemic\", \"Not required\", COUNTRY_INFO!S111)","v":1},null,{"$f":"IF($D111=0,0,IF(AND($G111>0,$H111<>\"Yes\"),D111,IF(AND($G111>0,$H111=\"Yes\"),COUNTRY_INFO!$F111,0)))","v":28091.5},56183,96925,153108,140457.5,290775,140457.5,0,140457.5,141]
[{"$f":"IF(INTRO!$E$43=\"Non-endemic\",\" \", IF(COUNTRY_INFO!A112=0,\" \",COUNTRY_INFO!A112))","v":"Uganda"},{"$f":"IF(INTRO!$E$43=\"Non-endemic\",\" \", IF(COUNTRY_INFO!B112=0,\" \",COUNTRY_INFO!B112))","v":"NORTHERN"},{"$f":"IF(INTRO!$E$43=\"Non-endemic\",\" \", IF(COUNTRY_INFO!C112=0,\" \",COUNTRY_INFO!C112))","v":"OMORO"},{"$f":"IF(INTRO!$E$43=\"Non-endemic\", 0, IF(COUNTRY_INFO!$K112>0, IF(COUNTRY_INFO!$K112=4, 0, IF(COUNTRY_INFO!$K112=1, COUNTRY_INFO!$F112*0.33, IF(COUNTRY_INFO!$K112=2, COUNTRY_INFO!$F112*0.5, COUNTRY_INFO!$F112))), 0))","v":29948.5},{"$f":"IF(INTRO!$E$43=\"Non-endemic\", 0, IF(COUNTRY_INFO!$K112>0, IF(COUNTRY_INFO!$K112=4, 0, IF(COUNTRY_INFO!$K112=1, 0, IF(COUNTRY_INFO!$K112=2, COUNTRY_INFO!$G112*0.2, COUNTRY_INFO!$G112))), 0))","v":20666.400000000001},50614.9,{"$f":"IF(INTRO!$E$43=\"Non-endemic\", \"Not required\", COUNTRY_INFO!S112)","v":1},"Yes",{"$f":"IF($D112=0,0,IF(AND($G112>0,$H112<>\"Yes\"),D112,IF(AND($G112>0,$H112=\"Yes\"),COUNTRY_INFO!$F112,0)))","v":59897},59897,103332,163229,149742.5,309996,149742.5,0,149742.5,150]
[{"$f":"IF(INTRO!$E$43=\"Non-endemic\",\" \", IF(COUNTRY_INFO!A113=0,\" \",COUNTRY_INFO!A113))","v":"Uganda"},{"$f":"IF(INTRO!$E$43=\"Non-endemic\",\" \", IF(COUNTRY_INFO!B113=0,\" \",COUNTRY_INFO!B113))","v":"NORTHERN"},{"$f":"IF(INTRO!$E$43=\"Non-endemic\",\" \", IF(COUNTRY_INFO!C113=0,\" \",COUNTRY_INFO!C113))","v":"OTUKE"},{"$f":"IF(INTRO!$E$43=\"Non-endemic\", 0, IF(COUNTRY_INFO!$K113>0, IF(COUNTRY_INFO!$K113=4, 0, IF(COUNTRY_INFO!$K113=1, COUNTRY_INFO!$F113*0.33, IF(COUNTRY_INFO!$K113=2, COUNTRY_INFO!$F113*0.5, COUNTRY_INFO!$F113))), 0))","v":0},{"$f":"IF(INTRO!$E$43=\"Non-endemic\", 0, IF(COUNTRY_INFO!$K113>0, IF(COUNTRY_INFO!$K113=4, 0, IF(COUNTRY_INFO!$K113=1, 0, IF(COUNTRY_INFO!$K113=2, COUNTRY_INFO!$G113*0.2, COUNTRY_INFO!$G113))), 0))","v":0},0,{"$f":"IF(INTRO!$E$43=\"Non-endemic\", \"Not required\", COUNTRY_INFO!S113)","v":0},null,{"$f":"IF($D113=0,0,IF(AND($G113>0,$H113<>\"Yes\"),D113,IF(AND($G113>0,$H113=\"Yes\"),COUNTRY_INFO!$F113,0)))","v":0},0,0,0,0,0,0,0,0,0]
[{"$f":"IF(INTRO!$E$43=\"Non-endemic\",\" \", IF(COUNTRY_INFO!A114=0,\" \",COUNTRY_INFO!A114))","v":"Uganda"},{"$f":"IF(INTRO!$E$43=\"Non-endemic\",\" \", IF(COUNTRY_INFO!B114=0,\" \",COUNTRY_INFO!B114))","v":"NORTHERN"},{"$f":"IF(INTRO!$E$43=\"Non-endemic\",\" \", IF(COUNTRY_INFO!C114=0,\" \",COUNTRY_INFO!C114))","v":"OYAM"},{"$f":"IF(INTRO!$E$43=\"Non-endemic\", 0, IF(COUNTRY_INFO!$K114>0, IF(COUNTRY_INFO!$K114=4, 0, IF(COUNTRY_INFO!$K114=1, COUNTRY_INFO!$F114*0.33, IF(COUNTRY_INFO!$K114=2, COUNTRY_INFO!$F114*0.5, COUNTRY_INFO!$F114))), 0))","v":134510},{"$f":"IF(INTRO!$E$43=\"Non-endemic\", 0, IF(COUNTRY_INFO!$K114>0, IF(COUNTRY_INFO!$K114=4, 0, IF(COUNTRY_INFO!$K114=1, 0, IF(COUNTRY_INFO!$K114=2, COUNTRY_INFO!$G114*0.2, COUNTRY_INFO!$G114))), 0))","v":232052},366562,{"$f":"IF(INTRO!$E$43=\"Non-endemic\", \"Not required\", COUNTRY_INFO!S114)","v":1},null,{"$f":"IF($D114=0,0,IF(AND($G114>0,$H114<>\"Yes\"),D114,IF(AND($G114>0,$H114=\"Yes\"),COUNTRY_INFO!$F114,0)))","v":134510},69625,120114,189739,174062.5,360342,174062.5,0,174062.5,175]
[{"$f":"IF(INTRO!$E$43=\"Non-endemic\",\" \", IF(COUNTRY_INFO!A115=0,\" \",COUNTRY_INFO!A115))","v":"Uganda"},{"$f":"IF(INTRO!$E$43=\"Non-endemic\",\" \", IF(COUNTRY_INFO!B115=0,\" \",COUNTRY_INFO!B115))","v":"NORTHERN"},{"$f":"IF(INTRO!$E$43=\"Non-endemic\",\" \", IF(COUNTRY_INFO!C115=0,\" \",COUNTRY_INFO!C115))","v":"PADER"},{"$f":"IF(INTRO!$E$43=\"Non-endemic\", 0, IF(COUNTRY_INFO!$K115>0, IF(COUNTRY_INFO!$K115=4, 0, IF(COUNTRY_INFO!$K115=1, COUNTRY_INFO!$F115*0.33, IF(COUNTRY_INFO!$K115=2, COUNTRY_INFO!$F115*0.5, COUNTRY_INFO!$F115))), 0))","v":122094},{"$f":"IF(INTRO!$E$43=\"Non-endemic\", 0, IF(COUNTRY_INFO!$K115>0, IF(COUNTRY_INFO!$K115=4, 0, IF(COUNTRY_INFO!$K115=1, 0, IF(COUNTRY_INFO!$K115=2, COUNTRY_INFO!$G115*0.2, COUNTRY_INFO!$G115))), 0))","v":210633},332727,{"$f":"IF(INTRO!$E$43=\"Non-endemic\", \"Not required\", COUNTRY_INFO!S115)","v":1},null,{"$f":"IF($D115=0,0,IF(AND($G115>0,$H115<>\"Yes\"),D115,IF(AND($G115>0,$H115=\"Yes\"),COUNTRY_INFO!$F115,0)))","v":122094},62736,108229,170965,156840,324687,156840,0,156840,157]
[{"$f":"IF(INTRO!$E$43=\"Non-endemic\",\" \", IF(COUNTRY_INFO!A116=0,\" \",COUNTRY_INFO!A116))","v":"Uganda"},{"$f":"IF(INTRO!$E$43=\"Non-endemic\",\" \", IF(COUNTRY_INFO!B116=0,\" \",COUNTRY_INFO!B116))","v":"NORTHERN"},{"$f":"IF(INTRO!$E$43=\"Non-endemic\",\" \", IF(COUNTRY_INFO!C116=0,\" \",COUNTRY_INFO!C116))","v":"PAKWACH"},{"$f":"IF(INTRO!$E$43=\"Non-endemic\", 0, IF(COUNTRY_INFO!$K116>0, IF(COUNTRY_INFO!$K116=4, 0, IF(COUNTRY_INFO!$K116=1, COUNTRY_INFO!$F116*0.33, IF(COUNTRY_INFO!$K116=2, COUNTRY_INFO!$F116*0.5, COUNTRY_INFO!$F116))), 0))","v":55410},{"$f":"IF(INTRO!$E$43=\"Non-endemic\", 0, IF(COUNTRY_INFO!$K116>0, IF(COUNTRY_INFO!$K116=4, 0, IF(COUNTRY_INFO!$K116=1, 0, IF(COUNTRY_INFO!$K116=2, COUNTRY_INFO!$G116*0.2, COUNTRY_INFO!$G116))), 0))","v":95591},151001,{"$f":"IF(INTRO!$E$43=\"Non-endemic\", \"Not required\", COUNTRY_INFO!S116)","v":1},null,{"$f":"IF($D116=0,0,IF(AND($G116>0,$H116<>\"Yes\"),D116,IF(AND($G116>0,$H116=\"Yes\"),COUNTRY_INFO!$F116,0)))","v":55410},52609,90760,143369,131522.5,272280,131522.5,0,131522.5,132]
[{"$f":"IF(INTRO!$E$43=\"Non-endemic\",\" \", IF(COUNTRY_INFO!A117=0,\" \",COUNTRY_INFO!A117))","v":"Uganda"},{"$f":"IF(INTRO!$E$43=\"Non-endemic\",\" \", IF(COUNTRY_INFO!B117=0,\" \",COUNTRY_INFO!B117))","v":"EASTERN"},{"$f":"IF(INTRO!$E$43=\"Non-endemic\",\" \", IF(COUNTRY_INFO!C117=0,\" \",COUNTRY_INFO!C117))","v":"PALLISA"},{"$f":"IF(INTRO!$E$43=\"Non-endemic\", 0, IF(COUNTRY_INFO!$K117>0, IF(COUNTRY_INFO!$K117=4, 0, IF(COUNTRY_INFO!$K117=1, COUNTRY_INFO!$F117*0.33, IF(COUNTRY_INFO!$K117=2, COUNTRY_INFO!$F117*0.5, COUNTRY_INFO!$F117))), 0))","v":27990.27},{"$f":"IF(INTRO!$E$43=\"Non-endemic\", 0, IF(COUNTRY_INFO!$K117>0, IF(COUNTRY_INFO!$K117=4, 0, IF(COUNTRY_INFO!$K117=1, 0, IF(COUNTRY_INFO!$K117=2, COUNTRY_INFO!$G117*0.2, COUNTRY_INFO!$G117))), 0))","v":0},27990.27,{"$f":"IF(INTRO!$E$43=\"Non-endemic\", \"Not required\", COUNTRY_INFO!S117)","v":1},null,{"$f":"IF($D117=0,0,IF(AND($G117>0,$H117<>\"Yes\"),D117,IF(AND($G117>0,$H117=\"Yes\"),COUNTRY_INFO!$F117,0)))","v":27990.27},45263,0,45263,113157.5,0,113157.5,0,113157.5,114]
[{"$f":"IF(INTRO!$E$43=\"Non-endemic\",\" \", IF(COUNTRY_INFO!A118=0,\" \",COUNTRY_INFO!A118))","v":"Uganda"},{"$f":"IF(INTRO!$E$43=\"Non-endemic\",\" \", IF(COUNTRY_INFO!B118=0,\" \",COUNTRY_INFO!B118))","v":"CENTRAL"},{"$f":"IF(INTRO!$E$43=\"Non-endemic\",\" \", IF(COUNTRY_INFO!C118=0,\" \",COUNTRY_INFO!C118))","v":"RAKAI"},{"$f":"IF(INTRO!$E$43=\"Non-endemic\", 0, IF(COUNTRY_INFO!$K118>0, IF(COUNTRY_INFO!$K118=4, 0, IF(COUNTRY_INFO!$K118=1, COUNTRY_INFO!$F118*0.33, IF(COUNTRY_INFO!$K118=2, COUNTRY_INFO!$F118*0.5, COUNTRY_INFO!$F118))), 0))","v":40933.200000000004},{"$f":"IF(INTRO!$E$43=\"Non-endemic\", 0, IF(COUNTRY_INFO!$K118>0, IF(COUNTRY_INFO!$K118=4, 0, IF(COUNTRY_INFO!$K118=1, 0, IF(COUNTRY_INFO!$K118=2, COUNTRY_INFO!$G118*0.2, COUNTRY_INFO!$G118))), 0))","v":0},40933.200000000004,{"$f":"IF(INTRO!$E$43=\"Non-endemic\", \"Not required\", COUNTRY_INFO!S118)","v":1},null,{"$f":"IF($D118=0,0,IF(AND($G118>0,$H118<>\"Yes\"),D118,IF(AND($G118>0,$H118=\"Yes\"),COUNTRY_INFO!$F118,0)))","v":40933.200000000004},22130,0,22130,55325,0,55325,0,55325,56]
[{"$f":"IF(INTRO!$E$43=\"Non-endemic\",\" \", IF(COUNTRY_INFO!A119=0,\" \",COUNTRY_INFO!A119))","v":"Uganda"},{"$f":"IF(INTRO!$E$43=\"Non-endemic\",\" \", IF(COUNTRY_INFO!B119=0,\" \",COUNTRY_INFO!B119))","v":"WESTERN"},{"$f":"IF(INTRO!$E$43=\"Non-endemic\",\" \", IF(COUNTRY_INFO!C119=0,\" \",COUNTRY_INFO!C119))","v":"RUBANDA"},{"$f":"IF(INTRO!$E$43=\"Non-endemic\", 0, IF(COUNTRY_INFO!$K119>0, IF(COUNTRY_INFO!$K119=4, 0, IF(COUNTRY_INFO!$K119=1, COUNTRY_INFO!$F119*0.33, IF(COUNTRY_INFO!$K119=2, COUNTRY_INFO!$F119*0.5, COUNTRY_INFO!$F119))), 0))","v":0},{"$f":"IF(INTRO!$E$43=\"Non-endemic\", 0, IF(COUNTRY_INFO!$K119>0, IF(COUNTRY_INFO!$K119=4, 0, IF(COUNTRY_INFO!$K119=1, 0, IF(COUNTRY_INFO!$K119=2, COUNTRY_INFO!$G119*0.2, COUNTRY_INFO!$G119))), 0))","v":0},0,{"$f":"IF(INTRO!$E$43=\"Non-endemic\", \"Not required\", COUNTRY_INFO!S119)","v":0},null,{"$f":"IF($D119=0,0,IF(AND($G119>0,$H119<>\"Yes\"),D119,IF(AND($G119>0,$H119=\"Yes\"),COUNTRY_INFO!$F119,0)))","v":0},0,0,0,0,0,0,0,0,0]
[{"$f":"IF(INTRO!$E$43=\"Non-endemic\",\" \", IF(COUNTRY_INFO!A120=0,\" \",COUNTRY_INFO!A120))","v":"Uganda"},{"$f":"IF(INTRO!$E$43=\"Non-endemic\",\" \", IF(COUNTRY_INFO!B120=0,\" \",COUNTRY_INFO!B120))","v":"WESTERN"},{"$f":"IF(INTRO!$E$43=\"Non-endemic\",\" \", IF(COUNTRY_INFO!C120=0,\" \",COUNTRY_INFO!C120))","v":"RUBIRIZI"},{"$f":"IF(INTRO!$E$43=\"Non-endemic\", 0, IF(COUNTRY_INFO!$K120>0, IF(COUNTRY_INFO!$K120=4, 0, IF(COUNTRY_INFO!$K120=1, COUNTRY_INFO!$F120*0.33, IF(COUNTRY_INFO!$K120=2, COUNTRY_INFO!$F120*0.5, COUNTRY_INFO!$F120))), 0))","v":45281},{"$f":"IF(INTRO!$E$43=\"Non-endemic\", 0, IF(COUNTRY_INFO!$K120>0, IF(COUNTRY_INFO!$K120=4, 0, IF(COUNTRY_INFO!$K120=1, 0, IF(COUNTRY_INFO!$K120=2, COUNTRY_INFO!$G120*0.2, COUNTRY_INFO!$G120))), 0))","v":78117},123398,{"$f":"IF(INTRO!$E$43=\"Non-endemic\", \"Not required\", COUNTRY_INFO!S120)","v":1},null,{"$f":"IF($D120=0,0,IF(AND($G120>0,$H120<>\"Yes\"),D120,IF(AND($G120>0,$H120=\"Yes\"),COUNTRY_INFO!$F120,0)))","v":45281},1286,2218,3504,3215,6654,3215,0,3215,4]
[{"$f":"IF(INTRO!$E$43=\"Non-endemic\",\" \", IF(COUNTRY_INFO!A121=0,\" \",COUNTRY_INFO!A121))","v":"Uganda"},{"$f":"IF(INTRO!$E$43=\"Non-endemic\",\" \", IF(COUNTRY_INFO!B121=0,\" \",COUNTRY_INFO!B121))","v":"Western"},{"$f":"IF(INTRO!$E$43=\"Non-endemic\",\" \", IF(COUNTRY_INFO!C121=0,\" \",COUNTRY_INFO!C121))","v":"RUKIGA"},{"$f":"IF(INTRO!$E$43=\"Non-endemic\", 0, IF(COUNTRY_INFO!$K121>0, IF(COUNTRY_INFO!$K121=4, 0, IF(COUNTRY_INFO!$K121=1, COUNTRY_INFO!$F121*0.33, IF(COUNTRY_INFO!$K121=2, COUNTRY_INFO!$F121*0.5, COUNTRY_INFO!$F121))), 0))","v":0},{"$f":"IF(INTRO!$E$43=\"Non-endemic\", 0, IF(COUNTRY_INFO!$K121>0, IF(COUNTRY_INFO!$K121=4, 0, IF(COUNTRY_INFO!$K121=1, 0, IF(COUNTRY_INFO!$K121=2, COUNTRY_INFO!$G121*0.2, COUNTRY_INFO!$G121))), 0))","v":0},0,{"$f":"IF(INTRO!$E$43=\"Non-endemic\", \"Not required\", COUNTRY_INFO!S121)","v":0},null,{"$f":"IF($D121=0,0,IF(AND($G121>0,$H121<>\"Yes\"),D121,IF(AND($G121>0,$H121=\"Yes\"),COUNTRY_INFO!$F121,0)))","v":0},0,0,0,0,0,0,0,0,0]
[{"$f":"IF(INTRO!$E$43=\"Non-endemic\",\" \", IF(COUNTRY_INFO!A122=0,\" \",COUNTRY_INFO!A122))","v":"Uganda"},{"$f":"IF(INTRO!$E$43=\"Non-endemic\",\" \", IF(COUNTRY_INFO!B122=0,\" \",COUNTRY_INFO!B122))","v":"WESTERN"},{"$f":"IF(INTRO!$E$43=\"Non-endemic\",\" \", IF(COUNTRY_INFO!C122=0,\" \",COUNTRY_INFO!C122))","v":"RUKUNGIRI"},{"$f":"IF(INTRO!$E$43=\"Non-endemic\", 0, IF(COUNTRY_INFO!$K122>0, IF(COUNTRY_INFO!$K122=4, 0, IF(COUNTRY_INFO!$K122=1, COUNTRY_INFO!$F122*0.33, IF(COUNTRY_INFO!$K122=2, COUNTRY_INFO!$F122*0.5, COUNTRY_INFO!$F122))), 0))","v":36410.550000000003},{"$f":"IF(INTRO!$E$43=\"Non-endemic\", 0, IF(COUNTRY_INFO!$K122>0, IF(COUNTRY_INFO!$K122=4, 0, IF(COUNTRY_INFO!$K122=1, 0, IF(COUNTRY_INFO!$K122=2, COUNTRY_INFO!$G122*0.2, COUNTRY_INFO!$G122))), 0))","v":0},36410.550000000003,{"$f":"IF(INTRO!$E$43=\"Non-endemic\", \"Not required\", COUNTRY_INFO!S122)","v":1},null,{"$f":"IF($D122=0,0,IF(AND($G122>0,$H122<>\"Yes\"),D122,IF(AND($G122>0,$H122=\"Yes\"),COUNTRY_INFO!$F122,0)))","v":36410.550000000003},12994,0,12994,32485,0,32485,0,32485,33]
[{"$f":"IF(INTRO!$E$43=\"Non-endemic\",\" \", IF(COUNTRY_INFO!A123=0,\" \",COUNTRY_INFO!A123))","v":"Uganda"},{"$f":"IF(INTRO!$E$43=\"Non-endemic\",\" \", IF(COUNTRY_INFO!B123=0,\" \",COUNTRY_INFO!B123))","v":"CENTRAL"},{"$f":"IF(INTRO!$E$43=\"Non-endemic\",\" \", IF(COUNTRY_INFO!C123=0,\" \",COUNTRY_INFO!C123))","v":"SEMBABULE"},{"$f":"IF(INTRO!$E$43=\"Non-endemic\", 0, IF(COUNTRY_INFO!$K123>0, IF(COUNTRY_INFO!$K123=4, 0, IF(COUNTRY_INFO!$K123=1, COUNTRY_INFO!$F123*0.33, IF(COUNTRY_INFO!$K123=2, COUNTRY_INFO!$F123*0.5, COUNTRY_INFO!$F123))), 0))","v":0},{"$f":"IF(INTRO!$E$43=\"Non-endemic\", 0, IF(COUNTRY_INFO!$K123>0, IF(COUNTRY_INFO!$K123=4, 0, IF(COUNTRY_INFO!$K123=1, 0, IF(COUNTRY_INFO!$K123=2, COUNTRY_INFO!$G123*0.2, COUNTRY_INFO!$G123))), 0))","v":0},0,{"$f":"IF(INTRO!$E$43=\"Non-endemic\", \"Not required\", COUNTRY_INFO!S123)","v":0},null,{"$f":"IF($D123=0,0,IF(AND($G123>0,$H123<>\"Yes\"),D123,IF(AND($G123>0,$H123=\"Yes\"),COUNTRY_INFO!$F123,0)))","v":0},0,0,0,0,0,0,0,0,0]
[{"$f":"IF(INTRO!$E$43=\"Non-endemic\",\" \", IF(COUNTRY_INFO!A124=0,\" \",COUNTRY_INFO!A124))","v":"Uganda"},{"$f":"IF(INTRO!$E$43=\"Non-endemic\",\" \", IF(COUNTRY_INFO!B124=0,\" \",COUNTRY_INFO!B124))","v":"EASTERN"},{"$f":"IF(INTRO!$E$43=\"Non-endemic\",\" \", IF(COUNTRY_INFO!C124=0,\" \",COUNTRY_INFO!C124))","v":"SERERE"},{"$f":"IF(INTRO!$E$43=\"Non-endemic\", 0, IF(COUNTRY_INFO!$K124>0, IF(COUNTRY_INFO!$K124=4, 0, IF(COUNTRY_INFO!$K124=1, COUNTRY_INFO!$F124*0.33, IF(COUNTRY_INFO!$K124=2, COUNTRY_INFO!$F124*0.5, COUNTRY_INFO!$F124))), 0))","v":100240},{"$f":"IF(INTRO!$E$43=\"Non-endemic\", 0, IF(COUNTRY_INFO!$K124>0, IF(COUNTRY_INFO!$K124=4, 0, IF(COUNTRY_INFO!$K124=1, 0, IF(COUNTRY_INFO!$K124=2, COUNTRY_INFO!$G124*0.2, COUNTRY_INFO!$G124))), 0))","v":172931},273171,{"$f":"IF(INTRO!$E$43=\"Non-endemic\", \"Not required\", COUNTRY_INFO!S124)","v":1},null,{"$f":"IF($D124=0,0,IF(AND($G124>0,$H124<>\"Yes\"),D124,IF(AND($G124>0,$H124=\"Yes\"),COUNTRY_INFO!$F124,0)))","v":100240},62736,108230,170966,156840,324690,156840,0,156840,157]
[{"$f":"IF(INTRO!$E$43=\"Non-endemic\",\" \", IF(COUNTRY_INFO!A125=0,\" \",COUNTRY_INFO!A125))","v":"Uganda"},{"$f":"IF(INTRO!$E$43=\"Non-endemic\",\" \", IF(COUNTRY_INFO!B125=0,\" \",COUNTRY_INFO!B125))","v":"WESTERN"},{"$f":"IF(INTRO!$E$43=\"Non-endemic\",\" \", IF(COUNTRY_INFO!C125=0,\" \",COUNTRY_INFO!C125))","v":"SHEEMA"},{"$f":"IF(INTRO!$E$43=\"Non-endemic\", 0, IF(COUNTRY_INFO!$K125>0, IF(COUNTRY_INFO!$K125=4, 0, IF(COUNTRY_INFO!$K125=1, COUNTRY_INFO!$F125*0.33, IF(COUNTRY_INFO!$K125=2, COUNTRY_INFO!$F125*0.5, COUNTRY_INFO!$F125))), 0))","v":0},{"$f":"IF(INTRO!$E$43=\"Non-endemic\", 0, IF(COUNTRY_INFO!$K125>0, IF(COUNTRY_INFO!$K125=4, 0, IF(COUNTRY_INFO!$K125=1, 0, IF(COUNTRY_INFO!$K125=2, COUNTRY_INFO!$G125*0.2, COUNTRY_INFO!$G125))), 0))","v":0},0,{"$f":"IF(INTRO!$E$43=\"Non-endemic\", \"Not required\", COUNTRY_INFO!S125)","v":0},null,{"$f":"IF($D125=0,0,IF(AND($G125>0,$H125<>\"Yes\"),D125,IF(AND($G125>0,$H125=\"Yes\"),COUNTRY_INFO!$F125,0)))","v":0},0,0,0,0,0,0,0,0,0]
[{"$f":"IF(INTRO!$E$43=\"Non-endemic\",\" \", IF(COUNTRY_INFO!A126=0,\" \",COUNTRY_INFO!A126))","v":"Uganda"},{"$f":"IF(INTRO!$E$43=\"Non-endemic\",\" \", IF(COUNTRY_INFO!B126=0,\" \",COUNTRY_INFO!B126))","v":"EASTERN"},{"$f":"IF(INTRO!$E$43=\"Non-endemic\",\" \", IF(COUNTRY_INFO!C126=0,\" \",COUNTRY_INFO!C126))","v":"SIRONKO"},{"$f":"IF(INTRO!$E$43=\"Non-endemic\", 0, IF(COUNTRY_INFO!$K126>0, IF(COUNTRY_INFO!$K126=4, 0, IF(COUNTRY_INFO!$K126=1, COUNTRY_INFO!$F126*0.33, IF(COUNTRY_INFO!$K126=2, COUNTRY_INFO!$F126*0.5, COUNTRY_INFO!$F126))), 0))","v":28048.350000000002},{"$f":"IF(INTRO!$E$43=\"Non-endemic\", 0, IF(COUNTRY_INFO!$K126>0, IF(COUNTRY_INFO!$K126=4, 0, IF(COUNTRY_INFO!$K126=1, 0, IF(COUNTRY_INFO!$K126=2, COUNTRY_INFO!$G126*0.2, COUNTRY_INFO!$G126))), 0))","v":0},28048.350000000002,{"$f":"IF(INTRO!$E$43=\"Non-endemic\", \"Not required\", COUNTRY_INFO!S126)","v":1},null,{"$f":"IF($D126=0,0,IF(AND($G126>0,$H126<>\"Yes\"),D126,IF(AND($G126>0,$H126=\"Yes\"),COUNTRY_INFO!$F126,0)))","v":28048.350000000002},10005,0,10005,25012.5,0,25012.5,0,25012.5,26]
[{"$f":"IF(INTRO!$E$43=\"Non-endemic\",\" \", IF(COUNTRY_INFO!A127=0,\" \",COUNTRY_INFO!A127))","v":"Uganda"},{"$f":"IF(INTRO!$E$43=\"Non-endemic\",\" \", IF(COUNTRY_INFO!B127=0,\" \",COUNTRY_INFO!B127))","v":"EASTERN"},{"$f":"IF(INTRO!$E$43=\"Non-endemic\",\" \", IF(COUNTRY_INFO!C127=0,\" \",COUNTRY_INFO!C127))","v":"SOROTI"},{"$f":"IF(INTRO!$E$43=\"Non-endemic\", 0, IF(COUNTRY_INFO!$K127>0, IF(COUNTRY_INFO!$K127=4, 0, IF(COUNTRY_INFO!$K127=1, COUNTRY_INFO!$F127*0.33, IF(COUNTRY_INFO!$K127=2, COUNTRY_INFO!$F127*0.5, COUNTRY_INFO!$F127))), 0))","v":34344.090000000004},{"$f":"IF(INTRO!$E$43=\"Non-endemic\", 0, IF(COUNTRY_INFO!$K127>0, IF(COUNTRY_INFO!$K127=4, 0, IF(COUNTRY_INFO!$K127=1, 0, IF(COUNTRY_INFO!$K127=2, COUNTRY_INFO!$G127*0.2, COUNTRY_INFO!$G127))), 0))","v":0},34344.090000000004,{"$f":"IF(INTRO!$E$43=\"Non-endemic\", \"Not required\", COUNTRY_INFO!S127)","v":1},null,{"$f":"IF($D127=0,0,IF(AND($G127>0,$H127<>\"Yes\"),D127,IF(AND($G127>0,$H127=\"Yes\"),COUNTRY_INFO!$F127,0)))","v":34344.090000000004},19646,0,19646,49115,0,49115,0,49115,50]
[{"$f":"IF(INTRO!$E$43=\"Non-endemic\",\" \", IF(COUNTRY_INFO!A128=0,\" \",COUNTRY_INFO!A128))","v":"Uganda"},{"$f":"IF(INTRO!$E$43=\"Non-endemic\",\" \", IF(COUNTRY_INFO!B128=0,\" \",COUNTRY_INFO!B128))","v":"EASTERN"},{"$f":"IF(INTRO!$E$43=\"Non-endemic\",\" \", IF(COUNTRY_INFO!C128=0,\" \",COUNTRY_INFO!C128))","v":"TORORO"},{"$f":"IF(INTRO!$E$43=\"Non-endemic\", 0, IF(COUNTRY_INFO!$K128>0, IF(COUNTRY_INFO!$K128=4, 0, IF(COUNTRY_INFO!$K128=1, COUNTRY_INFO!$F128*0.33, IF(COUNTRY_INFO!$K128=2, COUNTRY_INFO!$F128*0.5, COUNTRY_INFO!$F128))), 0))","v":59827.350000000006},{"$f":"IF(INTRO!$E$43=\"Non-endemic\", 0, IF(COUNTRY_INFO!$K128>0, IF(COUNTRY_INFO!$K128=4, 0, IF(COUNTRY_INFO!$K128=1, 0, IF(COUNTRY_INFO!$K128=2, COUNTRY_INFO!$G128*0.2, COUNTRY_INFO!$G128))), 0))","v":0},59827.350000000006,{"$f":"IF(INTRO!$E$43=\"Non-endemic\", \"Not required\", COUNTRY_INFO!S128)","v":1},null,{"$f":"IF($D128=0,0,IF(AND($G128>0,$H128<>\"Yes\"),D128,IF(AND($G128>0,$H128=\"Yes\"),COUNTRY_INFO!$F128,0)))","v":59827.350000000006},114436,0,114436,286090,0,286090,0,286090,287]
[{"$f":"IF(INTRO!$E$43=\"Non-endemic\",\" \", IF(COUNTRY_INFO!A129=0,\" \",COUNTRY_INFO!A129))","v":"Uganda"},{"$f":"IF(INTRO!$E$43=\"Non-endemic\",\" \", IF(COUNTRY_INFO!B129=0,\" \",COUNTRY_INFO!B129))","v":"CENTRAL"},{"$f":"IF(INTRO!$E$43=\"Non-endemic\",\" \", IF(COUNTRY_INFO!C129=0,\" \",COUNTRY_INFO!C129))","v":"WAKISO"},{"$f":"IF(INTRO!$E$43=\"Non-endemic\", 0, IF(COUNTRY_INFO!$K129>0, IF(COUNTRY_INFO!$K129=4, 0, IF(COUNTRY_INFO!$K129=1, COUNTRY_INFO!$F129*0.33, IF(COUNTRY_INFO!$K129=2, COUNTRY_INFO!$F129*0.5, COUNTRY_INFO!$F129))), 0))","v":350158.5},{"$f":"IF(INTRO!$E$43=\"Non-endemic\", 0, IF(COUNTRY_INFO!$K129>0, IF(COUNTRY_INFO!$K129=4, 0, IF(COUNTRY_INFO!$K129=1, 0, IF(COUNTRY_INFO!$K129=2, COUNTRY_INFO!$G129*0.2, COUNTRY_INFO!$G129))), 0))","v":241632.6},591791.1,{"$f":"IF(INTRO!$E$43=\"Non-endemic\", \"Not required\", COUNTRY_INFO!S129)","v":1},null,{"$f":"IF($D129=0,0,IF(AND($G129>0,$H129<>\"Yes\"),D129,IF(AND($G129>0,$H129=\"Yes\"),COUNTRY_INFO!$F129,0)))","v":350158.5},66307,114391,180698,165767.5,343173,165767.5,0,165767.5,166]
[{"$f":"IF(INTRO!$E$43=\"Non-endemic\",\" \", IF(COUNTRY_INFO!A130=0,\" \",COUNTRY_INFO!A130))","v":"Uganda"},{"$f":"IF(INTRO!$E$43=\"Non-endemic\",\" \", IF(COUNTRY_INFO!B130=0,\" \",COUNTRY_INFO!B130))","v":"NORTHERN"},{"$f":"IF(INTRO!$E$43=\"Non-endemic\",\" \", IF(COUNTRY_INFO!C130=0,\" \",COUNTRY_INFO!C130))","v":"YUMBE"},{"$f":"IF(INTRO!$E$43=\"Non-endemic\", 0, IF(COUNTRY_INFO!$K130>0, IF(COUNTRY_INFO!$K130=4, 0, IF(COUNTRY_INFO!$K130=1, COUNTRY_INFO!$F130*0.33, IF(COUNTRY_INFO!$K130=2, COUNTRY_INFO!$F130*0.5, COUNTRY_INFO!$F130))), 0))","v":84992},{"$f":"IF(INTRO!$E$43=\"Non-endemic\", 0, IF(COUNTRY_INFO!$K130>0, IF(COUNTRY_INFO!$K130=4, 0, IF(COUNTRY_INFO!$K130=1, 0, IF(COUNTRY_INFO!$K130=2, COUNTRY_INFO!$G130*0.2, COUNTRY_INFO!$G130))), 0))","v":58650},143642,{"$f":"IF(INTRO!$E$43=\"Non-endemic\", \"Not required\", COUNTRY_INFO!S130)","v":1},null,{"$f":"IF($D130=0,0,IF(AND($G130>0,$H130<>\"Yes\"),D130,IF(AND($G130>0,$H130=\"Yes\"),COUNTRY_INFO!$F130,0)))","v":84992},98502,169933,268435,246255,509799,246255,0,246255,247]
[{"$f":"IF(INTRO!$E$43=\"Non-endemic\",\" \", IF(COUNTRY_INFO!A131=0,\" \",COUNTRY_INFO!A131))","v":"Uganda"},{"$f":"IF(INTRO!$E$43=\"Non-endemic\",\" \", IF(COUNTRY_INFO!B131=0,\" \",COUNTRY_INFO!B131))","v":"NORTHERN"},{"$f":"IF(INTRO!$E$43=\"Non-endemic\",\" \", IF(COUNTRY_INFO!C131=0,\" \",COUNTRY_INFO!C131))","v":"ZOMBO"},{"$f":"IF(INTRO!$E$43=\"Non-endemic\", 0, IF(COUNTRY_INFO!$K131>0, IF(COUNTRY_INFO!$K131=4, 0, IF(COUNTRY_INFO!$K131=1, COUNTRY_INFO!$F131*0.33, IF(COUNTRY_INFO!$K131=2, COUNTRY_INFO!$F131*0.5, COUNTRY_INFO!$F131))), 0))","v":27777.75},{"$f":"IF(INTRO!$E$43=\"Non-endemic\", 0, IF(COUNTRY_INFO!$K131>0, IF(COUNTRY_INFO!$K131=4, 0, IF(COUNTRY_INFO!$K131=1, 0, IF(COUNTRY_INFO!$K131=2, COUNTRY_INFO!$G131*0.2, COUNTRY_INFO!$G131))), 0))","v":0},27777.75,{"$f":"IF(INTRO!$E$43=\"Non-endemic\", \"Not required\", COUNTRY_INFO!S131)","v":1},null,{"$f":"IF($D131=0,0,IF(AND($G131>0,$H131<>\"Yes\"),D131,IF(AND($G131>0,$H131=\"Yes\"),COUNTRY_INFO!$F131,0)))","v":27777.75},31966,0,31966,79915,0,79915,0,79915,80]
[{"$f":"IF(INTRO!$E$43=\"Non-endemic\",\" \", IF(COUNTRY_INFO!A132=0,\" \",COUNTRY_INFO!A132))","v":"Uganda"},{"$f":"IF(INTRO!$E$43=\"Non-endemic\",\" \", IF(COUNTRY_INFO!B132=0,\" \",COUNTRY_INFO!B132))","v":"NORTHERN"},{"$f":"IF(INTRO!$E$43=\"Non-endemic\",\" \", IF(COUNTRY_INFO!C132=0,\" \",COUNTRY_INFO!C132))","v":"REFUGEE"},{"$f":"IF(INTRO!$E$43=\"Non-endemic\", 0, IF(COUNTRY_INFO!$K132>0, IF(COUNTRY_INFO!$K132=4, 0, IF(COUNTRY_INFO!$K132=1, COUNTRY_INFO!$F132*0.33, IF(COUNTRY_INFO!$K132=2, COUNTRY_INFO!$F132*0.5, COUNTRY_INFO!$F132))), 0))","v":19932},{"$f":"IF(INTRO!$E$43=\"Non-endemic\", 0, IF(COUNTRY_INFO!$K132>0, IF(COUNTRY_INFO!$K132=4, 0, IF(COUNTRY_INFO!$K132=1, 0, IF(COUNTRY_INFO!$K132=2, COUNTRY_INFO!$G132*0.2, COUNTRY_INFO!$G132))), 0))","v":0},19932,{"$f":"IF(INTRO!$E$43=\"Non-endemic\", \"Not required\", COUNTRY_INFO!S132)","v":1},null,{"$f":"IF($D132=0,0,IF(AND($G132>0,$H132<>\"Yes\"),D132,IF(AND($G132>0,$H132=\"Yes\"),COUNTRY_INFO!$F132,0)))","v":19932},null,{"$f":"IF($G132>0,E132, 0)","v":0},19932,49830,0,49830,null,49830,50]
[{"$f":"IF(INTRO!$E$43=\"Non-endemic\",\" \", IF(COUNTRY_INFO!A133=0,\" \",COUNTRY_INFO!A133))","v":"Uganda"},{"$f":"IF(INTRO!$E$43=\"Non-endemic\",\" \", IF(COUNTRY_INFO!B133=0,\" \",COUNTRY_INFO!B133))","v":" "},{"$f":"IF(INTRO!$E$43=\"Non-endemic\",\" \", IF(COUNTRY_INFO!C133=0,\" \",COUNTRY_INFO!C133))","v":" "},{"$f":"IF(INTRO!$E$43=\"Non-endemic\", 0, IF(COUNTRY_INFO!$K133>0, IF(COUNTRY_INFO!$K133=4, 0, IF(COUNTRY_INFO!$K133=1, COUNTRY_INFO!$F133*0.33, IF(COUNTRY_INFO!$K133=2, COUNTRY_INFO!$F133*0.5, COUNTRY_INFO!$F133))), 0))","v":0},{"$f":"IF(INTRO!$E$43=\"Non-endemic\", 0, IF(COUNTRY_INFO!$K133>0, IF(COUNTRY_INFO!$K133=4, 0, IF(COUNTRY_INFO!$K133=1, 0, IF(COUNTRY_INFO!$K133=2, COUNTRY_INFO!$G133*0.2, COUNTRY_INFO!$G133))), 0))","v":0},0,{"$f":"IF(INTRO!$E$43=\"Non-endemic\", \"Not required\", COUNTRY_INFO!S133)","v":0},null,{"$f":"IF($D133=0,0,IF(AND($G133>0,$H133<>\"Yes\"),D133,IF(AND($G133>0,$H133=\"Yes\"),COUNTRY_INFO!$F133,0)))","v":0},null,0,0,0,0,0,null,0,0]
[{"$f":"IF(INTRO!$E$43=\"Non-endemic\",\" \", IF(COUNTRY_INFO!A134=0,\" \",COUNTRY_INFO!A134))","v":"Uganda"},{"$f":"IF(INTRO!$E$43=\"Non-endemic\",\" \", IF(COUNTRY_INFO!B134=0,\" \",COUNTRY_INFO!B134))","v":" "},{"$f":"IF(INTRO!$E$43=\"Non-endemic\",\" \", IF(COUNTRY_INFO!C134=0,\" \",COUNTRY_INFO!C134))","v":" "},{"$f":"IF(INTRO!$E$43=\"Non-endemic\", 0, IF(COUNTRY_INFO!$K134>0, IF(COUNTRY_INFO!$K134=4, 0, IF(COUNTRY_INFO!$K134=1, COUNTRY_INFO!$F134*0.33, IF(COUNTRY_INFO!$K134=2, COUNTRY_INFO!$F134*0.5, COUNTRY_INFO!$F134))), 0))","v":0},{"$f":"IF(INTRO!$E$43=\"Non-endemic\", 0, IF(COUNTRY_INFO!$K134>0, IF(COUNTRY_INFO!$K134=4, 0, IF(COUNTRY_INFO!$K134=1, 0, IF(COUNTRY_INFO!$K134=2, COUNTRY_INFO!$G134*0.2, COUNTRY_INFO!$G134))), 0))","v":0},0,{"$f":"IF(INTRO!$E$43=\"Non-endemic\", \"Not required\", COUNTRY_INFO!S134)","v":0},null,{"$f":"IF($D134=0,0,IF(AND($G134>0,$H134<>\"Yes\"),D134,IF(AND($G134>0,$H134=\"Yes\"),COUNTRY_INFO!$F134,0)))","v":0},null,0,0,0,0,0,null,0,0]
[{"$f":"IF(INTRO!$E$43=\"Non-endemic\",\" \", IF(COUNTRY_INFO!A135=0,\" \",COUNTRY_INFO!A135))","v":"Uganda"},{"$f":"IF(INTRO!$E$43=\"Non-endemic\",\" \", IF(COUNTRY_INFO!B135=0,\" \",COUNTRY_INFO!B135))","v":" "},{"$f":"IF(INTRO!$E$43=\"Non-endemic\",\" \", IF(COUNTRY_INFO!C135=0,\" \",COUNTRY_INFO!C135))","v":" "},{"$f":"IF(INTRO!$E$43=\"Non-endemic\", 0, IF(COUNTRY_INFO!$K135>0, IF(COUNTRY_INFO!$K135=4, 0, IF(COUNTRY_INFO!$K135=1, COUNTRY_INFO!$F135*0.33, IF(COUNTRY_INFO!$K135=2, COUNTRY_INFO!$F135*0.5, COUNTRY_INFO!$F135))), 0))","v":0},{"$f":"IF(INTRO!$E$43=\"Non-endemic\", 0, IF(COUNTRY_INFO!$K135>0, IF(COUNTRY_INFO!$K135=4, 0, IF(COUNTRY_INFO!$K135=1, 0, IF(COUNTRY_INFO!$K135=2, COUNTRY_INFO!$G135*0.2, COUNTRY_INFO!$G135))), 0))","v":0},0,{"$f":"IF(INTRO!$E$43=\"Non-endemic\", \"Not required\", COUNTRY_INFO!S135)","v":0},null,{"$f":"IF($D135=0,0,IF(AND($G135>0,$H135<>\"Yes\"),D135,IF(AND($G135>0,$H135=\"Yes\"),COUNTRY_INFO!$F135,0)))","v":0},null,0,0,0,0,0,null,0,0]
[{"$f":"IF(INTRO!$E$43=\"Non-endemic\",\" \", IF(COUNTRY_INFO!A136=0,\" \",COUNTRY_INFO!A136))","v":"Uganda"},{"$f":"IF(INTRO!$E$43=\"Non-endemic\",\" \", IF(COUNTRY_INFO!B136=0,\" \",COUNTRY_INFO!B136))","v":" "},{"$f":"IF(INTRO!$E$43=\"Non-endemic\",\" \", IF(COUNTRY_INFO!C136=0,\" \",COUNTRY_INFO!C136))","v":" "},{"$f":"IF(INTRO!$E$43=\"Non-endemic\", 0, IF(COUNTRY_INFO!$K136>0, IF(COUNTRY_INFO!$K136=4, 0, IF(COUNTRY_INFO!$K136=1, COUNTRY_INFO!$F136*0.33, IF(COUNTRY_INFO!$K136=2, COUNTRY_INFO!$F136*0.5, COUNTRY_INFO!$F136))), 0))","v":0},{"$f":"IF(INTRO!$E$43=\"Non-endemic\", 0, IF(COUNTRY_INFO!$K136>0, IF(COUNTRY_INFO!$K136=4, 0, IF(COUNTRY_INFO!$K136=1, 0, IF(COUNTRY_INFO!$K136=2, COUNTRY_INFO!$G136*0.2, COUNTRY_INFO!$G136))), 0))","v":0},0,{"$f":"IF(INTRO!$E$43=\"Non-endemic\", \"Not required\", COUNTRY_INFO!S136)","v":0},null,{"$f":"IF($D136=0,0,IF(AND($G136>0,$H136<>\"Yes\"),D136,IF(AND($G136>0,$H136=\"Yes\"),COUNTRY_INFO!$F136,0)))","v":0},null,0,0,0,0,0,null,0,0]
[{"$f":"IF(INTRO!$E$43=\"Non-endemic\",\" \", IF(COUNTRY_INFO!A137=0,\" \",COUNTRY_INFO!A137))","v":"Uganda"},{"$f":"IF(INTRO!$E$43=\"Non-endemic\",\" \", IF(COUNTRY_INFO!B137=0,\" \",COUNTRY_INFO!B137))","v":" "},{"$f":"IF(INTRO!$E$43=\"Non-endemic\",\" \", IF(COUNTRY_INFO!C137=0,\" \",COUNTRY_INFO!C137))","v":" "},{"$f":"IF(INTRO!$E$43=\"Non-endemic\", 0, IF(COUNTRY_INFO!$K137>0, IF(COUNTRY_INFO!$K137=4, 0, IF(COUNTRY_INFO!$K137=1, COUNTRY_INFO!$F137*0.33, IF(COUNTRY_INFO!$K137=2, COUNTRY_INFO!$F137*0.5, COUNTRY_INFO!$F137))), 0))","v":0},{"$f":"IF(INTRO!$E$43=\"Non-endemic\", 0, IF(COUNTRY_INFO!$K137>0, IF(COUNTRY_INFO!$K137=4, 0, IF(COUNTRY_INFO!$K137=1, 0, IF(COUNTRY_INFO!$K137=2, COUNTRY_INFO!$G137*0.2, COUNTRY_INFO!$G137))), 0))","v":0},{"$f":"SUM(D137:E137)","v":0},{"$f":"IF(INTRO!$E$43=\"Non-endemic\", \"Not required\", COUNTRY_INFO!S137)","v":0},null,{"$f":"IF($D137=0,0,IF(AND($G137>0,$H137<>\"Yes\"),D137,IF(AND($G137>0,$H137=\"Yes\"),COUNTRY_INFO!$F137,0)))","v":0},null,0,{"$f":"IF($J137=0,SUM(I137,K137),SUM(J137,K137))","v":0},0,0,0,null,{"$f":"IF($O137>$P137,O137-P137,0)","v":0},0]
[{"$f":"IF(INTRO!$E$43=\"Non-endemic\",\" \", IF(COUNTRY_INFO!A138=0,\" \",COUNTRY_INFO!A138))","v":"Uganda"},{"$f":"IF(INTRO!$E$43=\"Non-endemic\",\" \", IF(COUNTRY_INFO!B138=0,\" \",COUNTRY_INFO!B138))","v":" "},{"$f":"IF(INTRO!$E$43=\"Non-endemic\",\" \", IF(COUNTRY_INFO!C138=0,\" \",COUNTRY_INFO!C138))","v":" "},{"$f":"IF(INTRO!$E$43=\"Non-endemic\", 0, IF(COUNTRY_INFO!$K138>0, IF(COUNTRY_INFO!$K138=4, 0, IF(COUNTRY_INFO!$K138=1, COUNTRY_INFO!$F138*0.33, IF(COUNTRY_INFO!$K138=2, COUNTRY_INFO!$F138*0.5, COUNTRY_INFO!$F138))), 0))","v":0},{"$f":"IF(INTRO!$E$43=\"Non-endemic\", 0, IF(COUNTRY_INFO!$K138>0, IF(COUNTRY_INFO!$K138=4, 0, IF(COUNTRY_INFO!$K138=1, 0, IF(COUNTRY_INFO!$K138=2, COUNTRY_INFO!$G138*0.2, COUNTRY_INFO!$G138))), 0))","v":0},0,{"$f":"IF(INTRO!$E$43=\"Non-endemic\", \"Not required\", COUNTRY_INFO!S138)","v":0},null,{"$f":"IF($D138=0,0,IF(AND($G138>0,$H138<>\"Yes\"),D138,IF(AND($G138>0,$H138=\"Yes\"),COUNTRY_INFO!$F138,0)))","v":0},null,0,0,0,0,0,null,0,0]

{"sheet":"IVM","index":5,"n_rows":138,"n_cols":17,"rows_kept":138,"cut":false,"hidden":false,"merged":[[6,14,7,14],[5,3,7,3],[6,15,7,15],[6,16,7,16],[6,10,7,10],[6,11,7,11],[6,12,7,12],[6,13,7,13],[3,0,3,2],[3,4,3,5],[6,4,7,4],[6,5,7,5],[5,10,5,16],[6,0,7,0],[6,1,7,1],[6,2,7,2],[6,7,6,9],[5,0,5,2],[5,4,5,5],[5,6,5,9]]}
["Ivermectin (IVM)"]
["Administrative structure, eligible population by age group, treatment plan and information about tablets"]
[]
["TOTAL",null,null,{"$f":"SUM(D$9:D$1000)","v":4062448},null,null,{"$f":"SUM(G$9:G$1000)","v":2721071},2091674,1662742,1827342,5744841.1999999993,8358957.6000000006,1874157.5999999999,15977956.399999999,0,15977956.399999999,31968]
[]
["Country administrative structure",null,null,"Population requiring treatment with IVM","Treatment plan",null,"Target population",null,null,null,"Ivermectin (IVM)"]
["Country","Province/State","District",null,"LF","Oncho","LF","Oncho",null,null,"LF only","Oncho only","LF+Oncho","Total required","Remaining in stock","Tablets to be procured","Bottles (3mg)\n500 tablets"]
[null,null,null,null,null,null,null,"in the district","in villages","total"]
[{"$f":"IF(INTRO!$E$39=\"Non-endemic\",\" \",IF(COUNTRY_INFO!A9=0,\" \",COUNTRY_INFO!A9))","v":"Uganda"},{"$f":"IF(INTRO!$E$39=\"Non-endemic\",\" \",IF(COUNTRY_INFO!B9=0,\" \",COUNTRY_INFO!B9))","v":"NORTHERN"},{"$f":"IF(INTRO!$E$39=\"Non-endemic\",\" \",IF(COUNTRY_INFO!C9=0,\" \",COUNTRY_INFO!C9))","v":"ABIM"},{"$f":"IF(INTRO!$E$39=\"Non-endemic\",0,IF(INTRO!$E$39=\"Endemic but PC is not required\",IF(COUNTRY_INFO!$H9=1,COUNTRY_INFO!F9+COUNTRY_INFO!G9,0),IF(COUNTRY_INFO!$H9=1,COUNTRY_INFO!F9+COUNTRY_INFO!G9,IF(COUNTRY_INFO!$I9=1,IF(COUNTRY_INFO!M9>=(COUNTRY_INFO!F9+COUNTRY_INFO!G9),COUNTRY_INFO!F9+COUNTRY_INFO!G9,COUNTRY_INFO!$M9),0))))","v":0},{"$f":"IF(AND(INTRO!$E$39=\"Non-endemic\",INTRO!$E$37=\"Non-endemic\"),\"Not required\",IF(INTRO!$E$39=\"Non-endemic\",\"Treat with DEC\",COUNTRY_INFO!P9))","v":0},{"$f":"IF(INTRO!$E$39<>\"Non-endemic\",COUNTRY_INFO!Q9,\"Not required\")","v":0},{"$f":"IF(COUNTRY_INFO!H9=1, IF($E9=1,$D9, 0),0)","v":0},{"$f":"IF(INTRO!$E$39<>\"Endemic\",0, IF(AND(COUNTRY_INFO!$I9=1,$F9<>0),IF(COUNTRY_INFO!M9>=(COUNTRY_INFO!F9+COUNTRY_INFO!G9),COUNTRY_INFO!F9+COUNTRY_INFO!G9,COUNTRY_INFO!$M9), 0))","v":0},0,{"$f":"IF(I9=0,H9,IF(I9>H9,H9,I9))","v":0},{"$f":"IF(G9<J9,0,IF($E9=1, (G9-J9)*2.8, 0))","v":0},{"$f":"IF($E9<$F9, J9*(F9-E9)*2.8, 0)","v":0},{"$f":"IF(AND($E9=1, $F9<>0), J9*2.8, 0)","v":0},{"$f":"SUM(K9:M9)","v":0},0,{"$f":"IF($N9>$O9,$N9-$O9,0)","v":0},{"$f":"ROUNDUP($N9/500,0)","v":0}]
[{"$f":"IF(INTRO!$E$39=\"Non-endemic\",\" \",IF(COUNTRY_INFO!A10=0,\" \",COUNTRY_INFO!A10))","v":"Uganda"},{"$f":"IF(INTRO!$E$39=\"Non-endemic\",\" \",IF(COUNTRY_INFO!B10=0,\" \",COUNTRY_INFO!B10))","v":"NORTHERN"},{"$f":"IF(INTRO!$E$39=\"Non-endemic\",\" \",IF(COUNTRY_INFO!C10=0,\" \",COUNTRY_INFO!C10))","v":"ADJUMANI"},{"$f":"IF(INTRO!$E$39=\"Non-endemic\",0,IF(INTRO!$E$39=\"Endemic but PC is not required\",IF(COUNTRY_INFO!$H10=1,COUNTRY_INFO!F10+COUNTRY_INFO!G10,0),IF(COUNTRY_INFO!$H10=1,COUNTRY_INFO!F10+COUNTRY_INFO!G10,IF(COUNTRY_INFO!$I10=1,IF(COUNTRY_INFO!M10>=(COUNTRY_INFO!F10+COUNTRY_INFO!G10),COUNTRY_INFO!F10+COUNTRY_INFO!G10,COUNTRY_INFO!$M10),0))))","v":29447},{"$f":"IF(AND(INTRO!$E$39=\"Non-endemic\",INTRO!$E$37=\"Non-endemic\"),\"Not required\",IF(INTRO!$E$39=\"Non-endemic\",\"Treat with DEC\",COUNTRY_INFO!P10))","v":0},{"$f":"IF(INTRO!$E$39<>\"Non-endemic\",COUNTRY_INFO!Q10,\"Not required\")","v":2},{"$f":"IF(COUNTRY_INFO!H10=1, IF($E10=1,$D10, 0),0)","v":0},{"$f":"IF(INTRO!$E$39<>\"Endemic\",0, IF(AND(COUNTRY_INFO!$I10=1,$F10<>0),IF(COUNTRY_INFO!M10>=(COUNTRY_INFO!F10+COUNTRY_INFO!G10),COUNTRY_INFO!F10+COUNTRY_INFO!G10,COUNTRY_INFO!$M10), 0))","v":29447},24235,24235,0,135716,0,135716,0,135716,272]
[{"$f":"IF(INTRO!$E$39=\"Non-endemic\",\" \",IF(COUNTRY_INFO!A11=0,\" \",COUNTRY_INFO!A11))","v":"Uganda"},{"$f":"IF(INTRO!$E$39=\"Non-endemic\",\" \",IF(COUNTRY_INFO!B11=0,\" \",COUNTRY_INFO!B11))","v":"NORTHERN"},{"$f":"IF(INTRO!$E$39=\"Non-endemic\",\" \",IF(COUNTRY_INFO!C11=0,\" \",COUNTRY_INFO!C11))","v":"AGAGO"},{"$f":"IF(INTRO!$E$39=\"Non-endemic\",0,IF(INTRO!$E$39=\"Endemic but PC is not required\",IF(COUNTRY_INFO!$H11=1,COUNTRY_INFO!F11+COUNTRY_INFO!G11,0),IF(COUNTRY_INFO!$H11=1,COUNTRY_INFO!F11+COUNTRY_INFO!G11,IF(COUNTRY_INFO!$I11=1,IF(COUNTRY_INFO!M11>=(COUNTRY_INFO!F11+COUNTRY_INFO!G11),COUNTRY_INFO!F11+COUNTRY_INFO!G11,COUNTRY_INFO!$M11),0))))","v":0},{"$f":"IF(AND(INTRO!$E$39=\"Non-endemic\",INTRO!$E$37=\"Non-endemic\"),\"Not required\",IF(INTRO!$E$39=\"Non-endemic\",\"Treat with DEC\",COUNTRY_INFO!P11))","v":0},{"$f":"IF(INTRO!$E$39<>\"Non-endemic\",COUNTRY_INFO!Q11,\"Not required\")","v":0},{"$f":"IF(COUNTRY_INFO!H11=1, IF($E11=1,$D11, 0),0)","v":0},{"$f":"IF(INTRO!$E$39<>\"Endemic\",0, IF(AND(COUNTRY_INFO!$I11=1,$F11<>0),IF(COUNTRY_INFO!M11>=(COUNTRY_INFO!F11+COUNTRY_INFO!G11),COUNTRY_INFO!F11+COUNTRY_INFO!G11,COUNTRY_INFO!$M11), 0))","v":0},0,0,0,0,0,0,0,0,0]
[{"$f":"IF(INTRO!$E$39=\"Non-endemic\",\" \",IF(COUNTRY_INFO!A12=0,\" \",COUNTRY_INFO!A12))","v":"Uganda"},{"$f":"IF(INTRO!$E$39=\"Non-endemic\",\" \",IF(COUNTRY_INFO!B12=0,\" \",COUNTRY_INFO!B12))","v":"NORTHERN"},{"$f":"IF(INTRO!$E$39=\"Non-endemic\",\" \",IF(COUNTRY_INFO!C12=0,\" \",COUNTRY_INFO!C12))","v":"ALEBTONG"},{"$f":"IF(INTRO!$E$39=\"Non-endemic\",0,IF(INTRO!$E$39=\"Endemic but PC is not required\",IF(COUNTRY_INFO!$H12=1,COUNTRY_INFO!F12+COUNTRY_INFO!G12,0),IF(COUNTRY_INFO!$H12=1,COUNTRY_INFO!F12+COUNTRY_INFO!G12,IF(COUNTRY_INFO!$I12=1,IF(COUNTRY_INFO!M12>=(COUNTRY_INFO!F12+COUNTRY_INFO!G12),COUNTRY_INFO!F12+COUNTRY_INFO!G12,COUNTRY_INFO!$M12),0))))","v":0},{"$f":"IF(AND(INTRO!$E$39=\"Non-endemic\",INTRO!$E$37=\"Non-endemic\"),\"Not required\",IF(INTRO!$E$39=\"Non-endemic\",\"Treat with DEC\",COUNTRY_INFO!P12))","v":0},{"$f":"IF(INTRO!$E$39<>\"Non-endemic\",COUNTRY_INFO!Q12,\"Not required\")","v":0},{"$f":"IF(COUNTRY_INFO!H12=1, IF($E12=1,$D12, 0),0)","v":0},{"$f":"IF(INTRO!$E$39<>\"Endemic\",0, IF(AND(COUNTRY_INFO!$I12=1,$F12<>0),IF(COUNTRY_INFO!M12>=(COUNTRY_INFO!F12+COUNTRY_INFO!G12),COUNTRY_INFO!F12+COUNTRY_INFO!G12,COUNTRY_INFO!$M12), 0))","v":0},0,0,0,0,0,0,0,0,0]
[{"$f":"IF(INTRO!$E$39=\"Non-endemic\",\" \",IF(COUNTRY_INFO!A13=0,\" \",COUNTRY_INFO!A13))","v":"Uganda"},{"$f":"IF(INTRO!$E$39=\"Non-endemic\",\" \",IF(COUNTRY_INFO!B13=0,\" \",COUNTRY_INFO!B13))","v":"NORTHERN"},{"$f":"IF(INTRO!$E$39=\"Non-endemic\",\" \",IF(COUNTRY_INFO!C13=0,\" \",COUNTRY_INFO!C13))","v":"AMOLATAR"},{"$f":"IF(INTRO!$E$39=\"Non-endemic\",0,IF(INTRO!$E$39=\"Endemic but PC is not required\",IF(COUNTRY_INFO!$H13=1,COUNTRY_INFO!F13+COUNTRY_INFO!G13,0),IF(COUNTRY_INFO!$H13=1,COUNTRY_INFO!F13+COUNTRY_INFO!G13,IF(COUNTRY_INFO!$I13=1,IF(COUNTRY_INFO!M13>=(COUNTRY_INFO!F13+COUNTRY_INFO!G13),COUNTRY_INFO!F13+COUNTRY_INFO!G13,COUNTRY_INFO!$M13),0))))","v":0},{"$f":"IF(AND(INTRO!$E$39=\"Non-endemic\",INTRO!$E$37=\"Non-endemic\"),\"Not required\",IF(INTRO!$E$39=\"Non-endemic\",\"Treat with DEC\",COUNTRY_INFO!P13))","v":0},{"$f":"IF(INTRO!$E$39<>\"Non-endemic\",COUNTRY_INFO!Q13,\"Not required\")","v":0},{"$f":"IF(COUNTRY_INFO!H13=1, IF($E13=1,$D13, 0),0)","v":0},{"$f":"IF(INTRO!$E$39<>\"Endemic\",0, IF(AND(COUNTRY_INFO!$I13=1,$F13<>0),IF(COUNTRY_INFO!M13>=(COUNTRY_INFO!F13+COUNTRY_INFO!G13),COUNTRY_INFO!F13+COUNTRY_INFO!G13,COUNTRY_INFO!$M13), 0))","v":0},0,0,0,0,0,0,0,0,0]
[{"$f":"IF(INTRO!$E$39=\"Non-endemic\",\" \",IF(COUNTRY_INFO!A14=0,\" \",COUNTRY_INFO!A14))","v":"Uganda"},{"$f":"IF(INTRO!$E$39=\"Non-endemic\",\" \",IF(COUNTRY_INFO!B14=0,\" \",COUNTRY_INFO!B14))","v":"NORTHERN"},{"$f":"IF(INTRO!$E$39=\"Non-endemic\",\" \",IF(COUNTRY_INFO!C14=0,\" \",COUNTRY_INFO!C14))","v":"AMUDAT"},{"$f":"IF(INTRO!$E$39=\"Non-endemic\",0,IF(INTRO!$E$39=\"Endemic but PC is not required\",IF(COUNTRY_INFO!$H14=1,COUNTRY_INFO!F14+COUNTRY_INFO!G14,0),IF(COUNTRY_INFO!$H14=1,COUNTRY_INFO!F14+COUNTRY_INFO!G14,IF(COUNTRY_INFO!$I14=1,IF(COUNTRY_INFO!M14>=(COUNTRY_INFO!F14+COUNTRY_INFO!G14),COUNTRY_INFO!F14+COUNTRY_INFO!G14,COUNTRY_INFO!$M14),0))))","v":0},{"$f":"IF(AND(INTRO!$E$39=\"Non-endemic\",INTRO!$E$37=\"Non-endemic\"),\"Not required\",IF(INTRO!$E$39=\"Non-endemic\",\"Treat with DEC\",COUNTRY_INFO!P14))","v":0},{"$f":"IF(INTRO!$E$39<>\"Non-endemic\",COUNTRY_INFO!Q14,\"Not required\")","v":0},{"$f":"IF(COUNTRY_INFO!H14=1, IF($E14=1,$D14, 0),0)","v":0},{"$f":"IF(INTRO!$E$39<>\"Endemic\",0, IF(AND(COUNTRY_INFO!$I14=1,$F14<>0),IF(COUNTRY_INFO!M14>=(COUNTRY_INFO!F14+COUNTRY_INFO!G14),COUNTRY_INFO!F14+COUNTRY_INFO!G14,COUNTRY_INFO!$M14), 0))","v":0},0,0,0,0,0,0,0,0,0]
[{"$f":"IF(INTRO!$E$39=\"Non-endemic\",\" \",IF(COUNTRY_INFO!A15=0,\" \",COUNTRY_INFO!A15))","v":"Uganda"},{"$f":"IF(INTRO!$E$39=\"Non-endemic\",\" \",IF(COUNTRY_INFO!B15=0,\" \",COUNTRY_INFO!B15))","v":"EASTERN"},{"$f":"IF(INTRO!$E$39=\"Non-endemic\",\" \",IF(COUNTRY_INFO!C15=0,\" \",COUNTRY_INFO!C15))","v":"AMURIA"},{"$f":"IF(INTRO!$E$39=\"Non-endemic\",0,IF(INTRO!$E$39=\"Endemic but PC is not required\",IF(COUNTRY_INFO!$H15=1,COUNTRY_INFO!F15+COUNTRY_INFO!G15,0),IF(COUNTRY_INFO!$H15=1,COUNTRY_INFO!F15+COUNTRY_INFO!G15,IF(COUNTRY_INFO!$I15=1,IF(COUNTRY_INFO!M15>=(COUNTRY_INFO!F15+COUNTRY_INFO!G15),COUNTRY_INFO!F15+COUNTRY_INFO!G15,COUNTRY_INFO!$M15),0))))","v":0},{"$f":"IF(AND(INTRO!$E$39=\"Non-endemic\",INTRO!$E$37=\"Non-endemic\"),\"Not required\",IF(INTRO!$E$39=\"Non-endemic\",\"Treat with DEC\",COUNTRY_INFO!P15))","v":0},{"$f":"IF(INTRO!$E$39<>\"Non-endemic\",COUNTRY_INFO!Q15,\"Not required\")","v":0},{"$f":"IF(COUNTRY_INFO!H15=1, IF($E15=1,$D15, 0),0)","v":0},{"$f":"IF(INTRO!$E$39<>\"Endemic\",0, IF(AND(COUNTRY_INFO!$I15=1,$F15<>0),IF(COUNTRY_INFO!M15>=(COUNTRY_INFO!F15+COUNTRY_INFO!G15),COUNTRY_INFO!F15+COUNTRY_INFO!G15,COUNTRY_INFO!$M15), 0))","v":0},0,0,0,0,0,0,0,0,0]
[{"$f":"IF(INTRO!$E$39=\"Non-endemic\",\" \",IF(COUNTRY_INFO!A16=0,\" \",COUNTRY_INFO!A16))","v":"Uganda"},{"$f":"IF(INTRO!$E$39=\"Non-endemic\",\" \",IF(COUNTRY_INFO!B16=0,\" \",COUNTRY_INFO!B16))","v":"NORTHERN"},{"$f":"IF(INTRO!$E$39=\"Non-endemic\",\" \",IF(COUNTRY_INFO!C16=0,\" \",COUNTRY_INFO!C16))","v":"AMURU"},{"$f":"IF(INTRO!$E$39=\"Non-endemic\",0,IF(INTRO!$E$39=\"Endemic but PC is not required\",IF(COUNTRY_INFO!$H16=1,COUNTRY_INFO!F16+COUNTRY_INFO!G16,0),IF(COUNTRY_INFO!$H16=1,COUNTRY_INFO!F16+COUNTRY_INFO!G16,IF(COUNTRY_INFO!$I16=1,IF(COUNTRY_INFO!M16>=(COUNTRY_INFO!F16+COUNTRY_INFO!G16),COUNTRY_INFO!F16+COUNTRY_INFO!G16,COUNTRY_INFO!$M16),0))))","v":0},{"$f":"IF(AND(INTRO!$E$39=\"Non-endemic\",INTRO!$E$37=\"Non-endemic\"),\"Not required\",IF(INTRO!$E$39=\"Non-endemic\",\"Treat with DEC\",COUNTRY_INFO!P16))","v":0},{"$f":"IF(INTRO!$E$39<>\"Non-endemic\",COUNTRY_INFO!Q16,\"Not required\")","v":0},{"$f":"IF(COUNTRY_INFO!H16=1, IF($E16=1,$D16, 0),0)","v":0},{"$f":"IF(INTRO!$E$39<>\"Endemic\",0, IF(AND(COUNTRY_INFO!$I16=1,$F16<>0),IF(COUNTRY_INFO!M16>=(COUNTRY_INFO!F16+COUNTRY_INFO!G16),COUNTRY_INFO!F16+COUNTRY_INFO!G16,COUNTRY_INFO!$M16), 0))","v":0},0,0,0,0,0,0,0,0,0]
[{"$f":"IF(INTRO!$E$39=\"Non-endemic\",\" \",IF(COUNTRY_INFO!A17=0,\" \",COUNTRY_INFO!A17))","v":"Uganda"},{"$f":"IF(INTRO!$E$39=\"Non-endemic\",\" \",IF(COUNTRY_INFO!B17=0,\" \",COUNTRY_INFO!B17))","v":"NORTHERN"},{"$f":"IF(INTRO!$E$39=\"Non-endemic\",\" \",IF(COUNTRY_INFO!C17=0,\" \",COUNTRY_INFO!C17))","v":"APAC"},{"$f":"IF(INTRO!$E$39=\"Non-endemic\",0,IF(INTRO!$E$39=\"Endemic but PC is not required\",IF(COUNTRY_INFO!$H17=1,COUNTRY_INFO!F17+COUNTRY_INFO!G17,0),IF(COUNTRY_INFO!$H17=1,COUNTRY_INFO!F17+COUNTRY_INFO!G17,IF(COUNTRY_INFO!$I17=1,IF(COUNTRY_INFO!M17>=(COUNTRY_INFO!F17+COUNTRY_INFO!G17),COUNTRY_INFO!F17+COUNTRY_INFO!G17,COUNTRY_INFO!$M17),0))))","v":0},{"$f":"IF(AND(INTRO!$E$39=\"Non-endemic\",INTRO!$E$37=\"Non-endemic\"),\"Not required\",IF(INTRO!$E$39=\"Non-endemic\",\"Treat with DEC\",COUNTRY_INFO!P17))","v":0},{"$f":"IF(INTRO!$E$39<>\"Non-endemic\",COUNTRY_INFO!Q17,\"Not required\")","v":0},{"$f":"IF(COUNTRY_INFO!H17=1, IF($E17=1,$D17, 0),0)","v":0},{"$f":"IF(INTRO!$E$39<>\"Endemic\",0, IF(AND(COUNTRY_INFO!$I17=1,$F17<>0),IF(COUNTRY_INFO!M17>=(COUNTRY_INFO!F17+COUNTRY_INFO!G17),COUNTRY_INFO!F17+COUNTRY_INFO!G17,COUNTRY_INFO!$M17), 0))","v":0},0,0,0,0,0,0,0,0,0]
[{"$f":"IF(INTRO!$E$39=\"Non-endemic\",\" \",IF(COUNTRY_INFO!A18=0,\" \",COUNTRY_INFO!A18))","v":"Uganda"},{"$f":"IF(INTRO!$E$39=\"Non-endemic\",\" \",IF(COUNTRY_INFO!B18=0,\" \",COUNTRY_INFO!B18))","v":"NORTHERN"},{"$f":"IF(INTRO!$E$39=\"Non-endemic\",\" \",IF(COUNTRY_INFO!C18=0,\" \",COUNTRY_INFO!C18))","v":"ARUA"},{"$f":"IF(INTRO!$E$39=\"Non-endemic\",0,IF(INTRO!$E$39=\"Endemic but PC is not required\",IF(COUNTRY_INFO!$H18=1,COUNTRY_INFO!F18+COUNTRY_INFO!G18,0),IF(COUNTRY_INFO!$H18=1,COUNTRY_INFO!F18+COUNTRY_INFO!G18,IF(COUNTRY_INFO!$I18=1,IF(COUNTRY_INFO!M18>=(COUNTRY_INFO!F18+COUNTRY_INFO!G18),COUNTRY_INFO!F18+COUNTRY_INFO!G18,COUNTRY_INFO!$M18),0))))","v":747254},{"$f":"IF(AND(INTRO!$E$39=\"Non-endemic\",INTRO!$E$37=\"Non-endemic\"),\"Not required\",IF(INTRO!$E$39=\"Non-endemic\",\"Treat with DEC\",COUNTRY_INFO!P18))","v":1},{"$f":"IF(INTRO!$E$39<>\"Non-endemic\",COUNTRY_INFO!Q18,\"Not required\")","v":2},{"$f":"IF(COUNTRY_INFO!H18=1, IF($E18=1,$D18, 0),0)","v":747254},{"$f":"IF(INTRO!$E$39<>\"Endemic\",0, IF(AND(COUNTRY_INFO!$I18=1,$F18<>0),IF(COUNTRY_INFO!M18>=(COUNTRY_INFO!F18+COUNTRY_INFO!G18),COUNTRY_INFO!F18+COUNTRY_INFO!G18,COUNTRY_INFO!$M18), 0))","v":191883},157920,157920,1650135.2,442176,442176,2534487.2000000002,0,2534487.2000000002,5069]
[{"$f":"IF(INTRO!$E$39=\"Non-endemic\",\" \",IF(COUNTRY_INFO!A19=0,\" \",COUNTRY_INFO!A19))","v":"Uganda"},{"$f":"IF(INTRO!$E$39=\"Non-endemic\",\" \",IF(COUNTRY_INFO!B19=0,\" \",COUNTRY_INFO!B19))","v":"EASTERN"},{"$f":"IF(INTRO!$E$39=\"Non-endemic\",\" \",IF(COUNTRY_INFO!C19=0,\" \",COUNTRY_INFO!C19))","v":"BUDAKA"},{"$f":"IF(INTRO!$E$39=\"Non-endemic\",0,IF(INTRO!$E$39=\"Endemic but PC is not required\",IF(COUNTRY_INFO!$H19=1,COUNTRY_INFO!F19+COUNTRY_INFO!G19,0),IF(COUNTRY_INFO!$H19=1,COUNTRY_INFO!F19+COUNTRY_INFO!G19,IF(COUNTRY_INFO!$I19=1,IF(COUNTRY_INFO!M19>=(COUNTRY_INFO!F19+COUNTRY_INFO!G19),COUNTRY_INFO!F19+COUNTRY_INFO!G19,COUNTRY_INFO!$M19),0))))","v":0},{"$f":"IF(AND(INTRO!$E$39=\"Non-endemic\",INTRO!$E$37=\"Non-endemic\"),\"Not required\",IF(INTRO!$E$39=\"Non-endemic\",\"Treat with DEC\",COUNTRY_INFO!P19))","v":0},{"$f":"IF(INTRO!$E$39<>\"Non-endemic\",COUNTRY_INFO!Q19,\"Not required\")","v":0},{"$f":"IF(COUNTRY_INFO!H19=1, IF($E19=1,$D19, 0),0)","v":0},{"$f":"IF(INTRO!$E$39<>\"Endemic\",0, IF(AND(COUNTRY_INFO!$I19=1,$F19<>0),IF(COUNTRY_INFO!M19>=(COUNTRY_INFO!F19+COUNTRY_INFO!G19),COUNTRY_INFO!F19+COUNTRY_INFO!G19,COUNTRY_INFO!$M19), 0))","v":0},0,0,0,0,0,0,0,0,0]
[{"$f":"IF(INTRO!$E$39=\"Non-endemic\",\" \",IF(COUNTRY_INFO!A20=0,\" \",COUNTRY_INFO!A20))","v":"Uganda"},{"$f":"IF(INTRO!$E$39=\"Non-endemic\",\" \",IF(COUNTRY_INFO!B20=0,\" \",COUNTRY_INFO!B20))","v":"EASTERN"},{"$f":"IF(INTRO!$E$39=\"Non-endemic\",\" \",IF(COUNTRY_INFO!C20=0,\" \",COUNTRY_INFO!C20))","v":"BUDUDA"},{"$f":"IF(INTRO!$E$39=\"Non-endemic\",0,IF(INTRO!$E$39=\"Endemic but PC is not required\",IF(COUNTRY_INFO!$H20=1,COUNTRY_INFO!F20+COUNTRY_INFO!G20,0),IF(COUNTRY_INFO!$H20=1,COUNTRY_INFO!F20+COUNTRY_INFO!G20,IF(COUNTRY_INFO!$I20=1,IF(COUNTRY_INFO!M20>=(COUNTRY_INFO!F20+COUNTRY_INFO!G20),COUNTRY_INFO!F20+COUNTRY_INFO!G20,COUNTRY_INFO!$M20),0))))","v":0},{"$f":"IF(AND(INTRO!$E$39=\"Non-endemic\",INTRO!$E$37=\"Non-endemic\"),\"Not required\",IF(INTRO!$E$39=\"Non-endemic\",\"Treat with DEC\",COUNTRY_INFO!P20))","v":0},{"$f":"IF(INTRO!$E$39<>\"Non-endemic\",COUNTRY_INFO!Q20,\"Not required\")","v":0},{"$f":"IF(COUNTRY_INFO!H20=1, IF($E20=1,$D20, 0),0)","v":0},{"$f":"IF(INTRO!$E$39<>\"Endemic\",0, IF(AND(COUNTRY_INFO!$I20=1,$F20<>0),IF(COUNTRY_INFO!M20>=(COUNTRY_INFO!F20+COUNTRY_INFO!G20),COUNTRY_INFO!F20+COUNTRY_INFO!G20,COUNTRY_INFO!$M20), 0))","v":0},0,0,0,0,0,0,0,0,0]
[{"$f":"IF(INTRO!$E$39=\"Non-endemic\",\" \",IF(COUNTRY_INFO!A21=0,\" \",COUNTRY_INFO!A21))","v":"Uganda"},{"$f":"IF(INTRO!$E$39=\"Non-endemic\",\" \",IF(COUNTRY_INFO!B21=0,\" \",COUNTRY_INFO!B21))","v":"EASTERN"},{"$f":"IF(INTRO!$E$39=\"Non-endemic\",\" \",IF(COUNTRY_INFO!C21=0,\" \",COUNTRY_INFO!C21))","v":"BUGIRI"},{"$f":"IF(INTRO!$E$39=\"Non-endemic\",0,IF(INTRO!$E$39=\"Endemic but PC is not required\",IF(COUNTRY_INFO!$H21=1,COUNTRY_INFO!F21+COUNTRY_INFO!G21,0),IF(COUNTRY_INFO!$H21=1,COUNTRY_INFO!F21+COUNTRY_INFO!G21,IF(COUNTRY_INFO!$I21=1,IF(COUNTRY_INFO!M21>=(COUNTRY_INFO!F21+COUNTRY_INFO!G21),COUNTRY_INFO!F21+COUNTRY_INFO!G21,COUNTRY_INFO!$M21),0))))","v":365863},{"$f":"IF(AND(INTRO!$E$39=\"Non-endemic\",INTRO!$E$37=\"Non-endemic\"),\"Not required\",IF(INTRO!$E$39=\"Non-endemic\",\"Treat with DEC\",COUNTRY_INFO!P21))","v":1},{"$f":"IF(INTRO!$E$39<>\"Non-endemic\",COUNTRY_INFO!Q21,\"Not required\")","v":0},{"$f":"IF(COUNTRY_INFO!H21=1, IF($E21=1,$D21, 0),0)","v":365863},{"$f":"IF(INTRO!$E$39<>\"Endemic\",0, IF(AND(COUNTRY_INFO!$I21=1,$F21<>0),IF(COUNTRY_INFO!M21>=(COUNTRY_INFO!F21+COUNTRY_INFO!G21),COUNTRY_INFO!F21+COUNTRY_INFO!G21,COUNTRY_INFO!$M21), 0))","v":0},0,0,1024416.3999999999,0,0,1024416.3999999999,0,1024416.3999999999,2049]
[{"$f":"IF(INTRO!$E$39=\"Non-endemic\",\" \",IF(COUNTRY_INFO!A22=0,\" \",COUNTRY_INFO!A22))","v":"Uganda"},{"$f":"IF(INTRO!$E$39=\"Non-endemic\",\" \",IF(COUNTRY_INFO!B22=0,\" \",COUNTRY_INFO!B22))","v":"WESTERN"},{"$f":"IF(INTRO!$E$39=\"Non-endemic\",\" \",IF(COUNTRY_INFO!C22=0,\" \",COUNTRY_INFO!C22))","v":"BUHWEJU"},{"$f":"IF(INTRO!$E$39=\"Non-endemic\",0,IF(INTRO!$E$39=\"Endemic but PC is not required\",IF(COUNTRY_INFO!$H22=1,COUNTRY_INFO!F22+COUNTRY_INFO!G22,0),IF(COUNTRY_INFO!$H22=1,COUNTRY_INFO!F22+COUNTRY_INFO!G22,IF(COUNTRY_INFO!$I22=1,IF(COUNTRY_INFO!M22>=(COUNTRY_INFO!F22+COUNTRY_INFO!G22),COUNTRY_INFO!F22+COUNTRY_INFO!G22,COUNTRY_INFO!$M22),0))))","v":0},{"$f":"IF(AND(INTRO!$E$39=\"Non-endemic\",INTRO!$E$37=\"Non-endemic\"),\"Not required\",IF(INTRO!$E$39=\"Non-endemic\",\"Treat with DEC\",COUNTRY_INFO!P22))","v":0},{"$f":"IF(INTRO!$E$39<>\"Non-endemic\",COUNTRY_INFO!Q22,\"Not required\")","v":0},{"$f":"IF(COUNTRY_INFO!H22=1, IF($E22=1,$D22, 0),0)","v":0},{"$f":"IF(INTRO!$E$39<>\"Endemic\",0, IF(AND(COUNTRY_INFO!$I22=1,$F22<>0),IF(COUNTRY_INFO!M22>=(COUNTRY_INFO!F22+COUNTRY_INFO!G22),COUNTRY_INFO!F22+COUNTRY_INFO!G22,COUNTRY_INFO!$M22), 0))","v":0},0,0,0,0,0,0,0,0,0]
[{"$f":"IF(INTRO!$E$39=\"Non-endemic\",\" \",IF(COUNTRY_INFO!A23=0,\" \",COUNTRY_INFO!A23))","v":"Uganda"},{"$f":"IF(INTRO!$E$39=\"Non-endemic\",\" \",IF(COUNTRY_INFO!B23=0,\" \",COUNTRY_INFO!B23))","v":"CENTRAL"},{"$f":"IF(INTRO!$E$39=\"Non-endemic\",\" \",IF(COUNTRY_INFO!C23=0,\" \",COUNTRY_INFO!C23))","v":"BUIKWE"},{"$f":"IF(INTRO!$E$39=\"Non-endemic\",0,IF(INTRO!$E$39=\"Endemic but PC is not required\",IF(COUNTRY_INFO!$H23=1,COUNTRY_INFO!F23+COUNTRY_INFO!G23,0),IF(COUNTRY_INFO!$H23=1,COUNTRY_INFO!F23+COUNTRY_INFO!G23,IF(COUNTRY_INFO!$I23=1,IF(COUNTRY_INFO!M23>=(COUNTRY_INFO!F23+COUNTRY_INFO!G23),COUNTRY_INFO!F23+COUNTRY_INFO!G23,COUNTRY_INFO!$M23),0))))","v":0},{"$f":"IF(AND(INTRO!$E$39=\"Non-endemic\",INTRO!$E$37=\"Non-endemic\"),\"Not required\",IF(INTRO!$E$39=\"Non-endemic\",\"Treat with DEC\",COUNTRY_INFO!P23))","v":0},{"$f":"IF(INTRO!$E$39<>\"Non-endemic\",COUNTRY_INFO!Q23,\"Not required\")","v":0},{"$f":"IF(COUNTRY_INFO!H23=1, IF($E23=1,$D23, 0),0)","v":0},{"$f":"IF(INTRO!$E$39<>\"Endemic\",0, IF(AND(COUNTRY_INFO!$I23=1,$F23<>0),IF(COUNTRY_INFO!M23>=(COUNTRY_INFO!F23+COUNTRY_INFO!G23),COUNTRY_INFO!F23+COUNTRY_INFO!G23,COUNTRY_INFO!$M23), 0))","v":0},0,0,0,0,0,0,0,0,0]
[{"$f":"IF(INTRO!$E$39=\"Non-endemic\",\" \",IF(COUNTRY_INFO!A24=0,\" \",COUNTRY_INFO!A24))","v":"Uganda"},{"$f":"IF(INTRO!$E$39=\"Non-endemic\",\" \",IF(COUNTRY_INFO!B24=0,\" \",COUNTRY_INFO!B24))","v":"EASTERN"},{"$f":"IF(INTRO!$E$39=\"Non-endemic\",\" \",IF(COUNTRY_INFO!C24=0,\" \",COUNTRY_INFO!C24))","v":"BUKEDEA"},{"$f":"IF(INTRO!$E$39=\"Non-endemic\",0,IF(INTRO!$E$39=\"Endemic but PC is not required\",IF(COUNTRY_INFO!$H24=1,COUNTRY_INFO!F24+COUNTRY_INFO!G24,0),IF(COUNTRY_INFO!$H24=1,COUNTRY_INFO!F24+COUNTRY_INFO!G24,IF(COUNTRY_INFO!$I24=1,IF(COUNTRY_INFO!M24>=(COUNTRY_INFO!F24+COUNTRY_INFO!G24),COUNTRY_INFO!F24+COUNTRY_INFO!G24,COUNTRY_INFO!$M24),0))))","v":0},{"$f":"IF(AND(INTRO!$E$39=\"Non-endemic\",INTRO!$E$37=\"Non-endemic\"),\"Not required\",IF(INTRO!$E$39=\"Non-endemic\",\"Treat with DEC\",COUNTRY_INFO!P24))","v":0},{"$f":"IF(INTRO!$E$39<>\"Non-endemic\",COUNTRY_INFO!Q24,\"Not required\")","v":0},{"$f":"IF(COUNTRY_INFO!H24=1, IF($E24=1,$D24, 0),0)","v":0},{"$f":"IF(INTRO!$E$39<>\"Endemic\",0, IF(AND(COUNTRY_INFO!$I24=1,$F24<>0),IF(COUNTRY_INFO!M24>=(COUNTRY_INFO!F24+COUNTRY_INFO!G24),COUNTRY_INFO!F24+COUNTRY_INFO!G24,COUNTRY_INFO!$M24), 0))","v":0},0,0,0,0,0,0,0,0,0]
[{"$f":"IF(INTRO!$E$39=\"Non-endemic\",\" \",IF(COUNTRY_INFO!A25=0,\" \",COUNTRY_INFO!A25))","v":"Uganda"},{"$f":"IF(INTRO!$E$39=\"Non-endemic\",\" \",IF(COUNTRY_INFO!B25=0,\" \",COUNTRY_INFO!B25))","v":"CENTRAL"},{"$f":"IF(INTRO!$E$39=\"Non-endemic\",\" \",IF(COUNTRY_INFO!C25=0,\" \",COUNTRY_INFO!C25))","v":"BUKOMANSIMBI"},{"$f":"IF(INTRO!$E$39=\"Non-endemic\",0,IF(INTRO!$E$39=\"Endemic but PC is not required\",IF(COUNTRY_INFO!$H25=1,COUNTRY_INFO!F25+COUNTRY_INFO!G25,0),IF(COUNTRY_INFO!$H25=1,COUNTRY_INFO!F25+COUNTRY_INFO!G25,IF(COUNTRY_INFO!$I25=1,IF(COUNTRY_INFO!M25>=(COUNTRY_INFO!F25+COUNTRY_INFO!G25),COUNTRY_INFO!F25+COUNTRY_INFO!G25,COUNTRY_INFO!$M25),0))))","v":0},{"$f":"IF(AND(INTRO!$E$39=\"Non-endemic\",INTRO!$E$37=\"Non-endemic\"),\"Not required\",IF(INTRO!$E$39=\"Non-endemic\",\"Treat with DEC\",COUNTRY_INFO!P25))","v":0},{"$f":"IF(INTRO!$E$39<>\"Non-endemic\",COUNTRY_INFO!Q25,\"Not required\")","v":0},{"$f":"IF(COUNTRY_INFO!H25=1, IF($E25=1,$D25, 0),0)","v":0},{"$f":"IF(INTRO!$E$39<>\"Endemic\",0, IF(AND(COUNTRY_INFO!$I25=1,$F25<>0),IF(COUNTRY_INFO!M25>=(COUNTRY_INFO!F25+COUNTRY_INFO!G25),COUNTRY_INFO!F25+COUNTRY_INFO!G25,COUNTRY_INFO!$M25), 0))","v":0},0,0,0,0,0,0,0,0,0]
[{"$f":"IF(INTRO!$E$39=\"Non-endemic\",\" \",IF(COUNTRY_INFO!A26=0,\" \",COUNTRY_INFO!A26))","v":"Uganda"},{"$f":"IF(INTRO!$E$39=\"Non-endemic\",\" \",IF(COUNTRY_INFO!B26=0,\" \",COUNTRY_INFO!B26))","v":"EASTERN"},{"$f":"IF(INTRO!$E$39=\"Non-endemic\",\" \",IF(COUNTRY_INFO!C26=0,\" \",COUNTRY_INFO!C26))","v":"BUKWO"},{"$f":"IF(INTRO!$E$39=\"Non-endemic\",0,IF(INTRO!$E$39=\"Endemic but PC is not required\",IF(COUNTRY_INFO!$H26=1,COUNTRY_INFO!F26+COUNTRY_INFO!G26,0),IF(COUNTRY_INFO!$H26=1,COUNTRY_INFO!F26+COUNTRY_INFO!G26,IF(COUNTRY_INFO!$I26=1,IF(COUNTRY_INFO!M26>=(COUNTRY_INFO!F26+COUNTRY_INFO!G26),COUNTRY_INFO!F26+COUNTRY_INFO!G26,COUNTRY_INFO!$M26),0))))","v":0},{"$f":"IF(AND(INTRO!$E$39=\"Non-endemic\",INTRO!$E$37=\"Non-endemic\"),\"Not required\",IF(INTRO!$E$39=\"Non-endemic\",\"Treat with DEC\",COUNTRY_INFO!P26))","v":0},{"$f":"IF(INTRO!$E$39<>\"Non-endemic\",COUNTRY_INFO!Q26,\"Not required\")","v":0},{"$f":"IF(COUNTRY_INFO!H26=1, IF($E26=1,$D26, 0),0)","v":0},{"$f":"IF(INTRO!$E$39<>\"Endemic\",0, IF(AND(COUNTRY_INFO!$I26=1,$F26<>0),IF(COUNTRY_INFO!M26>=(COUNTRY_INFO!F26+COUNTRY_INFO!G26),COUNTRY_INFO!F26+COUNTRY_INFO!G26,COUNTRY_INFO!$M26), 0))","v":0},0,0,0,0,0,0,0,0,0]
[{"$f":"IF(INTRO!$E$39=\"Non-endemic\",\" \",IF(COUNTRY_INFO!A27=0,\" \",COUNTRY_INFO!A27))","v":"Uganda"},{"$f":"IF(INTRO!$E$39=\"Non-endemic\",\" \",IF(COUNTRY_INFO!B27=0,\" \",COUNTRY_INFO!B27))","v":"EASTERN"},{"$f":"IF(INTRO!$E$39=\"Non-endemic\",\" \",IF(COUNTRY_INFO!C27=0,\" \",COUNTRY_INFO!C27))","v":"BULAMBULI"},{"$f":"IF(INTRO!$E$39=\"Non-endemic\",0,IF(INTRO!$E$39=\"Endemic but PC is not required\",IF(COUNTRY_INFO!$H27=1,COUNTRY_INFO!F27+COUNTRY_INFO!G27,0),IF(COUNTRY_INFO!$H27=1,COUNTRY_INFO!F27+COUNTRY_INFO!G27,IF(COUNTRY_INFO!$I27=1,IF(COUNTRY_INFO!M27>=(COUNTRY_INFO!F27+COUNTRY_INFO!G27),COUNTRY_INFO!F27+COUNTRY_INFO!G27,COUNTRY_INFO!$M27),0))))","v":0},{"$f":"IF(AND(INTRO!$E$39=\"Non-endemic\",INTRO!$E$37=\"Non-endemic\"),\"Not required\",IF(INTRO!$E$39=\"Non-endemic\",\"Treat with DEC\",COUNTRY_INFO!P27))","v":0},{"$f":"IF(INTRO!$E$39<>\"Non-endemic\",COUNTRY_INFO!Q27,\"Not required\")","v":0},{"$f":"IF(COUNTRY_INFO!H27=1, IF($E27=1,$D27, 0),0)","v":0},{"$f":"IF(INTRO!$E$39<>\"Endemic\",0, IF(AND(COUNTRY_INFO!$I27=1,$F27<>0),IF(COUNTRY_INFO!M27>=(COUNTRY_INFO!F27+COUNTRY_INFO!G27),COUNTRY_INFO!F27+COUNTRY_INFO!G27,COUNTRY_INFO!$M27), 0))","v":0},0,0,0,0,0,0,0,0,0]
[{"$f":"IF(INTRO!$E$39=\"Non-endemic\",\" \",IF(COUNTRY_INFO!A28=0,\" \",COUNTRY_INFO!A28))","v":"Uganda"},{"$f":"IF(INTRO!$E$39=\"Non-endemic\",\" \",IF(COUNTRY_INFO!B28=0,\" \",COUNTRY_INFO!B28))","v":"WESTERN"},{"$f":"IF(INTRO!$E$39=\"Non-endemic\",\" \",IF(COUNTRY_INFO!C28=0,\" \",COUNTRY_INFO!C28))","v":"BULIISA"},{"$f":"IF(INTRO!$E$39=\"Non-endemic\",0,IF(INTRO!$E$39=\"Endemic but PC is not required\",IF(COUNTRY_INFO!$H28=1,COUNTRY_INFO!F28+COUNTRY_INFO!G28,0),IF(COUNTRY_INFO!$H28=1,COUNTRY_INFO!F28+COUNTRY_INFO!G28,IF(COUNTRY_INFO!$I28=1,IF(COUNTRY_INFO!M28>=(COUNTRY_INFO!F28+COUNTRY_INFO!G28),COUNTRY_INFO!F28+COUNTRY_INFO!G28,COUNTRY_INFO!$M28),0))))","v":35407},{"$f":"IF(AND(INTRO!$E$39=\"Non-endemic\",INTRO!$E$37=\"Non-endemic\"),\"Not required\",IF(INTRO!$E$39=\"Non-endemic\",\"Treat with DEC\",COUNTRY_INFO!P28))","v":0},{"$f":"IF(INTRO!$E$39<>\"Non-endemic\",COUNTRY_INFO!Q28,\"Not required\")","v":2},{"$f":"IF(COUNTRY_INFO!H28=1, IF($E28=1,$D28, 0),0)","v":0},{"$f":"IF(INTRO!$E$39<>\"Endemic\",0, IF(AND(COUNTRY_INFO!$I28=1,$F28<>0),IF(COUNTRY_INFO!M28>=(COUNTRY_INFO!F28+COUNTRY_INFO!G28),COUNTRY_INFO!F28+COUNTRY_INFO!G28,COUNTRY_INFO!$M28), 0))","v":35407},29140,29140,0,163184,0,163184,0,163184,327]
[{"$f":"IF(INTRO!$E$39=\"Non-endemic\",\" \",IF(COUNTRY_INFO!A29=0,\" \",COUNTRY_INFO!A29))","v":"Uganda"},{"$f":"IF(INTRO!$E$39=\"Non-endemic\",\" \",IF(COUNTRY_INFO!B29=0,\" \",COUNTRY_INFO!B29))","v":"WESTERN"},{"$f":"IF(INTRO!$E$39=\"Non-endemic\",\" \",IF(COUNTRY_INFO!C29=0,\" \",COUNTRY_INFO!C29))","v":"BUNDIBUGYO"},{"$f":"IF(INTRO!$E$39=\"Non-endemic\",0,IF(INTRO!$E$39=\"Endemic but PC is not required\",IF(COUNTRY_INFO!$H29=1,COUNTRY_INFO!F29+COUNTRY_INFO!G29,0),IF(COUNTRY_INFO!$H29=1,COUNTRY_INFO!F29+COUNTRY_INFO!G29,IF(COUNTRY_INFO!$I29=1,IF(COUNTRY_INFO!M29>=(COUNTRY_INFO!F29+COUNTRY_INFO!G29),COUNTRY_INFO!F29+COUNTRY_INFO!G29,COUNTRY_INFO!$M29),0))))","v":0},{"$f":"IF(AND(INTRO!$E$39=\"Non-endemic\",INTRO!$E$37=\"Non-endemic\"),\"Not required\",IF(INTRO!$E$39=\"Non-endemic\",\"Treat with DEC\",COUNTRY_INFO!P29))","v":0},{"$f":"IF(INTRO!$E$39<>\"Non-endemic\",COUNTRY_INFO!Q29,\"Not required\")","v":0},{"$f":"IF(COUNTRY_INFO!H29=1, IF($E29=1,$D29, 0),0)","v":0},{"$f":"IF(INTRO!$E$39<>\"Endemic\",0, IF(AND(COUNTRY_INFO!$I29=1,$F29<>0),IF(COUNTRY_INFO!M29>=(COUNTRY_INFO!F29+COUNTRY_INFO!G29),COUNTRY_INFO!F29+COUNTRY_INFO!G29,COUNTRY_INFO!$M29), 0))","v":0},0,0,0,0,0,0,0,0,0]
[{"$f":"IF(INTRO!$E$39=\"Non-endemic\",\" \",IF(COUNTRY_INFO!A30=0,\" \",COUNTRY_INFO!A30))","v":"Uganda"},{"$f":"IF(INTRO!$E$39=\"Non-endemic\",\" \",IF(COUNTRY_INFO!B30=0,\" \",COUNTRY_INFO!B30))","v":"Western"},{"$f":"IF(INTRO!$E$39=\"Non-endemic\",\" \",IF(COUNTRY_INFO!C30=0,\" \",COUNTRY_INFO!C30))","v":"Bunyangabu"},{"$f":"IF(INTRO!$E$39=\"Non-endemic\",0,IF(INTRO!$E$39=\"Endemic but PC is not required\",IF(COUNTRY_INFO!$H30=1,COUNTRY_INFO!F30+COUNTRY_INFO!G30,0),IF(COUNTRY_INFO!$H30=1,COUNTRY_INFO!F30+COUNTRY_INFO!G30,IF(COUNTRY_INFO!$I30=1,IF(COUNTRY_INFO!M30>=(COUNTRY_INFO!F30+COUNTRY_INFO!G30),COUNTRY_INFO!F30+COUNTRY_INFO!G30,COUNTRY_INFO!$M30),0))))","v":0},{"$f":"IF(AND(INTRO!$E$39=\"Non-endemic\",INTRO!$E$37=\"Non-endemic\"),\"Not required\",IF(INTRO!$E$39=\"Non-endemic\",\"Treat with DEC\",COUNTRY_INFO!P30))","v":0},{"$f":"IF(INTRO!$E$39<>\"Non-endemic\",COUNTRY_INFO!Q30,\"Not required\")","v":0},{"$f":"IF(COUNTRY_INFO!H30=1, IF($E30=1,$D30, 0),0)","v":0},{"$f":"IF(INTRO!$E$39<>\"Endemic\",0, IF(AND(COUNTRY_INFO!$I30=1,$F30<>0),IF(COUNTRY_INFO!M30>=(COUNTRY_INFO!F30+COUNTRY_INFO!G30),COUNTRY_INFO!F30+COUNTRY_INFO!G30,COUNTRY_INFO!$M30), 0))","v":0},0,0,0,0,0,0,0,0,0]
[{"$f":"IF(INTRO!$E$39=\"Non-endemic\",\" \",IF(COUNTRY_INFO!A31=0,\" \",COUNTRY_INFO!A31))","v":"Uganda"},{"$f":"IF(INTRO!$E$39=\"Non-endemic\",\" \",IF(COUNTRY_INFO!B31=0,\" \",COUNTRY_INFO!B31))","v":"WESTERN"},{"$f":"IF(INTRO!$E$39=\"Non-endemic\",\" \",IF(COUNTRY_INFO!C31=0,\" \",COUNTRY_INFO!C31))","v":"BUSHENYI"},{"$f":"IF(INTRO!$E$39=\"Non-endemic\",0,IF(INTRO!$E$39=\"Endemic but PC is not required\",IF(COUNTRY_INFO!$H31=1,COUNTRY_INFO!F31+COUNTRY_INFO!G31,0),IF(COUNTRY_INFO!$H31=1,COUNTRY_INFO!F31+COUNTRY_INFO!G31,IF(COUNTRY_INFO!$I31=1,IF(COUNTRY_INFO!M31>=(COUNTRY_INFO!F31+COUNTRY_INFO!G31),COUNTRY_INFO!F31+COUNTRY_INFO!G31,COUNTRY_INFO!$M31),0))))","v":0},{"$f":"IF(AND(INTRO!$E$39=\"Non-endemic\",INTRO!$E$37=\"Non-endemic\"),\"Not required\",IF(INTRO!$E$39=\"Non-endemic\",\"Treat with DEC\",COUNTRY_INFO!P31))","v":0},{"$f":"IF(INTRO!$E$39<>\"Non-endemic\",COUNTRY_INFO!Q31,\"Not required\")","v":0},{"$f":"IF(COUNTRY_INFO!H31=1, IF($E31=1,$D31, 0),0)","v":0},{"$f":"IF(INTRO!$E$39<>\"Endemic\",0, IF(AND(COUNTRY_INFO!$I31=1,$F31<>0),IF(COUNTRY_INFO!M31>=(COUNTRY_INFO!F31+COUNTRY_INFO!G31),COUNTRY_INFO!F31+COUNTRY_INFO!G31,COUNTRY_INFO!$M31), 0))","v":0},0,0,0,0,0,0,0,0,0]
[{"$f":"IF(INTRO!$E$39=\"Non-endemic\",\" \",IF(COUNTRY_INFO!A32=0,\" \",COUNTRY_INFO!A32))","v":"Uganda"},{"$f":"IF(INTRO!$E$39=\"Non-endemic\",\" \",IF(COUNTRY_INFO!B32=0,\" \",COUNTRY_INFO!B32))","v":"EASTERN"},{"$f":"IF(INTRO!$E$39=\"Non-endemic\",\" \",IF(COUNTRY_INFO!C32=0,\" \",COUNTRY_INFO!C32))","v":"BUSIA"},{"$f":"IF(INTRO!$E$39=\"Non-endemic\",0,IF(INTRO!$E$39=\"Endemic but PC is not required\",IF(COUNTRY_INFO!$H32=1,COUNTRY_INFO!F32+COUNTRY_INFO!G32,0),IF(COUNTRY_INFO!$H32=1,COUNTRY_INFO!F32+COUNTRY_INFO!G32,IF(COUNTRY_INFO!$I32=1,IF(COUNTRY_INFO!M32>=(COUNTRY_INFO!F32+COUNTRY_INFO!G32),COUNTRY_INFO!F32+COUNTRY_INFO!G32,COUNTRY_INFO!$M32),0))))","v":0},{"$f":"IF(AND(INTRO!$E$39=\"Non-endemic\",INTRO!$E$37=\"Non-endemic\"),\"Not required\",IF(INTRO!$E$39=\"Non-endemic\",\"Treat with DEC\",COUNTRY_INFO!P32))","v":0},{"$f":"IF(INTRO!$E$39<>\"Non-endemic\",COUNTRY_INFO!Q32,\"Not required\")","v":0},{"$f":"IF(COUNTRY_INFO!H32=1, IF($E32=1,$D32, 0),0)","v":0},{"$f":"IF(INTRO!$E$39<>\"Endemic\",0, IF(AND(COUNTRY_INFO!$I32=1,$F32<>0),IF(COUNTRY_INFO!M32>=(COUNTRY_INFO!F32+COUNTRY_INFO!G32),COUNTRY_INFO!F32+COUNTRY_INFO!G32,COUNTRY_INFO!$M32), 0))","v":0},0,0,0,0,0,0,0,0,0]
[{"$f":"IF(INTRO!$E$39=\"Non-endemic\",\" \",IF(COUNTRY_INFO!A33=0,\" \",COUNTRY_INFO!A33))","v":"Uganda"},{"$f":"IF(INTRO!$E$39=\"Non-endemic\",\" \",IF(COUNTRY_INFO!B33=0,\" \",COUNTRY_INFO!B33))","v":"EASTERN"},{"$f":"IF(INTRO!$E$39=\"Non-endemic\",\" \",IF(COUNTRY_INFO!C33=0,\" \",COUNTRY_INFO!C33))","v":"BUTALEJA"},{"$f":"IF(INTRO!$E$39=\"Non-endemic\",0,IF(INTRO!$E$39=\"Endemic but PC is not required\",IF(COUNTRY_INFO!$H33=1,COUNTRY_INFO!F33+COUNTRY_INFO!G33,0),IF(COUNTRY_INFO!$H33=1,COUNTRY_INFO!F33+COUNTRY_INFO!G33,IF(COUNTRY_INFO!$I33=1,IF(COUNTRY_INFO!M33>=(COUNTRY_INFO!F33+COUNTRY_INFO!G33),COUNTRY_INFO!F33+COUNTRY_INFO!G33,COUNTRY_INFO!$M33),0))))","v":0},{"$f":"IF(AND(INTRO!$E$39=\"Non-endemic\",INTRO!$E$37=\"Non-endemic\"),\"Not required\",IF(INTRO!$E$39=\"Non-endemic\",\"Treat with DEC\",COUNTRY_INFO!P33))","v":0},{"$f":"IF(INTRO!$E$39<>\"Non-endemic\",COUNTRY_INFO!Q33,\"Not required\")","v":0},{"$f":"IF(COUNTRY_INFO!H33=1, IF($E33=1,$D33, 0),0)","v":0},{"$f":"IF(INTRO!$E$39<>\"Endemic\",0, IF(AND(COUNTRY_INFO!$I33=1,$F33<>0),IF(COUNTRY_INFO!M33>=(COUNTRY_INFO!F33+COUNTRY_INFO!G33),COUNTRY_INFO!F33+COUNTRY_INFO!G33,COUNTRY_INFO!$M33), 0))","v":0},0,0,0,0,0,0,0,0,0]
[{"$f":"IF(INTRO!$E$39=\"Non-endemic\",\" \",IF(COUNTRY_INFO!A34=0,\" \",COUNTRY_INFO!A34))","v":"Uganda"},{"$f":"IF(INTRO!$E$39=\"Non-endemic\",\" \",IF(COUNTRY_INFO!B34=0,\" \",COUNTRY_INFO!B34))","v":"CENTRAL"},{"$f":"IF(INTRO!$E$39=\"Non-endemic\",\" \",IF(COUNTRY_INFO!C34=0,\" \",COUNTRY_INFO!C34))","v":"BUTAMBALA"},{"$f":"IF(INTRO!$E$39=\"Non-endemic\",0,IF(INTRO!$E$39=\"Endemic but PC is not required\",IF(COUNTRY_INFO!$H34=1,COUNTRY_INFO!F34+COUNTRY_INFO!G34,0),IF(COUNTRY_INFO!$H34=1,COUNTRY_INFO!F34+COUNTRY_INFO!G34,IF(COUNTRY_INFO!$I34=1,IF(COUNTRY_INFO!M34>=(COUNTRY_INFO!F34+COUNTRY_INFO!G34),COUNTRY_INFO!F34+COUNTRY_INFO!G34,COUNTRY_INFO!$M34),0))))","v":0},{"$f":"IF(AND(INTRO!$E$39=\"Non-endemic\",INTRO!$E$37=\"Non-endemic\"),\"Not required\",IF(INTRO!$E$39=\"Non-endemic\",\"Treat with DEC\",COUNTRY_INFO!P34))","v":0},{"$f":"IF(INTRO!$E$39<>\"Non-endemic\",COUNTRY_INFO!Q34,\"Not required\")","v":0},{"$f":"IF(COUNTRY_INFO!H34=1, IF($E34=1,$D34, 0),0)","v":0},{"$f":"IF(INTRO!$E$39<>\"Endemic\",0, IF(AND(COUNTRY_INFO!$I34=1,$F34<>0),IF(COUNTRY_INFO!M34>=(COUNTRY_INFO!F34+COUNTRY_INFO!G34),COUNTRY_INFO!F34+COUNTRY_INFO!G34,COUNTRY_INFO!$M34), 0))","v":0},0,0,0,0,0,0,0,0,0]
[{"$f":"IF(INTRO!$E$39=\"Non-endemic\",\" \",IF(COUNTRY_INFO!A35=0,\" \",COUNTRY_INFO!A35))","v":"Uganda"},{"$f":"IF(INTRO!$E$39=\"Non-endemic\",\" \",IF(COUNTRY_INFO!B35=0,\" \",COUNTRY_INFO!B35))","v":"Eastern"},{"$f":"IF(INTRO!$E$39=\"Non-endemic\",\" \",IF(COUNTRY_INFO!C35=0,\" \",COUNTRY_INFO!C35))","v":"BUTEBO"},{"$f":"IF(INTRO!$E$39=\"Non-endemic\",0,IF(INTRO!$E$39=\"Endemic but PC is not required\",IF(COUNTRY_INFO!$H35=1,COUNTRY_INFO!F35+COUNTRY_INFO!G35,0),IF(COUNTRY_INFO!$H35=1,COUNTRY_INFO!F35+COUNTRY_INFO!G35,IF(COUNTRY_INFO!$I35=1,IF(COUNTRY_INFO!M35>=(COUNTRY_INFO!F35+COUNTRY_INFO!G35),COUNTRY_INFO!F35+COUNTRY_INFO!G35,COUNTRY_INFO!$M35),0))))","v":0},{"$f":"IF(AND(INTRO!$E$39=\"Non-endemic\",INTRO!$E$37=\"Non-endemic\"),\"Not required\",IF(INTRO!$E$39=\"Non-endemic\",\"Treat with DEC\",COUNTRY_INFO!P35))","v":0},{"$f":"IF(INTRO!$E$39<>\"Non-endemic\",COUNTRY_INFO!Q35,\"Not required\")","v":0},{"$f":"IF(COUNTRY_INFO!H35=1, IF($E35=1,$D35, 0),0)","v":0},{"$f":"IF(INTRO!$E$39<>\"Endemic\",0, IF(AND(COUNTRY_INFO!$I35=1,$F35<>0),IF(COUNTRY_INFO!M35>=(COUNTRY_INFO!F35+COUNTRY_INFO!G35),COUNTRY_INFO!F35+COUNTRY_INFO!G35,COUNTRY_INFO!$M35), 0))","v":0},0,0,0,0,0,0,0,0,0]
[{"$f":"IF(INTRO!$E$39=\"Non-endemic\",\" \",IF(COUNTRY_INFO!A36=0,\" \",COUNTRY_INFO!A36))","v":"Uganda"},{"$f":"IF(INTRO!$E$39=\"Non-endemic\",\" \",IF(COUNTRY_INFO!B36=0,\" \",COUNTRY_INFO!B36))","v":"CENTRAL"},{"$f":"IF(INTRO!$E$39=\"Non-endemic\",\" \",IF(COUNTRY_INFO!C36=0,\" \",COUNTRY_INFO!C36))","v":"BUVUMA"},{"$f":"IF(INTRO!$E$39=\"Non-endemic\",0,IF(INTRO!$E$39=\"Endemic but PC is not required\",IF(COUNTRY_INFO!$H36=1,COUNTRY_INFO!F36+COUNTRY_INFO!G36,0),IF(COUNTRY_INFO!$H36=1,COUNTRY_INFO!F36+COUNTRY_INFO!G36,IF(COUNTRY_INFO!$I36=1,IF(COUNTRY_INFO!M36>=(COUNTRY_INFO!F36+COUNTRY_INFO!G36),COUNTRY_INFO!F36+COUNTRY_INFO!G36,COUNTRY_INFO!$M36),0))))","v":0},{"$f":"IF(AND(INTRO!$E$39=\"Non-endemic\",INTRO!$E$37=\"Non-endemic\"),\"Not required\",IF(INTRO!$E$39=\"Non-endemic\",\"Treat with DEC\",COUNTRY_INFO!P36))","v":0},{"$f":"IF(INTRO!$E$39<>\"Non-endemic\",COUNTRY_INFO!Q36,\"Not required\")","v":0},{"$f":"IF(COUNTRY_INFO!H36=1, IF($E36=1,$D36, 0),0)","v":0},{"$f":"IF(INTRO!$E$39<>\"Endemic\",0, IF(AND(COUNTRY_INFO!$I36=1,$F36<>0),IF(COUNTRY_INFO!M36>=(COUNTRY_INFO!F36+COUNTRY_INFO!G36),COUNTRY_INFO!F36+COUNTRY_INFO!G36,COUNTRY_INFO!$M36), 0))","v":0},0,0,0,0,0,0,0,0,0]
[{"$f":"IF(INTRO!$E$39=\"Non-endemic\",\" \",IF(COUNTRY_INFO!A37=0,\" \",COUNTRY_INFO!A37))","v":"Uganda"},{"$f":"IF(INTRO!$E$39=\"Non-endemic\",\" \",IF(COUNTRY_INFO!B37=0,\" \",COUNTRY_INFO!B37))","v":"EASTERN"},{"$f":"IF(INTRO!$E$39=\"Non-endemic\",\" \",IF(COUNTRY_INFO!C37=0,\" \",COUNTRY_INFO!C37))","v":"BUYENDE"},{"$f":"IF(INTRO!$E$39=\"Non-endemic\",0,IF(INTRO!$E$39=\"Endemic but PC is not required\",IF(COUNTRY_INFO!$H37=1,COUNTRY_INFO!F37+COUNTRY_INFO!G37,0),IF(COUNTRY_INFO!$H37=1,COUNTRY_INFO!F37+COUNTRY_INFO!G37,IF(COUNTRY_INFO!$I37=1,IF(COUNTRY_INFO!M37>=(COUNTRY_INFO!F37+COUNTRY_INFO!G37),COUNTRY_INFO!F37+COUNTRY_INFO!G37,COUNTRY_INFO!$M37),0))))","v":0},{"$f":"IF(AND(INTRO!$E$39=\"Non-endemic\",INTRO!$E$37=\"Non-endemic\"),\"Not required\",IF(INTRO!$E$39=\"Non-endemic\",\"Treat with DEC\",COUNTRY_INFO!P37))","v":0},{"$f":"IF(INTRO!$E$39<>\"Non-endemic\",COUNTRY_INFO!Q37,\"Not required\")","v":0},{"$f":"IF(COUNTRY_INFO!H37=1, IF($E37=1,$D37, 0),0)","v":0},{"$f":"IF(INTRO!$E$39<>\"Endemic\",0, IF(AND(COUNTRY_INFO!$I37=1,$F37<>0),IF(COUNTRY_INFO!M37>=(COUNTRY_INFO!F37+COUNTRY_INFO!G37),COUNTRY_INFO!F37+COUNTRY_INFO!G37,COUNTRY_INFO!$M37), 0))","v":0},0,0,0,0,0,0,0,0,0]
[{"$f":"IF(INTRO!$E$39=\"Non-endemic\",\" \",IF(COUNTRY_INFO!A38=0,\" \",COUNTRY_INFO!A38))","v":"Uganda"},{"$f":"IF(INTRO!$E$39=\"Non-endemic\",\" \",IF(COUNTRY_INFO!B38=0,\" \",COUNTRY_INFO!B38))","v":"NORTHERN"},{"$f":"IF(INTRO!$E$39=\"Non-endemic\",\" \",IF(COUNTRY_INFO!C38=0,\" \",COUNTRY_INFO!C38))","v":"DOKOLO"},{"$f":"IF(INTRO!$E$39=\"Non-endemic\",0,IF(INTRO!$E$39=\"Endemic but PC is not required\",IF(COUNTRY_INFO!$H38=1,COUNTRY_INFO!F38+COUNTRY_INFO!G38,0),IF(COUNTRY_INFO!$H38=1,COUNTRY_INFO!F38+COUNTRY_INFO!G38,IF(COUNTRY_INFO!$I38=1,IF(COUNTRY_INFO!M38>=(COUNTRY_INFO!F38+COUNTRY_INFO!G38),COUNTRY_INFO!F38+COUNTRY_INFO!G38,COUNTRY_INFO!$M38),0))))","v":0},{"$f":"IF(AND(INTRO!$E$39=\"Non-endemic\",INTRO!$E$37=\"Non-endemic\"),\"Not required\",IF(INTRO!$E$39=\"Non-endemic\",\"Treat with DEC\",COUNTRY_INFO!P38))","v":0},{"$f":"IF(INTRO!$E$39<>\"Non-endemic\",COUNTRY_INFO!Q38,\"Not required\")","v":0},{"$f":"IF(COUNTRY_INFO!H38=1, IF($E38=1,$D38, 0),0)","v":0},{"$f":"IF(INTRO!$E$39<>\"Endemic\",0, IF(AND(COUNTRY_INFO!$I38=1,$F38<>0),IF(COUNTRY_INFO!M38>=(COUNTRY_INFO!F38+COUNTRY_INFO!G38),COUNTRY_INFO!F38+COUNTRY_INFO!G38,COUNTRY_INFO!$M38), 0))","v":0},0,0,0,0,0,0,0,0,0]
[{"$f":"IF(INTRO!$E$39=\"Non-endemic\",\" \",IF(COUNTRY_INFO!A39=0,\" \",COUNTRY_INFO!A39))","v":"Uganda"},{"$f":"IF(INTRO!$E$39=\"Non-endemic\",\" \",IF(COUNTRY_INFO!B39=0,\" \",COUNTRY_INFO!B39))","v":"CENTRAL"},{"$f":"IF(INTRO!$E$39=\"Non-endemic\",\" \",IF(COUNTRY_INFO!C39=0,\" \",COUNTRY_INFO!C39))","v":"GOMBA"},{"$f":"IF(INTRO!$E$39=\"Non-endemic\",0,IF(INTRO!$E$39=\"Endemic but PC is not required\",IF(COUNTRY_INFO!$H39=1,COUNTRY_INFO!F39+COUNTRY_INFO!G39,0),IF(COUNTRY_INFO!$H39=1,COUNTRY_INFO!F39+COUNTRY_INFO!G39,IF(COUNTRY_INFO!$I39=1,IF(COUNTRY_INFO!M39>=(COUNTRY_INFO!F39+COUNTRY_INFO!G39),COUNTRY_INFO!F39+COUNTRY_INFO!G39,COUNTRY_INFO!$M39),0))))","v":0},{"$f":"IF(AND(INTRO!$E$39=\"Non-endemic\",INTRO!$E$37=\"Non-endemic\"),\"Not required\",IF(INTRO!$E$39=\"Non-endemic\",\"Treat with DEC\",COUNTRY_INFO!P39))","v":0},{"$f":"IF(INTRO!$E$39<>\"Non-endemic\",COUNTRY_INFO!Q39,\"Not required\")","v":0},{"$f":"IF(COUNTRY_INFO!H39=1, IF($E39=1,$D39, 0),0)","v":0},{"$f":"IF(INTRO!$E$39<>\"Endemic\",0, IF(AND(COUNTRY_INFO!$I39=1,$F39<>0),IF(COUNTRY_INFO!M39>=(COUNTRY_INFO!F39+COUNTRY_INFO!G39),COUNTRY_INFO!F39+COUNTRY_INFO!G39,COUNTRY_INFO!$M39), 0))","v":0},0,0,0,0,0,0,0,0,0]
[{"$f":"IF(INTRO!$E$39=\"Non-endemic\",\" \",IF(COUNTRY_INFO!A40=0,\" \",COUNTRY_INFO!A40))","v":"Uganda"},{"$f":"IF(INTRO!$E$39=\"Non-endemic\",\" \",IF(COUNTRY_INFO!B40=0,\" \",COUNTRY_INFO!B40))","v":"NORTHERN"},{"$f":"IF(INTRO!$E$39=\"Non-endemic\",\" \",IF(COUNTRY_INFO!C40=0,\" \",COUNTRY_INFO!C40))","v":"GULU"},{"$f":"IF(INTRO!$E$39=\"Non-endemic\",0,IF(INTRO!$E$39=\"Endemic but PC is not required\",IF(COUNTRY_INFO!$H40=1,COUNTRY_INFO!F40+COUNTRY_INFO!G40,0),IF(COUNTRY_INFO!$H40=1,COUNTRY_INFO!F40+COUNTRY_INFO!G40,IF(COUNTRY_INFO!$I40=1,IF(COUNTRY_INFO!M40>=(COUNTRY_INFO!F40+COUNTRY_INFO!G40),COUNTRY_INFO!F40+COUNTRY_INFO!G40,COUNTRY_INFO!$M40),0))))","v":263340},{"$f":"IF(AND(INTRO!$E$39=\"Non-endemic\",INTRO!$E$37=\"Non-endemic\"),\"Not required\",IF(INTRO!$E$39=\"Non-endemic\",\"Treat with DEC\",COUNTRY_INFO!P40))","v":1},{"$f":"IF(INTRO!$E$39<>\"Non-endemic\",COUNTRY_INFO!Q40,\"Not required\")","v":2},{"$f":"IF(COUNTRY_INFO!H40=1, IF($E40=1,$D40, 0),0)","v":263340},{"$f":"IF(INTRO!$E$39<>\"Endemic\",0, IF(AND(COUNTRY_INFO!$I40=1,$F40<>0),IF(COUNTRY_INFO!M40>=(COUNTRY_INFO!F40+COUNTRY_INFO!G40),COUNTRY_INFO!F40+COUNTRY_INFO!G40,COUNTRY_INFO!$M40), 0))","v":154490},127145,127145,381346,356006,356006,1093358,0,1093358,2187]
[{"$f":"IF(INTRO!$E$39=\"Non-endemic\",\" \",IF(COUNTRY_INFO!A41=0,\" \",COUNTRY_INFO!A41))","v":"Uganda"},{"$f":"IF(INTRO!$E$39=\"Non-endemic\",\" \",IF(COUNTRY_INFO!B41=0,\" \",COUNTRY_INFO!B41))","v":"WESTERN"},{"$f":"IF(INTRO!$E$39=\"Non-endemic\",\" \",IF(COUNTRY_INFO!C41=0,\" \",COUNTRY_INFO!C41))","v":"HOIMA"},{"$f":"IF(INTRO!$E$39=\"Non-endemic\",0,IF(INTRO!$E$39=\"Endemic but PC is not required\",IF(COUNTRY_INFO!$H41=1,COUNTRY_INFO!F41+COUNTRY_INFO!G41,0),IF(COUNTRY_INFO!$H41=1,COUNTRY_INFO!F41+COUNTRY_INFO!G41,IF(COUNTRY_INFO!$I41=1,IF(COUNTRY_INFO!M41>=(COUNTRY_INFO!F41+COUNTRY_INFO!G41),COUNTRY_INFO!F41+COUNTRY_INFO!G41,COUNTRY_INFO!$M41),0))))","v":84994},{"$f":"IF(AND(INTRO!$E$39=\"Non-endemic\",INTRO!$E$37=\"Non-endemic\"),\"Not required\",IF(INTRO!$E$39=\"Non-endemic\",\"Treat with DEC\",COUNTRY_INFO!P41))","v":0},{"$f":"IF(INTRO!$E$39<>\"Non-endemic\",COUNTRY_INFO!Q41,\"Not required\")","v":2},{"$f":"IF(COUNTRY_INFO!H41=1, IF($E41=1,$D41, 0),0)","v":0},{"$f":"IF(INTRO!$E$39<>\"Endemic\",0, IF(AND(COUNTRY_INFO!$I41=1,$F41<>0),IF(COUNTRY_INFO!M41>=(COUNTRY_INFO!F41+COUNTRY_INFO!G41),COUNTRY_INFO!F41+COUNTRY_INFO!G41,COUNTRY_INFO!$M41), 0))","v":84994},69950,{"$f":"IF(I41=0,H41,IF(I41>H41,H41,I41))","v":69950},{"$f":"IF(G41<J41,0,IF($E41=1, (G41-J41)*2.8, 0))","v":0},{"$f":"IF($E41<$F41, J41*(F41-E41)*2.8, 0)","v":391720},{"$f":"IF(AND($E41=1, $F41<>0), J41*2.8, 0)","v":0},{"$f":"SUM(K41:M41)","v":391720},0,{"$f":"IF($N41>$O41,$N41-$O41,0)","v":391720},{"$f":"ROUNDUP($N41/500,0)","v":784}]
[{"$f":"IF(INTRO!$E$39=\"Non-endemic\",\" \",IF(COUNTRY_INFO!A42=0,\" \",COUNTRY_INFO!A42))","v":"Uganda"},{"$f":"IF(INTRO!$E$39=\"Non-endemic\",\" \",IF(COUNTRY_INFO!B42=0,\" \",COUNTRY_INFO!B42))","v":"WESTERN"},{"$f":"IF(INTRO!$E$39=\"Non-endemic\",\" \",IF(COUNTRY_INFO!C42=0,\" \",COUNTRY_INFO!C42))","v":"IBANDA"},{"$f":"IF(INTRO!$E$39=\"Non-endemic\",0,IF(INTRO!$E$39=\"Endemic but PC is not required\",IF(COUNTRY_INFO!$H42=1,COUNTRY_INFO!F42+COUNTRY_INFO!G42,0),IF(COUNTRY_INFO!$H42=1,COUNTRY_INFO!F42+COUNTRY_INFO!G42,IF(COUNTRY_INFO!$I42=1,IF(COUNTRY_INFO!M42>=(COUNTRY_INFO!F42+COUNTRY_INFO!G42),COUNTRY_INFO!F42+COUNTRY_INFO!G42,COUNTRY_INFO!$M42),0))))","v":0},{"$f":"IF(AND(INTRO!$E$39=\"Non-endemic\",INTRO!$E$37=\"Non-endemic\"),\"Not required\",IF(INTRO!$E$39=\"Non-endemic\",\"Treat with DEC\",COUNTRY_INFO!P42))","v":0},{"$f":"IF(INTRO!$E$39<>\"Non-endemic\",COUNTRY_INFO!Q42,\"Not required\")","v":0},{"$f":"IF(COUNTRY_INFO!H42=1, IF($E42=1,$D42, 0),0)","v":0},{"$f":"IF(INTRO!$E$39<>\"Endemic\",0, IF(AND(COUNTRY_INFO!$I42=1,$F42<>0),IF(COUNTRY_INFO!M42>=(COUNTRY_INFO!F42+COUNTRY_INFO!G42),COUNTRY_INFO!F42+COUNTRY_INFO!G42,COUNTRY_INFO!$M42), 0))","v":0},0,0,0,0,0,0,0,0,0]
[{"$f":"IF(INTRO!$E$39=\"Non-endemic\",\" \",IF(COUNTRY_INFO!A43=0,\" \",COUNTRY_INFO!A43))","v":"Uganda"},{"$f":"IF(INTRO!$E$39=\"Non-endemic\",\" \",IF(COUNTRY_INFO!B43=0,\" \",COUNTRY_INFO!B43))","v":"EASTERN"},{"$f":"IF(INTRO!$E$39=\"Non-endemic\",\" \",IF(COUNTRY_INFO!C43=0,\" \",COUNTRY_INFO!C43))","v":"IGANGA"},{"$f":"IF(INTRO!$E$39=\"Non-endemic\",0,IF(INTRO!$E$39=\"Endemic but PC is not required\",IF(COUNTRY_INFO!$H43=1,COUNTRY_INFO!F43+COUNTRY_INFO!G43,0),IF(COUNTRY_INFO!$H43=1,COUNTRY_INFO!F43+COUNTRY_INFO!G43,IF(COUNTRY_INFO!$I43=1,IF(COUNTRY_INFO!M43>=(COUNTRY_INFO!F43+COUNTRY_INFO!G43),COUNTRY_INFO!F43+COUNTRY_INFO!G43,COUNTRY_INFO!$M43),0))))","v":0},{"$f":"IF(AND(INTRO!$E$39=\"Non-endemic\",INTRO!$E$37=\"Non-endemic\"),\"Not required\",IF(INTRO!$E$39=\"Non-endemic\",\"Treat with DEC\",COUNTRY_INFO!P43))","v":0},{"$f":"IF(INTRO!$E$39<>\"Non-endemic\",COUNTRY_INFO!Q43,\"Not required\")","v":0},{"$f":"IF(COUNTRY_INFO!H43=1, IF($E43=1,$D43, 0),0)","v":0},{"$f":"IF(INTRO!$E$39<>\"Endemic\",0, IF(AND(COUNTRY_INFO!$I43=1,$F43<>0),IF(COUNTRY_INFO!M43>=(COUNTRY_INFO!F43+COUNTRY_INFO!G43),COUNTRY_INFO!F43+COUNTRY_INFO!G43,COUNTRY_INFO!$M43), 0))","v":0},0,0,0,0,0,0,0,0,0]
[{"$f":"IF(INTRO!$E$39=\"Non-endemic\",\" \",IF(COUNTRY_INFO!A44=0,\" \",COUNTRY_INFO!A44))","v":"Uganda"},{"$f":"IF(INTRO!$E$39=\"Non-endemic\",\" \",IF(COUNTRY_INFO!B44=0,\" \",COUNTRY_INFO!B44))","v":"WESTERN"},{"$f":"IF(INTRO!$E$39=\"Non-endemic\",\" \",IF(COUNTRY_INFO!C44=0,\" \",COUNTRY_INFO!C44))","v":"ISINGIRO"},{"$f":"IF(INTRO!$E$39=\"Non-endemic\",0,IF(INTRO!$E$39=\"Endemic but PC is not required\",IF(COUNTRY_INFO!$H44=1,COUNTRY_INFO!F44+COUNTRY_INFO!G44,0),IF(COUNTRY_INFO!$H44=1,COUNTRY_INFO!F44+COUNTRY_INFO!G44,IF(COUNTRY_INFO!$I44=1,IF(COUNTRY_INFO!M44>=(COUNTRY_INFO!F44+COUNTRY_INFO!G44),COUNTRY_INFO!F44+COUNTRY_INFO!G44,COUNTRY_INFO!$M44),0))))","v":0},{"$f":"IF(AND(INTRO!$E$39=\"Non-endemic\",INTRO!$E$37=\"Non-endemic\"),\"Not required\",IF(INTRO!$E$39=\"Non-endemic\",\"Treat with DEC\",COUNTRY_INFO!P44))","v":0},{"$f":"IF(INTRO!$E$39<>\"Non-endemic\",COUNTRY_INFO!Q44,\"Not required\")","v":0},{"$f":"IF(COUNTRY_INFO!H44=1, IF($E44=1,$D44, 0),0)","v":0},{"$f":"IF(INTRO!$E$39<>\"Endemic\",0, IF(AND(COUNTRY_INFO!$I44=1,$F44<>0),IF(COUNTRY_INFO!M44>=(COUNTRY_INFO!F44+COUNTRY_INFO!G44),COUNTRY_INFO!F44+COUNTRY_INFO!G44,COUNTRY_INFO!$M44), 0))","v":0},0,0,0,0,0,0,0,0,0]
[{"$f":"IF(INTRO!$E$39=\"Non-endemic\",\" \",IF(COUNTRY_INFO!A45=0,\" \",COUNTRY_INFO!A45))","v":"Uganda"},{"$f":"IF(INTRO!$E$39=\"Non-endemic\",\" \",IF(COUNTRY_INFO!B45=0,\" \",COUNTRY_INFO!B45))","v":"EASTERN"},{"$f":"IF(INTRO!$E$39=\"Non-endemic\",\" \",IF(COUNTRY_INFO!C45=0,\" \",COUNTRY_INFO!C45))","v":"JINJA"},{"$f":"IF(INTRO!$E$39=\"Non-endemic\",0,IF(INTRO!$E$39=\"Endemic but PC is not required\",IF(COUNTRY_INFO!$H45=1,COUNTRY_INFO!F45+COUNTRY_INFO!G45,0),IF(COUNTRY_INFO!$H45=1,COUNTRY_INFO!F45+COUNTRY_INFO!G45,IF(COUNTRY_INFO!$I45=1,IF(COUNTRY_INFO!M45>=(COUNTRY_INFO!F45+COUNTRY_INFO!G45),COUNTRY_INFO!F45+COUNTRY_INFO!G45,COUNTRY_INFO!$M45),0))))","v":0},{"$f":"IF(AND(INTRO!$E$39=\"Non-endemic\",INTRO!$E$37=\"Non-endemic\"),\"Not required\",IF(INTRO!$E$39=\"Non-endemic\",\"Treat with DEC\",COUNTRY_INFO!P45))","v":0},{"$f":"IF(INTRO!$E$39<>\"Non-endemic\",COUNTRY_INFO!Q45,\"Not required\")","v":0},{"$f":"IF(COUNTRY_INFO!H45=1, IF($E45=1,$D45, 0),0)","v":0},{"$f":"IF(INTRO!$E$39<>\"Endemic\",0, IF(AND(COUNTRY_INFO!$I45=1,$F45<>0),IF(COUNTRY_INFO!M45>=(COUNTRY_INFO!F45+COUNTRY_INFO!G45),COUNTRY_INFO!F45+COUNTRY_INFO!G45,COUNTRY_INFO!$M45), 0))","v":0},0,0,0,0,0,0,0,0,0]
[{"$f":"IF(INTRO!$E$39=\"Non-endemic\",\" \",IF(COUNTRY_INFO!A46=0,\" \",COUNTRY_INFO!A46))","v":"Uganda"},{"$f":"IF(INTRO!$E$39=\"Non-endemic\",\" \",IF(COUNTRY_INFO!B46=0,\" \",COUNTRY_INFO!B46))","v":"NORTHERN"},{"$f":"IF(INTRO!$E$39=\"Non-endemic\",\" \",IF(COUNTRY_INFO!C46=0,\" \",COUNTRY_INFO!C46))","v":"KAABONG"},{"$f":"IF(INTRO!$E$39=\"Non-endemic\",0,IF(INTRO!$E$39=\"Endemic but PC is not required\",IF(COUNTRY_INFO!$H46=1,COUNTRY_INFO!F46+COUNTRY_INFO!G46,0),IF(COUNTRY_INFO!$H46=1,COUNTRY_INFO!F46+COUNTRY_INFO!G46,IF(COUNTRY_INFO!$I46=1,IF(COUNTRY_INFO!M46>=(COUNTRY_INFO!F46+COUNTRY_INFO!G46),COUNTRY_INFO!F46+COUNTRY_INFO!G46,COUNTRY_INFO!$M46),0))))","v":0},{"$f":"IF(AND(INTRO!$E$39=\"Non-endemic\",INTRO!$E$37=\"Non-endemic\"),\"Not required\",IF(INTRO!$E$39=\"Non-endemic\",\"Treat with DEC\",COUNTRY_INFO!P46))","v":0},{"$f":"IF(INTRO!$E$39<>\"Non-endemic\",COUNTRY_INFO!Q46,\"Not required\")","v":0},{"$f":"IF(COUNTRY_INFO!H46=1, IF($E46=1,$D46, 0),0)","v":0},{"$f":"IF(INTRO!$E$39<>\"Endemic\",0, IF(AND(COUNTRY_INFO!$I46=1,$F46<>0),IF(COUNTRY_INFO!M46>=(COUNTRY_INFO!F46+COUNTRY_INFO!G46),COUNTRY_INFO!F46+COUNTRY_INFO!G46,COUNTRY_INFO!$M46), 0))","v":0},0,0,0,0,0,0,0,0,0]
[{"$f":"IF(INTRO!$E$39=\"Non-endemic\",\" \",IF(COUNTRY_INFO!A47=0,\" \",COUNTRY_INFO!A47))","v":"Uganda"},{"$f":"IF(INTRO!$E$39=\"Non-endemic\",\" \",IF(COUNTRY_INFO!B47=0,\" \",COUNTRY_INFO!B47))","v":"WESTERN"},{"$f":"IF(INTRO!$E$39=\"Non-endemic\",\" \",IF(COUNTRY_INFO!C47=0,\" \",COUNTRY_INFO!C47))","v":"KABALE"},{"$f":"IF(INTRO!$E$39=\"Non-endemic\",0,IF(INTRO!$E$39=\"Endemic but PC is not required\",IF(COUNTRY_INFO!$H47=1,COUNTRY_INFO!F47+COUNTRY_INFO!G47,0),IF(COUNTRY_INFO!$H47=1,COUNTRY_INFO!F47+COUNTRY_INFO!G47,IF(COUNTRY_INFO!$I47=1,IF(COUNTRY_INFO!M47>=(COUNTRY_INFO!F47+COUNTRY_INFO!G47),COUNTRY_INFO!F47+COUNTRY_INFO!G47,COUNTRY_INFO!$M47),0))))","v":0},{"$f":"IF(AND(INTRO!$E$39=\"Non-endemic\",INTRO!$E$37=\"Non-endemic\"),\"Not required\",IF(INTRO!$E$39=\"Non-endemic\",\"Treat with DEC\",COUNTRY_INFO!P47))","v":0},{"$f":"IF(INTRO!$E$39<>\"Non-endemic\",COUNTRY_INFO!Q47,\"Not required\")","v":0},{"$f":"IF(COUNTRY_INFO!H47=1, IF($E47=1,$D47, 0),0)","v":0},{"$f":"IF(INTRO!$E$39<>\"Endemic\",0, IF(AND(COUNTRY_INFO!$I47=1,$F47<>0),IF(COUNTRY_INFO!M47>=(COUNTRY_INFO!F47+COUNTRY_INFO!G47),COUNTRY_INFO!F47+COUNTRY_INFO!G47,COUNTRY_INFO!$M47), 0))","v":0},0,0,0,0,0,0,0,0,0]
[{"$f":"IF(INTRO!$E$39=\"Non-endemic\",\" \",IF(COUNTRY_INFO!A48=0,\" \",COUNTRY_INFO!A48))","v":"Uganda"},{"$f":"IF(INTRO!$E$39=\"Non-endemic\",\" \",IF(COUNTRY_INFO!B48=0,\" \",COUNTRY_INFO!B48))","v":"WESTERN"},{"$f":"IF(INTRO!$E$39=\"Non-endemic\",\" \",IF(COUNTRY_INFO!C48=0,\" \",COUNTRY_INFO!C48))","v":"KABAROLE"},{"$f":"IF(INTRO!$E$39=\"Non-endemic\",0,IF(INTRO!$E$39=\"Endemic but PC is not required\",IF(COUNTRY_INFO!$H48=1,COUNTRY_INFO!F48+COUNTRY_INFO!G48,0),IF(COUNTRY_INFO!$H48=1,COUNTRY_INFO!F48+COUNTRY_INFO!G48,IF(COUNTRY_INFO!$I48=1,IF(COUNTRY_INFO!M48>=(COUNTRY_INFO!F48+COUNTRY_INFO!G48),COUNTRY_INFO!F48+COUNTRY_INFO!G48,COUNTRY_INFO!$M48),0))))","v":0},{"$f":"IF(AND(INTRO!$E$39=\"Non-endemic\",INTRO!$E$37=\"Non-endemic\"),\"Not required\",IF(INTRO!$E$39=\"Non-endemic\",\"Treat with DEC\",COUNTRY_INFO!P48))","v":0},{"$f":"IF(INTRO!$E$39<>\"Non-endemic\",COUNTRY_INFO!Q48,\"Not required\")","v":0},{"$f":"IF(COUNTRY_INFO!H48=1, IF($E48=1,$D48, 0),0)","v":0},{"$f":"IF(INTRO!$E$39<>\"Endemic\",0, IF(AND(COUNTRY_INFO!$I48=1,$F48<>0),IF(COUNTRY_INFO!M48>=(COUNTRY_INFO!F48+COUNTRY_INFO!G48),COUNTRY_INFO!F48+COUNTRY_INFO!G48,COUNTRY_INFO!$M48), 0))","v":0},0,0,0,0,0,0,0,0,0]
[{"$f":"IF(INTRO!$E$39=\"Non-endemic\",\" \",IF(COUNTRY_INFO!A49=0,\" \",COUNTRY_INFO!A49))","v":"Uganda"},{"$f":"IF(INTRO!$E$39=\"Non-endemic\",\" \",IF(COUNTRY_INFO!B49=0,\" \",COUNTRY_INFO!B49))","v":"EASTERN"},{"$f":"IF(INTRO!$E$39=\"Non-endemic\",\" \",IF(COUNTRY_INFO!C49=0,\" \",COUNTRY_INFO!C49))","v":"KABERAMAIDO"},{"$f":"IF(INTRO!$E$39=\"Non-endemic\",0,IF(INTRO!$E$39=\"Endemic but PC is not required\",IF(COUNTRY_INFO!$H49=1,COUNTRY_INFO!F49+COUNTRY_INFO!G49,0),IF(COUNTRY_INFO!$H49=1,COUNTRY_INFO!F49+COUNTRY_INFO!G49,IF(COUNTRY_INFO!$I49=1,IF(COUNTRY_INFO!M49>=(COUNTRY_INFO!F49+COUNTRY_INFO!G49),COUNTRY_INFO!F49+COUNTRY_INFO!G49,COUNTRY_INFO!$M49),0))))","v":0},{"$f":"IF(AND(INTRO!$E$39=\"Non-endemic\",INTRO!$E$37=\"Non-endemic\"),\"Not required\",IF(INTRO!$E$39=\"Non-endemic\",\"Treat with DEC\",COUNTRY_INFO!P49))","v":0},{"$f":"IF(INTRO!$E$39<>\"Non-endemic\",COUNTRY_INFO!Q49,\"Not required\")","v":0},{"$f":"IF(COUNTRY_INFO!H49=1, IF($E49=1,$D49, 0),0)","v":0},{"$f":"IF(INTRO!$E$39<>\"Endemic\",0, IF(AND(COUNTRY_INFO!$I49=1,$F49<>0),IF(COUNTRY_INFO!M49>=(COUNTRY_INFO!F49+COUNTRY_INFO!G49),COUNTRY_INFO!F49+COUNTRY_INFO!G49,COUNTRY_INFO!$M49), 0))","v":0},0,0,0,0,0,0,0,0,0]
[{"$f":"IF(INTRO!$E$39=\"Non-endemic\",\" \",IF(COUNTRY_INFO!A50=0,\" \",COUNTRY_INFO!A50))","v":"Uganda"},{"$f":"IF(INTRO!$E$39=\"Non-endemic\",\" \",IF(COUNTRY_INFO!B50=0,\" \",COUNTRY_INFO!B50))","v":"WESTERN"},{"$f":"IF(INTRO!$E$39=\"Non-endemic\",\" \",IF(COUNTRY_INFO!C50=0,\" \",COUNTRY_INFO!C50))","v":"KAGADI"},{"$f":"IF(INTRO!$E$39=\"Non-endemic\",0,IF(INTRO!$E$39=\"Endemic but PC is not required\",IF(COUNTRY_INFO!$H50=1,COUNTRY_INFO!F50+COUNTRY_INFO!G50,0),IF(COUNTRY_INFO!$H50=1,COUNTRY_INFO!F50+COUNTRY_INFO!G50,IF(COUNTRY_INFO!$I50=1,IF(COUNTRY_INFO!M50>=(COUNTRY_INFO!F50+COUNTRY_INFO!G50),COUNTRY_INFO!F50+COUNTRY_INFO!G50,COUNTRY_INFO!$M50),0))))","v":0},{"$f":"IF(AND(INTRO!$E$39=\"Non-endemic\",INTRO!$E$37=\"Non-endemic\"),\"Not required\",IF(INTRO!$E$39=\"Non-endemic\",\"Treat with DEC\",COUNTRY_INFO!P50))","v":0},{"$f":"IF(INTRO!$E$39<>\"Non-endemic\",COUNTRY_INFO!Q50,\"Not required\")","v":0},{"$f":"IF(COUNTRY_INFO!H50=1, IF($E50=1,$D50, 0),0)","v":0},{"$f":"IF(INTRO!$E$39<>\"Endemic\",0, IF(AND(COUNTRY_INFO!$I50=1,$F50<>0),IF(COUNTRY_INFO!M50>=(COUNTRY_INFO!F50+COUNTRY_INFO!G50),COUNTRY_INFO!F50+COUNTRY_INFO!G50,COUNTRY_INFO!$M50), 0))","v":0},0,0,0,0,0,0,0,0,0]
[{"$f":"IF(INTRO!$E$39=\"Non-endemic\",\" \",IF(COUNTRY_INFO!A51=0,\" \",COUNTRY_INFO!A51))","v":"Uganda"},{"$f":"IF(INTRO!$E$39=\"Non-endemic\",\" \",IF(COUNTRY_INFO!B51=0,\" \",COUNTRY_INFO!B51))","v":"WESTERN"},{"$f":"IF(INTRO!$E$39=\"Non-endemic\",\" \",IF(COUNTRY_INFO!C51=0,\" \",COUNTRY_INFO!C51))","v":"KAKUMIRO"},{"$f":"IF(INTRO!$E$39=\"Non-endemic\",0,IF(INTRO!$E$39=\"Endemic but PC is not required\",IF(COUNTRY_INFO!$H51=1,COUNTRY_INFO!F51+COUNTRY_INFO!G51,0),IF(COUNTRY_INFO!$H51=1,COUNTRY_INFO!F51+COUNTRY_INFO!G51,IF(COUNTRY_INFO!$I51=1,IF(COUNTRY_INFO!M51>=(COUNTRY_INFO!F51+COUNTRY_INFO!G51),COUNTRY_INFO!F51+COUNTRY_INFO!G51,COUNTRY_INFO!$M51),0))))","v":0},{"$f":"IF(AND(INTRO!$E$39=\"Non-endemic\",INTRO!$E$37=\"Non-endemic\"),\"Not required\",IF(INTRO!$E$39=\"Non-endemic\",\"Treat with DEC\",COUNTRY_INFO!P51))","v":0},{"$f":"IF(INTRO!$E$39<>\"Non-endemic\",COUNTRY_INFO!Q51,\"Not required\")","v":0},{"$f":"IF(COUNTRY_INFO!H51=1, IF($E51=1,$D51, 0),0)","v":0},{"$f":"IF(INTRO!$E$39<>\"Endemic\",0, IF(AND(COUNTRY_INFO!$I51=1,$F51<>0),IF(COUNTRY_INFO!M51>=(COUNTRY_INFO!F51+COUNTRY_INFO!G51),COUNTRY_INFO!F51+COUNTRY_INFO!G51,COUNTRY_INFO!$M51), 0))","v":0},0,0,0,0,0,0,0,0,0]
[{"$f":"IF(INTRO!$E$39=\"Non-endemic\",\" \",IF(COUNTRY_INFO!A52=0,\" \",COUNTRY_INFO!A52))","v":"Uganda"},{"$f":"IF(INTRO!$E$39=\"Non-endemic\",\" \",IF(COUNTRY_INFO!B52=0,\" \",COUNTRY_INFO!B52))","v":"CENTRAL"},{"$f":"IF(INTRO!$E$39=\"Non-endemic\",\" \",IF(COUNTRY_INFO!C52=0,\" \",COUNTRY_INFO!C52))","v":"KALANGALA"},{"$f":"IF(INTRO!$E$39=\"Non-endemic\",0,IF(INTRO!$E$39=\"Endemic but PC is not required\",IF(COUNTRY_INFO!$H52=1,COUNTRY_INFO!F52+COUNTRY_INFO!G52,0),IF(COUNTRY_INFO!$H52=1,COUNTRY_INFO!F52+COUNTRY_INFO!G52,IF(COUNTRY_INFO!$I52=1,IF(COUNTRY_INFO!M52>=(COUNTRY_INFO!F52+COUNTRY_INFO!G52),COUNTRY_INFO!F52+COUNTRY_INFO!G52,COUNTRY_INFO!$M52),0))))","v":0},{"$f":"IF(AND(INTRO!$E$39=\"Non-endemic\",INTRO!$E$37=\"Non-endemic\"),\"Not required\",IF(INTRO!$E$39=\"Non-endemic\",\"Treat with DEC\",COUNTRY_INFO!P52))","v":0},{"$f":"IF(INTRO!$E$39<>\"Non-endemic\",COUNTRY_INFO!Q52,\"Not required\")","v":0},{"$f":"IF(COUNTRY_INFO!H52=1, IF($E52=1,$D52, 0),0)","v":0},{"$f":"IF(INTRO!$E$39<>\"Endemic\",0, IF(AND(COUNTRY_INFO!$I52=1,$F52<>0),IF(COUNTRY_INFO!M52>=(COUNTRY_INFO!F52+COUNTRY_INFO!G52),COUNTRY_INFO!F52+COUNTRY_INFO!G52,COUNTRY_INFO!$M52), 0))","v":0},0,0,0,0,0,0,0,0,0]
[{"$f":"IF(INTRO!$E$39=\"Non-endemic\",\" \",IF(COUNTRY_INFO!A53=0,\" \",COUNTRY_INFO!A53))","v":"Uganda"},{"$f":"IF(INTRO!$E$39=\"Non-endemic\",\" \",IF(COUNTRY_INFO!B53=0,\" \",COUNTRY_INFO!B53))","v":"EASTERN"},{"$f":"IF(INTRO!$E$39=\"Non-endemic\",\" \",IF(COUNTRY_INFO!C53=0,\" \",COUNTRY_INFO!C53))","v":"KALIRO"},{"$f":"IF(INTRO!$E$39=\"Non-endemic\",0,IF(INTRO!$E$39=\"Endemic but PC is not required\",IF(COUNTRY_INFO!$H53=1,COUNTRY_INFO!F53+COUNTRY_INFO!G53,0),IF(COUNTRY_INFO!$H53=1,COUNTRY_INFO!F53+COUNTRY_INFO!G53,IF(COUNTRY_INFO!$I53=1,IF(COUNTRY_INFO!M53>=(COUNTRY_INFO!F53+COUNTRY_INFO!G53),COUNTRY_INFO!F53+COUNTRY_INFO!G53,COUNTRY_INFO!$M53),0))))","v":0},{"$f":"IF(AND(INTRO!$E$39=\"Non-endemic\",INTRO!$E$37=\"Non-endemic\"),\"Not required\",IF(INTRO!$E$39=\"Non-endemic\",\"Treat with DEC\",COUNTRY_INFO!P53))","v":0},{"$f":"IF(INTRO!$E$39<>\"Non-endemic\",COUNTRY_INFO!Q53,\"Not required\")","v":0},{"$f":"IF(COUNTRY_INFO!H53=1, IF($E53=1,$D53, 0),0)","v":0},{"$f":"IF(INTRO!$E$39<>\"Endemic\",0, IF(AND(COUNTRY_INFO!$I53=1,$F53<>0),IF(COUNTRY_INFO!M53>=(COUNTRY_INFO!F53+COUNTRY_INFO!G53),COUNTRY_INFO!F53+COUNTRY_INFO!G53,COUNTRY_INFO!$M53), 0))","v":0},0,0,0,0,0,0,0,0,0]
[{"$f":"IF(INTRO!$E$39=\"Non-endemic\",\" \",IF(COUNTRY_INFO!A54=0,\" \",COUNTRY_INFO!A54))","v":"Uganda"},{"$f":"IF(INTRO!$E$39=\"Non-endemic\",\" \",IF(COUNTRY_INFO!B54=0,\" \",COUNTRY_INFO!B54))","v":"CENTRAL"},{"$f":"IF(INTRO!$E$39=\"Non-endemic\",\" \",IF(COUNTRY_INFO!C54=0,\" \",COUNTRY_INFO!C54))","v":"KALUNGU"},{"$f":"IF(INTRO!$E$39=\"Non-endemic\",0,IF(INTRO!$E$39=\"Endemic but PC is not required\",IF(COUNTRY_INFO!$H54=1,COUNTRY_INFO!F54+COUNTRY_INFO!G54,0),IF(COUNTRY_INFO!$H54=1,COUNTRY_INFO!F54+COUNTRY_INFO!G54,IF(COUNTRY_INFO!$I54=1,IF(COUNTRY_INFO!M54>=(COUNTRY_INFO!F54+COUNTRY_INFO!G54),COUNTRY_INFO!F54+COUNTRY_INFO!G54,COUNTRY_INFO!$M54),0))))","v":0},{"$f":"IF(AND(INTRO!$E$39=\"Non-endemic\",INTRO!$E$37=\"Non-endemic\"),\"Not required\",IF(INTRO!$E$39=\"Non-endemic\",\"Treat with DEC\",COUNTRY_INFO!P54))","v":0},{"$f":"IF(INTRO!$E$39<>\"Non-endemic\",COUNTRY_INFO!Q54,\"Not required\")","v":0},{"$f":"IF(COUNTRY_INFO!H54=1, IF($E54=1,$D54, 0),0)","v":0},{"$f":"IF(INTRO!$E$39<>\"Endemic\",0, IF(AND(COUNTRY_INFO!$I54=1,$F54<>0),IF(COUNTRY_INFO!M54>=(COUNTRY_INFO!F54+COUNTRY_INFO!G54),COUNTRY_INFO!F54+COUNTRY_INFO!G54,COUNTRY_INFO!$M54), 0))","v":0},0,0,0,0,0,0,0,0,0]
[{"$f":"IF(INTRO!$E$39=\"Non-endemic\",\" \",IF(COUNTRY_INFO!A55=0,\" \",COUNTRY_INFO!A55))","v":"Uganda"},{"$f":"IF(INTRO!$E$39=\"Non-endemic\",\" \",IF(COUNTRY_INFO!B55=0,\" \",COUNTRY_INFO!B55))","v":"CENTRAL"},{"$f":"IF(INTRO!$E$39=\"Non-endemic\",\" \",IF(COUNTRY_INFO!C55=0,\" \",COUNTRY_INFO!C55))","v":"KAMPALA"},{"$f":"IF(INTRO!$E$39=\"Non-endemic\",0,IF(INTRO!$E$39=\"Endemic but PC is not required\",IF(COUNTRY_INFO!$H55=1,COUNTRY_INFO!F55+COUNTRY_INFO!G55,0),IF(COUNTRY_INFO!$H55=1,COUNTRY_INFO!F55+COUNTRY_INFO!G55,IF(COUNTRY_INFO!$I55=1,IF(COUNTRY_INFO!M55>=(COUNTRY_INFO!F55+COUNTRY_INFO!G55),COUNTRY_INFO!F55+COUNTRY_INFO!G55,COUNTRY_INFO!$M55),0))))","v":0},{"$f":"IF(AND(INTRO!$E$39=\"Non-endemic\",INTRO!$E$37=\"Non-endemic\"),\"Not required\",IF(INTRO!$E$39=\"Non-endemic\",\"Treat with DEC\",COUNTRY_INFO!P55))","v":0},{"$f":"IF(INTRO!$E$39<>\"Non-endemic\",COUNTRY_INFO!Q55,\"Not required\")","v":0},{"$f":"IF(COUNTRY_INFO!H55=1, IF($E55=1,$D55, 0),0)","v":0},{"$f":"IF(INTRO!$E$39<>\"Endemic\",0, IF(AND(COUNTRY_INFO!$I55=1,$F55<>0),IF(COUNTRY_INFO!M55>=(COUNTRY_INFO!F55+COUNTRY_INFO!G55),COUNTRY_INFO!F55+COUNTRY_INFO!G55,COUNTRY_INFO!$M55), 0))","v":0},0,0,0,0,0,0,0,0,0]
[{"$f":"IF(INTRO!$E$39=\"Non-endemic\",\" \",IF(COUNTRY_INFO!A56=0,\" \",COUNTRY_INFO!A56))","v":"Uganda"},{"$f":"IF(INTRO!$E$39=\"Non-endemic\",\" \",IF(COUNTRY_INFO!B56=0,\" \",COUNTRY_INFO!B56))","v":"EASTERN"},{"$f":"IF(INTRO!$E$39=\"Non-endemic\",\" \",IF(COUNTRY_INFO!C56=0,\" \",COUNTRY_INFO!C56))","v":"KAMULI"},{"$f":"IF(INTRO!$E$39=\"Non-endemic\",0,IF(INTRO!$E$39=\"Endemic but PC is not required\",IF(COUNTRY_INFO!$H56=1,COUNTRY_INFO!F56+COUNTRY_INFO!G56,0),IF(COUNTRY_INFO!$H56=1,COUNTRY_INFO!F56+COUNTRY_INFO!G56,IF(COUNTRY_INFO!$I56=1,IF(COUNTRY_INFO!M56>=(COUNTRY_INFO!F56+COUNTRY_INFO!G56),COUNTRY_INFO!F56+COUNTRY_INFO!G56,COUNTRY_INFO!$M56),0))))","v":0},{"$f":"IF(AND(INTRO!$E$39=\"Non-endemic\",INTRO!$E$37=\"Non-endemic\"),\"Not required\",IF(INTRO!$E$39=\"Non-endemic\",\"Treat with DEC\",COUNTRY_INFO!P56))","v":0},{"$f":"IF(INTRO!$E$39<>\"Non-endemic\",COUNTRY_INFO!Q56,\"Not required\")","v":0},{"$f":"IF(COUNTRY_INFO!H56=1, IF($E56=1,$D56, 0),0)","v":0},{"$f":"IF(INTRO!$E$39<>\"Endemic\",0, IF(AND(COUNTRY_INFO!$I56=1,$F56<>0),IF(COUNTRY_INFO!M56>=(COUNTRY_INFO!F56+COUNTRY_INFO!G56),COUNTRY_INFO!F56+COUNTRY_INFO!G56,COUNTRY_INFO!$M56), 0))","v":0},0,0,0,0,0,0,0,0,0]
[{"$f":"IF(INTRO!$E$39=\"Non-endemic\",\" \",IF(COUNTRY_INFO!A57=0,\" \",COUNTRY_INFO!A57))","v":"Uganda"},{"$f":"IF(INTRO!$E$39=\"Non-endemic\",\" \",IF(COUNTRY_INFO!B57=0,\" \",COUNTRY_INFO!B57))","v":"WESTERN"},{"$f":"IF(INTRO!$E$39=\"Non-endemic\",\" \",IF(COUNTRY_INFO!C57=0,\" \",COUNTRY_INFO!C57))","v":"KAMWENGE"},{"$f":"IF(INTRO!$E$39=\"Non-endemic\",0,IF(INTRO!$E$39=\"Endemic but PC is not required\",IF(COUNTRY_INFO!$H57=1,COUNTRY_INFO!F57+COUNTRY_INFO!G57,0),IF(COUNTRY_INFO!$H57=1,COUNTRY_INFO!F57+COUNTRY_INFO!G57,IF(COUNTRY_INFO!$I57=1,IF(COUNTRY_INFO!M57>=(COUNTRY_INFO!F57+COUNTRY_INFO!G57),COUNTRY_INFO!F57+COUNTRY_INFO!G57,COUNTRY_INFO!$M57),0))))","v":0},{"$f":"IF(AND(INTRO!$E$39=\"Non-endemic\",INTRO!$E$37=\"Non-endemic\"),\"Not required\",IF(INTRO!$E$39=\"Non-endemic\",\"Treat with DEC\",COUNTRY_INFO!P57))","v":0},{"$f":"IF(INTRO!$E$39<>\"Non-endemic\",COUNTRY_INFO!Q57,\"Not required\")","v":0},{"$f":"IF(COUNTRY_INFO!H57=1, IF($E57=1,$D57, 0),0)","v":0},{"$f":"IF(INTRO!$E$39<>\"Endemic\",0, IF(AND(COUNTRY_INFO!$I57=1,$F57<>0),IF(COUNTRY_INFO!M57>=(COUNTRY_INFO!F57+COUNTRY_INFO!G57),COUNTRY_INFO!F57+COUNTRY_INFO!G57,COUNTRY_INFO!$M57), 0))","v":0},0,0,0,0,0,0,0,0,0]
[{"$f":"IF(INTRO!$E$39=\"Non-endemic\",\" \",IF(COUNTRY_INFO!A58=0,\" \",COUNTRY_INFO!A58))","v":"Uganda"},{"$f":"IF(INTRO!$E$39=\"Non-endemic\",\" \",IF(COUNTRY_INFO!B58=0,\" \",COUNTRY_INFO!B58))","v":"WESTERN"},{"$f":"IF(INTRO!$E$39=\"Non-endemic\",\" \",IF(COUNTRY_INFO!C58=0,\" \",COUNTRY_INFO!C58))","v":"KANUNGU"},{"$f":"IF(INTRO!$E$39=\"Non-endemic\",0,IF(INTRO!$E$39=\"Endemic but PC is not required\",IF(COUNTRY_INFO!$H58=1,COUNTRY_INFO!F58+COUNTRY_INFO!G58,0),IF(COUNTRY_INFO!$H58=1,COUNTRY_INFO!F58+COUNTRY_INFO!G58,IF(COUNTRY_INFO!$I58=1,IF(COUNTRY_INFO!M58>=(COUNTRY_INFO!F58+COUNTRY_INFO!G58),COUNTRY_INFO!F58+COUNTRY_INFO!G58,COUNTRY_INFO!$M58),0))))","v":66091},{"$f":"IF(AND(INTRO!$E$39=\"Non-endemic\",INTRO!$E$37=\"Non-endemic\"),\"Not required\",IF(INTRO!$E$39=\"Non-endemic\",\"Treat with DEC\",COUNTRY_INFO!P58))","v":0},{"$f":"IF(INTRO!$E$39<>\"Non-endemic\",COUNTRY_INFO!Q58,\"Not required\")","v":2},{"$f":"IF(COUNTRY_INFO!H58=1, IF($E58=1,$D58, 0),0)","v":0},{"$f":"IF(INTRO!$E$39<>\"Endemic\",0, IF(AND(COUNTRY_INFO!$I58=1,$F58<>0),IF(COUNTRY_INFO!M58>=(COUNTRY_INFO!F58+COUNTRY_INFO!G58),COUNTRY_INFO!F58+COUNTRY_INFO!G58,COUNTRY_INFO!$M58), 0))","v":66091},54393,54393,0,304600.8,0,304600.8,0,304600.8,610]
[{"$f":"IF(INTRO!$E$39=\"Non-endemic\",\" \",IF(COUNTRY_INFO!A59=0,\" \",COUNTRY_INFO!A59))","v":"Uganda"},{"$f":"IF(INTRO!$E$39=\"Non-endemic\",\" \",IF(COUNTRY_INFO!B59=0,\" \",COUNTRY_INFO!B59))","v":"EASTERN"},{"$f":"IF(INTRO!$E$39=\"Non-endemic\",\" \",IF(COUNTRY_INFO!C59=0,\" \",COUNTRY_INFO!C59))","v":"KAPCHORWA"},{"$f":"IF(INTRO!$E$39=\"Non-endemic\",0,IF(INTRO!$E$39=\"Endemic but PC is not required\",IF(COUNTRY_INFO!$H59=1,COUNTRY_INFO!F59+COUNTRY_INFO!G59,0),IF(COUNTRY_INFO!$H59=1,COUNTRY_INFO!F59+COUNTRY_INFO!G59,IF(COUNTRY_INFO!$I59=1,IF(COUNTRY_INFO!M59>=(COUNTRY_INFO!F59+COUNTRY_INFO!G59),COUNTRY_INFO!F59+COUNTRY_INFO!G59,COUNTRY_INFO!$M59),0))))","v":0},{"$f":"IF(AND(INTRO!$E$39=\"Non-endemic\",INTRO!$E$37=\"Non-endemic\"),\"Not required\",IF(INTRO!$E$39=\"Non-endemic\",\"Treat with DEC\",COUNTRY_INFO!P59))","v":0},{"$f":"IF(INTRO!$E$39<>\"Non-endemic\",COUNTRY_INFO!Q59,\"Not required\")","v":0},{"$f":"IF(COUNTRY_INFO!H59=1, IF($E59=1,$D59, 0),0)","v":0},{"$f":"IF(INTRO!$E$39<>\"Endemic\",0, IF(AND(COUNTRY_INFO!$I59=1,$F59<>0),IF(COUNTRY_INFO!M59>=(COUNTRY_INFO!F59+COUNTRY_INFO!G59),COUNTRY_INFO!F59+COUNTRY_INFO!G59,COUNTRY_INFO!$M59), 0))","v":0},0,0,0,0,0,0,0,0,0]
[{"$f":"IF(INTRO!$E$39=\"Non-endemic\",\" \",IF(COUNTRY_INFO!A60=0,\" \",COUNTRY_INFO!A60))","v":"Uganda"},{"$f":"IF(INTRO!$E$39=\"Non-endemic\",\" \",IF(COUNTRY_INFO!B60=0,\" \",COUNTRY_INFO!B60))","v":"WESTERN"},{"$f":"IF(INTRO!$E$39=\"Non-endemic\",\" \",IF(COUNTRY_INFO!C60=0,\" \",COUNTRY_INFO!C60))","v":"KASESE"},{"$f":"IF(INTRO!$E$39=\"Non-endemic\",0,IF(INTRO!$E$39=\"Endemic but PC is not required\",IF(COUNTRY_INFO!$H60=1,COUNTRY_INFO!F60+COUNTRY_INFO!G60,0),IF(COUNTRY_INFO!$H60=1,COUNTRY_INFO!F60+COUNTRY_INFO!G60,IF(COUNTRY_INFO!$I60=1,IF(COUNTRY_INFO!M60>=(COUNTRY_INFO!F60+COUNTRY_INFO!G60),COUNTRY_INFO!F60+COUNTRY_INFO!G60,COUNTRY_INFO!$M60),0))))","v":139097},{"$f":"IF(AND(INTRO!$E$39=\"Non-endemic\",INTRO!$E$37=\"Non-endemic\"),\"Not required\",IF(INTRO!$E$39=\"Non-endemic\",\"Treat with DEC\",COUNTRY_INFO!P60))","v":0},{"$f":"IF(INTRO!$E$39<>\"Non-endemic\",COUNTRY_INFO!Q60,\"Not required\")","v":2},{"$f":"IF(COUNTRY_INFO!H60=1, IF($E60=1,$D60, 0),0)","v":0},{"$f":"IF(INTRO!$E$39<>\"Endemic\",0, IF(AND(COUNTRY_INFO!$I60=1,$F60<>0),IF(COUNTRY_INFO!M60>=(COUNTRY_INFO!F60+COUNTRY_INFO!G60),COUNTRY_INFO!F60+COUNTRY_INFO!G60,COUNTRY_INFO!$M60), 0))","v":139097},114477,114477,0,641071.19999999995,0,641071.19999999995,0,641071.19999999995,1283]
[{"$f":"IF(INTRO!$E$39=\"Non-endemic\",\" \",IF(COUNTRY_INFO!A61=0,\" \",COUNTRY_INFO!A61))","v":"Uganda"},{"$f":"IF(INTRO!$E$39=\"Non-endemic\",\" \",IF(COUNTRY_INFO!B61=0,\" \",COUNTRY_INFO!B61))","v":"EASTERN"},{"$f":"IF(INTRO!$E$39=\"Non-endemic\",\" \",IF(COUNTRY_INFO!C61=0,\" \",COUNTRY_INFO!C61))","v":"KATAKWI"},{"$f":"IF(INTRO!$E$39=\"Non-endemic\",0,IF(INTRO!$E$39=\"Endemic but PC is not required\",IF(COUNTRY_INFO!$H61=1,COUNTRY_INFO!F61+COUNTRY_INFO!G61,0),IF(COUNTRY_INFO!$H61=1,COUNTRY_INFO!F61+COUNTRY_INFO!G61,IF(COUNTRY_INFO!$I61=1,IF(COUNTRY_INFO!M61>=(COUNTRY_INFO!F61+COUNTRY_INFO!G61),COUNTRY_INFO!F61+COUNTRY_INFO!G61,COUNTRY_INFO!$M61),0))))","v":0},{"$f":"IF(AND(INTRO!$E$39=\"Non-endemic\",INTRO!$E$37=\"Non-endemic\"),\"Not required\",IF(INTRO!$E$39=\"Non-endemic\",\"Treat with DEC\",COUNTRY_INFO!P61))","v":0},{"$f":"IF(INTRO!$E$39<>\"Non-endemic\",COUNTRY_INFO!Q61,\"Not required\")","v":0},{"$f":"IF(COUNTRY_INFO!H61=1, IF($E61=1,$D61, 0),0)","v":0},{"$f":"IF(INTRO!$E$39<>\"Endemic\",0, IF(AND(COUNTRY_INFO!$I61=1,$F61<>0),IF(COUNTRY_INFO!M61>=(COUNTRY_INFO!F61+COUNTRY_INFO!G61),COUNTRY_INFO!F61+COUNTRY_INFO!G61,COUNTRY_INFO!$M61), 0))","v":0},0,0,0,0,0,0,0,0,0]
[{"$f":"IF(INTRO!$E$39=\"Non-endemic\",\" \",IF(COUNTRY_INFO!A62=0,\" \",COUNTRY_INFO!A62))","v":"Uganda"},{"$f":"IF(INTRO!$E$39=\"Non-endemic\",\" \",IF(COUNTRY_INFO!B62=0,\" \",COUNTRY_INFO!B62))","v":"CENTRAL"},{"$f":"IF(INTRO!$E$39=\"Non-endemic\",\" \",IF(COUNTRY_INFO!C62=0,\" \",COUNTRY_INFO!C62))","v":"KAYUNGA"},{"$f":"IF(INTRO!$E$39=\"Non-endemic\",0,IF(INTRO!$E$39=\"Endemic but PC is not required\",IF(COUNTRY_INFO!$H62=1,COUNTRY_INFO!F62+COUNTRY_INFO!G62,0),IF(COUNTRY_INFO!$H62=1,COUNTRY_INFO!F62+COUNTRY_INFO!G62,IF(COUNTRY_INFO!$I62=1,IF(COUNTRY_INFO!M62>=(COUNTRY_INFO!F62+COUNTRY_INFO!G62),COUNTRY_INFO!F62+COUNTRY_INFO!G62,COUNTRY_INFO!$M62),0))))","v":0},{"$f":"IF(AND(INTRO!$E$39=\"Non-endemic\",INTRO!$E$37=\"Non-endemic\"),\"Not required\",IF(INTRO!$E$39=\"Non-endemic\",\"Treat with DEC\",COUNTRY_INFO!P62))","v":0},{"$f":"IF(INTRO!$E$39<>\"Non-endemic\",COUNTRY_INFO!Q62,\"Not required\")","v":0},{"$f":"IF(COUNTRY_INFO!H62=1, IF($E62=1,$D62, 0),0)","v":0},{"$f":"IF(INTRO!$E$39<>\"Endemic\",0, IF(AND(COUNTRY_INFO!$I62=1,$F62<>0),IF(COUNTRY_INFO!M62>=(COUNTRY_INFO!F62+COUNTRY_INFO!G62),COUNTRY_INFO!F62+COUNTRY_INFO!G62,COUNTRY_INFO!$M62), 0))","v":0},0,0,0,0,0,0,0,0,0]
[{"$f":"IF(INTRO!$E$39=\"Non-endemic\",\" \",IF(COUNTRY_INFO!A63=0,\" \",COUNTRY_INFO!A63))","v":"Uganda"},{"$f":"IF(INTRO!$E$39=\"Non-endemic\",\" \",IF(COUNTRY_INFO!B63=0,\" \",COUNTRY_INFO!B63))","v":"WESTERN"},{"$f":"IF(INTRO!$E$39=\"Non-endemic\",\" \",IF(COUNTRY_INFO!C63=0,\" \",COUNTRY_INFO!C63))","v":"KIBAALE"},{"$f":"IF(INTRO!$E$39=\"Non-endemic\",0,IF(INTRO!$E$39=\"Endemic but PC is not required\",IF(COUNTRY_INFO!$H63=1,COUNTRY_INFO!F63+COUNTRY_INFO!G63,0),IF(COUNTRY_INFO!$H63=1,COUNTRY_INFO!F63+COUNTRY_INFO!G63,IF(COUNTRY_INFO!$I63=1,IF(COUNTRY_INFO!M63>=(COUNTRY_INFO!F63+COUNTRY_INFO!G63),COUNTRY_INFO!F63+COUNTRY_INFO!G63,COUNTRY_INFO!$M63),0))))","v":0},{"$f":"IF(AND(INTRO!$E$39=\"Non-endemic\",INTRO!$E$37=\"Non-endemic\"),\"Not required\",IF(INTRO!$E$39=\"Non-endemic\",\"Treat with DEC\",COUNTRY_INFO!P63))","v":0},{"$f":"IF(INTRO!$E$39<>\"Non-endemic\",COUNTRY_INFO!Q63,\"Not required\")","v":0},{"$f":"IF(COUNTRY_INFO!H63=1, IF($E63=1,$D63, 0),0)","v":0},{"$f":"IF(INTRO!$E$39<>\"Endemic\",0, IF(AND(COUNTRY_INFO!$I63=1,$F63<>0),IF(COUNTRY_INFO!M63>=(COUNTRY_INFO!F63+COUNTRY_INFO!G63),COUNTRY_INFO!F63+COUNTRY_INFO!G63,COUNTRY_INFO!$M63), 0))","v":0},0,0,0,0,0,0,0,0,0]
[{"$f":"IF(INTRO!$E$39=\"Non-endemic\",\" \",IF(COUNTRY_INFO!A64=0,\" \",COUNTRY_INFO!A64))","v":"Uganda"},{"$f":"IF(INTRO!$E$39=\"Non-endemic\",\" \",IF(COUNTRY_INFO!B64=0,\" \",COUNTRY_INFO!B64))","v":"CENTRAL"},{"$f":"IF(INTRO!$E$39=\"Non-endemic\",\" \",IF(COUNTRY_INFO!C64=0,\" \",COUNTRY_INFO!C64))","v":"KIBOGA"},{"$f":"IF(INTRO!$E$39=\"Non-endemic\",0,IF(INTRO!$E$39=\"Endemic but PC is not required\",IF(COUNTRY_INFO!$H64=1,COUNTRY_INFO!F64+COUNTRY_INFO!G64,0),IF(COUNTRY_INFO!$H64=1,COUNTRY_INFO!F64+COUNTRY_INFO!G64,IF(COUNTRY_INFO!$I64=1,IF(COUNTRY_INFO!M64>=(COUNTRY_INFO!F64+COUNTRY_INFO!G64),COUNTRY_INFO!F64+COUNTRY_INFO!G64,COUNTRY_INFO!$M64),0))))","v":0},{"$f":"IF(AND(INTRO!$E$39=\"Non-endemic\",INTRO!$E$37=\"Non-endemic\"),\"Not required\",IF(INTRO!$E$39=\"Non-endemic\",\"Treat with DEC\",COUNTRY_INFO!P64))","v":0},{"$f":"IF(INTRO!$E$39<>\"Non-endemic\",COUNTRY_INFO!Q64,\"Not required\")","v":0},{"$f":"IF(COUNTRY_INFO!H64=1, IF($E64=1,$D64, 0),0)","v":0},{"$f":"IF(INTRO!$E$39<>\"Endemic\",0, IF(AND(COUNTRY_INFO!$I64=1,$F64<>0),IF(COUNTRY_INFO!M64>=(COUNTRY_INFO!F64+COUNTRY_INFO!G64),COUNTRY_INFO!F64+COUNTRY_INFO!G64,COUNTRY_INFO!$M64), 0))","v":0},0,0,0,0,0,0,0,0,0]
[{"$f":"IF(INTRO!$E$39=\"Non-endemic\",\" \",IF(COUNTRY_INFO!A65=0,\" \",COUNTRY_INFO!A65))","v":"Uganda"},{"$f":"IF(INTRO!$E$39=\"Non-endemic\",\" \",IF(COUNTRY_INFO!B65=0,\" \",COUNTRY_INFO!B65))","v":"EASTERN"},{"$f":"IF(INTRO!$E$39=\"Non-endemic\",\" \",IF(COUNTRY_INFO!C65=0,\" \",COUNTRY_INFO!C65))","v":"KIBUKU"},{"$f":"IF(INTRO!$E$39=\"Non-endemic\",0,IF(INTRO!$E$39=\"Endemic but PC is not required\",IF(COUNTRY_INFO!$H65=1,COUNTRY_INFO!F65+COUNTRY_INFO!G65,0),IF(COUNTRY_INFO!$H65=1,COUNTRY_INFO!F65+COUNTRY_INFO!G65,IF(COUNTRY_INFO!$I65=1,IF(COUNTRY_INFO!M65>=(COUNTRY_INFO!F65+COUNTRY_INFO!G65),COUNTRY_INFO!F65+COUNTRY_INFO!G65,COUNTRY_INFO!$M65),0))))","v":0},{"$f":"IF(AND(INTRO!$E$39=\"Non-endemic\",INTRO!$E$37=\"Non-endemic\"),\"Not required\",IF(INTRO!$E$39=\"Non-endemic\",\"Treat with DEC\",COUNTRY_INFO!P65))","v":0},{"$f":"IF(INTRO!$E$39<>\"Non-endemic\",COUNTRY_INFO!Q65,\"Not required\")","v":0},{"$f":"IF(COUNTRY_INFO!H65=1, IF($E65=1,$D65, 0),0)","v":0},{"$f":"IF(INTRO!$E$39<>\"Endemic\",0, IF(AND(COUNTRY_INFO!$I65=1,$F65<>0),IF(COUNTRY_INFO!M65>=(COUNTRY_INFO!F65+COUNTRY_INFO!G65),COUNTRY_INFO!F65+COUNTRY_INFO!G65,COUNTRY_INFO!$M65), 0))","v":0},0,0,0,0,0,0,0,0,0]
[{"$f":"IF(INTRO!$E$39=\"Non-endemic\",\" \",IF(COUNTRY_INFO!A66=0,\" \",COUNTRY_INFO!A66))","v":"Uganda"},{"$f":"IF(INTRO!$E$39=\"Non-endemic\",\" \",IF(COUNTRY_INFO!B66=0,\" \",COUNTRY_INFO!B66))","v":"WESTERN"},{"$f":"IF(INTRO!$E$39=\"Non-endemic\",\" \",IF(COUNTRY_INFO!C66=0,\" \",COUNTRY_INFO!C66))","v":"KIRUHURA"},{"$f":"IF(INTRO!$E$39=\"Non-endemic\",0,IF(INTRO!$E$39=\"Endemic but PC is not required\",IF(COUNTRY_INFO!$H66=1,COUNTRY_INFO!F66+COUNTRY_INFO!G66,0),IF(COUNTRY_INFO!$H66=1,COUNTRY_INFO!F66+COUNTRY_INFO!G66,IF(COUNTRY_INFO!$I66=1,IF(COUNTRY_INFO!M66>=(COUNTRY_INFO!F66+COUNTRY_INFO!G66),COUNTRY_INFO!F66+COUNTRY_INFO!G66,COUNTRY_INFO!$M66),0))))","v":0},{"$f":"IF(AND(INTRO!$E$39=\"Non-endemic\",INTRO!$E$37=\"Non-endemic\"),\"Not required\",IF(INTRO!$E$39=\"Non-endemic\",\"Treat with DEC\",COUNTRY_INFO!P66))","v":0},{"$f":"IF(INTRO!$E$39<>\"Non-endemic\",COUNTRY_INFO!Q66,\"Not required\")","v":0},{"$f":"IF(COUNTRY_INFO!H66=1, IF($E66=1,$D66, 0),0)","v":0},{"$f":"IF(INTRO!$E$39<>\"Endemic\",0, IF(AND(COUNTRY_INFO!$I66=1,$F66<>0),IF(COUNTRY_INFO!M66>=(COUNTRY_INFO!F66+COUNTRY_INFO!G66),COUNTRY_INFO!F66+COUNTRY_INFO!G66,COUNTRY_INFO!$M66), 0))","v":0},0,0,0,0,0,0,0,0,0]
[{"$f":"IF(INTRO!$E$39=\"Non-endemic\",\" \",IF(COUNTRY_INFO!A67=0,\" \",COUNTRY_INFO!A67))","v":"Uganda"},{"$f":"IF(INTRO!$E$39=\"Non-endemic\",\" \",IF(COUNTRY_INFO!B67=0,\" \",COUNTRY_INFO!B67))","v":"WESTERN"},{"$f":"IF(INTRO!$E$39=\"Non-endemic\",\" \",IF(COUNTRY_INFO!C67=0,\" \",COUNTRY_INFO!C67))","v":"KIRYANDONGO"},{"$f":"IF(INTRO!$E$39=\"Non-endemic\",0,IF(INTRO!$E$39=\"Endemic but PC is not required\",IF(COUNTRY_INFO!$H67=1,COUNTRY_INFO!F67+COUNTRY_INFO!G67,0),IF(COUNTRY_INFO!$H67=1,COUNTRY_INFO!F67+COUNTRY_INFO!G67,IF(COUNTRY_INFO!$I67=1,IF(COUNTRY_INFO!M67>=(COUNTRY_INFO!F67+COUNTRY_INFO!G67),COUNTRY_INFO!F67+COUNTRY_INFO!G67,COUNTRY_INFO!$M67),0))))","v":0},{"$f":"IF(AND(INTRO!$E$39=\"Non-endemic\",INTRO!$E$37=\"Non-endemic\"),\"Not required\",IF(INTRO!$E$39=\"Non-endemic\",\"Treat with DEC\",COUNTRY_INFO!P67))","v":0},{"$f":"IF(INTRO!$E$39<>\"Non-endemic\",COUNTRY_INFO!Q67,\"Not required\")","v":0},{"$f":"IF(COUNTRY_INFO!H67=1, IF($E67=1,$D67, 0),0)","v":0},{"$f":"IF(INTRO!$E$39<>\"Endemic\",0, IF(AND(COUNTRY_INFO!$I67=1,$F67<>0),IF(COUNTRY_INFO!M67>=(COUNTRY_INFO!F67+COUNTRY_INFO!G67),COUNTRY_INFO!F67+COUNTRY_INFO!G67,COUNTRY_INFO!$M67), 0))","v":0},0,0,0,0,0,0,0,0,0]
[{"$f":"IF(INTRO!$E$39=\"Non-endemic\",\" \",IF(COUNTRY_INFO!A68=0,\" \",COUNTRY_INFO!A68))","v":"Uganda"},{"$f":"IF(INTRO!$E$39=\"Non-endemic\",\" \",IF(COUNTRY_INFO!B68=0,\" \",COUNTRY_INFO!B68))","v":"WESTERN"},{"$f":"IF(INTRO!$E$39=\"Non-endemic\",\" \",IF(COUNTRY_INFO!C68=0,\" \",COUNTRY_INFO!C68))","v":"KISORO"},{"$f":"IF(INTRO!$E$39=\"Non-endemic\",0,IF(INTRO!$E$39=\"Endemic but PC is not required\",IF(COUNTRY_INFO!$H68=1,COUNTRY_INFO!F68+COUNTRY_INFO!G68,0),IF(COUNTRY_INFO!$H68=1,COUNTRY_INFO!F68+COUNTRY_INFO!G68,IF(COUNTRY_INFO!$I68=1,IF(COUNTRY_INFO!M68>=(COUNTRY_INFO!F68+COUNTRY_INFO!G68),COUNTRY_INFO!F68+COUNTRY_INFO!G68,COUNTRY_INFO!$M68),0))))","v":42255},{"$f":"IF(AND(INTRO!$E$39=\"Non-endemic\",INTRO!$E$37=\"Non-endemic\"),\"Not required\",IF(INTRO!$E$39=\"Non-endemic\",\"Treat with DEC\",COUNTRY_INFO!P68))","v":0},{"$f":"IF(INTRO!$E$39<>\"Non-endemic\",COUNTRY_INFO!Q68,\"Not required\")","v":2},{"$f":"IF(COUNTRY_INFO!H68=1, IF($E68=1,$D68, 0),0)","v":0},{"$f":"IF(INTRO!$E$39<>\"Endemic\",0, IF(AND(COUNTRY_INFO!$I68=1,$F68<>0),IF(COUNTRY_INFO!M68>=(COUNTRY_INFO!F68+COUNTRY_INFO!G68),COUNTRY_INFO!F68+COUNTRY_INFO!G68,COUNTRY_INFO!$M68), 0))","v":42255},34776,34776,0,194745.59999999998,0,194745.59999999998,0,194745.59999999998,390]
[{"$f":"IF(INTRO!$E$39=\"Non-endemic\",\" \",IF(COUNTRY_INFO!A69=0,\" \",COUNTRY_INFO!A69))","v":"Uganda"},{"$f":"IF(INTRO!$E$39=\"Non-endemic\",\" \",IF(COUNTRY_INFO!B69=0,\" \",COUNTRY_INFO!B69))","v":"NORTHERN"},{"$f":"IF(INTRO!$E$39=\"Non-endemic\",\" \",IF(COUNTRY_INFO!C69=0,\" \",COUNTRY_INFO!C69))","v":"KITGUM"},{"$f":"IF(INTRO!$E$39=\"Non-endemic\",0,IF(INTRO!$E$39=\"Endemic but PC is not required\",IF(COUNTRY_INFO!$H69=1,COUNTRY_INFO!F69+COUNTRY_INFO!G69,0),IF(COUNTRY_INFO!$H69=1,COUNTRY_INFO!F69+COUNTRY_INFO!G69,IF(COUNTRY_INFO!$I69=1,IF(COUNTRY_INFO!M69>=(COUNTRY_INFO!F69+COUNTRY_INFO!G69),COUNTRY_INFO!F69+COUNTRY_INFO!G69,COUNTRY_INFO!$M69),0))))","v":194963},{"$f":"IF(AND(INTRO!$E$39=\"Non-endemic\",INTRO!$E$37=\"Non-endemic\"),\"Not required\",IF(INTRO!$E$39=\"Non-endemic\",\"Treat with DEC\",COUNTRY_INFO!P69))","v":1},{"$f":"IF(INTRO!$E$39<>\"Non-endemic\",COUNTRY_INFO!Q69,\"Not required\")","v":2},{"$f":"IF(COUNTRY_INFO!H69=1, IF($E69=1,$D69, 0),0)","v":194963},{"$f":"IF(INTRO!$E$39<>\"Endemic\",0, IF(AND(COUNTRY_INFO!$I69=1,$F69<>0),IF(COUNTRY_INFO!M69>=(COUNTRY_INFO!F69+COUNTRY_INFO!G69),COUNTRY_INFO!F69+COUNTRY_INFO!G69,COUNTRY_INFO!$M69), 0))","v":110998},91351,91351,290113.59999999998,255782.8,255782.8,801679.2,0,801679.2,1604]
[{"$f":"IF(INTRO!$E$39=\"Non-endemic\",\" \",IF(COUNTRY_INFO!A70=0,\" \",COUNTRY_INFO!A70))","v":"Uganda"},{"$f":"IF(INTRO!$E$39=\"Non-endemic\",\" \",IF(COUNTRY_INFO!B70=0,\" \",COUNTRY_INFO!B70))","v":"NORTHERN"},{"$f":"IF(INTRO!$E$39=\"Non-endemic\",\" \",IF(COUNTRY_INFO!C70=0,\" \",COUNTRY_INFO!C70))","v":"KOBOKO"},{"$f":"IF(INTRO!$E$39=\"Non-endemic\",0,IF(INTRO!$E$39=\"Endemic but PC is not required\",IF(COUNTRY_INFO!$H70=1,COUNTRY_INFO!F70+COUNTRY_INFO!G70,0),IF(COUNTRY_INFO!$H70=1,COUNTRY_INFO!F70+COUNTRY_INFO!G70,IF(COUNTRY_INFO!$I70=1,IF(COUNTRY_INFO!M70>=(COUNTRY_INFO!F70+COUNTRY_INFO!G70),COUNTRY_INFO!F70+COUNTRY_INFO!G70,COUNTRY_INFO!$M70),0))))","v":0},{"$f":"IF(AND(INTRO!$E$39=\"Non-endemic\",INTRO!$E$37=\"Non-endemic\"),\"Not required\",IF(INTRO!$E$39=\"Non-endemic\",\"Treat with DEC\",COUNTRY_INFO!P70))","v":0},{"$f":"IF(INTRO!$E$39<>\"Non-endemic\",COUNTRY_INFO!Q70,\"Not required\")","v":0},{"$f":"IF(COUNTRY_INFO!H70=1, IF($E70=1,$D70, 0),0)","v":0},{"$f":"IF(INTRO!$E$39<>\"Endemic\",0, IF(AND(COUNTRY_INFO!$I70=1,$F70<>0),IF(COUNTRY_INFO!M70>=(COUNTRY_INFO!F70+COUNTRY_INFO!G70),COUNTRY_INFO!F70+COUNTRY_INFO!G70,COUNTRY_INFO!$M70), 0))","v":0},0,0,0,0,0,0,0,0,0]
[{"$f":"IF(INTRO!$E$39=\"Non-endemic\",\" \",IF(COUNTRY_INFO!A71=0,\" \",COUNTRY_INFO!A71))","v":"Uganda"},{"$f":"IF(INTRO!$E$39=\"Non-endemic\",\" \",IF(COUNTRY_INFO!B71=0,\" \",COUNTRY_INFO!B71))","v":"NORTHERN"},{"$f":"IF(INTRO!$E$39=\"Non-endemic\",\" \",IF(COUNTRY_INFO!C71=0,\" \",COUNTRY_INFO!C71))","v":"KOLE"},{"$f":"IF(INTRO!$E$39=\"Non-endemic\",0,IF(INTRO!$E$39=\"Endemic but PC is not required\",IF(COUNTRY_INFO!$H71=1,COUNTRY_INFO!F71+COUNTRY_INFO!G71,0),IF(COUNTRY_INFO!$H71=1,COUNTRY_INFO!F71+COUNTRY_INFO!G71,IF(COUNTRY_INFO!$I71=1,IF(COUNTRY_INFO!M71>=(COUNTRY_INFO!F71+COUNTRY_INFO!G71),COUNTRY_INFO!F71+COUNTRY_INFO!G71,COUNTRY_INFO!$M71),0))))","v":0},{"$f":"IF(AND(INTRO!$E$39=\"Non-endemic\",INTRO!$E$37=\"Non-endemic\"),\"Not required\",IF(INTRO!$E$39=\"Non-endemic\",\"Treat with DEC\",COUNTRY_INFO!P71))","v":0},{"$f":"IF(INTRO!$E$39<>\"Non-endemic\",COUNTRY_INFO!Q71,\"Not required\")","v":0},{"$f":"IF(COUNTRY_INFO!H71=1, IF($E71=1,$D71, 0),0)","v":0},{"$f":"IF(INTRO!$E$39<>\"Endemic\",0, IF(AND(COUNTRY_INFO!$I71=1,$F71<>0),IF(COUNTRY_INFO!M71>=(COUNTRY_INFO!F71+COUNTRY_INFO!G71),COUNTRY_INFO!F71+COUNTRY_INFO!G71,COUNTRY_INFO!$M71), 0))","v":0},0,0,0,0,0,0,0,0,0]
[{"$f":"IF(INTRO!$E$39=\"Non-endemic\",\" \",IF(COUNTRY_INFO!A72=0,\" \",COUNTRY_INFO!A72))","v":"Uganda"},{"$f":"IF(INTRO!$E$39=\"Non-endemic\",\" \",IF(COUNTRY_INFO!B72=0,\" \",COUNTRY_INFO!B72))","v":"NORTHERN"},{"$f":"IF(INTRO!$E$39=\"Non-endemic\",\" \",IF(COUNTRY_INFO!C72=0,\" \",COUNTRY_INFO!C72))","v":"KOTIDO"},{"$f":"IF(INTRO!$E$39=\"Non-endemic\",0,IF(INTRO!$E$39=\"Endemic but PC is not required\",IF(COUNTRY_INFO!$H72=1,COUNTRY_INFO!F72+COUNTRY_INFO!G72,0),IF(COUNTRY_INFO!$H72=1,COUNTRY_INFO!F72+COUNTRY_INFO!G72,IF(COUNTRY_INFO!$I72=1,IF(COUNTRY_INFO!M72>=(COUNTRY_INFO!F72+COUNTRY_INFO!G72),COUNTRY_INFO!F72+COUNTRY_INFO!G72,COUNTRY_INFO!$M72),0))))","v":0},{"$f":"IF(AND(INTRO!$E$39=\"Non-endemic\",INTRO!$E$37=\"Non-endemic\"),\"Not required\",IF(INTRO!$E$39=\"Non-endemic\",\"Treat with DEC\",COUNTRY_INFO!P72))","v":0},{"$f":"IF(INTRO!$E$39<>\"Non-endemic\",COUNTRY_INFO!Q72,\"Not required\")","v":0},{"$f":"IF(COUNTRY_INFO!H72=1, IF($E72=1,$D72, 0),0)","v":0},{"$f":"IF(INTRO!$E$39<>\"Endemic\",0, IF(AND(COUNTRY_INFO!$I72=1,$F72<>0),IF(COUNTRY_INFO!M72>=(COUNTRY_INFO!F72+COUNTRY_INFO!G72),COUNTRY_INFO!F72+COUNTRY_INFO!G72,COUNTRY_INFO!$M72), 0))","v":0},0,0,0,0,0,0,0,0,0]
[{"$f":"IF(INTRO!$E$39=\"Non-endemic\",\" \",IF(COUNTRY_INFO!A73=0,\" \",COUNTRY_INFO!A73))","v":"Uganda"},{"$f":"IF(INTRO!$E$39=\"Non-endemic\",\" \",IF(COUNTRY_INFO!B73=0,\" \",COUNTRY_INFO!B73))","v":"EASTERN"},{"$f":"IF(INTRO!$E$39=\"Non-endemic\",\" \",IF(COUNTRY_INFO!C73=0,\" \",COUNTRY_INFO!C73))","v":"KUMI"},{"$f":"IF(INTRO!$E$39=\"Non-endemic\",0,IF(INTRO!$E$39=\"Endemic but PC is not required\",IF(COUNTRY_INFO!$H73=1,COUNTRY_INFO!F73+COUNTRY_INFO!G73,0),IF(COUNTRY_INFO!$H73=1,COUNTRY_INFO!F73+COUNTRY_INFO!G73,IF(COUNTRY_INFO!$I73=1,IF(COUNTRY_INFO!M73>=(COUNTRY_INFO!F73+COUNTRY_INFO!G73),COUNTRY_INFO!F73+COUNTRY_INFO!G73,COUNTRY_INFO!$M73),0))))","v":0},{"$f":"IF(AND(INTRO!$E$39=\"Non-endemic\",INTRO!$E$37=\"Non-endemic\"),\"Not required\",IF(INTRO!$E$39=\"Non-endemic\",\"Treat with DEC\",COUNTRY_INFO!P73))","v":0},{"$f":"IF(INTRO!$E$39<>\"Non-endemic\",COUNTRY_INFO!Q73,\"Not required\")","v":0},{"$f":"IF(COUNTRY_INFO!H73=1, IF($E73=1,$D73, 0),0)","v":0},{"$f":"IF(INTRO!$E$39<>\"Endemic\",0, IF(AND(COUNTRY_INFO!$I73=1,$F73<>0),IF(COUNTRY_INFO!M73>=(COUNTRY_INFO!F73+COUNTRY_INFO!G73),COUNTRY_INFO!F73+COUNTRY_INFO!G73,COUNTRY_INFO!$M73), 0))","v":0},0,{"$f":"IF(I73=0,H73,IF(I73>H73,H73,I73))","v":0},{"$f":"IF(G73<J73,0,IF($E73=1, (G73-J73)*2.8, 0))","v":0},{"$f":"IF($E73<$F73, J73*(F73-E73)*2.8, 0)","v":0},{"$f":"IF(AND($E73=1, $F73<>0), J73*2.8, 0)","v":0},{"$f":"SUM(K73:M73)","v":0},0,{"$f":"IF($N73>$O73,$N73-$O73,0)","v":0},{"$f":"ROUNDUP($N73/500,0)","v":0}]
[{"$f":"IF(INTRO!$E$39=\"Non-endemic\",\" \",IF(COUNTRY_INFO!A74=0,\" \",COUNTRY_INFO!A74))","v":"Uganda"},{"$f":"IF(INTRO!$E$39=\"Non-endemic\",\" \",IF(COUNTRY_INFO!B74=0,\" \",COUNTRY_INFO!B74))","v":"EASTERN"},{"$f":"IF(INTRO!$E$39=\"Non-endemic\",\" \",IF(COUNTRY_INFO!C74=0,\" \",COUNTRY_INFO!C74))","v":"KWEEN"},{"$f":"IF(INTRO!$E$39=\"Non-endemic\",0,IF(INTRO!$E$39=\"Endemic but PC is not required\",IF(COUNTRY_INFO!$H74=1,COUNTRY_INFO!F74+COUNTRY_INFO!G74,0),IF(COUNTRY_INFO!$H74=1,COUNTRY_INFO!F74+COUNTRY_INFO!G74,IF(COUNTRY_INFO!$I74=1,IF(COUNTRY_INFO!M74>=(COUNTRY_INFO!F74+COUNTRY_INFO!G74),COUNTRY_INFO!F74+COUNTRY_INFO!G74,COUNTRY_INFO!$M74),0))))","v":0},{"$f":"IF(AND(INTRO!$E$39=\"Non-endemic\",INTRO!$E$37=\"Non-endemic\"),\"Not required\",IF(INTRO!$E$39=\"Non-endemic\",\"Treat with DEC\",COUNTRY_INFO!P74))","v":0},{"$f":"IF(INTRO!$E$39<>\"Non-endemic\",COUNTRY_INFO!Q74,\"Not required\")","v":0},{"$f":"IF(COUNTRY_INFO!H74=1, IF($E74=1,$D74, 0),0)","v":0},{"$f":"IF(INTRO!$E$39<>\"Endemic\",0, IF(AND(COUNTRY_INFO!$I74=1,$F74<>0),IF(COUNTRY_INFO!M74>=(COUNTRY_INFO!F74+COUNTRY_INFO!G74),COUNTRY_INFO!F74+COUNTRY_INFO!G74,COUNTRY_INFO!$M74), 0))","v":0},0,0,0,0,0,0,0,0,0]
[{"$f":"IF(INTRO!$E$39=\"Non-endemic\",\" \",IF(COUNTRY_INFO!A75=0,\" \",COUNTRY_INFO!A75))","v":"Uganda"},{"$f":"IF(INTRO!$E$39=\"Non-endemic\",\" \",IF(COUNTRY_INFO!B75=0,\" \",COUNTRY_INFO!B75))","v":"CENTRAL"},{"$f":"IF(INTRO!$E$39=\"Non-endemic\",\" \",IF(COUNTRY_INFO!C75=0,\" \",COUNTRY_INFO!C75))","v":"KYANKWANZI"},{"$f":"IF(INTRO!$E$39=\"Non-endemic\",0,IF(INTRO!$E$39=\"Endemic but PC is not required\",IF(COUNTRY_INFO!$H75=1,COUNTRY_INFO!F75+COUNTRY_INFO!G75,0),IF(COUNTRY_INFO!$H75=1,COUNTRY_INFO!F75+COUNTRY_INFO!G75,IF(COUNTRY_INFO!$I75=1,IF(COUNTRY_INFO!M75>=(COUNTRY_INFO!F75+COUNTRY_INFO!G75),COUNTRY_INFO!F75+COUNTRY_INFO!G75,COUNTRY_INFO!$M75),0))))","v":0},{"$f":"IF(AND(INTRO!$E$39=\"Non-endemic\",INTRO!$E$37=\"Non-endemic\"),\"Not required\",IF(INTRO!$E$39=\"Non-endemic\",\"Treat with DEC\",COUNTRY_INFO!P75))","v":0},{"$f":"IF(INTRO!$E$39<>\"Non-endemic\",COUNTRY_INFO!Q75,\"Not required\")","v":0},{"$f":"IF(COUNTRY_INFO!H75=1, IF($E75=1,$D75, 0),0)","v":0},{"$f":"IF(INTRO!$E$39<>\"Endemic\",0, IF(AND(COUNTRY_INFO!$I75=1,$F75<>0),IF(COUNTRY_INFO!M75>=(COUNTRY_INFO!F75+COUNTRY_INFO!G75),COUNTRY_INFO!F75+COUNTRY_INFO!G75,COUNTRY_INFO!$M75), 0))","v":0},0,0,0,0,0,0,0,0,0]
[{"$f":"IF(INTRO!$E$39=\"Non-endemic\",\" \",IF(COUNTRY_INFO!A76=0,\" \",COUNTRY_INFO!A76))","v":"Uganda"},{"$f":"IF(INTRO!$E$39=\"Non-endemic\",\" \",IF(COUNTRY_INFO!B76=0,\" \",COUNTRY_INFO!B76))","v":"WESTERN"},{"$f":"IF(INTRO!$E$39=\"Non-endemic\",\" \",IF(COUNTRY_INFO!C76=0,\" \",COUNTRY_INFO!C76))","v":"KYEGEGWA"},{"$f":"IF(INTRO!$E$39=\"Non-endemic\",0,IF(INTRO!$E$39=\"Endemic but PC is not required\",IF(COUNTRY_INFO!$H76=1,COUNTRY_INFO!F76+COUNTRY_INFO!G76,0),IF(COUNTRY_INFO!$H76=1,COUNTRY_INFO!F76+COUNTRY_INFO!G76,IF(COUNTRY_INFO!$I76=1,IF(COUNTRY_INFO!M76>=(COUNTRY_INFO!F76+COUNTRY_INFO!G76),COUNTRY_INFO!F76+COUNTRY_INFO!G76,COUNTRY_INFO!$M76),0))))","v":0},{"$f":"IF(AND(INTRO!$E$39=\"Non-endemic\",INTRO!$E$37=\"Non-endemic\"),\"Not required\",IF(INTRO!$E$39=\"Non-endemic\",\"Treat with DEC\",COUNTRY_INFO!P76))","v":0},{"$f":"IF(INTRO!$E$39<>\"Non-endemic\",COUNTRY_INFO!Q76,\"Not required\")","v":0},{"$f":"IF(COUNTRY_INFO!H76=1, IF($E76=1,$D76, 0),0)","v":0},{"$f":"IF(INTRO!$E$39<>\"Endemic\",0, IF(AND(COUNTRY_INFO!$I76=1,$F76<>0),IF(COUNTRY_INFO!M76>=(COUNTRY_INFO!F76+COUNTRY_INFO!G76),COUNTRY_INFO!F76+COUNTRY_INFO!G76,COUNTRY_INFO!$M76), 0))","v":0},0,0,0,0,0,0,0,0,0]
[{"$f":"IF(INTRO!$E$39=\"Non-endemic\",\" \",IF(COUNTRY_INFO!A77=0,\" \",COUNTRY_INFO!A77))","v":"Uganda"},{"$f":"IF(INTRO!$E$39=\"Non-endemic\",\" \",IF(COUNTRY_INFO!B77=0,\" \",COUNTRY_INFO!B77))","v":"WESTERN"},{"$f":"IF(INTRO!$E$39=\"Non-endemic\",\" \",IF(COUNTRY_INFO!C77=0,\" \",COUNTRY_INFO!C77))","v":"KYENJOJO"},{"$f":"IF(INTRO!$E$39=\"Non-endemic\",0,IF(INTRO!$E$39=\"Endemic but PC is not required\",IF(COUNTRY_INFO!$H77=1,COUNTRY_INFO!F77+COUNTRY_INFO!G77,0),IF(COUNTRY_INFO!$H77=1,COUNTRY_INFO!F77+COUNTRY_INFO!G77,IF(COUNTRY_INFO!$I77=1,IF(COUNTRY_INFO!M77>=(COUNTRY_INFO!F77+COUNTRY_INFO!G77),COUNTRY_INFO!F77+COUNTRY_INFO!G77,COUNTRY_INFO!$M77),0))))","v":0},{"$f":"IF(AND(INTRO!$E$39=\"Non-endemic\",INTRO!$E$37=\"Non-endemic\"),\"Not required\",IF(INTRO!$E$39=\"Non-endemic\",\"Treat with DEC\",COUNTRY_INFO!P77))","v":0},{"$f":"IF(INTRO!$E$39<>\"Non-endemic\",COUNTRY_INFO!Q77,\"Not required\")","v":0},{"$f":"IF(COUNTRY_INFO!H77=1, IF($E77=1,$D77, 0),0)","v":0},{"$f":"IF(INTRO!$E$39<>\"Endemic\",0, IF(AND(COUNTRY_INFO!$I77=1,$F77<>0),IF(COUNTRY_INFO!M77>=(COUNTRY_INFO!F77+COUNTRY_INFO!G77),COUNTRY_INFO!F77+COUNTRY_INFO!G77,COUNTRY_INFO!$M77), 0))","v":0},0,0,0,0,0,0,0,0,0]
[{"$f":"IF(INTRO!$E$39=\"Non-endemic\",\" \",IF(COUNTRY_INFO!A78=0,\" \",COUNTRY_INFO!A78))","v":"Uganda"},{"$f":"IF(INTRO!$E$39=\"Non-endemic\",\" \",IF(COUNTRY_INFO!B78=0,\" \",COUNTRY_INFO!B78))","v":"Central"},{"$f":"IF(INTRO!$E$39=\"Non-endemic\",\" \",IF(COUNTRY_INFO!C78=0,\" \",COUNTRY_INFO!C78))","v":"KYOTERA"},{"$f":"IF(INTRO!$E$39=\"Non-endemic\",0,IF(INTRO!$E$39=\"Endemic but PC is not required\",IF(COUNTRY_INFO!$H78=1,COUNTRY_INFO!F78+COUNTRY_INFO!G78,0),IF(COUNTRY_INFO!$H78=1,COUNTRY_INFO!F78+COUNTRY_INFO!G78,IF(COUNTRY_INFO!$I78=1,IF(COUNTRY_INFO!M78>=(COUNTRY_INFO!F78+COUNTRY_INFO!G78),COUNTRY_INFO!F78+COUNTRY_INFO!G78,COUNTRY_INFO!$M78),0))))","v":0},{"$f":"IF(AND(INTRO!$E$39=\"Non-endemic\",INTRO!$E$37=\"Non-endemic\"),\"Not required\",IF(INTRO!$E$39=\"Non-endemic\",\"Treat with DEC\",COUNTRY_INFO!P78))","v":0},{"$f":"IF(INTRO!$E$39<>\"Non-endemic\",COUNTRY_INFO!Q78,\"Not required\")","v":0},{"$f":"IF(COUNTRY_INFO!H78=1, IF($E78=1,$D78, 0),0)","v":0},{"$f":"IF(INTRO!$E$39<>\"Endemic\",0, IF(AND(COUNTRY_INFO!$I78=1,$F78<>0),IF(COUNTRY_INFO!M78>=(COUNTRY_INFO!F78+COUNTRY_INFO!G78),COUNTRY_INFO!F78+COUNTRY_INFO!G78,COUNTRY_INFO!$M78), 0))","v":0},0,0,0,0,0,0,0,0,0]
[{"$f":"IF(INTRO!$E$39=\"Non-endemic\",\" \",IF(COUNTRY_INFO!A79=0,\" \",COUNTRY_INFO!A79))","v":"Uganda"},{"$f":"IF(INTRO!$E$39=\"Non-endemic\",\" \",IF(COUNTRY_INFO!B79=0,\" \",COUNTRY_INFO!B79))","v":"NORTHERN"},{"$f":"IF(INTRO!$E$39=\"Non-endemic\",\" \",IF(COUNTRY_INFO!C79=0,\" \",COUNTRY_INFO!C79))","v":"LAMWO"},{"$f":"IF(INTRO!$E$39=\"Non-endemic\",0,IF(INTRO!$E$39=\"Endemic but PC is not required\",IF(COUNTRY_INFO!$H79=1,COUNTRY_INFO!F79+COUNTRY_INFO!G79,0),IF(COUNTRY_INFO!$H79=1,COUNTRY_INFO!F79+COUNTRY_INFO!G79,IF(COUNTRY_INFO!$I79=1,IF(COUNTRY_INFO!M79>=(COUNTRY_INFO!F79+COUNTRY_INFO!G79),COUNTRY_INFO!F79+COUNTRY_INFO!G79,COUNTRY_INFO!$M79),0))))","v":129697},{"$f":"IF(AND(INTRO!$E$39=\"Non-endemic\",INTRO!$E$37=\"Non-endemic\"),\"Not required\",IF(INTRO!$E$39=\"Non-endemic\",\"Treat with DEC\",COUNTRY_INFO!P79))","v":1},{"$f":"IF(INTRO!$E$39<>\"Non-endemic\",COUNTRY_INFO!Q79,\"Not required\")","v":2},{"$f":"IF(COUNTRY_INFO!H79=1, IF($E79=1,$D79, 0),0)","v":129697},{"$f":"IF(INTRO!$E$39<>\"Endemic\",0, IF(AND(COUNTRY_INFO!$I79=1,$F79<>0),IF(COUNTRY_INFO!M79>=(COUNTRY_INFO!F79+COUNTRY_INFO!G79),COUNTRY_INFO!F79+COUNTRY_INFO!G79,COUNTRY_INFO!$M79), 0))","v":129697},129697,129697,0,363151.6,363151.6,726303.2,0,726303.2,1453]
[{"$f":"IF(INTRO!$E$39=\"Non-endemic\",\" \",IF(COUNTRY_INFO!A80=0,\" \",COUNTRY_INFO!A80))","v":"Uganda"},{"$f":"IF(INTRO!$E$39=\"Non-endemic\",\" \",IF(COUNTRY_INFO!B80=0,\" \",COUNTRY_INFO!B80))","v":"NORTHERN"},{"$f":"IF(INTRO!$E$39=\"Non-endemic\",\" \",IF(COUNTRY_INFO!C80=0,\" \",COUNTRY_INFO!C80))","v":"LIRA"},{"$f":"IF(INTRO!$E$39=\"Non-endemic\",0,IF(INTRO!$E$39=\"Endemic but PC is not required\",IF(COUNTRY_INFO!$H80=1,COUNTRY_INFO!F80+COUNTRY_INFO!G80,0),IF(COUNTRY_INFO!$H80=1,COUNTRY_INFO!F80+COUNTRY_INFO!G80,IF(COUNTRY_INFO!$I80=1,IF(COUNTRY_INFO!M80>=(COUNTRY_INFO!F80+COUNTRY_INFO!G80),COUNTRY_INFO!F80+COUNTRY_INFO!G80,COUNTRY_INFO!$M80),0))))","v":75303},{"$f":"IF(AND(INTRO!$E$39=\"Non-endemic\",INTRO!$E$37=\"Non-endemic\"),\"Not required\",IF(INTRO!$E$39=\"Non-endemic\",\"Treat with DEC\",COUNTRY_INFO!P80))","v":0},{"$f":"IF(INTRO!$E$39<>\"Non-endemic\",COUNTRY_INFO!Q80,\"Not required\")","v":2},{"$f":"IF(COUNTRY_INFO!H80=1, IF($E80=1,$D80, 0),0)","v":0},{"$f":"IF(INTRO!$E$39<>\"Endemic\",0, IF(AND(COUNTRY_INFO!$I80=1,$F80<>0),IF(COUNTRY_INFO!M80>=(COUNTRY_INFO!F80+COUNTRY_INFO!G80),COUNTRY_INFO!F80+COUNTRY_INFO!G80,COUNTRY_INFO!$M80), 0))","v":75303},61974,61974,0,347054.39999999997,0,347054.39999999997,0,347054.39999999997,695]
[{"$f":"IF(INTRO!$E$39=\"Non-endemic\",\" \",IF(COUNTRY_INFO!A81=0,\" \",COUNTRY_INFO!A81))","v":"Uganda"},{"$f":"IF(INTRO!$E$39=\"Non-endemic\",\" \",IF(COUNTRY_INFO!B81=0,\" \",COUNTRY_INFO!B81))","v":"EASTERN"},{"$f":"IF(INTRO!$E$39=\"Non-endemic\",\" \",IF(COUNTRY_INFO!C81=0,\" \",COUNTRY_INFO!C81))","v":"LUUKA"},{"$f":"IF(INTRO!$E$39=\"Non-endemic\",0,IF(INTRO!$E$39=\"Endemic but PC is not required\",IF(COUNTRY_INFO!$H81=1,COUNTRY_INFO!F81+COUNTRY_INFO!G81,0),IF(COUNTRY_INFO!$H81=1,COUNTRY_INFO!F81+COUNTRY_INFO!G81,IF(COUNTRY_INFO!$I81=1,IF(COUNTRY_INFO!M81>=(COUNTRY_INFO!F81+COUNTRY_INFO!G81),COUNTRY_INFO!F81+COUNTRY_INFO!G81,COUNTRY_INFO!$M81),0))))","v":0},{"$f":"IF(AND(INTRO!$E$39=\"Non-endemic\",INTRO!$E$37=\"Non-endemic\"),\"Not required\",IF(INTRO!$E$39=\"Non-endemic\",\"Treat with DEC\",COUNTRY_INFO!P81))","v":0},{"$f":"IF(INTRO!$E$39<>\"Non-endemic\",COUNTRY_INFO!Q81,\"Not required\")","v":0},{"$f":"IF(COUNTRY_INFO!H81=1, IF($E81=1,$D81, 0),0)","v":0},{"$f":"IF(INTRO!$E$39<>\"Endemic\",0, IF(AND(COUNTRY_INFO!$I81=1,$F81<>0),IF(COUNTRY_INFO!M81>=(COUNTRY_INFO!F81+COUNTRY_INFO!G81),COUNTRY_INFO!F81+COUNTRY_INFO!G81,COUNTRY_INFO!$M81), 0))","v":0},0,0,0,0,0,0,0,0,0]
[{"$f":"IF(INTRO!$E$39=\"Non-endemic\",\" \",IF(COUNTRY_INFO!A82=0,\" \",COUNTRY_INFO!A82))","v":"Uganda"},{"$f":"IF(INTRO!$E$39=\"Non-endemic\",\" \",IF(COUNTRY_INFO!B82=0,\" \",COUNTRY_INFO!B82))","v":"CENTRAL"},{"$f":"IF(INTRO!$E$39=\"Non-endemic\",\" \",IF(COUNTRY_INFO!C82=0,\" \",COUNTRY_INFO!C82))","v":"LUWERO"},{"$f":"IF(INTRO!$E$39=\"Non-endemic\",0,IF(INTRO!$E$39=\"Endemic but PC is not required\",IF(COUNTRY_INFO!$H82=1,COUNTRY_INFO!F82+COUNTRY_INFO!G82,0),IF(COUNTRY_INFO!$H82=1,COUNTRY_INFO!F82+COUNTRY_INFO!G82,IF(COUNTRY_INFO!$I82=1,IF(COUNTRY_INFO!M82>=(COUNTRY_INFO!F82+COUNTRY_INFO!G82),COUNTRY_INFO!F82+COUNTRY_INFO!G82,COUNTRY_INFO!$M82),0))))","v":0},{"$f":"IF(AND(INTRO!$E$39=\"Non-endemic\",INTRO!$E$37=\"Non-endemic\"),\"Not required\",IF(INTRO!$E$39=\"Non-endemic\",\"Treat with DEC\",COUNTRY_INFO!P82))","v":0},{"$f":"IF(INTRO!$E$39<>\"Non-endemic\",COUNTRY_INFO!Q82,\"Not required\")","v":0},{"$f":"IF(COUNTRY_INFO!H82=1, IF($E82=1,$D82, 0),0)","v":0},{"$f":"IF(INTRO!$E$39<>\"Endemic\",0, IF(AND(COUNTRY_INFO!$I82=1,$F82<>0),IF(COUNTRY_INFO!M82>=(COUNTRY_INFO!F82+COUNTRY_INFO!G82),COUNTRY_INFO!F82+COUNTRY_INFO!G82,COUNTRY_INFO!$M82), 0))","v":0},0,0,0,0,0,0,0,0,0]
[{"$f":"IF(INTRO!$E$39=\"Non-endemic\",\" \",IF(COUNTRY_INFO!A83=0,\" \",COUNTRY_INFO!A83))","v":"Uganda"},{"$f":"IF(INTRO!$E$39=\"Non-endemic\",\" \",IF(COUNTRY_INFO!B83=0,\" \",COUNTRY_INFO!B83))","v":"CENTRAL"},{"$f":"IF(INTRO!$E$39=\"Non-endemic\",\" \",IF(COUNTRY_INFO!C83=0,\" \",COUNTRY_INFO!C83))","v":"LWENGO"},{"$f":"IF(INTRO!$E$39=\"Non-endemic\",0,IF(INTRO!$E$39=\"Endemic but PC is not required\",IF(COUNTRY_INFO!$H83=1,COUNTRY_INFO!F83+COUNTRY_INFO!G83,0),IF(COUNTRY_INFO!$H83=1,COUNTRY_INFO!F83+COUNTRY_INFO!G83,IF(COUNTRY_INFO!$I83=1,IF(COUNTRY_INFO!M83>=(COUNTRY_INFO!F83+COUNTRY_INFO!G83),COUNTRY_INFO!F83+COUNTRY_INFO!G83,COUNTRY_INFO!$M83),0))))","v":0},{"$f":"IF(AND(INTRO!$E$39=\"Non-endemic\",INTRO!$E$37=\"Non-endemic\"),\"Not required\",IF(INTRO!$E$39=\"Non-endemic\",\"Treat with DEC\",COUNTRY_INFO!P83))","v":0},{"$f":"IF(INTRO!$E$39<>\"Non-endemic\",COUNTRY_INFO!Q83,\"Not required\")","v":0},{"$f":"IF(COUNTRY_INFO!H83=1, IF($E83=1,$D83, 0),0)","v":0},{"$f":"IF(INTRO!$E$39<>\"Endemic\",0, IF(AND(COUNTRY_INFO!$I83=1,$F83<>0),IF(COUNTRY_INFO!M83>=(COUNTRY_INFO!F83+COUNTRY_INFO!G83),COUNTRY_INFO!F83+COUNTRY_INFO!G83,COUNTRY_INFO!$M83), 0))","v":0},0,0,0,0,0,0,0,0,0]
[{"$f":"IF(INTRO!$E$39=\"Non-endemic\",\" \",IF(COUNTRY_INFO!A84=0,\" \",COUNTRY_INFO!A84))","v":"Uganda"},{"$f":"IF(INTRO!$E$39=\"Non-endemic\",\" \",IF(COUNTRY_INFO!B84=0,\" \",COUNTRY_INFO!B84))","v":"CENTRAL"},{"$f":"IF(INTRO!$E$39=\"Non-endemic\",\" \",IF(COUNTRY_INFO!C84=0,\" \",COUNTRY_INFO!C84))","v":"LYANTONDE"},{"$f":"IF(INTRO!$E$39=\"Non-endemic\",0,IF(INTRO!$E$39=\"Endemic but PC is not required\",IF(COUNTRY_INFO!$H84=1,COUNTRY_INFO!F84+COUNTRY_INFO!G84,0),IF(COUNTRY_INFO!$H84=1,COUNTRY_INFO!F84+COUNTRY_INFO!G84,IF(COUNTRY_INFO!$I84=1,IF(COUNTRY_INFO!M84>=(COUNTRY_INFO!F84+COUNTRY_INFO!G84),COUNTRY_INFO!F84+COUNTRY_INFO!G84,COUNTRY_INFO!$M84),0))))","v":0},{"$f":"IF(AND(INTRO!$E$39=\"Non-endemic\",INTRO!$E$37=\"Non-endemic\"),\"Not required\",IF(INTRO!$E$39=\"Non-endemic\",\"Treat with DEC\",COUNTRY_INFO!P84))","v":0},{"$f":"IF(INTRO!$E$39<>\"Non-endemic\",COUNTRY_INFO!Q84,\"Not required\")","v":0},{"$f":"IF(COUNTRY_INFO!H84=1, IF($E84=1,$D84, 0),0)","v":0},{"$f":"IF(INTRO!$E$39<>\"Endemic\",0, IF(AND(COUNTRY_INFO!$I84=1,$F84<>0),IF(COUNTRY_INFO!M84>=(COUNTRY_INFO!F84+COUNTRY_INFO!G84),COUNTRY_INFO!F84+COUNTRY_INFO!G84,COUNTRY_INFO!$M84), 0))","v":0},0,0,0,0,0,0,0,0,0]
[{"$f":"IF(INTRO!$E$39=\"Non-endemic\",\" \",IF(COUNTRY_INFO!A85=0,\" \",COUNTRY_INFO!A85))","v":"Uganda"},{"$f":"IF(INTRO!$E$39=\"Non-endemic\",\" \",IF(COUNTRY_INFO!B85=0,\" \",COUNTRY_INFO!B85))","v":"EASTERN"},{"$f":"IF(INTRO!$E$39=\"Non-endemic\",\" \",IF(COUNTRY_INFO!C85=0,\" \",COUNTRY_INFO!C85))","v":"MANAFWA"},{"$f":"IF(INTRO!$E$39=\"Non-endemic\",0,IF(INTRO!$E$39=\"Endemic but PC is not required\",IF(COUNTRY_INFO!$H85=1,COUNTRY_INFO!F85+COUNTRY_INFO!G85,0),IF(COUNTRY_INFO!$H85=1,COUNTRY_INFO!F85+COUNTRY_INFO!G85,IF(COUNTRY_INFO!$I85=1,IF(COUNTRY_INFO!M85>=(COUNTRY_INFO!F85+COUNTRY_INFO!G85),COUNTRY_INFO!F85+COUNTRY_INFO!G85,COUNTRY_INFO!$M85),0))))","v":0},{"$f":"IF(AND(INTRO!$E$39=\"Non-endemic\",INTRO!$E$37=\"Non-endemic\"),\"Not required\",IF(INTRO!$E$39=\"Non-endemic\",\"Treat with DEC\",COUNTRY_INFO!P85))","v":0},{"$f":"IF(INTRO!$E$39<>\"Non-endemic\",COUNTRY_INFO!Q85,\"Not required\")","v":0},{"$f":"IF(COUNTRY_INFO!H85=1, IF($E85=1,$D85, 0),0)","v":0},{"$f":"IF(INTRO!$E$39<>\"Endemic\",0, IF(AND(COUNTRY_INFO!$I85=1,$F85<>0),IF(COUNTRY_INFO!M85>=(COUNTRY_INFO!F85+COUNTRY_INFO!G85),COUNTRY_INFO!F85+COUNTRY_INFO!G85,COUNTRY_INFO!$M85), 0))","v":0},0,0,0,0,0,0,0,0,0]
[{"$f":"IF(INTRO!$E$39=\"Non-endemic\",\" \",IF(COUNTRY_INFO!A86=0,\" \",COUNTRY_INFO!A86))","v":"Uganda"},{"$f":"IF(INTRO!$E$39=\"Non-endemic\",\" \",IF(COUNTRY_INFO!B86=0,\" \",COUNTRY_INFO!B86))","v":"NORTHERN"},{"$f":"IF(INTRO!$E$39=\"Non-endemic\",\" \",IF(COUNTRY_INFO!C86=0,\" \",COUNTRY_INFO!C86))","v":"MARACHA"},{"$f":"IF(INTRO!$E$39=\"Non-endemic\",0,IF(INTRO!$E$39=\"Endemic but PC is not required\",IF(COUNTRY_INFO!$H86=1,COUNTRY_INFO!F86+COUNTRY_INFO!G86,0),IF(COUNTRY_INFO!$H86=1,COUNTRY_INFO!F86+COUNTRY_INFO!G86,IF(COUNTRY_INFO!$I86=1,IF(COUNTRY_INFO!M86>=(COUNTRY_INFO!F86+COUNTRY_INFO!G86),COUNTRY_INFO!F86+COUNTRY_INFO!G86,COUNTRY_INFO!$M86),0))))","v":177846},{"$f":"IF(AND(INTRO!$E$39=\"Non-endemic\",INTRO!$E$37=\"Non-endemic\"),\"Not required\",IF(INTRO!$E$39=\"Non-endemic\",\"Treat with DEC\",COUNTRY_INFO!P86))","v":1},{"$f":"IF(INTRO!$E$39<>\"Non-endemic\",COUNTRY_INFO!Q86,\"Not required\")","v":0},{"$f":"IF(COUNTRY_INFO!H86=1, IF($E86=1,$D86, 0),0)","v":177846},{"$f":"IF(INTRO!$E$39<>\"Endemic\",0, IF(AND(COUNTRY_INFO!$I86=1,$F86<>0),IF(COUNTRY_INFO!M86>=(COUNTRY_INFO!F86+COUNTRY_INFO!G86),COUNTRY_INFO!F86+COUNTRY_INFO!G86,COUNTRY_INFO!$M86), 0))","v":0},0,0,497968.8,0,0,497968.8,0,497968.8,996]
[{"$f":"IF(INTRO!$E$39=\"Non-endemic\",\" \",IF(COUNTRY_INFO!A87=0,\" \",COUNTRY_INFO!A87))","v":"Uganda"},{"$f":"IF(INTRO!$E$39=\"Non-endemic\",\" \",IF(COUNTRY_INFO!B87=0,\" \",COUNTRY_INFO!B87))","v":"CENTRAL"},{"$f":"IF(INTRO!$E$39=\"Non-endemic\",\" \",IF(COUNTRY_INFO!C87=0,\" \",COUNTRY_INFO!C87))","v":"MASAKA"},{"$f":"IF(INTRO!$E$39=\"Non-endemic\",0,IF(INTRO!$E$39=\"Endemic but PC is not required\",IF(COUNTRY_INFO!$H87=1,COUNTRY_INFO!F87+COUNTRY_INFO!G87,0),IF(COUNTRY_INFO!$H87=1,COUNTRY_INFO!F87+COUNTRY_INFO!G87,IF(COUNTRY_INFO!$I87=1,IF(COUNTRY_INFO!M87>=(COUNTRY_INFO!F87+COUNTRY_INFO!G87),COUNTRY_INFO!F87+COUNTRY_INFO!G87,COUNTRY_INFO!$M87),0))))","v":0},{"$f":"IF(AND(INTRO!$E$39=\"Non-endemic\",INTRO!$E$37=\"Non-endemic\"),\"Not required\",IF(INTRO!$E$39=\"Non-endemic\",\"Treat with DEC\",COUNTRY_INFO!P87))","v":0},{"$f":"IF(INTRO!$E$39<>\"Non-endemic\",COUNTRY_INFO!Q87,\"Not required\")","v":0},{"$f":"IF(COUNTRY_INFO!H87=1, IF($E87=1,$D87, 0),0)","v":0},{"$f":"IF(INTRO!$E$39<>\"Endemic\",0, IF(AND(COUNTRY_INFO!$I87=1,$F87<>0),IF(COUNTRY_INFO!M87>=(COUNTRY_INFO!F87+COUNTRY_INFO!G87),COUNTRY_INFO!F87+COUNTRY_INFO!G87,COUNTRY_INFO!$M87), 0))","v":0},0,0,0,0,0,0,0,0,0]
[{"$f":"IF(INTRO!$E$39=\"Non-endemic\",\" \",IF(COUNTRY_INFO!A88=0,\" \",COUNTRY_INFO!A88))","v":"Uganda"},{"$f":"IF(INTRO!$E$39=\"Non-endemic\",\" \",IF(COUNTRY_INFO!B88=0,\" \",COUNTRY_INFO!B88))","v":"WESTERN"},{"$f":"IF(INTRO!$E$39=\"Non-endemic\",\" \",IF(COUNTRY_INFO!C88=0,\" \",COUNTRY_INFO!C88))","v":"MASINDI"},{"$f":"IF(INTRO!$E$39=\"Non-endemic\",0,IF(INTRO!$E$39=\"Endemic but PC is not required\",IF(COUNTRY_INFO!$H88=1,COUNTRY_INFO!F88+COUNTRY_INFO!G88,0),IF(COUNTRY_INFO!$H88=1,COUNTRY_INFO!F88+COUNTRY_INFO!G88,IF(COUNTRY_INFO!$I88=1,IF(COUNTRY_INFO!M88>=(COUNTRY_INFO!F88+COUNTRY_INFO!G88),COUNTRY_INFO!F88+COUNTRY_INFO!G88,COUNTRY_INFO!$M88),0))))","v":55621},{"$f":"IF(AND(INTRO!$E$39=\"Non-endemic\",INTRO!$E$37=\"Non-endemic\"),\"Not required\",IF(INTRO!$E$39=\"Non-endemic\",\"Treat with DEC\",COUNTRY_INFO!P88))","v":0},{"$f":"IF(INTRO!$E$39<>\"Non-endemic\",COUNTRY_INFO!Q88,\"Not required\")","v":2},{"$f":"IF(COUNTRY_INFO!H88=1, IF($E88=1,$D88, 0),0)","v":0},{"$f":"IF(INTRO!$E$39<>\"Endemic\",0, IF(AND(COUNTRY_INFO!$I88=1,$F88<>0),IF(COUNTRY_INFO!M88>=(COUNTRY_INFO!F88+COUNTRY_INFO!G88),COUNTRY_INFO!F88+COUNTRY_INFO!G88,COUNTRY_INFO!$M88), 0))","v":55621},45776,45776,0,256345.59999999998,0,256345.59999999998,0,256345.59999999998,513]
[{"$f":"IF(INTRO!$E$39=\"Non-endemic\",\" \",IF(COUNTRY_INFO!A89=0,\" \",COUNTRY_INFO!A89))","v":"Uganda"},{"$f":"IF(INTRO!$E$39=\"Non-endemic\",\" \",IF(COUNTRY_INFO!B89=0,\" \",COUNTRY_INFO!B89))","v":"EASTERN"},{"$f":"IF(INTRO!$E$39=\"Non-endemic\",\" \",IF(COUNTRY_INFO!C89=0,\" \",COUNTRY_INFO!C89))","v":"MAYUGE"},{"$f":"IF(INTRO!$E$39=\"Non-endemic\",0,IF(INTRO!$E$39=\"Endemic but PC is not required\",IF(COUNTRY_INFO!$H89=1,COUNTRY_INFO!F89+COUNTRY_INFO!G89,0),IF(COUNTRY_INFO!$H89=1,COUNTRY_INFO!F89+COUNTRY_INFO!G89,IF(COUNTRY_INFO!$I89=1,IF(COUNTRY_INFO!M89>=(COUNTRY_INFO!F89+COUNTRY_INFO!G89),COUNTRY_INFO!F89+COUNTRY_INFO!G89,COUNTRY_INFO!$M89),0))))","v":452167},{"$f":"IF(AND(INTRO!$E$39=\"Non-endemic\",INTRO!$E$37=\"Non-endemic\"),\"Not required\",IF(INTRO!$E$39=\"Non-endemic\",\"Treat with DEC\",COUNTRY_INFO!P89))","v":1},{"$f":"IF(INTRO!$E$39<>\"Non-endemic\",COUNTRY_INFO!Q89,\"Not required\")","v":0},{"$f":"IF(COUNTRY_INFO!H89=1, IF($E89=1,$D89, 0),0)","v":452167},{"$f":"IF(INTRO!$E$39<>\"Endemic\",0, IF(AND(COUNTRY_INFO!$I89=1,$F89<>0),IF(COUNTRY_INFO!M89>=(COUNTRY_INFO!F89+COUNTRY_INFO!G89),COUNTRY_INFO!F89+COUNTRY_INFO!G89,COUNTRY_INFO!$M89), 0))","v":0},0,0,1266067.5999999999,0,0,1266067.5999999999,0,1266067.5999999999,2533]
[{"$f":"IF(INTRO!$E$39=\"Non-endemic\",\" \",IF(COUNTRY_INFO!A90=0,\" \",COUNTRY_INFO!A90))","v":"Uganda"},{"$f":"IF(INTRO!$E$39=\"Non-endemic\",\" \",IF(COUNTRY_INFO!B90=0,\" \",COUNTRY_INFO!B90))","v":"EASTERN"},{"$f":"IF(INTRO!$E$39=\"Non-endemic\",\" \",IF(COUNTRY_INFO!C90=0,\" \",COUNTRY_INFO!C90))","v":"MBALE"},{"$f":"IF(INTRO!$E$39=\"Non-endemic\",0,IF(INTRO!$E$39=\"Endemic but PC is not required\",IF(COUNTRY_INFO!$H90=1,COUNTRY_INFO!F90+COUNTRY_INFO!G90,0),IF(COUNTRY_INFO!$H90=1,COUNTRY_INFO!F90+COUNTRY_INFO!G90,IF(COUNTRY_INFO!$I90=1,IF(COUNTRY_INFO!M90>=(COUNTRY_INFO!F90+COUNTRY_INFO!G90),COUNTRY_INFO!F90+COUNTRY_INFO!G90,COUNTRY_INFO!$M90),0))))","v":0},{"$f":"IF(AND(INTRO!$E$39=\"Non-endemic\",INTRO!$E$37=\"Non-endemic\"),\"Not required\",IF(INTRO!$E$39=\"Non-endemic\",\"Treat with DEC\",COUNTRY_INFO!P90))","v":0},{"$f":"IF(INTRO!$E$39<>\"Non-endemic\",COUNTRY_INFO!Q90,\"Not required\")","v":0},{"$f":"IF(COUNTRY_INFO!H90=1, IF($E90=1,$D90, 0),0)","v":0},{"$f":"IF(INTRO!$E$39<>\"Endemic\",0, IF(AND(COUNTRY_INFO!$I90=1,$F90<>0),IF(COUNTRY_INFO!M90>=(COUNTRY_INFO!F90+COUNTRY_INFO!G90),COUNTRY_INFO!F90+COUNTRY_INFO!G90,COUNTRY_INFO!$M90), 0))","v":0},0,0,0,0,0,0,0,0,0]
[{"$f":"IF(INTRO!$E$39=\"Non-endemic\",\" \",IF(COUNTRY_INFO!A91=0,\" \",COUNTRY_INFO!A91))","v":"Uganda"},{"$f":"IF(INTRO!$E$39=\"Non-endemic\",\" \",IF(COUNTRY_INFO!B91=0,\" \",COUNTRY_INFO!B91))","v":"WESTERN"},{"$f":"IF(INTRO!$E$39=\"Non-endemic\",\" \",IF(COUNTRY_INFO!C91=0,\" \",COUNTRY_INFO!C91))","v":"MBARARA"},{"$f":"IF(INTRO!$E$39=\"Non-endemic\",0,IF(INTRO!$E$39=\"Endemic but PC is not required\",IF(COUNTRY_INFO!$H91=1,COUNTRY_INFO!F91+COUNTRY_INFO!G91,0),IF(COUNTRY_INFO!$H91=1,COUNTRY_INFO!F91+COUNTRY_INFO!G91,IF(COUNTRY_INFO!$I91=1,IF(COUNTRY_INFO!M91>=(COUNTRY_INFO!F91+COUNTRY_INFO!G91),COUNTRY_INFO!F91+COUNTRY_INFO!G91,COUNTRY_INFO!$M91),0))))","v":0},{"$f":"IF(AND(INTRO!$E$39=\"Non-endemic\",INTRO!$E$37=\"Non-endemic\"),\"Not required\",IF(INTRO!$E$39=\"Non-endemic\",\"Treat with DEC\",COUNTRY_INFO!P91))","v":0},{"$f":"IF(INTRO!$E$39<>\"Non-endemic\",COUNTRY_INFO!Q91,\"Not required\")","v":0},{"$f":"IF(COUNTRY_INFO!H91=1, IF($E91=1,$D91, 0),0)","v":0},{"$f":"IF(INTRO!$E$39<>\"Endemic\",0, IF(AND(COUNTRY_INFO!$I91=1,$F91<>0),IF(COUNTRY_INFO!M91>=(COUNTRY_INFO!F91+COUNTRY_INFO!G91),COUNTRY_INFO!F91+COUNTRY_INFO!G91,COUNTRY_INFO!$M91), 0))","v":0},0,0,0,0,0,0,0,0,0]
[{"$f":"IF(INTRO!$E$39=\"Non-endemic\",\" \",IF(COUNTRY_INFO!A92=0,\" \",COUNTRY_INFO!A92))","v":"Uganda"},{"$f":"IF(INTRO!$E$39=\"Non-endemic\",\" \",IF(COUNTRY_INFO!B92=0,\" \",COUNTRY_INFO!B92))","v":"WESTERN"},{"$f":"IF(INTRO!$E$39=\"Non-endemic\",\" \",IF(COUNTRY_INFO!C92=0,\" \",COUNTRY_INFO!C92))","v":"MITOOMA"},{"$f":"IF(INTRO!$E$39=\"Non-endemic\",0,IF(INTRO!$E$39=\"Endemic but PC is not required\",IF(COUNTRY_INFO!$H92=1,COUNTRY_INFO!F92+COUNTRY_INFO!G92,0),IF(COUNTRY_INFO!$H92=1,COUNTRY_INFO!F92+COUNTRY_INFO!G92,IF(COUNTRY_INFO!$I92=1,IF(COUNTRY_INFO!M92>=(COUNTRY_INFO!F92+COUNTRY_INFO!G92),COUNTRY_INFO!F92+COUNTRY_INFO!G92,COUNTRY_INFO!$M92),0))))","v":0},{"$f":"IF(AND(INTRO!$E$39=\"Non-endemic\",INTRO!$E$37=\"Non-endemic\"),\"Not required\",IF(INTRO!$E$39=\"Non-endemic\",\"Treat with DEC\",COUNTRY_INFO!P92))","v":0},{"$f":"IF(INTRO!$E$39<>\"Non-endemic\",COUNTRY_INFO!Q92,\"Not required\")","v":0},{"$f":"IF(COUNTRY_INFO!H92=1, IF($E92=1,$D92, 0),0)","v":0},{"$f":"IF(INTRO!$E$39<>\"Endemic\",0, IF(AND(COUNTRY_INFO!$I92=1,$F92<>0),IF(COUNTRY_INFO!M92>=(COUNTRY_INFO!F92+COUNTRY_INFO!G92),COUNTRY_INFO!F92+COUNTRY_INFO!G92,COUNTRY_INFO!$M92), 0))","v":0},0,0,0,0,0,0,0,0,0]
[{"$f":"IF(INTRO!$E$39=\"Non-endemic\",\" \",IF(COUNTRY_INFO!A93=0,\" \",COUNTRY_INFO!A93))","v":"Uganda"},{"$f":"IF(INTRO!$E$39=\"Non-endemic\",\" \",IF(COUNTRY_INFO!B93=0,\" \",COUNTRY_INFO!B93))","v":"CENTRAL"},{"$f":"IF(INTRO!$E$39=\"Non-endemic\",\" \",IF(COUNTRY_INFO!C93=0,\" \",COUNTRY_INFO!C93))","v":"MITYANA"},{"$f":"IF(INTRO!$E$39=\"Non-endemic\",0,IF(INTRO!$E$39=\"Endemic but PC is not required\",IF(COUNTRY_INFO!$H93=1,COUNTRY_INFO!F93+COUNTRY_INFO!G93,0),IF(COUNTRY_INFO!$H93=1,COUNTRY_INFO!F93+COUNTRY_INFO!G93,IF(COUNTRY_INFO!$I93=1,IF(COUNTRY_INFO!M93>=(COUNTRY_INFO!F93+COUNTRY_INFO!G93),COUNTRY_INFO!F93+COUNTRY_INFO!G93,COUNTRY_INFO!$M93),0))))","v":0},{"$f":"IF(AND(INTRO!$E$39=\"Non-endemic\",INTRO!$E$37=\"Non-endemic\"),\"Not required\",IF(INTRO!$E$39=\"Non-endemic\",\"Treat with DEC\",COUNTRY_INFO!P93))","v":0},{"$f":"IF(INTRO!$E$39<>\"Non-endemic\",COUNTRY_INFO!Q93,\"Not required\")","v":0},{"$f":"IF(COUNTRY_INFO!H93=1, IF($E93=1,$D93, 0),0)","v":0},{"$f":"IF(INTRO!$E$39<>\"Endemic\",0, IF(AND(COUNTRY_INFO!$I93=1,$F93<>0),IF(COUNTRY_INFO!M93>=(COUNTRY_INFO!F93+COUNTRY_INFO!G93),COUNTRY_INFO!F93+COUNTRY_INFO!G93,COUNTRY_INFO!$M93), 0))","v":0},0,0,0,0,0,0,0,0,0]
[{"$f":"IF(INTRO!$E$39=\"Non-endemic\",\" \",IF(COUNTRY_INFO!A94=0,\" \",COUNTRY_INFO!A94))","v":"Uganda"},{"$f":"IF(INTRO!$E$39=\"Non-endemic\",\" \",IF(COUNTRY_INFO!B94=0,\" \",COUNTRY_INFO!B94))","v":"NORTHERN"},{"$f":"IF(INTRO!$E$39=\"Non-endemic\",\" \",IF(COUNTRY_INFO!C94=0,\" \",COUNTRY_INFO!C94))","v":"MOROTO"},{"$f":"IF(INTRO!$E$39=\"Non-endemic\",0,IF(INTRO!$E$39=\"Endemic but PC is not required\",IF(COUNTRY_INFO!$H94=1,COUNTRY_INFO!F94+COUNTRY_INFO!G94,0),IF(COUNTRY_INFO!$H94=1,COUNTRY_INFO!F94+COUNTRY_INFO!G94,IF(COUNTRY_INFO!$I94=1,IF(COUNTRY_INFO!M94>=(COUNTRY_INFO!F94+COUNTRY_INFO!G94),COUNTRY_INFO!F94+COUNTRY_INFO!G94,COUNTRY_INFO!$M94),0))))","v":0},{"$f":"IF(AND(INTRO!$E$39=\"Non-endemic\",INTRO!$E$37=\"Non-endemic\"),\"Not required\",IF(INTRO!$E$39=\"Non-endemic\",\"Treat with DEC\",COUNTRY_INFO!P94))","v":0},{"$f":"IF(INTRO!$E$39<>\"Non-endemic\",COUNTRY_INFO!Q94,\"Not required\")","v":0},{"$f":"IF(COUNTRY_INFO!H94=1, IF($E94=1,$D94, 0),0)","v":0},{"$f":"IF(INTRO!$E$39<>\"Endemic\",0, IF(AND(COUNTRY_INFO!$I94=1,$F94<>0),IF(COUNTRY_INFO!M94>=(COUNTRY_INFO!F94+COUNTRY_INFO!G94),COUNTRY_INFO!F94+COUNTRY_INFO!G94,COUNTRY_INFO!$M94), 0))","v":0},0,0,0,0,0,0,0,0,0]
[{"$f":"IF(INTRO!$E$39=\"Non-endemic\",\" \",IF(COUNTRY_INFO!A95=0,\" \",COUNTRY_INFO!A95))","v":"Uganda"},{"$f":"IF(INTRO!$E$39=\"Non-endemic\",\" \",IF(COUNTRY_INFO!B95=0,\" \",COUNTRY_INFO!B95))","v":"NORTHERN"},{"$f":"IF(INTRO!$E$39=\"Non-endemic\",\" \",IF(COUNTRY_INFO!C95=0,\" \",COUNTRY_INFO!C95))","v":"MOYO"},{"$f":"IF(INTRO!$E$39=\"Non-endemic\",0,IF(INTRO!$E$39=\"Endemic but PC is not required\",IF(COUNTRY_INFO!$H95=1,COUNTRY_INFO!F95+COUNTRY_INFO!G95,0),IF(COUNTRY_INFO!$H95=1,COUNTRY_INFO!F95+COUNTRY_INFO!G95,IF(COUNTRY_INFO!$I95=1,IF(COUNTRY_INFO!M95>=(COUNTRY_INFO!F95+COUNTRY_INFO!G95),COUNTRY_INFO!F95+COUNTRY_INFO!G95,COUNTRY_INFO!$M95),0))))","v":93451},{"$f":"IF(AND(INTRO!$E$39=\"Non-endemic\",INTRO!$E$37=\"Non-endemic\"),\"Not required\",IF(INTRO!$E$39=\"Non-endemic\",\"Treat with DEC\",COUNTRY_INFO!P95))","v":0},{"$f":"IF(INTRO!$E$39<>\"Non-endemic\",COUNTRY_INFO!Q95,\"Not required\")","v":2},{"$f":"IF(COUNTRY_INFO!H95=1, IF($E95=1,$D95, 0),0)","v":0},{"$f":"IF(INTRO!$E$39<>\"Endemic\",0, IF(AND(COUNTRY_INFO!$I95=1,$F95<>0),IF(COUNTRY_INFO!M95>=(COUNTRY_INFO!F95+COUNTRY_INFO!G95),COUNTRY_INFO!F95+COUNTRY_INFO!G95,COUNTRY_INFO!$M95), 0))","v":93451},76910,76910,0,430696,0,430696,0,430696,862]
[{"$f":"IF(INTRO!$E$39=\"Non-endemic\",\" \",IF(COUNTRY_INFO!A96=0,\" \",COUNTRY_INFO!A96))","v":"Uganda"},{"$f":"IF(INTRO!$E$39=\"Non-endemic\",\" \",IF(COUNTRY_INFO!B96=0,\" \",COUNTRY_INFO!B96))","v":"CENTRAL"},{"$f":"IF(INTRO!$E$39=\"Non-endemic\",\" \",IF(COUNTRY_INFO!C96=0,\" \",COUNTRY_INFO!C96))","v":"MPIGI"},{"$f":"IF(INTRO!$E$39=\"Non-endemic\",0,IF(INTRO!$E$39=\"Endemic but PC is not required\",IF(COUNTRY_INFO!$H96=1,COUNTRY_INFO!F96+COUNTRY_INFO!G96,0),IF(COUNTRY_INFO!$H96=1,COUNTRY_INFO!F96+COUNTRY_INFO!G96,IF(COUNTRY_INFO!$I96=1,IF(COUNTRY_INFO!M96>=(COUNTRY_INFO!F96+COUNTRY_INFO!G96),COUNTRY_INFO!F96+COUNTRY_INFO!G96,COUNTRY_INFO!$M96),0))))","v":0},{"$f":"IF(AND(INTRO!$E$39=\"Non-endemic\",INTRO!$E$37=\"Non-endemic\"),\"Not required\",IF(INTRO!$E$39=\"Non-endemic\",\"Treat with DEC\",COUNTRY_INFO!P96))","v":0},{"$f":"IF(INTRO!$E$39<>\"Non-endemic\",COUNTRY_INFO!Q96,\"Not required\")","v":0},{"$f":"IF(COUNTRY_INFO!H96=1, IF($E96=1,$D96, 0),0)","v":0},{"$f":"IF(INTRO!$E$39<>\"Endemic\",0, IF(AND(COUNTRY_INFO!$I96=1,$F96<>0),IF(COUNTRY_INFO!M96>=(COUNTRY_INFO!F96+COUNTRY_INFO!G96),COUNTRY_INFO!F96+COUNTRY_INFO!G96,COUNTRY_INFO!$M96), 0))","v":0},0,0,0,0,0,0,0,0,0]
[{"$f":"IF(INTRO!$E$39=\"Non-endemic\",\" \",IF(COUNTRY_INFO!A97=0,\" \",COUNTRY_INFO!A97))","v":"Uganda"},{"$f":"IF(INTRO!$E$39=\"Non-endemic\",\" \",IF(COUNTRY_INFO!B97=0,\" \",COUNTRY_INFO!B97))","v":"CENTRAL"},{"$f":"IF(INTRO!$E$39=\"Non-endemic\",\" \",IF(COUNTRY_INFO!C97=0,\" \",COUNTRY_INFO!C97))","v":"MUBENDE"},{"$f":"IF(INTRO!$E$39=\"Non-endemic\",0,IF(INTRO!$E$39=\"Endemic but PC is not required\",IF(COUNTRY_INFO!$H97=1,COUNTRY_INFO!F97+COUNTRY_INFO!G97,0),IF(COUNTRY_INFO!$H97=1,COUNTRY_INFO!F97+COUNTRY_INFO!G97,IF(COUNTRY_INFO!$I97=1,IF(COUNTRY_INFO!M97>=(COUNTRY_INFO!F97+COUNTRY_INFO!G97),COUNTRY_INFO!F97+COUNTRY_INFO!G97,COUNTRY_INFO!$M97),0))))","v":0},{"$f":"IF(AND(INTRO!$E$39=\"Non-endemic\",INTRO!$E$37=\"Non-endemic\"),\"Not required\",IF(INTRO!$E$39=\"Non-endemic\",\"Treat with DEC\",COUNTRY_INFO!P97))","v":0},{"$f":"IF(INTRO!$E$39<>\"Non-endemic\",COUNTRY_INFO!Q97,\"Not required\")","v":0},{"$f":"IF(COUNTRY_INFO!H97=1, IF($E97=1,$D97, 0),0)","v":0},{"$f":"IF(INTRO!$E$39<>\"Endemic\",0, IF(AND(COUNTRY_INFO!$I97=1,$F97<>0),IF(COUNTRY_INFO!M97>=(COUNTRY_INFO!F97+COUNTRY_INFO!G97),COUNTRY_INFO!F97+COUNTRY_INFO!G97,COUNTRY_INFO!$M97), 0))","v":0},0,0,0,0,0,0,0,0,0]
[{"$f":"IF(INTRO!$E$39=\"Non-endemic\",\" \",IF(COUNTRY_INFO!A98=0,\" \",COUNTRY_INFO!A98))","v":"Uganda"},{"$f":"IF(INTRO!$E$39=\"Non-endemic\",\" \",IF(COUNTRY_INFO!B98=0,\" \",COUNTRY_INFO!B98))","v":"CENTRAL"},{"$f":"IF(INTRO!$E$39=\"Non-endemic\",\" \",IF(COUNTRY_INFO!C98=0,\" \",COUNTRY_INFO!C98))","v":"MUKONO"},{"$f":"IF(INTRO!$E$39=\"Non-endemic\",0,IF(INTRO!$E$39=\"Endemic but PC is not required\",IF(COUNTRY_INFO!$H98=1,COUNTRY_INFO!F98+COUNTRY_INFO!G98,0),IF(COUNTRY_INFO!$H98=1,COUNTRY_INFO!F98+COUNTRY_INFO!G98,IF(COUNTRY_INFO!$I98=1,IF(COUNTRY_INFO!M98>=(COUNTRY_INFO!F98+COUNTRY_INFO!G98),COUNTRY_INFO!F98+COUNTRY_INFO!G98,COUNTRY_INFO!$M98),0))))","v":0},{"$f":"IF(AND(INTRO!$E$39=\"Non-endemic\",INTRO!$E$37=\"Non-endemic\"),\"Not required\",IF(INTRO!$E$39=\"Non-endemic\",\"Treat with DEC\",COUNTRY_INFO!P98))","v":0},{"$f":"IF(INTRO!$E$39<>\"Non-endemic\",COUNTRY_INFO!Q98,\"Not required\")","v":0},{"$f":"IF(COUNTRY_INFO!H98=1, IF($E98=1,$D98, 0),0)","v":0},{"$f":"IF(INTRO!$E$39<>\"Endemic\",0, IF(AND(COUNTRY_INFO!$I98=1,$F98<>0),IF(COUNTRY_INFO!M98>=(COUNTRY_INFO!F98+COUNTRY_INFO!G98),COUNTRY_INFO!F98+COUNTRY_INFO!G98,COUNTRY_INFO!$M98), 0))","v":0},0,0,0,0,0,0,0,0,0]
[{"$f":"IF(INTRO!$E$39=\"Non-endemic\",\" \",IF(COUNTRY_INFO!A99=0,\" \",COUNTRY_INFO!A99))","v":"Uganda"},{"$f":"IF(INTRO!$E$39=\"Non-endemic\",\" \",IF(COUNTRY_INFO!B99=0,\" \",COUNTRY_INFO!B99))","v":"Northern"},{"$f":"IF(INTRO!$E$39=\"Non-endemic\",\" \",IF(COUNTRY_INFO!C99=0,\" \",COUNTRY_INFO!C99))","v":"NABILATUK"},{"$f":"IF(INTRO!$E$39=\"Non-endemic\",0,IF(INTRO!$E$39=\"Endemic but PC is not required\",IF(COUNTRY_INFO!$H99=1,COUNTRY_INFO!F99+COUNTRY_INFO!G99,0),IF(COUNTRY_INFO!$H99=1,COUNTRY_INFO!F99+COUNTRY_INFO!G99,IF(COUNTRY_INFO!$I99=1,IF(COUNTRY_INFO!M99>=(COUNTRY_INFO!F99+COUNTRY_INFO!G99),COUNTRY_INFO!F99+COUNTRY_INFO!G99,COUNTRY_INFO!$M99),0))))","v":0},{"$f":"IF(AND(INTRO!$E$39=\"Non-endemic\",INTRO!$E$37=\"Non-endemic\"),\"Not required\",IF(INTRO!$E$39=\"Non-endemic\",\"Treat with DEC\",COUNTRY_INFO!P99))","v":0},{"$f":"IF(INTRO!$E$39<>\"Non-endemic\",COUNTRY_INFO!Q99,\"Not required\")","v":0},{"$f":"IF(COUNTRY_INFO!H99=1, IF($E99=1,$D99, 0),0)","v":0},{"$f":"IF(INTRO!$E$39<>\"Endemic\",0, IF(AND(COUNTRY_INFO!$I99=1,$F99<>0),IF(COUNTRY_INFO!M99>=(COUNTRY_INFO!F99+COUNTRY_INFO!G99),COUNTRY_INFO!F99+COUNTRY_INFO!G99,COUNTRY_INFO!$M99), 0))","v":0},0,0,0,0,0,0,0,0,0]
[{"$f":"IF(INTRO!$E$39=\"Non-endemic\",\" \",IF(COUNTRY_INFO!A100=0,\" \",COUNTRY_INFO!A100))","v":"Uganda"},{"$f":"IF(INTRO!$E$39=\"Non-endemic\",\" \",IF(COUNTRY_INFO!B100=0,\" \",COUNTRY_INFO!B100))","v":"NORTHERN"},{"$f":"IF(INTRO!$E$39=\"Non-endemic\",\" \",IF(COUNTRY_INFO!C100=0,\" \",COUNTRY_INFO!C100))","v":"NAKAPIRIPIRIT"},{"$f":"IF(INTRO!$E$39=\"Non-endemic\",0,IF(INTRO!$E$39=\"Endemic but PC is not required\",IF(COUNTRY_INFO!$H100=1,COUNTRY_INFO!F100+COUNTRY_INFO!G100,0),IF(COUNTRY_INFO!$H100=1,COUNTRY_INFO!F100+COUNTRY_INFO!G100,IF(COUNTRY_INFO!$I100=1,IF(COUNTRY_INFO!M100>=(COUNTRY_INFO!F100+COUNTRY_INFO!G100),COUNTRY_INFO!F100+COUNTRY_INFO!G100,COUNTRY_INFO!$M100),0))))","v":0},{"$f":"IF(AND(INTRO!$E$39=\"Non-endemic\",INTRO!$E$37=\"Non-endemic\"),\"Not required\",IF(INTRO!$E$39=\"Non-endemic\",\"Treat with DEC\",COUNTRY_INFO!P100))","v":0},{"$f":"IF(INTRO!$E$39<>\"Non-endemic\",COUNTRY_INFO!Q100,\"Not required\")","v":0},{"$f":"IF(COUNTRY_INFO!H100=1, IF($E100=1,$D100, 0),0)","v":0},{"$f":"IF(INTRO!$E$39<>\"Endemic\",0, IF(AND(COUNTRY_INFO!$I100=1,$F100<>0),IF(COUNTRY_INFO!M100>=(COUNTRY_INFO!F100+COUNTRY_INFO!G100),COUNTRY_INFO!F100+COUNTRY_INFO!G100,COUNTRY_INFO!$M100), 0))","v":0},0,0,0,0,0,0,0,0,0]
[{"$f":"IF(INTRO!$E$39=\"Non-endemic\",\" \",IF(COUNTRY_INFO!A101=0,\" \",COUNTRY_INFO!A101))","v":"Uganda"},{"$f":"IF(INTRO!$E$39=\"Non-endemic\",\" \",IF(COUNTRY_INFO!B101=0,\" \",COUNTRY_INFO!B101))","v":"CENTRAL"},{"$f":"IF(INTRO!$E$39=\"Non-endemic\",\" \",IF(COUNTRY_INFO!C101=0,\" \",COUNTRY_INFO!C101))","v":"NAKASEKE"},{"$f":"IF(INTRO!$E$39=\"Non-endemic\",0,IF(INTRO!$E$39=\"Endemic but PC is not required\",IF(COUNTRY_INFO!$H101=1,COUNTRY_INFO!F101+COUNTRY_INFO!G101,0),IF(COUNTRY_INFO!$H101=1,COUNTRY_INFO!F101+COUNTRY_INFO!G101,IF(COUNTRY_INFO!$I101=1,IF(COUNTRY_INFO!M101>=(COUNTRY_INFO!F101+COUNTRY_INFO!G101),COUNTRY_INFO!F101+COUNTRY_INFO!G101,COUNTRY_INFO!$M101),0))))","v":0},{"$f":"IF(AND(INTRO!$E$39=\"Non-endemic\",INTRO!$E$37=\"Non-endemic\"),\"Not required\",IF(INTRO!$E$39=\"Non-endemic\",\"Treat with DEC\",COUNTRY_INFO!P101))","v":0},{"$f":"IF(INTRO!$E$39<>\"Non-endemic\",COUNTRY_INFO!Q101,\"Not required\")","v":0},{"$f":"IF(COUNTRY_INFO!H101=1, IF($E101=1,$D101, 0),0)","v":0},{"$f":"IF(INTRO!$E$39<>\"Endemic\",0, IF(AND(COUNTRY_INFO!$I101=1,$F101<>0),IF(COUNTRY_INFO!M101>=(COUNTRY_INFO!F101+COUNTRY_INFO!G101),COUNTRY_INFO!F101+COUNTRY_INFO!G101,COUNTRY_INFO!$M101), 0))","v":0},0,0,0,0,0,0,0,0,0]
[{"$f":"IF(INTRO!$E$39=\"Non-endemic\",\" \",IF(COUNTRY_INFO!A102=0,\" \",COUNTRY_INFO!A102))","v":"Uganda"},{"$f":"IF(INTRO!$E$39=\"Non-endemic\",\" \",IF(COUNTRY_INFO!B102=0,\" \",COUNTRY_INFO!B102))","v":"CENTRAL"},{"$f":"IF(INTRO!$E$39=\"Non-endemic\",\" \",IF(COUNTRY_INFO!C102=0,\" \",COUNTRY_INFO!C102))","v":"NAKASONGOLA"},{"$f":"IF(INTRO!$E$39=\"Non-endemic\",0,IF(INTRO!$E$39=\"Endemic but PC is not required\",IF(COUNTRY_INFO!$H102=1,COUNTRY_INFO!F102+COUNTRY_INFO!G102,0),IF(COUNTRY_INFO!$H102=1,COUNTRY_INFO!F102+COUNTRY_INFO!G102,IF(COUNTRY_INFO!$I102=1,IF(COUNTRY_INFO!M102>=(COUNTRY_INFO!F102+COUNTRY_INFO!G102),COUNTRY_INFO!F102+COUNTRY_INFO!G102,COUNTRY_INFO!$M102),0))))","v":0},{"$f":"IF(AND(INTRO!$E$39=\"Non-endemic\",INTRO!$E$37=\"Non-endemic\"),\"Not required\",IF(INTRO!$E$39=\"Non-endemic\",\"Treat with DEC\",COUNTRY_INFO!P102))","v":0},{"$f":"IF(INTRO!$E$39<>\"Non-endemic\",COUNTRY_INFO!Q102,\"Not required\")","v":0},{"$f":"IF(COUNTRY_INFO!H102=1, IF($E102=1,$D102, 0),0)","v":0},{"$f":"IF(INTRO!$E$39<>\"Endemic\",0, IF(AND(COUNTRY_INFO!$I102=1,$F102<>0),IF(COUNTRY_INFO!M102>=(COUNTRY_INFO!F102+COUNTRY_INFO!G102),COUNTRY_INFO!F102+COUNTRY_INFO!G102,COUNTRY_INFO!$M102), 0))","v":0},0,0,0,0,0,0,0,0,0]
[{"$f":"IF(INTRO!$E$39=\"Non-endemic\",\" \",IF(COUNTRY_INFO!A103=0,\" \",COUNTRY_INFO!A103))","v":"Uganda"},{"$f":"IF(INTRO!$E$39=\"Non-endemic\",\" \",IF(COUNTRY_INFO!B103=0,\" \",COUNTRY_INFO!B103))","v":"EASTERN"},{"$f":"IF(INTRO!$E$39=\"Non-endemic\",\" \",IF(COUNTRY_INFO!C103=0,\" \",COUNTRY_INFO!C103))","v":"NAMAYINGO"},{"$f":"IF(INTRO!$E$39=\"Non-endemic\",0,IF(INTRO!$E$39=\"Endemic but PC is not required\",IF(COUNTRY_INFO!$H103=1,COUNTRY_INFO!F103+COUNTRY_INFO!G103,0),IF(COUNTRY_INFO!$H103=1,COUNTRY_INFO!F103+COUNTRY_INFO!G103,IF(COUNTRY_INFO!$I103=1,IF(COUNTRY_INFO!M103>=(COUNTRY_INFO!F103+COUNTRY_INFO!G103),COUNTRY_INFO!F103+COUNTRY_INFO!G103,COUNTRY_INFO!$M103),0))))","v":226712},{"$f":"IF(AND(INTRO!$E$39=\"Non-endemic\",INTRO!$E$37=\"Non-endemic\"),\"Not required\",IF(INTRO!$E$39=\"Non-endemic\",\"Treat with DEC\",COUNTRY_INFO!P103))","v":1},{"$f":"IF(INTRO!$E$39<>\"Non-endemic\",COUNTRY_INFO!Q103,\"Not required\")","v":0},{"$f":"IF(COUNTRY_INFO!H103=1, IF($E103=1,$D103, 0),0)","v":226712},{"$f":"IF(INTRO!$E$39<>\"Endemic\",0, IF(AND(COUNTRY_INFO!$I103=1,$F103<>0),IF(COUNTRY_INFO!M103>=(COUNTRY_INFO!F103+COUNTRY_INFO!G103),COUNTRY_INFO!F103+COUNTRY_INFO!G103,COUNTRY_INFO!$M103), 0))","v":0},0,0,634793.6,0,0,634793.6,0,634793.6,1270]
[{"$f":"IF(INTRO!$E$39=\"Non-endemic\",\" \",IF(COUNTRY_INFO!A104=0,\" \",COUNTRY_INFO!A104))","v":"Uganda"},{"$f":"IF(INTRO!$E$39=\"Non-endemic\",\" \",IF(COUNTRY_INFO!B104=0,\" \",COUNTRY_INFO!B104))","v":"Eastern"},{"$f":"IF(INTRO!$E$39=\"Non-endemic\",\" \",IF(COUNTRY_INFO!C104=0,\" \",COUNTRY_INFO!C104))","v":"Namusidwa"},{"$f":"IF(INTRO!$E$39=\"Non-endemic\",0,IF(INTRO!$E$39=\"Endemic but PC is not required\",IF(COUNTRY_INFO!$H104=1,COUNTRY_INFO!F104+COUNTRY_INFO!G104,0),IF(COUNTRY_INFO!$H104=1,COUNTRY_INFO!F104+COUNTRY_INFO!G104,IF(COUNTRY_INFO!$I104=1,IF(COUNTRY_INFO!M104>=(COUNTRY_INFO!F104+COUNTRY_INFO!G104),COUNTRY_INFO!F104+COUNTRY_INFO!G104,COUNTRY_INFO!$M104),0))))","v":0},{"$f":"IF(AND(INTRO!$E$39=\"Non-endemic\",INTRO!$E$37=\"Non-endemic\"),\"Not required\",IF(INTRO!$E$39=\"Non-endemic\",\"Treat with DEC\",COUNTRY_INFO!P104))","v":0},{"$f":"IF(INTRO!$E$39<>\"Non-endemic\",COUNTRY_INFO!Q104,\"Not required\")","v":0},{"$f":"IF(COUNTRY_INFO!H104=1, IF($E104=1,$D104, 0),0)","v":0},{"$f":"IF(INTRO!$E$39<>\"Endemic\",0, IF(AND(COUNTRY_INFO!$I104=1,$F104<>0),IF(COUNTRY_INFO!M104>=(COUNTRY_INFO!F104+COUNTRY_INFO!G104),COUNTRY_INFO!F104+COUNTRY_INFO!G104,COUNTRY_INFO!$M104), 0))","v":0},0,0,0,0,0,0,0,0,0]
[{"$f":"IF(INTRO!$E$39=\"Non-endemic\",\" \",IF(COUNTRY_INFO!A105=0,\" \",COUNTRY_INFO!A105))","v":"Uganda"},{"$f":"IF(INTRO!$E$39=\"Non-endemic\",\" \",IF(COUNTRY_INFO!B105=0,\" \",COUNTRY_INFO!B105))","v":"EASTERN"},{"$f":"IF(INTRO!$E$39=\"Non-endemic\",\" \",IF(COUNTRY_INFO!C105=0,\" \",COUNTRY_INFO!C105))","v":"NAMUTUMBA"},{"$f":"IF(INTRO!$E$39=\"Non-endemic\",0,IF(INTRO!$E$39=\"Endemic but PC is not required\",IF(COUNTRY_INFO!$H105=1,COUNTRY_INFO!F105+COUNTRY_INFO!G105,0),IF(COUNTRY_INFO!$H105=1,COUNTRY_INFO!F105+COUNTRY_INFO!G105,IF(COUNTRY_INFO!$I105=1,IF(COUNTRY_INFO!M105>=(COUNTRY_INFO!F105+COUNTRY_INFO!G105),COUNTRY_INFO!F105+COUNTRY_INFO!G105,COUNTRY_INFO!$M105),0))))","v":0},{"$f":"IF(AND(INTRO!$E$39=\"Non-endemic\",INTRO!$E$37=\"Non-endemic\"),\"Not required\",IF(INTRO!$E$39=\"Non-endemic\",\"Treat with DEC\",COUNTRY_INFO!P105))","v":0},{"$f":"IF(INTRO!$E$39<>\"Non-endemic\",COUNTRY_INFO!Q105,\"Not required\")","v":0},{"$f":"IF(COUNTRY_INFO!H105=1, IF($E105=1,$D105, 0),0)","v":0},{"$f":"IF(INTRO!$E$39<>\"Endemic\",0, IF(AND(COUNTRY_INFO!$I105=1,$F105<>0),IF(COUNTRY_INFO!M105>=(COUNTRY_INFO!F105+COUNTRY_INFO!G105),COUNTRY_INFO!F105+COUNTRY_INFO!G105,COUNTRY_INFO!$M105), 0))","v":0},0,{"$f":"IF(I105=0,H105,IF(I105>H105,H105,I105))","v":0},{"$f":"IF(G105<J105,0,IF($E105=1, (G105-J105)*2.8, 0))","v":0},{"$f":"IF($E105<$F105, J105*(F105-E105)*2.8, 0)","v":0},{"$f":"IF(AND($E105=1, $F105<>0), J105*2.8, 0)","v":0},{"$f":"SUM(K105:M105)","v":0},0,{"$f":"IF($N105>$O105,$N105-$O105,0)","v":0},{"$f":"ROUNDUP($N105/500,0)","v":0}]
[{"$f":"IF(INTRO!$E$39=\"Non-endemic\",\" \",IF(COUNTRY_INFO!A106=0,\" \",COUNTRY_INFO!A106))","v":"Uganda"},{"$f":"IF(INTRO!$E$39=\"Non-endemic\",\" \",IF(COUNTRY_INFO!B106=0,\" \",COUNTRY_INFO!B106))","v":"NORTHERN"},{"$f":"IF(INTRO!$E$39=\"Non-endemic\",\" \",IF(COUNTRY_INFO!C106=0,\" \",COUNTRY_INFO!C106))","v":"NAPAK"},{"$f":"IF(INTRO!$E$39=\"Non-endemic\",0,IF(INTRO!$E$39=\"Endemic but PC is not required\",IF(COUNTRY_INFO!$H106=1,COUNTRY_INFO!F106+COUNTRY_INFO!G106,0),IF(COUNTRY_INFO!$H106=1,COUNTRY_INFO!F106+COUNTRY_INFO!G106,IF(COUNTRY_INFO!$I106=1,IF(COUNTRY_INFO!M106>=(COUNTRY_INFO!F106+COUNTRY_INFO!G106),COUNTRY_INFO!F106+COUNTRY_INFO!G106,COUNTRY_INFO!$M106),0))))","v":0},{"$f":"IF(AND(INTRO!$E$39=\"Non-endemic\",INTRO!$E$37=\"Non-endemic\"),\"Not required\",IF(INTRO!$E$39=\"Non-endemic\",\"Treat with DEC\",COUNTRY_INFO!P106))","v":0},{"$f":"IF(INTRO!$E$39<>\"Non-endemic\",COUNTRY_INFO!Q106,\"Not required\")","v":0},{"$f":"IF(COUNTRY_INFO!H106=1, IF($E106=1,$D106, 0),0)","v":0},{"$f":"IF(INTRO!$E$39<>\"Endemic\",0, IF(AND(COUNTRY_INFO!$I106=1,$F106<>0),IF(COUNTRY_INFO!M106>=(COUNTRY_INFO!F106+COUNTRY_INFO!G106),COUNTRY_INFO!F106+COUNTRY_INFO!G106,COUNTRY_INFO!$M106), 0))","v":0},0,0,0,0,0,0,0,0,0]
[{"$f":"IF(INTRO!$E$39=\"Non-endemic\",\" \",IF(COUNTRY_INFO!A107=0,\" \",COUNTRY_INFO!A107))","v":"Uganda"},{"$f":"IF(INTRO!$E$39=\"Non-endemic\",\" \",IF(COUNTRY_INFO!B107=0,\" \",COUNTRY_INFO!B107))","v":"NORTHERN"},{"$f":"IF(INTRO!$E$39=\"Non-endemic\",\" \",IF(COUNTRY_INFO!C107=0,\" \",COUNTRY_INFO!C107))","v":"NEBBI"},{"$f":"IF(INTRO!$E$39=\"Non-endemic\",0,IF(INTRO!$E$39=\"Endemic but PC is not required\",IF(COUNTRY_INFO!$H107=1,COUNTRY_INFO!F107+COUNTRY_INFO!G107,0),IF(COUNTRY_INFO!$H107=1,COUNTRY_INFO!F107+COUNTRY_INFO!G107,IF(COUNTRY_INFO!$I107=1,IF(COUNTRY_INFO!M107>=(COUNTRY_INFO!F107+COUNTRY_INFO!G107),COUNTRY_INFO!F107+COUNTRY_INFO!G107,COUNTRY_INFO!$M107),0))))","v":66211},{"$f":"IF(AND(INTRO!$E$39=\"Non-endemic\",INTRO!$E$37=\"Non-endemic\"),\"Not required\",IF(INTRO!$E$39=\"Non-endemic\",\"Treat with DEC\",COUNTRY_INFO!P107))","v":0},{"$f":"IF(INTRO!$E$39<>\"Non-endemic\",COUNTRY_INFO!Q107,\"Not required\")","v":2},{"$f":"IF(COUNTRY_INFO!H107=1, IF($E107=1,$D107, 0),0)","v":0},{"$f":"IF(INTRO!$E$39<>\"Endemic\",0, IF(AND(COUNTRY_INFO!$I107=1,$F107<>0),IF(COUNTRY_INFO!M107>=(COUNTRY_INFO!F107+COUNTRY_INFO!G107),COUNTRY_INFO!F107+COUNTRY_INFO!G107,COUNTRY_INFO!$M107), 0))","v":66211},54492,54492,0,305155.19999999995,0,305155.19999999995,0,305155.19999999995,611]
[{"$f":"IF(INTRO!$E$39=\"Non-endemic\",\" \",IF(COUNTRY_INFO!A108=0,\" \",COUNTRY_INFO!A108))","v":"Uganda"},{"$f":"IF(INTRO!$E$39=\"Non-endemic\",\" \",IF(COUNTRY_INFO!B108=0,\" \",COUNTRY_INFO!B108))","v":"EASTERN"},{"$f":"IF(INTRO!$E$39=\"Non-endemic\",\" \",IF(COUNTRY_INFO!C108=0,\" \",COUNTRY_INFO!C108))","v":"NGORA"},{"$f":"IF(INTRO!$E$39=\"Non-endemic\",0,IF(INTRO!$E$39=\"Endemic but PC is not required\",IF(COUNTRY_INFO!$H108=1,COUNTRY_INFO!F108+COUNTRY_INFO!G108,0),IF(COUNTRY_INFO!$H108=1,COUNTRY_INFO!F108+COUNTRY_INFO!G108,IF(COUNTRY_INFO!$I108=1,IF(COUNTRY_INFO!M108>=(COUNTRY_INFO!F108+COUNTRY_INFO!G108),COUNTRY_INFO!F108+COUNTRY_INFO!G108,COUNTRY_INFO!$M108),0))))","v":0},{"$f":"IF(AND(INTRO!$E$39=\"Non-endemic\",INTRO!$E$37=\"Non-endemic\"),\"Not required\",IF(INTRO!$E$39=\"Non-endemic\",\"Treat with DEC\",COUNTRY_INFO!P108))","v":0},{"$f":"IF(INTRO!$E$39<>\"Non-endemic\",COUNTRY_INFO!Q108,\"Not required\")","v":0},{"$f":"IF(COUNTRY_INFO!H108=1, IF($E108=1,$D108, 0),0)","v":0},{"$f":"IF(INTRO!$E$39<>\"Endemic\",0, IF(AND(COUNTRY_INFO!$I108=1,$F108<>0),IF(COUNTRY_INFO!M108>=(COUNTRY_INFO!F108+COUNTRY_INFO!G108),COUNTRY_INFO!F108+COUNTRY_INFO!G108,COUNTRY_INFO!$M108), 0))","v":0},0,0,0,0,0,0,0,0,0]
[{"$f":"IF(INTRO!$E$39=\"Non-endemic\",\" \",IF(COUNTRY_INFO!A109=0,\" \",COUNTRY_INFO!A109))","v":"Uganda"},{"$f":"IF(INTRO!$E$39=\"Non-endemic\",\" \",IF(COUNTRY_INFO!B109=0,\" \",COUNTRY_INFO!B109))","v":"WESTERN"},{"$f":"IF(INTRO!$E$39=\"Non-endemic\",\" \",IF(COUNTRY_INFO!C109=0,\" \",COUNTRY_INFO!C109))","v":"NTOROKO"},{"$f":"IF(INTRO!$E$39=\"Non-endemic\",0,IF(INTRO!$E$39=\"Endemic but PC is not required\",IF(COUNTRY_INFO!$H109=1,COUNTRY_INFO!F109+COUNTRY_INFO!G109,0),IF(COUNTRY_INFO!$H109=1,COUNTRY_INFO!F109+COUNTRY_INFO!G109,IF(COUNTRY_INFO!$I109=1,IF(COUNTRY_INFO!M109>=(COUNTRY_INFO!F109+COUNTRY_INFO!G109),COUNTRY_INFO!F109+COUNTRY_INFO!G109,COUNTRY_INFO!$M109),0))))","v":0},{"$f":"IF(AND(INTRO!$E$39=\"Non-endemic\",INTRO!$E$37=\"Non-endemic\"),\"Not required\",IF(INTRO!$E$39=\"Non-endemic\",\"Treat with DEC\",COUNTRY_INFO!P109))","v":0},{"$f":"IF(INTRO!$E$39<>\"Non-endemic\",COUNTRY_INFO!Q109,\"Not required\")","v":0},{"$f":"IF(COUNTRY_INFO!H109=1, IF($E109=1,$D109, 0),0)","v":0},{"$f":"IF(INTRO!$E$39<>\"Endemic\",0, IF(AND(COUNTRY_INFO!$I109=1,$F109<>0),IF(COUNTRY_INFO!M109>=(COUNTRY_INFO!F109+COUNTRY_INFO!G109),COUNTRY_INFO!F109+COUNTRY_INFO!G109,COUNTRY_INFO!$M109), 0))","v":0},0,0,0,0,0,0,0,0,0]
[{"$f":"IF(INTRO!$E$39=\"Non-endemic\",\" \",IF(COUNTRY_INFO!A110=0,\" \",COUNTRY_INFO!A110))","v":"Uganda"},{"$f":"IF(INTRO!$E$39=\"Non-endemic\",\" \",IF(COUNTRY_INFO!B110=0,\" \",COUNTRY_INFO!B110))","v":"WESTERN"},{"$f":"IF(INTRO!$E$39=\"Non-endemic\",\" \",IF(COUNTRY_INFO!C110=0,\" \",COUNTRY_INFO!C110))","v":"NTUNGAMO"},{"$f":"IF(INTRO!$E$39=\"Non-endemic\",0,IF(INTRO!$E$39=\"Endemic but PC is not required\",IF(COUNTRY_INFO!$H110=1,COUNTRY_INFO!F110+COUNTRY_INFO!G110,0),IF(COUNTRY_INFO!$H110=1,COUNTRY_INFO!F110+COUNTRY_INFO!G110,IF(COUNTRY_INFO!$I110=1,IF(COUNTRY_INFO!M110>=(COUNTRY_INFO!F110+COUNTRY_INFO!G110),COUNTRY_INFO!F110+COUNTRY_INFO!G110,COUNTRY_INFO!$M110),0))))","v":0},{"$f":"IF(AND(INTRO!$E$39=\"Non-endemic\",INTRO!$E$37=\"Non-endemic\"),\"Not required\",IF(INTRO!$E$39=\"Non-endemic\",\"Treat with DEC\",COUNTRY_INFO!P110))","v":0},{"$f":"IF(INTRO!$E$39<>\"Non-endemic\",COUNTRY_INFO!Q110,\"Not required\")","v":0},{"$f":"IF(COUNTRY_INFO!H110=1, IF($E110=1,$D110, 0),0)","v":0},{"$f":"IF(INTRO!$E$39<>\"Endemic\",0, IF(AND(COUNTRY_INFO!$I110=1,$F110<>0),IF(COUNTRY_INFO!M110>=(COUNTRY_INFO!F110+COUNTRY_INFO!G110),COUNTRY_INFO!F110+COUNTRY_INFO!G110,COUNTRY_INFO!$M110), 0))","v":0},0,0,0,0,0,0,0,0,0]
[{"$f":"IF(INTRO!$E$39=\"Non-endemic\",\" \",IF(COUNTRY_INFO!A111=0,\" \",COUNTRY_INFO!A111))","v":"Uganda"},{"$f":"IF(INTRO!$E$39=\"Non-endemic\",\" \",IF(COUNTRY_INFO!B111=0,\" \",COUNTRY_INFO!B111))","v":"NORTHERN"},{"$f":"IF(INTRO!$E$39=\"Non-endemic\",\" \",IF(COUNTRY_INFO!C111=0,\" \",COUNTRY_INFO!C111))","v":"NWOYA"},{"$f":"IF(INTRO!$E$39=\"Non-endemic\",0,IF(INTRO!$E$39=\"Endemic but PC is not required\",IF(COUNTRY_INFO!$H111=1,COUNTRY_INFO!F111+COUNTRY_INFO!G111,0),IF(COUNTRY_INFO!$H111=1,COUNTRY_INFO!F111+COUNTRY_INFO!G111,IF(COUNTRY_INFO!$I111=1,IF(COUNTRY_INFO!M111>=(COUNTRY_INFO!F111+COUNTRY_INFO!G111),COUNTRY_INFO!F111+COUNTRY_INFO!G111,COUNTRY_INFO!$M111),0))))","v":0},{"$f":"IF(AND(INTRO!$E$39=\"Non-endemic\",INTRO!$E$37=\"Non-endemic\"),\"Not required\",IF(INTRO!$E$39=\"Non-endemic\",\"Treat with DEC\",COUNTRY_INFO!P111))","v":0},{"$f":"IF(INTRO!$E$39<>\"Non-endemic\",COUNTRY_INFO!Q111,\"Not required\")","v":0},{"$f":"IF(COUNTRY_INFO!H111=1, IF($E111=1,$D111, 0),0)","v":0},{"$f":"IF(INTRO!$E$39<>\"Endemic\",0, IF(AND(COUNTRY_INFO!$I111=1,$F111<>0),IF(COUNTRY_INFO!M111>=(COUNTRY_INFO!F111+COUNTRY_INFO!G111),COUNTRY_INFO!F111+COUNTRY_INFO!G111,COUNTRY_INFO!$M111), 0))","v":0},0,0,0,0,0,0,0,0,0]
[{"$f":"IF(INTRO!$E$39=\"Non-endemic\",\" \",IF(COUNTRY_INFO!A112=0,\" \",COUNTRY_INFO!A112))","v":"Uganda"},{"$f":"IF(INTRO!$E$39=\"Non-endemic\",\" \",IF(COUNTRY_INFO!B112=0,\" \",COUNTRY_INFO!B112))","v":"NORTHERN"},{"$f":"IF(INTRO!$E$39=\"Non-endemic\",\" \",IF(COUNTRY_INFO!C112=0,\" \",COUNTRY_INFO!C112))","v":"OMORO"},{"$f":"IF(INTRO!$E$39=\"Non-endemic\",0,IF(INTRO!$E$39=\"Endemic but PC is not required\",IF(COUNTRY_INFO!$H112=1,COUNTRY_INFO!F112+COUNTRY_INFO!G112,0),IF(COUNTRY_INFO!$H112=1,COUNTRY_INFO!F112+COUNTRY_INFO!G112,IF(COUNTRY_INFO!$I112=1,IF(COUNTRY_INFO!M112>=(COUNTRY_INFO!F112+COUNTRY_INFO!G112),COUNTRY_INFO!F112+COUNTRY_INFO!G112,COUNTRY_INFO!$M112),0))))","v":163229},{"$f":"IF(AND(INTRO!$E$39=\"Non-endemic\",INTRO!$E$37=\"Non-endemic\"),\"Not required\",IF(INTRO!$E$39=\"Non-endemic\",\"Treat with DEC\",COUNTRY_INFO!P112))","v":1},{"$f":"IF(INTRO!$E$39<>\"Non-endemic\",COUNTRY_INFO!Q112,\"Not required\")","v":2},{"$f":"IF(COUNTRY_INFO!H112=1, IF($E112=1,$D112, 0),0)","v":163229},{"$f":"IF(INTRO!$E$39<>\"Endemic\",0, IF(AND(COUNTRY_INFO!$I112=1,$F112<>0),IF(COUNTRY_INFO!M112>=(COUNTRY_INFO!F112+COUNTRY_INFO!G112),COUNTRY_INFO!F112+COUNTRY_INFO!G112,COUNTRY_INFO!$M112), 0))","v":163229},163229,163229,0,457041.19999999995,457041.19999999995,914082.39999999991,0,914082.39999999991,1829]
[{"$f":"IF(INTRO!$E$39=\"Non-endemic\",\" \",IF(COUNTRY_INFO!A113=0,\" \",COUNTRY_INFO!A113))","v":"Uganda"},{"$f":"IF(INTRO!$E$39=\"Non-endemic\",\" \",IF(COUNTRY_INFO!B113=0,\" \",COUNTRY_INFO!B113))","v":"NORTHERN"},{"$f":"IF(INTRO!$E$39=\"Non-endemic\",\" \",IF(COUNTRY_INFO!C113=0,\" \",COUNTRY_INFO!C113))","v":"OTUKE"},{"$f":"IF(INTRO!$E$39=\"Non-endemic\",0,IF(INTRO!$E$39=\"Endemic but PC is not required\",IF(COUNTRY_INFO!$H113=1,COUNTRY_INFO!F113+COUNTRY_INFO!G113,0),IF(COUNTRY_INFO!$H113=1,COUNTRY_INFO!F113+COUNTRY_INFO!G113,IF(COUNTRY_INFO!$I113=1,IF(COUNTRY_INFO!M113>=(COUNTRY_INFO!F113+COUNTRY_INFO!G113),COUNTRY_INFO!F113+COUNTRY_INFO!G113,COUNTRY_INFO!$M113),0))))","v":0},{"$f":"IF(AND(INTRO!$E$39=\"Non-endemic\",INTRO!$E$37=\"Non-endemic\"),\"Not required\",IF(INTRO!$E$39=\"Non-endemic\",\"Treat with DEC\",COUNTRY_INFO!P113))","v":0},{"$f":"IF(INTRO!$E$39<>\"Non-endemic\",COUNTRY_INFO!Q113,\"Not required\")","v":0},{"$f":"IF(COUNTRY_INFO!H113=1, IF($E113=1,$D113, 0),0)","v":0},{"$f":"IF(INTRO!$E$39<>\"Endemic\",0, IF(AND(COUNTRY_INFO!$I113=1,$F113<>0),IF(COUNTRY_INFO!M113>=(COUNTRY_INFO!F113+COUNTRY_INFO!G113),COUNTRY_INFO!F113+COUNTRY_INFO!G113,COUNTRY_INFO!$M113), 0))","v":0},0,0,0,0,0,0,0,0,0]
[{"$f":"IF(INTRO!$E$39=\"Non-endemic\",\" \",IF(COUNTRY_INFO!A114=0,\" \",COUNTRY_INFO!A114))","v":"Uganda"},{"$f":"IF(INTRO!$E$39=\"Non-endemic\",\" \",IF(COUNTRY_INFO!B114=0,\" \",COUNTRY_INFO!B114))","v":"NORTHERN"},{"$f":"IF(INTRO!$E$39=\"Non-endemic\",\" \",IF(COUNTRY_INFO!C114=0,\" \",COUNTRY_INFO!C114))","v":"OYAM"},{"$f":"IF(INTRO!$E$39=\"Non-endemic\",0,IF(INTRO!$E$39=\"Endemic but PC is not required\",IF(COUNTRY_INFO!$H114=1,COUNTRY_INFO!F114+COUNTRY_INFO!G114,0),IF(COUNTRY_INFO!$H114=1,COUNTRY_INFO!F114+COUNTRY_INFO!G114,IF(COUNTRY_INFO!$I114=1,IF(COUNTRY_INFO!M114>=(COUNTRY_INFO!F114+COUNTRY_INFO!G114),COUNTRY_INFO!F114+COUNTRY_INFO!G114,COUNTRY_INFO!$M114),0))))","v":24556},{"$f":"IF(AND(INTRO!$E$39=\"Non-endemic\",INTRO!$E$37=\"Non-endemic\"),\"Not required\",IF(INTRO!$E$39=\"Non-endemic\",\"Treat with DEC\",COUNTRY_INFO!P114))","v":0},{"$f":"IF(INTRO!$E$39<>\"Non-endemic\",COUNTRY_INFO!Q114,\"Not required\")","v":2},{"$f":"IF(COUNTRY_INFO!H114=1, IF($E114=1,$D114, 0),0)","v":0},{"$f":"IF(INTRO!$E$39<>\"Endemic\",0, IF(AND(COUNTRY_INFO!$I114=1,$F114<>0),IF(COUNTRY_INFO!M114>=(COUNTRY_INFO!F114+COUNTRY_INFO!G114),COUNTRY_INFO!F114+COUNTRY_INFO!G114,COUNTRY_INFO!$M114), 0))","v":24556},20210,20210,0,113176,0,113176,0,113176,227]
[{"$f":"IF(INTRO!$E$39=\"Non-endemic\",\" \",IF(COUNTRY_INFO!A115=0,\" \",COUNTRY_INFO!A115))","v":"Uganda"},{"$f":"IF(INTRO!$E$39=\"Non-endemic\",\" \",IF(COUNTRY_INFO!B115=0,\" \",COUNTRY_INFO!B115))","v":"NORTHERN"},{"$f":"IF(INTRO!$E$39=\"Non-endemic\",\" \",IF(COUNTRY_INFO!C115=0,\" \",COUNTRY_INFO!C115))","v":"PADER"},{"$f":"IF(INTRO!$E$39=\"Non-endemic\",0,IF(INTRO!$E$39=\"Endemic but PC is not required\",IF(COUNTRY_INFO!$H115=1,COUNTRY_INFO!F115+COUNTRY_INFO!G115,0),IF(COUNTRY_INFO!$H115=1,COUNTRY_INFO!F115+COUNTRY_INFO!G115,IF(COUNTRY_INFO!$I115=1,IF(COUNTRY_INFO!M115>=(COUNTRY_INFO!F115+COUNTRY_INFO!G115),COUNTRY_INFO!F115+COUNTRY_INFO!G115,COUNTRY_INFO!$M115),0))))","v":200673},{"$f":"IF(AND(INTRO!$E$39=\"Non-endemic\",INTRO!$E$37=\"Non-endemic\"),\"Not required\",IF(INTRO!$E$39=\"Non-endemic\",\"Treat with DEC\",COUNTRY_INFO!P115))","v":0},{"$f":"IF(INTRO!$E$39<>\"Non-endemic\",COUNTRY_INFO!Q115,\"Not required\")","v":2},{"$f":"IF(COUNTRY_INFO!H115=1, IF($E115=1,$D115, 0),0)","v":0},{"$f":"IF(INTRO!$E$39<>\"Endemic\",0, IF(AND(COUNTRY_INFO!$I115=1,$F115<>0),IF(COUNTRY_INFO!M115>=(COUNTRY_INFO!F115+COUNTRY_INFO!G115),COUNTRY_INFO!F115+COUNTRY_INFO!G115,COUNTRY_INFO!$M115), 0))","v":200673},165154,165154,0,924862.39999999991,0,924862.39999999991,0,924862.39999999991,1850]
[{"$f":"IF(INTRO!$E$39=\"Non-endemic\",\" \",IF(COUNTRY_INFO!A116=0,\" \",COUNTRY_INFO!A116))","v":"Uganda"},{"$f":"IF(INTRO!$E$39=\"Non-endemic\",\" \",IF(COUNTRY_INFO!B116=0,\" \",COUNTRY_INFO!B116))","v":"NORTHERN"},{"$f":"IF(INTRO!$E$39=\"Non-endemic\",\" \",IF(COUNTRY_INFO!C116=0,\" \",COUNTRY_INFO!C116))","v":"PAKWACH"},{"$f":"IF(INTRO!$E$39=\"Non-endemic\",0,IF(INTRO!$E$39=\"Endemic but PC is not required\",IF(COUNTRY_INFO!$H116=1,COUNTRY_INFO!F116+COUNTRY_INFO!G116,0),IF(COUNTRY_INFO!$H116=1,COUNTRY_INFO!F116+COUNTRY_INFO!G116,IF(COUNTRY_INFO!$I116=1,IF(COUNTRY_INFO!M116>=(COUNTRY_INFO!F116+COUNTRY_INFO!G116),COUNTRY_INFO!F116+COUNTRY_INFO!G116,COUNTRY_INFO!$M116),0))))","v":0},{"$f":"IF(AND(INTRO!$E$39=\"Non-endemic\",INTRO!$E$37=\"Non-endemic\"),\"Not required\",IF(INTRO!$E$39=\"Non-endemic\",\"Treat with DEC\",COUNTRY_INFO!P116))","v":0},{"$f":"IF(INTRO!$E$39<>\"Non-endemic\",COUNTRY_INFO!Q116,\"Not required\")","v":2},{"$f":"IF(COUNTRY_INFO!H116=1, IF($E116=1,$D116, 0),0)","v":0},{"$f":"IF(INTRO!$E$39<>\"Endemic\",0, IF(AND(COUNTRY_INFO!$I116=1,$F116<>0),IF(COUNTRY_INFO!M116>=(COUNTRY_INFO!F116+COUNTRY_INFO!G116),COUNTRY_INFO!F116+COUNTRY_INFO!G116,COUNTRY_INFO!$M116), 0))","v":0},0,0,0,0,0,0,0,0,0]
[{"$f":"IF(INTRO!$E$39=\"Non-endemic\",\" \",IF(COUNTRY_INFO!A117=0,\" \",COUNTRY_INFO!A117))","v":"Uganda"},{"$f":"IF(INTRO!$E$39=\"Non-endemic\",\" \",IF(COUNTRY_INFO!B117=0,\" \",COUNTRY_INFO!B117))","v":"EASTERN"},{"$f":"IF(INTRO!$E$39=\"Non-endemic\",\" \",IF(COUNTRY_INFO!C117=0,\" \",COUNTRY_INFO!C117))","v":"PALLISA"},{"$f":"IF(INTRO!$E$39=\"Non-endemic\",0,IF(INTRO!$E$39=\"Endemic but PC is not required\",IF(COUNTRY_INFO!$H117=1,COUNTRY_INFO!F117+COUNTRY_INFO!G117,0),IF(COUNTRY_INFO!$H117=1,COUNTRY_INFO!F117+COUNTRY_INFO!G117,IF(COUNTRY_INFO!$I117=1,IF(COUNTRY_INFO!M117>=(COUNTRY_INFO!F117+COUNTRY_INFO!G117),COUNTRY_INFO!F117+COUNTRY_INFO!G117,COUNTRY_INFO!$M117),0))))","v":0},{"$f":"IF(AND(INTRO!$E$39=\"Non-endemic\",INTRO!$E$37=\"Non-endemic\"),\"Not required\",IF(INTRO!$E$39=\"Non-endemic\",\"Treat with DEC\",COUNTRY_INFO!P117))","v":0},{"$f":"IF(INTRO!$E$39<>\"Non-endemic\",COUNTRY_INFO!Q117,\"Not required\")","v":0},{"$f":"IF(COUNTRY_INFO!H117=1, IF($E117=1,$D117, 0),0)","v":0},{"$f":"IF(INTRO!$E$39<>\"Endemic\",0, IF(AND(COUNTRY_INFO!$I117=1,$F117<>0),IF(COUNTRY_INFO!M117>=(COUNTRY_INFO!F117+COUNTRY_INFO!G117),COUNTRY_INFO!F117+COUNTRY_INFO!G117,COUNTRY_INFO!$M117), 0))","v":0},0,0,0,0,0,0,0,0,0]
[{"$f":"IF(INTRO!$E$39=\"Non-endemic\",\" \",IF(COUNTRY_INFO!A118=0,\" \",COUNTRY_INFO!A118))","v":"Uganda"},{"$f":"IF(INTRO!$E$39=\"Non-endemic\",\" \",IF(COUNTRY_INFO!B118=0,\" \",COUNTRY_INFO!B118))","v":"CENTRAL"},{"$f":"IF(INTRO!$E$39=\"Non-endemic\",\" \",IF(COUNTRY_INFO!C118=0,\" \",COUNTRY_INFO!C118))","v":"RAKAI"},{"$f":"IF(INTRO!$E$39=\"Non-endemic\",0,IF(INTRO!$E$39=\"Endemic but PC is not required\",IF(COUNTRY_INFO!$H118=1,COUNTRY_INFO!F118+COUNTRY_INFO!G118,0),IF(COUNTRY_INFO!$H118=1,COUNTRY_INFO!F118+COUNTRY_INFO!G118,IF(COUNTRY_INFO!$I118=1,IF(COUNTRY_INFO!M118>=(COUNTRY_INFO!F118+COUNTRY_INFO!G118),COUNTRY_INFO!F118+COUNTRY_INFO!G118,COUNTRY_INFO!$M118),0))))","v":0},{"$f":"IF(AND(INTRO!$E$39=\"Non-endemic\",INTRO!$E$37=\"Non-endemic\"),\"Not required\",IF(INTRO!$E$39=\"Non-endemic\",\"Treat with DEC\",COUNTRY_INFO!P118))","v":0},{"$f":"IF(INTRO!$E$39<>\"Non-endemic\",COUNTRY_INFO!Q118,\"Not required\")","v":0},{"$f":"IF(COUNTRY_INFO!H118=1, IF($E118=1,$D118, 0),0)","v":0},{"$f":"IF(INTRO!$E$39<>\"Endemic\",0, IF(AND(COUNTRY_INFO!$I118=1,$F118<>0),IF(COUNTRY_INFO!M118>=(COUNTRY_INFO!F118+COUNTRY_INFO!G118),COUNTRY_INFO!F118+COUNTRY_INFO!G118,COUNTRY_INFO!$M118), 0))","v":0},0,0,0,0,0,0,0,0,0]
[{"$f":"IF(INTRO!$E$39=\"Non-endemic\",\" \",IF(COUNTRY_INFO!A119=0,\" \",COUNTRY_INFO!A119))","v":"Uganda"},{"$f":"IF(INTRO!$E$39=\"Non-endemic\",\" \",IF(COUNTRY_INFO!B119=0,\" \",COUNTRY_INFO!B119))","v":"WESTERN"},{"$f":"IF(INTRO!$E$39=\"Non-endemic\",\" \",IF(COUNTRY_INFO!C119=0,\" \",COUNTRY_INFO!C119))","v":"RUBANDA"},{"$f":"IF(INTRO!$E$39=\"Non-endemic\",0,IF(INTRO!$E$39=\"Endemic but PC is not required\",IF(COUNTRY_INFO!$H119=1,COUNTRY_INFO!F119+COUNTRY_INFO!G119,0),IF(COUNTRY_INFO!$H119=1,COUNTRY_INFO!F119+COUNTRY_INFO!G119,IF(COUNTRY_INFO!$I119=1,IF(COUNTRY_INFO!M119>=(COUNTRY_INFO!F119+COUNTRY_INFO!G119),COUNTRY_INFO!F119+COUNTRY_INFO!G119,COUNTRY_INFO!$M119),0))))","v":34280},{"$f":"IF(AND(INTRO!$E$39=\"Non-endemic\",INTRO!$E$37=\"Non-endemic\"),\"Not required\",IF(INTRO!$E$39=\"Non-endemic\",\"Treat with DEC\",COUNTRY_INFO!P119))","v":0},{"$f":"IF(INTRO!$E$39<>\"Non-endemic\",COUNTRY_INFO!Q119,\"Not required\")","v":2},{"$f":"IF(COUNTRY_INFO!H119=1, IF($E119=1,$D119, 0),0)","v":0},{"$f":"IF(INTRO!$E$39<>\"Endemic\",0, IF(AND(COUNTRY_INFO!$I119=1,$F119<>0),IF(COUNTRY_INFO!M119>=(COUNTRY_INFO!F119+COUNTRY_INFO!G119),COUNTRY_INFO!F119+COUNTRY_INFO!G119,COUNTRY_INFO!$M119), 0))","v":34280},28212,28212,0,157987.19999999998,0,157987.19999999998,0,157987.19999999998,316]
[{"$f":"IF(INTRO!$E$39=\"Non-endemic\",\" \",IF(COUNTRY_INFO!A120=0,\" \",COUNTRY_INFO!A120))","v":"Uganda"},{"$f":"IF(INTRO!$E$39=\"Non-endemic\",\" \",IF(COUNTRY_INFO!B120=0,\" \",COUNTRY_INFO!B120))","v":"WESTERN"},{"$f":"IF(INTRO!$E$39=\"Non-endemic\",\" \",IF(COUNTRY_INFO!C120=0,\" \",COUNTRY_INFO!C120))","v":"RUBIRIZI"},{"$f":"IF(INTRO!$E$39=\"Non-endemic\",0,IF(INTRO!$E$39=\"Endemic but PC is not required\",IF(COUNTRY_INFO!$H120=1,COUNTRY_INFO!F120+COUNTRY_INFO!G120,0),IF(COUNTRY_INFO!$H120=1,COUNTRY_INFO!F120+COUNTRY_INFO!G120,IF(COUNTRY_INFO!$I120=1,IF(COUNTRY_INFO!M120>=(COUNTRY_INFO!F120+COUNTRY_INFO!G120),COUNTRY_INFO!F120+COUNTRY_INFO!G120,COUNTRY_INFO!$M120),0))))","v":0},{"$f":"IF(AND(INTRO!$E$39=\"Non-endemic\",INTRO!$E$37=\"Non-endemic\"),\"Not required\",IF(INTRO!$E$39=\"Non-endemic\",\"Treat with DEC\",COUNTRY_INFO!P120))","v":0},{"$f":"IF(INTRO!$E$39<>\"Non-endemic\",COUNTRY_INFO!Q120,\"Not required\")","v":0},{"$f":"IF(COUNTRY_INFO!H120=1, IF($E120=1,$D120, 0),0)","v":0},{"$f":"IF(INTRO!$E$39<>\"Endemic\",0, IF(AND(COUNTRY_INFO!$I120=1,$F120<>0),IF(COUNTRY_INFO!M120>=(COUNTRY_INFO!F120+COUNTRY_INFO!G120),COUNTRY_INFO!F120+COUNTRY_INFO!G120,COUNTRY_INFO!$M120), 0))","v":0},0,0,0,0,0,0,0,0,0]
[{"$f":"IF(INTRO!$E$39=\"Non-endemic\",\" \",IF(COUNTRY_INFO!A121=0,\" \",COUNTRY_INFO!A121))","v":"Uganda"},{"$f":"IF(INTRO!$E$39=\"Non-endemic\",\" \",IF(COUNTRY_INFO!B121=0,\" \",COUNTRY_INFO!B121))","v":"Western"},{"$f":"IF(INTRO!$E$39=\"Non-endemic\",\" \",IF(COUNTRY_INFO!C121=0,\" \",COUNTRY_INFO!C121))","v":"RUKIGA"},{"$f":"IF(INTRO!$E$39=\"Non-endemic\",0,IF(INTRO!$E$39=\"Endemic but PC is not required\",IF(COUNTRY_INFO!$H121=1,COUNTRY_INFO!F121+COUNTRY_INFO!G121,0),IF(COUNTRY_INFO!$H121=1,COUNTRY_INFO!F121+COUNTRY_INFO!G121,IF(COUNTRY_INFO!$I121=1,IF(COUNTRY_INFO!M121>=(COUNTRY_INFO!F121+COUNTRY_INFO!G121),COUNTRY_INFO!F121+COUNTRY_INFO!G121,COUNTRY_INFO!$M121),0))))","v":0},{"$f":"IF(AND(INTRO!$E$39=\"Non-endemic\",INTRO!$E$37=\"Non-endemic\"),\"Not required\",IF(INTRO!$E$39=\"Non-endemic\",\"Treat with DEC\",COUNTRY_INFO!P121))","v":0},{"$f":"IF(INTRO!$E$39<>\"Non-endemic\",COUNTRY_INFO!Q121,\"Not required\")","v":0},{"$f":"IF(COUNTRY_INFO!H121=1, IF($E121=1,$D121, 0),0)","v":0},{"$f":"IF(INTRO!$E$39<>\"Endemic\",0, IF(AND(COUNTRY_INFO!$I121=1,$F121<>0),IF(COUNTRY_INFO!M121>=(COUNTRY_INFO!F121+COUNTRY_INFO!G121),COUNTRY_INFO!F121+COUNTRY_INFO!G121,COUNTRY_INFO!$M121), 0))","v":0},0,0,0,0,0,0,0,0,0]
[{"$f":"IF(INTRO!$E$39=\"Non-endemic\",\" \",IF(COUNTRY_INFO!A122=0,\" \",COUNTRY_INFO!A122))","v":"Uganda"},{"$f":"IF(INTRO!$E$39=\"Non-endemic\",\" \",IF(COUNTRY_INFO!B122=0,\" \",COUNTRY_INFO!B122))","v":"WESTERN"},{"$f":"IF(INTRO!$E$39=\"Non-endemic\",\" \",IF(COUNTRY_INFO!C122=0,\" \",COUNTRY_INFO!C122))","v":"RUKUNGIRI"},{"$f":"IF(INTRO!$E$39=\"Non-endemic\",0,IF(INTRO!$E$39=\"Endemic but PC is not required\",IF(COUNTRY_INFO!$H122=1,COUNTRY_INFO!F122+COUNTRY_INFO!G122,0),IF(COUNTRY_INFO!$H122=1,COUNTRY_INFO!F122+COUNTRY_INFO!G122,IF(COUNTRY_INFO!$I122=1,IF(COUNTRY_INFO!M122>=(COUNTRY_INFO!F122+COUNTRY_INFO!G122),COUNTRY_INFO!F122+COUNTRY_INFO!G122,COUNTRY_INFO!$M122),0))))","v":0},{"$f":"IF(AND(INTRO!$E$39=\"Non-endemic\",INTRO!$E$37=\"Non-endemic\"),\"Not required\",IF(INTRO!$E$39=\"Non-endemic\",\"Treat with DEC\",COUNTRY_INFO!P122))","v":0},{"$f":"IF(INTRO!$E$39<>\"Non-endemic\",COUNTRY_INFO!Q122,\"Not required\")","v":0},{"$f":"IF(COUNTRY_INFO!H122=1, IF($E122=1,$D122, 0),0)","v":0},{"$f":"IF(INTRO!$E$39<>\"Endemic\",0, IF(AND(COUNTRY_INFO!$I122=1,$F122<>0),IF(COUNTRY_INFO!M122>=(COUNTRY_INFO!F122+COUNTRY_INFO!G122),COUNTRY_INFO!F122+COUNTRY_INFO!G122,COUNTRY_INFO!$M122), 0))","v":0},0,0,0,0,0,0,0,0,0]
[{"$f":"IF(INTRO!$E$39=\"Non-endemic\",\" \",IF(COUNTRY_INFO!A123=0,\" \",COUNTRY_INFO!A123))","v":"Uganda"},{"$f":"IF(INTRO!$E$39=\"Non-endemic\",\" \",IF(COUNTRY_INFO!B123=0,\" \",COUNTRY_INFO!B123))","v":"CENTRAL"},{"$f":"IF(INTRO!$E$39=\"Non-endemic\",\" \",IF(COUNTRY_INFO!C123=0,\" \",COUNTRY_INFO!C123))","v":"SEMBABULE"},{"$f":"IF(INTRO!$E$39=\"Non-endemic\",0,IF(INTRO!$E$39=\"Endemic but PC is not required\",IF(COUNTRY_INFO!$H123=1,COUNTRY_INFO!F123+COUNTRY_INFO!G123,0),IF(COUNTRY_INFO!$H123=1,COUNTRY_INFO!F123+COUNTRY_INFO!G123,IF(COUNTRY_INFO!$I123=1,IF(COUNTRY_INFO!M123>=(COUNTRY_INFO!F123+COUNTRY_INFO!G123),COUNTRY_INFO!F123+COUNTRY_INFO!G123,COUNTRY_INFO!$M123),0))))","v":0},{"$f":"IF(AND(INTRO!$E$39=\"Non-endemic\",INTRO!$E$37=\"Non-endemic\"),\"Not required\",IF(INTRO!$E$39=\"Non-endemic\",\"Treat with DEC\",COUNTRY_INFO!P123))","v":0},{"$f":"IF(INTRO!$E$39<>\"Non-endemic\",COUNTRY_INFO!Q123,\"Not required\")","v":0},{"$f":"IF(COUNTRY_INFO!H123=1, IF($E123=1,$D123, 0),0)","v":0},{"$f":"IF(INTRO!$E$39<>\"Endemic\",0, IF(AND(COUNTRY_INFO!$I123=1,$F123<>0),IF(COUNTRY_INFO!M123>=(COUNTRY_INFO!F123+COUNTRY_INFO!G123),COUNTRY_INFO!F123+COUNTRY_INFO!G123,COUNTRY_INFO!$M123), 0))","v":0},0,0,0,0,0,0,0,0,0]
[{"$f":"IF(INTRO!$E$39=\"Non-endemic\",\" \",IF(COUNTRY_INFO!A124=0,\" \",COUNTRY_INFO!A124))","v":"Uganda"},{"$f":"IF(INTRO!$E$39=\"Non-endemic\",\" \",IF(COUNTRY_INFO!B124=0,\" \",COUNTRY_INFO!B124))","v":"EASTERN"},{"$f":"IF(INTRO!$E$39=\"Non-endemic\",\" \",IF(COUNTRY_INFO!C124=0,\" \",COUNTRY_INFO!C124))","v":"SERERE"},{"$f":"IF(INTRO!$E$39=\"Non-endemic\",0,IF(INTRO!$E$39=\"Endemic but PC is not required\",IF(COUNTRY_INFO!$H124=1,COUNTRY_INFO!F124+COUNTRY_INFO!G124,0),IF(COUNTRY_INFO!$H124=1,COUNTRY_INFO!F124+COUNTRY_INFO!G124,IF(COUNTRY_INFO!$I124=1,IF(COUNTRY_INFO!M124>=(COUNTRY_INFO!F124+COUNTRY_INFO!G124),COUNTRY_INFO!F124+COUNTRY_INFO!G124,COUNTRY_INFO!$M124),0))))","v":0},{"$f":"IF(AND(INTRO!$E$39=\"Non-endemic\",INTRO!$E$37=\"Non-endemic\"),\"Not required\",IF(INTRO!$E$39=\"Non-endemic\",\"Treat with DEC\",COUNTRY_INFO!P124))","v":0},{"$f":"IF(INTRO!$E$39<>\"Non-endemic\",COUNTRY_INFO!Q124,\"Not required\")","v":0},{"$f":"IF(COUNTRY_INFO!H124=1, IF($E124=1,$D124, 0),0)","v":0},{"$f":"IF(INTRO!$E$39<>\"Endemic\",0, IF(AND(COUNTRY_INFO!$I124=1,$F124<>0),IF(COUNTRY_INFO!M124>=(COUNTRY_INFO!F124+COUNTRY_INFO!G124),COUNTRY_INFO!F124+COUNTRY_INFO!G124,COUNTRY_INFO!$M124), 0))","v":0},0,0,0,0,0,0,0,0,0]
[{"$f":"IF(INTRO!$E$39=\"Non-endemic\",\" \",IF(COUNTRY_INFO!A125=0,\" \",COUNTRY_INFO!A125))","v":"Uganda"},{"$f":"IF(INTRO!$E$39=\"Non-endemic\",\" \",IF(COUNTRY_INFO!B125=0,\" \",COUNTRY_INFO!B125))","v":"WESTERN"},{"$f":"IF(INTRO!$E$39=\"Non-endemic\",\" \",IF(COUNTRY_INFO!C125=0,\" \",COUNTRY_INFO!C125))","v":"SHEEMA"},{"$f":"IF(INTRO!$E$39=\"Non-endemic\",0,IF(INTRO!$E$39=\"Endemic but PC is not required\",IF(COUNTRY_INFO!$H125=1,COUNTRY_INFO!F125+COUNTRY_INFO!G125,0),IF(COUNTRY_INFO!$H125=1,COUNTRY_INFO!F125+COUNTRY_INFO!G125,IF(COUNTRY_INFO!$I125=1,IF(COUNTRY_INFO!M125>=(COUNTRY_INFO!F125+COUNTRY_INFO!G125),COUNTRY_INFO!F125+COUNTRY_INFO!G125,COUNTRY_INFO!$M125),0))))","v":0},{"$f":"IF(AND(INTRO!$E$39=\"Non-endemic\",INTRO!$E$37=\"Non-endemic\"),\"Not required\",IF(INTRO!$E$39=\"Non-endemic\",\"Treat with DEC\",COUNTRY_INFO!P125))","v":0},{"$f":"IF(INTRO!$E$39<>\"Non-endemic\",COUNTRY_INFO!Q125,\"Not required\")","v":0},{"$f":"IF(COUNTRY_INFO!H125=1, IF($E125=1,$D125, 0),0)","v":0},{"$f":"IF(INTRO!$E$39<>\"Endemic\",0, IF(AND(COUNTRY_INFO!$I125=1,$F125<>0),IF(COUNTRY_INFO!M125>=(COUNTRY_INFO!F125+COUNTRY_INFO!G125),COUNTRY_INFO!F125+COUNTRY_INFO!G125,COUNTRY_INFO!$M125), 0))","v":0},0,0,0,0,0,0,0,0,0]
[{"$f":"IF(INTRO!$E$39=\"Non-endemic\",\" \",IF(COUNTRY_INFO!A126=0,\" \",COUNTRY_INFO!A126))","v":"Uganda"},{"$f":"IF(INTRO!$E$39=\"Non-endemic\",\" \",IF(COUNTRY_INFO!B126=0,\" \",COUNTRY_INFO!B126))","v":"EASTERN"},{"$f":"IF(INTRO!$E$39=\"Non-endemic\",\" \",IF(COUNTRY_INFO!C126=0,\" \",COUNTRY_INFO!C126))","v":"SIRONKO"},{"$f":"IF(INTRO!$E$39=\"Non-endemic\",0,IF(INTRO!$E$39=\"Endemic but PC is not required\",IF(COUNTRY_INFO!$H126=1,COUNTRY_INFO!F126+COUNTRY_INFO!G126,0),IF(COUNTRY_INFO!$H126=1,COUNTRY_INFO!F126+COUNTRY_INFO!G126,IF(COUNTRY_INFO!$I126=1,IF(COUNTRY_INFO!M126>=(COUNTRY_INFO!F126+COUNTRY_INFO!G126),COUNTRY_INFO!F126+COUNTRY_INFO!G126,COUNTRY_INFO!$M126),0))))","v":0},{"$f":"IF(AND(INTRO!$E$39=\"Non-endemic\",INTRO!$E$37=\"Non-endemic\"),\"Not required\",IF(INTRO!$E$39=\"Non-endemic\",\"Treat with DEC\",COUNTRY_INFO!P126))","v":0},{"$f":"IF(INTRO!$E$39<>\"Non-endemic\",COUNTRY_INFO!Q126,\"Not required\")","v":0},{"$f":"IF(COUNTRY_INFO!H126=1, IF($E126=1,$D126, 0),0)","v":0},{"$f":"IF(INTRO!$E$39<>\"Endemic\",0, IF(AND(COUNTRY_INFO!$I126=1,$F126<>0),IF(COUNTRY_INFO!M126>=(COUNTRY_INFO!F126+COUNTRY_INFO!G126),COUNTRY_INFO!F126+COUNTRY_INFO!G126,COUNTRY_INFO!$M126), 0))","v":0},0,0,0,0,0,0,0,0,0]
[{"$f":"IF(INTRO!$E$39=\"Non-endemic\",\" \",IF(COUNTRY_INFO!A127=0,\" \",COUNTRY_INFO!A127))","v":"Uganda"},{"$f":"IF(INTRO!$E$39=\"Non-endemic\",\" \",IF(COUNTRY_INFO!B127=0,\" \",COUNTRY_INFO!B127))","v":"EASTERN"},{"$f":"IF(INTRO!$E$39=\"Non-endemic\",\" \",IF(COUNTRY_INFO!C127=0,\" \",COUNTRY_INFO!C127))","v":"SOROTI"},{"$f":"IF(INTRO!$E$39=\"Non-endemic\",0,IF(INTRO!$E$39=\"Endemic but PC is not required\",IF(COUNTRY_INFO!$H127=1,COUNTRY_INFO!F127+COUNTRY_INFO!G127,0),IF(COUNTRY_INFO!$H127=1,COUNTRY_INFO!F127+COUNTRY_INFO!G127,IF(COUNTRY_INFO!$I127=1,IF(COUNTRY_INFO!M127>=(COUNTRY_INFO!F127+COUNTRY_INFO!G127),COUNTRY_INFO!F127+COUNTRY_INFO!G127,COUNTRY_INFO!$M127),0))))","v":0},{"$f":"IF(AND(INTRO!$E$39=\"Non-endemic\",INTRO!$E$37=\"Non-endemic\"),\"Not required\",IF(INTRO!$E$39=\"Non-endemic\",\"Treat with DEC\",COUNTRY_INFO!P127))","v":0},{"$f":"IF(INTRO!$E$39<>\"Non-endemic\",COUNTRY_INFO!Q127,\"Not required\")","v":0},{"$f":"IF(COUNTRY_INFO!H127=1, IF($E127=1,$D127, 0),0)","v":0},{"$f":"IF(INTRO!$E$39<>\"Endemic\",0, IF(AND(COUNTRY_INFO!$I127=1,$F127<>0),IF(COUNTRY_INFO!M127>=(COUNTRY_INFO!F127+COUNTRY_INFO!G127),COUNTRY_INFO!F127+COUNTRY_INFO!G127,COUNTRY_INFO!$M127), 0))","v":0},0,0,0,0,0,0,0,0,0]
[{"$f":"IF(INTRO!$E$39=\"Non-endemic\",\" \",IF(COUNTRY_INFO!A128=0,\" \",COUNTRY_INFO!A128))","v":"Uganda"},{"$f":"IF(INTRO!$E$39=\"Non-endemic\",\" \",IF(COUNTRY_INFO!B128=0,\" \",COUNTRY_INFO!B128))","v":"EASTERN"},{"$f":"IF(INTRO!$E$39=\"Non-endemic\",\" \",IF(COUNTRY_INFO!C128=0,\" \",COUNTRY_INFO!C128))","v":"TORORO"},{"$f":"IF(INTRO!$E$39=\"Non-endemic\",0,IF(INTRO!$E$39=\"Endemic but PC is not required\",IF(COUNTRY_INFO!$H128=1,COUNTRY_INFO!F128+COUNTRY_INFO!G128,0),IF(COUNTRY_INFO!$H128=1,COUNTRY_INFO!F128+COUNTRY_INFO!G128,IF(COUNTRY_INFO!$I128=1,IF(COUNTRY_INFO!M128>=(COUNTRY_INFO!F128+COUNTRY_INFO!G128),COUNTRY_INFO!F128+COUNTRY_INFO!G128,COUNTRY_INFO!$M128),0))))","v":0},{"$f":"IF(AND(INTRO!$E$39=\"Non-endemic\",INTRO!$E$37=\"Non-endemic\"),\"Not required\",IF(INTRO!$E$39=\"Non-endemic\",\"Treat with DEC\",COUNTRY_INFO!P128))","v":0},{"$f":"IF(INTRO!$E$39<>\"Non-endemic\",COUNTRY_INFO!Q128,\"Not required\")","v":0},{"$f":"IF(COUNTRY_INFO!H128=1, IF($E128=1,$D128, 0),0)","v":0},{"$f":"IF(INTRO!$E$39<>\"Endemic\",0, IF(AND(COUNTRY_INFO!$I128=1,$F128<>0),IF(COUNTRY_INFO!M128>=(COUNTRY_INFO!F128+COUNTRY_INFO!G128),COUNTRY_INFO!F128+COUNTRY_INFO!G128,COUNTRY_INFO!$M128), 0))","v":0},0,0,0,0,0,0,0,0,0]
[{"$f":"IF(INTRO!$E$39=\"Non-endemic\",\" \",IF(COUNTRY_INFO!A129=0,\" \",COUNTRY_INFO!A129))","v":"Uganda"},{"$f":"IF(INTRO!$E$39=\"Non-endemic\",\" \",IF(COUNTRY_INFO!B129=0,\" \",COUNTRY_INFO!B129))","v":"CENTRAL"},{"$f":"IF(INTRO!$E$39=\"Non-endemic\",\" \",IF(COUNTRY_INFO!C129=0,\" \",COUNTRY_INFO!C129))","v":"WAKISO"},{"$f":"IF(INTRO!$E$39=\"Non-endemic\",0,IF(INTRO!$E$39=\"Endemic but PC is not required\",IF(COUNTRY_INFO!$H129=1,COUNTRY_INFO!F129+COUNTRY_INFO!G129,0),IF(COUNTRY_INFO!$H129=1,COUNTRY_INFO!F129+COUNTRY_INFO!G129,IF(COUNTRY_INFO!$I129=1,IF(COUNTRY_INFO!M129>=(COUNTRY_INFO!F129+COUNTRY_INFO!G129),COUNTRY_INFO!F129+COUNTRY_INFO!G129,COUNTRY_INFO!$M129),0))))","v":0},{"$f":"IF(AND(INTRO!$E$39=\"Non-endemic\",INTRO!$E$37=\"Non-endemic\"),\"Not required\",IF(INTRO!$E$39=\"Non-endemic\",\"Treat with DEC\",COUNTRY_INFO!P129))","v":0},{"$f":"IF(INTRO!$E$39<>\"Non-endemic\",COUNTRY_INFO!Q129,\"Not required\")","v":0},{"$f":"IF(COUNTRY_INFO!H129=1, IF($E129=1,$D129, 0),0)","v":0},{"$f":"IF(INTRO!$E$39<>\"Endemic\",0, IF(AND(COUNTRY_INFO!$I129=1,$F129<>0),IF(COUNTRY_INFO!M129>=(COUNTRY_INFO!F129+COUNTRY_INFO!G129),COUNTRY_INFO!F129+COUNTRY_INFO!G129,COUNTRY_INFO!$M129), 0))","v":0},0,0,0,0,0,0,0,0,0]
[{"$f":"IF(INTRO!$E$39=\"Non-endemic\",\" \",IF(COUNTRY_INFO!A130=0,\" \",COUNTRY_INFO!A130))","v":"Uganda"},{"$f":"IF(INTRO!$E$39=\"Non-endemic\",\" \",IF(COUNTRY_INFO!B130=0,\" \",COUNTRY_INFO!B130))","v":"NORTHERN"},{"$f":"IF(INTRO!$E$39=\"Non-endemic\",\" \",IF(COUNTRY_INFO!C130=0,\" \",COUNTRY_INFO!C130))","v":"YUMBE"},{"$f":"IF(INTRO!$E$39=\"Non-endemic\",0,IF(INTRO!$E$39=\"Endemic but PC is not required\",IF(COUNTRY_INFO!$H130=1,COUNTRY_INFO!F130+COUNTRY_INFO!G130,0),IF(COUNTRY_INFO!$H130=1,COUNTRY_INFO!F130+COUNTRY_INFO!G130,IF(COUNTRY_INFO!$I130=1,IF(COUNTRY_INFO!M130>=(COUNTRY_INFO!F130+COUNTRY_INFO!G130),COUNTRY_INFO!F130+COUNTRY_INFO!G130,COUNTRY_INFO!$M130),0))))","v":0},{"$f":"IF(AND(INTRO!$E$39=\"Non-endemic\",INTRO!$E$37=\"Non-endemic\"),\"Not required\",IF(INTRO!$E$39=\"Non-endemic\",\"Treat with DEC\",COUNTRY_INFO!P130))","v":0},{"$f":"IF(INTRO!$E$39<>\"Non-endemic\",COUNTRY_INFO!Q130,\"Not required\")","v":0},{"$f":"IF(COUNTRY_INFO!H130=1, IF($E130=1,$D130, 0),0)","v":0},{"$f":"IF(INTRO!$E$39<>\"Endemic\",0, IF(AND(COUNTRY_INFO!$I130=1,$F130<>0),IF(COUNTRY_INFO!M130>=(COUNTRY_INFO!F130+COUNTRY_INFO!G130),COUNTRY_INFO!F130+COUNTRY_INFO!G130,COUNTRY_INFO!$M130), 0))","v":0},0,0,0,0,0,0,0,0,0]
[{"$f":"IF(INTRO!$E$39=\"Non-endemic\",\" \",IF(COUNTRY_INFO!A131=0,\" \",COUNTRY_INFO!A131))","v":"Uganda"},{"$f":"IF(INTRO!$E$39=\"Non-endemic\",\" \",IF(COUNTRY_INFO!B131=0,\" \",COUNTRY_INFO!B131))","v":"NORTHERN"},{"$f":"IF(INTRO!$E$39=\"Non-endemic\",\" \",IF(COUNTRY_INFO!C131=0,\" \",COUNTRY_INFO!C131))","v":"ZOMBO"},{"$f":"IF(INTRO!$E$39=\"Non-endemic\",0,IF(INTRO!$E$39=\"Endemic but PC is not required\",IF(COUNTRY_INFO!$H131=1,COUNTRY_INFO!F131+COUNTRY_INFO!G131,0),IF(COUNTRY_INFO!$H131=1,COUNTRY_INFO!F131+COUNTRY_INFO!G131,IF(COUNTRY_INFO!$I131=1,IF(COUNTRY_INFO!M131>=(COUNTRY_INFO!F131+COUNTRY_INFO!G131),COUNTRY_INFO!F131+COUNTRY_INFO!G131,COUNTRY_INFO!$M131),0))))","v":229391},{"$f":"IF(AND(INTRO!$E$39=\"Non-endemic\",INTRO!$E$37=\"Non-endemic\"),\"Not required\",IF(INTRO!$E$39=\"Non-endemic\",\"Treat with DEC\",COUNTRY_INFO!P131))","v":0},{"$f":"IF(INTRO!$E$39<>\"Non-endemic\",COUNTRY_INFO!Q131,\"Not required\")","v":2},{"$f":"IF(COUNTRY_INFO!H131=1, IF($E131=1,$D131, 0),0)","v":0},{"$f":"IF(INTRO!$E$39<>\"Endemic\",0, IF(AND(COUNTRY_INFO!$I131=1,$F131<>0),IF(COUNTRY_INFO!M131>=(COUNTRY_INFO!F131+COUNTRY_INFO!G131),COUNTRY_INFO!F131+COUNTRY_INFO!G131,COUNTRY_INFO!$M131), 0))","v":229391},213701,213701,0,1196725.5999999999,0,1196725.5999999999,0,1196725.5999999999,2394]
[{"$f":"IF(INTRO!$E$39=\"Non-endemic\",\" \",IF(COUNTRY_INFO!A132=0,\" \",COUNTRY_INFO!A132))","v":"Uganda"},{"$f":"IF(INTRO!$E$39=\"Non-endemic\",\" \",IF(COUNTRY_INFO!B132=0,\" \",COUNTRY_INFO!B132))","v":"NORTHERN"},{"$f":"IF(INTRO!$E$39=\"Non-endemic\",\" \",IF(COUNTRY_INFO!C132=0,\" \",COUNTRY_INFO!C132))","v":"REFUGEE"},{"$f":"IF(INTRO!$E$39=\"Non-endemic\",0,IF(INTRO!$E$39=\"Endemic but PC is not required\",IF(COUNTRY_INFO!$H132=1,COUNTRY_INFO!F132+COUNTRY_INFO!G132,0),IF(COUNTRY_INFO!$H132=1,COUNTRY_INFO!F132+COUNTRY_INFO!G132,IF(COUNTRY_INFO!$I132=1,IF(COUNTRY_INFO!M132>=(COUNTRY_INFO!F132+COUNTRY_INFO!G132),COUNTRY_INFO!F132+COUNTRY_INFO!G132,COUNTRY_INFO!$M132),0))))","v":164600},{"$f":"IF(AND(INTRO!$E$39=\"Non-endemic\",INTRO!$E$37=\"Non-endemic\"),\"Not required\",IF(INTRO!$E$39=\"Non-endemic\",\"Treat with DEC\",COUNTRY_INFO!P132))","v":0},{"$f":"IF(INTRO!$E$39<>\"Non-endemic\",COUNTRY_INFO!Q132,\"Not required\")","v":2},{"$f":"IF(COUNTRY_INFO!H132=1, IF($E132=1,$D132, 0),0)","v":0},{"$f":"IF(INTRO!$E$39<>\"Endemic\",0, IF(AND(COUNTRY_INFO!$I132=1,$F132<>0),IF(COUNTRY_INFO!M132>=(COUNTRY_INFO!F132+COUNTRY_INFO!G132),COUNTRY_INFO!F132+COUNTRY_INFO!G132,COUNTRY_INFO!$M132), 0))","v":164600},null,164600,0,921759.99999999988,0,921759.99999999988,0,921759.99999999988,1844]
[{"$f":"IF(INTRO!$E$39=\"Non-endemic\",\" \",IF(COUNTRY_INFO!A133=0,\" \",COUNTRY_INFO!A133))","v":"Uganda"},{"$f":"IF(INTRO!$E$39=\"Non-endemic\",\" \",IF(COUNTRY_INFO!B133=0,\" \",COUNTRY_INFO!B133))","v":" "},{"$f":"IF(INTRO!$E$39=\"Non-endemic\",\" \",IF(COUNTRY_INFO!C133=0,\" \",COUNTRY_INFO!C133))","v":" "},{"$f":"IF(INTRO!$E$39=\"Non-endemic\",0,IF(INTRO!$E$39=\"Endemic but PC is not required\",IF(COUNTRY_INFO!$H133=1,COUNTRY_INFO!F133+COUNTRY_INFO!G133,0),IF(COUNTRY_INFO!$H133=1,COUNTRY_INFO!F133+COUNTRY_INFO!G133,IF(COUNTRY_INFO!$I133=1,IF(COUNTRY_INFO!M133>=(COUNTRY_INFO!F133+COUNTRY_INFO!G133),COUNTRY_INFO!F133+COUNTRY_INFO!G133,COUNTRY_INFO!$M133),0))))","v":0},{"$f":"IF(AND(INTRO!$E$39=\"Non-endemic\",INTRO!$E$37=\"Non-endemic\"),\"Not required\",IF(INTRO!$E$39=\"Non-endemic\",\"Treat with DEC\",COUNTRY_INFO!P133))","v":0},{"$f":"IF(INTRO!$E$39<>\"Non-endemic\",COUNTRY_INFO!Q133,\"Not required\")","v":0},{"$f":"IF(COUNTRY_INFO!H133=1, IF($E133=1,$D133, 0),0)","v":0},{"$f":"IF(INTRO!$E$39<>\"Endemic\",0, IF(AND(COUNTRY_INFO!$I133=1,$F133<>0),IF(COUNTRY_INFO!M133>=(COUNTRY_INFO!F133+COUNTRY_INFO!G133),COUNTRY_INFO!F133+COUNTRY_INFO!G133,COUNTRY_INFO!$M133), 0))","v":0},null,0,0,0,0,0,null,0,0]
[{"$f":"IF(INTRO!$E$39=\"Non-endemic\",\" \",IF(COUNTRY_INFO!A134=0,\" \",COUNTRY_INFO!A134))","v":"Uganda"},{"$f":"IF(INTRO!$E$39=\"Non-endemic\",\" \",IF(COUNTRY_INFO!B134=0,\" \",COUNTRY_INFO!B134))","v":" "},{"$f":"IF(INTRO!$E$39=\"Non-endemic\",\" \",IF(COUNTRY_INFO!C134=0,\" \",COUNTRY_INFO!C134))","v":" "},{"$f":"IF(INTRO!$E$39=\"Non-endemic\",0,IF(INTRO!$E$39=\"Endemic but PC is not required\",IF(COUNTRY_INFO!$H134=1,COUNTRY_INFO!F134+COUNTRY_INFO!G134,0),IF(COUNTRY_INFO!$H134=1,COUNTRY_INFO!F134+COUNTRY_INFO!G134,IF(COUNTRY_INFO!$I134=1,IF(COUNTRY_INFO!M134>=(COUNTRY_INFO!F134+COUNTRY_INFO!G134),COUNTRY_INFO!F134+COUNTRY_INFO!G134,COUNTRY_INFO!$M134),0))))","v":0},{"$f":"IF(AND(INTRO!$E$39=\"Non-endemic\",INTRO!$E$37=\"Non-endemic\"),\"Not required\",IF(INTRO!$E$39=\"Non-endemic\",\"Treat with DEC\",COUNTRY_INFO!P134))","v":0},{"$f":"IF(INTRO!$E$39<>\"Non-endemic\",COUNTRY_INFO!Q134,\"Not required\")","v":0},{"$f":"IF(COUNTRY_INFO!H134=1, IF($E134=1,$D134, 0),0)","v":0},{"$f":"IF(INTRO!$E$39<>\"Endemic\",0, IF(AND(COUNTRY_INFO!$I134=1,$F134<>0),IF(COUNTRY_INFO!M134>=(COUNTRY_INFO!F134+COUNTRY_INFO!G134),COUNTRY_INFO!F134+COUNTRY_INFO!G134,COUNTRY_INFO!$M134), 0))","v":0},null,0,0,0,0,0,null,0,0]
[{"$f":"IF(INTRO!$E$39=\"Non-endemic\",\" \",IF(COUNTRY_INFO!A135=0,\" \",COUNTRY_INFO!A135))","v":"Uganda"},{"$f":"IF(INTRO!$E$39=\"Non-endemic\",\" \",IF(COUNTRY_INFO!B135=0,\" \",COUNTRY_INFO!B135))","v":" "},{"$f":"IF(INTRO!$E$39=\"Non-endemic\",\" \",IF(COUNTRY_INFO!C135=0,\" \",COUNTRY_INFO!C135))","v":" "},{"$f":"IF(INTRO!$E$39=\"Non-endemic\",0,IF(INTRO!$E$39=\"Endemic but PC is not required\",IF(COUNTRY_INFO!$H135=1,COUNTRY_INFO!F135+COUNTRY_INFO!G135,0),IF(COUNTRY_INFO!$H135=1,COUNTRY_INFO!F135+COUNTRY_INFO!G135,IF(COUNTRY_INFO!$I135=1,IF(COUNTRY_INFO!M135>=(COUNTRY_INFO!F135+COUNTRY_INFO!G135),COUNTRY_INFO!F135+COUNTRY_INFO!G135,COUNTRY_INFO!$M135),0))))","v":0},{"$f":"IF(AND(INTRO!$E$39=\"Non-endemic\",INTRO!$E$37=\"Non-endemic\"),\"Not required\",IF(INTRO!$E$39=\"Non-endemic\",\"Treat with DEC\",COUNTRY_INFO!P135))","v":0},{"$f":"IF(INTRO!$E$39<>\"Non-endemic\",COUNTRY_INFO!Q135,\"Not required\")","v":0},{"$f":"IF(COUNTRY_INFO!H135=1, IF($E135=1,$D135, 0),0)","v":0},{"$f":"IF(INTRO!$E$39<>\"Endemic\",0, IF(AND(COUNTRY_INFO!$I135=1,$F135<>0),IF(COUNTRY_INFO!M135>=(COUNTRY_INFO!F135+COUNTRY_INFO!G135),COUNTRY_INFO!F135+COUNTRY_INFO!G135,COUNTRY_INFO!$M135), 0))","v":0},null,0,0,0,0,0,null,0,0]
[{"$f":"IF(INTRO!$E$39=\"Non-endemic\",\" \",IF(COUNTRY_INFO!A136=0,\" \",COUNTRY_INFO!A136))","v":"Uganda"},{"$f":"IF(INTRO!$E$39=\"Non-endemic\",\" \",IF(COUNTRY_INFO!B136=0,\" \",COUNTRY_INFO!B136))","v":" "},{"$f":"IF(INTRO!$E$39=\"Non-endemic\",\" \",IF(COUNTRY_INFO!C136=0,\" \",COUNTRY_INFO!C136))","v":" "},{"$f":"IF(INTRO!$E$39=\"Non-endemic\",0,IF(INTRO!$E$39=\"Endemic but PC is not required\",IF(COUNTRY_INFO!$H136=1,COUNTRY_INFO!F136+COUNTRY_INFO!G136,0),IF(COUNTRY_INFO!$H136=1,COUNTRY_INFO!F136+COUNTRY_INFO!G136,IF(COUNTRY_INFO!$I136=1,IF(COUNTRY_INFO!M136>=(COUNTRY_INFO!F136+COUNTRY_INFO!G136),COUNTRY_INFO!F136+COUNTRY_INFO!G136,COUNTRY_INFO!$M136),0))))","v":0},{"$f":"IF(AND(INTRO!$E$39=\"Non-endemic\",INTRO!$E$37=\"Non-endemic\"),\"Not required\",IF(INTRO!$E$39=\"Non-endemic\",\"Treat with DEC\",COUNTRY_INFO!P136))","v":0},{"$f":"IF(INTRO!$E$39<>\"Non-endemic\",COUNTRY_INFO!Q136,\"Not required\")","v":0},{"$f":"IF(COUNTRY_INFO!H136=1, IF($E136=1,$D136, 0),0)","v":0},{"$f":"IF(INTRO!$E$39<>\"Endemic\",0, IF(AND(COUNTRY_INFO!$I136=1,$F136<>0),IF(COUNTRY_INFO!M136>=(COUNTRY_INFO!F136+COUNTRY_INFO!G136),COUNTRY_INFO!F136+COUNTRY_INFO!G136,COUNTRY_INFO!$M136), 0))","v":0},null,0,0,0,0,0,null,0,0]
[{"$f":"IF(INTRO!$E$39=\"Non-endemic\",\" \",IF(COUNTRY_INFO!A137=0,\" \",COUNTRY_INFO!A137))","v":"Uganda"},{"$f":"IF(INTRO!$E$39=\"Non-endemic\",\" \",IF(COUNTRY_INFO!B137=0,\" \",COUNTRY_INFO!B137))","v":" "},{"$f":"IF(INTRO!$E$39=\"Non-endemic\",\" \",IF(COUNTRY_INFO!C137=0,\" \",COUNTRY_INFO!C137))","v":" "},{"$f":"IF(INTRO!$E$39=\"Non-endemic\",0,IF(INTRO!$E$39=\"Endemic but PC is not required\",IF(COUNTRY_INFO!$H137=1,COUNTRY_INFO!F137+COUNTRY_INFO!G137,0),IF(COUNTRY_INFO!$H137=1,COUNTRY_INFO!F137+COUNTRY_INFO!G137,IF(COUNTRY_INFO!$I137=1,IF(COUNTRY_INFO!M137>=(COUNTRY_INFO!F137+COUNTRY_INFO!G137),COUNTRY_INFO!F137+COUNTRY_INFO!G137,COUNTRY_INFO!$M137),0))))","v":0},{"$f":"IF(AND(INTRO!$E$39=\"Non-endemic\",INTRO!$E$37=\"Non-endemic\"),\"Not required\",IF(INTRO!$E$39=\"Non-endemic\",\"Treat with DEC\",COUNTRY_INFO!P137))","v":0},{"$f":"IF(INTRO!$E$39<>\"Non-endemic\",COUNTRY_INFO!Q137,\"Not required\")","v":0},{"$f":"IF(COUNTRY_INFO!H137=1, IF($E137=1,$D137, 0),0)","v":0},{"$f":"IF(INTRO!$E$39<>\"Endemic\",0, IF(AND(COUNTRY_INFO!$I137=1,$F137<>0),IF(COUNTRY_INFO!M137>=(COUNTRY_INFO!F137+COUNTRY_INFO!G137),COUNTRY_INFO!F137+COUNTRY_INFO!G137,COUNTRY_INFO!$M137), 0))","v":0},null,{"$f":"IF(I137=0,H137,IF(I137>H137,H137,I137))","v":0},{"$f":"IF(G137<J137,0,IF($E137=1, (G137-J137)*2.8, 0))","v":0},0,0,{"$f":"SUM(K137:M137)","v":0},null,0,0]
[{"$f":"IF(INTRO!$E$39=\"Non-endemic\",\" \",IF(COUNTRY_INFO!A138=0,\" \",COUNTRY_INFO!A138))","v":"Uganda"},{"$f":"IF(INTRO!$E$39=\"Non-endemic\",\" \",IF(COUNTRY_INFO!B138=0,\" \",COUNTRY_INFO!B138))","v":" "},{"$f":"IF(INTRO!$E$39=\"Non-endemic\",\" \",IF(COUNTRY_INFO!C138=0,\" \",COUNTRY_INFO!C138))","v":" "},{"$f":"IF(INTRO!$E$39=\"Non-endemic\",0,IF(INTRO!$E$39=\"Endemic but PC is not required\",IF(COUNTRY_INFO!$H138=1,COUNTRY_INFO!F138+COUNTRY_INFO!G138,0),IF(COUNTRY_INFO!$H138=1,COUNTRY_INFO!F138+COUNTRY_INFO!G138,IF(COUNTRY_INFO!$I138=1,IF(COUNTRY_INFO!M138>=(COUNTRY_INFO!F138+COUNTRY_INFO!G138),COUNTRY_INFO!F138+COUNTRY_INFO!G138,COUNTRY_INFO!$M138),0))))","v":0},{"$f":"IF(AND(INTRO!$E$39=\"Non-endemic\",INTRO!$E$37=\"Non-endemic\"),\"Not required\",IF(INTRO!$E$39=\"Non-endemic\",\"Treat with DEC\",COUNTRY_INFO!P138))","v":0},{"$f":"IF(INTRO!$E$39<>\"Non-endemic\",COUNTRY_INFO!Q138,\"Not required\")","v":0},{"$f":"IF(COUNTRY_INFO!H138=1, IF($E138=1,$D138, 0),0)","v":0},{"$f":"IF(INTRO!$E$39<>\"Endemic\",0, IF(AND(COUNTRY_INFO!$I138=1,$F138<>0),IF(COUNTRY_INFO!M138>=(COUNTRY_INFO!F138+COUNTRY_INFO!G138),COUNTRY_INFO!F138+COUNTRY_INFO!G138,COUNTRY_INFO!$M138), 0))","v":0},null,0,0,0,0,0,null,0,0]

{"sheet":"SUMMARY","index":6,"n_rows":92,"n_cols":8,"rows_kept":92,"cut":false,"hidden":false,"merged":[[82,3,82,7],[50,5,50,6],[46,5,46,6],[47,5,47,6],[48,5,48,6],[62,4,62,6],[53,1,53,7],[59,1,59,7],[54,1,54,7],[55,1,55,7],[81,1,81,7],[61,1,61,7],[79,1,79,7],[80,1,80,7],[69,1,69,7],[76,2,76,3],[41,5,41,6],[9,1,10,1],[9,2,9,5],[9,6,9,7],[49,5,49,6],[6,1,6,7],[5,2,5,5],[68,1,68,7],[57,1,57,7],[56,1,56,7],[25,1,25,7],[21,2,24,5],[30,2,30,3],[30,4,30,5],[30,6,30,7],[42,5,42,6],[43,5,43,6],[44,5,44,6],[58,1,58,7],[45,5,45,6],[40,5,40,6],[0,1,0,7],[1,1,1,7],[2,1,2,5],[3,1,3,7],[4,1,4,7],[77,2,77,3],[63,4,63,6],[64,4,64,6],[65,4,65,6],[66,4,66,6],[96,1,96,7],[76,4,76,5],[75,2,75,3],[73,4,73,5],[74,4,74,5],[75,4,75,5],[73,2,73,3],[74,2,74,3],[91,1,91,7],[77,4,77,5],[86,1,86,7],[90,1,90,7],[85,1,85,7],[83,1,83,2],[83,3,83,7],[82,1,82,2]]}
[]
[null,"Joint request for selected PC medicines v.3"]
[]
[null,"This form constitutes an official government request to WHO for the supply of the PC medicines. It can be submitted any time before 15 August of the current year for distribution of medicines during the following year, but at least 6-8 months before the planned PC intervention(s) to allow time for reviewing and approval of the request, placing order, manufacturing PC medicines and shipment to the country."]
[]
[null,"Country",{"$f":"IF(INTRO!$E$33<>0,INTRO!$E$33,\" \")","v":"Uganda"},null,null,null,"Year",{"$f":"IF(INTRO!$E$35<>0,INTRO!$E$35,\" \")","v":2019}]
[]
[null,"Information on PC medicines requested to WHO"]
[]
[null,"PC medicine","Number of tablets",null,null,null,"Total number of bottles"]
[null,null,"Required","In stock","In pipeline","Requested","Required","Requested"]
[null,"Ivermectin",15977956.399999999,0,null,{"$f":"IF(C12>(D12+E12),C12-D12-E12, 0)","v":15977956.399999999},{"$f":"IF($C12=0,0, IF($B12=\"Albendazole for LF\", IF($C12=ALB_MBD!$I$4,ALB_MBD!$U$4,ROUNDUP($C12/200,0)), IF($B12=\"Albendazole for STH (SAC)\", IF($C12=ALB_MBD!$L$4,ALB_MBD!$X$4,ROUNDUP($C12/200,0)), IF($B12=\"Mebendazole (SAC)\", IF($C12=ALB_MBD!$P$4,ALB_MBD!$AA$4,ROUNDUP($C12/150,0)), IF($B12=\"Diethylcarbamazine citrate\", IF($C12=DEC!$J$4,DEC!$M$4,ROUNDUP($C12/1000,0)), IF($B12=\"Praziquantel (SAC)\", IF($C12=PZQ!$O$4,PZQ!$R$4,ROUNDUP($C12/1000,0)), IF($B12=\"Ivermectin\", IF($C12=IVM!$N$4,IVM!$Q$4,$C12/500+0.49),0)))))))","v":31968},{"$f":"IF($F12=0,0,IF(OR($B12=\"Albendazole for LF\",$B12=\"Albendazole for STH (SAC)\"),$G12-ROUNDUP(($E12+$D12)/200,0),IF($B12=\"Ivermectin\",$G12-ROUNDUP(($E12+$D12)/500,0),IF($B12=\"Mebendazole (SAC)\",$G12-ROUNDUP(($E12+$D12)/150,0),$G12-ROUNDUP(($E12+$D12)/1000,0)))))","v":31968}]
[null,"Albendazole for LF",2721071,0,null,2721071,{"$f":"IF($C13=0,0, IF($B13=\"Albendazole for LF\", IF($C13=ALB_MBD!$I$4,ALB_MBD!$U$4,ROUNDUP($C13/200,0)), IF($B13=\"Albendazole for STH (SAC)\", IF($C13=ALB_MBD!$L$4,ALB_MBD!$X$4,ROUNDUP($C13/200,0)), IF($B13=\"Mebendazole (SAC)\", IF($C13=ALB_MBD!$P$4,ALB_MBD!$AA$4,ROUNDUP($C13/150,0)), IF($B13=\"Diethylcarbamazine citrate\", IF($C13=DEC!$J$4,DEC!$M$4,ROUNDUP($C13/1000,0)), IF($B13=\"Praziquantel (SAC)\", IF($C13=PZQ!$O$4,PZQ!$R$4,ROUNDUP($C13/1000,0)), IF($B13=\"Ivermectin\", IF($C13=IVM!$N$4,IVM!$Q$4,$C13/500+0.49),0)))))))","v":13610},13610]
[null,"Albendazole for STH (SAC)",998498,0,null,998498,{"$f":"IF($C14=0,0, IF($B14=\"Albendazole for LF\", IF($C14=ALB_MBD!$I$4,ALB_MBD!$U$4,ROUNDUP($C14/200,0)), IF($B14=\"Albendazole for STH (SAC)\", IF($C14=ALB_MBD!$L$4,ALB_MBD!$X$4,ROUNDUP($C14/200,0)), IF($B14=\"Mebendazole (SAC)\", IF($C14=ALB_MBD!$P$4,ALB_MBD!$AA$4,ROUNDUP($C14/150,0)), IF($B14=\"Diethylcarbamazine citrate\", IF($C14=DEC!$J$4,DEC!$M$4,ROUNDUP($C14/1000,0)), IF($B14=\"Praziquantel (SAC)\", IF($C14=PZQ!$O$4,PZQ!$R$4,ROUNDUP($C14/1000,0)), IF($B14=\"Ivermectin\", IF($C14=IVM!$N$4,IVM!$Q$4,$C14/500+0.49),0)))))))","v":4997},4997]
[null,"Mebendazole (SAC)",22582104,0,null,22582104,{"$f":"IF($C15=0,0, IF($B15=\"Albendazole for LF\", IF($C15=ALB_MBD!$I$4,ALB_MBD!$U$4,ROUNDUP($C15/200,0)), IF($B15=\"Albendazole for STH (SAC)\", IF($C15=ALB_MBD!$L$4,ALB_MBD!$X$4,ROUNDUP($C15/200,0)), IF($B15=\"Mebendazole (SAC)\", IF($C15=ALB_MBD!$P$4,ALB_MBD!$AA$4,ROUNDUP($C15/150,0)), IF($B15=\"Diethylcarbamazine citrate\", IF($C15=DEC!$J$4,DEC!$M$4,ROUNDUP($C15/1000,0)), IF($B15=\"Praziquantel (SAC)\", IF($C15=PZQ!$O$4,PZQ!$R$4,ROUNDUP($C15/1000,0)), IF($B15=\"Ivermectin\", IF($C15=IVM!$N$4,IVM!$Q$4,$C15/500+0.49),0)))))))","v":150595},150595]
[null,"Praziquantel (SAC)",9524237.5,0,null,9524237.5,{"$f":"IF($C16=0,0, IF($B16=\"Albendazole for LF\", IF($C16=ALB_MBD!$I$4,ALB_MBD!$U$4,ROUNDUP($C16/200,0)), IF($B16=\"Albendazole for STH (SAC)\", IF($C16=ALB_MBD!$L$4,ALB_MBD!$X$4,ROUNDUP($C16/200,0)), IF($B16=\"Mebendazole (SAC)\", IF($C16=ALB_MBD!$P$4,ALB_MBD!$AA$4,ROUNDUP($C16/150,0)), IF($B16=\"Diethylcarbamazine citrate\", IF($C16=DEC!$J$4,DEC!$M$4,ROUNDUP($C16/1000,0)), IF($B16=\"Praziquantel (SAC)\", IF($C16=PZQ!$O$4,PZQ!$R$4,ROUNDUP($C16/1000,0)), IF($B16=\"Ivermectin\", IF($C16=IVM!$N$4,IVM!$Q$4,$C16/500+0.49),0)))))))","v":9566},9566]
[null,"Ivermectin",15977956.399999999,0,null,15977956.399999999,{"$f":"IF($C17=0,0, IF($B17=\"Albendazole for LF\", IF($C17=ALB_MBD!$I$4,ALB_MBD!$U$4,ROUNDUP($C17/200,0)), IF($B17=\"Albendazole for STH (SAC)\", IF($C17=ALB_MBD!$L$4,ALB_MBD!$X$4,ROUNDUP($C17/200,0)), IF($B17=\"Mebendazole (SAC)\", IF($C17=ALB_MBD!$P$4,ALB_MBD!$AA$4,ROUNDUP($C17/150,0)), IF($B17=\"Diethylcarbamazine citrate\", IF($C17=DEC!$J$4,DEC!$M$4,ROUNDUP($C17/1000,0)), IF($B17=\"Praziquantel (SAC)\", IF($C17=PZQ!$O$4,PZQ!$R$4,ROUNDUP($C17/1000,0)), IF($B17=\"Ivermectin\", IF($C17=IVM!$N$4,IVM!$Q$4,$C17/500+0.49),0)))))))","v":31968},31968]
[]
[null,"Number of people to be treated with donated medicine ( see User Guide for details )"]
[]
[null,"Disease",null,null,null,null,"Round 1","Round 2"]
[null,"Lymphatic filariasis","These figures are estimated only for targeted \nage groups to be treated with donated \nmedicines in areas where treatment for specific disease is required",null,null,null,2721071," "]
[null,"Onchocerciasis",null,null,null,null,1827342,1827342]
[null,"Schistosomiasis",null,null,null,null,3809695," "]
[null,"Soil-transmitted helminthiases",null,null,null,null,12289550,12289550]
[]
[]
[]
[null,"Information on planned PC interventions"]
[]
[null,"PC medicine","Planned date of the \n1st round of PC",null,"Planned date of the \n2nd round of PC",null,"Date by which the medicine \nshould arrive to the national warehouse"]
[null,"Praziquantel","June",2019,"October",2019,"March",2019]
[null,"Ivermectin","April",2019,"October",2019,"February",2019]
[null,"Mebendazole","April",2019,"October",2019,"February",2019]
[null,"Albendazole for LF","July",2019,"October",2019,"March",2019]
[null,"Albendazole for STH","April",2019,"October",2019,"February",2019]
[]
[]
[null,"Information on PC medicines for treatment of population not targeted with current donation through WHO"]
[]
[null,"PC medicine","Age group","# of people","# of tablets","Specify source",null,"Status"]
[null,"Praziquantel","Adults",{"$f":"PZQ!K4","v":4093363},{"$f":"PZQ!N4","v":12280089},"MERCK SERONO",null,"Required"]
[]
[]
[]
[]
[]
[]
[]
[]
[]
[]
[null,"Checklist"]
[null,"Submission"]
[null,"What should be submitted?"]
[null,"The supply of the requested medicines should be based on up-to-date epidemiological data, specific usage plans, and capacity for implementation. The following checklist ensures that all necessary forms and information are provided to WHO (in electronic format). "]
[null,"Joint request for selected PC medicines"]
[null,"Joint reporting form"]
[null,"PC epidemiological data reporting form"]
[]
[null,"Availability of funding for implementation in the year for which the medicines are requested"]
[]
[null,"Diseases \ntargeted for implementation","Total treatments","Funding secured for","Source",null,null,"Amount"]
[null,{"$f":"B22","v":"Lymphatic filariasis"},{"$f":"SUM(G22:H22)","v":2721071},"All","RTI/ENVISION"]
[null,{"$f":"B23","v":"Onchocerciasis"},{"$f":"SUM(G23:H23)","v":3654684},"All","The Carter Center, SightSavers, RTI/ENVISION"]
[null,{"$f":"B24","v":"Schistosomiasis"},{"$f":"SUM(G24:H24)","v":3809695},"All","RTI/ENVISION, SCI"]
[null,{"$f":"B25","v":"Soil-transmitted helminthiases"},{"$f":"SUM(G25:H25)","v":24579100},null,"MOH, RTI/ENVISION, World Vision"]
[]
[null,"Who should fill in the form? "]
[null,"National NTD coordinator should compile all required information needed to complete the request form. In the absence of such a coordinator, specific programme managers should coordinate their respective part. The final single request must be approved by the Ministry of Health."]
[]
[null,"Information on person(s) who has filled in the form"]
[]
[null,"Title ","Name",null,"Phone",null,"Email","Date"]
[null,"NTD/PC Coordinator","Edirdah Muheki",null,"+256-414 251927",null,"edmuheki@gmail.com","13/07/2019"]
[null,"LF Programme Manager","Gabriel Matwale",null,"+256-414 251927",null,"gkmatwale@gmail.com","13/07/2019"]
[null,"ONCHO Programme Manager","David Ogutu",null,"+256-414 251927",null,"dogutu@gmail.com","13/07/2019"]
[null,"Data Manager","Benjamin Tinkitina",null,"+256-414 251927",null,"tinkitina@gmail.com","13/07/2019"]
[]
[null,"The WHO recommends that all serious adverse events suspected to be associated with use of PC medicines should be reported in accordance with national Pharmacovigilance guidelines. In the absence of a national Pharmacovigilance system, contact the WHO Neglected Tropical Disease department for guidance."]
[null,"The WHO is committed to facilitate PC medicines donation with a free-of-charge supply of a) albendazole, mebendazole and praziquantel to the MoH’s national warehouse; and b) diethylcarbamazine citrate to the entry port/airport of recipient countries."]
[null,"The institution submitting the present request is responsible for a) arranging the offloading of the medicines from the truck and storing it in the national warehouse and subsequent shipment to the final distribution centres; b) for registering the donated medicine, if required, by the relevant national regulatory authorities; and c) for informing about any changes of their PC campaigns (e.g. postpone of the planned MDA date, replacement of NTD coordinator, etc.)."]
[null,"Name and signature of NTD coordinator \nor Ministry of Health representative",null,"EDRIDAH M. TUKEHEBWA "]
[null,"Date:",null,"2018-07-11"]
[]
[null,"Please complete information on shipment and consignee in the worksheet SHIPMENT. Any additional details related to this Request should be provided in the \"Additional information\" box in the worksheet SHIPMENT."]
[null,"Please send the national request (signed and in electronic format) to the concerned WR with copy to:"]
[null,"WHO headquarters","PC_JointForms@who.int"]
[null,"WHO Regional Office","Regional Advisor for NTD"]
[null,"Mectizan donation program","Dr Yao Sodahlon, email: ysodahlon@taskforce.org"]
[]
[null,"Please note that your request will be reviewed by an independent panel before approval. The information in this form, joint reporting form and PC epidemiological data reporting form are essential for WHO to ensure efficient usage of medicines. As part of its ongoing monitoring and evaluation activities, and to meet its contractual obligations to donors and other partners, WHO and its appointed agents reserve the right to periodically inspect stocks of the medicines at country level."]

{"sheet":"SHIPMENT","index":7,"n_rows":48,"n_cols":8,"rows_kept":48,"cut":false,"hidden":false,"merged":[[34,1,34,7],[36,1,36,7],[0,1,0,7],[1,1,1,7],[2,1,2,5],[17,5,17,7],[18,5,18,7],[19,2,19,4],[19,5,19,7],[21,2,21,4],[3,2,3,5],[4,1,4,7],[22,2,22,4],[22,5,22,7],[15,2,15,4],[20,5,20,7],[15,5,15,7],[20,2,20,4],[18,2,18,4],[16,2,16,4],[47,1,56,7],[45,1,45,7],[37,1,37,6],[38,1,38,5],[40,1,40,7],[41,1,41,6],[39,1,39,6],[42,1,42,6],[43,1,43,7],[25,2,25,4],[25,5,25,7],[24,1,24,7],[6,1,6,7],[7,2,7,4],[7,5,7,7],[8,2,8,4],[8,5,8,7],[9,2,9,4],[9,5,9,7],[10,2,10,4],[10,5,10,7],[11,2,11,4],[11,5,11,7],[12,2,12,4],[12,5,12,7],[13,2,13,4],[13,5,13,7],[14,2,14,4],[14,5,14,7],[23,2,23,4],[23,5,23,7],[21,5,21,7],[16,5,16,7],[17,2,17,4],[26,2,26,4],[26,5,26,7],[27,2,27,4],[27,5,27,7],[28,2,28,4],[28,5,28,7],[32,2,32,4],[32,5,32,7],[29,2,29,4],[29,5,29,7],[30,2,30,4],[30,5,30,7],[31,2,31,4],[31,5,31,7]]}
[]
[null,"Joint request for selected PC medicines v.3"]
[]
[null,"Country",{"$f":"IF(INTRO!$E$33<>0,INTRO!$E$33,\" \")","v":"Uganda"},null,null,null,"Year",{"$f":"IF(INTRO!$E$35<>0,INTRO!$E$35,\" \")","v":2019}]
[]
[null,"Information on shipment and consignee "]
[]
[null,null,"Consignee",null,null,"Delivery point / Final recipient\nif different from the consignee"]
[null,"Name","Dr. Abdoulie Dodou Jack",null,null,"Mr. Mosese Kamabale"]
[null,"Department/Unit","WR, Uganda Country Office",null,null,"GM"]
[null,"Organization","WHO",null,null,"National Medical Stores (NMS)"]
[null,"Phone","+256 313 335500",null,null,"+256 414320089"]
[null,"Fax",null,null,null,"+256 414320089"]
[null,"E-mail","whouganda@ug.afro.who.int",null,null,"nms@nms.go.ug"]
[null,"Mailing address",null,null,null,"Plot 4-12 Nsamizi Road, P.O,Box 16, Entebbe"]
[]
[null,null,"Consignee",null,null,"Delivery point / Final recipient\nif different from the consignee"]
[null,"Name","Mr. Mosese Kamabale",null,null,"Dr, Diana Atwine"]
[null,"Department/Unit","GM",null,null,"Permanent Secretary"]
[null,"Organization","National Medical Stores (NMS)",null,null,"Ministry of Health"]
[null,"Phone","+256 414320089",null,null,"+256 414 340872"]
[null,"Fax","+256 414320089"]
[null,"E-mail","nms@nms.go.ug",null,null,"ps@health.go.ug"]
[null,"Mailing address","Plot 4-12 Nsamizi Road, P.O,Box 16, Entebbe"]
[]
[null,null,"Consignee",null,null,"Delivery point / Final recipient\nif different from the consignee"]
[null,"Name"]
[null,"Department/Unit"]
[null,"Organization"]
[null,"Phone"]
[null,"Fax"]
[null,"E-mail"]
[null,"Mailing address"]
[]
[]
[null,"Information on import requirements"]
[]
[null,"Is the Import Permit required?",null,null,null,null,null,"Yes"]
[null,"How long does it take to obtain the Import Permit?",null,null,null,null,1,"Weeks"]
[null,"Do you require any documents to be submitted together with the Import Permit application?",null,null,null,null,null,"No"]
[null,"If YES, please specify here"]
[null,"Does the consignee have to get customs clearance before the shipment can proceed?",null,null,null,null,null,"Yes"]
[null,"Is there any additional information may be helpful in ensuring timely clearance and delivery of medicines to your country? ",null,null,null,null,null,"No"]
[null,"If YES, please specify here"]
[]
[null,"Additional information"]
[]
[null,"No balances of PZQ\n"]