{"text_format":"1","workbook":"xlsx","n_sheets":12,"sheets":["INTRO","COUNTRY_INFO","MDA1","MDA2","MDA3","T1","T2","T3_R1","T3_R2","DISTRICT","SUMMARY","PROFILE"],"not_rendered":{"charts":8,"images":2,"macros":1,"external_links":0,"defined_names":4,"comments":11,"pivot_tables":0},"unopened":[],"bounds":{"document_bytes":16777216,"sheet_cells":100000,"rows_first":2000,"rows_last":500,"rows_between":2000,"halvings":0,"cell_chars":16384,"cell_head_chars":4096},"cells_cut":0,"cells_raw":0,"read":"whole","date_system":"1900"}

{"sheet":"INTRO","index":0,"n_rows":50,"n_cols":5,"rows_kept":50,"cut":false,"hidden":false,"merged":[[7,2,7,4],[8,2,8,4],[0,1,0,4],[1,1,1,4],[2,1,2,4],[3,1,3,4],[4,1,4,4],[5,1,5,4],[9,2,9,4],[11,2,11,4],[12,1,12,4],[13,1,13,4],[14,1,14,4],[22,1,22,4],[23,2,24,4],[25,1,25,4],[15,1,15,4],[16,1,16,4],[17,1,17,4],[18,1,18,4],[19,2,19,4],[45,1,45,2],[10,2,10,4],[41,1,41,2],[43,1,43,2],[46,1,46,4],[33,1,33,2],[35,1,35,2],[26,2,27,4],[37,1,37,2],[39,1,39,2],[28,1,28,4],[29,2,29,4],[30,1,30,4],[31,1,31,4],[20,1,20,4],[21,2,21,4]]}
[]
[null,"PC Joint Reporting Form v.3"]
[]
[null,"The purpose of this template Joint Reporting Form (JRF) - available as an Excel file - is to provide national health authorities and data managers with a standardized tool to address these reporting challenges, facilitate  integration and thereby further contribute to improving overall programme management. This template aims to standardize national reporting of programme implementation outcomes, improve availability and coordination of preventive chemotherapy data across the World Health Organization regions. \nNational authorities are requested to complete this form for submission to the World Health Organization any time before 15 August of the current year for reporting data on PC interventions implemented during the previous year."]
[]
[null,"Structure of the application (worksheets):"]
[]
[null,"INTRO","This worksheet includes guides on how to complete the joint reporting form and information about status of PC for endemic diseases in the country"]
[null,"COUNTRY_INFO","This worksheet includes information about administrative structure of the country, population by age group, status of endemicity for each disease, population requiring PC, planned interventions and interventions implemented"]
[null,"MDA1, MDA2, MDA3, T1, T2 and T3","These worksheets include information about endemic districts targeted for treatment with specified PC medicines, treatment plan, and number of people who received treatment by age group"]
[null,"DISTRICT","This worksheet includes summary of people treated by disease at the level of implementation. If data by gender is available, it requires to enter."]
[null,"SUMMARY","This worksheet includes summary of people treated by disease and by PC intervention. Before generating the report (run macros) please select the disease for which you need the report. Follow the same rule to generate various reports.\nThis worksheet should be printed and submitted as a Joint Report (see the instruction for submission in the SUMMARY worksheet)."]
[]
[null,"Instruction for data entry"]
[]
[null,"Most of the cells in the above-mentioned worksheets include formula that are calculated automatically according to the treatment policy recommended by WHO for each disease.\nSee the link http://www.who.int/neglected_diseases/preventive_chemotherapy/pct_manual/en/index.html"]
[]
[null,"Please enter your data into the cells according to their colour code:"]
[]
[null,null,"White - cell is not protected. Please enter the value of the requested indicator."]
[]
[null,null,"Yellow - cell is protected and includes name of indicator. No data entry required."]
[]
[null,null,"Orange - cell is not protected and includes a drop-down menu. Please select the value from the drop-down list."]
[]
[]
[null,null,"Green - cell is not protected and includes formula. Please change the value only if your data are different from those that are calculated automatically."]
[]
[]
[null,null,"Blue - cell is protected and includes formula. No data entry required."]
[]
[null,"Country data"]
[]
[null,"COUNTRY",null,null,"Uganda"]
[]
[null,"Year of reporting data",null,null,2017]
[]
[null,"Is country endemic for lymphatic filariasis (LF)?",null,null,"Endemic"]
[]
[null,"Is country endemic for onchocerciasis (ONCHO)?",null,null,"Endemic"]
[]
[null,"Is country endemic for soil-transmitted helminthiases (STH)?",null,null,"Endemic"]
[]
[null,"Is country endemic for schistosomiasis (SCH)?",null,null,"Endemic"]
[]
[null,"How many administrative units in the country?",null,null,116]
[null,"If demographical data at the second administrative level are not available by age group, please enter the proportion (%) of population by age group in the country. If data are available, please leave these cells blank."]
[null,"1-4 years age","Preschool-age children (PreSAC)",null,0.14199999999999999]
[null,"5-14 years age","School-age children (SAC)",null,0.30199999999999999]
[null,"15 years +","Adults",null,0.52100000000000002]

{"sheet":"COUNTRY_INFO","index":1,"n_rows":124,"n_cols":27,"rows_kept":124,"cut":false,"hidden":false,"merged":[[3,21,3,22],[5,21,5,22],[5,3,5,6],[5,7,5,10],[5,11,5,14],[5,19,5,20],[3,0,3,2],[3,7,3,10],[3,19,3,20],[5,0,5,2],[3,15,3,18],[5,15,5,18]]}
["COUNTRY INFORMATION"]
["Administrative structure, population by age group, endemicity status, planned interventions and interventions implemented"]
[]
["TOTAL",null,null,{"$f":"SUM(D$9:D$1000)","v":37858243},{"$f":"SUM(E$9:E$1000)","v":5375868},{"$f":"SUM(F$9:F$1000)","v":11433191},{"$f":"SUM(G$9:G$1000)","v":19724142},null,null,null,null,{"$f":"SUM(L$9:L$1000)","v":2990412},{"$f":"SUM(M$9:M$1000)","v":2669822},{"$f":"SUM(N$9:N$1000)","v":16809059},{"$f":"SUM(O$9:O$1000)","v":7459152}]
[]
["Country administrative structure",null,null,"Population",null,null,null,"Endemicity",null,null,null,"Population requiring PC",null,null,null,"Number of treatment\nrounds planned for the year",null,null,null,"PC implemented",null,"Click to see the recommended strategy"]
["Country","Province/State","District","Total","PreSAC","SAC","Adults","LF","Oncho","STH","SCH","LF","Oncho","STH","SCH","LF","Oncho","STH","SCH","ROUND 1","ROUND2",null,null,"IU_ID","IU_NAME"]
[]
[{"$f":"IF(INTRO!$E$34<>0,INTRO!$E$34,\"\")","v":"Uganda"},"Central ","Buikwe",462377,{"$f":"IF(INTRO!$E$48=\"\",\"\",ROUND($D9*INTRO!$E$48,0))","v":65658},{"$f":"IF(INTRO!$E$49=\"\",\"\",ROUND($D9*INTRO!$E$49,0))","v":139638},{"$f":"IF(INTRO!$E$50=\"\",\"\",ROUND($D9*INTRO!$E$50,0))","v":240898},0,0,3,2,{"$f":"IF(INTRO!$E$38=\"Endemic\", IF($H9>0, IF($H9=4,\"Unknown\", IF($H9=99,\"Stopped\", $D9)), 0),\"Not required\")","v":0},{"$f":"IF(INTRO!$E$40=\"Endemic\", IF($I9>0, IF($I9=4,\"Unknown\",IF($I9=99,\"Stopped\", $D9)), 0),\"Not required\")","v":0},{"$f":"IF(INTRO!$E$42=\"Endemic\", IF(AND($J9>1,$J9<5), IF($J9=4, \"Unknown\", E9+F9), 0),\"Not required\")","v":205296},140805,0,0,2,1,"T3 (ALB/MBD)","T2 (PZQ)",null,null,49725,"BUIKWE",null,{"$f":"Y9=C9","v":true}]
[{"$f":"IF(INTRO!$E$34<>0,INTRO!$E$34,\"\")","v":"Uganda"},"Central ","Bukomansimbi",165598,{"$f":"IF(INTRO!$E$48=\"\",\"\",ROUND($D10*INTRO!$E$48,0))","v":23515},{"$f":"IF(INTRO!$E$49=\"\",\"\",ROUND($D10*INTRO!$E$49,0))","v":50011},{"$f":"IF(INTRO!$E$50=\"\",\"\",ROUND($D10*INTRO!$E$50,0))","v":86277},0,0,3,0,{"$f":"IF(INTRO!$E$38=\"Endemic\", IF($H10>0, IF($H10=4,\"Unknown\", IF($H10=99,\"Stopped\", $D10)), 0),\"Not required\")","v":0},0,{"$f":"IF(INTRO!$E$42=\"Endemic\", IF(AND($J10>1,$J10<5), IF($J10=4, \"Unknown\", E10+F10), 0),\"Not required\")","v":73526},0,0,0,2,0,"T3 (ALB/MBD)","T3 (ALB/MBD)",null,null,49726,"BUKOMANSIMBI",null,{"$f":"Y10=C10","v":true}]
[{"$f":"IF(INTRO!$E$34<>0,INTRO!$E$34,\"\")","v":"Uganda"},"Central ","Butambala",110286,{"$f":"IF(INTRO!$E$48=\"\",\"\",ROUND($D11*INTRO!$E$48,0))","v":15661},{"$f":"IF(INTRO!$E$49=\"\",\"\",ROUND($D11*INTRO!$E$49,0))","v":33306},{"$f":"IF(INTRO!$E$50=\"\",\"\",ROUND($D11*INTRO!$E$50,0))","v":57459},0,0,3,0,{"$f":"IF(INTRO!$E$38=\"Endemic\", IF($H11>0, IF($H11=4,\"Unknown\", IF($H11=99,\"Stopped\", $D11)), 0),\"Not required\")","v":0},0,{"$f":"IF(INTRO!$E$42=\"Endemic\", IF(AND($J11>1,$J11<5), IF($J11=4, \"Unknown\", E11+F11), 0),\"Not required\")","v":48967},0,0,0,2,0,"T3 (ALB/MBD)","T3 (ALB/MBD)",null,null,49730,"BUTAMBALA",null,true]
[{"$f":"IF(INTRO!$E$34<>0,INTRO!$E$34,\"\")","v":"Uganda"},"Central ","Buvuma",102464,{"$f":"IF(INTRO!$E$48=\"\",\"\",ROUND($D12*INTRO!$E$48,0))","v":14550},{"$f":"IF(INTRO!$E$49=\"\",\"\",ROUND($D12*INTRO!$E$49,0))","v":30944},{"$f":"IF(INTRO!$E$50=\"\",\"\",ROUND($D12*INTRO!$E$50,0))","v":53384},0,0,3,3,{"$f":"IF(INTRO!$E$38=\"Endemic\", IF($H12>0, IF($H12=4,\"Unknown\", IF($H12=99,\"Stopped\", $D12)), 0),\"Not required\")","v":0},0,{"$f":"IF(INTRO!$E$42=\"Endemic\", IF(AND($J12>1,$J12<5), IF($J12=4, \"Unknown\", E12+F12), 0),\"Not required\")","v":45494},85356,0,0,2,1,"T3 (ALB/MBD)","T2 (PZQ)",null,null,49731,"BUVUMA",null,true]
[{"$f":"IF(INTRO!$E$34<>0,INTRO!$E$34,\"\")","v":"Uganda"},"Central ","Gomba",174904,{"$f":"IF(INTRO!$E$48=\"\",\"\",ROUND($D13*INTRO!$E$48,0))","v":24836},{"$f":"IF(INTRO!$E$49=\"\",\"\",ROUND($D13*INTRO!$E$49,0))","v":52821},{"$f":"IF(INTRO!$E$50=\"\",\"\",ROUND($D13*INTRO!$E$50,0))","v":91125},0,0,3,3,{"$f":"IF(INTRO!$E$38=\"Endemic\", IF($H13>0, IF($H13=4,\"Unknown\", IF($H13=99,\"Stopped\", $D13)), 0),\"Not required\")","v":0},0,{"$f":"IF(INTRO!$E$42=\"Endemic\", IF(AND($J13>1,$J13<5), IF($J13=4, \"Unknown\", E13+F13), 0),\"Not required\")","v":77657},22324,0,0,2,1,"T3 (ALB/MBD)","T2 (PZQ)",null,null,49735,"GOMBA",null,true]
[{"$f":"IF(INTRO!$E$34<>0,INTRO!$E$34,\"\")","v":"Uganda"},"Central ","Kalangala",59379,{"$f":"IF(INTRO!$E$48=\"\",\"\",ROUND($D14*INTRO!$E$48,0))","v":8432},{"$f":"IF(INTRO!$E$49=\"\",\"\",ROUND($D14*INTRO!$E$49,0))","v":17932},{"$f":"IF(INTRO!$E$50=\"\",\"\",ROUND($D14*INTRO!$E$50,0))","v":30936},0,0,3,3,{"$f":"IF(INTRO!$E$38=\"Endemic\", IF($H14>0, IF($H14=4,\"Unknown\", IF($H14=99,\"Stopped\", $D14)), 0),\"Not required\")","v":0},0,{"$f":"IF(INTRO!$E$42=\"Endemic\", IF(AND($J14>1,$J14<5), IF($J14=4, \"Unknown\", E14+F14), 0),\"Not required\")","v":26364},44622,0,0,2,1,"T3 (ALB/MBD)","T2 (PZQ)",null,null,49745,"KALANGALA",null,true]
[{"$f":"IF(INTRO!$E$34<>0,INTRO!$E$34,\"\")","v":"Uganda"},"Central ","Kalungu",200397,{"$f":"IF(INTRO!$E$48=\"\",\"\",ROUND($D15*INTRO!$E$48,0))","v":28456},{"$f":"IF(INTRO!$E$49=\"\",\"\",ROUND($D15*INTRO!$E$49,0))","v":60520},{"$f":"IF(INTRO!$E$50=\"\",\"\",ROUND($D15*INTRO!$E$50,0))","v":104407},0,0,3,1,{"$f":"IF(INTRO!$E$38=\"Endemic\", IF($H15>0, IF($H15=4,\"Unknown\", IF($H15=99,\"Stopped\", $D15)), 0),\"Not required\")","v":0},0,{"$f":"IF(INTRO!$E$42=\"Endemic\", IF(AND($J15>1,$J15<5), IF($J15=4, \"Unknown\", E15+F15), 0),\"Not required\")","v":88976},20777,0,0,2,1,"T3 (ALB/MBD)","T2 (PZQ)",null,null,49758,"KALUNGU",null,true]
[{"$f":"IF(INTRO!$E$34<>0,INTRO!$E$34,\"\")","v":"Uganda"},"Central ","Kampala",1648267,{"$f":"IF(INTRO!$E$48=\"\",\"\",ROUND($D16*INTRO!$E$48,0))","v":234054},{"$f":"IF(INTRO!$E$49=\"\",\"\",ROUND($D16*INTRO!$E$49,0))","v":497777},{"$f":"IF(INTRO!$E$50=\"\",\"\",ROUND($D16*INTRO!$E$50,0))","v":858747},0,0,3,0,{"$f":"IF(INTRO!$E$38=\"Endemic\", IF($H16>0, IF($H16=4,\"Unknown\", IF($H16=99,\"Stopped\", $D16)), 0),\"Not required\")","v":0},0,{"$f":"IF(INTRO!$E$42=\"Endemic\", IF(AND($J16>1,$J16<5), IF($J16=4, \"Unknown\", E16+F16), 0),\"Not required\")","v":731831},0,0,0,2,0,"T3 (ALB/MBD)","T3 (ALB/MBD)",null,null,49759,"KAMPALA",null,true]
[{"$f":"IF(INTRO!$E$34<>0,INTRO!$E$34,\"\")","v":"Uganda"},"Central ","Kayunga",402542,{"$f":"IF(INTRO!$E$48=\"\",\"\",ROUND($D17*INTRO!$E$48,0))","v":57161},{"$f":"IF(INTRO!$E$49=\"\",\"\",ROUND($D17*INTRO!$E$49,0))","v":121568},{"$f":"IF(INTRO!$E$50=\"\",\"\",ROUND($D17*INTRO!$E$50,0))","v":209724},0,0,3,3,{"$f":"IF(INTRO!$E$38=\"Endemic\", IF($H17>0, IF($H17=4,\"Unknown\", IF($H17=99,\"Stopped\", $D17)), 0),\"Not required\")","v":0},0,{"$f":"IF(INTRO!$E$42=\"Endemic\", IF(AND($J17>1,$J17<5), IF($J17=4, \"Unknown\", E17+F17), 0),\"Not required\")","v":178729},105580,0,0,2,1,"T3 (ALB/MBD)","T2 (PZQ)",null,null,49761,"KAYUNGA",null,true]
[{"$f":"IF(INTRO!$E$34<>0,INTRO!$E$34,\"\")","v":"Uganda"},"Central ","Kiboga",162103,{"$f":"IF(INTRO!$E$48=\"\",\"\",ROUND($D18*INTRO!$E$48,0))","v":23019},{"$f":"IF(INTRO!$E$49=\"\",\"\",ROUND($D18*INTRO!$E$49,0))","v":48955},{"$f":"IF(INTRO!$E$50=\"\",\"\",ROUND($D18*INTRO!$E$50,0))","v":84456},0,0,3,0,{"$f":"IF(INTRO!$E$38=\"Endemic\", IF($H18>0, IF($H18=4,\"Unknown\", IF($H18=99,\"Stopped\", $D18)), 0),\"Not required\")","v":0},0,{"$f":"IF(INTRO!$E$42=\"Endemic\", IF(AND($J18>1,$J18<5), IF($J18=4, \"Unknown\", E18+F18), 0),\"Not required\")","v":71974},0,0,0,2,0,"T3 (ALB/MBD)","T3 (ALB/MBD)",null,null,49762,"KIBOGA",null,true]
[{"$f":"IF(INTRO!$E$34<>0,INTRO!$E$34,\"\")","v":"Uganda"},"Central ","Kyankwanzi",234805,{"$f":"IF(INTRO!$E$48=\"\",\"\",ROUND($D19*INTRO!$E$48,0))","v":33342},{"$f":"IF(INTRO!$E$49=\"\",\"\",ROUND($D19*INTRO!$E$49,0))","v":70911},{"$f":"IF(INTRO!$E$50=\"\",\"\",ROUND($D19*INTRO!$E$50,0))","v":122333},0,0,3,0,{"$f":"IF(INTRO!$E$38=\"Endemic\", IF($H19>0, IF($H19=4,\"Unknown\", IF($H19=99,\"Stopped\", $D19)), 0),\"Not required\")","v":0},0,{"$f":"IF(INTRO!$E$42=\"Endemic\", IF(AND($J19>1,$J19<5), IF($J19=4, \"Unknown\", E19+F19), 0),\"Not required\")","v":104253},0,0,0,2,0,"T3 (ALB/MBD)","T3 (ALB/MBD)",null,null,49769,"KYANKWANZI",null,true]
[{"$f":"IF(INTRO!$E$34<>0,INTRO!$E$34,\"\")","v":"Uganda"},"Central ","Luwero",499767,{"$f":"IF(INTRO!$E$48=\"\",\"\",ROUND($D20*INTRO!$E$48,0))","v":70967},{"$f":"IF(INTRO!$E$49=\"\",\"\",ROUND($D20*INTRO!$E$49,0))","v":150930},{"$f":"IF(INTRO!$E$50=\"\",\"\",ROUND($D20*INTRO!$E$50,0))","v":260379},0,0,3,0,{"$f":"IF(INTRO!$E$38=\"Endemic\", IF($H20>0, IF($H20=4,\"Unknown\", IF($H20=99,\"Stopped\", $D20)), 0),\"Not required\")","v":0},0,{"$f":"IF(INTRO!$E$42=\"Endemic\", IF(AND($J20>1,$J20<5), IF($J20=4, \"Unknown\", E20+F20), 0),\"Not required\")","v":221897},0,0,0,2,0,"T3 (ALB/MBD)","T3 (ALB/MBD)",null,null,49774,"LUWERO",null,true]
[{"$f":"IF(INTRO!$E$34<>0,INTRO!$E$34,\"\")","v":"Uganda"},"Central ","Lwengo",300712,{"$f":"IF(INTRO!$E$48=\"\",\"\",ROUND($D21*INTRO!$E$48,0))","v":42701},{"$f":"IF(INTRO!$E$49=\"\",\"\",ROUND($D21*INTRO!$E$49,0))","v":90815},{"$f":"IF(INTRO!$E$50=\"\",\"\",ROUND($D21*INTRO!$E$50,0))","v":156671},0,0,3,0,{"$f":"IF(INTRO!$E$38=\"Endemic\", IF($H21>0, IF($H21=4,\"Unknown\", IF($H21=99,\"Stopped\", $D21)), 0),\"Not required\")","v":0},0,{"$f":"IF(INTRO!$E$42=\"Endemic\", IF(AND($J21>1,$J21<5), IF($J21=4, \"Unknown\", E21+F21), 0),\"Not required\")","v":133516},0,0,0,2,0,"T3 (ALB/MBD)","T3 (ALB/MBD)",null,null,49775,"LWENGO",null,true]
[{"$f":"IF(INTRO!$E$34<>0,INTRO!$E$34,\"\")","v":"Uganda"},"Central ","Lyantonde",102536,{"$f":"IF(INTRO!$E$48=\"\",\"\",ROUND($D22*INTRO!$E$48,0))","v":14560},{"$f":"IF(INTRO!$E$49=\"\",\"\",ROUND($D22*INTRO!$E$49,0))","v":30966},{"$f":"IF(INTRO!$E$50=\"\",\"\",ROUND($D22*INTRO!$E$50,0))","v":53421},0,0,3,0,{"$f":"IF(INTRO!$E$38=\"Endemic\", IF($H22>0, IF($H22=4,\"Unknown\", IF($H22=99,\"Stopped\", $D22)), 0),\"Not required\")","v":0},0,{"$f":"IF(INTRO!$E$42=\"Endemic\", IF(AND($J22>1,$J22<5), IF($J22=4, \"Unknown\", E22+F22), 0),\"Not required\")","v":45526},0,0,0,2,0,"T3 (ALB/MBD)","T3 (ALB/MBD)",null,null,49776,"LYANTONDE",null,true]
[{"$f":"IF(INTRO!$E$34<>0,INTRO!$E$34,\"\")","v":"Uganda"},"Central ","Masaka",324828,{"$f":"IF(INTRO!$E$48=\"\",\"\",ROUND($D23*INTRO!$E$48,0))","v":46126},{"$f":"IF(INTRO!$E$49=\"\",\"\",ROUND($D23*INTRO!$E$49,0))","v":98098},{"$f":"IF(INTRO!$E$50=\"\",\"\",ROUND($D23*INTRO!$E$50,0))","v":169235},0,0,3,3,{"$f":"IF(INTRO!$E$38=\"Endemic\", IF($H23>0, IF($H23=4,\"Unknown\", IF($H23=99,\"Stopped\", $D23)), 0),\"Not required\")","v":0},0,{"$f":"IF(INTRO!$E$42=\"Endemic\", IF(AND($J23>1,$J23<5), IF($J23=4, \"Unknown\", E23+F23), 0),\"Not required\")","v":144224},44264,0,0,2,1,"T3 (ALB/MBD)","T2 (PZQ)",null,null,49785,"MASAKA",null,true]
[{"$f":"IF(INTRO!$E$34<>0,INTRO!$E$34,\"\")","v":"Uganda"},"Central ","Mityana",359783,{"$f":"IF(INTRO!$E$48=\"\",\"\",ROUND($D24*INTRO!$E$48,0))","v":51089},{"$f":"IF(INTRO!$E$49=\"\",\"\",ROUND($D24*INTRO!$E$49,0))","v":108654},{"$f":"IF(INTRO!$E$50=\"\",\"\",ROUND($D24*INTRO!$E$50,0))","v":187447},0,0,3,3,{"$f":"IF(INTRO!$E$38=\"Endemic\", IF($H24>0, IF($H24=4,\"Unknown\", IF($H24=99,\"Stopped\", $D24)), 0),\"Not required\")","v":0},0,{"$f":"IF(INTRO!$E$42=\"Endemic\", IF(AND($J24>1,$J24<5), IF($J24=4, \"Unknown\", E24+F24), 0),\"Not required\")","v":159743},27404,0,0,2,1,"T3 (ALB/MBD)","T2 (PZQ)",null,null,49788,"MITYANA",null,true]
[{"$f":"IF(INTRO!$E$34<>0,INTRO!$E$34,\"\")","v":"Uganda"},"Central ","Mpigi",274021,{"$f":"IF(INTRO!$E$48=\"\",\"\",ROUND($D25*INTRO!$E$48,0))","v":38911},{"$f":"IF(INTRO!$E$49=\"\",\"\",ROUND($D25*INTRO!$E$49,0))","v":82754},{"$f":"IF(INTRO!$E$50=\"\",\"\",ROUND($D25*INTRO!$E$50,0))","v":142765},0,0,3,2,{"$f":"IF(INTRO!$E$38=\"Endemic\", IF($H25>0, IF($H25=4,\"Unknown\", IF($H25=99,\"Stopped\", $D25)), 0),\"Not required\")","v":0},0,{"$f":"IF(INTRO!$E$42=\"Endemic\", IF(AND($J25>1,$J25<5), IF($J25=4, \"Unknown\", E25+F25), 0),\"Not required\")","v":121665},102457,0,0,2,1,"T3 (ALB/MBD)","T2 (PZQ)",null,null,49789,"MPIGI",null,true]
[{"$f":"IF(INTRO!$E$34<>0,INTRO!$E$34,\"\")","v":"Uganda"},"Central ","Mubende",748447,{"$f":"IF(INTRO!$E$48=\"\",\"\",ROUND($D26*INTRO!$E$48,0))","v":106279},{"$f":"IF(INTRO!$E$49=\"\",\"\",ROUND($D26*INTRO!$E$49,0))","v":226031},{"$f":"IF(INTRO!$E$50=\"\",\"\",ROUND($D26*INTRO!$E$50,0))","v":389941},0,0,3,1,{"$f":"IF(INTRO!$E$38=\"Endemic\", IF($H26>0, IF($H26=4,\"Unknown\", IF($H26=99,\"Stopped\", $D26)), 0),\"Not required\")","v":0},0,{"$f":"IF(INTRO!$E$42=\"Endemic\", IF(AND($J26>1,$J26<5), IF($J26=4, \"Unknown\", E26+F26), 0),\"Not required\")","v":332310},51692,0,0,2,1,"T3 (ALB/MBD)","T2 (PZQ)",null,null,49790,"MUBENDE",null,true]
[{"$f":"IF(INTRO!$E$34<>0,INTRO!$E$34,\"\")","v":"Uganda"},"Central ","Mukono",652714,{"$f":"IF(INTRO!$E$48=\"\",\"\",ROUND($D27*INTRO!$E$48,0))","v":92685},{"$f":"IF(INTRO!$E$49=\"\",\"\",ROUND($D27*INTRO!$E$49,0))","v":197120},{"$f":"IF(INTRO!$E$50=\"\",\"\",ROUND($D27*INTRO!$E$50,0))","v":340064},0,0,3,3,{"$f":"IF(INTRO!$E$38=\"Endemic\", IF($H27>0, IF($H27=4,\"Unknown\", IF($H27=99,\"Stopped\", $D27)), 0),\"Not required\")","v":0},0,{"$f":"IF(INTRO!$E$42=\"Endemic\", IF(AND($J27>1,$J27<5), IF($J27=4, \"Unknown\", E27+F27), 0),\"Not required\")","v":289805},62119,0,0,2,1,"T3 (ALB/MBD)","T2 (PZQ)",null,null,49783,"MUKONO",null,true]
[{"$f":"IF(INTRO!$E$34<>0,INTRO!$E$34,\"\")","v":"Uganda"},"Central ","Nakaseke",215858,{"$f":"IF(INTRO!$E$48=\"\",\"\",ROUND($D28*INTRO!$E$48,0))","v":30652},{"$f":"IF(INTRO!$E$49=\"\",\"\",ROUND($D28*INTRO!$E$49,0))","v":65189},{"$f":"IF(INTRO!$E$50=\"\",\"\",ROUND($D28*INTRO!$E$50,0))","v":112462},0,0,3,0,{"$f":"IF(INTRO!$E$38=\"Endemic\", IF($H28>0, IF($H28=4,\"Unknown\", IF($H28=99,\"Stopped\", $D28)), 0),\"Not required\")","v":0},0,{"$f":"IF(INTRO!$E$42=\"Endemic\", IF(AND($J28>1,$J28<5), IF($J28=4, \"Unknown\", E28+F28), 0),\"Not required\")","v":95841},0,0,0,2,0,"T3 (ALB/MBD)","T3 (ALB/MBD)",null,null,49795,"NAKASEKE",null,true]
[{"$f":"IF(INTRO!$E$34<>0,INTRO!$E$34,\"\")","v":"Uganda"},"Central ","Nakasongola",198830,{"$f":"IF(INTRO!$E$48=\"\",\"\",ROUND($D29*INTRO!$E$48,0))","v":28234},{"$f":"IF(INTRO!$E$49=\"\",\"\",ROUND($D29*INTRO!$E$49,0))","v":60047},{"$f":"IF(INTRO!$E$50=\"\",\"\",ROUND($D29*INTRO!$E$50,0))","v":103590},0,0,3,1,{"$f":"IF(INTRO!$E$38=\"Endemic\", IF($H29>0, IF($H29=4,\"Unknown\", IF($H29=99,\"Stopped\", $D29)), 0),\"Not required\")","v":0},0,{"$f":"IF(INTRO!$E$42=\"Endemic\", IF(AND($J29>1,$J29<5), IF($J29=4, \"Unknown\", E29+F29), 0),\"Not required\")","v":88281},39420,0,0,2,1,"T3 (ALB/MBD)","T2 (PZQ)",null,null,49791,"NAKASONGOLA",null,true]
[{"$f":"IF(INTRO!$E$34<>0,INTRO!$E$34,\"\")","v":"Uganda"},"Central ","Rakai",564678,{"$f":"IF(INTRO!$E$48=\"\",\"\",ROUND($D30*INTRO!$E$48,0))","v":80184},{"$f":"IF(INTRO!$E$49=\"\",\"\",ROUND($D30*INTRO!$E$49,0))","v":170533},{"$f":"IF(INTRO!$E$50=\"\",\"\",ROUND($D30*INTRO!$E$50,0))","v":294197},0,0,3,1,{"$f":"IF(INTRO!$E$38=\"Endemic\", IF($H30>0, IF($H30=4,\"Unknown\", IF($H30=99,\"Stopped\", $D30)), 0),\"Not required\")","v":0},0,{"$f":"IF(INTRO!$E$42=\"Endemic\", IF(AND($J30>1,$J30<5), IF($J30=4, \"Unknown\", E30+F30), 0),\"Not required\")","v":250717},41540,0,0,2,1,"T3 (ALB/MBD)","T2 (PZQ)",null,null,49807,"RAKAI",null,true]
[{"$f":"IF(INTRO!$E$34<>0,INTRO!$E$34,\"\")","v":"Uganda"},"Central ","Sembabule",276262,{"$f":"IF(INTRO!$E$48=\"\",\"\",ROUND($D31*INTRO!$E$48,0))","v":39229},{"$f":"IF(INTRO!$E$49=\"\",\"\",ROUND($D31*INTRO!$E$49,0))","v":83431},{"$f":"IF(INTRO!$E$50=\"\",\"\",ROUND($D31*INTRO!$E$50,0))","v":143933},0,0,3,0,{"$f":"IF(INTRO!$E$38=\"Endemic\", IF($H31>0, IF($H31=4,\"Unknown\", IF($H31=99,\"Stopped\", $D31)), 0),\"Not required\")","v":0},0,{"$f":"IF(INTRO!$E$42=\"Endemic\", IF(AND($J31>1,$J31<5), IF($J31=4, \"Unknown\", E31+F31), 0),\"Not required\")","v":122660},0,0,0,2,0,"T3 (ALB/MBD)","T3 (ALB/MBD)",null,null,49811,"SEMBABULE",null,true]
[{"$f":"IF(INTRO!$E$34<>0,INTRO!$E$34,\"\")","v":"Uganda"},"Central ","Wakiso",2184541,{"$f":"IF(INTRO!$E$48=\"\",\"\",ROUND($D32*INTRO!$E$48,0))","v":310205},{"$f":"IF(INTRO!$E$49=\"\",\"\",ROUND($D32*INTRO!$E$49,0))","v":659731},{"$f":"IF(INTRO!$E$50=\"\",\"\",ROUND($D32*INTRO!$E$50,0))","v":1138146},0,0,3,2,{"$f":"IF(INTRO!$E$38=\"Endemic\", IF($H32>0, IF($H32=4,\"Unknown\", IF($H32=99,\"Stopped\", $D32)), 0),\"Not required\")","v":0},0,{"$f":"IF(INTRO!$E$42=\"Endemic\", IF(AND($J32>1,$J32<5), IF($J32=4, \"Unknown\", E32+F32), 0),\"Not required\")","v":969936},164285,0,0,2,1,"T3 (ALB/MBD)","T2 (PZQ)",null,null,49815,"WAKISO",null,true]
[{"$f":"IF(INTRO!$E$34<>0,INTRO!$E$34,\"\")","v":"Uganda"},"Eastern ","Amuria",296309,{"$f":"IF(INTRO!$E$48=\"\",\"\",ROUND($D33*INTRO!$E$48,0))","v":42076},{"$f":"IF(INTRO!$E$49=\"\",\"\",ROUND($D33*INTRO!$E$49,0))","v":89485},{"$f":"IF(INTRO!$E$50=\"\",\"\",ROUND($D33*INTRO!$E$50,0))","v":154377},99,0,3,0,{"$f":"IF(INTRO!$E$38=\"Endemic\", IF($H33>0, IF($H33=4,\"Unknown\", IF($H33=99,\"Stopped\", $D33)), 0),\"Not required\")","v":"Stopped"},0,{"$f":"IF(INTRO!$E$42=\"Endemic\", IF(AND($J33>1,$J33<5), IF($J33=4, \"Unknown\", E33+F33), 0),\"Not required\")","v":131561},0,0,0,2,0,"T3 (ALB/MBD)","T3 (ALB/MBD)",null,null,49709,"AMURIA",null,true]
[{"$f":"IF(INTRO!$E$34<>0,INTRO!$E$34,\"\")","v":"Uganda"},"Eastern ","Budaka",227045,{"$f":"IF(INTRO!$E$48=\"\",\"\",ROUND($D34*INTRO!$E$48,0))","v":32240},{"$f":"IF(INTRO!$E$49=\"\",\"\",ROUND($D34*INTRO!$E$49,0))","v":68568},{"$f":"IF(INTRO!$E$50=\"\",\"\",ROUND($D34*INTRO!$E$50,0))","v":118290},99,0,3,1,{"$f":"IF(INTRO!$E$38=\"Endemic\", IF($H34>0, IF($H34=4,\"Unknown\", IF($H34=99,\"Stopped\", $D34)), 0),\"Not required\")","v":"Stopped"},0,{"$f":"IF(INTRO!$E$42=\"Endemic\", IF(AND($J34>1,$J34<5), IF($J34=4, \"Unknown\", E34+F34), 0),\"Not required\")","v":100808},30377,0,0,2,1,"T3 (ALB/MBD)","T2 (PZQ)",null,null,49716,"BUDAKA",null,true]
[{"$f":"IF(INTRO!$E$34<>0,INTRO!$E$34,\"\")","v":"Uganda"},"Eastern ","Bududa",229862,{"$f":"IF(INTRO!$E$48=\"\",\"\",ROUND($D35*INTRO!$E$48,0))","v":32640},{"$f":"IF(INTRO!$E$49=\"\",\"\",ROUND($D35*INTRO!$E$49,0))","v":69418},{"$f":"IF(INTRO!$E$50=\"\",\"\",ROUND($D35*INTRO!$E$50,0))","v":119758},0,99,3,0,{"$f":"IF(INTRO!$E$38=\"Endemic\", IF($H35>0, IF($H35=4,\"Unknown\", IF($H35=99,\"Stopped\", $D35)), 0),\"Not required\")","v":0},"Stopped",{"$f":"IF(INTRO!$E$42=\"Endemic\", IF(AND($J35>1,$J35<5), IF($J35=4, \"Unknown\", E35+F35), 0),\"Not required\")","v":102058},0,0,0,2,0,"T3 (ALB/MBD)","T3 (ALB/MBD)",null,null,49717,"BUDUDA",null,true]
[{"$f":"IF(INTRO!$E$34<>0,INTRO!$E$34,\"\")","v":"Uganda"},"Eastern ","Bugiri",406133,{"$f":"IF(INTRO!$E$48=\"\",\"\",ROUND($D36*INTRO!$E$48,0))","v":57671},{"$f":"IF(INTRO!$E$49=\"\",\"\",ROUND($D36*INTRO!$E$49,0))","v":122652},{"$f":"IF(INTRO!$E$50=\"\",\"\",ROUND($D36*INTRO!$E$50,0))","v":211595},1,0,3,2,{"$f":"IF(INTRO!$E$38=\"Endemic\", IF($H36>0, IF($H36=4,\"Unknown\", IF($H36=99,\"Stopped\", $D36)), 0),\"Not required\")","v":406133},0,{"$f":"IF(INTRO!$E$42=\"Endemic\", IF(AND($J36>1,$J36<5), IF($J36=4, \"Unknown\", E36+F36), 0),\"Not required\")","v":180323},69756,1,0,2,1,"MDA1 (IVM+ALB)","T2 (PZQ)",null,null,49718,"BUGIRI",null,true]
[{"$f":"IF(INTRO!$E$34<>0,INTRO!$E$34,\"\")","v":"Uganda"},"Eastern ","Bukedea",222674,{"$f":"IF(INTRO!$E$48=\"\",\"\",ROUND($D37*INTRO!$E$48,0))","v":31620},{"$f":"IF(INTRO!$E$49=\"\",\"\",ROUND($D37*INTRO!$E$49,0))","v":67248},{"$f":"IF(INTRO!$E$50=\"\",\"\",ROUND($D37*INTRO!$E$50,0))","v":116013},99,0,3,1,{"$f":"IF(INTRO!$E$38=\"Endemic\", IF($H37>0, IF($H37=4,\"Unknown\", IF($H37=99,\"Stopped\", $D37)), 0),\"Not required\")","v":"Stopped"},0,{"$f":"IF(INTRO!$E$42=\"Endemic\", IF(AND($J37>1,$J37<5), IF($J37=4, \"Unknown\", E37+F37), 0),\"Not required\")","v":98868},65544,0,0,2,1,"T3 (ALB/MBD)","T2 (PZQ)",null,null,49719,"BUKEDEA",null,true]
[{"$f":"IF(INTRO!$E$34<>0,INTRO!$E$34,\"\")","v":"Uganda"},"Eastern ","Bukwo",97727,{"$f":"IF(INTRO!$E$48=\"\",\"\",ROUND($D38*INTRO!$E$48,0))","v":13877},{"$f":"IF(INTRO!$E$49=\"\",\"\",ROUND($D38*INTRO!$E$49,0))","v":29514},{"$f":"IF(INTRO!$E$50=\"\",\"\",ROUND($D38*INTRO!$E$50,0))","v":50916},0,0,3,0,{"$f":"IF(INTRO!$E$38=\"Endemic\", IF($H38>0, IF($H38=4,\"Unknown\", IF($H38=99,\"Stopped\", $D38)), 0),\"Not required\")","v":0},0,{"$f":"IF(INTRO!$E$42=\"Endemic\", IF(AND($J38>1,$J38<5), IF($J38=4, \"Unknown\", E38+F38), 0),\"Not required\")","v":43391},0,0,0,2,0,"T3 (ALB/MBD)","T3 (ALB/MBD)",null,null,49727,"BUKWO",null,true]
[{"$f":"IF(INTRO!$E$34<>0,INTRO!$E$34,\"\")","v":"Uganda"},"Eastern ","Bulambuli",190857,{"$f":"IF(INTRO!$E$48=\"\",\"\",ROUND($D39*INTRO!$E$48,0))","v":27102},{"$f":"IF(INTRO!$E$49=\"\",\"\",ROUND($D39*INTRO!$E$49,0))","v":57639},{"$f":"IF(INTRO!$E$50=\"\",\"\",ROUND($D39*INTRO!$E$50,0))","v":99436},0,0,3,1,{"$f":"IF(INTRO!$E$38=\"Endemic\", IF($H39>0, IF($H39=4,\"Unknown\", IF($H39=99,\"Stopped\", $D39)), 0),\"Not required\")","v":0},0,{"$f":"IF(INTRO!$E$42=\"Endemic\", IF(AND($J39>1,$J39<5), IF($J39=4, \"Unknown\", E39+F39), 0),\"Not required\")","v":84741},8187,0,0,2,1,"T3 (ALB/MBD)","T2 (PZQ)",null,null,49728,"BULAMBULI",null,true]
[{"$f":"IF(INTRO!$E$34<>0,INTRO!$E$34,\"\")","v":"Uganda"},"Eastern ","Busia",353983,{"$f":"IF(INTRO!$E$48=\"\",\"\",ROUND($D40*INTRO!$E$48,0))","v":50266},{"$f":"IF(INTRO!$E$49=\"\",\"\",ROUND($D40*INTRO!$E$49,0))","v":106903},{"$f":"IF(INTRO!$E$50=\"\",\"\",ROUND($D40*INTRO!$E$50,0))","v":184425},0,0,3,3,{"$f":"IF(INTRO!$E$38=\"Endemic\", IF($H40>0, IF($H40=4,\"Unknown\", IF($H40=99,\"Stopped\", $D40)), 0),\"Not required\")","v":0},0,{"$f":"IF(INTRO!$E$42=\"Endemic\", IF(AND($J40>1,$J40<5), IF($J40=4, \"Unknown\", E40+F40), 0),\"Not required\")","v":157169},114634,0,0,2,1,"T3 (ALB/MBD)","T2 (PZQ)",null,null,49723,"BUSIA",null,true]
[{"$f":"IF(INTRO!$E$34<>0,INTRO!$E$34,\"\")","v":"Uganda"},"Eastern ","Butaleja",267026,{"$f":"IF(INTRO!$E$48=\"\",\"\",ROUND($D41*INTRO!$E$48,0))","v":37918},{"$f":"IF(INTRO!$E$49=\"\",\"\",ROUND($D41*INTRO!$E$49,0))","v":80642},{"$f":"IF(INTRO!$E$50=\"\",\"\",ROUND($D41*INTRO!$E$50,0))","v":139121},99,0,3,1,{"$f":"IF(INTRO!$E$38=\"Endemic\", IF($H41>0, IF($H41=4,\"Unknown\", IF($H41=99,\"Stopped\", $D41)), 0),\"Not required\")","v":"Stopped"},0,{"$f":"IF(INTRO!$E$42=\"Endemic\", IF(AND($J41>1,$J41<5), IF($J41=4, \"Unknown\", E41+F41), 0),\"Not required\")","v":118560},23066,0,0,2,1,"T3 (ALB/MBD)","T2 (PZQ)",null,null,49729,"BUTALEJA",null,true]
[{"$f":"IF(INTRO!$E$34<>0,INTRO!$E$34,\"\")","v":"Uganda"},"Eastern ","Buyende",353333,{"$f":"IF(INTRO!$E$48=\"\",\"\",ROUND($D42*INTRO!$E$48,0))","v":50173},{"$f":"IF(INTRO!$E$49=\"\",\"\",ROUND($D42*INTRO!$E$49,0))","v":106707},{"$f":"IF(INTRO!$E$50=\"\",\"\",ROUND($D42*INTRO!$E$50,0))","v":184086},99,0,3,3,{"$f":"IF(INTRO!$E$38=\"Endemic\", IF($H42>0, IF($H42=4,\"Unknown\", IF($H42=99,\"Stopped\", $D42)), 0),\"Not required\")","v":"Stopped"},0,{"$f":"IF(INTRO!$E$42=\"Endemic\", IF(AND($J42>1,$J42<5), IF($J42=4, \"Unknown\", E42+F42), 0),\"Not required\")","v":156880},250777,0,0,2,1,"T3 (ALB/MBD)","T2 (PZQ)",null,null,49732,"BUYENDE",null,true]
[{"$f":"IF(INTRO!$E$34<>0,INTRO!$E$34,\"\")","v":"Uganda"},"Eastern ","Iganga",551431,{"$f":"IF(INTRO!$E$48=\"\",\"\",ROUND($D43*INTRO!$E$48,0))","v":78303},{"$f":"IF(INTRO!$E$49=\"\",\"\",ROUND($D43*INTRO!$E$49,0))","v":166532},{"$f":"IF(INTRO!$E$50=\"\",\"\",ROUND($D43*INTRO!$E$50,0))","v":287296},99,0,3,1,{"$f":"IF(INTRO!$E$38=\"Endemic\", IF($H43>0, IF($H43=4,\"Unknown\", IF($H43=99,\"Stopped\", $D43)), 0),\"Not required\")","v":"Stopped"},0,{"$f":"IF(INTRO!$E$42=\"Endemic\", IF(AND($J43>1,$J43<5), IF($J43=4, \"Unknown\", E43+F43), 0),\"Not required\")","v":244835},54956,0,0,2,1,"T3 (ALB/MBD)","T2 (PZQ)",null,null,49738,"IGANGA",null,true]
[{"$f":"IF(INTRO!$E$34<>0,INTRO!$E$34,\"\")","v":"Uganda"},"Eastern ","Jinja",515389,{"$f":"IF(INTRO!$E$48=\"\",\"\",ROUND($D44*INTRO!$E$48,0))","v":73185},{"$f":"IF(INTRO!$E$49=\"\",\"\",ROUND($D44*INTRO!$E$49,0))","v":155647},{"$f":"IF(INTRO!$E$50=\"\",\"\",ROUND($D44*INTRO!$E$50,0))","v":268518},0,0,3,3,{"$f":"IF(INTRO!$E$38=\"Endemic\", IF($H44>0, IF($H44=4,\"Unknown\", IF($H44=99,\"Stopped\", $D44)), 0),\"Not required\")","v":0},0,{"$f":"IF(INTRO!$E$42=\"Endemic\", IF(AND($J44>1,$J44<5), IF($J44=4, \"Unknown\", E44+F44), 0),\"Not required\")","v":228832},449567,0,0,2,1,"T3 (ALB/MBD)","T2 (PZQ)",null,null,49740,"JINJA",null,true]
[{"$f":"IF(INTRO!$E$34<>0,INTRO!$E$34,\"\")","v":"Uganda"},"Eastern ","Kaberamaido",235170,{"$f":"IF(INTRO!$E$48=\"\",\"\",ROUND($D45*INTRO!$E$48,0))","v":33394},{"$f":"IF(INTRO!$E$49=\"\",\"\",ROUND($D45*INTRO!$E$49,0))","v":71021},{"$f":"IF(INTRO!$E$50=\"\",\"\",ROUND($D45*INTRO!$E$50,0))","v":122524},99,0,3,3,{"$f":"IF(INTRO!$E$38=\"Endemic\", IF($H45>0, IF($H45=4,\"Unknown\", IF($H45=99,\"Stopped\", $D45)), 0),\"Not required\")","v":"Stopped"},0,{"$f":"IF(INTRO!$E$42=\"Endemic\", IF(AND($J45>1,$J45<5), IF($J45=4, \"Unknown\", E45+F45), 0),\"Not required\")","v":104415},108823,0,0,2,1,"T3 (ALB/MBD)","T2 (PZQ)",null,null,49743,"KABERAMAIDO",null,true]
[{"$f":"IF(INTRO!$E$34<>0,INTRO!$E$34,\"\")","v":"Uganda"},"Eastern ","Kaliro",258327,{"$f":"IF(INTRO!$E$48=\"\",\"\",ROUND($D46*INTRO!$E$48,0))","v":36682},{"$f":"IF(INTRO!$E$49=\"\",\"\",ROUND($D46*INTRO!$E$49,0))","v":78015},{"$f":"IF(INTRO!$E$50=\"\",\"\",ROUND($D46*INTRO!$E$50,0))","v":134588},99,0,3,1,{"$f":"IF(INTRO!$E$38=\"Endemic\", IF($H46>0, IF($H46=4,\"Unknown\", IF($H46=99,\"Stopped\", $D46)), 0),\"Not required\")","v":"Stopped"},0,{"$f":"IF(INTRO!$E$42=\"Endemic\", IF(AND($J46>1,$J46<5), IF($J46=4, \"Unknown\", E46+F46), 0),\"Not required\")","v":114697},69175,0,0,2,1,"T3 (ALB/MBD)","T2 (PZQ)",null,null,49746,"KALIRO",null,true]
[{"$f":"IF(INTRO!$E$34<>0,INTRO!$E$34,\"\")","v":"Uganda"},"Eastern ","Kamuli",531878,{"$f":"IF(INTRO!$E$48=\"\",\"\",ROUND($D47*INTRO!$E$48,0))","v":75527},{"$f":"IF(INTRO!$E$49=\"\",\"\",ROUND($D47*INTRO!$E$49,0))","v":160627},{"$f":"IF(INTRO!$E$50=\"\",\"\",ROUND($D47*INTRO!$E$50,0))","v":277108},99,0,3,1,{"$f":"IF(INTRO!$E$38=\"Endemic\", IF($H47>0, IF($H47=4,\"Unknown\", IF($H47=99,\"Stopped\", $D47)), 0),\"Not required\")","v":"Stopped"},0,{"$f":"IF(INTRO!$E$42=\"Endemic\", IF(AND($J47>1,$J47<5), IF($J47=4, \"Unknown\", E47+F47), 0),\"Not required\")","v":236154},93693,0,0,2,1,"T3 (ALB/MBD)","T2 (PZQ)",null,null,49747,"KAMULI",null,true]
[{"$f":"IF(INTRO!$E$34<>0,INTRO!$E$34,\"\")","v":"Uganda"},"Eastern ","Kapchorwa",115040,{"$f":"IF(INTRO!$E$48=\"\",\"\",ROUND($D48*INTRO!$E$48,0))","v":16336},{"$f":"IF(INTRO!$E$49=\"\",\"\",ROUND($D48*INTRO!$E$49,0))","v":34742},{"$f":"IF(INTRO!$E$50=\"\",\"\",ROUND($D48*INTRO!$E$50,0))","v":59936},0,0,3,0,{"$f":"IF(INTRO!$E$38=\"Endemic\", IF($H48>0, IF($H48=4,\"Unknown\", IF($H48=99,\"Stopped\", $D48)), 0),\"Not required\")","v":0},0,{"$f":"IF(INTRO!$E$42=\"Endemic\", IF(AND($J48>1,$J48<5), IF($J48=4, \"Unknown\", E48+F48), 0),\"Not required\")","v":51078},0,0,0,2,0,"T3 (ALB/MBD)","T3 (ALB/MBD)",null,null,49760,"KAPCHORWA",null,true]
[{"$f":"IF(INTRO!$E$34<>0,INTRO!$E$34,\"\")","v":"Uganda"},"Eastern ","Katakwi",181804,{"$f":"IF(INTRO!$E$48=\"\",\"\",ROUND($D49*INTRO!$E$48,0))","v":25816},{"$f":"IF(INTRO!$E$49=\"\",\"\",ROUND($D49*INTRO!$E$49,0))","v":54905},{"$f":"IF(INTRO!$E$50=\"\",\"\",ROUND($D49*INTRO!$E$50,0))","v":94720},99,0,3,1,{"$f":"IF(INTRO!$E$38=\"Endemic\", IF($H49>0, IF($H49=4,\"Unknown\", IF($H49=99,\"Stopped\", $D49)), 0),\"Not required\")","v":"Stopped"},0,{"$f":"IF(INTRO!$E$42=\"Endemic\", IF(AND($J49>1,$J49<5), IF($J49=4, \"Unknown\", E49+F49), 0),\"Not required\")","v":80721},18678,0,0,2,1,"T3 (ALB/MBD)","T2 (PZQ)",null,null,49751,"KATAKWI",null,true]
[{"$f":"IF(INTRO!$E$34<>0,INTRO!$E$34,\"\")","v":"Uganda"},"Eastern ","Kibuku",220960,{"$f":"IF(INTRO!$E$48=\"\",\"\",ROUND($D50*INTRO!$E$48,0))","v":31376},{"$f":"IF(INTRO!$E$49=\"\",\"\",ROUND($D50*INTRO!$E$49,0))","v":66730},{"$f":"IF(INTRO!$E$50=\"\",\"\",ROUND($D50*INTRO!$E$50,0))","v":115120},99,0,3,1,{"$f":"IF(INTRO!$E$38=\"Endemic\", IF($H50>0, IF($H50=4,\"Unknown\", IF($H50=99,\"Stopped\", $D50)), 0),\"Not required\")","v":"Stopped"},0,{"$f":"IF(INTRO!$E$42=\"Endemic\", IF(AND($J50>1,$J50<5), IF($J50=4, \"Unknown\", E50+F50), 0),\"Not required\")","v":98106},43365,0,0,2,1,"T3 (ALB/MBD)","T2 (PZQ)",null,null,49763,"KIBUKU",null,true]
[{"$f":"IF(INTRO!$E$34<>0,INTRO!$E$34,\"\")","v":"Uganda"},"Eastern ","Kumi",261683,{"$f":"IF(INTRO!$E$48=\"\",\"\",ROUND($D51*INTRO!$E$48,0))","v":37159},{"$f":"IF(INTRO!$E$49=\"\",\"\",ROUND($D51*INTRO!$E$49,0))","v":79028},{"$f":"IF(INTRO!$E$50=\"\",\"\",ROUND($D51*INTRO!$E$50,0))","v":136337},99,0,3,1,{"$f":"IF(INTRO!$E$38=\"Endemic\", IF($H51>0, IF($H51=4,\"Unknown\", IF($H51=99,\"Stopped\", $D51)), 0),\"Not required\")","v":"Stopped"},0,{"$f":"IF(INTRO!$E$42=\"Endemic\", IF(AND($J51>1,$J51<5), IF($J51=4, \"Unknown\", E51+F51), 0),\"Not required\")","v":116187},41967,0,0,2,1,"T3 (ALB/MBD)","T2 (PZQ)",null,null,49756,"KUMI",null,true]
[{"$f":"IF(INTRO!$E$34<>0,INTRO!$E$34,\"\")","v":"Uganda"},"Eastern ","Kween",102442,{"$f":"IF(INTRO!$E$48=\"\",\"\",ROUND($D52*INTRO!$E$48,0))","v":14547},{"$f":"IF(INTRO!$E$49=\"\",\"\",ROUND($D52*INTRO!$E$49,0))","v":30937},{"$f":"IF(INTRO!$E$50=\"\",\"\",ROUND($D52*INTRO!$E$50,0))","v":53372},0,0,3,1,{"$f":"IF(INTRO!$E$38=\"Endemic\", IF($H52>0, IF($H52=4,\"Unknown\", IF($H52=99,\"Stopped\", $D52)), 0),\"Not required\")","v":0},0,{"$f":"IF(INTRO!$E$42=\"Endemic\", IF(AND($J52>1,$J52<5), IF($J52=4, \"Unknown\", E52+F52), 0),\"Not required\")","v":45484},3044,0,0,2,1,"T3 (ALB/MBD)","T2 (PZQ)",null,null,49768,"KWEEN",null,true]
[{"$f":"IF(INTRO!$E$34<>0,INTRO!$E$34,\"\")","v":"Uganda"},"Eastern ","Luuka",260319,{"$f":"IF(INTRO!$E$48=\"\",\"\",ROUND($D53*INTRO!$E$48,0))","v":36965},{"$f":"IF(INTRO!$E$49=\"\",\"\",ROUND($D53*INTRO!$E$49,0))","v":78616},{"$f":"IF(INTRO!$E$50=\"\",\"\",ROUND($D53*INTRO!$E$50,0))","v":135626},99,0,3,1,{"$f":"IF(INTRO!$E$38=\"Endemic\", IF($H53>0, IF($H53=4,\"Unknown\", IF($H53=99,\"Stopped\", $D53)), 0),\"Not required\")","v":"Stopped"},0,{"$f":"IF(INTRO!$E$42=\"Endemic\", IF(AND($J53>1,$J53<5), IF($J53=4, \"Unknown\", E53+F53), 0),\"Not required\")","v":115581},84810,0,0,2,1,"T3 (ALB/MBD)","T2 (PZQ)",null,null,49773,"LUUKA",null,true]
[{"$f":"IF(INTRO!$E$34<>0,INTRO!$E$34,\"\")","v":"Uganda"},"Eastern ","Manafwa",386972,{"$f":"IF(INTRO!$E$48=\"\",\"\",ROUND($D54*INTRO!$E$48,0))","v":54950},{"$f":"IF(INTRO!$E$49=\"\",\"\",ROUND($D54*INTRO!$E$49,0))","v":116866},{"$f":"IF(INTRO!$E$50=\"\",\"\",ROUND($D54*INTRO!$E$50,0))","v":201612},0,99,3,1,{"$f":"IF(INTRO!$E$38=\"Endemic\", IF($H54>0, IF($H54=4,\"Unknown\", IF($H54=99,\"Stopped\", $D54)), 0),\"Not required\")","v":0},"Stopped",{"$f":"IF(INTRO!$E$42=\"Endemic\", IF(AND($J54>1,$J54<5), IF($J54=4, \"Unknown\", E54+F54), 0),\"Not required\")","v":171816},14317,0,0,2,1,"T3 (ALB/MBD)","T2 (PZQ)",null,null,49777,"MANAFWA",null,true]
[{"$f":"IF(INTRO!$E$34<>0,INTRO!$E$34,\"\")","v":"Uganda"},"Eastern ","Mayuge",477822,{"$f":"IF(INTRO!$E$48=\"\",\"\",ROUND($D55*INTRO!$E$48,0))","v":67851},{"$f":"IF(INTRO!$E$49=\"\",\"\",ROUND($D55*INTRO!$E$49,0))","v":144302},{"$f":"IF(INTRO!$E$50=\"\",\"\",ROUND($D55*INTRO!$E$50,0))","v":248945},1,0,3,3,{"$f":"IF(INTRO!$E$38=\"Endemic\", IF($H55>0, IF($H55=4,\"Unknown\", IF($H55=99,\"Stopped\", $D55)), 0),\"Not required\")","v":477822},0,{"$f":"IF(INTRO!$E$42=\"Endemic\", IF(AND($J55>1,$J55<5), IF($J55=4, \"Unknown\", E55+F55), 0),\"Not required\")","v":212153},139087,1,0,2,1,"MDA1 (IVM+ALB)","T2 (PZQ)",null,null,49779,"MAYUGE",null,true]
[{"$f":"IF(INTRO!$E$34<>0,INTRO!$E$34,\"\")","v":"Uganda"},"Eastern ","Mbale",534766,{"$f":"IF(INTRO!$E$48=\"\",\"\",ROUND($D56*INTRO!$E$48,0))","v":75937},{"$f":"IF(INTRO!$E$49=\"\",\"\",ROUND($D56*INTRO!$E$49,0))","v":161499},{"$f":"IF(INTRO!$E$50=\"\",\"\",ROUND($D56*INTRO!$E$50,0))","v":278613},0,99,3,1,{"$f":"IF(INTRO!$E$38=\"Endemic\", IF($H56>0, IF($H56=4,\"Unknown\", IF($H56=99,\"Stopped\", $D56)), 0),\"Not required\")","v":0},"Stopped",{"$f":"IF(INTRO!$E$42=\"Endemic\", IF(AND($J56>1,$J56<5), IF($J56=4, \"Unknown\", E56+F56), 0),\"Not required\")","v":237436},4099,0,0,2,1,"T3 (ALB/MBD)","T2 (PZQ)",null,null,49780,"MBALE",null,true]
[{"$f":"IF(INTRO!$E$34<>0,INTRO!$E$34,\"\")","v":"Uganda"},"Eastern ","Namayingo",259657,{"$f":"IF(INTRO!$E$48=\"\",\"\",ROUND($D57*INTRO!$E$48,0))","v":36871},{"$f":"IF(INTRO!$E$49=\"\",\"\",ROUND($D57*INTRO!$E$49,0))","v":78416},{"$f":"IF(INTRO!$E$50=\"\",\"\",ROUND($D57*INTRO!$E$50,0))","v":135281},1,0,3,3,{"$f":"IF(INTRO!$E$38=\"Endemic\", IF($H57>0, IF($H57=4,\"Unknown\", IF($H57=99,\"Stopped\", $D57)), 0),\"Not required\")","v":259657},0,{"$f":"IF(INTRO!$E$42=\"Endemic\", IF(AND($J57>1,$J57<5), IF($J57=4, \"Unknown\", E57+F57), 0),\"Not required\")","v":115287},203497,1,0,2,1,"MDA1 (IVM+ALB)","T2 (PZQ)",null,null,49796,"NAMAYINGO",null,true]
[{"$f":"IF(INTRO!$E$34<>0,INTRO!$E$34,\"\")","v":"Uganda"},"Eastern ","Namutumba",276223,{"$f":"IF(INTRO!$E$48=\"\",\"\",ROUND($D58*INTRO!$E$48,0))","v":39224},{"$f":"IF(INTRO!$E$49=\"\",\"\",ROUND($D58*INTRO!$E$49,0))","v":83419},{"$f":"IF(INTRO!$E$50=\"\",\"\",ROUND($D58*INTRO!$E$50,0))","v":143912},99,0,3,1,{"$f":"IF(INTRO!$E$38=\"Endemic\", IF($H58>0, IF($H58=4,\"Unknown\", IF($H58=99,\"Stopped\", $D58)), 0),\"Not required\")","v":"Stopped"},0,{"$f":"IF(INTRO!$E$42=\"Endemic\", IF(AND($J58>1,$J58<5), IF($J58=4, \"Unknown\", E58+F58), 0),\"Not required\")","v":122643},99757,0,0,2,1,"T3 (ALB/MBD)","T2 (PZQ)",null,null,49792,"NAMUTUMBA",null,true]
[{"$f":"IF(INTRO!$E$34<>0,INTRO!$E$34,\"\")","v":"Uganda"},"Eastern ","Ngora",155214,{"$f":"IF(INTRO!$E$48=\"\",\"\",ROUND($D59*INTRO!$E$48,0))","v":22040},{"$f":"IF(INTRO!$E$49=\"\",\"\",ROUND($D59*INTRO!$E$49,0))","v":46875},{"$f":"IF(INTRO!$E$50=\"\",\"\",ROUND($D59*INTRO!$E$50,0))","v":80866},99,0,3,1,{"$f":"IF(INTRO!$E$38=\"Endemic\", IF($H59>0, IF($H59=4,\"Unknown\", IF($H59=99,\"Stopped\", $D59)), 0),\"Not required\")","v":"Stopped"},0,{"$f":"IF(INTRO!$E$42=\"Endemic\", IF(AND($J59>1,$J59<5), IF($J59=4, \"Unknown\", E59+F59), 0),\"Not required\")","v":68915},48870,0,0,2,1,"T3 (ALB/MBD)","T2 (PZQ)",null,null,49798,"NGORA",null,true]
[{"$f":"IF(INTRO!$E$34<>0,INTRO!$E$34,\"\")","v":"Uganda"},"Eastern ","Pallisa",423135,{"$f":"IF(INTRO!$E$48=\"\",\"\",ROUND($D60*INTRO!$E$48,0))","v":60085},{"$f":"IF(INTRO!$E$49=\"\",\"\",ROUND($D60*INTRO!$E$49,0))","v":127787},{"$f":"IF(INTRO!$E$50=\"\",\"\",ROUND($D60*INTRO!$E$50,0))","v":220453},99,0,3,1,{"$f":"IF(INTRO!$E$38=\"Endemic\", IF($H60>0, IF($H60=4,\"Unknown\", IF($H60=99,\"Stopped\", $D60)), 0),\"Not required\")","v":"Stopped"},0,{"$f":"IF(INTRO!$E$42=\"Endemic\", IF(AND($J60>1,$J60<5), IF($J60=4, \"Unknown\", E60+F60), 0),\"Not required\")","v":187872},69467,0,0,2,1,"T3 (ALB/MBD)","T2 (PZQ)",null,null,49804,"PALLISA",null,true]
[{"$f":"IF(INTRO!$E$34<>0,INTRO!$E$34,\"\")","v":"Uganda"},"Eastern ","Serere",312687,{"$f":"IF(INTRO!$E$48=\"\",\"\",ROUND($D61*INTRO!$E$48,0))","v":44402},{"$f":"IF(INTRO!$E$49=\"\",\"\",ROUND($D61*INTRO!$E$49,0))","v":94431},{"$f":"IF(INTRO!$E$50=\"\",\"\",ROUND($D61*INTRO!$E$50,0))","v":162910},99,0,3,3,{"$f":"IF(INTRO!$E$38=\"Endemic\", IF($H61>0, IF($H61=4,\"Unknown\", IF($H61=99,\"Stopped\", $D61)), 0),\"Not required\")","v":"Stopped"},0,{"$f":"IF(INTRO!$E$42=\"Endemic\", IF(AND($J61>1,$J61<5), IF($J61=4, \"Unknown\", E61+F61), 0),\"Not required\")","v":138833},158461,0,0,2,1,"T3 (ALB/MBD)","T2 (PZQ)",null,null,49812,"SERERE",null,true]
[{"$f":"IF(INTRO!$E$34<>0,INTRO!$E$34,\"\")","v":"Uganda"},"Eastern ","Sironko",265132,{"$f":"IF(INTRO!$E$48=\"\",\"\",ROUND($D62*INTRO!$E$48,0))","v":37649},{"$f":"IF(INTRO!$E$49=\"\",\"\",ROUND($D62*INTRO!$E$49,0))","v":80070},{"$f":"IF(INTRO!$E$50=\"\",\"\",ROUND($D62*INTRO!$E$50,0))","v":138134},0,99,3,1,{"$f":"IF(INTRO!$E$38=\"Endemic\", IF($H62>0, IF($H62=4,\"Unknown\", IF($H62=99,\"Stopped\", $D62)), 0),\"Not required\")","v":0},"Stopped",{"$f":"IF(INTRO!$E$42=\"Endemic\", IF(AND($J62>1,$J62<5), IF($J62=4, \"Unknown\", E62+F62), 0),\"Not required\")","v":117719},9431,0,0,2,1,"T3 (ALB/MBD)","T2 (PZQ)",null,null,49809,"SIRONKO",null,true]
[{"$f":"IF(INTRO!$E$34<>0,INTRO!$E$34,\"\")","v":"Uganda"},"Eastern ","Soroti",324641,{"$f":"IF(INTRO!$E$48=\"\",\"\",ROUND($D63*INTRO!$E$48,0))","v":46099},{"$f":"IF(INTRO!$E$49=\"\",\"\",ROUND($D63*INTRO!$E$49,0))","v":98042},{"$f":"IF(INTRO!$E$50=\"\",\"\",ROUND($D63*INTRO!$E$50,0))","v":169138},99,0,3,1,{"$f":"IF(INTRO!$E$38=\"Endemic\", IF($H63>0, IF($H63=4,\"Unknown\", IF($H63=99,\"Stopped\", $D63)), 0),\"Not required\")","v":"Stopped"},0,{"$f":"IF(INTRO!$E$42=\"Endemic\", IF(AND($J63>1,$J63<5), IF($J63=4, \"Unknown\", E63+F63), 0),\"Not required\")","v":144141},18118,0,0,2,1,"T3 (ALB/MBD)","T2 (PZQ)",null,null,49810,"SOROTI",null,true]
[{"$f":"IF(INTRO!$E$34<>0,INTRO!$E$34,\"\")","v":"Uganda"},"Eastern ","Tororo",565523,{"$f":"IF(INTRO!$E$48=\"\",\"\",ROUND($D64*INTRO!$E$48,0))","v":80304},{"$f":"IF(INTRO!$E$49=\"\",\"\",ROUND($D64*INTRO!$E$49,0))","v":170788},{"$f":"IF(INTRO!$E$50=\"\",\"\",ROUND($D64*INTRO!$E$50,0))","v":294637},99,0,3,1,{"$f":"IF(INTRO!$E$38=\"Endemic\", IF($H64>0, IF($H64=4,\"Unknown\", IF($H64=99,\"Stopped\", $D64)), 0),\"Not required\")","v":"Stopped"},0,{"$f":"IF(INTRO!$E$42=\"Endemic\", IF(AND($J64>1,$J64<5), IF($J64=4, \"Unknown\", E64+F64), 0),\"Not required\")","v":251092},105271,0,0,2,1,"T3 (ALB/MBD)","T2 (PZQ)",null,null,49814,"TORORO",null,true]
[{"$f":"IF(INTRO!$E$34<>0,INTRO!$E$34,\"\")","v":"Uganda"},"Northern","Abim",118080,{"$f":"IF(INTRO!$E$48=\"\",\"\",ROUND($D65*INTRO!$E$48,0))","v":16767},{"$f":"IF(INTRO!$E$49=\"\",\"\",ROUND($D65*INTRO!$E$49,0))","v":35660},{"$f":"IF(INTRO!$E$50=\"\",\"\",ROUND($D65*INTRO!$E$50,0))","v":61520},99,0,3,0,{"$f":"IF(INTRO!$E$38=\"Endemic\", IF($H65>0, IF($H65=4,\"Unknown\", IF($H65=99,\"Stopped\", $D65)), 0),\"Not required\")","v":"Stopped"},0,{"$f":"IF(INTRO!$E$42=\"Endemic\", IF(AND($J65>1,$J65<5), IF($J65=4, \"Unknown\", E65+F65), 0),\"Not required\")","v":52427},0,0,0,2,0,"T3 (ALB/MBD)","T3 (ALB/MBD)",null,null,49706,"ABIM",null,true]
[{"$f":"IF(INTRO!$E$34<>0,INTRO!$E$34,\"\")","v":"Uganda"},"Northern","Adjumani",246353,{"$f":"IF(INTRO!$E$48=\"\",\"\",ROUND($D66*INTRO!$E$48,0))","v":34982},{"$f":"IF(INTRO!$E$49=\"\",\"\",ROUND($D66*INTRO!$E$49,0))","v":74399},{"$f":"IF(INTRO!$E$50=\"\",\"\",ROUND($D66*INTRO!$E$50,0))","v":128350},99,1,3,3,{"$f":"IF(INTRO!$E$38=\"Endemic\", IF($H66>0, IF($H66=4,\"Unknown\", IF($H66=99,\"Stopped\", $D66)), 0),\"Not required\")","v":"Stopped"},28589,{"$f":"IF(INTRO!$E$42=\"Endemic\", IF(AND($J66>1,$J66<5), IF($J66=4, \"Unknown\", E66+F66), 0),\"Not required\")","v":109381},47435,0,2,2,1,"MDA3 (IVM)","T2 (PZQ)",null,null,49707,"ADJUMANI",null,true]
[{"$f":"IF(INTRO!$E$34<>0,INTRO!$E$34,\"\")","v":"Uganda"},"Northern","Agago",249132,{"$f":"IF(INTRO!$E$48=\"\",\"\",ROUND($D67*INTRO!$E$48,0))","v":35377},{"$f":"IF(INTRO!$E$49=\"\",\"\",ROUND($D67*INTRO!$E$49,0))","v":75238},{"$f":"IF(INTRO!$E$50=\"\",\"\",ROUND($D67*INTRO!$E$50,0))","v":129798},99,0,3,3,{"$f":"IF(INTRO!$E$38=\"Endemic\", IF($H67>0, IF($H67=4,\"Unknown\", IF($H67=99,\"Stopped\", $D67)), 0),\"Not required\")","v":"Stopped"},0,{"$f":"IF(INTRO!$E$42=\"Endemic\", IF(AND($J67>1,$J67<5), IF($J67=4, \"Unknown\", E67+F67), 0),\"Not required\")","v":110615},184053,0,0,2,1,"T3 (ALB/MBD)","T2 (PZQ)",null,null,49713,"AGAGO",null,true]
[{"$f":"IF(INTRO!$E$34<>0,INTRO!$E$34,\"\")","v":"Uganda"},"Northern","Alebtong",248857,{"$f":"IF(INTRO!$E$48=\"\",\"\",ROUND($D68*INTRO!$E$48,0))","v":35338},{"$f":"IF(INTRO!$E$49=\"\",\"\",ROUND($D68*INTRO!$E$49,0))","v":75155},{"$f":"IF(INTRO!$E$50=\"\",\"\",ROUND($D68*INTRO!$E$50,0))","v":129654},99,0,3,2,{"$f":"IF(INTRO!$E$38=\"Endemic\", IF($H68>0, IF($H68=4,\"Unknown\", IF($H68=99,\"Stopped\", $D68)), 0),\"Not required\")","v":"Stopped"},0,{"$f":"IF(INTRO!$E$42=\"Endemic\", IF(AND($J68>1,$J68<5), IF($J68=4, \"Unknown\", E68+F68), 0),\"Not required\")","v":110493},99773,0,0,2,1,"T3 (ALB/MBD)","T2 (PZQ)",null,null,49714,"ALEBTONG",null,true]
[{"$f":"IF(INTRO!$E$34<>0,INTRO!$E$34,\"\")","v":"Uganda"},"Northern","Amolatar",160952,{"$f":"IF(INTRO!$E$48=\"\",\"\",ROUND($D69*INTRO!$E$48,0))","v":22855},{"$f":"IF(INTRO!$E$49=\"\",\"\",ROUND($D69*INTRO!$E$49,0))","v":48608},{"$f":"IF(INTRO!$E$50=\"\",\"\",ROUND($D69*INTRO!$E$50,0))","v":83856},99,0,3,3,{"$f":"IF(INTRO!$E$38=\"Endemic\", IF($H69>0, IF($H69=4,\"Unknown\", IF($H69=99,\"Stopped\", $D69)), 0),\"Not required\")","v":"Stopped"},0,{"$f":"IF(INTRO!$E$42=\"Endemic\", IF(AND($J69>1,$J69<5), IF($J69=4, \"Unknown\", E69+F69), 0),\"Not required\")","v":71463},126651,0,0,2,1,"T3 (ALB/MBD)","T2 (PZQ)",null,null,49708,"AMOLATAR",null,true]
[{"$f":"IF(INTRO!$E$34<>0,INTRO!$E$34,\"\")","v":"Uganda"},"Northern","Amudat",115676,{"$f":"IF(INTRO!$E$48=\"\",\"\",ROUND($D70*INTRO!$E$48,0))","v":16426},{"$f":"IF(INTRO!$E$49=\"\",\"\",ROUND($D70*INTRO!$E$49,0))","v":34934},{"$f":"IF(INTRO!$E$50=\"\",\"\",ROUND($D70*INTRO!$E$50,0))","v":60267},99,0,3,0,{"$f":"IF(INTRO!$E$38=\"Endemic\", IF($H70>0, IF($H70=4,\"Unknown\", IF($H70=99,\"Stopped\", $D70)), 0),\"Not required\")","v":"Stopped"},0,{"$f":"IF(INTRO!$E$42=\"Endemic\", IF(AND($J70>1,$J70<5), IF($J70=4, \"Unknown\", E70+F70), 0),\"Not required\")","v":51360},0,0,0,2,0,"T3 (ALB/MBD)","T3 (ALB/MBD)",null,null,49715,"AMUDAT",null,true]
[{"$f":"IF(INTRO!$E$34<>0,INTRO!$E$34,\"\")","v":"Uganda"},"Northern","Amuru",242538,{"$f":"IF(INTRO!$E$48=\"\",\"\",ROUND($D71*INTRO!$E$48,0))","v":34440},{"$f":"IF(INTRO!$E$49=\"\",\"\",ROUND($D71*INTRO!$E$49,0))","v":73246},{"$f":"IF(INTRO!$E$50=\"\",\"\",ROUND($D71*INTRO!$E$50,0))","v":126362},99,1,3,3,{"$f":"IF(INTRO!$E$38=\"Endemic\", IF($H71>0, IF($H71=4,\"Unknown\", IF($H71=99,\"Stopped\", $D71)), 0),\"Not required\")","v":"Stopped"},242538,{"$f":"IF(INTRO!$E$42=\"Endemic\", IF(AND($J71>1,$J71<5), IF($J71=4, \"Unknown\", E71+F71), 0),\"Not required\")","v":107686},199608,0,2,2,1,"MDA3 (IVM)","T2 (PZQ)",null,null,49710,"AMURU",null,true]
[{"$f":"IF(INTRO!$E$34<>0,INTRO!$E$34,\"\")","v":"Uganda"},"Northern","Apac",403159,{"$f":"IF(INTRO!$E$48=\"\",\"\",ROUND($D72*INTRO!$E$48,0))","v":57249},{"$f":"IF(INTRO!$E$49=\"\",\"\",ROUND($D72*INTRO!$E$49,0))","v":121754},{"$f":"IF(INTRO!$E$50=\"\",\"\",ROUND($D72*INTRO!$E$50,0))","v":210046},99,0,3,3,{"$f":"IF(INTRO!$E$38=\"Endemic\", IF($H72>0, IF($H72=4,\"Unknown\", IF($H72=99,\"Stopped\", $D72)), 0),\"Not required\")","v":"Stopped"},0,{"$f":"IF(INTRO!$E$42=\"Endemic\", IF(AND($J72>1,$J72<5), IF($J72=4, \"Unknown\", E72+F72), 0),\"Not required\")","v":179003},238178,0,0,2,1,"T3 (ALB/MBD)","T2 (PZQ)",null,null,49711,"APAC",null,true]
[{"$f":"IF(INTRO!$E$34<>0,INTRO!$E$34,\"\")","v":"Uganda"},"Northern","Arua",855344,{"$f":"IF(INTRO!$E$48=\"\",\"\",ROUND($D73*INTRO!$E$48,0))","v":121459},{"$f":"IF(INTRO!$E$49=\"\",\"\",ROUND($D73*INTRO!$E$49,0))","v":258314},{"$f":"IF(INTRO!$E$50=\"\",\"\",ROUND($D73*INTRO!$E$50,0))","v":445634},1,1,3,2,{"$f":"IF(INTRO!$E$38=\"Endemic\", IF($H73>0, IF($H73=4,\"Unknown\", IF($H73=99,\"Stopped\", $D73)), 0),\"Not required\")","v":855344},186294,{"$f":"IF(INTRO!$E$42=\"Endemic\", IF(AND($J73>1,$J73<5), IF($J73=4, \"Unknown\", E73+F73), 0),\"Not required\")","v":379773},770141,1,2,2,1,"MDA1 (IVM+ALB)","T2 (PZQ)",null,null,49712,"ARUA",null,true]
[{"$f":"IF(INTRO!$E$34<>0,INTRO!$E$34,\"\")","v":"Uganda"},"Northern","Dokolo",200246,{"$f":"IF(INTRO!$E$48=\"\",\"\",ROUND($D74*INTRO!$E$48,0))","v":28435},{"$f":"IF(INTRO!$E$49=\"\",\"\",ROUND($D74*INTRO!$E$49,0))","v":60474},{"$f":"IF(INTRO!$E$50=\"\",\"\",ROUND($D74*INTRO!$E$50,0))","v":104328},99,0,3,1,{"$f":"IF(INTRO!$E$38=\"Endemic\", IF($H74>0, IF($H74=4,\"Unknown\", IF($H74=99,\"Stopped\", $D74)), 0),\"Not required\")","v":"Stopped"},0,{"$f":"IF(INTRO!$E$42=\"Endemic\", IF(AND($J74>1,$J74<5), IF($J74=4, \"Unknown\", E74+F74), 0),\"Not required\")","v":88909},32455,0,0,2,1,"T3 (ALB/MBD)","T2 (PZQ)",null,null,49733,"DOKOLO",null,{"$f":"Y74=C74","v":true}]
[{"$f":"IF(INTRO!$E$34<>0,INTRO!$E$34,\"\")","v":"Uganda"},"Northern","Gulu",219162,{"$f":"IF(INTRO!$E$48=\"\",\"\",ROUND($D75*INTRO!$E$48,0))","v":31121},{"$f":"IF(INTRO!$E$49=\"\",\"\",ROUND($D75*INTRO!$E$49,0))","v":66187},{"$f":"IF(INTRO!$E$50=\"\",\"\",ROUND($D75*INTRO!$E$50,0))","v":114183},1,1,3,2,{"$f":"IF(INTRO!$E$38=\"Endemic\", IF($H75>0, IF($H75=4,\"Unknown\", IF($H75=99,\"Stopped\", $D75)), 0),\"Not required\")","v":219162},149990,{"$f":"IF(INTRO!$E$42=\"Endemic\", IF(AND($J75>1,$J75<5), IF($J75=4, \"Unknown\", E75+F75), 0),\"Not required\")","v":97308},186904,1,2,2,1,"MDA1 (IVM+ALB)","T2 (PZQ)",null,null,49734,"GULU",null,true]
[{"$f":"IF(INTRO!$E$34<>0,INTRO!$E$34,\"\")","v":"Uganda"},"Northern","Kaabong",183607,{"$f":"IF(INTRO!$E$48=\"\",\"\",ROUND($D76*INTRO!$E$48,0))","v":26072},{"$f":"IF(INTRO!$E$49=\"\",\"\",ROUND($D76*INTRO!$E$49,0))","v":55449},{"$f":"IF(INTRO!$E$50=\"\",\"\",ROUND($D76*INTRO!$E$50,0))","v":95659},99,0,3,0,{"$f":"IF(INTRO!$E$38=\"Endemic\", IF($H76>0, IF($H76=4,\"Unknown\", IF($H76=99,\"Stopped\", $D76)), 0),\"Not required\")","v":"Stopped"},0,{"$f":"IF(INTRO!$E$42=\"Endemic\", IF(AND($J76>1,$J76<5), IF($J76=4, \"Unknown\", E76+F76), 0),\"Not required\")","v":81521},0,0,0,2,0,"T3 (ALB/MBD)","T3 (ALB/MBD)",null,null,49744,"KAABONG",null,true]
[{"$f":"IF(INTRO!$E$34<>0,INTRO!$E$34,\"\")","v":"Uganda"},"Northern","Kitgum",223164,{"$f":"IF(INTRO!$E$48=\"\",\"\",ROUND($D77*INTRO!$E$48,0))","v":31689},{"$f":"IF(INTRO!$E$49=\"\",\"\",ROUND($D77*INTRO!$E$49,0))","v":67396},{"$f":"IF(INTRO!$E$50=\"\",\"\",ROUND($D77*INTRO!$E$50,0))","v":116268},1,1,3,3,{"$f":"IF(INTRO!$E$38=\"Endemic\", IF($H77>0, IF($H77=4,\"Unknown\", IF($H77=99,\"Stopped\", $D77)), 0),\"Not required\")","v":223164},107765,{"$f":"IF(INTRO!$E$42=\"Endemic\", IF(AND($J77>1,$J77<5), IF($J77=4, \"Unknown\", E77+F77), 0),\"Not required\")","v":99085},181165,1,2,2,1,"MDA1 (IVM+ALB)","T2 (PZQ)",null,null,49766,"KITGUM",null,true]
[{"$f":"IF(INTRO!$E$34<>0,INTRO!$E$34,\"\")","v":"Uganda"},"Northern","Koboko",225840,{"$f":"IF(INTRO!$E$48=\"\",\"\",ROUND($D78*INTRO!$E$48,0))","v":32069},{"$f":"IF(INTRO!$E$49=\"\",\"\",ROUND($D78*INTRO!$E$49,0))","v":68204},{"$f":"IF(INTRO!$E$50=\"\",\"\",ROUND($D78*INTRO!$E$50,0))","v":117663},99,1,3,3,{"$f":"IF(INTRO!$E$38=\"Endemic\", IF($H78>0, IF($H78=4,\"Unknown\", IF($H78=99,\"Stopped\", $D78)), 0),\"Not required\")","v":"Stopped"},15178,{"$f":"IF(INTRO!$E$42=\"Endemic\", IF(AND($J78>1,$J78<5), IF($J78=4, \"Unknown\", E78+F78), 0),\"Not required\")","v":100273},47801,0,1,2,1,"MDA3 (IVM)","T2 (PZQ)",null,null,49754,"KOBOKO",null,true]
[{"$f":"IF(INTRO!$E$34<>0,INTRO!$E$34,\"\")","v":"Uganda"},"Northern","Kole",261748,{"$f":"IF(INTRO!$E$48=\"\",\"\",ROUND($D79*INTRO!$E$48,0))","v":37168},{"$f":"IF(INTRO!$E$49=\"\",\"\",ROUND($D79*INTRO!$E$49,0))","v":79048},{"$f":"IF(INTRO!$E$50=\"\",\"\",ROUND($D79*INTRO!$E$50,0))","v":136371},99,0,3,0,{"$f":"IF(INTRO!$E$38=\"Endemic\", IF($H79>0, IF($H79=4,\"Unknown\", IF($H79=99,\"Stopped\", $D79)), 0),\"Not required\")","v":"Stopped"},0,{"$f":"IF(INTRO!$E$42=\"Endemic\", IF(AND($J79>1,$J79<5), IF($J79=4, \"Unknown\", E79+F79), 0),\"Not required\")","v":116216},0,0,0,2,0,"T3 (ALB/MBD)","T3 (ALB/MBD)",null,null,49767,"KOLE",null,true]
[{"$f":"IF(INTRO!$E$34<>0,INTRO!$E$34,\"\")","v":"Uganda"},"Northern","Kotido",198011,{"$f":"IF(INTRO!$E$48=\"\",\"\",ROUND($D80*INTRO!$E$48,0))","v":28118},{"$f":"IF(INTRO!$E$49=\"\",\"\",ROUND($D80*INTRO!$E$49,0))","v":59799},{"$f":"IF(INTRO!$E$50=\"\",\"\",ROUND($D80*INTRO!$E$50,0))","v":103164},99,0,3,0,{"$f":"IF(INTRO!$E$38=\"Endemic\", IF($H80>0, IF($H80=4,\"Unknown\", IF($H80=99,\"Stopped\", $D80)), 0),\"Not required\")","v":"Stopped"},0,{"$f":"IF(INTRO!$E$42=\"Endemic\", IF(AND($J80>1,$J80<5), IF($J80=4, \"Unknown\", E80+F80), 0),\"Not required\")","v":87917},0,0,0,2,0,"T3 (ALB/MBD)","T3 (ALB/MBD)",null,null,49755,"KOTIDO",null,true]
[{"$f":"IF(INTRO!$E$34<>0,INTRO!$E$34,\"\")","v":"Uganda"},"Northern","Lamwo",153001,{"$f":"IF(INTRO!$E$48=\"\",\"\",ROUND($D81*INTRO!$E$48,0))","v":21726},{"$f":"IF(INTRO!$E$49=\"\",\"\",ROUND($D81*INTRO!$E$49,0))","v":46206},{"$f":"IF(INTRO!$E$50=\"\",\"\",ROUND($D81*INTRO!$E$50,0))","v":79714},1,1,3,1,{"$f":"IF(INTRO!$E$38=\"Endemic\", IF($H81>0, IF($H81=4,\"Unknown\", IF($H81=99,\"Stopped\", $D81)), 0),\"Not required\")","v":153001},153001,{"$f":"IF(INTRO!$E$42=\"Endemic\", IF(AND($J81>1,$J81<5), IF($J81=4, \"Unknown\", E81+F81), 0),\"Not required\")","v":67932},40343,1,2,2,1,"MDA1 (IVM+ALB)","T2 (PZQ)",null,null,49772,"LAMWO",null,true]
[{"$f":"IF(INTRO!$E$34<>0,INTRO!$E$34,\"\")","v":"Uganda"},"Northern","Lira",446269,{"$f":"IF(INTRO!$E$48=\"\",\"\",ROUND($D82*INTRO!$E$48,0))","v":63370},{"$f":"IF(INTRO!$E$49=\"\",\"\",ROUND($D82*INTRO!$E$49,0))","v":134773},{"$f":"IF(INTRO!$E$50=\"\",\"\",ROUND($D82*INTRO!$E$50,0))","v":232506},99,1,3,1,{"$f":"IF(INTRO!$E$38=\"Endemic\", IF($H82>0, IF($H82=4,\"Unknown\", IF($H82=99,\"Stopped\", $D82)), 0),\"Not required\")","v":"Stopped"},73110,{"$f":"IF(INTRO!$E$42=\"Endemic\", IF(AND($J82>1,$J82<5), IF($J82=4, \"Unknown\", E82+F82), 0),\"Not required\")","v":198143},8718,0,1,2,1,"MDA3 (IVM)","T2 (PZQ)",null,null,49771,"LIRA",null,true]
[{"$f":"IF(INTRO!$E$34<>0,INTRO!$E$34,\"\")","v":"Uganda"},"Northern","Maracha",203572,{"$f":"IF(INTRO!$E$48=\"\",\"\",ROUND($D83*INTRO!$E$48,0))","v":28907},{"$f":"IF(INTRO!$E$49=\"\",\"\",ROUND($D83*INTRO!$E$49,0))","v":61479},{"$f":"IF(INTRO!$E$50=\"\",\"\",ROUND($D83*INTRO!$E$50,0))","v":106061},1,99,3,1,{"$f":"IF(INTRO!$E$38=\"Endemic\", IF($H83>0, IF($H83=4,\"Unknown\", IF($H83=99,\"Stopped\", $D83)), 0),\"Not required\")","v":203572},"Stopped",{"$f":"IF(INTRO!$E$42=\"Endemic\", IF(AND($J83>1,$J83<5), IF($J83=4, \"Unknown\", E83+F83), 0),\"Not required\")","v":90386},61479,1,0,2,1,"MDA1 (IVM+ALB)","T2 (PZQ)",null,null,49784,"MARACHA",null,true]
[{"$f":"IF(INTRO!$E$34<>0,INTRO!$E$34,\"\")","v":"Uganda"},"Northern","Moroto",113122,{"$f":"IF(INTRO!$E$48=\"\",\"\",ROUND($D84*INTRO!$E$48,0))","v":16063},{"$f":"IF(INTRO!$E$49=\"\",\"\",ROUND($D84*INTRO!$E$49,0))","v":34163},{"$f":"IF(INTRO!$E$50=\"\",\"\",ROUND($D84*INTRO!$E$50,0))","v":58937},99,0,3,0,{"$f":"IF(INTRO!$E$38=\"Endemic\", IF($H84>0, IF($H84=4,\"Unknown\", IF($H84=99,\"Stopped\", $D84)), 0),\"Not required\")","v":"Stopped"},0,{"$f":"IF(INTRO!$E$42=\"Endemic\", IF(AND($J84>1,$J84<5), IF($J84=4, \"Unknown\", E84+F84), 0),\"Not required\")","v":50226},0,0,0,2,0,"T3 (ALB/MBD)","T3 (ALB/MBD)",null,null,49781,"MOROTO",null,true]
[{"$f":"IF(INTRO!$E$34<>0,INTRO!$E$34,\"\")","v":"Uganda"},"Northern","Moyo",152035,{"$f":"IF(INTRO!$E$48=\"\",\"\",ROUND($D85*INTRO!$E$48,0))","v":21589},{"$f":"IF(INTRO!$E$49=\"\",\"\",ROUND($D85*INTRO!$E$49,0))","v":45915},{"$f":"IF(INTRO!$E$50=\"\",\"\",ROUND($D85*INTRO!$E$50,0))","v":79210},99,1,3,3,{"$f":"IF(INTRO!$E$38=\"Endemic\", IF($H85>0, IF($H85=4,\"Unknown\", IF($H85=99,\"Stopped\", $D85)), 0),\"Not required\")","v":"Stopped"},90729,{"$f":"IF(INTRO!$E$42=\"Endemic\", IF(AND($J85>1,$J85<5), IF($J85=4, \"Unknown\", E85+F85), 0),\"Not required\")","v":67504},89608,0,2,2,1,"MDA3 (IVM)","T2 (PZQ)",null,null,49782,"MOYO",null,true]
[{"$f":"IF(INTRO!$E$34<>0,INTRO!$E$34,\"\")","v":"Uganda"},"Northern","Nakapiripirit",171370,{"$f":"IF(INTRO!$E$48=\"\",\"\",ROUND($D86*INTRO!$E$48,0))","v":24335},{"$f":"IF(INTRO!$E$49=\"\",\"\",ROUND($D86*INTRO!$E$49,0))","v":51754},{"$f":"IF(INTRO!$E$50=\"\",\"\",ROUND($D86*INTRO!$E$50,0))","v":89284},99,0,3,1,{"$f":"IF(INTRO!$E$38=\"Endemic\", IF($H86>0, IF($H86=4,\"Unknown\", IF($H86=99,\"Stopped\", $D86)), 0),\"Not required\")","v":"Stopped"},0,{"$f":"IF(INTRO!$E$42=\"Endemic\", IF(AND($J86>1,$J86<5), IF($J86=4, \"Unknown\", E86+F86), 0),\"Not required\")","v":76089},7906,0,0,2,1,"T3 (ALB/MBD)","T2 (PZQ)",null,null,49794,"NAKAPIRIPIRIT",null,true]
[{"$f":"IF(INTRO!$E$34<>0,INTRO!$E$34,\"\")","v":"Uganda"},"Northern","Napak",155547,{"$f":"IF(INTRO!$E$48=\"\",\"\",ROUND($D87*INTRO!$E$48,0))","v":22088},{"$f":"IF(INTRO!$E$49=\"\",\"\",ROUND($D87*INTRO!$E$49,0))","v":46975},{"$f":"IF(INTRO!$E$50=\"\",\"\",ROUND($D87*INTRO!$E$50,0))","v":81040},99,0,3,0,{"$f":"IF(INTRO!$E$38=\"Endemic\", IF($H87>0, IF($H87=4,\"Unknown\", IF($H87=99,\"Stopped\", $D87)), 0),\"Not required\")","v":"Stopped"},0,{"$f":"IF(INTRO!$E$42=\"Endemic\", IF(AND($J87>1,$J87<5), IF($J87=4, \"Unknown\", E87+F87), 0),\"Not required\")","v":69063},0,0,0,2,0,"T3 (ALB/MBD)","T3 (ALB/MBD)",null,null,49797,"NAPAK",null,true]
[{"$f":"IF(INTRO!$E$34<>0,INTRO!$E$34,\"\")","v":"Uganda"},"Northern","Nebbi",433966,{"$f":"IF(INTRO!$E$48=\"\",\"\",ROUND($D88*INTRO!$E$48,0))","v":61623},{"$f":"IF(INTRO!$E$49=\"\",\"\",ROUND($D88*INTRO!$E$49,0))","v":131058},{"$f":"IF(INTRO!$E$50=\"\",\"\",ROUND($D88*INTRO!$E$50,0))","v":226096},99,1,3,3,{"$f":"IF(INTRO!$E$38=\"Endemic\", IF($H88>0, IF($H88=4,\"Unknown\", IF($H88=99,\"Stopped\", $D88)), 0),\"Not required\")","v":"Stopped"},142850,{"$f":"IF(INTRO!$E$42=\"Endemic\", IF(AND($J88>1,$J88<5), IF($J88=4, \"Unknown\", E88+F88), 0),\"Not required\")","v":192681},145807,0,2,2,1,"MDA3 (IVM)","T2 (PZQ)",null,null,49793,"NEBBI",null,true]
[{"$f":"IF(INTRO!$E$34<>0,INTRO!$E$34,\"\")","v":"Uganda"},"Northern","Nwoya",180617,{"$f":"IF(INTRO!$E$48=\"\",\"\",ROUND($D89*INTRO!$E$48,0))","v":25648},{"$f":"IF(INTRO!$E$49=\"\",\"\",ROUND($D89*INTRO!$E$49,0))","v":54546},{"$f":"IF(INTRO!$E$50=\"\",\"\",ROUND($D89*INTRO!$E$50,0))","v":94101},99,1,3,2,{"$f":"IF(INTRO!$E$38=\"Endemic\", IF($H89>0, IF($H89=4,\"Unknown\", IF($H89=99,\"Stopped\", $D89)), 0),\"Not required\")","v":"Stopped"},180617,{"$f":"IF(INTRO!$E$42=\"Endemic\", IF(AND($J89>1,$J89<5), IF($J89=4, \"Unknown\", E89+F89), 0),\"Not required\")","v":80194},144863,0,2,2,1,"MDA3 (IVM)","T2 (PZQ)",null,null,49801,"NWOYA",null,true]
[{"$f":"IF(INTRO!$E$34<>0,INTRO!$E$34,\"\")","v":"Uganda"},"Northern","Omoro",192557,{"$f":"IF(INTRO!$E$48=\"\",\"\",ROUND($D90*INTRO!$E$48,0))","v":27343},{"$f":"IF(INTRO!$E$49=\"\",\"\",ROUND($D90*INTRO!$E$49,0))","v":58152},{"$f":"IF(INTRO!$E$50=\"\",\"\",ROUND($D90*INTRO!$E$50,0))","v":100322},1,1,3,2,{"$f":"IF(INTRO!$E$38=\"Endemic\", IF($H90>0, IF($H90=4,\"Unknown\", IF($H90=99,\"Stopped\", $D90)), 0),\"Not required\")","v":192557},192557,{"$f":"IF(INTRO!$E$42=\"Endemic\", IF(AND($J90>1,$J90<5), IF($J90=4, \"Unknown\", E90+F90), 0),\"Not required\")","v":85495},134078,1,2,2,1,"MDA1 (IVM+ALB)","T2 (PZQ)",null,null,49818,"OMORO",null,true]
[{"$f":"IF(INTRO!$E$34<>0,INTRO!$E$34,\"\")","v":"Uganda"},"Northern","Otuke",114021,{"$f":"IF(INTRO!$E$48=\"\",\"\",ROUND($D91*INTRO!$E$48,0))","v":16191},{"$f":"IF(INTRO!$E$49=\"\",\"\",ROUND($D91*INTRO!$E$49,0))","v":34434},{"$f":"IF(INTRO!$E$50=\"\",\"\",ROUND($D91*INTRO!$E$50,0))","v":59405},99,0,3,0,{"$f":"IF(INTRO!$E$38=\"Endemic\", IF($H91>0, IF($H91=4,\"Unknown\", IF($H91=99,\"Stopped\", $D91)), 0),\"Not required\")","v":"Stopped"},0,{"$f":"IF(INTRO!$E$42=\"Endemic\", IF(AND($J91>1,$J91<5), IF($J91=4, \"Unknown\", E91+F91), 0),\"Not required\")","v":50625},0,0,0,2,0,"T3 (ALB/MBD)","T3 (ALB/MBD)",null,null,49803,"OTUKE",null,true]
[{"$f":"IF(INTRO!$E$34<>0,INTRO!$E$34,\"\")","v":"Uganda"},"Northern","Oyam",419585,{"$f":"IF(INTRO!$E$48=\"\",\"\",ROUND($D92*INTRO!$E$48,0))","v":59581},{"$f":"IF(INTRO!$E$49=\"\",\"\",ROUND($D92*INTRO!$E$49,0))","v":126715},{"$f":"IF(INTRO!$E$50=\"\",\"\",ROUND($D92*INTRO!$E$50,0))","v":218604},99,1,3,3,{"$f":"IF(INTRO!$E$38=\"Endemic\", IF($H92>0, IF($H92=4,\"Unknown\", IF($H92=99,\"Stopped\", $D92)), 0),\"Not required\")","v":"Stopped"},23841,{"$f":"IF(INTRO!$E$42=\"Endemic\", IF(AND($J92>1,$J92<5), IF($J92=4, \"Unknown\", E92+F92), 0),\"Not required\")","v":186296},169299,0,2,2,1,"MDA3 (IVM)","T2 (PZQ)",null,null,49802,"OYAM",null,true]
[{"$f":"IF(INTRO!$E$34<>0,INTRO!$E$34,\"\")","v":"Uganda"},"Northern","Pader",194828,{"$f":"IF(INTRO!$E$48=\"\",\"\",ROUND($D93*INTRO!$E$48,0))","v":27666},{"$f":"IF(INTRO!$E$49=\"\",\"\",ROUND($D93*INTRO!$E$49,0))","v":58838},{"$f":"IF(INTRO!$E$50=\"\",\"\",ROUND($D93*INTRO!$E$50,0))","v":101505},99,1,3,3,{"$f":"IF(INTRO!$E$38=\"Endemic\", IF($H93>0, IF($H93=4,\"Unknown\", IF($H93=99,\"Stopped\", $D93)), 0),\"Not required\")","v":"Stopped"},194828,{"$f":"IF(INTRO!$E$42=\"Endemic\", IF(AND($J93>1,$J93<5), IF($J93=4, \"Unknown\", E93+F93), 0),\"Not required\")","v":86504},188678,0,2,2,1,"MDA3 (IVM)","T2 (PZQ)",null,null,49805,"PADER",null,true]
[{"$f":"IF(INTRO!$E$34<>0,INTRO!$E$34,\"\")","v":"Uganda"},"Northern","Yumbe",530241,{"$f":"IF(INTRO!$E$48=\"\",\"\",ROUND($D94*INTRO!$E$48,0))","v":75294},{"$f":"IF(INTRO!$E$49=\"\",\"\",ROUND($D94*INTRO!$E$49,0))","v":160133},{"$f":"IF(INTRO!$E$50=\"\",\"\",ROUND($D94*INTRO!$E$50,0))","v":276256},99,1,3,2,{"$f":"IF(INTRO!$E$38=\"Endemic\", IF($H94>0, IF($H94=4,\"Unknown\", IF($H94=99,\"Stopped\", $D94)), 0),\"Not required\")","v":"Stopped"},191424,{"$f":"IF(INTRO!$E$42=\"Endemic\", IF(AND($J94>1,$J94<5), IF($J94=4, \"Unknown\", E94+F94), 0),\"Not required\")","v":235427},247540,0,1,2,1,"MDA3 (IVM)","T2 (PZQ)",null,null,49816,"YUMBE",null,true]
[{"$f":"IF(INTRO!$E$34<>0,INTRO!$E$34,\"\")","v":"Uganda"},"Northern","Zombo",252098,{"$f":"IF(INTRO!$E$48=\"\",\"\",ROUND($D95*INTRO!$E$48,0))","v":35798},{"$f":"IF(INTRO!$E$49=\"\",\"\",ROUND($D95*INTRO!$E$49,0))","v":76134},{"$f":"IF(INTRO!$E$50=\"\",\"\",ROUND($D95*INTRO!$E$50,0))","v":131343},99,1,3,1,{"$f":"IF(INTRO!$E$38=\"Endemic\", IF($H95>0, IF($H95=4,\"Unknown\", IF($H95=99,\"Stopped\", $D95)), 0),\"Not required\")","v":"Stopped"},252098,{"$f":"IF(INTRO!$E$42=\"Endemic\", IF(AND($J95>1,$J95<5), IF($J95=4, \"Unknown\", E95+F95), 0),\"Not required\")","v":111932},29902,0,2,2,1,"MDA3 (IVM)","T2 (PZQ)",null,null,49817,"ZOMBO",null,true]
[{"$f":"IF(INTRO!$E$34<>0,INTRO!$E$34,\"\")","v":"Uganda"},"Western","Buhweju",132030,{"$f":"IF(INTRO!$E$48=\"\",\"\",ROUND($D96*INTRO!$E$48,0))","v":18748},{"$f":"IF(INTRO!$E$49=\"\",\"\",ROUND($D96*INTRO!$E$49,0))","v":39873},{"$f":"IF(INTRO!$E$50=\"\",\"\",ROUND($D96*INTRO!$E$50,0))","v":68788},0,99,3,0,{"$f":"IF(INTRO!$E$38=\"Endemic\", IF($H96>0, IF($H96=4,\"Unknown\", IF($H96=99,\"Stopped\", $D96)), 0),\"Not required\")","v":0},"Stopped",{"$f":"IF(INTRO!$E$42=\"Endemic\", IF(AND($J96>1,$J96<5), IF($J96=4, \"Unknown\", E96+F96), 0),\"Not required\")","v":58621},0,0,0,2,0,"T3 (ALB/MBD)","T3 (ALB/MBD)",null,null,49724,"BUHWEJU",null,true]
[{"$f":"IF(INTRO!$E$34<>0,INTRO!$E$34,\"\")","v":"Uganda"},"Western","Buliisa",123763,{"$f":"IF(INTRO!$E$48=\"\",\"\",ROUND($D97*INTRO!$E$48,0))","v":17574},{"$f":"IF(INTRO!$E$49=\"\",\"\",ROUND($D97*INTRO!$E$49,0))","v":37376},{"$f":"IF(INTRO!$E$50=\"\",\"\",ROUND($D97*INTRO!$E$50,0))","v":64481},0,1,3,3,{"$f":"IF(INTRO!$E$38=\"Endemic\", IF($H97>0, IF($H97=4,\"Unknown\", IF($H97=99,\"Stopped\", $D97)), 0),\"Not required\")","v":0},34376,{"$f":"IF(INTRO!$E$42=\"Endemic\", IF(AND($J97>1,$J97<5), IF($J97=4, \"Unknown\", E97+F97), 0),\"Not required\")","v":54950},114938,0,2,2,1,"MDA3 (IVM)","T2 (PZQ)",null,null,49720,"BULIISA",null,true]
[{"$f":"IF(INTRO!$E$34<>0,INTRO!$E$34,\"\")","v":"Uganda"},"Western","Bundibugyo",245408,{"$f":"IF(INTRO!$E$48=\"\",\"\",ROUND($D98*INTRO!$E$48,0))","v":34848},{"$f":"IF(INTRO!$E$49=\"\",\"\",ROUND($D98*INTRO!$E$49,0))","v":74113},{"$f":"IF(INTRO!$E$50=\"\",\"\",ROUND($D98*INTRO!$E$50,0))","v":127858},99,0,3,0,{"$f":"IF(INTRO!$E$38=\"Endemic\", IF($H98>0, IF($H98=4,\"Unknown\", IF($H98=99,\"Stopped\", $D98)), 0),\"Not required\")","v":"Stopped"},0,{"$f":"IF(INTRO!$E$42=\"Endemic\", IF(AND($J98>1,$J98<5), IF($J98=4, \"Unknown\", E98+F98), 0),\"Not required\")","v":108961},0,0,0,2,0,"T3 (ALB/MBD)","T3 (ALB/MBD)",null,null,49721,"BUNDIBUGYO",null,true]
[{"$f":"IF(INTRO!$E$34<>0,INTRO!$E$34,\"\")","v":"Uganda"},"Western","Bushenyi",256404,{"$f":"IF(INTRO!$E$48=\"\",\"\",ROUND($D99*INTRO!$E$48,0))","v":36409},{"$f":"IF(INTRO!$E$49=\"\",\"\",ROUND($D99*INTRO!$E$49,0))","v":77434},{"$f":"IF(INTRO!$E$50=\"\",\"\",ROUND($D99*INTRO!$E$50,0))","v":133586},0,99,3,0,{"$f":"IF(INTRO!$E$38=\"Endemic\", IF($H99>0, IF($H99=4,\"Unknown\", IF($H99=99,\"Stopped\", $D99)), 0),\"Not required\")","v":0},"Stopped",{"$f":"IF(INTRO!$E$42=\"Endemic\", IF(AND($J99>1,$J99<5), IF($J99=4, \"Unknown\", E99+F99), 0),\"Not required\")","v":113843},0,0,0,2,0,"T3 (ALB/MBD)","T3 (ALB/MBD)",null,null,49722,"BUSHENYI",null,true]
[{"$f":"IF(INTRO!$E$34<>0,INTRO!$E$34,\"\")","v":"Uganda"},"Western","Hoima",626665,{"$f":"IF(INTRO!$E$48=\"\",\"\",ROUND($D100*INTRO!$E$48,0))","v":88986},{"$f":"IF(INTRO!$E$49=\"\",\"\",ROUND($D100*INTRO!$E$49,0))","v":189253},{"$f":"IF(INTRO!$E$50=\"\",\"\",ROUND($D100*INTRO!$E$50,0))","v":326492},0,1,3,3,{"$f":"IF(INTRO!$E$38=\"Endemic\", IF($H100>0, IF($H100=4,\"Unknown\", IF($H100=99,\"Stopped\", $D100)), 0),\"Not required\")","v":0},82518,{"$f":"IF(INTRO!$E$42=\"Endemic\", IF(AND($J100>1,$J100<5), IF($J100=4, \"Unknown\", E100+F100), 0),\"Not required\")","v":278239},164204,0,2,2,1,"MDA3 (IVM)","T2 (PZQ)",null,null,49736,"HOIMA",null,true]
[{"$f":"IF(INTRO!$E$34<>0,INTRO!$E$34,\"\")","v":"Uganda"},"Western","Ibanda",273011,{"$f":"IF(INTRO!$E$48=\"\",\"\",ROUND($D101*INTRO!$E$48,0))","v":38768},{"$f":"IF(INTRO!$E$49=\"\",\"\",ROUND($D101*INTRO!$E$49,0))","v":82449},{"$f":"IF(INTRO!$E$50=\"\",\"\",ROUND($D101*INTRO!$E$50,0))","v":142239},0,99,3,1,{"$f":"IF(INTRO!$E$38=\"Endemic\", IF($H101>0, IF($H101=4,\"Unknown\", IF($H101=99,\"Stopped\", $D101)), 0),\"Not required\")","v":0},"Stopped",{"$f":"IF(INTRO!$E$42=\"Endemic\", IF(AND($J101>1,$J101<5), IF($J101=4, \"Unknown\", E101+F101), 0),\"Not required\")","v":121217},6903,0,0,2,1,"T3 (ALB/MBD)","T2 (PZQ)",null,null,49737,"IBANDA",null,true]
[{"$f":"IF(INTRO!$E$34<>0,INTRO!$E$34,\"\")","v":"Uganda"},"Western","Isingiro",531923,{"$f":"IF(INTRO!$E$48=\"\",\"\",ROUND($D102*INTRO!$E$48,0))","v":75533},{"$f":"IF(INTRO!$E$49=\"\",\"\",ROUND($D102*INTRO!$E$49,0))","v":160641},{"$f":"IF(INTRO!$E$50=\"\",\"\",ROUND($D102*INTRO!$E$50,0))","v":277132},0,0,3,1,{"$f":"IF(INTRO!$E$38=\"Endemic\", IF($H102>0, IF($H102=4,\"Unknown\", IF($H102=99,\"Stopped\", $D102)), 0),\"Not required\")","v":0},0,{"$f":"IF(INTRO!$E$42=\"Endemic\", IF(AND($J102>1,$J102<5), IF($J102=4, \"Unknown\", E102+F102), 0),\"Not required\")","v":236174},20643,0,0,2,1,"T3 (ALB/MBD)","T2 (PZQ)",null,null,49739,"ISINGIRO",null,true]
[{"$f":"IF(INTRO!$E$34<>0,INTRO!$E$34,\"\")","v":"Uganda"},"Western","Kabale",361650,{"$f":"IF(INTRO!$E$48=\"\",\"\",ROUND($D103*INTRO!$E$48,0))","v":51354},{"$f":"IF(INTRO!$E$49=\"\",\"\",ROUND($D103*INTRO!$E$49,0))","v":109218},{"$f":"IF(INTRO!$E$50=\"\",\"\",ROUND($D103*INTRO!$E$50,0))","v":188420},0,0,3,0,{"$f":"IF(INTRO!$E$38=\"Endemic\", IF($H103>0, IF($H103=4,\"Unknown\", IF($H103=99,\"Stopped\", $D103)), 0),\"Not required\")","v":0},0,{"$f":"IF(INTRO!$E$42=\"Endemic\", IF(AND($J103>1,$J103<5), IF($J103=4, \"Unknown\", E103+F103), 0),\"Not required\")","v":160572},0,0,0,2,0,"T3 (ALB/MBD)","T3 (ALB/MBD)",null,null,49741,"KABALE",null,true]
[{"$f":"IF(INTRO!$E$34<>0,INTRO!$E$34,\"\")","v":"Uganda"},"Western","Kabarole",513196,{"$f":"IF(INTRO!$E$48=\"\",\"\",ROUND($D104*INTRO!$E$48,0))","v":72874},{"$f":"IF(INTRO!$E$49=\"\",\"\",ROUND($D104*INTRO!$E$49,0))","v":154985},{"$f":"IF(INTRO!$E$50=\"\",\"\",ROUND($D104*INTRO!$E$50,0))","v":267375},0,99,3,3,{"$f":"IF(INTRO!$E$38=\"Endemic\", IF($H104>0, IF($H104=4,\"Unknown\", IF($H104=99,\"Stopped\", $D104)), 0),\"Not required\")","v":0},"Stopped",{"$f":"IF(INTRO!$E$42=\"Endemic\", IF(AND($J104>1,$J104<5), IF($J104=4, \"Unknown\", E104+F104), 0),\"Not required\")","v":227859},60313,0,0,2,1,"T3 (ALB/MBD)","T2 (PZQ)",null,null,49742,"KABAROLE",null,true]
[{"$f":"IF(INTRO!$E$34<>0,INTRO!$E$34,\"\")","v":"Uganda"},"Western","Kagadi",383811,{"$f":"IF(INTRO!$E$48=\"\",\"\",ROUND($D105*INTRO!$E$48,0))","v":54501},{"$f":"IF(INTRO!$E$49=\"\",\"\",ROUND($D105*INTRO!$E$49,0))","v":115911},{"$f":"IF(INTRO!$E$50=\"\",\"\",ROUND($D105*INTRO!$E$50,0))","v":199966},0,99,3,3,{"$f":"IF(INTRO!$E$38=\"Endemic\", IF($H105>0, IF($H105=4,\"Unknown\", IF($H105=99,\"Stopped\", $D105)), 0),\"Not required\")","v":0},"Stopped",{"$f":"IF(INTRO!$E$42=\"Endemic\", IF(AND($J105>1,$J105<5), IF($J105=4, \"Unknown\", E105+F105), 0),\"Not required\")","v":170412},198582,0,0,2,1,"T3 (ALB/MBD)","T2 (PZQ)",null,null,49752,"KAGADI",null,true]
[{"$f":"IF(INTRO!$E$34<>0,INTRO!$E$34,\"\")","v":"Uganda"},"Western","Kakumiro",322848,{"$f":"IF(INTRO!$E$48=\"\",\"\",ROUND($D106*INTRO!$E$48,0))","v":45844},{"$f":"IF(INTRO!$E$49=\"\",\"\",ROUND($D106*INTRO!$E$49,0))","v":97500},{"$f":"IF(INTRO!$E$50=\"\",\"\",ROUND($D106*INTRO!$E$50,0))","v":168204},0,0,3,0,{"$f":"IF(INTRO!$E$38=\"Endemic\", IF($H106>0, IF($H106=4,\"Unknown\", IF($H106=99,\"Stopped\", $D106)), 0),\"Not required\")","v":0},0,{"$f":"IF(INTRO!$E$42=\"Endemic\", IF(AND($J106>1,$J106<5), IF($J106=4, \"Unknown\", E106+F106), 0),\"Not required\")","v":143344},0,0,0,2,0,"T3 (ALB/MBD)","T3 (ALB/MBD)",null,null,49819,"KAKUMIRO",null,true]
[{"$f":"IF(INTRO!$E$34<>0,INTRO!$E$34,\"\")","v":"Uganda"},"Western","Kamwenge",453280,{"$f":"IF(INTRO!$E$48=\"\",\"\",ROUND($D107*INTRO!$E$48,0))","v":64366},{"$f":"IF(INTRO!$E$49=\"\",\"\",ROUND($D107*INTRO!$E$49,0))","v":136891},{"$f":"IF(INTRO!$E$50=\"\",\"\",ROUND($D107*INTRO!$E$50,0))","v":236159},0,99,3,2,{"$f":"IF(INTRO!$E$38=\"Endemic\", IF($H107>0, IF($H107=4,\"Unknown\", IF($H107=99,\"Stopped\", $D107)), 0),\"Not required\")","v":0},"Stopped",{"$f":"IF(INTRO!$E$42=\"Endemic\", IF(AND($J107>1,$J107<5), IF($J107=4, \"Unknown\", E107+F107), 0),\"Not required\")","v":201257},15387,0,0,2,1,"T3 (ALB/MBD)","T2 (PZQ)",null,null,49748,"KAMWENGE",null,true]
[{"$f":"IF(INTRO!$E$34<>0,INTRO!$E$34,\"\")","v":"Uganda"},"Western","Kanungu",275765,{"$f":"IF(INTRO!$E$48=\"\",\"\",ROUND($D108*INTRO!$E$48,0))","v":39159},{"$f":"IF(INTRO!$E$49=\"\",\"\",ROUND($D108*INTRO!$E$49,0))","v":83281},{"$f":"IF(INTRO!$E$50=\"\",\"\",ROUND($D108*INTRO!$E$50,0))","v":143674},0,1,3,0,{"$f":"IF(INTRO!$E$38=\"Endemic\", IF($H108>0, IF($H108=4,\"Unknown\", IF($H108=99,\"Stopped\", $D108)), 0),\"Not required\")","v":0},64166,{"$f":"IF(INTRO!$E$42=\"Endemic\", IF(AND($J108>1,$J108<5), IF($J108=4, \"Unknown\", E108+F108), 0),\"Not required\")","v":122440},0,0,2,2,0,"MDA3 (IVM)","T3 (ALB/MBD)",null,null,49749,"KANUNGU",null,true]
[{"$f":"IF(INTRO!$E$34<>0,INTRO!$E$34,\"\")","v":"Uganda"},"Western","Kasese",760100,{"$f":"IF(INTRO!$E$48=\"\",\"\",ROUND($D109*INTRO!$E$48,0))","v":107934},{"$f":"IF(INTRO!$E$49=\"\",\"\",ROUND($D109*INTRO!$E$49,0))","v":229550},{"$f":"IF(INTRO!$E$50=\"\",\"\",ROUND($D109*INTRO!$E$50,0))","v":396012},0,1,3,3,{"$f":"IF(INTRO!$E$38=\"Endemic\", IF($H109>0, IF($H109=4,\"Unknown\", IF($H109=99,\"Stopped\", $D109)), 0),\"Not required\")","v":0},135046,{"$f":"IF(INTRO!$E$42=\"Endemic\", IF(AND($J109>1,$J109<5), IF($J109=4, \"Unknown\", E109+F109), 0),\"Not required\")","v":337484},11340,0,2,2,1,"MDA3 (IVM)","T2 (PZQ)",null,null,49750,"KASESE",null,true]
[{"$f":"IF(INTRO!$E$34<>0,INTRO!$E$34,\"\")","v":"Uganda"},"Western","Kibaale",151979,{"$f":"IF(INTRO!$E$48=\"\",\"\",ROUND($D110*INTRO!$E$48,0))","v":21581},{"$f":"IF(INTRO!$E$49=\"\",\"\",ROUND($D110*INTRO!$E$49,0))","v":45898},{"$f":"IF(INTRO!$E$50=\"\",\"\",ROUND($D110*INTRO!$E$50,0))","v":79181},0,99,3,0,{"$f":"IF(INTRO!$E$38=\"Endemic\", IF($H110>0, IF($H110=4,\"Unknown\", IF($H110=99,\"Stopped\", $D110)), 0),\"Not required\")","v":0},"Stopped",{"$f":"IF(INTRO!$E$42=\"Endemic\", IF(AND($J110>1,$J110<5), IF($J110=4, \"Unknown\", E110+F110), 0),\"Not required\")","v":67479},0,0,0,2,0,"T3 (ALB/MBD)","T3 (ALB/MBD)",null,null,49820,"KIBAALE",null,true]
[{"$f":"IF(INTRO!$E$34<>0,INTRO!$E$34,\"\")","v":"Uganda"},"Western","Kiruhura",358812,{"$f":"IF(INTRO!$E$48=\"\",\"\",ROUND($D111*INTRO!$E$48,0))","v":50951},{"$f":"IF(INTRO!$E$49=\"\",\"\",ROUND($D111*INTRO!$E$49,0))","v":108361},{"$f":"IF(INTRO!$E$50=\"\",\"\",ROUND($D111*INTRO!$E$50,0))","v":186941},0,0,3,1,{"$f":"IF(INTRO!$E$38=\"Endemic\", IF($H111>0, IF($H111=4,\"Unknown\", IF($H111=99,\"Stopped\", $D111)), 0),\"Not required\")","v":0},0,{"$f":"IF(INTRO!$E$42=\"Endemic\", IF(AND($J111>1,$J111<5), IF($J111=4, \"Unknown\", E111+F111), 0),\"Not required\")","v":159312},30772,0,0,2,1,"T3 (ALB/MBD)","T2 (PZQ)",null,null,49764,"KIRUHURA",null,true]
[{"$f":"IF(INTRO!$E$34<>0,INTRO!$E$34,\"\")","v":"Uganda"},"Western","Kiryandongo",291135,{"$f":"IF(INTRO!$E$48=\"\",\"\",ROUND($D112*INTRO!$E$48,0))","v":41341},{"$f":"IF(INTRO!$E$49=\"\",\"\",ROUND($D112*INTRO!$E$49,0))","v":87923},{"$f":"IF(INTRO!$E$50=\"\",\"\",ROUND($D112*INTRO!$E$50,0))","v":151681},0,0,3,3,{"$f":"IF(INTRO!$E$38=\"Endemic\", IF($H112>0, IF($H112=4,\"Unknown\", IF($H112=99,\"Stopped\", $D112)), 0),\"Not required\")","v":0},0,{"$f":"IF(INTRO!$E$42=\"Endemic\", IF(AND($J112>1,$J112<5), IF($J112=4, \"Unknown\", E112+F112), 0),\"Not required\")","v":129264},72052,0,0,2,1,"T3 (ALB/MBD)","T2 (PZQ)",null,null,49765,"KIRYANDONGO",null,true]
[{"$f":"IF(INTRO!$E$34<>0,INTRO!$E$34,\"\")","v":"Uganda"},"Western","Kisoro",308096,{"$f":"IF(INTRO!$E$48=\"\",\"\",ROUND($D113*INTRO!$E$48,0))","v":43750},{"$f":"IF(INTRO!$E$49=\"\",\"\",ROUND($D113*INTRO!$E$49,0))","v":93045},{"$f":"IF(INTRO!$E$50=\"\",\"\",ROUND($D113*INTRO!$E$50,0))","v":160518},0,1,3,0,{"$f":"IF(INTRO!$E$38=\"Endemic\", IF($H113>0, IF($H113=4,\"Unknown\", IF($H113=99,\"Stopped\", $D113)), 0),\"Not required\")","v":0},41024,{"$f":"IF(INTRO!$E$42=\"Endemic\", IF(AND($J113>1,$J113<5), IF($J113=4, \"Unknown\", E113+F113), 0),\"Not required\")","v":136795},0,0,2,2,0,"MDA3 (IVM)","T3 (ALB/MBD)",null,null,49753,"KISORO",null,true]
[{"$f":"IF(INTRO!$E$34<>0,INTRO!$E$34,\"\")","v":"Uganda"},"Western","Kyegegwa",308022,{"$f":"IF(INTRO!$E$48=\"\",\"\",ROUND($D114*INTRO!$E$48,0))","v":43739},{"$f":"IF(INTRO!$E$49=\"\",\"\",ROUND($D114*INTRO!$E$49,0))","v":93023},{"$f":"IF(INTRO!$E$50=\"\",\"\",ROUND($D114*INTRO!$E$50,0))","v":160479},0,0,3,0,{"$f":"IF(INTRO!$E$38=\"Endemic\", IF($H114>0, IF($H114=4,\"Unknown\", IF($H114=99,\"Stopped\", $D114)), 0),\"Not required\")","v":0},0,{"$f":"IF(INTRO!$E$42=\"Endemic\", IF(AND($J114>1,$J114<5), IF($J114=4, \"Unknown\", E114+F114), 0),\"Not required\")","v":136762},0,0,0,2,0,"T3 (ALB/MBD)","T3 (ALB/MBD)",null,null,49770,"KYEGEGWA",null,true]
[{"$f":"IF(INTRO!$E$34<>0,INTRO!$E$34,\"\")","v":"Uganda"},"Western","Kyenjojo",461757,{"$f":"IF(INTRO!$E$48=\"\",\"\",ROUND($D115*INTRO!$E$48,0))","v":65569},{"$f":"IF(INTRO!$E$49=\"\",\"\",ROUND($D115*INTRO!$E$49,0))","v":139451},{"$f":"IF(INTRO!$E$50=\"\",\"\",ROUND($D115*INTRO!$E$50,0))","v":240575},0,99,3,0,{"$f":"IF(INTRO!$E$38=\"Endemic\", IF($H115>0, IF($H115=4,\"Unknown\", IF($H115=99,\"Stopped\", $D115)), 0),\"Not required\")","v":0},"Stopped",{"$f":"IF(INTRO!$E$42=\"Endemic\", IF(AND($J115>1,$J115<5), IF($J115=4, \"Unknown\", E115+F115), 0),\"Not required\")","v":205020},0,0,0,2,0,"T3 (ALB/MBD)","T3 (ALB/MBD)",null,null,49757,"KYENJOJO",null,true]
[{"$f":"IF(INTRO!$E$34<>0,INTRO!$E$34,\"\")","v":"Uganda"},"Western","Masindi",318385,{"$f":"IF(INTRO!$E$48=\"\",\"\",ROUND($D116*INTRO!$E$48,0))","v":45211},{"$f":"IF(INTRO!$E$49=\"\",\"\",ROUND($D116*INTRO!$E$49,0))","v":96152},{"$f":"IF(INTRO!$E$50=\"\",\"\",ROUND($D116*INTRO!$E$50,0))","v":165879},0,1,3,0,{"$f":"IF(INTRO!$E$38=\"Endemic\", IF($H116>0, IF($H116=4,\"Unknown\", IF($H116=99,\"Stopped\", $D116)), 0),\"Not required\")","v":0},54001,{"$f":"IF(INTRO!$E$42=\"Endemic\", IF(AND($J116>1,$J116<5), IF($J116=4, \"Unknown\", E116+F116), 0),\"Not required\")","v":141363},0,0,2,2,0,"MDA3 (IVM)","T3 (ALB/MBD)",null,null,49778,"MASINDI",null,true]
[{"$f":"IF(INTRO!$E$34<>0,INTRO!$E$34,\"\")","v":"Uganda"},"Western","Mbarara",516907,{"$f":"IF(INTRO!$E$48=\"\",\"\",ROUND($D117*INTRO!$E$48,0))","v":73401},{"$f":"IF(INTRO!$E$49=\"\",\"\",ROUND($D117*INTRO!$E$49,0))","v":156106},{"$f":"IF(INTRO!$E$50=\"\",\"\",ROUND($D117*INTRO!$E$50,0))","v":269309},0,0,3,0,{"$f":"IF(INTRO!$E$38=\"Endemic\", IF($H117>0, IF($H117=4,\"Unknown\", IF($H117=99,\"Stopped\", $D117)), 0),\"Not required\")","v":0},0,{"$f":"IF(INTRO!$E$42=\"Endemic\", IF(AND($J117>1,$J117<5), IF($J117=4, \"Unknown\", E117+F117), 0),\"Not required\")","v":229507},0,0,0,2,0,"T3 (ALB/MBD)","T3 (ALB/MBD)",null,null,49786,"MBARARA",null,true]
[{"$f":"IF(INTRO!$E$34<>0,INTRO!$E$34,\"\")","v":"Uganda"},"Western","Mitooma",200629,{"$f":"IF(INTRO!$E$48=\"\",\"\",ROUND($D118*INTRO!$E$48,0))","v":28489},{"$f":"IF(INTRO!$E$49=\"\",\"\",ROUND($D118*INTRO!$E$49,0))","v":60590},{"$f":"IF(INTRO!$E$50=\"\",\"\",ROUND($D118*INTRO!$E$50,0))","v":104528},0,99,3,0,{"$f":"IF(INTRO!$E$38=\"Endemic\", IF($H118>0, IF($H118=4,\"Unknown\", IF($H118=99,\"Stopped\", $D118)), 0),\"Not required\")","v":0},"Stopped",{"$f":"IF(INTRO!$E$42=\"Endemic\", IF(AND($J118>1,$J118<5), IF($J118=4, \"Unknown\", E118+F118), 0),\"Not required\")","v":89079},0,0,0,2,0,"T3 (ALB/MBD)","T3 (ALB/MBD)",null,null,49787,"MITOOMA",null,true]
[{"$f":"IF(INTRO!$E$34<>0,INTRO!$E$34,\"\")","v":"Uganda"},"Western","Ntoroko",73282,{"$f":"IF(INTRO!$E$48=\"\",\"\",ROUND($D119*INTRO!$E$48,0))","v":10406},{"$f":"IF(INTRO!$E$49=\"\",\"\",ROUND($D119*INTRO!$E$49,0))","v":22131},{"$f":"IF(INTRO!$E$50=\"\",\"\",ROUND($D119*INTRO!$E$50,0))","v":38180},99,0,3,3,{"$f":"IF(INTRO!$E$38=\"Endemic\", IF($H119>0, IF($H119=4,\"Unknown\", IF($H119=99,\"Stopped\", $D119)), 0),\"Not required\")","v":"Stopped"},0,{"$f":"IF(INTRO!$E$42=\"Endemic\", IF(AND($J119>1,$J119<5), IF($J119=4, \"Unknown\", E119+F119), 0),\"Not required\")","v":32537},13507,0,0,2,1,"T3 (ALB/MBD)","T2 (PZQ)",null,null,49799,"NTOROKO",null,true]
[{"$f":"IF(INTRO!$E$34<>0,INTRO!$E$34,\"\")","v":"Uganda"},"Western","Ntungamo",529168,{"$f":"IF(INTRO!$E$48=\"\",\"\",ROUND($D120*INTRO!$E$48,0))","v":75142},{"$f":"IF(INTRO!$E$49=\"\",\"\",ROUND($D120*INTRO!$E$49,0))","v":159809},{"$f":"IF(INTRO!$E$50=\"\",\"\",ROUND($D120*INTRO!$E$50,0))","v":275697},0,0,3,0,{"$f":"IF(INTRO!$E$38=\"Endemic\", IF($H120>0, IF($H120=4,\"Unknown\", IF($H120=99,\"Stopped\", $D120)), 0),\"Not required\")","v":0},0,{"$f":"IF(INTRO!$E$42=\"Endemic\", IF(AND($J120>1,$J120<5), IF($J120=4, \"Unknown\", E120+F120), 0),\"Not required\")","v":234951},0,0,0,2,0,"T3 (ALB/MBD)","T3 (ALB/MBD)",null,null,49800,"NTUNGAMO",null,true]
[{"$f":"IF(INTRO!$E$34<>0,INTRO!$E$34,\"\")","v":"Uganda"},"Western","Rubanda",216066,{"$f":"IF(INTRO!$E$48=\"\",\"\",ROUND($D121*INTRO!$E$48,0))","v":30681},{"$f":"IF(INTRO!$E$49=\"\",\"\",ROUND($D121*INTRO!$E$49,0))","v":65252},{"$f":"IF(INTRO!$E$50=\"\",\"\",ROUND($D121*INTRO!$E$50,0))","v":112570},0,1,3,0,{"$f":"IF(INTRO!$E$38=\"Endemic\", IF($H121>0, IF($H121=4,\"Unknown\", IF($H121=99,\"Stopped\", $D121)), 0),\"Not required\")","v":0},33282,{"$f":"IF(INTRO!$E$42=\"Endemic\", IF(AND($J121>1,$J121<5), IF($J121=4, \"Unknown\", E121+F121), 0),\"Not required\")","v":95933},0,0,2,2,0,"MDA3 (IVM)","T3 (ALB/MBD)",null,null,49821,"RUBANDA",null,true]
[{"$f":"IF(INTRO!$E$34<>0,INTRO!$E$34,\"\")","v":"Uganda"},"Western","Rubirizi",141248,{"$f":"IF(INTRO!$E$48=\"\",\"\",ROUND($D122*INTRO!$E$48,0))","v":20057},{"$f":"IF(INTRO!$E$49=\"\",\"\",ROUND($D122*INTRO!$E$49,0))","v":42657},{"$f":"IF(INTRO!$E$50=\"\",\"\",ROUND($D122*INTRO!$E$50,0))","v":73590},0,99,3,3,{"$f":"IF(INTRO!$E$38=\"Endemic\", IF($H122>0, IF($H122=4,\"Unknown\", IF($H122=99,\"Stopped\", $D122)), 0),\"Not required\")","v":0},"Stopped",{"$f":"IF(INTRO!$E$42=\"Endemic\", IF(AND($J122>1,$J122<5), IF($J122=4, \"Unknown\", E122+F122), 0),\"Not required\")","v":62714},3509,0,0,2,1,"T3 (ALB/MBD)","T2 (PZQ)",null,null,49808,"RUBIRIZI",null,true]
[{"$f":"IF(INTRO!$E$34<>0,INTRO!$E$34,\"\")","v":"Uganda"},"Western","Rukungiri",344175,{"$f":"IF(INTRO!$E$48=\"\",\"\",ROUND($D123*INTRO!$E$48,0))","v":48873},{"$f":"IF(INTRO!$E$49=\"\",\"\",ROUND($D123*INTRO!$E$49,0))","v":103941},{"$f":"IF(INTRO!$E$50=\"\",\"\",ROUND($D123*INTRO!$E$50,0))","v":179315},0,0,3,1,{"$f":"IF(INTRO!$E$38=\"Endemic\", IF($H123>0, IF($H123=4,\"Unknown\", IF($H123=99,\"Stopped\", $D123)), 0),\"Not required\")","v":0},0,{"$f":"IF(INTRO!$E$42=\"Endemic\", IF(AND($J123>1,$J123<5), IF($J123=4, \"Unknown\", E123+F123), 0),\"Not required\")","v":152814},11178,0,0,2,1,"T3 (ALB/MBD)","T2 (PZQ)",null,null,49806,"RUKUNGIRI",null,true]
[{"$f":"IF(INTRO!$E$34<>0,INTRO!$E$34,\"\")","v":"Uganda"},"Western","Sheema",226767,{"$f":"IF(INTRO!$E$48=\"\",\"\",ROUND($D124*INTRO!$E$48,0))","v":32201},{"$f":"IF(INTRO!$E$49=\"\",\"\",ROUND($D124*INTRO!$E$49,0))","v":68484},{"$f":"IF(INTRO!$E$50=\"\",\"\",ROUND($D124*INTRO!$E$50,0))","v":118146},0,0,3,0,{"$f":"IF(INTRO!$E$38=\"Endemic\", IF($H124>0, IF($H124=4,\"Unknown\", IF($H124=99,\"Stopped\", $D124)), 0),\"Not required\")","v":0},0,{"$f":"IF(INTRO!$E$42=\"Endemic\", IF(AND($J124>1,$J124<5), IF($J124=4, \"Unknown\", E124+F124), 0),\"Not required\")","v":100685},0,0,0,2,0,"T3 (ALB/MBD)","T3 (ALB/MBD)",null,null,49813,"SHEEMA",null,true]

{"sheet":"MDA1","index":2,"n_rows":124,"n_cols":17,"rows_kept":124,"cut":false,"hidden":false,"merged":[[5,13,5,16],[3,0,3,2],[5,0,5,2],[5,5,5,8],[5,9,5,12],[5,3,6,3],[5,4,6,4]]}
["MDA 1 - Ivermectin (IVM) and Albendazole (ALB)"]
["Administrative structure, population requiring PC by age group, population treated by age group and coverage"]
[]
["TOTAL",null,null,null,null,null,{"$f":"SUM(G$9:G$1000)","v":903104},{"$f":"SUM(H$9:H$1000)","v":1558003},{"$f":"SUM(I$9:I$1000)","v":2461107},null,{"$f":"SUM(K$9:K$1000)","v":726439},{"$f":"SUM(L$9:L$1000)","v":1253228},{"$f":"SUM(M$9:M$1000)","v":1979667},null,{"$f":"IF(G4<>0, IF(K4/G4*100=0, \"-\", K4/G4*100), \" \")","v":80.438022641910564},{"$f":"IF(H4<>0, IF(L4/H4*100=0, \"-\", L4/H4*100), \" \")","v":80.438099284789573},{"$f":"IF(I4<>0, IF(M4/I4*100=0, \"-\", M4/I4*100), \" \")","v":80.438071160660627}]
[]
[null,null,null,"PC implemented","Date","Population targeted for MDA 1",null,null,null,"Population treated",null,null,null,"Programme coverage (%)"]
["Country","Province/State","District",null,null,"PreSAC","SAC","Adults","Total","PreSAC","SAC","Adults","Total","PreSAC","SAC","Adults","Total"]
[]
[{"$f":"IF(COUNTRY_INFO!A9=0,\" \",COUNTRY_INFO!A9)","v":"Uganda"},{"$f":"IF(COUNTRY_INFO!B9=0,\" \",COUNTRY_INFO!B9)","v":"Central "},{"$f":"IF(COUNTRY_INFO!C9=0,\" \",COUNTRY_INFO!C9)","v":"Buikwe"},{"$f":"IF(COUNTRY_INFO!$T$9:$T$1000=\"MDA1 (IVM+ALB)\", COUNTRY_INFO!$T$9:$T$1000, \" \")","v":" "},null,null,null,null,{"$f":"SUM(F9:H9)","v":0},null,null,null,{"$f":"SUM(J9:L9)","v":0},null,{"$f":"IF(G9<>0, IF(K9/G9*100=0, \"-\", K9/G9*100), \" \")","v":" "},{"$f":"IF(H9<>0, IF(L9/H9*100=0, \"-\", L9/H9*100), \" \")","v":" "}," "]
[{"$f":"IF(COUNTRY_INFO!A10=0,\" \",COUNTRY_INFO!A10)","v":"Uganda"},{"$f":"IF(COUNTRY_INFO!B10=0,\" \",COUNTRY_INFO!B10)","v":"Central "},{"$f":"IF(COUNTRY_INFO!C10=0,\" \",COUNTRY_INFO!C10)","v":"Bukomansimbi"},{"$f":"IF(COUNTRY_INFO!$T$9:$T$1000=\"MDA1 (IVM+ALB)\", COUNTRY_INFO!$T$9:$T$1000, \" \")","v":" "},null,null,null,null,{"$f":"SUM(F10:H10)","v":0},null,null,null,{"$f":"SUM(J10:L10)","v":0},null,{"$f":"IF(G10<>0, IF(K10/G10*100=0, \"-\", K10/G10*100), \" \")","v":" "},{"$f":"IF(H10<>0, IF(L10/H10*100=0, \"-\", L10/H10*100), \" \")","v":" "},{"$f":"IF(I10<>0, IF(M10/I10*100=0, \"-\", M10/I10*100), \" \")","v":" "}]
[{"$f":"IF(COUNTRY_INFO!A11=0,\" \",COUNTRY_INFO!A11)","v":"Uganda"},{"$f":"IF(COUNTRY_INFO!B11=0,\" \",COUNTRY_INFO!B11)","v":"Central "},{"$f":"IF(COUNTRY_INFO!C11=0,\" \",COUNTRY_INFO!C11)","v":"Butambala"},{"$f":"IF(COUNTRY_INFO!$T$9:$T$1000=\"MDA1 (IVM+ALB)\", COUNTRY_INFO!$T$9:$T$1000, \" \")","v":" "},null,null,null,null,0,null,null,null,0,null," "," "," "]
[{"$f":"IF(COUNTRY_INFO!A12=0,\" \",COUNTRY_INFO!A12)","v":"Uganda"},{"$f":"IF(COUNTRY_INFO!B12=0,\" \",COUNTRY_INFO!B12)","v":"Central "},{"$f":"IF(COUNTRY_INFO!C12=0,\" \",COUNTRY_INFO!C12)","v":"Buvuma"},{"$f":"IF(COUNTRY_INFO!$T$9:$T$1000=\"MDA1 (IVM+ALB)\", COUNTRY_INFO!$T$9:$T$1000, \" \")","v":" "},null,null,null,null,0,null,null,null,0,null," "," "," "]
[{"$f":"IF(COUNTRY_INFO!A13=0,\" \",COUNTRY_INFO!A13)","v":"Uganda"},{"$f":"IF(COUNTRY_INFO!B13=0,\" \",COUNTRY_INFO!B13)","v":"Central "},{"$f":"IF(COUNTRY_INFO!C13=0,\" \",COUNTRY_INFO!C13)","v":"Gomba"},{"$f":"IF(COUNTRY_INFO!$T$9:$T$1000=\"MDA1 (IVM+ALB)\", COUNTRY_INFO!$T$9:$T$1000, \" \")","v":" "},null,null,null,null,0,null,null,null,0,null," "," "," "]
[{"$f":"IF(COUNTRY_INFO!A14=0,\" \",COUNTRY_INFO!A14)","v":"Uganda"},{"$f":"IF(COUNTRY_INFO!B14=0,\" \",COUNTRY_INFO!B14)","v":"Central "},{"$f":"IF(COUNTRY_INFO!C14=0,\" \",COUNTRY_INFO!C14)","v":"Kalangala"},{"$f":"IF(COUNTRY_INFO!$T$9:$T$1000=\"MDA1 (IVM+ALB)\", COUNTRY_INFO!$T$9:$T$1000, \" \")","v":" "},null,null,null,null,0,null,null,null,0,null," "," "," "]
[{"$f":"IF(COUNTRY_INFO!A15=0,\" \",COUNTRY_INFO!A15)","v":"Uganda"},{"$f":"IF(COUNTRY_INFO!B15=0,\" \",COUNTRY_INFO!B15)","v":"Central "},{"$f":"IF(COUNTRY_INFO!C15=0,\" \",COUNTRY_INFO!C15)","v":"Kalungu"},{"$f":"IF(COUNTRY_INFO!$T$9:$T$1000=\"MDA1 (IVM+ALB)\", COUNTRY_INFO!$T$9:$T$1000, \" \")","v":" "},null,null,null,null,0,null,null,null,0,null," "," "," "]
[{"$f":"IF(COUNTRY_INFO!A16=0,\" \",COUNTRY_INFO!A16)","v":"Uganda"},{"$f":"IF(COUNTRY_INFO!B16=0,\" \",COUNTRY_INFO!B16)","v":"Central "},{"$f":"IF(COUNTRY_INFO!C16=0,\" \",COUNTRY_INFO!C16)","v":"Kampala"},{"$f":"IF(COUNTRY_INFO!$T$9:$T$1000=\"MDA1 (IVM+ALB)\", COUNTRY_INFO!$T$9:$T$1000, \" \")","v":" "},null,null,null,null,0,null,null,null,0,null," "," "," "]
[{"$f":"IF(COUNTRY_INFO!A17=0,\" \",COUNTRY_INFO!A17)","v":"Uganda"},{"$f":"IF(COUNTRY_INFO!B17=0,\" \",COUNTRY_INFO!B17)","v":"Central "},{"$f":"IF(COUNTRY_INFO!C17=0,\" \",COUNTRY_INFO!C17)","v":"Kayunga"},{"$f":"IF(COUNTRY_INFO!$T$9:$T$1000=\"MDA1 (IVM+ALB)\", COUNTRY_INFO!$T$9:$T$1000, \" \")","v":" "},null,null,null,null,0,null,null,null,0,null," "," "," "]
[{"$f":"IF(COUNTRY_INFO!A18=0,\" \",COUNTRY_INFO!A18)","v":"Uganda"},{"$f":"IF(COUNTRY_INFO!B18=0,\" \",COUNTRY_INFO!B18)","v":"Central "},{"$f":"IF(COUNTRY_INFO!C18=0,\" \",COUNTRY_INFO!C18)","v":"Kiboga"},{"$f":"IF(COUNTRY_INFO!$T$9:$T$1000=\"MDA1 (IVM+ALB)\", COUNTRY_INFO!$T$9:$T$1000, \" \")","v":" "},null,null,null,null,0,null,null,null,0,null," "," "," "]
[{"$f":"IF(COUNTRY_INFO!A19=0,\" \",COUNTRY_INFO!A19)","v":"Uganda"},{"$f":"IF(COUNTRY_INFO!B19=0,\" \",COUNTRY_INFO!B19)","v":"Central "},{"$f":"IF(COUNTRY_INFO!C19=0,\" \",COUNTRY_INFO!C19)","v":"Kyankwanzi"},{"$f":"IF(COUNTRY_INFO!$T$9:$T$1000=\"MDA1 (IVM+ALB)\", COUNTRY_INFO!$T$9:$T$1000, \" \")","v":" "},null,null,null,null,0,null,null,null,0,null," "," "," "]
[{"$f":"IF(COUNTRY_INFO!A20=0,\" \",COUNTRY_INFO!A20)","v":"Uganda"},{"$f":"IF(COUNTRY_INFO!B20=0,\" \",COUNTRY_INFO!B20)","v":"Central "},{"$f":"IF(COUNTRY_INFO!C20=0,\" \",COUNTRY_INFO!C20)","v":"Luwero"},{"$f":"IF(COUNTRY_INFO!$T$9:$T$1000=\"MDA1 (IVM+ALB)\", COUNTRY_INFO!$T$9:$T$1000, \" \")","v":" "},null,null,null,null,0,null,null,null,0,null," "," "," "]
[{"$f":"IF(COUNTRY_INFO!A21=0,\" \",COUNTRY_INFO!A21)","v":"Uganda"},{"$f":"IF(COUNTRY_INFO!B21=0,\" \",COUNTRY_INFO!B21)","v":"Central "},{"$f":"IF(COUNTRY_INFO!C21=0,\" \",COUNTRY_INFO!C21)","v":"Lwengo"},{"$f":"IF(COUNTRY_INFO!$T$9:$T$1000=\"MDA1 (IVM+ALB)\", COUNTRY_INFO!$T$9:$T$1000, \" \")","v":" "},null,null,null,null,0,null,null,null,0,null," "," "," "]
[{"$f":"IF(COUNTRY_INFO!A22=0,\" \",COUNTRY_INFO!A22)","v":"Uganda"},{"$f":"IF(COUNTRY_INFO!B22=0,\" \",COUNTRY_INFO!B22)","v":"Central "},{"$f":"IF(COUNTRY_INFO!C22=0,\" \",COUNTRY_INFO!C22)","v":"Lyantonde"},{"$f":"IF(COUNTRY_INFO!$T$9:$T$1000=\"MDA1 (IVM+ALB)\", COUNTRY_INFO!$T$9:$T$1000, \" \")","v":" "},null,null,null,null,0,null,null,null,0,null," "," "," "]
[{"$f":"IF(COUNTRY_INFO!A23=0,\" \",COUNTRY_INFO!A23)","v":"Uganda"},{"$f":"IF(COUNTRY_INFO!B23=0,\" \",COUNTRY_INFO!B23)","v":"Central "},{"$f":"IF(COUNTRY_INFO!C23=0,\" \",COUNTRY_INFO!C23)","v":"Masaka"},{"$f":"IF(COUNTRY_INFO!$T$9:$T$1000=\"MDA1 (IVM+ALB)\", COUNTRY_INFO!$T$9:$T$1000, \" \")","v":" "},null,null,null,null,0,null,null,null,0,null," "," "," "]
[{"$f":"IF(COUNTRY_INFO!A24=0,\" \",COUNTRY_INFO!A24)","v":"Uganda"},{"$f":"IF(COUNTRY_INFO!B24=0,\" \",COUNTRY_INFO!B24)","v":"Central "},{"$f":"IF(COUNTRY_INFO!C24=0,\" \",COUNTRY_INFO!C24)","v":"Mityana"},{"$f":"IF(COUNTRY_INFO!$T$9:$T$1000=\"MDA1 (IVM+ALB)\", COUNTRY_INFO!$T$9:$T$1000, \" \")","v":" "},null,null,null,null,0,null,null,null,0,null," "," "," "]
[{"$f":"IF(COUNTRY_INFO!A25=0,\" \",COUNTRY_INFO!A25)","v":"Uganda"},{"$f":"IF(COUNTRY_INFO!B25=0,\" \",COUNTRY_INFO!B25)","v":"Central "},{"$f":"IF(COUNTRY_INFO!C25=0,\" \",COUNTRY_INFO!C25)","v":"Mpigi"},{"$f":"IF(COUNTRY_INFO!$T$9:$T$1000=\"MDA1 (IVM+ALB)\", COUNTRY_INFO!$T$9:$T$1000, \" \")","v":" "},null,null,null,null,0,null,null,null,0,null," "," "," "]
[{"$f":"IF(COUNTRY_INFO!A26=0,\" \",COUNTRY_INFO!A26)","v":"Uganda"},{"$f":"IF(COUNTRY_INFO!B26=0,\" \",COUNTRY_INFO!B26)","v":"Central "},{"$f":"IF(COUNTRY_INFO!C26=0,\" \",COUNTRY_INFO!C26)","v":"Mubende"},{"$f":"IF(COUNTRY_INFO!$T$9:$T$1000=\"MDA1 (IVM+ALB)\", COUNTRY_INFO!$T$9:$T$1000, \" \")","v":" "},null,null,null,null,0,null,null,null,0,null," "," "," "]
[{"$f":"IF(COUNTRY_INFO!A27=0,\" \",COUNTRY_INFO!A27)","v":"Uganda"},{"$f":"IF(COUNTRY_INFO!B27=0,\" \",COUNTRY_INFO!B27)","v":"Central "},{"$f":"IF(COUNTRY_INFO!C27=0,\" \",COUNTRY_INFO!C27)","v":"Mukono"},{"$f":"IF(COUNTRY_INFO!$T$9:$T$1000=\"MDA1 (IVM+ALB)\", COUNTRY_INFO!$T$9:$T$1000, \" \")","v":" "},null,null,null,null,0,null,null,null,0,null," "," "," "]
[{"$f":"IF(COUNTRY_INFO!A28=0,\" \",COUNTRY_INFO!A28)","v":"Uganda"},{"$f":"IF(COUNTRY_INFO!B28=0,\" \",COUNTRY_INFO!B28)","v":"Central "},{"$f":"IF(COUNTRY_INFO!C28=0,\" \",COUNTRY_INFO!C28)","v":"Nakaseke"},{"$f":"IF(COUNTRY_INFO!$T$9:$T$1000=\"MDA1 (IVM+ALB)\", COUNTRY_INFO!$T$9:$T$1000, \" \")","v":" "},null,null,null,null,0,null,null,null,0,null," "," "," "]
[{"$f":"IF(COUNTRY_INFO!A29=0,\" \",COUNTRY_INFO!A29)","v":"Uganda"},{"$f":"IF(COUNTRY_INFO!B29=0,\" \",COUNTRY_INFO!B29)","v":"Central "},{"$f":"IF(COUNTRY_INFO!C29=0,\" \",COUNTRY_INFO!C29)","v":"Nakasongola"},{"$f":"IF(COUNTRY_INFO!$T$9:$T$1000=\"MDA1 (IVM+ALB)\", COUNTRY_INFO!$T$9:$T$1000, \" \")","v":" "},null,null,null,null,0,null,null,null,0,null," "," "," "]
[{"$f":"IF(COUNTRY_INFO!A30=0,\" \",COUNTRY_INFO!A30)","v":"Uganda"},{"$f":"IF(COUNTRY_INFO!B30=0,\" \",COUNTRY_INFO!B30)","v":"Central "},{"$f":"IF(COUNTRY_INFO!C30=0,\" \",COUNTRY_INFO!C30)","v":"Rakai"},{"$f":"IF(COUNTRY_INFO!$T$9:$T$1000=\"MDA1 (IVM+ALB)\", COUNTRY_INFO!$T$9:$T$1000, \" \")","v":" "},null,null,null,null,0,null,null,null,0,null," "," "," "]
[{"$f":"IF(COUNTRY_INFO!A31=0,\" \",COUNTRY_INFO!A31)","v":"Uganda"},{"$f":"IF(COUNTRY_INFO!B31=0,\" \",COUNTRY_INFO!B31)","v":"Central "},{"$f":"IF(COUNTRY_INFO!C31=0,\" \",COUNTRY_INFO!C31)","v":"Sembabule"},{"$f":"IF(COUNTRY_INFO!$T$9:$T$1000=\"MDA1 (IVM+ALB)\", COUNTRY_INFO!$T$9:$T$1000, \" \")","v":" "},null,null,null,null,0,null,null,null,0,null," "," "," "]
[{"$f":"IF(COUNTRY_INFO!A32=0,\" \",COUNTRY_INFO!A32)","v":"Uganda"},{"$f":"IF(COUNTRY_INFO!B32=0,\" \",COUNTRY_INFO!B32)","v":"Central "},{"$f":"IF(COUNTRY_INFO!C32=0,\" \",COUNTRY_INFO!C32)","v":"Wakiso"},{"$f":"IF(COUNTRY_INFO!$T$9:$T$1000=\"MDA1 (IVM+ALB)\", COUNTRY_INFO!$T$9:$T$1000, \" \")","v":" "},null,null,null,null,0,null,null,null,0,null," "," "," "]
[{"$f":"IF(COUNTRY_INFO!A33=0,\" \",COUNTRY_INFO!A33)","v":"Uganda"},{"$f":"IF(COUNTRY_INFO!B33=0,\" \",COUNTRY_INFO!B33)","v":"Eastern "},{"$f":"IF(COUNTRY_INFO!C33=0,\" \",COUNTRY_INFO!C33)","v":"Amuria"},{"$f":"IF(COUNTRY_INFO!$T$9:$T$1000=\"MDA1 (IVM+ALB)\", COUNTRY_INFO!$T$9:$T$1000, \" \")","v":" "},null,null,null,null,0,null,null,null,0,null," "," "," "]
[{"$f":"IF(COUNTRY_INFO!A34=0,\" \",COUNTRY_INFO!A34)","v":"Uganda"},{"$f":"IF(COUNTRY_INFO!B34=0,\" \",COUNTRY_INFO!B34)","v":"Eastern "},{"$f":"IF(COUNTRY_INFO!C34=0,\" \",COUNTRY_INFO!C34)","v":"Budaka"},{"$f":"IF(COUNTRY_INFO!$T$9:$T$1000=\"MDA1 (IVM+ALB)\", COUNTRY_INFO!$T$9:$T$1000, \" \")","v":" "},null,null,null,null,0,null,null,null,0,null," "," "," "]
[{"$f":"IF(COUNTRY_INFO!A35=0,\" \",COUNTRY_INFO!A35)","v":"Uganda"},{"$f":"IF(COUNTRY_INFO!B35=0,\" \",COUNTRY_INFO!B35)","v":"Eastern "},{"$f":"IF(COUNTRY_INFO!C35=0,\" \",COUNTRY_INFO!C35)","v":"Bududa"},{"$f":"IF(COUNTRY_INFO!$T$9:$T$1000=\"MDA1 (IVM+ALB)\", COUNTRY_INFO!$T$9:$T$1000, \" \")","v":" "},null,null,null,null,0,null,null,null,0,null," "," "," "]
[{"$f":"IF(COUNTRY_INFO!A36=0,\" \",COUNTRY_INFO!A36)","v":"Uganda"},{"$f":"IF(COUNTRY_INFO!B36=0,\" \",COUNTRY_INFO!B36)","v":"Eastern "},{"$f":"IF(COUNTRY_INFO!C36=0,\" \",COUNTRY_INFO!C36)","v":"Bugiri"},{"$f":"IF(COUNTRY_INFO!$T$9:$T$1000=\"MDA1 (IVM+ALB)\", COUNTRY_INFO!$T$9:$T$1000, \" \")","v":"MDA1 (IVM+ALB)"},"Oct- 2017",null,122652,211595,334247,null,80431,138756,219187,null,65.576590679320361,65.576218719723997,65.576355210368376]
[{"$f":"IF(COUNTRY_INFO!A37=0,\" \",COUNTRY_INFO!A37)","v":"Uganda"},{"$f":"IF(COUNTRY_INFO!B37=0,\" \",COUNTRY_INFO!B37)","v":"Eastern "},{"$f":"IF(COUNTRY_INFO!C37=0,\" \",COUNTRY_INFO!C37)","v":"Bukedea"},{"$f":"IF(COUNTRY_INFO!$T$9:$T$1000=\"MDA1 (IVM+ALB)\", COUNTRY_INFO!$T$9:$T$1000, \" \")","v":" "},null,null,null,null,0,null,null,null,0,null," "," "," "]
[{"$f":"IF(COUNTRY_INFO!A38=0,\" \",COUNTRY_INFO!A38)","v":"Uganda"},{"$f":"IF(COUNTRY_INFO!B38=0,\" \",COUNTRY_INFO!B38)","v":"Eastern "},{"$f":"IF(COUNTRY_INFO!C38=0,\" \",COUNTRY_INFO!C38)","v":"Bukwo"},{"$f":"IF(COUNTRY_INFO!$T$9:$T$1000=\"MDA1 (IVM+ALB)\", COUNTRY_INFO!$T$9:$T$1000, \" \")","v":" "},null,null,null,null,0,null,null,null,0,null," "," "," "]
[{"$f":"IF(COUNTRY_INFO!A39=0,\" \",COUNTRY_INFO!A39)","v":"Uganda"},{"$f":"IF(COUNTRY_INFO!B39=0,\" \",COUNTRY_INFO!B39)","v":"Eastern "},{"$f":"IF(COUNTRY_INFO!C39=0,\" \",COUNTRY_INFO!C39)","v":"Bulambuli"},{"$f":"IF(COUNTRY_INFO!$T$9:$T$1000=\"MDA1 (IVM+ALB)\", COUNTRY_INFO!$T$9:$T$1000, \" \")","v":" "},null,null,null,null,0,null,null,null,0,null," "," "," "]
[{"$f":"IF(COUNTRY_INFO!A40=0,\" \",COUNTRY_INFO!A40)","v":"Uganda"},{"$f":"IF(COUNTRY_INFO!B40=0,\" \",COUNTRY_INFO!B40)","v":"Eastern "},{"$f":"IF(COUNTRY_INFO!C40=0,\" \",COUNTRY_INFO!C40)","v":"Busia"},{"$f":"IF(COUNTRY_INFO!$T$9:$T$1000=\"MDA1 (IVM+ALB)\", COUNTRY_INFO!$T$9:$T$1000, \" \")","v":" "},null,null,null,null,0,null,null,null,0,null," "," "," "]
[{"$f":"IF(COUNTRY_INFO!A41=0,\" \",COUNTRY_INFO!A41)","v":"Uganda"},{"$f":"IF(COUNTRY_INFO!B41=0,\" \",COUNTRY_INFO!B41)","v":"Eastern "},{"$f":"IF(COUNTRY_INFO!C41=0,\" \",COUNTRY_INFO!C41)","v":"Butaleja"},{"$f":"IF(COUNTRY_INFO!$T$9:$T$1000=\"MDA1 (IVM+ALB)\", COUNTRY_INFO!$T$9:$T$1000, \" \")","v":" "},null,null,null,null,0,null,null,null,0,null," "," "," "]
[{"$f":"IF(COUNTRY_INFO!A42=0,\" \",COUNTRY_INFO!A42)","v":"Uganda"},{"$f":"IF(COUNTRY_INFO!B42=0,\" \",COUNTRY_INFO!B42)","v":"Eastern "},{"$f":"IF(COUNTRY_INFO!C42=0,\" \",COUNTRY_INFO!C42)","v":"Buyende"},{"$f":"IF(COUNTRY_INFO!$T$9:$T$1000=\"MDA1 (IVM+ALB)\", COUNTRY_INFO!$T$9:$T$1000, \" \")","v":" "},null,null,null,null,0,null,null,null,0,null," "," "," "]
[{"$f":"IF(COUNTRY_INFO!A43=0,\" \",COUNTRY_INFO!A43)","v":"Uganda"},{"$f":"IF(COUNTRY_INFO!B43=0,\" \",COUNTRY_INFO!B43)","v":"Eastern "},{"$f":"IF(COUNTRY_INFO!C43=0,\" \",COUNTRY_INFO!C43)","v":"Iganga"},{"$f":"IF(COUNTRY_INFO!$T$9:$T$1000=\"MDA1 (IVM+ALB)\", COUNTRY_INFO!$T$9:$T$1000, \" \")","v":" "},null,null,null,null,0,null,null,null,0,null," "," "," "]
[{"$f":"IF(COUNTRY_INFO!A44=0,\" \",COUNTRY_INFO!A44)","v":"Uganda"},{"$f":"IF(COUNTRY_INFO!B44=0,\" \",COUNTRY_INFO!B44)","v":"Eastern "},{"$f":"IF(COUNTRY_INFO!C44=0,\" \",COUNTRY_INFO!C44)","v":"Jinja"},{"$f":"IF(COUNTRY_INFO!$T$9:$T$1000=\"MDA1 (IVM+ALB)\", COUNTRY_INFO!$T$9:$T$1000, \" \")","v":" "},null,null,null,null,0,null,null,null,0,null," "," "," "]
[{"$f":"IF(COUNTRY_INFO!A45=0,\" \",COUNTRY_INFO!A45)","v":"Uganda"},{"$f":"IF(COUNTRY_INFO!B45=0,\" \",COUNTRY_INFO!B45)","v":"Eastern "},{"$f":"IF(COUNTRY_INFO!C45=0,\" \",COUNTRY_INFO!C45)","v":"Kaberamaido"},{"$f":"IF(COUNTRY_INFO!$T$9:$T$1000=\"MDA1 (IVM+ALB)\", COUNTRY_INFO!$T$9:$T$1000, \" \")","v":" "},null,null,null,null,0,null,null,null,0,null," "," "," "]
[{"$f":"IF(COUNTRY_INFO!A46=0,\" \",COUNTRY_INFO!A46)","v":"Uganda"},{"$f":"IF(COUNTRY_INFO!B46=0,\" \",COUNTRY_INFO!B46)","v":"Eastern "},{"$f":"IF(COUNTRY_INFO!C46=0,\" \",COUNTRY_INFO!C46)","v":"Kaliro"},{"$f":"IF(COUNTRY_INFO!$T$9:$T$1000=\"MDA1 (IVM+ALB)\", COUNTRY_INFO!$T$9:$T$1000, \" \")","v":" "},null,null,null,null,0,null,null,null,0,null," "," "," "]
[{"$f":"IF(COUNTRY_INFO!A47=0,\" \",COUNTRY_INFO!A47)","v":"Uganda"},{"$f":"IF(COUNTRY_INFO!B47=0,\" \",COUNTRY_INFO!B47)","v":"Eastern "},{"$f":"IF(COUNTRY_INFO!C47=0,\" \",COUNTRY_INFO!C47)","v":"Kamuli"},{"$f":"IF(COUNTRY_INFO!$T$9:$T$1000=\"MDA1 (IVM+ALB)\", COUNTRY_INFO!$T$9:$T$1000, \" \")","v":" "},null,null,null,null,0,null,null,null,0,null," "," "," "]
[{"$f":"IF(COUNTRY_INFO!A48=0,\" \",COUNTRY_INFO!A48)","v":"Uganda"},{"$f":"IF(COUNTRY_INFO!B48=0,\" \",COUNTRY_INFO!B48)","v":"Eastern "},{"$f":"IF(COUNTRY_INFO!C48=0,\" \",COUNTRY_INFO!C48)","v":"Kapchorwa"},{"$f":"IF(COUNTRY_INFO!$T$9:$T$1000=\"MDA1 (IVM+ALB)\", COUNTRY_INFO!$T$9:$T$1000, \" \")","v":" "},null,null,null,null,0,null,null,null,0,null," "," "," "]
[{"$f":"IF(COUNTRY_INFO!A49=0,\" \",COUNTRY_INFO!A49)","v":"Uganda"},{"$f":"IF(COUNTRY_INFO!B49=0,\" \",COUNTRY_INFO!B49)","v":"Eastern "},{"$f":"IF(COUNTRY_INFO!C49=0,\" \",COUNTRY_INFO!C49)","v":"Katakwi"},{"$f":"IF(COUNTRY_INFO!$T$9:$T$1000=\"MDA1 (IVM+ALB)\", COUNTRY_INFO!$T$9:$T$1000, \" \")","v":" "},null,null,null,null,0,null,null,null,0,null," "," "," "]
[{"$f":"IF(COUNTRY_INFO!A50=0,\" \",COUNTRY_INFO!A50)","v":"Uganda"},{"$f":"IF(COUNTRY_INFO!B50=0,\" \",COUNTRY_INFO!B50)","v":"Eastern "},{"$f":"IF(COUNTRY_INFO!C50=0,\" \",COUNTRY_INFO!C50)","v":"Kibuku"},{"$f":"IF(COUNTRY_INFO!$T$9:$T$1000=\"MDA1 (IVM+ALB)\", COUNTRY_INFO!$T$9:$T$1000, \" \")","v":" "},null,null,null,null,0,null,null,null,0,null," "," "," "]
[{"$f":"IF(COUNTRY_INFO!A51=0,\" \",COUNTRY_INFO!A51)","v":"Uganda"},{"$f":"IF(COUNTRY_INFO!B51=0,\" \",COUNTRY_INFO!B51)","v":"Eastern "},{"$f":"IF(COUNTRY_INFO!C51=0,\" \",COUNTRY_INFO!C51)","v":"Kumi"},{"$f":"IF(COUNTRY_INFO!$T$9:$T$1000=\"MDA1 (IVM+ALB)\", COUNTRY_INFO!$T$9:$T$1000, \" \")","v":" "},null,null,null,null,0,null,null,null,0,null," "," "," "]
[{"$f":"IF(COUNTRY_INFO!A52=0,\" \",COUNTRY_INFO!A52)","v":"Uganda"},{"$f":"IF(COUNTRY_INFO!B52=0,\" \",COUNTRY_INFO!B52)","v":"Eastern "},{"$f":"IF(COUNTRY_INFO!C52=0,\" \",COUNTRY_INFO!C52)","v":"Kween"},{"$f":"IF(COUNTRY_INFO!$T$9:$T$1000=\"MDA1 (IVM+ALB)\", COUNTRY_INFO!$T$9:$T$1000, \" \")","v":" "},null,null,null,null,0,null,null,null,0,null," "," "," "]
[{"$f":"IF(COUNTRY_INFO!A53=0,\" \",COUNTRY_INFO!A53)","v":"Uganda"},{"$f":"IF(COUNTRY_INFO!B53=0,\" \",COUNTRY_INFO!B53)","v":"Eastern "},{"$f":"IF(COUNTRY_INFO!C53=0,\" \",COUNTRY_INFO!C53)","v":"Luuka"},{"$f":"IF(COUNTRY_INFO!$T$9:$T$1000=\"MDA1 (IVM+ALB)\", COUNTRY_INFO!$T$9:$T$1000, \" \")","v":" "},null,null,null,null,0,null,null,null,0,null," "," "," "]
[{"$f":"IF(COUNTRY_INFO!A54=0,\" \",COUNTRY_INFO!A54)","v":"Uganda"},{"$f":"IF(COUNTRY_INFO!B54=0,\" \",COUNTRY_INFO!B54)","v":"Eastern "},{"$f":"IF(COUNTRY_INFO!C54=0,\" \",COUNTRY_INFO!C54)","v":"Manafwa"},{"$f":"IF(COUNTRY_INFO!$T$9:$T$1000=\"MDA1 (IVM+ALB)\", COUNTRY_INFO!$T$9:$T$1000, \" \")","v":" "},null,null,null,null,0,null,null,null,0,null," "," "," "]
[{"$f":"IF(COUNTRY_INFO!A55=0,\" \",COUNTRY_INFO!A55)","v":"Uganda"},{"$f":"IF(COUNTRY_INFO!B55=0,\" \",COUNTRY_INFO!B55)","v":"Eastern "},{"$f":"IF(COUNTRY_INFO!C55=0,\" \",COUNTRY_INFO!C55)","v":"Mayuge"},{"$f":"IF(COUNTRY_INFO!$T$9:$T$1000=\"MDA1 (IVM+ALB)\", COUNTRY_INFO!$T$9:$T$1000, \" \")","v":"MDA1 (IVM+ALB)"},"Oct- 2017",null,144302,248945,393247,null,113191,195273,308464,null,78.440354257044248,78.440217718773226,78.440267821496406]
[{"$f":"IF(COUNTRY_INFO!A56=0,\" \",COUNTRY_INFO!A56)","v":"Uganda"},{"$f":"IF(COUNTRY_INFO!B56=0,\" \",COUNTRY_INFO!B56)","v":"Eastern "},{"$f":"IF(COUNTRY_INFO!C56=0,\" \",COUNTRY_INFO!C56)","v":"Mbale"},{"$f":"IF(COUNTRY_INFO!$T$9:$T$1000=\"MDA1 (IVM+ALB)\", COUNTRY_INFO!$T$9:$T$1000, \" \")","v":" "},null,null,null,null,0,null,null,null,0,null," "," "," "]
[{"$f":"IF(COUNTRY_INFO!A57=0,\" \",COUNTRY_INFO!A57)","v":"Uganda"},{"$f":"IF(COUNTRY_INFO!B57=0,\" \",COUNTRY_INFO!B57)","v":"Eastern "},{"$f":"IF(COUNTRY_INFO!C57=0,\" \",COUNTRY_INFO!C57)","v":"Namayingo"},{"$f":"IF(COUNTRY_INFO!$T$9:$T$1000=\"MDA1 (IVM+ALB)\", COUNTRY_INFO!$T$9:$T$1000, \" \")","v":"MDA1 (IVM+ALB)"},"Oct- 2017",null,78416,135281,213697,null,61417,105955,167372,null,78.322026117118952,78.322159061509012,78.322110277636085]
[{"$f":"IF(COUNTRY_INFO!A58=0,\" \",COUNTRY_INFO!A58)","v":"Uganda"},{"$f":"IF(COUNTRY_INFO!B58=0,\" \",COUNTRY_INFO!B58)","v":"Eastern "},{"$f":"IF(COUNTRY_INFO!C58=0,\" \",COUNTRY_INFO!C58)","v":"Namutumba"},{"$f":"IF(COUNTRY_INFO!$T$9:$T$1000=\"MDA1 (IVM+ALB)\", COUNTRY_INFO!$T$9:$T$1000, \" \")","v":" "},null,null,null,null,0,null,null,null,0,null," "," "," "]
[{"$f":"IF(COUNTRY_INFO!A59=0,\" \",COUNTRY_INFO!A59)","v":"Uganda"},{"$f":"IF(COUNTRY_INFO!B59=0,\" \",COUNTRY_INFO!B59)","v":"Eastern "},{"$f":"IF(COUNTRY_INFO!C59=0,\" \",COUNTRY_INFO!C59)","v":"Ngora"},{"$f":"IF(COUNTRY_INFO!$T$9:$T$1000=\"MDA1 (IVM+ALB)\", COUNTRY_INFO!$T$9:$T$1000, \" \")","v":" "},null,null,null,null,0,null,null,null,0,null," "," "," "]
[{"$f":"IF(COUNTRY_INFO!A60=0,\" \",COUNTRY_INFO!A60)","v":"Uganda"},{"$f":"IF(COUNTRY_INFO!B60=0,\" \",COUNTRY_INFO!B60)","v":"Eastern "},{"$f":"IF(COUNTRY_INFO!C60=0,\" \",COUNTRY_INFO!C60)","v":"Pallisa"},{"$f":"IF(COUNTRY_INFO!$T$9:$T$1000=\"MDA1 (IVM+ALB)\", COUNTRY_INFO!$T$9:$T$1000, \" \")","v":" "},null,null,null,null,0,null,null,null,0,null," "," "," "]
[{"$f":"IF(COUNTRY_INFO!A61=0,\" \",COUNTRY_INFO!A61)","v":"Uganda"},{"$f":"IF(COUNTRY_INFO!B61=0,\" \",COUNTRY_INFO!B61)","v":"Eastern "},{"$f":"IF(COUNTRY_INFO!C61=0,\" \",COUNTRY_INFO!C61)","v":"Serere"},{"$f":"IF(COUNTRY_INFO!$T$9:$T$1000=\"MDA1 (IVM+ALB)\", COUNTRY_INFO!$T$9:$T$1000, \" \")","v":" "},null,null,null,null,0,null,null,null,0,null," "," "," "]
[{"$f":"IF(COUNTRY_INFO!A62=0,\" \",COUNTRY_INFO!A62)","v":"Uganda"},{"$f":"IF(COUNTRY_INFO!B62=0,\" \",COUNTRY_INFO!B62)","v":"Eastern "},{"$f":"IF(COUNTRY_INFO!C62=0,\" \",COUNTRY_INFO!C62)","v":"Sironko"},{"$f":"IF(COUNTRY_INFO!$T$9:$T$1000=\"MDA1 (IVM+ALB)\", COUNTRY_INFO!$T$9:$T$1000, \" \")","v":" "},null,null,null,null,0,null,null,null,0,null," "," "," "]
[{"$f":"IF(COUNTRY_INFO!A63=0,\" \",COUNTRY_INFO!A63)","v":"Uganda"},{"$f":"IF(COUNTRY_INFO!B63=0,\" \",COUNTRY_INFO!B63)","v":"Eastern "},{"$f":"IF(COUNTRY_INFO!C63=0,\" \",COUNTRY_INFO!C63)","v":"Soroti"},{"$f":"IF(COUNTRY_INFO!$T$9:$T$1000=\"MDA1 (IVM+ALB)\", COUNTRY_INFO!$T$9:$T$1000, \" \")","v":" "},null,null,null,null,0,null,null,null,0,null," "," "," "]
[{"$f":"IF(COUNTRY_INFO!A64=0,\" \",COUNTRY_INFO!A64)","v":"Uganda"},{"$f":"IF(COUNTRY_INFO!B64=0,\" \",COUNTRY_INFO!B64)","v":"Eastern "},{"$f":"IF(COUNTRY_INFO!C64=0,\" \",COUNTRY_INFO!C64)","v":"Tororo"},{"$f":"IF(COUNTRY_INFO!$T$9:$T$1000=\"MDA1 (IVM+ALB)\", COUNTRY_INFO!$T$9:$T$1000, \" \")","v":" "},null,null,null,null,0,null,null,null,0,null," "," "," "]
[{"$f":"IF(COUNTRY_INFO!A65=0,\" \",COUNTRY_INFO!A65)","v":"Uganda"},{"$f":"IF(COUNTRY_INFO!B65=0,\" \",COUNTRY_INFO!B65)","v":"Northern"},{"$f":"IF(COUNTRY_INFO!C65=0,\" \",COUNTRY_INFO!C65)","v":"Abim"},{"$f":"IF(COUNTRY_INFO!$T$9:$T$1000=\"MDA1 (IVM+ALB)\", COUNTRY_INFO!$T$9:$T$1000, \" \")","v":" "},null,null,null,null,0,null,null,null,0,null," "," "," "]
[{"$f":"IF(COUNTRY_INFO!A66=0,\" \",COUNTRY_INFO!A66)","v":"Uganda"},{"$f":"IF(COUNTRY_INFO!B66=0,\" \",COUNTRY_INFO!B66)","v":"Northern"},{"$f":"IF(COUNTRY_INFO!C66=0,\" \",COUNTRY_INFO!C66)","v":"Adjumani"},{"$f":"IF(COUNTRY_INFO!$T$9:$T$1000=\"MDA1 (IVM+ALB)\", COUNTRY_INFO!$T$9:$T$1000, \" \")","v":" "},null,null,null,null,0,null,null,null,0,null," "," "," "]
[{"$f":"IF(COUNTRY_INFO!A67=0,\" \",COUNTRY_INFO!A67)","v":"Uganda"},{"$f":"IF(COUNTRY_INFO!B67=0,\" \",COUNTRY_INFO!B67)","v":"Northern"},{"$f":"IF(COUNTRY_INFO!C67=0,\" \",COUNTRY_INFO!C67)","v":"Agago"},{"$f":"IF(COUNTRY_INFO!$T$9:$T$1000=\"MDA1 (IVM+ALB)\", COUNTRY_INFO!$T$9:$T$1000, \" \")","v":" "},null,null,null,null,0,null,null,null,0,null," "," "," "]
[{"$f":"IF(COUNTRY_INFO!A68=0,\" \",COUNTRY_INFO!A68)","v":"Uganda"},{"$f":"IF(COUNTRY_INFO!B68=0,\" \",COUNTRY_INFO!B68)","v":"Northern"},{"$f":"IF(COUNTRY_INFO!C68=0,\" \",COUNTRY_INFO!C68)","v":"Alebtong"},{"$f":"IF(COUNTRY_INFO!$T$9:$T$1000=\"MDA1 (IVM+ALB)\", COUNTRY_INFO!$T$9:$T$1000, \" \")","v":" "},null,null,null,null,0,null,null,null,0,null," "," "," "]
[{"$f":"IF(COUNTRY_INFO!A69=0,\" \",COUNTRY_INFO!A69)","v":"Uganda"},{"$f":"IF(COUNTRY_INFO!B69=0,\" \",COUNTRY_INFO!B69)","v":"Northern"},{"$f":"IF(COUNTRY_INFO!C69=0,\" \",COUNTRY_INFO!C69)","v":"Amolatar"},{"$f":"IF(COUNTRY_INFO!$T$9:$T$1000=\"MDA1 (IVM+ALB)\", COUNTRY_INFO!$T$9:$T$1000, \" \")","v":" "},null,null,null,null,0,null,null,null,0,null," "," "," "]
[{"$f":"IF(COUNTRY_INFO!A70=0,\" \",COUNTRY_INFO!A70)","v":"Uganda"},{"$f":"IF(COUNTRY_INFO!B70=0,\" \",COUNTRY_INFO!B70)","v":"Northern"},{"$f":"IF(COUNTRY_INFO!C70=0,\" \",COUNTRY_INFO!C70)","v":"Amudat"},{"$f":"IF(COUNTRY_INFO!$T$9:$T$1000=\"MDA1 (IVM+ALB)\", COUNTRY_INFO!$T$9:$T$1000, \" \")","v":" "},null,null,null,null,0,null,null,null,0,null," "," "," "]
[{"$f":"IF(COUNTRY_INFO!A71=0,\" \",COUNTRY_INFO!A71)","v":"Uganda"},{"$f":"IF(COUNTRY_INFO!B71=0,\" \",COUNTRY_INFO!B71)","v":"Northern"},{"$f":"IF(COUNTRY_INFO!C71=0,\" \",COUNTRY_INFO!C71)","v":"Amuru"},{"$f":"IF(COUNTRY_INFO!$T$9:$T$1000=\"MDA1 (IVM+ALB)\", COUNTRY_INFO!$T$9:$T$1000, \" \")","v":" "},null,null,null,null,0,null,null,null,0,null," "," "," "]
[{"$f":"IF(COUNTRY_INFO!A72=0,\" \",COUNTRY_INFO!A72)","v":"Uganda"},{"$f":"IF(COUNTRY_INFO!B72=0,\" \",COUNTRY_INFO!B72)","v":"Northern"},{"$f":"IF(COUNTRY_INFO!C72=0,\" \",COUNTRY_INFO!C72)","v":"Apac"},{"$f":"IF(COUNTRY_INFO!$T$9:$T$1000=\"MDA1 (IVM+ALB)\", COUNTRY_INFO!$T$9:$T$1000, \" \")","v":" "},null,null,null,null,0,null,null,null,0,null," "," "," "]
[{"$f":"IF(COUNTRY_INFO!A73=0,\" \",COUNTRY_INFO!A73)","v":"Uganda"},{"$f":"IF(COUNTRY_INFO!B73=0,\" \",COUNTRY_INFO!B73)","v":"Northern"},{"$f":"IF(COUNTRY_INFO!C73=0,\" \",COUNTRY_INFO!C73)","v":"Arua"},{"$f":"IF(COUNTRY_INFO!$T$9:$T$1000=\"MDA1 (IVM+ALB)\", COUNTRY_INFO!$T$9:$T$1000, \" \")","v":"MDA1 (IVM+ALB)"},"Oct- 2017",null,258314,445634,703948,null,202683,349663,552346,null,78.463807613989175,78.464165660609382,78.464034275258967]
[{"$f":"IF(COUNTRY_INFO!A74=0,\" \",COUNTRY_INFO!A74)","v":"Uganda"},{"$f":"IF(COUNTRY_INFO!B74=0,\" \",COUNTRY_INFO!B74)","v":"Northern"},{"$f":"IF(COUNTRY_INFO!C74=0,\" \",COUNTRY_INFO!C74)","v":"Dokolo"},{"$f":"IF(COUNTRY_INFO!$T$9:$T$1000=\"MDA1 (IVM+ALB)\", COUNTRY_INFO!$T$9:$T$1000, \" \")","v":" "},null,null,null,null,{"$f":"SUM(F74:H74)","v":0},null,null,null,{"$f":"SUM(J74:L74)","v":0},null,{"$f":"IF(G74<>0, IF(K74/G74*100=0, \"-\", K74/G74*100), \" \")","v":" "},{"$f":"IF(H74<>0, IF(L74/H74*100=0, \"-\", L74/H74*100), \" \")","v":" "},{"$f":"IF(I74<>0, IF(M74/I74*100=0, \"-\", M74/I74*100), \" \")","v":" "}]
[{"$f":"IF(COUNTRY_INFO!A75=0,\" \",COUNTRY_INFO!A75)","v":"Uganda"},{"$f":"IF(COUNTRY_INFO!B75=0,\" \",COUNTRY_INFO!B75)","v":"Northern"},{"$f":"IF(COUNTRY_INFO!C75=0,\" \",COUNTRY_INFO!C75)","v":"Gulu"},{"$f":"IF(COUNTRY_INFO!$T$9:$T$1000=\"MDA1 (IVM+ALB)\", COUNTRY_INFO!$T$9:$T$1000, \" \")","v":"MDA1 (IVM+ALB)"},"Oct- 2017",null,66187,114183,180370,null,57729,99593,157322,null,87.221055494281359,87.222266011577915,87.221821810722403]
[{"$f":"IF(COUNTRY_INFO!A76=0,\" \",COUNTRY_INFO!A76)","v":"Uganda"},{"$f":"IF(COUNTRY_INFO!B76=0,\" \",COUNTRY_INFO!B76)","v":"Northern"},{"$f":"IF(COUNTRY_INFO!C76=0,\" \",COUNTRY_INFO!C76)","v":"Kaabong"},{"$f":"IF(COUNTRY_INFO!$T$9:$T$1000=\"MDA1 (IVM+ALB)\", COUNTRY_INFO!$T$9:$T$1000, \" \")","v":" "},null,null,null,null,0,null,null,null,0,null," "," "," "]
[{"$f":"IF(COUNTRY_INFO!A77=0,\" \",COUNTRY_INFO!A77)","v":"Uganda"},{"$f":"IF(COUNTRY_INFO!B77=0,\" \",COUNTRY_INFO!B77)","v":"Northern"},{"$f":"IF(COUNTRY_INFO!C77=0,\" \",COUNTRY_INFO!C77)","v":"Kitgum"},{"$f":"IF(COUNTRY_INFO!$T$9:$T$1000=\"MDA1 (IVM+ALB)\", COUNTRY_INFO!$T$9:$T$1000, \" \")","v":"MDA1 (IVM+ALB)"},"Oct- 2017",null,67396,116268,183664,null,55786,96240,152026,null,82.77345836548163,82.774280111466609,82.77397856956182]
[{"$f":"IF(COUNTRY_INFO!A78=0,\" \",COUNTRY_INFO!A78)","v":"Uganda"},{"$f":"IF(COUNTRY_INFO!B78=0,\" \",COUNTRY_INFO!B78)","v":"Northern"},{"$f":"IF(COUNTRY_INFO!C78=0,\" \",COUNTRY_INFO!C78)","v":"Koboko"},{"$f":"IF(COUNTRY_INFO!$T$9:$T$1000=\"MDA1 (IVM+ALB)\", COUNTRY_INFO!$T$9:$T$1000, \" \")","v":" "},null,null,null,null,0,null,null,null,0,null," "," "," "]
[{"$f":"IF(COUNTRY_INFO!A79=0,\" \",COUNTRY_INFO!A79)","v":"Uganda"},{"$f":"IF(COUNTRY_INFO!B79=0,\" \",COUNTRY_INFO!B79)","v":"Northern"},{"$f":"IF(COUNTRY_INFO!C79=0,\" \",COUNTRY_INFO!C79)","v":"Kole"},{"$f":"IF(COUNTRY_INFO!$T$9:$T$1000=\"MDA1 (IVM+ALB)\", COUNTRY_INFO!$T$9:$T$1000, \" \")","v":" "},null,null,null,null,0,null,null,null,0,null," "," "," "]
[{"$f":"IF(COUNTRY_INFO!A80=0,\" \",COUNTRY_INFO!A80)","v":"Uganda"},{"$f":"IF(COUNTRY_INFO!B80=0,\" \",COUNTRY_INFO!B80)","v":"Northern"},{"$f":"IF(COUNTRY_INFO!C80=0,\" \",COUNTRY_INFO!C80)","v":"Kotido"},{"$f":"IF(COUNTRY_INFO!$T$9:$T$1000=\"MDA1 (IVM+ALB)\", COUNTRY_INFO!$T$9:$T$1000, \" \")","v":" "},null,null,null,null,0,null,null,null,0,null," "," "," "]
[{"$f":"IF(COUNTRY_INFO!A81=0,\" \",COUNTRY_INFO!A81)","v":"Uganda"},{"$f":"IF(COUNTRY_INFO!B81=0,\" \",COUNTRY_INFO!B81)","v":"Northern"},{"$f":"IF(COUNTRY_INFO!C81=0,\" \",COUNTRY_INFO!C81)","v":"Lamwo"},{"$f":"IF(COUNTRY_INFO!$T$9:$T$1000=\"MDA1 (IVM+ALB)\", COUNTRY_INFO!$T$9:$T$1000, \" \")","v":"MDA1 (IVM+ALB)"},"Oct- 2017",null,46206,79714,125920,null,41590,71750,113340,null,90.009955417045404,90.009283187394942,90.009529860228724]
[{"$f":"IF(COUNTRY_INFO!A82=0,\" \",COUNTRY_INFO!A82)","v":"Uganda"},{"$f":"IF(COUNTRY_INFO!B82=0,\" \",COUNTRY_INFO!B82)","v":"Northern"},{"$f":"IF(COUNTRY_INFO!C82=0,\" \",COUNTRY_INFO!C82)","v":"Lira"},{"$f":"IF(COUNTRY_INFO!$T$9:$T$1000=\"MDA1 (IVM+ALB)\", COUNTRY_INFO!$T$9:$T$1000, \" \")","v":" "},null,null,null,null,0,null,null,null,0,null," "," "," "]
[{"$f":"IF(COUNTRY_INFO!A83=0,\" \",COUNTRY_INFO!A83)","v":"Uganda"},{"$f":"IF(COUNTRY_INFO!B83=0,\" \",COUNTRY_INFO!B83)","v":"Northern"},{"$f":"IF(COUNTRY_INFO!C83=0,\" \",COUNTRY_INFO!C83)","v":"Maracha"},{"$f":"IF(COUNTRY_INFO!$T$9:$T$1000=\"MDA1 (IVM+ALB)\", COUNTRY_INFO!$T$9:$T$1000, \" \")","v":"MDA1 (IVM+ALB)"},"Oct- 2017",null,61479,106061,167540,null,59557,102745,162302,null,96.873729240879001,96.873497327009929,96.873582428076872]
[{"$f":"IF(COUNTRY_INFO!A84=0,\" \",COUNTRY_INFO!A84)","v":"Uganda"},{"$f":"IF(COUNTRY_INFO!B84=0,\" \",COUNTRY_INFO!B84)","v":"Northern"},{"$f":"IF(COUNTRY_INFO!C84=0,\" \",COUNTRY_INFO!C84)","v":"Moroto"},{"$f":"IF(COUNTRY_INFO!$T$9:$T$1000=\"MDA1 (IVM+ALB)\", COUNTRY_INFO!$T$9:$T$1000, \" \")","v":" "},null,null,null,null,0,null,null,null,0,null," "," "," "]
[{"$f":"IF(COUNTRY_INFO!A85=0,\" \",COUNTRY_INFO!A85)","v":"Uganda"},{"$f":"IF(COUNTRY_INFO!B85=0,\" \",COUNTRY_INFO!B85)","v":"Northern"},{"$f":"IF(COUNTRY_INFO!C85=0,\" \",COUNTRY_INFO!C85)","v":"Moyo"},{"$f":"IF(COUNTRY_INFO!$T$9:$T$1000=\"MDA1 (IVM+ALB)\", COUNTRY_INFO!$T$9:$T$1000, \" \")","v":" "},null,null,null,null,0,null,null,null,0,null," "," "," "]
[{"$f":"IF(COUNTRY_INFO!A86=0,\" \",COUNTRY_INFO!A86)","v":"Uganda"},{"$f":"IF(COUNTRY_INFO!B86=0,\" \",COUNTRY_INFO!B86)","v":"Northern"},{"$f":"IF(COUNTRY_INFO!C86=0,\" \",COUNTRY_INFO!C86)","v":"Nakapiripirit"},{"$f":"IF(COUNTRY_INFO!$T$9:$T$1000=\"MDA1 (IVM+ALB)\", COUNTRY_INFO!$T$9:$T$1000, \" \")","v":" "},null,null,null,null,0,null,null,null,0,null," "," "," "]
[{"$f":"IF(COUNTRY_INFO!A87=0,\" \",COUNTRY_INFO!A87)","v":"Uganda"},{"$f":"IF(COUNTRY_INFO!B87=0,\" \",COUNTRY_INFO!B87)","v":"Northern"},{"$f":"IF(COUNTRY_INFO!C87=0,\" \",COUNTRY_INFO!C87)","v":"Napak"},{"$f":"IF(COUNTRY_INFO!$T$9:$T$1000=\"MDA1 (IVM+ALB)\", COUNTRY_INFO!$T$9:$T$1000, \" \")","v":" "},null,null,null,null,0,null,null,null,0,null," "," "," "]
[{"$f":"IF(COUNTRY_INFO!A88=0,\" \",COUNTRY_INFO!A88)","v":"Uganda"},{"$f":"IF(COUNTRY_INFO!B88=0,\" \",COUNTRY_INFO!B88)","v":"Northern"},{"$f":"IF(COUNTRY_INFO!C88=0,\" \",COUNTRY_INFO!C88)","v":"Nebbi"},{"$f":"IF(COUNTRY_INFO!$T$9:$T$1000=\"MDA1 (IVM+ALB)\", COUNTRY_INFO!$T$9:$T$1000, \" \")","v":" "},null,null,null,null,0,null,null,null,0,null," "," "," "]
[{"$f":"IF(COUNTRY_INFO!A89=0,\" \",COUNTRY_INFO!A89)","v":"Uganda"},{"$f":"IF(COUNTRY_INFO!B89=0,\" \",COUNTRY_INFO!B89)","v":"Northern"},{"$f":"IF(COUNTRY_INFO!C89=0,\" \",COUNTRY_INFO!C89)","v":"Nwoya"},{"$f":"IF(COUNTRY_INFO!$T$9:$T$1000=\"MDA1 (IVM+ALB)\", COUNTRY_INFO!$T$9:$T$1000, \" \")","v":" "},null,null,null,null,0,null,null,null,0,null," "," "," "]
[{"$f":"IF(COUNTRY_INFO!A90=0,\" \",COUNTRY_INFO!A90)","v":"Uganda"},{"$f":"IF(COUNTRY_INFO!B90=0,\" \",COUNTRY_INFO!B90)","v":"Northern"},{"$f":"IF(COUNTRY_INFO!C90=0,\" \",COUNTRY_INFO!C90)","v":"Omoro"},{"$f":"IF(COUNTRY_INFO!$T$9:$T$1000=\"MDA1 (IVM+ALB)\", COUNTRY_INFO!$T$9:$T$1000, \" \")","v":"MDA1 (IVM+ALB)"},"Oct- 2017",null,58152,100322,158474,null,54055,93253,147308,null,92.954670518640796,92.95368912103028,92.954049244671054]
[{"$f":"IF(COUNTRY_INFO!A91=0,\" \",COUNTRY_INFO!A91)","v":"Uganda"},{"$f":"IF(COUNTRY_INFO!B91=0,\" \",COUNTRY_INFO!B91)","v":"Northern"},{"$f":"IF(COUNTRY_INFO!C91=0,\" \",COUNTRY_INFO!C91)","v":"Otuke"},{"$f":"IF(COUNTRY_INFO!$T$9:$T$1000=\"MDA1 (IVM+ALB)\", COUNTRY_INFO!$T$9:$T$1000, \" \")","v":" "},null,null,null,null,0,null,null,null,0,null," "," "," "]
[{"$f":"IF(COUNTRY_INFO!A92=0,\" \",COUNTRY_INFO!A92)","v":"Uganda"},{"$f":"IF(COUNTRY_INFO!B92=0,\" \",COUNTRY_INFO!B92)","v":"Northern"},{"$f":"IF(COUNTRY_INFO!C92=0,\" \",COUNTRY_INFO!C92)","v":"Oyam"},{"$f":"IF(COUNTRY_INFO!$T$9:$T$1000=\"MDA1 (IVM+ALB)\", COUNTRY_INFO!$T$9:$T$1000, \" \")","v":" "},null,null,null,null,0,null,null,null,0,null," "," "," "]
[{"$f":"IF(COUNTRY_INFO!A93=0,\" \",COUNTRY_INFO!A93)","v":"Uganda"},{"$f":"IF(COUNTRY_INFO!B93=0,\" \",COUNTRY_INFO!B93)","v":"Northern"},{"$f":"IF(COUNTRY_INFO!C93=0,\" \",COUNTRY_INFO!C93)","v":"Pader"},{"$f":"IF(COUNTRY_INFO!$T$9:$T$1000=\"MDA1 (IVM+ALB)\", COUNTRY_INFO!$T$9:$T$1000, \" \")","v":" "},null,null,null,null,0,null,null,null,0,null," "," "," "]
[{"$f":"IF(COUNTRY_INFO!A94=0,\" \",COUNTRY_INFO!A94)","v":"Uganda"},{"$f":"IF(COUNTRY_INFO!B94=0,\" \",COUNTRY_INFO!B94)","v":"Northern"},{"$f":"IF(COUNTRY_INFO!C94=0,\" \",COUNTRY_INFO!C94)","v":"Yumbe"},{"$f":"IF(COUNTRY_INFO!$T$9:$T$1000=\"MDA1 (IVM+ALB)\", COUNTRY_INFO!$T$9:$T$1000, \" \")","v":" "},null,null,null,null,0,null,null,null,0,null," "," "," "]
[{"$f":"IF(COUNTRY_INFO!A95=0,\" \",COUNTRY_INFO!A95)","v":"Uganda"},{"$f":"IF(COUNTRY_INFO!B95=0,\" \",COUNTRY_INFO!B95)","v":"Northern"},{"$f":"IF(COUNTRY_INFO!C95=0,\" \",COUNTRY_INFO!C95)","v":"Zombo"},{"$f":"IF(COUNTRY_INFO!$T$9:$T$1000=\"MDA1 (IVM+ALB)\", COUNTRY_INFO!$T$9:$T$1000, \" \")","v":" "},null,null,null,null,0,null,null,null,0,null," "," "," "]
[{"$f":"IF(COUNTRY_INFO!A96=0,\" \",COUNTRY_INFO!A96)","v":"Uganda"},{"$f":"IF(COUNTRY_INFO!B96=0,\" \",COUNTRY_INFO!B96)","v":"Western"},{"$f":"IF(COUNTRY_INFO!C96=0,\" \",COUNTRY_INFO!C96)","v":"Buhweju"},{"$f":"IF(COUNTRY_INFO!$T$9:$T$1000=\"MDA1 (IVM+ALB)\", COUNTRY_INFO!$T$9:$T$1000, \" \")","v":" "},null,null,null,null,0,null,null,null,0,null," "," "," "]
[{"$f":"IF(COUNTRY_INFO!A97=0,\" \",COUNTRY_INFO!A97)","v":"Uganda"},{"$f":"IF(COUNTRY_INFO!B97=0,\" \",COUNTRY_INFO!B97)","v":"Western"},{"$f":"IF(COUNTRY_INFO!C97=0,\" \",COUNTRY_INFO!C97)","v":"Buliisa"},{"$f":"IF(COUNTRY_INFO!$T$9:$T$1000=\"MDA1 (IVM+ALB)\", COUNTRY_INFO!$T$9:$T$1000, \" \")","v":" "},null,null,null,null,0,null,null,null,0,null," "," "," "]
[{"$f":"IF(COUNTRY_INFO!A98=0,\" \",COUNTRY_INFO!A98)","v":"Uganda"},{"$f":"IF(COUNTRY_INFO!B98=0,\" \",COUNTRY_INFO!B98)","v":"Western"},{"$f":"IF(COUNTRY_INFO!C98=0,\" \",COUNTRY_INFO!C98)","v":"Bundibugyo"},{"$f":"IF(COUNTRY_INFO!$T$9:$T$1000=\"MDA1 (IVM+ALB)\", COUNTRY_INFO!$T$9:$T$1000, \" \")","v":" "},null,null,null,null,0,null,null,null,0,null," "," "," "]
[{"$f":"IF(COUNTRY_INFO!A99=0,\" \",COUNTRY_INFO!A99)","v":"Uganda"},{"$f":"IF(COUNTRY_INFO!B99=0,\" \",COUNTRY_INFO!B99)","v":"Western"},{"$f":"IF(COUNTRY_INFO!C99=0,\" \",COUNTRY_INFO!C99)","v":"Bushenyi"},{"$f":"IF(COUNTRY_INFO!$T$9:$T$1000=\"MDA1 (IVM+ALB)\", COUNTRY_INFO!$T$9:$T$1000, \" \")","v":" "},null,null,null,null,0,null,null,null,0,null," "," "," "]
[{"$f":"IF(COUNTRY_INFO!A100=0,\" \",COUNTRY_INFO!A100)","v":"Uganda"},{"$f":"IF(COUNTRY_INFO!B100=0,\" \",COUNTRY_INFO!B100)","v":"Western"},{"$f":"IF(COUNTRY_INFO!C100=0,\" \",COUNTRY_INFO!C100)","v":"Hoima"},{"$f":"IF(COUNTRY_INFO!$T$9:$T$1000=\"MDA1 (IVM+ALB)\", COUNTRY_INFO!$T$9:$T$1000, \" \")","v":" "},null,null,null,null,0,null,null,null,0,null," "," "," "]
[{"$f":"IF(COUNTRY_INFO!A101=0,\" \",COUNTRY_INFO!A101)","v":"Uganda"},{"$f":"IF(COUNTRY_INFO!B101=0,\" \",COUNTRY_INFO!B101)","v":"Western"},{"$f":"IF(COUNTRY_INFO!C101=0,\" \",COUNTRY_INFO!C101)","v":"Ibanda"},{"$f":"IF(COUNTRY_INFO!$T$9:$T$1000=\"MDA1 (IVM+ALB)\", COUNTRY_INFO!$T$9:$T$1000, \" \")","v":" "},null,null,null,null,0,null,null,null,0,null," "," "," "]
[{"$f":"IF(COUNTRY_INFO!A102=0,\" \",COUNTRY_INFO!A102)","v":"Uganda"},{"$f":"IF(COUNTRY_INFO!B102=0,\" \",COUNTRY_INFO!B102)","v":"Western"},{"$f":"IF(COUNTRY_INFO!C102=0,\" \",COUNTRY_INFO!C102)","v":"Isingiro"},{"$f":"IF(COUNTRY_INFO!$T$9:$T$1000=\"MDA1 (IVM+ALB)\", COUNTRY_INFO!$T$9:$T$1000, \" \")","v":" "},null,null,null,null,0,null,null,null,0,null," "," "," "]
[{"$f":"IF(COUNTRY_INFO!A103=0,\" \",COUNTRY_INFO!A103)","v":"Uganda"},{"$f":"IF(COUNTRY_INFO!B103=0,\" \",COUNTRY_INFO!B103)","v":"Western"},{"$f":"IF(COUNTRY_INFO!C103=0,\" \",COUNTRY_INFO!C103)","v":"Kabale"},{"$f":"IF(COUNTRY_INFO!$T$9:$T$1000=\"MDA1 (IVM+ALB)\", COUNTRY_INFO!$T$9:$T$1000, \" \")","v":" "},null,null,null,null,0,null,null,null,0,null," "," "," "]
[{"$f":"IF(COUNTRY_INFO!A104=0,\" \",COUNTRY_INFO!A104)","v":"Uganda"},{"$f":"IF(COUNTRY_INFO!B104=0,\" \",COUNTRY_INFO!B104)","v":"Western"},{"$f":"IF(COUNTRY_INFO!C104=0,\" \",COUNTRY_INFO!C104)","v":"Kabarole"},{"$f":"IF(COUNTRY_INFO!$T$9:$T$1000=\"MDA1 (IVM+ALB)\", COUNTRY_INFO!$T$9:$T$1000, \" \")","v":" "},null,null,null,null,0,null,null,null,0,null," "," "," "]
[{"$f":"IF(COUNTRY_INFO!A105=0,\" \",COUNTRY_INFO!A105)","v":"Uganda"},{"$f":"IF(COUNTRY_INFO!B105=0,\" \",COUNTRY_INFO!B105)","v":"Western"},{"$f":"IF(COUNTRY_INFO!C105=0,\" \",COUNTRY_INFO!C105)","v":"Kagadi"},{"$f":"IF(COUNTRY_INFO!$T$9:$T$1000=\"MDA1 (IVM+ALB)\", COUNTRY_INFO!$T$9:$T$1000, \" \")","v":" "},null,null,null,null,0,null,null,null,0,null," "," "," "]
[{"$f":"IF(COUNTRY_INFO!A106=0,\" \",COUNTRY_INFO!A106)","v":"Uganda"},{"$f":"IF(COUNTRY_INFO!B106=0,\" \",COUNTRY_INFO!B106)","v":"Western"},{"$f":"IF(COUNTRY_INFO!C106=0,\" \",COUNTRY_INFO!C106)","v":"Kakumiro"},{"$f":"IF(COUNTRY_INFO!$T$9:$T$1000=\"MDA1 (IVM+ALB)\", COUNTRY_INFO!$T$9:$T$1000, \" \")","v":" "},null,null,null,null,0,null,null,null,0,null," "," "," "]
[{"$f":"IF(COUNTRY_INFO!A107=0,\" \",COUNTRY_INFO!A107)","v":"Uganda"},{"$f":"IF(COUNTRY_INFO!B107=0,\" \",COUNTRY_INFO!B107)","v":"Western"},{"$f":"IF(COUNTRY_INFO!C107=0,\" \",COUNTRY_INFO!C107)","v":"Kamwenge"},{"$f":"IF(COUNTRY_INFO!$T$9:$T$1000=\"MDA1 (IVM+ALB)\", COUNTRY_INFO!$T$9:$T$1000, \" \")","v":" "},null,null,null,null,0,null,null,null,0,null," "," "," "]
[{"$f":"IF(COUNTRY_INFO!A108=0,\" \",COUNTRY_INFO!A108)","v":"Uganda"},{"$f":"IF(COUNTRY_INFO!B108=0,\" \",COUNTRY_INFO!B108)","v":"Western"},{"$f":"IF(COUNTRY_INFO!C108=0,\" \",COUNTRY_INFO!C108)","v":"Kanungu"},{"$f":"IF(COUNTRY_INFO!$T$9:$T$1000=\"MDA1 (IVM+ALB)\", COUNTRY_INFO!$T$9:$T$1000, \" \")","v":" "},null,null,null,null,0,null,null,null,0,null," "," "," "]
[{"$f":"IF(COUNTRY_INFO!A109=0,\" \",COUNTRY_INFO!A109)","v":"Uganda"},{"$f":"IF(COUNTRY_INFO!B109=0,\" \",COUNTRY_INFO!B109)","v":"Western"},{"$f":"IF(COUNTRY_INFO!C109=0,\" \",COUNTRY_INFO!C109)","v":"Kasese"},{"$f":"IF(COUNTRY_INFO!$T$9:$T$1000=\"MDA1 (IVM+ALB)\", COUNTRY_INFO!$T$9:$T$1000, \" \")","v":" "},null,null,null,null,0,null,null,null,0,null," "," "," "]
[{"$f":"IF(COUNTRY_INFO!A110=0,\" \",COUNTRY_INFO!A110)","v":"Uganda"},{"$f":"IF(COUNTRY_INFO!B110=0,\" \",COUNTRY_INFO!B110)","v":"Western"},{"$f":"IF(COUNTRY_INFO!C110=0,\" \",COUNTRY_INFO!C110)","v":"Kibaale"},{"$f":"IF(COUNTRY_INFO!$T$9:$T$1000=\"MDA1 (IVM+ALB)\", COUNTRY_INFO!$T$9:$T$1000, \" \")","v":" "},null,null,null,null,0,null,null,null,0,null," "," "," "]
[{"$f":"IF(COUNTRY_INFO!A111=0,\" \",COUNTRY_INFO!A111)","v":"Uganda"},{"$f":"IF(COUNTRY_INFO!B111=0,\" \",COUNTRY_INFO!B111)","v":"Western"},{"$f":"IF(COUNTRY_INFO!C111=0,\" \",COUNTRY_INFO!C111)","v":"Kiruhura"},{"$f":"IF(COUNTRY_INFO!$T$9:$T$1000=\"MDA1 (IVM+ALB)\", COUNTRY_INFO!$T$9:$T$1000, \" \")","v":" "},null,null,null,null,0,null,null,null,0,null," "," "," "]
[{"$f":"IF(COUNTRY_INFO!A112=0,\" \",COUNTRY_INFO!A112)","v":"Uganda"},{"$f":"IF(COUNTRY_INFO!B112=0,\" \",COUNTRY_INFO!B112)","v":"Western"},{"$f":"IF(COUNTRY_INFO!C112=0,\" \",COUNTRY_INFO!C112)","v":"Kiryandongo"},{"$f":"IF(COUNTRY_INFO!$T$9:$T$1000=\"MDA1 (IVM+ALB)\", COUNTRY_INFO!$T$9:$T$1000, \" \")","v":" "},null,null,null,null,0,null,null,null,0,null," "," "," "]
[{"$f":"IF(COUNTRY_INFO!A113=0,\" \",COUNTRY_INFO!A113)","v":"Uganda"},{"$f":"IF(COUNTRY_INFO!B113=0,\" \",COUNTRY_INFO!B113)","v":"Western"},{"$f":"IF(COUNTRY_INFO!C113=0,\" \",COUNTRY_INFO!C113)","v":"Kisoro"},{"$f":"IF(COUNTRY_INFO!$T$9:$T$1000=\"MDA1 (IVM+ALB)\", COUNTRY_INFO!$T$9:$T$1000, \" \")","v":" "},null,null,null,null,0,null,null,null,0,null," "," "," "]
[{"$f":"IF(COUNTRY_INFO!A114=0,\" \",COUNTRY_INFO!A114)","v":"Uganda"},{"$f":"IF(COUNTRY_INFO!B114=0,\" \",COUNTRY_INFO!B114)","v":"Western"},{"$f":"IF(COUNTRY_INFO!C114=0,\" \",COUNTRY_INFO!C114)","v":"Kyegegwa"},{"$f":"IF(COUNTRY_INFO!$T$9:$T$1000=\"MDA1 (IVM+ALB)\", COUNTRY_INFO!$T$9:$T$1000, \" \")","v":" "},null,null,null,null,0,null,null,null,0,null," "," "," "]
[{"$f":"IF(COUNTRY_INFO!A115=0,\" \",COUNTRY_INFO!A115)","v":"Uganda"},{"$f":"IF(COUNTRY_INFO!B115=0,\" \",COUNTRY_INFO!B115)","v":"Western"},{"$f":"IF(COUNTRY_INFO!C115=0,\" \",COUNTRY_INFO!C115)","v":"Kyenjojo"},{"$f":"IF(COUNTRY_INFO!$T$9:$T$1000=\"MDA1 (IVM+ALB)\", COUNTRY_INFO!$T$9:$T$1000, \" \")","v":" "},null,null,null,null,0,null,null,null,0,null," "," "," "]
[{"$f":"IF(COUNTRY_INFO!A116=0,\" \",COUNTRY_INFO!A116)","v":"Uganda"},{"$f":"IF(COUNTRY_INFO!B116=0,\" \",COUNTRY_INFO!B116)","v":"Western"},{"$f":"IF(COUNTRY_INFO!C116=0,\" \",COUNTRY_INFO!C116)","v":"Masindi"},{"$f":"IF(COUNTRY_INFO!$T$9:$T$1000=\"MDA1 (IVM+ALB)\", COUNTRY_INFO!$T$9:$T$1000, \" \")","v":" "},null,null,null,null,0,null,null,null,0,null," "," "," "]
[{"$f":"IF(COUNTRY_INFO!A117=0,\" \",COUNTRY_INFO!A117)","v":"Uganda"},{"$f":"IF(COUNTRY_INFO!B117=0,\" \",COUNTRY_INFO!B117)","v":"Western"},{"$f":"IF(COUNTRY_INFO!C117=0,\" \",COUNTRY_INFO!C117)","v":"Mbarara"},{"$f":"IF(COUNTRY_INFO!$T$9:$T$1000=\"MDA1 (IVM+ALB)\", COUNTRY_INFO!$T$9:$T$1000, \" \")","v":" "},null,null,null,null,0,null,null,null,0,null," "," "," "]
[{"$f":"IF(COUNTRY_INFO!A118=0,\" \",COUNTRY_INFO!A118)","v":"Uganda"},{"$f":"IF(COUNTRY_INFO!B118=0,\" \",COUNTRY_INFO!B118)","v":"Western"},{"$f":"IF(COUNTRY_INFO!C118=0,\" \",COUNTRY_INFO!C118)","v":"Mitooma"},{"$f":"IF(COUNTRY_INFO!$T$9:$T$1000=\"MDA1 (IVM+ALB)\", COUNTRY_INFO!$T$9:$T$1000, \" \")","v":" "},null,null,null,null,0,null,null,null,0,null," "," "," "]
[{"$f":"IF(COUNTRY_INFO!A119=0,\" \",COUNTRY_INFO!A119)","v":"Uganda"},{"$f":"IF(COUNTRY_INFO!B119=0,\" \",COUNTRY_INFO!B119)","v":"Western"},{"$f":"IF(COUNTRY_INFO!C119=0,\" \",COUNTRY_INFO!C119)","v":"Ntoroko"},{"$f":"IF(COUNTRY_INFO!$T$9:$T$1000=\"MDA1 (IVM+ALB)\", COUNTRY_INFO!$T$9:$T$1000, \" \")","v":" "},null,null,null,null,0,null,null,null,0,null," "," "," "]
[{"$f":"IF(COUNTRY_INFO!A120=0,\" \",COUNTRY_INFO!A120)","v":"Uganda"},{"$f":"IF(COUNTRY_INFO!B120=0,\" \",COUNTRY_INFO!B120)","v":"Western"},{"$f":"IF(COUNTRY_INFO!C120=0,\" \",COUNTRY_INFO!C120)","v":"Ntungamo"},{"$f":"IF(COUNTRY_INFO!$T$9:$T$1000=\"MDA1 (IVM+ALB)\", COUNTRY_INFO!$T$9:$T$1000, \" \")","v":" "},null,null,null,null,0,null,null,null,0,null," "," "," "]
[{"$f":"IF(COUNTRY_INFO!A121=0,\" \",COUNTRY_INFO!A121)","v":"Uganda"},{"$f":"IF(COUNTRY_INFO!B121=0,\" \",COUNTRY_INFO!B121)","v":"Western"},{"$f":"IF(COUNTRY_INFO!C121=0,\" \",COUNTRY_INFO!C121)","v":"Rubanda"},{"$f":"IF(COUNTRY_INFO!$T$9:$T$1000=\"MDA1 (IVM+ALB)\", COUNTRY_INFO!$T$9:$T$1000, \" \")","v":" "},null,null,null,null,0,null,null,null,0,null," "," "," "]
[{"$f":"IF(COUNTRY_INFO!A122=0,\" \",COUNTRY_INFO!A122)","v":"Uganda"},{"$f":"IF(COUNTRY_INFO!B122=0,\" \",COUNTRY_INFO!B122)","v":"Western"},{"$f":"IF(COUNTRY_INFO!C122=0,\" \",COUNTRY_INFO!C122)","v":"Rubirizi"},{"$f":"IF(COUNTRY_INFO!$T$9:$T$1000=\"MDA1 (IVM+ALB)\", COUNTRY_INFO!$T$9:$T$1000, \" \")","v":" "},null,null,null,null,0,null,null,null,0,null," "," "," "]
[{"$f":"IF(COUNTRY_INFO!A123=0,\" \",COUNTRY_INFO!A123)","v":"Uganda"},{"$f":"IF(COUNTRY_INFO!B123=0,\" \",COUNTRY_INFO!B123)","v":"Western"},{"$f":"IF(COUNTRY_INFO!C123=0,\" \",COUNTRY_INFO!C123)","v":"Rukungiri"},{"$f":"IF(COUNTRY_INFO!$T$9:$T$1000=\"MDA1 (IVM+ALB)\", COUNTRY_INFO!$T$9:$T$1000, \" \")","v":" "},null,null,null,null,0,null,null,null,0,null," "," "," "]
[{"$f":"IF(COUNTRY_INFO!A124=0,\" \",COUNTRY_INFO!A124)","v":"Uganda"},{"$f":"IF(COUNTRY_INFO!B124=0,\" \",COUNTRY_INFO!B124)","v":"Western"},{"$f":"IF(COUNTRY_INFO!C124=0,\" \",COUNTRY_INFO!C124)","v":"Sheema"},{"$f":"IF(COUNTRY_INFO!$T$9:$T$1000=\"MDA1 (IVM+ALB)\", COUNTRY_INFO!$T$9:$T$1000, \" \")","v":" "},null,null,null,null,0,null,null,null,0,null," "," "," "]

{"sheet":"MDA2","index":3,"n_rows":124,"n_cols":17,"rows_kept":124,"cut":false,"hidden":true,"merged":[[5,5,5,8],[5,9,5,12],[5,13,5,16],[3,0,3,2],[5,0,5,2],[5,3,6,3],[5,4,6,4]]}
["MDA 2 - Diethylcarbamazine citrate (DEC) + Albendazole (ALB)"]
["Administrative structure, population requiring PC by age group, population treated by age group and coverage"]
[]
["TOTAL",null,null,null,null,{"$f":"SUM(F$9:F$1000)","v":0},{"$f":"SUM(G$9:G$1000)","v":0},0,0,0,0,0,0,{"$f":"IF(F4<>0, IF(J4/F4*100=0, \"-\", J4/F4*100), \" \")","v":" "},{"$f":"IF(G4<>0, IF(K4/G4*100=0, \"-\", K4/G4*100), \" \")","v":" "},{"$f":"IF(H4<>0, IF(L4/H4*100=0, \"-\", L4/H4*100), \" \")","v":" "},{"$f":"IF(I4<>0, IF(M4/I4*100=0, \"-\", M4/I4*100), \" \")","v":" "}]
[]
[null,null,null,"PC implemented","Date","Population targeted for MDA 2",null,null,null,"Population treated",null,null,null,"Programme coverage (%)"]
["Country","Province/State","District",null,null,"PreSAC","SAC","Adults","Total","PreSAC","SAC","Adults","Total","PreSAC","SAC","Adults","Total"]
[]
[{"$f":"IF(COUNTRY_INFO!A9=0,\" \",COUNTRY_INFO!A9)","v":"Uganda"},{"$f":"IF(COUNTRY_INFO!B9=0,\" \",COUNTRY_INFO!B9)","v":"Central "},{"$f":"IF(COUNTRY_INFO!C9=0,\" \",COUNTRY_INFO!C9)","v":"Buikwe"},{"$f":"IF(COUNTRY_INFO!$T$9:$T$1000=\"MDA2 (DEC+ALB)\", COUNTRY_INFO!$T$9:$T$1000, \" \")","v":" "},null,null,null,null,{"$f":"SUM(F9:H9)","v":0},null,null,null,{"$f":"SUM(J9:L9)","v":0},{"$f":"IF(F9<>0, IF(J9/F9*100=0, \"-\", J9/F9*100), \" \")","v":" "}," "," "," "]
[{"$f":"IF(COUNTRY_INFO!A10=0,\" \",COUNTRY_INFO!A10)","v":"Uganda"},{"$f":"IF(COUNTRY_INFO!B10=0,\" \",COUNTRY_INFO!B10)","v":"Central "},{"$f":"IF(COUNTRY_INFO!C10=0,\" \",COUNTRY_INFO!C10)","v":"Bukomansimbi"},{"$f":"IF(COUNTRY_INFO!$T$9:$T$1000=\"MDA2 (DEC+ALB)\", COUNTRY_INFO!$T$9:$T$1000, \" \")","v":" "},null,null,null,null,{"$f":"SUM(F10:H10)","v":0},null,null,null,{"$f":"SUM(J10:L10)","v":0},{"$f":"IF(F10<>0, IF(J10/F10*100=0, \"-\", J10/F10*100), \" \")","v":" "},{"$f":"IF(G10<>0, IF(K10/G10*100=0, \"-\", K10/G10*100), \" \")","v":" "},{"$f":"IF(H10<>0, IF(L10/H10*100=0, \"-\", L10/H10*100), \" \")","v":" "},{"$f":"IF(I10<>0, IF(M10/I10*100=0, \"-\", M10/I10*100), \" \")","v":" "}]
[{"$f":"IF(COUNTRY_INFO!A11=0,\" \",COUNTRY_INFO!A11)","v":"Uganda"},{"$f":"IF(COUNTRY_INFO!B11=0,\" \",COUNTRY_INFO!B11)","v":"Central "},{"$f":"IF(COUNTRY_INFO!C11=0,\" \",COUNTRY_INFO!C11)","v":"Butambala"},{"$f":"IF(COUNTRY_INFO!$T$9:$T$1000=\"MDA2 (DEC+ALB)\", COUNTRY_INFO!$T$9:$T$1000, \" \")","v":" "},null,null,null,null,0,null,null,null,0," "," "," "," "]
[{"$f":"IF(COUNTRY_INFO!A12=0,\" \",COUNTRY_INFO!A12)","v":"Uganda"},{"$f":"IF(COUNTRY_INFO!B12=0,\" \",COUNTRY_INFO!B12)","v":"Central "},{"$f":"IF(COUNTRY_INFO!C12=0,\" \",COUNTRY_INFO!C12)","v":"Buvuma"},{"$f":"IF(COUNTRY_INFO!$T$9:$T$1000=\"MDA2 (DEC+ALB)\", COUNTRY_INFO!$T$9:$T$1000, \" \")","v":" "},null,null,null,null,0,null,null,null,0," "," "," "," "]
[{"$f":"IF(COUNTRY_INFO!A13=0,\" \",COUNTRY_INFO!A13)","v":"Uganda"},{"$f":"IF(COUNTRY_INFO!B13=0,\" \",COUNTRY_INFO!B13)","v":"Central "},{"$f":"IF(COUNTRY_INFO!C13=0,\" \",COUNTRY_INFO!C13)","v":"Gomba"},{"$f":"IF(COUNTRY_INFO!$T$9:$T$1000=\"MDA2 (DEC+ALB)\", COUNTRY_INFO!$T$9:$T$1000, \" \")","v":" "},null,null,null,null,0,null,null,null,0," "," "," "," "]
[{"$f":"IF(COUNTRY_INFO!A14=0,\" \",COUNTRY_INFO!A14)","v":"Uganda"},{"$f":"IF(COUNTRY_INFO!B14=0,\" \",COUNTRY_INFO!B14)","v":"Central "},{"$f":"IF(COUNTRY_INFO!C14=0,\" \",COUNTRY_INFO!C14)","v":"Kalangala"},{"$f":"IF(COUNTRY_INFO!$T$9:$T$1000=\"MDA2 (DEC+ALB)\", COUNTRY_INFO!$T$9:$T$1000, \" \")","v":" "},null,null,null,null,0,null,null,null,0," "," "," "," "]
[{"$f":"IF(COUNTRY_INFO!A15=0,\" \",COUNTRY_INFO!A15)","v":"Uganda"},{"$f":"IF(COUNTRY_INFO!B15=0,\" \",COUNTRY_INFO!B15)","v":"Central "},{"$f":"IF(COUNTRY_INFO!C15=0,\" \",COUNTRY_INFO!C15)","v":"Kalungu"},{"$f":"IF(COUNTRY_INFO!$T$9:$T$1000=\"MDA2 (DEC+ALB)\", COUNTRY_INFO!$T$9:$T$1000, \" \")","v":" "},null,null,null,null,0,null,null,null,0," "," "," "," "]
[{"$f":"IF(COUNTRY_INFO!A16=0,\" \",COUNTRY_INFO!A16)","v":"Uganda"},{"$f":"IF(COUNTRY_INFO!B16=0,\" \",COUNTRY_INFO!B16)","v":"Central "},{"$f":"IF(COUNTRY_INFO!C16=0,\" \",COUNTRY_INFO!C16)","v":"Kampala"},{"$f":"IF(COUNTRY_INFO!$T$9:$T$1000=\"MDA2 (DEC+ALB)\", COUNTRY_INFO!$T$9:$T$1000, \" \")","v":" "},null,null,null,null,0,null,null,null,0," "," "," "," "]
[{"$f":"IF(COUNTRY_INFO!A17=0,\" \",COUNTRY_INFO!A17)","v":"Uganda"},{"$f":"IF(COUNTRY_INFO!B17=0,\" \",COUNTRY_INFO!B17)","v":"Central "},{"$f":"IF(COUNTRY_INFO!C17=0,\" \",COUNTRY_INFO!C17)","v":"Kayunga"},{"$f":"IF(COUNTRY_INFO!$T$9:$T$1000=\"MDA2 (DEC+ALB)\", COUNTRY_INFO!$T$9:$T$1000, \" \")","v":" "},null,null,null,null,0,null,null,null,0," "," "," "," "]
[{"$f":"IF(COUNTRY_INFO!A18=0,\" \",COUNTRY_INFO!A18)","v":"Uganda"},{"$f":"IF(COUNTRY_INFO!B18=0,\" \",COUNTRY_INFO!B18)","v":"Central "},{"$f":"IF(COUNTRY_INFO!C18=0,\" \",COUNTRY_INFO!C18)","v":"Kiboga"},{"$f":"IF(COUNTRY_INFO!$T$9:$T$1000=\"MDA2 (DEC+ALB)\", COUNTRY_INFO!$T$9:$T$1000, \" \")","v":" "},null,null,null,null,0,null,null,null,0," "," "," "," "]
[{"$f":"IF(COUNTRY_INFO!A19=0,\" \",COUNTRY_INFO!A19)","v":"Uganda"},{"$f":"IF(COUNTRY_INFO!B19=0,\" \",COUNTRY_INFO!B19)","v":"Central "},{"$f":"IF(COUNTRY_INFO!C19=0,\" \",COUNTRY_INFO!C19)","v":"Kyankwanzi"},{"$f":"IF(COUNTRY_INFO!$T$9:$T$1000=\"MDA2 (DEC+ALB)\", COUNTRY_INFO!$T$9:$T$1000, \" \")","v":" "},null,null,null,null,0,null,null,null,0," "," "," "," "]
[{"$f":"IF(COUNTRY_INFO!A20=0,\" \",COUNTRY_INFO!A20)","v":"Uganda"},{"$f":"IF(COUNTRY_INFO!B20=0,\" \",COUNTRY_INFO!B20)","v":"Central "},{"$f":"IF(COUNTRY_INFO!C20=0,\" \",COUNTRY_INFO!C20)","v":"Luwero"},{"$f":"IF(COUNTRY_INFO!$T$9:$T$1000=\"MDA2 (DEC+ALB)\", COUNTRY_INFO!$T$9:$T$1000, \" \")","v":" "},null,null,null,null,0,null,null,null,0," "," "," "," "]
[{"$f":"IF(COUNTRY_INFO!A21=0,\" \",COUNTRY_INFO!A21)","v":"Uganda"},{"$f":"IF(COUNTRY_INFO!B21=0,\" \",COUNTRY_INFO!B21)","v":"Central "},{"$f":"IF(COUNTRY_INFO!C21=0,\" \",COUNTRY_INFO!C21)","v":"Lwengo"},{"$f":"IF(COUNTRY_INFO!$T$9:$T$1000=\"MDA2 (DEC+ALB)\", COUNTRY_INFO!$T$9:$T$1000, \" \")","v":" "},null,null,null,null,0,null,null,null,0," "," "," "," "]
[{"$f":"IF(COUNTRY_INFO!A22=0,\" \",COUNTRY_INFO!A22)","v":"Uganda"},{"$f":"IF(COUNTRY_INFO!B22=0,\" \",COUNTRY_INFO!B22)","v":"Central "},{"$f":"IF(COUNTRY_INFO!C22=0,\" \",COUNTRY_INFO!C22)","v":"Lyantonde"},{"$f":"IF(COUNTRY_INFO!$T$9:$T$1000=\"MDA2 (DEC+ALB)\", COUNTRY_INFO!$T$9:$T$1000, \" \")","v":" "},null,null,null,null,0,null,null,null,0," "," "," "," "]
[{"$f":"IF(COUNTRY_INFO!A23=0,\" \",COUNTRY_INFO!A23)","v":"Uganda"},{"$f":"IF(COUNTRY_INFO!B23=0,\" \",COUNTRY_INFO!B23)","v":"Central "},{"$f":"IF(COUNTRY_INFO!C23=0,\" \",COUNTRY_INFO!C23)","v":"Masaka"},{"$f":"IF(COUNTRY_INFO!$T$9:$T$1000=\"MDA2 (DEC+ALB)\", COUNTRY_INFO!$T$9:$T$1000, \" \")","v":" "},null,null,null,null,0,null,null,null,0," "," "," "," "]
[{"$f":"IF(COUNTRY_INFO!A24=0,\" \",COUNTRY_INFO!A24)","v":"Uganda"},{"$f":"IF(COUNTRY_INFO!B24=0,\" \",COUNTRY_INFO!B24)","v":"Central "},{"$f":"IF(COUNTRY_INFO!C24=0,\" \",COUNTRY_INFO!C24)","v":"Mityana"},{"$f":"IF(COUNTRY_INFO!$T$9:$T$1000=\"MDA2 (DEC+ALB)\", COUNTRY_INFO!$T$9:$T$1000, \" \")","v":" "},null,null,null,null,0,null,null,null,0," "," "," "," "]
[{"$f":"IF(COUNTRY_INFO!A25=0,\" \",COUNTRY_INFO!A25)","v":"Uganda"},{"$f":"IF(COUNTRY_INFO!B25=0,\" \",COUNTRY_INFO!B25)","v":"Central "},{"$f":"IF(COUNTRY_INFO!C25=0,\" \",COUNTRY_INFO!C25)","v":"Mpigi"},{"$f":"IF(COUNTRY_INFO!$T$9:$T$1000=\"MDA2 (DEC+ALB)\", COUNTRY_INFO!$T$9:$T$1000, \" \")","v":" "},null,null,null,null,0,null,null,null,0," "," "," "," "]
[{"$f":"IF(COUNTRY_INFO!A26=0,\" \",COUNTRY_INFO!A26)","v":"Uganda"},{"$f":"IF(COUNTRY_INFO!B26=0,\" \",COUNTRY_INFO!B26)","v":"Central "},{"$f":"IF(COUNTRY_INFO!C26=0,\" \",COUNTRY_INFO!C26)","v":"Mubende"},{"$f":"IF(COUNTRY_INFO!$T$9:$T$1000=\"MDA2 (DEC+ALB)\", COUNTRY_INFO!$T$9:$T$1000, \" \")","v":" "},null,null,null,null,0,null,null,null,0," "," "," "," "]
[{"$f":"IF(COUNTRY_INFO!A27=0,\" \",COUNTRY_INFO!A27)","v":"Uganda"},{"$f":"IF(COUNTRY_INFO!B27=0,\" \",COUNTRY_INFO!B27)","v":"Central "},{"$f":"IF(COUNTRY_INFO!C27=0,\" \",COUNTRY_INFO!C27)","v":"Mukono"},{"$f":"IF(COUNTRY_INFO!$T$9:$T$1000=\"MDA2 (DEC+ALB)\", COUNTRY_INFO!$T$9:$T$1000, \" \")","v":" "},null,null,null,null,0,null,null,null,0," "," "," "," "]
[{"$f":"IF(COUNTRY_INFO!A28=0,\" \",COUNTRY_INFO!A28)","v":"Uganda"},{"$f":"IF(COUNTRY_INFO!B28=0,\" \",COUNTRY_INFO!B28)","v":"Central "},{"$f":"IF(COUNTRY_INFO!C28=0,\" \",COUNTRY_INFO!C28)","v":"Nakaseke"},{"$f":"IF(COUNTRY_INFO!$T$9:$T$1000=\"MDA2 (DEC+ALB)\", COUNTRY_INFO!$T$9:$T$1000, \" \")","v":" "},null,null,null,null,0,null,null,null,0," "," "," "," "]
[{"$f":"IF(COUNTRY_INFO!A29=0,\" \",COUNTRY_INFO!A29)","v":"Uganda"},{"$f":"IF(COUNTRY_INFO!B29=0,\" \",COUNTRY_INFO!B29)","v":"Central "},{"$f":"IF(COUNTRY_INFO!C29=0,\" \",COUNTRY_INFO!C29)","v":"Nakasongola"},{"$f":"IF(COUNTRY_INFO!$T$9:$T$1000=\"MDA2 (DEC+ALB)\", COUNTRY_INFO!$T$9:$T$1000, \" \")","v":" "},null,null,null,null,0,null,null,null,0," "," "," "," "]
[{"$f":"IF(COUNTRY_INFO!A30=0,\" \",COUNTRY_INFO!A30)","v":"Uganda"},{"$f":"IF(COUNTRY_INFO!B30=0,\" \",COUNTRY_INFO!B30)","v":"Central "},{"$f":"IF(COUNTRY_INFO!C30=0,\" \",COUNTRY_INFO!C30)","v":"Rakai"},{"$f":"IF(COUNTRY_INFO!$T$9:$T$1000=\"MDA2 (DEC+ALB)\", COUNTRY_INFO!$T$9:$T$1000, \" \")","v":" "},null,null,null,null,0,null,null,null,0," "," "," "," "]
[{"$f":"IF(COUNTRY_INFO!A31=0,\" \",COUNTRY_INFO!A31)","v":"Uganda"},{"$f":"IF(COUNTRY_INFO!B31=0,\" \",COUNTRY_INFO!B31)","v":"Central "},{"$f":"IF(COUNTRY_INFO!C31=0,\" \",COUNTRY_INFO!C31)","v":"Sembabule"},{"$f":"IF(COUNTRY_INFO!$T$9:$T$1000=\"MDA2 (DEC+ALB)\", COUNTRY_INFO!$T$9:$T$1000, \" \")","v":" "},null,null,null,null,0,null,null,null,0," "," "," "," "]
[{"$f":"IF(COUNTRY_INFO!A32=0,\" \",COUNTRY_INFO!A32)","v":"Uganda"},{"$f":"IF(COUNTRY_INFO!B32=0,\" \",COUNTRY_INFO!B32)","v":"Central "},{"$f":"IF(COUNTRY_INFO!C32=0,\" \",COUNTRY_INFO!C32)","v":"Wakiso"},{"$f":"IF(COUNTRY_INFO!$T$9:$T$1000=\"MDA2 (DEC+ALB)\", COUNTRY_INFO!$T$9:$T$1000, \" \")","v":" "},null,null,null,null,0,null,null,null,0," "," "," "," "]
[{"$f":"IF(COUNTRY_INFO!A33=0,\" \",COUNTRY_INFO!A33)","v":"Uganda"},{"$f":"IF(COUNTRY_INFO!B33=0,\" \",COUNTRY_INFO!B33)","v":"Eastern "},{"$f":"IF(COUNTRY_INFO!C33=0,\" \",COUNTRY_INFO!C33)","v":"Amuria"},{"$f":"IF(COUNTRY_INFO!$T$9:$T$1000=\"MDA2 (DEC+ALB)\", COUNTRY_INFO!$T$9:$T$1000, \" \")","v":" "},null,null,null,null,0,null,null,null,0," "," "," "," "]
[{"$f":"IF(COUNTRY_INFO!A34=0,\" \",COUNTRY_INFO!A34)","v":"Uganda"},{"$f":"IF(COUNTRY_INFO!B34=0,\" \",COUNTRY_INFO!B34)","v":"Eastern "},{"$f":"IF(COUNTRY_INFO!C34=0,\" \",COUNTRY_INFO!C34)","v":"Budaka"},{"$f":"IF(COUNTRY_INFO!$T$9:$T$1000=\"MDA2 (DEC+ALB)\", COUNTRY_INFO!$T$9:$T$1000, \" \")","v":" "},null,null,null,null,0,null,null,null,0," "," "," "," "]
[{"$f":"IF(COUNTRY_INFO!A35=0,\" \",COUNTRY_INFO!A35)","v":"Uganda"},{"$f":"IF(COUNTRY_INFO!B35=0,\" \",COUNTRY_INFO!B35)","v":"Eastern "},{"$f":"IF(COUNTRY_INFO!C35=0,\" \",COUNTRY_INFO!C35)","v":"Bududa"},{"$f":"IF(COUNTRY_INFO!$T$9:$T$1000=\"MDA2 (DEC+ALB)\", COUNTRY_INFO!$T$9:$T$1000, \" \")","v":" "},null,null,null,null,0,null,null,null,0," "," "," "," "]
[{"$f":"IF(COUNTRY_INFO!A36=0,\" \",COUNTRY_INFO!A36)","v":"Uganda"},{"$f":"IF(COUNTRY_INFO!B36=0,\" \",COUNTRY_INFO!B36)","v":"Eastern "},{"$f":"IF(COUNTRY_INFO!C36=0,\" \",COUNTRY_INFO!C36)","v":"Bugiri"},{"$f":"IF(COUNTRY_INFO!$T$9:$T$1000=\"MDA2 (DEC+ALB)\", COUNTRY_INFO!$T$9:$T$1000, \" \")","v":" "},null,null,null,null,0,null,null,null,0," "," "," "," "]
[{"$f":"IF(COUNTRY_INFO!A37=0,\" \",COUNTRY_INFO!A37)","v":"Uganda"},{"$f":"IF(COUNTRY_INFO!B37=0,\" \",COUNTRY_INFO!B37)","v":"Eastern "},{"$f":"IF(COUNTRY_INFO!C37=0,\" \",COUNTRY_INFO!C37)","v":"Bukedea"},{"$f":"IF(COUNTRY_INFO!$T$9:$T$1000=\"MDA2 (DEC+ALB)\", COUNTRY_INFO!$T$9:$T$1000, \" \")","v":" "},null,null,null,null,0,null,null,null,0," "," "," "," "]
[{"$f":"IF(COUNTRY_INFO!A38=0,\" \",COUNTRY_INFO!A38)","v":"Uganda"},{"$f":"IF(COUNTRY_INFO!B38=0,\" \",COUNTRY_INFO!B38)","v":"Eastern "},{"$f":"IF(COUNTRY_INFO!C38=0,\" \",COUNTRY_INFO!C38)","v":"Bukwo"},{"$f":"IF(COUNTRY_INFO!$T$9:$T$1000=\"MDA2 (DEC+ALB)\", COUNTRY_INFO!$T$9:$T$1000, \" \")","v":" "},null,null,null,null,0,null,null,null,0," "," "," "," "]
[{"$f":"IF(COUNTRY_INFO!A39=0,\" \",COUNTRY_INFO!A39)","v":"Uganda"},{"$f":"IF(COUNTRY_INFO!B39=0,\" \",COUNTRY_INFO!B39)","v":"Eastern "},{"$f":"IF(COUNTRY_INFO!C39=0,\" \",COUNTRY_INFO!C39)","v":"Bulambuli"},{"$f":"IF(COUNTRY_INFO!$T$9:$T$1000=\"MDA2 (DEC+ALB)\", COUNTRY_INFO!$T$9:$T$1000, \" \")","v":" "},null,null,null,null,0,null,null,null,0," "," "," "," "]
[{"$f":"IF(COUNTRY_INFO!A40=0,\" \",COUNTRY_INFO!A40)","v":"Uganda"},{"$f":"IF(COUNTRY_INFO!B40=0,\" \",COUNTRY_INFO!B40)","v":"Eastern "},{"$f":"IF(COUNTRY_INFO!C40=0,\" \",COUNTRY_INFO!C40)","v":"Busia"},{"$f":"IF(COUNTRY_INFO!$T$9:$T$1000=\"MDA2 (DEC+ALB)\", COUNTRY_INFO!$T$9:$T$1000, \" \")","v":" "},null,null,null,null,0,null,null,null,0," "," "," "," "]
[{"$f":"IF(COUNTRY_INFO!A41=0,\" \",COUNTRY_INFO!A41)","v":"Uganda"},{"$f":"IF(COUNTRY_INFO!B41=0,\" \",COUNTRY_INFO!B41)","v":"Eastern "},{"$f":"IF(COUNTRY_INFO!C41=0,\" \",COUNTRY_INFO!C41)","v":"Butaleja"},{"$f":"IF(COUNTRY_INFO!$T$9:$T$1000=\"MDA2 (DEC+ALB)\", COUNTRY_INFO!$T$9:$T$1000, \" \")","v":" "},null,null,null,null,0,null,null,null,0," "," "," "," "]
[{"$f":"IF(COUNTRY_INFO!A42=0,\" \",COUNTRY_INFO!A42)","v":"Uganda"},{"$f":"IF(COUNTRY_INFO!B42=0,\" \",COUNTRY_INFO!B42)","v":"Eastern "},{"$f":"IF(COUNTRY_INFO!C42=0,\" \",COUNTRY_INFO!C42)","v":"Buyende"},{"$f":"IF(COUNTRY_INFO!$T$9:$T$1000=\"MDA2 (DEC+ALB)\", COUNTRY_INFO!$T$9:$T$1000, \" \")","v":" "},null,null,null,null,0,null,null,null,0," "," "," "," "]
[{"$f":"IF(COUNTRY_INFO!A43=0,\" \",COUNTRY_INFO!A43)","v":"Uganda"},{"$f":"IF(COUNTRY_INFO!B43=0,\" \",COUNTRY_INFO!B43)","v":"Eastern "},{"$f":"IF(COUNTRY_INFO!C43=0,\" \",COUNTRY_INFO!C43)","v":"Iganga"},{"$f":"IF(COUNTRY_INFO!$T$9:$T$1000=\"MDA2 (DEC+ALB)\", COUNTRY_INFO!$T$9:$T$1000, \" \")","v":" "},null,null,null,null,0,null,null,null,0," "," "," "," "]
[{"$f":"IF(COUNTRY_INFO!A44=0,\" \",COUNTRY_INFO!A44)","v":"Uganda"},{"$f":"IF(COUNTRY_INFO!B44=0,\" \",COUNTRY_INFO!B44)","v":"Eastern "},{"$f":"IF(COUNTRY_INFO!C44=0,\" \",COUNTRY_INFO!C44)","v":"Jinja"},{"$f":"IF(COUNTRY_INFO!$T$9:$T$1000=\"MDA2 (DEC+ALB)\", COUNTRY_INFO!$T$9:$T$1000, \" \")","v":" "},null,null,null,null,0,null,null,null,0," "," "," "," "]
[{"$f":"IF(COUNTRY_INFO!A45=0,\" \",COUNTRY_INFO!A45)","v":"Uganda"},{"$f":"IF(COUNTRY_INFO!B45=0,\" \",COUNTRY_INFO!B45)","v":"Eastern "},{"$f":"IF(COUNTRY_INFO!C45=0,\" \",COUNTRY_INFO!C45)","v":"Kaberamaido"},{"$f":"IF(COUNTRY_INFO!$T$9:$T$1000=\"MDA2 (DEC+ALB)\", COUNTRY_INFO!$T$9:$T$1000, \" \")","v":" "},null,null,null,null,0,null,null,null,0," "," "," "," "]
[{"$f":"IF(COUNTRY_INFO!A46=0,\" \",COUNTRY_INFO!A46)","v":"Uganda"},{"$f":"IF(COUNTRY_INFO!B46=0,\" \",COUNTRY_INFO!B46)","v":"Eastern "},{"$f":"IF(COUNTRY_INFO!C46=0,\" \",COUNTRY_INFO!C46)","v":"Kaliro"},{"$f":"IF(COUNTRY_INFO!$T$9:$T$1000=\"MDA2 (DEC+ALB)\", COUNTRY_INFO!$T$9:$T$1000, \" \")","v":" "},null,null,null,null,0,null,null,null,0," "," "," "," "]
[{"$f":"IF(COUNTRY_INFO!A47=0,\" \",COUNTRY_INFO!A47)","v":"Uganda"},{"$f":"IF(COUNTRY_INFO!B47=0,\" \",COUNTRY_INFO!B47)","v":"Eastern "},{"$f":"IF(COUNTRY_INFO!C47=0,\" \",COUNTRY_INFO!C47)","v":"Kamuli"},{"$f":"IF(COUNTRY_INFO!$T$9:$T$1000=\"MDA2 (DEC+ALB)\", COUNTRY_INFO!$T$9:$T$1000, \" \")","v":" "},null,null,null,null,0,null,null,null,0," "," "," "," "]
[{"$f":"IF(COUNTRY_INFO!A48=0,\" \",COUNTRY_INFO!A48)","v":"Uganda"},{"$f":"IF(COUNTRY_INFO!B48=0,\" \",COUNTRY_INFO!B48)","v":"Eastern "},{"$f":"IF(COUNTRY_INFO!C48=0,\" \",COUNTRY_INFO!C48)","v":"Kapchorwa"},{"$f":"IF(COUNTRY_INFO!$T$9:$T$1000=\"MDA2 (DEC+ALB)\", COUNTRY_INFO!$T$9:$T$1000, \" \")","v":" "},null,null,null,null,0,null,null,null,0," "," "," "," "]
[{"$f":"IF(COUNTRY_INFO!A49=0,\" \",COUNTRY_INFO!A49)","v":"Uganda"},{"$f":"IF(COUNTRY_INFO!B49=0,\" \",COUNTRY_INFO!B49)","v":"Eastern "},{"$f":"IF(COUNTRY_INFO!C49=0,\" \",COUNTRY_INFO!C49)","v":"Katakwi"},{"$f":"IF(COUNTRY_INFO!$T$9:$T$1000=\"MDA2 (DEC+ALB)\", COUNTRY_INFO!$T$9:$T$1000, \" \")","v":" "},null,null,null,null,0,null,null,null,0," "," "," "," "]
[{"$f":"IF(COUNTRY_INFO!A50=0,\" \",COUNTRY_INFO!A50)","v":"Uganda"},{"$f":"IF(COUNTRY_INFO!B50=0,\" \",COUNTRY_INFO!B50)","v":"Eastern "},{"$f":"IF(COUNTRY_INFO!C50=0,\" \",COUNTRY_INFO!C50)","v":"Kibuku"},{"$f":"IF(COUNTRY_INFO!$T$9:$T$1000=\"MDA2 (DEC+ALB)\", COUNTRY_INFO!$T$9:$T$1000, \" \")","v":" "},null,null,null,null,0,null,null,null,0," "," "," "," "]
[{"$f":"IF(COUNTRY_INFO!A51=0,\" \",COUNTRY_INFO!A51)","v":"Uganda"},{"$f":"IF(COUNTRY_INFO!B51=0,\" \",COUNTRY_INFO!B51)","v":"Eastern "},{"$f":"IF(COUNTRY_INFO!C51=0,\" \",COUNTRY_INFO!C51)","v":"Kumi"},{"$f":"IF(COUNTRY_INFO!$T$9:$T$1000=\"MDA2 (DEC+ALB)\", COUNTRY_INFO!$T$9:$T$1000, \" \")","v":" "},null,null,null,null,0,null,null,null,0," "," "," "," "]
[{"$f":"IF(COUNTRY_INFO!A52=0,\" \",COUNTRY_INFO!A52)","v":"Uganda"},{"$f":"IF(COUNTRY_INFO!B52=0,\" \",COUNTRY_INFO!B52)","v":"Eastern "},{"$f":"IF(COUNTRY_INFO!C52=0,\" \",COUNTRY_INFO!C52)","v":"Kween"},{"$f":"IF(COUNTRY_INFO!$T$9:$T$1000=\"MDA2 (DEC+ALB)\", COUNTRY_INFO!$T$9:$T$1000, \" \")","v":" "},null,null,null,null,0,null,null,null,0," "," "," "," "]
[{"$f":"IF(COUNTRY_INFO!A53=0,\" \",COUNTRY_INFO!A53)","v":"Uganda"},{"$f":"IF(COUNTRY_INFO!B53=0,\" \",COUNTRY_INFO!B53)","v":"Eastern "},{"$f":"IF(COUNTRY_INFO!C53=0,\" \",COUNTRY_INFO!C53)","v":"Luuka"},{"$f":"IF(COUNTRY_INFO!$T$9:$T$1000=\"MDA2 (DEC+ALB)\", COUNTRY_INFO!$T$9:$T$1000, \" \")","v":" "},null,null,null,null,0,null,null,null,0," "," "," "," "]
[{"$f":"IF(COUNTRY_INFO!A54=0,\" \",COUNTRY_INFO!A54)","v":"Uganda"},{"$f":"IF(COUNTRY_INFO!B54=0,\" \",COUNTRY_INFO!B54)","v":"Eastern "},{"$f":"IF(COUNTRY_INFO!C54=0,\" \",COUNTRY_INFO!C54)","v":"Manafwa"},{"$f":"IF(COUNTRY_INFO!$T$9:$T$1000=\"MDA2 (DEC+ALB)\", COUNTRY_INFO!$T$9:$T$1000, \" \")","v":" "},null,null,null,null,0,null,null,null,0," "," "," "," "]
[{"$f":"IF(COUNTRY_INFO!A55=0,\" \",COUNTRY_INFO!A55)","v":"Uganda"},{"$f":"IF(COUNTRY_INFO!B55=0,\" \",COUNTRY_INFO!B55)","v":"Eastern "},{"$f":"IF(COUNTRY_INFO!C55=0,\" \",COUNTRY_INFO!C55)","v":"Mayuge"},{"$f":"IF(COUNTRY_INFO!$T$9:$T$1000=\"MDA2 (DEC+ALB)\", COUNTRY_INFO!$T$9:$T$1000, \" \")","v":" "},null,null,null,null,0,null,null,null,0," "," "," "," "]
[{"$f":"IF(COUNTRY_INFO!A56=0,\" \",COUNTRY_INFO!A56)","v":"Uganda"},{"$f":"IF(COUNTRY_INFO!B56=0,\" \",COUNTRY_INFO!B56)","v":"Eastern "},{"$f":"IF(COUNTRY_INFO!C56=0,\" \",COUNTRY_INFO!C56)","v":"Mbale"},{"$f":"IF(COUNTRY_INFO!$T$9:$T$1000=\"MDA2 (DEC+ALB)\", COUNTRY_INFO!$T$9:$T$1000, \" \")","v":" "},null,null,null,null,0,null,null,null,0," "," "," "," "]
[{"$f":"IF(COUNTRY_INFO!A57=0,\" \",COUNTRY_INFO!A57)","v":"Uganda"},{"$f":"IF(COUNTRY_INFO!B57=0,\" \",COUNTRY_INFO!B57)","v":"Eastern "},{"$f":"IF(COUNTRY_INFO!C57=0,\" \",COUNTRY_INFO!C57)","v":"Namayingo"},{"$f":"IF(COUNTRY_INFO!$T$9:$T$1000=\"MDA2 (DEC+ALB)\", COUNTRY_INFO!$T$9:$T$1000, \" \")","v":" "},null,null,null,null,0,null,null,null,0," "," "," "," "]
[{"$f":"IF(COUNTRY_INFO!A58=0,\" \",COUNTRY_INFO!A58)","v":"Uganda"},{"$f":"IF(COUNTRY_INFO!B58=0,\" \",COUNTRY_INFO!B58)","v":"Eastern "},{"$f":"IF(COUNTRY_INFO!C58=0,\" \",COUNTRY_INFO!C58)","v":"Namutumba"},{"$f":"IF(COUNTRY_INFO!$T$9:$T$1000=\"MDA2 (DEC+ALB)\", COUNTRY_INFO!$T$9:$T$1000, \" \")","v":" "},null,null,null,null,0,null,null,null,0," "," "," "," "]
[{"$f":"IF(COUNTRY_INFO!A59=0,\" \",COUNTRY_INFO!A59)","v":"Uganda"},{"$f":"IF(COUNTRY_INFO!B59=0,\" \",COUNTRY_INFO!B59)","v":"Eastern "},{"$f":"IF(COUNTRY_INFO!C59=0,\" \",COUNTRY_INFO!C59)","v":"Ngora"},{"$f":"IF(COUNTRY_INFO!$T$9:$T$1000=\"MDA2 (DEC+ALB)\", COUNTRY_INFO!$T$9:$T$1000, \" \")","v":" "},null,null,null,null,0,null,null,null,0," "," "," "," "]
[{"$f":"IF(COUNTRY_INFO!A60=0,\" \",COUNTRY_INFO!A60)","v":"Uganda"},{"$f":"IF(COUNTRY_INFO!B60=0,\" \",COUNTRY_INFO!B60)","v":"Eastern "},{"$f":"IF(COUNTRY_INFO!C60=0,\" \",COUNTRY_INFO!C60)","v":"Pallisa"},{"$f":"IF(COUNTRY_INFO!$T$9:$T$1000=\"MDA2 (DEC+ALB)\", COUNTRY_INFO!$T$9:$T$1000, \" \")","v":" "},null,null,null,null,0,null,null,null,0," "," "," "," "]
[{"$f":"IF(COUNTRY_INFO!A61=0,\" \",COUNTRY_INFO!A61)","v":"Uganda"},{"$f":"IF(COUNTRY_INFO!B61=0,\" \",COUNTRY_INFO!B61)","v":"Eastern "},{"$f":"IF(COUNTRY_INFO!C61=0,\" \",COUNTRY_INFO!C61)","v":"Serere"},{"$f":"IF(COUNTRY_INFO!$T$9:$T$1000=\"MDA2 (DEC+ALB)\", COUNTRY_INFO!$T$9:$T$1000, \" \")","v":" "},null,null,null,null,0,null,null,null,0," "," "," "," "]
[{"$f":"IF(COUNTRY_INFO!A62=0,\" \",COUNTRY_INFO!A62)","v":"Uganda"},{"$f":"IF(COUNTRY_INFO!B62=0,\" \",COUNTRY_INFO!B62)","v":"Eastern "},{"$f":"IF(COUNTRY_INFO!C62=0,\" \",COUNTRY_INFO!C62)","v":"Sironko"},{"$f":"IF(COUNTRY_INFO!$T$9:$T$1000=\"MDA2 (DEC+ALB)\", COUNTRY_INFO!$T$9:$T$1000, \" \")","v":" "},null,null,null,null,0,null,null,null,0," "," "," "," "]
[{"$f":"IF(COUNTRY_INFO!A63=0,\" \",COUNTRY_INFO!A63)","v":"Uganda"},{"$f":"IF(COUNTRY_INFO!B63=0,\" \",COUNTRY_INFO!B63)","v":"Eastern "},{"$f":"IF(COUNTRY_INFO!C63=0,\" \",COUNTRY_INFO!C63)","v":"Soroti"},{"$f":"IF(COUNTRY_INFO!$T$9:$T$1000=\"MDA2 (DEC+ALB)\", COUNTRY_INFO!$T$9:$T$1000, \" \")","v":" "},null,null,null,null,0,null,null,null,0," "," "," "," "]
[{"$f":"IF(COUNTRY_INFO!A64=0,\" \",COUNTRY_INFO!A64)","v":"Uganda"},{"$f":"IF(COUNTRY_INFO!B64=0,\" \",COUNTRY_INFO!B64)","v":"Eastern "},{"$f":"IF(COUNTRY_INFO!C64=0,\" \",COUNTRY_INFO!C64)","v":"Tororo"},{"$f":"IF(COUNTRY_INFO!$T$9:$T$1000=\"MDA2 (DEC+ALB)\", COUNTRY_INFO!$T$9:$T$1000, \" \")","v":" "},null,null,null,null,0,null,null,null,0," "," "," "," "]
[{"$f":"IF(COUNTRY_INFO!A65=0,\" \",COUNTRY_INFO!A65)","v":"Uganda"},{"$f":"IF(COUNTRY_INFO!B65=0,\" \",COUNTRY_INFO!B65)","v":"Northern"},{"$f":"IF(COUNTRY_INFO!C65=0,\" \",COUNTRY_INFO!C65)","v":"Abim"},{"$f":"IF(COUNTRY_INFO!$T$9:$T$1000=\"MDA2 (DEC+ALB)\", COUNTRY_INFO!$T$9:$T$1000, \" \")","v":" "},null,null,null,null,0,null,null,null,0," "," "," "," "]
[{"$f":"IF(COUNTRY_INFO!A66=0,\" \",COUNTRY_INFO!A66)","v":"Uganda"},{"$f":"IF(COUNTRY_INFO!B66=0,\" \",COUNTRY_INFO!B66)","v":"Northern"},{"$f":"IF(COUNTRY_INFO!C66=0,\" \",COUNTRY_INFO!C66)","v":"Adjumani"},{"$f":"IF(COUNTRY_INFO!$T$9:$T$1000=\"MDA2 (DEC+ALB)\", COUNTRY_INFO!$T$9:$T$1000, \" \")","v":" "},null,null,null,null,0,null,null,null,0," "," "," "," "]
[{"$f":"IF(COUNTRY_INFO!A67=0,\" \",COUNTRY_INFO!A67)","v":"Uganda"},{"$f":"IF(COUNTRY_INFO!B67=0,\" \",COUNTRY_INFO!B67)","v":"Northern"},{"$f":"IF(COUNTRY_INFO!C67=0,\" \",COUNTRY_INFO!C67)","v":"Agago"},{"$f":"IF(COUNTRY_INFO!$T$9:$T$1000=\"MDA2 (DEC+ALB)\", COUNTRY_INFO!$T$9:$T$1000, \" \")","v":" "},null,null,null,null,0,null,null,null,0," "," "," "," "]
[{"$f":"IF(COUNTRY_INFO!A68=0,\" \",COUNTRY_INFO!A68)","v":"Uganda"},{"$f":"IF(COUNTRY_INFO!B68=0,\" \",COUNTRY_INFO!B68)","v":"Northern"},{"$f":"IF(COUNTRY_INFO!C68=0,\" \",COUNTRY_INFO!C68)","v":"Alebtong"},{"$f":"IF(COUNTRY_INFO!$T$9:$T$1000=\"MDA2 (DEC+ALB)\", COUNTRY_INFO!$T$9:$T$1000, \" \")","v":" "},null,null,null,null,0,null,null,null,0," "," "," "," "]
[{"$f":"IF(COUNTRY_INFO!A69=0,\" \",COUNTRY_INFO!A69)","v":"Uganda"},{"$f":"IF(COUNTRY_INFO!B69=0,\" \",COUNTRY_INFO!B69)","v":"Northern"},{"$f":"IF(COUNTRY_INFO!C69=0,\" \",COUNTRY_INFO!C69)","v":"Amolatar"},{"$f":"IF(COUNTRY_INFO!$T$9:$T$1000=\"MDA2 (DEC+ALB)\", COUNTRY_INFO!$T$9:$T$1000, \" \")","v":" "},null,null,null,null,0,null,null,null,0," "," "," "," "]
[{"$f":"IF(COUNTRY_INFO!A70=0,\" \",COUNTRY_INFO!A70)","v":"Uganda"},{"$f":"IF(COUNTRY_INFO!B70=0,\" \",COUNTRY_INFO!B70)","v":"Northern"},{"$f":"IF(COUNTRY_INFO!C70=0,\" \",COUNTRY_INFO!C70)","v":"Amudat"},{"$f":"IF(COUNTRY_INFO!$T$9:$T$1000=\"MDA2 (DEC+ALB)\", COUNTRY_INFO!$T$9:$T$1000, \" \")","v":" "},null,null,null,null,0,null,null,null,0," "," "," "," "]
[{"$f":"IF(COUNTRY_INFO!A71=0,\" \",COUNTRY_INFO!A71)","v":"Uganda"},{"$f":"IF(COUNTRY_INFO!B71=0,\" \",COUNTRY_INFO!B71)","v":"Northern"},{"$f":"IF(COUNTRY_INFO!C71=0,\" \",COUNTRY_INFO!C71)","v":"Amuru"},{"$f":"IF(COUNTRY_INFO!$T$9:$T$1000=\"MDA2 (DEC+ALB)\", COUNTRY_INFO!$T$9:$T$1000, \" \")","v":" "},null,null,null,null,0,null,null,null,0," "," "," "," "]
[{"$f":"IF(COUNTRY_INFO!A72=0,\" \",COUNTRY_INFO!A72)","v":"Uganda"},{"$f":"IF(COUNTRY_INFO!B72=0,\" \",COUNTRY_INFO!B72)","v":"Northern"},{"$f":"IF(COUNTRY_INFO!C72=0,\" \",COUNTRY_INFO!C72)","v":"Apac"},{"$f":"IF(COUNTRY_INFO!$T$9:$T$1000=\"MDA2 (DEC+ALB)\", COUNTRY_INFO!$T$9:$T$1000, \" \")","v":" "},null,null,null,null,0,null,null,null,0," "," "," "," "]
[{"$f":"IF(COUNTRY_INFO!A73=0,\" \",COUNTRY_INFO!A73)","v":"Uganda"},{"$f":"IF(COUNTRY_INFO!B73=0,\" \",COUNTRY_INFO!B73)","v":"Northern"},{"$f":"IF(COUNTRY_INFO!C73=0,\" \",COUNTRY_INFO!C73)","v":"Arua"},{"$f":"IF(COUNTRY_INFO!$T$9:$T$1000=\"MDA2 (DEC+ALB)\", COUNTRY_INFO!$T$9:$T$1000, \" \")","v":" "},null,null,null,null,0,null,null,null,0," "," "," "," "]
[{"$f":"IF(COUNTRY_INFO!A74=0,\" \",COUNTRY_INFO!A74)","v":"Uganda"},{"$f":"IF(COUNTRY_INFO!B74=0,\" \",COUNTRY_INFO!B74)","v":"Northern"},{"$f":"IF(COUNTRY_INFO!C74=0,\" \",COUNTRY_INFO!C74)","v":"Dokolo"},{"$f":"IF(COUNTRY_INFO!$T$9:$T$1000=\"MDA2 (DEC+ALB)\", COUNTRY_INFO!$T$9:$T$1000, \" \")","v":" "},null,null,null,null,{"$f":"SUM(F74:H74)","v":0},null,null,null,{"$f":"SUM(J74:L74)","v":0},{"$f":"IF(F74<>0, IF(J74/F74*100=0, \"-\", J74/F74*100), \" \")","v":" "},{"$f":"IF(G74<>0, IF(K74/G74*100=0, \"-\", K74/G74*100), \" \")","v":" "},{"$f":"IF(H74<>0, IF(L74/H74*100=0, \"-\", L74/H74*100), \" \")","v":" "},{"$f":"IF(I74<>0, IF(M74/I74*100=0, \"-\", M74/I74*100), \" \")","v":" "}]
[{"$f":"IF(COUNTRY_INFO!A75=0,\" \",COUNTRY_INFO!A75)","v":"Uganda"},{"$f":"IF(COUNTRY_INFO!B75=0,\" \",COUNTRY_INFO!B75)","v":"Northern"},{"$f":"IF(COUNTRY_INFO!C75=0,\" \",COUNTRY_INFO!C75)","v":"Gulu"},{"$f":"IF(COUNTRY_INFO!$T$9:$T$1000=\"MDA2 (DEC+ALB)\", COUNTRY_INFO!$T$9:$T$1000, \" \")","v":" "},null,null,null,null,0,null,null,null,0," "," "," "," "]
[{"$f":"IF(COUNTRY_INFO!A76=0,\" \",COUNTRY_INFO!A76)","v":"Uganda"},{"$f":"IF(COUNTRY_INFO!B76=0,\" \",COUNTRY_INFO!B76)","v":"Northern"},{"$f":"IF(COUNTRY_INFO!C76=0,\" \",COUNTRY_INFO!C76)","v":"Kaabong"},{"$f":"IF(COUNTRY_INFO!$T$9:$T$1000=\"MDA2 (DEC+ALB)\", COUNTRY_INFO!$T$9:$T$1000, \" \")","v":" "},null,null,null,null,0,null,null,null,0," "," "," "," "]
[{"$f":"IF(COUNTRY_INFO!A77=0,\" \",COUNTRY_INFO!A77)","v":"Uganda"},{"$f":"IF(COUNTRY_INFO!B77=0,\" \",COUNTRY_INFO!B77)","v":"Northern"},{"$f":"IF(COUNTRY_INFO!C77=0,\" \",COUNTRY_INFO!C77)","v":"Kitgum"},{"$f":"IF(COUNTRY_INFO!$T$9:$T$1000=\"MDA2 (DEC+ALB)\", COUNTRY_INFO!$T$9:$T$1000, \" \")","v":" "},null,null,null,null,0,null,null,null,0," "," "," "," "]
[{"$f":"IF(COUNTRY_INFO!A78=0,\" \",COUNTRY_INFO!A78)","v":"Uganda"},{"$f":"IF(COUNTRY_INFO!B78=0,\" \",COUNTRY_INFO!B78)","v":"Northern"},{"$f":"IF(COUNTRY_INFO!C78=0,\" \",COUNTRY_INFO!C78)","v":"Koboko"},{"$f":"IF(COUNTRY_INFO!$T$9:$T$1000=\"MDA2 (DEC+ALB)\", COUNTRY_INFO!$T$9:$T$1000, \" \")","v":" "},null,null,null,null,0,null,null,null,0," "," "," "," "]
[{"$f":"IF(COUNTRY_INFO!A79=0,\" \",COUNTRY_INFO!A79)","v":"Uganda"},{"$f":"IF(COUNTRY_INFO!B79=0,\" \",COUNTRY_INFO!B79)","v":"Northern"},{"$f":"IF(COUNTRY_INFO!C79=0,\" \",COUNTRY_INFO!C79)","v":"Kole"},{"$f":"IF(COUNTRY_INFO!$T$9:$T$1000=\"MDA2 (DEC+ALB)\", COUNTRY_INFO!$T$9:$T$1000, \" \")","v":" "},null,null,null,null,0,null,null,null,0," "," "," "," "]
[{"$f":"IF(COUNTRY_INFO!A80=0,\" \",COUNTRY_INFO!A80)","v":"Uganda"},{"$f":"IF(COUNTRY_INFO!B80=0,\" \",COUNTRY_INFO!B80)","v":"Northern"},{"$f":"IF(COUNTRY_INFO!C80=0,\" \",COUNTRY_INFO!C80)","v":"Kotido"},{"$f":"IF(COUNTRY_INFO!$T$9:$T$1000=\"MDA2 (DEC+ALB)\", COUNTRY_INFO!$T$9:$T$1000, \" \")","v":" "},null,null,null,null,0,null,null,null,0," "," "," "," "]
[{"$f":"IF(COUNTRY_INFO!A81=0,\" \",COUNTRY_INFO!A81)","v":"Uganda"},{"$f":"IF(COUNTRY_INFO!B81=0,\" \",COUNTRY_INFO!B81)","v":"Northern"},{"$f":"IF(COUNTRY_INFO!C81=0,\" \",COUNTRY_INFO!C81)","v":"Lamwo"},{"$f":"IF(COUNTRY_INFO!$T$9:$T$1000=\"MDA2 (DEC+ALB)\", COUNTRY_INFO!$T$9:$T$1000, \" \")","v":" "},null,null,null,null,0,null,null,null,0," "," "," "," "]
[{"$f":"IF(COUNTRY_INFO!A82=0,\" \",COUNTRY_INFO!A82)","v":"Uganda"},{"$f":"IF(COUNTRY_INFO!B82=0,\" \",COUNTRY_INFO!B82)","v":"Northern"},{"$f":"IF(COUNTRY_INFO!C82=0,\" \",COUNTRY_INFO!C82)","v":"Lira"},{"$f":"IF(COUNTRY_INFO!$T$9:$T$1000=\"MDA2 (DEC+ALB)\", COUNTRY_INFO!$T$9:$T$1000, \" \")","v":" "},null,null,null,null,0,null,null,null,0," "," "," "," "]
[{"$f":"IF(COUNTRY_INFO!A83=0,\" \",COUNTRY_INFO!A83)","v":"Uganda"},{"$f":"IF(COUNTRY_INFO!B83=0,\" \",COUNTRY_INFO!B83)","v":"Northern"},{"$f":"IF(COUNTRY_INFO!C83=0,\" \",COUNTRY_INFO!C83)","v":"Maracha"},{"$f":"IF(COUNTRY_INFO!$T$9:$T$1000=\"MDA2 (DEC+ALB)\", COUNTRY_INFO!$T$9:$T$1000, \" \")","v":" "},null,null,null,null,0,null,null,null,0," "," "," "," "]
[{"$f":"IF(COUNTRY_INFO!A84=0,\" \",COUNTRY_INFO!A84)","v":"Uganda"},{"$f":"IF(COUNTRY_INFO!B84=0,\" \",COUNTRY_INFO!B84)","v":"Northern"},{"$f":"IF(COUNTRY_INFO!C84=0,\" \",COUNTRY_INFO!C84)","v":"Moroto"},{"$f":"IF(COUNTRY_INFO!$T$9:$T$1000=\"MDA2 (DEC+ALB)\", COUNTRY_INFO!$T$9:$T$1000, \" \")","v":" "},null,null,null,null,0,null,null,null,0," "," "," "," "]
[{"$f":"IF(COUNTRY_INFO!A85=0,\" \",COUNTRY_INFO!A85)","v":"Uganda"},{"$f":"IF(COUNTRY_INFO!B85=0,\" \",COUNTRY_INFO!B85)","v":"Northern"},{"$f":"IF(COUNTRY_INFO!C85=0,\" \",COUNTRY_INFO!C85)","v":"Moyo"},{"$f":"IF(COUNTRY_INFO!$T$9:$T$1000=\"MDA2 (DEC+ALB)\", COUNTRY_INFO!$T$9:$T$1000, \" \")","v":" "},null,null,null,null,0,null,null,null,0," "," "," "," "]
[{"$f":"IF(COUNTRY_INFO!A86=0,\" \",COUNTRY_INFO!A86)","v":"Uganda"},{"$f":"IF(COUNTRY_INFO!B86=0,\" \",COUNTRY_INFO!B86)","v":"Northern"},{"$f":"IF(COUNTRY_INFO!C86=0,\" \",COUNTRY_INFO!C86)","v":"Nakapiripirit"},{"$f":"IF(COUNTRY_INFO!$T$9:$T$1000=\"MDA2 (DEC+ALB)\", COUNTRY_INFO!$T$9:$T$1000, \" \")","v":" "},null,null,null,null,0,null,null,null,0," "," "," "," "]
[{"$f":"IF(COUNTRY_INFO!A87=0,\" \",COUNTRY_INFO!A87)","v":"Uganda"},{"$f":"IF(COUNTRY_INFO!B87=0,\" \",COUNTRY_INFO!B87)","v":"Northern"},{"$f":"IF(COUNTRY_INFO!C87=0,\" \",COUNTRY_INFO!C87)","v":"Napak"},{"$f":"IF(COUNTRY_INFO!$T$9:$T$1000=\"MDA2 (DEC+ALB)\", COUNTRY_INFO!$T$9:$T$1000, \" \")","v":" "},null,null,null,null,0,null,null,null,0," "," "," "," "]
[{"$f":"IF(COUNTRY_INFO!A88=0,\" \",COUNTRY_INFO!A88)","v":"Uganda"},{"$f":"IF(COUNTRY_INFO!B88=0,\" \",COUNTRY_INFO!B88)","v":"Northern"},{"$f":"IF(COUNTRY_INFO!C88=0,\" \",COUNTRY_INFO!C88)","v":"Nebbi"},{"$f":"IF(COUNTRY_INFO!$T$9:$T$1000=\"MDA2 (DEC+ALB)\", COUNTRY_INFO!$T$9:$T$1000, \" \")","v":" "},null,null,null,null,0,null,null,null,0," "," "," "," "]
[{"$f":"IF(COUNTRY_INFO!A89=0,\" \",COUNTRY_INFO!A89)","v":"Uganda"},{"$f":"IF(COUNTRY_INFO!B89=0,\" \",COUNTRY_INFO!B89)","v":"Northern"},{"$f":"IF(COUNTRY_INFO!C89=0,\" \",COUNTRY_INFO!C89)","v":"Nwoya"},{"$f":"IF(COUNTRY_INFO!$T$9:$T$1000=\"MDA2 (DEC+ALB)\", COUNTRY_INFO!$T$9:$T$1000, \" \")","v":" "},null,null,null,null,0,null,null,null,0," "," "," "," "]
[{"$f":"IF(COUNTRY_INFO!A90=0,\" \",COUNTRY_INFO!A90)","v":"Uganda"},{"$f":"IF(COUNTRY_INFO!B90=0,\" \",COUNTRY_INFO!B90)","v":"Northern"},{"$f":"IF(COUNTRY_INFO!C90=0,\" \",COUNTRY_INFO!C90)","v":"Omoro"},{"$f":"IF(COUNTRY_INFO!$T$9:$T$1000=\"MDA2 (DEC+ALB)\", COUNTRY_INFO!$T$9:$T$1000, \" \")","v":" "},null,null,null,null,0,null,null,null,0," "," "," "," "]
[{"$f":"IF(COUNTRY_INFO!A91=0,\" \",COUNTRY_INFO!A91)","v":"Uganda"},{"$f":"IF(COUNTRY_INFO!B91=0,\" \",COUNTRY_INFO!B91)","v":"Northern"},{"$f":"IF(COUNTRY_INFO!C91=0,\" \",COUNTRY_INFO!C91)","v":"Otuke"},{"$f":"IF(COUNTRY_INFO!$T$9:$T$1000=\"MDA2 (DEC+ALB)\", COUNTRY_INFO!$T$9:$T$1000, \" \")","v":" "},null,null,null,null,0,null,null,null,0," "," "," "," "]
[{"$f":"IF(COUNTRY_INFO!A92=0,\" \",COUNTRY_INFO!A92)","v":"Uganda"},{"$f":"IF(COUNTRY_INFO!B92=0,\" \",COUNTRY_INFO!B92)","v":"Northern"},{"$f":"IF(COUNTRY_INFO!C92=0,\" \",COUNTRY_INFO!C92)","v":"Oyam"},{"$f":"IF(COUNTRY_INFO!$T$9:$T$1000=\"MDA2 (DEC+ALB)\", COUNTRY_INFO!$T$9:$T$1000, \" \")","v":" "},null,null,null,null,0,null,null,null,0," "," "," "," "]
[{"$f":"IF(COUNTRY_INFO!A93=0,\" \",COUNTRY_INFO!A93)","v":"Uganda"},{"$f":"IF(COUNTRY_INFO!B93=0,\" \",COUNTRY_INFO!B93)","v":"Northern"},{"$f":"IF(COUNTRY_INFO!C93=0,\" \",COUNTRY_INFO!C93)","v":"Pader"},{"$f":"IF(COUNTRY_INFO!$T$9:$T$1000=\"MDA2 (DEC+ALB)\", COUNTRY_INFO!$T$9:$T$1000, \" \")","v":" "},null,null,null,null,0,null,null,null,0," "," "," "," "]
[{"$f":"IF(COUNTRY_INFO!A94=0,\" \",COUNTRY_INFO!A94)","v":"Uganda"},{"$f":"IF(COUNTRY_INFO!B94=0,\" \",COUNTRY_INFO!B94)","v":"Northern"},{"$f":"IF(COUNTRY_INFO!C94=0,\" \",COUNTRY_INFO!C94)","v":"Yumbe"},{"$f":"IF(COUNTRY_INFO!$T$9:$T$1000=\"MDA2 (DEC+ALB)\", COUNTRY_INFO!$T$9:$T$1000, \" \")","v":" "},null,null,null,null,0,null,null,null,0," "," "," "," "]
[{"$f":"IF(COUNTRY_INFO!A95=0,\" \",COUNTRY_INFO!A95)","v":"Uganda"},{"$f":"IF(COUNTRY_INFO!B95=0,\" \",COUNTRY_INFO!B95)","v":"Northern"},{"$f":"IF(COUNTRY_INFO!C95=0,\" \",COUNTRY_INFO!C95)","v":"Zombo"},{"$f":"IF(COUNTRY_INFO!$T$9:$T$1000=\"MDA2 (DEC+ALB)\", COUNTRY_INFO!$T$9:$T$1000, \" \")","v":" "},null,null,null,null,0,null,null,null,0," "," "," "," "]
[{"$f":"IF(COUNTRY_INFO!A96=0,\" \",COUNTRY_INFO!A96)","v":"Uganda"},{"$f":"IF(COUNTRY_INFO!B96=0,\" \",COUNTRY_INFO!B96)","v":"Western"},{"$f":"IF(COUNTRY_INFO!C96=0,\" \",COUNTRY_INFO!C96)","v":"Buhweju"},{"$f":"IF(COUNTRY_INFO!$T$9:$T$1000=\"MDA2 (DEC+ALB)\", COUNTRY_INFO!$T$9:$T$1000, \" \")","v":" "},null,null,null,null,0,null,null,null,0," "," "," "," "]
[{"$f":"IF(COUNTRY_INFO!A97=0,\" \",COUNTRY_INFO!A97)","v":"Uganda"},{"$f":"IF(COUNTRY_INFO!B97=0,\" \",COUNTRY_INFO!B97)","v":"Western"},{"$f":"IF(COUNTRY_INFO!C97=0,\" \",COUNTRY_INFO!C97)","v":"Buliisa"},{"$f":"IF(COUNTRY_INFO!$T$9:$T$1000=\"MDA2 (DEC+ALB)\", COUNTRY_INFO!$T$9:$T$1000, \" \")","v":" "},null,null,null,null,0,null,null,null,0," "," "," "," "]
[{"$f":"IF(COUNTRY_INFO!A98=0,\" \",COUNTRY_INFO!A98)","v":"Uganda"},{"$f":"IF(COUNTRY_INFO!B98=0,\" \",COUNTRY_INFO!B98)","v":"Western"},{"$f":"IF(COUNTRY_INFO!C98=0,\" \",COUNTRY_INFO!C98)","v":"Bundibugyo"},{"$f":"IF(COUNTRY_INFO!$T$9:$T$1000=\"MDA2 (DEC+ALB)\", COUNTRY_INFO!$T$9:$T$1000, \" \")","v":" "},null,null,null,null,0,null,null,null,0," "," "," "," "]
[{"$f":"IF(COUNTRY_INFO!A99=0,\" \",COUNTRY_INFO!A99)","v":"Uganda"},{"$f":"IF(COUNTRY_INFO!B99=0,\" \",COUNTRY_INFO!B99)","v":"Western"},{"$f":"IF(COUNTRY_INFO!C99=0,\" \",COUNTRY_INFO!C99)","v":"Bushenyi"},{"$f":"IF(COUNTRY_INFO!$T$9:$T$1000=\"MDA2 (DEC+ALB)\", COUNTRY_INFO!$T$9:$T$1000, \" \")","v":" "},null,null,null,null,0,null,null,null,0," "," "," "," "]
[{"$f":"IF(COUNTRY_INFO!A100=0,\" \",COUNTRY_INFO!A100)","v":"Uganda"},{"$f":"IF(COUNTRY_INFO!B100=0,\" \",COUNTRY_INFO!B100)","v":"Western"},{"$f":"IF(COUNTRY_INFO!C100=0,\" \",COUNTRY_INFO!C100)","v":"Hoima"},{"$f":"IF(COUNTRY_INFO!$T$9:$T$1000=\"MDA2 (DEC+ALB)\", COUNTRY_INFO!$T$9:$T$1000, \" \")","v":" "},null,null,null,null,0,null,null,null,0," "," "," "," "]
[{"$f":"IF(COUNTRY_INFO!A101=0,\" \",COUNTRY_INFO!A101)","v":"Uganda"},{"$f":"IF(COUNTRY_INFO!B101=0,\" \",COUNTRY_INFO!B101)","v":"Western"},{"$f":"IF(COUNTRY_INFO!C101=0,\" \",COUNTRY_INFO!C101)","v":"Ibanda"},{"$f":"IF(COUNTRY_INFO!$T$9:$T$1000=\"MDA2 (DEC+ALB)\", COUNTRY_INFO!$T$9:$T$1000, \" \")","v":" "},null,null,null,null,0,null,null,null,0," "," "," "," "]
[{"$f":"IF(COUNTRY_INFO!A102=0,\" \",COUNTRY_INFO!A102)","v":"Uganda"},{"$f":"IF(COUNTRY_INFO!B102=0,\" \",COUNTRY_INFO!B102)","v":"Western"},{"$f":"IF(COUNTRY_INFO!C102=0,\" \",COUNTRY_INFO!C102)","v":"Isingiro"},{"$f":"IF(COUNTRY_INFO!$T$9:$T$1000=\"MDA2 (DEC+ALB)\", COUNTRY_INFO!$T$9:$T$1000, \" \")","v":" "},null,null,null,null,0,null,null,null,0," "," "," "," "]
[{"$f":"IF(COUNTRY_INFO!A103=0,\" \",COUNTRY_INFO!A103)","v":"Uganda"},{"$f":"IF(COUNTRY_INFO!B103=0,\" \",COUNTRY_INFO!B103)","v":"Western"},{"$f":"IF(COUNTRY_INFO!C103=0,\" \",COUNTRY_INFO!C103)","v":"Kabale"},{"$f":"IF(COUNTRY_INFO!$T$9:$T$1000=\"MDA2 (DEC+ALB)\", COUNTRY_INFO!$T$9:$T$1000, \" \")","v":" "},null,null,null,null,0,null,null,null,0," "," "," "," "]
[{"$f":"IF(COUNTRY_INFO!A104=0,\" \",COUNTRY_INFO!A104)","v":"Uganda"},{"$f":"IF(COUNTRY_INFO!B104=0,\" \",COUNTRY_INFO!B104)","v":"Western"},{"$f":"IF(COUNTRY_INFO!C104=0,\" \",COUNTRY_INFO!C104)","v":"Kabarole"},{"$f":"IF(COUNTRY_INFO!$T$9:$T$1000=\"MDA2 (DEC+ALB)\", COUNTRY_INFO!$T$9:$T$1000, \" \")","v":" "},null,null,null,null,0,null,null,null,0," "," "," "," "]
[{"$f":"IF(COUNTRY_INFO!A105=0,\" \",COUNTRY_INFO!A105)","v":"Uganda"},{"$f":"IF(COUNTRY_INFO!B105=0,\" \",COUNTRY_INFO!B105)","v":"Western"},{"$f":"IF(COUNTRY_INFO!C105=0,\" \",COUNTRY_INFO!C105)","v":"Kagadi"},{"$f":"IF(COUNTRY_INFO!$T$9:$T$1000=\"MDA2 (DEC+ALB)\", COUNTRY_INFO!$T$9:$T$1000, \" \")","v":" "},null,null,null,null,0,null,null,null,0," "," "," "," "]
[{"$f":"IF(COUNTRY_INFO!A106=0,\" \",COUNTRY_INFO!A106)","v":"Uganda"},{"$f":"IF(COUNTRY_INFO!B106=0,\" \",COUNTRY_INFO!B106)","v":"Western"},{"$f":"IF(COUNTRY_INFO!C106=0,\" \",COUNTRY_INFO!C106)","v":"Kakumiro"},{"$f":"IF(COUNTRY_INFO!$T$9:$T$1000=\"MDA2 (DEC+ALB)\", COUNTRY_INFO!$T$9:$T$1000, \" \")","v":" "},null,null,null,null,0,null,null,null,0," "," "," "," "]
[{"$f":"IF(COUNTRY_INFO!A107=0,\" \",COUNTRY_INFO!A107)","v":"Uganda"},{"$f":"IF(COUNTRY_INFO!B107=0,\" \",COUNTRY_INFO!B107)","v":"Western"},{"$f":"IF(COUNTRY_INFO!C107=0,\" \",COUNTRY_INFO!C107)","v":"Kamwenge"},{"$f":"IF(COUNTRY_INFO!$T$9:$T$1000=\"MDA2 (DEC+ALB)\", COUNTRY_INFO!$T$9:$T$1000, \" \")","v":" "},null,null,null,null,0,null,null,null,0," "," "," "," "]
[{"$f":"IF(COUNTRY_INFO!A108=0,\" \",COUNTRY_INFO!A108)","v":"Uganda"},{"$f":"IF(COUNTRY_INFO!B108=0,\" \",COUNTRY_INFO!B108)","v":"Western"},{"$f":"IF(COUNTRY_INFO!C108=0,\" \",COUNTRY_INFO!C108)","v":"Kanungu"},{"$f":"IF(COUNTRY_INFO!$T$9:$T$1000=\"MDA2 (DEC+ALB)\", COUNTRY_INFO!$T$9:$T$1000, \" \")","v":" "},null,null,null,null,0,null,null,null,0," "," "," "," "]
[{"$f":"IF(COUNTRY_INFO!A109=0,\" \",COUNTRY_INFO!A109)","v":"Uganda"},{"$f":"IF(COUNTRY_INFO!B109=0,\" \",COUNTRY_INFO!B109)","v":"Western"},{"$f":"IF(COUNTRY_INFO!C109=0,\" \",COUNTRY_INFO!C109)","v":"Kasese"},{"$f":"IF(COUNTRY_INFO!$T$9:$T$1000=\"MDA2 (DEC+ALB)\", COUNTRY_INFO!$T$9:$T$1000, \" \")","v":" "},null,null,null,null,0,null,null,null,0," "," "," "," "]
[{"$f":"IF(COUNTRY_INFO!A110=0,\" \",COUNTRY_INFO!A110)","v":"Uganda"},{"$f":"IF(COUNTRY_INFO!B110=0,\" \",COUNTRY_INFO!B110)","v":"Western"},{"$f":"IF(COUNTRY_INFO!C110=0,\" \",COUNTRY_INFO!C110)","v":"Kibaale"},{"$f":"IF(COUNTRY_INFO!$T$9:$T$1000=\"MDA2 (DEC+ALB)\", COUNTRY_INFO!$T$9:$T$1000, \" \")","v":" "},null,null,null,null,0,null,null,null,0," "," "," "," "]
[{"$f":"IF(COUNTRY_INFO!A111=0,\" \",COUNTRY_INFO!A111)","v":"Uganda"},{"$f":"IF(COUNTRY_INFO!B111=0,\" \",COUNTRY_INFO!B111)","v":"Western"},{"$f":"IF(COUNTRY_INFO!C111=0,\" \",COUNTRY_INFO!C111)","v":"Kiruhura"},{"$f":"IF(COUNTRY_INFO!$T$9:$T$1000=\"MDA2 (DEC+ALB)\", COUNTRY_INFO!$T$9:$T$1000, \" \")","v":" "},null,null,null,null,0,null,null,null,0," "," "," "," "]
[{"$f":"IF(COUNTRY_INFO!A112=0,\" \",COUNTRY_INFO!A112)","v":"Uganda"},{"$f":"IF(COUNTRY_INFO!B112=0,\" \",COUNTRY_INFO!B112)","v":"Western"},{"$f":"IF(COUNTRY_INFO!C112=0,\" \",COUNTRY_INFO!C112)","v":"Kiryandongo"},{"$f":"IF(COUNTRY_INFO!$T$9:$T$1000=\"MDA2 (DEC+ALB)\", COUNTRY_INFO!$T$9:$T$1000, \" \")","v":" "},null,null,null,null,0,null,null,null,0," "," "," "," "]
[{"$f":"IF(COUNTRY_INFO!A113=0,\" \",COUNTRY_INFO!A113)","v":"Uganda"},{"$f":"IF(COUNTRY_INFO!B113=0,\" \",COUNTRY_INFO!B113)","v":"Western"},{"$f":"IF(COUNTRY_INFO!C113=0,\" \",COUNTRY_INFO!C113)","v":"Kisoro"},{"$f":"IF(COUNTRY_INFO!$T$9:$T$1000=\"MDA2 (DEC+ALB)\", COUNTRY_INFO!$T$9:$T$1000, \" \")","v":" "},null,null,null,null,0,null,null,null,0," "," "," "," "]
[{"$f":"IF(COUNTRY_INFO!A114=0,\" \",COUNTRY_INFO!A114)","v":"Uganda"},{"$f":"IF(COUNTRY_INFO!B114=0,\" \",COUNTRY_INFO!B114)","v":"Western"},{"$f":"IF(COUNTRY_INFO!C114=0,\" \",COUNTRY_INFO!C114)","v":"Kyegegwa"},{"$f":"IF(COUNTRY_INFO!$T$9:$T$1000=\"MDA2 (DEC+ALB)\", COUNTRY_INFO!$T$9:$T$1000, \" \")","v":" "},null,null,null,null,0,null,null,null,0," "," "," "," "]
[{"$f":"IF(COUNTRY_INFO!A115=0,\" \",COUNTRY_INFO!A115)","v":"Uganda"},{"$f":"IF(COUNTRY_INFO!B115=0,\" \",COUNTRY_INFO!B115)","v":"Western"},{"$f":"IF(COUNTRY_INFO!C115=0,\" \",COUNTRY_INFO!C115)","v":"Kyenjojo"},{"$f":"IF(COUNTRY_INFO!$T$9:$T$1000=\"MDA2 (DEC+ALB)\", COUNTRY_INFO!$T$9:$T$1000, \" \")","v":" "},null,null,null,null,0,null,null,null,0," "," "," "," "]
[{"$f":"IF(COUNTRY_INFO!A116=0,\" \",COUNTRY_INFO!A116)","v":"Uganda"},{"$f":"IF(COUNTRY_INFO!B116=0,\" \",COUNTRY_INFO!B116)","v":"Western"},{"$f":"IF(COUNTRY_INFO!C116=0,\" \",COUNTRY_INFO!C116)","v":"Masindi"},{"$f":"IF(COUNTRY_INFO!$T$9:$T$1000=\"MDA2 (DEC+ALB)\", COUNTRY_INFO!$T$9:$T$1000, \" \")","v":" "},null,null,null,null,0,null,null,null,0," "," "," "," "]
[{"$f":"IF(COUNTRY_INFO!A117=0,\" \",COUNTRY_INFO!A117)","v":"Uganda"},{"$f":"IF(COUNTRY_INFO!B117=0,\" \",COUNTRY_INFO!B117)","v":"Western"},{"$f":"IF(COUNTRY_INFO!C117=0,\" \",COUNTRY_INFO!C117)","v":"Mbarara"},{"$f":"IF(COUNTRY_INFO!$T$9:$T$1000=\"MDA2 (DEC+ALB)\", COUNTRY_INFO!$T$9:$T$1000, \" \")","v":" "},null,null,null,null,0,null,null,null,0," "," "," "," "]
[{"$f":"IF(COUNTRY_INFO!A118=0,\" \",COUNTRY_INFO!A118)","v":"Uganda"},{"$f":"IF(COUNTRY_INFO!B118=0,\" \",COUNTRY_INFO!B118)","v":"Western"},{"$f":"IF(COUNTRY_INFO!C118=0,\" \",COUNTRY_INFO!C118)","v":"Mitooma"},{"$f":"IF(COUNTRY_INFO!$T$9:$T$1000=\"MDA2 (DEC+ALB)\", COUNTRY_INFO!$T$9:$T$1000, \" \")","v":" "},null,null,null,null,0,null,null,null,0," "," "," "," "]
[{"$f":"IF(COUNTRY_INFO!A119=0,\" \",COUNTRY_INFO!A119)","v":"Uganda"},{"$f":"IF(COUNTRY_INFO!B119=0,\" \",COUNTRY_INFO!B119)","v":"Western"},{"$f":"IF(COUNTRY_INFO!C119=0,\" \",COUNTRY_INFO!C119)","v":"Ntoroko"},{"$f":"IF(COUNTRY_INFO!$T$9:$T$1000=\"MDA2 (DEC+ALB)\", COUNTRY_INFO!$T$9:$T$1000, \" \")","v":" "},null,null,null,null,0,null,null,null,0," "," "," "," "]
[{"$f":"IF(COUNTRY_INFO!A120=0,\" \",COUNTRY_INFO!A120)","v":"Uganda"},{"$f":"IF(COUNTRY_INFO!B120=0,\" \",COUNTRY_INFO!B120)","v":"Western"},{"$f":"IF(COUNTRY_INFO!C120=0,\" \",COUNTRY_INFO!C120)","v":"Ntungamo"},{"$f":"IF(COUNTRY_INFO!$T$9:$T$1000=\"MDA2 (DEC+ALB)\", COUNTRY_INFO!$T$9:$T$1000, \" \")","v":" "},null,null,null,null,0,null,null,null,0," "," "," "," "]
[{"$f":"IF(COUNTRY_INFO!A121=0,\" \",COUNTRY_INFO!A121)","v":"Uganda"},{"$f":"IF(COUNTRY_INFO!B121=0,\" \",COUNTRY_INFO!B121)","v":"Western"},{"$f":"IF(COUNTRY_INFO!C121=0,\" \",COUNTRY_INFO!C121)","v":"Rubanda"},{"$f":"IF(COUNTRY_INFO!$T$9:$T$1000=\"MDA2 (DEC+ALB)\", COUNTRY_INFO!$T$9:$T$1000, \" \")","v":" "},null,null,null,null,0,null,null,null,0," "," "," "," "]
[{"$f":"IF(COUNTRY_INFO!A122=0,\" \",COUNTRY_INFO!A122)","v":"Uganda"},{"$f":"IF(COUNTRY_INFO!B122=0,\" \",COUNTRY_INFO!B122)","v":"Western"},{"$f":"IF(COUNTRY_INFO!C122=0,\" \",COUNTRY_INFO!C122)","v":"Rubirizi"},{"$f":"IF(COUNTRY_INFO!$T$9:$T$1000=\"MDA2 (DEC+ALB)\", COUNTRY_INFO!$T$9:$T$1000, \" \")","v":" "},null,null,null,null,0,null,null,null,0," "," "," "," "]
[{"$f":"IF(COUNTRY_INFO!A123=0,\" \",COUNTRY_INFO!A123)","v":"Uganda"},{"$f":"IF(COUNTRY_INFO!B123=0,\" \",COUNTRY_INFO!B123)","v":"Western"},{"$f":"IF(COUNTRY_INFO!C123=0,\" \",COUNTRY_INFO!C123)","v":"Rukungiri"},{"$f":"IF(COUNTRY_INFO!$T$9:$T$1000=\"MDA2 (DEC+ALB)\", COUNTRY_INFO!$T$9:$T$1000, \" \")","v":" "},null,null,null,null,0,null,null,null,0," "," "," "," "]
[{"$f":"IF(COUNTRY_INFO!A124=0,\" \",COUNTRY_INFO!A124)","v":"Uganda"},{"$f":"IF(COUNTRY_INFO!B124=0,\" \",COUNTRY_INFO!B124)","v":"Western"},{"$f":"IF(COUNTRY_INFO!C124=0,\" \",COUNTRY_INFO!C124)","v":"Sheema"},{"$f":"IF(COUNTRY_INFO!$T$9:$T$1000=\"MDA2 (DEC+ALB)\", COUNTRY_INFO!$T$9:$T$1000, \" \")","v":" "},null,null,null,null,0,null,null,null,0," "," "," "," "]

{"sheet":"MDA3","index":4,"n_rows":124,"n_cols":20,"rows_kept":124,"cut":false,"hidden":false,"merged":[[5,5,5,7],[5,17,5,19],[3,0,3,2],[5,0,5,2],[5,3,6,3],[5,4,6,4],[5,8,5,10],[5,11,5,13],[5,14,5,16]]}
["MDA 3 - Ivermectin (IVM) "]
["Administrative structure, population requiring PC by age group, population treated by age group and coverage"]
[]
["TOTAL",null,null,null,null,{"$f":"SUM(F$9:F$1000)","v":829847},1436028,2265875,720285,1242611,1962896,782794,1350451,2133245,789336,1361736,2151072,{"$f":"IF(F4<>0, IF(O4/F4*100=0, \"-\", O4/F4*100), \" \")","v":95.118256738892839},{"$f":"IF(G4<>0, IF(P4/G4*100=0, \"-\", P4/G4*100), \" \")","v":94.826563270354058},{"$f":"IF(H4<>0, IF(Q4/H4*100=0, \"-\", Q4/H4*100), \" \")","v":94.933392177414916}]
[]
[null,null,null,"PC implemented","Date","Population targeted for MDA 3",null,null,"Population treated - 1st round",null,null,"Population treated - 2nd round",null,null,"Population treated",null,null,"Programme coverage (%)"]
["Country","Province/State","District",null,null,"SAC","Adults","Total","SAC","Adults","Total","SAC","Adults","Total","SAC","Adults","Total","SAC","Adults","Total"]
[]
[{"$f":"IF(COUNTRY_INFO!A9=0,\" \",COUNTRY_INFO!A9)","v":"Uganda"},{"$f":"IF(COUNTRY_INFO!B9=0,\" \",COUNTRY_INFO!B9)","v":"Central "},{"$f":"IF(COUNTRY_INFO!C9=0,\" \",COUNTRY_INFO!C9)","v":"Buikwe"},{"$f":"IF(COUNTRY_INFO!$T$9:$T$1000=\"MDA3 (IVM)\", COUNTRY_INFO!$T$9:$T$1000, \" \")","v":" "},null,null,null,{"$f":"SUM(F9:G9)","v":0},null,null,{"$f":"SUM(I9:J9)","v":0},null,null,{"$f":"SUM(L9:M9)","v":0},{"$f":"MAX(I9,L9)","v":0},0,{"$f":"SUM(O9:P9)","v":0},{"$f":"IF(F9<>0, IF(MAX(I9,L9)/F9*100=0, \"-\", MAX(I9,L9)/F9*100), \" \")","v":" "}," ",{"$f":"IF(H9<>0, IF((MAX(I9,L9)+MAX(J9,M9))/H9*100=0, \"-\",(MAX(I9,L9)+MAX(J9,M9))/H9*100), \" \")","v":" "}]
[{"$f":"IF(COUNTRY_INFO!A10=0,\" \",COUNTRY_INFO!A10)","v":"Uganda"},{"$f":"IF(COUNTRY_INFO!B10=0,\" \",COUNTRY_INFO!B10)","v":"Central "},{"$f":"IF(COUNTRY_INFO!C10=0,\" \",COUNTRY_INFO!C10)","v":"Bukomansimbi"},{"$f":"IF(COUNTRY_INFO!$T$9:$T$1000=\"MDA3 (IVM)\", COUNTRY_INFO!$T$9:$T$1000, \" \")","v":" "},null,null,null,{"$f":"SUM(F10:G10)","v":0},null,null,{"$f":"SUM(I10:J10)","v":0},null,null,{"$f":"SUM(L10:M10)","v":0},{"$f":"MAX(I10,L10)","v":0},{"$f":"MAX(J10,M10)","v":0},{"$f":"SUM(O10:P10)","v":0},{"$f":"IF(F10<>0, IF(MAX(I10,L10)/F10*100=0, \"-\", MAX(I10,L10)/F10*100), \" \")","v":" "},{"$f":"IF(G10<>0, IF(MAX(J10,M10)/G10*100=0, \"-\", MAX(J10,M10)/G10*100), \" \")","v":" "},{"$f":"IF(H10<>0, IF((MAX(I10,L10)+MAX(J10,M10))/H10*100=0, \"-\",(MAX(I10,L10)+MAX(J10,M10))/H10*100), \" \")","v":" "}]
[{"$f":"IF(COUNTRY_INFO!A11=0,\" \",COUNTRY_INFO!A11)","v":"Uganda"},{"$f":"IF(COUNTRY_INFO!B11=0,\" \",COUNTRY_INFO!B11)","v":"Central "},{"$f":"IF(COUNTRY_INFO!C11=0,\" \",COUNTRY_INFO!C11)","v":"Butambala"},{"$f":"IF(COUNTRY_INFO!$T$9:$T$1000=\"MDA3 (IVM)\", COUNTRY_INFO!$T$9:$T$1000, \" \")","v":" "},null,null,null,0,null,null,0,null,null,0,0,0,0," "," "," "]
[{"$f":"IF(COUNTRY_INFO!A12=0,\" \",COUNTRY_INFO!A12)","v":"Uganda"},{"$f":"IF(COUNTRY_INFO!B12=0,\" \",COUNTRY_INFO!B12)","v":"Central "},{"$f":"IF(COUNTRY_INFO!C12=0,\" \",COUNTRY_INFO!C12)","v":"Buvuma"},{"$f":"IF(COUNTRY_INFO!$T$9:$T$1000=\"MDA3 (IVM)\", COUNTRY_INFO!$T$9:$T$1000, \" \")","v":" "},null,null,null,0,null,null,0,null,null,0,0,0,0," "," "," "]
[{"$f":"IF(COUNTRY_INFO!A13=0,\" \",COUNTRY_INFO!A13)","v":"Uganda"},{"$f":"IF(COUNTRY_INFO!B13=0,\" \",COUNTRY_INFO!B13)","v":"Central "},{"$f":"IF(COUNTRY_INFO!C13=0,\" \",COUNTRY_INFO!C13)","v":"Gomba"},{"$f":"IF(COUNTRY_INFO!$T$9:$T$1000=\"MDA3 (IVM)\", COUNTRY_INFO!$T$9:$T$1000, \" \")","v":" "},null,null,null,0,null,null,0,null,null,0,0,0,0," "," "," "]
[{"$f":"IF(COUNTRY_INFO!A14=0,\" \",COUNTRY_INFO!A14)","v":"Uganda"},{"$f":"IF(COUNTRY_INFO!B14=0,\" \",COUNTRY_INFO!B14)","v":"Central "},{"$f":"IF(COUNTRY_INFO!C14=0,\" \",COUNTRY_INFO!C14)","v":"Kalangala"},{"$f":"IF(COUNTRY_INFO!$T$9:$T$1000=\"MDA3 (IVM)\", COUNTRY_INFO!$T$9:$T$1000, \" \")","v":" "},null,null,null,0,null,null,0,null,null,0,0,0,0," "," "," "]
[{"$f":"IF(COUNTRY_INFO!A15=0,\" \",COUNTRY_INFO!A15)","v":"Uganda"},{"$f":"IF(COUNTRY_INFO!B15=0,\" \",COUNTRY_INFO!B15)","v":"Central "},{"$f":"IF(COUNTRY_INFO!C15=0,\" \",COUNTRY_INFO!C15)","v":"Kalungu"},{"$f":"IF(COUNTRY_INFO!$T$9:$T$1000=\"MDA3 (IVM)\", COUNTRY_INFO!$T$9:$T$1000, \" \")","v":" "},null,null,null,0,null,null,0,null,null,0,0,0,0," "," "," "]
[{"$f":"IF(COUNTRY_INFO!A16=0,\" \",COUNTRY_INFO!A16)","v":"Uganda"},{"$f":"IF(COUNTRY_INFO!B16=0,\" \",COUNTRY_INFO!B16)","v":"Central "},{"$f":"IF(COUNTRY_INFO!C16=0,\" \",COUNTRY_INFO!C16)","v":"Kampala"},{"$f":"IF(COUNTRY_INFO!$T$9:$T$1000=\"MDA3 (IVM)\", COUNTRY_INFO!$T$9:$T$1000, \" \")","v":" "},null,null,null,0,null,null,0,null,null,0,0,0,0," "," "," "]
[{"$f":"IF(COUNTRY_INFO!A17=0,\" \",COUNTRY_INFO!A17)","v":"Uganda"},{"$f":"IF(COUNTRY_INFO!B17=0,\" \",COUNTRY_INFO!B17)","v":"Central "},{"$f":"IF(COUNTRY_INFO!C17=0,\" \",COUNTRY_INFO!C17)","v":"Kayunga"},{"$f":"IF(COUNTRY_INFO!$T$9:$T$1000=\"MDA3 (IVM)\", COUNTRY_INFO!$T$9:$T$1000, \" \")","v":" "},null,null,null,0,null,null,0,null,null,0,0,0,0," "," "," "]
[{"$f":"IF(COUNTRY_INFO!A18=0,\" \",COUNTRY_INFO!A18)","v":"Uganda"},{"$f":"IF(COUNTRY_INFO!B18=0,\" \",COUNTRY_INFO!B18)","v":"Central "},{"$f":"IF(COUNTRY_INFO!C18=0,\" \",COUNTRY_INFO!C18)","v":"Kiboga"},{"$f":"IF(COUNTRY_INFO!$T$9:$T$1000=\"MDA3 (IVM)\", COUNTRY_INFO!$T$9:$T$1000, \" \")","v":" "},null,null,null,0,null,null,0,null,null,0,0,0,0," "," "," "]
[{"$f":"IF(COUNTRY_INFO!A19=0,\" \",COUNTRY_INFO!A19)","v":"Uganda"},{"$f":"IF(COUNTRY_INFO!B19=0,\" \",COUNTRY_INFO!B19)","v":"Central "},{"$f":"IF(COUNTRY_INFO!C19=0,\" \",COUNTRY_INFO!C19)","v":"Kyankwanzi"},{"$f":"IF(COUNTRY_INFO!$T$9:$T$1000=\"MDA3 (IVM)\", COUNTRY_INFO!$T$9:$T$1000, \" \")","v":" "},null,null,null,0,null,null,0,null,null,0,0,0,0," "," "," "]
[{"$f":"IF(COUNTRY_INFO!A20=0,\" \",COUNTRY_INFO!A20)","v":"Uganda"},{"$f":"IF(COUNTRY_INFO!B20=0,\" \",COUNTRY_INFO!B20)","v":"Central "},{"$f":"IF(COUNTRY_INFO!C20=0,\" \",COUNTRY_INFO!C20)","v":"Luwero"},{"$f":"IF(COUNTRY_INFO!$T$9:$T$1000=\"MDA3 (IVM)\", COUNTRY_INFO!$T$9:$T$1000, \" \")","v":" "},null,null,null,0,null,null,0,null,null,0,0,0,0," "," "," "]
[{"$f":"IF(COUNTRY_INFO!A21=0,\" \",COUNTRY_INFO!A21)","v":"Uganda"},{"$f":"IF(COUNTRY_INFO!B21=0,\" \",COUNTRY_INFO!B21)","v":"Central "},{"$f":"IF(COUNTRY_INFO!C21=0,\" \",COUNTRY_INFO!C21)","v":"Lwengo"},{"$f":"IF(COUNTRY_INFO!$T$9:$T$1000=\"MDA3 (IVM)\", COUNTRY_INFO!$T$9:$T$1000, \" \")","v":" "},null,null,null,0,null,null,0,null,null,0,0,0,0," "," "," "]
[{"$f":"IF(COUNTRY_INFO!A22=0,\" \",COUNTRY_INFO!A22)","v":"Uganda"},{"$f":"IF(COUNTRY_INFO!B22=0,\" \",COUNTRY_INFO!B22)","v":"Central "},{"$f":"IF(COUNTRY_INFO!C22=0,\" \",COUNTRY_INFO!C22)","v":"Lyantonde"},{"$f":"IF(COUNTRY_INFO!$T$9:$T$1000=\"MDA3 (IVM)\", COUNTRY_INFO!$T$9:$T$1000, \" \")","v":" "},null,null,null,0,null,null,0,null,null,0,0,0,0," "," "," "]
[{"$f":"IF(COUNTRY_INFO!A23=0,\" \",COUNTRY_INFO!A23)","v":"Uganda"},{"$f":"IF(COUNTRY_INFO!B23=0,\" \",COUNTRY_INFO!B23)","v":"Central "},{"$f":"IF(COUNTRY_INFO!C23=0,\" \",COUNTRY_INFO!C23)","v":"Masaka"},{"$f":"IF(COUNTRY_INFO!$T$9:$T$1000=\"MDA3 (IVM)\", COUNTRY_INFO!$T$9:$T$1000, \" \")","v":" "},null,null,null,0,null,null,0,null,null,0,0,0,0," "," "," "]
[{"$f":"IF(COUNTRY_INFO!A24=0,\" \",COUNTRY_INFO!A24)","v":"Uganda"},{"$f":"IF(COUNTRY_INFO!B24=0,\" \",COUNTRY_INFO!B24)","v":"Central "},{"$f":"IF(COUNTRY_INFO!C24=0,\" \",COUNTRY_INFO!C24)","v":"Mityana"},{"$f":"IF(COUNTRY_INFO!$T$9:$T$1000=\"MDA3 (IVM)\", COUNTRY_INFO!$T$9:$T$1000, \" \")","v":" "},null,null,null,0,null,null,0,null,null,0,0,0,0," "," "," "]
[{"$f":"IF(COUNTRY_INFO!A25=0,\" \",COUNTRY_INFO!A25)","v":"Uganda"},{"$f":"IF(COUNTRY_INFO!B25=0,\" \",COUNTRY_INFO!B25)","v":"Central "},{"$f":"IF(COUNTRY_INFO!C25=0,\" \",COUNTRY_INFO!C25)","v":"Mpigi"},{"$f":"IF(COUNTRY_INFO!$T$9:$T$1000=\"MDA3 (IVM)\", COUNTRY_INFO!$T$9:$T$1000, \" \")","v":" "},null,null,null,0,null,null,0,null,null,0,0,0,0," "," "," "]
[{"$f":"IF(COUNTRY_INFO!A26=0,\" \",COUNTRY_INFO!A26)","v":"Uganda"},{"$f":"IF(COUNTRY_INFO!B26=0,\" \",COUNTRY_INFO!B26)","v":"Central "},{"$f":"IF(COUNTRY_INFO!C26=0,\" \",COUNTRY_INFO!C26)","v":"Mubende"},{"$f":"IF(COUNTRY_INFO!$T$9:$T$1000=\"MDA3 (IVM)\", COUNTRY_INFO!$T$9:$T$1000, \" \")","v":" "},null,null,null,0,null,null,0,null,null,0,0,0,0," "," "," "]
[{"$f":"IF(COUNTRY_INFO!A27=0,\" \",COUNTRY_INFO!A27)","v":"Uganda"},{"$f":"IF(COUNTRY_INFO!B27=0,\" \",COUNTRY_INFO!B27)","v":"Central "},{"$f":"IF(COUNTRY_INFO!C27=0,\" \",COUNTRY_INFO!C27)","v":"Mukono"},{"$f":"IF(COUNTRY_INFO!$T$9:$T$1000=\"MDA3 (IVM)\", COUNTRY_INFO!$T$9:$T$1000, \" \")","v":" "},null,null,null,0,null,null,0,null,null,0,0,0,0," "," "," "]
[{"$f":"IF(COUNTRY_INFO!A28=0,\" \",COUNTRY_INFO!A28)","v":"Uganda"},{"$f":"IF(COUNTRY_INFO!B28=0,\" \",COUNTRY_INFO!B28)","v":"Central "},{"$f":"IF(COUNTRY_INFO!C28=0,\" \",COUNTRY_INFO!C28)","v":"Nakaseke"},{"$f":"IF(COUNTRY_INFO!$T$9:$T$1000=\"MDA3 (IVM)\", COUNTRY_INFO!$T$9:$T$1000, \" \")","v":" "},null,null,null,0,null,null,0,null,null,0,0,0,0," "," "," "]
[{"$f":"IF(COUNTRY_INFO!A29=0,\" \",COUNTRY_INFO!A29)","v":"Uganda"},{"$f":"IF(COUNTRY_INFO!B29=0,\" \",COUNTRY_INFO!B29)","v":"Central "},{"$f":"IF(COUNTRY_INFO!C29=0,\" \",COUNTRY_INFO!C29)","v":"Nakasongola"},{"$f":"IF(COUNTRY_INFO!$T$9:$T$1000=\"MDA3 (IVM)\", COUNTRY_INFO!$T$9:$T$1000, \" \")","v":" "},null,null,null,0,null,null,0,null,null,0,0,0,0," "," "," "]
[{"$f":"IF(COUNTRY_INFO!A30=0,\" \",COUNTRY_INFO!A30)","v":"Uganda"},{"$f":"IF(COUNTRY_INFO!B30=0,\" \",COUNTRY_INFO!B30)","v":"Central "},{"$f":"IF(COUNTRY_INFO!C30=0,\" \",COUNTRY_INFO!C30)","v":"Rakai"},{"$f":"IF(COUNTRY_INFO!$T$9:$T$1000=\"MDA3 (IVM)\", COUNTRY_INFO!$T$9:$T$1000, \" \")","v":" "},null,null,null,0,null,null,0,null,null,0,0,0,0," "," "," "]
[{"$f":"IF(COUNTRY_INFO!A31=0,\" \",COUNTRY_INFO!A31)","v":"Uganda"},{"$f":"IF(COUNTRY_INFO!B31=0,\" \",COUNTRY_INFO!B31)","v":"Central "},{"$f":"IF(COUNTRY_INFO!C31=0,\" \",COUNTRY_INFO!C31)","v":"Sembabule"},{"$f":"IF(COUNTRY_INFO!$T$9:$T$1000=\"MDA3 (IVM)\", COUNTRY_INFO!$T$9:$T$1000, \" \")","v":" "},null,null,null,0,null,null,0,null,null,0,0,0,0," "," "," "]
[{"$f":"IF(COUNTRY_INFO!A32=0,\" \",COUNTRY_INFO!A32)","v":"Uganda"},{"$f":"IF(COUNTRY_INFO!B32=0,\" \",COUNTRY_INFO!B32)","v":"Central "},{"$f":"IF(COUNTRY_INFO!C32=0,\" \",COUNTRY_INFO!C32)","v":"Wakiso"},{"$f":"IF(COUNTRY_INFO!$T$9:$T$1000=\"MDA3 (IVM)\", COUNTRY_INFO!$T$9:$T$1000, \" \")","v":" "},null,null,null,0,null,null,0,null,null,0,0,0,0," "," "," "]
[{"$f":"IF(COUNTRY_INFO!A33=0,\" \",COUNTRY_INFO!A33)","v":"Uganda"},{"$f":"IF(COUNTRY_INFO!B33=0,\" \",COUNTRY_INFO!B33)","v":"Eastern "},{"$f":"IF(COUNTRY_INFO!C33=0,\" \",COUNTRY_INFO!C33)","v":"Amuria"},{"$f":"IF(COUNTRY_INFO!$T$9:$T$1000=\"MDA3 (IVM)\", COUNTRY_INFO!$T$9:$T$1000, \" \")","v":" "},null,null,null,0,null,null,0,null,null,0,0,0,0," "," "," "]
[{"$f":"IF(COUNTRY_INFO!A34=0,\" \",COUNTRY_INFO!A34)","v":"Uganda"},{"$f":"IF(COUNTRY_INFO!B34=0,\" \",COUNTRY_INFO!B34)","v":"Eastern "},{"$f":"IF(COUNTRY_INFO!C34=0,\" \",COUNTRY_INFO!C34)","v":"Budaka"},{"$f":"IF(COUNTRY_INFO!$T$9:$T$1000=\"MDA3 (IVM)\", COUNTRY_INFO!$T$9:$T$1000, \" \")","v":" "},null,null,null,0,null,null,0,null,null,0,0,0,0," "," "," "]
[{"$f":"IF(COUNTRY_INFO!A35=0,\" \",COUNTRY_INFO!A35)","v":"Uganda"},{"$f":"IF(COUNTRY_INFO!B35=0,\" \",COUNTRY_INFO!B35)","v":"Eastern "},{"$f":"IF(COUNTRY_INFO!C35=0,\" \",COUNTRY_INFO!C35)","v":"Bududa"},{"$f":"IF(COUNTRY_INFO!$T$9:$T$1000=\"MDA3 (IVM)\", COUNTRY_INFO!$T$9:$T$1000, \" \")","v":" "},null,null,null,0,null,null,0,null,null,0,0,0,0," "," "," "]
[{"$f":"IF(COUNTRY_INFO!A36=0,\" \",COUNTRY_INFO!A36)","v":"Uganda"},{"$f":"IF(COUNTRY_INFO!B36=0,\" \",COUNTRY_INFO!B36)","v":"Eastern "},{"$f":"IF(COUNTRY_INFO!C36=0,\" \",COUNTRY_INFO!C36)","v":"Bugiri"},{"$f":"IF(COUNTRY_INFO!$T$9:$T$1000=\"MDA3 (IVM)\", COUNTRY_INFO!$T$9:$T$1000, \" \")","v":" "},null,null,null,0,null,null,0,null,null,0,0,0,0," "," "," "]
[{"$f":"IF(COUNTRY_INFO!A37=0,\" \",COUNTRY_INFO!A37)","v":"Uganda"},{"$f":"IF(COUNTRY_INFO!B37=0,\" \",COUNTRY_INFO!B37)","v":"Eastern "},{"$f":"IF(COUNTRY_INFO!C37=0,\" \",COUNTRY_INFO!C37)","v":"Bukedea"},{"$f":"IF(COUNTRY_INFO!$T$9:$T$1000=\"MDA3 (IVM)\", COUNTRY_INFO!$T$9:$T$1000, \" \")","v":" "},null,null,null,0,null,null,0,null,null,0,0,0,0," "," "," "]
[{"$f":"IF(COUNTRY_INFO!A38=0,\" \",COUNTRY_INFO!A38)","v":"Uganda"},{"$f":"IF(COUNTRY_INFO!B38=0,\" \",COUNTRY_INFO!B38)","v":"Eastern "},{"$f":"IF(COUNTRY_INFO!C38=0,\" \",COUNTRY_INFO!C38)","v":"Bukwo"},{"$f":"IF(COUNTRY_INFO!$T$9:$T$1000=\"MDA3 (IVM)\", COUNTRY_INFO!$T$9:$T$1000, \" \")","v":" "},null,null,null,0,null,null,0,null,null,0,0,0,0," "," "," "]
[{"$f":"IF(COUNTRY_INFO!A39=0,\" \",COUNTRY_INFO!A39)","v":"Uganda"},{"$f":"IF(COUNTRY_INFO!B39=0,\" \",COUNTRY_INFO!B39)","v":"Eastern "},{"$f":"IF(COUNTRY_INFO!C39=0,\" \",COUNTRY_INFO!C39)","v":"Bulambuli"},{"$f":"IF(COUNTRY_INFO!$T$9:$T$1000=\"MDA3 (IVM)\", COUNTRY_INFO!$T$9:$T$1000, \" \")","v":" "},null,null,null,0,null,null,0,null,null,0,0,0,0," "," "," "]
[{"$f":"IF(COUNTRY_INFO!A40=0,\" \",COUNTRY_INFO!A40)","v":"Uganda"},{"$f":"IF(COUNTRY_INFO!B40=0,\" \",COUNTRY_INFO!B40)","v":"Eastern "},{"$f":"IF(COUNTRY_INFO!C40=0,\" \",COUNTRY_INFO!C40)","v":"Busia"},{"$f":"IF(COUNTRY_INFO!$T$9:$T$1000=\"MDA3 (IVM)\", COUNTRY_INFO!$T$9:$T$1000, \" \")","v":" "},null,null,null,0,null,null,0,null,null,0,0,0,0," "," "," "]
[{"$f":"IF(COUNTRY_INFO!A41=0,\" \",COUNTRY_INFO!A41)","v":"Uganda"},{"$f":"IF(COUNTRY_INFO!B41=0,\" \",COUNTRY_INFO!B41)","v":"Eastern "},{"$f":"IF(COUNTRY_INFO!C41=0,\" \",COUNTRY_INFO!C41)","v":"Butaleja"},{"$f":"IF(COUNTRY_INFO!$T$9:$T$1000=\"MDA3 (IVM)\", COUNTRY_INFO!$T$9:$T$1000, \" \")","v":" "},null,null,null,0,null,null,0,null,null,0,0,0,0," "," "," "]
[{"$f":"IF(COUNTRY_INFO!A42=0,\" \",COUNTRY_INFO!A42)","v":"Uganda"},{"$f":"IF(COUNTRY_INFO!B42=0,\" \",COUNTRY_INFO!B42)","v":"Eastern "},{"$f":"IF(COUNTRY_INFO!C42=0,\" \",COUNTRY_INFO!C42)","v":"Buyende"},{"$f":"IF(COUNTRY_INFO!$T$9:$T$1000=\"MDA3 (IVM)\", COUNTRY_INFO!$T$9:$T$1000, \" \")","v":" "},null,null,null,0,null,null,0,null,null,0,0,0,0," "," "," "]
[{"$f":"IF(COUNTRY_INFO!A43=0,\" \",COUNTRY_INFO!A43)","v":"Uganda"},{"$f":"IF(COUNTRY_INFO!B43=0,\" \",COUNTRY_INFO!B43)","v":"Eastern "},{"$f":"IF(COUNTRY_INFO!C43=0,\" \",COUNTRY_INFO!C43)","v":"Iganga"},{"$f":"IF(COUNTRY_INFO!$T$9:$T$1000=\"MDA3 (IVM)\", COUNTRY_INFO!$T$9:$T$1000, \" \")","v":" "},null,null,null,0,null,null,0,null,null,0,0,0,0," "," "," "]
[{"$f":"IF(COUNTRY_INFO!A44=0,\" \",COUNTRY_INFO!A44)","v":"Uganda"},{"$f":"IF(COUNTRY_INFO!B44=0,\" \",COUNTRY_INFO!B44)","v":"Eastern "},{"$f":"IF(COUNTRY_INFO!C44=0,\" \",COUNTRY_INFO!C44)","v":"Jinja"},{"$f":"IF(COUNTRY_INFO!$T$9:$T$1000=\"MDA3 (IVM)\", COUNTRY_INFO!$T$9:$T$1000, \" \")","v":" "},null,null,null,0,null,null,0,null,null,0,0,0,0," "," "," "]
[{"$f":"IF(COUNTRY_INFO!A45=0,\" \",COUNTRY_INFO!A45)","v":"Uganda"},{"$f":"IF(COUNTRY_INFO!B45=0,\" \",COUNTRY_INFO!B45)","v":"Eastern "},{"$f":"IF(COUNTRY_INFO!C45=0,\" \",COUNTRY_INFO!C45)","v":"Kaberamaido"},{"$f":"IF(COUNTRY_INFO!$T$9:$T$1000=\"MDA3 (IVM)\", COUNTRY_INFO!$T$9:$T$1000, \" \")","v":" "},null,null,null,0,null,null,0,null,null,0,0,0,0," "," "," "]
[{"$f":"IF(COUNTRY_INFO!A46=0,\" \",COUNTRY_INFO!A46)","v":"Uganda"},{"$f":"IF(COUNTRY_INFO!B46=0,\" \",COUNTRY_INFO!B46)","v":"Eastern "},{"$f":"IF(COUNTRY_INFO!C46=0,\" \",COUNTRY_INFO!C46)","v":"Kaliro"},{"$f":"IF(COUNTRY_INFO!$T$9:$T$1000=\"MDA3 (IVM)\", COUNTRY_INFO!$T$9:$T$1000, \" \")","v":" "},null,null,null,0,null,null,0,null,null,0,0,0,0," "," "," "]
[{"$f":"IF(COUNTRY_INFO!A47=0,\" \",COUNTRY_INFO!A47)","v":"Uganda"},{"$f":"IF(COUNTRY_INFO!B47=0,\" \",COUNTRY_INFO!B47)","v":"Eastern "},{"$f":"IF(COUNTRY_INFO!C47=0,\" \",COUNTRY_INFO!C47)","v":"Kamuli"},{"$f":"IF(COUNTRY_INFO!$T$9:$T$1000=\"MDA3 (IVM)\", COUNTRY_INFO!$T$9:$T$1000, \" \")","v":" "},null,null,null,0,null,null,0,null,null,0,0,0,0," "," "," "]
[{"$f":"IF(COUNTRY_INFO!A48=0,\" \",COUNTRY_INFO!A48)","v":"Uganda"},{"$f":"IF(COUNTRY_INFO!B48=0,\" \",COUNTRY_INFO!B48)","v":"Eastern "},{"$f":"IF(COUNTRY_INFO!C48=0,\" \",COUNTRY_INFO!C48)","v":"Kapchorwa"},{"$f":"IF(COUNTRY_INFO!$T$9:$T$1000=\"MDA3 (IVM)\", COUNTRY_INFO!$T$9:$T$1000, \" \")","v":" "},null,null,null,0,null,null,0,null,null,0,0,0,0," "," "," "]
[{"$f":"IF(COUNTRY_INFO!A49=0,\" \",COUNTRY_INFO!A49)","v":"Uganda"},{"$f":"IF(COUNTRY_INFO!B49=0,\" \",COUNTRY_INFO!B49)","v":"Eastern "},{"$f":"IF(COUNTRY_INFO!C49=0,\" \",COUNTRY_INFO!C49)","v":"Katakwi"},{"$f":"IF(COUNTRY_INFO!$T$9:$T$1000=\"MDA3 (IVM)\", COUNTRY_INFO!$T$9:$T$1000, \" \")","v":" "},null,null,null,0,null,null,0,null,null,0,0,0,0," "," "," "]
[{"$f":"IF(COUNTRY_INFO!A50=0,\" \",COUNTRY_INFO!A50)","v":"Uganda"},{"$f":"IF(COUNTRY_INFO!B50=0,\" \",COUNTRY_INFO!B50)","v":"Eastern "},{"$f":"IF(COUNTRY_INFO!C50=0,\" \",COUNTRY_INFO!C50)","v":"Kibuku"},{"$f":"IF(COUNTRY_INFO!$T$9:$T$1000=\"MDA3 (IVM)\", COUNTRY_INFO!$T$9:$T$1000, \" \")","v":" "},null,null,null,0,null,null,0,null,null,0,0,0,0," "," "," "]
[{"$f":"IF(COUNTRY_INFO!A51=0,\" \",COUNTRY_INFO!A51)","v":"Uganda"},{"$f":"IF(COUNTRY_INFO!B51=0,\" \",COUNTRY_INFO!B51)","v":"Eastern "},{"$f":"IF(COUNTRY_INFO!C51=0,\" \",COUNTRY_INFO!C51)","v":"Kumi"},{"$f":"IF(COUNTRY_INFO!$T$9:$T$1000=\"MDA3 (IVM)\", COUNTRY_INFO!$T$9:$T$1000, \" \")","v":" "},null,null,null,0,null,null,0,null,null,0,0,0,0," "," "," "]
[{"$f":"IF(COUNTRY_INFO!A52=0,\" \",COUNTRY_INFO!A52)","v":"Uganda"},{"$f":"IF(COUNTRY_INFO!B52=0,\" \",COUNTRY_INFO!B52)","v":"Eastern "},{"$f":"IF(COUNTRY_INFO!C52=0,\" \",COUNTRY_INFO!C52)","v":"Kween"},{"$f":"IF(COUNTRY_INFO!$T$9:$T$1000=\"MDA3 (IVM)\", COUNTRY_INFO!$T$9:$T$1000, \" \")","v":" "},null,null,null,0,null,null,0,null,null,0,0,0,0," "," "," "]
[{"$f":"IF(COUNTRY_INFO!A53=0,\" \",COUNTRY_INFO!A53)","v":"Uganda"},{"$f":"IF(COUNTRY_INFO!B53=0,\" \",COUNTRY_INFO!B53)","v":"Eastern "},{"$f":"IF(COUNTRY_INFO!C53=0,\" \",COUNTRY_INFO!C53)","v":"Luuka"},{"$f":"IF(COUNTRY_INFO!$T$9:$T$1000=\"MDA3 (IVM)\", COUNTRY_INFO!$T$9:$T$1000, \" \")","v":" "},null,null,null,0,null,null,0,null,null,0,0,0,0," "," "," "]
[{"$f":"IF(COUNTRY_INFO!A54=0,\" \",COUNTRY_INFO!A54)","v":"Uganda"},{"$f":"IF(COUNTRY_INFO!B54=0,\" \",COUNTRY_INFO!B54)","v":"Eastern "},{"$f":"IF(COUNTRY_INFO!C54=0,\" \",COUNTRY_INFO!C54)","v":"Manafwa"},{"$f":"IF(COUNTRY_INFO!$T$9:$T$1000=\"MDA3 (IVM)\", COUNTRY_INFO!$T$9:$T$1000, \" \")","v":" "},null,null,null,0,null,null,0,null,null,0,0,0,0," "," "," "]
[{"$f":"IF(COUNTRY_INFO!A55=0,\" \",COUNTRY_INFO!A55)","v":"Uganda"},{"$f":"IF(COUNTRY_INFO!B55=0,\" \",COUNTRY_INFO!B55)","v":"Eastern "},{"$f":"IF(COUNTRY_INFO!C55=0,\" \",COUNTRY_INFO!C55)","v":"Mayuge"},{"$f":"IF(COUNTRY_INFO!$T$9:$T$1000=\"MDA3 (IVM)\", COUNTRY_INFO!$T$9:$T$1000, \" \")","v":" "},null,null,null,0,null,null,0,null,null,0,0,0,0," "," "," "]
[{"$f":"IF(COUNTRY_INFO!A56=0,\" \",COUNTRY_INFO!A56)","v":"Uganda"},{"$f":"IF(COUNTRY_INFO!B56=0,\" \",COUNTRY_INFO!B56)","v":"Eastern "},{"$f":"IF(COUNTRY_INFO!C56=0,\" \",COUNTRY_INFO!C56)","v":"Mbale"},{"$f":"IF(COUNTRY_INFO!$T$9:$T$1000=\"MDA3 (IVM)\", COUNTRY_INFO!$T$9:$T$1000, \" \")","v":" "},null,null,null,0,null,null,0,null,null,0,0,0,0," "," "," "]
[{"$f":"IF(COUNTRY_INFO!A57=0,\" \",COUNTRY_INFO!A57)","v":"Uganda"},{"$f":"IF(COUNTRY_INFO!B57=0,\" \",COUNTRY_INFO!B57)","v":"Eastern "},{"$f":"IF(COUNTRY_INFO!C57=0,\" \",COUNTRY_INFO!C57)","v":"Namayingo"},{"$f":"IF(COUNTRY_INFO!$T$9:$T$1000=\"MDA3 (IVM)\", COUNTRY_INFO!$T$9:$T$1000, \" \")","v":" "},null,null,null,0,null,null,0,null,null,0,0,0,0," "," "," "]
[{"$f":"IF(COUNTRY_INFO!A58=0,\" \",COUNTRY_INFO!A58)","v":"Uganda"},{"$f":"IF(COUNTRY_INFO!B58=0,\" \",COUNTRY_INFO!B58)","v":"Eastern "},{"$f":"IF(COUNTRY_INFO!C58=0,\" \",COUNTRY_INFO!C58)","v":"Namutumba"},{"$f":"IF(COUNTRY_INFO!$T$9:$T$1000=\"MDA3 (IVM)\", COUNTRY_INFO!$T$9:$T$1000, \" \")","v":" "},null,null,null,0,null,null,0,null,null,0,0,0,0," "," "," "]
[{"$f":"IF(COUNTRY_INFO!A59=0,\" \",COUNTRY_INFO!A59)","v":"Uganda"},{"$f":"IF(COUNTRY_INFO!B59=0,\" \",COUNTRY_INFO!B59)","v":"Eastern "},{"$f":"IF(COUNTRY_INFO!C59=0,\" \",COUNTRY_INFO!C59)","v":"Ngora"},{"$f":"IF(COUNTRY_INFO!$T$9:$T$1000=\"MDA3 (IVM)\", COUNTRY_INFO!$T$9:$T$1000, \" \")","v":" "},null,null,null,0,null,null,0,null,null,0,0,0,0," "," "," "]
[{"$f":"IF(COUNTRY_INFO!A60=0,\" \",COUNTRY_INFO!A60)","v":"Uganda"},{"$f":"IF(COUNTRY_INFO!B60=0,\" \",COUNTRY_INFO!B60)","v":"Eastern "},{"$f":"IF(COUNTRY_INFO!C60=0,\" \",COUNTRY_INFO!C60)","v":"Pallisa"},{"$f":"IF(COUNTRY_INFO!$T$9:$T$1000=\"MDA3 (IVM)\", COUNTRY_INFO!$T$9:$T$1000, \" \")","v":" "},null,null,null,0,null,null,0,null,null,0,0,0,0," "," "," "]
[{"$f":"IF(COUNTRY_INFO!A61=0,\" \",COUNTRY_INFO!A61)","v":"Uganda"},{"$f":"IF(COUNTRY_INFO!B61=0,\" \",COUNTRY_INFO!B61)","v":"Eastern "},{"$f":"IF(COUNTRY_INFO!C61=0,\" \",COUNTRY_INFO!C61)","v":"Serere"},{"$f":"IF(COUNTRY_INFO!$T$9:$T$1000=\"MDA3 (IVM)\", COUNTRY_INFO!$T$9:$T$1000, \" \")","v":" "},null,null,null,0,null,null,0,null,null,0,0,0,0," "," "," "]
[{"$f":"IF(COUNTRY_INFO!A62=0,\" \",COUNTRY_INFO!A62)","v":"Uganda"},{"$f":"IF(COUNTRY_INFO!B62=0,\" \",COUNTRY_INFO!B62)","v":"Eastern "},{"$f":"IF(COUNTRY_INFO!C62=0,\" \",COUNTRY_INFO!C62)","v":"Sironko"},{"$f":"IF(COUNTRY_INFO!$T$9:$T$1000=\"MDA3 (IVM)\", COUNTRY_INFO!$T$9:$T$1000, \" \")","v":" "},null,null,null,0,null,null,0,null,null,0,0,0,0," "," "," "]
[{"$f":"IF(COUNTRY_INFO!A63=0,\" \",COUNTRY_INFO!A63)","v":"Uganda"},{"$f":"IF(COUNTRY_INFO!B63=0,\" \",COUNTRY_INFO!B63)","v":"Eastern "},{"$f":"IF(COUNTRY_INFO!C63=0,\" \",COUNTRY_INFO!C63)","v":"Soroti"},{"$f":"IF(COUNTRY_INFO!$T$9:$T$1000=\"MDA3 (IVM)\", COUNTRY_INFO!$T$9:$T$1000, \" \")","v":" "},null,null,null,0,null,null,0,null,null,0,0,0,0," "," "," "]
[{"$f":"IF(COUNTRY_INFO!A64=0,\" \",COUNTRY_INFO!A64)","v":"Uganda"},{"$f":"IF(COUNTRY_INFO!B64=0,\" \",COUNTRY_INFO!B64)","v":"Eastern "},{"$f":"IF(COUNTRY_INFO!C64=0,\" \",COUNTRY_INFO!C64)","v":"Tororo"},{"$f":"IF(COUNTRY_INFO!$T$9:$T$1000=\"MDA3 (IVM)\", COUNTRY_INFO!$T$9:$T$1000, \" \")","v":" "},null,null,null,0,null,null,0,null,null,0,0,0,0," "," "," "]
[{"$f":"IF(COUNTRY_INFO!A65=0,\" \",COUNTRY_INFO!A65)","v":"Uganda"},{"$f":"IF(COUNTRY_INFO!B65=0,\" \",COUNTRY_INFO!B65)","v":"Northern"},{"$f":"IF(COUNTRY_INFO!C65=0,\" \",COUNTRY_INFO!C65)","v":"Abim"},{"$f":"IF(COUNTRY_INFO!$T$9:$T$1000=\"MDA3 (IVM)\", COUNTRY_INFO!$T$9:$T$1000, \" \")","v":" "},null,null,null,0,null,null,0,null,null,0,0,0,0," "," "," "]
[{"$f":"IF(COUNTRY_INFO!A66=0,\" \",COUNTRY_INFO!A66)","v":"Uganda"},{"$f":"IF(COUNTRY_INFO!B66=0,\" \",COUNTRY_INFO!B66)","v":"Northern"},{"$f":"IF(COUNTRY_INFO!C66=0,\" \",COUNTRY_INFO!C66)","v":"Adjumani"},{"$f":"IF(COUNTRY_INFO!$T$9:$T$1000=\"MDA3 (IVM)\", COUNTRY_INFO!$T$9:$T$1000, \" \")","v":"MDA3 (IVM)"},"April & Oct 2017",8645,14964,23609,8168,14092,22260,7798,13452,21250,8168,14092,22260,94.482359745517641,94.172681101309806,94.286077343385998]
[{"$f":"IF(COUNTRY_INFO!A67=0,\" \",COUNTRY_INFO!A67)","v":"Uganda"},{"$f":"IF(COUNTRY_INFO!B67=0,\" \",COUNTRY_INFO!B67)","v":"Northern"},{"$f":"IF(COUNTRY_INFO!C67=0,\" \",COUNTRY_INFO!C67)","v":"Agago"},{"$f":"IF(COUNTRY_INFO!$T$9:$T$1000=\"MDA3 (IVM)\", COUNTRY_INFO!$T$9:$T$1000, \" \")","v":" "},null,null,null,0,null,null,0,null,null,0,0,0,0," "," "," "]
[{"$f":"IF(COUNTRY_INFO!A68=0,\" \",COUNTRY_INFO!A68)","v":"Uganda"},{"$f":"IF(COUNTRY_INFO!B68=0,\" \",COUNTRY_INFO!B68)","v":"Northern"},{"$f":"IF(COUNTRY_INFO!C68=0,\" \",COUNTRY_INFO!C68)","v":"Alebtong"},{"$f":"IF(COUNTRY_INFO!$T$9:$T$1000=\"MDA3 (IVM)\", COUNTRY_INFO!$T$9:$T$1000, \" \")","v":" "},null,null,null,0,null,null,0,null,null,0,0,0,0," "," "," "]
[{"$f":"IF(COUNTRY_INFO!A69=0,\" \",COUNTRY_INFO!A69)","v":"Uganda"},{"$f":"IF(COUNTRY_INFO!B69=0,\" \",COUNTRY_INFO!B69)","v":"Northern"},{"$f":"IF(COUNTRY_INFO!C69=0,\" \",COUNTRY_INFO!C69)","v":"Amolatar"},{"$f":"IF(COUNTRY_INFO!$T$9:$T$1000=\"MDA3 (IVM)\", COUNTRY_INFO!$T$9:$T$1000, \" \")","v":" "},null,null,null,0,null,null,0,null,null,0,0,0,0," "," "," "]
[{"$f":"IF(COUNTRY_INFO!A70=0,\" \",COUNTRY_INFO!A70)","v":"Uganda"},{"$f":"IF(COUNTRY_INFO!B70=0,\" \",COUNTRY_INFO!B70)","v":"Northern"},{"$f":"IF(COUNTRY_INFO!C70=0,\" \",COUNTRY_INFO!C70)","v":"Amudat"},{"$f":"IF(COUNTRY_INFO!$T$9:$T$1000=\"MDA3 (IVM)\", COUNTRY_INFO!$T$9:$T$1000, \" \")","v":" "},null,null,null,0,null,null,0,null,null,0,0,0,0," "," "," "]
[{"$f":"IF(COUNTRY_INFO!A71=0,\" \",COUNTRY_INFO!A71)","v":"Uganda"},{"$f":"IF(COUNTRY_INFO!B71=0,\" \",COUNTRY_INFO!B71)","v":"Northern"},{"$f":"IF(COUNTRY_INFO!C71=0,\" \",COUNTRY_INFO!C71)","v":"Amuru"},{"$f":"IF(COUNTRY_INFO!$T$9:$T$1000=\"MDA3 (IVM)\", COUNTRY_INFO!$T$9:$T$1000, \" \")","v":"MDA3 (IVM)"},"April & Oct 2017",75491,130666,206157,70333,121336,191669,71856,123964,195820,71856,123964,195820,95.184856472957051,94.870892198429573,94.985860290943307]
[{"$f":"IF(COUNTRY_INFO!A72=0,\" \",COUNTRY_INFO!A72)","v":"Uganda"},{"$f":"IF(COUNTRY_INFO!B72=0,\" \",COUNTRY_INFO!B72)","v":"Northern"},{"$f":"IF(COUNTRY_INFO!C72=0,\" \",COUNTRY_INFO!C72)","v":"Apac"},{"$f":"IF(COUNTRY_INFO!$T$9:$T$1000=\"MDA3 (IVM)\", COUNTRY_INFO!$T$9:$T$1000, \" \")","v":" "},null,null,null,0,null,null,0,null,null,0,0,0,0," "," "," "]
[{"$f":"IF(COUNTRY_INFO!A73=0,\" \",COUNTRY_INFO!A73)","v":"Uganda"},{"$f":"IF(COUNTRY_INFO!B73=0,\" \",COUNTRY_INFO!B73)","v":"Northern"},{"$f":"IF(COUNTRY_INFO!C73=0,\" \",COUNTRY_INFO!C73)","v":"Arua"},"MDA3 (IVM)","April & Oct 2017",57970,100342,158312,55399,95573,150972,52628,90792,143420,55399,95573,150972,95.564947386579263,95.247254389986253,95.363585830511894]
[{"$f":"IF(COUNTRY_INFO!A74=0,\" \",COUNTRY_INFO!A74)","v":"Uganda"},{"$f":"IF(COUNTRY_INFO!B74=0,\" \",COUNTRY_INFO!B74)","v":"Northern"},{"$f":"IF(COUNTRY_INFO!C74=0,\" \",COUNTRY_INFO!C74)","v":"Dokolo"},{"$f":"IF(COUNTRY_INFO!$T$9:$T$1000=\"MDA3 (IVM)\", COUNTRY_INFO!$T$9:$T$1000, \" \")","v":" "},null,null,null,{"$f":"SUM(F74:G74)","v":0},null,null,{"$f":"SUM(I74:J74)","v":0},null,null,{"$f":"SUM(L74:M74)","v":0},{"$f":"MAX(I74,L74)","v":0},{"$f":"MAX(J74,M74)","v":0},{"$f":"SUM(O74:P74)","v":0},{"$f":"IF(F74<>0, IF(MAX(I74,L74)/F74*100=0, \"-\", MAX(I74,L74)/F74*100), \" \")","v":" "},{"$f":"IF(G74<>0, IF(MAX(J74,M74)/G74*100=0, \"-\", MAX(J74,M74)/G74*100), \" \")","v":" "},{"$f":"IF(H74<>0, IF((MAX(I74,L74)+MAX(J74,M74))/H74*100=0, \"-\",(MAX(I74,L74)+MAX(J74,M74))/H74*100), \" \")","v":" "}]
[{"$f":"IF(COUNTRY_INFO!A75=0,\" \",COUNTRY_INFO!A75)","v":"Uganda"},{"$f":"IF(COUNTRY_INFO!B75=0,\" \",COUNTRY_INFO!B75)","v":"Northern"},{"$f":"IF(COUNTRY_INFO!C75=0,\" \",COUNTRY_INFO!C75)","v":"Gulu"},"MDA3 (IVM)","April & Oct 2017",47111,81544,128655,45579,78630,124209,45589,78648,124237,45589,78648,124237,96.769332003141514,96.448543117825963,96.566009871361388]
[{"$f":"IF(COUNTRY_INFO!A76=0,\" \",COUNTRY_INFO!A76)","v":"Uganda"},{"$f":"IF(COUNTRY_INFO!B76=0,\" \",COUNTRY_INFO!B76)","v":"Northern"},{"$f":"IF(COUNTRY_INFO!C76=0,\" \",COUNTRY_INFO!C76)","v":"Kaabong"},{"$f":"IF(COUNTRY_INFO!$T$9:$T$1000=\"MDA3 (IVM)\", COUNTRY_INFO!$T$9:$T$1000, \" \")","v":" "},null,null,null,0,null,null,0,null,null,0,0,0,0," "," "," "]
[{"$f":"IF(COUNTRY_INFO!A77=0,\" \",COUNTRY_INFO!A77)","v":"Uganda"},{"$f":"IF(COUNTRY_INFO!B77=0,\" \",COUNTRY_INFO!B77)","v":"Northern"},{"$f":"IF(COUNTRY_INFO!C77=0,\" \",COUNTRY_INFO!C77)","v":"Kitgum"},"MDA3 (IVM)","April & Oct 2017",33183,57438,90621,31073,53607,84680,31891,55018,86909,31891,55018,86909,96.106440044601143,95.786761377485291,95.903819203054468]
[{"$f":"IF(COUNTRY_INFO!A78=0,\" \",COUNTRY_INFO!A78)","v":"Uganda"},{"$f":"IF(COUNTRY_INFO!B78=0,\" \",COUNTRY_INFO!B78)","v":"Northern"},{"$f":"IF(COUNTRY_INFO!C78=0,\" \",COUNTRY_INFO!C78)","v":"Koboko"},{"$f":"IF(COUNTRY_INFO!$T$9:$T$1000=\"MDA3 (IVM)\", COUNTRY_INFO!$T$9:$T$1000, \" \")","v":"MDA3 (IVM)"},"Oct 2017",4584,7908,12492,null,null,0,4710,8125,12835,4710,8125,12835,102.74869109947645,102.74405665149216,102.74575728466218]
[{"$f":"IF(COUNTRY_INFO!A79=0,\" \",COUNTRY_INFO!A79)","v":"Uganda"},{"$f":"IF(COUNTRY_INFO!B79=0,\" \",COUNTRY_INFO!B79)","v":"Northern"},{"$f":"IF(COUNTRY_INFO!C79=0,\" \",COUNTRY_INFO!C79)","v":"Kole"},{"$f":"IF(COUNTRY_INFO!$T$9:$T$1000=\"MDA3 (IVM)\", COUNTRY_INFO!$T$9:$T$1000, \" \")","v":" "},null,null,null,0,null,null,0,null,null,0,0,0,0," "," "," "]
[{"$f":"IF(COUNTRY_INFO!A80=0,\" \",COUNTRY_INFO!A80)","v":"Uganda"},{"$f":"IF(COUNTRY_INFO!B80=0,\" \",COUNTRY_INFO!B80)","v":"Northern"},{"$f":"IF(COUNTRY_INFO!C80=0,\" \",COUNTRY_INFO!C80)","v":"Kotido"},{"$f":"IF(COUNTRY_INFO!$T$9:$T$1000=\"MDA3 (IVM)\", COUNTRY_INFO!$T$9:$T$1000, \" \")","v":" "},null,null,null,0,null,null,0,null,null,0,0,0,0," "," "," "]
[{"$f":"IF(COUNTRY_INFO!A81=0,\" \",COUNTRY_INFO!A81)","v":"Uganda"},{"$f":"IF(COUNTRY_INFO!B81=0,\" \",COUNTRY_INFO!B81)","v":"Northern"},{"$f":"IF(COUNTRY_INFO!C81=0,\" \",COUNTRY_INFO!C81)","v":"Lamwo"},"MDA3 (IVM)","April & Oct 2017",47496,82212,129708,41904,72290,114194,41738,72004,113742,41904,72290,114194,88.226376958059632,87.931202257577965,88.039288247448113]
[{"$f":"IF(COUNTRY_INFO!A82=0,\" \",COUNTRY_INFO!A82)","v":"Uganda"},{"$f":"IF(COUNTRY_INFO!B82=0,\" \",COUNTRY_INFO!B82)","v":"Northern"},{"$f":"IF(COUNTRY_INFO!C82=0,\" \",COUNTRY_INFO!C82)","v":"Lira"},{"$f":"IF(COUNTRY_INFO!$T$9:$T$1000=\"MDA3 (IVM)\", COUNTRY_INFO!$T$9:$T$1000, \" \")","v":"MDA3 (IVM)"},"April & Oct 2017",22475,38901,61376,22398,38639,61037,22434,38702,61136,22434,38702,61136,99.817575083426021,99.488445027120122,99.608967674661102]
[{"$f":"IF(COUNTRY_INFO!A83=0,\" \",COUNTRY_INFO!A83)","v":"Uganda"},{"$f":"IF(COUNTRY_INFO!B83=0,\" \",COUNTRY_INFO!B83)","v":"Northern"},{"$f":"IF(COUNTRY_INFO!C83=0,\" \",COUNTRY_INFO!C83)","v":"Maracha"},{"$f":"IF(COUNTRY_INFO!$T$9:$T$1000=\"MDA3 (IVM)\", COUNTRY_INFO!$T$9:$T$1000, \" \")","v":" "},null,null,null,0,null,null,0,null,null,0,0,0,0," "," "," "]
[{"$f":"IF(COUNTRY_INFO!A84=0,\" \",COUNTRY_INFO!A84)","v":"Uganda"},{"$f":"IF(COUNTRY_INFO!B84=0,\" \",COUNTRY_INFO!B84)","v":"Northern"},{"$f":"IF(COUNTRY_INFO!C84=0,\" \",COUNTRY_INFO!C84)","v":"Moroto"},{"$f":"IF(COUNTRY_INFO!$T$9:$T$1000=\"MDA3 (IVM)\", COUNTRY_INFO!$T$9:$T$1000, \" \")","v":" "},null,null,null,0,null,null,0,null,null,0,0,0,0," "," "," "]
[{"$f":"IF(COUNTRY_INFO!A85=0,\" \",COUNTRY_INFO!A85)","v":"Uganda"},{"$f":"IF(COUNTRY_INFO!B85=0,\" \",COUNTRY_INFO!B85)","v":"Northern"},{"$f":"IF(COUNTRY_INFO!C85=0,\" \",COUNTRY_INFO!C85)","v":"Moyo"},{"$f":"IF(COUNTRY_INFO!$T$9:$T$1000=\"MDA3 (IVM)\", COUNTRY_INFO!$T$9:$T$1000, \" \")","v":"MDA3 (IVM)"},"April & Oct 2017",29003,50201,79204,28587,49316,77903,27440,47339,74779,28587,49316,77903,98.565665620797844,98.237086910619311,98.357406191606486]
[{"$f":"IF(COUNTRY_INFO!A86=0,\" \",COUNTRY_INFO!A86)","v":"Uganda"},{"$f":"IF(COUNTRY_INFO!B86=0,\" \",COUNTRY_INFO!B86)","v":"Northern"},{"$f":"IF(COUNTRY_INFO!C86=0,\" \",COUNTRY_INFO!C86)","v":"Nakapiripirit"},{"$f":"IF(COUNTRY_INFO!$T$9:$T$1000=\"MDA3 (IVM)\", COUNTRY_INFO!$T$9:$T$1000, \" \")","v":" "},null,null,null,0,null,null,0,null,null,0,0,0,0," "," "," "]
[{"$f":"IF(COUNTRY_INFO!A87=0,\" \",COUNTRY_INFO!A87)","v":"Uganda"},{"$f":"IF(COUNTRY_INFO!B87=0,\" \",COUNTRY_INFO!B87)","v":"Northern"},{"$f":"IF(COUNTRY_INFO!C87=0,\" \",COUNTRY_INFO!C87)","v":"Napak"},{"$f":"IF(COUNTRY_INFO!$T$9:$T$1000=\"MDA3 (IVM)\", COUNTRY_INFO!$T$9:$T$1000, \" \")","v":" "},null,null,null,0,null,null,0,null,null,0,0,0,0," "," "," "]
[{"$f":"IF(COUNTRY_INFO!A88=0,\" \",COUNTRY_INFO!A88)","v":"Uganda"},{"$f":"IF(COUNTRY_INFO!B88=0,\" \",COUNTRY_INFO!B88)","v":"Northern"},{"$f":"IF(COUNTRY_INFO!C88=0,\" \",COUNTRY_INFO!C88)","v":"Nebbi"},{"$f":"IF(COUNTRY_INFO!$T$9:$T$1000=\"MDA3 (IVM)\", COUNTRY_INFO!$T$9:$T$1000, \" \")","v":"MDA3 (IVM)"},"April & Oct 2017",47771,82686,130457,44876,77419,122295,47063,81192,128255,47063,81192,128255,98.517929287643142,98.193164501850376,98.312087507761177]
[{"$f":"IF(COUNTRY_INFO!A89=0,\" \",COUNTRY_INFO!A89)","v":"Uganda"},{"$f":"IF(COUNTRY_INFO!B89=0,\" \",COUNTRY_INFO!B89)","v":"Northern"},{"$f":"IF(COUNTRY_INFO!C89=0,\" \",COUNTRY_INFO!C89)","v":"Nwoya"},{"$f":"IF(COUNTRY_INFO!$T$9:$T$1000=\"MDA3 (IVM)\", COUNTRY_INFO!$T$9:$T$1000, \" \")","v":"MDA3 (IVM)"},"April & Oct 2017",59065,102235,161300,54886,94687,149573,57179,98643,155822,57179,98643,155822,96.806907644120884,96.486526140754151,96.603843769373839]
[{"$f":"IF(COUNTRY_INFO!A90=0,\" \",COUNTRY_INFO!A90)","v":"Uganda"},{"$f":"IF(COUNTRY_INFO!B90=0,\" \",COUNTRY_INFO!B90)","v":"Northern"},{"$f":"IF(COUNTRY_INFO!C90=0,\" \",COUNTRY_INFO!C90)","v":"Omoro"},"MDA3 (IVM)","April & Oct 2017",60488,104697,165185,52159,89983,142142,54915,94737,149652,54915,94737,149652,90.786602301282898,90.486833433622735,90.596603807851807]
[{"$f":"IF(COUNTRY_INFO!A91=0,\" \",COUNTRY_INFO!A91)","v":"Uganda"},{"$f":"IF(COUNTRY_INFO!B91=0,\" \",COUNTRY_INFO!B91)","v":"Northern"},{"$f":"IF(COUNTRY_INFO!C91=0,\" \",COUNTRY_INFO!C91)","v":"Otuke"},{"$f":"IF(COUNTRY_INFO!$T$9:$T$1000=\"MDA3 (IVM)\", COUNTRY_INFO!$T$9:$T$1000, \" \")","v":" "},null,null,null,0,null,null,0,null,null,0,0,0,0," "," "," "]
[{"$f":"IF(COUNTRY_INFO!A92=0,\" \",COUNTRY_INFO!A92)","v":"Uganda"},{"$f":"IF(COUNTRY_INFO!B92=0,\" \",COUNTRY_INFO!B92)","v":"Northern"},{"$f":"IF(COUNTRY_INFO!C92=0,\" \",COUNTRY_INFO!C92)","v":"Oyam"},{"$f":"IF(COUNTRY_INFO!$T$9:$T$1000=\"MDA3 (IVM)\", COUNTRY_INFO!$T$9:$T$1000, \" \")","v":"MDA3 (IVM)"},"April & Oct 2017",7479,12946,20425,7322,12633,19955,7264,12531,19795,7322,12633,19955,97.900788875518117,97.582264792213806,97.698898408812724]
[{"$f":"IF(COUNTRY_INFO!A93=0,\" \",COUNTRY_INFO!A93)","v":"Uganda"},{"$f":"IF(COUNTRY_INFO!B93=0,\" \",COUNTRY_INFO!B93)","v":"Northern"},{"$f":"IF(COUNTRY_INFO!C93=0,\" \",COUNTRY_INFO!C93)","v":"Pader"},{"$f":"IF(COUNTRY_INFO!$T$9:$T$1000=\"MDA3 (IVM)\", COUNTRY_INFO!$T$9:$T$1000, \" \")","v":"MDA3 (IVM)"},"April & Oct 2017",61301,106106,167407,58950,101699,160649,58465,100863,159328,58950,101699,160649,96.16482602241399,95.846606223964713,95.96313176868351]
[{"$f":"IF(COUNTRY_INFO!A94=0,\" \",COUNTRY_INFO!A94)","v":"Uganda"},{"$f":"IF(COUNTRY_INFO!B94=0,\" \",COUNTRY_INFO!B94)","v":"Northern"},{"$f":"IF(COUNTRY_INFO!C94=0,\" \",COUNTRY_INFO!C94)","v":"Yumbe"},{"$f":"IF(COUNTRY_INFO!$T$9:$T$1000=\"MDA3 (IVM)\", COUNTRY_INFO!$T$9:$T$1000, \" \")","v":"MDA3 (IVM)"},"Oct 2017",57810,99732,157542,null,null,0,48854,84282,133136,48854,84282,133136,84.507870610621012,84.508482733726382,84.508258115296243]
[{"$f":"IF(COUNTRY_INFO!A95=0,\" \",COUNTRY_INFO!A95)","v":"Uganda"},{"$f":"IF(COUNTRY_INFO!B95=0,\" \",COUNTRY_INFO!B95)","v":"Northern"},{"$f":"IF(COUNTRY_INFO!C95=0,\" \",COUNTRY_INFO!C95)","v":"Zombo"},{"$f":"IF(COUNTRY_INFO!$T$9:$T$1000=\"MDA3 (IVM)\", COUNTRY_INFO!$T$9:$T$1000, \" \")","v":"MDA3 (IVM)"},"April & Oct 2017",76227,131942,208169,69068,119154,188222,73489,126781,200270,73489,126781,200270,96.408096868563632,96.088432796228645,96.205486888057294]
[{"$f":"IF(COUNTRY_INFO!A96=0,\" \",COUNTRY_INFO!A96)","v":"Uganda"},{"$f":"IF(COUNTRY_INFO!B96=0,\" \",COUNTRY_INFO!B96)","v":"Western"},{"$f":"IF(COUNTRY_INFO!C96=0,\" \",COUNTRY_INFO!C96)","v":"Buhweju"},{"$f":"IF(COUNTRY_INFO!$T$9:$T$1000=\"MDA3 (IVM)\", COUNTRY_INFO!$T$9:$T$1000, \" \")","v":" "},null,null,null,0,null,null,0,null,null,0,0,0,0," "," "," "]
[{"$f":"IF(COUNTRY_INFO!A97=0,\" \",COUNTRY_INFO!A97)","v":"Uganda"},{"$f":"IF(COUNTRY_INFO!B97=0,\" \",COUNTRY_INFO!B97)","v":"Western"},{"$f":"IF(COUNTRY_INFO!C97=0,\" \",COUNTRY_INFO!C97)","v":"Buliisa"},{"$f":"IF(COUNTRY_INFO!$T$9:$T$1000=\"MDA3 (IVM)\", COUNTRY_INFO!$T$9:$T$1000, \" \")","v":"MDA3 (IVM)"},"April & Oct 2017",10881,18835,29716,10761,18564,29325,10751,18548,29299,10761,18564,29325,98.897160187482768,98.561189275285372,98.68421052631578]
[{"$f":"IF(COUNTRY_INFO!A98=0,\" \",COUNTRY_INFO!A98)","v":"Uganda"},{"$f":"IF(COUNTRY_INFO!B98=0,\" \",COUNTRY_INFO!B98)","v":"Western"},{"$f":"IF(COUNTRY_INFO!C98=0,\" \",COUNTRY_INFO!C98)","v":"Bundibugyo"},{"$f":"IF(COUNTRY_INFO!$T$9:$T$1000=\"MDA3 (IVM)\", COUNTRY_INFO!$T$9:$T$1000, \" \")","v":" "},null,null,null,0,null,null,0,null,null,0,0,0,0," "," "," "]
[{"$f":"IF(COUNTRY_INFO!A99=0,\" \",COUNTRY_INFO!A99)","v":"Uganda"},{"$f":"IF(COUNTRY_INFO!B99=0,\" \",COUNTRY_INFO!B99)","v":"Western"},{"$f":"IF(COUNTRY_INFO!C99=0,\" \",COUNTRY_INFO!C99)","v":"Bushenyi"},{"$f":"IF(COUNTRY_INFO!$T$9:$T$1000=\"MDA3 (IVM)\", COUNTRY_INFO!$T$9:$T$1000, \" \")","v":" "},null,null,null,0,null,null,0,null,null,0,0,0,0," "," "," "]
[{"$f":"IF(COUNTRY_INFO!A100=0,\" \",COUNTRY_INFO!A100)","v":"Uganda"},{"$f":"IF(COUNTRY_INFO!B100=0,\" \",COUNTRY_INFO!B100)","v":"Western"},{"$f":"IF(COUNTRY_INFO!C100=0,\" \",COUNTRY_INFO!C100)","v":"Hoima"},{"$f":"IF(COUNTRY_INFO!$T$9:$T$1000=\"MDA3 (IVM)\", COUNTRY_INFO!$T$9:$T$1000, \" \")","v":"MDA3 (IVM)"},"April & Oct 2017",25004,43278,68282,23963,41340,65303,23043,39754,62797,23963,41340,65303,95.83666613341866,95.52197421322613,95.637210392197076]
[{"$f":"IF(COUNTRY_INFO!A101=0,\" \",COUNTRY_INFO!A101)","v":"Uganda"},{"$f":"IF(COUNTRY_INFO!B101=0,\" \",COUNTRY_INFO!B101)","v":"Western"},{"$f":"IF(COUNTRY_INFO!C101=0,\" \",COUNTRY_INFO!C101)","v":"Ibanda"},{"$f":"IF(COUNTRY_INFO!$T$9:$T$1000=\"MDA3 (IVM)\", COUNTRY_INFO!$T$9:$T$1000, \" \")","v":" "},null,null,null,0,null,null,0,null,null,0,0,0,0," "," "," "]
[{"$f":"IF(COUNTRY_INFO!A102=0,\" \",COUNTRY_INFO!A102)","v":"Uganda"},{"$f":"IF(COUNTRY_INFO!B102=0,\" \",COUNTRY_INFO!B102)","v":"Western"},{"$f":"IF(COUNTRY_INFO!C102=0,\" \",COUNTRY_INFO!C102)","v":"Isingiro"},{"$f":"IF(COUNTRY_INFO!$T$9:$T$1000=\"MDA3 (IVM)\", COUNTRY_INFO!$T$9:$T$1000, \" \")","v":" "},null,null,null,0,null,null,0,null,null,0,0,0,0," "," "," "]
[{"$f":"IF(COUNTRY_INFO!A103=0,\" \",COUNTRY_INFO!A103)","v":"Uganda"},{"$f":"IF(COUNTRY_INFO!B103=0,\" \",COUNTRY_INFO!B103)","v":"Western"},{"$f":"IF(COUNTRY_INFO!C103=0,\" \",COUNTRY_INFO!C103)","v":"Kabale"},{"$f":"IF(COUNTRY_INFO!$T$9:$T$1000=\"MDA3 (IVM)\", COUNTRY_INFO!$T$9:$T$1000, \" \")","v":" "},null,null,null,0,null,null,0,null,null,0,0,0,0," "," "," "]
[{"$f":"IF(COUNTRY_INFO!A104=0,\" \",COUNTRY_INFO!A104)","v":"Uganda"},{"$f":"IF(COUNTRY_INFO!B104=0,\" \",COUNTRY_INFO!B104)","v":"Western"},{"$f":"IF(COUNTRY_INFO!C104=0,\" \",COUNTRY_INFO!C104)","v":"Kabarole"},{"$f":"IF(COUNTRY_INFO!$T$9:$T$1000=\"MDA3 (IVM)\", COUNTRY_INFO!$T$9:$T$1000, \" \")","v":" "},null,null,null,0,null,null,0,null,null,0,0,0,0," "," "," "]
[{"$f":"IF(COUNTRY_INFO!A105=0,\" \",COUNTRY_INFO!A105)","v":"Uganda"},{"$f":"IF(COUNTRY_INFO!B105=0,\" \",COUNTRY_INFO!B105)","v":"Western"},{"$f":"IF(COUNTRY_INFO!C105=0,\" \",COUNTRY_INFO!C105)","v":"Kagadi"},{"$f":"IF(COUNTRY_INFO!$T$9:$T$1000=\"MDA3 (IVM)\", COUNTRY_INFO!$T$9:$T$1000, \" \")","v":" "},null,null,null,0,null,null,0,null,null,0,0,0,0," "," "," "]
[{"$f":"IF(COUNTRY_INFO!A106=0,\" \",COUNTRY_INFO!A106)","v":"Uganda"},{"$f":"IF(COUNTRY_INFO!B106=0,\" \",COUNTRY_INFO!B106)","v":"Western"},{"$f":"IF(COUNTRY_INFO!C106=0,\" \",COUNTRY_INFO!C106)","v":"Kakumiro"},{"$f":"IF(COUNTRY_INFO!$T$9:$T$1000=\"MDA3 (IVM)\", COUNTRY_INFO!$T$9:$T$1000, \" \")","v":" "},null,null,null,0,null,null,0,null,null,0,0,0,0," "," "," "]
[{"$f":"IF(COUNTRY_INFO!A107=0,\" \",COUNTRY_INFO!A107)","v":"Uganda"},{"$f":"IF(COUNTRY_INFO!B107=0,\" \",COUNTRY_INFO!B107)","v":"Western"},{"$f":"IF(COUNTRY_INFO!C107=0,\" \",COUNTRY_INFO!C107)","v":"Kamwenge"},{"$f":"IF(COUNTRY_INFO!$T$9:$T$1000=\"MDA3 (IVM)\", COUNTRY_INFO!$T$9:$T$1000, \" \")","v":" "},null,null,null,0,null,null,0,null,null,0,0,0,0," "," "," "]
[{"$f":"IF(COUNTRY_INFO!A108=0,\" \",COUNTRY_INFO!A108)","v":"Uganda"},{"$f":"IF(COUNTRY_INFO!B108=0,\" \",COUNTRY_INFO!B108)","v":"Western"},{"$f":"IF(COUNTRY_INFO!C108=0,\" \",COUNTRY_INFO!C108)","v":"Kanungu"},{"$f":"IF(COUNTRY_INFO!$T$9:$T$1000=\"MDA3 (IVM)\", COUNTRY_INFO!$T$9:$T$1000, \" \")","v":"MDA3 (IVM)"},"April & Oct 2017",19024,32929,51953,18416,31771,50187,18610,32105,50715,18610,32105,50715,97.8238015138772,97.497646451456163,97.617076973418278]
[{"$f":"IF(COUNTRY_INFO!A109=0,\" \",COUNTRY_INFO!A109)","v":"Uganda"},{"$f":"IF(COUNTRY_INFO!B109=0,\" \",COUNTRY_INFO!B109)","v":"Western"},{"$f":"IF(COUNTRY_INFO!C109=0,\" \",COUNTRY_INFO!C109)","v":"Kasese"},{"$f":"IF(COUNTRY_INFO!$T$9:$T$1000=\"MDA3 (IVM)\", COUNTRY_INFO!$T$9:$T$1000, \" \")","v":"MDA3 (IVM)"},"April & Oct 2017",40850,70708,111558,39625,68361,107986,40520,69903,110423,40520,69903,110423,99.192166462668297,98.861514962946202,98.982592014916008]
[{"$f":"IF(COUNTRY_INFO!A110=0,\" \",COUNTRY_INFO!A110)","v":"Uganda"},{"$f":"IF(COUNTRY_INFO!B110=0,\" \",COUNTRY_INFO!B110)","v":"Western"},{"$f":"IF(COUNTRY_INFO!C110=0,\" \",COUNTRY_INFO!C110)","v":"Kibaale"},{"$f":"IF(COUNTRY_INFO!$T$9:$T$1000=\"MDA3 (IVM)\", COUNTRY_INFO!$T$9:$T$1000, \" \")","v":" "},null,null,null,0,null,null,0,null,null,0,0,0,0," "," "," "]
[{"$f":"IF(COUNTRY_INFO!A111=0,\" \",COUNTRY_INFO!A111)","v":"Uganda"},{"$f":"IF(COUNTRY_INFO!B111=0,\" \",COUNTRY_INFO!B111)","v":"Western"},{"$f":"IF(COUNTRY_INFO!C111=0,\" \",COUNTRY_INFO!C111)","v":"Kiruhura"},{"$f":"IF(COUNTRY_INFO!$T$9:$T$1000=\"MDA3 (IVM)\", COUNTRY_INFO!$T$9:$T$1000, \" \")","v":" "},null,null,null,0,null,null,0,null,null,0,0,0,0," "," "," "]
[{"$f":"IF(COUNTRY_INFO!A112=0,\" \",COUNTRY_INFO!A112)","v":"Uganda"},{"$f":"IF(COUNTRY_INFO!B112=0,\" \",COUNTRY_INFO!B112)","v":"Western"},{"$f":"IF(COUNTRY_INFO!C112=0,\" \",COUNTRY_INFO!C112)","v":"Kiryandongo"},{"$f":"IF(COUNTRY_INFO!$T$9:$T$1000=\"MDA3 (IVM)\", COUNTRY_INFO!$T$9:$T$1000, \" \")","v":" "},null,null,null,0,null,null,0,null,null,0,0,0,0," "," "," "]
[{"$f":"IF(COUNTRY_INFO!A113=0,\" \",COUNTRY_INFO!A113)","v":"Uganda"},{"$f":"IF(COUNTRY_INFO!B113=0,\" \",COUNTRY_INFO!B113)","v":"Western"},{"$f":"IF(COUNTRY_INFO!C113=0,\" \",COUNTRY_INFO!C113)","v":"Kisoro"},{"$f":"IF(COUNTRY_INFO!$T$9:$T$1000=\"MDA3 (IVM)\", COUNTRY_INFO!$T$9:$T$1000, \" \")","v":"MDA3 (IVM)"},"April & Oct 2017",12115,20971,33086,11287,19471,30758,11641,20083,31724,11641,20083,31724,96.087494841106064,95.765581040484477,95.883455237864951]
[{"$f":"IF(COUNTRY_INFO!A114=0,\" \",COUNTRY_INFO!A114)","v":"Uganda"},{"$f":"IF(COUNTRY_INFO!B114=0,\" \",COUNTRY_INFO!B114)","v":"Western"},{"$f":"IF(COUNTRY_INFO!C114=0,\" \",COUNTRY_INFO!C114)","v":"Kyegegwa"},{"$f":"IF(COUNTRY_INFO!$T$9:$T$1000=\"MDA3 (IVM)\", COUNTRY_INFO!$T$9:$T$1000, \" \")","v":" "},null,null,null,0,null,null,0,null,null,0,0,0,0," "," "," "]
[{"$f":"IF(COUNTRY_INFO!A115=0,\" \",COUNTRY_INFO!A115)","v":"Uganda"},{"$f":"IF(COUNTRY_INFO!B115=0,\" \",COUNTRY_INFO!B115)","v":"Western"},{"$f":"IF(COUNTRY_INFO!C115=0,\" \",COUNTRY_INFO!C115)","v":"Kyenjojo"},{"$f":"IF(COUNTRY_INFO!$T$9:$T$1000=\"MDA3 (IVM)\", COUNTRY_INFO!$T$9:$T$1000, \" \")","v":" "},null,null,null,0,null,null,0,null,null,0,0,0,0," "," "," "]
[{"$f":"IF(COUNTRY_INFO!A116=0,\" \",COUNTRY_INFO!A116)","v":"Uganda"},{"$f":"IF(COUNTRY_INFO!B116=0,\" \",COUNTRY_INFO!B116)","v":"Western"},{"$f":"IF(COUNTRY_INFO!C116=0,\" \",COUNTRY_INFO!C116)","v":"Masindi"},{"$f":"IF(COUNTRY_INFO!$T$9:$T$1000=\"MDA3 (IVM)\", COUNTRY_INFO!$T$9:$T$1000, \" \")","v":"MDA3 (IVM)"},"April & Oct 2017",16163,27978,44141,16072,27727,43799,15742,27158,42900,16072,27727,43799,99.436985708098746,99.102866537994146,99.225210122108692]
[{"$f":"IF(COUNTRY_INFO!A117=0,\" \",COUNTRY_INFO!A117)","v":"Uganda"},{"$f":"IF(COUNTRY_INFO!B117=0,\" \",COUNTRY_INFO!B117)","v":"Western"},{"$f":"IF(COUNTRY_INFO!C117=0,\" \",COUNTRY_INFO!C117)","v":"Mbarara"},{"$f":"IF(COUNTRY_INFO!$T$9:$T$1000=\"MDA3 (IVM)\", COUNTRY_INFO!$T$9:$T$1000, \" \")","v":" "},null,null,null,0,null,null,0,null,null,0,0,0,0," "," "," "]
[{"$f":"IF(COUNTRY_INFO!A118=0,\" \",COUNTRY_INFO!A118)","v":"Uganda"},{"$f":"IF(COUNTRY_INFO!B118=0,\" \",COUNTRY_INFO!B118)","v":"Western"},{"$f":"IF(COUNTRY_INFO!C118=0,\" \",COUNTRY_INFO!C118)","v":"Mitooma"},{"$f":"IF(COUNTRY_INFO!$T$9:$T$1000=\"MDA3 (IVM)\", COUNTRY_INFO!$T$9:$T$1000, \" \")","v":" "},null,null,null,0,null,null,0,null,null,0,0,0,0," "," "," "]
[{"$f":"IF(COUNTRY_INFO!A119=0,\" \",COUNTRY_INFO!A119)","v":"Uganda"},{"$f":"IF(COUNTRY_INFO!B119=0,\" \",COUNTRY_INFO!B119)","v":"Western"},{"$f":"IF(COUNTRY_INFO!C119=0,\" \",COUNTRY_INFO!C119)","v":"Ntoroko"},{"$f":"IF(COUNTRY_INFO!$T$9:$T$1000=\"MDA3 (IVM)\", COUNTRY_INFO!$T$9:$T$1000, \" \")","v":" "},null,null,null,0,null,null,0,null,null,0,0,0,0," "," "," "]
[{"$f":"IF(COUNTRY_INFO!A120=0,\" \",COUNTRY_INFO!A120)","v":"Uganda"},{"$f":"IF(COUNTRY_INFO!B120=0,\" \",COUNTRY_INFO!B120)","v":"Western"},{"$f":"IF(COUNTRY_INFO!C120=0,\" \",COUNTRY_INFO!C120)","v":"Ntungamo"},{"$f":"IF(COUNTRY_INFO!$T$9:$T$1000=\"MDA3 (IVM)\", COUNTRY_INFO!$T$9:$T$1000, \" \")","v":" "},null,null,null,0,null,null,0,null,null,0,0,0,0," "," "," "]
[{"$f":"IF(COUNTRY_INFO!A121=0,\" \",COUNTRY_INFO!A121)","v":"Uganda"},{"$f":"IF(COUNTRY_INFO!B121=0,\" \",COUNTRY_INFO!B121)","v":"Western"},{"$f":"IF(COUNTRY_INFO!C121=0,\" \",COUNTRY_INFO!C121)","v":"Rubanda"},{"$f":"IF(COUNTRY_INFO!$T$9:$T$1000=\"MDA3 (IVM)\", COUNTRY_INFO!$T$9:$T$1000, \" \")","v":"MDA3 (IVM)"},"April & Oct 2017",9711,16809,26520,9459,16319,25778,9174,15827,25001,9459,16319,25778,97.405004633920299,97.08489499672794,97.202111613876312]
[{"$f":"IF(COUNTRY_INFO!A122=0,\" \",COUNTRY_INFO!A122)","v":"Uganda"},{"$f":"IF(COUNTRY_INFO!B122=0,\" \",COUNTRY_INFO!B122)","v":"Western"},{"$f":"IF(COUNTRY_INFO!C122=0,\" \",COUNTRY_INFO!C122)","v":"Rubirizi"},{"$f":"IF(COUNTRY_INFO!$T$9:$T$1000=\"MDA3 (IVM)\", COUNTRY_INFO!$T$9:$T$1000, \" \")","v":" "},null,null,null,0,null,null,0,null,null,0,0,0,0," "," "," "]
[{"$f":"IF(COUNTRY_INFO!A123=0,\" \",COUNTRY_INFO!A123)","v":"Uganda"},{"$f":"IF(COUNTRY_INFO!B123=0,\" \",COUNTRY_INFO!B123)","v":"Western"},{"$f":"IF(COUNTRY_INFO!C123=0,\" \",COUNTRY_INFO!C123)","v":"Rukungiri"},{"$f":"IF(COUNTRY_INFO!$T$9:$T$1000=\"MDA3 (IVM)\", COUNTRY_INFO!$T$9:$T$1000, \" \")","v":" "},null,null,null,0,null,null,0,null,null,0,0,0,0," "," "," "]
[{"$f":"IF(COUNTRY_INFO!A124=0,\" \",COUNTRY_INFO!A124)","v":"Uganda"},{"$f":"IF(COUNTRY_INFO!B124=0,\" \",COUNTRY_INFO!B124)","v":"Western"},{"$f":"IF(COUNTRY_INFO!C124=0,\" \",COUNTRY_INFO!C124)","v":"Sheema"},{"$f":"IF(COUNTRY_INFO!$T$9:$T$1000=\"MDA3 (IVM)\", COUNTRY_INFO!$T$9:$T$1000, \" \")","v":" "},null,null,null,0,null,null,0,null,null,0,0,0,0," "," "," "]

{"sheet":"T1","index":5,"n_rows":124,"n_cols":19,"rows_kept":124,"cut":false,"hidden":false,"merged":[[5,6,5,10],[5,11,5,14],[5,15,5,18],[3,0,3,2],[5,0,5,2],[5,3,6,3],[5,5,6,5],[5,4,6,4]]}
["T 1 - Praziquantel (PZQ) and Albendazole (ALB) or Mebendazole (MBD)"]
["Administrative structure, population requiring PC by age group, population treated by age group and coverage"]
[]
["TOTAL",null,null,null,null,null,{"$f":"SUM(G$9:G$1000)","v":0},0,0,0,{"$f":"SUM(K$9:K$1000)","v":0},0,0,0,0,{"$f":"IF(G4<>0, IF(L4/G4*100=0, \"-\", L4/G4*100), \" \")","v":" "},{"$f":"IF(OR(I4<>0,H4<>0), IF(M4/MAX(H4,I4)*100=0, \"-\", M4/MAX(H4,I4)*100), \" \")","v":" "},{"$f":"IF(J4<>0, IF(N4/J4*100=0, \"-\", N4/J4*100), \" \")","v":" "},{"$f":"IF(K4<>0, IF(O4/K4*100=0, \"-\", O4/K4*100), \" \")","v":" "}]
[]
[null,null,null,"PC implemented","Medicine","Date","Population targeted for T1",null,null,null,null,"Population treated",null,null,null,"Programme coverage (%)"]
["Country","Province/State","District",null,null,null,"PreSAC (ALB)","SAC (ALB)","SAC (PZQ)","Adults (PZQ)","Total","PreSAC","SAC","Adults","Total","PreSAC","SAC","Adults","Total"]
[]
[{"$f":"IF(COUNTRY_INFO!A9=0,\" \",COUNTRY_INFO!A9)","v":"Uganda"},{"$f":"IF(COUNTRY_INFO!B9=0,\" \",COUNTRY_INFO!B9)","v":"Central "},{"$f":"IF(COUNTRY_INFO!C9=0,\" \",COUNTRY_INFO!C9)","v":"Buikwe"},{"$f":"IF(OR(COUNTRY_INFO!$T$9:$T$1000=\"T1 (PZQ+ALB/MBD)\",COUNTRY_INFO!$U$9:$U$1000=\"T1 (PZQ+ALB/MBD)\"), \"T1 (PZQ+ALB/MBD)\", \" \")","v":" "},null,null,null,null,null,null,{"$f":"MAX(H9:I9)+G9+J9","v":0},null,null,null,{"$f":"SUM(L9:N9)","v":0},{"$f":"IF(G9<>0, IF(L9/G9*100=0, \"-\", L9/G9*100), \" \")","v":" "},{"$f":"IF(OR(I9<>0,H9<>0), IF(M9/MAX(H9,I9)*100=0, \"-\", M9/MAX(H9,I9)*100), \" \")","v":" "},{"$f":"IF(J9<>0, IF(N9/J9*100=0, \"-\", N9/J9*100), \" \")","v":" "}," "]
[{"$f":"IF(COUNTRY_INFO!A10=0,\" \",COUNTRY_INFO!A10)","v":"Uganda"},{"$f":"IF(COUNTRY_INFO!B10=0,\" \",COUNTRY_INFO!B10)","v":"Central "},{"$f":"IF(COUNTRY_INFO!C10=0,\" \",COUNTRY_INFO!C10)","v":"Bukomansimbi"},{"$f":"IF(OR(COUNTRY_INFO!$T$9:$T$1000=\"T1 (PZQ+ALB/MBD)\",COUNTRY_INFO!$U$9:$U$1000=\"T1 (PZQ+ALB/MBD)\"), \"T1 (PZQ+ALB/MBD)\", \" \")","v":" "},null,null,null,null,null,null,{"$f":"MAX(H10:I10)+G10+J10","v":0},null,null,null,{"$f":"SUM(L10:N10)","v":0},{"$f":"IF(G10<>0, IF(L10/G10*100=0, \"-\", L10/G10*100), \" \")","v":" "},{"$f":"IF(OR(I10<>0,H10<>0), IF(M10/MAX(H10,I10)*100=0, \"-\", M10/MAX(H10,I10)*100), \" \")","v":" "},{"$f":"IF(J10<>0, IF(N10/J10*100=0, \"-\", N10/J10*100), \" \")","v":" "},{"$f":"IF(K10<>0, IF(O10/K10*100=0, \"-\", O10/K10*100), \" \")","v":" "}]
[{"$f":"IF(COUNTRY_INFO!A11=0,\" \",COUNTRY_INFO!A11)","v":"Uganda"},{"$f":"IF(COUNTRY_INFO!B11=0,\" \",COUNTRY_INFO!B11)","v":"Central "},{"$f":"IF(COUNTRY_INFO!C11=0,\" \",COUNTRY_INFO!C11)","v":"Butambala"},{"$f":"IF(OR(COUNTRY_INFO!$T$9:$T$1000=\"T1 (PZQ+ALB/MBD)\",COUNTRY_INFO!$U$9:$U$1000=\"T1 (PZQ+ALB/MBD)\"), \"T1 (PZQ+ALB/MBD)\", \" \")","v":" "},null,null,null,null,null,null,0,null,null,null,0," "," "," "," "]
[{"$f":"IF(COUNTRY_INFO!A12=0,\" \",COUNTRY_INFO!A12)","v":"Uganda"},{"$f":"IF(COUNTRY_INFO!B12=0,\" \",COUNTRY_INFO!B12)","v":"Central "},{"$f":"IF(COUNTRY_INFO!C12=0,\" \",COUNTRY_INFO!C12)","v":"Buvuma"},{"$f":"IF(OR(COUNTRY_INFO!$T$9:$T$1000=\"T1 (PZQ+ALB/MBD)\",COUNTRY_INFO!$U$9:$U$1000=\"T1 (PZQ+ALB/MBD)\"), \"T1 (PZQ+ALB/MBD)\", \" \")","v":" "},null,null,null,null,null,null,0,null,null,null,0," "," "," "," "]
[{"$f":"IF(COUNTRY_INFO!A13=0,\" \",COUNTRY_INFO!A13)","v":"Uganda"},{"$f":"IF(COUNTRY_INFO!B13=0,\" \",COUNTRY_INFO!B13)","v":"Central "},{"$f":"IF(COUNTRY_INFO!C13=0,\" \",COUNTRY_INFO!C13)","v":"Gomba"},{"$f":"IF(OR(COUNTRY_INFO!$T$9:$T$1000=\"T1 (PZQ+ALB/MBD)\",COUNTRY_INFO!$U$9:$U$1000=\"T1 (PZQ+ALB/MBD)\"), \"T1 (PZQ+ALB/MBD)\", \" \")","v":" "},null,null,null,null,null,null,0,null,null,null,0," "," "," "," "]
[{"$f":"IF(COUNTRY_INFO!A14=0,\" \",COUNTRY_INFO!A14)","v":"Uganda"},{"$f":"IF(COUNTRY_INFO!B14=0,\" \",COUNTRY_INFO!B14)","v":"Central "},{"$f":"IF(COUNTRY_INFO!C14=0,\" \",COUNTRY_INFO!C14)","v":"Kalangala"},{"$f":"IF(OR(COUNTRY_INFO!$T$9:$T$1000=\"T1 (PZQ+ALB/MBD)\",COUNTRY_INFO!$U$9:$U$1000=\"T1 (PZQ+ALB/MBD)\"), \"T1 (PZQ+ALB/MBD)\", \" \")","v":" "},null,null,null,null,null,null,0,null,null,null,0," "," "," "," "]
[{"$f":"IF(COUNTRY_INFO!A15=0,\" \",COUNTRY_INFO!A15)","v":"Uganda"},{"$f":"IF(COUNTRY_INFO!B15=0,\" \",COUNTRY_INFO!B15)","v":"Central "},{"$f":"IF(COUNTRY_INFO!C15=0,\" \",COUNTRY_INFO!C15)","v":"Kalungu"},{"$f":"IF(OR(COUNTRY_INFO!$T$9:$T$1000=\"T1 (PZQ+ALB/MBD)\",COUNTRY_INFO!$U$9:$U$1000=\"T1 (PZQ+ALB/MBD)\"), \"T1 (PZQ+ALB/MBD)\", \" \")","v":" "},null,null,null,null,null,null,0,null,null,null,0," "," "," "," "]
[{"$f":"IF(COUNTRY_INFO!A16=0,\" \",COUNTRY_INFO!A16)","v":"Uganda"},{"$f":"IF(COUNTRY_INFO!B16=0,\" \",COUNTRY_INFO!B16)","v":"Central "},{"$f":"IF(COUNTRY_INFO!C16=0,\" \",COUNTRY_INFO!C16)","v":"Kampala"},{"$f":"IF(OR(COUNTRY_INFO!$T$9:$T$1000=\"T1 (PZQ+ALB/MBD)\",COUNTRY_INFO!$U$9:$U$1000=\"T1 (PZQ+ALB/MBD)\"), \"T1 (PZQ+ALB/MBD)\", \" \")","v":" "},null,null,null,null,null,null,0,null,null,null,0," "," "," "," "]
[{"$f":"IF(COUNTRY_INFO!A17=0,\" \",COUNTRY_INFO!A17)","v":"Uganda"},{"$f":"IF(COUNTRY_INFO!B17=0,\" \",COUNTRY_INFO!B17)","v":"Central "},{"$f":"IF(COUNTRY_INFO!C17=0,\" \",COUNTRY_INFO!C17)","v":"Kayunga"},{"$f":"IF(OR(COUNTRY_INFO!$T$9:$T$1000=\"T1 (PZQ+ALB/MBD)\",COUNTRY_INFO!$U$9:$U$1000=\"T1 (PZQ+ALB/MBD)\"), \"T1 (PZQ+ALB/MBD)\", \" \")","v":" "},null,null,null,null,null,null,0,null,null,null,0," "," "," "," "]
[{"$f":"IF(COUNTRY_INFO!A18=0,\" \",COUNTRY_INFO!A18)","v":"Uganda"},{"$f":"IF(COUNTRY_INFO!B18=0,\" \",COUNTRY_INFO!B18)","v":"Central "},{"$f":"IF(COUNTRY_INFO!C18=0,\" \",COUNTRY_INFO!C18)","v":"Kiboga"},{"$f":"IF(OR(COUNTRY_INFO!$T$9:$T$1000=\"T1 (PZQ+ALB/MBD)\",COUNTRY_INFO!$U$9:$U$1000=\"T1 (PZQ+ALB/MBD)\"), \"T1 (PZQ+ALB/MBD)\", \" \")","v":" "},null,null,null,null,null,null,0,null,null,null,0," "," "," "," "]
[{"$f":"IF(COUNTRY_INFO!A19=0,\" \",COUNTRY_INFO!A19)","v":"Uganda"},{"$f":"IF(COUNTRY_INFO!B19=0,\" \",COUNTRY_INFO!B19)","v":"Central "},{"$f":"IF(COUNTRY_INFO!C19=0,\" \",COUNTRY_INFO!C19)","v":"Kyankwanzi"},{"$f":"IF(OR(COUNTRY_INFO!$T$9:$T$1000=\"T1 (PZQ+ALB/MBD)\",COUNTRY_INFO!$U$9:$U$1000=\"T1 (PZQ+ALB/MBD)\"), \"T1 (PZQ+ALB/MBD)\", \" \")","v":" "},null,null,null,null,null,null,0,null,null,null,0," "," "," "," "]
[{"$f":"IF(COUNTRY_INFO!A20=0,\" \",COUNTRY_INFO!A20)","v":"Uganda"},{"$f":"IF(COUNTRY_INFO!B20=0,\" \",COUNTRY_INFO!B20)","v":"Central "},{"$f":"IF(COUNTRY_INFO!C20=0,\" \",COUNTRY_INFO!C20)","v":"Luwero"},{"$f":"IF(OR(COUNTRY_INFO!$T$9:$T$1000=\"T1 (PZQ+ALB/MBD)\",COUNTRY_INFO!$U$9:$U$1000=\"T1 (PZQ+ALB/MBD)\"), \"T1 (PZQ+ALB/MBD)\", \" \")","v":" "},null,null,null,null,null,null,0,null,null,null,0," "," "," "," "]
[{"$f":"IF(COUNTRY_INFO!A21=0,\" \",COUNTRY_INFO!A21)","v":"Uganda"},{"$f":"IF(COUNTRY_INFO!B21=0,\" \",COUNTRY_INFO!B21)","v":"Central "},{"$f":"IF(COUNTRY_INFO!C21=0,\" \",COUNTRY_INFO!C21)","v":"Lwengo"},{"$f":"IF(OR(COUNTRY_INFO!$T$9:$T$1000=\"T1 (PZQ+ALB/MBD)\",COUNTRY_INFO!$U$9:$U$1000=\"T1 (PZQ+ALB/MBD)\"), \"T1 (PZQ+ALB/MBD)\", \" \")","v":" "},null,null,null,null,null,null,0,null,null,null,0," "," "," "," "]
[{"$f":"IF(COUNTRY_INFO!A22=0,\" \",COUNTRY_INFO!A22)","v":"Uganda"},{"$f":"IF(COUNTRY_INFO!B22=0,\" \",COUNTRY_INFO!B22)","v":"Central "},{"$f":"IF(COUNTRY_INFO!C22=0,\" \",COUNTRY_INFO!C22)","v":"Lyantonde"},{"$f":"IF(OR(COUNTRY_INFO!$T$9:$T$1000=\"T1 (PZQ+ALB/MBD)\",COUNTRY_INFO!$U$9:$U$1000=\"T1 (PZQ+ALB/MBD)\"), \"T1 (PZQ+ALB/MBD)\", \" \")","v":" "},null,null,null,null,null,null,0,null,null,null,0," "," "," "," "]
[{"$f":"IF(COUNTRY_INFO!A23=0,\" \",COUNTRY_INFO!A23)","v":"Uganda"},{"$f":"IF(COUNTRY_INFO!B23=0,\" \",COUNTRY_INFO!B23)","v":"Central "},{"$f":"IF(COUNTRY_INFO!C23=0,\" \",COUNTRY_INFO!C23)","v":"Masaka"},{"$f":"IF(OR(COUNTRY_INFO!$T$9:$T$1000=\"T1 (PZQ+ALB/MBD)\",COUNTRY_INFO!$U$9:$U$1000=\"T1 (PZQ+ALB/MBD)\"), \"T1 (PZQ+ALB/MBD)\", \" \")","v":" "},null,null,null,null,null,null,0,null,null,null,0," "," "," "," "]
[{"$f":"IF(COUNTRY_INFO!A24=0,\" \",COUNTRY_INFO!A24)","v":"Uganda"},{"$f":"IF(COUNTRY_INFO!B24=0,\" \",COUNTRY_INFO!B24)","v":"Central "},{"$f":"IF(COUNTRY_INFO!C24=0,\" \",COUNTRY_INFO!C24)","v":"Mityana"},{"$f":"IF(OR(COUNTRY_INFO!$T$9:$T$1000=\"T1 (PZQ+ALB/MBD)\",COUNTRY_INFO!$U$9:$U$1000=\"T1 (PZQ+ALB/MBD)\"), \"T1 (PZQ+ALB/MBD)\", \" \")","v":" "},null,null,null,null,null,null,0,null,null,null,0," "," "," "," "]
[{"$f":"IF(COUNTRY_INFO!A25=0,\" \",COUNTRY_INFO!A25)","v":"Uganda"},{"$f":"IF(COUNTRY_INFO!B25=0,\" \",COUNTRY_INFO!B25)","v":"Central "},{"$f":"IF(COUNTRY_INFO!C25=0,\" \",COUNTRY_INFO!C25)","v":"Mpigi"},{"$f":"IF(OR(COUNTRY_INFO!$T$9:$T$1000=\"T1 (PZQ+ALB/MBD)\",COUNTRY_INFO!$U$9:$U$1000=\"T1 (PZQ+ALB/MBD)\"), \"T1 (PZQ+ALB/MBD)\", \" \")","v":" "},null,null,null,null,null,null,0,null,null,null,0," "," "," "," "]
[{"$f":"IF(COUNTRY_INFO!A26=0,\" \",COUNTRY_INFO!A26)","v":"Uganda"},{"$f":"IF(COUNTRY_INFO!B26=0,\" \",COUNTRY_INFO!B26)","v":"Central "},{"$f":"IF(COUNTRY_INFO!C26=0,\" \",COUNTRY_INFO!C26)","v":"Mubende"},{"$f":"IF(OR(COUNTRY_INFO!$T$9:$T$1000=\"T1 (PZQ+ALB/MBD)\",COUNTRY_INFO!$U$9:$U$1000=\"T1 (PZQ+ALB/MBD)\"), \"T1 (PZQ+ALB/MBD)\", \" \")","v":" "},null,null,null,null,null,null,0,null,null,null,0," "," "," "," "]
[{"$f":"IF(COUNTRY_INFO!A27=0,\" \",COUNTRY_INFO!A27)","v":"Uganda"},{"$f":"IF(COUNTRY_INFO!B27=0,\" \",COUNTRY_INFO!B27)","v":"Central "},{"$f":"IF(COUNTRY_INFO!C27=0,\" \",COUNTRY_INFO!C27)","v":"Mukono"},{"$f":"IF(OR(COUNTRY_INFO!$T$9:$T$1000=\"T1 (PZQ+ALB/MBD)\",COUNTRY_INFO!$U$9:$U$1000=\"T1 (PZQ+ALB/MBD)\"), \"T1 (PZQ+ALB/MBD)\", \" \")","v":" "},null,null,null,null,null,null,0,null,null,null,0," "," "," "," "]
[{"$f":"IF(COUNTRY_INFO!A28=0,\" \",COUNTRY_INFO!A28)","v":"Uganda"},{"$f":"IF(COUNTRY_INFO!B28=0,\" \",COUNTRY_INFO!B28)","v":"Central "},{"$f":"IF(COUNTRY_INFO!C28=0,\" \",COUNTRY_INFO!C28)","v":"Nakaseke"},{"$f":"IF(OR(COUNTRY_INFO!$T$9:$T$1000=\"T1 (PZQ+ALB/MBD)\",COUNTRY_INFO!$U$9:$U$1000=\"T1 (PZQ+ALB/MBD)\"), \"T1 (PZQ+ALB/MBD)\", \" \")","v":" "},null,null,null,null,null,null,0,null,null,null,0," "," "," "," "]
[{"$f":"IF(COUNTRY_INFO!A29=0,\" \",COUNTRY_INFO!A29)","v":"Uganda"},{"$f":"IF(COUNTRY_INFO!B29=0,\" \",COUNTRY_INFO!B29)","v":"Central "},{"$f":"IF(COUNTRY_INFO!C29=0,\" \",COUNTRY_INFO!C29)","v":"Nakasongola"},{"$f":"IF(OR(COUNTRY_INFO!$T$9:$T$1000=\"T1 (PZQ+ALB/MBD)\",COUNTRY_INFO!$U$9:$U$1000=\"T1 (PZQ+ALB/MBD)\"), \"T1 (PZQ+ALB/MBD)\", \" \")","v":" "},null,null,null,null,null,null,0,null,null,null,0," "," "," "," "]
[{"$f":"IF(COUNTRY_INFO!A30=0,\" \",COUNTRY_INFO!A30)","v":"Uganda"},{"$f":"IF(COUNTRY_INFO!B30=0,\" \",COUNTRY_INFO!B30)","v":"Central "},{"$f":"IF(COUNTRY_INFO!C30=0,\" \",COUNTRY_INFO!C30)","v":"Rakai"},{"$f":"IF(OR(COUNTRY_INFO!$T$9:$T$1000=\"T1 (PZQ+ALB/MBD)\",COUNTRY_INFO!$U$9:$U$1000=\"T1 (PZQ+ALB/MBD)\"), \"T1 (PZQ+ALB/MBD)\", \" \")","v":" "},null,null,null,null,null,null,0,null,null,null,0," "," "," "," "]
[{"$f":"IF(COUNTRY_INFO!A31=0,\" \",COUNTRY_INFO!A31)","v":"Uganda"},{"$f":"IF(COUNTRY_INFO!B31=0,\" \",COUNTRY_INFO!B31)","v":"Central "},{"$f":"IF(COUNTRY_INFO!C31=0,\" \",COUNTRY_INFO!C31)","v":"Sembabule"},{"$f":"IF(OR(COUNTRY_INFO!$T$9:$T$1000=\"T1 (PZQ+ALB/MBD)\",COUNTRY_INFO!$U$9:$U$1000=\"T1 (PZQ+ALB/MBD)\"), \"T1 (PZQ+ALB/MBD)\", \" \")","v":" "},null,null,null,null,null,null,0,null,null,null,0," "," "," "," "]
[{"$f":"IF(COUNTRY_INFO!A32=0,\" \",COUNTRY_INFO!A32)","v":"Uganda"},{"$f":"IF(COUNTRY_INFO!B32=0,\" \",COUNTRY_INFO!B32)","v":"Central "},{"$f":"IF(COUNTRY_INFO!C32=0,\" \",COUNTRY_INFO!C32)","v":"Wakiso"},{"$f":"IF(OR(COUNTRY_INFO!$T$9:$T$1000=\"T1 (PZQ+ALB/MBD)\",COUNTRY_INFO!$U$9:$U$1000=\"T1 (PZQ+ALB/MBD)\"), \"T1 (PZQ+ALB/MBD)\", \" \")","v":" "},null,null,null,null,null,null,0,null,null,null,0," "," "," "," "]
[{"$f":"IF(COUNTRY_INFO!A33=0,\" \",COUNTRY_INFO!A33)","v":"Uganda"},{"$f":"IF(COUNTRY_INFO!B33=0,\" \",COUNTRY_INFO!B33)","v":"Eastern "},{"$f":"IF(COUNTRY_INFO!C33=0,\" \",COUNTRY_INFO!C33)","v":"Amuria"},{"$f":"IF(OR(COUNTRY_INFO!$T$9:$T$1000=\"T1 (PZQ+ALB/MBD)\",COUNTRY_INFO!$U$9:$U$1000=\"T1 (PZQ+ALB/MBD)\"), \"T1 (PZQ+ALB/MBD)\", \" \")","v":" "},null,null,null,null,null,null,0,null,null,null,0," "," "," "," "]
[{"$f":"IF(COUNTRY_INFO!A34=0,\" \",COUNTRY_INFO!A34)","v":"Uganda"},{"$f":"IF(COUNTRY_INFO!B34=0,\" \",COUNTRY_INFO!B34)","v":"Eastern "},{"$f":"IF(COUNTRY_INFO!C34=0,\" \",COUNTRY_INFO!C34)","v":"Budaka"},{"$f":"IF(OR(COUNTRY_INFO!$T$9:$T$1000=\"T1 (PZQ+ALB/MBD)\",COUNTRY_INFO!$U$9:$U$1000=\"T1 (PZQ+ALB/MBD)\"), \"T1 (PZQ+ALB/MBD)\", \" \")","v":" "},null,null,null,null,null,null,0,null,null,null,0," "," "," "," "]
[{"$f":"IF(COUNTRY_INFO!A35=0,\" \",COUNTRY_INFO!A35)","v":"Uganda"},{"$f":"IF(COUNTRY_INFO!B35=0,\" \",COUNTRY_INFO!B35)","v":"Eastern "},{"$f":"IF(COUNTRY_INFO!C35=0,\" \",COUNTRY_INFO!C35)","v":"Bududa"},{"$f":"IF(OR(COUNTRY_INFO!$T$9:$T$1000=\"T1 (PZQ+ALB/MBD)\",COUNTRY_INFO!$U$9:$U$1000=\"T1 (PZQ+ALB/MBD)\"), \"T1 (PZQ+ALB/MBD)\", \" \")","v":" "},null,null,null,null,null,null,0,null,null,null,0," "," "," "," "]
[{"$f":"IF(COUNTRY_INFO!A36=0,\" \",COUNTRY_INFO!A36)","v":"Uganda"},{"$f":"IF(COUNTRY_INFO!B36=0,\" \",COUNTRY_INFO!B36)","v":"Eastern "},{"$f":"IF(COUNTRY_INFO!C36=0,\" \",COUNTRY_INFO!C36)","v":"Bugiri"},{"$f":"IF(OR(COUNTRY_INFO!$T$9:$T$1000=\"T1 (PZQ+ALB/MBD)\",COUNTRY_INFO!$U$9:$U$1000=\"T1 (PZQ+ALB/MBD)\"), \"T1 (PZQ+ALB/MBD)\", \" \")","v":" "},null,null,null,null,null,null,0,null,null,null,0," "," "," "," "]
[{"$f":"IF(COUNTRY_INFO!A37=0,\" \",COUNTRY_INFO!A37)","v":"Uganda"},{"$f":"IF(COUNTRY_INFO!B37=0,\" \",COUNTRY_INFO!B37)","v":"Eastern "},{"$f":"IF(COUNTRY_INFO!C37=0,\" \",COUNTRY_INFO!C37)","v":"Bukedea"},{"$f":"IF(OR(COUNTRY_INFO!$T$9:$T$1000=\"T1 (PZQ+ALB/MBD)\",COUNTRY_INFO!$U$9:$U$1000=\"T1 (PZQ+ALB/MBD)\"), \"T1 (PZQ+ALB/MBD)\", \" \")","v":" "},null,null,null,null,null,null,0,null,null,null,0," "," "," "," "]
[{"$f":"IF(COUNTRY_INFO!A38=0,\" \",COUNTRY_INFO!A38)","v":"Uganda"},{"$f":"IF(COUNTRY_INFO!B38=0,\" \",COUNTRY_INFO!B38)","v":"Eastern "},{"$f":"IF(COUNTRY_INFO!C38=0,\" \",COUNTRY_INFO!C38)","v":"Bukwo"},{"$f":"IF(OR(COUNTRY_INFO!$T$9:$T$1000=\"T1 (PZQ+ALB/MBD)\",COUNTRY_INFO!$U$9:$U$1000=\"T1 (PZQ+ALB/MBD)\"), \"T1 (PZQ+ALB/MBD)\", \" \")","v":" "},null,null,null,null,null,null,0,null,null,null,0," "," "," "," "]
[{"$f":"IF(COUNTRY_INFO!A39=0,\" \",COUNTRY_INFO!A39)","v":"Uganda"},{"$f":"IF(COUNTRY_INFO!B39=0,\" \",COUNTRY_INFO!B39)","v":"Eastern "},{"$f":"IF(COUNTRY_INFO!C39=0,\" \",COUNTRY_INFO!C39)","v":"Bulambuli"},{"$f":"IF(OR(COUNTRY_INFO!$T$9:$T$1000=\"T1 (PZQ+ALB/MBD)\",COUNTRY_INFO!$U$9:$U$1000=\"T1 (PZQ+ALB/MBD)\"), \"T1 (PZQ+ALB/MBD)\", \" \")","v":" "},null,null,null,null,null,null,0,null,null,null,0," "," "," "," "]
[{"$f":"IF(COUNTRY_INFO!A40=0,\" \",COUNTRY_INFO!A40)","v":"Uganda"},{"$f":"IF(COUNTRY_INFO!B40=0,\" \",COUNTRY_INFO!B40)","v":"Eastern "},{"$f":"IF(COUNTRY_INFO!C40=0,\" \",COUNTRY_INFO!C40)","v":"Busia"},{"$f":"IF(OR(COUNTRY_INFO!$T$9:$T$1000=\"T1 (PZQ+ALB/MBD)\",COUNTRY_INFO!$U$9:$U$1000=\"T1 (PZQ+ALB/MBD)\"), \"T1 (PZQ+ALB/MBD)\", \" \")","v":" "},null,null,null,null,null,null,0,null,null,null,0," "," "," "," "]
[{"$f":"IF(COUNTRY_INFO!A41=0,\" \",COUNTRY_INFO!A41)","v":"Uganda"},{"$f":"IF(COUNTRY_INFO!B41=0,\" \",COUNTRY_INFO!B41)","v":"Eastern "},{"$f":"IF(COUNTRY_INFO!C41=0,\" \",COUNTRY_INFO!C41)","v":"Butaleja"},{"$f":"IF(OR(COUNTRY_INFO!$T$9:$T$1000=\"T1 (PZQ+ALB/MBD)\",COUNTRY_INFO!$U$9:$U$1000=\"T1 (PZQ+ALB/MBD)\"), \"T1 (PZQ+ALB/MBD)\", \" \")","v":" "},null,null,null,null,null,null,0,null,null,null,0," "," "," "," "]
[{"$f":"IF(COUNTRY_INFO!A42=0,\" \",COUNTRY_INFO!A42)","v":"Uganda"},{"$f":"IF(COUNTRY_INFO!B42=0,\" \",COUNTRY_INFO!B42)","v":"Eastern "},{"$f":"IF(COUNTRY_INFO!C42=0,\" \",COUNTRY_INFO!C42)","v":"Buyende"},{"$f":"IF(OR(COUNTRY_INFO!$T$9:$T$1000=\"T1 (PZQ+ALB/MBD)\",COUNTRY_INFO!$U$9:$U$1000=\"T1 (PZQ+ALB/MBD)\"), \"T1 (PZQ+ALB/MBD)\", \" \")","v":" "},null,null,null,null,null,null,0,null,null,null,0," "," "," "," "]
[{"$f":"IF(COUNTRY_INFO!A43=0,\" \",COUNTRY_INFO!A43)","v":"Uganda"},{"$f":"IF(COUNTRY_INFO!B43=0,\" \",COUNTRY_INFO!B43)","v":"Eastern "},{"$f":"IF(COUNTRY_INFO!C43=0,\" \",COUNTRY_INFO!C43)","v":"Iganga"},{"$f":"IF(OR(COUNTRY_INFO!$T$9:$T$1000=\"T1 (PZQ+ALB/MBD)\",COUNTRY_INFO!$U$9:$U$1000=\"T1 (PZQ+ALB/MBD)\"), \"T1 (PZQ+ALB/MBD)\", \" \")","v":" "},null,null,null,null,null,null,0,null,null,null,0," "," "," "," "]
[{"$f":"IF(COUNTRY_INFO!A44=0,\" \",COUNTRY_INFO!A44)","v":"Uganda"},{"$f":"IF(COUNTRY_INFO!B44=0,\" \",COUNTRY_INFO!B44)","v":"Eastern "},{"$f":"IF(COUNTRY_INFO!C44=0,\" \",COUNTRY_INFO!C44)","v":"Jinja"},{"$f":"IF(OR(COUNTRY_INFO!$T$9:$T$1000=\"T1 (PZQ+ALB/MBD)\",COUNTRY_INFO!$U$9:$U$1000=\"T1 (PZQ+ALB/MBD)\"), \"T1 (PZQ+ALB/MBD)\", \" \")","v":" "},null,null,null,null,null,null,0,null,null,null,0," "," "," "," "]
[{"$f":"IF(COUNTRY_INFO!A45=0,\" \",COUNTRY_INFO!A45)","v":"Uganda"},{"$f":"IF(COUNTRY_INFO!B45=0,\" \",COUNTRY_INFO!B45)","v":"Eastern "},{"$f":"IF(COUNTRY_INFO!C45=0,\" \",COUNTRY_INFO!C45)","v":"Kaberamaido"},{"$f":"IF(OR(COUNTRY_INFO!$T$9:$T$1000=\"T1 (PZQ+ALB/MBD)\",COUNTRY_INFO!$U$9:$U$1000=\"T1 (PZQ+ALB/MBD)\"), \"T1 (PZQ+ALB/MBD)\", \" \")","v":" "},null,null,null,null,null,null,0,null,null,null,0," "," "," "," "]
[{"$f":"IF(COUNTRY_INFO!A46=0,\" \",COUNTRY_INFO!A46)","v":"Uganda"},{"$f":"IF(COUNTRY_INFO!B46=0,\" \",COUNTRY_INFO!B46)","v":"Eastern "},{"$f":"IF(COUNTRY_INFO!C46=0,\" \",COUNTRY_INFO!C46)","v":"Kaliro"},{"$f":"IF(OR(COUNTRY_INFO!$T$9:$T$1000=\"T1 (PZQ+ALB/MBD)\",COUNTRY_INFO!$U$9:$U$1000=\"T1 (PZQ+ALB/MBD)\"), \"T1 (PZQ+ALB/MBD)\", \" \")","v":" "},null,null,null,null,null,null,0,null,null,null,0," "," "," "," "]
[{"$f":"IF(COUNTRY_INFO!A47=0,\" \",COUNTRY_INFO!A47)","v":"Uganda"},{"$f":"IF(COUNTRY_INFO!B47=0,\" \",COUNTRY_INFO!B47)","v":"Eastern "},{"$f":"IF(COUNTRY_INFO!C47=0,\" \",COUNTRY_INFO!C47)","v":"Kamuli"},{"$f":"IF(OR(COUNTRY_INFO!$T$9:$T$1000=\"T1 (PZQ+ALB/MBD)\",COUNTRY_INFO!$U$9:$U$1000=\"T1 (PZQ+ALB/MBD)\"), \"T1 (PZQ+ALB/MBD)\", \" \")","v":" "},null,null,null,null,null,null,0,null,null,null,0," "," "," "," "]
[{"$f":"IF(COUNTRY_INFO!A48=0,\" \",COUNTRY_INFO!A48)","v":"Uganda"},{"$f":"IF(COUNTRY_INFO!B48=0,\" \",COUNTRY_INFO!B48)","v":"Eastern "},{"$f":"IF(COUNTRY_INFO!C48=0,\" \",COUNTRY_INFO!C48)","v":"Kapchorwa"},{"$f":"IF(OR(COUNTRY_INFO!$T$9:$T$1000=\"T1 (PZQ+ALB/MBD)\",COUNTRY_INFO!$U$9:$U$1000=\"T1 (PZQ+ALB/MBD)\"), \"T1 (PZQ+ALB/MBD)\", \" \")","v":" "},null,null,null,null,null,null,0,null,null,null,0," "," "," "," "]
[{"$f":"IF(COUNTRY_INFO!A49=0,\" \",COUNTRY_INFO!A49)","v":"Uganda"},{"$f":"IF(COUNTRY_INFO!B49=0,\" \",COUNTRY_INFO!B49)","v":"Eastern "},{"$f":"IF(COUNTRY_INFO!C49=0,\" \",COUNTRY_INFO!C49)","v":"Katakwi"},{"$f":"IF(OR(COUNTRY_INFO!$T$9:$T$1000=\"T1 (PZQ+ALB/MBD)\",COUNTRY_INFO!$U$9:$U$1000=\"T1 (PZQ+ALB/MBD)\"), \"T1 (PZQ+ALB/MBD)\", \" \")","v":" "},null,null,null,null,null,null,0,null,null,null,0," "," "," "," "]
[{"$f":"IF(COUNTRY_INFO!A50=0,\" \",COUNTRY_INFO!A50)","v":"Uganda"},{"$f":"IF(COUNTRY_INFO!B50=0,\" \",COUNTRY_INFO!B50)","v":"Eastern "},{"$f":"IF(COUNTRY_INFO!C50=0,\" \",COUNTRY_INFO!C50)","v":"Kibuku"},{"$f":"IF(OR(COUNTRY_INFO!$T$9:$T$1000=\"T1 (PZQ+ALB/MBD)\",COUNTRY_INFO!$U$9:$U$1000=\"T1 (PZQ+ALB/MBD)\"), \"T1 (PZQ+ALB/MBD)\", \" \")","v":" "},null,null,null,null,null,null,0,null,null,null,0," "," "," "," "]
[{"$f":"IF(COUNTRY_INFO!A51=0,\" \",COUNTRY_INFO!A51)","v":"Uganda"},{"$f":"IF(COUNTRY_INFO!B51=0,\" \",COUNTRY_INFO!B51)","v":"Eastern "},{"$f":"IF(COUNTRY_INFO!C51=0,\" \",COUNTRY_INFO!C51)","v":"Kumi"},{"$f":"IF(OR(COUNTRY_INFO!$T$9:$T$1000=\"T1 (PZQ+ALB/MBD)\",COUNTRY_INFO!$U$9:$U$1000=\"T1 (PZQ+ALB/MBD)\"), \"T1 (PZQ+ALB/MBD)\", \" \")","v":" "},null,null,null,null,null,null,0,null,null,null,0," "," "," "," "]
[{"$f":"IF(COUNTRY_INFO!A52=0,\" \",COUNTRY_INFO!A52)","v":"Uganda"},{"$f":"IF(COUNTRY_INFO!B52=0,\" \",COUNTRY_INFO!B52)","v":"Eastern "},{"$f":"IF(COUNTRY_INFO!C52=0,\" \",COUNTRY_INFO!C52)","v":"Kween"},{"$f":"IF(OR(COUNTRY_INFO!$T$9:$T$1000=\"T1 (PZQ+ALB/MBD)\",COUNTRY_INFO!$U$9:$U$1000=\"T1 (PZQ+ALB/MBD)\"), \"T1 (PZQ+ALB/MBD)\", \" \")","v":" "},null,null,null,null,null,null,0,null,null,null,0," "," "," "," "]
[{"$f":"IF(COUNTRY_INFO!A53=0,\" \",COUNTRY_INFO!A53)","v":"Uganda"},{"$f":"IF(COUNTRY_INFO!B53=0,\" \",COUNTRY_INFO!B53)","v":"Eastern "},{"$f":"IF(COUNTRY_INFO!C53=0,\" \",COUNTRY_INFO!C53)","v":"Luuka"},{"$f":"IF(OR(COUNTRY_INFO!$T$9:$T$1000=\"T1 (PZQ+ALB/MBD)\",COUNTRY_INFO!$U$9:$U$1000=\"T1 (PZQ+ALB/MBD)\"), \"T1 (PZQ+ALB/MBD)\", \" \")","v":" "},null,null,null,null,null,null,0,null,null,null,0," "," "," "," "]
[{"$f":"IF(COUNTRY_INFO!A54=0,\" \",COUNTRY_INFO!A54)","v":"Uganda"},{"$f":"IF(COUNTRY_INFO!B54=0,\" \",COUNTRY_INFO!B54)","v":"Eastern "},{"$f":"IF(COUNTRY_INFO!C54=0,\" \",COUNTRY_INFO!C54)","v":"Manafwa"},{"$f":"IF(OR(COUNTRY_INFO!$T$9:$T$1000=\"T1 (PZQ+ALB/MBD)\",COUNTRY_INFO!$U$9:$U$1000=\"T1 (PZQ+ALB/MBD)\"), \"T1 (PZQ+ALB/MBD)\", \" \")","v":" "},null,null,null,null,null,null,0,null,null,null,0," "," "," "," "]
[{"$f":"IF(COUNTRY_INFO!A55=0,\" \",COUNTRY_INFO!A55)","v":"Uganda"},{"$f":"IF(COUNTRY_INFO!B55=0,\" \",COUNTRY_INFO!B55)","v":"Eastern "},{"$f":"IF(COUNTRY_INFO!C55=0,\" \",COUNTRY_INFO!C55)","v":"Mayuge"},{"$f":"IF(OR(COUNTRY_INFO!$T$9:$T$1000=\"T1 (PZQ+ALB/MBD)\",COUNTRY_INFO!$U$9:$U$1000=\"T1 (PZQ+ALB/MBD)\"), \"T1 (PZQ+ALB/MBD)\", \" \")","v":" "},null,null,null,null,null,null,0,null,null,null,0," "," "," "," "]
[{"$f":"IF(COUNTRY_INFO!A56=0,\" \",COUNTRY_INFO!A56)","v":"Uganda"},{"$f":"IF(COUNTRY_INFO!B56=0,\" \",COUNTRY_INFO!B56)","v":"Eastern "},{"$f":"IF(COUNTRY_INFO!C56=0,\" \",COUNTRY_INFO!C56)","v":"Mbale"},{"$f":"IF(OR(COUNTRY_INFO!$T$9:$T$1000=\"T1 (PZQ+ALB/MBD)\",COUNTRY_INFO!$U$9:$U$1000=\"T1 (PZQ+ALB/MBD)\"), \"T1 (PZQ+ALB/MBD)\", \" \")","v":" "},null,null,null,null,null,null,0,null,null,null,0," "," "," "," "]
[{"$f":"IF(COUNTRY_INFO!A57=0,\" \",COUNTRY_INFO!A57)","v":"Uganda"},{"$f":"IF(COUNTRY_INFO!B57=0,\" \",COUNTRY_INFO!B57)","v":"Eastern "},{"$f":"IF(COUNTRY_INFO!C57=0,\" \",COUNTRY_INFO!C57)","v":"Namayingo"},{"$f":"IF(OR(COUNTRY_INFO!$T$9:$T$1000=\"T1 (PZQ+ALB/MBD)\",COUNTRY_INFO!$U$9:$U$1000=\"T1 (PZQ+ALB/MBD)\"), \"T1 (PZQ+ALB/MBD)\", \" \")","v":" "},null,null,null,null,null,null,0,null,null,null,0," "," "," "," "]
[{"$f":"IF(COUNTRY_INFO!A58=0,\" \",COUNTRY_INFO!A58)","v":"Uganda"},{"$f":"IF(COUNTRY_INFO!B58=0,\" \",COUNTRY_INFO!B58)","v":"Eastern "},{"$f":"IF(COUNTRY_INFO!C58=0,\" \",COUNTRY_INFO!C58)","v":"Namutumba"},{"$f":"IF(OR(COUNTRY_INFO!$T$9:$T$1000=\"T1 (PZQ+ALB/MBD)\",COUNTRY_INFO!$U$9:$U$1000=\"T1 (PZQ+ALB/MBD)\"), \"T1 (PZQ+ALB/MBD)\", \" \")","v":" "},null,null,null,null,null,null,0,null,null,null,0," "," "," "," "]
[{"$f":"IF(COUNTRY_INFO!A59=0,\" \",COUNTRY_INFO!A59)","v":"Uganda"},{"$f":"IF(COUNTRY_INFO!B59=0,\" \",COUNTRY_INFO!B59)","v":"Eastern "},{"$f":"IF(COUNTRY_INFO!C59=0,\" \",COUNTRY_INFO!C59)","v":"Ngora"},{"$f":"IF(OR(COUNTRY_INFO!$T$9:$T$1000=\"T1 (PZQ+ALB/MBD)\",COUNTRY_INFO!$U$9:$U$1000=\"T1 (PZQ+ALB/MBD)\"), \"T1 (PZQ+ALB/MBD)\", \" \")","v":" "},null,null,null,null,null,null,0,null,null,null,0," "," "," "," "]
[{"$f":"IF(COUNTRY_INFO!A60=0,\" \",COUNTRY_INFO!A60)","v":"Uganda"},{"$f":"IF(COUNTRY_INFO!B60=0,\" \",COUNTRY_INFO!B60)","v":"Eastern "},{"$f":"IF(COUNTRY_INFO!C60=0,\" \",COUNTRY_INFO!C60)","v":"Pallisa"},{"$f":"IF(OR(COUNTRY_INFO!$T$9:$T$1000=\"T1 (PZQ+ALB/MBD)\",COUNTRY_INFO!$U$9:$U$1000=\"T1 (PZQ+ALB/MBD)\"), \"T1 (PZQ+ALB/MBD)\", \" \")","v":" "},null,null,null,null,null,null,0,null,null,null,0," "," "," "," "]
[{"$f":"IF(COUNTRY_INFO!A61=0,\" \",COUNTRY_INFO!A61)","v":"Uganda"},{"$f":"IF(COUNTRY_INFO!B61=0,\" \",COUNTRY_INFO!B61)","v":"Eastern "},{"$f":"IF(COUNTRY_INFO!C61=0,\" \",COUNTRY_INFO!C61)","v":"Serere"},{"$f":"IF(OR(COUNTRY_INFO!$T$9:$T$1000=\"T1 (PZQ+ALB/MBD)\",COUNTRY_INFO!$U$9:$U$1000=\"T1 (PZQ+ALB/MBD)\"), \"T1 (PZQ+ALB/MBD)\", \" \")","v":" "},null,null,null,null,null,null,0,null,null,null,0," "," "," "," "]
[{"$f":"IF(COUNTRY_INFO!A62=0,\" \",COUNTRY_INFO!A62)","v":"Uganda"},{"$f":"IF(COUNTRY_INFO!B62=0,\" \",COUNTRY_INFO!B62)","v":"Eastern "},{"$f":"IF(COUNTRY_INFO!C62=0,\" \",COUNTRY_INFO!C62)","v":"Sironko"},{"$f":"IF(OR(COUNTRY_INFO!$T$9:$T$1000=\"T1 (PZQ+ALB/MBD)\",COUNTRY_INFO!$U$9:$U$1000=\"T1 (PZQ+ALB/MBD)\"), \"T1 (PZQ+ALB/MBD)\", \" \")","v":" "},null,null,null,null,null,null,0,null,null,null,0," "," "," "," "]
[{"$f":"IF(COUNTRY_INFO!A63=0,\" \",COUNTRY_INFO!A63)","v":"Uganda"},{"$f":"IF(COUNTRY_INFO!B63=0,\" \",COUNTRY_INFO!B63)","v":"Eastern "},{"$f":"IF(COUNTRY_INFO!C63=0,\" \",COUNTRY_INFO!C63)","v":"Soroti"},{"$f":"IF(OR(COUNTRY_INFO!$T$9:$T$1000=\"T1 (PZQ+ALB/MBD)\",COUNTRY_INFO!$U$9:$U$1000=\"T1 (PZQ+ALB/MBD)\"), \"T1 (PZQ+ALB/MBD)\", \" \")","v":" "},null,null,null,null,null,null,0,null,null,null,0," "," "," "," "]
[{"$f":"IF(COUNTRY_INFO!A64=0,\" \",COUNTRY_INFO!A64)","v":"Uganda"},{"$f":"IF(COUNTRY_INFO!B64=0,\" \",COUNTRY_INFO!B64)","v":"Eastern "},{"$f":"IF(COUNTRY_INFO!C64=0,\" \",COUNTRY_INFO!C64)","v":"Tororo"},{"$f":"IF(OR(COUNTRY_INFO!$T$9:$T$1000=\"T1 (PZQ+ALB/MBD)\",COUNTRY_INFO!$U$9:$U$1000=\"T1 (PZQ+ALB/MBD)\"), \"T1 (PZQ+ALB/MBD)\", \" \")","v":" "},null,null,null,null,null,null,0,null,null,null,0," "," "," "," "]
[{"$f":"IF(COUNTRY_INFO!A65=0,\" \",COUNTRY_INFO!A65)","v":"Uganda"},{"$f":"IF(COUNTRY_INFO!B65=0,\" \",COUNTRY_INFO!B65)","v":"Northern"},{"$f":"IF(COUNTRY_INFO!C65=0,\" \",COUNTRY_INFO!C65)","v":"Abim"},{"$f":"IF(OR(COUNTRY_INFO!$T$9:$T$1000=\"T1 (PZQ+ALB/MBD)\",COUNTRY_INFO!$U$9:$U$1000=\"T1 (PZQ+ALB/MBD)\"), \"T1 (PZQ+ALB/MBD)\", \" \")","v":" "},null,null,null,null,null,null,0,null,null,null,0," "," "," "," "]
[{"$f":"IF(COUNTRY_INFO!A66=0,\" \",COUNTRY_INFO!A66)","v":"Uganda"},{"$f":"IF(COUNTRY_INFO!B66=0,\" \",COUNTRY_INFO!B66)","v":"Northern"},{"$f":"IF(COUNTRY_INFO!C66=0,\" \",COUNTRY_INFO!C66)","v":"Adjumani"},{"$f":"IF(OR(COUNTRY_INFO!$T$9:$T$1000=\"T1 (PZQ+ALB/MBD)\",COUNTRY_INFO!$U$9:$U$1000=\"T1 (PZQ+ALB/MBD)\"), \"T1 (PZQ+ALB/MBD)\", \" \")","v":" "},null,null,null,null,null,null,0,null,null,null,0," "," "," "," "]
[{"$f":"IF(COUNTRY_INFO!A67=0,\" \",COUNTRY_INFO!A67)","v":"Uganda"},{"$f":"IF(COUNTRY_INFO!B67=0,\" \",COUNTRY_INFO!B67)","v":"Northern"},{"$f":"IF(COUNTRY_INFO!C67=0,\" \",COUNTRY_INFO!C67)","v":"Agago"},{"$f":"IF(OR(COUNTRY_INFO!$T$9:$T$1000=\"T1 (PZQ+ALB/MBD)\",COUNTRY_INFO!$U$9:$U$1000=\"T1 (PZQ+ALB/MBD)\"), \"T1 (PZQ+ALB/MBD)\", \" \")","v":" "},null,null,null,null,null,null,0,null,null,null,0," "," "," "," "]
[{"$f":"IF(COUNTRY_INFO!A68=0,\" \",COUNTRY_INFO!A68)","v":"Uganda"},{"$f":"IF(COUNTRY_INFO!B68=0,\" \",COUNTRY_INFO!B68)","v":"Northern"},{"$f":"IF(COUNTRY_INFO!C68=0,\" \",COUNTRY_INFO!C68)","v":"Alebtong"},{"$f":"IF(OR(COUNTRY_INFO!$T$9:$T$1000=\"T1 (PZQ+ALB/MBD)\",COUNTRY_INFO!$U$9:$U$1000=\"T1 (PZQ+ALB/MBD)\"), \"T1 (PZQ+ALB/MBD)\", \" \")","v":" "},null,null,null,null,null,null,0,null,null,null,0," "," "," "," "]
[{"$f":"IF(COUNTRY_INFO!A69=0,\" \",COUNTRY_INFO!A69)","v":"Uganda"},{"$f":"IF(COUNTRY_INFO!B69=0,\" \",COUNTRY_INFO!B69)","v":"Northern"},{"$f":"IF(COUNTRY_INFO!C69=0,\" \",COUNTRY_INFO!C69)","v":"Amolatar"},{"$f":"IF(OR(COUNTRY_INFO!$T$9:$T$1000=\"T1 (PZQ+ALB/MBD)\",COUNTRY_INFO!$U$9:$U$1000=\"T1 (PZQ+ALB/MBD)\"), \"T1 (PZQ+ALB/MBD)\", \" \")","v":" "},null,null,null,null,null,null,0,null,null,null,0," "," "," "," "]
[{"$f":"IF(COUNTRY_INFO!A70=0,\" \",COUNTRY_INFO!A70)","v":"Uganda"},{"$f":"IF(COUNTRY_INFO!B70=0,\" \",COUNTRY_INFO!B70)","v":"Northern"},{"$f":"IF(COUNTRY_INFO!C70=0,\" \",COUNTRY_INFO!C70)","v":"Amudat"},{"$f":"IF(OR(COUNTRY_INFO!$T$9:$T$1000=\"T1 (PZQ+ALB/MBD)\",COUNTRY_INFO!$U$9:$U$1000=\"T1 (PZQ+ALB/MBD)\"), \"T1 (PZQ+ALB/MBD)\", \" \")","v":" "},null,null,null,null,null,null,0,null,null,null,0," "," "," "," "]
[{"$f":"IF(COUNTRY_INFO!A71=0,\" \",COUNTRY_INFO!A71)","v":"Uganda"},{"$f":"IF(COUNTRY_INFO!B71=0,\" \",COUNTRY_INFO!B71)","v":"Northern"},{"$f":"IF(COUNTRY_INFO!C71=0,\" \",COUNTRY_INFO!C71)","v":"Amuru"},{"$f":"IF(OR(COUNTRY_INFO!$T$9:$T$1000=\"T1 (PZQ+ALB/MBD)\",COUNTRY_INFO!$U$9:$U$1000=\"T1 (PZQ+ALB/MBD)\"), \"T1 (PZQ+ALB/MBD)\", \" \")","v":" "},null,null,null,null,null,null,0,null,null,null,0," "," "," "," "]
[{"$f":"IF(COUNTRY_INFO!A72=0,\" \",COUNTRY_INFO!A72)","v":"Uganda"},{"$f":"IF(COUNTRY_INFO!B72=0,\" \",COUNTRY_INFO!B72)","v":"Northern"},{"$f":"IF(COUNTRY_INFO!C72=0,\" \",COUNTRY_INFO!C72)","v":"Apac"},{"$f":"IF(OR(COUNTRY_INFO!$T$9:$T$1000=\"T1 (PZQ+ALB/MBD)\",COUNTRY_INFO!$U$9:$U$1000=\"T1 (PZQ+ALB/MBD)\"), \"T1 (PZQ+ALB/MBD)\", \" \")","v":" "},null,null,null,null,null,null,0,null,null,null,0," "," "," "," "]
[{"$f":"IF(COUNTRY_INFO!A73=0,\" \",COUNTRY_INFO!A73)","v":"Uganda"},{"$f":"IF(COUNTRY_INFO!B73=0,\" \",COUNTRY_INFO!B73)","v":"Northern"},{"$f":"IF(COUNTRY_INFO!C73=0,\" \",COUNTRY_INFO!C73)","v":"Arua"},{"$f":"IF(OR(COUNTRY_INFO!$T$9:$T$1000=\"T1 (PZQ+ALB/MBD)\",COUNTRY_INFO!$U$9:$U$1000=\"T1 (PZQ+ALB/MBD)\"), \"T1 (PZQ+ALB/MBD)\", \" \")","v":" "},null,null,null,null,null,null,0,null,null,null,0," "," "," "," "]
[{"$f":"IF(COUNTRY_INFO!A74=0,\" \",COUNTRY_INFO!A74)","v":"Uganda"},{"$f":"IF(COUNTRY_INFO!B74=0,\" \",COUNTRY_INFO!B74)","v":"Northern"},{"$f":"IF(COUNTRY_INFO!C74=0,\" \",COUNTRY_INFO!C74)","v":"Dokolo"},{"$f":"IF(OR(COUNTRY_INFO!$T$9:$T$1000=\"T1 (PZQ+ALB/MBD)\",COUNTRY_INFO!$U$9:$U$1000=\"T1 (PZQ+ALB/MBD)\"), \"T1 (PZQ+ALB/MBD)\", \" \")","v":" "},null,null,null,null,null,null,{"$f":"MAX(H74:I74)+G74+J74","v":0},null,null,null,{"$f":"SUM(L74:N74)","v":0},{"$f":"IF(G74<>0, IF(L74/G74*100=0, \"-\", L74/G74*100), \" \")","v":" "},{"$f":"IF(OR(I74<>0,H74<>0), IF(M74/MAX(H74,I74)*100=0, \"-\", M74/MAX(H74,I74)*100), \" \")","v":" "},{"$f":"IF(J74<>0, IF(N74/J74*100=0, \"-\", N74/J74*100), \" \")","v":" "},{"$f":"IF(K74<>0, IF(O74/K74*100=0, \"-\", O74/K74*100), \" \")","v":" "}]
[{"$f":"IF(COUNTRY_INFO!A75=0,\" \",COUNTRY_INFO!A75)","v":"Uganda"},{"$f":"IF(COUNTRY_INFO!B75=0,\" \",COUNTRY_INFO!B75)","v":"Northern"},{"$f":"IF(COUNTRY_INFO!C75=0,\" \",COUNTRY_INFO!C75)","v":"Gulu"},{"$f":"IF(OR(COUNTRY_INFO!$T$9:$T$1000=\"T1 (PZQ+ALB/MBD)\",COUNTRY_INFO!$U$9:$U$1000=\"T1 (PZQ+ALB/MBD)\"), \"T1 (PZQ+ALB/MBD)\", \" \")","v":" "},null,null,null,null,null,null,0,null,null,null,0," "," "," "," "]
[{"$f":"IF(COUNTRY_INFO!A76=0,\" \",COUNTRY_INFO!A76)","v":"Uganda"},{"$f":"IF(COUNTRY_INFO!B76=0,\" \",COUNTRY_INFO!B76)","v":"Northern"},{"$f":"IF(COUNTRY_INFO!C76=0,\" \",COUNTRY_INFO!C76)","v":"Kaabong"},{"$f":"IF(OR(COUNTRY_INFO!$T$9:$T$1000=\"T1 (PZQ+ALB/MBD)\",COUNTRY_INFO!$U$9:$U$1000=\"T1 (PZQ+ALB/MBD)\"), \"T1 (PZQ+ALB/MBD)\", \" \")","v":" "},null,null,null,null,null,null,0,null,null,null,0," "," "," "," "]
[{"$f":"IF(COUNTRY_INFO!A77=0,\" \",COUNTRY_INFO!A77)","v":"Uganda"},{"$f":"IF(COUNTRY_INFO!B77=0,\" \",COUNTRY_INFO!B77)","v":"Northern"},{"$f":"IF(COUNTRY_INFO!C77=0,\" \",COUNTRY_INFO!C77)","v":"Kitgum"},{"$f":"IF(OR(COUNTRY_INFO!$T$9:$T$1000=\"T1 (PZQ+ALB/MBD)\",COUNTRY_INFO!$U$9:$U$1000=\"T1 (PZQ+ALB/MBD)\"), \"T1 (PZQ+ALB/MBD)\", \" \")","v":" "},null,null,null,null,null,null,0,null,null,null,0," "," "," "," "]
[{"$f":"IF(COUNTRY_INFO!A78=0,\" \",COUNTRY_INFO!A78)","v":"Uganda"},{"$f":"IF(COUNTRY_INFO!B78=0,\" \",COUNTRY_INFO!B78)","v":"Northern"},{"$f":"IF(COUNTRY_INFO!C78=0,\" \",COUNTRY_INFO!C78)","v":"Koboko"},{"$f":"IF(OR(COUNTRY_INFO!$T$9:$T$1000=\"T1 (PZQ+ALB/MBD)\",COUNTRY_INFO!$U$9:$U$1000=\"T1 (PZQ+ALB/MBD)\"), \"T1 (PZQ+ALB/MBD)\", \" \")","v":" "},null,null,null,null,null,null,0,null,null,null,0," "," "," "," "]
[{"$f":"IF(COUNTRY_INFO!A79=0,\" \",COUNTRY_INFO!A79)","v":"Uganda"},{"$f":"IF(COUNTRY_INFO!B79=0,\" \",COUNTRY_INFO!B79)","v":"Northern"},{"$f":"IF(COUNTRY_INFO!C79=0,\" \",COUNTRY_INFO!C79)","v":"Kole"},{"$f":"IF(OR(COUNTRY_INFO!$T$9:$T$1000=\"T1 (PZQ+ALB/MBD)\",COUNTRY_INFO!$U$9:$U$1000=\"T1 (PZQ+ALB/MBD)\"), \"T1 (PZQ+ALB/MBD)\", \" \")","v":" "},null,null,null,null,null,null,0,null,null,null,0," "," "," "," "]
[{"$f":"IF(COUNTRY_INFO!A80=0,\" \",COUNTRY_INFO!A80)","v":"Uganda"},{"$f":"IF(COUNTRY_INFO!B80=0,\" \",COUNTRY_INFO!B80)","v":"Northern"},{"$f":"IF(COUNTRY_INFO!C80=0,\" \",COUNTRY_INFO!C80)","v":"Kotido"},{"$f":"IF(OR(COUNTRY_INFO!$T$9:$T$1000=\"T1 (PZQ+ALB/MBD)\",COUNTRY_INFO!$U$9:$U$1000=\"T1 (PZQ+ALB/MBD)\"), \"T1 (PZQ+ALB/MBD)\", \" \")","v":" "},null,null,null,null,null,null,0,null,null,null,0," "," "," "," "]
[{"$f":"IF(COUNTRY_INFO!A81=0,\" \",COUNTRY_INFO!A81)","v":"Uganda"},{"$f":"IF(COUNTRY_INFO!B81=0,\" \",COUNTRY_INFO!B81)","v":"Northern"},{"$f":"IF(COUNTRY_INFO!C81=0,\" \",COUNTRY_INFO!C81)","v":"Lamwo"},{"$f":"IF(OR(COUNTRY_INFO!$T$9:$T$1000=\"T1 (PZQ+ALB/MBD)\",COUNTRY_INFO!$U$9:$U$1000=\"T1 (PZQ+ALB/MBD)\"), \"T1 (PZQ+ALB/MBD)\", \" \")","v":" "},null,null,null,null,null,null,0,null,null,null,0," "," "," "," "]
[{"$f":"IF(COUNTRY_INFO!A82=0,\" \",COUNTRY_INFO!A82)","v":"Uganda"},{"$f":"IF(COUNTRY_INFO!B82=0,\" \",COUNTRY_INFO!B82)","v":"Northern"},{"$f":"IF(COUNTRY_INFO!C82=0,\" \",COUNTRY_INFO!C82)","v":"Lira"},{"$f":"IF(OR(COUNTRY_INFO!$T$9:$T$1000=\"T1 (PZQ+ALB/MBD)\",COUNTRY_INFO!$U$9:$U$1000=\"T1 (PZQ+ALB/MBD)\"), \"T1 (PZQ+ALB/MBD)\", \" \")","v":" "},null,null,null,null,null,null,0,null,null,null,0," "," "," "," "]
[{"$f":"IF(COUNTRY_INFO!A83=0,\" \",COUNTRY_INFO!A83)","v":"Uganda"},{"$f":"IF(COUNTRY_INFO!B83=0,\" \",COUNTRY_INFO!B83)","v":"Northern"},{"$f":"IF(COUNTRY_INFO!C83=0,\" \",COUNTRY_INFO!C83)","v":"Maracha"},{"$f":"IF(OR(COUNTRY_INFO!$T$9:$T$1000=\"T1 (PZQ+ALB/MBD)\",COUNTRY_INFO!$U$9:$U$1000=\"T1 (PZQ+ALB/MBD)\"), \"T1 (PZQ+ALB/MBD)\", \" \")","v":" "},null,null,null,null,null,null,0,null,null,null,0," "," "," "," "]
[{"$f":"IF(COUNTRY_INFO!A84=0,\" \",COUNTRY_INFO!A84)","v":"Uganda"},{"$f":"IF(COUNTRY_INFO!B84=0,\" \",COUNTRY_INFO!B84)","v":"Northern"},{"$f":"IF(COUNTRY_INFO!C84=0,\" \",COUNTRY_INFO!C84)","v":"Moroto"},{"$f":"IF(OR(COUNTRY_INFO!$T$9:$T$1000=\"T1 (PZQ+ALB/MBD)\",COUNTRY_INFO!$U$9:$U$1000=\"T1 (PZQ+ALB/MBD)\"), \"T1 (PZQ+ALB/MBD)\", \" \")","v":" "},null,null,null,null,null,null,0,null,null,null,0," "," "," "," "]
[{"$f":"IF(COUNTRY_INFO!A85=0,\" \",COUNTRY_INFO!A85)","v":"Uganda"},{"$f":"IF(COUNTRY_INFO!B85=0,\" \",COUNTRY_INFO!B85)","v":"Northern"},{"$f":"IF(COUNTRY_INFO!C85=0,\" \",COUNTRY_INFO!C85)","v":"Moyo"},{"$f":"IF(OR(COUNTRY_INFO!$T$9:$T$1000=\"T1 (PZQ+ALB/MBD)\",COUNTRY_INFO!$U$9:$U$1000=\"T1 (PZQ+ALB/MBD)\"), \"T1 (PZQ+ALB/MBD)\", \" \")","v":" "},null,null,null,null,null,null,0,null,null,null,0," "," "," "," "]
[{"$f":"IF(COUNTRY_INFO!A86=0,\" \",COUNTRY_INFO!A86)","v":"Uganda"},{"$f":"IF(COUNTRY_INFO!B86=0,\" \",COUNTRY_INFO!B86)","v":"Northern"},{"$f":"IF(COUNTRY_INFO!C86=0,\" \",COUNTRY_INFO!C86)","v":"Nakapiripirit"},{"$f":"IF(OR(COUNTRY_INFO!$T$9:$T$1000=\"T1 (PZQ+ALB/MBD)\",COUNTRY_INFO!$U$9:$U$1000=\"T1 (PZQ+ALB/MBD)\"), \"T1 (PZQ+ALB/MBD)\", \" \")","v":" "},null,null,null,null,null,null,0,null,null,null,0," "," "," "," "]
[{"$f":"IF(COUNTRY_INFO!A87=0,\" \",COUNTRY_INFO!A87)","v":"Uganda"},{"$f":"IF(COUNTRY_INFO!B87=0,\" \",COUNTRY_INFO!B87)","v":"Northern"},{"$f":"IF(COUNTRY_INFO!C87=0,\" \",COUNTRY_INFO!C87)","v":"Napak"},{"$f":"IF(OR(COUNTRY_INFO!$T$9:$T$1000=\"T1 (PZQ+ALB/MBD)\",COUNTRY_INFO!$U$9:$U$1000=\"T1 (PZQ+ALB/MBD)\"), \"T1 (PZQ+ALB/MBD)\", \" \")","v":" "},null,null,null,null,null,null,0,null,null,null,0," "," "," "," "]
[{"$f":"IF(COUNTRY_INFO!A88=0,\" \",COUNTRY_INFO!A88)","v":"Uganda"},{"$f":"IF(COUNTRY_INFO!B88=0,\" \",COUNTRY_INFO!B88)","v":"Northern"},{"$f":"IF(COUNTRY_INFO!C88=0,\" \",COUNTRY_INFO!C88)","v":"Nebbi"},{"$f":"IF(OR(COUNTRY_INFO!$T$9:$T$1000=\"T1 (PZQ+ALB/MBD)\",COUNTRY_INFO!$U$9:$U$1000=\"T1 (PZQ+ALB/MBD)\"), \"T1 (PZQ+ALB/MBD)\", \" \")","v":" "},null,null,null,null,null,null,0,null,null,null,0," "," "," "," "]
[{"$f":"IF(COUNTRY_INFO!A89=0,\" \",COUNTRY_INFO!A89)","v":"Uganda"},{"$f":"IF(COUNTRY_INFO!B89=0,\" \",COUNTRY_INFO!B89)","v":"Northern"},{"$f":"IF(COUNTRY_INFO!C89=0,\" \",COUNTRY_INFO!C89)","v":"Nwoya"},{"$f":"IF(OR(COUNTRY_INFO!$T$9:$T$1000=\"T1 (PZQ+ALB/MBD)\",COUNTRY_INFO!$U$9:$U$1000=\"T1 (PZQ+ALB/MBD)\"), \"T1 (PZQ+ALB/MBD)\", \" \")","v":" "},null,null,null,null,null,null,0,null,null,null,0," "," "," "," "]
[{"$f":"IF(COUNTRY_INFO!A90=0,\" \",COUNTRY_INFO!A90)","v":"Uganda"},{"$f":"IF(COUNTRY_INFO!B90=0,\" \",COUNTRY_INFO!B90)","v":"Northern"},{"$f":"IF(COUNTRY_INFO!C90=0,\" \",COUNTRY_INFO!C90)","v":"Omoro"},{"$f":"IF(OR(COUNTRY_INFO!$T$9:$T$1000=\"T1 (PZQ+ALB/MBD)\",COUNTRY_INFO!$U$9:$U$1000=\"T1 (PZQ+ALB/MBD)\"), \"T1 (PZQ+ALB/MBD)\", \" \")","v":" "},null,null,null,null,null,null,0,null,null,null,0," "," "," "," "]
[{"$f":"IF(COUNTRY_INFO!A91=0,\" \",COUNTRY_INFO!A91)","v":"Uganda"},{"$f":"IF(COUNTRY_INFO!B91=0,\" \",COUNTRY_INFO!B91)","v":"Northern"},{"$f":"IF(COUNTRY_INFO!C91=0,\" \",COUNTRY_INFO!C91)","v":"Otuke"},{"$f":"IF(OR(COUNTRY_INFO!$T$9:$T$1000=\"T1 (PZQ+ALB/MBD)\",COUNTRY_INFO!$U$9:$U$1000=\"T1 (PZQ+ALB/MBD)\"), \"T1 (PZQ+ALB/MBD)\", \" \")","v":" "},null,null,null,null,null,null,0,null,null,null,0," "," "," "," "]
[{"$f":"IF(COUNTRY_INFO!A92=0,\" \",COUNTRY_INFO!A92)","v":"Uganda"},{"$f":"IF(COUNTRY_INFO!B92=0,\" \",COUNTRY_INFO!B92)","v":"Northern"},{"$f":"IF(COUNTRY_INFO!C92=0,\" \",COUNTRY_INFO!C92)","v":"Oyam"},{"$f":"IF(OR(COUNTRY_INFO!$T$9:$T$1000=\"T1 (PZQ+ALB/MBD)\",COUNTRY_INFO!$U$9:$U$1000=\"T1 (PZQ+ALB/MBD)\"), \"T1 (PZQ+ALB/MBD)\", \" \")","v":" "},null,null,null,null,null,null,0,null,null,null,0," "," "," "," "]
[{"$f":"IF(COUNTRY_INFO!A93=0,\" \",COUNTRY_INFO!A93)","v":"Uganda"},{"$f":"IF(COUNTRY_INFO!B93=0,\" \",COUNTRY_INFO!B93)","v":"Northern"},{"$f":"IF(COUNTRY_INFO!C93=0,\" \",COUNTRY_INFO!C93)","v":"Pader"},{"$f":"IF(OR(COUNTRY_INFO!$T$9:$T$1000=\"T1 (PZQ+ALB/MBD)\",COUNTRY_INFO!$U$9:$U$1000=\"T1 (PZQ+ALB/MBD)\"), \"T1 (PZQ+ALB/MBD)\", \" \")","v":" "},null,null,null,null,null,null,0,null,null,null,0," "," "," "," "]
[{"$f":"IF(COUNTRY_INFO!A94=0,\" \",COUNTRY_INFO!A94)","v":"Uganda"},{"$f":"IF(COUNTRY_INFO!B94=0,\" \",COUNTRY_INFO!B94)","v":"Northern"},{"$f":"IF(COUNTRY_INFO!C94=0,\" \",COUNTRY_INFO!C94)","v":"Yumbe"},{"$f":"IF(OR(COUNTRY_INFO!$T$9:$T$1000=\"T1 (PZQ+ALB/MBD)\",COUNTRY_INFO!$U$9:$U$1000=\"T1 (PZQ+ALB/MBD)\"), \"T1 (PZQ+ALB/MBD)\", \" \")","v":" "},null,null,null,null,null,null,0,null,null,null,0," "," "," "," "]
[{"$f":"IF(COUNTRY_INFO!A95=0,\" \",COUNTRY_INFO!A95)","v":"Uganda"},{"$f":"IF(COUNTRY_INFO!B95=0,\" \",COUNTRY_INFO!B95)","v":"Northern"},{"$f":"IF(COUNTRY_INFO!C95=0,\" \",COUNTRY_INFO!C95)","v":"Zombo"},{"$f":"IF(OR(COUNTRY_INFO!$T$9:$T$1000=\"T1 (PZQ+ALB/MBD)\",COUNTRY_INFO!$U$9:$U$1000=\"T1 (PZQ+ALB/MBD)\"), \"T1 (PZQ+ALB/MBD)\", \" \")","v":" "},null,null,null,null,null,null,0,null,null,null,0," "," "," "," "]
[{"$f":"IF(COUNTRY_INFO!A96=0,\" \",COUNTRY_INFO!A96)","v":"Uganda"},{"$f":"IF(COUNTRY_INFO!B96=0,\" \",COUNTRY_INFO!B96)","v":"Western"},{"$f":"IF(COUNTRY_INFO!C96=0,\" \",COUNTRY_INFO!C96)","v":"Buhweju"},{"$f":"IF(OR(COUNTRY_INFO!$T$9:$T$1000=\"T1 (PZQ+ALB/MBD)\",COUNTRY_INFO!$U$9:$U$1000=\"T1 (PZQ+ALB/MBD)\"), \"T1 (PZQ+ALB/MBD)\", \" \")","v":" "},null,null,null,null,null,null,0,null,null,null,0," "," "," "," "]
[{"$f":"IF(COUNTRY_INFO!A97=0,\" \",COUNTRY_INFO!A97)","v":"Uganda"},{"$f":"IF(COUNTRY_INFO!B97=0,\" \",COUNTRY_INFO!B97)","v":"Western"},{"$f":"IF(COUNTRY_INFO!C97=0,\" \",COUNTRY_INFO!C97)","v":"Buliisa"},{"$f":"IF(OR(COUNTRY_INFO!$T$9:$T$1000=\"T1 (PZQ+ALB/MBD)\",COUNTRY_INFO!$U$9:$U$1000=\"T1 (PZQ+ALB/MBD)\"), \"T1 (PZQ+ALB/MBD)\", \" \")","v":" "},null,null,null,null,null,null,0,null,null,null,0," "," "," "," "]
[{"$f":"IF(COUNTRY_INFO!A98=0,\" \",COUNTRY_INFO!A98)","v":"Uganda"},{"$f":"IF(COUNTRY_INFO!B98=0,\" \",COUNTRY_INFO!B98)","v":"Western"},{"$f":"IF(COUNTRY_INFO!C98=0,\" \",COUNTRY_INFO!C98)","v":"Bundibugyo"},{"$f":"IF(OR(COUNTRY_INFO!$T$9:$T$1000=\"T1 (PZQ+ALB/MBD)\",COUNTRY_INFO!$U$9:$U$1000=\"T1 (PZQ+ALB/MBD)\"), \"T1 (PZQ+ALB/MBD)\", \" \")","v":" "},null,null,null,null,null,null,0,null,null,null,0," "," "," "," "]
[{"$f":"IF(COUNTRY_INFO!A99=0,\" \",COUNTRY_INFO!A99)","v":"Uganda"},{"$f":"IF(COUNTRY_INFO!B99=0,\" \",COUNTRY_INFO!B99)","v":"Western"},{"$f":"IF(COUNTRY_INFO!C99=0,\" \",COUNTRY_INFO!C99)","v":"Bushenyi"},{"$f":"IF(OR(COUNTRY_INFO!$T$9:$T$1000=\"T1 (PZQ+ALB/MBD)\",COUNTRY_INFO!$U$9:$U$1000=\"T1 (PZQ+ALB/MBD)\"), \"T1 (PZQ+ALB/MBD)\", \" \")","v":" "},null,null,null,null,null,null,0,null,null,null,0," "," "," "," "]
[{"$f":"IF(COUNTRY_INFO!A100=0,\" \",COUNTRY_INFO!A100)","v":"Uganda"},{"$f":"IF(COUNTRY_INFO!B100=0,\" \",COUNTRY_INFO!B100)","v":"Western"},{"$f":"IF(COUNTRY_INFO!C100=0,\" \",COUNTRY_INFO!C100)","v":"Hoima"},{"$f":"IF(OR(COUNTRY_INFO!$T$9:$T$1000=\"T1 (PZQ+ALB/MBD)\",COUNTRY_INFO!$U$9:$U$1000=\"T1 (PZQ+ALB/MBD)\"), \"T1 (PZQ+ALB/MBD)\", \" \")","v":" "},null,null,null,null,null,null,0,null,null,null,0," "," "," "," "]
[{"$f":"IF(COUNTRY_INFO!A101=0,\" \",COUNTRY_INFO!A101)","v":"Uganda"},{"$f":"IF(COUNTRY_INFO!B101=0,\" \",COUNTRY_INFO!B101)","v":"Western"},{"$f":"IF(COUNTRY_INFO!C101=0,\" \",COUNTRY_INFO!C101)","v":"Ibanda"},{"$f":"IF(OR(COUNTRY_INFO!$T$9:$T$1000=\"T1 (PZQ+ALB/MBD)\",COUNTRY_INFO!$U$9:$U$1000=\"T1 (PZQ+ALB/MBD)\"), \"T1 (PZQ+ALB/MBD)\", \" \")","v":" "},null,null,null,null,null,null,0,null,null,null,0," "," "," "," "]
[{"$f":"IF(COUNTRY_INFO!A102=0,\" \",COUNTRY_INFO!A102)","v":"Uganda"},{"$f":"IF(COUNTRY_INFO!B102=0,\" \",COUNTRY_INFO!B102)","v":"Western"},{"$f":"IF(COUNTRY_INFO!C102=0,\" \",COUNTRY_INFO!C102)","v":"Isingiro"},{"$f":"IF(OR(COUNTRY_INFO!$T$9:$T$1000=\"T1 (PZQ+ALB/MBD)\",COUNTRY_INFO!$U$9:$U$1000=\"T1 (PZQ+ALB/MBD)\"), \"T1 (PZQ+ALB/MBD)\", \" \")","v":" "},null,null,null,null,null,null,0,null,null,null,0," "," "," "," "]
[{"$f":"IF(COUNTRY_INFO!A103=0,\" \",COUNTRY_INFO!A103)","v":"Uganda"},{"$f":"IF(COUNTRY_INFO!B103=0,\" \",COUNTRY_INFO!B103)","v":"Western"},{"$f":"IF(COUNTRY_INFO!C103=0,\" \",COUNTRY_INFO!C103)","v":"Kabale"},{"$f":"IF(OR(COUNTRY_INFO!$T$9:$T$1000=\"T1 (PZQ+ALB/MBD)\",COUNTRY_INFO!$U$9:$U$1000=\"T1 (PZQ+ALB/MBD)\"), \"T1 (PZQ+ALB/MBD)\", \" \")","v":" "},null,null,null,null,null,null,0,null,null,null,0," "," "," "," "]
[{"$f":"IF(COUNTRY_INFO!A104=0,\" \",COUNTRY_INFO!A104)","v":"Uganda"},{"$f":"IF(COUNTRY_INFO!B104=0,\" \",COUNTRY_INFO!B104)","v":"Western"},{"$f":"IF(COUNTRY_INFO!C104=0,\" \",COUNTRY_INFO!C104)","v":"Kabarole"},{"$f":"IF(OR(COUNTRY_INFO!$T$9:$T$1000=\"T1 (PZQ+ALB/MBD)\",COUNTRY_INFO!$U$9:$U$1000=\"T1 (PZQ+ALB/MBD)\"), \"T1 (PZQ+ALB/MBD)\", \" \")","v":" "},null,null,null,null,null,null,0,null,null,null,0," "," "," "," "]
[{"$f":"IF(COUNTRY_INFO!A105=0,\" \",COUNTRY_INFO!A105)","v":"Uganda"},{"$f":"IF(COUNTRY_INFO!B105=0,\" \",COUNTRY_INFO!B105)","v":"Western"},{"$f":"IF(COUNTRY_INFO!C105=0,\" \",COUNTRY_INFO!C105)","v":"Kagadi"},{"$f":"IF(OR(COUNTRY_INFO!$T$9:$T$1000=\"T1 (PZQ+ALB/MBD)\",COUNTRY_INFO!$U$9:$U$1000=\"T1 (PZQ+ALB/MBD)\"), \"T1 (PZQ+ALB/MBD)\", \" \")","v":" "},null,null,null,null,null,null,0,null,null,null,0," "," "," "," "]
[{"$f":"IF(COUNTRY_INFO!A106=0,\" \",COUNTRY_INFO!A106)","v":"Uganda"},{"$f":"IF(COUNTRY_INFO!B106=0,\" \",COUNTRY_INFO!B106)","v":"Western"},{"$f":"IF(COUNTRY_INFO!C106=0,\" \",COUNTRY_INFO!C106)","v":"Kakumiro"},{"$f":"IF(OR(COUNTRY_INFO!$T$9:$T$1000=\"T1 (PZQ+ALB/MBD)\",COUNTRY_INFO!$U$9:$U$1000=\"T1 (PZQ+ALB/MBD)\"), \"T1 (PZQ+ALB/MBD)\", \" \")","v":" "},null,null,null,null,null,null,0,null,null,null,0," "," "," "," "]
[{"$f":"IF(COUNTRY_INFO!A107=0,\" \",COUNTRY_INFO!A107)","v":"Uganda"},{"$f":"IF(COUNTRY_INFO!B107=0,\" \",COUNTRY_INFO!B107)","v":"Western"},{"$f":"IF(COUNTRY_INFO!C107=0,\" \",COUNTRY_INFO!C107)","v":"Kamwenge"},{"$f":"IF(OR(COUNTRY_INFO!$T$9:$T$1000=\"T1 (PZQ+ALB/MBD)\",COUNTRY_INFO!$U$9:$U$1000=\"T1 (PZQ+ALB/MBD)\"), \"T1 (PZQ+ALB/MBD)\", \" \")","v":" "},null,null,null,null,null,null,0,null,null,null,0," "," "," "," "]
[{"$f":"IF(COUNTRY_INFO!A108=0,\" \",COUNTRY_INFO!A108)","v":"Uganda"},{"$f":"IF(COUNTRY_INFO!B108=0,\" \",COUNTRY_INFO!B108)","v":"Western"},{"$f":"IF(COUNTRY_INFO!C108=0,\" \",COUNTRY_INFO!C108)","v":"Kanungu"},{"$f":"IF(OR(COUNTRY_INFO!$T$9:$T$1000=\"T1 (PZQ+ALB/MBD)\",COUNTRY_INFO!$U$9:$U$1000=\"T1 (PZQ+ALB/MBD)\"), \"T1 (PZQ+ALB/MBD)\", \" \")","v":" "},null,null,null,null,null,null,0,null,null,null,0," "," "," "," "]
[{"$f":"IF(COUNTRY_INFO!A109=0,\" \",COUNTRY_INFO!A109)","v":"Uganda"},{"$f":"IF(COUNTRY_INFO!B109=0,\" \",COUNTRY_INFO!B109)","v":"Western"},{"$f":"IF(COUNTRY_INFO!C109=0,\" \",COUNTRY_INFO!C109)","v":"Kasese"},{"$f":"IF(OR(COUNTRY_INFO!$T$9:$T$1000=\"T1 (PZQ+ALB/MBD)\",COUNTRY_INFO!$U$9:$U$1000=\"T1 (PZQ+ALB/MBD)\"), \"T1 (PZQ+ALB/MBD)\", \" \")","v":" "},null,null,null,null,null,null,0,null,null,null,0," "," "," "," "]
[{"$f":"IF(COUNTRY_INFO!A110=0,\" \",COUNTRY_INFO!A110)","v":"Uganda"},{"$f":"IF(COUNTRY_INFO!B110=0,\" \",COUNTRY_INFO!B110)","v":"Western"},{"$f":"IF(COUNTRY_INFO!C110=0,\" \",COUNTRY_INFO!C110)","v":"Kibaale"},{"$f":"IF(OR(COUNTRY_INFO!$T$9:$T$1000=\"T1 (PZQ+ALB/MBD)\",COUNTRY_INFO!$U$9:$U$1000=\"T1 (PZQ+ALB/MBD)\"), \"T1 (PZQ+ALB/MBD)\", \" \")","v":" "},null,null,null,null,null,null,0,null,null,null,0," "," "," "," "]
[{"$f":"IF(COUNTRY_INFO!A111=0,\" \",COUNTRY_INFO!A111)","v":"Uganda"},{"$f":"IF(COUNTRY_INFO!B111=0,\" \",COUNTRY_INFO!B111)","v":"Western"},{"$f":"IF(COUNTRY_INFO!C111=0,\" \",COUNTRY_INFO!C111)","v":"Kiruhura"},{"$f":"IF(OR(COUNTRY_INFO!$T$9:$T$1000=\"T1 (PZQ+ALB/MBD)\",COUNTRY_INFO!$U$9:$U$1000=\"T1 (PZQ+ALB/MBD)\"), \"T1 (PZQ+ALB/MBD)\", \" \")","v":" "},null,null,null,null,null,null,0,null,null,null,0," "," "," "," "]
[{"$f":"IF(COUNTRY_INFO!A112=0,\" \",COUNTRY_INFO!A112)","v":"Uganda"},{"$f":"IF(COUNTRY_INFO!B112=0,\" \",COUNTRY_INFO!B112)","v":"Western"},{"$f":"IF(COUNTRY_INFO!C112=0,\" \",COUNTRY_INFO!C112)","v":"Kiryandongo"},{"$f":"IF(OR(COUNTRY_INFO!$T$9:$T$1000=\"T1 (PZQ+ALB/MBD)\",COUNTRY_INFO!$U$9:$U$1000=\"T1 (PZQ+ALB/MBD)\"), \"T1 (PZQ+ALB/MBD)\", \" \")","v":" "},null,null,null,null,null,null,0,null,null,null,0," "," "," "," "]
[{"$f":"IF(COUNTRY_INFO!A113=0,\" \",COUNTRY_INFO!A113)","v":"Uganda"},{"$f":"IF(COUNTRY_INFO!B113=0,\" \",COUNTRY_INFO!B113)","v":"Western"},{"$f":"IF(COUNTRY_INFO!C113=0,\" \",COUNTRY_INFO!C113)","v":"Kisoro"},{"$f":"IF(OR(COUNTRY_INFO!$T$9:$T$1000=\"T1 (PZQ+ALB/MBD)\",COUNTRY_INFO!$U$9:$U$1000=\"T1 (PZQ+ALB/MBD)\"), \"T1 (PZQ+ALB/MBD)\", \" \")","v":" "},null,null,null,null,null,null,0,null,null,null,0," "," "," "," "]
[{"$f":"IF(COUNTRY_INFO!A114=0,\" \",COUNTRY_INFO!A114)","v":"Uganda"},{"$f":"IF(COUNTRY_INFO!B114=0,\" \",COUNTRY_INFO!B114)","v":"Western"},{"$f":"IF(COUNTRY_INFO!C114=0,\" \",COUNTRY_INFO!C114)","v":"Kyegegwa"},{"$f":"IF(OR(COUNTRY_INFO!$T$9:$T$1000=\"T1 (PZQ+ALB/MBD)\",COUNTRY_INFO!$U$9:$U$1000=\"T1 (PZQ+ALB/MBD)\"), \"T1 (PZQ+ALB/MBD)\", \" \")","v":" "},null,null,null,null,null,null,0,null,null,null,0," "," "," "," "]
[{"$f":"IF(COUNTRY_INFO!A115=0,\" \",COUNTRY_INFO!A115)","v":"Uganda"},{"$f":"IF(COUNTRY_INFO!B115=0,\" \",COUNTRY_INFO!B115)","v":"Western"},{"$f":"IF(COUNTRY_INFO!C115=0,\" \",COUNTRY_INFO!C115)","v":"Kyenjojo"},{"$f":"IF(OR(COUNTRY_INFO!$T$9:$T$1000=\"T1 (PZQ+ALB/MBD)\",COUNTRY_INFO!$U$9:$U$1000=\"T1 (PZQ+ALB/MBD)\"), \"T1 (PZQ+ALB/MBD)\", \" \")","v":" "},null,null,null,null,null,null,0,null,null,null,0," "," "," "," "]
[{"$f":"IF(COUNTRY_INFO!A116=0,\" \",COUNTRY_INFO!A116)","v":"Uganda"},{"$f":"IF(COUNTRY_INFO!B116=0,\" \",COUNTRY_INFO!B116)","v":"Western"},{"$f":"IF(COUNTRY_INFO!C116=0,\" \",COUNTRY_INFO!C116)","v":"Masindi"},{"$f":"IF(OR(COUNTRY_INFO!$T$9:$T$1000=\"T1 (PZQ+ALB/MBD)\",COUNTRY_INFO!$U$9:$U$1000=\"T1 (PZQ+ALB/MBD)\"), \"T1 (PZQ+ALB/MBD)\", \" \")","v":" "},null,null,null,null,null,null,0,null,null,null,0," "," "," "," "]
[{"$f":"IF(COUNTRY_INFO!A117=0,\" \",COUNTRY_INFO!A117)","v":"Uganda"},{"$f":"IF(COUNTRY_INFO!B117=0,\" \",COUNTRY_INFO!B117)","v":"Western"},{"$f":"IF(COUNTRY_INFO!C117=0,\" \",COUNTRY_INFO!C117)","v":"Mbarara"},{"$f":"IF(OR(COUNTRY_INFO!$T$9:$T$1000=\"T1 (PZQ+ALB/MBD)\",COUNTRY_INFO!$U$9:$U$1000=\"T1 (PZQ+ALB/MBD)\"), \"T1 (PZQ+ALB/MBD)\", \" \")","v":" "},null,null,null,null,null,null,0,null,null,null,0," "," "," "," "]
[{"$f":"IF(COUNTRY_INFO!A118=0,\" \",COUNTRY_INFO!A118)","v":"Uganda"},{"$f":"IF(COUNTRY_INFO!B118=0,\" \",COUNTRY_INFO!B118)","v":"Western"},{"$f":"IF(COUNTRY_INFO!C118=0,\" \",COUNTRY_INFO!C118)","v":"Mitooma"},{"$f":"IF(OR(COUNTRY_INFO!$T$9:$T$1000=\"T1 (PZQ+ALB/MBD)\",COUNTRY_INFO!$U$9:$U$1000=\"T1 (PZQ+ALB/MBD)\"), \"T1 (PZQ+ALB/MBD)\", \" \")","v":" "},null,null,null,null,null,null,0,null,null,null,0," "," "," "," "]
[{"$f":"IF(COUNTRY_INFO!A119=0,\" \",COUNTRY_INFO!A119)","v":"Uganda"},{"$f":"IF(COUNTRY_INFO!B119=0,\" \",COUNTRY_INFO!B119)","v":"Western"},{"$f":"IF(COUNTRY_INFO!C119=0,\" \",COUNTRY_INFO!C119)","v":"Ntoroko"},{"$f":"IF(OR(COUNTRY_INFO!$T$9:$T$1000=\"T1 (PZQ+ALB/MBD)\",COUNTRY_INFO!$U$9:$U$1000=\"T1 (PZQ+ALB/MBD)\"), \"T1 (PZQ+ALB/MBD)\", \" \")","v":" "},null,null,null,null,null,null,0,null,null,null,0," "," "," "," "]
[{"$f":"IF(COUNTRY_INFO!A120=0,\" \",COUNTRY_INFO!A120)","v":"Uganda"},{"$f":"IF(COUNTRY_INFO!B120=0,\" \",COUNTRY_INFO!B120)","v":"Western"},{"$f":"IF(COUNTRY_INFO!C120=0,\" \",COUNTRY_INFO!C120)","v":"Ntungamo"},{"$f":"IF(OR(COUNTRY_INFO!$T$9:$T$1000=\"T1 (PZQ+ALB/MBD)\",COUNTRY_INFO!$U$9:$U$1000=\"T1 (PZQ+ALB/MBD)\"), \"T1 (PZQ+ALB/MBD)\", \" \")","v":" "},null,null,null,null,null,null,0,null,null,null,0," "," "," "," "]
[{"$f":"IF(COUNTRY_INFO!A121=0,\" \",COUNTRY_INFO!A121)","v":"Uganda"},{"$f":"IF(COUNTRY_INFO!B121=0,\" \",COUNTRY_INFO!B121)","v":"Western"},{"$f":"IF(COUNTRY_INFO!C121=0,\" \",COUNTRY_INFO!C121)","v":"Rubanda"},{"$f":"IF(OR(COUNTRY_INFO!$T$9:$T$1000=\"T1 (PZQ+ALB/MBD)\",COUNTRY_INFO!$U$9:$U$1000=\"T1 (PZQ+ALB/MBD)\"), \"T1 (PZQ+ALB/MBD)\", \" \")","v":" "},null,null,null,null,null,null,0,null,null,null,0," "," "," "," "]
[{"$f":"IF(COUNTRY_INFO!A122=0,\" \",COUNTRY_INFO!A122)","v":"Uganda"},{"$f":"IF(COUNTRY_INFO!B122=0,\" \",COUNTRY_INFO!B122)","v":"Western"},{"$f":"IF(COUNTRY_INFO!C122=0,\" \",COUNTRY_INFO!C122)","v":"Rubirizi"},{"$f":"IF(OR(COUNTRY_INFO!$T$9:$T$1000=\"T1 (PZQ+ALB/MBD)\",COUNTRY_INFO!$U$9:$U$1000=\"T1 (PZQ+ALB/MBD)\"), \"T1 (PZQ+ALB/MBD)\", \" \")","v":" "},null,null,null,null,null,null,0,null,null,null,0," "," "," "," "]
[{"$f":"IF(COUNTRY_INFO!A123=0,\" \",COUNTRY_INFO!A123)","v":"Uganda"},{"$f":"IF(COUNTRY_INFO!B123=0,\" \",COUNTRY_INFO!B123)","v":"Western"},{"$f":"IF(COUNTRY_INFO!C123=0,\" \",COUNTRY_INFO!C123)","v":"Rukungiri"},{"$f":"IF(OR(COUNTRY_INFO!$T$9:$T$1000=\"T1 (PZQ+ALB/MBD)\",COUNTRY_INFO!$U$9:$U$1000=\"T1 (PZQ+ALB/MBD)\"), \"T1 (PZQ+ALB/MBD)\", \" \")","v":" "},null,null,null,null,null,null,0,null,null,null,0," "," "," "," "]
[{"$f":"IF(COUNTRY_INFO!A124=0,\" \",COUNTRY_INFO!A124)","v":"Uganda"},{"$f":"IF(COUNTRY_INFO!B124=0,\" \",COUNTRY_INFO!B124)","v":"Western"},{"$f":"IF(COUNTRY_INFO!C124=0,\" \",COUNTRY_INFO!C124)","v":"Sheema"},{"$f":"IF(OR(COUNTRY_INFO!$T$9:$T$1000=\"T1 (PZQ+ALB/MBD)\",COUNTRY_INFO!$U$9:$U$1000=\"T1 (PZQ+ALB/MBD)\"), \"T1 (PZQ+ALB/MBD)\", \" \")","v":" "},null,null,null,null,null,null,0,null,null,null,0," "," "," "," "]

{"sheet":"T2","index":6,"n_rows":124,"n_cols":17,"rows_kept":124,"cut":false,"hidden":false,"merged":[[5,5,5,8],[5,9,5,12],[5,13,5,16],[3,0,3,2],[5,0,5,2],[5,3,6,3],[5,4,6,4]]}
["T 2 - Praziquantel (PZQ) "]
["Administrative structure, population requiring PC by age group, population treated by age group and coverage"]
[]
["TOTAL",null,null,null,null,{"$f":"SUM(F$9:F$1000)","v":0},3886886,3572266,7459152,0,3275464,2545916,5821380,{"$f":"IF(F4<>0, IF(J4/F4*100=0, \"-\", J4/F4*100), \" \")","v":" "},{"$f":"IF(G4<>0, IF(K4/G4*100=0, \"-\", K4/G4*100), \" \")","v":84.26961840403861},{"$f":"IF(H4<>0, IF(L4/H4*100=0, \"-\", L4/H4*100), \" \")","v":71.268936859685141},{"$f":"IF(I4<>0, IF(M4/I4*100=0, \"-\", M4/I4*100), \" \")","v":78.043455878094463}]
[]
[null,null,null,"PC implemented","Date","Population targeted for T2",null,null,null,"Population treated",null,null,null,"Programme coverage (%)"]
["Country","Province/State","District",null,null,"PreSAC","SAC","Adults","Total","PreSAC","SAC","Adults","Total","PreSAC","SAC","Adults","Total"]
[]
[{"$f":"IF(COUNTRY_INFO!A9=0,\" \",COUNTRY_INFO!A9)","v":"Uganda"},{"$f":"IF(COUNTRY_INFO!B9=0,\" \",COUNTRY_INFO!B9)","v":"Central "},{"$f":"IF(COUNTRY_INFO!C9=0,\" \",COUNTRY_INFO!C9)","v":"Buikwe"},{"$f":"IF(OR(COUNTRY_INFO!$T$9:$T$1000=\"T2 (PZQ)\",COUNTRY_INFO!$U$9:$U$1000=\"T2 (PZQ)\"), \"T2 (PZQ)\", \" \")","v":"T2 (PZQ)"},"Oct-2017",null,54770,86035,{"$f":"SUM(F9:H9)","v":140805},null,36194,69185,{"$f":"SUM(J9:L9)","v":105379},{"$f":"IF(F9<>0, IF(J9/F9*100=0, \"-\", J9/F9*100), \" \")","v":" "},66.083622421033411,80.41494740512583,74.840382088704231]
[{"$f":"IF(COUNTRY_INFO!A10=0,\" \",COUNTRY_INFO!A10)","v":"Uganda"},{"$f":"IF(COUNTRY_INFO!B10=0,\" \",COUNTRY_INFO!B10)","v":"Central "},{"$f":"IF(COUNTRY_INFO!C10=0,\" \",COUNTRY_INFO!C10)","v":"Bukomansimbi"},{"$f":"IF(OR(COUNTRY_INFO!$T$9:$T$1000=\"T2 (PZQ)\",COUNTRY_INFO!$U$9:$U$1000=\"T2 (PZQ)\"), \"T2 (PZQ)\", \" \")","v":" "},null,null,null,null,{"$f":"SUM(F10:H10)","v":0},null,null,null,{"$f":"SUM(J10:L10)","v":0},{"$f":"IF(F10<>0, IF(J10/F10*100=0, \"-\", J10/F10*100), \" \")","v":" "},{"$f":"IF(G10<>0, IF(K10/G10*100=0, \"-\", K10/G10*100), \" \")","v":" "},{"$f":"IF(H10<>0, IF(L10/H10*100=0, \"-\", L10/H10*100), \" \")","v":" "},{"$f":"IF(I10<>0, IF(M10/I10*100=0, \"-\", M10/I10*100), \" \")","v":" "}]
[{"$f":"IF(COUNTRY_INFO!A11=0,\" \",COUNTRY_INFO!A11)","v":"Uganda"},{"$f":"IF(COUNTRY_INFO!B11=0,\" \",COUNTRY_INFO!B11)","v":"Central "},{"$f":"IF(COUNTRY_INFO!C11=0,\" \",COUNTRY_INFO!C11)","v":"Butambala"},{"$f":"IF(OR(COUNTRY_INFO!$T$9:$T$1000=\"T2 (PZQ)\",COUNTRY_INFO!$U$9:$U$1000=\"T2 (PZQ)\"), \"T2 (PZQ)\", \" \")","v":" "},null,null,null,null,0,null,null,null,0," "," "," "," "]
[{"$f":"IF(COUNTRY_INFO!A12=0,\" \",COUNTRY_INFO!A12)","v":"Uganda"},{"$f":"IF(COUNTRY_INFO!B12=0,\" \",COUNTRY_INFO!B12)","v":"Central "},{"$f":"IF(COUNTRY_INFO!C12=0,\" \",COUNTRY_INFO!C12)","v":"Buvuma"},{"$f":"IF(OR(COUNTRY_INFO!$T$9:$T$1000=\"T2 (PZQ)\",COUNTRY_INFO!$U$9:$U$1000=\"T2 (PZQ)\"), \"T2 (PZQ)\", \" \")","v":"T2 (PZQ)"},"Oct-2017",null,31972,53384,85356,null,27443,44830,72273," ",85.834480170148879,83.976472351266295,84.672430760579218]
[{"$f":"IF(COUNTRY_INFO!A13=0,\" \",COUNTRY_INFO!A13)","v":"Uganda"},{"$f":"IF(COUNTRY_INFO!B13=0,\" \",COUNTRY_INFO!B13)","v":"Central "},{"$f":"IF(COUNTRY_INFO!C13=0,\" \",COUNTRY_INFO!C13)","v":"Gomba"},{"$f":"IF(OR(COUNTRY_INFO!$T$9:$T$1000=\"T2 (PZQ)\",COUNTRY_INFO!$U$9:$U$1000=\"T2 (PZQ)\"), \"T2 (PZQ)\", \" \")","v":"T2 (PZQ)"},"Oct-2017",null,11517,10807,22324,null,6810,10807,17617," ",59.129981766084917,100,78.915068984053036]
[{"$f":"IF(COUNTRY_INFO!A14=0,\" \",COUNTRY_INFO!A14)","v":"Uganda"},{"$f":"IF(COUNTRY_INFO!B14=0,\" \",COUNTRY_INFO!B14)","v":"Central "},{"$f":"IF(COUNTRY_INFO!C14=0,\" \",COUNTRY_INFO!C14)","v":"Kalangala"},{"$f":"IF(OR(COUNTRY_INFO!$T$9:$T$1000=\"T2 (PZQ)\",COUNTRY_INFO!$U$9:$U$1000=\"T2 (PZQ)\"), \"T2 (PZQ)\", \" \")","v":"T2 (PZQ)"},"Oct-2017",null,11234,33388,44622,null,8487,28713,37200," ",75.547445255474457,85.997963340122197,83.366949038590832]
[{"$f":"IF(COUNTRY_INFO!A15=0,\" \",COUNTRY_INFO!A15)","v":"Uganda"},{"$f":"IF(COUNTRY_INFO!B15=0,\" \",COUNTRY_INFO!B15)","v":"Central "},{"$f":"IF(COUNTRY_INFO!C15=0,\" \",COUNTRY_INFO!C15)","v":"Kalungu"},{"$f":"IF(OR(COUNTRY_INFO!$T$9:$T$1000=\"T2 (PZQ)\",COUNTRY_INFO!$U$9:$U$1000=\"T2 (PZQ)\"), \"T2 (PZQ)\", \" \")","v":"T2 (PZQ)"},"Oct-2017",null,20777,null,20777,null,18867,null,18867," ",90.807142513356112," ",90.807142513356112]
[{"$f":"IF(COUNTRY_INFO!A16=0,\" \",COUNTRY_INFO!A16)","v":"Uganda"},{"$f":"IF(COUNTRY_INFO!B16=0,\" \",COUNTRY_INFO!B16)","v":"Central "},{"$f":"IF(COUNTRY_INFO!C16=0,\" \",COUNTRY_INFO!C16)","v":"Kampala"},{"$f":"IF(OR(COUNTRY_INFO!$T$9:$T$1000=\"T2 (PZQ)\",COUNTRY_INFO!$U$9:$U$1000=\"T2 (PZQ)\"), \"T2 (PZQ)\", \" \")","v":" "},null,null,null,null,0,null,null,null,0," "," "," "," "]
[{"$f":"IF(COUNTRY_INFO!A17=0,\" \",COUNTRY_INFO!A17)","v":"Uganda"},{"$f":"IF(COUNTRY_INFO!B17=0,\" \",COUNTRY_INFO!B17)","v":"Central "},{"$f":"IF(COUNTRY_INFO!C17=0,\" \",COUNTRY_INFO!C17)","v":"Kayunga"},{"$f":"IF(OR(COUNTRY_INFO!$T$9:$T$1000=\"T2 (PZQ)\",COUNTRY_INFO!$U$9:$U$1000=\"T2 (PZQ)\"), \"T2 (PZQ)\", \" \")","v":"T2 (PZQ)"},"Oct-2017",null,51588,53992,105580,null,45869,45193,91062," ",88.914088547724276,83.703141206104604,86.249289638189055]
[{"$f":"IF(COUNTRY_INFO!A18=0,\" \",COUNTRY_INFO!A18)","v":"Uganda"},{"$f":"IF(COUNTRY_INFO!B18=0,\" \",COUNTRY_INFO!B18)","v":"Central "},{"$f":"IF(COUNTRY_INFO!C18=0,\" \",COUNTRY_INFO!C18)","v":"Kiboga"},{"$f":"IF(OR(COUNTRY_INFO!$T$9:$T$1000=\"T2 (PZQ)\",COUNTRY_INFO!$U$9:$U$1000=\"T2 (PZQ)\"), \"T2 (PZQ)\", \" \")","v":" "},null,null,null,null,0,null,null,null,0," "," "," "," "]
[{"$f":"IF(COUNTRY_INFO!A19=0,\" \",COUNTRY_INFO!A19)","v":"Uganda"},{"$f":"IF(COUNTRY_INFO!B19=0,\" \",COUNTRY_INFO!B19)","v":"Central "},{"$f":"IF(COUNTRY_INFO!C19=0,\" \",COUNTRY_INFO!C19)","v":"Kyankwanzi"},{"$f":"IF(OR(COUNTRY_INFO!$T$9:$T$1000=\"T2 (PZQ)\",COUNTRY_INFO!$U$9:$U$1000=\"T2 (PZQ)\"), \"T2 (PZQ)\", \" \")","v":" "},null,null,null,null,0,null,null,null,0," "," "," "," "]
[{"$f":"IF(COUNTRY_INFO!A20=0,\" \",COUNTRY_INFO!A20)","v":"Uganda"},{"$f":"IF(COUNTRY_INFO!B20=0,\" \",COUNTRY_INFO!B20)","v":"Central "},{"$f":"IF(COUNTRY_INFO!C20=0,\" \",COUNTRY_INFO!C20)","v":"Luwero"},{"$f":"IF(OR(COUNTRY_INFO!$T$9:$T$1000=\"T2 (PZQ)\",COUNTRY_INFO!$U$9:$U$1000=\"T2 (PZQ)\"), \"T2 (PZQ)\", \" \")","v":" "},null,null,null,null,0,null,null,null,0," "," "," "," "]
[{"$f":"IF(COUNTRY_INFO!A21=0,\" \",COUNTRY_INFO!A21)","v":"Uganda"},{"$f":"IF(COUNTRY_INFO!B21=0,\" \",COUNTRY_INFO!B21)","v":"Central "},{"$f":"IF(COUNTRY_INFO!C21=0,\" \",COUNTRY_INFO!C21)","v":"Lwengo"},{"$f":"IF(OR(COUNTRY_INFO!$T$9:$T$1000=\"T2 (PZQ)\",COUNTRY_INFO!$U$9:$U$1000=\"T2 (PZQ)\"), \"T2 (PZQ)\", \" \")","v":" "},null,null,null,null,0,null,null,null,0," "," "," "," "]
[{"$f":"IF(COUNTRY_INFO!A22=0,\" \",COUNTRY_INFO!A22)","v":"Uganda"},{"$f":"IF(COUNTRY_INFO!B22=0,\" \",COUNTRY_INFO!B22)","v":"Central "},{"$f":"IF(COUNTRY_INFO!C22=0,\" \",COUNTRY_INFO!C22)","v":"Lyantonde"},{"$f":"IF(OR(COUNTRY_INFO!$T$9:$T$1000=\"T2 (PZQ)\",COUNTRY_INFO!$U$9:$U$1000=\"T2 (PZQ)\"), \"T2 (PZQ)\", \" \")","v":" "},null,null,null,null,0,null,null,null,0," "," "," "," "]
[{"$f":"IF(COUNTRY_INFO!A23=0,\" \",COUNTRY_INFO!A23)","v":"Uganda"},{"$f":"IF(COUNTRY_INFO!B23=0,\" \",COUNTRY_INFO!B23)","v":"Central "},{"$f":"IF(COUNTRY_INFO!C23=0,\" \",COUNTRY_INFO!C23)","v":"Masaka"},{"$f":"IF(OR(COUNTRY_INFO!$T$9:$T$1000=\"T2 (PZQ)\",COUNTRY_INFO!$U$9:$U$1000=\"T2 (PZQ)\"), \"T2 (PZQ)\", \" \")","v":"T2 (PZQ)"},"Oct-2017",null,24164,20100,44264,null,17449,16364,33813," ",72.210726700877331,81.412935323383081,76.389390927164285]
[{"$f":"IF(COUNTRY_INFO!A24=0,\" \",COUNTRY_INFO!A24)","v":"Uganda"},{"$f":"IF(COUNTRY_INFO!B24=0,\" \",COUNTRY_INFO!B24)","v":"Central "},{"$f":"IF(COUNTRY_INFO!C24=0,\" \",COUNTRY_INFO!C24)","v":"Mityana"},{"$f":"IF(OR(COUNTRY_INFO!$T$9:$T$1000=\"T2 (PZQ)\",COUNTRY_INFO!$U$9:$U$1000=\"T2 (PZQ)\"), \"T2 (PZQ)\", \" \")","v":"T2 (PZQ)"},"Oct-2017",null,16313,11091,27404,null,11661,7264,18925," ",71.482866425550171,65.494545126679299,69.059261421690266]
[{"$f":"IF(COUNTRY_INFO!A25=0,\" \",COUNTRY_INFO!A25)","v":"Uganda"},{"$f":"IF(COUNTRY_INFO!B25=0,\" \",COUNTRY_INFO!B25)","v":"Central "},{"$f":"IF(COUNTRY_INFO!C25=0,\" \",COUNTRY_INFO!C25)","v":"Mpigi"},{"$f":"IF(OR(COUNTRY_INFO!$T$9:$T$1000=\"T2 (PZQ)\",COUNTRY_INFO!$U$9:$U$1000=\"T2 (PZQ)\"), \"T2 (PZQ)\", \" \")","v":"T2 (PZQ)"},"Oct-2017",null,50765,51692,102457,null,47751,50223,97974," ",94.062838569880824,97.158167608140516,95.624505890275927]
[{"$f":"IF(COUNTRY_INFO!A26=0,\" \",COUNTRY_INFO!A26)","v":"Uganda"},{"$f":"IF(COUNTRY_INFO!B26=0,\" \",COUNTRY_INFO!B26)","v":"Central "},{"$f":"IF(COUNTRY_INFO!C26=0,\" \",COUNTRY_INFO!C26)","v":"Mubende"},{"$f":"IF(OR(COUNTRY_INFO!$T$9:$T$1000=\"T2 (PZQ)\",COUNTRY_INFO!$U$9:$U$1000=\"T2 (PZQ)\"), \"T2 (PZQ)\", \" \")","v":"T2 (PZQ)"},"Oct-2017",null,51692,null,51692,null,49178,null,49178," ",95.136578193917813," ",95.136578193917813]
[{"$f":"IF(COUNTRY_INFO!A27=0,\" \",COUNTRY_INFO!A27)","v":"Uganda"},{"$f":"IF(COUNTRY_INFO!B27=0,\" \",COUNTRY_INFO!B27)","v":"Central "},{"$f":"IF(COUNTRY_INFO!C27=0,\" \",COUNTRY_INFO!C27)","v":"Mukono"},{"$f":"IF(OR(COUNTRY_INFO!$T$9:$T$1000=\"T2 (PZQ)\",COUNTRY_INFO!$U$9:$U$1000=\"T2 (PZQ)\"), \"T2 (PZQ)\", \" \")","v":"T2 (PZQ)"},"Oct-2017",null,32123,29996,62119,null,25574,24095,49669," ",79.612738536251285,80.327376983597816,79.957822888327243]
[{"$f":"IF(COUNTRY_INFO!A28=0,\" \",COUNTRY_INFO!A28)","v":"Uganda"},{"$f":"IF(COUNTRY_INFO!B28=0,\" \",COUNTRY_INFO!B28)","v":"Central "},{"$f":"IF(COUNTRY_INFO!C28=0,\" \",COUNTRY_INFO!C28)","v":"Nakaseke"},{"$f":"IF(OR(COUNTRY_INFO!$T$9:$T$1000=\"T2 (PZQ)\",COUNTRY_INFO!$U$9:$U$1000=\"T2 (PZQ)\"), \"T2 (PZQ)\", \" \")","v":" "},null,null,null,null,0,null,null,null,0," "," "," "," "]
[{"$f":"IF(COUNTRY_INFO!A29=0,\" \",COUNTRY_INFO!A29)","v":"Uganda"},{"$f":"IF(COUNTRY_INFO!B29=0,\" \",COUNTRY_INFO!B29)","v":"Central "},{"$f":"IF(COUNTRY_INFO!C29=0,\" \",COUNTRY_INFO!C29)","v":"Nakasongola"},{"$f":"IF(OR(COUNTRY_INFO!$T$9:$T$1000=\"T2 (PZQ)\",COUNTRY_INFO!$U$9:$U$1000=\"T2 (PZQ)\"), \"T2 (PZQ)\", \" \")","v":"T2 (PZQ)"},"Oct-2017",null,39420,null,39420,null,36294,null,36294," ",92.070015220700157," ",92.070015220700157]
[{"$f":"IF(COUNTRY_INFO!A30=0,\" \",COUNTRY_INFO!A30)","v":"Uganda"},{"$f":"IF(COUNTRY_INFO!B30=0,\" \",COUNTRY_INFO!B30)","v":"Central "},{"$f":"IF(COUNTRY_INFO!C30=0,\" \",COUNTRY_INFO!C30)","v":"Rakai"},{"$f":"IF(OR(COUNTRY_INFO!$T$9:$T$1000=\"T2 (PZQ)\",COUNTRY_INFO!$U$9:$U$1000=\"T2 (PZQ)\"), \"T2 (PZQ)\", \" \")","v":"T2 (PZQ)"},"Oct-2017",null,41540,null,41540,null,39340,null,39340," ",94.703899855560906," ",94.703899855560906]
[{"$f":"IF(COUNTRY_INFO!A31=0,\" \",COUNTRY_INFO!A31)","v":"Uganda"},{"$f":"IF(COUNTRY_INFO!B31=0,\" \",COUNTRY_INFO!B31)","v":"Central "},{"$f":"IF(COUNTRY_INFO!C31=0,\" \",COUNTRY_INFO!C31)","v":"Sembabule"},{"$f":"IF(OR(COUNTRY_INFO!$T$9:$T$1000=\"T2 (PZQ)\",COUNTRY_INFO!$U$9:$U$1000=\"T2 (PZQ)\"), \"T2 (PZQ)\", \" \")","v":" "},null,null,null,null,0,null,null,null,0," "," "," "," "]
[{"$f":"IF(COUNTRY_INFO!A32=0,\" \",COUNTRY_INFO!A32)","v":"Uganda"},{"$f":"IF(COUNTRY_INFO!B32=0,\" \",COUNTRY_INFO!B32)","v":"Central "},{"$f":"IF(COUNTRY_INFO!C32=0,\" \",COUNTRY_INFO!C32)","v":"Wakiso"},{"$f":"IF(OR(COUNTRY_INFO!$T$9:$T$1000=\"T2 (PZQ)\",COUNTRY_INFO!$U$9:$U$1000=\"T2 (PZQ)\"), \"T2 (PZQ)\", \" \")","v":"T2 (PZQ)"},"Oct-2017",null,93566,70719,164285,null,85259,54955,140214," ",91.12177500374068,77.708960816753631,85.348023252275013]
[{"$f":"IF(COUNTRY_INFO!A33=0,\" \",COUNTRY_INFO!A33)","v":"Uganda"},{"$f":"IF(COUNTRY_INFO!B33=0,\" \",COUNTRY_INFO!B33)","v":"Eastern "},{"$f":"IF(COUNTRY_INFO!C33=0,\" \",COUNTRY_INFO!C33)","v":"Amuria"},{"$f":"IF(OR(COUNTRY_INFO!$T$9:$T$1000=\"T2 (PZQ)\",COUNTRY_INFO!$U$9:$U$1000=\"T2 (PZQ)\"), \"T2 (PZQ)\", \" \")","v":" "},null,null,null,null,0,null,null,null,0," "," "," "," "]
[{"$f":"IF(COUNTRY_INFO!A34=0,\" \",COUNTRY_INFO!A34)","v":"Uganda"},{"$f":"IF(COUNTRY_INFO!B34=0,\" \",COUNTRY_INFO!B34)","v":"Eastern "},{"$f":"IF(COUNTRY_INFO!C34=0,\" \",COUNTRY_INFO!C34)","v":"Budaka"},{"$f":"IF(OR(COUNTRY_INFO!$T$9:$T$1000=\"T2 (PZQ)\",COUNTRY_INFO!$U$9:$U$1000=\"T2 (PZQ)\"), \"T2 (PZQ)\", \" \")","v":"T2 (PZQ)"},"Oct-2017",null,30377,null,30377,null,27979,null,27979," ",92.105869572373834," ",92.105869572373834]
[{"$f":"IF(COUNTRY_INFO!A35=0,\" \",COUNTRY_INFO!A35)","v":"Uganda"},{"$f":"IF(COUNTRY_INFO!B35=0,\" \",COUNTRY_INFO!B35)","v":"Eastern "},{"$f":"IF(COUNTRY_INFO!C35=0,\" \",COUNTRY_INFO!C35)","v":"Bududa"},{"$f":"IF(OR(COUNTRY_INFO!$T$9:$T$1000=\"T2 (PZQ)\",COUNTRY_INFO!$U$9:$U$1000=\"T2 (PZQ)\"), \"T2 (PZQ)\", \" \")","v":" "},null,null,null,null,0,null,null,null,0," "," "," "," "]
[{"$f":"IF(COUNTRY_INFO!A36=0,\" \",COUNTRY_INFO!A36)","v":"Uganda"},{"$f":"IF(COUNTRY_INFO!B36=0,\" \",COUNTRY_INFO!B36)","v":"Eastern "},{"$f":"IF(COUNTRY_INFO!C36=0,\" \",COUNTRY_INFO!C36)","v":"Bugiri"},{"$f":"IF(OR(COUNTRY_INFO!$T$9:$T$1000=\"T2 (PZQ)\",COUNTRY_INFO!$U$9:$U$1000=\"T2 (PZQ)\"), \"T2 (PZQ)\", \" \")","v":"T2 (PZQ)"},"Oct-2017",null,29236,40520,69756,null,17710,24924,42634," ",60.576002189081954,61.510365251727542,61.118756809450083]
[{"$f":"IF(COUNTRY_INFO!A37=0,\" \",COUNTRY_INFO!A37)","v":"Uganda"},{"$f":"IF(COUNTRY_INFO!B37=0,\" \",COUNTRY_INFO!B37)","v":"Eastern "},{"$f":"IF(COUNTRY_INFO!C37=0,\" \",COUNTRY_INFO!C37)","v":"Bukedea"},{"$f":"IF(OR(COUNTRY_INFO!$T$9:$T$1000=\"T2 (PZQ)\",COUNTRY_INFO!$U$9:$U$1000=\"T2 (PZQ)\"), \"T2 (PZQ)\", \" \")","v":"T2 (PZQ)"},"Oct-2017",null,65544,null,65544,null,56727,null,56727," ",86.547967777370928," ",86.547967777370928]
[{"$f":"IF(COUNTRY_INFO!A38=0,\" \",COUNTRY_INFO!A38)","v":"Uganda"},{"$f":"IF(COUNTRY_INFO!B38=0,\" \",COUNTRY_INFO!B38)","v":"Eastern "},{"$f":"IF(COUNTRY_INFO!C38=0,\" \",COUNTRY_INFO!C38)","v":"Bukwo"},{"$f":"IF(OR(COUNTRY_INFO!$T$9:$T$1000=\"T2 (PZQ)\",COUNTRY_INFO!$U$9:$U$1000=\"T2 (PZQ)\"), \"T2 (PZQ)\", \" \")","v":" "},null,null,null,null,0,null,null,null,0," "," "," "," "]
[{"$f":"IF(COUNTRY_INFO!A39=0,\" \",COUNTRY_INFO!A39)","v":"Uganda"},{"$f":"IF(COUNTRY_INFO!B39=0,\" \",COUNTRY_INFO!B39)","v":"Eastern "},{"$f":"IF(COUNTRY_INFO!C39=0,\" \",COUNTRY_INFO!C39)","v":"Bulambuli"},{"$f":"IF(OR(COUNTRY_INFO!$T$9:$T$1000=\"T2 (PZQ)\",COUNTRY_INFO!$U$9:$U$1000=\"T2 (PZQ)\"), \"T2 (PZQ)\", \" \")","v":"T2 (PZQ)"},"Oct-2017",null,8187,null,8187,null,7500,null,7500," ",91.608647856357635," ",91.608647856357635]
[{"$f":"IF(COUNTRY_INFO!A40=0,\" \",COUNTRY_INFO!A40)","v":"Uganda"},{"$f":"IF(COUNTRY_INFO!B40=0,\" \",COUNTRY_INFO!B40)","v":"Eastern "},{"$f":"IF(COUNTRY_INFO!C40=0,\" \",COUNTRY_INFO!C40)","v":"Busia"},{"$f":"IF(OR(COUNTRY_INFO!$T$9:$T$1000=\"T2 (PZQ)\",COUNTRY_INFO!$U$9:$U$1000=\"T2 (PZQ)\"), \"T2 (PZQ)\", \" \")","v":"T2 (PZQ)"},"Oct-2017",null,49633,65001,114634,null,31675,42513,74188," ",63.818427256059472,65.40360917524346,64.717274107158445]
[{"$f":"IF(COUNTRY_INFO!A41=0,\" \",COUNTRY_INFO!A41)","v":"Uganda"},{"$f":"IF(COUNTRY_INFO!B41=0,\" \",COUNTRY_INFO!B41)","v":"Eastern "},{"$f":"IF(COUNTRY_INFO!C41=0,\" \",COUNTRY_INFO!C41)","v":"Butaleja"},{"$f":"IF(OR(COUNTRY_INFO!$T$9:$T$1000=\"T2 (PZQ)\",COUNTRY_INFO!$U$9:$U$1000=\"T2 (PZQ)\"), \"T2 (PZQ)\", \" \")","v":"T2 (PZQ)"},"Oct-2017",null,23066,null,23066,null,20033,null,20033," ",86.850776033989419," ",86.850776033989419]
[{"$f":"IF(COUNTRY_INFO!A42=0,\" \",COUNTRY_INFO!A42)","v":"Uganda"},{"$f":"IF(COUNTRY_INFO!B42=0,\" \",COUNTRY_INFO!B42)","v":"Eastern "},{"$f":"IF(COUNTRY_INFO!C42=0,\" \",COUNTRY_INFO!C42)","v":"Buyende"},{"$f":"IF(OR(COUNTRY_INFO!$T$9:$T$1000=\"T2 (PZQ)\",COUNTRY_INFO!$U$9:$U$1000=\"T2 (PZQ)\"), \"T2 (PZQ)\", \" \")","v":"T2 (PZQ)"},"Oct-2017",null,112539,138238,250777,null,106623,109337,215960," ",94.743155706021909,79.09330285449731,86.116350383009603]
[{"$f":"IF(COUNTRY_INFO!A43=0,\" \",COUNTRY_INFO!A43)","v":"Uganda"},{"$f":"IF(COUNTRY_INFO!B43=0,\" \",COUNTRY_INFO!B43)","v":"Eastern "},{"$f":"IF(COUNTRY_INFO!C43=0,\" \",COUNTRY_INFO!C43)","v":"Iganga"},{"$f":"IF(OR(COUNTRY_INFO!$T$9:$T$1000=\"T2 (PZQ)\",COUNTRY_INFO!$U$9:$U$1000=\"T2 (PZQ)\"), \"T2 (PZQ)\", \" \")","v":"T2 (PZQ)"},"Oct-2017",null,54956,null,54956,null,35166,null,35166," ",63.989373316835284," ",63.989373316835284]
[{"$f":"IF(COUNTRY_INFO!A44=0,\" \",COUNTRY_INFO!A44)","v":"Uganda"},{"$f":"IF(COUNTRY_INFO!B44=0,\" \",COUNTRY_INFO!B44)","v":"Eastern "},{"$f":"IF(COUNTRY_INFO!C44=0,\" \",COUNTRY_INFO!C44)","v":"Jinja"},{"$f":"IF(OR(COUNTRY_INFO!$T$9:$T$1000=\"T2 (PZQ)\",COUNTRY_INFO!$U$9:$U$1000=\"T2 (PZQ)\"), \"T2 (PZQ)\", \" \")","v":"T2 (PZQ)"},"Oct-2017",null,181049,268518,449567,null,166966,166380,333346," ",92.221442813823884,61.962326547940918,74.14823596927711]
[{"$f":"IF(COUNTRY_INFO!A45=0,\" \",COUNTRY_INFO!A45)","v":"Uganda"},{"$f":"IF(COUNTRY_INFO!B45=0,\" \",COUNTRY_INFO!B45)","v":"Eastern "},{"$f":"IF(COUNTRY_INFO!C45=0,\" \",COUNTRY_INFO!C45)","v":"Kaberamaido"},{"$f":"IF(OR(COUNTRY_INFO!$T$9:$T$1000=\"T2 (PZQ)\",COUNTRY_INFO!$U$9:$U$1000=\"T2 (PZQ)\"), \"T2 (PZQ)\", \" \")","v":"T2 (PZQ)"},"Oct-2017",null,45031,63792,108823,null,40850,56523,97373," ",90.715285025871069,88.605154251316776,89.478327191862022]
[{"$f":"IF(COUNTRY_INFO!A46=0,\" \",COUNTRY_INFO!A46)","v":"Uganda"},{"$f":"IF(COUNTRY_INFO!B46=0,\" \",COUNTRY_INFO!B46)","v":"Eastern "},{"$f":"IF(COUNTRY_INFO!C46=0,\" \",COUNTRY_INFO!C46)","v":"Kaliro"},{"$f":"IF(OR(COUNTRY_INFO!$T$9:$T$1000=\"T2 (PZQ)\",COUNTRY_INFO!$U$9:$U$1000=\"T2 (PZQ)\"), \"T2 (PZQ)\", \" \")","v":"T2 (PZQ)"},"Oct-2017",null,69175,null,69175,null,56197,null,56197," ",81.238886881098665," ",81.238886881098665]
[{"$f":"IF(COUNTRY_INFO!A47=0,\" \",COUNTRY_INFO!A47)","v":"Uganda"},{"$f":"IF(COUNTRY_INFO!B47=0,\" \",COUNTRY_INFO!B47)","v":"Eastern "},{"$f":"IF(COUNTRY_INFO!C47=0,\" \",COUNTRY_INFO!C47)","v":"Kamuli"},{"$f":"IF(OR(COUNTRY_INFO!$T$9:$T$1000=\"T2 (PZQ)\",COUNTRY_INFO!$U$9:$U$1000=\"T2 (PZQ)\"), \"T2 (PZQ)\", \" \")","v":"T2 (PZQ)"},"Oct-2017",null,93693,null,93693,null,83382,null,83382," ",88.994908904614007," ",88.994908904614007]
[{"$f":"IF(COUNTRY_INFO!A48=0,\" \",COUNTRY_INFO!A48)","v":"Uganda"},{"$f":"IF(COUNTRY_INFO!B48=0,\" \",COUNTRY_INFO!B48)","v":"Eastern "},{"$f":"IF(COUNTRY_INFO!C48=0,\" \",COUNTRY_INFO!C48)","v":"Kapchorwa"},{"$f":"IF(OR(COUNTRY_INFO!$T$9:$T$1000=\"T2 (PZQ)\",COUNTRY_INFO!$U$9:$U$1000=\"T2 (PZQ)\"), \"T2 (PZQ)\", \" \")","v":" "},null,null,null,null,0,null,null,null,0," "," "," "," "]
[{"$f":"IF(COUNTRY_INFO!A49=0,\" \",COUNTRY_INFO!A49)","v":"Uganda"},{"$f":"IF(COUNTRY_INFO!B49=0,\" \",COUNTRY_INFO!B49)","v":"Eastern "},{"$f":"IF(COUNTRY_INFO!C49=0,\" \",COUNTRY_INFO!C49)","v":"Katakwi"},{"$f":"IF(OR(COUNTRY_INFO!$T$9:$T$1000=\"T2 (PZQ)\",COUNTRY_INFO!$U$9:$U$1000=\"T2 (PZQ)\"), \"T2 (PZQ)\", \" \")","v":"T2 (PZQ)"},"Oct-2017",null,18678,null,18678,null,16409,null,16409," ",87.852018417389445," ",87.852018417389445]
[{"$f":"IF(COUNTRY_INFO!A50=0,\" \",COUNTRY_INFO!A50)","v":"Uganda"},{"$f":"IF(COUNTRY_INFO!B50=0,\" \",COUNTRY_INFO!B50)","v":"Eastern "},{"$f":"IF(COUNTRY_INFO!C50=0,\" \",COUNTRY_INFO!C50)","v":"Kibuku"},{"$f":"IF(OR(COUNTRY_INFO!$T$9:$T$1000=\"T2 (PZQ)\",COUNTRY_INFO!$U$9:$U$1000=\"T2 (PZQ)\"), \"T2 (PZQ)\", \" \")","v":"T2 (PZQ)"},"Oct-2017",null,43365,null,43365,null,35551,null,35551," ",81.980860140666437," ",81.980860140666437]
[{"$f":"IF(COUNTRY_INFO!A51=0,\" \",COUNTRY_INFO!A51)","v":"Uganda"},{"$f":"IF(COUNTRY_INFO!B51=0,\" \",COUNTRY_INFO!B51)","v":"Eastern "},{"$f":"IF(COUNTRY_INFO!C51=0,\" \",COUNTRY_INFO!C51)","v":"Kumi"},{"$f":"IF(OR(COUNTRY_INFO!$T$9:$T$1000=\"T2 (PZQ)\",COUNTRY_INFO!$U$9:$U$1000=\"T2 (PZQ)\"), \"T2 (PZQ)\", \" \")","v":"T2 (PZQ)"},"Oct-2017",null,41967,null,41967,null,40747,null,40747," ",97.092953987656969," ",97.092953987656969]
[{"$f":"IF(COUNTRY_INFO!A52=0,\" \",COUNTRY_INFO!A52)","v":"Uganda"},{"$f":"IF(COUNTRY_INFO!B52=0,\" \",COUNTRY_INFO!B52)","v":"Eastern "},{"$f":"IF(COUNTRY_INFO!C52=0,\" \",COUNTRY_INFO!C52)","v":"Kween"},{"$f":"IF(OR(COUNTRY_INFO!$T$9:$T$1000=\"T2 (PZQ)\",COUNTRY_INFO!$U$9:$U$1000=\"T2 (PZQ)\"), \"T2 (PZQ)\", \" \")","v":"T2 (PZQ)"},"Oct-2017",null,3044,null,3044,null,2819,null,2819," ",92.6084099868594," ",92.6084099868594]
[{"$f":"IF(COUNTRY_INFO!A53=0,\" \",COUNTRY_INFO!A53)","v":"Uganda"},{"$f":"IF(COUNTRY_INFO!B53=0,\" \",COUNTRY_INFO!B53)","v":"Eastern "},{"$f":"IF(COUNTRY_INFO!C53=0,\" \",COUNTRY_INFO!C53)","v":"Luuka"},{"$f":"IF(OR(COUNTRY_INFO!$T$9:$T$1000=\"T2 (PZQ)\",COUNTRY_INFO!$U$9:$U$1000=\"T2 (PZQ)\"), \"T2 (PZQ)\", \" \")","v":"T2 (PZQ)"},"Oct-2017",null,84810,null,84810,null,79406,null,79406," ",93.628109892701332," ",93.628109892701332]
[{"$f":"IF(COUNTRY_INFO!A54=0,\" \",COUNTRY_INFO!A54)","v":"Uganda"},{"$f":"IF(COUNTRY_INFO!B54=0,\" \",COUNTRY_INFO!B54)","v":"Eastern "},{"$f":"IF(COUNTRY_INFO!C54=0,\" \",COUNTRY_INFO!C54)","v":"Manafwa"},{"$f":"IF(OR(COUNTRY_INFO!$T$9:$T$1000=\"T2 (PZQ)\",COUNTRY_INFO!$U$9:$U$1000=\"T2 (PZQ)\"), \"T2 (PZQ)\", \" \")","v":"T2 (PZQ)"},"Oct-2017",null,14317,null,14317,null,12894,null,12894," ",90.060766920444223," ",90.060766920444223]
[{"$f":"IF(COUNTRY_INFO!A55=0,\" \",COUNTRY_INFO!A55)","v":"Uganda"},{"$f":"IF(COUNTRY_INFO!B55=0,\" \",COUNTRY_INFO!B55)","v":"Eastern "},{"$f":"IF(COUNTRY_INFO!C55=0,\" \",COUNTRY_INFO!C55)","v":"Mayuge"},{"$f":"IF(OR(COUNTRY_INFO!$T$9:$T$1000=\"T2 (PZQ)\",COUNTRY_INFO!$U$9:$U$1000=\"T2 (PZQ)\"), \"T2 (PZQ)\", \" \")","v":"T2 (PZQ)"},"Oct-2017",null,52454,86633,139087,null,48510,59370,107880," ",92.481030998589247,68.530467604723384,77.5629641878824]
[{"$f":"IF(COUNTRY_INFO!A56=0,\" \",COUNTRY_INFO!A56)","v":"Uganda"},{"$f":"IF(COUNTRY_INFO!B56=0,\" \",COUNTRY_INFO!B56)","v":"Eastern "},{"$f":"IF(COUNTRY_INFO!C56=0,\" \",COUNTRY_INFO!C56)","v":"Mbale"},{"$f":"IF(OR(COUNTRY_INFO!$T$9:$T$1000=\"T2 (PZQ)\",COUNTRY_INFO!$U$9:$U$1000=\"T2 (PZQ)\"), \"T2 (PZQ)\", \" \")","v":"T2 (PZQ)"},"Oct-2017",null,4099,null,4099,null,4043,null,4043," ",98.633813125152486," ",98.633813125152486]
[{"$f":"IF(COUNTRY_INFO!A57=0,\" \",COUNTRY_INFO!A57)","v":"Uganda"},{"$f":"IF(COUNTRY_INFO!B57=0,\" \",COUNTRY_INFO!B57)","v":"Eastern "},{"$f":"IF(COUNTRY_INFO!C57=0,\" \",COUNTRY_INFO!C57)","v":"Namayingo"},{"$f":"IF(OR(COUNTRY_INFO!$T$9:$T$1000=\"T2 (PZQ)\",COUNTRY_INFO!$U$9:$U$1000=\"T2 (PZQ)\"), \"T2 (PZQ)\", \" \")","v":"T2 (PZQ)"},"Oct-2017",null,84234,119263,203497,null,67125,96417,163542," ",79.688724268110263,80.844017004435571,80.365803918485284]
[{"$f":"IF(COUNTRY_INFO!A58=0,\" \",COUNTRY_INFO!A58)","v":"Uganda"},{"$f":"IF(COUNTRY_INFO!B58=0,\" \",COUNTRY_INFO!B58)","v":"Eastern "},{"$f":"IF(COUNTRY_INFO!C58=0,\" \",COUNTRY_INFO!C58)","v":"Namutumba"},{"$f":"IF(OR(COUNTRY_INFO!$T$9:$T$1000=\"T2 (PZQ)\",COUNTRY_INFO!$U$9:$U$1000=\"T2 (PZQ)\"), \"T2 (PZQ)\", \" \")","v":"T2 (PZQ)"},"Oct-2017",null,99757,null,99757,null,63941,null,63941," ",64.09675511492928," ",64.09675511492928]
[{"$f":"IF(COUNTRY_INFO!A59=0,\" \",COUNTRY_INFO!A59)","v":"Uganda"},{"$f":"IF(COUNTRY_INFO!B59=0,\" \",COUNTRY_INFO!B59)","v":"Eastern "},{"$f":"IF(COUNTRY_INFO!C59=0,\" \",COUNTRY_INFO!C59)","v":"Ngora"},{"$f":"IF(OR(COUNTRY_INFO!$T$9:$T$1000=\"T2 (PZQ)\",COUNTRY_INFO!$U$9:$U$1000=\"T2 (PZQ)\"), \"T2 (PZQ)\", \" \")","v":"T2 (PZQ)"},"Oct-2017",null,48870,null,48870,null,45526,null,45526," ",93.157356251278898," ",93.157356251278898]
[{"$f":"IF(COUNTRY_INFO!A60=0,\" \",COUNTRY_INFO!A60)","v":"Uganda"},{"$f":"IF(COUNTRY_INFO!B60=0,\" \",COUNTRY_INFO!B60)","v":"Eastern "},{"$f":"IF(COUNTRY_INFO!C60=0,\" \",COUNTRY_INFO!C60)","v":"Pallisa"},{"$f":"IF(OR(COUNTRY_INFO!$T$9:$T$1000=\"T2 (PZQ)\",COUNTRY_INFO!$U$9:$U$1000=\"T2 (PZQ)\"), \"T2 (PZQ)\", \" \")","v":"T2 (PZQ)"},"Oct-2017",null,69467,null,69467,null,60409,null,60409," ",86.960715159716131," ",86.960715159716131]
[{"$f":"IF(COUNTRY_INFO!A61=0,\" \",COUNTRY_INFO!A61)","v":"Uganda"},{"$f":"IF(COUNTRY_INFO!B61=0,\" \",COUNTRY_INFO!B61)","v":"Eastern "},{"$f":"IF(COUNTRY_INFO!C61=0,\" \",COUNTRY_INFO!C61)","v":"Serere"},{"$f":"IF(OR(COUNTRY_INFO!$T$9:$T$1000=\"T2 (PZQ)\",COUNTRY_INFO!$U$9:$U$1000=\"T2 (PZQ)\"), \"T2 (PZQ)\", \" \")","v":"T2 (PZQ)"},"Oct-2017",null,69497,88964,158461,null,65189,69076,134265," ",93.801171273580152,77.644890067892632,84.730627725434019]
[{"$f":"IF(COUNTRY_INFO!A62=0,\" \",COUNTRY_INFO!A62)","v":"Uganda"},{"$f":"IF(COUNTRY_INFO!B62=0,\" \",COUNTRY_INFO!B62)","v":"Eastern "},{"$f":"IF(COUNTRY_INFO!C62=0,\" \",COUNTRY_INFO!C62)","v":"Sironko"},{"$f":"IF(OR(COUNTRY_INFO!$T$9:$T$1000=\"T2 (PZQ)\",COUNTRY_INFO!$U$9:$U$1000=\"T2 (PZQ)\"), \"T2 (PZQ)\", \" \")","v":"T2 (PZQ)"},"Oct-2017",null,9431,null,9431,null,8472,null,8472," ",89.831407061817416," ",89.831407061817416]
[{"$f":"IF(COUNTRY_INFO!A63=0,\" \",COUNTRY_INFO!A63)","v":"Uganda"},{"$f":"IF(COUNTRY_INFO!B63=0,\" \",COUNTRY_INFO!B63)","v":"Eastern "},{"$f":"IF(COUNTRY_INFO!C63=0,\" \",COUNTRY_INFO!C63)","v":"Soroti"},{"$f":"IF(OR(COUNTRY_INFO!$T$9:$T$1000=\"T2 (PZQ)\",COUNTRY_INFO!$U$9:$U$1000=\"T2 (PZQ)\"), \"T2 (PZQ)\", \" \")","v":"T2 (PZQ)"},"Oct-2017",null,18118,null,18118,null,17237,null,17237," ",95.137432387680761," ",95.137432387680761]
[{"$f":"IF(COUNTRY_INFO!A64=0,\" \",COUNTRY_INFO!A64)","v":"Uganda"},{"$f":"IF(COUNTRY_INFO!B64=0,\" \",COUNTRY_INFO!B64)","v":"Eastern "},{"$f":"IF(COUNTRY_INFO!C64=0,\" \",COUNTRY_INFO!C64)","v":"Tororo"},{"$f":"IF(OR(COUNTRY_INFO!$T$9:$T$1000=\"T2 (PZQ)\",COUNTRY_INFO!$U$9:$U$1000=\"T2 (PZQ)\"), \"T2 (PZQ)\", \" \")","v":"T2 (PZQ)"},"Oct-2017",null,105271,null,105271,null,71850,null,71850," ",68.252415195067968," ",68.252415195067968]
[{"$f":"IF(COUNTRY_INFO!A65=0,\" \",COUNTRY_INFO!A65)","v":"Uganda"},{"$f":"IF(COUNTRY_INFO!B65=0,\" \",COUNTRY_INFO!B65)","v":"Northern"},{"$f":"IF(COUNTRY_INFO!C65=0,\" \",COUNTRY_INFO!C65)","v":"Abim"},{"$f":"IF(OR(COUNTRY_INFO!$T$9:$T$1000=\"T2 (PZQ)\",COUNTRY_INFO!$U$9:$U$1000=\"T2 (PZQ)\"), \"T2 (PZQ)\", \" \")","v":" "},null,null,null,null,0,null,null,null,0," "," "," "," "]
[{"$f":"IF(COUNTRY_INFO!A66=0,\" \",COUNTRY_INFO!A66)","v":"Uganda"},{"$f":"IF(COUNTRY_INFO!B66=0,\" \",COUNTRY_INFO!B66)","v":"Northern"},{"$f":"IF(COUNTRY_INFO!C66=0,\" \",COUNTRY_INFO!C66)","v":"Adjumani"},{"$f":"IF(OR(COUNTRY_INFO!$T$9:$T$1000=\"T2 (PZQ)\",COUNTRY_INFO!$U$9:$U$1000=\"T2 (PZQ)\"), \"T2 (PZQ)\", \" \")","v":"T2 (PZQ)"},"Oct-2017",null,17910,29525,47435,null,19982,29186,49168," ",111.56895589056393,98.851820491109237,103.65342047011701]
[{"$f":"IF(COUNTRY_INFO!A67=0,\" \",COUNTRY_INFO!A67)","v":"Uganda"},{"$f":"IF(COUNTRY_INFO!B67=0,\" \",COUNTRY_INFO!B67)","v":"Northern"},{"$f":"IF(COUNTRY_INFO!C67=0,\" \",COUNTRY_INFO!C67)","v":"Agago"},{"$f":"IF(OR(COUNTRY_INFO!$T$9:$T$1000=\"T2 (PZQ)\",COUNTRY_INFO!$U$9:$U$1000=\"T2 (PZQ)\"), \"T2 (PZQ)\", \" \")","v":"T2 (PZQ)"},"Oct-2017",null,66676,117377,184053,null,61307,92562,153869," ",91.947627332173496,78.85872019220119,83.60037597865832]
[{"$f":"IF(COUNTRY_INFO!A68=0,\" \",COUNTRY_INFO!A68)","v":"Uganda"},{"$f":"IF(COUNTRY_INFO!B68=0,\" \",COUNTRY_INFO!B68)","v":"Northern"},{"$f":"IF(COUNTRY_INFO!C68=0,\" \",COUNTRY_INFO!C68)","v":"Alebtong"},{"$f":"IF(OR(COUNTRY_INFO!$T$9:$T$1000=\"T2 (PZQ)\",COUNTRY_INFO!$U$9:$U$1000=\"T2 (PZQ)\"), \"T2 (PZQ)\", \" \")","v":"T2 (PZQ)"},"Oct-2017",null,50472,49301,99773,null,47503,45662,93165," ",94.117530511967033,92.61881097746496,93.376965712166609]
[{"$f":"IF(COUNTRY_INFO!A69=0,\" \",COUNTRY_INFO!A69)","v":"Uganda"},{"$f":"IF(COUNTRY_INFO!B69=0,\" \",COUNTRY_INFO!B69)","v":"Northern"},{"$f":"IF(COUNTRY_INFO!C69=0,\" \",COUNTRY_INFO!C69)","v":"Amolatar"},{"$f":"IF(OR(COUNTRY_INFO!$T$9:$T$1000=\"T2 (PZQ)\",COUNTRY_INFO!$U$9:$U$1000=\"T2 (PZQ)\"), \"T2 (PZQ)\", \" \")","v":"T2 (PZQ)"},"Oct-2017",null,48997,77654,126651,null,47541,69075,116616," ",97.028389493234286,88.952275478404204,92.076651585854037]
[{"$f":"IF(COUNTRY_INFO!A70=0,\" \",COUNTRY_INFO!A70)","v":"Uganda"},{"$f":"IF(COUNTRY_INFO!B70=0,\" \",COUNTRY_INFO!B70)","v":"Northern"},{"$f":"IF(COUNTRY_INFO!C70=0,\" \",COUNTRY_INFO!C70)","v":"Amudat"},{"$f":"IF(OR(COUNTRY_INFO!$T$9:$T$1000=\"T2 (PZQ)\",COUNTRY_INFO!$U$9:$U$1000=\"T2 (PZQ)\"), \"T2 (PZQ)\", \" \")","v":" "},null,null,null,null,0,null,null,null,0," "," "," "," "]
[{"$f":"IF(COUNTRY_INFO!A71=0,\" \",COUNTRY_INFO!A71)","v":"Uganda"},{"$f":"IF(COUNTRY_INFO!B71=0,\" \",COUNTRY_INFO!B71)","v":"Northern"},{"$f":"IF(COUNTRY_INFO!C71=0,\" \",COUNTRY_INFO!C71)","v":"Amuru"},{"$f":"IF(OR(COUNTRY_INFO!$T$9:$T$1000=\"T2 (PZQ)\",COUNTRY_INFO!$U$9:$U$1000=\"T2 (PZQ)\"), \"T2 (PZQ)\", \" \")","v":"T2 (PZQ)"},"Oct-2017",null,73246,126362,199608,null,42988,120831,163819," ",58.689894328700539,95.622892958326076,82.070357901486915]
[{"$f":"IF(COUNTRY_INFO!A72=0,\" \",COUNTRY_INFO!A72)","v":"Uganda"},{"$f":"IF(COUNTRY_INFO!B72=0,\" \",COUNTRY_INFO!B72)","v":"Northern"},{"$f":"IF(COUNTRY_INFO!C72=0,\" \",COUNTRY_INFO!C72)","v":"Apac"},{"$f":"IF(OR(COUNTRY_INFO!$T$9:$T$1000=\"T2 (PZQ)\",COUNTRY_INFO!$U$9:$U$1000=\"T2 (PZQ)\"), \"T2 (PZQ)\", \" \")","v":"T2 (PZQ)"},"Oct-2017",null,92054,146124,238178,null,85535,116854,202389," ",92.918287092358838,79.969067367441355,84.97384309214118]
[{"$f":"IF(COUNTRY_INFO!A73=0,\" \",COUNTRY_INFO!A73)","v":"Uganda"},{"$f":"IF(COUNTRY_INFO!B73=0,\" \",COUNTRY_INFO!B73)","v":"Northern"},{"$f":"IF(COUNTRY_INFO!C73=0,\" \",COUNTRY_INFO!C73)","v":"Arua"},{"$f":"IF(OR(COUNTRY_INFO!$T$9:$T$1000=\"T2 (PZQ)\",COUNTRY_INFO!$U$9:$U$1000=\"T2 (PZQ)\"), \"T2 (PZQ)\", \" \")","v":"T2 (PZQ)"},"Oct-2017",null,330459,439682,770141,null,209088,104553,313641," ",63.271994407778273,23.77923135356917,40.72513994190674]
[{"$f":"IF(COUNTRY_INFO!A74=0,\" \",COUNTRY_INFO!A74)","v":"Uganda"},{"$f":"IF(COUNTRY_INFO!B74=0,\" \",COUNTRY_INFO!B74)","v":"Northern"},{"$f":"IF(COUNTRY_INFO!C74=0,\" \",COUNTRY_INFO!C74)","v":"Dokolo"},{"$f":"IF(OR(COUNTRY_INFO!$T$9:$T$1000=\"T2 (PZQ)\",COUNTRY_INFO!$U$9:$U$1000=\"T2 (PZQ)\"), \"T2 (PZQ)\", \" \")","v":"T2 (PZQ)"},"Oct-2017",null,32455,null,{"$f":"SUM(F74:H74)","v":32455},null,30581,null,{"$f":"SUM(J74:L74)","v":30581},{"$f":"IF(F74<>0, IF(J74/F74*100=0, \"-\", J74/F74*100), \" \")","v":" "},{"$f":"IF(G74<>0, IF(K74/G74*100=0, \"-\", K74/G74*100), \" \")","v":94.225851178554919},{"$f":"IF(H74<>0, IF(L74/H74*100=0, \"-\", L74/H74*100), \" \")","v":" "},{"$f":"IF(I74<>0, IF(M74/I74*100=0, \"-\", M74/I74*100), \" \")","v":94.225851178554919}]
[{"$f":"IF(COUNTRY_INFO!A75=0,\" \",COUNTRY_INFO!A75)","v":"Uganda"},{"$f":"IF(COUNTRY_INFO!B75=0,\" \",COUNTRY_INFO!B75)","v":"Northern"},{"$f":"IF(COUNTRY_INFO!C75=0,\" \",COUNTRY_INFO!C75)","v":"Gulu"},{"$f":"IF(OR(COUNTRY_INFO!$T$9:$T$1000=\"T2 (PZQ)\",COUNTRY_INFO!$U$9:$U$1000=\"T2 (PZQ)\"), \"T2 (PZQ)\", \" \")","v":"T2 (PZQ)"},"Oct-2017",null,70460,116444,186904,null,79462,100030,179492," ",112.77604314504683,85.903953831884849,96.034327783247022]
[{"$f":"IF(COUNTRY_INFO!A76=0,\" \",COUNTRY_INFO!A76)","v":"Uganda"},{"$f":"IF(COUNTRY_INFO!B76=0,\" \",COUNTRY_INFO!B76)","v":"Northern"},{"$f":"IF(COUNTRY_INFO!C76=0,\" \",COUNTRY_INFO!C76)","v":"Kaabong"},{"$f":"IF(OR(COUNTRY_INFO!$T$9:$T$1000=\"T2 (PZQ)\",COUNTRY_INFO!$U$9:$U$1000=\"T2 (PZQ)\"), \"T2 (PZQ)\", \" \")","v":" "},null,null,null,null,0,null,null,null,0," "," "," "," "]
[{"$f":"IF(COUNTRY_INFO!A77=0,\" \",COUNTRY_INFO!A77)","v":"Uganda"},{"$f":"IF(COUNTRY_INFO!B77=0,\" \",COUNTRY_INFO!B77)","v":"Northern"},{"$f":"IF(COUNTRY_INFO!C77=0,\" \",COUNTRY_INFO!C77)","v":"Kitgum"},{"$f":"IF(OR(COUNTRY_INFO!$T$9:$T$1000=\"T2 (PZQ)\",COUNTRY_INFO!$U$9:$U$1000=\"T2 (PZQ)\"), \"T2 (PZQ)\", \" \")","v":"T2 (PZQ)"},"Oct-2017",null,70623,110542,181165,null,43650,69873,113523," ",61.8070600229387,63.209458848220592,62.662765986807614]
[{"$f":"IF(COUNTRY_INFO!A78=0,\" \",COUNTRY_INFO!A78)","v":"Uganda"},{"$f":"IF(COUNTRY_INFO!B78=0,\" \",COUNTRY_INFO!B78)","v":"Northern"},{"$f":"IF(COUNTRY_INFO!C78=0,\" \",COUNTRY_INFO!C78)","v":"Koboko"},{"$f":"IF(OR(COUNTRY_INFO!$T$9:$T$1000=\"T2 (PZQ)\",COUNTRY_INFO!$U$9:$U$1000=\"T2 (PZQ)\"), \"T2 (PZQ)\", \" \")","v":"T2 (PZQ)"},"Oct-2017",null,22534,25267,47801,null,37783,18496,56279," ",167.6710748202716,73.202200498674159,117.73603062697433]
[{"$f":"IF(COUNTRY_INFO!A79=0,\" \",COUNTRY_INFO!A79)","v":"Uganda"},{"$f":"IF(COUNTRY_INFO!B79=0,\" \",COUNTRY_INFO!B79)","v":"Northern"},{"$f":"IF(COUNTRY_INFO!C79=0,\" \",COUNTRY_INFO!C79)","v":"Kole"},{"$f":"IF(OR(COUNTRY_INFO!$T$9:$T$1000=\"T2 (PZQ)\",COUNTRY_INFO!$U$9:$U$1000=\"T2 (PZQ)\"), \"T2 (PZQ)\", \" \")","v":" "},null,null,null,null,0,null,null,null,0," "," "," "," "]
[{"$f":"IF(COUNTRY_INFO!A80=0,\" \",COUNTRY_INFO!A80)","v":"Uganda"},{"$f":"IF(COUNTRY_INFO!B80=0,\" \",COUNTRY_INFO!B80)","v":"Northern"},{"$f":"IF(COUNTRY_INFO!C80=0,\" \",COUNTRY_INFO!C80)","v":"Kotido"},{"$f":"IF(OR(COUNTRY_INFO!$T$9:$T$1000=\"T2 (PZQ)\",COUNTRY_INFO!$U$9:$U$1000=\"T2 (PZQ)\"), \"T2 (PZQ)\", \" \")","v":" "},null,null,null,null,0,null,null,null,0," "," "," "," "]
[{"$f":"IF(COUNTRY_INFO!A81=0,\" \",COUNTRY_INFO!A81)","v":"Uganda"},{"$f":"IF(COUNTRY_INFO!B81=0,\" \",COUNTRY_INFO!B81)","v":"Northern"},{"$f":"IF(COUNTRY_INFO!C81=0,\" \",COUNTRY_INFO!C81)","v":"Lamwo"},{"$f":"IF(OR(COUNTRY_INFO!$T$9:$T$1000=\"T2 (PZQ)\",COUNTRY_INFO!$U$9:$U$1000=\"T2 (PZQ)\"), \"T2 (PZQ)\", \" \")","v":"T2 (PZQ)"},"Oct-2017",null,40343,null,40343,null,38496,null,38496," ",95.42175842153533," ",95.42175842153533]
[{"$f":"IF(COUNTRY_INFO!A82=0,\" \",COUNTRY_INFO!A82)","v":"Uganda"},{"$f":"IF(COUNTRY_INFO!B82=0,\" \",COUNTRY_INFO!B82)","v":"Northern"},{"$f":"IF(COUNTRY_INFO!C82=0,\" \",COUNTRY_INFO!C82)","v":"Lira"},{"$f":"IF(OR(COUNTRY_INFO!$T$9:$T$1000=\"T2 (PZQ)\",COUNTRY_INFO!$U$9:$U$1000=\"T2 (PZQ)\"), \"T2 (PZQ)\", \" \")","v":"T2 (PZQ)"},"Oct-2017",null,8718,null,8718,null,8439,null,8439," ",96.799724707501724," ",96.799724707501724]
[{"$f":"IF(COUNTRY_INFO!A83=0,\" \",COUNTRY_INFO!A83)","v":"Uganda"},{"$f":"IF(COUNTRY_INFO!B83=0,\" \",COUNTRY_INFO!B83)","v":"Northern"},{"$f":"IF(COUNTRY_INFO!C83=0,\" \",COUNTRY_INFO!C83)","v":"Maracha"},{"$f":"IF(OR(COUNTRY_INFO!$T$9:$T$1000=\"T2 (PZQ)\",COUNTRY_INFO!$U$9:$U$1000=\"T2 (PZQ)\"), \"T2 (PZQ)\", \" \")","v":"T2 (PZQ)"},"Oct-2017",null,61479,null,61479,null,42696,null,42696," ",69.448104230712929," ",69.448104230712929]
[{"$f":"IF(COUNTRY_INFO!A84=0,\" \",COUNTRY_INFO!A84)","v":"Uganda"},{"$f":"IF(COUNTRY_INFO!B84=0,\" \",COUNTRY_INFO!B84)","v":"Northern"},{"$f":"IF(COUNTRY_INFO!C84=0,\" \",COUNTRY_INFO!C84)","v":"Moroto"},{"$f":"IF(OR(COUNTRY_INFO!$T$9:$T$1000=\"T2 (PZQ)\",COUNTRY_INFO!$U$9:$U$1000=\"T2 (PZQ)\"), \"T2 (PZQ)\", \" \")","v":" "},null,null,null,null,0,null,null,null,0," "," "," "," "]
[{"$f":"IF(COUNTRY_INFO!A85=0,\" \",COUNTRY_INFO!A85)","v":"Uganda"},{"$f":"IF(COUNTRY_INFO!B85=0,\" \",COUNTRY_INFO!B85)","v":"Northern"},{"$f":"IF(COUNTRY_INFO!C85=0,\" \",COUNTRY_INFO!C85)","v":"Moyo"},{"$f":"IF(OR(COUNTRY_INFO!$T$9:$T$1000=\"T2 (PZQ)\",COUNTRY_INFO!$U$9:$U$1000=\"T2 (PZQ)\"), \"T2 (PZQ)\", \" \")","v":"T2 (PZQ)"},"Oct-2017",null,34688,54920,89608,null,31947,50479,82426," ",92.098131918819192,91.913692643845593,91.985090616909204]
[{"$f":"IF(COUNTRY_INFO!A86=0,\" \",COUNTRY_INFO!A86)","v":"Uganda"},{"$f":"IF(COUNTRY_INFO!B86=0,\" \",COUNTRY_INFO!B86)","v":"Northern"},{"$f":"IF(COUNTRY_INFO!C86=0,\" \",COUNTRY_INFO!C86)","v":"Nakapiripirit"},{"$f":"IF(OR(COUNTRY_INFO!$T$9:$T$1000=\"T2 (PZQ)\",COUNTRY_INFO!$U$9:$U$1000=\"T2 (PZQ)\"), \"T2 (PZQ)\", \" \")","v":"T2 (PZQ)"},"Oct-2017",null,7906,null,7906,null,6317,null,6317," ",79.901340753857824," ",79.901340753857824]
[{"$f":"IF(COUNTRY_INFO!A87=0,\" \",COUNTRY_INFO!A87)","v":"Uganda"},{"$f":"IF(COUNTRY_INFO!B87=0,\" \",COUNTRY_INFO!B87)","v":"Northern"},{"$f":"IF(COUNTRY_INFO!C87=0,\" \",COUNTRY_INFO!C87)","v":"Napak"},{"$f":"IF(OR(COUNTRY_INFO!$T$9:$T$1000=\"T2 (PZQ)\",COUNTRY_INFO!$U$9:$U$1000=\"T2 (PZQ)\"), \"T2 (PZQ)\", \" \")","v":" "},null,null,null,null,0,null,null,null,0," "," "," "," "]
[{"$f":"IF(COUNTRY_INFO!A88=0,\" \",COUNTRY_INFO!A88)","v":"Uganda"},{"$f":"IF(COUNTRY_INFO!B88=0,\" \",COUNTRY_INFO!B88)","v":"Northern"},{"$f":"IF(COUNTRY_INFO!C88=0,\" \",COUNTRY_INFO!C88)","v":"Nebbi"},{"$f":"IF(OR(COUNTRY_INFO!$T$9:$T$1000=\"T2 (PZQ)\",COUNTRY_INFO!$U$9:$U$1000=\"T2 (PZQ)\"), \"T2 (PZQ)\", \" \")","v":"T2 (PZQ)"},"Oct-2017",null,58356,87451,145807,null,54606,80434,135040," ",93.573925560353686,91.976078032269498,92.615580870602926]
[{"$f":"IF(COUNTRY_INFO!A89=0,\" \",COUNTRY_INFO!A89)","v":"Uganda"},{"$f":"IF(COUNTRY_INFO!B89=0,\" \",COUNTRY_INFO!B89)","v":"Northern"},{"$f":"IF(COUNTRY_INFO!C89=0,\" \",COUNTRY_INFO!C89)","v":"Nwoya"},{"$f":"IF(OR(COUNTRY_INFO!$T$9:$T$1000=\"T2 (PZQ)\",COUNTRY_INFO!$U$9:$U$1000=\"T2 (PZQ)\"), \"T2 (PZQ)\", \" \")","v":"T2 (PZQ)"},"Oct-2017",null,61651,83212,144863,null,57347,77754,135101," ",93.018766929976806,93.440849877421527,93.261219220919074]
[{"$f":"IF(COUNTRY_INFO!A90=0,\" \",COUNTRY_INFO!A90)","v":"Uganda"},{"$f":"IF(COUNTRY_INFO!B90=0,\" \",COUNTRY_INFO!B90)","v":"Northern"},{"$f":"IF(COUNTRY_INFO!C90=0,\" \",COUNTRY_INFO!C90)","v":"Omoro"},{"$f":"IF(OR(COUNTRY_INFO!$T$9:$T$1000=\"T2 (PZQ)\",COUNTRY_INFO!$U$9:$U$1000=\"T2 (PZQ)\"), \"T2 (PZQ)\", \" \")","v":"T2 (PZQ)"},"Oct-2017",null,34587,99491,134078,null,45976,60529,106505," ",132.92855697227282,60.838668824315768,79.435104938916155]
[{"$f":"IF(COUNTRY_INFO!A91=0,\" \",COUNTRY_INFO!A91)","v":"Uganda"},{"$f":"IF(COUNTRY_INFO!B91=0,\" \",COUNTRY_INFO!B91)","v":"Northern"},{"$f":"IF(COUNTRY_INFO!C91=0,\" \",COUNTRY_INFO!C91)","v":"Otuke"},{"$f":"IF(OR(COUNTRY_INFO!$T$9:$T$1000=\"T2 (PZQ)\",COUNTRY_INFO!$U$9:$U$1000=\"T2 (PZQ)\"), \"T2 (PZQ)\", \" \")","v":" "},null,null,null,null,0,null,null,null,0," "," "," "," "]
[{"$f":"IF(COUNTRY_INFO!A92=0,\" \",COUNTRY_INFO!A92)","v":"Uganda"},{"$f":"IF(COUNTRY_INFO!B92=0,\" \",COUNTRY_INFO!B92)","v":"Northern"},{"$f":"IF(COUNTRY_INFO!C92=0,\" \",COUNTRY_INFO!C92)","v":"Oyam"},{"$f":"IF(OR(COUNTRY_INFO!$T$9:$T$1000=\"T2 (PZQ)\",COUNTRY_INFO!$U$9:$U$1000=\"T2 (PZQ)\"), \"T2 (PZQ)\", \" \")","v":"T2 (PZQ)"},"Oct-2017",null,66685,102614,169299,null,62152,86131,148283," ",93.202369348429187,83.936889703159409,87.586459459299817]
[{"$f":"IF(COUNTRY_INFO!A93=0,\" \",COUNTRY_INFO!A93)","v":"Uganda"},{"$f":"IF(COUNTRY_INFO!B93=0,\" \",COUNTRY_INFO!B93)","v":"Northern"},{"$f":"IF(COUNTRY_INFO!C93=0,\" \",COUNTRY_INFO!C93)","v":"Pader"},{"$f":"IF(OR(COUNTRY_INFO!$T$9:$T$1000=\"T2 (PZQ)\",COUNTRY_INFO!$U$9:$U$1000=\"T2 (PZQ)\"), \"T2 (PZQ)\", \" \")","v":"T2 (PZQ)"},"Oct-2017",null,87338,101340,188678,null,64721,68771,133492," ",74.104055508484279,67.861653838563257,70.751226958097931]
[{"$f":"IF(COUNTRY_INFO!A94=0,\" \",COUNTRY_INFO!A94)","v":"Uganda"},{"$f":"IF(COUNTRY_INFO!B94=0,\" \",COUNTRY_INFO!B94)","v":"Northern"},{"$f":"IF(COUNTRY_INFO!C94=0,\" \",COUNTRY_INFO!C94)","v":"Yumbe"},{"$f":"IF(OR(COUNTRY_INFO!$T$9:$T$1000=\"T2 (PZQ)\",COUNTRY_INFO!$U$9:$U$1000=\"T2 (PZQ)\"), \"T2 (PZQ)\", \" \")","v":"T2 (PZQ)"},"Oct-2017",null,102344,145196,247540,null,62462,79546,142008," ",61.031423434690844,54.785255792170581,57.367698149793981]
[{"$f":"IF(COUNTRY_INFO!A95=0,\" \",COUNTRY_INFO!A95)","v":"Uganda"},{"$f":"IF(COUNTRY_INFO!B95=0,\" \",COUNTRY_INFO!B95)","v":"Northern"},{"$f":"IF(COUNTRY_INFO!C95=0,\" \",COUNTRY_INFO!C95)","v":"Zombo"},{"$f":"IF(OR(COUNTRY_INFO!$T$9:$T$1000=\"T2 (PZQ)\",COUNTRY_INFO!$U$9:$U$1000=\"T2 (PZQ)\"), \"T2 (PZQ)\", \" \")","v":"T2 (PZQ)"},"Oct-2017",null,29902,null,29902,null,23656,null,23656," ",79.111765099324458," ",79.111765099324458]
[{"$f":"IF(COUNTRY_INFO!A96=0,\" \",COUNTRY_INFO!A96)","v":"Uganda"},{"$f":"IF(COUNTRY_INFO!B96=0,\" \",COUNTRY_INFO!B96)","v":"Western"},{"$f":"IF(COUNTRY_INFO!C96=0,\" \",COUNTRY_INFO!C96)","v":"Buhweju"},{"$f":"IF(OR(COUNTRY_INFO!$T$9:$T$1000=\"T2 (PZQ)\",COUNTRY_INFO!$U$9:$U$1000=\"T2 (PZQ)\"), \"T2 (PZQ)\", \" \")","v":" "},null,null,null,null,0,null,null,null,0," "," "," "," "]
[{"$f":"IF(COUNTRY_INFO!A97=0,\" \",COUNTRY_INFO!A97)","v":"Uganda"},{"$f":"IF(COUNTRY_INFO!B97=0,\" \",COUNTRY_INFO!B97)","v":"Western"},{"$f":"IF(COUNTRY_INFO!C97=0,\" \",COUNTRY_INFO!C97)","v":"Buliisa"},{"$f":"IF(OR(COUNTRY_INFO!$T$9:$T$1000=\"T2 (PZQ)\",COUNTRY_INFO!$U$9:$U$1000=\"T2 (PZQ)\"), \"T2 (PZQ)\", \" \")","v":"T2 (PZQ)"},"Oct-2017",null,40992,73946,114938,null,37348,59143,96491," ",91.110460577673692,79.981337732940247,83.950477648819373]
[{"$f":"IF(COUNTRY_INFO!A98=0,\" \",COUNTRY_INFO!A98)","v":"Uganda"},{"$f":"IF(COUNTRY_INFO!B98=0,\" \",COUNTRY_INFO!B98)","v":"Western"},{"$f":"IF(COUNTRY_INFO!C98=0,\" \",COUNTRY_INFO!C98)","v":"Bundibugyo"},{"$f":"IF(OR(COUNTRY_INFO!$T$9:$T$1000=\"T2 (PZQ)\",COUNTRY_INFO!$U$9:$U$1000=\"T2 (PZQ)\"), \"T2 (PZQ)\", \" \")","v":" "},null,null,null,null,0,null,null,null,0," "," "," "," "]
[{"$f":"IF(COUNTRY_INFO!A99=0,\" \",COUNTRY_INFO!A99)","v":"Uganda"},{"$f":"IF(COUNTRY_INFO!B99=0,\" \",COUNTRY_INFO!B99)","v":"Western"},{"$f":"IF(COUNTRY_INFO!C99=0,\" \",COUNTRY_INFO!C99)","v":"Bushenyi"},{"$f":"IF(OR(COUNTRY_INFO!$T$9:$T$1000=\"T2 (PZQ)\",COUNTRY_INFO!$U$9:$U$1000=\"T2 (PZQ)\"), \"T2 (PZQ)\", \" \")","v":" "},null,null,null,null,0,null,null,null,0," "," "," "," "]
[{"$f":"IF(COUNTRY_INFO!A100=0,\" \",COUNTRY_INFO!A100)","v":"Uganda"},{"$f":"IF(COUNTRY_INFO!B100=0,\" \",COUNTRY_INFO!B100)","v":"Western"},{"$f":"IF(COUNTRY_INFO!C100=0,\" \",COUNTRY_INFO!C100)","v":"Hoima"},{"$f":"IF(OR(COUNTRY_INFO!$T$9:$T$1000=\"T2 (PZQ)\",COUNTRY_INFO!$U$9:$U$1000=\"T2 (PZQ)\"), \"T2 (PZQ)\", \" \")","v":"T2 (PZQ)"},"Oct-2017",null,73102,91102,164204,null,61514,80134,141648," ",84.148176520478231,87.960747294241614,86.263428418308933]
[{"$f":"IF(COUNTRY_INFO!A101=0,\" \",COUNTRY_INFO!A101)","v":"Uganda"},{"$f":"IF(COUNTRY_INFO!B101=0,\" \",COUNTRY_INFO!B101)","v":"Western"},{"$f":"IF(COUNTRY_INFO!C101=0,\" \",COUNTRY_INFO!C101)","v":"Ibanda"},{"$f":"IF(OR(COUNTRY_INFO!$T$9:$T$1000=\"T2 (PZQ)\",COUNTRY_INFO!$U$9:$U$1000=\"T2 (PZQ)\"), \"T2 (PZQ)\", \" \")","v":"T2 (PZQ)"},"Oct-2017",null,6903,null,6903,null,5913,null,5913," ",85.658409387222946," ",85.658409387222946]
[{"$f":"IF(COUNTRY_INFO!A102=0,\" \",COUNTRY_INFO!A102)","v":"Uganda"},{"$f":"IF(COUNTRY_INFO!B102=0,\" \",COUNTRY_INFO!B102)","v":"Western"},{"$f":"IF(COUNTRY_INFO!C102=0,\" \",COUNTRY_INFO!C102)","v":"Isingiro"},{"$f":"IF(OR(COUNTRY_INFO!$T$9:$T$1000=\"T2 (PZQ)\",COUNTRY_INFO!$U$9:$U$1000=\"T2 (PZQ)\"), \"T2 (PZQ)\", \" \")","v":"T2 (PZQ)"},"Oct-2017",null,20643,null,20643,null,19714,null,19714," ",95.499685123286355," ",95.499685123286355]
[{"$f":"IF(COUNTRY_INFO!A103=0,\" \",COUNTRY_INFO!A103)","v":"Uganda"},{"$f":"IF(COUNTRY_INFO!B103=0,\" \",COUNTRY_INFO!B103)","v":"Western"},{"$f":"IF(COUNTRY_INFO!C103=0,\" \",COUNTRY_INFO!C103)","v":"Kabale"},{"$f":"IF(OR(COUNTRY_INFO!$T$9:$T$1000=\"T2 (PZQ)\",COUNTRY_INFO!$U$9:$U$1000=\"T2 (PZQ)\"), \"T2 (PZQ)\", \" \")","v":" "},null,null,null,null,0,null,null,null,0," "," "," "," "]
[{"$f":"IF(COUNTRY_INFO!A104=0,\" \",COUNTRY_INFO!A104)","v":"Uganda"},{"$f":"IF(COUNTRY_INFO!B104=0,\" \",COUNTRY_INFO!B104)","v":"Western"},{"$f":"IF(COUNTRY_INFO!C104=0,\" \",COUNTRY_INFO!C104)","v":"Kabarole"},{"$f":"IF(OR(COUNTRY_INFO!$T$9:$T$1000=\"T2 (PZQ)\",COUNTRY_INFO!$U$9:$U$1000=\"T2 (PZQ)\"), \"T2 (PZQ)\", \" \")","v":"T2 (PZQ)"},"Oct-2017",null,27577,32736,60313,null,21254,20658,41912," ",77.07147260398159,63.104838709677423,69.490822874007264]
[{"$f":"IF(COUNTRY_INFO!A105=0,\" \",COUNTRY_INFO!A105)","v":"Uganda"},{"$f":"IF(COUNTRY_INFO!B105=0,\" \",COUNTRY_INFO!B105)","v":"Western"},{"$f":"IF(COUNTRY_INFO!C105=0,\" \",COUNTRY_INFO!C105)","v":"Kagadi"},{"$f":"IF(OR(COUNTRY_INFO!$T$9:$T$1000=\"T2 (PZQ)\",COUNTRY_INFO!$U$9:$U$1000=\"T2 (PZQ)\"), \"T2 (PZQ)\", \" \")","v":"T2 (PZQ)"},"Oct-2017",null,96109,102473,198582,null,84609,84859,169468," ",88.03441925313966,82.811081943536351,85.339053892094952]
[{"$f":"IF(COUNTRY_INFO!A106=0,\" \",COUNTRY_INFO!A106)","v":"Uganda"},{"$f":"IF(COUNTRY_INFO!B106=0,\" \",COUNTRY_INFO!B106)","v":"Western"},{"$f":"IF(COUNTRY_INFO!C106=0,\" \",COUNTRY_INFO!C106)","v":"Kakumiro"},{"$f":"IF(OR(COUNTRY_INFO!$T$9:$T$1000=\"T2 (PZQ)\",COUNTRY_INFO!$U$9:$U$1000=\"T2 (PZQ)\"), \"T2 (PZQ)\", \" \")","v":" "},null,null,null,null,0,null,null,null,0," "," "," "," "]
[{"$f":"IF(COUNTRY_INFO!A107=0,\" \",COUNTRY_INFO!A107)","v":"Uganda"},{"$f":"IF(COUNTRY_INFO!B107=0,\" \",COUNTRY_INFO!B107)","v":"Western"},{"$f":"IF(COUNTRY_INFO!C107=0,\" \",COUNTRY_INFO!C107)","v":"Kamwenge"},{"$f":"IF(OR(COUNTRY_INFO!$T$9:$T$1000=\"T2 (PZQ)\",COUNTRY_INFO!$U$9:$U$1000=\"T2 (PZQ)\"), \"T2 (PZQ)\", \" \")","v":"T2 (PZQ)"},"Oct-2017",null,6918,8469,15387,null,7369,6808,14177," ",106.51922520959816,80.387294840004714,92.136218886072669]
[{"$f":"IF(COUNTRY_INFO!A108=0,\" \",COUNTRY_INFO!A108)","v":"Uganda"},{"$f":"IF(COUNTRY_INFO!B108=0,\" \",COUNTRY_INFO!B108)","v":"Western"},{"$f":"IF(COUNTRY_INFO!C108=0,\" \",COUNTRY_INFO!C108)","v":"Kanungu"},{"$f":"IF(OR(COUNTRY_INFO!$T$9:$T$1000=\"T2 (PZQ)\",COUNTRY_INFO!$U$9:$U$1000=\"T2 (PZQ)\"), \"T2 (PZQ)\", \" \")","v":" "},null,null,null,null,0,null,null,null,0," "," "," "," "]
[{"$f":"IF(COUNTRY_INFO!A109=0,\" \",COUNTRY_INFO!A109)","v":"Uganda"},{"$f":"IF(COUNTRY_INFO!B109=0,\" \",COUNTRY_INFO!B109)","v":"Western"},{"$f":"IF(COUNTRY_INFO!C109=0,\" \",COUNTRY_INFO!C109)","v":"Kasese"},{"$f":"IF(OR(COUNTRY_INFO!$T$9:$T$1000=\"T2 (PZQ)\",COUNTRY_INFO!$U$9:$U$1000=\"T2 (PZQ)\"), \"T2 (PZQ)\", \" \")","v":"T2 (PZQ)"},"Oct-2017",null,4482,6858,11340,null,3704,6089,9793," ",82.641677822400723,88.786818314377371,86.358024691358025]
[{"$f":"IF(COUNTRY_INFO!A110=0,\" \",COUNTRY_INFO!A110)","v":"Uganda"},{"$f":"IF(COUNTRY_INFO!B110=0,\" \",COUNTRY_INFO!B110)","v":"Western"},{"$f":"IF(COUNTRY_INFO!C110=0,\" \",COUNTRY_INFO!C110)","v":"Kibaale"},{"$f":"IF(OR(COUNTRY_INFO!$T$9:$T$1000=\"T2 (PZQ)\",COUNTRY_INFO!$U$9:$U$1000=\"T2 (PZQ)\"), \"T2 (PZQ)\", \" \")","v":" "},null,null,null,null,0,null,null,null,0," "," "," "," "]
[{"$f":"IF(COUNTRY_INFO!A111=0,\" \",COUNTRY_INFO!A111)","v":"Uganda"},{"$f":"IF(COUNTRY_INFO!B111=0,\" \",COUNTRY_INFO!B111)","v":"Western"},{"$f":"IF(COUNTRY_INFO!C111=0,\" \",COUNTRY_INFO!C111)","v":"Kiruhura"},{"$f":"IF(OR(COUNTRY_INFO!$T$9:$T$1000=\"T2 (PZQ)\",COUNTRY_INFO!$U$9:$U$1000=\"T2 (PZQ)\"), \"T2 (PZQ)\", \" \")","v":"T2 (PZQ)"},"Oct-2017",null,30772,null,30772,null,29919,null,29919," ",97.227999480046805," ",97.227999480046805]
[{"$f":"IF(COUNTRY_INFO!A112=0,\" \",COUNTRY_INFO!A112)","v":"Uganda"},{"$f":"IF(COUNTRY_INFO!B112=0,\" \",COUNTRY_INFO!B112)","v":"Western"},{"$f":"IF(COUNTRY_INFO!C112=0,\" \",COUNTRY_INFO!C112)","v":"Kiryandongo"},{"$f":"IF(OR(COUNTRY_INFO!$T$9:$T$1000=\"T2 (PZQ)\",COUNTRY_INFO!$U$9:$U$1000=\"T2 (PZQ)\"), \"T2 (PZQ)\", \" \")","v":"T2 (PZQ)"},"Oct-2017",null,31188,40864,72052,null,36790,32471,69261," ",117.96203668077464,79.46113938919342,96.1264087048243]
[{"$f":"IF(COUNTRY_INFO!A113=0,\" \",COUNTRY_INFO!A113)","v":"Uganda"},{"$f":"IF(COUNTRY_INFO!B113=0,\" \",COUNTRY_INFO!B113)","v":"Western"},{"$f":"IF(COUNTRY_INFO!C113=0,\" \",COUNTRY_INFO!C113)","v":"Kisoro"},{"$f":"IF(OR(COUNTRY_INFO!$T$9:$T$1000=\"T2 (PZQ)\",COUNTRY_INFO!$U$9:$U$1000=\"T2 (PZQ)\"), \"T2 (PZQ)\", \" \")","v":" "},null,null,null,null,0,null,null,null,0," "," "," "," "]
[{"$f":"IF(COUNTRY_INFO!A114=0,\" \",COUNTRY_INFO!A114)","v":"Uganda"},{"$f":"IF(COUNTRY_INFO!B114=0,\" \",COUNTRY_INFO!B114)","v":"Western"},{"$f":"IF(COUNTRY_INFO!C114=0,\" \",COUNTRY_INFO!C114)","v":"Kyegegwa"},{"$f":"IF(OR(COUNTRY_INFO!$T$9:$T$1000=\"T2 (PZQ)\",COUNTRY_INFO!$U$9:$U$1000=\"T2 (PZQ)\"), \"T2 (PZQ)\", \" \")","v":" "},null,null,null,null,0,null,null,null,0," "," "," "," "]
[{"$f":"IF(COUNTRY_INFO!A115=0,\" \",COUNTRY_INFO!A115)","v":"Uganda"},{"$f":"IF(COUNTRY_INFO!B115=0,\" \",COUNTRY_INFO!B115)","v":"Western"},{"$f":"IF(COUNTRY_INFO!C115=0,\" \",COUNTRY_INFO!C115)","v":"Kyenjojo"},{"$f":"IF(OR(COUNTRY_INFO!$T$9:$T$1000=\"T2 (PZQ)\",COUNTRY_INFO!$U$9:$U$1000=\"T2 (PZQ)\"), \"T2 (PZQ)\", \" \")","v":" "},null,null,null,null,0,null,null,null,0," "," "," "," "]
[{"$f":"IF(COUNTRY_INFO!A116=0,\" \",COUNTRY_INFO!A116)","v":"Uganda"},{"$f":"IF(COUNTRY_INFO!B116=0,\" \",COUNTRY_INFO!B116)","v":"Western"},{"$f":"IF(COUNTRY_INFO!C116=0,\" \",COUNTRY_INFO!C116)","v":"Masindi"},{"$f":"IF(OR(COUNTRY_INFO!$T$9:$T$1000=\"T2 (PZQ)\",COUNTRY_INFO!$U$9:$U$1000=\"T2 (PZQ)\"), \"T2 (PZQ)\", \" \")","v":" "},null,null,null,null,0,null,null,null,0," "," "," "," "]
[{"$f":"IF(COUNTRY_INFO!A117=0,\" \",COUNTRY_INFO!A117)","v":"Uganda"},{"$f":"IF(COUNTRY_INFO!B117=0,\" \",COUNTRY_INFO!B117)","v":"Western"},{"$f":"IF(COUNTRY_INFO!C117=0,\" \",COUNTRY_INFO!C117)","v":"Mbarara"},{"$f":"IF(OR(COUNTRY_INFO!$T$9:$T$1000=\"T2 (PZQ)\",COUNTRY_INFO!$U$9:$U$1000=\"T2 (PZQ)\"), \"T2 (PZQ)\", \" \")","v":" "},null,null,null,null,0,null,null,null,0," "," "," "," "]
[{"$f":"IF(COUNTRY_INFO!A118=0,\" \",COUNTRY_INFO!A118)","v":"Uganda"},{"$f":"IF(COUNTRY_INFO!B118=0,\" \",COUNTRY_INFO!B118)","v":"Western"},{"$f":"IF(COUNTRY_INFO!C118=0,\" \",COUNTRY_INFO!C118)","v":"Mitooma"},{"$f":"IF(OR(COUNTRY_INFO!$T$9:$T$1000=\"T2 (PZQ)\",COUNTRY_INFO!$U$9:$U$1000=\"T2 (PZQ)\"), \"T2 (PZQ)\", \" \")","v":" "},null,null,null,null,0,null,null,null,0," "," "," "," "]
[{"$f":"IF(COUNTRY_INFO!A119=0,\" \",COUNTRY_INFO!A119)","v":"Uganda"},{"$f":"IF(COUNTRY_INFO!B119=0,\" \",COUNTRY_INFO!B119)","v":"Western"},{"$f":"IF(COUNTRY_INFO!C119=0,\" \",COUNTRY_INFO!C119)","v":"Ntoroko"},{"$f":"IF(OR(COUNTRY_INFO!$T$9:$T$1000=\"T2 (PZQ)\",COUNTRY_INFO!$U$9:$U$1000=\"T2 (PZQ)\"), \"T2 (PZQ)\", \" \")","v":"T2 (PZQ)"},"Oct-2017",null,4950,8557,13507,null,4074,6193,10267," ",82.303030303030297,72.373495383896227,76.012437995113643]
[{"$f":"IF(COUNTRY_INFO!A120=0,\" \",COUNTRY_INFO!A120)","v":"Uganda"},{"$f":"IF(COUNTRY_INFO!B120=0,\" \",COUNTRY_INFO!B120)","v":"Western"},{"$f":"IF(COUNTRY_INFO!C120=0,\" \",COUNTRY_INFO!C120)","v":"Ntungamo"},{"$f":"IF(OR(COUNTRY_INFO!$T$9:$T$1000=\"T2 (PZQ)\",COUNTRY_INFO!$U$9:$U$1000=\"T2 (PZQ)\"), \"T2 (PZQ)\", \" \")","v":" "},null,null,null,null,0,null,null,null,0," "," "," "," "]
[{"$f":"IF(COUNTRY_INFO!A121=0,\" \",COUNTRY_INFO!A121)","v":"Uganda"},{"$f":"IF(COUNTRY_INFO!B121=0,\" \",COUNTRY_INFO!B121)","v":"Western"},{"$f":"IF(COUNTRY_INFO!C121=0,\" \",COUNTRY_INFO!C121)","v":"Rubanda"},{"$f":"IF(OR(COUNTRY_INFO!$T$9:$T$1000=\"T2 (PZQ)\",COUNTRY_INFO!$U$9:$U$1000=\"T2 (PZQ)\"), \"T2 (PZQ)\", \" \")","v":" "},null,null,null,null,0,null,null,null,0," "," "," "," "]
[{"$f":"IF(COUNTRY_INFO!A122=0,\" \",COUNTRY_INFO!A122)","v":"Uganda"},{"$f":"IF(COUNTRY_INFO!B122=0,\" \",COUNTRY_INFO!B122)","v":"Western"},{"$f":"IF(COUNTRY_INFO!C122=0,\" \",COUNTRY_INFO!C122)","v":"Rubirizi"},{"$f":"IF(OR(COUNTRY_INFO!$T$9:$T$1000=\"T2 (PZQ)\",COUNTRY_INFO!$U$9:$U$1000=\"T2 (PZQ)\"), \"T2 (PZQ)\", \" \")","v":"T2 (PZQ)"},"Oct-2017",null,883,2626,3509,null,801,2626,3427," ",90.713476783691959,100,97.663151895126816]
[{"$f":"IF(COUNTRY_INFO!A123=0,\" \",COUNTRY_INFO!A123)","v":"Uganda"},{"$f":"IF(COUNTRY_INFO!B123=0,\" \",COUNTRY_INFO!B123)","v":"Western"},{"$f":"IF(COUNTRY_INFO!C123=0,\" \",COUNTRY_INFO!C123)","v":"Rukungiri"},{"$f":"IF(OR(COUNTRY_INFO!$T$9:$T$1000=\"T2 (PZQ)\",COUNTRY_INFO!$U$9:$U$1000=\"T2 (PZQ)\"), \"T2 (PZQ)\", \" \")","v":"T2 (PZQ)"},"Oct-2017",null,11178,null,11178,null,11108,null,11108," ",99.373769905170874," ",99.373769905170874]
[{"$f":"IF(COUNTRY_INFO!A124=0,\" \",COUNTRY_INFO!A124)","v":"Uganda"},{"$f":"IF(COUNTRY_INFO!B124=0,\" \",COUNTRY_INFO!B124)","v":"Western"},{"$f":"IF(COUNTRY_INFO!C124=0,\" \",COUNTRY_INFO!C124)","v":"Sheema"},{"$f":"IF(OR(COUNTRY_INFO!$T$9:$T$1000=\"T2 (PZQ)\",COUNTRY_INFO!$U$9:$U$1000=\"T2 (PZQ)\"), \"T2 (PZQ)\", \" \")","v":" "},null,null,null,null,0,null,null,null,0," "," "," "," "]

{"sheet":"T3_R1","index":7,"n_rows":124,"n_cols":18,"rows_kept":124,"cut":false,"hidden":false,"merged":[[5,6,5,9],[5,10,5,13],[5,14,5,17],[3,0,3,2],[5,0,5,2],[5,3,6,3],[5,5,6,5],[5,4,6,4]]}
["T 3 - Albendazole (ALB) or Mebendazole (MBD) - Round 1"]
["Administrative structure, population requiring PC by age group, population treated by age group and coverage"]
[]
["TOTAL",null,null,null,null,null,{"$f":"SUM(G$9:G$1000)","v":5375868},11433191,0,16809059,4724858,3510398,0,8235256,{"$f":"IF(G4<>0, IF(K4/G4*100=0, \"-\", K4/G4*100), \" \")","v":87.890141647823199},{"$f":"IF(H4<>0, IF(L4/H4*100=0, \"-\", L4/H4*100), \" \")","v":30.703571732511069},{"$f":"IF(I4<>0, IF(M4/I4*100=0, \"-\", M4/I4*100), \" \")","v":" "},{"$f":"IF(J4<>0, IF(N4/J4*100=0, \"-\", N4/J4*100), \" \")","v":48.992962663763628}]
[]
[null,null,null,"PC implemented","Medicine","Date","Population targeted for T3",null,null,null,"Population treated",null,null,null,"Programme coverage (%)"]
["Country","Province/State","District",null,null,null,"PreSAC","SAC","Adults","Total","PreSAC","SAC","Adults","Total","PreSAC","SAC","Adults","Total"]
[]
[{"$f":"IF(COUNTRY_INFO!A9=0,\" \",COUNTRY_INFO!A9)","v":"Uganda"},{"$f":"IF(COUNTRY_INFO!B9=0,\" \",COUNTRY_INFO!B9)","v":"Central "},{"$f":"IF(COUNTRY_INFO!C9=0,\" \",COUNTRY_INFO!C9)","v":"Buikwe"},{"$f":"IF(OR(COUNTRY_INFO!$T$9:$T$1000=\"T3 (ALB/MBD)\",COUNTRY_INFO!$U$9:$U$1000=\"T3 (ALB/MBD)\"), \"T3 (ALB/MBD)\", \" \")","v":"T3 (ALB/MBD)"},"MBD","Jan-June 2017",65658,139638,null,{"$f":"SUM(G9:I9)","v":205296},30755,2815,null,{"$f":"SUM(K9:M9)","v":33570},{"$f":"IF(G9<>0, IF(K9/G9*100=0, \"-\", K9/G9*100), \" \")","v":46.841207469006065},2.0159268966900128," ",16.351999064765021]
[{"$f":"IF(COUNTRY_INFO!A10=0,\" \",COUNTRY_INFO!A10)","v":"Uganda"},{"$f":"IF(COUNTRY_INFO!B10=0,\" \",COUNTRY_INFO!B10)","v":"Central "},{"$f":"IF(COUNTRY_INFO!C10=0,\" \",COUNTRY_INFO!C10)","v":"Bukomansimbi"},{"$f":"IF(OR(COUNTRY_INFO!$T$9:$T$1000=\"T3 (ALB/MBD)\",COUNTRY_INFO!$U$9:$U$1000=\"T3 (ALB/MBD)\"), \"T3 (ALB/MBD)\", \" \")","v":"T3 (ALB/MBD)"},"MBD","Jan-June 2017",23515,50011,null,{"$f":"SUM(G10:I10)","v":73526},45454,29975,null,{"$f":"SUM(K10:M10)","v":75429},{"$f":"IF(G10<>0, IF(K10/G10*100=0, \"-\", K10/G10*100), \" \")","v":193.2978949606634},{"$f":"IF(H10<>0, IF(L10/H10*100=0, \"-\", L10/H10*100), \" \")","v":59.936813900941786},{"$f":"IF(I10<>0, IF(M10/I10*100=0, \"-\", M10/I10*100), \" \")","v":" "},{"$f":"IF(J10<>0, IF(N10/J10*100=0, \"-\", N10/J10*100), \" \")","v":102.58820009248429}]
[{"$f":"IF(COUNTRY_INFO!A11=0,\" \",COUNTRY_INFO!A11)","v":"Uganda"},{"$f":"IF(COUNTRY_INFO!B11=0,\" \",COUNTRY_INFO!B11)","v":"Central "},{"$f":"IF(COUNTRY_INFO!C11=0,\" \",COUNTRY_INFO!C11)","v":"Butambala"},{"$f":"IF(OR(COUNTRY_INFO!$T$9:$T$1000=\"T3 (ALB/MBD)\",COUNTRY_INFO!$U$9:$U$1000=\"T3 (ALB/MBD)\"), \"T3 (ALB/MBD)\", \" \")","v":"T3 (ALB/MBD)"},"MBD","Jan-June 2017",15661,33306,null,48967,47158,8855,null,56013,301.11742545175912,26.586801176965114," ",114.38928257806278]
[{"$f":"IF(COUNTRY_INFO!A12=0,\" \",COUNTRY_INFO!A12)","v":"Uganda"},{"$f":"IF(COUNTRY_INFO!B12=0,\" \",COUNTRY_INFO!B12)","v":"Central "},{"$f":"IF(COUNTRY_INFO!C12=0,\" \",COUNTRY_INFO!C12)","v":"Buvuma"},{"$f":"IF(OR(COUNTRY_INFO!$T$9:$T$1000=\"T3 (ALB/MBD)\",COUNTRY_INFO!$U$9:$U$1000=\"T3 (ALB/MBD)\"), \"T3 (ALB/MBD)\", \" \")","v":"T3 (ALB/MBD)"},"MBD","Jan-June 2017",14550,30944,null,45494,3309,5118,null,8427,22.742268041237111,16.539555325749742," ",18.523321756715173]
[{"$f":"IF(COUNTRY_INFO!A13=0,\" \",COUNTRY_INFO!A13)","v":"Uganda"},{"$f":"IF(COUNTRY_INFO!B13=0,\" \",COUNTRY_INFO!B13)","v":"Central "},{"$f":"IF(COUNTRY_INFO!C13=0,\" \",COUNTRY_INFO!C13)","v":"Gomba"},{"$f":"IF(OR(COUNTRY_INFO!$T$9:$T$1000=\"T3 (ALB/MBD)\",COUNTRY_INFO!$U$9:$U$1000=\"T3 (ALB/MBD)\"), \"T3 (ALB/MBD)\", \" \")","v":"T3 (ALB/MBD)"},"MBD","Jan-June 2017",24836,52821,null,77657,15984,14433,null,30417,64.358189724593331,27.324359629692736," ",39.168394349511317]
[{"$f":"IF(COUNTRY_INFO!A14=0,\" \",COUNTRY_INFO!A14)","v":"Uganda"},{"$f":"IF(COUNTRY_INFO!B14=0,\" \",COUNTRY_INFO!B14)","v":"Central "},{"$f":"IF(COUNTRY_INFO!C14=0,\" \",COUNTRY_INFO!C14)","v":"Kalangala"},{"$f":"IF(OR(COUNTRY_INFO!$T$9:$T$1000=\"T3 (ALB/MBD)\",COUNTRY_INFO!$U$9:$U$1000=\"T3 (ALB/MBD)\"), \"T3 (ALB/MBD)\", \" \")","v":"T3 (ALB/MBD)"},"MBD","Jan-June 2017",8432,17932,null,26364,11684,6409,null,18093,138.5673624288425,35.740575507472677," ",68.627674101046892]
[{"$f":"IF(COUNTRY_INFO!A15=0,\" \",COUNTRY_INFO!A15)","v":"Uganda"},{"$f":"IF(COUNTRY_INFO!B15=0,\" \",COUNTRY_INFO!B15)","v":"Central "},{"$f":"IF(COUNTRY_INFO!C15=0,\" \",COUNTRY_INFO!C15)","v":"Kalungu"},{"$f":"IF(OR(COUNTRY_INFO!$T$9:$T$1000=\"T3 (ALB/MBD)\",COUNTRY_INFO!$U$9:$U$1000=\"T3 (ALB/MBD)\"), \"T3 (ALB/MBD)\", \" \")","v":"T3 (ALB/MBD)"},"MBD","Jan-June 2017",28456,60520,null,88976,52713,21831,null,74544,185.24388529659825,36.072372769332453," ",83.779895702211832]
[{"$f":"IF(COUNTRY_INFO!A16=0,\" \",COUNTRY_INFO!A16)","v":"Uganda"},{"$f":"IF(COUNTRY_INFO!B16=0,\" \",COUNTRY_INFO!B16)","v":"Central "},{"$f":"IF(COUNTRY_INFO!C16=0,\" \",COUNTRY_INFO!C16)","v":"Kampala"},{"$f":"IF(OR(COUNTRY_INFO!$T$9:$T$1000=\"T3 (ALB/MBD)\",COUNTRY_INFO!$U$9:$U$1000=\"T3 (ALB/MBD)\"), \"T3 (ALB/MBD)\", \" \")","v":"T3 (ALB/MBD)"},"MBD","Jan-June 2017",234054,497777,null,731831,55089,33098,null,88187,23.536876105514111,6.6491621750301837," ",12.050186450150377]
[{"$f":"IF(COUNTRY_INFO!A17=0,\" \",COUNTRY_INFO!A17)","v":"Uganda"},{"$f":"IF(COUNTRY_INFO!B17=0,\" \",COUNTRY_INFO!B17)","v":"Central "},{"$f":"IF(COUNTRY_INFO!C17=0,\" \",COUNTRY_INFO!C17)","v":"Kayunga"},{"$f":"IF(OR(COUNTRY_INFO!$T$9:$T$1000=\"T3 (ALB/MBD)\",COUNTRY_INFO!$U$9:$U$1000=\"T3 (ALB/MBD)\"), \"T3 (ALB/MBD)\", \" \")","v":"T3 (ALB/MBD)"},"MBD","Jan-June 2017",57161,121568,null,178729,29284,6179,null,35463,51.23073424187821,5.0827520400105293," ",19.841771620721875]
[{"$f":"IF(COUNTRY_INFO!A18=0,\" \",COUNTRY_INFO!A18)","v":"Uganda"},{"$f":"IF(COUNTRY_INFO!B18=0,\" \",COUNTRY_INFO!B18)","v":"Central "},{"$f":"IF(COUNTRY_INFO!C18=0,\" \",COUNTRY_INFO!C18)","v":"Kiboga"},{"$f":"IF(OR(COUNTRY_INFO!$T$9:$T$1000=\"T3 (ALB/MBD)\",COUNTRY_INFO!$U$9:$U$1000=\"T3 (ALB/MBD)\"), \"T3 (ALB/MBD)\", \" \")","v":"T3 (ALB/MBD)"},"MBD","Jan-June 2017",23019,48955,null,71974,20402,10566,null,30968,88.63113080498718,21.583086508017569," ",43.026648511962648]
[{"$f":"IF(COUNTRY_INFO!A19=0,\" \",COUNTRY_INFO!A19)","v":"Uganda"},{"$f":"IF(COUNTRY_INFO!B19=0,\" \",COUNTRY_INFO!B19)","v":"Central "},{"$f":"IF(COUNTRY_INFO!C19=0,\" \",COUNTRY_INFO!C19)","v":"Kyankwanzi"},{"$f":"IF(OR(COUNTRY_INFO!$T$9:$T$1000=\"T3 (ALB/MBD)\",COUNTRY_INFO!$U$9:$U$1000=\"T3 (ALB/MBD)\"), \"T3 (ALB/MBD)\", \" \")","v":"T3 (ALB/MBD)"},"MBD","Jan-June 2017",33342,70911,null,104253,41866,18277,null,60143,125.56535300821787,25.774562479728107," ",57.689466969775452]
[{"$f":"IF(COUNTRY_INFO!A20=0,\" \",COUNTRY_INFO!A20)","v":"Uganda"},{"$f":"IF(COUNTRY_INFO!B20=0,\" \",COUNTRY_INFO!B20)","v":"Central "},{"$f":"IF(COUNTRY_INFO!C20=0,\" \",COUNTRY_INFO!C20)","v":"Luwero"},{"$f":"IF(OR(COUNTRY_INFO!$T$9:$T$1000=\"T3 (ALB/MBD)\",COUNTRY_INFO!$U$9:$U$1000=\"T3 (ALB/MBD)\"), \"T3 (ALB/MBD)\", \" \")","v":"T3 (ALB/MBD)"},"MBD","Jan-June 2017",70967,150930,null,221897,58753,28516,null,87269,82.789183705102374,18.893526800503544," ",39.328607416954711]
[{"$f":"IF(COUNTRY_INFO!A21=0,\" \",COUNTRY_INFO!A21)","v":"Uganda"},{"$f":"IF(COUNTRY_INFO!B21=0,\" \",COUNTRY_INFO!B21)","v":"Central "},{"$f":"IF(COUNTRY_INFO!C21=0,\" \",COUNTRY_INFO!C21)","v":"Lwengo"},{"$f":"IF(OR(COUNTRY_INFO!$T$9:$T$1000=\"T3 (ALB/MBD)\",COUNTRY_INFO!$U$9:$U$1000=\"T3 (ALB/MBD)\"), \"T3 (ALB/MBD)\", \" \")","v":"T3 (ALB/MBD)"},"MBD","Jan-June 2017",42701,90815,null,133516,16854,1312,null,18166,39.469801643989605,1.4446952595936793," ",13.60585997183858]
[{"$f":"IF(COUNTRY_INFO!A22=0,\" \",COUNTRY_INFO!A22)","v":"Uganda"},{"$f":"IF(COUNTRY_INFO!B22=0,\" \",COUNTRY_INFO!B22)","v":"Central "},{"$f":"IF(COUNTRY_INFO!C22=0,\" \",COUNTRY_INFO!C22)","v":"Lyantonde"},{"$f":"IF(OR(COUNTRY_INFO!$T$9:$T$1000=\"T3 (ALB/MBD)\",COUNTRY_INFO!$U$9:$U$1000=\"T3 (ALB/MBD)\"), \"T3 (ALB/MBD)\", \" \")","v":"T3 (ALB/MBD)"},"MBD","Jan-June 2017",14560,30966,null,45526,21929,11862,null,33791,150.61126373626374,38.306529742298004," ",74.223520625576583]
[{"$f":"IF(COUNTRY_INFO!A23=0,\" \",COUNTRY_INFO!A23)","v":"Uganda"},{"$f":"IF(COUNTRY_INFO!B23=0,\" \",COUNTRY_INFO!B23)","v":"Central "},{"$f":"IF(COUNTRY_INFO!C23=0,\" \",COUNTRY_INFO!C23)","v":"Masaka"},{"$f":"IF(OR(COUNTRY_INFO!$T$9:$T$1000=\"T3 (ALB/MBD)\",COUNTRY_INFO!$U$9:$U$1000=\"T3 (ALB/MBD)\"), \"T3 (ALB/MBD)\", \" \")","v":"T3 (ALB/MBD)"},"MBD","Jan-June 2017",46126,98098,null,144224,38791,26888,null,65679,84.097905736461001,27.409325368509041," ",45.539577324162408]
[{"$f":"IF(COUNTRY_INFO!A24=0,\" \",COUNTRY_INFO!A24)","v":"Uganda"},{"$f":"IF(COUNTRY_INFO!B24=0,\" \",COUNTRY_INFO!B24)","v":"Central "},{"$f":"IF(COUNTRY_INFO!C24=0,\" \",COUNTRY_INFO!C24)","v":"Mityana"},{"$f":"IF(OR(COUNTRY_INFO!$T$9:$T$1000=\"T3 (ALB/MBD)\",COUNTRY_INFO!$U$9:$U$1000=\"T3 (ALB/MBD)\"), \"T3 (ALB/MBD)\", \" \")","v":"T3 (ALB/MBD)"},"MBD","Jan-June 2017",51089,108654,null,159743,26397,28863,null,55260,51.668656657988997,26.564139378209727," ",34.593065110834274]
[{"$f":"IF(COUNTRY_INFO!A25=0,\" \",COUNTRY_INFO!A25)","v":"Uganda"},{"$f":"IF(COUNTRY_INFO!B25=0,\" \",COUNTRY_INFO!B25)","v":"Central "},{"$f":"IF(COUNTRY_INFO!C25=0,\" \",COUNTRY_INFO!C25)","v":"Mpigi"},{"$f":"IF(OR(COUNTRY_INFO!$T$9:$T$1000=\"T3 (ALB/MBD)\",COUNTRY_INFO!$U$9:$U$1000=\"T3 (ALB/MBD)\"), \"T3 (ALB/MBD)\", \" \")","v":"T3 (ALB/MBD)"},"MBD","Jan-June 2017",38911,82754,null,121665,23117,10998,null,34115,59.409935493819233,13.289992024554703," ",28.040110138495049]
[{"$f":"IF(COUNTRY_INFO!A26=0,\" \",COUNTRY_INFO!A26)","v":"Uganda"},{"$f":"IF(COUNTRY_INFO!B26=0,\" \",COUNTRY_INFO!B26)","v":"Central "},{"$f":"IF(COUNTRY_INFO!C26=0,\" \",COUNTRY_INFO!C26)","v":"Mubende"},{"$f":"IF(OR(COUNTRY_INFO!$T$9:$T$1000=\"T3 (ALB/MBD)\",COUNTRY_INFO!$U$9:$U$1000=\"T3 (ALB/MBD)\"), \"T3 (ALB/MBD)\", \" \")","v":"T3 (ALB/MBD)"},"MBD","Jan-June 2017",106279,226031,null,332310,35815,30964,null,66779,33.69903743919307,13.699005888572808," ",20.095392856068127]
[{"$f":"IF(COUNTRY_INFO!A27=0,\" \",COUNTRY_INFO!A27)","v":"Uganda"},{"$f":"IF(COUNTRY_INFO!B27=0,\" \",COUNTRY_INFO!B27)","v":"Central "},{"$f":"IF(COUNTRY_INFO!C27=0,\" \",COUNTRY_INFO!C27)","v":"Mukono"},{"$f":"IF(OR(COUNTRY_INFO!$T$9:$T$1000=\"T3 (ALB/MBD)\",COUNTRY_INFO!$U$9:$U$1000=\"T3 (ALB/MBD)\"), \"T3 (ALB/MBD)\", \" \")","v":"T3 (ALB/MBD)"},"MBD","Jan-June 2017",92685,197120,null,289805,27670,30436,null,58106,29.853805901710096,15.440340909090908," ",20.050033643311881]
[{"$f":"IF(COUNTRY_INFO!A28=0,\" \",COUNTRY_INFO!A28)","v":"Uganda"},{"$f":"IF(COUNTRY_INFO!B28=0,\" \",COUNTRY_INFO!B28)","v":"Central "},{"$f":"IF(COUNTRY_INFO!C28=0,\" \",COUNTRY_INFO!C28)","v":"Nakaseke"},{"$f":"IF(OR(COUNTRY_INFO!$T$9:$T$1000=\"T3 (ALB/MBD)\",COUNTRY_INFO!$U$9:$U$1000=\"T3 (ALB/MBD)\"), \"T3 (ALB/MBD)\", \" \")","v":"T3 (ALB/MBD)"},"MBD","Jan-June 2017",30652,65189,null,95841,14802,3015,null,17817,48.290486754534776,4.6250134225099329," ",18.590164960716184]
[{"$f":"IF(COUNTRY_INFO!A29=0,\" \",COUNTRY_INFO!A29)","v":"Uganda"},{"$f":"IF(COUNTRY_INFO!B29=0,\" \",COUNTRY_INFO!B29)","v":"Central "},{"$f":"IF(COUNTRY_INFO!C29=0,\" \",COUNTRY_INFO!C29)","v":"Nakasongola"},{"$f":"IF(OR(COUNTRY_INFO!$T$9:$T$1000=\"T3 (ALB/MBD)\",COUNTRY_INFO!$U$9:$U$1000=\"T3 (ALB/MBD)\"), \"T3 (ALB/MBD)\", \" \")","v":"T3 (ALB/MBD)"},"MBD","Jan-June 2017",28234,60047,null,88281,11267,36154,null,47421,39.905787348586806,60.209502556330875," ",53.715975124885304]
[{"$f":"IF(COUNTRY_INFO!A30=0,\" \",COUNTRY_INFO!A30)","v":"Uganda"},{"$f":"IF(COUNTRY_INFO!B30=0,\" \",COUNTRY_INFO!B30)","v":"Central "},{"$f":"IF(COUNTRY_INFO!C30=0,\" \",COUNTRY_INFO!C30)","v":"Rakai"},{"$f":"IF(OR(COUNTRY_INFO!$T$9:$T$1000=\"T3 (ALB/MBD)\",COUNTRY_INFO!$U$9:$U$1000=\"T3 (ALB/MBD)\"), \"T3 (ALB/MBD)\", \" \")","v":"T3 (ALB/MBD)"},"MBD","Jan-June 2017",80184,170533,null,250717,72956,69860,null,142816,90.985732814526585,40.965678197181774," ",56.963030029874318]
[{"$f":"IF(COUNTRY_INFO!A31=0,\" \",COUNTRY_INFO!A31)","v":"Uganda"},{"$f":"IF(COUNTRY_INFO!B31=0,\" \",COUNTRY_INFO!B31)","v":"Central "},{"$f":"IF(COUNTRY_INFO!C31=0,\" \",COUNTRY_INFO!C31)","v":"Sembabule"},{"$f":"IF(OR(COUNTRY_INFO!$T$9:$T$1000=\"T3 (ALB/MBD)\",COUNTRY_INFO!$U$9:$U$1000=\"T3 (ALB/MBD)\"), \"T3 (ALB/MBD)\", \" \")","v":"T3 (ALB/MBD)"},"MBD","Jan-June 2017",39229,83431,null,122660,8006,23363,null,31369,20.408371357923986,28.002780740971584," ",25.573944236099788]
[{"$f":"IF(COUNTRY_INFO!A32=0,\" \",COUNTRY_INFO!A32)","v":"Uganda"},{"$f":"IF(COUNTRY_INFO!B32=0,\" \",COUNTRY_INFO!B32)","v":"Central "},{"$f":"IF(COUNTRY_INFO!C32=0,\" \",COUNTRY_INFO!C32)","v":"Wakiso"},{"$f":"IF(OR(COUNTRY_INFO!$T$9:$T$1000=\"T3 (ALB/MBD)\",COUNTRY_INFO!$U$9:$U$1000=\"T3 (ALB/MBD)\"), \"T3 (ALB/MBD)\", \" \")","v":"T3 (ALB/MBD)"},"MBD","Jan-June 2017",310205,659731,null,969936,87910,82275,null,170185,28.339323995422383,12.47099196490691," ",17.546003035251811]
[{"$f":"IF(COUNTRY_INFO!A33=0,\" \",COUNTRY_INFO!A33)","v":"Uganda"},{"$f":"IF(COUNTRY_INFO!B33=0,\" \",COUNTRY_INFO!B33)","v":"Eastern "},{"$f":"IF(COUNTRY_INFO!C33=0,\" \",COUNTRY_INFO!C33)","v":"Amuria"},{"$f":"IF(OR(COUNTRY_INFO!$T$9:$T$1000=\"T3 (ALB/MBD)\",COUNTRY_INFO!$U$9:$U$1000=\"T3 (ALB/MBD)\"), \"T3 (ALB/MBD)\", \" \")","v":"T3 (ALB/MBD)"},"MBD","Jan-June 2017",42076,89485,null,131561,15905,9362,null,25267,37.800646449282247,10.462088618204168," ",19.205539635606296]
[{"$f":"IF(COUNTRY_INFO!A34=0,\" \",COUNTRY_INFO!A34)","v":"Uganda"},{"$f":"IF(COUNTRY_INFO!B34=0,\" \",COUNTRY_INFO!B34)","v":"Eastern "},{"$f":"IF(COUNTRY_INFO!C34=0,\" \",COUNTRY_INFO!C34)","v":"Budaka"},{"$f":"IF(OR(COUNTRY_INFO!$T$9:$T$1000=\"T3 (ALB/MBD)\",COUNTRY_INFO!$U$9:$U$1000=\"T3 (ALB/MBD)\"), \"T3 (ALB/MBD)\", \" \")","v":"T3 (ALB/MBD)"},"MBD","Jan-June 2017",32240,68568,null,100808,6661,4846,null,11507,20.660669975186106,7.0674367051685918," ",11.414768669153242]
[{"$f":"IF(COUNTRY_INFO!A35=0,\" \",COUNTRY_INFO!A35)","v":"Uganda"},{"$f":"IF(COUNTRY_INFO!B35=0,\" \",COUNTRY_INFO!B35)","v":"Eastern "},{"$f":"IF(COUNTRY_INFO!C35=0,\" \",COUNTRY_INFO!C35)","v":"Bududa"},{"$f":"IF(OR(COUNTRY_INFO!$T$9:$T$1000=\"T3 (ALB/MBD)\",COUNTRY_INFO!$U$9:$U$1000=\"T3 (ALB/MBD)\"), \"T3 (ALB/MBD)\", \" \")","v":"T3 (ALB/MBD)"},"MBD","Jan-June 2017",32640,69418,null,102058,15034,28946,null,43980,46.060049019607838,41.698118643579477," ",43.093143114699487]
[{"$f":"IF(COUNTRY_INFO!A36=0,\" \",COUNTRY_INFO!A36)","v":"Uganda"},{"$f":"IF(COUNTRY_INFO!B36=0,\" \",COUNTRY_INFO!B36)","v":"Eastern "},{"$f":"IF(COUNTRY_INFO!C36=0,\" \",COUNTRY_INFO!C36)","v":"Bugiri"},"T3 (ALB/MBD)","MBD","Jan-June 2017",57671,122652,null,180323,71568,36521,null,108089,124.0970331709178,29.776114535433585," ",59.941882067179449]
[{"$f":"IF(COUNTRY_INFO!A37=0,\" \",COUNTRY_INFO!A37)","v":"Uganda"},{"$f":"IF(COUNTRY_INFO!B37=0,\" \",COUNTRY_INFO!B37)","v":"Eastern "},{"$f":"IF(COUNTRY_INFO!C37=0,\" \",COUNTRY_INFO!C37)","v":"Bukedea"},{"$f":"IF(OR(COUNTRY_INFO!$T$9:$T$1000=\"T3 (ALB/MBD)\",COUNTRY_INFO!$U$9:$U$1000=\"T3 (ALB/MBD)\"), \"T3 (ALB/MBD)\", \" \")","v":"T3 (ALB/MBD)"},"MBD","Jan-June 2017",31620,67248,null,98868,21433,44290,null,65723,67.783048703352307,65.860694741851063," ",66.475502690455954]
[{"$f":"IF(COUNTRY_INFO!A38=0,\" \",COUNTRY_INFO!A38)","v":"Uganda"},{"$f":"IF(COUNTRY_INFO!B38=0,\" \",COUNTRY_INFO!B38)","v":"Eastern "},{"$f":"IF(COUNTRY_INFO!C38=0,\" \",COUNTRY_INFO!C38)","v":"Bukwo"},{"$f":"IF(OR(COUNTRY_INFO!$T$9:$T$1000=\"T3 (ALB/MBD)\",COUNTRY_INFO!$U$9:$U$1000=\"T3 (ALB/MBD)\"), \"T3 (ALB/MBD)\", \" \")","v":"T3 (ALB/MBD)"},"MBD","Jan-June 2017",13877,29514,null,43391,25465,19877,null,45342,183.50508034877856,67.347699396896388," ",104.49632412251388]
[{"$f":"IF(COUNTRY_INFO!A39=0,\" \",COUNTRY_INFO!A39)","v":"Uganda"},{"$f":"IF(COUNTRY_INFO!B39=0,\" \",COUNTRY_INFO!B39)","v":"Eastern "},{"$f":"IF(COUNTRY_INFO!C39=0,\" \",COUNTRY_INFO!C39)","v":"Bulambuli"},{"$f":"IF(OR(COUNTRY_INFO!$T$9:$T$1000=\"T3 (ALB/MBD)\",COUNTRY_INFO!$U$9:$U$1000=\"T3 (ALB/MBD)\"), \"T3 (ALB/MBD)\", \" \")","v":"T3 (ALB/MBD)"},"MBD","Jan-June 2017",27102,57639,null,84741,19750,6892,null,26642,72.872850712124574,11.957181769288155," ",31.439326890171227]
[{"$f":"IF(COUNTRY_INFO!A40=0,\" \",COUNTRY_INFO!A40)","v":"Uganda"},{"$f":"IF(COUNTRY_INFO!B40=0,\" \",COUNTRY_INFO!B40)","v":"Eastern "},{"$f":"IF(COUNTRY_INFO!C40=0,\" \",COUNTRY_INFO!C40)","v":"Busia"},{"$f":"IF(OR(COUNTRY_INFO!$T$9:$T$1000=\"T3 (ALB/MBD)\",COUNTRY_INFO!$U$9:$U$1000=\"T3 (ALB/MBD)\"), \"T3 (ALB/MBD)\", \" \")","v":"T3 (ALB/MBD)"},"MBD","Jan-June 2017",50266,106903,null,157169,32113,22788,null,54901,63.886125810687147,21.316520584080894," ",34.931188720421972]
[{"$f":"IF(COUNTRY_INFO!A41=0,\" \",COUNTRY_INFO!A41)","v":"Uganda"},{"$f":"IF(COUNTRY_INFO!B41=0,\" \",COUNTRY_INFO!B41)","v":"Eastern "},{"$f":"IF(COUNTRY_INFO!C41=0,\" \",COUNTRY_INFO!C41)","v":"Butaleja"},{"$f":"IF(OR(COUNTRY_INFO!$T$9:$T$1000=\"T3 (ALB/MBD)\",COUNTRY_INFO!$U$9:$U$1000=\"T3 (ALB/MBD)\"), \"T3 (ALB/MBD)\", \" \")","v":"T3 (ALB/MBD)"},"MBD","Jan-June 2017",37918,80642,null,118560,36204,39484,null,75688,95.479719394482828,48.962079313509086," ",63.839406207827267]
[{"$f":"IF(COUNTRY_INFO!A42=0,\" \",COUNTRY_INFO!A42)","v":"Uganda"},{"$f":"IF(COUNTRY_INFO!B42=0,\" \",COUNTRY_INFO!B42)","v":"Eastern "},{"$f":"IF(COUNTRY_INFO!C42=0,\" \",COUNTRY_INFO!C42)","v":"Buyende"},{"$f":"IF(OR(COUNTRY_INFO!$T$9:$T$1000=\"T3 (ALB/MBD)\",COUNTRY_INFO!$U$9:$U$1000=\"T3 (ALB/MBD)\"), \"T3 (ALB/MBD)\", \" \")","v":"T3 (ALB/MBD)"},"MBD","Jan-June 2017",50173,106707,null,156880,14501,9345,null,23846,28.901999083172225,8.7576260226601814," ",15.200152983171852]
[{"$f":"IF(COUNTRY_INFO!A43=0,\" \",COUNTRY_INFO!A43)","v":"Uganda"},{"$f":"IF(COUNTRY_INFO!B43=0,\" \",COUNTRY_INFO!B43)","v":"Eastern "},{"$f":"IF(COUNTRY_INFO!C43=0,\" \",COUNTRY_INFO!C43)","v":"Iganga"},{"$f":"IF(OR(COUNTRY_INFO!$T$9:$T$1000=\"T3 (ALB/MBD)\",COUNTRY_INFO!$U$9:$U$1000=\"T3 (ALB/MBD)\"), \"T3 (ALB/MBD)\", \" \")","v":"T3 (ALB/MBD)"},"MBD","Jan-June 2017",78303,166532,null,244835,36712,35987,null,72699,46.884538268010168,21.609660605769463," ",29.693058590479303]
[{"$f":"IF(COUNTRY_INFO!A44=0,\" \",COUNTRY_INFO!A44)","v":"Uganda"},{"$f":"IF(COUNTRY_INFO!B44=0,\" \",COUNTRY_INFO!B44)","v":"Eastern "},{"$f":"IF(COUNTRY_INFO!C44=0,\" \",COUNTRY_INFO!C44)","v":"Jinja"},{"$f":"IF(OR(COUNTRY_INFO!$T$9:$T$1000=\"T3 (ALB/MBD)\",COUNTRY_INFO!$U$9:$U$1000=\"T3 (ALB/MBD)\"), \"T3 (ALB/MBD)\", \" \")","v":"T3 (ALB/MBD)"},"MBD","Jan-June 2017",73185,155647,null,228832,73815,32109,null,105924,100.86083213773314,20.629372875802297," ",46.288980562159139]
[{"$f":"IF(COUNTRY_INFO!A45=0,\" \",COUNTRY_INFO!A45)","v":"Uganda"},{"$f":"IF(COUNTRY_INFO!B45=0,\" \",COUNTRY_INFO!B45)","v":"Eastern "},{"$f":"IF(COUNTRY_INFO!C45=0,\" \",COUNTRY_INFO!C45)","v":"Kaberamaido"},{"$f":"IF(OR(COUNTRY_INFO!$T$9:$T$1000=\"T3 (ALB/MBD)\",COUNTRY_INFO!$U$9:$U$1000=\"T3 (ALB/MBD)\"), \"T3 (ALB/MBD)\", \" \")","v":"T3 (ALB/MBD)"},"MBD","Jan-June 2017",33394,71021,null,104415,7284,9121,null,16405,21.812301611067856,12.842680333985722," ",15.711344155533208]
[{"$f":"IF(COUNTRY_INFO!A46=0,\" \",COUNTRY_INFO!A46)","v":"Uganda"},{"$f":"IF(COUNTRY_INFO!B46=0,\" \",COUNTRY_INFO!B46)","v":"Eastern "},{"$f":"IF(COUNTRY_INFO!C46=0,\" \",COUNTRY_INFO!C46)","v":"Kaliro"},{"$f":"IF(OR(COUNTRY_INFO!$T$9:$T$1000=\"T3 (ALB/MBD)\",COUNTRY_INFO!$U$9:$U$1000=\"T3 (ALB/MBD)\"), \"T3 (ALB/MBD)\", \" \")","v":"T3 (ALB/MBD)"},"MBD","Jan-June 2017",36682,78015,null,114697,37055,20850,null,57905,101.01684750013631,26.72562968659873," ",50.485191417386673]
[{"$f":"IF(COUNTRY_INFO!A47=0,\" \",COUNTRY_INFO!A47)","v":"Uganda"},{"$f":"IF(COUNTRY_INFO!B47=0,\" \",COUNTRY_INFO!B47)","v":"Eastern "},{"$f":"IF(COUNTRY_INFO!C47=0,\" \",COUNTRY_INFO!C47)","v":"Kamuli"},{"$f":"IF(OR(COUNTRY_INFO!$T$9:$T$1000=\"T3 (ALB/MBD)\",COUNTRY_INFO!$U$9:$U$1000=\"T3 (ALB/MBD)\"), \"T3 (ALB/MBD)\", \" \")","v":"T3 (ALB/MBD)"},"MBD","Jan-June 2017",75527,160627,null,236154,38354,20995,null,59349,50.781839607027948,13.07065437317512," ",25.131481999034527]
[{"$f":"IF(COUNTRY_INFO!A48=0,\" \",COUNTRY_INFO!A48)","v":"Uganda"},{"$f":"IF(COUNTRY_INFO!B48=0,\" \",COUNTRY_INFO!B48)","v":"Eastern "},{"$f":"IF(COUNTRY_INFO!C48=0,\" \",COUNTRY_INFO!C48)","v":"Kapchorwa"},{"$f":"IF(OR(COUNTRY_INFO!$T$9:$T$1000=\"T3 (ALB/MBD)\",COUNTRY_INFO!$U$9:$U$1000=\"T3 (ALB/MBD)\"), \"T3 (ALB/MBD)\", \" \")","v":"T3 (ALB/MBD)"},"MBD","Jan-June 2017",16336,34742,null,51078,14569,24408,null,38977,89.183398628795302,70.255022739047831," ",76.308782646149027]
[{"$f":"IF(COUNTRY_INFO!A49=0,\" \",COUNTRY_INFO!A49)","v":"Uganda"},{"$f":"IF(COUNTRY_INFO!B49=0,\" \",COUNTRY_INFO!B49)","v":"Eastern "},{"$f":"IF(COUNTRY_INFO!C49=0,\" \",COUNTRY_INFO!C49)","v":"Katakwi"},{"$f":"IF(OR(COUNTRY_INFO!$T$9:$T$1000=\"T3 (ALB/MBD)\",COUNTRY_INFO!$U$9:$U$1000=\"T3 (ALB/MBD)\"), \"T3 (ALB/MBD)\", \" \")","v":"T3 (ALB/MBD)"},"MBD","Jan-June 2017",25816,54905,null,80721,9979,11185,null,21164,38.654322900526807,20.371550860577361," ",26.218703930823455]
[{"$f":"IF(COUNTRY_INFO!A50=0,\" \",COUNTRY_INFO!A50)","v":"Uganda"},{"$f":"IF(COUNTRY_INFO!B50=0,\" \",COUNTRY_INFO!B50)","v":"Eastern "},{"$f":"IF(COUNTRY_INFO!C50=0,\" \",COUNTRY_INFO!C50)","v":"Kibuku"},{"$f":"IF(OR(COUNTRY_INFO!$T$9:$T$1000=\"T3 (ALB/MBD)\",COUNTRY_INFO!$U$9:$U$1000=\"T3 (ALB/MBD)\"), \"T3 (ALB/MBD)\", \" \")","v":"T3 (ALB/MBD)"},"MBD","Jan-June 2017",31376,66730,null,98106,11487,12253,null,23740,36.610785313615501,18.362056046755583," ",24.198316107067868]
[{"$f":"IF(COUNTRY_INFO!A51=0,\" \",COUNTRY_INFO!A51)","v":"Uganda"},{"$f":"IF(COUNTRY_INFO!B51=0,\" \",COUNTRY_INFO!B51)","v":"Eastern "},{"$f":"IF(COUNTRY_INFO!C51=0,\" \",COUNTRY_INFO!C51)","v":"Kumi"},{"$f":"IF(OR(COUNTRY_INFO!$T$9:$T$1000=\"T3 (ALB/MBD)\",COUNTRY_INFO!$U$9:$U$1000=\"T3 (ALB/MBD)\"), \"T3 (ALB/MBD)\", \" \")","v":"T3 (ALB/MBD)"},"MBD","Jan-June 2017",37159,79028,null,116187,42212,22922,null,65134,113.59832072983664,29.004909652275142," ",56.059628013461058]
[{"$f":"IF(COUNTRY_INFO!A52=0,\" \",COUNTRY_INFO!A52)","v":"Uganda"},{"$f":"IF(COUNTRY_INFO!B52=0,\" \",COUNTRY_INFO!B52)","v":"Eastern "},{"$f":"IF(COUNTRY_INFO!C52=0,\" \",COUNTRY_INFO!C52)","v":"Kween"},{"$f":"IF(OR(COUNTRY_INFO!$T$9:$T$1000=\"T3 (ALB/MBD)\",COUNTRY_INFO!$U$9:$U$1000=\"T3 (ALB/MBD)\"), \"T3 (ALB/MBD)\", \" \")","v":"T3 (ALB/MBD)"},"MBD","Jan-June 2017",14547,30937,null,45484,31973,17061,null,49034,219.79102220389083,55.147557940330351," ",107.80494239732654]
[{"$f":"IF(COUNTRY_INFO!A53=0,\" \",COUNTRY_INFO!A53)","v":"Uganda"},{"$f":"IF(COUNTRY_INFO!B53=0,\" \",COUNTRY_INFO!B53)","v":"Eastern "},{"$f":"IF(COUNTRY_INFO!C53=0,\" \",COUNTRY_INFO!C53)","v":"Luuka"},{"$f":"IF(OR(COUNTRY_INFO!$T$9:$T$1000=\"T3 (ALB/MBD)\",COUNTRY_INFO!$U$9:$U$1000=\"T3 (ALB/MBD)\"), \"T3 (ALB/MBD)\", \" \")","v":"T3 (ALB/MBD)"},"MBD","Jan-June 2017",36965,78616,null,115581,26951,20119,null,47070,72.909508994995264,25.591482649842273," ",40.724686583434995]
[{"$f":"IF(COUNTRY_INFO!A54=0,\" \",COUNTRY_INFO!A54)","v":"Uganda"},{"$f":"IF(COUNTRY_INFO!B54=0,\" \",COUNTRY_INFO!B54)","v":"Eastern "},{"$f":"IF(COUNTRY_INFO!C54=0,\" \",COUNTRY_INFO!C54)","v":"Manafwa"},{"$f":"IF(OR(COUNTRY_INFO!$T$9:$T$1000=\"T3 (ALB/MBD)\",COUNTRY_INFO!$U$9:$U$1000=\"T3 (ALB/MBD)\"), \"T3 (ALB/MBD)\", \" \")","v":"T3 (ALB/MBD)"},"MBD","Jan-June 2017",54950,116866,null,171816,78651,139501,null,218152,143.13193812556869,119.36833638526174," ",126.96838478372212]
[{"$f":"IF(COUNTRY_INFO!A55=0,\" \",COUNTRY_INFO!A55)","v":"Uganda"},{"$f":"IF(COUNTRY_INFO!B55=0,\" \",COUNTRY_INFO!B55)","v":"Eastern "},{"$f":"IF(COUNTRY_INFO!C55=0,\" \",COUNTRY_INFO!C55)","v":"Mayuge"},"T3 (ALB/MBD)","MBD","Jan-June 2017",67851,144302,null,212153,44554,31265,null,75819,65.66447067839826,21.666366370528475," ",35.737887279463401]
[{"$f":"IF(COUNTRY_INFO!A56=0,\" \",COUNTRY_INFO!A56)","v":"Uganda"},{"$f":"IF(COUNTRY_INFO!B56=0,\" \",COUNTRY_INFO!B56)","v":"Eastern "},{"$f":"IF(COUNTRY_INFO!C56=0,\" \",COUNTRY_INFO!C56)","v":"Mbale"},{"$f":"IF(OR(COUNTRY_INFO!$T$9:$T$1000=\"T3 (ALB/MBD)\",COUNTRY_INFO!$U$9:$U$1000=\"T3 (ALB/MBD)\"), \"T3 (ALB/MBD)\", \" \")","v":"T3 (ALB/MBD)"},"MBD","Jan-June 2017",75937,161499,null,237436,73798,50677,null,124475,97.183191329654846,31.379141666511867," ",52.424653380279317]
[{"$f":"IF(COUNTRY_INFO!A57=0,\" \",COUNTRY_INFO!A57)","v":"Uganda"},{"$f":"IF(COUNTRY_INFO!B57=0,\" \",COUNTRY_INFO!B57)","v":"Eastern "},{"$f":"IF(COUNTRY_INFO!C57=0,\" \",COUNTRY_INFO!C57)","v":"Namayingo"},"T3 (ALB/MBD)","MBD","Jan-June 2017",36871,78416,null,115287,38015,19332,null,57347,103.10270944644844,24.653132013874721," ",49.742815755462452]
[{"$f":"IF(COUNTRY_INFO!A58=0,\" \",COUNTRY_INFO!A58)","v":"Uganda"},{"$f":"IF(COUNTRY_INFO!B58=0,\" \",COUNTRY_INFO!B58)","v":"Eastern "},{"$f":"IF(COUNTRY_INFO!C58=0,\" \",COUNTRY_INFO!C58)","v":"Namutumba"},{"$f":"IF(OR(COUNTRY_INFO!$T$9:$T$1000=\"T3 (ALB/MBD)\",COUNTRY_INFO!$U$9:$U$1000=\"T3 (ALB/MBD)\"), \"T3 (ALB/MBD)\", \" \")","v":"T3 (ALB/MBD)"},"MBD","Jan-June 2017",39224,83419,null,122643,16989,21778,null,38767,43.312767693249029,26.106762248408639," ",31.609631206020726]
[{"$f":"IF(COUNTRY_INFO!A59=0,\" \",COUNTRY_INFO!A59)","v":"Uganda"},{"$f":"IF(COUNTRY_INFO!B59=0,\" \",COUNTRY_INFO!B59)","v":"Eastern "},{"$f":"IF(COUNTRY_INFO!C59=0,\" \",COUNTRY_INFO!C59)","v":"Ngora"},{"$f":"IF(OR(COUNTRY_INFO!$T$9:$T$1000=\"T3 (ALB/MBD)\",COUNTRY_INFO!$U$9:$U$1000=\"T3 (ALB/MBD)\"), \"T3 (ALB/MBD)\", \" \")","v":"T3 (ALB/MBD)"},"MBD","Jan-June 2017",22040,46875,null,68915,20825,15767,null,36592,94.487295825771326,33.636266666666664," ",53.097293767684825]
[{"$f":"IF(COUNTRY_INFO!A60=0,\" \",COUNTRY_INFO!A60)","v":"Uganda"},{"$f":"IF(COUNTRY_INFO!B60=0,\" \",COUNTRY_INFO!B60)","v":"Eastern "},{"$f":"IF(COUNTRY_INFO!C60=0,\" \",COUNTRY_INFO!C60)","v":"Pallisa"},{"$f":"IF(OR(COUNTRY_INFO!$T$9:$T$1000=\"T3 (ALB/MBD)\",COUNTRY_INFO!$U$9:$U$1000=\"T3 (ALB/MBD)\"), \"T3 (ALB/MBD)\", \" \")","v":"T3 (ALB/MBD)"},"MBD","Jan-June 2017",60085,127787,null,187872,15484,9002,null,24486,25.770158941499545,7.0445350466009842," ",13.033341849770055]
[{"$f":"IF(COUNTRY_INFO!A61=0,\" \",COUNTRY_INFO!A61)","v":"Uganda"},{"$f":"IF(COUNTRY_INFO!B61=0,\" \",COUNTRY_INFO!B61)","v":"Eastern "},{"$f":"IF(COUNTRY_INFO!C61=0,\" \",COUNTRY_INFO!C61)","v":"Serere"},{"$f":"IF(OR(COUNTRY_INFO!$T$9:$T$1000=\"T3 (ALB/MBD)\",COUNTRY_INFO!$U$9:$U$1000=\"T3 (ALB/MBD)\"), \"T3 (ALB/MBD)\", \" \")","v":"T3 (ALB/MBD)"},"MBD","Jan-June 2017",44402,94431,null,138833,1330,523,null,1853,2.9953605693437231,0.55384354714023998," ",1.3346970821058395]
[{"$f":"IF(COUNTRY_INFO!A62=0,\" \",COUNTRY_INFO!A62)","v":"Uganda"},{"$f":"IF(COUNTRY_INFO!B62=0,\" \",COUNTRY_INFO!B62)","v":"Eastern "},{"$f":"IF(COUNTRY_INFO!C62=0,\" \",COUNTRY_INFO!C62)","v":"Sironko"},{"$f":"IF(OR(COUNTRY_INFO!$T$9:$T$1000=\"T3 (ALB/MBD)\",COUNTRY_INFO!$U$9:$U$1000=\"T3 (ALB/MBD)\"), \"T3 (ALB/MBD)\", \" \")","v":"T3 (ALB/MBD)"},"MBD","Jan-June 2017",37649,80070,null,117719,28715,23818,null,52533,76.270286063374854,29.746471837142501," ",44.625761346936351]
[{"$f":"IF(COUNTRY_INFO!A63=0,\" \",COUNTRY_INFO!A63)","v":"Uganda"},{"$f":"IF(COUNTRY_INFO!B63=0,\" \",COUNTRY_INFO!B63)","v":"Eastern "},{"$f":"IF(COUNTRY_INFO!C63=0,\" \",COUNTRY_INFO!C63)","v":"Soroti"},{"$f":"IF(OR(COUNTRY_INFO!$T$9:$T$1000=\"T3 (ALB/MBD)\",COUNTRY_INFO!$U$9:$U$1000=\"T3 (ALB/MBD)\"), \"T3 (ALB/MBD)\", \" \")","v":"T3 (ALB/MBD)"},"MBD","Jan-June 2017",46099,98042,null,144141,39393,61458,null,100851,85.453046703833053,62.68537973521552," ",69.966907403167738]
[{"$f":"IF(COUNTRY_INFO!A64=0,\" \",COUNTRY_INFO!A64)","v":"Uganda"},{"$f":"IF(COUNTRY_INFO!B64=0,\" \",COUNTRY_INFO!B64)","v":"Eastern "},{"$f":"IF(COUNTRY_INFO!C64=0,\" \",COUNTRY_INFO!C64)","v":"Tororo"},{"$f":"IF(OR(COUNTRY_INFO!$T$9:$T$1000=\"T3 (ALB/MBD)\",COUNTRY_INFO!$U$9:$U$1000=\"T3 (ALB/MBD)\"), \"T3 (ALB/MBD)\", \" \")","v":"T3 (ALB/MBD)"},"MBD","Jan-June 2017",80304,170788,null,251092,48393,46621,null,95014,60.262253436939631,27.297585310443356," ",37.840313510585759]
[{"$f":"IF(COUNTRY_INFO!A65=0,\" \",COUNTRY_INFO!A65)","v":"Uganda"},{"$f":"IF(COUNTRY_INFO!B65=0,\" \",COUNTRY_INFO!B65)","v":"Northern"},{"$f":"IF(COUNTRY_INFO!C65=0,\" \",COUNTRY_INFO!C65)","v":"Abim"},{"$f":"IF(OR(COUNTRY_INFO!$T$9:$T$1000=\"T3 (ALB/MBD)\",COUNTRY_INFO!$U$9:$U$1000=\"T3 (ALB/MBD)\"), \"T3 (ALB/MBD)\", \" \")","v":"T3 (ALB/MBD)"},"MBD","Jan-June 2017",16767,35660,null,52427,57714,7139,null,64853,344.21184469493647,20.019629837352777," ",123.70152783870907]
[{"$f":"IF(COUNTRY_INFO!A66=0,\" \",COUNTRY_INFO!A66)","v":"Uganda"},{"$f":"IF(COUNTRY_INFO!B66=0,\" \",COUNTRY_INFO!B66)","v":"Northern"},{"$f":"IF(COUNTRY_INFO!C66=0,\" \",COUNTRY_INFO!C66)","v":"Adjumani"},"T3 (ALB/MBD)","MBD","Jan-June 2017",34982,74399,null,109381,42082,21833,null,63915,120.29615230690069,29.345824540652426," ",58.433365941068374]
[{"$f":"IF(COUNTRY_INFO!A67=0,\" \",COUNTRY_INFO!A67)","v":"Uganda"},{"$f":"IF(COUNTRY_INFO!B67=0,\" \",COUNTRY_INFO!B67)","v":"Northern"},{"$f":"IF(COUNTRY_INFO!C67=0,\" \",COUNTRY_INFO!C67)","v":"Agago"},{"$f":"IF(OR(COUNTRY_INFO!$T$9:$T$1000=\"T3 (ALB/MBD)\",COUNTRY_INFO!$U$9:$U$1000=\"T3 (ALB/MBD)\"), \"T3 (ALB/MBD)\", \" \")","v":"T3 (ALB/MBD)"},"MBD","Jan-June 2017",35377,75238,null,110615,26667,6142,null,32809,75.379483845436297,8.163428054972222," ",29.66053428558514]
[{"$f":"IF(COUNTRY_INFO!A68=0,\" \",COUNTRY_INFO!A68)","v":"Uganda"},{"$f":"IF(COUNTRY_INFO!B68=0,\" \",COUNTRY_INFO!B68)","v":"Northern"},{"$f":"IF(COUNTRY_INFO!C68=0,\" \",COUNTRY_INFO!C68)","v":"Alebtong"},{"$f":"IF(OR(COUNTRY_INFO!$T$9:$T$1000=\"T3 (ALB/MBD)\",COUNTRY_INFO!$U$9:$U$1000=\"T3 (ALB/MBD)\"), \"T3 (ALB/MBD)\", \" \")","v":"T3 (ALB/MBD)"},"MBD","Jan-June 2017",35338,75155,null,110493,23602,26643,null,50245,66.789291980304483,35.450735147362117," ",45.473468907532606]
[{"$f":"IF(COUNTRY_INFO!A69=0,\" \",COUNTRY_INFO!A69)","v":"Uganda"},{"$f":"IF(COUNTRY_INFO!B69=0,\" \",COUNTRY_INFO!B69)","v":"Northern"},{"$f":"IF(COUNTRY_INFO!C69=0,\" \",COUNTRY_INFO!C69)","v":"Amolatar"},{"$f":"IF(OR(COUNTRY_INFO!$T$9:$T$1000=\"T3 (ALB/MBD)\",COUNTRY_INFO!$U$9:$U$1000=\"T3 (ALB/MBD)\"), \"T3 (ALB/MBD)\", \" \")","v":"T3 (ALB/MBD)"},"MBD","Jan-June 2017",22855,48608,null,71463,12489,10621,null,23110,54.644497921680156,21.85031270572745," ",32.338412884989438]
[{"$f":"IF(COUNTRY_INFO!A70=0,\" \",COUNTRY_INFO!A70)","v":"Uganda"},{"$f":"IF(COUNTRY_INFO!B70=0,\" \",COUNTRY_INFO!B70)","v":"Northern"},{"$f":"IF(COUNTRY_INFO!C70=0,\" \",COUNTRY_INFO!C70)","v":"Amudat"},{"$f":"IF(OR(COUNTRY_INFO!$T$9:$T$1000=\"T3 (ALB/MBD)\",COUNTRY_INFO!$U$9:$U$1000=\"T3 (ALB/MBD)\"), \"T3 (ALB/MBD)\", \" \")","v":"T3 (ALB/MBD)"},"MBD","Jan-June 2017",16426,34934,null,51360,16869,2574,null,19443,102.69694386947523,7.368179996564951," ",37.856308411214954]
[{"$f":"IF(COUNTRY_INFO!A71=0,\" \",COUNTRY_INFO!A71)","v":"Uganda"},{"$f":"IF(COUNTRY_INFO!B71=0,\" \",COUNTRY_INFO!B71)","v":"Northern"},{"$f":"IF(COUNTRY_INFO!C71=0,\" \",COUNTRY_INFO!C71)","v":"Amuru"},"T3 (ALB/MBD)","MBD","Jan-June 2017",34440,73246,null,107686,22908,20275,null,43183,66.515679442508713,27.68069246102176," ",40.100848763999039]
[{"$f":"IF(COUNTRY_INFO!A72=0,\" \",COUNTRY_INFO!A72)","v":"Uganda"},{"$f":"IF(COUNTRY_INFO!B72=0,\" \",COUNTRY_INFO!B72)","v":"Northern"},{"$f":"IF(COUNTRY_INFO!C72=0,\" \",COUNTRY_INFO!C72)","v":"Apac"},{"$f":"IF(OR(COUNTRY_INFO!$T$9:$T$1000=\"T3 (ALB/MBD)\",COUNTRY_INFO!$U$9:$U$1000=\"T3 (ALB/MBD)\"), \"T3 (ALB/MBD)\", \" \")","v":"T3 (ALB/MBD)"},"MBD","Jan-June 2017",57249,121754,null,179003,41468,17031,null,58499,72.434453003545912,13.988041460650164," ",32.680457869421183]
[{"$f":"IF(COUNTRY_INFO!A73=0,\" \",COUNTRY_INFO!A73)","v":"Uganda"},{"$f":"IF(COUNTRY_INFO!B73=0,\" \",COUNTRY_INFO!B73)","v":"Northern"},{"$f":"IF(COUNTRY_INFO!C73=0,\" \",COUNTRY_INFO!C73)","v":"Arua"},"T3 (ALB/MBD)","MBD","Jan-June 2017",121459,258314,null,379773,110475,126196,null,236671,90.956619106035788,48.853720665546582," ",62.319069549441373]
[{"$f":"IF(COUNTRY_INFO!A74=0,\" \",COUNTRY_INFO!A74)","v":"Uganda"},{"$f":"IF(COUNTRY_INFO!B74=0,\" \",COUNTRY_INFO!B74)","v":"Northern"},{"$f":"IF(COUNTRY_INFO!C74=0,\" \",COUNTRY_INFO!C74)","v":"Dokolo"},{"$f":"IF(OR(COUNTRY_INFO!$T$9:$T$1000=\"T3 (ALB/MBD)\",COUNTRY_INFO!$U$9:$U$1000=\"T3 (ALB/MBD)\"), \"T3 (ALB/MBD)\", \" \")","v":"T3 (ALB/MBD)"},"MBD","Jan-June 2017",28435,60474,null,{"$f":"SUM(G74:I74)","v":88909},9534,5653,null,{"$f":"SUM(K74:M74)","v":15187},{"$f":"IF(G74<>0, IF(K74/G74*100=0, \"-\", K74/G74*100), \" \")","v":33.529101459468961},{"$f":"IF(H74<>0, IF(L74/H74*100=0, \"-\", L74/H74*100), \" \")","v":9.347818897377385},{"$f":"IF(I74<>0, IF(M74/I74*100=0, \"-\", M74/I74*100), \" \")","v":" "},{"$f":"IF(J74<>0, IF(N74/J74*100=0, \"-\", N74/J74*100), \" \")","v":17.081510308292749}]
[{"$f":"IF(COUNTRY_INFO!A75=0,\" \",COUNTRY_INFO!A75)","v":"Uganda"},{"$f":"IF(COUNTRY_INFO!B75=0,\" \",COUNTRY_INFO!B75)","v":"Northern"},{"$f":"IF(COUNTRY_INFO!C75=0,\" \",COUNTRY_INFO!C75)","v":"Gulu"},"T3 (ALB/MBD)","MBD","Jan-June 2017",31121,66187,null,97308,65423,66518,null,131941,210.22139391407731,100.50009820659646," ",135.59111275537467]
[{"$f":"IF(COUNTRY_INFO!A76=0,\" \",COUNTRY_INFO!A76)","v":"Uganda"},{"$f":"IF(COUNTRY_INFO!B76=0,\" \",COUNTRY_INFO!B76)","v":"Northern"},{"$f":"IF(COUNTRY_INFO!C76=0,\" \",COUNTRY_INFO!C76)","v":"Kaabong"},{"$f":"IF(OR(COUNTRY_INFO!$T$9:$T$1000=\"T3 (ALB/MBD)\",COUNTRY_INFO!$U$9:$U$1000=\"T3 (ALB/MBD)\"), \"T3 (ALB/MBD)\", \" \")","v":"T3 (ALB/MBD)"},"MBD","Jan-June 2017",26072,55449,null,81521,85709,1987,null,87696,328.73964406259591,3.5834731014085013," ",107.57473534426711]
[{"$f":"IF(COUNTRY_INFO!A77=0,\" \",COUNTRY_INFO!A77)","v":"Uganda"},{"$f":"IF(COUNTRY_INFO!B77=0,\" \",COUNTRY_INFO!B77)","v":"Northern"},{"$f":"IF(COUNTRY_INFO!C77=0,\" \",COUNTRY_INFO!C77)","v":"Kitgum"},"T3 (ALB/MBD)","MBD","Jan-June 2017",31689,67396,null,99085,15955,181860,null,197815,50.348701442140808,269.83797257997509," ",199.64172175404954]
[{"$f":"IF(COUNTRY_INFO!A78=0,\" \",COUNTRY_INFO!A78)","v":"Uganda"},{"$f":"IF(COUNTRY_INFO!B78=0,\" \",COUNTRY_INFO!B78)","v":"Northern"},{"$f":"IF(COUNTRY_INFO!C78=0,\" \",COUNTRY_INFO!C78)","v":"Koboko"},"T3 (ALB/MBD)","MBD","Jan-June 2017",32069,68204,null,100273,50289,33566,null,83855,156.81499267205089,49.214122338865756," ",83.626699111425808]
[{"$f":"IF(COUNTRY_INFO!A79=0,\" \",COUNTRY_INFO!A79)","v":"Uganda"},{"$f":"IF(COUNTRY_INFO!B79=0,\" \",COUNTRY_INFO!B79)","v":"Northern"},{"$f":"IF(COUNTRY_INFO!C79=0,\" \",COUNTRY_INFO!C79)","v":"Kole"},{"$f":"IF(OR(COUNTRY_INFO!$T$9:$T$1000=\"T3 (ALB/MBD)\",COUNTRY_INFO!$U$9:$U$1000=\"T3 (ALB/MBD)\"), \"T3 (ALB/MBD)\", \" \")","v":"T3 (ALB/MBD)"},"MBD","Jan-June 2017",37168,79048,null,116216,31134,59485,null,90619,83.765604821351701,75.251745774719154," ",77.974633441178497]
[{"$f":"IF(COUNTRY_INFO!A80=0,\" \",COUNTRY_INFO!A80)","v":"Uganda"},{"$f":"IF(COUNTRY_INFO!B80=0,\" \",COUNTRY_INFO!B80)","v":"Northern"},{"$f":"IF(COUNTRY_INFO!C80=0,\" \",COUNTRY_INFO!C80)","v":"Kotido"},{"$f":"IF(OR(COUNTRY_INFO!$T$9:$T$1000=\"T3 (ALB/MBD)\",COUNTRY_INFO!$U$9:$U$1000=\"T3 (ALB/MBD)\"), \"T3 (ALB/MBD)\", \" \")","v":"T3 (ALB/MBD)"},"MBD","Jan-June 2017",28118,59799,null,87917,135493,6125,null,141618,481.87282168006254,10.242646198096958," ",161.08147457260827]
[{"$f":"IF(COUNTRY_INFO!A81=0,\" \",COUNTRY_INFO!A81)","v":"Uganda"},{"$f":"IF(COUNTRY_INFO!B81=0,\" \",COUNTRY_INFO!B81)","v":"Northern"},{"$f":"IF(COUNTRY_INFO!C81=0,\" \",COUNTRY_INFO!C81)","v":"Lamwo"},"T3 (ALB/MBD)","MBD","Jan-June 2017",21726,46206,null,67932,20316,18901,null,39217,93.510080088373385,40.905942951131884," ",57.729788612141554]
[{"$f":"IF(COUNTRY_INFO!A82=0,\" \",COUNTRY_INFO!A82)","v":"Uganda"},{"$f":"IF(COUNTRY_INFO!B82=0,\" \",COUNTRY_INFO!B82)","v":"Northern"},{"$f":"IF(COUNTRY_INFO!C82=0,\" \",COUNTRY_INFO!C82)","v":"Lira"},"T3 (ALB/MBD)","MBD","Jan-June 2017",63370,134773,null,198143,39468,31637,null,71105,62.28183683130819,23.47428639267509," ",35.885698712545988]
[{"$f":"IF(COUNTRY_INFO!A83=0,\" \",COUNTRY_INFO!A83)","v":"Uganda"},{"$f":"IF(COUNTRY_INFO!B83=0,\" \",COUNTRY_INFO!B83)","v":"Northern"},{"$f":"IF(COUNTRY_INFO!C83=0,\" \",COUNTRY_INFO!C83)","v":"Maracha"},"T3 (ALB/MBD)","MBD","Jan-June 2017",28907,61479,null,90386,48061,7088,null,55149,166.2607672882001,11.529140031555491," ",61.014980196048064]
[{"$f":"IF(COUNTRY_INFO!A84=0,\" \",COUNTRY_INFO!A84)","v":"Uganda"},{"$f":"IF(COUNTRY_INFO!B84=0,\" \",COUNTRY_INFO!B84)","v":"Northern"},{"$f":"IF(COUNTRY_INFO!C84=0,\" \",COUNTRY_INFO!C84)","v":"Moroto"},{"$f":"IF(OR(COUNTRY_INFO!$T$9:$T$1000=\"T3 (ALB/MBD)\",COUNTRY_INFO!$U$9:$U$1000=\"T3 (ALB/MBD)\"), \"T3 (ALB/MBD)\", \" \")","v":"T3 (ALB/MBD)"},"MBD","Jan-June 2017",16063,34163,null,50226,54480,2850,null,57330,339.1645396252257,8.3423586921523274," ",114.14406880898341]
[{"$f":"IF(COUNTRY_INFO!A85=0,\" \",COUNTRY_INFO!A85)","v":"Uganda"},{"$f":"IF(COUNTRY_INFO!B85=0,\" \",COUNTRY_INFO!B85)","v":"Northern"},{"$f":"IF(COUNTRY_INFO!C85=0,\" \",COUNTRY_INFO!C85)","v":"Moyo"},"T3 (ALB/MBD)","MBD","Jan-June 2017",21589,45915,null,67504,30106,19646,null,49752,139.4506461623975,42.787759991288247," ",73.702299123014939]
[{"$f":"IF(COUNTRY_INFO!A86=0,\" \",COUNTRY_INFO!A86)","v":"Uganda"},{"$f":"IF(COUNTRY_INFO!B86=0,\" \",COUNTRY_INFO!B86)","v":"Northern"},{"$f":"IF(COUNTRY_INFO!C86=0,\" \",COUNTRY_INFO!C86)","v":"Nakapiripirit"},{"$f":"IF(OR(COUNTRY_INFO!$T$9:$T$1000=\"T3 (ALB/MBD)\",COUNTRY_INFO!$U$9:$U$1000=\"T3 (ALB/MBD)\"), \"T3 (ALB/MBD)\", \" \")","v":"T3 (ALB/MBD)"},"MBD","Jan-June 2017",24335,51754,null,76089,95696,13233,null,108929,393.24429833573043,25.569038141979366," ",143.15998370329484]
[{"$f":"IF(COUNTRY_INFO!A87=0,\" \",COUNTRY_INFO!A87)","v":"Uganda"},{"$f":"IF(COUNTRY_INFO!B87=0,\" \",COUNTRY_INFO!B87)","v":"Northern"},{"$f":"IF(COUNTRY_INFO!C87=0,\" \",COUNTRY_INFO!C87)","v":"Napak"},{"$f":"IF(OR(COUNTRY_INFO!$T$9:$T$1000=\"T3 (ALB/MBD)\",COUNTRY_INFO!$U$9:$U$1000=\"T3 (ALB/MBD)\"), \"T3 (ALB/MBD)\", \" \")","v":"T3 (ALB/MBD)"},"MBD","Jan-June 2017",22088,46975,null,69063,60582,6630,null,67212,274.27562477363273,14.113890367216605," ",97.319838408409709]
[{"$f":"IF(COUNTRY_INFO!A88=0,\" \",COUNTRY_INFO!A88)","v":"Uganda"},{"$f":"IF(COUNTRY_INFO!B88=0,\" \",COUNTRY_INFO!B88)","v":"Northern"},{"$f":"IF(COUNTRY_INFO!C88=0,\" \",COUNTRY_INFO!C88)","v":"Nebbi"},"T3 (ALB/MBD)","MBD","Jan-June 2017",61623,131058,null,192681,31748,28279,null,60027,51.519724778086108,21.577469517312945," ",31.153564700203962]
[{"$f":"IF(COUNTRY_INFO!A89=0,\" \",COUNTRY_INFO!A89)","v":"Uganda"},{"$f":"IF(COUNTRY_INFO!B89=0,\" \",COUNTRY_INFO!B89)","v":"Northern"},{"$f":"IF(COUNTRY_INFO!C89=0,\" \",COUNTRY_INFO!C89)","v":"Nwoya"},"T3 (ALB/MBD)","MBD","Jan-June 2017",25648,54546,null,80194,15105,8468,null,23573,58.893480973175294,15.52451142155245," ",29.394967204529017]
[{"$f":"IF(COUNTRY_INFO!A90=0,\" \",COUNTRY_INFO!A90)","v":"Uganda"},{"$f":"IF(COUNTRY_INFO!B90=0,\" \",COUNTRY_INFO!B90)","v":"Northern"},{"$f":"IF(COUNTRY_INFO!C90=0,\" \",COUNTRY_INFO!C90)","v":"Omoro"},"T3 (ALB/MBD)","MBD","Jan-June 2017",27343,58152,null,85495,22130,19186,null,41316,80.934791354277152,32.992846333746044," ",48.325633077957775]
[{"$f":"IF(COUNTRY_INFO!A91=0,\" \",COUNTRY_INFO!A91)","v":"Uganda"},{"$f":"IF(COUNTRY_INFO!B91=0,\" \",COUNTRY_INFO!B91)","v":"Northern"},{"$f":"IF(COUNTRY_INFO!C91=0,\" \",COUNTRY_INFO!C91)","v":"Otuke"},{"$f":"IF(OR(COUNTRY_INFO!$T$9:$T$1000=\"T3 (ALB/MBD)\",COUNTRY_INFO!$U$9:$U$1000=\"T3 (ALB/MBD)\"), \"T3 (ALB/MBD)\", \" \")","v":"T3 (ALB/MBD)"},"MBD","Jan-June 2017",16191,34434,null,50625,29834,17775,null,47609,184.26286208387376,51.620491374803969," ",94.042469135802463]
[{"$f":"IF(COUNTRY_INFO!A92=0,\" \",COUNTRY_INFO!A92)","v":"Uganda"},{"$f":"IF(COUNTRY_INFO!B92=0,\" \",COUNTRY_INFO!B92)","v":"Northern"},{"$f":"IF(COUNTRY_INFO!C92=0,\" \",COUNTRY_INFO!C92)","v":"Oyam"},"T3 (ALB/MBD)","MBD","Jan-June 2017",59581,126715,null,186296,52888,46934,null,99822,88.766553095785568,37.039024582725013," ",53.582470906514367]
[{"$f":"IF(COUNTRY_INFO!A93=0,\" \",COUNTRY_INFO!A93)","v":"Uganda"},{"$f":"IF(COUNTRY_INFO!B93=0,\" \",COUNTRY_INFO!B93)","v":"Northern"},{"$f":"IF(COUNTRY_INFO!C93=0,\" \",COUNTRY_INFO!C93)","v":"Pader"},"T3 (ALB/MBD)","MBD","Jan-June 2017",27666,58838,null,86504,40513,19409,null,59922,146.43605870020963,32.987185152452497," ",69.270785166003876]
[{"$f":"IF(COUNTRY_INFO!A94=0,\" \",COUNTRY_INFO!A94)","v":"Uganda"},{"$f":"IF(COUNTRY_INFO!B94=0,\" \",COUNTRY_INFO!B94)","v":"Northern"},{"$f":"IF(COUNTRY_INFO!C94=0,\" \",COUNTRY_INFO!C94)","v":"Yumbe"},"T3 (ALB/MBD)","MBD","Jan-June 2017",75294,160133,null,235427,93578,90053,null,183631,124.28347544293037,56.236378510363259," ",77.999124994159558]
[{"$f":"IF(COUNTRY_INFO!A95=0,\" \",COUNTRY_INFO!A95)","v":"Uganda"},{"$f":"IF(COUNTRY_INFO!B95=0,\" \",COUNTRY_INFO!B95)","v":"Northern"},{"$f":"IF(COUNTRY_INFO!C95=0,\" \",COUNTRY_INFO!C95)","v":"Zombo"},"T3 (ALB/MBD)","MBD","Jan-June 2017",35798,76134,null,111932,10569,4195,null,14764,29.523995753952736,5.5100218036619646," ",13.190151163206231]
[{"$f":"IF(COUNTRY_INFO!A96=0,\" \",COUNTRY_INFO!A96)","v":"Uganda"},{"$f":"IF(COUNTRY_INFO!B96=0,\" \",COUNTRY_INFO!B96)","v":"Western"},{"$f":"IF(COUNTRY_INFO!C96=0,\" \",COUNTRY_INFO!C96)","v":"Buhweju"},{"$f":"IF(OR(COUNTRY_INFO!$T$9:$T$1000=\"T3 (ALB/MBD)\",COUNTRY_INFO!$U$9:$U$1000=\"T3 (ALB/MBD)\"), \"T3 (ALB/MBD)\", \" \")","v":"T3 (ALB/MBD)"},"MBD","Jan-June 2017",18748,39873,null,58621,27196,8186,null,35382,145.06080648602517,20.530183332079353," ",60.357209873594783]
[{"$f":"IF(COUNTRY_INFO!A97=0,\" \",COUNTRY_INFO!A97)","v":"Uganda"},{"$f":"IF(COUNTRY_INFO!B97=0,\" \",COUNTRY_INFO!B97)","v":"Western"},{"$f":"IF(COUNTRY_INFO!C97=0,\" \",COUNTRY_INFO!C97)","v":"Buliisa"},"T3 (ALB/MBD)","MBD","Jan-June 2017",17574,37376,null,54950,15132,5656,null,20788,86.104472516217129,15.132705479452055," ",37.830755232029119]
[{"$f":"IF(COUNTRY_INFO!A98=0,\" \",COUNTRY_INFO!A98)","v":"Uganda"},{"$f":"IF(COUNTRY_INFO!B98=0,\" \",COUNTRY_INFO!B98)","v":"Western"},{"$f":"IF(COUNTRY_INFO!C98=0,\" \",COUNTRY_INFO!C98)","v":"Bundibugyo"},{"$f":"IF(OR(COUNTRY_INFO!$T$9:$T$1000=\"T3 (ALB/MBD)\",COUNTRY_INFO!$U$9:$U$1000=\"T3 (ALB/MBD)\"), \"T3 (ALB/MBD)\", \" \")","v":"T3 (ALB/MBD)"},"MBD","Jan-June 2017",34848,74113,null,108961,36768,1251,null,38019,105.50964187327823,1.6879629754563978," ",34.892300915006288]
[{"$f":"IF(COUNTRY_INFO!A99=0,\" \",COUNTRY_INFO!A99)","v":"Uganda"},{"$f":"IF(COUNTRY_INFO!B99=0,\" \",COUNTRY_INFO!B99)","v":"Western"},{"$f":"IF(COUNTRY_INFO!C99=0,\" \",COUNTRY_INFO!C99)","v":"Bushenyi"},{"$f":"IF(OR(COUNTRY_INFO!$T$9:$T$1000=\"T3 (ALB/MBD)\",COUNTRY_INFO!$U$9:$U$1000=\"T3 (ALB/MBD)\"), \"T3 (ALB/MBD)\", \" \")","v":"T3 (ALB/MBD)"},"MBD","Jan-June 2017",36409,77434,null,113843,24645,52232,null,76877,67.689307588782995,67.453573365704983," ",67.528965329444929]
[{"$f":"IF(COUNTRY_INFO!A100=0,\" \",COUNTRY_INFO!A100)","v":"Uganda"},{"$f":"IF(COUNTRY_INFO!B100=0,\" \",COUNTRY_INFO!B100)","v":"Western"},{"$f":"IF(COUNTRY_INFO!C100=0,\" \",COUNTRY_INFO!C100)","v":"Hoima"},"T3 (ALB/MBD)","MBD","Jan-June 2017",88986,189253,null,278239,95792,25695,null,121487,107.6483941294136,13.577063507579801," ",43.662822249936205]
[{"$f":"IF(COUNTRY_INFO!A101=0,\" \",COUNTRY_INFO!A101)","v":"Uganda"},{"$f":"IF(COUNTRY_INFO!B101=0,\" \",COUNTRY_INFO!B101)","v":"Western"},{"$f":"IF(COUNTRY_INFO!C101=0,\" \",COUNTRY_INFO!C101)","v":"Ibanda"},{"$f":"IF(OR(COUNTRY_INFO!$T$9:$T$1000=\"T3 (ALB/MBD)\",COUNTRY_INFO!$U$9:$U$1000=\"T3 (ALB/MBD)\"), \"T3 (ALB/MBD)\", \" \")","v":"T3 (ALB/MBD)"},"MBD","Jan-June 2017",38768,82449,null,121217,33649,50396,null,84045,86.795810978126283,61.123846256473705," ",69.334334293044705]
[{"$f":"IF(COUNTRY_INFO!A102=0,\" \",COUNTRY_INFO!A102)","v":"Uganda"},{"$f":"IF(COUNTRY_INFO!B102=0,\" \",COUNTRY_INFO!B102)","v":"Western"},{"$f":"IF(COUNTRY_INFO!C102=0,\" \",COUNTRY_INFO!C102)","v":"Isingiro"},{"$f":"IF(OR(COUNTRY_INFO!$T$9:$T$1000=\"T3 (ALB/MBD)\",COUNTRY_INFO!$U$9:$U$1000=\"T3 (ALB/MBD)\"), \"T3 (ALB/MBD)\", \" \")","v":"T3 (ALB/MBD)"},"MBD","Jan-June 2017",75533,160641,null,236174,93566,84618,null,178184,123.87433307296149,52.675219900274527," ",75.446069423391222]
[{"$f":"IF(COUNTRY_INFO!A103=0,\" \",COUNTRY_INFO!A103)","v":"Uganda"},{"$f":"IF(COUNTRY_INFO!B103=0,\" \",COUNTRY_INFO!B103)","v":"Western"},{"$f":"IF(COUNTRY_INFO!C103=0,\" \",COUNTRY_INFO!C103)","v":"Kabale"},{"$f":"IF(OR(COUNTRY_INFO!$T$9:$T$1000=\"T3 (ALB/MBD)\",COUNTRY_INFO!$U$9:$U$1000=\"T3 (ALB/MBD)\"), \"T3 (ALB/MBD)\", \" \")","v":"T3 (ALB/MBD)"},"MBD","Jan-June 2017",51354,109218,null,160572,90700,95648,null,186348,176.61720605989797,87.575308099397532," ",116.05261191241311]
[{"$f":"IF(COUNTRY_INFO!A104=0,\" \",COUNTRY_INFO!A104)","v":"Uganda"},{"$f":"IF(COUNTRY_INFO!B104=0,\" \",COUNTRY_INFO!B104)","v":"Western"},{"$f":"IF(COUNTRY_INFO!C104=0,\" \",COUNTRY_INFO!C104)","v":"Kabarole"},{"$f":"IF(OR(COUNTRY_INFO!$T$9:$T$1000=\"T3 (ALB/MBD)\",COUNTRY_INFO!$U$9:$U$1000=\"T3 (ALB/MBD)\"), \"T3 (ALB/MBD)\", \" \")","v":"T3 (ALB/MBD)"},"MBD","Jan-June 2017",72874,154985,null,227859,75428,37635,null,113063,103.5046793094931,24.282995128560827," ",49.619720967791487]
[{"$f":"IF(COUNTRY_INFO!A105=0,\" \",COUNTRY_INFO!A105)","v":"Uganda"},{"$f":"IF(COUNTRY_INFO!B105=0,\" \",COUNTRY_INFO!B105)","v":"Western"},{"$f":"IF(COUNTRY_INFO!C105=0,\" \",COUNTRY_INFO!C105)","v":"Kagadi"},{"$f":"IF(OR(COUNTRY_INFO!$T$9:$T$1000=\"T3 (ALB/MBD)\",COUNTRY_INFO!$U$9:$U$1000=\"T3 (ALB/MBD)\"), \"T3 (ALB/MBD)\", \" \")","v":"T3 (ALB/MBD)"},"MBD","Jan-June 2017",54501,115911,null,170412,80643,26316,null,106959,147.96609236527769,22.703626057923749," ",62.764946130554186]
[{"$f":"IF(COUNTRY_INFO!A106=0,\" \",COUNTRY_INFO!A106)","v":"Uganda"},{"$f":"IF(COUNTRY_INFO!B106=0,\" \",COUNTRY_INFO!B106)","v":"Western"},{"$f":"IF(COUNTRY_INFO!C106=0,\" \",COUNTRY_INFO!C106)","v":"Kakumiro"},{"$f":"IF(OR(COUNTRY_INFO!$T$9:$T$1000=\"T3 (ALB/MBD)\",COUNTRY_INFO!$U$9:$U$1000=\"T3 (ALB/MBD)\"), \"T3 (ALB/MBD)\", \" \")","v":"T3 (ALB/MBD)"},"MBD","Jan-June 2017",45844,97500,null,143344,75880,41610,null,117490,165.51784312014658,42.676923076923082," ",81.963667820069205]
[{"$f":"IF(COUNTRY_INFO!A107=0,\" \",COUNTRY_INFO!A107)","v":"Uganda"},{"$f":"IF(COUNTRY_INFO!B107=0,\" \",COUNTRY_INFO!B107)","v":"Western"},{"$f":"IF(COUNTRY_INFO!C107=0,\" \",COUNTRY_INFO!C107)","v":"Kamwenge"},{"$f":"IF(OR(COUNTRY_INFO!$T$9:$T$1000=\"T3 (ALB/MBD)\",COUNTRY_INFO!$U$9:$U$1000=\"T3 (ALB/MBD)\"), \"T3 (ALB/MBD)\", \" \")","v":"T3 (ALB/MBD)"},"MBD","Jan-June 2017",64366,136891,null,201257,77114,81221,null,158335,119.80548736910792,59.332607695173536," ",78.673039943952261]
[{"$f":"IF(COUNTRY_INFO!A108=0,\" \",COUNTRY_INFO!A108)","v":"Uganda"},{"$f":"IF(COUNTRY_INFO!B108=0,\" \",COUNTRY_INFO!B108)","v":"Western"},{"$f":"IF(COUNTRY_INFO!C108=0,\" \",COUNTRY_INFO!C108)","v":"Kanungu"},{"$f":"IF(OR(COUNTRY_INFO!$T$9:$T$1000=\"T3 (ALB/MBD)\",COUNTRY_INFO!$U$9:$U$1000=\"T3 (ALB/MBD)\"), \"T3 (ALB/MBD)\", \" \")","v":"T3 (ALB/MBD)"},"MBD","Jan-June 2017",39159,83281,null,122440,60671,77394,null,138065,154.93500855486607,92.931160768962911," ",112.76135249918326]
[{"$f":"IF(COUNTRY_INFO!A109=0,\" \",COUNTRY_INFO!A109)","v":"Uganda"},{"$f":"IF(COUNTRY_INFO!B109=0,\" \",COUNTRY_INFO!B109)","v":"Western"},{"$f":"IF(COUNTRY_INFO!C109=0,\" \",COUNTRY_INFO!C109)","v":"Kasese"},"T3 (ALB/MBD)","MBD","Jan-June 2017",107934,229550,null,337484,101803,16953,null,118756,94.319676839550098,7.3853191025920282," ",35.188631164736698]
[{"$f":"IF(COUNTRY_INFO!A110=0,\" \",COUNTRY_INFO!A110)","v":"Uganda"},{"$f":"IF(COUNTRY_INFO!B110=0,\" \",COUNTRY_INFO!B110)","v":"Western"},{"$f":"IF(COUNTRY_INFO!C110=0,\" \",COUNTRY_INFO!C110)","v":"Kibaale"},{"$f":"IF(OR(COUNTRY_INFO!$T$9:$T$1000=\"T3 (ALB/MBD)\",COUNTRY_INFO!$U$9:$U$1000=\"T3 (ALB/MBD)\"), \"T3 (ALB/MBD)\", \" \")","v":"T3 (ALB/MBD)"},"MBD","Jan-June 2017",21581,45898,null,67479,46655,30950,null,77605,216.18553357119688,67.432132119046585," ",115.00615006150061]
[{"$f":"IF(COUNTRY_INFO!A111=0,\" \",COUNTRY_INFO!A111)","v":"Uganda"},{"$f":"IF(COUNTRY_INFO!B111=0,\" \",COUNTRY_INFO!B111)","v":"Western"},{"$f":"IF(COUNTRY_INFO!C111=0,\" \",COUNTRY_INFO!C111)","v":"Kiruhura"},{"$f":"IF(OR(COUNTRY_INFO!$T$9:$T$1000=\"T3 (ALB/MBD)\",COUNTRY_INFO!$U$9:$U$1000=\"T3 (ALB/MBD)\"), \"T3 (ALB/MBD)\", \" \")","v":"T3 (ALB/MBD)"},"MBD","Jan-June 2017",50951,108361,null,159312,90771,48193,null,138964,178.15352004867421,44.474488053820096," ",87.227578587928093]
[{"$f":"IF(COUNTRY_INFO!A112=0,\" \",COUNTRY_INFO!A112)","v":"Uganda"},{"$f":"IF(COUNTRY_INFO!B112=0,\" \",COUNTRY_INFO!B112)","v":"Western"},{"$f":"IF(COUNTRY_INFO!C112=0,\" \",COUNTRY_INFO!C112)","v":"Kiryandongo"},{"$f":"IF(OR(COUNTRY_INFO!$T$9:$T$1000=\"T3 (ALB/MBD)\",COUNTRY_INFO!$U$9:$U$1000=\"T3 (ALB/MBD)\"), \"T3 (ALB/MBD)\", \" \")","v":"T3 (ALB/MBD)"},"MBD","Jan-June 2017",41341,87923,null,129264,53849,46251,null,100100,130.25567838223554,52.603983030606329," ",77.438420596608495]
[{"$f":"IF(COUNTRY_INFO!A113=0,\" \",COUNTRY_INFO!A113)","v":"Uganda"},{"$f":"IF(COUNTRY_INFO!B113=0,\" \",COUNTRY_INFO!B113)","v":"Western"},{"$f":"IF(COUNTRY_INFO!C113=0,\" \",COUNTRY_INFO!C113)","v":"Kisoro"},{"$f":"IF(OR(COUNTRY_INFO!$T$9:$T$1000=\"T3 (ALB/MBD)\",COUNTRY_INFO!$U$9:$U$1000=\"T3 (ALB/MBD)\"), \"T3 (ALB/MBD)\", \" \")","v":"T3 (ALB/MBD)"},"MBD","Jan-June 2017",43750,93045,null,136795,9022,7958,null,16980,20.621714285714283,8.5528507711322472," ",12.412734383566651]
[{"$f":"IF(COUNTRY_INFO!A114=0,\" \",COUNTRY_INFO!A114)","v":"Uganda"},{"$f":"IF(COUNTRY_INFO!B114=0,\" \",COUNTRY_INFO!B114)","v":"Western"},{"$f":"IF(COUNTRY_INFO!C114=0,\" \",COUNTRY_INFO!C114)","v":"Kyegegwa"},{"$f":"IF(OR(COUNTRY_INFO!$T$9:$T$1000=\"T3 (ALB/MBD)\",COUNTRY_INFO!$U$9:$U$1000=\"T3 (ALB/MBD)\"), \"T3 (ALB/MBD)\", \" \")","v":"T3 (ALB/MBD)"},"MBD","Jan-June 2017",43739,93023,null,136762,18427,25381,null,43808,42.129449690207828,27.284650032787589," ",32.03228967110747]
[{"$f":"IF(COUNTRY_INFO!A115=0,\" \",COUNTRY_INFO!A115)","v":"Uganda"},{"$f":"IF(COUNTRY_INFO!B115=0,\" \",COUNTRY_INFO!B115)","v":"Western"},{"$f":"IF(COUNTRY_INFO!C115=0,\" \",COUNTRY_INFO!C115)","v":"Kyenjojo"},{"$f":"IF(OR(COUNTRY_INFO!$T$9:$T$1000=\"T3 (ALB/MBD)\",COUNTRY_INFO!$U$9:$U$1000=\"T3 (ALB/MBD)\"), \"T3 (ALB/MBD)\", \" \")","v":"T3 (ALB/MBD)"},"MBD","Jan-June 2017",65569,139451,null,205020,89591,57153,null,146744,136.63621528466197,40.984288388035935," ",71.575456053067995]
[{"$f":"IF(COUNTRY_INFO!A116=0,\" \",COUNTRY_INFO!A116)","v":"Uganda"},{"$f":"IF(COUNTRY_INFO!B116=0,\" \",COUNTRY_INFO!B116)","v":"Western"},{"$f":"IF(COUNTRY_INFO!C116=0,\" \",COUNTRY_INFO!C116)","v":"Masindi"},{"$f":"IF(OR(COUNTRY_INFO!$T$9:$T$1000=\"T3 (ALB/MBD)\",COUNTRY_INFO!$U$9:$U$1000=\"T3 (ALB/MBD)\"), \"T3 (ALB/MBD)\", \" \")","v":"T3 (ALB/MBD)"},"MBD","Jan-June 2017",45211,96152,null,141363,18808,29407,null,48215,41.600495454645994,30.583867210250439," ",34.107227492342403]
[{"$f":"IF(COUNTRY_INFO!A117=0,\" \",COUNTRY_INFO!A117)","v":"Uganda"},{"$f":"IF(COUNTRY_INFO!B117=0,\" \",COUNTRY_INFO!B117)","v":"Western"},{"$f":"IF(COUNTRY_INFO!C117=0,\" \",COUNTRY_INFO!C117)","v":"Mbarara"},{"$f":"IF(OR(COUNTRY_INFO!$T$9:$T$1000=\"T3 (ALB/MBD)\",COUNTRY_INFO!$U$9:$U$1000=\"T3 (ALB/MBD)\"), \"T3 (ALB/MBD)\", \" \")","v":"T3 (ALB/MBD)"},"MBD","Jan-June 2017",73401,156106,null,229507,97479,111187,null,208666,132.80336780152859,71.225321256069591," ",90.919231221705658]
[{"$f":"IF(COUNTRY_INFO!A118=0,\" \",COUNTRY_INFO!A118)","v":"Uganda"},{"$f":"IF(COUNTRY_INFO!B118=0,\" \",COUNTRY_INFO!B118)","v":"Western"},{"$f":"IF(COUNTRY_INFO!C118=0,\" \",COUNTRY_INFO!C118)","v":"Mitooma"},{"$f":"IF(OR(COUNTRY_INFO!$T$9:$T$1000=\"T3 (ALB/MBD)\",COUNTRY_INFO!$U$9:$U$1000=\"T3 (ALB/MBD)\"), \"T3 (ALB/MBD)\", \" \")","v":"T3 (ALB/MBD)"},"MBD","Jan-June 2017",28489,60590,null,89079,18081,34743,null,52824,63.466601144301308,57.341145403531932," ",59.300171757653317]
[{"$f":"IF(COUNTRY_INFO!A119=0,\" \",COUNTRY_INFO!A119)","v":"Uganda"},{"$f":"IF(COUNTRY_INFO!B119=0,\" \",COUNTRY_INFO!B119)","v":"Western"},{"$f":"IF(COUNTRY_INFO!C119=0,\" \",COUNTRY_INFO!C119)","v":"Ntoroko"},{"$f":"IF(OR(COUNTRY_INFO!$T$9:$T$1000=\"T3 (ALB/MBD)\",COUNTRY_INFO!$U$9:$U$1000=\"T3 (ALB/MBD)\"), \"T3 (ALB/MBD)\", \" \")","v":"T3 (ALB/MBD)"},"MBD","Jan-June 2017",10406,22131,null,32537,15734,1489,null,17223,151.20123005958101,6.7281189282002618," ",52.933583305160283]
[{"$f":"IF(COUNTRY_INFO!A120=0,\" \",COUNTRY_INFO!A120)","v":"Uganda"},{"$f":"IF(COUNTRY_INFO!B120=0,\" \",COUNTRY_INFO!B120)","v":"Western"},{"$f":"IF(COUNTRY_INFO!C120=0,\" \",COUNTRY_INFO!C120)","v":"Ntungamo"},{"$f":"IF(OR(COUNTRY_INFO!$T$9:$T$1000=\"T3 (ALB/MBD)\",COUNTRY_INFO!$U$9:$U$1000=\"T3 (ALB/MBD)\"), \"T3 (ALB/MBD)\", \" \")","v":"T3 (ALB/MBD)"},"MBD","Jan-June 2017",75142,159809,null,234951,52668,25161,null,77829,70.091293817039741,15.744419901257126," ",33.125630450604589]
[{"$f":"IF(COUNTRY_INFO!A121=0,\" \",COUNTRY_INFO!A121)","v":"Uganda"},{"$f":"IF(COUNTRY_INFO!B121=0,\" \",COUNTRY_INFO!B121)","v":"Western"},{"$f":"IF(COUNTRY_INFO!C121=0,\" \",COUNTRY_INFO!C121)","v":"Rubanda"},{"$f":"IF(OR(COUNTRY_INFO!$T$9:$T$1000=\"T3 (ALB/MBD)\",COUNTRY_INFO!$U$9:$U$1000=\"T3 (ALB/MBD)\"), \"T3 (ALB/MBD)\", \" \")","v":"T3 (ALB/MBD)"},"MBD","Jan-June 2017",30681,65252,null,95933,48059,43031,null,91090,156.64091783188292,65.945871390915229," ",94.951685030177316]
[{"$f":"IF(COUNTRY_INFO!A122=0,\" \",COUNTRY_INFO!A122)","v":"Uganda"},{"$f":"IF(COUNTRY_INFO!B122=0,\" \",COUNTRY_INFO!B122)","v":"Western"},{"$f":"IF(COUNTRY_INFO!C122=0,\" \",COUNTRY_INFO!C122)","v":"Rubirizi"},{"$f":"IF(OR(COUNTRY_INFO!$T$9:$T$1000=\"T3 (ALB/MBD)\",COUNTRY_INFO!$U$9:$U$1000=\"T3 (ALB/MBD)\"), \"T3 (ALB/MBD)\", \" \")","v":"T3 (ALB/MBD)"},"MBD","Jan-June 2017",20057,42657,null,62714,29866,22791,null,52657,148.90561898589021,53.428511147056753," ",83.963708262907801]
[{"$f":"IF(COUNTRY_INFO!A123=0,\" \",COUNTRY_INFO!A123)","v":"Uganda"},{"$f":"IF(COUNTRY_INFO!B123=0,\" \",COUNTRY_INFO!B123)","v":"Western"},{"$f":"IF(COUNTRY_INFO!C123=0,\" \",COUNTRY_INFO!C123)","v":"Rukungiri"},{"$f":"IF(OR(COUNTRY_INFO!$T$9:$T$1000=\"T3 (ALB/MBD)\",COUNTRY_INFO!$U$9:$U$1000=\"T3 (ALB/MBD)\"), \"T3 (ALB/MBD)\", \" \")","v":"T3 (ALB/MBD)"},"MBD","Jan-June 2017",48873,103941,null,152814,45953,61783,null,107736,94.025330959834676,59.440451794768187," ",70.501393851348709]
[{"$f":"IF(COUNTRY_INFO!A124=0,\" \",COUNTRY_INFO!A124)","v":"Uganda"},{"$f":"IF(COUNTRY_INFO!B124=0,\" \",COUNTRY_INFO!B124)","v":"Western"},{"$f":"IF(COUNTRY_INFO!C124=0,\" \",COUNTRY_INFO!C124)","v":"Sheema"},{"$f":"IF(OR(COUNTRY_INFO!$T$9:$T$1000=\"T3 (ALB/MBD)\",COUNTRY_INFO!$U$9:$U$1000=\"T3 (ALB/MBD)\"), \"T3 (ALB/MBD)\", \" \")","v":"T3 (ALB/MBD)"},"MBD","Jan-June 2017",32201,68484,null,100685,14886,21012,null,35898,46.228378000683207,30.681619064306993," ",35.653771664100908]

{"sheet":"T3_R2","index":8,"n_rows":124,"n_cols":18,"rows_kept":124,"cut":false,"hidden":false,"merged":[[5,6,5,9],[5,10,5,13],[5,14,5,17],[3,0,3,2],[5,0,5,2],[5,3,6,3],[5,5,6,5],[5,4,6,4]]}
["T 3 - Albendazole (ALB) or Mebendazole (MBD) - Round 2"]
["Administrative structure, population requiring PC by age group, population treated by age group and coverage"]
[]
["TOTAL",null,null,null,null,null,{"$f":"SUM(G$9:G$1000)","v":5375868},11433191,0,16809059,4806034,2540995,0,7347029,{"$f":"IF(G4<>0, IF(K4/G4*100=0, \"-\", K4/G4*100), \" \")","v":89.40014896199088},{"$f":"IF(H4<>0, IF(L4/H4*100=0, \"-\", L4/H4*100), \" \")","v":22.224722739259757},{"$f":"IF(I4<>0, IF(M4/I4*100=0, \"-\", M4/I4*100), \" \")","v":" "},{"$f":"IF(J4<>0, IF(N4/J4*100=0, \"-\", N4/J4*100), \" \")","v":43.708746575284195}]
[]
[null,null,null,"PC implemented","Medicine","Date","Population targeted for T3",null,null,null,"Population treated",null,null,null,"Programme coverage (%)"]
["Country","Province/State","District",null,null,null,"PreSAC","SAC","Adults","Total","PreSAC","SAC","Adults","Total","PreSAC","SAC","Adults","Total"]
[]
[{"$f":"IF(COUNTRY_INFO!A9=0,\" \",COUNTRY_INFO!A9)","v":"Uganda"},{"$f":"IF(COUNTRY_INFO!B9=0,\" \",COUNTRY_INFO!B9)","v":"Central "},{"$f":"IF(COUNTRY_INFO!C9=0,\" \",COUNTRY_INFO!C9)","v":"Buikwe"},"T3 (ALB/MBD)","ALB","July -Dec 2017",65658,139638,null,{"$f":"SUM(G9:I9)","v":205296},22145,9492,null,{"$f":"SUM(K9:M9)","v":31637},{"$f":"IF(G9<>0, IF(K9/G9*100=0, \"-\", K9/G9*100), \" \")","v":33.727801638794972},6.7975765908993253," ",15.410431766814744]
[{"$f":"IF(COUNTRY_INFO!A10=0,\" \",COUNTRY_INFO!A10)","v":"Uganda"},{"$f":"IF(COUNTRY_INFO!B10=0,\" \",COUNTRY_INFO!B10)","v":"Central "},{"$f":"IF(COUNTRY_INFO!C10=0,\" \",COUNTRY_INFO!C10)","v":"Bukomansimbi"},{"$f":"IF(AND(COUNTRY_INFO!$T$9:$T$1000=\"T3 (ALB/MBD)\",COUNTRY_INFO!$U$9:$U$1000=\"T3 (ALB/MBD)\"), \"T3 (ALB/MBD)\", \" \")","v":"T3 (ALB/MBD)"},"ALB","July -Dec 2017",23515,50011,null,{"$f":"SUM(G10:I10)","v":73526},26186,12333,null,{"$f":"SUM(K10:M10)","v":38519},{"$f":"IF(G10<>0, IF(K10/G10*100=0, \"-\", K10/G10*100), \" \")","v":111.35870720816501},{"$f":"IF(H10<>0, IF(L10/H10*100=0, \"-\", L10/H10*100), \" \")","v":24.660574673571816},{"$f":"IF(I10<>0, IF(M10/I10*100=0, \"-\", M10/I10*100), \" \")","v":" "},{"$f":"IF(J10<>0, IF(N10/J10*100=0, \"-\", N10/J10*100), \" \")","v":52.38827081576585}]
[{"$f":"IF(COUNTRY_INFO!A11=0,\" \",COUNTRY_INFO!A11)","v":"Uganda"},{"$f":"IF(COUNTRY_INFO!B11=0,\" \",COUNTRY_INFO!B11)","v":"Central "},{"$f":"IF(COUNTRY_INFO!C11=0,\" \",COUNTRY_INFO!C11)","v":"Butambala"},{"$f":"IF(AND(COUNTRY_INFO!$T$9:$T$1000=\"T3 (ALB/MBD)\",COUNTRY_INFO!$U$9:$U$1000=\"T3 (ALB/MBD)\"), \"T3 (ALB/MBD)\", \" \")","v":"T3 (ALB/MBD)"},"ALB","July -Dec 2017",15661,33306,null,48967,9767,7446,null,17213,62.365110784751934,22.356332192397765," ",35.152245389752288]
[{"$f":"IF(COUNTRY_INFO!A12=0,\" \",COUNTRY_INFO!A12)","v":"Uganda"},{"$f":"IF(COUNTRY_INFO!B12=0,\" \",COUNTRY_INFO!B12)","v":"Central "},{"$f":"IF(COUNTRY_INFO!C12=0,\" \",COUNTRY_INFO!C12)","v":"Buvuma"},"T3 (ALB/MBD)","ALB","July -Dec 2017",14550,30944,null,45494,3849,1590,null,5439,26.453608247422682,5.138314374353671," ",11.955422693102387]
[{"$f":"IF(COUNTRY_INFO!A13=0,\" \",COUNTRY_INFO!A13)","v":"Uganda"},{"$f":"IF(COUNTRY_INFO!B13=0,\" \",COUNTRY_INFO!B13)","v":"Central "},{"$f":"IF(COUNTRY_INFO!C13=0,\" \",COUNTRY_INFO!C13)","v":"Gomba"},"T3 (ALB/MBD)","ALB","July -Dec 2017",24836,52821,null,77657,9756,7499,null,17255,39.281687872443229,14.19700497908029," ",22.219503715054664]
[{"$f":"IF(COUNTRY_INFO!A14=0,\" \",COUNTRY_INFO!A14)","v":"Uganda"},{"$f":"IF(COUNTRY_INFO!B14=0,\" \",COUNTRY_INFO!B14)","v":"Central "},{"$f":"IF(COUNTRY_INFO!C14=0,\" \",COUNTRY_INFO!C14)","v":"Kalangala"},"T3 (ALB/MBD)","ALB","July -Dec 2017",8432,17932,null,26364,4996,3494,null,8490,59.250474383301707,19.484720053535579," ",32.203004096495221]
[{"$f":"IF(COUNTRY_INFO!A15=0,\" \",COUNTRY_INFO!A15)","v":"Uganda"},{"$f":"IF(COUNTRY_INFO!B15=0,\" \",COUNTRY_INFO!B15)","v":"Central "},{"$f":"IF(COUNTRY_INFO!C15=0,\" \",COUNTRY_INFO!C15)","v":"Kalungu"},"T3 (ALB/MBD)","ALB","July -Dec 2017",28456,60520,null,88976,22717,10385,null,33102,79.832021366319921,17.159616655651025," ",37.203290775040458]
[{"$f":"IF(COUNTRY_INFO!A16=0,\" \",COUNTRY_INFO!A16)","v":"Uganda"},{"$f":"IF(COUNTRY_INFO!B16=0,\" \",COUNTRY_INFO!B16)","v":"Central "},{"$f":"IF(COUNTRY_INFO!C16=0,\" \",COUNTRY_INFO!C16)","v":"Kampala"},{"$f":"IF(AND(COUNTRY_INFO!$T$9:$T$1000=\"T3 (ALB/MBD)\",COUNTRY_INFO!$U$9:$U$1000=\"T3 (ALB/MBD)\"), \"T3 (ALB/MBD)\", \" \")","v":"T3 (ALB/MBD)"},"ALB","July -Dec 2017",234054,497777,null,731831,77054,44636,null,121690,32.921462568467106,8.9670675824716692," ",16.628155954038569]
[{"$f":"IF(COUNTRY_INFO!A17=0,\" \",COUNTRY_INFO!A17)","v":"Uganda"},{"$f":"IF(COUNTRY_INFO!B17=0,\" \",COUNTRY_INFO!B17)","v":"Central "},{"$f":"IF(COUNTRY_INFO!C17=0,\" \",COUNTRY_INFO!C17)","v":"Kayunga"},"T3 (ALB/MBD)","ALB","July -Dec 2017",57161,121568,null,178729,24328,29095,null,53423,42.560487045363097,23.933107396683337," ",29.890504618724439]
[{"$f":"IF(COUNTRY_INFO!A18=0,\" \",COUNTRY_INFO!A18)","v":"Uganda"},{"$f":"IF(COUNTRY_INFO!B18=0,\" \",COUNTRY_INFO!B18)","v":"Central "},{"$f":"IF(COUNTRY_INFO!C18=0,\" \",COUNTRY_INFO!C18)","v":"Kiboga"},{"$f":"IF(AND(COUNTRY_INFO!$T$9:$T$1000=\"T3 (ALB/MBD)\",COUNTRY_INFO!$U$9:$U$1000=\"T3 (ALB/MBD)\"), \"T3 (ALB/MBD)\", \" \")","v":"T3 (ALB/MBD)"},"ALB","July -Dec 2017",23019,48955,null,71974,29151,26967,null,56118,126.63886354750424,55.085282402206104," ",77.969822435879621]
[{"$f":"IF(COUNTRY_INFO!A19=0,\" \",COUNTRY_INFO!A19)","v":"Uganda"},{"$f":"IF(COUNTRY_INFO!B19=0,\" \",COUNTRY_INFO!B19)","v":"Central "},{"$f":"IF(COUNTRY_INFO!C19=0,\" \",COUNTRY_INFO!C19)","v":"Kyankwanzi"},{"$f":"IF(AND(COUNTRY_INFO!$T$9:$T$1000=\"T3 (ALB/MBD)\",COUNTRY_INFO!$U$9:$U$1000=\"T3 (ALB/MBD)\"), \"T3 (ALB/MBD)\", \" \")","v":"T3 (ALB/MBD)"},"ALB","July -Dec 2017",33342,70911,null,104253,34222,10895,null,45117,102.63931377841762,15.364329934706886," ",43.276452476187735]
[{"$f":"IF(COUNTRY_INFO!A20=0,\" \",COUNTRY_INFO!A20)","v":"Uganda"},{"$f":"IF(COUNTRY_INFO!B20=0,\" \",COUNTRY_INFO!B20)","v":"Central "},{"$f":"IF(COUNTRY_INFO!C20=0,\" \",COUNTRY_INFO!C20)","v":"Luwero"},{"$f":"IF(AND(COUNTRY_INFO!$T$9:$T$1000=\"T3 (ALB/MBD)\",COUNTRY_INFO!$U$9:$U$1000=\"T3 (ALB/MBD)\"), \"T3 (ALB/MBD)\", \" \")","v":"T3 (ALB/MBD)"},"ALB","July -Dec 2017",70967,150930,null,221897,61070,29769,null,90839,86.054081474488143,19.723712979526933," ",40.937461975601295]
[{"$f":"IF(COUNTRY_INFO!A21=0,\" \",COUNTRY_INFO!A21)","v":"Uganda"},{"$f":"IF(COUNTRY_INFO!B21=0,\" \",COUNTRY_INFO!B21)","v":"Central "},{"$f":"IF(COUNTRY_INFO!C21=0,\" \",COUNTRY_INFO!C21)","v":"Lwengo"},{"$f":"IF(AND(COUNTRY_INFO!$T$9:$T$1000=\"T3 (ALB/MBD)\",COUNTRY_INFO!$U$9:$U$1000=\"T3 (ALB/MBD)\"), \"T3 (ALB/MBD)\", \" \")","v":"T3 (ALB/MBD)"},"ALB","July -Dec 2017",42701,90815,null,133516,20207,10122,null,30329,47.322076766352076,11.145735836590871," ",22.715629587465173]
[{"$f":"IF(COUNTRY_INFO!A22=0,\" \",COUNTRY_INFO!A22)","v":"Uganda"},{"$f":"IF(COUNTRY_INFO!B22=0,\" \",COUNTRY_INFO!B22)","v":"Central "},{"$f":"IF(COUNTRY_INFO!C22=0,\" \",COUNTRY_INFO!C22)","v":"Lyantonde"},{"$f":"IF(AND(COUNTRY_INFO!$T$9:$T$1000=\"T3 (ALB/MBD)\",COUNTRY_INFO!$U$9:$U$1000=\"T3 (ALB/MBD)\"), \"T3 (ALB/MBD)\", \" \")","v":"T3 (ALB/MBD)"},"ALB","July -Dec 2017",14560,30966,null,45526,20325,8423,null,28748,139.59478021978023,27.20080087838274," ",63.14633396301015]
[{"$f":"IF(COUNTRY_INFO!A23=0,\" \",COUNTRY_INFO!A23)","v":"Uganda"},{"$f":"IF(COUNTRY_INFO!B23=0,\" \",COUNTRY_INFO!B23)","v":"Central "},{"$f":"IF(COUNTRY_INFO!C23=0,\" \",COUNTRY_INFO!C23)","v":"Masaka"},"T3 (ALB/MBD)","ALB","July -Dec 2017",46126,98098,null,144224,28390,12374,null,40764,61.548801110003041,12.613916695549349," ",28.264366540936319]
[{"$f":"IF(COUNTRY_INFO!A24=0,\" \",COUNTRY_INFO!A24)","v":"Uganda"},{"$f":"IF(COUNTRY_INFO!B24=0,\" \",COUNTRY_INFO!B24)","v":"Central "},{"$f":"IF(COUNTRY_INFO!C24=0,\" \",COUNTRY_INFO!C24)","v":"Mityana"},"T3 (ALB/MBD)","ALB","July -Dec 2017",51089,108654,null,159743,41980,15432,null,57412,82.170330208068279,14.202882544591086," ",35.940228992819719]
[{"$f":"IF(COUNTRY_INFO!A25=0,\" \",COUNTRY_INFO!A25)","v":"Uganda"},{"$f":"IF(COUNTRY_INFO!B25=0,\" \",COUNTRY_INFO!B25)","v":"Central "},{"$f":"IF(COUNTRY_INFO!C25=0,\" \",COUNTRY_INFO!C25)","v":"Mpigi"},"T3 (ALB/MBD)","ALB","July -Dec 2017",38911,82754,null,121665,30354,78093,null,108447,78.008789288376036,94.367643860115521," ",89.135741585501165]
[{"$f":"IF(COUNTRY_INFO!A26=0,\" \",COUNTRY_INFO!A26)","v":"Uganda"},{"$f":"IF(COUNTRY_INFO!B26=0,\" \",COUNTRY_INFO!B26)","v":"Central "},{"$f":"IF(COUNTRY_INFO!C26=0,\" \",COUNTRY_INFO!C26)","v":"Mubende"},"T3 (ALB/MBD)","ALB","July -Dec 2017",106279,226031,null,332310,27117,20760,null,47877,25.514918281127976,9.18458087607452," ",14.407330504649273]
[{"$f":"IF(COUNTRY_INFO!A27=0,\" \",COUNTRY_INFO!A27)","v":"Uganda"},{"$f":"IF(COUNTRY_INFO!B27=0,\" \",COUNTRY_INFO!B27)","v":"Central "},{"$f":"IF(COUNTRY_INFO!C27=0,\" \",COUNTRY_INFO!C27)","v":"Mukono"},"T3 (ALB/MBD)","ALB","July -Dec 2017",92685,197120,null,289805,41964,73377,null,115341,45.275934617251984,37.224533279220779," ",39.79952036714343]
[{"$f":"IF(COUNTRY_INFO!A28=0,\" \",COUNTRY_INFO!A28)","v":"Uganda"},{"$f":"IF(COUNTRY_INFO!B28=0,\" \",COUNTRY_INFO!B28)","v":"Central "},{"$f":"IF(COUNTRY_INFO!C28=0,\" \",COUNTRY_INFO!C28)","v":"Nakaseke"},{"$f":"IF(AND(COUNTRY_INFO!$T$9:$T$1000=\"T3 (ALB/MBD)\",COUNTRY_INFO!$U$9:$U$1000=\"T3 (ALB/MBD)\"), \"T3 (ALB/MBD)\", \" \")","v":"T3 (ALB/MBD)"},"ALB","July -Dec 2017",30652,65189,null,95841,22865,14220,null,37085,74.595458697638009,21.813496141987144," ",38.69429576068697]
[{"$f":"IF(COUNTRY_INFO!A29=0,\" \",COUNTRY_INFO!A29)","v":"Uganda"},{"$f":"IF(COUNTRY_INFO!B29=0,\" \",COUNTRY_INFO!B29)","v":"Central "},{"$f":"IF(COUNTRY_INFO!C29=0,\" \",COUNTRY_INFO!C29)","v":"Nakasongola"},"T3 (ALB/MBD)","ALB","July -Dec 2017",28234,60047,null,88281,6884,12684,null,19568,24.381950839413474,21.123453294918981," ",22.165584893691733]
[{"$f":"IF(COUNTRY_INFO!A30=0,\" \",COUNTRY_INFO!A30)","v":"Uganda"},{"$f":"IF(COUNTRY_INFO!B30=0,\" \",COUNTRY_INFO!B30)","v":"Central "},{"$f":"IF(COUNTRY_INFO!C30=0,\" \",COUNTRY_INFO!C30)","v":"Rakai"},"T3 (ALB/MBD)","ALB","July -Dec 2017",80184,170533,null,250717,50657,40522,null,91179,63.175945325750774,23.76196982402233," ",36.367298587650623]
[{"$f":"IF(COUNTRY_INFO!A31=0,\" \",COUNTRY_INFO!A31)","v":"Uganda"},{"$f":"IF(COUNTRY_INFO!B31=0,\" \",COUNTRY_INFO!B31)","v":"Central "},{"$f":"IF(COUNTRY_INFO!C31=0,\" \",COUNTRY_INFO!C31)","v":"Sembabule"},{"$f":"IF(AND(COUNTRY_INFO!$T$9:$T$1000=\"T3 (ALB/MBD)\",COUNTRY_INFO!$U$9:$U$1000=\"T3 (ALB/MBD)\"), \"T3 (ALB/MBD)\", \" \")","v":"T3 (ALB/MBD)"},"ALB","July -Dec 2017",39229,83431,null,122660,2916,3792,null,6708,7.4332764026612974,4.545073174239791," ",5.4687754769280943]
[{"$f":"IF(COUNTRY_INFO!A32=0,\" \",COUNTRY_INFO!A32)","v":"Uganda"},{"$f":"IF(COUNTRY_INFO!B32=0,\" \",COUNTRY_INFO!B32)","v":"Central "},{"$f":"IF(COUNTRY_INFO!C32=0,\" \",COUNTRY_INFO!C32)","v":"Wakiso"},"T3 (ALB/MBD)","ALB","July -Dec 2017",310205,659731,null,969936,100837,70689,null,171526,32.506568237133507,10.714821647004612," ",17.684259580013524]
[{"$f":"IF(COUNTRY_INFO!A33=0,\" \",COUNTRY_INFO!A33)","v":"Uganda"},{"$f":"IF(COUNTRY_INFO!B33=0,\" \",COUNTRY_INFO!B33)","v":"Eastern "},{"$f":"IF(COUNTRY_INFO!C33=0,\" \",COUNTRY_INFO!C33)","v":"Amuria"},{"$f":"IF(AND(COUNTRY_INFO!$T$9:$T$1000=\"T3 (ALB/MBD)\",COUNTRY_INFO!$U$9:$U$1000=\"T3 (ALB/MBD)\"), \"T3 (ALB/MBD)\", \" \")","v":"T3 (ALB/MBD)"},"ALB","July -Dec 2017",42076,89485,null,131561,32107,28165,null,60272,76.307158475140227,31.474548807062636," ",45.812968888956448]
[{"$f":"IF(COUNTRY_INFO!A34=0,\" \",COUNTRY_INFO!A34)","v":"Uganda"},{"$f":"IF(COUNTRY_INFO!B34=0,\" \",COUNTRY_INFO!B34)","v":"Eastern "},{"$f":"IF(COUNTRY_INFO!C34=0,\" \",COUNTRY_INFO!C34)","v":"Budaka"},"T3 (ALB/MBD)","ALB","July -Dec 2017",32240,68568,null,100808,11641,4832,null,16473,36.107320099255588,7.047019017617548," ",16.340965002777558]
[{"$f":"IF(COUNTRY_INFO!A35=0,\" \",COUNTRY_INFO!A35)","v":"Uganda"},{"$f":"IF(COUNTRY_INFO!B35=0,\" \",COUNTRY_INFO!B35)","v":"Eastern "},{"$f":"IF(COUNTRY_INFO!C35=0,\" \",COUNTRY_INFO!C35)","v":"Bududa"},{"$f":"IF(AND(COUNTRY_INFO!$T$9:$T$1000=\"T3 (ALB/MBD)\",COUNTRY_INFO!$U$9:$U$1000=\"T3 (ALB/MBD)\"), \"T3 (ALB/MBD)\", \" \")","v":"T3 (ALB/MBD)"},"ALB","July -Dec 2017",32640,69418,null,102058,45946,8761,null,54707,140.76593137254903,12.620645941974704," ",53.603833114503516]
[{"$f":"IF(COUNTRY_INFO!A36=0,\" \",COUNTRY_INFO!A36)","v":"Uganda"},{"$f":"IF(COUNTRY_INFO!B36=0,\" \",COUNTRY_INFO!B36)","v":"Eastern "},{"$f":"IF(COUNTRY_INFO!C36=0,\" \",COUNTRY_INFO!C36)","v":"Bugiri"},"T3 (ALB/MBD)","ALB","July -Dec 2017",57671,122652,null,180323,67561,24416,null,91977,117.14900036413449,19.906727978345238," ",51.006804456447597]
[{"$f":"IF(COUNTRY_INFO!A37=0,\" \",COUNTRY_INFO!A37)","v":"Uganda"},{"$f":"IF(COUNTRY_INFO!B37=0,\" \",COUNTRY_INFO!B37)","v":"Eastern "},{"$f":"IF(COUNTRY_INFO!C37=0,\" \",COUNTRY_INFO!C37)","v":"Bukedea"},"T3 (ALB/MBD)","ALB","July -Dec 2017",31620,67248,null,98868,25993,23668,null,49661,82.204301075268816,35.195098738995952," ",50.229599061374763]
[{"$f":"IF(COUNTRY_INFO!A38=0,\" \",COUNTRY_INFO!A38)","v":"Uganda"},{"$f":"IF(COUNTRY_INFO!B38=0,\" \",COUNTRY_INFO!B38)","v":"Eastern "},{"$f":"IF(COUNTRY_INFO!C38=0,\" \",COUNTRY_INFO!C38)","v":"Bukwo"},{"$f":"IF(AND(COUNTRY_INFO!$T$9:$T$1000=\"T3 (ALB/MBD)\",COUNTRY_INFO!$U$9:$U$1000=\"T3 (ALB/MBD)\"), \"T3 (ALB/MBD)\", \" \")","v":"T3 (ALB/MBD)"},"ALB","July -Dec 2017",13877,29514,null,43391,18726,6161,null,24887,134.94271096058225,20.874839059429423," ",57.355211910303986]
[{"$f":"IF(COUNTRY_INFO!A39=0,\" \",COUNTRY_INFO!A39)","v":"Uganda"},{"$f":"IF(COUNTRY_INFO!B39=0,\" \",COUNTRY_INFO!B39)","v":"Eastern "},{"$f":"IF(COUNTRY_INFO!C39=0,\" \",COUNTRY_INFO!C39)","v":"Bulambuli"},"T3 (ALB/MBD)","ALB","July -Dec 2017",27102,57639,null,84741,12221,15475,null,27696,45.092613091284775,26.848141015631775," ",32.683116791163663]
[{"$f":"IF(COUNTRY_INFO!A40=0,\" \",COUNTRY_INFO!A40)","v":"Uganda"},{"$f":"IF(COUNTRY_INFO!B40=0,\" \",COUNTRY_INFO!B40)","v":"Eastern "},{"$f":"IF(COUNTRY_INFO!C40=0,\" \",COUNTRY_INFO!C40)","v":"Busia"},"T3 (ALB/MBD)","ALB","July -Dec 2017",50266,106903,null,157169,53749,18036,null,71785,106.92913699120679,16.871369372234643," ",45.673765182701423]
[{"$f":"IF(COUNTRY_INFO!A41=0,\" \",COUNTRY_INFO!A41)","v":"Uganda"},{"$f":"IF(COUNTRY_INFO!B41=0,\" \",COUNTRY_INFO!B41)","v":"Eastern "},{"$f":"IF(COUNTRY_INFO!C41=0,\" \",COUNTRY_INFO!C41)","v":"Butaleja"},"T3 (ALB/MBD)","ALB","July -Dec 2017",37918,80642,null,118560,62315,36501,null,98816,164.34147370641912,45.263014310160962," ",83.346828609986503]
[{"$f":"IF(COUNTRY_INFO!A42=0,\" \",COUNTRY_INFO!A42)","v":"Uganda"},{"$f":"IF(COUNTRY_INFO!B42=0,\" \",COUNTRY_INFO!B42)","v":"Eastern "},{"$f":"IF(COUNTRY_INFO!C42=0,\" \",COUNTRY_INFO!C42)","v":"Buyende"},"T3 (ALB/MBD)","ALB","July -Dec 2017",50173,106707,null,156880,17360,13079,null,30439,34.600283020748215,12.256927849157037," ",19.402728199898011]
[{"$f":"IF(COUNTRY_INFO!A43=0,\" \",COUNTRY_INFO!A43)","v":"Uganda"},{"$f":"IF(COUNTRY_INFO!B43=0,\" \",COUNTRY_INFO!B43)","v":"Eastern "},{"$f":"IF(COUNTRY_INFO!C43=0,\" \",COUNTRY_INFO!C43)","v":"Iganga"},"T3 (ALB/MBD)","ALB","July -Dec 2017",78303,166532,null,244835,45814,99634,null,145448,58.508613973921818,59.828741623231572," ",59.406539097759712]
[{"$f":"IF(COUNTRY_INFO!A44=0,\" \",COUNTRY_INFO!A44)","v":"Uganda"},{"$f":"IF(COUNTRY_INFO!B44=0,\" \",COUNTRY_INFO!B44)","v":"Eastern "},{"$f":"IF(COUNTRY_INFO!C44=0,\" \",COUNTRY_INFO!C44)","v":"Jinja"},"T3 (ALB/MBD)","ALB","July -Dec 2017",73185,155647,null,228832,47987,19358,null,67345,65.569447291111572,12.437117323173592," ",29.429887428331703]
[{"$f":"IF(COUNTRY_INFO!A45=0,\" \",COUNTRY_INFO!A45)","v":"Uganda"},{"$f":"IF(COUNTRY_INFO!B45=0,\" \",COUNTRY_INFO!B45)","v":"Eastern "},{"$f":"IF(COUNTRY_INFO!C45=0,\" \",COUNTRY_INFO!C45)","v":"Kaberamaido"},"T3 (ALB/MBD)","ALB","July -Dec 2017",33394,71021,null,104415,10207,10990,null,21197,30.565371024734983,15.474296334886864," ",20.300723076186372]
[{"$f":"IF(COUNTRY_INFO!A46=0,\" \",COUNTRY_INFO!A46)","v":"Uganda"},{"$f":"IF(COUNTRY_INFO!B46=0,\" \",COUNTRY_INFO!B46)","v":"Eastern "},{"$f":"IF(COUNTRY_INFO!C46=0,\" \",COUNTRY_INFO!C46)","v":"Kaliro"},"T3 (ALB/MBD)","ALB","July -Dec 2017",36682,78015,null,114697,30032,11776,null,41808,81.871217490867451,15.094533102608473," ",36.450822602160478]
[{"$f":"IF(COUNTRY_INFO!A47=0,\" \",COUNTRY_INFO!A47)","v":"Uganda"},{"$f":"IF(COUNTRY_INFO!B47=0,\" \",COUNTRY_INFO!B47)","v":"Eastern "},{"$f":"IF(COUNTRY_INFO!C47=0,\" \",COUNTRY_INFO!C47)","v":"Kamuli"},"T3 (ALB/MBD)","ALB","July -Dec 2017",75527,160627,null,236154,76918,36984,null,113902,101.84172547565771,23.024771675994696," ",48.232085842289351]
[{"$f":"IF(COUNTRY_INFO!A48=0,\" \",COUNTRY_INFO!A48)","v":"Uganda"},{"$f":"IF(COUNTRY_INFO!B48=0,\" \",COUNTRY_INFO!B48)","v":"Eastern "},{"$f":"IF(COUNTRY_INFO!C48=0,\" \",COUNTRY_INFO!C48)","v":"Kapchorwa"},{"$f":"IF(AND(COUNTRY_INFO!$T$9:$T$1000=\"T3 (ALB/MBD)\",COUNTRY_INFO!$U$9:$U$1000=\"T3 (ALB/MBD)\"), \"T3 (ALB/MBD)\", \" \")","v":"T3 (ALB/MBD)"},"ALB","July -Dec 2017",16336,34742,null,51078,20245,14920,null,35165,123.92874632713027,42.945138449139371," ",68.845686988527348]
[{"$f":"IF(COUNTRY_INFO!A49=0,\" \",COUNTRY_INFO!A49)","v":"Uganda"},{"$f":"IF(COUNTRY_INFO!B49=0,\" \",COUNTRY_INFO!B49)","v":"Eastern "},{"$f":"IF(COUNTRY_INFO!C49=0,\" \",COUNTRY_INFO!C49)","v":"Katakwi"},"T3 (ALB/MBD)","ALB","July -Dec 2017",25816,54905,null,80721,14331,10930,null,25261,55.512085528354504,19.907112284855661," ",31.294210924047029]
[{"$f":"IF(COUNTRY_INFO!A50=0,\" \",COUNTRY_INFO!A50)","v":"Uganda"},{"$f":"IF(COUNTRY_INFO!B50=0,\" \",COUNTRY_INFO!B50)","v":"Eastern "},{"$f":"IF(COUNTRY_INFO!C50=0,\" \",COUNTRY_INFO!C50)","v":"Kibuku"},"T3 (ALB/MBD)","ALB","July -Dec 2017",31376,66730,null,98106,7815,16397,null,24212,24.90757266700663,24.572156451371196," ",24.679428373392046]
[{"$f":"IF(COUNTRY_INFO!A51=0,\" \",COUNTRY_INFO!A51)","v":"Uganda"},{"$f":"IF(COUNTRY_INFO!B51=0,\" \",COUNTRY_INFO!B51)","v":"Eastern "},{"$f":"IF(COUNTRY_INFO!C51=0,\" \",COUNTRY_INFO!C51)","v":"Kumi"},"T3 (ALB/MBD)","ALB","July -Dec 2017",37159,79028,null,116187,55134,23123,null,78257,148.37320702925268,29.259249886116312," ",67.354351175260575]
[{"$f":"IF(COUNTRY_INFO!A52=0,\" \",COUNTRY_INFO!A52)","v":"Uganda"},{"$f":"IF(COUNTRY_INFO!B52=0,\" \",COUNTRY_INFO!B52)","v":"Eastern "},{"$f":"IF(COUNTRY_INFO!C52=0,\" \",COUNTRY_INFO!C52)","v":"Kween"},"T3 (ALB/MBD)","ALB","July -Dec 2017",14547,30937,null,45484,23469,12789,null,36258,161.33223345019593,41.338849920806801," ",79.715944068243786]
[{"$f":"IF(COUNTRY_INFO!A53=0,\" \",COUNTRY_INFO!A53)","v":"Uganda"},{"$f":"IF(COUNTRY_INFO!B53=0,\" \",COUNTRY_INFO!B53)","v":"Eastern "},{"$f":"IF(COUNTRY_INFO!C53=0,\" \",COUNTRY_INFO!C53)","v":"Luuka"},"T3 (ALB/MBD)","ALB","July -Dec 2017",36965,78616,null,115581,64821,13089,null,77910,175.35777086433114,16.649282588786001," ",67.407272821657543]
[{"$f":"IF(COUNTRY_INFO!A54=0,\" \",COUNTRY_INFO!A54)","v":"Uganda"},{"$f":"IF(COUNTRY_INFO!B54=0,\" \",COUNTRY_INFO!B54)","v":"Eastern "},{"$f":"IF(COUNTRY_INFO!C54=0,\" \",COUNTRY_INFO!C54)","v":"Manafwa"},"T3 (ALB/MBD)","ALB","July -Dec 2017",54950,116866,null,171816,64414,22148,null,86562,117.22292993630575,18.951619803877946," ",50.380639754155609]
[{"$f":"IF(COUNTRY_INFO!A55=0,\" \",COUNTRY_INFO!A55)","v":"Uganda"},{"$f":"IF(COUNTRY_INFO!B55=0,\" \",COUNTRY_INFO!B55)","v":"Eastern "},{"$f":"IF(COUNTRY_INFO!C55=0,\" \",COUNTRY_INFO!C55)","v":"Mayuge"},"T3 (ALB/MBD)","ALB","July -Dec 2017",67851,144302,null,212153,29158,27977,null,57135,42.973574449897569,19.38781167274189," ",26.931035620519157]
[{"$f":"IF(COUNTRY_INFO!A56=0,\" \",COUNTRY_INFO!A56)","v":"Uganda"},{"$f":"IF(COUNTRY_INFO!B56=0,\" \",COUNTRY_INFO!B56)","v":"Eastern "},{"$f":"IF(COUNTRY_INFO!C56=0,\" \",COUNTRY_INFO!C56)","v":"Mbale"},"T3 (ALB/MBD)","ALB","July -Dec 2017",75937,161499,null,237436,74009,42784,null,116793,97.461053241502825,26.491804902816735," ",49.189255209824964]
[{"$f":"IF(COUNTRY_INFO!A57=0,\" \",COUNTRY_INFO!A57)","v":"Uganda"},{"$f":"IF(COUNTRY_INFO!B57=0,\" \",COUNTRY_INFO!B57)","v":"Eastern "},{"$f":"IF(COUNTRY_INFO!C57=0,\" \",COUNTRY_INFO!C57)","v":"Namayingo"},"T3 (ALB/MBD)","ALB","July -Dec 2017",36871,78416,null,115287,28385,12755,null,41140,76.984622060698101,16.265813099367477," ",35.684856054889103]
[{"$f":"IF(COUNTRY_INFO!A58=0,\" \",COUNTRY_INFO!A58)","v":"Uganda"},{"$f":"IF(COUNTRY_INFO!B58=0,\" \",COUNTRY_INFO!B58)","v":"Eastern "},{"$f":"IF(COUNTRY_INFO!C58=0,\" \",COUNTRY_INFO!C58)","v":"Namutumba"},"T3 (ALB/MBD)","ALB","July -Dec 2017",39224,83419,null,122643,25601,43060,null,68661,65.268713032837027,51.618935734065388," ",55.984442650620089]
[{"$f":"IF(COUNTRY_INFO!A59=0,\" \",COUNTRY_INFO!A59)","v":"Uganda"},{"$f":"IF(COUNTRY_INFO!B59=0,\" \",COUNTRY_INFO!B59)","v":"Eastern "},{"$f":"IF(COUNTRY_INFO!C59=0,\" \",COUNTRY_INFO!C59)","v":"Ngora"},"T3 (ALB/MBD)","ALB","July -Dec 2017",22040,46875,null,68915,24762,15110,null,39872,112.35027223230489,32.234666666666669," ",57.856780091416958]
[{"$f":"IF(COUNTRY_INFO!A60=0,\" \",COUNTRY_INFO!A60)","v":"Uganda"},{"$f":"IF(COUNTRY_INFO!B60=0,\" \",COUNTRY_INFO!B60)","v":"Eastern "},{"$f":"IF(COUNTRY_INFO!C60=0,\" \",COUNTRY_INFO!C60)","v":"Pallisa"},"T3 (ALB/MBD)","ALB","July -Dec 2017",60085,127787,null,187872,36700,57867,null,94567,61.080136473329446,45.283949071501794," ",50.335866973258391]
[{"$f":"IF(COUNTRY_INFO!A61=0,\" \",COUNTRY_INFO!A61)","v":"Uganda"},{"$f":"IF(COUNTRY_INFO!B61=0,\" \",COUNTRY_INFO!B61)","v":"Eastern "},{"$f":"IF(COUNTRY_INFO!C61=0,\" \",COUNTRY_INFO!C61)","v":"Serere"},"T3 (ALB/MBD)","ALB","July -Dec 2017",44402,94431,null,138833,48210,57838,null,106048,108.57619026169994,61.248954262900959," ",76.385297443691343]
[{"$f":"IF(COUNTRY_INFO!A62=0,\" \",COUNTRY_INFO!A62)","v":"Uganda"},{"$f":"IF(COUNTRY_INFO!B62=0,\" \",COUNTRY_INFO!B62)","v":"Eastern "},{"$f":"IF(COUNTRY_INFO!C62=0,\" \",COUNTRY_INFO!C62)","v":"Sironko"},"T3 (ALB/MBD)","ALB","July -Dec 2017",37649,80070,null,117719,29247,11250,null,40497,77.683338202873927,14.050206069689022," ",34.401413535622964]
[{"$f":"IF(COUNTRY_INFO!A63=0,\" \",COUNTRY_INFO!A63)","v":"Uganda"},{"$f":"IF(COUNTRY_INFO!B63=0,\" \",COUNTRY_INFO!B63)","v":"Eastern "},{"$f":"IF(COUNTRY_INFO!C63=0,\" \",COUNTRY_INFO!C63)","v":"Soroti"},"T3 (ALB/MBD)","ALB","July -Dec 2017",46099,98042,null,144141,40010,33798,null,73808,86.791470530814124,34.472980967340526," ",51.20541691815653]
[{"$f":"IF(COUNTRY_INFO!A64=0,\" \",COUNTRY_INFO!A64)","v":"Uganda"},{"$f":"IF(COUNTRY_INFO!B64=0,\" \",COUNTRY_INFO!B64)","v":"Eastern "},{"$f":"IF(COUNTRY_INFO!C64=0,\" \",COUNTRY_INFO!C64)","v":"Tororo"},"T3 (ALB/MBD)","ALB","July -Dec 2017",80304,170788,null,251092,52547,50497,null,103044,65.435096632795378,29.567065601798721," ",41.038344511175183]
[{"$f":"IF(COUNTRY_INFO!A65=0,\" \",COUNTRY_INFO!A65)","v":"Uganda"},{"$f":"IF(COUNTRY_INFO!B65=0,\" \",COUNTRY_INFO!B65)","v":"Northern"},{"$f":"IF(COUNTRY_INFO!C65=0,\" \",COUNTRY_INFO!C65)","v":"Abim"},{"$f":"IF(AND(COUNTRY_INFO!$T$9:$T$1000=\"T3 (ALB/MBD)\",COUNTRY_INFO!$U$9:$U$1000=\"T3 (ALB/MBD)\"), \"T3 (ALB/MBD)\", \" \")","v":"T3 (ALB/MBD)"},"ALB","July -Dec 2017",16767,35660,null,52427,46186,6285,null,52471,275.45774437883938,17.624789680314077," ",100.08392622122189]
[{"$f":"IF(COUNTRY_INFO!A66=0,\" \",COUNTRY_INFO!A66)","v":"Uganda"},{"$f":"IF(COUNTRY_INFO!B66=0,\" \",COUNTRY_INFO!B66)","v":"Northern"},{"$f":"IF(COUNTRY_INFO!C66=0,\" \",COUNTRY_INFO!C66)","v":"Adjumani"},"T3 (ALB/MBD)","ALB","July -Dec 2017",34982,74399,null,109381,59133,18679,null,77812,169.03836258647306,25.106520248928078," ",71.138497545277517]
[{"$f":"IF(COUNTRY_INFO!A67=0,\" \",COUNTRY_INFO!A67)","v":"Uganda"},{"$f":"IF(COUNTRY_INFO!B67=0,\" \",COUNTRY_INFO!B67)","v":"Northern"},{"$f":"IF(COUNTRY_INFO!C67=0,\" \",COUNTRY_INFO!C67)","v":"Agago"},"T3 (ALB/MBD)","ALB","July -Dec 2017",35377,75238,null,110615,38902,10063,null,48965,109.96410096955648,13.374890347962465," ",44.266148352393436]
[{"$f":"IF(COUNTRY_INFO!A68=0,\" \",COUNTRY_INFO!A68)","v":"Uganda"},{"$f":"IF(COUNTRY_INFO!B68=0,\" \",COUNTRY_INFO!B68)","v":"Northern"},{"$f":"IF(COUNTRY_INFO!C68=0,\" \",COUNTRY_INFO!C68)","v":"Alebtong"},"T3 (ALB/MBD)","ALB","July -Dec 2017",35338,75155,null,110493,17071,11628,null,28699,48.307770671798067,15.47202448273568," ",25.973591087218196]
[{"$f":"IF(COUNTRY_INFO!A69=0,\" \",COUNTRY_INFO!A69)","v":"Uganda"},{"$f":"IF(COUNTRY_INFO!B69=0,\" \",COUNTRY_INFO!B69)","v":"Northern"},{"$f":"IF(COUNTRY_INFO!C69=0,\" \",COUNTRY_INFO!C69)","v":"Amolatar"},"T3 (ALB/MBD)","ALB","July -Dec 2017",22855,48608,null,71463,21487,7093,null,28580,94.014438853642517,14.59224818959842," ",39.992723507269496]
[{"$f":"IF(COUNTRY_INFO!A70=0,\" \",COUNTRY_INFO!A70)","v":"Uganda"},{"$f":"IF(COUNTRY_INFO!B70=0,\" \",COUNTRY_INFO!B70)","v":"Northern"},{"$f":"IF(COUNTRY_INFO!C70=0,\" \",COUNTRY_INFO!C70)","v":"Amudat"},{"$f":"IF(AND(COUNTRY_INFO!$T$9:$T$1000=\"T3 (ALB/MBD)\",COUNTRY_INFO!$U$9:$U$1000=\"T3 (ALB/MBD)\"), \"T3 (ALB/MBD)\", \" \")","v":"T3 (ALB/MBD)"},"ALB","July -Dec 2017",16426,34934,null,51360,19884,2559,null,22443,121.0519907463777,7.3252418846968563," ",43.697429906542055]
[{"$f":"IF(COUNTRY_INFO!A71=0,\" \",COUNTRY_INFO!A71)","v":"Uganda"},{"$f":"IF(COUNTRY_INFO!B71=0,\" \",COUNTRY_INFO!B71)","v":"Northern"},{"$f":"IF(COUNTRY_INFO!C71=0,\" \",COUNTRY_INFO!C71)","v":"Amuru"},"T3 (ALB/MBD)","ALB","July -Dec 2017",34440,73246,null,107686,11618,6902,null,18520,33.734030197444831,9.4230401660158911," ",17.198150177367534]
[{"$f":"IF(COUNTRY_INFO!A72=0,\" \",COUNTRY_INFO!A72)","v":"Uganda"},{"$f":"IF(COUNTRY_INFO!B72=0,\" \",COUNTRY_INFO!B72)","v":"Northern"},{"$f":"IF(COUNTRY_INFO!C72=0,\" \",COUNTRY_INFO!C72)","v":"Apac"},"T3 (ALB/MBD)","ALB","July -Dec 2017",57249,121754,null,179003,45773,35112,null,80885,79.95423500847177,28.838477585951999," ",45.186393524130878]
[{"$f":"IF(COUNTRY_INFO!A73=0,\" \",COUNTRY_INFO!A73)","v":"Uganda"},{"$f":"IF(COUNTRY_INFO!B73=0,\" \",COUNTRY_INFO!B73)","v":"Northern"},{"$f":"IF(COUNTRY_INFO!C73=0,\" \",COUNTRY_INFO!C73)","v":"Arua"},"T3 (ALB/MBD)","ALB","July -Dec 2017",121459,258314,null,379773,158780,59616,null,218396,130.72724129129995,23.078888484557556," ",57.506984435439065]
[{"$f":"IF(COUNTRY_INFO!A74=0,\" \",COUNTRY_INFO!A74)","v":"Uganda"},{"$f":"IF(COUNTRY_INFO!B74=0,\" \",COUNTRY_INFO!B74)","v":"Northern"},{"$f":"IF(COUNTRY_INFO!C74=0,\" \",COUNTRY_INFO!C74)","v":"Dokolo"},"T3 (ALB/MBD)","ALB","July -Dec 2017",28435,60474,null,{"$f":"SUM(G74:I74)","v":88909},24837,21368,null,{"$f":"SUM(K74:M74)","v":46205},{"$f":"IF(G74<>0, IF(K74/G74*100=0, \"-\", K74/G74*100), \" \")","v":87.346579919113765},{"$f":"IF(H74<>0, IF(L74/H74*100=0, \"-\", L74/H74*100), \" \")","v":35.334193206998052},{"$f":"IF(I74<>0, IF(M74/I74*100=0, \"-\", M74/I74*100), \" \")","v":" "},{"$f":"IF(J74<>0, IF(N74/J74*100=0, \"-\", N74/J74*100), \" \")","v":51.968867043831338}]
[{"$f":"IF(COUNTRY_INFO!A75=0,\" \",COUNTRY_INFO!A75)","v":"Uganda"},{"$f":"IF(COUNTRY_INFO!B75=0,\" \",COUNTRY_INFO!B75)","v":"Northern"},{"$f":"IF(COUNTRY_INFO!C75=0,\" \",COUNTRY_INFO!C75)","v":"Gulu"},"T3 (ALB/MBD)","ALB","July -Dec 2017",31121,66187,null,97308,64580,43329,null,107909,207.5126120625944,65.464517201263078," ",110.89427385209849]
[{"$f":"IF(COUNTRY_INFO!A76=0,\" \",COUNTRY_INFO!A76)","v":"Uganda"},{"$f":"IF(COUNTRY_INFO!B76=0,\" \",COUNTRY_INFO!B76)","v":"Northern"},{"$f":"IF(COUNTRY_INFO!C76=0,\" \",COUNTRY_INFO!C76)","v":"Kaabong"},{"$f":"IF(AND(COUNTRY_INFO!$T$9:$T$1000=\"T3 (ALB/MBD)\",COUNTRY_INFO!$U$9:$U$1000=\"T3 (ALB/MBD)\"), \"T3 (ALB/MBD)\", \" \")","v":"T3 (ALB/MBD)"},"ALB","July -Dec 2017",26072,55449,null,81521,75797,1300,null,77097,290.72184719239027,2.3444967447564427," ",94.573177463475673]
[{"$f":"IF(COUNTRY_INFO!A77=0,\" \",COUNTRY_INFO!A77)","v":"Uganda"},{"$f":"IF(COUNTRY_INFO!B77=0,\" \",COUNTRY_INFO!B77)","v":"Northern"},{"$f":"IF(COUNTRY_INFO!C77=0,\" \",COUNTRY_INFO!C77)","v":"Kitgum"},"T3 (ALB/MBD)","ALB","July -Dec 2017",31689,67396,null,99085,12993,13960,null,26953,41.001609391271423,20.713395453736126," ",27.201897360851795]
[{"$f":"IF(COUNTRY_INFO!A78=0,\" \",COUNTRY_INFO!A78)","v":"Uganda"},{"$f":"IF(COUNTRY_INFO!B78=0,\" \",COUNTRY_INFO!B78)","v":"Northern"},{"$f":"IF(COUNTRY_INFO!C78=0,\" \",COUNTRY_INFO!C78)","v":"Koboko"},"T3 (ALB/MBD)","ALB","July -Dec 2017",32069,68204,null,100273,31061,10053,null,41114,96.856777573357448,14.739604715265967," ",41.002064364285502]
[{"$f":"IF(COUNTRY_INFO!A79=0,\" \",COUNTRY_INFO!A79)","v":"Uganda"},{"$f":"IF(COUNTRY_INFO!B79=0,\" \",COUNTRY_INFO!B79)","v":"Northern"},{"$f":"IF(COUNTRY_INFO!C79=0,\" \",COUNTRY_INFO!C79)","v":"Kole"},{"$f":"IF(AND(COUNTRY_INFO!$T$9:$T$1000=\"T3 (ALB/MBD)\",COUNTRY_INFO!$U$9:$U$1000=\"T3 (ALB/MBD)\"), \"T3 (ALB/MBD)\", \" \")","v":"T3 (ALB/MBD)"},"ALB","July -Dec 2017",37168,79048,null,116216,29240,19346,null,48586,78.669823504089536,24.473737475963972," ",41.806635919322645]
[{"$f":"IF(COUNTRY_INFO!A80=0,\" \",COUNTRY_INFO!A80)","v":"Uganda"},{"$f":"IF(COUNTRY_INFO!B80=0,\" \",COUNTRY_INFO!B80)","v":"Northern"},{"$f":"IF(COUNTRY_INFO!C80=0,\" \",COUNTRY_INFO!C80)","v":"Kotido"},{"$f":"IF(AND(COUNTRY_INFO!$T$9:$T$1000=\"T3 (ALB/MBD)\",COUNTRY_INFO!$U$9:$U$1000=\"T3 (ALB/MBD)\"), \"T3 (ALB/MBD)\", \" \")","v":"T3 (ALB/MBD)"},"ALB","July -Dec 2017",28118,59799,null,87917,152671,5385,null,158056,542.96536026744434,9.0051673104901422," ",179.77865486765927]
[{"$f":"IF(COUNTRY_INFO!A81=0,\" \",COUNTRY_INFO!A81)","v":"Uganda"},{"$f":"IF(COUNTRY_INFO!B81=0,\" \",COUNTRY_INFO!B81)","v":"Northern"},{"$f":"IF(COUNTRY_INFO!C81=0,\" \",COUNTRY_INFO!C81)","v":"Lamwo"},"T3 (ALB/MBD)","ALB","July -Dec 2017",21726,46206,null,67932,16234,5268,null,21502,74.721531805210347,11.401116738085964," ",31.652240475769887]
[{"$f":"IF(COUNTRY_INFO!A82=0,\" \",COUNTRY_INFO!A82)","v":"Uganda"},{"$f":"IF(COUNTRY_INFO!B82=0,\" \",COUNTRY_INFO!B82)","v":"Northern"},{"$f":"IF(COUNTRY_INFO!C82=0,\" \",COUNTRY_INFO!C82)","v":"Lira"},"T3 (ALB/MBD)","ALB","July -Dec 2017",63370,134773,null,198143,40219,20571,null,60790,63.466940192520113,15.263442974483018," ",30.679862523530986]
[{"$f":"IF(COUNTRY_INFO!A83=0,\" \",COUNTRY_INFO!A83)","v":"Uganda"},{"$f":"IF(COUNTRY_INFO!B83=0,\" \",COUNTRY_INFO!B83)","v":"Northern"},{"$f":"IF(COUNTRY_INFO!C83=0,\" \",COUNTRY_INFO!C83)","v":"Maracha"},"T3 (ALB/MBD)","ALB","July -Dec 2017",28907,61479,null,90386,41885,7081,null,48966,144.89570000345938,11.517754029831325," ",54.17431903170845]
[{"$f":"IF(COUNTRY_INFO!A84=0,\" \",COUNTRY_INFO!A84)","v":"Uganda"},{"$f":"IF(COUNTRY_INFO!B84=0,\" \",COUNTRY_INFO!B84)","v":"Northern"},{"$f":"IF(COUNTRY_INFO!C84=0,\" \",COUNTRY_INFO!C84)","v":"Moroto"},{"$f":"IF(AND(COUNTRY_INFO!$T$9:$T$1000=\"T3 (ALB/MBD)\",COUNTRY_INFO!$U$9:$U$1000=\"T3 (ALB/MBD)\"), \"T3 (ALB/MBD)\", \" \")","v":"T3 (ALB/MBD)"},"ALB","July -Dec 2017",16063,34163,null,50226,58889,3045,null,61934,366.61271244474881,8.9131516552995933," ",123.31063592561622]
[{"$f":"IF(COUNTRY_INFO!A85=0,\" \",COUNTRY_INFO!A85)","v":"Uganda"},{"$f":"IF(COUNTRY_INFO!B85=0,\" \",COUNTRY_INFO!B85)","v":"Northern"},{"$f":"IF(COUNTRY_INFO!C85=0,\" \",COUNTRY_INFO!C85)","v":"Moyo"},"T3 (ALB/MBD)","ALB","July -Dec 2017",21589,45915,null,67504,487528,18697,null,506225,2258.2240956042428,40.720897310247196," ",749.91852334676469]
[{"$f":"IF(COUNTRY_INFO!A86=0,\" \",COUNTRY_INFO!A86)","v":"Uganda"},{"$f":"IF(COUNTRY_INFO!B86=0,\" \",COUNTRY_INFO!B86)","v":"Northern"},{"$f":"IF(COUNTRY_INFO!C86=0,\" \",COUNTRY_INFO!C86)","v":"Nakapiripirit"},"T3 (ALB/MBD)","ALB","July -Dec 2017",24335,51754,null,76089,46991,5588,null,52579,193.10047257037189,10.797233064110987," ",69.101972689876334]
[{"$f":"IF(COUNTRY_INFO!A87=0,\" \",COUNTRY_INFO!A87)","v":"Uganda"},{"$f":"IF(COUNTRY_INFO!B87=0,\" \",COUNTRY_INFO!B87)","v":"Northern"},{"$f":"IF(COUNTRY_INFO!C87=0,\" \",COUNTRY_INFO!C87)","v":"Napak"},{"$f":"IF(AND(COUNTRY_INFO!$T$9:$T$1000=\"T3 (ALB/MBD)\",COUNTRY_INFO!$U$9:$U$1000=\"T3 (ALB/MBD)\"), \"T3 (ALB/MBD)\", \" \")","v":"T3 (ALB/MBD)"},"ALB","July -Dec 2017",22088,46975,null,69063,50490,2651,null,53141,228.58565737051794,5.6434273549760512," ",76.945687271042388]
[{"$f":"IF(COUNTRY_INFO!A88=0,\" \",COUNTRY_INFO!A88)","v":"Uganda"},{"$f":"IF(COUNTRY_INFO!B88=0,\" \",COUNTRY_INFO!B88)","v":"Northern"},{"$f":"IF(COUNTRY_INFO!C88=0,\" \",COUNTRY_INFO!C88)","v":"Nebbi"},"T3 (ALB/MBD)","ALB","July -Dec 2017",61623,131058,null,192681,37469,27531,null,65000,60.803596059912692,21.006729844801537," ",33.734514560335477]
[{"$f":"IF(COUNTRY_INFO!A89=0,\" \",COUNTRY_INFO!A89)","v":"Uganda"},{"$f":"IF(COUNTRY_INFO!B89=0,\" \",COUNTRY_INFO!B89)","v":"Northern"},{"$f":"IF(COUNTRY_INFO!C89=0,\" \",COUNTRY_INFO!C89)","v":"Nwoya"},"T3 (ALB/MBD)","ALB","July -Dec 2017",25648,54546,null,80194,21106,14130,null,35236,82.291016843418589,25.904740952590473," ",43.93844926054318]
[{"$f":"IF(COUNTRY_INFO!A90=0,\" \",COUNTRY_INFO!A90)","v":"Uganda"},{"$f":"IF(COUNTRY_INFO!B90=0,\" \",COUNTRY_INFO!B90)","v":"Northern"},{"$f":"IF(COUNTRY_INFO!C90=0,\" \",COUNTRY_INFO!C90)","v":"Omoro"},"T3 (ALB/MBD)","ALB","July -Dec 2017",27343,58152,null,85495,17777,12177,null,29954,65.014811834838909,20.939950474618239," ",35.035967015614951]
[{"$f":"IF(COUNTRY_INFO!A91=0,\" \",COUNTRY_INFO!A91)","v":"Uganda"},{"$f":"IF(COUNTRY_INFO!B91=0,\" \",COUNTRY_INFO!B91)","v":"Northern"},{"$f":"IF(COUNTRY_INFO!C91=0,\" \",COUNTRY_INFO!C91)","v":"Otuke"},{"$f":"IF(AND(COUNTRY_INFO!$T$9:$T$1000=\"T3 (ALB/MBD)\",COUNTRY_INFO!$U$9:$U$1000=\"T3 (ALB/MBD)\"), \"T3 (ALB/MBD)\", \" \")","v":"T3 (ALB/MBD)"},"ALB","July -Dec 2017",16191,34434,null,50625,28244,5576,null,33820,174.44259156321414,16.193297322413894," ",66.804938271604939]
[{"$f":"IF(COUNTRY_INFO!A92=0,\" \",COUNTRY_INFO!A92)","v":"Uganda"},{"$f":"IF(COUNTRY_INFO!B92=0,\" \",COUNTRY_INFO!B92)","v":"Northern"},{"$f":"IF(COUNTRY_INFO!C92=0,\" \",COUNTRY_INFO!C92)","v":"Oyam"},"T3 (ALB/MBD)","ALB","July -Dec 2017",59581,126715,null,186296,22095,14355,null,36450,37.083969721891208,11.328571992266109," ",19.565637480139134]
[{"$f":"IF(COUNTRY_INFO!A93=0,\" \",COUNTRY_INFO!A93)","v":"Uganda"},{"$f":"IF(COUNTRY_INFO!B93=0,\" \",COUNTRY_INFO!B93)","v":"Northern"},{"$f":"IF(COUNTRY_INFO!C93=0,\" \",COUNTRY_INFO!C93)","v":"Pader"},"T3 (ALB/MBD)","ALB","July -Dec 2017",27666,58838,null,86504,58563,14262,null,72825,211.67859466493169,24.239437098473775," ",84.186858411171741]
[{"$f":"IF(COUNTRY_INFO!A94=0,\" \",COUNTRY_INFO!A94)","v":"Uganda"},{"$f":"IF(COUNTRY_INFO!B94=0,\" \",COUNTRY_INFO!B94)","v":"Northern"},{"$f":"IF(COUNTRY_INFO!C94=0,\" \",COUNTRY_INFO!C94)","v":"Yumbe"},"T3 (ALB/MBD)","ALB","July -Dec 2017",75294,160133,null,235427,120452,39244,null,159696,159.97556246181634,24.507128449476372," ",67.832491600368698]
[{"$f":"IF(COUNTRY_INFO!A95=0,\" \",COUNTRY_INFO!A95)","v":"Uganda"},{"$f":"IF(COUNTRY_INFO!B95=0,\" \",COUNTRY_INFO!B95)","v":"Northern"},{"$f":"IF(COUNTRY_INFO!C95=0,\" \",COUNTRY_INFO!C95)","v":"Zombo"},"T3 (ALB/MBD)","ALB","July -Dec 2017",35798,76134,null,111932,17605,11152,null,28757,49.178725068439576,14.647857724538312," ",25.691491262552262]
[{"$f":"IF(COUNTRY_INFO!A96=0,\" \",COUNTRY_INFO!A96)","v":"Uganda"},{"$f":"IF(COUNTRY_INFO!B96=0,\" \",COUNTRY_INFO!B96)","v":"Western"},{"$f":"IF(COUNTRY_INFO!C96=0,\" \",COUNTRY_INFO!C96)","v":"Buhweju"},{"$f":"IF(AND(COUNTRY_INFO!$T$9:$T$1000=\"T3 (ALB/MBD)\",COUNTRY_INFO!$U$9:$U$1000=\"T3 (ALB/MBD)\"), \"T3 (ALB/MBD)\", \" \")","v":"T3 (ALB/MBD)"},"ALB","July -Dec 2017",18748,39873,null,58621,13658,21944,null,35602,72.850437379987198,55.034735284528381," ",60.732502004401155]
[{"$f":"IF(COUNTRY_INFO!A97=0,\" \",COUNTRY_INFO!A97)","v":"Uganda"},{"$f":"IF(COUNTRY_INFO!B97=0,\" \",COUNTRY_INFO!B97)","v":"Western"},{"$f":"IF(COUNTRY_INFO!C97=0,\" \",COUNTRY_INFO!C97)","v":"Buliisa"},"T3 (ALB/MBD)","ALB","July -Dec 2017",17574,37376,null,54950,14864,10311,null,25175,84.579492432001828,27.587221746575342," ",45.814376706096446]
[{"$f":"IF(COUNTRY_INFO!A98=0,\" \",COUNTRY_INFO!A98)","v":"Uganda"},{"$f":"IF(COUNTRY_INFO!B98=0,\" \",COUNTRY_INFO!B98)","v":"Western"},{"$f":"IF(COUNTRY_INFO!C98=0,\" \",COUNTRY_INFO!C98)","v":"Bundibugyo"},{"$f":"IF(AND(COUNTRY_INFO!$T$9:$T$1000=\"T3 (ALB/MBD)\",COUNTRY_INFO!$U$9:$U$1000=\"T3 (ALB/MBD)\"), \"T3 (ALB/MBD)\", \" \")","v":"T3 (ALB/MBD)"},"ALB","July -Dec 2017",34848,74113,null,108961,35780,1188,null,36968,102.67447199265381,1.6029576457571546," ",33.927735611824417]
[{"$f":"IF(COUNTRY_INFO!A99=0,\" \",COUNTRY_INFO!A99)","v":"Uganda"},{"$f":"IF(COUNTRY_INFO!B99=0,\" \",COUNTRY_INFO!B99)","v":"Western"},{"$f":"IF(COUNTRY_INFO!C99=0,\" \",COUNTRY_INFO!C99)","v":"Bushenyi"},{"$f":"IF(AND(COUNTRY_INFO!$T$9:$T$1000=\"T3 (ALB/MBD)\",COUNTRY_INFO!$U$9:$U$1000=\"T3 (ALB/MBD)\"), \"T3 (ALB/MBD)\", \" \")","v":"T3 (ALB/MBD)"},"ALB","July -Dec 2017",36409,77434,null,113843,5367,166,null,5533,14.740860776181714,0.21437611385179636," ",4.8602022083044192]
[{"$f":"IF(COUNTRY_INFO!A100=0,\" \",COUNTRY_INFO!A100)","v":"Uganda"},{"$f":"IF(COUNTRY_INFO!B100=0,\" \",COUNTRY_INFO!B100)","v":"Western"},{"$f":"IF(COUNTRY_INFO!C100=0,\" \",COUNTRY_INFO!C100)","v":"Hoima"},"T3 (ALB/MBD)","ALB","July -Dec 2017",88986,189253,null,278239,89033,60960,null,149993,100.05281729710292,32.210850026155462," ",53.907971204611862]
[{"$f":"IF(COUNTRY_INFO!A101=0,\" \",COUNTRY_INFO!A101)","v":"Uganda"},{"$f":"IF(COUNTRY_INFO!B101=0,\" \",COUNTRY_INFO!B101)","v":"Western"},{"$f":"IF(COUNTRY_INFO!C101=0,\" \",COUNTRY_INFO!C101)","v":"Ibanda"},"T3 (ALB/MBD)","ALB","July -Dec 2017",38768,82449,null,121217,23619,23386,null,47005,60.92395790342551,28.364200899950269," ",38.777564203040825]
[{"$f":"IF(COUNTRY_INFO!A102=0,\" \",COUNTRY_INFO!A102)","v":"Uganda"},{"$f":"IF(COUNTRY_INFO!B102=0,\" \",COUNTRY_INFO!B102)","v":"Western"},{"$f":"IF(COUNTRY_INFO!C102=0,\" \",COUNTRY_INFO!C102)","v":"Isingiro"},"T3 (ALB/MBD)","ALB","July -Dec 2017",75533,160641,null,236174,59195,28530,null,87725,78.369719195583386,17.760098604963865," ",37.14422417370244]
[{"$f":"IF(COUNTRY_INFO!A103=0,\" \",COUNTRY_INFO!A103)","v":"Uganda"},{"$f":"IF(COUNTRY_INFO!B103=0,\" \",COUNTRY_INFO!B103)","v":"Western"},{"$f":"IF(COUNTRY_INFO!C103=0,\" \",COUNTRY_INFO!C103)","v":"Kabale"},{"$f":"IF(AND(COUNTRY_INFO!$T$9:$T$1000=\"T3 (ALB/MBD)\",COUNTRY_INFO!$U$9:$U$1000=\"T3 (ALB/MBD)\"), \"T3 (ALB/MBD)\", \" \")","v":"T3 (ALB/MBD)"},"ALB","July -Dec 2017",51354,109218,null,160572,58705,23035,null,81740,114.31436694317871,21.090845831273235," ",50.905512791769425]
[{"$f":"IF(COUNTRY_INFO!A104=0,\" \",COUNTRY_INFO!A104)","v":"Uganda"},{"$f":"IF(COUNTRY_INFO!B104=0,\" \",COUNTRY_INFO!B104)","v":"Western"},{"$f":"IF(COUNTRY_INFO!C104=0,\" \",COUNTRY_INFO!C104)","v":"Kabarole"},"T3 (ALB/MBD)","ALB","July -Dec 2017",72874,154985,null,227859,24734,16337,null,41071,33.940774487471529,10.541020098719232," ",18.024743371997594]
[{"$f":"IF(COUNTRY_INFO!A105=0,\" \",COUNTRY_INFO!A105)","v":"Uganda"},{"$f":"IF(COUNTRY_INFO!B105=0,\" \",COUNTRY_INFO!B105)","v":"Western"},{"$f":"IF(COUNTRY_INFO!C105=0,\" \",COUNTRY_INFO!C105)","v":"Kagadi"},"T3 (ALB/MBD)","ALB","July -Dec 2017",54501,115911,null,170412,34641,13398,null,48039,63.560301645841363,11.558868442166835," ",28.189916203084291]
[{"$f":"IF(COUNTRY_INFO!A106=0,\" \",COUNTRY_INFO!A106)","v":"Uganda"},{"$f":"IF(COUNTRY_INFO!B106=0,\" \",COUNTRY_INFO!B106)","v":"Western"},{"$f":"IF(COUNTRY_INFO!C106=0,\" \",COUNTRY_INFO!C106)","v":"Kakumiro"},{"$f":"IF(AND(COUNTRY_INFO!$T$9:$T$1000=\"T3 (ALB/MBD)\",COUNTRY_INFO!$U$9:$U$1000=\"T3 (ALB/MBD)\"), \"T3 (ALB/MBD)\", \" \")","v":"T3 (ALB/MBD)"},"ALB","July -Dec 2017",45844,97500,null,143344,8800,3147,null,11947,19.19553267603176,3.2276923076923079," ",8.3344960375041861]
[{"$f":"IF(COUNTRY_INFO!A107=0,\" \",COUNTRY_INFO!A107)","v":"Uganda"},{"$f":"IF(COUNTRY_INFO!B107=0,\" \",COUNTRY_INFO!B107)","v":"Western"},{"$f":"IF(COUNTRY_INFO!C107=0,\" \",COUNTRY_INFO!C107)","v":"Kamwenge"},"T3 (ALB/MBD)","ALB","July -Dec 2017",64366,136891,null,201257,33029,5010,null,38039,51.314358512258032,3.6598461549700123," ",18.900709043660594]
[{"$f":"IF(COUNTRY_INFO!A108=0,\" \",COUNTRY_INFO!A108)","v":"Uganda"},{"$f":"IF(COUNTRY_INFO!B108=0,\" \",COUNTRY_INFO!B108)","v":"Western"},{"$f":"IF(COUNTRY_INFO!C108=0,\" \",COUNTRY_INFO!C108)","v":"Kanungu"},"T3 (ALB/MBD)","ALB","July -Dec 2017",39159,83281,null,122440,46254,35497,null,81751,118.11844020531679,42.623167349095233," ",66.768213002286842]
[{"$f":"IF(COUNTRY_INFO!A109=0,\" \",COUNTRY_INFO!A109)","v":"Uganda"},{"$f":"IF(COUNTRY_INFO!B109=0,\" \",COUNTRY_INFO!B109)","v":"Western"},{"$f":"IF(COUNTRY_INFO!C109=0,\" \",COUNTRY_INFO!C109)","v":"Kasese"},"T3 (ALB/MBD)","ALB","July -Dec 2017",107934,229550,null,337484,64714,38396,null,103110,59.957010765838383,16.726639076453932," ",30.552559528748031]
[{"$f":"IF(COUNTRY_INFO!A110=0,\" \",COUNTRY_INFO!A110)","v":"Uganda"},{"$f":"IF(COUNTRY_INFO!B110=0,\" \",COUNTRY_INFO!B110)","v":"Western"},{"$f":"IF(COUNTRY_INFO!C110=0,\" \",COUNTRY_INFO!C110)","v":"Kibaale"},{"$f":"IF(AND(COUNTRY_INFO!$T$9:$T$1000=\"T3 (ALB/MBD)\",COUNTRY_INFO!$U$9:$U$1000=\"T3 (ALB/MBD)\"), \"T3 (ALB/MBD)\", \" \")","v":"T3 (ALB/MBD)"},"ALB","July -Dec 2017",21581,45898,null,67479,12604,14063,null,26667,58.403225059079745,30.639679288857902," ",39.518961454674788]
[{"$f":"IF(COUNTRY_INFO!A111=0,\" \",COUNTRY_INFO!A111)","v":"Uganda"},{"$f":"IF(COUNTRY_INFO!B111=0,\" \",COUNTRY_INFO!B111)","v":"Western"},{"$f":"IF(COUNTRY_INFO!C111=0,\" \",COUNTRY_INFO!C111)","v":"Kiruhura"},"T3 (ALB/MBD)","ALB","July -Dec 2017",50951,108361,null,159312,51642,14925,null,66567,101.3562049812565,13.773405561041335," ",41.784046399517926]
[{"$f":"IF(COUNTRY_INFO!A112=0,\" \",COUNTRY_INFO!A112)","v":"Uganda"},{"$f":"IF(COUNTRY_INFO!B112=0,\" \",COUNTRY_INFO!B112)","v":"Western"},{"$f":"IF(COUNTRY_INFO!C112=0,\" \",COUNTRY_INFO!C112)","v":"Kiryandongo"},"T3 (ALB/MBD)","ALB","July -Dec 2017",41341,87923,null,129264,59083,15112,null,74195,142.91623327931109,17.187766568474689," ",57.398038123530135]
[{"$f":"IF(COUNTRY_INFO!A113=0,\" \",COUNTRY_INFO!A113)","v":"Uganda"},{"$f":"IF(COUNTRY_INFO!B113=0,\" \",COUNTRY_INFO!B113)","v":"Western"},{"$f":"IF(COUNTRY_INFO!C113=0,\" \",COUNTRY_INFO!C113)","v":"Kisoro"},"T3 (ALB/MBD)","ALB","July -Dec 2017",43750,93045,null,136795,16683,11262,null,27945,38.132571428571424,12.103820731903918," ",20.428378230198472]
[{"$f":"IF(COUNTRY_INFO!A114=0,\" \",COUNTRY_INFO!A114)","v":"Uganda"},{"$f":"IF(COUNTRY_INFO!B114=0,\" \",COUNTRY_INFO!B114)","v":"Western"},{"$f":"IF(COUNTRY_INFO!C114=0,\" \",COUNTRY_INFO!C114)","v":"Kyegegwa"},{"$f":"IF(AND(COUNTRY_INFO!$T$9:$T$1000=\"T3 (ALB/MBD)\",COUNTRY_INFO!$U$9:$U$1000=\"T3 (ALB/MBD)\"), \"T3 (ALB/MBD)\", \" \")","v":"T3 (ALB/MBD)"},"ALB","July -Dec 2017",43739,93023,null,136762,14231,17373,null,31604,32.536180525389241,18.676026359072488," ",23.108758280808996]
[{"$f":"IF(COUNTRY_INFO!A115=0,\" \",COUNTRY_INFO!A115)","v":"Uganda"},{"$f":"IF(COUNTRY_INFO!B115=0,\" \",COUNTRY_INFO!B115)","v":"Western"},{"$f":"IF(COUNTRY_INFO!C115=0,\" \",COUNTRY_INFO!C115)","v":"Kyenjojo"},{"$f":"IF(AND(COUNTRY_INFO!$T$9:$T$1000=\"T3 (ALB/MBD)\",COUNTRY_INFO!$U$9:$U$1000=\"T3 (ALB/MBD)\"), \"T3 (ALB/MBD)\", \" \")","v":"T3 (ALB/MBD)"},"ALB","July -Dec 2017",65569,139451,null,205020,42104,29853,null,71957,64.213271515502754,21.40751948713168," ",35.097551458394307]
[{"$f":"IF(COUNTRY_INFO!A116=0,\" \",COUNTRY_INFO!A116)","v":"Uganda"},{"$f":"IF(COUNTRY_INFO!B116=0,\" \",COUNTRY_INFO!B116)","v":"Western"},{"$f":"IF(COUNTRY_INFO!C116=0,\" \",COUNTRY_INFO!C116)","v":"Masindi"},"T3 (ALB/MBD)","ALB","July -Dec 2017",45211,96152,null,141363,12812,21503,null,34315,28.33823626993431,22.363549380148097," ",24.27438580109364]
[{"$f":"IF(COUNTRY_INFO!A117=0,\" \",COUNTRY_INFO!A117)","v":"Uganda"},{"$f":"IF(COUNTRY_INFO!B117=0,\" \",COUNTRY_INFO!B117)","v":"Western"},{"$f":"IF(COUNTRY_INFO!C117=0,\" \",COUNTRY_INFO!C117)","v":"Mbarara"},{"$f":"IF(AND(COUNTRY_INFO!$T$9:$T$1000=\"T3 (ALB/MBD)\",COUNTRY_INFO!$U$9:$U$1000=\"T3 (ALB/MBD)\"), \"T3 (ALB/MBD)\", \" \")","v":"T3 (ALB/MBD)"},"ALB","July -Dec 2017",73401,156106,null,229507,89431,103563,null,192994,121.83893952398468,66.341460289803081," ",84.090681329981223]
[{"$f":"IF(COUNTRY_INFO!A118=0,\" \",COUNTRY_INFO!A118)","v":"Uganda"},{"$f":"IF(COUNTRY_INFO!B118=0,\" \",COUNTRY_INFO!B118)","v":"Western"},{"$f":"IF(COUNTRY_INFO!C118=0,\" \",COUNTRY_INFO!C118)","v":"Mitooma"},{"$f":"IF(AND(COUNTRY_INFO!$T$9:$T$1000=\"T3 (ALB/MBD)\",COUNTRY_INFO!$U$9:$U$1000=\"T3 (ALB/MBD)\"), \"T3 (ALB/MBD)\", \" \")","v":"T3 (ALB/MBD)"},"ALB","July -Dec 2017",28489,60590,null,89079,30313,10802,null,41115,106.40247112920775,17.828024426473014," ",46.155659583066715]
[{"$f":"IF(COUNTRY_INFO!A119=0,\" \",COUNTRY_INFO!A119)","v":"Uganda"},{"$f":"IF(COUNTRY_INFO!B119=0,\" \",COUNTRY_INFO!B119)","v":"Western"},{"$f":"IF(COUNTRY_INFO!C119=0,\" \",COUNTRY_INFO!C119)","v":"Ntoroko"},"T3 (ALB/MBD)","ALB","July -Dec 2017",10406,22131,null,32537,15047,5063,null,20110,144.59926965212378,22.877411775337762," ",61.806558687033217]
[{"$f":"IF(COUNTRY_INFO!A120=0,\" \",COUNTRY_INFO!A120)","v":"Uganda"},{"$f":"IF(COUNTRY_INFO!B120=0,\" \",COUNTRY_INFO!B120)","v":"Western"},{"$f":"IF(COUNTRY_INFO!C120=0,\" \",COUNTRY_INFO!C120)","v":"Ntungamo"},{"$f":"IF(AND(COUNTRY_INFO!$T$9:$T$1000=\"T3 (ALB/MBD)\",COUNTRY_INFO!$U$9:$U$1000=\"T3 (ALB/MBD)\"), \"T3 (ALB/MBD)\", \" \")","v":"T3 (ALB/MBD)"},"ALB","July -Dec 2017",75142,159809,null,234951,74083,114919,null,189002,98.590668334619792,71.910217822525638," ",80.443156232576158]
[{"$f":"IF(COUNTRY_INFO!A121=0,\" \",COUNTRY_INFO!A121)","v":"Uganda"},{"$f":"IF(COUNTRY_INFO!B121=0,\" \",COUNTRY_INFO!B121)","v":"Western"},{"$f":"IF(COUNTRY_INFO!C121=0,\" \",COUNTRY_INFO!C121)","v":"Rubanda"},"T3 (ALB/MBD)","ALB","July -Dec 2017",30681,65252,null,95933,8231,922,null,9153,26.827678367719436,1.412983510083982," ",9.5410338465387294]
[{"$f":"IF(COUNTRY_INFO!A122=0,\" \",COUNTRY_INFO!A122)","v":"Uganda"},{"$f":"IF(COUNTRY_INFO!B122=0,\" \",COUNTRY_INFO!B122)","v":"Western"},{"$f":"IF(COUNTRY_INFO!C122=0,\" \",COUNTRY_INFO!C122)","v":"Rubirizi"},"T3 (ALB/MBD)","ALB","July -Dec 2017",20057,42657,null,62714,29100,10212,null,39312,145.08650346512439,23.939798860679375," ",62.684568039034346]
[{"$f":"IF(COUNTRY_INFO!A123=0,\" \",COUNTRY_INFO!A123)","v":"Uganda"},{"$f":"IF(COUNTRY_INFO!B123=0,\" \",COUNTRY_INFO!B123)","v":"Western"},{"$f":"IF(COUNTRY_INFO!C123=0,\" \",COUNTRY_INFO!C123)","v":"Rukungiri"},"T3 (ALB/MBD)","ALB","July -Dec 2017",48873,103941,null,152814,23643,29755,null,53398,48.376404149530416,28.626817136644828," ",34.943133482534321]
[{"$f":"IF(COUNTRY_INFO!A124=0,\" \",COUNTRY_INFO!A124)","v":"Uganda"},{"$f":"IF(COUNTRY_INFO!B124=0,\" \",COUNTRY_INFO!B124)","v":"Western"},{"$f":"IF(COUNTRY_INFO!C124=0,\" \",COUNTRY_INFO!C124)","v":"Sheema"},{"$f":"IF(AND(COUNTRY_INFO!$T$9:$T$1000=\"T3 (ALB/MBD)\",COUNTRY_INFO!$U$9:$U$1000=\"T3 (ALB/MBD)\"), \"T3 (ALB/MBD)\", \" \")","v":"T3 (ALB/MBD)"},"ALB","July -Dec 2017",32201,68484,null,100685,21902,8100,null,30002,68.01652122604888,11.827580164710005," ",29.797884491235038]

{"sheet":"DISTRICT","index":9,"n_rows":124,"n_cols":56,"rows_kept":124,"cut":false,"hidden":false,"merged":[[3,0,3,2],[5,0,5,2],[5,4,5,8],[5,10,5,14],[5,16,5,24],[5,26,5,34],[5,3,6,3],[5,9,6,9],[5,15,6,15],[5,25,6,25]]}
["Number of individuals treated"]
["Administrative structure, population treated by age group and gender"]
[]
["TOTAL",null,null,{"$f":"SUM(D$9:D$1000)","v":2990412},{"$f":"SUM(E$9:E$1000)","v":0},{"$f":"SUM(F$9:F$1000)","v":0},{"$f":"SUM(G$9:G$1000)","v":1979667},{"$f":"SUM(H$9:H$1000)","v":1979667},{"$f":"IF(D4>0, IF(H4/D4*100<>0, H4/D4*100, \"-\"),0)","v":66.200476723608645},{"$f":"SUM(J$9:J$1000)","v":2669822},{"$f":"SUM(K$9:K$1000)","v":0},{"$f":"SUM(L$9:L$1000)","v":0},{"$f":"SUM(M$9:M$1000)","v":3507973},{"$f":"SUM(N$9:N$1000)","v":2233003},{"$f":"IF(J4>0, IF(N4/J4*100<>0, N4/J4*100, \"-\"),0)","v":83.638647070853409},{"$f":"SUM(P$9:P$1000)","v":16809059},{"$f":"SUM(Q$9:Q$1000)","v":0},{"$f":"SUM(R$9:R$1000)","v":0},{"$f":"SUM(S$9:S$1000)","v":11608419},{"$f":"SUM(T$9:T$1000)","v":4154144},null,4386835,null,{"$f":"SUM(X$9:X$1000)","v":8540979},{"$f":"IF(P4>0, IF(X4/P4*100<>0, X4/P4*100, \"-\"),0)","v":50.811761681602761},{"$f":"SUM(Z$9:Z$1000)","v":7459152},0,0,5821380,2713356.31,null,2267196.6,null,4980552.9099999992,{"$f":"IF(Z4>0, IF(AH4/Z4*100<>0, AH4/Z4*100, \"-\"),0)","v":66.771033892324482}]
[]
[null,null,null,"Population requiring PC for LF","Population treated for lymphatic filariasis",null,null,null,null,"Population requiring PC for ONCHO","Population treated for onchocerciasis",null,null,null,null,"Population requiring PC for STH","Population treated for STH",null,null,null,null,null,null,null,null,"Population requiring PC for SCH","Population treated for schistosomiasis",null,null,null,null,null,null,null,null,null,null,null,null,null,null,{"$f":"SUM(AP9:AP1000)","v":170472.39464689366},5375868.0000000019,11776737.682299113,4546502.2815143885,{"$f":"SUM(AT9:AT1000)","v":21869580.358460404},{"$f":"COUNTIF(AU9:AU1000,\"Y\")","v":116},{"$f":"SUM(AV9:AV1000)","v":5830926},5724908,3673884,{"$f":"SUM(AY9:AY1000)","v":15229718},4154144,5302644.26,3611040.4000000004,13067828.21888233,{"$f":"IF(AT6<>0,BC6/AT6,0)","v":0.59753447504203927}]
["Country","Province/State","District",null,"Male","Female","Total treated","Total in need treated","(%)",null,"Male","Female","Total treated","Total in need treated","(%)",null,"Male","Female","Total treated","PreSAC in need treated ","PreSAC (%)","SAC in need treated","SAC (%)","Total in need treated ","(%)",null,"Male","Female","Total treated","SAC in need treated","SAC (%)","Adults in need treated","Adults (%)","Total in need treated ","(%)",null,"LF","ONCHO","STH","SCH-SAC","SCH_Adults","<1","PreSAC","SAC","Adults","Total","Dis","PreSAC","SAC","Adults","Total","PreSAC","SAC","Adults","Total","Coverage"]
[]
[{"$f":"IF(COUNTRY_INFO!A9=0,\" \",COUNTRY_INFO!A9)","v":"Uganda"},{"$f":"IF(COUNTRY_INFO!B9=0,\" \",COUNTRY_INFO!B9)","v":"Central "},{"$f":"IF(COUNTRY_INFO!C9=0,\" \",COUNTRY_INFO!C9)","v":"Buikwe"},{"$f":"COUNTRY_INFO!L9","v":0},null,null,{"$f":"MAX('MDA1'!M9,'MDA2'!M9)","v":0},{"$f":"IF(AND(COUNTRY_INFO!H9>0,COUNTRY_INFO!H9<4),IF(D9>MAX('MDA1'!M9,'MDA2'!M9),MAX('MDA1'!M9,'MDA2'!M9),D9),0)","v":0},{"$f":"IF(AND(COUNTRY_INFO!H9>0,COUNTRY_INFO!H9<4), IF(G9/D9*100<>0, IF(G9/D9*100>100,100,G9/D9*100), \"-\"),0)","v":0},{"$f":"COUNTRY_INFO!M9","v":0},null,null,{"$f":"MAX('MDA1'!M9,MAX('MDA3'!I9,'MDA3'!L9)+MAX('MDA3'!J9,'MDA3'!M9))","v":0},{"$f":"IF(AND(COUNTRY_INFO!I9>0,COUNTRY_INFO!I9<4),IF(J9>MAX('MDA1'!M9,MAX('MDA3'!I9,'MDA3'!L9)+MAX('MDA3'!J9,'MDA3'!M9)),MAX('MDA1'!M9,MAX('MDA3'!I9,'MDA3'!L9)+MAX('MDA3'!J9,'MDA3'!M9)),J9),0)","v":0},{"$f":"IF(AND(COUNTRY_INFO!I9>0,COUNTRY_INFO!I9<4), IF(M9/J9*100<>0, IF(M9/J9*100>100,100,M9/J9*100), \"-\"),0)","v":0},{"$f":"COUNTRY_INFO!N9","v":205296},null,null,{"$f":"SUM(MAX('MDA2'!J9, 'T1'!L9, MAX(T3_R1!K9, T3_R2!K9)), MAX('MDA1'!K9, 'MDA2'!K9, 'T1'!M9, MAX(T3_R1!L9, T3_R2!L9)), MAX('MDA1'!L9, 'MDA2'!L9, 'T1'!N9, MAX(T3_R1!M9, T3_R2!M9)))","v":40247},{"$f":"IF(AND(COUNTRY_INFO!J9>1,COUNTRY_INFO!J9<4),IF(COUNTRY_INFO!E9>MAX('MDA2'!J9,'T1'!L9,MAX(T3_R1!K9,T3_R2!K9)),MAX('MDA2'!J9,'T1'!L9,MAX(T3_R1!K9,T3_R2!K9)),COUNTRY_INFO!E9),0)","v":30755},{"$f":"IF(AND(COUNTRY_INFO!J9>1,COUNTRY_INFO!J9<4), IF(T9/COUNTRY_INFO!E9*100<>0, IF(T9/COUNTRY_INFO!E9*100>100,100,T9/COUNTRY_INFO!E9*100), \"-\"),0)","v":46.841207469006065},{"$f":"IF(AND(COUNTRY_INFO!J9>1,COUNTRY_INFO!J9<4),IF(COUNTRY_INFO!F9>MAX('MDA1'!K9,'MDA2'!K9,'T1'!M9,MAX(T3_R1!L9,T3_R2!L9)),MAX('MDA1'!K9,'MDA2'!K9,'T1'!M9,MAX(T3_R1!L9,T3_R2!L9)),COUNTRY_INFO!F9),0)","v":9492},{"$f":"IF(AND(COUNTRY_INFO!J9>1,COUNTRY_INFO!J9<4), IF(V9/COUNTRY_INFO!F9*100<>0, IF(V9/COUNTRY_INFO!F9*100>100,100,V9/COUNTRY_INFO!F9*100), \"-\"),0)","v":6.7975765908993253},{"$f":"SUM(T9,V9)","v":40247},{"$f":"IF(AND(COUNTRY_INFO!J9>1,COUNTRY_INFO!J9<4), IF(S9/P9*100<>0, IF(X9/P9*100>100,100,X9/P9*100), \"-\"),0)","v":19.604376120333566},{"$f":"COUNTRY_INFO!O9","v":140805},null,null,{"$f":"MAX('T1'!L9,'T2'!J9)+MAX('T1'!M9,'T2'!K9)+MAX('T1'!N9,'T2'!L9)","v":105379},{"$f":"IF(COUNTRY_INFO!K9=1,IF(COUNTRY_INFO!F9*0.33>MAX('T1'!M9,'T2'!K9),MAX('T1'!M9,'T2'!K9),COUNTRY_INFO!F9*0.33),IF(COUNTRY_INFO!K9=2,IF(COUNTRY_INFO!F9*0.5>MAX('T1'!M9,'T2'!K9),MAX('T1'!M9,'T2'!K9),COUNTRY_INFO!F9*0.5),IF(COUNTRY_INFO!K9=3,IF(COUNTRY_INFO!F9>MAX('T1'!M9,'T2'!K9),MAX('T1'!M9,'T2'!K9),COUNTRY_INFO!F9),0)))","v":36194},{"$f":"IF(AND(COUNTRY_INFO!K9>0,COUNTRY_INFO!K9<4),IF(Z9>0,IF(COUNTRY_INFO!K9=1, AD9/(COUNTRY_INFO!F9*0.33)*100, IF(COUNTRY_INFO!K9=2, AD9/(COUNTRY_INFO!F9*0.5)*100, IF(COUNTRY_INFO!K9=3, AD9/COUNTRY_INFO!F9*100))),\"-\"),0)","v":51.839757086179986},{"$f":"IF(COUNTRY_INFO!K9=2,IF(COUNTRY_INFO!G9*0.2>MAX('T1'!N9,'T2'!L9),MAX('T1'!N9,'T2'!L9),COUNTRY_INFO!G9*0.2),IF(COUNTRY_INFO!K9=3,IF(COUNTRY_INFO!G9>MAX('T1'!N9,'T2'!L9),MAX('T1'!N9,'T2'!L9),COUNTRY_INFO!G9),0))","v":48179.600000000006},{"$f":"IF(AND(COUNTRY_INFO!K9>0,COUNTRY_INFO!K9<4),IF(Z9>0,IF(COUNTRY_INFO!K9=1, 0, IF(COUNTRY_INFO!K9=2, AF9/(COUNTRY_INFO!G9*0.2)*100, IF(COUNTRY_INFO!K9=3, AF9/COUNTRY_INFO!G9*100))),\"-\"),0)","v":100},{"$f":"SUM(AD9,AF9)","v":84373.6},{"$f":"IF(AND(COUNTRY_INFO!K9>0,COUNTRY_INFO!K9<4), IF(AC9/Z9*100<>0, IF(AH9/Z9*100>100,100,AH9/Z9*100), \"-\"),0)","v":59.922303895458263},null,{"$f":"IF(AND(D9<>0, D9<>\"Unknown\",D9<>\"Stopped\",D9<>\"Not required\"),D9/COUNTRY_INFO!D9, 0)","v":0},{"$f":"IF(AND(J9<>0,J9<>\"Unknown\",J9<>\"Stopped\",J9<>\"Not required\"),J9/COUNTRY_INFO!D9, 0)","v":0},{"$f":"IF(AND(P9<>0,P9<>\"Unknown\",P9<>\"Not required\"),P9/(COUNTRY_INFO!E9+COUNTRY_INFO!F9), 0)","v":1},{"$f":"IF(AND(Z9<>0,Z9<>\"Unknown\",Z9<>\"Not required\"),IF(COUNTRY_INFO!K9=1,1,IF(COUNTRY_INFO!K9=2,0.5*COUNTRY_INFO!F9/(0.5*COUNTRY_INFO!F9+0.2*COUNTRY_INFO!G9),IF(COUNTRY_INFO!K9=3,COUNTRY_INFO!F9/(COUNTRY_INFO!F9+COUNTRY_INFO!G9)))),0)","v":0.5916934607698735},{"$f":"IF(AND(Z9<>0,Z9<>\"Unknown\",Z9<>\"Not required\"),IF(COUNTRY_INFO!K9=1,0,IF(COUNTRY_INFO!K9=2,0.2*COUNTRY_INFO!G9/(0.5*COUNTRY_INFO!F9+0.2*COUNTRY_INFO!G9),IF(COUNTRY_INFO!K9=3,COUNTRY_INFO!G9/(COUNTRY_INFO!F9+COUNTRY_INFO!G9)))),0)","v":0.4083065392301265},{"$f":"MAX(COUNTRY_INFO!D9*AK9*PROFILE!$G$7,COUNTRY_INFO!D9*AL9*PROFILE!$G$7)","v":0},{"$f":"MAX(COUNTRY_INFO!D9*AK9*PROFILE!$G$8,COUNTRY_INFO!D9*AL9*PROFILE!$G$8,COUNTRY_INFO!D9*AM9*PROFILE!$G$8)","v":65657.503393276871},{"$f":"MAX(COUNTRY_INFO!D9*AK9*PROFILE!$G$9,COUNTRY_INFO!D9*AL9*PROFILE!$G$9,COUNTRY_INFO!D9*AM9*PROFILE!$G$9,IF(AND(DISTRICT!Z9<>\"Unknown\",Z9<>\"Not required\"),COUNTRY_INFO!O9*DISTRICT!AN9,0))","v":139637.87371239072},{"$f":"MAX(COUNTRY_INFO!D9*AK9*PROFILE!$G$10,COUNTRY_INFO!D9*AL9*PROFILE!$G$10,IF(AND(DISTRICT!Z9<>\"Unknown\",Z9<>\"Not required\"),COUNTRY_INFO!O9*DISTRICT!AO9,0))","v":57491.602256297963},{"$f":"SUM(AP9:AS9)","v":262786.97936196555},{"$f":"IF(COUNTIFS(AK9:AN9,\">0\")=0,0, IF(COUNTIFS(AK9:AN9,\">0\")<=IF(AND(OR(D9>=0,D9=\"Not required\",D9=\"Unknown\",D9=\"Stopped\"),D9>0,H9>0),1,0)+IF(AND(OR(J9>=0,J9=\"Not required\",J9=\"Unknown\",J9=\"Stopped\"),J9>0,N9>0),1,0)+IF(AND(OR(P9>=0,P9=\"Not required\",P9=\"Unknown\"),P9>0,X9>0),1,0)+IF(AND(OR(Z9>=0,Z9=\"Not required\",Z9=\"Unknown\"),Z9>0,AH9>0),1,0),\"Y\",0))","v":"Y"},{"$f":"MAX('MDA2'!J9,'T1'!L9,'T2'!J9,T3_R1!K9,T3_R2!K9)","v":30755},{"$f":"MAX('MDA1'!K9,'MDA2'!K9,'MDA3'!I9,'MDA3'!L9,'T1'!M9,'T2'!K9,T3_R1!L9,T3_R2!L9)","v":36194},{"$f":"MAX('MDA1'!L9,'MDA2'!L9,'MDA3'!J9,'MDA3'!M9,'T1'!N9,'T2'!L9,T3_R1!M9,T3_R2!M9)","v":69185},{"$f":"SUM(AV9:AX9)","v":136134},{"$f":"MAX('MDA2'!J9,T9)","v":30755},{"$f":"MAX('MDA1'!K9,'MDA2'!K9,'MDA3'!I9,'MDA3'!L9,V9,AD9)","v":36194},{"$f":"MAX('MDA1'!L9,'MDA2'!L9,'MDA3'!J9,'MDA3'!M9,AF9)","v":48179.600000000006},{"$f":"IF(AT9<SUM(AZ9:BB9), AT9,SUM(AZ9:BB9))","v":115128.6},{"$f":"IF(AT9<>0,BC9/AT9*100,0)","v":43.810618121006925}]
[{"$f":"IF(COUNTRY_INFO!A10=0,\" \",COUNTRY_INFO!A10)","v":"Uganda"},{"$f":"IF(COUNTRY_INFO!B10=0,\" \",COUNTRY_INFO!B10)","v":"Central "},{"$f":"IF(COUNTRY_INFO!C10=0,\" \",COUNTRY_INFO!C10)","v":"Bukomansimbi"},{"$f":"COUNTRY_INFO!L10","v":0},null,null,{"$f":"MAX('MDA1'!M10,'MDA2'!M10)","v":0},{"$f":"IF(AND(COUNTRY_INFO!H10>0,COUNTRY_INFO!H10<4),IF(D10>MAX('MDA1'!M10,'MDA2'!M10),MAX('MDA1'!M10,'MDA2'!M10),D10),0)","v":0},{"$f":"IF(AND(COUNTRY_INFO!H10>0,COUNTRY_INFO!H10<4), IF(G10/D10*100<>0, IF(G10/D10*100>100,100,G10/D10*100), \"-\"),0)","v":0},{"$f":"COUNTRY_INFO!M10","v":0},null,null,{"$f":"MAX('MDA1'!M10,MAX('MDA3'!I10,'MDA3'!L10)+MAX('MDA3'!J10,'MDA3'!M10))","v":0},{"$f":"IF(AND(COUNTRY_INFO!I10>0,COUNTRY_INFO!I10<4),IF(J10>MAX('MDA1'!M10,MAX('MDA3'!I10,'MDA3'!L10)+MAX('MDA3'!J10,'MDA3'!M10)),MAX('MDA1'!M10,MAX('MDA3'!I10,'MDA3'!L10)+MAX('MDA3'!J10,'MDA3'!M10)),J10),0)","v":0},{"$f":"IF(AND(COUNTRY_INFO!I10>0,COUNTRY_INFO!I10<4), IF(M10/J10*100<>0, IF(M10/J10*100>100,100,M10/J10*100), \"-\"),0)","v":0},{"$f":"COUNTRY_INFO!N10","v":73526},null,null,{"$f":"SUM(MAX('MDA2'!J10, 'T1'!L10, MAX(T3_R1!K10, T3_R2!K10)), MAX('MDA1'!K10, 'MDA2'!K10, 'T1'!M10, MAX(T3_R1!L10, T3_R2!L10)), MAX('MDA1'!L10, 'MDA2'!L10, 'T1'!N10, MAX(T3_R1!M10, T3_R2!M10)))","v":75429},{"$f":"IF(AND(COUNTRY_INFO!J10>1,COUNTRY_INFO!J10<4),IF(COUNTRY_INFO!E10>MAX('MDA2'!J10,'T1'!L10,MAX(T3_R1!K10,T3_R2!K10)),MAX('MDA2'!J10,'T1'!L10,MAX(T3_R1!K10,T3_R2!K10)),COUNTRY_INFO!E10),0)","v":23515},{"$f":"IF(AND(COUNTRY_INFO!J10>1,COUNTRY_INFO!J10<4), IF(T10/COUNTRY_INFO!E10*100<>0, IF(T10/COUNTRY_INFO!E10*100>100,100,T10/COUNTRY_INFO!E10*100), \"-\"),0)","v":100},{"$f":"IF(AND(COUNTRY_INFO!J10>1,COUNTRY_INFO!J10<4),IF(COUNTRY_INFO!F10>MAX('MDA1'!K10,'MDA2'!K10,'T1'!M10,MAX(T3_R1!L10,T3_R2!L10)),MAX('MDA1'!K10,'MDA2'!K10,'T1'!M10,MAX(T3_R1!L10,T3_R2!L10)),COUNTRY_INFO!F10),0)","v":29975},{"$f":"IF(AND(COUNTRY_INFO!J10>1,COUNTRY_INFO!J10<4), IF(V10/COUNTRY_INFO!F10*100<>0, IF(V10/COUNTRY_INFO!F10*100>100,100,V10/COUNTRY_INFO!F10*100), \"-\"),0)","v":59.936813900941786},{"$f":"SUM(T10,V10)","v":53490},{"$f":"IF(AND(COUNTRY_INFO!J10>1,COUNTRY_INFO!J10<4), IF(S10/P10*100<>0, IF(X10/P10*100>100,100,X10/P10*100), \"-\"),0)","v":72.749775589587358},{"$f":"COUNTRY_INFO!O10","v":0},null,null,{"$f":"MAX('T1'!L10,'T2'!J10)+MAX('T1'!M10,'T2'!K10)+MAX('T1'!N10,'T2'!L10)","v":0},{"$f":"IF(COUNTRY_INFO!K10=1,IF(COUNTRY_INFO!F10*0.33>MAX('T1'!M10,'T2'!K10),MAX('T1'!M10,'T2'!K10),COUNTRY_INFO!F10*0.33),IF(COUNTRY_INFO!K10=2,IF(COUNTRY_INFO!F10*0.5>MAX('T1'!M10,'T2'!K10),MAX('T1'!M10,'T2'!K10),COUNTRY_INFO!F10*0.5),IF(COUNTRY_INFO!K10=3,IF(COUNTRY_INFO!F10>MAX('T1'!M10,'T2'!K10),MAX('T1'!M10,'T2'!K10),COUNTRY_INFO!F10),0)))","v":0},{"$f":"IF(AND(COUNTRY_INFO!K10>0,COUNTRY_INFO!K10<4),IF(Z10>0,IF(COUNTRY_INFO!K10=1, AD10/(COUNTRY_INFO!F10*0.33)*100, IF(COUNTRY_INFO!K10=2, AD10/(COUNTRY_INFO!F10*0.5)*100, IF(COUNTRY_INFO!K10=3, AD10/COUNTRY_INFO!F10*100))),\"-\"),0)","v":0},{"$f":"IF(COUNTRY_INFO!K10=2,IF(COUNTRY_INFO!G10*0.2>MAX('T1'!N10,'T2'!L10),MAX('T1'!N10,'T2'!L10),COUNTRY_INFO!G10*0.2),IF(COUNTRY_INFO!K10=3,IF(COUNTRY_INFO!G10>MAX('T1'!N10,'T2'!L10),MAX('T1'!N10,'T2'!L10),COUNTRY_INFO!G10),0))","v":0},{"$f":"IF(AND(COUNTRY_INFO!K10>0,COUNTRY_INFO!K10<4),IF(Z10>0,IF(COUNTRY_INFO!K10=1, 0, IF(COUNTRY_INFO!K10=2, AF10/(COUNTRY_INFO!G10*0.2)*100, IF(COUNTRY_INFO!K10=3, AF10/COUNTRY_INFO!G10*100))),\"-\"),0)","v":0},{"$f":"SUM(AD10,AF10)","v":0},{"$f":"IF(AND(COUNTRY_INFO!K10>0,COUNTRY_INFO!K10<4), IF(AC10/Z10*100<>0, IF(AH10/Z10*100>100,100,AH10/Z10*100), \"-\"),0)","v":0},null,{"$f":"IF(AND(D10<>0, D10<>\"Unknown\",D10<>\"Stopped\",D10<>\"Not required\"),D10/COUNTRY_INFO!D10, 0)","v":0},{"$f":"IF(AND(J10<>0,J10<>\"Unknown\",J10<>\"Stopped\",J10<>\"Not required\"),J10/COUNTRY_INFO!D10, 0)","v":0},{"$f":"IF(AND(P10<>0,P10<>\"Unknown\",P10<>\"Not required\"),P10/(COUNTRY_INFO!E10+COUNTRY_INFO!F10), 0)","v":1},{"$f":"IF(AND(Z10<>0,Z10<>\"Unknown\",Z10<>\"Not required\"),IF(COUNTRY_INFO!K10=1,1,IF(COUNTRY_INFO!K10=2,0.5*COUNTRY_INFO!F10/(0.5*COUNTRY_INFO!F10+0.2*COUNTRY_INFO!G10),IF(COUNTRY_INFO!K10=3,COUNTRY_INFO!F10/(COUNTRY_INFO!F10+COUNTRY_INFO!G10)))),0)","v":0},{"$f":"IF(AND(Z10<>0,Z10<>\"Unknown\",Z10<>\"Not required\"),IF(COUNTRY_INFO!K10=1,0,IF(COUNTRY_INFO!K10=2,0.2*COUNTRY_INFO!G10/(0.5*COUNTRY_INFO!F10+0.2*COUNTRY_INFO!G10),IF(COUNTRY_INFO!K10=3,COUNTRY_INFO!G10/(COUNTRY_INFO!F10+COUNTRY_INFO!G10)))),0)","v":0},{"$f":"MAX(COUNTRY_INFO!D10*AK10*PROFILE!$G$7,COUNTRY_INFO!D10*AL10*PROFILE!$G$7)","v":0},{"$f":"MAX(COUNTRY_INFO!D10*AK10*PROFILE!$G$8,COUNTRY_INFO!D10*AL10*PROFILE!$G$8,COUNTRY_INFO!D10*AM10*PROFILE!$G$8)","v":23514.90503835585},{"$f":"MAX(COUNTRY_INFO!D10*AK10*PROFILE!$G$9,COUNTRY_INFO!D10*AL10*PROFILE!$G$9,COUNTRY_INFO!D10*AM10*PROFILE!$G$9,IF(AND(DISTRICT!Z10<>\"Unknown\",Z10<>\"Not required\"),COUNTRY_INFO!O10*DISTRICT!AN10,0))","v":50010.603059893721},{"$f":"MAX(COUNTRY_INFO!D10*AK10*PROFILE!$G$10,COUNTRY_INFO!D10*AL10*PROFILE!$G$10,IF(AND(DISTRICT!Z10<>\"Unknown\",Z10<>\"Not required\"),COUNTRY_INFO!O10*DISTRICT!AO10,0))","v":0},{"$f":"SUM(AP10:AS10)","v":73525.508098249571},"Y",{"$f":"MAX('MDA2'!J10,'T1'!L10,'T2'!J10,T3_R1!K10,T3_R2!K10)","v":45454},{"$f":"MAX('MDA1'!K10,'MDA2'!K10,'MDA3'!I10,'MDA3'!L10,'T1'!M10,'T2'!K10,T3_R1!L10,T3_R2!L10)","v":29975},{"$f":"MAX('MDA1'!L10,'MDA2'!L10,'MDA3'!J10,'MDA3'!M10,'T1'!N10,'T2'!L10,T3_R1!M10,T3_R2!M10)","v":0},{"$f":"SUM(AV10:AX10)","v":75429},{"$f":"MAX('MDA2'!J10,T10)","v":23515},{"$f":"MAX('MDA1'!K10,'MDA2'!K10,'MDA3'!I10,'MDA3'!L10,V10,AD10)","v":29975},{"$f":"MAX('MDA1'!L10,'MDA2'!L10,'MDA3'!J10,'MDA3'!M10,AF10)","v":0},53490,72.750262301517424]
[{"$f":"IF(COUNTRY_INFO!A11=0,\" \",COUNTRY_INFO!A11)","v":"Uganda"},{"$f":"IF(COUNTRY_INFO!B11=0,\" \",COUNTRY_INFO!B11)","v":"Central "},{"$f":"IF(COUNTRY_INFO!C11=0,\" \",COUNTRY_INFO!C11)","v":"Butambala"},{"$f":"COUNTRY_INFO!L11","v":0},null,null,{"$f":"MAX('MDA1'!M11,'MDA2'!M11)","v":0},{"$f":"IF(AND(COUNTRY_INFO!H11>0,COUNTRY_INFO!H11<4),IF(D11>MAX('MDA1'!M11,'MDA2'!M11),MAX('MDA1'!M11,'MDA2'!M11),D11),0)","v":0},{"$f":"IF(AND(COUNTRY_INFO!H11>0,COUNTRY_INFO!H11<4), IF(G11/D11*100<>0, IF(G11/D11*100>100,100,G11/D11*100), \"-\"),0)","v":0},{"$f":"COUNTRY_INFO!M11","v":0},null,null,{"$f":"MAX('MDA1'!M11,MAX('MDA3'!I11,'MDA3'!L11)+MAX('MDA3'!J11,'MDA3'!M11))","v":0},{"$f":"IF(AND(COUNTRY_INFO!I11>0,COUNTRY_INFO!I11<4),IF(J11>MAX('MDA1'!M11,MAX('MDA3'!I11,'MDA3'!L11)+MAX('MDA3'!J11,'MDA3'!M11)),MAX('MDA1'!M11,MAX('MDA3'!I11,'MDA3'!L11)+MAX('MDA3'!J11,'MDA3'!M11)),J11),0)","v":0},{"$f":"IF(AND(COUNTRY_INFO!I11>0,COUNTRY_INFO!I11<4), IF(M11/J11*100<>0, IF(M11/J11*100>100,100,M11/J11*100), \"-\"),0)","v":0},{"$f":"COUNTRY_INFO!N11","v":48967},null,null,{"$f":"SUM(MAX('MDA2'!J11, 'T1'!L11, MAX(T3_R1!K11, T3_R2!K11)), MAX('MDA1'!K11, 'MDA2'!K11, 'T1'!M11, MAX(T3_R1!L11, T3_R2!L11)), MAX('MDA1'!L11, 'MDA2'!L11, 'T1'!N11, MAX(T3_R1!M11, T3_R2!M11)))","v":56013},{"$f":"IF(AND(COUNTRY_INFO!J11>1,COUNTRY_INFO!J11<4),IF(COUNTRY_INFO!E11>MAX('MDA2'!J11,'T1'!L11,MAX(T3_R1!K11,T3_R2!K11)),MAX('MDA2'!J11,'T1'!L11,MAX(T3_R1!K11,T3_R2!K11)),COUNTRY_INFO!E11),0)","v":15661},{"$f":"IF(AND(COUNTRY_INFO!J11>1,COUNTRY_INFO!J11<4), IF(T11/COUNTRY_INFO!E11*100<>0, IF(T11/COUNTRY_INFO!E11*100>100,100,T11/COUNTRY_INFO!E11*100), \"-\"),0)","v":100},{"$f":"IF(AND(COUNTRY_INFO!J11>1,COUNTRY_INFO!J11<4),IF(COUNTRY_INFO!F11>MAX('MDA1'!K11,'MDA2'!K11,'T1'!M11,MAX(T3_R1!L11,T3_R2!L11)),MAX('MDA1'!K11,'MDA2'!K11,'T1'!M11,MAX(T3_R1!L11,T3_R2!L11)),COUNTRY_INFO!F11),0)","v":8855},{"$f":"IF(AND(COUNTRY_INFO!J11>1,COUNTRY_INFO!J11<4), IF(V11/COUNTRY_INFO!F11*100<>0, IF(V11/COUNTRY_INFO!F11*100>100,100,V11/COUNTRY_INFO!F11*100), \"-\"),0)","v":26.586801176965114},24516,{"$f":"IF(AND(COUNTRY_INFO!J11>1,COUNTRY_INFO!J11<4), IF(S11/P11*100<>0, IF(X11/P11*100>100,100,X11/P11*100), \"-\"),0)","v":50.066371229603611},{"$f":"COUNTRY_INFO!O11","v":0},null,null,{"$f":"MAX('T1'!L11,'T2'!J11)+MAX('T1'!M11,'T2'!K11)+MAX('T1'!N11,'T2'!L11)","v":0},{"$f":"IF(COUNTRY_INFO!K11=1,IF(COUNTRY_INFO!F11*0.33>MAX('T1'!M11,'T2'!K11),MAX('T1'!M11,'T2'!K11),COUNTRY_INFO!F11*0.33),IF(COUNTRY_INFO!K11=2,IF(COUNTRY_INFO!F11*0.5>MAX('T1'!M11,'T2'!K11),MAX('T1'!M11,'T2'!K11),COUNTRY_INFO!F11*0.5),IF(COUNTRY_INFO!K11=3,IF(COUNTRY_INFO!F11>MAX('T1'!M11,'T2'!K11),MAX('T1'!M11,'T2'!K11),COUNTRY_INFO!F11),0)))","v":0},{"$f":"IF(AND(COUNTRY_INFO!K11>0,COUNTRY_INFO!K11<4),IF(Z11>0,IF(COUNTRY_INFO!K11=1, AD11/(COUNTRY_INFO!F11*0.33)*100, IF(COUNTRY_INFO!K11=2, AD11/(COUNTRY_INFO!F11*0.5)*100, IF(COUNTRY_INFO!K11=3, AD11/COUNTRY_INFO!F11*100))),\"-\"),0)","v":0},{"$f":"IF(COUNTRY_INFO!K11=2,IF(COUNTRY_INFO!G11*0.2>MAX('T1'!N11,'T2'!L11),MAX('T1'!N11,'T2'!L11),COUNTRY_INFO!G11*0.2),IF(COUNTRY_INFO!K11=3,IF(COUNTRY_INFO!G11>MAX('T1'!N11,'T2'!L11),MAX('T1'!N11,'T2'!L11),COUNTRY_INFO!G11),0))","v":0},{"$f":"IF(AND(COUNTRY_INFO!K11>0,COUNTRY_INFO!K11<4),IF(Z11>0,IF(COUNTRY_INFO!K11=1, 0, IF(COUNTRY_INFO!K11=2, AF11/(COUNTRY_INFO!G11*0.2)*100, IF(COUNTRY_INFO!K11=3, AF11/COUNTRY_INFO!G11*100))),\"-\"),0)","v":0},0,{"$f":"IF(AND(COUNTRY_INFO!K11>0,COUNTRY_INFO!K11<4), IF(AC11/Z11*100<>0, IF(AH11/Z11*100>100,100,AH11/Z11*100), \"-\"),0)","v":0},null,{"$f":"IF(AND(D11<>0, D11<>\"Unknown\",D11<>\"Stopped\",D11<>\"Not required\"),D11/COUNTRY_INFO!D11, 0)","v":0},{"$f":"IF(AND(J11<>0,J11<>\"Unknown\",J11<>\"Stopped\",J11<>\"Not required\"),J11/COUNTRY_INFO!D11, 0)","v":0},{"$f":"IF(AND(P11<>0,P11<>\"Unknown\",P11<>\"Not required\"),P11/(COUNTRY_INFO!E11+COUNTRY_INFO!F11), 0)","v":1},{"$f":"IF(AND(Z11<>0,Z11<>\"Unknown\",Z11<>\"Not required\"),IF(COUNTRY_INFO!K11=1,1,IF(COUNTRY_INFO!K11=2,0.5*COUNTRY_INFO!F11/(0.5*COUNTRY_INFO!F11+0.2*COUNTRY_INFO!G11),IF(COUNTRY_INFO!K11=3,COUNTRY_INFO!F11/(COUNTRY_INFO!F11+COUNTRY_INFO!G11)))),0)","v":0},{"$f":"IF(AND(Z11<>0,Z11<>\"Unknown\",Z11<>\"Not required\"),IF(COUNTRY_INFO!K11=1,0,IF(COUNTRY_INFO!K11=2,0.2*COUNTRY_INFO!G11/(0.5*COUNTRY_INFO!F11+0.2*COUNTRY_INFO!G11),IF(COUNTRY_INFO!K11=3,COUNTRY_INFO!G11/(COUNTRY_INFO!F11+COUNTRY_INFO!G11)))),0)","v":0},{"$f":"MAX(COUNTRY_INFO!D11*AK11*PROFILE!$G$7,COUNTRY_INFO!D11*AL11*PROFILE!$G$7)","v":0},{"$f":"MAX(COUNTRY_INFO!D11*AK11*PROFILE!$G$8,COUNTRY_INFO!D11*AL11*PROFILE!$G$8,COUNTRY_INFO!D11*AM11*PROFILE!$G$8)","v":15660.604699695125},{"$f":"MAX(COUNTRY_INFO!D11*AK11*PROFILE!$G$9,COUNTRY_INFO!D11*AL11*PROFILE!$G$9,COUNTRY_INFO!D11*AM11*PROFILE!$G$9,IF(AND(DISTRICT!Z11<>\"Unknown\",Z11<>\"Not required\"),COUNTRY_INFO!O11*DISTRICT!AN11,0))","v":33306.376701792527},{"$f":"MAX(COUNTRY_INFO!D11*AK11*PROFILE!$G$10,COUNTRY_INFO!D11*AL11*PROFILE!$G$10,IF(AND(DISTRICT!Z11<>\"Unknown\",Z11<>\"Not required\"),COUNTRY_INFO!O11*DISTRICT!AO11,0))","v":0},48966.981401487654,"Y",{"$f":"MAX('MDA2'!J11,'T1'!L11,'T2'!J11,T3_R1!K11,T3_R2!K11)","v":47158},{"$f":"MAX('MDA1'!K11,'MDA2'!K11,'MDA3'!I11,'MDA3'!L11,'T1'!M11,'T2'!K11,T3_R1!L11,T3_R2!L11)","v":8855},{"$f":"MAX('MDA1'!L11,'MDA2'!L11,'MDA3'!J11,'MDA3'!M11,'T1'!N11,'T2'!L11,T3_R1!M11,T3_R2!M11)","v":0},56013,{"$f":"MAX('MDA2'!J11,T11)","v":15661},{"$f":"MAX('MDA1'!K11,'MDA2'!K11,'MDA3'!I11,'MDA3'!L11,V11,AD11)","v":8855},{"$f":"MAX('MDA1'!L11,'MDA2'!L11,'MDA3'!J11,'MDA3'!M11,AF11)","v":0},24516,50.066390245683358]
[{"$f":"IF(COUNTRY_INFO!A12=0,\" \",COUNTRY_INFO!A12)","v":"Uganda"},{"$f":"IF(COUNTRY_INFO!B12=0,\" \",COUNTRY_INFO!B12)","v":"Central "},{"$f":"IF(COUNTRY_INFO!C12=0,\" \",COUNTRY_INFO!C12)","v":"Buvuma"},{"$f":"COUNTRY_INFO!L12","v":0},null,null,{"$f":"MAX('MDA1'!M12,'MDA2'!M12)","v":0},{"$f":"IF(AND(COUNTRY_INFO!H12>0,COUNTRY_INFO!H12<4),IF(D12>MAX('MDA1'!M12,'MDA2'!M12),MAX('MDA1'!M12,'MDA2'!M12),D12),0)","v":0},{"$f":"IF(AND(COUNTRY_INFO!H12>0,COUNTRY_INFO!H12<4), IF(G12/D12*100<>0, IF(G12/D12*100>100,100,G12/D12*100), \"-\"),0)","v":0},{"$f":"COUNTRY_INFO!M12","v":0},null,null,{"$f":"MAX('MDA1'!M12,MAX('MDA3'!I12,'MDA3'!L12)+MAX('MDA3'!J12,'MDA3'!M12))","v":0},{"$f":"IF(AND(COUNTRY_INFO!I12>0,COUNTRY_INFO!I12<4),IF(J12>MAX('MDA1'!M12,MAX('MDA3'!I12,'MDA3'!L12)+MAX('MDA3'!J12,'MDA3'!M12)),MAX('MDA1'!M12,MAX('MDA3'!I12,'MDA3'!L12)+MAX('MDA3'!J12,'MDA3'!M12)),J12),0)","v":0},{"$f":"IF(AND(COUNTRY_INFO!I12>0,COUNTRY_INFO!I12<4), IF(M12/J12*100<>0, IF(M12/J12*100>100,100,M12/J12*100), \"-\"),0)","v":0},{"$f":"COUNTRY_INFO!N12","v":45494},null,null,{"$f":"SUM(MAX('MDA2'!J12, 'T1'!L12, MAX(T3_R1!K12, T3_R2!K12)), MAX('MDA1'!K12, 'MDA2'!K12, 'T1'!M12, MAX(T3_R1!L12, T3_R2!L12)), MAX('MDA1'!L12, 'MDA2'!L12, 'T1'!N12, MAX(T3_R1!M12, T3_R2!M12)))","v":8967},{"$f":"IF(AND(COUNTRY_INFO!J12>1,COUNTRY_INFO!J12<4),IF(COUNTRY_INFO!E12>MAX('MDA2'!J12,'T1'!L12,MAX(T3_R1!K12,T3_R2!K12)),MAX('MDA2'!J12,'T1'!L12,MAX(T3_R1!K12,T3_R2!K12)),COUNTRY_INFO!E12),0)","v":3849},{"$f":"IF(AND(COUNTRY_INFO!J12>1,COUNTRY_INFO!J12<4), IF(T12/COUNTRY_INFO!E12*100<>0, IF(T12/COUNTRY_INFO!E12*100>100,100,T12/COUNTRY_INFO!E12*100), \"-\"),0)","v":26.453608247422682},{"$f":"IF(AND(COUNTRY_INFO!J12>1,COUNTRY_INFO!J12<4),IF(COUNTRY_INFO!F12>MAX('MDA1'!K12,'MDA2'!K12,'T1'!M12,MAX(T3_R1!L12,T3_R2!L12)),MAX('MDA1'!K12,'MDA2'!K12,'T1'!M12,MAX(T3_R1!L12,T3_R2!L12)),COUNTRY_INFO!F12),0)","v":5118},{"$f":"IF(AND(COUNTRY_INFO!J12>1,COUNTRY_INFO!J12<4), IF(V12/COUNTRY_INFO!F12*100<>0, IF(V12/COUNTRY_INFO!F12*100>100,100,V12/COUNTRY_INFO!F12*100), \"-\"),0)","v":16.539555325749742},8967,{"$f":"IF(AND(COUNTRY_INFO!J12>1,COUNTRY_INFO!J12<4), IF(S12/P12*100<>0, IF(X12/P12*100>100,100,X12/P12*100), \"-\"),0)","v":19.710291467006638},{"$f":"COUNTRY_INFO!O12","v":85356},null,null,{"$f":"MAX('T1'!L12,'T2'!J12)+MAX('T1'!M12,'T2'!K12)+MAX('T1'!N12,'T2'!L12)","v":72273},{"$f":"IF(COUNTRY_INFO!K12=1,IF(COUNTRY_INFO!F12*0.33>MAX('T1'!M12,'T2'!K12),MAX('T1'!M12,'T2'!K12),COUNTRY_INFO!F12*0.33),IF(COUNTRY_INFO!K12=2,IF(COUNTRY_INFO!F12*0.5>MAX('T1'!M12,'T2'!K12),MAX('T1'!M12,'T2'!K12),COUNTRY_INFO!F12*0.5),IF(COUNTRY_INFO!K12=3,IF(COUNTRY_INFO!F12>MAX('T1'!M12,'T2'!K12),MAX('T1'!M12,'T2'!K12),COUNTRY_INFO!F12),0)))","v":27443},{"$f":"IF(AND(COUNTRY_INFO!K12>0,COUNTRY_INFO!K12<4),IF(Z12>0,IF(COUNTRY_INFO!K12=1, AD12/(COUNTRY_INFO!F12*0.33)*100, IF(COUNTRY_INFO!K12=2, AD12/(COUNTRY_INFO!F12*0.5)*100, IF(COUNTRY_INFO!K12=3, AD12/COUNTRY_INFO!F12*100))),\"-\"),0)","v":88.686013443640121},{"$f":"IF(COUNTRY_INFO!K12=2,IF(COUNTRY_INFO!G12*0.2>MAX('T1'!N12,'T2'!L12),MAX('T1'!N12,'T2'!L12),COUNTRY_INFO!G12*0.2),IF(COUNTRY_INFO!K12=3,IF(COUNTRY_INFO!G12>MAX('T1'!N12,'T2'!L12),MAX('T1'!N12,'T2'!L12),COUNTRY_INFO!G12),0))","v":44830},{"$f":"IF(AND(COUNTRY_INFO!K12>0,COUNTRY_INFO!K12<4),IF(Z12>0,IF(COUNTRY_INFO!K12=1, 0, IF(COUNTRY_INFO!K12=2, AF12/(COUNTRY_INFO!G12*0.2)*100, IF(COUNTRY_INFO!K12=3, AF12/COUNTRY_INFO!G12*100))),\"-\"),0)","v":83.976472351266295},72273,{"$f":"IF(AND(COUNTRY_INFO!K12>0,COUNTRY_INFO!K12<4), IF(AC12/Z12*100<>0, IF(AH12/Z12*100>100,100,AH12/Z12*100), \"-\"),0)","v":84.672430760579218},null,{"$f":"IF(AND(D12<>0, D12<>\"Unknown\",D12<>\"Stopped\",D12<>\"Not required\"),D12/COUNTRY_INFO!D12, 0)","v":0},{"$f":"IF(AND(J12<>0,J12<>\"Unknown\",J12<>\"Stopped\",J12<>\"Not required\"),J12/COUNTRY_INFO!D12, 0)","v":0},{"$f":"IF(AND(P12<>0,P12<>\"Unknown\",P12<>\"Not required\"),P12/(COUNTRY_INFO!E12+COUNTRY_INFO!F12), 0)","v":1},{"$f":"IF(AND(Z12<>0,Z12<>\"Unknown\",Z12<>\"Not required\"),IF(COUNTRY_INFO!K12=1,1,IF(COUNTRY_INFO!K12=2,0.5*COUNTRY_INFO!F12/(0.5*COUNTRY_INFO!F12+0.2*COUNTRY_INFO!G12),IF(COUNTRY_INFO!K12=3,COUNTRY_INFO!F12/(COUNTRY_INFO!F12+COUNTRY_INFO!G12)))),0)","v":0.36694810739019068},{"$f":"IF(AND(Z12<>0,Z12<>\"Unknown\",Z12<>\"Not required\"),IF(COUNTRY_INFO!K12=1,0,IF(COUNTRY_INFO!K12=2,0.2*COUNTRY_INFO!G12/(0.5*COUNTRY_INFO!F12+0.2*COUNTRY_INFO!G12),IF(COUNTRY_INFO!K12=3,COUNTRY_INFO!G12/(COUNTRY_INFO!F12+COUNTRY_INFO!G12)))),0)","v":0.63305189260980932},{"$f":"MAX(COUNTRY_INFO!D12*AK12*PROFILE!$G$7,COUNTRY_INFO!D12*AL12*PROFILE!$G$7)","v":0},{"$f":"MAX(COUNTRY_INFO!D12*AK12*PROFILE!$G$8,COUNTRY_INFO!D12*AL12*PROFILE!$G$8,COUNTRY_INFO!D12*AM12*PROFILE!$G$8)","v":14549.88121746696},{"$f":"MAX(COUNTRY_INFO!D12*AK12*PROFILE!$G$9,COUNTRY_INFO!D12*AL12*PROFILE!$G$9,COUNTRY_INFO!D12*AM12*PROFILE!$G$9,IF(AND(DISTRICT!Z12<>\"Unknown\",Z12<>\"Not required\"),COUNTRY_INFO!O12*DISTRICT!AN12,0))","v":31321.222654397116},{"$f":"MAX(COUNTRY_INFO!D12*AK12*PROFILE!$G$10,COUNTRY_INFO!D12*AL12*PROFILE!$G$10,IF(AND(DISTRICT!Z12<>\"Unknown\",Z12<>\"Not required\"),COUNTRY_INFO!O12*DISTRICT!AO12,0))","v":54034.777345602881},99905.881217466958,"Y",{"$f":"MAX('MDA2'!J12,'T1'!L12,'T2'!J12,T3_R1!K12,T3_R2!K12)","v":3849},{"$f":"MAX('MDA1'!K12,'MDA2'!K12,'MDA3'!I12,'MDA3'!L12,'T1'!M12,'T2'!K12,T3_R1!L12,T3_R2!L12)","v":27443},{"$f":"MAX('MDA1'!L12,'MDA2'!L12,'MDA3'!J12,'MDA3'!M12,'T1'!N12,'T2'!L12,T3_R1!M12,T3_R2!M12)","v":44830},76122,{"$f":"MAX('MDA2'!J12,T12)","v":3849},{"$f":"MAX('MDA1'!K12,'MDA2'!K12,'MDA3'!I12,'MDA3'!L12,V12,AD12)","v":27443},{"$f":"MAX('MDA1'!L12,'MDA2'!L12,'MDA3'!J12,'MDA3'!M12,AF12)","v":44830},76122,76.193712594660823]
[{"$f":"IF(COUNTRY_INFO!A13=0,\" \",COUNTRY_INFO!A13)","v":"Uganda"},{"$f":"IF(COUNTRY_INFO!B13=0,\" \",COUNTRY_INFO!B13)","v":"Central "},{"$f":"IF(COUNTRY_INFO!C13=0,\" \",COUNTRY_INFO!C13)","v":"Gomba"},{"$f":"COUNTRY_INFO!L13","v":0},null,null,{"$f":"MAX('MDA1'!M13,'MDA2'!M13)","v":0},{"$f":"IF(AND(COUNTRY_INFO!H13>0,COUNTRY_INFO!H13<4),IF(D13>MAX('MDA1'!M13,'MDA2'!M13),MAX('MDA1'!M13,'MDA2'!M13),D13),0)","v":0},{"$f":"IF(AND(COUNTRY_INFO!H13>0,COUNTRY_INFO!H13<4), IF(G13/D13*100<>0, IF(G13/D13*100>100,100,G13/D13*100), \"-\"),0)","v":0},{"$f":"COUNTRY_INFO!M13","v":0},null,null,{"$f":"MAX('MDA1'!M13,MAX('MDA3'!I13,'MDA3'!L13)+MAX('MDA3'!J13,'MDA3'!M13))","v":0},{"$f":"IF(AND(COUNTRY_INFO!I13>0,COUNTRY_INFO!I13<4),IF(J13>MAX('MDA1'!M13,MAX('MDA3'!I13,'MDA3'!L13)+MAX('MDA3'!J13,'MDA3'!M13)),MAX('MDA1'!M13,MAX('MDA3'!I13,'MDA3'!L13)+MAX('MDA3'!J13,'MDA3'!M13)),J13),0)","v":0},{"$f":"IF(AND(COUNTRY_INFO!I13>0,COUNTRY_INFO!I13<4), IF(M13/J13*100<>0, IF(M13/J13*100>100,100,M13/J13*100), \"-\"),0)","v":0},{"$f":"COUNTRY_INFO!N13","v":77657},null,null,{"$f":"SUM(MAX('MDA2'!J13, 'T1'!L13, MAX(T3_R1!K13, T3_R2!K13)), MAX('MDA1'!K13, 'MDA2'!K13, 'T1'!M13, MAX(T3_R1!L13, T3_R2!L13)), MAX('MDA1'!L13, 'MDA2'!L13, 'T1'!N13, MAX(T3_R1!M13, T3_R2!M13)))","v":30417},{"$f":"IF(AND(COUNTRY_INFO!J13>1,COUNTRY_INFO!J13<4),IF(COUNTRY_INFO!E13>MAX('MDA2'!J13,'T1'!L13,MAX(T3_R1!K13,T3_R2!K13)),MAX('MDA2'!J13,'T1'!L13,MAX(T3_R1!K13,T3_R2!K13)),COUNTRY_INFO!E13),0)","v":15984},{"$f":"IF(AND(COUNTRY_INFO!J13>1,COUNTRY_INFO!J13<4), IF(T13/COUNTRY_INFO!E13*100<>0, IF(T13/COUNTRY_INFO!E13*100>100,100,T13/COUNTRY_INFO!E13*100), \"-\"),0)","v":64.358189724593331},{"$f":"IF(AND(COUNTRY_INFO!J13>1,COUNTRY_INFO!J13<4),IF(COUNTRY_INFO!F13>MAX('MDA1'!K13,'MDA2'!K13,'T1'!M13,MAX(T3_R1!L13,T3_R2!L13)),MAX('MDA1'!K13,'MDA2'!K13,'T1'!M13,MAX(T3_R1!L13,T3_R2!L13)),COUNTRY_INFO!F13),0)","v":14433},{"$f":"IF(AND(COUNTRY_INFO!J13>1,COUNTRY_INFO!J13<4), IF(V13/COUNTRY_INFO!F13*100<>0, IF(V13/COUNTRY_INFO!F13*100>100,100,V13/COUNTRY_INFO!F13*100), \"-\"),0)","v":27.324359629692736},30417,{"$f":"IF(AND(COUNTRY_INFO!J13>1,COUNTRY_INFO!J13<4), IF(S13/P13*100<>0, IF(X13/P13*100>100,100,X13/P13*100), \"-\"),0)","v":39.168394349511317},{"$f":"COUNTRY_INFO!O13","v":22324},null,null,{"$f":"MAX('T1'!L13,'T2'!J13)+MAX('T1'!M13,'T2'!K13)+MAX('T1'!N13,'T2'!L13)","v":17617},{"$f":"IF(COUNTRY_INFO!K13=1,IF(COUNTRY_INFO!F13*0.33>MAX('T1'!M13,'T2'!K13),MAX('T1'!M13,'T2'!K13),COUNTRY_INFO!F13*0.33),IF(COUNTRY_INFO!K13=2,IF(COUNTRY_INFO!F13*0.5>MAX('T1'!M13,'T2'!K13),MAX('T1'!M13,'T2'!K13),COUNTRY_INFO!F13*0.5),IF(COUNTRY_INFO!K13=3,IF(COUNTRY_INFO!F13>MAX('T1'!M13,'T2'!K13),MAX('T1'!M13,'T2'!K13),COUNTRY_INFO!F13),0)))","v":6810},{"$f":"IF(AND(COUNTRY_INFO!K13>0,COUNTRY_INFO!K13<4),IF(Z13>0,IF(COUNTRY_INFO!K13=1, AD13/(COUNTRY_INFO!F13*0.33)*100, IF(COUNTRY_INFO!K13=2, AD13/(COUNTRY_INFO!F13*0.5)*100, IF(COUNTRY_INFO!K13=3, AD13/COUNTRY_INFO!F13*100))),\"-\"),0)","v":12.892599534276139},{"$f":"IF(COUNTRY_INFO!K13=2,IF(COUNTRY_INFO!G13*0.2>MAX('T1'!N13,'T2'!L13),MAX('T1'!N13,'T2'!L13),COUNTRY_INFO!G13*0.2),IF(COUNTRY_INFO!K13=3,IF(COUNTRY_INFO!G13>MAX('T1'!N13,'T2'!L13),MAX('T1'!N13,'T2'!L13),COUNTRY_INFO!G13),0))","v":10807},{"$f":"IF(AND(COUNTRY_INFO!K13>0,COUNTRY_INFO!K13<4),IF(Z13>0,IF(COUNTRY_INFO!K13=1, 0, IF(COUNTRY_INFO!K13=2, AF13/(COUNTRY_INFO!G13*0.2)*100, IF(COUNTRY_INFO!K13=3, AF13/COUNTRY_INFO!G13*100))),\"-\"),0)","v":11.859533607681756},17617,{"$f":"IF(AND(COUNTRY_INFO!K13>0,COUNTRY_INFO!K13<4), IF(AC13/Z13*100<>0, IF(AH13/Z13*100>100,100,AH13/Z13*100), \"-\"),0)","v":78.915068984053036},null,{"$f":"IF(AND(D13<>0, D13<>\"Unknown\",D13<>\"Stopped\",D13<>\"Not required\"),D13/COUNTRY_INFO!D13, 0)","v":0},{"$f":"IF(AND(J13<>0,J13<>\"Unknown\",J13<>\"Stopped\",J13<>\"Not required\"),J13/COUNTRY_INFO!D13, 0)","v":0},{"$f":"IF(AND(P13<>0,P13<>\"Unknown\",P13<>\"Not required\"),P13/(COUNTRY_INFO!E13+COUNTRY_INFO!F13), 0)","v":1},{"$f":"IF(AND(Z13<>0,Z13<>\"Unknown\",Z13<>\"Not required\"),IF(COUNTRY_INFO!K13=1,1,IF(COUNTRY_INFO!K13=2,0.5*COUNTRY_INFO!F13/(0.5*COUNTRY_INFO!F13+0.2*COUNTRY_INFO!G13),IF(COUNTRY_INFO!K13=3,COUNTRY_INFO!F13/(COUNTRY_INFO!F13+COUNTRY_INFO!G13)))),0)","v":0.36695010628985869},{"$f":"IF(AND(Z13<>0,Z13<>\"Unknown\",Z13<>\"Not required\"),IF(COUNTRY_INFO!K13=1,0,IF(COUNTRY_INFO!K13=2,0.2*COUNTRY_INFO!G13/(0.5*COUNTRY_INFO!F13+0.2*COUNTRY_INFO!G13),IF(COUNTRY_INFO!K13=3,COUNTRY_INFO!G13/(COUNTRY_INFO!F13+COUNTRY_INFO!G13)))),0)","v":0.63304989371014131},{"$f":"MAX(COUNTRY_INFO!D13*AK13*PROFILE!$G$7,COUNTRY_INFO!D13*AL13*PROFILE!$G$7)","v":0},{"$f":"MAX(COUNTRY_INFO!D13*AK13*PROFILE!$G$8,COUNTRY_INFO!D13*AL13*PROFILE!$G$8,COUNTRY_INFO!D13*AM13*PROFILE!$G$8)","v":24836.356422351666},{"$f":"MAX(COUNTRY_INFO!D13*AK13*PROFILE!$G$9,COUNTRY_INFO!D13*AL13*PROFILE!$G$9,COUNTRY_INFO!D13*AM13*PROFILE!$G$9,IF(AND(DISTRICT!Z13<>\"Unknown\",Z13<>\"Not required\"),COUNTRY_INFO!O13*DISTRICT!AN13,0))","v":52821.015456633846},{"$f":"MAX(COUNTRY_INFO!D13*AK13*PROFILE!$G$10,COUNTRY_INFO!D13*AL13*PROFILE!$G$10,IF(AND(DISTRICT!Z13<>\"Unknown\",Z13<>\"Not required\"),COUNTRY_INFO!O13*DISTRICT!AO13,0))","v":14132.205827185195},91789.577706170719,"Y",{"$f":"MAX('MDA2'!J13,'T1'!L13,'T2'!J13,T3_R1!K13,T3_R2!K13)","v":15984},{"$f":"MAX('MDA1'!K13,'MDA2'!K13,'MDA3'!I13,'MDA3'!L13,'T1'!M13,'T2'!K13,T3_R1!L13,T3_R2!L13)","v":14433},{"$f":"MAX('MDA1'!L13,'MDA2'!L13,'MDA3'!J13,'MDA3'!M13,'T1'!N13,'T2'!L13,T3_R1!M13,T3_R2!M13)","v":10807},41224,{"$f":"MAX('MDA2'!J13,T13)","v":15984},{"$f":"MAX('MDA1'!K13,'MDA2'!K13,'MDA3'!I13,'MDA3'!L13,V13,AD13)","v":14433},{"$f":"MAX('MDA1'!L13,'MDA2'!L13,'MDA3'!J13,'MDA3'!M13,AF13)","v":10807},41224,44.911416993291873]
[{"$f":"IF(COUNTRY_INFO!A14=0,\" \",COUNTRY_INFO!A14)","v":"Uganda"},{"$f":"IF(COUNTRY_INFO!B14=0,\" \",COUNTRY_INFO!B14)","v":"Central "},{"$f":"IF(COUNTRY_INFO!C14=0,\" \",COUNTRY_INFO!C14)","v":"Kalangala"},{"$f":"COUNTRY_INFO!L14","v":0},null,null,{"$f":"MAX('MDA1'!M14,'MDA2'!M14)","v":0},{"$f":"IF(AND(COUNTRY_INFO!H14>0,COUNTRY_INFO!H14<4),IF(D14>MAX('MDA1'!M14,'MDA2'!M14),MAX('MDA1'!M14,'MDA2'!M14),D14),0)","v":0},{"$f":"IF(AND(COUNTRY_INFO!H14>0,COUNTRY_INFO!H14<4), IF(G14/D14*100<>0, IF(G14/D14*100>100,100,G14/D14*100), \"-\"),0)","v":0},{"$f":"COUNTRY_INFO!M14","v":0},null,null,{"$f":"MAX('MDA1'!M14,MAX('MDA3'!I14,'MDA3'!L14)+MAX('MDA3'!J14,'MDA3'!M14))","v":0},{"$f":"IF(AND(COUNTRY_INFO!I14>0,COUNTRY_INFO!I14<4),IF(J14>MAX('MDA1'!M14,MAX('MDA3'!I14,'MDA3'!L14)+MAX('MDA3'!J14,'MDA3'!M14)),MAX('MDA1'!M14,MAX('MDA3'!I14,'MDA3'!L14)+MAX('MDA3'!J14,'MDA3'!M14)),J14),0)","v":0},{"$f":"IF(AND(COUNTRY_INFO!I14>0,COUNTRY_INFO!I14<4), IF(M14/J14*100<>0, IF(M14/J14*100>100,100,M14/J14*100), \"-\"),0)","v":0},{"$f":"COUNTRY_INFO!N14","v":26364},null,null,{"$f":"SUM(MAX('MDA2'!J14, 'T1'!L14, MAX(T3_R1!K14, T3_R2!K14)), MAX('MDA1'!K14, 'MDA2'!K14, 'T1'!M14, MAX(T3_R1!L14, T3_R2!L14)), MAX('MDA1'!L14, 'MDA2'!L14, 'T1'!N14, MAX(T3_R1!M14, T3_R2!M14)))","v":18093},{"$f":"IF(AND(COUNTRY_INFO!J14>1,COUNTRY_INFO!J14<4),IF(COUNTRY_INFO!E14>MAX('MDA2'!J14,'T1'!L14,MAX(T3_R1!K14,T3_R2!K14)),MAX('MDA2'!J14,'T1'!L14,MAX(T3_R1!K14,T3_R2!K14)),COUNTRY_INFO!E14),0)","v":8432},{"$f":"IF(AND(COUNTRY_INFO!J14>1,COUNTRY_INFO!J14<4), IF(T14/COUNTRY_INFO!E14*100<>0, IF(T14/COUNTRY_INFO!E14*100>100,100,T14/COUNTRY_INFO!E14*100), \"-\"),0)","v":100},{"$f":"IF(AND(COUNTRY_INFO!J14>1,COUNTRY_INFO!J14<4),IF(COUNTRY_INFO!F14>MAX('MDA1'!K14,'MDA2'!K14,'T1'!M14,MAX(T3_R1!L14,T3_R2!L14)),MAX('MDA1'!K14,'MDA2'!K14,'T1'!M14,MAX(T3_R1!L14,T3_R2!L14)),COUNTRY_INFO!F14),0)","v":6409},{"$f":"IF(AND(COUNTRY_INFO!J14>1,COUNTRY_INFO!J14<4), IF(V14/COUNTRY_INFO!F14*100<>0, IF(V14/COUNTRY_INFO!F14*100>100,100,V14/COUNTRY_INFO!F14*100), \"-\"),0)","v":35.740575507472677},14841,{"$f":"IF(AND(COUNTRY_INFO!J14>1,COUNTRY_INFO!J14<4), IF(S14/P14*100<>0, IF(X14/P14*100>100,100,X14/P14*100), \"-\"),0)","v":56.292671825216203},{"$f":"COUNTRY_INFO!O14","v":44622},null,null,{"$f":"MAX('T1'!L14,'T2'!J14)+MAX('T1'!M14,'T2'!K14)+MAX('T1'!N14,'T2'!L14)","v":37200},{"$f":"IF(COUNTRY_INFO!K14=1,IF(COUNTRY_INFO!F14*0.33>MAX('T1'!M14,'T2'!K14),MAX('T1'!M14,'T2'!K14),COUNTRY_INFO!F14*0.33),IF(COUNTRY_INFO!K14=2,IF(COUNTRY_INFO!F14*0.5>MAX('T1'!M14,'T2'!K14),MAX('T1'!M14,'T2'!K14),COUNTRY_INFO!F14*0.5),IF(COUNTRY_INFO!K14=3,IF(COUNTRY_INFO!F14>MAX('T1'!M14,'T2'!K14),MAX('T1'!M14,'T2'!K14),COUNTRY_INFO!F14),0)))","v":8487},{"$f":"IF(AND(COUNTRY_INFO!K14>0,COUNTRY_INFO!K14<4),IF(Z14>0,IF(COUNTRY_INFO!K14=1, AD14/(COUNTRY_INFO!F14*0.33)*100, IF(COUNTRY_INFO!K14=2, AD14/(COUNTRY_INFO!F14*0.5)*100, IF(COUNTRY_INFO!K14=3, AD14/COUNTRY_INFO!F14*100))),\"-\"),0)","v":47.328797680124914},{"$f":"IF(COUNTRY_INFO!K14=2,IF(COUNTRY_INFO!G14*0.2>MAX('T1'!N14,'T2'!L14),MAX('T1'!N14,'T2'!L14),COUNTRY_INFO!G14*0.2),IF(COUNTRY_INFO!K14=3,IF(COUNTRY_INFO!G14>MAX('T1'!N14,'T2'!L14),MAX('T1'!N14,'T2'!L14),COUNTRY_INFO!G14),0))","v":28713},{"$f":"IF(AND(COUNTRY_INFO!K14>0,COUNTRY_INFO!K14<4),IF(Z14>0,IF(COUNTRY_INFO!K14=1, 0, IF(COUNTRY_INFO!K14=2, AF14/(COUNTRY_INFO!G14*0.2)*100, IF(COUNTRY_INFO!K14=3, AF14/COUNTRY_INFO!G14*100))),\"-\"),0)","v":92.814197051978269},37200,{"$f":"IF(AND(COUNTRY_INFO!K14>0,COUNTRY_INFO!K14<4), IF(AC14/Z14*100<>0, IF(AH14/Z14*100>100,100,AH14/Z14*100), \"-\"),0)","v":83.366949038590832},null,{"$f":"IF(AND(D14<>0, D14<>\"Unknown\",D14<>\"Stopped\",D14<>\"Not required\"),D14/COUNTRY_INFO!D14, 0)","v":0},{"$f":"IF(AND(J14<>0,J14<>\"Unknown\",J14<>\"Stopped\",J14<>\"Not required\"),J14/COUNTRY_INFO!D14, 0)","v":0},{"$f":"IF(AND(P14<>0,P14<>\"Unknown\",P14<>\"Not required\"),P14/(COUNTRY_INFO!E14+COUNTRY_INFO!F14), 0)","v":1},{"$f":"IF(AND(Z14<>0,Z14<>\"Unknown\",Z14<>\"Not required\"),IF(COUNTRY_INFO!K14=1,1,IF(COUNTRY_INFO!K14=2,0.5*COUNTRY_INFO!F14/(0.5*COUNTRY_INFO!F14+0.2*COUNTRY_INFO!G14),IF(COUNTRY_INFO!K14=3,COUNTRY_INFO!F14/(COUNTRY_INFO!F14+COUNTRY_INFO!G14)))),0)","v":0.36694769583367437},{"$f":"IF(AND(Z14<>0,Z14<>\"Unknown\",Z14<>\"Not required\"),IF(COUNTRY_INFO!K14=1,0,IF(COUNTRY_INFO!K14=2,0.2*COUNTRY_INFO!G14/(0.5*COUNTRY_INFO!F14+0.2*COUNTRY_INFO!G14),IF(COUNTRY_INFO!K14=3,COUNTRY_INFO!G14/(COUNTRY_INFO!F14+COUNTRY_INFO!G14)))),0)","v":0.63305230416632563},{"$f":"MAX(COUNTRY_INFO!D14*AK14*PROFILE!$G$7,COUNTRY_INFO!D14*AL14*PROFILE!$G$7)","v":0},{"$f":"MAX(COUNTRY_INFO!D14*AK14*PROFILE!$G$8,COUNTRY_INFO!D14*AL14*PROFILE!$G$8,COUNTRY_INFO!D14*AM14*PROFILE!$G$8)","v":8431.8140694484955},{"$f":"MAX(COUNTRY_INFO!D14*AK14*PROFILE!$G$9,COUNTRY_INFO!D14*AL14*PROFILE!$G$9,COUNTRY_INFO!D14*AM14*PROFILE!$G$9,IF(AND(DISTRICT!Z14<>\"Unknown\",Z14<>\"Not required\"),COUNTRY_INFO!O14*DISTRICT!AN14,0))","v":17932.460531488479},{"$f":"MAX(COUNTRY_INFO!D14*AK14*PROFILE!$G$10,COUNTRY_INFO!D14*AL14*PROFILE!$G$10,IF(AND(DISTRICT!Z14<>\"Unknown\",Z14<>\"Not required\"),COUNTRY_INFO!O14*DISTRICT!AO14,0))","v":28248.059916509781},54612.334517446754,"Y",{"$f":"MAX('MDA2'!J14,'T1'!L14,'T2'!J14,T3_R1!K14,T3_R2!K14)","v":11684},{"$f":"MAX('MDA1'!K14,'MDA2'!K14,'MDA3'!I14,'MDA3'!L14,'T1'!M14,'T2'!K14,T3_R1!L14,T3_R2!L14)","v":8487},{"$f":"MAX('MDA1'!L14,'MDA2'!L14,'MDA3'!J14,'MDA3'!M14,'T1'!N14,'T2'!L14,T3_R1!M14,T3_R2!M14)","v":28713},48884,{"$f":"MAX('MDA2'!J14,T14)","v":8432},{"$f":"MAX('MDA1'!K14,'MDA2'!K14,'MDA3'!I14,'MDA3'!L14,V14,AD14)","v":8487},{"$f":"MAX('MDA1'!L14,'MDA2'!L14,'MDA3'!J14,'MDA3'!M14,AF14)","v":28713},45632,83.556215648357153]
[{"$f":"IF(COUNTRY_INFO!A15=0,\" \",COUNTRY_INFO!A15)","v":"Uganda"},{"$f":"IF(COUNTRY_INFO!B15=0,\" \",COUNTRY_INFO!B15)","v":"Central "},{"$f":"IF(COUNTRY_INFO!C15=0,\" \",COUNTRY_INFO!C15)","v":"Kalungu"},{"$f":"COUNTRY_INFO!L15","v":0},null,null,{"$f":"MAX('MDA1'!M15,'MDA2'!M15)","v":0},{"$f":"IF(AND(COUNTRY_INFO!H15>0,COUNTRY_INFO!H15<4),IF(D15>MAX('MDA1'!M15,'MDA2'!M15),MAX('MDA1'!M15,'MDA2'!M15),D15),0)","v":0},{"$f":"IF(AND(COUNTRY_INFO!H15>0,COUNTRY_INFO!H15<4), IF(G15/D15*100<>0, IF(G15/D15*100>100,100,G15/D15*100), \"-\"),0)","v":0},{"$f":"COUNTRY_INFO!M15","v":0},null,null,{"$f":"MAX('MDA1'!M15,MAX('MDA3'!I15,'MDA3'!L15)+MAX('MDA3'!J15,'MDA3'!M15))","v":0},{"$f":"IF(AND(COUNTRY_INFO!I15>0,COUNTRY_INFO!I15<4),IF(J15>MAX('MDA1'!M15,MAX('MDA3'!I15,'MDA3'!L15)+MAX('MDA3'!J15,'MDA3'!M15)),MAX('MDA1'!M15,MAX('MDA3'!I15,'MDA3'!L15)+MAX('MDA3'!J15,'MDA3'!M15)),J15),0)","v":0},{"$f":"IF(AND(COUNTRY_INFO!I15>0,COUNTRY_INFO!I15<4), IF(M15/J15*100<>0, IF(M15/J15*100>100,100,M15/J15*100), \"-\"),0)","v":0},{"$f":"COUNTRY_INFO!N15","v":88976},null,null,{"$f":"SUM(MAX('MDA2'!J15, 'T1'!L15, MAX(T3_R1!K15, T3_R2!K15)), MAX('MDA1'!K15, 'MDA2'!K15, 'T1'!M15, MAX(T3_R1!L15, T3_R2!L15)), MAX('MDA1'!L15, 'MDA2'!L15, 'T1'!N15, MAX(T3_R1!M15, T3_R2!M15)))","v":74544},{"$f":"IF(AND(COUNTRY_INFO!J15>1,COUNTRY_INFO!J15<4),IF(COUNTRY_INFO!E15>MAX('MDA2'!J15,'T1'!L15,MAX(T3_R1!K15,T3_R2!K15)),MAX('MDA2'!J15,'T1'!L15,MAX(T3_R1!K15,T3_R2!K15)),COUNTRY_INFO!E15),0)","v":28456},{"$f":"IF(AND(COUNTRY_INFO!J15>1,COUNTRY_INFO!J15<4), IF(T15/COUNTRY_INFO!E15*100<>0, IF(T15/COUNTRY_INFO!E15*100>100,100,T15/COUNTRY_INFO!E15*100), \"-\"),0)","v":100},{"$f":"IF(AND(COUNTRY_INFO!J15>1,COUNTRY_INFO!J15<4),IF(COUNTRY_INFO!F15>MAX('MDA1'!K15,'MDA2'!K15,'T1'!M15,MAX(T3_R1!L15,T3_R2!L15)),MAX('MDA1'!K15,'MDA2'!K15,'T1'!M15,MAX(T3_R1!L15,T3_R2!L15)),COUNTRY_INFO!F15),0)","v":21831},{"$f":"IF(AND(COUNTRY_INFO!J15>1,COUNTRY_INFO!J15<4), IF(V15/COUNTRY_INFO!F15*100<>0, IF(V15/COUNTRY_INFO!F15*100>100,100,V15/COUNTRY_INFO!F15*100), \"-\"),0)","v":36.072372769332453},50287,{"$f":"IF(AND(COUNTRY_INFO!J15>1,COUNTRY_INFO!J15<4), IF(S15/P15*100<>0, IF(X15/P15*100>100,100,X15/P15*100), \"-\"),0)","v":56.517487861895347},{"$f":"COUNTRY_INFO!O15","v":20777},null,null,{"$f":"MAX('T1'!L15,'T2'!J15)+MAX('T1'!M15,'T2'!K15)+MAX('T1'!N15,'T2'!L15)","v":18867},{"$f":"IF(COUNTRY_INFO!K15=1,IF(COUNTRY_INFO!F15*0.33>MAX('T1'!M15,'T2'!K15),MAX('T1'!M15,'T2'!K15),COUNTRY_INFO!F15*0.33),IF(COUNTRY_INFO!K15=2,IF(COUNTRY_INFO!F15*0.5>MAX('T1'!M15,'T2'!K15),MAX('T1'!M15,'T2'!K15),COUNTRY_INFO!F15*0.5),IF(COUNTRY_INFO!K15=3,IF(COUNTRY_INFO!F15>MAX('T1'!M15,'T2'!K15),MAX('T1'!M15,'T2'!K15),COUNTRY_INFO!F15),0)))","v":18867},{"$f":"IF(AND(COUNTRY_INFO!K15>0,COUNTRY_INFO!K15<4),IF(Z15>0,IF(COUNTRY_INFO!K15=1, AD15/(COUNTRY_INFO!F15*0.33)*100, IF(COUNTRY_INFO!K15=2, AD15/(COUNTRY_INFO!F15*0.5)*100, IF(COUNTRY_INFO!K15=3, AD15/COUNTRY_INFO!F15*100))),\"-\"),0)","v":94.469146187586361},{"$f":"IF(COUNTRY_INFO!K15=2,IF(COUNTRY_INFO!G15*0.2>MAX('T1'!N15,'T2'!L15),MAX('T1'!N15,'T2'!L15),COUNTRY_INFO!G15*0.2),IF(COUNTRY_INFO!K15=3,IF(COUNTRY_INFO!G15>MAX('T1'!N15,'T2'!L15),MAX('T1'!N15,'T2'!L15),COUNTRY_INFO!G15),0))","v":0},{"$f":"IF(AND(COUNTRY_INFO!K15>0,COUNTRY_INFO!K15<4),IF(Z15>0,IF(COUNTRY_INFO!K15=1, 0, IF(COUNTRY_INFO!K15=2, AF15/(COUNTRY_INFO!G15*0.2)*100, IF(COUNTRY_INFO!K15=3, AF15/COUNTRY_INFO!G15*100))),\"-\"),0)","v":0},18867,{"$f":"IF(AND(COUNTRY_INFO!K15>0,COUNTRY_INFO!K15<4), IF(AC15/Z15*100<>0, IF(AH15/Z15*100>100,100,AH15/Z15*100), \"-\"),0)","v":90.807142513356112},null,{"$f":"IF(AND(D15<>0, D15<>\"Unknown\",D15<>\"Stopped\",D15<>\"Not required\"),D15/COUNTRY_INFO!D15, 0)","v":0},{"$f":"IF(AND(J15<>0,J15<>\"Unknown\",J15<>\"Stopped\",J15<>\"Not required\"),J15/COUNTRY_INFO!D15, 0)","v":0},{"$f":"IF(AND(P15<>0,P15<>\"Unknown\",P15<>\"Not required\"),P15/(COUNTRY_INFO!E15+COUNTRY_INFO!F15), 0)","v":1},{"$f":"IF(AND(Z15<>0,Z15<>\"Unknown\",Z15<>\"Not required\"),IF(COUNTRY_INFO!K15=1,1,IF(COUNTRY_INFO!K15=2,0.5*COUNTRY_INFO!F15/(0.5*COUNTRY_INFO!F15+0.2*COUNTRY_INFO!G15),IF(COUNTRY_INFO!K15=3,COUNTRY_INFO!F15/(COUNTRY_INFO!F15+COUNTRY_INFO!G15)))),0)","v":1},{"$f":"IF(AND(Z15<>0,Z15<>\"Unknown\",Z15<>\"Not required\"),IF(COUNTRY_INFO!K15=1,0,IF(COUNTRY_INFO!K15=2,0.2*COUNTRY_INFO!G15/(0.5*COUNTRY_INFO!F15+0.2*COUNTRY_INFO!G15),IF(COUNTRY_INFO!K15=3,COUNTRY_INFO!G15/(COUNTRY_INFO!F15+COUNTRY_INFO!G15)))),0)","v":0},{"$f":"MAX(COUNTRY_INFO!D15*AK15*PROFILE!$G$7,COUNTRY_INFO!D15*AL15*PROFILE!$G$7)","v":0},{"$f":"MAX(COUNTRY_INFO!D15*AK15*PROFILE!$G$8,COUNTRY_INFO!D15*AL15*PROFILE!$G$8,COUNTRY_INFO!D15*AM15*PROFILE!$G$8)","v":28456.360734860307},{"$f":"MAX(COUNTRY_INFO!D15*AK15*PROFILE!$G$9,COUNTRY_INFO!D15*AL15*PROFILE!$G$9,COUNTRY_INFO!D15*AM15*PROFILE!$G$9,IF(AND(DISTRICT!Z15<>\"Unknown\",Z15<>\"Not required\"),COUNTRY_INFO!O15*DISTRICT!AN15,0))","v":60519.902543469856},{"$f":"MAX(COUNTRY_INFO!D15*AK15*PROFILE!$G$10,COUNTRY_INFO!D15*AL15*PROFILE!$G$10,IF(AND(DISTRICT!Z15<>\"Unknown\",Z15<>\"Not required\"),COUNTRY_INFO!O15*DISTRICT!AO15,0))","v":0},88976.263278330167,"Y",{"$f":"MAX('MDA2'!J15,'T1'!L15,'T2'!J15,T3_R1!K15,T3_R2!K15)","v":52713},{"$f":"MAX('MDA1'!K15,'MDA2'!K15,'MDA3'!I15,'MDA3'!L15,'T1'!M15,'T2'!K15,T3_R1!L15,T3_R2!L15)","v":21831},{"$f":"MAX('MDA1'!L15,'MDA2'!L15,'MDA3'!J15,'MDA3'!M15,'T1'!N15,'T2'!L15,T3_R1!M15,T3_R2!M15)","v":0},74544,{"$f":"MAX('MDA2'!J15,T15)","v":28456},{"$f":"MAX('MDA1'!K15,'MDA2'!K15,'MDA3'!I15,'MDA3'!L15,V15,AD15)","v":21831},{"$f":"MAX('MDA1'!L15,'MDA2'!L15,'MDA3'!J15,'MDA3'!M15,AF15)","v":0},50287,56.517320628194113]
[{"$f":"IF(COUNTRY_INFO!A16=0,\" \",COUNTRY_INFO!A16)","v":"Uganda"},{"$f":"IF(COUNTRY_INFO!B16=0,\" \",COUNTRY_INFO!B16)","v":"Central "},{"$f":"IF(COUNTRY_INFO!C16=0,\" \",COUNTRY_INFO!C16)","v":"Kampala"},{"$f":"COUNTRY_INFO!L16","v":0},null,null,{"$f":"MAX('MDA1'!M16,'MDA2'!M16)","v":0},{"$f":"IF(AND(COUNTRY_INFO!H16>0,COUNTRY_INFO!H16<4),IF(D16>MAX('MDA1'!M16,'MDA2'!M16),MAX('MDA1'!M16,'MDA2'!M16),D16),0)","v":0},{"$f":"IF(AND(COUNTRY_INFO!H16>0,COUNTRY_INFO!H16<4), IF(G16/D16*100<>0, IF(G16/D16*100>100,100,G16/D16*100), \"-\"),0)","v":0},{"$f":"COUNTRY_INFO!M16","v":0},null,null,{"$f":"MAX('MDA1'!M16,MAX('MDA3'!I16,'MDA3'!L16)+MAX('MDA3'!J16,'MDA3'!M16))","v":0},{"$f":"IF(AND(COUNTRY_INFO!I16>0,COUNTRY_INFO!I16<4),IF(J16>MAX('MDA1'!M16,MAX('MDA3'!I16,'MDA3'!L16)+MAX('MDA3'!J16,'MDA3'!M16)),MAX('MDA1'!M16,MAX('MDA3'!I16,'MDA3'!L16)+MAX('MDA3'!J16,'MDA3'!M16)),J16),0)","v":0},{"$f":"IF(AND(COUNTRY_INFO!I16>0,COUNTRY_INFO!I16<4), IF(M16/J16*100<>0, IF(M16/J16*100>100,100,M16/J16*100), \"-\"),0)","v":0},{"$f":"COUNTRY_INFO!N16","v":731831},null,null,{"$f":"SUM(MAX('MDA2'!J16, 'T1'!L16, MAX(T3_R1!K16, T3_R2!K16)), MAX('MDA1'!K16, 'MDA2'!K16, 'T1'!M16, MAX(T3_R1!L16, T3_R2!L16)), MAX('MDA1'!L16, 'MDA2'!L16, 'T1'!N16, MAX(T3_R1!M16, T3_R2!M16)))","v":121690},{"$f":"IF(AND(COUNTRY_INFO!J16>1,COUNTRY_INFO!J16<4),IF(COUNTRY_INFO!E16>MAX('MDA2'!J16,'T1'!L16,MAX(T3_R1!K16,T3_R2!K16)),MAX('MDA2'!J16,'T1'!L16,MAX(T3_R1!K16,T3_R2!K16)),COUNTRY_INFO!E16),0)","v":77054},{"$f":"IF(AND(COUNTRY_INFO!J16>1,COUNTRY_INFO!J16<4), IF(T16/COUNTRY_INFO!E16*100<>0, IF(T16/COUNTRY_INFO!E16*100>100,100,T16/COUNTRY_INFO!E16*100), \"-\"),0)","v":32.921462568467106},{"$f":"IF(AND(COUNTRY_INFO!J16>1,COUNTRY_INFO!J16<4),IF(COUNTRY_INFO!F16>MAX('MDA1'!K16,'MDA2'!K16,'T1'!M16,MAX(T3_R1!L16,T3_R2!L16)),MAX('MDA1'!K16,'MDA2'!K16,'T1'!M16,MAX(T3_R1!L16,T3_R2!L16)),COUNTRY_INFO!F16),0)","v":44636},{"$f":"IF(AND(COUNTRY_INFO!J16>1,COUNTRY_INFO!J16<4), IF(V16/COUNTRY_INFO!F16*100<>0, IF(V16/COUNTRY_INFO!F16*100>100,100,V16/COUNTRY_INFO!F16*100), \"-\"),0)","v":8.9670675824716692},121690,{"$f":"IF(AND(COUNTRY_INFO!J16>1,COUNTRY_INFO!J16<4), IF(S16/P16*100<>0, IF(X16/P16*100>100,100,X16/P16*100), \"-\"),0)","v":16.628155954038569},{"$f":"COUNTRY_INFO!O16","v":0},null,null,{"$f":"MAX('T1'!L16,'T2'!J16)+MAX('T1'!M16,'T2'!K16)+MAX('T1'!N16,'T2'!L16)","v":0},{"$f":"IF(COUNTRY_INFO!K16=1,IF(COUNTRY_INFO!F16*0.33>MAX('T1'!M16,'T2'!K16),MAX('T1'!M16,'T2'!K16),COUNTRY_INFO!F16*0.33),IF(COUNTRY_INFO!K16=2,IF(COUNTRY_INFO!F16*0.5>MAX('T1'!M16,'T2'!K16),MAX('T1'!M16,'T2'!K16),COUNTRY_INFO!F16*0.5),IF(COUNTRY_INFO!K16=3,IF(COUNTRY_INFO!F16>MAX('T1'!M16,'T2'!K16),MAX('T1'!M16,'T2'!K16),COUNTRY_INFO!F16),0)))","v":0},{"$f":"IF(AND(COUNTRY_INFO!K16>0,COUNTRY_INFO!K16<4),IF(Z16>0,IF(COUNTRY_INFO!K16=1, AD16/(COUNTRY_INFO!F16*0.33)*100, IF(COUNTRY_INFO!K16=2, AD16/(COUNTRY_INFO!F16*0.5)*100, IF(COUNTRY_INFO!K16=3, AD16/COUNTRY_INFO!F16*100))),\"-\"),0)","v":0},{"$f":"IF(COUNTRY_INFO!K16=2,IF(COUNTRY_INFO!G16*0.2>MAX('T1'!N16,'T2'!L16),MAX('T1'!N16,'T2'!L16),COUNTRY_INFO!G16*0.2),IF(COUNTRY_INFO!K16=3,IF(COUNTRY_INFO!G16>MAX('T1'!N16,'T2'!L16),MAX('T1'!N16,'T2'!L16),COUNTRY_INFO!G16),0))","v":0},{"$f":"IF(AND(COUNTRY_INFO!K16>0,COUNTRY_INFO!K16<4),IF(Z16>0,IF(COUNTRY_INFO!K16=1, 0, IF(COUNTRY_INFO!K16=2, AF16/(COUNTRY_INFO!G16*0.2)*100, IF(COUNTRY_INFO!K16=3, AF16/COUNTRY_INFO!G16*100))),\"-\"),0)","v":0},0,{"$f":"IF(AND(COUNTRY_INFO!K16>0,COUNTRY_INFO!K16<4), IF(AC16/Z16*100<>0, IF(AH16/Z16*100>100,100,AH16/Z16*100), \"-\"),0)","v":0},null,{"$f":"IF(AND(D16<>0, D16<>\"Unknown\",D16<>\"Stopped\",D16<>\"Not required\"),D16/COUNTRY_INFO!D16, 0)","v":0},{"$f":"IF(AND(J16<>0,J16<>\"Unknown\",J16<>\"Stopped\",J16<>\"Not required\"),J16/COUNTRY_INFO!D16, 0)","v":0},{"$f":"IF(AND(P16<>0,P16<>\"Unknown\",P16<>\"Not required\"),P16/(COUNTRY_INFO!E16+COUNTRY_INFO!F16), 0)","v":1},{"$f":"IF(AND(Z16<>0,Z16<>\"Unknown\",Z16<>\"Not required\"),IF(COUNTRY_INFO!K16=1,1,IF(COUNTRY_INFO!K16=2,0.5*COUNTRY_INFO!F16/(0.5*COUNTRY_INFO!F16+0.2*COUNTRY_INFO!G16),IF(COUNTRY_INFO!K16=3,COUNTRY_INFO!F16/(COUNTRY_INFO!F16+COUNTRY_INFO!G16)))),0)","v":0},{"$f":"IF(AND(Z16<>0,Z16<>\"Unknown\",Z16<>\"Not required\"),IF(COUNTRY_INFO!K16=1,0,IF(COUNTRY_INFO!K16=2,0.2*COUNTRY_INFO!G16/(0.5*COUNTRY_INFO!F16+0.2*COUNTRY_INFO!G16),IF(COUNTRY_INFO!K16=3,COUNTRY_INFO!G16/(COUNTRY_INFO!F16+COUNTRY_INFO!G16)))),0)","v":0},{"$f":"MAX(COUNTRY_INFO!D16*AK16*PROFILE!$G$7,COUNTRY_INFO!D16*AL16*PROFILE!$G$7)","v":0},{"$f":"MAX(COUNTRY_INFO!D16*AK16*PROFILE!$G$8,COUNTRY_INFO!D16*AL16*PROFILE!$G$8,COUNTRY_INFO!D16*AM16*PROFILE!$G$8)","v":234053.80489411514},{"$f":"MAX(COUNTRY_INFO!D16*AK16*PROFILE!$G$9,COUNTRY_INFO!D16*AL16*PROFILE!$G$9,COUNTRY_INFO!D16*AM16*PROFILE!$G$9,IF(AND(DISTRICT!Z16<>\"Unknown\",Z16<>\"Not required\"),COUNTRY_INFO!O16*DISTRICT!AN16,0))","v":497776.70427011099},{"$f":"MAX(COUNTRY_INFO!D16*AK16*PROFILE!$G$10,COUNTRY_INFO!D16*AL16*PROFILE!$G$10,IF(AND(DISTRICT!Z16<>\"Unknown\",Z16<>\"Not required\"),COUNTRY_INFO!O16*DISTRICT!AO16,0))","v":0},731830.50916422612,"Y",{"$f":"MAX('MDA2'!J16,'T1'!L16,'T2'!J16,T3_R1!K16,T3_R2!K16)","v":77054},{"$f":"MAX('MDA1'!K16,'MDA2'!K16,'MDA3'!I16,'MDA3'!L16,'T1'!M16,'T2'!K16,T3_R1!L16,T3_R2!L16)","v":44636},{"$f":"MAX('MDA1'!L16,'MDA2'!L16,'MDA3'!J16,'MDA3'!M16,'T1'!N16,'T2'!L16,T3_R1!M16,T3_R2!M16)","v":0},121690,{"$f":"MAX('MDA2'!J16,T16)","v":77054},{"$f":"MAX('MDA1'!K16,'MDA2'!K16,'MDA3'!I16,'MDA3'!L16,V16,AD16)","v":44636},{"$f":"MAX('MDA1'!L16,'MDA2'!L16,'MDA3'!J16,'MDA3'!M16,AF16)","v":0},121690,16.628167106475772]
[{"$f":"IF(COUNTRY_INFO!A17=0,\" \",COUNTRY_INFO!A17)","v":"Uganda"},{"$f":"IF(COUNTRY_INFO!B17=0,\" \",COUNTRY_INFO!B17)","v":"Central "},{"$f":"IF(COUNTRY_INFO!C17=0,\" \",COUNTRY_INFO!C17)","v":"Kayunga"},{"$f":"COUNTRY_INFO!L17","v":0},null,null,{"$f":"MAX('MDA1'!M17,'MDA2'!M17)","v":0},{"$f":"IF(AND(COUNTRY_INFO!H17>0,COUNTRY_INFO!H17<4),IF(D17>MAX('MDA1'!M17,'MDA2'!M17),MAX('MDA1'!M17,'MDA2'!M17),D17),0)","v":0},{"$f":"IF(AND(COUNTRY_INFO!H17>0,COUNTRY_INFO!H17<4), IF(G17/D17*100<>0, IF(G17/D17*100>100,100,G17/D17*100), \"-\"),0)","v":0},{"$f":"COUNTRY_INFO!M17","v":0},null,null,{"$f":"MAX('MDA1'!M17,MAX('MDA3'!I17,'MDA3'!L17)+MAX('MDA3'!J17,'MDA3'!M17))","v":0},{"$f":"IF(AND(COUNTRY_INFO!I17>0,COUNTRY_INFO!I17<4),IF(J17>MAX('MDA1'!M17,MAX('MDA3'!I17,'MDA3'!L17)+MAX('MDA3'!J17,'MDA3'!M17)),MAX('MDA1'!M17,MAX('MDA3'!I17,'MDA3'!L17)+MAX('MDA3'!J17,'MDA3'!M17)),J17),0)","v":0},{"$f":"IF(AND(COUNTRY_INFO!I17>0,COUNTRY_INFO!I17<4), IF(M17/J17*100<>0, IF(M17/J17*100>100,100,M17/J17*100), \"-\"),0)","v":0},{"$f":"COUNTRY_INFO!N17","v":178729},null,null,{"$f":"SUM(MAX('MDA2'!J17, 'T1'!L17, MAX(T3_R1!K17, T3_R2!K17)), MAX('MDA1'!K17, 'MDA2'!K17, 'T1'!M17, MAX(T3_R1!L17, T3_R2!L17)), MAX('MDA1'!L17, 'MDA2'!L17, 'T1'!N17, MAX(T3_R1!M17, T3_R2!M17)))","v":58379},{"$f":"IF(AND(COUNTRY_INFO!J17>1,COUNTRY_INFO!J17<4),IF(COUNTRY_INFO!E17>MAX('MDA2'!J17,'T1'!L17,MAX(T3_R1!K17,T3_R2!K17)),MAX('MDA2'!J17,'T1'!L17,MAX(T3_R1!K17,T3_R2!K17)),COUNTRY_INFO!E17),0)","v":29284},{"$f":"IF(AND(COUNTRY_INFO!J17>1,COUNTRY_INFO!J17<4), IF(T17/COUNTRY_INFO!E17*100<>0, IF(T17/COUNTRY_INFO!E17*100>100,100,T17/COUNTRY_INFO!E17*100), \"-\"),0)","v":51.23073424187821},{"$f":"IF(AND(COUNTRY_INFO!J17>1,COUNTRY_INFO!J17<4),IF(COUNTRY_INFO!F17>MAX('MDA1'!K17,'MDA2'!K17,'T1'!M17,MAX(T3_R1!L17,T3_R2!L17)),MAX('MDA1'!K17,'MDA2'!K17,'T1'!M17,MAX(T3_R1!L17,T3_R2!L17)),COUNTRY_INFO!F17),0)","v":29095},{"$f":"IF(AND(COUNTRY_INFO!J17>1,COUNTRY_INFO!J17<4), IF(V17/COUNTRY_INFO!F17*100<>0, IF(V17/COUNTRY_INFO!F17*100>100,100,V17/COUNTRY_INFO!F17*100), \"-\"),0)","v":23.933107396683337},58379,{"$f":"IF(AND(COUNTRY_INFO!J17>1,COUNTRY_INFO!J17<4), IF(S17/P17*100<>0, IF(X17/P17*100>100,100,X17/P17*100), \"-\"),0)","v":32.663417800133161},{"$f":"COUNTRY_INFO!O17","v":105580},null,null,{"$f":"MAX('T1'!L17,'T2'!J17)+MAX('T1'!M17,'T2'!K17)+MAX('T1'!N17,'T2'!L17)","v":91062},{"$f":"IF(COUNTRY_INFO!K17=1,IF(COUNTRY_INFO!F17*0.33>MAX('T1'!M17,'T2'!K17),MAX('T1'!M17,'T2'!K17),COUNTRY_INFO!F17*0.33),IF(COUNTRY_INFO!K17=2,IF(COUNTRY_INFO!F17*0.5>MAX('T1'!M17,'T2'!K17),MAX('T1'!M17,'T2'!K17),COUNTRY_INFO!F17*0.5),IF(COUNTRY_INFO!K17=3,IF(COUNTRY_INFO!F17>MAX('T1'!M17,'T2'!K17),MAX('T1'!M17,'T2'!K17),COUNTRY_INFO!F17),0)))","v":45869},{"$f":"IF(AND(COUNTRY_INFO!K17>0,COUNTRY_INFO!K17<4),IF(Z17>0,IF(COUNTRY_INFO!K17=1, AD17/(COUNTRY_INFO!F17*0.33)*100, IF(COUNTRY_INFO!K17=2, AD17/(COUNTRY_INFO!F17*0.5)*100, IF(COUNTRY_INFO!K17=3, AD17/COUNTRY_INFO!F17*100))),\"-\"),0)","v":37.73114635430376},{"$f":"IF(COUNTRY_INFO!K17=2,IF(COUNTRY_INFO!G17*0.2>MAX('T1'!N17,'T2'!L17),MAX('T1'!N17,'T2'!L17),COUNTRY_INFO!G17*0.2),IF(COUNTRY_INFO!K17=3,IF(COUNTRY_INFO!G17>MAX('T1'!N17,'T2'!L17),MAX('T1'!N17,'T2'!L17),COUNTRY_INFO!G17),0))","v":45193},{"$f":"IF(AND(COUNTRY_INFO!K17>0,COUNTRY_INFO!K17<4),IF(Z17>0,IF(COUNTRY_INFO!K17=1, 0, IF(COUNTRY_INFO!K17=2, AF17/(COUNTRY_INFO!G17*0.2)*100, IF(COUNTRY_INFO!K17=3, AF17/COUNTRY_INFO!G17*100))),\"-\"),0)","v":21.548797467147299},91062,{"$f":"IF(AND(COUNTRY_INFO!K17>0,COUNTRY_INFO!K17<4), IF(AC17/Z17*100<>0, IF(AH17/Z17*100>100,100,AH17/Z17*100), \"-\"),0)","v":86.249289638189055},null,{"$f":"IF(AND(D17<>0, D17<>\"Unknown\",D17<>\"Stopped\",D17<>\"Not required\"),D17/COUNTRY_INFO!D17, 0)","v":0},{"$f":"IF(AND(J17<>0,J17<>\"Unknown\",J17<>\"Stopped\",J17<>\"Not required\"),J17/COUNTRY_INFO!D17, 0)","v":0},{"$f":"IF(AND(P17<>0,P17<>\"Unknown\",P17<>\"Not required\"),P17/(COUNTRY_INFO!E17+COUNTRY_INFO!F17), 0)","v":1},{"$f":"IF(AND(Z17<>0,Z17<>\"Unknown\",Z17<>\"Not required\"),IF(COUNTRY_INFO!K17=1,1,IF(COUNTRY_INFO!K17=2,0.5*COUNTRY_INFO!F17/(0.5*COUNTRY_INFO!F17+0.2*COUNTRY_INFO!G17),IF(COUNTRY_INFO!K17=3,COUNTRY_INFO!F17/(COUNTRY_INFO!F17+COUNTRY_INFO!G17)))),0)","v":0.36695120920517249},{"$f":"IF(AND(Z17<>0,Z17<>\"Unknown\",Z17<>\"Not required\"),IF(COUNTRY_INFO!K17=1,0,IF(COUNTRY_INFO!K17=2,0.2*COUNTRY_INFO!G17/(0.5*COUNTRY_INFO!F17+0.2*COUNTRY_INFO!G17),IF(COUNTRY_INFO!K17=3,COUNTRY_INFO!G17/(COUNTRY_INFO!F17+COUNTRY_INFO!G17)))),0)","v":0.63304879079482756},{"$f":"MAX(COUNTRY_INFO!D17*AK17*PROFILE!$G$7,COUNTRY_INFO!D17*AL17*PROFILE!$G$7)","v":0},{"$f":"MAX(COUNTRY_INFO!D17*AK17*PROFILE!$G$8,COUNTRY_INFO!D17*AL17*PROFILE!$G$8,COUNTRY_INFO!D17*AM17*PROFILE!$G$8)","v":57160.937354012975},{"$f":"MAX(COUNTRY_INFO!D17*AK17*PROFILE!$G$9,COUNTRY_INFO!D17*AL17*PROFILE!$G$9,COUNTRY_INFO!D17*AM17*PROFILE!$G$9,IF(AND(DISTRICT!Z17<>\"Unknown\",Z17<>\"Not required\"),COUNTRY_INFO!O17*DISTRICT!AN17,0))","v":121567.70116146172},{"$f":"MAX(COUNTRY_INFO!D17*AK17*PROFILE!$G$10,COUNTRY_INFO!D17*AL17*PROFILE!$G$10,IF(AND(DISTRICT!Z17<>\"Unknown\",Z17<>\"Not required\"),COUNTRY_INFO!O17*DISTRICT!AO17,0))","v":66837.291332117893},245565.92984759258,"Y",{"$f":"MAX('MDA2'!J17,'T1'!L17,'T2'!J17,T3_R1!K17,T3_R2!K17)","v":29284},{"$f":"MAX('MDA1'!K17,'MDA2'!K17,'MDA3'!I17,'MDA3'!L17,'T1'!M17,'T2'!K17,T3_R1!L17,T3_R2!L17)","v":45869},{"$f":"MAX('MDA1'!L17,'MDA2'!L17,'MDA3'!J17,'MDA3'!M17,'T1'!N17,'T2'!L17,T3_R1!M17,T3_R2!M17)","v":45193},120346,{"$f":"MAX('MDA2'!J17,T17)","v":29284},{"$f":"MAX('MDA1'!K17,'MDA2'!K17,'MDA3'!I17,'MDA3'!L17,V17,AD17)","v":45869},{"$f":"MAX('MDA1'!L17,'MDA2'!L17,'MDA3'!J17,'MDA3'!M17,AF17)","v":45193},120346,49.00761277213465]
[{"$f":"IF(COUNTRY_INFO!A18=0,\" \",COUNTRY_INFO!A18)","v":"Uganda"},{"$f":"IF(COUNTRY_INFO!B18=0,\" \",COUNTRY_INFO!B18)","v":"Central "},{"$f":"IF(COUNTRY_INFO!C18=0,\" \",COUNTRY_INFO!C18)","v":"Kiboga"},{"$f":"COUNTRY_INFO!L18","v":0},null,null,{"$f":"MAX('MDA1'!M18,'MDA2'!M18)","v":0},{"$f":"IF(AND(COUNTRY_INFO!H18>0,COUNTRY_INFO!H18<4),IF(D18>MAX('MDA1'!M18,'MDA2'!M18),MAX('MDA1'!M18,'MDA2'!M18),D18),0)","v":0},{"$f":"IF(AND(COUNTRY_INFO!H18>0,COUNTRY_INFO!H18<4), IF(G18/D18*100<>0, IF(G18/D18*100>100,100,G18/D18*100), \"-\"),0)","v":0},{"$f":"COUNTRY_INFO!M18","v":0},null,null,{"$f":"MAX('MDA1'!M18,MAX('MDA3'!I18,'MDA3'!L18)+MAX('MDA3'!J18,'MDA3'!M18))","v":0},{"$f":"IF(AND(COUNTRY_INFO!I18>0,COUNTRY_INFO!I18<4),IF(J18>MAX('MDA1'!M18,MAX('MDA3'!I18,'MDA3'!L18)+MAX('MDA3'!J18,'MDA3'!M18)),MAX('MDA1'!M18,MAX('MDA3'!I18,'MDA3'!L18)+MAX('MDA3'!J18,'MDA3'!M18)),J18),0)","v":0},{"$f":"IF(AND(COUNTRY_INFO!I18>0,COUNTRY_INFO!I18<4), IF(M18/J18*100<>0, IF(M18/J18*100>100,100,M18/J18*100), \"-\"),0)","v":0},{"$f":"COUNTRY_INFO!N18","v":71974},null,null,{"$f":"SUM(MAX('MDA2'!J18, 'T1'!L18, MAX(T3_R1!K18, T3_R2!K18)), MAX('MDA1'!K18, 'MDA2'!K18, 'T1'!M18, MAX(T3_R1!L18, T3_R2!L18)), MAX('MDA1'!L18, 'MDA2'!L18, 'T1'!N18, MAX(T3_R1!M18, T3_R2!M18)))","v":56118},{"$f":"IF(AND(COUNTRY_INFO!J18>1,COUNTRY_INFO!J18<4),IF(COUNTRY_INFO!E18>MAX('MDA2'!J18,'T1'!L18,MAX(T3_R1!K18,T3_R2!K18)),MAX('MDA2'!J18,'T1'!L18,MAX(T3_R1!K18,T3_R2!K18)),COUNTRY_INFO!E18),0)","v":23019},{"$f":"IF(AND(COUNTRY_INFO!J18>1,COUNTRY_INFO!J18<4), IF(T18/COUNTRY_INFO!E18*100<>0, IF(T18/COUNTRY_INFO!E18*100>100,100,T18/COUNTRY_INFO!E18*100), \"-\"),0)","v":100},{"$f":"IF(AND(COUNTRY_INFO!J18>1,COUNTRY_INFO!J18<4),IF(COUNTRY_INFO!F18>MAX('MDA1'!K18,'MDA2'!K18,'T1'!M18,MAX(T3_R1!L18,T3_R2!L18)),MAX('MDA1'!K18,'MDA2'!K18,'T1'!M18,MAX(T3_R1!L18,T3_R2!L18)),COUNTRY_INFO!F18),0)","v":26967},{"$f":"IF(AND(COUNTRY_INFO!J18>1,COUNTRY_INFO!J18<4), IF(V18/COUNTRY_INFO!F18*100<>0, IF(V18/COUNTRY_INFO!F18*100>100,100,V18/COUNTRY_INFO!F18*100), \"-\"),0)","v":55.085282402206104},49986,{"$f":"IF(AND(COUNTRY_INFO!J18>1,COUNTRY_INFO!J18<4), IF(S18/P18*100<>0, IF(X18/P18*100>100,100,X18/P18*100), \"-\"),0)","v":69.450079195264962},{"$f":"COUNTRY_INFO!O18","v":0},null,null,{"$f":"MAX('T1'!L18,'T2'!J18)+MAX('T1'!M18,'T2'!K18)+MAX('T1'!N18,'T2'!L18)","v":0},{"$f":"IF(COUNTRY_INFO!K18=1,IF(COUNTRY_INFO!F18*0.33>MAX('T1'!M18,'T2'!K18),MAX('T1'!M18,'T2'!K18),COUNTRY_INFO!F18*0.33),IF(COUNTRY_INFO!K18=2,IF(COUNTRY_INFO!F18*0.5>MAX('T1'!M18,'T2'!K18),MAX('T1'!M18,'T2'!K18),COUNTRY_INFO!F18*0.5),IF(COUNTRY_INFO!K18=3,IF(COUNTRY_INFO!F18>MAX('T1'!M18,'T2'!K18),MAX('T1'!M18,'T2'!K18),COUNTRY_INFO!F18),0)))","v":0},{"$f":"IF(AND(COUNTRY_INFO!K18>0,COUNTRY_INFO!K18<4),IF(Z18>0,IF(COUNTRY_INFO!K18=1, AD18/(COUNTRY_INFO!F18*0.33)*100, IF(COUNTRY_INFO!K18=2, AD18/(COUNTRY_INFO!F18*0.5)*100, IF(COUNTRY_INFO!K18=3, AD18/COUNTRY_INFO!F18*100))),\"-\"),0)","v":0},{"$f":"IF(COUNTRY_INFO!K18=2,IF(COUNTRY_INFO!G18*0.2>MAX('T1'!N18,'T2'!L18),MAX('T1'!N18,'T2'!L18),COUNTRY_INFO!G18*0.2),IF(COUNTRY_INFO!K18=3,IF(COUNTRY_INFO!G18>MAX('T1'!N18,'T2'!L18),MAX('T1'!N18,'T2'!L18),COUNTRY_INFO!G18),0))","v":0},{"$f":"IF(AND(COUNTRY_INFO!K18>0,COUNTRY_INFO!K18<4),IF(Z18>0,IF(COUNTRY_INFO!K18=1, 0, IF(COUNTRY_INFO!K18=2, AF18/(COUNTRY_INFO!G18*0.2)*100, IF(COUNTRY_INFO!K18=3, AF18/COUNTRY_INFO!G18*100))),\"-\"),0)","v":0},0,{"$f":"IF(AND(COUNTRY_INFO!K18>0,COUNTRY_INFO!K18<4), IF(AC18/Z18*100<>0, IF(AH18/Z18*100>100,100,AH18/Z18*100), \"-\"),0)","v":0},null,{"$f":"IF(AND(D18<>0, D18<>\"Unknown\",D18<>\"Stopped\",D18<>\"Not required\"),D18/COUNTRY_INFO!D18, 0)","v":0},{"$f":"IF(AND(J18<>0,J18<>\"Unknown\",J18<>\"Stopped\",J18<>\"Not required\"),J18/COUNTRY_INFO!D18, 0)","v":0},{"$f":"IF(AND(P18<>0,P18<>\"Unknown\",P18<>\"Not required\"),P18/(COUNTRY_INFO!E18+COUNTRY_INFO!F18), 0)","v":1},{"$f":"IF(AND(Z18<>0,Z18<>\"Unknown\",Z18<>\"Not required\"),IF(COUNTRY_INFO!K18=1,1,IF(COUNTRY_INFO!K18=2,0.5*COUNTRY_INFO!F18/(0.5*COUNTRY_INFO!F18+0.2*COUNTRY_INFO!G18),IF(COUNTRY_INFO!K18=3,COUNTRY_INFO!F18/(COUNTRY_INFO!F18+COUNTRY_INFO!G18)))),0)","v":0},{"$f":"IF(AND(Z18<>0,Z18<>\"Unknown\",Z18<>\"Not required\"),IF(COUNTRY_INFO!K18=1,0,IF(COUNTRY_INFO!K18=2,0.2*COUNTRY_INFO!G18/(0.5*COUNTRY_INFO!F18+0.2*COUNTRY_INFO!G18),IF(COUNTRY_INFO!K18=3,COUNTRY_INFO!G18/(COUNTRY_INFO!F18+COUNTRY_INFO!G18)))),0)","v":0},{"$f":"MAX(COUNTRY_INFO!D18*AK18*PROFILE!$G$7,COUNTRY_INFO!D18*AL18*PROFILE!$G$7)","v":0},{"$f":"MAX(COUNTRY_INFO!D18*AK18*PROFILE!$G$8,COUNTRY_INFO!D18*AL18*PROFILE!$G$8,COUNTRY_INFO!D18*AM18*PROFILE!$G$8)","v":23018.615269704937},{"$f":"MAX(COUNTRY_INFO!D18*AK18*PROFILE!$G$9,COUNTRY_INFO!D18*AL18*PROFILE!$G$9,COUNTRY_INFO!D18*AM18*PROFILE!$G$9,IF(AND(DISTRICT!Z18<>\"Unknown\",Z18<>\"Not required\"),COUNTRY_INFO!O18*DISTRICT!AN18,0))","v":48955.112910892349},{"$f":"MAX(COUNTRY_INFO!D18*AK18*PROFILE!$G$10,COUNTRY_INFO!D18*AL18*PROFILE!$G$10,IF(AND(DISTRICT!Z18<>\"Unknown\",Z18<>\"Not required\"),COUNTRY_INFO!O18*DISTRICT!AO18,0))","v":0},71973.728180597289,"Y",{"$f":"MAX('MDA2'!J18,'T1'!L18,'T2'!J18,T3_R1!K18,T3_R2!K18)","v":29151},{"$f":"MAX('MDA1'!K18,'MDA2'!K18,'MDA3'!I18,'MDA3'!L18,'T1'!M18,'T2'!K18,T3_R1!L18,T3_R2!L18)","v":26967},{"$f":"MAX('MDA1'!L18,'MDA2'!L18,'MDA3'!J18,'MDA3'!M18,'T1'!N18,'T2'!L18,T3_R1!M18,T3_R2!M18)","v":0},56118,{"$f":"MAX('MDA2'!J18,T18)","v":23019},{"$f":"MAX('MDA1'!K18,'MDA2'!K18,'MDA3'!I18,'MDA3'!L18,V18,AD18)","v":26967},{"$f":"MAX('MDA1'!L18,'MDA2'!L18,'MDA3'!J18,'MDA3'!M18,AF18)","v":0},49986,69.450341483734974]
[{"$f":"IF(COUNTRY_INFO!A19=0,\" \",COUNTRY_INFO!A19)","v":"Uganda"},{"$f":"IF(COUNTRY_INFO!B19=0,\" \",COUNTRY_INFO!B19)","v":"Central "},{"$f":"IF(COUNTRY_INFO!C19=0,\" \",COUNTRY_INFO!C19)","v":"Kyankwanzi"},{"$f":"COUNTRY_INFO!L19","v":0},null,null,{"$f":"MAX('MDA1'!M19,'MDA2'!M19)","v":0},{"$f":"IF(AND(COUNTRY_INFO!H19>0,COUNTRY_INFO!H19<4),IF(D19>MAX('MDA1'!M19,'MDA2'!M19),MAX('MDA1'!M19,'MDA2'!M19),D19),0)","v":0},{"$f":"IF(AND(COUNTRY_INFO!H19>0,COUNTRY_INFO!H19<4), IF(G19/D19*100<>0, IF(G19/D19*100>100,100,G19/D19*100), \"-\"),0)","v":0},{"$f":"COUNTRY_INFO!M19","v":0},null,null,{"$f":"MAX('MDA1'!M19,MAX('MDA3'!I19,'MDA3'!L19)+MAX('MDA3'!J19,'MDA3'!M19))","v":0},{"$f":"IF(AND(COUNTRY_INFO!I19>0,COUNTRY_INFO!I19<4),IF(J19>MAX('MDA1'!M19,MAX('MDA3'!I19,'MDA3'!L19)+MAX('MDA3'!J19,'MDA3'!M19)),MAX('MDA1'!M19,MAX('MDA3'!I19,'MDA3'!L19)+MAX('MDA3'!J19,'MDA3'!M19)),J19),0)","v":0},{"$f":"IF(AND(COUNTRY_INFO!I19>0,COUNTRY_INFO!I19<4), IF(M19/J19*100<>0, IF(M19/J19*100>100,100,M19/J19*100), \"-\"),0)","v":0},{"$f":"COUNTRY_INFO!N19","v":104253},null,null,{"$f":"SUM(MAX('MDA2'!J19, 'T1'!L19, MAX(T3_R1!K19, T3_R2!K19)), MAX('MDA1'!K19, 'MDA2'!K19, 'T1'!M19, MAX(T3_R1!L19, T3_R2!L19)), MAX('MDA1'!L19, 'MDA2'!L19, 'T1'!N19, MAX(T3_R1!M19, T3_R2!M19)))","v":60143},{"$f":"IF(AND(COUNTRY_INFO!J19>1,COUNTRY_INFO!J19<4),IF(COUNTRY_INFO!E19>MAX('MDA2'!J19,'T1'!L19,MAX(T3_R1!K19,T3_R2!K19)),MAX('MDA2'!J19,'T1'!L19,MAX(T3_R1!K19,T3_R2!K19)),COUNTRY_INFO!E19),0)","v":33342},{"$f":"IF(AND(COUNTRY_INFO!J19>1,COUNTRY_INFO!J19<4), IF(T19/COUNTRY_INFO!E19*100<>0, IF(T19/COUNTRY_INFO!E19*100>100,100,T19/COUNTRY_INFO!E19*100), \"-\"),0)","v":100},{"$f":"IF(AND(COUNTRY_INFO!J19>1,COUNTRY_INFO!J19<4),IF(COUNTRY_INFO!F19>MAX('MDA1'!K19,'MDA2'!K19,'T1'!M19,MAX(T3_R1!L19,T3_R2!L19)),MAX('MDA1'!K19,'MDA2'!K19,'T1'!M19,MAX(T3_R1!L19,T3_R2!L19)),COUNTRY_INFO!F19),0)","v":18277},{"$f":"IF(AND(COUNTRY_INFO!J19>1,COUNTRY_INFO!J19<4), IF(V19/COUNTRY_INFO!F19*100<>0, IF(V19/COUNTRY_INFO!F19*100>100,100,V19/COUNTRY_INFO!F19*100), \"-\"),0)","v":25.774562479728107},51619,{"$f":"IF(AND(COUNTRY_INFO!J19>1,COUNTRY_INFO!J19<4), IF(S19/P19*100<>0, IF(X19/P19*100>100,100,X19/P19*100), \"-\"),0)","v":49.513203456974857},{"$f":"COUNTRY_INFO!O19","v":0},null,null,{"$f":"MAX('T1'!L19,'T2'!J19)+MAX('T1'!M19,'T2'!K19)+MAX('T1'!N19,'T2'!L19)","v":0},{"$f":"IF(COUNTRY_INFO!K19=1,IF(COUNTRY_INFO!F19*0.33>MAX('T1'!M19,'T2'!K19),MAX('T1'!M19,'T2'!K19),COUNTRY_INFO!F19*0.33),IF(COUNTRY_INFO!K19=2,IF(COUNTRY_INFO!F19*0.5>MAX('T1'!M19,'T2'!K19),MAX('T1'!M19,'T2'!K19),COUNTRY_INFO!F19*0.5),IF(COUNTRY_INFO!K19=3,IF(COUNTRY_INFO!F19>MAX('T1'!M19,'T2'!K19),MAX('T1'!M19,'T2'!K19),COUNTRY_INFO!F19),0)))","v":0},{"$f":"IF(AND(COUNTRY_INFO!K19>0,COUNTRY_INFO!K19<4),IF(Z19>0,IF(COUNTRY_INFO!K19=1, AD19/(COUNTRY_INFO!F19*0.33)*100, IF(COUNTRY_INFO!K19=2, AD19/(COUNTRY_INFO!F19*0.5)*100, IF(COUNTRY_INFO!K19=3, AD19/COUNTRY_INFO!F19*100))),\"-\"),0)","v":0},{"$f":"IF(COUNTRY_INFO!K19=2,IF(COUNTRY_INFO!G19*0.2>MAX('T1'!N19,'T2'!L19),MAX('T1'!N19,'T2'!L19),COUNTRY_INFO!G19*0.2),IF(COUNTRY_INFO!K19=3,IF(COUNTRY_INFO!G19>MAX('T1'!N19,'T2'!L19),MAX('T1'!N19,'T2'!L19),COUNTRY_INFO!G19),0))","v":0},{"$f":"IF(AND(COUNTRY_INFO!K19>0,COUNTRY_INFO!K19<4),IF(Z19>0,IF(COUNTRY_INFO!K19=1, 0, IF(COUNTRY_INFO!K19=2, AF19/(COUNTRY_INFO!G19*0.2)*100, IF(COUNTRY_INFO!K19=3, AF19/COUNTRY_INFO!G19*100))),\"-\"),0)","v":0},0,{"$f":"IF(AND(COUNTRY_INFO!K19>0,COUNTRY_INFO!K19<4), IF(AC19/Z19*100<>0, IF(AH19/Z19*100>100,100,AH19/Z19*100), \"-\"),0)","v":0},null,{"$f":"IF(AND(D19<>0, D19<>\"Unknown\",D19<>\"Stopped\",D19<>\"Not required\"),D19/COUNTRY_INFO!D19, 0)","v":0},{"$f":"IF(AND(J19<>0,J19<>\"Unknown\",J19<>\"Stopped\",J19<>\"Not required\"),J19/COUNTRY_INFO!D19, 0)","v":0},{"$f":"IF(AND(P19<>0,P19<>\"Unknown\",P19<>\"Not required\"),P19/(COUNTRY_INFO!E19+COUNTRY_INFO!F19), 0)","v":1},{"$f":"IF(AND(Z19<>0,Z19<>\"Unknown\",Z19<>\"Not required\"),IF(COUNTRY_INFO!K19=1,1,IF(COUNTRY_INFO!K19=2,0.5*COUNTRY_INFO!F19/(0.5*COUNTRY_INFO!F19+0.2*COUNTRY_INFO!G19),IF(COUNTRY_INFO!K19=3,COUNTRY_INFO!F19/(COUNTRY_INFO!F19+COUNTRY_INFO!G19)))),0)","v":0},{"$f":"IF(AND(Z19<>0,Z19<>\"Unknown\",Z19<>\"Not required\"),IF(COUNTRY_INFO!K19=1,0,IF(COUNTRY_INFO!K19=2,0.2*COUNTRY_INFO!G19/(0.5*COUNTRY_INFO!F19+0.2*COUNTRY_INFO!G19),IF(COUNTRY_INFO!K19=3,COUNTRY_INFO!G19/(COUNTRY_INFO!F19+COUNTRY_INFO!G19)))),0)","v":0},{"$f":"MAX(COUNTRY_INFO!D19*AK19*PROFILE!$G$7,COUNTRY_INFO!D19*AL19*PROFILE!$G$7)","v":0},{"$f":"MAX(COUNTRY_INFO!D19*AK19*PROFILE!$G$8,COUNTRY_INFO!D19*AL19*PROFILE!$G$8,COUNTRY_INFO!D19*AM19*PROFILE!$G$8)","v":33342.294457246739},{"$f":"MAX(COUNTRY_INFO!D19*AK19*PROFILE!$G$9,COUNTRY_INFO!D19*AL19*PROFILE!$G$9,COUNTRY_INFO!D19*AM19*PROFILE!$G$9,IF(AND(DISTRICT!Z19<>\"Unknown\",Z19<>\"Not required\"),COUNTRY_INFO!O19*DISTRICT!AN19,0))","v":70911.120010376602},{"$f":"MAX(COUNTRY_INFO!D19*AK19*PROFILE!$G$10,COUNTRY_INFO!D19*AL19*PROFILE!$G$10,IF(AND(DISTRICT!Z19<>\"Unknown\",Z19<>\"Not required\"),COUNTRY_INFO!O19*DISTRICT!AO19,0))","v":0},104253.41446762334,"Y",{"$f":"MAX('MDA2'!J19,'T1'!L19,'T2'!J19,T3_R1!K19,T3_R2!K19)","v":41866},{"$f":"MAX('MDA1'!K19,'MDA2'!K19,'MDA3'!I19,'MDA3'!L19,'T1'!M19,'T2'!K19,T3_R1!L19,T3_R2!L19)","v":18277},{"$f":"MAX('MDA1'!L19,'MDA2'!L19,'MDA3'!J19,'MDA3'!M19,'T1'!N19,'T2'!L19,T3_R1!M19,T3_R2!M19)","v":0},60143,{"$f":"MAX('MDA2'!J19,T19)","v":33342},{"$f":"MAX('MDA1'!K19,'MDA2'!K19,'MDA3'!I19,'MDA3'!L19,V19,AD19)","v":18277},{"$f":"MAX('MDA1'!L19,'MDA2'!L19,'MDA3'!J19,'MDA3'!M19,AF19)","v":0},51619,49.513006613352367]
[{"$f":"IF(COUNTRY_INFO!A20=0,\" \",COUNTRY_INFO!A20)","v":"Uganda"},{"$f":"IF(COUNTRY_INFO!B20=0,\" \",COUNTRY_INFO!B20)","v":"Central "},{"$f":"IF(COUNTRY_INFO!C20=0,\" \",COUNTRY_INFO!C20)","v":"Luwero"},{"$f":"COUNTRY_INFO!L20","v":0},null,null,{"$f":"MAX('MDA1'!M20,'MDA2'!M20)","v":0},{"$f":"IF(AND(COUNTRY_INFO!H20>0,COUNTRY_INFO!H20<4),IF(D20>MAX('MDA1'!M20,'MDA2'!M20),MAX('MDA1'!M20,'MDA2'!M20),D20),0)","v":0},{"$f":"IF(AND(COUNTRY_INFO!H20>0,COUNTRY_INFO!H20<4), IF(G20/D20*100<>0, IF(G20/D20*100>100,100,G20/D20*100), \"-\"),0)","v":0},{"$f":"COUNTRY_INFO!M20","v":0},null,null,{"$f":"MAX('MDA1'!M20,MAX('MDA3'!I20,'MDA3'!L20)+MAX('MDA3'!J20,'MDA3'!M20))","v":0},{"$f":"IF(AND(COUNTRY_INFO!I20>0,COUNTRY_INFO!I20<4),IF(J20>MAX('MDA1'!M20,MAX('MDA3'!I20,'MDA3'!L20)+MAX('MDA3'!J20,'MDA3'!M20)),MAX('MDA1'!M20,MAX('MDA3'!I20,'MDA3'!L20)+MAX('MDA3'!J20,'MDA3'!M20)),J20),0)","v":0},{"$f":"IF(AND(COUNTRY_INFO!I20>0,COUNTRY_INFO!I20<4), IF(M20/J20*100<>0, IF(M20/J20*100>100,100,M20/J20*100), \"-\"),0)","v":0},{"$f":"COUNTRY_INFO!N20","v":221897},null,null,{"$f":"SUM(MAX('MDA2'!J20, 'T1'!L20, MAX(T3_R1!K20, T3_R2!K20)), MAX('MDA1'!K20, 'MDA2'!K20, 'T1'!M20, MAX(T3_R1!L20, T3_R2!L20)), MAX('MDA1'!L20, 'MDA2'!L20, 'T1'!N20, MAX(T3_R1!M20, T3_R2!M20)))","v":90839},{"$f":"IF(AND(COUNTRY_INFO!J20>1,COUNTRY_INFO!J20<4),IF(COUNTRY_INFO!E20>MAX('MDA2'!J20,'T1'!L20,MAX(T3_R1!K20,T3_R2!K20)),MAX('MDA2'!J20,'T1'!L20,MAX(T3_R1!K20,T3_R2!K20)),COUNTRY_INFO!E20),0)","v":61070},{"$f":"IF(AND(COUNTRY_INFO!J20>1,COUNTRY_INFO!J20<4), IF(T20/COUNTRY_INFO!E20*100<>0, IF(T20/COUNTRY_INFO!E20*100>100,100,T20/COUNTRY_INFO!E20*100), \"-\"),0)","v":86.054081474488143},{"$f":"IF(AND(COUNTRY_INFO!J20>1,COUNTRY_INFO!J20<4),IF(COUNTRY_INFO!F20>MAX('MDA1'!K20,'MDA2'!K20,'T1'!M20,MAX(T3_R1!L20,T3_R2!L20)),MAX('MDA1'!K20,'MDA2'!K20,'T1'!M20,MAX(T3_R1!L20,T3_R2!L20)),COUNTRY_INFO!F20),0)","v":29769},{"$f":"IF(AND(COUNTRY_INFO!J20>1,COUNTRY_INFO!J20<4), IF(V20/COUNTRY_INFO!F20*100<>0, IF(V20/COUNTRY_INFO!F20*100>100,100,V20/COUNTRY_INFO!F20*100), \"-\"),0)","v":19.723712979526933},90839,{"$f":"IF(AND(COUNTRY_INFO!J20>1,COUNTRY_INFO!J20<4), IF(S20/P20*100<>0, IF(X20/P20*100>100,100,X20/P20*100), \"-\"),0)","v":40.937461975601295},{"$f":"COUNTRY_INFO!O20","v":0},null,null,{"$f":"MAX('T1'!L20,'T2'!J20)+MAX('T1'!M20,'T2'!K20)+MAX('T1'!N20,'T2'!L20)","v":0},{"$f":"IF(COUNTRY_INFO!K20=1,IF(COUNTRY_INFO!F20*0.33>MAX('T1'!M20,'T2'!K20),MAX('T1'!M20,'T2'!K20),COUNTRY_INFO!F20*0.33),IF(COUNTRY_INFO!K20=2,IF(COUNTRY_INFO!F20*0.5>MAX('T1'!M20,'T2'!K20),MAX('T1'!M20,'T2'!K20),COUNTRY_INFO!F20*0.5),IF(COUNTRY_INFO!K20=3,IF(COUNTRY_INFO!F20>MAX('T1'!M20,'T2'!K20),MAX('T1'!M20,'T2'!K20),COUNTRY_INFO!F20),0)))","v":0},{"$f":"IF(AND(COUNTRY_INFO!K20>0,COUNTRY_INFO!K20<4),IF(Z20>0,IF(COUNTRY_INFO!K20=1, AD20/(COUNTRY_INFO!F20*0.33)*100, IF(COUNTRY_INFO!K20=2, AD20/(COUNTRY_INFO!F20*0.5)*100, IF(COUNTRY_INFO!K20=3, AD20/COUNTRY_INFO!F20*100))),\"-\"),0)","v":0},{"$f":"IF(COUNTRY_INFO!K20=2,IF(COUNTRY_INFO!G20*0.2>MAX('T1'!N20,'T2'!L20),MAX('T1'!N20,'T2'!L20),COUNTRY_INFO!G20*0.2),IF(COUNTRY_INFO!K20=3,IF(COUNTRY_INFO!G20>MAX('T1'!N20,'T2'!L20),MAX('T1'!N20,'T2'!L20),COUNTRY_INFO!G20),0))","v":0},{"$f":"IF(AND(COUNTRY_INFO!K20>0,COUNTRY_INFO!K20<4),IF(Z20>0,IF(COUNTRY_INFO!K20=1, 0, IF(COUNTRY_INFO!K20=2, AF20/(COUNTRY_INFO!G20*0.2)*100, IF(COUNTRY_INFO!K20=3, AF20/COUNTRY_INFO!G20*100))),\"-\"),0)","v":0},0,{"$f":"IF(AND(COUNTRY_INFO!K20>0,COUNTRY_INFO!K20<4), IF(AC20/Z20*100<>0, IF(AH20/Z20*100>100,100,AH20/Z20*100), \"-\"),0)","v":0},null,{"$f":"IF(AND(D20<>0, D20<>\"Unknown\",D20<>\"Stopped\",D20<>\"Not required\"),D20/COUNTRY_INFO!D20, 0)","v":0},{"$f":"IF(AND(J20<>0,J20<>\"Unknown\",J20<>\"Stopped\",J20<>\"Not required\"),J20/COUNTRY_INFO!D20, 0)","v":0},{"$f":"IF(AND(P20<>0,P20<>\"Unknown\",P20<>\"Not required\"),P20/(COUNTRY_INFO!E20+COUNTRY_INFO!F20), 0)","v":1},{"$f":"IF(AND(Z20<>0,Z20<>\"Unknown\",Z20<>\"Not required\"),IF(COUNTRY_INFO!K20=1,1,IF(COUNTRY_INFO!K20=2,0.5*COUNTRY_INFO!F20/(0.5*COUNTRY_INFO!F20+0.2*COUNTRY_INFO!G20),IF(COUNTRY_INFO!K20=3,COUNTRY_INFO!F20/(COUNTRY_INFO!F20+COUNTRY_INFO!G20)))),0)","v":0},{"$f":"IF(AND(Z20<>0,Z20<>\"Unknown\",Z20<>\"Not required\"),IF(COUNTRY_INFO!K20=1,0,IF(COUNTRY_INFO!K20=2,0.2*COUNTRY_INFO!G20/(0.5*COUNTRY_INFO!F20+0.2*COUNTRY_INFO!G20),IF(COUNTRY_INFO!K20=3,COUNTRY_INFO!G20/(COUNTRY_INFO!F20+COUNTRY_INFO!G20)))),0)","v":0},{"$f":"MAX(COUNTRY_INFO!D20*AK20*PROFILE!$G$7,COUNTRY_INFO!D20*AL20*PROFILE!$G$7)","v":0},{"$f":"MAX(COUNTRY_INFO!D20*AK20*PROFILE!$G$8,COUNTRY_INFO!D20*AL20*PROFILE!$G$8,COUNTRY_INFO!D20*AM20*PROFILE!$G$8)","v":70966.880918271883},{"$f":"MAX(COUNTRY_INFO!D20*AK20*PROFILE!$G$9,COUNTRY_INFO!D20*AL20*PROFILE!$G$9,COUNTRY_INFO!D20*AM20*PROFILE!$G$9,IF(AND(DISTRICT!Z20<>\"Unknown\",Z20<>\"Not required\"),COUNTRY_INFO!O20*DISTRICT!AN20,0))","v":150929.65530642823},{"$f":"MAX(COUNTRY_INFO!D20*AK20*PROFILE!$G$10,COUNTRY_INFO!D20*AL20*PROFILE!$G$10,IF(AND(DISTRICT!Z20<>\"Unknown\",Z20<>\"Not required\"),COUNTRY_INFO!O20*DISTRICT!AO20,0))","v":0},221896.5362247001,"Y",{"$f":"MAX('MDA2'!J20,'T1'!L20,'T2'!J20,T3_R1!K20,T3_R2!K20)","v":61070},{"$f":"MAX('MDA1'!K20,'MDA2'!K20,'MDA3'!I20,'MDA3'!L20,'T1'!M20,'T2'!K20,T3_R1!L20,T3_R2!L20)","v":29769},{"$f":"MAX('MDA1'!L20,'MDA2'!L20,'MDA3'!J20,'MDA3'!M20,'T1'!N20,'T2'!L20,T3_R1!M20,T3_R2!M20)","v":0},90839,{"$f":"MAX('MDA2'!J20,T20)","v":61070},{"$f":"MAX('MDA1'!K20,'MDA2'!K20,'MDA3'!I20,'MDA3'!L20,V20,AD20)","v":29769},{"$f":"MAX('MDA1'!L20,'MDA2'!L20,'MDA3'!J20,'MDA3'!M20,AF20)","v":0},90839,40.937547537025679]
[{"$f":"IF(COUNTRY_INFO!A21=0,\" \",COUNTRY_INFO!A21)","v":"Uganda"},{"$f":"IF(COUNTRY_INFO!B21=0,\" \",COUNTRY_INFO!B21)","v":"Central "},{"$f":"IF(COUNTRY_INFO!C21=0,\" \",COUNTRY_INFO!C21)","v":"Lwengo"},{"$f":"COUNTRY_INFO!L21","v":0},null,null,{"$f":"MAX('MDA1'!M21,'MDA2'!M21)","v":0},{"$f":"IF(AND(COUNTRY_INFO!H21>0,COUNTRY_INFO!H21<4),IF(D21>MAX('MDA1'!M21,'MDA2'!M21),MAX('MDA1'!M21,'MDA2'!M21),D21),0)","v":0},{"$f":"IF(AND(COUNTRY_INFO!H21>0,COUNTRY_INFO!H21<4), IF(G21/D21*100<>0, IF(G21/D21*100>100,100,G21/D21*100), \"-\"),0)","v":0},{"$f":"COUNTRY_INFO!M21","v":0},null,null,{"$f":"MAX('MDA1'!M21,MAX('MDA3'!I21,'MDA3'!L21)+MAX('MDA3'!J21,'MDA3'!M21))","v":0},{"$f":"IF(AND(COUNTRY_INFO!I21>0,COUNTRY_INFO!I21<4),IF(J21>MAX('MDA1'!M21,MAX('MDA3'!I21,'MDA3'!L21)+MAX('MDA3'!J21,'MDA3'!M21)),MAX('MDA1'!M21,MAX('MDA3'!I21,'MDA3'!L21)+MAX('MDA3'!J21,'MDA3'!M21)),J21),0)","v":0},{"$f":"IF(AND(COUNTRY_INFO!I21>0,COUNTRY_INFO!I21<4), IF(M21/J21*100<>0, IF(M21/J21*100>100,100,M21/J21*100), \"-\"),0)","v":0},{"$f":"COUNTRY_INFO!N21","v":133516},null,null,{"$f":"SUM(MAX('MDA2'!J21, 'T1'!L21, MAX(T3_R1!K21, T3_R2!K21)), MAX('MDA1'!K21, 'MDA2'!K21, 'T1'!M21, MAX(T3_R1!L21, T3_R2!L21)), MAX('MDA1'!L21, 'MDA2'!L21, 'T1'!N21, MAX(T3_R1!M21, T3_R2!M21)))","v":30329},{"$f":"IF(AND(COUNTRY_INFO!J21>1,COUNTRY_INFO!J21<4),IF(COUNTRY_INFO!E21>MAX('MDA2'!J21,'T1'!L21,MAX(T3_R1!K21,T3_R2!K21)),MAX('MDA2'!J21,'T1'!L21,MAX(T3_R1!K21,T3_R2!K21)),COUNTRY_INFO!E21),0)","v":20207},{"$f":"IF(AND(COUNTRY_INFO!J21>1,COUNTRY_INFO!J21<4), IF(T21/COUNTRY_INFO!E21*100<>0, IF(T21/COUNTRY_INFO!E21*100>100,100,T21/COUNTRY_INFO!E21*100), \"-\"),0)","v":47.322076766352076},{"$f":"IF(AND(COUNTRY_INFO!J21>1,COUNTRY_INFO!J21<4),IF(COUNTRY_INFO!F21>MAX('MDA1'!K21,'MDA2'!K21,'T1'!M21,MAX(T3_R1!L21,T3_R2!L21)),MAX('MDA1'!K21,'MDA2'!K21,'T1'!M21,MAX(T3_R1!L21,T3_R2!L21)),COUNTRY_INFO!F21),0)","v":10122},{"$f":"IF(AND(COUNTRY_INFO!J21>1,COUNTRY_INFO!J21<4), IF(V21/COUNTRY_INFO!F21*100<>0, IF(V21/COUNTRY_INFO!F21*100>100,100,V21/COUNTRY_INFO!F21*100), \"-\"),0)","v":11.145735836590871},30329,{"$f":"IF(AND(COUNTRY_INFO!J21>1,COUNTRY_INFO!J21<4), IF(S21/P21*100<>0, IF(X21/P21*100>100,100,X21/P21*100), \"-\"),0)","v":22.715629587465173},{"$f":"COUNTRY_INFO!O21","v":0},null,null,{"$f":"MAX('T1'!L21,'T2'!J21)+MAX('T1'!M21,'T2'!K21)+MAX('T1'!N21,'T2'!L21)","v":0},{"$f":"IF(COUNTRY_INFO!K21=1,IF(COUNTRY_INFO!F21*0.33>MAX('T1'!M21,'T2'!K21),MAX('T1'!M21,'T2'!K21),COUNTRY_INFO!F21*0.33),IF(COUNTRY_INFO!K21=2,IF(COUNTRY_INFO!F21*0.5>MAX('T1'!M21,'T2'!K21),MAX('T1'!M21,'T2'!K21),COUNTRY_INFO!F21*0.5),IF(COUNTRY_INFO!K21=3,IF(COUNTRY_INFO!F21>MAX('T1'!M21,'T2'!K21),MAX('T1'!M21,'T2'!K21),COUNTRY_INFO!F21),0)))","v":0},{"$f":"IF(AND(COUNTRY_INFO!K21>0,COUNTRY_INFO!K21<4),IF(Z21>0,IF(COUNTRY_INFO!K21=1, AD21/(COUNTRY_INFO!F21*0.33)*100, IF(COUNTRY_INFO!K21=2, AD21/(COUNTRY_INFO!F21*0.5)*100, IF(COUNTRY_INFO!K21=3, AD21/COUNTRY_INFO!F21*100))),\"-\"),0)","v":0},{"$f":"IF(COUNTRY_INFO!K21=2,IF(COUNTRY_INFO!G21*0.2>MAX('T1'!N21,'T2'!L21),MAX('T1'!N21,'T2'!L21),COUNTRY_INFO!G21*0.2),IF(COUNTRY_INFO!K21=3,IF(COUNTRY_INFO!G21>MAX('T1'!N21,'T2'!L21),MAX('T1'!N21,'T2'!L21),COUNTRY_INFO!G21),0))","v":0},{"$f":"IF(AND(COUNTRY_INFO!K21>0,COUNTRY_INFO!K21<4),IF(Z21>0,IF(COUNTRY_INFO!K21=1, 0, IF(COUNTRY_INFO!K21=2, AF21/(COUNTRY_INFO!G21*0.2)*100, IF(COUNTRY_INFO!K21=3, AF21/COUNTRY_INFO!G21*100))),\"-\"),0)","v":0},0,{"$f":"IF(AND(COUNTRY_INFO!K21>0,COUNTRY_INFO!K21<4), IF(AC21/Z21*100<>0, IF(AH21/Z21*100>100,100,AH21/Z21*100), \"-\"),0)","v":0},null,{"$f":"IF(AND(D21<>0, D21<>\"Unknown\",D21<>\"Stopped\",D21<>\"Not required\"),D21/COUNTRY_INFO!D21, 0)","v":0},{"$f":"IF(AND(J21<>0,J21<>\"Unknown\",J21<>\"Stopped\",J21<>\"Not required\"),J21/COUNTRY_INFO!D21, 0)","v":0},{"$f":"IF(AND(P21<>0,P21<>\"Unknown\",P21<>\"Not required\"),P21/(COUNTRY_INFO!E21+COUNTRY_INFO!F21), 0)","v":1},{"$f":"IF(AND(Z21<>0,Z21<>\"Unknown\",Z21<>\"Not required\"),IF(COUNTRY_INFO!K21=1,1,IF(COUNTRY_INFO!K21=2,0.5*COUNTRY_INFO!F21/(0.5*COUNTRY_INFO!F21+0.2*COUNTRY_INFO!G21),IF(COUNTRY_INFO!K21=3,COUNTRY_INFO!F21/(COUNTRY_INFO!F21+COUNTRY_INFO!G21)))),0)","v":0},{"$f":"IF(AND(Z21<>0,Z21<>\"Unknown\",Z21<>\"Not required\"),IF(COUNTRY_INFO!K21=1,0,IF(COUNTRY_INFO!K21=2,0.2*COUNTRY_INFO!G21/(0.5*COUNTRY_INFO!F21+0.2*COUNTRY_INFO!G21),IF(COUNTRY_INFO!K21=3,COUNTRY_INFO!G21/(COUNTRY_INFO!F21+COUNTRY_INFO!G21)))),0)","v":0},{"$f":"MAX(COUNTRY_INFO!D21*AK21*PROFILE!$G$7,COUNTRY_INFO!D21*AL21*PROFILE!$G$7)","v":0},{"$f":"MAX(COUNTRY_INFO!D21*AK21*PROFILE!$G$8,COUNTRY_INFO!D21*AL21*PROFILE!$G$8,COUNTRY_INFO!D21*AM21*PROFILE!$G$8)","v":42701.084094578822},{"$f":"MAX(COUNTRY_INFO!D21*AK21*PROFILE!$G$9,COUNTRY_INFO!D21*AL21*PROFILE!$G$9,COUNTRY_INFO!D21*AM21*PROFILE!$G$9,IF(AND(DISTRICT!Z21<>\"Unknown\",Z21<>\"Not required\"),COUNTRY_INFO!O21*DISTRICT!AN21,0))","v":90815.036820171503},{"$f":"MAX(COUNTRY_INFO!D21*AK21*PROFILE!$G$10,COUNTRY_INFO!D21*AL21*PROFILE!$G$10,IF(AND(DISTRICT!Z21<>\"Unknown\",Z21<>\"Not required\"),COUNTRY_INFO!O21*DISTRICT!AO21,0))","v":0},133516.12091475033,"Y",{"$f":"MAX('MDA2'!J21,'T1'!L21,'T2'!J21,T3_R1!K21,T3_R2!K21)","v":20207},{"$f":"MAX('MDA1'!K21,'MDA2'!K21,'MDA3'!I21,'MDA3'!L21,'T1'!M21,'T2'!K21,T3_R1!L21,T3_R2!L21)","v":10122},{"$f":"MAX('MDA1'!L21,'MDA2'!L21,'MDA3'!J21,'MDA3'!M21,'T1'!N21,'T2'!L21,T3_R1!M21,T3_R2!M21)","v":0},30329,{"$f":"MAX('MDA2'!J21,T21)","v":20207},{"$f":"MAX('MDA1'!K21,'MDA2'!K21,'MDA3'!I21,'MDA3'!L21,V21,AD21)","v":10122},{"$f":"MAX('MDA1'!L21,'MDA2'!L21,'MDA3'!J21,'MDA3'!M21,AF21)","v":0},30329,22.715609015756968]
[{"$f":"IF(COUNTRY_INFO!A22=0,\" \",COUNTRY_INFO!A22)","v":"Uganda"},{"$f":"IF(COUNTRY_INFO!B22=0,\" \",COUNTRY_INFO!B22)","v":"Central "},{"$f":"IF(COUNTRY_INFO!C22=0,\" \",COUNTRY_INFO!C22)","v":"Lyantonde"},{"$f":"COUNTRY_INFO!L22","v":0},null,null,{"$f":"MAX('MDA1'!M22,'MDA2'!M22)","v":0},{"$f":"IF(AND(COUNTRY_INFO!H22>0,COUNTRY_INFO!H22<4),IF(D22>MAX('MDA1'!M22,'MDA2'!M22),MAX('MDA1'!M22,'MDA2'!M22),D22),0)","v":0},{"$f":"IF(AND(COUNTRY_INFO!H22>0,COUNTRY_INFO!H22<4), IF(G22/D22*100<>0, IF(G22/D22*100>100,100,G22/D22*100), \"-\"),0)","v":0},{"$f":"COUNTRY_INFO!M22","v":0},null,null,{"$f":"MAX('MDA1'!M22,MAX('MDA3'!I22,'MDA3'!L22)+MAX('MDA3'!J22,'MDA3'!M22))","v":0},{"$f":"IF(AND(COUNTRY_INFO!I22>0,COUNTRY_INFO!I22<4),IF(J22>MAX('MDA1'!M22,MAX('MDA3'!I22,'MDA3'!L22)+MAX('MDA3'!J22,'MDA3'!M22)),MAX('MDA1'!M22,MAX('MDA3'!I22,'MDA3'!L22)+MAX('MDA3'!J22,'MDA3'!M22)),J22),0)","v":0},{"$f":"IF(AND(COUNTRY_INFO!I22>0,COUNTRY_INFO!I22<4), IF(M22/J22*100<>0, IF(M22/J22*100>100,100,M22/J22*100), \"-\"),0)","v":0},{"$f":"COUNTRY_INFO!N22","v":45526},null,null,{"$f":"SUM(MAX('MDA2'!J22, 'T1'!L22, MAX(T3_R1!K22, T3_R2!K22)), MAX('MDA1'!K22, 'MDA2'!K22, 'T1'!M22, MAX(T3_R1!L22, T3_R2!L22)), MAX('MDA1'!L22, 'MDA2'!L22, 'T1'!N22, MAX(T3_R1!M22, T3_R2!M22)))","v":33791},{"$f":"IF(AND(COUNTRY_INFO!J22>1,COUNTRY_INFO!J22<4),IF(COUNTRY_INFO!E22>MAX('MDA2'!J22,'T1'!L22,MAX(T3_R1!K22,T3_R2!K22)),MAX('MDA2'!J22,'T1'!L22,MAX(T3_R1!K22,T3_R2!K22)),COUNTRY_INFO!E22),0)","v":14560},{"$f":"IF(AND(COUNTRY_INFO!J22>1,COUNTRY_INFO!J22<4), IF(T22/COUNTRY_INFO!E22*100<>0, IF(T22/COUNTRY_INFO!E22*100>100,100,T22/COUNTRY_INFO!E22*100), \"-\"),0)","v":100},{"$f":"IF(AND(COUNTRY_INFO!J22>1,COUNTRY_INFO!J22<4),IF(COUNTRY_INFO!F22>MAX('MDA1'!K22,'MDA2'!K22,'T1'!M22,MAX(T3_R1!L22,T3_R2!L22)),MAX('MDA1'!K22,'MDA2'!K22,'T1'!M22,MAX(T3_R1!L22,T3_R2!L22)),COUNTRY_INFO!F22),0)","v":11862},{"$f":"IF(AND(COUNTRY_INFO!J22>1,COUNTRY_INFO!J22<4), IF(V22/COUNTRY_INFO!F22*100<>0, IF(V22/COUNTRY_INFO!F22*100>100,100,V22/COUNTRY_INFO!F22*100), \"-\"),0)","v":38.306529742298004},26422,{"$f":"IF(AND(COUNTRY_INFO!J22>1,COUNTRY_INFO!J22<4), IF(S22/P22*100<>0, IF(X22/P22*100>100,100,X22/P22*100), \"-\"),0)","v":58.03716557571498},{"$f":"COUNTRY_INFO!O22","v":0},null,null,{"$f":"MAX('T1'!L22,'T2'!J22)+MAX('T1'!M22,'T2'!K22)+MAX('T1'!N22,'T2'!L22)","v":0},{"$f":"IF(COUNTRY_INFO!K22=1,IF(COUNTRY_INFO!F22*0.33>MAX('T1'!M22,'T2'!K22),MAX('T1'!M22,'T2'!K22),COUNTRY_INFO!F22*0.33),IF(COUNTRY_INFO!K22=2,IF(COUNTRY_INFO!F22*0.5>MAX('T1'!M22,'T2'!K22),MAX('T1'!M22,'T2'!K22),COUNTRY_INFO!F22*0.5),IF(COUNTRY_INFO!K22=3,IF(COUNTRY_INFO!F22>MAX('T1'!M22,'T2'!K22),MAX('T1'!M22,'T2'!K22),COUNTRY_INFO!F22),0)))","v":0},{"$f":"IF(AND(COUNTRY_INFO!K22>0,COUNTRY_INFO!K22<4),IF(Z22>0,IF(COUNTRY_INFO!K22=1, AD22/(COUNTRY_INFO!F22*0.33)*100, IF(COUNTRY_INFO!K22=2, AD22/(COUNTRY_INFO!F22*0.5)*100, IF(COUNTRY_INFO!K22=3, AD22/COUNTRY_INFO!F22*100))),\"-\"),0)","v":0},{"$f":"IF(COUNTRY_INFO!K22=2,IF(COUNTRY_INFO!G22*0.2>MAX('T1'!N22,'T2'!L22),MAX('T1'!N22,'T2'!L22),COUNTRY_INFO!G22*0.2),IF(COUNTRY_INFO!K22=3,IF(COUNTRY_INFO!G22>MAX('T1'!N22,'T2'!L22),MAX('T1'!N22,'T2'!L22),COUNTRY_INFO!G22),0))","v":0},{"$f":"IF(AND(COUNTRY_INFO!K22>0,COUNTRY_INFO!K22<4),IF(Z22>0,IF(COUNTRY_INFO!K22=1, 0, IF(COUNTRY_INFO!K22=2, AF22/(COUNTRY_INFO!G22*0.2)*100, IF(COUNTRY_INFO!K22=3, AF22/COUNTRY_INFO!G22*100))),\"-\"),0)","v":0},0,{"$f":"IF(AND(COUNTRY_INFO!K22>0,COUNTRY_INFO!K22<4), IF(AC22/Z22*100<>0, IF(AH22/Z22*100>100,100,AH22/Z22*100), \"-\"),0)","v":0},null,{"$f":"IF(AND(D22<>0, D22<>\"Unknown\",D22<>\"Stopped\",D22<>\"Not required\"),D22/COUNTRY_INFO!D22, 0)","v":0},{"$f":"IF(AND(J22<>0,J22<>\"Unknown\",J22<>\"Stopped\",J22<>\"Not required\"),J22/COUNTRY_INFO!D22, 0)","v":0},{"$f":"IF(AND(P22<>0,P22<>\"Unknown\",P22<>\"Not required\"),P22/(COUNTRY_INFO!E22+COUNTRY_INFO!F22), 0)","v":1},{"$f":"IF(AND(Z22<>0,Z22<>\"Unknown\",Z22<>\"Not required\"),IF(COUNTRY_INFO!K22=1,1,IF(COUNTRY_INFO!K22=2,0.5*COUNTRY_INFO!F22/(0.5*COUNTRY_INFO!F22+0.2*COUNTRY_INFO!G22),IF(COUNTRY_INFO!K22=3,COUNTRY_INFO!F22/(COUNTRY_INFO!F22+COUNTRY_INFO!G22)))),0)","v":0},{"$f":"IF(AND(Z22<>0,Z22<>\"Unknown\",Z22<>\"Not required\"),IF(COUNTRY_INFO!K22=1,0,IF(COUNTRY_INFO!K22=2,0.2*COUNTRY_INFO!G22/(0.5*COUNTRY_INFO!F22+0.2*COUNTRY_INFO!G22),IF(COUNTRY_INFO!K22=3,COUNTRY_INFO!G22/(COUNTRY_INFO!F22+COUNTRY_INFO!G22)))),0)","v":0},{"$f":"MAX(COUNTRY_INFO!D22*AK22*PROFILE!$G$7,COUNTRY_INFO!D22*AL22*PROFILE!$G$7)","v":0},{"$f":"MAX(COUNTRY_INFO!D22*AK22*PROFILE!$G$8,COUNTRY_INFO!D22*AL22*PROFILE!$G$8,COUNTRY_INFO!D22*AM22*PROFILE!$G$8)","v":14560.105212700972},{"$f":"MAX(COUNTRY_INFO!D22*AK22*PROFILE!$G$9,COUNTRY_INFO!D22*AL22*PROFILE!$G$9,COUNTRY_INFO!D22*AM22*PROFILE!$G$9,IF(AND(DISTRICT!Z22<>\"Unknown\",Z22<>\"Not required\"),COUNTRY_INFO!O22*DISTRICT!AN22,0))","v":30965.87637138892},{"$f":"MAX(COUNTRY_INFO!D22*AK22*PROFILE!$G$10,COUNTRY_INFO!D22*AL22*PROFILE!$G$10,IF(AND(DISTRICT!Z22<>\"Unknown\",Z22<>\"Not required\"),COUNTRY_INFO!O22*DISTRICT!AO22,0))","v":0},45525.981584089895,"Y",{"$f":"MAX('MDA2'!J22,'T1'!L22,'T2'!J22,T3_R1!K22,T3_R2!K22)","v":21929},{"$f":"MAX('MDA1'!K22,'MDA2'!K22,'MDA3'!I22,'MDA3'!L22,'T1'!M22,'T2'!K22,T3_R1!L22,T3_R2!L22)","v":11862},{"$f":"MAX('MDA1'!L22,'MDA2'!L22,'MDA3'!J22,'MDA3'!M22,'T1'!N22,'T2'!L22,T3_R1!M22,T3_R2!M22)","v":0},33791,{"$f":"MAX('MDA2'!J22,T22)","v":14560},{"$f":"MAX('MDA1'!K22,'MDA2'!K22,'MDA3'!I22,'MDA3'!L22,V22,AD22)","v":11862},{"$f":"MAX('MDA1'!L22,'MDA2'!L22,'MDA3'!J22,'MDA3'!M22,AF22)","v":0},26422,58.037189052577787]
[{"$f":"IF(COUNTRY_INFO!A23=0,\" \",COUNTRY_INFO!A23)","v":"Uganda"},{"$f":"IF(COUNTRY_INFO!B23=0,\" \",COUNTRY_INFO!B23)","v":"Central "},{"$f":"IF(COUNTRY_INFO!C23=0,\" \",COUNTRY_INFO!C23)","v":"Masaka"},{"$f":"COUNTRY_INFO!L23","v":0},null,null,{"$f":"MAX('MDA1'!M23,'MDA2'!M23)","v":0},{"$f":"IF(AND(COUNTRY_INFO!H23>0,COUNTRY_INFO!H23<4),IF(D23>MAX('MDA1'!M23,'MDA2'!M23),MAX('MDA1'!M23,'MDA2'!M23),D23),0)","v":0},{"$f":"IF(AND(COUNTRY_INFO!H23>0,COUNTRY_INFO!H23<4), IF(G23/D23*100<>0, IF(G23/D23*100>100,100,G23/D23*100), \"-\"),0)","v":0},{"$f":"COUNTRY_INFO!M23","v":0},null,null,{"$f":"MAX('MDA1'!M23,MAX('MDA3'!I23,'MDA3'!L23)+MAX('MDA3'!J23,'MDA3'!M23))","v":0},{"$f":"IF(AND(COUNTRY_INFO!I23>0,COUNTRY_INFO!I23<4),IF(J23>MAX('MDA1'!M23,MAX('MDA3'!I23,'MDA3'!L23)+MAX('MDA3'!J23,'MDA3'!M23)),MAX('MDA1'!M23,MAX('MDA3'!I23,'MDA3'!L23)+MAX('MDA3'!J23,'MDA3'!M23)),J23),0)","v":0},{"$f":"IF(AND(COUNTRY_INFO!I23>0,COUNTRY_INFO!I23<4), IF(M23/J23*100<>0, IF(M23/J23*100>100,100,M23/J23*100), \"-\"),0)","v":0},{"$f":"COUNTRY_INFO!N23","v":144224},null,null,{"$f":"SUM(MAX('MDA2'!J23, 'T1'!L23, MAX(T3_R1!K23, T3_R2!K23)), MAX('MDA1'!K23, 'MDA2'!K23, 'T1'!M23, MAX(T3_R1!L23, T3_R2!L23)), MAX('MDA1'!L23, 'MDA2'!L23, 'T1'!N23, MAX(T3_R1!M23, T3_R2!M23)))","v":65679},{"$f":"IF(AND(COUNTRY_INFO!J23>1,COUNTRY_INFO!J23<4),IF(COUNTRY_INFO!E23>MAX('MDA2'!J23,'T1'!L23,MAX(T3_R1!K23,T3_R2!K23)),MAX('MDA2'!J23,'T1'!L23,MAX(T3_R1!K23,T3_R2!K23)),COUNTRY_INFO!E23),0)","v":38791},{"$f":"IF(AND(COUNTRY_INFO!J23>1,COUNTRY_INFO!J23<4), IF(T23/COUNTRY_INFO!E23*100<>0, IF(T23/COUNTRY_INFO!E23*100>100,100,T23/COUNTRY_INFO!E23*100), \"-\"),0)","v":84.097905736461001},{"$f":"IF(AND(COUNTRY_INFO!J23>1,COUNTRY_INFO!J23<4),IF(COUNTRY_INFO!F23>MAX('MDA1'!K23,'MDA2'!K23,'T1'!M23,MAX(T3_R1!L23,T3_R2!L23)),MAX('MDA1'!K23,'MDA2'!K23,'T1'!M23,MAX(T3_R1!L23,T3_R2!L23)),COUNTRY_INFO!F23),0)","v":26888},{"$f":"IF(AND(COUNTRY_INFO!J23>1,COUNTRY_INFO!J23<4), IF(V23/COUNTRY_INFO!F23*100<>0, IF(V23/COUNTRY_INFO!F23*100>100,100,V23/COUNTRY_INFO!F23*100), \"-\"),0)","v":27.409325368509041},65679,{"$f":"IF(AND(COUNTRY_INFO!J23>1,COUNTRY_INFO!J23<4), IF(S23/P23*100<>0, IF(X23/P23*100>100,100,X23/P23*100), \"-\"),0)","v":45.539577324162408},{"$f":"COUNTRY_INFO!O23","v":44264},null,null,{"$f":"MAX('T1'!L23,'T2'!J23)+MAX('T1'!M23,'T2'!K23)+MAX('T1'!N23,'T2'!L23)","v":33813},{"$f":"IF(COUNTRY_INFO!K23=1,IF(COUNTRY_INFO!F23*0.33>MAX('T1'!M23,'T2'!K23),MAX('T1'!M23,'T2'!K23),COUNTRY_INFO!F23*0.33),IF(COUNTRY_INFO!K23=2,IF(COUNTRY_INFO!F23*0.5>MAX('T1'!M23,'T2'!K23),MAX('T1'!M23,'T2'!K23),COUNTRY_INFO!F23*0.5),IF(COUNTRY_INFO!K23=3,IF(COUNTRY_INFO!F23>MAX('T1'!M23,'T2'!K23),MAX('T1'!M23,'T2'!K23),COUNTRY_INFO!F23),0)))","v":17449},{"$f":"IF(AND(COUNTRY_INFO!K23>0,COUNTRY_INFO!K23<4),IF(Z23>0,IF(COUNTRY_INFO!K23=1, AD23/(COUNTRY_INFO!F23*0.33)*100, IF(COUNTRY_INFO!K23=2, AD23/(COUNTRY_INFO!F23*0.5)*100, IF(COUNTRY_INFO!K23=3, AD23/COUNTRY_INFO!F23*100))),\"-\"),0)","v":17.787314726090237},{"$f":"IF(COUNTRY_INFO!K23=2,IF(COUNTRY_INFO!G23*0.2>MAX('T1'!N23,'T2'!L23),MAX('T1'!N23,'T2'!L23),COUNTRY_INFO!G23*0.2),IF(COUNTRY_INFO!K23=3,IF(COUNTRY_INFO!G23>MAX('T1'!N23,'T2'!L23),MAX('T1'!N23,'T2'!L23),COUNTRY_INFO!G23),0))","v":16364},{"$f":"IF(AND(COUNTRY_INFO!K23>0,COUNTRY_INFO!K23<4),IF(Z23>0,IF(COUNTRY_INFO!K23=1, 0, IF(COUNTRY_INFO!K23=2, AF23/(COUNTRY_INFO!G23*0.2)*100, IF(COUNTRY_INFO!K23=3, AF23/COUNTRY_INFO!G23*100))),\"-\"),0)","v":9.6693946287706449},33813,{"$f":"IF(AND(COUNTRY_INFO!K23>0,COUNTRY_INFO!K23<4), IF(AC23/Z23*100<>0, IF(AH23/Z23*100>100,100,AH23/Z23*100), \"-\"),0)","v":76.389390927164285},null,{"$f":"IF(AND(D23<>0, D23<>\"Unknown\",D23<>\"Stopped\",D23<>\"Not required\"),D23/COUNTRY_INFO!D23, 0)","v":0},{"$f":"IF(AND(J23<>0,J23<>\"Unknown\",J23<>\"Stopped\",J23<>\"Not required\"),J23/COUNTRY_INFO!D23, 0)","v":0},{"$f":"IF(AND(P23<>0,P23<>\"Unknown\",P23<>\"Not required\"),P23/(COUNTRY_INFO!E23+COUNTRY_INFO!F23), 0)","v":1},{"$f":"IF(AND(Z23<>0,Z23<>\"Unknown\",Z23<>\"Not required\"),IF(COUNTRY_INFO!K23=1,1,IF(COUNTRY_INFO!K23=2,0.5*COUNTRY_INFO!F23/(0.5*COUNTRY_INFO!F23+0.2*COUNTRY_INFO!G23),IF(COUNTRY_INFO!K23=3,COUNTRY_INFO!F23/(COUNTRY_INFO!F23+COUNTRY_INFO!G23)))),0)","v":0.36695058223264615},{"$f":"IF(AND(Z23<>0,Z23<>\"Unknown\",Z23<>\"Not required\"),IF(COUNTRY_INFO!K23=1,0,IF(COUNTRY_INFO!K23=2,0.2*COUNTRY_INFO!G23/(0.5*COUNTRY_INFO!F23+0.2*COUNTRY_INFO!G23),IF(COUNTRY_INFO!K23=3,COUNTRY_INFO!G23/(COUNTRY_INFO!F23+COUNTRY_INFO!G23)))),0)","v":0.63304941776735379},{"$f":"MAX(COUNTRY_INFO!D23*AK23*PROFILE!$G$7,COUNTRY_INFO!D23*AL23*PROFILE!$G$7)","v":0},{"$f":"MAX(COUNTRY_INFO!D23*AK23*PROFILE!$G$8,COUNTRY_INFO!D23*AL23*PROFILE!$G$8,COUNTRY_INFO!D23*AM23*PROFILE!$G$8)","v":46125.554498237019},{"$f":"MAX(COUNTRY_INFO!D23*AK23*PROFILE!$G$9,COUNTRY_INFO!D23*AL23*PROFILE!$G$9,COUNTRY_INFO!D23*AM23*PROFILE!$G$9,IF(AND(DISTRICT!Z23<>\"Unknown\",Z23<>\"Not required\"),COUNTRY_INFO!O23*DISTRICT!AN23,0))","v":98098.069848302257},{"$f":"MAX(COUNTRY_INFO!D23*AK23*PROFILE!$G$10,COUNTRY_INFO!D23*AL23*PROFILE!$G$10,IF(AND(DISTRICT!Z23<>\"Unknown\",Z23<>\"Not required\"),COUNTRY_INFO!O23*DISTRICT!AO23,0))","v":28021.29942805415},172244.92377459342,"Y",{"$f":"MAX('MDA2'!J23,'T1'!L23,'T2'!J23,T3_R1!K23,T3_R2!K23)","v":38791},{"$f":"MAX('MDA1'!K23,'MDA2'!K23,'MDA3'!I23,'MDA3'!L23,'T1'!M23,'T2'!K23,T3_R1!L23,T3_R2!L23)","v":26888},{"$f":"MAX('MDA1'!L23,'MDA2'!L23,'MDA3'!J23,'MDA3'!M23,'T1'!N23,'T2'!L23,T3_R1!M23,T3_R2!M23)","v":16364},82043,{"$f":"MAX('MDA2'!J23,T23)","v":38791},{"$f":"MAX('MDA1'!K23,'MDA2'!K23,'MDA3'!I23,'MDA3'!L23,V23,AD23)","v":26888},{"$f":"MAX('MDA1'!L23,'MDA2'!L23,'MDA3'!J23,'MDA3'!M23,AF23)","v":16364},82043,47.631592387224572]
[{"$f":"IF(COUNTRY_INFO!A24=0,\" \",COUNTRY_INFO!A24)","v":"Uganda"},{"$f":"IF(COUNTRY_INFO!B24=0,\" \",COUNTRY_INFO!B24)","v":"Central "},{"$f":"IF(COUNTRY_INFO!C24=0,\" \",COUNTRY_INFO!C24)","v":"Mityana"},{"$f":"COUNTRY_INFO!L24","v":0},null,null,{"$f":"MAX('MDA1'!M24,'MDA2'!M24)","v":0},{"$f":"IF(AND(COUNTRY_INFO!H24>0,COUNTRY_INFO!H24<4),IF(D24>MAX('MDA1'!M24,'MDA2'!M24),MAX('MDA1'!M24,'MDA2'!M24),D24),0)","v":0},{"$f":"IF(AND(COUNTRY_INFO!H24>0,COUNTRY_INFO!H24<4), IF(G24/D24*100<>0, IF(G24/D24*100>100,100,G24/D24*100), \"-\"),0)","v":0},{"$f":"COUNTRY_INFO!M24","v":0},null,null,{"$f":"MAX('MDA1'!M24,MAX('MDA3'!I24,'MDA3'!L24)+MAX('MDA3'!J24,'MDA3'!M24))","v":0},{"$f":"IF(AND(COUNTRY_INFO!I24>0,COUNTRY_INFO!I24<4),IF(J24>MAX('MDA1'!M24,MAX('MDA3'!I24,'MDA3'!L24)+MAX('MDA3'!J24,'MDA3'!M24)),MAX('MDA1'!M24,MAX('MDA3'!I24,'MDA3'!L24)+MAX('MDA3'!J24,'MDA3'!M24)),J24),0)","v":0},{"$f":"IF(AND(COUNTRY_INFO!I24>0,COUNTRY_INFO!I24<4), IF(M24/J24*100<>0, IF(M24/J24*100>100,100,M24/J24*100), \"-\"),0)","v":0},{"$f":"COUNTRY_INFO!N24","v":159743},null,null,{"$f":"SUM(MAX('MDA2'!J24, 'T1'!L24, MAX(T3_R1!K24, T3_R2!K24)), MAX('MDA1'!K24, 'MDA2'!K24, 'T1'!M24, MAX(T3_R1!L24, T3_R2!L24)), MAX('MDA1'!L24, 'MDA2'!L24, 'T1'!N24, MAX(T3_R1!M24, T3_R2!M24)))","v":70843},{"$f":"IF(AND(COUNTRY_INFO!J24>1,COUNTRY_INFO!J24<4),IF(COUNTRY_INFO!E24>MAX('MDA2'!J24,'T1'!L24,MAX(T3_R1!K24,T3_R2!K24)),MAX('MDA2'!J24,'T1'!L24,MAX(T3_R1!K24,T3_R2!K24)),COUNTRY_INFO!E24),0)","v":41980},{"$f":"IF(AND(COUNTRY_INFO!J24>1,COUNTRY_INFO!J24<4), IF(T24/COUNTRY_INFO!E24*100<>0, IF(T24/COUNTRY_INFO!E24*100>100,100,T24/COUNTRY_INFO!E24*100), \"-\"),0)","v":82.170330208068279},{"$f":"IF(AND(COUNTRY_INFO!J24>1,COUNTRY_INFO!J24<4),IF(COUNTRY_INFO!F24>MAX('MDA1'!K24,'MDA2'!K24,'T1'!M24,MAX(T3_R1!L24,T3_R2!L24)),MAX('MDA1'!K24,'MDA2'!K24,'T1'!M24,MAX(T3_R1!L24,T3_R2!L24)),COUNTRY_INFO!F24),0)","v":28863},{"$f":"IF(AND(COUNTRY_INFO!J24>1,COUNTRY_INFO!J24<4), IF(V24/COUNTRY_INFO!F24*100<>0, IF(V24/COUNTRY_INFO!F24*100>100,100,V24/COUNTRY_INFO!F24*100), \"-\"),0)","v":26.564139378209727},70843,{"$f":"IF(AND(COUNTRY_INFO!J24>1,COUNTRY_INFO!J24<4), IF(S24/P24*100<>0, IF(X24/P24*100>100,100,X24/P24*100), \"-\"),0)","v":44.348109150322706},{"$f":"COUNTRY_INFO!O24","v":27404},null,null,{"$f":"MAX('T1'!L24,'T2'!J24)+MAX('T1'!M24,'T2'!K24)+MAX('T1'!N24,'T2'!L24)","v":18925},{"$f":"IF(COUNTRY_INFO!K24=1,IF(COUNTRY_INFO!F24*0.33>MAX('T1'!M24,'T2'!K24),MAX('T1'!M24,'T2'!K24),COUNTRY_INFO!F24*0.33),IF(COUNTRY_INFO!K24=2,IF(COUNTRY_INFO!F24*0.5>MAX('T1'!M24,'T2'!K24),MAX('T1'!M24,'T2'!K24),COUNTRY_INFO!F24*0.5),IF(COUNTRY_INFO!K24=3,IF(COUNTRY_INFO!F24>MAX('T1'!M24,'T2'!K24),MAX('T1'!M24,'T2'!K24),COUNTRY_INFO!F24),0)))","v":11661},{"$f":"IF(AND(COUNTRY_INFO!K24>0,COUNTRY_INFO!K24<4),IF(Z24>0,IF(COUNTRY_INFO!K24=1, AD24/(COUNTRY_INFO!F24*0.33)*100, IF(COUNTRY_INFO!K24=2, AD24/(COUNTRY_INFO!F24*0.5)*100, IF(COUNTRY_INFO!K24=3, AD24/COUNTRY_INFO!F24*100))),\"-\"),0)","v":10.732232591529074},{"$f":"IF(COUNTRY_INFO!K24=2,IF(COUNTRY_INFO!G24*0.2>MAX('T1'!N24,'T2'!L24),MAX('T1'!N24,'T2'!L24),COUNTRY_INFO!G24*0.2),IF(COUNTRY_INFO!K24=3,IF(COUNTRY_INFO!G24>MAX('T1'!N24,'T2'!L24),MAX('T1'!N24,'T2'!L24),COUNTRY_INFO!G24),0))","v":7264},{"$f":"IF(AND(COUNTRY_INFO!K24>0,COUNTRY_INFO!K24<4),IF(Z24>0,IF(COUNTRY_INFO!K24=1, 0, IF(COUNTRY_INFO!K24=2, AF24/(COUNTRY_INFO!G24*0.2)*100, IF(COUNTRY_INFO!K24=3, AF24/COUNTRY_INFO!G24*100))),\"-\"),0)","v":3.8752287313213869},18925,{"$f":"IF(AND(COUNTRY_INFO!K24>0,COUNTRY_INFO!K24<4), IF(AC24/Z24*100<>0, IF(AH24/Z24*100>100,100,AH24/Z24*100), \"-\"),0)","v":69.059261421690266},null,{"$f":"IF(AND(D24<>0, D24<>\"Unknown\",D24<>\"Stopped\",D24<>\"Not required\"),D24/COUNTRY_INFO!D24, 0)","v":0},{"$f":"IF(AND(J24<>0,J24<>\"Unknown\",J24<>\"Stopped\",J24<>\"Not required\"),J24/COUNTRY_INFO!D24, 0)","v":0},{"$f":"IF(AND(P24<>0,P24<>\"Unknown\",P24<>\"Not required\"),P24/(COUNTRY_INFO!E24+COUNTRY_INFO!F24), 0)","v":1},{"$f":"IF(AND(Z24<>0,Z24<>\"Unknown\",Z24<>\"Not required\"),IF(COUNTRY_INFO!K24=1,1,IF(COUNTRY_INFO!K24=2,0.5*COUNTRY_INFO!F24/(0.5*COUNTRY_INFO!F24+0.2*COUNTRY_INFO!G24),IF(COUNTRY_INFO!K24=3,COUNTRY_INFO!F24/(COUNTRY_INFO!F24+COUNTRY_INFO!G24)))),0)","v":0.36694911533564561},{"$f":"IF(AND(Z24<>0,Z24<>\"Unknown\",Z24<>\"Not required\"),IF(COUNTRY_INFO!K24=1,0,IF(COUNTRY_INFO!K24=2,0.2*COUNTRY_INFO!G24/(0.5*COUNTRY_INFO!F24+0.2*COUNTRY_INFO!G24),IF(COUNTRY_INFO!K24=3,COUNTRY_INFO!G24/(COUNTRY_INFO!F24+COUNTRY_INFO!G24)))),0)","v":0.63305088466435444},{"$f":"MAX(COUNTRY_INFO!D24*AK24*PROFILE!$G$7,COUNTRY_INFO!D24*AL24*PROFILE!$G$7)","v":0},{"$f":"MAX(COUNTRY_INFO!D24*AK24*PROFILE!$G$8,COUNTRY_INFO!D24*AL24*PROFILE!$G$8,COUNTRY_INFO!D24*AM24*PROFILE!$G$8)","v":51089.162184415167},{"$f":"MAX(COUNTRY_INFO!D24*AK24*PROFILE!$G$9,COUNTRY_INFO!D24*AL24*PROFILE!$G$9,COUNTRY_INFO!D24*AM24*PROFILE!$G$9,IF(AND(DISTRICT!Z24<>\"Unknown\",Z24<>\"Not required\"),COUNTRY_INFO!O24*DISTRICT!AN24,0))","v":108654.48133852911},{"$f":"MAX(COUNTRY_INFO!D24*AK24*PROFILE!$G$10,COUNTRY_INFO!D24*AL24*PROFILE!$G$10,IF(AND(DISTRICT!Z24<>\"Unknown\",Z24<>\"Not required\"),COUNTRY_INFO!O24*DISTRICT!AO24,0))","v":17348.126443341967},177091.76996628623,"Y",{"$f":"MAX('MDA2'!J24,'T1'!L24,'T2'!J24,T3_R1!K24,T3_R2!K24)","v":41980},{"$f":"MAX('MDA1'!K24,'MDA2'!K24,'MDA3'!I24,'MDA3'!L24,'T1'!M24,'T2'!K24,T3_R1!L24,T3_R2!L24)","v":28863},{"$f":"MAX('MDA1'!L24,'MDA2'!L24,'MDA3'!J24,'MDA3'!M24,'T1'!N24,'T2'!L24,T3_R1!M24,T3_R2!M24)","v":7264},78107,{"$f":"MAX('MDA2'!J24,T24)","v":41980},{"$f":"MAX('MDA1'!K24,'MDA2'!K24,'MDA3'!I24,'MDA3'!L24,V24,AD24)","v":28863},{"$f":"MAX('MDA1'!L24,'MDA2'!L24,'MDA3'!J24,'MDA3'!M24,AF24)","v":7264},78107,44.105381077206232]
[{"$f":"IF(COUNTRY_INFO!A25=0,\" \",COUNTRY_INFO!A25)","v":"Uganda"},{"$f":"IF(COUNTRY_INFO!B25=0,\" \",COUNTRY_INFO!B25)","v":"Central "},{"$f":"IF(COUNTRY_INFO!C25=0,\" \",COUNTRY_INFO!C25)","v":"Mpigi"},{"$f":"COUNTRY_INFO!L25","v":0},null,null,{"$f":"MAX('MDA1'!M25,'MDA2'!M25)","v":0},{"$f":"IF(AND(COUNTRY_INFO!H25>0,COUNTRY_INFO!H25<4),IF(D25>MAX('MDA1'!M25,'MDA2'!M25),MAX('MDA1'!M25,'MDA2'!M25),D25),0)","v":0},{"$f":"IF(AND(COUNTRY_INFO!H25>0,COUNTRY_INFO!H25<4), IF(G25/D25*100<>0, IF(G25/D25*100>100,100,G25/D25*100), \"-\"),0)","v":0},{"$f":"COUNTRY_INFO!M25","v":0},null,null,{"$f":"MAX('MDA1'!M25,MAX('MDA3'!I25,'MDA3'!L25)+MAX('MDA3'!J25,'MDA3'!M25))","v":0},{"$f":"IF(AND(COUNTRY_INFO!I25>0,COUNTRY_INFO!I25<4),IF(J25>MAX('MDA1'!M25,MAX('MDA3'!I25,'MDA3'!L25)+MAX('MDA3'!J25,'MDA3'!M25)),MAX('MDA1'!M25,MAX('MDA3'!I25,'MDA3'!L25)+MAX('MDA3'!J25,'MDA3'!M25)),J25),0)","v":0},{"$f":"IF(AND(COUNTRY_INFO!I25>0,COUNTRY_INFO!I25<4), IF(M25/J25*100<>0, IF(M25/J25*100>100,100,M25/J25*100), \"-\"),0)","v":0},{"$f":"COUNTRY_INFO!N25","v":121665},null,null,{"$f":"SUM(MAX('MDA2'!J25, 'T1'!L25, MAX(T3_R1!K25, T3_R2!K25)), MAX('MDA1'!K25, 'MDA2'!K25, 'T1'!M25, MAX(T3_R1!L25, T3_R2!L25)), MAX('MDA1'!L25, 'MDA2'!L25, 'T1'!N25, MAX(T3_R1!M25, T3_R2!M25)))","v":108447},{"$f":"IF(AND(COUNTRY_INFO!J25>1,COUNTRY_INFO!J25<4),IF(COUNTRY_INFO!E25>MAX('MDA2'!J25,'T1'!L25,MAX(T3_R1!K25,T3_R2!K25)),MAX('MDA2'!J25,'T1'!L25,MAX(T3_R1!K25,T3_R2!K25)),COUNTRY_INFO!E25),0)","v":30354},{"$f":"IF(AND(COUNTRY_INFO!J25>1,COUNTRY_INFO!J25<4), IF(T25/COUNTRY_INFO!E25*100<>0, IF(T25/COUNTRY_INFO!E25*100>100,100,T25/COUNTRY_INFO!E25*100), \"-\"),0)","v":78.008789288376036},{"$f":"IF(AND(COUNTRY_INFO!J25>1,COUNTRY_INFO!J25<4),IF(COUNTRY_INFO!F25>MAX('MDA1'!K25,'MDA2'!K25,'T1'!M25,MAX(T3_R1!L25,T3_R2!L25)),MAX('MDA1'!K25,'MDA2'!K25,'T1'!M25,MAX(T3_R1!L25,T3_R2!L25)),COUNTRY_INFO!F25),0)","v":78093},{"$f":"IF(AND(COUNTRY_INFO!J25>1,COUNTRY_INFO!J25<4), IF(V25/COUNTRY_INFO!F25*100<>0, IF(V25/COUNTRY_INFO!F25*100>100,100,V25/COUNTRY_INFO!F25*100), \"-\"),0)","v":94.367643860115521},108447,{"$f":"IF(AND(COUNTRY_INFO!J25>1,COUNTRY_INFO!J25<4), IF(S25/P25*100<>0, IF(X25/P25*100>100,100,X25/P25*100), \"-\"),0)","v":89.135741585501165},{"$f":"COUNTRY_INFO!O25","v":102457},null,null,{"$f":"MAX('T1'!L25,'T2'!J25)+MAX('T1'!M25,'T2'!K25)+MAX('T1'!N25,'T2'!L25)","v":97974},{"$f":"IF(COUNTRY_INFO!K25=1,IF(COUNTRY_INFO!F25*0.33>MAX('T1'!M25,'T2'!K25),MAX('T1'!M25,'T2'!K25),COUNTRY_INFO!F25*0.33),IF(COUNTRY_INFO!K25=2,IF(COUNTRY_INFO!F25*0.5>MAX('T1'!M25,'T2'!K25),MAX('T1'!M25,'T2'!K25),COUNTRY_INFO!F25*0.5),IF(COUNTRY_INFO!K25=3,IF(COUNTRY_INFO!F25>MAX('T1'!M25,'T2'!K25),MAX('T1'!M25,'T2'!K25),COUNTRY_INFO!F25),0)))","v":41377},{"$f":"IF(AND(COUNTRY_INFO!K25>0,COUNTRY_INFO!K25<4),IF(Z25>0,IF(COUNTRY_INFO!K25=1, AD25/(COUNTRY_INFO!F25*0.33)*100, IF(COUNTRY_INFO!K25=2, AD25/(COUNTRY_INFO!F25*0.5)*100, IF(COUNTRY_INFO!K25=3, AD25/COUNTRY_INFO!F25*100))),\"-\"),0)","v":100},{"$f":"IF(COUNTRY_INFO!K25=2,IF(COUNTRY_INFO!G25*0.2>MAX('T1'!N25,'T2'!L25),MAX('T1'!N25,'T2'!L25),COUNTRY_INFO!G25*0.2),IF(COUNTRY_INFO!K25=3,IF(COUNTRY_INFO!G25>MAX('T1'!N25,'T2'!L25),MAX('T1'!N25,'T2'!L25),COUNTRY_INFO!G25),0))","v":28553},{"$f":"IF(AND(COUNTRY_INFO!K25>0,COUNTRY_INFO!K25<4),IF(Z25>0,IF(COUNTRY_INFO!K25=1, 0, IF(COUNTRY_INFO!K25=2, AF25/(COUNTRY_INFO!G25*0.2)*100, IF(COUNTRY_INFO!K25=3, AF25/COUNTRY_INFO!G25*100))),\"-\"),0)","v":100},69930,{"$f":"IF(AND(COUNTRY_INFO!K25>0,COUNTRY_INFO!K25<4), IF(AC25/Z25*100<>0, IF(AH25/Z25*100>100,100,AH25/Z25*100), \"-\"),0)","v":68.253023219496953},null,{"$f":"IF(AND(D25<>0, D25<>\"Unknown\",D25<>\"Stopped\",D25<>\"Not required\"),D25/COUNTRY_INFO!D25, 0)","v":0},{"$f":"IF(AND(J25<>0,J25<>\"Unknown\",J25<>\"Stopped\",J25<>\"Not required\"),J25/COUNTRY_INFO!D25, 0)","v":0},{"$f":"IF(AND(P25<>0,P25<>\"Unknown\",P25<>\"Not required\"),P25/(COUNTRY_INFO!E25+COUNTRY_INFO!F25), 0)","v":1},{"$f":"IF(AND(Z25<>0,Z25<>\"Unknown\",Z25<>\"Not required\"),IF(COUNTRY_INFO!K25=1,1,IF(COUNTRY_INFO!K25=2,0.5*COUNTRY_INFO!F25/(0.5*COUNTRY_INFO!F25+0.2*COUNTRY_INFO!G25),IF(COUNTRY_INFO!K25=3,COUNTRY_INFO!F25/(COUNTRY_INFO!F25+COUNTRY_INFO!G25)))),0)","v":0.59169169169169167},{"$f":"IF(AND(Z25<>0,Z25<>\"Unknown\",Z25<>\"Not required\"),IF(COUNTRY_INFO!K25=1,0,IF(COUNTRY_INFO!K25=2,0.2*COUNTRY_INFO!G25/(0.5*COUNTRY_INFO!F25+0.2*COUNTRY_INFO!G25),IF(COUNTRY_INFO!K25=3,COUNTRY_INFO!G25/(COUNTRY_INFO!F25+COUNTRY_INFO!G25)))),0)","v":0.40830830830830833},{"$f":"MAX(COUNTRY_INFO!D25*AK25*PROFILE!$G$7,COUNTRY_INFO!D25*AL25*PROFILE!$G$7)","v":0},{"$f":"MAX(COUNTRY_INFO!D25*AK25*PROFILE!$G$8,COUNTRY_INFO!D25*AL25*PROFILE!$G$8,COUNTRY_INFO!D25*AM25*PROFILE!$G$8)","v":38910.963861370961},{"$f":"MAX(COUNTRY_INFO!D25*AK25*PROFILE!$G$9,COUNTRY_INFO!D25*AL25*PROFILE!$G$9,COUNTRY_INFO!D25*AM25*PROFILE!$G$9,IF(AND(DISTRICT!Z25<>\"Unknown\",Z25<>\"Not required\"),COUNTRY_INFO!O25*DISTRICT!AN25,0))","v":82754.353682261484},{"$f":"MAX(COUNTRY_INFO!D25*AK25*PROFILE!$G$10,COUNTRY_INFO!D25*AL25*PROFILE!$G$10,IF(AND(DISTRICT!Z25<>\"Unknown\",Z25<>\"Not required\"),COUNTRY_INFO!O25*DISTRICT!AO25,0))","v":41834.044344344344},163499.36188797679,"Y",{"$f":"MAX('MDA2'!J25,'T1'!L25,'T2'!J25,T3_R1!K25,T3_R2!K25)","v":30354},{"$f":"MAX('MDA1'!K25,'MDA2'!K25,'MDA3'!I25,'MDA3'!L25,'T1'!M25,'T2'!K25,T3_R1!L25,T3_R2!L25)","v":78093},{"$f":"MAX('MDA1'!L25,'MDA2'!L25,'MDA3'!J25,'MDA3'!M25,'T1'!N25,'T2'!L25,T3_R1!M25,T3_R2!M25)","v":50223},158670,{"$f":"MAX('MDA2'!J25,T25)","v":30354},{"$f":"MAX('MDA1'!K25,'MDA2'!K25,'MDA3'!I25,'MDA3'!L25,V25,AD25)","v":78093},{"$f":"MAX('MDA1'!L25,'MDA2'!L25,'MDA3'!J25,'MDA3'!M25,AF25)","v":28553},137000,83.792375956712846]
[{"$f":"IF(COUNTRY_INFO!A26=0,\" \",COUNTRY_INFO!A26)","v":"Uganda"},{"$f":"IF(COUNTRY_INFO!B26=0,\" \",COUNTRY_INFO!B26)","v":"Central "},{"$f":"IF(COUNTRY_INFO!C26=0,\" \",COUNTRY_INFO!C26)","v":"Mubende"},{"$f":"COUNTRY_INFO!L26","v":0},null,null,{"$f":"MAX('MDA1'!M26,'MDA2'!M26)","v":0},{"$f":"IF(AND(COUNTRY_INFO!H26>0,COUNTRY_INFO!H26<4),IF(D26>MAX('MDA1'!M26,'MDA2'!M26),MAX('MDA1'!M26,'MDA2'!M26),D26),0)","v":0},{"$f":"IF(AND(COUNTRY_INFO!H26>0,COUNTRY_INFO!H26<4), IF(G26/D26*100<>0, IF(G26/D26*100>100,100,G26/D26*100), \"-\"),0)","v":0},{"$f":"COUNTRY_INFO!M26","v":0},null,null,{"$f":"MAX('MDA1'!M26,MAX('MDA3'!I26,'MDA3'!L26)+MAX('MDA3'!J26,'MDA3'!M26))","v":0},{"$f":"IF(AND(COUNTRY_INFO!I26>0,COUNTRY_INFO!I26<4),IF(J26>MAX('MDA1'!M26,MAX('MDA3'!I26,'MDA3'!L26)+MAX('MDA3'!J26,'MDA3'!M26)),MAX('MDA1'!M26,MAX('MDA3'!I26,'MDA3'!L26)+MAX('MDA3'!J26,'MDA3'!M26)),J26),0)","v":0},{"$f":"IF(AND(COUNTRY_INFO!I26>0,COUNTRY_INFO!I26<4), IF(M26/J26*100<>0, IF(M26/J26*100>100,100,M26/J26*100), \"-\"),0)","v":0},{"$f":"COUNTRY_INFO!N26","v":332310},null,null,{"$f":"SUM(MAX('MDA2'!J26, 'T1'!L26, MAX(T3_R1!K26, T3_R2!K26)), MAX('MDA1'!K26, 'MDA2'!K26, 'T1'!M26, MAX(T3_R1!L26, T3_R2!L26)), MAX('MDA1'!L26, 'MDA2'!L26, 'T1'!N26, MAX(T3_R1!M26, T3_R2!M26)))","v":66779},{"$f":"IF(AND(COUNTRY_INFO!J26>1,COUNTRY_INFO!J26<4),IF(COUNTRY_INFO!E26>MAX('MDA2'!J26,'T1'!L26,MAX(T3_R1!K26,T3_R2!K26)),MAX('MDA2'!J26,'T1'!L26,MAX(T3_R1!K26,T3_R2!K26)),COUNTRY_INFO!E26),0)","v":35815},{"$f":"IF(AND(COUNTRY_INFO!J26>1,COUNTRY_INFO!J26<4), IF(T26/COUNTRY_INFO!E26*100<>0, IF(T26/COUNTRY_INFO!E26*100>100,100,T26/COUNTRY_INFO!E26*100), \"-\"),0)","v":33.69903743919307},{"$f":"IF(AND(COUNTRY_INFO!J26>1,COUNTRY_INFO!J26<4),IF(COUNTRY_INFO!F26>MAX('MDA1'!K26,'MDA2'!K26,'T1'!M26,MAX(T3_R1!L26,T3_R2!L26)),MAX('MDA1'!K26,'MDA2'!K26,'T1'!M26,MAX(T3_R1!L26,T3_R2!L26)),COUNTRY_INFO!F26),0)","v":30964},{"$f":"IF(AND(COUNTRY_INFO!J26>1,COUNTRY_INFO!J26<4), IF(V26/COUNTRY_INFO!F26*100<>0, IF(V26/COUNTRY_INFO!F26*100>100,100,V26/COUNTRY_INFO!F26*100), \"-\"),0)","v":13.699005888572808},66779,{"$f":"IF(AND(COUNTRY_INFO!J26>1,COUNTRY_INFO!J26<4), IF(S26/P26*100<>0, IF(X26/P26*100>100,100,X26/P26*100), \"-\"),0)","v":20.095392856068127},{"$f":"COUNTRY_INFO!O26","v":51692},null,null,{"$f":"MAX('T1'!L26,'T2'!J26)+MAX('T1'!M26,'T2'!K26)+MAX('T1'!N26,'T2'!L26)","v":49178},{"$f":"IF(COUNTRY_INFO!K26=1,IF(COUNTRY_INFO!F26*0.33>MAX('T1'!M26,'T2'!K26),MAX('T1'!M26,'T2'!K26),COUNTRY_INFO!F26*0.33),IF(COUNTRY_INFO!K26=2,IF(COUNTRY_INFO!F26*0.5>MAX('T1'!M26,'T2'!K26),MAX('T1'!M26,'T2'!K26),COUNTRY_INFO!F26*0.5),IF(COUNTRY_INFO!K26=3,IF(COUNTRY_INFO!F26>MAX('T1'!M26,'T2'!K26),MAX('T1'!M26,'T2'!K26),COUNTRY_INFO!F26),0)))","v":49178},{"$f":"IF(AND(COUNTRY_INFO!K26>0,COUNTRY_INFO!K26<4),IF(Z26>0,IF(COUNTRY_INFO!K26=1, AD26/(COUNTRY_INFO!F26*0.33)*100, IF(COUNTRY_INFO!K26=2, AD26/(COUNTRY_INFO!F26*0.5)*100, IF(COUNTRY_INFO!K26=3, AD26/COUNTRY_INFO!F26*100))),\"-\"),0)","v":65.930886659016863},{"$f":"IF(COUNTRY_INFO!K26=2,IF(COUNTRY_INFO!G26*0.2>MAX('T1'!N26,'T2'!L26),MAX('T1'!N26,'T2'!L26),COUNTRY_INFO!G26*0.2),IF(COUNTRY_INFO!K26=3,IF(COUNTRY_INFO!G26>MAX('T1'!N26,'T2'!L26),MAX('T1'!N26,'T2'!L26),COUNTRY_INFO!G26),0))","v":0},{"$f":"IF(AND(COUNTRY_INFO!K26>0,COUNTRY_INFO!K26<4),IF(Z26>0,IF(COUNTRY_INFO!K26=1, 0, IF(COUNTRY_INFO!K26=2, AF26/(COUNTRY_INFO!G26*0.2)*100, IF(COUNTRY_INFO!K26=3, AF26/COUNTRY_INFO!G26*100))),\"-\"),0)","v":0},49178,{"$f":"IF(AND(COUNTRY_INFO!K26>0,COUNTRY_INFO!K26<4), IF(AC26/Z26*100<>0, IF(AH26/Z26*100>100,100,AH26/Z26*100), \"-\"),0)","v":95.136578193917813},null,{"$f":"IF(AND(D26<>0, D26<>\"Unknown\",D26<>\"Stopped\",D26<>\"Not required\"),D26/COUNTRY_INFO!D26, 0)","v":0},{"$f":"IF(AND(J26<>0,J26<>\"Unknown\",J26<>\"Stopped\",J26<>\"Not required\"),J26/COUNTRY_INFO!D26, 0)","v":0},{"$f":"IF(AND(P26<>0,P26<>\"Unknown\",P26<>\"Not required\"),P26/(COUNTRY_INFO!E26+COUNTRY_INFO!F26), 0)","v":1},{"$f":"IF(AND(Z26<>0,Z26<>\"Unknown\",Z26<>\"Not required\"),IF(COUNTRY_INFO!K26=1,1,IF(COUNTRY_INFO!K26=2,0.5*COUNTRY_INFO!F26/(0.5*COUNTRY_INFO!F26+0.2*COUNTRY_INFO!G26),IF(COUNTRY_INFO!K26=3,COUNTRY_INFO!F26/(COUNTRY_INFO!F26+COUNTRY_INFO!G26)))),0)","v":1},{"$f":"IF(AND(Z26<>0,Z26<>\"Unknown\",Z26<>\"Not required\"),IF(COUNTRY_INFO!K26=1,0,IF(COUNTRY_INFO!K26=2,0.2*COUNTRY_INFO!G26/(0.5*COUNTRY_INFO!F26+0.2*COUNTRY_INFO!G26),IF(COUNTRY_INFO!K26=3,COUNTRY_INFO!G26/(COUNTRY_INFO!F26+COUNTRY_INFO!G26)))),0)","v":0},{"$f":"MAX(COUNTRY_INFO!D26*AK26*PROFILE!$G$7,COUNTRY_INFO!D26*AL26*PROFILE!$G$7)","v":0},{"$f":"MAX(COUNTRY_INFO!D26*AK26*PROFILE!$G$8,COUNTRY_INFO!D26*AL26*PROFILE!$G$8,COUNTRY_INFO!D26*AM26*PROFILE!$G$8)","v":106279.42445707267},{"$f":"MAX(COUNTRY_INFO!D26*AK26*PROFILE!$G$9,COUNTRY_INFO!D26*AL26*PROFILE!$G$9,COUNTRY_INFO!D26*AM26*PROFILE!$G$9,IF(AND(DISTRICT!Z26<>\"Unknown\",Z26<>\"Not required\"),COUNTRY_INFO!O26*DISTRICT!AN26,0))","v":226031.02590833389},{"$f":"MAX(COUNTRY_INFO!D26*AK26*PROFILE!$G$10,COUNTRY_INFO!D26*AL26*PROFILE!$G$10,IF(AND(DISTRICT!Z26<>\"Unknown\",Z26<>\"Not required\"),COUNTRY_INFO!O26*DISTRICT!AO26,0))","v":0},332310.45036540658,"Y",{"$f":"MAX('MDA2'!J26,'T1'!L26,'T2'!J26,T3_R1!K26,T3_R2!K26)","v":35815},{"$f":"MAX('MDA1'!K26,'MDA2'!K26,'MDA3'!I26,'MDA3'!L26,'T1'!M26,'T2'!K26,T3_R1!L26,T3_R2!L26)","v":49178},{"$f":"MAX('MDA1'!L26,'MDA2'!L26,'MDA3'!J26,'MDA3'!M26,'T1'!N26,'T2'!L26,T3_R1!M26,T3_R2!M26)","v":0},84993,{"$f":"MAX('MDA2'!J26,T26)","v":35815},{"$f":"MAX('MDA1'!K26,'MDA2'!K26,'MDA3'!I26,'MDA3'!L26,V26,AD26)","v":49178},{"$f":"MAX('MDA1'!L26,'MDA2'!L26,'MDA3'!J26,'MDA3'!M26,AF26)","v":0},84993,25.576384945626057]
[{"$f":"IF(COUNTRY_INFO!A27=0,\" \",COUNTRY_INFO!A27)","v":"Uganda"},{"$f":"IF(COUNTRY_INFO!B27=0,\" \",COUNTRY_INFO!B27)","v":"Central "},{"$f":"IF(COUNTRY_INFO!C27=0,\" \",COUNTRY_INFO!C27)","v":"Mukono"},{"$f":"COUNTRY_INFO!L27","v":0},null,null,{"$f":"MAX('MDA1'!M27,'MDA2'!M27)","v":0},{"$f":"IF(AND(COUNTRY_INFO!H27>0,COUNTRY_INFO!H27<4),IF(D27>MAX('MDA1'!M27,'MDA2'!M27),MAX('MDA1'!M27,'MDA2'!M27),D27),0)","v":0},{"$f":"IF(AND(COUNTRY_INFO!H27>0,COUNTRY_INFO!H27<4), IF(G27/D27*100<>0, IF(G27/D27*100>100,100,G27/D27*100), \"-\"),0)","v":0},{"$f":"COUNTRY_INFO!M27","v":0},null,null,{"$f":"MAX('MDA1'!M27,MAX('MDA3'!I27,'MDA3'!L27)+MAX('MDA3'!J27,'MDA3'!M27))","v":0},{"$f":"IF(AND(COUNTRY_INFO!I27>0,COUNTRY_INFO!I27<4),IF(J27>MAX('MDA1'!M27,MAX('MDA3'!I27,'MDA3'!L27)+MAX('MDA3'!J27,'MDA3'!M27)),MAX('MDA1'!M27,MAX('MDA3'!I27,'MDA3'!L27)+MAX('MDA3'!J27,'MDA3'!M27)),J27),0)","v":0},{"$f":"IF(AND(COUNTRY_INFO!I27>0,COUNTRY_INFO!I27<4), IF(M27/J27*100<>0, IF(M27/J27*100>100,100,M27/J27*100), \"-\"),0)","v":0},{"$f":"COUNTRY_INFO!N27","v":289805},null,null,{"$f":"SUM(MAX('MDA2'!J27, 'T1'!L27, MAX(T3_R1!K27, T3_R2!K27)), MAX('MDA1'!K27, 'MDA2'!K27, 'T1'!M27, MAX(T3_R1!L27, T3_R2!L27)), MAX('MDA1'!L27, 'MDA2'!L27, 'T1'!N27, MAX(T3_R1!M27, T3_R2!M27)))","v":115341},{"$f":"IF(AND(COUNTRY_INFO!J27>1,COUNTRY_INFO!J27<4),IF(COUNTRY_INFO!E27>MAX('MDA2'!J27,'T1'!L27,MAX(T3_R1!K27,T3_R2!K27)),MAX('MDA2'!J27,'T1'!L27,MAX(T3_R1!K27,T3_R2!K27)),COUNTRY_INFO!E27),0)","v":41964},{"$f":"IF(AND(COUNTRY_INFO!J27>1,COUNTRY_INFO!J27<4), IF(T27/COUNTRY_INFO!E27*100<>0, IF(T27/COUNTRY_INFO!E27*100>100,100,T27/COUNTRY_INFO!E27*100), \"-\"),0)","v":45.275934617251984},{"$f":"IF(AND(COUNTRY_INFO!J27>1,COUNTRY_INFO!J27<4),IF(COUNTRY_INFO!F27>MAX('MDA1'!K27,'MDA2'!K27,'T1'!M27,MAX(T3_R1!L27,T3_R2!L27)),MAX('MDA1'!K27,'MDA2'!K27,'T1'!M27,MAX(T3_R1!L27,T3_R2!L27)),COUNTRY_INFO!F27),0)","v":73377},{"$f":"IF(AND(COUNTRY_INFO!J27>1,COUNTRY_INFO!J27<4), IF(V27/COUNTRY_INFO!F27*100<>0, IF(V27/COUNTRY_INFO!F27*100>100,100,V27/COUNTRY_INFO!F27*100), \"-\"),0)","v":37.224533279220779},115341,{"$f":"IF(AND(COUNTRY_INFO!J27>1,COUNTRY_INFO!J27<4), IF(S27/P27*100<>0, IF(X27/P27*100>100,100,X27/P27*100), \"-\"),0)","v":39.79952036714343},{"$f":"COUNTRY_INFO!O27","v":62119},null,null,{"$f":"MAX('T1'!L27,'T2'!J27)+MAX('T1'!M27,'T2'!K27)+MAX('T1'!N27,'T2'!L27)","v":49669},{"$f":"IF(COUNTRY_INFO!K27=1,IF(COUNTRY_INFO!F27*0.33>MAX('T1'!M27,'T2'!K27),MAX('T1'!M27,'T2'!K27),COUNTRY_INFO!F27*0.33),IF(COUNTRY_INFO!K27=2,IF(COUNTRY_INFO!F27*0.5>MAX('T1'!M27,'T2'!K27),MAX('T1'!M27,'T2'!K27),COUNTRY_INFO!F27*0.5),IF(COUNTRY_INFO!K27=3,IF(COUNTRY_INFO!F27>MAX('T1'!M27,'T2'!K27),MAX('T1'!M27,'T2'!K27),COUNTRY_INFO!F27),0)))","v":25574},{"$f":"IF(AND(COUNTRY_INFO!K27>0,COUNTRY_INFO!K27<4),IF(Z27>0,IF(COUNTRY_INFO!K27=1, AD27/(COUNTRY_INFO!F27*0.33)*100, IF(COUNTRY_INFO!K27=2, AD27/(COUNTRY_INFO!F27*0.5)*100, IF(COUNTRY_INFO!K27=3, AD27/COUNTRY_INFO!F27*100))),\"-\"),0)","v":12.973823051948052},{"$f":"IF(COUNTRY_INFO!K27=2,IF(COUNTRY_INFO!G27*0.2>MAX('T1'!N27,'T2'!L27),MAX('T1'!N27,'T2'!L27),COUNTRY_INFO!G27*0.2),IF(COUNTRY_INFO!K27=3,IF(COUNTRY_INFO!G27>MAX('T1'!N27,'T2'!L27),MAX('T1'!N27,'T2'!L27),COUNTRY_INFO!G27),0))","v":24095},{"$f":"IF(AND(COUNTRY_INFO!K27>0,COUNTRY_INFO!K27<4),IF(Z27>0,IF(COUNTRY_INFO!K27=1, 0, IF(COUNTRY_INFO!K27=2, AF27/(COUNTRY_INFO!G27*0.2)*100, IF(COUNTRY_INFO!K27=3, AF27/COUNTRY_INFO!G27*100))),\"-\"),0)","v":7.0854309776983166},49669,{"$f":"IF(AND(COUNTRY_INFO!K27>0,COUNTRY_INFO!K27<4), IF(AC27/Z27*100<>0, IF(AH27/Z27*100>100,100,AH27/Z27*100), \"-\"),0)","v":79.957822888327243},null,{"$f":"IF(AND(D27<>0, D27<>\"Unknown\",D27<>\"Stopped\",D27<>\"Not required\"),D27/COUNTRY_INFO!D27, 0)","v":0},{"$f":"IF(AND(J27<>0,J27<>\"Unknown\",J27<>\"Stopped\",J27<>\"Not required\"),J27/COUNTRY_INFO!D27, 0)","v":0},{"$f":"IF(AND(P27<>0,P27<>\"Unknown\",P27<>\"Not required\"),P27/(COUNTRY_INFO!E27+COUNTRY_INFO!F27), 0)","v":1},{"$f":"IF(AND(Z27<>0,Z27<>\"Unknown\",Z27<>\"Not required\"),IF(COUNTRY_INFO!K27=1,1,IF(COUNTRY_INFO!K27=2,0.5*COUNTRY_INFO!F27/(0.5*COUNTRY_INFO!F27+0.2*COUNTRY_INFO!G27),IF(COUNTRY_INFO!K27=3,COUNTRY_INFO!F27/(COUNTRY_INFO!F27+COUNTRY_INFO!G27)))),0)","v":0.36695061654851968},{"$f":"IF(AND(Z27<>0,Z27<>\"Unknown\",Z27<>\"Not required\"),IF(COUNTRY_INFO!K27=1,0,IF(COUNTRY_INFO!K27=2,0.2*COUNTRY_INFO!G27/(0.5*COUNTRY_INFO!F27+0.2*COUNTRY_INFO!G27),IF(COUNTRY_INFO!K27=3,COUNTRY_INFO!G27/(COUNTRY_INFO!F27+COUNTRY_INFO!G27)))),0)","v":0.63304938345148032},{"$f":"MAX(COUNTRY_INFO!D27*AK27*PROFILE!$G$7,COUNTRY_INFO!D27*AL27*PROFILE!$G$7)","v":0},{"$f":"MAX(COUNTRY_INFO!D27*AK27*PROFILE!$G$8,COUNTRY_INFO!D27*AL27*PROFILE!$G$8,COUNTRY_INFO!D27*AM27*PROFILE!$G$8)","v":92685.344794051853},{"$f":"MAX(COUNTRY_INFO!D27*AK27*PROFILE!$G$9,COUNTRY_INFO!D27*AL27*PROFILE!$G$9,COUNTRY_INFO!D27*AM27*PROFILE!$G$9,IF(AND(DISTRICT!Z27<>\"Unknown\",Z27<>\"Not required\"),COUNTRY_INFO!O27*DISTRICT!AN27,0))","v":197119.65582697539},{"$f":"MAX(COUNTRY_INFO!D27*AK27*PROFILE!$G$10,COUNTRY_INFO!D27*AL27*PROFILE!$G$10,IF(AND(DISTRICT!Z27<>\"Unknown\",Z27<>\"Not required\"),COUNTRY_INFO!O27*DISTRICT!AO27,0))","v":39324.394650622504},329129.39527164976,"Y",{"$f":"MAX('MDA2'!J27,'T1'!L27,'T2'!J27,T3_R1!K27,T3_R2!K27)","v":41964},{"$f":"MAX('MDA1'!K27,'MDA2'!K27,'MDA3'!I27,'MDA3'!L27,'T1'!M27,'T2'!K27,T3_R1!L27,T3_R2!L27)","v":73377},{"$f":"MAX('MDA1'!L27,'MDA2'!L27,'MDA3'!J27,'MDA3'!M27,'T1'!N27,'T2'!L27,T3_R1!M27,T3_R2!M27)","v":24095},139436,{"$f":"MAX('MDA2'!J27,T27)","v":41964},{"$f":"MAX('MDA1'!K27,'MDA2'!K27,'MDA3'!I27,'MDA3'!L27,V27,AD27)","v":73377},{"$f":"MAX('MDA1'!L27,'MDA2'!L27,'MDA3'!J27,'MDA3'!M27,AF27)","v":24095},139436,42.365100778955131]
[{"$f":"IF(COUNTRY_INFO!A28=0,\" \",COUNTRY_INFO!A28)","v":"Uganda"},{"$f":"IF(COUNTRY_INFO!B28=0,\" \",COUNTRY_INFO!B28)","v":"Central "},{"$f":"IF(COUNTRY_INFO!C28=0,\" \",COUNTRY_INFO!C28)","v":"Nakaseke"},{"$f":"COUNTRY_INFO!L28","v":0},null,null,{"$f":"MAX('MDA1'!M28,'MDA2'!M28)","v":0},{"$f":"IF(AND(COUNTRY_INFO!H28>0,COUNTRY_INFO!H28<4),IF(D28>MAX('MDA1'!M28,'MDA2'!M28),MAX('MDA1'!M28,'MDA2'!M28),D28),0)","v":0},{"$f":"IF(AND(COUNTRY_INFO!H28>0,COUNTRY_INFO!H28<4), IF(G28/D28*100<>0, IF(G28/D28*100>100,100,G28/D28*100), \"-\"),0)","v":0},{"$f":"COUNTRY_INFO!M28","v":0},null,null,{"$f":"MAX('MDA1'!M28,MAX('MDA3'!I28,'MDA3'!L28)+MAX('MDA3'!J28,'MDA3'!M28))","v":0},{"$f":"IF(AND(COUNTRY_INFO!I28>0,COUNTRY_INFO!I28<4),IF(J28>MAX('MDA1'!M28,MAX('MDA3'!I28,'MDA3'!L28)+MAX('MDA3'!J28,'MDA3'!M28)),MAX('MDA1'!M28,MAX('MDA3'!I28,'MDA3'!L28)+MAX('MDA3'!J28,'MDA3'!M28)),J28),0)","v":0},{"$f":"IF(AND(COUNTRY_INFO!I28>0,COUNTRY_INFO!I28<4), IF(M28/J28*100<>0, IF(M28/J28*100>100,100,M28/J28*100), \"-\"),0)","v":0},{"$f":"COUNTRY_INFO!N28","v":95841},null,null,{"$f":"SUM(MAX('MDA2'!J28, 'T1'!L28, MAX(T3_R1!K28, T3_R2!K28)), MAX('MDA1'!K28, 'MDA2'!K28, 'T1'!M28, MAX(T3_R1!L28, T3_R2!L28)), MAX('MDA1'!L28, 'MDA2'!L28, 'T1'!N28, MAX(T3_R1!M28, T3_R2!M28)))","v":37085},{"$f":"IF(AND(COUNTRY_INFO!J28>1,COUNTRY_INFO!J28<4),IF(COUNTRY_INFO!E28>MAX('MDA2'!J28,'T1'!L28,MAX(T3_R1!K28,T3_R2!K28)),MAX('MDA2'!J28,'T1'!L28,MAX(T3_R1!K28,T3_R2!K28)),COUNTRY_INFO!E28),0)","v":22865},{"$f":"IF(AND(COUNTRY_INFO!J28>1,COUNTRY_INFO!J28<4), IF(T28/COUNTRY_INFO!E28*100<>0, IF(T28/COUNTRY_INFO!E28*100>100,100,T28/COUNTRY_INFO!E28*100), \"-\"),0)","v":74.595458697638009},{"$f":"IF(AND(COUNTRY_INFO!J28>1,COUNTRY_INFO!J28<4),IF(COUNTRY_INFO!F28>MAX('MDA1'!K28,'MDA2'!K28,'T1'!M28,MAX(T3_R1!L28,T3_R2!L28)),MAX('MDA1'!K28,'MDA2'!K28,'T1'!M28,MAX(T3_R1!L28,T3_R2!L28)),COUNTRY_INFO!F28),0)","v":14220},{"$f":"IF(AND(COUNTRY_INFO!J28>1,COUNTRY_INFO!J28<4), IF(V28/COUNTRY_INFO!F28*100<>0, IF(V28/COUNTRY_INFO!F28*100>100,100,V28/COUNTRY_INFO!F28*100), \"-\"),0)","v":21.813496141987144},37085,{"$f":"IF(AND(COUNTRY_INFO!J28>1,COUNTRY_INFO!J28<4), IF(S28/P28*100<>0, IF(X28/P28*100>100,100,X28/P28*100), \"-\"),0)","v":38.69429576068697},{"$f":"COUNTRY_INFO!O28","v":0},null,null,{"$f":"MAX('T1'!L28,'T2'!J28)+MAX('T1'!M28,'T2'!K28)+MAX('T1'!N28,'T2'!L28)","v":0},{"$f":"IF(COUNTRY_INFO!K28=1,IF(COUNTRY_INFO!F28*0.33>MAX('T1'!M28,'T2'!K28),MAX('T1'!M28,'T2'!K28),COUNTRY_INFO!F28*0.33),IF(COUNTRY_INFO!K28=2,IF(COUNTRY_INFO!F28*0.5>MAX('T1'!M28,'T2'!K28),MAX('T1'!M28,'T2'!K28),COUNTRY_INFO!F28*0.5),IF(COUNTRY_INFO!K28=3,IF(COUNTRY_INFO!F28>MAX('T1'!M28,'T2'!K28),MAX('T1'!M28,'T2'!K28),COUNTRY_INFO!F28),0)))","v":0},{"$f":"IF(AND(COUNTRY_INFO!K28>0,COUNTRY_INFO!K28<4),IF(Z28>0,IF(COUNTRY_INFO!K28=1, AD28/(COUNTRY_INFO!F28*0.33)*100, IF(COUNTRY_INFO!K28=2, AD28/(COUNTRY_INFO!F28*0.5)*100, IF(COUNTRY_INFO!K28=3, AD28/COUNTRY_INFO!F28*100))),\"-\"),0)","v":0},{"$f":"IF(COUNTRY_INFO!K28=2,IF(COUNTRY_INFO!G28*0.2>MAX('T1'!N28,'T2'!L28),MAX('T1'!N28,'T2'!L28),COUNTRY_INFO!G28*0.2),IF(COUNTRY_INFO!K28=3,IF(COUNTRY_INFO!G28>MAX('T1'!N28,'T2'!L28),MAX('T1'!N28,'T2'!L28),COUNTRY_INFO!G28),0))","v":0},{"$f":"IF(AND(COUNTRY_INFO!K28>0,COUNTRY_INFO!K28<4),IF(Z28>0,IF(COUNTRY_INFO!K28=1, 0, IF(COUNTRY_INFO!K28=2, AF28/(COUNTRY_INFO!G28*0.2)*100, IF(COUNTRY_INFO!K28=3, AF28/COUNTRY_INFO!G28*100))),\"-\"),0)","v":0},0,{"$f":"IF(AND(COUNTRY_INFO!K28>0,COUNTRY_INFO!K28<4), IF(AC28/Z28*100<>0, IF(AH28/Z28*100>100,100,AH28/Z28*100), \"-\"),0)","v":0},null,{"$f":"IF(AND(D28<>0, D28<>\"Unknown\",D28<>\"Stopped\",D28<>\"Not required\"),D28/COUNTRY_INFO!D28, 0)","v":0},{"$f":"IF(AND(J28<>0,J28<>\"Unknown\",J28<>\"Stopped\",J28<>\"Not required\"),J28/COUNTRY_INFO!D28, 0)","v":0},{"$f":"IF(AND(P28<>0,P28<>\"Unknown\",P28<>\"Not required\"),P28/(COUNTRY_INFO!E28+COUNTRY_INFO!F28), 0)","v":1},{"$f":"IF(AND(Z28<>0,Z28<>\"Unknown\",Z28<>\"Not required\"),IF(COUNTRY_INFO!K28=1,1,IF(COUNTRY_INFO!K28=2,0.5*COUNTRY_INFO!F28/(0.5*COUNTRY_INFO!F28+0.2*COUNTRY_INFO!G28),IF(COUNTRY_INFO!K28=3,COUNTRY_INFO!F28/(COUNTRY_INFO!F28+COUNTRY_INFO!G28)))),0)","v":0},{"$f":"IF(AND(Z28<>0,Z28<>\"Unknown\",Z28<>\"Not required\"),IF(COUNTRY_INFO!K28=1,0,IF(COUNTRY_INFO!K28=2,0.2*COUNTRY_INFO!G28/(0.5*COUNTRY_INFO!F28+0.2*COUNTRY_INFO!G28),IF(COUNTRY_INFO!K28=3,COUNTRY_INFO!G28/(COUNTRY_INFO!F28+COUNTRY_INFO!G28)))),0)","v":0},{"$f":"MAX(COUNTRY_INFO!D28*AK28*PROFILE!$G$7,COUNTRY_INFO!D28*AL28*PROFILE!$G$7)","v":0},{"$f":"MAX(COUNTRY_INFO!D28*AK28*PROFILE!$G$8,COUNTRY_INFO!D28*AL28*PROFILE!$G$8,COUNTRY_INFO!D28*AM28*PROFILE!$G$8)","v":30651.821711430191},{"$f":"MAX(COUNTRY_INFO!D28*AK28*PROFILE!$G$9,COUNTRY_INFO!D28*AL28*PROFILE!$G$9,COUNTRY_INFO!D28*AM28*PROFILE!$G$9,IF(AND(DISTRICT!Z28<>\"Unknown\",Z28<>\"Not required\"),COUNTRY_INFO!O28*DISTRICT!AN28,0))","v":65189.125202614392},{"$f":"MAX(COUNTRY_INFO!D28*AK28*PROFILE!$G$10,COUNTRY_INFO!D28*AL28*PROFILE!$G$10,IF(AND(DISTRICT!Z28<>\"Unknown\",Z28<>\"Not required\"),COUNTRY_INFO!O28*DISTRICT!AO28,0))","v":0},95840.946914044587,"Y",{"$f":"MAX('MDA2'!J28,'T1'!L28,'T2'!J28,T3_R1!K28,T3_R2!K28)","v":22865},{"$f":"MAX('MDA1'!K28,'MDA2'!K28,'MDA3'!I28,'MDA3'!L28,'T1'!M28,'T2'!K28,T3_R1!L28,T3_R2!L28)","v":14220},{"$f":"MAX('MDA1'!L28,'MDA2'!L28,'MDA3'!J28,'MDA3'!M28,'T1'!N28,'T2'!L28,T3_R1!M28,T3_R2!M28)","v":0},37085,{"$f":"MAX('MDA2'!J28,T28)","v":22865},{"$f":"MAX('MDA1'!K28,'MDA2'!K28,'MDA3'!I28,'MDA3'!L28,V28,AD28)","v":14220},{"$f":"MAX('MDA1'!L28,'MDA2'!L28,'MDA3'!J28,'MDA3'!M28,AF28)","v":0},37085,38.694317193318071]
[{"$f":"IF(COUNTRY_INFO!A29=0,\" \",COUNTRY_INFO!A29)","v":"Uganda"},{"$f":"IF(COUNTRY_INFO!B29=0,\" \",COUNTRY_INFO!B29)","v":"Central "},{"$f":"IF(COUNTRY_INFO!C29=0,\" \",COUNTRY_INFO!C29)","v":"Nakasongola"},{"$f":"COUNTRY_INFO!L29","v":0},null,null,{"$f":"MAX('MDA1'!M29,'MDA2'!M29)","v":0},{"$f":"IF(AND(COUNTRY_INFO!H29>0,COUNTRY_INFO!H29<4),IF(D29>MAX('MDA1'!M29,'MDA2'!M29),MAX('MDA1'!M29,'MDA2'!M29),D29),0)","v":0},{"$f":"IF(AND(COUNTRY_INFO!H29>0,COUNTRY_INFO!H29<4), IF(G29/D29*100<>0, IF(G29/D29*100>100,100,G29/D29*100), \"-\"),0)","v":0},{"$f":"COUNTRY_INFO!M29","v":0},null,null,{"$f":"MAX('MDA1'!M29,MAX('MDA3'!I29,'MDA3'!L29)+MAX('MDA3'!J29,'MDA3'!M29))","v":0},{"$f":"IF(AND(COUNTRY_INFO!I29>0,COUNTRY_INFO!I29<4),IF(J29>MAX('MDA1'!M29,MAX('MDA3'!I29,'MDA3'!L29)+MAX('MDA3'!J29,'MDA3'!M29)),MAX('MDA1'!M29,MAX('MDA3'!I29,'MDA3'!L29)+MAX('MDA3'!J29,'MDA3'!M29)),J29),0)","v":0},{"$f":"IF(AND(COUNTRY_INFO!I29>0,COUNTRY_INFO!I29<4), IF(M29/J29*100<>0, IF(M29/J29*100>100,100,M29/J29*100), \"-\"),0)","v":0},{"$f":"COUNTRY_INFO!N29","v":88281},null,null,{"$f":"SUM(MAX('MDA2'!J29, 'T1'!L29, MAX(T3_R1!K29, T3_R2!K29)), MAX('MDA1'!K29, 'MDA2'!K29, 'T1'!M29, MAX(T3_R1!L29, T3_R2!L29)), MAX('MDA1'!L29, 'MDA2'!L29, 'T1'!N29, MAX(T3_R1!M29, T3_R2!M29)))","v":47421},{"$f":"IF(AND(COUNTRY_INFO!J29>1,COUNTRY_INFO!J29<4),IF(COUNTRY_INFO!E29>MAX('MDA2'!J29,'T1'!L29,MAX(T3_R1!K29,T3_R2!K29)),MAX('MDA2'!J29,'T1'!L29,MAX(T3_R1!K29,T3_R2!K29)),COUNTRY_INFO!E29),0)","v":11267},{"$f":"IF(AND(COUNTRY_INFO!J29>1,COUNTRY_INFO!J29<4), IF(T29/COUNTRY_INFO!E29*100<>0, IF(T29/COUNTRY_INFO!E29*100>100,100,T29/COUNTRY_INFO!E29*100), \"-\"),0)","v":39.905787348586806},{"$f":"IF(AND(COUNTRY_INFO!J29>1,COUNTRY_INFO!J29<4),IF(COUNTRY_INFO!F29>MAX('MDA1'!K29,'MDA2'!K29,'T1'!M29,MAX(T3_R1!L29,T3_R2!L29)),MAX('MDA1'!K29,'MDA2'!K29,'T1'!M29,MAX(T3_R1!L29,T3_R2!L29)),COUNTRY_INFO!F29),0)","v":36154},{"$f":"IF(AND(COUNTRY_INFO!J29>1,COUNTRY_INFO!J29<4), IF(V29/COUNTRY_INFO!F29*100<>0, IF(V29/COUNTRY_INFO!F29*100>100,100,V29/COUNTRY_INFO!F29*100), \"-\"),0)","v":60.209502556330875},47421,{"$f":"IF(AND(COUNTRY_INFO!J29>1,COUNTRY_INFO!J29<4), IF(S29/P29*100<>0, IF(X29/P29*100>100,100,X29/P29*100), \"-\"),0)","v":53.715975124885304},{"$f":"COUNTRY_INFO!O29","v":39420},null,null,{"$f":"MAX('T1'!L29,'T2'!J29)+MAX('T1'!M29,'T2'!K29)+MAX('T1'!N29,'T2'!L29)","v":36294},{"$f":"IF(COUNTRY_INFO!K29=1,IF(COUNTRY_INFO!F29*0.33>MAX('T1'!M29,'T2'!K29),MAX('T1'!M29,'T2'!K29),COUNTRY_INFO!F29*0.33),IF(COUNTRY_INFO!K29=2,IF(COUNTRY_INFO!F29*0.5>MAX('T1'!M29,'T2'!K29),MAX('T1'!M29,'T2'!K29),COUNTRY_INFO!F29*0.5),IF(COUNTRY_INFO!K29=3,IF(COUNTRY_INFO!F29>MAX('T1'!M29,'T2'!K29),MAX('T1'!M29,'T2'!K29),COUNTRY_INFO!F29),0)))","v":19815.510000000002},{"$f":"IF(AND(COUNTRY_INFO!K29>0,COUNTRY_INFO!K29<4),IF(Z29>0,IF(COUNTRY_INFO!K29=1, AD29/(COUNTRY_INFO!F29*0.33)*100, IF(COUNTRY_INFO!K29=2, AD29/(COUNTRY_INFO!F29*0.5)*100, IF(COUNTRY_INFO!K29=3, AD29/COUNTRY_INFO!F29*100))),\"-\"),0)","v":100},{"$f":"IF(COUNTRY_INFO!K29=2,IF(COUNTRY_INFO!G29*0.2>MAX('T1'!N29,'T2'!L29),MAX('T1'!N29,'T2'!L29),COUNTRY_INFO!G29*0.2),IF(COUNTRY_INFO!K29=3,IF(COUNTRY_INFO!G29>MAX('T1'!N29,'T2'!L29),MAX('T1'!N29,'T2'!L29),COUNTRY_INFO!G29),0))","v":0},{"$f":"IF(AND(COUNTRY_INFO!K29>0,COUNTRY_INFO!K29<4),IF(Z29>0,IF(COUNTRY_INFO!K29=1, 0, IF(COUNTRY_INFO!K29=2, AF29/(COUNTRY_INFO!G29*0.2)*100, IF(COUNTRY_INFO!K29=3, AF29/COUNTRY_INFO!G29*100))),\"-\"),0)","v":0},19815.510000000002,{"$f":"IF(AND(COUNTRY_INFO!K29>0,COUNTRY_INFO!K29<4), IF(AC29/Z29*100<>0, IF(AH29/Z29*100>100,100,AH29/Z29*100), \"-\"),0)","v":50.267656012176566},null,{"$f":"IF(AND(D29<>0, D29<>\"Unknown\",D29<>\"Stopped\",D29<>\"Not required\"),D29/COUNTRY_INFO!D29, 0)","v":0},{"$f":"IF(AND(J29<>0,J29<>\"Unknown\",J29<>\"Stopped\",J29<>\"Not required\"),J29/COUNTRY_INFO!D29, 0)","v":0},{"$f":"IF(AND(P29<>0,P29<>\"Unknown\",P29<>\"Not required\"),P29/(COUNTRY_INFO!E29+COUNTRY_INFO!F29), 0)","v":1},{"$f":"IF(AND(Z29<>0,Z29<>\"Unknown\",Z29<>\"Not required\"),IF(COUNTRY_INFO!K29=1,1,IF(COUNTRY_INFO!K29=2,0.5*COUNTRY_INFO!F29/(0.5*COUNTRY_INFO!F29+0.2*COUNTRY_INFO!G29),IF(COUNTRY_INFO!K29=3,COUNTRY_INFO!F29/(COUNTRY_INFO!F29+COUNTRY_INFO!G29)))),0)","v":1},{"$f":"IF(AND(Z29<>0,Z29<>\"Unknown\",Z29<>\"Not required\"),IF(COUNTRY_INFO!K29=1,0,IF(COUNTRY_INFO!K29=2,0.2*COUNTRY_INFO!G29/(0.5*COUNTRY_INFO!F29+0.2*COUNTRY_INFO!G29),IF(COUNTRY_INFO!K29=3,COUNTRY_INFO!G29/(COUNTRY_INFO!F29+COUNTRY_INFO!G29)))),0)","v":0},{"$f":"MAX(COUNTRY_INFO!D29*AK29*PROFILE!$G$7,COUNTRY_INFO!D29*AL29*PROFILE!$G$7)","v":0},{"$f":"MAX(COUNTRY_INFO!D29*AK29*PROFILE!$G$8,COUNTRY_INFO!D29*AL29*PROFILE!$G$8,COUNTRY_INFO!D29*AM29*PROFILE!$G$8)","v":28233.846838586778},{"$f":"MAX(COUNTRY_INFO!D29*AK29*PROFILE!$G$9,COUNTRY_INFO!D29*AL29*PROFILE!$G$9,COUNTRY_INFO!D29*AM29*PROFILE!$G$9,IF(AND(DISTRICT!Z29<>\"Unknown\",Z29<>\"Not required\"),COUNTRY_INFO!O29*DISTRICT!AN29,0))","v":60046.668476664381},{"$f":"MAX(COUNTRY_INFO!D29*AK29*PROFILE!$G$10,COUNTRY_INFO!D29*AL29*PROFILE!$G$10,IF(AND(DISTRICT!Z29<>\"Unknown\",Z29<>\"Not required\"),COUNTRY_INFO!O29*DISTRICT!AO29,0))","v":0},88280.515315251163,"Y",{"$f":"MAX('MDA2'!J29,'T1'!L29,'T2'!J29,T3_R1!K29,T3_R2!K29)","v":11267},{"$f":"MAX('MDA1'!K29,'MDA2'!K29,'MDA3'!I29,'MDA3'!L29,'T1'!M29,'T2'!K29,T3_R1!L29,T3_R2!L29)","v":36294},{"$f":"MAX('MDA1'!L29,'MDA2'!L29,'MDA3'!J29,'MDA3'!M29,'T1'!N29,'T2'!L29,T3_R1!M29,T3_R2!M29)","v":0},47561,{"$f":"MAX('MDA2'!J29,T29)","v":11267},{"$f":"MAX('MDA1'!K29,'MDA2'!K29,'MDA3'!I29,'MDA3'!L29,V29,AD29)","v":36154},{"$f":"MAX('MDA1'!L29,'MDA2'!L29,'MDA3'!J29,'MDA3'!M29,AF29)","v":0},47421,53.716270040629951]
[{"$f":"IF(COUNTRY_INFO!A30=0,\" \",COUNTRY_INFO!A30)","v":"Uganda"},{"$f":"IF(COUNTRY_INFO!B30=0,\" \",COUNTRY_INFO!B30)","v":"Central "},{"$f":"IF(COUNTRY_INFO!C30=0,\" \",COUNTRY_INFO!C30)","v":"Rakai"},{"$f":"COUNTRY_INFO!L30","v":0},null,null,{"$f":"MAX('MDA1'!M30,'MDA2'!M30)","v":0},{"$f":"IF(AND(COUNTRY_INFO!H30>0,COUNTRY_INFO!H30<4),IF(D30>MAX('MDA1'!M30,'MDA2'!M30),MAX('MDA1'!M30,'MDA2'!M30),D30),0)","v":0},{"$f":"IF(AND(COUNTRY_INFO!H30>0,COUNTRY_INFO!H30<4), IF(G30/D30*100<>0, IF(G30/D30*100>100,100,G30/D30*100), \"-\"),0)","v":0},{"$f":"COUNTRY_INFO!M30","v":0},null,null,{"$f":"MAX('MDA1'!M30,MAX('MDA3'!I30,'MDA3'!L30)+MAX('MDA3'!J30,'MDA3'!M30))","v":0},{"$f":"IF(AND(COUNTRY_INFO!I30>0,COUNTRY_INFO!I30<4),IF(J30>MAX('MDA1'!M30,MAX('MDA3'!I30,'MDA3'!L30)+MAX('MDA3'!J30,'MDA3'!M30)),MAX('MDA1'!M30,MAX('MDA3'!I30,'MDA3'!L30)+MAX('MDA3'!J30,'MDA3'!M30)),J30),0)","v":0},{"$f":"IF(AND(COUNTRY_INFO!I30>0,COUNTRY_INFO!I30<4), IF(M30/J30*100<>0, IF(M30/J30*100>100,100,M30/J30*100), \"-\"),0)","v":0},{"$f":"COUNTRY_INFO!N30","v":250717},null,null,{"$f":"SUM(MAX('MDA2'!J30, 'T1'!L30, MAX(T3_R1!K30, T3_R2!K30)), MAX('MDA1'!K30, 'MDA2'!K30, 'T1'!M30, MAX(T3_R1!L30, T3_R2!L30)), MAX('MDA1'!L30, 'MDA2'!L30, 'T1'!N30, MAX(T3_R1!M30, T3_R2!M30)))","v":142816},{"$f":"IF(AND(COUNTRY_INFO!J30>1,COUNTRY_INFO!J30<4),IF(COUNTRY_INFO!E30>MAX('MDA2'!J30,'T1'!L30,MAX(T3_R1!K30,T3_R2!K30)),MAX('MDA2'!J30,'T1'!L30,MAX(T3_R1!K30,T3_R2!K30)),COUNTRY_INFO!E30),0)","v":72956},{"$f":"IF(AND(COUNTRY_INFO!J30>1,COUNTRY_INFO!J30<4), IF(T30/COUNTRY_INFO!E30*100<>0, IF(T30/COUNTRY_INFO!E30*100>100,100,T30/COUNTRY_INFO!E30*100), \"-\"),0)","v":90.985732814526585},{"$f":"IF(AND(COUNTRY_INFO!J30>1,COUNTRY_INFO!J30<4),IF(COUNTRY_INFO!F30>MAX('MDA1'!K30,'MDA2'!K30,'T1'!M30,MAX(T3_R1!L30,T3_R2!L30)),MAX('MDA1'!K30,'MDA2'!K30,'T1'!M30,MAX(T3_R1!L30,T3_R2!L30)),COUNTRY_INFO!F30),0)","v":69860},{"$f":"IF(AND(COUNTRY_INFO!J30>1,COUNTRY_INFO!J30<4), IF(V30/COUNTRY_INFO!F30*100<>0, IF(V30/COUNTRY_INFO!F30*100>100,100,V30/COUNTRY_INFO!F30*100), \"-\"),0)","v":40.965678197181774},142816,{"$f":"IF(AND(COUNTRY_INFO!J30>1,COUNTRY_INFO!J30<4), IF(S30/P30*100<>0, IF(X30/P30*100>100,100,X30/P30*100), \"-\"),0)","v":56.963030029874318},{"$f":"COUNTRY_INFO!O30","v":41540},null,null,{"$f":"MAX('T1'!L30,'T2'!J30)+MAX('T1'!M30,'T2'!K30)+MAX('T1'!N30,'T2'!L30)","v":39340},{"$f":"IF(COUNTRY_INFO!K30=1,IF(COUNTRY_INFO!F30*0.33>MAX('T1'!M30,'T2'!K30),MAX('T1'!M30,'T2'!K30),COUNTRY_INFO!F30*0.33),IF(COUNTRY_INFO!K30=2,IF(COUNTRY_INFO!F30*0.5>MAX('T1'!M30,'T2'!K30),MAX('T1'!M30,'T2'!K30),COUNTRY_INFO!F30*0.5),IF(COUNTRY_INFO!K30=3,IF(COUNTRY_INFO!F30>MAX('T1'!M30,'T2'!K30),MAX('T1'!M30,'T2'!K30),COUNTRY_INFO!F30),0)))","v":39340},{"$f":"IF(AND(COUNTRY_INFO!K30>0,COUNTRY_INFO!K30<4),IF(Z30>0,IF(COUNTRY_INFO!K30=1, AD30/(COUNTRY_INFO!F30*0.33)*100, IF(COUNTRY_INFO!K30=2, AD30/(COUNTRY_INFO!F30*0.5)*100, IF(COUNTRY_INFO!K30=3, AD30/COUNTRY_INFO!F30*100))),\"-\"),0)","v":69.905602559106569},{"$f":"IF(COUNTRY_INFO!K30=2,IF(COUNTRY_INFO!G30*0.2>MAX('T1'!N30,'T2'!L30),MAX('T1'!N30,'T2'!L30),COUNTRY_INFO!G30*0.2),IF(COUNTRY_INFO!K30=3,IF(COUNTRY_INFO!G30>MAX('T1'!N30,'T2'!L30),MAX('T1'!N30,'T2'!L30),COUNTRY_INFO!G30),0))","v":0},{"$f":"IF(AND(COUNTRY_INFO!K30>0,COUNTRY_INFO!K30<4),IF(Z30>0,IF(COUNTRY_INFO!K30=1, 0, IF(COUNTRY_INFO!K30=2, AF30/(COUNTRY_INFO!G30*0.2)*100, IF(COUNTRY_INFO!K30=3, AF30/COUNTRY_INFO!G30*100))),\"-\"),0)","v":0},39340,{"$f":"IF(AND(COUNTRY_INFO!K30>0,COUNTRY_INFO!K30<4), IF(AC30/Z30*100<>0, IF(AH30/Z30*100>100,100,AH30/Z30*100), \"-\"),0)","v":94.703899855560906},null,{"$f":"IF(AND(D30<>0, D30<>\"Unknown\",D30<>\"Stopped\",D30<>\"Not required\"),D30/COUNTRY_INFO!D30, 0)","v":0},{"$f":"IF(AND(J30<>0,J30<>\"Unknown\",J30<>\"Stopped\",J30<>\"Not required\"),J30/COUNTRY_INFO!D30, 0)","v":0},{"$f":"IF(AND(P30<>0,P30<>\"Unknown\",P30<>\"Not required\"),P30/(COUNTRY_INFO!E30+COUNTRY_INFO!F30), 0)","v":1},{"$f":"IF(AND(Z30<>0,Z30<>\"Unknown\",Z30<>\"Not required\"),IF(COUNTRY_INFO!K30=1,1,IF(COUNTRY_INFO!K30=2,0.5*COUNTRY_INFO!F30/(0.5*COUNTRY_INFO!F30+0.2*COUNTRY_INFO!G30),IF(COUNTRY_INFO!K30=3,COUNTRY_INFO!F30/(COUNTRY_INFO!F30+COUNTRY_INFO!G30)))),0)","v":1},{"$f":"IF(AND(Z30<>0,Z30<>\"Unknown\",Z30<>\"Not required\"),IF(COUNTRY_INFO!K30=1,0,IF(COUNTRY_INFO!K30=2,0.2*COUNTRY_INFO!G30/(0.5*COUNTRY_INFO!F30+0.2*COUNTRY_INFO!G30),IF(COUNTRY_INFO!K30=3,COUNTRY_INFO!G30/(COUNTRY_INFO!F30+COUNTRY_INFO!G30)))),0)","v":0},{"$f":"MAX(COUNTRY_INFO!D30*AK30*PROFILE!$G$7,COUNTRY_INFO!D30*AL30*PROFILE!$G$7)","v":0},{"$f":"MAX(COUNTRY_INFO!D30*AK30*PROFILE!$G$8,COUNTRY_INFO!D30*AL30*PROFILE!$G$8,COUNTRY_INFO!D30*AM30*PROFILE!$G$8)","v":80184.238621533499},{"$f":"MAX(COUNTRY_INFO!D30*AK30*PROFILE!$G$9,COUNTRY_INFO!D30*AL30*PROFILE!$G$9,COUNTRY_INFO!D30*AM30*PROFILE!$G$9,IF(AND(DISTRICT!Z30<>\"Unknown\",Z30<>\"Not required\"),COUNTRY_INFO!O30*DISTRICT!AN30,0))","v":170532.78007376095},{"$f":"MAX(COUNTRY_INFO!D30*AK30*PROFILE!$G$10,COUNTRY_INFO!D30*AL30*PROFILE!$G$10,IF(AND(DISTRICT!Z30<>\"Unknown\",Z30<>\"Not required\"),COUNTRY_INFO!O30*DISTRICT!AO30,0))","v":0},250717.01869529445,"Y",{"$f":"MAX('MDA2'!J30,'T1'!L30,'T2'!J30,T3_R1!K30,T3_R2!K30)","v":72956},{"$f":"MAX('MDA1'!K30,'MDA2'!K30,'MDA3'!I30,'MDA3'!L30,'T1'!M30,'T2'!K30,T3_R1!L30,T3_R2!L30)","v":69860},{"$f":"MAX('MDA1'!L30,'MDA2'!L30,'MDA3'!J30,'MDA3'!M30,'T1'!N30,'T2'!L30,T3_R1!M30,T3_R2!M30)","v":0},142816,{"$f":"MAX('MDA2'!J30,T30)","v":72956},{"$f":"MAX('MDA1'!K30,'MDA2'!K30,'MDA3'!I30,'MDA3'!L30,V30,AD30)","v":69860},{"$f":"MAX('MDA1'!L30,'MDA2'!L30,'MDA3'!J30,'MDA3'!M30,AF30)","v":0},142816,56.963025782294217]
[{"$f":"IF(COUNTRY_INFO!A31=0,\" \",COUNTRY_INFO!A31)","v":"Uganda"},{"$f":"IF(COUNTRY_INFO!B31=0,\" \",COUNTRY_INFO!B31)","v":"Central "},{"$f":"IF(COUNTRY_INFO!C31=0,\" \",COUNTRY_INFO!C31)","v":"Sembabule"},{"$f":"COUNTRY_INFO!L31","v":0},null,null,{"$f":"MAX('MDA1'!M31,'MDA2'!M31)","v":0},{"$f":"IF(AND(COUNTRY_INFO!H31>0,COUNTRY_INFO!H31<4),IF(D31>MAX('MDA1'!M31,'MDA2'!M31),MAX('MDA1'!M31,'MDA2'!M31),D31),0)","v":0},{"$f":"IF(AND(COUNTRY_INFO!H31>0,COUNTRY_INFO!H31<4), IF(G31/D31*100<>0, IF(G31/D31*100>100,100,G31/D31*100), \"-\"),0)","v":0},{"$f":"COUNTRY_INFO!M31","v":0},null,null,{"$f":"MAX('MDA1'!M31,MAX('MDA3'!I31,'MDA3'!L31)+MAX('MDA3'!J31,'MDA3'!M31))","v":0},{"$f":"IF(AND(COUNTRY_INFO!I31>0,COUNTRY_INFO!I31<4),IF(J31>MAX('MDA1'!M31,MAX('MDA3'!I31,'MDA3'!L31)+MAX('MDA3'!J31,'MDA3'!M31)),MAX('MDA1'!M31,MAX('MDA3'!I31,'MDA3'!L31)+MAX('MDA3'!J31,'MDA3'!M31)),J31),0)","v":0},{"$f":"IF(AND(COUNTRY_INFO!I31>0,COUNTRY_INFO!I31<4), IF(M31/J31*100<>0, IF(M31/J31*100>100,100,M31/J31*100), \"-\"),0)","v":0},{"$f":"COUNTRY_INFO!N31","v":122660},null,null,{"$f":"SUM(MAX('MDA2'!J31, 'T1'!L31, MAX(T3_R1!K31, T3_R2!K31)), MAX('MDA1'!K31, 'MDA2'!K31, 'T1'!M31, MAX(T3_R1!L31, T3_R2!L31)), MAX('MDA1'!L31, 'MDA2'!L31, 'T1'!N31, MAX(T3_R1!M31, T3_R2!M31)))","v":31369},{"$f":"IF(AND(COUNTRY_INFO!J31>1,COUNTRY_INFO!J31<4),IF(COUNTRY_INFO!E31>MAX('MDA2'!J31,'T1'!L31,MAX(T3_R1!K31,T3_R2!K31)),MAX('MDA2'!J31,'T1'!L31,MAX(T3_R1!K31,T3_R2!K31)),COUNTRY_INFO!E31),0)","v":8006},{"$f":"IF(AND(COUNTRY_INFO!J31>1,COUNTRY_INFO!J31<4), IF(T31/COUNTRY_INFO!E31*100<>0, IF(T31/COUNTRY_INFO!E31*100>100,100,T31/COUNTRY_INFO!E31*100), \"-\"),0)","v":20.408371357923986},{"$f":"IF(AND(COUNTRY_INFO!J31>1,COUNTRY_INFO!J31<4),IF(COUNTRY_INFO!F31>MAX('MDA1'!K31,'MDA2'!K31,'T1'!M31,MAX(T3_R1!L31,T3_R2!L31)),MAX('MDA1'!K31,'MDA2'!K31,'T1'!M31,MAX(T3_R1!L31,T3_R2!L31)),COUNTRY_INFO!F31),0)","v":23363},{"$f":"IF(AND(COUNTRY_INFO!J31>1,COUNTRY_INFO!J31<4), IF(V31/COUNTRY_INFO!F31*100<>0, IF(V31/COUNTRY_INFO!F31*100>100,100,V31/COUNTRY_INFO!F31*100), \"-\"),0)","v":28.002780740971584},31369,{"$f":"IF(AND(COUNTRY_INFO!J31>1,COUNTRY_INFO!J31<4), IF(S31/P31*100<>0, IF(X31/P31*100>100,100,X31/P31*100), \"-\"),0)","v":25.573944236099788},{"$f":"COUNTRY_INFO!O31","v":0},null,null,{"$f":"MAX('T1'!L31,'T2'!J31)+MAX('T1'!M31,'T2'!K31)+MAX('T1'!N31,'T2'!L31)","v":0},{"$f":"IF(COUNTRY_INFO!K31=1,IF(COUNTRY_INFO!F31*0.33>MAX('T1'!M31,'T2'!K31),MAX('T1'!M31,'T2'!K31),COUNTRY_INFO!F31*0.33),IF(COUNTRY_INFO!K31=2,IF(COUNTRY_INFO!F31*0.5>MAX('T1'!M31,'T2'!K31),MAX('T1'!M31,'T2'!K31),COUNTRY_INFO!F31*0.5),IF(COUNTRY_INFO!K31=3,IF(COUNTRY_INFO!F31>MAX('T1'!M31,'T2'!K31),MAX('T1'!M31,'T2'!K31),COUNTRY_INFO!F31),0)))","v":0},{"$f":"IF(AND(COUNTRY_INFO!K31>0,COUNTRY_INFO!K31<4),IF(Z31>0,IF(COUNTRY_INFO!K31=1, AD31/(COUNTRY_INFO!F31*0.33)*100, IF(COUNTRY_INFO!K31=2, AD31/(COUNTRY_INFO!F31*0.5)*100, IF(COUNTRY_INFO!K31=3, AD31/COUNTRY_INFO!F31*100))),\"-\"),0)","v":0},{"$f":"IF(COUNTRY_INFO!K31=2,IF(COUNTRY_INFO!G31*0.2>MAX('T1'!N31,'T2'!L31),MAX('T1'!N31,'T2'!L31),COUNTRY_INFO!G31*0.2),IF(COUNTRY_INFO!K31=3,IF(COUNTRY_INFO!G31>MAX('T1'!N31,'T2'!L31),MAX('T1'!N31,'T2'!L31),COUNTRY_INFO!G31),0))","v":0},{"$f":"IF(AND(COUNTRY_INFO!K31>0,COUNTRY_INFO!K31<4),IF(Z31>0,IF(COUNTRY_INFO!K31=1, 0, IF(COUNTRY_INFO!K31=2, AF31/(COUNTRY_INFO!G31*0.2)*100, IF(COUNTRY_INFO!K31=3, AF31/COUNTRY_INFO!G31*100))),\"-\"),0)","v":0},0,{"$f":"IF(AND(COUNTRY_INFO!K31>0,COUNTRY_INFO!K31<4), IF(AC31/Z31*100<>0, IF(AH31/Z31*100>100,100,AH31/Z31*100), \"-\"),0)","v":0},null,{"$f":"IF(AND(D31<>0, D31<>\"Unknown\",D31<>\"Stopped\",D31<>\"Not required\"),D31/COUNTRY_INFO!D31, 0)","v":0},{"$f":"IF(AND(J31<>0,J31<>\"Unknown\",J31<>\"Stopped\",J31<>\"Not required\"),J31/COUNTRY_INFO!D31, 0)","v":0},{"$f":"IF(AND(P31<>0,P31<>\"Unknown\",P31<>\"Not required\"),P31/(COUNTRY_INFO!E31+COUNTRY_INFO!F31), 0)","v":1},{"$f":"IF(AND(Z31<>0,Z31<>\"Unknown\",Z31<>\"Not required\"),IF(COUNTRY_INFO!K31=1,1,IF(COUNTRY_INFO!K31=2,0.5*COUNTRY_INFO!F31/(0.5*COUNTRY_INFO!F31+0.2*COUNTRY_INFO!G31),IF(COUNTRY_INFO!K31=3,COUNTRY_INFO!F31/(COUNTRY_INFO!F31+COUNTRY_INFO!G31)))),0)","v":0},{"$f":"IF(AND(Z31<>0,Z31<>\"Unknown\",Z31<>\"Not required\"),IF(COUNTRY_INFO!K31=1,0,IF(COUNTRY_INFO!K31=2,0.2*COUNTRY_INFO!G31/(0.5*COUNTRY_INFO!F31+0.2*COUNTRY_INFO!G31),IF(COUNTRY_INFO!K31=3,COUNTRY_INFO!G31/(COUNTRY_INFO!F31+COUNTRY_INFO!G31)))),0)","v":0},{"$f":"MAX(COUNTRY_INFO!D31*AK31*PROFILE!$G$7,COUNTRY_INFO!D31*AL31*PROFILE!$G$7)","v":0},{"$f":"MAX(COUNTRY_INFO!D31*AK31*PROFILE!$G$8,COUNTRY_INFO!D31*AL31*PROFILE!$G$8,COUNTRY_INFO!D31*AM31*PROFILE!$G$8)","v":39229.185713029525},{"$f":"MAX(COUNTRY_INFO!D31*AK31*PROFILE!$G$9,COUNTRY_INFO!D31*AL31*PROFILE!$G$9,COUNTRY_INFO!D31*AM31*PROFILE!$G$9,IF(AND(DISTRICT!Z31<>\"Unknown\",Z31<>\"Not required\"),COUNTRY_INFO!O31*DISTRICT!AN31,0))","v":83431.135777801421},{"$f":"MAX(COUNTRY_INFO!D31*AK31*PROFILE!$G$10,COUNTRY_INFO!D31*AL31*PROFILE!$G$10,IF(AND(DISTRICT!Z31<>\"Unknown\",Z31<>\"Not required\"),COUNTRY_INFO!O31*DISTRICT!AO31,0))","v":0},122660.32149083095,"Y",{"$f":"MAX('MDA2'!J31,'T1'!L31,'T2'!J31,T3_R1!K31,T3_R2!K31)","v":8006},{"$f":"MAX('MDA1'!K31,'MDA2'!K31,'MDA3'!I31,'MDA3'!L31,'T1'!M31,'T2'!K31,T3_R1!L31,T3_R2!L31)","v":23363},{"$f":"MAX('MDA1'!L31,'MDA2'!L31,'MDA3'!J31,'MDA3'!M31,'T1'!N31,'T2'!L31,T3_R1!M31,T3_R2!M31)","v":0},31369,{"$f":"MAX('MDA2'!J31,T31)","v":8006},{"$f":"MAX('MDA1'!K31,'MDA2'!K31,'MDA3'!I31,'MDA3'!L31,V31,AD31)","v":23363},{"$f":"MAX('MDA1'!L31,'MDA2'!L31,'MDA3'!J31,'MDA3'!M31,AF31)","v":0},31369,25.573877207182178]
[{"$f":"IF(COUNTRY_INFO!A32=0,\" \",COUNTRY_INFO!A32)","v":"Uganda"},{"$f":"IF(COUNTRY_INFO!B32=0,\" \",COUNTRY_INFO!B32)","v":"Central "},{"$f":"IF(COUNTRY_INFO!C32=0,\" \",COUNTRY_INFO!C32)","v":"Wakiso"},{"$f":"COUNTRY_INFO!L32","v":0},null,null,{"$f":"MAX('MDA1'!M32,'MDA2'!M32)","v":0},{"$f":"IF(AND(COUNTRY_INFO!H32>0,COUNTRY_INFO!H32<4),IF(D32>MAX('MDA1'!M32,'MDA2'!M32),MAX('MDA1'!M32,'MDA2'!M32),D32),0)","v":0},{"$f":"IF(AND(COUNTRY_INFO!H32>0,COUNTRY_INFO!H32<4), IF(G32/D32*100<>0, IF(G32/D32*100>100,100,G32/D32*100), \"-\"),0)","v":0},{"$f":"COUNTRY_INFO!M32","v":0},null,null,{"$f":"MAX('MDA1'!M32,MAX('MDA3'!I32,'MDA3'!L32)+MAX('MDA3'!J32,'MDA3'!M32))","v":0},{"$f":"IF(AND(COUNTRY_INFO!I32>0,COUNTRY_INFO!I32<4),IF(J32>MAX('MDA1'!M32,MAX('MDA3'!I32,'MDA3'!L32)+MAX('MDA3'!J32,'MDA3'!M32)),MAX('MDA1'!M32,MAX('MDA3'!I32,'MDA3'!L32)+MAX('MDA3'!J32,'MDA3'!M32)),J32),0)","v":0},{"$f":"IF(AND(COUNTRY_INFO!I32>0,COUNTRY_INFO!I32<4), IF(M32/J32*100<>0, IF(M32/J32*100>100,100,M32/J32*100), \"-\"),0)","v":0},{"$f":"COUNTRY_INFO!N32","v":969936},null,null,{"$f":"SUM(MAX('MDA2'!J32, 'T1'!L32, MAX(T3_R1!K32, T3_R2!K32)), MAX('MDA1'!K32, 'MDA2'!K32, 'T1'!M32, MAX(T3_R1!L32, T3_R2!L32)), MAX('MDA1'!L32, 'MDA2'!L32, 'T1'!N32, MAX(T3_R1!M32, T3_R2!M32)))","v":183112},{"$f":"IF(AND(COUNTRY_INFO!J32>1,COUNTRY_INFO!J32<4),IF(COUNTRY_INFO!E32>MAX('MDA2'!J32,'T1'!L32,MAX(T3_R1!K32,T3_R2!K32)),MAX('MDA2'!J32,'T1'!L32,MAX(T3_R1!K32,T3_R2!K32)),COUNTRY_INFO!E32),0)","v":100837},{"$f":"IF(AND(COUNTRY_INFO!J32>1,COUNTRY_INFO!J32<4), IF(T32/COUNTRY_INFO!E32*100<>0, IF(T32/COUNTRY_INFO!E32*100>100,100,T32/COUNTRY_INFO!E32*100), \"-\"),0)","v":32.506568237133507},{"$f":"IF(AND(COUNTRY_INFO!J32>1,COUNTRY_INFO!J32<4),IF(COUNTRY_INFO!F32>MAX('MDA1'!K32,'MDA2'!K32,'T1'!M32,MAX(T3_R1!L32,T3_R2!L32)),MAX('MDA1'!K32,'MDA2'!K32,'T1'!M32,MAX(T3_R1!L32,T3_R2!L32)),COUNTRY_INFO!F32),0)","v":82275},{"$f":"IF(AND(COUNTRY_INFO!J32>1,COUNTRY_INFO!J32<4), IF(V32/COUNTRY_INFO!F32*100<>0, IF(V32/COUNTRY_INFO!F32*100>100,100,V32/COUNTRY_INFO!F32*100), \"-\"),0)","v":12.47099196490691},183112,{"$f":"IF(AND(COUNTRY_INFO!J32>1,COUNTRY_INFO!J32<4), IF(S32/P32*100<>0, IF(X32/P32*100>100,100,X32/P32*100), \"-\"),0)","v":18.878771382854126},{"$f":"COUNTRY_INFO!O32","v":164285},null,null,{"$f":"MAX('T1'!L32,'T2'!J32)+MAX('T1'!M32,'T2'!K32)+MAX('T1'!N32,'T2'!L32)","v":140214},{"$f":"IF(COUNTRY_INFO!K32=1,IF(COUNTRY_INFO!F32*0.33>MAX('T1'!M32,'T2'!K32),MAX('T1'!M32,'T2'!K32),COUNTRY_INFO!F32*0.33),IF(COUNTRY_INFO!K32=2,IF(COUNTRY_INFO!F32*0.5>MAX('T1'!M32,'T2'!K32),MAX('T1'!M32,'T2'!K32),COUNTRY_INFO!F32*0.5),IF(COUNTRY_INFO!K32=3,IF(COUNTRY_INFO!F32>MAX('T1'!M32,'T2'!K32),MAX('T1'!M32,'T2'!K32),COUNTRY_INFO!F32),0)))","v":85259},{"$f":"IF(AND(COUNTRY_INFO!K32>0,COUNTRY_INFO!K32<4),IF(Z32>0,IF(COUNTRY_INFO!K32=1, AD32/(COUNTRY_INFO!F32*0.33)*100, IF(COUNTRY_INFO!K32=2, AD32/(COUNTRY_INFO!F32*0.5)*100, IF(COUNTRY_INFO!K32=3, AD32/COUNTRY_INFO!F32*100))),\"-\"),0)","v":25.846595051619524},{"$f":"IF(COUNTRY_INFO!K32=2,IF(COUNTRY_INFO!G32*0.2>MAX('T1'!N32,'T2'!L32),MAX('T1'!N32,'T2'!L32),COUNTRY_INFO!G32*0.2),IF(COUNTRY_INFO!K32=3,IF(COUNTRY_INFO!G32>MAX('T1'!N32,'T2'!L32),MAX('T1'!N32,'T2'!L32),COUNTRY_INFO!G32),0))","v":54955},{"$f":"IF(AND(COUNTRY_INFO!K32>0,COUNTRY_INFO!K32<4),IF(Z32>0,IF(COUNTRY_INFO!K32=1, 0, IF(COUNTRY_INFO!K32=2, AF32/(COUNTRY_INFO!G32*0.2)*100, IF(COUNTRY_INFO!K32=3, AF32/COUNTRY_INFO!G32*100))),\"-\"),0)","v":24.142333233170437},140214,{"$f":"IF(AND(COUNTRY_INFO!K32>0,COUNTRY_INFO!K32<4), IF(AC32/Z32*100<>0, IF(AH32/Z32*100>100,100,AH32/Z32*100), \"-\"),0)","v":85.348023252275013},null,{"$f":"IF(AND(D32<>0, D32<>\"Unknown\",D32<>\"Stopped\",D32<>\"Not required\"),D32/COUNTRY_INFO!D32, 0)","v":0},{"$f":"IF(AND(J32<>0,J32<>\"Unknown\",J32<>\"Stopped\",J32<>\"Not required\"),J32/COUNTRY_INFO!D32, 0)","v":0},{"$f":"IF(AND(P32<>0,P32<>\"Unknown\",P32<>\"Not required\"),P32/(COUNTRY_INFO!E32+COUNTRY_INFO!F32), 0)","v":1},{"$f":"IF(AND(Z32<>0,Z32<>\"Unknown\",Z32<>\"Not required\"),IF(COUNTRY_INFO!K32=1,1,IF(COUNTRY_INFO!K32=2,0.5*COUNTRY_INFO!F32/(0.5*COUNTRY_INFO!F32+0.2*COUNTRY_INFO!G32),IF(COUNTRY_INFO!K32=3,COUNTRY_INFO!F32/(COUNTRY_INFO!F32+COUNTRY_INFO!G32)))),0)","v":0.5916926205755858},{"$f":"IF(AND(Z32<>0,Z32<>\"Unknown\",Z32<>\"Not required\"),IF(COUNTRY_INFO!K32=1,0,IF(COUNTRY_INFO!K32=2,0.2*COUNTRY_INFO!G32/(0.5*COUNTRY_INFO!F32+0.2*COUNTRY_INFO!G32),IF(COUNTRY_INFO!K32=3,COUNTRY_INFO!G32/(COUNTRY_INFO!F32+COUNTRY_INFO!G32)))),0)","v":0.40830737942441431},{"$f":"MAX(COUNTRY_INFO!D32*AK32*PROFILE!$G$7,COUNTRY_INFO!D32*AL32*PROFILE!$G$7)","v":0},{"$f":"MAX(COUNTRY_INFO!D32*AK32*PROFILE!$G$8,COUNTRY_INFO!D32*AL32*PROFILE!$G$8,COUNTRY_INFO!D32*AM32*PROFILE!$G$8)","v":310204.67739583162},{"$f":"MAX(COUNTRY_INFO!D32*AK32*PROFILE!$G$9,COUNTRY_INFO!D32*AL32*PROFILE!$G$9,COUNTRY_INFO!D32*AM32*PROFILE!$G$9,IF(AND(DISTRICT!Z32<>\"Unknown\",Z32<>\"Not required\"),COUNTRY_INFO!O32*DISTRICT!AN32,0))","v":659731.47513293207},{"$f":"MAX(COUNTRY_INFO!D32*AK32*PROFILE!$G$10,COUNTRY_INFO!D32*AL32*PROFILE!$G$10,IF(AND(DISTRICT!Z32<>\"Unknown\",Z32<>\"Not required\"),COUNTRY_INFO!O32*DISTRICT!AO32,0))","v":67078.777828739898},1037014.9303575037,"Y",{"$f":"MAX('MDA2'!J32,'T1'!L32,'T2'!J32,T3_R1!K32,T3_R2!K32)","v":100837},{"$f":"MAX('MDA1'!K32,'MDA2'!K32,'MDA3'!I32,'MDA3'!L32,'T1'!M32,'T2'!K32,T3_R1!L32,T3_R2!L32)","v":85259},{"$f":"MAX('MDA1'!L32,'MDA2'!L32,'MDA3'!J32,'MDA3'!M32,'T1'!N32,'T2'!L32,T3_R1!M32,T3_R2!M32)","v":54955},241051,{"$f":"MAX('MDA2'!J32,T32)","v":100837},{"$f":"MAX('MDA1'!K32,'MDA2'!K32,'MDA3'!I32,'MDA3'!L32,V32,AD32)","v":85259},{"$f":"MAX('MDA1'!L32,'MDA2'!L32,'MDA3'!J32,'MDA3'!M32,AF32)","v":54955},241051,23.24469908228798]
[{"$f":"IF(COUNTRY_INFO!A33=0,\" \",COUNTRY_INFO!A33)","v":"Uganda"},{"$f":"IF(COUNTRY_INFO!B33=0,\" \",COUNTRY_INFO!B33)","v":"Eastern "},{"$f":"IF(COUNTRY_INFO!C33=0,\" \",COUNTRY_INFO!C33)","v":"Amuria"},{"$f":"COUNTRY_INFO!L33","v":"Stopped"},null,null,{"$f":"MAX('MDA1'!M33,'MDA2'!M33)","v":0},{"$f":"IF(AND(COUNTRY_INFO!H33>0,COUNTRY_INFO!H33<4),IF(D33>MAX('MDA1'!M33,'MDA2'!M33),MAX('MDA1'!M33,'MDA2'!M33),D33),0)","v":0},{"$f":"IF(AND(COUNTRY_INFO!H33>0,COUNTRY_INFO!H33<4), IF(G33/D33*100<>0, IF(G33/D33*100>100,100,G33/D33*100), \"-\"),0)","v":0},{"$f":"COUNTRY_INFO!M33","v":0},null,null,{"$f":"MAX('MDA1'!M33,MAX('MDA3'!I33,'MDA3'!L33)+MAX('MDA3'!J33,'MDA3'!M33))","v":0},{"$f":"IF(AND(COUNTRY_INFO!I33>0,COUNTRY_INFO!I33<4),IF(J33>MAX('MDA1'!M33,MAX('MDA3'!I33,'MDA3'!L33)+MAX('MDA3'!J33,'MDA3'!M33)),MAX('MDA1'!M33,MAX('MDA3'!I33,'MDA3'!L33)+MAX('MDA3'!J33,'MDA3'!M33)),J33),0)","v":0},{"$f":"IF(AND(COUNTRY_INFO!I33>0,COUNTRY_INFO!I33<4), IF(M33/J33*100<>0, IF(M33/J33*100>100,100,M33/J33*100), \"-\"),0)","v":0},{"$f":"COUNTRY_INFO!N33","v":131561},null,null,{"$f":"SUM(MAX('MDA2'!J33, 'T1'!L33, MAX(T3_R1!K33, T3_R2!K33)), MAX('MDA1'!K33, 'MDA2'!K33, 'T1'!M33, MAX(T3_R1!L33, T3_R2!L33)), MAX('MDA1'!L33, 'MDA2'!L33, 'T1'!N33, MAX(T3_R1!M33, T3_R2!M33)))","v":60272},{"$f":"IF(AND(COUNTRY_INFO!J33>1,COUNTRY_INFO!J33<4),IF(COUNTRY_INFO!E33>MAX('MDA2'!J33,'T1'!L33,MAX(T3_R1!K33,T3_R2!K33)),MAX('MDA2'!J33,'T1'!L33,MAX(T3_R1!K33,T3_R2!K33)),COUNTRY_INFO!E33),0)","v":32107},{"$f":"IF(AND(COUNTRY_INFO!J33>1,COUNTRY_INFO!J33<4), IF(T33/COUNTRY_INFO!E33*100<>0, IF(T33/COUNTRY_INFO!E33*100>100,100,T33/COUNTRY_INFO!E33*100), \"-\"),0)","v":76.307158475140227},{"$f":"IF(AND(COUNTRY_INFO!J33>1,COUNTRY_INFO!J33<4),IF(COUNTRY_INFO!F33>MAX('MDA1'!K33,'MDA2'!K33,'T1'!M33,MAX(T3_R1!L33,T3_R2!L33)),MAX('MDA1'!K33,'MDA2'!K33,'T1'!M33,MAX(T3_R1!L33,T3_R2!L33)),COUNTRY_INFO!F33),0)","v":28165},{"$f":"IF(AND(COUNTRY_INFO!J33>1,COUNTRY_INFO!J33<4), IF(V33/COUNTRY_INFO!F33*100<>0, IF(V33/COUNTRY_INFO!F33*100>100,100,V33/COUNTRY_INFO!F33*100), \"-\"),0)","v":31.474548807062636},60272,{"$f":"IF(AND(COUNTRY_INFO!J33>1,COUNTRY_INFO!J33<4), IF(S33/P33*100<>0, IF(X33/P33*100>100,100,X33/P33*100), \"-\"),0)","v":45.812968888956448},{"$f":"COUNTRY_INFO!O33","v":0},null,null,{"$f":"MAX('T1'!L33,'T2'!J33)+MAX('T1'!M33,'T2'!K33)+MAX('T1'!N33,'T2'!L33)","v":0},{"$f":"IF(COUNTRY_INFO!K33=1,IF(COUNTRY_INFO!F33*0.33>MAX('T1'!M33,'T2'!K33),MAX('T1'!M33,'T2'!K33),COUNTRY_INFO!F33*0.33),IF(COUNTRY_INFO!K33=2,IF(COUNTRY_INFO!F33*0.5>MAX('T1'!M33,'T2'!K33),MAX('T1'!M33,'T2'!K33),COUNTRY_INFO!F33*0.5),IF(COUNTRY_INFO!K33=3,IF(COUNTRY_INFO!F33>MAX('T1'!M33,'T2'!K33),MAX('T1'!M33,'T2'!K33),COUNTRY_INFO!F33),0)))","v":0},{"$f":"IF(AND(COUNTRY_INFO!K33>0,COUNTRY_INFO!K33<4),IF(Z33>0,IF(COUNTRY_INFO!K33=1, AD33/(COUNTRY_INFO!F33*0.33)*100, IF(COUNTRY_INFO!K33=2, AD33/(COUNTRY_INFO!F33*0.5)*100, IF(COUNTRY_INFO!K33=3, AD33/COUNTRY_INFO!F33*100))),\"-\"),0)","v":0},{"$f":"IF(COUNTRY_INFO!K33=2,IF(COUNTRY_INFO!G33*0.2>MAX('T1'!N33,'T2'!L33),MAX('T1'!N33,'T2'!L33),COUNTRY_INFO!G33*0.2),IF(COUNTRY_INFO!K33=3,IF(COUNTRY_INFO!G33>MAX('T1'!N33,'T2'!L33),MAX('T1'!N33,'T2'!L33),COUNTRY_INFO!G33),0))","v":0},{"$f":"IF(AND(COUNTRY_INFO!K33>0,COUNTRY_INFO!K33<4),IF(Z33>0,IF(COUNTRY_INFO!K33=1, 0, IF(COUNTRY_INFO!K33=2, AF33/(COUNTRY_INFO!G33*0.2)*100, IF(COUNTRY_INFO!K33=3, AF33/COUNTRY_INFO!G33*100))),\"-\"),0)","v":0},0,{"$f":"IF(AND(COUNTRY_INFO!K33>0,COUNTRY_INFO!K33<4), IF(AC33/Z33*100<>0, IF(AH33/Z33*100>100,100,AH33/Z33*100), \"-\"),0)","v":0},null,{"$f":"IF(AND(D33<>0, D33<>\"Unknown\",D33<>\"Stopped\",D33<>\"Not required\"),D33/COUNTRY_INFO!D33, 0)","v":0},{"$f":"IF(AND(J33<>0,J33<>\"Unknown\",J33<>\"Stopped\",J33<>\"Not required\"),J33/COUNTRY_INFO!D33, 0)","v":0},{"$f":"IF(AND(P33<>0,P33<>\"Unknown\",P33<>\"Not required\"),P33/(COUNTRY_INFO!E33+COUNTRY_INFO!F33), 0)","v":1},{"$f":"IF(AND(Z33<>0,Z33<>\"Unknown\",Z33<>\"Not required\"),IF(COUNTRY_INFO!K33=1,1,IF(COUNTRY_INFO!K33=2,0.5*COUNTRY_INFO!F33/(0.5*COUNTRY_INFO!F33+0.2*COUNTRY_INFO!G33),IF(COUNTRY_INFO!K33=3,COUNTRY_INFO!F33/(COUNTRY_INFO!F33+COUNTRY_INFO!G33)))),0)","v":0},{"$f":"IF(AND(Z33<>0,Z33<>\"Unknown\",Z33<>\"Not required\"),IF(COUNTRY_INFO!K33=1,0,IF(COUNTRY_INFO!K33=2,0.2*COUNTRY_INFO!G33/(0.5*COUNTRY_INFO!F33+0.2*COUNTRY_INFO!G33),IF(COUNTRY_INFO!K33=3,COUNTRY_INFO!G33/(COUNTRY_INFO!F33+COUNTRY_INFO!G33)))),0)","v":0},{"$f":"MAX(COUNTRY_INFO!D33*AK33*PROFILE!$G$7,COUNTRY_INFO!D33*AL33*PROFILE!$G$7)","v":0},{"$f":"MAX(COUNTRY_INFO!D33*AK33*PROFILE!$G$8,COUNTRY_INFO!D33*AL33*PROFILE!$G$8,COUNTRY_INFO!D33*AM33*PROFILE!$G$8)","v":42075.858386032342},{"$f":"MAX(COUNTRY_INFO!D33*AK33*PROFILE!$G$9,COUNTRY_INFO!D33*AL33*PROFILE!$G$9,COUNTRY_INFO!D33*AM33*PROFILE!$G$9,IF(AND(DISTRICT!Z33<>\"Unknown\",Z33<>\"Not required\"),COUNTRY_INFO!O33*DISTRICT!AN33,0))","v":89485.33063245962},{"$f":"MAX(COUNTRY_INFO!D33*AK33*PROFILE!$G$10,COUNTRY_INFO!D33*AL33*PROFILE!$G$10,IF(AND(DISTRICT!Z33<>\"Unknown\",Z33<>\"Not required\"),COUNTRY_INFO!O33*DISTRICT!AO33,0))","v":0},131561.18901849195,"Y",{"$f":"MAX('MDA2'!J33,'T1'!L33,'T2'!J33,T3_R1!K33,T3_R2!K33)","v":32107},{"$f":"MAX('MDA1'!K33,'MDA2'!K33,'MDA3'!I33,'MDA3'!L33,'T1'!M33,'T2'!K33,T3_R1!L33,T3_R2!L33)","v":28165},{"$f":"MAX('MDA1'!L33,'MDA2'!L33,'MDA3'!J33,'MDA3'!M33,'T1'!N33,'T2'!L33,T3_R1!M33,T3_R2!M33)","v":0},60272,{"$f":"MAX('MDA2'!J33,T33)","v":32107},{"$f":"MAX('MDA1'!K33,'MDA2'!K33,'MDA3'!I33,'MDA3'!L33,V33,AD33)","v":28165},{"$f":"MAX('MDA1'!L33,'MDA2'!L33,'MDA3'!J33,'MDA3'!M33,AF33)","v":0},60272,45.812903067886005]
[{"$f":"IF(COUNTRY_INFO!A34=0,\" \",COUNTRY_INFO!A34)","v":"Uganda"},{"$f":"IF(COUNTRY_INFO!B34=0,\" \",COUNTRY_INFO!B34)","v":"Eastern "},{"$f":"IF(COUNTRY_INFO!C34=0,\" \",COUNTRY_INFO!C34)","v":"Budaka"},{"$f":"COUNTRY_INFO!L34","v":"Stopped"},null,null,{"$f":"MAX('MDA1'!M34,'MDA2'!M34)","v":0},{"$f":"IF(AND(COUNTRY_INFO!H34>0,COUNTRY_INFO!H34<4),IF(D34>MAX('MDA1'!M34,'MDA2'!M34),MAX('MDA1'!M34,'MDA2'!M34),D34),0)","v":0},{"$f":"IF(AND(COUNTRY_INFO!H34>0,COUNTRY_INFO!H34<4), IF(G34/D34*100<>0, IF(G34/D34*100>100,100,G34/D34*100), \"-\"),0)","v":0},{"$f":"COUNTRY_INFO!M34","v":0},null,null,{"$f":"MAX('MDA1'!M34,MAX('MDA3'!I34,'MDA3'!L34)+MAX('MDA3'!J34,'MDA3'!M34))","v":0},{"$f":"IF(AND(COUNTRY_INFO!I34>0,COUNTRY_INFO!I34<4),IF(J34>MAX('MDA1'!M34,MAX('MDA3'!I34,'MDA3'!L34)+MAX('MDA3'!J34,'MDA3'!M34)),MAX('MDA1'!M34,MAX('MDA3'!I34,'MDA3'!L34)+MAX('MDA3'!J34,'MDA3'!M34)),J34),0)","v":0},{"$f":"IF(AND(COUNTRY_INFO!I34>0,COUNTRY_INFO!I34<4), IF(M34/J34*100<>0, IF(M34/J34*100>100,100,M34/J34*100), \"-\"),0)","v":0},{"$f":"COUNTRY_INFO!N34","v":100808},null,null,{"$f":"SUM(MAX('MDA2'!J34, 'T1'!L34, MAX(T3_R1!K34, T3_R2!K34)), MAX('MDA1'!K34, 'MDA2'!K34, 'T1'!M34, MAX(T3_R1!L34, T3_R2!L34)), MAX('MDA1'!L34, 'MDA2'!L34, 'T1'!N34, MAX(T3_R1!M34, T3_R2!M34)))","v":16487},{"$f":"IF(AND(COUNTRY_INFO!J34>1,COUNTRY_INFO!J34<4),IF(COUNTRY_INFO!E34>MAX('MDA2'!J34,'T1'!L34,MAX(T3_R1!K34,T3_R2!K34)),MAX('MDA2'!J34,'T1'!L34,MAX(T3_R1!K34,T3_R2!K34)),COUNTRY_INFO!E34),0)","v":11641},{"$f":"IF(AND(COUNTRY_INFO!J34>1,COUNTRY_INFO!J34<4), IF(T34/COUNTRY_INFO!E34*100<>0, IF(T34/COUNTRY_INFO!E34*100>100,100,T34/COUNTRY_INFO!E34*100), \"-\"),0)","v":36.107320099255588},{"$f":"IF(AND(COUNTRY_INFO!J34>1,COUNTRY_INFO!J34<4),IF(COUNTRY_INFO!F34>MAX('MDA1'!K34,'MDA2'!K34,'T1'!M34,MAX(T3_R1!L34,T3_R2!L34)),MAX('MDA1'!K34,'MDA2'!K34,'T1'!M34,MAX(T3_R1!L34,T3_R2!L34)),COUNTRY_INFO!F34),0)","v":4846},{"$f":"IF(AND(COUNTRY_INFO!J34>1,COUNTRY_INFO!J34<4), IF(V34/COUNTRY_INFO!F34*100<>0, IF(V34/COUNTRY_INFO!F34*100>100,100,V34/COUNTRY_INFO!F34*100), \"-\"),0)","v":7.0674367051685918},16487,{"$f":"IF(AND(COUNTRY_INFO!J34>1,COUNTRY_INFO!J34<4), IF(S34/P34*100<>0, IF(X34/P34*100>100,100,X34/P34*100), \"-\"),0)","v":16.354852789461155},{"$f":"COUNTRY_INFO!O34","v":30377},null,null,{"$f":"MAX('T1'!L34,'T2'!J34)+MAX('T1'!M34,'T2'!K34)+MAX('T1'!N34,'T2'!L34)","v":27979},{"$f":"IF(COUNTRY_INFO!K34=1,IF(COUNTRY_INFO!F34*0.33>MAX('T1'!M34,'T2'!K34),MAX('T1'!M34,'T2'!K34),COUNTRY_INFO!F34*0.33),IF(COUNTRY_INFO!K34=2,IF(COUNTRY_INFO!F34*0.5>MAX('T1'!M34,'T2'!K34),MAX('T1'!M34,'T2'!K34),COUNTRY_INFO!F34*0.5),IF(COUNTRY_INFO!K34=3,IF(COUNTRY_INFO!F34>MAX('T1'!M34,'T2'!K34),MAX('T1'!M34,'T2'!K34),COUNTRY_INFO!F34),0)))","v":22627.440000000002},{"$f":"IF(AND(COUNTRY_INFO!K34>0,COUNTRY_INFO!K34<4),IF(Z34>0,IF(COUNTRY_INFO!K34=1, AD34/(COUNTRY_INFO!F34*0.33)*100, IF(COUNTRY_INFO!K34=2, AD34/(COUNTRY_INFO!F34*0.5)*100, IF(COUNTRY_INFO!K34=3, AD34/COUNTRY_INFO!F34*100))),\"-\"),0)","v":100},{"$f":"IF(COUNTRY_INFO!K34=2,IF(COUNTRY_INFO!G34*0.2>MAX('T1'!N34,'T2'!L34),MAX('T1'!N34,'T2'!L34),COUNTRY_INFO!G34*0.2),IF(COUNTRY_INFO!K34=3,IF(COUNTRY_INFO!G34>MAX('T1'!N34,'T2'!L34),MAX('T1'!N34,'T2'!L34),COUNTRY_INFO!G34),0))","v":0},{"$f":"IF(AND(COUNTRY_INFO!K34>0,COUNTRY_INFO!K34<4),IF(Z34>0,IF(COUNTRY_INFO!K34=1, 0, IF(COUNTRY_INFO!K34=2, AF34/(COUNTRY_INFO!G34*0.2)*100, IF(COUNTRY_INFO!K34=3, AF34/COUNTRY_INFO!G34*100))),\"-\"),0)","v":0},22627.440000000002,{"$f":"IF(AND(COUNTRY_INFO!K34>0,COUNTRY_INFO!K34<4), IF(AC34/Z34*100<>0, IF(AH34/Z34*100>100,100,AH34/Z34*100), \"-\"),0)","v":74.488725022220763},null,{"$f":"IF(AND(D34<>0, D34<>\"Unknown\",D34<>\"Stopped\",D34<>\"Not required\"),D34/COUNTRY_INFO!D34, 0)","v":0},{"$f":"IF(AND(J34<>0,J34<>\"Unknown\",J34<>\"Stopped\",J34<>\"Not required\"),J34/COUNTRY_INFO!D34, 0)","v":0},{"$f":"IF(AND(P34<>0,P34<>\"Unknown\",P34<>\"Not required\"),P34/(COUNTRY_INFO!E34+COUNTRY_INFO!F34), 0)","v":1},{"$f":"IF(AND(Z34<>0,Z34<>\"Unknown\",Z34<>\"Not required\"),IF(COUNTRY_INFO!K34=1,1,IF(COUNTRY_INFO!K34=2,0.5*COUNTRY_INFO!F34/(0.5*COUNTRY_INFO!F34+0.2*COUNTRY_INFO!G34),IF(COUNTRY_INFO!K34=3,COUNTRY_INFO!F34/(COUNTRY_INFO!F34+COUNTRY_INFO!G34)))),0)","v":1},{"$f":"IF(AND(Z34<>0,Z34<>\"Unknown\",Z34<>\"Not required\"),IF(COUNTRY_INFO!K34=1,0,IF(COUNTRY_INFO!K34=2,0.2*COUNTRY_INFO!G34/(0.5*COUNTRY_INFO!F34+0.2*COUNTRY_INFO!G34),IF(COUNTRY_INFO!K34=3,COUNTRY_INFO!G34/(COUNTRY_INFO!F34+COUNTRY_INFO!G34)))),0)","v":0},{"$f":"MAX(COUNTRY_INFO!D34*AK34*PROFILE!$G$7,COUNTRY_INFO!D34*AL34*PROFILE!$G$7)","v":0},{"$f":"MAX(COUNTRY_INFO!D34*AK34*PROFILE!$G$8,COUNTRY_INFO!D34*AL34*PROFILE!$G$8,COUNTRY_INFO!D34*AM34*PROFILE!$G$8)","v":32240.374970914527},{"$f":"MAX(COUNTRY_INFO!D34*AK34*PROFILE!$G$9,COUNTRY_INFO!D34*AL34*PROFILE!$G$9,COUNTRY_INFO!D34*AM34*PROFILE!$G$9,IF(AND(DISTRICT!Z34<>\"Unknown\",Z34<>\"Not required\"),COUNTRY_INFO!O34*DISTRICT!AN34,0))","v":68567.599679546678},{"$f":"MAX(COUNTRY_INFO!D34*AK34*PROFILE!$G$10,COUNTRY_INFO!D34*AL34*PROFILE!$G$10,IF(AND(DISTRICT!Z34<>\"Unknown\",Z34<>\"Not required\"),COUNTRY_INFO!O34*DISTRICT!AO34,0))","v":0},100807.9746504612,"Y",{"$f":"MAX('MDA2'!J34,'T1'!L34,'T2'!J34,T3_R1!K34,T3_R2!K34)","v":11641},{"$f":"MAX('MDA1'!K34,'MDA2'!K34,'MDA3'!I34,'MDA3'!L34,'T1'!M34,'T2'!K34,T3_R1!L34,T3_R2!L34)","v":27979},{"$f":"MAX('MDA1'!L34,'MDA2'!L34,'MDA3'!J34,'MDA3'!M34,'T1'!N34,'T2'!L34,T3_R1!M34,T3_R2!M34)","v":0},39620,{"$f":"MAX('MDA2'!J34,T34)","v":11641},{"$f":"MAX('MDA1'!K34,'MDA2'!K34,'MDA3'!I34,'MDA3'!L34,V34,AD34)","v":22627.440000000002},{"$f":"MAX('MDA1'!L34,'MDA2'!L34,'MDA3'!J34,'MDA3'!M34,AF34)","v":0},34268.44,33.993778883884382]
[{"$f":"IF(COUNTRY_INFO!A35=0,\" \",COUNTRY_INFO!A35)","v":"Uganda"},{"$f":"IF(COUNTRY_INFO!B35=0,\" \",COUNTRY_INFO!B35)","v":"Eastern "},{"$f":"IF(COUNTRY_INFO!C35=0,\" \",COUNTRY_INFO!C35)","v":"Bududa"},{"$f":"COUNTRY_INFO!L35","v":0},null,null,{"$f":"MAX('MDA1'!M35,'MDA2'!M35)","v":0},{"$f":"IF(AND(COUNTRY_INFO!H35>0,COUNTRY_INFO!H35<4),IF(D35>MAX('MDA1'!M35,'MDA2'!M35),MAX('MDA1'!M35,'MDA2'!M35),D35),0)","v":0},{"$f":"IF(AND(COUNTRY_INFO!H35>0,COUNTRY_INFO!H35<4), IF(G35/D35*100<>0, IF(G35/D35*100>100,100,G35/D35*100), \"-\"),0)","v":0},{"$f":"COUNTRY_INFO!M35","v":"Stopped"},null,null,{"$f":"MAX('MDA1'!M35,MAX('MDA3'!I35,'MDA3'!L35)+MAX('MDA3'!J35,'MDA3'!M35))","v":0},{"$f":"IF(AND(COUNTRY_INFO!I35>0,COUNTRY_INFO!I35<4),IF(J35>MAX('MDA1'!M35,MAX('MDA3'!I35,'MDA3'!L35)+MAX('MDA3'!J35,'MDA3'!M35)),MAX('MDA1'!M35,MAX('MDA3'!I35,'MDA3'!L35)+MAX('MDA3'!J35,'MDA3'!M35)),J35),0)","v":0},{"$f":"IF(AND(COUNTRY_INFO!I35>0,COUNTRY_INFO!I35<4), IF(M35/J35*100<>0, IF(M35/J35*100>100,100,M35/J35*100), \"-\"),0)","v":0},{"$f":"COUNTRY_INFO!N35","v":102058},null,null,{"$f":"SUM(MAX('MDA2'!J35, 'T1'!L35, MAX(T3_R1!K35, T3_R2!K35)), MAX('MDA1'!K35, 'MDA2'!K35, 'T1'!M35, MAX(T3_R1!L35, T3_R2!L35)), MAX('MDA1'!L35, 'MDA2'!L35, 'T1'!N35, MAX(T3_R1!M35, T3_R2!M35)))","v":74892},{"$f":"IF(AND(COUNTRY_INFO!J35>1,COUNTRY_INFO!J35<4),IF(COUNTRY_INFO!E35>MAX('MDA2'!J35,'T1'!L35,MAX(T3_R1!K35,T3_R2!K35)),MAX('MDA2'!J35,'T1'!L35,MAX(T3_R1!K35,T3_R2!K35)),COUNTRY_INFO!E35),0)","v":32640},{"$f":"IF(AND(COUNTRY_INFO!J35>1,COUNTRY_INFO!J35<4), IF(T35/COUNTRY_INFO!E35*100<>0, IF(T35/COUNTRY_INFO!E35*100>100,100,T35/COUNTRY_INFO!E35*100), \"-\"),0)","v":100},{"$f":"IF(AND(COUNTRY_INFO!J35>1,COUNTRY_INFO!J35<4),IF(COUNTRY_INFO!F35>MAX('MDA1'!K35,'MDA2'!K35,'T1'!M35,MAX(T3_R1!L35,T3_R2!L35)),MAX('MDA1'!K35,'MDA2'!K35,'T1'!M35,MAX(T3_R1!L35,T3_R2!L35)),COUNTRY_INFO!F35),0)","v":28946},{"$f":"IF(AND(COUNTRY_INFO!J35>1,COUNTRY_INFO!J35<4), IF(V35/COUNTRY_INFO!F35*100<>0, IF(V35/COUNTRY_INFO!F35*100>100,100,V35/COUNTRY_INFO!F35*100), \"-\"),0)","v":41.698118643579477},61586,{"$f":"IF(AND(COUNTRY_INFO!J35>1,COUNTRY_INFO!J35<4), IF(S35/P35*100<>0, IF(X35/P35*100>100,100,X35/P35*100), \"-\"),0)","v":60.344118050520294},{"$f":"COUNTRY_INFO!O35","v":0},null,null,{"$f":"MAX('T1'!L35,'T2'!J35)+MAX('T1'!M35,'T2'!K35)+MAX('T1'!N35,'T2'!L35)","v":0},{"$f":"IF(COUNTRY_INFO!K35=1,IF(COUNTRY_INFO!F35*0.33>MAX('T1'!M35,'T2'!K35),MAX('T1'!M35,'T2'!K35),COUNTRY_INFO!F35*0.33),IF(COUNTRY_INFO!K35=2,IF(COUNTRY_INFO!F35*0.5>MAX('T1'!M35,'T2'!K35),MAX('T1'!M35,'T2'!K35),COUNTRY_INFO!F35*0.5),IF(COUNTRY_INFO!K35=3,IF(COUNTRY_INFO!F35>MAX('T1'!M35,'T2'!K35),MAX('T1'!M35,'T2'!K35),COUNTRY_INFO!F35),0)))","v":0},{"$f":"IF(AND(COUNTRY_INFO!K35>0,COUNTRY_INFO!K35<4),IF(Z35>0,IF(COUNTRY_INFO!K35=1, AD35/(COUNTRY_INFO!F35*0.33)*100, IF(COUNTRY_INFO!K35=2, AD35/(COUNTRY_INFO!F35*0.5)*100, IF(COUNTRY_INFO!K35=3, AD35/COUNTRY_INFO!F35*100))),\"-\"),0)","v":0},{"$f":"IF(COUNTRY_INFO!K35=2,IF(COUNTRY_INFO!G35*0.2>MAX('T1'!N35,'T2'!L35),MAX('T1'!N35,'T2'!L35),COUNTRY_INFO!G35*0.2),IF(COUNTRY_INFO!K35=3,IF(COUNTRY_INFO!G35>MAX('T1'!N35,'T2'!L35),MAX('T1'!N35,'T2'!L35),COUNTRY_INFO!G35),0))","v":0},{"$f":"IF(AND(COUNTRY_INFO!K35>0,COUNTRY_INFO!K35<4),IF(Z35>0,IF(COUNTRY_INFO!K35=1, 0, IF(COUNTRY_INFO!K35=2, AF35/(COUNTRY_INFO!G35*0.2)*100, IF(COUNTRY_INFO!K35=3, AF35/COUNTRY_INFO!G35*100))),\"-\"),0)","v":0},0,{"$f":"IF(AND(COUNTRY_INFO!K35>0,COUNTRY_INFO!K35<4), IF(AC35/Z35*100<>0, IF(AH35/Z35*100>100,100,AH35/Z35*100), \"-\"),0)","v":0},null,{"$f":"IF(AND(D35<>0, D35<>\"Unknown\",D35<>\"Stopped\",D35<>\"Not required\"),D35/COUNTRY_INFO!D35, 0)","v":0},{"$f":"IF(AND(J35<>0,J35<>\"Unknown\",J35<>\"Stopped\",J35<>\"Not required\"),J35/COUNTRY_INFO!D35, 0)","v":0},{"$f":"IF(AND(P35<>0,P35<>\"Unknown\",P35<>\"Not required\"),P35/(COUNTRY_INFO!E35+COUNTRY_INFO!F35), 0)","v":1},{"$f":"IF(AND(Z35<>0,Z35<>\"Unknown\",Z35<>\"Not required\"),IF(COUNTRY_INFO!K35=1,1,IF(COUNTRY_INFO!K35=2,0.5*COUNTRY_INFO!F35/(0.5*COUNTRY_INFO!F35+0.2*COUNTRY_INFO!G35),IF(COUNTRY_INFO!K35=3,COUNTRY_INFO!F35/(COUNTRY_INFO!F35+COUNTRY_INFO!G35)))),0)","v":0},{"$f":"IF(AND(Z35<>0,Z35<>\"Unknown\",Z35<>\"Not required\"),IF(COUNTRY_INFO!K35=1,0,IF(COUNTRY_INFO!K35=2,0.2*COUNTRY_INFO!G35/(0.5*COUNTRY_INFO!F35+0.2*COUNTRY_INFO!G35),IF(COUNTRY_INFO!K35=3,COUNTRY_INFO!G35/(COUNTRY_INFO!F35+COUNTRY_INFO!G35)))),0)","v":0},{"$f":"MAX(COUNTRY_INFO!D35*AK35*PROFILE!$G$7,COUNTRY_INFO!D35*AL35*PROFILE!$G$7)","v":0},{"$f":"MAX(COUNTRY_INFO!D35*AK35*PROFILE!$G$8,COUNTRY_INFO!D35*AL35*PROFILE!$G$8,COUNTRY_INFO!D35*AM35*PROFILE!$G$8)","v":32640.388784445175},{"$f":"MAX(COUNTRY_INFO!D35*AK35*PROFILE!$G$9,COUNTRY_INFO!D35*AL35*PROFILE!$G$9,COUNTRY_INFO!D35*AM35*PROFILE!$G$9,IF(AND(DISTRICT!Z35<>\"Unknown\",Z35<>\"Not required\"),COUNTRY_INFO!O35*DISTRICT!AN35,0))","v":69418.333799643049},{"$f":"MAX(COUNTRY_INFO!D35*AK35*PROFILE!$G$10,COUNTRY_INFO!D35*AL35*PROFILE!$G$10,IF(AND(DISTRICT!Z35<>\"Unknown\",Z35<>\"Not required\"),COUNTRY_INFO!O35*DISTRICT!AO35,0))","v":0},102058.72258408822,"Y",{"$f":"MAX('MDA2'!J35,'T1'!L35,'T2'!J35,T3_R1!K35,T3_R2!K35)","v":45946},{"$f":"MAX('MDA1'!K35,'MDA2'!K35,'MDA3'!I35,'MDA3'!L35,'T1'!M35,'T2'!K35,T3_R1!L35,T3_R2!L35)","v":28946},{"$f":"MAX('MDA1'!L35,'MDA2'!L35,'MDA3'!J35,'MDA3'!M35,'T1'!N35,'T2'!L35,T3_R1!M35,T3_R2!M35)","v":0},74892,{"$f":"MAX('MDA2'!J35,T35)","v":32640},{"$f":"MAX('MDA1'!K35,'MDA2'!K35,'MDA3'!I35,'MDA3'!L35,V35,AD35)","v":28946},{"$f":"MAX('MDA1'!L35,'MDA2'!L35,'MDA3'!J35,'MDA3'!M35,AF35)","v":0},61586,60.343690809237863]
[{"$f":"IF(COUNTRY_INFO!A36=0,\" \",COUNTRY_INFO!A36)","v":"Uganda"},{"$f":"IF(COUNTRY_INFO!B36=0,\" \",COUNTRY_INFO!B36)","v":"Eastern "},{"$f":"IF(COUNTRY_INFO!C36=0,\" \",COUNTRY_INFO!C36)","v":"Bugiri"},{"$f":"COUNTRY_INFO!L36","v":406133},null,null,{"$f":"MAX('MDA1'!M36,'MDA2'!M36)","v":219187},{"$f":"IF(AND(COUNTRY_INFO!H36>0,COUNTRY_INFO!H36<4),IF(D36>MAX('MDA1'!M36,'MDA2'!M36),MAX('MDA1'!M36,'MDA2'!M36),D36),0)","v":219187},{"$f":"IF(AND(COUNTRY_INFO!H36>0,COUNTRY_INFO!H36<4), IF(G36/D36*100<>0, IF(G36/D36*100>100,100,G36/D36*100), \"-\"),0)","v":53.969266225596044},{"$f":"COUNTRY_INFO!M36","v":0},null,null,{"$f":"MAX('MDA1'!M36,MAX('MDA3'!I36,'MDA3'!L36)+MAX('MDA3'!J36,'MDA3'!M36))","v":219187},{"$f":"IF(AND(COUNTRY_INFO!I36>0,COUNTRY_INFO!I36<4),IF(J36>MAX('MDA1'!M36,MAX('MDA3'!I36,'MDA3'!L36)+MAX('MDA3'!J36,'MDA3'!M36)),MAX('MDA1'!M36,MAX('MDA3'!I36,'MDA3'!L36)+MAX('MDA3'!J36,'MDA3'!M36)),J36),0)","v":0},{"$f":"IF(AND(COUNTRY_INFO!I36>0,COUNTRY_INFO!I36<4), IF(M36/J36*100<>0, IF(M36/J36*100>100,100,M36/J36*100), \"-\"),0)","v":0},{"$f":"COUNTRY_INFO!N36","v":180323},null,null,{"$f":"SUM(MAX('MDA2'!J36, 'T1'!L36, MAX(T3_R1!K36, T3_R2!K36)), MAX('MDA1'!K36, 'MDA2'!K36, 'T1'!M36, MAX(T3_R1!L36, T3_R2!L36)), MAX('MDA1'!L36, 'MDA2'!L36, 'T1'!N36, MAX(T3_R1!M36, T3_R2!M36)))","v":290755},{"$f":"IF(AND(COUNTRY_INFO!J36>1,COUNTRY_INFO!J36<4),IF(COUNTRY_INFO!E36>MAX('MDA2'!J36,'T1'!L36,MAX(T3_R1!K36,T3_R2!K36)),MAX('MDA2'!J36,'T1'!L36,MAX(T3_R1!K36,T3_R2!K36)),COUNTRY_INFO!E36),0)","v":57671},{"$f":"IF(AND(COUNTRY_INFO!J36>1,COUNTRY_INFO!J36<4), IF(T36/COUNTRY_INFO!E36*100<>0, IF(T36/COUNTRY_INFO!E36*100>100,100,T36/COUNTRY_INFO!E36*100), \"-\"),0)","v":100},{"$f":"IF(AND(COUNTRY_INFO!J36>1,COUNTRY_INFO!J36<4),IF(COUNTRY_INFO!F36>MAX('MDA1'!K36,'MDA2'!K36,'T1'!M36,MAX(T3_R1!L36,T3_R2!L36)),MAX('MDA1'!K36,'MDA2'!K36,'T1'!M36,MAX(T3_R1!L36,T3_R2!L36)),COUNTRY_INFO!F36),0)","v":80431},{"$f":"IF(AND(COUNTRY_INFO!J36>1,COUNTRY_INFO!J36<4), IF(V36/COUNTRY_INFO!F36*100<>0, IF(V36/COUNTRY_INFO!F36*100>100,100,V36/COUNTRY_INFO!F36*100), \"-\"),0)","v":65.576590679320361},138102,{"$f":"IF(AND(COUNTRY_INFO!J36>1,COUNTRY_INFO!J36<4), IF(S36/P36*100<>0, IF(X36/P36*100>100,100,X36/P36*100), \"-\"),0)","v":76.585904183049308},{"$f":"COUNTRY_INFO!O36","v":69756},null,null,{"$f":"MAX('T1'!L36,'T2'!J36)+MAX('T1'!M36,'T2'!K36)+MAX('T1'!N36,'T2'!L36)","v":42634},{"$f":"IF(COUNTRY_INFO!K36=1,IF(COUNTRY_INFO!F36*0.33>MAX('T1'!M36,'T2'!K36),MAX('T1'!M36,'T2'!K36),COUNTRY_INFO!F36*0.33),IF(COUNTRY_INFO!K36=2,IF(COUNTRY_INFO!F36*0.5>MAX('T1'!M36,'T2'!K36),MAX('T1'!M36,'T2'!K36),COUNTRY_INFO!F36*0.5),IF(COUNTRY_INFO!K36=3,IF(COUNTRY_INFO!F36>MAX('T1'!M36,'T2'!K36),MAX('T1'!M36,'T2'!K36),COUNTRY_INFO!F36),0)))","v":17710},{"$f":"IF(AND(COUNTRY_INFO!K36>0,COUNTRY_INFO!K36<4),IF(Z36>0,IF(COUNTRY_INFO!K36=1, AD36/(COUNTRY_INFO!F36*0.33)*100, IF(COUNTRY_INFO!K36=2, AD36/(COUNTRY_INFO!F36*0.5)*100, IF(COUNTRY_INFO!K36=3, AD36/COUNTRY_INFO!F36*100))),\"-\"),0)","v":28.878452858493951},{"$f":"IF(COUNTRY_INFO!K36=2,IF(COUNTRY_INFO!G36*0.2>MAX('T1'!N36,'T2'!L36),MAX('T1'!N36,'T2'!L36),COUNTRY_INFO!G36*0.2),IF(COUNTRY_INFO!K36=3,IF(COUNTRY_INFO!G36>MAX('T1'!N36,'T2'!L36),MAX('T1'!N36,'T2'!L36),COUNTRY_INFO!G36),0))","v":24924},{"$f":"IF(AND(COUNTRY_INFO!K36>0,COUNTRY_INFO!K36<4),IF(Z36>0,IF(COUNTRY_INFO!K36=1, 0, IF(COUNTRY_INFO!K36=2, AF36/(COUNTRY_INFO!G36*0.2)*100, IF(COUNTRY_INFO!K36=3, AF36/COUNTRY_INFO!G36*100))),\"-\"),0)","v":58.895531557929061},42634,{"$f":"IF(AND(COUNTRY_INFO!K36>0,COUNTRY_INFO!K36<4), IF(AC36/Z36*100<>0, IF(AH36/Z36*100>100,100,AH36/Z36*100), \"-\"),0)","v":61.118756809450083},null,{"$f":"IF(AND(D36<>0, D36<>\"Unknown\",D36<>\"Stopped\",D36<>\"Not required\"),D36/COUNTRY_INFO!D36, 0)","v":1},{"$f":"IF(AND(J36<>0,J36<>\"Unknown\",J36<>\"Stopped\",J36<>\"Not required\"),J36/COUNTRY_INFO!D36, 0)","v":0},{"$f":"IF(AND(P36<>0,P36<>\"Unknown\",P36<>\"Not required\"),P36/(COUNTRY_INFO!E36+COUNTRY_INFO!F36), 0)","v":1},{"$f":"IF(AND(Z36<>0,Z36<>\"Unknown\",Z36<>\"Not required\"),IF(COUNTRY_INFO!K36=1,1,IF(COUNTRY_INFO!K36=2,0.5*COUNTRY_INFO!F36/(0.5*COUNTRY_INFO!F36+0.2*COUNTRY_INFO!G36),IF(COUNTRY_INFO!K36=3,COUNTRY_INFO!F36/(COUNTRY_INFO!F36+COUNTRY_INFO!G36)))),0)","v":0.59169279753003035},{"$f":"IF(AND(Z36<>0,Z36<>\"Unknown\",Z36<>\"Not required\"),IF(COUNTRY_INFO!K36=1,0,IF(COUNTRY_INFO!K36=2,0.2*COUNTRY_INFO!G36/(0.5*COUNTRY_INFO!F36+0.2*COUNTRY_INFO!G36),IF(COUNTRY_INFO!K36=3,COUNTRY_INFO!G36/(COUNTRY_INFO!F36+COUNTRY_INFO!G36)))),0)","v":0.4083072024699696},{"$f":"MAX(COUNTRY_INFO!D36*AK36*PROFILE!$G$7,COUNTRY_INFO!D36*AL36*PROFILE!$G$7)","v":14214.692493415503},{"$f":"MAX(COUNTRY_INFO!D36*AK36*PROFILE!$G$8,COUNTRY_INFO!D36*AL36*PROFILE!$G$8,COUNTRY_INFO!D36*AM36*PROFILE!$G$8)","v":57670.859116309235},{"$f":"MAX(COUNTRY_INFO!D36*AK36*PROFILE!$G$9,COUNTRY_INFO!D36*AL36*PROFILE!$G$9,COUNTRY_INFO!D36*AM36*PROFILE!$G$9,IF(AND(DISTRICT!Z36<>\"Unknown\",Z36<>\"Not required\"),COUNTRY_INFO!O36*DISTRICT!AN36,0))","v":122652.18331455583},{"$f":"MAX(COUNTRY_INFO!D36*AK36*PROFILE!$G$10,COUNTRY_INFO!D36*AL36*PROFILE!$G$10,IF(AND(DISTRICT!Z36<>\"Unknown\",Z36<>\"Not required\"),COUNTRY_INFO!O36*DISTRICT!AO36,0))","v":211595.26507571945},406133,"Y",{"$f":"MAX('MDA2'!J36,'T1'!L36,'T2'!J36,T3_R1!K36,T3_R2!K36)","v":71568},{"$f":"MAX('MDA1'!K36,'MDA2'!K36,'MDA3'!I36,'MDA3'!L36,'T1'!M36,'T2'!K36,T3_R1!L36,T3_R2!L36)","v":80431},{"$f":"MAX('MDA1'!L36,'MDA2'!L36,'MDA3'!J36,'MDA3'!M36,'T1'!N36,'T2'!L36,T3_R1!M36,T3_R2!M36)","v":138756},290755,{"$f":"MAX('MDA2'!J36,T36)","v":57671},{"$f":"MAX('MDA1'!K36,'MDA2'!K36,'MDA3'!I36,'MDA3'!L36,V36,AD36)","v":80431},{"$f":"MAX('MDA1'!L36,'MDA2'!L36,'MDA3'!J36,'MDA3'!M36,AF36)","v":138756},276858,68.169294295218563]
[{"$f":"IF(COUNTRY_INFO!A37=0,\" \",COUNTRY_INFO!A37)","v":"Uganda"},{"$f":"IF(COUNTRY_INFO!B37=0,\" \",COUNTRY_INFO!B37)","v":"Eastern "},{"$f":"IF(COUNTRY_INFO!C37=0,\" \",COUNTRY_INFO!C37)","v":"Bukedea"},{"$f":"COUNTRY_INFO!L37","v":"Stopped"},null,null,{"$f":"MAX('MDA1'!M37,'MDA2'!M37)","v":0},{"$f":"IF(AND(COUNTRY_INFO!H37>0,COUNTRY_INFO!H37<4),IF(D37>MAX('MDA1'!M37,'MDA2'!M37),MAX('MDA1'!M37,'MDA2'!M37),D37),0)","v":0},{"$f":"IF(AND(COUNTRY_INFO!H37>0,COUNTRY_INFO!H37<4), IF(G37/D37*100<>0, IF(G37/D37*100>100,100,G37/D37*100), \"-\"),0)","v":0},{"$f":"COUNTRY_INFO!M37","v":0},null,null,{"$f":"MAX('MDA1'!M37,MAX('MDA3'!I37,'MDA3'!L37)+MAX('MDA3'!J37,'MDA3'!M37))","v":0},{"$f":"IF(AND(COUNTRY_INFO!I37>0,COUNTRY_INFO!I37<4),IF(J37>MAX('MDA1'!M37,MAX('MDA3'!I37,'MDA3'!L37)+MAX('MDA3'!J37,'MDA3'!M37)),MAX('MDA1'!M37,MAX('MDA3'!I37,'MDA3'!L37)+MAX('MDA3'!J37,'MDA3'!M37)),J37),0)","v":0},{"$f":"IF(AND(COUNTRY_INFO!I37>0,COUNTRY_INFO!I37<4), IF(M37/J37*100<>0, IF(M37/J37*100>100,100,M37/J37*100), \"-\"),0)","v":0},{"$f":"COUNTRY_INFO!N37","v":98868},null,null,{"$f":"SUM(MAX('MDA2'!J37, 'T1'!L37, MAX(T3_R1!K37, T3_R2!K37)), MAX('MDA1'!K37, 'MDA2'!K37, 'T1'!M37, MAX(T3_R1!L37, T3_R2!L37)), MAX('MDA1'!L37, 'MDA2'!L37, 'T1'!N37, MAX(T3_R1!M37, T3_R2!M37)))","v":70283},{"$f":"IF(AND(COUNTRY_INFO!J37>1,COUNTRY_INFO!J37<4),IF(COUNTRY_INFO!E37>MAX('MDA2'!J37,'T1'!L37,MAX(T3_R1!K37,T3_R2!K37)),MAX('MDA2'!J37,'T1'!L37,MAX(T3_R1!K37,T3_R2!K37)),COUNTRY_INFO!E37),0)","v":25993},{"$f":"IF(AND(COUNTRY_INFO!J37>1,COUNTRY_INFO!J37<4), IF(T37/COUNTRY_INFO!E37*100<>0, IF(T37/COUNTRY_INFO!E37*100>100,100,T37/COUNTRY_INFO!E37*100), \"-\"),0)","v":82.204301075268816},{"$f":"IF(AND(COUNTRY_INFO!J37>1,COUNTRY_INFO!J37<4),IF(COUNTRY_INFO!F37>MAX('MDA1'!K37,'MDA2'!K37,'T1'!M37,MAX(T3_R1!L37,T3_R2!L37)),MAX('MDA1'!K37,'MDA2'!K37,'T1'!M37,MAX(T3_R1!L37,T3_R2!L37)),COUNTRY_INFO!F37),0)","v":44290},{"$f":"IF(AND(COUNTRY_INFO!J37>1,COUNTRY_INFO!J37<4), IF(V37/COUNTRY_INFO!F37*100<>0, IF(V37/COUNTRY_INFO!F37*100>100,100,V37/COUNTRY_INFO!F37*100), \"-\"),0)","v":65.860694741851063},70283,{"$f":"IF(AND(COUNTRY_INFO!J37>1,COUNTRY_INFO!J37<4), IF(S37/P37*100<>0, IF(X37/P37*100>100,100,X37/P37*100), \"-\"),0)","v":71.087712910142812},{"$f":"COUNTRY_INFO!O37","v":65544},null,null,{"$f":"MAX('T1'!L37,'T2'!J37)+MAX('T1'!M37,'T2'!K37)+MAX('T1'!N37,'T2'!L37)","v":56727},{"$f":"IF(COUNTRY_INFO!K37=1,IF(COUNTRY_INFO!F37*0.33>MAX('T1'!M37,'T2'!K37),MAX('T1'!M37,'T2'!K37),COUNTRY_INFO!F37*0.33),IF(COUNTRY_INFO!K37=2,IF(COUNTRY_INFO!F37*0.5>MAX('T1'!M37,'T2'!K37),MAX('T1'!M37,'T2'!K37),COUNTRY_INFO!F37*0.5),IF(COUNTRY_INFO!K37=3,IF(COUNTRY_INFO!F37>MAX('T1'!M37,'T2'!K37),MAX('T1'!M37,'T2'!K37),COUNTRY_INFO!F37),0)))","v":22191.84},{"$f":"IF(AND(COUNTRY_INFO!K37>0,COUNTRY_INFO!K37<4),IF(Z37>0,IF(COUNTRY_INFO!K37=1, AD37/(COUNTRY_INFO!F37*0.33)*100, IF(COUNTRY_INFO!K37=2, AD37/(COUNTRY_INFO!F37*0.5)*100, IF(COUNTRY_INFO!K37=3, AD37/COUNTRY_INFO!F37*100))),\"-\"),0)","v":100},{"$f":"IF(COUNTRY_INFO!K37=2,IF(COUNTRY_INFO!G37*0.2>MAX('T1'!N37,'T2'!L37),MAX('T1'!N37,'T2'!L37),COUNTRY_INFO!G37*0.2),IF(COUNTRY_INFO!K37=3,IF(COUNTRY_INFO!G37>MAX('T1'!N37,'T2'!L37),MAX('T1'!N37,'T2'!L37),COUNTRY_INFO!G37),0))","v":0},{"$f":"IF(AND(COUNTRY_INFO!K37>0,COUNTRY_INFO!K37<4),IF(Z37>0,IF(COUNTRY_INFO!K37=1, 0, IF(COUNTRY_INFO!K37=2, AF37/(COUNTRY_INFO!G37*0.2)*100, IF(COUNTRY_INFO!K37=3, AF37/COUNTRY_INFO!G37*100))),\"-\"),0)","v":0},22191.84,{"$f":"IF(AND(COUNTRY_INFO!K37>0,COUNTRY_INFO!K37<4), IF(AC37/Z37*100<>0, IF(AH37/Z37*100>100,100,AH37/Z37*100), \"-\"),0)","v":33.857927499084582},null,{"$f":"IF(AND(D37<>0, D37<>\"Unknown\",D37<>\"Stopped\",D37<>\"Not required\"),D37/COUNTRY_INFO!D37, 0)","v":0},{"$f":"IF(AND(J37<>0,J37<>\"Unknown\",J37<>\"Stopped\",J37<>\"Not required\"),J37/COUNTRY_INFO!D37, 0)","v":0},{"$f":"IF(AND(P37<>0,P37<>\"Unknown\",P37<>\"Not required\"),P37/(COUNTRY_INFO!E37+COUNTRY_INFO!F37), 0)","v":1},{"$f":"IF(AND(Z37<>0,Z37<>\"Unknown\",Z37<>\"Not required\"),IF(COUNTRY_INFO!K37=1,1,IF(COUNTRY_INFO!K37=2,0.5*COUNTRY_INFO!F37/(0.5*COUNTRY_INFO!F37+0.2*COUNTRY_INFO!G37),IF(COUNTRY_INFO!K37=3,COUNTRY_INFO!F37/(COUNTRY_INFO!F37+COUNTRY_INFO!G37)))),0)","v":1},{"$f":"IF(AND(Z37<>0,Z37<>\"Unknown\",Z37<>\"Not required\"),IF(COUNTRY_INFO!K37=1,0,IF(COUNTRY_INFO!K37=2,0.2*COUNTRY_INFO!G37/(0.5*COUNTRY_INFO!F37+0.2*COUNTRY_INFO!G37),IF(COUNTRY_INFO!K37=3,COUNTRY_INFO!G37/(COUNTRY_INFO!F37+COUNTRY_INFO!G37)))),0)","v":0},{"$f":"MAX(COUNTRY_INFO!D37*AK37*PROFILE!$G$7,COUNTRY_INFO!D37*AL37*PROFILE!$G$7)","v":0},{"$f":"MAX(COUNTRY_INFO!D37*AK37*PROFILE!$G$8,COUNTRY_INFO!D37*AL37*PROFILE!$G$8,COUNTRY_INFO!D37*AM37*PROFILE!$G$8)","v":31619.693260249824},{"$f":"MAX(COUNTRY_INFO!D37*AK37*PROFILE!$G$9,COUNTRY_INFO!D37*AL37*PROFILE!$G$9,COUNTRY_INFO!D37*AM37*PROFILE!$G$9,IF(AND(DISTRICT!Z37<>\"Unknown\",Z37<>\"Not required\"),COUNTRY_INFO!O37*DISTRICT!AN37,0))","v":67247.557493199041},{"$f":"MAX(COUNTRY_INFO!D37*AK37*PROFILE!$G$10,COUNTRY_INFO!D37*AL37*PROFILE!$G$10,IF(AND(DISTRICT!Z37<>\"Unknown\",Z37<>\"Not required\"),COUNTRY_INFO!O37*DISTRICT!AO37,0))","v":0},98867.250753448869,"Y",{"$f":"MAX('MDA2'!J37,'T1'!L37,'T2'!J37,T3_R1!K37,T3_R2!K37)","v":25993},{"$f":"MAX('MDA1'!K37,'MDA2'!K37,'MDA3'!I37,'MDA3'!L37,'T1'!M37,'T2'!K37,T3_R1!L37,T3_R2!L37)","v":56727},{"$f":"MAX('MDA1'!L37,'MDA2'!L37,'MDA3'!J37,'MDA3'!M37,'T1'!N37,'T2'!L37,T3_R1!M37,T3_R2!M37)","v":0},82720,{"$f":"MAX('MDA2'!J37,T37)","v":25993},{"$f":"MAX('MDA1'!K37,'MDA2'!K37,'MDA3'!I37,'MDA3'!L37,V37,AD37)","v":44290},{"$f":"MAX('MDA1'!L37,'MDA2'!L37,'MDA3'!J37,'MDA3'!M37,AF37)","v":0},70283,71.088251634779326]
[{"$f":"IF(COUNTRY_INFO!A38=0,\" \",COUNTRY_INFO!A38)","v":"Uganda"},{"$f":"IF(COUNTRY_INFO!B38=0,\" \",COUNTRY_INFO!B38)","v":"Eastern "},{"$f":"IF(COUNTRY_INFO!C38=0,\" \",COUNTRY_INFO!C38)","v":"Bukwo"},{"$f":"COUNTRY_INFO!L38","v":0},null,null,{"$f":"MAX('MDA1'!M38,'MDA2'!M38)","v":0},{"$f":"IF(AND(COUNTRY_INFO!H38>0,COUNTRY_INFO!H38<4),IF(D38>MAX('MDA1'!M38,'MDA2'!M38),MAX('MDA1'!M38,'MDA2'!M38),D38),0)","v":0},{"$f":"IF(AND(COUNTRY_INFO!H38>0,COUNTRY_INFO!H38<4), IF(G38/D38*100<>0, IF(G38/D38*100>100,100,G38/D38*100), \"-\"),0)","v":0},{"$f":"COUNTRY_INFO!M38","v":0},null,null,{"$f":"MAX('MDA1'!M38,MAX('MDA3'!I38,'MDA3'!L38)+MAX('MDA3'!J38,'MDA3'!M38))","v":0},{"$f":"IF(AND(COUNTRY_INFO!I38>0,COUNTRY_INFO!I38<4),IF(J38>MAX('MDA1'!M38,MAX('MDA3'!I38,'MDA3'!L38)+MAX('MDA3'!J38,'MDA3'!M38)),MAX('MDA1'!M38,MAX('MDA3'!I38,'MDA3'!L38)+MAX('MDA3'!J38,'MDA3'!M38)),J38),0)","v":0},{"$f":"IF(AND(COUNTRY_INFO!I38>0,COUNTRY_INFO!I38<4), IF(M38/J38*100<>0, IF(M38/J38*100>100,100,M38/J38*100), \"-\"),0)","v":0},{"$f":"COUNTRY_INFO!N38","v":43391},null,null,{"$f":"SUM(MAX('MDA2'!J38, 'T1'!L38, MAX(T3_R1!K38, T3_R2!K38)), MAX('MDA1'!K38, 'MDA2'!K38, 'T1'!M38, MAX(T3_R1!L38, T3_R2!L38)), MAX('MDA1'!L38, 'MDA2'!L38, 'T1'!N38, MAX(T3_R1!M38, T3_R2!M38)))","v":45342},{"$f":"IF(AND(COUNTRY_INFO!J38>1,COUNTRY_INFO!J38<4),IF(COUNTRY_INFO!E38>MAX('MDA2'!J38,'T1'!L38,MAX(T3_R1!K38,T3_R2!K38)),MAX('MDA2'!J38,'T1'!L38,MAX(T3_R1!K38,T3_R2!K38)),COUNTRY_INFO!E38),0)","v":13877},{"$f":"IF(AND(COUNTRY_INFO!J38>1,COUNTRY_INFO!J38<4), IF(T38/COUNTRY_INFO!E38*100<>0, IF(T38/COUNTRY_INFO!E38*100>100,100,T38/COUNTRY_INFO!E38*100), \"-\"),0)","v":100},{"$f":"IF(AND(COUNTRY_INFO!J38>1,COUNTRY_INFO!J38<4),IF(COUNTRY_INFO!F38>MAX('MDA1'!K38,'MDA2'!K38,'T1'!M38,MAX(T3_R1!L38,T3_R2!L38)),MAX('MDA1'!K38,'MDA2'!K38,'T1'!M38,MAX(T3_R1!L38,T3_R2!L38)),COUNTRY_INFO!F38),0)","v":19877},{"$f":"IF(AND(COUNTRY_INFO!J38>1,COUNTRY_INFO!J38<4), IF(V38/COUNTRY_INFO!F38*100<>0, IF(V38/COUNTRY_INFO!F38*100>100,100,V38/COUNTRY_INFO!F38*100), \"-\"),0)","v":67.347699396896388},33754,{"$f":"IF(AND(COUNTRY_INFO!J38>1,COUNTRY_INFO!J38<4), IF(S38/P38*100<>0, IF(X38/P38*100>100,100,X38/P38*100), \"-\"),0)","v":77.790325182641567},{"$f":"COUNTRY_INFO!O38","v":0},null,null,{"$f":"MAX('T1'!L38,'T2'!J38)+MAX('T1'!M38,'T2'!K38)+MAX('T1'!N38,'T2'!L38)","v":0},{"$f":"IF(COUNTRY_INFO!K38=1,IF(COUNTRY_INFO!F38*0.33>MAX('T1'!M38,'T2'!K38),MAX('T1'!M38,'T2'!K38),COUNTRY_INFO!F38*0.33),IF(COUNTRY_INFO!K38=2,IF(COUNTRY_INFO!F38*0.5>MAX('T1'!M38,'T2'!K38),MAX('T1'!M38,'T2'!K38),COUNTRY_INFO!F38*0.5),IF(COUNTRY_INFO!K38=3,IF(COUNTRY_INFO!F38>MAX('T1'!M38,'T2'!K38),MAX('T1'!M38,'T2'!K38),COUNTRY_INFO!F38),0)))","v":0},{"$f":"IF(AND(COUNTRY_INFO!K38>0,COUNTRY_INFO!K38<4),IF(Z38>0,IF(COUNTRY_INFO!K38=1, AD38/(COUNTRY_INFO!F38*0.33)*100, IF(COUNTRY_INFO!K38=2, AD38/(COUNTRY_INFO!F38*0.5)*100, IF(COUNTRY_INFO!K38=3, AD38/COUNTRY_INFO!F38*100))),\"-\"),0)","v":0},{"$f":"IF(COUNTRY_INFO!K38=2,IF(COUNTRY_INFO!G38*0.2>MAX('T1'!N38,'T2'!L38),MAX('T1'!N38,'T2'!L38),COUNTRY_INFO!G38*0.2),IF(COUNTRY_INFO!K38=3,IF(COUNTRY_INFO!G38>MAX('T1'!N38,'T2'!L38),MAX('T1'!N38,'T2'!L38),COUNTRY_INFO!G38),0))","v":0},{"$f":"IF(AND(COUNTRY_INFO!K38>0,COUNTRY_INFO!K38<4),IF(Z38>0,IF(COUNTRY_INFO!K38=1, 0, IF(COUNTRY_INFO!K38=2, AF38/(COUNTRY_INFO!G38*0.2)*100, IF(COUNTRY_INFO!K38=3, AF38/COUNTRY_INFO!G38*100))),\"-\"),0)","v":0},0,{"$f":"IF(AND(COUNTRY_INFO!K38>0,COUNTRY_INFO!K38<4), IF(AC38/Z38*100<>0, IF(AH38/Z38*100>100,100,AH38/Z38*100), \"-\"),0)","v":0},null,{"$f":"IF(AND(D38<>0, D38<>\"Unknown\",D38<>\"Stopped\",D38<>\"Not required\"),D38/COUNTRY_INFO!D38, 0)","v":0},{"$f":"IF(AND(J38<>0,J38<>\"Unknown\",J38<>\"Stopped\",J38<>\"Not required\"),J38/COUNTRY_INFO!D38, 0)","v":0},{"$f":"IF(AND(P38<>0,P38<>\"Unknown\",P38<>\"Not required\"),P38/(COUNTRY_INFO!E38+COUNTRY_INFO!F38), 0)","v":1},{"$f":"IF(AND(Z38<>0,Z38<>\"Unknown\",Z38<>\"Not required\"),IF(COUNTRY_INFO!K38=1,1,IF(COUNTRY_INFO!K38=2,0.5*COUNTRY_INFO!F38/(0.5*COUNTRY_INFO!F38+0.2*COUNTRY_INFO!G38),IF(COUNTRY_INFO!K38=3,COUNTRY_INFO!F38/(COUNTRY_INFO!F38+COUNTRY_INFO!G38)))),0)","v":0},{"$f":"IF(AND(Z38<>0,Z38<>\"Unknown\",Z38<>\"Not required\"),IF(COUNTRY_INFO!K38=1,0,IF(COUNTRY_INFO!K38=2,0.2*COUNTRY_INFO!G38/(0.5*COUNTRY_INFO!F38+0.2*COUNTRY_INFO!G38),IF(COUNTRY_INFO!K38=3,COUNTRY_INFO!G38/(COUNTRY_INFO!F38+COUNTRY_INFO!G38)))),0)","v":0},{"$f":"MAX(COUNTRY_INFO!D38*AK38*PROFILE!$G$7,COUNTRY_INFO!D38*AL38*PROFILE!$G$7)","v":0},{"$f":"MAX(COUNTRY_INFO!D38*AK38*PROFILE!$G$8,COUNTRY_INFO!D38*AL38*PROFILE!$G$8,COUNTRY_INFO!D38*AM38*PROFILE!$G$8)","v":13877.227531029373},{"$f":"MAX(COUNTRY_INFO!D38*AK38*PROFILE!$G$9,COUNTRY_INFO!D38*AL38*PROFILE!$G$9,COUNTRY_INFO!D38*AM38*PROFILE!$G$9,IF(AND(DISTRICT!Z38<>\"Unknown\",Z38<>\"Not required\"),COUNTRY_INFO!O38*DISTRICT!AN38,0))","v":29513.558166368155},{"$f":"MAX(COUNTRY_INFO!D38*AK38*PROFILE!$G$10,COUNTRY_INFO!D38*AL38*PROFILE!$G$10,IF(AND(DISTRICT!Z38<>\"Unknown\",Z38<>\"Not required\"),COUNTRY_INFO!O38*DISTRICT!AO38,0))","v":0},43390.785697397529,"Y",{"$f":"MAX('MDA2'!J38,'T1'!L38,'T2'!J38,T3_R1!K38,T3_R2!K38)","v":25465},{"$f":"MAX('MDA1'!K38,'MDA2'!K38,'MDA3'!I38,'MDA3'!L38,'T1'!M38,'T2'!K38,T3_R1!L38,T3_R2!L38)","v":19877},{"$f":"MAX('MDA1'!L38,'MDA2'!L38,'MDA3'!J38,'MDA3'!M38,'T1'!N38,'T2'!L38,T3_R1!M38,T3_R2!M38)","v":0},45342,{"$f":"MAX('MDA2'!J38,T38)","v":13877},{"$f":"MAX('MDA1'!K38,'MDA2'!K38,'MDA3'!I38,'MDA3'!L38,V38,AD38)","v":19877},{"$f":"MAX('MDA1'!L38,'MDA2'!L38,'MDA3'!J38,'MDA3'!M38,AF38)","v":0},33754,77.790709381011467]
[{"$f":"IF(COUNTRY_INFO!A39=0,\" \",COUNTRY_INFO!A39)","v":"Uganda"},{"$f":"IF(COUNTRY_INFO!B39=0,\" \",COUNTRY_INFO!B39)","v":"Eastern "},{"$f":"IF(COUNTRY_INFO!C39=0,\" \",COUNTRY_INFO!C39)","v":"Bulambuli"},{"$f":"COUNTRY_INFO!L39","v":0},null,null,{"$f":"MAX('MDA1'!M39,'MDA2'!M39)","v":0},{"$f":"IF(AND(COUNTRY_INFO!H39>0,COUNTRY_INFO!H39<4),IF(D39>MAX('MDA1'!M39,'MDA2'!M39),MAX('MDA1'!M39,'MDA2'!M39),D39),0)","v":0},{"$f":"IF(AND(COUNTRY_INFO!H39>0,COUNTRY_INFO!H39<4), IF(G39/D39*100<>0, IF(G39/D39*100>100,100,G39/D39*100), \"-\"),0)","v":0},{"$f":"COUNTRY_INFO!M39","v":0},null,null,{"$f":"MAX('MDA1'!M39,MAX('MDA3'!I39,'MDA3'!L39)+MAX('MDA3'!J39,'MDA3'!M39))","v":0},{"$f":"IF(AND(COUNTRY_INFO!I39>0,COUNTRY_INFO!I39<4),IF(J39>MAX('MDA1'!M39,MAX('MDA3'!I39,'MDA3'!L39)+MAX('MDA3'!J39,'MDA3'!M39)),MAX('MDA1'!M39,MAX('MDA3'!I39,'MDA3'!L39)+MAX('MDA3'!J39,'MDA3'!M39)),J39),0)","v":0},{"$f":"IF(AND(COUNTRY_INFO!I39>0,COUNTRY_INFO!I39<4), IF(M39/J39*100<>0, IF(M39/J39*100>100,100,M39/J39*100), \"-\"),0)","v":0},{"$f":"COUNTRY_INFO!N39","v":84741},null,null,{"$f":"SUM(MAX('MDA2'!J39, 'T1'!L39, MAX(T3_R1!K39, T3_R2!K39)), MAX('MDA1'!K39, 'MDA2'!K39, 'T1'!M39, MAX(T3_R1!L39, T3_R2!L39)), MAX('MDA1'!L39, 'MDA2'!L39, 'T1'!N39, MAX(T3_R1!M39, T3_R2!M39)))","v":35225},{"$f":"IF(AND(COUNTRY_INFO!J39>1,COUNTRY_INFO!J39<4),IF(COUNTRY_INFO!E39>MAX('MDA2'!J39,'T1'!L39,MAX(T3_R1!K39,T3_R2!K39)),MAX('MDA2'!J39,'T1'!L39,MAX(T3_R1!K39,T3_R2!K39)),COUNTRY_INFO!E39),0)","v":19750},{"$f":"IF(AND(COUNTRY_INFO!J39>1,COUNTRY_INFO!J39<4), IF(T39/COUNTRY_INFO!E39*100<>0, IF(T39/COUNTRY_INFO!E39*100>100,100,T39/COUNTRY_INFO!E39*100), \"-\"),0)","v":72.872850712124574},{"$f":"IF(AND(COUNTRY_INFO!J39>1,COUNTRY_INFO!J39<4),IF(COUNTRY_INFO!F39>MAX('MDA1'!K39,'MDA2'!K39,'T1'!M39,MAX(T3_R1!L39,T3_R2!L39)),MAX('MDA1'!K39,'MDA2'!K39,'T1'!M39,MAX(T3_R1!L39,T3_R2!L39)),COUNTRY_INFO!F39),0)","v":15475},{"$f":"IF(AND(COUNTRY_INFO!J39>1,COUNTRY_INFO!J39<4), IF(V39/COUNTRY_INFO!F39*100<>0, IF(V39/COUNTRY_INFO!F39*100>100,100,V39/COUNTRY_INFO!F39*100), \"-\"),0)","v":26.848141015631775},35225,{"$f":"IF(AND(COUNTRY_INFO!J39>1,COUNTRY_INFO!J39<4), IF(S39/P39*100<>0, IF(X39/P39*100>100,100,X39/P39*100), \"-\"),0)","v":41.567836112389514},{"$f":"COUNTRY_INFO!O39","v":8187},null,null,{"$f":"MAX('T1'!L39,'T2'!J39)+MAX('T1'!M39,'T2'!K39)+MAX('T1'!N39,'T2'!L39)","v":7500},{"$f":"IF(COUNTRY_INFO!K39=1,IF(COUNTRY_INFO!F39*0.33>MAX('T1'!M39,'T2'!K39),MAX('T1'!M39,'T2'!K39),COUNTRY_INFO!F39*0.33),IF(COUNTRY_INFO!K39=2,IF(COUNTRY_INFO!F39*0.5>MAX('T1'!M39,'T2'!K39),MAX('T1'!M39,'T2'!K39),COUNTRY_INFO!F39*0.5),IF(COUNTRY_INFO!K39=3,IF(COUNTRY_INFO!F39>MAX('T1'!M39,'T2'!K39),MAX('T1'!M39,'T2'!K39),COUNTRY_INFO!F39),0)))","v":7500},{"$f":"IF(AND(COUNTRY_INFO!K39>0,COUNTRY_INFO!K39<4),IF(Z39>0,IF(COUNTRY_INFO!K39=1, AD39/(COUNTRY_INFO!F39*0.33)*100, IF(COUNTRY_INFO!K39=2, AD39/(COUNTRY_INFO!F39*0.5)*100, IF(COUNTRY_INFO!K39=3, AD39/COUNTRY_INFO!F39*100))),\"-\"),0)","v":39.430373058645579},{"$f":"IF(COUNTRY_INFO!K39=2,IF(COUNTRY_INFO!G39*0.2>MAX('T1'!N39,'T2'!L39),MAX('T1'!N39,'T2'!L39),COUNTRY_INFO!G39*0.2),IF(COUNTRY_INFO!K39=3,IF(COUNTRY_INFO!G39>MAX('T1'!N39,'T2'!L39),MAX('T1'!N39,'T2'!L39),COUNTRY_INFO!G39),0))","v":0},{"$f":"IF(AND(COUNTRY_INFO!K39>0,COUNTRY_INFO!K39<4),IF(Z39>0,IF(COUNTRY_INFO!K39=1, 0, IF(COUNTRY_INFO!K39=2, AF39/(COUNTRY_INFO!G39*0.2)*100, IF(COUNTRY_INFO!K39=3, AF39/COUNTRY_INFO!G39*100))),\"-\"),0)","v":0},7500,{"$f":"IF(AND(COUNTRY_INFO!K39>0,COUNTRY_INFO!K39<4), IF(AC39/Z39*100<>0, IF(AH39/Z39*100>100,100,AH39/Z39*100), \"-\"),0)","v":91.608647856357635},null,{"$f":"IF(AND(D39<>0, D39<>\"Unknown\",D39<>\"Stopped\",D39<>\"Not required\"),D39/COUNTRY_INFO!D39, 0)","v":0},{"$f":"IF(AND(J39<>0,J39<>\"Unknown\",J39<>\"Stopped\",J39<>\"Not required\"),J39/COUNTRY_INFO!D39, 0)","v":0},{"$f":"IF(AND(P39<>0,P39<>\"Unknown\",P39<>\"Not required\"),P39/(COUNTRY_INFO!E39+COUNTRY_INFO!F39), 0)","v":1},{"$f":"IF(AND(Z39<>0,Z39<>\"Unknown\",Z39<>\"Not required\"),IF(COUNTRY_INFO!K39=1,1,IF(COUNTRY_INFO!K39=2,0.5*COUNTRY_INFO!F39/(0.5*COUNTRY_INFO!F39+0.2*COUNTRY_INFO!G39),IF(COUNTRY_INFO!K39=3,COUNTRY_INFO!F39/(COUNTRY_INFO!F39+COUNTRY_INFO!G39)))),0)","v":1},{"$f":"IF(AND(Z39<>0,Z39<>\"Unknown\",Z39<>\"Not required\"),IF(COUNTRY_INFO!K39=1,0,IF(COUNTRY_INFO!K39=2,0.2*COUNTRY_INFO!G39/(0.5*COUNTRY_INFO!F39+0.2*COUNTRY_INFO!G39),IF(COUNTRY_INFO!K39=3,COUNTRY_INFO!G39/(COUNTRY_INFO!F39+COUNTRY_INFO!G39)))),0)","v":0},{"$f":"MAX(COUNTRY_INFO!D39*AK39*PROFILE!$G$7,COUNTRY_INFO!D39*AL39*PROFILE!$G$7)","v":0},{"$f":"MAX(COUNTRY_INFO!D39*AK39*PROFILE!$G$8,COUNTRY_INFO!D39*AL39*PROFILE!$G$8,COUNTRY_INFO!D39*AM39*PROFILE!$G$8)","v":27101.681366353954},{"$f":"MAX(COUNTRY_INFO!D39*AK39*PROFILE!$G$9,COUNTRY_INFO!D39*AL39*PROFILE!$G$9,COUNTRY_INFO!D39*AM39*PROFILE!$G$9,IF(AND(DISTRICT!Z39<>\"Unknown\",Z39<>\"Not required\"),COUNTRY_INFO!O39*DISTRICT!AN39,0))","v":57638.822136753675},{"$f":"MAX(COUNTRY_INFO!D39*AK39*PROFILE!$G$10,COUNTRY_INFO!D39*AL39*PROFILE!$G$10,IF(AND(DISTRICT!Z39<>\"Unknown\",Z39<>\"Not required\"),COUNTRY_INFO!O39*DISTRICT!AO39,0))","v":0},84740.503503107626,"Y",{"$f":"MAX('MDA2'!J39,'T1'!L39,'T2'!J39,T3_R1!K39,T3_R2!K39)","v":19750},{"$f":"MAX('MDA1'!K39,'MDA2'!K39,'MDA3'!I39,'MDA3'!L39,'T1'!M39,'T2'!K39,T3_R1!L39,T3_R2!L39)","v":15475},{"$f":"MAX('MDA1'!L39,'MDA2'!L39,'MDA3'!J39,'MDA3'!M39,'T1'!N39,'T2'!L39,T3_R1!M39,T3_R2!M39)","v":0},35225,{"$f":"MAX('MDA2'!J39,T39)","v":19750},{"$f":"MAX('MDA1'!K39,'MDA2'!K39,'MDA3'!I39,'MDA3'!L39,V39,AD39)","v":15475},{"$f":"MAX('MDA1'!L39,'MDA2'!L39,'MDA3'!J39,'MDA3'!M39,AF39)","v":0},35225,41.568079659460864]
[{"$f":"IF(COUNTRY_INFO!A40=0,\" \",COUNTRY_INFO!A40)","v":"Uganda"},{"$f":"IF(COUNTRY_INFO!B40=0,\" \",COUNTRY_INFO!B40)","v":"Eastern "},{"$f":"IF(COUNTRY_INFO!C40=0,\" \",COUNTRY_INFO!C40)","v":"Busia"},{"$f":"COUNTRY_INFO!L40","v":0},null,null,{"$f":"MAX('MDA1'!M40,'MDA2'!M40)","v":0},{"$f":"IF(AND(COUNTRY_INFO!H40>0,COUNTRY_INFO!H40<4),IF(D40>MAX('MDA1'!M40,'MDA2'!M40),MAX('MDA1'!M40,'MDA2'!M40),D40),0)","v":0},{"$f":"IF(AND(COUNTRY_INFO!H40>0,COUNTRY_INFO!H40<4), IF(G40/D40*100<>0, IF(G40/D40*100>100,100,G40/D40*100), \"-\"),0)","v":0},{"$f":"COUNTRY_INFO!M40","v":0},null,null,{"$f":"MAX('MDA1'!M40,MAX('MDA3'!I40,'MDA3'!L40)+MAX('MDA3'!J40,'MDA3'!M40))","v":0},{"$f":"IF(AND(COUNTRY_INFO!I40>0,COUNTRY_INFO!I40<4),IF(J40>MAX('MDA1'!M40,MAX('MDA3'!I40,'MDA3'!L40)+MAX('MDA3'!J40,'MDA3'!M40)),MAX('MDA1'!M40,MAX('MDA3'!I40,'MDA3'!L40)+MAX('MDA3'!J40,'MDA3'!M40)),J40),0)","v":0},{"$f":"IF(AND(COUNTRY_INFO!I40>0,COUNTRY_INFO!I40<4), IF(M40/J40*100<>0, IF(M40/J40*100>100,100,M40/J40*100), \"-\"),0)","v":0},{"$f":"COUNTRY_INFO!N40","v":157169},null,null,{"$f":"SUM(MAX('MDA2'!J40, 'T1'!L40, MAX(T3_R1!K40, T3_R2!K40)), MAX('MDA1'!K40, 'MDA2'!K40, 'T1'!M40, MAX(T3_R1!L40, T3_R2!L40)), MAX('MDA1'!L40, 'MDA2'!L40, 'T1'!N40, MAX(T3_R1!M40, T3_R2!M40)))","v":76537},{"$f":"IF(AND(COUNTRY_INFO!J40>1,COUNTRY_INFO!J40<4),IF(COUNTRY_INFO!E40>MAX('MDA2'!J40,'T1'!L40,MAX(T3_R1!K40,T3_R2!K40)),MAX('MDA2'!J40,'T1'!L40,MAX(T3_R1!K40,T3_R2!K40)),COUNTRY_INFO!E40),0)","v":50266},{"$f":"IF(AND(COUNTRY_INFO!J40>1,COUNTRY_INFO!J40<4), IF(T40/COUNTRY_INFO!E40*100<>0, IF(T40/COUNTRY_INFO!E40*100>100,100,T40/COUNTRY_INFO!E40*100), \"-\"),0)","v":100},{"$f":"IF(AND(COUNTRY_INFO!J40>1,COUNTRY_INFO!J40<4),IF(COUNTRY_INFO!F40>MAX('MDA1'!K40,'MDA2'!K40,'T1'!M40,MAX(T3_R1!L40,T3_R2!L40)),MAX('MDA1'!K40,'MDA2'!K40,'T1'!M40,MAX(T3_R1!L40,T3_R2!L40)),COUNTRY_INFO!F40),0)","v":22788},{"$f":"IF(AND(COUNTRY_INFO!J40>1,COUNTRY_INFO!J40<4), IF(V40/COUNTRY_INFO!F40*100<>0, IF(V40/COUNTRY_INFO!F40*100>100,100,V40/COUNTRY_INFO!F40*100), \"-\"),0)","v":21.316520584080894},73054,{"$f":"IF(AND(COUNTRY_INFO!J40>1,COUNTRY_INFO!J40<4), IF(S40/P40*100<>0, IF(X40/P40*100>100,100,X40/P40*100), \"-\"),0)","v":46.481176313395132},{"$f":"COUNTRY_INFO!O40","v":114634},null,null,{"$f":"MAX('T1'!L40,'T2'!J40)+MAX('T1'!M40,'T2'!K40)+MAX('T1'!N40,'T2'!L40)","v":74188},{"$f":"IF(COUNTRY_INFO!K40=1,IF(COUNTRY_INFO!F40*0.33>MAX('T1'!M40,'T2'!K40),MAX('T1'!M40,'T2'!K40),COUNTRY_INFO!F40*0.33),IF(COUNTRY_INFO!K40=2,IF(COUNTRY_INFO!F40*0.5>MAX('T1'!M40,'T2'!K40),MAX('T1'!M40,'T2'!K40),COUNTRY_INFO!F40*0.5),IF(COUNTRY_INFO!K40=3,IF(COUNTRY_INFO!F40>MAX('T1'!M40,'T2'!K40),MAX('T1'!M40,'T2'!K40),COUNTRY_INFO!F40),0)))","v":31675},{"$f":"IF(AND(COUNTRY_INFO!K40>0,COUNTRY_INFO!K40<4),IF(Z40>0,IF(COUNTRY_INFO!K40=1, AD40/(COUNTRY_INFO!F40*0.33)*100, IF(COUNTRY_INFO!K40=2, AD40/(COUNTRY_INFO!F40*0.5)*100, IF(COUNTRY_INFO!K40=3, AD40/COUNTRY_INFO!F40*100))),\"-\"),0)","v":29.629664275090501},{"$f":"IF(COUNTRY_INFO!K40=2,IF(COUNTRY_INFO!G40*0.2>MAX('T1'!N40,'T2'!L40),MAX('T1'!N40,'T2'!L40),COUNTRY_INFO!G40*0.2),IF(COUNTRY_INFO!K40=3,IF(COUNTRY_INFO!G40>MAX('T1'!N40,'T2'!L40),MAX('T1'!N40,'T2'!L40),COUNTRY_INFO!G40),0))","v":42513},{"$f":"IF(AND(COUNTRY_INFO!K40>0,COUNTRY_INFO!K40<4),IF(Z40>0,IF(COUNTRY_INFO!K40=1, 0, IF(COUNTRY_INFO!K40=2, AF40/(COUNTRY_INFO!G40*0.2)*100, IF(COUNTRY_INFO!K40=3, AF40/COUNTRY_INFO!G40*100))),\"-\"),0)","v":23.051647010980073},74188,{"$f":"IF(AND(COUNTRY_INFO!K40>0,COUNTRY_INFO!K40<4), IF(AC40/Z40*100<>0, IF(AH40/Z40*100>100,100,AH40/Z40*100), \"-\"),0)","v":64.717274107158445},null,{"$f":"IF(AND(D40<>0, D40<>\"Unknown\",D40<>\"Stopped\",D40<>\"Not required\"),D40/COUNTRY_INFO!D40, 0)","v":0},{"$f":"IF(AND(J40<>0,J40<>\"Unknown\",J40<>\"Stopped\",J40<>\"Not required\"),J40/COUNTRY_INFO!D40, 0)","v":0},{"$f":"IF(AND(P40<>0,P40<>\"Unknown\",P40<>\"Not required\"),P40/(COUNTRY_INFO!E40+COUNTRY_INFO!F40), 0)","v":1},{"$f":"IF(AND(Z40<>0,Z40<>\"Unknown\",Z40<>\"Not required\"),IF(COUNTRY_INFO!K40=1,1,IF(COUNTRY_INFO!K40=2,0.5*COUNTRY_INFO!F40/(0.5*COUNTRY_INFO!F40+0.2*COUNTRY_INFO!G40),IF(COUNTRY_INFO!K40=3,COUNTRY_INFO!F40/(COUNTRY_INFO!F40+COUNTRY_INFO!G40)))),0)","v":0.36695065355887524},{"$f":"IF(AND(Z40<>0,Z40<>\"Unknown\",Z40<>\"Not required\"),IF(COUNTRY_INFO!K40=1,0,IF(COUNTRY_INFO!K40=2,0.2*COUNTRY_INFO!G40/(0.5*COUNTRY_INFO!F40+0.2*COUNTRY_INFO!G40),IF(COUNTRY_INFO!K40=3,COUNTRY_INFO!G40/(COUNTRY_INFO!F40+COUNTRY_INFO!G40)))),0)","v":0.63304934644112476},{"$f":"MAX(COUNTRY_INFO!D40*AK40*PROFILE!$G$7,COUNTRY_INFO!D40*AL40*PROFILE!$G$7)","v":0},{"$f":"MAX(COUNTRY_INFO!D40*AK40*PROFILE!$G$8,COUNTRY_INFO!D40*AL40*PROFILE!$G$8,COUNTRY_INFO!D40*AM40*PROFILE!$G$8)","v":50265.562568342124},{"$f":"MAX(COUNTRY_INFO!D40*AK40*PROFILE!$G$9,COUNTRY_INFO!D40*AL40*PROFILE!$G$9,COUNTRY_INFO!D40*AM40*PROFILE!$G$9,IF(AND(DISTRICT!Z40<>\"Unknown\",Z40<>\"Not required\"),COUNTRY_INFO!O40*DISTRICT!AN40,0))","v":106902.8810912593},{"$f":"MAX(COUNTRY_INFO!D40*AK40*PROFILE!$G$10,COUNTRY_INFO!D40*AL40*PROFILE!$G$10,IF(AND(DISTRICT!Z40<>\"Unknown\",Z40<>\"Not required\"),COUNTRY_INFO!O40*DISTRICT!AO40,0))","v":72568.978779931902},229737.42243953334,"Y",{"$f":"MAX('MDA2'!J40,'T1'!L40,'T2'!J40,T3_R1!K40,T3_R2!K40)","v":53749},{"$f":"MAX('MDA1'!K40,'MDA2'!K40,'MDA3'!I40,'MDA3'!L40,'T1'!M40,'T2'!K40,T3_R1!L40,T3_R2!L40)","v":31675},{"$f":"MAX('MDA1'!L40,'MDA2'!L40,'MDA3'!J40,'MDA3'!M40,'T1'!N40,'T2'!L40,T3_R1!M40,T3_R2!M40)","v":42513},127937,{"$f":"MAX('MDA2'!J40,T40)","v":50266},{"$f":"MAX('MDA1'!K40,'MDA2'!K40,'MDA3'!I40,'MDA3'!L40,V40,AD40)","v":31675},{"$f":"MAX('MDA1'!L40,'MDA2'!L40,'MDA3'!J40,'MDA3'!M40,AF40)","v":42513},124454,54.172280109374071]
[{"$f":"IF(COUNTRY_INFO!A41=0,\" \",COUNTRY_INFO!A41)","v":"Uganda"},{"$f":"IF(COUNTRY_INFO!B41=0,\" \",COUNTRY_INFO!B41)","v":"Eastern "},{"$f":"IF(COUNTRY_INFO!C41=0,\" \",COUNTRY_INFO!C41)","v":"Butaleja"},{"$f":"COUNTRY_INFO!L41","v":"Stopped"},null,null,{"$f":"MAX('MDA1'!M41,'MDA2'!M41)","v":0},{"$f":"IF(AND(COUNTRY_INFO!H41>0,COUNTRY_INFO!H41<4),IF(D41>MAX('MDA1'!M41,'MDA2'!M41),MAX('MDA1'!M41,'MDA2'!M41),D41),0)","v":0},{"$f":"IF(AND(COUNTRY_INFO!H41>0,COUNTRY_INFO!H41<4), IF(G41/D41*100<>0, IF(G41/D41*100>100,100,G41/D41*100), \"-\"),0)","v":0},{"$f":"COUNTRY_INFO!M41","v":0},null,null,{"$f":"MAX('MDA1'!M41,MAX('MDA3'!I41,'MDA3'!L41)+MAX('MDA3'!J41,'MDA3'!M41))","v":0},{"$f":"IF(AND(COUNTRY_INFO!I41>0,COUNTRY_INFO!I41<4),IF(J41>MAX('MDA1'!M41,MAX('MDA3'!I41,'MDA3'!L41)+MAX('MDA3'!J41,'MDA3'!M41)),MAX('MDA1'!M41,MAX('MDA3'!I41,'MDA3'!L41)+MAX('MDA3'!J41,'MDA3'!M41)),J41),0)","v":0},{"$f":"IF(AND(COUNTRY_INFO!I41>0,COUNTRY_INFO!I41<4), IF(M41/J41*100<>0, IF(M41/J41*100>100,100,M41/J41*100), \"-\"),0)","v":0},{"$f":"COUNTRY_INFO!N41","v":118560},null,null,{"$f":"SUM(MAX('MDA2'!J41, 'T1'!L41, MAX(T3_R1!K41, T3_R2!K41)), MAX('MDA1'!K41, 'MDA2'!K41, 'T1'!M41, MAX(T3_R1!L41, T3_R2!L41)), MAX('MDA1'!L41, 'MDA2'!L41, 'T1'!N41, MAX(T3_R1!M41, T3_R2!M41)))","v":101799},{"$f":"IF(AND(COUNTRY_INFO!J41>1,COUNTRY_INFO!J41<4),IF(COUNTRY_INFO!E41>MAX('MDA2'!J41,'T1'!L41,MAX(T3_R1!K41,T3_R2!K41)),MAX('MDA2'!J41,'T1'!L41,MAX(T3_R1!K41,T3_R2!K41)),COUNTRY_INFO!E41),0)","v":37918},{"$f":"IF(AND(COUNTRY_INFO!J41>1,COUNTRY_INFO!J41<4), IF(T41/COUNTRY_INFO!E41*100<>0, IF(T41/COUNTRY_INFO!E41*100>100,100,T41/COUNTRY_INFO!E41*100), \"-\"),0)","v":100},{"$f":"IF(AND(COUNTRY_INFO!J41>1,COUNTRY_INFO!J41<4),IF(COUNTRY_INFO!F41>MAX('MDA1'!K41,'MDA2'!K41,'T1'!M41,MAX(T3_R1!L41,T3_R2!L41)),MAX('MDA1'!K41,'MDA2'!K41,'T1'!M41,MAX(T3_R1!L41,T3_R2!L41)),COUNTRY_INFO!F41),0)","v":39484},{"$f":"IF(AND(COUNTRY_INFO!J41>1,COUNTRY_INFO!J41<4), IF(V41/COUNTRY_INFO!F41*100<>0, IF(V41/COUNTRY_INFO!F41*100>100,100,V41/COUNTRY_INFO!F41*100), \"-\"),0)","v":48.962079313509086},77402,{"$f":"IF(AND(COUNTRY_INFO!J41>1,COUNTRY_INFO!J41<4), IF(S41/P41*100<>0, IF(X41/P41*100>100,100,X41/P41*100), \"-\"),0)","v":65.285087719298247},{"$f":"COUNTRY_INFO!O41","v":23066},null,null,{"$f":"MAX('T1'!L41,'T2'!J41)+MAX('T1'!M41,'T2'!K41)+MAX('T1'!N41,'T2'!L41)","v":20033},{"$f":"IF(COUNTRY_INFO!K41=1,IF(COUNTRY_INFO!F41*0.33>MAX('T1'!M41,'T2'!K41),MAX('T1'!M41,'T2'!K41),COUNTRY_INFO!F41*0.33),IF(COUNTRY_INFO!K41=2,IF(COUNTRY_INFO!F41*0.5>MAX('T1'!M41,'T2'!K41),MAX('T1'!M41,'T2'!K41),COUNTRY_INFO!F41*0.5),IF(COUNTRY_INFO!K41=3,IF(COUNTRY_INFO!F41>MAX('T1'!M41,'T2'!K41),MAX('T1'!M41,'T2'!K41),COUNTRY_INFO!F41),0)))","v":20033},{"$f":"IF(AND(COUNTRY_INFO!K41>0,COUNTRY_INFO!K41<4),IF(Z41>0,IF(COUNTRY_INFO!K41=1, AD41/(COUNTRY_INFO!F41*0.33)*100, IF(COUNTRY_INFO!K41=2, AD41/(COUNTRY_INFO!F41*0.5)*100, IF(COUNTRY_INFO!K41=3, AD41/COUNTRY_INFO!F41*100))),\"-\"),0)","v":75.278466067384983},{"$f":"IF(COUNTRY_INFO!K41=2,IF(COUNTRY_INFO!G41*0.2>MAX('T1'!N41,'T2'!L41),MAX('T1'!N41,'T2'!L41),COUNTRY_INFO!G41*0.2),IF(COUNTRY_INFO!K41=3,IF(COUNTRY_INFO!G41>MAX('T1'!N41,'T2'!L41),MAX('T1'!N41,'T2'!L41),COUNTRY_INFO!G41),0))","v":0},{"$f":"IF(AND(COUNTRY_INFO!K41>0,COUNTRY_INFO!K41<4),IF(Z41>0,IF(COUNTRY_INFO!K41=1, 0, IF(COUNTRY_INFO!K41=2, AF41/(COUNTRY_INFO!G41*0.2)*100, IF(COUNTRY_INFO!K41=3, AF41/COUNTRY_INFO!G41*100))),\"-\"),0)","v":0},20033,{"$f":"IF(AND(COUNTRY_INFO!K41>0,COUNTRY_INFO!K41<4), IF(AC41/Z41*100<>0, IF(AH41/Z41*100>100,100,AH41/Z41*100), \"-\"),0)","v":86.850776033989419},null,{"$f":"IF(AND(D41<>0, D41<>\"Unknown\",D41<>\"Stopped\",D41<>\"Not required\"),D41/COUNTRY_INFO!D41, 0)","v":0},{"$f":"IF(AND(J41<>0,J41<>\"Unknown\",J41<>\"Stopped\",J41<>\"Not required\"),J41/COUNTRY_INFO!D41, 0)","v":0},{"$f":"IF(AND(P41<>0,P41<>\"Unknown\",P41<>\"Not required\"),P41/(COUNTRY_INFO!E41+COUNTRY_INFO!F41), 0)","v":1},{"$f":"IF(AND(Z41<>0,Z41<>\"Unknown\",Z41<>\"Not required\"),IF(COUNTRY_INFO!K41=1,1,IF(COUNTRY_INFO!K41=2,0.5*COUNTRY_INFO!F41/(0.5*COUNTRY_INFO!F41+0.2*COUNTRY_INFO!G41),IF(COUNTRY_INFO!K41=3,COUNTRY_INFO!F41/(COUNTRY_INFO!F41+COUNTRY_INFO!G41)))),0)","v":1},{"$f":"IF(AND(Z41<>0,Z41<>\"Unknown\",Z41<>\"Not required\"),IF(COUNTRY_INFO!K41=1,0,IF(COUNTRY_INFO!K41=2,0.2*COUNTRY_INFO!G41/(0.5*COUNTRY_INFO!F41+0.2*COUNTRY_INFO!G41),IF(COUNTRY_INFO!K41=3,COUNTRY_INFO!G41/(COUNTRY_INFO!F41+COUNTRY_INFO!G41)))),0)","v":0},{"$f":"MAX(COUNTRY_INFO!D41*AK41*PROFILE!$G$7,COUNTRY_INFO!D41*AL41*PROFILE!$G$7)","v":0},{"$f":"MAX(COUNTRY_INFO!D41*AK41*PROFILE!$G$8,COUNTRY_INFO!D41*AL41*PROFILE!$G$8,COUNTRY_INFO!D41*AM41*PROFILE!$G$8)","v":37917.674324400105},{"$f":"MAX(COUNTRY_INFO!D41*AK41*PROFILE!$G$9,COUNTRY_INFO!D41*AL41*PROFILE!$G$9,COUNTRY_INFO!D41*AM41*PROFILE!$G$9,IF(AND(DISTRICT!Z41<>\"Unknown\",Z41<>\"Not required\"),COUNTRY_INFO!O41*DISTRICT!AN41,0))","v":80641.863384045588},{"$f":"MAX(COUNTRY_INFO!D41*AK41*PROFILE!$G$10,COUNTRY_INFO!D41*AL41*PROFILE!$G$10,IF(AND(DISTRICT!Z41<>\"Unknown\",Z41<>\"Not required\"),COUNTRY_INFO!O41*DISTRICT!AO41,0))","v":0},118559.53770844568,{"$f":"IF(COUNTIFS(AK41:AN41,\">0\")=0,0, IF(COUNTIFS(AK41:AN41,\">0\")<=IF(AND(OR(D41>=0,D41=\"Not required\",D41=\"Unknown\",D41=\"Stopped\"),D41>0,H41>0),1,0)+IF(AND(OR(J41>=0,J41=\"Not required\",J41=\"Unknown\",J41=\"Stopped\"),J41>0,N41>0),1,0)+IF(AND(OR(P41>=0,P41=\"Not required\",P41=\"Unknown\"),P41>0,X41>0),1,0)+IF(AND(OR(Z41>=0,Z41=\"Not required\",Z41=\"Unknown\"),Z41>0,AH41>0),1,0),\"Y\",0))","v":"Y"},{"$f":"MAX('MDA2'!J41,'T1'!L41,'T2'!J41,T3_R1!K41,T3_R2!K41)","v":62315},{"$f":"MAX('MDA1'!K41,'MDA2'!K41,'MDA3'!I41,'MDA3'!L41,'T1'!M41,'T2'!K41,T3_R1!L41,T3_R2!L41)","v":39484},{"$f":"MAX('MDA1'!L41,'MDA2'!L41,'MDA3'!J41,'MDA3'!M41,'T1'!N41,'T2'!L41,T3_R1!M41,T3_R2!M41)","v":0},101799,{"$f":"MAX('MDA2'!J41,T41)","v":37918},{"$f":"MAX('MDA1'!K41,'MDA2'!K41,'MDA3'!I41,'MDA3'!L41,V41,AD41)","v":39484},{"$f":"MAX('MDA1'!L41,'MDA2'!L41,'MDA3'!J41,'MDA3'!M41,AF41)","v":0},{"$f":"IF(AT41<SUM(AZ41:BB41), AT41,SUM(AZ41:BB41))","v":77402},{"$f":"IF(AT41<>0,BC41/AT41*100,0)","v":65.285342281227713}]
[{"$f":"IF(COUNTRY_INFO!A42=0,\" \",COUNTRY_INFO!A42)","v":"Uganda"},{"$f":"IF(COUNTRY_INFO!B42=0,\" \",COUNTRY_INFO!B42)","v":"Eastern "},{"$f":"IF(COUNTRY_INFO!C42=0,\" \",COUNTRY_INFO!C42)","v":"Buyende"},{"$f":"COUNTRY_INFO!L42","v":"Stopped"},null,null,{"$f":"MAX('MDA1'!M42,'MDA2'!M42)","v":0},{"$f":"IF(AND(COUNTRY_INFO!H42>0,COUNTRY_INFO!H42<4),IF(D42>MAX('MDA1'!M42,'MDA2'!M42),MAX('MDA1'!M42,'MDA2'!M42),D42),0)","v":0},{"$f":"IF(AND(COUNTRY_INFO!H42>0,COUNTRY_INFO!H42<4), IF(G42/D42*100<>0, IF(G42/D42*100>100,100,G42/D42*100), \"-\"),0)","v":0},{"$f":"COUNTRY_INFO!M42","v":0},null,null,{"$f":"MAX('MDA1'!M42,MAX('MDA3'!I42,'MDA3'!L42)+MAX('MDA3'!J42,'MDA3'!M42))","v":0},{"$f":"IF(AND(COUNTRY_INFO!I42>0,COUNTRY_INFO!I42<4),IF(J42>MAX('MDA1'!M42,MAX('MDA3'!I42,'MDA3'!L42)+MAX('MDA3'!J42,'MDA3'!M42)),MAX('MDA1'!M42,MAX('MDA3'!I42,'MDA3'!L42)+MAX('MDA3'!J42,'MDA3'!M42)),J42),0)","v":0},{"$f":"IF(AND(COUNTRY_INFO!I42>0,COUNTRY_INFO!I42<4), IF(M42/J42*100<>0, IF(M42/J42*100>100,100,M42/J42*100), \"-\"),0)","v":0},{"$f":"COUNTRY_INFO!N42","v":156880},null,null,{"$f":"SUM(MAX('MDA2'!J42, 'T1'!L42, MAX(T3_R1!K42, T3_R2!K42)), MAX('MDA1'!K42, 'MDA2'!K42, 'T1'!M42, MAX(T3_R1!L42, T3_R2!L42)), MAX('MDA1'!L42, 'MDA2'!L42, 'T1'!N42, MAX(T3_R1!M42, T3_R2!M42)))","v":30439},{"$f":"IF(AND(COUNTRY_INFO!J42>1,COUNTRY_INFO!J42<4),IF(COUNTRY_INFO!E42>MAX('MDA2'!J42,'T1'!L42,MAX(T3_R1!K42,T3_R2!K42)),MAX('MDA2'!J42,'T1'!L42,MAX(T3_R1!K42,T3_R2!K42)),COUNTRY_INFO!E42),0)","v":17360},{"$f":"IF(AND(COUNTRY_INFO!J42>1,COUNTRY_INFO!J42<4), IF(T42/COUNTRY_INFO!E42*100<>0, IF(T42/COUNTRY_INFO!E42*100>100,100,T42/COUNTRY_INFO!E42*100), \"-\"),0)","v":34.600283020748215},{"$f":"IF(AND(COUNTRY_INFO!J42>1,COUNTRY_INFO!J42<4),IF(COUNTRY_INFO!F42>MAX('MDA1'!K42,'MDA2'!K42,'T1'!M42,MAX(T3_R1!L42,T3_R2!L42)),MAX('MDA1'!K42,'MDA2'!K42,'T1'!M42,MAX(T3_R1!L42,T3_R2!L42)),COUNTRY_INFO!F42),0)","v":13079},{"$f":"IF(AND(COUNTRY_INFO!J42>1,COUNTRY_INFO!J42<4), IF(V42/COUNTRY_INFO!F42*100<>0, IF(V42/COUNTRY_INFO!F42*100>100,100,V42/COUNTRY_INFO!F42*100), \"-\"),0)","v":12.256927849157037},30439,{"$f":"IF(AND(COUNTRY_INFO!J42>1,COUNTRY_INFO!J42<4), IF(S42/P42*100<>0, IF(X42/P42*100>100,100,X42/P42*100), \"-\"),0)","v":19.402728199898011},{"$f":"COUNTRY_INFO!O42","v":250777},null,null,{"$f":"MAX('T1'!L42,'T2'!J42)+MAX('T1'!M42,'T2'!K42)+MAX('T1'!N42,'T2'!L42)","v":215960},{"$f":"IF(COUNTRY_INFO!K42=1,IF(COUNTRY_INFO!F42*0.33>MAX('T1'!M42,'T2'!K42),MAX('T1'!M42,'T2'!K42),COUNTRY_INFO!F42*0.33),IF(COUNTRY_INFO!K42=2,IF(COUNTRY_INFO!F42*0.5>MAX('T1'!M42,'T2'!K42),MAX('T1'!M42,'T2'!K42),COUNTRY_INFO!F42*0.5),IF(COUNTRY_INFO!K42=3,IF(COUNTRY_INFO!F42>MAX('T1'!M42,'T2'!K42),MAX('T1'!M42,'T2'!K42),COUNTRY_INFO!F42),0)))","v":106623},{"$f":"IF(AND(COUNTRY_INFO!K42>0,COUNTRY_INFO!K42<4),IF(Z42>0,IF(COUNTRY_INFO!K42=1, AD42/(COUNTRY_INFO!F42*0.33)*100, IF(COUNTRY_INFO!K42=2, AD42/(COUNTRY_INFO!F42*0.5)*100, IF(COUNTRY_INFO!K42=3, AD42/COUNTRY_INFO!F42*100))),\"-\"),0)","v":99.921279766088446},{"$f":"IF(COUNTRY_INFO!K42=2,IF(COUNTRY_INFO!G42*0.2>MAX('T1'!N42,'T2'!L42),MAX('T1'!N42,'T2'!L42),COUNTRY_INFO!G42*0.2),IF(COUNTRY_INFO!K42=3,IF(COUNTRY_INFO!G42>MAX('T1'!N42,'T2'!L42),MAX('T1'!N42,'T2'!L42),COUNTRY_INFO!G42),0))","v":109337},{"$f":"IF(AND(COUNTRY_INFO!K42>0,COUNTRY_INFO!K42<4),IF(Z42>0,IF(COUNTRY_INFO!K42=1, 0, IF(COUNTRY_INFO!K42=2, AF42/(COUNTRY_INFO!G42*0.2)*100, IF(COUNTRY_INFO!K42=3, AF42/COUNTRY_INFO!G42*100))),\"-\"),0)","v":59.394522125528283},215960,{"$f":"IF(AND(COUNTRY_INFO!K42>0,COUNTRY_INFO!K42<4), IF(AC42/Z42*100<>0, IF(AH42/Z42*100>100,100,AH42/Z42*100), \"-\"),0)","v":86.116350383009603},null,{"$f":"IF(AND(D42<>0, D42<>\"Unknown\",D42<>\"Stopped\",D42<>\"Not required\"),D42/COUNTRY_INFO!D42, 0)","v":0},{"$f":"IF(AND(J42<>0,J42<>\"Unknown\",J42<>\"Stopped\",J42<>\"Not required\"),J42/COUNTRY_INFO!D42, 0)","v":0},{"$f":"IF(AND(P42<>0,P42<>\"Unknown\",P42<>\"Not required\"),P42/(COUNTRY_INFO!E42+COUNTRY_INFO!F42), 0)","v":1},{"$f":"IF(AND(Z42<>0,Z42<>\"Unknown\",Z42<>\"Not required\"),IF(COUNTRY_INFO!K42=1,1,IF(COUNTRY_INFO!K42=2,0.5*COUNTRY_INFO!F42/(0.5*COUNTRY_INFO!F42+0.2*COUNTRY_INFO!G42),IF(COUNTRY_INFO!K42=3,COUNTRY_INFO!F42/(COUNTRY_INFO!F42+COUNTRY_INFO!G42)))),0)","v":0.36695174918240808},{"$f":"IF(AND(Z42<>0,Z42<>\"Unknown\",Z42<>\"Not required\"),IF(COUNTRY_INFO!K42=1,0,IF(COUNTRY_INFO!K42=2,0.2*COUNTRY_INFO!G42/(0.5*COUNTRY_INFO!F42+0.2*COUNTRY_INFO!G42),IF(COUNTRY_INFO!K42=3,COUNTRY_INFO!G42/(COUNTRY_INFO!F42+COUNTRY_INFO!G42)))),0)","v":0.63304825081759186},{"$f":"MAX(COUNTRY_INFO!D42*AK42*PROFILE!$G$7,COUNTRY_INFO!D42*AL42*PROFILE!$G$7)","v":0},{"$f":"MAX(COUNTRY_INFO!D42*AK42*PROFILE!$G$8,COUNTRY_INFO!D42*AL42*PROFILE!$G$8,COUNTRY_INFO!D42*AM42*PROFILE!$G$8)","v":50173.262611368416},{"$f":"MAX(COUNTRY_INFO!D42*AK42*PROFILE!$G$9,COUNTRY_INFO!D42*AL42*PROFILE!$G$9,COUNTRY_INFO!D42*AM42*PROFILE!$G$9,IF(AND(DISTRICT!Z42<>\"Unknown\",Z42<>\"Not required\"),COUNTRY_INFO!O42*DISTRICT!AN42,0))","v":106706.58106354803},{"$f":"MAX(COUNTRY_INFO!D42*AK42*PROFILE!$G$10,COUNTRY_INFO!D42*AL42*PROFILE!$G$10,IF(AND(DISTRICT!Z42<>\"Unknown\",Z42<>\"Not required\"),COUNTRY_INFO!O42*DISTRICT!AO42,0))","v":158753.94119528323},315633.78487019968,"Y",{"$f":"MAX('MDA2'!J42,'T1'!L42,'T2'!J42,T3_R1!K42,T3_R2!K42)","v":17360},{"$f":"MAX('MDA1'!K42,'MDA2'!K42,'MDA3'!I42,'MDA3'!L42,'T1'!M42,'T2'!K42,T3_R1!L42,T3_R2!L42)","v":106623},{"$f":"MAX('MDA1'!L42,'MDA2'!L42,'MDA3'!J42,'MDA3'!M42,'T1'!N42,'T2'!L42,T3_R1!M42,T3_R2!M42)","v":109337},233320,{"$f":"MAX('MDA2'!J42,T42)","v":17360},{"$f":"MAX('MDA1'!K42,'MDA2'!K42,'MDA3'!I42,'MDA3'!L42,V42,AD42)","v":106623},{"$f":"MAX('MDA1'!L42,'MDA2'!L42,'MDA3'!J42,'MDA3'!M42,AF42)","v":109337},233320,73.921110851916509]
[{"$f":"IF(COUNTRY_INFO!A43=0,\" \",COUNTRY_INFO!A43)","v":"Uganda"},{"$f":"IF(COUNTRY_INFO!B43=0,\" \",COUNTRY_INFO!B43)","v":"Eastern "},{"$f":"IF(COUNTRY_INFO!C43=0,\" \",COUNTRY_INFO!C43)","v":"Iganga"},{"$f":"COUNTRY_INFO!L43","v":"Stopped"},null,null,{"$f":"MAX('MDA1'!M43,'MDA2'!M43)","v":0},{"$f":"IF(AND(COUNTRY_INFO!H43>0,COUNTRY_INFO!H43<4),IF(D43>MAX('MDA1'!M43,'MDA2'!M43),MAX('MDA1'!M43,'MDA2'!M43),D43),0)","v":0},{"$f":"IF(AND(COUNTRY_INFO!H43>0,COUNTRY_INFO!H43<4), IF(G43/D43*100<>0, IF(G43/D43*100>100,100,G43/D43*100), \"-\"),0)","v":0},{"$f":"COUNTRY_INFO!M43","v":0},null,null,{"$f":"MAX('MDA1'!M43,MAX('MDA3'!I43,'MDA3'!L43)+MAX('MDA3'!J43,'MDA3'!M43))","v":0},{"$f":"IF(AND(COUNTRY_INFO!I43>0,COUNTRY_INFO!I43<4),IF(J43>MAX('MDA1'!M43,MAX('MDA3'!I43,'MDA3'!L43)+MAX('MDA3'!J43,'MDA3'!M43)),MAX('MDA1'!M43,MAX('MDA3'!I43,'MDA3'!L43)+MAX('MDA3'!J43,'MDA3'!M43)),J43),0)","v":0},{"$f":"IF(AND(COUNTRY_INFO!I43>0,COUNTRY_INFO!I43<4), IF(M43/J43*100<>0, IF(M43/J43*100>100,100,M43/J43*100), \"-\"),0)","v":0},{"$f":"COUNTRY_INFO!N43","v":244835},null,null,{"$f":"SUM(MAX('MDA2'!J43, 'T1'!L43, MAX(T3_R1!K43, T3_R2!K43)), MAX('MDA1'!K43, 'MDA2'!K43, 'T1'!M43, MAX(T3_R1!L43, T3_R2!L43)), MAX('MDA1'!L43, 'MDA2'!L43, 'T1'!N43, MAX(T3_R1!M43, T3_R2!M43)))","v":145448},{"$f":"IF(AND(COUNTRY_INFO!J43>1,COUNTRY_INFO!J43<4),IF(COUNTRY_INFO!E43>MAX('MDA2'!J43,'T1'!L43,MAX(T3_R1!K43,T3_R2!K43)),MAX('MDA2'!J43,'T1'!L43,MAX(T3_R1!K43,T3_R2!K43)),COUNTRY_INFO!E43),0)","v":45814},{"$f":"IF(AND(COUNTRY_INFO!J43>1,COUNTRY_INFO!J43<4), IF(T43/COUNTRY_INFO!E43*100<>0, IF(T43/COUNTRY_INFO!E43*100>100,100,T43/COUNTRY_INFO!E43*100), \"-\"),0)","v":58.508613973921818},{"$f":"IF(AND(COUNTRY_INFO!J43>1,COUNTRY_INFO!J43<4),IF(COUNTRY_INFO!F43>MAX('MDA1'!K43,'MDA2'!K43,'T1'!M43,MAX(T3_R1!L43,T3_R2!L43)),MAX('MDA1'!K43,'MDA2'!K43,'T1'!M43,MAX(T3_R1!L43,T3_R2!L43)),COUNTRY_INFO!F43),0)","v":99634},{"$f":"IF(AND(COUNTRY_INFO!J43>1,COUNTRY_INFO!J43<4), IF(V43/COUNTRY_INFO!F43*100<>0, IF(V43/COUNTRY_INFO!F43*100>100,100,V43/COUNTRY_INFO!F43*100), \"-\"),0)","v":59.828741623231572},145448,{"$f":"IF(AND(COUNTRY_INFO!J43>1,COUNTRY_INFO!J43<4), IF(S43/P43*100<>0, IF(X43/P43*100>100,100,X43/P43*100), \"-\"),0)","v":59.406539097759712},{"$f":"COUNTRY_INFO!O43","v":54956},null,null,{"$f":"MAX('T1'!L43,'T2'!J43)+MAX('T1'!M43,'T2'!K43)+MAX('T1'!N43,'T2'!L43)","v":35166},{"$f":"IF(COUNTRY_INFO!K43=1,IF(COUNTRY_INFO!F43*0.33>MAX('T1'!M43,'T2'!K43),MAX('T1'!M43,'T2'!K43),COUNTRY_INFO!F43*0.33),IF(COUNTRY_INFO!K43=2,IF(COUNTRY_INFO!F43*0.5>MAX('T1'!M43,'T2'!K43),MAX('T1'!M43,'T2'!K43),COUNTRY_INFO!F43*0.5),IF(COUNTRY_INFO!K43=3,IF(COUNTRY_INFO!F43>MAX('T1'!M43,'T2'!K43),MAX('T1'!M43,'T2'!K43),COUNTRY_INFO!F43),0)))","v":35166},{"$f":"IF(AND(COUNTRY_INFO!K43>0,COUNTRY_INFO!K43<4),IF(Z43>0,IF(COUNTRY_INFO!K43=1, AD43/(COUNTRY_INFO!F43*0.33)*100, IF(COUNTRY_INFO!K43=2, AD43/(COUNTRY_INFO!F43*0.5)*100, IF(COUNTRY_INFO!K43=3, AD43/COUNTRY_INFO!F43*100))),\"-\"),0)","v":63.989885645783609},{"$f":"IF(COUNTRY_INFO!K43=2,IF(COUNTRY_INFO!G43*0.2>MAX('T1'!N43,'T2'!L43),MAX('T1'!N43,'T2'!L43),COUNTRY_INFO!G43*0.2),IF(COUNTRY_INFO!K43=3,IF(COUNTRY_INFO!G43>MAX('T1'!N43,'T2'!L43),MAX('T1'!N43,'T2'!L43),COUNTRY_INFO!G43),0))","v":0},{"$f":"IF(AND(COUNTRY_INFO!K43>0,COUNTRY_INFO!K43<4),IF(Z43>0,IF(COUNTRY_INFO!K43=1, 0, IF(COUNTRY_INFO!K43=2, AF43/(COUNTRY_INFO!G43*0.2)*100, IF(COUNTRY_INFO!K43=3, AF43/COUNTRY_INFO!G43*100))),\"-\"),0)","v":0},35166,{"$f":"IF(AND(COUNTRY_INFO!K43>0,COUNTRY_INFO!K43<4), IF(AC43/Z43*100<>0, IF(AH43/Z43*100>100,100,AH43/Z43*100), \"-\"),0)","v":63.989373316835284},null,{"$f":"IF(AND(D43<>0, D43<>\"Unknown\",D43<>\"Stopped\",D43<>\"Not required\"),D43/COUNTRY_INFO!D43, 0)","v":0},{"$f":"IF(AND(J43<>0,J43<>\"Unknown\",J43<>\"Stopped\",J43<>\"Not required\"),J43/COUNTRY_INFO!D43, 0)","v":0},{"$f":"IF(AND(P43<>0,P43<>\"Unknown\",P43<>\"Not required\"),P43/(COUNTRY_INFO!E43+COUNTRY_INFO!F43), 0)","v":1},{"$f":"IF(AND(Z43<>0,Z43<>\"Unknown\",Z43<>\"Not required\"),IF(COUNTRY_INFO!K43=1,1,IF(COUNTRY_INFO!K43=2,0.5*COUNTRY_INFO!F43/(0.5*COUNTRY_INFO!F43+0.2*COUNTRY_INFO!G43),IF(COUNTRY_INFO!K43=3,COUNTRY_INFO!F43/(COUNTRY_INFO!F43+COUNTRY_INFO!G43)))),0)","v":1},{"$f":"IF(AND(Z43<>0,Z43<>\"Unknown\",Z43<>\"Not required\"),IF(COUNTRY_INFO!K43=1,0,IF(COUNTRY_INFO!K43=2,0.2*COUNTRY_INFO!G43/(0.5*COUNTRY_INFO!F43+0.2*COUNTRY_INFO!G43),IF(COUNTRY_INFO!K43=3,COUNTRY_INFO!G43/(COUNTRY_INFO!F43+COUNTRY_INFO!G43)))),0)","v":0},{"$f":"MAX(COUNTRY_INFO!D43*AK43*PROFILE!$G$7,COUNTRY_INFO!D43*AL43*PROFILE!$G$7)","v":0},{"$f":"MAX(COUNTRY_INFO!D43*AK43*PROFILE!$G$8,COUNTRY_INFO!D43*AL43*PROFILE!$G$8,COUNTRY_INFO!D43*AM43*PROFILE!$G$8)","v":78303.16549840942},{"$f":"MAX(COUNTRY_INFO!D43*AK43*PROFILE!$G$9,COUNTRY_INFO!D43*AL43*PROFILE!$G$9,COUNTRY_INFO!D43*AM43*PROFILE!$G$9,IF(AND(DISTRICT!Z43<>\"Unknown\",Z43<>\"Not required\"),COUNTRY_INFO!O43*DISTRICT!AN43,0))","v":166532.18550900527},{"$f":"MAX(COUNTRY_INFO!D43*AK43*PROFILE!$G$10,COUNTRY_INFO!D43*AL43*PROFILE!$G$10,IF(AND(DISTRICT!Z43<>\"Unknown\",Z43<>\"Not required\"),COUNTRY_INFO!O43*DISTRICT!AO43,0))","v":0},244835.35100741469,"Y",{"$f":"MAX('MDA2'!J43,'T1'!L43,'T2'!J43,T3_R1!K43,T3_R2!K43)","v":45814},{"$f":"MAX('MDA1'!K43,'MDA2'!K43,'MDA3'!I43,'MDA3'!L43,'T1'!M43,'T2'!K43,T3_R1!L43,T3_R2!L43)","v":99634},{"$f":"MAX('MDA1'!L43,'MDA2'!L43,'MDA3'!J43,'MDA3'!M43,'T1'!N43,'T2'!L43,T3_R1!M43,T3_R2!M43)","v":0},145448,{"$f":"MAX('MDA2'!J43,T43)","v":45814},{"$f":"MAX('MDA1'!K43,'MDA2'!K43,'MDA3'!I43,'MDA3'!L43,V43,AD43)","v":99634},{"$f":"MAX('MDA1'!L43,'MDA2'!L43,'MDA3'!J43,'MDA3'!M43,AF43)","v":0},145448,59.406453929765725]
[{"$f":"IF(COUNTRY_INFO!A44=0,\" \",COUNTRY_INFO!A44)","v":"Uganda"},{"$f":"IF(COUNTRY_INFO!B44=0,\" \",COUNTRY_INFO!B44)","v":"Eastern "},{"$f":"IF(COUNTRY_INFO!C44=0,\" \",COUNTRY_INFO!C44)","v":"Jinja"},{"$f":"COUNTRY_INFO!L44","v":0},null,null,{"$f":"MAX('MDA1'!M44,'MDA2'!M44)","v":0},{"$f":"IF(AND(COUNTRY_INFO!H44>0,COUNTRY_INFO!H44<4),IF(D44>MAX('MDA1'!M44,'MDA2'!M44),MAX('MDA1'!M44,'MDA2'!M44),D44),0)","v":0},{"$f":"IF(AND(COUNTRY_INFO!H44>0,COUNTRY_INFO!H44<4), IF(G44/D44*100<>0, IF(G44/D44*100>100,100,G44/D44*100), \"-\"),0)","v":0},{"$f":"COUNTRY_INFO!M44","v":0},null,null,{"$f":"MAX('MDA1'!M44,MAX('MDA3'!I44,'MDA3'!L44)+MAX('MDA3'!J44,'MDA3'!M44))","v":0},{"$f":"IF(AND(COUNTRY_INFO!I44>0,COUNTRY_INFO!I44<4),IF(J44>MAX('MDA1'!M44,MAX('MDA3'!I44,'MDA3'!L44)+MAX('MDA3'!J44,'MDA3'!M44)),MAX('MDA1'!M44,MAX('MDA3'!I44,'MDA3'!L44)+MAX('MDA3'!J44,'MDA3'!M44)),J44),0)","v":0},{"$f":"IF(AND(COUNTRY_INFO!I44>0,COUNTRY_INFO!I44<4), IF(M44/J44*100<>0, IF(M44/J44*100>100,100,M44/J44*100), \"-\"),0)","v":0},{"$f":"COUNTRY_INFO!N44","v":228832},null,null,{"$f":"SUM(MAX('MDA2'!J44, 'T1'!L44, MAX(T3_R1!K44, T3_R2!K44)), MAX('MDA1'!K44, 'MDA2'!K44, 'T1'!M44, MAX(T3_R1!L44, T3_R2!L44)), MAX('MDA1'!L44, 'MDA2'!L44, 'T1'!N44, MAX(T3_R1!M44, T3_R2!M44)))","v":105924},{"$f":"IF(AND(COUNTRY_INFO!J44>1,COUNTRY_INFO!J44<4),IF(COUNTRY_INFO!E44>MAX('MDA2'!J44,'T1'!L44,MAX(T3_R1!K44,T3_R2!K44)),MAX('MDA2'!J44,'T1'!L44,MAX(T3_R1!K44,T3_R2!K44)),COUNTRY_INFO!E44),0)","v":73185},{"$f":"IF(AND(COUNTRY_INFO!J44>1,COUNTRY_INFO!J44<4), IF(T44/COUNTRY_INFO!E44*100<>0, IF(T44/COUNTRY_INFO!E44*100>100,100,T44/COUNTRY_INFO!E44*100), \"-\"),0)","v":100},{"$f":"IF(AND(COUNTRY_INFO!J44>1,COUNTRY_INFO!J44<4),IF(COUNTRY_INFO!F44>MAX('MDA1'!K44,'MDA2'!K44,'T1'!M44,MAX(T3_R1!L44,T3_R2!L44)),MAX('MDA1'!K44,'MDA2'!K44,'T1'!M44,MAX(T3_R1!L44,T3_R2!L44)),COUNTRY_INFO!F44),0)","v":32109},{"$f":"IF(AND(COUNTRY_INFO!J44>1,COUNTRY_INFO!J44<4), IF(V44/COUNTRY_INFO!F44*100<>0, IF(V44/COUNTRY_INFO!F44*100>100,100,V44/COUNTRY_INFO!F44*100), \"-\"),0)","v":20.629372875802297},105294,{"$f":"IF(AND(COUNTRY_INFO!J44>1,COUNTRY_INFO!J44<4), IF(S44/P44*100<>0, IF(X44/P44*100>100,100,X44/P44*100), \"-\"),0)","v":46.013669416864772},{"$f":"COUNTRY_INFO!O44","v":449567},null,null,{"$f":"MAX('T1'!L44,'T2'!J44)+MAX('T1'!M44,'T2'!K44)+MAX('T1'!N44,'T2'!L44)","v":333346},{"$f":"IF(COUNTRY_INFO!K44=1,IF(COUNTRY_INFO!F44*0.33>MAX('T1'!M44,'T2'!K44),MAX('T1'!M44,'T2'!K44),COUNTRY_INFO!F44*0.33),IF(COUNTRY_INFO!K44=2,IF(COUNTRY_INFO!F44*0.5>MAX('T1'!M44,'T2'!K44),MAX('T1'!M44,'T2'!K44),COUNTRY_INFO!F44*0.5),IF(COUNTRY_INFO!K44=3,IF(COUNTRY_INFO!F44>MAX('T1'!M44,'T2'!K44),MAX('T1'!M44,'T2'!K44),COUNTRY_INFO!F44),0)))","v":155647},{"$f":"IF(AND(COUNTRY_INFO!K44>0,COUNTRY_INFO!K44<4),IF(Z44>0,IF(COUNTRY_INFO!K44=1, AD44/(COUNTRY_INFO!F44*0.33)*100, IF(COUNTRY_INFO!K44=2, AD44/(COUNTRY_INFO!F44*0.5)*100, IF(COUNTRY_INFO!K44=3, AD44/COUNTRY_INFO!F44*100))),\"-\"),0)","v":100},{"$f":"IF(COUNTRY_INFO!K44=2,IF(COUNTRY_INFO!G44*0.2>MAX('T1'!N44,'T2'!L44),MAX('T1'!N44,'T2'!L44),COUNTRY_INFO!G44*0.2),IF(COUNTRY_INFO!K44=3,IF(COUNTRY_INFO!G44>MAX('T1'!N44,'T2'!L44),MAX('T1'!N44,'T2'!L44),COUNTRY_INFO!G44),0))","v":166380},{"$f":"IF(AND(COUNTRY_INFO!K44>0,COUNTRY_INFO!K44<4),IF(Z44>0,IF(COUNTRY_INFO!K44=1, 0, IF(COUNTRY_INFO!K44=2, AF44/(COUNTRY_INFO!G44*0.2)*100, IF(COUNTRY_INFO!K44=3, AF44/COUNTRY_INFO!G44*100))),\"-\"),0)","v":61.962326547940918},322027,{"$f":"IF(AND(COUNTRY_INFO!K44>0,COUNTRY_INFO!K44<4), IF(AC44/Z44*100<>0, IF(AH44/Z44*100>100,100,AH44/Z44*100), \"-\"),0)","v":71.630479995195373},null,{"$f":"IF(AND(D44<>0, D44<>\"Unknown\",D44<>\"Stopped\",D44<>\"Not required\"),D44/COUNTRY_INFO!D44, 0)","v":0},{"$f":"IF(AND(J44<>0,J44<>\"Unknown\",J44<>\"Stopped\",J44<>\"Not required\"),J44/COUNTRY_INFO!D44, 0)","v":0},{"$f":"IF(AND(P44<>0,P44<>\"Unknown\",P44<>\"Not required\"),P44/(COUNTRY_INFO!E44+COUNTRY_INFO!F44), 0)","v":1},{"$f":"IF(AND(Z44<>0,Z44<>\"Unknown\",Z44<>\"Not required\"),IF(COUNTRY_INFO!K44=1,1,IF(COUNTRY_INFO!K44=2,0.5*COUNTRY_INFO!F44/(0.5*COUNTRY_INFO!F44+0.2*COUNTRY_INFO!G44),IF(COUNTRY_INFO!K44=3,COUNTRY_INFO!F44/(COUNTRY_INFO!F44+COUNTRY_INFO!G44)))),0)","v":0.36694918251152264},{"$f":"IF(AND(Z44<>0,Z44<>\"Unknown\",Z44<>\"Not required\"),IF(COUNTRY_INFO!K44=1,0,IF(COUNTRY_INFO!K44=2,0.2*COUNTRY_INFO!G44/(0.5*COUNTRY_INFO!F44+0.2*COUNTRY_INFO!G44),IF(COUNTRY_INFO!K44=3,COUNTRY_INFO!G44/(COUNTRY_INFO!F44+COUNTRY_INFO!G44)))),0)","v":0.63305081748847736},{"$f":"MAX(COUNTRY_INFO!D44*AK44*PROFILE!$G$7,COUNTRY_INFO!D44*AL44*PROFILE!$G$7)","v":0},{"$f":"MAX(COUNTRY_INFO!D44*AK44*PROFILE!$G$8,COUNTRY_INFO!D44*AL44*PROFILE!$G$8,COUNTRY_INFO!D44*AM44*PROFILE!$G$8)","v":73185.203884184491},{"$f":"MAX(COUNTRY_INFO!D44*AK44*PROFILE!$G$9,COUNTRY_INFO!D44*AL44*PROFILE!$G$9,COUNTRY_INFO!D44*AM44*PROFILE!$G$9,IF(AND(DISTRICT!Z44<>\"Unknown\",Z44<>\"Not required\"),COUNTRY_INFO!O44*DISTRICT!AN44,0))","v":164968.2431341577},{"$f":"MAX(COUNTRY_INFO!D44*AK44*PROFILE!$G$10,COUNTRY_INFO!D44*AL44*PROFILE!$G$10,IF(AND(DISTRICT!Z44<>\"Unknown\",Z44<>\"Not required\"),COUNTRY_INFO!O44*DISTRICT!AO44,0))","v":284598.75686584233},522752.20388418454,"Y",{"$f":"MAX('MDA2'!J44,'T1'!L44,'T2'!J44,T3_R1!K44,T3_R2!K44)","v":73815},{"$f":"MAX('MDA1'!K44,'MDA2'!K44,'MDA3'!I44,'MDA3'!L44,'T1'!M44,'T2'!K44,T3_R1!L44,T3_R2!L44)","v":166966},{"$f":"MAX('MDA1'!L44,'MDA2'!L44,'MDA3'!J44,'MDA3'!M44,'T1'!N44,'T2'!L44,T3_R1!M44,T3_R2!M44)","v":166380},407161,{"$f":"MAX('MDA2'!J44,T44)","v":73185},{"$f":"MAX('MDA1'!K44,'MDA2'!K44,'MDA3'!I44,'MDA3'!L44,V44,AD44)","v":155647},{"$f":"MAX('MDA1'!L44,'MDA2'!L44,'MDA3'!J44,'MDA3'!M44,AF44)","v":166380},395212,75.602168113969157]
[{"$f":"IF(COUNTRY_INFO!A45=0,\" \",COUNTRY_INFO!A45)","v":"Uganda"},{"$f":"IF(COUNTRY_INFO!B45=0,\" \",COUNTRY_INFO!B45)","v":"Eastern "},{"$f":"IF(COUNTRY_INFO!C45=0,\" \",COUNTRY_INFO!C45)","v":"Kaberamaido"},{"$f":"COUNTRY_INFO!L45","v":"Stopped"},null,null,{"$f":"MAX('MDA1'!M45,'MDA2'!M45)","v":0},{"$f":"IF(AND(COUNTRY_INFO!H45>0,COUNTRY_INFO!H45<4),IF(D45>MAX('MDA1'!M45,'MDA2'!M45),MAX('MDA1'!M45,'MDA2'!M45),D45),0)","v":0},{"$f":"IF(AND(COUNTRY_INFO!H45>0,COUNTRY_INFO!H45<4), IF(G45/D45*100<>0, IF(G45/D45*100>100,100,G45/D45*100), \"-\"),0)","v":0},{"$f":"COUNTRY_INFO!M45","v":0},null,null,{"$f":"MAX('MDA1'!M45,MAX('MDA3'!I45,'MDA3'!L45)+MAX('MDA3'!J45,'MDA3'!M45))","v":0},{"$f":"IF(AND(COUNTRY_INFO!I45>0,COUNTRY_INFO!I45<4),IF(J45>MAX('MDA1'!M45,MAX('MDA3'!I45,'MDA3'!L45)+MAX('MDA3'!J45,'MDA3'!M45)),MAX('MDA1'!M45,MAX('MDA3'!I45,'MDA3'!L45)+MAX('MDA3'!J45,'MDA3'!M45)),J45),0)","v":0},{"$f":"IF(AND(COUNTRY_INFO!I45>0,COUNTRY_INFO!I45<4), IF(M45/J45*100<>0, IF(M45/J45*100>100,100,M45/J45*100), \"-\"),0)","v":0},{"$f":"COUNTRY_INFO!N45","v":104415},null,null,{"$f":"SUM(MAX('MDA2'!J45, 'T1'!L45, MAX(T3_R1!K45, T3_R2!K45)), MAX('MDA1'!K45, 'MDA2'!K45, 'T1'!M45, MAX(T3_R1!L45, T3_R2!L45)), MAX('MDA1'!L45, 'MDA2'!L45, 'T1'!N45, MAX(T3_R1!M45, T3_R2!M45)))","v":21197},{"$f":"IF(AND(COUNTRY_INFO!J45>1,COUNTRY_INFO!J45<4),IF(COUNTRY_INFO!E45>MAX('MDA2'!J45,'T1'!L45,MAX(T3_R1!K45,T3_R2!K45)),MAX('MDA2'!J45,'T1'!L45,MAX(T3_R1!K45,T3_R2!K45)),COUNTRY_INFO!E45),0)","v":10207},{"$f":"IF(AND(COUNTRY_INFO!J45>1,COUNTRY_INFO!J45<4), IF(T45/COUNTRY_INFO!E45*100<>0, IF(T45/COUNTRY_INFO!E45*100>100,100,T45/COUNTRY_INFO!E45*100), \"-\"),0)","v":30.565371024734983},{"$f":"IF(AND(COUNTRY_INFO!J45>1,COUNTRY_INFO!J45<4),IF(COUNTRY_INFO!F45>MAX('MDA1'!K45,'MDA2'!K45,'T1'!M45,MAX(T3_R1!L45,T3_R2!L45)),MAX('MDA1'!K45,'MDA2'!K45,'T1'!M45,MAX(T3_R1!L45,T3_R2!L45)),COUNTRY_INFO!F45),0)","v":10990},{"$f":"IF(AND(COUNTRY_INFO!J45>1,COUNTRY_INFO!J45<4), IF(V45/COUNTRY_INFO!F45*100<>0, IF(V45/COUNTRY_INFO!F45*100>100,100,V45/COUNTRY_INFO!F45*100), \"-\"),0)","v":15.474296334886864},21197,{"$f":"IF(AND(COUNTRY_INFO!J45>1,COUNTRY_INFO!J45<4), IF(S45/P45*100<>0, IF(X45/P45*100>100,100,X45/P45*100), \"-\"),0)","v":20.300723076186372},{"$f":"COUNTRY_INFO!O45","v":108823},null,null,{"$f":"MAX('T1'!L45,'T2'!J45)+MAX('T1'!M45,'T2'!K45)+MAX('T1'!N45,'T2'!L45)","v":97373},{"$f":"IF(COUNTRY_INFO!K45=1,IF(COUNTRY_INFO!F45*0.33>MAX('T1'!M45,'T2'!K45),MAX('T1'!M45,'T2'!K45),COUNTRY_INFO!F45*0.33),IF(COUNTRY_INFO!K45=2,IF(COUNTRY_INFO!F45*0.5>MAX('T1'!M45,'T2'!K45),MAX('T1'!M45,'T2'!K45),COUNTRY_INFO!F45*0.5),IF(COUNTRY_INFO!K45=3,IF(COUNTRY_INFO!F45>MAX('T1'!M45,'T2'!K45),MAX('T1'!M45,'T2'!K45),COUNTRY_INFO!F45),0)))","v":40850},{"$f":"IF(AND(COUNTRY_INFO!K45>0,COUNTRY_INFO!K45<4),IF(Z45>0,IF(COUNTRY_INFO!K45=1, AD45/(COUNTRY_INFO!F45*0.33)*100, IF(COUNTRY_INFO!K45=2, AD45/(COUNTRY_INFO!F45*0.5)*100, IF(COUNTRY_INFO!K45=3, AD45/COUNTRY_INFO!F45*100))),\"-\"),0)","v":57.518198842595844},{"$f":"IF(COUNTRY_INFO!K45=2,IF(COUNTRY_INFO!G45*0.2>MAX('T1'!N45,'T2'!L45),MAX('T1'!N45,'T2'!L45),COUNTRY_INFO!G45*0.2),IF(COUNTRY_INFO!K45=3,IF(COUNTRY_INFO!G45>MAX('T1'!N45,'T2'!L45),MAX('T1'!N45,'T2'!L45),COUNTRY_INFO!G45),0))","v":56523},{"$f":"IF(AND(COUNTRY_INFO!K45>0,COUNTRY_INFO!K45<4),IF(Z45>0,IF(COUNTRY_INFO!K45=1, 0, IF(COUNTRY_INFO!K45=2, AF45/(COUNTRY_INFO!G45*0.2)*100, IF(COUNTRY_INFO!K45=3, AF45/COUNTRY_INFO!G45*100))),\"-\"),0)","v":46.132186347164641},97373,{"$f":"IF(AND(COUNTRY_INFO!K45>0,COUNTRY_INFO!K45<4), IF(AC45/Z45*100<>0, IF(AH45/Z45*100>100,100,AH45/Z45*100), \"-\"),0)","v":89.478327191862022},null,{"$f":"IF(AND(D45<>0, D45<>\"Unknown\",D45<>\"Stopped\",D45<>\"Not required\"),D45/COUNTRY_INFO!D45, 0)","v":0},{"$f":"IF(AND(J45<>0,J45<>\"Unknown\",J45<>\"Stopped\",J45<>\"Not required\"),J45/COUNTRY_INFO!D45, 0)","v":0},{"$f":"IF(AND(P45<>0,P45<>\"Unknown\",P45<>\"Not required\"),P45/(COUNTRY_INFO!E45+COUNTRY_INFO!F45), 0)","v":1},{"$f":"IF(AND(Z45<>0,Z45<>\"Unknown\",Z45<>\"Not required\"),IF(COUNTRY_INFO!K45=1,1,IF(COUNTRY_INFO!K45=2,0.5*COUNTRY_INFO!F45/(0.5*COUNTRY_INFO!F45+0.2*COUNTRY_INFO!G45),IF(COUNTRY_INFO!K45=3,COUNTRY_INFO!F45/(COUNTRY_INFO!F45+COUNTRY_INFO!G45)))),0)","v":0.36694825492779459},{"$f":"IF(AND(Z45<>0,Z45<>\"Unknown\",Z45<>\"Not required\"),IF(COUNTRY_INFO!K45=1,0,IF(COUNTRY_INFO!K45=2,0.2*COUNTRY_INFO!G45/(0.5*COUNTRY_INFO!F45+0.2*COUNTRY_INFO!G45),IF(COUNTRY_INFO!K45=3,COUNTRY_INFO!G45/(COUNTRY_INFO!F45+COUNTRY_INFO!G45)))),0)","v":0.63305174507220541},{"$f":"MAX(COUNTRY_INFO!D45*AK45*PROFILE!$G$7,COUNTRY_INFO!D45*AL45*PROFILE!$G$7)","v":0},{"$f":"MAX(COUNTRY_INFO!D45*AK45*PROFILE!$G$8,COUNTRY_INFO!D45*AL45*PROFILE!$G$8,COUNTRY_INFO!D45*AM45*PROFILE!$G$8)","v":33394.124433085817},{"$f":"MAX(COUNTRY_INFO!D45*AK45*PROFILE!$G$9,COUNTRY_INFO!D45*AL45*PROFILE!$G$9,COUNTRY_INFO!D45*AM45*PROFILE!$G$9,IF(AND(DISTRICT!Z45<>\"Unknown\",Z45<>\"Not required\"),COUNTRY_INFO!O45*DISTRICT!AN45,0))","v":71021.350025937543},{"$f":"MAX(COUNTRY_INFO!D45*AK45*PROFILE!$G$10,COUNTRY_INFO!D45*AL45*PROFILE!$G$10,IF(AND(DISTRICT!Z45<>\"Unknown\",Z45<>\"Not required\"),COUNTRY_INFO!O45*DISTRICT!AO45,0))","v":68890.590053992608},173306.06451301597,"Y",{"$f":"MAX('MDA2'!J45,'T1'!L45,'T2'!J45,T3_R1!K45,T3_R2!K45)","v":10207},{"$f":"MAX('MDA1'!K45,'MDA2'!K45,'MDA3'!I45,'MDA3'!L45,'T1'!M45,'T2'!K45,T3_R1!L45,T3_R2!L45)","v":40850},{"$f":"MAX('MDA1'!L45,'MDA2'!L45,'MDA3'!J45,'MDA3'!M45,'T1'!N45,'T2'!L45,T3_R1!M45,T3_R2!M45)","v":56523},107580,{"$f":"MAX('MDA2'!J45,T45)","v":10207},{"$f":"MAX('MDA1'!K45,'MDA2'!K45,'MDA3'!I45,'MDA3'!L45,V45,AD45)","v":40850},{"$f":"MAX('MDA1'!L45,'MDA2'!L45,'MDA3'!J45,'MDA3'!M45,AF45)","v":56523},107580,62.075150285303671]
[{"$f":"IF(COUNTRY_INFO!A46=0,\" \",COUNTRY_INFO!A46)","v":"Uganda"},{"$f":"IF(COUNTRY_INFO!B46=0,\" \",COUNTRY_INFO!B46)","v":"Eastern "},{"$f":"IF(COUNTRY_INFO!C46=0,\" \",COUNTRY_INFO!C46)","v":"Kaliro"},{"$f":"COUNTRY_INFO!L46","v":"Stopped"},null,null,{"$f":"MAX('MDA1'!M46,'MDA2'!M46)","v":0},{"$f":"IF(AND(COUNTRY_INFO!H46>0,COUNTRY_INFO!H46<4),IF(D46>MAX('MDA1'!M46,'MDA2'!M46),MAX('MDA1'!M46,'MDA2'!M46),D46),0)","v":0},{"$f":"IF(AND(COUNTRY_INFO!H46>0,COUNTRY_INFO!H46<4), IF(G46/D46*100<>0, IF(G46/D46*100>100,100,G46/D46*100), \"-\"),0)","v":0},{"$f":"COUNTRY_INFO!M46","v":0},null,null,{"$f":"MAX('MDA1'!M46,MAX('MDA3'!I46,'MDA3'!L46)+MAX('MDA3'!J46,'MDA3'!M46))","v":0},{"$f":"IF(AND(COUNTRY_INFO!I46>0,COUNTRY_INFO!I46<4),IF(J46>MAX('MDA1'!M46,MAX('MDA3'!I46,'MDA3'!L46)+MAX('MDA3'!J46,'MDA3'!M46)),MAX('MDA1'!M46,MAX('MDA3'!I46,'MDA3'!L46)+MAX('MDA3'!J46,'MDA3'!M46)),J46),0)","v":0},{"$f":"IF(AND(COUNTRY_INFO!I46>0,COUNTRY_INFO!I46<4), IF(M46/J46*100<>0, IF(M46/J46*100>100,100,M46/J46*100), \"-\"),0)","v":0},{"$f":"COUNTRY_INFO!N46","v":114697},null,null,{"$f":"SUM(MAX('MDA2'!J46, 'T1'!L46, MAX(T3_R1!K46, T3_R2!K46)), MAX('MDA1'!K46, 'MDA2'!K46, 'T1'!M46, MAX(T3_R1!L46, T3_R2!L46)), MAX('MDA1'!L46, 'MDA2'!L46, 'T1'!N46, MAX(T3_R1!M46, T3_R2!M46)))","v":57905},{"$f":"IF(AND(COUNTRY_INFO!J46>1,COUNTRY_INFO!J46<4),IF(COUNTRY_INFO!E46>MAX('MDA2'!J46,'T1'!L46,MAX(T3_R1!K46,T3_R2!K46)),MAX('MDA2'!J46,'T1'!L46,MAX(T3_R1!K46,T3_R2!K46)),COUNTRY_INFO!E46),0)","v":36682},{"$f":"IF(AND(COUNTRY_INFO!J46>1,COUNTRY_INFO!J46<4), IF(T46/COUNTRY_INFO!E46*100<>0, IF(T46/COUNTRY_INFO!E46*100>100,100,T46/COUNTRY_INFO!E46*100), \"-\"),0)","v":100},{"$f":"IF(AND(COUNTRY_INFO!J46>1,COUNTRY_INFO!J46<4),IF(COUNTRY_INFO!F46>MAX('MDA1'!K46,'MDA2'!K46,'T1'!M46,MAX(T3_R1!L46,T3_R2!L46)),MAX('MDA1'!K46,'MDA2'!K46,'T1'!M46,MAX(T3_R1!L46,T3_R2!L46)),COUNTRY_INFO!F46),0)","v":20850},{"$f":"IF(AND(COUNTRY_INFO!J46>1,COUNTRY_INFO!J46<4), IF(V46/COUNTRY_INFO!F46*100<>0, IF(V46/COUNTRY_INFO!F46*100>100,100,V46/COUNTRY_INFO!F46*100), \"-\"),0)","v":26.72562968659873},57532,{"$f":"IF(AND(COUNTRY_INFO!J46>1,COUNTRY_INFO!J46<4), IF(S46/P46*100<>0, IF(X46/P46*100>100,100,X46/P46*100), \"-\"),0)","v":50.15998674769174},{"$f":"COUNTRY_INFO!O46","v":69175},null,null,{"$f":"MAX('T1'!L46,'T2'!J46)+MAX('T1'!M46,'T2'!K46)+MAX('T1'!N46,'T2'!L46)","v":56197},{"$f":"IF(COUNTRY_INFO!K46=1,IF(COUNTRY_INFO!F46*0.33>MAX('T1'!M46,'T2'!K46),MAX('T1'!M46,'T2'!K46),COUNTRY_INFO!F46*0.33),IF(COUNTRY_INFO!K46=2,IF(COUNTRY_INFO!F46*0.5>MAX('T1'!M46,'T2'!K46),MAX('T1'!M46,'T2'!K46),COUNTRY_INFO!F46*0.5),IF(COUNTRY_INFO!K46=3,IF(COUNTRY_INFO!F46>MAX('T1'!M46,'T2'!K46),MAX('T1'!M46,'T2'!K46),COUNTRY_INFO!F46),0)))","v":25744.95},{"$f":"IF(AND(COUNTRY_INFO!K46>0,COUNTRY_INFO!K46<4),IF(Z46>0,IF(COUNTRY_INFO!K46=1, AD46/(COUNTRY_INFO!F46*0.33)*100, IF(COUNTRY_INFO!K46=2, AD46/(COUNTRY_INFO!F46*0.5)*100, IF(COUNTRY_INFO!K46=3, AD46/COUNTRY_INFO!F46*100))),\"-\"),0)","v":100},{"$f":"IF(COUNTRY_INFO!K46=2,IF(COUNTRY_INFO!G46*0.2>MAX('T1'!N46,'T2'!L46),MAX('T1'!N46,'T2'!L46),COUNTRY_INFO!G46*0.2),IF(COUNTRY_INFO!K46=3,IF(COUNTRY_INFO!G46>MAX('T1'!N46,'T2'!L46),MAX('T1'!N46,'T2'!L46),COUNTRY_INFO!G46),0))","v":0},{"$f":"IF(AND(COUNTRY_INFO!K46>0,COUNTRY_INFO!K46<4),IF(Z46>0,IF(COUNTRY_INFO!K46=1, 0, IF(COUNTRY_INFO!K46=2, AF46/(COUNTRY_INFO!G46*0.2)*100, IF(COUNTRY_INFO!K46=3, AF46/COUNTRY_INFO!G46*100))),\"-\"),0)","v":0},25744.95,{"$f":"IF(AND(COUNTRY_INFO!K46>0,COUNTRY_INFO!K46<4), IF(AC46/Z46*100<>0, IF(AH46/Z46*100>100,100,AH46/Z46*100), \"-\"),0)","v":37.217130466208893},null,{"$f":"IF(AND(D46<>0, D46<>\"Unknown\",D46<>\"Stopped\",D46<>\"Not required\"),D46/COUNTRY_INFO!D46, 0)","v":0},{"$f":"IF(AND(J46<>0,J46<>\"Unknown\",J46<>\"Stopped\",J46<>\"Not required\"),J46/COUNTRY_INFO!D46, 0)","v":0},{"$f":"IF(AND(P46<>0,P46<>\"Unknown\",P46<>\"Not required\"),P46/(COUNTRY_INFO!E46+COUNTRY_INFO!F46), 0)","v":1},{"$f":"IF(AND(Z46<>0,Z46<>\"Unknown\",Z46<>\"Not required\"),IF(COUNTRY_INFO!K46=1,1,IF(COUNTRY_INFO!K46=2,0.5*COUNTRY_INFO!F46/(0.5*COUNTRY_INFO!F46+0.2*COUNTRY_INFO!G46),IF(COUNTRY_INFO!K46=3,COUNTRY_INFO!F46/(COUNTRY_INFO!F46+COUNTRY_INFO!G46)))),0)","v":1},{"$f":"IF(AND(Z46<>0,Z46<>\"Unknown\",Z46<>\"Not required\"),IF(COUNTRY_INFO!K46=1,0,IF(COUNTRY_INFO!K46=2,0.2*COUNTRY_INFO!G46/(0.5*COUNTRY_INFO!F46+0.2*COUNTRY_INFO!G46),IF(COUNTRY_INFO!K46=3,COUNTRY_INFO!G46/(COUNTRY_INFO!F46+COUNTRY_INFO!G46)))),0)","v":0},{"$f":"MAX(COUNTRY_INFO!D46*AK46*PROFILE!$G$7,COUNTRY_INFO!D46*AL46*PROFILE!$G$7)","v":0},{"$f":"MAX(COUNTRY_INFO!D46*AK46*PROFILE!$G$8,COUNTRY_INFO!D46*AL46*PROFILE!$G$8,COUNTRY_INFO!D46*AM46*PROFILE!$G$8)","v":36682.416900224351},{"$f":"MAX(COUNTRY_INFO!D46*AK46*PROFILE!$G$9,COUNTRY_INFO!D46*AL46*PROFILE!$G$9,COUNTRY_INFO!D46*AM46*PROFILE!$G$9,IF(AND(DISTRICT!Z46<>\"Unknown\",Z46<>\"Not required\"),COUNTRY_INFO!O46*DISTRICT!AN46,0))","v":78014.765013183525},{"$f":"MAX(COUNTRY_INFO!D46*AK46*PROFILE!$G$10,COUNTRY_INFO!D46*AL46*PROFILE!$G$10,IF(AND(DISTRICT!Z46<>\"Unknown\",Z46<>\"Not required\"),COUNTRY_INFO!O46*DISTRICT!AO46,0))","v":0},114697.18191340787,"Y",{"$f":"MAX('MDA2'!J46,'T1'!L46,'T2'!J46,T3_R1!K46,T3_R2!K46)","v":37055},{"$f":"MAX('MDA1'!K46,'MDA2'!K46,'MDA3'!I46,'MDA3'!L46,'T1'!M46,'T2'!K46,T3_R1!L46,T3_R2!L46)","v":56197},{"$f":"MAX('MDA1'!L46,'MDA2'!L46,'MDA3'!J46,'MDA3'!M46,'T1'!N46,'T2'!L46,T3_R1!M46,T3_R2!M46)","v":0},93252,{"$f":"MAX('MDA2'!J46,T46)","v":36682},{"$f":"MAX('MDA1'!K46,'MDA2'!K46,'MDA3'!I46,'MDA3'!L46,V46,AD46)","v":25744.95},{"$f":"MAX('MDA1'!L46,'MDA2'!L46,'MDA3'!J46,'MDA3'!M46,AF46)","v":0},62426.95,54.427623206235388]
[{"$f":"IF(COUNTRY_INFO!A47=0,\" \",COUNTRY_INFO!A47)","v":"Uganda"},{"$f":"IF(COUNTRY_INFO!B47=0,\" \",COUNTRY_INFO!B47)","v":"Eastern "},{"$f":"IF(COUNTRY_INFO!C47=0,\" \",COUNTRY_INFO!C47)","v":"Kamuli"},{"$f":"COUNTRY_INFO!L47","v":"Stopped"},null,null,{"$f":"MAX('MDA1'!M47,'MDA2'!M47)","v":0},{"$f":"IF(AND(COUNTRY_INFO!H47>0,COUNTRY_INFO!H47<4),IF(D47>MAX('MDA1'!M47,'MDA2'!M47),MAX('MDA1'!M47,'MDA2'!M47),D47),0)","v":0},{"$f":"IF(AND(COUNTRY_INFO!H47>0,COUNTRY_INFO!H47<4), IF(G47/D47*100<>0, IF(G47/D47*100>100,100,G47/D47*100), \"-\"),0)","v":0},{"$f":"COUNTRY_INFO!M47","v":0},null,null,{"$f":"MAX('MDA1'!M47,MAX('MDA3'!I47,'MDA3'!L47)+MAX('MDA3'!J47,'MDA3'!M47))","v":0},{"$f":"IF(AND(COUNTRY_INFO!I47>0,COUNTRY_INFO!I47<4),IF(J47>MAX('MDA1'!M47,MAX('MDA3'!I47,'MDA3'!L47)+MAX('MDA3'!J47,'MDA3'!M47)),MAX('MDA1'!M47,MAX('MDA3'!I47,'MDA3'!L47)+MAX('MDA3'!J47,'MDA3'!M47)),J47),0)","v":0},{"$f":"IF(AND(COUNTRY_INFO!I47>0,COUNTRY_INFO!I47<4), IF(M47/J47*100<>0, IF(M47/J47*100>100,100,M47/J47*100), \"-\"),0)","v":0},{"$f":"COUNTRY_INFO!N47","v":236154},null,null,{"$f":"SUM(MAX('MDA2'!J47, 'T1'!L47, MAX(T3_R1!K47, T3_R2!K47)), MAX('MDA1'!K47, 'MDA2'!K47, 'T1'!M47, MAX(T3_R1!L47, T3_R2!L47)), MAX('MDA1'!L47, 'MDA2'!L47, 'T1'!N47, MAX(T3_R1!M47, T3_R2!M47)))","v":113902},{"$f":"IF(AND(COUNTRY_INFO!J47>1,COUNTRY_INFO!J47<4),IF(COUNTRY_INFO!E47>MAX('MDA2'!J47,'T1'!L47,MAX(T3_R1!K47,T3_R2!K47)),MAX('MDA2'!J47,'T1'!L47,MAX(T3_R1!K47,T3_R2!K47)),COUNTRY_INFO!E47),0)","v":75527},{"$f":"IF(AND(COUNTRY_INFO!J47>1,COUNTRY_INFO!J47<4), IF(T47/COUNTRY_INFO!E47*100<>0, IF(T47/COUNTRY_INFO!E47*100>100,100,T47/COUNTRY_INFO!E47*100), \"-\"),0)","v":100},{"$f":"IF(AND(COUNTRY_INFO!J47>1,COUNTRY_INFO!J47<4),IF(COUNTRY_INFO!F47>MAX('MDA1'!K47,'MDA2'!K47,'T1'!M47,MAX(T3_R1!L47,T3_R2!L47)),MAX('MDA1'!K47,'MDA2'!K47,'T1'!M47,MAX(T3_R1!L47,T3_R2!L47)),COUNTRY_INFO!F47),0)","v":36984},{"$f":"IF(AND(COUNTRY_INFO!J47>1,COUNTRY_INFO!J47<4), IF(V47/COUNTRY_INFO!F47*100<>0, IF(V47/COUNTRY_INFO!F47*100>100,100,V47/COUNTRY_INFO!F47*100), \"-\"),0)","v":23.024771675994696},112511,{"$f":"IF(AND(COUNTRY_INFO!J47>1,COUNTRY_INFO!J47<4), IF(S47/P47*100<>0, IF(X47/P47*100>100,100,X47/P47*100), \"-\"),0)","v":47.643063424714384},{"$f":"COUNTRY_INFO!O47","v":93693},null,null,{"$f":"MAX('T1'!L47,'T2'!J47)+MAX('T1'!M47,'T2'!K47)+MAX('T1'!N47,'T2'!L47)","v":83382},{"$f":"IF(COUNTRY_INFO!K47=1,IF(COUNTRY_INFO!F47*0.33>MAX('T1'!M47,'T2'!K47),MAX('T1'!M47,'T2'!K47),COUNTRY_INFO!F47*0.33),IF(COUNTRY_INFO!K47=2,IF(COUNTRY_INFO!F47*0.5>MAX('T1'!M47,'T2'!K47),MAX('T1'!M47,'T2'!K47),COUNTRY_INFO!F47*0.5),IF(COUNTRY_INFO!K47=3,IF(COUNTRY_INFO!F47>MAX('T1'!M47,'T2'!K47),MAX('T1'!M47,'T2'!K47),COUNTRY_INFO!F47),0)))","v":53006.91},{"$f":"IF(AND(COUNTRY_INFO!K47>0,COUNTRY_INFO!K47<4),IF(Z47>0,IF(COUNTRY_INFO!K47=1, AD47/(COUNTRY_INFO!F47*0.33)*100, IF(COUNTRY_INFO!K47=2, AD47/(COUNTRY_INFO!F47*0.5)*100, IF(COUNTRY_INFO!K47=3, AD47/COUNTRY_INFO!F47*100))),\"-\"),0)","v":100},{"$f":"IF(COUNTRY_INFO!K47=2,IF(COUNTRY_INFO!G47*0.2>MAX('T1'!N47,'T2'!L47),MAX('T1'!N47,'T2'!L47),COUNTRY_INFO!G47*0.2),IF(COUNTRY_INFO!K47=3,IF(COUNTRY_INFO!G47>MAX('T1'!N47,'T2'!L47),MAX('T1'!N47,'T2'!L47),COUNTRY_INFO!G47),0))","v":0},{"$f":"IF(AND(COUNTRY_INFO!K47>0,COUNTRY_INFO!K47<4),IF(Z47>0,IF(COUNTRY_INFO!K47=1, 0, IF(COUNTRY_INFO!K47=2, AF47/(COUNTRY_INFO!G47*0.2)*100, IF(COUNTRY_INFO!K47=3, AF47/COUNTRY_INFO!G47*100))),\"-\"),0)","v":0},53006.91,{"$f":"IF(AND(COUNTRY_INFO!K47>0,COUNTRY_INFO!K47<4), IF(AC47/Z47*100<>0, IF(AH47/Z47*100>100,100,AH47/Z47*100), \"-\"),0)","v":56.575101661810393},null,{"$f":"IF(AND(D47<>0, D47<>\"Unknown\",D47<>\"Stopped\",D47<>\"Not required\"),D47/COUNTRY_INFO!D47, 0)","v":0},{"$f":"IF(AND(J47<>0,J47<>\"Unknown\",J47<>\"Stopped\",J47<>\"Not required\"),J47/COUNTRY_INFO!D47, 0)","v":0},{"$f":"IF(AND(P47<>0,P47<>\"Unknown\",P47<>\"Not required\"),P47/(COUNTRY_INFO!E47+COUNTRY_INFO!F47), 0)","v":1},{"$f":"IF(AND(Z47<>0,Z47<>\"Unknown\",Z47<>\"Not required\"),IF(COUNTRY_INFO!K47=1,1,IF(COUNTRY_INFO!K47=2,0.5*COUNTRY_INFO!F47/(0.5*COUNTRY_INFO!F47+0.2*COUNTRY_INFO!G47),IF(COUNTRY_INFO!K47=3,COUNTRY_INFO!F47/(COUNTRY_INFO!F47+COUNTRY_INFO!G47)))),0)","v":1},{"$f":"IF(AND(Z47<>0,Z47<>\"Unknown\",Z47<>\"Not required\"),IF(COUNTRY_INFO!K47=1,0,IF(COUNTRY_INFO!K47=2,0.2*COUNTRY_INFO!G47/(0.5*COUNTRY_INFO!F47+0.2*COUNTRY_INFO!G47),IF(COUNTRY_INFO!K47=3,COUNTRY_INFO!G47/(COUNTRY_INFO!F47+COUNTRY_INFO!G47)))),0)","v":0},{"$f":"MAX(COUNTRY_INFO!D47*AK47*PROFILE!$G$7,COUNTRY_INFO!D47*AL47*PROFILE!$G$7)","v":0},{"$f":"MAX(COUNTRY_INFO!D47*AK47*PROFILE!$G$8,COUNTRY_INFO!D47*AL47*PROFILE!$G$8,COUNTRY_INFO!D47*AM47*PROFILE!$G$8)","v":75526.640792706632},{"$f":"MAX(COUNTRY_INFO!D47*AK47*PROFILE!$G$9,COUNTRY_INFO!D47*AL47*PROFILE!$G$9,COUNTRY_INFO!D47*AM47*PROFILE!$G$9,IF(AND(DISTRICT!Z47<>\"Unknown\",Z47<>\"Not required\"),COUNTRY_INFO!O47*DISTRICT!AN47,0))","v":160627.17867540763},{"$f":"MAX(COUNTRY_INFO!D47*AK47*PROFILE!$G$10,COUNTRY_INFO!D47*AL47*PROFILE!$G$10,IF(AND(DISTRICT!Z47<>\"Unknown\",Z47<>\"Not required\"),COUNTRY_INFO!O47*DISTRICT!AO47,0))","v":0},236153.81946811426,"Y",{"$f":"MAX('MDA2'!J47,'T1'!L47,'T2'!J47,T3_R1!K47,T3_R2!K47)","v":76918},{"$f":"MAX('MDA1'!K47,'MDA2'!K47,'MDA3'!I47,'MDA3'!L47,'T1'!M47,'T2'!K47,T3_R1!L47,T3_R2!L47)","v":83382},{"$f":"MAX('MDA1'!L47,'MDA2'!L47,'MDA3'!J47,'MDA3'!M47,'T1'!N47,'T2'!L47,T3_R1!M47,T3_R2!M47)","v":0},160300,{"$f":"MAX('MDA2'!J47,T47)","v":75527},{"$f":"MAX('MDA1'!K47,'MDA2'!K47,'MDA3'!I47,'MDA3'!L47,V47,AD47)","v":53006.91},{"$f":"MAX('MDA1'!L47,'MDA2'!L47,'MDA3'!J47,'MDA3'!M47,AF47)","v":0},128533.91,54.428046215595835]
[{"$f":"IF(COUNTRY_INFO!A48=0,\" \",COUNTRY_INFO!A48)","v":"Uganda"},{"$f":"IF(COUNTRY_INFO!B48=0,\" \",COUNTRY_INFO!B48)","v":"Eastern "},{"$f":"IF(COUNTRY_INFO!C48=0,\" \",COUNTRY_INFO!C48)","v":"Kapchorwa"},{"$f":"COUNTRY_INFO!L48","v":0},null,null,{"$f":"MAX('MDA1'!M48,'MDA2'!M48)","v":0},{"$f":"IF(AND(COUNTRY_INFO!H48>0,COUNTRY_INFO!H48<4),IF(D48>MAX('MDA1'!M48,'MDA2'!M48),MAX('MDA1'!M48,'MDA2'!M48),D48),0)","v":0},{"$f":"IF(AND(COUNTRY_INFO!H48>0,COUNTRY_INFO!H48<4), IF(G48/D48*100<>0, IF(G48/D48*100>100,100,G48/D48*100), \"-\"),0)","v":0},{"$f":"COUNTRY_INFO!M48","v":0},null,null,{"$f":"MAX('MDA1'!M48,MAX('MDA3'!I48,'MDA3'!L48)+MAX('MDA3'!J48,'MDA3'!M48))","v":0},{"$f":"IF(AND(COUNTRY_INFO!I48>0,COUNTRY_INFO!I48<4),IF(J48>MAX('MDA1'!M48,MAX('MDA3'!I48,'MDA3'!L48)+MAX('MDA3'!J48,'MDA3'!M48)),MAX('MDA1'!M48,MAX('MDA3'!I48,'MDA3'!L48)+MAX('MDA3'!J48,'MDA3'!M48)),J48),0)","v":0},{"$f":"IF(AND(COUNTRY_INFO!I48>0,COUNTRY_INFO!I48<4), IF(M48/J48*100<>0, IF(M48/J48*100>100,100,M48/J48*100), \"-\"),0)","v":0},{"$f":"COUNTRY_INFO!N48","v":51078},null,null,{"$f":"SUM(MAX('MDA2'!J48, 'T1'!L48, MAX(T3_R1!K48, T3_R2!K48)), MAX('MDA1'!K48, 'MDA2'!K48, 'T1'!M48, MAX(T3_R1!L48, T3_R2!L48)), MAX('MDA1'!L48, 'MDA2'!L48, 'T1'!N48, MAX(T3_R1!M48, T3_R2!M48)))","v":44653},{"$f":"IF(AND(COUNTRY_INFO!J48>1,COUNTRY_INFO!J48<4),IF(COUNTRY_INFO!E48>MAX('MDA2'!J48,'T1'!L48,MAX(T3_R1!K48,T3_R2!K48)),MAX('MDA2'!J48,'T1'!L48,MAX(T3_R1!K48,T3_R2!K48)),COUNTRY_INFO!E48),0)","v":16336},{"$f":"IF(AND(COUNTRY_INFO!J48>1,COUNTRY_INFO!J48<4), IF(T48/COUNTRY_INFO!E48*100<>0, IF(T48/COUNTRY_INFO!E48*100>100,100,T48/COUNTRY_INFO!E48*100), \"-\"),0)","v":100},{"$f":"IF(AND(COUNTRY_INFO!J48>1,COUNTRY_INFO!J48<4),IF(COUNTRY_INFO!F48>MAX('MDA1'!K48,'MDA2'!K48,'T1'!M48,MAX(T3_R1!L48,T3_R2!L48)),MAX('MDA1'!K48,'MDA2'!K48,'T1'!M48,MAX(T3_R1!L48,T3_R2!L48)),COUNTRY_INFO!F48),0)","v":24408},{"$f":"IF(AND(COUNTRY_INFO!J48>1,COUNTRY_INFO!J48<4), IF(V48/COUNTRY_INFO!F48*100<>0, IF(V48/COUNTRY_INFO!F48*100>100,100,V48/COUNTRY_INFO!F48*100), \"-\"),0)","v":70.255022739047831},40744,{"$f":"IF(AND(COUNTRY_INFO!J48>1,COUNTRY_INFO!J48<4), IF(S48/P48*100<>0, IF(X48/P48*100>100,100,X48/P48*100), \"-\"),0)","v":79.768197658483103},{"$f":"COUNTRY_INFO!O48","v":0},null,null,{"$f":"MAX('T1'!L48,'T2'!J48)+MAX('T1'!M48,'T2'!K48)+MAX('T1'!N48,'T2'!L48)","v":0},{"$f":"IF(COUNTRY_INFO!K48=1,IF(COUNTRY_INFO!F48*0.33>MAX('T1'!M48,'T2'!K48),MAX('T1'!M48,'T2'!K48),COUNTRY_INFO!F48*0.33),IF(COUNTRY_INFO!K48=2,IF(COUNTRY_INFO!F48*0.5>MAX('T1'!M48,'T2'!K48),MAX('T1'!M48,'T2'!K48),COUNTRY_INFO!F48*0.5),IF(COUNTRY_INFO!K48=3,IF(COUNTRY_INFO!F48>MAX('T1'!M48,'T2'!K48),MAX('T1'!M48,'T2'!K48),COUNTRY_INFO!F48),0)))","v":0},{"$f":"IF(AND(COUNTRY_INFO!K48>0,COUNTRY_INFO!K48<4),IF(Z48>0,IF(COUNTRY_INFO!K48=1, AD48/(COUNTRY_INFO!F48*0.33)*100, IF(COUNTRY_INFO!K48=2, AD48/(COUNTRY_INFO!F48*0.5)*100, IF(COUNTRY_INFO!K48=3, AD48/COUNTRY_INFO!F48*100))),\"-\"),0)","v":0},{"$f":"IF(COUNTRY_INFO!K48=2,IF(COUNTRY_INFO!G48*0.2>MAX('T1'!N48,'T2'!L48),MAX('T1'!N48,'T2'!L48),COUNTRY_INFO!G48*0.2),IF(COUNTRY_INFO!K48=3,IF(COUNTRY_INFO!G48>MAX('T1'!N48,'T2'!L48),MAX('T1'!N48,'T2'!L48),COUNTRY_INFO!G48),0))","v":0},{"$f":"IF(AND(COUNTRY_INFO!K48>0,COUNTRY_INFO!K48<4),IF(Z48>0,IF(COUNTRY_INFO!K48=1, 0, IF(COUNTRY_INFO!K48=2, AF48/(COUNTRY_INFO!G48*0.2)*100, IF(COUNTRY_INFO!K48=3, AF48/COUNTRY_INFO!G48*100))),\"-\"),0)","v":0},0,{"$f":"IF(AND(COUNTRY_INFO!K48>0,COUNTRY_INFO!K48<4), IF(AC48/Z48*100<>0, IF(AH48/Z48*100>100,100,AH48/Z48*100), \"-\"),0)","v":0},null,{"$f":"IF(AND(D48<>0, D48<>\"Unknown\",D48<>\"Stopped\",D48<>\"Not required\"),D48/COUNTRY_INFO!D48, 0)","v":0},{"$f":"IF(AND(J48<>0,J48<>\"Unknown\",J48<>\"Stopped\",J48<>\"Not required\"),J48/COUNTRY_INFO!D48, 0)","v":0},{"$f":"IF(AND(P48<>0,P48<>\"Unknown\",P48<>\"Not required\"),P48/(COUNTRY_INFO!E48+COUNTRY_INFO!F48), 0)","v":1},{"$f":"IF(AND(Z48<>0,Z48<>\"Unknown\",Z48<>\"Not required\"),IF(COUNTRY_INFO!K48=1,1,IF(COUNTRY_INFO!K48=2,0.5*COUNTRY_INFO!F48/(0.5*COUNTRY_INFO!F48+0.2*COUNTRY_INFO!G48),IF(COUNTRY_INFO!K48=3,COUNTRY_INFO!F48/(COUNTRY_INFO!F48+COUNTRY_INFO!G48)))),0)","v":0},{"$f":"IF(AND(Z48<>0,Z48<>\"Unknown\",Z48<>\"Not required\"),IF(COUNTRY_INFO!K48=1,0,IF(COUNTRY_INFO!K48=2,0.2*COUNTRY_INFO!G48/(0.5*COUNTRY_INFO!F48+0.2*COUNTRY_INFO!G48),IF(COUNTRY_INFO!K48=3,COUNTRY_INFO!G48/(COUNTRY_INFO!F48+COUNTRY_INFO!G48)))),0)","v":0},{"$f":"MAX(COUNTRY_INFO!D48*AK48*PROFILE!$G$7,COUNTRY_INFO!D48*AL48*PROFILE!$G$7)","v":0},{"$f":"MAX(COUNTRY_INFO!D48*AK48*PROFILE!$G$8,COUNTRY_INFO!D48*AL48*PROFILE!$G$8,COUNTRY_INFO!D48*AM48*PROFILE!$G$8)","v":16335.672385007409},{"$f":"MAX(COUNTRY_INFO!D48*AK48*PROFILE!$G$9,COUNTRY_INFO!D48*AL48*PROFILE!$G$9,COUNTRY_INFO!D48*AM48*PROFILE!$G$9,IF(AND(DISTRICT!Z48<>\"Unknown\",Z48<>\"Not required\"),COUNTRY_INFO!O48*DISTRICT!AN48,0))","v":34742.084904468495},{"$f":"MAX(COUNTRY_INFO!D48*AK48*PROFILE!$G$10,COUNTRY_INFO!D48*AL48*PROFILE!$G$10,IF(AND(DISTRICT!Z48<>\"Unknown\",Z48<>\"Not required\"),COUNTRY_INFO!O48*DISTRICT!AO48,0))","v":0},51077.757289475907,"Y",{"$f":"MAX('MDA2'!J48,'T1'!L48,'T2'!J48,T3_R1!K48,T3_R2!K48)","v":20245},{"$f":"MAX('MDA1'!K48,'MDA2'!K48,'MDA3'!I48,'MDA3'!L48,'T1'!M48,'T2'!K48,T3_R1!L48,T3_R2!L48)","v":24408},{"$f":"MAX('MDA1'!L48,'MDA2'!L48,'MDA3'!J48,'MDA3'!M48,'T1'!N48,'T2'!L48,T3_R1!M48,T3_R2!M48)","v":0},44653,{"$f":"MAX('MDA2'!J48,T48)","v":16336},{"$f":"MAX('MDA1'!K48,'MDA2'!K48,'MDA3'!I48,'MDA3'!L48,V48,AD48)","v":24408},{"$f":"MAX('MDA1'!L48,'MDA2'!L48,'MDA3'!J48,'MDA3'!M48,AF48)","v":0},40744,79.768576699813167]
[{"$f":"IF(COUNTRY_INFO!A49=0,\" \",COUNTRY_INFO!A49)","v":"Uganda"},{"$f":"IF(COUNTRY_INFO!B49=0,\" \",COUNTRY_INFO!B49)","v":"Eastern "},{"$f":"IF(COUNTRY_INFO!C49=0,\" \",COUNTRY_INFO!C49)","v":"Katakwi"},{"$f":"COUNTRY_INFO!L49","v":"Stopped"},null,null,{"$f":"MAX('MDA1'!M49,'MDA2'!M49)","v":0},{"$f":"IF(AND(COUNTRY_INFO!H49>0,COUNTRY_INFO!H49<4),IF(D49>MAX('MDA1'!M49,'MDA2'!M49),MAX('MDA1'!M49,'MDA2'!M49),D49),0)","v":0},{"$f":"IF(AND(COUNTRY_INFO!H49>0,COUNTRY_INFO!H49<4), IF(G49/D49*100<>0, IF(G49/D49*100>100,100,G49/D49*100), \"-\"),0)","v":0},{"$f":"COUNTRY_INFO!M49","v":0},null,null,{"$f":"MAX('MDA1'!M49,MAX('MDA3'!I49,'MDA3'!L49)+MAX('MDA3'!J49,'MDA3'!M49))","v":0},{"$f":"IF(AND(COUNTRY_INFO!I49>0,COUNTRY_INFO!I49<4),IF(J49>MAX('MDA1'!M49,MAX('MDA3'!I49,'MDA3'!L49)+MAX('MDA3'!J49,'MDA3'!M49)),MAX('MDA1'!M49,MAX('MDA3'!I49,'MDA3'!L49)+MAX('MDA3'!J49,'MDA3'!M49)),J49),0)","v":0},{"$f":"IF(AND(COUNTRY_INFO!I49>0,COUNTRY_INFO!I49<4), IF(M49/J49*100<>0, IF(M49/J49*100>100,100,M49/J49*100), \"-\"),0)","v":0},{"$f":"COUNTRY_INFO!N49","v":80721},null,null,{"$f":"SUM(MAX('MDA2'!J49, 'T1'!L49, MAX(T3_R1!K49, T3_R2!K49)), MAX('MDA1'!K49, 'MDA2'!K49, 'T1'!M49, MAX(T3_R1!L49, T3_R2!L49)), MAX('MDA1'!L49, 'MDA2'!L49, 'T1'!N49, MAX(T3_R1!M49, T3_R2!M49)))","v":25516},{"$f":"IF(AND(COUNTRY_INFO!J49>1,COUNTRY_INFO!J49<4),IF(COUNTRY_INFO!E49>MAX('MDA2'!J49,'T1'!L49,MAX(T3_R1!K49,T3_R2!K49)),MAX('MDA2'!J49,'T1'!L49,MAX(T3_R1!K49,T3_R2!K49)),COUNTRY_INFO!E49),0)","v":14331},{"$f":"IF(AND(COUNTRY_INFO!J49>1,COUNTRY_INFO!J49<4), IF(T49/COUNTRY_INFO!E49*100<>0, IF(T49/COUNTRY_INFO!E49*100>100,100,T49/COUNTRY_INFO!E49*100), \"-\"),0)","v":55.512085528354504},{"$f":"IF(AND(COUNTRY_INFO!J49>1,COUNTRY_INFO!J49<4),IF(COUNTRY_INFO!F49>MAX('MDA1'!K49,'MDA2'!K49,'T1'!M49,MAX(T3_R1!L49,T3_R2!L49)),MAX('MDA1'!K49,'MDA2'!K49,'T1'!M49,MAX(T3_R1!L49,T3_R2!L49)),COUNTRY_INFO!F49),0)","v":11185},{"$f":"IF(AND(COUNTRY_INFO!J49>1,COUNTRY_INFO!J49<4), IF(V49/COUNTRY_INFO!F49*100<>0, IF(V49/COUNTRY_INFO!F49*100>100,100,V49/COUNTRY_INFO!F49*100), \"-\"),0)","v":20.371550860577361},25516,{"$f":"IF(AND(COUNTRY_INFO!J49>1,COUNTRY_INFO!J49<4), IF(S49/P49*100<>0, IF(X49/P49*100>100,100,X49/P49*100), \"-\"),0)","v":31.610113848936461},{"$f":"COUNTRY_INFO!O49","v":18678},null,null,{"$f":"MAX('T1'!L49,'T2'!J49)+MAX('T1'!M49,'T2'!K49)+MAX('T1'!N49,'T2'!L49)","v":16409},{"$f":"IF(COUNTRY_INFO!K49=1,IF(COUNTRY_INFO!F49*0.33>MAX('T1'!M49,'T2'!K49),MAX('T1'!M49,'T2'!K49),COUNTRY_INFO!F49*0.33),IF(COUNTRY_INFO!K49=2,IF(COUNTRY_INFO!F49*0.5>MAX('T1'!M49,'T2'!K49),MAX('T1'!M49,'T2'!K49),COUNTRY_INFO!F49*0.5),IF(COUNTRY_INFO!K49=3,IF(COUNTRY_INFO!F49>MAX('T1'!M49,'T2'!K49),MAX('T1'!M49,'T2'!K49),COUNTRY_INFO!F49),0)))","v":16409},{"$f":"IF(AND(COUNTRY_INFO!K49>0,COUNTRY_INFO!K49<4),IF(Z49>0,IF(COUNTRY_INFO!K49=1, AD49/(COUNTRY_INFO!F49*0.33)*100, IF(COUNTRY_INFO!K49=2, AD49/(COUNTRY_INFO!F49*0.5)*100, IF(COUNTRY_INFO!K49=3, AD49/COUNTRY_INFO!F49*100))),\"-\"),0)","v":90.564142471983274},{"$f":"IF(COUNTRY_INFO!K49=2,IF(COUNTRY_INFO!G49*0.2>MAX('T1'!N49,'T2'!L49),MAX('T1'!N49,'T2'!L49),COUNTRY_INFO!G49*0.2),IF(COUNTRY_INFO!K49=3,IF(COUNTRY_INFO!G49>MAX('T1'!N49,'T2'!L49),MAX('T1'!N49,'T2'!L49),COUNTRY_INFO!G49),0))","v":0},{"$f":"IF(AND(COUNTRY_INFO!K49>0,COUNTRY_INFO!K49<4),IF(Z49>0,IF(COUNTRY_INFO!K49=1, 0, IF(COUNTRY_INFO!K49=2, AF49/(COUNTRY_INFO!G49*0.2)*100, IF(COUNTRY_INFO!K49=3, AF49/COUNTRY_INFO!G49*100))),\"-\"),0)","v":0},16409,{"$f":"IF(AND(COUNTRY_INFO!K49>0,COUNTRY_INFO!K49<4), IF(AC49/Z49*100<>0, IF(AH49/Z49*100>100,100,AH49/Z49*100), \"-\"),0)","v":87.852018417389445},null,{"$f":"IF(AND(D49<>0, D49<>\"Unknown\",D49<>\"Stopped\",D49<>\"Not required\"),D49/COUNTRY_INFO!D49, 0)","v":0},{"$f":"IF(AND(J49<>0,J49<>\"Unknown\",J49<>\"Stopped\",J49<>\"Not required\"),J49/COUNTRY_INFO!D49, 0)","v":0},{"$f":"IF(AND(P49<>0,P49<>\"Unknown\",P49<>\"Not required\"),P49/(COUNTRY_INFO!E49+COUNTRY_INFO!F49), 0)","v":1},{"$f":"IF(AND(Z49<>0,Z49<>\"Unknown\",Z49<>\"Not required\"),IF(COUNTRY_INFO!K49=1,1,IF(COUNTRY_INFO!K49=2,0.5*COUNTRY_INFO!F49/(0.5*COUNTRY_INFO!F49+0.2*COUNTRY_INFO!G49),IF(COUNTRY_INFO!K49=3,COUNTRY_INFO!F49/(COUNTRY_INFO!F49+COUNTRY_INFO!G49)))),0)","v":1},{"$f":"IF(AND(Z49<>0,Z49<>\"Unknown\",Z49<>\"Not required\"),IF(COUNTRY_INFO!K49=1,0,IF(COUNTRY_INFO!K49=2,0.2*COUNTRY_INFO!G49/(0.5*COUNTRY_INFO!F49+0.2*COUNTRY_INFO!G49),IF(COUNTRY_INFO!K49=3,COUNTRY_INFO!G49/(COUNTRY_INFO!F49+COUNTRY_INFO!G49)))),0)","v":0},{"$f":"MAX(COUNTRY_INFO!D49*AK49*PROFILE!$G$7,COUNTRY_INFO!D49*AL49*PROFILE!$G$7)","v":0},{"$f":"MAX(COUNTRY_INFO!D49*AK49*PROFILE!$G$8,COUNTRY_INFO!D49*AL49*PROFILE!$G$8,COUNTRY_INFO!D49*AM49*PROFILE!$G$8)","v":25816.155965610978},{"$f":"MAX(COUNTRY_INFO!D49*AK49*PROFILE!$G$9,COUNTRY_INFO!D49*AL49*PROFILE!$G$9,COUNTRY_INFO!D49*AM49*PROFILE!$G$9,IF(AND(DISTRICT!Z49<>\"Unknown\",Z49<>\"Not required\"),COUNTRY_INFO!O49*DISTRICT!AN49,0))","v":54904.815750799637},{"$f":"MAX(COUNTRY_INFO!D49*AK49*PROFILE!$G$10,COUNTRY_INFO!D49*AL49*PROFILE!$G$10,IF(AND(DISTRICT!Z49<>\"Unknown\",Z49<>\"Not required\"),COUNTRY_INFO!O49*DISTRICT!AO49,0))","v":0},80720.971716410611,"Y",{"$f":"MAX('MDA2'!J49,'T1'!L49,'T2'!J49,T3_R1!K49,T3_R2!K49)","v":14331},{"$f":"MAX('MDA1'!K49,'MDA2'!K49,'MDA3'!I49,'MDA3'!L49,'T1'!M49,'T2'!K49,T3_R1!L49,T3_R2!L49)","v":16409},{"$f":"MAX('MDA1'!L49,'MDA2'!L49,'MDA3'!J49,'MDA3'!M49,'T1'!N49,'T2'!L49,T3_R1!M49,T3_R2!M49)","v":0},30740,{"$f":"MAX('MDA2'!J49,T49)","v":14331},{"$f":"MAX('MDA1'!K49,'MDA2'!K49,'MDA3'!I49,'MDA3'!L49,V49,AD49)","v":16409},{"$f":"MAX('MDA1'!L49,'MDA2'!L49,'MDA3'!J49,'MDA3'!M49,AF49)","v":0},30740,38.08180123003963]
[{"$f":"IF(COUNTRY_INFO!A50=0,\" \",COUNTRY_INFO!A50)","v":"Uganda"},{"$f":"IF(COUNTRY_INFO!B50=0,\" \",COUNTRY_INFO!B50)","v":"Eastern "},{"$f":"IF(COUNTRY_INFO!C50=0,\" \",COUNTRY_INFO!C50)","v":"Kibuku"},{"$f":"COUNTRY_INFO!L50","v":"Stopped"},null,null,{"$f":"MAX('MDA1'!M50,'MDA2'!M50)","v":0},{"$f":"IF(AND(COUNTRY_INFO!H50>0,COUNTRY_INFO!H50<4),IF(D50>MAX('MDA1'!M50,'MDA2'!M50),MAX('MDA1'!M50,'MDA2'!M50),D50),0)","v":0},{"$f":"IF(AND(COUNTRY_INFO!H50>0,COUNTRY_INFO!H50<4), IF(G50/D50*100<>0, IF(G50/D50*100>100,100,G50/D50*100), \"-\"),0)","v":0},{"$f":"COUNTRY_INFO!M50","v":0},null,null,{"$f":"MAX('MDA1'!M50,MAX('MDA3'!I50,'MDA3'!L50)+MAX('MDA3'!J50,'MDA3'!M50))","v":0},{"$f":"IF(AND(COUNTRY_INFO!I50>0,COUNTRY_INFO!I50<4),IF(J50>MAX('MDA1'!M50,MAX('MDA3'!I50,'MDA3'!L50)+MAX('MDA3'!J50,'MDA3'!M50)),MAX('MDA1'!M50,MAX('MDA3'!I50,'MDA3'!L50)+MAX('MDA3'!J50,'MDA3'!M50)),J50),0)","v":0},{"$f":"IF(AND(COUNTRY_INFO!I50>0,COUNTRY_INFO!I50<4), IF(M50/J50*100<>0, IF(M50/J50*100>100,100,M50/J50*100), \"-\"),0)","v":0},{"$f":"COUNTRY_INFO!N50","v":98106},null,null,{"$f":"SUM(MAX('MDA2'!J50, 'T1'!L50, MAX(T3_R1!K50, T3_R2!K50)), MAX('MDA1'!K50, 'MDA2'!K50, 'T1'!M50, MAX(T3_R1!L50, T3_R2!L50)), MAX('MDA1'!L50, 'MDA2'!L50, 'T1'!N50, MAX(T3_R1!M50, T3_R2!M50)))","v":27884},{"$f":"IF(AND(COUNTRY_INFO!J50>1,COUNTRY_INFO!J50<4),IF(COUNTRY_INFO!E50>MAX('MDA2'!J50,'T1'!L50,MAX(T3_R1!K50,T3_R2!K50)),MAX('MDA2'!J50,'T1'!L50,MAX(T3_R1!K50,T3_R2!K50)),COUNTRY_INFO!E50),0)","v":11487},{"$f":"IF(AND(COUNTRY_INFO!J50>1,COUNTRY_INFO!J50<4), IF(T50/COUNTRY_INFO!E50*100<>0, IF(T50/COUNTRY_INFO!E50*100>100,100,T50/COUNTRY_INFO!E50*100), \"-\"),0)","v":36.610785313615501},{"$f":"IF(AND(COUNTRY_INFO!J50>1,COUNTRY_INFO!J50<4),IF(COUNTRY_INFO!F50>MAX('MDA1'!K50,'MDA2'!K50,'T1'!M50,MAX(T3_R1!L50,T3_R2!L50)),MAX('MDA1'!K50,'MDA2'!K50,'T1'!M50,MAX(T3_R1!L50,T3_R2!L50)),COUNTRY_INFO!F50),0)","v":16397},{"$f":"IF(AND(COUNTRY_INFO!J50>1,COUNTRY_INFO!J50<4), IF(V50/COUNTRY_INFO!F50*100<>0, IF(V50/COUNTRY_INFO!F50*100>100,100,V50/COUNTRY_INFO!F50*100), \"-\"),0)","v":24.572156451371196},27884,{"$f":"IF(AND(COUNTRY_INFO!J50>1,COUNTRY_INFO!J50<4), IF(S50/P50*100<>0, IF(X50/P50*100>100,100,X50/P50*100), \"-\"),0)","v":28.422318716490324},{"$f":"COUNTRY_INFO!O50","v":43365},null,null,{"$f":"MAX('T1'!L50,'T2'!J50)+MAX('T1'!M50,'T2'!K50)+MAX('T1'!N50,'T2'!L50)","v":35551},{"$f":"IF(COUNTRY_INFO!K50=1,IF(COUNTRY_INFO!F50*0.33>MAX('T1'!M50,'T2'!K50),MAX('T1'!M50,'T2'!K50),COUNTRY_INFO!F50*0.33),IF(COUNTRY_INFO!K50=2,IF(COUNTRY_INFO!F50*0.5>MAX('T1'!M50,'T2'!K50),MAX('T1'!M50,'T2'!K50),COUNTRY_INFO!F50*0.5),IF(COUNTRY_INFO!K50=3,IF(COUNTRY_INFO!F50>MAX('T1'!M50,'T2'!K50),MAX('T1'!M50,'T2'!K50),COUNTRY_INFO!F50),0)))","v":22020.9},{"$f":"IF(AND(COUNTRY_INFO!K50>0,COUNTRY_INFO!K50<4),IF(Z50>0,IF(COUNTRY_INFO!K50=1, AD50/(COUNTRY_INFO!F50*0.33)*100, IF(COUNTRY_INFO!K50=2, AD50/(COUNTRY_INFO!F50*0.5)*100, IF(COUNTRY_INFO!K50=3, AD50/COUNTRY_INFO!F50*100))),\"-\"),0)","v":100},{"$f":"IF(COUNTRY_INFO!K50=2,IF(COUNTRY_INFO!G50*0.2>MAX('T1'!N50,'T2'!L50),MAX('T1'!N50,'T2'!L50),COUNTRY_INFO!G50*0.2),IF(COUNTRY_INFO!K50=3,IF(COUNTRY_INFO!G50>MAX('T1'!N50,'T2'!L50),MAX('T1'!N50,'T2'!L50),COUNTRY_INFO!G50),0))","v":0},{"$f":"IF(AND(COUNTRY_INFO!K50>0,COUNTRY_INFO!K50<4),IF(Z50>0,IF(COUNTRY_INFO!K50=1, 0, IF(COUNTRY_INFO!K50=2, AF50/(COUNTRY_INFO!G50*0.2)*100, IF(COUNTRY_INFO!K50=3, AF50/COUNTRY_INFO!G50*100))),\"-\"),0)","v":0},22020.9,{"$f":"IF(AND(COUNTRY_INFO!K50>0,COUNTRY_INFO!K50<4), IF(AC50/Z50*100<>0, IF(AH50/Z50*100>100,100,AH50/Z50*100), \"-\"),0)","v":50.780352819093743},null,{"$f":"IF(AND(D50<>0, D50<>\"Unknown\",D50<>\"Stopped\",D50<>\"Not required\"),D50/COUNTRY_INFO!D50, 0)","v":0},{"$f":"IF(AND(J50<>0,J50<>\"Unknown\",J50<>\"Stopped\",J50<>\"Not required\"),J50/COUNTRY_INFO!D50, 0)","v":0},{"$f":"IF(AND(P50<>0,P50<>\"Unknown\",P50<>\"Not required\"),P50/(COUNTRY_INFO!E50+COUNTRY_INFO!F50), 0)","v":1},{"$f":"IF(AND(Z50<>0,Z50<>\"Unknown\",Z50<>\"Not required\"),IF(COUNTRY_INFO!K50=1,1,IF(COUNTRY_INFO!K50=2,0.5*COUNTRY_INFO!F50/(0.5*COUNTRY_INFO!F50+0.2*COUNTRY_INFO!G50),IF(COUNTRY_INFO!K50=3,COUNTRY_INFO!F50/(COUNTRY_INFO!F50+COUNTRY_INFO!G50)))),0)","v":1},{"$f":"IF(AND(Z50<>0,Z50<>\"Unknown\",Z50<>\"Not required\"),IF(COUNTRY_INFO!K50=1,0,IF(COUNTRY_INFO!K50=2,0.2*COUNTRY_INFO!G50/(0.5*COUNTRY_INFO!F50+0.2*COUNTRY_INFO!G50),IF(COUNTRY_INFO!K50=3,COUNTRY_INFO!G50/(COUNTRY_INFO!F50+COUNTRY_INFO!G50)))),0)","v":0},{"$f":"MAX(COUNTRY_INFO!D50*AK50*PROFILE!$G$7,COUNTRY_INFO!D50*AL50*PROFILE!$G$7)","v":0},{"$f":"MAX(COUNTRY_INFO!D50*AK50*PROFILE!$G$8,COUNTRY_INFO!D50*AL50*PROFILE!$G$8,COUNTRY_INFO!D50*AM50*PROFILE!$G$8)","v":31376.305373706859},{"$f":"MAX(COUNTRY_INFO!D50*AK50*PROFILE!$G$9,COUNTRY_INFO!D50*AL50*PROFILE!$G$9,COUNTRY_INFO!D50*AM50*PROFILE!$G$9,IF(AND(DISTRICT!Z50<>\"Unknown\",Z50<>\"Not required\"),COUNTRY_INFO!O50*DISTRICT!AN50,0))","v":66729.929420126544},{"$f":"MAX(COUNTRY_INFO!D50*AK50*PROFILE!$G$10,COUNTRY_INFO!D50*AL50*PROFILE!$G$10,IF(AND(DISTRICT!Z50<>\"Unknown\",Z50<>\"Not required\"),COUNTRY_INFO!O50*DISTRICT!AO50,0))","v":0},98106.234793833399,"Y",{"$f":"MAX('MDA2'!J50,'T1'!L50,'T2'!J50,T3_R1!K50,T3_R2!K50)","v":11487},{"$f":"MAX('MDA1'!K50,'MDA2'!K50,'MDA3'!I50,'MDA3'!L50,'T1'!M50,'T2'!K50,T3_R1!L50,T3_R2!L50)","v":35551},{"$f":"MAX('MDA1'!L50,'MDA2'!L50,'MDA3'!J50,'MDA3'!M50,'T1'!N50,'T2'!L50,T3_R1!M50,T3_R2!M50)","v":0},47038,{"$f":"MAX('MDA2'!J50,T50)","v":11487},{"$f":"MAX('MDA1'!K50,'MDA2'!K50,'MDA3'!I50,'MDA3'!L50,V50,AD50)","v":22020.9},{"$f":"MAX('MDA1'!L50,'MDA2'!L50,'MDA3'!J50,'MDA3'!M50,AF50)","v":0},33507.9,34.154710014522124]
[{"$f":"IF(COUNTRY_INFO!A51=0,\" \",COUNTRY_INFO!A51)","v":"Uganda"},{"$f":"IF(COUNTRY_INFO!B51=0,\" \",COUNTRY_INFO!B51)","v":"Eastern "},{"$f":"IF(COUNTRY_INFO!C51=0,\" \",COUNTRY_INFO!C51)","v":"Kumi"},{"$f":"COUNTRY_INFO!L51","v":"Stopped"},null,null,{"$f":"MAX('MDA1'!M51,'MDA2'!M51)","v":0},{"$f":"IF(AND(COUNTRY_INFO!H51>0,COUNTRY_INFO!H51<4),IF(D51>MAX('MDA1'!M51,'MDA2'!M51),MAX('MDA1'!M51,'MDA2'!M51),D51),0)","v":0},{"$f":"IF(AND(COUNTRY_INFO!H51>0,COUNTRY_INFO!H51<4), IF(G51/D51*100<>0, IF(G51/D51*100>100,100,G51/D51*100), \"-\"),0)","v":0},{"$f":"COUNTRY_INFO!M51","v":0},null,null,{"$f":"MAX('MDA1'!M51,MAX('MDA3'!I51,'MDA3'!L51)+MAX('MDA3'!J51,'MDA3'!M51))","v":0},{"$f":"IF(AND(COUNTRY_INFO!I51>0,COUNTRY_INFO!I51<4),IF(J51>MAX('MDA1'!M51,MAX('MDA3'!I51,'MDA3'!L51)+MAX('MDA3'!J51,'MDA3'!M51)),MAX('MDA1'!M51,MAX('MDA3'!I51,'MDA3'!L51)+MAX('MDA3'!J51,'MDA3'!M51)),J51),0)","v":0},{"$f":"IF(AND(COUNTRY_INFO!I51>0,COUNTRY_INFO!I51<4), IF(M51/J51*100<>0, IF(M51/J51*100>100,100,M51/J51*100), \"-\"),0)","v":0},{"$f":"COUNTRY_INFO!N51","v":116187},null,null,{"$f":"SUM(MAX('MDA2'!J51, 'T1'!L51, MAX(T3_R1!K51, T3_R2!K51)), MAX('MDA1'!K51, 'MDA2'!K51, 'T1'!M51, MAX(T3_R1!L51, T3_R2!L51)), MAX('MDA1'!L51, 'MDA2'!L51, 'T1'!N51, MAX(T3_R1!M51, T3_R2!M51)))","v":78257},{"$f":"IF(AND(COUNTRY_INFO!J51>1,COUNTRY_INFO!J51<4),IF(COUNTRY_INFO!E51>MAX('MDA2'!J51,'T1'!L51,MAX(T3_R1!K51,T3_R2!K51)),MAX('MDA2'!J51,'T1'!L51,MAX(T3_R1!K51,T3_R2!K51)),COUNTRY_INFO!E51),0)","v":37159},{"$f":"IF(AND(COUNTRY_INFO!J51>1,COUNTRY_INFO!J51<4), IF(T51/COUNTRY_INFO!E51*100<>0, IF(T51/COUNTRY_INFO!E51*100>100,100,T51/COUNTRY_INFO!E51*100), \"-\"),0)","v":100},{"$f":"IF(AND(COUNTRY_INFO!J51>1,COUNTRY_INFO!J51<4),IF(COUNTRY_INFO!F51>MAX('MDA1'!K51,'MDA2'!K51,'T1'!M51,MAX(T3_R1!L51,T3_R2!L51)),MAX('MDA1'!K51,'MDA2'!K51,'T1'!M51,MAX(T3_R1!L51,T3_R2!L51)),COUNTRY_INFO!F51),0)","v":23123},{"$f":"IF(AND(COUNTRY_INFO!J51>1,COUNTRY_INFO!J51<4), IF(V51/COUNTRY_INFO!F51*100<>0, IF(V51/COUNTRY_INFO!F51*100>100,100,V51/COUNTRY_INFO!F51*100), \"-\"),0)","v":29.259249886116312},60282,{"$f":"IF(AND(COUNTRY_INFO!J51>1,COUNTRY_INFO!J51<4), IF(S51/P51*100<>0, IF(X51/P51*100>100,100,X51/P51*100), \"-\"),0)","v":51.883601435616725},{"$f":"COUNTRY_INFO!O51","v":41967},null,null,{"$f":"MAX('T1'!L51,'T2'!J51)+MAX('T1'!M51,'T2'!K51)+MAX('T1'!N51,'T2'!L51)","v":40747},{"$f":"IF(COUNTRY_INFO!K51=1,IF(COUNTRY_INFO!F51*0.33>MAX('T1'!M51,'T2'!K51),MAX('T1'!M51,'T2'!K51),COUNTRY_INFO!F51*0.33),IF(COUNTRY_INFO!K51=2,IF(COUNTRY_INFO!F51*0.5>MAX('T1'!M51,'T2'!K51),MAX('T1'!M51,'T2'!K51),COUNTRY_INFO!F51*0.5),IF(COUNTRY_INFO!K51=3,IF(COUNTRY_INFO!F51>MAX('T1'!M51,'T2'!K51),MAX('T1'!M51,'T2'!K51),COUNTRY_INFO!F51),0)))","v":26079.24},{"$f":"IF(AND(COUNTRY_INFO!K51>0,COUNTRY_INFO!K51<4),IF(Z51>0,IF(COUNTRY_INFO!K51=1, AD51/(COUNTRY_INFO!F51*0.33)*100, IF(COUNTRY_INFO!K51=2, AD51/(COUNTRY_INFO!F51*0.5)*100, IF(COUNTRY_INFO!K51=3, AD51/COUNTRY_INFO!F51*100))),\"-\"),0)","v":100},{"$f":"IF(COUNTRY_INFO!K51=2,IF(COUNTRY_INFO!G51*0.2>MAX('T1'!N51,'T2'!L51),MAX('T1'!N51,'T2'!L51),COUNTRY_INFO!G51*0.2),IF(COUNTRY_INFO!K51=3,IF(COUNTRY_INFO!G51>MAX('T1'!N51,'T2'!L51),MAX('T1'!N51,'T2'!L51),COUNTRY_INFO!G51),0))","v":0},{"$f":"IF(AND(COUNTRY_INFO!K51>0,COUNTRY_INFO!K51<4),IF(Z51>0,IF(COUNTRY_INFO!K51=1, 0, IF(COUNTRY_INFO!K51=2, AF51/(COUNTRY_INFO!G51*0.2)*100, IF(COUNTRY_INFO!K51=3, AF51/COUNTRY_INFO!G51*100))),\"-\"),0)","v":0},26079.24,{"$f":"IF(AND(COUNTRY_INFO!K51>0,COUNTRY_INFO!K51<4), IF(AC51/Z51*100<>0, IF(AH51/Z51*100>100,100,AH51/Z51*100), \"-\"),0)","v":62.142254628636792},null,{"$f":"IF(AND(D51<>0, D51<>\"Unknown\",D51<>\"Stopped\",D51<>\"Not required\"),D51/COUNTRY_INFO!D51, 0)","v":0},{"$f":"IF(AND(J51<>0,J51<>\"Unknown\",J51<>\"Stopped\",J51<>\"Not required\"),J51/COUNTRY_INFO!D51, 0)","v":0},{"$f":"IF(AND(P51<>0,P51<>\"Unknown\",P51<>\"Not required\"),P51/(COUNTRY_INFO!E51+COUNTRY_INFO!F51), 0)","v":1},{"$f":"IF(AND(Z51<>0,Z51<>\"Unknown\",Z51<>\"Not required\"),IF(COUNTRY_INFO!K51=1,1,IF(COUNTRY_INFO!K51=2,0.5*COUNTRY_INFO!F51/(0.5*COUNTRY_INFO!F51+0.2*COUNTRY_INFO!G51),IF(COUNTRY_INFO!K51=3,COUNTRY_INFO!F51/(COUNTRY_INFO!F51+COUNTRY_INFO!G51)))),0)","v":1},{"$f":"IF(AND(Z51<>0,Z51<>\"Unknown\",Z51<>\"Not required\"),IF(COUNTRY_INFO!K51=1,0,IF(COUNTRY_INFO!K51=2,0.2*COUNTRY_INFO!G51/(0.5*COUNTRY_INFO!F51+0.2*COUNTRY_INFO!G51),IF(COUNTRY_INFO!K51=3,COUNTRY_INFO!G51/(COUNTRY_INFO!F51+COUNTRY_INFO!G51)))),0)","v":0},{"$f":"MAX(COUNTRY_INFO!D51*AK51*PROFILE!$G$7,COUNTRY_INFO!D51*AL51*PROFILE!$G$7)","v":0},{"$f":"MAX(COUNTRY_INFO!D51*AK51*PROFILE!$G$8,COUNTRY_INFO!D51*AL51*PROFILE!$G$8,COUNTRY_INFO!D51*AM51*PROFILE!$G$8)","v":37158.968678076264},{"$f":"MAX(COUNTRY_INFO!D51*AK51*PROFILE!$G$9,COUNTRY_INFO!D51*AL51*PROFILE!$G$9,COUNTRY_INFO!D51*AM51*PROFILE!$G$9,IF(AND(DISTRICT!Z51<>\"Unknown\",Z51<>\"Not required\"),COUNTRY_INFO!O51*DISTRICT!AN51,0))","v":79028.277156258948},{"$f":"MAX(COUNTRY_INFO!D51*AK51*PROFILE!$G$10,COUNTRY_INFO!D51*AL51*PROFILE!$G$10,IF(AND(DISTRICT!Z51<>\"Unknown\",Z51<>\"Not required\"),COUNTRY_INFO!O51*DISTRICT!AO51,0))","v":0},116187.24583433522,"Y",{"$f":"MAX('MDA2'!J51,'T1'!L51,'T2'!J51,T3_R1!K51,T3_R2!K51)","v":55134},{"$f":"MAX('MDA1'!K51,'MDA2'!K51,'MDA3'!I51,'MDA3'!L51,'T1'!M51,'T2'!K51,T3_R1!L51,T3_R2!L51)","v":40747},{"$f":"MAX('MDA1'!L51,'MDA2'!L51,'MDA3'!J51,'MDA3'!M51,'T1'!N51,'T2'!L51,T3_R1!M51,T3_R2!M51)","v":0},95881,{"$f":"MAX('MDA2'!J51,T51)","v":37159},{"$f":"MAX('MDA1'!K51,'MDA2'!K51,'MDA3'!I51,'MDA3'!L51,V51,AD51)","v":26079.24},{"$f":"MAX('MDA1'!L51,'MDA2'!L51,'MDA3'!J51,'MDA3'!M51,AF51)","v":0},63238.240000000005,54.427867315288466]
[{"$f":"IF(COUNTRY_INFO!A52=0,\" \",COUNTRY_INFO!A52)","v":"Uganda"},{"$f":"IF(COUNTRY_INFO!B52=0,\" \",COUNTRY_INFO!B52)","v":"Eastern "},{"$f":"IF(COUNTRY_INFO!C52=0,\" \",COUNTRY_INFO!C52)","v":"Kween"},{"$f":"COUNTRY_INFO!L52","v":0},null,null,{"$f":"MAX('MDA1'!M52,'MDA2'!M52)","v":0},{"$f":"IF(AND(COUNTRY_INFO!H52>0,COUNTRY_INFO!H52<4),IF(D52>MAX('MDA1'!M52,'MDA2'!M52),MAX('MDA1'!M52,'MDA2'!M52),D52),0)","v":0},{"$f":"IF(AND(COUNTRY_INFO!H52>0,COUNTRY_INFO!H52<4), IF(G52/D52*100<>0, IF(G52/D52*100>100,100,G52/D52*100), \"-\"),0)","v":0},{"$f":"COUNTRY_INFO!M52","v":0},null,null,{"$f":"MAX('MDA1'!M52,MAX('MDA3'!I52,'MDA3'!L52)+MAX('MDA3'!J52,'MDA3'!M52))","v":0},{"$f":"IF(AND(COUNTRY_INFO!I52>0,COUNTRY_INFO!I52<4),IF(J52>MAX('MDA1'!M52,MAX('MDA3'!I52,'MDA3'!L52)+MAX('MDA3'!J52,'MDA3'!M52)),MAX('MDA1'!M52,MAX('MDA3'!I52,'MDA3'!L52)+MAX('MDA3'!J52,'MDA3'!M52)),J52),0)","v":0},{"$f":"IF(AND(COUNTRY_INFO!I52>0,COUNTRY_INFO!I52<4), IF(M52/J52*100<>0, IF(M52/J52*100>100,100,M52/J52*100), \"-\"),0)","v":0},{"$f":"COUNTRY_INFO!N52","v":45484},null,null,{"$f":"SUM(MAX('MDA2'!J52, 'T1'!L52, MAX(T3_R1!K52, T3_R2!K52)), MAX('MDA1'!K52, 'MDA2'!K52, 'T1'!M52, MAX(T3_R1!L52, T3_R2!L52)), MAX('MDA1'!L52, 'MDA2'!L52, 'T1'!N52, MAX(T3_R1!M52, T3_R2!M52)))","v":49034},{"$f":"IF(AND(COUNTRY_INFO!J52>1,COUNTRY_INFO!J52<4),IF(COUNTRY_INFO!E52>MAX('MDA2'!J52,'T1'!L52,MAX(T3_R1!K52,T3_R2!K52)),MAX('MDA2'!J52,'T1'!L52,MAX(T3_R1!K52,T3_R2!K52)),COUNTRY_INFO!E52),0)","v":14547},{"$f":"IF(AND(COUNTRY_INFO!J52>1,COUNTRY_INFO!J52<4), IF(T52/COUNTRY_INFO!E52*100<>0, IF(T52/COUNTRY_INFO!E52*100>100,100,T52/COUNTRY_INFO!E52*100), \"-\"),0)","v":100},{"$f":"IF(AND(COUNTRY_INFO!J52>1,COUNTRY_INFO!J52<4),IF(COUNTRY_INFO!F52>MAX('MDA1'!K52,'MDA2'!K52,'T1'!M52,MAX(T3_R1!L52,T3_R2!L52)),MAX('MDA1'!K52,'MDA2'!K52,'T1'!M52,MAX(T3_R1!L52,T3_R2!L52)),COUNTRY_INFO!F52),0)","v":17061},{"$f":"IF(AND(COUNTRY_INFO!J52>1,COUNTRY_INFO!J52<4), IF(V52/COUNTRY_INFO!F52*100<>0, IF(V52/COUNTRY_INFO!F52*100>100,100,V52/COUNTRY_INFO!F52*100), \"-\"),0)","v":55.147557940330351},31608,{"$f":"IF(AND(COUNTRY_INFO!J52>1,COUNTRY_INFO!J52<4), IF(S52/P52*100<>0, IF(X52/P52*100>100,100,X52/P52*100), \"-\"),0)","v":69.492568815407623},{"$f":"COUNTRY_INFO!O52","v":3044},null,null,{"$f":"MAX('T1'!L52,'T2'!J52)+MAX('T1'!M52,'T2'!K52)+MAX('T1'!N52,'T2'!L52)","v":2819},{"$f":"IF(COUNTRY_INFO!K52=1,IF(COUNTRY_INFO!F52*0.33>MAX('T1'!M52,'T2'!K52),MAX('T1'!M52,'T2'!K52),COUNTRY_INFO!F52*0.33),IF(COUNTRY_INFO!K52=2,IF(COUNTRY_INFO!F52*0.5>MAX('T1'!M52,'T2'!K52),MAX('T1'!M52,'T2'!K52),COUNTRY_INFO!F52*0.5),IF(COUNTRY_INFO!K52=3,IF(COUNTRY_INFO!F52>MAX('T1'!M52,'T2'!K52),MAX('T1'!M52,'T2'!K52),COUNTRY_INFO!F52),0)))","v":2819},{"$f":"IF(AND(COUNTRY_INFO!K52>0,COUNTRY_INFO!K52<4),IF(Z52>0,IF(COUNTRY_INFO!K52=1, AD52/(COUNTRY_INFO!F52*0.33)*100, IF(COUNTRY_INFO!K52=2, AD52/(COUNTRY_INFO!F52*0.5)*100, IF(COUNTRY_INFO!K52=3, AD52/COUNTRY_INFO!F52*100))),\"-\"),0)","v":27.612322598908239},{"$f":"IF(COUNTRY_INFO!K52=2,IF(COUNTRY_INFO!G52*0.2>MAX('T1'!N52,'T2'!L52),MAX('T1'!N52,'T2'!L52),COUNTRY_INFO!G52*0.2),IF(COUNTRY_INFO!K52=3,IF(COUNTRY_INFO!G52>MAX('T1'!N52,'T2'!L52),MAX('T1'!N52,'T2'!L52),COUNTRY_INFO!G52),0))","v":0},{"$f":"IF(AND(COUNTRY_INFO!K52>0,COUNTRY_INFO!K52<4),IF(Z52>0,IF(COUNTRY_INFO!K52=1, 0, IF(COUNTRY_INFO!K52=2, AF52/(COUNTRY_INFO!G52*0.2)*100, IF(COUNTRY_INFO!K52=3, AF52/COUNTRY_INFO!G52*100))),\"-\"),0)","v":0},2819,{"$f":"IF(AND(COUNTRY_INFO!K52>0,COUNTRY_INFO!K52<4), IF(AC52/Z52*100<>0, IF(AH52/Z52*100>100,100,AH52/Z52*100), \"-\"),0)","v":92.6084099868594},null,{"$f":"IF(AND(D52<>0, D52<>\"Unknown\",D52<>\"Stopped\",D52<>\"Not required\"),D52/COUNTRY_INFO!D52, 0)","v":0},{"$f":"IF(AND(J52<>0,J52<>\"Unknown\",J52<>\"Stopped\",J52<>\"Not required\"),J52/COUNTRY_INFO!D52, 0)","v":0},{"$f":"IF(AND(P52<>0,P52<>\"Unknown\",P52<>\"Not required\"),P52/(COUNTRY_INFO!E52+COUNTRY_INFO!F52), 0)","v":1},{"$f":"IF(AND(Z52<>0,Z52<>\"Unknown\",Z52<>\"Not required\"),IF(COUNTRY_INFO!K52=1,1,IF(COUNTRY_INFO!K52=2,0.5*COUNTRY_INFO!F52/(0.5*COUNTRY_INFO!F52+0.2*COUNTRY_INFO!G52),IF(COUNTRY_INFO!K52=3,COUNTRY_INFO!F52/(COUNTRY_INFO!F52+COUNTRY_INFO!G52)))),0)","v":1},{"$f":"IF(AND(Z52<>0,Z52<>\"Unknown\",Z52<>\"Not required\"),IF(COUNTRY_INFO!K52=1,0,IF(COUNTRY_INFO!K52=2,0.2*COUNTRY_INFO!G52/(0.5*COUNTRY_INFO!F52+0.2*COUNTRY_INFO!G52),IF(COUNTRY_INFO!K52=3,COUNTRY_INFO!G52/(COUNTRY_INFO!F52+COUNTRY_INFO!G52)))),0)","v":0},{"$f":"MAX(COUNTRY_INFO!D52*AK52*PROFILE!$G$7,COUNTRY_INFO!D52*AL52*PROFILE!$G$7)","v":0},{"$f":"MAX(COUNTRY_INFO!D52*AK52*PROFILE!$G$8,COUNTRY_INFO!D52*AL52*PROFILE!$G$8,COUNTRY_INFO!D52*AM52*PROFILE!$G$8)","v":14546.757218923236},{"$f":"MAX(COUNTRY_INFO!D52*AK52*PROFILE!$G$9,COUNTRY_INFO!D52*AL52*PROFILE!$G$9,COUNTRY_INFO!D52*AM52*PROFILE!$G$9,IF(AND(DISTRICT!Z52<>\"Unknown\",Z52<>\"Not required\"),COUNTRY_INFO!O52*DISTRICT!AN52,0))","v":30937.488367381444},{"$f":"MAX(COUNTRY_INFO!D52*AK52*PROFILE!$G$10,COUNTRY_INFO!D52*AL52*PROFILE!$G$10,IF(AND(DISTRICT!Z52<>\"Unknown\",Z52<>\"Not required\"),COUNTRY_INFO!O52*DISTRICT!AO52,0))","v":0},45484.245586304678,"Y",{"$f":"MAX('MDA2'!J52,'T1'!L52,'T2'!J52,T3_R1!K52,T3_R2!K52)","v":31973},{"$f":"MAX('MDA1'!K52,'MDA2'!K52,'MDA3'!I52,'MDA3'!L52,'T1'!M52,'T2'!K52,T3_R1!L52,T3_R2!L52)","v":17061},{"$f":"MAX('MDA1'!L52,'MDA2'!L52,'MDA3'!J52,'MDA3'!M52,'T1'!N52,'T2'!L52,T3_R1!M52,T3_R2!M52)","v":0},49034,{"$f":"MAX('MDA2'!J52,T52)","v":14547},{"$f":"MAX('MDA1'!K52,'MDA2'!K52,'MDA3'!I52,'MDA3'!L52,V52,AD52)","v":17061},{"$f":"MAX('MDA1'!L52,'MDA2'!L52,'MDA3'!J52,'MDA3'!M52,AF52)","v":0},31608,69.492193599265022]
[{"$f":"IF(COUNTRY_INFO!A53=0,\" \",COUNTRY_INFO!A53)","v":"Uganda"},{"$f":"IF(COUNTRY_INFO!B53=0,\" \",COUNTRY_INFO!B53)","v":"Eastern "},{"$f":"IF(COUNTRY_INFO!C53=0,\" \",COUNTRY_INFO!C53)","v":"Luuka"},{"$f":"COUNTRY_INFO!L53","v":"Stopped"},null,null,{"$f":"MAX('MDA1'!M53,'MDA2'!M53)","v":0},{"$f":"IF(AND(COUNTRY_INFO!H53>0,COUNTRY_INFO!H53<4),IF(D53>MAX('MDA1'!M53,'MDA2'!M53),MAX('MDA1'!M53,'MDA2'!M53),D53),0)","v":0},{"$f":"IF(AND(COUNTRY_INFO!H53>0,COUNTRY_INFO!H53<4), IF(G53/D53*100<>0, IF(G53/D53*100>100,100,G53/D53*100), \"-\"),0)","v":0},{"$f":"COUNTRY_INFO!M53","v":0},null,null,{"$f":"MAX('MDA1'!M53,MAX('MDA3'!I53,'MDA3'!L53)+MAX('MDA3'!J53,'MDA3'!M53))","v":0},{"$f":"IF(AND(COUNTRY_INFO!I53>0,COUNTRY_INFO!I53<4),IF(J53>MAX('MDA1'!M53,MAX('MDA3'!I53,'MDA3'!L53)+MAX('MDA3'!J53,'MDA3'!M53)),MAX('MDA1'!M53,MAX('MDA3'!I53,'MDA3'!L53)+MAX('MDA3'!J53,'MDA3'!M53)),J53),0)","v":0},{"$f":"IF(AND(COUNTRY_INFO!I53>0,COUNTRY_INFO!I53<4), IF(M53/J53*100<>0, IF(M53/J53*100>100,100,M53/J53*100), \"-\"),0)","v":0},{"$f":"COUNTRY_INFO!N53","v":115581},null,null,{"$f":"SUM(MAX('MDA2'!J53, 'T1'!L53, MAX(T3_R1!K53, T3_R2!K53)), MAX('MDA1'!K53, 'MDA2'!K53, 'T1'!M53, MAX(T3_R1!L53, T3_R2!L53)), MAX('MDA1'!L53, 'MDA2'!L53, 'T1'!N53, MAX(T3_R1!M53, T3_R2!M53)))","v":84940},{"$f":"IF(AND(COUNTRY_INFO!J53>1,COUNTRY_INFO!J53<4),IF(COUNTRY_INFO!E53>MAX('MDA2'!J53,'T1'!L53,MAX(T3_R1!K53,T3_R2!K53)),MAX('MDA2'!J53,'T1'!L53,MAX(T3_R1!K53,T3_R2!K53)),COUNTRY_INFO!E53),0)","v":36965},{"$f":"IF(AND(COUNTRY_INFO!J53>1,COUNTRY_INFO!J53<4), IF(T53/COUNTRY_INFO!E53*100<>0, IF(T53/COUNTRY_INFO!E53*100>100,100,T53/COUNTRY_INFO!E53*100), \"-\"),0)","v":100},{"$f":"IF(AND(COUNTRY_INFO!J53>1,COUNTRY_INFO!J53<4),IF(COUNTRY_INFO!F53>MAX('MDA1'!K53,'MDA2'!K53,'T1'!M53,MAX(T3_R1!L53,T3_R2!L53)),MAX('MDA1'!K53,'MDA2'!K53,'T1'!M53,MAX(T3_R1!L53,T3_R2!L53)),COUNTRY_INFO!F53),0)","v":20119},{"$f":"IF(AND(COUNTRY_INFO!J53>1,COUNTRY_INFO!J53<4), IF(V53/COUNTRY_INFO!F53*100<>0, IF(V53/COUNTRY_INFO!F53*100>100,100,V53/COUNTRY_INFO!F53*100), \"-\"),0)","v":25.591482649842273},57084,{"$f":"IF(AND(COUNTRY_INFO!J53>1,COUNTRY_INFO!J53<4), IF(S53/P53*100<>0, IF(X53/P53*100>100,100,X53/P53*100), \"-\"),0)","v":49.388740363900638},{"$f":"COUNTRY_INFO!O53","v":84810},null,null,{"$f":"MAX('T1'!L53,'T2'!J53)+MAX('T1'!M53,'T2'!K53)+MAX('T1'!N53,'T2'!L53)","v":79406},{"$f":"IF(COUNTRY_INFO!K53=1,IF(COUNTRY_INFO!F53*0.33>MAX('T1'!M53,'T2'!K53),MAX('T1'!M53,'T2'!K53),COUNTRY_INFO!F53*0.33),IF(COUNTRY_INFO!K53=2,IF(COUNTRY_INFO!F53*0.5>MAX('T1'!M53,'T2'!K53),MAX('T1'!M53,'T2'!K53),COUNTRY_INFO!F53*0.5),IF(COUNTRY_INFO!K53=3,IF(COUNTRY_INFO!F53>MAX('T1'!M53,'T2'!K53),MAX('T1'!M53,'T2'!K53),COUNTRY_INFO!F53),0)))","v":25943.280000000002},{"$f":"IF(AND(COUNTRY_INFO!K53>0,COUNTRY_INFO!K53<4),IF(Z53>0,IF(COUNTRY_INFO!K53=1, AD53/(COUNTRY_INFO!F53*0.33)*100, IF(COUNTRY_INFO!K53=2, AD53/(COUNTRY_INFO!F53*0.5)*100, IF(COUNTRY_INFO!K53=3, AD53/COUNTRY_INFO!F53*100))),\"-\"),0)","v":100},{"$f":"IF(COUNTRY_INFO!K53=2,IF(COUNTRY_INFO!G53*0.2>MAX('T1'!N53,'T2'!L53),MAX('T1'!N53,'T2'!L53),COUNTRY_INFO!G53*0.2),IF(COUNTRY_INFO!K53=3,IF(COUNTRY_INFO!G53>MAX('T1'!N53,'T2'!L53),MAX('T1'!N53,'T2'!L53),COUNTRY_INFO!G53),0))","v":0},{"$f":"IF(AND(COUNTRY_INFO!K53>0,COUNTRY_INFO!K53<4),IF(Z53>0,IF(COUNTRY_INFO!K53=1, 0, IF(COUNTRY_INFO!K53=2, AF53/(COUNTRY_INFO!G53*0.2)*100, IF(COUNTRY_INFO!K53=3, AF53/COUNTRY_INFO!G53*100))),\"-\"),0)","v":0},25943.280000000002,{"$f":"IF(AND(COUNTRY_INFO!K53>0,COUNTRY_INFO!K53<4), IF(AC53/Z53*100<>0, IF(AH53/Z53*100>100,100,AH53/Z53*100), \"-\"),0)","v":30.589883268482492},null,{"$f":"IF(AND(D53<>0, D53<>\"Unknown\",D53<>\"Stopped\",D53<>\"Not required\"),D53/COUNTRY_INFO!D53, 0)","v":0},{"$f":"IF(AND(J53<>0,J53<>\"Unknown\",J53<>\"Stopped\",J53<>\"Not required\"),J53/COUNTRY_INFO!D53, 0)","v":0},{"$f":"IF(AND(P53<>0,P53<>\"Unknown\",P53<>\"Not required\"),P53/(COUNTRY_INFO!E53+COUNTRY_INFO!F53), 0)","v":1},{"$f":"IF(AND(Z53<>0,Z53<>\"Unknown\",Z53<>\"Not required\"),IF(COUNTRY_INFO!K53=1,1,IF(COUNTRY_INFO!K53=2,0.5*COUNTRY_INFO!F53/(0.5*COUNTRY_INFO!F53+0.2*COUNTRY_INFO!G53),IF(COUNTRY_INFO!K53=3,COUNTRY_INFO!F53/(COUNTRY_INFO!F53+COUNTRY_INFO!G53)))),0)","v":1},{"$f":"IF(AND(Z53<>0,Z53<>\"Unknown\",Z53<>\"Not required\"),IF(COUNTRY_INFO!K53=1,0,IF(COUNTRY_INFO!K53=2,0.2*COUNTRY_INFO!G53/(0.5*COUNTRY_INFO!F53+0.2*COUNTRY_INFO!G53),IF(COUNTRY_INFO!K53=3,COUNTRY_INFO!G53/(COUNTRY_INFO!F53+COUNTRY_INFO!G53)))),0)","v":0},{"$f":"MAX(COUNTRY_INFO!D53*AK53*PROFILE!$G$7,COUNTRY_INFO!D53*AL53*PROFILE!$G$7)","v":0},{"$f":"MAX(COUNTRY_INFO!D53*AK53*PROFILE!$G$8,COUNTRY_INFO!D53*AL53*PROFILE!$G$8,COUNTRY_INFO!D53*AM53*PROFILE!$G$8)","v":36965.280768365294},{"$f":"MAX(COUNTRY_INFO!D53*AK53*PROFILE!$G$9,COUNTRY_INFO!D53*AL53*PROFILE!$G$9,COUNTRY_INFO!D53*AM53*PROFILE!$G$9,IF(AND(DISTRICT!Z53<>\"Unknown\",Z53<>\"Not required\"),COUNTRY_INFO!O53*DISTRICT!AN53,0))","v":84810},{"$f":"MAX(COUNTRY_INFO!D53*AK53*PROFILE!$G$10,COUNTRY_INFO!D53*AL53*PROFILE!$G$10,IF(AND(DISTRICT!Z53<>\"Unknown\",Z53<>\"Not required\"),COUNTRY_INFO!O53*DISTRICT!AO53,0))","v":0},121775.28076836529,"Y",{"$f":"MAX('MDA2'!J53,'T1'!L53,'T2'!J53,T3_R1!K53,T3_R2!K53)","v":64821},{"$f":"MAX('MDA1'!K53,'MDA2'!K53,'MDA3'!I53,'MDA3'!L53,'T1'!M53,'T2'!K53,T3_R1!L53,T3_R2!L53)","v":79406},{"$f":"MAX('MDA1'!L53,'MDA2'!L53,'MDA3'!J53,'MDA3'!M53,'T1'!N53,'T2'!L53,T3_R1!M53,T3_R2!M53)","v":0},144227,{"$f":"MAX('MDA2'!J53,T53)","v":36965},{"$f":"MAX('MDA1'!K53,'MDA2'!K53,'MDA3'!I53,'MDA3'!L53,V53,AD53)","v":25943.280000000002},{"$f":"MAX('MDA1'!L53,'MDA2'!L53,'MDA3'!J53,'MDA3'!M53,AF53)","v":0},62908.28,51.659318379779315]
[{"$f":"IF(COUNTRY_INFO!A54=0,\" \",COUNTRY_INFO!A54)","v":"Uganda"},{"$f":"IF(COUNTRY_INFO!B54=0,\" \",COUNTRY_INFO!B54)","v":"Eastern "},{"$f":"IF(COUNTRY_INFO!C54=0,\" \",COUNTRY_INFO!C54)","v":"Manafwa"},{"$f":"COUNTRY_INFO!L54","v":0},null,null,{"$f":"MAX('MDA1'!M54,'MDA2'!M54)","v":0},{"$f":"IF(AND(COUNTRY_INFO!H54>0,COUNTRY_INFO!H54<4),IF(D54>MAX('MDA1'!M54,'MDA2'!M54),MAX('MDA1'!M54,'MDA2'!M54),D54),0)","v":0},{"$f":"IF(AND(COUNTRY_INFO!H54>0,COUNTRY_INFO!H54<4), IF(G54/D54*100<>0, IF(G54/D54*100>100,100,G54/D54*100), \"-\"),0)","v":0},{"$f":"COUNTRY_INFO!M54","v":"Stopped"},null,null,{"$f":"MAX('MDA1'!M54,MAX('MDA3'!I54,'MDA3'!L54)+MAX('MDA3'!J54,'MDA3'!M54))","v":0},{"$f":"IF(AND(COUNTRY_INFO!I54>0,COUNTRY_INFO!I54<4),IF(J54>MAX('MDA1'!M54,MAX('MDA3'!I54,'MDA3'!L54)+MAX('MDA3'!J54,'MDA3'!M54)),MAX('MDA1'!M54,MAX('MDA3'!I54,'MDA3'!L54)+MAX('MDA3'!J54,'MDA3'!M54)),J54),0)","v":0},{"$f":"IF(AND(COUNTRY_INFO!I54>0,COUNTRY_INFO!I54<4), IF(M54/J54*100<>0, IF(M54/J54*100>100,100,M54/J54*100), \"-\"),0)","v":0},{"$f":"COUNTRY_INFO!N54","v":171816},null,null,{"$f":"SUM(MAX('MDA2'!J54, 'T1'!L54, MAX(T3_R1!K54, T3_R2!K54)), MAX('MDA1'!K54, 'MDA2'!K54, 'T1'!M54, MAX(T3_R1!L54, T3_R2!L54)), MAX('MDA1'!L54, 'MDA2'!L54, 'T1'!N54, MAX(T3_R1!M54, T3_R2!M54)))","v":218152},{"$f":"IF(AND(COUNTRY_INFO!J54>1,COUNTRY_INFO!J54<4),IF(COUNTRY_INFO!E54>MAX('MDA2'!J54,'T1'!L54,MAX(T3_R1!K54,T3_R2!K54)),MAX('MDA2'!J54,'T1'!L54,MAX(T3_R1!K54,T3_R2!K54)),COUNTRY_INFO!E54),0)","v":54950},{"$f":"IF(AND(COUNTRY_INFO!J54>1,COUNTRY_INFO!J54<4), IF(T54/COUNTRY_INFO!E54*100<>0, IF(T54/COUNTRY_INFO!E54*100>100,100,T54/COUNTRY_INFO!E54*100), \"-\"),0)","v":100},{"$f":"IF(AND(COUNTRY_INFO!J54>1,COUNTRY_INFO!J54<4),IF(COUNTRY_INFO!F54>MAX('MDA1'!K54,'MDA2'!K54,'T1'!M54,MAX(T3_R1!L54,T3_R2!L54)),MAX('MDA1'!K54,'MDA2'!K54,'T1'!M54,MAX(T3_R1!L54,T3_R2!L54)),COUNTRY_INFO!F54),0)","v":116866},{"$f":"IF(AND(COUNTRY_INFO!J54>1,COUNTRY_INFO!J54<4), IF(V54/COUNTRY_INFO!F54*100<>0, IF(V54/COUNTRY_INFO!F54*100>100,100,V54/COUNTRY_INFO!F54*100), \"-\"),0)","v":100},171816,{"$f":"IF(AND(COUNTRY_INFO!J54>1,COUNTRY_INFO!J54<4), IF(S54/P54*100<>0, IF(X54/P54*100>100,100,X54/P54*100), \"-\"),0)","v":100},{"$f":"COUNTRY_INFO!O54","v":14317},null,null,{"$f":"MAX('T1'!L54,'T2'!J54)+MAX('T1'!M54,'T2'!K54)+MAX('T1'!N54,'T2'!L54)","v":12894},{"$f":"IF(COUNTRY_INFO!K54=1,IF(COUNTRY_INFO!F54*0.33>MAX('T1'!M54,'T2'!K54),MAX('T1'!M54,'T2'!K54),COUNTRY_INFO!F54*0.33),IF(COUNTRY_INFO!K54=2,IF(COUNTRY_INFO!F54*0.5>MAX('T1'!M54,'T2'!K54),MAX('T1'!M54,'T2'!K54),COUNTRY_INFO!F54*0.5),IF(COUNTRY_INFO!K54=3,IF(COUNTRY_INFO!F54>MAX('T1'!M54,'T2'!K54),MAX('T1'!M54,'T2'!K54),COUNTRY_INFO!F54),0)))","v":12894},{"$f":"IF(AND(COUNTRY_INFO!K54>0,COUNTRY_INFO!K54<4),IF(Z54>0,IF(COUNTRY_INFO!K54=1, AD54/(COUNTRY_INFO!F54*0.33)*100, IF(COUNTRY_INFO!K54=2, AD54/(COUNTRY_INFO!F54*0.5)*100, IF(COUNTRY_INFO!K54=3, AD54/COUNTRY_INFO!F54*100))),\"-\"),0)","v":33.433785080970743},{"$f":"IF(COUNTRY_INFO!K54=2,IF(COUNTRY_INFO!G54*0.2>MAX('T1'!N54,'T2'!L54),MAX('T1'!N54,'T2'!L54),COUNTRY_INFO!G54*0.2),IF(COUNTRY_INFO!K54=3,IF(COUNTRY_INFO!G54>MAX('T1'!N54,'T2'!L54),MAX('T1'!N54,'T2'!L54),COUNTRY_INFO!G54),0))","v":0},{"$f":"IF(AND(COUNTRY_INFO!K54>0,COUNTRY_INFO!K54<4),IF(Z54>0,IF(COUNTRY_INFO!K54=1, 0, IF(COUNTRY_INFO!K54=2, AF54/(COUNTRY_INFO!G54*0.2)*100, IF(COUNTRY_INFO!K54=3, AF54/COUNTRY_INFO!G54*100))),\"-\"),0)","v":0},12894,{"$f":"IF(AND(COUNTRY_INFO!K54>0,COUNTRY_INFO!K54<4), IF(AC54/Z54*100<>0, IF(AH54/Z54*100>100,100,AH54/Z54*100), \"-\"),0)","v":90.060766920444223},null,{"$f":"IF(AND(D54<>0, D54<>\"Unknown\",D54<>\"Stopped\",D54<>\"Not required\"),D54/COUNTRY_INFO!D54, 0)","v":0},{"$f":"IF(AND(J54<>0,J54<>\"Unknown\",J54<>\"Stopped\",J54<>\"Not required\"),J54/COUNTRY_INFO!D54, 0)","v":0},{"$f":"IF(AND(P54<>0,P54<>\"Unknown\",P54<>\"Not required\"),P54/(COUNTRY_INFO!E54+COUNTRY_INFO!F54), 0)","v":1},{"$f":"IF(AND(Z54<>0,Z54<>\"Unknown\",Z54<>\"Not required\"),IF(COUNTRY_INFO!K54=1,1,IF(COUNTRY_INFO!K54=2,0.5*COUNTRY_INFO!F54/(0.5*COUNTRY_INFO!F54+0.2*COUNTRY_INFO!G54),IF(COUNTRY_INFO!K54=3,COUNTRY_INFO!F54/(COUNTRY_INFO!F54+COUNTRY_INFO!G54)))),0)","v":1},{"$f":"IF(AND(Z54<>0,Z54<>\"Unknown\",Z54<>\"Not required\"),IF(COUNTRY_INFO!K54=1,0,IF(COUNTRY_INFO!K54=2,0.2*COUNTRY_INFO!G54/(0.5*COUNTRY_INFO!F54+0.2*COUNTRY_INFO!G54),IF(COUNTRY_INFO!K54=3,COUNTRY_INFO!G54/(COUNTRY_INFO!F54+COUNTRY_INFO!G54)))),0)","v":0},{"$f":"MAX(COUNTRY_INFO!D54*AK54*PROFILE!$G$7,COUNTRY_INFO!D54*AL54*PROFILE!$G$7)","v":0},{"$f":"MAX(COUNTRY_INFO!D54*AK54*PROFILE!$G$8,COUNTRY_INFO!D54*AL54*PROFILE!$G$8,COUNTRY_INFO!D54*AM54*PROFILE!$G$8)","v":54949.998384658269},{"$f":"MAX(COUNTRY_INFO!D54*AK54*PROFILE!$G$9,COUNTRY_INFO!D54*AL54*PROFILE!$G$9,COUNTRY_INFO!D54*AM54*PROFILE!$G$9,IF(AND(DISTRICT!Z54<>\"Unknown\",Z54<>\"Not required\"),COUNTRY_INFO!O54*DISTRICT!AN54,0))","v":116865.56049767022},{"$f":"MAX(COUNTRY_INFO!D54*AK54*PROFILE!$G$10,COUNTRY_INFO!D54*AL54*PROFILE!$G$10,IF(AND(DISTRICT!Z54<>\"Unknown\",Z54<>\"Not required\"),COUNTRY_INFO!O54*DISTRICT!AO54,0))","v":0},171815.55888232848,"Y",{"$f":"MAX('MDA2'!J54,'T1'!L54,'T2'!J54,T3_R1!K54,T3_R2!K54)","v":78651},{"$f":"MAX('MDA1'!K54,'MDA2'!K54,'MDA3'!I54,'MDA3'!L54,'T1'!M54,'T2'!K54,T3_R1!L54,T3_R2!L54)","v":139501},{"$f":"MAX('MDA1'!L54,'MDA2'!L54,'MDA3'!J54,'MDA3'!M54,'T1'!N54,'T2'!L54,T3_R1!M54,T3_R2!M54)","v":0},218152,{"$f":"MAX('MDA2'!J54,T54)","v":54950},{"$f":"MAX('MDA1'!K54,'MDA2'!K54,'MDA3'!I54,'MDA3'!L54,V54,AD54)","v":116866},{"$f":"MAX('MDA1'!L54,'MDA2'!L54,'MDA3'!J54,'MDA3'!M54,AF54)","v":0},171815.55888232848,100]
[{"$f":"IF(COUNTRY_INFO!A55=0,\" \",COUNTRY_INFO!A55)","v":"Uganda"},{"$f":"IF(COUNTRY_INFO!B55=0,\" \",COUNTRY_INFO!B55)","v":"Eastern "},{"$f":"IF(COUNTRY_INFO!C55=0,\" \",COUNTRY_INFO!C55)","v":"Mayuge"},{"$f":"COUNTRY_INFO!L55","v":477822},null,null,{"$f":"MAX('MDA1'!M55,'MDA2'!M55)","v":308464},{"$f":"IF(AND(COUNTRY_INFO!H55>0,COUNTRY_INFO!H55<4),IF(D55>MAX('MDA1'!M55,'MDA2'!M55),MAX('MDA1'!M55,'MDA2'!M55),D55),0)","v":308464},{"$f":"IF(AND(COUNTRY_INFO!H55>0,COUNTRY_INFO!H55<4), IF(G55/D55*100<>0, IF(G55/D55*100>100,100,G55/D55*100), \"-\"),0)","v":64.556257351063778},{"$f":"COUNTRY_INFO!M55","v":0},null,null,{"$f":"MAX('MDA1'!M55,MAX('MDA3'!I55,'MDA3'!L55)+MAX('MDA3'!J55,'MDA3'!M55))","v":308464},{"$f":"IF(AND(COUNTRY_INFO!I55>0,COUNTRY_INFO!I55<4),IF(J55>MAX('MDA1'!M55,MAX('MDA3'!I55,'MDA3'!L55)+MAX('MDA3'!J55,'MDA3'!M55)),MAX('MDA1'!M55,MAX('MDA3'!I55,'MDA3'!L55)+MAX('MDA3'!J55,'MDA3'!M55)),J55),0)","v":0},{"$f":"IF(AND(COUNTRY_INFO!I55>0,COUNTRY_INFO!I55<4), IF(M55/J55*100<>0, IF(M55/J55*100>100,100,M55/J55*100), \"-\"),0)","v":0},{"$f":"COUNTRY_INFO!N55","v":212153},null,null,{"$f":"SUM(MAX('MDA2'!J55, 'T1'!L55, MAX(T3_R1!K55, T3_R2!K55)), MAX('MDA1'!K55, 'MDA2'!K55, 'T1'!M55, MAX(T3_R1!L55, T3_R2!L55)), MAX('MDA1'!L55, 'MDA2'!L55, 'T1'!N55, MAX(T3_R1!M55, T3_R2!M55)))","v":353018},{"$f":"IF(AND(COUNTRY_INFO!J55>1,COUNTRY_INFO!J55<4),IF(COUNTRY_INFO!E55>MAX('MDA2'!J55,'T1'!L55,MAX(T3_R1!K55,T3_R2!K55)),MAX('MDA2'!J55,'T1'!L55,MAX(T3_R1!K55,T3_R2!K55)),COUNTRY_INFO!E55),0)","v":44554},{"$f":"IF(AND(COUNTRY_INFO!J55>1,COUNTRY_INFO!J55<4), IF(T55/COUNTRY_INFO!E55*100<>0, IF(T55/COUNTRY_INFO!E55*100>100,100,T55/COUNTRY_INFO!E55*100), \"-\"),0)","v":65.66447067839826},{"$f":"IF(AND(COUNTRY_INFO!J55>1,COUNTRY_INFO!J55<4),IF(COUNTRY_INFO!F55>MAX('MDA1'!K55,'MDA2'!K55,'T1'!M55,MAX(T3_R1!L55,T3_R2!L55)),MAX('MDA1'!K55,'MDA2'!K55,'T1'!M55,MAX(T3_R1!L55,T3_R2!L55)),COUNTRY_INFO!F55),0)","v":113191},{"$f":"IF(AND(COUNTRY_INFO!J55>1,COUNTRY_INFO!J55<4), IF(V55/COUNTRY_INFO!F55*100<>0, IF(V55/COUNTRY_INFO!F55*100>100,100,V55/COUNTRY_INFO!F55*100), \"-\"),0)","v":78.440354257044248},157745,{"$f":"IF(AND(COUNTRY_INFO!J55>1,COUNTRY_INFO!J55<4), IF(S55/P55*100<>0, IF(X55/P55*100>100,100,X55/P55*100), \"-\"),0)","v":74.354357468430806},{"$f":"COUNTRY_INFO!O55","v":139087},null,null,{"$f":"MAX('T1'!L55,'T2'!J55)+MAX('T1'!M55,'T2'!K55)+MAX('T1'!N55,'T2'!L55)","v":107880},{"$f":"IF(COUNTRY_INFO!K55=1,IF(COUNTRY_INFO!F55*0.33>MAX('T1'!M55,'T2'!K55),MAX('T1'!M55,'T2'!K55),COUNTRY_INFO!F55*0.33),IF(COUNTRY_INFO!K55=2,IF(COUNTRY_INFO!F55*0.5>MAX('T1'!M55,'T2'!K55),MAX('T1'!M55,'T2'!K55),COUNTRY_INFO!F55*0.5),IF(COUNTRY_INFO!K55=3,IF(COUNTRY_INFO!F55>MAX('T1'!M55,'T2'!K55),MAX('T1'!M55,'T2'!K55),COUNTRY_INFO!F55),0)))","v":48510},{"$f":"IF(AND(COUNTRY_INFO!K55>0,COUNTRY_INFO!K55<4),IF(Z55>0,IF(COUNTRY_INFO!K55=1, AD55/(COUNTRY_INFO!F55*0.33)*100, IF(COUNTRY_INFO!K55=2, AD55/(COUNTRY_INFO!F55*0.5)*100, IF(COUNTRY_INFO!K55=3, AD55/COUNTRY_INFO!F55*100))),\"-\"),0)","v":33.616997685409764},{"$f":"IF(COUNTRY_INFO!K55=2,IF(COUNTRY_INFO!G55*0.2>MAX('T1'!N55,'T2'!L55),MAX('T1'!N55,'T2'!L55),COUNTRY_INFO!G55*0.2),IF(COUNTRY_INFO!K55=3,IF(COUNTRY_INFO!G55>MAX('T1'!N55,'T2'!L55),MAX('T1'!N55,'T2'!L55),COUNTRY_INFO!G55),0))","v":59370},{"$f":"IF(AND(COUNTRY_INFO!K55>0,COUNTRY_INFO!K55<4),IF(Z55>0,IF(COUNTRY_INFO!K55=1, 0, IF(COUNTRY_INFO!K55=2, AF55/(COUNTRY_INFO!G55*0.2)*100, IF(COUNTRY_INFO!K55=3, AF55/COUNTRY_INFO!G55*100))),\"-\"),0)","v":23.848641266143126},107880,{"$f":"IF(AND(COUNTRY_INFO!K55>0,COUNTRY_INFO!K55<4), IF(AC55/Z55*100<>0, IF(AH55/Z55*100>100,100,AH55/Z55*100), \"-\"),0)","v":77.5629641878824},null,{"$f":"IF(AND(D55<>0, D55<>\"Unknown\",D55<>\"Stopped\",D55<>\"Not required\"),D55/COUNTRY_INFO!D55, 0)","v":1},{"$f":"IF(AND(J55<>0,J55<>\"Unknown\",J55<>\"Stopped\",J55<>\"Not required\"),J55/COUNTRY_INFO!D55, 0)","v":0},{"$f":"IF(AND(P55<>0,P55<>\"Unknown\",P55<>\"Not required\"),P55/(COUNTRY_INFO!E55+COUNTRY_INFO!F55), 0)","v":1},{"$f":"IF(AND(Z55<>0,Z55<>\"Unknown\",Z55<>\"Not required\"),IF(COUNTRY_INFO!K55=1,1,IF(COUNTRY_INFO!K55=2,0.5*COUNTRY_INFO!F55/(0.5*COUNTRY_INFO!F55+0.2*COUNTRY_INFO!G55),IF(COUNTRY_INFO!K55=3,COUNTRY_INFO!F55/(COUNTRY_INFO!F55+COUNTRY_INFO!G55)))),0)","v":0.36695003394812931},{"$f":"IF(AND(Z55<>0,Z55<>\"Unknown\",Z55<>\"Not required\"),IF(COUNTRY_INFO!K55=1,0,IF(COUNTRY_INFO!K55=2,0.2*COUNTRY_INFO!G55/(0.5*COUNTRY_INFO!F55+0.2*COUNTRY_INFO!G55),IF(COUNTRY_INFO!K55=3,COUNTRY_INFO!G55/(COUNTRY_INFO!F55+COUNTRY_INFO!G55)))),0)","v":0.63304996605187069},{"$f":"MAX(COUNTRY_INFO!D55*AK55*PROFILE!$G$7,COUNTRY_INFO!D55*AL55*PROFILE!$G$7)","v":16723.81411160576},{"$f":"MAX(COUNTRY_INFO!D55*AK55*PROFILE!$G$8,COUNTRY_INFO!D55*AL55*PROFILE!$G$8,COUNTRY_INFO!D55*AM55*PROFILE!$G$8)","v":67850.692370905861},{"$f":"MAX(COUNTRY_INFO!D55*AK55*PROFILE!$G$9,COUNTRY_INFO!D55*AL55*PROFILE!$G$9,COUNTRY_INFO!D55*AM55*PROFILE!$G$9,IF(AND(DISTRICT!Z55<>\"Unknown\",Z55<>\"Not required\"),COUNTRY_INFO!O55*DISTRICT!AN55,0))","v":144302.26437085314},{"$f":"MAX(COUNTRY_INFO!D55*AK55*PROFILE!$G$10,COUNTRY_INFO!D55*AL55*PROFILE!$G$10,IF(AND(DISTRICT!Z55<>\"Unknown\",Z55<>\"Not required\"),COUNTRY_INFO!O55*DISTRICT!AO55,0))","v":248945.22914663525},477822,"Y",{"$f":"MAX('MDA2'!J55,'T1'!L55,'T2'!J55,T3_R1!K55,T3_R2!K55)","v":44554},{"$f":"MAX('MDA1'!K55,'MDA2'!K55,'MDA3'!I55,'MDA3'!L55,'T1'!M55,'T2'!K55,T3_R1!L55,T3_R2!L55)","v":113191},{"$f":"MAX('MDA1'!L55,'MDA2'!L55,'MDA3'!J55,'MDA3'!M55,'T1'!N55,'T2'!L55,T3_R1!M55,T3_R2!M55)","v":195273},353018,{"$f":"MAX('MDA2'!J55,T55)","v":44554},{"$f":"MAX('MDA1'!K55,'MDA2'!K55,'MDA3'!I55,'MDA3'!L55,V55,AD55)","v":113191},{"$f":"MAX('MDA1'!L55,'MDA2'!L55,'MDA3'!J55,'MDA3'!M55,AF55)","v":195273},353018,73.880650116570607]
[{"$f":"IF(COUNTRY_INFO!A56=0,\" \",COUNTRY_INFO!A56)","v":"Uganda"},{"$f":"IF(COUNTRY_INFO!B56=0,\" \",COUNTRY_INFO!B56)","v":"Eastern "},{"$f":"IF(COUNTRY_INFO!C56=0,\" \",COUNTRY_INFO!C56)","v":"Mbale"},{"$f":"COUNTRY_INFO!L56","v":0},null,null,{"$f":"MAX('MDA1'!M56,'MDA2'!M56)","v":0},{"$f":"IF(AND(COUNTRY_INFO!H56>0,COUNTRY_INFO!H56<4),IF(D56>MAX('MDA1'!M56,'MDA2'!M56),MAX('MDA1'!M56,'MDA2'!M56),D56),0)","v":0},{"$f":"IF(AND(COUNTRY_INFO!H56>0,COUNTRY_INFO!H56<4), IF(G56/D56*100<>0, IF(G56/D56*100>100,100,G56/D56*100), \"-\"),0)","v":0},{"$f":"COUNTRY_INFO!M56","v":"Stopped"},null,null,{"$f":"MAX('MDA1'!M56,MAX('MDA3'!I56,'MDA3'!L56)+MAX('MDA3'!J56,'MDA3'!M56))","v":0},{"$f":"IF(AND(COUNTRY_INFO!I56>0,COUNTRY_INFO!I56<4),IF(J56>MAX('MDA1'!M56,MAX('MDA3'!I56,'MDA3'!L56)+MAX('MDA3'!J56,'MDA3'!M56)),MAX('MDA1'!M56,MAX('MDA3'!I56,'MDA3'!L56)+MAX('MDA3'!J56,'MDA3'!M56)),J56),0)","v":0},{"$f":"IF(AND(COUNTRY_INFO!I56>0,COUNTRY_INFO!I56<4), IF(M56/J56*100<>0, IF(M56/J56*100>100,100,M56/J56*100), \"-\"),0)","v":0},{"$f":"COUNTRY_INFO!N56","v":237436},null,null,{"$f":"SUM(MAX('MDA2'!J56, 'T1'!L56, MAX(T3_R1!K56, T3_R2!K56)), MAX('MDA1'!K56, 'MDA2'!K56, 'T1'!M56, MAX(T3_R1!L56, T3_R2!L56)), MAX('MDA1'!L56, 'MDA2'!L56, 'T1'!N56, MAX(T3_R1!M56, T3_R2!M56)))","v":124686},{"$f":"IF(AND(COUNTRY_INFO!J56>1,COUNTRY_INFO!J56<4),IF(COUNTRY_INFO!E56>MAX('MDA2'!J56,'T1'!L56,MAX(T3_R1!K56,T3_R2!K56)),MAX('MDA2'!J56,'T1'!L56,MAX(T3_R1!K56,T3_R2!K56)),COUNTRY_INFO!E56),0)","v":74009},{"$f":"IF(AND(COUNTRY_INFO!J56>1,COUNTRY_INFO!J56<4), IF(T56/COUNTRY_INFO!E56*100<>0, IF(T56/COUNTRY_INFO!E56*100>100,100,T56/COUNTRY_INFO!E56*100), \"-\"),0)","v":97.461053241502825},{"$f":"IF(AND(COUNTRY_INFO!J56>1,COUNTRY_INFO!J56<4),IF(COUNTRY_INFO!F56>MAX('MDA1'!K56,'MDA2'!K56,'T1'!M56,MAX(T3_R1!L56,T3_R2!L56)),MAX('MDA1'!K56,'MDA2'!K56,'T1'!M56,MAX(T3_R1!L56,T3_R2!L56)),COUNTRY_INFO!F56),0)","v":50677},{"$f":"IF(AND(COUNTRY_INFO!J56>1,COUNTRY_INFO!J56<4), IF(V56/COUNTRY_INFO!F56*100<>0, IF(V56/COUNTRY_INFO!F56*100>100,100,V56/COUNTRY_INFO!F56*100), \"-\"),0)","v":31.379141666511867},124686,{"$f":"IF(AND(COUNTRY_INFO!J56>1,COUNTRY_INFO!J56<4), IF(S56/P56*100<>0, IF(X56/P56*100>100,100,X56/P56*100), \"-\"),0)","v":52.513519432604994},{"$f":"COUNTRY_INFO!O56","v":4099},null,null,{"$f":"MAX('T1'!L56,'T2'!J56)+MAX('T1'!M56,'T2'!K56)+MAX('T1'!N56,'T2'!L56)","v":4043},{"$f":"IF(COUNTRY_INFO!K56=1,IF(COUNTRY_INFO!F56*0.33>MAX('T1'!M56,'T2'!K56),MAX('T1'!M56,'T2'!K56),COUNTRY_INFO!F56*0.33),IF(COUNTRY_INFO!K56=2,IF(COUNTRY_INFO!F56*0.5>MAX('T1'!M56,'T2'!K56),MAX('T1'!M56,'T2'!K56),COUNTRY_INFO!F56*0.5),IF(COUNTRY_INFO!K56=3,IF(COUNTRY_INFO!F56>MAX('T1'!M56,'T2'!K56),MAX('T1'!M56,'T2'!K56),COUNTRY_INFO!F56),0)))","v":4043},{"$f":"IF(AND(COUNTRY_INFO!K56>0,COUNTRY_INFO!K56<4),IF(Z56>0,IF(COUNTRY_INFO!K56=1, AD56/(COUNTRY_INFO!F56*0.33)*100, IF(COUNTRY_INFO!K56=2, AD56/(COUNTRY_INFO!F56*0.5)*100, IF(COUNTRY_INFO!K56=3, AD56/COUNTRY_INFO!F56*100))),\"-\"),0)","v":7.5861244661051455},{"$f":"IF(COUNTRY_INFO!K56=2,IF(COUNTRY_INFO!G56*0.2>MAX('T1'!N56,'T2'!L56),MAX('T1'!N56,'T2'!L56),COUNTRY_INFO!G56*0.2),IF(COUNTRY_INFO!K56=3,IF(COUNTRY_INFO!G56>MAX('T1'!N56,'T2'!L56),MAX('T1'!N56,'T2'!L56),COUNTRY_INFO!G56),0))","v":0},{"$f":"IF(AND(COUNTRY_INFO!K56>0,COUNTRY_INFO!K56<4),IF(Z56>0,IF(COUNTRY_INFO!K56=1, 0, IF(COUNTRY_INFO!K56=2, AF56/(COUNTRY_INFO!G56*0.2)*100, IF(COUNTRY_INFO!K56=3, AF56/COUNTRY_INFO!G56*100))),\"-\"),0)","v":0},4043,{"$f":"IF(AND(COUNTRY_INFO!K56>0,COUNTRY_INFO!K56<4), IF(AC56/Z56*100<>0, IF(AH56/Z56*100>100,100,AH56/Z56*100), \"-\"),0)","v":98.633813125152486},null,{"$f":"IF(AND(D56<>0, D56<>\"Unknown\",D56<>\"Stopped\",D56<>\"Not required\"),D56/COUNTRY_INFO!D56, 0)","v":0},{"$f":"IF(AND(J56<>0,J56<>\"Unknown\",J56<>\"Stopped\",J56<>\"Not required\"),J56/COUNTRY_INFO!D56, 0)","v":0},{"$f":"IF(AND(P56<>0,P56<>\"Unknown\",P56<>\"Not required\"),P56/(COUNTRY_INFO!E56+COUNTRY_INFO!F56), 0)","v":1},{"$f":"IF(AND(Z56<>0,Z56<>\"Unknown\",Z56<>\"Not required\"),IF(COUNTRY_INFO!K56=1,1,IF(COUNTRY_INFO!K56=2,0.5*COUNTRY_INFO!F56/(0.5*COUNTRY_INFO!F56+0.2*COUNTRY_INFO!G56),IF(COUNTRY_INFO!K56=3,COUNTRY_INFO!F56/(COUNTRY_INFO!F56+COUNTRY_INFO!G56)))),0)","v":1},{"$f":"IF(AND(Z56<>0,Z56<>\"Unknown\",Z56<>\"Not required\"),IF(COUNTRY_INFO!K56=1,0,IF(COUNTRY_INFO!K56=2,0.2*COUNTRY_INFO!G56/(0.5*COUNTRY_INFO!F56+0.2*COUNTRY_INFO!G56),IF(COUNTRY_INFO!K56=3,COUNTRY_INFO!G56/(COUNTRY_INFO!F56+COUNTRY_INFO!G56)))),0)","v":0},{"$f":"MAX(COUNTRY_INFO!D56*AK56*PROFILE!$G$7,COUNTRY_INFO!D56*AL56*PROFILE!$G$7)","v":0},{"$f":"MAX(COUNTRY_INFO!D56*AK56*PROFILE!$G$8,COUNTRY_INFO!D56*AL56*PROFILE!$G$8,COUNTRY_INFO!D56*AM56*PROFILE!$G$8)","v":75936.736601537486},{"$f":"MAX(COUNTRY_INFO!D56*AK56*PROFILE!$G$9,COUNTRY_INFO!D56*AL56*PROFILE!$G$9,COUNTRY_INFO!D56*AM56*PROFILE!$G$9,IF(AND(DISTRICT!Z56<>\"Unknown\",Z56<>\"Not required\"),COUNTRY_INFO!O56*DISTRICT!AN56,0))","v":161499.35479853093},{"$f":"MAX(COUNTRY_INFO!D56*AK56*PROFILE!$G$10,COUNTRY_INFO!D56*AL56*PROFILE!$G$10,IF(AND(DISTRICT!Z56<>\"Unknown\",Z56<>\"Not required\"),COUNTRY_INFO!O56*DISTRICT!AO56,0))","v":0},237436.09140006843,"Y",{"$f":"MAX('MDA2'!J56,'T1'!L56,'T2'!J56,T3_R1!K56,T3_R2!K56)","v":74009},{"$f":"MAX('MDA1'!K56,'MDA2'!K56,'MDA3'!I56,'MDA3'!L56,'T1'!M56,'T2'!K56,T3_R1!L56,T3_R2!L56)","v":50677},{"$f":"MAX('MDA1'!L56,'MDA2'!L56,'MDA3'!J56,'MDA3'!M56,'T1'!N56,'T2'!L56,T3_R1!M56,T3_R2!M56)","v":0},124686,{"$f":"MAX('MDA2'!J56,T56)","v":74009},{"$f":"MAX('MDA1'!K56,'MDA2'!K56,'MDA3'!I56,'MDA3'!L56,V56,AD56)","v":50677},{"$f":"MAX('MDA1'!L56,'MDA2'!L56,'MDA3'!J56,'MDA3'!M56,AF56)","v":0},124686,52.5134992177369]
[{"$f":"IF(COUNTRY_INFO!A57=0,\" \",COUNTRY_INFO!A57)","v":"Uganda"},{"$f":"IF(COUNTRY_INFO!B57=0,\" \",COUNTRY_INFO!B57)","v":"Eastern "},{"$f":"IF(COUNTRY_INFO!C57=0,\" \",COUNTRY_INFO!C57)","v":"Namayingo"},{"$f":"COUNTRY_INFO!L57","v":259657},null,null,{"$f":"MAX('MDA1'!M57,'MDA2'!M57)","v":167372},{"$f":"IF(AND(COUNTRY_INFO!H57>0,COUNTRY_INFO!H57<4),IF(D57>MAX('MDA1'!M57,'MDA2'!M57),MAX('MDA1'!M57,'MDA2'!M57),D57),0)","v":167372},{"$f":"IF(AND(COUNTRY_INFO!H57>0,COUNTRY_INFO!H57<4), IF(G57/D57*100<>0, IF(G57/D57*100>100,100,G57/D57*100), \"-\"),0)","v":64.458882294719572},{"$f":"COUNTRY_INFO!M57","v":0},null,null,{"$f":"MAX('MDA1'!M57,MAX('MDA3'!I57,'MDA3'!L57)+MAX('MDA3'!J57,'MDA3'!M57))","v":167372},{"$f":"IF(AND(COUNTRY_INFO!I57>0,COUNTRY_INFO!I57<4),IF(J57>MAX('MDA1'!M57,MAX('MDA3'!I57,'MDA3'!L57)+MAX('MDA3'!J57,'MDA3'!M57)),MAX('MDA1'!M57,MAX('MDA3'!I57,'MDA3'!L57)+MAX('MDA3'!J57,'MDA3'!M57)),J57),0)","v":0},{"$f":"IF(AND(COUNTRY_INFO!I57>0,COUNTRY_INFO!I57<4), IF(M57/J57*100<>0, IF(M57/J57*100>100,100,M57/J57*100), \"-\"),0)","v":0},{"$f":"COUNTRY_INFO!N57","v":115287},null,null,{"$f":"SUM(MAX('MDA2'!J57, 'T1'!L57, MAX(T3_R1!K57, T3_R2!K57)), MAX('MDA1'!K57, 'MDA2'!K57, 'T1'!M57, MAX(T3_R1!L57, T3_R2!L57)), MAX('MDA1'!L57, 'MDA2'!L57, 'T1'!N57, MAX(T3_R1!M57, T3_R2!M57)))","v":205387},{"$f":"IF(AND(COUNTRY_INFO!J57>1,COUNTRY_INFO!J57<4),IF(COUNTRY_INFO!E57>MAX('MDA2'!J57,'T1'!L57,MAX(T3_R1!K57,T3_R2!K57)),MAX('MDA2'!J57,'T1'!L57,MAX(T3_R1!K57,T3_R2!K57)),COUNTRY_INFO!E57),0)","v":36871},{"$f":"IF(AND(COUNTRY_INFO!J57>1,COUNTRY_INFO!J57<4), IF(T57/COUNTRY_INFO!E57*100<>0, IF(T57/COUNTRY_INFO!E57*100>100,100,T57/COUNTRY_INFO!E57*100), \"-\"),0)","v":100},{"$f":"IF(AND(COUNTRY_INFO!J57>1,COUNTRY_INFO!J57<4),IF(COUNTRY_INFO!F57>MAX('MDA1'!K57,'MDA2'!K57,'T1'!M57,MAX(T3_R1!L57,T3_R2!L57)),MAX('MDA1'!K57,'MDA2'!K57,'T1'!M57,MAX(T3_R1!L57,T3_R2!L57)),COUNTRY_INFO!F57),0)","v":61417},{"$f":"IF(AND(COUNTRY_INFO!J57>1,COUNTRY_INFO!J57<4), IF(V57/COUNTRY_INFO!F57*100<>0, IF(V57/COUNTRY_INFO!F57*100>100,100,V57/COUNTRY_INFO!F57*100), \"-\"),0)","v":78.322026117118952},98288,{"$f":"IF(AND(COUNTRY_INFO!J57>1,COUNTRY_INFO!J57<4), IF(S57/P57*100<>0, IF(X57/P57*100>100,100,X57/P57*100), \"-\"),0)","v":85.255059113343222},{"$f":"COUNTRY_INFO!O57","v":203497},null,null,{"$f":"MAX('T1'!L57,'T2'!J57)+MAX('T1'!M57,'T2'!K57)+MAX('T1'!N57,'T2'!L57)","v":163542},{"$f":"IF(COUNTRY_INFO!K57=1,IF(COUNTRY_INFO!F57*0.33>MAX('T1'!M57,'T2'!K57),MAX('T1'!M57,'T2'!K57),COUNTRY_INFO!F57*0.33),IF(COUNTRY_INFO!K57=2,IF(COUNTRY_INFO!F57*0.5>MAX('T1'!M57,'T2'!K57),MAX('T1'!M57,'T2'!K57),COUNTRY_INFO!F57*0.5),IF(COUNTRY_INFO!K57=3,IF(COUNTRY_INFO!F57>MAX('T1'!M57,'T2'!K57),MAX('T1'!M57,'T2'!K57),COUNTRY_INFO!F57),0)))","v":67125},{"$f":"IF(AND(COUNTRY_INFO!K57>0,COUNTRY_INFO!K57<4),IF(Z57>0,IF(COUNTRY_INFO!K57=1, AD57/(COUNTRY_INFO!F57*0.33)*100, IF(COUNTRY_INFO!K57=2, AD57/(COUNTRY_INFO!F57*0.5)*100, IF(COUNTRY_INFO!K57=3, AD57/COUNTRY_INFO!F57*100))),\"-\"),0)","v":85.601152825953889},{"$f":"IF(COUNTRY_INFO!K57=2,IF(COUNTRY_INFO!G57*0.2>MAX('T1'!N57,'T2'!L57),MAX('T1'!N57,'T2'!L57),COUNTRY_INFO!G57*0.2),IF(COUNTRY_INFO!K57=3,IF(COUNTRY_INFO!G57>MAX('T1'!N57,'T2'!L57),MAX('T1'!N57,'T2'!L57),COUNTRY_INFO!G57),0))","v":96417},{"$f":"IF(AND(COUNTRY_INFO!K57>0,COUNTRY_INFO!K57<4),IF(Z57>0,IF(COUNTRY_INFO!K57=1, 0, IF(COUNTRY_INFO!K57=2, AF57/(COUNTRY_INFO!G57*0.2)*100, IF(COUNTRY_INFO!K57=3, AF57/COUNTRY_INFO!G57*100))),\"-\"),0)","v":71.27164938165744},163542,{"$f":"IF(AND(COUNTRY_INFO!K57>0,COUNTRY_INFO!K57<4), IF(AC57/Z57*100<>0, IF(AH57/Z57*100>100,100,AH57/Z57*100), \"-\"),0)","v":80.365803918485284},null,{"$f":"IF(AND(D57<>0, D57<>\"Unknown\",D57<>\"Stopped\",D57<>\"Not required\"),D57/COUNTRY_INFO!D57, 0)","v":1},{"$f":"IF(AND(J57<>0,J57<>\"Unknown\",J57<>\"Stopped\",J57<>\"Not required\"),J57/COUNTRY_INFO!D57, 0)","v":0},{"$f":"IF(AND(P57<>0,P57<>\"Unknown\",P57<>\"Not required\"),P57/(COUNTRY_INFO!E57+COUNTRY_INFO!F57), 0)","v":1},{"$f":"IF(AND(Z57<>0,Z57<>\"Unknown\",Z57<>\"Not required\"),IF(COUNTRY_INFO!K57=1,1,IF(COUNTRY_INFO!K57=2,0.5*COUNTRY_INFO!F57/(0.5*COUNTRY_INFO!F57+0.2*COUNTRY_INFO!G57),IF(COUNTRY_INFO!K57=3,COUNTRY_INFO!F57/(COUNTRY_INFO!F57+COUNTRY_INFO!G57)))),0)","v":0.36694946583246374},{"$f":"IF(AND(Z57<>0,Z57<>\"Unknown\",Z57<>\"Not required\"),IF(COUNTRY_INFO!K57=1,0,IF(COUNTRY_INFO!K57=2,0.2*COUNTRY_INFO!G57/(0.5*COUNTRY_INFO!F57+0.2*COUNTRY_INFO!G57),IF(COUNTRY_INFO!K57=3,COUNTRY_INFO!G57/(COUNTRY_INFO!F57+COUNTRY_INFO!G57)))),0)","v":0.63305053416753632},{"$f":"MAX(COUNTRY_INFO!D57*AK57*PROFILE!$G$7,COUNTRY_INFO!D57*AL57*PROFILE!$G$7)","v":9088.0189710335999},{"$f":"MAX(COUNTRY_INFO!D57*AK57*PROFILE!$G$8,COUNTRY_INFO!D57*AL57*PROFILE!$G$8,COUNTRY_INFO!D57*AM57*PROFILE!$G$8)","v":36871.276812185926},{"$f":"MAX(COUNTRY_INFO!D57*AK57*PROFILE!$G$9,COUNTRY_INFO!D57*AL57*PROFILE!$G$9,COUNTRY_INFO!D57*AM57*PROFILE!$G$9,IF(AND(DISTRICT!Z57<>\"Unknown\",Z57<>\"Not required\"),COUNTRY_INFO!O57*DISTRICT!AN57,0))","v":78416.425069885052},{"$f":"MAX(COUNTRY_INFO!D57*AK57*PROFILE!$G$10,COUNTRY_INFO!D57*AL57*PROFILE!$G$10,IF(AND(DISTRICT!Z57<>\"Unknown\",Z57<>\"Not required\"),COUNTRY_INFO!O57*DISTRICT!AO57,0))","v":135281.27914689542},259657,"Y",{"$f":"MAX('MDA2'!J57,'T1'!L57,'T2'!J57,T3_R1!K57,T3_R2!K57)","v":38015},{"$f":"MAX('MDA1'!K57,'MDA2'!K57,'MDA3'!I57,'MDA3'!L57,'T1'!M57,'T2'!K57,T3_R1!L57,T3_R2!L57)","v":67125},{"$f":"MAX('MDA1'!L57,'MDA2'!L57,'MDA3'!J57,'MDA3'!M57,'T1'!N57,'T2'!L57,T3_R1!M57,T3_R2!M57)","v":105955},211095,{"$f":"MAX('MDA2'!J57,T57)","v":36871},{"$f":"MAX('MDA1'!K57,'MDA2'!K57,'MDA3'!I57,'MDA3'!L57,V57,AD57)","v":67125},{"$f":"MAX('MDA1'!L57,'MDA2'!L57,'MDA3'!J57,'MDA3'!M57,AF57)","v":105955},209951,80.857053728572694]
[{"$f":"IF(COUNTRY_INFO!A58=0,\" \",COUNTRY_INFO!A58)","v":"Uganda"},{"$f":"IF(COUNTRY_INFO!B58=0,\" \",COUNTRY_INFO!B58)","v":"Eastern "},{"$f":"IF(COUNTRY_INFO!C58=0,\" \",COUNTRY_INFO!C58)","v":"Namutumba"},{"$f":"COUNTRY_INFO!L58","v":"Stopped"},null,null,{"$f":"MAX('MDA1'!M58,'MDA2'!M58)","v":0},{"$f":"IF(AND(COUNTRY_INFO!H58>0,COUNTRY_INFO!H58<4),IF(D58>MAX('MDA1'!M58,'MDA2'!M58),MAX('MDA1'!M58,'MDA2'!M58),D58),0)","v":0},{"$f":"IF(AND(COUNTRY_INFO!H58>0,COUNTRY_INFO!H58<4), IF(G58/D58*100<>0, IF(G58/D58*100>100,100,G58/D58*100), \"-\"),0)","v":0},{"$f":"COUNTRY_INFO!M58","v":0},null,null,{"$f":"MAX('MDA1'!M58,MAX('MDA3'!I58,'MDA3'!L58)+MAX('MDA3'!J58,'MDA3'!M58))","v":0},{"$f":"IF(AND(COUNTRY_INFO!I58>0,COUNTRY_INFO!I58<4),IF(J58>MAX('MDA1'!M58,MAX('MDA3'!I58,'MDA3'!L58)+MAX('MDA3'!J58,'MDA3'!M58)),MAX('MDA1'!M58,MAX('MDA3'!I58,'MDA3'!L58)+MAX('MDA3'!J58,'MDA3'!M58)),J58),0)","v":0},{"$f":"IF(AND(COUNTRY_INFO!I58>0,COUNTRY_INFO!I58<4), IF(M58/J58*100<>0, IF(M58/J58*100>100,100,M58/J58*100), \"-\"),0)","v":0},{"$f":"COUNTRY_INFO!N58","v":122643},null,null,{"$f":"SUM(MAX('MDA2'!J58, 'T1'!L58, MAX(T3_R1!K58, T3_R2!K58)), MAX('MDA1'!K58, 'MDA2'!K58, 'T1'!M58, MAX(T3_R1!L58, T3_R2!L58)), MAX('MDA1'!L58, 'MDA2'!L58, 'T1'!N58, MAX(T3_R1!M58, T3_R2!M58)))","v":68661},{"$f":"IF(AND(COUNTRY_INFO!J58>1,COUNTRY_INFO!J58<4),IF(COUNTRY_INFO!E58>MAX('MDA2'!J58,'T1'!L58,MAX(T3_R1!K58,T3_R2!K58)),MAX('MDA2'!J58,'T1'!L58,MAX(T3_R1!K58,T3_R2!K58)),COUNTRY_INFO!E58),0)","v":25601},{"$f":"IF(AND(COUNTRY_INFO!J58>1,COUNTRY_INFO!J58<4), IF(T58/COUNTRY_INFO!E58*100<>0, IF(T58/COUNTRY_INFO!E58*100>100,100,T58/COUNTRY_INFO!E58*100), \"-\"),0)","v":65.268713032837027},{"$f":"IF(AND(COUNTRY_INFO!J58>1,COUNTRY_INFO!J58<4),IF(COUNTRY_INFO!F58>MAX('MDA1'!K58,'MDA2'!K58,'T1'!M58,MAX(T3_R1!L58,T3_R2!L58)),MAX('MDA1'!K58,'MDA2'!K58,'T1'!M58,MAX(T3_R1!L58,T3_R2!L58)),COUNTRY_INFO!F58),0)","v":43060},{"$f":"IF(AND(COUNTRY_INFO!J58>1,COUNTRY_INFO!J58<4), IF(V58/COUNTRY_INFO!F58*100<>0, IF(V58/COUNTRY_INFO!F58*100>100,100,V58/COUNTRY_INFO!F58*100), \"-\"),0)","v":51.618935734065388},68661,{"$f":"IF(AND(COUNTRY_INFO!J58>1,COUNTRY_INFO!J58<4), IF(S58/P58*100<>0, IF(X58/P58*100>100,100,X58/P58*100), \"-\"),0)","v":55.984442650620089},{"$f":"COUNTRY_INFO!O58","v":99757},null,null,{"$f":"MAX('T1'!L58,'T2'!J58)+MAX('T1'!M58,'T2'!K58)+MAX('T1'!N58,'T2'!L58)","v":63941},{"$f":"IF(COUNTRY_INFO!K58=1,IF(COUNTRY_INFO!F58*0.33>MAX('T1'!M58,'T2'!K58),MAX('T1'!M58,'T2'!K58),COUNTRY_INFO!F58*0.33),IF(COUNTRY_INFO!K58=2,IF(COUNTRY_INFO!F58*0.5>MAX('T1'!M58,'T2'!K58),MAX('T1'!M58,'T2'!K58),COUNTRY_INFO!F58*0.5),IF(COUNTRY_INFO!K58=3,IF(COUNTRY_INFO!F58>MAX('T1'!M58,'T2'!K58),MAX('T1'!M58,'T2'!K58),COUNTRY_INFO!F58),0)))","v":27528.27},{"$f":"IF(AND(COUNTRY_INFO!K58>0,COUNTRY_INFO!K58<4),IF(Z58>0,IF(COUNTRY_INFO!K58=1, AD58/(COUNTRY_INFO!F58*0.33)*100, IF(COUNTRY_INFO!K58=2, AD58/(COUNTRY_INFO!F58*0.5)*100, IF(COUNTRY_INFO!K58=3, AD58/COUNTRY_INFO!F58*100))),\"-\"),0)","v":100},{"$f":"IF(COUNTRY_INFO!K58=2,IF(COUNTRY_INFO!G58*0.2>MAX('T1'!N58,'T2'!L58),MAX('T1'!N58,'T2'!L58),COUNTRY_INFO!G58*0.2),IF(COUNTRY_INFO!K58=3,IF(COUNTRY_INFO!G58>MAX('T1'!N58,'T2'!L58),MAX('T1'!N58,'T2'!L58),COUNTRY_INFO!G58),0))","v":0},{"$f":"IF(AND(COUNTRY_INFO!K58>0,COUNTRY_INFO!K58<4),IF(Z58>0,IF(COUNTRY_INFO!K58=1, 0, IF(COUNTRY_INFO!K58=2, AF58/(COUNTRY_INFO!G58*0.2)*100, IF(COUNTRY_INFO!K58=3, AF58/COUNTRY_INFO!G58*100))),\"-\"),0)","v":0},27528.27,{"$f":"IF(AND(COUNTRY_INFO!K58>0,COUNTRY_INFO!K58<4), IF(AC58/Z58*100<>0, IF(AH58/Z58*100>100,100,AH58/Z58*100), \"-\"),0)","v":27.595326643744301},null,{"$f":"IF(AND(D58<>0, D58<>\"Unknown\",D58<>\"Stopped\",D58<>\"Not required\"),D58/COUNTRY_INFO!D58, 0)","v":0},{"$f":"IF(AND(J58<>0,J58<>\"Unknown\",J58<>\"Stopped\",J58<>\"Not required\"),J58/COUNTRY_INFO!D58, 0)","v":0},{"$f":"IF(AND(P58<>0,P58<>\"Unknown\",P58<>\"Not required\"),P58/(COUNTRY_INFO!E58+COUNTRY_INFO!F58), 0)","v":1},{"$f":"IF(AND(Z58<>0,Z58<>\"Unknown\",Z58<>\"Not required\"),IF(COUNTRY_INFO!K58=1,1,IF(COUNTRY_INFO!K58=2,0.5*COUNTRY_INFO!F58/(0.5*COUNTRY_INFO!F58+0.2*COUNTRY_INFO!G58),IF(COUNTRY_INFO!K58=3,COUNTRY_INFO!F58/(COUNTRY_INFO!F58+COUNTRY_INFO!G58)))),0)","v":1},{"$f":"IF(AND(Z58<>0,Z58<>\"Unknown\",Z58<>\"Not required\"),IF(COUNTRY_INFO!K58=1,0,IF(COUNTRY_INFO!K58=2,0.2*COUNTRY_INFO!G58/(0.5*COUNTRY_INFO!F58+0.2*COUNTRY_INFO!G58),IF(COUNTRY_INFO!K58=3,COUNTRY_INFO!G58/(COUNTRY_INFO!F58+COUNTRY_INFO!G58)))),0)","v":0},{"$f":"MAX(COUNTRY_INFO!D58*AK58*PROFILE!$G$7,COUNTRY_INFO!D58*AL58*PROFILE!$G$7)","v":0},{"$f":"MAX(COUNTRY_INFO!D58*AK58*PROFILE!$G$8,COUNTRY_INFO!D58*AL58*PROFILE!$G$8,COUNTRY_INFO!D58*AM58*PROFILE!$G$8)","v":39223.647715611107},{"$f":"MAX(COUNTRY_INFO!D58*AK58*PROFILE!$G$9,COUNTRY_INFO!D58*AL58*PROFILE!$G$9,COUNTRY_INFO!D58*AM58*PROFILE!$G$9,IF(AND(DISTRICT!Z58<>\"Unknown\",Z58<>\"Not required\"),COUNTRY_INFO!O58*DISTRICT!AN58,0))","v":99757},{"$f":"MAX(COUNTRY_INFO!D58*AK58*PROFILE!$G$10,COUNTRY_INFO!D58*AL58*PROFILE!$G$10,IF(AND(DISTRICT!Z58<>\"Unknown\",Z58<>\"Not required\"),COUNTRY_INFO!O58*DISTRICT!AO58,0))","v":0},138980.64771561109,"Y",{"$f":"MAX('MDA2'!J58,'T1'!L58,'T2'!J58,T3_R1!K58,T3_R2!K58)","v":25601},{"$f":"MAX('MDA1'!K58,'MDA2'!K58,'MDA3'!I58,'MDA3'!L58,'T1'!M58,'T2'!K58,T3_R1!L58,T3_R2!L58)","v":63941},{"$f":"MAX('MDA1'!L58,'MDA2'!L58,'MDA3'!J58,'MDA3'!M58,'T1'!N58,'T2'!L58,T3_R1!M58,T3_R2!M58)","v":0},89542,{"$f":"MAX('MDA2'!J58,T58)","v":25601},{"$f":"MAX('MDA1'!K58,'MDA2'!K58,'MDA3'!I58,'MDA3'!L58,V58,AD58)","v":43060},{"$f":"MAX('MDA1'!L58,'MDA2'!L58,'MDA3'!J58,'MDA3'!M58,AF58)","v":0},68661,49.403281052839418]
[{"$f":"IF(COUNTRY_INFO!A59=0,\" \",COUNTRY_INFO!A59)","v":"Uganda"},{"$f":"IF(COUNTRY_INFO!B59=0,\" \",COUNTRY_INFO!B59)","v":"Eastern "},{"$f":"IF(COUNTRY_INFO!C59=0,\" \",COUNTRY_INFO!C59)","v":"Ngora"},{"$f":"COUNTRY_INFO!L59","v":"Stopped"},null,null,{"$f":"MAX('MDA1'!M59,'MDA2'!M59)","v":0},{"$f":"IF(AND(COUNTRY_INFO!H59>0,COUNTRY_INFO!H59<4),IF(D59>MAX('MDA1'!M59,'MDA2'!M59),MAX('MDA1'!M59,'MDA2'!M59),D59),0)","v":0},{"$f":"IF(AND(COUNTRY_INFO!H59>0,COUNTRY_INFO!H59<4), IF(G59/D59*100<>0, IF(G59/D59*100>100,100,G59/D59*100), \"-\"),0)","v":0},{"$f":"COUNTRY_INFO!M59","v":0},null,null,{"$f":"MAX('MDA1'!M59,MAX('MDA3'!I59,'MDA3'!L59)+MAX('MDA3'!J59,'MDA3'!M59))","v":0},{"$f":"IF(AND(COUNTRY_INFO!I59>0,COUNTRY_INFO!I59<4),IF(J59>MAX('MDA1'!M59,MAX('MDA3'!I59,'MDA3'!L59)+MAX('MDA3'!J59,'MDA3'!M59)),MAX('MDA1'!M59,MAX('MDA3'!I59,'MDA3'!L59)+MAX('MDA3'!J59,'MDA3'!M59)),J59),0)","v":0},{"$f":"IF(AND(COUNTRY_INFO!I59>0,COUNTRY_INFO!I59<4), IF(M59/J59*100<>0, IF(M59/J59*100>100,100,M59/J59*100), \"-\"),0)","v":0},{"$f":"COUNTRY_INFO!N59","v":68915},null,null,{"$f":"SUM(MAX('MDA2'!J59, 'T1'!L59, MAX(T3_R1!K59, T3_R2!K59)), MAX('MDA1'!K59, 'MDA2'!K59, 'T1'!M59, MAX(T3_R1!L59, T3_R2!L59)), MAX('MDA1'!L59, 'MDA2'!L59, 'T1'!N59, MAX(T3_R1!M59, T3_R2!M59)))","v":40529},{"$f":"IF(AND(COUNTRY_INFO!J59>1,COUNTRY_INFO!J59<4),IF(COUNTRY_INFO!E59>MAX('MDA2'!J59,'T1'!L59,MAX(T3_R1!K59,T3_R2!K59)),MAX('MDA2'!J59,'T1'!L59,MAX(T3_R1!K59,T3_R2!K59)),COUNTRY_INFO!E59),0)","v":22040},{"$f":"IF(AND(COUNTRY_INFO!J59>1,COUNTRY_INFO!J59<4), IF(T59/COUNTRY_INFO!E59*100<>0, IF(T59/COUNTRY_INFO!E59*100>100,100,T59/COUNTRY_INFO!E59*100), \"-\"),0)","v":100},{"$f":"IF(AND(COUNTRY_INFO!J59>1,COUNTRY_INFO!J59<4),IF(COUNTRY_INFO!F59>MAX('MDA1'!K59,'MDA2'!K59,'T1'!M59,MAX(T3_R1!L59,T3_R2!L59)),MAX('MDA1'!K59,'MDA2'!K59,'T1'!M59,MAX(T3_R1!L59,T3_R2!L59)),COUNTRY_INFO!F59),0)","v":15767},{"$f":"IF(AND(COUNTRY_INFO!J59>1,COUNTRY_INFO!J59<4), IF(V59/COUNTRY_INFO!F59*100<>0, IF(V59/COUNTRY_INFO!F59*100>100,100,V59/COUNTRY_INFO!F59*100), \"-\"),0)","v":33.636266666666664},37807,{"$f":"IF(AND(COUNTRY_INFO!J59>1,COUNTRY_INFO!J59<4), IF(S59/P59*100<>0, IF(X59/P59*100>100,100,X59/P59*100), \"-\"),0)","v":54.86033519553073},{"$f":"COUNTRY_INFO!O59","v":48870},null,null,{"$f":"MAX('T1'!L59,'T2'!J59)+MAX('T1'!M59,'T2'!K59)+MAX('T1'!N59,'T2'!L59)","v":45526},{"$f":"IF(COUNTRY_INFO!K59=1,IF(COUNTRY_INFO!F59*0.33>MAX('T1'!M59,'T2'!K59),MAX('T1'!M59,'T2'!K59),COUNTRY_INFO!F59*0.33),IF(COUNTRY_INFO!K59=2,IF(COUNTRY_INFO!F59*0.5>MAX('T1'!M59,'T2'!K59),MAX('T1'!M59,'T2'!K59),COUNTRY_INFO!F59*0.5),IF(COUNTRY_INFO!K59=3,IF(COUNTRY_INFO!F59>MAX('T1'!M59,'T2'!K59),MAX('T1'!M59,'T2'!K59),COUNTRY_INFO!F59),0)))","v":15468.75},{"$f":"IF(AND(COUNTRY_INFO!K59>0,COUNTRY_INFO!K59<4),IF(Z59>0,IF(COUNTRY_INFO!K59=1, AD59/(COUNTRY_INFO!F59*0.33)*100, IF(COUNTRY_INFO!K59=2, AD59/(COUNTRY_INFO!F59*0.5)*100, IF(COUNTRY_INFO!K59=3, AD59/COUNTRY_INFO!F59*100))),\"-\"),0)","v":100},{"$f":"IF(COUNTRY_INFO!K59=2,IF(COUNTRY_INFO!G59*0.2>MAX('T1'!N59,'T2'!L59),MAX('T1'!N59,'T2'!L59),COUNTRY_INFO!G59*0.2),IF(COUNTRY_INFO!K59=3,IF(COUNTRY_INFO!G59>MAX('T1'!N59,'T2'!L59),MAX('T1'!N59,'T2'!L59),COUNTRY_INFO!G59),0))","v":0},{"$f":"IF(AND(COUNTRY_INFO!K59>0,COUNTRY_INFO!K59<4),IF(Z59>0,IF(COUNTRY_INFO!K59=1, 0, IF(COUNTRY_INFO!K59=2, AF59/(COUNTRY_INFO!G59*0.2)*100, IF(COUNTRY_INFO!K59=3, AF59/COUNTRY_INFO!G59*100))),\"-\"),0)","v":0},15468.75,{"$f":"IF(AND(COUNTRY_INFO!K59>0,COUNTRY_INFO!K59<4), IF(AC59/Z59*100<>0, IF(AH59/Z59*100>100,100,AH59/Z59*100), \"-\"),0)","v":31.652854511970535},null,{"$f":"IF(AND(D59<>0, D59<>\"Unknown\",D59<>\"Stopped\",D59<>\"Not required\"),D59/COUNTRY_INFO!D59, 0)","v":0},{"$f":"IF(AND(J59<>0,J59<>\"Unknown\",J59<>\"Stopped\",J59<>\"Not required\"),J59/COUNTRY_INFO!D59, 0)","v":0},{"$f":"IF(AND(P59<>0,P59<>\"Unknown\",P59<>\"Not required\"),P59/(COUNTRY_INFO!E59+COUNTRY_INFO!F59), 0)","v":1},{"$f":"IF(AND(Z59<>0,Z59<>\"Unknown\",Z59<>\"Not required\"),IF(COUNTRY_INFO!K59=1,1,IF(COUNTRY_INFO!K59=2,0.5*COUNTRY_INFO!F59/(0.5*COUNTRY_INFO!F59+0.2*COUNTRY_INFO!G59),IF(COUNTRY_INFO!K59=3,COUNTRY_INFO!F59/(COUNTRY_INFO!F59+COUNTRY_INFO!G59)))),0)","v":1},{"$f":"IF(AND(Z59<>0,Z59<>\"Unknown\",Z59<>\"Not required\"),IF(COUNTRY_INFO!K59=1,0,IF(COUNTRY_INFO!K59=2,0.2*COUNTRY_INFO!G59/(0.5*COUNTRY_INFO!F59+0.2*COUNTRY_INFO!G59),IF(COUNTRY_INFO!K59=3,COUNTRY_INFO!G59/(COUNTRY_INFO!F59+COUNTRY_INFO!G59)))),0)","v":0},{"$f":"MAX(COUNTRY_INFO!D59*AK59*PROFILE!$G$7,COUNTRY_INFO!D59*AL59*PROFILE!$G$7)","v":0},{"$f":"MAX(COUNTRY_INFO!D59*AK59*PROFILE!$G$8,COUNTRY_INFO!D59*AL59*PROFILE!$G$8,COUNTRY_INFO!D59*AM59*PROFILE!$G$8)","v":22040.377725717488},{"$f":"MAX(COUNTRY_INFO!D59*AK59*PROFILE!$G$9,COUNTRY_INFO!D59*AL59*PROFILE!$G$9,COUNTRY_INFO!D59*AM59*PROFILE!$G$9,IF(AND(DISTRICT!Z59<>\"Unknown\",Z59<>\"Not required\"),COUNTRY_INFO!O59*DISTRICT!AN59,0))","v":48870},{"$f":"MAX(COUNTRY_INFO!D59*AK59*PROFILE!$G$10,COUNTRY_INFO!D59*AL59*PROFILE!$G$10,IF(AND(DISTRICT!Z59<>\"Unknown\",Z59<>\"Not required\"),COUNTRY_INFO!O59*DISTRICT!AO59,0))","v":0},70910.377725717495,"Y",{"$f":"MAX('MDA2'!J59,'T1'!L59,'T2'!J59,T3_R1!K59,T3_R2!K59)","v":24762},{"$f":"MAX('MDA1'!K59,'MDA2'!K59,'MDA3'!I59,'MDA3'!L59,'T1'!M59,'T2'!K59,T3_R1!L59,T3_R2!L59)","v":45526},{"$f":"MAX('MDA1'!L59,'MDA2'!L59,'MDA3'!J59,'MDA3'!M59,'T1'!N59,'T2'!L59,T3_R1!M59,T3_R2!M59)","v":0},70288,{"$f":"MAX('MDA2'!J59,T59)","v":22040},{"$f":"MAX('MDA1'!K59,'MDA2'!K59,'MDA3'!I59,'MDA3'!L59,V59,AD59)","v":15767},{"$f":"MAX('MDA1'!L59,'MDA2'!L59,'MDA3'!J59,'MDA3'!M59,AF59)","v":0},37807,53.316596544215422]
[{"$f":"IF(COUNTRY_INFO!A60=0,\" \",COUNTRY_INFO!A60)","v":"Uganda"},{"$f":"IF(COUNTRY_INFO!B60=0,\" \",COUNTRY_INFO!B60)","v":"Eastern "},{"$f":"IF(COUNTRY_INFO!C60=0,\" \",COUNTRY_INFO!C60)","v":"Pallisa"},{"$f":"COUNTRY_INFO!L60","v":"Stopped"},null,null,{"$f":"MAX('MDA1'!M60,'MDA2'!M60)","v":0},{"$f":"IF(AND(COUNTRY_INFO!H60>0,COUNTRY_INFO!H60<4),IF(D60>MAX('MDA1'!M60,'MDA2'!M60),MAX('MDA1'!M60,'MDA2'!M60),D60),0)","v":0},{"$f":"IF(AND(COUNTRY_INFO!H60>0,COUNTRY_INFO!H60<4), IF(G60/D60*100<>0, IF(G60/D60*100>100,100,G60/D60*100), \"-\"),0)","v":0},{"$f":"COUNTRY_INFO!M60","v":0},null,null,{"$f":"MAX('MDA1'!M60,MAX('MDA3'!I60,'MDA3'!L60)+MAX('MDA3'!J60,'MDA3'!M60))","v":0},{"$f":"IF(AND(COUNTRY_INFO!I60>0,COUNTRY_INFO!I60<4),IF(J60>MAX('MDA1'!M60,MAX('MDA3'!I60,'MDA3'!L60)+MAX('MDA3'!J60,'MDA3'!M60)),MAX('MDA1'!M60,MAX('MDA3'!I60,'MDA3'!L60)+MAX('MDA3'!J60,'MDA3'!M60)),J60),0)","v":0},{"$f":"IF(AND(COUNTRY_INFO!I60>0,COUNTRY_INFO!I60<4), IF(M60/J60*100<>0, IF(M60/J60*100>100,100,M60/J60*100), \"-\"),0)","v":0},{"$f":"COUNTRY_INFO!N60","v":187872},null,null,{"$f":"SUM(MAX('MDA2'!J60, 'T1'!L60, MAX(T3_R1!K60, T3_R2!K60)), MAX('MDA1'!K60, 'MDA2'!K60, 'T1'!M60, MAX(T3_R1!L60, T3_R2!L60)), MAX('MDA1'!L60, 'MDA2'!L60, 'T1'!N60, MAX(T3_R1!M60, T3_R2!M60)))","v":94567},{"$f":"IF(AND(COUNTRY_INFO!J60>1,COUNTRY_INFO!J60<4),IF(COUNTRY_INFO!E60>MAX('MDA2'!J60,'T1'!L60,MAX(T3_R1!K60,T3_R2!K60)),MAX('MDA2'!J60,'T1'!L60,MAX(T3_R1!K60,T3_R2!K60)),COUNTRY_INFO!E60),0)","v":36700},{"$f":"IF(AND(COUNTRY_INFO!J60>1,COUNTRY_INFO!J60<4), IF(T60/COUNTRY_INFO!E60*100<>0, IF(T60/COUNTRY_INFO!E60*100>100,100,T60/COUNTRY_INFO!E60*100), \"-\"),0)","v":61.080136473329446},{"$f":"IF(AND(COUNTRY_INFO!J60>1,COUNTRY_INFO!J60<4),IF(COUNTRY_INFO!F60>MAX('MDA1'!K60,'MDA2'!K60,'T1'!M60,MAX(T3_R1!L60,T3_R2!L60)),MAX('MDA1'!K60,'MDA2'!K60,'T1'!M60,MAX(T3_R1!L60,T3_R2!L60)),COUNTRY_INFO!F60),0)","v":57867},{"$f":"IF(AND(COUNTRY_INFO!J60>1,COUNTRY_INFO!J60<4), IF(V60/COUNTRY_INFO!F60*100<>0, IF(V60/COUNTRY_INFO!F60*100>100,100,V60/COUNTRY_INFO!F60*100), \"-\"),0)","v":45.283949071501794},94567,{"$f":"IF(AND(COUNTRY_INFO!J60>1,COUNTRY_INFO!J60<4), IF(S60/P60*100<>0, IF(X60/P60*100>100,100,X60/P60*100), \"-\"),0)","v":50.335866973258391},{"$f":"COUNTRY_INFO!O60","v":69467},null,null,{"$f":"MAX('T1'!L60,'T2'!J60)+MAX('T1'!M60,'T2'!K60)+MAX('T1'!N60,'T2'!L60)","v":60409},{"$f":"IF(COUNTRY_INFO!K60=1,IF(COUNTRY_INFO!F60*0.33>MAX('T1'!M60,'T2'!K60),MAX('T1'!M60,'T2'!K60),COUNTRY_INFO!F60*0.33),IF(COUNTRY_INFO!K60=2,IF(COUNTRY_INFO!F60*0.5>MAX('T1'!M60,'T2'!K60),MAX('T1'!M60,'T2'!K60),COUNTRY_INFO!F60*0.5),IF(COUNTRY_INFO!K60=3,IF(COUNTRY_INFO!F60>MAX('T1'!M60,'T2'!K60),MAX('T1'!M60,'T2'!K60),COUNTRY_INFO!F60),0)))","v":42169.71},{"$f":"IF(AND(COUNTRY_INFO!K60>0,COUNTRY_INFO!K60<4),IF(Z60>0,IF(COUNTRY_INFO!K60=1, AD60/(COUNTRY_INFO!F60*0.33)*100, IF(COUNTRY_INFO!K60=2, AD60/(COUNTRY_INFO!F60*0.5)*100, IF(COUNTRY_INFO!K60=3, AD60/COUNTRY_INFO!F60*100))),\"-\"),0)","v":100},{"$f":"IF(COUNTRY_INFO!K60=2,IF(COUNTRY_INFO!G60*0.2>MAX('T1'!N60,'T2'!L60),MAX('T1'!N60,'T2'!L60),COUNTRY_INFO!G60*0.2),IF(COUNTRY_INFO!K60=3,IF(COUNTRY_INFO!G60>MAX('T1'!N60,'T2'!L60),MAX('T1'!N60,'T2'!L60),COUNTRY_INFO!G60),0))","v":0},{"$f":"IF(AND(COUNTRY_INFO!K60>0,COUNTRY_INFO!K60<4),IF(Z60>0,IF(COUNTRY_INFO!K60=1, 0, IF(COUNTRY_INFO!K60=2, AF60/(COUNTRY_INFO!G60*0.2)*100, IF(COUNTRY_INFO!K60=3, AF60/COUNTRY_INFO!G60*100))),\"-\"),0)","v":0},42169.71,{"$f":"IF(AND(COUNTRY_INFO!K60>0,COUNTRY_INFO!K60<4), IF(AC60/Z60*100<>0, IF(AH60/Z60*100>100,100,AH60/Z60*100), \"-\"),0)","v":60.704665524637591},null,{"$f":"IF(AND(D60<>0, D60<>\"Unknown\",D60<>\"Stopped\",D60<>\"Not required\"),D60/COUNTRY_INFO!D60, 0)","v":0},{"$f":"IF(AND(J60<>0,J60<>\"Unknown\",J60<>\"Stopped\",J60<>\"Not required\"),J60/COUNTRY_INFO!D60, 0)","v":0},{"$f":"IF(AND(P60<>0,P60<>\"Unknown\",P60<>\"Not required\"),P60/(COUNTRY_INFO!E60+COUNTRY_INFO!F60), 0)","v":1},{"$f":"IF(AND(Z60<>0,Z60<>\"Unknown\",Z60<>\"Not required\"),IF(COUNTRY_INFO!K60=1,1,IF(COUNTRY_INFO!K60=2,0.5*COUNTRY_INFO!F60/(0.5*COUNTRY_INFO!F60+0.2*COUNTRY_INFO!G60),IF(COUNTRY_INFO!K60=3,COUNTRY_INFO!F60/(COUNTRY_INFO!F60+COUNTRY_INFO!G60)))),0)","v":1},{"$f":"IF(AND(Z60<>0,Z60<>\"Unknown\",Z60<>\"Not required\"),IF(COUNTRY_INFO!K60=1,0,IF(COUNTRY_INFO!K60=2,0.2*COUNTRY_INFO!G60/(0.5*COUNTRY_INFO!F60+0.2*COUNTRY_INFO!G60),IF(COUNTRY_INFO!K60=3,COUNTRY_INFO!G60/(COUNTRY_INFO!F60+COUNTRY_INFO!G60)))),0)","v":0},{"$f":"MAX(COUNTRY_INFO!D60*AK60*PROFILE!$G$7,COUNTRY_INFO!D60*AL60*PROFILE!$G$7)","v":0},{"$f":"MAX(COUNTRY_INFO!D60*AK60*PROFILE!$G$8,COUNTRY_INFO!D60*AL60*PROFILE!$G$8,COUNTRY_INFO!D60*AM60*PROFILE!$G$8)","v":60085.141990873693},{"$f":"MAX(COUNTRY_INFO!D60*AK60*PROFILE!$G$9,COUNTRY_INFO!D60*AL60*PROFILE!$G$9,COUNTRY_INFO!D60*AM60*PROFILE!$G$9,IF(AND(DISTRICT!Z60<>\"Unknown\",Z60<>\"Not required\"),COUNTRY_INFO!O60*DISTRICT!AN60,0))","v":127786.78803939739},{"$f":"MAX(COUNTRY_INFO!D60*AK60*PROFILE!$G$10,COUNTRY_INFO!D60*AL60*PROFILE!$G$10,IF(AND(DISTRICT!Z60<>\"Unknown\",Z60<>\"Not required\"),COUNTRY_INFO!O60*DISTRICT!AO60,0))","v":0},187871.93003027109,"Y",{"$f":"MAX('MDA2'!J60,'T1'!L60,'T2'!J60,T3_R1!K60,T3_R2!K60)","v":36700},{"$f":"MAX('MDA1'!K60,'MDA2'!K60,'MDA3'!I60,'MDA3'!L60,'T1'!M60,'T2'!K60,T3_R1!L60,T3_R2!L60)","v":60409},{"$f":"MAX('MDA1'!L60,'MDA2'!L60,'MDA3'!J60,'MDA3'!M60,'T1'!N60,'T2'!L60,T3_R1!M60,T3_R2!M60)","v":0},97109,{"$f":"MAX('MDA2'!J60,T60)","v":36700},{"$f":"MAX('MDA1'!K60,'MDA2'!K60,'MDA3'!I60,'MDA3'!L60,V60,AD60)","v":57867},{"$f":"MAX('MDA1'!L60,'MDA2'!L60,'MDA3'!J60,'MDA3'!M60,AF60)","v":0},94567,50.335885720002338]
[{"$f":"IF(COUNTRY_INFO!A61=0,\" \",COUNTRY_INFO!A61)","v":"Uganda"},{"$f":"IF(COUNTRY_INFO!B61=0,\" \",COUNTRY_INFO!B61)","v":"Eastern "},{"$f":"IF(COUNTRY_INFO!C61=0,\" \",COUNTRY_INFO!C61)","v":"Serere"},{"$f":"COUNTRY_INFO!L61","v":"Stopped"},null,null,{"$f":"MAX('MDA1'!M61,'MDA2'!M61)","v":0},{"$f":"IF(AND(COUNTRY_INFO!H61>0,COUNTRY_INFO!H61<4),IF(D61>MAX('MDA1'!M61,'MDA2'!M61),MAX('MDA1'!M61,'MDA2'!M61),D61),0)","v":0},{"$f":"IF(AND(COUNTRY_INFO!H61>0,COUNTRY_INFO!H61<4), IF(G61/D61*100<>0, IF(G61/D61*100>100,100,G61/D61*100), \"-\"),0)","v":0},{"$f":"COUNTRY_INFO!M61","v":0},null,null,{"$f":"MAX('MDA1'!M61,MAX('MDA3'!I61,'MDA3'!L61)+MAX('MDA3'!J61,'MDA3'!M61))","v":0},{"$f":"IF(AND(COUNTRY_INFO!I61>0,COUNTRY_INFO!I61<4),IF(J61>MAX('MDA1'!M61,MAX('MDA3'!I61,'MDA3'!L61)+MAX('MDA3'!J61,'MDA3'!M61)),MAX('MDA1'!M61,MAX('MDA3'!I61,'MDA3'!L61)+MAX('MDA3'!J61,'MDA3'!M61)),J61),0)","v":0},{"$f":"IF(AND(COUNTRY_INFO!I61>0,COUNTRY_INFO!I61<4), IF(M61/J61*100<>0, IF(M61/J61*100>100,100,M61/J61*100), \"-\"),0)","v":0},{"$f":"COUNTRY_INFO!N61","v":138833},null,null,{"$f":"SUM(MAX('MDA2'!J61, 'T1'!L61, MAX(T3_R1!K61, T3_R2!K61)), MAX('MDA1'!K61, 'MDA2'!K61, 'T1'!M61, MAX(T3_R1!L61, T3_R2!L61)), MAX('MDA1'!L61, 'MDA2'!L61, 'T1'!N61, MAX(T3_R1!M61, T3_R2!M61)))","v":106048},{"$f":"IF(AND(COUNTRY_INFO!J61>1,COUNTRY_INFO!J61<4),IF(COUNTRY_INFO!E61>MAX('MDA2'!J61,'T1'!L61,MAX(T3_R1!K61,T3_R2!K61)),MAX('MDA2'!J61,'T1'!L61,MAX(T3_R1!K61,T3_R2!K61)),COUNTRY_INFO!E61),0)","v":44402},{"$f":"IF(AND(COUNTRY_INFO!J61>1,COUNTRY_INFO!J61<4), IF(T61/COUNTRY_INFO!E61*100<>0, IF(T61/COUNTRY_INFO!E61*100>100,100,T61/COUNTRY_INFO!E61*100), \"-\"),0)","v":100},{"$f":"IF(AND(COUNTRY_INFO!J61>1,COUNTRY_INFO!J61<4),IF(COUNTRY_INFO!F61>MAX('MDA1'!K61,'MDA2'!K61,'T1'!M61,MAX(T3_R1!L61,T3_R2!L61)),MAX('MDA1'!K61,'MDA2'!K61,'T1'!M61,MAX(T3_R1!L61,T3_R2!L61)),COUNTRY_INFO!F61),0)","v":57838},{"$f":"IF(AND(COUNTRY_INFO!J61>1,COUNTRY_INFO!J61<4), IF(V61/COUNTRY_INFO!F61*100<>0, IF(V61/COUNTRY_INFO!F61*100>100,100,V61/COUNTRY_INFO!F61*100), \"-\"),0)","v":61.248954262900959},102240,{"$f":"IF(AND(COUNTRY_INFO!J61>1,COUNTRY_INFO!J61<4), IF(S61/P61*100<>0, IF(X61/P61*100>100,100,X61/P61*100), \"-\"),0)","v":73.642433715327044},{"$f":"COUNTRY_INFO!O61","v":158461},null,null,{"$f":"MAX('T1'!L61,'T2'!J61)+MAX('T1'!M61,'T2'!K61)+MAX('T1'!N61,'T2'!L61)","v":134265},{"$f":"IF(COUNTRY_INFO!K61=1,IF(COUNTRY_INFO!F61*0.33>MAX('T1'!M61,'T2'!K61),MAX('T1'!M61,'T2'!K61),COUNTRY_INFO!F61*0.33),IF(COUNTRY_INFO!K61=2,IF(COUNTRY_INFO!F61*0.5>MAX('T1'!M61,'T2'!K61),MAX('T1'!M61,'T2'!K61),COUNTRY_INFO!F61*0.5),IF(COUNTRY_INFO!K61=3,IF(COUNTRY_INFO!F61>MAX('T1'!M61,'T2'!K61),MAX('T1'!M61,'T2'!K61),COUNTRY_INFO!F61),0)))","v":65189},{"$f":"IF(AND(COUNTRY_INFO!K61>0,COUNTRY_INFO!K61<4),IF(Z61>0,IF(COUNTRY_INFO!K61=1, AD61/(COUNTRY_INFO!F61*0.33)*100, IF(COUNTRY_INFO!K61=2, AD61/(COUNTRY_INFO!F61*0.5)*100, IF(COUNTRY_INFO!K61=3, AD61/COUNTRY_INFO!F61*100))),\"-\"),0)","v":69.03347417691225},{"$f":"IF(COUNTRY_INFO!K61=2,IF(COUNTRY_INFO!G61*0.2>MAX('T1'!N61,'T2'!L61),MAX('T1'!N61,'T2'!L61),COUNTRY_INFO!G61*0.2),IF(COUNTRY_INFO!K61=3,IF(COUNTRY_INFO!G61>MAX('T1'!N61,'T2'!L61),MAX('T1'!N61,'T2'!L61),COUNTRY_INFO!G61),0))","v":69076},{"$f":"IF(AND(COUNTRY_INFO!K61>0,COUNTRY_INFO!K61<4),IF(Z61>0,IF(COUNTRY_INFO!K61=1, 0, IF(COUNTRY_INFO!K61=2, AF61/(COUNTRY_INFO!G61*0.2)*100, IF(COUNTRY_INFO!K61=3, AF61/COUNTRY_INFO!G61*100))),\"-\"),0)","v":42.401325885458228},134265,{"$f":"IF(AND(COUNTRY_INFO!K61>0,COUNTRY_INFO!K61<4), IF(AC61/Z61*100<>0, IF(AH61/Z61*100>100,100,AH61/Z61*100), \"-\"),0)","v":84.730627725434019},null,{"$f":"IF(AND(D61<>0, D61<>\"Unknown\",D61<>\"Stopped\",D61<>\"Not required\"),D61/COUNTRY_INFO!D61, 0)","v":0},{"$f":"IF(AND(J61<>0,J61<>\"Unknown\",J61<>\"Stopped\",J61<>\"Not required\"),J61/COUNTRY_INFO!D61, 0)","v":0},{"$f":"IF(AND(P61<>0,P61<>\"Unknown\",P61<>\"Not required\"),P61/(COUNTRY_INFO!E61+COUNTRY_INFO!F61), 0)","v":1},{"$f":"IF(AND(Z61<>0,Z61<>\"Unknown\",Z61<>\"Not required\"),IF(COUNTRY_INFO!K61=1,1,IF(COUNTRY_INFO!K61=2,0.5*COUNTRY_INFO!F61/(0.5*COUNTRY_INFO!F61+0.2*COUNTRY_INFO!G61),IF(COUNTRY_INFO!K61=3,COUNTRY_INFO!F61/(COUNTRY_INFO!F61+COUNTRY_INFO!G61)))),0)","v":0.3669489121438092},{"$f":"IF(AND(Z61<>0,Z61<>\"Unknown\",Z61<>\"Not required\"),IF(COUNTRY_INFO!K61=1,0,IF(COUNTRY_INFO!K61=2,0.2*COUNTRY_INFO!G61/(0.5*COUNTRY_INFO!F61+0.2*COUNTRY_INFO!G61),IF(COUNTRY_INFO!K61=3,COUNTRY_INFO!G61/(COUNTRY_INFO!F61+COUNTRY_INFO!G61)))),0)","v":0.6330510878561908},{"$f":"MAX(COUNTRY_INFO!D61*AK61*PROFILE!$G$7,COUNTRY_INFO!D61*AL61*PROFILE!$G$7)","v":0},{"$f":"MAX(COUNTRY_INFO!D61*AK61*PROFILE!$G$8,COUNTRY_INFO!D61*AL61*PROFILE!$G$8,COUNTRY_INFO!D61*AM61*PROFILE!$G$8)","v":44401.533301902047},{"$f":"MAX(COUNTRY_INFO!D61*AK61*PROFILE!$G$9,COUNTRY_INFO!D61*AL61*PROFILE!$G$9,COUNTRY_INFO!D61*AM61*PROFILE!$G$9,IF(AND(DISTRICT!Z61<>\"Unknown\",Z61<>\"Not required\"),COUNTRY_INFO!O61*DISTRICT!AN61,0))","v":94431.487330698365},{"$f":"MAX(COUNTRY_INFO!D61*AK61*PROFILE!$G$10,COUNTRY_INFO!D61*AL61*PROFILE!$G$10,IF(AND(DISTRICT!Z61<>\"Unknown\",Z61<>\"Not required\"),COUNTRY_INFO!O61*DISTRICT!AO61,0))","v":100313.90843277985},239146.92906538025,"Y",{"$f":"MAX('MDA2'!J61,'T1'!L61,'T2'!J61,T3_R1!K61,T3_R2!K61)","v":48210},{"$f":"MAX('MDA1'!K61,'MDA2'!K61,'MDA3'!I61,'MDA3'!L61,'T1'!M61,'T2'!K61,T3_R1!L61,T3_R2!L61)","v":65189},{"$f":"MAX('MDA1'!L61,'MDA2'!L61,'MDA3'!J61,'MDA3'!M61,'T1'!N61,'T2'!L61,T3_R1!M61,T3_R2!M61)","v":69076},182475,{"$f":"MAX('MDA2'!J61,T61)","v":44402},{"$f":"MAX('MDA1'!K61,'MDA2'!K61,'MDA3'!I61,'MDA3'!L61,V61,AD61)","v":65189},{"$f":"MAX('MDA1'!L61,'MDA2'!L61,'MDA3'!J61,'MDA3'!M61,AF61)","v":69076},178667,74.710137695790493]
[{"$f":"IF(COUNTRY_INFO!A62=0,\" \",COUNTRY_INFO!A62)","v":"Uganda"},{"$f":"IF(COUNTRY_INFO!B62=0,\" \",COUNTRY_INFO!B62)","v":"Eastern "},{"$f":"IF(COUNTRY_INFO!C62=0,\" \",COUNTRY_INFO!C62)","v":"Sironko"},{"$f":"COUNTRY_INFO!L62","v":0},null,null,{"$f":"MAX('MDA1'!M62,'MDA2'!M62)","v":0},{"$f":"IF(AND(COUNTRY_INFO!H62>0,COUNTRY_INFO!H62<4),IF(D62>MAX('MDA1'!M62,'MDA2'!M62),MAX('MDA1'!M62,'MDA2'!M62),D62),0)","v":0},{"$f":"IF(AND(COUNTRY_INFO!H62>0,COUNTRY_INFO!H62<4), IF(G62/D62*100<>0, IF(G62/D62*100>100,100,G62/D62*100), \"-\"),0)","v":0},{"$f":"COUNTRY_INFO!M62","v":"Stopped"},null,null,{"$f":"MAX('MDA1'!M62,MAX('MDA3'!I62,'MDA3'!L62)+MAX('MDA3'!J62,'MDA3'!M62))","v":0},{"$f":"IF(AND(COUNTRY_INFO!I62>0,COUNTRY_INFO!I62<4),IF(J62>MAX('MDA1'!M62,MAX('MDA3'!I62,'MDA3'!L62)+MAX('MDA3'!J62,'MDA3'!M62)),MAX('MDA1'!M62,MAX('MDA3'!I62,'MDA3'!L62)+MAX('MDA3'!J62,'MDA3'!M62)),J62),0)","v":0},{"$f":"IF(AND(COUNTRY_INFO!I62>0,COUNTRY_INFO!I62<4), IF(M62/J62*100<>0, IF(M62/J62*100>100,100,M62/J62*100), \"-\"),0)","v":0},{"$f":"COUNTRY_INFO!N62","v":117719},null,null,{"$f":"SUM(MAX('MDA2'!J62, 'T1'!L62, MAX(T3_R1!K62, T3_R2!K62)), MAX('MDA1'!K62, 'MDA2'!K62, 'T1'!M62, MAX(T3_R1!L62, T3_R2!L62)), MAX('MDA1'!L62, 'MDA2'!L62, 'T1'!N62, MAX(T3_R1!M62, T3_R2!M62)))","v":53065},{"$f":"IF(AND(COUNTRY_INFO!J62>1,COUNTRY_INFO!J62<4),IF(COUNTRY_INFO!E62>MAX('MDA2'!J62,'T1'!L62,MAX(T3_R1!K62,T3_R2!K62)),MAX('MDA2'!J62,'T1'!L62,MAX(T3_R1!K62,T3_R2!K62)),COUNTRY_INFO!E62),0)","v":29247},{"$f":"IF(AND(COUNTRY_INFO!J62>1,COUNTRY_INFO!J62<4), IF(T62/COUNTRY_INFO!E62*100<>0, IF(T62/COUNTRY_INFO!E62*100>100,100,T62/COUNTRY_INFO!E62*100), \"-\"),0)","v":77.683338202873927},{"$f":"IF(AND(COUNTRY_INFO!J62>1,COUNTRY_INFO!J62<4),IF(COUNTRY_INFO!F62>MAX('MDA1'!K62,'MDA2'!K62,'T1'!M62,MAX(T3_R1!L62,T3_R2!L62)),MAX('MDA1'!K62,'MDA2'!K62,'T1'!M62,MAX(T3_R1!L62,T3_R2!L62)),COUNTRY_INFO!F62),0)","v":23818},{"$f":"IF(AND(COUNTRY_INFO!J62>1,COUNTRY_INFO!J62<4), IF(V62/COUNTRY_INFO!F62*100<>0, IF(V62/COUNTRY_INFO!F62*100>100,100,V62/COUNTRY_INFO!F62*100), \"-\"),0)","v":29.746471837142501},53065,{"$f":"IF(AND(COUNTRY_INFO!J62>1,COUNTRY_INFO!J62<4), IF(S62/P62*100<>0, IF(X62/P62*100>100,100,X62/P62*100), \"-\"),0)","v":45.077684995625177},{"$f":"COUNTRY_INFO!O62","v":9431},null,null,{"$f":"MAX('T1'!L62,'T2'!J62)+MAX('T1'!M62,'T2'!K62)+MAX('T1'!N62,'T2'!L62)","v":8472},{"$f":"IF(COUNTRY_INFO!K62=1,IF(COUNTRY_INFO!F62*0.33>MAX('T1'!M62,'T2'!K62),MAX('T1'!M62,'T2'!K62),COUNTRY_INFO!F62*0.33),IF(COUNTRY_INFO!K62=2,IF(COUNTRY_INFO!F62*0.5>MAX('T1'!M62,'T2'!K62),MAX('T1'!M62,'T2'!K62),COUNTRY_INFO!F62*0.5),IF(COUNTRY_INFO!K62=3,IF(COUNTRY_INFO!F62>MAX('T1'!M62,'T2'!K62),MAX('T1'!M62,'T2'!K62),COUNTRY_INFO!F62),0)))","v":8472},{"$f":"IF(AND(COUNTRY_INFO!K62>0,COUNTRY_INFO!K62<4),IF(Z62>0,IF(COUNTRY_INFO!K62=1, AD62/(COUNTRY_INFO!F62*0.33)*100, IF(COUNTRY_INFO!K62=2, AD62/(COUNTRY_INFO!F62*0.5)*100, IF(COUNTRY_INFO!K62=3, AD62/COUNTRY_INFO!F62*100))),\"-\"),0)","v":32.062854093577208},{"$f":"IF(COUNTRY_INFO!K62=2,IF(COUNTRY_INFO!G62*0.2>MAX('T1'!N62,'T2'!L62),MAX('T1'!N62,'T2'!L62),COUNTRY_INFO!G62*0.2),IF(COUNTRY_INFO!K62=3,IF(COUNTRY_INFO!G62>MAX('T1'!N62,'T2'!L62),MAX('T1'!N62,'T2'!L62),COUNTRY_INFO!G62),0))","v":0},{"$f":"IF(AND(COUNTRY_INFO!K62>0,COUNTRY_INFO!K62<4),IF(Z62>0,IF(COUNTRY_INFO!K62=1, 0, IF(COUNTRY_INFO!K62=2, AF62/(COUNTRY_INFO!G62*0.2)*100, IF(COUNTRY_INFO!K62=3, AF62/COUNTRY_INFO!G62*100))),\"-\"),0)","v":0},8472,{"$f":"IF(AND(COUNTRY_INFO!K62>0,COUNTRY_INFO!K62<4), IF(AC62/Z62*100<>0, IF(AH62/Z62*100>100,100,AH62/Z62*100), \"-\"),0)","v":89.831407061817416},null,{"$f":"IF(AND(D62<>0, D62<>\"Unknown\",D62<>\"Stopped\",D62<>\"Not required\"),D62/COUNTRY_INFO!D62, 0)","v":0},{"$f":"IF(AND(J62<>0,J62<>\"Unknown\",J62<>\"Stopped\",J62<>\"Not required\"),J62/COUNTRY_INFO!D62, 0)","v":0},{"$f":"IF(AND(P62<>0,P62<>\"Unknown\",P62<>\"Not required\"),P62/(COUNTRY_INFO!E62+COUNTRY_INFO!F62), 0)","v":1},{"$f":"IF(AND(Z62<>0,Z62<>\"Unknown\",Z62<>\"Not required\"),IF(COUNTRY_INFO!K62=1,1,IF(COUNTRY_INFO!K62=2,0.5*COUNTRY_INFO!F62/(0.5*COUNTRY_INFO!F62+0.2*COUNTRY_INFO!G62),IF(COUNTRY_INFO!K62=3,COUNTRY_INFO!F62/(COUNTRY_INFO!F62+COUNTRY_INFO!G62)))),0)","v":1},{"$f":"IF(AND(Z62<>0,Z62<>\"Unknown\",Z62<>\"Not required\"),IF(COUNTRY_INFO!K62=1,0,IF(COUNTRY_INFO!K62=2,0.2*COUNTRY_INFO!G62/(0.5*COUNTRY_INFO!F62+0.2*COUNTRY_INFO!G62),IF(COUNTRY_INFO!K62=3,COUNTRY_INFO!G62/(COUNTRY_INFO!F62+COUNTRY_INFO!G62)))),0)","v":0},{"$f":"MAX(COUNTRY_INFO!D62*AK62*PROFILE!$G$7,COUNTRY_INFO!D62*AL62*PROFILE!$G$7)","v":0},{"$f":"MAX(COUNTRY_INFO!D62*AK62*PROFILE!$G$8,COUNTRY_INFO!D62*AL62*PROFILE!$G$8,COUNTRY_INFO!D62*AM62*PROFILE!$G$8)","v":37648.726449772119},{"$f":"MAX(COUNTRY_INFO!D62*AK62*PROFILE!$G$9,COUNTRY_INFO!D62*AL62*PROFILE!$G$9,COUNTRY_INFO!D62*AM62*PROFILE!$G$9,IF(AND(DISTRICT!Z62<>\"Unknown\",Z62<>\"Not required\"),COUNTRY_INFO!O62*DISTRICT!AN62,0))","v":80069.87530329921},{"$f":"MAX(COUNTRY_INFO!D62*AK62*PROFILE!$G$10,COUNTRY_INFO!D62*AL62*PROFILE!$G$10,IF(AND(DISTRICT!Z62<>\"Unknown\",Z62<>\"Not required\"),COUNTRY_INFO!O62*DISTRICT!AO62,0))","v":0},117718.60175307133,"Y",{"$f":"MAX('MDA2'!J62,'T1'!L62,'T2'!J62,T3_R1!K62,T3_R2!K62)","v":29247},{"$f":"MAX('MDA1'!K62,'MDA2'!K62,'MDA3'!I62,'MDA3'!L62,'T1'!M62,'T2'!K62,T3_R1!L62,T3_R2!L62)","v":23818},{"$f":"MAX('MDA1'!L62,'MDA2'!L62,'MDA3'!J62,'MDA3'!M62,'T1'!N62,'T2'!L62,T3_R1!M62,T3_R2!M62)","v":0},53065,{"$f":"MAX('MDA2'!J62,T62)","v":29247},{"$f":"MAX('MDA1'!K62,'MDA2'!K62,'MDA3'!I62,'MDA3'!L62,V62,AD62)","v":23818},{"$f":"MAX('MDA1'!L62,'MDA2'!L62,'MDA3'!J62,'MDA3'!M62,AF62)","v":0},53065,45.077837495309453]
[{"$f":"IF(COUNTRY_INFO!A63=0,\" \",COUNTRY_INFO!A63)","v":"Uganda"},{"$f":"IF(COUNTRY_INFO!B63=0,\" \",COUNTRY_INFO!B63)","v":"Eastern "},{"$f":"IF(COUNTRY_INFO!C63=0,\" \",COUNTRY_INFO!C63)","v":"Soroti"},{"$f":"COUNTRY_INFO!L63","v":"Stopped"},null,null,{"$f":"MAX('MDA1'!M63,'MDA2'!M63)","v":0},{"$f":"IF(AND(COUNTRY_INFO!H63>0,COUNTRY_INFO!H63<4),IF(D63>MAX('MDA1'!M63,'MDA2'!M63),MAX('MDA1'!M63,'MDA2'!M63),D63),0)","v":0},{"$f":"IF(AND(COUNTRY_INFO!H63>0,COUNTRY_INFO!H63<4), IF(G63/D63*100<>0, IF(G63/D63*100>100,100,G63/D63*100), \"-\"),0)","v":0},{"$f":"COUNTRY_INFO!M63","v":0},null,null,{"$f":"MAX('MDA1'!M63,MAX('MDA3'!I63,'MDA3'!L63)+MAX('MDA3'!J63,'MDA3'!M63))","v":0},{"$f":"IF(AND(COUNTRY_INFO!I63>0,COUNTRY_INFO!I63<4),IF(J63>MAX('MDA1'!M63,MAX('MDA3'!I63,'MDA3'!L63)+MAX('MDA3'!J63,'MDA3'!M63)),MAX('MDA1'!M63,MAX('MDA3'!I63,'MDA3'!L63)+MAX('MDA3'!J63,'MDA3'!M63)),J63),0)","v":0},{"$f":"IF(AND(COUNTRY_INFO!I63>0,COUNTRY_INFO!I63<4), IF(M63/J63*100<>0, IF(M63/J63*100>100,100,M63/J63*100), \"-\"),0)","v":0},{"$f":"COUNTRY_INFO!N63","v":144141},null,null,{"$f":"SUM(MAX('MDA2'!J63, 'T1'!L63, MAX(T3_R1!K63, T3_R2!K63)), MAX('MDA1'!K63, 'MDA2'!K63, 'T1'!M63, MAX(T3_R1!L63, T3_R2!L63)), MAX('MDA1'!L63, 'MDA2'!L63, 'T1'!N63, MAX(T3_R1!M63, T3_R2!M63)))","v":101468},{"$f":"IF(AND(COUNTRY_INFO!J63>1,COUNTRY_INFO!J63<4),IF(COUNTRY_INFO!E63>MAX('MDA2'!J63,'T1'!L63,MAX(T3_R1!K63,T3_R2!K63)),MAX('MDA2'!J63,'T1'!L63,MAX(T3_R1!K63,T3_R2!K63)),COUNTRY_INFO!E63),0)","v":40010},{"$f":"IF(AND(COUNTRY_INFO!J63>1,COUNTRY_INFO!J63<4), IF(T63/COUNTRY_INFO!E63*100<>0, IF(T63/COUNTRY_INFO!E63*100>100,100,T63/COUNTRY_INFO!E63*100), \"-\"),0)","v":86.791470530814124},{"$f":"IF(AND(COUNTRY_INFO!J63>1,COUNTRY_INFO!J63<4),IF(COUNTRY_INFO!F63>MAX('MDA1'!K63,'MDA2'!K63,'T1'!M63,MAX(T3_R1!L63,T3_R2!L63)),MAX('MDA1'!K63,'MDA2'!K63,'T1'!M63,MAX(T3_R1!L63,T3_R2!L63)),COUNTRY_INFO!F63),0)","v":61458},{"$f":"IF(AND(COUNTRY_INFO!J63>1,COUNTRY_INFO!J63<4), IF(V63/COUNTRY_INFO!F63*100<>0, IF(V63/COUNTRY_INFO!F63*100>100,100,V63/COUNTRY_INFO!F63*100), \"-\"),0)","v":62.68537973521552},101468,{"$f":"IF(AND(COUNTRY_INFO!J63>1,COUNTRY_INFO!J63<4), IF(S63/P63*100<>0, IF(X63/P63*100>100,100,X63/P63*100), \"-\"),0)","v":70.39496049007569},{"$f":"COUNTRY_INFO!O63","v":18118},null,null,{"$f":"MAX('T1'!L63,'T2'!J63)+MAX('T1'!M63,'T2'!K63)+MAX('T1'!N63,'T2'!L63)","v":17237},{"$f":"IF(COUNTRY_INFO!K63=1,IF(COUNTRY_INFO!F63*0.33>MAX('T1'!M63,'T2'!K63),MAX('T1'!M63,'T2'!K63),COUNTRY_INFO!F63*0.33),IF(COUNTRY_INFO!K63=2,IF(COUNTRY_INFO!F63*0.5>MAX('T1'!M63,'T2'!K63),MAX('T1'!M63,'T2'!K63),COUNTRY_INFO!F63*0.5),IF(COUNTRY_INFO!K63=3,IF(COUNTRY_INFO!F63>MAX('T1'!M63,'T2'!K63),MAX('T1'!M63,'T2'!K63),COUNTRY_INFO!F63),0)))","v":17237},{"$f":"IF(AND(COUNTRY_INFO!K63>0,COUNTRY_INFO!K63<4),IF(Z63>0,IF(COUNTRY_INFO!K63=1, AD63/(COUNTRY_INFO!F63*0.33)*100, IF(COUNTRY_INFO!K63=2, AD63/(COUNTRY_INFO!F63*0.5)*100, IF(COUNTRY_INFO!K63=3, AD63/COUNTRY_INFO!F63*100))),\"-\"),0)","v":53.276486947770685},{"$f":"IF(COUNTRY_INFO!K63=2,IF(COUNTRY_INFO!G63*0.2>MAX('T1'!N63,'T2'!L63),MAX('T1'!N63,'T2'!L63),COUNTRY_INFO!G63*0.2),IF(COUNTRY_INFO!K63=3,IF(COUNTRY_INFO!G63>MAX('T1'!N63,'T2'!L63),MAX('T1'!N63,'T2'!L63),COUNTRY_INFO!G63),0))","v":0},{"$f":"IF(AND(COUNTRY_INFO!K63>0,COUNTRY_INFO!K63<4),IF(Z63>0,IF(COUNTRY_INFO!K63=1, 0, IF(COUNTRY_INFO!K63=2, AF63/(COUNTRY_INFO!G63*0.2)*100, IF(COUNTRY_INFO!K63=3, AF63/COUNTRY_INFO!G63*100))),\"-\"),0)","v":0},17237,{"$f":"IF(AND(COUNTRY_INFO!K63>0,COUNTRY_INFO!K63<4), IF(AC63/Z63*100<>0, IF(AH63/Z63*100>100,100,AH63/Z63*100), \"-\"),0)","v":95.137432387680761},null,{"$f":"IF(AND(D63<>0, D63<>\"Unknown\",D63<>\"Stopped\",D63<>\"Not required\"),D63/COUNTRY_INFO!D63, 0)","v":0},{"$f":"IF(AND(J63<>0,J63<>\"Unknown\",J63<>\"Stopped\",J63<>\"Not required\"),J63/COUNTRY_INFO!D63, 0)","v":0},{"$f":"IF(AND(P63<>0,P63<>\"Unknown\",P63<>\"Not required\"),P63/(COUNTRY_INFO!E63+COUNTRY_INFO!F63), 0)","v":1},{"$f":"IF(AND(Z63<>0,Z63<>\"Unknown\",Z63<>\"Not required\"),IF(COUNTRY_INFO!K63=1,1,IF(COUNTRY_INFO!K63=2,0.5*COUNTRY_INFO!F63/(0.5*COUNTRY_INFO!F63+0.2*COUNTRY_INFO!G63),IF(COUNTRY_INFO!K63=3,COUNTRY_INFO!F63/(COUNTRY_INFO!F63+COUNTRY_INFO!G63)))),0)","v":1},{"$f":"IF(AND(Z63<>0,Z63<>\"Unknown\",Z63<>\"Not required\"),IF(COUNTRY_INFO!K63=1,0,IF(COUNTRY_INFO!K63=2,0.2*COUNTRY_INFO!G63/(0.5*COUNTRY_INFO!F63+0.2*COUNTRY_INFO!G63),IF(COUNTRY_INFO!K63=3,COUNTRY_INFO!G63/(COUNTRY_INFO!F63+COUNTRY_INFO!G63)))),0)","v":0},{"$f":"MAX(COUNTRY_INFO!D63*AK63*PROFILE!$G$7,COUNTRY_INFO!D63*AL63*PROFILE!$G$7)","v":0},{"$f":"MAX(COUNTRY_INFO!D63*AK63*PROFILE!$G$8,COUNTRY_INFO!D63*AL63*PROFILE!$G$8,COUNTRY_INFO!D63*AM63*PROFILE!$G$8)","v":46099.000510615355},{"$f":"MAX(COUNTRY_INFO!D63*AK63*PROFILE!$G$9,COUNTRY_INFO!D63*AL63*PROFILE!$G$9,COUNTRY_INFO!D63*AM63*PROFILE!$G$9,IF(AND(DISTRICT!Z63<>\"Unknown\",Z63<>\"Not required\"),COUNTRY_INFO!O63*DISTRICT!AN63,0))","v":98041.595840329945},{"$f":"MAX(COUNTRY_INFO!D63*AK63*PROFILE!$G$10,COUNTRY_INFO!D63*AL63*PROFILE!$G$10,IF(AND(DISTRICT!Z63<>\"Unknown\",Z63<>\"Not required\"),COUNTRY_INFO!O63*DISTRICT!AO63,0))","v":0},144140.5963509453,"Y",{"$f":"MAX('MDA2'!J63,'T1'!L63,'T2'!J63,T3_R1!K63,T3_R2!K63)","v":40010},{"$f":"MAX('MDA1'!K63,'MDA2'!K63,'MDA3'!I63,'MDA3'!L63,'T1'!M63,'T2'!K63,T3_R1!L63,T3_R2!L63)","v":61458},{"$f":"MAX('MDA1'!L63,'MDA2'!L63,'MDA3'!J63,'MDA3'!M63,'T1'!N63,'T2'!L63,T3_R1!M63,T3_R2!M63)","v":0},101468,{"$f":"MAX('MDA2'!J63,T63)","v":40010},{"$f":"MAX('MDA1'!K63,'MDA2'!K63,'MDA3'!I63,'MDA3'!L63,V63,AD63)","v":61458},{"$f":"MAX('MDA1'!L63,'MDA2'!L63,'MDA3'!J63,'MDA3'!M63,AF63)","v":0},101468,70.395157623013787]
[{"$f":"IF(COUNTRY_INFO!A64=0,\" \",COUNTRY_INFO!A64)","v":"Uganda"},{"$f":"IF(COUNTRY_INFO!B64=0,\" \",COUNTRY_INFO!B64)","v":"Eastern "},{"$f":"IF(COUNTRY_INFO!C64=0,\" \",COUNTRY_INFO!C64)","v":"Tororo"},{"$f":"COUNTRY_INFO!L64","v":"Stopped"},null,null,{"$f":"MAX('MDA1'!M64,'MDA2'!M64)","v":0},{"$f":"IF(AND(COUNTRY_INFO!H64>0,COUNTRY_INFO!H64<4),IF(D64>MAX('MDA1'!M64,'MDA2'!M64),MAX('MDA1'!M64,'MDA2'!M64),D64),0)","v":0},{"$f":"IF(AND(COUNTRY_INFO!H64>0,COUNTRY_INFO!H64<4), IF(G64/D64*100<>0, IF(G64/D64*100>100,100,G64/D64*100), \"-\"),0)","v":0},{"$f":"COUNTRY_INFO!M64","v":0},null,null,{"$f":"MAX('MDA1'!M64,MAX('MDA3'!I64,'MDA3'!L64)+MAX('MDA3'!J64,'MDA3'!M64))","v":0},{"$f":"IF(AND(COUNTRY_INFO!I64>0,COUNTRY_INFO!I64<4),IF(J64>MAX('MDA1'!M64,MAX('MDA3'!I64,'MDA3'!L64)+MAX('MDA3'!J64,'MDA3'!M64)),MAX('MDA1'!M64,MAX('MDA3'!I64,'MDA3'!L64)+MAX('MDA3'!J64,'MDA3'!M64)),J64),0)","v":0},{"$f":"IF(AND(COUNTRY_INFO!I64>0,COUNTRY_INFO!I64<4), IF(M64/J64*100<>0, IF(M64/J64*100>100,100,M64/J64*100), \"-\"),0)","v":0},{"$f":"COUNTRY_INFO!N64","v":251092},null,null,{"$f":"SUM(MAX('MDA2'!J64, 'T1'!L64, MAX(T3_R1!K64, T3_R2!K64)), MAX('MDA1'!K64, 'MDA2'!K64, 'T1'!M64, MAX(T3_R1!L64, T3_R2!L64)), MAX('MDA1'!L64, 'MDA2'!L64, 'T1'!N64, MAX(T3_R1!M64, T3_R2!M64)))","v":103044},{"$f":"IF(AND(COUNTRY_INFO!J64>1,COUNTRY_INFO!J64<4),IF(COUNTRY_INFO!E64>MAX('MDA2'!J64,'T1'!L64,MAX(T3_R1!K64,T3_R2!K64)),MAX('MDA2'!J64,'T1'!L64,MAX(T3_R1!K64,T3_R2!K64)),COUNTRY_INFO!E64),0)","v":52547},{"$f":"IF(AND(COUNTRY_INFO!J64>1,COUNTRY_INFO!J64<4), IF(T64/COUNTRY_INFO!E64*100<>0, IF(T64/COUNTRY_INFO!E64*100>100,100,T64/COUNTRY_INFO!E64*100), \"-\"),0)","v":65.435096632795378},{"$f":"IF(AND(COUNTRY_INFO!J64>1,COUNTRY_INFO!J64<4),IF(COUNTRY_INFO!F64>MAX('MDA1'!K64,'MDA2'!K64,'T1'!M64,MAX(T3_R1!L64,T3_R2!L64)),MAX('MDA1'!K64,'MDA2'!K64,'T1'!M64,MAX(T3_R1!L64,T3_R2!L64)),COUNTRY_INFO!F64),0)","v":50497},{"$f":"IF(AND(COUNTRY_INFO!J64>1,COUNTRY_INFO!J64<4), IF(V64/COUNTRY_INFO!F64*100<>0, IF(V64/COUNTRY_INFO!F64*100>100,100,V64/COUNTRY_INFO!F64*100), \"-\"),0)","v":29.567065601798721},103044,{"$f":"IF(AND(COUNTRY_INFO!J64>1,COUNTRY_INFO!J64<4), IF(S64/P64*100<>0, IF(X64/P64*100>100,100,X64/P64*100), \"-\"),0)","v":41.038344511175183},{"$f":"COUNTRY_INFO!O64","v":105271},null,null,{"$f":"MAX('T1'!L64,'T2'!J64)+MAX('T1'!M64,'T2'!K64)+MAX('T1'!N64,'T2'!L64)","v":71850},{"$f":"IF(COUNTRY_INFO!K64=1,IF(COUNTRY_INFO!F64*0.33>MAX('T1'!M64,'T2'!K64),MAX('T1'!M64,'T2'!K64),COUNTRY_INFO!F64*0.33),IF(COUNTRY_INFO!K64=2,IF(COUNTRY_INFO!F64*0.5>MAX('T1'!M64,'T2'!K64),MAX('T1'!M64,'T2'!K64),COUNTRY_INFO!F64*0.5),IF(COUNTRY_INFO!K64=3,IF(COUNTRY_INFO!F64>MAX('T1'!M64,'T2'!K64),MAX('T1'!M64,'T2'!K64),COUNTRY_INFO!F64),0)))","v":56360.04},{"$f":"IF(AND(COUNTRY_INFO!K64>0,COUNTRY_INFO!K64<4),IF(Z64>0,IF(COUNTRY_INFO!K64=1, AD64/(COUNTRY_INFO!F64*0.33)*100, IF(COUNTRY_INFO!K64=2, AD64/(COUNTRY_INFO!F64*0.5)*100, IF(COUNTRY_INFO!K64=3, AD64/COUNTRY_INFO!F64*100))),\"-\"),0)","v":100},{"$f":"IF(COUNTRY_INFO!K64=2,IF(COUNTRY_INFO!G64*0.2>MAX('T1'!N64,'T2'!L64),MAX('T1'!N64,'T2'!L64),COUNTRY_INFO!G64*0.2),IF(COUNTRY_INFO!K64=3,IF(COUNTRY_INFO!G64>MAX('T1'!N64,'T2'!L64),MAX('T1'!N64,'T2'!L64),COUNTRY_INFO!G64),0))","v":0},{"$f":"IF(AND(COUNTRY_INFO!K64>0,COUNTRY_INFO!K64<4),IF(Z64>0,IF(COUNTRY_INFO!K64=1, 0, IF(COUNTRY_INFO!K64=2, AF64/(COUNTRY_INFO!G64*0.2)*100, IF(COUNTRY_INFO!K64=3, AF64/COUNTRY_INFO!G64*100))),\"-\"),0)","v":0},56360.04,{"$f":"IF(AND(COUNTRY_INFO!K64>0,COUNTRY_INFO!K64<4), IF(AC64/Z64*100<>0, IF(AH64/Z64*100>100,100,AH64/Z64*100), \"-\"),0)","v":53.538049415318554},null,{"$f":"IF(AND(D64<>0, D64<>\"Unknown\",D64<>\"Stopped\",D64<>\"Not required\"),D64/COUNTRY_INFO!D64, 0)","v":0},{"$f":"IF(AND(J64<>0,J64<>\"Unknown\",J64<>\"Stopped\",J64<>\"Not required\"),J64/COUNTRY_INFO!D64, 0)","v":0},{"$f":"IF(AND(P64<>0,P64<>\"Unknown\",P64<>\"Not required\"),P64/(COUNTRY_INFO!E64+COUNTRY_INFO!F64), 0)","v":1},{"$f":"IF(AND(Z64<>0,Z64<>\"Unknown\",Z64<>\"Not required\"),IF(COUNTRY_INFO!K64=1,1,IF(COUNTRY_INFO!K64=2,0.5*COUNTRY_INFO!F64/(0.5*COUNTRY_INFO!F64+0.2*COUNTRY_INFO!G64),IF(COUNTRY_INFO!K64=3,COUNTRY_INFO!F64/(COUNTRY_INFO!F64+COUNTRY_INFO!G64)))),0)","v":1},{"$f":"IF(AND(Z64<>0,Z64<>\"Unknown\",Z64<>\"Not required\"),IF(COUNTRY_INFO!K64=1,0,IF(COUNTRY_INFO!K64=2,0.2*COUNTRY_INFO!G64/(0.5*COUNTRY_INFO!F64+0.2*COUNTRY_INFO!G64),IF(COUNTRY_INFO!K64=3,COUNTRY_INFO!G64/(COUNTRY_INFO!F64+COUNTRY_INFO!G64)))),0)","v":0},{"$f":"MAX(COUNTRY_INFO!D64*AK64*PROFILE!$G$7,COUNTRY_INFO!D64*AL64*PROFILE!$G$7)","v":0},{"$f":"MAX(COUNTRY_INFO!D64*AK64*PROFILE!$G$8,COUNTRY_INFO!D64*AL64*PROFILE!$G$8,COUNTRY_INFO!D64*AM64*PROFILE!$G$8)","v":80304.228565599318},{"$f":"MAX(COUNTRY_INFO!D64*AK64*PROFILE!$G$9,COUNTRY_INFO!D64*AL64*PROFILE!$G$9,COUNTRY_INFO!D64*AM64*PROFILE!$G$9,IF(AND(DISTRICT!Z64<>\"Unknown\",Z64<>\"Not required\"),COUNTRY_INFO!O64*DISTRICT!AN64,0))","v":170787.97010978562},{"$f":"MAX(COUNTRY_INFO!D64*AK64*PROFILE!$G$10,COUNTRY_INFO!D64*AL64*PROFILE!$G$10,IF(AND(DISTRICT!Z64<>\"Unknown\",Z64<>\"Not required\"),COUNTRY_INFO!O64*DISTRICT!AO64,0))","v":0},251092.19867538492,"Y",{"$f":"MAX('MDA2'!J64,'T1'!L64,'T2'!J64,T3_R1!K64,T3_R2!K64)","v":52547},{"$f":"MAX('MDA1'!K64,'MDA2'!K64,'MDA3'!I64,'MDA3'!L64,'T1'!M64,'T2'!K64,T3_R1!L64,T3_R2!L64)","v":71850},{"$f":"MAX('MDA1'!L64,'MDA2'!L64,'MDA3'!J64,'MDA3'!M64,'T1'!N64,'T2'!L64,T3_R1!M64,T3_R2!M64)","v":0},124397,{"$f":"MAX('MDA2'!J64,T64)","v":52547},{"$f":"MAX('MDA1'!K64,'MDA2'!K64,'MDA3'!I64,'MDA3'!L64,V64,AD64)","v":56360.04},{"$f":"MAX('MDA1'!L64,'MDA2'!L64,'MDA3'!J64,'MDA3'!M64,AF64)","v":0},108907.04000000001,43.373326839515379]
[{"$f":"IF(COUNTRY_INFO!A65=0,\" \",COUNTRY_INFO!A65)","v":"Uganda"},{"$f":"IF(COUNTRY_INFO!B65=0,\" \",COUNTRY_INFO!B65)","v":"Northern"},{"$f":"IF(COUNTRY_INFO!C65=0,\" \",COUNTRY_INFO!C65)","v":"Abim"},{"$f":"COUNTRY_INFO!L65","v":"Stopped"},null,null,{"$f":"MAX('MDA1'!M65,'MDA2'!M65)","v":0},{"$f":"IF(AND(COUNTRY_INFO!H65>0,COUNTRY_INFO!H65<4),IF(D65>MAX('MDA1'!M65,'MDA2'!M65),MAX('MDA1'!M65,'MDA2'!M65),D65),0)","v":0},{"$f":"IF(AND(COUNTRY_INFO!H65>0,COUNTRY_INFO!H65<4), IF(G65/D65*100<>0, IF(G65/D65*100>100,100,G65/D65*100), \"-\"),0)","v":0},{"$f":"COUNTRY_INFO!M65","v":0},null,null,{"$f":"MAX('MDA1'!M65,MAX('MDA3'!I65,'MDA3'!L65)+MAX('MDA3'!J65,'MDA3'!M65))","v":0},{"$f":"IF(AND(COUNTRY_INFO!I65>0,COUNTRY_INFO!I65<4),IF(J65>MAX('MDA1'!M65,MAX('MDA3'!I65,'MDA3'!L65)+MAX('MDA3'!J65,'MDA3'!M65)),MAX('MDA1'!M65,MAX('MDA3'!I65,'MDA3'!L65)+MAX('MDA3'!J65,'MDA3'!M65)),J65),0)","v":0},{"$f":"IF(AND(COUNTRY_INFO!I65>0,COUNTRY_INFO!I65<4), IF(M65/J65*100<>0, IF(M65/J65*100>100,100,M65/J65*100), \"-\"),0)","v":0},{"$f":"COUNTRY_INFO!N65","v":52427},null,null,{"$f":"SUM(MAX('MDA2'!J65, 'T1'!L65, MAX(T3_R1!K65, T3_R2!K65)), MAX('MDA1'!K65, 'MDA2'!K65, 'T1'!M65, MAX(T3_R1!L65, T3_R2!L65)), MAX('MDA1'!L65, 'MDA2'!L65, 'T1'!N65, MAX(T3_R1!M65, T3_R2!M65)))","v":64853},{"$f":"IF(AND(COUNTRY_INFO!J65>1,COUNTRY_INFO!J65<4),IF(COUNTRY_INFO!E65>MAX('MDA2'!J65,'T1'!L65,MAX(T3_R1!K65,T3_R2!K65)),MAX('MDA2'!J65,'T1'!L65,MAX(T3_R1!K65,T3_R2!K65)),COUNTRY_INFO!E65),0)","v":16767},{"$f":"IF(AND(COUNTRY_INFO!J65>1,COUNTRY_INFO!J65<4), IF(T65/COUNTRY_INFO!E65*100<>0, IF(T65/COUNTRY_INFO!E65*100>100,100,T65/COUNTRY_INFO!E65*100), \"-\"),0)","v":100},{"$f":"IF(AND(COUNTRY_INFO!J65>1,COUNTRY_INFO!J65<4),IF(COUNTRY_INFO!F65>MAX('MDA1'!K65,'MDA2'!K65,'T1'!M65,MAX(T3_R1!L65,T3_R2!L65)),MAX('MDA1'!K65,'MDA2'!K65,'T1'!M65,MAX(T3_R1!L65,T3_R2!L65)),COUNTRY_INFO!F65),0)","v":7139},{"$f":"IF(AND(COUNTRY_INFO!J65>1,COUNTRY_INFO!J65<4), IF(V65/COUNTRY_INFO!F65*100<>0, IF(V65/COUNTRY_INFO!F65*100>100,100,V65/COUNTRY_INFO!F65*100), \"-\"),0)","v":20.019629837352777},23906,{"$f":"IF(AND(COUNTRY_INFO!J65>1,COUNTRY_INFO!J65<4), IF(S65/P65*100<>0, IF(X65/P65*100>100,100,X65/P65*100), \"-\"),0)","v":45.598641921147497},{"$f":"COUNTRY_INFO!O65","v":0},null,null,{"$f":"MAX('T1'!L65,'T2'!J65)+MAX('T1'!M65,'T2'!K65)+MAX('T1'!N65,'T2'!L65)","v":0},{"$f":"IF(COUNTRY_INFO!K65=1,IF(COUNTRY_INFO!F65*0.33>MAX('T1'!M65,'T2'!K65),MAX('T1'!M65,'T2'!K65),COUNTRY_INFO!F65*0.33),IF(COUNTRY_INFO!K65=2,IF(COUNTRY_INFO!F65*0.5>MAX('T1'!M65,'T2'!K65),MAX('T1'!M65,'T2'!K65),COUNTRY_INFO!F65*0.5),IF(COUNTRY_INFO!K65=3,IF(COUNTRY_INFO!F65>MAX('T1'!M65,'T2'!K65),MAX('T1'!M65,'T2'!K65),COUNTRY_INFO!F65),0)))","v":0},{"$f":"IF(AND(COUNTRY_INFO!K65>0,COUNTRY_INFO!K65<4),IF(Z65>0,IF(COUNTRY_INFO!K65=1, AD65/(COUNTRY_INFO!F65*0.33)*100, IF(COUNTRY_INFO!K65=2, AD65/(COUNTRY_INFO!F65*0.5)*100, IF(COUNTRY_INFO!K65=3, AD65/COUNTRY_INFO!F65*100))),\"-\"),0)","v":0},{"$f":"IF(COUNTRY_INFO!K65=2,IF(COUNTRY_INFO!G65*0.2>MAX('T1'!N65,'T2'!L65),MAX('T1'!N65,'T2'!L65),COUNTRY_INFO!G65*0.2),IF(COUNTRY_INFO!K65=3,IF(COUNTRY_INFO!G65>MAX('T1'!N65,'T2'!L65),MAX('T1'!N65,'T2'!L65),COUNTRY_INFO!G65),0))","v":0},{"$f":"IF(AND(COUNTRY_INFO!K65>0,COUNTRY_INFO!K65<4),IF(Z65>0,IF(COUNTRY_INFO!K65=1, 0, IF(COUNTRY_INFO!K65=2, AF65/(COUNTRY_INFO!G65*0.2)*100, IF(COUNTRY_INFO!K65=3, AF65/COUNTRY_INFO!G65*100))),\"-\"),0)","v":0},0,{"$f":"IF(AND(COUNTRY_INFO!K65>0,COUNTRY_INFO!K65<4), IF(AC65/Z65*100<>0, IF(AH65/Z65*100>100,100,AH65/Z65*100), \"-\"),0)","v":0},null,{"$f":"IF(AND(D65<>0, D65<>\"Unknown\",D65<>\"Stopped\",D65<>\"Not required\"),D65/COUNTRY_INFO!D65, 0)","v":0},{"$f":"IF(AND(J65<>0,J65<>\"Unknown\",J65<>\"Stopped\",J65<>\"Not required\"),J65/COUNTRY_INFO!D65, 0)","v":0},{"$f":"IF(AND(P65<>0,P65<>\"Unknown\",P65<>\"Not required\"),P65/(COUNTRY_INFO!E65+COUNTRY_INFO!F65), 0)","v":1},{"$f":"IF(AND(Z65<>0,Z65<>\"Unknown\",Z65<>\"Not required\"),IF(COUNTRY_INFO!K65=1,1,IF(COUNTRY_INFO!K65=2,0.5*COUNTRY_INFO!F65/(0.5*COUNTRY_INFO!F65+0.2*COUNTRY_INFO!G65),IF(COUNTRY_INFO!K65=3,COUNTRY_INFO!F65/(COUNTRY_INFO!F65+COUNTRY_INFO!G65)))),0)","v":0},{"$f":"IF(AND(Z65<>0,Z65<>\"Unknown\",Z65<>\"Not required\"),IF(COUNTRY_INFO!K65=1,0,IF(COUNTRY_INFO!K65=2,0.2*COUNTRY_INFO!G65/(0.5*COUNTRY_INFO!F65+0.2*COUNTRY_INFO!G65),IF(COUNTRY_INFO!K65=3,COUNTRY_INFO!G65/(COUNTRY_INFO!F65+COUNTRY_INFO!G65)))),0)","v":0},{"$f":"MAX(COUNTRY_INFO!D65*AK65*PROFILE!$G$7,COUNTRY_INFO!D65*AL65*PROFILE!$G$7)","v":0},{"$f":"MAX(COUNTRY_INFO!D65*AK65*PROFILE!$G$8,COUNTRY_INFO!D65*AL65*PROFILE!$G$8,COUNTRY_INFO!D65*AM65*PROFILE!$G$8)","v":16767.352183776729},{"$f":"MAX(COUNTRY_INFO!D65*AK65*PROFILE!$G$9,COUNTRY_INFO!D65*AL65*PROFILE!$G$9,COUNTRY_INFO!D65*AM65*PROFILE!$G$9,IF(AND(DISTRICT!Z65<>\"Unknown\",Z65<>\"Not required\"),COUNTRY_INFO!O65*DISTRICT!AN65,0))","v":35660.165034071972},{"$f":"MAX(COUNTRY_INFO!D65*AK65*PROFILE!$G$10,COUNTRY_INFO!D65*AL65*PROFILE!$G$10,IF(AND(DISTRICT!Z65<>\"Unknown\",Z65<>\"Not required\"),COUNTRY_INFO!O65*DISTRICT!AO65,0))","v":0},52427.517217848697,"Y",{"$f":"MAX('MDA2'!J65,'T1'!L65,'T2'!J65,T3_R1!K65,T3_R2!K65)","v":57714},{"$f":"MAX('MDA1'!K65,'MDA2'!K65,'MDA3'!I65,'MDA3'!L65,'T1'!M65,'T2'!K65,T3_R1!L65,T3_R2!L65)","v":7139},{"$f":"MAX('MDA1'!L65,'MDA2'!L65,'MDA3'!J65,'MDA3'!M65,'T1'!N65,'T2'!L65,T3_R1!M65,T3_R2!M65)","v":0},64853,{"$f":"MAX('MDA2'!J65,T65)","v":16767},{"$f":"MAX('MDA1'!K65,'MDA2'!K65,'MDA3'!I65,'MDA3'!L65,V65,AD65)","v":7139},{"$f":"MAX('MDA1'!L65,'MDA2'!L65,'MDA3'!J65,'MDA3'!M65,AF65)","v":0},23906,45.598192072809653]
[{"$f":"IF(COUNTRY_INFO!A66=0,\" \",COUNTRY_INFO!A66)","v":"Uganda"},{"$f":"IF(COUNTRY_INFO!B66=0,\" \",COUNTRY_INFO!B66)","v":"Northern"},{"$f":"IF(COUNTRY_INFO!C66=0,\" \",COUNTRY_INFO!C66)","v":"Adjumani"},{"$f":"COUNTRY_INFO!L66","v":"Stopped"},null,null,{"$f":"MAX('MDA1'!M66,'MDA2'!M66)","v":0},{"$f":"IF(AND(COUNTRY_INFO!H66>0,COUNTRY_INFO!H66<4),IF(D66>MAX('MDA1'!M66,'MDA2'!M66),MAX('MDA1'!M66,'MDA2'!M66),D66),0)","v":0},{"$f":"IF(AND(COUNTRY_INFO!H66>0,COUNTRY_INFO!H66<4), IF(G66/D66*100<>0, IF(G66/D66*100>100,100,G66/D66*100), \"-\"),0)","v":0},{"$f":"COUNTRY_INFO!M66","v":28589},null,null,{"$f":"MAX('MDA1'!M66,MAX('MDA3'!I66,'MDA3'!L66)+MAX('MDA3'!J66,'MDA3'!M66))","v":22260},{"$f":"IF(AND(COUNTRY_INFO!I66>0,COUNTRY_INFO!I66<4),IF(J66>MAX('MDA1'!M66,MAX('MDA3'!I66,'MDA3'!L66)+MAX('MDA3'!J66,'MDA3'!M66)),MAX('MDA1'!M66,MAX('MDA3'!I66,'MDA3'!L66)+MAX('MDA3'!J66,'MDA3'!M66)),J66),0)","v":22260},{"$f":"IF(AND(COUNTRY_INFO!I66>0,COUNTRY_INFO!I66<4), IF(M66/J66*100<>0, IF(M66/J66*100>100,100,M66/J66*100), \"-\"),0)","v":77.86211479939837},{"$f":"COUNTRY_INFO!N66","v":109381},null,null,{"$f":"SUM(MAX('MDA2'!J66, 'T1'!L66, MAX(T3_R1!K66, T3_R2!K66)), MAX('MDA1'!K66, 'MDA2'!K66, 'T1'!M66, MAX(T3_R1!L66, T3_R2!L66)), MAX('MDA1'!L66, 'MDA2'!L66, 'T1'!N66, MAX(T3_R1!M66, T3_R2!M66)))","v":80966},{"$f":"IF(AND(COUNTRY_INFO!J66>1,COUNTRY_INFO!J66<4),IF(COUNTRY_INFO!E66>MAX('MDA2'!J66,'T1'!L66,MAX(T3_R1!K66,T3_R2!K66)),MAX('MDA2'!J66,'T1'!L66,MAX(T3_R1!K66,T3_R2!K66)),COUNTRY_INFO!E66),0)","v":34982},{"$f":"IF(AND(COUNTRY_INFO!J66>1,COUNTRY_INFO!J66<4), IF(T66/COUNTRY_INFO!E66*100<>0, IF(T66/COUNTRY_INFO!E66*100>100,100,T66/COUNTRY_INFO!E66*100), \"-\"),0)","v":100},{"$f":"IF(AND(COUNTRY_INFO!J66>1,COUNTRY_INFO!J66<4),IF(COUNTRY_INFO!F66>MAX('MDA1'!K66,'MDA2'!K66,'T1'!M66,MAX(T3_R1!L66,T3_R2!L66)),MAX('MDA1'!K66,'MDA2'!K66,'T1'!M66,MAX(T3_R1!L66,T3_R2!L66)),COUNTRY_INFO!F66),0)","v":21833},{"$f":"IF(AND(COUNTRY_INFO!J66>1,COUNTRY_INFO!J66<4), IF(V66/COUNTRY_INFO!F66*100<>0, IF(V66/COUNTRY_INFO!F66*100>100,100,V66/COUNTRY_INFO!F66*100), \"-\"),0)","v":29.345824540652426},56815,{"$f":"IF(AND(COUNTRY_INFO!J66>1,COUNTRY_INFO!J66<4), IF(S66/P66*100<>0, IF(X66/P66*100>100,100,X66/P66*100), \"-\"),0)","v":51.94229345133067},{"$f":"COUNTRY_INFO!O66","v":47435},null,null,{"$f":"MAX('T1'!L66,'T2'!J66)+MAX('T1'!M66,'T2'!K66)+MAX('T1'!N66,'T2'!L66)","v":49168},{"$f":"IF(COUNTRY_INFO!K66=1,IF(COUNTRY_INFO!F66*0.33>MAX('T1'!M66,'T2'!K66),MAX('T1'!M66,'T2'!K66),COUNTRY_INFO!F66*0.33),IF(COUNTRY_INFO!K66=2,IF(COUNTRY_INFO!F66*0.5>MAX('T1'!M66,'T2'!K66),MAX('T1'!M66,'T2'!K66),COUNTRY_INFO!F66*0.5),IF(COUNTRY_INFO!K66=3,IF(COUNTRY_INFO!F66>MAX('T1'!M66,'T2'!K66),MAX('T1'!M66,'T2'!K66),COUNTRY_INFO!F66),0)))","v":19982},{"$f":"IF(AND(COUNTRY_INFO!K66>0,COUNTRY_INFO!K66<4),IF(Z66>0,IF(COUNTRY_INFO!K66=1, AD66/(COUNTRY_INFO!F66*0.33)*100, IF(COUNTRY_INFO!K66=2, AD66/(COUNTRY_INFO!F66*0.5)*100, IF(COUNTRY_INFO!K66=3, AD66/COUNTRY_INFO!F66*100))),\"-\"),0)","v":26.857887874837026},{"$f":"IF(COUNTRY_INFO!K66=2,IF(COUNTRY_INFO!G66*0.2>MAX('T1'!N66,'T2'!L66),MAX('T1'!N66,'T2'!L66),COUNTRY_INFO!G66*0.2),IF(COUNTRY_INFO!K66=3,IF(COUNTRY_INFO!G66>MAX('T1'!N66,'T2'!L66),MAX('T1'!N66,'T2'!L66),COUNTRY_INFO!G66),0))","v":29186},{"$f":"IF(AND(COUNTRY_INFO!K66>0,COUNTRY_INFO!K66<4),IF(Z66>0,IF(COUNTRY_INFO!K66=1, 0, IF(COUNTRY_INFO!K66=2, AF66/(COUNTRY_INFO!G66*0.2)*100, IF(COUNTRY_INFO!K66=3, AF66/COUNTRY_INFO!G66*100))),\"-\"),0)","v":22.739384495520063},49168,{"$f":"IF(AND(COUNTRY_INFO!K66>0,COUNTRY_INFO!K66<4), IF(AC66/Z66*100<>0, IF(AH66/Z66*100>100,100,AH66/Z66*100), \"-\"),0)","v":100},null,{"$f":"IF(AND(D66<>0, D66<>\"Unknown\",D66<>\"Stopped\",D66<>\"Not required\"),D66/COUNTRY_INFO!D66, 0)","v":0},{"$f":"IF(AND(J66<>0,J66<>\"Unknown\",J66<>\"Stopped\",J66<>\"Not required\"),J66/COUNTRY_INFO!D66, 0)","v":0.11604892166931192},{"$f":"IF(AND(P66<>0,P66<>\"Unknown\",P66<>\"Not required\"),P66/(COUNTRY_INFO!E66+COUNTRY_INFO!F66), 0)","v":1},{"$f":"IF(AND(Z66<>0,Z66<>\"Unknown\",Z66<>\"Not required\"),IF(COUNTRY_INFO!K66=1,1,IF(COUNTRY_INFO!K66=2,0.5*COUNTRY_INFO!F66/(0.5*COUNTRY_INFO!F66+0.2*COUNTRY_INFO!G66),IF(COUNTRY_INFO!K66=3,COUNTRY_INFO!F66/(COUNTRY_INFO!F66+COUNTRY_INFO!G66)))),0)","v":0.36695125500002468},{"$f":"IF(AND(Z66<>0,Z66<>\"Unknown\",Z66<>\"Not required\"),IF(COUNTRY_INFO!K66=1,0,IF(COUNTRY_INFO!K66=2,0.2*COUNTRY_INFO!G66/(0.5*COUNTRY_INFO!F66+0.2*COUNTRY_INFO!G66),IF(COUNTRY_INFO!K66=3,COUNTRY_INFO!G66/(COUNTRY_INFO!F66+COUNTRY_INFO!G66)))),0)","v":0.63304874499997532},{"$f":"MAX(COUNTRY_INFO!D66*AK66*PROFILE!$G$7,COUNTRY_INFO!D66*AL66*PROFILE!$G$7)","v":1000.6176392813582},{"$f":"MAX(COUNTRY_INFO!D66*AK66*PROFILE!$G$8,COUNTRY_INFO!D66*AL66*PROFILE!$G$8,COUNTRY_INFO!D66*AM66*PROFILE!$G$8)","v":34982.109692834929},{"$f":"MAX(COUNTRY_INFO!D66*AK66*PROFILE!$G$9,COUNTRY_INFO!D66*AL66*PROFILE!$G$9,COUNTRY_INFO!D66*AM66*PROFILE!$G$9,IF(AND(DISTRICT!Z66<>\"Unknown\",Z66<>\"Not required\"),COUNTRY_INFO!O66*DISTRICT!AN66,0))","v":74398.616502699297},{"$f":"MAX(COUNTRY_INFO!D66*AK66*PROFILE!$G$10,COUNTRY_INFO!D66*AL66*PROFILE!$G$10,IF(AND(DISTRICT!Z66<>\"Unknown\",Z66<>\"Not required\"),COUNTRY_INFO!O66*DISTRICT!AO66,0))","v":30028.667219073828},140410.01105388941,"Y",{"$f":"MAX('MDA2'!J66,'T1'!L66,'T2'!J66,T3_R1!K66,T3_R2!K66)","v":59133},{"$f":"MAX('MDA1'!K66,'MDA2'!K66,'MDA3'!I66,'MDA3'!L66,'T1'!M66,'T2'!K66,T3_R1!L66,T3_R2!L66)","v":21833},{"$f":"MAX('MDA1'!L66,'MDA2'!L66,'MDA3'!J66,'MDA3'!M66,'T1'!N66,'T2'!L66,T3_R1!M66,T3_R2!M66)","v":29186},110152,{"$f":"MAX('MDA2'!J66,T66)","v":34982},{"$f":"MAX('MDA1'!K66,'MDA2'!K66,'MDA3'!I66,'MDA3'!L66,V66,AD66)","v":21833},{"$f":"MAX('MDA1'!L66,'MDA2'!L66,'MDA3'!J66,'MDA3'!M66,AF66)","v":29186},86001,61.249906153053992]
[{"$f":"IF(COUNTRY_INFO!A67=0,\" \",COUNTRY_INFO!A67)","v":"Uganda"},{"$f":"IF(COUNTRY_INFO!B67=0,\" \",COUNTRY_INFO!B67)","v":"Northern"},{"$f":"IF(COUNTRY_INFO!C67=0,\" \",COUNTRY_INFO!C67)","v":"Agago"},{"$f":"COUNTRY_INFO!L67","v":"Stopped"},null,null,{"$f":"MAX('MDA1'!M67,'MDA2'!M67)","v":0},{"$f":"IF(AND(COUNTRY_INFO!H67>0,COUNTRY_INFO!H67<4),IF(D67>MAX('MDA1'!M67,'MDA2'!M67),MAX('MDA1'!M67,'MDA2'!M67),D67),0)","v":0},{"$f":"IF(AND(COUNTRY_INFO!H67>0,COUNTRY_INFO!H67<4), IF(G67/D67*100<>0, IF(G67/D67*100>100,100,G67/D67*100), \"-\"),0)","v":0},{"$f":"COUNTRY_INFO!M67","v":0},null,null,{"$f":"MAX('MDA1'!M67,MAX('MDA3'!I67,'MDA3'!L67)+MAX('MDA3'!J67,'MDA3'!M67))","v":0},{"$f":"IF(AND(COUNTRY_INFO!I67>0,COUNTRY_INFO!I67<4),IF(J67>MAX('MDA1'!M67,MAX('MDA3'!I67,'MDA3'!L67)+MAX('MDA3'!J67,'MDA3'!M67)),MAX('MDA1'!M67,MAX('MDA3'!I67,'MDA3'!L67)+MAX('MDA3'!J67,'MDA3'!M67)),J67),0)","v":0},{"$f":"IF(AND(COUNTRY_INFO!I67>0,COUNTRY_INFO!I67<4), IF(M67/J67*100<>0, IF(M67/J67*100>100,100,M67/J67*100), \"-\"),0)","v":0},{"$f":"COUNTRY_INFO!N67","v":110615},null,null,{"$f":"SUM(MAX('MDA2'!J67, 'T1'!L67, MAX(T3_R1!K67, T3_R2!K67)), MAX('MDA1'!K67, 'MDA2'!K67, 'T1'!M67, MAX(T3_R1!L67, T3_R2!L67)), MAX('MDA1'!L67, 'MDA2'!L67, 'T1'!N67, MAX(T3_R1!M67, T3_R2!M67)))","v":48965},{"$f":"IF(AND(COUNTRY_INFO!J67>1,COUNTRY_INFO!J67<4),IF(COUNTRY_INFO!E67>MAX('MDA2'!J67,'T1'!L67,MAX(T3_R1!K67,T3_R2!K67)),MAX('MDA2'!J67,'T1'!L67,MAX(T3_R1!K67,T3_R2!K67)),COUNTRY_INFO!E67),0)","v":35377},{"$f":"IF(AND(COUNTRY_INFO!J67>1,COUNTRY_INFO!J67<4), IF(T67/COUNTRY_INFO!E67*100<>0, IF(T67/COUNTRY_INFO!E67*100>100,100,T67/COUNTRY_INFO!E67*100), \"-\"),0)","v":100},{"$f":"IF(AND(COUNTRY_INFO!J67>1,COUNTRY_INFO!J67<4),IF(COUNTRY_INFO!F67>MAX('MDA1'!K67,'MDA2'!K67,'T1'!M67,MAX(T3_R1!L67,T3_R2!L67)),MAX('MDA1'!K67,'MDA2'!K67,'T1'!M67,MAX(T3_R1!L67,T3_R2!L67)),COUNTRY_INFO!F67),0)","v":10063},{"$f":"IF(AND(COUNTRY_INFO!J67>1,COUNTRY_INFO!J67<4), IF(V67/COUNTRY_INFO!F67*100<>0, IF(V67/COUNTRY_INFO!F67*100>100,100,V67/COUNTRY_INFO!F67*100), \"-\"),0)","v":13.374890347962465},45440,{"$f":"IF(AND(COUNTRY_INFO!J67>1,COUNTRY_INFO!J67<4), IF(S67/P67*100<>0, IF(X67/P67*100>100,100,X67/P67*100), \"-\"),0)","v":41.079419608552186},{"$f":"COUNTRY_INFO!O67","v":184053},null,null,{"$f":"MAX('T1'!L67,'T2'!J67)+MAX('T1'!M67,'T2'!K67)+MAX('T1'!N67,'T2'!L67)","v":153869},{"$f":"IF(COUNTRY_INFO!K67=1,IF(COUNTRY_INFO!F67*0.33>MAX('T1'!M67,'T2'!K67),MAX('T1'!M67,'T2'!K67),COUNTRY_INFO!F67*0.33),IF(COUNTRY_INFO!K67=2,IF(COUNTRY_INFO!F67*0.5>MAX('T1'!M67,'T2'!K67),MAX('T1'!M67,'T2'!K67),COUNTRY_INFO!F67*0.5),IF(COUNTRY_INFO!K67=3,IF(COUNTRY_INFO!F67>MAX('T1'!M67,'T2'!K67),MAX('T1'!M67,'T2'!K67),COUNTRY_INFO!F67),0)))","v":61307},{"$f":"IF(AND(COUNTRY_INFO!K67>0,COUNTRY_INFO!K67<4),IF(Z67>0,IF(COUNTRY_INFO!K67=1, AD67/(COUNTRY_INFO!F67*0.33)*100, IF(COUNTRY_INFO!K67=2, AD67/(COUNTRY_INFO!F67*0.5)*100, IF(COUNTRY_INFO!K67=3, AD67/COUNTRY_INFO!F67*100))),\"-\"),0)","v":81.484090486190482},{"$f":"IF(COUNTRY_INFO!K67=2,IF(COUNTRY_INFO!G67*0.2>MAX('T1'!N67,'T2'!L67),MAX('T1'!N67,'T2'!L67),COUNTRY_INFO!G67*0.2),IF(COUNTRY_INFO!K67=3,IF(COUNTRY_INFO!G67>MAX('T1'!N67,'T2'!L67),MAX('T1'!N67,'T2'!L67),COUNTRY_INFO!G67),0))","v":92562},{"$f":"IF(AND(COUNTRY_INFO!K67>0,COUNTRY_INFO!K67<4),IF(Z67>0,IF(COUNTRY_INFO!K67=1, 0, IF(COUNTRY_INFO!K67=2, AF67/(COUNTRY_INFO!G67*0.2)*100, IF(COUNTRY_INFO!K67=3, AF67/COUNTRY_INFO!G67*100))),\"-\"),0)","v":71.312346877455738},153869,{"$f":"IF(AND(COUNTRY_INFO!K67>0,COUNTRY_INFO!K67<4), IF(AC67/Z67*100<>0, IF(AH67/Z67*100>100,100,AH67/Z67*100), \"-\"),0)","v":83.60037597865832},null,{"$f":"IF(AND(D67<>0, D67<>\"Unknown\",D67<>\"Stopped\",D67<>\"Not required\"),D67/COUNTRY_INFO!D67, 0)","v":0},{"$f":"IF(AND(J67<>0,J67<>\"Unknown\",J67<>\"Stopped\",J67<>\"Not required\"),J67/COUNTRY_INFO!D67, 0)","v":0},{"$f":"IF(AND(P67<>0,P67<>\"Unknown\",P67<>\"Not required\"),P67/(COUNTRY_INFO!E67+COUNTRY_INFO!F67), 0)","v":1},{"$f":"IF(AND(Z67<>0,Z67<>\"Unknown\",Z67<>\"Not required\"),IF(COUNTRY_INFO!K67=1,1,IF(COUNTRY_INFO!K67=2,0.5*COUNTRY_INFO!F67/(0.5*COUNTRY_INFO!F67+0.2*COUNTRY_INFO!G67),IF(COUNTRY_INFO!K67=3,COUNTRY_INFO!F67/(COUNTRY_INFO!F67+COUNTRY_INFO!G67)))),0)","v":0.36695019411225344},{"$f":"IF(AND(Z67<>0,Z67<>\"Unknown\",Z67<>\"Not required\"),IF(COUNTRY_INFO!K67=1,0,IF(COUNTRY_INFO!K67=2,0.2*COUNTRY_INFO!G67/(0.5*COUNTRY_INFO!F67+0.2*COUNTRY_INFO!G67),IF(COUNTRY_INFO!K67=3,COUNTRY_INFO!G67/(COUNTRY_INFO!F67+COUNTRY_INFO!G67)))),0)","v":0.63304980588774651},{"$f":"MAX(COUNTRY_INFO!D67*AK67*PROFILE!$G$7,COUNTRY_INFO!D67*AL67*PROFILE!$G$7)","v":0},{"$f":"MAX(COUNTRY_INFO!D67*AK67*PROFILE!$G$8,COUNTRY_INFO!D67*AL67*PROFILE!$G$8,COUNTRY_INFO!D67*AM67*PROFILE!$G$8)","v":35376.727508880962},{"$f":"MAX(COUNTRY_INFO!D67*AK67*PROFILE!$G$9,COUNTRY_INFO!D67*AL67*PROFILE!$G$9,COUNTRY_INFO!D67*AM67*PROFILE!$G$9,IF(AND(DISTRICT!Z67<>\"Unknown\",Z67<>\"Not required\"),COUNTRY_INFO!O67*DISTRICT!AN67,0))","v":75237.874621175637},{"$f":"MAX(COUNTRY_INFO!D67*AK67*PROFILE!$G$10,COUNTRY_INFO!D67*AL67*PROFILE!$G$10,IF(AND(DISTRICT!Z67<>\"Unknown\",Z67<>\"Not required\"),COUNTRY_INFO!O67*DISTRICT!AO67,0))","v":116514.7159230574},227129.318053114,"Y",{"$f":"MAX('MDA2'!J67,'T1'!L67,'T2'!J67,T3_R1!K67,T3_R2!K67)","v":38902},{"$f":"MAX('MDA1'!K67,'MDA2'!K67,'MDA3'!I67,'MDA3'!L67,'T1'!M67,'T2'!K67,T3_R1!L67,T3_R2!L67)","v":61307},{"$f":"MAX('MDA1'!L67,'MDA2'!L67,'MDA3'!J67,'MDA3'!M67,'T1'!N67,'T2'!L67,T3_R1!M67,T3_R2!M67)","v":92562},192771,{"$f":"MAX('MDA2'!J67,T67)","v":35377},{"$f":"MAX('MDA1'!K67,'MDA2'!K67,'MDA3'!I67,'MDA3'!L67,V67,AD67)","v":61307},{"$f":"MAX('MDA1'!L67,'MDA2'!L67,'MDA3'!J67,'MDA3'!M67,AF67)","v":92562},189246,83.320815481753428]
[{"$f":"IF(COUNTRY_INFO!A68=0,\" \",COUNTRY_INFO!A68)","v":"Uganda"},{"$f":"IF(COUNTRY_INFO!B68=0,\" \",COUNTRY_INFO!B68)","v":"Northern"},{"$f":"IF(COUNTRY_INFO!C68=0,\" \",COUNTRY_INFO!C68)","v":"Alebtong"},{"$f":"COUNTRY_INFO!L68","v":"Stopped"},null,null,{"$f":"MAX('MDA1'!M68,'MDA2'!M68)","v":0},{"$f":"IF(AND(COUNTRY_INFO!H68>0,COUNTRY_INFO!H68<4),IF(D68>MAX('MDA1'!M68,'MDA2'!M68),MAX('MDA1'!M68,'MDA2'!M68),D68),0)","v":0},{"$f":"IF(AND(COUNTRY_INFO!H68>0,COUNTRY_INFO!H68<4), IF(G68/D68*100<>0, IF(G68/D68*100>100,100,G68/D68*100), \"-\"),0)","v":0},{"$f":"COUNTRY_INFO!M68","v":0},null,null,{"$f":"MAX('MDA1'!M68,MAX('MDA3'!I68,'MDA3'!L68)+MAX('MDA3'!J68,'MDA3'!M68))","v":0},{"$f":"IF(AND(COUNTRY_INFO!I68>0,COUNTRY_INFO!I68<4),IF(J68>MAX('MDA1'!M68,MAX('MDA3'!I68,'MDA3'!L68)+MAX('MDA3'!J68,'MDA3'!M68)),MAX('MDA1'!M68,MAX('MDA3'!I68,'MDA3'!L68)+MAX('MDA3'!J68,'MDA3'!M68)),J68),0)","v":0},{"$f":"IF(AND(COUNTRY_INFO!I68>0,COUNTRY_INFO!I68<4), IF(M68/J68*100<>0, IF(M68/J68*100>100,100,M68/J68*100), \"-\"),0)","v":0},{"$f":"COUNTRY_INFO!N68","v":110493},null,null,{"$f":"SUM(MAX('MDA2'!J68, 'T1'!L68, MAX(T3_R1!K68, T3_R2!K68)), MAX('MDA1'!K68, 'MDA2'!K68, 'T1'!M68, MAX(T3_R1!L68, T3_R2!L68)), MAX('MDA1'!L68, 'MDA2'!L68, 'T1'!N68, MAX(T3_R1!M68, T3_R2!M68)))","v":50245},{"$f":"IF(AND(COUNTRY_INFO!J68>1,COUNTRY_INFO!J68<4),IF(COUNTRY_INFO!E68>MAX('MDA2'!J68,'T1'!L68,MAX(T3_R1!K68,T3_R2!K68)),MAX('MDA2'!J68,'T1'!L68,MAX(T3_R1!K68,T3_R2!K68)),COUNTRY_INFO!E68),0)","v":23602},{"$f":"IF(AND(COUNTRY_INFO!J68>1,COUNTRY_INFO!J68<4), IF(T68/COUNTRY_INFO!E68*100<>0, IF(T68/COUNTRY_INFO!E68*100>100,100,T68/COUNTRY_INFO!E68*100), \"-\"),0)","v":66.789291980304483},{"$f":"IF(AND(COUNTRY_INFO!J68>1,COUNTRY_INFO!J68<4),IF(COUNTRY_INFO!F68>MAX('MDA1'!K68,'MDA2'!K68,'T1'!M68,MAX(T3_R1!L68,T3_R2!L68)),MAX('MDA1'!K68,'MDA2'!K68,'T1'!M68,MAX(T3_R1!L68,T3_R2!L68)),COUNTRY_INFO!F68),0)","v":26643},{"$f":"IF(AND(COUNTRY_INFO!J68>1,COUNTRY_INFO!J68<4), IF(V68/COUNTRY_INFO!F68*100<>0, IF(V68/COUNTRY_INFO!F68*100>100,100,V68/COUNTRY_INFO!F68*100), \"-\"),0)","v":35.450735147362117},50245,{"$f":"IF(AND(COUNTRY_INFO!J68>1,COUNTRY_INFO!J68<4), IF(S68/P68*100<>0, IF(X68/P68*100>100,100,X68/P68*100), \"-\"),0)","v":45.473468907532606},{"$f":"COUNTRY_INFO!O68","v":99773},null,null,{"$f":"MAX('T1'!L68,'T2'!J68)+MAX('T1'!M68,'T2'!K68)+MAX('T1'!N68,'T2'!L68)","v":93165},{"$f":"IF(COUNTRY_INFO!K68=1,IF(COUNTRY_INFO!F68*0.33>MAX('T1'!M68,'T2'!K68),MAX('T1'!M68,'T2'!K68),COUNTRY_INFO!F68*0.33),IF(COUNTRY_INFO!K68=2,IF(COUNTRY_INFO!F68*0.5>MAX('T1'!M68,'T2'!K68),MAX('T1'!M68,'T2'!K68),COUNTRY_INFO!F68*0.5),IF(COUNTRY_INFO!K68=3,IF(COUNTRY_INFO!F68>MAX('T1'!M68,'T2'!K68),MAX('T1'!M68,'T2'!K68),COUNTRY_INFO!F68),0)))","v":37577.5},{"$f":"IF(AND(COUNTRY_INFO!K68>0,COUNTRY_INFO!K68<4),IF(Z68>0,IF(COUNTRY_INFO!K68=1, AD68/(COUNTRY_INFO!F68*0.33)*100, IF(COUNTRY_INFO!K68=2, AD68/(COUNTRY_INFO!F68*0.5)*100, IF(COUNTRY_INFO!K68=3, AD68/COUNTRY_INFO!F68*100))),\"-\"),0)","v":100},{"$f":"IF(COUNTRY_INFO!K68=2,IF(COUNTRY_INFO!G68*0.2>MAX('T1'!N68,'T2'!L68),MAX('T1'!N68,'T2'!L68),COUNTRY_INFO!G68*0.2),IF(COUNTRY_INFO!K68=3,IF(COUNTRY_INFO!G68>MAX('T1'!N68,'T2'!L68),MAX('T1'!N68,'T2'!L68),COUNTRY_INFO!G68),0))","v":25930.800000000003},{"$f":"IF(AND(COUNTRY_INFO!K68>0,COUNTRY_INFO!K68<4),IF(Z68>0,IF(COUNTRY_INFO!K68=1, 0, IF(COUNTRY_INFO!K68=2, AF68/(COUNTRY_INFO!G68*0.2)*100, IF(COUNTRY_INFO!K68=3, AF68/COUNTRY_INFO!G68*100))),\"-\"),0)","v":100},63508.3,{"$f":"IF(AND(COUNTRY_INFO!K68>0,COUNTRY_INFO!K68<4), IF(AC68/Z68*100<>0, IF(AH68/Z68*100>100,100,AH68/Z68*100), \"-\"),0)","v":63.652791837471071},null,{"$f":"IF(AND(D68<>0, D68<>\"Unknown\",D68<>\"Stopped\",D68<>\"Not required\"),D68/COUNTRY_INFO!D68, 0)","v":0},{"$f":"IF(AND(J68<>0,J68<>\"Unknown\",J68<>\"Stopped\",J68<>\"Not required\"),J68/COUNTRY_INFO!D68, 0)","v":0},{"$f":"IF(AND(P68<>0,P68<>\"Unknown\",P68<>\"Not required\"),P68/(COUNTRY_INFO!E68+COUNTRY_INFO!F68), 0)","v":1},{"$f":"IF(AND(Z68<>0,Z68<>\"Unknown\",Z68<>\"Not required\"),IF(COUNTRY_INFO!K68=1,1,IF(COUNTRY_INFO!K68=2,0.5*COUNTRY_INFO!F68/(0.5*COUNTRY_INFO!F68+0.2*COUNTRY_INFO!G68),IF(COUNTRY_INFO!K68=3,COUNTRY_INFO!F68/(COUNTRY_INFO!F68+COUNTRY_INFO!G68)))),0)","v":0.59169431397155958},{"$f":"IF(AND(Z68<>0,Z68<>\"Unknown\",Z68<>\"Not required\"),IF(COUNTRY_INFO!K68=1,0,IF(COUNTRY_INFO!K68=2,0.2*COUNTRY_INFO!G68/(0.5*COUNTRY_INFO!F68+0.2*COUNTRY_INFO!G68),IF(COUNTRY_INFO!K68=3,COUNTRY_INFO!G68/(COUNTRY_INFO!F68+COUNTRY_INFO!G68)))),0)","v":0.40830568602844042},{"$f":"MAX(COUNTRY_INFO!D68*AK68*PROFILE!$G$7,COUNTRY_INFO!D68*AL68*PROFILE!$G$7)","v":0},{"$f":"MAX(COUNTRY_INFO!D68*AK68*PROFILE!$G$8,COUNTRY_INFO!D68*AL68*PROFILE!$G$8,COUNTRY_INFO!D68*AM68*PROFILE!$G$8)","v":35337.677527084394},{"$f":"MAX(COUNTRY_INFO!D68*AK68*PROFILE!$G$9,COUNTRY_INFO!D68*AL68*PROFILE!$G$9,COUNTRY_INFO!D68*AM68*PROFILE!$G$9,IF(AND(DISTRICT!Z68<>\"Unknown\",Z68<>\"Not required\"),COUNTRY_INFO!O68*DISTRICT!AN68,0))","v":75154.824609451636},{"$f":"MAX(COUNTRY_INFO!D68*AK68*PROFILE!$G$10,COUNTRY_INFO!D68*AL68*PROFILE!$G$10,IF(AND(DISTRICT!Z68<>\"Unknown\",Z68<>\"Not required\"),COUNTRY_INFO!O68*DISTRICT!AO68,0))","v":40737.883212115587},151230.38534865162,"Y",{"$f":"MAX('MDA2'!J68,'T1'!L68,'T2'!J68,T3_R1!K68,T3_R2!K68)","v":23602},{"$f":"MAX('MDA1'!K68,'MDA2'!K68,'MDA3'!I68,'MDA3'!L68,'T1'!M68,'T2'!K68,T3_R1!L68,T3_R2!L68)","v":47503},{"$f":"MAX('MDA1'!L68,'MDA2'!L68,'MDA3'!J68,'MDA3'!M68,'T1'!N68,'T2'!L68,T3_R1!M68,T3_R2!M68)","v":45662},116767,{"$f":"MAX('MDA2'!J68,T68)","v":23602},{"$f":"MAX('MDA1'!K68,'MDA2'!K68,'MDA3'!I68,'MDA3'!L68,V68,AD68)","v":37577.5},{"$f":"MAX('MDA1'!L68,'MDA2'!L68,'MDA3'!J68,'MDA3'!M68,AF68)","v":25930.800000000003},87110.3,57.601056691863207]
[{"$f":"IF(COUNTRY_INFO!A69=0,\" \",COUNTRY_INFO!A69)","v":"Uganda"},{"$f":"IF(COUNTRY_INFO!B69=0,\" \",COUNTRY_INFO!B69)","v":"Northern"},{"$f":"IF(COUNTRY_INFO!C69=0,\" \",COUNTRY_INFO!C69)","v":"Amolatar"},{"$f":"COUNTRY_INFO!L69","v":"Stopped"},null,null,{"$f":"MAX('MDA1'!M69,'MDA2'!M69)","v":0},{"$f":"IF(AND(COUNTRY_INFO!H69>0,COUNTRY_INFO!H69<4),IF(D69>MAX('MDA1'!M69,'MDA2'!M69),MAX('MDA1'!M69,'MDA2'!M69),D69),0)","v":0},{"$f":"IF(AND(COUNTRY_INFO!H69>0,COUNTRY_INFO!H69<4), IF(G69/D69*100<>0, IF(G69/D69*100>100,100,G69/D69*100), \"-\"),0)","v":0},{"$f":"COUNTRY_INFO!M69","v":0},null,null,{"$f":"MAX('MDA1'!M69,MAX('MDA3'!I69,'MDA3'!L69)+MAX('MDA3'!J69,'MDA3'!M69))","v":0},{"$f":"IF(AND(COUNTRY_INFO!I69>0,COUNTRY_INFO!I69<4),IF(J69>MAX('MDA1'!M69,MAX('MDA3'!I69,'MDA3'!L69)+MAX('MDA3'!J69,'MDA3'!M69)),MAX('MDA1'!M69,MAX('MDA3'!I69,'MDA3'!L69)+MAX('MDA3'!J69,'MDA3'!M69)),J69),0)","v":0},{"$f":"IF(AND(COUNTRY_INFO!I69>0,COUNTRY_INFO!I69<4), IF(M69/J69*100<>0, IF(M69/J69*100>100,100,M69/J69*100), \"-\"),0)","v":0},{"$f":"COUNTRY_INFO!N69","v":71463},null,null,{"$f":"SUM(MAX('MDA2'!J69, 'T1'!L69, MAX(T3_R1!K69, T3_R2!K69)), MAX('MDA1'!K69, 'MDA2'!K69, 'T1'!M69, MAX(T3_R1!L69, T3_R2!L69)), MAX('MDA1'!L69, 'MDA2'!L69, 'T1'!N69, MAX(T3_R1!M69, T3_R2!M69)))","v":32108},{"$f":"IF(AND(COUNTRY_INFO!J69>1,COUNTRY_INFO!J69<4),IF(COUNTRY_INFO!E69>MAX('MDA2'!J69,'T1'!L69,MAX(T3_R1!K69,T3_R2!K69)),MAX('MDA2'!J69,'T1'!L69,MAX(T3_R1!K69,T3_R2!K69)),COUNTRY_INFO!E69),0)","v":21487},{"$f":"IF(AND(COUNTRY_INFO!J69>1,COUNTRY_INFO!J69<4), IF(T69/COUNTRY_INFO!E69*100<>0, IF(T69/COUNTRY_INFO!E69*100>100,100,T69/COUNTRY_INFO!E69*100), \"-\"),0)","v":94.014438853642517},{"$f":"IF(AND(COUNTRY_INFO!J69>1,COUNTRY_INFO!J69<4),IF(COUNTRY_INFO!F69>MAX('MDA1'!K69,'MDA2'!K69,'T1'!M69,MAX(T3_R1!L69,T3_R2!L69)),MAX('MDA1'!K69,'MDA2'!K69,'T1'!M69,MAX(T3_R1!L69,T3_R2!L69)),COUNTRY_INFO!F69),0)","v":10621},{"$f":"IF(AND(COUNTRY_INFO!J69>1,COUNTRY_INFO!J69<4), IF(V69/COUNTRY_INFO!F69*100<>0, IF(V69/COUNTRY_INFO!F69*100>100,100,V69/COUNTRY_INFO!F69*100), \"-\"),0)","v":21.85031270572745},32108,{"$f":"IF(AND(COUNTRY_INFO!J69>1,COUNTRY_INFO!J69<4), IF(S69/P69*100<>0, IF(X69/P69*100>100,100,X69/P69*100), \"-\"),0)","v":44.929543959811369},{"$f":"COUNTRY_INFO!O69","v":126651},null,null,{"$f":"MAX('T1'!L69,'T2'!J69)+MAX('T1'!M69,'T2'!K69)+MAX('T1'!N69,'T2'!L69)","v":116616},{"$f":"IF(COUNTRY_INFO!K69=1,IF(COUNTRY_INFO!F69*0.33>MAX('T1'!M69,'T2'!K69),MAX('T1'!M69,'T2'!K69),COUNTRY_INFO!F69*0.33),IF(COUNTRY_INFO!K69=2,IF(COUNTRY_INFO!F69*0.5>MAX('T1'!M69,'T2'!K69),MAX('T1'!M69,'T2'!K69),COUNTRY_INFO!F69*0.5),IF(COUNTRY_INFO!K69=3,IF(COUNTRY_INFO!F69>MAX('T1'!M69,'T2'!K69),MAX('T1'!M69,'T2'!K69),COUNTRY_INFO!F69),0)))","v":47541},{"$f":"IF(AND(COUNTRY_INFO!K69>0,COUNTRY_INFO!K69<4),IF(Z69>0,IF(COUNTRY_INFO!K69=1, AD69/(COUNTRY_INFO!F69*0.33)*100, IF(COUNTRY_INFO!K69=2, AD69/(COUNTRY_INFO!F69*0.5)*100, IF(COUNTRY_INFO!K69=3, AD69/COUNTRY_INFO!F69*100))),\"-\"),0)","v":97.804888084265968},{"$f":"IF(COUNTRY_INFO!K69=2,IF(COUNTRY_INFO!G69*0.2>MAX('T1'!N69,'T2'!L69),MAX('T1'!N69,'T2'!L69),COUNTRY_INFO!G69*0.2),IF(COUNTRY_INFO!K69=3,IF(COUNTRY_INFO!G69>MAX('T1'!N69,'T2'!L69),MAX('T1'!N69,'T2'!L69),COUNTRY_INFO!G69),0))","v":69075},{"$f":"IF(AND(COUNTRY_INFO!K69>0,COUNTRY_INFO!K69<4),IF(Z69>0,IF(COUNTRY_INFO!K69=1, 0, IF(COUNTRY_INFO!K69=2, AF69/(COUNTRY_INFO!G69*0.2)*100, IF(COUNTRY_INFO!K69=3, AF69/COUNTRY_INFO!G69*100))),\"-\"),0)","v":82.373354321694336},116616,{"$f":"IF(AND(COUNTRY_INFO!K69>0,COUNTRY_INFO!K69<4), IF(AC69/Z69*100<>0, IF(AH69/Z69*100>100,100,AH69/Z69*100), \"-\"),0)","v":92.076651585854037},null,{"$f":"IF(AND(D69<>0, D69<>\"Unknown\",D69<>\"Stopped\",D69<>\"Not required\"),D69/COUNTRY_INFO!D69, 0)","v":0},{"$f":"IF(AND(J69<>0,J69<>\"Unknown\",J69<>\"Stopped\",J69<>\"Not required\"),J69/COUNTRY_INFO!D69, 0)","v":0},{"$f":"IF(AND(P69<>0,P69<>\"Unknown\",P69<>\"Not required\"),P69/(COUNTRY_INFO!E69+COUNTRY_INFO!F69), 0)","v":1},{"$f":"IF(AND(Z69<>0,Z69<>\"Unknown\",Z69<>\"Not required\"),IF(COUNTRY_INFO!K69=1,1,IF(COUNTRY_INFO!K69=2,0.5*COUNTRY_INFO!F69/(0.5*COUNTRY_INFO!F69+0.2*COUNTRY_INFO!G69),IF(COUNTRY_INFO!K69=3,COUNTRY_INFO!F69/(COUNTRY_INFO!F69+COUNTRY_INFO!G69)))),0)","v":0.36695253049885251},{"$f":"IF(AND(Z69<>0,Z69<>\"Unknown\",Z69<>\"Not required\"),IF(COUNTRY_INFO!K69=1,0,IF(COUNTRY_INFO!K69=2,0.2*COUNTRY_INFO!G69/(0.5*COUNTRY_INFO!F69+0.2*COUNTRY_INFO!G69),IF(COUNTRY_INFO!K69=3,COUNTRY_INFO!G69/(COUNTRY_INFO!F69+COUNTRY_INFO!G69)))),0)","v":0.63304746950114743},{"$f":"MAX(COUNTRY_INFO!D69*AK69*PROFILE!$G$7,COUNTRY_INFO!D69*AL69*PROFILE!$G$7)","v":0},{"$f":"MAX(COUNTRY_INFO!D69*AK69*PROFILE!$G$8,COUNTRY_INFO!D69*AL69*PROFILE!$G$8,COUNTRY_INFO!D69*AM69*PROFILE!$G$8)","v":22855.173345894578},{"$f":"MAX(COUNTRY_INFO!D69*AK69*PROFILE!$G$9,COUNTRY_INFO!D69*AL69*PROFILE!$G$9,COUNTRY_INFO!D69*AM69*PROFILE!$G$9,IF(AND(DISTRICT!Z69<>\"Unknown\",Z69<>\"Not required\"),COUNTRY_INFO!O69*DISTRICT!AN69,0))","v":48607.510861822084},{"$f":"MAX(COUNTRY_INFO!D69*AK69*PROFILE!$G$10,COUNTRY_INFO!D69*AL69*PROFILE!$G$10,IF(AND(DISTRICT!Z69<>\"Unknown\",Z69<>\"Not required\"),COUNTRY_INFO!O69*DISTRICT!AO69,0))","v":80176.095059789819},151638.7792675065,"Y",{"$f":"MAX('MDA2'!J69,'T1'!L69,'T2'!J69,T3_R1!K69,T3_R2!K69)","v":21487},{"$f":"MAX('MDA1'!K69,'MDA2'!K69,'MDA3'!I69,'MDA3'!L69,'T1'!M69,'T2'!K69,T3_R1!L69,T3_R2!L69)","v":47541},{"$f":"MAX('MDA1'!L69,'MDA2'!L69,'MDA3'!J69,'MDA3'!M69,'T1'!N69,'T2'!L69,T3_R1!M69,T3_R2!M69)","v":69075},138103,{"$f":"MAX('MDA2'!J69,T69)","v":21487},{"$f":"MAX('MDA1'!K69,'MDA2'!K69,'MDA3'!I69,'MDA3'!L69,V69,AD69)","v":47541},{"$f":"MAX('MDA1'!L69,'MDA2'!L69,'MDA3'!J69,'MDA3'!M69,AF69)","v":69075},138103,91.073669062167809]
[{"$f":"IF(COUNTRY_INFO!A70=0,\" \",COUNTRY_INFO!A70)","v":"Uganda"},{"$f":"IF(COUNTRY_INFO!B70=0,\" \",COUNTRY_INFO!B70)","v":"Northern"},{"$f":"IF(COUNTRY_INFO!C70=0,\" \",COUNTRY_INFO!C70)","v":"Amudat"},{"$f":"COUNTRY_INFO!L70","v":"Stopped"},null,null,{"$f":"MAX('MDA1'!M70,'MDA2'!M70)","v":0},{"$f":"IF(AND(COUNTRY_INFO!H70>0,COUNTRY_INFO!H70<4),IF(D70>MAX('MDA1'!M70,'MDA2'!M70),MAX('MDA1'!M70,'MDA2'!M70),D70),0)","v":0},{"$f":"IF(AND(COUNTRY_INFO!H70>0,COUNTRY_INFO!H70<4), IF(G70/D70*100<>0, IF(G70/D70*100>100,100,G70/D70*100), \"-\"),0)","v":0},{"$f":"COUNTRY_INFO!M70","v":0},null,null,{"$f":"MAX('MDA1'!M70,MAX('MDA3'!I70,'MDA3'!L70)+MAX('MDA3'!J70,'MDA3'!M70))","v":0},{"$f":"IF(AND(COUNTRY_INFO!I70>0,COUNTRY_INFO!I70<4),IF(J70>MAX('MDA1'!M70,MAX('MDA3'!I70,'MDA3'!L70)+MAX('MDA3'!J70,'MDA3'!M70)),MAX('MDA1'!M70,MAX('MDA3'!I70,'MDA3'!L70)+MAX('MDA3'!J70,'MDA3'!M70)),J70),0)","v":0},{"$f":"IF(AND(COUNTRY_INFO!I70>0,COUNTRY_INFO!I70<4), IF(M70/J70*100<>0, IF(M70/J70*100>100,100,M70/J70*100), \"-\"),0)","v":0},{"$f":"COUNTRY_INFO!N70","v":51360},null,null,{"$f":"SUM(MAX('MDA2'!J70, 'T1'!L70, MAX(T3_R1!K70, T3_R2!K70)), MAX('MDA1'!K70, 'MDA2'!K70, 'T1'!M70, MAX(T3_R1!L70, T3_R2!L70)), MAX('MDA1'!L70, 'MDA2'!L70, 'T1'!N70, MAX(T3_R1!M70, T3_R2!M70)))","v":22458},{"$f":"IF(AND(COUNTRY_INFO!J70>1,COUNTRY_INFO!J70<4),IF(COUNTRY_INFO!E70>MAX('MDA2'!J70,'T1'!L70,MAX(T3_R1!K70,T3_R2!K70)),MAX('MDA2'!J70,'T1'!L70,MAX(T3_R1!K70,T3_R2!K70)),COUNTRY_INFO!E70),0)","v":16426},{"$f":"IF(AND(COUNTRY_INFO!J70>1,COUNTRY_INFO!J70<4), IF(T70/COUNTRY_INFO!E70*100<>0, IF(T70/COUNTRY_INFO!E70*100>100,100,T70/COUNTRY_INFO!E70*100), \"-\"),0)","v":100},{"$f":"IF(AND(COUNTRY_INFO!J70>1,COUNTRY_INFO!J70<4),IF(COUNTRY_INFO!F70>MAX('MDA1'!K70,'MDA2'!K70,'T1'!M70,MAX(T3_R1!L70,T3_R2!L70)),MAX('MDA1'!K70,'MDA2'!K70,'T1'!M70,MAX(T3_R1!L70,T3_R2!L70)),COUNTRY_INFO!F70),0)","v":2574},{"$f":"IF(AND(COUNTRY_INFO!J70>1,COUNTRY_INFO!J70<4), IF(V70/COUNTRY_INFO!F70*100<>0, IF(V70/COUNTRY_INFO!F70*100>100,100,V70/COUNTRY_INFO!F70*100), \"-\"),0)","v":7.368179996564951},19000,{"$f":"IF(AND(COUNTRY_INFO!J70>1,COUNTRY_INFO!J70<4), IF(S70/P70*100<>0, IF(X70/P70*100>100,100,X70/P70*100), \"-\"),0)","v":36.993769470404985},{"$f":"COUNTRY_INFO!O70","v":0},null,null,{"$f":"MAX('T1'!L70,'T2'!J70)+MAX('T1'!M70,'T2'!K70)+MAX('T1'!N70,'T2'!L70)","v":0},{"$f":"IF(COUNTRY_INFO!K70=1,IF(COUNTRY_INFO!F70*0.33>MAX('T1'!M70,'T2'!K70),MAX('T1'!M70,'T2'!K70),COUNTRY_INFO!F70*0.33),IF(COUNTRY_INFO!K70=2,IF(COUNTRY_INFO!F70*0.5>MAX('T1'!M70,'T2'!K70),MAX('T1'!M70,'T2'!K70),COUNTRY_INFO!F70*0.5),IF(COUNTRY_INFO!K70=3,IF(COUNTRY_INFO!F70>MAX('T1'!M70,'T2'!K70),MAX('T1'!M70,'T2'!K70),COUNTRY_INFO!F70),0)))","v":0},{"$f":"IF(AND(COUNTRY_INFO!K70>0,COUNTRY_INFO!K70<4),IF(Z70>0,IF(COUNTRY_INFO!K70=1, AD70/(COUNTRY_INFO!F70*0.33)*100, IF(COUNTRY_INFO!K70=2, AD70/(COUNTRY_INFO!F70*0.5)*100, IF(COUNTRY_INFO!K70=3, AD70/COUNTRY_INFO!F70*100))),\"-\"),0)","v":0},{"$f":"IF(COUNTRY_INFO!K70=2,IF(COUNTRY_INFO!G70*0.2>MAX('T1'!N70,'T2'!L70),MAX('T1'!N70,'T2'!L70),COUNTRY_INFO!G70*0.2),IF(COUNTRY_INFO!K70=3,IF(COUNTRY_INFO!G70>MAX('T1'!N70,'T2'!L70),MAX('T1'!N70,'T2'!L70),COUNTRY_INFO!G70),0))","v":0},{"$f":"IF(AND(COUNTRY_INFO!K70>0,COUNTRY_INFO!K70<4),IF(Z70>0,IF(COUNTRY_INFO!K70=1, 0, IF(COUNTRY_INFO!K70=2, AF70/(COUNTRY_INFO!G70*0.2)*100, IF(COUNTRY_INFO!K70=3, AF70/COUNTRY_INFO!G70*100))),\"-\"),0)","v":0},0,{"$f":"IF(AND(COUNTRY_INFO!K70>0,COUNTRY_INFO!K70<4), IF(AC70/Z70*100<>0, IF(AH70/Z70*100>100,100,AH70/Z70*100), \"-\"),0)","v":0},null,{"$f":"IF(AND(D70<>0, D70<>\"Unknown\",D70<>\"Stopped\",D70<>\"Not required\"),D70/COUNTRY_INFO!D70, 0)","v":0},{"$f":"IF(AND(J70<>0,J70<>\"Unknown\",J70<>\"Stopped\",J70<>\"Not required\"),J70/COUNTRY_INFO!D70, 0)","v":0},{"$f":"IF(AND(P70<>0,P70<>\"Unknown\",P70<>\"Not required\"),P70/(COUNTRY_INFO!E70+COUNTRY_INFO!F70), 0)","v":1},{"$f":"IF(AND(Z70<>0,Z70<>\"Unknown\",Z70<>\"Not required\"),IF(COUNTRY_INFO!K70=1,1,IF(COUNTRY_INFO!K70=2,0.5*COUNTRY_INFO!F70/(0.5*COUNTRY_INFO!F70+0.2*COUNTRY_INFO!G70),IF(COUNTRY_INFO!K70=3,COUNTRY_INFO!F70/(COUNTRY_INFO!F70+COUNTRY_INFO!G70)))),0)","v":0},{"$f":"IF(AND(Z70<>0,Z70<>\"Unknown\",Z70<>\"Not required\"),IF(COUNTRY_INFO!K70=1,0,IF(COUNTRY_INFO!K70=2,0.2*COUNTRY_INFO!G70/(0.5*COUNTRY_INFO!F70+0.2*COUNTRY_INFO!G70),IF(COUNTRY_INFO!K70=3,COUNTRY_INFO!G70/(COUNTRY_INFO!F70+COUNTRY_INFO!G70)))),0)","v":0},{"$f":"MAX(COUNTRY_INFO!D70*AK70*PROFILE!$G$7,COUNTRY_INFO!D70*AL70*PROFILE!$G$7)","v":0},{"$f":"MAX(COUNTRY_INFO!D70*AK70*PROFILE!$G$8,COUNTRY_INFO!D70*AL70*PROFILE!$G$8,COUNTRY_INFO!D70*AM70*PROFILE!$G$8)","v":16425.984342907832},{"$f":"MAX(COUNTRY_INFO!D70*AK70*PROFILE!$G$9,COUNTRY_INFO!D70*AL70*PROFILE!$G$9,COUNTRY_INFO!D70*AM70*PROFILE!$G$9,IF(AND(DISTRICT!Z70<>\"Unknown\",Z70<>\"Not required\"),COUNTRY_INFO!O70*DISTRICT!AN70,0))","v":34934.156931582904},{"$f":"MAX(COUNTRY_INFO!D70*AK70*PROFILE!$G$10,COUNTRY_INFO!D70*AL70*PROFILE!$G$10,IF(AND(DISTRICT!Z70<>\"Unknown\",Z70<>\"Not required\"),COUNTRY_INFO!O70*DISTRICT!AO70,0))","v":0},51360.141274490736,"Y",{"$f":"MAX('MDA2'!J70,'T1'!L70,'T2'!J70,T3_R1!K70,T3_R2!K70)","v":19884},{"$f":"MAX('MDA1'!K70,'MDA2'!K70,'MDA3'!I70,'MDA3'!L70,'T1'!M70,'T2'!K70,T3_R1!L70,T3_R2!L70)","v":2574},{"$f":"MAX('MDA1'!L70,'MDA2'!L70,'MDA3'!J70,'MDA3'!M70,'T1'!N70,'T2'!L70,T3_R1!M70,T3_R2!M70)","v":0},22458,{"$f":"MAX('MDA2'!J70,T70)","v":16426},{"$f":"MAX('MDA1'!K70,'MDA2'!K70,'MDA3'!I70,'MDA3'!L70,V70,AD70)","v":2574},{"$f":"MAX('MDA1'!L70,'MDA2'!L70,'MDA3'!J70,'MDA3'!M70,AF70)","v":0},19000,36.993667712975729]
[{"$f":"IF(COUNTRY_INFO!A71=0,\" \",COUNTRY_INFO!A71)","v":"Uganda"},{"$f":"IF(COUNTRY_INFO!B71=0,\" \",COUNTRY_INFO!B71)","v":"Northern"},{"$f":"IF(COUNTRY_INFO!C71=0,\" \",COUNTRY_INFO!C71)","v":"Amuru"},{"$f":"COUNTRY_INFO!L71","v":"Stopped"},null,null,{"$f":"MAX('MDA1'!M71,'MDA2'!M71)","v":0},{"$f":"IF(AND(COUNTRY_INFO!H71>0,COUNTRY_INFO!H71<4),IF(D71>MAX('MDA1'!M71,'MDA2'!M71),MAX('MDA1'!M71,'MDA2'!M71),D71),0)","v":0},{"$f":"IF(AND(COUNTRY_INFO!H71>0,COUNTRY_INFO!H71<4), IF(G71/D71*100<>0, IF(G71/D71*100>100,100,G71/D71*100), \"-\"),0)","v":0},{"$f":"COUNTRY_INFO!M71","v":242538},null,null,{"$f":"MAX('MDA1'!M71,MAX('MDA3'!I71,'MDA3'!L71)+MAX('MDA3'!J71,'MDA3'!M71))","v":195820},{"$f":"IF(AND(COUNTRY_INFO!I71>0,COUNTRY_INFO!I71<4),IF(J71>MAX('MDA1'!M71,MAX('MDA3'!I71,'MDA3'!L71)+MAX('MDA3'!J71,'MDA3'!M71)),MAX('MDA1'!M71,MAX('MDA3'!I71,'MDA3'!L71)+MAX('MDA3'!J71,'MDA3'!M71)),J71),0)","v":195820},{"$f":"IF(AND(COUNTRY_INFO!I71>0,COUNTRY_INFO!I71<4), IF(M71/J71*100<>0, IF(M71/J71*100>100,100,M71/J71*100), \"-\"),0)","v":80.737863757431825},{"$f":"COUNTRY_INFO!N71","v":107686},null,null,{"$f":"SUM(MAX('MDA2'!J71, 'T1'!L71, MAX(T3_R1!K71, T3_R2!K71)), MAX('MDA1'!K71, 'MDA2'!K71, 'T1'!M71, MAX(T3_R1!L71, T3_R2!L71)), MAX('MDA1'!L71, 'MDA2'!L71, 'T1'!N71, MAX(T3_R1!M71, T3_R2!M71)))","v":43183},{"$f":"IF(AND(COUNTRY_INFO!J71>1,COUNTRY_INFO!J71<4),IF(COUNTRY_INFO!E71>MAX('MDA2'!J71,'T1'!L71,MAX(T3_R1!K71,T3_R2!K71)),MAX('MDA2'!J71,'T1'!L71,MAX(T3_R1!K71,T3_R2!K71)),COUNTRY_INFO!E71),0)","v":22908},{"$f":"IF(AND(COUNTRY_INFO!J71>1,COUNTRY_INFO!J71<4), IF(T71/COUNTRY_INFO!E71*100<>0, IF(T71/COUNTRY_INFO!E71*100>100,100,T71/COUNTRY_INFO!E71*100), \"-\"),0)","v":66.515679442508713},{"$f":"IF(AND(COUNTRY_INFO!J71>1,COUNTRY_INFO!J71<4),IF(COUNTRY_INFO!F71>MAX('MDA1'!K71,'MDA2'!K71,'T1'!M71,MAX(T3_R1!L71,T3_R2!L71)),MAX('MDA1'!K71,'MDA2'!K71,'T1'!M71,MAX(T3_R1!L71,T3_R2!L71)),COUNTRY_INFO!F71),0)","v":20275},{"$f":"IF(AND(COUNTRY_INFO!J71>1,COUNTRY_INFO!J71<4), IF(V71/COUNTRY_INFO!F71*100<>0, IF(V71/COUNTRY_INFO!F71*100>100,100,V71/COUNTRY_INFO!F71*100), \"-\"),0)","v":27.68069246102176},43183,{"$f":"IF(AND(COUNTRY_INFO!J71>1,COUNTRY_INFO!J71<4), IF(S71/P71*100<>0, IF(X71/P71*100>100,100,X71/P71*100), \"-\"),0)","v":40.100848763999039},{"$f":"COUNTRY_INFO!O71","v":199608},null,null,{"$f":"MAX('T1'!L71,'T2'!J71)+MAX('T1'!M71,'T2'!K71)+MAX('T1'!N71,'T2'!L71)","v":163819},{"$f":"IF(COUNTRY_INFO!K71=1,IF(COUNTRY_INFO!F71*0.33>MAX('T1'!M71,'T2'!K71),MAX('T1'!M71,'T2'!K71),COUNTRY_INFO!F71*0.33),IF(COUNTRY_INFO!K71=2,IF(COUNTRY_INFO!F71*0.5>MAX('T1'!M71,'T2'!K71),MAX('T1'!M71,'T2'!K71),COUNTRY_INFO!F71*0.5),IF(COUNTRY_INFO!K71=3,IF(COUNTRY_INFO!F71>MAX('T1'!M71,'T2'!K71),MAX('T1'!M71,'T2'!K71),COUNTRY_INFO!F71),0)))","v":42988},{"$f":"IF(AND(COUNTRY_INFO!K71>0,COUNTRY_INFO!K71<4),IF(Z71>0,IF(COUNTRY_INFO!K71=1, AD71/(COUNTRY_INFO!F71*0.33)*100, IF(COUNTRY_INFO!K71=2, AD71/(COUNTRY_INFO!F71*0.5)*100, IF(COUNTRY_INFO!K71=3, AD71/COUNTRY_INFO!F71*100))),\"-\"),0)","v":58.689894328700539},{"$f":"IF(COUNTRY_INFO!K71=2,IF(COUNTRY_INFO!G71*0.2>MAX('T1'!N71,'T2'!L71),MAX('T1'!N71,'T2'!L71),COUNTRY_INFO!G71*0.2),IF(COUNTRY_INFO!K71=3,IF(COUNTRY_INFO!G71>MAX('T1'!N71,'T2'!L71),MAX('T1'!N71,'T2'!L71),COUNTRY_INFO!G71),0))","v":120831},{"$f":"IF(AND(COUNTRY_INFO!K71>0,COUNTRY_INFO!K71<4),IF(Z71>0,IF(COUNTRY_INFO!K71=1, 0, IF(COUNTRY_INFO!K71=2, AF71/(COUNTRY_INFO!G71*0.2)*100, IF(COUNTRY_INFO!K71=3, AF71/COUNTRY_INFO!G71*100))),\"-\"),0)","v":95.622892958326076},163819,{"$f":"IF(AND(COUNTRY_INFO!K71>0,COUNTRY_INFO!K71<4), IF(AC71/Z71*100<>0, IF(AH71/Z71*100>100,100,AH71/Z71*100), \"-\"),0)","v":82.070357901486915},null,{"$f":"IF(AND(D71<>0, D71<>\"Unknown\",D71<>\"Stopped\",D71<>\"Not required\"),D71/COUNTRY_INFO!D71, 0)","v":0},{"$f":"IF(AND(J71<>0,J71<>\"Unknown\",J71<>\"Stopped\",J71<>\"Not required\"),J71/COUNTRY_INFO!D71, 0)","v":1},{"$f":"IF(AND(P71<>0,P71<>\"Unknown\",P71<>\"Not required\"),P71/(COUNTRY_INFO!E71+COUNTRY_INFO!F71), 0)","v":1},{"$f":"IF(AND(Z71<>0,Z71<>\"Unknown\",Z71<>\"Not required\"),IF(COUNTRY_INFO!K71=1,1,IF(COUNTRY_INFO!K71=2,0.5*COUNTRY_INFO!F71/(0.5*COUNTRY_INFO!F71+0.2*COUNTRY_INFO!G71),IF(COUNTRY_INFO!K71=3,COUNTRY_INFO!F71/(COUNTRY_INFO!F71+COUNTRY_INFO!G71)))),0)","v":0.36694922047212536},{"$f":"IF(AND(Z71<>0,Z71<>\"Unknown\",Z71<>\"Not required\"),IF(COUNTRY_INFO!K71=1,0,IF(COUNTRY_INFO!K71=2,0.2*COUNTRY_INFO!G71/(0.5*COUNTRY_INFO!F71+0.2*COUNTRY_INFO!G71),IF(COUNTRY_INFO!K71=3,COUNTRY_INFO!G71/(COUNTRY_INFO!F71+COUNTRY_INFO!G71)))),0)","v":0.63305077952787459},{"$f":"MAX(COUNTRY_INFO!D71*AK71*PROFILE!$G$7,COUNTRY_INFO!D71*AL71*PROFILE!$G$7)","v":8488.852390640528},{"$f":"MAX(COUNTRY_INFO!D71*AK71*PROFILE!$G$8,COUNTRY_INFO!D71*AL71*PROFILE!$G$8,COUNTRY_INFO!D71*AM71*PROFILE!$G$8)","v":34440.379945366192},{"$f":"MAX(COUNTRY_INFO!D71*AK71*PROFILE!$G$9,COUNTRY_INFO!D71*AL71*PROFILE!$G$9,COUNTRY_INFO!D71*AM71*PROFILE!$G$9,IF(AND(DISTRICT!Z71<>\"Unknown\",Z71<>\"Not required\"),COUNTRY_INFO!O71*DISTRICT!AN71,0))","v":73246.48634005546},{"$f":"MAX(COUNTRY_INFO!D71*AK71*PROFILE!$G$10,COUNTRY_INFO!D71*AL71*PROFILE!$G$10,IF(AND(DISTRICT!Z71<>\"Unknown\",Z71<>\"Not required\"),COUNTRY_INFO!O71*DISTRICT!AO71,0))","v":126362.28132393783},242538,"Y",{"$f":"MAX('MDA2'!J71,'T1'!L71,'T2'!J71,T3_R1!K71,T3_R2!K71)","v":22908},{"$f":"MAX('MDA1'!K71,'MDA2'!K71,'MDA3'!I71,'MDA3'!L71,'T1'!M71,'T2'!K71,T3_R1!L71,T3_R2!L71)","v":71856},{"$f":"MAX('MDA1'!L71,'MDA2'!L71,'MDA3'!J71,'MDA3'!M71,'T1'!N71,'T2'!L71,T3_R1!M71,T3_R2!M71)","v":123964},218728,{"$f":"MAX('MDA2'!J71,T71)","v":22908},{"$f":"MAX('MDA1'!K71,'MDA2'!K71,'MDA3'!I71,'MDA3'!L71,V71,AD71)","v":71856},{"$f":"MAX('MDA1'!L71,'MDA2'!L71,'MDA3'!J71,'MDA3'!M71,AF71)","v":123964},218728,90.182981635867364]
[{"$f":"IF(COUNTRY_INFO!A72=0,\" \",COUNTRY_INFO!A72)","v":"Uganda"},{"$f":"IF(COUNTRY_INFO!B72=0,\" \",COUNTRY_INFO!B72)","v":"Northern"},{"$f":"IF(COUNTRY_INFO!C72=0,\" \",COUNTRY_INFO!C72)","v":"Apac"},{"$f":"COUNTRY_INFO!L72","v":"Stopped"},null,null,{"$f":"MAX('MDA1'!M72,'MDA2'!M72)","v":0},{"$f":"IF(AND(COUNTRY_INFO!H72>0,COUNTRY_INFO!H72<4),IF(D72>MAX('MDA1'!M72,'MDA2'!M72),MAX('MDA1'!M72,'MDA2'!M72),D72),0)","v":0},{"$f":"IF(AND(COUNTRY_INFO!H72>0,COUNTRY_INFO!H72<4), IF(G72/D72*100<>0, IF(G72/D72*100>100,100,G72/D72*100), \"-\"),0)","v":0},{"$f":"COUNTRY_INFO!M72","v":0},null,null,{"$f":"MAX('MDA1'!M72,MAX('MDA3'!I72,'MDA3'!L72)+MAX('MDA3'!J72,'MDA3'!M72))","v":0},{"$f":"IF(AND(COUNTRY_INFO!I72>0,COUNTRY_INFO!I72<4),IF(J72>MAX('MDA1'!M72,MAX('MDA3'!I72,'MDA3'!L72)+MAX('MDA3'!J72,'MDA3'!M72)),MAX('MDA1'!M72,MAX('MDA3'!I72,'MDA3'!L72)+MAX('MDA3'!J72,'MDA3'!M72)),J72),0)","v":0},{"$f":"IF(AND(COUNTRY_INFO!I72>0,COUNTRY_INFO!I72<4), IF(M72/J72*100<>0, IF(M72/J72*100>100,100,M72/J72*100), \"-\"),0)","v":0},{"$f":"COUNTRY_INFO!N72","v":179003},null,null,{"$f":"SUM(MAX('MDA2'!J72, 'T1'!L72, MAX(T3_R1!K72, T3_R2!K72)), MAX('MDA1'!K72, 'MDA2'!K72, 'T1'!M72, MAX(T3_R1!L72, T3_R2!L72)), MAX('MDA1'!L72, 'MDA2'!L72, 'T1'!N72, MAX(T3_R1!M72, T3_R2!M72)))","v":80885},{"$f":"IF(AND(COUNTRY_INFO!J72>1,COUNTRY_INFO!J72<4),IF(COUNTRY_INFO!E72>MAX('MDA2'!J72,'T1'!L72,MAX(T3_R1!K72,T3_R2!K72)),MAX('MDA2'!J72,'T1'!L72,MAX(T3_R1!K72,T3_R2!K72)),COUNTRY_INFO!E72),0)","v":45773},{"$f":"IF(AND(COUNTRY_INFO!J72>1,COUNTRY_INFO!J72<4), IF(T72/COUNTRY_INFO!E72*100<>0, IF(T72/COUNTRY_INFO!E72*100>100,100,T72/COUNTRY_INFO!E72*100), \"-\"),0)","v":79.95423500847177},{"$f":"IF(AND(COUNTRY_INFO!J72>1,COUNTRY_INFO!J72<4),IF(COUNTRY_INFO!F72>MAX('MDA1'!K72,'MDA2'!K72,'T1'!M72,MAX(T3_R1!L72,T3_R2!L72)),MAX('MDA1'!K72,'MDA2'!K72,'T1'!M72,MAX(T3_R1!L72,T3_R2!L72)),COUNTRY_INFO!F72),0)","v":35112},{"$f":"IF(AND(COUNTRY_INFO!J72>1,COUNTRY_INFO!J72<4), IF(V72/COUNTRY_INFO!F72*100<>0, IF(V72/COUNTRY_INFO!F72*100>100,100,V72/COUNTRY_INFO!F72*100), \"-\"),0)","v":28.838477585951999},80885,{"$f":"IF(AND(COUNTRY_INFO!J72>1,COUNTRY_INFO!J72<4), IF(S72/P72*100<>0, IF(X72/P72*100>100,100,X72/P72*100), \"-\"),0)","v":45.186393524130878},{"$f":"COUNTRY_INFO!O72","v":238178},null,null,{"$f":"MAX('T1'!L72,'T2'!J72)+MAX('T1'!M72,'T2'!K72)+MAX('T1'!N72,'T2'!L72)","v":202389},{"$f":"IF(COUNTRY_INFO!K72=1,IF(COUNTRY_INFO!F72*0.33>MAX('T1'!M72,'T2'!K72),MAX('T1'!M72,'T2'!K72),COUNTRY_INFO!F72*0.33),IF(COUNTRY_INFO!K72=2,IF(COUNTRY_INFO!F72*0.5>MAX('T1'!M72,'T2'!K72),MAX('T1'!M72,'T2'!K72),COUNTRY_INFO!F72*0.5),IF(COUNTRY_INFO!K72=3,IF(COUNTRY_INFO!F72>MAX('T1'!M72,'T2'!K72),MAX('T1'!M72,'T2'!K72),COUNTRY_INFO!F72),0)))","v":85535},{"$f":"IF(AND(COUNTRY_INFO!K72>0,COUNTRY_INFO!K72<4),IF(Z72>0,IF(COUNTRY_INFO!K72=1, AD72/(COUNTRY_INFO!F72*0.33)*100, IF(COUNTRY_INFO!K72=2, AD72/(COUNTRY_INFO!F72*0.5)*100, IF(COUNTRY_INFO!K72=3, AD72/COUNTRY_INFO!F72*100))),\"-\"),0)","v":70.252312039029519},{"$f":"IF(COUNTRY_INFO!K72=2,IF(COUNTRY_INFO!G72*0.2>MAX('T1'!N72,'T2'!L72),MAX('T1'!N72,'T2'!L72),COUNTRY_INFO!G72*0.2),IF(COUNTRY_INFO!K72=3,IF(COUNTRY_INFO!G72>MAX('T1'!N72,'T2'!L72),MAX('T1'!N72,'T2'!L72),COUNTRY_INFO!G72),0))","v":116854},{"$f":"IF(AND(COUNTRY_INFO!K72>0,COUNTRY_INFO!K72<4),IF(Z72>0,IF(COUNTRY_INFO!K72=1, 0, IF(COUNTRY_INFO!K72=2, AF72/(COUNTRY_INFO!G72*0.2)*100, IF(COUNTRY_INFO!K72=3, AF72/COUNTRY_INFO!G72*100))),\"-\"),0)","v":55.632575721508623},202389,{"$f":"IF(AND(COUNTRY_INFO!K72>0,COUNTRY_INFO!K72<4), IF(AC72/Z72*100<>0, IF(AH72/Z72*100>100,100,AH72/Z72*100), \"-\"),0)","v":84.97384309214118},null,{"$f":"IF(AND(D72<>0, D72<>\"Unknown\",D72<>\"Stopped\",D72<>\"Not required\"),D72/COUNTRY_INFO!D72, 0)","v":0},{"$f":"IF(AND(J72<>0,J72<>\"Unknown\",J72<>\"Stopped\",J72<>\"Not required\"),J72/COUNTRY_INFO!D72, 0)","v":0},{"$f":"IF(AND(P72<>0,P72<>\"Unknown\",P72<>\"Not required\"),P72/(COUNTRY_INFO!E72+COUNTRY_INFO!F72), 0)","v":1},{"$f":"IF(AND(Z72<>0,Z72<>\"Unknown\",Z72<>\"Not required\"),IF(COUNTRY_INFO!K72=1,1,IF(COUNTRY_INFO!K72=2,0.5*COUNTRY_INFO!F72/(0.5*COUNTRY_INFO!F72+0.2*COUNTRY_INFO!G72),IF(COUNTRY_INFO!K72=3,COUNTRY_INFO!F72/(COUNTRY_INFO!F72+COUNTRY_INFO!G72)))),0)","v":0.36694996986136225},{"$f":"IF(AND(Z72<>0,Z72<>\"Unknown\",Z72<>\"Not required\"),IF(COUNTRY_INFO!K72=1,0,IF(COUNTRY_INFO!K72=2,0.2*COUNTRY_INFO!G72/(0.5*COUNTRY_INFO!F72+0.2*COUNTRY_INFO!G72),IF(COUNTRY_INFO!K72=3,COUNTRY_INFO!G72/(COUNTRY_INFO!F72+COUNTRY_INFO!G72)))),0)","v":0.6330500301386377},{"$f":"MAX(COUNTRY_INFO!D72*AK72*PROFILE!$G$7,COUNTRY_INFO!D72*AL72*PROFILE!$G$7)","v":0},{"$f":"MAX(COUNTRY_INFO!D72*AK72*PROFILE!$G$8,COUNTRY_INFO!D72*AL72*PROFILE!$G$8,COUNTRY_INFO!D72*AM72*PROFILE!$G$8)","v":57248.55131317109},{"$f":"MAX(COUNTRY_INFO!D72*AK72*PROFILE!$G$9,COUNTRY_INFO!D72*AL72*PROFILE!$G$9,COUNTRY_INFO!D72*AM72*PROFILE!$G$9,IF(AND(DISTRICT!Z72<>\"Unknown\",Z72<>\"Not required\"),COUNTRY_INFO!O72*DISTRICT!AN72,0))","v":121754.03518776612},{"$f":"MAX(COUNTRY_INFO!D72*AK72*PROFILE!$G$10,COUNTRY_INFO!D72*AL72*PROFILE!$G$10,IF(AND(DISTRICT!Z72<>\"Unknown\",Z72<>\"Not required\"),COUNTRY_INFO!O72*DISTRICT!AO72,0))","v":150778.59007836046},329781.17657929764,"Y",{"$f":"MAX('MDA2'!J72,'T1'!L72,'T2'!J72,T3_R1!K72,T3_R2!K72)","v":45773},{"$f":"MAX('MDA1'!K72,'MDA2'!K72,'MDA3'!I72,'MDA3'!L72,'T1'!M72,'T2'!K72,T3_R1!L72,T3_R2!L72)","v":85535},{"$f":"MAX('MDA1'!L72,'MDA2'!L72,'MDA3'!J72,'MDA3'!M72,'T1'!N72,'T2'!L72,T3_R1!M72,T3_R2!M72)","v":116854},248162,{"$f":"MAX('MDA2'!J72,T72)","v":45773},{"$f":"MAX('MDA1'!K72,'MDA2'!K72,'MDA3'!I72,'MDA3'!L72,V72,AD72)","v":85535},{"$f":"MAX('MDA1'!L72,'MDA2'!L72,'MDA3'!J72,'MDA3'!M72,AF72)","v":116854},248162,75.250504766250089]
[{"$f":"IF(COUNTRY_INFO!A73=0,\" \",COUNTRY_INFO!A73)","v":"Uganda"},{"$f":"IF(COUNTRY_INFO!B73=0,\" \",COUNTRY_INFO!B73)","v":"Northern"},{"$f":"IF(COUNTRY_INFO!C73=0,\" \",COUNTRY_INFO!C73)","v":"Arua"},{"$f":"COUNTRY_INFO!L73","v":855344},null,null,{"$f":"MAX('MDA1'!M73,'MDA2'!M73)","v":552346},{"$f":"IF(AND(COUNTRY_INFO!H73>0,COUNTRY_INFO!H73<4),IF(D73>MAX('MDA1'!M73,'MDA2'!M73),MAX('MDA1'!M73,'MDA2'!M73),D73),0)","v":552346},{"$f":"IF(AND(COUNTRY_INFO!H73>0,COUNTRY_INFO!H73<4), IF(G73/D73*100<>0, IF(G73/D73*100>100,100,G73/D73*100), \"-\"),0)","v":64.5758899343422},{"$f":"COUNTRY_INFO!M73","v":186294},null,null,{"$f":"MAX('MDA1'!M73,MAX('MDA3'!I73,'MDA3'!L73)+MAX('MDA3'!J73,'MDA3'!M73))","v":552346},{"$f":"IF(AND(COUNTRY_INFO!I73>0,COUNTRY_INFO!I73<4),IF(J73>MAX('MDA1'!M73,MAX('MDA3'!I73,'MDA3'!L73)+MAX('MDA3'!J73,'MDA3'!M73)),MAX('MDA1'!M73,MAX('MDA3'!I73,'MDA3'!L73)+MAX('MDA3'!J73,'MDA3'!M73)),J73),0)","v":186294},{"$f":"IF(AND(COUNTRY_INFO!I73>0,COUNTRY_INFO!I73<4), IF(M73/J73*100<>0, IF(M73/J73*100>100,100,M73/J73*100), \"-\"),0)","v":100},{"$f":"COUNTRY_INFO!N73","v":379773},null,null,{"$f":"SUM(MAX('MDA2'!J73, 'T1'!L73, MAX(T3_R1!K73, T3_R2!K73)), MAX('MDA1'!K73, 'MDA2'!K73, 'T1'!M73, MAX(T3_R1!L73, T3_R2!L73)), MAX('MDA1'!L73, 'MDA2'!L73, 'T1'!N73, MAX(T3_R1!M73, T3_R2!M73)))","v":711126},{"$f":"IF(AND(COUNTRY_INFO!J73>1,COUNTRY_INFO!J73<4),IF(COUNTRY_INFO!E73>MAX('MDA2'!J73,'T1'!L73,MAX(T3_R1!K73,T3_R2!K73)),MAX('MDA2'!J73,'T1'!L73,MAX(T3_R1!K73,T3_R2!K73)),COUNTRY_INFO!E73),0)","v":121459},{"$f":"IF(AND(COUNTRY_INFO!J73>1,COUNTRY_INFO!J73<4), IF(T73/COUNTRY_INFO!E73*100<>0, IF(T73/COUNTRY_INFO!E73*100>100,100,T73/COUNTRY_INFO!E73*100), \"-\"),0)","v":100},{"$f":"IF(AND(COUNTRY_INFO!J73>1,COUNTRY_INFO!J73<4),IF(COUNTRY_INFO!F73>MAX('MDA1'!K73,'MDA2'!K73,'T1'!M73,MAX(T3_R1!L73,T3_R2!L73)),MAX('MDA1'!K73,'MDA2'!K73,'T1'!M73,MAX(T3_R1!L73,T3_R2!L73)),COUNTRY_INFO!F73),0)","v":202683},{"$f":"IF(AND(COUNTRY_INFO!J73>1,COUNTRY_INFO!J73<4), IF(V73/COUNTRY_INFO!F73*100<>0, IF(V73/COUNTRY_INFO!F73*100>100,100,V73/COUNTRY_INFO!F73*100), \"-\"),0)","v":78.463807613989175},324142,{"$f":"IF(AND(COUNTRY_INFO!J73>1,COUNTRY_INFO!J73<4), IF(S73/P73*100<>0, IF(X73/P73*100>100,100,X73/P73*100), \"-\"),0)","v":85.351512614114228},{"$f":"COUNTRY_INFO!O73","v":770141},null,null,{"$f":"MAX('T1'!L73,'T2'!J73)+MAX('T1'!M73,'T2'!K73)+MAX('T1'!N73,'T2'!L73)","v":313641},{"$f":"IF(COUNTRY_INFO!K73=1,IF(COUNTRY_INFO!F73*0.33>MAX('T1'!M73,'T2'!K73),MAX('T1'!M73,'T2'!K73),COUNTRY_INFO!F73*0.33),IF(COUNTRY_INFO!K73=2,IF(COUNTRY_INFO!F73*0.5>MAX('T1'!M73,'T2'!K73),MAX('T1'!M73,'T2'!K73),COUNTRY_INFO!F73*0.5),IF(COUNTRY_INFO!K73=3,IF(COUNTRY_INFO!F73>MAX('T1'!M73,'T2'!K73),MAX('T1'!M73,'T2'!K73),COUNTRY_INFO!F73),0)))","v":129157},{"$f":"IF(AND(COUNTRY_INFO!K73>0,COUNTRY_INFO!K73<4),IF(Z73>0,IF(COUNTRY_INFO!K73=1, AD73/(COUNTRY_INFO!F73*0.33)*100, IF(COUNTRY_INFO!K73=2, AD73/(COUNTRY_INFO!F73*0.5)*100, IF(COUNTRY_INFO!K73=3, AD73/COUNTRY_INFO!F73*100))),\"-\"),0)","v":100},{"$f":"IF(COUNTRY_INFO!K73=2,IF(COUNTRY_INFO!G73*0.2>MAX('T1'!N73,'T2'!L73),MAX('T1'!N73,'T2'!L73),COUNTRY_INFO!G73*0.2),IF(COUNTRY_INFO!K73=3,IF(COUNTRY_INFO!G73>MAX('T1'!N73,'T2'!L73),MAX('T1'!N73,'T2'!L73),COUNTRY_INFO!G73),0))","v":89126.8},{"$f":"IF(AND(COUNTRY_INFO!K73>0,COUNTRY_INFO!K73<4),IF(Z73>0,IF(COUNTRY_INFO!K73=1, 0, IF(COUNTRY_INFO!K73=2, AF73/(COUNTRY_INFO!G73*0.2)*100, IF(COUNTRY_INFO!K73=3, AF73/COUNTRY_INFO!G73*100))),\"-\"),0)","v":100},218283.8,{"$f":"IF(AND(COUNTRY_INFO!K73>0,COUNTRY_INFO!K73<4), IF(AC73/Z73*100<>0, IF(AH73/Z73*100>100,100,AH73/Z73*100), \"-\"),0)","v":28.343355307664442},null,{"$f":"IF(AND(D73<>0, D73<>\"Unknown\",D73<>\"Stopped\",D73<>\"Not required\"),D73/COUNTRY_INFO!D73, 0)","v":1},{"$f":"IF(AND(J73<>0,J73<>\"Unknown\",J73<>\"Stopped\",J73<>\"Not required\"),J73/COUNTRY_INFO!D73, 0)","v":0.21780008978843599},{"$f":"IF(AND(P73<>0,P73<>\"Unknown\",P73<>\"Not required\"),P73/(COUNTRY_INFO!E73+COUNTRY_INFO!F73), 0)","v":1},{"$f":"IF(AND(Z73<>0,Z73<>\"Unknown\",Z73<>\"Not required\"),IF(COUNTRY_INFO!K73=1,1,IF(COUNTRY_INFO!K73=2,0.5*COUNTRY_INFO!F73/(0.5*COUNTRY_INFO!F73+0.2*COUNTRY_INFO!G73),IF(COUNTRY_INFO!K73=3,COUNTRY_INFO!F73/(COUNTRY_INFO!F73+COUNTRY_INFO!G73)))),0)","v":0.59169301615603176},{"$f":"IF(AND(Z73<>0,Z73<>\"Unknown\",Z73<>\"Not required\"),IF(COUNTRY_INFO!K73=1,0,IF(COUNTRY_INFO!K73=2,0.2*COUNTRY_INFO!G73/(0.5*COUNTRY_INFO!F73+0.2*COUNTRY_INFO!G73),IF(COUNTRY_INFO!K73=3,COUNTRY_INFO!G73/(COUNTRY_INFO!F73+COUNTRY_INFO!G73)))),0)","v":0.4083069838439683},{"$f":"MAX(COUNTRY_INFO!D73*AK73*PROFILE!$G$7,COUNTRY_INFO!D73*AL73*PROFILE!$G$7)","v":29937.118963708908},{"$f":"MAX(COUNTRY_INFO!D73*AK73*PROFILE!$G$8,COUNTRY_INFO!D73*AL73*PROFILE!$G$8,COUNTRY_INFO!D73*AM73*PROFILE!$G$8)","v":121458.79138110029},{"$f":"MAX(COUNTRY_INFO!D73*AK73*PROFILE!$G$9,COUNTRY_INFO!D73*AL73*PROFILE!$G$9,COUNTRY_INFO!D73*AM73*PROFILE!$G$9,IF(AND(DISTRICT!Z73<>\"Unknown\",Z73<>\"Not required\"),COUNTRY_INFO!O73*DISTRICT!AN73,0))","v":455687.05115542246},{"$f":"MAX(COUNTRY_INFO!D73*AK73*PROFILE!$G$10,COUNTRY_INFO!D73*AL73*PROFILE!$G$10,IF(AND(DISTRICT!Z73<>\"Unknown\",Z73<>\"Not required\"),COUNTRY_INFO!O73*DISTRICT!AO73,0))","v":445634.16518954671},1052717.1266897784,{"$f":"IF(COUNTIFS(AK73:AN73,\">0\")=0,0, IF(COUNTIFS(AK73:AN73,\">0\")<=IF(AND(OR(D73>=0,D73=\"Not required\",D73=\"Unknown\",D73=\"Stopped\"),D73>0,H73>0),1,0)+IF(AND(OR(J73>=0,J73=\"Not required\",J73=\"Unknown\",J73=\"Stopped\"),J73>0,N73>0),1,0)+IF(AND(OR(P73>=0,P73=\"Not required\",P73=\"Unknown\"),P73>0,X73>0),1,0)+IF(AND(OR(Z73>=0,Z73=\"Not required\",Z73=\"Unknown\"),Z73>0,AH73>0),1,0),\"Y\",0))","v":"Y"},{"$f":"MAX('MDA2'!J73,'T1'!L73,'T2'!J73,T3_R1!K73,T3_R2!K73)","v":158780},{"$f":"MAX('MDA1'!K73,'MDA2'!K73,'MDA3'!I73,'MDA3'!L73,'T1'!M73,'T2'!K73,T3_R1!L73,T3_R2!L73)","v":209088},{"$f":"MAX('MDA1'!L73,'MDA2'!L73,'MDA3'!J73,'MDA3'!M73,'T1'!N73,'T2'!L73,T3_R1!M73,T3_R2!M73)","v":349663},717531,{"$f":"MAX('MDA2'!J73,T73)","v":121459},{"$f":"MAX('MDA1'!K73,'MDA2'!K73,'MDA3'!I73,'MDA3'!L73,V73,AD73)","v":202683},{"$f":"MAX('MDA1'!L73,'MDA2'!L73,'MDA3'!J73,'MDA3'!M73,AF73)","v":349663},{"$f":"IF(AT73<SUM(AZ73:BB73), AT73,SUM(AZ73:BB73))","v":673805},{"$f":"IF(AT73<>0,BC73/AT73*100,0)","v":64.006273187437301}]
[{"$f":"IF(COUNTRY_INFO!A74=0,\" \",COUNTRY_INFO!A74)","v":"Uganda"},{"$f":"IF(COUNTRY_INFO!B74=0,\" \",COUNTRY_INFO!B74)","v":"Northern"},{"$f":"IF(COUNTRY_INFO!C74=0,\" \",COUNTRY_INFO!C74)","v":"Dokolo"},{"$f":"COUNTRY_INFO!L74","v":"Stopped"},null,null,{"$f":"MAX('MDA1'!M74,'MDA2'!M74)","v":0},{"$f":"IF(AND(COUNTRY_INFO!H74>0,COUNTRY_INFO!H74<4),IF(D74>MAX('MDA1'!M74,'MDA2'!M74),MAX('MDA1'!M74,'MDA2'!M74),D74),0)","v":0},{"$f":"IF(AND(COUNTRY_INFO!H74>0,COUNTRY_INFO!H74<4), IF(G74/D74*100<>0, IF(G74/D74*100>100,100,G74/D74*100), \"-\"),0)","v":0},{"$f":"COUNTRY_INFO!M74","v":0},null,null,{"$f":"MAX('MDA1'!M74,MAX('MDA3'!I74,'MDA3'!L74)+MAX('MDA3'!J74,'MDA3'!M74))","v":0},{"$f":"IF(AND(COUNTRY_INFO!I74>0,COUNTRY_INFO!I74<4),IF(J74>MAX('MDA1'!M74,MAX('MDA3'!I74,'MDA3'!L74)+MAX('MDA3'!J74,'MDA3'!M74)),MAX('MDA1'!M74,MAX('MDA3'!I74,'MDA3'!L74)+MAX('MDA3'!J74,'MDA3'!M74)),J74),0)","v":0},{"$f":"IF(AND(COUNTRY_INFO!I74>0,COUNTRY_INFO!I74<4), IF(M74/J74*100<>0, IF(M74/J74*100>100,100,M74/J74*100), \"-\"),0)","v":0},{"$f":"COUNTRY_INFO!N74","v":88909},null,null,{"$f":"SUM(MAX('MDA2'!J74, 'T1'!L74, MAX(T3_R1!K74, T3_R2!K74)), MAX('MDA1'!K74, 'MDA2'!K74, 'T1'!M74, MAX(T3_R1!L74, T3_R2!L74)), MAX('MDA1'!L74, 'MDA2'!L74, 'T1'!N74, MAX(T3_R1!M74, T3_R2!M74)))","v":46205},{"$f":"IF(AND(COUNTRY_INFO!J74>1,COUNTRY_INFO!J74<4),IF(COUNTRY_INFO!E74>MAX('MDA2'!J74,'T1'!L74,MAX(T3_R1!K74,T3_R2!K74)),MAX('MDA2'!J74,'T1'!L74,MAX(T3_R1!K74,T3_R2!K74)),COUNTRY_INFO!E74),0)","v":24837},{"$f":"IF(AND(COUNTRY_INFO!J74>1,COUNTRY_INFO!J74<4), IF(T74/COUNTRY_INFO!E74*100<>0, IF(T74/COUNTRY_INFO!E74*100>100,100,T74/COUNTRY_INFO!E74*100), \"-\"),0)","v":87.346579919113765},{"$f":"IF(AND(COUNTRY_INFO!J74>1,COUNTRY_INFO!J74<4),IF(COUNTRY_INFO!F74>MAX('MDA1'!K74,'MDA2'!K74,'T1'!M74,MAX(T3_R1!L74,T3_R2!L74)),MAX('MDA1'!K74,'MDA2'!K74,'T1'!M74,MAX(T3_R1!L74,T3_R2!L74)),COUNTRY_INFO!F74),0)","v":21368},{"$f":"IF(AND(COUNTRY_INFO!J74>1,COUNTRY_INFO!J74<4), IF(V74/COUNTRY_INFO!F74*100<>0, IF(V74/COUNTRY_INFO!F74*100>100,100,V74/COUNTRY_INFO!F74*100), \"-\"),0)","v":35.334193206998052},{"$f":"SUM(T74,V74)","v":46205},{"$f":"IF(AND(COUNTRY_INFO!J74>1,COUNTRY_INFO!J74<4), IF(S74/P74*100<>0, IF(X74/P74*100>100,100,X74/P74*100), \"-\"),0)","v":51.968867043831338},{"$f":"COUNTRY_INFO!O74","v":32455},null,null,{"$f":"MAX('T1'!L74,'T2'!J74)+MAX('T1'!M74,'T2'!K74)+MAX('T1'!N74,'T2'!L74)","v":30581},{"$f":"IF(COUNTRY_INFO!K74=1,IF(COUNTRY_INFO!F74*0.33>MAX('T1'!M74,'T2'!K74),MAX('T1'!M74,'T2'!K74),COUNTRY_INFO!F74*0.33),IF(COUNTRY_INFO!K74=2,IF(COUNTRY_INFO!F74*0.5>MAX('T1'!M74,'T2'!K74),MAX('T1'!M74,'T2'!K74),COUNTRY_INFO!F74*0.5),IF(COUNTRY_INFO!K74=3,IF(COUNTRY_INFO!F74>MAX('T1'!M74,'T2'!K74),MAX('T1'!M74,'T2'!K74),COUNTRY_INFO!F74),0)))","v":19956.420000000002},{"$f":"IF(AND(COUNTRY_INFO!K74>0,COUNTRY_INFO!K74<4),IF(Z74>0,IF(COUNTRY_INFO!K74=1, AD74/(COUNTRY_INFO!F74*0.33)*100, IF(COUNTRY_INFO!K74=2, AD74/(COUNTRY_INFO!F74*0.5)*100, IF(COUNTRY_INFO!K74=3, AD74/COUNTRY_INFO!F74*100))),\"-\"),0)","v":100},{"$f":"IF(COUNTRY_INFO!K74=2,IF(COUNTRY_INFO!G74*0.2>MAX('T1'!N74,'T2'!L74),MAX('T1'!N74,'T2'!L74),COUNTRY_INFO!G74*0.2),IF(COUNTRY_INFO!K74=3,IF(COUNTRY_INFO!G74>MAX('T1'!N74,'T2'!L74),MAX('T1'!N74,'T2'!L74),COUNTRY_INFO!G74),0))","v":0},{"$f":"IF(AND(COUNTRY_INFO!K74>0,COUNTRY_INFO!K74<4),IF(Z74>0,IF(COUNTRY_INFO!K74=1, 0, IF(COUNTRY_INFO!K74=2, AF74/(COUNTRY_INFO!G74*0.2)*100, IF(COUNTRY_INFO!K74=3, AF74/COUNTRY_INFO!G74*100))),\"-\"),0)","v":0},{"$f":"SUM(AD74,AF74)","v":19956.420000000002},{"$f":"IF(AND(COUNTRY_INFO!K74>0,COUNTRY_INFO!K74<4), IF(AC74/Z74*100<>0, IF(AH74/Z74*100>100,100,AH74/Z74*100), \"-\"),0)","v":61.489508550300421},null,{"$f":"IF(AND(D74<>0, D74<>\"Unknown\",D74<>\"Stopped\",D74<>\"Not required\"),D74/COUNTRY_INFO!D74, 0)","v":0},{"$f":"IF(AND(J74<>0,J74<>\"Unknown\",J74<>\"Stopped\",J74<>\"Not required\"),J74/COUNTRY_INFO!D74, 0)","v":0},{"$f":"IF(AND(P74<>0,P74<>\"Unknown\",P74<>\"Not required\"),P74/(COUNTRY_INFO!E74+COUNTRY_INFO!F74), 0)","v":1},{"$f":"IF(AND(Z74<>0,Z74<>\"Unknown\",Z74<>\"Not required\"),IF(COUNTRY_INFO!K74=1,1,IF(COUNTRY_INFO!K74=2,0.5*COUNTRY_INFO!F74/(0.5*COUNTRY_INFO!F74+0.2*COUNTRY_INFO!G74),IF(COUNTRY_INFO!K74=3,COUNTRY_INFO!F74/(COUNTRY_INFO!F74+COUNTRY_INFO!G74)))),0)","v":1},{"$f":"IF(AND(Z74<>0,Z74<>\"Unknown\",Z74<>\"Not required\"),IF(COUNTRY_INFO!K74=1,0,IF(COUNTRY_INFO!K74=2,0.2*COUNTRY_INFO!G74/(0.5*COUNTRY_INFO!F74+0.2*COUNTRY_INFO!G74),IF(COUNTRY_INFO!K74=3,COUNTRY_INFO!G74/(COUNTRY_INFO!F74+COUNTRY_INFO!G74)))),0)","v":0},{"$f":"MAX(COUNTRY_INFO!D74*AK74*PROFILE!$G$7,COUNTRY_INFO!D74*AL74*PROFILE!$G$7)","v":0},{"$f":"MAX(COUNTRY_INFO!D74*AK74*PROFILE!$G$8,COUNTRY_INFO!D74*AL74*PROFILE!$G$8,COUNTRY_INFO!D74*AM74*PROFILE!$G$8)","v":28434.918744855648},{"$f":"MAX(COUNTRY_INFO!D74*AK74*PROFILE!$G$9,COUNTRY_INFO!D74*AL74*PROFILE!$G$9,COUNTRY_INFO!D74*AM74*PROFILE!$G$9,IF(AND(DISTRICT!Z74<>\"Unknown\",Z74<>\"Not required\"),COUNTRY_INFO!O74*DISTRICT!AN74,0))","v":60474.300537032315},{"$f":"MAX(COUNTRY_INFO!D74*AK74*PROFILE!$G$10,COUNTRY_INFO!D74*AL74*PROFILE!$G$10,IF(AND(DISTRICT!Z74<>\"Unknown\",Z74<>\"Not required\"),COUNTRY_INFO!O74*DISTRICT!AO74,0))","v":0},{"$f":"SUM(AP74:AS74)","v":88909.219281887956},"Y",{"$f":"MAX('MDA2'!J74,'T1'!L74,'T2'!J74,T3_R1!K74,T3_R2!K74)","v":24837},{"$f":"MAX('MDA1'!K74,'MDA2'!K74,'MDA3'!I74,'MDA3'!L74,'T1'!M74,'T2'!K74,T3_R1!L74,T3_R2!L74)","v":30581},{"$f":"MAX('MDA1'!L74,'MDA2'!L74,'MDA3'!J74,'MDA3'!M74,'T1'!N74,'T2'!L74,T3_R1!M74,T3_R2!M74)","v":0},{"$f":"SUM(AV74:AX74)","v":55418},{"$f":"MAX('MDA2'!J74,T74)","v":24837},{"$f":"MAX('MDA1'!K74,'MDA2'!K74,'MDA3'!I74,'MDA3'!L74,V74,AD74)","v":21368},{"$f":"MAX('MDA1'!L74,'MDA2'!L74,'MDA3'!J74,'MDA3'!M74,AF74)","v":0},46205,51.968738870044938]
[{"$f":"IF(COUNTRY_INFO!A75=0,\" \",COUNTRY_INFO!A75)","v":"Uganda"},{"$f":"IF(COUNTRY_INFO!B75=0,\" \",COUNTRY_INFO!B75)","v":"Northern"},{"$f":"IF(COUNTRY_INFO!C75=0,\" \",COUNTRY_INFO!C75)","v":"Gulu"},{"$f":"COUNTRY_INFO!L75","v":219162},null,null,{"$f":"MAX('MDA1'!M75,'MDA2'!M75)","v":157322},{"$f":"IF(AND(COUNTRY_INFO!H75>0,COUNTRY_INFO!H75<4),IF(D75>MAX('MDA1'!M75,'MDA2'!M75),MAX('MDA1'!M75,'MDA2'!M75),D75),0)","v":157322},{"$f":"IF(AND(COUNTRY_INFO!H75>0,COUNTRY_INFO!H75<4), IF(G75/D75*100<>0, IF(G75/D75*100>100,100,G75/D75*100), \"-\"),0)","v":71.783429609147575},{"$f":"COUNTRY_INFO!M75","v":149990},null,null,{"$f":"MAX('MDA1'!M75,MAX('MDA3'!I75,'MDA3'!L75)+MAX('MDA3'!J75,'MDA3'!M75))","v":157322},{"$f":"IF(AND(COUNTRY_INFO!I75>0,COUNTRY_INFO!I75<4),IF(J75>MAX('MDA1'!M75,MAX('MDA3'!I75,'MDA3'!L75)+MAX('MDA3'!J75,'MDA3'!M75)),MAX('MDA1'!M75,MAX('MDA3'!I75,'MDA3'!L75)+MAX('MDA3'!J75,'MDA3'!M75)),J75),0)","v":149990},{"$f":"IF(AND(COUNTRY_INFO!I75>0,COUNTRY_INFO!I75<4), IF(M75/J75*100<>0, IF(M75/J75*100>100,100,M75/J75*100), \"-\"),0)","v":100},{"$f":"COUNTRY_INFO!N75","v":97308},null,null,{"$f":"SUM(MAX('MDA2'!J75, 'T1'!L75, MAX(T3_R1!K75, T3_R2!K75)), MAX('MDA1'!K75, 'MDA2'!K75, 'T1'!M75, MAX(T3_R1!L75, T3_R2!L75)), MAX('MDA1'!L75, 'MDA2'!L75, 'T1'!N75, MAX(T3_R1!M75, T3_R2!M75)))","v":231534},{"$f":"IF(AND(COUNTRY_INFO!J75>1,COUNTRY_INFO!J75<4),IF(COUNTRY_INFO!E75>MAX('MDA2'!J75,'T1'!L75,MAX(T3_R1!K75,T3_R2!K75)),MAX('MDA2'!J75,'T1'!L75,MAX(T3_R1!K75,T3_R2!K75)),COUNTRY_INFO!E75),0)","v":31121},{"$f":"IF(AND(COUNTRY_INFO!J75>1,COUNTRY_INFO!J75<4), IF(T75/COUNTRY_INFO!E75*100<>0, IF(T75/COUNTRY_INFO!E75*100>100,100,T75/COUNTRY_INFO!E75*100), \"-\"),0)","v":100},{"$f":"IF(AND(COUNTRY_INFO!J75>1,COUNTRY_INFO!J75<4),IF(COUNTRY_INFO!F75>MAX('MDA1'!K75,'MDA2'!K75,'T1'!M75,MAX(T3_R1!L75,T3_R2!L75)),MAX('MDA1'!K75,'MDA2'!K75,'T1'!M75,MAX(T3_R1!L75,T3_R2!L75)),COUNTRY_INFO!F75),0)","v":66187},{"$f":"IF(AND(COUNTRY_INFO!J75>1,COUNTRY_INFO!J75<4), IF(V75/COUNTRY_INFO!F75*100<>0, IF(V75/COUNTRY_INFO!F75*100>100,100,V75/COUNTRY_INFO!F75*100), \"-\"),0)","v":100},97308,{"$f":"IF(AND(COUNTRY_INFO!J75>1,COUNTRY_INFO!J75<4), IF(S75/P75*100<>0, IF(X75/P75*100>100,100,X75/P75*100), \"-\"),0)","v":100},{"$f":"COUNTRY_INFO!O75","v":186904},null,null,{"$f":"MAX('T1'!L75,'T2'!J75)+MAX('T1'!M75,'T2'!K75)+MAX('T1'!N75,'T2'!L75)","v":179492},{"$f":"IF(COUNTRY_INFO!K75=1,IF(COUNTRY_INFO!F75*0.33>MAX('T1'!M75,'T2'!K75),MAX('T1'!M75,'T2'!K75),COUNTRY_INFO!F75*0.33),IF(COUNTRY_INFO!K75=2,IF(COUNTRY_INFO!F75*0.5>MAX('T1'!M75,'T2'!K75),MAX('T1'!M75,'T2'!K75),COUNTRY_INFO!F75*0.5),IF(COUNTRY_INFO!K75=3,IF(COUNTRY_INFO!F75>MAX('T1'!M75,'T2'!K75),MAX('T1'!M75,'T2'!K75),COUNTRY_INFO!F75),0)))","v":33093.5},{"$f":"IF(AND(COUNTRY_INFO!K75>0,COUNTRY_INFO!K75<4),IF(Z75>0,IF(COUNTRY_INFO!K75=1, AD75/(COUNTRY_INFO!F75*0.33)*100, IF(COUNTRY_INFO!K75=2, AD75/(COUNTRY_INFO!F75*0.5)*100, IF(COUNTRY_INFO!K75=3, AD75/COUNTRY_INFO!F75*100))),\"-\"),0)","v":100},{"$f":"IF(COUNTRY_INFO!K75=2,IF(COUNTRY_INFO!G75*0.2>MAX('T1'!N75,'T2'!L75),MAX('T1'!N75,'T2'!L75),COUNTRY_INFO!G75*0.2),IF(COUNTRY_INFO!K75=3,IF(COUNTRY_INFO!G75>MAX('T1'!N75,'T2'!L75),MAX('T1'!N75,'T2'!L75),COUNTRY_INFO!G75),0))","v":22836.600000000002},{"$f":"IF(AND(COUNTRY_INFO!K75>0,COUNTRY_INFO!K75<4),IF(Z75>0,IF(COUNTRY_INFO!K75=1, 0, IF(COUNTRY_INFO!K75=2, AF75/(COUNTRY_INFO!G75*0.2)*100, IF(COUNTRY_INFO!K75=3, AF75/COUNTRY_INFO!G75*100))),\"-\"),0)","v":100},55930.100000000006,{"$f":"IF(AND(COUNTRY_INFO!K75>0,COUNTRY_INFO!K75<4), IF(AC75/Z75*100<>0, IF(AH75/Z75*100>100,100,AH75/Z75*100), \"-\"),0)","v":29.924506698626036},null,{"$f":"IF(AND(D75<>0, D75<>\"Unknown\",D75<>\"Stopped\",D75<>\"Not required\"),D75/COUNTRY_INFO!D75, 0)","v":1},{"$f":"IF(AND(J75<>0,J75<>\"Unknown\",J75<>\"Stopped\",J75<>\"Not required\"),J75/COUNTRY_INFO!D75, 0)","v":0.68437959135251547},{"$f":"IF(AND(P75<>0,P75<>\"Unknown\",P75<>\"Not required\"),P75/(COUNTRY_INFO!E75+COUNTRY_INFO!F75), 0)","v":1},{"$f":"IF(AND(Z75<>0,Z75<>\"Unknown\",Z75<>\"Not required\"),IF(COUNTRY_INFO!K75=1,1,IF(COUNTRY_INFO!K75=2,0.5*COUNTRY_INFO!F75/(0.5*COUNTRY_INFO!F75+0.2*COUNTRY_INFO!G75),IF(COUNTRY_INFO!K75=3,COUNTRY_INFO!F75/(COUNTRY_INFO!F75+COUNTRY_INFO!G75)))),0)","v":0.59169391794400505},{"$f":"IF(AND(Z75<>0,Z75<>\"Unknown\",Z75<>\"Not required\"),IF(COUNTRY_INFO!K75=1,0,IF(COUNTRY_INFO!K75=2,0.2*COUNTRY_INFO!G75/(0.5*COUNTRY_INFO!F75+0.2*COUNTRY_INFO!G75),IF(COUNTRY_INFO!K75=3,COUNTRY_INFO!G75/(COUNTRY_INFO!F75+COUNTRY_INFO!G75)))),0)","v":0.40830608205599489},{"$f":"MAX(COUNTRY_INFO!D75*AK75*PROFILE!$G$7,COUNTRY_INFO!D75*AL75*PROFILE!$G$7)","v":7670.6902326132777},{"$f":"MAX(COUNTRY_INFO!D75*AK75*PROFILE!$G$8,COUNTRY_INFO!D75*AL75*PROFILE!$G$8,COUNTRY_INFO!D75*AM75*PROFILE!$G$8)","v":31120.989492724217},{"$f":"MAX(COUNTRY_INFO!D75*AK75*PROFILE!$G$9,COUNTRY_INFO!D75*AL75*PROFILE!$G$9,COUNTRY_INFO!D75*AM75*PROFILE!$G$9,IF(AND(DISTRICT!Z75<>\"Unknown\",Z75<>\"Not required\"),COUNTRY_INFO!O75*DISTRICT!AN75,0))","v":110589.96003940632},{"$f":"MAX(COUNTRY_INFO!D75*AK75*PROFILE!$G$10,COUNTRY_INFO!D75*AL75*PROFILE!$G$10,IF(AND(DISTRICT!Z75<>\"Unknown\",Z75<>\"Not required\"),COUNTRY_INFO!O75*DISTRICT!AO75,0))","v":114183.3869311896},263565.02669593343,"Y",{"$f":"MAX('MDA2'!J75,'T1'!L75,'T2'!J75,T3_R1!K75,T3_R2!K75)","v":65423},{"$f":"MAX('MDA1'!K75,'MDA2'!K75,'MDA3'!I75,'MDA3'!L75,'T1'!M75,'T2'!K75,T3_R1!L75,T3_R2!L75)","v":79462},{"$f":"MAX('MDA1'!L75,'MDA2'!L75,'MDA3'!J75,'MDA3'!M75,'T1'!N75,'T2'!L75,T3_R1!M75,T3_R2!M75)","v":100030},244915,{"$f":"MAX('MDA2'!J75,T75)","v":31121},{"$f":"MAX('MDA1'!K75,'MDA2'!K75,'MDA3'!I75,'MDA3'!L75,V75,AD75)","v":66187},{"$f":"MAX('MDA1'!L75,'MDA2'!L75,'MDA3'!J75,'MDA3'!M75,AF75)","v":99593},196901,74.706801000255012]
[{"$f":"IF(COUNTRY_INFO!A76=0,\" \",COUNTRY_INFO!A76)","v":"Uganda"},{"$f":"IF(COUNTRY_INFO!B76=0,\" \",COUNTRY_INFO!B76)","v":"Northern"},{"$f":"IF(COUNTRY_INFO!C76=0,\" \",COUNTRY_INFO!C76)","v":"Kaabong"},{"$f":"COUNTRY_INFO!L76","v":"Stopped"},null,null,{"$f":"MAX('MDA1'!M76,'MDA2'!M76)","v":0},{"$f":"IF(AND(COUNTRY_INFO!H76>0,COUNTRY_INFO!H76<4),IF(D76>MAX('MDA1'!M76,'MDA2'!M76),MAX('MDA1'!M76,'MDA2'!M76),D76),0)","v":0},{"$f":"IF(AND(COUNTRY_INFO!H76>0,COUNTRY_INFO!H76<4), IF(G76/D76*100<>0, IF(G76/D76*100>100,100,G76/D76*100), \"-\"),0)","v":0},{"$f":"COUNTRY_INFO!M76","v":0},null,null,{"$f":"MAX('MDA1'!M76,MAX('MDA3'!I76,'MDA3'!L76)+MAX('MDA3'!J76,'MDA3'!M76))","v":0},{"$f":"IF(AND(COUNTRY_INFO!I76>0,COUNTRY_INFO!I76<4),IF(J76>MAX('MDA1'!M76,MAX('MDA3'!I76,'MDA3'!L76)+MAX('MDA3'!J76,'MDA3'!M76)),MAX('MDA1'!M76,MAX('MDA3'!I76,'MDA3'!L76)+MAX('MDA3'!J76,'MDA3'!M76)),J76),0)","v":0},{"$f":"IF(AND(COUNTRY_INFO!I76>0,COUNTRY_INFO!I76<4), IF(M76/J76*100<>0, IF(M76/J76*100>100,100,M76/J76*100), \"-\"),0)","v":0},{"$f":"COUNTRY_INFO!N76","v":81521},null,null,{"$f":"SUM(MAX('MDA2'!J76, 'T1'!L76, MAX(T3_R1!K76, T3_R2!K76)), MAX('MDA1'!K76, 'MDA2'!K76, 'T1'!M76, MAX(T3_R1!L76, T3_R2!L76)), MAX('MDA1'!L76, 'MDA2'!L76, 'T1'!N76, MAX(T3_R1!M76, T3_R2!M76)))","v":87696},{"$f":"IF(AND(COUNTRY_INFO!J76>1,COUNTRY_INFO!J76<4),IF(COUNTRY_INFO!E76>MAX('MDA2'!J76,'T1'!L76,MAX(T3_R1!K76,T3_R2!K76)),MAX('MDA2'!J76,'T1'!L76,MAX(T3_R1!K76,T3_R2!K76)),COUNTRY_INFO!E76),0)","v":26072},{"$f":"IF(AND(COUNTRY_INFO!J76>1,COUNTRY_INFO!J76<4), IF(T76/COUNTRY_INFO!E76*100<>0, IF(T76/COUNTRY_INFO!E76*100>100,100,T76/COUNTRY_INFO!E76*100), \"-\"),0)","v":100},{"$f":"IF(AND(COUNTRY_INFO!J76>1,COUNTRY_INFO!J76<4),IF(COUNTRY_INFO!F76>MAX('MDA1'!K76,'MDA2'!K76,'T1'!M76,MAX(T3_R1!L76,T3_R2!L76)),MAX('MDA1'!K76,'MDA2'!K76,'T1'!M76,MAX(T3_R1!L76,T3_R2!L76)),COUNTRY_INFO!F76),0)","v":1987},{"$f":"IF(AND(COUNTRY_INFO!J76>1,COUNTRY_INFO!J76<4), IF(V76/COUNTRY_INFO!F76*100<>0, IF(V76/COUNTRY_INFO!F76*100>100,100,V76/COUNTRY_INFO!F76*100), \"-\"),0)","v":3.5834731014085013},28059,{"$f":"IF(AND(COUNTRY_INFO!J76>1,COUNTRY_INFO!J76<4), IF(S76/P76*100<>0, IF(X76/P76*100>100,100,X76/P76*100), \"-\"),0)","v":34.419352068792094},{"$f":"COUNTRY_INFO!O76","v":0},null,null,{"$f":"MAX('T1'!L76,'T2'!J76)+MAX('T1'!M76,'T2'!K76)+MAX('T1'!N76,'T2'!L76)","v":0},{"$f":"IF(COUNTRY_INFO!K76=1,IF(COUNTRY_INFO!F76*0.33>MAX('T1'!M76,'T2'!K76),MAX('T1'!M76,'T2'!K76),COUNTRY_INFO!F76*0.33),IF(COUNTRY_INFO!K76=2,IF(COUNTRY_INFO!F76*0.5>MAX('T1'!M76,'T2'!K76),MAX('T1'!M76,'T2'!K76),COUNTRY_INFO!F76*0.5),IF(COUNTRY_INFO!K76=3,IF(COUNTRY_INFO!F76>MAX('T1'!M76,'T2'!K76),MAX('T1'!M76,'T2'!K76),COUNTRY_INFO!F76),0)))","v":0},{"$f":"IF(AND(COUNTRY_INFO!K76>0,COUNTRY_INFO!K76<4),IF(Z76>0,IF(COUNTRY_INFO!K76=1, AD76/(COUNTRY_INFO!F76*0.33)*100, IF(COUNTRY_INFO!K76=2, AD76/(COUNTRY_INFO!F76*0.5)*100, IF(COUNTRY_INFO!K76=3, AD76/COUNTRY_INFO!F76*100))),\"-\"),0)","v":0},{"$f":"IF(COUNTRY_INFO!K76=2,IF(COUNTRY_INFO!G76*0.2>MAX('T1'!N76,'T2'!L76),MAX('T1'!N76,'T2'!L76),COUNTRY_INFO!G76*0.2),IF(COUNTRY_INFO!K76=3,IF(COUNTRY_INFO!G76>MAX('T1'!N76,'T2'!L76),MAX('T1'!N76,'T2'!L76),COUNTRY_INFO!G76),0))","v":0},{"$f":"IF(AND(COUNTRY_INFO!K76>0,COUNTRY_INFO!K76<4),IF(Z76>0,IF(COUNTRY_INFO!K76=1, 0, IF(COUNTRY_INFO!K76=2, AF76/(COUNTRY_INFO!G76*0.2)*100, IF(COUNTRY_INFO!K76=3, AF76/COUNTRY_INFO!G76*100))),\"-\"),0)","v":0},0,{"$f":"IF(AND(COUNTRY_INFO!K76>0,COUNTRY_INFO!K76<4), IF(AC76/Z76*100<>0, IF(AH76/Z76*100>100,100,AH76/Z76*100), \"-\"),0)","v":0},null,{"$f":"IF(AND(D76<>0, D76<>\"Unknown\",D76<>\"Stopped\",D76<>\"Not required\"),D76/COUNTRY_INFO!D76, 0)","v":0},{"$f":"IF(AND(J76<>0,J76<>\"Unknown\",J76<>\"Stopped\",J76<>\"Not required\"),J76/COUNTRY_INFO!D76, 0)","v":0},{"$f":"IF(AND(P76<>0,P76<>\"Unknown\",P76<>\"Not required\"),P76/(COUNTRY_INFO!E76+COUNTRY_INFO!F76), 0)","v":1},{"$f":"IF(AND(Z76<>0,Z76<>\"Unknown\",Z76<>\"Not required\"),IF(COUNTRY_INFO!K76=1,1,IF(COUNTRY_INFO!K76=2,0.5*COUNTRY_INFO!F76/(0.5*COUNTRY_INFO!F76+0.2*COUNTRY_INFO!G76),IF(COUNTRY_INFO!K76=3,COUNTRY_INFO!F76/(COUNTRY_INFO!F76+COUNTRY_INFO!G76)))),0)","v":0},{"$f":"IF(AND(Z76<>0,Z76<>\"Unknown\",Z76<>\"Not required\"),IF(COUNTRY_INFO!K76=1,0,IF(COUNTRY_INFO!K76=2,0.2*COUNTRY_INFO!G76/(0.5*COUNTRY_INFO!F76+0.2*COUNTRY_INFO!G76),IF(COUNTRY_INFO!K76=3,COUNTRY_INFO!G76/(COUNTRY_INFO!F76+COUNTRY_INFO!G76)))),0)","v":0},{"$f":"MAX(COUNTRY_INFO!D76*AK76*PROFILE!$G$7,COUNTRY_INFO!D76*AL76*PROFILE!$G$7)","v":0},{"$f":"MAX(COUNTRY_INFO!D76*AK76*PROFILE!$G$8,COUNTRY_INFO!D76*AL76*PROFILE!$G$8,COUNTRY_INFO!D76*AM76*PROFILE!$G$8)","v":26072.181846262651},{"$f":"MAX(COUNTRY_INFO!D76*AK76*PROFILE!$G$9,COUNTRY_INFO!D76*AL76*PROFILE!$G$9,COUNTRY_INFO!D76*AM76*PROFILE!$G$9,IF(AND(DISTRICT!Z76<>\"Unknown\",Z76<>\"Not required\"),COUNTRY_INFO!O76*DISTRICT!AN76,0))","v":55449.321827666434},{"$f":"MAX(COUNTRY_INFO!D76*AK76*PROFILE!$G$10,COUNTRY_INFO!D76*AL76*PROFILE!$G$10,IF(AND(DISTRICT!Z76<>\"Unknown\",Z76<>\"Not required\"),COUNTRY_INFO!O76*DISTRICT!AO76,0))","v":0},81521.503673929081,"Y",{"$f":"MAX('MDA2'!J76,'T1'!L76,'T2'!J76,T3_R1!K76,T3_R2!K76)","v":85709},{"$f":"MAX('MDA1'!K76,'MDA2'!K76,'MDA3'!I76,'MDA3'!L76,'T1'!M76,'T2'!K76,T3_R1!L76,T3_R2!L76)","v":1987},{"$f":"MAX('MDA1'!L76,'MDA2'!L76,'MDA3'!J76,'MDA3'!M76,'T1'!N76,'T2'!L76,T3_R1!M76,T3_R2!M76)","v":0},87696,{"$f":"MAX('MDA2'!J76,T76)","v":26072},{"$f":"MAX('MDA1'!K76,'MDA2'!K76,'MDA3'!I76,'MDA3'!L76,V76,AD76)","v":1987},{"$f":"MAX('MDA1'!L76,'MDA2'!L76,'MDA3'!J76,'MDA3'!M76,AF76)","v":0},28059,34.419139411646285]
[{"$f":"IF(COUNTRY_INFO!A77=0,\" \",COUNTRY_INFO!A77)","v":"Uganda"},{"$f":"IF(COUNTRY_INFO!B77=0,\" \",COUNTRY_INFO!B77)","v":"Northern"},{"$f":"IF(COUNTRY_INFO!C77=0,\" \",COUNTRY_INFO!C77)","v":"Kitgum"},{"$f":"COUNTRY_INFO!L77","v":223164},null,null,{"$f":"MAX('MDA1'!M77,'MDA2'!M77)","v":152026},{"$f":"IF(AND(COUNTRY_INFO!H77>0,COUNTRY_INFO!H77<4),IF(D77>MAX('MDA1'!M77,'MDA2'!M77),MAX('MDA1'!M77,'MDA2'!M77),D77),0)","v":152026},{"$f":"IF(AND(COUNTRY_INFO!H77>0,COUNTRY_INFO!H77<4), IF(G77/D77*100<>0, IF(G77/D77*100>100,100,G77/D77*100), \"-\"),0)","v":68.122994748256886},{"$f":"COUNTRY_INFO!M77","v":107765},null,null,{"$f":"MAX('MDA1'!M77,MAX('MDA3'!I77,'MDA3'!L77)+MAX('MDA3'!J77,'MDA3'!M77))","v":152026},{"$f":"IF(AND(COUNTRY_INFO!I77>0,COUNTRY_INFO!I77<4),IF(J77>MAX('MDA1'!M77,MAX('MDA3'!I77,'MDA3'!L77)+MAX('MDA3'!J77,'MDA3'!M77)),MAX('MDA1'!M77,MAX('MDA3'!I77,'MDA3'!L77)+MAX('MDA3'!J77,'MDA3'!M77)),J77),0)","v":107765},{"$f":"IF(AND(COUNTRY_INFO!I77>0,COUNTRY_INFO!I77<4), IF(M77/J77*100<>0, IF(M77/J77*100>100,100,M77/J77*100), \"-\"),0)","v":100},{"$f":"COUNTRY_INFO!N77","v":99085},null,null,{"$f":"SUM(MAX('MDA2'!J77, 'T1'!L77, MAX(T3_R1!K77, T3_R2!K77)), MAX('MDA1'!K77, 'MDA2'!K77, 'T1'!M77, MAX(T3_R1!L77, T3_R2!L77)), MAX('MDA1'!L77, 'MDA2'!L77, 'T1'!N77, MAX(T3_R1!M77, T3_R2!M77)))","v":294055},{"$f":"IF(AND(COUNTRY_INFO!J77>1,COUNTRY_INFO!J77<4),IF(COUNTRY_INFO!E77>MAX('MDA2'!J77,'T1'!L77,MAX(T3_R1!K77,T3_R2!K77)),MAX('MDA2'!J77,'T1'!L77,MAX(T3_R1!K77,T3_R2!K77)),COUNTRY_INFO!E77),0)","v":15955},{"$f":"IF(AND(COUNTRY_INFO!J77>1,COUNTRY_INFO!J77<4), IF(T77/COUNTRY_INFO!E77*100<>0, IF(T77/COUNTRY_INFO!E77*100>100,100,T77/COUNTRY_INFO!E77*100), \"-\"),0)","v":50.348701442140808},{"$f":"IF(AND(COUNTRY_INFO!J77>1,COUNTRY_INFO!J77<4),IF(COUNTRY_INFO!F77>MAX('MDA1'!K77,'MDA2'!K77,'T1'!M77,MAX(T3_R1!L77,T3_R2!L77)),MAX('MDA1'!K77,'MDA2'!K77,'T1'!M77,MAX(T3_R1!L77,T3_R2!L77)),COUNTRY_INFO!F77),0)","v":67396},{"$f":"IF(AND(COUNTRY_INFO!J77>1,COUNTRY_INFO!J77<4), IF(V77/COUNTRY_INFO!F77*100<>0, IF(V77/COUNTRY_INFO!F77*100>100,100,V77/COUNTRY_INFO!F77*100), \"-\"),0)","v":100},83351,{"$f":"IF(AND(COUNTRY_INFO!J77>1,COUNTRY_INFO!J77<4), IF(S77/P77*100<>0, IF(X77/P77*100>100,100,X77/P77*100), \"-\"),0)","v":84.120704445677958},{"$f":"COUNTRY_INFO!O77","v":181165},null,null,{"$f":"MAX('T1'!L77,'T2'!J77)+MAX('T1'!M77,'T2'!K77)+MAX('T1'!N77,'T2'!L77)","v":113523},{"$f":"IF(COUNTRY_INFO!K77=1,IF(COUNTRY_INFO!F77*0.33>MAX('T1'!M77,'T2'!K77),MAX('T1'!M77,'T2'!K77),COUNTRY_INFO!F77*0.33),IF(COUNTRY_INFO!K77=2,IF(COUNTRY_INFO!F77*0.5>MAX('T1'!M77,'T2'!K77),MAX('T1'!M77,'T2'!K77),COUNTRY_INFO!F77*0.5),IF(COUNTRY_INFO!K77=3,IF(COUNTRY_INFO!F77>MAX('T1'!M77,'T2'!K77),MAX('T1'!M77,'T2'!K77),COUNTRY_INFO!F77),0)))","v":43650},{"$f":"IF(AND(COUNTRY_INFO!K77>0,COUNTRY_INFO!K77<4),IF(Z77>0,IF(COUNTRY_INFO!K77=1, AD77/(COUNTRY_INFO!F77*0.33)*100, IF(COUNTRY_INFO!K77=2, AD77/(COUNTRY_INFO!F77*0.5)*100, IF(COUNTRY_INFO!K77=3, AD77/COUNTRY_INFO!F77*100))),\"-\"),0)","v":64.766454982491538},{"$f":"IF(COUNTRY_INFO!K77=2,IF(COUNTRY_INFO!G77*0.2>MAX('T1'!N77,'T2'!L77),MAX('T1'!N77,'T2'!L77),COUNTRY_INFO!G77*0.2),IF(COUNTRY_INFO!K77=3,IF(COUNTRY_INFO!G77>MAX('T1'!N77,'T2'!L77),MAX('T1'!N77,'T2'!L77),COUNTRY_INFO!G77),0))","v":69873},{"$f":"IF(AND(COUNTRY_INFO!K77>0,COUNTRY_INFO!K77<4),IF(Z77>0,IF(COUNTRY_INFO!K77=1, 0, IF(COUNTRY_INFO!K77=2, AF77/(COUNTRY_INFO!G77*0.2)*100, IF(COUNTRY_INFO!K77=3, AF77/COUNTRY_INFO!G77*100))),\"-\"),0)","v":60.096501186912995},113523,{"$f":"IF(AND(COUNTRY_INFO!K77>0,COUNTRY_INFO!K77<4), IF(AC77/Z77*100<>0, IF(AH77/Z77*100>100,100,AH77/Z77*100), \"-\"),0)","v":62.662765986807614},null,{"$f":"IF(AND(D77<>0, D77<>\"Unknown\",D77<>\"Stopped\",D77<>\"Not required\"),D77/COUNTRY_INFO!D77, 0)","v":1},{"$f":"IF(AND(J77<>0,J77<>\"Unknown\",J77<>\"Stopped\",J77<>\"Not required\"),J77/COUNTRY_INFO!D77, 0)","v":0.48289598680790807},{"$f":"IF(AND(P77<>0,P77<>\"Unknown\",P77<>\"Not required\"),P77/(COUNTRY_INFO!E77+COUNTRY_INFO!F77), 0)","v":1},{"$f":"IF(AND(Z77<>0,Z77<>\"Unknown\",Z77<>\"Not required\"),IF(COUNTRY_INFO!K77=1,1,IF(COUNTRY_INFO!K77=2,0.5*COUNTRY_INFO!F77/(0.5*COUNTRY_INFO!F77+0.2*COUNTRY_INFO!G77),IF(COUNTRY_INFO!K77=3,COUNTRY_INFO!F77/(COUNTRY_INFO!F77+COUNTRY_INFO!G77)))),0)","v":0.36695269622789439},{"$f":"IF(AND(Z77<>0,Z77<>\"Unknown\",Z77<>\"Not required\"),IF(COUNTRY_INFO!K77=1,0,IF(COUNTRY_INFO!K77=2,0.2*COUNTRY_INFO!G77/(0.5*COUNTRY_INFO!F77+0.2*COUNTRY_INFO!G77),IF(COUNTRY_INFO!K77=3,COUNTRY_INFO!G77/(COUNTRY_INFO!F77+COUNTRY_INFO!G77)))),0)","v":0.63304730377210561},{"$f":"MAX(COUNTRY_INFO!D77*AK77*PROFILE!$G$7,COUNTRY_INFO!D77*AL77*PROFILE!$G$7)","v":7810.7606020702015},{"$f":"MAX(COUNTRY_INFO!D77*AK77*PROFILE!$G$8,COUNTRY_INFO!D77*AL77*PROFILE!$G$8,COUNTRY_INFO!D77*AM77*PROFILE!$G$8)","v":31689.273227814614},{"$f":"MAX(COUNTRY_INFO!D77*AK77*PROFILE!$G$9,COUNTRY_INFO!D77*AL77*PROFILE!$G$9,COUNTRY_INFO!D77*AM77*PROFILE!$G$9,IF(AND(DISTRICT!Z77<>\"Unknown\",Z77<>\"Not required\"),COUNTRY_INFO!O77*DISTRICT!AN77,0))","v":67395.537514089068},{"$f":"MAX(COUNTRY_INFO!D77*AK77*PROFILE!$G$10,COUNTRY_INFO!D77*AL77*PROFILE!$G$10,IF(AND(DISTRICT!Z77<>\"Unknown\",Z77<>\"Not required\"),COUNTRY_INFO!O77*DISTRICT!AO77,0))","v":116268.42865602611},223164,"Y",{"$f":"MAX('MDA2'!J77,'T1'!L77,'T2'!J77,T3_R1!K77,T3_R2!K77)","v":15955},{"$f":"MAX('MDA1'!K77,'MDA2'!K77,'MDA3'!I77,'MDA3'!L77,'T1'!M77,'T2'!K77,T3_R1!L77,T3_R2!L77)","v":181860},{"$f":"MAX('MDA1'!L77,'MDA2'!L77,'MDA3'!J77,'MDA3'!M77,'T1'!N77,'T2'!L77,T3_R1!M77,T3_R2!M77)","v":96240},294055,{"$f":"MAX('MDA2'!J77,T77)","v":15955},{"$f":"MAX('MDA1'!K77,'MDA2'!K77,'MDA3'!I77,'MDA3'!L77,V77,AD77)","v":67396},{"$f":"MAX('MDA1'!L77,'MDA2'!L77,'MDA3'!J77,'MDA3'!M77,AF77)","v":96240},179591,80.474897384882865]
[{"$f":"IF(COUNTRY_INFO!A78=0,\" \",COUNTRY_INFO!A78)","v":"Uganda"},{"$f":"IF(COUNTRY_INFO!B78=0,\" \",COUNTRY_INFO!B78)","v":"Northern"},{"$f":"IF(COUNTRY_INFO!C78=0,\" \",COUNTRY_INFO!C78)","v":"Koboko"},{"$f":"COUNTRY_INFO!L78","v":"Stopped"},null,null,{"$f":"MAX('MDA1'!M78,'MDA2'!M78)","v":0},{"$f":"IF(AND(COUNTRY_INFO!H78>0,COUNTRY_INFO!H78<4),IF(D78>MAX('MDA1'!M78,'MDA2'!M78),MAX('MDA1'!M78,'MDA2'!M78),D78),0)","v":0},{"$f":"IF(AND(COUNTRY_INFO!H78>0,COUNTRY_INFO!H78<4), IF(G78/D78*100<>0, IF(G78/D78*100>100,100,G78/D78*100), \"-\"),0)","v":0},{"$f":"COUNTRY_INFO!M78","v":15178},null,null,{"$f":"MAX('MDA1'!M78,MAX('MDA3'!I78,'MDA3'!L78)+MAX('MDA3'!J78,'MDA3'!M78))","v":12835},{"$f":"IF(AND(COUNTRY_INFO!I78>0,COUNTRY_INFO!I78<4),IF(J78>MAX('MDA1'!M78,MAX('MDA3'!I78,'MDA3'!L78)+MAX('MDA3'!J78,'MDA3'!M78)),MAX('MDA1'!M78,MAX('MDA3'!I78,'MDA3'!L78)+MAX('MDA3'!J78,'MDA3'!M78)),J78),0)","v":12835},{"$f":"IF(AND(COUNTRY_INFO!I78>0,COUNTRY_INFO!I78<4), IF(M78/J78*100<>0, IF(M78/J78*100>100,100,M78/J78*100), \"-\"),0)","v":84.563183555145599},{"$f":"COUNTRY_INFO!N78","v":100273},null,null,{"$f":"SUM(MAX('MDA2'!J78, 'T1'!L78, MAX(T3_R1!K78, T3_R2!K78)), MAX('MDA1'!K78, 'MDA2'!K78, 'T1'!M78, MAX(T3_R1!L78, T3_R2!L78)), MAX('MDA1'!L78, 'MDA2'!L78, 'T1'!N78, MAX(T3_R1!M78, T3_R2!M78)))","v":83855},{"$f":"IF(AND(COUNTRY_INFO!J78>1,COUNTRY_INFO!J78<4),IF(COUNTRY_INFO!E78>MAX('MDA2'!J78,'T1'!L78,MAX(T3_R1!K78,T3_R2!K78)),MAX('MDA2'!J78,'T1'!L78,MAX(T3_R1!K78,T3_R2!K78)),COUNTRY_INFO!E78),0)","v":32069},{"$f":"IF(AND(COUNTRY_INFO!J78>1,COUNTRY_INFO!J78<4), IF(T78/COUNTRY_INFO!E78*100<>0, IF(T78/COUNTRY_INFO!E78*100>100,100,T78/COUNTRY_INFO!E78*100), \"-\"),0)","v":100},{"$f":"IF(AND(COUNTRY_INFO!J78>1,COUNTRY_INFO!J78<4),IF(COUNTRY_INFO!F78>MAX('MDA1'!K78,'MDA2'!K78,'T1'!M78,MAX(T3_R1!L78,T3_R2!L78)),MAX('MDA1'!K78,'MDA2'!K78,'T1'!M78,MAX(T3_R1!L78,T3_R2!L78)),COUNTRY_INFO!F78),0)","v":33566},{"$f":"IF(AND(COUNTRY_INFO!J78>1,COUNTRY_INFO!J78<4), IF(V78/COUNTRY_INFO!F78*100<>0, IF(V78/COUNTRY_INFO!F78*100>100,100,V78/COUNTRY_INFO!F78*100), \"-\"),0)","v":49.214122338865756},65635,{"$f":"IF(AND(COUNTRY_INFO!J78>1,COUNTRY_INFO!J78<4), IF(S78/P78*100<>0, IF(X78/P78*100>100,100,X78/P78*100), \"-\"),0)","v":65.45630428929023},{"$f":"COUNTRY_INFO!O78","v":47801},null,null,{"$f":"MAX('T1'!L78,'T2'!J78)+MAX('T1'!M78,'T2'!K78)+MAX('T1'!N78,'T2'!L78)","v":56279},{"$f":"IF(COUNTRY_INFO!K78=1,IF(COUNTRY_INFO!F78*0.33>MAX('T1'!M78,'T2'!K78),MAX('T1'!M78,'T2'!K78),COUNTRY_INFO!F78*0.33),IF(COUNTRY_INFO!K78=2,IF(COUNTRY_INFO!F78*0.5>MAX('T1'!M78,'T2'!K78),MAX('T1'!M78,'T2'!K78),COUNTRY_INFO!F78*0.5),IF(COUNTRY_INFO!K78=3,IF(COUNTRY_INFO!F78>MAX('T1'!M78,'T2'!K78),MAX('T1'!M78,'T2'!K78),COUNTRY_INFO!F78),0)))","v":37783},{"$f":"IF(AND(COUNTRY_INFO!K78>0,COUNTRY_INFO!K78<4),IF(Z78>0,IF(COUNTRY_INFO!K78=1, AD78/(COUNTRY_INFO!F78*0.33)*100, IF(COUNTRY_INFO!K78=2, AD78/(COUNTRY_INFO!F78*0.5)*100, IF(COUNTRY_INFO!K78=3, AD78/COUNTRY_INFO!F78*100))),\"-\"),0)","v":55.397044161632749},{"$f":"IF(COUNTRY_INFO!K78=2,IF(COUNTRY_INFO!G78*0.2>MAX('T1'!N78,'T2'!L78),MAX('T1'!N78,'T2'!L78),COUNTRY_INFO!G78*0.2),IF(COUNTRY_INFO!K78=3,IF(COUNTRY_INFO!G78>MAX('T1'!N78,'T2'!L78),MAX('T1'!N78,'T2'!L78),COUNTRY_INFO!G78),0))","v":18496},{"$f":"IF(AND(COUNTRY_INFO!K78>0,COUNTRY_INFO!K78<4),IF(Z78>0,IF(COUNTRY_INFO!K78=1, 0, IF(COUNTRY_INFO!K78=2, AF78/(COUNTRY_INFO!G78*0.2)*100, IF(COUNTRY_INFO!K78=3, AF78/COUNTRY_INFO!G78*100))),\"-\"),0)","v":15.719470011813399},56279,{"$f":"IF(AND(COUNTRY_INFO!K78>0,COUNTRY_INFO!K78<4), IF(AC78/Z78*100<>0, IF(AH78/Z78*100>100,100,AH78/Z78*100), \"-\"),0)","v":100},null,{"$f":"IF(AND(D78<>0, D78<>\"Unknown\",D78<>\"Stopped\",D78<>\"Not required\"),D78/COUNTRY_INFO!D78, 0)","v":0},{"$f":"IF(AND(J78<>0,J78<>\"Unknown\",J78<>\"Stopped\",J78<>\"Not required\"),J78/COUNTRY_INFO!D78, 0)","v":6.7206872121856179E-2},{"$f":"IF(AND(P78<>0,P78<>\"Unknown\",P78<>\"Not required\"),P78/(COUNTRY_INFO!E78+COUNTRY_INFO!F78), 0)","v":1},{"$f":"IF(AND(Z78<>0,Z78<>\"Unknown\",Z78<>\"Not required\"),IF(COUNTRY_INFO!K78=1,1,IF(COUNTRY_INFO!K78=2,0.5*COUNTRY_INFO!F78/(0.5*COUNTRY_INFO!F78+0.2*COUNTRY_INFO!G78),IF(COUNTRY_INFO!K78=3,COUNTRY_INFO!F78/(COUNTRY_INFO!F78+COUNTRY_INFO!G78)))),0)","v":0.36695056142295296},{"$f":"IF(AND(Z78<>0,Z78<>\"Unknown\",Z78<>\"Not required\"),IF(COUNTRY_INFO!K78=1,0,IF(COUNTRY_INFO!K78=2,0.2*COUNTRY_INFO!G78/(0.5*COUNTRY_INFO!F78+0.2*COUNTRY_INFO!G78),IF(COUNTRY_INFO!K78=3,COUNTRY_INFO!G78/(COUNTRY_INFO!F78+COUNTRY_INFO!G78)))),0)","v":0.63304943857704699},{"$f":"MAX(COUNTRY_INFO!D78*AK78*PROFILE!$G$7,COUNTRY_INFO!D78*AL78*PROFILE!$G$7)","v":531.23140120369555},{"$f":"MAX(COUNTRY_INFO!D78*AK78*PROFILE!$G$8,COUNTRY_INFO!D78*AL78*PROFILE!$G$8,COUNTRY_INFO!D78*AM78*PROFILE!$G$8)","v":32069.265050678663},{"$f":"MAX(COUNTRY_INFO!D78*AK78*PROFILE!$G$9,COUNTRY_INFO!D78*AL78*PROFILE!$G$9,COUNTRY_INFO!D78*AM78*PROFILE!$G$9,IF(AND(DISTRICT!Z78<>\"Unknown\",Z78<>\"Not required\"),COUNTRY_INFO!O78*DISTRICT!AN78,0))","v":68203.689628174237},{"$f":"MAX(COUNTRY_INFO!D78*AK78*PROFILE!$G$10,COUNTRY_INFO!D78*AL78*PROFILE!$G$10,IF(AND(DISTRICT!Z78<>\"Unknown\",Z78<>\"Not required\"),COUNTRY_INFO!O78*DISTRICT!AO78,0))","v":30260.396213421423},131064.58229347802,"Y",{"$f":"MAX('MDA2'!J78,'T1'!L78,'T2'!J78,T3_R1!K78,T3_R2!K78)","v":50289},{"$f":"MAX('MDA1'!K78,'MDA2'!K78,'MDA3'!I78,'MDA3'!L78,'T1'!M78,'T2'!K78,T3_R1!L78,T3_R2!L78)","v":37783},{"$f":"MAX('MDA1'!L78,'MDA2'!L78,'MDA3'!J78,'MDA3'!M78,'T1'!N78,'T2'!L78,T3_R1!M78,T3_R2!M78)","v":18496},106568,{"$f":"MAX('MDA2'!J78,T78)","v":32069},{"$f":"MAX('MDA1'!K78,'MDA2'!K78,'MDA3'!I78,'MDA3'!L78,V78,AD78)","v":37783},{"$f":"MAX('MDA1'!L78,'MDA2'!L78,'MDA3'!J78,'MDA3'!M78,AF78)","v":18496},88348,67.407989598724981]
[{"$f":"IF(COUNTRY_INFO!A79=0,\" \",COUNTRY_INFO!A79)","v":"Uganda"},{"$f":"IF(COUNTRY_INFO!B79=0,\" \",COUNTRY_INFO!B79)","v":"Northern"},{"$f":"IF(COUNTRY_INFO!C79=0,\" \",COUNTRY_INFO!C79)","v":"Kole"},{"$f":"COUNTRY_INFO!L79","v":"Stopped"},null,null,{"$f":"MAX('MDA1'!M79,'MDA2'!M79)","v":0},{"$f":"IF(AND(COUNTRY_INFO!H79>0,COUNTRY_INFO!H79<4),IF(D79>MAX('MDA1'!M79,'MDA2'!M79),MAX('MDA1'!M79,'MDA2'!M79),D79),0)","v":0},{"$f":"IF(AND(COUNTRY_INFO!H79>0,COUNTRY_INFO!H79<4), IF(G79/D79*100<>0, IF(G79/D79*100>100,100,G79/D79*100), \"-\"),0)","v":0},{"$f":"COUNTRY_INFO!M79","v":0},null,null,{"$f":"MAX('MDA1'!M79,MAX('MDA3'!I79,'MDA3'!L79)+MAX('MDA3'!J79,'MDA3'!M79))","v":0},{"$f":"IF(AND(COUNTRY_INFO!I79>0,COUNTRY_INFO!I79<4),IF(J79>MAX('MDA1'!M79,MAX('MDA3'!I79,'MDA3'!L79)+MAX('MDA3'!J79,'MDA3'!M79)),MAX('MDA1'!M79,MAX('MDA3'!I79,'MDA3'!L79)+MAX('MDA3'!J79,'MDA3'!M79)),J79),0)","v":0},{"$f":"IF(AND(COUNTRY_INFO!I79>0,COUNTRY_INFO!I79<4), IF(M79/J79*100<>0, IF(M79/J79*100>100,100,M79/J79*100), \"-\"),0)","v":0},{"$f":"COUNTRY_INFO!N79","v":116216},null,null,{"$f":"SUM(MAX('MDA2'!J79, 'T1'!L79, MAX(T3_R1!K79, T3_R2!K79)), MAX('MDA1'!K79, 'MDA2'!K79, 'T1'!M79, MAX(T3_R1!L79, T3_R2!L79)), MAX('MDA1'!L79, 'MDA2'!L79, 'T1'!N79, MAX(T3_R1!M79, T3_R2!M79)))","v":90619},{"$f":"IF(AND(COUNTRY_INFO!J79>1,COUNTRY_INFO!J79<4),IF(COUNTRY_INFO!E79>MAX('MDA2'!J79,'T1'!L79,MAX(T3_R1!K79,T3_R2!K79)),MAX('MDA2'!J79,'T1'!L79,MAX(T3_R1!K79,T3_R2!K79)),COUNTRY_INFO!E79),0)","v":31134},{"$f":"IF(AND(COUNTRY_INFO!J79>1,COUNTRY_INFO!J79<4), IF(T79/COUNTRY_INFO!E79*100<>0, IF(T79/COUNTRY_INFO!E79*100>100,100,T79/COUNTRY_INFO!E79*100), \"-\"),0)","v":83.765604821351701},{"$f":"IF(AND(COUNTRY_INFO!J79>1,COUNTRY_INFO!J79<4),IF(COUNTRY_INFO!F79>MAX('MDA1'!K79,'MDA2'!K79,'T1'!M79,MAX(T3_R1!L79,T3_R2!L79)),MAX('MDA1'!K79,'MDA2'!K79,'T1'!M79,MAX(T3_R1!L79,T3_R2!L79)),COUNTRY_INFO!F79),0)","v":59485},{"$f":"IF(AND(COUNTRY_INFO!J79>1,COUNTRY_INFO!J79<4), IF(V79/COUNTRY_INFO!F79*100<>0, IF(V79/COUNTRY_INFO!F79*100>100,100,V79/COUNTRY_INFO!F79*100), \"-\"),0)","v":75.251745774719154},90619,{"$f":"IF(AND(COUNTRY_INFO!J79>1,COUNTRY_INFO!J79<4), IF(S79/P79*100<>0, IF(X79/P79*100>100,100,X79/P79*100), \"-\"),0)","v":77.974633441178497},{"$f":"COUNTRY_INFO!O79","v":0},null,null,{"$f":"MAX('T1'!L79,'T2'!J79)+MAX('T1'!M79,'T2'!K79)+MAX('T1'!N79,'T2'!L79)","v":0},{"$f":"IF(COUNTRY_INFO!K79=1,IF(COUNTRY_INFO!F79*0.33>MAX('T1'!M79,'T2'!K79),MAX('T1'!M79,'T2'!K79),COUNTRY_INFO!F79*0.33),IF(COUNTRY_INFO!K79=2,IF(COUNTRY_INFO!F79*0.5>MAX('T1'!M79,'T2'!K79),MAX('T1'!M79,'T2'!K79),COUNTRY_INFO!F79*0.5),IF(COUNTRY_INFO!K79=3,IF(COUNTRY_INFO!F79>MAX('T1'!M79,'T2'!K79),MAX('T1'!M79,'T2'!K79),COUNTRY_INFO!F79),0)))","v":0},{"$f":"IF(AND(COUNTRY_INFO!K79>0,COUNTRY_INFO!K79<4),IF(Z79>0,IF(COUNTRY_INFO!K79=1, AD79/(COUNTRY_INFO!F79*0.33)*100, IF(COUNTRY_INFO!K79=2, AD79/(COUNTRY_INFO!F79*0.5)*100, IF(COUNTRY_INFO!K79=3, AD79/COUNTRY_INFO!F79*100))),\"-\"),0)","v":0},{"$f":"IF(COUNTRY_INFO!K79=2,IF(COUNTRY_INFO!G79*0.2>MAX('T1'!N79,'T2'!L79),MAX('T1'!N79,'T2'!L79),COUNTRY_INFO!G79*0.2),IF(COUNTRY_INFO!K79=3,IF(COUNTRY_INFO!G79>MAX('T1'!N79,'T2'!L79),MAX('T1'!N79,'T2'!L79),COUNTRY_INFO!G79),0))","v":0},{"$f":"IF(AND(COUNTRY_INFO!K79>0,COUNTRY_INFO!K79<4),IF(Z79>0,IF(COUNTRY_INFO!K79=1, 0, IF(COUNTRY_INFO!K79=2, AF79/(COUNTRY_INFO!G79*0.2)*100, IF(COUNTRY_INFO!K79=3, AF79/COUNTRY_INFO!G79*100))),\"-\"),0)","v":0},0,{"$f":"IF(AND(COUNTRY_INFO!K79>0,COUNTRY_INFO!K79<4), IF(AC79/Z79*100<>0, IF(AH79/Z79*100>100,100,AH79/Z79*100), \"-\"),0)","v":0},null,{"$f":"IF(AND(D79<>0, D79<>\"Unknown\",D79<>\"Stopped\",D79<>\"Not required\"),D79/COUNTRY_INFO!D79, 0)","v":0},{"$f":"IF(AND(J79<>0,J79<>\"Unknown\",J79<>\"Stopped\",J79<>\"Not required\"),J79/COUNTRY_INFO!D79, 0)","v":0},{"$f":"IF(AND(P79<>0,P79<>\"Unknown\",P79<>\"Not required\"),P79/(COUNTRY_INFO!E79+COUNTRY_INFO!F79), 0)","v":1},{"$f":"IF(AND(Z79<>0,Z79<>\"Unknown\",Z79<>\"Not required\"),IF(COUNTRY_INFO!K79=1,1,IF(COUNTRY_INFO!K79=2,0.5*COUNTRY_INFO!F79/(0.5*COUNTRY_INFO!F79+0.2*COUNTRY_INFO!G79),IF(COUNTRY_INFO!K79=3,COUNTRY_INFO!F79/(COUNTRY_INFO!F79+COUNTRY_INFO!G79)))),0)","v":0},{"$f":"IF(AND(Z79<>0,Z79<>\"Unknown\",Z79<>\"Not required\"),IF(COUNTRY_INFO!K79=1,0,IF(COUNTRY_INFO!K79=2,0.2*COUNTRY_INFO!G79/(0.5*COUNTRY_INFO!F79+0.2*COUNTRY_INFO!G79),IF(COUNTRY_INFO!K79=3,COUNTRY_INFO!G79/(COUNTRY_INFO!F79+COUNTRY_INFO!G79)))),0)","v":0},{"$f":"MAX(COUNTRY_INFO!D79*AK79*PROFILE!$G$7,COUNTRY_INFO!D79*AL79*PROFILE!$G$7)","v":0},{"$f":"MAX(COUNTRY_INFO!D79*AK79*PROFILE!$G$8,COUNTRY_INFO!D79*AL79*PROFILE!$G$8,COUNTRY_INFO!D79*AM79*PROFILE!$G$8)","v":37168.198673773637},{"$f":"MAX(COUNTRY_INFO!D79*AK79*PROFILE!$G$9,COUNTRY_INFO!D79*AL79*PROFILE!$G$9,COUNTRY_INFO!D79*AM79*PROFILE!$G$9,IF(AND(DISTRICT!Z79<>\"Unknown\",Z79<>\"Not required\"),COUNTRY_INFO!O79*DISTRICT!AN79,0))","v":79047.907159030074},{"$f":"MAX(COUNTRY_INFO!D79*AK79*PROFILE!$G$10,COUNTRY_INFO!D79*AL79*PROFILE!$G$10,IF(AND(DISTRICT!Z79<>\"Unknown\",Z79<>\"Not required\"),COUNTRY_INFO!O79*DISTRICT!AO79,0))","v":0},116216.1058328037,"Y",{"$f":"MAX('MDA2'!J79,'T1'!L79,'T2'!J79,T3_R1!K79,T3_R2!K79)","v":31134},{"$f":"MAX('MDA1'!K79,'MDA2'!K79,'MDA3'!I79,'MDA3'!L79,'T1'!M79,'T2'!K79,T3_R1!L79,T3_R2!L79)","v":59485},{"$f":"MAX('MDA1'!L79,'MDA2'!L79,'MDA3'!J79,'MDA3'!M79,'T1'!N79,'T2'!L79,T3_R1!M79,T3_R2!M79)","v":0},90619,{"$f":"MAX('MDA2'!J79,T79)","v":31134},{"$f":"MAX('MDA1'!K79,'MDA2'!K79,'MDA3'!I79,'MDA3'!L79,V79,AD79)","v":59485},{"$f":"MAX('MDA1'!L79,'MDA2'!L79,'MDA3'!J79,'MDA3'!M79,AF79)","v":0},90619,77.974562433171329]
[{"$f":"IF(COUNTRY_INFO!A80=0,\" \",COUNTRY_INFO!A80)","v":"Uganda"},{"$f":"IF(COUNTRY_INFO!B80=0,\" \",COUNTRY_INFO!B80)","v":"Northern"},{"$f":"IF(COUNTRY_INFO!C80=0,\" \",COUNTRY_INFO!C80)","v":"Kotido"},{"$f":"COUNTRY_INFO!L80","v":"Stopped"},null,null,{"$f":"MAX('MDA1'!M80,'MDA2'!M80)","v":0},{"$f":"IF(AND(COUNTRY_INFO!H80>0,COUNTRY_INFO!H80<4),IF(D80>MAX('MDA1'!M80,'MDA2'!M80),MAX('MDA1'!M80,'MDA2'!M80),D80),0)","v":0},{"$f":"IF(AND(COUNTRY_INFO!H80>0,COUNTRY_INFO!H80<4), IF(G80/D80*100<>0, IF(G80/D80*100>100,100,G80/D80*100), \"-\"),0)","v":0},{"$f":"COUNTRY_INFO!M80","v":0},null,null,{"$f":"MAX('MDA1'!M80,MAX('MDA3'!I80,'MDA3'!L80)+MAX('MDA3'!J80,'MDA3'!M80))","v":0},{"$f":"IF(AND(COUNTRY_INFO!I80>0,COUNTRY_INFO!I80<4),IF(J80>MAX('MDA1'!M80,MAX('MDA3'!I80,'MDA3'!L80)+MAX('MDA3'!J80,'MDA3'!M80)),MAX('MDA1'!M80,MAX('MDA3'!I80,'MDA3'!L80)+MAX('MDA3'!J80,'MDA3'!M80)),J80),0)","v":0},{"$f":"IF(AND(COUNTRY_INFO!I80>0,COUNTRY_INFO!I80<4), IF(M80/J80*100<>0, IF(M80/J80*100>100,100,M80/J80*100), \"-\"),0)","v":0},{"$f":"COUNTRY_INFO!N80","v":87917},null,null,{"$f":"SUM(MAX('MDA2'!J80, 'T1'!L80, MAX(T3_R1!K80, T3_R2!K80)), MAX('MDA1'!K80, 'MDA2'!K80, 'T1'!M80, MAX(T3_R1!L80, T3_R2!L80)), MAX('MDA1'!L80, 'MDA2'!L80, 'T1'!N80, MAX(T3_R1!M80, T3_R2!M80)))","v":158796},{"$f":"IF(AND(COUNTRY_INFO!J80>1,COUNTRY_INFO!J80<4),IF(COUNTRY_INFO!E80>MAX('MDA2'!J80,'T1'!L80,MAX(T3_R1!K80,T3_R2!K80)),MAX('MDA2'!J80,'T1'!L80,MAX(T3_R1!K80,T3_R2!K80)),COUNTRY_INFO!E80),0)","v":28118},{"$f":"IF(AND(COUNTRY_INFO!J80>1,COUNTRY_INFO!J80<4), IF(T80/COUNTRY_INFO!E80*100<>0, IF(T80/COUNTRY_INFO!E80*100>100,100,T80/COUNTRY_INFO!E80*100), \"-\"),0)","v":100},{"$f":"IF(AND(COUNTRY_INFO!J80>1,COUNTRY_INFO!J80<4),IF(COUNTRY_INFO!F80>MAX('MDA1'!K80,'MDA2'!K80,'T1'!M80,MAX(T3_R1!L80,T3_R2!L80)),MAX('MDA1'!K80,'MDA2'!K80,'T1'!M80,MAX(T3_R1!L80,T3_R2!L80)),COUNTRY_INFO!F80),0)","v":6125},{"$f":"IF(AND(COUNTRY_INFO!J80>1,COUNTRY_INFO!J80<4), IF(V80/COUNTRY_INFO!F80*100<>0, IF(V80/COUNTRY_INFO!F80*100>100,100,V80/COUNTRY_INFO!F80*100), \"-\"),0)","v":10.242646198096958},34243,{"$f":"IF(AND(COUNTRY_INFO!J80>1,COUNTRY_INFO!J80<4), IF(S80/P80*100<>0, IF(X80/P80*100>100,100,X80/P80*100), \"-\"),0)","v":38.949236211426687},{"$f":"COUNTRY_INFO!O80","v":0},null,null,{"$f":"MAX('T1'!L80,'T2'!J80)+MAX('T1'!M80,'T2'!K80)+MAX('T1'!N80,'T2'!L80)","v":0},{"$f":"IF(COUNTRY_INFO!K80=1,IF(COUNTRY_INFO!F80*0.33>MAX('T1'!M80,'T2'!K80),MAX('T1'!M80,'T2'!K80),COUNTRY_INFO!F80*0.33),IF(COUNTRY_INFO!K80=2,IF(COUNTRY_INFO!F80*0.5>MAX('T1'!M80,'T2'!K80),MAX('T1'!M80,'T2'!K80),COUNTRY_INFO!F80*0.5),IF(COUNTRY_INFO!K80=3,IF(COUNTRY_INFO!F80>MAX('T1'!M80,'T2'!K80),MAX('T1'!M80,'T2'!K80),COUNTRY_INFO!F80),0)))","v":0},{"$f":"IF(AND(COUNTRY_INFO!K80>0,COUNTRY_INFO!K80<4),IF(Z80>0,IF(COUNTRY_INFO!K80=1, AD80/(COUNTRY_INFO!F80*0.33)*100, IF(COUNTRY_INFO!K80=2, AD80/(COUNTRY_INFO!F80*0.5)*100, IF(COUNTRY_INFO!K80=3, AD80/COUNTRY_INFO!F80*100))),\"-\"),0)","v":0},{"$f":"IF(COUNTRY_INFO!K80=2,IF(COUNTRY_INFO!G80*0.2>MAX('T1'!N80,'T2'!L80),MAX('T1'!N80,'T2'!L80),COUNTRY_INFO!G80*0.2),IF(COUNTRY_INFO!K80=3,IF(COUNTRY_INFO!G80>MAX('T1'!N80,'T2'!L80),MAX('T1'!N80,'T2'!L80),COUNTRY_INFO!G80),0))","v":0},{"$f":"IF(AND(COUNTRY_INFO!K80>0,COUNTRY_INFO!K80<4),IF(Z80>0,IF(COUNTRY_INFO!K80=1, 0, IF(COUNTRY_INFO!K80=2, AF80/(COUNTRY_INFO!G80*0.2)*100, IF(COUNTRY_INFO!K80=3, AF80/COUNTRY_INFO!G80*100))),\"-\"),0)","v":0},0,{"$f":"IF(AND(COUNTRY_INFO!K80>0,COUNTRY_INFO!K80<4), IF(AC80/Z80*100<>0, IF(AH80/Z80*100>100,100,AH80/Z80*100), \"-\"),0)","v":0},null,{"$f":"IF(AND(D80<>0, D80<>\"Unknown\",D80<>\"Stopped\",D80<>\"Not required\"),D80/COUNTRY_INFO!D80, 0)","v":0},{"$f":"IF(AND(J80<>0,J80<>\"Unknown\",J80<>\"Stopped\",J80<>\"Not required\"),J80/COUNTRY_INFO!D80, 0)","v":0},{"$f":"IF(AND(P80<>0,P80<>\"Unknown\",P80<>\"Not required\"),P80/(COUNTRY_INFO!E80+COUNTRY_INFO!F80), 0)","v":1},{"$f":"IF(AND(Z80<>0,Z80<>\"Unknown\",Z80<>\"Not required\"),IF(COUNTRY_INFO!K80=1,1,IF(COUNTRY_INFO!K80=2,0.5*COUNTRY_INFO!F80/(0.5*COUNTRY_INFO!F80+0.2*COUNTRY_INFO!G80),IF(COUNTRY_INFO!K80=3,COUNTRY_INFO!F80/(COUNTRY_INFO!F80+COUNTRY_INFO!G80)))),0)","v":0},{"$f":"IF(AND(Z80<>0,Z80<>\"Unknown\",Z80<>\"Not required\"),IF(COUNTRY_INFO!K80=1,0,IF(COUNTRY_INFO!K80=2,0.2*COUNTRY_INFO!G80/(0.5*COUNTRY_INFO!F80+0.2*COUNTRY_INFO!G80),IF(COUNTRY_INFO!K80=3,COUNTRY_INFO!G80/(COUNTRY_INFO!F80+COUNTRY_INFO!G80)))),0)","v":0},{"$f":"MAX(COUNTRY_INFO!D80*AK80*PROFILE!$G$7,COUNTRY_INFO!D80*AL80*PROFILE!$G$7)","v":0},{"$f":"MAX(COUNTRY_INFO!D80*AK80*PROFILE!$G$8,COUNTRY_INFO!D80*AL80*PROFILE!$G$8,COUNTRY_INFO!D80*AM80*PROFILE!$G$8)","v":28117.548892799914},{"$f":"MAX(COUNTRY_INFO!D80*AK80*PROFILE!$G$9,COUNTRY_INFO!D80*AL80*PROFILE!$G$9,COUNTRY_INFO!D80*AM80*PROFILE!$G$9,IF(AND(DISTRICT!Z80<>\"Unknown\",Z80<>\"Not required\"),COUNTRY_INFO!O80*DISTRICT!AN80,0))","v":59799.330441748185},{"$f":"MAX(COUNTRY_INFO!D80*AK80*PROFILE!$G$10,COUNTRY_INFO!D80*AL80*PROFILE!$G$10,IF(AND(DISTRICT!Z80<>\"Unknown\",Z80<>\"Not required\"),COUNTRY_INFO!O80*DISTRICT!AO80,0))","v":0},87916.879334548095,"Y",{"$f":"MAX('MDA2'!J80,'T1'!L80,'T2'!J80,T3_R1!K80,T3_R2!K80)","v":152671},{"$f":"MAX('MDA1'!K80,'MDA2'!K80,'MDA3'!I80,'MDA3'!L80,'T1'!M80,'T2'!K80,T3_R1!L80,T3_R2!L80)","v":6125},{"$f":"MAX('MDA1'!L80,'MDA2'!L80,'MDA3'!J80,'MDA3'!M80,'T1'!N80,'T2'!L80,T3_R1!M80,T3_R2!M80)","v":0},158796,{"$f":"MAX('MDA2'!J80,T80)","v":28118},{"$f":"MAX('MDA1'!K80,'MDA2'!K80,'MDA3'!I80,'MDA3'!L80,V80,AD80)","v":6125},{"$f":"MAX('MDA1'!L80,'MDA2'!L80,'MDA3'!J80,'MDA3'!M80,AF80)","v":0},34243,38.949289669047388]
[{"$f":"IF(COUNTRY_INFO!A81=0,\" \",COUNTRY_INFO!A81)","v":"Uganda"},{"$f":"IF(COUNTRY_INFO!B81=0,\" \",COUNTRY_INFO!B81)","v":"Northern"},{"$f":"IF(COUNTRY_INFO!C81=0,\" \",COUNTRY_INFO!C81)","v":"Lamwo"},{"$f":"COUNTRY_INFO!L81","v":153001},null,null,{"$f":"MAX('MDA1'!M81,'MDA2'!M81)","v":113340},{"$f":"IF(AND(COUNTRY_INFO!H81>0,COUNTRY_INFO!H81<4),IF(D81>MAX('MDA1'!M81,'MDA2'!M81),MAX('MDA1'!M81,'MDA2'!M81),D81),0)","v":113340},{"$f":"IF(AND(COUNTRY_INFO!H81>0,COUNTRY_INFO!H81<4), IF(G81/D81*100<>0, IF(G81/D81*100>100,100,G81/D81*100), \"-\"),0)","v":74.077947202959464},{"$f":"COUNTRY_INFO!M81","v":153001},null,null,{"$f":"MAX('MDA1'!M81,MAX('MDA3'!I81,'MDA3'!L81)+MAX('MDA3'!J81,'MDA3'!M81))","v":114194},{"$f":"IF(AND(COUNTRY_INFO!I81>0,COUNTRY_INFO!I81<4),IF(J81>MAX('MDA1'!M81,MAX('MDA3'!I81,'MDA3'!L81)+MAX('MDA3'!J81,'MDA3'!M81)),MAX('MDA1'!M81,MAX('MDA3'!I81,'MDA3'!L81)+MAX('MDA3'!J81,'MDA3'!M81)),J81),0)","v":114194},{"$f":"IF(AND(COUNTRY_INFO!I81>0,COUNTRY_INFO!I81<4), IF(M81/J81*100<>0, IF(M81/J81*100>100,100,M81/J81*100), \"-\"),0)","v":74.636113489454317},{"$f":"COUNTRY_INFO!N81","v":67932},null,null,{"$f":"SUM(MAX('MDA2'!J81, 'T1'!L81, MAX(T3_R1!K81, T3_R2!K81)), MAX('MDA1'!K81, 'MDA2'!K81, 'T1'!M81, MAX(T3_R1!L81, T3_R2!L81)), MAX('MDA1'!L81, 'MDA2'!L81, 'T1'!N81, MAX(T3_R1!M81, T3_R2!M81)))","v":133656},{"$f":"IF(AND(COUNTRY_INFO!J81>1,COUNTRY_INFO!J81<4),IF(COUNTRY_INFO!E81>MAX('MDA2'!J81,'T1'!L81,MAX(T3_R1!K81,T3_R2!K81)),MAX('MDA2'!J81,'T1'!L81,MAX(T3_R1!K81,T3_R2!K81)),COUNTRY_INFO!E81),0)","v":20316},{"$f":"IF(AND(COUNTRY_INFO!J81>1,COUNTRY_INFO!J81<4), IF(T81/COUNTRY_INFO!E81*100<>0, IF(T81/COUNTRY_INFO!E81*100>100,100,T81/COUNTRY_INFO!E81*100), \"-\"),0)","v":93.510080088373385},{"$f":"IF(AND(COUNTRY_INFO!J81>1,COUNTRY_INFO!J81<4),IF(COUNTRY_INFO!F81>MAX('MDA1'!K81,'MDA2'!K81,'T1'!M81,MAX(T3_R1!L81,T3_R2!L81)),MAX('MDA1'!K81,'MDA2'!K81,'T1'!M81,MAX(T3_R1!L81,T3_R2!L81)),COUNTRY_INFO!F81),0)","v":41590},{"$f":"IF(AND(COUNTRY_INFO!J81>1,COUNTRY_INFO!J81<4), IF(V81/COUNTRY_INFO!F81*100<>0, IF(V81/COUNTRY_INFO!F81*100>100,100,V81/COUNTRY_INFO!F81*100), \"-\"),0)","v":90.009955417045404},61906,{"$f":"IF(AND(COUNTRY_INFO!J81>1,COUNTRY_INFO!J81<4), IF(S81/P81*100<>0, IF(X81/P81*100>100,100,X81/P81*100), \"-\"),0)","v":91.129364658776424},{"$f":"COUNTRY_INFO!O81","v":40343},null,null,{"$f":"MAX('T1'!L81,'T2'!J81)+MAX('T1'!M81,'T2'!K81)+MAX('T1'!N81,'T2'!L81)","v":38496},{"$f":"IF(COUNTRY_INFO!K81=1,IF(COUNTRY_INFO!F81*0.33>MAX('T1'!M81,'T2'!K81),MAX('T1'!M81,'T2'!K81),COUNTRY_INFO!F81*0.33),IF(COUNTRY_INFO!K81=2,IF(COUNTRY_INFO!F81*0.5>MAX('T1'!M81,'T2'!K81),MAX('T1'!M81,'T2'!K81),COUNTRY_INFO!F81*0.5),IF(COUNTRY_INFO!K81=3,IF(COUNTRY_INFO!F81>MAX('T1'!M81,'T2'!K81),MAX('T1'!M81,'T2'!K81),COUNTRY_INFO!F81),0)))","v":15247.980000000001},{"$f":"IF(AND(COUNTRY_INFO!K81>0,COUNTRY_INFO!K81<4),IF(Z81>0,IF(COUNTRY_INFO!K81=1, AD81/(COUNTRY_INFO!F81*0.33)*100, IF(COUNTRY_INFO!K81=2, AD81/(COUNTRY_INFO!F81*0.5)*100, IF(COUNTRY_INFO!K81=3, AD81/COUNTRY_INFO!F81*100))),\"-\"),0)","v":100},{"$f":"IF(COUNTRY_INFO!K81=2,IF(COUNTRY_INFO!G81*0.2>MAX('T1'!N81,'T2'!L81),MAX('T1'!N81,'T2'!L81),COUNTRY_INFO!G81*0.2),IF(COUNTRY_INFO!K81=3,IF(COUNTRY_INFO!G81>MAX('T1'!N81,'T2'!L81),MAX('T1'!N81,'T2'!L81),COUNTRY_INFO!G81),0))","v":0},{"$f":"IF(AND(COUNTRY_INFO!K81>0,COUNTRY_INFO!K81<4),IF(Z81>0,IF(COUNTRY_INFO!K81=1, 0, IF(COUNTRY_INFO!K81=2, AF81/(COUNTRY_INFO!G81*0.2)*100, IF(COUNTRY_INFO!K81=3, AF81/COUNTRY_INFO!G81*100))),\"-\"),0)","v":0},15247.980000000001,{"$f":"IF(AND(COUNTRY_INFO!K81>0,COUNTRY_INFO!K81<4), IF(AC81/Z81*100<>0, IF(AH81/Z81*100>100,100,AH81/Z81*100), \"-\"),0)","v":37.795850581265647},null,{"$f":"IF(AND(D81<>0, D81<>\"Unknown\",D81<>\"Stopped\",D81<>\"Not required\"),D81/COUNTRY_INFO!D81, 0)","v":1},{"$f":"IF(AND(J81<>0,J81<>\"Unknown\",J81<>\"Stopped\",J81<>\"Not required\"),J81/COUNTRY_INFO!D81, 0)","v":1},{"$f":"IF(AND(P81<>0,P81<>\"Unknown\",P81<>\"Not required\"),P81/(COUNTRY_INFO!E81+COUNTRY_INFO!F81), 0)","v":1},{"$f":"IF(AND(Z81<>0,Z81<>\"Unknown\",Z81<>\"Not required\"),IF(COUNTRY_INFO!K81=1,1,IF(COUNTRY_INFO!K81=2,0.5*COUNTRY_INFO!F81/(0.5*COUNTRY_INFO!F81+0.2*COUNTRY_INFO!G81),IF(COUNTRY_INFO!K81=3,COUNTRY_INFO!F81/(COUNTRY_INFO!F81+COUNTRY_INFO!G81)))),0)","v":1},{"$f":"IF(AND(Z81<>0,Z81<>\"Unknown\",Z81<>\"Not required\"),IF(COUNTRY_INFO!K81=1,0,IF(COUNTRY_INFO!K81=2,0.2*COUNTRY_INFO!G81/(0.5*COUNTRY_INFO!F81+0.2*COUNTRY_INFO!G81),IF(COUNTRY_INFO!K81=3,COUNTRY_INFO!G81/(COUNTRY_INFO!F81+COUNTRY_INFO!G81)))),0)","v":0},{"$f":"MAX(COUNTRY_INFO!D81*AK81*PROFILE!$G$7,COUNTRY_INFO!D81*AL81*PROFILE!$G$7)","v":5355.0491247573218},{"$f":"MAX(COUNTRY_INFO!D81*AK81*PROFILE!$G$8,COUNTRY_INFO!D81*AL81*PROFILE!$G$8,COUNTRY_INFO!D81*AM81*PROFILE!$G$8)","v":21726.131872205482},{"$f":"MAX(COUNTRY_INFO!D81*AK81*PROFILE!$G$9,COUNTRY_INFO!D81*AL81*PROFILE!$G$9,COUNTRY_INFO!D81*AM81*PROFILE!$G$9,IF(AND(DISTRICT!Z81<>\"Unknown\",Z81<>\"Not required\"),COUNTRY_INFO!O81*DISTRICT!AN81,0))","v":46206.308522849307},{"$f":"MAX(COUNTRY_INFO!D81*AK81*PROFILE!$G$10,COUNTRY_INFO!D81*AL81*PROFILE!$G$10,IF(AND(DISTRICT!Z81<>\"Unknown\",Z81<>\"Not required\"),COUNTRY_INFO!O81*DISTRICT!AO81,0))","v":79713.510480187892},153001,"Y",{"$f":"MAX('MDA2'!J81,'T1'!L81,'T2'!J81,T3_R1!K81,T3_R2!K81)","v":20316},{"$f":"MAX('MDA1'!K81,'MDA2'!K81,'MDA3'!I81,'MDA3'!L81,'T1'!M81,'T2'!K81,T3_R1!L81,T3_R2!L81)","v":41904},{"$f":"MAX('MDA1'!L81,'MDA2'!L81,'MDA3'!J81,'MDA3'!M81,'T1'!N81,'T2'!L81,T3_R1!M81,T3_R2!M81)","v":72290},134510,{"$f":"MAX('MDA2'!J81,T81)","v":20316},{"$f":"MAX('MDA1'!K81,'MDA2'!K81,'MDA3'!I81,'MDA3'!L81,V81,AD81)","v":41904},{"$f":"MAX('MDA1'!L81,'MDA2'!L81,'MDA3'!J81,'MDA3'!M81,AF81)","v":72290},134510,87.914458075437423]
[{"$f":"IF(COUNTRY_INFO!A82=0,\" \",COUNTRY_INFO!A82)","v":"Uganda"},{"$f":"IF(COUNTRY_INFO!B82=0,\" \",COUNTRY_INFO!B82)","v":"Northern"},{"$f":"IF(COUNTRY_INFO!C82=0,\" \",COUNTRY_INFO!C82)","v":"Lira"},{"$f":"COUNTRY_INFO!L82","v":"Stopped"},null,null,{"$f":"MAX('MDA1'!M82,'MDA2'!M82)","v":0},{"$f":"IF(AND(COUNTRY_INFO!H82>0,COUNTRY_INFO!H82<4),IF(D82>MAX('MDA1'!M82,'MDA2'!M82),MAX('MDA1'!M82,'MDA2'!M82),D82),0)","v":0},{"$f":"IF(AND(COUNTRY_INFO!H82>0,COUNTRY_INFO!H82<4), IF(G82/D82*100<>0, IF(G82/D82*100>100,100,G82/D82*100), \"-\"),0)","v":0},{"$f":"COUNTRY_INFO!M82","v":73110},null,null,{"$f":"MAX('MDA1'!M82,MAX('MDA3'!I82,'MDA3'!L82)+MAX('MDA3'!J82,'MDA3'!M82))","v":61136},{"$f":"IF(AND(COUNTRY_INFO!I82>0,COUNTRY_INFO!I82<4),IF(J82>MAX('MDA1'!M82,MAX('MDA3'!I82,'MDA3'!L82)+MAX('MDA3'!J82,'MDA3'!M82)),MAX('MDA1'!M82,MAX('MDA3'!I82,'MDA3'!L82)+MAX('MDA3'!J82,'MDA3'!M82)),J82),0)","v":61136},{"$f":"IF(AND(COUNTRY_INFO!I82>0,COUNTRY_INFO!I82<4), IF(M82/J82*100<>0, IF(M82/J82*100>100,100,M82/J82*100), \"-\"),0)","v":83.621939543154156},{"$f":"COUNTRY_INFO!N82","v":198143},null,null,{"$f":"SUM(MAX('MDA2'!J82, 'T1'!L82, MAX(T3_R1!K82, T3_R2!K82)), MAX('MDA1'!K82, 'MDA2'!K82, 'T1'!M82, MAX(T3_R1!L82, T3_R2!L82)), MAX('MDA1'!L82, 'MDA2'!L82, 'T1'!N82, MAX(T3_R1!M82, T3_R2!M82)))","v":71856},{"$f":"IF(AND(COUNTRY_INFO!J82>1,COUNTRY_INFO!J82<4),IF(COUNTRY_INFO!E82>MAX('MDA2'!J82,'T1'!L82,MAX(T3_R1!K82,T3_R2!K82)),MAX('MDA2'!J82,'T1'!L82,MAX(T3_R1!K82,T3_R2!K82)),COUNTRY_INFO!E82),0)","v":40219},{"$f":"IF(AND(COUNTRY_INFO!J82>1,COUNTRY_INFO!J82<4), IF(T82/COUNTRY_INFO!E82*100<>0, IF(T82/COUNTRY_INFO!E82*100>100,100,T82/COUNTRY_INFO!E82*100), \"-\"),0)","v":63.466940192520113},{"$f":"IF(AND(COUNTRY_INFO!J82>1,COUNTRY_INFO!J82<4),IF(COUNTRY_INFO!F82>MAX('MDA1'!K82,'MDA2'!K82,'T1'!M82,MAX(T3_R1!L82,T3_R2!L82)),MAX('MDA1'!K82,'MDA2'!K82,'T1'!M82,MAX(T3_R1!L82,T3_R2!L82)),COUNTRY_INFO!F82),0)","v":31637},{"$f":"IF(AND(COUNTRY_INFO!J82>1,COUNTRY_INFO!J82<4), IF(V82/COUNTRY_INFO!F82*100<>0, IF(V82/COUNTRY_INFO!F82*100>100,100,V82/COUNTRY_INFO!F82*100), \"-\"),0)","v":23.47428639267509},71856,{"$f":"IF(AND(COUNTRY_INFO!J82>1,COUNTRY_INFO!J82<4), IF(S82/P82*100<>0, IF(X82/P82*100>100,100,X82/P82*100), \"-\"),0)","v":36.264717905754935},{"$f":"COUNTRY_INFO!O82","v":8718},null,null,{"$f":"MAX('T1'!L82,'T2'!J82)+MAX('T1'!M82,'T2'!K82)+MAX('T1'!N82,'T2'!L82)","v":8439},{"$f":"IF(COUNTRY_INFO!K82=1,IF(COUNTRY_INFO!F82*0.33>MAX('T1'!M82,'T2'!K82),MAX('T1'!M82,'T2'!K82),COUNTRY_INFO!F82*0.33),IF(COUNTRY_INFO!K82=2,IF(COUNTRY_INFO!F82*0.5>MAX('T1'!M82,'T2'!K82),MAX('T1'!M82,'T2'!K82),COUNTRY_INFO!F82*0.5),IF(COUNTRY_INFO!K82=3,IF(COUNTRY_INFO!F82>MAX('T1'!M82,'T2'!K82),MAX('T1'!M82,'T2'!K82),COUNTRY_INFO!F82),0)))","v":8439},{"$f":"IF(AND(COUNTRY_INFO!K82>0,COUNTRY_INFO!K82<4),IF(Z82>0,IF(COUNTRY_INFO!K82=1, AD82/(COUNTRY_INFO!F82*0.33)*100, IF(COUNTRY_INFO!K82=2, AD82/(COUNTRY_INFO!F82*0.5)*100, IF(COUNTRY_INFO!K82=3, AD82/COUNTRY_INFO!F82*100))),\"-\"),0)","v":18.974666493086353},{"$f":"IF(COUNTRY_INFO!K82=2,IF(COUNTRY_INFO!G82*0.2>MAX('T1'!N82,'T2'!L82),MAX('T1'!N82,'T2'!L82),COUNTRY_INFO!G82*0.2),IF(COUNTRY_INFO!K82=3,IF(COUNTRY_INFO!G82>MAX('T1'!N82,'T2'!L82),MAX('T1'!N82,'T2'!L82),COUNTRY_INFO!G82),0))","v":0},{"$f":"IF(AND(COUNTRY_INFO!K82>0,COUNTRY_INFO!K82<4),IF(Z82>0,IF(COUNTRY_INFO!K82=1, 0, IF(COUNTRY_INFO!K82=2, AF82/(COUNTRY_INFO!G82*0.2)*100, IF(COUNTRY_INFO!K82=3, AF82/COUNTRY_INFO!G82*100))),\"-\"),0)","v":0},8439,{"$f":"IF(AND(COUNTRY_INFO!K82>0,COUNTRY_INFO!K82<4), IF(AC82/Z82*100<>0, IF(AH82/Z82*100>100,100,AH82/Z82*100), \"-\"),0)","v":96.799724707501724},null,{"$f":"IF(AND(D82<>0, D82<>\"Unknown\",D82<>\"Stopped\",D82<>\"Not required\"),D82/COUNTRY_INFO!D82, 0)","v":0},{"$f":"IF(AND(J82<>0,J82<>\"Unknown\",J82<>\"Stopped\",J82<>\"Not required\"),J82/COUNTRY_INFO!D82, 0)","v":0.16382495759284199},{"$f":"IF(AND(P82<>0,P82<>\"Unknown\",P82<>\"Not required\"),P82/(COUNTRY_INFO!E82+COUNTRY_INFO!F82), 0)","v":1},{"$f":"IF(AND(Z82<>0,Z82<>\"Unknown\",Z82<>\"Not required\"),IF(COUNTRY_INFO!K82=1,1,IF(COUNTRY_INFO!K82=2,0.5*COUNTRY_INFO!F82/(0.5*COUNTRY_INFO!F82+0.2*COUNTRY_INFO!G82),IF(COUNTRY_INFO!K82=3,COUNTRY_INFO!F82/(COUNTRY_INFO!F82+COUNTRY_INFO!G82)))),0)","v":1},{"$f":"IF(AND(Z82<>0,Z82<>\"Unknown\",Z82<>\"Not required\"),IF(COUNTRY_INFO!K82=1,0,IF(COUNTRY_INFO!K82=2,0.2*COUNTRY_INFO!G82/(0.5*COUNTRY_INFO!F82+0.2*COUNTRY_INFO!G82),IF(COUNTRY_INFO!K82=3,COUNTRY_INFO!G82/(COUNTRY_INFO!F82+COUNTRY_INFO!G82)))),0)","v":0},{"$f":"MAX(COUNTRY_INFO!D82*AK82*PROFILE!$G$7,COUNTRY_INFO!D82*AL82*PROFILE!$G$7)","v":2558.856749374238},{"$f":"MAX(COUNTRY_INFO!D82*AK82*PROFILE!$G$8,COUNTRY_INFO!D82*AL82*PROFILE!$G$8,COUNTRY_INFO!D82*AM82*PROFILE!$G$8)","v":63370.168459534696},{"$f":"MAX(COUNTRY_INFO!D82*AK82*PROFILE!$G$9,COUNTRY_INFO!D82*AL82*PROFILE!$G$9,COUNTRY_INFO!D82*AM82*PROFILE!$G$9,IF(AND(DISTRICT!Z82<>\"Unknown\",Z82<>\"Not required\"),COUNTRY_INFO!O82*DISTRICT!AN82,0))","v":134773.25702566281},{"$f":"MAX(COUNTRY_INFO!D82*AK82*PROFILE!$G$10,COUNTRY_INFO!D82*AL82*PROFILE!$G$10,IF(AND(DISTRICT!Z82<>\"Unknown\",Z82<>\"Not required\"),COUNTRY_INFO!O82*DISTRICT!AO82,0))","v":38090.304973212835},238792.58720778459,"Y",{"$f":"MAX('MDA2'!J82,'T1'!L82,'T2'!J82,T3_R1!K82,T3_R2!K82)","v":40219},{"$f":"MAX('MDA1'!K82,'MDA2'!K82,'MDA3'!I82,'MDA3'!L82,'T1'!M82,'T2'!K82,T3_R1!L82,T3_R2!L82)","v":31637},{"$f":"MAX('MDA1'!L82,'MDA2'!L82,'MDA3'!J82,'MDA3'!M82,'T1'!N82,'T2'!L82,T3_R1!M82,T3_R2!M82)","v":38702},110558,{"$f":"MAX('MDA2'!J82,T82)","v":40219},{"$f":"MAX('MDA1'!K82,'MDA2'!K82,'MDA3'!I82,'MDA3'!L82,V82,AD82)","v":31637},{"$f":"MAX('MDA1'!L82,'MDA2'!L82,'MDA3'!J82,'MDA3'!M82,AF82)","v":38702},110558,46.298757131769051]
[{"$f":"IF(COUNTRY_INFO!A83=0,\" \",COUNTRY_INFO!A83)","v":"Uganda"},{"$f":"IF(COUNTRY_INFO!B83=0,\" \",COUNTRY_INFO!B83)","v":"Northern"},{"$f":"IF(COUNTRY_INFO!C83=0,\" \",COUNTRY_INFO!C83)","v":"Maracha"},{"$f":"COUNTRY_INFO!L83","v":203572},null,null,{"$f":"MAX('MDA1'!M83,'MDA2'!M83)","v":162302},{"$f":"IF(AND(COUNTRY_INFO!H83>0,COUNTRY_INFO!H83<4),IF(D83>MAX('MDA1'!M83,'MDA2'!M83),MAX('MDA1'!M83,'MDA2'!M83),D83),0)","v":162302},{"$f":"IF(AND(COUNTRY_INFO!H83>0,COUNTRY_INFO!H83<4), IF(G83/D83*100<>0, IF(G83/D83*100>100,100,G83/D83*100), \"-\"),0)","v":79.727074450317332},{"$f":"COUNTRY_INFO!M83","v":"Stopped"},null,null,{"$f":"MAX('MDA1'!M83,MAX('MDA3'!I83,'MDA3'!L83)+MAX('MDA3'!J83,'MDA3'!M83))","v":162302},{"$f":"IF(AND(COUNTRY_INFO!I83>0,COUNTRY_INFO!I83<4),IF(J83>MAX('MDA1'!M83,MAX('MDA3'!I83,'MDA3'!L83)+MAX('MDA3'!J83,'MDA3'!M83)),MAX('MDA1'!M83,MAX('MDA3'!I83,'MDA3'!L83)+MAX('MDA3'!J83,'MDA3'!M83)),J83),0)","v":0},{"$f":"IF(AND(COUNTRY_INFO!I83>0,COUNTRY_INFO!I83<4), IF(M83/J83*100<>0, IF(M83/J83*100>100,100,M83/J83*100), \"-\"),0)","v":0},{"$f":"COUNTRY_INFO!N83","v":90386},null,null,{"$f":"SUM(MAX('MDA2'!J83, 'T1'!L83, MAX(T3_R1!K83, T3_R2!K83)), MAX('MDA1'!K83, 'MDA2'!K83, 'T1'!M83, MAX(T3_R1!L83, T3_R2!L83)), MAX('MDA1'!L83, 'MDA2'!L83, 'T1'!N83, MAX(T3_R1!M83, T3_R2!M83)))","v":210363},{"$f":"IF(AND(COUNTRY_INFO!J83>1,COUNTRY_INFO!J83<4),IF(COUNTRY_INFO!E83>MAX('MDA2'!J83,'T1'!L83,MAX(T3_R1!K83,T3_R2!K83)),MAX('MDA2'!J83,'T1'!L83,MAX(T3_R1!K83,T3_R2!K83)),COUNTRY_INFO!E83),0)","v":28907},{"$f":"IF(AND(COUNTRY_INFO!J83>1,COUNTRY_INFO!J83<4), IF(T83/COUNTRY_INFO!E83*100<>0, IF(T83/COUNTRY_INFO!E83*100>100,100,T83/COUNTRY_INFO!E83*100), \"-\"),0)","v":100},{"$f":"IF(AND(COUNTRY_INFO!J83>1,COUNTRY_INFO!J83<4),IF(COUNTRY_INFO!F83>MAX('MDA1'!K83,'MDA2'!K83,'T1'!M83,MAX(T3_R1!L83,T3_R2!L83)),MAX('MDA1'!K83,'MDA2'!K83,'T1'!M83,MAX(T3_R1!L83,T3_R2!L83)),COUNTRY_INFO!F83),0)","v":59557},{"$f":"IF(AND(COUNTRY_INFO!J83>1,COUNTRY_INFO!J83<4), IF(V83/COUNTRY_INFO!F83*100<>0, IF(V83/COUNTRY_INFO!F83*100>100,100,V83/COUNTRY_INFO!F83*100), \"-\"),0)","v":96.873729240879001},88464,{"$f":"IF(AND(COUNTRY_INFO!J83>1,COUNTRY_INFO!J83<4), IF(S83/P83*100<>0, IF(X83/P83*100>100,100,X83/P83*100), \"-\"),0)","v":97.873564490075893},{"$f":"COUNTRY_INFO!O83","v":61479},null,null,{"$f":"MAX('T1'!L83,'T2'!J83)+MAX('T1'!M83,'T2'!K83)+MAX('T1'!N83,'T2'!L83)","v":42696},{"$f":"IF(COUNTRY_INFO!K83=1,IF(COUNTRY_INFO!F83*0.33>MAX('T1'!M83,'T2'!K83),MAX('T1'!M83,'T2'!K83),COUNTRY_INFO!F83*0.33),IF(COUNTRY_INFO!K83=2,IF(COUNTRY_INFO!F83*0.5>MAX('T1'!M83,'T2'!K83),MAX('T1'!M83,'T2'!K83),COUNTRY_INFO!F83*0.5),IF(COUNTRY_INFO!K83=3,IF(COUNTRY_INFO!F83>MAX('T1'!M83,'T2'!K83),MAX('T1'!M83,'T2'!K83),COUNTRY_INFO!F83),0)))","v":20288.07},{"$f":"IF(AND(COUNTRY_INFO!K83>0,COUNTRY_INFO!K83<4),IF(Z83>0,IF(COUNTRY_INFO!K83=1, AD83/(COUNTRY_INFO!F83*0.33)*100, IF(COUNTRY_INFO!K83=2, AD83/(COUNTRY_INFO!F83*0.5)*100, IF(COUNTRY_INFO!K83=3, AD83/COUNTRY_INFO!F83*100))),\"-\"),0)","v":100},{"$f":"IF(COUNTRY_INFO!K83=2,IF(COUNTRY_INFO!G83*0.2>MAX('T1'!N83,'T2'!L83),MAX('T1'!N83,'T2'!L83),COUNTRY_INFO!G83*0.2),IF(COUNTRY_INFO!K83=3,IF(COUNTRY_INFO!G83>MAX('T1'!N83,'T2'!L83),MAX('T1'!N83,'T2'!L83),COUNTRY_INFO!G83),0))","v":0},{"$f":"IF(AND(COUNTRY_INFO!K83>0,COUNTRY_INFO!K83<4),IF(Z83>0,IF(COUNTRY_INFO!K83=1, 0, IF(COUNTRY_INFO!K83=2, AF83/(COUNTRY_INFO!G83*0.2)*100, IF(COUNTRY_INFO!K83=3, AF83/COUNTRY_INFO!G83*100))),\"-\"),0)","v":0},20288.07,{"$f":"IF(AND(COUNTRY_INFO!K83>0,COUNTRY_INFO!K83<4), IF(AC83/Z83*100<>0, IF(AH83/Z83*100>100,100,AH83/Z83*100), \"-\"),0)","v":33},null,{"$f":"IF(AND(D83<>0, D83<>\"Unknown\",D83<>\"Stopped\",D83<>\"Not required\"),D83/COUNTRY_INFO!D83, 0)","v":1},{"$f":"IF(AND(J83<>0,J83<>\"Unknown\",J83<>\"Stopped\",J83<>\"Not required\"),J83/COUNTRY_INFO!D83, 0)","v":0},{"$f":"IF(AND(P83<>0,P83<>\"Unknown\",P83<>\"Not required\"),P83/(COUNTRY_INFO!E83+COUNTRY_INFO!F83), 0)","v":1},{"$f":"IF(AND(Z83<>0,Z83<>\"Unknown\",Z83<>\"Not required\"),IF(COUNTRY_INFO!K83=1,1,IF(COUNTRY_INFO!K83=2,0.5*COUNTRY_INFO!F83/(0.5*COUNTRY_INFO!F83+0.2*COUNTRY_INFO!G83),IF(COUNTRY_INFO!K83=3,COUNTRY_INFO!F83/(COUNTRY_INFO!F83+COUNTRY_INFO!G83)))),0)","v":1},{"$f":"IF(AND(Z83<>0,Z83<>\"Unknown\",Z83<>\"Not required\"),IF(COUNTRY_INFO!K83=1,0,IF(COUNTRY_INFO!K83=2,0.2*COUNTRY_INFO!G83/(0.5*COUNTRY_INFO!F83+0.2*COUNTRY_INFO!G83),IF(COUNTRY_INFO!K83=3,COUNTRY_INFO!G83/(COUNTRY_INFO!F83+COUNTRY_INFO!G83)))),0)","v":0},{"$f":"MAX(COUNTRY_INFO!D83*AK83*PROFILE!$G$7,COUNTRY_INFO!D83*AL83*PROFILE!$G$7)","v":7125.0387933745369},{"$f":"MAX(COUNTRY_INFO!D83*AK83*PROFILE!$G$8,COUNTRY_INFO!D83*AL83*PROFILE!$G$8,COUNTRY_INFO!D83*AM83*PROFILE!$G$8)","v":28907.210524693397},{"$f":"MAX(COUNTRY_INFO!D83*AK83*PROFILE!$G$9,COUNTRY_INFO!D83*AL83*PROFILE!$G$9,COUNTRY_INFO!D83*AM83*PROFILE!$G$9,IF(AND(DISTRICT!Z83<>\"Unknown\",Z83<>\"Not required\"),COUNTRY_INFO!O83*DISTRICT!AN83,0))","v":61479},{"$f":"MAX(COUNTRY_INFO!D83*AK83*PROFILE!$G$10,COUNTRY_INFO!D83*AL83*PROFILE!$G$10,IF(AND(DISTRICT!Z83<>\"Unknown\",Z83<>\"Not required\"),COUNTRY_INFO!O83*DISTRICT!AO83,0))","v":106060.99800310332},203572.24732117125,"Y",{"$f":"MAX('MDA2'!J83,'T1'!L83,'T2'!J83,T3_R1!K83,T3_R2!K83)","v":48061},{"$f":"MAX('MDA1'!K83,'MDA2'!K83,'MDA3'!I83,'MDA3'!L83,'T1'!M83,'T2'!K83,T3_R1!L83,T3_R2!L83)","v":59557},{"$f":"MAX('MDA1'!L83,'MDA2'!L83,'MDA3'!J83,'MDA3'!M83,'T1'!N83,'T2'!L83,T3_R1!M83,T3_R2!M83)","v":102745},210363,{"$f":"MAX('MDA2'!J83,T83)","v":28907},{"$f":"MAX('MDA1'!K83,'MDA2'!K83,'MDA3'!I83,'MDA3'!L83,V83,AD83)","v":59557},{"$f":"MAX('MDA1'!L83,'MDA2'!L83,'MDA3'!J83,'MDA3'!M83,AF83)","v":102745},191209,93.926850303093602]
[{"$f":"IF(COUNTRY_INFO!A84=0,\" \",COUNTRY_INFO!A84)","v":"Uganda"},{"$f":"IF(COUNTRY_INFO!B84=0,\" \",COUNTRY_INFO!B84)","v":"Northern"},{"$f":"IF(COUNTRY_INFO!C84=0,\" \",COUNTRY_INFO!C84)","v":"Moroto"},{"$f":"COUNTRY_INFO!L84","v":"Stopped"},null,null,{"$f":"MAX('MDA1'!M84,'MDA2'!M84)","v":0},{"$f":"IF(AND(COUNTRY_INFO!H84>0,COUNTRY_INFO!H84<4),IF(D84>MAX('MDA1'!M84,'MDA2'!M84),MAX('MDA1'!M84,'MDA2'!M84),D84),0)","v":0},{"$f":"IF(AND(COUNTRY_INFO!H84>0,COUNTRY_INFO!H84<4), IF(G84/D84*100<>0, IF(G84/D84*100>100,100,G84/D84*100), \"-\"),0)","v":0},{"$f":"COUNTRY_INFO!M84","v":0},null,null,{"$f":"MAX('MDA1'!M84,MAX('MDA3'!I84,'MDA3'!L84)+MAX('MDA3'!J84,'MDA3'!M84))","v":0},{"$f":"IF(AND(COUNTRY_INFO!I84>0,COUNTRY_INFO!I84<4),IF(J84>MAX('MDA1'!M84,MAX('MDA3'!I84,'MDA3'!L84)+MAX('MDA3'!J84,'MDA3'!M84)),MAX('MDA1'!M84,MAX('MDA3'!I84,'MDA3'!L84)+MAX('MDA3'!J84,'MDA3'!M84)),J84),0)","v":0},{"$f":"IF(AND(COUNTRY_INFO!I84>0,COUNTRY_INFO!I84<4), IF(M84/J84*100<>0, IF(M84/J84*100>100,100,M84/J84*100), \"-\"),0)","v":0},{"$f":"COUNTRY_INFO!N84","v":50226},null,null,{"$f":"SUM(MAX('MDA2'!J84, 'T1'!L84, MAX(T3_R1!K84, T3_R2!K84)), MAX('MDA1'!K84, 'MDA2'!K84, 'T1'!M84, MAX(T3_R1!L84, T3_R2!L84)), MAX('MDA1'!L84, 'MDA2'!L84, 'T1'!N84, MAX(T3_R1!M84, T3_R2!M84)))","v":61934},{"$f":"IF(AND(COUNTRY_INFO!J84>1,COUNTRY_INFO!J84<4),IF(COUNTRY_INFO!E84>MAX('MDA2'!J84,'T1'!L84,MAX(T3_R1!K84,T3_R2!K84)),MAX('MDA2'!J84,'T1'!L84,MAX(T3_R1!K84,T3_R2!K84)),COUNTRY_INFO!E84),0)","v":16063},{"$f":"IF(AND(COUNTRY_INFO!J84>1,COUNTRY_INFO!J84<4), IF(T84/COUNTRY_INFO!E84*100<>0, IF(T84/COUNTRY_INFO!E84*100>100,100,T84/COUNTRY_INFO!E84*100), \"-\"),0)","v":100},{"$f":"IF(AND(COUNTRY_INFO!J84>1,COUNTRY_INFO!J84<4),IF(COUNTRY_INFO!F84>MAX('MDA1'!K84,'MDA2'!K84,'T1'!M84,MAX(T3_R1!L84,T3_R2!L84)),MAX('MDA1'!K84,'MDA2'!K84,'T1'!M84,MAX(T3_R1!L84,T3_R2!L84)),COUNTRY_INFO!F84),0)","v":3045},{"$f":"IF(AND(COUNTRY_INFO!J84>1,COUNTRY_INFO!J84<4), IF(V84/COUNTRY_INFO!F84*100<>0, IF(V84/COUNTRY_INFO!F84*100>100,100,V84/COUNTRY_INFO!F84*100), \"-\"),0)","v":8.9131516552995933},19108,{"$f":"IF(AND(COUNTRY_INFO!J84>1,COUNTRY_INFO!J84<4), IF(S84/P84*100<>0, IF(X84/P84*100>100,100,X84/P84*100), \"-\"),0)","v":38.044040934973914},{"$f":"COUNTRY_INFO!O84","v":0},null,null,{"$f":"MAX('T1'!L84,'T2'!J84)+MAX('T1'!M84,'T2'!K84)+MAX('T1'!N84,'T2'!L84)","v":0},{"$f":"IF(COUNTRY_INFO!K84=1,IF(COUNTRY_INFO!F84*0.33>MAX('T1'!M84,'T2'!K84),MAX('T1'!M84,'T2'!K84),COUNTRY_INFO!F84*0.33),IF(COUNTRY_INFO!K84=2,IF(COUNTRY_INFO!F84*0.5>MAX('T1'!M84,'T2'!K84),MAX('T1'!M84,'T2'!K84),COUNTRY_INFO!F84*0.5),IF(COUNTRY_INFO!K84=3,IF(COUNTRY_INFO!F84>MAX('T1'!M84,'T2'!K84),MAX('T1'!M84,'T2'!K84),COUNTRY_INFO!F84),0)))","v":0},{"$f":"IF(AND(COUNTRY_INFO!K84>0,COUNTRY_INFO!K84<4),IF(Z84>0,IF(COUNTRY_INFO!K84=1, AD84/(COUNTRY_INFO!F84*0.33)*100, IF(COUNTRY_INFO!K84=2, AD84/(COUNTRY_INFO!F84*0.5)*100, IF(COUNTRY_INFO!K84=3, AD84/COUNTRY_INFO!F84*100))),\"-\"),0)","v":0},{"$f":"IF(COUNTRY_INFO!K84=2,IF(COUNTRY_INFO!G84*0.2>MAX('T1'!N84,'T2'!L84),MAX('T1'!N84,'T2'!L84),COUNTRY_INFO!G84*0.2),IF(COUNTRY_INFO!K84=3,IF(COUNTRY_INFO!G84>MAX('T1'!N84,'T2'!L84),MAX('T1'!N84,'T2'!L84),COUNTRY_INFO!G84),0))","v":0},{"$f":"IF(AND(COUNTRY_INFO!K84>0,COUNTRY_INFO!K84<4),IF(Z84>0,IF(COUNTRY_INFO!K84=1, 0, IF(COUNTRY_INFO!K84=2, AF84/(COUNTRY_INFO!G84*0.2)*100, IF(COUNTRY_INFO!K84=3, AF84/COUNTRY_INFO!G84*100))),\"-\"),0)","v":0},0,{"$f":"IF(AND(COUNTRY_INFO!K84>0,COUNTRY_INFO!K84<4), IF(AC84/Z84*100<>0, IF(AH84/Z84*100>100,100,AH84/Z84*100), \"-\"),0)","v":0},null,{"$f":"IF(AND(D84<>0, D84<>\"Unknown\",D84<>\"Stopped\",D84<>\"Not required\"),D84/COUNTRY_INFO!D84, 0)","v":0},{"$f":"IF(AND(J84<>0,J84<>\"Unknown\",J84<>\"Stopped\",J84<>\"Not required\"),J84/COUNTRY_INFO!D84, 0)","v":0},{"$f":"IF(AND(P84<>0,P84<>\"Unknown\",P84<>\"Not required\"),P84/(COUNTRY_INFO!E84+COUNTRY_INFO!F84), 0)","v":1},{"$f":"IF(AND(Z84<>0,Z84<>\"Unknown\",Z84<>\"Not required\"),IF(COUNTRY_INFO!K84=1,1,IF(COUNTRY_INFO!K84=2,0.5*COUNTRY_INFO!F84/(0.5*COUNTRY_INFO!F84+0.2*COUNTRY_INFO!G84),IF(COUNTRY_INFO!K84=3,COUNTRY_INFO!F84/(COUNTRY_INFO!F84+COUNTRY_INFO!G84)))),0)","v":0},{"$f":"IF(AND(Z84<>0,Z84<>\"Unknown\",Z84<>\"Not required\"),IF(COUNTRY_INFO!K84=1,0,IF(COUNTRY_INFO!K84=2,0.2*COUNTRY_INFO!G84/(0.5*COUNTRY_INFO!F84+0.2*COUNTRY_INFO!G84),IF(COUNTRY_INFO!K84=3,COUNTRY_INFO!G84/(COUNTRY_INFO!F84+COUNTRY_INFO!G84)))),0)","v":0},{"$f":"MAX(COUNTRY_INFO!D84*AK84*PROFILE!$G$7,COUNTRY_INFO!D84*AL84*PROFILE!$G$7)","v":0},{"$f":"MAX(COUNTRY_INFO!D84*AK84*PROFILE!$G$8,COUNTRY_INFO!D84*AL84*PROFILE!$G$8,COUNTRY_INFO!D84*AM84*PROFILE!$G$8)","v":16063.316511968082},{"$f":"MAX(COUNTRY_INFO!D84*AK84*PROFILE!$G$9,COUNTRY_INFO!D84*AL84*PROFILE!$G$9,COUNTRY_INFO!D84*AM84*PROFILE!$G$9,IF(AND(DISTRICT!Z84<>\"Unknown\",Z84<>\"Not required\"),COUNTRY_INFO!O84*DISTRICT!AN84,0))","v":34162.848822698928},{"$f":"MAX(COUNTRY_INFO!D84*AK84*PROFILE!$G$10,COUNTRY_INFO!D84*AL84*PROFILE!$G$10,IF(AND(DISTRICT!Z84<>\"Unknown\",Z84<>\"Not required\"),COUNTRY_INFO!O84*DISTRICT!AO84,0))","v":0},50226.165334667006,"Y",{"$f":"MAX('MDA2'!J84,'T1'!L84,'T2'!J84,T3_R1!K84,T3_R2!K84)","v":58889},{"$f":"MAX('MDA1'!K84,'MDA2'!K84,'MDA3'!I84,'MDA3'!L84,'T1'!M84,'T2'!K84,T3_R1!L84,T3_R2!L84)","v":3045},{"$f":"MAX('MDA1'!L84,'MDA2'!L84,'MDA3'!J84,'MDA3'!M84,'T1'!N84,'T2'!L84,T3_R1!M84,T3_R2!M84)","v":0},61934,{"$f":"MAX('MDA2'!J84,T84)","v":16063},{"$f":"MAX('MDA1'!K84,'MDA2'!K84,'MDA3'!I84,'MDA3'!L84,V84,AD84)","v":3045},{"$f":"MAX('MDA1'!L84,'MDA2'!L84,'MDA3'!J84,'MDA3'!M84,AF84)","v":0},19108,38.043915701466688]
[{"$f":"IF(COUNTRY_INFO!A85=0,\" \",COUNTRY_INFO!A85)","v":"Uganda"},{"$f":"IF(COUNTRY_INFO!B85=0,\" \",COUNTRY_INFO!B85)","v":"Northern"},{"$f":"IF(COUNTRY_INFO!C85=0,\" \",COUNTRY_INFO!C85)","v":"Moyo"},{"$f":"COUNTRY_INFO!L85","v":"Stopped"},null,null,{"$f":"MAX('MDA1'!M85,'MDA2'!M85)","v":0},{"$f":"IF(AND(COUNTRY_INFO!H85>0,COUNTRY_INFO!H85<4),IF(D85>MAX('MDA1'!M85,'MDA2'!M85),MAX('MDA1'!M85,'MDA2'!M85),D85),0)","v":0},{"$f":"IF(AND(COUNTRY_INFO!H85>0,COUNTRY_INFO!H85<4), IF(G85/D85*100<>0, IF(G85/D85*100>100,100,G85/D85*100), \"-\"),0)","v":0},{"$f":"COUNTRY_INFO!M85","v":90729},null,null,{"$f":"MAX('MDA1'!M85,MAX('MDA3'!I85,'MDA3'!L85)+MAX('MDA3'!J85,'MDA3'!M85))","v":77903},{"$f":"IF(AND(COUNTRY_INFO!I85>0,COUNTRY_INFO!I85<4),IF(J85>MAX('MDA1'!M85,MAX('MDA3'!I85,'MDA3'!L85)+MAX('MDA3'!J85,'MDA3'!M85)),MAX('MDA1'!M85,MAX('MDA3'!I85,'MDA3'!L85)+MAX('MDA3'!J85,'MDA3'!M85)),J85),0)","v":77903},{"$f":"IF(AND(COUNTRY_INFO!I85>0,COUNTRY_INFO!I85<4), IF(M85/J85*100<>0, IF(M85/J85*100>100,100,M85/J85*100), \"-\"),0)","v":85.86339538626018},{"$f":"COUNTRY_INFO!N85","v":67504},null,null,{"$f":"SUM(MAX('MDA2'!J85, 'T1'!L85, MAX(T3_R1!K85, T3_R2!K85)), MAX('MDA1'!K85, 'MDA2'!K85, 'T1'!M85, MAX(T3_R1!L85, T3_R2!L85)), MAX('MDA1'!L85, 'MDA2'!L85, 'T1'!N85, MAX(T3_R1!M85, T3_R2!M85)))","v":507174},{"$f":"IF(AND(COUNTRY_INFO!J85>1,COUNTRY_INFO!J85<4),IF(COUNTRY_INFO!E85>MAX('MDA2'!J85,'T1'!L85,MAX(T3_R1!K85,T3_R2!K85)),MAX('MDA2'!J85,'T1'!L85,MAX(T3_R1!K85,T3_R2!K85)),COUNTRY_INFO!E85),0)","v":21589},{"$f":"IF(AND(COUNTRY_INFO!J85>1,COUNTRY_INFO!J85<4), IF(T85/COUNTRY_INFO!E85*100<>0, IF(T85/COUNTRY_INFO!E85*100>100,100,T85/COUNTRY_INFO!E85*100), \"-\"),0)","v":100},{"$f":"IF(AND(COUNTRY_INFO!J85>1,COUNTRY_INFO!J85<4),IF(COUNTRY_INFO!F85>MAX('MDA1'!K85,'MDA2'!K85,'T1'!M85,MAX(T3_R1!L85,T3_R2!L85)),MAX('MDA1'!K85,'MDA2'!K85,'T1'!M85,MAX(T3_R1!L85,T3_R2!L85)),COUNTRY_INFO!F85),0)","v":19646},{"$f":"IF(AND(COUNTRY_INFO!J85>1,COUNTRY_INFO!J85<4), IF(V85/COUNTRY_INFO!F85*100<>0, IF(V85/COUNTRY_INFO!F85*100>100,100,V85/COUNTRY_INFO!F85*100), \"-\"),0)","v":42.787759991288247},41235,{"$f":"IF(AND(COUNTRY_INFO!J85>1,COUNTRY_INFO!J85<4), IF(S85/P85*100<>0, IF(X85/P85*100>100,100,X85/P85*100), \"-\"),0)","v":61.085269021095044},{"$f":"COUNTRY_INFO!O85","v":89608},null,null,{"$f":"MAX('T1'!L85,'T2'!J85)+MAX('T1'!M85,'T2'!K85)+MAX('T1'!N85,'T2'!L85)","v":82426},{"$f":"IF(COUNTRY_INFO!K85=1,IF(COUNTRY_INFO!F85*0.33>MAX('T1'!M85,'T2'!K85),MAX('T1'!M85,'T2'!K85),COUNTRY_INFO!F85*0.33),IF(COUNTRY_INFO!K85=2,IF(COUNTRY_INFO!F85*0.5>MAX('T1'!M85,'T2'!K85),MAX('T1'!M85,'T2'!K85),COUNTRY_INFO!F85*0.5),IF(COUNTRY_INFO!K85=3,IF(COUNTRY_INFO!F85>MAX('T1'!M85,'T2'!K85),MAX('T1'!M85,'T2'!K85),COUNTRY_INFO!F85),0)))","v":31947},{"$f":"IF(AND(COUNTRY_INFO!K85>0,COUNTRY_INFO!K85<4),IF(Z85>0,IF(COUNTRY_INFO!K85=1, AD85/(COUNTRY_INFO!F85*0.33)*100, IF(COUNTRY_INFO!K85=2, AD85/(COUNTRY_INFO!F85*0.5)*100, IF(COUNTRY_INFO!K85=3, AD85/COUNTRY_INFO!F85*100))),\"-\"),0)","v":69.578569095066968},{"$f":"IF(COUNTRY_INFO!K85=2,IF(COUNTRY_INFO!G85*0.2>MAX('T1'!N85,'T2'!L85),MAX('T1'!N85,'T2'!L85),COUNTRY_INFO!G85*0.2),IF(COUNTRY_INFO!K85=3,IF(COUNTRY_INFO!G85>MAX('T1'!N85,'T2'!L85),MAX('T1'!N85,'T2'!L85),COUNTRY_INFO!G85),0))","v":50479},{"$f":"IF(AND(COUNTRY_INFO!K85>0,COUNTRY_INFO!K85<4),IF(Z85>0,IF(COUNTRY_INFO!K85=1, 0, IF(COUNTRY_INFO!K85=2, AF85/(COUNTRY_INFO!G85*0.2)*100, IF(COUNTRY_INFO!K85=3, AF85/COUNTRY_INFO!G85*100))),\"-\"),0)","v":63.728064638303252},82426,{"$f":"IF(AND(COUNTRY_INFO!K85>0,COUNTRY_INFO!K85<4), IF(AC85/Z85*100<>0, IF(AH85/Z85*100>100,100,AH85/Z85*100), \"-\"),0)","v":91.985090616909204},null,{"$f":"IF(AND(D85<>0, D85<>\"Unknown\",D85<>\"Stopped\",D85<>\"Not required\"),D85/COUNTRY_INFO!D85, 0)","v":0},{"$f":"IF(AND(J85<>0,J85<>\"Unknown\",J85<>\"Stopped\",J85<>\"Not required\"),J85/COUNTRY_INFO!D85, 0)","v":0.59676390304864013},{"$f":"IF(AND(P85<>0,P85<>\"Unknown\",P85<>\"Not required\"),P85/(COUNTRY_INFO!E85+COUNTRY_INFO!F85), 0)","v":1},{"$f":"IF(AND(Z85<>0,Z85<>\"Unknown\",Z85<>\"Not required\"),IF(COUNTRY_INFO!K85=1,1,IF(COUNTRY_INFO!K85=2,0.5*COUNTRY_INFO!F85/(0.5*COUNTRY_INFO!F85+0.2*COUNTRY_INFO!G85),IF(COUNTRY_INFO!K85=3,COUNTRY_INFO!F85/(COUNTRY_INFO!F85+COUNTRY_INFO!G85)))),0)","v":0.36695304695304698},{"$f":"IF(AND(Z85<>0,Z85<>\"Unknown\",Z85<>\"Not required\"),IF(COUNTRY_INFO!K85=1,0,IF(COUNTRY_INFO!K85=2,0.2*COUNTRY_INFO!G85/(0.5*COUNTRY_INFO!F85+0.2*COUNTRY_INFO!G85),IF(COUNTRY_INFO!K85=3,COUNTRY_INFO!G85/(COUNTRY_INFO!F85+COUNTRY_INFO!G85)))),0)","v":0.63304695304695302},{"$f":"MAX(COUNTRY_INFO!D85*AK85*PROFILE!$G$7,COUNTRY_INFO!D85*AL85*PROFILE!$G$7)","v":3175.5233759263474},{"$f":"MAX(COUNTRY_INFO!D85*AK85*PROFILE!$G$8,COUNTRY_INFO!D85*AL85*PROFILE!$G$8,COUNTRY_INFO!D85*AM85*PROFILE!$G$8)","v":21588.959936149178},{"$f":"MAX(COUNTRY_INFO!D85*AK85*PROFILE!$G$9,COUNTRY_INFO!D85*AL85*PROFILE!$G$9,COUNTRY_INFO!D85*AM85*PROFILE!$G$9,IF(AND(DISTRICT!Z85<>\"Unknown\",Z85<>\"Not required\"),COUNTRY_INFO!O85*DISTRICT!AN85,0))","v":45914.576481666096},{"$f":"MAX(COUNTRY_INFO!D85*AK85*PROFILE!$G$10,COUNTRY_INFO!D85*AL85*PROFILE!$G$10,IF(AND(DISTRICT!Z85<>\"Unknown\",Z85<>\"Not required\"),COUNTRY_INFO!O85*DISTRICT!AO85,0))","v":56726.071368631368},127405.13116237299,"Y",{"$f":"MAX('MDA2'!J85,'T1'!L85,'T2'!J85,T3_R1!K85,T3_R2!K85)","v":487528},{"$f":"MAX('MDA1'!K85,'MDA2'!K85,'MDA3'!I85,'MDA3'!L85,'T1'!M85,'T2'!K85,T3_R1!L85,T3_R2!L85)","v":31947},{"$f":"MAX('MDA1'!L85,'MDA2'!L85,'MDA3'!J85,'MDA3'!M85,'T1'!N85,'T2'!L85,T3_R1!M85,T3_R2!M85)","v":50479},569954,{"$f":"MAX('MDA2'!J85,T85)","v":21589},{"$f":"MAX('MDA1'!K85,'MDA2'!K85,'MDA3'!I85,'MDA3'!L85,V85,AD85)","v":31947},{"$f":"MAX('MDA1'!L85,'MDA2'!L85,'MDA3'!J85,'MDA3'!M85,AF85)","v":50479},104015,81.641138823079928]
[{"$f":"IF(COUNTRY_INFO!A86=0,\" \",COUNTRY_INFO!A86)","v":"Uganda"},{"$f":"IF(COUNTRY_INFO!B86=0,\" \",COUNTRY_INFO!B86)","v":"Northern"},{"$f":"IF(COUNTRY_INFO!C86=0,\" \",COUNTRY_INFO!C86)","v":"Nakapiripirit"},{"$f":"COUNTRY_INFO!L86","v":"Stopped"},null,null,{"$f":"MAX('MDA1'!M86,'MDA2'!M86)","v":0},{"$f":"IF(AND(COUNTRY_INFO!H86>0,COUNTRY_INFO!H86<4),IF(D86>MAX('MDA1'!M86,'MDA2'!M86),MAX('MDA1'!M86,'MDA2'!M86),D86),0)","v":0},{"$f":"IF(AND(COUNTRY_INFO!H86>0,COUNTRY_INFO!H86<4), IF(G86/D86*100<>0, IF(G86/D86*100>100,100,G86/D86*100), \"-\"),0)","v":0},{"$f":"COUNTRY_INFO!M86","v":0},null,null,{"$f":"MAX('MDA1'!M86,MAX('MDA3'!I86,'MDA3'!L86)+MAX('MDA3'!J86,'MDA3'!M86))","v":0},{"$f":"IF(AND(COUNTRY_INFO!I86>0,COUNTRY_INFO!I86<4),IF(J86>MAX('MDA1'!M86,MAX('MDA3'!I86,'MDA3'!L86)+MAX('MDA3'!J86,'MDA3'!M86)),MAX('MDA1'!M86,MAX('MDA3'!I86,'MDA3'!L86)+MAX('MDA3'!J86,'MDA3'!M86)),J86),0)","v":0},{"$f":"IF(AND(COUNTRY_INFO!I86>0,COUNTRY_INFO!I86<4), IF(M86/J86*100<>0, IF(M86/J86*100>100,100,M86/J86*100), \"-\"),0)","v":0},{"$f":"COUNTRY_INFO!N86","v":76089},null,null,{"$f":"SUM(MAX('MDA2'!J86, 'T1'!L86, MAX(T3_R1!K86, T3_R2!K86)), MAX('MDA1'!K86, 'MDA2'!K86, 'T1'!M86, MAX(T3_R1!L86, T3_R2!L86)), MAX('MDA1'!L86, 'MDA2'!L86, 'T1'!N86, MAX(T3_R1!M86, T3_R2!M86)))","v":108929},{"$f":"IF(AND(COUNTRY_INFO!J86>1,COUNTRY_INFO!J86<4),IF(COUNTRY_INFO!E86>MAX('MDA2'!J86,'T1'!L86,MAX(T3_R1!K86,T3_R2!K86)),MAX('MDA2'!J86,'T1'!L86,MAX(T3_R1!K86,T3_R2!K86)),COUNTRY_INFO!E86),0)","v":24335},{"$f":"IF(AND(COUNTRY_INFO!J86>1,COUNTRY_INFO!J86<4), IF(T86/COUNTRY_INFO!E86*100<>0, IF(T86/COUNTRY_INFO!E86*100>100,100,T86/COUNTRY_INFO!E86*100), \"-\"),0)","v":100},{"$f":"IF(AND(COUNTRY_INFO!J86>1,COUNTRY_INFO!J86<4),IF(COUNTRY_INFO!F86>MAX('MDA1'!K86,'MDA2'!K86,'T1'!M86,MAX(T3_R1!L86,T3_R2!L86)),MAX('MDA1'!K86,'MDA2'!K86,'T1'!M86,MAX(T3_R1!L86,T3_R2!L86)),COUNTRY_INFO!F86),0)","v":13233},{"$f":"IF(AND(COUNTRY_INFO!J86>1,COUNTRY_INFO!J86<4), IF(V86/COUNTRY_INFO!F86*100<>0, IF(V86/COUNTRY_INFO!F86*100>100,100,V86/COUNTRY_INFO!F86*100), \"-\"),0)","v":25.569038141979366},37568,{"$f":"IF(AND(COUNTRY_INFO!J86>1,COUNTRY_INFO!J86<4), IF(S86/P86*100<>0, IF(X86/P86*100>100,100,X86/P86*100), \"-\"),0)","v":49.373759676168696},{"$f":"COUNTRY_INFO!O86","v":7906},null,null,{"$f":"MAX('T1'!L86,'T2'!J86)+MAX('T1'!M86,'T2'!K86)+MAX('T1'!N86,'T2'!L86)","v":6317},{"$f":"IF(COUNTRY_INFO!K86=1,IF(COUNTRY_INFO!F86*0.33>MAX('T1'!M86,'T2'!K86),MAX('T1'!M86,'T2'!K86),COUNTRY_INFO!F86*0.33),IF(COUNTRY_INFO!K86=2,IF(COUNTRY_INFO!F86*0.5>MAX('T1'!M86,'T2'!K86),MAX('T1'!M86,'T2'!K86),COUNTRY_INFO!F86*0.5),IF(COUNTRY_INFO!K86=3,IF(COUNTRY_INFO!F86>MAX('T1'!M86,'T2'!K86),MAX('T1'!M86,'T2'!K86),COUNTRY_INFO!F86),0)))","v":6317},{"$f":"IF(AND(COUNTRY_INFO!K86>0,COUNTRY_INFO!K86<4),IF(Z86>0,IF(COUNTRY_INFO!K86=1, AD86/(COUNTRY_INFO!F86*0.33)*100, IF(COUNTRY_INFO!K86=2, AD86/(COUNTRY_INFO!F86*0.5)*100, IF(COUNTRY_INFO!K86=3, AD86/COUNTRY_INFO!F86*100))),\"-\"),0)","v":36.987332848522328},{"$f":"IF(COUNTRY_INFO!K86=2,IF(COUNTRY_INFO!G86*0.2>MAX('T1'!N86,'T2'!L86),MAX('T1'!N86,'T2'!L86),COUNTRY_INFO!G86*0.2),IF(COUNTRY_INFO!K86=3,IF(COUNTRY_INFO!G86>MAX('T1'!N86,'T2'!L86),MAX('T1'!N86,'T2'!L86),COUNTRY_INFO!G86),0))","v":0},{"$f":"IF(AND(COUNTRY_INFO!K86>0,COUNTRY_INFO!K86<4),IF(Z86>0,IF(COUNTRY_INFO!K86=1, 0, IF(COUNTRY_INFO!K86=2, AF86/(COUNTRY_INFO!G86*0.2)*100, IF(COUNTRY_INFO!K86=3, AF86/COUNTRY_INFO!G86*100))),\"-\"),0)","v":0},6317,{"$f":"IF(AND(COUNTRY_INFO!K86>0,COUNTRY_INFO!K86<4), IF(AC86/Z86*100<>0, IF(AH86/Z86*100>100,100,AH86/Z86*100), \"-\"),0)","v":79.901340753857824},null,{"$f":"IF(AND(D86<>0, D86<>\"Unknown\",D86<>\"Stopped\",D86<>\"Not required\"),D86/COUNTRY_INFO!D86, 0)","v":0},{"$f":"IF(AND(J86<>0,J86<>\"Unknown\",J86<>\"Stopped\",J86<>\"Not required\"),J86/COUNTRY_INFO!D86, 0)","v":0},{"$f":"IF(AND(P86<>0,P86<>\"Unknown\",P86<>\"Not required\"),P86/(COUNTRY_INFO!E86+COUNTRY_INFO!F86), 0)","v":1},{"$f":"IF(AND(Z86<>0,Z86<>\"Unknown\",Z86<>\"Not required\"),IF(COUNTRY_INFO!K86=1,1,IF(COUNTRY_INFO!K86=2,0.5*COUNTRY_INFO!F86/(0.5*COUNTRY_INFO!F86+0.2*COUNTRY_INFO!G86),IF(COUNTRY_INFO!K86=3,COUNTRY_INFO!F86/(COUNTRY_INFO!F86+COUNTRY_INFO!G86)))),0)","v":1},{"$f":"IF(AND(Z86<>0,Z86<>\"Unknown\",Z86<>\"Not required\"),IF(COUNTRY_INFO!K86=1,0,IF(COUNTRY_INFO!K86=2,0.2*COUNTRY_INFO!G86/(0.5*COUNTRY_INFO!F86+0.2*COUNTRY_INFO!G86),IF(COUNTRY_INFO!K86=3,COUNTRY_INFO!G86/(COUNTRY_INFO!F86+COUNTRY_INFO!G86)))),0)","v":0},{"$f":"MAX(COUNTRY_INFO!D86*AK86*PROFILE!$G$7,COUNTRY_INFO!D86*AL86*PROFILE!$G$7)","v":0},{"$f":"MAX(COUNTRY_INFO!D86*AK86*PROFILE!$G$8,COUNTRY_INFO!D86*AL86*PROFILE!$G$8,COUNTRY_INFO!D86*AM86*PROFILE!$G$8)","v":24334.528656282335},{"$f":"MAX(COUNTRY_INFO!D86*AK86*PROFILE!$G$9,COUNTRY_INFO!D86*AL86*PROFILE!$G$9,COUNTRY_INFO!D86*AM86*PROFILE!$G$9,IF(AND(DISTRICT!Z86<>\"Unknown\",Z86<>\"Not required\"),COUNTRY_INFO!O86*DISTRICT!AN86,0))","v":51753.747305969802},{"$f":"MAX(COUNTRY_INFO!D86*AK86*PROFILE!$G$10,COUNTRY_INFO!D86*AL86*PROFILE!$G$10,IF(AND(DISTRICT!Z86<>\"Unknown\",Z86<>\"Not required\"),COUNTRY_INFO!O86*DISTRICT!AO86,0))","v":0},76088.275962252141,"Y",{"$f":"MAX('MDA2'!J86,'T1'!L86,'T2'!J86,T3_R1!K86,T3_R2!K86)","v":95696},{"$f":"MAX('MDA1'!K86,'MDA2'!K86,'MDA3'!I86,'MDA3'!L86,'T1'!M86,'T2'!K86,T3_R1!L86,T3_R2!L86)","v":13233},{"$f":"MAX('MDA1'!L86,'MDA2'!L86,'MDA3'!J86,'MDA3'!M86,'T1'!N86,'T2'!L86,T3_R1!M86,T3_R2!M86)","v":0},108929,{"$f":"MAX('MDA2'!J86,T86)","v":24335},{"$f":"MAX('MDA1'!K86,'MDA2'!K86,'MDA3'!I86,'MDA3'!L86,V86,AD86)","v":13233},{"$f":"MAX('MDA1'!L86,'MDA2'!L86,'MDA3'!J86,'MDA3'!M86,AF86)","v":0},37568,49.374229504999846]
[{"$f":"IF(COUNTRY_INFO!A87=0,\" \",COUNTRY_INFO!A87)","v":"Uganda"},{"$f":"IF(COUNTRY_INFO!B87=0,\" \",COUNTRY_INFO!B87)","v":"Northern"},{"$f":"IF(COUNTRY_INFO!C87=0,\" \",COUNTRY_INFO!C87)","v":"Napak"},{"$f":"COUNTRY_INFO!L87","v":"Stopped"},null,null,{"$f":"MAX('MDA1'!M87,'MDA2'!M87)","v":0},{"$f":"IF(AND(COUNTRY_INFO!H87>0,COUNTRY_INFO!H87<4),IF(D87>MAX('MDA1'!M87,'MDA2'!M87),MAX('MDA1'!M87,'MDA2'!M87),D87),0)","v":0},{"$f":"IF(AND(COUNTRY_INFO!H87>0,COUNTRY_INFO!H87<4), IF(G87/D87*100<>0, IF(G87/D87*100>100,100,G87/D87*100), \"-\"),0)","v":0},{"$f":"COUNTRY_INFO!M87","v":0},null,null,{"$f":"MAX('MDA1'!M87,MAX('MDA3'!I87,'MDA3'!L87)+MAX('MDA3'!J87,'MDA3'!M87))","v":0},{"$f":"IF(AND(COUNTRY_INFO!I87>0,COUNTRY_INFO!I87<4),IF(J87>MAX('MDA1'!M87,MAX('MDA3'!I87,'MDA3'!L87)+MAX('MDA3'!J87,'MDA3'!M87)),MAX('MDA1'!M87,MAX('MDA3'!I87,'MDA3'!L87)+MAX('MDA3'!J87,'MDA3'!M87)),J87),0)","v":0},{"$f":"IF(AND(COUNTRY_INFO!I87>0,COUNTRY_INFO!I87<4), IF(M87/J87*100<>0, IF(M87/J87*100>100,100,M87/J87*100), \"-\"),0)","v":0},{"$f":"COUNTRY_INFO!N87","v":69063},null,null,{"$f":"SUM(MAX('MDA2'!J87, 'T1'!L87, MAX(T3_R1!K87, T3_R2!K87)), MAX('MDA1'!K87, 'MDA2'!K87, 'T1'!M87, MAX(T3_R1!L87, T3_R2!L87)), MAX('MDA1'!L87, 'MDA2'!L87, 'T1'!N87, MAX(T3_R1!M87, T3_R2!M87)))","v":67212},{"$f":"IF(AND(COUNTRY_INFO!J87>1,COUNTRY_INFO!J87<4),IF(COUNTRY_INFO!E87>MAX('MDA2'!J87,'T1'!L87,MAX(T3_R1!K87,T3_R2!K87)),MAX('MDA2'!J87,'T1'!L87,MAX(T3_R1!K87,T3_R2!K87)),COUNTRY_INFO!E87),0)","v":22088},{"$f":"IF(AND(COUNTRY_INFO!J87>1,COUNTRY_INFO!J87<4), IF(T87/COUNTRY_INFO!E87*100<>0, IF(T87/COUNTRY_INFO!E87*100>100,100,T87/COUNTRY_INFO!E87*100), \"-\"),0)","v":100},{"$f":"IF(AND(COUNTRY_INFO!J87>1,COUNTRY_INFO!J87<4),IF(COUNTRY_INFO!F87>MAX('MDA1'!K87,'MDA2'!K87,'T1'!M87,MAX(T3_R1!L87,T3_R2!L87)),MAX('MDA1'!K87,'MDA2'!K87,'T1'!M87,MAX(T3_R1!L87,T3_R2!L87)),COUNTRY_INFO!F87),0)","v":6630},{"$f":"IF(AND(COUNTRY_INFO!J87>1,COUNTRY_INFO!J87<4), IF(V87/COUNTRY_INFO!F87*100<>0, IF(V87/COUNTRY_INFO!F87*100>100,100,V87/COUNTRY_INFO!F87*100), \"-\"),0)","v":14.113890367216605},28718,{"$f":"IF(AND(COUNTRY_INFO!J87>1,COUNTRY_INFO!J87<4), IF(S87/P87*100<>0, IF(X87/P87*100>100,100,X87/P87*100), \"-\"),0)","v":41.582323385894036},{"$f":"COUNTRY_INFO!O87","v":0},null,null,{"$f":"MAX('T1'!L87,'T2'!J87)+MAX('T1'!M87,'T2'!K87)+MAX('T1'!N87,'T2'!L87)","v":0},{"$f":"IF(COUNTRY_INFO!K87=1,IF(COUNTRY_INFO!F87*0.33>MAX('T1'!M87,'T2'!K87),MAX('T1'!M87,'T2'!K87),COUNTRY_INFO!F87*0.33),IF(COUNTRY_INFO!K87=2,IF(COUNTRY_INFO!F87*0.5>MAX('T1'!M87,'T2'!K87),MAX('T1'!M87,'T2'!K87),COUNTRY_INFO!F87*0.5),IF(COUNTRY_INFO!K87=3,IF(COUNTRY_INFO!F87>MAX('T1'!M87,'T2'!K87),MAX('T1'!M87,'T2'!K87),COUNTRY_INFO!F87),0)))","v":0},{"$f":"IF(AND(COUNTRY_INFO!K87>0,COUNTRY_INFO!K87<4),IF(Z87>0,IF(COUNTRY_INFO!K87=1, AD87/(COUNTRY_INFO!F87*0.33)*100, IF(COUNTRY_INFO!K87=2, AD87/(COUNTRY_INFO!F87*0.5)*100, IF(COUNTRY_INFO!K87=3, AD87/COUNTRY_INFO!F87*100))),\"-\"),0)","v":0},{"$f":"IF(COUNTRY_INFO!K87=2,IF(COUNTRY_INFO!G87*0.2>MAX('T1'!N87,'T2'!L87),MAX('T1'!N87,'T2'!L87),COUNTRY_INFO!G87*0.2),IF(COUNTRY_INFO!K87=3,IF(COUNTRY_INFO!G87>MAX('T1'!N87,'T2'!L87),MAX('T1'!N87,'T2'!L87),COUNTRY_INFO!G87),0))","v":0},{"$f":"IF(AND(COUNTRY_INFO!K87>0,COUNTRY_INFO!K87<4),IF(Z87>0,IF(COUNTRY_INFO!K87=1, 0, IF(COUNTRY_INFO!K87=2, AF87/(COUNTRY_INFO!G87*0.2)*100, IF(COUNTRY_INFO!K87=3, AF87/COUNTRY_INFO!G87*100))),\"-\"),0)","v":0},0,{"$f":"IF(AND(COUNTRY_INFO!K87>0,COUNTRY_INFO!K87<4), IF(AC87/Z87*100<>0, IF(AH87/Z87*100>100,100,AH87/Z87*100), \"-\"),0)","v":0},null,{"$f":"IF(AND(D87<>0, D87<>\"Unknown\",D87<>\"Stopped\",D87<>\"Not required\"),D87/COUNTRY_INFO!D87, 0)","v":0},{"$f":"IF(AND(J87<>0,J87<>\"Unknown\",J87<>\"Stopped\",J87<>\"Not required\"),J87/COUNTRY_INFO!D87, 0)","v":0},{"$f":"IF(AND(P87<>0,P87<>\"Unknown\",P87<>\"Not required\"),P87/(COUNTRY_INFO!E87+COUNTRY_INFO!F87), 0)","v":1},{"$f":"IF(AND(Z87<>0,Z87<>\"Unknown\",Z87<>\"Not required\"),IF(COUNTRY_INFO!K87=1,1,IF(COUNTRY_INFO!K87=2,0.5*COUNTRY_INFO!F87/(0.5*COUNTRY_INFO!F87+0.2*COUNTRY_INFO!G87),IF(COUNTRY_INFO!K87=3,COUNTRY_INFO!F87/(COUNTRY_INFO!F87+COUNTRY_INFO!G87)))),0)","v":0},{"$f":"IF(AND(Z87<>0,Z87<>\"Unknown\",Z87<>\"Not required\"),IF(COUNTRY_INFO!K87=1,0,IF(COUNTRY_INFO!K87=2,0.2*COUNTRY_INFO!G87/(0.5*COUNTRY_INFO!F87+0.2*COUNTRY_INFO!G87),IF(COUNTRY_INFO!K87=3,COUNTRY_INFO!G87/(COUNTRY_INFO!F87+COUNTRY_INFO!G87)))),0)","v":0},{"$f":"MAX(COUNTRY_INFO!D87*AK87*PROFILE!$G$7,COUNTRY_INFO!D87*AL87*PROFILE!$G$7)","v":0},{"$f":"MAX(COUNTRY_INFO!D87*AK87*PROFILE!$G$8,COUNTRY_INFO!D87*AL87*PROFILE!$G$8,COUNTRY_INFO!D87*AM87*PROFILE!$G$8)","v":22087.663703674785},{"$f":"MAX(COUNTRY_INFO!D87*AK87*PROFILE!$G$9,COUNTRY_INFO!D87*AL87*PROFILE!$G$9,COUNTRY_INFO!D87*AM87*PROFILE!$G$9,IF(AND(DISTRICT!Z87<>\"Unknown\",Z87<>\"Not required\"),COUNTRY_INFO!O87*DISTRICT!AN87,0))","v":46975.200631392217},{"$f":"MAX(COUNTRY_INFO!D87*AK87*PROFILE!$G$10,COUNTRY_INFO!D87*AL87*PROFILE!$G$10,IF(AND(DISTRICT!Z87<>\"Unknown\",Z87<>\"Not required\"),COUNTRY_INFO!O87*DISTRICT!AO87,0))","v":0},69062.864335067003,"Y",{"$f":"MAX('MDA2'!J87,'T1'!L87,'T2'!J87,T3_R1!K87,T3_R2!K87)","v":60582},{"$f":"MAX('MDA1'!K87,'MDA2'!K87,'MDA3'!I87,'MDA3'!L87,'T1'!M87,'T2'!K87,T3_R1!L87,T3_R2!L87)","v":6630},{"$f":"MAX('MDA1'!L87,'MDA2'!L87,'MDA3'!J87,'MDA3'!M87,'T1'!N87,'T2'!L87,T3_R1!M87,T3_R2!M87)","v":0},67212,{"$f":"MAX('MDA2'!J87,T87)","v":22088},{"$f":"MAX('MDA1'!K87,'MDA2'!K87,'MDA3'!I87,'MDA3'!L87,V87,AD87)","v":6630},{"$f":"MAX('MDA1'!L87,'MDA2'!L87,'MDA3'!J87,'MDA3'!M87,AF87)","v":0},28718,41.582405068910958]
[{"$f":"IF(COUNTRY_INFO!A88=0,\" \",COUNTRY_INFO!A88)","v":"Uganda"},{"$f":"IF(COUNTRY_INFO!B88=0,\" \",COUNTRY_INFO!B88)","v":"Northern"},{"$f":"IF(COUNTRY_INFO!C88=0,\" \",COUNTRY_INFO!C88)","v":"Nebbi"},{"$f":"COUNTRY_INFO!L88","v":"Stopped"},null,null,{"$f":"MAX('MDA1'!M88,'MDA2'!M88)","v":0},{"$f":"IF(AND(COUNTRY_INFO!H88>0,COUNTRY_INFO!H88<4),IF(D88>MAX('MDA1'!M88,'MDA2'!M88),MAX('MDA1'!M88,'MDA2'!M88),D88),0)","v":0},{"$f":"IF(AND(COUNTRY_INFO!H88>0,COUNTRY_INFO!H88<4), IF(G88/D88*100<>0, IF(G88/D88*100>100,100,G88/D88*100), \"-\"),0)","v":0},{"$f":"COUNTRY_INFO!M88","v":142850},null,null,{"$f":"MAX('MDA1'!M88,MAX('MDA3'!I88,'MDA3'!L88)+MAX('MDA3'!J88,'MDA3'!M88))","v":128255},{"$f":"IF(AND(COUNTRY_INFO!I88>0,COUNTRY_INFO!I88<4),IF(J88>MAX('MDA1'!M88,MAX('MDA3'!I88,'MDA3'!L88)+MAX('MDA3'!J88,'MDA3'!M88)),MAX('MDA1'!M88,MAX('MDA3'!I88,'MDA3'!L88)+MAX('MDA3'!J88,'MDA3'!M88)),J88),0)","v":128255},{"$f":"IF(AND(COUNTRY_INFO!I88>0,COUNTRY_INFO!I88<4), IF(M88/J88*100<>0, IF(M88/J88*100>100,100,M88/J88*100), \"-\"),0)","v":89.782989149457464},{"$f":"COUNTRY_INFO!N88","v":192681},null,null,{"$f":"SUM(MAX('MDA2'!J88, 'T1'!L88, MAX(T3_R1!K88, T3_R2!K88)), MAX('MDA1'!K88, 'MDA2'!K88, 'T1'!M88, MAX(T3_R1!L88, T3_R2!L88)), MAX('MDA1'!L88, 'MDA2'!L88, 'T1'!N88, MAX(T3_R1!M88, T3_R2!M88)))","v":65748},{"$f":"IF(AND(COUNTRY_INFO!J88>1,COUNTRY_INFO!J88<4),IF(COUNTRY_INFO!E88>MAX('MDA2'!J88,'T1'!L88,MAX(T3_R1!K88,T3_R2!K88)),MAX('MDA2'!J88,'T1'!L88,MAX(T3_R1!K88,T3_R2!K88)),COUNTRY_INFO!E88),0)","v":37469},{"$f":"IF(AND(COUNTRY_INFO!J88>1,COUNTRY_INFO!J88<4), IF(T88/COUNTRY_INFO!E88*100<>0, IF(T88/COUNTRY_INFO!E88*100>100,100,T88/COUNTRY_INFO!E88*100), \"-\"),0)","v":60.803596059912692},{"$f":"IF(AND(COUNTRY_INFO!J88>1,COUNTRY_INFO!J88<4),IF(COUNTRY_INFO!F88>MAX('MDA1'!K88,'MDA2'!K88,'T1'!M88,MAX(T3_R1!L88,T3_R2!L88)),MAX('MDA1'!K88,'MDA2'!K88,'T1'!M88,MAX(T3_R1!L88,T3_R2!L88)),COUNTRY_INFO!F88),0)","v":28279},{"$f":"IF(AND(COUNTRY_INFO!J88>1,COUNTRY_INFO!J88<4), IF(V88/COUNTRY_INFO!F88*100<>0, IF(V88/COUNTRY_INFO!F88*100>100,100,V88/COUNTRY_INFO!F88*100), \"-\"),0)","v":21.577469517312945},65748,{"$f":"IF(AND(COUNTRY_INFO!J88>1,COUNTRY_INFO!J88<4), IF(S88/P88*100<>0, IF(X88/P88*100>100,100,X88/P88*100), \"-\"),0)","v":34.122720974045187},{"$f":"COUNTRY_INFO!O88","v":145807},null,null,{"$f":"MAX('T1'!L88,'T2'!J88)+MAX('T1'!M88,'T2'!K88)+MAX('T1'!N88,'T2'!L88)","v":135040},{"$f":"IF(COUNTRY_INFO!K88=1,IF(COUNTRY_INFO!F88*0.33>MAX('T1'!M88,'T2'!K88),MAX('T1'!M88,'T2'!K88),COUNTRY_INFO!F88*0.33),IF(COUNTRY_INFO!K88=2,IF(COUNTRY_INFO!F88*0.5>MAX('T1'!M88,'T2'!K88),MAX('T1'!M88,'T2'!K88),COUNTRY_INFO!F88*0.5),IF(COUNTRY_INFO!K88=3,IF(COUNTRY_INFO!F88>MAX('T1'!M88,'T2'!K88),MAX('T1'!M88,'T2'!K88),COUNTRY_INFO!F88),0)))","v":54606},{"$f":"IF(AND(COUNTRY_INFO!K88>0,COUNTRY_INFO!K88<4),IF(Z88>0,IF(COUNTRY_INFO!K88=1, AD88/(COUNTRY_INFO!F88*0.33)*100, IF(COUNTRY_INFO!K88=2, AD88/(COUNTRY_INFO!F88*0.5)*100, IF(COUNTRY_INFO!K88=3, AD88/COUNTRY_INFO!F88*100))),\"-\"),0)","v":41.665522135237829},{"$f":"IF(COUNTRY_INFO!K88=2,IF(COUNTRY_INFO!G88*0.2>MAX('T1'!N88,'T2'!L88),MAX('T1'!N88,'T2'!L88),COUNTRY_INFO!G88*0.2),IF(COUNTRY_INFO!K88=3,IF(COUNTRY_INFO!G88>MAX('T1'!N88,'T2'!L88),MAX('T1'!N88,'T2'!L88),COUNTRY_INFO!G88),0))","v":80434},{"$f":"IF(AND(COUNTRY_INFO!K88>0,COUNTRY_INFO!K88<4),IF(Z88>0,IF(COUNTRY_INFO!K88=1, 0, IF(COUNTRY_INFO!K88=2, AF88/(COUNTRY_INFO!G88*0.2)*100, IF(COUNTRY_INFO!K88=3, AF88/COUNTRY_INFO!G88*100))),\"-\"),0)","v":35.575153916920243},135040,{"$f":"IF(AND(COUNTRY_INFO!K88>0,COUNTRY_INFO!K88<4), IF(AC88/Z88*100<>0, IF(AH88/Z88*100>100,100,AH88/Z88*100), \"-\"),0)","v":92.615580870602926},null,{"$f":"IF(AND(D88<>0, D88<>\"Unknown\",D88<>\"Stopped\",D88<>\"Not required\"),D88/COUNTRY_INFO!D88, 0)","v":0},{"$f":"IF(AND(J88<>0,J88<>\"Unknown\",J88<>\"Stopped\",J88<>\"Not required\"),J88/COUNTRY_INFO!D88, 0)","v":0.32917325320416807},{"$f":"IF(AND(P88<>0,P88<>\"Unknown\",P88<>\"Not required\"),P88/(COUNTRY_INFO!E88+COUNTRY_INFO!F88), 0)","v":1},{"$f":"IF(AND(Z88<>0,Z88<>\"Unknown\",Z88<>\"Not required\"),IF(COUNTRY_INFO!K88=1,1,IF(COUNTRY_INFO!K88=2,0.5*COUNTRY_INFO!F88/(0.5*COUNTRY_INFO!F88+0.2*COUNTRY_INFO!G88),IF(COUNTRY_INFO!K88=3,COUNTRY_INFO!F88/(COUNTRY_INFO!F88+COUNTRY_INFO!G88)))),0)","v":0.36695095113032472},{"$f":"IF(AND(Z88<>0,Z88<>\"Unknown\",Z88<>\"Not required\"),IF(COUNTRY_INFO!K88=1,0,IF(COUNTRY_INFO!K88=2,0.2*COUNTRY_INFO!G88/(0.5*COUNTRY_INFO!F88+0.2*COUNTRY_INFO!G88),IF(COUNTRY_INFO!K88=3,COUNTRY_INFO!G88/(COUNTRY_INFO!F88+COUNTRY_INFO!G88)))),0)","v":0.63304904886967528},{"$f":"MAX(COUNTRY_INFO!D88*AK88*PROFILE!$G$7,COUNTRY_INFO!D88*AL88*PROFILE!$G$7)","v":4999.763187636574},{"$f":"MAX(COUNTRY_INFO!D88*AK88*PROFILE!$G$8,COUNTRY_INFO!D88*AL88*PROFILE!$G$8,COUNTRY_INFO!D88*AM88*PROFILE!$G$8)","v":61623.143273923204},{"$f":"MAX(COUNTRY_INFO!D88*AK88*PROFILE!$G$9,COUNTRY_INFO!D88*AL88*PROFILE!$G$9,COUNTRY_INFO!D88*AM88*PROFILE!$G$9,IF(AND(DISTRICT!Z88<>\"Unknown\",Z88<>\"Not required\"),COUNTRY_INFO!O88*DISTRICT!AN88,0))","v":131057.75050115242},{"$f":"MAX(COUNTRY_INFO!D88*AK88*PROFILE!$G$10,COUNTRY_INFO!D88*AL88*PROFILE!$G$10,IF(AND(DISTRICT!Z88<>\"Unknown\",Z88<>\"Not required\"),COUNTRY_INFO!O88*DISTRICT!AO88,0))","v":92302.982668540746},289983.63963125291,"Y",{"$f":"MAX('MDA2'!J88,'T1'!L88,'T2'!J88,T3_R1!K88,T3_R2!K88)","v":37469},{"$f":"MAX('MDA1'!K88,'MDA2'!K88,'MDA3'!I88,'MDA3'!L88,'T1'!M88,'T2'!K88,T3_R1!L88,T3_R2!L88)","v":54606},{"$f":"MAX('MDA1'!L88,'MDA2'!L88,'MDA3'!J88,'MDA3'!M88,'T1'!N88,'T2'!L88,T3_R1!M88,T3_R2!M88)","v":81192},173267,{"$f":"MAX('MDA2'!J88,T88)","v":37469},{"$f":"MAX('MDA1'!K88,'MDA2'!K88,'MDA3'!I88,'MDA3'!L88,V88,AD88)","v":54606},{"$f":"MAX('MDA1'!L88,'MDA2'!L88,'MDA3'!J88,'MDA3'!M88,AF88)","v":81192},173267,59.750612213960984]
[{"$f":"IF(COUNTRY_INFO!A89=0,\" \",COUNTRY_INFO!A89)","v":"Uganda"},{"$f":"IF(COUNTRY_INFO!B89=0,\" \",COUNTRY_INFO!B89)","v":"Northern"},{"$f":"IF(COUNTRY_INFO!C89=0,\" \",COUNTRY_INFO!C89)","v":"Nwoya"},{"$f":"COUNTRY_INFO!L89","v":"Stopped"},null,null,{"$f":"MAX('MDA1'!M89,'MDA2'!M89)","v":0},{"$f":"IF(AND(COUNTRY_INFO!H89>0,COUNTRY_INFO!H89<4),IF(D89>MAX('MDA1'!M89,'MDA2'!M89),MAX('MDA1'!M89,'MDA2'!M89),D89),0)","v":0},{"$f":"IF(AND(COUNTRY_INFO!H89>0,COUNTRY_INFO!H89<4), IF(G89/D89*100<>0, IF(G89/D89*100>100,100,G89/D89*100), \"-\"),0)","v":0},{"$f":"COUNTRY_INFO!M89","v":180617},null,null,{"$f":"MAX('MDA1'!M89,MAX('MDA3'!I89,'MDA3'!L89)+MAX('MDA3'!J89,'MDA3'!M89))","v":155822},{"$f":"IF(AND(COUNTRY_INFO!I89>0,COUNTRY_INFO!I89<4),IF(J89>MAX('MDA1'!M89,MAX('MDA3'!I89,'MDA3'!L89)+MAX('MDA3'!J89,'MDA3'!M89)),MAX('MDA1'!M89,MAX('MDA3'!I89,'MDA3'!L89)+MAX('MDA3'!J89,'MDA3'!M89)),J89),0)","v":155822},{"$f":"IF(AND(COUNTRY_INFO!I89>0,COUNTRY_INFO!I89<4), IF(M89/J89*100<>0, IF(M89/J89*100>100,100,M89/J89*100), \"-\"),0)","v":86.272056340211606},{"$f":"COUNTRY_INFO!N89","v":80194},null,null,{"$f":"SUM(MAX('MDA2'!J89, 'T1'!L89, MAX(T3_R1!K89, T3_R2!K89)), MAX('MDA1'!K89, 'MDA2'!K89, 'T1'!M89, MAX(T3_R1!L89, T3_R2!L89)), MAX('MDA1'!L89, 'MDA2'!L89, 'T1'!N89, MAX(T3_R1!M89, T3_R2!M89)))","v":35236},{"$f":"IF(AND(COUNTRY_INFO!J89>1,COUNTRY_INFO!J89<4),IF(COUNTRY_INFO!E89>MAX('MDA2'!J89,'T1'!L89,MAX(T3_R1!K89,T3_R2!K89)),MAX('MDA2'!J89,'T1'!L89,MAX(T3_R1!K89,T3_R2!K89)),COUNTRY_INFO!E89),0)","v":21106},{"$f":"IF(AND(COUNTRY_INFO!J89>1,COUNTRY_INFO!J89<4), IF(T89/COUNTRY_INFO!E89*100<>0, IF(T89/COUNTRY_INFO!E89*100>100,100,T89/COUNTRY_INFO!E89*100), \"-\"),0)","v":82.291016843418589},{"$f":"IF(AND(COUNTRY_INFO!J89>1,COUNTRY_INFO!J89<4),IF(COUNTRY_INFO!F89>MAX('MDA1'!K89,'MDA2'!K89,'T1'!M89,MAX(T3_R1!L89,T3_R2!L89)),MAX('MDA1'!K89,'MDA2'!K89,'T1'!M89,MAX(T3_R1!L89,T3_R2!L89)),COUNTRY_INFO!F89),0)","v":14130},{"$f":"IF(AND(COUNTRY_INFO!J89>1,COUNTRY_INFO!J89<4), IF(V89/COUNTRY_INFO!F89*100<>0, IF(V89/COUNTRY_INFO!F89*100>100,100,V89/COUNTRY_INFO!F89*100), \"-\"),0)","v":25.904740952590473},35236,{"$f":"IF(AND(COUNTRY_INFO!J89>1,COUNTRY_INFO!J89<4), IF(S89/P89*100<>0, IF(X89/P89*100>100,100,X89/P89*100), \"-\"),0)","v":43.93844926054318},{"$f":"COUNTRY_INFO!O89","v":144863},null,null,{"$f":"MAX('T1'!L89,'T2'!J89)+MAX('T1'!M89,'T2'!K89)+MAX('T1'!N89,'T2'!L89)","v":135101},{"$f":"IF(COUNTRY_INFO!K89=1,IF(COUNTRY_INFO!F89*0.33>MAX('T1'!M89,'T2'!K89),MAX('T1'!M89,'T2'!K89),COUNTRY_INFO!F89*0.33),IF(COUNTRY_INFO!K89=2,IF(COUNTRY_INFO!F89*0.5>MAX('T1'!M89,'T2'!K89),MAX('T1'!M89,'T2'!K89),COUNTRY_INFO!F89*0.5),IF(COUNTRY_INFO!K89=3,IF(COUNTRY_INFO!F89>MAX('T1'!M89,'T2'!K89),MAX('T1'!M89,'T2'!K89),COUNTRY_INFO!F89),0)))","v":27273},{"$f":"IF(AND(COUNTRY_INFO!K89>0,COUNTRY_INFO!K89<4),IF(Z89>0,IF(COUNTRY_INFO!K89=1, AD89/(COUNTRY_INFO!F89*0.33)*100, IF(COUNTRY_INFO!K89=2, AD89/(COUNTRY_INFO!F89*0.5)*100, IF(COUNTRY_INFO!K89=3, AD89/COUNTRY_INFO!F89*100))),\"-\"),0)","v":100},{"$f":"IF(COUNTRY_INFO!K89=2,IF(COUNTRY_INFO!G89*0.2>MAX('T1'!N89,'T2'!L89),MAX('T1'!N89,'T2'!L89),COUNTRY_INFO!G89*0.2),IF(COUNTRY_INFO!K89=3,IF(COUNTRY_INFO!G89>MAX('T1'!N89,'T2'!L89),MAX('T1'!N89,'T2'!L89),COUNTRY_INFO!G89),0))","v":18820.2},{"$f":"IF(AND(COUNTRY_INFO!K89>0,COUNTRY_INFO!K89<4),IF(Z89>0,IF(COUNTRY_INFO!K89=1, 0, IF(COUNTRY_INFO!K89=2, AF89/(COUNTRY_INFO!G89*0.2)*100, IF(COUNTRY_INFO!K89=3, AF89/COUNTRY_INFO!G89*100))),\"-\"),0)","v":100},46093.2,{"$f":"IF(AND(COUNTRY_INFO!K89>0,COUNTRY_INFO!K89<4), IF(AC89/Z89*100<>0, IF(AH89/Z89*100>100,100,AH89/Z89*100), \"-\"),0)","v":31.818476767704656},null,{"$f":"IF(AND(D89<>0, D89<>\"Unknown\",D89<>\"Stopped\",D89<>\"Not required\"),D89/COUNTRY_INFO!D89, 0)","v":0},{"$f":"IF(AND(J89<>0,J89<>\"Unknown\",J89<>\"Stopped\",J89<>\"Not required\"),J89/COUNTRY_INFO!D89, 0)","v":1},{"$f":"IF(AND(P89<>0,P89<>\"Unknown\",P89<>\"Not required\"),P89/(COUNTRY_INFO!E89+COUNTRY_INFO!F89), 0)","v":1},{"$f":"IF(AND(Z89<>0,Z89<>\"Unknown\",Z89<>\"Not required\"),IF(COUNTRY_INFO!K89=1,1,IF(COUNTRY_INFO!K89=2,0.5*COUNTRY_INFO!F89/(0.5*COUNTRY_INFO!F89+0.2*COUNTRY_INFO!G89),IF(COUNTRY_INFO!K89=3,COUNTRY_INFO!F89/(COUNTRY_INFO!F89+COUNTRY_INFO!G89)))),0)","v":0.59169248392387597},{"$f":"IF(AND(Z89<>0,Z89<>\"Unknown\",Z89<>\"Not required\"),IF(COUNTRY_INFO!K89=1,0,IF(COUNTRY_INFO!K89=2,0.2*COUNTRY_INFO!G89/(0.5*COUNTRY_INFO!F89+0.2*COUNTRY_INFO!G89),IF(COUNTRY_INFO!K89=3,COUNTRY_INFO!G89/(COUNTRY_INFO!F89+COUNTRY_INFO!G89)))),0)","v":0.40830751607612409},{"$f":"MAX(COUNTRY_INFO!D89*AK89*PROFILE!$G$7,COUNTRY_INFO!D89*AL89*PROFILE!$G$7)","v":6321.6116742131962},{"$f":"MAX(COUNTRY_INFO!D89*AK89*PROFILE!$G$8,COUNTRY_INFO!D89*AL89*PROFILE!$G$8,COUNTRY_INFO!D89*AM89*PROFILE!$G$8)","v":25647.602044183615},{"$f":"MAX(COUNTRY_INFO!D89*AK89*PROFILE!$G$9,COUNTRY_INFO!D89*AL89*PROFILE!$G$9,COUNTRY_INFO!D89*AM89*PROFILE!$G$9,IF(AND(DISTRICT!Z89<>\"Unknown\",Z89<>\"Not required\"),COUNTRY_INFO!O89*DISTRICT!AN89,0))","v":85714.348298664438},{"$f":"MAX(COUNTRY_INFO!D89*AK89*PROFILE!$G$10,COUNTRY_INFO!D89*AL89*PROFILE!$G$10,IF(AND(DISTRICT!Z89<>\"Unknown\",Z89<>\"Not required\"),COUNTRY_INFO!O89*DISTRICT!AO89,0))","v":94101.444581408592},211785.00659846986,"Y",{"$f":"MAX('MDA2'!J89,'T1'!L89,'T2'!J89,T3_R1!K89,T3_R2!K89)","v":21106},{"$f":"MAX('MDA1'!K89,'MDA2'!K89,'MDA3'!I89,'MDA3'!L89,'T1'!M89,'T2'!K89,T3_R1!L89,T3_R2!L89)","v":57347},{"$f":"MAX('MDA1'!L89,'MDA2'!L89,'MDA3'!J89,'MDA3'!M89,'T1'!N89,'T2'!L89,T3_R1!M89,T3_R2!M89)","v":98643},177096,{"$f":"MAX('MDA2'!J89,T89)","v":21106},{"$f":"MAX('MDA1'!K89,'MDA2'!K89,'MDA3'!I89,'MDA3'!L89,V89,AD89)","v":57179},{"$f":"MAX('MDA1'!L89,'MDA2'!L89,'MDA3'!J89,'MDA3'!M89,AF89)","v":98643},176928,83.541324686616562]
[{"$f":"IF(COUNTRY_INFO!A90=0,\" \",COUNTRY_INFO!A90)","v":"Uganda"},{"$f":"IF(COUNTRY_INFO!B90=0,\" \",COUNTRY_INFO!B90)","v":"Northern"},{"$f":"IF(COUNTRY_INFO!C90=0,\" \",COUNTRY_INFO!C90)","v":"Omoro"},{"$f":"COUNTRY_INFO!L90","v":192557},null,null,{"$f":"MAX('MDA1'!M90,'MDA2'!M90)","v":147308},{"$f":"IF(AND(COUNTRY_INFO!H90>0,COUNTRY_INFO!H90<4),IF(D90>MAX('MDA1'!M90,'MDA2'!M90),MAX('MDA1'!M90,'MDA2'!M90),D90),0)","v":147308},{"$f":"IF(AND(COUNTRY_INFO!H90>0,COUNTRY_INFO!H90<4), IF(G90/D90*100<>0, IF(G90/D90*100>100,100,G90/D90*100), \"-\"),0)","v":76.500984124181414},{"$f":"COUNTRY_INFO!M90","v":192557},null,null,{"$f":"MAX('MDA1'!M90,MAX('MDA3'!I90,'MDA3'!L90)+MAX('MDA3'!J90,'MDA3'!M90))","v":149652},{"$f":"IF(AND(COUNTRY_INFO!I90>0,COUNTRY_INFO!I90<4),IF(J90>MAX('MDA1'!M90,MAX('MDA3'!I90,'MDA3'!L90)+MAX('MDA3'!J90,'MDA3'!M90)),MAX('MDA1'!M90,MAX('MDA3'!I90,'MDA3'!L90)+MAX('MDA3'!J90,'MDA3'!M90)),J90),0)","v":149652},{"$f":"IF(AND(COUNTRY_INFO!I90>0,COUNTRY_INFO!I90<4), IF(M90/J90*100<>0, IF(M90/J90*100>100,100,M90/J90*100), \"-\"),0)","v":77.71828601401144},{"$f":"COUNTRY_INFO!N90","v":85495},null,null,{"$f":"SUM(MAX('MDA2'!J90, 'T1'!L90, MAX(T3_R1!K90, T3_R2!K90)), MAX('MDA1'!K90, 'MDA2'!K90, 'T1'!M90, MAX(T3_R1!L90, T3_R2!L90)), MAX('MDA1'!L90, 'MDA2'!L90, 'T1'!N90, MAX(T3_R1!M90, T3_R2!M90)))","v":169438},{"$f":"IF(AND(COUNTRY_INFO!J90>1,COUNTRY_INFO!J90<4),IF(COUNTRY_INFO!E90>MAX('MDA2'!J90,'T1'!L90,MAX(T3_R1!K90,T3_R2!K90)),MAX('MDA2'!J90,'T1'!L90,MAX(T3_R1!K90,T3_R2!K90)),COUNTRY_INFO!E90),0)","v":22130},{"$f":"IF(AND(COUNTRY_INFO!J90>1,COUNTRY_INFO!J90<4), IF(T90/COUNTRY_INFO!E90*100<>0, IF(T90/COUNTRY_INFO!E90*100>100,100,T90/COUNTRY_INFO!E90*100), \"-\"),0)","v":80.934791354277152},{"$f":"IF(AND(COUNTRY_INFO!J90>1,COUNTRY_INFO!J90<4),IF(COUNTRY_INFO!F90>MAX('MDA1'!K90,'MDA2'!K90,'T1'!M90,MAX(T3_R1!L90,T3_R2!L90)),MAX('MDA1'!K90,'MDA2'!K90,'T1'!M90,MAX(T3_R1!L90,T3_R2!L90)),COUNTRY_INFO!F90),0)","v":54055},{"$f":"IF(AND(COUNTRY_INFO!J90>1,COUNTRY_INFO!J90<4), IF(V90/COUNTRY_INFO!F90*100<>0, IF(V90/COUNTRY_INFO!F90*100>100,100,V90/COUNTRY_INFO!F90*100), \"-\"),0)","v":92.954670518640796},76185,{"$f":"IF(AND(COUNTRY_INFO!J90>1,COUNTRY_INFO!J90<4), IF(S90/P90*100<>0, IF(X90/P90*100>100,100,X90/P90*100), \"-\"),0)","v":89.11047429674251},{"$f":"COUNTRY_INFO!O90","v":134078},null,null,{"$f":"MAX('T1'!L90,'T2'!J90)+MAX('T1'!M90,'T2'!K90)+MAX('T1'!N90,'T2'!L90)","v":106505},{"$f":"IF(COUNTRY_INFO!K90=1,IF(COUNTRY_INFO!F90*0.33>MAX('T1'!M90,'T2'!K90),MAX('T1'!M90,'T2'!K90),COUNTRY_INFO!F90*0.33),IF(COUNTRY_INFO!K90=2,IF(COUNTRY_INFO!F90*0.5>MAX('T1'!M90,'T2'!K90),MAX('T1'!M90,'T2'!K90),COUNTRY_INFO!F90*0.5),IF(COUNTRY_INFO!K90=3,IF(COUNTRY_INFO!F90>MAX('T1'!M90,'T2'!K90),MAX('T1'!M90,'T2'!K90),COUNTRY_INFO!F90),0)))","v":29076},{"$f":"IF(AND(COUNTRY_INFO!K90>0,COUNTRY_INFO!K90<4),IF(Z90>0,IF(COUNTRY_INFO!K90=1, AD90/(COUNTRY_INFO!F90*0.33)*100, IF(COUNTRY_INFO!K90=2, AD90/(COUNTRY_INFO!F90*0.5)*100, IF(COUNTRY_INFO!K90=3, AD90/COUNTRY_INFO!F90*100))),\"-\"),0)","v":100},{"$f":"IF(COUNTRY_INFO!K90=2,IF(COUNTRY_INFO!G90*0.2>MAX('T1'!N90,'T2'!L90),MAX('T1'!N90,'T2'!L90),COUNTRY_INFO!G90*0.2),IF(COUNTRY_INFO!K90=3,IF(COUNTRY_INFO!G90>MAX('T1'!N90,'T2'!L90),MAX('T1'!N90,'T2'!L90),COUNTRY_INFO!G90),0))","v":20064.400000000001},{"$f":"IF(AND(COUNTRY_INFO!K90>0,COUNTRY_INFO!K90<4),IF(Z90>0,IF(COUNTRY_INFO!K90=1, 0, IF(COUNTRY_INFO!K90=2, AF90/(COUNTRY_INFO!G90*0.2)*100, IF(COUNTRY_INFO!K90=3, AF90/COUNTRY_INFO!G90*100))),\"-\"),0)","v":100},49140.4,{"$f":"IF(AND(COUNTRY_INFO!K90>0,COUNTRY_INFO!K90<4), IF(AC90/Z90*100<>0, IF(AH90/Z90*100>100,100,AH90/Z90*100), \"-\"),0)","v":36.650606363460078},null,{"$f":"IF(AND(D90<>0, D90<>\"Unknown\",D90<>\"Stopped\",D90<>\"Not required\"),D90/COUNTRY_INFO!D90, 0)","v":1},{"$f":"IF(AND(J90<>0,J90<>\"Unknown\",J90<>\"Stopped\",J90<>\"Not required\"),J90/COUNTRY_INFO!D90, 0)","v":1},{"$f":"IF(AND(P90<>0,P90<>\"Unknown\",P90<>\"Not required\"),P90/(COUNTRY_INFO!E90+COUNTRY_INFO!F90), 0)","v":1},{"$f":"IF(AND(Z90<>0,Z90<>\"Unknown\",Z90<>\"Not required\"),IF(COUNTRY_INFO!K90=1,1,IF(COUNTRY_INFO!K90=2,0.5*COUNTRY_INFO!F90/(0.5*COUNTRY_INFO!F90+0.2*COUNTRY_INFO!G90),IF(COUNTRY_INFO!K90=3,COUNTRY_INFO!F90/(COUNTRY_INFO!F90+COUNTRY_INFO!G90)))),0)","v":0.59169237531644026},{"$f":"IF(AND(Z90<>0,Z90<>\"Unknown\",Z90<>\"Not required\"),IF(COUNTRY_INFO!K90=1,0,IF(COUNTRY_INFO!K90=2,0.2*COUNTRY_INFO!G90/(0.5*COUNTRY_INFO!F90+0.2*COUNTRY_INFO!G90),IF(COUNTRY_INFO!K90=3,COUNTRY_INFO!G90/(COUNTRY_INFO!F90+COUNTRY_INFO!G90)))),0)","v":0.4083076246835598},{"$f":"MAX(COUNTRY_INFO!D90*AK90*PROFILE!$G$7,COUNTRY_INFO!D90*AL90*PROFILE!$G$7)","v":6739.5127764909748},{"$f":"MAX(COUNTRY_INFO!D90*AK90*PROFILE!$G$8,COUNTRY_INFO!D90*AL90*PROFILE!$G$8,COUNTRY_INFO!D90*AM90*PROFILE!$G$8)","v":27343.081253823642},{"$f":"MAX(COUNTRY_INFO!D90*AK90*PROFILE!$G$9,COUNTRY_INFO!D90*AL90*PROFILE!$G$9,COUNTRY_INFO!D90*AM90*PROFILE!$G$9,IF(AND(DISTRICT!Z90<>\"Unknown\",Z90<>\"Not required\"),COUNTRY_INFO!O90*DISTRICT!AN90,0))","v":79332.930297677682},{"$f":"MAX(COUNTRY_INFO!D90*AK90*PROFILE!$G$10,COUNTRY_INFO!D90*AL90*PROFILE!$G$10,IF(AND(DISTRICT!Z90<>\"Unknown\",Z90<>\"Not required\"),COUNTRY_INFO!O90*DISTRICT!AO90,0))","v":100322.18376045607},213737.70808844839,"Y",{"$f":"MAX('MDA2'!J90,'T1'!L90,'T2'!J90,T3_R1!K90,T3_R2!K90)","v":22130},{"$f":"MAX('MDA1'!K90,'MDA2'!K90,'MDA3'!I90,'MDA3'!L90,'T1'!M90,'T2'!K90,T3_R1!L90,T3_R2!L90)","v":54915},{"$f":"MAX('MDA1'!L90,'MDA2'!L90,'MDA3'!J90,'MDA3'!M90,'T1'!N90,'T2'!L90,T3_R1!M90,T3_R2!M90)","v":94737},171782,{"$f":"MAX('MDA2'!J90,T90)","v":22130},{"$f":"MAX('MDA1'!K90,'MDA2'!K90,'MDA3'!I90,'MDA3'!L90,V90,AD90)","v":54915},{"$f":"MAX('MDA1'!L90,'MDA2'!L90,'MDA3'!J90,'MDA3'!M90,AF90)","v":94737},171782,80.370469738972588]
[{"$f":"IF(COUNTRY_INFO!A91=0,\" \",COUNTRY_INFO!A91)","v":"Uganda"},{"$f":"IF(COUNTRY_INFO!B91=0,\" \",COUNTRY_INFO!B91)","v":"Northern"},{"$f":"IF(COUNTRY_INFO!C91=0,\" \",COUNTRY_INFO!C91)","v":"Otuke"},{"$f":"COUNTRY_INFO!L91","v":"Stopped"},null,null,{"$f":"MAX('MDA1'!M91,'MDA2'!M91)","v":0},{"$f":"IF(AND(COUNTRY_INFO!H91>0,COUNTRY_INFO!H91<4),IF(D91>MAX('MDA1'!M91,'MDA2'!M91),MAX('MDA1'!M91,'MDA2'!M91),D91),0)","v":0},{"$f":"IF(AND(COUNTRY_INFO!H91>0,COUNTRY_INFO!H91<4), IF(G91/D91*100<>0, IF(G91/D91*100>100,100,G91/D91*100), \"-\"),0)","v":0},{"$f":"COUNTRY_INFO!M91","v":0},null,null,{"$f":"MAX('MDA1'!M91,MAX('MDA3'!I91,'MDA3'!L91)+MAX('MDA3'!J91,'MDA3'!M91))","v":0},{"$f":"IF(AND(COUNTRY_INFO!I91>0,COUNTRY_INFO!I91<4),IF(J91>MAX('MDA1'!M91,MAX('MDA3'!I91,'MDA3'!L91)+MAX('MDA3'!J91,'MDA3'!M91)),MAX('MDA1'!M91,MAX('MDA3'!I91,'MDA3'!L91)+MAX('MDA3'!J91,'MDA3'!M91)),J91),0)","v":0},{"$f":"IF(AND(COUNTRY_INFO!I91>0,COUNTRY_INFO!I91<4), IF(M91/J91*100<>0, IF(M91/J91*100>100,100,M91/J91*100), \"-\"),0)","v":0},{"$f":"COUNTRY_INFO!N91","v":50625},null,null,{"$f":"SUM(MAX('MDA2'!J91, 'T1'!L91, MAX(T3_R1!K91, T3_R2!K91)), MAX('MDA1'!K91, 'MDA2'!K91, 'T1'!M91, MAX(T3_R1!L91, T3_R2!L91)), MAX('MDA1'!L91, 'MDA2'!L91, 'T1'!N91, MAX(T3_R1!M91, T3_R2!M91)))","v":47609},{"$f":"IF(AND(COUNTRY_INFO!J91>1,COUNTRY_INFO!J91<4),IF(COUNTRY_INFO!E91>MAX('MDA2'!J91,'T1'!L91,MAX(T3_R1!K91,T3_R2!K91)),MAX('MDA2'!J91,'T1'!L91,MAX(T3_R1!K91,T3_R2!K91)),COUNTRY_INFO!E91),0)","v":16191},{"$f":"IF(AND(COUNTRY_INFO!J91>1,COUNTRY_INFO!J91<4), IF(T91/COUNTRY_INFO!E91*100<>0, IF(T91/COUNTRY_INFO!E91*100>100,100,T91/COUNTRY_INFO!E91*100), \"-\"),0)","v":100},{"$f":"IF(AND(COUNTRY_INFO!J91>1,COUNTRY_INFO!J91<4),IF(COUNTRY_INFO!F91>MAX('MDA1'!K91,'MDA2'!K91,'T1'!M91,MAX(T3_R1!L91,T3_R2!L91)),MAX('MDA1'!K91,'MDA2'!K91,'T1'!M91,MAX(T3_R1!L91,T3_R2!L91)),COUNTRY_INFO!F91),0)","v":17775},{"$f":"IF(AND(COUNTRY_INFO!J91>1,COUNTRY_INFO!J91<4), IF(V91/COUNTRY_INFO!F91*100<>0, IF(V91/COUNTRY_INFO!F91*100>100,100,V91/COUNTRY_INFO!F91*100), \"-\"),0)","v":51.620491374803969},33966,{"$f":"IF(AND(COUNTRY_INFO!J91>1,COUNTRY_INFO!J91<4), IF(S91/P91*100<>0, IF(X91/P91*100>100,100,X91/P91*100), \"-\"),0)","v":67.093333333333334},{"$f":"COUNTRY_INFO!O91","v":0},null,null,{"$f":"MAX('T1'!L91,'T2'!J91)+MAX('T1'!M91,'T2'!K91)+MAX('T1'!N91,'T2'!L91)","v":0},{"$f":"IF(COUNTRY_INFO!K91=1,IF(COUNTRY_INFO!F91*0.33>MAX('T1'!M91,'T2'!K91),MAX('T1'!M91,'T2'!K91),COUNTRY_INFO!F91*0.33),IF(COUNTRY_INFO!K91=2,IF(COUNTRY_INFO!F91*0.5>MAX('T1'!M91,'T2'!K91),MAX('T1'!M91,'T2'!K91),COUNTRY_INFO!F91*0.5),IF(COUNTRY_INFO!K91=3,IF(COUNTRY_INFO!F91>MAX('T1'!M91,'T2'!K91),MAX('T1'!M91,'T2'!K91),COUNTRY_INFO!F91),0)))","v":0},{"$f":"IF(AND(COUNTRY_INFO!K91>0,COUNTRY_INFO!K91<4),IF(Z91>0,IF(COUNTRY_INFO!K91=1, AD91/(COUNTRY_INFO!F91*0.33)*100, IF(COUNTRY_INFO!K91=2, AD91/(COUNTRY_INFO!F91*0.5)*100, IF(COUNTRY_INFO!K91=3, AD91/COUNTRY_INFO!F91*100))),\"-\"),0)","v":0},{"$f":"IF(COUNTRY_INFO!K91=2,IF(COUNTRY_INFO!G91*0.2>MAX('T1'!N91,'T2'!L91),MAX('T1'!N91,'T2'!L91),COUNTRY_INFO!G91*0.2),IF(COUNTRY_INFO!K91=3,IF(COUNTRY_INFO!G91>MAX('T1'!N91,'T2'!L91),MAX('T1'!N91,'T2'!L91),COUNTRY_INFO!G91),0))","v":0},{"$f":"IF(AND(COUNTRY_INFO!K91>0,COUNTRY_INFO!K91<4),IF(Z91>0,IF(COUNTRY_INFO!K91=1, 0, IF(COUNTRY_INFO!K91=2, AF91/(COUNTRY_INFO!G91*0.2)*100, IF(COUNTRY_INFO!K91=3, AF91/COUNTRY_INFO!G91*100))),\"-\"),0)","v":0},0,{"$f":"IF(AND(COUNTRY_INFO!K91>0,COUNTRY_INFO!K91<4), IF(AC91/Z91*100<>0, IF(AH91/Z91*100>100,100,AH91/Z91*100), \"-\"),0)","v":0},null,{"$f":"IF(AND(D91<>0, D91<>\"Unknown\",D91<>\"Stopped\",D91<>\"Not required\"),D91/COUNTRY_INFO!D91, 0)","v":0},{"$f":"IF(AND(J91<>0,J91<>\"Unknown\",J91<>\"Stopped\",J91<>\"Not required\"),J91/COUNTRY_INFO!D91, 0)","v":0},{"$f":"IF(AND(P91<>0,P91<>\"Unknown\",P91<>\"Not required\"),P91/(COUNTRY_INFO!E91+COUNTRY_INFO!F91), 0)","v":1},{"$f":"IF(AND(Z91<>0,Z91<>\"Unknown\",Z91<>\"Not required\"),IF(COUNTRY_INFO!K91=1,1,IF(COUNTRY_INFO!K91=2,0.5*COUNTRY_INFO!F91/(0.5*COUNTRY_INFO!F91+0.2*COUNTRY_INFO!G91),IF(COUNTRY_INFO!K91=3,COUNTRY_INFO!F91/(COUNTRY_INFO!F91+COUNTRY_INFO!G91)))),0)","v":0},{"$f":"IF(AND(Z91<>0,Z91<>\"Unknown\",Z91<>\"Not required\"),IF(COUNTRY_INFO!K91=1,0,IF(COUNTRY_INFO!K91=2,0.2*COUNTRY_INFO!G91/(0.5*COUNTRY_INFO!F91+0.2*COUNTRY_INFO!G91),IF(COUNTRY_INFO!K91=3,COUNTRY_INFO!G91/(COUNTRY_INFO!F91+COUNTRY_INFO!G91)))),0)","v":0},{"$f":"MAX(COUNTRY_INFO!D91*AK91*PROFILE!$G$7,COUNTRY_INFO!D91*AL91*PROFILE!$G$7)","v":0},{"$f":"MAX(COUNTRY_INFO!D91*AK91*PROFILE!$G$8,COUNTRY_INFO!D91*AL91*PROFILE!$G$8,COUNTRY_INFO!D91*AM91*PROFILE!$G$8)","v":16190.974452459403},{"$f":"MAX(COUNTRY_INFO!D91*AK91*PROFILE!$G$9,COUNTRY_INFO!D91*AL91*PROFILE!$G$9,COUNTRY_INFO!D91*AM91*PROFILE!$G$9,IF(AND(DISTRICT!Z91<>\"Unknown\",Z91<>\"Not required\"),COUNTRY_INFO!O91*DISTRICT!AN91,0))","v":34434.346861025748},{"$f":"MAX(COUNTRY_INFO!D91*AK91*PROFILE!$G$10,COUNTRY_INFO!D91*AL91*PROFILE!$G$10,IF(AND(DISTRICT!Z91<>\"Unknown\",Z91<>\"Not required\"),COUNTRY_INFO!O91*DISTRICT!AO91,0))","v":0},50625.321313485154,"Y",{"$f":"MAX('MDA2'!J91,'T1'!L91,'T2'!J91,T3_R1!K91,T3_R2!K91)","v":29834},{"$f":"MAX('MDA1'!K91,'MDA2'!K91,'MDA3'!I91,'MDA3'!L91,'T1'!M91,'T2'!K91,T3_R1!L91,T3_R2!L91)","v":17775},{"$f":"MAX('MDA1'!L91,'MDA2'!L91,'MDA3'!J91,'MDA3'!M91,'T1'!N91,'T2'!L91,T3_R1!M91,T3_R2!M91)","v":0},47609,{"$f":"MAX('MDA2'!J91,T91)","v":16191},{"$f":"MAX('MDA1'!K91,'MDA2'!K91,'MDA3'!I91,'MDA3'!L91,V91,AD91)","v":17775},{"$f":"MAX('MDA1'!L91,'MDA2'!L91,'MDA3'!J91,'MDA3'!M91,AF91)","v":0},33966,67.092907499141972]
[{"$f":"IF(COUNTRY_INFO!A92=0,\" \",COUNTRY_INFO!A92)","v":"Uganda"},{"$f":"IF(COUNTRY_INFO!B92=0,\" \",COUNTRY_INFO!B92)","v":"Northern"},{"$f":"IF(COUNTRY_INFO!C92=0,\" \",COUNTRY_INFO!C92)","v":"Oyam"},{"$f":"COUNTRY_INFO!L92","v":"Stopped"},null,null,{"$f":"MAX('MDA1'!M92,'MDA2'!M92)","v":0},{"$f":"IF(AND(COUNTRY_INFO!H92>0,COUNTRY_INFO!H92<4),IF(D92>MAX('MDA1'!M92,'MDA2'!M92),MAX('MDA1'!M92,'MDA2'!M92),D92),0)","v":0},{"$f":"IF(AND(COUNTRY_INFO!H92>0,COUNTRY_INFO!H92<4), IF(G92/D92*100<>0, IF(G92/D92*100>100,100,G92/D92*100), \"-\"),0)","v":0},{"$f":"COUNTRY_INFO!M92","v":23841},null,null,{"$f":"MAX('MDA1'!M92,MAX('MDA3'!I92,'MDA3'!L92)+MAX('MDA3'!J92,'MDA3'!M92))","v":19955},{"$f":"IF(AND(COUNTRY_INFO!I92>0,COUNTRY_INFO!I92<4),IF(J92>MAX('MDA1'!M92,MAX('MDA3'!I92,'MDA3'!L92)+MAX('MDA3'!J92,'MDA3'!M92)),MAX('MDA1'!M92,MAX('MDA3'!I92,'MDA3'!L92)+MAX('MDA3'!J92,'MDA3'!M92)),J92),0)","v":19955},{"$f":"IF(AND(COUNTRY_INFO!I92>0,COUNTRY_INFO!I92<4), IF(M92/J92*100<>0, IF(M92/J92*100>100,100,M92/J92*100), \"-\"),0)","v":83.700348139759242},{"$f":"COUNTRY_INFO!N92","v":186296},null,null,{"$f":"SUM(MAX('MDA2'!J92, 'T1'!L92, MAX(T3_R1!K92, T3_R2!K92)), MAX('MDA1'!K92, 'MDA2'!K92, 'T1'!M92, MAX(T3_R1!L92, T3_R2!L92)), MAX('MDA1'!L92, 'MDA2'!L92, 'T1'!N92, MAX(T3_R1!M92, T3_R2!M92)))","v":99822},{"$f":"IF(AND(COUNTRY_INFO!J92>1,COUNTRY_INFO!J92<4),IF(COUNTRY_INFO!E92>MAX('MDA2'!J92,'T1'!L92,MAX(T3_R1!K92,T3_R2!K92)),MAX('MDA2'!J92,'T1'!L92,MAX(T3_R1!K92,T3_R2!K92)),COUNTRY_INFO!E92),0)","v":52888},{"$f":"IF(AND(COUNTRY_INFO!J92>1,COUNTRY_INFO!J92<4), IF(T92/COUNTRY_INFO!E92*100<>0, IF(T92/COUNTRY_INFO!E92*100>100,100,T92/COUNTRY_INFO!E92*100), \"-\"),0)","v":88.766553095785568},{"$f":"IF(AND(COUNTRY_INFO!J92>1,COUNTRY_INFO!J92<4),IF(COUNTRY_INFO!F92>MAX('MDA1'!K92,'MDA2'!K92,'T1'!M92,MAX(T3_R1!L92,T3_R2!L92)),MAX('MDA1'!K92,'MDA2'!K92,'T1'!M92,MAX(T3_R1!L92,T3_R2!L92)),COUNTRY_INFO!F92),0)","v":46934},{"$f":"IF(AND(COUNTRY_INFO!J92>1,COUNTRY_INFO!J92<4), IF(V92/COUNTRY_INFO!F92*100<>0, IF(V92/COUNTRY_INFO!F92*100>100,100,V92/COUNTRY_INFO!F92*100), \"-\"),0)","v":37.039024582725013},99822,{"$f":"IF(AND(COUNTRY_INFO!J92>1,COUNTRY_INFO!J92<4), IF(S92/P92*100<>0, IF(X92/P92*100>100,100,X92/P92*100), \"-\"),0)","v":53.582470906514367},{"$f":"COUNTRY_INFO!O92","v":169299},null,null,{"$f":"MAX('T1'!L92,'T2'!J92)+MAX('T1'!M92,'T2'!K92)+MAX('T1'!N92,'T2'!L92)","v":148283},{"$f":"IF(COUNTRY_INFO!K92=1,IF(COUNTRY_INFO!F92*0.33>MAX('T1'!M92,'T2'!K92),MAX('T1'!M92,'T2'!K92),COUNTRY_INFO!F92*0.33),IF(COUNTRY_INFO!K92=2,IF(COUNTRY_INFO!F92*0.5>MAX('T1'!M92,'T2'!K92),MAX('T1'!M92,'T2'!K92),COUNTRY_INFO!F92*0.5),IF(COUNTRY_INFO!K92=3,IF(COUNTRY_INFO!F92>MAX('T1'!M92,'T2'!K92),MAX('T1'!M92,'T2'!K92),COUNTRY_INFO!F92),0)))","v":62152},{"$f":"IF(AND(COUNTRY_INFO!K92>0,COUNTRY_INFO!K92<4),IF(Z92>0,IF(COUNTRY_INFO!K92=1, AD92/(COUNTRY_INFO!F92*0.33)*100, IF(COUNTRY_INFO!K92=2, AD92/(COUNTRY_INFO!F92*0.5)*100, IF(COUNTRY_INFO!K92=3, AD92/COUNTRY_INFO!F92*100))),\"-\"),0)","v":49.048652487866477},{"$f":"IF(COUNTRY_INFO!K92=2,IF(COUNTRY_INFO!G92*0.2>MAX('T1'!N92,'T2'!L92),MAX('T1'!N92,'T2'!L92),COUNTRY_INFO!G92*0.2),IF(COUNTRY_INFO!K92=3,IF(COUNTRY_INFO!G92>MAX('T1'!N92,'T2'!L92),MAX('T1'!N92,'T2'!L92),COUNTRY_INFO!G92),0))","v":86131},{"$f":"IF(AND(COUNTRY_INFO!K92>0,COUNTRY_INFO!K92<4),IF(Z92>0,IF(COUNTRY_INFO!K92=1, 0, IF(COUNTRY_INFO!K92=2, AF92/(COUNTRY_INFO!G92*0.2)*100, IF(COUNTRY_INFO!K92=3, AF92/COUNTRY_INFO!G92*100))),\"-\"),0)","v":39.400468426927226},148283,{"$f":"IF(AND(COUNTRY_INFO!K92>0,COUNTRY_INFO!K92<4), IF(AC92/Z92*100<>0, IF(AH92/Z92*100>100,100,AH92/Z92*100), \"-\"),0)","v":87.586459459299817},null,{"$f":"IF(AND(D92<>0, D92<>\"Unknown\",D92<>\"Stopped\",D92<>\"Not required\"),D92/COUNTRY_INFO!D92, 0)","v":0},{"$f":"IF(AND(J92<>0,J92<>\"Unknown\",J92<>\"Stopped\",J92<>\"Not required\"),J92/COUNTRY_INFO!D92, 0)","v":5.6820429710308998E-2},{"$f":"IF(AND(P92<>0,P92<>\"Unknown\",P92<>\"Not required\"),P92/(COUNTRY_INFO!E92+COUNTRY_INFO!F92), 0)","v":1},{"$f":"IF(AND(Z92<>0,Z92<>\"Unknown\",Z92<>\"Not required\"),IF(COUNTRY_INFO!K92=1,1,IF(COUNTRY_INFO!K92=2,0.5*COUNTRY_INFO!F92/(0.5*COUNTRY_INFO!F92+0.2*COUNTRY_INFO!G92),IF(COUNTRY_INFO!K92=3,COUNTRY_INFO!F92/(COUNTRY_INFO!F92+COUNTRY_INFO!G92)))),0)","v":0.36695055875871296},{"$f":"IF(AND(Z92<>0,Z92<>\"Unknown\",Z92<>\"Not required\"),IF(COUNTRY_INFO!K92=1,0,IF(COUNTRY_INFO!K92=2,0.2*COUNTRY_INFO!G92/(0.5*COUNTRY_INFO!F92+0.2*COUNTRY_INFO!G92),IF(COUNTRY_INFO!K92=3,COUNTRY_INFO!G92/(COUNTRY_INFO!F92+COUNTRY_INFO!G92)))),0)","v":0.63304944124128704},{"$f":"MAX(COUNTRY_INFO!D92*AK92*PROFILE!$G$7,COUNTRY_INFO!D92*AL92*PROFILE!$G$7)","v":834.43720095515266},{"$f":"MAX(COUNTRY_INFO!D92*AK92*PROFILE!$G$8,COUNTRY_INFO!D92*AL92*PROFILE!$G$8,COUNTRY_INFO!D92*AM92*PROFILE!$G$8)","v":59581.042225863472},{"$f":"MAX(COUNTRY_INFO!D92*AK92*PROFILE!$G$9,COUNTRY_INFO!D92*AL92*PROFILE!$G$9,COUNTRY_INFO!D92*AM92*PROFILE!$G$9,IF(AND(DISTRICT!Z92<>\"Unknown\",Z92<>\"Not required\"),COUNTRY_INFO!O92*DISTRICT!AN92,0))","v":126714.68788805122},{"$f":"MAX(COUNTRY_INFO!D92*AK92*PROFILE!$G$10,COUNTRY_INFO!D92*AL92*PROFILE!$G$10,IF(AND(DISTRICT!Z92<>\"Unknown\",Z92<>\"Not required\"),COUNTRY_INFO!O92*DISTRICT!AO92,0))","v":107174.63735270865},294304.80466757849,"Y",{"$f":"MAX('MDA2'!J92,'T1'!L92,'T2'!J92,T3_R1!K92,T3_R2!K92)","v":52888},{"$f":"MAX('MDA1'!K92,'MDA2'!K92,'MDA3'!I92,'MDA3'!L92,'T1'!M92,'T2'!K92,T3_R1!L92,T3_R2!L92)","v":62152},{"$f":"MAX('MDA1'!L92,'MDA2'!L92,'MDA3'!J92,'MDA3'!M92,'T1'!N92,'T2'!L92,T3_R1!M92,T3_R2!M92)","v":86131},201171,{"$f":"MAX('MDA2'!J92,T92)","v":52888},{"$f":"MAX('MDA1'!K92,'MDA2'!K92,'MDA3'!I92,'MDA3'!L92,V92,AD92)","v":62152},{"$f":"MAX('MDA1'!L92,'MDA2'!L92,'MDA3'!J92,'MDA3'!M92,AF92)","v":86131},201171,68.354643488483163]
[{"$f":"IF(COUNTRY_INFO!A93=0,\" \",COUNTRY_INFO!A93)","v":"Uganda"},{"$f":"IF(COUNTRY_INFO!B93=0,\" \",COUNTRY_INFO!B93)","v":"Northern"},{"$f":"IF(COUNTRY_INFO!C93=0,\" \",COUNTRY_INFO!C93)","v":"Pader"},{"$f":"COUNTRY_INFO!L93","v":"Stopped"},null,null,{"$f":"MAX('MDA1'!M93,'MDA2'!M93)","v":0},{"$f":"IF(AND(COUNTRY_INFO!H93>0,COUNTRY_INFO!H93<4),IF(D93>MAX('MDA1'!M93,'MDA2'!M93),MAX('MDA1'!M93,'MDA2'!M93),D93),0)","v":0},{"$f":"IF(AND(COUNTRY_INFO!H93>0,COUNTRY_INFO!H93<4), IF(G93/D93*100<>0, IF(G93/D93*100>100,100,G93/D93*100), \"-\"),0)","v":0},{"$f":"COUNTRY_INFO!M93","v":194828},null,null,{"$f":"MAX('MDA1'!M93,MAX('MDA3'!I93,'MDA3'!L93)+MAX('MDA3'!J93,'MDA3'!M93))","v":160649},{"$f":"IF(AND(COUNTRY_INFO!I93>0,COUNTRY_INFO!I93<4),IF(J93>MAX('MDA1'!M93,MAX('MDA3'!I93,'MDA3'!L93)+MAX('MDA3'!J93,'MDA3'!M93)),MAX('MDA1'!M93,MAX('MDA3'!I93,'MDA3'!L93)+MAX('MDA3'!J93,'MDA3'!M93)),J93),0)","v":160649},{"$f":"IF(AND(COUNTRY_INFO!I93>0,COUNTRY_INFO!I93<4), IF(M93/J93*100<>0, IF(M93/J93*100>100,100,M93/J93*100), \"-\"),0)","v":82.456833719999182},{"$f":"COUNTRY_INFO!N93","v":86504},null,null,{"$f":"SUM(MAX('MDA2'!J93, 'T1'!L93, MAX(T3_R1!K93, T3_R2!K93)), MAX('MDA1'!K93, 'MDA2'!K93, 'T1'!M93, MAX(T3_R1!L93, T3_R2!L93)), MAX('MDA1'!L93, 'MDA2'!L93, 'T1'!N93, MAX(T3_R1!M93, T3_R2!M93)))","v":77972},{"$f":"IF(AND(COUNTRY_INFO!J93>1,COUNTRY_INFO!J93<4),IF(COUNTRY_INFO!E93>MAX('MDA2'!J93,'T1'!L93,MAX(T3_R1!K93,T3_R2!K93)),MAX('MDA2'!J93,'T1'!L93,MAX(T3_R1!K93,T3_R2!K93)),COUNTRY_INFO!E93),0)","v":27666},{"$f":"IF(AND(COUNTRY_INFO!J93>1,COUNTRY_INFO!J93<4), IF(T93/COUNTRY_INFO!E93*100<>0, IF(T93/COUNTRY_INFO!E93*100>100,100,T93/COUNTRY_INFO!E93*100), \"-\"),0)","v":100},{"$f":"IF(AND(COUNTRY_INFO!J93>1,COUNTRY_INFO!J93<4),IF(COUNTRY_INFO!F93>MAX('MDA1'!K93,'MDA2'!K93,'T1'!M93,MAX(T3_R1!L93,T3_R2!L93)),MAX('MDA1'!K93,'MDA2'!K93,'T1'!M93,MAX(T3_R1!L93,T3_R2!L93)),COUNTRY_INFO!F93),0)","v":19409},{"$f":"IF(AND(COUNTRY_INFO!J93>1,COUNTRY_INFO!J93<4), IF(V93/COUNTRY_INFO!F93*100<>0, IF(V93/COUNTRY_INFO!F93*100>100,100,V93/COUNTRY_INFO!F93*100), \"-\"),0)","v":32.987185152452497},47075,{"$f":"IF(AND(COUNTRY_INFO!J93>1,COUNTRY_INFO!J93<4), IF(S93/P93*100<>0, IF(X93/P93*100>100,100,X93/P93*100), \"-\"),0)","v":54.419448811615645},{"$f":"COUNTRY_INFO!O93","v":188678},null,null,{"$f":"MAX('T1'!L93,'T2'!J93)+MAX('T1'!M93,'T2'!K93)+MAX('T1'!N93,'T2'!L93)","v":133492},{"$f":"IF(COUNTRY_INFO!K93=1,IF(COUNTRY_INFO!F93*0.33>MAX('T1'!M93,'T2'!K93),MAX('T1'!M93,'T2'!K93),COUNTRY_INFO!F93*0.33),IF(COUNTRY_INFO!K93=2,IF(COUNTRY_INFO!F93*0.5>MAX('T1'!M93,'T2'!K93),MAX('T1'!M93,'T2'!K93),COUNTRY_INFO!F93*0.5),IF(COUNTRY_INFO!K93=3,IF(COUNTRY_INFO!F93>MAX('T1'!M93,'T2'!K93),MAX('T1'!M93,'T2'!K93),COUNTRY_INFO!F93),0)))","v":58838},{"$f":"IF(AND(COUNTRY_INFO!K93>0,COUNTRY_INFO!K93<4),IF(Z93>0,IF(COUNTRY_INFO!K93=1, AD93/(COUNTRY_INFO!F93*0.33)*100, IF(COUNTRY_INFO!K93=2, AD93/(COUNTRY_INFO!F93*0.5)*100, IF(COUNTRY_INFO!K93=3, AD93/COUNTRY_INFO!F93*100))),\"-\"),0)","v":100},{"$f":"IF(COUNTRY_INFO!K93=2,IF(COUNTRY_INFO!G93*0.2>MAX('T1'!N93,'T2'!L93),MAX('T1'!N93,'T2'!L93),COUNTRY_INFO!G93*0.2),IF(COUNTRY_INFO!K93=3,IF(COUNTRY_INFO!G93>MAX('T1'!N93,'T2'!L93),MAX('T1'!N93,'T2'!L93),COUNTRY_INFO!G93),0))","v":68771},{"$f":"IF(AND(COUNTRY_INFO!K93>0,COUNTRY_INFO!K93<4),IF(Z93>0,IF(COUNTRY_INFO!K93=1, 0, IF(COUNTRY_INFO!K93=2, AF93/(COUNTRY_INFO!G93*0.2)*100, IF(COUNTRY_INFO!K93=3, AF93/COUNTRY_INFO!G93*100))),\"-\"),0)","v":67.751342298408943},127609,{"$f":"IF(AND(COUNTRY_INFO!K93>0,COUNTRY_INFO!K93<4), IF(AC93/Z93*100<>0, IF(AH93/Z93*100>100,100,AH93/Z93*100), \"-\"),0)","v":67.633216379228102},null,{"$f":"IF(AND(D93<>0, D93<>\"Unknown\",D93<>\"Stopped\",D93<>\"Not required\"),D93/COUNTRY_INFO!D93, 0)","v":0},{"$f":"IF(AND(J93<>0,J93<>\"Unknown\",J93<>\"Stopped\",J93<>\"Not required\"),J93/COUNTRY_INFO!D93, 0)","v":1},{"$f":"IF(AND(P93<>0,P93<>\"Unknown\",P93<>\"Not required\"),P93/(COUNTRY_INFO!E93+COUNTRY_INFO!F93), 0)","v":1},{"$f":"IF(AND(Z93<>0,Z93<>\"Unknown\",Z93<>\"Not required\"),IF(COUNTRY_INFO!K93=1,1,IF(COUNTRY_INFO!K93=2,0.5*COUNTRY_INFO!F93/(0.5*COUNTRY_INFO!F93+0.2*COUNTRY_INFO!G93),IF(COUNTRY_INFO!K93=3,COUNTRY_INFO!F93/(COUNTRY_INFO!F93+COUNTRY_INFO!G93)))),0)","v":0.36695084911720499},{"$f":"IF(AND(Z93<>0,Z93<>\"Unknown\",Z93<>\"Not required\"),IF(COUNTRY_INFO!K93=1,0,IF(COUNTRY_INFO!K93=2,0.2*COUNTRY_INFO!G93/(0.5*COUNTRY_INFO!F93+0.2*COUNTRY_INFO!G93),IF(COUNTRY_INFO!K93=3,COUNTRY_INFO!G93/(COUNTRY_INFO!F93+COUNTRY_INFO!G93)))),0)","v":0.63304915088279501},{"$f":"MAX(COUNTRY_INFO!D93*AK93*PROFILE!$G$7,COUNTRY_INFO!D93*AL93*PROFILE!$G$7)","v":6818.9979861453157},{"$f":"MAX(COUNTRY_INFO!D93*AK93*PROFILE!$G$8,COUNTRY_INFO!D93*AL93*PROFILE!$G$8,COUNTRY_INFO!D93*AM93*PROFILE!$G$8)","v":27665.563103496381},{"$f":"MAX(COUNTRY_INFO!D93*AK93*PROFILE!$G$9,COUNTRY_INFO!D93*AL93*PROFILE!$G$9,COUNTRY_INFO!D93*AM93*PROFILE!$G$9,IF(AND(DISTRICT!Z93<>\"Unknown\",Z93<>\"Not required\"),COUNTRY_INFO!O93*DISTRICT!AN93,0))","v":69235.552309735998},{"$f":"MAX(COUNTRY_INFO!D93*AK93*PROFILE!$G$10,COUNTRY_INFO!D93*AL93*PROFILE!$G$10,IF(AND(DISTRICT!Z93<>\"Unknown\",Z93<>\"Not required\"),COUNTRY_INFO!O93*DISTRICT!AO93,0))","v":119442.447690264},223162.56108964171,"Y",{"$f":"MAX('MDA2'!J93,'T1'!L93,'T2'!J93,T3_R1!K93,T3_R2!K93)","v":58563},{"$f":"MAX('MDA1'!K93,'MDA2'!K93,'MDA3'!I93,'MDA3'!L93,'T1'!M93,'T2'!K93,T3_R1!L93,T3_R2!L93)","v":64721},{"$f":"MAX('MDA1'!L93,'MDA2'!L93,'MDA3'!J93,'MDA3'!M93,'T1'!N93,'T2'!L93,T3_R1!M93,T3_R2!M93)","v":101699},224983,{"$f":"MAX('MDA2'!J93,T93)","v":27666},{"$f":"MAX('MDA1'!K93,'MDA2'!K93,'MDA3'!I93,'MDA3'!L93,V93,AD93)","v":58950},{"$f":"MAX('MDA1'!L93,'MDA2'!L93,'MDA3'!J93,'MDA3'!M93,AF93)","v":101699},188315,84.384674149870563]
[{"$f":"IF(COUNTRY_INFO!A94=0,\" \",COUNTRY_INFO!A94)","v":"Uganda"},{"$f":"IF(COUNTRY_INFO!B94=0,\" \",COUNTRY_INFO!B94)","v":"Northern"},{"$f":"IF(COUNTRY_INFO!C94=0,\" \",COUNTRY_INFO!C94)","v":"Yumbe"},{"$f":"COUNTRY_INFO!L94","v":"Stopped"},null,null,{"$f":"MAX('MDA1'!M94,'MDA2'!M94)","v":0},{"$f":"IF(AND(COUNTRY_INFO!H94>0,COUNTRY_INFO!H94<4),IF(D94>MAX('MDA1'!M94,'MDA2'!M94),MAX('MDA1'!M94,'MDA2'!M94),D94),0)","v":0},{"$f":"IF(AND(COUNTRY_INFO!H94>0,COUNTRY_INFO!H94<4), IF(G94/D94*100<>0, IF(G94/D94*100>100,100,G94/D94*100), \"-\"),0)","v":0},{"$f":"COUNTRY_INFO!M94","v":191424},null,null,{"$f":"MAX('MDA1'!M94,MAX('MDA3'!I94,'MDA3'!L94)+MAX('MDA3'!J94,'MDA3'!M94))","v":133136},{"$f":"IF(AND(COUNTRY_INFO!I94>0,COUNTRY_INFO!I94<4),IF(J94>MAX('MDA1'!M94,MAX('MDA3'!I94,'MDA3'!L94)+MAX('MDA3'!J94,'MDA3'!M94)),MAX('MDA1'!M94,MAX('MDA3'!I94,'MDA3'!L94)+MAX('MDA3'!J94,'MDA3'!M94)),J94),0)","v":133136},{"$f":"IF(AND(COUNTRY_INFO!I94>0,COUNTRY_INFO!I94<4), IF(M94/J94*100<>0, IF(M94/J94*100>100,100,M94/J94*100), \"-\"),0)","v":69.550317619525231},{"$f":"COUNTRY_INFO!N94","v":235427},null,null,{"$f":"SUM(MAX('MDA2'!J94, 'T1'!L94, MAX(T3_R1!K94, T3_R2!K94)), MAX('MDA1'!K94, 'MDA2'!K94, 'T1'!M94, MAX(T3_R1!L94, T3_R2!L94)), MAX('MDA1'!L94, 'MDA2'!L94, 'T1'!N94, MAX(T3_R1!M94, T3_R2!M94)))","v":210505},{"$f":"IF(AND(COUNTRY_INFO!J94>1,COUNTRY_INFO!J94<4),IF(COUNTRY_INFO!E94>MAX('MDA2'!J94,'T1'!L94,MAX(T3_R1!K94,T3_R2!K94)),MAX('MDA2'!J94,'T1'!L94,MAX(T3_R1!K94,T3_R2!K94)),COUNTRY_INFO!E94),0)","v":75294},{"$f":"IF(AND(COUNTRY_INFO!J94>1,COUNTRY_INFO!J94<4), IF(T94/COUNTRY_INFO!E94*100<>0, IF(T94/COUNTRY_INFO!E94*100>100,100,T94/COUNTRY_INFO!E94*100), \"-\"),0)","v":100},{"$f":"IF(AND(COUNTRY_INFO!J94>1,COUNTRY_INFO!J94<4),IF(COUNTRY_INFO!F94>MAX('MDA1'!K94,'MDA2'!K94,'T1'!M94,MAX(T3_R1!L94,T3_R2!L94)),MAX('MDA1'!K94,'MDA2'!K94,'T1'!M94,MAX(T3_R1!L94,T3_R2!L94)),COUNTRY_INFO!F94),0)","v":90053},{"$f":"IF(AND(COUNTRY_INFO!J94>1,COUNTRY_INFO!J94<4), IF(V94/COUNTRY_INFO!F94*100<>0, IF(V94/COUNTRY_INFO!F94*100>100,100,V94/COUNTRY_INFO!F94*100), \"-\"),0)","v":56.236378510363259},165347,{"$f":"IF(AND(COUNTRY_INFO!J94>1,COUNTRY_INFO!J94<4), IF(S94/P94*100<>0, IF(X94/P94*100>100,100,X94/P94*100), \"-\"),0)","v":70.232811019976467},{"$f":"COUNTRY_INFO!O94","v":247540},null,null,{"$f":"MAX('T1'!L94,'T2'!J94)+MAX('T1'!M94,'T2'!K94)+MAX('T1'!N94,'T2'!L94)","v":142008},{"$f":"IF(COUNTRY_INFO!K94=1,IF(COUNTRY_INFO!F94*0.33>MAX('T1'!M94,'T2'!K94),MAX('T1'!M94,'T2'!K94),COUNTRY_INFO!F94*0.33),IF(COUNTRY_INFO!K94=2,IF(COUNTRY_INFO!F94*0.5>MAX('T1'!M94,'T2'!K94),MAX('T1'!M94,'T2'!K94),COUNTRY_INFO!F94*0.5),IF(COUNTRY_INFO!K94=3,IF(COUNTRY_INFO!F94>MAX('T1'!M94,'T2'!K94),MAX('T1'!M94,'T2'!K94),COUNTRY_INFO!F94),0)))","v":62462},{"$f":"IF(AND(COUNTRY_INFO!K94>0,COUNTRY_INFO!K94<4),IF(Z94>0,IF(COUNTRY_INFO!K94=1, AD94/(COUNTRY_INFO!F94*0.33)*100, IF(COUNTRY_INFO!K94=2, AD94/(COUNTRY_INFO!F94*0.5)*100, IF(COUNTRY_INFO!K94=3, AD94/COUNTRY_INFO!F94*100))),\"-\"),0)","v":78.012651983039092},{"$f":"IF(COUNTRY_INFO!K94=2,IF(COUNTRY_INFO!G94*0.2>MAX('T1'!N94,'T2'!L94),MAX('T1'!N94,'T2'!L94),COUNTRY_INFO!G94*0.2),IF(COUNTRY_INFO!K94=3,IF(COUNTRY_INFO!G94>MAX('T1'!N94,'T2'!L94),MAX('T1'!N94,'T2'!L94),COUNTRY_INFO!G94),0))","v":55251.200000000004},{"$f":"IF(AND(COUNTRY_INFO!K94>0,COUNTRY_INFO!K94<4),IF(Z94>0,IF(COUNTRY_INFO!K94=1, 0, IF(COUNTRY_INFO!K94=2, AF94/(COUNTRY_INFO!G94*0.2)*100, IF(COUNTRY_INFO!K94=3, AF94/COUNTRY_INFO!G94*100))),\"-\"),0)","v":100},117713.20000000001,{"$f":"IF(AND(COUNTRY_INFO!K94>0,COUNTRY_INFO!K94<4), IF(AC94/Z94*100<>0, IF(AH94/Z94*100>100,100,AH94/Z94*100), \"-\"),0)","v":47.553203522663004},null,{"$f":"IF(AND(D94<>0, D94<>\"Unknown\",D94<>\"Stopped\",D94<>\"Not required\"),D94/COUNTRY_INFO!D94, 0)","v":0},{"$f":"IF(AND(J94<>0,J94<>\"Unknown\",J94<>\"Stopped\",J94<>\"Not required\"),J94/COUNTRY_INFO!D94, 0)","v":0.36101319965826861},{"$f":"IF(AND(P94<>0,P94<>\"Unknown\",P94<>\"Not required\"),P94/(COUNTRY_INFO!E94+COUNTRY_INFO!F94), 0)","v":1},{"$f":"IF(AND(Z94<>0,Z94<>\"Unknown\",Z94<>\"Not required\"),IF(COUNTRY_INFO!K94=1,1,IF(COUNTRY_INFO!K94=2,0.5*COUNTRY_INFO!F94/(0.5*COUNTRY_INFO!F94+0.2*COUNTRY_INFO!G94),IF(COUNTRY_INFO!K94=3,COUNTRY_INFO!F94/(COUNTRY_INFO!F94+COUNTRY_INFO!G94)))),0)","v":0.59169273494893859},{"$f":"IF(AND(Z94<>0,Z94<>\"Unknown\",Z94<>\"Not required\"),IF(COUNTRY_INFO!K94=1,0,IF(COUNTRY_INFO!K94=2,0.2*COUNTRY_INFO!G94/(0.5*COUNTRY_INFO!F94+0.2*COUNTRY_INFO!G94),IF(COUNTRY_INFO!K94=3,COUNTRY_INFO!G94/(COUNTRY_INFO!F94+COUNTRY_INFO!G94)))),0)","v":0.4083072650510613},{"$f":"MAX(COUNTRY_INFO!D94*AK94*PROFILE!$G$7,COUNTRY_INFO!D94*AL94*PROFILE!$G$7)","v":6699.8576718945988},{"$f":"MAX(COUNTRY_INFO!D94*AK94*PROFILE!$G$8,COUNTRY_INFO!D94*AL94*PROFILE!$G$8,COUNTRY_INFO!D94*AM94*PROFILE!$G$8)","v":75294.1869010667},{"$f":"MAX(COUNTRY_INFO!D94*AK94*PROFILE!$G$9,COUNTRY_INFO!D94*AL94*PROFILE!$G$9,COUNTRY_INFO!D94*AM94*PROFILE!$G$9,IF(AND(DISTRICT!Z94<>\"Unknown\",Z94<>\"Not required\"),COUNTRY_INFO!O94*DISTRICT!AN94,0))","v":160132.80460561786},{"$f":"MAX(COUNTRY_INFO!D94*AK94*PROFILE!$G$10,COUNTRY_INFO!D94*AL94*PROFILE!$G$10,IF(AND(DISTRICT!Z94<>\"Unknown\",Z94<>\"Not required\"),COUNTRY_INFO!O94*DISTRICT!AO94,0))","v":101072.38039073971},343199.22956931888,"Y",{"$f":"MAX('MDA2'!J94,'T1'!L94,'T2'!J94,T3_R1!K94,T3_R2!K94)","v":120452},{"$f":"MAX('MDA1'!K94,'MDA2'!K94,'MDA3'!I94,'MDA3'!L94,'T1'!M94,'T2'!K94,T3_R1!L94,T3_R2!L94)","v":90053},{"$f":"MAX('MDA1'!L94,'MDA2'!L94,'MDA3'!J94,'MDA3'!M94,'T1'!N94,'T2'!L94,T3_R1!M94,T3_R2!M94)","v":84282},294787,{"$f":"MAX('MDA2'!J94,T94)","v":75294},{"$f":"MAX('MDA1'!K94,'MDA2'!K94,'MDA3'!I94,'MDA3'!L94,V94,AD94)","v":90053},{"$f":"MAX('MDA1'!L94,'MDA2'!L94,'MDA3'!J94,'MDA3'!M94,AF94)","v":84282},249629,72.735885891486333]
[{"$f":"IF(COUNTRY_INFO!A95=0,\" \",COUNTRY_INFO!A95)","v":"Uganda"},{"$f":"IF(COUNTRY_INFO!B95=0,\" \",COUNTRY_INFO!B95)","v":"Northern"},{"$f":"IF(COUNTRY_INFO!C95=0,\" \",COUNTRY_INFO!C95)","v":"Zombo"},{"$f":"COUNTRY_INFO!L95","v":"Stopped"},null,null,{"$f":"MAX('MDA1'!M95,'MDA2'!M95)","v":0},{"$f":"IF(AND(COUNTRY_INFO!H95>0,COUNTRY_INFO!H95<4),IF(D95>MAX('MDA1'!M95,'MDA2'!M95),MAX('MDA1'!M95,'MDA2'!M95),D95),0)","v":0},{"$f":"IF(AND(COUNTRY_INFO!H95>0,COUNTRY_INFO!H95<4), IF(G95/D95*100<>0, IF(G95/D95*100>100,100,G95/D95*100), \"-\"),0)","v":0},{"$f":"COUNTRY_INFO!M95","v":252098},null,null,{"$f":"MAX('MDA1'!M95,MAX('MDA3'!I95,'MDA3'!L95)+MAX('MDA3'!J95,'MDA3'!M95))","v":200270},{"$f":"IF(AND(COUNTRY_INFO!I95>0,COUNTRY_INFO!I95<4),IF(J95>MAX('MDA1'!M95,MAX('MDA3'!I95,'MDA3'!L95)+MAX('MDA3'!J95,'MDA3'!M95)),MAX('MDA1'!M95,MAX('MDA3'!I95,'MDA3'!L95)+MAX('MDA3'!J95,'MDA3'!M95)),J95),0)","v":200270},{"$f":"IF(AND(COUNTRY_INFO!I95>0,COUNTRY_INFO!I95<4), IF(M95/J95*100<>0, IF(M95/J95*100>100,100,M95/J95*100), \"-\"),0)","v":79.441328372299651},{"$f":"COUNTRY_INFO!N95","v":111932},null,null,{"$f":"SUM(MAX('MDA2'!J95, 'T1'!L95, MAX(T3_R1!K95, T3_R2!K95)), MAX('MDA1'!K95, 'MDA2'!K95, 'T1'!M95, MAX(T3_R1!L95, T3_R2!L95)), MAX('MDA1'!L95, 'MDA2'!L95, 'T1'!N95, MAX(T3_R1!M95, T3_R2!M95)))","v":28757},{"$f":"IF(AND(COUNTRY_INFO!J95>1,COUNTRY_INFO!J95<4),IF(COUNTRY_INFO!E95>MAX('MDA2'!J95,'T1'!L95,MAX(T3_R1!K95,T3_R2!K95)),MAX('MDA2'!J95,'T1'!L95,MAX(T3_R1!K95,T3_R2!K95)),COUNTRY_INFO!E95),0)","v":17605},{"$f":"IF(AND(COUNTRY_INFO!J95>1,COUNTRY_INFO!J95<4), IF(T95/COUNTRY_INFO!E95*100<>0, IF(T95/COUNTRY_INFO!E95*100>100,100,T95/COUNTRY_INFO!E95*100), \"-\"),0)","v":49.178725068439576},{"$f":"IF(AND(COUNTRY_INFO!J95>1,COUNTRY_INFO!J95<4),IF(COUNTRY_INFO!F95>MAX('MDA1'!K95,'MDA2'!K95,'T1'!M95,MAX(T3_R1!L95,T3_R2!L95)),MAX('MDA1'!K95,'MDA2'!K95,'T1'!M95,MAX(T3_R1!L95,T3_R2!L95)),COUNTRY_INFO!F95),0)","v":11152},{"$f":"IF(AND(COUNTRY_INFO!J95>1,COUNTRY_INFO!J95<4), IF(V95/COUNTRY_INFO!F95*100<>0, IF(V95/COUNTRY_INFO!F95*100>100,100,V95/COUNTRY_INFO!F95*100), \"-\"),0)","v":14.647857724538312},28757,{"$f":"IF(AND(COUNTRY_INFO!J95>1,COUNTRY_INFO!J95<4), IF(S95/P95*100<>0, IF(X95/P95*100>100,100,X95/P95*100), \"-\"),0)","v":25.691491262552262},{"$f":"COUNTRY_INFO!O95","v":29902},null,null,{"$f":"MAX('T1'!L95,'T2'!J95)+MAX('T1'!M95,'T2'!K95)+MAX('T1'!N95,'T2'!L95)","v":23656},{"$f":"IF(COUNTRY_INFO!K95=1,IF(COUNTRY_INFO!F95*0.33>MAX('T1'!M95,'T2'!K95),MAX('T1'!M95,'T2'!K95),COUNTRY_INFO!F95*0.33),IF(COUNTRY_INFO!K95=2,IF(COUNTRY_INFO!F95*0.5>MAX('T1'!M95,'T2'!K95),MAX('T1'!M95,'T2'!K95),COUNTRY_INFO!F95*0.5),IF(COUNTRY_INFO!K95=3,IF(COUNTRY_INFO!F95>MAX('T1'!M95,'T2'!K95),MAX('T1'!M95,'T2'!K95),COUNTRY_INFO!F95),0)))","v":23656},{"$f":"IF(AND(COUNTRY_INFO!K95>0,COUNTRY_INFO!K95<4),IF(Z95>0,IF(COUNTRY_INFO!K95=1, AD95/(COUNTRY_INFO!F95*0.33)*100, IF(COUNTRY_INFO!K95=2, AD95/(COUNTRY_INFO!F95*0.5)*100, IF(COUNTRY_INFO!K95=3, AD95/COUNTRY_INFO!F95*100))),\"-\"),0)","v":94.156156887656607},{"$f":"IF(COUNTRY_INFO!K95=2,IF(COUNTRY_INFO!G95*0.2>MAX('T1'!N95,'T2'!L95),MAX('T1'!N95,'T2'!L95),COUNTRY_INFO!G95*0.2),IF(COUNTRY_INFO!K95=3,IF(COUNTRY_INFO!G95>MAX('T1'!N95,'T2'!L95),MAX('T1'!N95,'T2'!L95),COUNTRY_INFO!G95),0))","v":0},{"$f":"IF(AND(COUNTRY_INFO!K95>0,COUNTRY_INFO!K95<4),IF(Z95>0,IF(COUNTRY_INFO!K95=1, 0, IF(COUNTRY_INFO!K95=2, AF95/(COUNTRY_INFO!G95*0.2)*100, IF(COUNTRY_INFO!K95=3, AF95/COUNTRY_INFO!G95*100))),\"-\"),0)","v":0},23656,{"$f":"IF(AND(COUNTRY_INFO!K95>0,COUNTRY_INFO!K95<4), IF(AC95/Z95*100<>0, IF(AH95/Z95*100>100,100,AH95/Z95*100), \"-\"),0)","v":79.111765099324458},null,{"$f":"IF(AND(D95<>0, D95<>\"Unknown\",D95<>\"Stopped\",D95<>\"Not required\"),D95/COUNTRY_INFO!D95, 0)","v":0},{"$f":"IF(AND(J95<>0,J95<>\"Unknown\",J95<>\"Stopped\",J95<>\"Not required\"),J95/COUNTRY_INFO!D95, 0)","v":1},{"$f":"IF(AND(P95<>0,P95<>\"Unknown\",P95<>\"Not required\"),P95/(COUNTRY_INFO!E95+COUNTRY_INFO!F95), 0)","v":1},{"$f":"IF(AND(Z95<>0,Z95<>\"Unknown\",Z95<>\"Not required\"),IF(COUNTRY_INFO!K95=1,1,IF(COUNTRY_INFO!K95=2,0.5*COUNTRY_INFO!F95/(0.5*COUNTRY_INFO!F95+0.2*COUNTRY_INFO!G95),IF(COUNTRY_INFO!K95=3,COUNTRY_INFO!F95/(COUNTRY_INFO!F95+COUNTRY_INFO!G95)))),0)","v":1},{"$f":"IF(AND(Z95<>0,Z95<>\"Unknown\",Z95<>\"Not required\"),IF(COUNTRY_INFO!K95=1,0,IF(COUNTRY_INFO!K95=2,0.2*COUNTRY_INFO!G95/(0.5*COUNTRY_INFO!F95+0.2*COUNTRY_INFO!G95),IF(COUNTRY_INFO!K95=3,COUNTRY_INFO!G95/(COUNTRY_INFO!F95+COUNTRY_INFO!G95)))),0)","v":0},{"$f":"MAX(COUNTRY_INFO!D95*AK95*PROFILE!$G$7,COUNTRY_INFO!D95*AL95*PROFILE!$G$7)","v":8823.453273201294},{"$f":"MAX(COUNTRY_INFO!D95*AK95*PROFILE!$G$8,COUNTRY_INFO!D95*AL95*PROFILE!$G$8,COUNTRY_INFO!D95*AM95*PROFILE!$G$8)","v":35797.89931254866},{"$f":"MAX(COUNTRY_INFO!D95*AK95*PROFILE!$G$9,COUNTRY_INFO!D95*AL95*PROFILE!$G$9,COUNTRY_INFO!D95*AM95*PROFILE!$G$9,IF(AND(DISTRICT!Z95<>\"Unknown\",Z95<>\"Not required\"),COUNTRY_INFO!O95*DISTRICT!AN95,0))","v":76133.60674762429},{"$f":"MAX(COUNTRY_INFO!D95*AK95*PROFILE!$G$10,COUNTRY_INFO!D95*AL95*PROFILE!$G$10,IF(AND(DISTRICT!Z95<>\"Unknown\",Z95<>\"Not required\"),COUNTRY_INFO!O95*DISTRICT!AO95,0))","v":131343.04066662575},252098,"Y",{"$f":"MAX('MDA2'!J95,'T1'!L95,'T2'!J95,T3_R1!K95,T3_R2!K95)","v":17605},{"$f":"MAX('MDA1'!K95,'MDA2'!K95,'MDA3'!I95,'MDA3'!L95,'T1'!M95,'T2'!K95,T3_R1!L95,T3_R2!L95)","v":73489},{"$f":"MAX('MDA1'!L95,'MDA2'!L95,'MDA3'!J95,'MDA3'!M95,'T1'!N95,'T2'!L95,T3_R1!M95,T3_R2!M95)","v":126781},217875,{"$f":"MAX('MDA2'!J95,T95)","v":17605},{"$f":"MAX('MDA1'!K95,'MDA2'!K95,'MDA3'!I95,'MDA3'!L95,V95,AD95)","v":73489},{"$f":"MAX('MDA1'!L95,'MDA2'!L95,'MDA3'!J95,'MDA3'!M95,AF95)","v":126781},217875,86.424723718553892]
[{"$f":"IF(COUNTRY_INFO!A96=0,\" \",COUNTRY_INFO!A96)","v":"Uganda"},{"$f":"IF(COUNTRY_INFO!B96=0,\" \",COUNTRY_INFO!B96)","v":"Western"},{"$f":"IF(COUNTRY_INFO!C96=0,\" \",COUNTRY_INFO!C96)","v":"Buhweju"},{"$f":"COUNTRY_INFO!L96","v":0},null,null,{"$f":"MAX('MDA1'!M96,'MDA2'!M96)","v":0},{"$f":"IF(AND(COUNTRY_INFO!H96>0,COUNTRY_INFO!H96<4),IF(D96>MAX('MDA1'!M96,'MDA2'!M96),MAX('MDA1'!M96,'MDA2'!M96),D96),0)","v":0},{"$f":"IF(AND(COUNTRY_INFO!H96>0,COUNTRY_INFO!H96<4), IF(G96/D96*100<>0, IF(G96/D96*100>100,100,G96/D96*100), \"-\"),0)","v":0},{"$f":"COUNTRY_INFO!M96","v":"Stopped"},null,null,{"$f":"MAX('MDA1'!M96,MAX('MDA3'!I96,'MDA3'!L96)+MAX('MDA3'!J96,'MDA3'!M96))","v":0},{"$f":"IF(AND(COUNTRY_INFO!I96>0,COUNTRY_INFO!I96<4),IF(J96>MAX('MDA1'!M96,MAX('MDA3'!I96,'MDA3'!L96)+MAX('MDA3'!J96,'MDA3'!M96)),MAX('MDA1'!M96,MAX('MDA3'!I96,'MDA3'!L96)+MAX('MDA3'!J96,'MDA3'!M96)),J96),0)","v":0},{"$f":"IF(AND(COUNTRY_INFO!I96>0,COUNTRY_INFO!I96<4), IF(M96/J96*100<>0, IF(M96/J96*100>100,100,M96/J96*100), \"-\"),0)","v":0},{"$f":"COUNTRY_INFO!N96","v":58621},null,null,{"$f":"SUM(MAX('MDA2'!J96, 'T1'!L96, MAX(T3_R1!K96, T3_R2!K96)), MAX('MDA1'!K96, 'MDA2'!K96, 'T1'!M96, MAX(T3_R1!L96, T3_R2!L96)), MAX('MDA1'!L96, 'MDA2'!L96, 'T1'!N96, MAX(T3_R1!M96, T3_R2!M96)))","v":49140},{"$f":"IF(AND(COUNTRY_INFO!J96>1,COUNTRY_INFO!J96<4),IF(COUNTRY_INFO!E96>MAX('MDA2'!J96,'T1'!L96,MAX(T3_R1!K96,T3_R2!K96)),MAX('MDA2'!J96,'T1'!L96,MAX(T3_R1!K96,T3_R2!K96)),COUNTRY_INFO!E96),0)","v":18748},{"$f":"IF(AND(COUNTRY_INFO!J96>1,COUNTRY_INFO!J96<4), IF(T96/COUNTRY_INFO!E96*100<>0, IF(T96/COUNTRY_INFO!E96*100>100,100,T96/COUNTRY_INFO!E96*100), \"-\"),0)","v":100},{"$f":"IF(AND(COUNTRY_INFO!J96>1,COUNTRY_INFO!J96<4),IF(COUNTRY_INFO!F96>MAX('MDA1'!K96,'MDA2'!K96,'T1'!M96,MAX(T3_R1!L96,T3_R2!L96)),MAX('MDA1'!K96,'MDA2'!K96,'T1'!M96,MAX(T3_R1!L96,T3_R2!L96)),COUNTRY_INFO!F96),0)","v":21944},{"$f":"IF(AND(COUNTRY_INFO!J96>1,COUNTRY_INFO!J96<4), IF(V96/COUNTRY_INFO!F96*100<>0, IF(V96/COUNTRY_INFO!F96*100>100,100,V96/COUNTRY_INFO!F96*100), \"-\"),0)","v":55.034735284528381},40692,{"$f":"IF(AND(COUNTRY_INFO!J96>1,COUNTRY_INFO!J96<4), IF(S96/P96*100<>0, IF(X96/P96*100>100,100,X96/P96*100), \"-\"),0)","v":69.415397212602997},{"$f":"COUNTRY_INFO!O96","v":0},null,null,{"$f":"MAX('T1'!L96,'T2'!J96)+MAX('T1'!M96,'T2'!K96)+MAX('T1'!N96,'T2'!L96)","v":0},{"$f":"IF(COUNTRY_INFO!K96=1,IF(COUNTRY_INFO!F96*0.33>MAX('T1'!M96,'T2'!K96),MAX('T1'!M96,'T2'!K96),COUNTRY_INFO!F96*0.33),IF(COUNTRY_INFO!K96=2,IF(COUNTRY_INFO!F96*0.5>MAX('T1'!M96,'T2'!K96),MAX('T1'!M96,'T2'!K96),COUNTRY_INFO!F96*0.5),IF(COUNTRY_INFO!K96=3,IF(COUNTRY_INFO!F96>MAX('T1'!M96,'T2'!K96),MAX('T1'!M96,'T2'!K96),COUNTRY_INFO!F96),0)))","v":0},{"$f":"IF(AND(COUNTRY_INFO!K96>0,COUNTRY_INFO!K96<4),IF(Z96>0,IF(COUNTRY_INFO!K96=1, AD96/(COUNTRY_INFO!F96*0.33)*100, IF(COUNTRY_INFO!K96=2, AD96/(COUNTRY_INFO!F96*0.5)*100, IF(COUNTRY_INFO!K96=3, AD96/COUNTRY_INFO!F96*100))),\"-\"),0)","v":0},{"$f":"IF(COUNTRY_INFO!K96=2,IF(COUNTRY_INFO!G96*0.2>MAX('T1'!N96,'T2'!L96),MAX('T1'!N96,'T2'!L96),COUNTRY_INFO!G96*0.2),IF(COUNTRY_INFO!K96=3,IF(COUNTRY_INFO!G96>MAX('T1'!N96,'T2'!L96),MAX('T1'!N96,'T2'!L96),COUNTRY_INFO!G96),0))","v":0},{"$f":"IF(AND(COUNTRY_INFO!K96>0,COUNTRY_INFO!K96<4),IF(Z96>0,IF(COUNTRY_INFO!K96=1, 0, IF(COUNTRY_INFO!K96=2, AF96/(COUNTRY_INFO!G96*0.2)*100, IF(COUNTRY_INFO!K96=3, AF96/COUNTRY_INFO!G96*100))),\"-\"),0)","v":0},0,{"$f":"IF(AND(COUNTRY_INFO!K96>0,COUNTRY_INFO!K96<4), IF(AC96/Z96*100<>0, IF(AH96/Z96*100>100,100,AH96/Z96*100), \"-\"),0)","v":0},null,{"$f":"IF(AND(D96<>0, D96<>\"Unknown\",D96<>\"Stopped\",D96<>\"Not required\"),D96/COUNTRY_INFO!D96, 0)","v":0},{"$f":"IF(AND(J96<>0,J96<>\"Unknown\",J96<>\"Stopped\",J96<>\"Not required\"),J96/COUNTRY_INFO!D96, 0)","v":0},{"$f":"IF(AND(P96<>0,P96<>\"Unknown\",P96<>\"Not required\"),P96/(COUNTRY_INFO!E96+COUNTRY_INFO!F96), 0)","v":1},{"$f":"IF(AND(Z96<>0,Z96<>\"Unknown\",Z96<>\"Not required\"),IF(COUNTRY_INFO!K96=1,1,IF(COUNTRY_INFO!K96=2,0.5*COUNTRY_INFO!F96/(0.5*COUNTRY_INFO!F96+0.2*COUNTRY_INFO!G96),IF(COUNTRY_INFO!K96=3,COUNTRY_INFO!F96/(COUNTRY_INFO!F96+COUNTRY_INFO!G96)))),0)","v":0},{"$f":"IF(AND(Z96<>0,Z96<>\"Unknown\",Z96<>\"Not required\"),IF(COUNTRY_INFO!K96=1,0,IF(COUNTRY_INFO!K96=2,0.2*COUNTRY_INFO!G96/(0.5*COUNTRY_INFO!F96+0.2*COUNTRY_INFO!G96),IF(COUNTRY_INFO!K96=3,COUNTRY_INFO!G96/(COUNTRY_INFO!F96+COUNTRY_INFO!G96)))),0)","v":0},{"$f":"MAX(COUNTRY_INFO!D96*AK96*PROFILE!$G$7,COUNTRY_INFO!D96*AL96*PROFILE!$G$7)","v":0},{"$f":"MAX(COUNTRY_INFO!D96*AK96*PROFILE!$G$8,COUNTRY_INFO!D96*AL96*PROFILE!$G$8,COUNTRY_INFO!D96*AM96*PROFILE!$G$8)","v":18748.251260366203},{"$f":"MAX(COUNTRY_INFO!D96*AK96*PROFILE!$G$9,COUNTRY_INFO!D96*AL96*PROFILE!$G$9,COUNTRY_INFO!D96*AM96*PROFILE!$G$9,IF(AND(DISTRICT!Z96<>\"Unknown\",Z96<>\"Not required\"),COUNTRY_INFO!O96*DISTRICT!AN96,0))","v":39873.06562879846},{"$f":"MAX(COUNTRY_INFO!D96*AK96*PROFILE!$G$10,COUNTRY_INFO!D96*AL96*PROFILE!$G$10,IF(AND(DISTRICT!Z96<>\"Unknown\",Z96<>\"Not required\"),COUNTRY_INFO!O96*DISTRICT!AO96,0))","v":0},58621.316889164664,"Y",{"$f":"MAX('MDA2'!J96,'T1'!L96,'T2'!J96,T3_R1!K96,T3_R2!K96)","v":27196},{"$f":"MAX('MDA1'!K96,'MDA2'!K96,'MDA3'!I96,'MDA3'!L96,'T1'!M96,'T2'!K96,T3_R1!L96,T3_R2!L96)","v":21944},{"$f":"MAX('MDA1'!L96,'MDA2'!L96,'MDA3'!J96,'MDA3'!M96,'T1'!N96,'T2'!L96,T3_R1!M96,T3_R2!M96)","v":0},49140,{"$f":"MAX('MDA2'!J96,T96)","v":18748},{"$f":"MAX('MDA1'!K96,'MDA2'!K96,'MDA3'!I96,'MDA3'!L96,V96,AD96)","v":21944},{"$f":"MAX('MDA1'!L96,'MDA2'!L96,'MDA3'!J96,'MDA3'!M96,AF96)","v":0},40692,69.415021973894525]
[{"$f":"IF(COUNTRY_INFO!A97=0,\" \",COUNTRY_INFO!A97)","v":"Uganda"},{"$f":"IF(COUNTRY_INFO!B97=0,\" \",COUNTRY_INFO!B97)","v":"Western"},{"$f":"IF(COUNTRY_INFO!C97=0,\" \",COUNTRY_INFO!C97)","v":"Buliisa"},{"$f":"COUNTRY_INFO!L97","v":0},null,null,{"$f":"MAX('MDA1'!M97,'MDA2'!M97)","v":0},{"$f":"IF(AND(COUNTRY_INFO!H97>0,COUNTRY_INFO!H97<4),IF(D97>MAX('MDA1'!M97,'MDA2'!M97),MAX('MDA1'!M97,'MDA2'!M97),D97),0)","v":0},{"$f":"IF(AND(COUNTRY_INFO!H97>0,COUNTRY_INFO!H97<4), IF(G97/D97*100<>0, IF(G97/D97*100>100,100,G97/D97*100), \"-\"),0)","v":0},{"$f":"COUNTRY_INFO!M97","v":34376},null,null,{"$f":"MAX('MDA1'!M97,MAX('MDA3'!I97,'MDA3'!L97)+MAX('MDA3'!J97,'MDA3'!M97))","v":29325},{"$f":"IF(AND(COUNTRY_INFO!I97>0,COUNTRY_INFO!I97<4),IF(J97>MAX('MDA1'!M97,MAX('MDA3'!I97,'MDA3'!L97)+MAX('MDA3'!J97,'MDA3'!M97)),MAX('MDA1'!M97,MAX('MDA3'!I97,'MDA3'!L97)+MAX('MDA3'!J97,'MDA3'!M97)),J97),0)","v":29325},{"$f":"IF(AND(COUNTRY_INFO!I97>0,COUNTRY_INFO!I97<4), IF(M97/J97*100<>0, IF(M97/J97*100>100,100,M97/J97*100), \"-\"),0)","v":85.306609262276012},{"$f":"COUNTRY_INFO!N97","v":54950},null,null,{"$f":"SUM(MAX('MDA2'!J97, 'T1'!L97, MAX(T3_R1!K97, T3_R2!K97)), MAX('MDA1'!K97, 'MDA2'!K97, 'T1'!M97, MAX(T3_R1!L97, T3_R2!L97)), MAX('MDA1'!L97, 'MDA2'!L97, 'T1'!N97, MAX(T3_R1!M97, T3_R2!M97)))","v":25443},{"$f":"IF(AND(COUNTRY_INFO!J97>1,COUNTRY_INFO!J97<4),IF(COUNTRY_INFO!E97>MAX('MDA2'!J97,'T1'!L97,MAX(T3_R1!K97,T3_R2!K97)),MAX('MDA2'!J97,'T1'!L97,MAX(T3_R1!K97,T3_R2!K97)),COUNTRY_INFO!E97),0)","v":15132},{"$f":"IF(AND(COUNTRY_INFO!J97>1,COUNTRY_INFO!J97<4), IF(T97/COUNTRY_INFO!E97*100<>0, IF(T97/COUNTRY_INFO!E97*100>100,100,T97/COUNTRY_INFO!E97*100), \"-\"),0)","v":86.104472516217129},{"$f":"IF(AND(COUNTRY_INFO!J97>1,COUNTRY_INFO!J97<4),IF(COUNTRY_INFO!F97>MAX('MDA1'!K97,'MDA2'!K97,'T1'!M97,MAX(T3_R1!L97,T3_R2!L97)),MAX('MDA1'!K97,'MDA2'!K97,'T1'!M97,MAX(T3_R1!L97,T3_R2!L97)),COUNTRY_INFO!F97),0)","v":10311},{"$f":"IF(AND(COUNTRY_INFO!J97>1,COUNTRY_INFO!J97<4), IF(V97/COUNTRY_INFO!F97*100<>0, IF(V97/COUNTRY_INFO!F97*100>100,100,V97/COUNTRY_INFO!F97*100), \"-\"),0)","v":27.587221746575342},25443,{"$f":"IF(AND(COUNTRY_INFO!J97>1,COUNTRY_INFO!J97<4), IF(S97/P97*100<>0, IF(X97/P97*100>100,100,X97/P97*100), \"-\"),0)","v":46.302092811646951},{"$f":"COUNTRY_INFO!O97","v":114938},null,null,{"$f":"MAX('T1'!L97,'T2'!J97)+MAX('T1'!M97,'T2'!K97)+MAX('T1'!N97,'T2'!L97)","v":96491},{"$f":"IF(COUNTRY_INFO!K97=1,IF(COUNTRY_INFO!F97*0.33>MAX('T1'!M97,'T2'!K97),MAX('T1'!M97,'T2'!K97),COUNTRY_INFO!F97*0.33),IF(COUNTRY_INFO!K97=2,IF(COUNTRY_INFO!F97*0.5>MAX('T1'!M97,'T2'!K97),MAX('T1'!M97,'T2'!K97),COUNTRY_INFO!F97*0.5),IF(COUNTRY_INFO!K97=3,IF(COUNTRY_INFO!F97>MAX('T1'!M97,'T2'!K97),MAX('T1'!M97,'T2'!K97),COUNTRY_INFO!F97),0)))","v":37348},{"$f":"IF(AND(COUNTRY_INFO!K97>0,COUNTRY_INFO!K97<4),IF(Z97>0,IF(COUNTRY_INFO!K97=1, AD97/(COUNTRY_INFO!F97*0.33)*100, IF(COUNTRY_INFO!K97=2, AD97/(COUNTRY_INFO!F97*0.5)*100, IF(COUNTRY_INFO!K97=3, AD97/COUNTRY_INFO!F97*100))),\"-\"),0)","v":99.925085616438352},{"$f":"IF(COUNTRY_INFO!K97=2,IF(COUNTRY_INFO!G97*0.2>MAX('T1'!N97,'T2'!L97),MAX('T1'!N97,'T2'!L97),COUNTRY_INFO!G97*0.2),IF(COUNTRY_INFO!K97=3,IF(COUNTRY_INFO!G97>MAX('T1'!N97,'T2'!L97),MAX('T1'!N97,'T2'!L97),COUNTRY_INFO!G97),0))","v":59143},{"$f":"IF(AND(COUNTRY_INFO!K97>0,COUNTRY_INFO!K97<4),IF(Z97>0,IF(COUNTRY_INFO!K97=1, 0, IF(COUNTRY_INFO!K97=2, AF97/(COUNTRY_INFO!G97*0.2)*100, IF(COUNTRY_INFO!K97=3, AF97/COUNTRY_INFO!G97*100))),\"-\"),0)","v":91.721592407065643},96491,{"$f":"IF(AND(COUNTRY_INFO!K97>0,COUNTRY_INFO!K97<4), IF(AC97/Z97*100<>0, IF(AH97/Z97*100>100,100,AH97/Z97*100), \"-\"),0)","v":83.950477648819373},null,{"$f":"IF(AND(D97<>0, D97<>\"Unknown\",D97<>\"Stopped\",D97<>\"Not required\"),D97/COUNTRY_INFO!D97, 0)","v":0},{"$f":"IF(AND(J97<>0,J97<>\"Unknown\",J97<>\"Stopped\",J97<>\"Not required\"),J97/COUNTRY_INFO!D97, 0)","v":0.27775668010633225},{"$f":"IF(AND(P97<>0,P97<>\"Unknown\",P97<>\"Not required\"),P97/(COUNTRY_INFO!E97+COUNTRY_INFO!F97), 0)","v":1},{"$f":"IF(AND(Z97<>0,Z97<>\"Unknown\",Z97<>\"Not required\"),IF(COUNTRY_INFO!K97=1,1,IF(COUNTRY_INFO!K97=2,0.5*COUNTRY_INFO!F97/(0.5*COUNTRY_INFO!F97+0.2*COUNTRY_INFO!G97),IF(COUNTRY_INFO!K97=3,COUNTRY_INFO!F97/(COUNTRY_INFO!F97+COUNTRY_INFO!G97)))),0)","v":0.36694581619329059},{"$f":"IF(AND(Z97<>0,Z97<>\"Unknown\",Z97<>\"Not required\"),IF(COUNTRY_INFO!K97=1,0,IF(COUNTRY_INFO!K97=2,0.2*COUNTRY_INFO!G97/(0.5*COUNTRY_INFO!F97+0.2*COUNTRY_INFO!G97),IF(COUNTRY_INFO!K97=3,COUNTRY_INFO!G97/(COUNTRY_INFO!F97+COUNTRY_INFO!G97)))),0)","v":0.63305418380670941},{"$f":"MAX(COUNTRY_INFO!D97*AK97*PROFILE!$G$7,COUNTRY_INFO!D97*AL97*PROFILE!$G$7)","v":1203.1631735260403},{"$f":"MAX(COUNTRY_INFO!D97*AK97*PROFILE!$G$8,COUNTRY_INFO!D97*AL97*PROFILE!$G$8,COUNTRY_INFO!D97*AM97*PROFILE!$G$8)","v":17574.337807594507},{"$f":"MAX(COUNTRY_INFO!D97*AK97*PROFILE!$G$9,COUNTRY_INFO!D97*AL97*PROFILE!$G$9,COUNTRY_INFO!D97*AM97*PROFILE!$G$9,IF(AND(DISTRICT!Z97<>\"Unknown\",Z97<>\"Not required\"),COUNTRY_INFO!O97*DISTRICT!AN97,0))","v":42176.018221624436},{"$f":"MAX(COUNTRY_INFO!D97*AK97*PROFILE!$G$10,COUNTRY_INFO!D97*AL97*PROFILE!$G$10,IF(AND(DISTRICT!Z97<>\"Unknown\",Z97<>\"Not required\"),COUNTRY_INFO!O97*DISTRICT!AO97,0))","v":72761.981778375572},133715.50098112057,"Y",{"$f":"MAX('MDA2'!J97,'T1'!L97,'T2'!J97,T3_R1!K97,T3_R2!K97)","v":15132},{"$f":"MAX('MDA1'!K97,'MDA2'!K97,'MDA3'!I97,'MDA3'!L97,'T1'!M97,'T2'!K97,T3_R1!L97,T3_R2!L97)","v":37348},{"$f":"MAX('MDA1'!L97,'MDA2'!L97,'MDA3'!J97,'MDA3'!M97,'T1'!N97,'T2'!L97,T3_R1!M97,T3_R2!M97)","v":59143},111623,{"$f":"MAX('MDA2'!J97,T97)","v":15132},{"$f":"MAX('MDA1'!K97,'MDA2'!K97,'MDA3'!I97,'MDA3'!L97,V97,AD97)","v":37348},{"$f":"MAX('MDA1'!L97,'MDA2'!L97,'MDA3'!J97,'MDA3'!M97,AF97)","v":59143},111623,83.477980623772382]
[{"$f":"IF(COUNTRY_INFO!A98=0,\" \",COUNTRY_INFO!A98)","v":"Uganda"},{"$f":"IF(COUNTRY_INFO!B98=0,\" \",COUNTRY_INFO!B98)","v":"Western"},{"$f":"IF(COUNTRY_INFO!C98=0,\" \",COUNTRY_INFO!C98)","v":"Bundibugyo"},{"$f":"COUNTRY_INFO!L98","v":"Stopped"},null,null,{"$f":"MAX('MDA1'!M98,'MDA2'!M98)","v":0},{"$f":"IF(AND(COUNTRY_INFO!H98>0,COUNTRY_INFO!H98<4),IF(D98>MAX('MDA1'!M98,'MDA2'!M98),MAX('MDA1'!M98,'MDA2'!M98),D98),0)","v":0},{"$f":"IF(AND(COUNTRY_INFO!H98>0,COUNTRY_INFO!H98<4), IF(G98/D98*100<>0, IF(G98/D98*100>100,100,G98/D98*100), \"-\"),0)","v":0},{"$f":"COUNTRY_INFO!M98","v":0},null,null,{"$f":"MAX('MDA1'!M98,MAX('MDA3'!I98,'MDA3'!L98)+MAX('MDA3'!J98,'MDA3'!M98))","v":0},{"$f":"IF(AND(COUNTRY_INFO!I98>0,COUNTRY_INFO!I98<4),IF(J98>MAX('MDA1'!M98,MAX('MDA3'!I98,'MDA3'!L98)+MAX('MDA3'!J98,'MDA3'!M98)),MAX('MDA1'!M98,MAX('MDA3'!I98,'MDA3'!L98)+MAX('MDA3'!J98,'MDA3'!M98)),J98),0)","v":0},{"$f":"IF(AND(COUNTRY_INFO!I98>0,COUNTRY_INFO!I98<4), IF(M98/J98*100<>0, IF(M98/J98*100>100,100,M98/J98*100), \"-\"),0)","v":0},{"$f":"COUNTRY_INFO!N98","v":108961},null,null,{"$f":"SUM(MAX('MDA2'!J98, 'T1'!L98, MAX(T3_R1!K98, T3_R2!K98)), MAX('MDA1'!K98, 'MDA2'!K98, 'T1'!M98, MAX(T3_R1!L98, T3_R2!L98)), MAX('MDA1'!L98, 'MDA2'!L98, 'T1'!N98, MAX(T3_R1!M98, T3_R2!M98)))","v":38019},{"$f":"IF(AND(COUNTRY_INFO!J98>1,COUNTRY_INFO!J98<4),IF(COUNTRY_INFO!E98>MAX('MDA2'!J98,'T1'!L98,MAX(T3_R1!K98,T3_R2!K98)),MAX('MDA2'!J98,'T1'!L98,MAX(T3_R1!K98,T3_R2!K98)),COUNTRY_INFO!E98),0)","v":34848},{"$f":"IF(AND(COUNTRY_INFO!J98>1,COUNTRY_INFO!J98<4), IF(T98/COUNTRY_INFO!E98*100<>0, IF(T98/COUNTRY_INFO!E98*100>100,100,T98/COUNTRY_INFO!E98*100), \"-\"),0)","v":100},{"$f":"IF(AND(COUNTRY_INFO!J98>1,COUNTRY_INFO!J98<4),IF(COUNTRY_INFO!F98>MAX('MDA1'!K98,'MDA2'!K98,'T1'!M98,MAX(T3_R1!L98,T3_R2!L98)),MAX('MDA1'!K98,'MDA2'!K98,'T1'!M98,MAX(T3_R1!L98,T3_R2!L98)),COUNTRY_INFO!F98),0)","v":1251},{"$f":"IF(AND(COUNTRY_INFO!J98>1,COUNTRY_INFO!J98<4), IF(V98/COUNTRY_INFO!F98*100<>0, IF(V98/COUNTRY_INFO!F98*100>100,100,V98/COUNTRY_INFO!F98*100), \"-\"),0)","v":1.6879629754563978},36099,{"$f":"IF(AND(COUNTRY_INFO!J98>1,COUNTRY_INFO!J98<4), IF(S98/P98*100<>0, IF(X98/P98*100>100,100,X98/P98*100), \"-\"),0)","v":33.130202549536072},{"$f":"COUNTRY_INFO!O98","v":0},null,null,{"$f":"MAX('T1'!L98,'T2'!J98)+MAX('T1'!M98,'T2'!K98)+MAX('T1'!N98,'T2'!L98)","v":0},{"$f":"IF(COUNTRY_INFO!K98=1,IF(COUNTRY_INFO!F98*0.33>MAX('T1'!M98,'T2'!K98),MAX('T1'!M98,'T2'!K98),COUNTRY_INFO!F98*0.33),IF(COUNTRY_INFO!K98=2,IF(COUNTRY_INFO!F98*0.5>MAX('T1'!M98,'T2'!K98),MAX('T1'!M98,'T2'!K98),COUNTRY_INFO!F98*0.5),IF(COUNTRY_INFO!K98=3,IF(COUNTRY_INFO!F98>MAX('T1'!M98,'T2'!K98),MAX('T1'!M98,'T2'!K98),COUNTRY_INFO!F98),0)))","v":0},{"$f":"IF(AND(COUNTRY_INFO!K98>0,COUNTRY_INFO!K98<4),IF(Z98>0,IF(COUNTRY_INFO!K98=1, AD98/(COUNTRY_INFO!F98*0.33)*100, IF(COUNTRY_INFO!K98=2, AD98/(COUNTRY_INFO!F98*0.5)*100, IF(COUNTRY_INFO!K98=3, AD98/COUNTRY_INFO!F98*100))),\"-\"),0)","v":0},{"$f":"IF(COUNTRY_INFO!K98=2,IF(COUNTRY_INFO!G98*0.2>MAX('T1'!N98,'T2'!L98),MAX('T1'!N98,'T2'!L98),COUNTRY_INFO!G98*0.2),IF(COUNTRY_INFO!K98=3,IF(COUNTRY_INFO!G98>MAX('T1'!N98,'T2'!L98),MAX('T1'!N98,'T2'!L98),COUNTRY_INFO!G98),0))","v":0},{"$f":"IF(AND(COUNTRY_INFO!K98>0,COUNTRY_INFO!K98<4),IF(Z98>0,IF(COUNTRY_INFO!K98=1, 0, IF(COUNTRY_INFO!K98=2, AF98/(COUNTRY_INFO!G98*0.2)*100, IF(COUNTRY_INFO!K98=3, AF98/COUNTRY_INFO!G98*100))),\"-\"),0)","v":0},0,{"$f":"IF(AND(COUNTRY_INFO!K98>0,COUNTRY_INFO!K98<4), IF(AC98/Z98*100<>0, IF(AH98/Z98*100>100,100,AH98/Z98*100), \"-\"),0)","v":0},null,{"$f":"IF(AND(D98<>0, D98<>\"Unknown\",D98<>\"Stopped\",D98<>\"Not required\"),D98/COUNTRY_INFO!D98, 0)","v":0},{"$f":"IF(AND(J98<>0,J98<>\"Unknown\",J98<>\"Stopped\",J98<>\"Not required\"),J98/COUNTRY_INFO!D98, 0)","v":0},{"$f":"IF(AND(P98<>0,P98<>\"Unknown\",P98<>\"Not required\"),P98/(COUNTRY_INFO!E98+COUNTRY_INFO!F98), 0)","v":1},{"$f":"IF(AND(Z98<>0,Z98<>\"Unknown\",Z98<>\"Not required\"),IF(COUNTRY_INFO!K98=1,1,IF(COUNTRY_INFO!K98=2,0.5*COUNTRY_INFO!F98/(0.5*COUNTRY_INFO!F98+0.2*COUNTRY_INFO!G98),IF(COUNTRY_INFO!K98=3,COUNTRY_INFO!F98/(COUNTRY_INFO!F98+COUNTRY_INFO!G98)))),0)","v":0},{"$f":"IF(AND(Z98<>0,Z98<>\"Unknown\",Z98<>\"Not required\"),IF(COUNTRY_INFO!K98=1,0,IF(COUNTRY_INFO!K98=2,0.2*COUNTRY_INFO!G98/(0.5*COUNTRY_INFO!F98+0.2*COUNTRY_INFO!G98),IF(COUNTRY_INFO!K98=3,COUNTRY_INFO!G98/(COUNTRY_INFO!F98+COUNTRY_INFO!G98)))),0)","v":0},{"$f":"MAX(COUNTRY_INFO!D98*AK98*PROFILE!$G$7,COUNTRY_INFO!D98*AL98*PROFILE!$G$7)","v":0},{"$f":"MAX(COUNTRY_INFO!D98*AK98*PROFILE!$G$8,COUNTRY_INFO!D98*AL98*PROFILE!$G$8,COUNTRY_INFO!D98*AM98*PROFILE!$G$8)","v":34847.919755388546},{"$f":"MAX(COUNTRY_INFO!D98*AK98*PROFILE!$G$9,COUNTRY_INFO!D98*AL98*PROFILE!$G$9,COUNTRY_INFO!D98*AM98*PROFILE!$G$9,IF(AND(DISTRICT!Z98<>\"Unknown\",Z98<>\"Not required\"),COUNTRY_INFO!O98*DISTRICT!AN98,0))","v":74113.226462411374},{"$f":"MAX(COUNTRY_INFO!D98*AK98*PROFILE!$G$10,COUNTRY_INFO!D98*AL98*PROFILE!$G$10,IF(AND(DISTRICT!Z98<>\"Unknown\",Z98<>\"Not required\"),COUNTRY_INFO!O98*DISTRICT!AO98,0))","v":0},108961.14621779992,"Y",{"$f":"MAX('MDA2'!J98,'T1'!L98,'T2'!J98,T3_R1!K98,T3_R2!K98)","v":36768},{"$f":"MAX('MDA1'!K98,'MDA2'!K98,'MDA3'!I98,'MDA3'!L98,'T1'!M98,'T2'!K98,T3_R1!L98,T3_R2!L98)","v":1251},{"$f":"MAX('MDA1'!L98,'MDA2'!L98,'MDA3'!J98,'MDA3'!M98,'T1'!N98,'T2'!L98,T3_R1!M98,T3_R2!M98)","v":0},38019,{"$f":"MAX('MDA2'!J98,T98)","v":34848},{"$f":"MAX('MDA1'!K98,'MDA2'!K98,'MDA3'!I98,'MDA3'!L98,V98,AD98)","v":1251},{"$f":"MAX('MDA1'!L98,'MDA2'!L98,'MDA3'!J98,'MDA3'!M98,AF98)","v":0},36099,33.130158091254422]
[{"$f":"IF(COUNTRY_INFO!A99=0,\" \",COUNTRY_INFO!A99)","v":"Uganda"},{"$f":"IF(COUNTRY_INFO!B99=0,\" \",COUNTRY_INFO!B99)","v":"Western"},{"$f":"IF(COUNTRY_INFO!C99=0,\" \",COUNTRY_INFO!C99)","v":"Bushenyi"},{"$f":"COUNTRY_INFO!L99","v":0},null,null,{"$f":"MAX('MDA1'!M99,'MDA2'!M99)","v":0},{"$f":"IF(AND(COUNTRY_INFO!H99>0,COUNTRY_INFO!H99<4),IF(D99>MAX('MDA1'!M99,'MDA2'!M99),MAX('MDA1'!M99,'MDA2'!M99),D99),0)","v":0},{"$f":"IF(AND(COUNTRY_INFO!H99>0,COUNTRY_INFO!H99<4), IF(G99/D99*100<>0, IF(G99/D99*100>100,100,G99/D99*100), \"-\"),0)","v":0},{"$f":"COUNTRY_INFO!M99","v":"Stopped"},null,null,{"$f":"MAX('MDA1'!M99,MAX('MDA3'!I99,'MDA3'!L99)+MAX('MDA3'!J99,'MDA3'!M99))","v":0},{"$f":"IF(AND(COUNTRY_INFO!I99>0,COUNTRY_INFO!I99<4),IF(J99>MAX('MDA1'!M99,MAX('MDA3'!I99,'MDA3'!L99)+MAX('MDA3'!J99,'MDA3'!M99)),MAX('MDA1'!M99,MAX('MDA3'!I99,'MDA3'!L99)+MAX('MDA3'!J99,'MDA3'!M99)),J99),0)","v":0},{"$f":"IF(AND(COUNTRY_INFO!I99>0,COUNTRY_INFO!I99<4), IF(M99/J99*100<>0, IF(M99/J99*100>100,100,M99/J99*100), \"-\"),0)","v":0},{"$f":"COUNTRY_INFO!N99","v":113843},null,null,{"$f":"SUM(MAX('MDA2'!J99, 'T1'!L99, MAX(T3_R1!K99, T3_R2!K99)), MAX('MDA1'!K99, 'MDA2'!K99, 'T1'!M99, MAX(T3_R1!L99, T3_R2!L99)), MAX('MDA1'!L99, 'MDA2'!L99, 'T1'!N99, MAX(T3_R1!M99, T3_R2!M99)))","v":76877},{"$f":"IF(AND(COUNTRY_INFO!J99>1,COUNTRY_INFO!J99<4),IF(COUNTRY_INFO!E99>MAX('MDA2'!J99,'T1'!L99,MAX(T3_R1!K99,T3_R2!K99)),MAX('MDA2'!J99,'T1'!L99,MAX(T3_R1!K99,T3_R2!K99)),COUNTRY_INFO!E99),0)","v":24645},{"$f":"IF(AND(COUNTRY_INFO!J99>1,COUNTRY_INFO!J99<4), IF(T99/COUNTRY_INFO!E99*100<>0, IF(T99/COUNTRY_INFO!E99*100>100,100,T99/COUNTRY_INFO!E99*100), \"-\"),0)","v":67.689307588782995},{"$f":"IF(AND(COUNTRY_INFO!J99>1,COUNTRY_INFO!J99<4),IF(COUNTRY_INFO!F99>MAX('MDA1'!K99,'MDA2'!K99,'T1'!M99,MAX(T3_R1!L99,T3_R2!L99)),MAX('MDA1'!K99,'MDA2'!K99,'T1'!M99,MAX(T3_R1!L99,T3_R2!L99)),COUNTRY_INFO!F99),0)","v":52232},{"$f":"IF(AND(COUNTRY_INFO!J99>1,COUNTRY_INFO!J99<4), IF(V99/COUNTRY_INFO!F99*100<>0, IF(V99/COUNTRY_INFO!F99*100>100,100,V99/COUNTRY_INFO!F99*100), \"-\"),0)","v":67.453573365704983},76877,{"$f":"IF(AND(COUNTRY_INFO!J99>1,COUNTRY_INFO!J99<4), IF(S99/P99*100<>0, IF(X99/P99*100>100,100,X99/P99*100), \"-\"),0)","v":67.528965329444929},{"$f":"COUNTRY_INFO!O99","v":0},null,null,{"$f":"MAX('T1'!L99,'T2'!J99)+MAX('T1'!M99,'T2'!K99)+MAX('T1'!N99,'T2'!L99)","v":0},{"$f":"IF(COUNTRY_INFO!K99=1,IF(COUNTRY_INFO!F99*0.33>MAX('T1'!M99,'T2'!K99),MAX('T1'!M99,'T2'!K99),COUNTRY_INFO!F99*0.33),IF(COUNTRY_INFO!K99=2,IF(COUNTRY_INFO!F99*0.5>MAX('T1'!M99,'T2'!K99),MAX('T1'!M99,'T2'!K99),COUNTRY_INFO!F99*0.5),IF(COUNTRY_INFO!K99=3,IF(COUNTRY_INFO!F99>MAX('T1'!M99,'T2'!K99),MAX('T1'!M99,'T2'!K99),COUNTRY_INFO!F99),0)))","v":0},{"$f":"IF(AND(COUNTRY_INFO!K99>0,COUNTRY_INFO!K99<4),IF(Z99>0,IF(COUNTRY_INFO!K99=1, AD99/(COUNTRY_INFO!F99*0.33)*100, IF(COUNTRY_INFO!K99=2, AD99/(COUNTRY_INFO!F99*0.5)*100, IF(COUNTRY_INFO!K99=3, AD99/COUNTRY_INFO!F99*100))),\"-\"),0)","v":0},{"$f":"IF(COUNTRY_INFO!K99=2,IF(COUNTRY_INFO!G99*0.2>MAX('T1'!N99,'T2'!L99),MAX('T1'!N99,'T2'!L99),COUNTRY_INFO!G99*0.2),IF(COUNTRY_INFO!K99=3,IF(COUNTRY_INFO!G99>MAX('T1'!N99,'T2'!L99),MAX('T1'!N99,'T2'!L99),COUNTRY_INFO!G99),0))","v":0},{"$f":"IF(AND(COUNTRY_INFO!K99>0,COUNTRY_INFO!K99<4),IF(Z99>0,IF(COUNTRY_INFO!K99=1, 0, IF(COUNTRY_INFO!K99=2, AF99/(COUNTRY_INFO!G99*0.2)*100, IF(COUNTRY_INFO!K99=3, AF99/COUNTRY_INFO!G99*100))),\"-\"),0)","v":0},0,{"$f":"IF(AND(COUNTRY_INFO!K99>0,COUNTRY_INFO!K99<4), IF(AC99/Z99*100<>0, IF(AH99/Z99*100>100,100,AH99/Z99*100), \"-\"),0)","v":0},null,{"$f":"IF(AND(D99<>0, D99<>\"Unknown\",D99<>\"Stopped\",D99<>\"Not required\"),D99/COUNTRY_INFO!D99, 0)","v":0},{"$f":"IF(AND(J99<>0,J99<>\"Unknown\",J99<>\"Stopped\",J99<>\"Not required\"),J99/COUNTRY_INFO!D99, 0)","v":0},{"$f":"IF(AND(P99<>0,P99<>\"Unknown\",P99<>\"Not required\"),P99/(COUNTRY_INFO!E99+COUNTRY_INFO!F99), 0)","v":1},{"$f":"IF(AND(Z99<>0,Z99<>\"Unknown\",Z99<>\"Not required\"),IF(COUNTRY_INFO!K99=1,1,IF(COUNTRY_INFO!K99=2,0.5*COUNTRY_INFO!F99/(0.5*COUNTRY_INFO!F99+0.2*COUNTRY_INFO!G99),IF(COUNTRY_INFO!K99=3,COUNTRY_INFO!F99/(COUNTRY_INFO!F99+COUNTRY_INFO!G99)))),0)","v":0},{"$f":"IF(AND(Z99<>0,Z99<>\"Unknown\",Z99<>\"Not required\"),IF(COUNTRY_INFO!K99=1,0,IF(COUNTRY_INFO!K99=2,0.2*COUNTRY_INFO!G99/(0.5*COUNTRY_INFO!F99+0.2*COUNTRY_INFO!G99),IF(COUNTRY_INFO!K99=3,COUNTRY_INFO!G99/(COUNTRY_INFO!F99+COUNTRY_INFO!G99)))),0)","v":0},{"$f":"MAX(COUNTRY_INFO!D99*AK99*PROFILE!$G$7,COUNTRY_INFO!D99*AL99*PROFILE!$G$7)","v":0},{"$f":"MAX(COUNTRY_INFO!D99*AK99*PROFILE!$G$8,COUNTRY_INFO!D99*AL99*PROFILE!$G$8,COUNTRY_INFO!D99*AM99*PROFILE!$G$8)","v":36409.351027515993},{"$f":"MAX(COUNTRY_INFO!D99*AK99*PROFILE!$G$9,COUNTRY_INFO!D99*AL99*PROFILE!$G$9,COUNTRY_INFO!D99*AM99*PROFILE!$G$9,IF(AND(DISTRICT!Z99<>\"Unknown\",Z99<>\"Not required\"),COUNTRY_INFO!O99*DISTRICT!AN99,0))","v":77434.018931200801},{"$f":"MAX(COUNTRY_INFO!D99*AK99*PROFILE!$G$10,COUNTRY_INFO!D99*AL99*PROFILE!$G$10,IF(AND(DISTRICT!Z99<>\"Unknown\",Z99<>\"Not required\"),COUNTRY_INFO!O99*DISTRICT!AO99,0))","v":0},113843.36995871679,"Y",{"$f":"MAX('MDA2'!J99,'T1'!L99,'T2'!J99,T3_R1!K99,T3_R2!K99)","v":24645},{"$f":"MAX('MDA1'!K99,'MDA2'!K99,'MDA3'!I99,'MDA3'!L99,'T1'!M99,'T2'!K99,T3_R1!L99,T3_R2!L99)","v":52232},{"$f":"MAX('MDA1'!L99,'MDA2'!L99,'MDA3'!J99,'MDA3'!M99,'T1'!N99,'T2'!L99,T3_R1!M99,T3_R2!M99)","v":0},76877,{"$f":"MAX('MDA2'!J99,T99)","v":24645},{"$f":"MAX('MDA1'!K99,'MDA2'!K99,'MDA3'!I99,'MDA3'!L99,V99,AD99)","v":52232},{"$f":"MAX('MDA1'!L99,'MDA2'!L99,'MDA3'!J99,'MDA3'!M99,AF99)","v":0},76877,67.528745879428925]
[{"$f":"IF(COUNTRY_INFO!A100=0,\" \",COUNTRY_INFO!A100)","v":"Uganda"},{"$f":"IF(COUNTRY_INFO!B100=0,\" \",COUNTRY_INFO!B100)","v":"Western"},{"$f":"IF(COUNTRY_INFO!C100=0,\" \",COUNTRY_INFO!C100)","v":"Hoima"},{"$f":"COUNTRY_INFO!L100","v":0},null,null,{"$f":"MAX('MDA1'!M100,'MDA2'!M100)","v":0},{"$f":"IF(AND(COUNTRY_INFO!H100>0,COUNTRY_INFO!H100<4),IF(D100>MAX('MDA1'!M100,'MDA2'!M100),MAX('MDA1'!M100,'MDA2'!M100),D100),0)","v":0},{"$f":"IF(AND(COUNTRY_INFO!H100>0,COUNTRY_INFO!H100<4), IF(G100/D100*100<>0, IF(G100/D100*100>100,100,G100/D100*100), \"-\"),0)","v":0},{"$f":"COUNTRY_INFO!M100","v":82518},null,null,{"$f":"MAX('MDA1'!M100,MAX('MDA3'!I100,'MDA3'!L100)+MAX('MDA3'!J100,'MDA3'!M100))","v":65303},{"$f":"IF(AND(COUNTRY_INFO!I100>0,COUNTRY_INFO!I100<4),IF(J100>MAX('MDA1'!M100,MAX('MDA3'!I100,'MDA3'!L100)+MAX('MDA3'!J100,'MDA3'!M100)),MAX('MDA1'!M100,MAX('MDA3'!I100,'MDA3'!L100)+MAX('MDA3'!J100,'MDA3'!M100)),J100),0)","v":65303},{"$f":"IF(AND(COUNTRY_INFO!I100>0,COUNTRY_INFO!I100<4), IF(M100/J100*100<>0, IF(M100/J100*100>100,100,M100/J100*100), \"-\"),0)","v":79.13788506750042},{"$f":"COUNTRY_INFO!N100","v":278239},null,null,{"$f":"SUM(MAX('MDA2'!J100, 'T1'!L100, MAX(T3_R1!K100, T3_R2!K100)), MAX('MDA1'!K100, 'MDA2'!K100, 'T1'!M100, MAX(T3_R1!L100, T3_R2!L100)), MAX('MDA1'!L100, 'MDA2'!L100, 'T1'!N100, MAX(T3_R1!M100, T3_R2!M100)))","v":156752},{"$f":"IF(AND(COUNTRY_INFO!J100>1,COUNTRY_INFO!J100<4),IF(COUNTRY_INFO!E100>MAX('MDA2'!J100,'T1'!L100,MAX(T3_R1!K100,T3_R2!K100)),MAX('MDA2'!J100,'T1'!L100,MAX(T3_R1!K100,T3_R2!K100)),COUNTRY_INFO!E100),0)","v":88986},{"$f":"IF(AND(COUNTRY_INFO!J100>1,COUNTRY_INFO!J100<4), IF(T100/COUNTRY_INFO!E100*100<>0, IF(T100/COUNTRY_INFO!E100*100>100,100,T100/COUNTRY_INFO!E100*100), \"-\"),0)","v":100},{"$f":"IF(AND(COUNTRY_INFO!J100>1,COUNTRY_INFO!J100<4),IF(COUNTRY_INFO!F100>MAX('MDA1'!K100,'MDA2'!K100,'T1'!M100,MAX(T3_R1!L100,T3_R2!L100)),MAX('MDA1'!K100,'MDA2'!K100,'T1'!M100,MAX(T3_R1!L100,T3_R2!L100)),COUNTRY_INFO!F100),0)","v":60960},{"$f":"IF(AND(COUNTRY_INFO!J100>1,COUNTRY_INFO!J100<4), IF(V100/COUNTRY_INFO!F100*100<>0, IF(V100/COUNTRY_INFO!F100*100>100,100,V100/COUNTRY_INFO!F100*100), \"-\"),0)","v":32.210850026155462},149946,{"$f":"IF(AND(COUNTRY_INFO!J100>1,COUNTRY_INFO!J100<4), IF(S100/P100*100<>0, IF(X100/P100*100>100,100,X100/P100*100), \"-\"),0)","v":53.891079252009966},{"$f":"COUNTRY_INFO!O100","v":164204},null,null,{"$f":"MAX('T1'!L100,'T2'!J100)+MAX('T1'!M100,'T2'!K100)+MAX('T1'!N100,'T2'!L100)","v":141648},{"$f":"IF(COUNTRY_INFO!K100=1,IF(COUNTRY_INFO!F100*0.33>MAX('T1'!M100,'T2'!K100),MAX('T1'!M100,'T2'!K100),COUNTRY_INFO!F100*0.33),IF(COUNTRY_INFO!K100=2,IF(COUNTRY_INFO!F100*0.5>MAX('T1'!M100,'T2'!K100),MAX('T1'!M100,'T2'!K100),COUNTRY_INFO!F100*0.5),IF(COUNTRY_INFO!K100=3,IF(COUNTRY_INFO!F100>MAX('T1'!M100,'T2'!K100),MAX('T1'!M100,'T2'!K100),COUNTRY_INFO!F100),0)))","v":61514},{"$f":"IF(AND(COUNTRY_INFO!K100>0,COUNTRY_INFO!K100<4),IF(Z100>0,IF(COUNTRY_INFO!K100=1, AD100/(COUNTRY_INFO!F100*0.33)*100, IF(COUNTRY_INFO!K100=2, AD100/(COUNTRY_INFO!F100*0.5)*100, IF(COUNTRY_INFO!K100=3, AD100/COUNTRY_INFO!F100*100))),\"-\"),0)","v":32.50357986399159},{"$f":"IF(COUNTRY_INFO!K100=2,IF(COUNTRY_INFO!G100*0.2>MAX('T1'!N100,'T2'!L100),MAX('T1'!N100,'T2'!L100),COUNTRY_INFO!G100*0.2),IF(COUNTRY_INFO!K100=3,IF(COUNTRY_INFO!G100>MAX('T1'!N100,'T2'!L100),MAX('T1'!N100,'T2'!L100),COUNTRY_INFO!G100),0))","v":80134},{"$f":"IF(AND(COUNTRY_INFO!K100>0,COUNTRY_INFO!K100<4),IF(Z100>0,IF(COUNTRY_INFO!K100=1, 0, IF(COUNTRY_INFO!K100=2, AF100/(COUNTRY_INFO!G100*0.2)*100, IF(COUNTRY_INFO!K100=3, AF100/COUNTRY_INFO!G100*100))),\"-\"),0)","v":24.543939820883821},141648,{"$f":"IF(AND(COUNTRY_INFO!K100>0,COUNTRY_INFO!K100<4), IF(AC100/Z100*100<>0, IF(AH100/Z100*100>100,100,AH100/Z100*100), \"-\"),0)","v":86.263428418308933},null,{"$f":"IF(AND(D100<>0, D100<>\"Unknown\",D100<>\"Stopped\",D100<>\"Not required\"),D100/COUNTRY_INFO!D100, 0)","v":0},{"$f":"IF(AND(J100<>0,J100<>\"Unknown\",J100<>\"Stopped\",J100<>\"Not required\"),J100/COUNTRY_INFO!D100, 0)","v":0.13167800978194091},{"$f":"IF(AND(P100<>0,P100<>\"Unknown\",P100<>\"Not required\"),P100/(COUNTRY_INFO!E100+COUNTRY_INFO!F100), 0)","v":1},{"$f":"IF(AND(Z100<>0,Z100<>\"Unknown\",Z100<>\"Not required\"),IF(COUNTRY_INFO!K100=1,1,IF(COUNTRY_INFO!K100=2,0.5*COUNTRY_INFO!F100/(0.5*COUNTRY_INFO!F100+0.2*COUNTRY_INFO!G100),IF(COUNTRY_INFO!K100=3,COUNTRY_INFO!F100/(COUNTRY_INFO!F100+COUNTRY_INFO!G100)))),0)","v":0.36695072177141802},{"$f":"IF(AND(Z100<>0,Z100<>\"Unknown\",Z100<>\"Not required\"),IF(COUNTRY_INFO!K100=1,0,IF(COUNTRY_INFO!K100=2,0.2*COUNTRY_INFO!G100/(0.5*COUNTRY_INFO!F100+0.2*COUNTRY_INFO!G100),IF(COUNTRY_INFO!K100=3,COUNTRY_INFO!G100/(COUNTRY_INFO!F100+COUNTRY_INFO!G100)))),0)","v":0.63304927822858192},{"$f":"MAX(COUNTRY_INFO!D100*AK100*PROFILE!$G$7,COUNTRY_INFO!D100*AL100*PROFILE!$G$7)","v":2888.1376179026588},{"$f":"MAX(COUNTRY_INFO!D100*AK100*PROFILE!$G$8,COUNTRY_INFO!D100*AL100*PROFILE!$G$8,COUNTRY_INFO!D100*AM100*PROFILE!$G$8)","v":88986.388518347259},{"$f":"MAX(COUNTRY_INFO!D100*AK100*PROFILE!$G$9,COUNTRY_INFO!D100*AL100*PROFILE!$G$9,COUNTRY_INFO!D100*AM100*PROFILE!$G$9,IF(AND(DISTRICT!Z100<>\"Unknown\",Z100<>\"Not required\"),COUNTRY_INFO!O100*DISTRICT!AN100,0))","v":189252.85671643558},{"$f":"MAX(COUNTRY_INFO!D100*AK100*PROFILE!$G$10,COUNTRY_INFO!D100*AL100*PROFILE!$G$10,IF(AND(DISTRICT!Z100<>\"Unknown\",Z100<>\"Not required\"),COUNTRY_INFO!O100*DISTRICT!AO100,0))","v":103949.22368224607},385076.60653493158,"Y",{"$f":"MAX('MDA2'!J100,'T1'!L100,'T2'!J100,T3_R1!K100,T3_R2!K100)","v":95792},{"$f":"MAX('MDA1'!K100,'MDA2'!K100,'MDA3'!I100,'MDA3'!L100,'T1'!M100,'T2'!K100,T3_R1!L100,T3_R2!L100)","v":61514},{"$f":"MAX('MDA1'!L100,'MDA2'!L100,'MDA3'!J100,'MDA3'!M100,'T1'!N100,'T2'!L100,T3_R1!M100,T3_R2!M100)","v":80134},237440,{"$f":"MAX('MDA2'!J100,T100)","v":88986},{"$f":"MAX('MDA1'!K100,'MDA2'!K100,'MDA3'!I100,'MDA3'!L100,V100,AD100)","v":61514},{"$f":"MAX('MDA1'!L100,'MDA2'!L100,'MDA3'!J100,'MDA3'!M100,AF100)","v":80134},230634,59.893017671297677]
[{"$f":"IF(COUNTRY_INFO!A101=0,\" \",COUNTRY_INFO!A101)","v":"Uganda"},{"$f":"IF(COUNTRY_INFO!B101=0,\" \",COUNTRY_INFO!B101)","v":"Western"},{"$f":"IF(COUNTRY_INFO!C101=0,\" \",COUNTRY_INFO!C101)","v":"Ibanda"},{"$f":"COUNTRY_INFO!L101","v":0},null,null,{"$f":"MAX('MDA1'!M101,'MDA2'!M101)","v":0},{"$f":"IF(AND(COUNTRY_INFO!H101>0,COUNTRY_INFO!H101<4),IF(D101>MAX('MDA1'!M101,'MDA2'!M101),MAX('MDA1'!M101,'MDA2'!M101),D101),0)","v":0},{"$f":"IF(AND(COUNTRY_INFO!H101>0,COUNTRY_INFO!H101<4), IF(G101/D101*100<>0, IF(G101/D101*100>100,100,G101/D101*100), \"-\"),0)","v":0},{"$f":"COUNTRY_INFO!M101","v":"Stopped"},null,null,{"$f":"MAX('MDA1'!M101,MAX('MDA3'!I101,'MDA3'!L101)+MAX('MDA3'!J101,'MDA3'!M101))","v":0},{"$f":"IF(AND(COUNTRY_INFO!I101>0,COUNTRY_INFO!I101<4),IF(J101>MAX('MDA1'!M101,MAX('MDA3'!I101,'MDA3'!L101)+MAX('MDA3'!J101,'MDA3'!M101)),MAX('MDA1'!M101,MAX('MDA3'!I101,'MDA3'!L101)+MAX('MDA3'!J101,'MDA3'!M101)),J101),0)","v":0},{"$f":"IF(AND(COUNTRY_INFO!I101>0,COUNTRY_INFO!I101<4), IF(M101/J101*100<>0, IF(M101/J101*100>100,100,M101/J101*100), \"-\"),0)","v":0},{"$f":"COUNTRY_INFO!N101","v":121217},null,null,{"$f":"SUM(MAX('MDA2'!J101, 'T1'!L101, MAX(T3_R1!K101, T3_R2!K101)), MAX('MDA1'!K101, 'MDA2'!K101, 'T1'!M101, MAX(T3_R1!L101, T3_R2!L101)), MAX('MDA1'!L101, 'MDA2'!L101, 'T1'!N101, MAX(T3_R1!M101, T3_R2!M101)))","v":84045},{"$f":"IF(AND(COUNTRY_INFO!J101>1,COUNTRY_INFO!J101<4),IF(COUNTRY_INFO!E101>MAX('MDA2'!J101,'T1'!L101,MAX(T3_R1!K101,T3_R2!K101)),MAX('MDA2'!J101,'T1'!L101,MAX(T3_R1!K101,T3_R2!K101)),COUNTRY_INFO!E101),0)","v":33649},{"$f":"IF(AND(COUNTRY_INFO!J101>1,COUNTRY_INFO!J101<4), IF(T101/COUNTRY_INFO!E101*100<>0, IF(T101/COUNTRY_INFO!E101*100>100,100,T101/COUNTRY_INFO!E101*100), \"-\"),0)","v":86.795810978126283},{"$f":"IF(AND(COUNTRY_INFO!J101>1,COUNTRY_INFO!J101<4),IF(COUNTRY_INFO!F101>MAX('MDA1'!K101,'MDA2'!K101,'T1'!M101,MAX(T3_R1!L101,T3_R2!L101)),MAX('MDA1'!K101,'MDA2'!K101,'T1'!M101,MAX(T3_R1!L101,T3_R2!L101)),COUNTRY_INFO!F101),0)","v":50396},{"$f":"IF(AND(COUNTRY_INFO!J101>1,COUNTRY_INFO!J101<4), IF(V101/COUNTRY_INFO!F101*100<>0, IF(V101/COUNTRY_INFO!F101*100>100,100,V101/COUNTRY_INFO!F101*100), \"-\"),0)","v":61.123846256473705},84045,{"$f":"IF(AND(COUNTRY_INFO!J101>1,COUNTRY_INFO!J101<4), IF(S101/P101*100<>0, IF(X101/P101*100>100,100,X101/P101*100), \"-\"),0)","v":69.334334293044705},{"$f":"COUNTRY_INFO!O101","v":6903},null,null,{"$f":"MAX('T1'!L101,'T2'!J101)+MAX('T1'!M101,'T2'!K101)+MAX('T1'!N101,'T2'!L101)","v":5913},{"$f":"IF(COUNTRY_INFO!K101=1,IF(COUNTRY_INFO!F101*0.33>MAX('T1'!M101,'T2'!K101),MAX('T1'!M101,'T2'!K101),COUNTRY_INFO!F101*0.33),IF(COUNTRY_INFO!K101=2,IF(COUNTRY_INFO!F101*0.5>MAX('T1'!M101,'T2'!K101),MAX('T1'!M101,'T2'!K101),COUNTRY_INFO!F101*0.5),IF(COUNTRY_INFO!K101=3,IF(COUNTRY_INFO!F101>MAX('T1'!M101,'T2'!K101),MAX('T1'!M101,'T2'!K101),COUNTRY_INFO!F101),0)))","v":5913},{"$f":"IF(AND(COUNTRY_INFO!K101>0,COUNTRY_INFO!K101<4),IF(Z101>0,IF(COUNTRY_INFO!K101=1, AD101/(COUNTRY_INFO!F101*0.33)*100, IF(COUNTRY_INFO!K101=2, AD101/(COUNTRY_INFO!F101*0.5)*100, IF(COUNTRY_INFO!K101=3, AD101/COUNTRY_INFO!F101*100))),\"-\"),0)","v":21.73244286550694},{"$f":"IF(COUNTRY_INFO!K101=2,IF(COUNTRY_INFO!G101*0.2>MAX('T1'!N101,'T2'!L101),MAX('T1'!N101,'T2'!L101),COUNTRY_INFO!G101*0.2),IF(COUNTRY_INFO!K101=3,IF(COUNTRY_INFO!G101>MAX('T1'!N101,'T2'!L101),MAX('T1'!N101,'T2'!L101),COUNTRY_INFO!G101),0))","v":0},{"$f":"IF(AND(COUNTRY_INFO!K101>0,COUNTRY_INFO!K101<4),IF(Z101>0,IF(COUNTRY_INFO!K101=1, 0, IF(COUNTRY_INFO!K101=2, AF101/(COUNTRY_INFO!G101*0.2)*100, IF(COUNTRY_INFO!K101=3, AF101/COUNTRY_INFO!G101*100))),\"-\"),0)","v":0},5913,{"$f":"IF(AND(COUNTRY_INFO!K101>0,COUNTRY_INFO!K101<4), IF(AC101/Z101*100<>0, IF(AH101/Z101*100>100,100,AH101/Z101*100), \"-\"),0)","v":85.658409387222946},null,{"$f":"IF(AND(D101<>0, D101<>\"Unknown\",D101<>\"Stopped\",D101<>\"Not required\"),D101/COUNTRY_INFO!D101, 0)","v":0},{"$f":"IF(AND(J101<>0,J101<>\"Unknown\",J101<>\"Stopped\",J101<>\"Not required\"),J101/COUNTRY_INFO!D101, 0)","v":0},{"$f":"IF(AND(P101<>0,P101<>\"Unknown\",P101<>\"Not required\"),P101/(COUNTRY_INFO!E101+COUNTRY_INFO!F101), 0)","v":1},{"$f":"IF(AND(Z101<>0,Z101<>\"Unknown\",Z101<>\"Not required\"),IF(COUNTRY_INFO!K101=1,1,IF(COUNTRY_INFO!K101=2,0.5*COUNTRY_INFO!F101/(0.5*COUNTRY_INFO!F101+0.2*COUNTRY_INFO!G101),IF(COUNTRY_INFO!K101=3,COUNTRY_INFO!F101/(COUNTRY_INFO!F101+COUNTRY_INFO!G101)))),0)","v":1},{"$f":"IF(AND(Z101<>0,Z101<>\"Unknown\",Z101<>\"Not required\"),IF(COUNTRY_INFO!K101=1,0,IF(COUNTRY_INFO!K101=2,0.2*COUNTRY_INFO!G101/(0.5*COUNTRY_INFO!F101+0.2*COUNTRY_INFO!G101),IF(COUNTRY_INFO!K101=3,COUNTRY_INFO!G101/(COUNTRY_INFO!F101+COUNTRY_INFO!G101)))),0)","v":0},{"$f":"MAX(COUNTRY_INFO!D101*AK101*PROFILE!$G$7,COUNTRY_INFO!D101*AL101*PROFILE!$G$7)","v":0},{"$f":"MAX(COUNTRY_INFO!D101*AK101*PROFILE!$G$8,COUNTRY_INFO!D101*AL101*PROFILE!$G$8,COUNTRY_INFO!D101*AM101*PROFILE!$G$8)","v":38767.543928227205},{"$f":"MAX(COUNTRY_INFO!D101*AK101*PROFILE!$G$9,COUNTRY_INFO!D101*AL101*PROFILE!$G$9,COUNTRY_INFO!D101*AM101*PROFILE!$G$9,IF(AND(DISTRICT!Z101<>\"Unknown\",Z101<>\"Not required\"),COUNTRY_INFO!O101*DISTRICT!AN101,0))","v":82449.333639202436},{"$f":"MAX(COUNTRY_INFO!D101*AK101*PROFILE!$G$10,COUNTRY_INFO!D101*AL101*PROFILE!$G$10,IF(AND(DISTRICT!Z101<>\"Unknown\",Z101<>\"Not required\"),COUNTRY_INFO!O101*DISTRICT!AO101,0))","v":0},121216.87756742965,"Y",{"$f":"MAX('MDA2'!J101,'T1'!L101,'T2'!J101,T3_R1!K101,T3_R2!K101)","v":33649},{"$f":"MAX('MDA1'!K101,'MDA2'!K101,'MDA3'!I101,'MDA3'!L101,'T1'!M101,'T2'!K101,T3_R1!L101,T3_R2!L101)","v":50396},{"$f":"MAX('MDA1'!L101,'MDA2'!L101,'MDA3'!J101,'MDA3'!M101,'T1'!N101,'T2'!L101,T3_R1!M101,T3_R2!M101)","v":0},84045,{"$f":"MAX('MDA2'!J101,T101)","v":33649},{"$f":"MAX('MDA1'!K101,'MDA2'!K101,'MDA3'!I101,'MDA3'!L101,V101,AD101)","v":50396},{"$f":"MAX('MDA1'!L101,'MDA2'!L101,'MDA3'!J101,'MDA3'!M101,AF101)","v":0},84045,69.334404322738024]
[{"$f":"IF(COUNTRY_INFO!A102=0,\" \",COUNTRY_INFO!A102)","v":"Uganda"},{"$f":"IF(COUNTRY_INFO!B102=0,\" \",COUNTRY_INFO!B102)","v":"Western"},{"$f":"IF(COUNTRY_INFO!C102=0,\" \",COUNTRY_INFO!C102)","v":"Isingiro"},{"$f":"COUNTRY_INFO!L102","v":0},null,null,{"$f":"MAX('MDA1'!M102,'MDA2'!M102)","v":0},{"$f":"IF(AND(COUNTRY_INFO!H102>0,COUNTRY_INFO!H102<4),IF(D102>MAX('MDA1'!M102,'MDA2'!M102),MAX('MDA1'!M102,'MDA2'!M102),D102),0)","v":0},{"$f":"IF(AND(COUNTRY_INFO!H102>0,COUNTRY_INFO!H102<4), IF(G102/D102*100<>0, IF(G102/D102*100>100,100,G102/D102*100), \"-\"),0)","v":0},{"$f":"COUNTRY_INFO!M102","v":0},null,null,{"$f":"MAX('MDA1'!M102,MAX('MDA3'!I102,'MDA3'!L102)+MAX('MDA3'!J102,'MDA3'!M102))","v":0},{"$f":"IF(AND(COUNTRY_INFO!I102>0,COUNTRY_INFO!I102<4),IF(J102>MAX('MDA1'!M102,MAX('MDA3'!I102,'MDA3'!L102)+MAX('MDA3'!J102,'MDA3'!M102)),MAX('MDA1'!M102,MAX('MDA3'!I102,'MDA3'!L102)+MAX('MDA3'!J102,'MDA3'!M102)),J102),0)","v":0},{"$f":"IF(AND(COUNTRY_INFO!I102>0,COUNTRY_INFO!I102<4), IF(M102/J102*100<>0, IF(M102/J102*100>100,100,M102/J102*100), \"-\"),0)","v":0},{"$f":"COUNTRY_INFO!N102","v":236174},null,null,{"$f":"SUM(MAX('MDA2'!J102, 'T1'!L102, MAX(T3_R1!K102, T3_R2!K102)), MAX('MDA1'!K102, 'MDA2'!K102, 'T1'!M102, MAX(T3_R1!L102, T3_R2!L102)), MAX('MDA1'!L102, 'MDA2'!L102, 'T1'!N102, MAX(T3_R1!M102, T3_R2!M102)))","v":178184},{"$f":"IF(AND(COUNTRY_INFO!J102>1,COUNTRY_INFO!J102<4),IF(COUNTRY_INFO!E102>MAX('MDA2'!J102,'T1'!L102,MAX(T3_R1!K102,T3_R2!K102)),MAX('MDA2'!J102,'T1'!L102,MAX(T3_R1!K102,T3_R2!K102)),COUNTRY_INFO!E102),0)","v":75533},{"$f":"IF(AND(COUNTRY_INFO!J102>1,COUNTRY_INFO!J102<4), IF(T102/COUNTRY_INFO!E102*100<>0, IF(T102/COUNTRY_INFO!E102*100>100,100,T102/COUNTRY_INFO!E102*100), \"-\"),0)","v":100},{"$f":"IF(AND(COUNTRY_INFO!J102>1,COUNTRY_INFO!J102<4),IF(COUNTRY_INFO!F102>MAX('MDA1'!K102,'MDA2'!K102,'T1'!M102,MAX(T3_R1!L102,T3_R2!L102)),MAX('MDA1'!K102,'MDA2'!K102,'T1'!M102,MAX(T3_R1!L102,T3_R2!L102)),COUNTRY_INFO!F102),0)","v":84618},{"$f":"IF(AND(COUNTRY_INFO!J102>1,COUNTRY_INFO!J102<4), IF(V102/COUNTRY_INFO!F102*100<>0, IF(V102/COUNTRY_INFO!F102*100>100,100,V102/COUNTRY_INFO!F102*100), \"-\"),0)","v":52.675219900274527},160151,{"$f":"IF(AND(COUNTRY_INFO!J102>1,COUNTRY_INFO!J102<4), IF(S102/P102*100<>0, IF(X102/P102*100>100,100,X102/P102*100), \"-\"),0)","v":67.810597271503212},{"$f":"COUNTRY_INFO!O102","v":20643},null,null,{"$f":"MAX('T1'!L102,'T2'!J102)+MAX('T1'!M102,'T2'!K102)+MAX('T1'!N102,'T2'!L102)","v":19714},{"$f":"IF(COUNTRY_INFO!K102=1,IF(COUNTRY_INFO!F102*0.33>MAX('T1'!M102,'T2'!K102),MAX('T1'!M102,'T2'!K102),COUNTRY_INFO!F102*0.33),IF(COUNTRY_INFO!K102=2,IF(COUNTRY_INFO!F102*0.5>MAX('T1'!M102,'T2'!K102),MAX('T1'!M102,'T2'!K102),COUNTRY_INFO!F102*0.5),IF(COUNTRY_INFO!K102=3,IF(COUNTRY_INFO!F102>MAX('T1'!M102,'T2'!K102),MAX('T1'!M102,'T2'!K102),COUNTRY_INFO!F102),0)))","v":19714},{"$f":"IF(AND(COUNTRY_INFO!K102>0,COUNTRY_INFO!K102<4),IF(Z102>0,IF(COUNTRY_INFO!K102=1, AD102/(COUNTRY_INFO!F102*0.33)*100, IF(COUNTRY_INFO!K102=2, AD102/(COUNTRY_INFO!F102*0.5)*100, IF(COUNTRY_INFO!K102=3, AD102/COUNTRY_INFO!F102*100))),\"-\"),0)","v":37.188136241304484},{"$f":"IF(COUNTRY_INFO!K102=2,IF(COUNTRY_INFO!G102*0.2>MAX('T1'!N102,'T2'!L102),MAX('T1'!N102,'T2'!L102),COUNTRY_INFO!G102*0.2),IF(COUNTRY_INFO!K102=3,IF(COUNTRY_INFO!G102>MAX('T1'!N102,'T2'!L102),MAX('T1'!N102,'T2'!L102),COUNTRY_INFO!G102),0))","v":0},{"$f":"IF(AND(COUNTRY_INFO!K102>0,COUNTRY_INFO!K102<4),IF(Z102>0,IF(COUNTRY_INFO!K102=1, 0, IF(COUNTRY_INFO!K102=2, AF102/(COUNTRY_INFO!G102*0.2)*100, IF(COUNTRY_INFO!K102=3, AF102/COUNTRY_INFO!G102*100))),\"-\"),0)","v":0},19714,{"$f":"IF(AND(COUNTRY_INFO!K102>0,COUNTRY_INFO!K102<4), IF(AC102/Z102*100<>0, IF(AH102/Z102*100>100,100,AH102/Z102*100), \"-\"),0)","v":95.499685123286355},null,{"$f":"IF(AND(D102<>0, D102<>\"Unknown\",D102<>\"Stopped\",D102<>\"Not required\"),D102/COUNTRY_INFO!D102, 0)","v":0},{"$f":"IF(AND(J102<>0,J102<>\"Unknown\",J102<>\"Stopped\",J102<>\"Not required\"),J102/COUNTRY_INFO!D102, 0)","v":0},{"$f":"IF(AND(P102<>0,P102<>\"Unknown\",P102<>\"Not required\"),P102/(COUNTRY_INFO!E102+COUNTRY_INFO!F102), 0)","v":1},{"$f":"IF(AND(Z102<>0,Z102<>\"Unknown\",Z102<>\"Not required\"),IF(COUNTRY_INFO!K102=1,1,IF(COUNTRY_INFO!K102=2,0.5*COUNTRY_INFO!F102/(0.5*COUNTRY_INFO!F102+0.2*COUNTRY_INFO!G102),IF(COUNTRY_INFO!K102=3,COUNTRY_INFO!F102/(COUNTRY_INFO!F102+COUNTRY_INFO!G102)))),0)","v":1},{"$f":"IF(AND(Z102<>0,Z102<>\"Unknown\",Z102<>\"Not required\"),IF(COUNTRY_INFO!K102=1,0,IF(COUNTRY_INFO!K102=2,0.2*COUNTRY_INFO!G102/(0.5*COUNTRY_INFO!F102+0.2*COUNTRY_INFO!G102),IF(COUNTRY_INFO!K102=3,COUNTRY_INFO!G102/(COUNTRY_INFO!F102+COUNTRY_INFO!G102)))),0)","v":0},{"$f":"MAX(COUNTRY_INFO!D102*AK102*PROFILE!$G$7,COUNTRY_INFO!D102*AL102*PROFILE!$G$7)","v":0},{"$f":"MAX(COUNTRY_INFO!D102*AK102*PROFILE!$G$8,COUNTRY_INFO!D102*AL102*PROFILE!$G$8,COUNTRY_INFO!D102*AM102*PROFILE!$G$8)","v":75533.030789727884},{"$f":"MAX(COUNTRY_INFO!D102*AK102*PROFILE!$G$9,COUNTRY_INFO!D102*AL102*PROFILE!$G$9,COUNTRY_INFO!D102*AM102*PROFILE!$G$9,IF(AND(DISTRICT!Z102<>\"Unknown\",Z102<>\"Not required\"),COUNTRY_INFO!O102*DISTRICT!AN102,0))","v":160640.76867732609},{"$f":"MAX(COUNTRY_INFO!D102*AK102*PROFILE!$G$10,COUNTRY_INFO!D102*AL102*PROFILE!$G$10,IF(AND(DISTRICT!Z102<>\"Unknown\",Z102<>\"Not required\"),COUNTRY_INFO!O102*DISTRICT!AO102,0))","v":0},236173.79946705396,"Y",{"$f":"MAX('MDA2'!J102,'T1'!L102,'T2'!J102,T3_R1!K102,T3_R2!K102)","v":93566},{"$f":"MAX('MDA1'!K102,'MDA2'!K102,'MDA3'!I102,'MDA3'!L102,'T1'!M102,'T2'!K102,T3_R1!L102,T3_R2!L102)","v":84618},{"$f":"MAX('MDA1'!L102,'MDA2'!L102,'MDA3'!J102,'MDA3'!M102,'T1'!N102,'T2'!L102,T3_R1!M102,T3_R2!M102)","v":0},178184,{"$f":"MAX('MDA2'!J102,T102)","v":75533},{"$f":"MAX('MDA1'!K102,'MDA2'!K102,'MDA3'!I102,'MDA3'!L102,V102,AD102)","v":84618},{"$f":"MAX('MDA1'!L102,'MDA2'!L102,'MDA3'!J102,'MDA3'!M102,AF102)","v":0},160151,67.810654848841907]
[{"$f":"IF(COUNTRY_INFO!A103=0,\" \",COUNTRY_INFO!A103)","v":"Uganda"},{"$f":"IF(COUNTRY_INFO!B103=0,\" \",COUNTRY_INFO!B103)","v":"Western"},{"$f":"IF(COUNTRY_INFO!C103=0,\" \",COUNTRY_INFO!C103)","v":"Kabale"},{"$f":"COUNTRY_INFO!L103","v":0},null,null,{"$f":"MAX('MDA1'!M103,'MDA2'!M103)","v":0},{"$f":"IF(AND(COUNTRY_INFO!H103>0,COUNTRY_INFO!H103<4),IF(D103>MAX('MDA1'!M103,'MDA2'!M103),MAX('MDA1'!M103,'MDA2'!M103),D103),0)","v":0},{"$f":"IF(AND(COUNTRY_INFO!H103>0,COUNTRY_INFO!H103<4), IF(G103/D103*100<>0, IF(G103/D103*100>100,100,G103/D103*100), \"-\"),0)","v":0},{"$f":"COUNTRY_INFO!M103","v":0},null,null,{"$f":"MAX('MDA1'!M103,MAX('MDA3'!I103,'MDA3'!L103)+MAX('MDA3'!J103,'MDA3'!M103))","v":0},{"$f":"IF(AND(COUNTRY_INFO!I103>0,COUNTRY_INFO!I103<4),IF(J103>MAX('MDA1'!M103,MAX('MDA3'!I103,'MDA3'!L103)+MAX('MDA3'!J103,'MDA3'!M103)),MAX('MDA1'!M103,MAX('MDA3'!I103,'MDA3'!L103)+MAX('MDA3'!J103,'MDA3'!M103)),J103),0)","v":0},{"$f":"IF(AND(COUNTRY_INFO!I103>0,COUNTRY_INFO!I103<4), IF(M103/J103*100<>0, IF(M103/J103*100>100,100,M103/J103*100), \"-\"),0)","v":0},{"$f":"COUNTRY_INFO!N103","v":160572},null,null,{"$f":"SUM(MAX('MDA2'!J103, 'T1'!L103, MAX(T3_R1!K103, T3_R2!K103)), MAX('MDA1'!K103, 'MDA2'!K103, 'T1'!M103, MAX(T3_R1!L103, T3_R2!L103)), MAX('MDA1'!L103, 'MDA2'!L103, 'T1'!N103, MAX(T3_R1!M103, T3_R2!M103)))","v":186348},{"$f":"IF(AND(COUNTRY_INFO!J103>1,COUNTRY_INFO!J103<4),IF(COUNTRY_INFO!E103>MAX('MDA2'!J103,'T1'!L103,MAX(T3_R1!K103,T3_R2!K103)),MAX('MDA2'!J103,'T1'!L103,MAX(T3_R1!K103,T3_R2!K103)),COUNTRY_INFO!E103),0)","v":51354},{"$f":"IF(AND(COUNTRY_INFO!J103>1,COUNTRY_INFO!J103<4), IF(T103/COUNTRY_INFO!E103*100<>0, IF(T103/COUNTRY_INFO!E103*100>100,100,T103/COUNTRY_INFO!E103*100), \"-\"),0)","v":100},{"$f":"IF(AND(COUNTRY_INFO!J103>1,COUNTRY_INFO!J103<4),IF(COUNTRY_INFO!F103>MAX('MDA1'!K103,'MDA2'!K103,'T1'!M103,MAX(T3_R1!L103,T3_R2!L103)),MAX('MDA1'!K103,'MDA2'!K103,'T1'!M103,MAX(T3_R1!L103,T3_R2!L103)),COUNTRY_INFO!F103),0)","v":95648},{"$f":"IF(AND(COUNTRY_INFO!J103>1,COUNTRY_INFO!J103<4), IF(V103/COUNTRY_INFO!F103*100<>0, IF(V103/COUNTRY_INFO!F103*100>100,100,V103/COUNTRY_INFO!F103*100), \"-\"),0)","v":87.575308099397532},147002,{"$f":"IF(AND(COUNTRY_INFO!J103>1,COUNTRY_INFO!J103<4), IF(S103/P103*100<>0, IF(X103/P103*100>100,100,X103/P103*100), \"-\"),0)","v":91.548962459208326},{"$f":"COUNTRY_INFO!O103","v":0},null,null,{"$f":"MAX('T1'!L103,'T2'!J103)+MAX('T1'!M103,'T2'!K103)+MAX('T1'!N103,'T2'!L103)","v":0},{"$f":"IF(COUNTRY_INFO!K103=1,IF(COUNTRY_INFO!F103*0.33>MAX('T1'!M103,'T2'!K103),MAX('T1'!M103,'T2'!K103),COUNTRY_INFO!F103*0.33),IF(COUNTRY_INFO!K103=2,IF(COUNTRY_INFO!F103*0.5>MAX('T1'!M103,'T2'!K103),MAX('T1'!M103,'T2'!K103),COUNTRY_INFO!F103*0.5),IF(COUNTRY_INFO!K103=3,IF(COUNTRY_INFO!F103>MAX('T1'!M103,'T2'!K103),MAX('T1'!M103,'T2'!K103),COUNTRY_INFO!F103),0)))","v":0},{"$f":"IF(AND(COUNTRY_INFO!K103>0,COUNTRY_INFO!K103<4),IF(Z103>0,IF(COUNTRY_INFO!K103=1, AD103/(COUNTRY_INFO!F103*0.33)*100, IF(COUNTRY_INFO!K103=2, AD103/(COUNTRY_INFO!F103*0.5)*100, IF(COUNTRY_INFO!K103=3, AD103/COUNTRY_INFO!F103*100))),\"-\"),0)","v":0},{"$f":"IF(COUNTRY_INFO!K103=2,IF(COUNTRY_INFO!G103*0.2>MAX('T1'!N103,'T2'!L103),MAX('T1'!N103,'T2'!L103),COUNTRY_INFO!G103*0.2),IF(COUNTRY_INFO!K103=3,IF(COUNTRY_INFO!G103>MAX('T1'!N103,'T2'!L103),MAX('T1'!N103,'T2'!L103),COUNTRY_INFO!G103),0))","v":0},{"$f":"IF(AND(COUNTRY_INFO!K103>0,COUNTRY_INFO!K103<4),IF(Z103>0,IF(COUNTRY_INFO!K103=1, 0, IF(COUNTRY_INFO!K103=2, AF103/(COUNTRY_INFO!G103*0.2)*100, IF(COUNTRY_INFO!K103=3, AF103/COUNTRY_INFO!G103*100))),\"-\"),0)","v":0},0,{"$f":"IF(AND(COUNTRY_INFO!K103>0,COUNTRY_INFO!K103<4), IF(AC103/Z103*100<>0, IF(AH103/Z103*100>100,100,AH103/Z103*100), \"-\"),0)","v":0},null,{"$f":"IF(AND(D103<>0, D103<>\"Unknown\",D103<>\"Stopped\",D103<>\"Not required\"),D103/COUNTRY_INFO!D103, 0)","v":0},{"$f":"IF(AND(J103<>0,J103<>\"Unknown\",J103<>\"Stopped\",J103<>\"Not required\"),J103/COUNTRY_INFO!D103, 0)","v":0},{"$f":"IF(AND(P103<>0,P103<>\"Unknown\",P103<>\"Not required\"),P103/(COUNTRY_INFO!E103+COUNTRY_INFO!F103), 0)","v":1},{"$f":"IF(AND(Z103<>0,Z103<>\"Unknown\",Z103<>\"Not required\"),IF(COUNTRY_INFO!K103=1,1,IF(COUNTRY_INFO!K103=2,0.5*COUNTRY_INFO!F103/(0.5*COUNTRY_INFO!F103+0.2*COUNTRY_INFO!G103),IF(COUNTRY_INFO!K103=3,COUNTRY_INFO!F103/(COUNTRY_INFO!F103+COUNTRY_INFO!G103)))),0)","v":0},{"$f":"IF(AND(Z103<>0,Z103<>\"Unknown\",Z103<>\"Not required\"),IF(COUNTRY_INFO!K103=1,0,IF(COUNTRY_INFO!K103=2,0.2*COUNTRY_INFO!G103/(0.5*COUNTRY_INFO!F103+0.2*COUNTRY_INFO!G103),IF(COUNTRY_INFO!K103=3,COUNTRY_INFO!G103/(COUNTRY_INFO!F103+COUNTRY_INFO!G103)))),0)","v":0},{"$f":"MAX(COUNTRY_INFO!D103*AK103*PROFILE!$G$7,COUNTRY_INFO!D103*AL103*PROFILE!$G$7)","v":0},{"$f":"MAX(COUNTRY_INFO!D103*AK103*PROFILE!$G$8,COUNTRY_INFO!D103*AL103*PROFILE!$G$8,COUNTRY_INFO!D103*AM103*PROFILE!$G$8)","v":51354.276060830402},{"$f":"MAX(COUNTRY_INFO!D103*AK103*PROFILE!$G$9,COUNTRY_INFO!D103*AL103*PROFILE!$G$9,COUNTRY_INFO!D103*AM103*PROFILE!$G$9,IF(AND(DISTRICT!Z103<>\"Unknown\",Z103<>\"Not required\"),COUNTRY_INFO!O103*DISTRICT!AN103,0))","v":109218.3154181244},{"$f":"MAX(COUNTRY_INFO!D103*AK103*PROFILE!$G$10,COUNTRY_INFO!D103*AL103*PROFILE!$G$10,IF(AND(DISTRICT!Z103<>\"Unknown\",Z103<>\"Not required\"),COUNTRY_INFO!O103*DISTRICT!AO103,0))","v":0},160572.5914789548,"Y",{"$f":"MAX('MDA2'!J103,'T1'!L103,'T2'!J103,T3_R1!K103,T3_R2!K103)","v":90700},{"$f":"MAX('MDA1'!K103,'MDA2'!K103,'MDA3'!I103,'MDA3'!L103,'T1'!M103,'T2'!K103,T3_R1!L103,T3_R2!L103)","v":95648},{"$f":"MAX('MDA1'!L103,'MDA2'!L103,'MDA3'!J103,'MDA3'!M103,'T1'!N103,'T2'!L103,T3_R1!M103,T3_R2!M103)","v":0},186348,{"$f":"MAX('MDA2'!J103,T103)","v":51354},{"$f":"MAX('MDA1'!K103,'MDA2'!K103,'MDA3'!I103,'MDA3'!L103,V103,AD103)","v":95648},{"$f":"MAX('MDA1'!L103,'MDA2'!L103,'MDA3'!J103,'MDA3'!M103,AF103)","v":0},147002,91.548625233009702]
[{"$f":"IF(COUNTRY_INFO!A104=0,\" \",COUNTRY_INFO!A104)","v":"Uganda"},{"$f":"IF(COUNTRY_INFO!B104=0,\" \",COUNTRY_INFO!B104)","v":"Western"},{"$f":"IF(COUNTRY_INFO!C104=0,\" \",COUNTRY_INFO!C104)","v":"Kabarole"},{"$f":"COUNTRY_INFO!L104","v":0},null,null,{"$f":"MAX('MDA1'!M104,'MDA2'!M104)","v":0},{"$f":"IF(AND(COUNTRY_INFO!H104>0,COUNTRY_INFO!H104<4),IF(D104>MAX('MDA1'!M104,'MDA2'!M104),MAX('MDA1'!M104,'MDA2'!M104),D104),0)","v":0},{"$f":"IF(AND(COUNTRY_INFO!H104>0,COUNTRY_INFO!H104<4), IF(G104/D104*100<>0, IF(G104/D104*100>100,100,G104/D104*100), \"-\"),0)","v":0},{"$f":"COUNTRY_INFO!M104","v":"Stopped"},null,null,{"$f":"MAX('MDA1'!M104,MAX('MDA3'!I104,'MDA3'!L104)+MAX('MDA3'!J104,'MDA3'!M104))","v":0},{"$f":"IF(AND(COUNTRY_INFO!I104>0,COUNTRY_INFO!I104<4),IF(J104>MAX('MDA1'!M104,MAX('MDA3'!I104,'MDA3'!L104)+MAX('MDA3'!J104,'MDA3'!M104)),MAX('MDA1'!M104,MAX('MDA3'!I104,'MDA3'!L104)+MAX('MDA3'!J104,'MDA3'!M104)),J104),0)","v":0},{"$f":"IF(AND(COUNTRY_INFO!I104>0,COUNTRY_INFO!I104<4), IF(M104/J104*100<>0, IF(M104/J104*100>100,100,M104/J104*100), \"-\"),0)","v":0},{"$f":"COUNTRY_INFO!N104","v":227859},null,null,{"$f":"SUM(MAX('MDA2'!J104, 'T1'!L104, MAX(T3_R1!K104, T3_R2!K104)), MAX('MDA1'!K104, 'MDA2'!K104, 'T1'!M104, MAX(T3_R1!L104, T3_R2!L104)), MAX('MDA1'!L104, 'MDA2'!L104, 'T1'!N104, MAX(T3_R1!M104, T3_R2!M104)))","v":113063},{"$f":"IF(AND(COUNTRY_INFO!J104>1,COUNTRY_INFO!J104<4),IF(COUNTRY_INFO!E104>MAX('MDA2'!J104,'T1'!L104,MAX(T3_R1!K104,T3_R2!K104)),MAX('MDA2'!J104,'T1'!L104,MAX(T3_R1!K104,T3_R2!K104)),COUNTRY_INFO!E104),0)","v":72874},{"$f":"IF(AND(COUNTRY_INFO!J104>1,COUNTRY_INFO!J104<4), IF(T104/COUNTRY_INFO!E104*100<>0, IF(T104/COUNTRY_INFO!E104*100>100,100,T104/COUNTRY_INFO!E104*100), \"-\"),0)","v":100},{"$f":"IF(AND(COUNTRY_INFO!J104>1,COUNTRY_INFO!J104<4),IF(COUNTRY_INFO!F104>MAX('MDA1'!K104,'MDA2'!K104,'T1'!M104,MAX(T3_R1!L104,T3_R2!L104)),MAX('MDA1'!K104,'MDA2'!K104,'T1'!M104,MAX(T3_R1!L104,T3_R2!L104)),COUNTRY_INFO!F104),0)","v":37635},{"$f":"IF(AND(COUNTRY_INFO!J104>1,COUNTRY_INFO!J104<4), IF(V104/COUNTRY_INFO!F104*100<>0, IF(V104/COUNTRY_INFO!F104*100>100,100,V104/COUNTRY_INFO!F104*100), \"-\"),0)","v":24.282995128560827},110509,{"$f":"IF(AND(COUNTRY_INFO!J104>1,COUNTRY_INFO!J104<4), IF(S104/P104*100<>0, IF(X104/P104*100>100,100,X104/P104*100), \"-\"),0)","v":48.498852360450975},{"$f":"COUNTRY_INFO!O104","v":60313},null,null,{"$f":"MAX('T1'!L104,'T2'!J104)+MAX('T1'!M104,'T2'!K104)+MAX('T1'!N104,'T2'!L104)","v":41912},{"$f":"IF(COUNTRY_INFO!K104=1,IF(COUNTRY_INFO!F104*0.33>MAX('T1'!M104,'T2'!K104),MAX('T1'!M104,'T2'!K104),COUNTRY_INFO!F104*0.33),IF(COUNTRY_INFO!K104=2,IF(COUNTRY_INFO!F104*0.5>MAX('T1'!M104,'T2'!K104),MAX('T1'!M104,'T2'!K104),COUNTRY_INFO!F104*0.5),IF(COUNTRY_INFO!K104=3,IF(COUNTRY_INFO!F104>MAX('T1'!M104,'T2'!K104),MAX('T1'!M104,'T2'!K104),COUNTRY_INFO!F104),0)))","v":21254},{"$f":"IF(AND(COUNTRY_INFO!K104>0,COUNTRY_INFO!K104<4),IF(Z104>0,IF(COUNTRY_INFO!K104=1, AD104/(COUNTRY_INFO!F104*0.33)*100, IF(COUNTRY_INFO!K104=2, AD104/(COUNTRY_INFO!F104*0.5)*100, IF(COUNTRY_INFO!K104=3, AD104/COUNTRY_INFO!F104*100))),\"-\"),0)","v":13.713585185663129},{"$f":"IF(COUNTRY_INFO!K104=2,IF(COUNTRY_INFO!G104*0.2>MAX('T1'!N104,'T2'!L104),MAX('T1'!N104,'T2'!L104),COUNTRY_INFO!G104*0.2),IF(COUNTRY_INFO!K104=3,IF(COUNTRY_INFO!G104>MAX('T1'!N104,'T2'!L104),MAX('T1'!N104,'T2'!L104),COUNTRY_INFO!G104),0))","v":20658},{"$f":"IF(AND(COUNTRY_INFO!K104>0,COUNTRY_INFO!K104<4),IF(Z104>0,IF(COUNTRY_INFO!K104=1, 0, IF(COUNTRY_INFO!K104=2, AF104/(COUNTRY_INFO!G104*0.2)*100, IF(COUNTRY_INFO!K104=3, AF104/COUNTRY_INFO!G104*100))),\"-\"),0)","v":7.726227208976157},41912,{"$f":"IF(AND(COUNTRY_INFO!K104>0,COUNTRY_INFO!K104<4), IF(AC104/Z104*100<>0, IF(AH104/Z104*100>100,100,AH104/Z104*100), \"-\"),0)","v":69.490822874007264},null,{"$f":"IF(AND(D104<>0, D104<>\"Unknown\",D104<>\"Stopped\",D104<>\"Not required\"),D104/COUNTRY_INFO!D104, 0)","v":0},{"$f":"IF(AND(J104<>0,J104<>\"Unknown\",J104<>\"Stopped\",J104<>\"Not required\"),J104/COUNTRY_INFO!D104, 0)","v":0},{"$f":"IF(AND(P104<>0,P104<>\"Unknown\",P104<>\"Not required\"),P104/(COUNTRY_INFO!E104+COUNTRY_INFO!F104), 0)","v":1},{"$f":"IF(AND(Z104<>0,Z104<>\"Unknown\",Z104<>\"Not required\"),IF(COUNTRY_INFO!K104=1,1,IF(COUNTRY_INFO!K104=2,0.5*COUNTRY_INFO!F104/(0.5*COUNTRY_INFO!F104+0.2*COUNTRY_INFO!G104),IF(COUNTRY_INFO!K104=3,COUNTRY_INFO!F104/(COUNTRY_INFO!F104+COUNTRY_INFO!G104)))),0)","v":0.36694999526470312},{"$f":"IF(AND(Z104<>0,Z104<>\"Unknown\",Z104<>\"Not required\"),IF(COUNTRY_INFO!K104=1,0,IF(COUNTRY_INFO!K104=2,0.2*COUNTRY_INFO!G104/(0.5*COUNTRY_INFO!F104+0.2*COUNTRY_INFO!G104),IF(COUNTRY_INFO!K104=3,COUNTRY_INFO!G104/(COUNTRY_INFO!F104+COUNTRY_INFO!G104)))),0)","v":0.63305000473529693},{"$f":"MAX(COUNTRY_INFO!D104*AK104*PROFILE!$G$7,COUNTRY_INFO!D104*AL104*PROFILE!$G$7)","v":0},{"$f":"MAX(COUNTRY_INFO!D104*AK104*PROFILE!$G$8,COUNTRY_INFO!D104*AL104*PROFILE!$G$8,COUNTRY_INFO!D104*AM104*PROFILE!$G$8)","v":72873.798029348589},{"$f":"MAX(COUNTRY_INFO!D104*AK104*PROFILE!$G$9,COUNTRY_INFO!D104*AL104*PROFILE!$G$9,COUNTRY_INFO!D104*AM104*PROFILE!$G$9,IF(AND(DISTRICT!Z104<>\"Unknown\",Z104<>\"Not required\"),COUNTRY_INFO!O104*DISTRICT!AN104,0))","v":154985.21387894309},{"$f":"MAX(COUNTRY_INFO!D104*AK104*PROFILE!$G$10,COUNTRY_INFO!D104*AL104*PROFILE!$G$10,IF(AND(DISTRICT!Z104<>\"Unknown\",Z104<>\"Not required\"),COUNTRY_INFO!O104*DISTRICT!AO104,0))","v":38181.144935599965},266040.1568438916,"Y",{"$f":"MAX('MDA2'!J104,'T1'!L104,'T2'!J104,T3_R1!K104,T3_R2!K104)","v":75428},{"$f":"MAX('MDA1'!K104,'MDA2'!K104,'MDA3'!I104,'MDA3'!L104,'T1'!M104,'T2'!K104,T3_R1!L104,T3_R2!L104)","v":37635},{"$f":"MAX('MDA1'!L104,'MDA2'!L104,'MDA3'!J104,'MDA3'!M104,'T1'!N104,'T2'!L104,T3_R1!M104,T3_R2!M104)","v":20658},133721,{"$f":"MAX('MDA2'!J104,T104)","v":72874},{"$f":"MAX('MDA1'!K104,'MDA2'!K104,'MDA3'!I104,'MDA3'!L104,V104,AD104)","v":37635},{"$f":"MAX('MDA1'!L104,'MDA2'!L104,'MDA3'!J104,'MDA3'!M104,AF104)","v":20658},131167,49.303459130407461]
[{"$f":"IF(COUNTRY_INFO!A105=0,\" \",COUNTRY_INFO!A105)","v":"Uganda"},{"$f":"IF(COUNTRY_INFO!B105=0,\" \",COUNTRY_INFO!B105)","v":"Western"},{"$f":"IF(COUNTRY_INFO!C105=0,\" \",COUNTRY_INFO!C105)","v":"Kagadi"},{"$f":"COUNTRY_INFO!L105","v":0},null,null,{"$f":"MAX('MDA1'!M105,'MDA2'!M105)","v":0},{"$f":"IF(AND(COUNTRY_INFO!H105>0,COUNTRY_INFO!H105<4),IF(D105>MAX('MDA1'!M105,'MDA2'!M105),MAX('MDA1'!M105,'MDA2'!M105),D105),0)","v":0},{"$f":"IF(AND(COUNTRY_INFO!H105>0,COUNTRY_INFO!H105<4), IF(G105/D105*100<>0, IF(G105/D105*100>100,100,G105/D105*100), \"-\"),0)","v":0},{"$f":"COUNTRY_INFO!M105","v":"Stopped"},null,null,{"$f":"MAX('MDA1'!M105,MAX('MDA3'!I105,'MDA3'!L105)+MAX('MDA3'!J105,'MDA3'!M105))","v":0},{"$f":"IF(AND(COUNTRY_INFO!I105>0,COUNTRY_INFO!I105<4),IF(J105>MAX('MDA1'!M105,MAX('MDA3'!I105,'MDA3'!L105)+MAX('MDA3'!J105,'MDA3'!M105)),MAX('MDA1'!M105,MAX('MDA3'!I105,'MDA3'!L105)+MAX('MDA3'!J105,'MDA3'!M105)),J105),0)","v":0},{"$f":"IF(AND(COUNTRY_INFO!I105>0,COUNTRY_INFO!I105<4), IF(M105/J105*100<>0, IF(M105/J105*100>100,100,M105/J105*100), \"-\"),0)","v":0},{"$f":"COUNTRY_INFO!N105","v":170412},null,null,{"$f":"SUM(MAX('MDA2'!J105, 'T1'!L105, MAX(T3_R1!K105, T3_R2!K105)), MAX('MDA1'!K105, 'MDA2'!K105, 'T1'!M105, MAX(T3_R1!L105, T3_R2!L105)), MAX('MDA1'!L105, 'MDA2'!L105, 'T1'!N105, MAX(T3_R1!M105, T3_R2!M105)))","v":106959},{"$f":"IF(AND(COUNTRY_INFO!J105>1,COUNTRY_INFO!J105<4),IF(COUNTRY_INFO!E105>MAX('MDA2'!J105,'T1'!L105,MAX(T3_R1!K105,T3_R2!K105)),MAX('MDA2'!J105,'T1'!L105,MAX(T3_R1!K105,T3_R2!K105)),COUNTRY_INFO!E105),0)","v":54501},{"$f":"IF(AND(COUNTRY_INFO!J105>1,COUNTRY_INFO!J105<4), IF(T105/COUNTRY_INFO!E105*100<>0, IF(T105/COUNTRY_INFO!E105*100>100,100,T105/COUNTRY_INFO!E105*100), \"-\"),0)","v":100},{"$f":"IF(AND(COUNTRY_INFO!J105>1,COUNTRY_INFO!J105<4),IF(COUNTRY_INFO!F105>MAX('MDA1'!K105,'MDA2'!K105,'T1'!M105,MAX(T3_R1!L105,T3_R2!L105)),MAX('MDA1'!K105,'MDA2'!K105,'T1'!M105,MAX(T3_R1!L105,T3_R2!L105)),COUNTRY_INFO!F105),0)","v":26316},{"$f":"IF(AND(COUNTRY_INFO!J105>1,COUNTRY_INFO!J105<4), IF(V105/COUNTRY_INFO!F105*100<>0, IF(V105/COUNTRY_INFO!F105*100>100,100,V105/COUNTRY_INFO!F105*100), \"-\"),0)","v":22.703626057923749},80817,{"$f":"IF(AND(COUNTRY_INFO!J105>1,COUNTRY_INFO!J105<4), IF(S105/P105*100<>0, IF(X105/P105*100>100,100,X105/P105*100), \"-\"),0)","v":47.424477149496511},{"$f":"COUNTRY_INFO!O105","v":198582},null,null,{"$f":"MAX('T1'!L105,'T2'!J105)+MAX('T1'!M105,'T2'!K105)+MAX('T1'!N105,'T2'!L105)","v":169468},{"$f":"IF(COUNTRY_INFO!K105=1,IF(COUNTRY_INFO!F105*0.33>MAX('T1'!M105,'T2'!K105),MAX('T1'!M105,'T2'!K105),COUNTRY_INFO!F105*0.33),IF(COUNTRY_INFO!K105=2,IF(COUNTRY_INFO!F105*0.5>MAX('T1'!M105,'T2'!K105),MAX('T1'!M105,'T2'!K105),COUNTRY_INFO!F105*0.5),IF(COUNTRY_INFO!K105=3,IF(COUNTRY_INFO!F105>MAX('T1'!M105,'T2'!K105),MAX('T1'!M105,'T2'!K105),COUNTRY_INFO!F105),0)))","v":84609},{"$f":"IF(AND(COUNTRY_INFO!K105>0,COUNTRY_INFO!K105<4),IF(Z105>0,IF(COUNTRY_INFO!K105=1, AD105/(COUNTRY_INFO!F105*0.33)*100, IF(COUNTRY_INFO!K105=2, AD105/(COUNTRY_INFO!F105*0.5)*100, IF(COUNTRY_INFO!K105=3, AD105/COUNTRY_INFO!F105*100))),\"-\"),0)","v":72.994797732743223},{"$f":"IF(COUNTRY_INFO!K105=2,IF(COUNTRY_INFO!G105*0.2>MAX('T1'!N105,'T2'!L105),MAX('T1'!N105,'T2'!L105),COUNTRY_INFO!G105*0.2),IF(COUNTRY_INFO!K105=3,IF(COUNTRY_INFO!G105>MAX('T1'!N105,'T2'!L105),MAX('T1'!N105,'T2'!L105),COUNTRY_INFO!G105),0))","v":84859},{"$f":"IF(AND(COUNTRY_INFO!K105>0,COUNTRY_INFO!K105<4),IF(Z105>0,IF(COUNTRY_INFO!K105=1, 0, IF(COUNTRY_INFO!K105=2, AF105/(COUNTRY_INFO!G105*0.2)*100, IF(COUNTRY_INFO!K105=3, AF105/COUNTRY_INFO!G105*100))),\"-\"),0)","v":42.436714241421043},169468,{"$f":"IF(AND(COUNTRY_INFO!K105>0,COUNTRY_INFO!K105<4), IF(AC105/Z105*100<>0, IF(AH105/Z105*100>100,100,AH105/Z105*100), \"-\"),0)","v":85.339053892094952},null,{"$f":"IF(AND(D105<>0, D105<>\"Unknown\",D105<>\"Stopped\",D105<>\"Not required\"),D105/COUNTRY_INFO!D105, 0)","v":0},{"$f":"IF(AND(J105<>0,J105<>\"Unknown\",J105<>\"Stopped\",J105<>\"Not required\"),J105/COUNTRY_INFO!D105, 0)","v":0},{"$f":"IF(AND(P105<>0,P105<>\"Unknown\",P105<>\"Not required\"),P105/(COUNTRY_INFO!E105+COUNTRY_INFO!F105), 0)","v":1},{"$f":"IF(AND(Z105<>0,Z105<>\"Unknown\",Z105<>\"Not required\"),IF(COUNTRY_INFO!K105=1,1,IF(COUNTRY_INFO!K105=2,0.5*COUNTRY_INFO!F105/(0.5*COUNTRY_INFO!F105+0.2*COUNTRY_INFO!G105),IF(COUNTRY_INFO!K105=3,COUNTRY_INFO!F105/(COUNTRY_INFO!F105+COUNTRY_INFO!G105)))),0)","v":0.36694979374883263},{"$f":"IF(AND(Z105<>0,Z105<>\"Unknown\",Z105<>\"Not required\"),IF(COUNTRY_INFO!K105=1,0,IF(COUNTRY_INFO!K105=2,0.2*COUNTRY_INFO!G105/(0.5*COUNTRY_INFO!F105+0.2*COUNTRY_INFO!G105),IF(COUNTRY_INFO!K105=3,COUNTRY_INFO!G105/(COUNTRY_INFO!F105+COUNTRY_INFO!G105)))),0)","v":0.63305020625116737},{"$f":"MAX(COUNTRY_INFO!D105*AK105*PROFILE!$G$7,COUNTRY_INFO!D105*AL105*PROFILE!$G$7)","v":0},{"$f":"MAX(COUNTRY_INFO!D105*AK105*PROFILE!$G$8,COUNTRY_INFO!D105*AL105*PROFILE!$G$8,COUNTRY_INFO!D105*AM105*PROFILE!$G$8)","v":54501.13659389846},{"$f":"MAX(COUNTRY_INFO!D105*AK105*PROFILE!$G$9,COUNTRY_INFO!D105*AL105*PROFILE!$G$9,COUNTRY_INFO!D105*AM105*PROFILE!$G$9,IF(AND(DISTRICT!Z105<>\"Unknown\",Z105<>\"Not required\"),COUNTRY_INFO!O105*DISTRICT!AN105,0))","v":115910.93836290819},{"$f":"MAX(COUNTRY_INFO!D105*AK105*PROFILE!$G$10,COUNTRY_INFO!D105*AL105*PROFILE!$G$10,IF(AND(DISTRICT!Z105<>\"Unknown\",Z105<>\"Not required\"),COUNTRY_INFO!O105*DISTRICT!AO105,0))","v":125712.37605776932},296124.45101457596,{"$f":"IF(COUNTIFS(AK105:AN105,\">0\")=0,0, IF(COUNTIFS(AK105:AN105,\">0\")<=IF(AND(OR(D105>=0,D105=\"Not required\",D105=\"Unknown\",D105=\"Stopped\"),D105>0,H105>0),1,0)+IF(AND(OR(J105>=0,J105=\"Not required\",J105=\"Unknown\",J105=\"Stopped\"),J105>0,N105>0),1,0)+IF(AND(OR(P105>=0,P105=\"Not required\",P105=\"Unknown\"),P105>0,X105>0),1,0)+IF(AND(OR(Z105>=0,Z105=\"Not required\",Z105=\"Unknown\"),Z105>0,AH105>0),1,0),\"Y\",0))","v":"Y"},{"$f":"MAX('MDA2'!J105,'T1'!L105,'T2'!J105,T3_R1!K105,T3_R2!K105)","v":80643},{"$f":"MAX('MDA1'!K105,'MDA2'!K105,'MDA3'!I105,'MDA3'!L105,'T1'!M105,'T2'!K105,T3_R1!L105,T3_R2!L105)","v":84609},{"$f":"MAX('MDA1'!L105,'MDA2'!L105,'MDA3'!J105,'MDA3'!M105,'T1'!N105,'T2'!L105,T3_R1!M105,T3_R2!M105)","v":84859},250111,{"$f":"MAX('MDA2'!J105,T105)","v":54501},{"$f":"MAX('MDA1'!K105,'MDA2'!K105,'MDA3'!I105,'MDA3'!L105,V105,AD105)","v":84609},{"$f":"MAX('MDA1'!L105,'MDA2'!L105,'MDA3'!J105,'MDA3'!M105,AF105)","v":84859},{"$f":"IF(AT105<SUM(AZ105:BB105), AT105,SUM(AZ105:BB105))","v":223969},{"$f":"IF(AT105<>0,BC105/AT105*100,0)","v":75.633403196744368}]
[{"$f":"IF(COUNTRY_INFO!A106=0,\" \",COUNTRY_INFO!A106)","v":"Uganda"},{"$f":"IF(COUNTRY_INFO!B106=0,\" \",COUNTRY_INFO!B106)","v":"Western"},{"$f":"IF(COUNTRY_INFO!C106=0,\" \",COUNTRY_INFO!C106)","v":"Kakumiro"},{"$f":"COUNTRY_INFO!L106","v":0},null,null,{"$f":"MAX('MDA1'!M106,'MDA2'!M106)","v":0},{"$f":"IF(AND(COUNTRY_INFO!H106>0,COUNTRY_INFO!H106<4),IF(D106>MAX('MDA1'!M106,'MDA2'!M106),MAX('MDA1'!M106,'MDA2'!M106),D106),0)","v":0},{"$f":"IF(AND(COUNTRY_INFO!H106>0,COUNTRY_INFO!H106<4), IF(G106/D106*100<>0, IF(G106/D106*100>100,100,G106/D106*100), \"-\"),0)","v":0},{"$f":"COUNTRY_INFO!M106","v":0},null,null,{"$f":"MAX('MDA1'!M106,MAX('MDA3'!I106,'MDA3'!L106)+MAX('MDA3'!J106,'MDA3'!M106))","v":0},{"$f":"IF(AND(COUNTRY_INFO!I106>0,COUNTRY_INFO!I106<4),IF(J106>MAX('MDA1'!M106,MAX('MDA3'!I106,'MDA3'!L106)+MAX('MDA3'!J106,'MDA3'!M106)),MAX('MDA1'!M106,MAX('MDA3'!I106,'MDA3'!L106)+MAX('MDA3'!J106,'MDA3'!M106)),J106),0)","v":0},{"$f":"IF(AND(COUNTRY_INFO!I106>0,COUNTRY_INFO!I106<4), IF(M106/J106*100<>0, IF(M106/J106*100>100,100,M106/J106*100), \"-\"),0)","v":0},{"$f":"COUNTRY_INFO!N106","v":143344},null,null,{"$f":"SUM(MAX('MDA2'!J106, 'T1'!L106, MAX(T3_R1!K106, T3_R2!K106)), MAX('MDA1'!K106, 'MDA2'!K106, 'T1'!M106, MAX(T3_R1!L106, T3_R2!L106)), MAX('MDA1'!L106, 'MDA2'!L106, 'T1'!N106, MAX(T3_R1!M106, T3_R2!M106)))","v":117490},{"$f":"IF(AND(COUNTRY_INFO!J106>1,COUNTRY_INFO!J106<4),IF(COUNTRY_INFO!E106>MAX('MDA2'!J106,'T1'!L106,MAX(T3_R1!K106,T3_R2!K106)),MAX('MDA2'!J106,'T1'!L106,MAX(T3_R1!K106,T3_R2!K106)),COUNTRY_INFO!E106),0)","v":45844},{"$f":"IF(AND(COUNTRY_INFO!J106>1,COUNTRY_INFO!J106<4), IF(T106/COUNTRY_INFO!E106*100<>0, IF(T106/COUNTRY_INFO!E106*100>100,100,T106/COUNTRY_INFO!E106*100), \"-\"),0)","v":100},{"$f":"IF(AND(COUNTRY_INFO!J106>1,COUNTRY_INFO!J106<4),IF(COUNTRY_INFO!F106>MAX('MDA1'!K106,'MDA2'!K106,'T1'!M106,MAX(T3_R1!L106,T3_R2!L106)),MAX('MDA1'!K106,'MDA2'!K106,'T1'!M106,MAX(T3_R1!L106,T3_R2!L106)),COUNTRY_INFO!F106),0)","v":41610},{"$f":"IF(AND(COUNTRY_INFO!J106>1,COUNTRY_INFO!J106<4), IF(V106/COUNTRY_INFO!F106*100<>0, IF(V106/COUNTRY_INFO!F106*100>100,100,V106/COUNTRY_INFO!F106*100), \"-\"),0)","v":42.676923076923082},87454,{"$f":"IF(AND(COUNTRY_INFO!J106>1,COUNTRY_INFO!J106<4), IF(S106/P106*100<>0, IF(X106/P106*100>100,100,X106/P106*100), \"-\"),0)","v":61.009878334635559},{"$f":"COUNTRY_INFO!O106","v":0},null,null,{"$f":"MAX('T1'!L106,'T2'!J106)+MAX('T1'!M106,'T2'!K106)+MAX('T1'!N106,'T2'!L106)","v":0},{"$f":"IF(COUNTRY_INFO!K106=1,IF(COUNTRY_INFO!F106*0.33>MAX('T1'!M106,'T2'!K106),MAX('T1'!M106,'T2'!K106),COUNTRY_INFO!F106*0.33),IF(COUNTRY_INFO!K106=2,IF(COUNTRY_INFO!F106*0.5>MAX('T1'!M106,'T2'!K106),MAX('T1'!M106,'T2'!K106),COUNTRY_INFO!F106*0.5),IF(COUNTRY_INFO!K106=3,IF(COUNTRY_INFO!F106>MAX('T1'!M106,'T2'!K106),MAX('T1'!M106,'T2'!K106),COUNTRY_INFO!F106),0)))","v":0},{"$f":"IF(AND(COUNTRY_INFO!K106>0,COUNTRY_INFO!K106<4),IF(Z106>0,IF(COUNTRY_INFO!K106=1, AD106/(COUNTRY_INFO!F106*0.33)*100, IF(COUNTRY_INFO!K106=2, AD106/(COUNTRY_INFO!F106*0.5)*100, IF(COUNTRY_INFO!K106=3, AD106/COUNTRY_INFO!F106*100))),\"-\"),0)","v":0},{"$f":"IF(COUNTRY_INFO!K106=2,IF(COUNTRY_INFO!G106*0.2>MAX('T1'!N106,'T2'!L106),MAX('T1'!N106,'T2'!L106),COUNTRY_INFO!G106*0.2),IF(COUNTRY_INFO!K106=3,IF(COUNTRY_INFO!G106>MAX('T1'!N106,'T2'!L106),MAX('T1'!N106,'T2'!L106),COUNTRY_INFO!G106),0))","v":0},{"$f":"IF(AND(COUNTRY_INFO!K106>0,COUNTRY_INFO!K106<4),IF(Z106>0,IF(COUNTRY_INFO!K106=1, 0, IF(COUNTRY_INFO!K106=2, AF106/(COUNTRY_INFO!G106*0.2)*100, IF(COUNTRY_INFO!K106=3, AF106/COUNTRY_INFO!G106*100))),\"-\"),0)","v":0},0,{"$f":"IF(AND(COUNTRY_INFO!K106>0,COUNTRY_INFO!K106<4), IF(AC106/Z106*100<>0, IF(AH106/Z106*100>100,100,AH106/Z106*100), \"-\"),0)","v":0},null,{"$f":"IF(AND(D106<>0, D106<>\"Unknown\",D106<>\"Stopped\",D106<>\"Not required\"),D106/COUNTRY_INFO!D106, 0)","v":0},{"$f":"IF(AND(J106<>0,J106<>\"Unknown\",J106<>\"Stopped\",J106<>\"Not required\"),J106/COUNTRY_INFO!D106, 0)","v":0},{"$f":"IF(AND(P106<>0,P106<>\"Unknown\",P106<>\"Not required\"),P106/(COUNTRY_INFO!E106+COUNTRY_INFO!F106), 0)","v":1},{"$f":"IF(AND(Z106<>0,Z106<>\"Unknown\",Z106<>\"Not required\"),IF(COUNTRY_INFO!K106=1,1,IF(COUNTRY_INFO!K106=2,0.5*COUNTRY_INFO!F106/(0.5*COUNTRY_INFO!F106+0.2*COUNTRY_INFO!G106),IF(COUNTRY_INFO!K106=3,COUNTRY_INFO!F106/(COUNTRY_INFO!F106+COUNTRY_INFO!G106)))),0)","v":0},{"$f":"IF(AND(Z106<>0,Z106<>\"Unknown\",Z106<>\"Not required\"),IF(COUNTRY_INFO!K106=1,0,IF(COUNTRY_INFO!K106=2,0.2*COUNTRY_INFO!G106/(0.5*COUNTRY_INFO!F106+0.2*COUNTRY_INFO!G106),IF(COUNTRY_INFO!K106=3,COUNTRY_INFO!G106/(COUNTRY_INFO!F106+COUNTRY_INFO!G106)))),0)","v":0},{"$f":"MAX(COUNTRY_INFO!D106*AK106*PROFILE!$G$7,COUNTRY_INFO!D106*AL106*PROFILE!$G$7)","v":0},{"$f":"MAX(COUNTRY_INFO!D106*AK106*PROFILE!$G$8,COUNTRY_INFO!D106*AL106*PROFILE!$G$8,COUNTRY_INFO!D106*AM106*PROFILE!$G$8)","v":45844.394629301736},{"$f":"MAX(COUNTRY_INFO!D106*AK106*PROFILE!$G$9,COUNTRY_INFO!D106*AL106*PROFILE!$G$9,COUNTRY_INFO!D106*AM106*PROFILE!$G$9,IF(AND(DISTRICT!Z106<>\"Unknown\",Z106<>\"Not required\"),COUNTRY_INFO!O106*DISTRICT!AN106,0))","v":97500.109763889472},{"$f":"MAX(COUNTRY_INFO!D106*AK106*PROFILE!$G$10,COUNTRY_INFO!D106*AL106*PROFILE!$G$10,IF(AND(DISTRICT!Z106<>\"Unknown\",Z106<>\"Not required\"),COUNTRY_INFO!O106*DISTRICT!AO106,0))","v":0},143344.50439319119,"Y",{"$f":"MAX('MDA2'!J106,'T1'!L106,'T2'!J106,T3_R1!K106,T3_R2!K106)","v":75880},{"$f":"MAX('MDA1'!K106,'MDA2'!K106,'MDA3'!I106,'MDA3'!L106,'T1'!M106,'T2'!K106,T3_R1!L106,T3_R2!L106)","v":41610},{"$f":"MAX('MDA1'!L106,'MDA2'!L106,'MDA3'!J106,'MDA3'!M106,'T1'!N106,'T2'!L106,T3_R1!M106,T3_R2!M106)","v":0},117490,{"$f":"MAX('MDA2'!J106,T106)","v":45844},{"$f":"MAX('MDA1'!K106,'MDA2'!K106,'MDA3'!I106,'MDA3'!L106,V106,AD106)","v":41610},{"$f":"MAX('MDA1'!L106,'MDA2'!L106,'MDA3'!J106,'MDA3'!M106,AF106)","v":0},87454,61.009663656246893]
[{"$f":"IF(COUNTRY_INFO!A107=0,\" \",COUNTRY_INFO!A107)","v":"Uganda"},{"$f":"IF(COUNTRY_INFO!B107=0,\" \",COUNTRY_INFO!B107)","v":"Western"},{"$f":"IF(COUNTRY_INFO!C107=0,\" \",COUNTRY_INFO!C107)","v":"Kamwenge"},{"$f":"COUNTRY_INFO!L107","v":0},null,null,{"$f":"MAX('MDA1'!M107,'MDA2'!M107)","v":0},{"$f":"IF(AND(COUNTRY_INFO!H107>0,COUNTRY_INFO!H107<4),IF(D107>MAX('MDA1'!M107,'MDA2'!M107),MAX('MDA1'!M107,'MDA2'!M107),D107),0)","v":0},{"$f":"IF(AND(COUNTRY_INFO!H107>0,COUNTRY_INFO!H107<4), IF(G107/D107*100<>0, IF(G107/D107*100>100,100,G107/D107*100), \"-\"),0)","v":0},{"$f":"COUNTRY_INFO!M107","v":"Stopped"},null,null,{"$f":"MAX('MDA1'!M107,MAX('MDA3'!I107,'MDA3'!L107)+MAX('MDA3'!J107,'MDA3'!M107))","v":0},{"$f":"IF(AND(COUNTRY_INFO!I107>0,COUNTRY_INFO!I107<4),IF(J107>MAX('MDA1'!M107,MAX('MDA3'!I107,'MDA3'!L107)+MAX('MDA3'!J107,'MDA3'!M107)),MAX('MDA1'!M107,MAX('MDA3'!I107,'MDA3'!L107)+MAX('MDA3'!J107,'MDA3'!M107)),J107),0)","v":0},{"$f":"IF(AND(COUNTRY_INFO!I107>0,COUNTRY_INFO!I107<4), IF(M107/J107*100<>0, IF(M107/J107*100>100,100,M107/J107*100), \"-\"),0)","v":0},{"$f":"COUNTRY_INFO!N107","v":201257},null,null,{"$f":"SUM(MAX('MDA2'!J107, 'T1'!L107, MAX(T3_R1!K107, T3_R2!K107)), MAX('MDA1'!K107, 'MDA2'!K107, 'T1'!M107, MAX(T3_R1!L107, T3_R2!L107)), MAX('MDA1'!L107, 'MDA2'!L107, 'T1'!N107, MAX(T3_R1!M107, T3_R2!M107)))","v":158335},{"$f":"IF(AND(COUNTRY_INFO!J107>1,COUNTRY_INFO!J107<4),IF(COUNTRY_INFO!E107>MAX('MDA2'!J107,'T1'!L107,MAX(T3_R1!K107,T3_R2!K107)),MAX('MDA2'!J107,'T1'!L107,MAX(T3_R1!K107,T3_R2!K107)),COUNTRY_INFO!E107),0)","v":64366},{"$f":"IF(AND(COUNTRY_INFO!J107>1,COUNTRY_INFO!J107<4), IF(T107/COUNTRY_INFO!E107*100<>0, IF(T107/COUNTRY_INFO!E107*100>100,100,T107/COUNTRY_INFO!E107*100), \"-\"),0)","v":100},{"$f":"IF(AND(COUNTRY_INFO!J107>1,COUNTRY_INFO!J107<4),IF(COUNTRY_INFO!F107>MAX('MDA1'!K107,'MDA2'!K107,'T1'!M107,MAX(T3_R1!L107,T3_R2!L107)),MAX('MDA1'!K107,'MDA2'!K107,'T1'!M107,MAX(T3_R1!L107,T3_R2!L107)),COUNTRY_INFO!F107),0)","v":81221},{"$f":"IF(AND(COUNTRY_INFO!J107>1,COUNTRY_INFO!J107<4), IF(V107/COUNTRY_INFO!F107*100<>0, IF(V107/COUNTRY_INFO!F107*100>100,100,V107/COUNTRY_INFO!F107*100), \"-\"),0)","v":59.332607695173536},145587,{"$f":"IF(AND(COUNTRY_INFO!J107>1,COUNTRY_INFO!J107<4), IF(S107/P107*100<>0, IF(X107/P107*100>100,100,X107/P107*100), \"-\"),0)","v":72.33885032570295},{"$f":"COUNTRY_INFO!O107","v":15387},null,null,{"$f":"MAX('T1'!L107,'T2'!J107)+MAX('T1'!M107,'T2'!K107)+MAX('T1'!N107,'T2'!L107)","v":14177},{"$f":"IF(COUNTRY_INFO!K107=1,IF(COUNTRY_INFO!F107*0.33>MAX('T1'!M107,'T2'!K107),MAX('T1'!M107,'T2'!K107),COUNTRY_INFO!F107*0.33),IF(COUNTRY_INFO!K107=2,IF(COUNTRY_INFO!F107*0.5>MAX('T1'!M107,'T2'!K107),MAX('T1'!M107,'T2'!K107),COUNTRY_INFO!F107*0.5),IF(COUNTRY_INFO!K107=3,IF(COUNTRY_INFO!F107>MAX('T1'!M107,'T2'!K107),MAX('T1'!M107,'T2'!K107),COUNTRY_INFO!F107),0)))","v":7369},{"$f":"IF(AND(COUNTRY_INFO!K107>0,COUNTRY_INFO!K107<4),IF(Z107>0,IF(COUNTRY_INFO!K107=1, AD107/(COUNTRY_INFO!F107*0.33)*100, IF(COUNTRY_INFO!K107=2, AD107/(COUNTRY_INFO!F107*0.5)*100, IF(COUNTRY_INFO!K107=3, AD107/COUNTRY_INFO!F107*100))),\"-\"),0)","v":10.766230066257094},{"$f":"IF(COUNTRY_INFO!K107=2,IF(COUNTRY_INFO!G107*0.2>MAX('T1'!N107,'T2'!L107),MAX('T1'!N107,'T2'!L107),COUNTRY_INFO!G107*0.2),IF(COUNTRY_INFO!K107=3,IF(COUNTRY_INFO!G107>MAX('T1'!N107,'T2'!L107),MAX('T1'!N107,'T2'!L107),COUNTRY_INFO!G107),0))","v":6808},{"$f":"IF(AND(COUNTRY_INFO!K107>0,COUNTRY_INFO!K107<4),IF(Z107>0,IF(COUNTRY_INFO!K107=1, 0, IF(COUNTRY_INFO!K107=2, AF107/(COUNTRY_INFO!G107*0.2)*100, IF(COUNTRY_INFO!K107=3, AF107/COUNTRY_INFO!G107*100))),\"-\"),0)","v":14.414017674532836},14177,{"$f":"IF(AND(COUNTRY_INFO!K107>0,COUNTRY_INFO!K107<4), IF(AC107/Z107*100<>0, IF(AH107/Z107*100>100,100,AH107/Z107*100), \"-\"),0)","v":92.136218886072669},null,{"$f":"IF(AND(D107<>0, D107<>\"Unknown\",D107<>\"Stopped\",D107<>\"Not required\"),D107/COUNTRY_INFO!D107, 0)","v":0},{"$f":"IF(AND(J107<>0,J107<>\"Unknown\",J107<>\"Stopped\",J107<>\"Not required\"),J107/COUNTRY_INFO!D107, 0)","v":0},{"$f":"IF(AND(P107<>0,P107<>\"Unknown\",P107<>\"Not required\"),P107/(COUNTRY_INFO!E107+COUNTRY_INFO!F107), 0)","v":1},{"$f":"IF(AND(Z107<>0,Z107<>\"Unknown\",Z107<>\"Not required\"),IF(COUNTRY_INFO!K107=1,1,IF(COUNTRY_INFO!K107=2,0.5*COUNTRY_INFO!F107/(0.5*COUNTRY_INFO!F107+0.2*COUNTRY_INFO!G107),IF(COUNTRY_INFO!K107=3,COUNTRY_INFO!F107/(COUNTRY_INFO!F107+COUNTRY_INFO!G107)))),0)","v":0.59169344374393251},{"$f":"IF(AND(Z107<>0,Z107<>\"Unknown\",Z107<>\"Not required\"),IF(COUNTRY_INFO!K107=1,0,IF(COUNTRY_INFO!K107=2,0.2*COUNTRY_INFO!G107/(0.5*COUNTRY_INFO!F107+0.2*COUNTRY_INFO!G107),IF(COUNTRY_INFO!K107=3,COUNTRY_INFO!G107/(COUNTRY_INFO!F107+COUNTRY_INFO!G107)))),0)","v":0.40830655625606754},{"$f":"MAX(COUNTRY_INFO!D107*AK107*PROFILE!$G$7,COUNTRY_INFO!D107*AL107*PROFILE!$G$7)","v":0},{"$f":"MAX(COUNTRY_INFO!D107*AK107*PROFILE!$G$8,COUNTRY_INFO!D107*AL107*PROFILE!$G$8,COUNTRY_INFO!D107*AM107*PROFILE!$G$8)","v":64365.72999544644},{"$f":"MAX(COUNTRY_INFO!D107*AK107*PROFILE!$G$9,COUNTRY_INFO!D107*AL107*PROFILE!$G$9,COUNTRY_INFO!D107*AM107*PROFILE!$G$9,IF(AND(DISTRICT!Z107<>\"Unknown\",Z107<>\"Not required\"),COUNTRY_INFO!O107*DISTRICT!AN107,0))","v":136890.57932456085},{"$f":"MAX(COUNTRY_INFO!D107*AK107*PROFILE!$G$10,COUNTRY_INFO!D107*AL107*PROFILE!$G$10,IF(AND(DISTRICT!Z107<>\"Unknown\",Z107<>\"Not required\"),COUNTRY_INFO!O107*DISTRICT!AO107,0))","v":6282.6129811121109},207538.9223011194,"Y",{"$f":"MAX('MDA2'!J107,'T1'!L107,'T2'!J107,T3_R1!K107,T3_R2!K107)","v":77114},{"$f":"MAX('MDA1'!K107,'MDA2'!K107,'MDA3'!I107,'MDA3'!L107,'T1'!M107,'T2'!K107,T3_R1!L107,T3_R2!L107)","v":81221},{"$f":"MAX('MDA1'!L107,'MDA2'!L107,'MDA3'!J107,'MDA3'!M107,'T1'!N107,'T2'!L107,T3_R1!M107,T3_R2!M107)","v":6808},165143,{"$f":"MAX('MDA2'!J107,T107)","v":64366},{"$f":"MAX('MDA1'!K107,'MDA2'!K107,'MDA3'!I107,'MDA3'!L107,V107,AD107)","v":81221},{"$f":"MAX('MDA1'!L107,'MDA2'!L107,'MDA3'!J107,'MDA3'!M107,AF107)","v":6808},152395,73.429599763888746]
[{"$f":"IF(COUNTRY_INFO!A108=0,\" \",COUNTRY_INFO!A108)","v":"Uganda"},{"$f":"IF(COUNTRY_INFO!B108=0,\" \",COUNTRY_INFO!B108)","v":"Western"},{"$f":"IF(COUNTRY_INFO!C108=0,\" \",COUNTRY_INFO!C108)","v":"Kanungu"},{"$f":"COUNTRY_INFO!L108","v":0},null,null,{"$f":"MAX('MDA1'!M108,'MDA2'!M108)","v":0},{"$f":"IF(AND(COUNTRY_INFO!H108>0,COUNTRY_INFO!H108<4),IF(D108>MAX('MDA1'!M108,'MDA2'!M108),MAX('MDA1'!M108,'MDA2'!M108),D108),0)","v":0},{"$f":"IF(AND(COUNTRY_INFO!H108>0,COUNTRY_INFO!H108<4), IF(G108/D108*100<>0, IF(G108/D108*100>100,100,G108/D108*100), \"-\"),0)","v":0},{"$f":"COUNTRY_INFO!M108","v":64166},null,null,{"$f":"MAX('MDA1'!M108,MAX('MDA3'!I108,'MDA3'!L108)+MAX('MDA3'!J108,'MDA3'!M108))","v":50715},{"$f":"IF(AND(COUNTRY_INFO!I108>0,COUNTRY_INFO!I108<4),IF(J108>MAX('MDA1'!M108,MAX('MDA3'!I108,'MDA3'!L108)+MAX('MDA3'!J108,'MDA3'!M108)),MAX('MDA1'!M108,MAX('MDA3'!I108,'MDA3'!L108)+MAX('MDA3'!J108,'MDA3'!M108)),J108),0)","v":50715},{"$f":"IF(AND(COUNTRY_INFO!I108>0,COUNTRY_INFO!I108<4), IF(M108/J108*100<>0, IF(M108/J108*100>100,100,M108/J108*100), \"-\"),0)","v":79.03718480192002},{"$f":"COUNTRY_INFO!N108","v":122440},null,null,{"$f":"SUM(MAX('MDA2'!J108, 'T1'!L108, MAX(T3_R1!K108, T3_R2!K108)), MAX('MDA1'!K108, 'MDA2'!K108, 'T1'!M108, MAX(T3_R1!L108, T3_R2!L108)), MAX('MDA1'!L108, 'MDA2'!L108, 'T1'!N108, MAX(T3_R1!M108, T3_R2!M108)))","v":138065},{"$f":"IF(AND(COUNTRY_INFO!J108>1,COUNTRY_INFO!J108<4),IF(COUNTRY_INFO!E108>MAX('MDA2'!J108,'T1'!L108,MAX(T3_R1!K108,T3_R2!K108)),MAX('MDA2'!J108,'T1'!L108,MAX(T3_R1!K108,T3_R2!K108)),COUNTRY_INFO!E108),0)","v":39159},{"$f":"IF(AND(COUNTRY_INFO!J108>1,COUNTRY_INFO!J108<4), IF(T108/COUNTRY_INFO!E108*100<>0, IF(T108/COUNTRY_INFO!E108*100>100,100,T108/COUNTRY_INFO!E108*100), \"-\"),0)","v":100},{"$f":"IF(AND(COUNTRY_INFO!J108>1,COUNTRY_INFO!J108<4),IF(COUNTRY_INFO!F108>MAX('MDA1'!K108,'MDA2'!K108,'T1'!M108,MAX(T3_R1!L108,T3_R2!L108)),MAX('MDA1'!K108,'MDA2'!K108,'T1'!M108,MAX(T3_R1!L108,T3_R2!L108)),COUNTRY_INFO!F108),0)","v":77394},{"$f":"IF(AND(COUNTRY_INFO!J108>1,COUNTRY_INFO!J108<4), IF(V108/COUNTRY_INFO!F108*100<>0, IF(V108/COUNTRY_INFO!F108*100>100,100,V108/COUNTRY_INFO!F108*100), \"-\"),0)","v":92.931160768962911},116553,{"$f":"IF(AND(COUNTRY_INFO!J108>1,COUNTRY_INFO!J108<4), IF(S108/P108*100<>0, IF(X108/P108*100>100,100,X108/P108*100), \"-\"),0)","v":95.191930741587711},{"$f":"COUNTRY_INFO!O108","v":0},null,null,{"$f":"MAX('T1'!L108,'T2'!J108)+MAX('T1'!M108,'T2'!K108)+MAX('T1'!N108,'T2'!L108)","v":0},{"$f":"IF(COUNTRY_INFO!K108=1,IF(COUNTRY_INFO!F108*0.33>MAX('T1'!M108,'T2'!K108),MAX('T1'!M108,'T2'!K108),COUNTRY_INFO!F108*0.33),IF(COUNTRY_INFO!K108=2,IF(COUNTRY_INFO!F108*0.5>MAX('T1'!M108,'T2'!K108),MAX('T1'!M108,'T2'!K108),COUNTRY_INFO!F108*0.5),IF(COUNTRY_INFO!K108=3,IF(COUNTRY_INFO!F108>MAX('T1'!M108,'T2'!K108),MAX('T1'!M108,'T2'!K108),COUNTRY_INFO!F108),0)))","v":0},{"$f":"IF(AND(COUNTRY_INFO!K108>0,COUNTRY_INFO!K108<4),IF(Z108>0,IF(COUNTRY_INFO!K108=1, AD108/(COUNTRY_INFO!F108*0.33)*100, IF(COUNTRY_INFO!K108=2, AD108/(COUNTRY_INFO!F108*0.5)*100, IF(COUNTRY_INFO!K108=3, AD108/COUNTRY_INFO!F108*100))),\"-\"),0)","v":0},{"$f":"IF(COUNTRY_INFO!K108=2,IF(COUNTRY_INFO!G108*0.2>MAX('T1'!N108,'T2'!L108),MAX('T1'!N108,'T2'!L108),COUNTRY_INFO!G108*0.2),IF(COUNTRY_INFO!K108=3,IF(COUNTRY_INFO!G108>MAX('T1'!N108,'T2'!L108),MAX('T1'!N108,'T2'!L108),COUNTRY_INFO!G108),0))","v":0},{"$f":"IF(AND(COUNTRY_INFO!K108>0,COUNTRY_INFO!K108<4),IF(Z108>0,IF(COUNTRY_INFO!K108=1, 0, IF(COUNTRY_INFO!K108=2, AF108/(COUNTRY_INFO!G108*0.2)*100, IF(COUNTRY_INFO!K108=3, AF108/COUNTRY_INFO!G108*100))),\"-\"),0)","v":0},0,{"$f":"IF(AND(COUNTRY_INFO!K108>0,COUNTRY_INFO!K108<4), IF(AC108/Z108*100<>0, IF(AH108/Z108*100>100,100,AH108/Z108*100), \"-\"),0)","v":0},null,{"$f":"IF(AND(D108<>0, D108<>\"Unknown\",D108<>\"Stopped\",D108<>\"Not required\"),D108/COUNTRY_INFO!D108, 0)","v":0},{"$f":"IF(AND(J108<>0,J108<>\"Unknown\",J108<>\"Stopped\",J108<>\"Not required\"),J108/COUNTRY_INFO!D108, 0)","v":0.23268362555074068},{"$f":"IF(AND(P108<>0,P108<>\"Unknown\",P108<>\"Not required\"),P108/(COUNTRY_INFO!E108+COUNTRY_INFO!F108), 0)","v":1},{"$f":"IF(AND(Z108<>0,Z108<>\"Unknown\",Z108<>\"Not required\"),IF(COUNTRY_INFO!K108=1,1,IF(COUNTRY_INFO!K108=2,0.5*COUNTRY_INFO!F108/(0.5*COUNTRY_INFO!F108+0.2*COUNTRY_INFO!G108),IF(COUNTRY_INFO!K108=3,COUNTRY_INFO!F108/(COUNTRY_INFO!F108+COUNTRY_INFO!G108)))),0)","v":0},{"$f":"IF(AND(Z108<>0,Z108<>\"Unknown\",Z108<>\"Not required\"),IF(COUNTRY_INFO!K108=1,0,IF(COUNTRY_INFO!K108=2,0.2*COUNTRY_INFO!G108/(0.5*COUNTRY_INFO!F108+0.2*COUNTRY_INFO!G108),IF(COUNTRY_INFO!K108=3,COUNTRY_INFO!G108/(COUNTRY_INFO!F108+COUNTRY_INFO!G108)))),0)","v":0},{"$f":"MAX(COUNTRY_INFO!D108*AK108*PROFILE!$G$7,COUNTRY_INFO!D108*AL108*PROFILE!$G$7)","v":2245.8159236814031},{"$f":"MAX(COUNTRY_INFO!D108*AK108*PROFILE!$G$8,COUNTRY_INFO!D108*AL108*PROFILE!$G$8,COUNTRY_INFO!D108*AM108*PROFILE!$G$8)","v":39158.611745928094},{"$f":"MAX(COUNTRY_INFO!D108*AK108*PROFILE!$G$9,COUNTRY_INFO!D108*AL108*PROFILE!$G$9,COUNTRY_INFO!D108*AM108*PROFILE!$G$9,IF(AND(DISTRICT!Z108<>\"Unknown\",Z108<>\"Not required\"),COUNTRY_INFO!O108*DISTRICT!AN108,0))","v":83281.041756612947},{"$f":"MAX(COUNTRY_INFO!D108*AK108*PROFILE!$G$10,COUNTRY_INFO!D108*AL108*PROFILE!$G$10,IF(AND(DISTRICT!Z108<>\"Unknown\",Z108<>\"Not required\"),COUNTRY_INFO!O108*DISTRICT!AO108,0))","v":33430.481588170907},158115.95101439336,"Y",{"$f":"MAX('MDA2'!J108,'T1'!L108,'T2'!J108,T3_R1!K108,T3_R2!K108)","v":60671},{"$f":"MAX('MDA1'!K108,'MDA2'!K108,'MDA3'!I108,'MDA3'!L108,'T1'!M108,'T2'!K108,T3_R1!L108,T3_R2!L108)","v":77394},{"$f":"MAX('MDA1'!L108,'MDA2'!L108,'MDA3'!J108,'MDA3'!M108,'T1'!N108,'T2'!L108,T3_R1!M108,T3_R2!M108)","v":32105},170170,{"$f":"MAX('MDA2'!J108,T108)","v":39159},{"$f":"MAX('MDA1'!K108,'MDA2'!K108,'MDA3'!I108,'MDA3'!L108,V108,AD108)","v":77394},{"$f":"MAX('MDA1'!L108,'MDA2'!L108,'MDA3'!J108,'MDA3'!M108,AF108)","v":32105},148658,94.018344794616965]
[{"$f":"IF(COUNTRY_INFO!A109=0,\" \",COUNTRY_INFO!A109)","v":"Uganda"},{"$f":"IF(COUNTRY_INFO!B109=0,\" \",COUNTRY_INFO!B109)","v":"Western"},{"$f":"IF(COUNTRY_INFO!C109=0,\" \",COUNTRY_INFO!C109)","v":"Kasese"},{"$f":"COUNTRY_INFO!L109","v":0},null,null,{"$f":"MAX('MDA1'!M109,'MDA2'!M109)","v":0},{"$f":"IF(AND(COUNTRY_INFO!H109>0,COUNTRY_INFO!H109<4),IF(D109>MAX('MDA1'!M109,'MDA2'!M109),MAX('MDA1'!M109,'MDA2'!M109),D109),0)","v":0},{"$f":"IF(AND(COUNTRY_INFO!H109>0,COUNTRY_INFO!H109<4), IF(G109/D109*100<>0, IF(G109/D109*100>100,100,G109/D109*100), \"-\"),0)","v":0},{"$f":"COUNTRY_INFO!M109","v":135046},null,null,{"$f":"MAX('MDA1'!M109,MAX('MDA3'!I109,'MDA3'!L109)+MAX('MDA3'!J109,'MDA3'!M109))","v":110423},{"$f":"IF(AND(COUNTRY_INFO!I109>0,COUNTRY_INFO!I109<4),IF(J109>MAX('MDA1'!M109,MAX('MDA3'!I109,'MDA3'!L109)+MAX('MDA3'!J109,'MDA3'!M109)),MAX('MDA1'!M109,MAX('MDA3'!I109,'MDA3'!L109)+MAX('MDA3'!J109,'MDA3'!M109)),J109),0)","v":110423},{"$f":"IF(AND(COUNTRY_INFO!I109>0,COUNTRY_INFO!I109<4), IF(M109/J109*100<>0, IF(M109/J109*100>100,100,M109/J109*100), \"-\"),0)","v":81.766953482517067},{"$f":"COUNTRY_INFO!N109","v":337484},null,null,{"$f":"SUM(MAX('MDA2'!J109, 'T1'!L109, MAX(T3_R1!K109, T3_R2!K109)), MAX('MDA1'!K109, 'MDA2'!K109, 'T1'!M109, MAX(T3_R1!L109, T3_R2!L109)), MAX('MDA1'!L109, 'MDA2'!L109, 'T1'!N109, MAX(T3_R1!M109, T3_R2!M109)))","v":140199},{"$f":"IF(AND(COUNTRY_INFO!J109>1,COUNTRY_INFO!J109<4),IF(COUNTRY_INFO!E109>MAX('MDA2'!J109,'T1'!L109,MAX(T3_R1!K109,T3_R2!K109)),MAX('MDA2'!J109,'T1'!L109,MAX(T3_R1!K109,T3_R2!K109)),COUNTRY_INFO!E109),0)","v":101803},{"$f":"IF(AND(COUNTRY_INFO!J109>1,COUNTRY_INFO!J109<4), IF(T109/COUNTRY_INFO!E109*100<>0, IF(T109/COUNTRY_INFO!E109*100>100,100,T109/COUNTRY_INFO!E109*100), \"-\"),0)","v":94.319676839550098},{"$f":"IF(AND(COUNTRY_INFO!J109>1,COUNTRY_INFO!J109<4),IF(COUNTRY_INFO!F109>MAX('MDA1'!K109,'MDA2'!K109,'T1'!M109,MAX(T3_R1!L109,T3_R2!L109)),MAX('MDA1'!K109,'MDA2'!K109,'T1'!M109,MAX(T3_R1!L109,T3_R2!L109)),COUNTRY_INFO!F109),0)","v":38396},{"$f":"IF(AND(COUNTRY_INFO!J109>1,COUNTRY_INFO!J109<4), IF(V109/COUNTRY_INFO!F109*100<>0, IF(V109/COUNTRY_INFO!F109*100>100,100,V109/COUNTRY_INFO!F109*100), \"-\"),0)","v":16.726639076453932},140199,{"$f":"IF(AND(COUNTRY_INFO!J109>1,COUNTRY_INFO!J109<4), IF(S109/P109*100<>0, IF(X109/P109*100>100,100,X109/P109*100), \"-\"),0)","v":41.542413862583118},{"$f":"COUNTRY_INFO!O109","v":11340},null,null,{"$f":"MAX('T1'!L109,'T2'!J109)+MAX('T1'!M109,'T2'!K109)+MAX('T1'!N109,'T2'!L109)","v":9793},{"$f":"IF(COUNTRY_INFO!K109=1,IF(COUNTRY_INFO!F109*0.33>MAX('T1'!M109,'T2'!K109),MAX('T1'!M109,'T2'!K109),COUNTRY_INFO!F109*0.33),IF(COUNTRY_INFO!K109=2,IF(COUNTRY_INFO!F109*0.5>MAX('T1'!M109,'T2'!K109),MAX('T1'!M109,'T2'!K109),COUNTRY_INFO!F109*0.5),IF(COUNTRY_INFO!K109=3,IF(COUNTRY_INFO!F109>MAX('T1'!M109,'T2'!K109),MAX('T1'!M109,'T2'!K109),COUNTRY_INFO!F109),0)))","v":3704},{"$f":"IF(AND(COUNTRY_INFO!K109>0,COUNTRY_INFO!K109<4),IF(Z109>0,IF(COUNTRY_INFO!K109=1, AD109/(COUNTRY_INFO!F109*0.33)*100, IF(COUNTRY_INFO!K109=2, AD109/(COUNTRY_INFO!F109*0.5)*100, IF(COUNTRY_INFO!K109=3, AD109/COUNTRY_INFO!F109*100))),\"-\"),0)","v":1.6135918100631672},{"$f":"IF(COUNTRY_INFO!K109=2,IF(COUNTRY_INFO!G109*0.2>MAX('T1'!N109,'T2'!L109),MAX('T1'!N109,'T2'!L109),COUNTRY_INFO!G109*0.2),IF(COUNTRY_INFO!K109=3,IF(COUNTRY_INFO!G109>MAX('T1'!N109,'T2'!L109),MAX('T1'!N109,'T2'!L109),COUNTRY_INFO!G109),0))","v":6089},{"$f":"IF(AND(COUNTRY_INFO!K109>0,COUNTRY_INFO!K109<4),IF(Z109>0,IF(COUNTRY_INFO!K109=1, 0, IF(COUNTRY_INFO!K109=2, AF109/(COUNTRY_INFO!G109*0.2)*100, IF(COUNTRY_INFO!K109=3, AF109/COUNTRY_INFO!G109*100))),\"-\"),0)","v":1.5375796693029504},9793,{"$f":"IF(AND(COUNTRY_INFO!K109>0,COUNTRY_INFO!K109<4), IF(AC109/Z109*100<>0, IF(AH109/Z109*100>100,100,AH109/Z109*100), \"-\"),0)","v":86.358024691358025},null,{"$f":"IF(AND(D109<>0, D109<>\"Unknown\",D109<>\"Stopped\",D109<>\"Not required\"),D109/COUNTRY_INFO!D109, 0)","v":0},{"$f":"IF(AND(J109<>0,J109<>\"Unknown\",J109<>\"Stopped\",J109<>\"Not required\"),J109/COUNTRY_INFO!D109, 0)","v":0.17766872779897383},{"$f":"IF(AND(P109<>0,P109<>\"Unknown\",P109<>\"Not required\"),P109/(COUNTRY_INFO!E109+COUNTRY_INFO!F109), 0)","v":1},{"$f":"IF(AND(Z109<>0,Z109<>\"Unknown\",Z109<>\"Not required\"),IF(COUNTRY_INFO!K109=1,1,IF(COUNTRY_INFO!K109=2,0.5*COUNTRY_INFO!F109/(0.5*COUNTRY_INFO!F109+0.2*COUNTRY_INFO!G109),IF(COUNTRY_INFO!K109=3,COUNTRY_INFO!F109/(COUNTRY_INFO!F109+COUNTRY_INFO!G109)))),0)","v":0.36695003852535801},{"$f":"IF(AND(Z109<>0,Z109<>\"Unknown\",Z109<>\"Not required\"),IF(COUNTRY_INFO!K109=1,0,IF(COUNTRY_INFO!K109=2,0.2*COUNTRY_INFO!G109/(0.5*COUNTRY_INFO!F109+0.2*COUNTRY_INFO!G109),IF(COUNTRY_INFO!K109=3,COUNTRY_INFO!G109/(COUNTRY_INFO!F109+COUNTRY_INFO!G109)))),0)","v":0.63304996147464199},{"$f":"MAX(COUNTRY_INFO!D109*AK109*PROFILE!$G$7,COUNTRY_INFO!D109*AL109*PROFILE!$G$7)","v":4726.6224671863401},{"$f":"MAX(COUNTRY_INFO!D109*AK109*PROFILE!$G$8,COUNTRY_INFO!D109*AL109*PROFILE!$G$8,COUNTRY_INFO!D109*AM109*PROFILE!$G$8)","v":107934.14968571046},{"$f":"MAX(COUNTRY_INFO!D109*AK109*PROFILE!$G$9,COUNTRY_INFO!D109*AL109*PROFILE!$G$9,COUNTRY_INFO!D109*AM109*PROFILE!$G$9,IF(AND(DISTRICT!Z109<>\"Unknown\",Z109<>\"Not required\"),COUNTRY_INFO!O109*DISTRICT!AN109,0))","v":229550.23240513302},{"$f":"MAX(COUNTRY_INFO!D109*AK109*PROFILE!$G$10,COUNTRY_INFO!D109*AL109*PROFILE!$G$10,IF(AND(DISTRICT!Z109<>\"Unknown\",Z109<>\"Not required\"),COUNTRY_INFO!O109*DISTRICT!AO109,0))","v":70358.956714710715},412569.9612727405,"Y",{"$f":"MAX('MDA2'!J109,'T1'!L109,'T2'!J109,T3_R1!K109,T3_R2!K109)","v":101803},{"$f":"MAX('MDA1'!K109,'MDA2'!K109,'MDA3'!I109,'MDA3'!L109,'T1'!M109,'T2'!K109,T3_R1!L109,T3_R2!L109)","v":40520},{"$f":"MAX('MDA1'!L109,'MDA2'!L109,'MDA3'!J109,'MDA3'!M109,'T1'!N109,'T2'!L109,T3_R1!M109,T3_R2!M109)","v":69903},212226,{"$f":"MAX('MDA2'!J109,T109)","v":101803},{"$f":"MAX('MDA1'!K109,'MDA2'!K109,'MDA3'!I109,'MDA3'!L109,V109,AD109)","v":40520},{"$f":"MAX('MDA1'!L109,'MDA2'!L109,'MDA3'!J109,'MDA3'!M109,AF109)","v":69903},212226,51.44000288952261]
[{"$f":"IF(COUNTRY_INFO!A110=0,\" \",COUNTRY_INFO!A110)","v":"Uganda"},{"$f":"IF(COUNTRY_INFO!B110=0,\" \",COUNTRY_INFO!B110)","v":"Western"},{"$f":"IF(COUNTRY_INFO!C110=0,\" \",COUNTRY_INFO!C110)","v":"Kibaale"},{"$f":"COUNTRY_INFO!L110","v":0},null,null,{"$f":"MAX('MDA1'!M110,'MDA2'!M110)","v":0},{"$f":"IF(AND(COUNTRY_INFO!H110>0,COUNTRY_INFO!H110<4),IF(D110>MAX('MDA1'!M110,'MDA2'!M110),MAX('MDA1'!M110,'MDA2'!M110),D110),0)","v":0},{"$f":"IF(AND(COUNTRY_INFO!H110>0,COUNTRY_INFO!H110<4), IF(G110/D110*100<>0, IF(G110/D110*100>100,100,G110/D110*100), \"-\"),0)","v":0},{"$f":"COUNTRY_INFO!M110","v":"Stopped"},null,null,{"$f":"MAX('MDA1'!M110,MAX('MDA3'!I110,'MDA3'!L110)+MAX('MDA3'!J110,'MDA3'!M110))","v":0},{"$f":"IF(AND(COUNTRY_INFO!I110>0,COUNTRY_INFO!I110<4),IF(J110>MAX('MDA1'!M110,MAX('MDA3'!I110,'MDA3'!L110)+MAX('MDA3'!J110,'MDA3'!M110)),MAX('MDA1'!M110,MAX('MDA3'!I110,'MDA3'!L110)+MAX('MDA3'!J110,'MDA3'!M110)),J110),0)","v":0},{"$f":"IF(AND(COUNTRY_INFO!I110>0,COUNTRY_INFO!I110<4), IF(M110/J110*100<>0, IF(M110/J110*100>100,100,M110/J110*100), \"-\"),0)","v":0},{"$f":"COUNTRY_INFO!N110","v":67479},null,null,{"$f":"SUM(MAX('MDA2'!J110, 'T1'!L110, MAX(T3_R1!K110, T3_R2!K110)), MAX('MDA1'!K110, 'MDA2'!K110, 'T1'!M110, MAX(T3_R1!L110, T3_R2!L110)), MAX('MDA1'!L110, 'MDA2'!L110, 'T1'!N110, MAX(T3_R1!M110, T3_R2!M110)))","v":77605},{"$f":"IF(AND(COUNTRY_INFO!J110>1,COUNTRY_INFO!J110<4),IF(COUNTRY_INFO!E110>MAX('MDA2'!J110,'T1'!L110,MAX(T3_R1!K110,T3_R2!K110)),MAX('MDA2'!J110,'T1'!L110,MAX(T3_R1!K110,T3_R2!K110)),COUNTRY_INFO!E110),0)","v":21581},{"$f":"IF(AND(COUNTRY_INFO!J110>1,COUNTRY_INFO!J110<4), IF(T110/COUNTRY_INFO!E110*100<>0, IF(T110/COUNTRY_INFO!E110*100>100,100,T110/COUNTRY_INFO!E110*100), \"-\"),0)","v":100},{"$f":"IF(AND(COUNTRY_INFO!J110>1,COUNTRY_INFO!J110<4),IF(COUNTRY_INFO!F110>MAX('MDA1'!K110,'MDA2'!K110,'T1'!M110,MAX(T3_R1!L110,T3_R2!L110)),MAX('MDA1'!K110,'MDA2'!K110,'T1'!M110,MAX(T3_R1!L110,T3_R2!L110)),COUNTRY_INFO!F110),0)","v":30950},{"$f":"IF(AND(COUNTRY_INFO!J110>1,COUNTRY_INFO!J110<4), IF(V110/COUNTRY_INFO!F110*100<>0, IF(V110/COUNTRY_INFO!F110*100>100,100,V110/COUNTRY_INFO!F110*100), \"-\"),0)","v":67.432132119046585},52531,{"$f":"IF(AND(COUNTRY_INFO!J110>1,COUNTRY_INFO!J110<4), IF(S110/P110*100<>0, IF(X110/P110*100>100,100,X110/P110*100), \"-\"),0)","v":77.847923057543838},{"$f":"COUNTRY_INFO!O110","v":0},null,null,{"$f":"MAX('T1'!L110,'T2'!J110)+MAX('T1'!M110,'T2'!K110)+MAX('T1'!N110,'T2'!L110)","v":0},{"$f":"IF(COUNTRY_INFO!K110=1,IF(COUNTRY_INFO!F110*0.33>MAX('T1'!M110,'T2'!K110),MAX('T1'!M110,'T2'!K110),COUNTRY_INFO!F110*0.33),IF(COUNTRY_INFO!K110=2,IF(COUNTRY_INFO!F110*0.5>MAX('T1'!M110,'T2'!K110),MAX('T1'!M110,'T2'!K110),COUNTRY_INFO!F110*0.5),IF(COUNTRY_INFO!K110=3,IF(COUNTRY_INFO!F110>MAX('T1'!M110,'T2'!K110),MAX('T1'!M110,'T2'!K110),COUNTRY_INFO!F110),0)))","v":0},{"$f":"IF(AND(COUNTRY_INFO!K110>0,COUNTRY_INFO!K110<4),IF(Z110>0,IF(COUNTRY_INFO!K110=1, AD110/(COUNTRY_INFO!F110*0.33)*100, IF(COUNTRY_INFO!K110=2, AD110/(COUNTRY_INFO!F110*0.5)*100, IF(COUNTRY_INFO!K110=3, AD110/COUNTRY_INFO!F110*100))),\"-\"),0)","v":0},{"$f":"IF(COUNTRY_INFO!K110=2,IF(COUNTRY_INFO!G110*0.2>MAX('T1'!N110,'T2'!L110),MAX('T1'!N110,'T2'!L110),COUNTRY_INFO!G110*0.2),IF(COUNTRY_INFO!K110=3,IF(COUNTRY_INFO!G110>MAX('T1'!N110,'T2'!L110),MAX('T1'!N110,'T2'!L110),COUNTRY_INFO!G110),0))","v":0},{"$f":"IF(AND(COUNTRY_INFO!K110>0,COUNTRY_INFO!K110<4),IF(Z110>0,IF(COUNTRY_INFO!K110=1, 0, IF(COUNTRY_INFO!K110=2, AF110/(COUNTRY_INFO!G110*0.2)*100, IF(COUNTRY_INFO!K110=3, AF110/COUNTRY_INFO!G110*100))),\"-\"),0)","v":0},0,{"$f":"IF(AND(COUNTRY_INFO!K110>0,COUNTRY_INFO!K110<4), IF(AC110/Z110*100<>0, IF(AH110/Z110*100>100,100,AH110/Z110*100), \"-\"),0)","v":0},null,{"$f":"IF(AND(D110<>0, D110<>\"Unknown\",D110<>\"Stopped\",D110<>\"Not required\"),D110/COUNTRY_INFO!D110, 0)","v":0},{"$f":"IF(AND(J110<>0,J110<>\"Unknown\",J110<>\"Stopped\",J110<>\"Not required\"),J110/COUNTRY_INFO!D110, 0)","v":0},{"$f":"IF(AND(P110<>0,P110<>\"Unknown\",P110<>\"Not required\"),P110/(COUNTRY_INFO!E110+COUNTRY_INFO!F110), 0)","v":1},{"$f":"IF(AND(Z110<>0,Z110<>\"Unknown\",Z110<>\"Not required\"),IF(COUNTRY_INFO!K110=1,1,IF(COUNTRY_INFO!K110=2,0.5*COUNTRY_INFO!F110/(0.5*COUNTRY_INFO!F110+0.2*COUNTRY_INFO!G110),IF(COUNTRY_INFO!K110=3,COUNTRY_INFO!F110/(COUNTRY_INFO!F110+COUNTRY_INFO!G110)))),0)","v":0},{"$f":"IF(AND(Z110<>0,Z110<>\"Unknown\",Z110<>\"Not required\"),IF(COUNTRY_INFO!K110=1,0,IF(COUNTRY_INFO!K110=2,0.2*COUNTRY_INFO!G110/(0.5*COUNTRY_INFO!F110+0.2*COUNTRY_INFO!G110),IF(COUNTRY_INFO!K110=3,COUNTRY_INFO!G110/(COUNTRY_INFO!F110+COUNTRY_INFO!G110)))),0)","v":0},{"$f":"MAX(COUNTRY_INFO!D110*AK110*PROFILE!$G$7,COUNTRY_INFO!D110*AL110*PROFILE!$G$7)","v":0},{"$f":"MAX(COUNTRY_INFO!D110*AK110*PROFILE!$G$8,COUNTRY_INFO!D110*AL110*PROFILE!$G$8,COUNTRY_INFO!D110*AM110*PROFILE!$G$8)","v":21581.007939856059},{"$f":"MAX(COUNTRY_INFO!D110*AK110*PROFILE!$G$9,COUNTRY_INFO!D110*AL110*PROFILE!$G$9,COUNTRY_INFO!D110*AM110*PROFILE!$G$9,IF(AND(DISTRICT!Z110<>\"Unknown\",Z110<>\"Not required\"),COUNTRY_INFO!O110*DISTRICT!AN110,0))","v":45897.664479278661},{"$f":"MAX(COUNTRY_INFO!D110*AK110*PROFILE!$G$10,COUNTRY_INFO!D110*AL110*PROFILE!$G$10,IF(AND(DISTRICT!Z110<>\"Unknown\",Z110<>\"Not required\"),COUNTRY_INFO!O110*DISTRICT!AO110,0))","v":0},67478.672419134717,"Y",{"$f":"MAX('MDA2'!J110,'T1'!L110,'T2'!J110,T3_R1!K110,T3_R2!K110)","v":46655},{"$f":"MAX('MDA1'!K110,'MDA2'!K110,'MDA3'!I110,'MDA3'!L110,'T1'!M110,'T2'!K110,T3_R1!L110,T3_R2!L110)","v":30950},{"$f":"MAX('MDA1'!L110,'MDA2'!L110,'MDA3'!J110,'MDA3'!M110,'T1'!N110,'T2'!L110,T3_R1!M110,T3_R2!M110)","v":0},77605,{"$f":"MAX('MDA2'!J110,T110)","v":21581},{"$f":"MAX('MDA1'!K110,'MDA2'!K110,'MDA3'!I110,'MDA3'!L110,V110,AD110)","v":30950},{"$f":"MAX('MDA1'!L110,'MDA2'!L110,'MDA3'!J110,'MDA3'!M110,AF110)","v":0},52531,77.848300976804566]
[{"$f":"IF(COUNTRY_INFO!A111=0,\" \",COUNTRY_INFO!A111)","v":"Uganda"},{"$f":"IF(COUNTRY_INFO!B111=0,\" \",COUNTRY_INFO!B111)","v":"Western"},{"$f":"IF(COUNTRY_INFO!C111=0,\" \",COUNTRY_INFO!C111)","v":"Kiruhura"},{"$f":"COUNTRY_INFO!L111","v":0},null,null,{"$f":"MAX('MDA1'!M111,'MDA2'!M111)","v":0},{"$f":"IF(AND(COUNTRY_INFO!H111>0,COUNTRY_INFO!H111<4),IF(D111>MAX('MDA1'!M111,'MDA2'!M111),MAX('MDA1'!M111,'MDA2'!M111),D111),0)","v":0},{"$f":"IF(AND(COUNTRY_INFO!H111>0,COUNTRY_INFO!H111<4), IF(G111/D111*100<>0, IF(G111/D111*100>100,100,G111/D111*100), \"-\"),0)","v":0},{"$f":"COUNTRY_INFO!M111","v":0},null,null,{"$f":"MAX('MDA1'!M111,MAX('MDA3'!I111,'MDA3'!L111)+MAX('MDA3'!J111,'MDA3'!M111))","v":0},{"$f":"IF(AND(COUNTRY_INFO!I111>0,COUNTRY_INFO!I111<4),IF(J111>MAX('MDA1'!M111,MAX('MDA3'!I111,'MDA3'!L111)+MAX('MDA3'!J111,'MDA3'!M111)),MAX('MDA1'!M111,MAX('MDA3'!I111,'MDA3'!L111)+MAX('MDA3'!J111,'MDA3'!M111)),J111),0)","v":0},{"$f":"IF(AND(COUNTRY_INFO!I111>0,COUNTRY_INFO!I111<4), IF(M111/J111*100<>0, IF(M111/J111*100>100,100,M111/J111*100), \"-\"),0)","v":0},{"$f":"COUNTRY_INFO!N111","v":159312},null,null,{"$f":"SUM(MAX('MDA2'!J111, 'T1'!L111, MAX(T3_R1!K111, T3_R2!K111)), MAX('MDA1'!K111, 'MDA2'!K111, 'T1'!M111, MAX(T3_R1!L111, T3_R2!L111)), MAX('MDA1'!L111, 'MDA2'!L111, 'T1'!N111, MAX(T3_R1!M111, T3_R2!M111)))","v":138964},{"$f":"IF(AND(COUNTRY_INFO!J111>1,COUNTRY_INFO!J111<4),IF(COUNTRY_INFO!E111>MAX('MDA2'!J111,'T1'!L111,MAX(T3_R1!K111,T3_R2!K111)),MAX('MDA2'!J111,'T1'!L111,MAX(T3_R1!K111,T3_R2!K111)),COUNTRY_INFO!E111),0)","v":50951},{"$f":"IF(AND(COUNTRY_INFO!J111>1,COUNTRY_INFO!J111<4), IF(T111/COUNTRY_INFO!E111*100<>0, IF(T111/COUNTRY_INFO!E111*100>100,100,T111/COUNTRY_INFO!E111*100), \"-\"),0)","v":100},{"$f":"IF(AND(COUNTRY_INFO!J111>1,COUNTRY_INFO!J111<4),IF(COUNTRY_INFO!F111>MAX('MDA1'!K111,'MDA2'!K111,'T1'!M111,MAX(T3_R1!L111,T3_R2!L111)),MAX('MDA1'!K111,'MDA2'!K111,'T1'!M111,MAX(T3_R1!L111,T3_R2!L111)),COUNTRY_INFO!F111),0)","v":48193},{"$f":"IF(AND(COUNTRY_INFO!J111>1,COUNTRY_INFO!J111<4), IF(V111/COUNTRY_INFO!F111*100<>0, IF(V111/COUNTRY_INFO!F111*100>100,100,V111/COUNTRY_INFO!F111*100), \"-\"),0)","v":44.474488053820096},99144,{"$f":"IF(AND(COUNTRY_INFO!J111>1,COUNTRY_INFO!J111<4), IF(S111/P111*100<>0, IF(X111/P111*100>100,100,X111/P111*100), \"-\"),0)","v":62.232600180777339},{"$f":"COUNTRY_INFO!O111","v":30772},null,null,{"$f":"MAX('T1'!L111,'T2'!J111)+MAX('T1'!M111,'T2'!K111)+MAX('T1'!N111,'T2'!L111)","v":29919},{"$f":"IF(COUNTRY_INFO!K111=1,IF(COUNTRY_INFO!F111*0.33>MAX('T1'!M111,'T2'!K111),MAX('T1'!M111,'T2'!K111),COUNTRY_INFO!F111*0.33),IF(COUNTRY_INFO!K111=2,IF(COUNTRY_INFO!F111*0.5>MAX('T1'!M111,'T2'!K111),MAX('T1'!M111,'T2'!K111),COUNTRY_INFO!F111*0.5),IF(COUNTRY_INFO!K111=3,IF(COUNTRY_INFO!F111>MAX('T1'!M111,'T2'!K111),MAX('T1'!M111,'T2'!K111),COUNTRY_INFO!F111),0)))","v":29919},{"$f":"IF(AND(COUNTRY_INFO!K111>0,COUNTRY_INFO!K111<4),IF(Z111>0,IF(COUNTRY_INFO!K111=1, AD111/(COUNTRY_INFO!F111*0.33)*100, IF(COUNTRY_INFO!K111=2, AD111/(COUNTRY_INFO!F111*0.5)*100, IF(COUNTRY_INFO!K111=3, AD111/COUNTRY_INFO!F111*100))),\"-\"),0)","v":83.668142933007587},{"$f":"IF(COUNTRY_INFO!K111=2,IF(COUNTRY_INFO!G111*0.2>MAX('T1'!N111,'T2'!L111),MAX('T1'!N111,'T2'!L111),COUNTRY_INFO!G111*0.2),IF(COUNTRY_INFO!K111=3,IF(COUNTRY_INFO!G111>MAX('T1'!N111,'T2'!L111),MAX('T1'!N111,'T2'!L111),COUNTRY_INFO!G111),0))","v":0},{"$f":"IF(AND(COUNTRY_INFO!K111>0,COUNTRY_INFO!K111<4),IF(Z111>0,IF(COUNTRY_INFO!K111=1, 0, IF(COUNTRY_INFO!K111=2, AF111/(COUNTRY_INFO!G111*0.2)*100, IF(COUNTRY_INFO!K111=3, AF111/COUNTRY_INFO!G111*100))),\"-\"),0)","v":0},29919,{"$f":"IF(AND(COUNTRY_INFO!K111>0,COUNTRY_INFO!K111<4), IF(AC111/Z111*100<>0, IF(AH111/Z111*100>100,100,AH111/Z111*100), \"-\"),0)","v":97.227999480046805},null,{"$f":"IF(AND(D111<>0, D111<>\"Unknown\",D111<>\"Stopped\",D111<>\"Not required\"),D111/COUNTRY_INFO!D111, 0)","v":0},{"$f":"IF(AND(J111<>0,J111<>\"Unknown\",J111<>\"Stopped\",J111<>\"Not required\"),J111/COUNTRY_INFO!D111, 0)","v":0},{"$f":"IF(AND(P111<>0,P111<>\"Unknown\",P111<>\"Not required\"),P111/(COUNTRY_INFO!E111+COUNTRY_INFO!F111), 0)","v":1},{"$f":"IF(AND(Z111<>0,Z111<>\"Unknown\",Z111<>\"Not required\"),IF(COUNTRY_INFO!K111=1,1,IF(COUNTRY_INFO!K111=2,0.5*COUNTRY_INFO!F111/(0.5*COUNTRY_INFO!F111+0.2*COUNTRY_INFO!G111),IF(COUNTRY_INFO!K111=3,COUNTRY_INFO!F111/(COUNTRY_INFO!F111+COUNTRY_INFO!G111)))),0)","v":1},{"$f":"IF(AND(Z111<>0,Z111<>\"Unknown\",Z111<>\"Not required\"),IF(COUNTRY_INFO!K111=1,0,IF(COUNTRY_INFO!K111=2,0.2*COUNTRY_INFO!G111/(0.5*COUNTRY_INFO!F111+0.2*COUNTRY_INFO!G111),IF(COUNTRY_INFO!K111=3,COUNTRY_INFO!G111/(COUNTRY_INFO!F111+COUNTRY_INFO!G111)))),0)","v":0},{"$f":"MAX(COUNTRY_INFO!D111*AK111*PROFILE!$G$7,COUNTRY_INFO!D111*AL111*PROFILE!$G$7)","v":0},{"$f":"MAX(COUNTRY_INFO!D111*AK111*PROFILE!$G$8,COUNTRY_INFO!D111*AL111*PROFILE!$G$8,COUNTRY_INFO!D111*AM111*PROFILE!$G$8)","v":50951.280248689836},{"$f":"MAX(COUNTRY_INFO!D111*AK111*PROFILE!$G$9,COUNTRY_INFO!D111*AL111*PROFILE!$G$9,COUNTRY_INFO!D111*AM111*PROFILE!$G$9,IF(AND(DISTRICT!Z111<>\"Unknown\",Z111<>\"Not required\"),COUNTRY_INFO!O111*DISTRICT!AN111,0))","v":108361.23929713272},{"$f":"MAX(COUNTRY_INFO!D111*AK111*PROFILE!$G$10,COUNTRY_INFO!D111*AL111*PROFILE!$G$10,IF(AND(DISTRICT!Z111<>\"Unknown\",Z111<>\"Not required\"),COUNTRY_INFO!O111*DISTRICT!AO111,0))","v":0},159312.51954582255,"Y",{"$f":"MAX('MDA2'!J111,'T1'!L111,'T2'!J111,T3_R1!K111,T3_R2!K111)","v":90771},{"$f":"MAX('MDA1'!K111,'MDA2'!K111,'MDA3'!I111,'MDA3'!L111,'T1'!M111,'T2'!K111,T3_R1!L111,T3_R2!L111)","v":48193},{"$f":"MAX('MDA1'!L111,'MDA2'!L111,'MDA3'!J111,'MDA3'!M111,'T1'!N111,'T2'!L111,T3_R1!M111,T3_R2!M111)","v":0},138964,{"$f":"MAX('MDA2'!J111,T111)","v":50951},{"$f":"MAX('MDA1'!K111,'MDA2'!K111,'MDA3'!I111,'MDA3'!L111,V111,AD111)","v":48193},{"$f":"MAX('MDA1'!L111,'MDA2'!L111,'MDA3'!J111,'MDA3'!M111,AF111)","v":0},99144,62.232397229449077]
[{"$f":"IF(COUNTRY_INFO!A112=0,\" \",COUNTRY_INFO!A112)","v":"Uganda"},{"$f":"IF(COUNTRY_INFO!B112=0,\" \",COUNTRY_INFO!B112)","v":"Western"},{"$f":"IF(COUNTRY_INFO!C112=0,\" \",COUNTRY_INFO!C112)","v":"Kiryandongo"},{"$f":"COUNTRY_INFO!L112","v":0},null,null,{"$f":"MAX('MDA1'!M112,'MDA2'!M112)","v":0},{"$f":"IF(AND(COUNTRY_INFO!H112>0,COUNTRY_INFO!H112<4),IF(D112>MAX('MDA1'!M112,'MDA2'!M112),MAX('MDA1'!M112,'MDA2'!M112),D112),0)","v":0},{"$f":"IF(AND(COUNTRY_INFO!H112>0,COUNTRY_INFO!H112<4), IF(G112/D112*100<>0, IF(G112/D112*100>100,100,G112/D112*100), \"-\"),0)","v":0},{"$f":"COUNTRY_INFO!M112","v":0},null,null,{"$f":"MAX('MDA1'!M112,MAX('MDA3'!I112,'MDA3'!L112)+MAX('MDA3'!J112,'MDA3'!M112))","v":0},{"$f":"IF(AND(COUNTRY_INFO!I112>0,COUNTRY_INFO!I112<4),IF(J112>MAX('MDA1'!M112,MAX('MDA3'!I112,'MDA3'!L112)+MAX('MDA3'!J112,'MDA3'!M112)),MAX('MDA1'!M112,MAX('MDA3'!I112,'MDA3'!L112)+MAX('MDA3'!J112,'MDA3'!M112)),J112),0)","v":0},{"$f":"IF(AND(COUNTRY_INFO!I112>0,COUNTRY_INFO!I112<4), IF(M112/J112*100<>0, IF(M112/J112*100>100,100,M112/J112*100), \"-\"),0)","v":0},{"$f":"COUNTRY_INFO!N112","v":129264},null,null,{"$f":"SUM(MAX('MDA2'!J112, 'T1'!L112, MAX(T3_R1!K112, T3_R2!K112)), MAX('MDA1'!K112, 'MDA2'!K112, 'T1'!M112, MAX(T3_R1!L112, T3_R2!L112)), MAX('MDA1'!L112, 'MDA2'!L112, 'T1'!N112, MAX(T3_R1!M112, T3_R2!M112)))","v":105334},{"$f":"IF(AND(COUNTRY_INFO!J112>1,COUNTRY_INFO!J112<4),IF(COUNTRY_INFO!E112>MAX('MDA2'!J112,'T1'!L112,MAX(T3_R1!K112,T3_R2!K112)),MAX('MDA2'!J112,'T1'!L112,MAX(T3_R1!K112,T3_R2!K112)),COUNTRY_INFO!E112),0)","v":41341},{"$f":"IF(AND(COUNTRY_INFO!J112>1,COUNTRY_INFO!J112<4), IF(T112/COUNTRY_INFO!E112*100<>0, IF(T112/COUNTRY_INFO!E112*100>100,100,T112/COUNTRY_INFO!E112*100), \"-\"),0)","v":100},{"$f":"IF(AND(COUNTRY_INFO!J112>1,COUNTRY_INFO!J112<4),IF(COUNTRY_INFO!F112>MAX('MDA1'!K112,'MDA2'!K112,'T1'!M112,MAX(T3_R1!L112,T3_R2!L112)),MAX('MDA1'!K112,'MDA2'!K112,'T1'!M112,MAX(T3_R1!L112,T3_R2!L112)),COUNTRY_INFO!F112),0)","v":46251},{"$f":"IF(AND(COUNTRY_INFO!J112>1,COUNTRY_INFO!J112<4), IF(V112/COUNTRY_INFO!F112*100<>0, IF(V112/COUNTRY_INFO!F112*100>100,100,V112/COUNTRY_INFO!F112*100), \"-\"),0)","v":52.603983030606329},87592,{"$f":"IF(AND(COUNTRY_INFO!J112>1,COUNTRY_INFO!J112<4), IF(S112/P112*100<>0, IF(X112/P112*100>100,100,X112/P112*100), \"-\"),0)","v":67.762099269711598},{"$f":"COUNTRY_INFO!O112","v":72052},null,null,{"$f":"MAX('T1'!L112,'T2'!J112)+MAX('T1'!M112,'T2'!K112)+MAX('T1'!N112,'T2'!L112)","v":69261},{"$f":"IF(COUNTRY_INFO!K112=1,IF(COUNTRY_INFO!F112*0.33>MAX('T1'!M112,'T2'!K112),MAX('T1'!M112,'T2'!K112),COUNTRY_INFO!F112*0.33),IF(COUNTRY_INFO!K112=2,IF(COUNTRY_INFO!F112*0.5>MAX('T1'!M112,'T2'!K112),MAX('T1'!M112,'T2'!K112),COUNTRY_INFO!F112*0.5),IF(COUNTRY_INFO!K112=3,IF(COUNTRY_INFO!F112>MAX('T1'!M112,'T2'!K112),MAX('T1'!M112,'T2'!K112),COUNTRY_INFO!F112),0)))","v":36790},{"$f":"IF(AND(COUNTRY_INFO!K112>0,COUNTRY_INFO!K112<4),IF(Z112>0,IF(COUNTRY_INFO!K112=1, AD112/(COUNTRY_INFO!F112*0.33)*100, IF(COUNTRY_INFO!K112=2, AD112/(COUNTRY_INFO!F112*0.5)*100, IF(COUNTRY_INFO!K112=3, AD112/COUNTRY_INFO!F112*100))),\"-\"),0)","v":41.843431184104276},{"$f":"IF(COUNTRY_INFO!K112=2,IF(COUNTRY_INFO!G112*0.2>MAX('T1'!N112,'T2'!L112),MAX('T1'!N112,'T2'!L112),COUNTRY_INFO!G112*0.2),IF(COUNTRY_INFO!K112=3,IF(COUNTRY_INFO!G112>MAX('T1'!N112,'T2'!L112),MAX('T1'!N112,'T2'!L112),COUNTRY_INFO!G112),0))","v":32471},{"$f":"IF(AND(COUNTRY_INFO!K112>0,COUNTRY_INFO!K112<4),IF(Z112>0,IF(COUNTRY_INFO!K112=1, 0, IF(COUNTRY_INFO!K112=2, AF112/(COUNTRY_INFO!G112*0.2)*100, IF(COUNTRY_INFO!K112=3, AF112/COUNTRY_INFO!G112*100))),\"-\"),0)","v":21.407427429935193},69261,{"$f":"IF(AND(COUNTRY_INFO!K112>0,COUNTRY_INFO!K112<4), IF(AC112/Z112*100<>0, IF(AH112/Z112*100>100,100,AH112/Z112*100), \"-\"),0)","v":96.1264087048243},null,{"$f":"IF(AND(D112<>0, D112<>\"Unknown\",D112<>\"Stopped\",D112<>\"Not required\"),D112/COUNTRY_INFO!D112, 0)","v":0},{"$f":"IF(AND(J112<>0,J112<>\"Unknown\",J112<>\"Stopped\",J112<>\"Not required\"),J112/COUNTRY_INFO!D112, 0)","v":0},{"$f":"IF(AND(P112<>0,P112<>\"Unknown\",P112<>\"Not required\"),P112/(COUNTRY_INFO!E112+COUNTRY_INFO!F112), 0)","v":1},{"$f":"IF(AND(Z112<>0,Z112<>\"Unknown\",Z112<>\"Not required\"),IF(COUNTRY_INFO!K112=1,1,IF(COUNTRY_INFO!K112=2,0.5*COUNTRY_INFO!F112/(0.5*COUNTRY_INFO!F112+0.2*COUNTRY_INFO!G112),IF(COUNTRY_INFO!K112=3,COUNTRY_INFO!F112/(COUNTRY_INFO!F112+COUNTRY_INFO!G112)))),0)","v":0.36695130298325568},{"$f":"IF(AND(Z112<>0,Z112<>\"Unknown\",Z112<>\"Not required\"),IF(COUNTRY_INFO!K112=1,0,IF(COUNTRY_INFO!K112=2,0.2*COUNTRY_INFO!G112/(0.5*COUNTRY_INFO!F112+0.2*COUNTRY_INFO!G112),IF(COUNTRY_INFO!K112=3,COUNTRY_INFO!G112/(COUNTRY_INFO!F112+COUNTRY_INFO!G112)))),0)","v":0.63304869701674427},{"$f":"MAX(COUNTRY_INFO!D112*AK112*PROFILE!$G$7,COUNTRY_INFO!D112*AL112*PROFILE!$G$7)","v":0},{"$f":"MAX(COUNTRY_INFO!D112*AK112*PROFILE!$G$8,COUNTRY_INFO!D112*AL112*PROFILE!$G$8,COUNTRY_INFO!D112*AM112*PROFILE!$G$8)","v":41341.150728521665},{"$f":"MAX(COUNTRY_INFO!D112*AK112*PROFILE!$G$9,COUNTRY_INFO!D112*AL112*PROFILE!$G$9,COUNTRY_INFO!D112*AM112*PROFILE!$G$9,IF(AND(DISTRICT!Z112<>\"Unknown\",Z112<>\"Not required\"),COUNTRY_INFO!O112*DISTRICT!AN112,0))","v":87922.78241187791},{"$f":"MAX(COUNTRY_INFO!D112*AK112*PROFILE!$G$10,COUNTRY_INFO!D112*AL112*PROFILE!$G$10,IF(AND(DISTRICT!Z112<>\"Unknown\",Z112<>\"Not required\"),COUNTRY_INFO!O112*DISTRICT!AO112,0))","v":45612.424717450456},174876.35785785003,"Y",{"$f":"MAX('MDA2'!J112,'T1'!L112,'T2'!J112,T3_R1!K112,T3_R2!K112)","v":59083},{"$f":"MAX('MDA1'!K112,'MDA2'!K112,'MDA3'!I112,'MDA3'!L112,'T1'!M112,'T2'!K112,T3_R1!L112,T3_R2!L112)","v":46251},{"$f":"MAX('MDA1'!L112,'MDA2'!L112,'MDA3'!J112,'MDA3'!M112,'T1'!N112,'T2'!L112,T3_R1!M112,T3_R2!M112)","v":32471},137805,{"$f":"MAX('MDA2'!J112,T112)","v":41341},{"$f":"MAX('MDA1'!K112,'MDA2'!K112,'MDA3'!I112,'MDA3'!L112,V112,AD112)","v":46251},{"$f":"MAX('MDA1'!L112,'MDA2'!L112,'MDA3'!J112,'MDA3'!M112,AF112)","v":32471},120063,68.655935811285815]
[{"$f":"IF(COUNTRY_INFO!A113=0,\" \",COUNTRY_INFO!A113)","v":"Uganda"},{"$f":"IF(COUNTRY_INFO!B113=0,\" \",COUNTRY_INFO!B113)","v":"Western"},{"$f":"IF(COUNTRY_INFO!C113=0,\" \",COUNTRY_INFO!C113)","v":"Kisoro"},{"$f":"COUNTRY_INFO!L113","v":0},null,null,{"$f":"MAX('MDA1'!M113,'MDA2'!M113)","v":0},{"$f":"IF(AND(COUNTRY_INFO!H113>0,COUNTRY_INFO!H113<4),IF(D113>MAX('MDA1'!M113,'MDA2'!M113),MAX('MDA1'!M113,'MDA2'!M113),D113),0)","v":0},{"$f":"IF(AND(COUNTRY_INFO!H113>0,COUNTRY_INFO!H113<4), IF(G113/D113*100<>0, IF(G113/D113*100>100,100,G113/D113*100), \"-\"),0)","v":0},{"$f":"COUNTRY_INFO!M113","v":41024},null,null,{"$f":"MAX('MDA1'!M113,MAX('MDA3'!I113,'MDA3'!L113)+MAX('MDA3'!J113,'MDA3'!M113))","v":31724},{"$f":"IF(AND(COUNTRY_INFO!I113>0,COUNTRY_INFO!I113<4),IF(J113>MAX('MDA1'!M113,MAX('MDA3'!I113,'MDA3'!L113)+MAX('MDA3'!J113,'MDA3'!M113)),MAX('MDA1'!M113,MAX('MDA3'!I113,'MDA3'!L113)+MAX('MDA3'!J113,'MDA3'!M113)),J113),0)","v":31724},{"$f":"IF(AND(COUNTRY_INFO!I113>0,COUNTRY_INFO!I113<4), IF(M113/J113*100<>0, IF(M113/J113*100>100,100,M113/J113*100), \"-\"),0)","v":77.330343213728554},{"$f":"COUNTRY_INFO!N113","v":136795},null,null,{"$f":"SUM(MAX('MDA2'!J113, 'T1'!L113, MAX(T3_R1!K113, T3_R2!K113)), MAX('MDA1'!K113, 'MDA2'!K113, 'T1'!M113, MAX(T3_R1!L113, T3_R2!L113)), MAX('MDA1'!L113, 'MDA2'!L113, 'T1'!N113, MAX(T3_R1!M113, T3_R2!M113)))","v":27945},{"$f":"IF(AND(COUNTRY_INFO!J113>1,COUNTRY_INFO!J113<4),IF(COUNTRY_INFO!E113>MAX('MDA2'!J113,'T1'!L113,MAX(T3_R1!K113,T3_R2!K113)),MAX('MDA2'!J113,'T1'!L113,MAX(T3_R1!K113,T3_R2!K113)),COUNTRY_INFO!E113),0)","v":16683},{"$f":"IF(AND(COUNTRY_INFO!J113>1,COUNTRY_INFO!J113<4), IF(T113/COUNTRY_INFO!E113*100<>0, IF(T113/COUNTRY_INFO!E113*100>100,100,T113/COUNTRY_INFO!E113*100), \"-\"),0)","v":38.132571428571424},{"$f":"IF(AND(COUNTRY_INFO!J113>1,COUNTRY_INFO!J113<4),IF(COUNTRY_INFO!F113>MAX('MDA1'!K113,'MDA2'!K113,'T1'!M113,MAX(T3_R1!L113,T3_R2!L113)),MAX('MDA1'!K113,'MDA2'!K113,'T1'!M113,MAX(T3_R1!L113,T3_R2!L113)),COUNTRY_INFO!F113),0)","v":11262},{"$f":"IF(AND(COUNTRY_INFO!J113>1,COUNTRY_INFO!J113<4), IF(V113/COUNTRY_INFO!F113*100<>0, IF(V113/COUNTRY_INFO!F113*100>100,100,V113/COUNTRY_INFO!F113*100), \"-\"),0)","v":12.103820731903918},27945,{"$f":"IF(AND(COUNTRY_INFO!J113>1,COUNTRY_INFO!J113<4), IF(S113/P113*100<>0, IF(X113/P113*100>100,100,X113/P113*100), \"-\"),0)","v":20.428378230198472},{"$f":"COUNTRY_INFO!O113","v":0},null,null,{"$f":"MAX('T1'!L113,'T2'!J113)+MAX('T1'!M113,'T2'!K113)+MAX('T1'!N113,'T2'!L113)","v":0},{"$f":"IF(COUNTRY_INFO!K113=1,IF(COUNTRY_INFO!F113*0.33>MAX('T1'!M113,'T2'!K113),MAX('T1'!M113,'T2'!K113),COUNTRY_INFO!F113*0.33),IF(COUNTRY_INFO!K113=2,IF(COUNTRY_INFO!F113*0.5>MAX('T1'!M113,'T2'!K113),MAX('T1'!M113,'T2'!K113),COUNTRY_INFO!F113*0.5),IF(COUNTRY_INFO!K113=3,IF(COUNTRY_INFO!F113>MAX('T1'!M113,'T2'!K113),MAX('T1'!M113,'T2'!K113),COUNTRY_INFO!F113),0)))","v":0},{"$f":"IF(AND(COUNTRY_INFO!K113>0,COUNTRY_INFO!K113<4),IF(Z113>0,IF(COUNTRY_INFO!K113=1, AD113/(COUNTRY_INFO!F113*0.33)*100, IF(COUNTRY_INFO!K113=2, AD113/(COUNTRY_INFO!F113*0.5)*100, IF(COUNTRY_INFO!K113=3, AD113/COUNTRY_INFO!F113*100))),\"-\"),0)","v":0},{"$f":"IF(COUNTRY_INFO!K113=2,IF(COUNTRY_INFO!G113*0.2>MAX('T1'!N113,'T2'!L113),MAX('T1'!N113,'T2'!L113),COUNTRY_INFO!G113*0.2),IF(COUNTRY_INFO!K113=3,IF(COUNTRY_INFO!G113>MAX('T1'!N113,'T2'!L113),MAX('T1'!N113,'T2'!L113),COUNTRY_INFO!G113),0))","v":0},{"$f":"IF(AND(COUNTRY_INFO!K113>0,COUNTRY_INFO!K113<4),IF(Z113>0,IF(COUNTRY_INFO!K113=1, 0, IF(COUNTRY_INFO!K113=2, AF113/(COUNTRY_INFO!G113*0.2)*100, IF(COUNTRY_INFO!K113=3, AF113/COUNTRY_INFO!G113*100))),\"-\"),0)","v":0},0,{"$f":"IF(AND(COUNTRY_INFO!K113>0,COUNTRY_INFO!K113<4), IF(AC113/Z113*100<>0, IF(AH113/Z113*100>100,100,AH113/Z113*100), \"-\"),0)","v":0},null,{"$f":"IF(AND(D113<>0, D113<>\"Unknown\",D113<>\"Stopped\",D113<>\"Not required\"),D113/COUNTRY_INFO!D113, 0)","v":0},{"$f":"IF(AND(J113<>0,J113<>\"Unknown\",J113<>\"Stopped\",J113<>\"Not required\"),J113/COUNTRY_INFO!D113, 0)","v":0.13315330286663896},{"$f":"IF(AND(P113<>0,P113<>\"Unknown\",P113<>\"Not required\"),P113/(COUNTRY_INFO!E113+COUNTRY_INFO!F113), 0)","v":1},{"$f":"IF(AND(Z113<>0,Z113<>\"Unknown\",Z113<>\"Not required\"),IF(COUNTRY_INFO!K113=1,1,IF(COUNTRY_INFO!K113=2,0.5*COUNTRY_INFO!F113/(0.5*COUNTRY_INFO!F113+0.2*COUNTRY_INFO!G113),IF(COUNTRY_INFO!K113=3,COUNTRY_INFO!F113/(COUNTRY_INFO!F113+COUNTRY_INFO!G113)))),0)","v":0},{"$f":"IF(AND(Z113<>0,Z113<>\"Unknown\",Z113<>\"Not required\"),IF(COUNTRY_INFO!K113=1,0,IF(COUNTRY_INFO!K113=2,0.2*COUNTRY_INFO!G113/(0.5*COUNTRY_INFO!F113+0.2*COUNTRY_INFO!G113),IF(COUNTRY_INFO!K113=3,COUNTRY_INFO!G113/(COUNTRY_INFO!F113+COUNTRY_INFO!G113)))),0)","v":0},{"$f":"MAX(COUNTRY_INFO!D113*AK113*PROFILE!$G$7,COUNTRY_INFO!D113*AL113*PROFILE!$G$7)","v":1435.8437872565821},{"$f":"MAX(COUNTRY_INFO!D113*AK113*PROFILE!$G$8,COUNTRY_INFO!D113*AL113*PROFILE!$G$8,COUNTRY_INFO!D113*AM113*PROFILE!$G$8)","v":43749.611605800092},{"$f":"MAX(COUNTRY_INFO!D113*AK113*PROFILE!$G$9,COUNTRY_INFO!D113*AL113*PROFILE!$G$9,COUNTRY_INFO!D113*AM113*PROFILE!$G$9,IF(AND(DISTRICT!Z113<>\"Unknown\",Z113<>\"Not required\"),COUNTRY_INFO!O113*DISTRICT!AN113,0))","v":93045.005134971536},{"$f":"MAX(COUNTRY_INFO!D113*AK113*PROFILE!$G$10,COUNTRY_INFO!D113*AL113*PROFILE!$G$10,IF(AND(DISTRICT!Z113<>\"Unknown\",Z113<>\"Not required\"),COUNTRY_INFO!O113*DISTRICT!AO113,0))","v":21373.501179333649},159603.96170736186,"Y",{"$f":"MAX('MDA2'!J113,'T1'!L113,'T2'!J113,T3_R1!K113,T3_R2!K113)","v":16683},{"$f":"MAX('MDA1'!K113,'MDA2'!K113,'MDA3'!I113,'MDA3'!L113,'T1'!M113,'T2'!K113,T3_R1!L113,T3_R2!L113)","v":11641},{"$f":"MAX('MDA1'!L113,'MDA2'!L113,'MDA3'!J113,'MDA3'!M113,'T1'!N113,'T2'!L113,T3_R1!M113,T3_R2!M113)","v":20083},48407,{"$f":"MAX('MDA2'!J113,T113)","v":16683},{"$f":"MAX('MDA1'!K113,'MDA2'!K113,'MDA3'!I113,'MDA3'!L113,V113,AD113)","v":11641},{"$f":"MAX('MDA1'!L113,'MDA2'!L113,'MDA3'!J113,'MDA3'!M113,AF113)","v":20083},48407,30.329447641629052]
[{"$f":"IF(COUNTRY_INFO!A114=0,\" \",COUNTRY_INFO!A114)","v":"Uganda"},{"$f":"IF(COUNTRY_INFO!B114=0,\" \",COUNTRY_INFO!B114)","v":"Western"},{"$f":"IF(COUNTRY_INFO!C114=0,\" \",COUNTRY_INFO!C114)","v":"Kyegegwa"},{"$f":"COUNTRY_INFO!L114","v":0},null,null,{"$f":"MAX('MDA1'!M114,'MDA2'!M114)","v":0},{"$f":"IF(AND(COUNTRY_INFO!H114>0,COUNTRY_INFO!H114<4),IF(D114>MAX('MDA1'!M114,'MDA2'!M114),MAX('MDA1'!M114,'MDA2'!M114),D114),0)","v":0},{"$f":"IF(AND(COUNTRY_INFO!H114>0,COUNTRY_INFO!H114<4), IF(G114/D114*100<>0, IF(G114/D114*100>100,100,G114/D114*100), \"-\"),0)","v":0},{"$f":"COUNTRY_INFO!M114","v":0},null,null,{"$f":"MAX('MDA1'!M114,MAX('MDA3'!I114,'MDA3'!L114)+MAX('MDA3'!J114,'MDA3'!M114))","v":0},{"$f":"IF(AND(COUNTRY_INFO!I114>0,COUNTRY_INFO!I114<4),IF(J114>MAX('MDA1'!M114,MAX('MDA3'!I114,'MDA3'!L114)+MAX('MDA3'!J114,'MDA3'!M114)),MAX('MDA1'!M114,MAX('MDA3'!I114,'MDA3'!L114)+MAX('MDA3'!J114,'MDA3'!M114)),J114),0)","v":0},{"$f":"IF(AND(COUNTRY_INFO!I114>0,COUNTRY_INFO!I114<4), IF(M114/J114*100<>0, IF(M114/J114*100>100,100,M114/J114*100), \"-\"),0)","v":0},{"$f":"COUNTRY_INFO!N114","v":136762},null,null,{"$f":"SUM(MAX('MDA2'!J114, 'T1'!L114, MAX(T3_R1!K114, T3_R2!K114)), MAX('MDA1'!K114, 'MDA2'!K114, 'T1'!M114, MAX(T3_R1!L114, T3_R2!L114)), MAX('MDA1'!L114, 'MDA2'!L114, 'T1'!N114, MAX(T3_R1!M114, T3_R2!M114)))","v":43808},{"$f":"IF(AND(COUNTRY_INFO!J114>1,COUNTRY_INFO!J114<4),IF(COUNTRY_INFO!E114>MAX('MDA2'!J114,'T1'!L114,MAX(T3_R1!K114,T3_R2!K114)),MAX('MDA2'!J114,'T1'!L114,MAX(T3_R1!K114,T3_R2!K114)),COUNTRY_INFO!E114),0)","v":18427},{"$f":"IF(AND(COUNTRY_INFO!J114>1,COUNTRY_INFO!J114<4), IF(T114/COUNTRY_INFO!E114*100<>0, IF(T114/COUNTRY_INFO!E114*100>100,100,T114/COUNTRY_INFO!E114*100), \"-\"),0)","v":42.129449690207828},{"$f":"IF(AND(COUNTRY_INFO!J114>1,COUNTRY_INFO!J114<4),IF(COUNTRY_INFO!F114>MAX('MDA1'!K114,'MDA2'!K114,'T1'!M114,MAX(T3_R1!L114,T3_R2!L114)),MAX('MDA1'!K114,'MDA2'!K114,'T1'!M114,MAX(T3_R1!L114,T3_R2!L114)),COUNTRY_INFO!F114),0)","v":25381},{"$f":"IF(AND(COUNTRY_INFO!J114>1,COUNTRY_INFO!J114<4), IF(V114/COUNTRY_INFO!F114*100<>0, IF(V114/COUNTRY_INFO!F114*100>100,100,V114/COUNTRY_INFO!F114*100), \"-\"),0)","v":27.284650032787589},43808,{"$f":"IF(AND(COUNTRY_INFO!J114>1,COUNTRY_INFO!J114<4), IF(S114/P114*100<>0, IF(X114/P114*100>100,100,X114/P114*100), \"-\"),0)","v":32.03228967110747},{"$f":"COUNTRY_INFO!O114","v":0},null,null,{"$f":"MAX('T1'!L114,'T2'!J114)+MAX('T1'!M114,'T2'!K114)+MAX('T1'!N114,'T2'!L114)","v":0},{"$f":"IF(COUNTRY_INFO!K114=1,IF(COUNTRY_INFO!F114*0.33>MAX('T1'!M114,'T2'!K114),MAX('T1'!M114,'T2'!K114),COUNTRY_INFO!F114*0.33),IF(COUNTRY_INFO!K114=2,IF(COUNTRY_INFO!F114*0.5>MAX('T1'!M114,'T2'!K114),MAX('T1'!M114,'T2'!K114),COUNTRY_INFO!F114*0.5),IF(COUNTRY_INFO!K114=3,IF(COUNTRY_INFO!F114>MAX('T1'!M114,'T2'!K114),MAX('T1'!M114,'T2'!K114),COUNTRY_INFO!F114),0)))","v":0},{"$f":"IF(AND(COUNTRY_INFO!K114>0,COUNTRY_INFO!K114<4),IF(Z114>0,IF(COUNTRY_INFO!K114=1, AD114/(COUNTRY_INFO!F114*0.33)*100, IF(COUNTRY_INFO!K114=2, AD114/(COUNTRY_INFO!F114*0.5)*100, IF(COUNTRY_INFO!K114=3, AD114/COUNTRY_INFO!F114*100))),\"-\"),0)","v":0},{"$f":"IF(COUNTRY_INFO!K114=2,IF(COUNTRY_INFO!G114*0.2>MAX('T1'!N114,'T2'!L114),MAX('T1'!N114,'T2'!L114),COUNTRY_INFO!G114*0.2),IF(COUNTRY_INFO!K114=3,IF(COUNTRY_INFO!G114>MAX('T1'!N114,'T2'!L114),MAX('T1'!N114,'T2'!L114),COUNTRY_INFO!G114),0))","v":0},{"$f":"IF(AND(COUNTRY_INFO!K114>0,COUNTRY_INFO!K114<4),IF(Z114>0,IF(COUNTRY_INFO!K114=1, 0, IF(COUNTRY_INFO!K114=2, AF114/(COUNTRY_INFO!G114*0.2)*100, IF(COUNTRY_INFO!K114=3, AF114/COUNTRY_INFO!G114*100))),\"-\"),0)","v":0},0,{"$f":"IF(AND(COUNTRY_INFO!K114>0,COUNTRY_INFO!K114<4), IF(AC114/Z114*100<>0, IF(AH114/Z114*100>100,100,AH114/Z114*100), \"-\"),0)","v":0},null,{"$f":"IF(AND(D114<>0, D114<>\"Unknown\",D114<>\"Stopped\",D114<>\"Not required\"),D114/COUNTRY_INFO!D114, 0)","v":0},{"$f":"IF(AND(J114<>0,J114<>\"Unknown\",J114<>\"Stopped\",J114<>\"Not required\"),J114/COUNTRY_INFO!D114, 0)","v":0},{"$f":"IF(AND(P114<>0,P114<>\"Unknown\",P114<>\"Not required\"),P114/(COUNTRY_INFO!E114+COUNTRY_INFO!F114), 0)","v":1},{"$f":"IF(AND(Z114<>0,Z114<>\"Unknown\",Z114<>\"Not required\"),IF(COUNTRY_INFO!K114=1,1,IF(COUNTRY_INFO!K114=2,0.5*COUNTRY_INFO!F114/(0.5*COUNTRY_INFO!F114+0.2*COUNTRY_INFO!G114),IF(COUNTRY_INFO!K114=3,COUNTRY_INFO!F114/(COUNTRY_INFO!F114+COUNTRY_INFO!G114)))),0)","v":0},{"$f":"IF(AND(Z114<>0,Z114<>\"Unknown\",Z114<>\"Not required\"),IF(COUNTRY_INFO!K114=1,0,IF(COUNTRY_INFO!K114=2,0.2*COUNTRY_INFO!G114/(0.5*COUNTRY_INFO!F114+0.2*COUNTRY_INFO!G114),IF(COUNTRY_INFO!K114=3,COUNTRY_INFO!G114/(COUNTRY_INFO!F114+COUNTRY_INFO!G114)))),0)","v":0},{"$f":"MAX(COUNTRY_INFO!D114*AK114*PROFILE!$G$7,COUNTRY_INFO!D114*AL114*PROFILE!$G$7)","v":0},{"$f":"MAX(COUNTRY_INFO!D114*AK114*PROFILE!$G$8,COUNTRY_INFO!D114*AL114*PROFILE!$G$8,COUNTRY_INFO!D114*AM114*PROFILE!$G$8)","v":43739.103610698468},{"$f":"MAX(COUNTRY_INFO!D114*AK114*PROFILE!$G$9,COUNTRY_INFO!D114*AL114*PROFILE!$G$9,COUNTRY_INFO!D114*AM114*PROFILE!$G$9,IF(AND(DISTRICT!Z114<>\"Unknown\",Z114<>\"Not required\"),COUNTRY_INFO!O114*DISTRICT!AN114,0))","v":93022.657131816712},{"$f":"MAX(COUNTRY_INFO!D114*AK114*PROFILE!$G$10,COUNTRY_INFO!D114*AL114*PROFILE!$G$10,IF(AND(DISTRICT!Z114<>\"Unknown\",Z114<>\"Not required\"),COUNTRY_INFO!O114*DISTRICT!AO114,0))","v":0},136761.76074251518,"Y",{"$f":"MAX('MDA2'!J114,'T1'!L114,'T2'!J114,T3_R1!K114,T3_R2!K114)","v":18427},{"$f":"MAX('MDA1'!K114,'MDA2'!K114,'MDA3'!I114,'MDA3'!L114,'T1'!M114,'T2'!K114,T3_R1!L114,T3_R2!L114)","v":25381},{"$f":"MAX('MDA1'!L114,'MDA2'!L114,'MDA3'!J114,'MDA3'!M114,'T1'!N114,'T2'!L114,T3_R1!M114,T3_R2!M114)","v":0},43808,{"$f":"MAX('MDA2'!J114,T114)","v":18427},{"$f":"MAX('MDA1'!K114,'MDA2'!K114,'MDA3'!I114,'MDA3'!L114,V114,AD114)","v":25381},{"$f":"MAX('MDA1'!L114,'MDA2'!L114,'MDA3'!J114,'MDA3'!M114,AF114)","v":0},43808,32.032345709908213]
[{"$f":"IF(COUNTRY_INFO!A115=0,\" \",COUNTRY_INFO!A115)","v":"Uganda"},{"$f":"IF(COUNTRY_INFO!B115=0,\" \",COUNTRY_INFO!B115)","v":"Western"},{"$f":"IF(COUNTRY_INFO!C115=0,\" \",COUNTRY_INFO!C115)","v":"Kyenjojo"},{"$f":"COUNTRY_INFO!L115","v":0},null,null,{"$f":"MAX('MDA1'!M115,'MDA2'!M115)","v":0},{"$f":"IF(AND(COUNTRY_INFO!H115>0,COUNTRY_INFO!H115<4),IF(D115>MAX('MDA1'!M115,'MDA2'!M115),MAX('MDA1'!M115,'MDA2'!M115),D115),0)","v":0},{"$f":"IF(AND(COUNTRY_INFO!H115>0,COUNTRY_INFO!H115<4), IF(G115/D115*100<>0, IF(G115/D115*100>100,100,G115/D115*100), \"-\"),0)","v":0},{"$f":"COUNTRY_INFO!M115","v":"Stopped"},null,null,{"$f":"MAX('MDA1'!M115,MAX('MDA3'!I115,'MDA3'!L115)+MAX('MDA3'!J115,'MDA3'!M115))","v":0},{"$f":"IF(AND(COUNTRY_INFO!I115>0,COUNTRY_INFO!I115<4),IF(J115>MAX('MDA1'!M115,MAX('MDA3'!I115,'MDA3'!L115)+MAX('MDA3'!J115,'MDA3'!M115)),MAX('MDA1'!M115,MAX('MDA3'!I115,'MDA3'!L115)+MAX('MDA3'!J115,'MDA3'!M115)),J115),0)","v":0},{"$f":"IF(AND(COUNTRY_INFO!I115>0,COUNTRY_INFO!I115<4), IF(M115/J115*100<>0, IF(M115/J115*100>100,100,M115/J115*100), \"-\"),0)","v":0},{"$f":"COUNTRY_INFO!N115","v":205020},null,null,{"$f":"SUM(MAX('MDA2'!J115, 'T1'!L115, MAX(T3_R1!K115, T3_R2!K115)), MAX('MDA1'!K115, 'MDA2'!K115, 'T1'!M115, MAX(T3_R1!L115, T3_R2!L115)), MAX('MDA1'!L115, 'MDA2'!L115, 'T1'!N115, MAX(T3_R1!M115, T3_R2!M115)))","v":146744},{"$f":"IF(AND(COUNTRY_INFO!J115>1,COUNTRY_INFO!J115<4),IF(COUNTRY_INFO!E115>MAX('MDA2'!J115,'T1'!L115,MAX(T3_R1!K115,T3_R2!K115)),MAX('MDA2'!J115,'T1'!L115,MAX(T3_R1!K115,T3_R2!K115)),COUNTRY_INFO!E115),0)","v":65569},{"$f":"IF(AND(COUNTRY_INFO!J115>1,COUNTRY_INFO!J115<4), IF(T115/COUNTRY_INFO!E115*100<>0, IF(T115/COUNTRY_INFO!E115*100>100,100,T115/COUNTRY_INFO!E115*100), \"-\"),0)","v":100},{"$f":"IF(AND(COUNTRY_INFO!J115>1,COUNTRY_INFO!J115<4),IF(COUNTRY_INFO!F115>MAX('MDA1'!K115,'MDA2'!K115,'T1'!M115,MAX(T3_R1!L115,T3_R2!L115)),MAX('MDA1'!K115,'MDA2'!K115,'T1'!M115,MAX(T3_R1!L115,T3_R2!L115)),COUNTRY_INFO!F115),0)","v":57153},{"$f":"IF(AND(COUNTRY_INFO!J115>1,COUNTRY_INFO!J115<4), IF(V115/COUNTRY_INFO!F115*100<>0, IF(V115/COUNTRY_INFO!F115*100>100,100,V115/COUNTRY_INFO!F115*100), \"-\"),0)","v":40.984288388035935},122722,{"$f":"IF(AND(COUNTRY_INFO!J115>1,COUNTRY_INFO!J115<4), IF(S115/P115*100<>0, IF(X115/P115*100>100,100,X115/P115*100), \"-\"),0)","v":59.858550385328257},{"$f":"COUNTRY_INFO!O115","v":0},null,null,{"$f":"MAX('T1'!L115,'T2'!J115)+MAX('T1'!M115,'T2'!K115)+MAX('T1'!N115,'T2'!L115)","v":0},{"$f":"IF(COUNTRY_INFO!K115=1,IF(COUNTRY_INFO!F115*0.33>MAX('T1'!M115,'T2'!K115),MAX('T1'!M115,'T2'!K115),COUNTRY_INFO!F115*0.33),IF(COUNTRY_INFO!K115=2,IF(COUNTRY_INFO!F115*0.5>MAX('T1'!M115,'T2'!K115),MAX('T1'!M115,'T2'!K115),COUNTRY_INFO!F115*0.5),IF(COUNTRY_INFO!K115=3,IF(COUNTRY_INFO!F115>MAX('T1'!M115,'T2'!K115),MAX('T1'!M115,'T2'!K115),COUNTRY_INFO!F115),0)))","v":0},{"$f":"IF(AND(COUNTRY_INFO!K115>0,COUNTRY_INFO!K115<4),IF(Z115>0,IF(COUNTRY_INFO!K115=1, AD115/(COUNTRY_INFO!F115*0.33)*100, IF(COUNTRY_INFO!K115=2, AD115/(COUNTRY_INFO!F115*0.5)*100, IF(COUNTRY_INFO!K115=3, AD115/COUNTRY_INFO!F115*100))),\"-\"),0)","v":0},{"$f":"IF(COUNTRY_INFO!K115=2,IF(COUNTRY_INFO!G115*0.2>MAX('T1'!N115,'T2'!L115),MAX('T1'!N115,'T2'!L115),COUNTRY_INFO!G115*0.2),IF(COUNTRY_INFO!K115=3,IF(COUNTRY_INFO!G115>MAX('T1'!N115,'T2'!L115),MAX('T1'!N115,'T2'!L115),COUNTRY_INFO!G115),0))","v":0},{"$f":"IF(AND(COUNTRY_INFO!K115>0,COUNTRY_INFO!K115<4),IF(Z115>0,IF(COUNTRY_INFO!K115=1, 0, IF(COUNTRY_INFO!K115=2, AF115/(COUNTRY_INFO!G115*0.2)*100, IF(COUNTRY_INFO!K115=3, AF115/COUNTRY_INFO!G115*100))),\"-\"),0)","v":0},0,{"$f":"IF(AND(COUNTRY_INFO!K115>0,COUNTRY_INFO!K115<4), IF(AC115/Z115*100<>0, IF(AH115/Z115*100>100,100,AH115/Z115*100), \"-\"),0)","v":0},null,{"$f":"IF(AND(D115<>0, D115<>\"Unknown\",D115<>\"Stopped\",D115<>\"Not required\"),D115/COUNTRY_INFO!D115, 0)","v":0},{"$f":"IF(AND(J115<>0,J115<>\"Unknown\",J115<>\"Stopped\",J115<>\"Not required\"),J115/COUNTRY_INFO!D115, 0)","v":0},{"$f":"IF(AND(P115<>0,P115<>\"Unknown\",P115<>\"Not required\"),P115/(COUNTRY_INFO!E115+COUNTRY_INFO!F115), 0)","v":1},{"$f":"IF(AND(Z115<>0,Z115<>\"Unknown\",Z115<>\"Not required\"),IF(COUNTRY_INFO!K115=1,1,IF(COUNTRY_INFO!K115=2,0.5*COUNTRY_INFO!F115/(0.5*COUNTRY_INFO!F115+0.2*COUNTRY_INFO!G115),IF(COUNTRY_INFO!K115=3,COUNTRY_INFO!F115/(COUNTRY_INFO!F115+COUNTRY_INFO!G115)))),0)","v":0},{"$f":"IF(AND(Z115<>0,Z115<>\"Unknown\",Z115<>\"Not required\"),IF(COUNTRY_INFO!K115=1,0,IF(COUNTRY_INFO!K115=2,0.2*COUNTRY_INFO!G115/(0.5*COUNTRY_INFO!F115+0.2*COUNTRY_INFO!G115),IF(COUNTRY_INFO!K115=3,COUNTRY_INFO!G115/(COUNTRY_INFO!F115+COUNTRY_INFO!G115)))),0)","v":0},{"$f":"MAX(COUNTRY_INFO!D115*AK115*PROFILE!$G$7,COUNTRY_INFO!D115*AL115*PROFILE!$G$7)","v":0},{"$f":"MAX(COUNTRY_INFO!D115*AK115*PROFILE!$G$8,COUNTRY_INFO!D115*AL115*PROFILE!$G$8,COUNTRY_INFO!D115*AM115*PROFILE!$G$8)","v":65569.463434317338},{"$f":"MAX(COUNTRY_INFO!D115*AK115*PROFILE!$G$9,COUNTRY_INFO!D115*AL115*PROFILE!$G$9,COUNTRY_INFO!D115*AM115*PROFILE!$G$9,IF(AND(DISTRICT!Z115<>\"Unknown\",Z115<>\"Not required\"),COUNTRY_INFO!O115*DISTRICT!AN115,0))","v":139450.63368595843},{"$f":"MAX(COUNTRY_INFO!D115*AK115*PROFILE!$G$10,COUNTRY_INFO!D115*AL115*PROFILE!$G$10,IF(AND(DISTRICT!Z115<>\"Unknown\",Z115<>\"Not required\"),COUNTRY_INFO!O115*DISTRICT!AO115,0))","v":0},205020.09712027578,"Y",{"$f":"MAX('MDA2'!J115,'T1'!L115,'T2'!J115,T3_R1!K115,T3_R2!K115)","v":89591},{"$f":"MAX('MDA1'!K115,'MDA2'!K115,'MDA3'!I115,'MDA3'!L115,'T1'!M115,'T2'!K115,T3_R1!L115,T3_R2!L115)","v":57153},{"$f":"MAX('MDA1'!L115,'MDA2'!L115,'MDA3'!J115,'MDA3'!M115,'T1'!N115,'T2'!L115,T3_R1!M115,T3_R2!M115)","v":0},146744,{"$f":"MAX('MDA2'!J115,T115)","v":65569},{"$f":"MAX('MDA1'!K115,'MDA2'!K115,'MDA3'!I115,'MDA3'!L115,V115,AD115)","v":57153},{"$f":"MAX('MDA1'!L115,'MDA2'!L115,'MDA3'!J115,'MDA3'!M115,AF115)","v":0},122722,59.858522029674333]
[{"$f":"IF(COUNTRY_INFO!A116=0,\" \",COUNTRY_INFO!A116)","v":"Uganda"},{"$f":"IF(COUNTRY_INFO!B116=0,\" \",COUNTRY_INFO!B116)","v":"Western"},{"$f":"IF(COUNTRY_INFO!C116=0,\" \",COUNTRY_INFO!C116)","v":"Masindi"},{"$f":"COUNTRY_INFO!L116","v":0},null,null,{"$f":"MAX('MDA1'!M116,'MDA2'!M116)","v":0},{"$f":"IF(AND(COUNTRY_INFO!H116>0,COUNTRY_INFO!H116<4),IF(D116>MAX('MDA1'!M116,'MDA2'!M116),MAX('MDA1'!M116,'MDA2'!M116),D116),0)","v":0},{"$f":"IF(AND(COUNTRY_INFO!H116>0,COUNTRY_INFO!H116<4), IF(G116/D116*100<>0, IF(G116/D116*100>100,100,G116/D116*100), \"-\"),0)","v":0},{"$f":"COUNTRY_INFO!M116","v":54001},null,null,{"$f":"MAX('MDA1'!M116,MAX('MDA3'!I116,'MDA3'!L116)+MAX('MDA3'!J116,'MDA3'!M116))","v":43799},{"$f":"IF(AND(COUNTRY_INFO!I116>0,COUNTRY_INFO!I116<4),IF(J116>MAX('MDA1'!M116,MAX('MDA3'!I116,'MDA3'!L116)+MAX('MDA3'!J116,'MDA3'!M116)),MAX('MDA1'!M116,MAX('MDA3'!I116,'MDA3'!L116)+MAX('MDA3'!J116,'MDA3'!M116)),J116),0)","v":43799},{"$f":"IF(AND(COUNTRY_INFO!I116>0,COUNTRY_INFO!I116<4), IF(M116/J116*100<>0, IF(M116/J116*100>100,100,M116/J116*100), \"-\"),0)","v":81.10775726375438},{"$f":"COUNTRY_INFO!N116","v":141363},null,null,{"$f":"SUM(MAX('MDA2'!J116, 'T1'!L116, MAX(T3_R1!K116, T3_R2!K116)), MAX('MDA1'!K116, 'MDA2'!K116, 'T1'!M116, MAX(T3_R1!L116, T3_R2!L116)), MAX('MDA1'!L116, 'MDA2'!L116, 'T1'!N116, MAX(T3_R1!M116, T3_R2!M116)))","v":48215},{"$f":"IF(AND(COUNTRY_INFO!J116>1,COUNTRY_INFO!J116<4),IF(COUNTRY_INFO!E116>MAX('MDA2'!J116,'T1'!L116,MAX(T3_R1!K116,T3_R2!K116)),MAX('MDA2'!J116,'T1'!L116,MAX(T3_R1!K116,T3_R2!K116)),COUNTRY_INFO!E116),0)","v":18808},{"$f":"IF(AND(COUNTRY_INFO!J116>1,COUNTRY_INFO!J116<4), IF(T116/COUNTRY_INFO!E116*100<>0, IF(T116/COUNTRY_INFO!E116*100>100,100,T116/COUNTRY_INFO!E116*100), \"-\"),0)","v":41.600495454645994},{"$f":"IF(AND(COUNTRY_INFO!J116>1,COUNTRY_INFO!J116<4),IF(COUNTRY_INFO!F116>MAX('MDA1'!K116,'MDA2'!K116,'T1'!M116,MAX(T3_R1!L116,T3_R2!L116)),MAX('MDA1'!K116,'MDA2'!K116,'T1'!M116,MAX(T3_R1!L116,T3_R2!L116)),COUNTRY_INFO!F116),0)","v":29407},{"$f":"IF(AND(COUNTRY_INFO!J116>1,COUNTRY_INFO!J116<4), IF(V116/COUNTRY_INFO!F116*100<>0, IF(V116/COUNTRY_INFO!F116*100>100,100,V116/COUNTRY_INFO!F116*100), \"-\"),0)","v":30.583867210250439},48215,{"$f":"IF(AND(COUNTRY_INFO!J116>1,COUNTRY_INFO!J116<4), IF(S116/P116*100<>0, IF(X116/P116*100>100,100,X116/P116*100), \"-\"),0)","v":34.107227492342403},{"$f":"COUNTRY_INFO!O116","v":0},null,null,{"$f":"MAX('T1'!L116,'T2'!J116)+MAX('T1'!M116,'T2'!K116)+MAX('T1'!N116,'T2'!L116)","v":0},{"$f":"IF(COUNTRY_INFO!K116=1,IF(COUNTRY_INFO!F116*0.33>MAX('T1'!M116,'T2'!K116),MAX('T1'!M116,'T2'!K116),COUNTRY_INFO!F116*0.33),IF(COUNTRY_INFO!K116=2,IF(COUNTRY_INFO!F116*0.5>MAX('T1'!M116,'T2'!K116),MAX('T1'!M116,'T2'!K116),COUNTRY_INFO!F116*0.5),IF(COUNTRY_INFO!K116=3,IF(COUNTRY_INFO!F116>MAX('T1'!M116,'T2'!K116),MAX('T1'!M116,'T2'!K116),COUNTRY_INFO!F116),0)))","v":0},{"$f":"IF(AND(COUNTRY_INFO!K116>0,COUNTRY_INFO!K116<4),IF(Z116>0,IF(COUNTRY_INFO!K116=1, AD116/(COUNTRY_INFO!F116*0.33)*100, IF(COUNTRY_INFO!K116=2, AD116/(COUNTRY_INFO!F116*0.5)*100, IF(COUNTRY_INFO!K116=3, AD116/COUNTRY_INFO!F116*100))),\"-\"),0)","v":0},{"$f":"IF(COUNTRY_INFO!K116=2,IF(COUNTRY_INFO!G116*0.2>MAX('T1'!N116,'T2'!L116),MAX('T1'!N116,'T2'!L116),COUNTRY_INFO!G116*0.2),IF(COUNTRY_INFO!K116=3,IF(COUNTRY_INFO!G116>MAX('T1'!N116,'T2'!L116),MAX('T1'!N116,'T2'!L116),COUNTRY_INFO!G116),0))","v":0},{"$f":"IF(AND(COUNTRY_INFO!K116>0,COUNTRY_INFO!K116<4),IF(Z116>0,IF(COUNTRY_INFO!K116=1, 0, IF(COUNTRY_INFO!K116=2, AF116/(COUNTRY_INFO!G116*0.2)*100, IF(COUNTRY_INFO!K116=3, AF116/COUNTRY_INFO!G116*100))),\"-\"),0)","v":0},0,{"$f":"IF(AND(COUNTRY_INFO!K116>0,COUNTRY_INFO!K116<4), IF(AC116/Z116*100<>0, IF(AH116/Z116*100>100,100,AH116/Z116*100), \"-\"),0)","v":0},null,{"$f":"IF(AND(D116<>0, D116<>\"Unknown\",D116<>\"Stopped\",D116<>\"Not required\"),D116/COUNTRY_INFO!D116, 0)","v":0},{"$f":"IF(AND(J116<>0,J116<>\"Unknown\",J116<>\"Stopped\",J116<>\"Not required\"),J116/COUNTRY_INFO!D116, 0)","v":0.16960912103271197},{"$f":"IF(AND(P116<>0,P116<>\"Unknown\",P116<>\"Not required\"),P116/(COUNTRY_INFO!E116+COUNTRY_INFO!F116), 0)","v":1},{"$f":"IF(AND(Z116<>0,Z116<>\"Unknown\",Z116<>\"Not required\"),IF(COUNTRY_INFO!K116=1,1,IF(COUNTRY_INFO!K116=2,0.5*COUNTRY_INFO!F116/(0.5*COUNTRY_INFO!F116+0.2*COUNTRY_INFO!G116),IF(COUNTRY_INFO!K116=3,COUNTRY_INFO!F116/(COUNTRY_INFO!F116+COUNTRY_INFO!G116)))),0)","v":0},{"$f":"IF(AND(Z116<>0,Z116<>\"Unknown\",Z116<>\"Not required\"),IF(COUNTRY_INFO!K116=1,0,IF(COUNTRY_INFO!K116=2,0.2*COUNTRY_INFO!G116/(0.5*COUNTRY_INFO!F116+0.2*COUNTRY_INFO!G116),IF(COUNTRY_INFO!K116=3,COUNTRY_INFO!G116/(COUNTRY_INFO!F116+COUNTRY_INFO!G116)))),0)","v":0},{"$f":"MAX(COUNTRY_INFO!D116*AK116*PROFILE!$G$7,COUNTRY_INFO!D116*AL116*PROFILE!$G$7)","v":1890.0399852682017},{"$f":"MAX(COUNTRY_INFO!D116*AK116*PROFILE!$G$8,COUNTRY_INFO!D116*AL116*PROFILE!$G$8,COUNTRY_INFO!D116*AM116*PROFILE!$G$8)","v":45210.648924726913},{"$f":"MAX(COUNTRY_INFO!D116*AK116*PROFILE!$G$9,COUNTRY_INFO!D116*AL116*PROFILE!$G$9,COUNTRY_INFO!D116*AM116*PROFILE!$G$9,IF(AND(DISTRICT!Z116<>\"Unknown\",Z116<>\"Not required\"),COUNTRY_INFO!O116*DISTRICT!AN116,0))","v":96152.283573619628},{"$f":"MAX(COUNTRY_INFO!D116*AK116*PROFILE!$G$10,COUNTRY_INFO!D116*AL116*PROFILE!$G$10,IF(AND(DISTRICT!Z116<>\"Unknown\",Z116<>\"Not required\"),COUNTRY_INFO!O116*DISTRICT!AO116,0))","v":28134.517287080649},171387.48977069539,"Y",{"$f":"MAX('MDA2'!J116,'T1'!L116,'T2'!J116,T3_R1!K116,T3_R2!K116)","v":18808},{"$f":"MAX('MDA1'!K116,'MDA2'!K116,'MDA3'!I116,'MDA3'!L116,'T1'!M116,'T2'!K116,T3_R1!L116,T3_R2!L116)","v":29407},{"$f":"MAX('MDA1'!L116,'MDA2'!L116,'MDA3'!J116,'MDA3'!M116,'T1'!N116,'T2'!L116,T3_R1!M116,T3_R2!M116)","v":27727},75942,{"$f":"MAX('MDA2'!J116,T116)","v":18808},{"$f":"MAX('MDA1'!K116,'MDA2'!K116,'MDA3'!I116,'MDA3'!L116,V116,AD116)","v":29407},{"$f":"MAX('MDA1'!L116,'MDA2'!L116,'MDA3'!J116,'MDA3'!M116,AF116)","v":27727},75942,44.310118609943551]
[{"$f":"IF(COUNTRY_INFO!A117=0,\" \",COUNTRY_INFO!A117)","v":"Uganda"},{"$f":"IF(COUNTRY_INFO!B117=0,\" \",COUNTRY_INFO!B117)","v":"Western"},{"$f":"IF(COUNTRY_INFO!C117=0,\" \",COUNTRY_INFO!C117)","v":"Mbarara"},{"$f":"COUNTRY_INFO!L117","v":0},null,null,{"$f":"MAX('MDA1'!M117,'MDA2'!M117)","v":0},{"$f":"IF(AND(COUNTRY_INFO!H117>0,COUNTRY_INFO!H117<4),IF(D117>MAX('MDA1'!M117,'MDA2'!M117),MAX('MDA1'!M117,'MDA2'!M117),D117),0)","v":0},{"$f":"IF(AND(COUNTRY_INFO!H117>0,COUNTRY_INFO!H117<4), IF(G117/D117*100<>0, IF(G117/D117*100>100,100,G117/D117*100), \"-\"),0)","v":0},{"$f":"COUNTRY_INFO!M117","v":0},null,null,{"$f":"MAX('MDA1'!M117,MAX('MDA3'!I117,'MDA3'!L117)+MAX('MDA3'!J117,'MDA3'!M117))","v":0},{"$f":"IF(AND(COUNTRY_INFO!I117>0,COUNTRY_INFO!I117<4),IF(J117>MAX('MDA1'!M117,MAX('MDA3'!I117,'MDA3'!L117)+MAX('MDA3'!J117,'MDA3'!M117)),MAX('MDA1'!M117,MAX('MDA3'!I117,'MDA3'!L117)+MAX('MDA3'!J117,'MDA3'!M117)),J117),0)","v":0},{"$f":"IF(AND(COUNTRY_INFO!I117>0,COUNTRY_INFO!I117<4), IF(M117/J117*100<>0, IF(M117/J117*100>100,100,M117/J117*100), \"-\"),0)","v":0},{"$f":"COUNTRY_INFO!N117","v":229507},null,null,{"$f":"SUM(MAX('MDA2'!J117, 'T1'!L117, MAX(T3_R1!K117, T3_R2!K117)), MAX('MDA1'!K117, 'MDA2'!K117, 'T1'!M117, MAX(T3_R1!L117, T3_R2!L117)), MAX('MDA1'!L117, 'MDA2'!L117, 'T1'!N117, MAX(T3_R1!M117, T3_R2!M117)))","v":208666},{"$f":"IF(AND(COUNTRY_INFO!J117>1,COUNTRY_INFO!J117<4),IF(COUNTRY_INFO!E117>MAX('MDA2'!J117,'T1'!L117,MAX(T3_R1!K117,T3_R2!K117)),MAX('MDA2'!J117,'T1'!L117,MAX(T3_R1!K117,T3_R2!K117)),COUNTRY_INFO!E117),0)","v":73401},{"$f":"IF(AND(COUNTRY_INFO!J117>1,COUNTRY_INFO!J117<4), IF(T117/COUNTRY_INFO!E117*100<>0, IF(T117/COUNTRY_INFO!E117*100>100,100,T117/COUNTRY_INFO!E117*100), \"-\"),0)","v":100},{"$f":"IF(AND(COUNTRY_INFO!J117>1,COUNTRY_INFO!J117<4),IF(COUNTRY_INFO!F117>MAX('MDA1'!K117,'MDA2'!K117,'T1'!M117,MAX(T3_R1!L117,T3_R2!L117)),MAX('MDA1'!K117,'MDA2'!K117,'T1'!M117,MAX(T3_R1!L117,T3_R2!L117)),COUNTRY_INFO!F117),0)","v":111187},{"$f":"IF(AND(COUNTRY_INFO!J117>1,COUNTRY_INFO!J117<4), IF(V117/COUNTRY_INFO!F117*100<>0, IF(V117/COUNTRY_INFO!F117*100>100,100,V117/COUNTRY_INFO!F117*100), \"-\"),0)","v":71.225321256069591},184588,{"$f":"IF(AND(COUNTRY_INFO!J117>1,COUNTRY_INFO!J117<4), IF(S117/P117*100<>0, IF(X117/P117*100>100,100,X117/P117*100), \"-\"),0)","v":80.428047946250004},{"$f":"COUNTRY_INFO!O117","v":0},null,null,{"$f":"MAX('T1'!L117,'T2'!J117)+MAX('T1'!M117,'T2'!K117)+MAX('T1'!N117,'T2'!L117)","v":0},{"$f":"IF(COUNTRY_INFO!K117=1,IF(COUNTRY_INFO!F117*0.33>MAX('T1'!M117,'T2'!K117),MAX('T1'!M117,'T2'!K117),COUNTRY_INFO!F117*0.33),IF(COUNTRY_INFO!K117=2,IF(COUNTRY_INFO!F117*0.5>MAX('T1'!M117,'T2'!K117),MAX('T1'!M117,'T2'!K117),COUNTRY_INFO!F117*0.5),IF(COUNTRY_INFO!K117=3,IF(COUNTRY_INFO!F117>MAX('T1'!M117,'T2'!K117),MAX('T1'!M117,'T2'!K117),COUNTRY_INFO!F117),0)))","v":0},{"$f":"IF(AND(COUNTRY_INFO!K117>0,COUNTRY_INFO!K117<4),IF(Z117>0,IF(COUNTRY_INFO!K117=1, AD117/(COUNTRY_INFO!F117*0.33)*100, IF(COUNTRY_INFO!K117=2, AD117/(COUNTRY_INFO!F117*0.5)*100, IF(COUNTRY_INFO!K117=3, AD117/COUNTRY_INFO!F117*100))),\"-\"),0)","v":0},{"$f":"IF(COUNTRY_INFO!K117=2,IF(COUNTRY_INFO!G117*0.2>MAX('T1'!N117,'T2'!L117),MAX('T1'!N117,'T2'!L117),COUNTRY_INFO!G117*0.2),IF(COUNTRY_INFO!K117=3,IF(COUNTRY_INFO!G117>MAX('T1'!N117,'T2'!L117),MAX('T1'!N117,'T2'!L117),COUNTRY_INFO!G117),0))","v":0},{"$f":"IF(AND(COUNTRY_INFO!K117>0,COUNTRY_INFO!K117<4),IF(Z117>0,IF(COUNTRY_INFO!K117=1, 0, IF(COUNTRY_INFO!K117=2, AF117/(COUNTRY_INFO!G117*0.2)*100, IF(COUNTRY_INFO!K117=3, AF117/COUNTRY_INFO!G117*100))),\"-\"),0)","v":0},0,{"$f":"IF(AND(COUNTRY_INFO!K117>0,COUNTRY_INFO!K117<4), IF(AC117/Z117*100<>0, IF(AH117/Z117*100>100,100,AH117/Z117*100), \"-\"),0)","v":0},null,{"$f":"IF(AND(D117<>0, D117<>\"Unknown\",D117<>\"Stopped\",D117<>\"Not required\"),D117/COUNTRY_INFO!D117, 0)","v":0},{"$f":"IF(AND(J117<>0,J117<>\"Unknown\",J117<>\"Stopped\",J117<>\"Not required\"),J117/COUNTRY_INFO!D117, 0)","v":0},{"$f":"IF(AND(P117<>0,P117<>\"Unknown\",P117<>\"Not required\"),P117/(COUNTRY_INFO!E117+COUNTRY_INFO!F117), 0)","v":1},{"$f":"IF(AND(Z117<>0,Z117<>\"Unknown\",Z117<>\"Not required\"),IF(COUNTRY_INFO!K117=1,1,IF(COUNTRY_INFO!K117=2,0.5*COUNTRY_INFO!F117/(0.5*COUNTRY_INFO!F117+0.2*COUNTRY_INFO!G117),IF(COUNTRY_INFO!K117=3,COUNTRY_INFO!F117/(COUNTRY_INFO!F117+COUNTRY_INFO!G117)))),0)","v":0},{"$f":"IF(AND(Z117<>0,Z117<>\"Unknown\",Z117<>\"Not required\"),IF(COUNTRY_INFO!K117=1,0,IF(COUNTRY_INFO!K117=2,0.2*COUNTRY_INFO!G117/(0.5*COUNTRY_INFO!F117+0.2*COUNTRY_INFO!G117),IF(COUNTRY_INFO!K117=3,COUNTRY_INFO!G117/(COUNTRY_INFO!F117+COUNTRY_INFO!G117)))),0)","v":0},{"$f":"MAX(COUNTRY_INFO!D117*AK117*PROFILE!$G$7,COUNTRY_INFO!D117*AL117*PROFILE!$G$7)","v":0},{"$f":"MAX(COUNTRY_INFO!D117*AK117*PROFILE!$G$8,COUNTRY_INFO!D117*AL117*PROFILE!$G$8,COUNTRY_INFO!D117*AM117*PROFILE!$G$8)","v":73400.759783701535},{"$f":"MAX(COUNTRY_INFO!D117*AK117*PROFILE!$G$9,COUNTRY_INFO!D117*AL117*PROFILE!$G$9,COUNTRY_INFO!D117*AM117*PROFILE!$G$9,IF(AND(DISTRICT!Z117<>\"Unknown\",Z117<>\"Not required\"),COUNTRY_INFO!O117*DISTRICT!AN117,0))","v":156105.93603715312},{"$f":"MAX(COUNTRY_INFO!D117*AK117*PROFILE!$G$10,COUNTRY_INFO!D117*AL117*PROFILE!$G$10,IF(AND(DISTRICT!Z117<>\"Unknown\",Z117<>\"Not required\"),COUNTRY_INFO!O117*DISTRICT!AO117,0))","v":0},229506.69582085466,"Y",{"$f":"MAX('MDA2'!J117,'T1'!L117,'T2'!J117,T3_R1!K117,T3_R2!K117)","v":97479},{"$f":"MAX('MDA1'!K117,'MDA2'!K117,'MDA3'!I117,'MDA3'!L117,'T1'!M117,'T2'!K117,T3_R1!L117,T3_R2!L117)","v":111187},{"$f":"MAX('MDA1'!L117,'MDA2'!L117,'MDA3'!J117,'MDA3'!M117,'T1'!N117,'T2'!L117,T3_R1!M117,T3_R2!M117)","v":0},208666,{"$f":"MAX('MDA2'!J117,T117)","v":73401},{"$f":"MAX('MDA1'!K117,'MDA2'!K117,'MDA3'!I117,'MDA3'!L117,V117,AD117)","v":111187},{"$f":"MAX('MDA1'!L117,'MDA2'!L117,'MDA3'!J117,'MDA3'!M117,AF117)","v":0},184588,80.428154542420543]
[{"$f":"IF(COUNTRY_INFO!A118=0,\" \",COUNTRY_INFO!A118)","v":"Uganda"},{"$f":"IF(COUNTRY_INFO!B118=0,\" \",COUNTRY_INFO!B118)","v":"Western"},{"$f":"IF(COUNTRY_INFO!C118=0,\" \",COUNTRY_INFO!C118)","v":"Mitooma"},{"$f":"COUNTRY_INFO!L118","v":0},null,null,{"$f":"MAX('MDA1'!M118,'MDA2'!M118)","v":0},{"$f":"IF(AND(COUNTRY_INFO!H118>0,COUNTRY_INFO!H118<4),IF(D118>MAX('MDA1'!M118,'MDA2'!M118),MAX('MDA1'!M118,'MDA2'!M118),D118),0)","v":0},{"$f":"IF(AND(COUNTRY_INFO!H118>0,COUNTRY_INFO!H118<4), IF(G118/D118*100<>0, IF(G118/D118*100>100,100,G118/D118*100), \"-\"),0)","v":0},{"$f":"COUNTRY_INFO!M118","v":"Stopped"},null,null,{"$f":"MAX('MDA1'!M118,MAX('MDA3'!I118,'MDA3'!L118)+MAX('MDA3'!J118,'MDA3'!M118))","v":0},{"$f":"IF(AND(COUNTRY_INFO!I118>0,COUNTRY_INFO!I118<4),IF(J118>MAX('MDA1'!M118,MAX('MDA3'!I118,'MDA3'!L118)+MAX('MDA3'!J118,'MDA3'!M118)),MAX('MDA1'!M118,MAX('MDA3'!I118,'MDA3'!L118)+MAX('MDA3'!J118,'MDA3'!M118)),J118),0)","v":0},{"$f":"IF(AND(COUNTRY_INFO!I118>0,COUNTRY_INFO!I118<4), IF(M118/J118*100<>0, IF(M118/J118*100>100,100,M118/J118*100), \"-\"),0)","v":0},{"$f":"COUNTRY_INFO!N118","v":89079},null,null,{"$f":"SUM(MAX('MDA2'!J118, 'T1'!L118, MAX(T3_R1!K118, T3_R2!K118)), MAX('MDA1'!K118, 'MDA2'!K118, 'T1'!M118, MAX(T3_R1!L118, T3_R2!L118)), MAX('MDA1'!L118, 'MDA2'!L118, 'T1'!N118, MAX(T3_R1!M118, T3_R2!M118)))","v":65056},{"$f":"IF(AND(COUNTRY_INFO!J118>1,COUNTRY_INFO!J118<4),IF(COUNTRY_INFO!E118>MAX('MDA2'!J118,'T1'!L118,MAX(T3_R1!K118,T3_R2!K118)),MAX('MDA2'!J118,'T1'!L118,MAX(T3_R1!K118,T3_R2!K118)),COUNTRY_INFO!E118),0)","v":28489},{"$f":"IF(AND(COUNTRY_INFO!J118>1,COUNTRY_INFO!J118<4), IF(T118/COUNTRY_INFO!E118*100<>0, IF(T118/COUNTRY_INFO!E118*100>100,100,T118/COUNTRY_INFO!E118*100), \"-\"),0)","v":100},{"$f":"IF(AND(COUNTRY_INFO!J118>1,COUNTRY_INFO!J118<4),IF(COUNTRY_INFO!F118>MAX('MDA1'!K118,'MDA2'!K118,'T1'!M118,MAX(T3_R1!L118,T3_R2!L118)),MAX('MDA1'!K118,'MDA2'!K118,'T1'!M118,MAX(T3_R1!L118,T3_R2!L118)),COUNTRY_INFO!F118),0)","v":34743},{"$f":"IF(AND(COUNTRY_INFO!J118>1,COUNTRY_INFO!J118<4), IF(V118/COUNTRY_INFO!F118*100<>0, IF(V118/COUNTRY_INFO!F118*100>100,100,V118/COUNTRY_INFO!F118*100), \"-\"),0)","v":57.341145403531932},63232,{"$f":"IF(AND(COUNTRY_INFO!J118>1,COUNTRY_INFO!J118<4), IF(S118/P118*100<>0, IF(X118/P118*100>100,100,X118/P118*100), \"-\"),0)","v":70.984182579508087},{"$f":"COUNTRY_INFO!O118","v":0},null,null,{"$f":"MAX('T1'!L118,'T2'!J118)+MAX('T1'!M118,'T2'!K118)+MAX('T1'!N118,'T2'!L118)","v":0},{"$f":"IF(COUNTRY_INFO!K118=1,IF(COUNTRY_INFO!F118*0.33>MAX('T1'!M118,'T2'!K118),MAX('T1'!M118,'T2'!K118),COUNTRY_INFO!F118*0.33),IF(COUNTRY_INFO!K118=2,IF(COUNTRY_INFO!F118*0.5>MAX('T1'!M118,'T2'!K118),MAX('T1'!M118,'T2'!K118),COUNTRY_INFO!F118*0.5),IF(COUNTRY_INFO!K118=3,IF(COUNTRY_INFO!F118>MAX('T1'!M118,'T2'!K118),MAX('T1'!M118,'T2'!K118),COUNTRY_INFO!F118),0)))","v":0},{"$f":"IF(AND(COUNTRY_INFO!K118>0,COUNTRY_INFO!K118<4),IF(Z118>0,IF(COUNTRY_INFO!K118=1, AD118/(COUNTRY_INFO!F118*0.33)*100, IF(COUNTRY_INFO!K118=2, AD118/(COUNTRY_INFO!F118*0.5)*100, IF(COUNTRY_INFO!K118=3, AD118/COUNTRY_INFO!F118*100))),\"-\"),0)","v":0},{"$f":"IF(COUNTRY_INFO!K118=2,IF(COUNTRY_INFO!G118*0.2>MAX('T1'!N118,'T2'!L118),MAX('T1'!N118,'T2'!L118),COUNTRY_INFO!G118*0.2),IF(COUNTRY_INFO!K118=3,IF(COUNTRY_INFO!G118>MAX('T1'!N118,'T2'!L118),MAX('T1'!N118,'T2'!L118),COUNTRY_INFO!G118),0))","v":0},{"$f":"IF(AND(COUNTRY_INFO!K118>0,COUNTRY_INFO!K118<4),IF(Z118>0,IF(COUNTRY_INFO!K118=1, 0, IF(COUNTRY_INFO!K118=2, AF118/(COUNTRY_INFO!G118*0.2)*100, IF(COUNTRY_INFO!K118=3, AF118/COUNTRY_INFO!G118*100))),\"-\"),0)","v":0},0,{"$f":"IF(AND(COUNTRY_INFO!K118>0,COUNTRY_INFO!K118<4), IF(AC118/Z118*100<>0, IF(AH118/Z118*100>100,100,AH118/Z118*100), \"-\"),0)","v":0},null,{"$f":"IF(AND(D118<>0, D118<>\"Unknown\",D118<>\"Stopped\",D118<>\"Not required\"),D118/COUNTRY_INFO!D118, 0)","v":0},{"$f":"IF(AND(J118<>0,J118<>\"Unknown\",J118<>\"Stopped\",J118<>\"Not required\"),J118/COUNTRY_INFO!D118, 0)","v":0},{"$f":"IF(AND(P118<>0,P118<>\"Unknown\",P118<>\"Not required\"),P118/(COUNTRY_INFO!E118+COUNTRY_INFO!F118), 0)","v":1},{"$f":"IF(AND(Z118<>0,Z118<>\"Unknown\",Z118<>\"Not required\"),IF(COUNTRY_INFO!K118=1,1,IF(COUNTRY_INFO!K118=2,0.5*COUNTRY_INFO!F118/(0.5*COUNTRY_INFO!F118+0.2*COUNTRY_INFO!G118),IF(COUNTRY_INFO!K118=3,COUNTRY_INFO!F118/(COUNTRY_INFO!F118+COUNTRY_INFO!G118)))),0)","v":0},{"$f":"IF(AND(Z118<>0,Z118<>\"Unknown\",Z118<>\"Not required\"),IF(COUNTRY_INFO!K118=1,0,IF(COUNTRY_INFO!K118=2,0.2*COUNTRY_INFO!G118/(0.5*COUNTRY_INFO!F118+0.2*COUNTRY_INFO!G118),IF(COUNTRY_INFO!K118=3,COUNTRY_INFO!G118/(COUNTRY_INFO!F118+COUNTRY_INFO!G118)))),0)","v":0},{"$f":"MAX(COUNTRY_INFO!D118*AK118*PROFILE!$G$7,COUNTRY_INFO!D118*AL118*PROFILE!$G$7)","v":0},{"$f":"MAX(COUNTRY_INFO!D118*AK118*PROFILE!$G$8,COUNTRY_INFO!D118*AL118*PROFILE!$G$8,COUNTRY_INFO!D118*AM118*PROFILE!$G$8)","v":28489.30471950323},{"$f":"MAX(COUNTRY_INFO!D118*AK118*PROFILE!$G$9,COUNTRY_INFO!D118*AL118*PROFILE!$G$9,COUNTRY_INFO!D118*AM118*PROFILE!$G$9,IF(AND(DISTRICT!Z118<>\"Unknown\",Z118<>\"Not required\"),COUNTRY_INFO!O118*DISTRICT!AN118,0))","v":60589.966553360653},{"$f":"MAX(COUNTRY_INFO!D118*AK118*PROFILE!$G$10,COUNTRY_INFO!D118*AL118*PROFILE!$G$10,IF(AND(DISTRICT!Z118<>\"Unknown\",Z118<>\"Not required\"),COUNTRY_INFO!O118*DISTRICT!AO118,0))","v":0},89079.271272863887,"Y",{"$f":"MAX('MDA2'!J118,'T1'!L118,'T2'!J118,T3_R1!K118,T3_R2!K118)","v":30313},{"$f":"MAX('MDA1'!K118,'MDA2'!K118,'MDA3'!I118,'MDA3'!L118,'T1'!M118,'T2'!K118,T3_R1!L118,T3_R2!L118)","v":34743},{"$f":"MAX('MDA1'!L118,'MDA2'!L118,'MDA3'!J118,'MDA3'!M118,'T1'!N118,'T2'!L118,T3_R1!M118,T3_R2!M118)","v":0},65056,{"$f":"MAX('MDA2'!J118,T118)","v":28489},{"$f":"MAX('MDA1'!K118,'MDA2'!K118,'MDA3'!I118,'MDA3'!L118,V118,AD118)","v":34743},{"$f":"MAX('MDA1'!L118,'MDA2'!L118,'MDA3'!J118,'MDA3'!M118,AF118)","v":0},63232,70.983966411568844]
[{"$f":"IF(COUNTRY_INFO!A119=0,\" \",COUNTRY_INFO!A119)","v":"Uganda"},{"$f":"IF(COUNTRY_INFO!B119=0,\" \",COUNTRY_INFO!B119)","v":"Western"},{"$f":"IF(COUNTRY_INFO!C119=0,\" \",COUNTRY_INFO!C119)","v":"Ntoroko"},{"$f":"COUNTRY_INFO!L119","v":"Stopped"},null,null,{"$f":"MAX('MDA1'!M119,'MDA2'!M119)","v":0},{"$f":"IF(AND(COUNTRY_INFO!H119>0,COUNTRY_INFO!H119<4),IF(D119>MAX('MDA1'!M119,'MDA2'!M119),MAX('MDA1'!M119,'MDA2'!M119),D119),0)","v":0},{"$f":"IF(AND(COUNTRY_INFO!H119>0,COUNTRY_INFO!H119<4), IF(G119/D119*100<>0, IF(G119/D119*100>100,100,G119/D119*100), \"-\"),0)","v":0},{"$f":"COUNTRY_INFO!M119","v":0},null,null,{"$f":"MAX('MDA1'!M119,MAX('MDA3'!I119,'MDA3'!L119)+MAX('MDA3'!J119,'MDA3'!M119))","v":0},{"$f":"IF(AND(COUNTRY_INFO!I119>0,COUNTRY_INFO!I119<4),IF(J119>MAX('MDA1'!M119,MAX('MDA3'!I119,'MDA3'!L119)+MAX('MDA3'!J119,'MDA3'!M119)),MAX('MDA1'!M119,MAX('MDA3'!I119,'MDA3'!L119)+MAX('MDA3'!J119,'MDA3'!M119)),J119),0)","v":0},{"$f":"IF(AND(COUNTRY_INFO!I119>0,COUNTRY_INFO!I119<4), IF(M119/J119*100<>0, IF(M119/J119*100>100,100,M119/J119*100), \"-\"),0)","v":0},{"$f":"COUNTRY_INFO!N119","v":32537},null,null,{"$f":"SUM(MAX('MDA2'!J119, 'T1'!L119, MAX(T3_R1!K119, T3_R2!K119)), MAX('MDA1'!K119, 'MDA2'!K119, 'T1'!M119, MAX(T3_R1!L119, T3_R2!L119)), MAX('MDA1'!L119, 'MDA2'!L119, 'T1'!N119, MAX(T3_R1!M119, T3_R2!M119)))","v":20797},{"$f":"IF(AND(COUNTRY_INFO!J119>1,COUNTRY_INFO!J119<4),IF(COUNTRY_INFO!E119>MAX('MDA2'!J119,'T1'!L119,MAX(T3_R1!K119,T3_R2!K119)),MAX('MDA2'!J119,'T1'!L119,MAX(T3_R1!K119,T3_R2!K119)),COUNTRY_INFO!E119),0)","v":10406},{"$f":"IF(AND(COUNTRY_INFO!J119>1,COUNTRY_INFO!J119<4), IF(T119/COUNTRY_INFO!E119*100<>0, IF(T119/COUNTRY_INFO!E119*100>100,100,T119/COUNTRY_INFO!E119*100), \"-\"),0)","v":100},{"$f":"IF(AND(COUNTRY_INFO!J119>1,COUNTRY_INFO!J119<4),IF(COUNTRY_INFO!F119>MAX('MDA1'!K119,'MDA2'!K119,'T1'!M119,MAX(T3_R1!L119,T3_R2!L119)),MAX('MDA1'!K119,'MDA2'!K119,'T1'!M119,MAX(T3_R1!L119,T3_R2!L119)),COUNTRY_INFO!F119),0)","v":5063},{"$f":"IF(AND(COUNTRY_INFO!J119>1,COUNTRY_INFO!J119<4), IF(V119/COUNTRY_INFO!F119*100<>0, IF(V119/COUNTRY_INFO!F119*100>100,100,V119/COUNTRY_INFO!F119*100), \"-\"),0)","v":22.877411775337762},15469,{"$f":"IF(AND(COUNTRY_INFO!J119>1,COUNTRY_INFO!J119<4), IF(S119/P119*100<>0, IF(X119/P119*100>100,100,X119/P119*100), \"-\"),0)","v":47.542797430617448},{"$f":"COUNTRY_INFO!O119","v":13507},null,null,{"$f":"MAX('T1'!L119,'T2'!J119)+MAX('T1'!M119,'T2'!K119)+MAX('T1'!N119,'T2'!L119)","v":10267},{"$f":"IF(COUNTRY_INFO!K119=1,IF(COUNTRY_INFO!F119*0.33>MAX('T1'!M119,'T2'!K119),MAX('T1'!M119,'T2'!K119),COUNTRY_INFO!F119*0.33),IF(COUNTRY_INFO!K119=2,IF(COUNTRY_INFO!F119*0.5>MAX('T1'!M119,'T2'!K119),MAX('T1'!M119,'T2'!K119),COUNTRY_INFO!F119*0.5),IF(COUNTRY_INFO!K119=3,IF(COUNTRY_INFO!F119>MAX('T1'!M119,'T2'!K119),MAX('T1'!M119,'T2'!K119),COUNTRY_INFO!F119),0)))","v":4074},{"$f":"IF(AND(COUNTRY_INFO!K119>0,COUNTRY_INFO!K119<4),IF(Z119>0,IF(COUNTRY_INFO!K119=1, AD119/(COUNTRY_INFO!F119*0.33)*100, IF(COUNTRY_INFO!K119=2, AD119/(COUNTRY_INFO!F119*0.5)*100, IF(COUNTRY_INFO!K119=3, AD119/COUNTRY_INFO!F119*100))),\"-\"),0)","v":18.408567168225566},{"$f":"IF(COUNTRY_INFO!K119=2,IF(COUNTRY_INFO!G119*0.2>MAX('T1'!N119,'T2'!L119),MAX('T1'!N119,'T2'!L119),COUNTRY_INFO!G119*0.2),IF(COUNTRY_INFO!K119=3,IF(COUNTRY_INFO!G119>MAX('T1'!N119,'T2'!L119),MAX('T1'!N119,'T2'!L119),COUNTRY_INFO!G119),0))","v":6193},{"$f":"IF(AND(COUNTRY_INFO!K119>0,COUNTRY_INFO!K119<4),IF(Z119>0,IF(COUNTRY_INFO!K119=1, 0, IF(COUNTRY_INFO!K119=2, AF119/(COUNTRY_INFO!G119*0.2)*100, IF(COUNTRY_INFO!K119=3, AF119/COUNTRY_INFO!G119*100))),\"-\"),0)","v":16.220534311157675},10267,{"$f":"IF(AND(COUNTRY_INFO!K119>0,COUNTRY_INFO!K119<4), IF(AC119/Z119*100<>0, IF(AH119/Z119*100>100,100,AH119/Z119*100), \"-\"),0)","v":76.012437995113643},null,{"$f":"IF(AND(D119<>0, D119<>\"Unknown\",D119<>\"Stopped\",D119<>\"Not required\"),D119/COUNTRY_INFO!D119, 0)","v":0},{"$f":"IF(AND(J119<>0,J119<>\"Unknown\",J119<>\"Stopped\",J119<>\"Not required\"),J119/COUNTRY_INFO!D119, 0)","v":0},{"$f":"IF(AND(P119<>0,P119<>\"Unknown\",P119<>\"Not required\"),P119/(COUNTRY_INFO!E119+COUNTRY_INFO!F119), 0)","v":1},{"$f":"IF(AND(Z119<>0,Z119<>\"Unknown\",Z119<>\"Not required\"),IF(COUNTRY_INFO!K119=1,1,IF(COUNTRY_INFO!K119=2,0.5*COUNTRY_INFO!F119/(0.5*COUNTRY_INFO!F119+0.2*COUNTRY_INFO!G119),IF(COUNTRY_INFO!K119=3,COUNTRY_INFO!F119/(COUNTRY_INFO!F119+COUNTRY_INFO!G119)))),0)","v":0.36694798627116115},{"$f":"IF(AND(Z119<>0,Z119<>\"Unknown\",Z119<>\"Not required\"),IF(COUNTRY_INFO!K119=1,0,IF(COUNTRY_INFO!K119=2,0.2*COUNTRY_INFO!G119/(0.5*COUNTRY_INFO!F119+0.2*COUNTRY_INFO!G119),IF(COUNTRY_INFO!K119=3,COUNTRY_INFO!G119/(COUNTRY_INFO!F119+COUNTRY_INFO!G119)))),0)","v":0.6330520137288389},{"$f":"MAX(COUNTRY_INFO!D119*AK119*PROFILE!$G$7,COUNTRY_INFO!D119*AL119*PROFILE!$G$7)","v":0},{"$f":"MAX(COUNTRY_INFO!D119*AK119*PROFILE!$G$8,COUNTRY_INFO!D119*AL119*PROFILE!$G$8,COUNTRY_INFO!D119*AM119*PROFILE!$G$8)","v":10406.039149149105},{"$f":"MAX(COUNTRY_INFO!D119*AK119*PROFILE!$G$9,COUNTRY_INFO!D119*AL119*PROFILE!$G$9,COUNTRY_INFO!D119*AM119*PROFILE!$G$9,IF(AND(DISTRICT!Z119<>\"Unknown\",Z119<>\"Not required\"),COUNTRY_INFO!O119*DISTRICT!AN119,0))","v":22131.167124211232},{"$f":"MAX(COUNTRY_INFO!D119*AK119*PROFILE!$G$10,COUNTRY_INFO!D119*AL119*PROFILE!$G$10,IF(AND(DISTRICT!Z119<>\"Unknown\",Z119<>\"Not required\"),COUNTRY_INFO!O119*DISTRICT!AO119,0))","v":8550.6335494354262},41087.839822795766,"Y",{"$f":"MAX('MDA2'!J119,'T1'!L119,'T2'!J119,T3_R1!K119,T3_R2!K119)","v":15734},{"$f":"MAX('MDA1'!K119,'MDA2'!K119,'MDA3'!I119,'MDA3'!L119,'T1'!M119,'T2'!K119,T3_R1!L119,T3_R2!L119)","v":5063},{"$f":"MAX('MDA1'!L119,'MDA2'!L119,'MDA3'!J119,'MDA3'!M119,'T1'!N119,'T2'!L119,T3_R1!M119,T3_R2!M119)","v":6193},26990,{"$f":"MAX('MDA2'!J119,T119)","v":10406},{"$f":"MAX('MDA1'!K119,'MDA2'!K119,'MDA3'!I119,'MDA3'!L119,V119,AD119)","v":5063},{"$f":"MAX('MDA1'!L119,'MDA2'!L119,'MDA3'!J119,'MDA3'!M119,AF119)","v":6193},21662,52.721194624551181]
[{"$f":"IF(COUNTRY_INFO!A120=0,\" \",COUNTRY_INFO!A120)","v":"Uganda"},{"$f":"IF(COUNTRY_INFO!B120=0,\" \",COUNTRY_INFO!B120)","v":"Western"},{"$f":"IF(COUNTRY_INFO!C120=0,\" \",COUNTRY_INFO!C120)","v":"Ntungamo"},{"$f":"COUNTRY_INFO!L120","v":0},null,null,{"$f":"MAX('MDA1'!M120,'MDA2'!M120)","v":0},{"$f":"IF(AND(COUNTRY_INFO!H120>0,COUNTRY_INFO!H120<4),IF(D120>MAX('MDA1'!M120,'MDA2'!M120),MAX('MDA1'!M120,'MDA2'!M120),D120),0)","v":0},{"$f":"IF(AND(COUNTRY_INFO!H120>0,COUNTRY_INFO!H120<4), IF(G120/D120*100<>0, IF(G120/D120*100>100,100,G120/D120*100), \"-\"),0)","v":0},{"$f":"COUNTRY_INFO!M120","v":0},null,null,{"$f":"MAX('MDA1'!M120,MAX('MDA3'!I120,'MDA3'!L120)+MAX('MDA3'!J120,'MDA3'!M120))","v":0},{"$f":"IF(AND(COUNTRY_INFO!I120>0,COUNTRY_INFO!I120<4),IF(J120>MAX('MDA1'!M120,MAX('MDA3'!I120,'MDA3'!L120)+MAX('MDA3'!J120,'MDA3'!M120)),MAX('MDA1'!M120,MAX('MDA3'!I120,'MDA3'!L120)+MAX('MDA3'!J120,'MDA3'!M120)),J120),0)","v":0},{"$f":"IF(AND(COUNTRY_INFO!I120>0,COUNTRY_INFO!I120<4), IF(M120/J120*100<>0, IF(M120/J120*100>100,100,M120/J120*100), \"-\"),0)","v":0},{"$f":"COUNTRY_INFO!N120","v":234951},null,null,{"$f":"SUM(MAX('MDA2'!J120, 'T1'!L120, MAX(T3_R1!K120, T3_R2!K120)), MAX('MDA1'!K120, 'MDA2'!K120, 'T1'!M120, MAX(T3_R1!L120, T3_R2!L120)), MAX('MDA1'!L120, 'MDA2'!L120, 'T1'!N120, MAX(T3_R1!M120, T3_R2!M120)))","v":189002},{"$f":"IF(AND(COUNTRY_INFO!J120>1,COUNTRY_INFO!J120<4),IF(COUNTRY_INFO!E120>MAX('MDA2'!J120,'T1'!L120,MAX(T3_R1!K120,T3_R2!K120)),MAX('MDA2'!J120,'T1'!L120,MAX(T3_R1!K120,T3_R2!K120)),COUNTRY_INFO!E120),0)","v":74083},{"$f":"IF(AND(COUNTRY_INFO!J120>1,COUNTRY_INFO!J120<4), IF(T120/COUNTRY_INFO!E120*100<>0, IF(T120/COUNTRY_INFO!E120*100>100,100,T120/COUNTRY_INFO!E120*100), \"-\"),0)","v":98.590668334619792},{"$f":"IF(AND(COUNTRY_INFO!J120>1,COUNTRY_INFO!J120<4),IF(COUNTRY_INFO!F120>MAX('MDA1'!K120,'MDA2'!K120,'T1'!M120,MAX(T3_R1!L120,T3_R2!L120)),MAX('MDA1'!K120,'MDA2'!K120,'T1'!M120,MAX(T3_R1!L120,T3_R2!L120)),COUNTRY_INFO!F120),0)","v":114919},{"$f":"IF(AND(COUNTRY_INFO!J120>1,COUNTRY_INFO!J120<4), IF(V120/COUNTRY_INFO!F120*100<>0, IF(V120/COUNTRY_INFO!F120*100>100,100,V120/COUNTRY_INFO!F120*100), \"-\"),0)","v":71.910217822525638},189002,{"$f":"IF(AND(COUNTRY_INFO!J120>1,COUNTRY_INFO!J120<4), IF(S120/P120*100<>0, IF(X120/P120*100>100,100,X120/P120*100), \"-\"),0)","v":80.443156232576158},{"$f":"COUNTRY_INFO!O120","v":0},null,null,{"$f":"MAX('T1'!L120,'T2'!J120)+MAX('T1'!M120,'T2'!K120)+MAX('T1'!N120,'T2'!L120)","v":0},{"$f":"IF(COUNTRY_INFO!K120=1,IF(COUNTRY_INFO!F120*0.33>MAX('T1'!M120,'T2'!K120),MAX('T1'!M120,'T2'!K120),COUNTRY_INFO!F120*0.33),IF(COUNTRY_INFO!K120=2,IF(COUNTRY_INFO!F120*0.5>MAX('T1'!M120,'T2'!K120),MAX('T1'!M120,'T2'!K120),COUNTRY_INFO!F120*0.5),IF(COUNTRY_INFO!K120=3,IF(COUNTRY_INFO!F120>MAX('T1'!M120,'T2'!K120),MAX('T1'!M120,'T2'!K120),COUNTRY_INFO!F120),0)))","v":0},{"$f":"IF(AND(COUNTRY_INFO!K120>0,COUNTRY_INFO!K120<4),IF(Z120>0,IF(COUNTRY_INFO!K120=1, AD120/(COUNTRY_INFO!F120*0.33)*100, IF(COUNTRY_INFO!K120=2, AD120/(COUNTRY_INFO!F120*0.5)*100, IF(COUNTRY_INFO!K120=3, AD120/COUNTRY_INFO!F120*100))),\"-\"),0)","v":0},{"$f":"IF(COUNTRY_INFO!K120=2,IF(COUNTRY_INFO!G120*0.2>MAX('T1'!N120,'T2'!L120),MAX('T1'!N120,'T2'!L120),COUNTRY_INFO!G120*0.2),IF(COUNTRY_INFO!K120=3,IF(COUNTRY_INFO!G120>MAX('T1'!N120,'T2'!L120),MAX('T1'!N120,'T2'!L120),COUNTRY_INFO!G120),0))","v":0},{"$f":"IF(AND(COUNTRY_INFO!K120>0,COUNTRY_INFO!K120<4),IF(Z120>0,IF(COUNTRY_INFO!K120=1, 0, IF(COUNTRY_INFO!K120=2, AF120/(COUNTRY_INFO!G120*0.2)*100, IF(COUNTRY_INFO!K120=3, AF120/COUNTRY_INFO!G120*100))),\"-\"),0)","v":0},0,{"$f":"IF(AND(COUNTRY_INFO!K120>0,COUNTRY_INFO!K120<4), IF(AC120/Z120*100<>0, IF(AH120/Z120*100>100,100,AH120/Z120*100), \"-\"),0)","v":0},null,{"$f":"IF(AND(D120<>0, D120<>\"Unknown\",D120<>\"Stopped\",D120<>\"Not required\"),D120/COUNTRY_INFO!D120, 0)","v":0},{"$f":"IF(AND(J120<>0,J120<>\"Unknown\",J120<>\"Stopped\",J120<>\"Not required\"),J120/COUNTRY_INFO!D120, 0)","v":0},{"$f":"IF(AND(P120<>0,P120<>\"Unknown\",P120<>\"Not required\"),P120/(COUNTRY_INFO!E120+COUNTRY_INFO!F120), 0)","v":1},{"$f":"IF(AND(Z120<>0,Z120<>\"Unknown\",Z120<>\"Not required\"),IF(COUNTRY_INFO!K120=1,1,IF(COUNTRY_INFO!K120=2,0.5*COUNTRY_INFO!F120/(0.5*COUNTRY_INFO!F120+0.2*COUNTRY_INFO!G120),IF(COUNTRY_INFO!K120=3,COUNTRY_INFO!F120/(COUNTRY_INFO!F120+COUNTRY_INFO!G120)))),0)","v":0},{"$f":"IF(AND(Z120<>0,Z120<>\"Unknown\",Z120<>\"Not required\"),IF(COUNTRY_INFO!K120=1,0,IF(COUNTRY_INFO!K120=2,0.2*COUNTRY_INFO!G120/(0.5*COUNTRY_INFO!F120+0.2*COUNTRY_INFO!G120),IF(COUNTRY_INFO!K120=3,COUNTRY_INFO!G120/(COUNTRY_INFO!F120+COUNTRY_INFO!G120)))),0)","v":0},{"$f":"MAX(COUNTRY_INFO!D120*AK120*PROFILE!$G$7,COUNTRY_INFO!D120*AL120*PROFILE!$G$7)","v":0},{"$f":"MAX(COUNTRY_INFO!D120*AK120*PROFILE!$G$8,COUNTRY_INFO!D120*AL120*PROFILE!$G$8,COUNTRY_INFO!D120*AM120*PROFILE!$G$8)","v":75141.820972093192},{"$f":"MAX(COUNTRY_INFO!D120*AK120*PROFILE!$G$9,COUNTRY_INFO!D120*AL120*PROFILE!$G$9,COUNTRY_INFO!D120*AM120*PROFILE!$G$9,IF(AND(DISTRICT!Z120<>\"Unknown\",Z120<>\"Not required\"),COUNTRY_INFO!O120*DISTRICT!AN120,0))","v":159808.75855987295},{"$f":"MAX(COUNTRY_INFO!D120*AK120*PROFILE!$G$10,COUNTRY_INFO!D120*AL120*PROFILE!$G$10,IF(AND(DISTRICT!Z120<>\"Unknown\",Z120<>\"Not required\"),COUNTRY_INFO!O120*DISTRICT!AO120,0))","v":0},234950.57953196613,"Y",{"$f":"MAX('MDA2'!J120,'T1'!L120,'T2'!J120,T3_R1!K120,T3_R2!K120)","v":74083},{"$f":"MAX('MDA1'!K120,'MDA2'!K120,'MDA3'!I120,'MDA3'!L120,'T1'!M120,'T2'!K120,T3_R1!L120,T3_R2!L120)","v":114919},{"$f":"MAX('MDA1'!L120,'MDA2'!L120,'MDA3'!J120,'MDA3'!M120,'T1'!N120,'T2'!L120,T3_R1!M120,T3_R2!M120)","v":0},189002,{"$f":"MAX('MDA2'!J120,T120)","v":74083},{"$f":"MAX('MDA1'!K120,'MDA2'!K120,'MDA3'!I120,'MDA3'!L120,V120,AD120)","v":114919},{"$f":"MAX('MDA1'!L120,'MDA2'!L120,'MDA3'!J120,'MDA3'!M120,AF120)","v":0},189002,80.44330019381178]
[{"$f":"IF(COUNTRY_INFO!A121=0,\" \",COUNTRY_INFO!A121)","v":"Uganda"},{"$f":"IF(COUNTRY_INFO!B121=0,\" \",COUNTRY_INFO!B121)","v":"Western"},{"$f":"IF(COUNTRY_INFO!C121=0,\" \",COUNTRY_INFO!C121)","v":"Rubanda"},{"$f":"COUNTRY_INFO!L121","v":0},null,null,{"$f":"MAX('MDA1'!M121,'MDA2'!M121)","v":0},{"$f":"IF(AND(COUNTRY_INFO!H121>0,COUNTRY_INFO!H121<4),IF(D121>MAX('MDA1'!M121,'MDA2'!M121),MAX('MDA1'!M121,'MDA2'!M121),D121),0)","v":0},{"$f":"IF(AND(COUNTRY_INFO!H121>0,COUNTRY_INFO!H121<4), IF(G121/D121*100<>0, IF(G121/D121*100>100,100,G121/D121*100), \"-\"),0)","v":0},{"$f":"COUNTRY_INFO!M121","v":33282},null,null,{"$f":"MAX('MDA1'!M121,MAX('MDA3'!I121,'MDA3'!L121)+MAX('MDA3'!J121,'MDA3'!M121))","v":25778},{"$f":"IF(AND(COUNTRY_INFO!I121>0,COUNTRY_INFO!I121<4),IF(J121>MAX('MDA1'!M121,MAX('MDA3'!I121,'MDA3'!L121)+MAX('MDA3'!J121,'MDA3'!M121)),MAX('MDA1'!M121,MAX('MDA3'!I121,'MDA3'!L121)+MAX('MDA3'!J121,'MDA3'!M121)),J121),0)","v":25778},{"$f":"IF(AND(COUNTRY_INFO!I121>0,COUNTRY_INFO!I121<4), IF(M121/J121*100<>0, IF(M121/J121*100>100,100,M121/J121*100), \"-\"),0)","v":77.453278048194221},{"$f":"COUNTRY_INFO!N121","v":95933},null,null,{"$f":"SUM(MAX('MDA2'!J121, 'T1'!L121, MAX(T3_R1!K121, T3_R2!K121)), MAX('MDA1'!K121, 'MDA2'!K121, 'T1'!M121, MAX(T3_R1!L121, T3_R2!L121)), MAX('MDA1'!L121, 'MDA2'!L121, 'T1'!N121, MAX(T3_R1!M121, T3_R2!M121)))","v":91090},{"$f":"IF(AND(COUNTRY_INFO!J121>1,COUNTRY_INFO!J121<4),IF(COUNTRY_INFO!E121>MAX('MDA2'!J121,'T1'!L121,MAX(T3_R1!K121,T3_R2!K121)),MAX('MDA2'!J121,'T1'!L121,MAX(T3_R1!K121,T3_R2!K121)),COUNTRY_INFO!E121),0)","v":30681},{"$f":"IF(AND(COUNTRY_INFO!J121>1,COUNTRY_INFO!J121<4), IF(T121/COUNTRY_INFO!E121*100<>0, IF(T121/COUNTRY_INFO!E121*100>100,100,T121/COUNTRY_INFO!E121*100), \"-\"),0)","v":100},{"$f":"IF(AND(COUNTRY_INFO!J121>1,COUNTRY_INFO!J121<4),IF(COUNTRY_INFO!F121>MAX('MDA1'!K121,'MDA2'!K121,'T1'!M121,MAX(T3_R1!L121,T3_R2!L121)),MAX('MDA1'!K121,'MDA2'!K121,'T1'!M121,MAX(T3_R1!L121,T3_R2!L121)),COUNTRY_INFO!F121),0)","v":43031},{"$f":"IF(AND(COUNTRY_INFO!J121>1,COUNTRY_INFO!J121<4), IF(V121/COUNTRY_INFO!F121*100<>0, IF(V121/COUNTRY_INFO!F121*100>100,100,V121/COUNTRY_INFO!F121*100), \"-\"),0)","v":65.945871390915229},73712,{"$f":"IF(AND(COUNTRY_INFO!J121>1,COUNTRY_INFO!J121<4), IF(S121/P121*100<>0, IF(X121/P121*100>100,100,X121/P121*100), \"-\"),0)","v":76.836959127724555},{"$f":"COUNTRY_INFO!O121","v":0},null,null,{"$f":"MAX('T1'!L121,'T2'!J121)+MAX('T1'!M121,'T2'!K121)+MAX('T1'!N121,'T2'!L121)","v":0},{"$f":"IF(COUNTRY_INFO!K121=1,IF(COUNTRY_INFO!F121*0.33>MAX('T1'!M121,'T2'!K121),MAX('T1'!M121,'T2'!K121),COUNTRY_INFO!F121*0.33),IF(COUNTRY_INFO!K121=2,IF(COUNTRY_INFO!F121*0.5>MAX('T1'!M121,'T2'!K121),MAX('T1'!M121,'T2'!K121),COUNTRY_INFO!F121*0.5),IF(COUNTRY_INFO!K121=3,IF(COUNTRY_INFO!F121>MAX('T1'!M121,'T2'!K121),MAX('T1'!M121,'T2'!K121),COUNTRY_INFO!F121),0)))","v":0},{"$f":"IF(AND(COUNTRY_INFO!K121>0,COUNTRY_INFO!K121<4),IF(Z121>0,IF(COUNTRY_INFO!K121=1, AD121/(COUNTRY_INFO!F121*0.33)*100, IF(COUNTRY_INFO!K121=2, AD121/(COUNTRY_INFO!F121*0.5)*100, IF(COUNTRY_INFO!K121=3, AD121/COUNTRY_INFO!F121*100))),\"-\"),0)","v":0},{"$f":"IF(COUNTRY_INFO!K121=2,IF(COUNTRY_INFO!G121*0.2>MAX('T1'!N121,'T2'!L121),MAX('T1'!N121,'T2'!L121),COUNTRY_INFO!G121*0.2),IF(COUNTRY_INFO!K121=3,IF(COUNTRY_INFO!G121>MAX('T1'!N121,'T2'!L121),MAX('T1'!N121,'T2'!L121),COUNTRY_INFO!G121),0))","v":0},{"$f":"IF(AND(COUNTRY_INFO!K121>0,COUNTRY_INFO!K121<4),IF(Z121>0,IF(COUNTRY_INFO!K121=1, 0, IF(COUNTRY_INFO!K121=2, AF121/(COUNTRY_INFO!G121*0.2)*100, IF(COUNTRY_INFO!K121=3, AF121/COUNTRY_INFO!G121*100))),\"-\"),0)","v":0},0,{"$f":"IF(AND(COUNTRY_INFO!K121>0,COUNTRY_INFO!K121<4), IF(AC121/Z121*100<>0, IF(AH121/Z121*100>100,100,AH121/Z121*100), \"-\"),0)","v":0},null,{"$f":"IF(AND(D121<>0, D121<>\"Unknown\",D121<>\"Stopped\",D121<>\"Not required\"),D121/COUNTRY_INFO!D121, 0)","v":0},{"$f":"IF(AND(J121<>0,J121<>\"Unknown\",J121<>\"Stopped\",J121<>\"Not required\"),J121/COUNTRY_INFO!D121, 0)","v":0.15403626669628726},{"$f":"IF(AND(P121<>0,P121<>\"Unknown\",P121<>\"Not required\"),P121/(COUNTRY_INFO!E121+COUNTRY_INFO!F121), 0)","v":1},{"$f":"IF(AND(Z121<>0,Z121<>\"Unknown\",Z121<>\"Not required\"),IF(COUNTRY_INFO!K121=1,1,IF(COUNTRY_INFO!K121=2,0.5*COUNTRY_INFO!F121/(0.5*COUNTRY_INFO!F121+0.2*COUNTRY_INFO!G121),IF(COUNTRY_INFO!K121=3,COUNTRY_INFO!F121/(COUNTRY_INFO!F121+COUNTRY_INFO!G121)))),0)","v":0},{"$f":"IF(AND(Z121<>0,Z121<>\"Unknown\",Z121<>\"Not required\"),IF(COUNTRY_INFO!K121=1,0,IF(COUNTRY_INFO!K121=2,0.2*COUNTRY_INFO!G121/(0.5*COUNTRY_INFO!F121+0.2*COUNTRY_INFO!G121),IF(COUNTRY_INFO!K121=3,COUNTRY_INFO!G121/(COUNTRY_INFO!F121+COUNTRY_INFO!G121)))),0)","v":0},{"$f":"MAX(COUNTRY_INFO!D121*AK121*PROFILE!$G$7,COUNTRY_INFO!D121*AL121*PROFILE!$G$7)","v":1164.8730725300695},{"$f":"MAX(COUNTRY_INFO!D121*AK121*PROFILE!$G$8,COUNTRY_INFO!D121*AL121*PROFILE!$G$8,COUNTRY_INFO!D121*AM121*PROFILE!$G$8)","v":30681.357697661777},{"$f":"MAX(COUNTRY_INFO!D121*AK121*PROFILE!$G$9,COUNTRY_INFO!D121*AL121*PROFILE!$G$9,COUNTRY_INFO!D121*AM121*PROFILE!$G$9,IF(AND(DISTRICT!Z121<>\"Unknown\",Z121<>\"Not required\"),COUNTRY_INFO!O121*DISTRICT!AN121,0))","v":65251.941211482001},{"$f":"MAX(COUNTRY_INFO!D121*AK121*PROFILE!$G$10,COUNTRY_INFO!D121*AL121*PROFILE!$G$10,IF(AND(DISTRICT!Z121<>\"Unknown\",Z121<>\"Not required\"),COUNTRY_INFO!O121*DISTRICT!AO121,0))","v":17339.919711646417},114438.09169332027,"Y",{"$f":"MAX('MDA2'!J121,'T1'!L121,'T2'!J121,T3_R1!K121,T3_R2!K121)","v":48059},{"$f":"MAX('MDA1'!K121,'MDA2'!K121,'MDA3'!I121,'MDA3'!L121,'T1'!M121,'T2'!K121,T3_R1!L121,T3_R2!L121)","v":43031},{"$f":"MAX('MDA1'!L121,'MDA2'!L121,'MDA3'!J121,'MDA3'!M121,'T1'!N121,'T2'!L121,T3_R1!M121,T3_R2!M121)","v":16319},107409,{"$f":"MAX('MDA2'!J121,T121)","v":30681},{"$f":"MAX('MDA1'!K121,'MDA2'!K121,'MDA3'!I121,'MDA3'!L121,V121,AD121)","v":43031},{"$f":"MAX('MDA1'!L121,'MDA2'!L121,'MDA3'!J121,'MDA3'!M121,AF121)","v":16319},90031,78.672231131983381]
[{"$f":"IF(COUNTRY_INFO!A122=0,\" \",COUNTRY_INFO!A122)","v":"Uganda"},{"$f":"IF(COUNTRY_INFO!B122=0,\" \",COUNTRY_INFO!B122)","v":"Western"},{"$f":"IF(COUNTRY_INFO!C122=0,\" \",COUNTRY_INFO!C122)","v":"Rubirizi"},{"$f":"COUNTRY_INFO!L122","v":0},null,null,{"$f":"MAX('MDA1'!M122,'MDA2'!M122)","v":0},{"$f":"IF(AND(COUNTRY_INFO!H122>0,COUNTRY_INFO!H122<4),IF(D122>MAX('MDA1'!M122,'MDA2'!M122),MAX('MDA1'!M122,'MDA2'!M122),D122),0)","v":0},{"$f":"IF(AND(COUNTRY_INFO!H122>0,COUNTRY_INFO!H122<4), IF(G122/D122*100<>0, IF(G122/D122*100>100,100,G122/D122*100), \"-\"),0)","v":0},{"$f":"COUNTRY_INFO!M122","v":"Stopped"},null,null,{"$f":"MAX('MDA1'!M122,MAX('MDA3'!I122,'MDA3'!L122)+MAX('MDA3'!J122,'MDA3'!M122))","v":0},{"$f":"IF(AND(COUNTRY_INFO!I122>0,COUNTRY_INFO!I122<4),IF(J122>MAX('MDA1'!M122,MAX('MDA3'!I122,'MDA3'!L122)+MAX('MDA3'!J122,'MDA3'!M122)),MAX('MDA1'!M122,MAX('MDA3'!I122,'MDA3'!L122)+MAX('MDA3'!J122,'MDA3'!M122)),J122),0)","v":0},{"$f":"IF(AND(COUNTRY_INFO!I122>0,COUNTRY_INFO!I122<4), IF(M122/J122*100<>0, IF(M122/J122*100>100,100,M122/J122*100), \"-\"),0)","v":0},{"$f":"COUNTRY_INFO!N122","v":62714},null,null,{"$f":"SUM(MAX('MDA2'!J122, 'T1'!L122, MAX(T3_R1!K122, T3_R2!K122)), MAX('MDA1'!K122, 'MDA2'!K122, 'T1'!M122, MAX(T3_R1!L122, T3_R2!L122)), MAX('MDA1'!L122, 'MDA2'!L122, 'T1'!N122, MAX(T3_R1!M122, T3_R2!M122)))","v":52657},{"$f":"IF(AND(COUNTRY_INFO!J122>1,COUNTRY_INFO!J122<4),IF(COUNTRY_INFO!E122>MAX('MDA2'!J122,'T1'!L122,MAX(T3_R1!K122,T3_R2!K122)),MAX('MDA2'!J122,'T1'!L122,MAX(T3_R1!K122,T3_R2!K122)),COUNTRY_INFO!E122),0)","v":20057},{"$f":"IF(AND(COUNTRY_INFO!J122>1,COUNTRY_INFO!J122<4), IF(T122/COUNTRY_INFO!E122*100<>0, IF(T122/COUNTRY_INFO!E122*100>100,100,T122/COUNTRY_INFO!E122*100), \"-\"),0)","v":100},{"$f":"IF(AND(COUNTRY_INFO!J122>1,COUNTRY_INFO!J122<4),IF(COUNTRY_INFO!F122>MAX('MDA1'!K122,'MDA2'!K122,'T1'!M122,MAX(T3_R1!L122,T3_R2!L122)),MAX('MDA1'!K122,'MDA2'!K122,'T1'!M122,MAX(T3_R1!L122,T3_R2!L122)),COUNTRY_INFO!F122),0)","v":22791},{"$f":"IF(AND(COUNTRY_INFO!J122>1,COUNTRY_INFO!J122<4), IF(V122/COUNTRY_INFO!F122*100<>0, IF(V122/COUNTRY_INFO!F122*100>100,100,V122/COUNTRY_INFO!F122*100), \"-\"),0)","v":53.428511147056753},42848,{"$f":"IF(AND(COUNTRY_INFO!J122>1,COUNTRY_INFO!J122<4), IF(S122/P122*100<>0, IF(X122/P122*100>100,100,X122/P122*100), \"-\"),0)","v":68.322862518735846},{"$f":"COUNTRY_INFO!O122","v":3509},null,null,{"$f":"MAX('T1'!L122,'T2'!J122)+MAX('T1'!M122,'T2'!K122)+MAX('T1'!N122,'T2'!L122)","v":3427},{"$f":"IF(COUNTRY_INFO!K122=1,IF(COUNTRY_INFO!F122*0.33>MAX('T1'!M122,'T2'!K122),MAX('T1'!M122,'T2'!K122),COUNTRY_INFO!F122*0.33),IF(COUNTRY_INFO!K122=2,IF(COUNTRY_INFO!F122*0.5>MAX('T1'!M122,'T2'!K122),MAX('T1'!M122,'T2'!K122),COUNTRY_INFO!F122*0.5),IF(COUNTRY_INFO!K122=3,IF(COUNTRY_INFO!F122>MAX('T1'!M122,'T2'!K122),MAX('T1'!M122,'T2'!K122),COUNTRY_INFO!F122),0)))","v":801},{"$f":"IF(AND(COUNTRY_INFO!K122>0,COUNTRY_INFO!K122<4),IF(Z122>0,IF(COUNTRY_INFO!K122=1, AD122/(COUNTRY_INFO!F122*0.33)*100, IF(COUNTRY_INFO!K122=2, AD122/(COUNTRY_INFO!F122*0.5)*100, IF(COUNTRY_INFO!K122=3, AD122/COUNTRY_INFO!F122*100))),\"-\"),0)","v":1.8777691820803151},{"$f":"IF(COUNTRY_INFO!K122=2,IF(COUNTRY_INFO!G122*0.2>MAX('T1'!N122,'T2'!L122),MAX('T1'!N122,'T2'!L122),COUNTRY_INFO!G122*0.2),IF(COUNTRY_INFO!K122=3,IF(COUNTRY_INFO!G122>MAX('T1'!N122,'T2'!L122),MAX('T1'!N122,'T2'!L122),COUNTRY_INFO!G122),0))","v":2626},{"$f":"IF(AND(COUNTRY_INFO!K122>0,COUNTRY_INFO!K122<4),IF(Z122>0,IF(COUNTRY_INFO!K122=1, 0, IF(COUNTRY_INFO!K122=2, AF122/(COUNTRY_INFO!G122*0.2)*100, IF(COUNTRY_INFO!K122=3, AF122/COUNTRY_INFO!G122*100))),\"-\"),0)","v":3.5684196222312816},3427,{"$f":"IF(AND(COUNTRY_INFO!K122>0,COUNTRY_INFO!K122<4), IF(AC122/Z122*100<>0, IF(AH122/Z122*100>100,100,AH122/Z122*100), \"-\"),0)","v":97.663151895126816},null,{"$f":"IF(AND(D122<>0, D122<>\"Unknown\",D122<>\"Stopped\",D122<>\"Not required\"),D122/COUNTRY_INFO!D122, 0)","v":0},{"$f":"IF(AND(J122<>0,J122<>\"Unknown\",J122<>\"Stopped\",J122<>\"Not required\"),J122/COUNTRY_INFO!D122, 0)","v":0},{"$f":"IF(AND(P122<>0,P122<>\"Unknown\",P122<>\"Not required\"),P122/(COUNTRY_INFO!E122+COUNTRY_INFO!F122), 0)","v":1},{"$f":"IF(AND(Z122<>0,Z122<>\"Unknown\",Z122<>\"Not required\"),IF(COUNTRY_INFO!K122=1,1,IF(COUNTRY_INFO!K122=2,0.5*COUNTRY_INFO!F122/(0.5*COUNTRY_INFO!F122+0.2*COUNTRY_INFO!G122),IF(COUNTRY_INFO!K122=3,COUNTRY_INFO!F122/(COUNTRY_INFO!F122+COUNTRY_INFO!G122)))),0)","v":0.36695140519755348},{"$f":"IF(AND(Z122<>0,Z122<>\"Unknown\",Z122<>\"Not required\"),IF(COUNTRY_INFO!K122=1,0,IF(COUNTRY_INFO!K122=2,0.2*COUNTRY_INFO!G122/(0.5*COUNTRY_INFO!F122+0.2*COUNTRY_INFO!G122),IF(COUNTRY_INFO!K122=3,COUNTRY_INFO!G122/(COUNTRY_INFO!F122+COUNTRY_INFO!G122)))),0)","v":0.63304859480244646},{"$f":"MAX(COUNTRY_INFO!D122*AK122*PROFILE!$G$7,COUNTRY_INFO!D122*AL122*PROFILE!$G$7)","v":0},{"$f":"MAX(COUNTRY_INFO!D122*AK122*PROFILE!$G$8,COUNTRY_INFO!D122*AL122*PROFILE!$G$8,COUNTRY_INFO!D122*AM122*PROFILE!$G$8)","v":20057.206650187123},{"$f":"MAX(COUNTRY_INFO!D122*AK122*PROFILE!$G$9,COUNTRY_INFO!D122*AL122*PROFILE!$G$9,COUNTRY_INFO!D122*AM122*PROFILE!$G$9,IF(AND(DISTRICT!Z122<>\"Unknown\",Z122<>\"Not required\"),COUNTRY_INFO!O122*DISTRICT!AN122,0))","v":42656.902021786904},{"$f":"MAX(COUNTRY_INFO!D122*AK122*PROFILE!$G$10,COUNTRY_INFO!D122*AL122*PROFILE!$G$10,IF(AND(DISTRICT!Z122<>\"Unknown\",Z122<>\"Not required\"),COUNTRY_INFO!O122*DISTRICT!AO122,0))","v":2221.3675191617845},64935.476191135815,"Y",{"$f":"MAX('MDA2'!J122,'T1'!L122,'T2'!J122,T3_R1!K122,T3_R2!K122)","v":29866},{"$f":"MAX('MDA1'!K122,'MDA2'!K122,'MDA3'!I122,'MDA3'!L122,'T1'!M122,'T2'!K122,T3_R1!L122,T3_R2!L122)","v":22791},{"$f":"MAX('MDA1'!L122,'MDA2'!L122,'MDA3'!J122,'MDA3'!M122,'T1'!N122,'T2'!L122,T3_R1!M122,T3_R2!M122)","v":2626},55283,{"$f":"MAX('MDA2'!J122,T122)","v":20057},{"$f":"MAX('MDA1'!K122,'MDA2'!K122,'MDA3'!I122,'MDA3'!L122,V122,AD122)","v":22791},{"$f":"MAX('MDA1'!L122,'MDA2'!L122,'MDA3'!J122,'MDA3'!M122,AF122)","v":2626},45474,70.029516479017602]
[{"$f":"IF(COUNTRY_INFO!A123=0,\" \",COUNTRY_INFO!A123)","v":"Uganda"},{"$f":"IF(COUNTRY_INFO!B123=0,\" \",COUNTRY_INFO!B123)","v":"Western"},{"$f":"IF(COUNTRY_INFO!C123=0,\" \",COUNTRY_INFO!C123)","v":"Rukungiri"},{"$f":"COUNTRY_INFO!L123","v":0},null,null,{"$f":"MAX('MDA1'!M123,'MDA2'!M123)","v":0},{"$f":"IF(AND(COUNTRY_INFO!H123>0,COUNTRY_INFO!H123<4),IF(D123>MAX('MDA1'!M123,'MDA2'!M123),MAX('MDA1'!M123,'MDA2'!M123),D123),0)","v":0},{"$f":"IF(AND(COUNTRY_INFO!H123>0,COUNTRY_INFO!H123<4), IF(G123/D123*100<>0, IF(G123/D123*100>100,100,G123/D123*100), \"-\"),0)","v":0},{"$f":"COUNTRY_INFO!M123","v":0},null,null,{"$f":"MAX('MDA1'!M123,MAX('MDA3'!I123,'MDA3'!L123)+MAX('MDA3'!J123,'MDA3'!M123))","v":0},{"$f":"IF(AND(COUNTRY_INFO!I123>0,COUNTRY_INFO!I123<4),IF(J123>MAX('MDA1'!M123,MAX('MDA3'!I123,'MDA3'!L123)+MAX('MDA3'!J123,'MDA3'!M123)),MAX('MDA1'!M123,MAX('MDA3'!I123,'MDA3'!L123)+MAX('MDA3'!J123,'MDA3'!M123)),J123),0)","v":0},{"$f":"IF(AND(COUNTRY_INFO!I123>0,COUNTRY_INFO!I123<4), IF(M123/J123*100<>0, IF(M123/J123*100>100,100,M123/J123*100), \"-\"),0)","v":0},{"$f":"COUNTRY_INFO!N123","v":152814},null,null,{"$f":"SUM(MAX('MDA2'!J123, 'T1'!L123, MAX(T3_R1!K123, T3_R2!K123)), MAX('MDA1'!K123, 'MDA2'!K123, 'T1'!M123, MAX(T3_R1!L123, T3_R2!L123)), MAX('MDA1'!L123, 'MDA2'!L123, 'T1'!N123, MAX(T3_R1!M123, T3_R2!M123)))","v":107736},{"$f":"IF(AND(COUNTRY_INFO!J123>1,COUNTRY_INFO!J123<4),IF(COUNTRY_INFO!E123>MAX('MDA2'!J123,'T1'!L123,MAX(T3_R1!K123,T3_R2!K123)),MAX('MDA2'!J123,'T1'!L123,MAX(T3_R1!K123,T3_R2!K123)),COUNTRY_INFO!E123),0)","v":45953},{"$f":"IF(AND(COUNTRY_INFO!J123>1,COUNTRY_INFO!J123<4), IF(T123/COUNTRY_INFO!E123*100<>0, IF(T123/COUNTRY_INFO!E123*100>100,100,T123/COUNTRY_INFO!E123*100), \"-\"),0)","v":94.025330959834676},{"$f":"IF(AND(COUNTRY_INFO!J123>1,COUNTRY_INFO!J123<4),IF(COUNTRY_INFO!F123>MAX('MDA1'!K123,'MDA2'!K123,'T1'!M123,MAX(T3_R1!L123,T3_R2!L123)),MAX('MDA1'!K123,'MDA2'!K123,'T1'!M123,MAX(T3_R1!L123,T3_R2!L123)),COUNTRY_INFO!F123),0)","v":61783},{"$f":"IF(AND(COUNTRY_INFO!J123>1,COUNTRY_INFO!J123<4), IF(V123/COUNTRY_INFO!F123*100<>0, IF(V123/COUNTRY_INFO!F123*100>100,100,V123/COUNTRY_INFO!F123*100), \"-\"),0)","v":59.440451794768187},107736,{"$f":"IF(AND(COUNTRY_INFO!J123>1,COUNTRY_INFO!J123<4), IF(S123/P123*100<>0, IF(X123/P123*100>100,100,X123/P123*100), \"-\"),0)","v":70.501393851348709},{"$f":"COUNTRY_INFO!O123","v":11178},null,null,{"$f":"MAX('T1'!L123,'T2'!J123)+MAX('T1'!M123,'T2'!K123)+MAX('T1'!N123,'T2'!L123)","v":11108},{"$f":"IF(COUNTRY_INFO!K123=1,IF(COUNTRY_INFO!F123*0.33>MAX('T1'!M123,'T2'!K123),MAX('T1'!M123,'T2'!K123),COUNTRY_INFO!F123*0.33),IF(COUNTRY_INFO!K123=2,IF(COUNTRY_INFO!F123*0.5>MAX('T1'!M123,'T2'!K123),MAX('T1'!M123,'T2'!K123),COUNTRY_INFO!F123*0.5),IF(COUNTRY_INFO!K123=3,IF(COUNTRY_INFO!F123>MAX('T1'!M123,'T2'!K123),MAX('T1'!M123,'T2'!K123),COUNTRY_INFO!F123),0)))","v":11108},{"$f":"IF(AND(COUNTRY_INFO!K123>0,COUNTRY_INFO!K123<4),IF(Z123>0,IF(COUNTRY_INFO!K123=1, AD123/(COUNTRY_INFO!F123*0.33)*100, IF(COUNTRY_INFO!K123=2, AD123/(COUNTRY_INFO!F123*0.5)*100, IF(COUNTRY_INFO!K123=3, AD123/COUNTRY_INFO!F123*100))),\"-\"),0)","v":32.384339250734612},{"$f":"IF(COUNTRY_INFO!K123=2,IF(COUNTRY_INFO!G123*0.2>MAX('T1'!N123,'T2'!L123),MAX('T1'!N123,'T2'!L123),COUNTRY_INFO!G123*0.2),IF(COUNTRY_INFO!K123=3,IF(COUNTRY_INFO!G123>MAX('T1'!N123,'T2'!L123),MAX('T1'!N123,'T2'!L123),COUNTRY_INFO!G123),0))","v":0},{"$f":"IF(AND(COUNTRY_INFO!K123>0,COUNTRY_INFO!K123<4),IF(Z123>0,IF(COUNTRY_INFO!K123=1, 0, IF(COUNTRY_INFO!K123=2, AF123/(COUNTRY_INFO!G123*0.2)*100, IF(COUNTRY_INFO!K123=3, AF123/COUNTRY_INFO!G123*100))),\"-\"),0)","v":0},11108,{"$f":"IF(AND(COUNTRY_INFO!K123>0,COUNTRY_INFO!K123<4), IF(AC123/Z123*100<>0, IF(AH123/Z123*100>100,100,AH123/Z123*100), \"-\"),0)","v":99.373769905170874},null,{"$f":"IF(AND(D123<>0, D123<>\"Unknown\",D123<>\"Stopped\",D123<>\"Not required\"),D123/COUNTRY_INFO!D123, 0)","v":0},{"$f":"IF(AND(J123<>0,J123<>\"Unknown\",J123<>\"Stopped\",J123<>\"Not required\"),J123/COUNTRY_INFO!D123, 0)","v":0},{"$f":"IF(AND(P123<>0,P123<>\"Unknown\",P123<>\"Not required\"),P123/(COUNTRY_INFO!E123+COUNTRY_INFO!F123), 0)","v":1},{"$f":"IF(AND(Z123<>0,Z123<>\"Unknown\",Z123<>\"Not required\"),IF(COUNTRY_INFO!K123=1,1,IF(COUNTRY_INFO!K123=2,0.5*COUNTRY_INFO!F123/(0.5*COUNTRY_INFO!F123+0.2*COUNTRY_INFO!G123),IF(COUNTRY_INFO!K123=3,COUNTRY_INFO!F123/(COUNTRY_INFO!F123+COUNTRY_INFO!G123)))),0)","v":1},{"$f":"IF(AND(Z123<>0,Z123<>\"Unknown\",Z123<>\"Not required\"),IF(COUNTRY_INFO!K123=1,0,IF(COUNTRY_INFO!K123=2,0.2*COUNTRY_INFO!G123/(0.5*COUNTRY_INFO!F123+0.2*COUNTRY_INFO!G123),IF(COUNTRY_INFO!K123=3,COUNTRY_INFO!G123/(COUNTRY_INFO!F123+COUNTRY_INFO!G123)))),0)","v":0},{"$f":"MAX(COUNTRY_INFO!D123*AK123*PROFILE!$G$7,COUNTRY_INFO!D123*AL123*PROFILE!$G$7)","v":0},{"$f":"MAX(COUNTRY_INFO!D123*AK123*PROFILE!$G$8,COUNTRY_INFO!D123*AL123*PROFILE!$G$8,COUNTRY_INFO!D123*AM123*PROFILE!$G$8)","v":48872.827217575839},{"$f":"MAX(COUNTRY_INFO!D123*AK123*PROFILE!$G$9,COUNTRY_INFO!D123*AL123*PROFILE!$G$9,COUNTRY_INFO!D123*AM123*PROFILE!$G$9,IF(AND(DISTRICT!Z123<>\"Unknown\",Z123<>\"Not required\"),COUNTRY_INFO!O123*DISTRICT!AN123,0))","v":103940.86467311755},{"$f":"MAX(COUNTRY_INFO!D123*AK123*PROFILE!$G$10,COUNTRY_INFO!D123*AL123*PROFILE!$G$10,IF(AND(DISTRICT!Z123<>\"Unknown\",Z123<>\"Not required\"),COUNTRY_INFO!O123*DISTRICT!AO123,0))","v":0},152813.69189069339,"Y",{"$f":"MAX('MDA2'!J123,'T1'!L123,'T2'!J123,T3_R1!K123,T3_R2!K123)","v":45953},{"$f":"MAX('MDA1'!K123,'MDA2'!K123,'MDA3'!I123,'MDA3'!L123,'T1'!M123,'T2'!K123,T3_R1!L123,T3_R2!L123)","v":61783},{"$f":"MAX('MDA1'!L123,'MDA2'!L123,'MDA3'!J123,'MDA3'!M123,'T1'!N123,'T2'!L123,T3_R1!M123,T3_R2!M123)","v":0},107736,{"$f":"MAX('MDA2'!J123,T123)","v":45953},{"$f":"MAX('MDA1'!K123,'MDA2'!K123,'MDA3'!I123,'MDA3'!L123,V123,AD123)","v":61783},{"$f":"MAX('MDA1'!L123,'MDA2'!L123,'MDA3'!J123,'MDA3'!M123,AF123)","v":0},107736,70.501535999184455]
[{"$f":"IF(COUNTRY_INFO!A124=0,\" \",COUNTRY_INFO!A124)","v":"Uganda"},{"$f":"IF(COUNTRY_INFO!B124=0,\" \",COUNTRY_INFO!B124)","v":"Western"},{"$f":"IF(COUNTRY_INFO!C124=0,\" \",COUNTRY_INFO!C124)","v":"Sheema"},{"$f":"COUNTRY_INFO!L124","v":0},null,null,{"$f":"MAX('MDA1'!M124,'MDA2'!M124)","v":0},{"$f":"IF(AND(COUNTRY_INFO!H124>0,COUNTRY_INFO!H124<4),IF(D124>MAX('MDA1'!M124,'MDA2'!M124),MAX('MDA1'!M124,'MDA2'!M124),D124),0)","v":0},{"$f":"IF(AND(COUNTRY_INFO!H124>0,COUNTRY_INFO!H124<4), IF(G124/D124*100<>0, IF(G124/D124*100>100,100,G124/D124*100), \"-\"),0)","v":0},{"$f":"COUNTRY_INFO!M124","v":0},null,null,{"$f":"MAX('MDA1'!M124,MAX('MDA3'!I124,'MDA3'!L124)+MAX('MDA3'!J124,'MDA3'!M124))","v":0},{"$f":"IF(AND(COUNTRY_INFO!I124>0,COUNTRY_INFO!I124<4),IF(J124>MAX('MDA1'!M124,MAX('MDA3'!I124,'MDA3'!L124)+MAX('MDA3'!J124,'MDA3'!M124)),MAX('MDA1'!M124,MAX('MDA3'!I124,'MDA3'!L124)+MAX('MDA3'!J124,'MDA3'!M124)),J124),0)","v":0},{"$f":"IF(AND(COUNTRY_INFO!I124>0,COUNTRY_INFO!I124<4), IF(M124/J124*100<>0, IF(M124/J124*100>100,100,M124/J124*100), \"-\"),0)","v":0},{"$f":"COUNTRY_INFO!N124","v":100685},null,null,{"$f":"SUM(MAX('MDA2'!J124, 'T1'!L124, MAX(T3_R1!K124, T3_R2!K124)), MAX('MDA1'!K124, 'MDA2'!K124, 'T1'!M124, MAX(T3_R1!L124, T3_R2!L124)), MAX('MDA1'!L124, 'MDA2'!L124, 'T1'!N124, MAX(T3_R1!M124, T3_R2!M124)))","v":42914},{"$f":"IF(AND(COUNTRY_INFO!J124>1,COUNTRY_INFO!J124<4),IF(COUNTRY_INFO!E124>MAX('MDA2'!J124,'T1'!L124,MAX(T3_R1!K124,T3_R2!K124)),MAX('MDA2'!J124,'T1'!L124,MAX(T3_R1!K124,T3_R2!K124)),COUNTRY_INFO!E124),0)","v":21902},{"$f":"IF(AND(COUNTRY_INFO!J124>1,COUNTRY_INFO!J124<4), IF(T124/COUNTRY_INFO!E124*100<>0, IF(T124/COUNTRY_INFO!E124*100>100,100,T124/COUNTRY_INFO!E124*100), \"-\"),0)","v":68.01652122604888},{"$f":"IF(AND(COUNTRY_INFO!J124>1,COUNTRY_INFO!J124<4),IF(COUNTRY_INFO!F124>MAX('MDA1'!K124,'MDA2'!K124,'T1'!M124,MAX(T3_R1!L124,T3_R2!L124)),MAX('MDA1'!K124,'MDA2'!K124,'T1'!M124,MAX(T3_R1!L124,T3_R2!L124)),COUNTRY_INFO!F124),0)","v":21012},{"$f":"IF(AND(COUNTRY_INFO!J124>1,COUNTRY_INFO!J124<4), IF(V124/COUNTRY_INFO!F124*100<>0, IF(V124/COUNTRY_INFO!F124*100>100,100,V124/COUNTRY_INFO!F124*100), \"-\"),0)","v":30.681619064306993},42914,{"$f":"IF(AND(COUNTRY_INFO!J124>1,COUNTRY_INFO!J124<4), IF(S124/P124*100<>0, IF(X124/P124*100>100,100,X124/P124*100), \"-\"),0)","v":42.62203903262651},{"$f":"COUNTRY_INFO!O124","v":0},null,null,{"$f":"MAX('T1'!L124,'T2'!J124)+MAX('T1'!M124,'T2'!K124)+MAX('T1'!N124,'T2'!L124)","v":0},{"$f":"IF(COUNTRY_INFO!K124=1,IF(COUNTRY_INFO!F124*0.33>MAX('T1'!M124,'T2'!K124),MAX('T1'!M124,'T2'!K124),COUNTRY_INFO!F124*0.33),IF(COUNTRY_INFO!K124=2,IF(COUNTRY_INFO!F124*0.5>MAX('T1'!M124,'T2'!K124),MAX('T1'!M124,'T2'!K124),COUNTRY_INFO!F124*0.5),IF(COUNTRY_INFO!K124=3,IF(COUNTRY_INFO!F124>MAX('T1'!M124,'T2'!K124),MAX('T1'!M124,'T2'!K124),COUNTRY_INFO!F124),0)))","v":0},{"$f":"IF(AND(COUNTRY_INFO!K124>0,COUNTRY_INFO!K124<4),IF(Z124>0,IF(COUNTRY_INFO!K124=1, AD124/(COUNTRY_INFO!F124*0.33)*100, IF(COUNTRY_INFO!K124=2, AD124/(COUNTRY_INFO!F124*0.5)*100, IF(COUNTRY_INFO!K124=3, AD124/COUNTRY_INFO!F124*100))),\"-\"),0)","v":0},{"$f":"IF(COUNTRY_INFO!K124=2,IF(COUNTRY_INFO!G124*0.2>MAX('T1'!N124,'T2'!L124),MAX('T1'!N124,'T2'!L124),COUNTRY_INFO!G124*0.2),IF(COUNTRY_INFO!K124=3,IF(COUNTRY_INFO!G124>MAX('T1'!N124,'T2'!L124),MAX('T1'!N124,'T2'!L124),COUNTRY_INFO!G124),0))","v":0},{"$f":"IF(AND(COUNTRY_INFO!K124>0,COUNTRY_INFO!K124<4),IF(Z124>0,IF(COUNTRY_INFO!K124=1, 0, IF(COUNTRY_INFO!K124=2, AF124/(COUNTRY_INFO!G124*0.2)*100, IF(COUNTRY_INFO!K124=3, AF124/COUNTRY_INFO!G124*100))),\"-\"),0)","v":0},0,{"$f":"IF(AND(COUNTRY_INFO!K124>0,COUNTRY_INFO!K124<4), IF(AC124/Z124*100<>0, IF(AH124/Z124*100>100,100,AH124/Z124*100), \"-\"),0)","v":0},null,{"$f":"IF(AND(D124<>0, D124<>\"Unknown\",D124<>\"Stopped\",D124<>\"Not required\"),D124/COUNTRY_INFO!D124, 0)","v":0},{"$f":"IF(AND(J124<>0,J124<>\"Unknown\",J124<>\"Stopped\",J124<>\"Not required\"),J124/COUNTRY_INFO!D124, 0)","v":0},{"$f":"IF(AND(P124<>0,P124<>\"Unknown\",P124<>\"Not required\"),P124/(COUNTRY_INFO!E124+COUNTRY_INFO!F124), 0)","v":1},{"$f":"IF(AND(Z124<>0,Z124<>\"Unknown\",Z124<>\"Not required\"),IF(COUNTRY_INFO!K124=1,1,IF(COUNTRY_INFO!K124=2,0.5*COUNTRY_INFO!F124/(0.5*COUNTRY_INFO!F124+0.2*COUNTRY_INFO!G124),IF(COUNTRY_INFO!K124=3,COUNTRY_INFO!F124/(COUNTRY_INFO!F124+COUNTRY_INFO!G124)))),0)","v":0},{"$f":"IF(AND(Z124<>0,Z124<>\"Unknown\",Z124<>\"Not required\"),IF(COUNTRY_INFO!K124=1,0,IF(COUNTRY_INFO!K124=2,0.2*COUNTRY_INFO!G124/(0.5*COUNTRY_INFO!F124+0.2*COUNTRY_INFO!G124),IF(COUNTRY_INFO!K124=3,COUNTRY_INFO!G124/(COUNTRY_INFO!F124+COUNTRY_INFO!G124)))),0)","v":0},{"$f":"MAX(COUNTRY_INFO!D124*AK124*PROFILE!$G$7,COUNTRY_INFO!D124*AL124*PROFILE!$G$7)","v":0},{"$f":"MAX(COUNTRY_INFO!D124*AK124*PROFILE!$G$8,COUNTRY_INFO!D124*AL124*PROFILE!$G$8,COUNTRY_INFO!D124*AM124*PROFILE!$G$8)","v":32200.898989316542},{"$f":"MAX(COUNTRY_INFO!D124*AK124*PROFILE!$G$9,COUNTRY_INFO!D124*AL124*PROFILE!$G$9,COUNTRY_INFO!D124*AM124*PROFILE!$G$9,IF(AND(DISTRICT!Z124<>\"Unknown\",Z124<>\"Not required\"),COUNTRY_INFO!O124*DISTRICT!AN124,0))","v":68483.643667694778},{"$f":"MAX(COUNTRY_INFO!D124*AK124*PROFILE!$G$10,COUNTRY_INFO!D124*AL124*PROFILE!$G$10,IF(AND(DISTRICT!Z124<>\"Unknown\",Z124<>\"Not required\"),COUNTRY_INFO!O124*DISTRICT!AO124,0))","v":0},100684.54265701132,"Y",{"$f":"MAX('MDA2'!J124,'T1'!L124,'T2'!J124,T3_R1!K124,T3_R2!K124)","v":21902},{"$f":"MAX('MDA1'!K124,'MDA2'!K124,'MDA3'!I124,'MDA3'!L124,'T1'!M124,'T2'!K124,T3_R1!L124,T3_R2!L124)","v":21012},{"$f":"MAX('MDA1'!L124,'MDA2'!L124,'MDA3'!J124,'MDA3'!M124,'T1'!N124,'T2'!L124,T3_R1!M124,T3_R2!M124)","v":0},42914,{"$f":"MAX('MDA2'!J124,T124)","v":21902},{"$f":"MAX('MDA1'!K124,'MDA2'!K124,'MDA3'!I124,'MDA3'!L124,V124,AD124)","v":21012},{"$f":"MAX('MDA1'!L124,'MDA2'!L124,'MDA3'!J124,'MDA3'!M124,AF124)","v":0},42914,42.622232636234372]

{"sheet":"SUMMARY","index":10,"n_rows":70,"n_cols":8,"rows_kept":70,"cut":false,"hidden":false,"merged":[[69,1,69,2],[36,1,36,2],[37,1,37,2],[38,1,38,2],[66,1,66,7],[62,1,62,2],[54,1,60,7],[68,1,68,2],[63,3,64,7],[49,1,49,7],[62,3,62,7],[50,3,50,4],[32,1,32,2],[33,1,33,2],[34,1,34,2],[35,1,35,2],[23,1,23,5],[31,1,31,2],[24,1,24,5],[25,1,25,5],[26,1,26,5],[27,1,27,5],[15,1,15,3],[0,1,0,5],[1,1,1,7],[5,1,11,7],[3,3,3,5]]}
[]
[null,"PC Joint Reporting Form v.3"]
[]
[null,"Country",null,{"$f":"IF(INTRO!$E$34<>0,INTRO!$E$34,\" \")","v":"Uganda"},null,null,"Year",{"$f":"IF(INTRO!$E$36<>0,INTRO!$E$36,\" \")","v":2017}]
[]
[null,"National authorities are requested to complete the Joint Reporting Form (JRF) for submission to the World Health Organization any time before 15 August of the current year for reporting data on PC interventions implemented during the previous year."]
[]
[]
[]
[]
[]
[]
[]
[null,"Number of people received treatment (at least once) for the diseases"]
[]
[null,null,null,null,"PreSAC","SAC","Adults","Total"]
[null,"Lymphatic filariasis",null,null,"Not eligible",726439,1253228,{"$f":"SUM(E17:G17)","v":1979667}]
[null,"Onchocerciasis",null,null,"Not eligible",1287251,2220722,{"$f":"SUM(E18:G18)","v":3507973}]
[null,"Soil-transmitted helminthiases",null,null,5830926,4524265,1253228,{"$f":"SUM(E19:G19)","v":11608419}]
[null,"Schistosomiasis",null,null,"Not targeted",3275464,2545916,{"$f":"SUM(E20:G20)","v":5821380}]
[]
[null,"Coverage of PC interventions for the diseases (%)"]
[]
[null,null,null,null,null,null,"Geographical","National"]
[null,"Lymphatic filariasis",null,null,null,null,100,66.200476723608645]
[null,"Onchocerciasis",null,null,null,null,100,83.638647070853409]
[null,"Soil-transmitted helminthiases",null,null,null,null,100,50.811761681602761]
[null,"Schistosomiasis",null,null,null,null,100,66.771033892324482]
[]
[null,"Number of people treated and programme coverage (%) by PC interventions"]
[]
[null,null,null,"PreSAC","SAC","Adults","Total","Coverage (%)"]
[null,"MDA 1 (IVM+ALB)",null,"Not eligible",{"$f":"'MDA1'!$K$4","v":726439},{"$f":"'MDA1'!$L$4","v":1253228},{"$f":"'MDA1'!$M$4","v":1979667},{"$f":"'MDA1'!$Q$4","v":80.438071160660627}]
[null,"MDA 2 (DEC+ALB)",null,{"$f":"'MDA2'!$J$4","v":0},{"$f":"'MDA2'!$K$4","v":0},{"$f":"'MDA2'!$L$4","v":0},{"$f":"'MDA2'!$M$4","v":0},{"$f":"'MDA2'!$Q$4","v":" "}]
[null,"MDA 3 (IVM)",null,"Not eligible",{"$f":"'MDA3'!$O$4","v":789336},{"$f":"'MDA3'!$P$4","v":1361736},{"$f":"'MDA3'!$Q$4","v":2151072},{"$f":"'MDA3'!$T$4","v":94.933392177414916}]
[null,"T 1 (PZQ+ALB/MBD)",null,{"$f":"IF('T1'!$L$4<>0,'T1'!$L$4,\"Not targeted\")","v":"Not targeted"},{"$f":"'T1'!$M$4","v":0},{"$f":"IF('T1'!$N$4<>0,'T1'!$N$4,\"Not targeted\")","v":"Not targeted"},{"$f":"'T1'!$O$4","v":0},{"$f":"'T1'!$S$4","v":" "}]
[null,"T 2 (PZQ)",null,{"$f":"IF('T2'!$J$4<>0,'T2'!$J$4,\"Not targeted\")","v":"Not targeted"},{"$f":"'T2'!$K$4","v":3275464},{"$f":"'T2'!$L$4","v":2545916},{"$f":"'T2'!$M$4","v":5821380},{"$f":"'T2'!$Q$4","v":78.043455878094463}]
[null,"T 3 (ALB/MBD) - round 1",null,{"$f":"T3_R1!$K$4","v":4724858},{"$f":"T3_R1!$L$4","v":3510398},{"$f":"IF(T3_R1!$M$4<>0,T3_R1!$M$4,\"Not targeted\")","v":"Not targeted"},{"$f":"T3_R1!$N$4","v":8235256},{"$f":"T3_R1!$R$4","v":48.992962663763628}]
[null,"T 3 (ALB/MBD) - round 2",null,{"$f":"T3_R2!$K$4","v":4806034},{"$f":"T3_R2!$L$4","v":2540995},{"$f":"IF(T3_R2!$M$4<>0,T3_R2!$M$4,\"Not targeted\")","v":"Not targeted"},{"$f":"T3_R2!$N$4","v":7347029},{"$f":"T3_R2!$R$4","v":43.708746575284195}]
[]
[null,"Inventory of PC medicines in the country"]
[]
[null,null,"IVM","DEC","ALB (LF)","ALB (STH)","MBD","PZQ"]
[null,"Available",null,null,null,null,1326000]
[null,"Distributed",16462920,null,1979667,19123925,15582285,8188660]
[null,"Wasted",32926,null,null,null,null,8189]
[null,"Received",null,null,null,null,17145288,7855313]
[null,"Remaining",{"$f":"C44-C45-C46+C47","v":-16495846},0,-1979667,-19123925,2889003,-341536]
[]
[null,"Please indicate the medicine has been used to treat PreSAC for STH and delivery channels"]
[null,"PC medicine","Mebendazole","Delivery channels",null,"Child Day","Source","CHD+NTD"]
[]
[null,"Additional information"]
[]
[null,"The STH treatment is done vertically by different organisation. A district can have more rounds of treatment for STH. That is IVM+ALB by NTD programe, Treatment using school health programme and Village health system. Wrong projections using the district population, refuge host districts and cross borders. That’s why the coverage is sometimes more than 100%.\n\nMedicine recieved from WHO was not available at time compilation.\n"]
[]
[]
[]
[]
[]
[]
[]
[null,"Name and signature of NTD coordinator or Ministry of Health representative:",null,"Edridah Muheki"]
[null,null,null,"2018-07-13"]
[null,"Date:"]
[]
[null,"Please send the national report (signed and in electronic format) to the concerned WR with copy to:"]
[]
[null,"WHO headquarters",null,"PC_JointForms@who.int"]
[null,"WHO Regional Office",null,"Regional Advisor for NTD"]

{"sheet":"PROFILE","index":11,"n_rows":124,"n_cols":8,"rows_kept":124,"cut":false,"hidden":false,"merged":[[79,1,79,3],[123,1,124,7],[85,6,85,7],[87,6,87,7],[89,6,89,7],[86,6,86,7],[88,6,88,7],[9,1,9,2],[4,1,4,7],[5,1,5,2],[81,1,81,3],[19,1,19,6],[9,3,9,5],[43,1,43,3],[77,1,77,3],[80,1,80,3],[6,3,6,5],[7,3,7,5],[8,3,8,5],[78,1,78,3],[23,1,23,3],[11,1,11,6],[20,1,20,6],[0,1,0,5],[1,1,1,7],[3,3,3,5],[69,1,69,3],[73,1,73,3],[26,1,26,3],[27,1,27,3],[28,1,28,3],[59,1,59,3],[5,3,5,5],[30,1,30,3],[34,1,34,3],[42,1,42,3],[6,1,6,2],[7,1,7,2],[8,1,8,2],[12,1,12,6],[47,1,47,3],[51,1,51,3],[55,1,55,3],[65,1,65,3],[29,1,29,3],[21,1,21,6],[16,1,16,6],[18,1,18,6],[17,1,17,6],[63,1,63,3],[13,1,13,6],[14,1,14,6],[15,1,15,6]]}
[]
[null,"PC Joint Reporting Form v.3 - Country Profile"]
[]
[null,"Country",null,{"$f":"IF(INTRO!$E$34<>0,INTRO!$E$34,\" \")","v":"Uganda"},null,null,"Year",{"$f":"IF(INTRO!$E$36<>0,INTRO!$E$36,\" \")","v":2017}]
[null,"!!! WARNING !!!\nBefore analysing data in the country profile please be ensure that your report in the SUMMARY tab is updated"]
[null,"Total population",null,null,null,null,1,{"$f":"COUNTRY_INFO!D4","v":37858243}]
[null,"Population — other age groups",null,null,null,null,{"$f":"IF($H$6<>0,H7/$H$6,0)","v":3.500009231807192E-2},{"$f":"H6-SUM(H8:H10)","v":1325042}]
[null,"Population — Pre-SAC",null,{"$f":"INTRO!B48","v":"1-4 years age"},null,null,{"$f":"IF($H$6<>0,H8/$H$6,0)","v":0.14199993380569723},{"$f":"COUNTRY_INFO!E4","v":5375868}]
[null,"Population — SAC",null,{"$f":"INTRO!B49","v":"5-14 years age"},null,null,{"$f":"IF($H$6<>0,H9/$H$6,0)","v":0.30200004263272334},{"$f":"COUNTRY_INFO!F4","v":11433191}]
[null,"Population — Adults",null,{"$f":"INTRO!B50","v":"15 years +"},null,null,0.52099993124350752,{"$f":"COUNTRY_INFO!G4","v":19724142}]
[]
[null,"Total number of people requiring PC for at least one disease (LF, ONCHO, STH, SCH)",null,null,null,null,null,{"$f":"DISTRICT!AT6","v":21869580.358460404}]
[null,"Proportion of number of people requiring PC for at least one disease out of total population",null,null,null,null,null,{"$f":"IF(H6<>0,H12/H6,0)","v":0.57767024102149711}]
[null,"Number of IUs requiring PC for at least one disease (LF, ONCHO, STH, SCH)",null,null,null,null,null,{"$f":"COUNTIF(DISTRICT!AT9:AT1000,\">0\")","v":116}]
[null,"Number of IUs received PC for at least one disease (LF, ONCHO, STH, SCH)",null,null,null,null,null,{"$f":"COUNTIF(DISTRICT!AY9:AY1000,\">0\")","v":116}]
[null,"Proportion of IUs requiring PC for at least one disease and received it",null,null,null,null,null,{"$f":"IF(H14<>0,H15/H14,0)","v":1}]
[null,"Total number of people received PC for at least one disease (LF, ONCHO, STH, SCH)",null,null,null,null,null,{"$f":"DISTRICT!AY6","v":15229718}]
[null,"Total number of people in need who received PC for at least one disease (LF, ONCHO, STH, SCH)",null,null,null,null,null,{"$f":"DISTRICT!BC6","v":13067828.21888233}]
[null,"Coverage of PC for at least one disease (LF, ONCHO, STH, SCH)",null,null,null,null,null,{"$f":"DISTRICT!BD6","v":0.59753447504203927}]
[null,"Number of IUs received treatment for all diseases requiring PC in those IUs",null,null,null,null,null,{"$f":"DISTRICT!AU6","v":116}]
[null,"Population requiring PC in IUs which received treatment for all diseases in need of PC",null,null,null,null,null,{"$f":"SUMIF(DISTRICT!AU9:AU1000,\"Y\",DISTRICT!AT9:AT1000)","v":21869580.358460404}]
[null,"Population received PC in IUs which were treated for all diseases in need of PC",null,null,null,null,null,{"$f":"SUMIF(DISTRICT!AU9:AU1000,\"Y\",DISTRICT!AY9:AY1000)","v":15229718}]
[]
[null,null,null,null,"LF","ONCHO","STH","SCH"]
[]
[null,"Diseases requiring PC in the country",null,null,{"$f":"IF(INTRO!E38=\"Endemic\",\"Yes\",\"No\")","v":"Yes"},{"$f":"IF(INTRO!E40=\"Endemic\",\"Yes\",\"No\")","v":"Yes"},{"$f":"IF(INTRO!E42=\"Endemic\",\"Yes\",\"No\")","v":"Yes"},{"$f":"IF(INTRO!E44=\"Endemic\",\"Yes\",\"No\")","v":"Yes"}]
[null,"Number of implementation units (IUs) in the country",null,null,{"$f":"IF(E26=\"Yes\",INTRO!$E$46,\"-\")","v":116},{"$f":"IF(F26=\"Yes\",INTRO!$E$46,\"-\")","v":116},{"$f":"IF(G26=\"Yes\",INTRO!$E$46,\"-\")","v":116},{"$f":"IF(H26=\"Yes\",INTRO!$E$46,\"-\")","v":116}]
[null,"Number of IUs with endemicity status known",null,null,{"$f":"IF(E26=\"Yes\",E27-E29,\"-\")","v":116},{"$f":"IF(F26=\"Yes\",F27-F29,\"-\")","v":116},{"$f":"IF(G26=\"Yes\",G27-G29,\"-\")","v":116},{"$f":"IF(H26=\"Yes\",H27-H29,\"-\")","v":116}]
[null,"Number of IUs with endemicity status unknown",null,null,{"$f":"IF(E26=\"Yes\",E27-(992-COUNTIF(COUNTRY_INFO!H$9:H$1000,\"\"))+COUNTIF(COUNTRY_INFO!H$9:H$1000,\"=4\"),\"-\")","v":0},{"$f":"IF(F26=\"Yes\",F27-(992-COUNTIF(COUNTRY_INFO!I$9:I$1000,\"\"))+COUNTIF(COUNTRY_INFO!I$9:I$1000,\"=4\"),\"-\")","v":0},{"$f":"IF(G26=\"Yes\",G27-(992-COUNTIF(COUNTRY_INFO!J$9:J$1000,\"\"))+COUNTIF(COUNTRY_INFO!J$9:J$1000,\"=4\")+COUNTIF(COUNTRY_INFO!J$9:J$1000,\"=5\"),\"-\")","v":0},{"$f":"IF(H26=\"Yes\",H27-(992-COUNTIF(COUNTRY_INFO!K$9:K$1000,\"\"))+COUNTIF(COUNTRY_INFO!K$9:K$1000,\"=4\")+COUNTIF(COUNTRY_INFO!K$9:K$1000,\"=5\"),\"-\")","v":0}]
[null,"Number of non-endemic IUs",null,null,{"$f":"IF(E26=\"Yes\",COUNTIF(COUNTRY_INFO!H$9:H$1000,\"=0\"),\"-\")","v":61},{"$f":"IF(F26=\"Yes\",COUNTIF(COUNTRY_INFO!I$9:I$1000,\"=0\"),\"-\")","v":78},{"$f":"IF(G26=\"Yes\",COUNTIF(COUNTRY_INFO!J$9:J$1000,\"=0\"),\"-\")","v":0},{"$f":"IF(H26=\"Yes\",COUNTIF(COUNTRY_INFO!K$9:K$1000,\"=0\"),\"-\")","v":38}]
[null,"Number of IUs requiring PC (total)",null,null,{"$f":"COUNTIF(COUNTRY_INFO!H$9:H$1000,\"=1\")","v":9},{"$f":"COUNTIF(COUNTRY_INFO!I$9:I$1000,\"=1\")","v":23},{"$f":"SUM(G33:G34)","v":116},{"$f":"SUM(H32:H34)","v":78}]
[null,null,null,"low prevalence",null,null,{"$f":"COUNTIF(COUNTRY_INFO!J$9:J$1000,\"=1\")","v":0},{"$f":"COUNTIF(COUNTRY_INFO!K$9:K$1000,\"=1\")","v":34}]
[null,null,null,"moderate prevalence",null,null,{"$f":"COUNTIF(COUNTRY_INFO!J$9:J$1000,\"=2\")","v":0},{"$f":"COUNTIF(COUNTRY_INFO!K$9:K$1000,\"=2\")","v":11}]
[null,null,null,"high prevalence",null,null,{"$f":"COUNTIF(COUNTRY_INFO!J$9:J$1000,\"=3\")","v":116},{"$f":"COUNTIF(COUNTRY_INFO!K$9:K$1000,\"=3\")","v":33}]
[null,"Population requiring PC in the country (total)",null,null,{"$f":"COUNTRY_INFO!L4","v":2990412},{"$f":"COUNTRY_INFO!M4","v":2669822},{"$f":"COUNTRY_INFO!N4","v":16809059},{"$f":"COUNTRY_INFO!O4","v":7459152}]
[null,null,"Pre-SAC","moderate prevalence",null,null,{"$f":"SUMIF(COUNTRY_INFO!J$9:J$1000,\"=2\",COUNTRY_INFO!E$9:E$1000)","v":0}]
[null,null,null,"high prevalence",null,null,{"$f":"SUMIF(COUNTRY_INFO!J$9:J$1000,\"=3\",COUNTRY_INFO!E$9:E$1000)","v":5375868}]
[null,null,"SAC","low prevalence",null,null,null,{"$f":"SUMIF(COUNTRY_INFO!K$9:K$1000,\"=1\",COUNTRY_INFO!F$9:F$1000)*0.33","v":1081798.08}]
[null,null,null,"moderate prevalence",null,null,{"$f":"SUMIF(COUNTRY_INFO!J$9:J$1000,\"=2\",COUNTRY_INFO!F$9:F$1000)","v":0},{"$f":"SUMIF(COUNTRY_INFO!K$9:K$1000,\"=2\",COUNTRY_INFO!F$9:F$1000)*0.5","v":907076.5}]
[null,null,null,"high prevalence",null,null,{"$f":"SUMIF(COUNTRY_INFO!J$9:J$1000,\"=3\",COUNTRY_INFO!F$9:F$1000)","v":11433191},{"$f":"SUMIF(COUNTRY_INFO!K$9:K$1000,\"=3\",COUNTRY_INFO!F$9:F$1000)","v":3155721}]
[null,null,"Adults","moderate prevalence",null,null,null,{"$f":"SUMIF(COUNTRY_INFO!K$9:K$1000,\"=2\",COUNTRY_INFO!G$9:G$1000)*0.2","v":625942.6}]
[null,null,null,"high prevalence",null,null,null,{"$f":"SUMIF(COUNTRY_INFO!K$9:K$1000,\"=3\",COUNTRY_INFO!G$9:G$1000)","v":5444139}]
[null,"Number of IUs where PC was implemented (total)",null,null,{"$f":"COUNTIF(DISTRICT!G$9:G$1000,\">0\")","v":9},{"$f":"COUNTIF(DISTRICT!M$9:M$1000,\">0\")","v":27},{"$f":"COUNTIF(DISTRICT!S$9:S$1000,\">0\")","v":116},{"$f":"COUNTIF(DISTRICT!AC$9:AC$1000,\">0\")","v":78}]
[null,"Number of IUs in need where PC was implemented (total)",null,null,{"$f":"COUNTIF(DISTRICT!H$9:H$1000,\">0\")","v":9},{"$f":"COUNTIF(DISTRICT!N$9:N$1000,\">0\")","v":23},{"$f":"COUNTIF(DISTRICT!X$9:X$1000,\">0\")","v":116},{"$f":"COUNTIF(DISTRICT!AH$9:AH$1000,\">0\")","v":78}]
[null,null,"Pre-SAC",null,null,null,{"$f":"COUNTIF(DISTRICT!T$9:T$1000,\">0\")","v":116}]
[null,null,"SAC",null,null,null,{"$f":"COUNTIF(DISTRICT!V$9:V$1000,\">0\")","v":116},{"$f":"COUNTIF(DISTRICT!AD$9:AD$1000,\">0\")","v":78}]
[null,null,"Adults",null,null,null,null,{"$f":"COUNTIF(DISTRICT!AF$9:AF$1000,\">0\")","v":44}]
[null,"Number of individuals treated (total)",null,null,{"$f":"DISTRICT!G4","v":1979667},{"$f":"DISTRICT!M4","v":3507973},{"$f":"DISTRICT!S4","v":11608419},{"$f":"DISTRICT!AC4","v":5821380}]
[null,null,"Pre-SAC",null,{"$f":"SUMMARY!$E17","v":"Not eligible"},{"$f":"SUMMARY!$E18","v":"Not eligible"},{"$f":"SUMMARY!$E19","v":5830926},{"$f":"SUMMARY!$E20","v":"Not targeted"}]
[null,null,"SAC",null,{"$f":"SUMMARY!$F17","v":726439},{"$f":"SUMMARY!$F18","v":1287251},{"$f":"SUMMARY!$F19","v":4524265},{"$f":"SUMMARY!$F20","v":3275464}]
[null,null,"Adults",null,{"$f":"SUMMARY!$G17","v":1253228},{"$f":"SUMMARY!$G18","v":2220722},{"$f":"SUMMARY!$G19","v":1253228},{"$f":"SUMMARY!$G20","v":2545916}]
[null,"Number of individuals in need treated (total)",null,null,{"$f":"DISTRICT!H4","v":1979667},{"$f":"DISTRICT!N4","v":2233003},{"$f":"DISTRICT!X4","v":8540979},{"$f":"DISTRICT!AH4","v":4980552.9099999992}]
[null,null,"Pre-SAC",null,null,null,{"$f":"DISTRICT!T4","v":4154144}]
[null,null,"SAC",null,null,null,{"$f":"DISTRICT!V4","v":4386835},{"$f":"DISTRICT!AD4","v":2713356.31}]
[null,null,"Adults",null,null,null,null,{"$f":"DISTRICT!AF4","v":2267196.6}]
[null,"Geographical coverage (all ages)",null,null,{"$f":"IF(E31<>0,E44/E31,0)","v":1},{"$f":"IF(F31<>0,F44/F31,0)","v":1},{"$f":"IF(G31<>0,G44/G31,0)","v":1},{"$f":"IF(H31<>0,H44/H31,0)","v":1}]
[null,null,"Pre-SAC",null,null,null,{"$f":"IF(G31<>0,G45/G31,0)","v":1}]
[null,null,"SAC",null,null,null,{"$f":"IF(G31<>0,G46/G31,0)","v":1},{"$f":"IF(H31<>0,H46/H31,0)","v":1}]
[null,null,"Adults",null,null,null,null,{"$f":"IF(SUM(H33:H34)<>0,H47/SUM(H33:H34),0)","v":1}]
[null,"National coverage (total)",null,null,{"$f":"IF(E35<>0,E52/E35,0)","v":0.66200476723608648},{"$f":"IF(F35<>0,F52/F35,0)","v":0.83638647070853411},{"$f":"IF(G35<>0,G52/G35,0)","v":0.50811761681602763},{"$f":"IF(H35<>0,H52/H35,0)","v":0.66771033892324483}]
[null,null,"Pre-SAC",null,null,null,{"$f":"IF(SUM(G36:G37)<>0,G53/SUM(G36:G37),0)","v":0.77273921160266579}]
[null,null,"SAC",null,null,null,{"$f":"IF(SUM(G39:G40)<>0,G54/SUM(G39:G40),0)","v":0.38369296900576577},{"$f":"IF(SUM(H38:H40)<>0,H54/SUM(H38:H40),0)","v":0.52741877720153074}]
[null,null,"Adults",null,null,null,null,{"$f":"IF(SUM(H41:H42)<>0,H55/SUM(H41:H42),0)","v":0.37350347975552756}]
[null,null,null,null,"LF","ONCHO","STH","SCH"]
[]
[null,"Number of IUs achieved effective coverage (all ages)",null,null,{"$f":"COUNTIF(DISTRICT!I$9:I$1000,\">=65\")","v":5},{"$f":"COUNTIF(DISTRICT!O$9:O$1000,\">=65\")","v":23},{"$f":"COUNTIF(DISTRICT!Y$9:Y$1000,\">=75\")","v":19},{"$f":"COUNTIF(DISTRICT!AI$9:AI$1000,\">=75\")","v":47}]
[null,null,"Pre-SAC",null,null,null,{"$f":"COUNTIF(DISTRICT!U$9:U$1000,\">=75\")","v":82}]
[null,null,"SAC",null,null,null,{"$f":"COUNTIF(DISTRICT!W$9:W$1000,\">=75\")","v":13},{"$f":"COUNTIF(DISTRICT!AE$9:AE$1000,\">=75\")","v":35}]
[null,null,"Adults",null,null,null,null,{"$f":"COUNTIF(DISTRICT!AG$9:AG$1000,\">=75\")","v":13}]
[null,"Number of individuals in need treated in IUs achieved effective coverage (total)",null,null,{"$f":"SUMIF(DISTRICT!I9:I1000,\">=65\",DISTRICT!H9:H1000)","v":732298},{"$f":"SUMIF(DISTRICT!O9:O1000,\">=65\",DISTRICT!N9:N1000)","v":2233003},{"$f":"SUMIF(DISTRICT!Y9:Y1000,\">=75\",DISTRICT!X9:X1000)","v":2176514},{"$f":"SUMIF(DISTRICT!AI9:AI1000,\">=75\",DISTRICT!AH9:AH1000)","v":3085147}]
[null,null,"Pre-SAC",null,null,null,{"$f":"SUMIF(DISTRICT!U9:U1000,\">=75\",DISTRICT!T9:T1000)","v":3208042}]
[null,null,"SAC",null,null,null,{"$f":"SUMIF(DISTRICT!W9:W1000,\">=75\",DISTRICT!V9:V1000)","v":1093562},{"$f":"SUMIF(DISTRICT!AE9:AE1000,\">=75\",DISTRICT!AD9:AD1000)","v":1445221.31}]
[null,null,"Adults",null,null,null,null,{"$f":"SUMIF(DISTRICT!AG9:AG1000,\">=75\",DISTRICT!AF9:AF1000)","v":631354.6}]
[null,"Proportion of IUs requiring PC and achieved effective coverage (total)",null,null,{"$f":"IF(E44<>0,E66/E44,0)","v":0.55555555555555558},{"$f":"IF(F44<>0,F66/F44,0)","v":1},{"$f":"IF(G44<>0,G66/G44,0)","v":0.16379310344827586},{"$f":"IF(H44<>0,H66/H44,0)","v":0.60256410256410253}]
[null,null,"Pre-SAC",null,null,null,{"$f":"IF(G45<>0,G67/G45,0)","v":0.7068965517241379}]
[null,null,"SAC",null,null,null,{"$f":"IF(G46<>0,G68/G46,0)","v":0.11206896551724138},{"$f":"IF(H46<>0,H68/H46,0)","v":0.44871794871794873}]
[null,null,"Adults",null,null,null,null,{"$f":"IF(H47<>0,H69/H47,0)","v":0.29545454545454547}]
[null,"Number of implementation units where PC was stopped (i.e. under surveillance)",null,null,{"$f":"COUNTIF(COUNTRY_INFO!H$9:H$1000,\"=99\")","v":46},{"$f":"COUNTIF(COUNTRY_INFO!I$9:I$1000,\"=99\")","v":15}]
[null,"Number of individuals in IUs no longer requiring PC (stopped)",null,null,{"$f":"SUMIF(COUNTRY_INFO!H$9:H$1000,\"=99\",COUNTRY_INFO!D$9:D$1000)","v":12261970},{"$f":"SUMIF(COUNTRY_INFO!I$9:I$1000,\"=99\",COUNTRY_INFO!D$9:D$1000)","v":4587649}]
[null,"Number of individuals requiring PC living in IUs targeted with PC",null,null,{"$f":"SUMIF(DISTRICT!H$9:H$1000,\">0\",DISTRICT!D$9:D$1000)","v":2990412},{"$f":"SUMIF(DISTRICT!N$9:N$1000,\">0\",DISTRICT!J$9:J$1000)","v":2669822},{"$f":"SUMIF(DISTRICT!X$9:X$1000,\">0\",DISTRICT!P$9:P$1000)","v":16809059},{"$f":"SUMIF(DISTRICT!AH$9:AH$1000,\">0\",DISTRICT!Z$9:Z$1000)","v":7459152}]
[null,"Number of individuals requiring PC living in IUs not targeted with PC",null,null,{"$f":"SUMIF(DISTRICT!H$9:H$1000,\"=0\",DISTRICT!D$9:D$1000)","v":0},{"$f":"SUMIF(DISTRICT!N$9:N$1000,\"=0\",DISTRICT!J$9:J$1000)","v":0},{"$f":"SUMIF(DISTRICT!X$9:X$1000,\"=0\",DISTRICT!P$9:P$1000)","v":0},{"$f":"SUMIF(DISTRICT!AH$9:AH$1000,\"=0\",DISTRICT!Z$9:Z$1000)","v":0}]
[null,null,null,null,{"$f":"E35-E52","v":1010745},{"$f":"F35-F52","v":436819},8268080,2478599.0900000008]
[null,"Number of IUs requiring and receiving PC",null,null,{"$f":"E31-E44","v":0},{"$f":"F31-F44","v":0},0,0]
[null,null,null,null,{"$f":"E27-E31-E29","v":107},93,0,{"$f":"H27-H31-H29","v":38}]
[]
[null,null,null,null,null,null,"Requiring and receiving PC"]
[null,null,null,null,null,null,"Requiring and not receiving PC"]
[null,null,null,null,null,null,"Not requiring PC"]
[null,null,null,null,null,null,"Status unknown"]
[]
[]
[]
[]
[]
[]
[]
[]
[]
[]
[]
[]
[]
[]
[]
[]
[]
[]
[]
[]
[]
[]
[]
[]
[]
[]
[]
[]
[]
[]
[]
[]
[]
[]
[null,"Click here to access data Preventive Chemotherapy Data Portal"]