{"text_format":"1","workbook":"xlsx","n_sheets":15,"sheets":["INTRO","COUNTRY_INFO","MDA1","MDA2","MDA3","MDA5","T1","T2","T3_R1","T3_R2","T3_R3","DISTRICT","SUMMARY","PROFILE","DATA_POLICY"],"not_rendered":{"charts":8,"images":3,"macros":1,"external_links":0,"defined_names":17,"comments":13,"pivot_tables":0},"unopened":[],"bounds":{"document_bytes":16777216,"sheet_cells":100000,"rows_first":2000,"rows_last":500,"rows_between":2000,"halvings":0,"cell_chars":16384,"cell_head_chars":4096},"cells_cut":0,"cells_raw":0,"read":"whole","date_system":"1900"}

{"sheet":"INTRO","index":0,"n_rows":51,"n_cols":5,"rows_kept":51,"cut":false,"hidden":false,"merged":[[7,2,7,4],[8,2,8,4],[0,1,0,4],[1,1,1,4],[2,1,2,4],[3,1,3,4],[4,1,4,4],[5,1,5,4],[9,2,9,4],[11,2,11,4],[12,1,12,4],[13,1,13,4],[14,1,14,4],[22,1,22,4],[23,2,24,4],[25,1,25,4],[15,1,15,4],[16,1,16,4],[17,1,17,4],[18,1,18,4],[19,2,19,4],[45,1,45,2],[10,2,10,4],[41,1,41,2],[43,1,43,2],[46,1,46,4],[33,1,33,2],[35,1,35,2],[26,2,27,4],[37,1,37,2],[39,1,39,2],[28,1,28,4],[29,2,29,4],[30,1,30,4],[31,1,31,4],[20,1,20,4],[21,2,21,4]]}
[]
[null,"Formulaire de Rapport Commun v.4.2"]
[]
[null,"Le but de ce formulaire de rapport commun - disponible sous forme de fichier Excel - est de mettre à disposition des autorités sanitaires nationales et des gestionnaires de données un outil standardisé qui réponde aux défis, facilite l'intégration et par conséquent contribue à améliorer la gestion de programme. Ce formulaire tend à standardiser le rapport de résultats des programmes nationaux, améliore la disponibilité et la coordination des données de chimioprévention à travers les Bureaux des Régions de l'Organisation mondiale de la Santé. \nLes autorités nationales sont priées de compléter ce formulaire de rapport commun et de le soumettre à l'Organisation mondiale de la Santé dans les 3 mois suivant la mise en œuvre du dernier cycle et au plus tard le 31 mars de l'année de mise en œuvre suivante."]
[]
[null,"Structure de l'application (feuilles de travail) :"]
[]
[null,"INTRO","Cette feuille contient des instructions pour compléter le formulaire de rapport commun et des informations sur le statut de la chimioprévention pour les maladies d'endémie du pays. En fonction de la co-endémicité de la maladie dans un pays, l’outil générera les feuilles de calcul à remplir."]
[null,"COUNTRY_INFO","Cette feuille contient des informations sur la structure administrative du pays, la population par groupe d'âge, le statut d'endémicité pour chaque maladie, la population devant être traitée par chimioprévention, les interventions prévues et les interventions mises en oeuvre. "]
[null,"MDA1, MDA2, MDA3, MDA5, T1, T2 et T3","Ces feuilles contiennent des informations sur l'endémicité des districts ciblés pour le traitement aux médicaments spécifiques pour la chimioprévention, les plans de traitement, et le nombre de personnes traitées par groupe d'âge. "]
[null,"DISTRICT","Cette feuille contient un résumé sur les personnes traitées, par maladie, au niveau de mise en oeuvre. Si les données par genre (sexe) sont disponibles, merci de les saisir.  "]
[null,"SUMMARY","Cette feuille contient un résumé sur les personnes traitées, par maladie et par type d'intervention de chimioprévention. Avant de générer le rapport (exécuter macro), veuillez sélectionner la maladie pour laquelle vous souhaitez un rapport. Veuillez suivre le même processus pour générer les divers rapports. \nCette feuille doit être imprimée et soumise comme formulaire de rapport commun (voir les instructions pour la soumission du formulaire sous la feuille SUMMARY). "]
[]
[null,"Instructions pour la saisie des données"]
[]
[null,"La plupart des cellules des feuilles de travail mentionnées ci-dessus contiennent des formules calculées automatiquement en fonction du protocole de traitement recommandé par l'OMS pour chaque maladie.\nVoir : https://www.who.int/publications/i/item/9789241599993"]
[]
[null,"Veuillez entrer vos données dans les cellules en fonction de leur code de couleur :"]
[]
[null,null,"Blanc - la cellule n'est pas protégée. Veuillez entrer la valeur de l'indicateur demandé."]
[]
[null,null,"Jaune - la cellule est protégée et inclut le nom de l'indicateur. Aucune entrée de données requise."]
[]
[null,null,"Orange - la cellule n'est pas protégée et contient un menu déroulant. Veuillez sélectionner la valeur dans le menu déroulant. "]
[]
[]
[null,null,"Vert - la cellule n'est pas protégée et contient des formules. Veuillez changer la valeur indiquée uniquement si vos données sont différentes de celles calculées automatiquement.  "]
[]
[]
[null,null,"Bleu - la cellule est protégée et contient des formules. Aucune entrée de données requise. "]
[]
[null,"Données pays"]
[]
[null,"PAYS",null,null,"Togo"]
[]
[null,"Année de rapport des données",null,null,2022]
[]
[null,"Le pays est-il endémique à la filariose lymphatique (FL) ?",null,null,"Non endémique"]
[]
[null,"Le pays est-il endémique à l'onchocercose (ONCHO) ? ",null,null,"Endémique"]
[]
[null,"Le pays est-il endémique aux géohelminthiases (STH) ?",null,null,"Endémique"]
[]
[null,"Le pays est-il endémique à la schistosomiase (SCH) ?",null,null,"Endémique"]
[]
[null,"Combien d'unités administratives compte le pays ?",null,null,39]
[null,"Si les données démographiques par groupe d'âge ne sont pas disponibles au second niveau administratif, veuillez entrer la proportion (%) de population, par groupe d'âge, du pays. Si les données sont disponibles, veuillez laisser les cellules vierges."]
[null,"1-4 ans","Enfants d'âge pré-scolaire (EAPréS)",null,0.16]
[null,"5-14 ans","Enfants d'âge scolaire (EAS)",null,0.3]
[null,"15 ans et plus","Adultes",null,0.5]
[null,"15-49 ans","Femmes en âge de procréer (FAP)",null,0.24179999999999999]

{"sheet":"COUNTRY_INFO","index":1,"n_rows":48,"n_cols":57,"rows_kept":48,"cut":false,"hidden":false,"merged":[[6,27,7,27],[6,26,7,26],[6,21,7,21],[6,22,7,22],[6,23,7,23],[6,24,7,24],[6,25,7,25],[6,10,7,10],[6,11,7,11],[6,12,7,12],[6,13,6,16],[6,17,6,20],[6,5,7,5],[6,6,7,6],[6,7,7,7],[6,8,7,8],[6,9,7,9],[6,0,7,0],[6,1,7,1],[6,2,7,2],[6,3,7,3],[6,4,7,4],[5,3,5,6],[5,7,5,10],[5,11,5,20],[5,25,5,27],[3,0,3,2],[3,7,3,10],[3,25,3,27],[5,0,5,2],[3,21,3,24],[5,21,5,24]]}
["INFORMATIONS PAYS"]
["Struture administrative, population par groupe d'âge, statut d'endémicité et interventions planifiées"]
[]
["TOTAL",null,null,{"$f":"SUBTOTAL(9,D$10:D$1010)","v":8159174.8235999979},{"$f":"SUBTOTAL(9,E$10:E$1010)","v":1305467},2447751,4079589,null,null,null,null,{"$f":"SUBTOTAL(9,L$10:L$1010)","v":0},4018551.2159682633,884895,1659179,0,2544074,0,0,0,4196913]
[]
["Structure administrative du pays",null,null,"Population",null,null,null,"Endémicité",null,null,null,"Population nécessitant la CP",null,null,null,null,null,null,null,null,null,"Nombre de tournées de traitement réalisées",null,null,null,"Mise en oeuvre de la chimioprévention"]
["Pays","Région/Département","District","Total","EAPréS","EAS","Adultes","FL","Oncho","STH","SCH","FL","ONCHO","STH",null,null,null,"SCH",null,null,null,"FL","Oncho","STH","SCH","TOURNEE 1","TOURNEE 2","TOURNEE 3",null,null,null,null,null,null,null,null,"SCH","AK10=K10",null,"AO10=AK10",null,"AO10=K10",null,null,"sth","AS10=J10"]
[null,null,null,null,null,null,null,null,null,null,null,null,null,"EAPréS","EAS","FAP","TOTAL","EAPréS","EAS","Adultes","TOTAL",null,null,null,null,null,null,null,null,null,null,null,null,"IU_ID","IU_Name"]
[null,null,null,null,null,null,null,null,null,null,null,null,null,null,null,null,null,null,null,null,null,null,null,null,null,null,null,null,null,null,null,null,null,"x","x","x","x","x","x","x","x","x","x","x","x","x","x","x","x","x","x","x","x","x","x","x","x"]
[{"$f":"IF(INTRO!$E$34<>0,INTRO!$E$34,\"\")","v":"Togo"},"CENTRALE","BLITTA",171343.78080000001,{"$f":"IF(INTRO!$E$48=\"\",\"\",ROUND($D10*INTRO!$E$48,0))","v":27415},{"$f":"IF(INTRO!$E$49=\"\",\"\",ROUND($D10*INTRO!$E$49,0))","v":51403},{"$f":"IF(INTRO!$E$50=\"\",\"\",ROUND($D10*INTRO!$E$50,0))","v":85672},null,1,3,2,{"$f":"IF(INTRO!$E$38=\"Endémique\", IF($H10>0, IF($H10=4,\"Inconnu\", IF($H10=99,\"Interrompu\", $D10)), 0),\"Non requis\")","v":"Non requis"},116301.890908642,{"$f":"IF(INTRO!$E$42=\"Endémique\", IF($J10>1, IF($J10=4, \"Inconnu\", IF($J10=99, \"Surveillance\", E10)), 0),\"Non requis\")","v":27415},{"$f":"IF(INTRO!$E$42=\"Endémique\", IF($J10>1, IF($J10=4, \"Inconnu\", IF($J10=99, \"Surveillance\", F10)), 0),\"Non requis\")","v":51403},null,{"$f":"IF(INTRO!$E$42=\"Endémique\", IF($J10>1, IF($J10=4, \"Inconnu\", IF($J10=99, \"Surveillance\", SUM($N10:$P10))), 0),\"Non requis\")","v":78818},null,null,null,122604,null,1,1,2,"MDA3 (IVM)","T2 (PZQ)",null,null,null,null,null,null,48666,"BLITA",null,2,{"$f":"AK10=K10","v":true},null,{"$f":"AO10=AK10","v":true},2,{"$f":"AO10=K10","v":true},null,null,3,{"$f":"AS10=J10","v":true}]
[{"$f":"IF(INTRO!$E$34<>0,INTRO!$E$34,\"\")","v":"Togo"},"CENTRALE","MÔ",47989.257599999997,{"$f":"IF(INTRO!$E$48=\"\",\"\",ROUND($D11*INTRO!$E$48,0))","v":7678},{"$f":"IF(INTRO!$E$49=\"\",\"\",ROUND($D11*INTRO!$E$49,0))","v":14397},{"$f":"IF(INTRO!$E$50=\"\",\"\",ROUND($D11*INTRO!$E$50,0))","v":23995},null,1,2,1,{"$f":"IF(INTRO!$E$38=\"Endémique\", IF($H11>0, IF($H11=4,\"Inconnu\", IF($H11=99,\"Interrompu\", $D11)), 0),\"Non requis\")","v":"Non requis"},47989,{"$f":"IF(INTRO!$E$42=\"Endémique\", IF($J11>1, IF($J11=4, \"Inconnu\", IF($J11=99, \"Surveillance\", E11)), 0),\"Non requis\")","v":7678},{"$f":"IF(INTRO!$E$42=\"Endémique\", IF($J11>1, IF($J11=4, \"Inconnu\", IF($J11=99, \"Surveillance\", F11)), 0),\"Non requis\")","v":14397},null,{"$f":"IF(INTRO!$E$42=\"Endémique\", IF($J11>1, IF($J11=4, \"Inconnu\", IF($J11=99, \"Surveillance\", SUM($N11:$P11))), 0),\"Non requis\")","v":22075},null,null,null,36004,null,2,1,1,"MDA3 (IVM)","T2 (PZQ)",null,null,null,null,null,null,48706,"MÔ",null,1,{"$f":"AK11=K11","v":true},null,{"$f":"AO11=AK11","v":true},1,{"$f":"AO11=K11","v":true},null,null,2,{"$f":"AS11=J11","v":true}]
[{"$f":"IF(INTRO!$E$34<>0,INTRO!$E$34,\"\")","v":"Togo"},"CENTRALE","SOTOUBOUA",144341.08199999999,{"$f":"IF(INTRO!$E$48=\"\",\"\",ROUND($D12*INTRO!$E$48,0))","v":23095},{"$f":"IF(INTRO!$E$49=\"\",\"\",ROUND($D12*INTRO!$E$49,0))","v":43302},{"$f":"IF(INTRO!$E$50=\"\",\"\",ROUND($D12*INTRO!$E$50,0))","v":72171},null,1,3,2,{"$f":"IF(INTRO!$E$38=\"Endémique\", IF($H12>0, IF($H12=4,\"Inconnu\", IF($H12=99,\"Interrompu\", $D12)), 0),\"Non requis\")","v":"Non requis"},72290.538273287471,{"$f":"IF(INTRO!$E$42=\"Endémique\", IF($J12>1, IF($J12=4, \"Inconnu\", IF($J12=99, \"Surveillance\", E12)), 0),\"Non requis\")","v":23095},{"$f":"IF(INTRO!$E$42=\"Endémique\", IF($J12>1, IF($J12=4, \"Inconnu\", IF($J12=99, \"Surveillance\", F12)), 0),\"Non requis\")","v":43302},null,{"$f":"IF(INTRO!$E$42=\"Endémique\", IF($J12>1, IF($J12=4, \"Inconnu\", IF($J12=99, \"Surveillance\", SUM($N12:$P12))), 0),\"Non requis\")","v":66397},null,null,null,64690,null,1,1,1,"MDA3 (IVM)","T2 (PZQ)",null,null,null,null,null,null,48707,"SOTOUBOUA",null,2,true,null,true,2,true,null,null,3,true]
[{"$f":"IF(INTRO!$E$34<>0,INTRO!$E$34,\"\")","v":"Togo"},"CENTRALE","TCHAMBA",183017.14919999999,{"$f":"IF(INTRO!$E$48=\"\",\"\",ROUND($D13*INTRO!$E$48,0))","v":29283},{"$f":"IF(INTRO!$E$49=\"\",\"\",ROUND($D13*INTRO!$E$49,0))","v":54905},{"$f":"IF(INTRO!$E$50=\"\",\"\",ROUND($D13*INTRO!$E$50,0))","v":91509},null,1,3,1,{"$f":"IF(INTRO!$E$38=\"Endémique\", IF($H13>0, IF($H13=4,\"Inconnu\", IF($H13=99,\"Interrompu\", $D13)), 0),\"Non requis\")","v":"Non requis"},129738.92459895521,{"$f":"IF(INTRO!$E$42=\"Endémique\", IF($J13>1, IF($J13=4, \"Inconnu\", IF($J13=99, \"Surveillance\", E13)), 0),\"Non requis\")","v":29283},{"$f":"IF(INTRO!$E$42=\"Endémique\", IF($J13>1, IF($J13=4, \"Inconnu\", IF($J13=99, \"Surveillance\", F13)), 0),\"Non requis\")","v":54905},null,{"$f":"IF(INTRO!$E$42=\"Endémique\", IF($J13>1, IF($J13=4, \"Inconnu\", IF($J13=99, \"Surveillance\", SUM($N13:$P13))), 0),\"Non requis\")","v":84188},null,null,null,135684,null,1,1,1,"MDA3 (IVM)","T2 (PZQ)",null,null,null,null,null,null,48668,"TCHAMBA",null,1,true,null,true,1,true,null,null,3,true]
[{"$f":"IF(INTRO!$E$34<>0,INTRO!$E$34,\"\")","v":"Togo"},"CENTRALE","TCHAOUDJO",233984.6532,{"$f":"IF(INTRO!$E$48=\"\",\"\",ROUND($D14*INTRO!$E$48,0))","v":37438},{"$f":"IF(INTRO!$E$49=\"\",\"\",ROUND($D14*INTRO!$E$49,0))","v":70195},{"$f":"IF(INTRO!$E$50=\"\",\"\",ROUND($D14*INTRO!$E$50,0))","v":116992},null,1,3,2,{"$f":"IF(INTRO!$E$38=\"Endémique\", IF($H14>0, IF($H14=4,\"Inconnu\", IF($H14=99,\"Interrompu\", $D14)), 0),\"Non requis\")","v":"Non requis"},123411.11763243536,{"$f":"IF(INTRO!$E$42=\"Endémique\", IF($J14>1, IF($J14=4, \"Inconnu\", IF($J14=99, \"Surveillance\", E14)), 0),\"Non requis\")","v":37438},{"$f":"IF(INTRO!$E$42=\"Endémique\", IF($J14>1, IF($J14=4, \"Inconnu\", IF($J14=99, \"Surveillance\", F14)), 0),\"Non requis\")","v":70195},null,{"$f":"IF(INTRO!$E$42=\"Endémique\", IF($J14>1, IF($J14=4, \"Inconnu\", IF($J14=99, \"Surveillance\", SUM($N14:$P14))), 0),\"Non requis\")","v":107633},null,null,null,158059,null,2,1,2,"MDA3 (IVM)","T2 (PZQ)",null,null,null,null,null,null,48669,"TCHAOUDJO",null,2,true,null,true,2,true,null,null,3,true]
[{"$f":"IF(INTRO!$E$34<>0,INTRO!$E$34,\"\")","v":"Togo"},"GRAND-LOME","AGOE NYIVE",793622,{"$f":"IF(INTRO!$E$48=\"\",\"\",ROUND($D15*INTRO!$E$48,0))","v":126980},{"$f":"IF(INTRO!$E$49=\"\",\"\",ROUND($D15*INTRO!$E$49,0))","v":238087},{"$f":"IF(INTRO!$E$50=\"\",\"\",ROUND($D15*INTRO!$E$50,0))","v":396811},null,1,1,2,{"$f":"IF(INTRO!$E$38=\"Endémique\", IF($H15>0, IF($H15=4,\"Inconnu\", IF($H15=99,\"Interrompu\", $D15)), 0),\"Non requis\")","v":"Non requis"},8331,{"$f":"IF(INTRO!$E$42=\"Endémique\", IF($J15>1, IF($J15=4, \"Inconnu\", IF($J15=99, \"Surveillance\", E15)), 0),\"Non requis\")","v":0},{"$f":"IF(INTRO!$E$42=\"Endémique\", IF($J15>1, IF($J15=4, \"Inconnu\", IF($J15=99, \"Surveillance\", F15)), 0),\"Non requis\")","v":0},null,{"$f":"IF(INTRO!$E$42=\"Endémique\", IF($J15>1, IF($J15=4, \"Inconnu\", IF($J15=99, \"Surveillance\", SUM($N15:$P15))), 0),\"Non requis\")","v":0},null,null,null,117098,null,1,1,2,"MDA3 (IVM)","T2 (PZQ)",null,null,null,null,null,null,48713,"AGOE-NYIVE",null,2,true,null,true,2,true,null,null,1,true]
[{"$f":"IF(INTRO!$E$34<>0,INTRO!$E$34,\"\")","v":"Togo"},"GRAND-LOME","GOLFE",1308247,{"$f":"IF(INTRO!$E$48=\"\",\"\",ROUND($D16*INTRO!$E$48,0))","v":209320},{"$f":"IF(INTRO!$E$49=\"\",\"\",ROUND($D16*INTRO!$E$49,0))","v":392474},{"$f":"IF(INTRO!$E$50=\"\",\"\",ROUND($D16*INTRO!$E$50,0))","v":654124},null,0,1,2,{"$f":"IF(INTRO!$E$38=\"Endémique\", IF($H16>0, IF($H16=4,\"Inconnu\", IF($H16=99,\"Interrompu\", $D16)), 0),\"Non requis\")","v":"Non requis"},0,{"$f":"IF(INTRO!$E$42=\"Endémique\", IF($J16>1, IF($J16=4, \"Inconnu\", IF($J16=99, \"Surveillance\", E16)), 0),\"Non requis\")","v":0},{"$f":"IF(INTRO!$E$42=\"Endémique\", IF($J16>1, IF($J16=4, \"Inconnu\", IF($J16=99, \"Surveillance\", F16)), 0),\"Non requis\")","v":0},null,{"$f":"IF(INTRO!$E$42=\"Endémique\", IF($J16>1, IF($J16=4, \"Inconnu\", IF($J16=99, \"Surveillance\", SUM($N16:$P16))), 0),\"Non requis\")","v":0},null,null,null,333609,null,0,1,1,null,"T2 (PZQ)",null,null,null,null,null,null,48713,"AGOE-NYIVE",null,2,true,null,true,2,true,null,null,1,true]
[{"$f":"IF(INTRO!$E$34<>0,INTRO!$E$34,\"\")","v":"Togo"},"KARA","ASSOLI",65619.118799999997,{"$f":"IF(INTRO!$E$48=\"\",\"\",ROUND($D17*INTRO!$E$48,0))","v":10499},{"$f":"IF(INTRO!$E$49=\"\",\"\",ROUND($D17*INTRO!$E$49,0))","v":19686},{"$f":"IF(INTRO!$E$50=\"\",\"\",ROUND($D17*INTRO!$E$50,0))","v":32810},null,1,0,1,{"$f":"IF(INTRO!$E$38=\"Endémique\", IF($H17>0, IF($H17=4,\"Inconnu\", IF($H17=99,\"Interrompu\", $D17)), 0),\"Non requis\")","v":"Non requis"},47459.950439197361,{"$f":"IF(INTRO!$E$42=\"Endémique\", IF($J17>1, IF($J17=4, \"Inconnu\", IF($J17=99, \"Surveillance\", E17)), 0),\"Non requis\")","v":0},{"$f":"IF(INTRO!$E$42=\"Endémique\", IF($J17>1, IF($J17=4, \"Inconnu\", IF($J17=99, \"Surveillance\", F17)), 0),\"Non requis\")","v":0},null,{"$f":"IF(INTRO!$E$42=\"Endémique\", IF($J17>1, IF($J17=4, \"Inconnu\", IF($J17=99, \"Surveillance\", SUM($N17:$P17))), 0),\"Non requis\")","v":0},null,null,null,32047,null,2,1,2,"MDA3 (IVM)","T2 (PZQ)",null,null,null,null,null,null,48684,"GOLFE (District 1, 2, 3,4 and most of 5)",null,1,true,null,false,0,false,null,null,0,true]
[{"$f":"IF(INTRO!$E$34<>0,INTRO!$E$34,\"\")","v":"Togo"},"KARA","BASSAR",158345.83319999999,{"$f":"IF(INTRO!$E$48=\"\",\"\",ROUND($D18*INTRO!$E$48,0))","v":25335},{"$f":"IF(INTRO!$E$49=\"\",\"\",ROUND($D18*INTRO!$E$49,0))","v":47504},{"$f":"IF(INTRO!$E$50=\"\",\"\",ROUND($D18*INTRO!$E$50,0))","v":79173},null,1,2,3,{"$f":"IF(INTRO!$E$38=\"Endémique\", IF($H18>0, IF($H18=4,\"Inconnu\", IF($H18=99,\"Interrompu\", $D18)), 0),\"Non requis\")","v":"Non requis"},110286.21592161419,{"$f":"IF(INTRO!$E$42=\"Endémique\", IF($J18>1, IF($J18=4, \"Inconnu\", IF($J18=99, \"Surveillance\", E18)), 0),\"Non requis\")","v":25335},{"$f":"IF(INTRO!$E$42=\"Endémique\", IF($J18>1, IF($J18=4, \"Inconnu\", IF($J18=99, \"Surveillance\", F18)), 0),\"Non requis\")","v":47504},null,{"$f":"IF(INTRO!$E$42=\"Endémique\", IF($J18>1, IF($J18=4, \"Inconnu\", IF($J18=99, \"Surveillance\", SUM($N18:$P18))), 0),\"Non requis\")","v":72839},null,null,null,91719,null,2,1,2,"MDA3 (IVM)","T2 (PZQ)",null,null,null,null,null,null,48671,"BASSAR",null,3,true,null,true,3,true,null,null,2,true]
[{"$f":"IF(INTRO!$E$34<>0,INTRO!$E$34,\"\")","v":"Togo"},"KARA","BINAH",79824.407999999996,{"$f":"IF(INTRO!$E$48=\"\",\"\",ROUND($D19*INTRO!$E$48,0))","v":12772},{"$f":"IF(INTRO!$E$49=\"\",\"\",ROUND($D19*INTRO!$E$49,0))","v":23947},{"$f":"IF(INTRO!$E$50=\"\",\"\",ROUND($D19*INTRO!$E$50,0))","v":39912},null,1,3,2,{"$f":"IF(INTRO!$E$38=\"Endémique\", IF($H19>0, IF($H19=4,\"Inconnu\", IF($H19=99,\"Interrompu\", $D19)), 0),\"Non requis\")","v":"Non requis"},53663.015528114898,{"$f":"IF(INTRO!$E$42=\"Endémique\", IF($J19>1, IF($J19=4, \"Inconnu\", IF($J19=99, \"Surveillance\", E19)), 0),\"Non requis\")","v":12772},{"$f":"IF(INTRO!$E$42=\"Endémique\", IF($J19>1, IF($J19=4, \"Inconnu\", IF($J19=99, \"Surveillance\", F19)), 0),\"Non requis\")","v":23947},null,{"$f":"IF(INTRO!$E$42=\"Endémique\", IF($J19>1, IF($J19=4, \"Inconnu\", IF($J19=99, \"Surveillance\", SUM($N19:$P19))), 0),\"Non requis\")","v":36719},null,null,null,52728,null,2,1,1,"MDA3 (IVM)","T2 (PZQ)",null,null,null,null,null,null,48672,"BINAH",null,2,true,null,true,2,true,null,null,3,true]
[{"$f":"IF(INTRO!$E$34<>0,INTRO!$E$34,\"\")","v":"Togo"},"KARA","DANKPEN",170729.826,{"$f":"IF(INTRO!$E$48=\"\",\"\",ROUND($D20*INTRO!$E$48,0))","v":27317},{"$f":"IF(INTRO!$E$49=\"\",\"\",ROUND($D20*INTRO!$E$49,0))","v":51219},{"$f":"IF(INTRO!$E$50=\"\",\"\",ROUND($D20*INTRO!$E$50,0))","v":85365},null,1,2,1,{"$f":"IF(INTRO!$E$38=\"Endémique\", IF($H20>0, IF($H20=4,\"Inconnu\", IF($H20=99,\"Interrompu\", $D20)), 0),\"Non requis\")","v":"Non requis"},159768.58145642871,{"$f":"IF(INTRO!$E$42=\"Endémique\", IF($J20>1, IF($J20=4, \"Inconnu\", IF($J20=99, \"Surveillance\", E20)), 0),\"Non requis\")","v":27317},{"$f":"IF(INTRO!$E$42=\"Endémique\", IF($J20>1, IF($J20=4, \"Inconnu\", IF($J20=99, \"Surveillance\", F20)), 0),\"Non requis\")","v":51219},null,{"$f":"IF(INTRO!$E$42=\"Endémique\", IF($J20>1, IF($J20=4, \"Inconnu\", IF($J20=99, \"Surveillance\", SUM($N20:$P20))), 0),\"Non requis\")","v":78536},null,null,null,44606,null,2,1,1,"MDA3 (IVM)","T2 (PZQ)",null,null,null,null,null,null,48673,"DANKPEN",null,1,true,null,true,1,true,null,null,2,true]
[{"$f":"IF(INTRO!$E$34<>0,INTRO!$E$34,\"\")","v":"Togo"},"KARA","DOUFELGOU",97875.913199999995,{"$f":"IF(INTRO!$E$48=\"\",\"\",ROUND($D21*INTRO!$E$48,0))","v":15660},{"$f":"IF(INTRO!$E$49=\"\",\"\",ROUND($D21*INTRO!$E$49,0))","v":29363},{"$f":"IF(INTRO!$E$50=\"\",\"\",ROUND($D21*INTRO!$E$50,0))","v":48938},null,1,3,2,{"$f":"IF(INTRO!$E$38=\"Endémique\", IF($H21>0, IF($H21=4,\"Inconnu\", IF($H21=99,\"Interrompu\", $D21)), 0),\"Non requis\")","v":"Non requis"},78155.908196012751,{"$f":"IF(INTRO!$E$42=\"Endémique\", IF($J21>1, IF($J21=4, \"Inconnu\", IF($J21=99, \"Surveillance\", E21)), 0),\"Non requis\")","v":15660},{"$f":"IF(INTRO!$E$42=\"Endémique\", IF($J21>1, IF($J21=4, \"Inconnu\", IF($J21=99, \"Surveillance\", F21)), 0),\"Non requis\")","v":29363},null,{"$f":"IF(INTRO!$E$42=\"Endémique\", IF($J21>1, IF($J21=4, \"Inconnu\", IF($J21=99, \"Surveillance\", SUM($N21:$P21))), 0),\"Non requis\")","v":45023},null,null,null,60287,null,2,1,2,"MDA3 (IVM)","T2 (PZQ)",null,null,null,null,null,null,48674,"DOULFELGOU",null,2,true,null,true,2,true,null,null,3,true]
[{"$f":"IF(INTRO!$E$34<>0,INTRO!$E$34,\"\")","v":"Togo"},"KARA","KERAN",129837.55679999999,{"$f":"IF(INTRO!$E$48=\"\",\"\",ROUND($D22*INTRO!$E$48,0))","v":20774},{"$f":"IF(INTRO!$E$49=\"\",\"\",ROUND($D22*INTRO!$E$49,0))","v":38951},{"$f":"IF(INTRO!$E$50=\"\",\"\",ROUND($D22*INTRO!$E$50,0))","v":64919},null,1,2,2,{"$f":"IF(INTRO!$E$38=\"Endémique\", IF($H22>0, IF($H22=4,\"Inconnu\", IF($H22=99,\"Interrompu\", $D22)), 0),\"Non requis\")","v":"Non requis"},120413.60039099092,{"$f":"IF(INTRO!$E$42=\"Endémique\", IF($J22>1, IF($J22=4, \"Inconnu\", IF($J22=99, \"Surveillance\", E22)), 0),\"Non requis\")","v":20774},{"$f":"IF(INTRO!$E$42=\"Endémique\", IF($J22>1, IF($J22=4, \"Inconnu\", IF($J22=99, \"Surveillance\", F22)), 0),\"Non requis\")","v":38951},null,{"$f":"IF(INTRO!$E$42=\"Endémique\", IF($J22>1, IF($J22=4, \"Inconnu\", IF($J22=99, \"Surveillance\", SUM($N22:$P22))), 0),\"Non requis\")","v":59725},null,null,null,92879,null,2,1,1,"MDA3 (IVM)","T2 (PZQ)",null,null,null,null,null,null,48675,"KERAN",null,2,true,null,true,2,true,null,null,2,true]
[{"$f":"IF(INTRO!$E$34<>0,INTRO!$E$34,\"\")","v":"Togo"},"KARA","KOZAH",295636.20480000001,{"$f":"IF(INTRO!$E$48=\"\",\"\",ROUND($D23*INTRO!$E$48,0))","v":47302},{"$f":"IF(INTRO!$E$49=\"\",\"\",ROUND($D23*INTRO!$E$49,0))","v":88691},{"$f":"IF(INTRO!$E$50=\"\",\"\",ROUND($D23*INTRO!$E$50,0))","v":147818},null,1,2,2,{"$f":"IF(INTRO!$E$38=\"Endémique\", IF($H23>0, IF($H23=4,\"Inconnu\", IF($H23=99,\"Interrompu\", $D23)), 0),\"Non requis\")","v":"Non requis"},167045.82032175094,{"$f":"IF(INTRO!$E$42=\"Endémique\", IF($J23>1, IF($J23=4, \"Inconnu\", IF($J23=99, \"Surveillance\", E23)), 0),\"Non requis\")","v":47302},{"$f":"IF(INTRO!$E$42=\"Endémique\", IF($J23>1, IF($J23=4, \"Inconnu\", IF($J23=99, \"Surveillance\", F23)), 0),\"Non requis\")","v":88691},null,{"$f":"IF(INTRO!$E$42=\"Endémique\", IF($J23>1, IF($J23=4, \"Inconnu\", IF($J23=99, \"Surveillance\", SUM($N23:$P23))), 0),\"Non requis\")","v":135993},null,null,null,199417,null,2,1,2,"MDA3 (IVM)","T2 (PZQ)",null,null,null,null,null,null,48676,"KOZAH",null,2,true,null,true,2,true,null,null,2,true]
[{"$f":"IF(INTRO!$E$34<>0,INTRO!$E$34,\"\")","v":"Togo"},"MARITIME","AVE",146074.9644,{"$f":"IF(INTRO!$E$48=\"\",\"\",ROUND($D24*INTRO!$E$48,0))","v":23372},{"$f":"IF(INTRO!$E$49=\"\",\"\",ROUND($D24*INTRO!$E$49,0))","v":43822},{"$f":"IF(INTRO!$E$50=\"\",\"\",ROUND($D24*INTRO!$E$50,0))","v":73037},null,1,1,2,{"$f":"IF(INTRO!$E$38=\"Endémique\", IF($H24>0, IF($H24=4,\"Inconnu\", IF($H24=99,\"Interrompu\", $D24)), 0),\"Non requis\")","v":"Non requis"},101976.88679245282,{"$f":"IF(INTRO!$E$42=\"Endémique\", IF($J24>1, IF($J24=4, \"Inconnu\", IF($J24=99, \"Surveillance\", E24)), 0),\"Non requis\")","v":0},{"$f":"IF(INTRO!$E$42=\"Endémique\", IF($J24>1, IF($J24=4, \"Inconnu\", IF($J24=99, \"Surveillance\", F24)), 0),\"Non requis\")","v":0},null,{"$f":"IF(INTRO!$E$42=\"Endémique\", IF($J24>1, IF($J24=4, \"Inconnu\", IF($J24=99, \"Surveillance\", SUM($N24:$P24))), 0),\"Non requis\")","v":0},null,null,null,84947,null,1,1,1,"MDA3 (IVM)","T2 (PZQ)",null,null,null,null,null,null,48677,"AVE",null,2,true,null,true,2,true,null,null,1,true]
[{"$f":"IF(INTRO!$E$34<>0,INTRO!$E$34,\"\")","v":"Togo"},"MARITIME","BAS-MONO",113475.71279999999,{"$f":"IF(INTRO!$E$48=\"\",\"\",ROUND($D25*INTRO!$E$48,0))","v":18156},{"$f":"IF(INTRO!$E$49=\"\",\"\",ROUND($D25*INTRO!$E$49,0))","v":34043},{"$f":"IF(INTRO!$E$50=\"\",\"\",ROUND($D25*INTRO!$E$50,0))","v":56738},null,1,3,1,{"$f":"IF(INTRO!$E$38=\"Endémique\", IF($H25>0, IF($H25=4,\"Inconnu\", IF($H25=99,\"Interrompu\", $D25)), 0),\"Non requis\")","v":"Non requis"},29893.276853534648,{"$f":"IF(INTRO!$E$42=\"Endémique\", IF($J25>1, IF($J25=4, \"Inconnu\", IF($J25=99, \"Surveillance\", E25)), 0),\"Non requis\")","v":18156},{"$f":"IF(INTRO!$E$42=\"Endémique\", IF($J25>1, IF($J25=4, \"Inconnu\", IF($J25=99, \"Surveillance\", F25)), 0),\"Non requis\")","v":34043},null,{"$f":"IF(INTRO!$E$42=\"Endémique\", IF($J25>1, IF($J25=4, \"Inconnu\", IF($J25=99, \"Surveillance\", SUM($N25:$P25))), 0),\"Non requis\")","v":52199},null,null,null,48831,null,1,1,1,"MDA3 (IVM)","T2 (PZQ)",null,null,null,null,null,null,48678,"BAS MONO",null,1,true,null,true,1,true,null,null,3,true]
[{"$f":"IF(INTRO!$E$34<>0,INTRO!$E$34,\"\")","v":"Togo"},"MARITIME","LACS",209784.3444,{"$f":"IF(INTRO!$E$48=\"\",\"\",ROUND($D26*INTRO!$E$48,0))","v":33565},{"$f":"IF(INTRO!$E$49=\"\",\"\",ROUND($D26*INTRO!$E$49,0))","v":62935},{"$f":"IF(INTRO!$E$50=\"\",\"\",ROUND($D26*INTRO!$E$50,0))","v":104892},null,0,2,2,{"$f":"IF(INTRO!$E$38=\"Endémique\", IF($H26>0, IF($H26=4,\"Inconnu\", IF($H26=99,\"Interrompu\", $D26)), 0),\"Non requis\")","v":"Non requis"},0,{"$f":"IF(INTRO!$E$42=\"Endémique\", IF($J26>1, IF($J26=4, \"Inconnu\", IF($J26=99, \"Surveillance\", E26)), 0),\"Non requis\")","v":33565},{"$f":"IF(INTRO!$E$42=\"Endémique\", IF($J26>1, IF($J26=4, \"Inconnu\", IF($J26=99, \"Surveillance\", F26)), 0),\"Non requis\")","v":62935},null,{"$f":"IF(INTRO!$E$42=\"Endémique\", IF($J26>1, IF($J26=4, \"Inconnu\", IF($J26=99, \"Surveillance\", SUM($N26:$P26))), 0),\"Non requis\")","v":96500},null,null,null,106951,null,0,1,2,null,"T2 (PZQ)",null,null,null,null,null,null,48680,"LACS",null,2,true,null,true,2,true,null,null,2,true]
[{"$f":"IF(INTRO!$E$34<>0,INTRO!$E$34,\"\")","v":"Togo"},"MARITIME","VO",233764.57559999998,{"$f":"IF(INTRO!$E$48=\"\",\"\",ROUND($D27*INTRO!$E$48,0))","v":37402},{"$f":"IF(INTRO!$E$49=\"\",\"\",ROUND($D27*INTRO!$E$49,0))","v":70129},{"$f":"IF(INTRO!$E$50=\"\",\"\",ROUND($D27*INTRO!$E$50,0))","v":116882},null,0,3,2,{"$f":"IF(INTRO!$E$38=\"Endémique\", IF($H27>0, IF($H27=4,\"Inconnu\", IF($H27=99,\"Interrompu\", $D27)), 0),\"Non requis\")","v":"Non requis"},0,{"$f":"IF(INTRO!$E$42=\"Endémique\", IF($J27>1, IF($J27=4, \"Inconnu\", IF($J27=99, \"Surveillance\", E27)), 0),\"Non requis\")","v":37402},{"$f":"IF(INTRO!$E$42=\"Endémique\", IF($J27>1, IF($J27=4, \"Inconnu\", IF($J27=99, \"Surveillance\", F27)), 0),\"Non requis\")","v":70129},null,{"$f":"IF(INTRO!$E$42=\"Endémique\", IF($J27>1, IF($J27=4, \"Inconnu\", IF($J27=99, \"Surveillance\", SUM($N27:$P27))), 0),\"Non requis\")","v":107531},null,null,null,115398,null,0,1,2,null,"T2 (PZQ)",null,null,null,null,null,null,48681,"VO",null,2,true,null,true,2,true,null,null,3,true]
[{"$f":"IF(INTRO!$E$34<>0,INTRO!$E$34,\"\")","v":"Togo"},"MARITIME","YOTO",280183.46639999998,{"$f":"IF(INTRO!$E$48=\"\",\"\",ROUND($D28*INTRO!$E$48,0))","v":44829},{"$f":"IF(INTRO!$E$49=\"\",\"\",ROUND($D28*INTRO!$E$49,0))","v":84055},{"$f":"IF(INTRO!$E$50=\"\",\"\",ROUND($D28*INTRO!$E$50,0))","v":140092},null,1,2,2,{"$f":"IF(INTRO!$E$38=\"Endémique\", IF($H28>0, IF($H28=4,\"Inconnu\", IF($H28=99,\"Interrompu\", $D28)), 0),\"Non requis\")","v":"Non requis"},171786.73774409213,{"$f":"IF(INTRO!$E$42=\"Endémique\", IF($J28>1, IF($J28=4, \"Inconnu\", IF($J28=99, \"Surveillance\", E28)), 0),\"Non requis\")","v":44829},{"$f":"IF(INTRO!$E$42=\"Endémique\", IF($J28>1, IF($J28=4, \"Inconnu\", IF($J28=99, \"Surveillance\", F28)), 0),\"Non requis\")","v":84055},null,{"$f":"IF(INTRO!$E$42=\"Endémique\", IF($J28>1, IF($J28=4, \"Inconnu\", IF($J28=99, \"Surveillance\", SUM($N28:$P28))), 0),\"Non requis\")","v":128884},null,null,null,156246,null,1,2,1,"MDA3 (IVM)","T2 (PZQ)",null,null,null,null,null,null,48682,"YOTO",null,2,true,null,true,2,true,null,null,2,true]
[{"$f":"IF(INTRO!$E$34<>0,INTRO!$E$34,\"\")","v":"Togo"},"MARITIME","ZIO",483042.56520000001,{"$f":"IF(INTRO!$E$48=\"\",\"\",ROUND($D29*INTRO!$E$48,0))","v":77287},{"$f":"IF(INTRO!$E$49=\"\",\"\",ROUND($D29*INTRO!$E$49,0))","v":144913},{"$f":"IF(INTRO!$E$50=\"\",\"\",ROUND($D29*INTRO!$E$50,0))","v":241521},null,1,3,2,{"$f":"IF(INTRO!$E$38=\"Endémique\", IF($H29>0, IF($H29=4,\"Inconnu\", IF($H29=99,\"Interrompu\", $D29)), 0),\"Non requis\")","v":"Non requis"},281365.89402957255,{"$f":"IF(INTRO!$E$42=\"Endémique\", IF($J29>1, IF($J29=4, \"Inconnu\", IF($J29=99, \"Surveillance\", E29)), 0),\"Non requis\")","v":77287},{"$f":"IF(INTRO!$E$42=\"Endémique\", IF($J29>1, IF($J29=4, \"Inconnu\", IF($J29=99, \"Surveillance\", F29)), 0),\"Non requis\")","v":144913},null,{"$f":"IF(INTRO!$E$42=\"Endémique\", IF($J29>1, IF($J29=4, \"Inconnu\", IF($J29=99, \"Surveillance\", SUM($N29:$P29))), 0),\"Non requis\")","v":222200},null,null,null,266419,null,1,1,2,"MDA3 (IVM)","T2 (PZQ)",null,null,null,null,null,null,48683,"ZIO",null,2,true,null,true,2,true,null,null,3,true]
[{"$f":"IF(INTRO!$E$34<>0,INTRO!$E$34,\"\")","v":"Togo"},"PLATEAUX","AGOU",116873.54639999999,{"$f":"IF(INTRO!$E$48=\"\",\"\",ROUND($D30*INTRO!$E$48,0))","v":18700},{"$f":"IF(INTRO!$E$49=\"\",\"\",ROUND($D30*INTRO!$E$49,0))","v":35062},{"$f":"IF(INTRO!$E$50=\"\",\"\",ROUND($D30*INTRO!$E$50,0))","v":58437},null,1,2,3,{"$f":"IF(INTRO!$E$38=\"Endémique\", IF($H30>0, IF($H30=4,\"Inconnu\", IF($H30=99,\"Interrompu\", $D30)), 0),\"Non requis\")","v":"Non requis"},84659.300249755674,{"$f":"IF(INTRO!$E$42=\"Endémique\", IF($J30>1, IF($J30=4, \"Inconnu\", IF($J30=99, \"Surveillance\", E30)), 0),\"Non requis\")","v":18700},{"$f":"IF(INTRO!$E$42=\"Endémique\", IF($J30>1, IF($J30=4, \"Inconnu\", IF($J30=99, \"Surveillance\", F30)), 0),\"Non requis\")","v":35062},null,{"$f":"IF(INTRO!$E$42=\"Endémique\", IF($J30>1, IF($J30=4, \"Inconnu\", IF($J30=99, \"Surveillance\", SUM($N30:$P30))), 0),\"Non requis\")","v":53762},null,null,null,65435,null,1,1,2,"MDA3 (IVM)","T2 (PZQ)",null,null,null,null,null,null,48689,"AGOU",null,3,true,null,true,3,true,null,null,2,true]
[{"$f":"IF(INTRO!$E$34<>0,INTRO!$E$34,\"\")","v":"Togo"},"PLATEAUX","AKEBOU",74712.231599999999,{"$f":"IF(INTRO!$E$48=\"\",\"\",ROUND($D31*INTRO!$E$48,0))","v":11954},{"$f":"IF(INTRO!$E$49=\"\",\"\",ROUND($D31*INTRO!$E$49,0))","v":22414},{"$f":"IF(INTRO!$E$50=\"\",\"\",ROUND($D31*INTRO!$E$50,0))","v":37356},null,1,1,2,{"$f":"IF(INTRO!$E$38=\"Endémique\", IF($H31>0, IF($H31=4,\"Inconnu\", IF($H31=99,\"Interrompu\", $D31)), 0),\"Non requis\")","v":"Non requis"},72662.372209560752,{"$f":"IF(INTRO!$E$42=\"Endémique\", IF($J31>1, IF($J31=4, \"Inconnu\", IF($J31=99, \"Surveillance\", E31)), 0),\"Non requis\")","v":0},{"$f":"IF(INTRO!$E$42=\"Endémique\", IF($J31>1, IF($J31=4, \"Inconnu\", IF($J31=99, \"Surveillance\", F31)), 0),\"Non requis\")","v":0},null,{"$f":"IF(INTRO!$E$42=\"Endémique\", IF($J31>1, IF($J31=4, \"Inconnu\", IF($J31=99, \"Surveillance\", SUM($N31:$P31))), 0),\"Non requis\")","v":0},null,null,null,46053,null,1,1,1,"MDA3 (IVM)","T2 (PZQ)",null,null,null,null,null,null,48691,"AKEBOU",null,2,true,null,true,2,true,null,null,1,true]
[{"$f":"IF(INTRO!$E$34<>0,INTRO!$E$34,\"\")","v":"Togo"},"PLATEAUX","AMOU",133055.4204,{"$f":"IF(INTRO!$E$48=\"\",\"\",ROUND($D32*INTRO!$E$48,0))","v":21289},{"$f":"IF(INTRO!$E$49=\"\",\"\",ROUND($D32*INTRO!$E$49,0))","v":39917},{"$f":"IF(INTRO!$E$50=\"\",\"\",ROUND($D32*INTRO!$E$50,0))","v":66528},null,1,3,2,{"$f":"IF(INTRO!$E$38=\"Endémique\", IF($H32>0, IF($H32=4,\"Inconnu\", IF($H32=99,\"Interrompu\", $D32)), 0),\"Non requis\")","v":"Non requis"},126415.36428526008,{"$f":"IF(INTRO!$E$42=\"Endémique\", IF($J32>1, IF($J32=4, \"Inconnu\", IF($J32=99, \"Surveillance\", E32)), 0),\"Non requis\")","v":21289},{"$f":"IF(INTRO!$E$42=\"Endémique\", IF($J32>1, IF($J32=4, \"Inconnu\", IF($J32=99, \"Surveillance\", F32)), 0),\"Non requis\")","v":39917},null,{"$f":"IF(INTRO!$E$42=\"Endémique\", IF($J32>1, IF($J32=4, \"Inconnu\", IF($J32=99, \"Surveillance\", SUM($N32:$P32))), 0),\"Non requis\")","v":61206},null,null,null,91095,null,2,1,2,"MDA3 (IVM)","T2 (PZQ)",null,null,null,null,null,null,48690,"AMOU",null,2,true,null,true,2,true,null,null,3,true]
[{"$f":"IF(INTRO!$E$34<>0,INTRO!$E$34,\"\")","v":"Togo"},"PLATEAUX","ANIE",175255.8144,{"$f":"IF(INTRO!$E$48=\"\",\"\",ROUND($D33*INTRO!$E$48,0))","v":28041},{"$f":"IF(INTRO!$E$49=\"\",\"\",ROUND($D33*INTRO!$E$49,0))","v":52577},{"$f":"IF(INTRO!$E$50=\"\",\"\",ROUND($D33*INTRO!$E$50,0))","v":87628},null,1,3,3,{"$f":"IF(INTRO!$E$38=\"Endémique\", IF($H33>0, IF($H33=4,\"Inconnu\", IF($H33=99,\"Interrompu\", $D33)), 0),\"Non requis\")","v":"Non requis"},124448.57594592964,{"$f":"IF(INTRO!$E$42=\"Endémique\", IF($J33>1, IF($J33=4, \"Inconnu\", IF($J33=99, \"Surveillance\", E33)), 0),\"Non requis\")","v":28041},{"$f":"IF(INTRO!$E$42=\"Endémique\", IF($J33>1, IF($J33=4, \"Inconnu\", IF($J33=99, \"Surveillance\", F33)), 0),\"Non requis\")","v":52577},null,{"$f":"IF(INTRO!$E$42=\"Endémique\", IF($J33>1, IF($J33=4, \"Inconnu\", IF($J33=99, \"Surveillance\", SUM($N33:$P33))), 0),\"Non requis\")","v":80618},null,null,null,119617,null,1,1,2,"MDA3 (IVM)","T2 (PZQ)",null,null,null,null,null,null,48692,"ANIE",null,3,true,null,true,3,true,null,null,3,true]
[{"$f":"IF(INTRO!$E$34<>0,INTRO!$E$34,\"\")","v":"Togo"},"PLATEAUX","DANYI",46718.155200000001,{"$f":"IF(INTRO!$E$48=\"\",\"\",ROUND($D34*INTRO!$E$48,0))","v":7475},{"$f":"IF(INTRO!$E$49=\"\",\"\",ROUND($D34*INTRO!$E$49,0))","v":14015},{"$f":"IF(INTRO!$E$50=\"\",\"\",ROUND($D34*INTRO!$E$50,0))","v":23359},null,1,2,1,{"$f":"IF(INTRO!$E$38=\"Endémique\", IF($H34>0, IF($H34=4,\"Inconnu\", IF($H34=99,\"Interrompu\", $D34)), 0),\"Non requis\")","v":"Non requis"},38400.920517057937,{"$f":"IF(INTRO!$E$42=\"Endémique\", IF($J34>1, IF($J34=4, \"Inconnu\", IF($J34=99, \"Surveillance\", E34)), 0),\"Non requis\")","v":7475},{"$f":"IF(INTRO!$E$42=\"Endémique\", IF($J34>1, IF($J34=4, \"Inconnu\", IF($J34=99, \"Surveillance\", F34)), 0),\"Non requis\")","v":14015},null,{"$f":"IF(INTRO!$E$42=\"Endémique\", IF($J34>1, IF($J34=4, \"Inconnu\", IF($J34=99, \"Surveillance\", SUM($N34:$P34))), 0),\"Non requis\")","v":21490},null,null,null,32380,null,2,1,1,"MDA3 (IVM)","T2 (PZQ)",null,null,null,null,null,null,48693,"DANYI",null,0,false,null,false,2,false,null,null,2,true]
[{"$f":"IF(INTRO!$E$34<>0,INTRO!$E$34,\"\")","v":"Togo"},"PLATEAUX","EST-MONO",161145.13800000001,{"$f":"IF(INTRO!$E$48=\"\",\"\",ROUND($D35*INTRO!$E$48,0))","v":25783},{"$f":"IF(INTRO!$E$49=\"\",\"\",ROUND($D35*INTRO!$E$49,0))","v":48344},{"$f":"IF(INTRO!$E$50=\"\",\"\",ROUND($D35*INTRO!$E$50,0))","v":80573},null,1,3,3,{"$f":"IF(INTRO!$E$38=\"Endémique\", IF($H35>0, IF($H35=4,\"Inconnu\", IF($H35=99,\"Interrompu\", $D35)), 0),\"Non requis\")","v":"Non requis"},137972.89726189227,{"$f":"IF(INTRO!$E$42=\"Endémique\", IF($J35>1, IF($J35=4, \"Inconnu\", IF($J35=99, \"Surveillance\", E35)), 0),\"Non requis\")","v":25783},{"$f":"IF(INTRO!$E$42=\"Endémique\", IF($J35>1, IF($J35=4, \"Inconnu\", IF($J35=99, \"Surveillance\", F35)), 0),\"Non requis\")","v":48344},null,{"$f":"IF(INTRO!$E$42=\"Endémique\", IF($J35>1, IF($J35=4, \"Inconnu\", IF($J35=99, \"Surveillance\", SUM($N35:$P35))), 0),\"Non requis\")","v":74127},null,null,null,109213,null,1,2,2,"MDA3 (IVM)","T2 (PZQ)",null,null,null,null,null,null,48694,"EST MONO",null,3,true,null,true,3,true,null,null,3,true]
[{"$f":"IF(INTRO!$E$34<>0,INTRO!$E$34,\"\")","v":"Togo"},"PLATEAUX","HAHO",311913.71999999997,{"$f":"IF(INTRO!$E$48=\"\",\"\",ROUND($D36*INTRO!$E$48,0))","v":49906},{"$f":"IF(INTRO!$E$49=\"\",\"\",ROUND($D36*INTRO!$E$49,0))","v":93574},{"$f":"IF(INTRO!$E$50=\"\",\"\",ROUND($D36*INTRO!$E$50,0))","v":155957},null,1,3,3,{"$f":"IF(INTRO!$E$38=\"Endémique\", IF($H36>0, IF($H36=4,\"Inconnu\", IF($H36=99,\"Interrompu\", $D36)), 0),\"Non requis\")","v":"Non requis"},248377.13808303158,{"$f":"IF(INTRO!$E$42=\"Endémique\", IF($J36>1, IF($J36=4, \"Inconnu\", IF($J36=99, \"Surveillance\", E36)), 0),\"Non requis\")","v":49906},{"$f":"IF(INTRO!$E$42=\"Endémique\", IF($J36>1, IF($J36=4, \"Inconnu\", IF($J36=99, \"Surveillance\", F36)), 0),\"Non requis\")","v":93574},null,{"$f":"IF(INTRO!$E$42=\"Endémique\", IF($J36>1, IF($J36=4, \"Inconnu\", IF($J36=99, \"Surveillance\", SUM($N36:$P36))), 0),\"Non requis\")","v":143480},null,null,null,216650,null,2,2,2,"MDA3 (IVM)","T2 (PZQ)",null,null,null,null,null,null,48695,"HAHO",null,3,true,null,true,3,true,null,null,3,true]
[{"$f":"IF(INTRO!$E$34<>0,INTRO!$E$34,\"\")","v":"Togo"},"PLATEAUX","KLOTO",144877.9068,{"$f":"IF(INTRO!$E$48=\"\",\"\",ROUND($D37*INTRO!$E$48,0))","v":23180},{"$f":"IF(INTRO!$E$49=\"\",\"\",ROUND($D37*INTRO!$E$49,0))","v":43463},{"$f":"IF(INTRO!$E$50=\"\",\"\",ROUND($D37*INTRO!$E$50,0))","v":72439},null,1,1,2,{"$f":"IF(INTRO!$E$38=\"Endémique\", IF($H37>0, IF($H37=4,\"Inconnu\", IF($H37=99,\"Interrompu\", $D37)), 0),\"Non requis\")","v":"Non requis"},60114.211713520264,{"$f":"IF(INTRO!$E$42=\"Endémique\", IF($J37>1, IF($J37=4, \"Inconnu\", IF($J37=99, \"Surveillance\", E37)), 0),\"Non requis\")","v":0},{"$f":"IF(INTRO!$E$42=\"Endémique\", IF($J37>1, IF($J37=4, \"Inconnu\", IF($J37=99, \"Surveillance\", F37)), 0),\"Non requis\")","v":0},null,{"$f":"IF(INTRO!$E$42=\"Endémique\", IF($J37>1, IF($J37=4, \"Inconnu\", IF($J37=99, \"Surveillance\", SUM($N37:$P37))), 0),\"Non requis\")","v":0},null,null,null,89268,null,1,1,1,"MDA3 (IVM)","T2 (PZQ)",null,null,null,null,null,null,48696,"KLOTO",null,3,false,null,true,3,false,null,null,1,true]
[{"$f":"IF(INTRO!$E$34<>0,INTRO!$E$34,\"\")","v":"Togo"},"PLATEAUX","KPELE",84387.418799999999,{"$f":"IF(INTRO!$E$48=\"\",\"\",ROUND($D38*INTRO!$E$48,0))","v":13502},{"$f":"IF(INTRO!$E$49=\"\",\"\",ROUND($D38*INTRO!$E$49,0))","v":25316},{"$f":"IF(INTRO!$E$50=\"\",\"\",ROUND($D38*INTRO!$E$50,0))","v":42194},null,1,3,2,{"$f":"IF(INTRO!$E$38=\"Endémique\", IF($H38>0, IF($H38=4,\"Inconnu\", IF($H38=99,\"Interrompu\", $D38)), 0),\"Non requis\")","v":"Non requis"},67833.437267360976,{"$f":"IF(INTRO!$E$42=\"Endémique\", IF($J38>1, IF($J38=4, \"Inconnu\", IF($J38=99, \"Surveillance\", E38)), 0),\"Non requis\")","v":13502},{"$f":"IF(INTRO!$E$42=\"Endémique\", IF($J38>1, IF($J38=4, \"Inconnu\", IF($J38=99, \"Surveillance\", F38)), 0),\"Non requis\")","v":25316},null,{"$f":"IF(INTRO!$E$42=\"Endémique\", IF($J38>1, IF($J38=4, \"Inconnu\", IF($J38=99, \"Surveillance\", SUM($N38:$P38))), 0),\"Non requis\")","v":38818},null,null,null,55660,null,1,1,2,"MDA3 (IVM)","T2 (PZQ)",null,null,null,null,null,null,48697,"KPELE",null,2,true,null,true,2,true,null,null,3,true]
[{"$f":"IF(INTRO!$E$34<>0,INTRO!$E$34,\"\")","v":"Togo"},"PLATEAUX","MOYEN-MONO",102645.6324,{"$f":"IF(INTRO!$E$48=\"\",\"\",ROUND($D39*INTRO!$E$48,0))","v":16423},{"$f":"IF(INTRO!$E$49=\"\",\"\",ROUND($D39*INTRO!$E$49,0))","v":30794},{"$f":"IF(INTRO!$E$50=\"\",\"\",ROUND($D39*INTRO!$E$50,0))","v":51323},null,1,2,2,{"$f":"IF(INTRO!$E$38=\"Endémique\", IF($H39>0, IF($H39=4,\"Inconnu\", IF($H39=99,\"Interrompu\", $D39)), 0),\"Non requis\")","v":"Non requis"},60664.309515223329,{"$f":"IF(INTRO!$E$42=\"Endémique\", IF($J39>1, IF($J39=4, \"Inconnu\", IF($J39=99, \"Surveillance\", E39)), 0),\"Non requis\")","v":16423},{"$f":"IF(INTRO!$E$42=\"Endémique\", IF($J39>1, IF($J39=4, \"Inconnu\", IF($J39=99, \"Surveillance\", F39)), 0),\"Non requis\")","v":30794},null,{"$f":"IF(INTRO!$E$42=\"Endémique\", IF($J39>1, IF($J39=4, \"Inconnu\", IF($J39=99, \"Surveillance\", SUM($N39:$P39))), 0),\"Non requis\")","v":47217},null,null,null,71052,null,1,1,2,"MDA3 (IVM)","T2 (PZQ)",null,null,null,null,null,null,48698,"MOYEN MONO",null,2,true,null,true,2,true,null,null,2,true]
[{"$f":"IF(INTRO!$E$34<>0,INTRO!$E$34,\"\")","v":"Togo"},"PLATEAUX","OGOU",249236.8536,{"$f":"IF(INTRO!$E$48=\"\",\"\",ROUND($D40*INTRO!$E$48,0))","v":39878},{"$f":"IF(INTRO!$E$49=\"\",\"\",ROUND($D40*INTRO!$E$49,0))","v":74771},{"$f":"IF(INTRO!$E$50=\"\",\"\",ROUND($D40*INTRO!$E$50,0))","v":124618},null,1,3,3,{"$f":"IF(INTRO!$E$38=\"Endémique\", IF($H40>0, IF($H40=4,\"Inconnu\", IF($H40=99,\"Interrompu\", $D40)), 0),\"Non requis\")","v":"Non requis"},133874.15793873402,{"$f":"IF(INTRO!$E$42=\"Endémique\", IF($J40>1, IF($J40=4, \"Inconnu\", IF($J40=99, \"Surveillance\", E40)), 0),\"Non requis\")","v":39878},{"$f":"IF(INTRO!$E$42=\"Endémique\", IF($J40>1, IF($J40=4, \"Inconnu\", IF($J40=99, \"Surveillance\", F40)), 0),\"Non requis\")","v":74771},null,{"$f":"IF(INTRO!$E$42=\"Endémique\", IF($J40>1, IF($J40=4, \"Inconnu\", IF($J40=99, \"Surveillance\", SUM($N40:$P40))), 0),\"Non requis\")","v":114649},null,null,null,167252,null,2,2,2,"MDA3 (IVM)","T2 (PZQ)",null,null,null,null,null,null,48699,"OGOU",null,3,true,null,true,3,true,null,null,3,true]
[{"$f":"IF(INTRO!$E$34<>0,INTRO!$E$34,\"\")","v":"Togo"},"PLATEAUX","WAWA",128518.11959999999,{"$f":"IF(INTRO!$E$48=\"\",\"\",ROUND($D41*INTRO!$E$48,0))","v":20563},{"$f":"IF(INTRO!$E$49=\"\",\"\",ROUND($D41*INTRO!$E$49,0))","v":38555},{"$f":"IF(INTRO!$E$50=\"\",\"\",ROUND($D41*INTRO!$E$50,0))","v":64259},null,1,2,3,{"$f":"IF(INTRO!$E$38=\"Endémique\", IF($H41>0, IF($H41=4,\"Inconnu\", IF($H41=99,\"Interrompu\", $D41)), 0),\"Non requis\")","v":"Non requis"},103920.23140604683,{"$f":"IF(INTRO!$E$42=\"Endémique\", IF($J41>1, IF($J41=4, \"Inconnu\", IF($J41=99, \"Surveillance\", E41)), 0),\"Non requis\")","v":20563},{"$f":"IF(INTRO!$E$42=\"Endémique\", IF($J41>1, IF($J41=4, \"Inconnu\", IF($J41=99, \"Surveillance\", F41)), 0),\"Non requis\")","v":38555},null,{"$f":"IF(INTRO!$E$42=\"Endémique\", IF($J41>1, IF($J41=4, \"Inconnu\", IF($J41=99, \"Surveillance\", SUM($N41:$P41))), 0),\"Non requis\")","v":59118},null,null,null,79346,null,1,1,2,"MDA3 (IVM)","T2 (PZQ)",null,null,null,null,null,null,48700,"WAWA",null,3,true,null,true,3,true,null,null,2,true]
[{"$f":"IF(INTRO!$E$34<>0,INTRO!$E$34,\"\")","v":"Togo"},"SAVANES","CINKASSE",95421.122399999993,{"$f":"IF(INTRO!$E$48=\"\",\"\",ROUND($D42*INTRO!$E$48,0))","v":15267},{"$f":"IF(INTRO!$E$49=\"\",\"\",ROUND($D42*INTRO!$E$49,0))","v":28626},{"$f":"IF(INTRO!$E$50=\"\",\"\",ROUND($D42*INTRO!$E$50,0))","v":47711},null,1,1,3,{"$f":"IF(INTRO!$E$38=\"Endémique\", IF($H42>0, IF($H42=4,\"Inconnu\", IF($H42=99,\"Interrompu\", $D42)), 0),\"Non requis\")","v":"Non requis"},71293.94652198971,{"$f":"IF(INTRO!$E$42=\"Endémique\", IF($J42>1, IF($J42=4, \"Inconnu\", IF($J42=99, \"Surveillance\", E42)), 0),\"Non requis\")","v":0},{"$f":"IF(INTRO!$E$42=\"Endémique\", IF($J42>1, IF($J42=4, \"Inconnu\", IF($J42=99, \"Surveillance\", F42)), 0),\"Non requis\")","v":0},null,{"$f":"IF(INTRO!$E$42=\"Endémique\", IF($J42>1, IF($J42=4, \"Inconnu\", IF($J42=99, \"Surveillance\", SUM($N42:$P42))), 0),\"Non requis\")","v":0},null,null,null,65111,null,1,1,2,"MDA3 (IVM)","T2 (PZQ)",null,null,null,null,null,null,48701,"CINKASSE",null,3,true,null,true,3,true,null,null,1,true]
[{"$f":"IF(INTRO!$E$34<>0,INTRO!$E$34,\"\")","v":"Togo"},"SAVANES","KPENDJAL",83376.501600000003,{"$f":"IF(INTRO!$E$48=\"\",\"\",ROUND($D43*INTRO!$E$48,0))","v":13340},{"$f":"IF(INTRO!$E$49=\"\",\"\",ROUND($D43*INTRO!$E$49,0))","v":25013},{"$f":"IF(INTRO!$E$50=\"\",\"\",ROUND($D43*INTRO!$E$50,0))","v":41688},null,1,2,3,{"$f":"IF(INTRO!$E$38=\"Endémique\", IF($H43>0, IF($H43=4,\"Inconnu\", IF($H43=99,\"Interrompu\", $D43)), 0),\"Non requis\")","v":"Non requis"},83377,{"$f":"IF(INTRO!$E$42=\"Endémique\", IF($J43>1, IF($J43=4, \"Inconnu\", IF($J43=99, \"Surveillance\", E43)), 0),\"Non requis\")","v":13340},{"$f":"IF(INTRO!$E$42=\"Endémique\", IF($J43>1, IF($J43=4, \"Inconnu\", IF($J43=99, \"Surveillance\", F43)), 0),\"Non requis\")","v":25013},null,{"$f":"IF(INTRO!$E$42=\"Endémique\", IF($J43>1, IF($J43=4, \"Inconnu\", IF($J43=99, \"Surveillance\", SUM($N43:$P43))), 0),\"Non requis\")","v":38353},null,null,null,61438,null,2,1,2,"MDA3 (IVM)","T2 (PZQ)",null,null,null,null,null,null,48708,"KPENDJAL",null,3,true,null,true,3,true,null,null,2,true]
[{"$f":"IF(INTRO!$E$34<>0,INTRO!$E$34,\"\")","v":"Togo"},"SAVANES","KPENDJAL-OUEST",127894.90919999999,{"$f":"IF(INTRO!$E$48=\"\",\"\",ROUND($D44*INTRO!$E$48,0))","v":20463},{"$f":"IF(INTRO!$E$49=\"\",\"\",ROUND($D44*INTRO!$E$49,0))","v":38368},{"$f":"IF(INTRO!$E$50=\"\",\"\",ROUND($D44*INTRO!$E$50,0))","v":63947},null,1,2,3,{"$f":"IF(INTRO!$E$38=\"Endémique\", IF($H44>0, IF($H44=4,\"Inconnu\", IF($H44=99,\"Interrompu\", $D44)), 0),\"Non requis\")","v":"Non requis"},127895,{"$f":"IF(INTRO!$E$42=\"Endémique\", IF($J44>1, IF($J44=4, \"Inconnu\", IF($J44=99, \"Surveillance\", E44)), 0),\"Non requis\")","v":20463},{"$f":"IF(INTRO!$E$42=\"Endémique\", IF($J44>1, IF($J44=4, \"Inconnu\", IF($J44=99, \"Surveillance\", F44)), 0),\"Non requis\")","v":38368},null,{"$f":"IF(INTRO!$E$42=\"Endémique\", IF($J44>1, IF($J44=4, \"Inconnu\", IF($J44=99, \"Surveillance\", SUM($N44:$P44))), 0),\"Non requis\")","v":58831},null,null,null,90242,null,2,1,2,"MDA3 (IVM)","T2 (PZQ)",null,null,null,null,null,null,48709,"KPENDJAL-OUEST",null,2,false,null,false,3,true,null,null,2,true]
[{"$f":"IF(INTRO!$E$34<>0,INTRO!$E$34,\"\")","v":"Togo"},"SAVANES","OTI",123763.82639999999,{"$f":"IF(INTRO!$E$48=\"\",\"\",ROUND($D45*INTRO!$E$48,0))","v":19802},{"$f":"IF(INTRO!$E$49=\"\",\"\",ROUND($D45*INTRO!$E$49,0))","v":37129},{"$f":"IF(INTRO!$E$50=\"\",\"\",ROUND($D45*INTRO!$E$50,0))","v":61882},null,1,2,2,{"$f":"IF(INTRO!$E$38=\"Endémique\", IF($H45>0, IF($H45=4,\"Inconnu\", IF($H45=99,\"Interrompu\", $D45)), 0),\"Non requis\")","v":"Non requis"},81780.841515146472,{"$f":"IF(INTRO!$E$42=\"Endémique\", IF($J45>1, IF($J45=4, \"Inconnu\", IF($J45=99, \"Surveillance\", E45)), 0),\"Non requis\")","v":19802},{"$f":"IF(INTRO!$E$42=\"Endémique\", IF($J45>1, IF($J45=4, \"Inconnu\", IF($J45=99, \"Surveillance\", F45)), 0),\"Non requis\")","v":37129},null,{"$f":"IF(INTRO!$E$42=\"Endémique\", IF($J45>1, IF($J45=4, \"Inconnu\", IF($J45=99, \"Surveillance\", SUM($N45:$P45))), 0),\"Non requis\")","v":56931},null,null,null,84145,null,2,2,1,"MDA3 (IVM)","T2 (PZQ)",null,null,null,null,null,null,48710,"OTI",null,2,true,null,true,2,true,null,null,2,true]
[{"$f":"IF(INTRO!$E$34<>0,INTRO!$E$34,\"\")","v":"Togo"},"SAVANES","OTI-SUD",132914.52960000001,{"$f":"IF(INTRO!$E$48=\"\",\"\",ROUND($D46*INTRO!$E$48,0))","v":21266},{"$f":"IF(INTRO!$E$49=\"\",\"\",ROUND($D46*INTRO!$E$49,0))","v":39874},{"$f":"IF(INTRO!$E$50=\"\",\"\",ROUND($D46*INTRO!$E$50,0))","v":66457},null,1,2,2,{"$f":"IF(INTRO!$E$38=\"Endémique\", IF($H46>0, IF($H46=4,\"Inconnu\", IF($H46=99,\"Interrompu\", $D46)), 0),\"Non requis\")","v":"Non requis"},123070.7762482594,{"$f":"IF(INTRO!$E$42=\"Endémique\", IF($J46>1, IF($J46=4, \"Inconnu\", IF($J46=99, \"Surveillance\", E46)), 0),\"Non requis\")","v":21266},{"$f":"IF(INTRO!$E$42=\"Endémique\", IF($J46>1, IF($J46=4, \"Inconnu\", IF($J46=99, \"Surveillance\", F46)), 0),\"Non requis\")","v":39874},null,{"$f":"IF(INTRO!$E$42=\"Endémique\", IF($J46>1, IF($J46=4, \"Inconnu\", IF($J46=99, \"Surveillance\", SUM($N46:$P46))), 0),\"Non requis\")","v":61140},null,null,null,108949,null,2,2,1,"MDA3 (IVM)","T2 (PZQ)",null,null,null,null,null,null,48711,"OTI-SUD",null,2,true,null,true,2,true,null,null,2,true]
[{"$f":"IF(INTRO!$E$34<>0,INTRO!$E$34,\"\")","v":"Togo"},"SAVANES","TANDJOUARE",160932.2592,{"$f":"IF(INTRO!$E$48=\"\",\"\",ROUND($D47*INTRO!$E$48,0))","v":25749},{"$f":"IF(INTRO!$E$49=\"\",\"\",ROUND($D47*INTRO!$E$49,0))","v":48280},{"$f":"IF(INTRO!$E$50=\"\",\"\",ROUND($D47*INTRO!$E$50,0))","v":80466},null,1,2,1,{"$f":"IF(INTRO!$E$38=\"Endémique\", IF($H47>0, IF($H47=4,\"Inconnu\", IF($H47=99,\"Interrompu\", $D47)), 0),\"Non requis\")","v":"Non requis"},160709.90229091913,{"$f":"IF(INTRO!$E$42=\"Endémique\", IF($J47>1, IF($J47=4, \"Inconnu\", IF($J47=99, \"Surveillance\", E47)), 0),\"Non requis\")","v":25749},{"$f":"IF(INTRO!$E$42=\"Endémique\", IF($J47>1, IF($J47=4, \"Inconnu\", IF($J47=99, \"Surveillance\", F47)), 0),\"Non requis\")","v":48280},null,{"$f":"IF(INTRO!$E$42=\"Endémique\", IF($J47>1, IF($J47=4, \"Inconnu\", IF($J47=99, \"Surveillance\", SUM($N47:$P47))), 0),\"Non requis\")","v":74029},null,null,null,223360,null,1,2,1,"MDA3 (IVM)","T2 (PZQ)",null,null,null,null,null,null,48704,"TANDJOARE",null,1,true,null,true,1,true,null,null,2,true]
[{"$f":"IF(INTRO!$E$34<>0,INTRO!$E$34,\"\")","v":"Togo"},"SAVANES","TONE",358792.30560000002,{"$f":"IF(INTRO!$E$48=\"\",\"\",ROUND($D48*INTRO!$E$48,0))","v":57407},{"$f":"IF(INTRO!$E$49=\"\",\"\",ROUND($D48*INTRO!$E$49,0))","v":107638},{"$f":"IF(INTRO!$E$50=\"\",\"\",ROUND($D48*INTRO!$E$50,0))","v":179396},null,1,2,2,{"$f":"IF(INTRO!$E$38=\"Endémique\", IF($H48>0, IF($H48=4,\"Inconnu\", IF($H48=99,\"Interrompu\", $D48)), 0),\"Non requis\")","v":"Non requis"},291202.47391149274,{"$f":"IF(INTRO!$E$42=\"Endémique\", IF($J48>1, IF($J48=4, \"Inconnu\", IF($J48=99, \"Surveillance\", E48)), 0),\"Non requis\")","v":57407},{"$f":"IF(INTRO!$E$42=\"Endémique\", IF($J48>1, IF($J48=4, \"Inconnu\", IF($J48=99, \"Surveillance\", F48)), 0),\"Non requis\")","v":107638},null,{"$f":"IF(INTRO!$E$42=\"Endémique\", IF($J48>1, IF($J48=4, \"Inconnu\", IF($J48=99, \"Surveillance\", SUM($N48:$P48))), 0),\"Non requis\")","v":165045},null,null,null,100424,null,1,1,1,"MDA3 (IVM)","T2 (PZQ)",null,null,null,null,null,null,48705,"TONE",null,2,true,null,true,2,true,null,null,2,true]

{"sheet":"MDA1","index":2,"n_rows":48,"n_cols":17,"rows_kept":48,"cut":false,"hidden":true,"merged":[[7,0,7,16],[5,13,5,16],[3,0,3,2],[5,0,5,2],[5,5,5,8],[5,9,5,12],[5,3,6,3],[5,4,6,4]]}
["MDA 1 - Ivermectine (IVM) et Albendazole (ALB)"]
["Structure administrative, population nécessitant une chimioprévention par groupe d'âge, population traitée par groupe d'âge et couverture"]
[]
["TOTAL",null,null,null,null,null,{"$f":"SUBTOTAL(9,G$10:G$1010)","v":0},0,0,null,{"$f":"SUBTOTAL(9,K$10:K$1010)","v":0},0,0,null,{"$f":"IF(G4<>0, IF(K4/G4*100=0, \"-\", K4/G4*100), \" \")","v":" "},{"$f":"IF(H4<>0, IF(L4/H4*100=0, \"-\", L4/H4*100), \" \")","v":" "},{"$f":"IF(I4<>0, IF(M4/I4*100=0, \"-\", M4/I4*100), \" \")","v":" "}]
[]
["Structure administrative du pays",null,null,"Mise en oeuvre \nde la CP","Date","Population ciblée pour MDA 1",null,null,null,"Population traitée",null,null,null,"Couverture du Programme (%)"]
["Pays","Région/Département","District",null,null,"EAPréS","EAS","Adultes","Total","EAPréS","EAS","Adultes","Total","EAPréS","EAS","Adultes","Total"]
[]
[]
[{"$f":"IF(COUNTRY_INFO!A10=0,\" \",COUNTRY_INFO!A10)","v":"Togo"},{"$f":"IF(COUNTRY_INFO!B10=0,\" \",COUNTRY_INFO!B10)","v":"CENTRALE"},{"$f":"IF(COUNTRY_INFO!C10=0,\" \",COUNTRY_INFO!C10)","v":"BLITTA"},{"$f":"IF(COUNTRY_INFO!$Z10=\"MDA1 (IVM+ALB)\", COUNTRY_INFO!$Z10, \" \")","v":" "},null,null,null,null,{"$f":"SUM(F10:H10)","v":0},null,null,null,{"$f":"SUM(J10:L10)","v":0},null,{"$f":"IF(G10<>0, IF(K10/G10*100=0, \"-\", K10/G10*100), \" \")","v":" "},{"$f":"IF(H10<>0, IF(L10/H10*100=0, \"-\", L10/H10*100), \" \")","v":" "}," "]
[{"$f":"IF(COUNTRY_INFO!A11=0,\" \",COUNTRY_INFO!A11)","v":"Togo"},{"$f":"IF(COUNTRY_INFO!B11=0,\" \",COUNTRY_INFO!B11)","v":"CENTRALE"},{"$f":"IF(COUNTRY_INFO!C11=0,\" \",COUNTRY_INFO!C11)","v":"MÔ"},{"$f":"IF(COUNTRY_INFO!$Z11=\"MDA1 (IVM+ALB)\", COUNTRY_INFO!$Z11, \" \")","v":" "},null,null,null,null,{"$f":"SUM(F11:H11)","v":0},null,null,null,{"$f":"SUM(J11:L11)","v":0},null,{"$f":"IF(G11<>0, IF(K11/G11*100=0, \"-\", K11/G11*100), \" \")","v":" "},{"$f":"IF(H11<>0, IF(L11/H11*100=0, \"-\", L11/H11*100), \" \")","v":" "},{"$f":"IF(I11<>0, IF(M11/I11*100=0, \"-\", M11/I11*100), \" \")","v":" "}]
[{"$f":"IF(COUNTRY_INFO!A12=0,\" \",COUNTRY_INFO!A12)","v":"Togo"},{"$f":"IF(COUNTRY_INFO!B12=0,\" \",COUNTRY_INFO!B12)","v":"CENTRALE"},{"$f":"IF(COUNTRY_INFO!C12=0,\" \",COUNTRY_INFO!C12)","v":"SOTOUBOUA"},{"$f":"IF(COUNTRY_INFO!$Z12=\"MDA1 (IVM+ALB)\", COUNTRY_INFO!$Z12, \" \")","v":" "},null,null,null,null,0,null,null,null,0,null," "," "," "]
[{"$f":"IF(COUNTRY_INFO!A13=0,\" \",COUNTRY_INFO!A13)","v":"Togo"},{"$f":"IF(COUNTRY_INFO!B13=0,\" \",COUNTRY_INFO!B13)","v":"CENTRALE"},{"$f":"IF(COUNTRY_INFO!C13=0,\" \",COUNTRY_INFO!C13)","v":"TCHAMBA"},{"$f":"IF(COUNTRY_INFO!$Z13=\"MDA1 (IVM+ALB)\", COUNTRY_INFO!$Z13, \" \")","v":" "},null,null,null,null,0,null,null,null,0,null," "," "," "]
[{"$f":"IF(COUNTRY_INFO!A14=0,\" \",COUNTRY_INFO!A14)","v":"Togo"},{"$f":"IF(COUNTRY_INFO!B14=0,\" \",COUNTRY_INFO!B14)","v":"CENTRALE"},{"$f":"IF(COUNTRY_INFO!C14=0,\" \",COUNTRY_INFO!C14)","v":"TCHAOUDJO"},{"$f":"IF(COUNTRY_INFO!$Z14=\"MDA1 (IVM+ALB)\", COUNTRY_INFO!$Z14, \" \")","v":" "},null,null,null,null,0,null,null,null,0,null," "," "," "]
[{"$f":"IF(COUNTRY_INFO!A15=0,\" \",COUNTRY_INFO!A15)","v":"Togo"},{"$f":"IF(COUNTRY_INFO!B15=0,\" \",COUNTRY_INFO!B15)","v":"GRAND-LOME"},{"$f":"IF(COUNTRY_INFO!C15=0,\" \",COUNTRY_INFO!C15)","v":"AGOE NYIVE"},{"$f":"IF(COUNTRY_INFO!$Z15=\"MDA1 (IVM+ALB)\", COUNTRY_INFO!$Z15, \" \")","v":" "},null,null,null,null,0,null,null,null,0,null," "," "," "]
[{"$f":"IF(COUNTRY_INFO!A16=0,\" \",COUNTRY_INFO!A16)","v":"Togo"},{"$f":"IF(COUNTRY_INFO!B16=0,\" \",COUNTRY_INFO!B16)","v":"GRAND-LOME"},{"$f":"IF(COUNTRY_INFO!C16=0,\" \",COUNTRY_INFO!C16)","v":"GOLFE"},{"$f":"IF(COUNTRY_INFO!$Z16=\"MDA1 (IVM+ALB)\", COUNTRY_INFO!$Z16, \" \")","v":" "},null,null,null,null,0,null,null,null,0,null," "," "," "]
[{"$f":"IF(COUNTRY_INFO!A17=0,\" \",COUNTRY_INFO!A17)","v":"Togo"},{"$f":"IF(COUNTRY_INFO!B17=0,\" \",COUNTRY_INFO!B17)","v":"KARA"},{"$f":"IF(COUNTRY_INFO!C17=0,\" \",COUNTRY_INFO!C17)","v":"ASSOLI"},{"$f":"IF(COUNTRY_INFO!$Z17=\"MDA1 (IVM+ALB)\", COUNTRY_INFO!$Z17, \" \")","v":" "},null,null,null,null,0,null,null,null,0,null," "," "," "]
[{"$f":"IF(COUNTRY_INFO!A18=0,\" \",COUNTRY_INFO!A18)","v":"Togo"},{"$f":"IF(COUNTRY_INFO!B18=0,\" \",COUNTRY_INFO!B18)","v":"KARA"},{"$f":"IF(COUNTRY_INFO!C18=0,\" \",COUNTRY_INFO!C18)","v":"BASSAR"},{"$f":"IF(COUNTRY_INFO!$Z18=\"MDA1 (IVM+ALB)\", COUNTRY_INFO!$Z18, \" \")","v":" "},null,null,null,null,0,null,null,null,0,null," "," "," "]
[{"$f":"IF(COUNTRY_INFO!A19=0,\" \",COUNTRY_INFO!A19)","v":"Togo"},{"$f":"IF(COUNTRY_INFO!B19=0,\" \",COUNTRY_INFO!B19)","v":"KARA"},{"$f":"IF(COUNTRY_INFO!C19=0,\" \",COUNTRY_INFO!C19)","v":"BINAH"},{"$f":"IF(COUNTRY_INFO!$Z19=\"MDA1 (IVM+ALB)\", COUNTRY_INFO!$Z19, \" \")","v":" "},null,null,null,null,0,null,null,null,0,null," "," "," "]
[{"$f":"IF(COUNTRY_INFO!A20=0,\" \",COUNTRY_INFO!A20)","v":"Togo"},{"$f":"IF(COUNTRY_INFO!B20=0,\" \",COUNTRY_INFO!B20)","v":"KARA"},{"$f":"IF(COUNTRY_INFO!C20=0,\" \",COUNTRY_INFO!C20)","v":"DANKPEN"},{"$f":"IF(COUNTRY_INFO!$Z20=\"MDA1 (IVM+ALB)\", COUNTRY_INFO!$Z20, \" \")","v":" "},null,null,null,null,0,null,null,null,0,null," "," "," "]
[{"$f":"IF(COUNTRY_INFO!A21=0,\" \",COUNTRY_INFO!A21)","v":"Togo"},{"$f":"IF(COUNTRY_INFO!B21=0,\" \",COUNTRY_INFO!B21)","v":"KARA"},{"$f":"IF(COUNTRY_INFO!C21=0,\" \",COUNTRY_INFO!C21)","v":"DOUFELGOU"},{"$f":"IF(COUNTRY_INFO!$Z21=\"MDA1 (IVM+ALB)\", COUNTRY_INFO!$Z21, \" \")","v":" "},null,null,null,null,0,null,null,null,0,null," "," "," "]
[{"$f":"IF(COUNTRY_INFO!A22=0,\" \",COUNTRY_INFO!A22)","v":"Togo"},{"$f":"IF(COUNTRY_INFO!B22=0,\" \",COUNTRY_INFO!B22)","v":"KARA"},{"$f":"IF(COUNTRY_INFO!C22=0,\" \",COUNTRY_INFO!C22)","v":"KERAN"},{"$f":"IF(COUNTRY_INFO!$Z22=\"MDA1 (IVM+ALB)\", COUNTRY_INFO!$Z22, \" \")","v":" "},null,null,null,null,0,null,null,null,0,null," "," "," "]
[{"$f":"IF(COUNTRY_INFO!A23=0,\" \",COUNTRY_INFO!A23)","v":"Togo"},{"$f":"IF(COUNTRY_INFO!B23=0,\" \",COUNTRY_INFO!B23)","v":"KARA"},{"$f":"IF(COUNTRY_INFO!C23=0,\" \",COUNTRY_INFO!C23)","v":"KOZAH"},{"$f":"IF(COUNTRY_INFO!$Z23=\"MDA1 (IVM+ALB)\", COUNTRY_INFO!$Z23, \" \")","v":" "},null,null,null,null,0,null,null,null,0,null," "," "," "]
[{"$f":"IF(COUNTRY_INFO!A24=0,\" \",COUNTRY_INFO!A24)","v":"Togo"},{"$f":"IF(COUNTRY_INFO!B24=0,\" \",COUNTRY_INFO!B24)","v":"MARITIME"},{"$f":"IF(COUNTRY_INFO!C24=0,\" \",COUNTRY_INFO!C24)","v":"AVE"},{"$f":"IF(COUNTRY_INFO!$Z24=\"MDA1 (IVM+ALB)\", COUNTRY_INFO!$Z24, \" \")","v":" "},null,null,null,null,0,null,null,null,0,null," "," "," "]
[{"$f":"IF(COUNTRY_INFO!A25=0,\" \",COUNTRY_INFO!A25)","v":"Togo"},{"$f":"IF(COUNTRY_INFO!B25=0,\" \",COUNTRY_INFO!B25)","v":"MARITIME"},{"$f":"IF(COUNTRY_INFO!C25=0,\" \",COUNTRY_INFO!C25)","v":"BAS-MONO"},{"$f":"IF(COUNTRY_INFO!$Z25=\"MDA1 (IVM+ALB)\", COUNTRY_INFO!$Z25, \" \")","v":" "},null,null,null,null,0,null,null,null,0,null," "," "," "]
[{"$f":"IF(COUNTRY_INFO!A26=0,\" \",COUNTRY_INFO!A26)","v":"Togo"},{"$f":"IF(COUNTRY_INFO!B26=0,\" \",COUNTRY_INFO!B26)","v":"MARITIME"},{"$f":"IF(COUNTRY_INFO!C26=0,\" \",COUNTRY_INFO!C26)","v":"LACS"},{"$f":"IF(COUNTRY_INFO!$Z26=\"MDA1 (IVM+ALB)\", COUNTRY_INFO!$Z26, \" \")","v":" "},null,null,null,null,0,null,null,null,0,null," "," "," "]
[{"$f":"IF(COUNTRY_INFO!A27=0,\" \",COUNTRY_INFO!A27)","v":"Togo"},{"$f":"IF(COUNTRY_INFO!B27=0,\" \",COUNTRY_INFO!B27)","v":"MARITIME"},{"$f":"IF(COUNTRY_INFO!C27=0,\" \",COUNTRY_INFO!C27)","v":"VO"},{"$f":"IF(COUNTRY_INFO!$Z27=\"MDA1 (IVM+ALB)\", COUNTRY_INFO!$Z27, \" \")","v":" "},null,null,null,null,0,null,null,null,0,null," "," "," "]
[{"$f":"IF(COUNTRY_INFO!A28=0,\" \",COUNTRY_INFO!A28)","v":"Togo"},{"$f":"IF(COUNTRY_INFO!B28=0,\" \",COUNTRY_INFO!B28)","v":"MARITIME"},{"$f":"IF(COUNTRY_INFO!C28=0,\" \",COUNTRY_INFO!C28)","v":"YOTO"},{"$f":"IF(COUNTRY_INFO!$Z28=\"MDA1 (IVM+ALB)\", COUNTRY_INFO!$Z28, \" \")","v":" "},null,null,null,null,0,null,null,null,0,null," "," "," "]
[{"$f":"IF(COUNTRY_INFO!A29=0,\" \",COUNTRY_INFO!A29)","v":"Togo"},{"$f":"IF(COUNTRY_INFO!B29=0,\" \",COUNTRY_INFO!B29)","v":"MARITIME"},{"$f":"IF(COUNTRY_INFO!C29=0,\" \",COUNTRY_INFO!C29)","v":"ZIO"},{"$f":"IF(COUNTRY_INFO!$Z29=\"MDA1 (IVM+ALB)\", COUNTRY_INFO!$Z29, \" \")","v":" "},null,null,null,null,0,null,null,null,0,null," "," "," "]
[{"$f":"IF(COUNTRY_INFO!A30=0,\" \",COUNTRY_INFO!A30)","v":"Togo"},{"$f":"IF(COUNTRY_INFO!B30=0,\" \",COUNTRY_INFO!B30)","v":"PLATEAUX"},{"$f":"IF(COUNTRY_INFO!C30=0,\" \",COUNTRY_INFO!C30)","v":"AGOU"},{"$f":"IF(COUNTRY_INFO!$Z30=\"MDA1 (IVM+ALB)\", COUNTRY_INFO!$Z30, \" \")","v":" "},null,null,null,null,0,null,null,null,0,null," "," "," "]
[{"$f":"IF(COUNTRY_INFO!A31=0,\" \",COUNTRY_INFO!A31)","v":"Togo"},{"$f":"IF(COUNTRY_INFO!B31=0,\" \",COUNTRY_INFO!B31)","v":"PLATEAUX"},{"$f":"IF(COUNTRY_INFO!C31=0,\" \",COUNTRY_INFO!C31)","v":"AKEBOU"},{"$f":"IF(COUNTRY_INFO!$Z31=\"MDA1 (IVM+ALB)\", COUNTRY_INFO!$Z31, \" \")","v":" "},null,null,null,null,0,null,null,null,0,null," "," "," "]
[{"$f":"IF(COUNTRY_INFO!A32=0,\" \",COUNTRY_INFO!A32)","v":"Togo"},{"$f":"IF(COUNTRY_INFO!B32=0,\" \",COUNTRY_INFO!B32)","v":"PLATEAUX"},{"$f":"IF(COUNTRY_INFO!C32=0,\" \",COUNTRY_INFO!C32)","v":"AMOU"},{"$f":"IF(COUNTRY_INFO!$Z32=\"MDA1 (IVM+ALB)\", COUNTRY_INFO!$Z32, \" \")","v":" "},null,null,null,null,0,null,null,null,0,null," "," "," "]
[{"$f":"IF(COUNTRY_INFO!A33=0,\" \",COUNTRY_INFO!A33)","v":"Togo"},{"$f":"IF(COUNTRY_INFO!B33=0,\" \",COUNTRY_INFO!B33)","v":"PLATEAUX"},{"$f":"IF(COUNTRY_INFO!C33=0,\" \",COUNTRY_INFO!C33)","v":"ANIE"},{"$f":"IF(COUNTRY_INFO!$Z33=\"MDA1 (IVM+ALB)\", COUNTRY_INFO!$Z33, \" \")","v":" "},null,null,null,null,0,null,null,null,0,null," "," "," "]
[{"$f":"IF(COUNTRY_INFO!A34=0,\" \",COUNTRY_INFO!A34)","v":"Togo"},{"$f":"IF(COUNTRY_INFO!B34=0,\" \",COUNTRY_INFO!B34)","v":"PLATEAUX"},{"$f":"IF(COUNTRY_INFO!C34=0,\" \",COUNTRY_INFO!C34)","v":"DANYI"},{"$f":"IF(COUNTRY_INFO!$Z34=\"MDA1 (IVM+ALB)\", COUNTRY_INFO!$Z34, \" \")","v":" "},null,null,null,null,0,null,null,null,0,null," "," "," "]
[{"$f":"IF(COUNTRY_INFO!A35=0,\" \",COUNTRY_INFO!A35)","v":"Togo"},{"$f":"IF(COUNTRY_INFO!B35=0,\" \",COUNTRY_INFO!B35)","v":"PLATEAUX"},{"$f":"IF(COUNTRY_INFO!C35=0,\" \",COUNTRY_INFO!C35)","v":"EST-MONO"},{"$f":"IF(COUNTRY_INFO!$Z35=\"MDA1 (IVM+ALB)\", COUNTRY_INFO!$Z35, \" \")","v":" "},null,null,null,null,0,null,null,null,0,null," "," "," "]
[{"$f":"IF(COUNTRY_INFO!A36=0,\" \",COUNTRY_INFO!A36)","v":"Togo"},{"$f":"IF(COUNTRY_INFO!B36=0,\" \",COUNTRY_INFO!B36)","v":"PLATEAUX"},{"$f":"IF(COUNTRY_INFO!C36=0,\" \",COUNTRY_INFO!C36)","v":"HAHO"},{"$f":"IF(COUNTRY_INFO!$Z36=\"MDA1 (IVM+ALB)\", COUNTRY_INFO!$Z36, \" \")","v":" "},null,null,null,null,0,null,null,null,0,null," "," "," "]
[{"$f":"IF(COUNTRY_INFO!A37=0,\" \",COUNTRY_INFO!A37)","v":"Togo"},{"$f":"IF(COUNTRY_INFO!B37=0,\" \",COUNTRY_INFO!B37)","v":"PLATEAUX"},{"$f":"IF(COUNTRY_INFO!C37=0,\" \",COUNTRY_INFO!C37)","v":"KLOTO"},{"$f":"IF(COUNTRY_INFO!$Z37=\"MDA1 (IVM+ALB)\", COUNTRY_INFO!$Z37, \" \")","v":" "},null,null,null,null,0,null,null,null,0,null," "," "," "]
[{"$f":"IF(COUNTRY_INFO!A38=0,\" \",COUNTRY_INFO!A38)","v":"Togo"},{"$f":"IF(COUNTRY_INFO!B38=0,\" \",COUNTRY_INFO!B38)","v":"PLATEAUX"},{"$f":"IF(COUNTRY_INFO!C38=0,\" \",COUNTRY_INFO!C38)","v":"KPELE"},{"$f":"IF(COUNTRY_INFO!$Z38=\"MDA1 (IVM+ALB)\", COUNTRY_INFO!$Z38, \" \")","v":" "},null,null,null,null,0,null,null,null,0,null," "," "," "]
[{"$f":"IF(COUNTRY_INFO!A39=0,\" \",COUNTRY_INFO!A39)","v":"Togo"},{"$f":"IF(COUNTRY_INFO!B39=0,\" \",COUNTRY_INFO!B39)","v":"PLATEAUX"},{"$f":"IF(COUNTRY_INFO!C39=0,\" \",COUNTRY_INFO!C39)","v":"MOYEN-MONO"},{"$f":"IF(COUNTRY_INFO!$Z39=\"MDA1 (IVM+ALB)\", COUNTRY_INFO!$Z39, \" \")","v":" "},null,null,null,null,0,null,null,null,0,null," "," "," "]
[{"$f":"IF(COUNTRY_INFO!A40=0,\" \",COUNTRY_INFO!A40)","v":"Togo"},{"$f":"IF(COUNTRY_INFO!B40=0,\" \",COUNTRY_INFO!B40)","v":"PLATEAUX"},{"$f":"IF(COUNTRY_INFO!C40=0,\" \",COUNTRY_INFO!C40)","v":"OGOU"},{"$f":"IF(COUNTRY_INFO!$Z40=\"MDA1 (IVM+ALB)\", COUNTRY_INFO!$Z40, \" \")","v":" "},null,null,null,null,0,null,null,null,0,null," "," "," "]
[{"$f":"IF(COUNTRY_INFO!A41=0,\" \",COUNTRY_INFO!A41)","v":"Togo"},{"$f":"IF(COUNTRY_INFO!B41=0,\" \",COUNTRY_INFO!B41)","v":"PLATEAUX"},{"$f":"IF(COUNTRY_INFO!C41=0,\" \",COUNTRY_INFO!C41)","v":"WAWA"},{"$f":"IF(COUNTRY_INFO!$Z41=\"MDA1 (IVM+ALB)\", COUNTRY_INFO!$Z41, \" \")","v":" "},null,null,null,null,0,null,null,null,0,null," "," "," "]
[{"$f":"IF(COUNTRY_INFO!A42=0,\" \",COUNTRY_INFO!A42)","v":"Togo"},{"$f":"IF(COUNTRY_INFO!B42=0,\" \",COUNTRY_INFO!B42)","v":"SAVANES"},{"$f":"IF(COUNTRY_INFO!C42=0,\" \",COUNTRY_INFO!C42)","v":"CINKASSE"},{"$f":"IF(COUNTRY_INFO!$Z42=\"MDA1 (IVM+ALB)\", COUNTRY_INFO!$Z42, \" \")","v":" "},null,null,null,null,0,null,null,null,0,null," "," "," "]
[{"$f":"IF(COUNTRY_INFO!A43=0,\" \",COUNTRY_INFO!A43)","v":"Togo"},{"$f":"IF(COUNTRY_INFO!B43=0,\" \",COUNTRY_INFO!B43)","v":"SAVANES"},{"$f":"IF(COUNTRY_INFO!C43=0,\" \",COUNTRY_INFO!C43)","v":"KPENDJAL"},{"$f":"IF(COUNTRY_INFO!$Z43=\"MDA1 (IVM+ALB)\", COUNTRY_INFO!$Z43, \" \")","v":" "},null,null,null,null,0,null,null,null,0,null," "," "," "]
[{"$f":"IF(COUNTRY_INFO!A44=0,\" \",COUNTRY_INFO!A44)","v":"Togo"},{"$f":"IF(COUNTRY_INFO!B44=0,\" \",COUNTRY_INFO!B44)","v":"SAVANES"},{"$f":"IF(COUNTRY_INFO!C44=0,\" \",COUNTRY_INFO!C44)","v":"KPENDJAL-OUEST"},{"$f":"IF(COUNTRY_INFO!$Z44=\"MDA1 (IVM+ALB)\", COUNTRY_INFO!$Z44, \" \")","v":" "},null,null,null,null,0,null,null,null,0,null," "," "," "]
[{"$f":"IF(COUNTRY_INFO!A45=0,\" \",COUNTRY_INFO!A45)","v":"Togo"},{"$f":"IF(COUNTRY_INFO!B45=0,\" \",COUNTRY_INFO!B45)","v":"SAVANES"},{"$f":"IF(COUNTRY_INFO!C45=0,\" \",COUNTRY_INFO!C45)","v":"OTI"},{"$f":"IF(COUNTRY_INFO!$Z45=\"MDA1 (IVM+ALB)\", COUNTRY_INFO!$Z45, \" \")","v":" "},null,null,null,null,0,null,null,null,0,null," "," "," "]
[{"$f":"IF(COUNTRY_INFO!A46=0,\" \",COUNTRY_INFO!A46)","v":"Togo"},{"$f":"IF(COUNTRY_INFO!B46=0,\" \",COUNTRY_INFO!B46)","v":"SAVANES"},{"$f":"IF(COUNTRY_INFO!C46=0,\" \",COUNTRY_INFO!C46)","v":"OTI-SUD"},{"$f":"IF(COUNTRY_INFO!$Z46=\"MDA1 (IVM+ALB)\", COUNTRY_INFO!$Z46, \" \")","v":" "},null,null,null,null,0,null,null,null,0,null," "," "," "]
[{"$f":"IF(COUNTRY_INFO!A47=0,\" \",COUNTRY_INFO!A47)","v":"Togo"},{"$f":"IF(COUNTRY_INFO!B47=0,\" \",COUNTRY_INFO!B47)","v":"SAVANES"},{"$f":"IF(COUNTRY_INFO!C47=0,\" \",COUNTRY_INFO!C47)","v":"TANDJOUARE"},{"$f":"IF(COUNTRY_INFO!$Z47=\"MDA1 (IVM+ALB)\", COUNTRY_INFO!$Z47, \" \")","v":" "},null,null,null,null,0,null,null,null,0,null," "," "," "]
[{"$f":"IF(COUNTRY_INFO!A48=0,\" \",COUNTRY_INFO!A48)","v":"Togo"},{"$f":"IF(COUNTRY_INFO!B48=0,\" \",COUNTRY_INFO!B48)","v":"SAVANES"},{"$f":"IF(COUNTRY_INFO!C48=0,\" \",COUNTRY_INFO!C48)","v":"TONE"},{"$f":"IF(COUNTRY_INFO!$Z48=\"MDA1 (IVM+ALB)\", COUNTRY_INFO!$Z48, \" \")","v":" "},null,null,null,null,0,null,null,null,0,null," "," "," "]

{"sheet":"MDA2","index":3,"n_rows":48,"n_cols":17,"rows_kept":48,"cut":false,"hidden":true,"merged":[[7,0,7,16],[5,5,5,8],[5,9,5,12],[5,13,5,16],[3,0,3,2],[5,0,5,2],[5,3,6,3],[5,4,6,4]]}
["MDA 2 - Diethylcarbamazine (DEC) + Albendazole (ALB)"]
["Structure administrative, population nécessitant une chimioprévention par groupe d'âge, population traitée par groupe d'âge et couverture"]
[]
["TOTAL",null,null,null,null,{"$f":"SUBTOTAL(9,F$10:F$1010)","v":0},0,0,0,0,0,0,0,{"$f":"IF(F4<>0, IF(J4/F4*100=0, \"-\", J4/F4*100), \" \")","v":" "},{"$f":"IF(G4<>0, IF(K4/G4*100=0, \"-\", K4/G4*100), \" \")","v":" "},{"$f":"IF(H4<>0, IF(L4/H4*100=0, \"-\", L4/H4*100), \" \")","v":" "},{"$f":"IF(I4<>0, IF(M4/I4*100=0, \"-\", M4/I4*100), \" \")","v":" "}]
[]
["Structure administrative du pays",null,null,"Mise en oeuvre \nde la CP","Date","Population ciblée pour MDA 2",null,null,null,"Population traitée",null,null,null,"Couverture du Programme (%)"]
["Pays","Région/Département","District",null,null,"EAPréS","EAS","Adultes","Total","EAPréS","EAS","Adultes","Total","EAPréS","EAS","Adultes","Total"]
[]
[]
[{"$f":"IF(COUNTRY_INFO!A10=0,\" \",COUNTRY_INFO!A10)","v":"Togo"},{"$f":"IF(COUNTRY_INFO!B10=0,\" \",COUNTRY_INFO!B10)","v":"CENTRALE"},{"$f":"IF(COUNTRY_INFO!C10=0,\" \",COUNTRY_INFO!C10)","v":"BLITTA"},{"$f":"IF(COUNTRY_INFO!$Z10=\"MDA2 (DEC+ALB)\", COUNTRY_INFO!$Z10, \" \")","v":" "},null,null,null,null,{"$f":"SUM(F10:H10)","v":0},null,null,null,{"$f":"SUM(J10:L10)","v":0},{"$f":"IF(F10<>0, IF(J10/F10*100=0, \"-\", J10/F10*100), \" \")","v":" "},{"$f":"IF(G10<>0, IF(K10/G10*100=0, \"-\", K10/G10*100), \" \")","v":" "}," "," "]
[{"$f":"IF(COUNTRY_INFO!A11=0,\" \",COUNTRY_INFO!A11)","v":"Togo"},{"$f":"IF(COUNTRY_INFO!B11=0,\" \",COUNTRY_INFO!B11)","v":"CENTRALE"},{"$f":"IF(COUNTRY_INFO!C11=0,\" \",COUNTRY_INFO!C11)","v":"MÔ"},{"$f":"IF(COUNTRY_INFO!$Z11=\"MDA2 (DEC+ALB)\", COUNTRY_INFO!$Z11, \" \")","v":" "},null,null,null,null,{"$f":"SUM(F11:H11)","v":0},null,null,null,{"$f":"SUM(J11:L11)","v":0},{"$f":"IF(F11<>0, IF(J11/F11*100=0, \"-\", J11/F11*100), \" \")","v":" "},{"$f":"IF(G11<>0, IF(K11/G11*100=0, \"-\", K11/G11*100), \" \")","v":" "},{"$f":"IF(H11<>0, IF(L11/H11*100=0, \"-\", L11/H11*100), \" \")","v":" "},{"$f":"IF(I11<>0, IF(M11/I11*100=0, \"-\", M11/I11*100), \" \")","v":" "}]
[{"$f":"IF(COUNTRY_INFO!A12=0,\" \",COUNTRY_INFO!A12)","v":"Togo"},{"$f":"IF(COUNTRY_INFO!B12=0,\" \",COUNTRY_INFO!B12)","v":"CENTRALE"},{"$f":"IF(COUNTRY_INFO!C12=0,\" \",COUNTRY_INFO!C12)","v":"SOTOUBOUA"},{"$f":"IF(COUNTRY_INFO!$Z12=\"MDA2 (DEC+ALB)\", COUNTRY_INFO!$Z12, \" \")","v":" "},null,null,null,null,0,null,null,null,0," "," "," "," "]
[{"$f":"IF(COUNTRY_INFO!A13=0,\" \",COUNTRY_INFO!A13)","v":"Togo"},{"$f":"IF(COUNTRY_INFO!B13=0,\" \",COUNTRY_INFO!B13)","v":"CENTRALE"},{"$f":"IF(COUNTRY_INFO!C13=0,\" \",COUNTRY_INFO!C13)","v":"TCHAMBA"},{"$f":"IF(COUNTRY_INFO!$Z13=\"MDA2 (DEC+ALB)\", COUNTRY_INFO!$Z13, \" \")","v":" "},null,null,null,null,0,null,null,null,0," "," "," "," "]
[{"$f":"IF(COUNTRY_INFO!A14=0,\" \",COUNTRY_INFO!A14)","v":"Togo"},{"$f":"IF(COUNTRY_INFO!B14=0,\" \",COUNTRY_INFO!B14)","v":"CENTRALE"},{"$f":"IF(COUNTRY_INFO!C14=0,\" \",COUNTRY_INFO!C14)","v":"TCHAOUDJO"},{"$f":"IF(COUNTRY_INFO!$Z14=\"MDA2 (DEC+ALB)\", COUNTRY_INFO!$Z14, \" \")","v":" "},null,null,null,null,0,null,null,null,0," "," "," "," "]
[{"$f":"IF(COUNTRY_INFO!A15=0,\" \",COUNTRY_INFO!A15)","v":"Togo"},{"$f":"IF(COUNTRY_INFO!B15=0,\" \",COUNTRY_INFO!B15)","v":"GRAND-LOME"},{"$f":"IF(COUNTRY_INFO!C15=0,\" \",COUNTRY_INFO!C15)","v":"AGOE NYIVE"},{"$f":"IF(COUNTRY_INFO!$Z15=\"MDA2 (DEC+ALB)\", COUNTRY_INFO!$Z15, \" \")","v":" "},null,null,null,null,0,null,null,null,0," "," "," "," "]
[{"$f":"IF(COUNTRY_INFO!A16=0,\" \",COUNTRY_INFO!A16)","v":"Togo"},{"$f":"IF(COUNTRY_INFO!B16=0,\" \",COUNTRY_INFO!B16)","v":"GRAND-LOME"},{"$f":"IF(COUNTRY_INFO!C16=0,\" \",COUNTRY_INFO!C16)","v":"GOLFE"},{"$f":"IF(COUNTRY_INFO!$Z16=\"MDA2 (DEC+ALB)\", COUNTRY_INFO!$Z16, \" \")","v":" "},null,null,null,null,0,null,null,null,0," "," "," "," "]
[{"$f":"IF(COUNTRY_INFO!A17=0,\" \",COUNTRY_INFO!A17)","v":"Togo"},{"$f":"IF(COUNTRY_INFO!B17=0,\" \",COUNTRY_INFO!B17)","v":"KARA"},{"$f":"IF(COUNTRY_INFO!C17=0,\" \",COUNTRY_INFO!C17)","v":"ASSOLI"},{"$f":"IF(COUNTRY_INFO!$Z17=\"MDA2 (DEC+ALB)\", COUNTRY_INFO!$Z17, \" \")","v":" "},null,null,null,null,0,null,null,null,0," "," "," "," "]
[{"$f":"IF(COUNTRY_INFO!A18=0,\" \",COUNTRY_INFO!A18)","v":"Togo"},{"$f":"IF(COUNTRY_INFO!B18=0,\" \",COUNTRY_INFO!B18)","v":"KARA"},{"$f":"IF(COUNTRY_INFO!C18=0,\" \",COUNTRY_INFO!C18)","v":"BASSAR"},{"$f":"IF(COUNTRY_INFO!$Z18=\"MDA2 (DEC+ALB)\", COUNTRY_INFO!$Z18, \" \")","v":" "},null,null,null,null,0,null,null,null,0," "," "," "," "]
[{"$f":"IF(COUNTRY_INFO!A19=0,\" \",COUNTRY_INFO!A19)","v":"Togo"},{"$f":"IF(COUNTRY_INFO!B19=0,\" \",COUNTRY_INFO!B19)","v":"KARA"},{"$f":"IF(COUNTRY_INFO!C19=0,\" \",COUNTRY_INFO!C19)","v":"BINAH"},{"$f":"IF(COUNTRY_INFO!$Z19=\"MDA2 (DEC+ALB)\", COUNTRY_INFO!$Z19, \" \")","v":" "},null,null,null,null,0,null,null,null,0," "," "," "," "]
[{"$f":"IF(COUNTRY_INFO!A20=0,\" \",COUNTRY_INFO!A20)","v":"Togo"},{"$f":"IF(COUNTRY_INFO!B20=0,\" \",COUNTRY_INFO!B20)","v":"KARA"},{"$f":"IF(COUNTRY_INFO!C20=0,\" \",COUNTRY_INFO!C20)","v":"DANKPEN"},{"$f":"IF(COUNTRY_INFO!$Z20=\"MDA2 (DEC+ALB)\", COUNTRY_INFO!$Z20, \" \")","v":" "},null,null,null,null,0,null,null,null,0," "," "," "," "]
[{"$f":"IF(COUNTRY_INFO!A21=0,\" \",COUNTRY_INFO!A21)","v":"Togo"},{"$f":"IF(COUNTRY_INFO!B21=0,\" \",COUNTRY_INFO!B21)","v":"KARA"},{"$f":"IF(COUNTRY_INFO!C21=0,\" \",COUNTRY_INFO!C21)","v":"DOUFELGOU"},{"$f":"IF(COUNTRY_INFO!$Z21=\"MDA2 (DEC+ALB)\", COUNTRY_INFO!$Z21, \" \")","v":" "},null,null,null,null,0,null,null,null,0," "," "," "," "]
[{"$f":"IF(COUNTRY_INFO!A22=0,\" \",COUNTRY_INFO!A22)","v":"Togo"},{"$f":"IF(COUNTRY_INFO!B22=0,\" \",COUNTRY_INFO!B22)","v":"KARA"},{"$f":"IF(COUNTRY_INFO!C22=0,\" \",COUNTRY_INFO!C22)","v":"KERAN"},{"$f":"IF(COUNTRY_INFO!$Z22=\"MDA2 (DEC+ALB)\", COUNTRY_INFO!$Z22, \" \")","v":" "},null,null,null,null,0,null,null,null,0," "," "," "," "]
[{"$f":"IF(COUNTRY_INFO!A23=0,\" \",COUNTRY_INFO!A23)","v":"Togo"},{"$f":"IF(COUNTRY_INFO!B23=0,\" \",COUNTRY_INFO!B23)","v":"KARA"},{"$f":"IF(COUNTRY_INFO!C23=0,\" \",COUNTRY_INFO!C23)","v":"KOZAH"},{"$f":"IF(COUNTRY_INFO!$Z23=\"MDA2 (DEC+ALB)\", COUNTRY_INFO!$Z23, \" \")","v":" "},null,null,null,null,0,null,null,null,0," "," "," "," "]
[{"$f":"IF(COUNTRY_INFO!A24=0,\" \",COUNTRY_INFO!A24)","v":"Togo"},{"$f":"IF(COUNTRY_INFO!B24=0,\" \",COUNTRY_INFO!B24)","v":"MARITIME"},{"$f":"IF(COUNTRY_INFO!C24=0,\" \",COUNTRY_INFO!C24)","v":"AVE"},{"$f":"IF(COUNTRY_INFO!$Z24=\"MDA2 (DEC+ALB)\", COUNTRY_INFO!$Z24, \" \")","v":" "},null,null,null,null,0,null,null,null,0," "," "," "," "]
[{"$f":"IF(COUNTRY_INFO!A25=0,\" \",COUNTRY_INFO!A25)","v":"Togo"},{"$f":"IF(COUNTRY_INFO!B25=0,\" \",COUNTRY_INFO!B25)","v":"MARITIME"},{"$f":"IF(COUNTRY_INFO!C25=0,\" \",COUNTRY_INFO!C25)","v":"BAS-MONO"},{"$f":"IF(COUNTRY_INFO!$Z25=\"MDA2 (DEC+ALB)\", COUNTRY_INFO!$Z25, \" \")","v":" "},null,null,null,null,0,null,null,null,0," "," "," "," "]
[{"$f":"IF(COUNTRY_INFO!A26=0,\" \",COUNTRY_INFO!A26)","v":"Togo"},{"$f":"IF(COUNTRY_INFO!B26=0,\" \",COUNTRY_INFO!B26)","v":"MARITIME"},{"$f":"IF(COUNTRY_INFO!C26=0,\" \",COUNTRY_INFO!C26)","v":"LACS"},{"$f":"IF(COUNTRY_INFO!$Z26=\"MDA2 (DEC+ALB)\", COUNTRY_INFO!$Z26, \" \")","v":" "},null,null,null,null,0,null,null,null,0," "," "," "," "]
[{"$f":"IF(COUNTRY_INFO!A27=0,\" \",COUNTRY_INFO!A27)","v":"Togo"},{"$f":"IF(COUNTRY_INFO!B27=0,\" \",COUNTRY_INFO!B27)","v":"MARITIME"},{"$f":"IF(COUNTRY_INFO!C27=0,\" \",COUNTRY_INFO!C27)","v":"VO"},{"$f":"IF(COUNTRY_INFO!$Z27=\"MDA2 (DEC+ALB)\", COUNTRY_INFO!$Z27, \" \")","v":" "},null,null,null,null,0,null,null,null,0," "," "," "," "]
[{"$f":"IF(COUNTRY_INFO!A28=0,\" \",COUNTRY_INFO!A28)","v":"Togo"},{"$f":"IF(COUNTRY_INFO!B28=0,\" \",COUNTRY_INFO!B28)","v":"MARITIME"},{"$f":"IF(COUNTRY_INFO!C28=0,\" \",COUNTRY_INFO!C28)","v":"YOTO"},{"$f":"IF(COUNTRY_INFO!$Z28=\"MDA2 (DEC+ALB)\", COUNTRY_INFO!$Z28, \" \")","v":" "},null,null,null,null,0,null,null,null,0," "," "," "," "]
[{"$f":"IF(COUNTRY_INFO!A29=0,\" \",COUNTRY_INFO!A29)","v":"Togo"},{"$f":"IF(COUNTRY_INFO!B29=0,\" \",COUNTRY_INFO!B29)","v":"MARITIME"},{"$f":"IF(COUNTRY_INFO!C29=0,\" \",COUNTRY_INFO!C29)","v":"ZIO"},{"$f":"IF(COUNTRY_INFO!$Z29=\"MDA2 (DEC+ALB)\", COUNTRY_INFO!$Z29, \" \")","v":" "},null,null,null,null,0,null,null,null,0," "," "," "," "]
[{"$f":"IF(COUNTRY_INFO!A30=0,\" \",COUNTRY_INFO!A30)","v":"Togo"},{"$f":"IF(COUNTRY_INFO!B30=0,\" \",COUNTRY_INFO!B30)","v":"PLATEAUX"},{"$f":"IF(COUNTRY_INFO!C30=0,\" \",COUNTRY_INFO!C30)","v":"AGOU"},{"$f":"IF(COUNTRY_INFO!$Z30=\"MDA2 (DEC+ALB)\", COUNTRY_INFO!$Z30, \" \")","v":" "},null,null,null,null,0,null,null,null,0," "," "," "," "]
[{"$f":"IF(COUNTRY_INFO!A31=0,\" \",COUNTRY_INFO!A31)","v":"Togo"},{"$f":"IF(COUNTRY_INFO!B31=0,\" \",COUNTRY_INFO!B31)","v":"PLATEAUX"},{"$f":"IF(COUNTRY_INFO!C31=0,\" \",COUNTRY_INFO!C31)","v":"AKEBOU"},{"$f":"IF(COUNTRY_INFO!$Z31=\"MDA2 (DEC+ALB)\", COUNTRY_INFO!$Z31, \" \")","v":" "},null,null,null,null,0,null,null,null,0," "," "," "," "]
[{"$f":"IF(COUNTRY_INFO!A32=0,\" \",COUNTRY_INFO!A32)","v":"Togo"},{"$f":"IF(COUNTRY_INFO!B32=0,\" \",COUNTRY_INFO!B32)","v":"PLATEAUX"},{"$f":"IF(COUNTRY_INFO!C32=0,\" \",COUNTRY_INFO!C32)","v":"AMOU"},{"$f":"IF(COUNTRY_INFO!$Z32=\"MDA2 (DEC+ALB)\", COUNTRY_INFO!$Z32, \" \")","v":" "},null,null,null,null,0,null,null,null,0," "," "," "," "]
[{"$f":"IF(COUNTRY_INFO!A33=0,\" \",COUNTRY_INFO!A33)","v":"Togo"},{"$f":"IF(COUNTRY_INFO!B33=0,\" \",COUNTRY_INFO!B33)","v":"PLATEAUX"},{"$f":"IF(COUNTRY_INFO!C33=0,\" \",COUNTRY_INFO!C33)","v":"ANIE"},{"$f":"IF(COUNTRY_INFO!$Z33=\"MDA2 (DEC+ALB)\", COUNTRY_INFO!$Z33, \" \")","v":" "},null,null,null,null,0,null,null,null,0," "," "," "," "]
[{"$f":"IF(COUNTRY_INFO!A34=0,\" \",COUNTRY_INFO!A34)","v":"Togo"},{"$f":"IF(COUNTRY_INFO!B34=0,\" \",COUNTRY_INFO!B34)","v":"PLATEAUX"},{"$f":"IF(COUNTRY_INFO!C34=0,\" \",COUNTRY_INFO!C34)","v":"DANYI"},{"$f":"IF(COUNTRY_INFO!$Z34=\"MDA2 (DEC+ALB)\", COUNTRY_INFO!$Z34, \" \")","v":" "},null,null,null,null,0,null,null,null,0," "," "," "," "]
[{"$f":"IF(COUNTRY_INFO!A35=0,\" \",COUNTRY_INFO!A35)","v":"Togo"},{"$f":"IF(COUNTRY_INFO!B35=0,\" \",COUNTRY_INFO!B35)","v":"PLATEAUX"},{"$f":"IF(COUNTRY_INFO!C35=0,\" \",COUNTRY_INFO!C35)","v":"EST-MONO"},{"$f":"IF(COUNTRY_INFO!$Z35=\"MDA2 (DEC+ALB)\", COUNTRY_INFO!$Z35, \" \")","v":" "},null,null,null,null,0,null,null,null,0," "," "," "," "]
[{"$f":"IF(COUNTRY_INFO!A36=0,\" \",COUNTRY_INFO!A36)","v":"Togo"},{"$f":"IF(COUNTRY_INFO!B36=0,\" \",COUNTRY_INFO!B36)","v":"PLATEAUX"},{"$f":"IF(COUNTRY_INFO!C36=0,\" \",COUNTRY_INFO!C36)","v":"HAHO"},{"$f":"IF(COUNTRY_INFO!$Z36=\"MDA2 (DEC+ALB)\", COUNTRY_INFO!$Z36, \" \")","v":" "},null,null,null,null,0,null,null,null,0," "," "," "," "]
[{"$f":"IF(COUNTRY_INFO!A37=0,\" \",COUNTRY_INFO!A37)","v":"Togo"},{"$f":"IF(COUNTRY_INFO!B37=0,\" \",COUNTRY_INFO!B37)","v":"PLATEAUX"},{"$f":"IF(COUNTRY_INFO!C37=0,\" \",COUNTRY_INFO!C37)","v":"KLOTO"},{"$f":"IF(COUNTRY_INFO!$Z37=\"MDA2 (DEC+ALB)\", COUNTRY_INFO!$Z37, \" \")","v":" "},null,null,null,null,0,null,null,null,0," "," "," "," "]
[{"$f":"IF(COUNTRY_INFO!A38=0,\" \",COUNTRY_INFO!A38)","v":"Togo"},{"$f":"IF(COUNTRY_INFO!B38=0,\" \",COUNTRY_INFO!B38)","v":"PLATEAUX"},{"$f":"IF(COUNTRY_INFO!C38=0,\" \",COUNTRY_INFO!C38)","v":"KPELE"},{"$f":"IF(COUNTRY_INFO!$Z38=\"MDA2 (DEC+ALB)\", COUNTRY_INFO!$Z38, \" \")","v":" "},null,null,null,null,0,null,null,null,0," "," "," "," "]
[{"$f":"IF(COUNTRY_INFO!A39=0,\" \",COUNTRY_INFO!A39)","v":"Togo"},{"$f":"IF(COUNTRY_INFO!B39=0,\" \",COUNTRY_INFO!B39)","v":"PLATEAUX"},{"$f":"IF(COUNTRY_INFO!C39=0,\" \",COUNTRY_INFO!C39)","v":"MOYEN-MONO"},{"$f":"IF(COUNTRY_INFO!$Z39=\"MDA2 (DEC+ALB)\", COUNTRY_INFO!$Z39, \" \")","v":" "},null,null,null,null,0,null,null,null,0," "," "," "," "]
[{"$f":"IF(COUNTRY_INFO!A40=0,\" \",COUNTRY_INFO!A40)","v":"Togo"},{"$f":"IF(COUNTRY_INFO!B40=0,\" \",COUNTRY_INFO!B40)","v":"PLATEAUX"},{"$f":"IF(COUNTRY_INFO!C40=0,\" \",COUNTRY_INFO!C40)","v":"OGOU"},{"$f":"IF(COUNTRY_INFO!$Z40=\"MDA2 (DEC+ALB)\", COUNTRY_INFO!$Z40, \" \")","v":" "},null,null,null,null,0,null,null,null,0," "," "," "," "]
[{"$f":"IF(COUNTRY_INFO!A41=0,\" \",COUNTRY_INFO!A41)","v":"Togo"},{"$f":"IF(COUNTRY_INFO!B41=0,\" \",COUNTRY_INFO!B41)","v":"PLATEAUX"},{"$f":"IF(COUNTRY_INFO!C41=0,\" \",COUNTRY_INFO!C41)","v":"WAWA"},{"$f":"IF(COUNTRY_INFO!$Z41=\"MDA2 (DEC+ALB)\", COUNTRY_INFO!$Z41, \" \")","v":" "},null,null,null,null,0,null,null,null,0," "," "," "," "]
[{"$f":"IF(COUNTRY_INFO!A42=0,\" \",COUNTRY_INFO!A42)","v":"Togo"},{"$f":"IF(COUNTRY_INFO!B42=0,\" \",COUNTRY_INFO!B42)","v":"SAVANES"},{"$f":"IF(COUNTRY_INFO!C42=0,\" \",COUNTRY_INFO!C42)","v":"CINKASSE"},{"$f":"IF(COUNTRY_INFO!$Z42=\"MDA2 (DEC+ALB)\", COUNTRY_INFO!$Z42, \" \")","v":" "},null,null,null,null,0,null,null,null,0," "," "," "," "]
[{"$f":"IF(COUNTRY_INFO!A43=0,\" \",COUNTRY_INFO!A43)","v":"Togo"},{"$f":"IF(COUNTRY_INFO!B43=0,\" \",COUNTRY_INFO!B43)","v":"SAVANES"},{"$f":"IF(COUNTRY_INFO!C43=0,\" \",COUNTRY_INFO!C43)","v":"KPENDJAL"},{"$f":"IF(COUNTRY_INFO!$Z43=\"MDA2 (DEC+ALB)\", COUNTRY_INFO!$Z43, \" \")","v":" "},null,null,null,null,0,null,null,null,0," "," "," "," "]
[{"$f":"IF(COUNTRY_INFO!A44=0,\" \",COUNTRY_INFO!A44)","v":"Togo"},{"$f":"IF(COUNTRY_INFO!B44=0,\" \",COUNTRY_INFO!B44)","v":"SAVANES"},{"$f":"IF(COUNTRY_INFO!C44=0,\" \",COUNTRY_INFO!C44)","v":"KPENDJAL-OUEST"},{"$f":"IF(COUNTRY_INFO!$Z44=\"MDA2 (DEC+ALB)\", COUNTRY_INFO!$Z44, \" \")","v":" "},null,null,null,null,0,null,null,null,0," "," "," "," "]
[{"$f":"IF(COUNTRY_INFO!A45=0,\" \",COUNTRY_INFO!A45)","v":"Togo"},{"$f":"IF(COUNTRY_INFO!B45=0,\" \",COUNTRY_INFO!B45)","v":"SAVANES"},{"$f":"IF(COUNTRY_INFO!C45=0,\" \",COUNTRY_INFO!C45)","v":"OTI"},{"$f":"IF(COUNTRY_INFO!$Z45=\"MDA2 (DEC+ALB)\", COUNTRY_INFO!$Z45, \" \")","v":" "},null,null,null,null,0,null,null,null,0," "," "," "," "]
[{"$f":"IF(COUNTRY_INFO!A46=0,\" \",COUNTRY_INFO!A46)","v":"Togo"},{"$f":"IF(COUNTRY_INFO!B46=0,\" \",COUNTRY_INFO!B46)","v":"SAVANES"},{"$f":"IF(COUNTRY_INFO!C46=0,\" \",COUNTRY_INFO!C46)","v":"OTI-SUD"},{"$f":"IF(COUNTRY_INFO!$Z46=\"MDA2 (DEC+ALB)\", COUNTRY_INFO!$Z46, \" \")","v":" "},null,null,null,null,0,null,null,null,0," "," "," "," "]
[{"$f":"IF(COUNTRY_INFO!A47=0,\" \",COUNTRY_INFO!A47)","v":"Togo"},{"$f":"IF(COUNTRY_INFO!B47=0,\" \",COUNTRY_INFO!B47)","v":"SAVANES"},{"$f":"IF(COUNTRY_INFO!C47=0,\" \",COUNTRY_INFO!C47)","v":"TANDJOUARE"},{"$f":"IF(COUNTRY_INFO!$Z47=\"MDA2 (DEC+ALB)\", COUNTRY_INFO!$Z47, \" \")","v":" "},null,null,null,null,0,null,null,null,0," "," "," "," "]
[{"$f":"IF(COUNTRY_INFO!A48=0,\" \",COUNTRY_INFO!A48)","v":"Togo"},{"$f":"IF(COUNTRY_INFO!B48=0,\" \",COUNTRY_INFO!B48)","v":"SAVANES"},{"$f":"IF(COUNTRY_INFO!C48=0,\" \",COUNTRY_INFO!C48)","v":"TONE"},{"$f":"IF(COUNTRY_INFO!$Z48=\"MDA2 (DEC+ALB)\", COUNTRY_INFO!$Z48, \" \")","v":" "},null,null,null,null,0,null,null,null,0," "," "," "," "]

{"sheet":"MDA3","index":4,"n_rows":48,"n_cols":20,"rows_kept":48,"cut":false,"hidden":false,"merged":[[5,5,5,7],[5,17,5,19],[3,0,3,2],[5,0,5,2],[5,3,6,3],[5,4,6,4],[5,8,5,10],[5,11,5,13],[5,14,5,16]]}
["MDA 3 - Ivermectine (IVM) "]
["Structure administrative, population nécessitant une chimioprévention par groupe d'âge, population traitée par groupe d'âge et couverture"]
[]
["TOTAL",null,null,null,null,{"$f":"SUBTOTAL(9,F$10:F$1010)","v":1343085.4958625599},2289742.0480793598,3632827.5439419188,1247451,2101412,3348863,486911,799048,1285959,1259269,2111544,3370813,{"$f":"IF(F4<>0, IF(O4/F4*100=0, \"-\", O4/F4*100), \" \")","v":93.759407266271538},{"$f":"IF(G4<>0, IF(P4/G4*100=0, \"-\", P4/G4*100), \" \")","v":92.217549211325675},{"$f":"IF(H4<>0, IF(Q4/H4*100=0, \"-\", Q4/H4*100), \" \")","v":92.787586507406544}]
[]
["Structure administrative du pays",null,null,"Mise en oeuvre \nde la CP","Date","Population ciblée pour MDA 3",null,null,"Population traitée - tournée 1",null,null,"Population traitée - tournée 2",null,null,"Population traitée",null,null,"Couverture du Programme (%)"]
["Pays","Région/Département","District",null,null,"EAS","Adultes","Total","EAS","Adultes","Total","EAS","Adultes","Total","EAS","Adultes","Total","EAS","Adultes","Total"]
[]
[]
[{"$f":"IF(COUNTRY_INFO!A10=0,\" \",COUNTRY_INFO!A10)","v":"Togo"},{"$f":"IF(COUNTRY_INFO!B10=0,\" \",COUNTRY_INFO!B10)","v":"CENTRALE"},{"$f":"IF(COUNTRY_INFO!C10=0,\" \",COUNTRY_INFO!C10)","v":"BLITTA"},{"$f":"IF(COUNTRY_INFO!$Z10=\"MDA3 (IVM)\", COUNTRY_INFO!$Z10, \" \")","v":"MDA3 (IVM)"},"Août 2022/Janvier 2023",43084,76778,{"$f":"SUM(F10:G10)","v":119862},36921,64815,{"$f":"SUM(I10:J10)","v":101736},0,0,0,{"$f":"MAX(I10,L10)","v":36921},64815,{"$f":"SUM(O10:P10)","v":101736},{"$f":"IF(F10<>0, IF(MAX(I10,L10)/F10*100=0, \"-\", MAX(I10,L10)/F10*100), \" \")","v":85.69538575805403},84.418713694026934,{"$f":"IF(H10<>0, IF((MAX(I10,L10)+MAX(J10,M10))/H10*100=0, \"-\",(MAX(I10,L10)+MAX(J10,M10))/H10*100), \" \")","v":84.87760925063823}]
[{"$f":"IF(COUNTRY_INFO!A11=0,\" \",COUNTRY_INFO!A11)","v":"Togo"},{"$f":"IF(COUNTRY_INFO!B11=0,\" \",COUNTRY_INFO!B11)","v":"CENTRALE"},{"$f":"IF(COUNTRY_INFO!C11=0,\" \",COUNTRY_INFO!C11)","v":"MÔ"},{"$f":"IF(COUNTRY_INFO!$Z11=\"MDA3 (IVM)\", COUNTRY_INFO!$Z11, \" \")","v":"MDA3 (IVM)"},"Août 2022/Janvier 2023",14808,27234,{"$f":"SUM(F11:G11)","v":42042},14768,26576,{"$f":"SUM(I11:J11)","v":41344},14911,25768,40679,{"$f":"MAX(I11,L11)","v":14911},{"$f":"MAX(J11,M11)","v":26576},{"$f":"SUM(O11:P11)","v":41487},{"$f":"IF(F11<>0, IF(MAX(I11,L11)/F11*100=0, \"-\", MAX(I11,L11)/F11*100), \" \")","v":100.6955699621826},{"$f":"IF(G11<>0, IF(MAX(J11,M11)/G11*100=0, \"-\", MAX(J11,M11)/G11*100), \" \")","v":97.583902474847619},{"$f":"IF(H11<>0, IF((MAX(I11,L11)+MAX(J11,M11))/H11*100=0, \"-\",(MAX(I11,L11)+MAX(J11,M11))/H11*100), \" \")","v":98.679891537034393}]
[{"$f":"IF(COUNTRY_INFO!A12=0,\" \",COUNTRY_INFO!A12)","v":"Togo"},{"$f":"IF(COUNTRY_INFO!B12=0,\" \",COUNTRY_INFO!B12)","v":"CENTRALE"},{"$f":"IF(COUNTRY_INFO!C12=0,\" \",COUNTRY_INFO!C12)","v":"SOTOUBOUA"},{"$f":"IF(COUNTRY_INFO!$Z12=\"MDA3 (IVM)\", COUNTRY_INFO!$Z12, \" \")","v":"MDA3 (IVM)"},"Août 2022/Janvier 2023",20602,40895,61497,20602,40411,61013,0,0,0,20602,40411,61013,100,98.816481232424508,99.212969738361224]
[{"$f":"IF(COUNTRY_INFO!A13=0,\" \",COUNTRY_INFO!A13)","v":"Togo"},{"$f":"IF(COUNTRY_INFO!B13=0,\" \",COUNTRY_INFO!B13)","v":"CENTRALE"},{"$f":"IF(COUNTRY_INFO!C13=0,\" \",COUNTRY_INFO!C13)","v":"TCHAMBA"},{"$f":"IF(COUNTRY_INFO!$Z13=\"MDA3 (IVM)\", COUNTRY_INFO!$Z13, \" \")","v":"MDA3 (IVM)"},"Août 2022/Janvier 2023",42552,71075,113627,42480,69878,112358,0,0,0,42480,69878,112358,99.830795262267344,98.315863524446016,98.883187974689108]
[{"$f":"IF(COUNTRY_INFO!A14=0,\" \",COUNTRY_INFO!A14)","v":"Togo"},{"$f":"IF(COUNTRY_INFO!B14=0,\" \",COUNTRY_INFO!B14)","v":"CENTRALE"},{"$f":"IF(COUNTRY_INFO!C14=0,\" \",COUNTRY_INFO!C14)","v":"TCHAOUDJO"},{"$f":"IF(COUNTRY_INFO!$Z14=\"MDA3 (IVM)\", COUNTRY_INFO!$Z14, \" \")","v":"MDA3 (IVM)"},"Août 2022/Janvier 2023",40720,70697,111417,39654,67583,107237,1125,1870,2995,39654,67583,107237,97.382121807465609,95.595286928723993,96.248328352046826]
[{"$f":"IF(COUNTRY_INFO!A15=0,\" \",COUNTRY_INFO!A15)","v":"Togo"},{"$f":"IF(COUNTRY_INFO!B15=0,\" \",COUNTRY_INFO!B15)","v":"GRAND-LOME"},{"$f":"IF(COUNTRY_INFO!C15=0,\" \",COUNTRY_INFO!C15)","v":"AGOE NYIVE"},{"$f":"IF(COUNTRY_INFO!$Z15=\"MDA3 (IVM)\", COUNTRY_INFO!$Z15, \" \")","v":"MDA3 (IVM)"},"Août 2022/Janvier 2023",3671,5765,9436,3970,6473,10443,null,null,0,3970,6473,10443,108.14491964042494,112.28100607111881,110.67189487070792]
[{"$f":"IF(COUNTRY_INFO!A16=0,\" \",COUNTRY_INFO!A16)","v":"Togo"},{"$f":"IF(COUNTRY_INFO!B16=0,\" \",COUNTRY_INFO!B16)","v":"GRAND-LOME"},{"$f":"IF(COUNTRY_INFO!C16=0,\" \",COUNTRY_INFO!C16)","v":"GOLFE"},{"$f":"IF(COUNTRY_INFO!$Z16=\"MDA3 (IVM)\", COUNTRY_INFO!$Z16, \" \")","v":" "},null,0,0,0,null,null,0,0,0,0,0,0,0," "," "," "]
[{"$f":"IF(COUNTRY_INFO!A17=0,\" \",COUNTRY_INFO!A17)","v":"Togo"},{"$f":"IF(COUNTRY_INFO!B17=0,\" \",COUNTRY_INFO!B17)","v":"KARA"},{"$f":"IF(COUNTRY_INFO!C17=0,\" \",COUNTRY_INFO!C17)","v":"ASSOLI"},{"$f":"IF(COUNTRY_INFO!$Z17=\"MDA3 (IVM)\", COUNTRY_INFO!$Z17, \" \")","v":"MDA3 (IVM)"},"Août 2022/Janvier 2023",14495.795999999998,25230.575999999994,39726.371999999988,14492,24873,39365,14832,24716,39548,14832,24873,39705,102.31932071891741,98.582767194851229,99.946201983911379]
[{"$f":"IF(COUNTRY_INFO!A18=0,\" \",COUNTRY_INFO!A18)","v":"Togo"},{"$f":"IF(COUNTRY_INFO!B18=0,\" \",COUNTRY_INFO!B18)","v":"KARA"},{"$f":"IF(COUNTRY_INFO!C18=0,\" \",COUNTRY_INFO!C18)","v":"BASSAR"},{"$f":"IF(COUNTRY_INFO!$Z18=\"MDA3 (IVM)\", COUNTRY_INFO!$Z18, \" \")","v":"MDA3 (IVM)"},"Août 2022/Janvier 2023",33586.795199999993,56469.554399999972,90056.349599999958,33206,55742,88948,30414,53087,83501,33206,55742,88948,98.866235382886444,98.711598829262286,98.7692710120687]
[{"$f":"IF(COUNTRY_INFO!A19=0,\" \",COUNTRY_INFO!A19)","v":"Togo"},{"$f":"IF(COUNTRY_INFO!B19=0,\" \",COUNTRY_INFO!B19)","v":"KARA"},{"$f":"IF(COUNTRY_INFO!C19=0,\" \",COUNTRY_INFO!C19)","v":"BINAH"},{"$f":"IF(COUNTRY_INFO!$Z19=\"MDA3 (IVM)\", COUNTRY_INFO!$Z19, \" \")","v":"MDA3 (IVM)"},"Août 2022/Janvier 2023",15571,32868,48439,15406,27068,42474,3930,6817,10747,15406,27068,42474,98.940337807462583,82.353657052452235,87.685542641260142]
[{"$f":"IF(COUNTRY_INFO!A20=0,\" \",COUNTRY_INFO!A20)","v":"Togo"},{"$f":"IF(COUNTRY_INFO!B20=0,\" \",COUNTRY_INFO!B20)","v":"KARA"},{"$f":"IF(COUNTRY_INFO!C20=0,\" \",COUNTRY_INFO!C20)","v":"DANKPEN"},{"$f":"IF(COUNTRY_INFO!$Z20=\"MDA3 (IVM)\", COUNTRY_INFO!$Z20, \" \")","v":"MDA3 (IVM)"},"Août 2022/Janvier 2023",54982.569599999966,85328.947199999995,140311.51679999995,53253,81118,134371,58722,89371,148093,58722,89371,148093,106.80111974977618,104.73702410803915,105.54586207708934]
[{"$f":"IF(COUNTRY_INFO!A21=0,\" \",COUNTRY_INFO!A21)","v":"Togo"},{"$f":"IF(COUNTRY_INFO!B21=0,\" \",COUNTRY_INFO!B21)","v":"KARA"},{"$f":"IF(COUNTRY_INFO!C21=0,\" \",COUNTRY_INFO!C21)","v":"DOUFELGOU"},{"$f":"IF(COUNTRY_INFO!$Z21=\"MDA3 (IVM)\", COUNTRY_INFO!$Z21, \" \")","v":"MDA3 (IVM)"},"Août 2022/Janvier 2023",25443.603200000001,48623.220799999996,74066.823999999993,25720,48080,73800,13576,22148,35724,25720,48080,73800,101.08631154882968,98.882795522257965,99.639752340400079]
[{"$f":"IF(COUNTRY_INFO!A22=0,\" \",COUNTRY_INFO!A22)","v":"Togo"},{"$f":"IF(COUNTRY_INFO!B22=0,\" \",COUNTRY_INFO!B22)","v":"KARA"},{"$f":"IF(COUNTRY_INFO!C22=0,\" \",COUNTRY_INFO!C22)","v":"KERAN"},{"$f":"IF(COUNTRY_INFO!$Z22=\"MDA3 (IVM)\", COUNTRY_INFO!$Z22, \" \")","v":"MDA3 (IVM)"},"Août 2022/Janvier 2023",37831.168196800005,58703.247199999998,96534.415396800003,38067,59556,97623,37386,57563,94949,38067,59556,97623,100.62337964815991,101.45265013551072,101.12766478019826]
[{"$f":"IF(COUNTRY_INFO!A23=0,\" \",COUNTRY_INFO!A23)","v":"Togo"},{"$f":"IF(COUNTRY_INFO!B23=0,\" \",COUNTRY_INFO!B23)","v":"KARA"},{"$f":"IF(COUNTRY_INFO!C23=0,\" \",COUNTRY_INFO!C23)","v":"KOZAH"},{"$f":"IF(COUNTRY_INFO!$Z23=\"MDA3 (IVM)\", COUNTRY_INFO!$Z23, \" \")","v":"MDA3 (IVM)"},"Août 2022/Janvier 2023",49066.399199999985,99658.725599999976,148725.12479999996,48496,96315,144811,46937,93969,140906,48496,96315,144811,98.837495293520576,96.644824043385142,97.368215487959048]
[{"$f":"IF(COUNTRY_INFO!A24=0,\" \",COUNTRY_INFO!A24)","v":"Togo"},{"$f":"IF(COUNTRY_INFO!B24=0,\" \",COUNTRY_INFO!B24)","v":"MARITIME"},{"$f":"IF(COUNTRY_INFO!C24=0,\" \",COUNTRY_INFO!C24)","v":"AVE"},{"$f":"IF(COUNTRY_INFO!$Z24=\"MDA3 (IVM)\", COUNTRY_INFO!$Z24, \" \")","v":"MDA3 (IVM)"},"Août 2022/Janvier 2023",29903.664000000004,51172.363199999993,81076.027199999997,29473,49986,79459,0,0,0,29473,49986,79459,98.559828655110621,97.681632963943329,98.005542136381351]
[{"$f":"IF(COUNTRY_INFO!A25=0,\" \",COUNTRY_INFO!A25)","v":"Togo"},{"$f":"IF(COUNTRY_INFO!B25=0,\" \",COUNTRY_INFO!B25)","v":"MARITIME"},{"$f":"IF(COUNTRY_INFO!C25=0,\" \",COUNTRY_INFO!C25)","v":"BAS-MONO"},{"$f":"IF(COUNTRY_INFO!$Z25=\"MDA3 (IVM)\", COUNTRY_INFO!$Z25, \" \")","v":"MDA3 (IVM)"},"Août 2022/Janvier 2023",9397,15905,25302,8444,14275,22719,0,0,0,8444,14275,22719,89.858465467702459,89.751650424394853,89.791320844202033]
[{"$f":"IF(COUNTRY_INFO!A26=0,\" \",COUNTRY_INFO!A26)","v":"Togo"},{"$f":"IF(COUNTRY_INFO!B26=0,\" \",COUNTRY_INFO!B26)","v":"MARITIME"},{"$f":"IF(COUNTRY_INFO!C26=0,\" \",COUNTRY_INFO!C26)","v":"LACS"},{"$f":"IF(COUNTRY_INFO!$Z26=\"MDA3 (IVM)\", COUNTRY_INFO!$Z26, \" \")","v":" "},null,0,0,0,null,null,0,0,0,0,0,0,0," "," "," "]
[{"$f":"IF(COUNTRY_INFO!A27=0,\" \",COUNTRY_INFO!A27)","v":"Togo"},{"$f":"IF(COUNTRY_INFO!B27=0,\" \",COUNTRY_INFO!B27)","v":"MARITIME"},{"$f":"IF(COUNTRY_INFO!C27=0,\" \",COUNTRY_INFO!C27)","v":"VO"},{"$f":"IF(COUNTRY_INFO!$Z27=\"MDA3 (IVM)\", COUNTRY_INFO!$Z27, \" \")","v":" "},null,0,0,0,null,null,0,0,0,0,0,0,0," "," "," "]
[{"$f":"IF(COUNTRY_INFO!A28=0,\" \",COUNTRY_INFO!A28)","v":"Togo"},{"$f":"IF(COUNTRY_INFO!B28=0,\" \",COUNTRY_INFO!B28)","v":"MARITIME"},{"$f":"IF(COUNTRY_INFO!C28=0,\" \",COUNTRY_INFO!C28)","v":"YOTO"},{"$f":"IF(COUNTRY_INFO!$Z28=\"MDA3 (IVM)\", COUNTRY_INFO!$Z28, \" \")","v":"MDA3 (IVM)"},"Août 2022/Janvier 2023",56169,84271,140440,55310,84183,139493,0,0,0,55310,84183,139493,98.470686677704791,99.89557499021015,99.32569068641412]
[{"$f":"IF(COUNTRY_INFO!A29=0,\" \",COUNTRY_INFO!A29)","v":"Togo"},{"$f":"IF(COUNTRY_INFO!B29=0,\" \",COUNTRY_INFO!B29)","v":"MARITIME"},{"$f":"IF(COUNTRY_INFO!C29=0,\" \",COUNTRY_INFO!C29)","v":"ZIO"},{"$f":"IF(COUNTRY_INFO!$Z29=\"MDA3 (IVM)\", COUNTRY_INFO!$Z29, \" \")","v":"MDA3 (IVM)"},"Août 2022/Janvier 2023",105219.94200000001,191026.78919999994,296246.73119999992,89758,156544,246302,0,0,0,89758,156544,246302,85.305122103184573,81.948715494611918,83.140832981450998]
[{"$f":"IF(COUNTRY_INFO!A30=0,\" \",COUNTRY_INFO!A30)","v":"Togo"},{"$f":"IF(COUNTRY_INFO!B30=0,\" \",COUNTRY_INFO!B30)","v":"PLATEAUX"},{"$f":"IF(COUNTRY_INFO!C30=0,\" \",COUNTRY_INFO!C30)","v":"AGOU"},{"$f":"IF(COUNTRY_INFO!$Z30=\"MDA3 (IVM)\", COUNTRY_INFO!$Z30, \" \")","v":"MDA3 (IVM)"},"Août 2022/Janvier 2023",28943.731999999996,50412.394400000005,79356.126400000008,27135,47014,74149,0,0,0,27135,47014,74149,93.750868063593202,93.258811765544692,93.438280525749036]
[{"$f":"IF(COUNTRY_INFO!A31=0,\" \",COUNTRY_INFO!A31)","v":"Togo"},{"$f":"IF(COUNTRY_INFO!B31=0,\" \",COUNTRY_INFO!B31)","v":"PLATEAUX"},{"$f":"IF(COUNTRY_INFO!C31=0,\" \",COUNTRY_INFO!C31)","v":"AKEBOU"},{"$f":"IF(COUNTRY_INFO!$Z31=\"MDA3 (IVM)\", COUNTRY_INFO!$Z31, \" \")","v":"MDA3 (IVM)"},"Août 2022/Janvier 2023",22442.0952,39244.715999999986,61686.811199999982,22635,38659,61294,0,0,0,22635,38659,61294,100.8595668019446,98.507529013587487,99.36321688160146]
[{"$f":"IF(COUNTRY_INFO!A32=0,\" \",COUNTRY_INFO!A32)","v":"Togo"},{"$f":"IF(COUNTRY_INFO!B32=0,\" \",COUNTRY_INFO!B32)","v":"PLATEAUX"},{"$f":"IF(COUNTRY_INFO!C32=0,\" \",COUNTRY_INFO!C32)","v":"AMOU"},{"$f":"IF(COUNTRY_INFO!$Z32=\"MDA3 (IVM)\", COUNTRY_INFO!$Z32, \" \")","v":"MDA3 (IVM)"},"Août 2022/Janvier 2023",37722.887999999999,70108.617599999983,107831.50559999997,37221,68388,105609,34290,62420,96710,37221,68388,105609,98.669539829506164,97.545783016551752,97.938908867465557]
[{"$f":"IF(COUNTRY_INFO!A33=0,\" \",COUNTRY_INFO!A33)","v":"Togo"},{"$f":"IF(COUNTRY_INFO!B33=0,\" \",COUNTRY_INFO!B33)","v":"PLATEAUX"},{"$f":"IF(COUNTRY_INFO!C33=0,\" \",COUNTRY_INFO!C33)","v":"ANIE"},{"$f":"IF(COUNTRY_INFO!$Z33=\"MDA3 (IVM)\", COUNTRY_INFO!$Z33, \" \")","v":"MDA3 (IVM)"},"Août 2022/Janvier 2023",48823.082165759988,87615.023079359962,136438.10524511995,39614,67370,106984,0,0,0,39614,67370,106984,81.137851693807264,76.893205790721055,78.412112076605183]
[{"$f":"IF(COUNTRY_INFO!A34=0,\" \",COUNTRY_INFO!A34)","v":"Togo"},{"$f":"IF(COUNTRY_INFO!B34=0,\" \",COUNTRY_INFO!B34)","v":"PLATEAUX"},{"$f":"IF(COUNTRY_INFO!C34=0,\" \",COUNTRY_INFO!C34)","v":"DANYI"},{"$f":"IF(COUNTRY_INFO!$Z34=\"MDA3 (IVM)\", COUNTRY_INFO!$Z34, \" \")","v":"MDA3 (IVM)"},"Août 2022/Janvier 2023",11099.764799999999,20881.4784,31981.243199999997,10962,20384,31346,9246,17555,26801,10962,20384,31346,98.758849376700326,97.617609297242097,98.013700730683297]
[{"$f":"IF(COUNTRY_INFO!A35=0,\" \",COUNTRY_INFO!A35)","v":"Togo"},{"$f":"IF(COUNTRY_INFO!B35=0,\" \",COUNTRY_INFO!B35)","v":"PLATEAUX"},{"$f":"IF(COUNTRY_INFO!C35=0,\" \",COUNTRY_INFO!C35)","v":"EST-MONO"},{"$f":"IF(COUNTRY_INFO!$Z35=\"MDA3 (IVM)\", COUNTRY_INFO!$Z35, \" \")","v":"MDA3 (IVM)"},"Août 2022/Janvier 2023",42853.190399999999,69201.296000000002,112054.48639999999,40774,69268,110042,0,0,0,40774,69268,110042,95.148108272470651,100.09639125833712,98.204010865913887]
[{"$f":"IF(COUNTRY_INFO!A36=0,\" \",COUNTRY_INFO!A36)","v":"Togo"},{"$f":"IF(COUNTRY_INFO!B36=0,\" \",COUNTRY_INFO!B36)","v":"PLATEAUX"},{"$f":"IF(COUNTRY_INFO!C36=0,\" \",COUNTRY_INFO!C36)","v":"HAHO"},{"$f":"IF(COUNTRY_INFO!$Z36=\"MDA3 (IVM)\", COUNTRY_INFO!$Z36, \" \")","v":"MDA3 (IVM)"},"Août 2022/Janvier 2023",82162.295999999973,133028.06520000001,215190.36119999998,69491,112652,182143,75251,112569,187820,75251,112652,187903,91.58823896547392,84.682882390745306,87.31943148018658]
[{"$f":"IF(COUNTRY_INFO!A37=0,\" \",COUNTRY_INFO!A37)","v":"Togo"},{"$f":"IF(COUNTRY_INFO!B37=0,\" \",COUNTRY_INFO!B37)","v":"PLATEAUX"},{"$f":"IF(COUNTRY_INFO!C37=0,\" \",COUNTRY_INFO!C37)","v":"KLOTO"},{"$f":"IF(COUNTRY_INFO!$Z37=\"MDA3 (IVM)\", COUNTRY_INFO!$Z37, \" \")","v":"MDA3 (IVM)"},"Août 2022/Janvier 2023",16341.460800000004,32670.623999999996,49012.084799999997,16449,33110,49559,0,0,0,16449,33110,49559,100.65807580678464,101.3448656505612,101.11587826192614]
[{"$f":"IF(COUNTRY_INFO!A38=0,\" \",COUNTRY_INFO!A38)","v":"Togo"},{"$f":"IF(COUNTRY_INFO!B38=0,\" \",COUNTRY_INFO!B38)","v":"PLATEAUX"},{"$f":"IF(COUNTRY_INFO!C38=0,\" \",COUNTRY_INFO!C38)","v":"KPELE"},{"$f":"IF(COUNTRY_INFO!$Z38=\"MDA3 (IVM)\", COUNTRY_INFO!$Z38, \" \")","v":"MDA3 (IVM)"},"Août 2022/Janvier 2023",20313,36216,56529,19763,34594,54357,0,0,0,19763,34594,54357,97.292374341554662,95.521316545173406,96.157724353871458]
[{"$f":"IF(COUNTRY_INFO!A39=0,\" \",COUNTRY_INFO!A39)","v":"Togo"},{"$f":"IF(COUNTRY_INFO!B39=0,\" \",COUNTRY_INFO!B39)","v":"PLATEAUX"},{"$f":"IF(COUNTRY_INFO!C39=0,\" \",COUNTRY_INFO!C39)","v":"MOYEN-MONO"},{"$f":"IF(COUNTRY_INFO!$Z39=\"MDA3 (IVM)\", COUNTRY_INFO!$Z39, \" \")","v":"MDA3 (IVM)"},"Août 2022/Janvier 2023",19454.803199999998,32485.135200000004,51939.938399999999,19204,31704,50908,0,0,0,19204,31704,50908,98.71084175243675,97.595407267998681,98.013208271344439]
[{"$f":"IF(COUNTRY_INFO!A40=0,\" \",COUNTRY_INFO!A40)","v":"Togo"},{"$f":"IF(COUNTRY_INFO!B40=0,\" \",COUNTRY_INFO!B40)","v":"PLATEAUX"},{"$f":"IF(COUNTRY_INFO!C40=0,\" \",COUNTRY_INFO!C40)","v":"OGOU"},{"$f":"IF(COUNTRY_INFO!$Z40=\"MDA3 (IVM)\", COUNTRY_INFO!$Z40, \" \")","v":"MDA3 (IVM)"},"Août 2022/Janvier 2023",71442.907200000001,118892.17200000006,190335.07920000007,42832,70418,113250,40411,69858,110269,42832,70418,113250,59.952767431614262,59.228457866847585,59.500329879285843]
[{"$f":"IF(COUNTRY_INFO!A41=0,\" \",COUNTRY_INFO!A41)","v":"Togo"},{"$f":"IF(COUNTRY_INFO!B41=0,\" \",COUNTRY_INFO!B41)","v":"PLATEAUX"},{"$f":"IF(COUNTRY_INFO!C41=0,\" \",COUNTRY_INFO!C41)","v":"WAWA"},{"$f":"IF(COUNTRY_INFO!$Z41=\"MDA3 (IVM)\", COUNTRY_INFO!$Z41, \" \")","v":"MDA3 (IVM)"},"Août 2022/Janvier 2023",30708.447600000003,55702.254400000005,86410.702000000005,30473,53613,84086,0,0,0,30473,53613,84086,99.233280682023135,96.249246242356747,97.309705920454149]
[{"$f":"IF(COUNTRY_INFO!A42=0,\" \",COUNTRY_INFO!A42)","v":"Togo"},{"$f":"IF(COUNTRY_INFO!B42=0,\" \",COUNTRY_INFO!B42)","v":"SAVANES"},{"$f":"IF(COUNTRY_INFO!C42=0,\" \",COUNTRY_INFO!C42)","v":"CINKASSE"},{"$f":"IF(COUNTRY_INFO!$Z42=\"MDA3 (IVM)\", COUNTRY_INFO!$Z42, \" \")","v":"MDA3 (IVM)"},"Août 2022/Janvier 2023",21823,36489,58312,22219,37030,59249,0,0,0,22219,37030,59249,101.81459927599322,101.48263860341473,101.60687337083276]
[{"$f":"IF(COUNTRY_INFO!A43=0,\" \",COUNTRY_INFO!A43)","v":"Togo"},{"$f":"IF(COUNTRY_INFO!B43=0,\" \",COUNTRY_INFO!B43)","v":"SAVANES"},{"$f":"IF(COUNTRY_INFO!C43=0,\" \",COUNTRY_INFO!C43)","v":"KPENDJAL"},{"$f":"IF(COUNTRY_INFO!$Z43=\"MDA3 (IVM)\", COUNTRY_INFO!$Z43, \" \")","v":"MDA3 (IVM)"},"Août 2022/Janvier 2023",28060,44013,72073,28221,40325,68546,18642,27324,45966,28221,40325,68546,100.57377049180327,91.620657533001619,95.10635050573724]
[{"$f":"IF(COUNTRY_INFO!A44=0,\" \",COUNTRY_INFO!A44)","v":"Togo"},{"$f":"IF(COUNTRY_INFO!B44=0,\" \",COUNTRY_INFO!B44)","v":"SAVANES"},{"$f":"IF(COUNTRY_INFO!C44=0,\" \",COUNTRY_INFO!C44)","v":"KPENDJAL-OUEST"},{"$f":"IF(COUNTRY_INFO!$Z44=\"MDA3 (IVM)\", COUNTRY_INFO!$Z44, \" \")","v":"MDA3 (IVM)"},"Août 2022/Janvier 2023",42375.569600000003,65885.063999999984,108260.63359999999,42135,64544,106679,18548,26196,44744,42135,64544,106679,99.432291760864018,97.964540187742728,98.539050116920805]
[{"$f":"IF(COUNTRY_INFO!A45=0,\" \",COUNTRY_INFO!A45)","v":"Togo"},{"$f":"IF(COUNTRY_INFO!B45=0,\" \",COUNTRY_INFO!B45)","v":"SAVANES"},{"$f":"IF(COUNTRY_INFO!C45=0,\" \",COUNTRY_INFO!C45)","v":"OTI"},{"$f":"IF(COUNTRY_INFO!$Z45=\"MDA3 (IVM)\", COUNTRY_INFO!$Z45, \" \")","v":"MDA3 (IVM)"},"Août 2022/Janvier 2023",39229.116800000003,62965.299999999988,102194.41679999999,27385,43819,71204,26936,44091,71027,27385,44091,71476,69.807842321854153,70.024283216311218,69.941198588062207]
[{"$f":"IF(COUNTRY_INFO!A46=0,\" \",COUNTRY_INFO!A46)","v":"Togo"},{"$f":"IF(COUNTRY_INFO!B46=0,\" \",COUNTRY_INFO!B46)","v":"SAVANES"},{"$f":"IF(COUNTRY_INFO!C46=0,\" \",COUNTRY_INFO!C46)","v":"OTI-SUD"},{"$f":"IF(COUNTRY_INFO!$Z46=\"MDA3 (IVM)\", COUNTRY_INFO!$Z46, \" \")","v":"MDA3 (IVM)"},"Août 2022/Janvier 2023",40408.888800000001,60589.250399999983,100998.13919999998,41648,62119,103767,41754,63726,105480,41754,63726,105480,103.32875077722998,105.17707279639825,104.43756769728687]
[{"$f":"IF(COUNTRY_INFO!A47=0,\" \",COUNTRY_INFO!A47)","v":"Togo"},{"$f":"IF(COUNTRY_INFO!B47=0,\" \",COUNTRY_INFO!B47)","v":"SAVANES"},{"$f":"IF(COUNTRY_INFO!C47=0,\" \",COUNTRY_INFO!C47)","v":"TANDJOUARE"},{"$f":"IF(COUNTRY_INFO!$Z47=\"MDA3 (IVM)\", COUNTRY_INFO!$Z47, \" \")","v":"MDA3 (IVM)"},"Août 2022/Janvier 2023",47887.315899999994,84518.233799999987,132405.54969999997,47026,85831,132857,0,0,0,47026,85831,132857,98.20136943611827,101.55323430338888,100.34096025508215]
[{"$f":"IF(COUNTRY_INFO!A48=0,\" \",COUNTRY_INFO!A48)","v":"Togo"},{"$f":"IF(COUNTRY_INFO!B48=0,\" \",COUNTRY_INFO!B48)","v":"SAVANES"},{"$f":"IF(COUNTRY_INFO!C48=0,\" \",COUNTRY_INFO!C48)","v":"TONE"},{"$f":"IF(COUNTRY_INFO!$Z48=\"MDA3 (IVM)\", COUNTRY_INFO!$Z48, \" \")","v":"MDA3 (IVM)"},"Août 2022/Janvier 2023",93890,147123,241013,92244,147094,239338,0,0,0,92244,147094,239338,98.246884652252632,99.980288602054074,99.305016741835502]

{"sheet":"MDA5","index":5,"n_rows":48,"n_cols":17,"rows_kept":48,"cut":false,"hidden":true,"merged":[[5,13,5,16],[3,0,3,2],[5,0,5,2],[5,3,6,3],[5,4,6,4],[5,5,5,8],[5,9,5,12]]}
["MDA 5 - Ivermectine (IVM) + Diethylcarbamazine (DEC) + Albendazole (ALB)"]
["Structure administrative, population nécessitant une chimioprévention par groupe d'âge, population traitée par groupe d'âge et couverture"]
[]
["TOTAL",null,null,null,null,{"$f":"SUBTOTAL(9,F$10:F$1010)","v":0},0,0,0,0,0,0,0,{"$f":"IF(F4<>0, IF(J4/F4*100=0, \"-\", J4/F4*100), \" \")","v":" "},{"$f":"IF(G4<>0, IF(K4/G4*100=0, \"-\", K4/G4*100), \" \")","v":" "},{"$f":"IF(H4<>0, IF(L4/H4*100=0, \"-\", L4/H4*100), \" \")","v":" "},{"$f":"IF(I4<>0, IF(M4/I4*100=0, \"-\", M4/I4*100), \" \")","v":" "}]
[]
["Structure administrative du pays",null,null,"Mise en oeuvre \nde la CP","Date","Population ciblée pour MDA 2",null,null,null,"Population traitée",null,null,null,"Couverture du Programme (%)"]
["Pays","Région/Département","District",null,null,"EAPréS","EAS","Adultes","Total","EAPréS","EAS","Adultes","Total","EAPréS","EAS","Adultes","Total"]
[]
[]
[{"$f":"IF(COUNTRY_INFO!A10=0,\" \",COUNTRY_INFO!A10)","v":"Togo"},{"$f":"IF(COUNTRY_INFO!B10=0,\" \",COUNTRY_INFO!B10)","v":"CENTRALE"},{"$f":"IF(COUNTRY_INFO!C10=0,\" \",COUNTRY_INFO!C10)","v":"BLITTA"},{"$f":"IF(COUNTRY_INFO!$Z10=\"MDA5 (IDA)\", COUNTRY_INFO!$Z10, \" \")","v":" "},null,null,null,null,{"$f":"SUM(F10:H10)","v":0},null,null,null,{"$f":"SUM(J10:L10)","v":0},{"$f":"IF(F10<>0, IF(J10/F10*100=0, \"-\", J10/F10*100), \" \")","v":" "},{"$f":"IF(G10<>0, IF(K10/G10*100=0, \"-\", K10/G10*100), \" \")","v":" "}," "," "]
[{"$f":"IF(COUNTRY_INFO!A11=0,\" \",COUNTRY_INFO!A11)","v":"Togo"},{"$f":"IF(COUNTRY_INFO!B11=0,\" \",COUNTRY_INFO!B11)","v":"CENTRALE"},{"$f":"IF(COUNTRY_INFO!C11=0,\" \",COUNTRY_INFO!C11)","v":"MÔ"},{"$f":"IF(COUNTRY_INFO!$Z11=\"MDA5 (IDA)\", COUNTRY_INFO!$Z11, \" \")","v":" "},null,null,null,null,{"$f":"SUM(F11:H11)","v":0},null,null,null,{"$f":"SUM(J11:L11)","v":0},{"$f":"IF(F11<>0, IF(J11/F11*100=0, \"-\", J11/F11*100), \" \")","v":" "},{"$f":"IF(G11<>0, IF(K11/G11*100=0, \"-\", K11/G11*100), \" \")","v":" "},{"$f":"IF(H11<>0, IF(L11/H11*100=0, \"-\", L11/H11*100), \" \")","v":" "},{"$f":"IF(I11<>0, IF(M11/I11*100=0, \"-\", M11/I11*100), \" \")","v":" "}]
[{"$f":"IF(COUNTRY_INFO!A12=0,\" \",COUNTRY_INFO!A12)","v":"Togo"},{"$f":"IF(COUNTRY_INFO!B12=0,\" \",COUNTRY_INFO!B12)","v":"CENTRALE"},{"$f":"IF(COUNTRY_INFO!C12=0,\" \",COUNTRY_INFO!C12)","v":"SOTOUBOUA"},{"$f":"IF(COUNTRY_INFO!$Z12=\"MDA5 (IDA)\", COUNTRY_INFO!$Z12, \" \")","v":" "},null,null,null,null,0,null,null,null,0," "," "," "," "]
[{"$f":"IF(COUNTRY_INFO!A13=0,\" \",COUNTRY_INFO!A13)","v":"Togo"},{"$f":"IF(COUNTRY_INFO!B13=0,\" \",COUNTRY_INFO!B13)","v":"CENTRALE"},{"$f":"IF(COUNTRY_INFO!C13=0,\" \",COUNTRY_INFO!C13)","v":"TCHAMBA"},{"$f":"IF(COUNTRY_INFO!$Z13=\"MDA5 (IDA)\", COUNTRY_INFO!$Z13, \" \")","v":" "},null,null,null,null,0,null,null,null,0," "," "," "," "]
[{"$f":"IF(COUNTRY_INFO!A14=0,\" \",COUNTRY_INFO!A14)","v":"Togo"},{"$f":"IF(COUNTRY_INFO!B14=0,\" \",COUNTRY_INFO!B14)","v":"CENTRALE"},{"$f":"IF(COUNTRY_INFO!C14=0,\" \",COUNTRY_INFO!C14)","v":"TCHAOUDJO"},{"$f":"IF(COUNTRY_INFO!$Z14=\"MDA5 (IDA)\", COUNTRY_INFO!$Z14, \" \")","v":" "},null,null,null,null,0,null,null,null,0," "," "," "," "]
[{"$f":"IF(COUNTRY_INFO!A15=0,\" \",COUNTRY_INFO!A15)","v":"Togo"},{"$f":"IF(COUNTRY_INFO!B15=0,\" \",COUNTRY_INFO!B15)","v":"GRAND-LOME"},{"$f":"IF(COUNTRY_INFO!C15=0,\" \",COUNTRY_INFO!C15)","v":"AGOE NYIVE"},{"$f":"IF(COUNTRY_INFO!$Z15=\"MDA5 (IDA)\", COUNTRY_INFO!$Z15, \" \")","v":" "},null,null,null,null,0,null,null,null,0," "," "," "," "]
[{"$f":"IF(COUNTRY_INFO!A16=0,\" \",COUNTRY_INFO!A16)","v":"Togo"},{"$f":"IF(COUNTRY_INFO!B16=0,\" \",COUNTRY_INFO!B16)","v":"GRAND-LOME"},{"$f":"IF(COUNTRY_INFO!C16=0,\" \",COUNTRY_INFO!C16)","v":"GOLFE"},{"$f":"IF(COUNTRY_INFO!$Z16=\"MDA5 (IDA)\", COUNTRY_INFO!$Z16, \" \")","v":" "},null,null,null,null,0,null,null,null,0," "," "," "," "]
[{"$f":"IF(COUNTRY_INFO!A17=0,\" \",COUNTRY_INFO!A17)","v":"Togo"},{"$f":"IF(COUNTRY_INFO!B17=0,\" \",COUNTRY_INFO!B17)","v":"KARA"},{"$f":"IF(COUNTRY_INFO!C17=0,\" \",COUNTRY_INFO!C17)","v":"ASSOLI"},{"$f":"IF(COUNTRY_INFO!$Z17=\"MDA5 (IDA)\", COUNTRY_INFO!$Z17, \" \")","v":" "},null,null,null,null,0,null,null,null,0," "," "," "," "]
[{"$f":"IF(COUNTRY_INFO!A18=0,\" \",COUNTRY_INFO!A18)","v":"Togo"},{"$f":"IF(COUNTRY_INFO!B18=0,\" \",COUNTRY_INFO!B18)","v":"KARA"},{"$f":"IF(COUNTRY_INFO!C18=0,\" \",COUNTRY_INFO!C18)","v":"BASSAR"},{"$f":"IF(COUNTRY_INFO!$Z18=\"MDA5 (IDA)\", COUNTRY_INFO!$Z18, \" \")","v":" "},null,null,null,null,0,null,null,null,0," "," "," "," "]
[{"$f":"IF(COUNTRY_INFO!A19=0,\" \",COUNTRY_INFO!A19)","v":"Togo"},{"$f":"IF(COUNTRY_INFO!B19=0,\" \",COUNTRY_INFO!B19)","v":"KARA"},{"$f":"IF(COUNTRY_INFO!C19=0,\" \",COUNTRY_INFO!C19)","v":"BINAH"},{"$f":"IF(COUNTRY_INFO!$Z19=\"MDA5 (IDA)\", COUNTRY_INFO!$Z19, \" \")","v":" "},null,null,null,null,0,null,null,null,0," "," "," "," "]
[{"$f":"IF(COUNTRY_INFO!A20=0,\" \",COUNTRY_INFO!A20)","v":"Togo"},{"$f":"IF(COUNTRY_INFO!B20=0,\" \",COUNTRY_INFO!B20)","v":"KARA"},{"$f":"IF(COUNTRY_INFO!C20=0,\" \",COUNTRY_INFO!C20)","v":"DANKPEN"},{"$f":"IF(COUNTRY_INFO!$Z20=\"MDA5 (IDA)\", COUNTRY_INFO!$Z20, \" \")","v":" "},null,null,null,null,0,null,null,null,0," "," "," "," "]
[{"$f":"IF(COUNTRY_INFO!A21=0,\" \",COUNTRY_INFO!A21)","v":"Togo"},{"$f":"IF(COUNTRY_INFO!B21=0,\" \",COUNTRY_INFO!B21)","v":"KARA"},{"$f":"IF(COUNTRY_INFO!C21=0,\" \",COUNTRY_INFO!C21)","v":"DOUFELGOU"},{"$f":"IF(COUNTRY_INFO!$Z21=\"MDA5 (IDA)\", COUNTRY_INFO!$Z21, \" \")","v":" "},null,null,null,null,0,null,null,null,0," "," "," "," "]
[{"$f":"IF(COUNTRY_INFO!A22=0,\" \",COUNTRY_INFO!A22)","v":"Togo"},{"$f":"IF(COUNTRY_INFO!B22=0,\" \",COUNTRY_INFO!B22)","v":"KARA"},{"$f":"IF(COUNTRY_INFO!C22=0,\" \",COUNTRY_INFO!C22)","v":"KERAN"},{"$f":"IF(COUNTRY_INFO!$Z22=\"MDA5 (IDA)\", COUNTRY_INFO!$Z22, \" \")","v":" "},null,null,null,null,0,null,null,null,0," "," "," "," "]
[{"$f":"IF(COUNTRY_INFO!A23=0,\" \",COUNTRY_INFO!A23)","v":"Togo"},{"$f":"IF(COUNTRY_INFO!B23=0,\" \",COUNTRY_INFO!B23)","v":"KARA"},{"$f":"IF(COUNTRY_INFO!C23=0,\" \",COUNTRY_INFO!C23)","v":"KOZAH"},{"$f":"IF(COUNTRY_INFO!$Z23=\"MDA5 (IDA)\", COUNTRY_INFO!$Z23, \" \")","v":" "},null,null,null,null,0,null,null,null,0," "," "," "," "]
[{"$f":"IF(COUNTRY_INFO!A24=0,\" \",COUNTRY_INFO!A24)","v":"Togo"},{"$f":"IF(COUNTRY_INFO!B24=0,\" \",COUNTRY_INFO!B24)","v":"MARITIME"},{"$f":"IF(COUNTRY_INFO!C24=0,\" \",COUNTRY_INFO!C24)","v":"AVE"},{"$f":"IF(COUNTRY_INFO!$Z24=\"MDA5 (IDA)\", COUNTRY_INFO!$Z24, \" \")","v":" "},null,null,null,null,0,null,null,null,0," "," "," "," "]
[{"$f":"IF(COUNTRY_INFO!A25=0,\" \",COUNTRY_INFO!A25)","v":"Togo"},{"$f":"IF(COUNTRY_INFO!B25=0,\" \",COUNTRY_INFO!B25)","v":"MARITIME"},{"$f":"IF(COUNTRY_INFO!C25=0,\" \",COUNTRY_INFO!C25)","v":"BAS-MONO"},{"$f":"IF(COUNTRY_INFO!$Z25=\"MDA5 (IDA)\", COUNTRY_INFO!$Z25, \" \")","v":" "},null,null,null,null,0,null,null,null,0," "," "," "," "]
[{"$f":"IF(COUNTRY_INFO!A26=0,\" \",COUNTRY_INFO!A26)","v":"Togo"},{"$f":"IF(COUNTRY_INFO!B26=0,\" \",COUNTRY_INFO!B26)","v":"MARITIME"},{"$f":"IF(COUNTRY_INFO!C26=0,\" \",COUNTRY_INFO!C26)","v":"LACS"},{"$f":"IF(COUNTRY_INFO!$Z26=\"MDA5 (IDA)\", COUNTRY_INFO!$Z26, \" \")","v":" "},null,null,null,null,0,null,null,null,0," "," "," "," "]
[{"$f":"IF(COUNTRY_INFO!A27=0,\" \",COUNTRY_INFO!A27)","v":"Togo"},{"$f":"IF(COUNTRY_INFO!B27=0,\" \",COUNTRY_INFO!B27)","v":"MARITIME"},{"$f":"IF(COUNTRY_INFO!C27=0,\" \",COUNTRY_INFO!C27)","v":"VO"},{"$f":"IF(COUNTRY_INFO!$Z27=\"MDA5 (IDA)\", COUNTRY_INFO!$Z27, \" \")","v":" "},null,null,null,null,0,null,null,null,0," "," "," "," "]
[{"$f":"IF(COUNTRY_INFO!A28=0,\" \",COUNTRY_INFO!A28)","v":"Togo"},{"$f":"IF(COUNTRY_INFO!B28=0,\" \",COUNTRY_INFO!B28)","v":"MARITIME"},{"$f":"IF(COUNTRY_INFO!C28=0,\" \",COUNTRY_INFO!C28)","v":"YOTO"},{"$f":"IF(COUNTRY_INFO!$Z28=\"MDA5 (IDA)\", COUNTRY_INFO!$Z28, \" \")","v":" "},null,null,null,null,0,null,null,null,0," "," "," "," "]
[{"$f":"IF(COUNTRY_INFO!A29=0,\" \",COUNTRY_INFO!A29)","v":"Togo"},{"$f":"IF(COUNTRY_INFO!B29=0,\" \",COUNTRY_INFO!B29)","v":"MARITIME"},{"$f":"IF(COUNTRY_INFO!C29=0,\" \",COUNTRY_INFO!C29)","v":"ZIO"},{"$f":"IF(COUNTRY_INFO!$Z29=\"MDA5 (IDA)\", COUNTRY_INFO!$Z29, \" \")","v":" "},null,null,null,null,0,null,null,null,0," "," "," "," "]
[{"$f":"IF(COUNTRY_INFO!A30=0,\" \",COUNTRY_INFO!A30)","v":"Togo"},{"$f":"IF(COUNTRY_INFO!B30=0,\" \",COUNTRY_INFO!B30)","v":"PLATEAUX"},{"$f":"IF(COUNTRY_INFO!C30=0,\" \",COUNTRY_INFO!C30)","v":"AGOU"},{"$f":"IF(COUNTRY_INFO!$Z30=\"MDA5 (IDA)\", COUNTRY_INFO!$Z30, \" \")","v":" "},null,null,null,null,0,null,null,null,0," "," "," "," "]
[{"$f":"IF(COUNTRY_INFO!A31=0,\" \",COUNTRY_INFO!A31)","v":"Togo"},{"$f":"IF(COUNTRY_INFO!B31=0,\" \",COUNTRY_INFO!B31)","v":"PLATEAUX"},{"$f":"IF(COUNTRY_INFO!C31=0,\" \",COUNTRY_INFO!C31)","v":"AKEBOU"},{"$f":"IF(COUNTRY_INFO!$Z31=\"MDA5 (IDA)\", COUNTRY_INFO!$Z31, \" \")","v":" "},null,null,null,null,0,null,null,null,0," "," "," "," "]
[{"$f":"IF(COUNTRY_INFO!A32=0,\" \",COUNTRY_INFO!A32)","v":"Togo"},{"$f":"IF(COUNTRY_INFO!B32=0,\" \",COUNTRY_INFO!B32)","v":"PLATEAUX"},{"$f":"IF(COUNTRY_INFO!C32=0,\" \",COUNTRY_INFO!C32)","v":"AMOU"},{"$f":"IF(COUNTRY_INFO!$Z32=\"MDA5 (IDA)\", COUNTRY_INFO!$Z32, \" \")","v":" "},null,null,null,null,0,null,null,null,0," "," "," "," "]
[{"$f":"IF(COUNTRY_INFO!A33=0,\" \",COUNTRY_INFO!A33)","v":"Togo"},{"$f":"IF(COUNTRY_INFO!B33=0,\" \",COUNTRY_INFO!B33)","v":"PLATEAUX"},{"$f":"IF(COUNTRY_INFO!C33=0,\" \",COUNTRY_INFO!C33)","v":"ANIE"},{"$f":"IF(COUNTRY_INFO!$Z33=\"MDA5 (IDA)\", COUNTRY_INFO!$Z33, \" \")","v":" "},null,null,null,null,0,null,null,null,0," "," "," "," "]
[{"$f":"IF(COUNTRY_INFO!A34=0,\" \",COUNTRY_INFO!A34)","v":"Togo"},{"$f":"IF(COUNTRY_INFO!B34=0,\" \",COUNTRY_INFO!B34)","v":"PLATEAUX"},{"$f":"IF(COUNTRY_INFO!C34=0,\" \",COUNTRY_INFO!C34)","v":"DANYI"},{"$f":"IF(COUNTRY_INFO!$Z34=\"MDA5 (IDA)\", COUNTRY_INFO!$Z34, \" \")","v":" "},null,null,null,null,0,null,null,null,0," "," "," "," "]
[{"$f":"IF(COUNTRY_INFO!A35=0,\" \",COUNTRY_INFO!A35)","v":"Togo"},{"$f":"IF(COUNTRY_INFO!B35=0,\" \",COUNTRY_INFO!B35)","v":"PLATEAUX"},{"$f":"IF(COUNTRY_INFO!C35=0,\" \",COUNTRY_INFO!C35)","v":"EST-MONO"},{"$f":"IF(COUNTRY_INFO!$Z35=\"MDA5 (IDA)\", COUNTRY_INFO!$Z35, \" \")","v":" "},null,null,null,null,0,null,null,null,0," "," "," "," "]
[{"$f":"IF(COUNTRY_INFO!A36=0,\" \",COUNTRY_INFO!A36)","v":"Togo"},{"$f":"IF(COUNTRY_INFO!B36=0,\" \",COUNTRY_INFO!B36)","v":"PLATEAUX"},{"$f":"IF(COUNTRY_INFO!C36=0,\" \",COUNTRY_INFO!C36)","v":"HAHO"},{"$f":"IF(COUNTRY_INFO!$Z36=\"MDA5 (IDA)\", COUNTRY_INFO!$Z36, \" \")","v":" "},null,null,null,null,0,null,null,null,0," "," "," "," "]
[{"$f":"IF(COUNTRY_INFO!A37=0,\" \",COUNTRY_INFO!A37)","v":"Togo"},{"$f":"IF(COUNTRY_INFO!B37=0,\" \",COUNTRY_INFO!B37)","v":"PLATEAUX"},{"$f":"IF(COUNTRY_INFO!C37=0,\" \",COUNTRY_INFO!C37)","v":"KLOTO"},{"$f":"IF(COUNTRY_INFO!$Z37=\"MDA5 (IDA)\", COUNTRY_INFO!$Z37, \" \")","v":" "},null,null,null,null,0,null,null,null,0," "," "," "," "]
[{"$f":"IF(COUNTRY_INFO!A38=0,\" \",COUNTRY_INFO!A38)","v":"Togo"},{"$f":"IF(COUNTRY_INFO!B38=0,\" \",COUNTRY_INFO!B38)","v":"PLATEAUX"},{"$f":"IF(COUNTRY_INFO!C38=0,\" \",COUNTRY_INFO!C38)","v":"KPELE"},{"$f":"IF(COUNTRY_INFO!$Z38=\"MDA5 (IDA)\", COUNTRY_INFO!$Z38, \" \")","v":" "},null,null,null,null,0,null,null,null,0," "," "," "," "]
[{"$f":"IF(COUNTRY_INFO!A39=0,\" \",COUNTRY_INFO!A39)","v":"Togo"},{"$f":"IF(COUNTRY_INFO!B39=0,\" \",COUNTRY_INFO!B39)","v":"PLATEAUX"},{"$f":"IF(COUNTRY_INFO!C39=0,\" \",COUNTRY_INFO!C39)","v":"MOYEN-MONO"},{"$f":"IF(COUNTRY_INFO!$Z39=\"MDA5 (IDA)\", COUNTRY_INFO!$Z39, \" \")","v":" "},null,null,null,null,0,null,null,null,0," "," "," "," "]
[{"$f":"IF(COUNTRY_INFO!A40=0,\" \",COUNTRY_INFO!A40)","v":"Togo"},{"$f":"IF(COUNTRY_INFO!B40=0,\" \",COUNTRY_INFO!B40)","v":"PLATEAUX"},{"$f":"IF(COUNTRY_INFO!C40=0,\" \",COUNTRY_INFO!C40)","v":"OGOU"},{"$f":"IF(COUNTRY_INFO!$Z40=\"MDA5 (IDA)\", COUNTRY_INFO!$Z40, \" \")","v":" "},null,null,null,null,0,null,null,null,0," "," "," "," "]
[{"$f":"IF(COUNTRY_INFO!A41=0,\" \",COUNTRY_INFO!A41)","v":"Togo"},{"$f":"IF(COUNTRY_INFO!B41=0,\" \",COUNTRY_INFO!B41)","v":"PLATEAUX"},{"$f":"IF(COUNTRY_INFO!C41=0,\" \",COUNTRY_INFO!C41)","v":"WAWA"},{"$f":"IF(COUNTRY_INFO!$Z41=\"MDA5 (IDA)\", COUNTRY_INFO!$Z41, \" \")","v":" "},null,null,null,null,0,null,null,null,0," "," "," "," "]
[{"$f":"IF(COUNTRY_INFO!A42=0,\" \",COUNTRY_INFO!A42)","v":"Togo"},{"$f":"IF(COUNTRY_INFO!B42=0,\" \",COUNTRY_INFO!B42)","v":"SAVANES"},{"$f":"IF(COUNTRY_INFO!C42=0,\" \",COUNTRY_INFO!C42)","v":"CINKASSE"},{"$f":"IF(COUNTRY_INFO!$Z42=\"MDA5 (IDA)\", COUNTRY_INFO!$Z42, \" \")","v":" "},null,null,null,null,0,null,null,null,0," "," "," "," "]
[{"$f":"IF(COUNTRY_INFO!A43=0,\" \",COUNTRY_INFO!A43)","v":"Togo"},{"$f":"IF(COUNTRY_INFO!B43=0,\" \",COUNTRY_INFO!B43)","v":"SAVANES"},{"$f":"IF(COUNTRY_INFO!C43=0,\" \",COUNTRY_INFO!C43)","v":"KPENDJAL"},{"$f":"IF(COUNTRY_INFO!$Z43=\"MDA5 (IDA)\", COUNTRY_INFO!$Z43, \" \")","v":" "},null,null,null,null,0,null,null,null,0," "," "," "," "]
[{"$f":"IF(COUNTRY_INFO!A44=0,\" \",COUNTRY_INFO!A44)","v":"Togo"},{"$f":"IF(COUNTRY_INFO!B44=0,\" \",COUNTRY_INFO!B44)","v":"SAVANES"},{"$f":"IF(COUNTRY_INFO!C44=0,\" \",COUNTRY_INFO!C44)","v":"KPENDJAL-OUEST"},{"$f":"IF(COUNTRY_INFO!$Z44=\"MDA5 (IDA)\", COUNTRY_INFO!$Z44, \" \")","v":" "},null,null,null,null,0,null,null,null,0," "," "," "," "]
[{"$f":"IF(COUNTRY_INFO!A45=0,\" \",COUNTRY_INFO!A45)","v":"Togo"},{"$f":"IF(COUNTRY_INFO!B45=0,\" \",COUNTRY_INFO!B45)","v":"SAVANES"},{"$f":"IF(COUNTRY_INFO!C45=0,\" \",COUNTRY_INFO!C45)","v":"OTI"},{"$f":"IF(COUNTRY_INFO!$Z45=\"MDA5 (IDA)\", COUNTRY_INFO!$Z45, \" \")","v":" "},null,null,null,null,0,null,null,null,0," "," "," "," "]
[{"$f":"IF(COUNTRY_INFO!A46=0,\" \",COUNTRY_INFO!A46)","v":"Togo"},{"$f":"IF(COUNTRY_INFO!B46=0,\" \",COUNTRY_INFO!B46)","v":"SAVANES"},{"$f":"IF(COUNTRY_INFO!C46=0,\" \",COUNTRY_INFO!C46)","v":"OTI-SUD"},{"$f":"IF(COUNTRY_INFO!$Z46=\"MDA5 (IDA)\", COUNTRY_INFO!$Z46, \" \")","v":" "},null,null,null,null,0,null,null,null,0," "," "," "," "]
[{"$f":"IF(COUNTRY_INFO!A47=0,\" \",COUNTRY_INFO!A47)","v":"Togo"},{"$f":"IF(COUNTRY_INFO!B47=0,\" \",COUNTRY_INFO!B47)","v":"SAVANES"},{"$f":"IF(COUNTRY_INFO!C47=0,\" \",COUNTRY_INFO!C47)","v":"TANDJOUARE"},{"$f":"IF(COUNTRY_INFO!$Z47=\"MDA5 (IDA)\", COUNTRY_INFO!$Z47, \" \")","v":" "},null,null,null,null,0,null,null,null,0," "," "," "," "]
[{"$f":"IF(COUNTRY_INFO!A48=0,\" \",COUNTRY_INFO!A48)","v":"Togo"},{"$f":"IF(COUNTRY_INFO!B48=0,\" \",COUNTRY_INFO!B48)","v":"SAVANES"},{"$f":"IF(COUNTRY_INFO!C48=0,\" \",COUNTRY_INFO!C48)","v":"TONE"},{"$f":"IF(COUNTRY_INFO!$Z48=\"MDA5 (IDA)\", COUNTRY_INFO!$Z48, \" \")","v":" "},null,null,null,null,0,null,null,null,0," "," "," "," "]

{"sheet":"T1","index":6,"n_rows":48,"n_cols":18,"rows_kept":48,"cut":false,"hidden":false,"merged":[[5,6,5,9],[5,10,5,13],[5,14,5,17],[3,0,3,2],[5,0,5,2],[5,3,6,3],[5,5,6,5],[5,4,6,4]]}
["T 1 - Praziquantel (PZQ) et Albendazole (ALB) ou Mebendazole (MBD)"]
["Structure administrative, population nécessitant une chimioprévention par groupe d'âge, population traitée par groupe d'âge et couverture"]
[]
["TOTAL",null,null,null,null,null,{"$f":"SUBTOTAL(9,G$10:G$1010)","v":0},0,0,0,0,0,0,0,{"$f":"IF(G4<>0, IF(K4/G4*100=0, \"-\", K4/G4*100), \" \")","v":" "},{"$f":"IF(H4<>0, IF(L4/H4*100=0, \"-\", L4/H4*100), \" \")","v":" "},{"$f":"IF(I4<>0, IF(M4/I4*100=0, \"-\", M4/I4*100), \" \")","v":" "},{"$f":"IF(J4<>0, IF(N4/J4*100=0, \"-\", N4/J4*100), \" \")","v":" "}]
[]
["Structure administrative du pays",null,null,"Mise en oeuvre \nde la CP","Médica-ment","Date","Population ciblée pour T1",null,null,null,"Population traitée",null,null,null,"Couverture du Programme (%)"]
["Pays","Région/Département","District",null,null,null,"EAPréS","EAS","Adultes","Total","EAPréS","EAS","Adultes","Total","EAPréS","EAS","Adultes","Total"]
[]
[]
[{"$f":"IF(COUNTRY_INFO!A10=0,\" \",COUNTRY_INFO!A10)","v":"Togo"},{"$f":"IF(COUNTRY_INFO!B10=0,\" \",COUNTRY_INFO!B10)","v":"CENTRALE"},{"$f":"IF(COUNTRY_INFO!C10=0,\" \",COUNTRY_INFO!C10)","v":"BLITTA"},{"$f":"IF(OR(COUNTRY_INFO!$Z10=\"T1 (PZQ+ALB/MBD)\",COUNTRY_INFO!$AA10=\"T1 (PZQ+ALB/MBD)\"), \"T1 (PZQ+ALB/MBD)\", \" \")","v":" "},null,null,null,null,null,{"$f":"SUM(G10:I10)","v":0},null,null,null,{"$f":"SUM(K10:M10)","v":0},{"$f":"IF(G10<>0, IF(K10/G10*100=0, \"-\", K10/G10*100), \" \")","v":" "},{"$f":"IF(H10<>0, IF(L10/H10*100=0, \"-\", L10/H10*100), \" \")","v":" "},{"$f":"IF(I10<>0, IF(M10/I10*100=0, \"-\", M10/I10*100), \" \")","v":" "}," "]
[{"$f":"IF(COUNTRY_INFO!A11=0,\" \",COUNTRY_INFO!A11)","v":"Togo"},{"$f":"IF(COUNTRY_INFO!B11=0,\" \",COUNTRY_INFO!B11)","v":"CENTRALE"},{"$f":"IF(COUNTRY_INFO!C11=0,\" \",COUNTRY_INFO!C11)","v":"MÔ"},{"$f":"IF(OR(COUNTRY_INFO!$Z11=\"T1 (PZQ+ALB/MBD)\",COUNTRY_INFO!$AA11=\"T1 (PZQ+ALB/MBD)\"), \"T1 (PZQ+ALB/MBD)\", \" \")","v":" "},null,null,null,null,null,{"$f":"SUM(G11:I11)","v":0},null,null,null,{"$f":"SUM(K11:M11)","v":0},{"$f":"IF(G11<>0, IF(K11/G11*100=0, \"-\", K11/G11*100), \" \")","v":" "},{"$f":"IF(H11<>0, IF(L11/H11*100=0, \"-\", L11/H11*100), \" \")","v":" "},{"$f":"IF(I11<>0, IF(M11/I11*100=0, \"-\", M11/I11*100), \" \")","v":" "},{"$f":"IF(J11<>0, IF(N11/J11*100=0, \"-\", N11/J11*100), \" \")","v":" "}]
[{"$f":"IF(COUNTRY_INFO!A12=0,\" \",COUNTRY_INFO!A12)","v":"Togo"},{"$f":"IF(COUNTRY_INFO!B12=0,\" \",COUNTRY_INFO!B12)","v":"CENTRALE"},{"$f":"IF(COUNTRY_INFO!C12=0,\" \",COUNTRY_INFO!C12)","v":"SOTOUBOUA"},{"$f":"IF(OR(COUNTRY_INFO!$Z12=\"T1 (PZQ+ALB/MBD)\",COUNTRY_INFO!$AA12=\"T1 (PZQ+ALB/MBD)\"), \"T1 (PZQ+ALB/MBD)\", \" \")","v":" "},null,null,null,null,null,0,null,null,null,0," "," "," "," "]
[{"$f":"IF(COUNTRY_INFO!A13=0,\" \",COUNTRY_INFO!A13)","v":"Togo"},{"$f":"IF(COUNTRY_INFO!B13=0,\" \",COUNTRY_INFO!B13)","v":"CENTRALE"},{"$f":"IF(COUNTRY_INFO!C13=0,\" \",COUNTRY_INFO!C13)","v":"TCHAMBA"},{"$f":"IF(OR(COUNTRY_INFO!$Z13=\"T1 (PZQ+ALB/MBD)\",COUNTRY_INFO!$AA13=\"T1 (PZQ+ALB/MBD)\"), \"T1 (PZQ+ALB/MBD)\", \" \")","v":" "},null,null,null,null,null,0,null,null,null,0," "," "," "," "]
[{"$f":"IF(COUNTRY_INFO!A14=0,\" \",COUNTRY_INFO!A14)","v":"Togo"},{"$f":"IF(COUNTRY_INFO!B14=0,\" \",COUNTRY_INFO!B14)","v":"CENTRALE"},{"$f":"IF(COUNTRY_INFO!C14=0,\" \",COUNTRY_INFO!C14)","v":"TCHAOUDJO"},{"$f":"IF(OR(COUNTRY_INFO!$Z14=\"T1 (PZQ+ALB/MBD)\",COUNTRY_INFO!$AA14=\"T1 (PZQ+ALB/MBD)\"), \"T1 (PZQ+ALB/MBD)\", \" \")","v":" "},null,null,null,null,null,0,null,null,null,0," "," "," "," "]
[{"$f":"IF(COUNTRY_INFO!A15=0,\" \",COUNTRY_INFO!A15)","v":"Togo"},{"$f":"IF(COUNTRY_INFO!B15=0,\" \",COUNTRY_INFO!B15)","v":"GRAND-LOME"},{"$f":"IF(COUNTRY_INFO!C15=0,\" \",COUNTRY_INFO!C15)","v":"AGOE NYIVE"},{"$f":"IF(OR(COUNTRY_INFO!$Z15=\"T1 (PZQ+ALB/MBD)\",COUNTRY_INFO!$AA15=\"T1 (PZQ+ALB/MBD)\"), \"T1 (PZQ+ALB/MBD)\", \" \")","v":" "},null,null,null,null,null,0,null,null,null,0," "," "," "," "]
[{"$f":"IF(COUNTRY_INFO!A16=0,\" \",COUNTRY_INFO!A16)","v":"Togo"},{"$f":"IF(COUNTRY_INFO!B16=0,\" \",COUNTRY_INFO!B16)","v":"GRAND-LOME"},{"$f":"IF(COUNTRY_INFO!C16=0,\" \",COUNTRY_INFO!C16)","v":"GOLFE"},{"$f":"IF(OR(COUNTRY_INFO!$Z16=\"T1 (PZQ+ALB/MBD)\",COUNTRY_INFO!$AA16=\"T1 (PZQ+ALB/MBD)\"), \"T1 (PZQ+ALB/MBD)\", \" \")","v":" "},null,null,null,null,null,0,null,null,null,0," "," "," "," "]
[{"$f":"IF(COUNTRY_INFO!A17=0,\" \",COUNTRY_INFO!A17)","v":"Togo"},{"$f":"IF(COUNTRY_INFO!B17=0,\" \",COUNTRY_INFO!B17)","v":"KARA"},{"$f":"IF(COUNTRY_INFO!C17=0,\" \",COUNTRY_INFO!C17)","v":"ASSOLI"},{"$f":"IF(OR(COUNTRY_INFO!$Z17=\"T1 (PZQ+ALB/MBD)\",COUNTRY_INFO!$AA17=\"T1 (PZQ+ALB/MBD)\"), \"T1 (PZQ+ALB/MBD)\", \" \")","v":" "},null,null,null,null,null,0,null,null,null,0," "," "," "," "]
[{"$f":"IF(COUNTRY_INFO!A18=0,\" \",COUNTRY_INFO!A18)","v":"Togo"},{"$f":"IF(COUNTRY_INFO!B18=0,\" \",COUNTRY_INFO!B18)","v":"KARA"},{"$f":"IF(COUNTRY_INFO!C18=0,\" \",COUNTRY_INFO!C18)","v":"BASSAR"},{"$f":"IF(OR(COUNTRY_INFO!$Z18=\"T1 (PZQ+ALB/MBD)\",COUNTRY_INFO!$AA18=\"T1 (PZQ+ALB/MBD)\"), \"T1 (PZQ+ALB/MBD)\", \" \")","v":" "},null,null,null,null,null,0,null,null,null,0," "," "," "," "]
[{"$f":"IF(COUNTRY_INFO!A19=0,\" \",COUNTRY_INFO!A19)","v":"Togo"},{"$f":"IF(COUNTRY_INFO!B19=0,\" \",COUNTRY_INFO!B19)","v":"KARA"},{"$f":"IF(COUNTRY_INFO!C19=0,\" \",COUNTRY_INFO!C19)","v":"BINAH"},{"$f":"IF(OR(COUNTRY_INFO!$Z19=\"T1 (PZQ+ALB/MBD)\",COUNTRY_INFO!$AA19=\"T1 (PZQ+ALB/MBD)\"), \"T1 (PZQ+ALB/MBD)\", \" \")","v":" "},null,null,null,null,null,0,null,null,null,0," "," "," "," "]
[{"$f":"IF(COUNTRY_INFO!A20=0,\" \",COUNTRY_INFO!A20)","v":"Togo"},{"$f":"IF(COUNTRY_INFO!B20=0,\" \",COUNTRY_INFO!B20)","v":"KARA"},{"$f":"IF(COUNTRY_INFO!C20=0,\" \",COUNTRY_INFO!C20)","v":"DANKPEN"},{"$f":"IF(OR(COUNTRY_INFO!$Z20=\"T1 (PZQ+ALB/MBD)\",COUNTRY_INFO!$AA20=\"T1 (PZQ+ALB/MBD)\"), \"T1 (PZQ+ALB/MBD)\", \" \")","v":" "},null,null,null,null,null,0,null,null,null,0," "," "," "," "]
[{"$f":"IF(COUNTRY_INFO!A21=0,\" \",COUNTRY_INFO!A21)","v":"Togo"},{"$f":"IF(COUNTRY_INFO!B21=0,\" \",COUNTRY_INFO!B21)","v":"KARA"},{"$f":"IF(COUNTRY_INFO!C21=0,\" \",COUNTRY_INFO!C21)","v":"DOUFELGOU"},{"$f":"IF(OR(COUNTRY_INFO!$Z21=\"T1 (PZQ+ALB/MBD)\",COUNTRY_INFO!$AA21=\"T1 (PZQ+ALB/MBD)\"), \"T1 (PZQ+ALB/MBD)\", \" \")","v":" "},null,null,null,null,null,0,null,null,null,0," "," "," "," "]
[{"$f":"IF(COUNTRY_INFO!A22=0,\" \",COUNTRY_INFO!A22)","v":"Togo"},{"$f":"IF(COUNTRY_INFO!B22=0,\" \",COUNTRY_INFO!B22)","v":"KARA"},{"$f":"IF(COUNTRY_INFO!C22=0,\" \",COUNTRY_INFO!C22)","v":"KERAN"},{"$f":"IF(OR(COUNTRY_INFO!$Z22=\"T1 (PZQ+ALB/MBD)\",COUNTRY_INFO!$AA22=\"T1 (PZQ+ALB/MBD)\"), \"T1 (PZQ+ALB/MBD)\", \" \")","v":" "},null,null,null,null,null,0,null,null,null,0," "," "," "," "]
[{"$f":"IF(COUNTRY_INFO!A23=0,\" \",COUNTRY_INFO!A23)","v":"Togo"},{"$f":"IF(COUNTRY_INFO!B23=0,\" \",COUNTRY_INFO!B23)","v":"KARA"},{"$f":"IF(COUNTRY_INFO!C23=0,\" \",COUNTRY_INFO!C23)","v":"KOZAH"},{"$f":"IF(OR(COUNTRY_INFO!$Z23=\"T1 (PZQ+ALB/MBD)\",COUNTRY_INFO!$AA23=\"T1 (PZQ+ALB/MBD)\"), \"T1 (PZQ+ALB/MBD)\", \" \")","v":" "},null,null,null,null,null,0,null,null,null,0," "," "," "," "]
[{"$f":"IF(COUNTRY_INFO!A24=0,\" \",COUNTRY_INFO!A24)","v":"Togo"},{"$f":"IF(COUNTRY_INFO!B24=0,\" \",COUNTRY_INFO!B24)","v":"MARITIME"},{"$f":"IF(COUNTRY_INFO!C24=0,\" \",COUNTRY_INFO!C24)","v":"AVE"},{"$f":"IF(OR(COUNTRY_INFO!$Z24=\"T1 (PZQ+ALB/MBD)\",COUNTRY_INFO!$AA24=\"T1 (PZQ+ALB/MBD)\"), \"T1 (PZQ+ALB/MBD)\", \" \")","v":" "},null,null,null,null,null,0,null,null,null,0," "," "," "," "]
[{"$f":"IF(COUNTRY_INFO!A25=0,\" \",COUNTRY_INFO!A25)","v":"Togo"},{"$f":"IF(COUNTRY_INFO!B25=0,\" \",COUNTRY_INFO!B25)","v":"MARITIME"},{"$f":"IF(COUNTRY_INFO!C25=0,\" \",COUNTRY_INFO!C25)","v":"BAS-MONO"},{"$f":"IF(OR(COUNTRY_INFO!$Z25=\"T1 (PZQ+ALB/MBD)\",COUNTRY_INFO!$AA25=\"T1 (PZQ+ALB/MBD)\"), \"T1 (PZQ+ALB/MBD)\", \" \")","v":" "},null,null,null,null,null,0,null,null,null,0," "," "," "," "]
[{"$f":"IF(COUNTRY_INFO!A26=0,\" \",COUNTRY_INFO!A26)","v":"Togo"},{"$f":"IF(COUNTRY_INFO!B26=0,\" \",COUNTRY_INFO!B26)","v":"MARITIME"},{"$f":"IF(COUNTRY_INFO!C26=0,\" \",COUNTRY_INFO!C26)","v":"LACS"},{"$f":"IF(OR(COUNTRY_INFO!$Z26=\"T1 (PZQ+ALB/MBD)\",COUNTRY_INFO!$AA26=\"T1 (PZQ+ALB/MBD)\"), \"T1 (PZQ+ALB/MBD)\", \" \")","v":" "},null,null,null,null,null,0,null,null,null,0," "," "," "," "]
[{"$f":"IF(COUNTRY_INFO!A27=0,\" \",COUNTRY_INFO!A27)","v":"Togo"},{"$f":"IF(COUNTRY_INFO!B27=0,\" \",COUNTRY_INFO!B27)","v":"MARITIME"},{"$f":"IF(COUNTRY_INFO!C27=0,\" \",COUNTRY_INFO!C27)","v":"VO"},{"$f":"IF(OR(COUNTRY_INFO!$Z27=\"T1 (PZQ+ALB/MBD)\",COUNTRY_INFO!$AA27=\"T1 (PZQ+ALB/MBD)\"), \"T1 (PZQ+ALB/MBD)\", \" \")","v":" "},null,null,null,null,null,0,null,null,null,0," "," "," "," "]
[{"$f":"IF(COUNTRY_INFO!A28=0,\" \",COUNTRY_INFO!A28)","v":"Togo"},{"$f":"IF(COUNTRY_INFO!B28=0,\" \",COUNTRY_INFO!B28)","v":"MARITIME"},{"$f":"IF(COUNTRY_INFO!C28=0,\" \",COUNTRY_INFO!C28)","v":"YOTO"},{"$f":"IF(OR(COUNTRY_INFO!$Z28=\"T1 (PZQ+ALB/MBD)\",COUNTRY_INFO!$AA28=\"T1 (PZQ+ALB/MBD)\"), \"T1 (PZQ+ALB/MBD)\", \" \")","v":" "},null,null,null,null,null,0,null,null,null,0," "," "," "," "]
[{"$f":"IF(COUNTRY_INFO!A29=0,\" \",COUNTRY_INFO!A29)","v":"Togo"},{"$f":"IF(COUNTRY_INFO!B29=0,\" \",COUNTRY_INFO!B29)","v":"MARITIME"},{"$f":"IF(COUNTRY_INFO!C29=0,\" \",COUNTRY_INFO!C29)","v":"ZIO"},{"$f":"IF(OR(COUNTRY_INFO!$Z29=\"T1 (PZQ+ALB/MBD)\",COUNTRY_INFO!$AA29=\"T1 (PZQ+ALB/MBD)\"), \"T1 (PZQ+ALB/MBD)\", \" \")","v":" "},null,null,null,null,null,0,null,null,null,0," "," "," "," "]
[{"$f":"IF(COUNTRY_INFO!A30=0,\" \",COUNTRY_INFO!A30)","v":"Togo"},{"$f":"IF(COUNTRY_INFO!B30=0,\" \",COUNTRY_INFO!B30)","v":"PLATEAUX"},{"$f":"IF(COUNTRY_INFO!C30=0,\" \",COUNTRY_INFO!C30)","v":"AGOU"},{"$f":"IF(OR(COUNTRY_INFO!$Z30=\"T1 (PZQ+ALB/MBD)\",COUNTRY_INFO!$AA30=\"T1 (PZQ+ALB/MBD)\"), \"T1 (PZQ+ALB/MBD)\", \" \")","v":" "},null,null,null,null,null,0,null,null,null,0," "," "," "," "]
[{"$f":"IF(COUNTRY_INFO!A31=0,\" \",COUNTRY_INFO!A31)","v":"Togo"},{"$f":"IF(COUNTRY_INFO!B31=0,\" \",COUNTRY_INFO!B31)","v":"PLATEAUX"},{"$f":"IF(COUNTRY_INFO!C31=0,\" \",COUNTRY_INFO!C31)","v":"AKEBOU"},{"$f":"IF(OR(COUNTRY_INFO!$Z31=\"T1 (PZQ+ALB/MBD)\",COUNTRY_INFO!$AA31=\"T1 (PZQ+ALB/MBD)\"), \"T1 (PZQ+ALB/MBD)\", \" \")","v":" "},null,null,null,null,null,0,null,null,null,0," "," "," "," "]
[{"$f":"IF(COUNTRY_INFO!A32=0,\" \",COUNTRY_INFO!A32)","v":"Togo"},{"$f":"IF(COUNTRY_INFO!B32=0,\" \",COUNTRY_INFO!B32)","v":"PLATEAUX"},{"$f":"IF(COUNTRY_INFO!C32=0,\" \",COUNTRY_INFO!C32)","v":"AMOU"},{"$f":"IF(OR(COUNTRY_INFO!$Z32=\"T1 (PZQ+ALB/MBD)\",COUNTRY_INFO!$AA32=\"T1 (PZQ+ALB/MBD)\"), \"T1 (PZQ+ALB/MBD)\", \" \")","v":" "},null,null,null,null,null,0,null,null,null,0," "," "," "," "]
[{"$f":"IF(COUNTRY_INFO!A33=0,\" \",COUNTRY_INFO!A33)","v":"Togo"},{"$f":"IF(COUNTRY_INFO!B33=0,\" \",COUNTRY_INFO!B33)","v":"PLATEAUX"},{"$f":"IF(COUNTRY_INFO!C33=0,\" \",COUNTRY_INFO!C33)","v":"ANIE"},{"$f":"IF(OR(COUNTRY_INFO!$Z33=\"T1 (PZQ+ALB/MBD)\",COUNTRY_INFO!$AA33=\"T1 (PZQ+ALB/MBD)\"), \"T1 (PZQ+ALB/MBD)\", \" \")","v":" "},null,null,null,null,null,0,null,null,null,0," "," "," "," "]
[{"$f":"IF(COUNTRY_INFO!A34=0,\" \",COUNTRY_INFO!A34)","v":"Togo"},{"$f":"IF(COUNTRY_INFO!B34=0,\" \",COUNTRY_INFO!B34)","v":"PLATEAUX"},{"$f":"IF(COUNTRY_INFO!C34=0,\" \",COUNTRY_INFO!C34)","v":"DANYI"},{"$f":"IF(OR(COUNTRY_INFO!$Z34=\"T1 (PZQ+ALB/MBD)\",COUNTRY_INFO!$AA34=\"T1 (PZQ+ALB/MBD)\"), \"T1 (PZQ+ALB/MBD)\", \" \")","v":" "},null,null,null,null,null,0,null,null,null,0," "," "," "," "]
[{"$f":"IF(COUNTRY_INFO!A35=0,\" \",COUNTRY_INFO!A35)","v":"Togo"},{"$f":"IF(COUNTRY_INFO!B35=0,\" \",COUNTRY_INFO!B35)","v":"PLATEAUX"},{"$f":"IF(COUNTRY_INFO!C35=0,\" \",COUNTRY_INFO!C35)","v":"EST-MONO"},{"$f":"IF(OR(COUNTRY_INFO!$Z35=\"T1 (PZQ+ALB/MBD)\",COUNTRY_INFO!$AA35=\"T1 (PZQ+ALB/MBD)\"), \"T1 (PZQ+ALB/MBD)\", \" \")","v":" "},null,null,null,null,null,0,null,null,null,0," "," "," "," "]
[{"$f":"IF(COUNTRY_INFO!A36=0,\" \",COUNTRY_INFO!A36)","v":"Togo"},{"$f":"IF(COUNTRY_INFO!B36=0,\" \",COUNTRY_INFO!B36)","v":"PLATEAUX"},{"$f":"IF(COUNTRY_INFO!C36=0,\" \",COUNTRY_INFO!C36)","v":"HAHO"},{"$f":"IF(OR(COUNTRY_INFO!$Z36=\"T1 (PZQ+ALB/MBD)\",COUNTRY_INFO!$AA36=\"T1 (PZQ+ALB/MBD)\"), \"T1 (PZQ+ALB/MBD)\", \" \")","v":" "},null,null,null,null,null,0,null,null,null,0," "," "," "," "]
[{"$f":"IF(COUNTRY_INFO!A37=0,\" \",COUNTRY_INFO!A37)","v":"Togo"},{"$f":"IF(COUNTRY_INFO!B37=0,\" \",COUNTRY_INFO!B37)","v":"PLATEAUX"},{"$f":"IF(COUNTRY_INFO!C37=0,\" \",COUNTRY_INFO!C37)","v":"KLOTO"},{"$f":"IF(OR(COUNTRY_INFO!$Z37=\"T1 (PZQ+ALB/MBD)\",COUNTRY_INFO!$AA37=\"T1 (PZQ+ALB/MBD)\"), \"T1 (PZQ+ALB/MBD)\", \" \")","v":" "},null,null,null,null,null,0,null,null,null,0," "," "," "," "]
[{"$f":"IF(COUNTRY_INFO!A38=0,\" \",COUNTRY_INFO!A38)","v":"Togo"},{"$f":"IF(COUNTRY_INFO!B38=0,\" \",COUNTRY_INFO!B38)","v":"PLATEAUX"},{"$f":"IF(COUNTRY_INFO!C38=0,\" \",COUNTRY_INFO!C38)","v":"KPELE"},{"$f":"IF(OR(COUNTRY_INFO!$Z38=\"T1 (PZQ+ALB/MBD)\",COUNTRY_INFO!$AA38=\"T1 (PZQ+ALB/MBD)\"), \"T1 (PZQ+ALB/MBD)\", \" \")","v":" "},null,null,null,null,null,0,null,null,null,0," "," "," "," "]
[{"$f":"IF(COUNTRY_INFO!A39=0,\" \",COUNTRY_INFO!A39)","v":"Togo"},{"$f":"IF(COUNTRY_INFO!B39=0,\" \",COUNTRY_INFO!B39)","v":"PLATEAUX"},{"$f":"IF(COUNTRY_INFO!C39=0,\" \",COUNTRY_INFO!C39)","v":"MOYEN-MONO"},{"$f":"IF(OR(COUNTRY_INFO!$Z39=\"T1 (PZQ+ALB/MBD)\",COUNTRY_INFO!$AA39=\"T1 (PZQ+ALB/MBD)\"), \"T1 (PZQ+ALB/MBD)\", \" \")","v":" "},null,null,null,null,null,0,null,null,null,0," "," "," "," "]
[{"$f":"IF(COUNTRY_INFO!A40=0,\" \",COUNTRY_INFO!A40)","v":"Togo"},{"$f":"IF(COUNTRY_INFO!B40=0,\" \",COUNTRY_INFO!B40)","v":"PLATEAUX"},{"$f":"IF(COUNTRY_INFO!C40=0,\" \",COUNTRY_INFO!C40)","v":"OGOU"},{"$f":"IF(OR(COUNTRY_INFO!$Z40=\"T1 (PZQ+ALB/MBD)\",COUNTRY_INFO!$AA40=\"T1 (PZQ+ALB/MBD)\"), \"T1 (PZQ+ALB/MBD)\", \" \")","v":" "},null,null,null,null,null,0,null,null,null,0," "," "," "," "]
[{"$f":"IF(COUNTRY_INFO!A41=0,\" \",COUNTRY_INFO!A41)","v":"Togo"},{"$f":"IF(COUNTRY_INFO!B41=0,\" \",COUNTRY_INFO!B41)","v":"PLATEAUX"},{"$f":"IF(COUNTRY_INFO!C41=0,\" \",COUNTRY_INFO!C41)","v":"WAWA"},{"$f":"IF(OR(COUNTRY_INFO!$Z41=\"T1 (PZQ+ALB/MBD)\",COUNTRY_INFO!$AA41=\"T1 (PZQ+ALB/MBD)\"), \"T1 (PZQ+ALB/MBD)\", \" \")","v":" "},null,null,null,null,null,0,null,null,null,0," "," "," "," "]
[{"$f":"IF(COUNTRY_INFO!A42=0,\" \",COUNTRY_INFO!A42)","v":"Togo"},{"$f":"IF(COUNTRY_INFO!B42=0,\" \",COUNTRY_INFO!B42)","v":"SAVANES"},{"$f":"IF(COUNTRY_INFO!C42=0,\" \",COUNTRY_INFO!C42)","v":"CINKASSE"},{"$f":"IF(OR(COUNTRY_INFO!$Z42=\"T1 (PZQ+ALB/MBD)\",COUNTRY_INFO!$AA42=\"T1 (PZQ+ALB/MBD)\"), \"T1 (PZQ+ALB/MBD)\", \" \")","v":" "},null,null,null,null,null,0,null,null,null,0," "," "," "," "]
[{"$f":"IF(COUNTRY_INFO!A43=0,\" \",COUNTRY_INFO!A43)","v":"Togo"},{"$f":"IF(COUNTRY_INFO!B43=0,\" \",COUNTRY_INFO!B43)","v":"SAVANES"},{"$f":"IF(COUNTRY_INFO!C43=0,\" \",COUNTRY_INFO!C43)","v":"KPENDJAL"},{"$f":"IF(OR(COUNTRY_INFO!$Z43=\"T1 (PZQ+ALB/MBD)\",COUNTRY_INFO!$AA43=\"T1 (PZQ+ALB/MBD)\"), \"T1 (PZQ+ALB/MBD)\", \" \")","v":" "},null,null,null,null,null,0,null,null,null,0," "," "," "," "]
[{"$f":"IF(COUNTRY_INFO!A44=0,\" \",COUNTRY_INFO!A44)","v":"Togo"},{"$f":"IF(COUNTRY_INFO!B44=0,\" \",COUNTRY_INFO!B44)","v":"SAVANES"},{"$f":"IF(COUNTRY_INFO!C44=0,\" \",COUNTRY_INFO!C44)","v":"KPENDJAL-OUEST"},{"$f":"IF(OR(COUNTRY_INFO!$Z44=\"T1 (PZQ+ALB/MBD)\",COUNTRY_INFO!$AA44=\"T1 (PZQ+ALB/MBD)\"), \"T1 (PZQ+ALB/MBD)\", \" \")","v":" "},null,null,null,null,null,0,null,null,null,0," "," "," "," "]
[{"$f":"IF(COUNTRY_INFO!A45=0,\" \",COUNTRY_INFO!A45)","v":"Togo"},{"$f":"IF(COUNTRY_INFO!B45=0,\" \",COUNTRY_INFO!B45)","v":"SAVANES"},{"$f":"IF(COUNTRY_INFO!C45=0,\" \",COUNTRY_INFO!C45)","v":"OTI"},{"$f":"IF(OR(COUNTRY_INFO!$Z45=\"T1 (PZQ+ALB/MBD)\",COUNTRY_INFO!$AA45=\"T1 (PZQ+ALB/MBD)\"), \"T1 (PZQ+ALB/MBD)\", \" \")","v":" "},null,null,null,null,null,0,null,null,null,0," "," "," "," "]
[{"$f":"IF(COUNTRY_INFO!A46=0,\" \",COUNTRY_INFO!A46)","v":"Togo"},{"$f":"IF(COUNTRY_INFO!B46=0,\" \",COUNTRY_INFO!B46)","v":"SAVANES"},{"$f":"IF(COUNTRY_INFO!C46=0,\" \",COUNTRY_INFO!C46)","v":"OTI-SUD"},{"$f":"IF(OR(COUNTRY_INFO!$Z46=\"T1 (PZQ+ALB/MBD)\",COUNTRY_INFO!$AA46=\"T1 (PZQ+ALB/MBD)\"), \"T1 (PZQ+ALB/MBD)\", \" \")","v":" "},null,null,null,null,null,0,null,null,null,0," "," "," "," "]
[{"$f":"IF(COUNTRY_INFO!A47=0,\" \",COUNTRY_INFO!A47)","v":"Togo"},{"$f":"IF(COUNTRY_INFO!B47=0,\" \",COUNTRY_INFO!B47)","v":"SAVANES"},{"$f":"IF(COUNTRY_INFO!C47=0,\" \",COUNTRY_INFO!C47)","v":"TANDJOUARE"},{"$f":"IF(OR(COUNTRY_INFO!$Z47=\"T1 (PZQ+ALB/MBD)\",COUNTRY_INFO!$AA47=\"T1 (PZQ+ALB/MBD)\"), \"T1 (PZQ+ALB/MBD)\", \" \")","v":" "},null,null,null,null,null,0,null,null,null,0," "," "," "," "]
[{"$f":"IF(COUNTRY_INFO!A48=0,\" \",COUNTRY_INFO!A48)","v":"Togo"},{"$f":"IF(COUNTRY_INFO!B48=0,\" \",COUNTRY_INFO!B48)","v":"SAVANES"},{"$f":"IF(COUNTRY_INFO!C48=0,\" \",COUNTRY_INFO!C48)","v":"TONE"},{"$f":"IF(OR(COUNTRY_INFO!$Z48=\"T1 (PZQ+ALB/MBD)\",COUNTRY_INFO!$AA48=\"T1 (PZQ+ALB/MBD)\"), \"T1 (PZQ+ALB/MBD)\", \" \")","v":" "},null,null,null,null,null,0,null,null,null,0," "," "," "," "]

{"sheet":"T2","index":7,"n_rows":48,"n_cols":25,"rows_kept":48,"cut":false,"hidden":false,"merged":[[5,5,5,8],[5,9,5,12],[5,21,5,24],[3,0,3,2],[5,0,5,2],[5,3,6,3],[5,4,6,4],[5,17,5,20],[5,13,5,16]]}
["T 2 - Praziquantel (PZQ) "]
["Structure administrative, population nécessitant une chimioprévention par groupe d'âge, population traitée par groupe d'âge et couverture"]
[]
["TOTAL",null,null,null,null,{"$f":"SUBTOTAL(9,F$10:F$1010)","v":0},{"$f":"SUBTOTAL(9,G$10:G$1010)","v":1843025.5899625598},954582.42147903971,2797608.0114416,{"$f":"SUBTOTAL(9,J$10:J$1010)","v":0},1811333,941945.48,2753278.48,0,305217,458336,763553,0,1811333,942535.48,2753868.48,{"$f":"IF(F4<>0, IF(R4/F4*100=0, \"-\", R4/F4*100), \" \")","v":" "},{"$f":"IF(G4<>0, IF(S4/G4*100=0, \"-\", S4/G4*100), \" \")","v":98.280404236644188},{"$f":"IF(H4<>0, IF(T4/H4*100=0, \"-\", T4/H4*100), \" \")","v":98.737988338359088},{"$f":"IF(I4<>0, IF(U4/I4*100=0, \"-\", U4/I4*100), \" \")","v":98.436538240428433}]
[]
["Structure administrative du pays",null,null,"Mise en oeuvre \nde la CP","Date","Population ciblée pour T2",null,null,null,"Population traitée",null,null,null,"Population traitée dans les HOTSPOTS",null,null,null,"Population totale traitée",null,null,null,"Couverture du Programme (%)"]
["Pays","Région/Département","District",null,null,"EAPréS","EAS","Adultes","Total","EAPréS","EAS","Adultes","Total","PreSAC","SAC","Adults","Total","EAPréS","EAS","Adultes","Total","EAPréS","EAS","Adultes","Total"]
[]
[]
[{"$f":"IF(COUNTRY_INFO!A10=0,\" \",COUNTRY_INFO!A10)","v":"Togo"},{"$f":"IF(COUNTRY_INFO!B10=0,\" \",COUNTRY_INFO!B10)","v":"CENTRALE"},{"$f":"IF(COUNTRY_INFO!C10=0,\" \",COUNTRY_INFO!C10)","v":"BLITTA"},{"$f":"IF(OR(COUNTRY_INFO!$Z10=\"T2 (PZQ)\",COUNTRY_INFO!$AA10=\"T2 (PZQ)\"), \"T2 (PZQ)\", \" \")","v":"T2 (PZQ)"},"Août 2022",null,52091,54190,{"$f":"SUM(F10:H10)","v":106281},null,52598,53505,{"$f":"SUM(J10:L10)","v":106103},null,0,0,{"$f":"SUM(N10:P10)","v":0},{"$f":"MAX(J10,N10)","v":0},{"$f":"MAX(K10,O10)","v":52598},{"$f":"MAX(L10,P10)","v":53505},{"$f":"SUM(R10:T10)","v":106103},{"$f":"IF(F10<>0, IF(R10/F10*100=0, \"-\", R10/F10*100), \" \")","v":" "},{"$f":"IF(G10<>0, IF(S10/G10*100=0, \"-\", S10/G10*100), \" \")","v":100.97329673072124},{"$f":"IF(H10<>0, IF(T10/H10*100=0, \"-\",T10/H10*100), \" \")","v":98.735929138217386},{"$f":"IF(I10<>0, IF(U10/I10*100=0, \"-\", U10/I10*100), \" \")","v":99.832519453147782}]
[{"$f":"IF(COUNTRY_INFO!A11=0,\" \",COUNTRY_INFO!A11)","v":"Togo"},{"$f":"IF(COUNTRY_INFO!B11=0,\" \",COUNTRY_INFO!B11)","v":"CENTRALE"},{"$f":"IF(COUNTRY_INFO!C11=0,\" \",COUNTRY_INFO!C11)","v":"MÔ"},{"$f":"IF(OR(COUNTRY_INFO!$Z11=\"T2 (PZQ)\",COUNTRY_INFO!$AA11=\"T2 (PZQ)\"), \"T2 (PZQ)\", \" \")","v":"T2 (PZQ)"},"Août 2022",null,9211,0,{"$f":"SUM(F11:H11)","v":9211},null,8649,0,{"$f":"SUM(J11:L11)","v":8649},null,0,0,{"$f":"SUM(N11:P11)","v":0},{"$f":"MAX(J11,N11)","v":0},{"$f":"MAX(K11,O11)","v":8649},{"$f":"MAX(L11,P11)","v":0},{"$f":"SUM(R11:T11)","v":8649},{"$f":"IF(F11<>0, IF(R11/F11*100=0, \"-\", R11/F11*100), \" \")","v":" "},{"$f":"IF(G11<>0, IF(S11/G11*100=0, \"-\", S11/G11*100), \" \")","v":93.898599500597115},{"$f":"IF(H11<>0, IF(T11/H11*100=0, \"-\",T11/H11*100), \" \")","v":" "},{"$f":"IF(I11<>0, IF(U11/I11*100=0, \"-\", U11/I11*100), \" \")","v":93.898599500597115}]
[{"$f":"IF(COUNTRY_INFO!A12=0,\" \",COUNTRY_INFO!A12)","v":"Togo"},{"$f":"IF(COUNTRY_INFO!B12=0,\" \",COUNTRY_INFO!B12)","v":"CENTRALE"},{"$f":"IF(COUNTRY_INFO!C12=0,\" \",COUNTRY_INFO!C12)","v":"SOTOUBOUA"},{"$f":"IF(OR(COUNTRY_INFO!$Z12=\"T2 (PZQ)\",COUNTRY_INFO!$AA12=\"T2 (PZQ)\"), \"T2 (PZQ)\", \" \")","v":"T2 (PZQ)"},"Août 2022",null,27052.670400000003,1497.2328,28549.903200000004,null,26990,1420,28410,null,0,0,0,0,26990,1420,28410," ",99.768339320764426,94.841630506625279,99.509969616989792]
[{"$f":"IF(COUNTRY_INFO!A13=0,\" \",COUNTRY_INFO!A13)","v":"Togo"},{"$f":"IF(COUNTRY_INFO!B13=0,\" \",COUNTRY_INFO!B13)","v":"CENTRALE"},{"$f":"IF(COUNTRY_INFO!C13=0,\" \",COUNTRY_INFO!C13)","v":"TCHAMBA"},{"$f":"IF(OR(COUNTRY_INFO!$Z13=\"T2 (PZQ)\",COUNTRY_INFO!$AA13=\"T2 (PZQ)\"), \"T2 (PZQ)\", \" \")","v":"T2 (PZQ)"},"Août 2022",null,58050,0,58050,null,59603,0,59603,null,0,0,0,0,59603,0,59603," ",102.67527993109388," ",102.67527993109388]
[{"$f":"IF(COUNTRY_INFO!A14=0,\" \",COUNTRY_INFO!A14)","v":"Togo"},{"$f":"IF(COUNTRY_INFO!B14=0,\" \",COUNTRY_INFO!B14)","v":"CENTRALE"},{"$f":"IF(COUNTRY_INFO!C14=0,\" \",COUNTRY_INFO!C14)","v":"TCHAOUDJO"},{"$f":"IF(OR(COUNTRY_INFO!$Z14=\"T2 (PZQ)\",COUNTRY_INFO!$AA14=\"T2 (PZQ)\"), \"T2 (PZQ)\", \" \")","v":"T2 (PZQ)"},"Août 2022 et Janvier 2023",null,71765.486400000009,26230.3904,97995.876800000013,null,71308,27669,98977,null,7913,15346,23259,0,71308,27669,98977," ",99.362525884029949,105.48451463383482,101.00118824591198]
[{"$f":"IF(COUNTRY_INFO!A15=0,\" \",COUNTRY_INFO!A15)","v":"Togo"},{"$f":"IF(COUNTRY_INFO!B15=0,\" \",COUNTRY_INFO!B15)","v":"GRAND-LOME"},{"$f":"IF(COUNTRY_INFO!C15=0,\" \",COUNTRY_INFO!C15)","v":"AGOE NYIVE"},{"$f":"IF(OR(COUNTRY_INFO!$Z15=\"T2 (PZQ)\",COUNTRY_INFO!$AA15=\"T2 (PZQ)\"), \"T2 (PZQ)\", \" \")","v":"T2 (PZQ)"},"Août 2022 et Janvier 2023",null,137575.44959999999,161756.92479999998,299332.37439999997,null,140549,163095,303644,null,97776,163685,261461,0,140549,163685,304234," ",102.16139609839226,101.19195836739846,101.6375193661645]
[{"$f":"IF(COUNTRY_INFO!A16=0,\" \",COUNTRY_INFO!A16)","v":"Togo"},{"$f":"IF(COUNTRY_INFO!B16=0,\" \",COUNTRY_INFO!B16)","v":"GRAND-LOME"},{"$f":"IF(COUNTRY_INFO!C16=0,\" \",COUNTRY_INFO!C16)","v":"GOLFE"},{"$f":"IF(OR(COUNTRY_INFO!$Z16=\"T2 (PZQ)\",COUNTRY_INFO!$AA16=\"T2 (PZQ)\"), \"T2 (PZQ)\", \" \")","v":"T2 (PZQ)"},"Août 2022",null,46310,null,46310,null,47879,null,47879,null,0,0,0,0,47879,0,47879," ",103.38803714100627," ",103.38803714100627]
[{"$f":"IF(COUNTRY_INFO!A17=0,\" \",COUNTRY_INFO!A17)","v":"Togo"},{"$f":"IF(COUNTRY_INFO!B17=0,\" \",COUNTRY_INFO!B17)","v":"KARA"},{"$f":"IF(COUNTRY_INFO!C17=0,\" \",COUNTRY_INFO!C17)","v":"ASSOLI"},{"$f":"IF(OR(COUNTRY_INFO!$Z17=\"T2 (PZQ)\",COUNTRY_INFO!$AA17=\"T2 (PZQ)\"), \"T2 (PZQ)\", \" \")","v":"T2 (PZQ)"},"Août 2022 et Janvier 2023",null,14123.793599999999,4505.0208000000002,18628.814399999999,null,14216,4608,18824,null,2851,4542,7393,0,14216,4608,18824," ",100.65284443125819,102.28587623835166,101.04776179422348]
[{"$f":"IF(COUNTRY_INFO!A18=0,\" \",COUNTRY_INFO!A18)","v":"Togo"},{"$f":"IF(COUNTRY_INFO!B18=0,\" \",COUNTRY_INFO!B18)","v":"KARA"},{"$f":"IF(COUNTRY_INFO!C18=0,\" \",COUNTRY_INFO!C18)","v":"BASSAR"},{"$f":"IF(OR(COUNTRY_INFO!$Z18=\"T2 (PZQ)\",COUNTRY_INFO!$AA18=\"T2 (PZQ)\"), \"T2 (PZQ)\", \" \")","v":"T2 (PZQ)"},"Août 2022 et Janvier 2023",null,39299.030399999996,8070.2999999999984,47369.330399999992,null,38621,7505,46126,null,742,1346,2088,0,38621,7505,46126," ",98.274689240170161,92.995303768137518,97.37524176613654]
[{"$f":"IF(COUNTRY_INFO!A19=0,\" \",COUNTRY_INFO!A19)","v":"Togo"},{"$f":"IF(COUNTRY_INFO!B19=0,\" \",COUNTRY_INFO!B19)","v":"KARA"},{"$f":"IF(COUNTRY_INFO!C19=0,\" \",COUNTRY_INFO!C19)","v":"BINAH"},{"$f":"IF(OR(COUNTRY_INFO!$Z19=\"T2 (PZQ)\",COUNTRY_INFO!$AA19=\"T2 (PZQ)\"), \"T2 (PZQ)\", \" \")","v":"T2 (PZQ)"},"Août 2022",null,24975.6296,18651.721600000001,43627.351200000005,null,23287,16045,39332,null,null,null,0,0,23287,16045,39332," ",93.238890762537579,86.024230599710421,90.154453383362849]
[{"$f":"IF(COUNTRY_INFO!A20=0,\" \",COUNTRY_INFO!A20)","v":"Togo"},{"$f":"IF(COUNTRY_INFO!B20=0,\" \",COUNTRY_INFO!B20)","v":"KARA"},{"$f":"IF(COUNTRY_INFO!C20=0,\" \",COUNTRY_INFO!C20)","v":"DANKPEN"},{"$f":"IF(OR(COUNTRY_INFO!$Z20=\"T2 (PZQ)\",COUNTRY_INFO!$AA20=\"T2 (PZQ)\"), \"T2 (PZQ)\", \" \")","v":"T2 (PZQ)"},"Août 2022",null,19997.947199999995,0,19997.947199999995,null,20080,0,20080,null,0,0,0,0,20080,0,20080," ",100.41030611381953," ",100.41030611381953]
[{"$f":"IF(COUNTRY_INFO!A21=0,\" \",COUNTRY_INFO!A21)","v":"Togo"},{"$f":"IF(COUNTRY_INFO!B21=0,\" \",COUNTRY_INFO!B21)","v":"KARA"},{"$f":"IF(COUNTRY_INFO!C21=0,\" \",COUNTRY_INFO!C21)","v":"DOUFELGOU"},{"$f":"IF(OR(COUNTRY_INFO!$Z21=\"T2 (PZQ)\",COUNTRY_INFO!$AA21=\"T2 (PZQ)\"), \"T2 (PZQ)\", \" \")","v":"T2 (PZQ)"},"Août 2022 et Janvier 2023",null,25158.603199999998,13813.019199999999,38971.622399999993,null,25457,14067,39524,null,22798,11642,34440,0,25457,14067,39524," ",101.18606266662691,101.83870590725017,101.41738415283426]
[{"$f":"IF(COUNTRY_INFO!A22=0,\" \",COUNTRY_INFO!A22)","v":"Togo"},{"$f":"IF(COUNTRY_INFO!B22=0,\" \",COUNTRY_INFO!B22)","v":"KARA"},{"$f":"IF(COUNTRY_INFO!C22=0,\" \",COUNTRY_INFO!C22)","v":"KERAN"},{"$f":"IF(OR(COUNTRY_INFO!$Z22=\"T2 (PZQ)\",COUNTRY_INFO!$AA22=\"T2 (PZQ)\"), \"T2 (PZQ)\", \" \")","v":"T2 (PZQ)"},"Août 2022",null,41213.575796799996,17532.7696,58746.345396799996,null,41615,17808,59423,null,0,0,0,0,41615,17808,59423," ",100.97400964473258,101.56980560561293,101.15182416647295]
[{"$f":"IF(COUNTRY_INFO!A23=0,\" \",COUNTRY_INFO!A23)","v":"Togo"},{"$f":"IF(COUNTRY_INFO!B23=0,\" \",COUNTRY_INFO!B23)","v":"KARA"},{"$f":"IF(COUNTRY_INFO!C23=0,\" \",COUNTRY_INFO!C23)","v":"KOZAH"},{"$f":"IF(OR(COUNTRY_INFO!$Z23=\"T2 (PZQ)\",COUNTRY_INFO!$AA23=\"T2 (PZQ)\"), \"T2 (PZQ)\", \" \")","v":"T2 (PZQ)"},"Août 2022 et Janvier 2023",null,87442.084799999982,53271.268200000006,140713.353,null,87470,49594,137064,null,10329,23162,33491,0,87470,49594,137064," ",100.03192421596975,93.09708906085325,97.406533976914048]
[{"$f":"IF(COUNTRY_INFO!A24=0,\" \",COUNTRY_INFO!A24)","v":"Togo"},{"$f":"IF(COUNTRY_INFO!B24=0,\" \",COUNTRY_INFO!B24)","v":"MARITIME"},{"$f":"IF(COUNTRY_INFO!C24=0,\" \",COUNTRY_INFO!C24)","v":"AVE"},{"$f":"IF(OR(COUNTRY_INFO!$Z24=\"T2 (PZQ)\",COUNTRY_INFO!$AA24=\"T2 (PZQ)\"), \"T2 (PZQ)\", \" \")","v":"T2 (PZQ)"},"Août 2022",null,38600.116800000003,5915.1455999999998,44515.262400000007,null,37144,5160,42304,null,0,0,0,0,37144,5160,42304," ",96.227688098601803,87.233693791070849,95.03257471531829]
[{"$f":"IF(COUNTRY_INFO!A25=0,\" \",COUNTRY_INFO!A25)","v":"Togo"},{"$f":"IF(COUNTRY_INFO!B25=0,\" \",COUNTRY_INFO!B25)","v":"MARITIME"},{"$f":"IF(COUNTRY_INFO!C25=0,\" \",COUNTRY_INFO!C25)","v":"BAS-MONO"},{"$f":"IF(OR(COUNTRY_INFO!$Z25=\"T2 (PZQ)\",COUNTRY_INFO!$AA25=\"T2 (PZQ)\"), \"T2 (PZQ)\", \" \")","v":"T2 (PZQ)"},"Août 2022",null,23360.845600000001,0,23360.845600000001,null,20706,0,20706,null,0,0,0,0,20706,0,20706," ",88.635490146812145," ",88.635490146812145]
[{"$f":"IF(COUNTRY_INFO!A26=0,\" \",COUNTRY_INFO!A26)","v":"Togo"},{"$f":"IF(COUNTRY_INFO!B26=0,\" \",COUNTRY_INFO!B26)","v":"MARITIME"},{"$f":"IF(COUNTRY_INFO!C26=0,\" \",COUNTRY_INFO!C26)","v":"LACS"},{"$f":"IF(OR(COUNTRY_INFO!$Z26=\"T2 (PZQ)\",COUNTRY_INFO!$AA26=\"T2 (PZQ)\"), \"T2 (PZQ)\", \" \")","v":"T2 (PZQ)"},"Août 2022",null,43921,31524,75445,null,42082,29659,71741,null,0,0,0,0,42082,29659,71741," ",95.812936863914757,94.083872604999357,95.090463251375184]
[{"$f":"IF(COUNTRY_INFO!A27=0,\" \",COUNTRY_INFO!A27)","v":"Togo"},{"$f":"IF(COUNTRY_INFO!B27=0,\" \",COUNTRY_INFO!B27)","v":"MARITIME"},{"$f":"IF(COUNTRY_INFO!C27=0,\" \",COUNTRY_INFO!C27)","v":"VO"},{"$f":"IF(OR(COUNTRY_INFO!$Z27=\"T2 (PZQ)\",COUNTRY_INFO!$AA27=\"T2 (PZQ)\"), \"T2 (PZQ)\", \" \")","v":"T2 (PZQ)"},"Août 2022",null,57418.51920000001,30326.9064,87745.425600000017,null,52135,28563,80698,null,0,0,0,0,52135,28563,80698," ",90.798231522487598,94.183691614519574,91.968327064562089]
[{"$f":"IF(COUNTRY_INFO!A28=0,\" \",COUNTRY_INFO!A28)","v":"Togo"},{"$f":"IF(COUNTRY_INFO!B28=0,\" \",COUNTRY_INFO!B28)","v":"MARITIME"},{"$f":"IF(COUNTRY_INFO!C28=0,\" \",COUNTRY_INFO!C28)","v":"YOTO"},{"$f":"IF(OR(COUNTRY_INFO!$Z28=\"T2 (PZQ)\",COUNTRY_INFO!$AA28=\"T2 (PZQ)\"), \"T2 (PZQ)\", \" \")","v":"T2 (PZQ)"},"Août 2022",null,67041,434,67475,null,65911,849,66760,null,0,0,0,0,65911,849,66760," ",98.314464283050668,195.62211981566819,98.940348277139677]
[{"$f":"IF(COUNTRY_INFO!A29=0,\" \",COUNTRY_INFO!A29)","v":"Togo"},{"$f":"IF(COUNTRY_INFO!B29=0,\" \",COUNTRY_INFO!B29)","v":"MARITIME"},{"$f":"IF(COUNTRY_INFO!C29=0,\" \",COUNTRY_INFO!C29)","v":"ZIO"},{"$f":"IF(OR(COUNTRY_INFO!$Z29=\"T2 (PZQ)\",COUNTRY_INFO!$AA29=\"T2 (PZQ)\"), \"T2 (PZQ)\", \" \")","v":"T2 (PZQ)"},"Août 2022 et Janvier 2023",null,132055,35955,168010,null,108631,29254,137885,null,10616,18684,29300,0,108631,29254,137885," ",82.261936314414456,81.36281462939786,82.069519671448134]
[{"$f":"IF(COUNTRY_INFO!A30=0,\" \",COUNTRY_INFO!A30)","v":"Togo"},{"$f":"IF(COUNTRY_INFO!B30=0,\" \",COUNTRY_INFO!B30)","v":"PLATEAUX"},{"$f":"IF(COUNTRY_INFO!C30=0,\" \",COUNTRY_INFO!C30)","v":"AGOU"},{"$f":"IF(OR(COUNTRY_INFO!$Z30=\"T2 (PZQ)\",COUNTRY_INFO!$AA30=\"T2 (PZQ)\"), \"T2 (PZQ)\", \" \")","v":"T2 (PZQ)"},"Août 2022 et Janvier 2023",null,27476.180800000002,14777.590399999999,42253.771200000003,null,27292,17967,45259,null,6016,10862,16878,0,27292,17967,45259," ",99.329671029097312,121.5827446401546,107.11233273303662]
[{"$f":"IF(COUNTRY_INFO!A31=0,\" \",COUNTRY_INFO!A31)","v":"Togo"},{"$f":"IF(COUNTRY_INFO!B31=0,\" \",COUNTRY_INFO!B31)","v":"PLATEAUX"},{"$f":"IF(COUNTRY_INFO!C31=0,\" \",COUNTRY_INFO!C31)","v":"AKEBOU"},{"$f":"IF(OR(COUNTRY_INFO!$Z31=\"T2 (PZQ)\",COUNTRY_INFO!$AA31=\"T2 (PZQ)\"), \"T2 (PZQ)\", \" \")","v":"T2 (PZQ)"},"Août 2022",null,20321.784,4329.7799999999988,24651.563999999998,null,20511,4202,24713,null,0,0,0,0,20511,4202,24713," ",100.93109935623762,97.048810794081945,100.24921745330235]
[{"$f":"IF(COUNTRY_INFO!A32=0,\" \",COUNTRY_INFO!A32)","v":"Togo"},{"$f":"IF(COUNTRY_INFO!B32=0,\" \",COUNTRY_INFO!B32)","v":"PLATEAUX"},{"$f":"IF(COUNTRY_INFO!C32=0,\" \",COUNTRY_INFO!C32)","v":"AMOU"},{"$f":"IF(OR(COUNTRY_INFO!$Z32=\"T2 (PZQ)\",COUNTRY_INFO!$AA32=\"T2 (PZQ)\"), \"T2 (PZQ)\", \" \")","v":"T2 (PZQ)"},"Août 2022 et Janvier 2023",null,39197.887999999992,33693.803199999995,72891.691199999987,null,39206,33538,72744,null,266,603,869,0,39206,33538,72744," ",100.02069499254655,99.537590936009281,99.797382667943936]
[{"$f":"IF(COUNTRY_INFO!A33=0,\" \",COUNTRY_INFO!A33)","v":"Togo"},{"$f":"IF(COUNTRY_INFO!B33=0,\" \",COUNTRY_INFO!B33)","v":"PLATEAUX"},{"$f":"IF(COUNTRY_INFO!C33=0,\" \",COUNTRY_INFO!C33)","v":"ANIE"},{"$f":"IF(OR(COUNTRY_INFO!$Z33=\"T2 (PZQ)\",COUNTRY_INFO!$AA33=\"T2 (PZQ)\"), \"T2 (PZQ)\", \" \")","v":"T2 (PZQ)"},"Août 2022 et Janvier 2023",null,52985.628565760002,66843.367679039991,119828.99624479999,null,52572,63898,116470,null,30264,52000,82264,0,52572,63898,116470," ",99.219357065384912,95.593627638298102,97.196841874617846]
[{"$f":"IF(COUNTRY_INFO!A34=0,\" \",COUNTRY_INFO!A34)","v":"Togo"},{"$f":"IF(COUNTRY_INFO!B34=0,\" \",COUNTRY_INFO!B34)","v":"PLATEAUX"},{"$f":"IF(COUNTRY_INFO!C34=0,\" \",COUNTRY_INFO!C34)","v":"DANYI"},{"$f":"IF(OR(COUNTRY_INFO!$Z34=\"T2 (PZQ)\",COUNTRY_INFO!$AA34=\"T2 (PZQ)\"), \"T2 (PZQ)\", \" \")","v":"T2 (PZQ)"},"Août 2022",null,13455.764800000001,0,13455.764800000001,null,13311,0,13311,null,0,0,0,0,13311,0,13311," ",98.92414290713522," ",98.92414290713522]
[{"$f":"IF(COUNTRY_INFO!A35=0,\" \",COUNTRY_INFO!A35)","v":"Togo"},{"$f":"IF(COUNTRY_INFO!B35=0,\" \",COUNTRY_INFO!B35)","v":"PLATEAUX"},{"$f":"IF(COUNTRY_INFO!C35=0,\" \",COUNTRY_INFO!C35)","v":"EST-MONO"},{"$f":"IF(OR(COUNTRY_INFO!$Z35=\"T2 (PZQ)\",COUNTRY_INFO!$AA35=\"T2 (PZQ)\"), \"T2 (PZQ)\", \" \")","v":"T2 (PZQ)"},"Août 2022 et Janvier 2023",null,48902.8024,36139.563200000004,85042.365600000005,null,47332,36406,83738,null,11993,18255,30248,0,47332,36406,83738," ",96.787909234420482,100.73724410703446,98.466216701761169]
[{"$f":"IF(COUNTRY_INFO!A36=0,\" \",COUNTRY_INFO!A36)","v":"Togo"},{"$f":"IF(COUNTRY_INFO!B36=0,\" \",COUNTRY_INFO!B36)","v":"PLATEAUX"},{"$f":"IF(COUNTRY_INFO!C36=0,\" \",COUNTRY_INFO!C36)","v":"HAHO"},{"$f":"IF(OR(COUNTRY_INFO!$Z36=\"T2 (PZQ)\",COUNTRY_INFO!$AA36=\"T2 (PZQ)\"), \"T2 (PZQ)\", \" \")","v":"T2 (PZQ)"},"Août 2022 et Janvier 2023",null,98813.08600000001,113277.8768,212090.96280000001,null,97208,110729,207937,null,13373,20664,34037,0,97208,110729,207937," ",98.375634174607185,97.7498900297185,98.041423950761569]
[{"$f":"IF(COUNTRY_INFO!A37=0,\" \",COUNTRY_INFO!A37)","v":"Togo"},{"$f":"IF(COUNTRY_INFO!B37=0,\" \",COUNTRY_INFO!B37)","v":"PLATEAUX"},{"$f":"IF(COUNTRY_INFO!C37=0,\" \",COUNTRY_INFO!C37)","v":"KLOTO"},{"$f":"IF(OR(COUNTRY_INFO!$Z37=\"T2 (PZQ)\",COUNTRY_INFO!$AA37=\"T2 (PZQ)\"), \"T2 (PZQ)\", \" \")","v":"T2 (PZQ)"},"Août 2022",null,35848.186399999991,2409.3047999999999,38257.491199999989,null,37137,2338,39475,null,0,0,0,0,37137,2338,39475," ",103.59519889128899,97.040440877385052,103.18240627341504]
[{"$f":"IF(COUNTRY_INFO!A38=0,\" \",COUNTRY_INFO!A38)","v":"Togo"},{"$f":"IF(COUNTRY_INFO!B38=0,\" \",COUNTRY_INFO!B38)","v":"PLATEAUX"},{"$f":"IF(COUNTRY_INFO!C38=0,\" \",COUNTRY_INFO!C38)","v":"KPELE"},{"$f":"IF(OR(COUNTRY_INFO!$Z38=\"T2 (PZQ)\",COUNTRY_INFO!$AA38=\"T2 (PZQ)\"), \"T2 (PZQ)\", \" \")","v":"T2 (PZQ)"},"Août 2022",null,24576,4949,29525,null,24563,4540,29103,null,0,0,0,0,24563,4540,29103," ",99.947102864583343,91.73570418266317,98.570702794242166]
[{"$f":"IF(COUNTRY_INFO!A39=0,\" \",COUNTRY_INFO!A39)","v":"Togo"},{"$f":"IF(COUNTRY_INFO!B39=0,\" \",COUNTRY_INFO!B39)","v":"PLATEAUX"},{"$f":"IF(COUNTRY_INFO!C39=0,\" \",COUNTRY_INFO!C39)","v":"MOYEN-MONO"},{"$f":"IF(OR(COUNTRY_INFO!$Z39=\"T2 (PZQ)\",COUNTRY_INFO!$AA39=\"T2 (PZQ)\"), \"T2 (PZQ)\", \" \")","v":"T2 (PZQ)"},"Août 2022",null,29833.977599999998,19204.752,49038.729599999999,null,29892,18499,48391,null,0,0,0,0,29892,18499,48391," ",100.19448429162863,96.32511786666133,98.679146859465135]
[{"$f":"IF(COUNTRY_INFO!A40=0,\" \",COUNTRY_INFO!A40)","v":"Togo"},{"$f":"IF(COUNTRY_INFO!B40=0,\" \",COUNTRY_INFO!B40)","v":"PLATEAUX"},{"$f":"IF(COUNTRY_INFO!C40=0,\" \",COUNTRY_INFO!C40)","v":"OGOU"},{"$f":"IF(OR(COUNTRY_INFO!$Z40=\"T2 (PZQ)\",COUNTRY_INFO!$AA40=\"T2 (PZQ)\"), \"T2 (PZQ)\", \" \")","v":"T2 (PZQ)"},"Août 2022 et Janvier 2023",null,72815.114399999991,86540.260799999989,159355.37519999998,null,73500,95323,168823,null,60907,72177,133084,0,73500,95323,168823," ",100.94058164385717,110.14873206853106,105.94120203859933]
[{"$f":"IF(COUNTRY_INFO!A41=0,\" \",COUNTRY_INFO!A41)","v":"Togo"},{"$f":"IF(COUNTRY_INFO!B41=0,\" \",COUNTRY_INFO!B41)","v":"PLATEAUX"},{"$f":"IF(COUNTRY_INFO!C41=0,\" \",COUNTRY_INFO!C41)","v":"WAWA"},{"$f":"IF(OR(COUNTRY_INFO!$Z41=\"T2 (PZQ)\",COUNTRY_INFO!$AA41=\"T2 (PZQ)\"), \"T2 (PZQ)\", \" \")","v":"T2 (PZQ)"},"Août 2022 et Janvier 2023",null,33604.4476,12242,45846.4476,null,33178,11886,45064,null,7557,8827,16384,0,33178,11886,45064," ",98.730978693427474,97.091978434896248,98.293329928576625]
[{"$f":"IF(COUNTRY_INFO!A42=0,\" \",COUNTRY_INFO!A42)","v":"Togo"},{"$f":"IF(COUNTRY_INFO!B42=0,\" \",COUNTRY_INFO!B42)","v":"SAVANES"},{"$f":"IF(COUNTRY_INFO!C42=0,\" \",COUNTRY_INFO!C42)","v":"CINKASSE"},{"$f":"IF(OR(COUNTRY_INFO!$Z42=\"T2 (PZQ)\",COUNTRY_INFO!$AA42=\"T2 (PZQ)\"), \"T2 (PZQ)\", \" \")","v":"T2 (PZQ)"},"Août 2022 et Janvier 2023",null,28910,30984,59894,null,29310,30770,60080,null,14040,25480,39520,0,29310,30770,60080," ",101.38360428917331,99.309320939839921,100.31054863592345]
[{"$f":"IF(COUNTRY_INFO!A43=0,\" \",COUNTRY_INFO!A43)","v":"Togo"},{"$f":"IF(COUNTRY_INFO!B43=0,\" \",COUNTRY_INFO!B43)","v":"SAVANES"},{"$f":"IF(COUNTRY_INFO!C43=0,\" \",COUNTRY_INFO!C43)","v":"KPENDJAL"},{"$f":"IF(OR(COUNTRY_INFO!$Z43=\"T2 (PZQ)\",COUNTRY_INFO!$AA43=\"T2 (PZQ)\"), \"T2 (PZQ)\", \" \")","v":"T2 (PZQ)"},"Août 2022 et Janvier 2023",null,26459,9003,35462,null,28221,8361,36582,null,5918,8324,14242,0,28221,8361,36582," ",106.65935976416343,92.869043652115963,103.15831030398736]
[{"$f":"IF(COUNTRY_INFO!A44=0,\" \",COUNTRY_INFO!A44)","v":"Togo"},{"$f":"IF(COUNTRY_INFO!B44=0,\" \",COUNTRY_INFO!B44)","v":"SAVANES"},{"$f":"IF(COUNTRY_INFO!C44=0,\" \",COUNTRY_INFO!C44)","v":"KPENDJAL-OUEST"},{"$f":"IF(OR(COUNTRY_INFO!$Z44=\"T2 (PZQ)\",COUNTRY_INFO!$AA44=\"T2 (PZQ)\"), \"T2 (PZQ)\", \" \")","v":"T2 (PZQ)"},"Août 2022 et Janvier 2023",null,42327.883199999997,14800.063999999998,57127.947199999995,null,42473,13673,56146,null,1858,2737,4595,0,42473,13673,56146," ",100.34283972887168,92.384735633575644,98.281143909193375]
[{"$f":"IF(COUNTRY_INFO!A45=0,\" \",COUNTRY_INFO!A45)","v":"Togo"},{"$f":"IF(COUNTRY_INFO!B45=0,\" \",COUNTRY_INFO!B45)","v":"SAVANES"},{"$f":"IF(COUNTRY_INFO!C45=0,\" \",COUNTRY_INFO!C45)","v":"OTI"},{"$f":"IF(OR(COUNTRY_INFO!$Z45=\"T2 (PZQ)\",COUNTRY_INFO!$AA45=\"T2 (PZQ)\"), \"T2 (PZQ)\", \" \")","v":"T2 (PZQ)"},"Août 2022",null,40593.292000000001,4116,44709.292000000001,null,40506,4245,44751,null,0,0,0,0,40506,4245,44751," ",99.784959544547405,103.13411078717201,100.09328709566682]
[{"$f":"IF(COUNTRY_INFO!A46=0,\" \",COUNTRY_INFO!A46)","v":"Togo"},{"$f":"IF(COUNTRY_INFO!B46=0,\" \",COUNTRY_INFO!B46)","v":"SAVANES"},{"$f":"IF(COUNTRY_INFO!C46=0,\" \",COUNTRY_INFO!C46)","v":"OTI-SUD"},{"$f":"IF(OR(COUNTRY_INFO!$Z46=\"T2 (PZQ)\",COUNTRY_INFO!$AA46=\"T2 (PZQ)\"), \"T2 (PZQ)\", \" \")","v":"T2 (PZQ)"},"Août 2022",null,41004.297599999998,23468.944799999997,64473.242399999996,null,42104,22576.48,64680.479999999996,null,0,0,0,0,42104,22576.48,64680.479999999996," ",102.68191985807849,96.197252123580782,100.32143194957416]
[{"$f":"IF(COUNTRY_INFO!A47=0,\" \",COUNTRY_INFO!A47)","v":"Togo"},{"$f":"IF(COUNTRY_INFO!B47=0,\" \",COUNTRY_INFO!B47)","v":"SAVANES"},{"$f":"IF(COUNTRY_INFO!C47=0,\" \",COUNTRY_INFO!C47)","v":"TANDJOUARE"},{"$f":"IF(OR(COUNTRY_INFO!$Z47=\"T2 (PZQ)\",COUNTRY_INFO!$AA47=\"T2 (PZQ)\"), \"T2 (PZQ)\", \" \")","v":"T2 (PZQ)"},"Août 2022",null,46780.504000000001,0,46780.504000000001,null,45474,0,45474,null,0,0,0,0,45474,0,45474," ",97.207161342254878," ",97.207161342254878]
[{"$f":"IF(COUNTRY_INFO!A48=0,\" \",COUNTRY_INFO!A48)","v":"Togo"},{"$f":"IF(COUNTRY_INFO!B48=0,\" \",COUNTRY_INFO!B48)","v":"SAVANES"},{"$f":"IF(COUNTRY_INFO!C48=0,\" \",COUNTRY_INFO!C48)","v":"TONE"},{"$f":"IF(OR(COUNTRY_INFO!$Z48=\"T2 (PZQ)\",COUNTRY_INFO!$AA48=\"T2 (PZQ)\"), \"T2 (PZQ)\", \" \")","v":"T2 (PZQ)"},"Août 2022",null,102457,14129.4144,116586.41439999999,null,102612,14193,116805,null,0,0,0,0,102612,14193,116805," ",100.151282977249,100.45002289691496,100.18748805435432]

{"sheet":"T3_R1","index":8,"n_rows":48,"n_cols":17,"rows_kept":48,"cut":false,"hidden":false,"merged":[[0,5,0,7],[1,11,1,12],[1,9,1,10],[5,5,5,8],[5,9,5,12],[5,13,5,16],[3,0,3,2],[5,0,5,2],[5,3,6,3],[5,4,6,4]]}
["T 3 - Albendazole (ALB) ou Mebendazole (MBD) - Tournée 1",null,null,null,null,"Choisir le médicament utilisé pour le traitement de la STH pour chaque groupe d'âge"]
["Structure administrative, population nécessitant une CP par groupe d'âge, population traitée par groupe d'âge et couverture",null,null,null,null,null,null,null,null,"Sélectionner la catégorie d’adultes"]
[]
["TOTAL",null,null,null,null,{"$f":"SUBTOTAL(9,F$10:F$1010)","v":0},2065970,0,2065970,0,2050806,0,2050806,{"$f":"IF(F4<>0, IF(J4/F4*100=0, \"-\", J4/F4*100), \" \")","v":" "},{"$f":"IF(G4<>0, IF(K4/G4*100=0, \"-\", K4/G4*100), \" \")","v":99.266010639070274},{"$f":"IF(H4<>0, IF(L4/H4*100=0, \"-\", L4/H4*100), \" \")","v":" "},{"$f":"IF(I4<>0, IF(M4/I4*100=0, \"-\", M4/I4*100), \" \")","v":99.266010639070274}]
[]
["Structure administrative du pays",null,null,"Mise en oeuvre \nde la CP","Date","Population ciblée pour T3",null,null,null,"Population traitée",null,null,null,"Couverture du Programme (%)"]
["Pays","Région/Département","District",null,null,"EAPréS","EAS","Adultes","Total","EAPréS","EAS","Adultes","Total","EAPréS","EAS","Adultes","Total"]
[]
[]
[{"$f":"IF(COUNTRY_INFO!A10=0,\" \",COUNTRY_INFO!A10)","v":"Togo"},{"$f":"IF(COUNTRY_INFO!B10=0,\" \",COUNTRY_INFO!B10)","v":"CENTRALE"},{"$f":"IF(COUNTRY_INFO!C10=0,\" \",COUNTRY_INFO!C10)","v":"BLITTA"},"T3 (ALB/MBD)","Août 2022",null,52013,null,{"$f":"SUM(F10:H10)","v":52013},null,52601,null,{"$f":"SUM(J10:L10)","v":52601},{"$f":"IF(F10<>0, IF(J10/F10*100=0, \"-\", J10/F10*100), \" \")","v":" "},101.13048660911694," ",101.13048660911694]
[{"$f":"IF(COUNTRY_INFO!A11=0,\" \",COUNTRY_INFO!A11)","v":"Togo"},{"$f":"IF(COUNTRY_INFO!B11=0,\" \",COUNTRY_INFO!B11)","v":"CENTRALE"},{"$f":"IF(COUNTRY_INFO!C11=0,\" \",COUNTRY_INFO!C11)","v":"MÔ"},"T3 (ALB/MBD)","Août 2022",null,15323,null,{"$f":"SUM(F11:H11)","v":15323},null,14768,null,{"$f":"SUM(J11:L11)","v":14768},{"$f":"IF(F11<>0, IF(J11/F11*100=0, \"-\", J11/F11*100), \" \")","v":" "},{"$f":"IF(G11<>0, IF(K11/G11*100=0, \"-\", K11/G11*100), \" \")","v":96.377993865431051},{"$f":"IF(H11<>0, IF(L11/H11*100=0, \"-\", L11/H11*100), \" \")","v":" "},{"$f":"IF(I11<>0, IF(M11/I11*100=0, \"-\", M11/I11*100), \" \")","v":96.377993865431051}]
[{"$f":"IF(COUNTRY_INFO!A12=0,\" \",COUNTRY_INFO!A12)","v":"Togo"},{"$f":"IF(COUNTRY_INFO!B12=0,\" \",COUNTRY_INFO!B12)","v":"CENTRALE"},{"$f":"IF(COUNTRY_INFO!C12=0,\" \",COUNTRY_INFO!C12)","v":"SOTOUBOUA"},"T3 (ALB/MBD)","Août 2022",null,40709,null,40709,null,40605,null,40605," ",99.744528236999187," ",99.744528236999187]
[{"$f":"IF(COUNTRY_INFO!A13=0,\" \",COUNTRY_INFO!A13)","v":"Togo"},{"$f":"IF(COUNTRY_INFO!B13=0,\" \",COUNTRY_INFO!B13)","v":"CENTRALE"},{"$f":"IF(COUNTRY_INFO!C13=0,\" \",COUNTRY_INFO!C13)","v":"TCHAMBA"},"T3 (ALB/MBD)","Août 2022",null,59428,null,59428,null,59603,null,59603," ",100.29447398532679," ",100.29447398532679]
[{"$f":"IF(COUNTRY_INFO!A14=0,\" \",COUNTRY_INFO!A14)","v":"Togo"},{"$f":"IF(COUNTRY_INFO!B14=0,\" \",COUNTRY_INFO!B14)","v":"CENTRALE"},{"$f":"IF(COUNTRY_INFO!C14=0,\" \",COUNTRY_INFO!C14)","v":"TCHAOUDJO"},"T3 (ALB/MBD)","Août 2022",null,88437,null,88437,null,72029,null,72029," ",81.446679557198905," ",81.446679557198905]
[{"$f":"IF(COUNTRY_INFO!A15=0,\" \",COUNTRY_INFO!A15)","v":"Togo"},{"$f":"IF(COUNTRY_INFO!B15=0,\" \",COUNTRY_INFO!B15)","v":"GRAND-LOME"},{"$f":"IF(COUNTRY_INFO!C15=0,\" \",COUNTRY_INFO!C15)","v":"AGOE NYIVE"},"T3 (ALB/MBD)","Août 2022",null,164012,null,164012,null,167519,null,167519," ",102.13825817623101," ",102.13825817623101]
[{"$f":"IF(COUNTRY_INFO!A16=0,\" \",COUNTRY_INFO!A16)","v":"Togo"},{"$f":"IF(COUNTRY_INFO!B16=0,\" \",COUNTRY_INFO!B16)","v":"GRAND-LOME"},{"$f":"IF(COUNTRY_INFO!C16=0,\" \",COUNTRY_INFO!C16)","v":"GOLFE"},"T3 (ALB/MBD)","Août 2022",null,64799,null,64799,null,68863,null,68863," ",106.27170172379203," ",106.27170172379203]
[{"$f":"IF(COUNTRY_INFO!A17=0,\" \",COUNTRY_INFO!A17)","v":"Togo"},{"$f":"IF(COUNTRY_INFO!B17=0,\" \",COUNTRY_INFO!B17)","v":"KARA"},{"$f":"IF(COUNTRY_INFO!C17=0,\" \",COUNTRY_INFO!C17)","v":"ASSOLI"},"T3 (ALB/MBD)","Août 2022",null,20025,null,20025,null,20246,null,20246," ",101.10362047440699," ",101.10362047440699]
[{"$f":"IF(COUNTRY_INFO!A18=0,\" \",COUNTRY_INFO!A18)","v":"Togo"},{"$f":"IF(COUNTRY_INFO!B18=0,\" \",COUNTRY_INFO!B18)","v":"KARA"},{"$f":"IF(COUNTRY_INFO!C18=0,\" \",COUNTRY_INFO!C18)","v":"BASSAR"},"T3 (ALB/MBD)","Août 2022",null,49146,null,49146,null,48295,null,48295," ",98.268424693769589," ",98.268424693769589]
[{"$f":"IF(COUNTRY_INFO!A19=0,\" \",COUNTRY_INFO!A19)","v":"Togo"},{"$f":"IF(COUNTRY_INFO!B19=0,\" \",COUNTRY_INFO!B19)","v":"KARA"},{"$f":"IF(COUNTRY_INFO!C19=0,\" \",COUNTRY_INFO!C19)","v":"BINAH"},"T3 (ALB/MBD)","Août 2022",null,24009,null,24009,null,23287,null,23287," ",96.992794368778377," ",96.992794368778377]
[{"$f":"IF(COUNTRY_INFO!A20=0,\" \",COUNTRY_INFO!A20)","v":"Togo"},{"$f":"IF(COUNTRY_INFO!B20=0,\" \",COUNTRY_INFO!B20)","v":"KARA"},{"$f":"IF(COUNTRY_INFO!C20=0,\" \",COUNTRY_INFO!C20)","v":"DANKPEN"},"T3 (ALB/MBD)","Août 2022",null,53446,null,53446,null,57143,null,57143," ",106.91726228342627," ",106.91726228342627]
[{"$f":"IF(COUNTRY_INFO!A21=0,\" \",COUNTRY_INFO!A21)","v":"Togo"},{"$f":"IF(COUNTRY_INFO!B21=0,\" \",COUNTRY_INFO!B21)","v":"KARA"},{"$f":"IF(COUNTRY_INFO!C21=0,\" \",COUNTRY_INFO!C21)","v":"DOUFELGOU"},"T3 (ALB/MBD)","Août 2022",null,27822,null,27822,null,28547,null,28547," ",102.60585148443677," ",102.60585148443677]
[{"$f":"IF(COUNTRY_INFO!A22=0,\" \",COUNTRY_INFO!A22)","v":"Togo"},{"$f":"IF(COUNTRY_INFO!B22=0,\" \",COUNTRY_INFO!B22)","v":"KARA"},{"$f":"IF(COUNTRY_INFO!C22=0,\" \",COUNTRY_INFO!C22)","v":"KERAN"},"T3 (ALB/MBD)","Août 2022",null,41213,null,41213,null,41615,null,41615," ",100.97542037706549," ",100.97542037706549]
[{"$f":"IF(COUNTRY_INFO!A23=0,\" \",COUNTRY_INFO!A23)","v":"Togo"},{"$f":"IF(COUNTRY_INFO!B23=0,\" \",COUNTRY_INFO!B23)","v":"KARA"},{"$f":"IF(COUNTRY_INFO!C23=0,\" \",COUNTRY_INFO!C23)","v":"KOZAH"},"T3 (ALB/MBD)","Août 2022",null,88262,null,88262,null,88374,null,88374," ",100.12689492646891," ",100.12689492646891]
[{"$f":"IF(COUNTRY_INFO!A24=0,\" \",COUNTRY_INFO!A24)","v":"Togo"},{"$f":"IF(COUNTRY_INFO!B24=0,\" \",COUNTRY_INFO!B24)","v":"MARITIME"},{"$f":"IF(COUNTRY_INFO!C24=0,\" \",COUNTRY_INFO!C24)","v":"AVE"},"T3 (ALB/MBD)","Août 2022",null,43677,null,43677,null,43017,null,43017," ",98.488907205165191," ",98.488907205165191]
[{"$f":"IF(COUNTRY_INFO!A25=0,\" \",COUNTRY_INFO!A25)","v":"Togo"},{"$f":"IF(COUNTRY_INFO!B25=0,\" \",COUNTRY_INFO!B25)","v":"MARITIME"},{"$f":"IF(COUNTRY_INFO!C25=0,\" \",COUNTRY_INFO!C25)","v":"BAS-MONO"},"T3 (ALB/MBD)","Août 2022",null,34637,null,34637,null,32964,null,32964," ",95.16990501486849," ",95.16990501486849]
[{"$f":"IF(COUNTRY_INFO!A26=0,\" \",COUNTRY_INFO!A26)","v":"Togo"},{"$f":"IF(COUNTRY_INFO!B26=0,\" \",COUNTRY_INFO!B26)","v":"MARITIME"},{"$f":"IF(COUNTRY_INFO!C26=0,\" \",COUNTRY_INFO!C26)","v":"LACS"},"T3 (ALB/MBD)","Août 2022",null,58588,null,58588,null,58588,null,58588," ",100," ",100]
[{"$f":"IF(COUNTRY_INFO!A27=0,\" \",COUNTRY_INFO!A27)","v":"Togo"},{"$f":"IF(COUNTRY_INFO!B27=0,\" \",COUNTRY_INFO!B27)","v":"MARITIME"},{"$f":"IF(COUNTRY_INFO!C27=0,\" \",COUNTRY_INFO!C27)","v":"VO"},"T3 (ALB/MBD)","Août 2022",null,68656,null,68656,null,64867,null,64867," ",94.48118154276392," ",94.48118154276392]
[{"$f":"IF(COUNTRY_INFO!A28=0,\" \",COUNTRY_INFO!A28)","v":"Togo"},{"$f":"IF(COUNTRY_INFO!B28=0,\" \",COUNTRY_INFO!B28)","v":"MARITIME"},{"$f":"IF(COUNTRY_INFO!C28=0,\" \",COUNTRY_INFO!C28)","v":"YOTO"},"T3 (ALB/MBD)","Août 2022",null,74259,null,74259,null,85314,null,85314," ",114.88708439381085," ",114.88708439381085]
[{"$f":"IF(COUNTRY_INFO!A29=0,\" \",COUNTRY_INFO!A29)","v":"Togo"},{"$f":"IF(COUNTRY_INFO!B29=0,\" \",COUNTRY_INFO!B29)","v":"MARITIME"},{"$f":"IF(COUNTRY_INFO!C29=0,\" \",COUNTRY_INFO!C29)","v":"ZIO"},"T3 (ALB/MBD)","Août 2022",null,159653,null,159653,null,135136,null,135136," ",84.643570744051161," ",84.643570744051161]
[{"$f":"IF(COUNTRY_INFO!A30=0,\" \",COUNTRY_INFO!A30)","v":"Togo"},{"$f":"IF(COUNTRY_INFO!B30=0,\" \",COUNTRY_INFO!B30)","v":"PLATEAUX"},{"$f":"IF(COUNTRY_INFO!C30=0,\" \",COUNTRY_INFO!C30)","v":"AGOU"},"T3 (ALB/MBD)","Août 2022",null,34705,null,34705,null,34497,null,34497," ",99.400662728713442," ",99.400662728713442]
[{"$f":"IF(COUNTRY_INFO!A31=0,\" \",COUNTRY_INFO!A31)","v":"Togo"},{"$f":"IF(COUNTRY_INFO!B31=0,\" \",COUNTRY_INFO!B31)","v":"PLATEAUX"},{"$f":"IF(COUNTRY_INFO!C31=0,\" \",COUNTRY_INFO!C31)","v":"AKEBOU"},"T3 (ALB/MBD)","Août 2022",null,22973,null,22973,null,23159,null,23159," ",100.8096461062987," ",100.8096461062987]
[{"$f":"IF(COUNTRY_INFO!A32=0,\" \",COUNTRY_INFO!A32)","v":"Togo"},{"$f":"IF(COUNTRY_INFO!B32=0,\" \",COUNTRY_INFO!B32)","v":"PLATEAUX"},{"$f":"IF(COUNTRY_INFO!C32=0,\" \",COUNTRY_INFO!C32)","v":"AMOU"},"T3 (ALB/MBD)","Août 2022",null,38961,null,38961,null,39206,null,39206," ",100.62883396216729," ",100.62883396216729]
[{"$f":"IF(COUNTRY_INFO!A33=0,\" \",COUNTRY_INFO!A33)","v":"Togo"},{"$f":"IF(COUNTRY_INFO!B33=0,\" \",COUNTRY_INFO!B33)","v":"PLATEAUX"},{"$f":"IF(COUNTRY_INFO!C33=0,\" \",COUNTRY_INFO!C33)","v":"ANIE"},"T3 (ALB/MBD)","Août 2022",null,52986,null,52986,null,52572,null,52572," ",99.218661533235192," ",99.218661533235192]
[{"$f":"IF(COUNTRY_INFO!A34=0,\" \",COUNTRY_INFO!A34)","v":"Togo"},{"$f":"IF(COUNTRY_INFO!B34=0,\" \",COUNTRY_INFO!B34)","v":"PLATEAUX"},{"$f":"IF(COUNTRY_INFO!C34=0,\" \",COUNTRY_INFO!C34)","v":"DANYI"},{"$f":"IF(OR(COUNTRY_INFO!$Z34=\"T3 (ALB/MBD)\",COUNTRY_INFO!$AA34=\"T3 (ALB/MBD)\"), \"T3 (ALB/MBD)\", \" \")","v":" "},null,null,0,null,0,null,0,null,0," "," "," "," "]
[{"$f":"IF(COUNTRY_INFO!A35=0,\" \",COUNTRY_INFO!A35)","v":"Togo"},{"$f":"IF(COUNTRY_INFO!B35=0,\" \",COUNTRY_INFO!B35)","v":"PLATEAUX"},{"$f":"IF(COUNTRY_INFO!C35=0,\" \",COUNTRY_INFO!C35)","v":"EST-MONO"},"T3 (ALB/MBD)","Août 2022",null,48980,null,48980,null,47332,null,47332," ",96.635361371988566," ",96.635361371988566]
[{"$f":"IF(COUNTRY_INFO!A36=0,\" \",COUNTRY_INFO!A36)","v":"Togo"},{"$f":"IF(COUNTRY_INFO!B36=0,\" \",COUNTRY_INFO!B36)","v":"PLATEAUX"},{"$f":"IF(COUNTRY_INFO!C36=0,\" \",COUNTRY_INFO!C36)","v":"HAHO"},"T3 (ALB/MBD)","Août 2022",null,88814,null,88814,null,97208,null,97208," ",109.45121264665481," ",109.45121264665481]
[{"$f":"IF(COUNTRY_INFO!A37=0,\" \",COUNTRY_INFO!A37)","v":"Togo"},{"$f":"IF(COUNTRY_INFO!B37=0,\" \",COUNTRY_INFO!B37)","v":"PLATEAUX"},{"$f":"IF(COUNTRY_INFO!C37=0,\" \",COUNTRY_INFO!C37)","v":"KLOTO"},"T3 (ALB/MBD)","Août 2022",null,38426,null,38426,null,40062,null,40062," ",104.25753396138032," ",104.25753396138032]
[{"$f":"IF(COUNTRY_INFO!A38=0,\" \",COUNTRY_INFO!A38)","v":"Togo"},{"$f":"IF(COUNTRY_INFO!B38=0,\" \",COUNTRY_INFO!B38)","v":"PLATEAUX"},{"$f":"IF(COUNTRY_INFO!C38=0,\" \",COUNTRY_INFO!C38)","v":"KPELE"},"T3 (ALB/MBD)","Août 2022",null,23284,null,23284,null,24563,null,24563," ",105.49304243257171," ",105.49304243257171]
[{"$f":"IF(COUNTRY_INFO!A39=0,\" \",COUNTRY_INFO!A39)","v":"Togo"},{"$f":"IF(COUNTRY_INFO!B39=0,\" \",COUNTRY_INFO!B39)","v":"PLATEAUX"},{"$f":"IF(COUNTRY_INFO!C39=0,\" \",COUNTRY_INFO!C39)","v":"MOYEN-MONO"},"T3 (ALB/MBD)","Août 2022",null,29834,null,29834,null,29892,null,29892," ",100.19440906348463," ",100.19440906348463]
[{"$f":"IF(COUNTRY_INFO!A40=0,\" \",COUNTRY_INFO!A40)","v":"Togo"},{"$f":"IF(COUNTRY_INFO!B40=0,\" \",COUNTRY_INFO!B40)","v":"PLATEAUX"},{"$f":"IF(COUNTRY_INFO!C40=0,\" \",COUNTRY_INFO!C40)","v":"OGOU"},"T3 (ALB/MBD)","Août 2022",null,72815,null,72815,null,73500,null,73500," ",100.94074023209502," ",100.94074023209502]
[{"$f":"IF(COUNTRY_INFO!A41=0,\" \",COUNTRY_INFO!A41)","v":"Togo"},{"$f":"IF(COUNTRY_INFO!B41=0,\" \",COUNTRY_INFO!B41)","v":"PLATEAUX"},{"$f":"IF(COUNTRY_INFO!C41=0,\" \",COUNTRY_INFO!C41)","v":"WAWA"},"T3 (ALB/MBD)","Août 2022",null,40206,null,40206,null,39384,null,39384," ",97.955529025518587," ",97.955529025518587]
[{"$f":"IF(COUNTRY_INFO!A42=0,\" \",COUNTRY_INFO!A42)","v":"Togo"},{"$f":"IF(COUNTRY_INFO!B42=0,\" \",COUNTRY_INFO!B42)","v":"SAVANES"},{"$f":"IF(COUNTRY_INFO!C42=0,\" \",COUNTRY_INFO!C42)","v":"CINKASSE"},"T3 (ALB/MBD)","Août 2022",null,28910,null,28910,null,29310,null,29310," ",101.38360428917331," ",101.38360428917331]
[{"$f":"IF(COUNTRY_INFO!A43=0,\" \",COUNTRY_INFO!A43)","v":"Togo"},{"$f":"IF(COUNTRY_INFO!B43=0,\" \",COUNTRY_INFO!B43)","v":"SAVANES"},{"$f":"IF(COUNTRY_INFO!C43=0,\" \",COUNTRY_INFO!C43)","v":"KPENDJAL"},"T3 (ALB/MBD)","Août 2022",null,28392,null,28392,null,28221,null,28221," ",99.397717666948438," ",99.397717666948438]
[{"$f":"IF(COUNTRY_INFO!A44=0,\" \",COUNTRY_INFO!A44)","v":"Togo"},{"$f":"IF(COUNTRY_INFO!B44=0,\" \",COUNTRY_INFO!B44)","v":"SAVANES"},{"$f":"IF(COUNTRY_INFO!C44=0,\" \",COUNTRY_INFO!C44)","v":"KPENDJAL-OUEST"},"T3 (ALB/MBD)","Août 2022",null,42015,null,42015,null,42473,null,42473," ",101.09008687373557," ",101.09008687373557]
[{"$f":"IF(COUNTRY_INFO!A45=0,\" \",COUNTRY_INFO!A45)","v":"Togo"},{"$f":"IF(COUNTRY_INFO!B45=0,\" \",COUNTRY_INFO!B45)","v":"SAVANES"},{"$f":"IF(COUNTRY_INFO!C45=0,\" \",COUNTRY_INFO!C45)","v":"OTI"},"T3 (ALB/MBD)","Août 2022",null,41398,null,41398,null,41197,null,41197," ",99.514469298033731," ",99.514469298033731]
[{"$f":"IF(COUNTRY_INFO!A46=0,\" \",COUNTRY_INFO!A46)","v":"Togo"},{"$f":"IF(COUNTRY_INFO!B46=0,\" \",COUNTRY_INFO!B46)","v":"SAVANES"},{"$f":"IF(COUNTRY_INFO!C46=0,\" \",COUNTRY_INFO!C46)","v":"OTI-SUD"},"T3 (ALB/MBD)","Août 2022",null,48805,null,48805,null,45090,null,45090," ",92.388074992316362," ",92.388074992316362]
[{"$f":"IF(COUNTRY_INFO!A47=0,\" \",COUNTRY_INFO!A47)","v":"Togo"},{"$f":"IF(COUNTRY_INFO!B47=0,\" \",COUNTRY_INFO!B47)","v":"SAVANES"},{"$f":"IF(COUNTRY_INFO!C47=0,\" \",COUNTRY_INFO!C47)","v":"TANDJOUARE"},"T3 (ALB/MBD)","Août 2022",null,112509,null,112509,null,47026,null,47026," ",41.797545085282067," ",41.797545085282067]
[{"$f":"IF(COUNTRY_INFO!A48=0,\" \",COUNTRY_INFO!A48)","v":"Togo"},{"$f":"IF(COUNTRY_INFO!B48=0,\" \",COUNTRY_INFO!B48)","v":"SAVANES"},{"$f":"IF(COUNTRY_INFO!C48=0,\" \",COUNTRY_INFO!C48)","v":"TONE"},"T3 (ALB/MBD)","Août 2022",null,43843,null,43843,null,112733,null,112733," ",257.12884610998333," ",257.12884610998333]

{"sheet":"T3_R2","index":9,"n_rows":48,"n_cols":17,"rows_kept":48,"cut":false,"hidden":false,"merged":[[5,13,5,16],[0,5,0,7],[1,9,1,10],[1,11,1,12],[3,0,3,2],[5,0,5,2],[5,3,6,3],[5,4,6,4],[5,5,5,8],[5,9,5,12]]}
["T 3 - Albendazole (ALB) ou Mebendazole (MBD) - Tournée 2",null,null,null,null,"Choisir le médicament utilisé pour le traitement de la STH pour chaque groupe d'âge"]
["Structure administrative, population nécessitant une CP par groupe d'âge, population traitée par groupe d'âge et couverture",null,null,null,null,null,"ALB",null,null,"Sélectionner la catégorie d’adultes"]
[]
["TOTAL",null,null,null,null,{"$f":"SUBTOTAL(9,F$10:F$1010)","v":0},441553,0,441553,0,425748,0,425748,{"$f":"IF(F4<>0, IF(J4/F4*100=0, \"-\", J4/F4*100), \" \")","v":" "},{"$f":"IF(G4<>0, IF(K4/G4*100=0, \"-\", K4/G4*100), \" \")","v":96.420588241955102},{"$f":"IF(H4<>0, IF(L4/H4*100=0, \"-\", L4/H4*100), \" \")","v":" "},{"$f":"IF(I4<>0, IF(M4/I4*100=0, \"-\", M4/I4*100), \" \")","v":96.420588241955102}]
[]
["Structure administrative du pays",null,null,"Mise en oeuvre \nde la CP","Date","Population ciblée pour T3",null,null,null,"Population traitée",null,null,null,"Couverture du Programme (%)"]
["Pays","Région/Département","District",null,null,"EAPréS","EAS","Adultes","Total","EAPréS","EAS","Adultes","Total","EAPréS","EAS","Adultes","Total"]
[]
[]
[{"$f":"IF(COUNTRY_INFO!A10=0,\" \",COUNTRY_INFO!A10)","v":"Togo"},{"$f":"IF(COUNTRY_INFO!B10=0,\" \",COUNTRY_INFO!B10)","v":"CENTRALE"},{"$f":"IF(COUNTRY_INFO!C10=0,\" \",COUNTRY_INFO!C10)","v":"BLITTA"},{"$f":"IF(AND(COUNTRY_INFO!$Z10=\"T3 (ALB/MBD)\",COUNTRY_INFO!$AA10=\"T3 (ALB/MBD)\"), \"T3 (ALB/MBD)\", \" \")","v":" "},null,null,null,null,{"$f":"SUM(F10:H10)","v":0},null,null,null,{"$f":"SUM(J10:L10)","v":0},{"$f":"IF(F10<>0, IF(J10/F10*100=0, \"-\", J10/F10*100), \" \")","v":" "}," "," "," "]
[{"$f":"IF(COUNTRY_INFO!A11=0,\" \",COUNTRY_INFO!A11)","v":"Togo"},{"$f":"IF(COUNTRY_INFO!B11=0,\" \",COUNTRY_INFO!B11)","v":"CENTRALE"},{"$f":"IF(COUNTRY_INFO!C11=0,\" \",COUNTRY_INFO!C11)","v":"MÔ"},{"$f":"IF(AND(COUNTRY_INFO!$Z11=\"T3 (ALB/MBD)\",COUNTRY_INFO!$AA11=\"T3 (ALB/MBD)\"), \"T3 (ALB/MBD)\", \" \")","v":" "},null,null,null,null,{"$f":"SUM(F11:H11)","v":0},null,null,null,{"$f":"SUM(J11:L11)","v":0},{"$f":"IF(F11<>0, IF(J11/F11*100=0, \"-\", J11/F11*100), \" \")","v":" "},{"$f":"IF(G11<>0, IF(K11/G11*100=0, \"-\", K11/G11*100), \" \")","v":" "},{"$f":"IF(H11<>0, IF(L11/H11*100=0, \"-\", L11/H11*100), \" \")","v":" "},{"$f":"IF(I11<>0, IF(M11/I11*100=0, \"-\", M11/I11*100), \" \")","v":" "}]
[{"$f":"IF(COUNTRY_INFO!A12=0,\" \",COUNTRY_INFO!A12)","v":"Togo"},{"$f":"IF(COUNTRY_INFO!B12=0,\" \",COUNTRY_INFO!B12)","v":"CENTRALE"},{"$f":"IF(COUNTRY_INFO!C12=0,\" \",COUNTRY_INFO!C12)","v":"SOTOUBOUA"},{"$f":"IF(AND(COUNTRY_INFO!$Z12=\"T3 (ALB/MBD)\",COUNTRY_INFO!$AA12=\"T3 (ALB/MBD)\"), \"T3 (ALB/MBD)\", \" \")","v":" "},null,null,null,null,0,null,null,null,0," "," "," "," "]
[{"$f":"IF(COUNTRY_INFO!A13=0,\" \",COUNTRY_INFO!A13)","v":"Togo"},{"$f":"IF(COUNTRY_INFO!B13=0,\" \",COUNTRY_INFO!B13)","v":"CENTRALE"},{"$f":"IF(COUNTRY_INFO!C13=0,\" \",COUNTRY_INFO!C13)","v":"TCHAMBA"},{"$f":"IF(AND(COUNTRY_INFO!$Z13=\"T3 (ALB/MBD)\",COUNTRY_INFO!$AA13=\"T3 (ALB/MBD)\"), \"T3 (ALB/MBD)\", \" \")","v":" "},null,null,null,null,0,null,null,null,0," "," "," "," "]
[{"$f":"IF(COUNTRY_INFO!A14=0,\" \",COUNTRY_INFO!A14)","v":"Togo"},{"$f":"IF(COUNTRY_INFO!B14=0,\" \",COUNTRY_INFO!B14)","v":"CENTRALE"},{"$f":"IF(COUNTRY_INFO!C14=0,\" \",COUNTRY_INFO!C14)","v":"TCHAOUDJO"},{"$f":"IF(AND(COUNTRY_INFO!$Z14=\"T3 (ALB/MBD)\",COUNTRY_INFO!$AA14=\"T3 (ALB/MBD)\"), \"T3 (ALB/MBD)\", \" \")","v":" "},null,null,null,null,0,null,null,null,0," "," "," "," "]
[{"$f":"IF(COUNTRY_INFO!A15=0,\" \",COUNTRY_INFO!A15)","v":"Togo"},{"$f":"IF(COUNTRY_INFO!B15=0,\" \",COUNTRY_INFO!B15)","v":"GRAND-LOME"},{"$f":"IF(COUNTRY_INFO!C15=0,\" \",COUNTRY_INFO!C15)","v":"AGOE NYIVE"},{"$f":"IF(AND(COUNTRY_INFO!$Z15=\"T3 (ALB/MBD)\",COUNTRY_INFO!$AA15=\"T3 (ALB/MBD)\"), \"T3 (ALB/MBD)\", \" \")","v":" "},null,null,null,null,0,null,null,null,0," "," "," "," "]
[{"$f":"IF(COUNTRY_INFO!A16=0,\" \",COUNTRY_INFO!A16)","v":"Togo"},{"$f":"IF(COUNTRY_INFO!B16=0,\" \",COUNTRY_INFO!B16)","v":"GRAND-LOME"},{"$f":"IF(COUNTRY_INFO!C16=0,\" \",COUNTRY_INFO!C16)","v":"GOLFE"},{"$f":"IF(AND(COUNTRY_INFO!$Z16=\"T3 (ALB/MBD)\",COUNTRY_INFO!$AA16=\"T3 (ALB/MBD)\"), \"T3 (ALB/MBD)\", \" \")","v":" "},null,null,null,null,0,null,null,null,0," "," "," "," "]
[{"$f":"IF(COUNTRY_INFO!A17=0,\" \",COUNTRY_INFO!A17)","v":"Togo"},{"$f":"IF(COUNTRY_INFO!B17=0,\" \",COUNTRY_INFO!B17)","v":"KARA"},{"$f":"IF(COUNTRY_INFO!C17=0,\" \",COUNTRY_INFO!C17)","v":"ASSOLI"},{"$f":"IF(AND(COUNTRY_INFO!$Z17=\"T3 (ALB/MBD)\",COUNTRY_INFO!$AA17=\"T3 (ALB/MBD)\"), \"T3 (ALB/MBD)\", \" \")","v":" "},null,null,null,null,0,null,null,null,0," "," "," "," "]
[{"$f":"IF(COUNTRY_INFO!A18=0,\" \",COUNTRY_INFO!A18)","v":"Togo"},{"$f":"IF(COUNTRY_INFO!B18=0,\" \",COUNTRY_INFO!B18)","v":"KARA"},{"$f":"IF(COUNTRY_INFO!C18=0,\" \",COUNTRY_INFO!C18)","v":"BASSAR"},{"$f":"IF(AND(COUNTRY_INFO!$Z18=\"T3 (ALB/MBD)\",COUNTRY_INFO!$AA18=\"T3 (ALB/MBD)\"), \"T3 (ALB/MBD)\", \" \")","v":" "},null,null,null,null,0,null,null,null,0," "," "," "," "]
[{"$f":"IF(COUNTRY_INFO!A19=0,\" \",COUNTRY_INFO!A19)","v":"Togo"},{"$f":"IF(COUNTRY_INFO!B19=0,\" \",COUNTRY_INFO!B19)","v":"KARA"},{"$f":"IF(COUNTRY_INFO!C19=0,\" \",COUNTRY_INFO!C19)","v":"BINAH"},{"$f":"IF(AND(COUNTRY_INFO!$Z19=\"T3 (ALB/MBD)\",COUNTRY_INFO!$AA19=\"T3 (ALB/MBD)\"), \"T3 (ALB/MBD)\", \" \")","v":" "},null,null,null,null,0,null,null,null,0," "," "," "," "]
[{"$f":"IF(COUNTRY_INFO!A20=0,\" \",COUNTRY_INFO!A20)","v":"Togo"},{"$f":"IF(COUNTRY_INFO!B20=0,\" \",COUNTRY_INFO!B20)","v":"KARA"},{"$f":"IF(COUNTRY_INFO!C20=0,\" \",COUNTRY_INFO!C20)","v":"DANKPEN"},{"$f":"IF(AND(COUNTRY_INFO!$Z20=\"T3 (ALB/MBD)\",COUNTRY_INFO!$AA20=\"T3 (ALB/MBD)\"), \"T3 (ALB/MBD)\", \" \")","v":" "},null,null,null,null,0,null,null,null,0," "," "," "," "]
[{"$f":"IF(COUNTRY_INFO!A21=0,\" \",COUNTRY_INFO!A21)","v":"Togo"},{"$f":"IF(COUNTRY_INFO!B21=0,\" \",COUNTRY_INFO!B21)","v":"KARA"},{"$f":"IF(COUNTRY_INFO!C21=0,\" \",COUNTRY_INFO!C21)","v":"DOUFELGOU"},{"$f":"IF(AND(COUNTRY_INFO!$Z21=\"T3 (ALB/MBD)\",COUNTRY_INFO!$AA21=\"T3 (ALB/MBD)\"), \"T3 (ALB/MBD)\", \" \")","v":" "},null,null,null,null,0,null,null,null,0," "," "," "," "]
[{"$f":"IF(COUNTRY_INFO!A22=0,\" \",COUNTRY_INFO!A22)","v":"Togo"},{"$f":"IF(COUNTRY_INFO!B22=0,\" \",COUNTRY_INFO!B22)","v":"KARA"},{"$f":"IF(COUNTRY_INFO!C22=0,\" \",COUNTRY_INFO!C22)","v":"KERAN"},{"$f":"IF(AND(COUNTRY_INFO!$Z22=\"T3 (ALB/MBD)\",COUNTRY_INFO!$AA22=\"T3 (ALB/MBD)\"), \"T3 (ALB/MBD)\", \" \")","v":" "},null,null,null,null,0,null,null,null,0," "," "," "," "]
[{"$f":"IF(COUNTRY_INFO!A23=0,\" \",COUNTRY_INFO!A23)","v":"Togo"},{"$f":"IF(COUNTRY_INFO!B23=0,\" \",COUNTRY_INFO!B23)","v":"KARA"},{"$f":"IF(COUNTRY_INFO!C23=0,\" \",COUNTRY_INFO!C23)","v":"KOZAH"},{"$f":"IF(AND(COUNTRY_INFO!$Z23=\"T3 (ALB/MBD)\",COUNTRY_INFO!$AA23=\"T3 (ALB/MBD)\"), \"T3 (ALB/MBD)\", \" \")","v":" "},null,null,null,null,0,null,null,null,0," "," "," "," "]
[{"$f":"IF(COUNTRY_INFO!A24=0,\" \",COUNTRY_INFO!A24)","v":"Togo"},{"$f":"IF(COUNTRY_INFO!B24=0,\" \",COUNTRY_INFO!B24)","v":"MARITIME"},{"$f":"IF(COUNTRY_INFO!C24=0,\" \",COUNTRY_INFO!C24)","v":"AVE"},{"$f":"IF(AND(COUNTRY_INFO!$Z24=\"T3 (ALB/MBD)\",COUNTRY_INFO!$AA24=\"T3 (ALB/MBD)\"), \"T3 (ALB/MBD)\", \" \")","v":" "},null,null,null,null,0,null,null,null,0," "," "," "," "]
[{"$f":"IF(COUNTRY_INFO!A25=0,\" \",COUNTRY_INFO!A25)","v":"Togo"},{"$f":"IF(COUNTRY_INFO!B25=0,\" \",COUNTRY_INFO!B25)","v":"MARITIME"},{"$f":"IF(COUNTRY_INFO!C25=0,\" \",COUNTRY_INFO!C25)","v":"BAS-MONO"},{"$f":"IF(AND(COUNTRY_INFO!$Z25=\"T3 (ALB/MBD)\",COUNTRY_INFO!$AA25=\"T3 (ALB/MBD)\"), \"T3 (ALB/MBD)\", \" \")","v":" "},null,null,null,null,0,null,null,null,0," "," "," "," "]
[{"$f":"IF(COUNTRY_INFO!A26=0,\" \",COUNTRY_INFO!A26)","v":"Togo"},{"$f":"IF(COUNTRY_INFO!B26=0,\" \",COUNTRY_INFO!B26)","v":"MARITIME"},{"$f":"IF(COUNTRY_INFO!C26=0,\" \",COUNTRY_INFO!C26)","v":"LACS"},{"$f":"IF(AND(COUNTRY_INFO!$Z26=\"T3 (ALB/MBD)\",COUNTRY_INFO!$AA26=\"T3 (ALB/MBD)\"), \"T3 (ALB/MBD)\", \" \")","v":" "},null,null,null,null,0,null,null,null,0," "," "," "," "]
[{"$f":"IF(COUNTRY_INFO!A27=0,\" \",COUNTRY_INFO!A27)","v":"Togo"},{"$f":"IF(COUNTRY_INFO!B27=0,\" \",COUNTRY_INFO!B27)","v":"MARITIME"},{"$f":"IF(COUNTRY_INFO!C27=0,\" \",COUNTRY_INFO!C27)","v":"VO"},{"$f":"IF(AND(COUNTRY_INFO!$Z27=\"T3 (ALB/MBD)\",COUNTRY_INFO!$AA27=\"T3 (ALB/MBD)\"), \"T3 (ALB/MBD)\", \" \")","v":" "},null,null,null,null,0,null,null,null,0," "," "," "," "]
[{"$f":"IF(COUNTRY_INFO!A28=0,\" \",COUNTRY_INFO!A28)","v":"Togo"},{"$f":"IF(COUNTRY_INFO!B28=0,\" \",COUNTRY_INFO!B28)","v":"MARITIME"},{"$f":"IF(COUNTRY_INFO!C28=0,\" \",COUNTRY_INFO!C28)","v":"YOTO"},"T3 (ALB/MBD)","Janvier 2022",null,87134,null,87134,null,85585,null,85585," ",98.222278329928614," ",98.222278329928614]
[{"$f":"IF(COUNTRY_INFO!A29=0,\" \",COUNTRY_INFO!A29)","v":"Togo"},{"$f":"IF(COUNTRY_INFO!B29=0,\" \",COUNTRY_INFO!B29)","v":"MARITIME"},{"$f":"IF(COUNTRY_INFO!C29=0,\" \",COUNTRY_INFO!C29)","v":"ZIO"},{"$f":"IF(AND(COUNTRY_INFO!$Z29=\"T3 (ALB/MBD)\",COUNTRY_INFO!$AA29=\"T3 (ALB/MBD)\"), \"T3 (ALB/MBD)\", \" \")","v":" "},null,null,null,null,0,null,null,null,0," "," "," "," "]
[{"$f":"IF(COUNTRY_INFO!A30=0,\" \",COUNTRY_INFO!A30)","v":"Togo"},{"$f":"IF(COUNTRY_INFO!B30=0,\" \",COUNTRY_INFO!B30)","v":"PLATEAUX"},{"$f":"IF(COUNTRY_INFO!C30=0,\" \",COUNTRY_INFO!C30)","v":"AGOU"},{"$f":"IF(AND(COUNTRY_INFO!$Z30=\"T3 (ALB/MBD)\",COUNTRY_INFO!$AA30=\"T3 (ALB/MBD)\"), \"T3 (ALB/MBD)\", \" \")","v":" "},null,null,null,null,0,null,null,null,0," "," "," "," "]
[{"$f":"IF(COUNTRY_INFO!A31=0,\" \",COUNTRY_INFO!A31)","v":"Togo"},{"$f":"IF(COUNTRY_INFO!B31=0,\" \",COUNTRY_INFO!B31)","v":"PLATEAUX"},{"$f":"IF(COUNTRY_INFO!C31=0,\" \",COUNTRY_INFO!C31)","v":"AKEBOU"},{"$f":"IF(AND(COUNTRY_INFO!$Z31=\"T3 (ALB/MBD)\",COUNTRY_INFO!$AA31=\"T3 (ALB/MBD)\"), \"T3 (ALB/MBD)\", \" \")","v":" "},null,null,null,null,0,null,null,null,0," "," "," "," "]
[{"$f":"IF(COUNTRY_INFO!A32=0,\" \",COUNTRY_INFO!A32)","v":"Togo"},{"$f":"IF(COUNTRY_INFO!B32=0,\" \",COUNTRY_INFO!B32)","v":"PLATEAUX"},{"$f":"IF(COUNTRY_INFO!C32=0,\" \",COUNTRY_INFO!C32)","v":"AMOU"},{"$f":"IF(AND(COUNTRY_INFO!$Z32=\"T3 (ALB/MBD)\",COUNTRY_INFO!$AA32=\"T3 (ALB/MBD)\"), \"T3 (ALB/MBD)\", \" \")","v":" "},null,null,null,null,0,null,null,null,0," "," "," "," "]
[{"$f":"IF(COUNTRY_INFO!A33=0,\" \",COUNTRY_INFO!A33)","v":"Togo"},{"$f":"IF(COUNTRY_INFO!B33=0,\" \",COUNTRY_INFO!B33)","v":"PLATEAUX"},{"$f":"IF(COUNTRY_INFO!C33=0,\" \",COUNTRY_INFO!C33)","v":"ANIE"},{"$f":"IF(AND(COUNTRY_INFO!$Z33=\"T3 (ALB/MBD)\",COUNTRY_INFO!$AA33=\"T3 (ALB/MBD)\"), \"T3 (ALB/MBD)\", \" \")","v":" "},null,null,null,null,0,null,null,null,0," "," "," "," "]
[{"$f":"IF(COUNTRY_INFO!A34=0,\" \",COUNTRY_INFO!A34)","v":"Togo"},{"$f":"IF(COUNTRY_INFO!B34=0,\" \",COUNTRY_INFO!B34)","v":"PLATEAUX"},{"$f":"IF(COUNTRY_INFO!C34=0,\" \",COUNTRY_INFO!C34)","v":"DANYI"},{"$f":"IF(AND(COUNTRY_INFO!$Z34=\"T3 (ALB/MBD)\",COUNTRY_INFO!$AA34=\"T3 (ALB/MBD)\"), \"T3 (ALB/MBD)\", \" \")","v":" "},null,null,null,null,0,null,null,null,0," "," "," "," "]
[{"$f":"IF(COUNTRY_INFO!A35=0,\" \",COUNTRY_INFO!A35)","v":"Togo"},{"$f":"IF(COUNTRY_INFO!B35=0,\" \",COUNTRY_INFO!B35)","v":"PLATEAUX"},{"$f":"IF(COUNTRY_INFO!C35=0,\" \",COUNTRY_INFO!C35)","v":"EST-MONO"},"T3 (ALB/MBD)","Janvier 2022",null,48400,null,48400,null,48187,null,48187," ",99.559917355371894," ",99.559917355371894]
[{"$f":"IF(COUNTRY_INFO!A36=0,\" \",COUNTRY_INFO!A36)","v":"Togo"},{"$f":"IF(COUNTRY_INFO!B36=0,\" \",COUNTRY_INFO!B36)","v":"PLATEAUX"},{"$f":"IF(COUNTRY_INFO!C36=0,\" \",COUNTRY_INFO!C36)","v":"HAHO"},"T3 (ALB/MBD)","Janvier 2022",null,98962,null,98962,null,96559,null,96559," ",97.571795234534463," ",97.571795234534463]
[{"$f":"IF(COUNTRY_INFO!A37=0,\" \",COUNTRY_INFO!A37)","v":"Togo"},{"$f":"IF(COUNTRY_INFO!B37=0,\" \",COUNTRY_INFO!B37)","v":"PLATEAUX"},{"$f":"IF(COUNTRY_INFO!C37=0,\" \",COUNTRY_INFO!C37)","v":"KLOTO"},{"$f":"IF(AND(COUNTRY_INFO!$Z37=\"T3 (ALB/MBD)\",COUNTRY_INFO!$AA37=\"T3 (ALB/MBD)\"), \"T3 (ALB/MBD)\", \" \")","v":" "},null,null,null,null,0,null,null,null,0," "," "," "," "]
[{"$f":"IF(COUNTRY_INFO!A38=0,\" \",COUNTRY_INFO!A38)","v":"Togo"},{"$f":"IF(COUNTRY_INFO!B38=0,\" \",COUNTRY_INFO!B38)","v":"PLATEAUX"},{"$f":"IF(COUNTRY_INFO!C38=0,\" \",COUNTRY_INFO!C38)","v":"KPELE"},{"$f":"IF(AND(COUNTRY_INFO!$Z38=\"T3 (ALB/MBD)\",COUNTRY_INFO!$AA38=\"T3 (ALB/MBD)\"), \"T3 (ALB/MBD)\", \" \")","v":" "},null,null,null,null,0,null,null,null,0," "," "," "," "]
[{"$f":"IF(COUNTRY_INFO!A39=0,\" \",COUNTRY_INFO!A39)","v":"Togo"},{"$f":"IF(COUNTRY_INFO!B39=0,\" \",COUNTRY_INFO!B39)","v":"PLATEAUX"},{"$f":"IF(COUNTRY_INFO!C39=0,\" \",COUNTRY_INFO!C39)","v":"MOYEN-MONO"},{"$f":"IF(AND(COUNTRY_INFO!$Z39=\"T3 (ALB/MBD)\",COUNTRY_INFO!$AA39=\"T3 (ALB/MBD)\"), \"T3 (ALB/MBD)\", \" \")","v":" "},null,null,null,null,0,null,null,null,0," "," "," "," "]
[{"$f":"IF(COUNTRY_INFO!A40=0,\" \",COUNTRY_INFO!A40)","v":"Togo"},{"$f":"IF(COUNTRY_INFO!B40=0,\" \",COUNTRY_INFO!B40)","v":"PLATEAUX"},{"$f":"IF(COUNTRY_INFO!C40=0,\" \",COUNTRY_INFO!C40)","v":"OGOU"},"T3 (ALB/MBD)","Janvier 2022",null,72848,null,72848,null,68641,null,68641," ",94.224961563804086," ",94.224961563804086]
[{"$f":"IF(COUNTRY_INFO!A41=0,\" \",COUNTRY_INFO!A41)","v":"Togo"},{"$f":"IF(COUNTRY_INFO!B41=0,\" \",COUNTRY_INFO!B41)","v":"PLATEAUX"},{"$f":"IF(COUNTRY_INFO!C41=0,\" \",COUNTRY_INFO!C41)","v":"WAWA"},{"$f":"IF(AND(COUNTRY_INFO!$Z41=\"T3 (ALB/MBD)\",COUNTRY_INFO!$AA41=\"T3 (ALB/MBD)\"), \"T3 (ALB/MBD)\", \" \")","v":" "},null,null,null,null,0,null,null,null,0," "," "," "," "]
[{"$f":"IF(COUNTRY_INFO!A42=0,\" \",COUNTRY_INFO!A42)","v":"Togo"},{"$f":"IF(COUNTRY_INFO!B42=0,\" \",COUNTRY_INFO!B42)","v":"SAVANES"},{"$f":"IF(COUNTRY_INFO!C42=0,\" \",COUNTRY_INFO!C42)","v":"CINKASSE"},{"$f":"IF(AND(COUNTRY_INFO!$Z42=\"T3 (ALB/MBD)\",COUNTRY_INFO!$AA42=\"T3 (ALB/MBD)\"), \"T3 (ALB/MBD)\", \" \")","v":" "},null,null,null,null,0,null,null,null,0," "," "," "," "]
[{"$f":"IF(COUNTRY_INFO!A43=0,\" \",COUNTRY_INFO!A43)","v":"Togo"},{"$f":"IF(COUNTRY_INFO!B43=0,\" \",COUNTRY_INFO!B43)","v":"SAVANES"},{"$f":"IF(COUNTRY_INFO!C43=0,\" \",COUNTRY_INFO!C43)","v":"KPENDJAL"},{"$f":"IF(AND(COUNTRY_INFO!$Z43=\"T3 (ALB/MBD)\",COUNTRY_INFO!$AA43=\"T3 (ALB/MBD)\"), \"T3 (ALB/MBD)\", \" \")","v":" "},null,null,null,null,0,null,null,null,0," "," "," "," "]
[{"$f":"IF(COUNTRY_INFO!A44=0,\" \",COUNTRY_INFO!A44)","v":"Togo"},{"$f":"IF(COUNTRY_INFO!B44=0,\" \",COUNTRY_INFO!B44)","v":"SAVANES"},{"$f":"IF(COUNTRY_INFO!C44=0,\" \",COUNTRY_INFO!C44)","v":"KPENDJAL-OUEST"},{"$f":"IF(AND(COUNTRY_INFO!$Z44=\"T3 (ALB/MBD)\",COUNTRY_INFO!$AA44=\"T3 (ALB/MBD)\"), \"T3 (ALB/MBD)\", \" \")","v":" "},null,null,null,null,0,null,null,null,0," "," "," "," "]
[{"$f":"IF(COUNTRY_INFO!A45=0,\" \",COUNTRY_INFO!A45)","v":"Togo"},{"$f":"IF(COUNTRY_INFO!B45=0,\" \",COUNTRY_INFO!B45)","v":"SAVANES"},{"$f":"IF(COUNTRY_INFO!C45=0,\" \",COUNTRY_INFO!C45)","v":"OTI"},"T3 (ALB/MBD)","Janvier 2022",null,41561,null,41561,null,35300,null,35300," ",84.93539616467362," ",84.93539616467362]
[{"$f":"IF(COUNTRY_INFO!A46=0,\" \",COUNTRY_INFO!A46)","v":"Togo"},{"$f":"IF(COUNTRY_INFO!B46=0,\" \",COUNTRY_INFO!B46)","v":"SAVANES"},{"$f":"IF(COUNTRY_INFO!C46=0,\" \",COUNTRY_INFO!C46)","v":"OTI-SUD"},"T3 (ALB/MBD)","Janvier 2022",null,43843,null,43843,null,44452,null,44452," ",101.38904728234839," ",101.38904728234839]
[{"$f":"IF(COUNTRY_INFO!A47=0,\" \",COUNTRY_INFO!A47)","v":"Togo"},{"$f":"IF(COUNTRY_INFO!B47=0,\" \",COUNTRY_INFO!B47)","v":"SAVANES"},{"$f":"IF(COUNTRY_INFO!C47=0,\" \",COUNTRY_INFO!C47)","v":"TANDJOUARE"},"T3 (ALB/MBD)","Janvier 2022",null,48805,null,48805,null,47024,null,47024," ",96.350783731175085," ",96.350783731175085]
[{"$f":"IF(COUNTRY_INFO!A48=0,\" \",COUNTRY_INFO!A48)","v":"Togo"},{"$f":"IF(COUNTRY_INFO!B48=0,\" \",COUNTRY_INFO!B48)","v":"SAVANES"},{"$f":"IF(COUNTRY_INFO!C48=0,\" \",COUNTRY_INFO!C48)","v":"TONE"},{"$f":"IF(AND(COUNTRY_INFO!$Z48=\"T3 (ALB/MBD)\",COUNTRY_INFO!$AA48=\"T3 (ALB/MBD)\"), \"T3 (ALB/MBD)\", \" \")","v":" "},null,null,null,null,0,null,null,null,0," "," "," "," "]

{"sheet":"T3_R3","index":10,"n_rows":48,"n_cols":17,"rows_kept":48,"cut":false,"hidden":false,"merged":[[5,13,5,16],[0,5,0,7],[1,9,1,10],[1,11,1,12],[3,0,3,2],[5,0,5,2],[5,3,6,3],[5,4,6,4],[5,5,5,8],[5,9,5,12]]}
["T 3 - Albendazole (ALB) ou Mebendazole (MBD) - Tournée 3",null,null,null,null,"Choisir le médicament utilisé pour le traitement de la STH pour chaque groupe d'âge"]
["Structure administrative, population nécessitant une CP par groupe d'âge, population traitée par groupe d'âge et couverture",null,null,null,null,null,null,null,null,"Sélectionner la catégorie d’adultes"]
[]
["TOTAL",null,null,null,null,{"$f":"SUBTOTAL(9,F$10:F$1010)","v":0},0,0,0,0,0,0,0,{"$f":"IF(F4<>0, IF(J4/F4*100=0, \"-\", J4/F4*100), \" \")","v":" "},{"$f":"IF(G4<>0, IF(K4/G4*100=0, \"-\", K4/G4*100), \" \")","v":" "},{"$f":"IF(H4<>0, IF(L4/H4*100=0, \"-\", L4/H4*100), \" \")","v":" "},{"$f":"IF(I4<>0, IF(M4/I4*100=0, \"-\", M4/I4*100), \" \")","v":" "}]
[]
["Structure administrative du pays",null,null,"Mise en oeuvre \nde la CP","Date","Population ciblée pour T3",null,null,null,"Population traitée",null,null,null,"Couverture du Programme (%)"]
["Pays","Région/Département","District",null,null,"EAPréS","EAS","Adultes","Total","EAPréS","EAS","Adultes","Total","EAPréS","EAS","Adultes","Total"]
[]
[]
[{"$f":"IF(COUNTRY_INFO!A10=0,\" \",COUNTRY_INFO!A10)","v":"Togo"},{"$f":"IF(COUNTRY_INFO!B10=0,\" \",COUNTRY_INFO!B10)","v":"CENTRALE"},{"$f":"IF(COUNTRY_INFO!C10=0,\" \",COUNTRY_INFO!C10)","v":"BLITTA"},{"$f":"IF(COUNTRY_INFO!$AB10=\"T3 (ALB/MBD)\", \"T3 (ALB/MBD)\", \" \")","v":" "},null,null,null,null,{"$f":"SUM(F10:H10)","v":0},null,null,null,{"$f":"SUM(J10:L10)","v":0},{"$f":"IF(F10<>0, IF(J10/F10*100=0, \"-\", J10/F10*100), \" \")","v":" "}," "," "," "]
[{"$f":"IF(COUNTRY_INFO!A11=0,\" \",COUNTRY_INFO!A11)","v":"Togo"},{"$f":"IF(COUNTRY_INFO!B11=0,\" \",COUNTRY_INFO!B11)","v":"CENTRALE"},{"$f":"IF(COUNTRY_INFO!C11=0,\" \",COUNTRY_INFO!C11)","v":"MÔ"},{"$f":"IF(COUNTRY_INFO!$AB11=\"T3 (ALB/MBD)\", \"T3 (ALB/MBD)\", \" \")","v":" "},null,null,null,null,{"$f":"SUM(F11:H11)","v":0},null,null,null,{"$f":"SUM(J11:L11)","v":0},{"$f":"IF(F11<>0, IF(J11/F11*100=0, \"-\", J11/F11*100), \" \")","v":" "},{"$f":"IF(G11<>0, IF(K11/G11*100=0, \"-\", K11/G11*100), \" \")","v":" "},{"$f":"IF(H11<>0, IF(L11/H11*100=0, \"-\", L11/H11*100), \" \")","v":" "},{"$f":"IF(I11<>0, IF(M11/I11*100=0, \"-\", M11/I11*100), \" \")","v":" "}]
[{"$f":"IF(COUNTRY_INFO!A12=0,\" \",COUNTRY_INFO!A12)","v":"Togo"},{"$f":"IF(COUNTRY_INFO!B12=0,\" \",COUNTRY_INFO!B12)","v":"CENTRALE"},{"$f":"IF(COUNTRY_INFO!C12=0,\" \",COUNTRY_INFO!C12)","v":"SOTOUBOUA"},{"$f":"IF(COUNTRY_INFO!$AB12=\"T3 (ALB/MBD)\", \"T3 (ALB/MBD)\", \" \")","v":" "},null,null,null,null,0,null,null,null,0," "," "," "," "]
[{"$f":"IF(COUNTRY_INFO!A13=0,\" \",COUNTRY_INFO!A13)","v":"Togo"},{"$f":"IF(COUNTRY_INFO!B13=0,\" \",COUNTRY_INFO!B13)","v":"CENTRALE"},{"$f":"IF(COUNTRY_INFO!C13=0,\" \",COUNTRY_INFO!C13)","v":"TCHAMBA"},{"$f":"IF(COUNTRY_INFO!$AB13=\"T3 (ALB/MBD)\", \"T3 (ALB/MBD)\", \" \")","v":" "},null,null,null,null,0,null,null,null,0," "," "," "," "]
[{"$f":"IF(COUNTRY_INFO!A14=0,\" \",COUNTRY_INFO!A14)","v":"Togo"},{"$f":"IF(COUNTRY_INFO!B14=0,\" \",COUNTRY_INFO!B14)","v":"CENTRALE"},{"$f":"IF(COUNTRY_INFO!C14=0,\" \",COUNTRY_INFO!C14)","v":"TCHAOUDJO"},{"$f":"IF(COUNTRY_INFO!$AB14=\"T3 (ALB/MBD)\", \"T3 (ALB/MBD)\", \" \")","v":" "},null,null,null,null,0,null,null,null,0," "," "," "," "]
[{"$f":"IF(COUNTRY_INFO!A15=0,\" \",COUNTRY_INFO!A15)","v":"Togo"},{"$f":"IF(COUNTRY_INFO!B15=0,\" \",COUNTRY_INFO!B15)","v":"GRAND-LOME"},{"$f":"IF(COUNTRY_INFO!C15=0,\" \",COUNTRY_INFO!C15)","v":"AGOE NYIVE"},{"$f":"IF(COUNTRY_INFO!$AB15=\"T3 (ALB/MBD)\", \"T3 (ALB/MBD)\", \" \")","v":" "},null,null,null,null,0,null,null,null,0," "," "," "," "]
[{"$f":"IF(COUNTRY_INFO!A16=0,\" \",COUNTRY_INFO!A16)","v":"Togo"},{"$f":"IF(COUNTRY_INFO!B16=0,\" \",COUNTRY_INFO!B16)","v":"GRAND-LOME"},{"$f":"IF(COUNTRY_INFO!C16=0,\" \",COUNTRY_INFO!C16)","v":"GOLFE"},{"$f":"IF(COUNTRY_INFO!$AB16=\"T3 (ALB/MBD)\", \"T3 (ALB/MBD)\", \" \")","v":" "},null,null,null,null,0,null,null,null,0," "," "," "," "]
[{"$f":"IF(COUNTRY_INFO!A17=0,\" \",COUNTRY_INFO!A17)","v":"Togo"},{"$f":"IF(COUNTRY_INFO!B17=0,\" \",COUNTRY_INFO!B17)","v":"KARA"},{"$f":"IF(COUNTRY_INFO!C17=0,\" \",COUNTRY_INFO!C17)","v":"ASSOLI"},{"$f":"IF(COUNTRY_INFO!$AB17=\"T3 (ALB/MBD)\", \"T3 (ALB/MBD)\", \" \")","v":" "},null,null,null,null,0,null,null,null,0," "," "," "," "]
[{"$f":"IF(COUNTRY_INFO!A18=0,\" \",COUNTRY_INFO!A18)","v":"Togo"},{"$f":"IF(COUNTRY_INFO!B18=0,\" \",COUNTRY_INFO!B18)","v":"KARA"},{"$f":"IF(COUNTRY_INFO!C18=0,\" \",COUNTRY_INFO!C18)","v":"BASSAR"},{"$f":"IF(COUNTRY_INFO!$AB18=\"T3 (ALB/MBD)\", \"T3 (ALB/MBD)\", \" \")","v":" "},null,null,null,null,0,null,null,null,0," "," "," "," "]
[{"$f":"IF(COUNTRY_INFO!A19=0,\" \",COUNTRY_INFO!A19)","v":"Togo"},{"$f":"IF(COUNTRY_INFO!B19=0,\" \",COUNTRY_INFO!B19)","v":"KARA"},{"$f":"IF(COUNTRY_INFO!C19=0,\" \",COUNTRY_INFO!C19)","v":"BINAH"},{"$f":"IF(COUNTRY_INFO!$AB19=\"T3 (ALB/MBD)\", \"T3 (ALB/MBD)\", \" \")","v":" "},null,null,null,null,0,null,null,null,0," "," "," "," "]
[{"$f":"IF(COUNTRY_INFO!A20=0,\" \",COUNTRY_INFO!A20)","v":"Togo"},{"$f":"IF(COUNTRY_INFO!B20=0,\" \",COUNTRY_INFO!B20)","v":"KARA"},{"$f":"IF(COUNTRY_INFO!C20=0,\" \",COUNTRY_INFO!C20)","v":"DANKPEN"},{"$f":"IF(COUNTRY_INFO!$AB20=\"T3 (ALB/MBD)\", \"T3 (ALB/MBD)\", \" \")","v":" "},null,null,null,null,0,null,null,null,0," "," "," "," "]
[{"$f":"IF(COUNTRY_INFO!A21=0,\" \",COUNTRY_INFO!A21)","v":"Togo"},{"$f":"IF(COUNTRY_INFO!B21=0,\" \",COUNTRY_INFO!B21)","v":"KARA"},{"$f":"IF(COUNTRY_INFO!C21=0,\" \",COUNTRY_INFO!C21)","v":"DOUFELGOU"},{"$f":"IF(COUNTRY_INFO!$AB21=\"T3 (ALB/MBD)\", \"T3 (ALB/MBD)\", \" \")","v":" "},null,null,null,null,0,null,null,null,0," "," "," "," "]
[{"$f":"IF(COUNTRY_INFO!A22=0,\" \",COUNTRY_INFO!A22)","v":"Togo"},{"$f":"IF(COUNTRY_INFO!B22=0,\" \",COUNTRY_INFO!B22)","v":"KARA"},{"$f":"IF(COUNTRY_INFO!C22=0,\" \",COUNTRY_INFO!C22)","v":"KERAN"},{"$f":"IF(COUNTRY_INFO!$AB22=\"T3 (ALB/MBD)\", \"T3 (ALB/MBD)\", \" \")","v":" "},null,null,null,null,0,null,null,null,0," "," "," "," "]
[{"$f":"IF(COUNTRY_INFO!A23=0,\" \",COUNTRY_INFO!A23)","v":"Togo"},{"$f":"IF(COUNTRY_INFO!B23=0,\" \",COUNTRY_INFO!B23)","v":"KARA"},{"$f":"IF(COUNTRY_INFO!C23=0,\" \",COUNTRY_INFO!C23)","v":"KOZAH"},{"$f":"IF(COUNTRY_INFO!$AB23=\"T3 (ALB/MBD)\", \"T3 (ALB/MBD)\", \" \")","v":" "},null,null,null,null,0,null,null,null,0," "," "," "," "]
[{"$f":"IF(COUNTRY_INFO!A24=0,\" \",COUNTRY_INFO!A24)","v":"Togo"},{"$f":"IF(COUNTRY_INFO!B24=0,\" \",COUNTRY_INFO!B24)","v":"MARITIME"},{"$f":"IF(COUNTRY_INFO!C24=0,\" \",COUNTRY_INFO!C24)","v":"AVE"},{"$f":"IF(COUNTRY_INFO!$AB24=\"T3 (ALB/MBD)\", \"T3 (ALB/MBD)\", \" \")","v":" "},null,null,null,null,0,null,null,null,0," "," "," "," "]
[{"$f":"IF(COUNTRY_INFO!A25=0,\" \",COUNTRY_INFO!A25)","v":"Togo"},{"$f":"IF(COUNTRY_INFO!B25=0,\" \",COUNTRY_INFO!B25)","v":"MARITIME"},{"$f":"IF(COUNTRY_INFO!C25=0,\" \",COUNTRY_INFO!C25)","v":"BAS-MONO"},{"$f":"IF(COUNTRY_INFO!$AB25=\"T3 (ALB/MBD)\", \"T3 (ALB/MBD)\", \" \")","v":" "},null,null,null,null,0,null,null,null,0," "," "," "," "]
[{"$f":"IF(COUNTRY_INFO!A26=0,\" \",COUNTRY_INFO!A26)","v":"Togo"},{"$f":"IF(COUNTRY_INFO!B26=0,\" \",COUNTRY_INFO!B26)","v":"MARITIME"},{"$f":"IF(COUNTRY_INFO!C26=0,\" \",COUNTRY_INFO!C26)","v":"LACS"},{"$f":"IF(COUNTRY_INFO!$AB26=\"T3 (ALB/MBD)\", \"T3 (ALB/MBD)\", \" \")","v":" "},null,null,null,null,0,null,null,null,0," "," "," "," "]
[{"$f":"IF(COUNTRY_INFO!A27=0,\" \",COUNTRY_INFO!A27)","v":"Togo"},{"$f":"IF(COUNTRY_INFO!B27=0,\" \",COUNTRY_INFO!B27)","v":"MARITIME"},{"$f":"IF(COUNTRY_INFO!C27=0,\" \",COUNTRY_INFO!C27)","v":"VO"},{"$f":"IF(COUNTRY_INFO!$AB27=\"T3 (ALB/MBD)\", \"T3 (ALB/MBD)\", \" \")","v":" "},null,null,null,null,0,null,null,null,0," "," "," "," "]
[{"$f":"IF(COUNTRY_INFO!A28=0,\" \",COUNTRY_INFO!A28)","v":"Togo"},{"$f":"IF(COUNTRY_INFO!B28=0,\" \",COUNTRY_INFO!B28)","v":"MARITIME"},{"$f":"IF(COUNTRY_INFO!C28=0,\" \",COUNTRY_INFO!C28)","v":"YOTO"},{"$f":"IF(COUNTRY_INFO!$AB28=\"T3 (ALB/MBD)\", \"T3 (ALB/MBD)\", \" \")","v":" "},null,null,null,null,0,null,null,null,0," "," "," "," "]
[{"$f":"IF(COUNTRY_INFO!A29=0,\" \",COUNTRY_INFO!A29)","v":"Togo"},{"$f":"IF(COUNTRY_INFO!B29=0,\" \",COUNTRY_INFO!B29)","v":"MARITIME"},{"$f":"IF(COUNTRY_INFO!C29=0,\" \",COUNTRY_INFO!C29)","v":"ZIO"},{"$f":"IF(COUNTRY_INFO!$AB29=\"T3 (ALB/MBD)\", \"T3 (ALB/MBD)\", \" \")","v":" "},null,null,null,null,0,null,null,null,0," "," "," "," "]
[{"$f":"IF(COUNTRY_INFO!A30=0,\" \",COUNTRY_INFO!A30)","v":"Togo"},{"$f":"IF(COUNTRY_INFO!B30=0,\" \",COUNTRY_INFO!B30)","v":"PLATEAUX"},{"$f":"IF(COUNTRY_INFO!C30=0,\" \",COUNTRY_INFO!C30)","v":"AGOU"},{"$f":"IF(COUNTRY_INFO!$AB30=\"T3 (ALB/MBD)\", \"T3 (ALB/MBD)\", \" \")","v":" "},null,null,null,null,0,null,null,null,0," "," "," "," "]
[{"$f":"IF(COUNTRY_INFO!A31=0,\" \",COUNTRY_INFO!A31)","v":"Togo"},{"$f":"IF(COUNTRY_INFO!B31=0,\" \",COUNTRY_INFO!B31)","v":"PLATEAUX"},{"$f":"IF(COUNTRY_INFO!C31=0,\" \",COUNTRY_INFO!C31)","v":"AKEBOU"},{"$f":"IF(COUNTRY_INFO!$AB31=\"T3 (ALB/MBD)\", \"T3 (ALB/MBD)\", \" \")","v":" "},null,null,null,null,0,null,null,null,0," "," "," "," "]
[{"$f":"IF(COUNTRY_INFO!A32=0,\" \",COUNTRY_INFO!A32)","v":"Togo"},{"$f":"IF(COUNTRY_INFO!B32=0,\" \",COUNTRY_INFO!B32)","v":"PLATEAUX"},{"$f":"IF(COUNTRY_INFO!C32=0,\" \",COUNTRY_INFO!C32)","v":"AMOU"},{"$f":"IF(COUNTRY_INFO!$AB32=\"T3 (ALB/MBD)\", \"T3 (ALB/MBD)\", \" \")","v":" "},null,null,null,null,0,null,null,null,0," "," "," "," "]
[{"$f":"IF(COUNTRY_INFO!A33=0,\" \",COUNTRY_INFO!A33)","v":"Togo"},{"$f":"IF(COUNTRY_INFO!B33=0,\" \",COUNTRY_INFO!B33)","v":"PLATEAUX"},{"$f":"IF(COUNTRY_INFO!C33=0,\" \",COUNTRY_INFO!C33)","v":"ANIE"},{"$f":"IF(COUNTRY_INFO!$AB33=\"T3 (ALB/MBD)\", \"T3 (ALB/MBD)\", \" \")","v":" "},null,null,null,null,0,null,null,null,0," "," "," "," "]
[{"$f":"IF(COUNTRY_INFO!A34=0,\" \",COUNTRY_INFO!A34)","v":"Togo"},{"$f":"IF(COUNTRY_INFO!B34=0,\" \",COUNTRY_INFO!B34)","v":"PLATEAUX"},{"$f":"IF(COUNTRY_INFO!C34=0,\" \",COUNTRY_INFO!C34)","v":"DANYI"},{"$f":"IF(COUNTRY_INFO!$AB34=\"T3 (ALB/MBD)\", \"T3 (ALB/MBD)\", \" \")","v":" "},null,null,null,null,0,null,null,null,0," "," "," "," "]
[{"$f":"IF(COUNTRY_INFO!A35=0,\" \",COUNTRY_INFO!A35)","v":"Togo"},{"$f":"IF(COUNTRY_INFO!B35=0,\" \",COUNTRY_INFO!B35)","v":"PLATEAUX"},{"$f":"IF(COUNTRY_INFO!C35=0,\" \",COUNTRY_INFO!C35)","v":"EST-MONO"},{"$f":"IF(COUNTRY_INFO!$AB35=\"T3 (ALB/MBD)\", \"T3 (ALB/MBD)\", \" \")","v":" "},null,null,null,null,0,null,null,null,0," "," "," "," "]
[{"$f":"IF(COUNTRY_INFO!A36=0,\" \",COUNTRY_INFO!A36)","v":"Togo"},{"$f":"IF(COUNTRY_INFO!B36=0,\" \",COUNTRY_INFO!B36)","v":"PLATEAUX"},{"$f":"IF(COUNTRY_INFO!C36=0,\" \",COUNTRY_INFO!C36)","v":"HAHO"},{"$f":"IF(COUNTRY_INFO!$AB36=\"T3 (ALB/MBD)\", \"T3 (ALB/MBD)\", \" \")","v":" "},null,null,null,null,0,null,null,null,0," "," "," "," "]
[{"$f":"IF(COUNTRY_INFO!A37=0,\" \",COUNTRY_INFO!A37)","v":"Togo"},{"$f":"IF(COUNTRY_INFO!B37=0,\" \",COUNTRY_INFO!B37)","v":"PLATEAUX"},{"$f":"IF(COUNTRY_INFO!C37=0,\" \",COUNTRY_INFO!C37)","v":"KLOTO"},{"$f":"IF(COUNTRY_INFO!$AB37=\"T3 (ALB/MBD)\", \"T3 (ALB/MBD)\", \" \")","v":" "},null,null,null,null,0,null,null,null,0," "," "," "," "]
[{"$f":"IF(COUNTRY_INFO!A38=0,\" \",COUNTRY_INFO!A38)","v":"Togo"},{"$f":"IF(COUNTRY_INFO!B38=0,\" \",COUNTRY_INFO!B38)","v":"PLATEAUX"},{"$f":"IF(COUNTRY_INFO!C38=0,\" \",COUNTRY_INFO!C38)","v":"KPELE"},{"$f":"IF(COUNTRY_INFO!$AB38=\"T3 (ALB/MBD)\", \"T3 (ALB/MBD)\", \" \")","v":" "},null,null,null,null,0,null,null,null,0," "," "," "," "]
[{"$f":"IF(COUNTRY_INFO!A39=0,\" \",COUNTRY_INFO!A39)","v":"Togo"},{"$f":"IF(COUNTRY_INFO!B39=0,\" \",COUNTRY_INFO!B39)","v":"PLATEAUX"},{"$f":"IF(COUNTRY_INFO!C39=0,\" \",COUNTRY_INFO!C39)","v":"MOYEN-MONO"},{"$f":"IF(COUNTRY_INFO!$AB39=\"T3 (ALB/MBD)\", \"T3 (ALB/MBD)\", \" \")","v":" "},null,null,null,null,0,null,null,null,0," "," "," "," "]
[{"$f":"IF(COUNTRY_INFO!A40=0,\" \",COUNTRY_INFO!A40)","v":"Togo"},{"$f":"IF(COUNTRY_INFO!B40=0,\" \",COUNTRY_INFO!B40)","v":"PLATEAUX"},{"$f":"IF(COUNTRY_INFO!C40=0,\" \",COUNTRY_INFO!C40)","v":"OGOU"},{"$f":"IF(COUNTRY_INFO!$AB40=\"T3 (ALB/MBD)\", \"T3 (ALB/MBD)\", \" \")","v":" "},null,null,null,null,0,null,null,null,0," "," "," "," "]
[{"$f":"IF(COUNTRY_INFO!A41=0,\" \",COUNTRY_INFO!A41)","v":"Togo"},{"$f":"IF(COUNTRY_INFO!B41=0,\" \",COUNTRY_INFO!B41)","v":"PLATEAUX"},{"$f":"IF(COUNTRY_INFO!C41=0,\" \",COUNTRY_INFO!C41)","v":"WAWA"},{"$f":"IF(COUNTRY_INFO!$AB41=\"T3 (ALB/MBD)\", \"T3 (ALB/MBD)\", \" \")","v":" "},null,null,null,null,0,null,null,null,0," "," "," "," "]
[{"$f":"IF(COUNTRY_INFO!A42=0,\" \",COUNTRY_INFO!A42)","v":"Togo"},{"$f":"IF(COUNTRY_INFO!B42=0,\" \",COUNTRY_INFO!B42)","v":"SAVANES"},{"$f":"IF(COUNTRY_INFO!C42=0,\" \",COUNTRY_INFO!C42)","v":"CINKASSE"},{"$f":"IF(COUNTRY_INFO!$AB42=\"T3 (ALB/MBD)\", \"T3 (ALB/MBD)\", \" \")","v":" "},null,null,null,null,0,null,null,null,0," "," "," "," "]
[{"$f":"IF(COUNTRY_INFO!A43=0,\" \",COUNTRY_INFO!A43)","v":"Togo"},{"$f":"IF(COUNTRY_INFO!B43=0,\" \",COUNTRY_INFO!B43)","v":"SAVANES"},{"$f":"IF(COUNTRY_INFO!C43=0,\" \",COUNTRY_INFO!C43)","v":"KPENDJAL"},{"$f":"IF(COUNTRY_INFO!$AB43=\"T3 (ALB/MBD)\", \"T3 (ALB/MBD)\", \" \")","v":" "},null,null,null,null,0,null,null,null,0," "," "," "," "]
[{"$f":"IF(COUNTRY_INFO!A44=0,\" \",COUNTRY_INFO!A44)","v":"Togo"},{"$f":"IF(COUNTRY_INFO!B44=0,\" \",COUNTRY_INFO!B44)","v":"SAVANES"},{"$f":"IF(COUNTRY_INFO!C44=0,\" \",COUNTRY_INFO!C44)","v":"KPENDJAL-OUEST"},{"$f":"IF(COUNTRY_INFO!$AB44=\"T3 (ALB/MBD)\", \"T3 (ALB/MBD)\", \" \")","v":" "},null,null,null,null,0,null,null,null,0," "," "," "," "]
[{"$f":"IF(COUNTRY_INFO!A45=0,\" \",COUNTRY_INFO!A45)","v":"Togo"},{"$f":"IF(COUNTRY_INFO!B45=0,\" \",COUNTRY_INFO!B45)","v":"SAVANES"},{"$f":"IF(COUNTRY_INFO!C45=0,\" \",COUNTRY_INFO!C45)","v":"OTI"},{"$f":"IF(COUNTRY_INFO!$AB45=\"T3 (ALB/MBD)\", \"T3 (ALB/MBD)\", \" \")","v":" "},null,null,null,null,0,null,null,null,0," "," "," "," "]
[{"$f":"IF(COUNTRY_INFO!A46=0,\" \",COUNTRY_INFO!A46)","v":"Togo"},{"$f":"IF(COUNTRY_INFO!B46=0,\" \",COUNTRY_INFO!B46)","v":"SAVANES"},{"$f":"IF(COUNTRY_INFO!C46=0,\" \",COUNTRY_INFO!C46)","v":"OTI-SUD"},{"$f":"IF(COUNTRY_INFO!$AB46=\"T3 (ALB/MBD)\", \"T3 (ALB/MBD)\", \" \")","v":" "},null,null,null,null,0,null,null,null,0," "," "," "," "]
[{"$f":"IF(COUNTRY_INFO!A47=0,\" \",COUNTRY_INFO!A47)","v":"Togo"},{"$f":"IF(COUNTRY_INFO!B47=0,\" \",COUNTRY_INFO!B47)","v":"SAVANES"},{"$f":"IF(COUNTRY_INFO!C47=0,\" \",COUNTRY_INFO!C47)","v":"TANDJOUARE"},{"$f":"IF(COUNTRY_INFO!$AB47=\"T3 (ALB/MBD)\", \"T3 (ALB/MBD)\", \" \")","v":" "},null,null,null,null,0,null,null,null,0," "," "," "," "]
[{"$f":"IF(COUNTRY_INFO!A48=0,\" \",COUNTRY_INFO!A48)","v":"Togo"},{"$f":"IF(COUNTRY_INFO!B48=0,\" \",COUNTRY_INFO!B48)","v":"SAVANES"},{"$f":"IF(COUNTRY_INFO!C48=0,\" \",COUNTRY_INFO!C48)","v":"TONE"},{"$f":"IF(COUNTRY_INFO!$AB48=\"T3 (ALB/MBD)\", \"T3 (ALB/MBD)\", \" \")","v":" "},null,null,null,null,0,null,null,null,0," "," "," "," "]

{"sheet":"DISTRICT","index":11,"n_rows":48,"n_cols":65,"rows_kept":48,"cut":false,"hidden":false,"merged":[[3,0,3,2],[5,0,5,2],[5,4,5,8],[5,10,5,14],[5,16,5,29],[5,31,5,44],[5,3,6,3],[5,9,6,9],[5,15,6,15],[5,30,6,30]]}
["Nombre d'individus traités"]
["Structure administrative, population traitée par groupe d'âge et sexe"]
[]
["TOTAL",null,null,{"$f":"SUBTOTAL(9,D$10:D$1010)","v":0},{"$f":"SUBTOTAL(9,E$10:E$1010)","v":0},0,0,0,{"$f":"IF(D4>0, IF(H4/D4*100<>0, H4/D4*100, \"-\"),0)","v":0},{"$f":"SUBTOTAL(9,J$10:J$1010)","v":4018551.2159682633},1634032,1723059,3370813,3368701,{"$f":"IF(J4>0, IF(N4/J4*100<>0, N4/J4*100, \"-\"),0)","v":83.828743717736018},{"$f":"SUBTOTAL(9,P$10:P$1010)","v":2544074},1018029,1032777,0,0,{"$f":"IF(COUNTRY_INFO!N4>0, IF(T4/COUNTRY_INFO!N4*100<>0, T4/COUNTRY_INFO!N4*100, \"-\"),0)","v":"-"},2051932,{"$f":"SUBTOTAL(9,W$10:W$1010)","v":1614591},{"$f":"IF(COUNTRY_INFO!O4>0, IF(W4/COUNTRY_INFO!O4*100<>0,W4/COUNTRY_INFO!O4*100, \"-\"),0)","v":97.312646797000198},{"$f":"SUBTOTAL(9,Y$10:Y$1010)","v":0},{"$f":"SUBTOTAL(9,Z$10:Z$1010)","v":0},{"$f":"IF(COUNTRY_INFO!P4>0, IF(Z4/COUNTRY_INFO!P4*100<>0, Z4/COUNTRY_INFO!P4*100, \"-\"),0)","v":0},{"$f":"SUBTOTAL(9,AB$10:AB$1010)","v":2051932},{"$f":"SUBTOTAL(9,AC$10:AC$1010)","v":1614591},{"$f":"IF(P4>0, IF(AC4/P4*100<>0, AC4/P4*100, \"-\"),0)","v":63.464781291739158},{"$f":"SUBTOTAL(9,AE$10:AE$1010)","v":4196913},0,0,0,0,{"$f":"IF(COUNTRY_INFO!R4>0, IF(AI4/COUNTRY_INFO!R4*100<>0, AI4/COUNTRY_INFO!R4*100, \"-\"),0)","v":0},{"$f":"SUBTOTAL(9,AK$10:AK$1010)","v":1811333},0,{"$f":"IF(COUNTRY_INFO!S4>0, IF(AL4/COUNTRY_INFO!S4*100<>0, AL4/COUNTRY_INFO!S4*100, \"-\"),0)","v":0},{"$f":"SUBTOTAL(9,AN$10:AN$1010)","v":942535.48},{"$f":"SUBTOTAL(9,AO$10:AO$1010)","v":0},{"$f":"IF(COUNTRY_INFO!T4>0, IF(AO4/COUNTRY_INFO!T4*100<>0, AO4/COUNTRY_INFO!T4*100, \"-\"),0)","v":0},{"$f":"SUBTOTAL(9,AQ$10:AQ$1010)","v":2753868.48},{"$f":"SUBTOTAL(9,AR$10:AR$1010)","v":2753868.48},{"$f":"IF(AE4>0, IF(AR4/AE4*100<>0, AR4/AE4*100, \"-\"),0)","v":65.616525288944516}]
[null,null,null,null,null,null,null,null,null,null,null,null,null,null,null,2544074,1018029,1032777,0,0,null,null,null,null,null,0,null,2051932]
["Structure administrative du pays",null,null,"Population nécessitant la CP pour FL","Population traitée pour la filariose lymphatique",null,null,null,null,"Population nécessitant la CP pour ONCHO","Population traitée pour l'onchocercose",null,null,null,null,"Population nécessitant la CP pour STH","Population traitée pour les géohelminthiases",null,null,null,null,null,null,null,null,null,null,null,null,null,"Population nécessitant la CP pour SCH","Population traitée pour la schistosomiase",null,null,null,null,null,null,null,null,null,null,null,null,null,null,null,null,null,null,{"$f":"SUBTOTAL(9,AY10:AY1010)","v":160742.45775285581},{"$f":"SUBTOTAL(9,AZ10:AZ1010)","v":942789.09573251521},1767730.4461287493,2009276.3902033123,4880538.3898174316,{"$f":"COUNTIF(BD10:BD1010,\"Y\")","v":38},{"$f":"SUBTOTAL(9,BE10:BE1010)","v":0},2066965,2351883,4418848,0,1324569.1397428296,1992340.9231484549,3316910.0628912849,{"$f":"IF(BC6<>0,BL6/BC6,0)","v":0.67961970544306327}]
["Pays","Région/Département","District",null,"Masculine","Féminine","Total traité","Total traité ayant besoin de CP","(%)",null,"Masculine","Féminine","Total traité","Total traité ayant besoin de CP","(%)",null,"Masculine","Féminine","Total EAPréS traité","EAPréS traité ayant besoin de CP","EAPréS (%)","Total EAS traité","EAS traité ayant besoin de CP","EAS (%)","Total Adultes traité","Adultes traité ayant besoin de CP","Adultes (%)","Total traité","Total traité ayant besoin de CP","(%)",null,"Masculine","Féminine","Total EAPréS traité","EAPréS traité ayant besoin de CP","EAPréS (%)","Total EAS traité","EAS traité ayant besoin de CP","EAS (%)","Total Adultes traité","Adultes traité ayant besoin de CP","Adultes (%)","Total traité","Total traité ayant besoin de CP","(%)",null,"LF","ONCHO","STH","SCH","<1","PreSAC","SAC","Adults","Total","Dis","PreSAC","SAC","Adults","Total","PreSAC","SAC","Adults","Total","Coverage"]
[]
[]
[{"$f":"IF(COUNTRY_INFO!A10=0,\" \",COUNTRY_INFO!A10)","v":"Togo"},{"$f":"IF(COUNTRY_INFO!B10=0,\" \",COUNTRY_INFO!B10)","v":"CENTRALE"},{"$f":"IF(COUNTRY_INFO!C10=0,\" \",COUNTRY_INFO!C10)","v":"BLITTA"},{"$f":"COUNTRY_INFO!L10","v":"Non requis"},null,null,{"$f":"MAX('MDA1'!M10,'MDA2'!M10,'MDA5'!M10)","v":0},{"$f":"IF(AND(COUNTRY_INFO!H10>0,COUNTRY_INFO!H10<4),IF(D10>G10,G10,D10),0)","v":0},{"$f":"IF(AND(COUNTRY_INFO!H10>0,COUNTRY_INFO!H10<4), IF(G10/D10*100<>0, IF(G10/D10*100>100,100,G10/D10*100), \"-\"),0)","v":0},{"$f":"COUNTRY_INFO!M10","v":116301.890908642},50929,50807,{"$f":"MAX('MDA1'!M10,MAX('MDA3'!I10,'MDA3'!L10)+MAX('MDA3'!J10,'MDA3'!M10))","v":101736},{"$f":"IF(AND(COUNTRY_INFO!I10>0,COUNTRY_INFO!I10<4),IF(J10>M10,M10,J10),0)","v":101736},{"$f":"IF(AND(COUNTRY_INFO!I10>0,COUNTRY_INFO!I10<4), IF(M10/J10*100<>0, IF(M10/J10*100>100,100,M10/J10*100), \"-\"),0)","v":87.475791842383828},{"$f":"COUNTRY_INFO!Q10","v":78818},26069,26532,{"$f":"MAX('MDA2'!J10,'MDA5'!J10,'T1'!K10, MAX(T3_R1!J10,T3_R2!J10,T3_R3!J10))","v":0},{"$f":"IF(AND(COUNTRY_INFO!J10>1,COUNTRY_INFO!J10<99,COUNTRY_INFO!J10<>4,COUNTRY_INFO!J10<>5),IF(COUNTRY_INFO!N10>S10,S10,COUNTRY_INFO!N10),0)","v":0},{"$f":"IF(AND(COUNTRY_INFO!J10>1,COUNTRY_INFO!J10<99,COUNTRY_INFO!J10<>4,COUNTRY_INFO!J10<>5), IF(T10/COUNTRY_INFO!N10*100<>0, IF(T10/COUNTRY_INFO!N10*100>100,100,T10/COUNTRY_INFO!N10*100), \"-\"),0)","v":"-"},{"$f":"MAX('MDA1'!K10, 'MDA2'!K10, 'MDA5'!K10,'T1'!L10, MAX(T3_R1!K10,T3_R2!K10,T3_R3!K10))","v":52601},{"$f":"IF(AND(COUNTRY_INFO!J10>1,COUNTRY_INFO!J10<99,COUNTRY_INFO!J10<>4,COUNTRY_INFO!J10<>5),IF(COUNTRY_INFO!O10>V10,V10,COUNTRY_INFO!O10),0)","v":51403},{"$f":"IF(AND(COUNTRY_INFO!J10>1,COUNTRY_INFO!J10<99,COUNTRY_INFO!J10<>4,COUNTRY_INFO!J10<>5), IF(W10/COUNTRY_INFO!O10*100<>0, IF(W10/COUNTRY_INFO!O10*100>100,100,W10/COUNTRY_INFO!O10*100), \"-\"),0)","v":100},{"$f":"MAX('MDA1'!L10, 'MDA2'!L10, 'MDA5'!L10,'T1'!M10, MAX(T3_R1!L10,T3_R2!L10,T3_R3!L10))","v":0},{"$f":"IF(AND(COUNTRY_INFO!J10>1,COUNTRY_INFO!J10<99,COUNTRY_INFO!J10<>4,COUNTRY_INFO!J10<>5),IF(COUNTRY_INFO!P10>Y10,Y10,COUNTRY_INFO!P10),0)","v":0},{"$f":"IF(AND(COUNTRY_INFO!J10>1,COUNTRY_INFO!J10<99,COUNTRY_INFO!J10<>4,COUNTRY_INFO!J10<>5), IF(Z10/COUNTRY_INFO!P10*100<>0, IF(Z10/COUNTRY_INFO!P10*100>100,100,Z10/COUNTRY_INFO!P10*100), \"-\"),0)","v":{"$error":"#DIV/0!"}},{"$f":"SUM(S10,V10,Y10)","v":52601},{"$f":"SUM(T10,W10,Z10)","v":51403},{"$f":"IF(AND(COUNTRY_INFO!J10>1,COUNTRY_INFO!J10<99,COUNTRY_INFO!J10<>4,COUNTRY_INFO!J10<>5), IF(AC10/P10*100<>0, IF(AC10/P10*100>100,100,AC10/P10*100), \"-\"),0)","v":65.21733614149052},{"$f":"COUNTRY_INFO!U10","v":122604},null,null,{"$f":"MAX('T1'!K10,'T2'!R10)","v":0},{"$f":"IF(AND(COUNTRY_INFO!K10>1,COUNTRY_INFO!K10<99,COUNTRY_INFO!K10<>4,COUNTRY_INFO!K10<>5),IF(COUNTRY_INFO!R10>AH10,AH10,COUNTRY_INFO!R10),0)","v":0},{"$f":"IF(AND(COUNTRY_INFO!K10>1,COUNTRY_INFO!K10<99,COUNTRY_INFO!K10<>4,COUNTRY_INFO!K10<>5), IF(AI10/COUNTRY_INFO!R10*100<>0, IF(AI10/COUNTRY_INFO!R10*100>100,100,AI10/COUNTRY_INFO!R10*100), \"-\"),0)","v":{"$error":"#DIV/0!"}},{"$f":"MAX('T1'!L10,'T2'!S10)","v":52598},{"$f":"IF(AND(COUNTRY_INFO!K10>1,COUNTRY_INFO!K10<99,COUNTRY_INFO!K10<>4,COUNTRY_INFO!K10<>5),IF(COUNTRY_INFO!S10>AK10,AK10,COUNTRY_INFO!S10),0)","v":0},{"$f":"IF(AND(COUNTRY_INFO!K10>1,COUNTRY_INFO!K10<99,COUNTRY_INFO!K10<>4,COUNTRY_INFO!K10<>5), IF(AL10/COUNTRY_INFO!S10*100<>0, IF(AL10/COUNTRY_INFO!S10*100>100,100,AL10/COUNTRY_INFO!S10*100), \"-\"),0)","v":{"$error":"#DIV/0!"}},{"$f":"MAX('T1'!M10,'T2'!T10)","v":53505},{"$f":"IF(AND(COUNTRY_INFO!K10>1,COUNTRY_INFO!K10<99,COUNTRY_INFO!K10<>4,COUNTRY_INFO!K10<>5),IF(COUNTRY_INFO!T10>AN10,AN10,COUNTRY_INFO!T10),0)","v":0},{"$f":"IF(AND(COUNTRY_INFO!K10>1,COUNTRY_INFO!K10<99,COUNTRY_INFO!K10<>4,COUNTRY_INFO!K10<>5), IF(AO10/COUNTRY_INFO!T10*100<>0, IF(AO10/COUNTRY_INFO!T10*100>100,100,AO10/COUNTRY_INFO!T10*100), \"-\"),0)","v":{"$error":"#DIV/0!"}},{"$f":"SUM(AH10,AK10,AN10)","v":106103},106103,{"$f":"AR10/AE10*100","v":86.541222146096374},null,{"$f":"IF(AND(D10<>0, D10<>\"Inconnu\",D10<>\"Interrompu\",D10<>\"Non requis\"),D10/COUNTRY_INFO!D10, 0)","v":0},{"$f":"IF(AND(J10<>0,J10<>\"Inconnu\",J10<>\"Interrompu\",J10<>\"Non requis\"),J10/COUNTRY_INFO!D10, 0)","v":0.6787634215005135},{"$f":"IF(AND(P10<>0,P10<>\"Inconnu\",P10<>\"Surveillance\",P10<>\"Non requis\"),P10/COUNTRY_INFO!Q10, 0)","v":1},{"$f":"IF(AND(AE10<>0,AE10<>\"Inconnu\",AE10<>\"Surveillance\",AE10<>\"Non requis\"),AE10/COUNTRY_INFO!U10, 0)","v":1},{"$f":"IF(AU10>0,D10*PROFILE!$G$7,IF(AV10>0,J10*PROFILE!$G$7,0))","v":4652.0874766194029},{"$f":"_xlfn.IFS(OR(AU10>0,AW10>0),COUNTRY_INFO!E10, AV10>0,J10*PROFILE!$G$8,AX10>0,COUNTRY_INFO!R10,COUNTIFS(AU10:AX10,\">0\")=0,0)","v":27415},{"$f":"_xlfn.IFS(OR(AU10>0,AW10>0),COUNTRY_INFO!F10, AV10>0,J10*PROFILE!$G$9,AX10>0,COUNTRY_INFO!S10,COUNTIFS(AU10:AX10,\">0\")=0,0)","v":51403},{"$f":"_xlfn.IFS(AU10>0,COUNTRY_INFO!G10, AND(AV10>0,AW10=0,AX10=0),J10*PROFILE!$G$10,AND(AV10>0,AW10>0,AX10=0), MAX(J10*PROFILE!$G$10,COUNTRY_INFO!P10),AND(AV10>0,AW10=0,AX10>0), MAX(J10*PROFILE!$G$10,COUNTRY_INFO!T10),AND(AV10=0,AW10>0,AX10>0), MAX(COUNTRY_INFO!P10,COUNTRY_INFO!T10),AND(AV10=0,AW10>0,AX10=0),COUNTRY_INFO!P10,AND(AV10=0,AW10=0,AX10>0),COUNTRY_INFO!T10,AND(AV10>0,AW10>0,AX10>0), MAX(J10*PROFILE!$G$10,COUNTRY_INFO!P10,COUNTRY_INFO!T10),COUNTIFS(AU10:AX10,\">0\")=0,0)","v":58150.968092720992},{"$f":"SUM(AY10:BB10)","v":141621.05556934039},{"$f":"IF(COUNTIFS(AU10:AX10,\">0\")=0,0, IF(COUNTIFS(AU10:AX10,\">0\")<=IF(AND(OR(D10>=0,D10=\"Non requis\",D10=\"Inconnu\",D10=\"Interrompu\"),D10>0,H10>0),1,0)+IF(AND(OR(J10>=0,J10=\"Non requis\",J10=\"Inconnu\",J10=\"Interrompu\"),J10>0,N10>0),1,0)+IF(AND(OR(P10>=0,P10=\"Non requis\",P10=\"Surveillance\",P10=\"Inconnu\"),P10>0,AC10>0),1,0)+IF(AND(OR(AE10>=0,AE10=\"Non requis\",AE10=\"Surveillance\",AE10=\"Inconnu\"),AE10>0,AR10>0),1,0),\"Y\",0))","v":"Y"},{"$f":"MAX('MDA2'!J10,'MDA5'!J10,S10,AH10)","v":0},{"$f":"MAX('MDA1'!K10,'MDA2'!K10,'MDA3'!I10,'MDA3'!L10,'MDA5'!K10,V10,AK10)","v":52601},{"$f":"MAX('MDA1'!L10,'MDA2'!L10,'MDA3'!J10,'MDA3'!M10,'MDA5'!L10,Y10,AN10)","v":64815},{"$f":"SUM(BE10:BG10)","v":117416},{"$f":"_xlfn.IFS(AND(AU10=0,AW10=0,AX10=0),0,AND(AU10=0,AW10=0,AX10>0),AI10,AND(AU10=0,AW10>0,AX10=0),T10,AND(AU10=0,AW10>0,AX10>0),MAX(T10,AI10),AND(AU10>0,AW10=0,AX10=0),MIN(MAX('MDA2'!J10,'MDA5'!J10),AZ10),AND(AU10>0,AW10=0,AX10>0),MIN(MAX('MDA2'!J10,'MDA5'!J10,AI10),AZ10),AND(AU10>0,AW10>0,AX10=0),MIN(MAX('MDA2'!J10,'MDA5'!J10,T10),AZ10),AND(AU10>0,AW10>0,AX10>0),MIN(MAX('MDA2'!J10,'MDA5'!J10,AI10,T10),AZ10))","v":0},{"$f":"_xlfn.IFS(AND(AU10=0,AV10=0,AW10=0,AX10=0),0,AND(AU10=0,AV10=0,AW10=0,AX10>0),AL10,AND(AU10=0,AV10=0,AW10>0,AX10=0),W10,AND(AU10=0,AV10=0,AW10>0,AX10>0),MAX(W10,AL10),AND(AU10=0,AV10>0,AW10=0,AX10=0),MIN(J10*PROFILE!$G$9,MAX('MDA3'!I10,'MDA3'!L10)),AND(AU10=0,AV10>0,AW10=0,AX10>0),MIN(J10*PROFILE!$G$9,MAX('MDA3'!I10,'MDA3'!L10,AL10)),AND(AU10=0,AV10>0,AW10>0,AX10=0),MIN(J10*PROFILE!$G$9,MAX('MDA3'!I10,'MDA3'!L10,W10)),AND(AU10=0,AV10>0,AW10>0,AX10>0),MIN(J10*PROFILE!$G$9,MAX('MDA3'!I10,'MDA3'!L10,W10,AL10)),AND(AU10>0,AV10=0,AW10=0,AX10=0), MIN(BA10,MAX('MDA1'!K10,'MDA2'!K10,'MDA5'!K10)),AND(AU10>0,AV10=0,AW10=0,AX10>0), MIN(BA10,MAX('MDA1'!K10,'MDA2'!K10,'MDA5'!K10,AL10)),AND(AU10>0,AV10=0,AW10>0,AX10=0),MIN(BA10,MAX('MDA1'!K10,'MDA2'!KL10,'MDA5'!K10,W10)),AND(AU10>0,AV10=0,AW10>0,AX10>0),MIN(BA10,MAX('MDA1'!K10,'MDA2'!K10,'MDA5'!K10,W10,AL10)),AND(AU10>0,AV10>0,AW10=0,AX10=0),MIN(BA10, MAX('MDA1'!K10,'MDA2'!K10, 'MDA5'!K10,MAX('MDA3'!I10,'MDA3'!L10))), AND(AU10>0,AV10>0,AW10=0,AX10>0),MIN(BA10, MAX('MDA1'!K10,'MDA2'!K10, 'MDA5'!K10,MAX('MDA3'!I10,'MDA3'!L10),AL10)), AND(AU10>0,AV10>0,AW10>0,AX10=0), MIN(BA10, MAX('MDA1'!K10,'MDA2'!K10, 'MDA5'!K10,MAX('MDA3'!I10,'MDA3'!L10),W10)), AND(AU10>0,AV10>0,AW10>0,AX10>0), MIN(BA10, MAX('MDA1'!K10,'MDA2'!K10, 'MDA5'!K10,MAX('MDA3'!I10,'MDA3'!L10),W10,AL10)))","v":34890.546645734634},{"$f":"_xlfn.IFS(AND(AU10=0,AV10=0,AW10=0,AX10=0),0,AND(AU10=0,AV10=0,AW10=0,AX10>0),AO10,AND(AU10=0,AV10=0,AW10>0,AX10=0),Z10,AND(AU10=0,AV10=0,AW10>0,AX10>0),MAX(Z10,AO10),AND(AU10=0,AV10>0,AW10=0,AX10=0),MIN(J10*PROFILE!$G$10,MAX('MDA3'!J10,'MDA3'!J10)),AND(AU10=0,AV10>0,AW10=0,AX10>0),MIN(J10*PROFILE!$G$10,MAX('MDA3'!J10,'MDA3'!M10,AO10)),AND(AU10=0,AV10>0,AW10>0,AX10=0),MIN(J10*PROFILE!$G$10,MAX('MDA3'!J10,'MDA3'!M10,Z10)),AND(AU10=0,AV10>0,AW10>0,AX10>0),MIN(J10*PROFILE!$G$10,MAX('MDA3'!J10,'MDA3'!M10,Z10,AO10)),AND(AU10>0,AV10=0,AW10=0,AX10=0), MIN(BB10,MAX('MDA1'!L10,'MDA2'!L10,'MDA5'!L10)),AND(AU10>0,AV10=0,AW10=0,AX10>0), MIN(BB10,MAX('MDA1'!L10,'MDA2'!L10,'MDA5'!L10,AO10)),AND(AU10>0,AV10=0,AW10>0,AX10=0),MIN(BB10,MAX('MDA1'!L10,'MDA2'!L10,'MDA5'!L10,Z10)),AND(AU10>0,AV10=0,AW10>0,AX10>0),MIN(BB10,MAX('MDA1'!L10,'MDA2'!L10,'MDA5'!L10,Z10,AO10)),AND(AU10>0,AV10>0,AW10=0,AX10=0),MIN(BB10, MAX('MDA1'!L10,'MDA2'!L10, 'MDA5'!L10,MAX('MDA3'!J10,'MDA3'!M10))), AND(AU10>0,AV10>0,AW10=0,AX10>0),MIN(BB10, MAX('MDA1'!L10,'MDA2'!L10, 'MDA5'!L10,MAX('MDA3'!J10,'MDA3'!M10),AO10)), AND(AU10>0,AV10>0,AW10>0,AX10=0), MIN(BB10, MAX('MDA1'!L10,'MDA2'!L10, 'MDA5'!L10,MAX('MDA3'!J10,'MDA3'!M10),Z10)), AND(AU10>0,AV10>0,AW10>0,AX10>0), MIN(BB10, MAX('MDA1'!L10,'MDA2'!L10, 'MDA5'!L10,MAX('MDA3'!J10,'MDA3'!M10),Z10,AO10)))","v":58150.968092720992},{"$f":"SUM(BI10:BK10)","v":93041.514738455618},{"$f":"IF(BC10<>0,BL10/BC10*100,0)","v":65.697515361972918}]
[{"$f":"IF(COUNTRY_INFO!A11=0,\" \",COUNTRY_INFO!A11)","v":"Togo"},{"$f":"IF(COUNTRY_INFO!B11=0,\" \",COUNTRY_INFO!B11)","v":"CENTRALE"},{"$f":"IF(COUNTRY_INFO!C11=0,\" \",COUNTRY_INFO!C11)","v":"MÔ"},{"$f":"COUNTRY_INFO!L11","v":"Non requis"},null,null,{"$f":"MAX('MDA1'!M11,'MDA2'!M11,'MDA5'!M11)","v":0},{"$f":"IF(AND(COUNTRY_INFO!H11>0,COUNTRY_INFO!H11<4),IF(D11>G11,G11,D11),0)","v":0},{"$f":"IF(AND(COUNTRY_INFO!H11>0,COUNTRY_INFO!H11<4), IF(G11/D11*100<>0, IF(G11/D11*100>100,100,G11/D11*100), \"-\"),0)","v":0},{"$f":"COUNTRY_INFO!M11","v":47989},20406,21081,{"$f":"MAX('MDA1'!M11,MAX('MDA3'!I11,'MDA3'!L11)+MAX('MDA3'!J11,'MDA3'!M11))","v":41487},{"$f":"IF(AND(COUNTRY_INFO!I11>0,COUNTRY_INFO!I11<4),IF(J11>M11,M11,J11),0)","v":41487},{"$f":"IF(AND(COUNTRY_INFO!I11>0,COUNTRY_INFO!I11<4), IF(M11/J11*100<>0, IF(M11/J11*100>100,100,M11/J11*100), \"-\"),0)","v":86.451061701639958},{"$f":"COUNTRY_INFO!Q11","v":22075},7328,7440,{"$f":"MAX('MDA2'!J11,'MDA5'!J11,'T1'!K11, MAX(T3_R1!J11,T3_R2!J11,T3_R3!J11))","v":0},{"$f":"IF(AND(COUNTRY_INFO!J11>1,COUNTRY_INFO!J11<99,COUNTRY_INFO!J11<>4,COUNTRY_INFO!J11<>5),IF(COUNTRY_INFO!N11>S11,S11,COUNTRY_INFO!N11),0)","v":0},{"$f":"IF(AND(COUNTRY_INFO!J11>1,COUNTRY_INFO!J11<99,COUNTRY_INFO!J11<>4,COUNTRY_INFO!J11<>5), IF(T11/COUNTRY_INFO!N11*100<>0, IF(T11/COUNTRY_INFO!N11*100>100,100,T11/COUNTRY_INFO!N11*100), \"-\"),0)","v":"-"},{"$f":"MAX('MDA1'!K11, 'MDA2'!K11, 'MDA5'!K11,'T1'!L11, MAX(T3_R1!K11,T3_R2!K11,T3_R3!K11))","v":14768},{"$f":"IF(AND(COUNTRY_INFO!J11>1,COUNTRY_INFO!J11<99,COUNTRY_INFO!J11<>4,COUNTRY_INFO!J11<>5),IF(COUNTRY_INFO!O11>V11,V11,COUNTRY_INFO!O11),0)","v":14397},{"$f":"IF(AND(COUNTRY_INFO!J11>1,COUNTRY_INFO!J11<99,COUNTRY_INFO!J11<>4,COUNTRY_INFO!J11<>5), IF(W11/COUNTRY_INFO!O11*100<>0, IF(W11/COUNTRY_INFO!O11*100>100,100,W11/COUNTRY_INFO!O11*100), \"-\"),0)","v":100},{"$f":"MAX('MDA1'!L11, 'MDA2'!L11, 'MDA5'!L11,'T1'!M11, MAX(T3_R1!L11,T3_R2!L11,T3_R3!L11))","v":0},{"$f":"IF(AND(COUNTRY_INFO!J11>1,COUNTRY_INFO!J11<99,COUNTRY_INFO!J11<>4,COUNTRY_INFO!J11<>5),IF(COUNTRY_INFO!P11>Y11,Y11,COUNTRY_INFO!P11),0)","v":0},{"$f":"IF(AND(COUNTRY_INFO!J11>1,COUNTRY_INFO!J11<99,COUNTRY_INFO!J11<>4,COUNTRY_INFO!J11<>5), IF(Z11/COUNTRY_INFO!P11*100<>0, IF(Z11/COUNTRY_INFO!P11*100>100,100,Z11/COUNTRY_INFO!P11*100), \"-\"),0)","v":{"$error":"#DIV/0!"}},{"$f":"SUM(S11,V11,Y11)","v":14768},{"$f":"SUM(T11,W11,Z11)","v":14397},{"$f":"IF(AND(COUNTRY_INFO!J11>1,COUNTRY_INFO!J11<99,COUNTRY_INFO!J11<>4,COUNTRY_INFO!J11<>5), IF(AC11/P11*100<>0, IF(AC11/P11*100>100,100,AC11/P11*100), \"-\"),0)","v":65.21857304643261},{"$f":"COUNTRY_INFO!U11","v":36004},null,null,{"$f":"MAX('T1'!K11,'T2'!R11)","v":0},{"$f":"IF(AND(COUNTRY_INFO!K11>1,COUNTRY_INFO!K11<99,COUNTRY_INFO!K11<>4,COUNTRY_INFO!K11<>5),IF(COUNTRY_INFO!R11>AH11,AH11,COUNTRY_INFO!R11),0)","v":0},{"$f":"IF(AND(COUNTRY_INFO!K11>1,COUNTRY_INFO!K11<99,COUNTRY_INFO!K11<>4,COUNTRY_INFO!K11<>5), IF(AI11/COUNTRY_INFO!R11*100<>0, IF(AI11/COUNTRY_INFO!R11*100>100,100,AI11/COUNTRY_INFO!R11*100), \"-\"),0)","v":0},{"$f":"MAX('T1'!L11,'T2'!S11)","v":8649},{"$f":"IF(AND(COUNTRY_INFO!K11>1,COUNTRY_INFO!K11<99,COUNTRY_INFO!K11<>4,COUNTRY_INFO!K11<>5),IF(COUNTRY_INFO!S11>AK11,AK11,COUNTRY_INFO!S11),0)","v":0},{"$f":"IF(AND(COUNTRY_INFO!K11>1,COUNTRY_INFO!K11<99,COUNTRY_INFO!K11<>4,COUNTRY_INFO!K11<>5), IF(AL11/COUNTRY_INFO!S11*100<>0, IF(AL11/COUNTRY_INFO!S11*100>100,100,AL11/COUNTRY_INFO!S11*100), \"-\"),0)","v":0},{"$f":"MAX('T1'!M11,'T2'!T11)","v":0},{"$f":"IF(AND(COUNTRY_INFO!K11>1,COUNTRY_INFO!K11<99,COUNTRY_INFO!K11<>4,COUNTRY_INFO!K11<>5),IF(COUNTRY_INFO!T11>AN11,AN11,COUNTRY_INFO!T11),0)","v":0},{"$f":"IF(AND(COUNTRY_INFO!K11>1,COUNTRY_INFO!K11<99,COUNTRY_INFO!K11<>4,COUNTRY_INFO!K11<>5), IF(AO11/COUNTRY_INFO!T11*100<>0, IF(AO11/COUNTRY_INFO!T11*100>100,100,AO11/COUNTRY_INFO!T11*100), \"-\"),0)","v":0},{"$f":"SUM(AH11,AK11,AN11)","v":8649},8649,{"$f":"AR11/AE11*100","v":24.022330852127542},null,{"$f":"IF(AND(D11<>0, D11<>\"Inconnu\",D11<>\"Interrompu\",D11<>\"Non requis\"),D11/COUNTRY_INFO!D11, 0)","v":0},{"$f":"IF(AND(J11<>0,J11<>\"Inconnu\",J11<>\"Interrompu\",J11<>\"Non requis\"),J11/COUNTRY_INFO!D11, 0)","v":0.99999463213200457},{"$f":"IF(AND(P11<>0,P11<>\"Inconnu\",P11<>\"Surveillance\",P11<>\"Non requis\"),P11/COUNTRY_INFO!Q11, 0)","v":1},{"$f":"IF(AND(AE11<>0,AE11<>\"Inconnu\",AE11<>\"Surveillance\",AE11<>\"Non requis\"),AE11/COUNTRY_INFO!U11, 0)","v":1},{"$f":"IF(AU11>0,D11*PROFILE!$G$7,IF(AV11>0,J11*PROFILE!$G$7,0))","v":1919.5648855860488},{"$f":"_xlfn.IFS(OR(AU11>0,AW11>0),COUNTRY_INFO!E11, AV11>0,J11*PROFILE!$G$8,AX11>0,COUNTRY_INFO!R11,COUNTIFS(AU11:AX11,\">0\")=0,0)","v":7678},{"$f":"_xlfn.IFS(OR(AU11>0,AW11>0),COUNTRY_INFO!F11, AV11>0,J11*PROFILE!$G$9,AX11>0,COUNTRY_INFO!S11,COUNTIFS(AU11:AX11,\">0\")=0,0)","v":14397},{"$f":"_xlfn.IFS(AU11>0,COUNTRY_INFO!G11, AND(AV11>0,AW11=0,AX11=0),J11*PROFILE!$G$10,AND(AV11>0,AW11>0,AX11=0), MAX(J11*PROFILE!$G$10,COUNTRY_INFO!P11),AND(AV11>0,AW11=0,AX11>0), MAX(J11*PROFILE!$G$10,COUNTRY_INFO!T11),AND(AV11=0,AW11>0,AX11>0), MAX(COUNTRY_INFO!P11,COUNTRY_INFO!T11),AND(AV11=0,AW11>0,AX11=0),COUNTRY_INFO!P11,AND(AV11=0,AW11=0,AX11>0),COUNTRY_INFO!T11,AND(AV11>0,AW11>0,AX11>0), MAX(J11*PROFILE!$G$10,COUNTRY_INFO!P11,COUNTRY_INFO!T11),COUNTIFS(AU11:AX11,\">0\")=0,0)","v":23994.509341156612},{"$f":"SUM(AY11:BB11)","v":47989.074226742661},"Y",{"$f":"MAX('MDA2'!J11,'MDA5'!J11,S11,AH11)","v":0},{"$f":"MAX('MDA1'!K11,'MDA2'!K11,'MDA3'!I11,'MDA3'!L11,'MDA5'!K11,V11,AK11)","v":14911},{"$f":"MAX('MDA1'!L11,'MDA2'!L11,'MDA3'!J11,'MDA3'!M11,'MDA5'!L11,Y11,AN11)","v":26576},{"$f":"SUM(BE11:BG11)","v":41487},{"$f":"_xlfn.IFS(AND(AU11=0,AW11=0,AX11=0),0,AND(AU11=0,AW11=0,AX11>0),AI11,AND(AU11=0,AW11>0,AX11=0),T11,AND(AU11=0,AW11>0,AX11>0),MAX(T11,AI11),AND(AU11>0,AW11=0,AX11=0),MIN(MAX('MDA2'!J11,'MDA5'!J11),AZ11),AND(AU11>0,AW11=0,AX11>0),MIN(MAX('MDA2'!J11,'MDA5'!J11,AI11),AZ11),AND(AU11>0,AW11>0,AX11=0),MIN(MAX('MDA2'!J11,'MDA5'!J11,T11),AZ11),AND(AU11>0,AW11>0,AX11>0),MIN(MAX('MDA2'!J11,'MDA5'!J11,AI11,T11),AZ11))","v":0},{"$f":"_xlfn.IFS(AND(AU11=0,AV11=0,AW11=0,AX11=0),0,AND(AU11=0,AV11=0,AW11=0,AX11>0),AL11,AND(AU11=0,AV11=0,AW11>0,AX11=0),W11,AND(AU11=0,AV11=0,AW11>0,AX11>0),MAX(W11,AL11),AND(AU11=0,AV11>0,AW11=0,AX11=0),MIN(J11*PROFILE!$G$9,MAX('MDA3'!I11,'MDA3'!L11)),AND(AU11=0,AV11>0,AW11=0,AX11>0),MIN(J11*PROFILE!$G$9,MAX('MDA3'!I11,'MDA3'!L11,AL11)),AND(AU11=0,AV11>0,AW11>0,AX11=0),MIN(J11*PROFILE!$G$9,MAX('MDA3'!I11,'MDA3'!L11,W11)),AND(AU11=0,AV11>0,AW11>0,AX11>0),MIN(J11*PROFILE!$G$9,MAX('MDA3'!I11,'MDA3'!L11,W11,AL11)),AND(AU11>0,AV11=0,AW11=0,AX11=0), MIN(BA11,MAX('MDA1'!K11,'MDA2'!K11,'MDA5'!K11)),AND(AU11>0,AV11=0,AW11=0,AX11>0), MIN(BA11,MAX('MDA1'!K11,'MDA2'!K11,'MDA5'!K11,AL11)),AND(AU11>0,AV11=0,AW11>0,AX11=0),MIN(BA11,MAX('MDA1'!K11,'MDA2'!KL11,'MDA5'!K11,W11)),AND(AU11>0,AV11=0,AW11>0,AX11>0),MIN(BA11,MAX('MDA1'!K11,'MDA2'!K11,'MDA5'!K11,W11,AL11)),AND(AU11>0,AV11>0,AW11=0,AX11=0),MIN(BA11, MAX('MDA1'!K11,'MDA2'!K11, 'MDA5'!K11,MAX('MDA3'!I11,'MDA3'!L11))), AND(AU11>0,AV11>0,AW11=0,AX11>0),MIN(BA11, MAX('MDA1'!K11,'MDA2'!K11, 'MDA5'!K11,MAX('MDA3'!I11,'MDA3'!L11),AL11)), AND(AU11>0,AV11>0,AW11>0,AX11=0), MIN(BA11, MAX('MDA1'!K11,'MDA2'!K11, 'MDA5'!K11,MAX('MDA3'!I11,'MDA3'!L11),W11)), AND(AU11>0,AV11>0,AW11>0,AX11>0), MIN(BA11, MAX('MDA1'!K11,'MDA2'!K11, 'MDA5'!K11,MAX('MDA3'!I11,'MDA3'!L11),W11,AL11)))","v":14396.691488854745},{"$f":"_xlfn.IFS(AND(AU11=0,AV11=0,AW11=0,AX11=0),0,AND(AU11=0,AV11=0,AW11=0,AX11>0),AO11,AND(AU11=0,AV11=0,AW11>0,AX11=0),Z11,AND(AU11=0,AV11=0,AW11>0,AX11>0),MAX(Z11,AO11),AND(AU11=0,AV11>0,AW11=0,AX11=0),MIN(J11*PROFILE!$G$10,MAX('MDA3'!J11,'MDA3'!J11)),AND(AU11=0,AV11>0,AW11=0,AX11>0),MIN(J11*PROFILE!$G$10,MAX('MDA3'!J11,'MDA3'!M11,AO11)),AND(AU11=0,AV11>0,AW11>0,AX11=0),MIN(J11*PROFILE!$G$10,MAX('MDA3'!J11,'MDA3'!M11,Z11)),AND(AU11=0,AV11>0,AW11>0,AX11>0),MIN(J11*PROFILE!$G$10,MAX('MDA3'!J11,'MDA3'!M11,Z11,AO11)),AND(AU11>0,AV11=0,AW11=0,AX11=0), MIN(BB11,MAX('MDA1'!L11,'MDA2'!L11,'MDA5'!L11)),AND(AU11>0,AV11=0,AW11=0,AX11>0), MIN(BB11,MAX('MDA1'!L11,'MDA2'!L11,'MDA5'!L11,AO11)),AND(AU11>0,AV11=0,AW11>0,AX11=0),MIN(BB11,MAX('MDA1'!L11,'MDA2'!L11,'MDA5'!L11,Z11)),AND(AU11>0,AV11=0,AW11>0,AX11>0),MIN(BB11,MAX('MDA1'!L11,'MDA2'!L11,'MDA5'!L11,Z11,AO11)),AND(AU11>0,AV11>0,AW11=0,AX11=0),MIN(BB11, MAX('MDA1'!L11,'MDA2'!L11, 'MDA5'!L11,MAX('MDA3'!J11,'MDA3'!M11))), AND(AU11>0,AV11>0,AW11=0,AX11>0),MIN(BB11, MAX('MDA1'!L11,'MDA2'!L11, 'MDA5'!L11,MAX('MDA3'!J11,'MDA3'!M11),AO11)), AND(AU11>0,AV11>0,AW11>0,AX11=0), MIN(BB11, MAX('MDA1'!L11,'MDA2'!L11, 'MDA5'!L11,MAX('MDA3'!J11,'MDA3'!M11),Z11)), AND(AU11>0,AV11>0,AW11>0,AX11>0), MIN(BB11, MAX('MDA1'!L11,'MDA2'!L11, 'MDA5'!L11,MAX('MDA3'!J11,'MDA3'!M11),Z11,AO11)))","v":23994.509341156612},{"$f":"SUM(BI11:BK11)","v":38391.200830011359},{"$f":"IF(BC11<>0,BL11/BC11*100,0)","v":79.99987799018065}]
[{"$f":"IF(COUNTRY_INFO!A12=0,\" \",COUNTRY_INFO!A12)","v":"Togo"},{"$f":"IF(COUNTRY_INFO!B12=0,\" \",COUNTRY_INFO!B12)","v":"CENTRALE"},{"$f":"IF(COUNTRY_INFO!C12=0,\" \",COUNTRY_INFO!C12)","v":"SOTOUBOUA"},{"$f":"COUNTRY_INFO!L12","v":"Non requis"},null,null,{"$f":"MAX('MDA1'!M12,'MDA2'!M12,'MDA5'!M12)","v":0},{"$f":"IF(AND(COUNTRY_INFO!H12>0,COUNTRY_INFO!H12<4),IF(D12>G12,G12,D12),0)","v":0},{"$f":"IF(AND(COUNTRY_INFO!H12>0,COUNTRY_INFO!H12<4), IF(G12/D12*100<>0, IF(G12/D12*100>100,100,G12/D12*100), \"-\"),0)","v":0},{"$f":"COUNTRY_INFO!M12","v":72290.538273287471},30946,30067,{"$f":"MAX('MDA1'!M12,MAX('MDA3'!I12,'MDA3'!L12)+MAX('MDA3'!J12,'MDA3'!M12))","v":61013},{"$f":"IF(AND(COUNTRY_INFO!I12>0,COUNTRY_INFO!I12<4),IF(J12>M12,M12,J12),0)","v":61013},{"$f":"IF(AND(COUNTRY_INFO!I12>0,COUNTRY_INFO!I12<4), IF(M12/J12*100<>0, IF(M12/J12*100>100,100,M12/J12*100), \"-\"),0)","v":84.399703553660345},{"$f":"COUNTRY_INFO!Q12","v":66397},20581,20024,{"$f":"MAX('MDA2'!J12,'MDA5'!J12,'T1'!K12, MAX(T3_R1!J12,T3_R2!J12,T3_R3!J12))","v":0},{"$f":"IF(AND(COUNTRY_INFO!J12>1,COUNTRY_INFO!J12<99,COUNTRY_INFO!J12<>4,COUNTRY_INFO!J12<>5),IF(COUNTRY_INFO!N12>S12,S12,COUNTRY_INFO!N12),0)","v":0},{"$f":"IF(AND(COUNTRY_INFO!J12>1,COUNTRY_INFO!J12<99,COUNTRY_INFO!J12<>4,COUNTRY_INFO!J12<>5), IF(T12/COUNTRY_INFO!N12*100<>0, IF(T12/COUNTRY_INFO!N12*100>100,100,T12/COUNTRY_INFO!N12*100), \"-\"),0)","v":"-"},{"$f":"MAX('MDA1'!K12, 'MDA2'!K12, 'MDA5'!K12,'T1'!L12, MAX(T3_R1!K12,T3_R2!K12,T3_R3!K12))","v":40605},{"$f":"IF(AND(COUNTRY_INFO!J12>1,COUNTRY_INFO!J12<99,COUNTRY_INFO!J12<>4,COUNTRY_INFO!J12<>5),IF(COUNTRY_INFO!O12>V12,V12,COUNTRY_INFO!O12),0)","v":40605},{"$f":"IF(AND(COUNTRY_INFO!J12>1,COUNTRY_INFO!J12<99,COUNTRY_INFO!J12<>4,COUNTRY_INFO!J12<>5), IF(W12/COUNTRY_INFO!O12*100<>0, IF(W12/COUNTRY_INFO!O12*100>100,100,W12/COUNTRY_INFO!O12*100), \"-\"),0)","v":93.771650270195366},{"$f":"MAX('MDA1'!L12, 'MDA2'!L12, 'MDA5'!L12,'T1'!M12, MAX(T3_R1!L12,T3_R2!L12,T3_R3!L12))","v":0},{"$f":"IF(AND(COUNTRY_INFO!J12>1,COUNTRY_INFO!J12<99,COUNTRY_INFO!J12<>4,COUNTRY_INFO!J12<>5),IF(COUNTRY_INFO!P12>Y12,Y12,COUNTRY_INFO!P12),0)","v":0},{"$f":"IF(AND(COUNTRY_INFO!J12>1,COUNTRY_INFO!J12<99,COUNTRY_INFO!J12<>4,COUNTRY_INFO!J12<>5), IF(Z12/COUNTRY_INFO!P12*100<>0, IF(Z12/COUNTRY_INFO!P12*100>100,100,Z12/COUNTRY_INFO!P12*100), \"-\"),0)","v":{"$error":"#DIV/0!"}},40605,40605,{"$f":"IF(AND(COUNTRY_INFO!J12>1,COUNTRY_INFO!J12<99,COUNTRY_INFO!J12<>4,COUNTRY_INFO!J12<>5), IF(AC12/P12*100<>0, IF(AC12/P12*100>100,100,AC12/P12*100), \"-\"),0)","v":61.154871455035618},{"$f":"COUNTRY_INFO!U12","v":64690},null,null,{"$f":"MAX('T1'!K12,'T2'!R12)","v":0},{"$f":"IF(AND(COUNTRY_INFO!K12>1,COUNTRY_INFO!K12<99,COUNTRY_INFO!K12<>4,COUNTRY_INFO!K12<>5),IF(COUNTRY_INFO!R12>AH12,AH12,COUNTRY_INFO!R12),0)","v":0},{"$f":"IF(AND(COUNTRY_INFO!K12>1,COUNTRY_INFO!K12<99,COUNTRY_INFO!K12<>4,COUNTRY_INFO!K12<>5), IF(AI12/COUNTRY_INFO!R12*100<>0, IF(AI12/COUNTRY_INFO!R12*100>100,100,AI12/COUNTRY_INFO!R12*100), \"-\"),0)","v":{"$error":"#DIV/0!"}},{"$f":"MAX('T1'!L12,'T2'!S12)","v":26990},{"$f":"IF(AND(COUNTRY_INFO!K12>1,COUNTRY_INFO!K12<99,COUNTRY_INFO!K12<>4,COUNTRY_INFO!K12<>5),IF(COUNTRY_INFO!S12>AK12,AK12,COUNTRY_INFO!S12),0)","v":0},{"$f":"IF(AND(COUNTRY_INFO!K12>1,COUNTRY_INFO!K12<99,COUNTRY_INFO!K12<>4,COUNTRY_INFO!K12<>5), IF(AL12/COUNTRY_INFO!S12*100<>0, IF(AL12/COUNTRY_INFO!S12*100>100,100,AL12/COUNTRY_INFO!S12*100), \"-\"),0)","v":{"$error":"#DIV/0!"}},{"$f":"MAX('T1'!M12,'T2'!T12)","v":1420},{"$f":"IF(AND(COUNTRY_INFO!K12>1,COUNTRY_INFO!K12<99,COUNTRY_INFO!K12<>4,COUNTRY_INFO!K12<>5),IF(COUNTRY_INFO!T12>AN12,AN12,COUNTRY_INFO!T12),0)","v":0},{"$f":"IF(AND(COUNTRY_INFO!K12>1,COUNTRY_INFO!K12<99,COUNTRY_INFO!K12<>4,COUNTRY_INFO!K12<>5), IF(AO12/COUNTRY_INFO!T12*100<>0, IF(AO12/COUNTRY_INFO!T12*100>100,100,AO12/COUNTRY_INFO!T12*100), \"-\"),0)","v":{"$error":"#DIV/0!"}},28410,28410,43.917143298809705,null,{"$f":"IF(AND(D12<>0, D12<>\"Inconnu\",D12<>\"Interrompu\",D12<>\"Non requis\"),D12/COUNTRY_INFO!D12, 0)","v":0},{"$f":"IF(AND(J12<>0,J12<>\"Inconnu\",J12<>\"Interrompu\",J12<>\"Non requis\"),J12/COUNTRY_INFO!D12, 0)","v":0.50083134525268058},{"$f":"IF(AND(P12<>0,P12<>\"Inconnu\",P12<>\"Surveillance\",P12<>\"Non requis\"),P12/COUNTRY_INFO!Q12, 0)","v":1},{"$f":"IF(AND(AE12<>0,AE12<>\"Inconnu\",AE12<>\"Surveillance\",AE12<>\"Non requis\"),AE12/COUNTRY_INFO!U12, 0)","v":1},{"$f":"IF(AU12>0,D12*PROFILE!$G$7,IF(AV12>0,J12*PROFILE!$G$7,0))","v":2891.6288905690253},{"$f":"_xlfn.IFS(OR(AU12>0,AW12>0),COUNTRY_INFO!E12, AV12>0,J12*PROFILE!$G$8,AX12>0,COUNTRY_INFO!R12,COUNTIFS(AU12:AX12,\">0\")=0,0)","v":23095},{"$f":"_xlfn.IFS(OR(AU12>0,AW12>0),COUNTRY_INFO!F12, AV12>0,J12*PROFILE!$G$9,AX12>0,COUNTRY_INFO!S12,COUNTIFS(AU12:AX12,\">0\")=0,0)","v":43302},{"$f":"_xlfn.IFS(AU12>0,COUNTRY_INFO!G12, AND(AV12>0,AW12=0,AX12=0),J12*PROFILE!$G$10,AND(AV12>0,AW12>0,AX12=0), MAX(J12*PROFILE!$G$10,COUNTRY_INFO!P12),AND(AV12>0,AW12=0,AX12>0), MAX(J12*PROFILE!$G$10,COUNTRY_INFO!T12),AND(AV12=0,AW12>0,AX12>0), MAX(COUNTRY_INFO!P12,COUNTRY_INFO!T12),AND(AV12=0,AW12>0,AX12=0),COUNTRY_INFO!P12,AND(AV12=0,AW12=0,AX12>0),COUNTRY_INFO!T12,AND(AV12>0,AW12>0,AX12>0), MAX(J12*PROFILE!$G$10,COUNTRY_INFO!P12,COUNTRY_INFO!T12),COUNTIFS(AU12:AX12,\">0\")=0,0)","v":36145.283208144276},105433.91209871331,"Y",{"$f":"MAX('MDA2'!J12,'MDA5'!J12,S12,AH12)","v":0},{"$f":"MAX('MDA1'!K12,'MDA2'!K12,'MDA3'!I12,'MDA3'!L12,'MDA5'!K12,V12,AK12)","v":40605},{"$f":"MAX('MDA1'!L12,'MDA2'!L12,'MDA3'!J12,'MDA3'!M12,'MDA5'!L12,Y12,AN12)","v":40411},81016,{"$f":"_xlfn.IFS(AND(AU12=0,AW12=0,AX12=0),0,AND(AU12=0,AW12=0,AX12>0),AI12,AND(AU12=0,AW12>0,AX12=0),T12,AND(AU12=0,AW12>0,AX12>0),MAX(T12,AI12),AND(AU12>0,AW12=0,AX12=0),MIN(MAX('MDA2'!J12,'MDA5'!J12),AZ12),AND(AU12>0,AW12=0,AX12>0),MIN(MAX('MDA2'!J12,'MDA5'!J12,AI12),AZ12),AND(AU12>0,AW12>0,AX12=0),MIN(MAX('MDA2'!J12,'MDA5'!J12,T12),AZ12),AND(AU12>0,AW12>0,AX12>0),MIN(MAX('MDA2'!J12,'MDA5'!J12,AI12,T12),AZ12))","v":0},{"$f":"_xlfn.IFS(AND(AU12=0,AV12=0,AW12=0,AX12=0),0,AND(AU12=0,AV12=0,AW12=0,AX12>0),AL12,AND(AU12=0,AV12=0,AW12>0,AX12=0),W12,AND(AU12=0,AV12=0,AW12>0,AX12>0),MAX(W12,AL12),AND(AU12=0,AV12>0,AW12=0,AX12=0),MIN(J12*PROFILE!$G$9,MAX('MDA3'!I12,'MDA3'!L12)),AND(AU12=0,AV12>0,AW12=0,AX12>0),MIN(J12*PROFILE!$G$9,MAX('MDA3'!I12,'MDA3'!L12,AL12)),AND(AU12=0,AV12>0,AW12>0,AX12=0),MIN(J12*PROFILE!$G$9,MAX('MDA3'!I12,'MDA3'!L12,W12)),AND(AU12=0,AV12>0,AW12>0,AX12>0),MIN(J12*PROFILE!$G$9,MAX('MDA3'!I12,'MDA3'!L12,W12,AL12)),AND(AU12>0,AV12=0,AW12=0,AX12=0), MIN(BA12,MAX('MDA1'!K12,'MDA2'!K12,'MDA5'!K12)),AND(AU12>0,AV12=0,AW12=0,AX12>0), MIN(BA12,MAX('MDA1'!K12,'MDA2'!K12,'MDA5'!K12,AL12)),AND(AU12>0,AV12=0,AW12>0,AX12=0),MIN(BA12,MAX('MDA1'!K12,'MDA2'!KL12,'MDA5'!K12,W12)),AND(AU12>0,AV12=0,AW12>0,AX12>0),MIN(BA12,MAX('MDA1'!K12,'MDA2'!K12,'MDA5'!K12,W12,AL12)),AND(AU12>0,AV12>0,AW12=0,AX12=0),MIN(BA12, MAX('MDA1'!K12,'MDA2'!K12, 'MDA5'!K12,MAX('MDA3'!I12,'MDA3'!L12))), AND(AU12>0,AV12>0,AW12=0,AX12>0),MIN(BA12, MAX('MDA1'!K12,'MDA2'!K12, 'MDA5'!K12,MAX('MDA3'!I12,'MDA3'!L12),AL12)), AND(AU12>0,AV12>0,AW12>0,AX12=0), MIN(BA12, MAX('MDA1'!K12,'MDA2'!K12, 'MDA5'!K12,MAX('MDA3'!I12,'MDA3'!L12),W12)), AND(AU12>0,AV12>0,AW12>0,AX12>0), MIN(BA12, MAX('MDA1'!K12,'MDA2'!K12, 'MDA5'!K12,MAX('MDA3'!I12,'MDA3'!L12),W12,AL12)))","v":21687.148660813225},{"$f":"_xlfn.IFS(AND(AU12=0,AV12=0,AW12=0,AX12=0),0,AND(AU12=0,AV12=0,AW12=0,AX12>0),AO12,AND(AU12=0,AV12=0,AW12>0,AX12=0),Z12,AND(AU12=0,AV12=0,AW12>0,AX12>0),MAX(Z12,AO12),AND(AU12=0,AV12>0,AW12=0,AX12=0),MIN(J12*PROFILE!$G$10,MAX('MDA3'!J12,'MDA3'!J12)),AND(AU12=0,AV12>0,AW12=0,AX12>0),MIN(J12*PROFILE!$G$10,MAX('MDA3'!J12,'MDA3'!M12,AO12)),AND(AU12=0,AV12>0,AW12>0,AX12=0),MIN(J12*PROFILE!$G$10,MAX('MDA3'!J12,'MDA3'!M12,Z12)),AND(AU12=0,AV12>0,AW12>0,AX12>0),MIN(J12*PROFILE!$G$10,MAX('MDA3'!J12,'MDA3'!M12,Z12,AO12)),AND(AU12>0,AV12=0,AW12=0,AX12=0), MIN(BB12,MAX('MDA1'!L12,'MDA2'!L12,'MDA5'!L12)),AND(AU12>0,AV12=0,AW12=0,AX12>0), MIN(BB12,MAX('MDA1'!L12,'MDA2'!L12,'MDA5'!L12,AO12)),AND(AU12>0,AV12=0,AW12>0,AX12=0),MIN(BB12,MAX('MDA1'!L12,'MDA2'!L12,'MDA5'!L12,Z12)),AND(AU12>0,AV12=0,AW12>0,AX12>0),MIN(BB12,MAX('MDA1'!L12,'MDA2'!L12,'MDA5'!L12,Z12,AO12)),AND(AU12>0,AV12>0,AW12=0,AX12=0),MIN(BB12, MAX('MDA1'!L12,'MDA2'!L12, 'MDA5'!L12,MAX('MDA3'!J12,'MDA3'!M12))), AND(AU12>0,AV12>0,AW12=0,AX12>0),MIN(BB12, MAX('MDA1'!L12,'MDA2'!L12, 'MDA5'!L12,MAX('MDA3'!J12,'MDA3'!M12),AO12)), AND(AU12>0,AV12>0,AW12>0,AX12=0), MIN(BB12, MAX('MDA1'!L12,'MDA2'!L12, 'MDA5'!L12,MAX('MDA3'!J12,'MDA3'!M12),Z12)), AND(AU12>0,AV12>0,AW12>0,AX12>0), MIN(BB12, MAX('MDA1'!L12,'MDA2'!L12, 'MDA5'!L12,MAX('MDA3'!J12,'MDA3'!M12),Z12,AO12)))","v":36145.283208144276},57832.431868957501,54.851831557584099]
[{"$f":"IF(COUNTRY_INFO!A13=0,\" \",COUNTRY_INFO!A13)","v":"Togo"},{"$f":"IF(COUNTRY_INFO!B13=0,\" \",COUNTRY_INFO!B13)","v":"CENTRALE"},{"$f":"IF(COUNTRY_INFO!C13=0,\" \",COUNTRY_INFO!C13)","v":"TCHAMBA"},{"$f":"COUNTRY_INFO!L13","v":"Non requis"},null,null,{"$f":"MAX('MDA1'!M13,'MDA2'!M13,'MDA5'!M13)","v":0},{"$f":"IF(AND(COUNTRY_INFO!H13>0,COUNTRY_INFO!H13<4),IF(D13>G13,G13,D13),0)","v":0},{"$f":"IF(AND(COUNTRY_INFO!H13>0,COUNTRY_INFO!H13<4), IF(G13/D13*100<>0, IF(G13/D13*100>100,100,G13/D13*100), \"-\"),0)","v":0},{"$f":"COUNTRY_INFO!M13","v":129738.92459895521},56145,56213,{"$f":"MAX('MDA1'!M13,MAX('MDA3'!I13,'MDA3'!L13)+MAX('MDA3'!J13,'MDA3'!M13))","v":112358},{"$f":"IF(AND(COUNTRY_INFO!I13>0,COUNTRY_INFO!I13<4),IF(J13>M13,M13,J13),0)","v":112358},{"$f":"IF(AND(COUNTRY_INFO!I13>0,COUNTRY_INFO!I13<4), IF(M13/J13*100<>0, IF(M13/J13*100>100,100,M13/J13*100), \"-\"),0)","v":86.603153484829193},{"$f":"COUNTRY_INFO!Q13","v":84188},29986,29617,{"$f":"MAX('MDA2'!J13,'MDA5'!J13,'T1'!K13, MAX(T3_R1!J13,T3_R2!J13,T3_R3!J13))","v":0},{"$f":"IF(AND(COUNTRY_INFO!J13>1,COUNTRY_INFO!J13<99,COUNTRY_INFO!J13<>4,COUNTRY_INFO!J13<>5),IF(COUNTRY_INFO!N13>S13,S13,COUNTRY_INFO!N13),0)","v":0},{"$f":"IF(AND(COUNTRY_INFO!J13>1,COUNTRY_INFO!J13<99,COUNTRY_INFO!J13<>4,COUNTRY_INFO!J13<>5), IF(T13/COUNTRY_INFO!N13*100<>0, IF(T13/COUNTRY_INFO!N13*100>100,100,T13/COUNTRY_INFO!N13*100), \"-\"),0)","v":"-"},{"$f":"MAX('MDA1'!K13, 'MDA2'!K13, 'MDA5'!K13,'T1'!L13, MAX(T3_R1!K13,T3_R2!K13,T3_R3!K13))","v":59603},{"$f":"IF(AND(COUNTRY_INFO!J13>1,COUNTRY_INFO!J13<99,COUNTRY_INFO!J13<>4,COUNTRY_INFO!J13<>5),IF(COUNTRY_INFO!O13>V13,V13,COUNTRY_INFO!O13),0)","v":54905},{"$f":"IF(AND(COUNTRY_INFO!J13>1,COUNTRY_INFO!J13<99,COUNTRY_INFO!J13<>4,COUNTRY_INFO!J13<>5), IF(W13/COUNTRY_INFO!O13*100<>0, IF(W13/COUNTRY_INFO!O13*100>100,100,W13/COUNTRY_INFO!O13*100), \"-\"),0)","v":100},{"$f":"MAX('MDA1'!L13, 'MDA2'!L13, 'MDA5'!L13,'T1'!M13, MAX(T3_R1!L13,T3_R2!L13,T3_R3!L13))","v":0},{"$f":"IF(AND(COUNTRY_INFO!J13>1,COUNTRY_INFO!J13<99,COUNTRY_INFO!J13<>4,COUNTRY_INFO!J13<>5),IF(COUNTRY_INFO!P13>Y13,Y13,COUNTRY_INFO!P13),0)","v":0},{"$f":"IF(AND(COUNTRY_INFO!J13>1,COUNTRY_INFO!J13<99,COUNTRY_INFO!J13<>4,COUNTRY_INFO!J13<>5), IF(Z13/COUNTRY_INFO!P13*100<>0, IF(Z13/COUNTRY_INFO!P13*100>100,100,Z13/COUNTRY_INFO!P13*100), \"-\"),0)","v":{"$error":"#DIV/0!"}},59603,54905,{"$f":"IF(AND(COUNTRY_INFO!J13>1,COUNTRY_INFO!J13<99,COUNTRY_INFO!J13<>4,COUNTRY_INFO!J13<>5), IF(AC13/P13*100<>0, IF(AC13/P13*100>100,100,AC13/P13*100), \"-\"),0)","v":65.217133083099725},{"$f":"COUNTRY_INFO!U13","v":135684},null,null,{"$f":"MAX('T1'!K13,'T2'!R13)","v":0},{"$f":"IF(AND(COUNTRY_INFO!K13>1,COUNTRY_INFO!K13<99,COUNTRY_INFO!K13<>4,COUNTRY_INFO!K13<>5),IF(COUNTRY_INFO!R13>AH13,AH13,COUNTRY_INFO!R13),0)","v":0},{"$f":"IF(AND(COUNTRY_INFO!K13>1,COUNTRY_INFO!K13<99,COUNTRY_INFO!K13<>4,COUNTRY_INFO!K13<>5), IF(AI13/COUNTRY_INFO!R13*100<>0, IF(AI13/COUNTRY_INFO!R13*100>100,100,AI13/COUNTRY_INFO!R13*100), \"-\"),0)","v":0},{"$f":"MAX('T1'!L13,'T2'!S13)","v":59603},{"$f":"IF(AND(COUNTRY_INFO!K13>1,COUNTRY_INFO!K13<99,COUNTRY_INFO!K13<>4,COUNTRY_INFO!K13<>5),IF(COUNTRY_INFO!S13>AK13,AK13,COUNTRY_INFO!S13),0)","v":0},{"$f":"IF(AND(COUNTRY_INFO!K13>1,COUNTRY_INFO!K13<99,COUNTRY_INFO!K13<>4,COUNTRY_INFO!K13<>5), IF(AL13/COUNTRY_INFO!S13*100<>0, IF(AL13/COUNTRY_INFO!S13*100>100,100,AL13/COUNTRY_INFO!S13*100), \"-\"),0)","v":0},{"$f":"MAX('T1'!M13,'T2'!T13)","v":0},{"$f":"IF(AND(COUNTRY_INFO!K13>1,COUNTRY_INFO!K13<99,COUNTRY_INFO!K13<>4,COUNTRY_INFO!K13<>5),IF(COUNTRY_INFO!T13>AN13,AN13,COUNTRY_INFO!T13),0)","v":0},{"$f":"IF(AND(COUNTRY_INFO!K13>1,COUNTRY_INFO!K13<99,COUNTRY_INFO!K13<>4,COUNTRY_INFO!K13<>5), IF(AO13/COUNTRY_INFO!T13*100<>0, IF(AO13/COUNTRY_INFO!T13*100>100,100,AO13/COUNTRY_INFO!T13*100), \"-\"),0)","v":0},59603,59603,43.927802836001298,null,{"$f":"IF(AND(D13<>0, D13<>\"Inconnu\",D13<>\"Interrompu\",D13<>\"Non requis\"),D13/COUNTRY_INFO!D13, 0)","v":0},{"$f":"IF(AND(J13<>0,J13<>\"Inconnu\",J13<>\"Interrompu\",J13<>\"Non requis\"),J13/COUNTRY_INFO!D13, 0)","v":0.70888944105001517},{"$f":"IF(AND(P13<>0,P13<>\"Inconnu\",P13<>\"Surveillance\",P13<>\"Non requis\"),P13/COUNTRY_INFO!Q13, 0)","v":1},{"$f":"IF(AND(AE13<>0,AE13<>\"Inconnu\",AE13<>\"Surveillance\",AE13<>\"Non requis\"),AE13/COUNTRY_INFO!U13, 0)","v":1},{"$f":"IF(AU13>0,D13*PROFILE!$G$7,IF(AV13>0,J13*PROFILE!$G$7,0))","v":5189.5701922075996},{"$f":"_xlfn.IFS(OR(AU13>0,AW13>0),COUNTRY_INFO!E13, AV13>0,J13*PROFILE!$G$8,AX13>0,COUNTRY_INFO!R13,COUNTIFS(AU13:AX13,\">0\")=0,0)","v":29283},{"$f":"_xlfn.IFS(OR(AU13>0,AW13>0),COUNTRY_INFO!F13, AV13>0,J13*PROFILE!$G$9,AX13>0,COUNTRY_INFO!S13,COUNTIFS(AU13:AX13,\">0\")=0,0)","v":54905},{"$f":"_xlfn.IFS(AU13>0,COUNTRY_INFO!G13, AND(AV13>0,AW13=0,AX13=0),J13*PROFILE!$G$10,AND(AV13>0,AW13>0,AX13=0), MAX(J13*PROFILE!$G$10,COUNTRY_INFO!P13),AND(AV13>0,AW13=0,AX13>0), MAX(J13*PROFILE!$G$10,COUNTRY_INFO!T13),AND(AV13=0,AW13>0,AX13>0), MAX(COUNTRY_INFO!P13,COUNTRY_INFO!T13),AND(AV13=0,AW13>0,AX13=0),COUNTRY_INFO!P13,AND(AV13=0,AW13=0,AX13>0),COUNTRY_INFO!T13,AND(AV13>0,AW13>0,AX13>0), MAX(J13*PROFILE!$G$10,COUNTRY_INFO!P13,COUNTRY_INFO!T13),COUNTIFS(AU13:AX13,\">0\")=0,0)","v":64869.487553423576},154247.05774563117,"Y",{"$f":"MAX('MDA2'!J13,'MDA5'!J13,S13,AH13)","v":0},{"$f":"MAX('MDA1'!K13,'MDA2'!K13,'MDA3'!I13,'MDA3'!L13,'MDA5'!K13,V13,AK13)","v":59603},{"$f":"MAX('MDA1'!L13,'MDA2'!L13,'MDA3'!J13,'MDA3'!M13,'MDA5'!L13,Y13,AN13)","v":69878},129481,{"$f":"_xlfn.IFS(AND(AU13=0,AW13=0,AX13=0),0,AND(AU13=0,AW13=0,AX13>0),AI13,AND(AU13=0,AW13>0,AX13=0),T13,AND(AU13=0,AW13>0,AX13>0),MAX(T13,AI13),AND(AU13>0,AW13=0,AX13=0),MIN(MAX('MDA2'!J13,'MDA5'!J13),AZ13),AND(AU13>0,AW13=0,AX13>0),MIN(MAX('MDA2'!J13,'MDA5'!J13,AI13),AZ13),AND(AU13>0,AW13>0,AX13=0),MIN(MAX('MDA2'!J13,'MDA5'!J13,T13),AZ13),AND(AU13>0,AW13>0,AX13>0),MIN(MAX('MDA2'!J13,'MDA5'!J13,AI13,T13),AZ13))","v":0},{"$f":"_xlfn.IFS(AND(AU13=0,AV13=0,AW13=0,AX13=0),0,AND(AU13=0,AV13=0,AW13=0,AX13>0),AL13,AND(AU13=0,AV13=0,AW13>0,AX13=0),W13,AND(AU13=0,AV13=0,AW13>0,AX13>0),MAX(W13,AL13),AND(AU13=0,AV13>0,AW13=0,AX13=0),MIN(J13*PROFILE!$G$9,MAX('MDA3'!I13,'MDA3'!L13)),AND(AU13=0,AV13>0,AW13=0,AX13>0),MIN(J13*PROFILE!$G$9,MAX('MDA3'!I13,'MDA3'!L13,AL13)),AND(AU13=0,AV13>0,AW13>0,AX13=0),MIN(J13*PROFILE!$G$9,MAX('MDA3'!I13,'MDA3'!L13,W13)),AND(AU13=0,AV13>0,AW13>0,AX13>0),MIN(J13*PROFILE!$G$9,MAX('MDA3'!I13,'MDA3'!L13,W13,AL13)),AND(AU13>0,AV13=0,AW13=0,AX13=0), MIN(BA13,MAX('MDA1'!K13,'MDA2'!K13,'MDA5'!K13)),AND(AU13>0,AV13=0,AW13=0,AX13>0), MIN(BA13,MAX('MDA1'!K13,'MDA2'!K13,'MDA5'!K13,AL13)),AND(AU13>0,AV13=0,AW13>0,AX13=0),MIN(BA13,MAX('MDA1'!K13,'MDA2'!KL13,'MDA5'!K13,W13)),AND(AU13>0,AV13=0,AW13>0,AX13>0),MIN(BA13,MAX('MDA1'!K13,'MDA2'!K13,'MDA5'!K13,W13,AL13)),AND(AU13>0,AV13>0,AW13=0,AX13=0),MIN(BA13, MAX('MDA1'!K13,'MDA2'!K13, 'MDA5'!K13,MAX('MDA3'!I13,'MDA3'!L13))), AND(AU13>0,AV13>0,AW13=0,AX13>0),MIN(BA13, MAX('MDA1'!K13,'MDA2'!K13, 'MDA5'!K13,MAX('MDA3'!I13,'MDA3'!L13),AL13)), AND(AU13>0,AV13>0,AW13>0,AX13=0), MIN(BA13, MAX('MDA1'!K13,'MDA2'!K13, 'MDA5'!K13,MAX('MDA3'!I13,'MDA3'!L13),W13)), AND(AU13>0,AV13>0,AW13>0,AX13>0), MIN(BA13, MAX('MDA1'!K13,'MDA2'!K13, 'MDA5'!K13,MAX('MDA3'!I13,'MDA3'!L13),W13,AL13)))","v":38921.654369687763},{"$f":"_xlfn.IFS(AND(AU13=0,AV13=0,AW13=0,AX13=0),0,AND(AU13=0,AV13=0,AW13=0,AX13>0),AO13,AND(AU13=0,AV13=0,AW13>0,AX13=0),Z13,AND(AU13=0,AV13=0,AW13>0,AX13>0),MAX(Z13,AO13),AND(AU13=0,AV13>0,AW13=0,AX13=0),MIN(J13*PROFILE!$G$10,MAX('MDA3'!J13,'MDA3'!J13)),AND(AU13=0,AV13>0,AW13=0,AX13>0),MIN(J13*PROFILE!$G$10,MAX('MDA3'!J13,'MDA3'!M13,AO13)),AND(AU13=0,AV13>0,AW13>0,AX13=0),MIN(J13*PROFILE!$G$10,MAX('MDA3'!J13,'MDA3'!M13,Z13)),AND(AU13=0,AV13>0,AW13>0,AX13>0),MIN(J13*PROFILE!$G$10,MAX('MDA3'!J13,'MDA3'!M13,Z13,AO13)),AND(AU13>0,AV13=0,AW13=0,AX13=0), MIN(BB13,MAX('MDA1'!L13,'MDA2'!L13,'MDA5'!L13)),AND(AU13>0,AV13=0,AW13=0,AX13>0), MIN(BB13,MAX('MDA1'!L13,'MDA2'!L13,'MDA5'!L13,AO13)),AND(AU13>0,AV13=0,AW13>0,AX13=0),MIN(BB13,MAX('MDA1'!L13,'MDA2'!L13,'MDA5'!L13,Z13)),AND(AU13>0,AV13=0,AW13>0,AX13>0),MIN(BB13,MAX('MDA1'!L13,'MDA2'!L13,'MDA5'!L13,Z13,AO13)),AND(AU13>0,AV13>0,AW13=0,AX13=0),MIN(BB13, MAX('MDA1'!L13,'MDA2'!L13, 'MDA5'!L13,MAX('MDA3'!J13,'MDA3'!M13))), AND(AU13>0,AV13>0,AW13=0,AX13>0),MIN(BB13, MAX('MDA1'!L13,'MDA2'!L13, 'MDA5'!L13,MAX('MDA3'!J13,'MDA3'!M13),AO13)), AND(AU13>0,AV13>0,AW13>0,AX13=0), MIN(BB13, MAX('MDA1'!L13,'MDA2'!L13, 'MDA5'!L13,MAX('MDA3'!J13,'MDA3'!M13),Z13)), AND(AU13>0,AV13>0,AW13>0,AX13>0), MIN(BB13, MAX('MDA1'!L13,'MDA2'!L13, 'MDA5'!L13,MAX('MDA3'!J13,'MDA3'!M13),Z13,AO13)))","v":64869.487553423576},103791.14192311134,67.288895775421082]
[{"$f":"IF(COUNTRY_INFO!A14=0,\" \",COUNTRY_INFO!A14)","v":"Togo"},{"$f":"IF(COUNTRY_INFO!B14=0,\" \",COUNTRY_INFO!B14)","v":"CENTRALE"},{"$f":"IF(COUNTRY_INFO!C14=0,\" \",COUNTRY_INFO!C14)","v":"TCHAOUDJO"},{"$f":"COUNTRY_INFO!L14","v":"Non requis"},null,null,{"$f":"MAX('MDA1'!M14,'MDA2'!M14,'MDA5'!M14)","v":0},{"$f":"IF(AND(COUNTRY_INFO!H14>0,COUNTRY_INFO!H14<4),IF(D14>G14,G14,D14),0)","v":0},{"$f":"IF(AND(COUNTRY_INFO!H14>0,COUNTRY_INFO!H14<4), IF(G14/D14*100<>0, IF(G14/D14*100>100,100,G14/D14*100), \"-\"),0)","v":0},{"$f":"COUNTRY_INFO!M14","v":123411.11763243536},53098,54139,{"$f":"MAX('MDA1'!M14,MAX('MDA3'!I14,'MDA3'!L14)+MAX('MDA3'!J14,'MDA3'!M14))","v":107237},{"$f":"IF(AND(COUNTRY_INFO!I14>0,COUNTRY_INFO!I14<4),IF(J14>M14,M14,J14),0)","v":107237},{"$f":"IF(AND(COUNTRY_INFO!I14>0,COUNTRY_INFO!I14<4), IF(M14/J14*100<>0, IF(M14/J14*100>100,100,M14/J14*100), \"-\"),0)","v":86.894116233022089},{"$f":"COUNTRY_INFO!Q14","v":107633},36275,35754,{"$f":"MAX('MDA2'!J14,'MDA5'!J14,'T1'!K14, MAX(T3_R1!J14,T3_R2!J14,T3_R3!J14))","v":0},{"$f":"IF(AND(COUNTRY_INFO!J14>1,COUNTRY_INFO!J14<99,COUNTRY_INFO!J14<>4,COUNTRY_INFO!J14<>5),IF(COUNTRY_INFO!N14>S14,S14,COUNTRY_INFO!N14),0)","v":0},{"$f":"IF(AND(COUNTRY_INFO!J14>1,COUNTRY_INFO!J14<99,COUNTRY_INFO!J14<>4,COUNTRY_INFO!J14<>5), IF(T14/COUNTRY_INFO!N14*100<>0, IF(T14/COUNTRY_INFO!N14*100>100,100,T14/COUNTRY_INFO!N14*100), \"-\"),0)","v":"-"},{"$f":"MAX('MDA1'!K14, 'MDA2'!K14, 'MDA5'!K14,'T1'!L14, MAX(T3_R1!K14,T3_R2!K14,T3_R3!K14))","v":72029},{"$f":"IF(AND(COUNTRY_INFO!J14>1,COUNTRY_INFO!J14<99,COUNTRY_INFO!J14<>4,COUNTRY_INFO!J14<>5),IF(COUNTRY_INFO!O14>V14,V14,COUNTRY_INFO!O14),0)","v":70195},{"$f":"IF(AND(COUNTRY_INFO!J14>1,COUNTRY_INFO!J14<99,COUNTRY_INFO!J14<>4,COUNTRY_INFO!J14<>5), IF(W14/COUNTRY_INFO!O14*100<>0, IF(W14/COUNTRY_INFO!O14*100>100,100,W14/COUNTRY_INFO!O14*100), \"-\"),0)","v":100},{"$f":"MAX('MDA1'!L14, 'MDA2'!L14, 'MDA5'!L14,'T1'!M14, MAX(T3_R1!L14,T3_R2!L14,T3_R3!L14))","v":0},{"$f":"IF(AND(COUNTRY_INFO!J14>1,COUNTRY_INFO!J14<99,COUNTRY_INFO!J14<>4,COUNTRY_INFO!J14<>5),IF(COUNTRY_INFO!P14>Y14,Y14,COUNTRY_INFO!P14),0)","v":0},{"$f":"IF(AND(COUNTRY_INFO!J14>1,COUNTRY_INFO!J14<99,COUNTRY_INFO!J14<>4,COUNTRY_INFO!J14<>5), IF(Z14/COUNTRY_INFO!P14*100<>0, IF(Z14/COUNTRY_INFO!P14*100>100,100,Z14/COUNTRY_INFO!P14*100), \"-\"),0)","v":{"$error":"#DIV/0!"}},72029,70195,{"$f":"IF(AND(COUNTRY_INFO!J14>1,COUNTRY_INFO!J14<99,COUNTRY_INFO!J14<>4,COUNTRY_INFO!J14<>5), IF(AC14/P14*100<>0, IF(AC14/P14*100>100,100,AC14/P14*100), \"-\"),0)","v":65.216987355179185},{"$f":"COUNTRY_INFO!U14","v":158059},null,null,{"$f":"MAX('T1'!K14,'T2'!R14)","v":0},{"$f":"IF(AND(COUNTRY_INFO!K14>1,COUNTRY_INFO!K14<99,COUNTRY_INFO!K14<>4,COUNTRY_INFO!K14<>5),IF(COUNTRY_INFO!R14>AH14,AH14,COUNTRY_INFO!R14),0)","v":0},{"$f":"IF(AND(COUNTRY_INFO!K14>1,COUNTRY_INFO!K14<99,COUNTRY_INFO!K14<>4,COUNTRY_INFO!K14<>5), IF(AI14/COUNTRY_INFO!R14*100<>0, IF(AI14/COUNTRY_INFO!R14*100>100,100,AI14/COUNTRY_INFO!R14*100), \"-\"),0)","v":{"$error":"#DIV/0!"}},{"$f":"MAX('T1'!L14,'T2'!S14)","v":71308},{"$f":"IF(AND(COUNTRY_INFO!K14>1,COUNTRY_INFO!K14<99,COUNTRY_INFO!K14<>4,COUNTRY_INFO!K14<>5),IF(COUNTRY_INFO!S14>AK14,AK14,COUNTRY_INFO!S14),0)","v":0},{"$f":"IF(AND(COUNTRY_INFO!K14>1,COUNTRY_INFO!K14<99,COUNTRY_INFO!K14<>4,COUNTRY_INFO!K14<>5), IF(AL14/COUNTRY_INFO!S14*100<>0, IF(AL14/COUNTRY_INFO!S14*100>100,100,AL14/COUNTRY_INFO!S14*100), \"-\"),0)","v":{"$error":"#DIV/0!"}},{"$f":"MAX('T1'!M14,'T2'!T14)","v":27669},{"$f":"IF(AND(COUNTRY_INFO!K14>1,COUNTRY_INFO!K14<99,COUNTRY_INFO!K14<>4,COUNTRY_INFO!K14<>5),IF(COUNTRY_INFO!T14>AN14,AN14,COUNTRY_INFO!T14),0)","v":0},{"$f":"IF(AND(COUNTRY_INFO!K14>1,COUNTRY_INFO!K14<99,COUNTRY_INFO!K14<>4,COUNTRY_INFO!K14<>5), IF(AO14/COUNTRY_INFO!T14*100<>0, IF(AO14/COUNTRY_INFO!T14*100>100,100,AO14/COUNTRY_INFO!T14*100), \"-\"),0)","v":{"$error":"#DIV/0!"}},98977,98977,62.620287361048725,null,{"$f":"IF(AND(D14<>0, D14<>\"Inconnu\",D14<>\"Interrompu\",D14<>\"Non requis\"),D14/COUNTRY_INFO!D14, 0)","v":0},{"$f":"IF(AND(J14<>0,J14<>\"Inconnu\",J14<>\"Interrompu\",J14<>\"Non requis\"),J14/COUNTRY_INFO!D14, 0)","v":0.52743253005977642},{"$f":"IF(AND(P14<>0,P14<>\"Inconnu\",P14<>\"Surveillance\",P14<>\"Non requis\"),P14/COUNTRY_INFO!Q14, 0)","v":1},{"$f":"IF(AND(AE14<>0,AE14<>\"Inconnu\",AE14<>\"Surveillance\",AE14<>\"Non requis\"),AE14/COUNTRY_INFO!U14, 0)","v":1},{"$f":"IF(AU14>0,D14*PROFILE!$G$7,IF(AV14>0,J14*PROFILE!$G$7,0))","v":4936.4572693357268},{"$f":"_xlfn.IFS(OR(AU14>0,AW14>0),COUNTRY_INFO!E14, AV14>0,J14*PROFILE!$G$8,AX14>0,COUNTRY_INFO!R14,COUNTIFS(AU14:AX14,\">0\")=0,0)","v":37438},{"$f":"_xlfn.IFS(OR(AU14>0,AW14>0),COUNTRY_INFO!F14, AV14>0,J14*PROFILE!$G$9,AX14>0,COUNTRY_INFO!S14,COUNTIFS(AU14:AX14,\">0\")=0,0)","v":70195},{"$f":"_xlfn.IFS(AU14>0,COUNTRY_INFO!G14, AND(AV14>0,AW14=0,AX14=0),J14*PROFILE!$G$10,AND(AV14>0,AW14>0,AX14=0), MAX(J14*PROFILE!$G$10,COUNTRY_INFO!P14),AND(AV14>0,AW14=0,AX14>0), MAX(J14*PROFILE!$G$10,COUNTRY_INFO!T14),AND(AV14=0,AW14>0,AX14>0), MAX(COUNTRY_INFO!P14,COUNTRY_INFO!T14),AND(AV14=0,AW14>0,AX14=0),COUNTRY_INFO!P14,AND(AV14=0,AW14=0,AX14>0),COUNTRY_INFO!T14,AND(AV14>0,AW14>0,AX14>0), MAX(J14*PROFILE!$G$10,COUNTRY_INFO!P14,COUNTRY_INFO!T14),COUNTIFS(AU14:AX14,\">0\")=0,0)","v":61705.582838443137},174275.04010777886,"Y",{"$f":"MAX('MDA2'!J14,'MDA5'!J14,S14,AH14)","v":0},{"$f":"MAX('MDA1'!K14,'MDA2'!K14,'MDA3'!I14,'MDA3'!L14,'MDA5'!K14,V14,AK14)","v":72029},{"$f":"MAX('MDA1'!L14,'MDA2'!L14,'MDA3'!J14,'MDA3'!M14,'MDA5'!L14,Y14,AN14)","v":67583},139612,{"$f":"_xlfn.IFS(AND(AU14=0,AW14=0,AX14=0),0,AND(AU14=0,AW14=0,AX14>0),AI14,AND(AU14=0,AW14>0,AX14=0),T14,AND(AU14=0,AW14>0,AX14>0),MAX(T14,AI14),AND(AU14>0,AW14=0,AX14=0),MIN(MAX('MDA2'!J14,'MDA5'!J14),AZ14),AND(AU14>0,AW14=0,AX14>0),MIN(MAX('MDA2'!J14,'MDA5'!J14,AI14),AZ14),AND(AU14>0,AW14>0,AX14=0),MIN(MAX('MDA2'!J14,'MDA5'!J14,T14),AZ14),AND(AU14>0,AW14>0,AX14>0),MIN(MAX('MDA2'!J14,'MDA5'!J14,AI14,T14),AZ14))","v":0},{"$f":"_xlfn.IFS(AND(AU14=0,AV14=0,AW14=0,AX14=0),0,AND(AU14=0,AV14=0,AW14=0,AX14>0),AL14,AND(AU14=0,AV14=0,AW14>0,AX14=0),W14,AND(AU14=0,AV14=0,AW14>0,AX14>0),MAX(W14,AL14),AND(AU14=0,AV14>0,AW14=0,AX14=0),MIN(J14*PROFILE!$G$9,MAX('MDA3'!I14,'MDA3'!L14)),AND(AU14=0,AV14>0,AW14=0,AX14>0),MIN(J14*PROFILE!$G$9,MAX('MDA3'!I14,'MDA3'!L14,AL14)),AND(AU14=0,AV14>0,AW14>0,AX14=0),MIN(J14*PROFILE!$G$9,MAX('MDA3'!I14,'MDA3'!L14,W14)),AND(AU14=0,AV14>0,AW14>0,AX14>0),MIN(J14*PROFILE!$G$9,MAX('MDA3'!I14,'MDA3'!L14,W14,AL14)),AND(AU14>0,AV14=0,AW14=0,AX14=0), MIN(BA14,MAX('MDA1'!K14,'MDA2'!K14,'MDA5'!K14)),AND(AU14>0,AV14=0,AW14=0,AX14>0), MIN(BA14,MAX('MDA1'!K14,'MDA2'!K14,'MDA5'!K14,AL14)),AND(AU14>0,AV14=0,AW14>0,AX14=0),MIN(BA14,MAX('MDA1'!K14,'MDA2'!KL14,'MDA5'!K14,W14)),AND(AU14>0,AV14=0,AW14>0,AX14>0),MIN(BA14,MAX('MDA1'!K14,'MDA2'!K14,'MDA5'!K14,W14,AL14)),AND(AU14>0,AV14>0,AW14=0,AX14=0),MIN(BA14, MAX('MDA1'!K14,'MDA2'!K14, 'MDA5'!K14,MAX('MDA3'!I14,'MDA3'!L14))), AND(AU14>0,AV14>0,AW14=0,AX14>0),MIN(BA14, MAX('MDA1'!K14,'MDA2'!K14, 'MDA5'!K14,MAX('MDA3'!I14,'MDA3'!L14),AL14)), AND(AU14>0,AV14>0,AW14>0,AX14=0), MIN(BA14, MAX('MDA1'!K14,'MDA2'!K14, 'MDA5'!K14,MAX('MDA3'!I14,'MDA3'!L14),W14)), AND(AU14>0,AV14>0,AW14>0,AX14>0), MIN(BA14, MAX('MDA1'!K14,'MDA2'!K14, 'MDA5'!K14,MAX('MDA3'!I14,'MDA3'!L14),W14,AL14)))","v":37023.313402007414},{"$f":"_xlfn.IFS(AND(AU14=0,AV14=0,AW14=0,AX14=0),0,AND(AU14=0,AV14=0,AW14=0,AX14>0),AO14,AND(AU14=0,AV14=0,AW14>0,AX14=0),Z14,AND(AU14=0,AV14=0,AW14>0,AX14>0),MAX(Z14,AO14),AND(AU14=0,AV14>0,AW14=0,AX14=0),MIN(J14*PROFILE!$G$10,MAX('MDA3'!J14,'MDA3'!J14)),AND(AU14=0,AV14>0,AW14=0,AX14>0),MIN(J14*PROFILE!$G$10,MAX('MDA3'!J14,'MDA3'!M14,AO14)),AND(AU14=0,AV14>0,AW14>0,AX14=0),MIN(J14*PROFILE!$G$10,MAX('MDA3'!J14,'MDA3'!M14,Z14)),AND(AU14=0,AV14>0,AW14>0,AX14>0),MIN(J14*PROFILE!$G$10,MAX('MDA3'!J14,'MDA3'!M14,Z14,AO14)),AND(AU14>0,AV14=0,AW14=0,AX14=0), MIN(BB14,MAX('MDA1'!L14,'MDA2'!L14,'MDA5'!L14)),AND(AU14>0,AV14=0,AW14=0,AX14>0), MIN(BB14,MAX('MDA1'!L14,'MDA2'!L14,'MDA5'!L14,AO14)),AND(AU14>0,AV14=0,AW14>0,AX14=0),MIN(BB14,MAX('MDA1'!L14,'MDA2'!L14,'MDA5'!L14,Z14)),AND(AU14>0,AV14=0,AW14>0,AX14>0),MIN(BB14,MAX('MDA1'!L14,'MDA2'!L14,'MDA5'!L14,Z14,AO14)),AND(AU14>0,AV14>0,AW14=0,AX14=0),MIN(BB14, MAX('MDA1'!L14,'MDA2'!L14, 'MDA5'!L14,MAX('MDA3'!J14,'MDA3'!M14))), AND(AU14>0,AV14>0,AW14=0,AX14>0),MIN(BB14, MAX('MDA1'!L14,'MDA2'!L14, 'MDA5'!L14,MAX('MDA3'!J14,'MDA3'!M14),AO14)), AND(AU14>0,AV14>0,AW14>0,AX14=0), MIN(BB14, MAX('MDA1'!L14,'MDA2'!L14, 'MDA5'!L14,MAX('MDA3'!J14,'MDA3'!M14),Z14)), AND(AU14>0,AV14>0,AW14>0,AX14>0), MIN(BB14, MAX('MDA1'!L14,'MDA2'!L14, 'MDA5'!L14,MAX('MDA3'!J14,'MDA3'!M14),Z14,AO14)))","v":61705.582838443137},98728.896240450558,56.65119696968226]
[{"$f":"IF(COUNTRY_INFO!A15=0,\" \",COUNTRY_INFO!A15)","v":"Togo"},{"$f":"IF(COUNTRY_INFO!B15=0,\" \",COUNTRY_INFO!B15)","v":"GRAND-LOME"},{"$f":"IF(COUNTRY_INFO!C15=0,\" \",COUNTRY_INFO!C15)","v":"AGOE NYIVE"},{"$f":"COUNTRY_INFO!L15","v":"Non requis"},null,null,{"$f":"MAX('MDA1'!M15,'MDA2'!M15,'MDA5'!M15)","v":0},{"$f":"IF(AND(COUNTRY_INFO!H15>0,COUNTRY_INFO!H15<4),IF(D15>G15,G15,D15),0)","v":0},{"$f":"IF(AND(COUNTRY_INFO!H15>0,COUNTRY_INFO!H15<4), IF(G15/D15*100<>0, IF(G15/D15*100>100,100,G15/D15*100), \"-\"),0)","v":0},{"$f":"COUNTRY_INFO!M15","v":8331},5036,5407,{"$f":"MAX('MDA1'!M15,MAX('MDA3'!I15,'MDA3'!L15)+MAX('MDA3'!J15,'MDA3'!M15))","v":10443},{"$f":"IF(AND(COUNTRY_INFO!I15>0,COUNTRY_INFO!I15<4),IF(J15>M15,M15,J15),0)","v":8331},{"$f":"IF(AND(COUNTRY_INFO!I15>0,COUNTRY_INFO!I15<4), IF(M15/J15*100<>0, IF(M15/J15*100>100,100,M15/J15*100), \"-\"),0)","v":100},{"$f":"COUNTRY_INFO!Q15","v":0},81216,86303,{"$f":"MAX('MDA2'!J15,'MDA5'!J15,'T1'!K15, MAX(T3_R1!J15,T3_R2!J15,T3_R3!J15))","v":0},{"$f":"IF(AND(COUNTRY_INFO!J15>1,COUNTRY_INFO!J15<99,COUNTRY_INFO!J15<>4,COUNTRY_INFO!J15<>5),IF(COUNTRY_INFO!N15>S15,S15,COUNTRY_INFO!N15),0)","v":0},{"$f":"IF(AND(COUNTRY_INFO!J15>1,COUNTRY_INFO!J15<99,COUNTRY_INFO!J15<>4,COUNTRY_INFO!J15<>5), IF(T15/COUNTRY_INFO!N15*100<>0, IF(T15/COUNTRY_INFO!N15*100>100,100,T15/COUNTRY_INFO!N15*100), \"-\"),0)","v":0},{"$f":"MAX('MDA1'!K15, 'MDA2'!K15, 'MDA5'!K15,'T1'!L15, MAX(T3_R1!K15,T3_R2!K15,T3_R3!K15))","v":167519},{"$f":"IF(AND(COUNTRY_INFO!J15>1,COUNTRY_INFO!J15<99,COUNTRY_INFO!J15<>4,COUNTRY_INFO!J15<>5),IF(COUNTRY_INFO!O15>V15,V15,COUNTRY_INFO!O15),0)","v":0},{"$f":"IF(AND(COUNTRY_INFO!J15>1,COUNTRY_INFO!J15<99,COUNTRY_INFO!J15<>4,COUNTRY_INFO!J15<>5), IF(W15/COUNTRY_INFO!O15*100<>0, IF(W15/COUNTRY_INFO!O15*100>100,100,W15/COUNTRY_INFO!O15*100), \"-\"),0)","v":0},{"$f":"MAX('MDA1'!L15, 'MDA2'!L15, 'MDA5'!L15,'T1'!M15, MAX(T3_R1!L15,T3_R2!L15,T3_R3!L15))","v":0},{"$f":"IF(AND(COUNTRY_INFO!J15>1,COUNTRY_INFO!J15<99,COUNTRY_INFO!J15<>4,COUNTRY_INFO!J15<>5),IF(COUNTRY_INFO!P15>Y15,Y15,COUNTRY_INFO!P15),0)","v":0},{"$f":"IF(AND(COUNTRY_INFO!J15>1,COUNTRY_INFO!J15<99,COUNTRY_INFO!J15<>4,COUNTRY_INFO!J15<>5), IF(Z15/COUNTRY_INFO!P15*100<>0, IF(Z15/COUNTRY_INFO!P15*100>100,100,Z15/COUNTRY_INFO!P15*100), \"-\"),0)","v":0},167519,0,{"$f":"IF(AND(COUNTRY_INFO!J15>1,COUNTRY_INFO!J15<99,COUNTRY_INFO!J15<>4,COUNTRY_INFO!J15<>5), IF(AC15/P15*100<>0, IF(AC15/P15*100>100,100,AC15/P15*100), \"-\"),0)","v":0},{"$f":"COUNTRY_INFO!U15","v":117098},null,null,{"$f":"MAX('T1'!K15,'T2'!R15)","v":0},{"$f":"IF(AND(COUNTRY_INFO!K15>1,COUNTRY_INFO!K15<99,COUNTRY_INFO!K15<>4,COUNTRY_INFO!K15<>5),IF(COUNTRY_INFO!R15>AH15,AH15,COUNTRY_INFO!R15),0)","v":0},{"$f":"IF(AND(COUNTRY_INFO!K15>1,COUNTRY_INFO!K15<99,COUNTRY_INFO!K15<>4,COUNTRY_INFO!K15<>5), IF(AI15/COUNTRY_INFO!R15*100<>0, IF(AI15/COUNTRY_INFO!R15*100>100,100,AI15/COUNTRY_INFO!R15*100), \"-\"),0)","v":{"$error":"#DIV/0!"}},{"$f":"MAX('T1'!L15,'T2'!S15)","v":140549},{"$f":"IF(AND(COUNTRY_INFO!K15>1,COUNTRY_INFO!K15<99,COUNTRY_INFO!K15<>4,COUNTRY_INFO!K15<>5),IF(COUNTRY_INFO!S15>AK15,AK15,COUNTRY_INFO!S15),0)","v":0},{"$f":"IF(AND(COUNTRY_INFO!K15>1,COUNTRY_INFO!K15<99,COUNTRY_INFO!K15<>4,COUNTRY_INFO!K15<>5), IF(AL15/COUNTRY_INFO!S15*100<>0, IF(AL15/COUNTRY_INFO!S15*100>100,100,AL15/COUNTRY_INFO!S15*100), \"-\"),0)","v":{"$error":"#DIV/0!"}},{"$f":"MAX('T1'!M15,'T2'!T15)","v":163685},{"$f":"IF(AND(COUNTRY_INFO!K15>1,COUNTRY_INFO!K15<99,COUNTRY_INFO!K15<>4,COUNTRY_INFO!K15<>5),IF(COUNTRY_INFO!T15>AN15,AN15,COUNTRY_INFO!T15),0)","v":0},{"$f":"IF(AND(COUNTRY_INFO!K15>1,COUNTRY_INFO!K15<99,COUNTRY_INFO!K15<>4,COUNTRY_INFO!K15<>5), IF(AO15/COUNTRY_INFO!T15*100<>0, IF(AO15/COUNTRY_INFO!T15*100>100,100,AO15/COUNTRY_INFO!T15*100), \"-\"),0)","v":{"$error":"#DIV/0!"}},304234,304234,259.81143999043536,null,{"$f":"IF(AND(D15<>0, D15<>\"Inconnu\",D15<>\"Interrompu\",D15<>\"Non requis\"),D15/COUNTRY_INFO!D15, 0)","v":0},{"$f":"IF(AND(J15<>0,J15<>\"Inconnu\",J15<>\"Interrompu\",J15<>\"Non requis\"),J15/COUNTRY_INFO!D15, 0)","v":1.0497440847153934E-2},{"$f":"IF(AND(P15<>0,P15<>\"Inconnu\",P15<>\"Surveillance\",P15<>\"Non requis\"),P15/COUNTRY_INFO!Q15, 0)","v":0},{"$f":"IF(AND(AE15<>0,AE15<>\"Inconnu\",AE15<>\"Surveillance\",AE15<>\"Non requis\"),AE15/COUNTRY_INFO!U15, 0)","v":1},{"$f":"IF(AU15>0,D15*PROFILE!$G$7,IF(AV15>0,J15*PROFILE!$G$7,0))","v":333.24084814889608},{"$f":"_xlfn.IFS(OR(AU15>0,AW15>0),COUNTRY_INFO!E15, AV15>0,J15*PROFILE!$G$8,AX15>0,COUNTRY_INFO!R15,COUNTIFS(AU15:AX15,\">0\")=0,0)","v":1332.9590077592368},{"$f":"_xlfn.IFS(OR(AU15>0,AW15>0),COUNTRY_INFO!F15, AV15>0,J15*PROFILE!$G$9,AX15>0,COUNTRY_INFO!S15,COUNTIFS(AU15:AX15,\">0\")=0,0)","v":2499.2985224457457},{"$f":"_xlfn.IFS(AU15>0,COUNTRY_INFO!G15, AND(AV15>0,AW15=0,AX15=0),J15*PROFILE!$G$10,AND(AV15>0,AW15>0,AX15=0), MAX(J15*PROFILE!$G$10,COUNTRY_INFO!P15),AND(AV15>0,AW15=0,AX15>0), MAX(J15*PROFILE!$G$10,COUNTRY_INFO!T15),AND(AV15=0,AW15>0,AX15>0), MAX(COUNTRY_INFO!P15,COUNTRY_INFO!T15),AND(AV15=0,AW15>0,AX15=0),COUNTRY_INFO!P15,AND(AV15=0,AW15=0,AX15>0),COUNTRY_INFO!T15,AND(AV15>0,AW15>0,AX15>0), MAX(J15*PROFILE!$G$10,COUNTRY_INFO!P15,COUNTRY_INFO!T15),COUNTIFS(AU15:AX15,\">0\")=0,0)","v":4165.5016216461217},8331,"Y",{"$f":"MAX('MDA2'!J15,'MDA5'!J15,S15,AH15)","v":0},{"$f":"MAX('MDA1'!K15,'MDA2'!K15,'MDA3'!I15,'MDA3'!L15,'MDA5'!K15,V15,AK15)","v":167519},{"$f":"MAX('MDA1'!L15,'MDA2'!L15,'MDA3'!J15,'MDA3'!M15,'MDA5'!L15,Y15,AN15)","v":163685},331204,{"$f":"_xlfn.IFS(AND(AU15=0,AW15=0,AX15=0),0,AND(AU15=0,AW15=0,AX15>0),AI15,AND(AU15=0,AW15>0,AX15=0),T15,AND(AU15=0,AW15>0,AX15>0),MAX(T15,AI15),AND(AU15>0,AW15=0,AX15=0),MIN(MAX('MDA2'!J15,'MDA5'!J15),AZ15),AND(AU15>0,AW15=0,AX15>0),MIN(MAX('MDA2'!J15,'MDA5'!J15,AI15),AZ15),AND(AU15>0,AW15>0,AX15=0),MIN(MAX('MDA2'!J15,'MDA5'!J15,T15),AZ15),AND(AU15>0,AW15>0,AX15>0),MIN(MAX('MDA2'!J15,'MDA5'!J15,AI15,T15),AZ15))","v":0},{"$f":"_xlfn.IFS(AND(AU15=0,AV15=0,AW15=0,AX15=0),0,AND(AU15=0,AV15=0,AW15=0,AX15>0),AL15,AND(AU15=0,AV15=0,AW15>0,AX15=0),W15,AND(AU15=0,AV15=0,AW15>0,AX15>0),MAX(W15,AL15),AND(AU15=0,AV15>0,AW15=0,AX15=0),MIN(J15*PROFILE!$G$9,MAX('MDA3'!I15,'MDA3'!L15)),AND(AU15=0,AV15>0,AW15=0,AX15>0),MIN(J15*PROFILE!$G$9,MAX('MDA3'!I15,'MDA3'!L15,AL15)),AND(AU15=0,AV15>0,AW15>0,AX15=0),MIN(J15*PROFILE!$G$9,MAX('MDA3'!I15,'MDA3'!L15,W15)),AND(AU15=0,AV15>0,AW15>0,AX15>0),MIN(J15*PROFILE!$G$9,MAX('MDA3'!I15,'MDA3'!L15,W15,AL15)),AND(AU15>0,AV15=0,AW15=0,AX15=0), MIN(BA15,MAX('MDA1'!K15,'MDA2'!K15,'MDA5'!K15)),AND(AU15>0,AV15=0,AW15=0,AX15>0), MIN(BA15,MAX('MDA1'!K15,'MDA2'!K15,'MDA5'!K15,AL15)),AND(AU15>0,AV15=0,AW15>0,AX15=0),MIN(BA15,MAX('MDA1'!K15,'MDA2'!KL15,'MDA5'!K15,W15)),AND(AU15>0,AV15=0,AW15>0,AX15>0),MIN(BA15,MAX('MDA1'!K15,'MDA2'!K15,'MDA5'!K15,W15,AL15)),AND(AU15>0,AV15>0,AW15=0,AX15=0),MIN(BA15, MAX('MDA1'!K15,'MDA2'!K15, 'MDA5'!K15,MAX('MDA3'!I15,'MDA3'!L15))), AND(AU15>0,AV15>0,AW15=0,AX15>0),MIN(BA15, MAX('MDA1'!K15,'MDA2'!K15, 'MDA5'!K15,MAX('MDA3'!I15,'MDA3'!L15),AL15)), AND(AU15>0,AV15>0,AW15>0,AX15=0), MIN(BA15, MAX('MDA1'!K15,'MDA2'!K15, 'MDA5'!K15,MAX('MDA3'!I15,'MDA3'!L15),W15)), AND(AU15>0,AV15>0,AW15>0,AX15>0), MIN(BA15, MAX('MDA1'!K15,'MDA2'!K15, 'MDA5'!K15,MAX('MDA3'!I15,'MDA3'!L15),W15,AL15)))","v":2499.2985224457457},{"$f":"_xlfn.IFS(AND(AU15=0,AV15=0,AW15=0,AX15=0),0,AND(AU15=0,AV15=0,AW15=0,AX15>0),AO15,AND(AU15=0,AV15=0,AW15>0,AX15=0),Z15,AND(AU15=0,AV15=0,AW15>0,AX15>0),MAX(Z15,AO15),AND(AU15=0,AV15>0,AW15=0,AX15=0),MIN(J15*PROFILE!$G$10,MAX('MDA3'!J15,'MDA3'!J15)),AND(AU15=0,AV15>0,AW15=0,AX15>0),MIN(J15*PROFILE!$G$10,MAX('MDA3'!J15,'MDA3'!M15,AO15)),AND(AU15=0,AV15>0,AW15>0,AX15=0),MIN(J15*PROFILE!$G$10,MAX('MDA3'!J15,'MDA3'!M15,Z15)),AND(AU15=0,AV15>0,AW15>0,AX15>0),MIN(J15*PROFILE!$G$10,MAX('MDA3'!J15,'MDA3'!M15,Z15,AO15)),AND(AU15>0,AV15=0,AW15=0,AX15=0), MIN(BB15,MAX('MDA1'!L15,'MDA2'!L15,'MDA5'!L15)),AND(AU15>0,AV15=0,AW15=0,AX15>0), MIN(BB15,MAX('MDA1'!L15,'MDA2'!L15,'MDA5'!L15,AO15)),AND(AU15>0,AV15=0,AW15>0,AX15=0),MIN(BB15,MAX('MDA1'!L15,'MDA2'!L15,'MDA5'!L15,Z15)),AND(AU15>0,AV15=0,AW15>0,AX15>0),MIN(BB15,MAX('MDA1'!L15,'MDA2'!L15,'MDA5'!L15,Z15,AO15)),AND(AU15>0,AV15>0,AW15=0,AX15=0),MIN(BB15, MAX('MDA1'!L15,'MDA2'!L15, 'MDA5'!L15,MAX('MDA3'!J15,'MDA3'!M15))), AND(AU15>0,AV15>0,AW15=0,AX15>0),MIN(BB15, MAX('MDA1'!L15,'MDA2'!L15, 'MDA5'!L15,MAX('MDA3'!J15,'MDA3'!M15),AO15)), AND(AU15>0,AV15>0,AW15>0,AX15=0), MIN(BB15, MAX('MDA1'!L15,'MDA2'!L15, 'MDA5'!L15,MAX('MDA3'!J15,'MDA3'!M15),Z15)), AND(AU15>0,AV15>0,AW15>0,AX15>0), MIN(BB15, MAX('MDA1'!L15,'MDA2'!L15, 'MDA5'!L15,MAX('MDA3'!J15,'MDA3'!M15),Z15,AO15)))","v":4165.5016216461217},6664.800144091867,80.000001729586685]
[{"$f":"IF(COUNTRY_INFO!A16=0,\" \",COUNTRY_INFO!A16)","v":"Togo"},{"$f":"IF(COUNTRY_INFO!B16=0,\" \",COUNTRY_INFO!B16)","v":"GRAND-LOME"},{"$f":"IF(COUNTRY_INFO!C16=0,\" \",COUNTRY_INFO!C16)","v":"GOLFE"},{"$f":"COUNTRY_INFO!L16","v":"Non requis"},null,null,{"$f":"MAX('MDA1'!M16,'MDA2'!M16,'MDA5'!M16)","v":0},{"$f":"IF(AND(COUNTRY_INFO!H16>0,COUNTRY_INFO!H16<4),IF(D16>G16,G16,D16),0)","v":0},{"$f":"IF(AND(COUNTRY_INFO!H16>0,COUNTRY_INFO!H16<4), IF(G16/D16*100<>0, IF(G16/D16*100>100,100,G16/D16*100), \"-\"),0)","v":0},{"$f":"COUNTRY_INFO!M16","v":0},null,null,{"$f":"MAX('MDA1'!M16,MAX('MDA3'!I16,'MDA3'!L16)+MAX('MDA3'!J16,'MDA3'!M16))","v":0},{"$f":"IF(AND(COUNTRY_INFO!I16>0,COUNTRY_INFO!I16<4),IF(J16>M16,M16,J16),0)","v":0},{"$f":"IF(AND(COUNTRY_INFO!I16>0,COUNTRY_INFO!I16<4), IF(M16/J16*100<>0, IF(M16/J16*100>100,100,M16/J16*100), \"-\"),0)","v":0},{"$f":"COUNTRY_INFO!Q16","v":0},33366,35497,{"$f":"MAX('MDA2'!J16,'MDA5'!J16,'T1'!K16, MAX(T3_R1!J16,T3_R2!J16,T3_R3!J16))","v":0},{"$f":"IF(AND(COUNTRY_INFO!J16>1,COUNTRY_INFO!J16<99,COUNTRY_INFO!J16<>4,COUNTRY_INFO!J16<>5),IF(COUNTRY_INFO!N16>S16,S16,COUNTRY_INFO!N16),0)","v":0},{"$f":"IF(AND(COUNTRY_INFO!J16>1,COUNTRY_INFO!J16<99,COUNTRY_INFO!J16<>4,COUNTRY_INFO!J16<>5), IF(T16/COUNTRY_INFO!N16*100<>0, IF(T16/COUNTRY_INFO!N16*100>100,100,T16/COUNTRY_INFO!N16*100), \"-\"),0)","v":0},{"$f":"MAX('MDA1'!K16, 'MDA2'!K16, 'MDA5'!K16,'T1'!L16, MAX(T3_R1!K16,T3_R2!K16,T3_R3!K16))","v":68863},{"$f":"IF(AND(COUNTRY_INFO!J16>1,COUNTRY_INFO!J16<99,COUNTRY_INFO!J16<>4,COUNTRY_INFO!J16<>5),IF(COUNTRY_INFO!O16>V16,V16,COUNTRY_INFO!O16),0)","v":0},{"$f":"IF(AND(COUNTRY_INFO!J16>1,COUNTRY_INFO!J16<99,COUNTRY_INFO!J16<>4,COUNTRY_INFO!J16<>5), IF(W16/COUNTRY_INFO!O16*100<>0, IF(W16/COUNTRY_INFO!O16*100>100,100,W16/COUNTRY_INFO!O16*100), \"-\"),0)","v":0},{"$f":"MAX('MDA1'!L16, 'MDA2'!L16, 'MDA5'!L16,'T1'!M16, MAX(T3_R1!L16,T3_R2!L16,T3_R3!L16))","v":0},{"$f":"IF(AND(COUNTRY_INFO!J16>1,COUNTRY_INFO!J16<99,COUNTRY_INFO!J16<>4,COUNTRY_INFO!J16<>5),IF(COUNTRY_INFO!P16>Y16,Y16,COUNTRY_INFO!P16),0)","v":0},{"$f":"IF(AND(COUNTRY_INFO!J16>1,COUNTRY_INFO!J16<99,COUNTRY_INFO!J16<>4,COUNTRY_INFO!J16<>5), IF(Z16/COUNTRY_INFO!P16*100<>0, IF(Z16/COUNTRY_INFO!P16*100>100,100,Z16/COUNTRY_INFO!P16*100), \"-\"),0)","v":0},68863,0,{"$f":"IF(AND(COUNTRY_INFO!J16>1,COUNTRY_INFO!J16<99,COUNTRY_INFO!J16<>4,COUNTRY_INFO!J16<>5), IF(AC16/P16*100<>0, IF(AC16/P16*100>100,100,AC16/P16*100), \"-\"),0)","v":0},{"$f":"COUNTRY_INFO!U16","v":333609},null,null,{"$f":"MAX('T1'!K16,'T2'!R16)","v":0},{"$f":"IF(AND(COUNTRY_INFO!K16>1,COUNTRY_INFO!K16<99,COUNTRY_INFO!K16<>4,COUNTRY_INFO!K16<>5),IF(COUNTRY_INFO!R16>AH16,AH16,COUNTRY_INFO!R16),0)","v":0},{"$f":"IF(AND(COUNTRY_INFO!K16>1,COUNTRY_INFO!K16<99,COUNTRY_INFO!K16<>4,COUNTRY_INFO!K16<>5), IF(AI16/COUNTRY_INFO!R16*100<>0, IF(AI16/COUNTRY_INFO!R16*100>100,100,AI16/COUNTRY_INFO!R16*100), \"-\"),0)","v":{"$error":"#DIV/0!"}},{"$f":"MAX('T1'!L16,'T2'!S16)","v":47879},{"$f":"IF(AND(COUNTRY_INFO!K16>1,COUNTRY_INFO!K16<99,COUNTRY_INFO!K16<>4,COUNTRY_INFO!K16<>5),IF(COUNTRY_INFO!S16>AK16,AK16,COUNTRY_INFO!S16),0)","v":0},{"$f":"IF(AND(COUNTRY_INFO!K16>1,COUNTRY_INFO!K16<99,COUNTRY_INFO!K16<>4,COUNTRY_INFO!K16<>5), IF(AL16/COUNTRY_INFO!S16*100<>0, IF(AL16/COUNTRY_INFO!S16*100>100,100,AL16/COUNTRY_INFO!S16*100), \"-\"),0)","v":{"$error":"#DIV/0!"}},{"$f":"MAX('T1'!M16,'T2'!T16)","v":0},{"$f":"IF(AND(COUNTRY_INFO!K16>1,COUNTRY_INFO!K16<99,COUNTRY_INFO!K16<>4,COUNTRY_INFO!K16<>5),IF(COUNTRY_INFO!T16>AN16,AN16,COUNTRY_INFO!T16),0)","v":0},{"$f":"IF(AND(COUNTRY_INFO!K16>1,COUNTRY_INFO!K16<99,COUNTRY_INFO!K16<>4,COUNTRY_INFO!K16<>5), IF(AO16/COUNTRY_INFO!T16*100<>0, IF(AO16/COUNTRY_INFO!T16*100>100,100,AO16/COUNTRY_INFO!T16*100), \"-\"),0)","v":{"$error":"#DIV/0!"}},47879,47879,14.351831035733447,null,{"$f":"IF(AND(D16<>0, D16<>\"Inconnu\",D16<>\"Interrompu\",D16<>\"Non requis\"),D16/COUNTRY_INFO!D16, 0)","v":0},{"$f":"IF(AND(J16<>0,J16<>\"Inconnu\",J16<>\"Interrompu\",J16<>\"Non requis\"),J16/COUNTRY_INFO!D16, 0)","v":0},{"$f":"IF(AND(P16<>0,P16<>\"Inconnu\",P16<>\"Surveillance\",P16<>\"Non requis\"),P16/COUNTRY_INFO!Q16, 0)","v":0},{"$f":"IF(AND(AE16<>0,AE16<>\"Inconnu\",AE16<>\"Surveillance\",AE16<>\"Non requis\"),AE16/COUNTRY_INFO!U16, 0)","v":1},{"$f":"IF(AU16>0,D16*PROFILE!$G$7,IF(AV16>0,J16*PROFILE!$G$7,0))","v":0},{"$f":"_xlfn.IFS(OR(AU16>0,AW16>0),COUNTRY_INFO!E16, AV16>0,J16*PROFILE!$G$8,AX16>0,COUNTRY_INFO!R16,COUNTIFS(AU16:AX16,\">0\")=0,0)","v":0},{"$f":"_xlfn.IFS(OR(AU16>0,AW16>0),COUNTRY_INFO!F16, AV16>0,J16*PROFILE!$G$9,AX16>0,COUNTRY_INFO!S16,COUNTIFS(AU16:AX16,\">0\")=0,0)","v":0},{"$f":"_xlfn.IFS(AU16>0,COUNTRY_INFO!G16, AND(AV16>0,AW16=0,AX16=0),J16*PROFILE!$G$10,AND(AV16>0,AW16>0,AX16=0), MAX(J16*PROFILE!$G$10,COUNTRY_INFO!P16),AND(AV16>0,AW16=0,AX16>0), MAX(J16*PROFILE!$G$10,COUNTRY_INFO!T16),AND(AV16=0,AW16>0,AX16>0), MAX(COUNTRY_INFO!P16,COUNTRY_INFO!T16),AND(AV16=0,AW16>0,AX16=0),COUNTRY_INFO!P16,AND(AV16=0,AW16=0,AX16>0),COUNTRY_INFO!T16,AND(AV16>0,AW16>0,AX16>0), MAX(J16*PROFILE!$G$10,COUNTRY_INFO!P16,COUNTRY_INFO!T16),COUNTIFS(AU16:AX16,\">0\")=0,0)","v":0},0,"Y",{"$f":"MAX('MDA2'!J16,'MDA5'!J16,S16,AH16)","v":0},{"$f":"MAX('MDA1'!K16,'MDA2'!K16,'MDA3'!I16,'MDA3'!L16,'MDA5'!K16,V16,AK16)","v":68863},{"$f":"MAX('MDA1'!L16,'MDA2'!L16,'MDA3'!J16,'MDA3'!M16,'MDA5'!L16,Y16,AN16)","v":0},68863,{"$f":"_xlfn.IFS(AND(AU16=0,AW16=0,AX16=0),0,AND(AU16=0,AW16=0,AX16>0),AI16,AND(AU16=0,AW16>0,AX16=0),T16,AND(AU16=0,AW16>0,AX16>0),MAX(T16,AI16),AND(AU16>0,AW16=0,AX16=0),MIN(MAX('MDA2'!J16,'MDA5'!J16),AZ16),AND(AU16>0,AW16=0,AX16>0),MIN(MAX('MDA2'!J16,'MDA5'!J16,AI16),AZ16),AND(AU16>0,AW16>0,AX16=0),MIN(MAX('MDA2'!J16,'MDA5'!J16,T16),AZ16),AND(AU16>0,AW16>0,AX16>0),MIN(MAX('MDA2'!J16,'MDA5'!J16,AI16,T16),AZ16))","v":0},{"$f":"_xlfn.IFS(AND(AU16=0,AV16=0,AW16=0,AX16=0),0,AND(AU16=0,AV16=0,AW16=0,AX16>0),AL16,AND(AU16=0,AV16=0,AW16>0,AX16=0),W16,AND(AU16=0,AV16=0,AW16>0,AX16>0),MAX(W16,AL16),AND(AU16=0,AV16>0,AW16=0,AX16=0),MIN(J16*PROFILE!$G$9,MAX('MDA3'!I16,'MDA3'!L16)),AND(AU16=0,AV16>0,AW16=0,AX16>0),MIN(J16*PROFILE!$G$9,MAX('MDA3'!I16,'MDA3'!L16,AL16)),AND(AU16=0,AV16>0,AW16>0,AX16=0),MIN(J16*PROFILE!$G$9,MAX('MDA3'!I16,'MDA3'!L16,W16)),AND(AU16=0,AV16>0,AW16>0,AX16>0),MIN(J16*PROFILE!$G$9,MAX('MDA3'!I16,'MDA3'!L16,W16,AL16)),AND(AU16>0,AV16=0,AW16=0,AX16=0), MIN(BA16,MAX('MDA1'!K16,'MDA2'!K16,'MDA5'!K16)),AND(AU16>0,AV16=0,AW16=0,AX16>0), MIN(BA16,MAX('MDA1'!K16,'MDA2'!K16,'MDA5'!K16,AL16)),AND(AU16>0,AV16=0,AW16>0,AX16=0),MIN(BA16,MAX('MDA1'!K16,'MDA2'!KL16,'MDA5'!K16,W16)),AND(AU16>0,AV16=0,AW16>0,AX16>0),MIN(BA16,MAX('MDA1'!K16,'MDA2'!K16,'MDA5'!K16,W16,AL16)),AND(AU16>0,AV16>0,AW16=0,AX16=0),MIN(BA16, MAX('MDA1'!K16,'MDA2'!K16, 'MDA5'!K16,MAX('MDA3'!I16,'MDA3'!L16))), AND(AU16>0,AV16>0,AW16=0,AX16>0),MIN(BA16, MAX('MDA1'!K16,'MDA2'!K16, 'MDA5'!K16,MAX('MDA3'!I16,'MDA3'!L16),AL16)), AND(AU16>0,AV16>0,AW16>0,AX16=0), MIN(BA16, MAX('MDA1'!K16,'MDA2'!K16, 'MDA5'!K16,MAX('MDA3'!I16,'MDA3'!L16),W16)), AND(AU16>0,AV16>0,AW16>0,AX16>0), MIN(BA16, MAX('MDA1'!K16,'MDA2'!K16, 'MDA5'!K16,MAX('MDA3'!I16,'MDA3'!L16),W16,AL16)))","v":0},{"$f":"_xlfn.IFS(AND(AU16=0,AV16=0,AW16=0,AX16=0),0,AND(AU16=0,AV16=0,AW16=0,AX16>0),AO16,AND(AU16=0,AV16=0,AW16>0,AX16=0),Z16,AND(AU16=0,AV16=0,AW16>0,AX16>0),MAX(Z16,AO16),AND(AU16=0,AV16>0,AW16=0,AX16=0),MIN(J16*PROFILE!$G$10,MAX('MDA3'!J16,'MDA3'!J16)),AND(AU16=0,AV16>0,AW16=0,AX16>0),MIN(J16*PROFILE!$G$10,MAX('MDA3'!J16,'MDA3'!M16,AO16)),AND(AU16=0,AV16>0,AW16>0,AX16=0),MIN(J16*PROFILE!$G$10,MAX('MDA3'!J16,'MDA3'!M16,Z16)),AND(AU16=0,AV16>0,AW16>0,AX16>0),MIN(J16*PROFILE!$G$10,MAX('MDA3'!J16,'MDA3'!M16,Z16,AO16)),AND(AU16>0,AV16=0,AW16=0,AX16=0), MIN(BB16,MAX('MDA1'!L16,'MDA2'!L16,'MDA5'!L16)),AND(AU16>0,AV16=0,AW16=0,AX16>0), MIN(BB16,MAX('MDA1'!L16,'MDA2'!L16,'MDA5'!L16,AO16)),AND(AU16>0,AV16=0,AW16>0,AX16=0),MIN(BB16,MAX('MDA1'!L16,'MDA2'!L16,'MDA5'!L16,Z16)),AND(AU16>0,AV16=0,AW16>0,AX16>0),MIN(BB16,MAX('MDA1'!L16,'MDA2'!L16,'MDA5'!L16,Z16,AO16)),AND(AU16>0,AV16>0,AW16=0,AX16=0),MIN(BB16, MAX('MDA1'!L16,'MDA2'!L16, 'MDA5'!L16,MAX('MDA3'!J16,'MDA3'!M16))), AND(AU16>0,AV16>0,AW16=0,AX16>0),MIN(BB16, MAX('MDA1'!L16,'MDA2'!L16, 'MDA5'!L16,MAX('MDA3'!J16,'MDA3'!M16),AO16)), AND(AU16>0,AV16>0,AW16>0,AX16=0), MIN(BB16, MAX('MDA1'!L16,'MDA2'!L16, 'MDA5'!L16,MAX('MDA3'!J16,'MDA3'!M16),Z16)), AND(AU16>0,AV16>0,AW16>0,AX16>0), MIN(BB16, MAX('MDA1'!L16,'MDA2'!L16, 'MDA5'!L16,MAX('MDA3'!J16,'MDA3'!M16),Z16,AO16)))","v":0},0,0]
[{"$f":"IF(COUNTRY_INFO!A17=0,\" \",COUNTRY_INFO!A17)","v":"Togo"},{"$f":"IF(COUNTRY_INFO!B17=0,\" \",COUNTRY_INFO!B17)","v":"KARA"},{"$f":"IF(COUNTRY_INFO!C17=0,\" \",COUNTRY_INFO!C17)","v":"ASSOLI"},{"$f":"COUNTRY_INFO!L17","v":"Non requis"},null,null,{"$f":"MAX('MDA1'!M17,'MDA2'!M17,'MDA5'!M17)","v":0},{"$f":"IF(AND(COUNTRY_INFO!H17>0,COUNTRY_INFO!H17<4),IF(D17>G17,G17,D17),0)","v":0},{"$f":"IF(AND(COUNTRY_INFO!H17>0,COUNTRY_INFO!H17<4), IF(G17/D17*100<>0, IF(G17/D17*100>100,100,G17/D17*100), \"-\"),0)","v":0},{"$f":"COUNTRY_INFO!M17","v":47459.950439197361},19666,20039,{"$f":"MAX('MDA1'!M17,MAX('MDA3'!I17,'MDA3'!L17)+MAX('MDA3'!J17,'MDA3'!M17))","v":39705},{"$f":"IF(AND(COUNTRY_INFO!I17>0,COUNTRY_INFO!I17<4),IF(J17>M17,M17,J17),0)","v":39705},{"$f":"IF(AND(COUNTRY_INFO!I17>0,COUNTRY_INFO!I17<4), IF(M17/J17*100<>0, IF(M17/J17*100>100,100,M17/J17*100), \"-\"),0)","v":83.660011509846584},{"$f":"COUNTRY_INFO!Q17","v":0},10284,9962,{"$f":"MAX('MDA2'!J17,'MDA5'!J17,'T1'!K17, MAX(T3_R1!J17,T3_R2!J17,T3_R3!J17))","v":0},{"$f":"IF(AND(COUNTRY_INFO!J17>1,COUNTRY_INFO!J17<99,COUNTRY_INFO!J17<>4,COUNTRY_INFO!J17<>5),IF(COUNTRY_INFO!N17>S17,S17,COUNTRY_INFO!N17),0)","v":0},{"$f":"IF(AND(COUNTRY_INFO!J17>1,COUNTRY_INFO!J17<99,COUNTRY_INFO!J17<>4,COUNTRY_INFO!J17<>5), IF(T17/COUNTRY_INFO!N17*100<>0, IF(T17/COUNTRY_INFO!N17*100>100,100,T17/COUNTRY_INFO!N17*100), \"-\"),0)","v":0},{"$f":"MAX('MDA1'!K17, 'MDA2'!K17, 'MDA5'!K17,'T1'!L17, MAX(T3_R1!K17,T3_R2!K17,T3_R3!K17))","v":20246},{"$f":"IF(AND(COUNTRY_INFO!J17>1,COUNTRY_INFO!J17<99,COUNTRY_INFO!J17<>4,COUNTRY_INFO!J17<>5),IF(COUNTRY_INFO!O17>V17,V17,COUNTRY_INFO!O17),0)","v":0},{"$f":"IF(AND(COUNTRY_INFO!J17>1,COUNTRY_INFO!J17<99,COUNTRY_INFO!J17<>4,COUNTRY_INFO!J17<>5), IF(W17/COUNTRY_INFO!O17*100<>0, IF(W17/COUNTRY_INFO!O17*100>100,100,W17/COUNTRY_INFO!O17*100), \"-\"),0)","v":0},{"$f":"MAX('MDA1'!L17, 'MDA2'!L17, 'MDA5'!L17,'T1'!M17, MAX(T3_R1!L17,T3_R2!L17,T3_R3!L17))","v":0},{"$f":"IF(AND(COUNTRY_INFO!J17>1,COUNTRY_INFO!J17<99,COUNTRY_INFO!J17<>4,COUNTRY_INFO!J17<>5),IF(COUNTRY_INFO!P17>Y17,Y17,COUNTRY_INFO!P17),0)","v":0},{"$f":"IF(AND(COUNTRY_INFO!J17>1,COUNTRY_INFO!J17<99,COUNTRY_INFO!J17<>4,COUNTRY_INFO!J17<>5), IF(Z17/COUNTRY_INFO!P17*100<>0, IF(Z17/COUNTRY_INFO!P17*100>100,100,Z17/COUNTRY_INFO!P17*100), \"-\"),0)","v":0},20246,0,{"$f":"IF(AND(COUNTRY_INFO!J17>1,COUNTRY_INFO!J17<99,COUNTRY_INFO!J17<>4,COUNTRY_INFO!J17<>5), IF(AC17/P17*100<>0, IF(AC17/P17*100>100,100,AC17/P17*100), \"-\"),0)","v":0},{"$f":"COUNTRY_INFO!U17","v":32047},null,null,{"$f":"MAX('T1'!K17,'T2'!R17)","v":0},{"$f":"IF(AND(COUNTRY_INFO!K17>1,COUNTRY_INFO!K17<99,COUNTRY_INFO!K17<>4,COUNTRY_INFO!K17<>5),IF(COUNTRY_INFO!R17>AH17,AH17,COUNTRY_INFO!R17),0)","v":0},{"$f":"IF(AND(COUNTRY_INFO!K17>1,COUNTRY_INFO!K17<99,COUNTRY_INFO!K17<>4,COUNTRY_INFO!K17<>5), IF(AI17/COUNTRY_INFO!R17*100<>0, IF(AI17/COUNTRY_INFO!R17*100>100,100,AI17/COUNTRY_INFO!R17*100), \"-\"),0)","v":0},{"$f":"MAX('T1'!L17,'T2'!S17)","v":14216},{"$f":"IF(AND(COUNTRY_INFO!K17>1,COUNTRY_INFO!K17<99,COUNTRY_INFO!K17<>4,COUNTRY_INFO!K17<>5),IF(COUNTRY_INFO!S17>AK17,AK17,COUNTRY_INFO!S17),0)","v":0},{"$f":"IF(AND(COUNTRY_INFO!K17>1,COUNTRY_INFO!K17<99,COUNTRY_INFO!K17<>4,COUNTRY_INFO!K17<>5), IF(AL17/COUNTRY_INFO!S17*100<>0, IF(AL17/COUNTRY_INFO!S17*100>100,100,AL17/COUNTRY_INFO!S17*100), \"-\"),0)","v":0},{"$f":"MAX('T1'!M17,'T2'!T17)","v":4608},{"$f":"IF(AND(COUNTRY_INFO!K17>1,COUNTRY_INFO!K17<99,COUNTRY_INFO!K17<>4,COUNTRY_INFO!K17<>5),IF(COUNTRY_INFO!T17>AN17,AN17,COUNTRY_INFO!T17),0)","v":0},{"$f":"IF(AND(COUNTRY_INFO!K17>1,COUNTRY_INFO!K17<99,COUNTRY_INFO!K17<>4,COUNTRY_INFO!K17<>5), IF(AO17/COUNTRY_INFO!T17*100<>0, IF(AO17/COUNTRY_INFO!T17*100>100,100,AO17/COUNTRY_INFO!T17*100), \"-\"),0)","v":0},18824,18824,58.738727493993196,null,{"$f":"IF(AND(D17<>0, D17<>\"Inconnu\",D17<>\"Interrompu\",D17<>\"Non requis\"),D17/COUNTRY_INFO!D17, 0)","v":0},{"$f":"IF(AND(J17<>0,J17<>\"Inconnu\",J17<>\"Interrompu\",J17<>\"Non requis\"),J17/COUNTRY_INFO!D17, 0)","v":0.72326406247316699},{"$f":"IF(AND(P17<>0,P17<>\"Inconnu\",P17<>\"Surveillance\",P17<>\"Non requis\"),P17/COUNTRY_INFO!Q17, 0)","v":0},{"$f":"IF(AND(AE17<>0,AE17<>\"Inconnu\",AE17<>\"Surveillance\",AE17<>\"Non requis\"),AE17/COUNTRY_INFO!U17, 0)","v":1},{"$f":"IF(AU17>0,D17*PROFILE!$G$7,IF(AV17>0,J17*PROFILE!$G$7,0))","v":1898.4028492933262},{"$f":"_xlfn.IFS(OR(AU17>0,AW17>0),COUNTRY_INFO!E17, AV17>0,J17*PROFILE!$G$8,AX17>0,COUNTRY_INFO!R17,COUNTIFS(AU17:AX17,\">0\")=0,0)","v":7593.5864176851601},{"$f":"_xlfn.IFS(OR(AU17>0,AW17>0),COUNTRY_INFO!F17, AV17>0,J17*PROFILE!$G$9,AX17>0,COUNTRY_INFO!S17,COUNTIFS(AU17:AX17,\">0\")=0,0)","v":14237.976714444158},{"$f":"_xlfn.IFS(AU17>0,COUNTRY_INFO!G17, AND(AV17>0,AW17=0,AX17=0),J17*PROFILE!$G$10,AND(AV17>0,AW17>0,AX17=0), MAX(J17*PROFILE!$G$10,COUNTRY_INFO!P17),AND(AV17>0,AW17=0,AX17>0), MAX(J17*PROFILE!$G$10,COUNTRY_INFO!T17),AND(AV17=0,AW17>0,AX17>0), MAX(COUNTRY_INFO!P17,COUNTRY_INFO!T17),AND(AV17=0,AW17>0,AX17=0),COUNTRY_INFO!P17,AND(AV17=0,AW17=0,AX17>0),COUNTRY_INFO!T17,AND(AV17>0,AW17>0,AX17>0), MAX(J17*PROFILE!$G$10,COUNTRY_INFO!P17,COUNTRY_INFO!T17),COUNTIFS(AU17:AX17,\">0\")=0,0)","v":23729.984457774717},47459.950439197361,"Y",{"$f":"MAX('MDA2'!J17,'MDA5'!J17,S17,AH17)","v":0},{"$f":"MAX('MDA1'!K17,'MDA2'!K17,'MDA3'!I17,'MDA3'!L17,'MDA5'!K17,V17,AK17)","v":20246},{"$f":"MAX('MDA1'!L17,'MDA2'!L17,'MDA3'!J17,'MDA3'!M17,'MDA5'!L17,Y17,AN17)","v":24873},45119,{"$f":"_xlfn.IFS(AND(AU17=0,AW17=0,AX17=0),0,AND(AU17=0,AW17=0,AX17>0),AI17,AND(AU17=0,AW17>0,AX17=0),T17,AND(AU17=0,AW17>0,AX17>0),MAX(T17,AI17),AND(AU17>0,AW17=0,AX17=0),MIN(MAX('MDA2'!J17,'MDA5'!J17),AZ17),AND(AU17>0,AW17=0,AX17>0),MIN(MAX('MDA2'!J17,'MDA5'!J17,AI17),AZ17),AND(AU17>0,AW17>0,AX17=0),MIN(MAX('MDA2'!J17,'MDA5'!J17,T17),AZ17),AND(AU17>0,AW17>0,AX17>0),MIN(MAX('MDA2'!J17,'MDA5'!J17,AI17,T17),AZ17))","v":0},{"$f":"_xlfn.IFS(AND(AU17=0,AV17=0,AW17=0,AX17=0),0,AND(AU17=0,AV17=0,AW17=0,AX17>0),AL17,AND(AU17=0,AV17=0,AW17>0,AX17=0),W17,AND(AU17=0,AV17=0,AW17>0,AX17>0),MAX(W17,AL17),AND(AU17=0,AV17>0,AW17=0,AX17=0),MIN(J17*PROFILE!$G$9,MAX('MDA3'!I17,'MDA3'!L17)),AND(AU17=0,AV17>0,AW17=0,AX17>0),MIN(J17*PROFILE!$G$9,MAX('MDA3'!I17,'MDA3'!L17,AL17)),AND(AU17=0,AV17>0,AW17>0,AX17=0),MIN(J17*PROFILE!$G$9,MAX('MDA3'!I17,'MDA3'!L17,W17)),AND(AU17=0,AV17>0,AW17>0,AX17>0),MIN(J17*PROFILE!$G$9,MAX('MDA3'!I17,'MDA3'!L17,W17,AL17)),AND(AU17>0,AV17=0,AW17=0,AX17=0), MIN(BA17,MAX('MDA1'!K17,'MDA2'!K17,'MDA5'!K17)),AND(AU17>0,AV17=0,AW17=0,AX17>0), MIN(BA17,MAX('MDA1'!K17,'MDA2'!K17,'MDA5'!K17,AL17)),AND(AU17>0,AV17=0,AW17>0,AX17=0),MIN(BA17,MAX('MDA1'!K17,'MDA2'!KL17,'MDA5'!K17,W17)),AND(AU17>0,AV17=0,AW17>0,AX17>0),MIN(BA17,MAX('MDA1'!K17,'MDA2'!K17,'MDA5'!K17,W17,AL17)),AND(AU17>0,AV17>0,AW17=0,AX17=0),MIN(BA17, MAX('MDA1'!K17,'MDA2'!K17, 'MDA5'!K17,MAX('MDA3'!I17,'MDA3'!L17))), AND(AU17>0,AV17>0,AW17=0,AX17>0),MIN(BA17, MAX('MDA1'!K17,'MDA2'!K17, 'MDA5'!K17,MAX('MDA3'!I17,'MDA3'!L17),AL17)), AND(AU17>0,AV17>0,AW17>0,AX17=0), MIN(BA17, MAX('MDA1'!K17,'MDA2'!K17, 'MDA5'!K17,MAX('MDA3'!I17,'MDA3'!L17),W17)), AND(AU17>0,AV17>0,AW17>0,AX17>0), MIN(BA17, MAX('MDA1'!K17,'MDA2'!K17, 'MDA5'!K17,MAX('MDA3'!I17,'MDA3'!L17),W17,AL17)))","v":14237.976714444158},{"$f":"_xlfn.IFS(AND(AU17=0,AV17=0,AW17=0,AX17=0),0,AND(AU17=0,AV17=0,AW17=0,AX17>0),AO17,AND(AU17=0,AV17=0,AW17>0,AX17=0),Z17,AND(AU17=0,AV17=0,AW17>0,AX17>0),MAX(Z17,AO17),AND(AU17=0,AV17>0,AW17=0,AX17=0),MIN(J17*PROFILE!$G$10,MAX('MDA3'!J17,'MDA3'!J17)),AND(AU17=0,AV17>0,AW17=0,AX17>0),MIN(J17*PROFILE!$G$10,MAX('MDA3'!J17,'MDA3'!M17,AO17)),AND(AU17=0,AV17>0,AW17>0,AX17=0),MIN(J17*PROFILE!$G$10,MAX('MDA3'!J17,'MDA3'!M17,Z17)),AND(AU17=0,AV17>0,AW17>0,AX17>0),MIN(J17*PROFILE!$G$10,MAX('MDA3'!J17,'MDA3'!M17,Z17,AO17)),AND(AU17>0,AV17=0,AW17=0,AX17=0), MIN(BB17,MAX('MDA1'!L17,'MDA2'!L17,'MDA5'!L17)),AND(AU17>0,AV17=0,AW17=0,AX17>0), MIN(BB17,MAX('MDA1'!L17,'MDA2'!L17,'MDA5'!L17,AO17)),AND(AU17>0,AV17=0,AW17>0,AX17=0),MIN(BB17,MAX('MDA1'!L17,'MDA2'!L17,'MDA5'!L17,Z17)),AND(AU17>0,AV17=0,AW17>0,AX17>0),MIN(BB17,MAX('MDA1'!L17,'MDA2'!L17,'MDA5'!L17,Z17,AO17)),AND(AU17>0,AV17>0,AW17=0,AX17=0),MIN(BB17, MAX('MDA1'!L17,'MDA2'!L17, 'MDA5'!L17,MAX('MDA3'!J17,'MDA3'!M17))), AND(AU17>0,AV17>0,AW17=0,AX17>0),MIN(BB17, MAX('MDA1'!L17,'MDA2'!L17, 'MDA5'!L17,MAX('MDA3'!J17,'MDA3'!M17),AO17)), AND(AU17>0,AV17>0,AW17>0,AX17=0), MIN(BB17, MAX('MDA1'!L17,'MDA2'!L17, 'MDA5'!L17,MAX('MDA3'!J17,'MDA3'!M17),Z17)), AND(AU17>0,AV17>0,AW17>0,AX17>0), MIN(BB17, MAX('MDA1'!L17,'MDA2'!L17, 'MDA5'!L17,MAX('MDA3'!J17,'MDA3'!M17),Z17,AO17)))","v":23729.984457774717},37967.961172218871,80.000001729586671]
[{"$f":"IF(COUNTRY_INFO!A18=0,\" \",COUNTRY_INFO!A18)","v":"Togo"},{"$f":"IF(COUNTRY_INFO!B18=0,\" \",COUNTRY_INFO!B18)","v":"KARA"},{"$f":"IF(COUNTRY_INFO!C18=0,\" \",COUNTRY_INFO!C18)","v":"BASSAR"},{"$f":"COUNTRY_INFO!L18","v":"Non requis"},null,null,{"$f":"MAX('MDA1'!M18,'MDA2'!M18,'MDA5'!M18)","v":0},{"$f":"IF(AND(COUNTRY_INFO!H18>0,COUNTRY_INFO!H18<4),IF(D18>G18,G18,D18),0)","v":0},{"$f":"IF(AND(COUNTRY_INFO!H18>0,COUNTRY_INFO!H18<4), IF(G18/D18*100<>0, IF(G18/D18*100>100,100,G18/D18*100), \"-\"),0)","v":0},{"$f":"COUNTRY_INFO!M18","v":110286.21592161419},44118,44830,{"$f":"MAX('MDA1'!M18,MAX('MDA3'!I18,'MDA3'!L18)+MAX('MDA3'!J18,'MDA3'!M18))","v":88948},{"$f":"IF(AND(COUNTRY_INFO!I18>0,COUNTRY_INFO!I18<4),IF(J18>M18,M18,J18),0)","v":88948},{"$f":"IF(AND(COUNTRY_INFO!I18>0,COUNTRY_INFO!I18<4), IF(M18/J18*100<>0, IF(M18/J18*100>100,100,M18/J18*100), \"-\"),0)","v":80.651964759784391},{"$f":"COUNTRY_INFO!Q18","v":72839},24206,24089,{"$f":"MAX('MDA2'!J18,'MDA5'!J18,'T1'!K18, MAX(T3_R1!J18,T3_R2!J18,T3_R3!J18))","v":0},{"$f":"IF(AND(COUNTRY_INFO!J18>1,COUNTRY_INFO!J18<99,COUNTRY_INFO!J18<>4,COUNTRY_INFO!J18<>5),IF(COUNTRY_INFO!N18>S18,S18,COUNTRY_INFO!N18),0)","v":0},{"$f":"IF(AND(COUNTRY_INFO!J18>1,COUNTRY_INFO!J18<99,COUNTRY_INFO!J18<>4,COUNTRY_INFO!J18<>5), IF(T18/COUNTRY_INFO!N18*100<>0, IF(T18/COUNTRY_INFO!N18*100>100,100,T18/COUNTRY_INFO!N18*100), \"-\"),0)","v":"-"},{"$f":"MAX('MDA1'!K18, 'MDA2'!K18, 'MDA5'!K18,'T1'!L18, MAX(T3_R1!K18,T3_R2!K18,T3_R3!K18))","v":48295},{"$f":"IF(AND(COUNTRY_INFO!J18>1,COUNTRY_INFO!J18<99,COUNTRY_INFO!J18<>4,COUNTRY_INFO!J18<>5),IF(COUNTRY_INFO!O18>V18,V18,COUNTRY_INFO!O18),0)","v":47504},{"$f":"IF(AND(COUNTRY_INFO!J18>1,COUNTRY_INFO!J18<99,COUNTRY_INFO!J18<>4,COUNTRY_INFO!J18<>5), IF(W18/COUNTRY_INFO!O18*100<>0, IF(W18/COUNTRY_INFO!O18*100>100,100,W18/COUNTRY_INFO!O18*100), \"-\"),0)","v":100},{"$f":"MAX('MDA1'!L18, 'MDA2'!L18, 'MDA5'!L18,'T1'!M18, MAX(T3_R1!L18,T3_R2!L18,T3_R3!L18))","v":0},{"$f":"IF(AND(COUNTRY_INFO!J18>1,COUNTRY_INFO!J18<99,COUNTRY_INFO!J18<>4,COUNTRY_INFO!J18<>5),IF(COUNTRY_INFO!P18>Y18,Y18,COUNTRY_INFO!P18),0)","v":0},{"$f":"IF(AND(COUNTRY_INFO!J18>1,COUNTRY_INFO!J18<99,COUNTRY_INFO!J18<>4,COUNTRY_INFO!J18<>5), IF(Z18/COUNTRY_INFO!P18*100<>0, IF(Z18/COUNTRY_INFO!P18*100>100,100,Z18/COUNTRY_INFO!P18*100), \"-\"),0)","v":{"$error":"#DIV/0!"}},48295,47504,{"$f":"IF(AND(COUNTRY_INFO!J18>1,COUNTRY_INFO!J18<99,COUNTRY_INFO!J18<>4,COUNTRY_INFO!J18<>5), IF(AC18/P18*100<>0, IF(AC18/P18*100>100,100,AC18/P18*100), \"-\"),0)","v":65.217809140707587},{"$f":"COUNTRY_INFO!U18","v":91719},null,null,{"$f":"MAX('T1'!K18,'T2'!R18)","v":0},{"$f":"IF(AND(COUNTRY_INFO!K18>1,COUNTRY_INFO!K18<99,COUNTRY_INFO!K18<>4,COUNTRY_INFO!K18<>5),IF(COUNTRY_INFO!R18>AH18,AH18,COUNTRY_INFO!R18),0)","v":0},{"$f":"IF(AND(COUNTRY_INFO!K18>1,COUNTRY_INFO!K18<99,COUNTRY_INFO!K18<>4,COUNTRY_INFO!K18<>5), IF(AI18/COUNTRY_INFO!R18*100<>0, IF(AI18/COUNTRY_INFO!R18*100>100,100,AI18/COUNTRY_INFO!R18*100), \"-\"),0)","v":{"$error":"#DIV/0!"}},{"$f":"MAX('T1'!L18,'T2'!S18)","v":38621},{"$f":"IF(AND(COUNTRY_INFO!K18>1,COUNTRY_INFO!K18<99,COUNTRY_INFO!K18<>4,COUNTRY_INFO!K18<>5),IF(COUNTRY_INFO!S18>AK18,AK18,COUNTRY_INFO!S18),0)","v":0},{"$f":"IF(AND(COUNTRY_INFO!K18>1,COUNTRY_INFO!K18<99,COUNTRY_INFO!K18<>4,COUNTRY_INFO!K18<>5), IF(AL18/COUNTRY_INFO!S18*100<>0, IF(AL18/COUNTRY_INFO!S18*100>100,100,AL18/COUNTRY_INFO!S18*100), \"-\"),0)","v":{"$error":"#DIV/0!"}},{"$f":"MAX('T1'!M18,'T2'!T18)","v":7505},{"$f":"IF(AND(COUNTRY_INFO!K18>1,COUNTRY_INFO!K18<99,COUNTRY_INFO!K18<>4,COUNTRY_INFO!K18<>5),IF(COUNTRY_INFO!T18>AN18,AN18,COUNTRY_INFO!T18),0)","v":0},{"$f":"IF(AND(COUNTRY_INFO!K18>1,COUNTRY_INFO!K18<99,COUNTRY_INFO!K18<>4,COUNTRY_INFO!K18<>5), IF(AO18/COUNTRY_INFO!T18*100<>0, IF(AO18/COUNTRY_INFO!T18*100>100,100,AO18/COUNTRY_INFO!T18*100), \"-\"),0)","v":{"$error":"#DIV/0!"}},46126,46126,50.290561388589062,null,{"$f":"IF(AND(D18<>0, D18<>\"Inconnu\",D18<>\"Interrompu\",D18<>\"Non requis\"),D18/COUNTRY_INFO!D18, 0)","v":0},{"$f":"IF(AND(J18<>0,J18<>\"Inconnu\",J18<>\"Interrompu\",J18<>\"Non requis\"),J18/COUNTRY_INFO!D18, 0)","v":0.69648953618069809},{"$f":"IF(AND(P18<>0,P18<>\"Inconnu\",P18<>\"Surveillance\",P18<>\"Non requis\"),P18/COUNTRY_INFO!Q18, 0)","v":1},{"$f":"IF(AND(AE18<>0,AE18<>\"Inconnu\",AE18<>\"Surveillance\",AE18<>\"Non requis\"),AE18/COUNTRY_INFO!U18, 0)","v":1},{"$f":"IF(AU18>0,D18*PROFILE!$G$7,IF(AV18>0,J18*PROFILE!$G$7,0))","v":4411.4598647042367},{"$f":"_xlfn.IFS(OR(AU18>0,AW18>0),COUNTRY_INFO!E18, AV18>0,J18*PROFILE!$G$8,AX18>0,COUNTRY_INFO!R18,COUNTIFS(AU18:AX18,\">0\")=0,0)","v":25335},{"$f":"_xlfn.IFS(OR(AU18>0,AW18>0),COUNTRY_INFO!F18, AV18>0,J18*PROFILE!$G$9,AX18>0,COUNTRY_INFO!S18,COUNTIFS(AU18:AX18,\">0\")=0,0)","v":47504},{"$f":"_xlfn.IFS(AU18>0,COUNTRY_INFO!G18, AND(AV18>0,AW18=0,AX18=0),J18*PROFILE!$G$10,AND(AV18>0,AW18>0,AX18=0), MAX(J18*PROFILE!$G$10,COUNTRY_INFO!P18),AND(AV18>0,AW18=0,AX18>0), MAX(J18*PROFILE!$G$10,COUNTRY_INFO!T18),AND(AV18=0,AW18>0,AX18>0), MAX(COUNTRY_INFO!P18,COUNTRY_INFO!T18),AND(AV18=0,AW18>0,AX18=0),COUNTRY_INFO!P18,AND(AV18=0,AW18=0,AX18>0),COUNTRY_INFO!T18,AND(AV18>0,AW18>0,AX18>0), MAX(J18*PROFILE!$G$10,COUNTRY_INFO!P18,COUNTRY_INFO!T18),COUNTIFS(AU18:AX18,\">0\")=0,0)","v":55143.129428243694},132393.58929294793,"Y",{"$f":"MAX('MDA2'!J18,'MDA5'!J18,S18,AH18)","v":0},{"$f":"MAX('MDA1'!K18,'MDA2'!K18,'MDA3'!I18,'MDA3'!L18,'MDA5'!K18,V18,AK18)","v":48295},{"$f":"MAX('MDA1'!L18,'MDA2'!L18,'MDA3'!J18,'MDA3'!M18,'MDA5'!L18,Y18,AN18)","v":55742},104037,{"$f":"_xlfn.IFS(AND(AU18=0,AW18=0,AX18=0),0,AND(AU18=0,AW18=0,AX18>0),AI18,AND(AU18=0,AW18>0,AX18=0),T18,AND(AU18=0,AW18>0,AX18>0),MAX(T18,AI18),AND(AU18>0,AW18=0,AX18=0),MIN(MAX('MDA2'!J18,'MDA5'!J18),AZ18),AND(AU18>0,AW18=0,AX18>0),MIN(MAX('MDA2'!J18,'MDA5'!J18,AI18),AZ18),AND(AU18>0,AW18>0,AX18=0),MIN(MAX('MDA2'!J18,'MDA5'!J18,T18),AZ18),AND(AU18>0,AW18>0,AX18>0),MIN(MAX('MDA2'!J18,'MDA5'!J18,AI18,T18),AZ18))","v":0},{"$f":"_xlfn.IFS(AND(AU18=0,AV18=0,AW18=0,AX18=0),0,AND(AU18=0,AV18=0,AW18=0,AX18>0),AL18,AND(AU18=0,AV18=0,AW18>0,AX18=0),W18,AND(AU18=0,AV18=0,AW18>0,AX18>0),MAX(W18,AL18),AND(AU18=0,AV18>0,AW18=0,AX18=0),MIN(J18*PROFILE!$G$9,MAX('MDA3'!I18,'MDA3'!L18)),AND(AU18=0,AV18>0,AW18=0,AX18>0),MIN(J18*PROFILE!$G$9,MAX('MDA3'!I18,'MDA3'!L18,AL18)),AND(AU18=0,AV18>0,AW18>0,AX18=0),MIN(J18*PROFILE!$G$9,MAX('MDA3'!I18,'MDA3'!L18,W18)),AND(AU18=0,AV18>0,AW18>0,AX18>0),MIN(J18*PROFILE!$G$9,MAX('MDA3'!I18,'MDA3'!L18,W18,AL18)),AND(AU18>0,AV18=0,AW18=0,AX18=0), MIN(BA18,MAX('MDA1'!K18,'MDA2'!K18,'MDA5'!K18)),AND(AU18>0,AV18=0,AW18=0,AX18>0), MIN(BA18,MAX('MDA1'!K18,'MDA2'!K18,'MDA5'!K18,AL18)),AND(AU18>0,AV18=0,AW18>0,AX18=0),MIN(BA18,MAX('MDA1'!K18,'MDA2'!KL18,'MDA5'!K18,W18)),AND(AU18>0,AV18=0,AW18>0,AX18>0),MIN(BA18,MAX('MDA1'!K18,'MDA2'!K18,'MDA5'!K18,W18,AL18)),AND(AU18>0,AV18>0,AW18=0,AX18=0),MIN(BA18, MAX('MDA1'!K18,'MDA2'!K18, 'MDA5'!K18,MAX('MDA3'!I18,'MDA3'!L18))), AND(AU18>0,AV18>0,AW18=0,AX18>0),MIN(BA18, MAX('MDA1'!K18,'MDA2'!K18, 'MDA5'!K18,MAX('MDA3'!I18,'MDA3'!L18),AL18)), AND(AU18>0,AV18>0,AW18>0,AX18=0), MIN(BA18, MAX('MDA1'!K18,'MDA2'!K18, 'MDA5'!K18,MAX('MDA3'!I18,'MDA3'!L18),W18)), AND(AU18>0,AV18>0,AW18>0,AX18>0), MIN(BA18, MAX('MDA1'!K18,'MDA2'!K18, 'MDA5'!K18,MAX('MDA3'!I18,'MDA3'!L18),W18,AL18)))","v":33085.84521654337},{"$f":"_xlfn.IFS(AND(AU18=0,AV18=0,AW18=0,AX18=0),0,AND(AU18=0,AV18=0,AW18=0,AX18>0),AO18,AND(AU18=0,AV18=0,AW18>0,AX18=0),Z18,AND(AU18=0,AV18=0,AW18>0,AX18>0),MAX(Z18,AO18),AND(AU18=0,AV18>0,AW18=0,AX18=0),MIN(J18*PROFILE!$G$10,MAX('MDA3'!J18,'MDA3'!J18)),AND(AU18=0,AV18>0,AW18=0,AX18>0),MIN(J18*PROFILE!$G$10,MAX('MDA3'!J18,'MDA3'!M18,AO18)),AND(AU18=0,AV18>0,AW18>0,AX18=0),MIN(J18*PROFILE!$G$10,MAX('MDA3'!J18,'MDA3'!M18,Z18)),AND(AU18=0,AV18>0,AW18>0,AX18>0),MIN(J18*PROFILE!$G$10,MAX('MDA3'!J18,'MDA3'!M18,Z18,AO18)),AND(AU18>0,AV18=0,AW18=0,AX18=0), MIN(BB18,MAX('MDA1'!L18,'MDA2'!L18,'MDA5'!L18)),AND(AU18>0,AV18=0,AW18=0,AX18>0), MIN(BB18,MAX('MDA1'!L18,'MDA2'!L18,'MDA5'!L18,AO18)),AND(AU18>0,AV18=0,AW18>0,AX18=0),MIN(BB18,MAX('MDA1'!L18,'MDA2'!L18,'MDA5'!L18,Z18)),AND(AU18>0,AV18=0,AW18>0,AX18>0),MIN(BB18,MAX('MDA1'!L18,'MDA2'!L18,'MDA5'!L18,Z18,AO18)),AND(AU18>0,AV18>0,AW18=0,AX18=0),MIN(BB18, MAX('MDA1'!L18,'MDA2'!L18, 'MDA5'!L18,MAX('MDA3'!J18,'MDA3'!M18))), AND(AU18>0,AV18>0,AW18=0,AX18>0),MIN(BB18, MAX('MDA1'!L18,'MDA2'!L18, 'MDA5'!L18,MAX('MDA3'!J18,'MDA3'!M18),AO18)), AND(AU18>0,AV18>0,AW18>0,AX18=0), MIN(BB18, MAX('MDA1'!L18,'MDA2'!L18, 'MDA5'!L18,MAX('MDA3'!J18,'MDA3'!M18),Z18)), AND(AU18>0,AV18>0,AW18>0,AX18>0), MIN(BB18, MAX('MDA1'!L18,'MDA2'!L18, 'MDA5'!L18,MAX('MDA3'!J18,'MDA3'!M18),Z18,AO18)))","v":55143.129428243694},88228.974644787057,66.641425099188439]
[{"$f":"IF(COUNTRY_INFO!A19=0,\" \",COUNTRY_INFO!A19)","v":"Togo"},{"$f":"IF(COUNTRY_INFO!B19=0,\" \",COUNTRY_INFO!B19)","v":"KARA"},{"$f":"IF(COUNTRY_INFO!C19=0,\" \",COUNTRY_INFO!C19)","v":"BINAH"},{"$f":"COUNTRY_INFO!L19","v":"Non requis"},null,null,{"$f":"MAX('MDA1'!M19,'MDA2'!M19,'MDA5'!M19)","v":0},{"$f":"IF(AND(COUNTRY_INFO!H19>0,COUNTRY_INFO!H19<4),IF(D19>G19,G19,D19),0)","v":0},{"$f":"IF(AND(COUNTRY_INFO!H19>0,COUNTRY_INFO!H19<4), IF(G19/D19*100<>0, IF(G19/D19*100>100,100,G19/D19*100), \"-\"),0)","v":0},{"$f":"COUNTRY_INFO!M19","v":53663.015528114898},21269,21205,{"$f":"MAX('MDA1'!M19,MAX('MDA3'!I19,'MDA3'!L19)+MAX('MDA3'!J19,'MDA3'!M19))","v":42474},{"$f":"IF(AND(COUNTRY_INFO!I19>0,COUNTRY_INFO!I19<4),IF(J19>M19,M19,J19),0)","v":42474},{"$f":"IF(AND(COUNTRY_INFO!I19>0,COUNTRY_INFO!I19<4), IF(M19/J19*100<>0, IF(M19/J19*100>100,100,M19/J19*100), \"-\"),0)","v":79.149484206207546},{"$f":"COUNTRY_INFO!Q19","v":36719},12109,11178,{"$f":"MAX('MDA2'!J19,'MDA5'!J19,'T1'!K19, MAX(T3_R1!J19,T3_R2!J19,T3_R3!J19))","v":0},{"$f":"IF(AND(COUNTRY_INFO!J19>1,COUNTRY_INFO!J19<99,COUNTRY_INFO!J19<>4,COUNTRY_INFO!J19<>5),IF(COUNTRY_INFO!N19>S19,S19,COUNTRY_INFO!N19),0)","v":0},{"$f":"IF(AND(COUNTRY_INFO!J19>1,COUNTRY_INFO!J19<99,COUNTRY_INFO!J19<>4,COUNTRY_INFO!J19<>5), IF(T19/COUNTRY_INFO!N19*100<>0, IF(T19/COUNTRY_INFO!N19*100>100,100,T19/COUNTRY_INFO!N19*100), \"-\"),0)","v":"-"},{"$f":"MAX('MDA1'!K19, 'MDA2'!K19, 'MDA5'!K19,'T1'!L19, MAX(T3_R1!K19,T3_R2!K19,T3_R3!K19))","v":23287},{"$f":"IF(AND(COUNTRY_INFO!J19>1,COUNTRY_INFO!J19<99,COUNTRY_INFO!J19<>4,COUNTRY_INFO!J19<>5),IF(COUNTRY_INFO!O19>V19,V19,COUNTRY_INFO!O19),0)","v":23287},{"$f":"IF(AND(COUNTRY_INFO!J19>1,COUNTRY_INFO!J19<99,COUNTRY_INFO!J19<>4,COUNTRY_INFO!J19<>5), IF(W19/COUNTRY_INFO!O19*100<>0, IF(W19/COUNTRY_INFO!O19*100>100,100,W19/COUNTRY_INFO!O19*100), \"-\"),0)","v":97.243913642627462},{"$f":"MAX('MDA1'!L19, 'MDA2'!L19, 'MDA5'!L19,'T1'!M19, MAX(T3_R1!L19,T3_R2!L19,T3_R3!L19))","v":0},{"$f":"IF(AND(COUNTRY_INFO!J19>1,COUNTRY_INFO!J19<99,COUNTRY_INFO!J19<>4,COUNTRY_INFO!J19<>5),IF(COUNTRY_INFO!P19>Y19,Y19,COUNTRY_INFO!P19),0)","v":0},{"$f":"IF(AND(COUNTRY_INFO!J19>1,COUNTRY_INFO!J19<99,COUNTRY_INFO!J19<>4,COUNTRY_INFO!J19<>5), IF(Z19/COUNTRY_INFO!P19*100<>0, IF(Z19/COUNTRY_INFO!P19*100>100,100,Z19/COUNTRY_INFO!P19*100), \"-\"),0)","v":{"$error":"#DIV/0!"}},23287,23287,{"$f":"IF(AND(COUNTRY_INFO!J19>1,COUNTRY_INFO!J19<99,COUNTRY_INFO!J19<>4,COUNTRY_INFO!J19<>5), IF(AC19/P19*100<>0, IF(AC19/P19*100>100,100,AC19/P19*100), \"-\"),0)","v":63.419483101391648},{"$f":"COUNTRY_INFO!U19","v":52728},null,null,{"$f":"MAX('T1'!K19,'T2'!R19)","v":0},{"$f":"IF(AND(COUNTRY_INFO!K19>1,COUNTRY_INFO!K19<99,COUNTRY_INFO!K19<>4,COUNTRY_INFO!K19<>5),IF(COUNTRY_INFO!R19>AH19,AH19,COUNTRY_INFO!R19),0)","v":0},{"$f":"IF(AND(COUNTRY_INFO!K19>1,COUNTRY_INFO!K19<99,COUNTRY_INFO!K19<>4,COUNTRY_INFO!K19<>5), IF(AI19/COUNTRY_INFO!R19*100<>0, IF(AI19/COUNTRY_INFO!R19*100>100,100,AI19/COUNTRY_INFO!R19*100), \"-\"),0)","v":{"$error":"#DIV/0!"}},{"$f":"MAX('T1'!L19,'T2'!S19)","v":23287},{"$f":"IF(AND(COUNTRY_INFO!K19>1,COUNTRY_INFO!K19<99,COUNTRY_INFO!K19<>4,COUNTRY_INFO!K19<>5),IF(COUNTRY_INFO!S19>AK19,AK19,COUNTRY_INFO!S19),0)","v":0},{"$f":"IF(AND(COUNTRY_INFO!K19>1,COUNTRY_INFO!K19<99,COUNTRY_INFO!K19<>4,COUNTRY_INFO!K19<>5), IF(AL19/COUNTRY_INFO!S19*100<>0, IF(AL19/COUNTRY_INFO!S19*100>100,100,AL19/COUNTRY_INFO!S19*100), \"-\"),0)","v":{"$error":"#DIV/0!"}},{"$f":"MAX('T1'!M19,'T2'!T19)","v":16045},{"$f":"IF(AND(COUNTRY_INFO!K19>1,COUNTRY_INFO!K19<99,COUNTRY_INFO!K19<>4,COUNTRY_INFO!K19<>5),IF(COUNTRY_INFO!T19>AN19,AN19,COUNTRY_INFO!T19),0)","v":0},{"$f":"IF(AND(COUNTRY_INFO!K19>1,COUNTRY_INFO!K19<99,COUNTRY_INFO!K19<>4,COUNTRY_INFO!K19<>5), IF(AO19/COUNTRY_INFO!T19*100<>0, IF(AO19/COUNTRY_INFO!T19*100>100,100,AO19/COUNTRY_INFO!T19*100), \"-\"),0)","v":{"$error":"#DIV/0!"}},39332,39332,74.594143529054762,null,{"$f":"IF(AND(D19<>0, D19<>\"Inconnu\",D19<>\"Interrompu\",D19<>\"Non requis\"),D19/COUNTRY_INFO!D19, 0)","v":0},{"$f":"IF(AND(J19<>0,J19<>\"Inconnu\",J19<>\"Interrompu\",J19<>\"Non requis\"),J19/COUNTRY_INFO!D19, 0)","v":0.67226324469722221},{"$f":"IF(AND(P19<>0,P19<>\"Inconnu\",P19<>\"Surveillance\",P19<>\"Non requis\"),P19/COUNTRY_INFO!Q19, 0)","v":1},{"$f":"IF(AND(AE19<>0,AE19<>\"Inconnu\",AE19<>\"Surveillance\",AE19<>\"Non requis\"),AE19/COUNTRY_INFO!U19, 0)","v":1},{"$f":"IF(AU19>0,D19*PROFILE!$G$7,IF(AV19>0,J19*PROFILE!$G$7,0))","v":2146.5260843615879},{"$f":"_xlfn.IFS(OR(AU19>0,AW19>0),COUNTRY_INFO!E19, AV19>0,J19*PROFILE!$G$8,AX19>0,COUNTRY_INFO!R19,COUNTIFS(AU19:AX19,\">0\")=0,0)","v":12772},{"$f":"_xlfn.IFS(OR(AU19>0,AW19>0),COUNTRY_INFO!F19, AV19>0,J19*PROFILE!$G$9,AX19>0,COUNTRY_INFO!S19,COUNTIFS(AU19:AX19,\">0\")=0,0)","v":23947},{"$f":"_xlfn.IFS(AU19>0,COUNTRY_INFO!G19, AND(AV19>0,AW19=0,AX19=0),J19*PROFILE!$G$10,AND(AV19>0,AW19>0,AX19=0), MAX(J19*PROFILE!$G$10,COUNTRY_INFO!P19),AND(AV19>0,AW19=0,AX19>0), MAX(J19*PROFILE!$G$10,COUNTRY_INFO!T19),AND(AV19=0,AW19>0,AX19>0), MAX(COUNTRY_INFO!P19,COUNTRY_INFO!T19),AND(AV19=0,AW19>0,AX19=0),COUNTRY_INFO!P19,AND(AV19=0,AW19=0,AX19>0),COUNTRY_INFO!T19,AND(AV19>0,AW19>0,AX19>0), MAX(J19*PROFILE!$G$10,COUNTRY_INFO!P19,COUNTRY_INFO!T19),COUNTIFS(AU19:AX19,\">0\")=0,0)","v":26831.51820967274},65697.04429403432,"Y",{"$f":"MAX('MDA2'!J19,'MDA5'!J19,S19,AH19)","v":0},{"$f":"MAX('MDA1'!K19,'MDA2'!K19,'MDA3'!I19,'MDA3'!L19,'MDA5'!K19,V19,AK19)","v":23287},{"$f":"MAX('MDA1'!L19,'MDA2'!L19,'MDA3'!J19,'MDA3'!M19,'MDA5'!L19,Y19,AN19)","v":27068},50355,{"$f":"_xlfn.IFS(AND(AU19=0,AW19=0,AX19=0),0,AND(AU19=0,AW19=0,AX19>0),AI19,AND(AU19=0,AW19>0,AX19=0),T19,AND(AU19=0,AW19>0,AX19>0),MAX(T19,AI19),AND(AU19>0,AW19=0,AX19=0),MIN(MAX('MDA2'!J19,'MDA5'!J19),AZ19),AND(AU19>0,AW19=0,AX19>0),MIN(MAX('MDA2'!J19,'MDA5'!J19,AI19),AZ19),AND(AU19>0,AW19>0,AX19=0),MIN(MAX('MDA2'!J19,'MDA5'!J19,T19),AZ19),AND(AU19>0,AW19>0,AX19>0),MIN(MAX('MDA2'!J19,'MDA5'!J19,AI19,T19),AZ19))","v":0},{"$f":"_xlfn.IFS(AND(AU19=0,AV19=0,AW19=0,AX19=0),0,AND(AU19=0,AV19=0,AW19=0,AX19>0),AL19,AND(AU19=0,AV19=0,AW19>0,AX19=0),W19,AND(AU19=0,AV19=0,AW19>0,AX19>0),MAX(W19,AL19),AND(AU19=0,AV19>0,AW19=0,AX19=0),MIN(J19*PROFILE!$G$9,MAX('MDA3'!I19,'MDA3'!L19)),AND(AU19=0,AV19>0,AW19=0,AX19>0),MIN(J19*PROFILE!$G$9,MAX('MDA3'!I19,'MDA3'!L19,AL19)),AND(AU19=0,AV19>0,AW19>0,AX19=0),MIN(J19*PROFILE!$G$9,MAX('MDA3'!I19,'MDA3'!L19,W19)),AND(AU19=0,AV19>0,AW19>0,AX19>0),MIN(J19*PROFILE!$G$9,MAX('MDA3'!I19,'MDA3'!L19,W19,AL19)),AND(AU19>0,AV19=0,AW19=0,AX19=0), MIN(BA19,MAX('MDA1'!K19,'MDA2'!K19,'MDA5'!K19)),AND(AU19>0,AV19=0,AW19=0,AX19>0), MIN(BA19,MAX('MDA1'!K19,'MDA2'!K19,'MDA5'!K19,AL19)),AND(AU19>0,AV19=0,AW19>0,AX19=0),MIN(BA19,MAX('MDA1'!K19,'MDA2'!KL19,'MDA5'!K19,W19)),AND(AU19>0,AV19=0,AW19>0,AX19>0),MIN(BA19,MAX('MDA1'!K19,'MDA2'!K19,'MDA5'!K19,W19,AL19)),AND(AU19>0,AV19>0,AW19=0,AX19=0),MIN(BA19, MAX('MDA1'!K19,'MDA2'!K19, 'MDA5'!K19,MAX('MDA3'!I19,'MDA3'!L19))), AND(AU19>0,AV19>0,AW19=0,AX19>0),MIN(BA19, MAX('MDA1'!K19,'MDA2'!K19, 'MDA5'!K19,MAX('MDA3'!I19,'MDA3'!L19),AL19)), AND(AU19>0,AV19>0,AW19>0,AX19=0), MIN(BA19, MAX('MDA1'!K19,'MDA2'!K19, 'MDA5'!K19,MAX('MDA3'!I19,'MDA3'!L19),W19)), AND(AU19>0,AV19>0,AW19>0,AX19>0), MIN(BA19, MAX('MDA1'!K19,'MDA2'!K19, 'MDA5'!K19,MAX('MDA3'!I19,'MDA3'!L19),W19,AL19)))","v":16098.89514096755},{"$f":"_xlfn.IFS(AND(AU19=0,AV19=0,AW19=0,AX19=0),0,AND(AU19=0,AV19=0,AW19=0,AX19>0),AO19,AND(AU19=0,AV19=0,AW19>0,AX19=0),Z19,AND(AU19=0,AV19=0,AW19>0,AX19>0),MAX(Z19,AO19),AND(AU19=0,AV19>0,AW19=0,AX19=0),MIN(J19*PROFILE!$G$10,MAX('MDA3'!J19,'MDA3'!J19)),AND(AU19=0,AV19>0,AW19=0,AX19>0),MIN(J19*PROFILE!$G$10,MAX('MDA3'!J19,'MDA3'!M19,AO19)),AND(AU19=0,AV19>0,AW19>0,AX19=0),MIN(J19*PROFILE!$G$10,MAX('MDA3'!J19,'MDA3'!M19,Z19)),AND(AU19=0,AV19>0,AW19>0,AX19>0),MIN(J19*PROFILE!$G$10,MAX('MDA3'!J19,'MDA3'!M19,Z19,AO19)),AND(AU19>0,AV19=0,AW19=0,AX19=0), MIN(BB19,MAX('MDA1'!L19,'MDA2'!L19,'MDA5'!L19)),AND(AU19>0,AV19=0,AW19=0,AX19>0), MIN(BB19,MAX('MDA1'!L19,'MDA2'!L19,'MDA5'!L19,AO19)),AND(AU19>0,AV19=0,AW19>0,AX19=0),MIN(BB19,MAX('MDA1'!L19,'MDA2'!L19,'MDA5'!L19,Z19)),AND(AU19>0,AV19=0,AW19>0,AX19>0),MIN(BB19,MAX('MDA1'!L19,'MDA2'!L19,'MDA5'!L19,Z19,AO19)),AND(AU19>0,AV19>0,AW19=0,AX19=0),MIN(BB19, MAX('MDA1'!L19,'MDA2'!L19, 'MDA5'!L19,MAX('MDA3'!J19,'MDA3'!M19))), AND(AU19>0,AV19>0,AW19=0,AX19>0),MIN(BB19, MAX('MDA1'!L19,'MDA2'!L19, 'MDA5'!L19,MAX('MDA3'!J19,'MDA3'!M19),AO19)), AND(AU19>0,AV19>0,AW19>0,AX19=0), MIN(BB19, MAX('MDA1'!L19,'MDA2'!L19, 'MDA5'!L19,MAX('MDA3'!J19,'MDA3'!M19),Z19)), AND(AU19>0,AV19>0,AW19>0,AX19>0), MIN(BB19, MAX('MDA1'!L19,'MDA2'!L19, 'MDA5'!L19,MAX('MDA3'!J19,'MDA3'!M19),Z19,AO19)))","v":26831.51820967274},42930.413350640287,65.346034683844394]
[{"$f":"IF(COUNTRY_INFO!A20=0,\" \",COUNTRY_INFO!A20)","v":"Togo"},{"$f":"IF(COUNTRY_INFO!B20=0,\" \",COUNTRY_INFO!B20)","v":"KARA"},{"$f":"IF(COUNTRY_INFO!C20=0,\" \",COUNTRY_INFO!C20)","v":"DANKPEN"},{"$f":"COUNTRY_INFO!L20","v":"Non requis"},null,null,{"$f":"MAX('MDA1'!M20,'MDA2'!M20,'MDA5'!M20)","v":0},{"$f":"IF(AND(COUNTRY_INFO!H20>0,COUNTRY_INFO!H20<4),IF(D20>G20,G20,D20),0)","v":0},{"$f":"IF(AND(COUNTRY_INFO!H20>0,COUNTRY_INFO!H20<4), IF(G20/D20*100<>0, IF(G20/D20*100>100,100,G20/D20*100), \"-\"),0)","v":0},{"$f":"COUNTRY_INFO!M20","v":159768.58145642871},66010,68361,{"$f":"MAX('MDA1'!M20,MAX('MDA3'!I20,'MDA3'!L20)+MAX('MDA3'!J20,'MDA3'!M20))","v":148093},{"$f":"IF(AND(COUNTRY_INFO!I20>0,COUNTRY_INFO!I20<4),IF(J20>M20,M20,J20),0)","v":148093},{"$f":"IF(AND(COUNTRY_INFO!I20>0,COUNTRY_INFO!I20<4), IF(M20/J20*100<>0, IF(M20/J20*100>100,100,M20/J20*100), \"-\"),0)","v":92.692191825203878},{"$f":"COUNTRY_INFO!Q20","v":78536},28861,28282,{"$f":"MAX('MDA2'!J20,'MDA5'!J20,'T1'!K20, MAX(T3_R1!J20,T3_R2!J20,T3_R3!J20))","v":0},{"$f":"IF(AND(COUNTRY_INFO!J20>1,COUNTRY_INFO!J20<99,COUNTRY_INFO!J20<>4,COUNTRY_INFO!J20<>5),IF(COUNTRY_INFO!N20>S20,S20,COUNTRY_INFO!N20),0)","v":0},{"$f":"IF(AND(COUNTRY_INFO!J20>1,COUNTRY_INFO!J20<99,COUNTRY_INFO!J20<>4,COUNTRY_INFO!J20<>5), IF(T20/COUNTRY_INFO!N20*100<>0, IF(T20/COUNTRY_INFO!N20*100>100,100,T20/COUNTRY_INFO!N20*100), \"-\"),0)","v":"-"},{"$f":"MAX('MDA1'!K20, 'MDA2'!K20, 'MDA5'!K20,'T1'!L20, MAX(T3_R1!K20,T3_R2!K20,T3_R3!K20))","v":57143},{"$f":"IF(AND(COUNTRY_INFO!J20>1,COUNTRY_INFO!J20<99,COUNTRY_INFO!J20<>4,COUNTRY_INFO!J20<>5),IF(COUNTRY_INFO!O20>V20,V20,COUNTRY_INFO!O20),0)","v":51219},{"$f":"IF(AND(COUNTRY_INFO!J20>1,COUNTRY_INFO!J20<99,COUNTRY_INFO!J20<>4,COUNTRY_INFO!J20<>5), IF(W20/COUNTRY_INFO!O20*100<>0, IF(W20/COUNTRY_INFO!O20*100>100,100,W20/COUNTRY_INFO!O20*100), \"-\"),0)","v":100},{"$f":"MAX('MDA1'!L20, 'MDA2'!L20, 'MDA5'!L20,'T1'!M20, MAX(T3_R1!L20,T3_R2!L20,T3_R3!L20))","v":0},{"$f":"IF(AND(COUNTRY_INFO!J20>1,COUNTRY_INFO!J20<99,COUNTRY_INFO!J20<>4,COUNTRY_INFO!J20<>5),IF(COUNTRY_INFO!P20>Y20,Y20,COUNTRY_INFO!P20),0)","v":0},{"$f":"IF(AND(COUNTRY_INFO!J20>1,COUNTRY_INFO!J20<99,COUNTRY_INFO!J20<>4,COUNTRY_INFO!J20<>5), IF(Z20/COUNTRY_INFO!P20*100<>0, IF(Z20/COUNTRY_INFO!P20*100>100,100,Z20/COUNTRY_INFO!P20*100), \"-\"),0)","v":{"$error":"#DIV/0!"}},57143,51219,{"$f":"IF(AND(COUNTRY_INFO!J20>1,COUNTRY_INFO!J20<99,COUNTRY_INFO!J20<>4,COUNTRY_INFO!J20<>5), IF(AC20/P20*100<>0, IF(AC20/P20*100>100,100,AC20/P20*100), \"-\"),0)","v":65.217225221554443},{"$f":"COUNTRY_INFO!U20","v":44606},null,null,{"$f":"MAX('T1'!K20,'T2'!R20)","v":0},{"$f":"IF(AND(COUNTRY_INFO!K20>1,COUNTRY_INFO!K20<99,COUNTRY_INFO!K20<>4,COUNTRY_INFO!K20<>5),IF(COUNTRY_INFO!R20>AH20,AH20,COUNTRY_INFO!R20),0)","v":0},{"$f":"IF(AND(COUNTRY_INFO!K20>1,COUNTRY_INFO!K20<99,COUNTRY_INFO!K20<>4,COUNTRY_INFO!K20<>5), IF(AI20/COUNTRY_INFO!R20*100<>0, IF(AI20/COUNTRY_INFO!R20*100>100,100,AI20/COUNTRY_INFO!R20*100), \"-\"),0)","v":0},{"$f":"MAX('T1'!L20,'T2'!S20)","v":20080},{"$f":"IF(AND(COUNTRY_INFO!K20>1,COUNTRY_INFO!K20<99,COUNTRY_INFO!K20<>4,COUNTRY_INFO!K20<>5),IF(COUNTRY_INFO!S20>AK20,AK20,COUNTRY_INFO!S20),0)","v":0},{"$f":"IF(AND(COUNTRY_INFO!K20>1,COUNTRY_INFO!K20<99,COUNTRY_INFO!K20<>4,COUNTRY_INFO!K20<>5), IF(AL20/COUNTRY_INFO!S20*100<>0, IF(AL20/COUNTRY_INFO!S20*100>100,100,AL20/COUNTRY_INFO!S20*100), \"-\"),0)","v":0},{"$f":"MAX('T1'!M20,'T2'!T20)","v":0},{"$f":"IF(AND(COUNTRY_INFO!K20>1,COUNTRY_INFO!K20<99,COUNTRY_INFO!K20<>4,COUNTRY_INFO!K20<>5),IF(COUNTRY_INFO!T20>AN20,AN20,COUNTRY_INFO!T20),0)","v":0},{"$f":"IF(AND(COUNTRY_INFO!K20>1,COUNTRY_INFO!K20<99,COUNTRY_INFO!K20<>4,COUNTRY_INFO!K20<>5), IF(AO20/COUNTRY_INFO!T20*100<>0, IF(AO20/COUNTRY_INFO!T20*100>100,100,AO20/COUNTRY_INFO!T20*100), \"-\"),0)","v":0},20080,20080,45.016365511366189,null,{"$f":"IF(AND(D20<>0, D20<>\"Inconnu\",D20<>\"Interrompu\",D20<>\"Non requis\"),D20/COUNTRY_INFO!D20, 0)","v":0},{"$f":"IF(AND(J20<>0,J20<>\"Inconnu\",J20<>\"Interrompu\",J20<>\"Non requis\"),J20/COUNTRY_INFO!D20, 0)","v":0.93579771736210116},{"$f":"IF(AND(P20<>0,P20<>\"Inconnu\",P20<>\"Surveillance\",P20<>\"Non requis\"),P20/COUNTRY_INFO!Q20, 0)","v":1},{"$f":"IF(AND(AE20<>0,AE20<>\"Inconnu\",AE20<>\"Surveillance\",AE20<>\"Non requis\"),AE20/COUNTRY_INFO!U20, 0)","v":1},{"$f":"IF(AU20>0,D20*PROFILE!$G$7,IF(AV20>0,J20*PROFILE!$G$7,0))","v":6390.7595237169953},{"$f":"_xlfn.IFS(OR(AU20>0,AW20>0),COUNTRY_INFO!E20, AV20>0,J20*PROFILE!$G$8,AX20>0,COUNTRY_INFO!R20,COUNTIFS(AU20:AX20,\">0\")=0,0)","v":27317},{"$f":"_xlfn.IFS(OR(AU20>0,AW20>0),COUNTRY_INFO!F20, AV20>0,J20*PROFILE!$G$9,AX20>0,COUNTRY_INFO!S20,COUNTIFS(AU20:AX20,\">0\")=0,0)","v":51219},{"$f":"_xlfn.IFS(AU20>0,COUNTRY_INFO!G20, AND(AV20>0,AW20=0,AX20=0),J20*PROFILE!$G$10,AND(AV20>0,AW20>0,AX20=0), MAX(J20*PROFILE!$G$10,COUNTRY_INFO!P20),AND(AV20>0,AW20=0,AX20>0), MAX(J20*PROFILE!$G$10,COUNTRY_INFO!T20),AND(AV20=0,AW20>0,AX20>0), MAX(COUNTRY_INFO!P20,COUNTRY_INFO!T20),AND(AV20=0,AW20>0,AX20=0),COUNTRY_INFO!P20,AND(AV20=0,AW20=0,AX20>0),COUNTRY_INFO!T20,AND(AV20>0,AW20>0,AX20>0), MAX(J20*PROFILE!$G$10,COUNTRY_INFO!P20,COUNTRY_INFO!T20),COUNTIFS(AU20:AX20,\">0\")=0,0)","v":79884.321827494205},164811.08135121118,"Y",{"$f":"MAX('MDA2'!J20,'MDA5'!J20,S20,AH20)","v":0},{"$f":"MAX('MDA1'!K20,'MDA2'!K20,'MDA3'!I20,'MDA3'!L20,'MDA5'!K20,V20,AK20)","v":58722},{"$f":"MAX('MDA1'!L20,'MDA2'!L20,'MDA3'!J20,'MDA3'!M20,'MDA5'!L20,Y20,AN20)","v":89371},148093,{"$f":"_xlfn.IFS(AND(AU20=0,AW20=0,AX20=0),0,AND(AU20=0,AW20=0,AX20>0),AI20,AND(AU20=0,AW20>0,AX20=0),T20,AND(AU20=0,AW20>0,AX20>0),MAX(T20,AI20),AND(AU20>0,AW20=0,AX20=0),MIN(MAX('MDA2'!J20,'MDA5'!J20),AZ20),AND(AU20>0,AW20=0,AX20>0),MIN(MAX('MDA2'!J20,'MDA5'!J20,AI20),AZ20),AND(AU20>0,AW20>0,AX20=0),MIN(MAX('MDA2'!J20,'MDA5'!J20,T20),AZ20),AND(AU20>0,AW20>0,AX20>0),MIN(MAX('MDA2'!J20,'MDA5'!J20,AI20,T20),AZ20))","v":0},{"$f":"_xlfn.IFS(AND(AU20=0,AV20=0,AW20=0,AX20=0),0,AND(AU20=0,AV20=0,AW20=0,AX20>0),AL20,AND(AU20=0,AV20=0,AW20>0,AX20=0),W20,AND(AU20=0,AV20=0,AW20>0,AX20>0),MAX(W20,AL20),AND(AU20=0,AV20>0,AW20=0,AX20=0),MIN(J20*PROFILE!$G$9,MAX('MDA3'!I20,'MDA3'!L20)),AND(AU20=0,AV20>0,AW20=0,AX20>0),MIN(J20*PROFILE!$G$9,MAX('MDA3'!I20,'MDA3'!L20,AL20)),AND(AU20=0,AV20>0,AW20>0,AX20=0),MIN(J20*PROFILE!$G$9,MAX('MDA3'!I20,'MDA3'!L20,W20)),AND(AU20=0,AV20>0,AW20>0,AX20>0),MIN(J20*PROFILE!$G$9,MAX('MDA3'!I20,'MDA3'!L20,W20,AL20)),AND(AU20>0,AV20=0,AW20=0,AX20=0), MIN(BA20,MAX('MDA1'!K20,'MDA2'!K20,'MDA5'!K20)),AND(AU20>0,AV20=0,AW20=0,AX20>0), MIN(BA20,MAX('MDA1'!K20,'MDA2'!K20,'MDA5'!K20,AL20)),AND(AU20>0,AV20=0,AW20>0,AX20=0),MIN(BA20,MAX('MDA1'!K20,'MDA2'!KL20,'MDA5'!K20,W20)),AND(AU20>0,AV20=0,AW20>0,AX20>0),MIN(BA20,MAX('MDA1'!K20,'MDA2'!K20,'MDA5'!K20,W20,AL20)),AND(AU20>0,AV20>0,AW20=0,AX20=0),MIN(BA20, MAX('MDA1'!K20,'MDA2'!K20, 'MDA5'!K20,MAX('MDA3'!I20,'MDA3'!L20))), AND(AU20>0,AV20>0,AW20=0,AX20>0),MIN(BA20, MAX('MDA1'!K20,'MDA2'!K20, 'MDA5'!K20,MAX('MDA3'!I20,'MDA3'!L20),AL20)), AND(AU20>0,AV20>0,AW20>0,AX20=0), MIN(BA20, MAX('MDA1'!K20,'MDA2'!K20, 'MDA5'!K20,MAX('MDA3'!I20,'MDA3'!L20),W20)), AND(AU20>0,AV20>0,AW20>0,AX20>0), MIN(BA20, MAX('MDA1'!K20,'MDA2'!K20, 'MDA5'!K20,MAX('MDA3'!I20,'MDA3'!L20),W20,AL20)))","v":47930.54610098488},{"$f":"_xlfn.IFS(AND(AU20=0,AV20=0,AW20=0,AX20=0),0,AND(AU20=0,AV20=0,AW20=0,AX20>0),AO20,AND(AU20=0,AV20=0,AW20>0,AX20=0),Z20,AND(AU20=0,AV20=0,AW20>0,AX20>0),MAX(Z20,AO20),AND(AU20=0,AV20>0,AW20=0,AX20=0),MIN(J20*PROFILE!$G$10,MAX('MDA3'!J20,'MDA3'!J20)),AND(AU20=0,AV20>0,AW20=0,AX20>0),MIN(J20*PROFILE!$G$10,MAX('MDA3'!J20,'MDA3'!M20,AO20)),AND(AU20=0,AV20>0,AW20>0,AX20=0),MIN(J20*PROFILE!$G$10,MAX('MDA3'!J20,'MDA3'!M20,Z20)),AND(AU20=0,AV20>0,AW20>0,AX20>0),MIN(J20*PROFILE!$G$10,MAX('MDA3'!J20,'MDA3'!M20,Z20,AO20)),AND(AU20>0,AV20=0,AW20=0,AX20=0), MIN(BB20,MAX('MDA1'!L20,'MDA2'!L20,'MDA5'!L20)),AND(AU20>0,AV20=0,AW20=0,AX20>0), MIN(BB20,MAX('MDA1'!L20,'MDA2'!L20,'MDA5'!L20,AO20)),AND(AU20>0,AV20=0,AW20>0,AX20=0),MIN(BB20,MAX('MDA1'!L20,'MDA2'!L20,'MDA5'!L20,Z20)),AND(AU20>0,AV20=0,AW20>0,AX20>0),MIN(BB20,MAX('MDA1'!L20,'MDA2'!L20,'MDA5'!L20,Z20,AO20)),AND(AU20>0,AV20>0,AW20=0,AX20=0),MIN(BB20, MAX('MDA1'!L20,'MDA2'!L20, 'MDA5'!L20,MAX('MDA3'!J20,'MDA3'!M20))), AND(AU20>0,AV20>0,AW20=0,AX20>0),MIN(BB20, MAX('MDA1'!L20,'MDA2'!L20, 'MDA5'!L20,MAX('MDA3'!J20,'MDA3'!M20),AO20)), AND(AU20>0,AV20>0,AW20>0,AX20=0), MIN(BB20, MAX('MDA1'!L20,'MDA2'!L20, 'MDA5'!L20,MAX('MDA3'!J20,'MDA3'!M20),Z20)), AND(AU20>0,AV20>0,AW20>0,AX20>0), MIN(BB20, MAX('MDA1'!L20,'MDA2'!L20, 'MDA5'!L20,MAX('MDA3'!J20,'MDA3'!M20),Z20,AO20)))","v":79884.321827494205},127814.86792847909,77.552350776770012]
[{"$f":"IF(COUNTRY_INFO!A21=0,\" \",COUNTRY_INFO!A21)","v":"Togo"},{"$f":"IF(COUNTRY_INFO!B21=0,\" \",COUNTRY_INFO!B21)","v":"KARA"},{"$f":"IF(COUNTRY_INFO!C21=0,\" \",COUNTRY_INFO!C21)","v":"DOUFELGOU"},{"$f":"COUNTRY_INFO!L21","v":"Non requis"},null,null,{"$f":"MAX('MDA1'!M21,'MDA2'!M21,'MDA5'!M21)","v":0},{"$f":"IF(AND(COUNTRY_INFO!H21>0,COUNTRY_INFO!H21<4),IF(D21>G21,G21,D21),0)","v":0},{"$f":"IF(AND(COUNTRY_INFO!H21>0,COUNTRY_INFO!H21<4), IF(G21/D21*100<>0, IF(G21/D21*100>100,100,G21/D21*100), \"-\"),0)","v":0},{"$f":"COUNTRY_INFO!M21","v":78155.908196012751},35547,38253,{"$f":"MAX('MDA1'!M21,MAX('MDA3'!I21,'MDA3'!L21)+MAX('MDA3'!J21,'MDA3'!M21))","v":73800},{"$f":"IF(AND(COUNTRY_INFO!I21>0,COUNTRY_INFO!I21<4),IF(J21>M21,M21,J21),0)","v":73800},{"$f":"IF(AND(COUNTRY_INFO!I21>0,COUNTRY_INFO!I21<4), IF(M21/J21*100<>0, IF(M21/J21*100>100,100,M21/J21*100), \"-\"),0)","v":94.426642468169831},{"$f":"COUNTRY_INFO!Q21","v":45023},14428,14119,{"$f":"MAX('MDA2'!J21,'MDA5'!J21,'T1'!K21, MAX(T3_R1!J21,T3_R2!J21,T3_R3!J21))","v":0},{"$f":"IF(AND(COUNTRY_INFO!J21>1,COUNTRY_INFO!J21<99,COUNTRY_INFO!J21<>4,COUNTRY_INFO!J21<>5),IF(COUNTRY_INFO!N21>S21,S21,COUNTRY_INFO!N21),0)","v":0},{"$f":"IF(AND(COUNTRY_INFO!J21>1,COUNTRY_INFO!J21<99,COUNTRY_INFO!J21<>4,COUNTRY_INFO!J21<>5), IF(T21/COUNTRY_INFO!N21*100<>0, IF(T21/COUNTRY_INFO!N21*100>100,100,T21/COUNTRY_INFO!N21*100), \"-\"),0)","v":"-"},{"$f":"MAX('MDA1'!K21, 'MDA2'!K21, 'MDA5'!K21,'T1'!L21, MAX(T3_R1!K21,T3_R2!K21,T3_R3!K21))","v":28547},{"$f":"IF(AND(COUNTRY_INFO!J21>1,COUNTRY_INFO!J21<99,COUNTRY_INFO!J21<>4,COUNTRY_INFO!J21<>5),IF(COUNTRY_INFO!O21>V21,V21,COUNTRY_INFO!O21),0)","v":28547},{"$f":"IF(AND(COUNTRY_INFO!J21>1,COUNTRY_INFO!J21<99,COUNTRY_INFO!J21<>4,COUNTRY_INFO!J21<>5), IF(W21/COUNTRY_INFO!O21*100<>0, IF(W21/COUNTRY_INFO!O21*100>100,100,W21/COUNTRY_INFO!O21*100), \"-\"),0)","v":97.220992405408168},{"$f":"MAX('MDA1'!L21, 'MDA2'!L21, 'MDA5'!L21,'T1'!M21, MAX(T3_R1!L21,T3_R2!L21,T3_R3!L21))","v":0},{"$f":"IF(AND(COUNTRY_INFO!J21>1,COUNTRY_INFO!J21<99,COUNTRY_INFO!J21<>4,COUNTRY_INFO!J21<>5),IF(COUNTRY_INFO!P21>Y21,Y21,COUNTRY_INFO!P21),0)","v":0},{"$f":"IF(AND(COUNTRY_INFO!J21>1,COUNTRY_INFO!J21<99,COUNTRY_INFO!J21<>4,COUNTRY_INFO!J21<>5), IF(Z21/COUNTRY_INFO!P21*100<>0, IF(Z21/COUNTRY_INFO!P21*100>100,100,Z21/COUNTRY_INFO!P21*100), \"-\"),0)","v":{"$error":"#DIV/0!"}},28547,28547,{"$f":"IF(AND(COUNTRY_INFO!J21>1,COUNTRY_INFO!J21<99,COUNTRY_INFO!J21<>4,COUNTRY_INFO!J21<>5), IF(AC21/P21*100<>0, IF(AC21/P21*100>100,100,AC21/P21*100), \"-\"),0)","v":63.405370588365948},{"$f":"COUNTRY_INFO!U21","v":60287},null,null,{"$f":"MAX('T1'!K21,'T2'!R21)","v":0},{"$f":"IF(AND(COUNTRY_INFO!K21>1,COUNTRY_INFO!K21<99,COUNTRY_INFO!K21<>4,COUNTRY_INFO!K21<>5),IF(COUNTRY_INFO!R21>AH21,AH21,COUNTRY_INFO!R21),0)","v":0},{"$f":"IF(AND(COUNTRY_INFO!K21>1,COUNTRY_INFO!K21<99,COUNTRY_INFO!K21<>4,COUNTRY_INFO!K21<>5), IF(AI21/COUNTRY_INFO!R21*100<>0, IF(AI21/COUNTRY_INFO!R21*100>100,100,AI21/COUNTRY_INFO!R21*100), \"-\"),0)","v":{"$error":"#DIV/0!"}},{"$f":"MAX('T1'!L21,'T2'!S21)","v":25457},{"$f":"IF(AND(COUNTRY_INFO!K21>1,COUNTRY_INFO!K21<99,COUNTRY_INFO!K21<>4,COUNTRY_INFO!K21<>5),IF(COUNTRY_INFO!S21>AK21,AK21,COUNTRY_INFO!S21),0)","v":0},{"$f":"IF(AND(COUNTRY_INFO!K21>1,COUNTRY_INFO!K21<99,COUNTRY_INFO!K21<>4,COUNTRY_INFO!K21<>5), IF(AL21/COUNTRY_INFO!S21*100<>0, IF(AL21/COUNTRY_INFO!S21*100>100,100,AL21/COUNTRY_INFO!S21*100), \"-\"),0)","v":{"$error":"#DIV/0!"}},{"$f":"MAX('T1'!M21,'T2'!T21)","v":14067},{"$f":"IF(AND(COUNTRY_INFO!K21>1,COUNTRY_INFO!K21<99,COUNTRY_INFO!K21<>4,COUNTRY_INFO!K21<>5),IF(COUNTRY_INFO!T21>AN21,AN21,COUNTRY_INFO!T21),0)","v":0},{"$f":"IF(AND(COUNTRY_INFO!K21>1,COUNTRY_INFO!K21<99,COUNTRY_INFO!K21<>4,COUNTRY_INFO!K21<>5), IF(AO21/COUNTRY_INFO!T21*100<>0, IF(AO21/COUNTRY_INFO!T21*100>100,100,AO21/COUNTRY_INFO!T21*100), \"-\"),0)","v":{"$error":"#DIV/0!"}},39524,39524,65.559739247267231,null,{"$f":"IF(AND(D21<>0, D21<>\"Inconnu\",D21<>\"Interrompu\",D21<>\"Non requis\"),D21/COUNTRY_INFO!D21, 0)","v":0},{"$f":"IF(AND(J21<>0,J21<>\"Inconnu\",J21<>\"Interrompu\",J21<>\"Non requis\"),J21/COUNTRY_INFO!D21, 0)","v":0.79852034725140886},{"$f":"IF(AND(P21<>0,P21<>\"Inconnu\",P21<>\"Surveillance\",P21<>\"Non requis\"),P21/COUNTRY_INFO!Q21, 0)","v":1},{"$f":"IF(AND(AE21<>0,AE21<>\"Inconnu\",AE21<>\"Surveillance\",AE21<>\"Non requis\"),AE21/COUNTRY_INFO!U21, 0)","v":1},{"$f":"IF(AU21>0,D21*PROFILE!$G$7,IF(AV21>0,J21*PROFILE!$G$7,0))","v":3126.2442846100762},{"$f":"_xlfn.IFS(OR(AU21>0,AW21>0),COUNTRY_INFO!E21, AV21>0,J21*PROFILE!$G$8,AX21>0,COUNTRY_INFO!R21,COUNTIFS(AU21:AX21,\">0\")=0,0)","v":15660},{"$f":"_xlfn.IFS(OR(AU21>0,AW21>0),COUNTRY_INFO!F21, AV21>0,J21*PROFILE!$G$9,AX21>0,COUNTRY_INFO!S21,COUNTIFS(AU21:AX21,\">0\")=0,0)","v":29363},{"$f":"_xlfn.IFS(AU21>0,COUNTRY_INFO!G21, AND(AV21>0,AW21=0,AX21=0),J21*PROFILE!$G$10,AND(AV21>0,AW21>0,AX21=0), MAX(J21*PROFILE!$G$10,COUNTRY_INFO!P21),AND(AV21>0,AW21=0,AX21>0), MAX(J21*PROFILE!$G$10,COUNTRY_INFO!T21),AND(AV21=0,AW21>0,AX21>0), MAX(COUNTRY_INFO!P21,COUNTRY_INFO!T21),AND(AV21=0,AW21>0,AX21=0),COUNTRY_INFO!P21,AND(AV21=0,AW21=0,AX21>0),COUNTRY_INFO!T21,AND(AV21>0,AW21>0,AX21>0), MAX(J21*PROFILE!$G$10,COUNTRY_INFO!P21,COUNTRY_INFO!T21),COUNTIFS(AU21:AX21,\">0\")=0,0)","v":39077.969311213121},87227.213595823196,"Y",{"$f":"MAX('MDA2'!J21,'MDA5'!J21,S21,AH21)","v":0},{"$f":"MAX('MDA1'!K21,'MDA2'!K21,'MDA3'!I21,'MDA3'!L21,'MDA5'!K21,V21,AK21)","v":28547},{"$f":"MAX('MDA1'!L21,'MDA2'!L21,'MDA3'!J21,'MDA3'!M21,'MDA5'!L21,Y21,AN21)","v":48080},76627,{"$f":"_xlfn.IFS(AND(AU21=0,AW21=0,AX21=0),0,AND(AU21=0,AW21=0,AX21>0),AI21,AND(AU21=0,AW21>0,AX21=0),T21,AND(AU21=0,AW21>0,AX21>0),MAX(T21,AI21),AND(AU21>0,AW21=0,AX21=0),MIN(MAX('MDA2'!J21,'MDA5'!J21),AZ21),AND(AU21>0,AW21=0,AX21>0),MIN(MAX('MDA2'!J21,'MDA5'!J21,AI21),AZ21),AND(AU21>0,AW21>0,AX21=0),MIN(MAX('MDA2'!J21,'MDA5'!J21,T21),AZ21),AND(AU21>0,AW21>0,AX21>0),MIN(MAX('MDA2'!J21,'MDA5'!J21,AI21,T21),AZ21))","v":0},{"$f":"_xlfn.IFS(AND(AU21=0,AV21=0,AW21=0,AX21=0),0,AND(AU21=0,AV21=0,AW21=0,AX21>0),AL21,AND(AU21=0,AV21=0,AW21>0,AX21=0),W21,AND(AU21=0,AV21=0,AW21>0,AX21>0),MAX(W21,AL21),AND(AU21=0,AV21>0,AW21=0,AX21=0),MIN(J21*PROFILE!$G$9,MAX('MDA3'!I21,'MDA3'!L21)),AND(AU21=0,AV21>0,AW21=0,AX21>0),MIN(J21*PROFILE!$G$9,MAX('MDA3'!I21,'MDA3'!L21,AL21)),AND(AU21=0,AV21>0,AW21>0,AX21=0),MIN(J21*PROFILE!$G$9,MAX('MDA3'!I21,'MDA3'!L21,W21)),AND(AU21=0,AV21>0,AW21>0,AX21>0),MIN(J21*PROFILE!$G$9,MAX('MDA3'!I21,'MDA3'!L21,W21,AL21)),AND(AU21>0,AV21=0,AW21=0,AX21=0), MIN(BA21,MAX('MDA1'!K21,'MDA2'!K21,'MDA5'!K21)),AND(AU21>0,AV21=0,AW21=0,AX21>0), MIN(BA21,MAX('MDA1'!K21,'MDA2'!K21,'MDA5'!K21,AL21)),AND(AU21>0,AV21=0,AW21>0,AX21=0),MIN(BA21,MAX('MDA1'!K21,'MDA2'!KL21,'MDA5'!K21,W21)),AND(AU21>0,AV21=0,AW21>0,AX21>0),MIN(BA21,MAX('MDA1'!K21,'MDA2'!K21,'MDA5'!K21,W21,AL21)),AND(AU21>0,AV21>0,AW21=0,AX21=0),MIN(BA21, MAX('MDA1'!K21,'MDA2'!K21, 'MDA5'!K21,MAX('MDA3'!I21,'MDA3'!L21))), AND(AU21>0,AV21>0,AW21=0,AX21>0),MIN(BA21, MAX('MDA1'!K21,'MDA2'!K21, 'MDA5'!K21,MAX('MDA3'!I21,'MDA3'!L21),AL21)), AND(AU21>0,AV21>0,AW21>0,AX21=0), MIN(BA21, MAX('MDA1'!K21,'MDA2'!K21, 'MDA5'!K21,MAX('MDA3'!I21,'MDA3'!L21),W21)), AND(AU21>0,AV21>0,AW21>0,AX21>0), MIN(BA21, MAX('MDA1'!K21,'MDA2'!K21, 'MDA5'!K21,MAX('MDA3'!I21,'MDA3'!L21),W21,AL21)))","v":23446.758597371263},{"$f":"_xlfn.IFS(AND(AU21=0,AV21=0,AW21=0,AX21=0),0,AND(AU21=0,AV21=0,AW21=0,AX21>0),AO21,AND(AU21=0,AV21=0,AW21>0,AX21=0),Z21,AND(AU21=0,AV21=0,AW21>0,AX21>0),MAX(Z21,AO21),AND(AU21=0,AV21>0,AW21=0,AX21=0),MIN(J21*PROFILE!$G$10,MAX('MDA3'!J21,'MDA3'!J21)),AND(AU21=0,AV21>0,AW21=0,AX21>0),MIN(J21*PROFILE!$G$10,MAX('MDA3'!J21,'MDA3'!M21,AO21)),AND(AU21=0,AV21>0,AW21>0,AX21=0),MIN(J21*PROFILE!$G$10,MAX('MDA3'!J21,'MDA3'!M21,Z21)),AND(AU21=0,AV21>0,AW21>0,AX21>0),MIN(J21*PROFILE!$G$10,MAX('MDA3'!J21,'MDA3'!M21,Z21,AO21)),AND(AU21>0,AV21=0,AW21=0,AX21=0), MIN(BB21,MAX('MDA1'!L21,'MDA2'!L21,'MDA5'!L21)),AND(AU21>0,AV21=0,AW21=0,AX21>0), MIN(BB21,MAX('MDA1'!L21,'MDA2'!L21,'MDA5'!L21,AO21)),AND(AU21>0,AV21=0,AW21>0,AX21=0),MIN(BB21,MAX('MDA1'!L21,'MDA2'!L21,'MDA5'!L21,Z21)),AND(AU21>0,AV21=0,AW21>0,AX21>0),MIN(BB21,MAX('MDA1'!L21,'MDA2'!L21,'MDA5'!L21,Z21,AO21)),AND(AU21>0,AV21>0,AW21=0,AX21=0),MIN(BB21, MAX('MDA1'!L21,'MDA2'!L21, 'MDA5'!L21,MAX('MDA3'!J21,'MDA3'!M21))), AND(AU21>0,AV21>0,AW21=0,AX21>0),MIN(BB21, MAX('MDA1'!L21,'MDA2'!L21, 'MDA5'!L21,MAX('MDA3'!J21,'MDA3'!M21),AO21)), AND(AU21>0,AV21>0,AW21>0,AX21=0), MIN(BB21, MAX('MDA1'!L21,'MDA2'!L21, 'MDA5'!L21,MAX('MDA3'!J21,'MDA3'!M21),Z21)), AND(AU21>0,AV21>0,AW21>0,AX21>0), MIN(BB21, MAX('MDA1'!L21,'MDA2'!L21, 'MDA5'!L21,MAX('MDA3'!J21,'MDA3'!M21),Z21,AO21)))","v":39077.969311213121},62524.727908584384,71.680299451383974]
[{"$f":"IF(COUNTRY_INFO!A22=0,\" \",COUNTRY_INFO!A22)","v":"Togo"},{"$f":"IF(COUNTRY_INFO!B22=0,\" \",COUNTRY_INFO!B22)","v":"KARA"},{"$f":"IF(COUNTRY_INFO!C22=0,\" \",COUNTRY_INFO!C22)","v":"KERAN"},{"$f":"COUNTRY_INFO!L22","v":"Non requis"},null,null,{"$f":"MAX('MDA1'!M22,'MDA2'!M22,'MDA5'!M22)","v":0},{"$f":"IF(AND(COUNTRY_INFO!H22>0,COUNTRY_INFO!H22<4),IF(D22>G22,G22,D22),0)","v":0},{"$f":"IF(AND(COUNTRY_INFO!H22>0,COUNTRY_INFO!H22<4), IF(G22/D22*100<>0, IF(G22/D22*100>100,100,G22/D22*100), \"-\"),0)","v":0},{"$f":"COUNTRY_INFO!M22","v":120413.60039099092},48266,49357,{"$f":"MAX('MDA1'!M22,MAX('MDA3'!I22,'MDA3'!L22)+MAX('MDA3'!J22,'MDA3'!M22))","v":97623},{"$f":"IF(AND(COUNTRY_INFO!I22>0,COUNTRY_INFO!I22<4),IF(J22>M22,M22,J22),0)","v":97623},{"$f":"IF(AND(COUNTRY_INFO!I22>0,COUNTRY_INFO!I22<4), IF(M22/J22*100<>0, IF(M22/J22*100>100,100,M22/J22*100), \"-\"),0)","v":81.073067895164385},{"$f":"COUNTRY_INFO!Q22","v":59725},21299,20316,{"$f":"MAX('MDA2'!J22,'MDA5'!J22,'T1'!K22, MAX(T3_R1!J22,T3_R2!J22,T3_R3!J22))","v":0},{"$f":"IF(AND(COUNTRY_INFO!J22>1,COUNTRY_INFO!J22<99,COUNTRY_INFO!J22<>4,COUNTRY_INFO!J22<>5),IF(COUNTRY_INFO!N22>S22,S22,COUNTRY_INFO!N22),0)","v":0},{"$f":"IF(AND(COUNTRY_INFO!J22>1,COUNTRY_INFO!J22<99,COUNTRY_INFO!J22<>4,COUNTRY_INFO!J22<>5), IF(T22/COUNTRY_INFO!N22*100<>0, IF(T22/COUNTRY_INFO!N22*100>100,100,T22/COUNTRY_INFO!N22*100), \"-\"),0)","v":"-"},{"$f":"MAX('MDA1'!K22, 'MDA2'!K22, 'MDA5'!K22,'T1'!L22, MAX(T3_R1!K22,T3_R2!K22,T3_R3!K22))","v":41615},{"$f":"IF(AND(COUNTRY_INFO!J22>1,COUNTRY_INFO!J22<99,COUNTRY_INFO!J22<>4,COUNTRY_INFO!J22<>5),IF(COUNTRY_INFO!O22>V22,V22,COUNTRY_INFO!O22),0)","v":38951},{"$f":"IF(AND(COUNTRY_INFO!J22>1,COUNTRY_INFO!J22<99,COUNTRY_INFO!J22<>4,COUNTRY_INFO!J22<>5), IF(W22/COUNTRY_INFO!O22*100<>0, IF(W22/COUNTRY_INFO!O22*100>100,100,W22/COUNTRY_INFO!O22*100), \"-\"),0)","v":100},{"$f":"MAX('MDA1'!L22, 'MDA2'!L22, 'MDA5'!L22,'T1'!M22, MAX(T3_R1!L22,T3_R2!L22,T3_R3!L22))","v":0},{"$f":"IF(AND(COUNTRY_INFO!J22>1,COUNTRY_INFO!J22<99,COUNTRY_INFO!J22<>4,COUNTRY_INFO!J22<>5),IF(COUNTRY_INFO!P22>Y22,Y22,COUNTRY_INFO!P22),0)","v":0},{"$f":"IF(AND(COUNTRY_INFO!J22>1,COUNTRY_INFO!J22<99,COUNTRY_INFO!J22<>4,COUNTRY_INFO!J22<>5), IF(Z22/COUNTRY_INFO!P22*100<>0, IF(Z22/COUNTRY_INFO!P22*100>100,100,Z22/COUNTRY_INFO!P22*100), \"-\"),0)","v":{"$error":"#DIV/0!"}},41615,38951,{"$f":"IF(AND(COUNTRY_INFO!J22>1,COUNTRY_INFO!J22<99,COUNTRY_INFO!J22<>4,COUNTRY_INFO!J22<>5), IF(AC22/P22*100<>0, IF(AC22/P22*100>100,100,AC22/P22*100), \"-\"),0)","v":65.217245709501881},{"$f":"COUNTRY_INFO!U22","v":92879},null,null,{"$f":"MAX('T1'!K22,'T2'!R22)","v":0},{"$f":"IF(AND(COUNTRY_INFO!K22>1,COUNTRY_INFO!K22<99,COUNTRY_INFO!K22<>4,COUNTRY_INFO!K22<>5),IF(COUNTRY_INFO!R22>AH22,AH22,COUNTRY_INFO!R22),0)","v":0},{"$f":"IF(AND(COUNTRY_INFO!K22>1,COUNTRY_INFO!K22<99,COUNTRY_INFO!K22<>4,COUNTRY_INFO!K22<>5), IF(AI22/COUNTRY_INFO!R22*100<>0, IF(AI22/COUNTRY_INFO!R22*100>100,100,AI22/COUNTRY_INFO!R22*100), \"-\"),0)","v":{"$error":"#DIV/0!"}},{"$f":"MAX('T1'!L22,'T2'!S22)","v":41615},{"$f":"IF(AND(COUNTRY_INFO!K22>1,COUNTRY_INFO!K22<99,COUNTRY_INFO!K22<>4,COUNTRY_INFO!K22<>5),IF(COUNTRY_INFO!S22>AK22,AK22,COUNTRY_INFO!S22),0)","v":0},{"$f":"IF(AND(COUNTRY_INFO!K22>1,COUNTRY_INFO!K22<99,COUNTRY_INFO!K22<>4,COUNTRY_INFO!K22<>5), IF(AL22/COUNTRY_INFO!S22*100<>0, IF(AL22/COUNTRY_INFO!S22*100>100,100,AL22/COUNTRY_INFO!S22*100), \"-\"),0)","v":{"$error":"#DIV/0!"}},{"$f":"MAX('T1'!M22,'T2'!T22)","v":17808},{"$f":"IF(AND(COUNTRY_INFO!K22>1,COUNTRY_INFO!K22<99,COUNTRY_INFO!K22<>4,COUNTRY_INFO!K22<>5),IF(COUNTRY_INFO!T22>AN22,AN22,COUNTRY_INFO!T22),0)","v":0},{"$f":"IF(AND(COUNTRY_INFO!K22>1,COUNTRY_INFO!K22<99,COUNTRY_INFO!K22<>4,COUNTRY_INFO!K22<>5), IF(AO22/COUNTRY_INFO!T22*100<>0, IF(AO22/COUNTRY_INFO!T22*100>100,100,AO22/COUNTRY_INFO!T22*100), \"-\"),0)","v":{"$error":"#DIV/0!"}},59423,59423,63.978940341734948,null,{"$f":"IF(AND(D22<>0, D22<>\"Inconnu\",D22<>\"Interrompu\",D22<>\"Non requis\"),D22/COUNTRY_INFO!D22, 0)","v":0},{"$f":"IF(AND(J22<>0,J22<>\"Inconnu\",J22<>\"Interrompu\",J22<>\"Non requis\"),J22/COUNTRY_INFO!D22, 0)","v":0.92741733099979995},{"$f":"IF(AND(P22<>0,P22<>\"Inconnu\",P22<>\"Surveillance\",P22<>\"Non requis\"),P22/COUNTRY_INFO!Q22, 0)","v":1},{"$f":"IF(AND(AE22<>0,AE22<>\"Inconnu\",AE22<>\"Surveillance\",AE22<>\"Non requis\"),AE22/COUNTRY_INFO!U22, 0)","v":1},{"$f":"IF(AU22>0,D22*PROFILE!$G$7,IF(AV22>0,J22*PROFILE!$G$7,0))","v":4816.5562745115903},{"$f":"_xlfn.IFS(OR(AU22>0,AW22>0),COUNTRY_INFO!E22, AV22>0,J22*PROFILE!$G$8,AX22>0,COUNTRY_INFO!R22,COUNTIFS(AU22:AX22,\">0\")=0,0)","v":20774},{"$f":"_xlfn.IFS(OR(AU22>0,AW22>0),COUNTRY_INFO!F22, AV22>0,J22*PROFILE!$G$9,AX22>0,COUNTRY_INFO!S22,COUNTIFS(AU22:AX22,\">0\")=0,0)","v":38951},{"$f":"_xlfn.IFS(AU22>0,COUNTRY_INFO!G22, AND(AV22>0,AW22=0,AX22=0),J22*PROFILE!$G$10,AND(AV22>0,AW22>0,AX22=0), MAX(J22*PROFILE!$G$10,COUNTRY_INFO!P22),AND(AV22>0,AW22=0,AX22>0), MAX(J22*PROFILE!$G$10,COUNTRY_INFO!T22),AND(AV22=0,AW22>0,AX22>0), MAX(COUNTRY_INFO!P22,COUNTRY_INFO!T22),AND(AV22=0,AW22>0,AX22=0),COUNTRY_INFO!P22,AND(AV22=0,AW22=0,AX22>0),COUNTRY_INFO!T22,AND(AV22>0,AW22>0,AX22>0), MAX(J22*PROFILE!$G$10,COUNTRY_INFO!P22,COUNTRY_INFO!T22),COUNTIFS(AU22:AX22,\">0\")=0,0)","v":60206.823634248074},124748.37990875967,"Y",{"$f":"MAX('MDA2'!J22,'MDA5'!J22,S22,AH22)","v":0},{"$f":"MAX('MDA1'!K22,'MDA2'!K22,'MDA3'!I22,'MDA3'!L22,'MDA5'!K22,V22,AK22)","v":41615},{"$f":"MAX('MDA1'!L22,'MDA2'!L22,'MDA3'!J22,'MDA3'!M22,'MDA5'!L22,Y22,AN22)","v":59556},101171,{"$f":"_xlfn.IFS(AND(AU22=0,AW22=0,AX22=0),0,AND(AU22=0,AW22=0,AX22>0),AI22,AND(AU22=0,AW22>0,AX22=0),T22,AND(AU22=0,AW22>0,AX22>0),MAX(T22,AI22),AND(AU22>0,AW22=0,AX22=0),MIN(MAX('MDA2'!J22,'MDA5'!J22),AZ22),AND(AU22>0,AW22=0,AX22>0),MIN(MAX('MDA2'!J22,'MDA5'!J22,AI22),AZ22),AND(AU22>0,AW22>0,AX22=0),MIN(MAX('MDA2'!J22,'MDA5'!J22,T22),AZ22),AND(AU22>0,AW22>0,AX22>0),MIN(MAX('MDA2'!J22,'MDA5'!J22,AI22,T22),AZ22))","v":0},{"$f":"_xlfn.IFS(AND(AU22=0,AV22=0,AW22=0,AX22=0),0,AND(AU22=0,AV22=0,AW22=0,AX22>0),AL22,AND(AU22=0,AV22=0,AW22>0,AX22=0),W22,AND(AU22=0,AV22=0,AW22>0,AX22>0),MAX(W22,AL22),AND(AU22=0,AV22>0,AW22=0,AX22=0),MIN(J22*PROFILE!$G$9,MAX('MDA3'!I22,'MDA3'!L22)),AND(AU22=0,AV22>0,AW22=0,AX22>0),MIN(J22*PROFILE!$G$9,MAX('MDA3'!I22,'MDA3'!L22,AL22)),AND(AU22=0,AV22>0,AW22>0,AX22=0),MIN(J22*PROFILE!$G$9,MAX('MDA3'!I22,'MDA3'!L22,W22)),AND(AU22=0,AV22>0,AW22>0,AX22>0),MIN(J22*PROFILE!$G$9,MAX('MDA3'!I22,'MDA3'!L22,W22,AL22)),AND(AU22>0,AV22=0,AW22=0,AX22=0), MIN(BA22,MAX('MDA1'!K22,'MDA2'!K22,'MDA5'!K22)),AND(AU22>0,AV22=0,AW22=0,AX22>0), MIN(BA22,MAX('MDA1'!K22,'MDA2'!K22,'MDA5'!K22,AL22)),AND(AU22>0,AV22=0,AW22>0,AX22=0),MIN(BA22,MAX('MDA1'!K22,'MDA2'!KL22,'MDA5'!K22,W22)),AND(AU22>0,AV22=0,AW22>0,AX22>0),MIN(BA22,MAX('MDA1'!K22,'MDA2'!K22,'MDA5'!K22,W22,AL22)),AND(AU22>0,AV22>0,AW22=0,AX22=0),MIN(BA22, MAX('MDA1'!K22,'MDA2'!K22, 'MDA5'!K22,MAX('MDA3'!I22,'MDA3'!L22))), AND(AU22>0,AV22>0,AW22=0,AX22>0),MIN(BA22, MAX('MDA1'!K22,'MDA2'!K22, 'MDA5'!K22,MAX('MDA3'!I22,'MDA3'!L22),AL22)), AND(AU22>0,AV22>0,AW22>0,AX22=0), MIN(BA22, MAX('MDA1'!K22,'MDA2'!K22, 'MDA5'!K22,MAX('MDA3'!I22,'MDA3'!L22),W22)), AND(AU22>0,AV22>0,AW22>0,AX22>0), MIN(BA22, MAX('MDA1'!K22,'MDA2'!K22, 'MDA5'!K22,MAX('MDA3'!I22,'MDA3'!L22),W22,AL22)))","v":36124.058761202265},{"$f":"_xlfn.IFS(AND(AU22=0,AV22=0,AW22=0,AX22=0),0,AND(AU22=0,AV22=0,AW22=0,AX22>0),AO22,AND(AU22=0,AV22=0,AW22>0,AX22=0),Z22,AND(AU22=0,AV22=0,AW22>0,AX22>0),MAX(Z22,AO22),AND(AU22=0,AV22>0,AW22=0,AX22=0),MIN(J22*PROFILE!$G$10,MAX('MDA3'!J22,'MDA3'!J22)),AND(AU22=0,AV22>0,AW22=0,AX22>0),MIN(J22*PROFILE!$G$10,MAX('MDA3'!J22,'MDA3'!M22,AO22)),AND(AU22=0,AV22>0,AW22>0,AX22=0),MIN(J22*PROFILE!$G$10,MAX('MDA3'!J22,'MDA3'!M22,Z22)),AND(AU22=0,AV22>0,AW22>0,AX22>0),MIN(J22*PROFILE!$G$10,MAX('MDA3'!J22,'MDA3'!M22,Z22,AO22)),AND(AU22>0,AV22=0,AW22=0,AX22=0), MIN(BB22,MAX('MDA1'!L22,'MDA2'!L22,'MDA5'!L22)),AND(AU22>0,AV22=0,AW22=0,AX22>0), MIN(BB22,MAX('MDA1'!L22,'MDA2'!L22,'MDA5'!L22,AO22)),AND(AU22>0,AV22=0,AW22>0,AX22=0),MIN(BB22,MAX('MDA1'!L22,'MDA2'!L22,'MDA5'!L22,Z22)),AND(AU22>0,AV22=0,AW22>0,AX22>0),MIN(BB22,MAX('MDA1'!L22,'MDA2'!L22,'MDA5'!L22,Z22,AO22)),AND(AU22>0,AV22>0,AW22=0,AX22=0),MIN(BB22, MAX('MDA1'!L22,'MDA2'!L22, 'MDA5'!L22,MAX('MDA3'!J22,'MDA3'!M22))), AND(AU22>0,AV22>0,AW22=0,AX22>0),MIN(BB22, MAX('MDA1'!L22,'MDA2'!L22, 'MDA5'!L22,MAX('MDA3'!J22,'MDA3'!M22),AO22)), AND(AU22>0,AV22>0,AW22>0,AX22=0), MIN(BB22, MAX('MDA1'!L22,'MDA2'!L22, 'MDA5'!L22,MAX('MDA3'!J22,'MDA3'!M22),Z22)), AND(AU22>0,AV22>0,AW22>0,AX22>0), MIN(BB22, MAX('MDA1'!L22,'MDA2'!L22, 'MDA5'!L22,MAX('MDA3'!J22,'MDA3'!M22),Z22,AO22)))","v":59556},95680.058761202265,76.69843795260681]
[{"$f":"IF(COUNTRY_INFO!A23=0,\" \",COUNTRY_INFO!A23)","v":"Togo"},{"$f":"IF(COUNTRY_INFO!B23=0,\" \",COUNTRY_INFO!B23)","v":"KARA"},{"$f":"IF(COUNTRY_INFO!C23=0,\" \",COUNTRY_INFO!C23)","v":"KOZAH"},{"$f":"COUNTRY_INFO!L23","v":"Non requis"},null,null,{"$f":"MAX('MDA1'!M23,'MDA2'!M23,'MDA5'!M23)","v":0},{"$f":"IF(AND(COUNTRY_INFO!H23>0,COUNTRY_INFO!H23<4),IF(D23>G23,G23,D23),0)","v":0},{"$f":"IF(AND(COUNTRY_INFO!H23>0,COUNTRY_INFO!H23<4), IF(G23/D23*100<>0, IF(G23/D23*100>100,100,G23/D23*100), \"-\"),0)","v":0},{"$f":"COUNTRY_INFO!M23","v":167045.82032175094},70635,74176,{"$f":"MAX('MDA1'!M23,MAX('MDA3'!I23,'MDA3'!L23)+MAX('MDA3'!J23,'MDA3'!M23))","v":144811},{"$f":"IF(AND(COUNTRY_INFO!I23>0,COUNTRY_INFO!I23<4),IF(J23>M23,M23,J23),0)","v":144811},{"$f":"IF(AND(COUNTRY_INFO!I23>0,COUNTRY_INFO!I23<4), IF(M23/J23*100<>0, IF(M23/J23*100>100,100,M23/J23*100), \"-\"),0)","v":86.689388409165872},{"$f":"COUNTRY_INFO!Q23","v":135993},42630,45744,{"$f":"MAX('MDA2'!J23,'MDA5'!J23,'T1'!K23, MAX(T3_R1!J23,T3_R2!J23,T3_R3!J23))","v":0},{"$f":"IF(AND(COUNTRY_INFO!J23>1,COUNTRY_INFO!J23<99,COUNTRY_INFO!J23<>4,COUNTRY_INFO!J23<>5),IF(COUNTRY_INFO!N23>S23,S23,COUNTRY_INFO!N23),0)","v":0},{"$f":"IF(AND(COUNTRY_INFO!J23>1,COUNTRY_INFO!J23<99,COUNTRY_INFO!J23<>4,COUNTRY_INFO!J23<>5), IF(T23/COUNTRY_INFO!N23*100<>0, IF(T23/COUNTRY_INFO!N23*100>100,100,T23/COUNTRY_INFO!N23*100), \"-\"),0)","v":"-"},{"$f":"MAX('MDA1'!K23, 'MDA2'!K23, 'MDA5'!K23,'T1'!L23, MAX(T3_R1!K23,T3_R2!K23,T3_R3!K23))","v":88374},{"$f":"IF(AND(COUNTRY_INFO!J23>1,COUNTRY_INFO!J23<99,COUNTRY_INFO!J23<>4,COUNTRY_INFO!J23<>5),IF(COUNTRY_INFO!O23>V23,V23,COUNTRY_INFO!O23),0)","v":88374},{"$f":"IF(AND(COUNTRY_INFO!J23>1,COUNTRY_INFO!J23<99,COUNTRY_INFO!J23<>4,COUNTRY_INFO!J23<>5), IF(W23/COUNTRY_INFO!O23*100<>0, IF(W23/COUNTRY_INFO!O23*100>100,100,W23/COUNTRY_INFO!O23*100), \"-\"),0)","v":99.642579292149151},{"$f":"MAX('MDA1'!L23, 'MDA2'!L23, 'MDA5'!L23,'T1'!M23, MAX(T3_R1!L23,T3_R2!L23,T3_R3!L23))","v":0},{"$f":"IF(AND(COUNTRY_INFO!J23>1,COUNTRY_INFO!J23<99,COUNTRY_INFO!J23<>4,COUNTRY_INFO!J23<>5),IF(COUNTRY_INFO!P23>Y23,Y23,COUNTRY_INFO!P23),0)","v":0},{"$f":"IF(AND(COUNTRY_INFO!J23>1,COUNTRY_INFO!J23<99,COUNTRY_INFO!J23<>4,COUNTRY_INFO!J23<>5), IF(Z23/COUNTRY_INFO!P23*100<>0, IF(Z23/COUNTRY_INFO!P23*100>100,100,Z23/COUNTRY_INFO!P23*100), \"-\"),0)","v":{"$error":"#DIV/0!"}},88374,88374,{"$f":"IF(AND(COUNTRY_INFO!J23>1,COUNTRY_INFO!J23<99,COUNTRY_INFO!J23<>4,COUNTRY_INFO!J23<>5), IF(AC23/P23*100<>0, IF(AC23/P23*100>100,100,AC23/P23*100), \"-\"),0)","v":64.98422712933754},{"$f":"COUNTRY_INFO!U23","v":199417},null,null,{"$f":"MAX('T1'!K23,'T2'!R23)","v":0},{"$f":"IF(AND(COUNTRY_INFO!K23>1,COUNTRY_INFO!K23<99,COUNTRY_INFO!K23<>4,COUNTRY_INFO!K23<>5),IF(COUNTRY_INFO!R23>AH23,AH23,COUNTRY_INFO!R23),0)","v":0},{"$f":"IF(AND(COUNTRY_INFO!K23>1,COUNTRY_INFO!K23<99,COUNTRY_INFO!K23<>4,COUNTRY_INFO!K23<>5), IF(AI23/COUNTRY_INFO!R23*100<>0, IF(AI23/COUNTRY_INFO!R23*100>100,100,AI23/COUNTRY_INFO!R23*100), \"-\"),0)","v":{"$error":"#DIV/0!"}},{"$f":"MAX('T1'!L23,'T2'!S23)","v":87470},{"$f":"IF(AND(COUNTRY_INFO!K23>1,COUNTRY_INFO!K23<99,COUNTRY_INFO!K23<>4,COUNTRY_INFO!K23<>5),IF(COUNTRY_INFO!S23>AK23,AK23,COUNTRY_INFO!S23),0)","v":0},{"$f":"IF(AND(COUNTRY_INFO!K23>1,COUNTRY_INFO!K23<99,COUNTRY_INFO!K23<>4,COUNTRY_INFO!K23<>5), IF(AL23/COUNTRY_INFO!S23*100<>0, IF(AL23/COUNTRY_INFO!S23*100>100,100,AL23/COUNTRY_INFO!S23*100), \"-\"),0)","v":{"$error":"#DIV/0!"}},{"$f":"MAX('T1'!M23,'T2'!T23)","v":49594},{"$f":"IF(AND(COUNTRY_INFO!K23>1,COUNTRY_INFO!K23<99,COUNTRY_INFO!K23<>4,COUNTRY_INFO!K23<>5),IF(COUNTRY_INFO!T23>AN23,AN23,COUNTRY_INFO!T23),0)","v":0},{"$f":"IF(AND(COUNTRY_INFO!K23>1,COUNTRY_INFO!K23<99,COUNTRY_INFO!K23<>4,COUNTRY_INFO!K23<>5), IF(AO23/COUNTRY_INFO!T23*100<>0, IF(AO23/COUNTRY_INFO!T23*100>100,100,AO23/COUNTRY_INFO!T23*100), \"-\"),0)","v":{"$error":"#DIV/0!"}},137064,137064,68.732354814283639,null,{"$f":"IF(AND(D23<>0, D23<>\"Inconnu\",D23<>\"Interrompu\",D23<>\"Non requis\"),D23/COUNTRY_INFO!D23, 0)","v":0},{"$f":"IF(AND(J23<>0,J23<>\"Inconnu\",J23<>\"Interrompu\",J23<>\"Non requis\"),J23/COUNTRY_INFO!D23, 0)","v":0.56503844119754765},{"$f":"IF(AND(P23<>0,P23<>\"Inconnu\",P23<>\"Surveillance\",P23<>\"Non requis\"),P23/COUNTRY_INFO!Q23, 0)","v":1},{"$f":"IF(AND(AE23<>0,AE23<>\"Inconnu\",AE23<>\"Surveillance\",AE23<>\"Non requis\"),AE23/COUNTRY_INFO!U23, 0)","v":1},{"$f":"IF(AU23>0,D23*PROFILE!$G$7,IF(AV23>0,J23*PROFILE!$G$7,0))","v":6681.8498191991812},{"$f":"_xlfn.IFS(OR(AU23>0,AW23>0),COUNTRY_INFO!E23, AV23>0,J23*PROFILE!$G$8,AX23>0,COUNTRY_INFO!R23,COUNTIFS(AU23:AX23,\">0\")=0,0)","v":47302},{"$f":"_xlfn.IFS(OR(AU23>0,AW23>0),COUNTRY_INFO!F23, AV23>0,J23*PROFILE!$G$9,AX23>0,COUNTRY_INFO!S23,COUNTIFS(AU23:AX23,\">0\")=0,0)","v":88691},{"$f":"_xlfn.IFS(AU23>0,COUNTRY_INFO!G23, AND(AV23>0,AW23=0,AX23=0),J23*PROFILE!$G$10,AND(AV23>0,AW23>0,AX23=0), MAX(J23*PROFILE!$G$10,COUNTRY_INFO!P23),AND(AV23>0,AW23=0,AX23>0), MAX(J23*PROFILE!$G$10,COUNTRY_INFO!T23),AND(AV23=0,AW23>0,AX23>0), MAX(COUNTRY_INFO!P23,COUNTRY_INFO!T23),AND(AV23=0,AW23>0,AX23=0),COUNTRY_INFO!P23,AND(AV23=0,AW23=0,AX23>0),COUNTRY_INFO!T23,AND(AV23>0,AW23>0,AX23>0), MAX(J23*PROFILE!$G$10,COUNTRY_INFO!P23,COUNTRY_INFO!T23),COUNTIFS(AU23:AX23,\">0\")=0,0)","v":83522.942676684703},226197.79249588388,"Y",{"$f":"MAX('MDA2'!J23,'MDA5'!J23,S23,AH23)","v":0},{"$f":"MAX('MDA1'!K23,'MDA2'!K23,'MDA3'!I23,'MDA3'!L23,'MDA5'!K23,V23,AK23)","v":88374},{"$f":"MAX('MDA1'!L23,'MDA2'!L23,'MDA3'!J23,'MDA3'!M23,'MDA5'!L23,Y23,AN23)","v":96315},184689,{"$f":"_xlfn.IFS(AND(AU23=0,AW23=0,AX23=0),0,AND(AU23=0,AW23=0,AX23>0),AI23,AND(AU23=0,AW23>0,AX23=0),T23,AND(AU23=0,AW23>0,AX23>0),MAX(T23,AI23),AND(AU23>0,AW23=0,AX23=0),MIN(MAX('MDA2'!J23,'MDA5'!J23),AZ23),AND(AU23>0,AW23=0,AX23>0),MIN(MAX('MDA2'!J23,'MDA5'!J23,AI23),AZ23),AND(AU23>0,AW23>0,AX23=0),MIN(MAX('MDA2'!J23,'MDA5'!J23,T23),AZ23),AND(AU23>0,AW23>0,AX23>0),MIN(MAX('MDA2'!J23,'MDA5'!J23,AI23,T23),AZ23))","v":0},{"$f":"_xlfn.IFS(AND(AU23=0,AV23=0,AW23=0,AX23=0),0,AND(AU23=0,AV23=0,AW23=0,AX23>0),AL23,AND(AU23=0,AV23=0,AW23>0,AX23=0),W23,AND(AU23=0,AV23=0,AW23>0,AX23>0),MAX(W23,AL23),AND(AU23=0,AV23>0,AW23=0,AX23=0),MIN(J23*PROFILE!$G$9,MAX('MDA3'!I23,'MDA3'!L23)),AND(AU23=0,AV23>0,AW23=0,AX23>0),MIN(J23*PROFILE!$G$9,MAX('MDA3'!I23,'MDA3'!L23,AL23)),AND(AU23=0,AV23>0,AW23>0,AX23=0),MIN(J23*PROFILE!$G$9,MAX('MDA3'!I23,'MDA3'!L23,W23)),AND(AU23=0,AV23>0,AW23>0,AX23>0),MIN(J23*PROFILE!$G$9,MAX('MDA3'!I23,'MDA3'!L23,W23,AL23)),AND(AU23>0,AV23=0,AW23=0,AX23=0), MIN(BA23,MAX('MDA1'!K23,'MDA2'!K23,'MDA5'!K23)),AND(AU23>0,AV23=0,AW23=0,AX23>0), MIN(BA23,MAX('MDA1'!K23,'MDA2'!K23,'MDA5'!K23,AL23)),AND(AU23>0,AV23=0,AW23>0,AX23=0),MIN(BA23,MAX('MDA1'!K23,'MDA2'!KL23,'MDA5'!K23,W23)),AND(AU23>0,AV23=0,AW23>0,AX23>0),MIN(BA23,MAX('MDA1'!K23,'MDA2'!K23,'MDA5'!K23,W23,AL23)),AND(AU23>0,AV23>0,AW23=0,AX23=0),MIN(BA23, MAX('MDA1'!K23,'MDA2'!K23, 'MDA5'!K23,MAX('MDA3'!I23,'MDA3'!L23))), AND(AU23>0,AV23>0,AW23=0,AX23>0),MIN(BA23, MAX('MDA1'!K23,'MDA2'!K23, 'MDA5'!K23,MAX('MDA3'!I23,'MDA3'!L23),AL23)), AND(AU23>0,AV23>0,AW23>0,AX23=0), MIN(BA23, MAX('MDA1'!K23,'MDA2'!K23, 'MDA5'!K23,MAX('MDA3'!I23,'MDA3'!L23),W23)), AND(AU23>0,AV23>0,AW23>0,AX23>0), MIN(BA23, MAX('MDA1'!K23,'MDA2'!K23, 'MDA5'!K23,MAX('MDA3'!I23,'MDA3'!L23),W23,AL23)))","v":50113.716469918334},{"$f":"_xlfn.IFS(AND(AU23=0,AV23=0,AW23=0,AX23=0),0,AND(AU23=0,AV23=0,AW23=0,AX23>0),AO23,AND(AU23=0,AV23=0,AW23>0,AX23=0),Z23,AND(AU23=0,AV23=0,AW23>0,AX23>0),MAX(Z23,AO23),AND(AU23=0,AV23>0,AW23=0,AX23=0),MIN(J23*PROFILE!$G$10,MAX('MDA3'!J23,'MDA3'!J23)),AND(AU23=0,AV23>0,AW23=0,AX23>0),MIN(J23*PROFILE!$G$10,MAX('MDA3'!J23,'MDA3'!M23,AO23)),AND(AU23=0,AV23>0,AW23>0,AX23=0),MIN(J23*PROFILE!$G$10,MAX('MDA3'!J23,'MDA3'!M23,Z23)),AND(AU23=0,AV23>0,AW23>0,AX23>0),MIN(J23*PROFILE!$G$10,MAX('MDA3'!J23,'MDA3'!M23,Z23,AO23)),AND(AU23>0,AV23=0,AW23=0,AX23=0), MIN(BB23,MAX('MDA1'!L23,'MDA2'!L23,'MDA5'!L23)),AND(AU23>0,AV23=0,AW23=0,AX23>0), MIN(BB23,MAX('MDA1'!L23,'MDA2'!L23,'MDA5'!L23,AO23)),AND(AU23>0,AV23=0,AW23>0,AX23=0),MIN(BB23,MAX('MDA1'!L23,'MDA2'!L23,'MDA5'!L23,Z23)),AND(AU23>0,AV23=0,AW23>0,AX23>0),MIN(BB23,MAX('MDA1'!L23,'MDA2'!L23,'MDA5'!L23,Z23,AO23)),AND(AU23>0,AV23>0,AW23=0,AX23=0),MIN(BB23, MAX('MDA1'!L23,'MDA2'!L23, 'MDA5'!L23,MAX('MDA3'!J23,'MDA3'!M23))), AND(AU23>0,AV23>0,AW23=0,AX23>0),MIN(BB23, MAX('MDA1'!L23,'MDA2'!L23, 'MDA5'!L23,MAX('MDA3'!J23,'MDA3'!M23),AO23)), AND(AU23>0,AV23>0,AW23>0,AX23=0), MIN(BB23, MAX('MDA1'!L23,'MDA2'!L23, 'MDA5'!L23,MAX('MDA3'!J23,'MDA3'!M23),Z23)), AND(AU23>0,AV23>0,AW23>0,AX23>0), MIN(BB23, MAX('MDA1'!L23,'MDA2'!L23, 'MDA5'!L23,MAX('MDA3'!J23,'MDA3'!M23),Z23,AO23)))","v":83522.942676684703},133636.65914660302,59.079559385635825]
[{"$f":"IF(COUNTRY_INFO!A24=0,\" \",COUNTRY_INFO!A24)","v":"Togo"},{"$f":"IF(COUNTRY_INFO!B24=0,\" \",COUNTRY_INFO!B24)","v":"MARITIME"},{"$f":"IF(COUNTRY_INFO!C24=0,\" \",COUNTRY_INFO!C24)","v":"AVE"},{"$f":"COUNTRY_INFO!L24","v":"Non requis"},null,null,{"$f":"MAX('MDA1'!M24,'MDA2'!M24,'MDA5'!M24)","v":0},{"$f":"IF(AND(COUNTRY_INFO!H24>0,COUNTRY_INFO!H24<4),IF(D24>G24,G24,D24),0)","v":0},{"$f":"IF(AND(COUNTRY_INFO!H24>0,COUNTRY_INFO!H24<4), IF(G24/D24*100<>0, IF(G24/D24*100>100,100,G24/D24*100), \"-\"),0)","v":0},{"$f":"COUNTRY_INFO!M24","v":101976.88679245282},37313,42146,{"$f":"MAX('MDA1'!M24,MAX('MDA3'!I24,'MDA3'!L24)+MAX('MDA3'!J24,'MDA3'!M24))","v":79459},{"$f":"IF(AND(COUNTRY_INFO!I24>0,COUNTRY_INFO!I24<4),IF(J24>M24,M24,J24),0)","v":79459},{"$f":"IF(AND(COUNTRY_INFO!I24>0,COUNTRY_INFO!I24<4), IF(M24/J24*100<>0, IF(M24/J24*100>100,100,M24/J24*100), \"-\"),0)","v":77.918636761012266},{"$f":"COUNTRY_INFO!Q24","v":0},20946,22071,{"$f":"MAX('MDA2'!J24,'MDA5'!J24,'T1'!K24, MAX(T3_R1!J24,T3_R2!J24,T3_R3!J24))","v":0},{"$f":"IF(AND(COUNTRY_INFO!J24>1,COUNTRY_INFO!J24<99,COUNTRY_INFO!J24<>4,COUNTRY_INFO!J24<>5),IF(COUNTRY_INFO!N24>S24,S24,COUNTRY_INFO!N24),0)","v":0},{"$f":"IF(AND(COUNTRY_INFO!J24>1,COUNTRY_INFO!J24<99,COUNTRY_INFO!J24<>4,COUNTRY_INFO!J24<>5), IF(T24/COUNTRY_INFO!N24*100<>0, IF(T24/COUNTRY_INFO!N24*100>100,100,T24/COUNTRY_INFO!N24*100), \"-\"),0)","v":0},{"$f":"MAX('MDA1'!K24, 'MDA2'!K24, 'MDA5'!K24,'T1'!L24, MAX(T3_R1!K24,T3_R2!K24,T3_R3!K24))","v":43017},{"$f":"IF(AND(COUNTRY_INFO!J24>1,COUNTRY_INFO!J24<99,COUNTRY_INFO!J24<>4,COUNTRY_INFO!J24<>5),IF(COUNTRY_INFO!O24>V24,V24,COUNTRY_INFO!O24),0)","v":0},{"$f":"IF(AND(COUNTRY_INFO!J24>1,COUNTRY_INFO!J24<99,COUNTRY_INFO!J24<>4,COUNTRY_INFO!J24<>5), IF(W24/COUNTRY_INFO!O24*100<>0, IF(W24/COUNTRY_INFO!O24*100>100,100,W24/COUNTRY_INFO!O24*100), \"-\"),0)","v":0},{"$f":"MAX('MDA1'!L24, 'MDA2'!L24, 'MDA5'!L24,'T1'!M24, MAX(T3_R1!L24,T3_R2!L24,T3_R3!L24))","v":0},{"$f":"IF(AND(COUNTRY_INFO!J24>1,COUNTRY_INFO!J24<99,COUNTRY_INFO!J24<>4,COUNTRY_INFO!J24<>5),IF(COUNTRY_INFO!P24>Y24,Y24,COUNTRY_INFO!P24),0)","v":0},{"$f":"IF(AND(COUNTRY_INFO!J24>1,COUNTRY_INFO!J24<99,COUNTRY_INFO!J24<>4,COUNTRY_INFO!J24<>5), IF(Z24/COUNTRY_INFO!P24*100<>0, IF(Z24/COUNTRY_INFO!P24*100>100,100,Z24/COUNTRY_INFO!P24*100), \"-\"),0)","v":0},43017,0,{"$f":"IF(AND(COUNTRY_INFO!J24>1,COUNTRY_INFO!J24<99,COUNTRY_INFO!J24<>4,COUNTRY_INFO!J24<>5), IF(AC24/P24*100<>0, IF(AC24/P24*100>100,100,AC24/P24*100), \"-\"),0)","v":0},{"$f":"COUNTRY_INFO!U24","v":84947},null,null,{"$f":"MAX('T1'!K24,'T2'!R24)","v":0},{"$f":"IF(AND(COUNTRY_INFO!K24>1,COUNTRY_INFO!K24<99,COUNTRY_INFO!K24<>4,COUNTRY_INFO!K24<>5),IF(COUNTRY_INFO!R24>AH24,AH24,COUNTRY_INFO!R24),0)","v":0},{"$f":"IF(AND(COUNTRY_INFO!K24>1,COUNTRY_INFO!K24<99,COUNTRY_INFO!K24<>4,COUNTRY_INFO!K24<>5), IF(AI24/COUNTRY_INFO!R24*100<>0, IF(AI24/COUNTRY_INFO!R24*100>100,100,AI24/COUNTRY_INFO!R24*100), \"-\"),0)","v":{"$error":"#DIV/0!"}},{"$f":"MAX('T1'!L24,'T2'!S24)","v":37144},{"$f":"IF(AND(COUNTRY_INFO!K24>1,COUNTRY_INFO!K24<99,COUNTRY_INFO!K24<>4,COUNTRY_INFO!K24<>5),IF(COUNTRY_INFO!S24>AK24,AK24,COUNTRY_INFO!S24),0)","v":0},{"$f":"IF(AND(COUNTRY_INFO!K24>1,COUNTRY_INFO!K24<99,COUNTRY_INFO!K24<>4,COUNTRY_INFO!K24<>5), IF(AL24/COUNTRY_INFO!S24*100<>0, IF(AL24/COUNTRY_INFO!S24*100>100,100,AL24/COUNTRY_INFO!S24*100), \"-\"),0)","v":{"$error":"#DIV/0!"}},{"$f":"MAX('T1'!M24,'T2'!T24)","v":5160},{"$f":"IF(AND(COUNTRY_INFO!K24>1,COUNTRY_INFO!K24<99,COUNTRY_INFO!K24<>4,COUNTRY_INFO!K24<>5),IF(COUNTRY_INFO!T24>AN24,AN24,COUNTRY_INFO!T24),0)","v":0},{"$f":"IF(AND(COUNTRY_INFO!K24>1,COUNTRY_INFO!K24<99,COUNTRY_INFO!K24<>4,COUNTRY_INFO!K24<>5), IF(AO24/COUNTRY_INFO!T24*100<>0, IF(AO24/COUNTRY_INFO!T24*100>100,100,AO24/COUNTRY_INFO!T24*100), \"-\"),0)","v":{"$error":"#DIV/0!"}},42304,42304,49.800463818616315,null,{"$f":"IF(AND(D24<>0, D24<>\"Inconnu\",D24<>\"Interrompu\",D24<>\"Non requis\"),D24/COUNTRY_INFO!D24, 0)","v":0},{"$f":"IF(AND(J24<>0,J24<>\"Inconnu\",J24<>\"Interrompu\",J24<>\"Non requis\"),J24/COUNTRY_INFO!D24, 0)","v":0.69811337768467607},{"$f":"IF(AND(P24<>0,P24<>\"Inconnu\",P24<>\"Surveillance\",P24<>\"Non requis\"),P24/COUNTRY_INFO!Q24, 0)","v":0},{"$f":"IF(AND(AE24<>0,AE24<>\"Inconnu\",AE24<>\"Surveillance\",AE24<>\"Non requis\"),AE24/COUNTRY_INFO!U24, 0)","v":1},{"$f":"IF(AU24>0,D24*PROFILE!$G$7,IF(AV24>0,J24*PROFILE!$G$7,0))","v":4079.0858535951188},{"$f":"_xlfn.IFS(OR(AU24>0,AW24>0),COUNTRY_INFO!E24, AV24>0,J24*PROFILE!$G$8,AX24>0,COUNTRY_INFO!R24,COUNTIFS(AU24:AX24,\">0\")=0,0)","v":16316.289741116785},{"$f":"_xlfn.IFS(OR(AU24>0,AW24>0),COUNTRY_INFO!F24, AV24>0,J24*PROFILE!$G$9,AX24>0,COUNTRY_INFO!S24,COUNTIFS(AU24:AX24,\">0\")=0,0)","v":30593.047951505749},{"$f":"_xlfn.IFS(AU24>0,COUNTRY_INFO!G24, AND(AV24>0,AW24=0,AX24=0),J24*PROFILE!$G$10,AND(AV24>0,AW24>0,AX24=0), MAX(J24*PROFILE!$G$10,COUNTRY_INFO!P24),AND(AV24>0,AW24=0,AX24>0), MAX(J24*PROFILE!$G$10,COUNTRY_INFO!T24),AND(AV24=0,AW24>0,AX24>0), MAX(COUNTRY_INFO!P24,COUNTRY_INFO!T24),AND(AV24=0,AW24>0,AX24=0),COUNTRY_INFO!P24,AND(AV24=0,AW24=0,AX24>0),COUNTRY_INFO!T24,AND(AV24>0,AW24>0,AX24>0), MAX(J24*PROFILE!$G$10,COUNTRY_INFO!P24,COUNTRY_INFO!T24),COUNTIFS(AU24:AX24,\">0\")=0,0)","v":50988.463246235166},101976.88679245282,"Y",{"$f":"MAX('MDA2'!J24,'MDA5'!J24,S24,AH24)","v":0},{"$f":"MAX('MDA1'!K24,'MDA2'!K24,'MDA3'!I24,'MDA3'!L24,'MDA5'!K24,V24,AK24)","v":43017},{"$f":"MAX('MDA1'!L24,'MDA2'!L24,'MDA3'!J24,'MDA3'!M24,'MDA5'!L24,Y24,AN24)","v":49986},93003,{"$f":"_xlfn.IFS(AND(AU24=0,AW24=0,AX24=0),0,AND(AU24=0,AW24=0,AX24>0),AI24,AND(AU24=0,AW24>0,AX24=0),T24,AND(AU24=0,AW24>0,AX24>0),MAX(T24,AI24),AND(AU24>0,AW24=0,AX24=0),MIN(MAX('MDA2'!J24,'MDA5'!J24),AZ24),AND(AU24>0,AW24=0,AX24>0),MIN(MAX('MDA2'!J24,'MDA5'!J24,AI24),AZ24),AND(AU24>0,AW24>0,AX24=0),MIN(MAX('MDA2'!J24,'MDA5'!J24,T24),AZ24),AND(AU24>0,AW24>0,AX24>0),MIN(MAX('MDA2'!J24,'MDA5'!J24,AI24,T24),AZ24))","v":0},{"$f":"_xlfn.IFS(AND(AU24=0,AV24=0,AW24=0,AX24=0),0,AND(AU24=0,AV24=0,AW24=0,AX24>0),AL24,AND(AU24=0,AV24=0,AW24>0,AX24=0),W24,AND(AU24=0,AV24=0,AW24>0,AX24>0),MAX(W24,AL24),AND(AU24=0,AV24>0,AW24=0,AX24=0),MIN(J24*PROFILE!$G$9,MAX('MDA3'!I24,'MDA3'!L24)),AND(AU24=0,AV24>0,AW24=0,AX24>0),MIN(J24*PROFILE!$G$9,MAX('MDA3'!I24,'MDA3'!L24,AL24)),AND(AU24=0,AV24>0,AW24>0,AX24=0),MIN(J24*PROFILE!$G$9,MAX('MDA3'!I24,'MDA3'!L24,W24)),AND(AU24=0,AV24>0,AW24>0,AX24>0),MIN(J24*PROFILE!$G$9,MAX('MDA3'!I24,'MDA3'!L24,W24,AL24)),AND(AU24>0,AV24=0,AW24=0,AX24=0), MIN(BA24,MAX('MDA1'!K24,'MDA2'!K24,'MDA5'!K24)),AND(AU24>0,AV24=0,AW24=0,AX24>0), MIN(BA24,MAX('MDA1'!K24,'MDA2'!K24,'MDA5'!K24,AL24)),AND(AU24>0,AV24=0,AW24>0,AX24=0),MIN(BA24,MAX('MDA1'!K24,'MDA2'!KL24,'MDA5'!K24,W24)),AND(AU24>0,AV24=0,AW24>0,AX24>0),MIN(BA24,MAX('MDA1'!K24,'MDA2'!K24,'MDA5'!K24,W24,AL24)),AND(AU24>0,AV24>0,AW24=0,AX24=0),MIN(BA24, MAX('MDA1'!K24,'MDA2'!K24, 'MDA5'!K24,MAX('MDA3'!I24,'MDA3'!L24))), AND(AU24>0,AV24>0,AW24=0,AX24>0),MIN(BA24, MAX('MDA1'!K24,'MDA2'!K24, 'MDA5'!K24,MAX('MDA3'!I24,'MDA3'!L24),AL24)), AND(AU24>0,AV24>0,AW24>0,AX24=0), MIN(BA24, MAX('MDA1'!K24,'MDA2'!K24, 'MDA5'!K24,MAX('MDA3'!I24,'MDA3'!L24),W24)), AND(AU24>0,AV24>0,AW24>0,AX24>0), MIN(BA24, MAX('MDA1'!K24,'MDA2'!K24, 'MDA5'!K24,MAX('MDA3'!I24,'MDA3'!L24),W24,AL24)))","v":29473},{"$f":"_xlfn.IFS(AND(AU24=0,AV24=0,AW24=0,AX24=0),0,AND(AU24=0,AV24=0,AW24=0,AX24>0),AO24,AND(AU24=0,AV24=0,AW24>0,AX24=0),Z24,AND(AU24=0,AV24=0,AW24>0,AX24>0),MAX(Z24,AO24),AND(AU24=0,AV24>0,AW24=0,AX24=0),MIN(J24*PROFILE!$G$10,MAX('MDA3'!J24,'MDA3'!J24)),AND(AU24=0,AV24>0,AW24=0,AX24>0),MIN(J24*PROFILE!$G$10,MAX('MDA3'!J24,'MDA3'!M24,AO24)),AND(AU24=0,AV24>0,AW24>0,AX24=0),MIN(J24*PROFILE!$G$10,MAX('MDA3'!J24,'MDA3'!M24,Z24)),AND(AU24=0,AV24>0,AW24>0,AX24>0),MIN(J24*PROFILE!$G$10,MAX('MDA3'!J24,'MDA3'!M24,Z24,AO24)),AND(AU24>0,AV24=0,AW24=0,AX24=0), MIN(BB24,MAX('MDA1'!L24,'MDA2'!L24,'MDA5'!L24)),AND(AU24>0,AV24=0,AW24=0,AX24>0), MIN(BB24,MAX('MDA1'!L24,'MDA2'!L24,'MDA5'!L24,AO24)),AND(AU24>0,AV24=0,AW24>0,AX24=0),MIN(BB24,MAX('MDA1'!L24,'MDA2'!L24,'MDA5'!L24,Z24)),AND(AU24>0,AV24=0,AW24>0,AX24>0),MIN(BB24,MAX('MDA1'!L24,'MDA2'!L24,'MDA5'!L24,Z24,AO24)),AND(AU24>0,AV24>0,AW24=0,AX24=0),MIN(BB24, MAX('MDA1'!L24,'MDA2'!L24, 'MDA5'!L24,MAX('MDA3'!J24,'MDA3'!M24))), AND(AU24>0,AV24>0,AW24=0,AX24>0),MIN(BB24, MAX('MDA1'!L24,'MDA2'!L24, 'MDA5'!L24,MAX('MDA3'!J24,'MDA3'!M24),AO24)), AND(AU24>0,AV24>0,AW24>0,AX24=0), MIN(BB24, MAX('MDA1'!L24,'MDA2'!L24, 'MDA5'!L24,MAX('MDA3'!J24,'MDA3'!M24),Z24)), AND(AU24>0,AV24>0,AW24>0,AX24>0), MIN(BB24, MAX('MDA1'!L24,'MDA2'!L24, 'MDA5'!L24,MAX('MDA3'!J24,'MDA3'!M24),Z24,AO24)))","v":49986},79459,77.918636761012266]
[{"$f":"IF(COUNTRY_INFO!A25=0,\" \",COUNTRY_INFO!A25)","v":"Togo"},{"$f":"IF(COUNTRY_INFO!B25=0,\" \",COUNTRY_INFO!B25)","v":"MARITIME"},{"$f":"IF(COUNTRY_INFO!C25=0,\" \",COUNTRY_INFO!C25)","v":"BAS-MONO"},{"$f":"COUNTRY_INFO!L25","v":"Non requis"},null,null,{"$f":"MAX('MDA1'!M25,'MDA2'!M25,'MDA5'!M25)","v":0},{"$f":"IF(AND(COUNTRY_INFO!H25>0,COUNTRY_INFO!H25<4),IF(D25>G25,G25,D25),0)","v":0},{"$f":"IF(AND(COUNTRY_INFO!H25>0,COUNTRY_INFO!H25<4), IF(G25/D25*100<>0, IF(G25/D25*100>100,100,G25/D25*100), \"-\"),0)","v":0},{"$f":"COUNTRY_INFO!M25","v":29893.276853534648},10723,11996,{"$f":"MAX('MDA1'!M25,MAX('MDA3'!I25,'MDA3'!L25)+MAX('MDA3'!J25,'MDA3'!M25))","v":22719},{"$f":"IF(AND(COUNTRY_INFO!I25>0,COUNTRY_INFO!I25<4),IF(J25>M25,M25,J25),0)","v":22719},{"$f":"IF(AND(COUNTRY_INFO!I25>0,COUNTRY_INFO!I25<4), IF(M25/J25*100<>0, IF(M25/J25*100>100,100,M25/J25*100), \"-\"),0)","v":76.00036660856621},{"$f":"COUNTRY_INFO!Q25","v":52199},16530,16434,{"$f":"MAX('MDA2'!J25,'MDA5'!J25,'T1'!K25, MAX(T3_R1!J25,T3_R2!J25,T3_R3!J25))","v":0},{"$f":"IF(AND(COUNTRY_INFO!J25>1,COUNTRY_INFO!J25<99,COUNTRY_INFO!J25<>4,COUNTRY_INFO!J25<>5),IF(COUNTRY_INFO!N25>S25,S25,COUNTRY_INFO!N25),0)","v":0},{"$f":"IF(AND(COUNTRY_INFO!J25>1,COUNTRY_INFO!J25<99,COUNTRY_INFO!J25<>4,COUNTRY_INFO!J25<>5), IF(T25/COUNTRY_INFO!N25*100<>0, IF(T25/COUNTRY_INFO!N25*100>100,100,T25/COUNTRY_INFO!N25*100), \"-\"),0)","v":"-"},{"$f":"MAX('MDA1'!K25, 'MDA2'!K25, 'MDA5'!K25,'T1'!L25, MAX(T3_R1!K25,T3_R2!K25,T3_R3!K25))","v":32964},{"$f":"IF(AND(COUNTRY_INFO!J25>1,COUNTRY_INFO!J25<99,COUNTRY_INFO!J25<>4,COUNTRY_INFO!J25<>5),IF(COUNTRY_INFO!O25>V25,V25,COUNTRY_INFO!O25),0)","v":32964},{"$f":"IF(AND(COUNTRY_INFO!J25>1,COUNTRY_INFO!J25<99,COUNTRY_INFO!J25<>4,COUNTRY_INFO!J25<>5), IF(W25/COUNTRY_INFO!O25*100<>0, IF(W25/COUNTRY_INFO!O25*100>100,100,W25/COUNTRY_INFO!O25*100), \"-\"),0)","v":96.830479099961806},{"$f":"MAX('MDA1'!L25, 'MDA2'!L25, 'MDA5'!L25,'T1'!M25, MAX(T3_R1!L25,T3_R2!L25,T3_R3!L25))","v":0},{"$f":"IF(AND(COUNTRY_INFO!J25>1,COUNTRY_INFO!J25<99,COUNTRY_INFO!J25<>4,COUNTRY_INFO!J25<>5),IF(COUNTRY_INFO!P25>Y25,Y25,COUNTRY_INFO!P25),0)","v":0},{"$f":"IF(AND(COUNTRY_INFO!J25>1,COUNTRY_INFO!J25<99,COUNTRY_INFO!J25<>4,COUNTRY_INFO!J25<>5), IF(Z25/COUNTRY_INFO!P25*100<>0, IF(Z25/COUNTRY_INFO!P25*100>100,100,Z25/COUNTRY_INFO!P25*100), \"-\"),0)","v":{"$error":"#DIV/0!"}},32964,32964,{"$f":"IF(AND(COUNTRY_INFO!J25>1,COUNTRY_INFO!J25<99,COUNTRY_INFO!J25<>4,COUNTRY_INFO!J25<>5), IF(AC25/P25*100<>0, IF(AC25/P25*100>100,100,AC25/P25*100), \"-\"),0)","v":63.150635069637353},{"$f":"COUNTRY_INFO!U25","v":48831},null,null,{"$f":"MAX('T1'!K25,'T2'!R25)","v":0},{"$f":"IF(AND(COUNTRY_INFO!K25>1,COUNTRY_INFO!K25<99,COUNTRY_INFO!K25<>4,COUNTRY_INFO!K25<>5),IF(COUNTRY_INFO!R25>AH25,AH25,COUNTRY_INFO!R25),0)","v":0},{"$f":"IF(AND(COUNTRY_INFO!K25>1,COUNTRY_INFO!K25<99,COUNTRY_INFO!K25<>4,COUNTRY_INFO!K25<>5), IF(AI25/COUNTRY_INFO!R25*100<>0, IF(AI25/COUNTRY_INFO!R25*100>100,100,AI25/COUNTRY_INFO!R25*100), \"-\"),0)","v":0},{"$f":"MAX('T1'!L25,'T2'!S25)","v":20706},{"$f":"IF(AND(COUNTRY_INFO!K25>1,COUNTRY_INFO!K25<99,COUNTRY_INFO!K25<>4,COUNTRY_INFO!K25<>5),IF(COUNTRY_INFO!S25>AK25,AK25,COUNTRY_INFO!S25),0)","v":0},{"$f":"IF(AND(COUNTRY_INFO!K25>1,COUNTRY_INFO!K25<99,COUNTRY_INFO!K25<>4,COUNTRY_INFO!K25<>5), IF(AL25/COUNTRY_INFO!S25*100<>0, IF(AL25/COUNTRY_INFO!S25*100>100,100,AL25/COUNTRY_INFO!S25*100), \"-\"),0)","v":0},{"$f":"MAX('T1'!M25,'T2'!T25)","v":0},{"$f":"IF(AND(COUNTRY_INFO!K25>1,COUNTRY_INFO!K25<99,COUNTRY_INFO!K25<>4,COUNTRY_INFO!K25<>5),IF(COUNTRY_INFO!T25>AN25,AN25,COUNTRY_INFO!T25),0)","v":0},{"$f":"IF(AND(COUNTRY_INFO!K25>1,COUNTRY_INFO!K25<99,COUNTRY_INFO!K25<>4,COUNTRY_INFO!K25<>5), IF(AO25/COUNTRY_INFO!T25*100<>0, IF(AO25/COUNTRY_INFO!T25*100>100,100,AO25/COUNTRY_INFO!T25*100), \"-\"),0)","v":0},20706,20706,42.403391288320947,null,{"$f":"IF(AND(D25<>0, D25<>\"Inconnu\",D25<>\"Interrompu\",D25<>\"Non requis\"),D25/COUNTRY_INFO!D25, 0)","v":0},{"$f":"IF(AND(J25<>0,J25<>\"Inconnu\",J25<>\"Interrompu\",J25<>\"Non requis\"),J25/COUNTRY_INFO!D25, 0)","v":0.26343325911705268},{"$f":"IF(AND(P25<>0,P25<>\"Inconnu\",P25<>\"Surveillance\",P25<>\"Non requis\"),P25/COUNTRY_INFO!Q25, 0)","v":1},{"$f":"IF(AND(AE25<>0,AE25<>\"Inconnu\",AE25<>\"Surveillance\",AE25<>\"Non requis\"),AE25/COUNTRY_INFO!U25, 0)","v":1},{"$f":"IF(AU25>0,D25*PROFILE!$G$7,IF(AV25>0,J25*PROFILE!$G$7,0))","v":1195.7341174674887},{"$f":"_xlfn.IFS(OR(AU25>0,AW25>0),COUNTRY_INFO!E25, AV25>0,J25*PROFILE!$G$8,AX25>0,COUNTRY_INFO!R25,COUNTIFS(AU25:AX25,\">0\")=0,0)","v":18156},{"$f":"_xlfn.IFS(OR(AU25>0,AW25>0),COUNTRY_INFO!F25, AV25>0,J25*PROFILE!$G$9,AX25>0,COUNTRY_INFO!S25,COUNTIFS(AU25:AX25,\">0\")=0,0)","v":34043},{"$f":"_xlfn.IFS(AU25>0,COUNTRY_INFO!G25, AND(AV25>0,AW25=0,AX25=0),J25*PROFILE!$G$10,AND(AV25>0,AW25>0,AX25=0), MAX(J25*PROFILE!$G$10,COUNTRY_INFO!P25),AND(AV25>0,AW25=0,AX25>0), MAX(J25*PROFILE!$G$10,COUNTRY_INFO!T25),AND(AV25=0,AW25>0,AX25>0), MAX(COUNTRY_INFO!P25,COUNTRY_INFO!T25),AND(AV25=0,AW25>0,AX25=0),COUNTRY_INFO!P25,AND(AV25=0,AW25=0,AX25>0),COUNTRY_INFO!T25,AND(AV25>0,AW25>0,AX25>0), MAX(J25*PROFILE!$G$10,COUNTRY_INFO!P25,COUNTRY_INFO!T25),COUNTIFS(AU25:AX25,\">0\")=0,0)","v":14946.64424555456},68341.378363022042,"Y",{"$f":"MAX('MDA2'!J25,'MDA5'!J25,S25,AH25)","v":0},{"$f":"MAX('MDA1'!K25,'MDA2'!K25,'MDA3'!I25,'MDA3'!L25,'MDA5'!K25,V25,AK25)","v":32964},{"$f":"MAX('MDA1'!L25,'MDA2'!L25,'MDA3'!J25,'MDA3'!M25,'MDA5'!L25,Y25,AN25)","v":14275},47239,{"$f":"_xlfn.IFS(AND(AU25=0,AW25=0,AX25=0),0,AND(AU25=0,AW25=0,AX25>0),AI25,AND(AU25=0,AW25>0,AX25=0),T25,AND(AU25=0,AW25>0,AX25>0),MAX(T25,AI25),AND(AU25>0,AW25=0,AX25=0),MIN(MAX('MDA2'!J25,'MDA5'!J25),AZ25),AND(AU25>0,AW25=0,AX25>0),MIN(MAX('MDA2'!J25,'MDA5'!J25,AI25),AZ25),AND(AU25>0,AW25>0,AX25=0),MIN(MAX('MDA2'!J25,'MDA5'!J25,T25),AZ25),AND(AU25>0,AW25>0,AX25>0),MIN(MAX('MDA2'!J25,'MDA5'!J25,AI25,T25),AZ25))","v":0},{"$f":"_xlfn.IFS(AND(AU25=0,AV25=0,AW25=0,AX25=0),0,AND(AU25=0,AV25=0,AW25=0,AX25>0),AL25,AND(AU25=0,AV25=0,AW25>0,AX25=0),W25,AND(AU25=0,AV25=0,AW25>0,AX25>0),MAX(W25,AL25),AND(AU25=0,AV25>0,AW25=0,AX25=0),MIN(J25*PROFILE!$G$9,MAX('MDA3'!I25,'MDA3'!L25)),AND(AU25=0,AV25>0,AW25=0,AX25>0),MIN(J25*PROFILE!$G$9,MAX('MDA3'!I25,'MDA3'!L25,AL25)),AND(AU25=0,AV25>0,AW25>0,AX25=0),MIN(J25*PROFILE!$G$9,MAX('MDA3'!I25,'MDA3'!L25,W25)),AND(AU25=0,AV25>0,AW25>0,AX25>0),MIN(J25*PROFILE!$G$9,MAX('MDA3'!I25,'MDA3'!L25,W25,AL25)),AND(AU25>0,AV25=0,AW25=0,AX25=0), MIN(BA25,MAX('MDA1'!K25,'MDA2'!K25,'MDA5'!K25)),AND(AU25>0,AV25=0,AW25=0,AX25>0), MIN(BA25,MAX('MDA1'!K25,'MDA2'!K25,'MDA5'!K25,AL25)),AND(AU25>0,AV25=0,AW25>0,AX25=0),MIN(BA25,MAX('MDA1'!K25,'MDA2'!KL25,'MDA5'!K25,W25)),AND(AU25>0,AV25=0,AW25>0,AX25>0),MIN(BA25,MAX('MDA1'!K25,'MDA2'!K25,'MDA5'!K25,W25,AL25)),AND(AU25>0,AV25>0,AW25=0,AX25=0),MIN(BA25, MAX('MDA1'!K25,'MDA2'!K25, 'MDA5'!K25,MAX('MDA3'!I25,'MDA3'!L25))), AND(AU25>0,AV25>0,AW25=0,AX25>0),MIN(BA25, MAX('MDA1'!K25,'MDA2'!K25, 'MDA5'!K25,MAX('MDA3'!I25,'MDA3'!L25),AL25)), AND(AU25>0,AV25>0,AW25>0,AX25=0), MIN(BA25, MAX('MDA1'!K25,'MDA2'!K25, 'MDA5'!K25,MAX('MDA3'!I25,'MDA3'!L25),W25)), AND(AU25>0,AV25>0,AW25>0,AX25>0), MIN(BA25, MAX('MDA1'!K25,'MDA2'!K25, 'MDA5'!K25,MAX('MDA3'!I25,'MDA3'!L25),W25,AL25)))","v":8967.9777543032942},{"$f":"_xlfn.IFS(AND(AU25=0,AV25=0,AW25=0,AX25=0),0,AND(AU25=0,AV25=0,AW25=0,AX25>0),AO25,AND(AU25=0,AV25=0,AW25>0,AX25=0),Z25,AND(AU25=0,AV25=0,AW25>0,AX25>0),MAX(Z25,AO25),AND(AU25=0,AV25>0,AW25=0,AX25=0),MIN(J25*PROFILE!$G$10,MAX('MDA3'!J25,'MDA3'!J25)),AND(AU25=0,AV25>0,AW25=0,AX25>0),MIN(J25*PROFILE!$G$10,MAX('MDA3'!J25,'MDA3'!M25,AO25)),AND(AU25=0,AV25>0,AW25>0,AX25=0),MIN(J25*PROFILE!$G$10,MAX('MDA3'!J25,'MDA3'!M25,Z25)),AND(AU25=0,AV25>0,AW25>0,AX25>0),MIN(J25*PROFILE!$G$10,MAX('MDA3'!J25,'MDA3'!M25,Z25,AO25)),AND(AU25>0,AV25=0,AW25=0,AX25=0), MIN(BB25,MAX('MDA1'!L25,'MDA2'!L25,'MDA5'!L25)),AND(AU25>0,AV25=0,AW25=0,AX25>0), MIN(BB25,MAX('MDA1'!L25,'MDA2'!L25,'MDA5'!L25,AO25)),AND(AU25>0,AV25=0,AW25>0,AX25=0),MIN(BB25,MAX('MDA1'!L25,'MDA2'!L25,'MDA5'!L25,Z25)),AND(AU25>0,AV25=0,AW25>0,AX25>0),MIN(BB25,MAX('MDA1'!L25,'MDA2'!L25,'MDA5'!L25,Z25,AO25)),AND(AU25>0,AV25>0,AW25=0,AX25=0),MIN(BB25, MAX('MDA1'!L25,'MDA2'!L25, 'MDA5'!L25,MAX('MDA3'!J25,'MDA3'!M25))), AND(AU25>0,AV25>0,AW25=0,AX25>0),MIN(BB25, MAX('MDA1'!L25,'MDA2'!L25, 'MDA5'!L25,MAX('MDA3'!J25,'MDA3'!M25),AO25)), AND(AU25>0,AV25>0,AW25>0,AX25=0), MIN(BB25, MAX('MDA1'!L25,'MDA2'!L25, 'MDA5'!L25,MAX('MDA3'!J25,'MDA3'!M25),Z25)), AND(AU25>0,AV25>0,AW25>0,AX25>0), MIN(BB25, MAX('MDA1'!L25,'MDA2'!L25, 'MDA5'!L25,MAX('MDA3'!J25,'MDA3'!M25),Z25,AO25)))","v":14275},23242.977754303294,34.010109703727515]
[{"$f":"IF(COUNTRY_INFO!A26=0,\" \",COUNTRY_INFO!A26)","v":"Togo"},{"$f":"IF(COUNTRY_INFO!B26=0,\" \",COUNTRY_INFO!B26)","v":"MARITIME"},{"$f":"IF(COUNTRY_INFO!C26=0,\" \",COUNTRY_INFO!C26)","v":"LACS"},{"$f":"COUNTRY_INFO!L26","v":"Non requis"},null,null,{"$f":"MAX('MDA1'!M26,'MDA2'!M26,'MDA5'!M26)","v":0},{"$f":"IF(AND(COUNTRY_INFO!H26>0,COUNTRY_INFO!H26<4),IF(D26>G26,G26,D26),0)","v":0},{"$f":"IF(AND(COUNTRY_INFO!H26>0,COUNTRY_INFO!H26<4), IF(G26/D26*100<>0, IF(G26/D26*100>100,100,G26/D26*100), \"-\"),0)","v":0},{"$f":"COUNTRY_INFO!M26","v":0},"-","-",{"$f":"MAX('MDA1'!M26,MAX('MDA3'!I26,'MDA3'!L26)+MAX('MDA3'!J26,'MDA3'!M26))","v":0},{"$f":"IF(AND(COUNTRY_INFO!I26>0,COUNTRY_INFO!I26<4),IF(J26>M26,M26,J26),0)","v":0},{"$f":"IF(AND(COUNTRY_INFO!I26>0,COUNTRY_INFO!I26<4), IF(M26/J26*100<>0, IF(M26/J26*100>100,100,M26/J26*100), \"-\"),0)","v":0},{"$f":"COUNTRY_INFO!Q26","v":96500},28688,29900,{"$f":"MAX('MDA2'!J26,'MDA5'!J26,'T1'!K26, MAX(T3_R1!J26,T3_R2!J26,T3_R3!J26))","v":0},{"$f":"IF(AND(COUNTRY_INFO!J26>1,COUNTRY_INFO!J26<99,COUNTRY_INFO!J26<>4,COUNTRY_INFO!J26<>5),IF(COUNTRY_INFO!N26>S26,S26,COUNTRY_INFO!N26),0)","v":0},{"$f":"IF(AND(COUNTRY_INFO!J26>1,COUNTRY_INFO!J26<99,COUNTRY_INFO!J26<>4,COUNTRY_INFO!J26<>5), IF(T26/COUNTRY_INFO!N26*100<>0, IF(T26/COUNTRY_INFO!N26*100>100,100,T26/COUNTRY_INFO!N26*100), \"-\"),0)","v":"-"},{"$f":"MAX('MDA1'!K26, 'MDA2'!K26, 'MDA5'!K26,'T1'!L26, MAX(T3_R1!K26,T3_R2!K26,T3_R3!K26))","v":58588},{"$f":"IF(AND(COUNTRY_INFO!J26>1,COUNTRY_INFO!J26<99,COUNTRY_INFO!J26<>4,COUNTRY_INFO!J26<>5),IF(COUNTRY_INFO!O26>V26,V26,COUNTRY_INFO!O26),0)","v":58588},{"$f":"IF(AND(COUNTRY_INFO!J26>1,COUNTRY_INFO!J26<99,COUNTRY_INFO!J26<>4,COUNTRY_INFO!J26<>5), IF(W26/COUNTRY_INFO!O26*100<>0, IF(W26/COUNTRY_INFO!O26*100>100,100,W26/COUNTRY_INFO!O26*100), \"-\"),0)","v":93.092873599745772},{"$f":"MAX('MDA1'!L26, 'MDA2'!L26, 'MDA5'!L26,'T1'!M26, MAX(T3_R1!L26,T3_R2!L26,T3_R3!L26))","v":0},{"$f":"IF(AND(COUNTRY_INFO!J26>1,COUNTRY_INFO!J26<99,COUNTRY_INFO!J26<>4,COUNTRY_INFO!J26<>5),IF(COUNTRY_INFO!P26>Y26,Y26,COUNTRY_INFO!P26),0)","v":0},{"$f":"IF(AND(COUNTRY_INFO!J26>1,COUNTRY_INFO!J26<99,COUNTRY_INFO!J26<>4,COUNTRY_INFO!J26<>5), IF(Z26/COUNTRY_INFO!P26*100<>0, IF(Z26/COUNTRY_INFO!P26*100>100,100,Z26/COUNTRY_INFO!P26*100), \"-\"),0)","v":{"$error":"#DIV/0!"}},58588,58588,{"$f":"IF(AND(COUNTRY_INFO!J26>1,COUNTRY_INFO!J26<99,COUNTRY_INFO!J26<>4,COUNTRY_INFO!J26<>5), IF(AC26/P26*100<>0, IF(AC26/P26*100>100,100,AC26/P26*100), \"-\"),0)","v":60.712953367875642},{"$f":"COUNTRY_INFO!U26","v":106951},null,null,{"$f":"MAX('T1'!K26,'T2'!R26)","v":0},{"$f":"IF(AND(COUNTRY_INFO!K26>1,COUNTRY_INFO!K26<99,COUNTRY_INFO!K26<>4,COUNTRY_INFO!K26<>5),IF(COUNTRY_INFO!R26>AH26,AH26,COUNTRY_INFO!R26),0)","v":0},{"$f":"IF(AND(COUNTRY_INFO!K26>1,COUNTRY_INFO!K26<99,COUNTRY_INFO!K26<>4,COUNTRY_INFO!K26<>5), IF(AI26/COUNTRY_INFO!R26*100<>0, IF(AI26/COUNTRY_INFO!R26*100>100,100,AI26/COUNTRY_INFO!R26*100), \"-\"),0)","v":{"$error":"#DIV/0!"}},{"$f":"MAX('T1'!L26,'T2'!S26)","v":42082},{"$f":"IF(AND(COUNTRY_INFO!K26>1,COUNTRY_INFO!K26<99,COUNTRY_INFO!K26<>4,COUNTRY_INFO!K26<>5),IF(COUNTRY_INFO!S26>AK26,AK26,COUNTRY_INFO!S26),0)","v":0},{"$f":"IF(AND(COUNTRY_INFO!K26>1,COUNTRY_INFO!K26<99,COUNTRY_INFO!K26<>4,COUNTRY_INFO!K26<>5), IF(AL26/COUNTRY_INFO!S26*100<>0, IF(AL26/COUNTRY_INFO!S26*100>100,100,AL26/COUNTRY_INFO!S26*100), \"-\"),0)","v":{"$error":"#DIV/0!"}},{"$f":"MAX('T1'!M26,'T2'!T26)","v":29659},{"$f":"IF(AND(COUNTRY_INFO!K26>1,COUNTRY_INFO!K26<99,COUNTRY_INFO!K26<>4,COUNTRY_INFO!K26<>5),IF(COUNTRY_INFO!T26>AN26,AN26,COUNTRY_INFO!T26),0)","v":0},{"$f":"IF(AND(COUNTRY_INFO!K26>1,COUNTRY_INFO!K26<99,COUNTRY_INFO!K26<>4,COUNTRY_INFO!K26<>5), IF(AO26/COUNTRY_INFO!T26*100<>0, IF(AO26/COUNTRY_INFO!T26*100>100,100,AO26/COUNTRY_INFO!T26*100), \"-\"),0)","v":{"$error":"#DIV/0!"}},71741,71741,67.078381688810765,null,{"$f":"IF(AND(D26<>0, D26<>\"Inconnu\",D26<>\"Interrompu\",D26<>\"Non requis\"),D26/COUNTRY_INFO!D26, 0)","v":0},{"$f":"IF(AND(J26<>0,J26<>\"Inconnu\",J26<>\"Interrompu\",J26<>\"Non requis\"),J26/COUNTRY_INFO!D26, 0)","v":0},{"$f":"IF(AND(P26<>0,P26<>\"Inconnu\",P26<>\"Surveillance\",P26<>\"Non requis\"),P26/COUNTRY_INFO!Q26, 0)","v":1},{"$f":"IF(AND(AE26<>0,AE26<>\"Inconnu\",AE26<>\"Surveillance\",AE26<>\"Non requis\"),AE26/COUNTRY_INFO!U26, 0)","v":1},{"$f":"IF(AU26>0,D26*PROFILE!$G$7,IF(AV26>0,J26*PROFILE!$G$7,0))","v":0},{"$f":"_xlfn.IFS(OR(AU26>0,AW26>0),COUNTRY_INFO!E26, AV26>0,J26*PROFILE!$G$8,AX26>0,COUNTRY_INFO!R26,COUNTIFS(AU26:AX26,\">0\")=0,0)","v":33565},{"$f":"_xlfn.IFS(OR(AU26>0,AW26>0),COUNTRY_INFO!F26, AV26>0,J26*PROFILE!$G$9,AX26>0,COUNTRY_INFO!S26,COUNTIFS(AU26:AX26,\">0\")=0,0)","v":62935},{"$f":"_xlfn.IFS(AU26>0,COUNTRY_INFO!G26, AND(AV26>0,AW26=0,AX26=0),J26*PROFILE!$G$10,AND(AV26>0,AW26>0,AX26=0), MAX(J26*PROFILE!$G$10,COUNTRY_INFO!P26),AND(AV26>0,AW26=0,AX26>0), MAX(J26*PROFILE!$G$10,COUNTRY_INFO!T26),AND(AV26=0,AW26>0,AX26>0), MAX(COUNTRY_INFO!P26,COUNTRY_INFO!T26),AND(AV26=0,AW26>0,AX26=0),COUNTRY_INFO!P26,AND(AV26=0,AW26=0,AX26>0),COUNTRY_INFO!T26,AND(AV26>0,AW26>0,AX26>0), MAX(J26*PROFILE!$G$10,COUNTRY_INFO!P26,COUNTRY_INFO!T26),COUNTIFS(AU26:AX26,\">0\")=0,0)","v":0},96500,"Y",{"$f":"MAX('MDA2'!J26,'MDA5'!J26,S26,AH26)","v":0},{"$f":"MAX('MDA1'!K26,'MDA2'!K26,'MDA3'!I26,'MDA3'!L26,'MDA5'!K26,V26,AK26)","v":58588},{"$f":"MAX('MDA1'!L26,'MDA2'!L26,'MDA3'!J26,'MDA3'!M26,'MDA5'!L26,Y26,AN26)","v":29659},88247,{"$f":"_xlfn.IFS(AND(AU26=0,AW26=0,AX26=0),0,AND(AU26=0,AW26=0,AX26>0),AI26,AND(AU26=0,AW26>0,AX26=0),T26,AND(AU26=0,AW26>0,AX26>0),MAX(T26,AI26),AND(AU26>0,AW26=0,AX26=0),MIN(MAX('MDA2'!J26,'MDA5'!J26),AZ26),AND(AU26>0,AW26=0,AX26>0),MIN(MAX('MDA2'!J26,'MDA5'!J26,AI26),AZ26),AND(AU26>0,AW26>0,AX26=0),MIN(MAX('MDA2'!J26,'MDA5'!J26,T26),AZ26),AND(AU26>0,AW26>0,AX26>0),MIN(MAX('MDA2'!J26,'MDA5'!J26,AI26,T26),AZ26))","v":0},{"$f":"_xlfn.IFS(AND(AU26=0,AV26=0,AW26=0,AX26=0),0,AND(AU26=0,AV26=0,AW26=0,AX26>0),AL26,AND(AU26=0,AV26=0,AW26>0,AX26=0),W26,AND(AU26=0,AV26=0,AW26>0,AX26>0),MAX(W26,AL26),AND(AU26=0,AV26>0,AW26=0,AX26=0),MIN(J26*PROFILE!$G$9,MAX('MDA3'!I26,'MDA3'!L26)),AND(AU26=0,AV26>0,AW26=0,AX26>0),MIN(J26*PROFILE!$G$9,MAX('MDA3'!I26,'MDA3'!L26,AL26)),AND(AU26=0,AV26>0,AW26>0,AX26=0),MIN(J26*PROFILE!$G$9,MAX('MDA3'!I26,'MDA3'!L26,W26)),AND(AU26=0,AV26>0,AW26>0,AX26>0),MIN(J26*PROFILE!$G$9,MAX('MDA3'!I26,'MDA3'!L26,W26,AL26)),AND(AU26>0,AV26=0,AW26=0,AX26=0), MIN(BA26,MAX('MDA1'!K26,'MDA2'!K26,'MDA5'!K26)),AND(AU26>0,AV26=0,AW26=0,AX26>0), MIN(BA26,MAX('MDA1'!K26,'MDA2'!K26,'MDA5'!K26,AL26)),AND(AU26>0,AV26=0,AW26>0,AX26=0),MIN(BA26,MAX('MDA1'!K26,'MDA2'!KL26,'MDA5'!K26,W26)),AND(AU26>0,AV26=0,AW26>0,AX26>0),MIN(BA26,MAX('MDA1'!K26,'MDA2'!K26,'MDA5'!K26,W26,AL26)),AND(AU26>0,AV26>0,AW26=0,AX26=0),MIN(BA26, MAX('MDA1'!K26,'MDA2'!K26, 'MDA5'!K26,MAX('MDA3'!I26,'MDA3'!L26))), AND(AU26>0,AV26>0,AW26=0,AX26>0),MIN(BA26, MAX('MDA1'!K26,'MDA2'!K26, 'MDA5'!K26,MAX('MDA3'!I26,'MDA3'!L26),AL26)), AND(AU26>0,AV26>0,AW26>0,AX26=0), MIN(BA26, MAX('MDA1'!K26,'MDA2'!K26, 'MDA5'!K26,MAX('MDA3'!I26,'MDA3'!L26),W26)), AND(AU26>0,AV26>0,AW26>0,AX26>0), MIN(BA26, MAX('MDA1'!K26,'MDA2'!K26, 'MDA5'!K26,MAX('MDA3'!I26,'MDA3'!L26),W26,AL26)))","v":58588},{"$f":"_xlfn.IFS(AND(AU26=0,AV26=0,AW26=0,AX26=0),0,AND(AU26=0,AV26=0,AW26=0,AX26>0),AO26,AND(AU26=0,AV26=0,AW26>0,AX26=0),Z26,AND(AU26=0,AV26=0,AW26>0,AX26>0),MAX(Z26,AO26),AND(AU26=0,AV26>0,AW26=0,AX26=0),MIN(J26*PROFILE!$G$10,MAX('MDA3'!J26,'MDA3'!J26)),AND(AU26=0,AV26>0,AW26=0,AX26>0),MIN(J26*PROFILE!$G$10,MAX('MDA3'!J26,'MDA3'!M26,AO26)),AND(AU26=0,AV26>0,AW26>0,AX26=0),MIN(J26*PROFILE!$G$10,MAX('MDA3'!J26,'MDA3'!M26,Z26)),AND(AU26=0,AV26>0,AW26>0,AX26>0),MIN(J26*PROFILE!$G$10,MAX('MDA3'!J26,'MDA3'!M26,Z26,AO26)),AND(AU26>0,AV26=0,AW26=0,AX26=0), MIN(BB26,MAX('MDA1'!L26,'MDA2'!L26,'MDA5'!L26)),AND(AU26>0,AV26=0,AW26=0,AX26>0), MIN(BB26,MAX('MDA1'!L26,'MDA2'!L26,'MDA5'!L26,AO26)),AND(AU26>0,AV26=0,AW26>0,AX26=0),MIN(BB26,MAX('MDA1'!L26,'MDA2'!L26,'MDA5'!L26,Z26)),AND(AU26>0,AV26=0,AW26>0,AX26>0),MIN(BB26,MAX('MDA1'!L26,'MDA2'!L26,'MDA5'!L26,Z26,AO26)),AND(AU26>0,AV26>0,AW26=0,AX26=0),MIN(BB26, MAX('MDA1'!L26,'MDA2'!L26, 'MDA5'!L26,MAX('MDA3'!J26,'MDA3'!M26))), AND(AU26>0,AV26>0,AW26=0,AX26>0),MIN(BB26, MAX('MDA1'!L26,'MDA2'!L26, 'MDA5'!L26,MAX('MDA3'!J26,'MDA3'!M26),AO26)), AND(AU26>0,AV26>0,AW26>0,AX26=0), MIN(BB26, MAX('MDA1'!L26,'MDA2'!L26, 'MDA5'!L26,MAX('MDA3'!J26,'MDA3'!M26),Z26)), AND(AU26>0,AV26>0,AW26>0,AX26>0), MIN(BB26, MAX('MDA1'!L26,'MDA2'!L26, 'MDA5'!L26,MAX('MDA3'!J26,'MDA3'!M26),Z26,AO26)))","v":0},58588,60.712953367875642]
[{"$f":"IF(COUNTRY_INFO!A27=0,\" \",COUNTRY_INFO!A27)","v":"Togo"},{"$f":"IF(COUNTRY_INFO!B27=0,\" \",COUNTRY_INFO!B27)","v":"MARITIME"},{"$f":"IF(COUNTRY_INFO!C27=0,\" \",COUNTRY_INFO!C27)","v":"VO"},{"$f":"COUNTRY_INFO!L27","v":"Non requis"},null,null,{"$f":"MAX('MDA1'!M27,'MDA2'!M27,'MDA5'!M27)","v":0},{"$f":"IF(AND(COUNTRY_INFO!H27>0,COUNTRY_INFO!H27<4),IF(D27>G27,G27,D27),0)","v":0},{"$f":"IF(AND(COUNTRY_INFO!H27>0,COUNTRY_INFO!H27<4), IF(G27/D27*100<>0, IF(G27/D27*100>100,100,G27/D27*100), \"-\"),0)","v":0},{"$f":"COUNTRY_INFO!M27","v":0},"-","-",{"$f":"MAX('MDA1'!M27,MAX('MDA3'!I27,'MDA3'!L27)+MAX('MDA3'!J27,'MDA3'!M27))","v":0},{"$f":"IF(AND(COUNTRY_INFO!I27>0,COUNTRY_INFO!I27<4),IF(J27>M27,M27,J27),0)","v":0},{"$f":"IF(AND(COUNTRY_INFO!I27>0,COUNTRY_INFO!I27<4), IF(M27/J27*100<>0, IF(M27/J27*100>100,100,M27/J27*100), \"-\"),0)","v":0},{"$f":"COUNTRY_INFO!Q27","v":107531},32093,32774,{"$f":"MAX('MDA2'!J27,'MDA5'!J27,'T1'!K27, MAX(T3_R1!J27,T3_R2!J27,T3_R3!J27))","v":0},{"$f":"IF(AND(COUNTRY_INFO!J27>1,COUNTRY_INFO!J27<99,COUNTRY_INFO!J27<>4,COUNTRY_INFO!J27<>5),IF(COUNTRY_INFO!N27>S27,S27,COUNTRY_INFO!N27),0)","v":0},{"$f":"IF(AND(COUNTRY_INFO!J27>1,COUNTRY_INFO!J27<99,COUNTRY_INFO!J27<>4,COUNTRY_INFO!J27<>5), IF(T27/COUNTRY_INFO!N27*100<>0, IF(T27/COUNTRY_INFO!N27*100>100,100,T27/COUNTRY_INFO!N27*100), \"-\"),0)","v":"-"},{"$f":"MAX('MDA1'!K27, 'MDA2'!K27, 'MDA5'!K27,'T1'!L27, MAX(T3_R1!K27,T3_R2!K27,T3_R3!K27))","v":64867},{"$f":"IF(AND(COUNTRY_INFO!J27>1,COUNTRY_INFO!J27<99,COUNTRY_INFO!J27<>4,COUNTRY_INFO!J27<>5),IF(COUNTRY_INFO!O27>V27,V27,COUNTRY_INFO!O27),0)","v":64867},{"$f":"IF(AND(COUNTRY_INFO!J27>1,COUNTRY_INFO!J27<99,COUNTRY_INFO!J27<>4,COUNTRY_INFO!J27<>5), IF(W27/COUNTRY_INFO!O27*100<>0, IF(W27/COUNTRY_INFO!O27*100>100,100,W27/COUNTRY_INFO!O27*100), \"-\"),0)","v":92.496684681087714},{"$f":"MAX('MDA1'!L27, 'MDA2'!L27, 'MDA5'!L27,'T1'!M27, MAX(T3_R1!L27,T3_R2!L27,T3_R3!L27))","v":0},{"$f":"IF(AND(COUNTRY_INFO!J27>1,COUNTRY_INFO!J27<99,COUNTRY_INFO!J27<>4,COUNTRY_INFO!J27<>5),IF(COUNTRY_INFO!P27>Y27,Y27,COUNTRY_INFO!P27),0)","v":0},{"$f":"IF(AND(COUNTRY_INFO!J27>1,COUNTRY_INFO!J27<99,COUNTRY_INFO!J27<>4,COUNTRY_INFO!J27<>5), IF(Z27/COUNTRY_INFO!P27*100<>0, IF(Z27/COUNTRY_INFO!P27*100>100,100,Z27/COUNTRY_INFO!P27*100), \"-\"),0)","v":{"$error":"#DIV/0!"}},64867,64867,{"$f":"IF(AND(COUNTRY_INFO!J27>1,COUNTRY_INFO!J27<99,COUNTRY_INFO!J27<>4,COUNTRY_INFO!J27<>5), IF(AC27/P27*100<>0, IF(AC27/P27*100>100,100,AC27/P27*100), \"-\"),0)","v":60.323999590815667},{"$f":"COUNTRY_INFO!U27","v":115398},null,null,{"$f":"MAX('T1'!K27,'T2'!R27)","v":0},{"$f":"IF(AND(COUNTRY_INFO!K27>1,COUNTRY_INFO!K27<99,COUNTRY_INFO!K27<>4,COUNTRY_INFO!K27<>5),IF(COUNTRY_INFO!R27>AH27,AH27,COUNTRY_INFO!R27),0)","v":0},{"$f":"IF(AND(COUNTRY_INFO!K27>1,COUNTRY_INFO!K27<99,COUNTRY_INFO!K27<>4,COUNTRY_INFO!K27<>5), IF(AI27/COUNTRY_INFO!R27*100<>0, IF(AI27/COUNTRY_INFO!R27*100>100,100,AI27/COUNTRY_INFO!R27*100), \"-\"),0)","v":{"$error":"#DIV/0!"}},{"$f":"MAX('T1'!L27,'T2'!S27)","v":52135},{"$f":"IF(AND(COUNTRY_INFO!K27>1,COUNTRY_INFO!K27<99,COUNTRY_INFO!K27<>4,COUNTRY_INFO!K27<>5),IF(COUNTRY_INFO!S27>AK27,AK27,COUNTRY_INFO!S27),0)","v":0},{"$f":"IF(AND(COUNTRY_INFO!K27>1,COUNTRY_INFO!K27<99,COUNTRY_INFO!K27<>4,COUNTRY_INFO!K27<>5), IF(AL27/COUNTRY_INFO!S27*100<>0, IF(AL27/COUNTRY_INFO!S27*100>100,100,AL27/COUNTRY_INFO!S27*100), \"-\"),0)","v":{"$error":"#DIV/0!"}},{"$f":"MAX('T1'!M27,'T2'!T27)","v":28563},{"$f":"IF(AND(COUNTRY_INFO!K27>1,COUNTRY_INFO!K27<99,COUNTRY_INFO!K27<>4,COUNTRY_INFO!K27<>5),IF(COUNTRY_INFO!T27>AN27,AN27,COUNTRY_INFO!T27),0)","v":0},{"$f":"IF(AND(COUNTRY_INFO!K27>1,COUNTRY_INFO!K27<99,COUNTRY_INFO!K27<>4,COUNTRY_INFO!K27<>5), IF(AO27/COUNTRY_INFO!T27*100<>0, IF(AO27/COUNTRY_INFO!T27*100>100,100,AO27/COUNTRY_INFO!T27*100), \"-\"),0)","v":{"$error":"#DIV/0!"}},80698,80698,69.930154768713493,null,{"$f":"IF(AND(D27<>0, D27<>\"Inconnu\",D27<>\"Interrompu\",D27<>\"Non requis\"),D27/COUNTRY_INFO!D27, 0)","v":0},{"$f":"IF(AND(J27<>0,J27<>\"Inconnu\",J27<>\"Interrompu\",J27<>\"Non requis\"),J27/COUNTRY_INFO!D27, 0)","v":0},{"$f":"IF(AND(P27<>0,P27<>\"Inconnu\",P27<>\"Surveillance\",P27<>\"Non requis\"),P27/COUNTRY_INFO!Q27, 0)","v":1},{"$f":"IF(AND(AE27<>0,AE27<>\"Inconnu\",AE27<>\"Surveillance\",AE27<>\"Non requis\"),AE27/COUNTRY_INFO!U27, 0)","v":1},{"$f":"IF(AU27>0,D27*PROFILE!$G$7,IF(AV27>0,J27*PROFILE!$G$7,0))","v":0},{"$f":"_xlfn.IFS(OR(AU27>0,AW27>0),COUNTRY_INFO!E27, AV27>0,J27*PROFILE!$G$8,AX27>0,COUNTRY_INFO!R27,COUNTIFS(AU27:AX27,\">0\")=0,0)","v":37402},{"$f":"_xlfn.IFS(OR(AU27>0,AW27>0),COUNTRY_INFO!F27, AV27>0,J27*PROFILE!$G$9,AX27>0,COUNTRY_INFO!S27,COUNTIFS(AU27:AX27,\">0\")=0,0)","v":70129},{"$f":"_xlfn.IFS(AU27>0,COUNTRY_INFO!G27, AND(AV27>0,AW27=0,AX27=0),J27*PROFILE!$G$10,AND(AV27>0,AW27>0,AX27=0), MAX(J27*PROFILE!$G$10,COUNTRY_INFO!P27),AND(AV27>0,AW27=0,AX27>0), MAX(J27*PROFILE!$G$10,COUNTRY_INFO!T27),AND(AV27=0,AW27>0,AX27>0), MAX(COUNTRY_INFO!P27,COUNTRY_INFO!T27),AND(AV27=0,AW27>0,AX27=0),COUNTRY_INFO!P27,AND(AV27=0,AW27=0,AX27>0),COUNTRY_INFO!T27,AND(AV27>0,AW27>0,AX27>0), MAX(J27*PROFILE!$G$10,COUNTRY_INFO!P27,COUNTRY_INFO!T27),COUNTIFS(AU27:AX27,\">0\")=0,0)","v":0},107531,"Y",{"$f":"MAX('MDA2'!J27,'MDA5'!J27,S27,AH27)","v":0},{"$f":"MAX('MDA1'!K27,'MDA2'!K27,'MDA3'!I27,'MDA3'!L27,'MDA5'!K27,V27,AK27)","v":64867},{"$f":"MAX('MDA1'!L27,'MDA2'!L27,'MDA3'!J27,'MDA3'!M27,'MDA5'!L27,Y27,AN27)","v":28563},93430,{"$f":"_xlfn.IFS(AND(AU27=0,AW27=0,AX27=0),0,AND(AU27=0,AW27=0,AX27>0),AI27,AND(AU27=0,AW27>0,AX27=0),T27,AND(AU27=0,AW27>0,AX27>0),MAX(T27,AI27),AND(AU27>0,AW27=0,AX27=0),MIN(MAX('MDA2'!J27,'MDA5'!J27),AZ27),AND(AU27>0,AW27=0,AX27>0),MIN(MAX('MDA2'!J27,'MDA5'!J27,AI27),AZ27),AND(AU27>0,AW27>0,AX27=0),MIN(MAX('MDA2'!J27,'MDA5'!J27,T27),AZ27),AND(AU27>0,AW27>0,AX27>0),MIN(MAX('MDA2'!J27,'MDA5'!J27,AI27,T27),AZ27))","v":0},{"$f":"_xlfn.IFS(AND(AU27=0,AV27=0,AW27=0,AX27=0),0,AND(AU27=0,AV27=0,AW27=0,AX27>0),AL27,AND(AU27=0,AV27=0,AW27>0,AX27=0),W27,AND(AU27=0,AV27=0,AW27>0,AX27>0),MAX(W27,AL27),AND(AU27=0,AV27>0,AW27=0,AX27=0),MIN(J27*PROFILE!$G$9,MAX('MDA3'!I27,'MDA3'!L27)),AND(AU27=0,AV27>0,AW27=0,AX27>0),MIN(J27*PROFILE!$G$9,MAX('MDA3'!I27,'MDA3'!L27,AL27)),AND(AU27=0,AV27>0,AW27>0,AX27=0),MIN(J27*PROFILE!$G$9,MAX('MDA3'!I27,'MDA3'!L27,W27)),AND(AU27=0,AV27>0,AW27>0,AX27>0),MIN(J27*PROFILE!$G$9,MAX('MDA3'!I27,'MDA3'!L27,W27,AL27)),AND(AU27>0,AV27=0,AW27=0,AX27=0), MIN(BA27,MAX('MDA1'!K27,'MDA2'!K27,'MDA5'!K27)),AND(AU27>0,AV27=0,AW27=0,AX27>0), MIN(BA27,MAX('MDA1'!K27,'MDA2'!K27,'MDA5'!K27,AL27)),AND(AU27>0,AV27=0,AW27>0,AX27=0),MIN(BA27,MAX('MDA1'!K27,'MDA2'!KL27,'MDA5'!K27,W27)),AND(AU27>0,AV27=0,AW27>0,AX27>0),MIN(BA27,MAX('MDA1'!K27,'MDA2'!K27,'MDA5'!K27,W27,AL27)),AND(AU27>0,AV27>0,AW27=0,AX27=0),MIN(BA27, MAX('MDA1'!K27,'MDA2'!K27, 'MDA5'!K27,MAX('MDA3'!I27,'MDA3'!L27))), AND(AU27>0,AV27>0,AW27=0,AX27>0),MIN(BA27, MAX('MDA1'!K27,'MDA2'!K27, 'MDA5'!K27,MAX('MDA3'!I27,'MDA3'!L27),AL27)), AND(AU27>0,AV27>0,AW27>0,AX27=0), MIN(BA27, MAX('MDA1'!K27,'MDA2'!K27, 'MDA5'!K27,MAX('MDA3'!I27,'MDA3'!L27),W27)), AND(AU27>0,AV27>0,AW27>0,AX27>0), MIN(BA27, MAX('MDA1'!K27,'MDA2'!K27, 'MDA5'!K27,MAX('MDA3'!I27,'MDA3'!L27),W27,AL27)))","v":64867},{"$f":"_xlfn.IFS(AND(AU27=0,AV27=0,AW27=0,AX27=0),0,AND(AU27=0,AV27=0,AW27=0,AX27>0),AO27,AND(AU27=0,AV27=0,AW27>0,AX27=0),Z27,AND(AU27=0,AV27=0,AW27>0,AX27>0),MAX(Z27,AO27),AND(AU27=0,AV27>0,AW27=0,AX27=0),MIN(J27*PROFILE!$G$10,MAX('MDA3'!J27,'MDA3'!J27)),AND(AU27=0,AV27>0,AW27=0,AX27>0),MIN(J27*PROFILE!$G$10,MAX('MDA3'!J27,'MDA3'!M27,AO27)),AND(AU27=0,AV27>0,AW27>0,AX27=0),MIN(J27*PROFILE!$G$10,MAX('MDA3'!J27,'MDA3'!M27,Z27)),AND(AU27=0,AV27>0,AW27>0,AX27>0),MIN(J27*PROFILE!$G$10,MAX('MDA3'!J27,'MDA3'!M27,Z27,AO27)),AND(AU27>0,AV27=0,AW27=0,AX27=0), MIN(BB27,MAX('MDA1'!L27,'MDA2'!L27,'MDA5'!L27)),AND(AU27>0,AV27=0,AW27=0,AX27>0), MIN(BB27,MAX('MDA1'!L27,'MDA2'!L27,'MDA5'!L27,AO27)),AND(AU27>0,AV27=0,AW27>0,AX27=0),MIN(BB27,MAX('MDA1'!L27,'MDA2'!L27,'MDA5'!L27,Z27)),AND(AU27>0,AV27=0,AW27>0,AX27>0),MIN(BB27,MAX('MDA1'!L27,'MDA2'!L27,'MDA5'!L27,Z27,AO27)),AND(AU27>0,AV27>0,AW27=0,AX27=0),MIN(BB27, MAX('MDA1'!L27,'MDA2'!L27, 'MDA5'!L27,MAX('MDA3'!J27,'MDA3'!M27))), AND(AU27>0,AV27>0,AW27=0,AX27>0),MIN(BB27, MAX('MDA1'!L27,'MDA2'!L27, 'MDA5'!L27,MAX('MDA3'!J27,'MDA3'!M27),AO27)), AND(AU27>0,AV27>0,AW27>0,AX27=0), MIN(BB27, MAX('MDA1'!L27,'MDA2'!L27, 'MDA5'!L27,MAX('MDA3'!J27,'MDA3'!M27),Z27)), AND(AU27>0,AV27>0,AW27>0,AX27>0), MIN(BB27, MAX('MDA1'!L27,'MDA2'!L27, 'MDA5'!L27,MAX('MDA3'!J27,'MDA3'!M27),Z27,AO27)))","v":0},64867,60.323999590815667]
[{"$f":"IF(COUNTRY_INFO!A28=0,\" \",COUNTRY_INFO!A28)","v":"Togo"},{"$f":"IF(COUNTRY_INFO!B28=0,\" \",COUNTRY_INFO!B28)","v":"MARITIME"},{"$f":"IF(COUNTRY_INFO!C28=0,\" \",COUNTRY_INFO!C28)","v":"YOTO"},{"$f":"COUNTRY_INFO!L28","v":"Non requis"},null,null,{"$f":"MAX('MDA1'!M28,'MDA2'!M28,'MDA5'!M28)","v":0},{"$f":"IF(AND(COUNTRY_INFO!H28>0,COUNTRY_INFO!H28<4),IF(D28>G28,G28,D28),0)","v":0},{"$f":"IF(AND(COUNTRY_INFO!H28>0,COUNTRY_INFO!H28<4), IF(G28/D28*100<>0, IF(G28/D28*100>100,100,G28/D28*100), \"-\"),0)","v":0},{"$f":"COUNTRY_INFO!M28","v":171786.73774409213},68647,70846,{"$f":"MAX('MDA1'!M28,MAX('MDA3'!I28,'MDA3'!L28)+MAX('MDA3'!J28,'MDA3'!M28))","v":139493},{"$f":"IF(AND(COUNTRY_INFO!I28>0,COUNTRY_INFO!I28<4),IF(J28>M28,M28,J28),0)","v":139493},{"$f":"IF(AND(COUNTRY_INFO!I28>0,COUNTRY_INFO!I28<4), IF(M28/J28*100<>0, IF(M28/J28*100>100,100,M28/J28*100), \"-\"),0)","v":81.201262583960599},{"$f":"COUNTRY_INFO!Q28","v":128884},42364,42950,{"$f":"MAX('MDA2'!J28,'MDA5'!J28,'T1'!K28, MAX(T3_R1!J28,T3_R2!J28,T3_R3!J28))","v":0},{"$f":"IF(AND(COUNTRY_INFO!J28>1,COUNTRY_INFO!J28<99,COUNTRY_INFO!J28<>4,COUNTRY_INFO!J28<>5),IF(COUNTRY_INFO!N28>S28,S28,COUNTRY_INFO!N28),0)","v":0},{"$f":"IF(AND(COUNTRY_INFO!J28>1,COUNTRY_INFO!J28<99,COUNTRY_INFO!J28<>4,COUNTRY_INFO!J28<>5), IF(T28/COUNTRY_INFO!N28*100<>0, IF(T28/COUNTRY_INFO!N28*100>100,100,T28/COUNTRY_INFO!N28*100), \"-\"),0)","v":"-"},{"$f":"MAX('MDA1'!K28, 'MDA2'!K28, 'MDA5'!K28,'T1'!L28, MAX(T3_R1!K28,T3_R2!K28,T3_R3!K28))","v":85585},{"$f":"IF(AND(COUNTRY_INFO!J28>1,COUNTRY_INFO!J28<99,COUNTRY_INFO!J28<>4,COUNTRY_INFO!J28<>5),IF(COUNTRY_INFO!O28>V28,V28,COUNTRY_INFO!O28),0)","v":84055},{"$f":"IF(AND(COUNTRY_INFO!J28>1,COUNTRY_INFO!J28<99,COUNTRY_INFO!J28<>4,COUNTRY_INFO!J28<>5), IF(W28/COUNTRY_INFO!O28*100<>0, IF(W28/COUNTRY_INFO!O28*100>100,100,W28/COUNTRY_INFO!O28*100), \"-\"),0)","v":100},{"$f":"MAX('MDA1'!L28, 'MDA2'!L28, 'MDA5'!L28,'T1'!M28, MAX(T3_R1!L28,T3_R2!L28,T3_R3!L28))","v":0},{"$f":"IF(AND(COUNTRY_INFO!J28>1,COUNTRY_INFO!J28<99,COUNTRY_INFO!J28<>4,COUNTRY_INFO!J28<>5),IF(COUNTRY_INFO!P28>Y28,Y28,COUNTRY_INFO!P28),0)","v":0},{"$f":"IF(AND(COUNTRY_INFO!J28>1,COUNTRY_INFO!J28<99,COUNTRY_INFO!J28<>4,COUNTRY_INFO!J28<>5), IF(Z28/COUNTRY_INFO!P28*100<>0, IF(Z28/COUNTRY_INFO!P28*100>100,100,Z28/COUNTRY_INFO!P28*100), \"-\"),0)","v":{"$error":"#DIV/0!"}},85585,84055,{"$f":"IF(AND(COUNTRY_INFO!J28>1,COUNTRY_INFO!J28<99,COUNTRY_INFO!J28<>4,COUNTRY_INFO!J28<>5), IF(AC28/P28*100<>0, IF(AC28/P28*100>100,100,AC28/P28*100), \"-\"),0)","v":65.2175599764129},{"$f":"COUNTRY_INFO!U28","v":156246},null,null,{"$f":"MAX('T1'!K28,'T2'!R28)","v":0},{"$f":"IF(AND(COUNTRY_INFO!K28>1,COUNTRY_INFO!K28<99,COUNTRY_INFO!K28<>4,COUNTRY_INFO!K28<>5),IF(COUNTRY_INFO!R28>AH28,AH28,COUNTRY_INFO!R28),0)","v":0},{"$f":"IF(AND(COUNTRY_INFO!K28>1,COUNTRY_INFO!K28<99,COUNTRY_INFO!K28<>4,COUNTRY_INFO!K28<>5), IF(AI28/COUNTRY_INFO!R28*100<>0, IF(AI28/COUNTRY_INFO!R28*100>100,100,AI28/COUNTRY_INFO!R28*100), \"-\"),0)","v":{"$error":"#DIV/0!"}},{"$f":"MAX('T1'!L28,'T2'!S28)","v":65911},{"$f":"IF(AND(COUNTRY_INFO!K28>1,COUNTRY_INFO!K28<99,COUNTRY_INFO!K28<>4,COUNTRY_INFO!K28<>5),IF(COUNTRY_INFO!S28>AK28,AK28,COUNTRY_INFO!S28),0)","v":0},{"$f":"IF(AND(COUNTRY_INFO!K28>1,COUNTRY_INFO!K28<99,COUNTRY_INFO!K28<>4,COUNTRY_INFO!K28<>5), IF(AL28/COUNTRY_INFO!S28*100<>0, IF(AL28/COUNTRY_INFO!S28*100>100,100,AL28/COUNTRY_INFO!S28*100), \"-\"),0)","v":{"$error":"#DIV/0!"}},{"$f":"MAX('T1'!M28,'T2'!T28)","v":849},{"$f":"IF(AND(COUNTRY_INFO!K28>1,COUNTRY_INFO!K28<99,COUNTRY_INFO!K28<>4,COUNTRY_INFO!K28<>5),IF(COUNTRY_INFO!T28>AN28,AN28,COUNTRY_INFO!T28),0)","v":0},{"$f":"IF(AND(COUNTRY_INFO!K28>1,COUNTRY_INFO!K28<99,COUNTRY_INFO!K28<>4,COUNTRY_INFO!K28<>5), IF(AO28/COUNTRY_INFO!T28*100<>0, IF(AO28/COUNTRY_INFO!T28*100>100,100,AO28/COUNTRY_INFO!T28*100), \"-\"),0)","v":{"$error":"#DIV/0!"}},66760,66760,42.72749382384189,null,{"$f":"IF(AND(D28<>0, D28<>\"Inconnu\",D28<>\"Interrompu\",D28<>\"Non requis\"),D28/COUNTRY_INFO!D28, 0)","v":0},{"$f":"IF(AND(J28<>0,J28<>\"Inconnu\",J28<>\"Interrompu\",J28<>\"Non requis\"),J28/COUNTRY_INFO!D28, 0)","v":0.61312232285270973},{"$f":"IF(AND(P28<>0,P28<>\"Inconnu\",P28<>\"Surveillance\",P28<>\"Non requis\"),P28/COUNTRY_INFO!Q28, 0)","v":1},{"$f":"IF(AND(AE28<>0,AE28<>\"Inconnu\",AE28<>\"Surveillance\",AE28<>\"Non requis\"),AE28/COUNTRY_INFO!U28, 0)","v":1},{"$f":"IF(AU28>0,D28*PROFILE!$G$7,IF(AV28>0,J28*PROFILE!$G$7,0))","v":6871.4869987484381},{"$f":"_xlfn.IFS(OR(AU28>0,AW28>0),COUNTRY_INFO!E28, AV28>0,J28*PROFILE!$G$8,AX28>0,COUNTRY_INFO!R28,COUNTIFS(AU28:AX28,\">0\")=0,0)","v":44829},{"$f":"_xlfn.IFS(OR(AU28>0,AW28>0),COUNTRY_INFO!F28, AV28>0,J28*PROFILE!$G$9,AX28>0,COUNTRY_INFO!S28,COUNTIFS(AU28:AX28,\">0\")=0,0)","v":84055},{"$f":"_xlfn.IFS(AU28>0,COUNTRY_INFO!G28, AND(AV28>0,AW28=0,AX28=0),J28*PROFILE!$G$10,AND(AV28>0,AW28>0,AX28=0), MAX(J28*PROFILE!$G$10,COUNTRY_INFO!P28),AND(AV28>0,AW28=0,AX28>0), MAX(J28*PROFILE!$G$10,COUNTRY_INFO!T28),AND(AV28=0,AW28>0,AX28>0), MAX(COUNTRY_INFO!P28,COUNTRY_INFO!T28),AND(AV28=0,AW28>0,AX28=0),COUNTRY_INFO!P28,AND(AV28=0,AW28=0,AX28>0),COUNTRY_INFO!T28,AND(AV28>0,AW28>0,AX28>0), MAX(J28*PROFILE!$G$10,COUNTRY_INFO!P28,COUNTRY_INFO!T28),COUNTIFS(AU28:AX28,\">0\")=0,0)","v":85893.402310684527},221648.88930943297,"Y",{"$f":"MAX('MDA2'!J28,'MDA5'!J28,S28,AH28)","v":0},{"$f":"MAX('MDA1'!K28,'MDA2'!K28,'MDA3'!I28,'MDA3'!L28,'MDA5'!K28,V28,AK28)","v":85585},{"$f":"MAX('MDA1'!L28,'MDA2'!L28,'MDA3'!J28,'MDA3'!M28,'MDA5'!L28,Y28,AN28)","v":84183},169768,{"$f":"_xlfn.IFS(AND(AU28=0,AW28=0,AX28=0),0,AND(AU28=0,AW28=0,AX28>0),AI28,AND(AU28=0,AW28>0,AX28=0),T28,AND(AU28=0,AW28>0,AX28>0),MAX(T28,AI28),AND(AU28>0,AW28=0,AX28=0),MIN(MAX('MDA2'!J28,'MDA5'!J28),AZ28),AND(AU28>0,AW28=0,AX28>0),MIN(MAX('MDA2'!J28,'MDA5'!J28,AI28),AZ28),AND(AU28>0,AW28>0,AX28=0),MIN(MAX('MDA2'!J28,'MDA5'!J28,T28),AZ28),AND(AU28>0,AW28>0,AX28>0),MIN(MAX('MDA2'!J28,'MDA5'!J28,AI28,T28),AZ28))","v":0},{"$f":"_xlfn.IFS(AND(AU28=0,AV28=0,AW28=0,AX28=0),0,AND(AU28=0,AV28=0,AW28=0,AX28>0),AL28,AND(AU28=0,AV28=0,AW28>0,AX28=0),W28,AND(AU28=0,AV28=0,AW28>0,AX28>0),MAX(W28,AL28),AND(AU28=0,AV28>0,AW28=0,AX28=0),MIN(J28*PROFILE!$G$9,MAX('MDA3'!I28,'MDA3'!L28)),AND(AU28=0,AV28>0,AW28=0,AX28>0),MIN(J28*PROFILE!$G$9,MAX('MDA3'!I28,'MDA3'!L28,AL28)),AND(AU28=0,AV28>0,AW28>0,AX28=0),MIN(J28*PROFILE!$G$9,MAX('MDA3'!I28,'MDA3'!L28,W28)),AND(AU28=0,AV28>0,AW28>0,AX28>0),MIN(J28*PROFILE!$G$9,MAX('MDA3'!I28,'MDA3'!L28,W28,AL28)),AND(AU28>0,AV28=0,AW28=0,AX28=0), MIN(BA28,MAX('MDA1'!K28,'MDA2'!K28,'MDA5'!K28)),AND(AU28>0,AV28=0,AW28=0,AX28>0), MIN(BA28,MAX('MDA1'!K28,'MDA2'!K28,'MDA5'!K28,AL28)),AND(AU28>0,AV28=0,AW28>0,AX28=0),MIN(BA28,MAX('MDA1'!K28,'MDA2'!KL28,'MDA5'!K28,W28)),AND(AU28>0,AV28=0,AW28>0,AX28>0),MIN(BA28,MAX('MDA1'!K28,'MDA2'!K28,'MDA5'!K28,W28,AL28)),AND(AU28>0,AV28>0,AW28=0,AX28=0),MIN(BA28, MAX('MDA1'!K28,'MDA2'!K28, 'MDA5'!K28,MAX('MDA3'!I28,'MDA3'!L28))), AND(AU28>0,AV28>0,AW28=0,AX28>0),MIN(BA28, MAX('MDA1'!K28,'MDA2'!K28, 'MDA5'!K28,MAX('MDA3'!I28,'MDA3'!L28),AL28)), AND(AU28>0,AV28>0,AW28>0,AX28=0), MIN(BA28, MAX('MDA1'!K28,'MDA2'!K28, 'MDA5'!K28,MAX('MDA3'!I28,'MDA3'!L28),W28)), AND(AU28>0,AV28>0,AW28>0,AX28>0), MIN(BA28, MAX('MDA1'!K28,'MDA2'!K28, 'MDA5'!K28,MAX('MDA3'!I28,'MDA3'!L28),W28,AL28)))","v":51535.990855789729},{"$f":"_xlfn.IFS(AND(AU28=0,AV28=0,AW28=0,AX28=0),0,AND(AU28=0,AV28=0,AW28=0,AX28>0),AO28,AND(AU28=0,AV28=0,AW28>0,AX28=0),Z28,AND(AU28=0,AV28=0,AW28>0,AX28>0),MAX(Z28,AO28),AND(AU28=0,AV28>0,AW28=0,AX28=0),MIN(J28*PROFILE!$G$10,MAX('MDA3'!J28,'MDA3'!J28)),AND(AU28=0,AV28>0,AW28=0,AX28>0),MIN(J28*PROFILE!$G$10,MAX('MDA3'!J28,'MDA3'!M28,AO28)),AND(AU28=0,AV28>0,AW28>0,AX28=0),MIN(J28*PROFILE!$G$10,MAX('MDA3'!J28,'MDA3'!M28,Z28)),AND(AU28=0,AV28>0,AW28>0,AX28>0),MIN(J28*PROFILE!$G$10,MAX('MDA3'!J28,'MDA3'!M28,Z28,AO28)),AND(AU28>0,AV28=0,AW28=0,AX28=0), MIN(BB28,MAX('MDA1'!L28,'MDA2'!L28,'MDA5'!L28)),AND(AU28>0,AV28=0,AW28=0,AX28>0), MIN(BB28,MAX('MDA1'!L28,'MDA2'!L28,'MDA5'!L28,AO28)),AND(AU28>0,AV28=0,AW28>0,AX28=0),MIN(BB28,MAX('MDA1'!L28,'MDA2'!L28,'MDA5'!L28,Z28)),AND(AU28>0,AV28=0,AW28>0,AX28>0),MIN(BB28,MAX('MDA1'!L28,'MDA2'!L28,'MDA5'!L28,Z28,AO28)),AND(AU28>0,AV28>0,AW28=0,AX28=0),MIN(BB28, MAX('MDA1'!L28,'MDA2'!L28, 'MDA5'!L28,MAX('MDA3'!J28,'MDA3'!M28))), AND(AU28>0,AV28>0,AW28=0,AX28>0),MIN(BB28, MAX('MDA1'!L28,'MDA2'!L28, 'MDA5'!L28,MAX('MDA3'!J28,'MDA3'!M28),AO28)), AND(AU28>0,AV28>0,AW28>0,AX28=0), MIN(BB28, MAX('MDA1'!L28,'MDA2'!L28, 'MDA5'!L28,MAX('MDA3'!J28,'MDA3'!M28),Z28)), AND(AU28>0,AV28>0,AW28>0,AX28>0), MIN(BB28, MAX('MDA1'!L28,'MDA2'!L28, 'MDA5'!L28,MAX('MDA3'!J28,'MDA3'!M28),Z28,AO28)))","v":84183},135718.99085578974,61.231523098822848]
[{"$f":"IF(COUNTRY_INFO!A29=0,\" \",COUNTRY_INFO!A29)","v":"Togo"},{"$f":"IF(COUNTRY_INFO!B29=0,\" \",COUNTRY_INFO!B29)","v":"MARITIME"},{"$f":"IF(COUNTRY_INFO!C29=0,\" \",COUNTRY_INFO!C29)","v":"ZIO"},{"$f":"COUNTRY_INFO!L29","v":"Non requis"},null,null,{"$f":"MAX('MDA1'!M29,'MDA2'!M29,'MDA5'!M29)","v":0},{"$f":"IF(AND(COUNTRY_INFO!H29>0,COUNTRY_INFO!H29<4),IF(D29>G29,G29,D29),0)","v":0},{"$f":"IF(AND(COUNTRY_INFO!H29>0,COUNTRY_INFO!H29<4), IF(G29/D29*100<>0, IF(G29/D29*100>100,100,G29/D29*100), \"-\"),0)","v":0},{"$f":"COUNTRY_INFO!M29","v":281365.89402957255},115261,131041,{"$f":"MAX('MDA1'!M29,MAX('MDA3'!I29,'MDA3'!L29)+MAX('MDA3'!J29,'MDA3'!M29))","v":246302},{"$f":"IF(AND(COUNTRY_INFO!I29>0,COUNTRY_INFO!I29<4),IF(J29>M29,M29,J29),0)","v":246302},{"$f":"IF(AND(COUNTRY_INFO!I29>0,COUNTRY_INFO!I29<4), IF(M29/J29*100<>0, IF(M29/J29*100>100,100,M29/J29*100), \"-\"),0)","v":87.537972876738507},{"$f":"COUNTRY_INFO!Q29","v":222200},66955,68181,{"$f":"MAX('MDA2'!J29,'MDA5'!J29,'T1'!K29, MAX(T3_R1!J29,T3_R2!J29,T3_R3!J29))","v":0},{"$f":"IF(AND(COUNTRY_INFO!J29>1,COUNTRY_INFO!J29<99,COUNTRY_INFO!J29<>4,COUNTRY_INFO!J29<>5),IF(COUNTRY_INFO!N29>S29,S29,COUNTRY_INFO!N29),0)","v":0},{"$f":"IF(AND(COUNTRY_INFO!J29>1,COUNTRY_INFO!J29<99,COUNTRY_INFO!J29<>4,COUNTRY_INFO!J29<>5), IF(T29/COUNTRY_INFO!N29*100<>0, IF(T29/COUNTRY_INFO!N29*100>100,100,T29/COUNTRY_INFO!N29*100), \"-\"),0)","v":"-"},{"$f":"MAX('MDA1'!K29, 'MDA2'!K29, 'MDA5'!K29,'T1'!L29, MAX(T3_R1!K29,T3_R2!K29,T3_R3!K29))","v":135136},{"$f":"IF(AND(COUNTRY_INFO!J29>1,COUNTRY_INFO!J29<99,COUNTRY_INFO!J29<>4,COUNTRY_INFO!J29<>5),IF(COUNTRY_INFO!O29>V29,V29,COUNTRY_INFO!O29),0)","v":135136},{"$f":"IF(AND(COUNTRY_INFO!J29>1,COUNTRY_INFO!J29<99,COUNTRY_INFO!J29<>4,COUNTRY_INFO!J29<>5), IF(W29/COUNTRY_INFO!O29*100<>0, IF(W29/COUNTRY_INFO!O29*100>100,100,W29/COUNTRY_INFO!O29*100), \"-\"),0)","v":93.253193295287517},{"$f":"MAX('MDA1'!L29, 'MDA2'!L29, 'MDA5'!L29,'T1'!M29, MAX(T3_R1!L29,T3_R2!L29,T3_R3!L29))","v":0},{"$f":"IF(AND(COUNTRY_INFO!J29>1,COUNTRY_INFO!J29<99,COUNTRY_INFO!J29<>4,COUNTRY_INFO!J29<>5),IF(COUNTRY_INFO!P29>Y29,Y29,COUNTRY_INFO!P29),0)","v":0},{"$f":"IF(AND(COUNTRY_INFO!J29>1,COUNTRY_INFO!J29<99,COUNTRY_INFO!J29<>4,COUNTRY_INFO!J29<>5), IF(Z29/COUNTRY_INFO!P29*100<>0, IF(Z29/COUNTRY_INFO!P29*100>100,100,Z29/COUNTRY_INFO!P29*100), \"-\"),0)","v":{"$error":"#DIV/0!"}},135136,135136,{"$f":"IF(AND(COUNTRY_INFO!J29>1,COUNTRY_INFO!J29<99,COUNTRY_INFO!J29<>4,COUNTRY_INFO!J29<>5), IF(AC29/P29*100<>0, IF(AC29/P29*100>100,100,AC29/P29*100), \"-\"),0)","v":60.817281728172809},{"$f":"COUNTRY_INFO!U29","v":266419},null,null,{"$f":"MAX('T1'!K29,'T2'!R29)","v":0},{"$f":"IF(AND(COUNTRY_INFO!K29>1,COUNTRY_INFO!K29<99,COUNTRY_INFO!K29<>4,COUNTRY_INFO!K29<>5),IF(COUNTRY_INFO!R29>AH29,AH29,COUNTRY_INFO!R29),0)","v":0},{"$f":"IF(AND(COUNTRY_INFO!K29>1,COUNTRY_INFO!K29<99,COUNTRY_INFO!K29<>4,COUNTRY_INFO!K29<>5), IF(AI29/COUNTRY_INFO!R29*100<>0, IF(AI29/COUNTRY_INFO!R29*100>100,100,AI29/COUNTRY_INFO!R29*100), \"-\"),0)","v":{"$error":"#DIV/0!"}},{"$f":"MAX('T1'!L29,'T2'!S29)","v":108631},{"$f":"IF(AND(COUNTRY_INFO!K29>1,COUNTRY_INFO!K29<99,COUNTRY_INFO!K29<>4,COUNTRY_INFO!K29<>5),IF(COUNTRY_INFO!S29>AK29,AK29,COUNTRY_INFO!S29),0)","v":0},{"$f":"IF(AND(COUNTRY_INFO!K29>1,COUNTRY_INFO!K29<99,COUNTRY_INFO!K29<>4,COUNTRY_INFO!K29<>5), IF(AL29/COUNTRY_INFO!S29*100<>0, IF(AL29/COUNTRY_INFO!S29*100>100,100,AL29/COUNTRY_INFO!S29*100), \"-\"),0)","v":{"$error":"#DIV/0!"}},{"$f":"MAX('T1'!M29,'T2'!T29)","v":29254},{"$f":"IF(AND(COUNTRY_INFO!K29>1,COUNTRY_INFO!K29<99,COUNTRY_INFO!K29<>4,COUNTRY_INFO!K29<>5),IF(COUNTRY_INFO!T29>AN29,AN29,COUNTRY_INFO!T29),0)","v":0},{"$f":"IF(AND(COUNTRY_INFO!K29>1,COUNTRY_INFO!K29<99,COUNTRY_INFO!K29<>4,COUNTRY_INFO!K29<>5), IF(AO29/COUNTRY_INFO!T29*100<>0, IF(AO29/COUNTRY_INFO!T29*100>100,100,AO29/COUNTRY_INFO!T29*100), \"-\"),0)","v":{"$error":"#DIV/0!"}},137885,137885,51.754942402756562,null,{"$f":"IF(AND(D29<>0, D29<>\"Inconnu\",D29<>\"Interrompu\",D29<>\"Non requis\"),D29/COUNTRY_INFO!D29, 0)","v":0},{"$f":"IF(AND(J29<>0,J29<>\"Inconnu\",J29<>\"Interrompu\",J29<>\"Non requis\"),J29/COUNTRY_INFO!D29, 0)","v":0.58248675023716634},{"$f":"IF(AND(P29<>0,P29<>\"Inconnu\",P29<>\"Surveillance\",P29<>\"Non requis\"),P29/COUNTRY_INFO!Q29, 0)","v":1},{"$f":"IF(AND(AE29<>0,AE29<>\"Inconnu\",AE29<>\"Surveillance\",AE29<>\"Non requis\"),AE29/COUNTRY_INFO!U29, 0)","v":1},{"$f":"IF(AU29>0,D29*PROFILE!$G$7,IF(AV29>0,J29*PROFILE!$G$7,0))","v":11254.664406024147},{"$f":"_xlfn.IFS(OR(AU29>0,AW29>0),COUNTRY_INFO!E29, AV29>0,J29*PROFILE!$G$8,AX29>0,COUNTRY_INFO!R29,COUNTIFS(AU29:AX29,\">0\")=0,0)","v":77287},{"$f":"_xlfn.IFS(OR(AU29>0,AW29>0),COUNTRY_INFO!F29, AV29>0,J29*PROFILE!$G$9,AX29>0,COUNTRY_INFO!S29,COUNTIFS(AU29:AX29,\">0\")=0,0)","v":144913},{"$f":"_xlfn.IFS(AU29>0,COUNTRY_INFO!G29, AND(AV29>0,AW29=0,AX29=0),J29*PROFILE!$G$10,AND(AV29>0,AW29>0,AX29=0), MAX(J29*PROFILE!$G$10,COUNTRY_INFO!P29),AND(AV29>0,AW29=0,AX29>0), MAX(J29*PROFILE!$G$10,COUNTRY_INFO!T29),AND(AV29=0,AW29>0,AX29>0), MAX(COUNTRY_INFO!P29,COUNTRY_INFO!T29),AND(AV29=0,AW29>0,AX29=0),COUNTRY_INFO!P29,AND(AV29=0,AW29=0,AX29>0),COUNTRY_INFO!T29,AND(AV29>0,AW29>0,AX29>0), MAX(J29*PROFILE!$G$10,COUNTRY_INFO!P29,COUNTRY_INFO!T29),COUNTIFS(AU29:AX29,\">0\")=0,0)","v":140683.00178323072},374137.66618925484,"Y",{"$f":"MAX('MDA2'!J29,'MDA5'!J29,S29,AH29)","v":0},{"$f":"MAX('MDA1'!K29,'MDA2'!K29,'MDA3'!I29,'MDA3'!L29,'MDA5'!K29,V29,AK29)","v":135136},{"$f":"MAX('MDA1'!L29,'MDA2'!L29,'MDA3'!J29,'MDA3'!M29,'MDA5'!L29,Y29,AN29)","v":156544},291680,{"$f":"_xlfn.IFS(AND(AU29=0,AW29=0,AX29=0),0,AND(AU29=0,AW29=0,AX29>0),AI29,AND(AU29=0,AW29>0,AX29=0),T29,AND(AU29=0,AW29>0,AX29>0),MAX(T29,AI29),AND(AU29>0,AW29=0,AX29=0),MIN(MAX('MDA2'!J29,'MDA5'!J29),AZ29),AND(AU29>0,AW29=0,AX29>0),MIN(MAX('MDA2'!J29,'MDA5'!J29,AI29),AZ29),AND(AU29>0,AW29>0,AX29=0),MIN(MAX('MDA2'!J29,'MDA5'!J29,T29),AZ29),AND(AU29>0,AW29>0,AX29>0),MIN(MAX('MDA2'!J29,'MDA5'!J29,AI29,T29),AZ29))","v":0},{"$f":"_xlfn.IFS(AND(AU29=0,AV29=0,AW29=0,AX29=0),0,AND(AU29=0,AV29=0,AW29=0,AX29>0),AL29,AND(AU29=0,AV29=0,AW29>0,AX29=0),W29,AND(AU29=0,AV29=0,AW29>0,AX29>0),MAX(W29,AL29),AND(AU29=0,AV29>0,AW29=0,AX29=0),MIN(J29*PROFILE!$G$9,MAX('MDA3'!I29,'MDA3'!L29)),AND(AU29=0,AV29>0,AW29=0,AX29>0),MIN(J29*PROFILE!$G$9,MAX('MDA3'!I29,'MDA3'!L29,AL29)),AND(AU29=0,AV29>0,AW29>0,AX29=0),MIN(J29*PROFILE!$G$9,MAX('MDA3'!I29,'MDA3'!L29,W29)),AND(AU29=0,AV29>0,AW29>0,AX29>0),MIN(J29*PROFILE!$G$9,MAX('MDA3'!I29,'MDA3'!L29,W29,AL29)),AND(AU29>0,AV29=0,AW29=0,AX29=0), MIN(BA29,MAX('MDA1'!K29,'MDA2'!K29,'MDA5'!K29)),AND(AU29>0,AV29=0,AW29=0,AX29>0), MIN(BA29,MAX('MDA1'!K29,'MDA2'!K29,'MDA5'!K29,AL29)),AND(AU29>0,AV29=0,AW29>0,AX29=0),MIN(BA29,MAX('MDA1'!K29,'MDA2'!KL29,'MDA5'!K29,W29)),AND(AU29>0,AV29=0,AW29>0,AX29>0),MIN(BA29,MAX('MDA1'!K29,'MDA2'!K29,'MDA5'!K29,W29,AL29)),AND(AU29>0,AV29>0,AW29=0,AX29=0),MIN(BA29, MAX('MDA1'!K29,'MDA2'!K29, 'MDA5'!K29,MAX('MDA3'!I29,'MDA3'!L29))), AND(AU29>0,AV29>0,AW29=0,AX29>0),MIN(BA29, MAX('MDA1'!K29,'MDA2'!K29, 'MDA5'!K29,MAX('MDA3'!I29,'MDA3'!L29),AL29)), AND(AU29>0,AV29>0,AW29>0,AX29=0), MIN(BA29, MAX('MDA1'!K29,'MDA2'!K29, 'MDA5'!K29,MAX('MDA3'!I29,'MDA3'!L29),W29)), AND(AU29>0,AV29>0,AW29>0,AX29>0), MIN(BA29, MAX('MDA1'!K29,'MDA2'!K29, 'MDA5'!K29,MAX('MDA3'!I29,'MDA3'!L29),W29,AL29)))","v":84409.718306894356},{"$f":"_xlfn.IFS(AND(AU29=0,AV29=0,AW29=0,AX29=0),0,AND(AU29=0,AV29=0,AW29=0,AX29>0),AO29,AND(AU29=0,AV29=0,AW29>0,AX29=0),Z29,AND(AU29=0,AV29=0,AW29>0,AX29>0),MAX(Z29,AO29),AND(AU29=0,AV29>0,AW29=0,AX29=0),MIN(J29*PROFILE!$G$10,MAX('MDA3'!J29,'MDA3'!J29)),AND(AU29=0,AV29>0,AW29=0,AX29>0),MIN(J29*PROFILE!$G$10,MAX('MDA3'!J29,'MDA3'!M29,AO29)),AND(AU29=0,AV29>0,AW29>0,AX29=0),MIN(J29*PROFILE!$G$10,MAX('MDA3'!J29,'MDA3'!M29,Z29)),AND(AU29=0,AV29>0,AW29>0,AX29>0),MIN(J29*PROFILE!$G$10,MAX('MDA3'!J29,'MDA3'!M29,Z29,AO29)),AND(AU29>0,AV29=0,AW29=0,AX29=0), MIN(BB29,MAX('MDA1'!L29,'MDA2'!L29,'MDA5'!L29)),AND(AU29>0,AV29=0,AW29=0,AX29>0), MIN(BB29,MAX('MDA1'!L29,'MDA2'!L29,'MDA5'!L29,AO29)),AND(AU29>0,AV29=0,AW29>0,AX29=0),MIN(BB29,MAX('MDA1'!L29,'MDA2'!L29,'MDA5'!L29,Z29)),AND(AU29>0,AV29=0,AW29>0,AX29>0),MIN(BB29,MAX('MDA1'!L29,'MDA2'!L29,'MDA5'!L29,Z29,AO29)),AND(AU29>0,AV29>0,AW29=0,AX29=0),MIN(BB29, MAX('MDA1'!L29,'MDA2'!L29, 'MDA5'!L29,MAX('MDA3'!J29,'MDA3'!M29))), AND(AU29>0,AV29>0,AW29=0,AX29>0),MIN(BB29, MAX('MDA1'!L29,'MDA2'!L29, 'MDA5'!L29,MAX('MDA3'!J29,'MDA3'!M29),AO29)), AND(AU29>0,AV29>0,AW29>0,AX29=0), MIN(BB29, MAX('MDA1'!L29,'MDA2'!L29, 'MDA5'!L29,MAX('MDA3'!J29,'MDA3'!M29),Z29)), AND(AU29>0,AV29>0,AW29>0,AX29>0), MIN(BB29, MAX('MDA1'!L29,'MDA2'!L29, 'MDA5'!L29,MAX('MDA3'!J29,'MDA3'!M29),Z29,AO29)))","v":140683.00178323072},225092.72009012508,60.163073764474582]
[{"$f":"IF(COUNTRY_INFO!A30=0,\" \",COUNTRY_INFO!A30)","v":"Togo"},{"$f":"IF(COUNTRY_INFO!B30=0,\" \",COUNTRY_INFO!B30)","v":"PLATEAUX"},{"$f":"IF(COUNTRY_INFO!C30=0,\" \",COUNTRY_INFO!C30)","v":"AGOU"},{"$f":"COUNTRY_INFO!L30","v":"Non requis"},null,null,{"$f":"MAX('MDA1'!M30,'MDA2'!M30,'MDA5'!M30)","v":0},{"$f":"IF(AND(COUNTRY_INFO!H30>0,COUNTRY_INFO!H30<4),IF(D30>G30,G30,D30),0)","v":0},{"$f":"IF(AND(COUNTRY_INFO!H30>0,COUNTRY_INFO!H30<4), IF(G30/D30*100<>0, IF(G30/D30*100>100,100,G30/D30*100), \"-\"),0)","v":0},{"$f":"COUNTRY_INFO!M30","v":84659.300249755674},35649,38500,{"$f":"MAX('MDA1'!M30,MAX('MDA3'!I30,'MDA3'!L30)+MAX('MDA3'!J30,'MDA3'!M30))","v":74149},{"$f":"IF(AND(COUNTRY_INFO!I30>0,COUNTRY_INFO!I30<4),IF(J30>M30,M30,J30),0)","v":74149},{"$f":"IF(AND(COUNTRY_INFO!I30>0,COUNTRY_INFO!I30<4), IF(M30/J30*100<>0, IF(M30/J30*100>100,100,M30/J30*100), \"-\"),0)","v":87.585179397007835},{"$f":"COUNTRY_INFO!Q30","v":53762},17108,17389,{"$f":"MAX('MDA2'!J30,'MDA5'!J30,'T1'!K30, MAX(T3_R1!J30,T3_R2!J30,T3_R3!J30))","v":0},{"$f":"IF(AND(COUNTRY_INFO!J30>1,COUNTRY_INFO!J30<99,COUNTRY_INFO!J30<>4,COUNTRY_INFO!J30<>5),IF(COUNTRY_INFO!N30>S30,S30,COUNTRY_INFO!N30),0)","v":0},{"$f":"IF(AND(COUNTRY_INFO!J30>1,COUNTRY_INFO!J30<99,COUNTRY_INFO!J30<>4,COUNTRY_INFO!J30<>5), IF(T30/COUNTRY_INFO!N30*100<>0, IF(T30/COUNTRY_INFO!N30*100>100,100,T30/COUNTRY_INFO!N30*100), \"-\"),0)","v":"-"},{"$f":"MAX('MDA1'!K30, 'MDA2'!K30, 'MDA5'!K30,'T1'!L30, MAX(T3_R1!K30,T3_R2!K30,T3_R3!K30))","v":34497},{"$f":"IF(AND(COUNTRY_INFO!J30>1,COUNTRY_INFO!J30<99,COUNTRY_INFO!J30<>4,COUNTRY_INFO!J30<>5),IF(COUNTRY_INFO!O30>V30,V30,COUNTRY_INFO!O30),0)","v":34497},{"$f":"IF(AND(COUNTRY_INFO!J30>1,COUNTRY_INFO!J30<99,COUNTRY_INFO!J30<>4,COUNTRY_INFO!J30<>5), IF(W30/COUNTRY_INFO!O30*100<>0, IF(W30/COUNTRY_INFO!O30*100>100,100,W30/COUNTRY_INFO!O30*100), \"-\"),0)","v":98.38856882094575},{"$f":"MAX('MDA1'!L30, 'MDA2'!L30, 'MDA5'!L30,'T1'!M30, MAX(T3_R1!L30,T3_R2!L30,T3_R3!L30))","v":0},{"$f":"IF(AND(COUNTRY_INFO!J30>1,COUNTRY_INFO!J30<99,COUNTRY_INFO!J30<>4,COUNTRY_INFO!J30<>5),IF(COUNTRY_INFO!P30>Y30,Y30,COUNTRY_INFO!P30),0)","v":0},{"$f":"IF(AND(COUNTRY_INFO!J30>1,COUNTRY_INFO!J30<99,COUNTRY_INFO!J30<>4,COUNTRY_INFO!J30<>5), IF(Z30/COUNTRY_INFO!P30*100<>0, IF(Z30/COUNTRY_INFO!P30*100>100,100,Z30/COUNTRY_INFO!P30*100), \"-\"),0)","v":{"$error":"#DIV/0!"}},34497,34497,{"$f":"IF(AND(COUNTRY_INFO!J30>1,COUNTRY_INFO!J30<99,COUNTRY_INFO!J30<>4,COUNTRY_INFO!J30<>5), IF(AC30/P30*100<>0, IF(AC30/P30*100>100,100,AC30/P30*100), \"-\"),0)","v":64.166139652542682},{"$f":"COUNTRY_INFO!U30","v":65435},null,null,{"$f":"MAX('T1'!K30,'T2'!R30)","v":0},{"$f":"IF(AND(COUNTRY_INFO!K30>1,COUNTRY_INFO!K30<99,COUNTRY_INFO!K30<>4,COUNTRY_INFO!K30<>5),IF(COUNTRY_INFO!R30>AH30,AH30,COUNTRY_INFO!R30),0)","v":0},{"$f":"IF(AND(COUNTRY_INFO!K30>1,COUNTRY_INFO!K30<99,COUNTRY_INFO!K30<>4,COUNTRY_INFO!K30<>5), IF(AI30/COUNTRY_INFO!R30*100<>0, IF(AI30/COUNTRY_INFO!R30*100>100,100,AI30/COUNTRY_INFO!R30*100), \"-\"),0)","v":{"$error":"#DIV/0!"}},{"$f":"MAX('T1'!L30,'T2'!S30)","v":27292},{"$f":"IF(AND(COUNTRY_INFO!K30>1,COUNTRY_INFO!K30<99,COUNTRY_INFO!K30<>4,COUNTRY_INFO!K30<>5),IF(COUNTRY_INFO!S30>AK30,AK30,COUNTRY_INFO!S30),0)","v":0},{"$f":"IF(AND(COUNTRY_INFO!K30>1,COUNTRY_INFO!K30<99,COUNTRY_INFO!K30<>4,COUNTRY_INFO!K30<>5), IF(AL30/COUNTRY_INFO!S30*100<>0, IF(AL30/COUNTRY_INFO!S30*100>100,100,AL30/COUNTRY_INFO!S30*100), \"-\"),0)","v":{"$error":"#DIV/0!"}},{"$f":"MAX('T1'!M30,'T2'!T30)","v":17967},{"$f":"IF(AND(COUNTRY_INFO!K30>1,COUNTRY_INFO!K30<99,COUNTRY_INFO!K30<>4,COUNTRY_INFO!K30<>5),IF(COUNTRY_INFO!T30>AN30,AN30,COUNTRY_INFO!T30),0)","v":0},{"$f":"IF(AND(COUNTRY_INFO!K30>1,COUNTRY_INFO!K30<99,COUNTRY_INFO!K30<>4,COUNTRY_INFO!K30<>5), IF(AO30/COUNTRY_INFO!T30*100<>0, IF(AO30/COUNTRY_INFO!T30*100>100,100,AO30/COUNTRY_INFO!T30*100), \"-\"),0)","v":{"$error":"#DIV/0!"}},45259,45259,69.166348284557188,null,{"$f":"IF(AND(D30<>0, D30<>\"Inconnu\",D30<>\"Interrompu\",D30<>\"Non requis\"),D30/COUNTRY_INFO!D30, 0)","v":0},{"$f":"IF(AND(J30<>0,J30<>\"Inconnu\",J30<>\"Interrompu\",J30<>\"Non requis\"),J30/COUNTRY_INFO!D30, 0)","v":0.72436665830271818},{"$f":"IF(AND(P30<>0,P30<>\"Inconnu\",P30<>\"Surveillance\",P30<>\"Non requis\"),P30/COUNTRY_INFO!Q30, 0)","v":1},{"$f":"IF(AND(AE30<>0,AE30<>\"Inconnu\",AE30<>\"Surveillance\",AE30<>\"Non requis\"),AE30/COUNTRY_INFO!U30, 0)","v":1},{"$f":"IF(AU30>0,D30*PROFILE!$G$7,IF(AV30>0,J30*PROFILE!$G$7,0))","v":3386.3806288465526},{"$f":"_xlfn.IFS(OR(AU30>0,AW30>0),COUNTRY_INFO!E30, AV30>0,J30*PROFILE!$G$8,AX30>0,COUNTRY_INFO!R30,COUNTIFS(AU30:AX30,\">0\")=0,0)","v":18700},{"$f":"_xlfn.IFS(OR(AU30>0,AW30>0),COUNTRY_INFO!F30, AV30>0,J30*PROFILE!$G$9,AX30>0,COUNTRY_INFO!S30,COUNTIFS(AU30:AX30,\">0\")=0,0)","v":35062},{"$f":"_xlfn.IFS(AU30>0,COUNTRY_INFO!G30, AND(AV30>0,AW30=0,AX30=0),J30*PROFILE!$G$10,AND(AV30>0,AW30>0,AX30=0), MAX(J30*PROFILE!$G$10,COUNTRY_INFO!P30),AND(AV30>0,AW30=0,AX30>0), MAX(J30*PROFILE!$G$10,COUNTRY_INFO!T30),AND(AV30=0,AW30>0,AX30>0), MAX(COUNTRY_INFO!P30,COUNTRY_INFO!T30),AND(AV30=0,AW30>0,AX30=0),COUNTRY_INFO!P30,AND(AV30=0,AW30=0,AX30>0),COUNTRY_INFO!T30,AND(AV30>0,AW30>0,AX30>0), MAX(J30*PROFILE!$G$10,COUNTRY_INFO!P30,COUNTRY_INFO!T30),COUNTIFS(AU30:AX30,\">0\")=0,0)","v":42329.666603983096},99478.047232829646,"Y",{"$f":"MAX('MDA2'!J30,'MDA5'!J30,S30,AH30)","v":0},{"$f":"MAX('MDA1'!K30,'MDA2'!K30,'MDA3'!I30,'MDA3'!L30,'MDA5'!K30,V30,AK30)","v":34497},{"$f":"MAX('MDA1'!L30,'MDA2'!L30,'MDA3'!J30,'MDA3'!M30,'MDA5'!L30,Y30,AN30)","v":47014},81511,{"$f":"_xlfn.IFS(AND(AU30=0,AW30=0,AX30=0),0,AND(AU30=0,AW30=0,AX30>0),AI30,AND(AU30=0,AW30>0,AX30=0),T30,AND(AU30=0,AW30>0,AX30>0),MAX(T30,AI30),AND(AU30>0,AW30=0,AX30=0),MIN(MAX('MDA2'!J30,'MDA5'!J30),AZ30),AND(AU30>0,AW30=0,AX30>0),MIN(MAX('MDA2'!J30,'MDA5'!J30,AI30),AZ30),AND(AU30>0,AW30>0,AX30=0),MIN(MAX('MDA2'!J30,'MDA5'!J30,T30),AZ30),AND(AU30>0,AW30>0,AX30>0),MIN(MAX('MDA2'!J30,'MDA5'!J30,AI30,T30),AZ30))","v":0},{"$f":"_xlfn.IFS(AND(AU30=0,AV30=0,AW30=0,AX30=0),0,AND(AU30=0,AV30=0,AW30=0,AX30>0),AL30,AND(AU30=0,AV30=0,AW30>0,AX30=0),W30,AND(AU30=0,AV30=0,AW30>0,AX30>0),MAX(W30,AL30),AND(AU30=0,AV30>0,AW30=0,AX30=0),MIN(J30*PROFILE!$G$9,MAX('MDA3'!I30,'MDA3'!L30)),AND(AU30=0,AV30>0,AW30=0,AX30>0),MIN(J30*PROFILE!$G$9,MAX('MDA3'!I30,'MDA3'!L30,AL30)),AND(AU30=0,AV30>0,AW30>0,AX30=0),MIN(J30*PROFILE!$G$9,MAX('MDA3'!I30,'MDA3'!L30,W30)),AND(AU30=0,AV30>0,AW30>0,AX30>0),MIN(J30*PROFILE!$G$9,MAX('MDA3'!I30,'MDA3'!L30,W30,AL30)),AND(AU30>0,AV30=0,AW30=0,AX30=0), MIN(BA30,MAX('MDA1'!K30,'MDA2'!K30,'MDA5'!K30)),AND(AU30>0,AV30=0,AW30=0,AX30>0), MIN(BA30,MAX('MDA1'!K30,'MDA2'!K30,'MDA5'!K30,AL30)),AND(AU30>0,AV30=0,AW30>0,AX30=0),MIN(BA30,MAX('MDA1'!K30,'MDA2'!KL30,'MDA5'!K30,W30)),AND(AU30>0,AV30=0,AW30>0,AX30>0),MIN(BA30,MAX('MDA1'!K30,'MDA2'!K30,'MDA5'!K30,W30,AL30)),AND(AU30>0,AV30>0,AW30=0,AX30=0),MIN(BA30, MAX('MDA1'!K30,'MDA2'!K30, 'MDA5'!K30,MAX('MDA3'!I30,'MDA3'!L30))), AND(AU30>0,AV30>0,AW30=0,AX30>0),MIN(BA30, MAX('MDA1'!K30,'MDA2'!K30, 'MDA5'!K30,MAX('MDA3'!I30,'MDA3'!L30),AL30)), AND(AU30>0,AV30>0,AW30>0,AX30=0), MIN(BA30, MAX('MDA1'!K30,'MDA2'!K30, 'MDA5'!K30,MAX('MDA3'!I30,'MDA3'!L30),W30)), AND(AU30>0,AV30>0,AW30>0,AX30>0), MIN(BA30, MAX('MDA1'!K30,'MDA2'!K30, 'MDA5'!K30,MAX('MDA3'!I30,'MDA3'!L30),W30,AL30)))","v":25397.775060077434},{"$f":"_xlfn.IFS(AND(AU30=0,AV30=0,AW30=0,AX30=0),0,AND(AU30=0,AV30=0,AW30=0,AX30>0),AO30,AND(AU30=0,AV30=0,AW30>0,AX30=0),Z30,AND(AU30=0,AV30=0,AW30>0,AX30>0),MAX(Z30,AO30),AND(AU30=0,AV30>0,AW30=0,AX30=0),MIN(J30*PROFILE!$G$10,MAX('MDA3'!J30,'MDA3'!J30)),AND(AU30=0,AV30>0,AW30=0,AX30>0),MIN(J30*PROFILE!$G$10,MAX('MDA3'!J30,'MDA3'!M30,AO30)),AND(AU30=0,AV30>0,AW30>0,AX30=0),MIN(J30*PROFILE!$G$10,MAX('MDA3'!J30,'MDA3'!M30,Z30)),AND(AU30=0,AV30>0,AW30>0,AX30>0),MIN(J30*PROFILE!$G$10,MAX('MDA3'!J30,'MDA3'!M30,Z30,AO30)),AND(AU30>0,AV30=0,AW30=0,AX30=0), MIN(BB30,MAX('MDA1'!L30,'MDA2'!L30,'MDA5'!L30)),AND(AU30>0,AV30=0,AW30=0,AX30>0), MIN(BB30,MAX('MDA1'!L30,'MDA2'!L30,'MDA5'!L30,AO30)),AND(AU30>0,AV30=0,AW30>0,AX30=0),MIN(BB30,MAX('MDA1'!L30,'MDA2'!L30,'MDA5'!L30,Z30)),AND(AU30>0,AV30=0,AW30>0,AX30>0),MIN(BB30,MAX('MDA1'!L30,'MDA2'!L30,'MDA5'!L30,Z30,AO30)),AND(AU30>0,AV30>0,AW30=0,AX30=0),MIN(BB30, MAX('MDA1'!L30,'MDA2'!L30, 'MDA5'!L30,MAX('MDA3'!J30,'MDA3'!M30))), AND(AU30>0,AV30>0,AW30=0,AX30>0),MIN(BB30, MAX('MDA1'!L30,'MDA2'!L30, 'MDA5'!L30,MAX('MDA3'!J30,'MDA3'!M30),AO30)), AND(AU30>0,AV30>0,AW30>0,AX30=0), MIN(BB30, MAX('MDA1'!L30,'MDA2'!L30, 'MDA5'!L30,MAX('MDA3'!J30,'MDA3'!M30),Z30)), AND(AU30>0,AV30>0,AW30>0,AX30>0), MIN(BB30, MAX('MDA1'!L30,'MDA2'!L30, 'MDA5'!L30,MAX('MDA3'!J30,'MDA3'!M30),Z30,AO30)))","v":42329.666603983096},67727.441664060534,68.082801731666081]
[{"$f":"IF(COUNTRY_INFO!A31=0,\" \",COUNTRY_INFO!A31)","v":"Togo"},{"$f":"IF(COUNTRY_INFO!B31=0,\" \",COUNTRY_INFO!B31)","v":"PLATEAUX"},{"$f":"IF(COUNTRY_INFO!C31=0,\" \",COUNTRY_INFO!C31)","v":"AKEBOU"},{"$f":"COUNTRY_INFO!L31","v":"Non requis"},null,null,{"$f":"MAX('MDA1'!M31,'MDA2'!M31,'MDA5'!M31)","v":0},{"$f":"IF(AND(COUNTRY_INFO!H31>0,COUNTRY_INFO!H31<4),IF(D31>G31,G31,D31),0)","v":0},{"$f":"IF(AND(COUNTRY_INFO!H31>0,COUNTRY_INFO!H31<4), IF(G31/D31*100<>0, IF(G31/D31*100>100,100,G31/D31*100), \"-\"),0)","v":0},{"$f":"COUNTRY_INFO!M31","v":72662.372209560752},30670,30624,{"$f":"MAX('MDA1'!M31,MAX('MDA3'!I31,'MDA3'!L31)+MAX('MDA3'!J31,'MDA3'!M31))","v":61294},{"$f":"IF(AND(COUNTRY_INFO!I31>0,COUNTRY_INFO!I31<4),IF(J31>M31,M31,J31),0)","v":61294},{"$f":"IF(AND(COUNTRY_INFO!I31>0,COUNTRY_INFO!I31<4), IF(M31/J31*100<>0, IF(M31/J31*100>100,100,M31/J31*100), \"-\"),0)","v":84.354526471040643},{"$f":"COUNTRY_INFO!Q31","v":0},11746,11413,{"$f":"MAX('MDA2'!J31,'MDA5'!J31,'T1'!K31, MAX(T3_R1!J31,T3_R2!J31,T3_R3!J31))","v":0},{"$f":"IF(AND(COUNTRY_INFO!J31>1,COUNTRY_INFO!J31<99,COUNTRY_INFO!J31<>4,COUNTRY_INFO!J31<>5),IF(COUNTRY_INFO!N31>S31,S31,COUNTRY_INFO!N31),0)","v":0},{"$f":"IF(AND(COUNTRY_INFO!J31>1,COUNTRY_INFO!J31<99,COUNTRY_INFO!J31<>4,COUNTRY_INFO!J31<>5), IF(T31/COUNTRY_INFO!N31*100<>0, IF(T31/COUNTRY_INFO!N31*100>100,100,T31/COUNTRY_INFO!N31*100), \"-\"),0)","v":0},{"$f":"MAX('MDA1'!K31, 'MDA2'!K31, 'MDA5'!K31,'T1'!L31, MAX(T3_R1!K31,T3_R2!K31,T3_R3!K31))","v":23159},{"$f":"IF(AND(COUNTRY_INFO!J31>1,COUNTRY_INFO!J31<99,COUNTRY_INFO!J31<>4,COUNTRY_INFO!J31<>5),IF(COUNTRY_INFO!O31>V31,V31,COUNTRY_INFO!O31),0)","v":0},{"$f":"IF(AND(COUNTRY_INFO!J31>1,COUNTRY_INFO!J31<99,COUNTRY_INFO!J31<>4,COUNTRY_INFO!J31<>5), IF(W31/COUNTRY_INFO!O31*100<>0, IF(W31/COUNTRY_INFO!O31*100>100,100,W31/COUNTRY_INFO!O31*100), \"-\"),0)","v":0},{"$f":"MAX('MDA1'!L31, 'MDA2'!L31, 'MDA5'!L31,'T1'!M31, MAX(T3_R1!L31,T3_R2!L31,T3_R3!L31))","v":0},{"$f":"IF(AND(COUNTRY_INFO!J31>1,COUNTRY_INFO!J31<99,COUNTRY_INFO!J31<>4,COUNTRY_INFO!J31<>5),IF(COUNTRY_INFO!P31>Y31,Y31,COUNTRY_INFO!P31),0)","v":0},{"$f":"IF(AND(COUNTRY_INFO!J31>1,COUNTRY_INFO!J31<99,COUNTRY_INFO!J31<>4,COUNTRY_INFO!J31<>5), IF(Z31/COUNTRY_INFO!P31*100<>0, IF(Z31/COUNTRY_INFO!P31*100>100,100,Z31/COUNTRY_INFO!P31*100), \"-\"),0)","v":0},23159,0,{"$f":"IF(AND(COUNTRY_INFO!J31>1,COUNTRY_INFO!J31<99,COUNTRY_INFO!J31<>4,COUNTRY_INFO!J31<>5), IF(AC31/P31*100<>0, IF(AC31/P31*100>100,100,AC31/P31*100), \"-\"),0)","v":0},{"$f":"COUNTRY_INFO!U31","v":46053},null,null,{"$f":"MAX('T1'!K31,'T2'!R31)","v":0},{"$f":"IF(AND(COUNTRY_INFO!K31>1,COUNTRY_INFO!K31<99,COUNTRY_INFO!K31<>4,COUNTRY_INFO!K31<>5),IF(COUNTRY_INFO!R31>AH31,AH31,COUNTRY_INFO!R31),0)","v":0},{"$f":"IF(AND(COUNTRY_INFO!K31>1,COUNTRY_INFO!K31<99,COUNTRY_INFO!K31<>4,COUNTRY_INFO!K31<>5), IF(AI31/COUNTRY_INFO!R31*100<>0, IF(AI31/COUNTRY_INFO!R31*100>100,100,AI31/COUNTRY_INFO!R31*100), \"-\"),0)","v":{"$error":"#DIV/0!"}},{"$f":"MAX('T1'!L31,'T2'!S31)","v":20511},{"$f":"IF(AND(COUNTRY_INFO!K31>1,COUNTRY_INFO!K31<99,COUNTRY_INFO!K31<>4,COUNTRY_INFO!K31<>5),IF(COUNTRY_INFO!S31>AK31,AK31,COUNTRY_INFO!S31),0)","v":0},{"$f":"IF(AND(COUNTRY_INFO!K31>1,COUNTRY_INFO!K31<99,COUNTRY_INFO!K31<>4,COUNTRY_INFO!K31<>5), IF(AL31/COUNTRY_INFO!S31*100<>0, IF(AL31/COUNTRY_INFO!S31*100>100,100,AL31/COUNTRY_INFO!S31*100), \"-\"),0)","v":{"$error":"#DIV/0!"}},{"$f":"MAX('T1'!M31,'T2'!T31)","v":4202},{"$f":"IF(AND(COUNTRY_INFO!K31>1,COUNTRY_INFO!K31<99,COUNTRY_INFO!K31<>4,COUNTRY_INFO!K31<>5),IF(COUNTRY_INFO!T31>AN31,AN31,COUNTRY_INFO!T31),0)","v":0},{"$f":"IF(AND(COUNTRY_INFO!K31>1,COUNTRY_INFO!K31<99,COUNTRY_INFO!K31<>4,COUNTRY_INFO!K31<>5), IF(AO31/COUNTRY_INFO!T31*100<>0, IF(AO31/COUNTRY_INFO!T31*100>100,100,AO31/COUNTRY_INFO!T31*100), \"-\"),0)","v":{"$error":"#DIV/0!"}},24713,24713,53.662084989034376,null,{"$f":"IF(AND(D31<>0, D31<>\"Inconnu\",D31<>\"Interrompu\",D31<>\"Non requis\"),D31/COUNTRY_INFO!D31, 0)","v":0},{"$f":"IF(AND(J31<>0,J31<>\"Inconnu\",J31<>\"Interrompu\",J31<>\"Non requis\"),J31/COUNTRY_INFO!D31, 0)","v":0.97256326913892843},{"$f":"IF(AND(P31<>0,P31<>\"Inconnu\",P31<>\"Surveillance\",P31<>\"Non requis\"),P31/COUNTRY_INFO!Q31, 0)","v":0},{"$f":"IF(AND(AE31<>0,AE31<>\"Inconnu\",AE31<>\"Surveillance\",AE31<>\"Non requis\"),AE31/COUNTRY_INFO!U31, 0)","v":1},{"$f":"IF(AU31>0,D31*PROFILE!$G$7,IF(AV31>0,J31*PROFILE!$G$7,0))","v":2906.5022858750208},{"$f":"_xlfn.IFS(OR(AU31>0,AW31>0),COUNTRY_INFO!E31, AV31>0,J31*PROFILE!$G$8,AX31>0,COUNTRY_INFO!R31,COUNTIFS(AU31:AX31,\">0\")=0,0)","v":11625.970899278411},{"$f":"_xlfn.IFS(OR(AU31>0,AW31>0),COUNTRY_INFO!F31, AV31>0,J31*PROFILE!$G$9,AX31>0,COUNTRY_INFO!S31,COUNTIFS(AU31:AX31,\">0\")=0,0)","v":21798.698775748169},{"$f":"_xlfn.IFS(AU31>0,COUNTRY_INFO!G31, AND(AV31>0,AW31=0,AX31=0),J31*PROFILE!$G$10,AND(AV31>0,AW31>0,AX31=0), MAX(J31*PROFILE!$G$10,COUNTRY_INFO!P31),AND(AV31>0,AW31=0,AX31>0), MAX(J31*PROFILE!$G$10,COUNTRY_INFO!T31),AND(AV31=0,AW31>0,AX31>0), MAX(COUNTRY_INFO!P31,COUNTRY_INFO!T31),AND(AV31=0,AW31>0,AX31=0),COUNTRY_INFO!P31,AND(AV31=0,AW31=0,AX31>0),COUNTRY_INFO!T31,AND(AV31>0,AW31>0,AX31>0), MAX(J31*PROFILE!$G$10,COUNTRY_INFO!P31,COUNTRY_INFO!T31),COUNTIFS(AU31:AX31,\">0\")=0,0)","v":36331.200248659152},72662.372209560752,"Y",{"$f":"MAX('MDA2'!J31,'MDA5'!J31,S31,AH31)","v":0},{"$f":"MAX('MDA1'!K31,'MDA2'!K31,'MDA3'!I31,'MDA3'!L31,'MDA5'!K31,V31,AK31)","v":23159},{"$f":"MAX('MDA1'!L31,'MDA2'!L31,'MDA3'!J31,'MDA3'!M31,'MDA5'!L31,Y31,AN31)","v":38659},61818,{"$f":"_xlfn.IFS(AND(AU31=0,AW31=0,AX31=0),0,AND(AU31=0,AW31=0,AX31>0),AI31,AND(AU31=0,AW31>0,AX31=0),T31,AND(AU31=0,AW31>0,AX31>0),MAX(T31,AI31),AND(AU31>0,AW31=0,AX31=0),MIN(MAX('MDA2'!J31,'MDA5'!J31),AZ31),AND(AU31>0,AW31=0,AX31>0),MIN(MAX('MDA2'!J31,'MDA5'!J31,AI31),AZ31),AND(AU31>0,AW31>0,AX31=0),MIN(MAX('MDA2'!J31,'MDA5'!J31,T31),AZ31),AND(AU31>0,AW31>0,AX31>0),MIN(MAX('MDA2'!J31,'MDA5'!J31,AI31,T31),AZ31))","v":0},{"$f":"_xlfn.IFS(AND(AU31=0,AV31=0,AW31=0,AX31=0),0,AND(AU31=0,AV31=0,AW31=0,AX31>0),AL31,AND(AU31=0,AV31=0,AW31>0,AX31=0),W31,AND(AU31=0,AV31=0,AW31>0,AX31>0),MAX(W31,AL31),AND(AU31=0,AV31>0,AW31=0,AX31=0),MIN(J31*PROFILE!$G$9,MAX('MDA3'!I31,'MDA3'!L31)),AND(AU31=0,AV31>0,AW31=0,AX31>0),MIN(J31*PROFILE!$G$9,MAX('MDA3'!I31,'MDA3'!L31,AL31)),AND(AU31=0,AV31>0,AW31>0,AX31=0),MIN(J31*PROFILE!$G$9,MAX('MDA3'!I31,'MDA3'!L31,W31)),AND(AU31=0,AV31>0,AW31>0,AX31>0),MIN(J31*PROFILE!$G$9,MAX('MDA3'!I31,'MDA3'!L31,W31,AL31)),AND(AU31>0,AV31=0,AW31=0,AX31=0), MIN(BA31,MAX('MDA1'!K31,'MDA2'!K31,'MDA5'!K31)),AND(AU31>0,AV31=0,AW31=0,AX31>0), MIN(BA31,MAX('MDA1'!K31,'MDA2'!K31,'MDA5'!K31,AL31)),AND(AU31>0,AV31=0,AW31>0,AX31=0),MIN(BA31,MAX('MDA1'!K31,'MDA2'!KL31,'MDA5'!K31,W31)),AND(AU31>0,AV31=0,AW31>0,AX31>0),MIN(BA31,MAX('MDA1'!K31,'MDA2'!K31,'MDA5'!K31,W31,AL31)),AND(AU31>0,AV31>0,AW31=0,AX31=0),MIN(BA31, MAX('MDA1'!K31,'MDA2'!K31, 'MDA5'!K31,MAX('MDA3'!I31,'MDA3'!L31))), AND(AU31>0,AV31>0,AW31=0,AX31>0),MIN(BA31, MAX('MDA1'!K31,'MDA2'!K31, 'MDA5'!K31,MAX('MDA3'!I31,'MDA3'!L31),AL31)), AND(AU31>0,AV31>0,AW31>0,AX31=0), MIN(BA31, MAX('MDA1'!K31,'MDA2'!K31, 'MDA5'!K31,MAX('MDA3'!I31,'MDA3'!L31),W31)), AND(AU31>0,AV31>0,AW31>0,AX31>0), MIN(BA31, MAX('MDA1'!K31,'MDA2'!K31, 'MDA5'!K31,MAX('MDA3'!I31,'MDA3'!L31),W31,AL31)))","v":21798.698775748169},{"$f":"_xlfn.IFS(AND(AU31=0,AV31=0,AW31=0,AX31=0),0,AND(AU31=0,AV31=0,AW31=0,AX31>0),AO31,AND(AU31=0,AV31=0,AW31>0,AX31=0),Z31,AND(AU31=0,AV31=0,AW31>0,AX31>0),MAX(Z31,AO31),AND(AU31=0,AV31>0,AW31=0,AX31=0),MIN(J31*PROFILE!$G$10,MAX('MDA3'!J31,'MDA3'!J31)),AND(AU31=0,AV31>0,AW31=0,AX31>0),MIN(J31*PROFILE!$G$10,MAX('MDA3'!J31,'MDA3'!M31,AO31)),AND(AU31=0,AV31>0,AW31>0,AX31=0),MIN(J31*PROFILE!$G$10,MAX('MDA3'!J31,'MDA3'!M31,Z31)),AND(AU31=0,AV31>0,AW31>0,AX31>0),MIN(J31*PROFILE!$G$10,MAX('MDA3'!J31,'MDA3'!M31,Z31,AO31)),AND(AU31>0,AV31=0,AW31=0,AX31=0), MIN(BB31,MAX('MDA1'!L31,'MDA2'!L31,'MDA5'!L31)),AND(AU31>0,AV31=0,AW31=0,AX31>0), MIN(BB31,MAX('MDA1'!L31,'MDA2'!L31,'MDA5'!L31,AO31)),AND(AU31>0,AV31=0,AW31>0,AX31=0),MIN(BB31,MAX('MDA1'!L31,'MDA2'!L31,'MDA5'!L31,Z31)),AND(AU31>0,AV31=0,AW31>0,AX31>0),MIN(BB31,MAX('MDA1'!L31,'MDA2'!L31,'MDA5'!L31,Z31,AO31)),AND(AU31>0,AV31>0,AW31=0,AX31=0),MIN(BB31, MAX('MDA1'!L31,'MDA2'!L31, 'MDA5'!L31,MAX('MDA3'!J31,'MDA3'!M31))), AND(AU31>0,AV31>0,AW31=0,AX31>0),MIN(BB31, MAX('MDA1'!L31,'MDA2'!L31, 'MDA5'!L31,MAX('MDA3'!J31,'MDA3'!M31),AO31)), AND(AU31>0,AV31>0,AW31>0,AX31=0), MIN(BB31, MAX('MDA1'!L31,'MDA2'!L31, 'MDA5'!L31,MAX('MDA3'!J31,'MDA3'!M31),Z31)), AND(AU31>0,AV31>0,AW31>0,AX31>0), MIN(BB31, MAX('MDA1'!L31,'MDA2'!L31, 'MDA5'!L31,MAX('MDA3'!J31,'MDA3'!M31),Z31,AO31)))","v":36331.200248659152},58129.899024407321,80.000001729586685]
[{"$f":"IF(COUNTRY_INFO!A32=0,\" \",COUNTRY_INFO!A32)","v":"Togo"},{"$f":"IF(COUNTRY_INFO!B32=0,\" \",COUNTRY_INFO!B32)","v":"PLATEAUX"},{"$f":"IF(COUNTRY_INFO!C32=0,\" \",COUNTRY_INFO!C32)","v":"AMOU"},{"$f":"COUNTRY_INFO!L32","v":"Non requis"},null,null,{"$f":"MAX('MDA1'!M32,'MDA2'!M32,'MDA5'!M32)","v":0},{"$f":"IF(AND(COUNTRY_INFO!H32>0,COUNTRY_INFO!H32<4),IF(D32>G32,G32,D32),0)","v":0},{"$f":"IF(AND(COUNTRY_INFO!H32>0,COUNTRY_INFO!H32<4), IF(G32/D32*100<>0, IF(G32/D32*100>100,100,G32/D32*100), \"-\"),0)","v":0},{"$f":"COUNTRY_INFO!M32","v":126415.36428526008},51678,53931,{"$f":"MAX('MDA1'!M32,MAX('MDA3'!I32,'MDA3'!L32)+MAX('MDA3'!J32,'MDA3'!M32))","v":105609},{"$f":"IF(AND(COUNTRY_INFO!I32>0,COUNTRY_INFO!I32<4),IF(J32>M32,M32,J32),0)","v":105609},{"$f":"IF(AND(COUNTRY_INFO!I32>0,COUNTRY_INFO!I32<4), IF(M32/J32*100<>0, IF(M32/J32*100>100,100,M32/J32*100), \"-\"),0)","v":83.54126936793071},{"$f":"COUNTRY_INFO!Q32","v":61206},19331,19875,{"$f":"MAX('MDA2'!J32,'MDA5'!J32,'T1'!K32, MAX(T3_R1!J32,T3_R2!J32,T3_R3!J32))","v":0},{"$f":"IF(AND(COUNTRY_INFO!J32>1,COUNTRY_INFO!J32<99,COUNTRY_INFO!J32<>4,COUNTRY_INFO!J32<>5),IF(COUNTRY_INFO!N32>S32,S32,COUNTRY_INFO!N32),0)","v":0},{"$f":"IF(AND(COUNTRY_INFO!J32>1,COUNTRY_INFO!J32<99,COUNTRY_INFO!J32<>4,COUNTRY_INFO!J32<>5), IF(T32/COUNTRY_INFO!N32*100<>0, IF(T32/COUNTRY_INFO!N32*100>100,100,T32/COUNTRY_INFO!N32*100), \"-\"),0)","v":"-"},{"$f":"MAX('MDA1'!K32, 'MDA2'!K32, 'MDA5'!K32,'T1'!L32, MAX(T3_R1!K32,T3_R2!K32,T3_R3!K32))","v":39206},{"$f":"IF(AND(COUNTRY_INFO!J32>1,COUNTRY_INFO!J32<99,COUNTRY_INFO!J32<>4,COUNTRY_INFO!J32<>5),IF(COUNTRY_INFO!O32>V32,V32,COUNTRY_INFO!O32),0)","v":39206},{"$f":"IF(AND(COUNTRY_INFO!J32>1,COUNTRY_INFO!J32<99,COUNTRY_INFO!J32<>4,COUNTRY_INFO!J32<>5), IF(W32/COUNTRY_INFO!O32*100<>0, IF(W32/COUNTRY_INFO!O32*100>100,100,W32/COUNTRY_INFO!O32*100), \"-\"),0)","v":98.218804018338048},{"$f":"MAX('MDA1'!L32, 'MDA2'!L32, 'MDA5'!L32,'T1'!M32, MAX(T3_R1!L32,T3_R2!L32,T3_R3!L32))","v":0},{"$f":"IF(AND(COUNTRY_INFO!J32>1,COUNTRY_INFO!J32<99,COUNTRY_INFO!J32<>4,COUNTRY_INFO!J32<>5),IF(COUNTRY_INFO!P32>Y32,Y32,COUNTRY_INFO!P32),0)","v":0},{"$f":"IF(AND(COUNTRY_INFO!J32>1,COUNTRY_INFO!J32<99,COUNTRY_INFO!J32<>4,COUNTRY_INFO!J32<>5), IF(Z32/COUNTRY_INFO!P32*100<>0, IF(Z32/COUNTRY_INFO!P32*100>100,100,Z32/COUNTRY_INFO!P32*100), \"-\"),0)","v":{"$error":"#DIV/0!"}},39206,39206,{"$f":"IF(AND(COUNTRY_INFO!J32>1,COUNTRY_INFO!J32<99,COUNTRY_INFO!J32<>4,COUNTRY_INFO!J32<>5), IF(AC32/P32*100<>0, IF(AC32/P32*100>100,100,AC32/P32*100), \"-\"),0)","v":64.055811521746236},{"$f":"COUNTRY_INFO!U32","v":91095},null,null,{"$f":"MAX('T1'!K32,'T2'!R32)","v":0},{"$f":"IF(AND(COUNTRY_INFO!K32>1,COUNTRY_INFO!K32<99,COUNTRY_INFO!K32<>4,COUNTRY_INFO!K32<>5),IF(COUNTRY_INFO!R32>AH32,AH32,COUNTRY_INFO!R32),0)","v":0},{"$f":"IF(AND(COUNTRY_INFO!K32>1,COUNTRY_INFO!K32<99,COUNTRY_INFO!K32<>4,COUNTRY_INFO!K32<>5), IF(AI32/COUNTRY_INFO!R32*100<>0, IF(AI32/COUNTRY_INFO!R32*100>100,100,AI32/COUNTRY_INFO!R32*100), \"-\"),0)","v":{"$error":"#DIV/0!"}},{"$f":"MAX('T1'!L32,'T2'!S32)","v":39206},{"$f":"IF(AND(COUNTRY_INFO!K32>1,COUNTRY_INFO!K32<99,COUNTRY_INFO!K32<>4,COUNTRY_INFO!K32<>5),IF(COUNTRY_INFO!S32>AK32,AK32,COUNTRY_INFO!S32),0)","v":0},{"$f":"IF(AND(COUNTRY_INFO!K32>1,COUNTRY_INFO!K32<99,COUNTRY_INFO!K32<>4,COUNTRY_INFO!K32<>5), IF(AL32/COUNTRY_INFO!S32*100<>0, IF(AL32/COUNTRY_INFO!S32*100>100,100,AL32/COUNTRY_INFO!S32*100), \"-\"),0)","v":{"$error":"#DIV/0!"}},{"$f":"MAX('T1'!M32,'T2'!T32)","v":33538},{"$f":"IF(AND(COUNTRY_INFO!K32>1,COUNTRY_INFO!K32<99,COUNTRY_INFO!K32<>4,COUNTRY_INFO!K32<>5),IF(COUNTRY_INFO!T32>AN32,AN32,COUNTRY_INFO!T32),0)","v":0},{"$f":"IF(AND(COUNTRY_INFO!K32>1,COUNTRY_INFO!K32<99,COUNTRY_INFO!K32<>4,COUNTRY_INFO!K32<>5), IF(AO32/COUNTRY_INFO!T32*100<>0, IF(AO32/COUNTRY_INFO!T32*100>100,100,AO32/COUNTRY_INFO!T32*100), \"-\"),0)","v":{"$error":"#DIV/0!"}},72744,72744,79.855096328009225,null,{"$f":"IF(AND(D32<>0, D32<>\"Inconnu\",D32<>\"Interrompu\",D32<>\"Non requis\"),D32/COUNTRY_INFO!D32, 0)","v":0},{"$f":"IF(AND(J32<>0,J32<>\"Inconnu\",J32<>\"Interrompu\",J32<>\"Non requis\"),J32/COUNTRY_INFO!D32, 0)","v":0.95009556097167513},{"$f":"IF(AND(P32<>0,P32<>\"Inconnu\",P32<>\"Surveillance\",P32<>\"Non requis\"),P32/COUNTRY_INFO!Q32, 0)","v":1},{"$f":"IF(AND(AE32<>0,AE32<>\"Inconnu\",AE32<>\"Surveillance\",AE32<>\"Non requis\"),AE32/COUNTRY_INFO!U32, 0)","v":1},{"$f":"IF(AU32>0,D32*PROFILE!$G$7,IF(AV32>0,J32*PROFILE!$G$7,0))","v":5056.627441300172},{"$f":"_xlfn.IFS(OR(AU32>0,AW32>0),COUNTRY_INFO!E32, AV32>0,J32*PROFILE!$G$8,AX32>0,COUNTRY_INFO!R32,COUNTIFS(AU32:AX32,\">0\")=0,0)","v":21289},{"$f":"_xlfn.IFS(OR(AU32>0,AW32>0),COUNTRY_INFO!F32, AV32>0,J32*PROFILE!$G$9,AX32>0,COUNTRY_INFO!S32,COUNTIFS(AU32:AX32,\">0\")=0,0)","v":39917},{"$f":"_xlfn.IFS(AU32>0,COUNTRY_INFO!G32, AND(AV32>0,AW32=0,AX32=0),J32*PROFILE!$G$10,AND(AV32>0,AW32>0,AX32=0), MAX(J32*PROFILE!$G$10,COUNTRY_INFO!P32),AND(AV32>0,AW32=0,AX32>0), MAX(J32*PROFILE!$G$10,COUNTRY_INFO!T32),AND(AV32=0,AW32>0,AX32>0), MAX(COUNTRY_INFO!P32,COUNTRY_INFO!T32),AND(AV32=0,AW32>0,AX32=0),COUNTRY_INFO!P32,AND(AV32=0,AW32=0,AX32>0),COUNTRY_INFO!T32,AND(AV32>0,AW32>0,AX32>0), MAX(J32*PROFILE!$G$10,COUNTRY_INFO!P32,COUNTRY_INFO!T32),COUNTIFS(AU32:AX32,\">0\")=0,0)","v":63207.706749638222},129470.33419093839,"Y",{"$f":"MAX('MDA2'!J32,'MDA5'!J32,S32,AH32)","v":0},{"$f":"MAX('MDA1'!K32,'MDA2'!K32,'MDA3'!I32,'MDA3'!L32,'MDA5'!K32,V32,AK32)","v":39206},{"$f":"MAX('MDA1'!L32,'MDA2'!L32,'MDA3'!J32,'MDA3'!M32,'MDA5'!L32,Y32,AN32)","v":68388},107594,{"$f":"_xlfn.IFS(AND(AU32=0,AW32=0,AX32=0),0,AND(AU32=0,AW32=0,AX32>0),AI32,AND(AU32=0,AW32>0,AX32=0),T32,AND(AU32=0,AW32>0,AX32>0),MAX(T32,AI32),AND(AU32>0,AW32=0,AX32=0),MIN(MAX('MDA2'!J32,'MDA5'!J32),AZ32),AND(AU32>0,AW32=0,AX32>0),MIN(MAX('MDA2'!J32,'MDA5'!J32,AI32),AZ32),AND(AU32>0,AW32>0,AX32=0),MIN(MAX('MDA2'!J32,'MDA5'!J32,T32),AZ32),AND(AU32>0,AW32>0,AX32>0),MIN(MAX('MDA2'!J32,'MDA5'!J32,AI32,T32),AZ32))","v":0},{"$f":"_xlfn.IFS(AND(AU32=0,AV32=0,AW32=0,AX32=0),0,AND(AU32=0,AV32=0,AW32=0,AX32>0),AL32,AND(AU32=0,AV32=0,AW32>0,AX32=0),W32,AND(AU32=0,AV32=0,AW32>0,AX32>0),MAX(W32,AL32),AND(AU32=0,AV32>0,AW32=0,AX32=0),MIN(J32*PROFILE!$G$9,MAX('MDA3'!I32,'MDA3'!L32)),AND(AU32=0,AV32>0,AW32=0,AX32>0),MIN(J32*PROFILE!$G$9,MAX('MDA3'!I32,'MDA3'!L32,AL32)),AND(AU32=0,AV32>0,AW32>0,AX32=0),MIN(J32*PROFILE!$G$9,MAX('MDA3'!I32,'MDA3'!L32,W32)),AND(AU32=0,AV32>0,AW32>0,AX32>0),MIN(J32*PROFILE!$G$9,MAX('MDA3'!I32,'MDA3'!L32,W32,AL32)),AND(AU32>0,AV32=0,AW32=0,AX32=0), MIN(BA32,MAX('MDA1'!K32,'MDA2'!K32,'MDA5'!K32)),AND(AU32>0,AV32=0,AW32=0,AX32>0), MIN(BA32,MAX('MDA1'!K32,'MDA2'!K32,'MDA5'!K32,AL32)),AND(AU32>0,AV32=0,AW32>0,AX32=0),MIN(BA32,MAX('MDA1'!K32,'MDA2'!KL32,'MDA5'!K32,W32)),AND(AU32>0,AV32=0,AW32>0,AX32>0),MIN(BA32,MAX('MDA1'!K32,'MDA2'!K32,'MDA5'!K32,W32,AL32)),AND(AU32>0,AV32>0,AW32=0,AX32=0),MIN(BA32, MAX('MDA1'!K32,'MDA2'!K32, 'MDA5'!K32,MAX('MDA3'!I32,'MDA3'!L32))), AND(AU32>0,AV32>0,AW32=0,AX32>0),MIN(BA32, MAX('MDA1'!K32,'MDA2'!K32, 'MDA5'!K32,MAX('MDA3'!I32,'MDA3'!L32),AL32)), AND(AU32>0,AV32>0,AW32>0,AX32=0), MIN(BA32, MAX('MDA1'!K32,'MDA2'!K32, 'MDA5'!K32,MAX('MDA3'!I32,'MDA3'!L32),W32)), AND(AU32>0,AV32>0,AW32>0,AX32>0), MIN(BA32, MAX('MDA1'!K32,'MDA2'!K32, 'MDA5'!K32,MAX('MDA3'!I32,'MDA3'!L32),W32,AL32)))","v":37924.586865033154},{"$f":"_xlfn.IFS(AND(AU32=0,AV32=0,AW32=0,AX32=0),0,AND(AU32=0,AV32=0,AW32=0,AX32>0),AO32,AND(AU32=0,AV32=0,AW32>0,AX32=0),Z32,AND(AU32=0,AV32=0,AW32>0,AX32>0),MAX(Z32,AO32),AND(AU32=0,AV32>0,AW32=0,AX32=0),MIN(J32*PROFILE!$G$10,MAX('MDA3'!J32,'MDA3'!J32)),AND(AU32=0,AV32>0,AW32=0,AX32>0),MIN(J32*PROFILE!$G$10,MAX('MDA3'!J32,'MDA3'!M32,AO32)),AND(AU32=0,AV32>0,AW32>0,AX32=0),MIN(J32*PROFILE!$G$10,MAX('MDA3'!J32,'MDA3'!M32,Z32)),AND(AU32=0,AV32>0,AW32>0,AX32>0),MIN(J32*PROFILE!$G$10,MAX('MDA3'!J32,'MDA3'!M32,Z32,AO32)),AND(AU32>0,AV32=0,AW32=0,AX32=0), MIN(BB32,MAX('MDA1'!L32,'MDA2'!L32,'MDA5'!L32)),AND(AU32>0,AV32=0,AW32=0,AX32>0), MIN(BB32,MAX('MDA1'!L32,'MDA2'!L32,'MDA5'!L32,AO32)),AND(AU32>0,AV32=0,AW32>0,AX32=0),MIN(BB32,MAX('MDA1'!L32,'MDA2'!L32,'MDA5'!L32,Z32)),AND(AU32>0,AV32=0,AW32>0,AX32>0),MIN(BB32,MAX('MDA1'!L32,'MDA2'!L32,'MDA5'!L32,Z32,AO32)),AND(AU32>0,AV32>0,AW32=0,AX32=0),MIN(BB32, MAX('MDA1'!L32,'MDA2'!L32, 'MDA5'!L32,MAX('MDA3'!J32,'MDA3'!M32))), AND(AU32>0,AV32>0,AW32=0,AX32>0),MIN(BB32, MAX('MDA1'!L32,'MDA2'!L32, 'MDA5'!L32,MAX('MDA3'!J32,'MDA3'!M32),AO32)), AND(AU32>0,AV32>0,AW32>0,AX32=0), MIN(BB32, MAX('MDA1'!L32,'MDA2'!L32, 'MDA5'!L32,MAX('MDA3'!J32,'MDA3'!M32),Z32)), AND(AU32>0,AV32>0,AW32>0,AX32>0), MIN(BB32, MAX('MDA1'!L32,'MDA2'!L32, 'MDA5'!L32,MAX('MDA3'!J32,'MDA3'!M32),Z32,AO32)))","v":63207.706749638222},101132.29361467138,78.112329165324439]
[{"$f":"IF(COUNTRY_INFO!A33=0,\" \",COUNTRY_INFO!A33)","v":"Togo"},{"$f":"IF(COUNTRY_INFO!B33=0,\" \",COUNTRY_INFO!B33)","v":"PLATEAUX"},{"$f":"IF(COUNTRY_INFO!C33=0,\" \",COUNTRY_INFO!C33)","v":"ANIE"},{"$f":"COUNTRY_INFO!L33","v":"Non requis"},null,null,{"$f":"MAX('MDA1'!M33,'MDA2'!M33,'MDA5'!M33)","v":0},{"$f":"IF(AND(COUNTRY_INFO!H33>0,COUNTRY_INFO!H33<4),IF(D33>G33,G33,D33),0)","v":0},{"$f":"IF(AND(COUNTRY_INFO!H33>0,COUNTRY_INFO!H33<4), IF(G33/D33*100<>0, IF(G33/D33*100>100,100,G33/D33*100), \"-\"),0)","v":0},{"$f":"COUNTRY_INFO!M33","v":124448.57594592964},53679,53305,{"$f":"MAX('MDA1'!M33,MAX('MDA3'!I33,'MDA3'!L33)+MAX('MDA3'!J33,'MDA3'!M33))","v":106984},{"$f":"IF(AND(COUNTRY_INFO!I33>0,COUNTRY_INFO!I33<4),IF(J33>M33,M33,J33),0)","v":106984},{"$f":"IF(AND(COUNTRY_INFO!I33>0,COUNTRY_INFO!I33<4), IF(M33/J33*100<>0, IF(M33/J33*100>100,100,M33/J33*100), \"-\"),0)","v":85.966431666106288},{"$f":"COUNTRY_INFO!Q33","v":80618},26208,26364,{"$f":"MAX('MDA2'!J33,'MDA5'!J33,'T1'!K33, MAX(T3_R1!J33,T3_R2!J33,T3_R3!J33))","v":0},{"$f":"IF(AND(COUNTRY_INFO!J33>1,COUNTRY_INFO!J33<99,COUNTRY_INFO!J33<>4,COUNTRY_INFO!J33<>5),IF(COUNTRY_INFO!N33>S33,S33,COUNTRY_INFO!N33),0)","v":0},{"$f":"IF(AND(COUNTRY_INFO!J33>1,COUNTRY_INFO!J33<99,COUNTRY_INFO!J33<>4,COUNTRY_INFO!J33<>5), IF(T33/COUNTRY_INFO!N33*100<>0, IF(T33/COUNTRY_INFO!N33*100>100,100,T33/COUNTRY_INFO!N33*100), \"-\"),0)","v":"-"},{"$f":"MAX('MDA1'!K33, 'MDA2'!K33, 'MDA5'!K33,'T1'!L33, MAX(T3_R1!K33,T3_R2!K33,T3_R3!K33))","v":52572},{"$f":"IF(AND(COUNTRY_INFO!J33>1,COUNTRY_INFO!J33<99,COUNTRY_INFO!J33<>4,COUNTRY_INFO!J33<>5),IF(COUNTRY_INFO!O33>V33,V33,COUNTRY_INFO!O33),0)","v":52572},{"$f":"IF(AND(COUNTRY_INFO!J33>1,COUNTRY_INFO!J33<99,COUNTRY_INFO!J33<>4,COUNTRY_INFO!J33<>5), IF(W33/COUNTRY_INFO!O33*100<>0, IF(W33/COUNTRY_INFO!O33*100>100,100,W33/COUNTRY_INFO!O33*100), \"-\"),0)","v":99.990490138273387},{"$f":"MAX('MDA1'!L33, 'MDA2'!L33, 'MDA5'!L33,'T1'!M33, MAX(T3_R1!L33,T3_R2!L33,T3_R3!L33))","v":0},{"$f":"IF(AND(COUNTRY_INFO!J33>1,COUNTRY_INFO!J33<99,COUNTRY_INFO!J33<>4,COUNTRY_INFO!J33<>5),IF(COUNTRY_INFO!P33>Y33,Y33,COUNTRY_INFO!P33),0)","v":0},{"$f":"IF(AND(COUNTRY_INFO!J33>1,COUNTRY_INFO!J33<99,COUNTRY_INFO!J33<>4,COUNTRY_INFO!J33<>5), IF(Z33/COUNTRY_INFO!P33*100<>0, IF(Z33/COUNTRY_INFO!P33*100>100,100,Z33/COUNTRY_INFO!P33*100), \"-\"),0)","v":{"$error":"#DIV/0!"}},52572,52572,{"$f":"IF(AND(COUNTRY_INFO!J33>1,COUNTRY_INFO!J33<99,COUNTRY_INFO!J33<>4,COUNTRY_INFO!J33<>5), IF(AC33/P33*100<>0, IF(AC33/P33*100>100,100,AC33/P33*100), \"-\"),0)","v":65.211243146691814},{"$f":"COUNTRY_INFO!U33","v":119617},null,null,{"$f":"MAX('T1'!K33,'T2'!R33)","v":0},{"$f":"IF(AND(COUNTRY_INFO!K33>1,COUNTRY_INFO!K33<99,COUNTRY_INFO!K33<>4,COUNTRY_INFO!K33<>5),IF(COUNTRY_INFO!R33>AH33,AH33,COUNTRY_INFO!R33),0)","v":0},{"$f":"IF(AND(COUNTRY_INFO!K33>1,COUNTRY_INFO!K33<99,COUNTRY_INFO!K33<>4,COUNTRY_INFO!K33<>5), IF(AI33/COUNTRY_INFO!R33*100<>0, IF(AI33/COUNTRY_INFO!R33*100>100,100,AI33/COUNTRY_INFO!R33*100), \"-\"),0)","v":{"$error":"#DIV/0!"}},{"$f":"MAX('T1'!L33,'T2'!S33)","v":52572},{"$f":"IF(AND(COUNTRY_INFO!K33>1,COUNTRY_INFO!K33<99,COUNTRY_INFO!K33<>4,COUNTRY_INFO!K33<>5),IF(COUNTRY_INFO!S33>AK33,AK33,COUNTRY_INFO!S33),0)","v":0},{"$f":"IF(AND(COUNTRY_INFO!K33>1,COUNTRY_INFO!K33<99,COUNTRY_INFO!K33<>4,COUNTRY_INFO!K33<>5), IF(AL33/COUNTRY_INFO!S33*100<>0, IF(AL33/COUNTRY_INFO!S33*100>100,100,AL33/COUNTRY_INFO!S33*100), \"-\"),0)","v":{"$error":"#DIV/0!"}},{"$f":"MAX('T1'!M33,'T2'!T33)","v":63898},{"$f":"IF(AND(COUNTRY_INFO!K33>1,COUNTRY_INFO!K33<99,COUNTRY_INFO!K33<>4,COUNTRY_INFO!K33<>5),IF(COUNTRY_INFO!T33>AN33,AN33,COUNTRY_INFO!T33),0)","v":0},{"$f":"IF(AND(COUNTRY_INFO!K33>1,COUNTRY_INFO!K33<99,COUNTRY_INFO!K33<>4,COUNTRY_INFO!K33<>5), IF(AO33/COUNTRY_INFO!T33*100<>0, IF(AO33/COUNTRY_INFO!T33*100>100,100,AO33/COUNTRY_INFO!T33*100), \"-\"),0)","v":{"$error":"#DIV/0!"}},116470,116470,97.369103053913747,null,{"$f":"IF(AND(D33<>0, D33<>\"Inconnu\",D33<>\"Interrompu\",D33<>\"Non requis\"),D33/COUNTRY_INFO!D33, 0)","v":0},{"$f":"IF(AND(J33<>0,J33<>\"Inconnu\",J33<>\"Interrompu\",J33<>\"Non requis\"),J33/COUNTRY_INFO!D33, 0)","v":0.71009670276554104},{"$f":"IF(AND(P33<>0,P33<>\"Inconnu\",P33<>\"Surveillance\",P33<>\"Non requis\"),P33/COUNTRY_INFO!Q33, 0)","v":1},{"$f":"IF(AND(AE33<>0,AE33<>\"Inconnu\",AE33<>\"Surveillance\",AE33<>\"Non requis\"),AE33/COUNTRY_INFO!U33, 0)","v":1},{"$f":"IF(AU33>0,D33*PROFILE!$G$7,IF(AV33>0,J33*PROFILE!$G$7,0))","v":4977.9557074953664},{"$f":"_xlfn.IFS(OR(AU33>0,AW33>0),COUNTRY_INFO!E33, AV33>0,J33*PROFILE!$G$8,AX33>0,COUNTRY_INFO!R33,COUNTIFS(AU33:AX33,\">0\")=0,0)","v":28041},{"$f":"_xlfn.IFS(OR(AU33>0,AW33>0),COUNTRY_INFO!F33, AV33>0,J33*PROFILE!$G$9,AX33>0,COUNTRY_INFO!S33,COUNTIFS(AU33:AX33,\">0\")=0,0)","v":52577},{"$f":"_xlfn.IFS(AU33>0,COUNTRY_INFO!G33, AND(AV33>0,AW33=0,AX33=0),J33*PROFILE!$G$10,AND(AV33>0,AW33>0,AX33=0), MAX(J33*PROFILE!$G$10,COUNTRY_INFO!P33),AND(AV33>0,AW33=0,AX33>0), MAX(J33*PROFILE!$G$10,COUNTRY_INFO!T33),AND(AV33=0,AW33>0,AX33>0), MAX(COUNTRY_INFO!P33,COUNTRY_INFO!T33),AND(AV33=0,AW33>0,AX33=0),COUNTRY_INFO!P33,AND(AV33=0,AW33=0,AX33>0),COUNTRY_INFO!T33,AND(AV33>0,AW33>0,AX33>0), MAX(J33*PROFILE!$G$10,COUNTRY_INFO!P33,COUNTRY_INFO!T33),COUNTIFS(AU33:AX33,\">0\")=0,0)","v":62224.312197133651},147820.267904629,"Y",{"$f":"MAX('MDA2'!J33,'MDA5'!J33,S33,AH33)","v":0},{"$f":"MAX('MDA1'!K33,'MDA2'!K33,'MDA3'!I33,'MDA3'!L33,'MDA5'!K33,V33,AK33)","v":52572},{"$f":"MAX('MDA1'!L33,'MDA2'!L33,'MDA3'!J33,'MDA3'!M33,'MDA5'!L33,Y33,AN33)","v":67370},119942,{"$f":"_xlfn.IFS(AND(AU33=0,AW33=0,AX33=0),0,AND(AU33=0,AW33=0,AX33>0),AI33,AND(AU33=0,AW33>0,AX33=0),T33,AND(AU33=0,AW33>0,AX33>0),MAX(T33,AI33),AND(AU33>0,AW33=0,AX33=0),MIN(MAX('MDA2'!J33,'MDA5'!J33),AZ33),AND(AU33>0,AW33=0,AX33>0),MIN(MAX('MDA2'!J33,'MDA5'!J33,AI33),AZ33),AND(AU33>0,AW33>0,AX33=0),MIN(MAX('MDA2'!J33,'MDA5'!J33,T33),AZ33),AND(AU33>0,AW33>0,AX33>0),MIN(MAX('MDA2'!J33,'MDA5'!J33,AI33,T33),AZ33))","v":0},{"$f":"_xlfn.IFS(AND(AU33=0,AV33=0,AW33=0,AX33=0),0,AND(AU33=0,AV33=0,AW33=0,AX33>0),AL33,AND(AU33=0,AV33=0,AW33>0,AX33=0),W33,AND(AU33=0,AV33=0,AW33>0,AX33>0),MAX(W33,AL33),AND(AU33=0,AV33>0,AW33=0,AX33=0),MIN(J33*PROFILE!$G$9,MAX('MDA3'!I33,'MDA3'!L33)),AND(AU33=0,AV33>0,AW33=0,AX33>0),MIN(J33*PROFILE!$G$9,MAX('MDA3'!I33,'MDA3'!L33,AL33)),AND(AU33=0,AV33>0,AW33>0,AX33=0),MIN(J33*PROFILE!$G$9,MAX('MDA3'!I33,'MDA3'!L33,W33)),AND(AU33=0,AV33>0,AW33>0,AX33>0),MIN(J33*PROFILE!$G$9,MAX('MDA3'!I33,'MDA3'!L33,W33,AL33)),AND(AU33>0,AV33=0,AW33=0,AX33=0), MIN(BA33,MAX('MDA1'!K33,'MDA2'!K33,'MDA5'!K33)),AND(AU33>0,AV33=0,AW33=0,AX33>0), MIN(BA33,MAX('MDA1'!K33,'MDA2'!K33,'MDA5'!K33,AL33)),AND(AU33>0,AV33=0,AW33>0,AX33=0),MIN(BA33,MAX('MDA1'!K33,'MDA2'!KL33,'MDA5'!K33,W33)),AND(AU33>0,AV33=0,AW33>0,AX33>0),MIN(BA33,MAX('MDA1'!K33,'MDA2'!K33,'MDA5'!K33,W33,AL33)),AND(AU33>0,AV33>0,AW33=0,AX33=0),MIN(BA33, MAX('MDA1'!K33,'MDA2'!K33, 'MDA5'!K33,MAX('MDA3'!I33,'MDA3'!L33))), AND(AU33>0,AV33>0,AW33=0,AX33>0),MIN(BA33, MAX('MDA1'!K33,'MDA2'!K33, 'MDA5'!K33,MAX('MDA3'!I33,'MDA3'!L33),AL33)), AND(AU33>0,AV33>0,AW33>0,AX33=0), MIN(BA33, MAX('MDA1'!K33,'MDA2'!K33, 'MDA5'!K33,MAX('MDA3'!I33,'MDA3'!L33),W33)), AND(AU33>0,AV33>0,AW33>0,AX33>0), MIN(BA33, MAX('MDA1'!K33,'MDA2'!K33, 'MDA5'!K33,MAX('MDA3'!I33,'MDA3'!L33),W33,AL33)))","v":37334.550712056065},{"$f":"_xlfn.IFS(AND(AU33=0,AV33=0,AW33=0,AX33=0),0,AND(AU33=0,AV33=0,AW33=0,AX33>0),AO33,AND(AU33=0,AV33=0,AW33>0,AX33=0),Z33,AND(AU33=0,AV33=0,AW33>0,AX33>0),MAX(Z33,AO33),AND(AU33=0,AV33>0,AW33=0,AX33=0),MIN(J33*PROFILE!$G$10,MAX('MDA3'!J33,'MDA3'!J33)),AND(AU33=0,AV33>0,AW33=0,AX33>0),MIN(J33*PROFILE!$G$10,MAX('MDA3'!J33,'MDA3'!M33,AO33)),AND(AU33=0,AV33>0,AW33>0,AX33=0),MIN(J33*PROFILE!$G$10,MAX('MDA3'!J33,'MDA3'!M33,Z33)),AND(AU33=0,AV33>0,AW33>0,AX33>0),MIN(J33*PROFILE!$G$10,MAX('MDA3'!J33,'MDA3'!M33,Z33,AO33)),AND(AU33>0,AV33=0,AW33=0,AX33=0), MIN(BB33,MAX('MDA1'!L33,'MDA2'!L33,'MDA5'!L33)),AND(AU33>0,AV33=0,AW33=0,AX33>0), MIN(BB33,MAX('MDA1'!L33,'MDA2'!L33,'MDA5'!L33,AO33)),AND(AU33>0,AV33=0,AW33>0,AX33=0),MIN(BB33,MAX('MDA1'!L33,'MDA2'!L33,'MDA5'!L33,Z33)),AND(AU33>0,AV33=0,AW33>0,AX33>0),MIN(BB33,MAX('MDA1'!L33,'MDA2'!L33,'MDA5'!L33,Z33,AO33)),AND(AU33>0,AV33>0,AW33=0,AX33=0),MIN(BB33, MAX('MDA1'!L33,'MDA2'!L33, 'MDA5'!L33,MAX('MDA3'!J33,'MDA3'!M33))), AND(AU33>0,AV33>0,AW33=0,AX33>0),MIN(BB33, MAX('MDA1'!L33,'MDA2'!L33, 'MDA5'!L33,MAX('MDA3'!J33,'MDA3'!M33),AO33)), AND(AU33>0,AV33>0,AW33>0,AX33=0), MIN(BB33, MAX('MDA1'!L33,'MDA2'!L33, 'MDA5'!L33,MAX('MDA3'!J33,'MDA3'!M33),Z33)), AND(AU33>0,AV33>0,AW33>0,AX33>0), MIN(BB33, MAX('MDA1'!L33,'MDA2'!L33, 'MDA5'!L33,MAX('MDA3'!J33,'MDA3'!M33),Z33,AO33)))","v":62224.312197133651},99558.862909189716,67.351293784302513]
[{"$f":"IF(COUNTRY_INFO!A34=0,\" \",COUNTRY_INFO!A34)","v":"Togo"},{"$f":"IF(COUNTRY_INFO!B34=0,\" \",COUNTRY_INFO!B34)","v":"PLATEAUX"},{"$f":"IF(COUNTRY_INFO!C34=0,\" \",COUNTRY_INFO!C34)","v":"DANYI"},{"$f":"COUNTRY_INFO!L34","v":"Non requis"},null,null,{"$f":"MAX('MDA1'!M34,'MDA2'!M34,'MDA5'!M34)","v":0},{"$f":"IF(AND(COUNTRY_INFO!H34>0,COUNTRY_INFO!H34<4),IF(D34>G34,G34,D34),0)","v":0},{"$f":"IF(AND(COUNTRY_INFO!H34>0,COUNTRY_INFO!H34<4), IF(G34/D34*100<>0, IF(G34/D34*100>100,100,G34/D34*100), \"-\"),0)","v":0},{"$f":"COUNTRY_INFO!M34","v":38400.920517057937},15605,15741,{"$f":"MAX('MDA1'!M34,MAX('MDA3'!I34,'MDA3'!L34)+MAX('MDA3'!J34,'MDA3'!M34))","v":31346},{"$f":"IF(AND(COUNTRY_INFO!I34>0,COUNTRY_INFO!I34<4),IF(J34>M34,M34,J34),0)","v":31346},{"$f":"IF(AND(COUNTRY_INFO!I34>0,COUNTRY_INFO!I34<4), IF(M34/J34*100<>0, IF(M34/J34*100>100,100,M34/J34*100), \"-\"),0)","v":81.628251557344583},{"$f":"COUNTRY_INFO!Q34","v":21490},0,0,{"$f":"MAX('MDA2'!J34,'MDA5'!J34,'T1'!K34, MAX(T3_R1!J34,T3_R2!J34,T3_R3!J34))","v":0},{"$f":"IF(AND(COUNTRY_INFO!J34>1,COUNTRY_INFO!J34<99,COUNTRY_INFO!J34<>4,COUNTRY_INFO!J34<>5),IF(COUNTRY_INFO!N34>S34,S34,COUNTRY_INFO!N34),0)","v":0},{"$f":"IF(AND(COUNTRY_INFO!J34>1,COUNTRY_INFO!J34<99,COUNTRY_INFO!J34<>4,COUNTRY_INFO!J34<>5), IF(T34/COUNTRY_INFO!N34*100<>0, IF(T34/COUNTRY_INFO!N34*100>100,100,T34/COUNTRY_INFO!N34*100), \"-\"),0)","v":"-"},{"$f":"MAX('MDA1'!K34, 'MDA2'!K34, 'MDA5'!K34,'T1'!L34, MAX(T3_R1!K34,T3_R2!K34,T3_R3!K34))","v":0},{"$f":"IF(AND(COUNTRY_INFO!J34>1,COUNTRY_INFO!J34<99,COUNTRY_INFO!J34<>4,COUNTRY_INFO!J34<>5),IF(COUNTRY_INFO!O34>V34,V34,COUNTRY_INFO!O34),0)","v":0},{"$f":"IF(AND(COUNTRY_INFO!J34>1,COUNTRY_INFO!J34<99,COUNTRY_INFO!J34<>4,COUNTRY_INFO!J34<>5), IF(W34/COUNTRY_INFO!O34*100<>0, IF(W34/COUNTRY_INFO!O34*100>100,100,W34/COUNTRY_INFO!O34*100), \"-\"),0)","v":"-"},{"$f":"MAX('MDA1'!L34, 'MDA2'!L34, 'MDA5'!L34,'T1'!M34, MAX(T3_R1!L34,T3_R2!L34,T3_R3!L34))","v":0},{"$f":"IF(AND(COUNTRY_INFO!J34>1,COUNTRY_INFO!J34<99,COUNTRY_INFO!J34<>4,COUNTRY_INFO!J34<>5),IF(COUNTRY_INFO!P34>Y34,Y34,COUNTRY_INFO!P34),0)","v":0},{"$f":"IF(AND(COUNTRY_INFO!J34>1,COUNTRY_INFO!J34<99,COUNTRY_INFO!J34<>4,COUNTRY_INFO!J34<>5), IF(Z34/COUNTRY_INFO!P34*100<>0, IF(Z34/COUNTRY_INFO!P34*100>100,100,Z34/COUNTRY_INFO!P34*100), \"-\"),0)","v":{"$error":"#DIV/0!"}},0,0,{"$f":"IF(AND(COUNTRY_INFO!J34>1,COUNTRY_INFO!J34<99,COUNTRY_INFO!J34<>4,COUNTRY_INFO!J34<>5), IF(AC34/P34*100<>0, IF(AC34/P34*100>100,100,AC34/P34*100), \"-\"),0)","v":"-"},{"$f":"COUNTRY_INFO!U34","v":32380},null,null,{"$f":"MAX('T1'!K34,'T2'!R34)","v":0},{"$f":"IF(AND(COUNTRY_INFO!K34>1,COUNTRY_INFO!K34<99,COUNTRY_INFO!K34<>4,COUNTRY_INFO!K34<>5),IF(COUNTRY_INFO!R34>AH34,AH34,COUNTRY_INFO!R34),0)","v":0},{"$f":"IF(AND(COUNTRY_INFO!K34>1,COUNTRY_INFO!K34<99,COUNTRY_INFO!K34<>4,COUNTRY_INFO!K34<>5), IF(AI34/COUNTRY_INFO!R34*100<>0, IF(AI34/COUNTRY_INFO!R34*100>100,100,AI34/COUNTRY_INFO!R34*100), \"-\"),0)","v":0},{"$f":"MAX('T1'!L34,'T2'!S34)","v":13311},{"$f":"IF(AND(COUNTRY_INFO!K34>1,COUNTRY_INFO!K34<99,COUNTRY_INFO!K34<>4,COUNTRY_INFO!K34<>5),IF(COUNTRY_INFO!S34>AK34,AK34,COUNTRY_INFO!S34),0)","v":0},{"$f":"IF(AND(COUNTRY_INFO!K34>1,COUNTRY_INFO!K34<99,COUNTRY_INFO!K34<>4,COUNTRY_INFO!K34<>5), IF(AL34/COUNTRY_INFO!S34*100<>0, IF(AL34/COUNTRY_INFO!S34*100>100,100,AL34/COUNTRY_INFO!S34*100), \"-\"),0)","v":0},{"$f":"MAX('T1'!M34,'T2'!T34)","v":0},{"$f":"IF(AND(COUNTRY_INFO!K34>1,COUNTRY_INFO!K34<99,COUNTRY_INFO!K34<>4,COUNTRY_INFO!K34<>5),IF(COUNTRY_INFO!T34>AN34,AN34,COUNTRY_INFO!T34),0)","v":0},{"$f":"IF(AND(COUNTRY_INFO!K34>1,COUNTRY_INFO!K34<99,COUNTRY_INFO!K34<>4,COUNTRY_INFO!K34<>5), IF(AO34/COUNTRY_INFO!T34*100<>0, IF(AO34/COUNTRY_INFO!T34*100>100,100,AO34/COUNTRY_INFO!T34*100), \"-\"),0)","v":0},13311,13311,41.10870907967881,null,{"$f":"IF(AND(D34<>0, D34<>\"Inconnu\",D34<>\"Interrompu\",D34<>\"Non requis\"),D34/COUNTRY_INFO!D34, 0)","v":0},{"$f":"IF(AND(J34<>0,J34<>\"Inconnu\",J34<>\"Interrompu\",J34<>\"Non requis\"),J34/COUNTRY_INFO!D34, 0)","v":0.82196996762102315},{"$f":"IF(AND(P34<>0,P34<>\"Inconnu\",P34<>\"Surveillance\",P34<>\"Non requis\"),P34/COUNTRY_INFO!Q34, 0)","v":1},{"$f":"IF(AND(AE34<>0,AE34<>\"Inconnu\",AE34<>\"Surveillance\",AE34<>\"Non requis\"),AE34/COUNTRY_INFO!U34, 0)","v":1},{"$f":"IF(AU34>0,D34*PROFILE!$G$7,IF(AV34>0,J34*PROFILE!$G$7,0))","v":1536.0407301407672},{"$f":"_xlfn.IFS(OR(AU34>0,AW34>0),COUNTRY_INFO!E34, AV34>0,J34*PROFILE!$G$8,AX34>0,COUNTRY_INFO!R34,COUNTIFS(AU34:AX34,\">0\")=0,0)","v":7475},{"$f":"_xlfn.IFS(OR(AU34>0,AW34>0),COUNTRY_INFO!F34, AV34>0,J34*PROFILE!$G$9,AX34>0,COUNTRY_INFO!S34,COUNTIFS(AU34:AX34,\">0\")=0,0)","v":14015},{"$f":"_xlfn.IFS(AU34>0,COUNTRY_INFO!G34, AND(AV34>0,AW34=0,AX34=0),J34*PROFILE!$G$10,AND(AV34>0,AW34>0,AX34=0), MAX(J34*PROFILE!$G$10,COUNTRY_INFO!P34),AND(AV34>0,AW34=0,AX34>0), MAX(J34*PROFILE!$G$10,COUNTRY_INFO!T34),AND(AV34=0,AW34>0,AX34>0), MAX(COUNTRY_INFO!P34,COUNTRY_INFO!T34),AND(AV34=0,AW34>0,AX34=0),COUNTRY_INFO!P34,AND(AV34=0,AW34=0,AX34>0),COUNTRY_INFO!T34,AND(AV34>0,AW34>0,AX34>0), MAX(J34*PROFILE!$G$10,COUNTRY_INFO!P34,COUNTRY_INFO!T34),COUNTIFS(AU34:AX34,\">0\")=0,0)","v":19200.467733346377},42226.508463487145,0,{"$f":"MAX('MDA2'!J34,'MDA5'!J34,S34,AH34)","v":0},{"$f":"MAX('MDA1'!K34,'MDA2'!K34,'MDA3'!I34,'MDA3'!L34,'MDA5'!K34,V34,AK34)","v":13311},{"$f":"MAX('MDA1'!L34,'MDA2'!L34,'MDA3'!J34,'MDA3'!M34,'MDA5'!L34,Y34,AN34)","v":20384},33695,{"$f":"_xlfn.IFS(AND(AU34=0,AW34=0,AX34=0),0,AND(AU34=0,AW34=0,AX34>0),AI34,AND(AU34=0,AW34>0,AX34=0),T34,AND(AU34=0,AW34>0,AX34>0),MAX(T34,AI34),AND(AU34>0,AW34=0,AX34=0),MIN(MAX('MDA2'!J34,'MDA5'!J34),AZ34),AND(AU34>0,AW34=0,AX34>0),MIN(MAX('MDA2'!J34,'MDA5'!J34,AI34),AZ34),AND(AU34>0,AW34>0,AX34=0),MIN(MAX('MDA2'!J34,'MDA5'!J34,T34),AZ34),AND(AU34>0,AW34>0,AX34>0),MIN(MAX('MDA2'!J34,'MDA5'!J34,AI34,T34),AZ34))","v":0},{"$f":"_xlfn.IFS(AND(AU34=0,AV34=0,AW34=0,AX34=0),0,AND(AU34=0,AV34=0,AW34=0,AX34>0),AL34,AND(AU34=0,AV34=0,AW34>0,AX34=0),W34,AND(AU34=0,AV34=0,AW34>0,AX34>0),MAX(W34,AL34),AND(AU34=0,AV34>0,AW34=0,AX34=0),MIN(J34*PROFILE!$G$9,MAX('MDA3'!I34,'MDA3'!L34)),AND(AU34=0,AV34>0,AW34=0,AX34>0),MIN(J34*PROFILE!$G$9,MAX('MDA3'!I34,'MDA3'!L34,AL34)),AND(AU34=0,AV34>0,AW34>0,AX34=0),MIN(J34*PROFILE!$G$9,MAX('MDA3'!I34,'MDA3'!L34,W34)),AND(AU34=0,AV34>0,AW34>0,AX34>0),MIN(J34*PROFILE!$G$9,MAX('MDA3'!I34,'MDA3'!L34,W34,AL34)),AND(AU34>0,AV34=0,AW34=0,AX34=0), MIN(BA34,MAX('MDA1'!K34,'MDA2'!K34,'MDA5'!K34)),AND(AU34>0,AV34=0,AW34=0,AX34>0), MIN(BA34,MAX('MDA1'!K34,'MDA2'!K34,'MDA5'!K34,AL34)),AND(AU34>0,AV34=0,AW34>0,AX34=0),MIN(BA34,MAX('MDA1'!K34,'MDA2'!KL34,'MDA5'!K34,W34)),AND(AU34>0,AV34=0,AW34>0,AX34>0),MIN(BA34,MAX('MDA1'!K34,'MDA2'!K34,'MDA5'!K34,W34,AL34)),AND(AU34>0,AV34>0,AW34=0,AX34=0),MIN(BA34, MAX('MDA1'!K34,'MDA2'!K34, 'MDA5'!K34,MAX('MDA3'!I34,'MDA3'!L34))), AND(AU34>0,AV34>0,AW34=0,AX34>0),MIN(BA34, MAX('MDA1'!K34,'MDA2'!K34, 'MDA5'!K34,MAX('MDA3'!I34,'MDA3'!L34),AL34)), AND(AU34>0,AV34>0,AW34>0,AX34=0), MIN(BA34, MAX('MDA1'!K34,'MDA2'!K34, 'MDA5'!K34,MAX('MDA3'!I34,'MDA3'!L34),W34)), AND(AU34>0,AV34>0,AW34>0,AX34>0), MIN(BA34, MAX('MDA1'!K34,'MDA2'!K34, 'MDA5'!K34,MAX('MDA3'!I34,'MDA3'!L34),W34,AL34)))","v":10962},{"$f":"_xlfn.IFS(AND(AU34=0,AV34=0,AW34=0,AX34=0),0,AND(AU34=0,AV34=0,AW34=0,AX34>0),AO34,AND(AU34=0,AV34=0,AW34>0,AX34=0),Z34,AND(AU34=0,AV34=0,AW34>0,AX34>0),MAX(Z34,AO34),AND(AU34=0,AV34>0,AW34=0,AX34=0),MIN(J34*PROFILE!$G$10,MAX('MDA3'!J34,'MDA3'!J34)),AND(AU34=0,AV34>0,AW34=0,AX34>0),MIN(J34*PROFILE!$G$10,MAX('MDA3'!J34,'MDA3'!M34,AO34)),AND(AU34=0,AV34>0,AW34>0,AX34=0),MIN(J34*PROFILE!$G$10,MAX('MDA3'!J34,'MDA3'!M34,Z34)),AND(AU34=0,AV34>0,AW34>0,AX34>0),MIN(J34*PROFILE!$G$10,MAX('MDA3'!J34,'MDA3'!M34,Z34,AO34)),AND(AU34>0,AV34=0,AW34=0,AX34=0), MIN(BB34,MAX('MDA1'!L34,'MDA2'!L34,'MDA5'!L34)),AND(AU34>0,AV34=0,AW34=0,AX34>0), MIN(BB34,MAX('MDA1'!L34,'MDA2'!L34,'MDA5'!L34,AO34)),AND(AU34>0,AV34=0,AW34>0,AX34=0),MIN(BB34,MAX('MDA1'!L34,'MDA2'!L34,'MDA5'!L34,Z34)),AND(AU34>0,AV34=0,AW34>0,AX34>0),MIN(BB34,MAX('MDA1'!L34,'MDA2'!L34,'MDA5'!L34,Z34,AO34)),AND(AU34>0,AV34>0,AW34=0,AX34=0),MIN(BB34, MAX('MDA1'!L34,'MDA2'!L34, 'MDA5'!L34,MAX('MDA3'!J34,'MDA3'!M34))), AND(AU34>0,AV34>0,AW34=0,AX34>0),MIN(BB34, MAX('MDA1'!L34,'MDA2'!L34, 'MDA5'!L34,MAX('MDA3'!J34,'MDA3'!M34),AO34)), AND(AU34>0,AV34>0,AW34>0,AX34=0), MIN(BB34, MAX('MDA1'!L34,'MDA2'!L34, 'MDA5'!L34,MAX('MDA3'!J34,'MDA3'!M34),Z34)), AND(AU34>0,AV34>0,AW34>0,AX34>0), MIN(BB34, MAX('MDA1'!L34,'MDA2'!L34, 'MDA5'!L34,MAX('MDA3'!J34,'MDA3'!M34),Z34,AO34)))","v":19200.467733346377},30162.467733346377,71.430172256433593]
[{"$f":"IF(COUNTRY_INFO!A35=0,\" \",COUNTRY_INFO!A35)","v":"Togo"},{"$f":"IF(COUNTRY_INFO!B35=0,\" \",COUNTRY_INFO!B35)","v":"PLATEAUX"},{"$f":"IF(COUNTRY_INFO!C35=0,\" \",COUNTRY_INFO!C35)","v":"EST-MONO"},{"$f":"COUNTRY_INFO!L35","v":"Non requis"},null,null,{"$f":"MAX('MDA1'!M35,'MDA2'!M35,'MDA5'!M35)","v":0},{"$f":"IF(AND(COUNTRY_INFO!H35>0,COUNTRY_INFO!H35<4),IF(D35>G35,G35,D35),0)","v":0},{"$f":"IF(AND(COUNTRY_INFO!H35>0,COUNTRY_INFO!H35<4), IF(G35/D35*100<>0, IF(G35/D35*100>100,100,G35/D35*100), \"-\"),0)","v":0},{"$f":"COUNTRY_INFO!M35","v":137972.89726189227},55722,54320,{"$f":"MAX('MDA1'!M35,MAX('MDA3'!I35,'MDA3'!L35)+MAX('MDA3'!J35,'MDA3'!M35))","v":110042},{"$f":"IF(AND(COUNTRY_INFO!I35>0,COUNTRY_INFO!I35<4),IF(J35>M35,M35,J35),0)","v":110042},{"$f":"IF(AND(COUNTRY_INFO!I35>0,COUNTRY_INFO!I35<4), IF(M35/J35*100<>0, IF(M35/J35*100>100,100,M35/J35*100), \"-\"),0)","v":79.75624356943419},{"$f":"COUNTRY_INFO!Q35","v":74127},23877,23455,{"$f":"MAX('MDA2'!J35,'MDA5'!J35,'T1'!K35, MAX(T3_R1!J35,T3_R2!J35,T3_R3!J35))","v":0},{"$f":"IF(AND(COUNTRY_INFO!J35>1,COUNTRY_INFO!J35<99,COUNTRY_INFO!J35<>4,COUNTRY_INFO!J35<>5),IF(COUNTRY_INFO!N35>S35,S35,COUNTRY_INFO!N35),0)","v":0},{"$f":"IF(AND(COUNTRY_INFO!J35>1,COUNTRY_INFO!J35<99,COUNTRY_INFO!J35<>4,COUNTRY_INFO!J35<>5), IF(T35/COUNTRY_INFO!N35*100<>0, IF(T35/COUNTRY_INFO!N35*100>100,100,T35/COUNTRY_INFO!N35*100), \"-\"),0)","v":"-"},{"$f":"MAX('MDA1'!K35, 'MDA2'!K35, 'MDA5'!K35,'T1'!L35, MAX(T3_R1!K35,T3_R2!K35,T3_R3!K35))","v":48187},{"$f":"IF(AND(COUNTRY_INFO!J35>1,COUNTRY_INFO!J35<99,COUNTRY_INFO!J35<>4,COUNTRY_INFO!J35<>5),IF(COUNTRY_INFO!O35>V35,V35,COUNTRY_INFO!O35),0)","v":48187},{"$f":"IF(AND(COUNTRY_INFO!J35>1,COUNTRY_INFO!J35<99,COUNTRY_INFO!J35<>4,COUNTRY_INFO!J35<>5), IF(W35/COUNTRY_INFO!O35*100<>0, IF(W35/COUNTRY_INFO!O35*100>100,100,W35/COUNTRY_INFO!O35*100), \"-\"),0)","v":99.675244084064204},{"$f":"MAX('MDA1'!L35, 'MDA2'!L35, 'MDA5'!L35,'T1'!M35, MAX(T3_R1!L35,T3_R2!L35,T3_R3!L35))","v":0},{"$f":"IF(AND(COUNTRY_INFO!J35>1,COUNTRY_INFO!J35<99,COUNTRY_INFO!J35<>4,COUNTRY_INFO!J35<>5),IF(COUNTRY_INFO!P35>Y35,Y35,COUNTRY_INFO!P35),0)","v":0},{"$f":"IF(AND(COUNTRY_INFO!J35>1,COUNTRY_INFO!J35<99,COUNTRY_INFO!J35<>4,COUNTRY_INFO!J35<>5), IF(Z35/COUNTRY_INFO!P35*100<>0, IF(Z35/COUNTRY_INFO!P35*100>100,100,Z35/COUNTRY_INFO!P35*100), \"-\"),0)","v":{"$error":"#DIV/0!"}},48187,48187,{"$f":"IF(AND(COUNTRY_INFO!J35>1,COUNTRY_INFO!J35<99,COUNTRY_INFO!J35<>4,COUNTRY_INFO!J35<>5), IF(AC35/P35*100<>0, IF(AC35/P35*100>100,100,AC35/P35*100), \"-\"),0)","v":65.006003210705956},{"$f":"COUNTRY_INFO!U35","v":109213},null,null,{"$f":"MAX('T1'!K35,'T2'!R35)","v":0},{"$f":"IF(AND(COUNTRY_INFO!K35>1,COUNTRY_INFO!K35<99,COUNTRY_INFO!K35<>4,COUNTRY_INFO!K35<>5),IF(COUNTRY_INFO!R35>AH35,AH35,COUNTRY_INFO!R35),0)","v":0},{"$f":"IF(AND(COUNTRY_INFO!K35>1,COUNTRY_INFO!K35<99,COUNTRY_INFO!K35<>4,COUNTRY_INFO!K35<>5), IF(AI35/COUNTRY_INFO!R35*100<>0, IF(AI35/COUNTRY_INFO!R35*100>100,100,AI35/COUNTRY_INFO!R35*100), \"-\"),0)","v":{"$error":"#DIV/0!"}},{"$f":"MAX('T1'!L35,'T2'!S35)","v":47332},{"$f":"IF(AND(COUNTRY_INFO!K35>1,COUNTRY_INFO!K35<99,COUNTRY_INFO!K35<>4,COUNTRY_INFO!K35<>5),IF(COUNTRY_INFO!S35>AK35,AK35,COUNTRY_INFO!S35),0)","v":0},{"$f":"IF(AND(COUNTRY_INFO!K35>1,COUNTRY_INFO!K35<99,COUNTRY_INFO!K35<>4,COUNTRY_INFO!K35<>5), IF(AL35/COUNTRY_INFO!S35*100<>0, IF(AL35/COUNTRY_INFO!S35*100>100,100,AL35/COUNTRY_INFO!S35*100), \"-\"),0)","v":{"$error":"#DIV/0!"}},{"$f":"MAX('T1'!M35,'T2'!T35)","v":36406},{"$f":"IF(AND(COUNTRY_INFO!K35>1,COUNTRY_INFO!K35<99,COUNTRY_INFO!K35<>4,COUNTRY_INFO!K35<>5),IF(COUNTRY_INFO!T35>AN35,AN35,COUNTRY_INFO!T35),0)","v":0},{"$f":"IF(AND(COUNTRY_INFO!K35>1,COUNTRY_INFO!K35<99,COUNTRY_INFO!K35<>4,COUNTRY_INFO!K35<>5), IF(AO35/COUNTRY_INFO!T35*100<>0, IF(AO35/COUNTRY_INFO!T35*100>100,100,AO35/COUNTRY_INFO!T35*100), \"-\"),0)","v":{"$error":"#DIV/0!"}},83738,83738,76.674022323349789,null,{"$f":"IF(AND(D35<>0, D35<>\"Inconnu\",D35<>\"Interrompu\",D35<>\"Non requis\"),D35/COUNTRY_INFO!D35, 0)","v":0},{"$f":"IF(AND(J35<>0,J35<>\"Inconnu\",J35<>\"Interrompu\",J35<>\"Non requis\"),J35/COUNTRY_INFO!D35, 0)","v":0.85620266906155285},{"$f":"IF(AND(P35<>0,P35<>\"Inconnu\",P35<>\"Surveillance\",P35<>\"Non requis\"),P35/COUNTRY_INFO!Q35, 0)","v":1},{"$f":"IF(AND(AE35<>0,AE35<>\"Inconnu\",AE35<>\"Surveillance\",AE35<>\"Non requis\"),AE35/COUNTRY_INFO!U35, 0)","v":1},{"$f":"IF(AU35>0,D35*PROFILE!$G$7,IF(AV35>0,J35*PROFILE!$G$7,0))","v":5518.9299369959763},{"$f":"_xlfn.IFS(OR(AU35>0,AW35>0),COUNTRY_INFO!E35, AV35>0,J35*PROFILE!$G$8,AX35>0,COUNTRY_INFO!R35,COUNTIFS(AU35:AX35,\">0\")=0,0)","v":25783},{"$f":"_xlfn.IFS(OR(AU35>0,AW35>0),COUNTRY_INFO!F35, AV35>0,J35*PROFILE!$G$9,AX35>0,COUNTRY_INFO!S35,COUNTIFS(AU35:AX35,\">0\")=0,0)","v":48344},{"$f":"_xlfn.IFS(AU35>0,COUNTRY_INFO!G35, AND(AV35>0,AW35=0,AX35=0),J35*PROFILE!$G$10,AND(AV35>0,AW35>0,AX35=0), MAX(J35*PROFILE!$G$10,COUNTRY_INFO!P35),AND(AV35>0,AW35=0,AX35>0), MAX(J35*PROFILE!$G$10,COUNTRY_INFO!T35),AND(AV35=0,AW35>0,AX35>0), MAX(COUNTRY_INFO!P35,COUNTRY_INFO!T35),AND(AV35=0,AW35>0,AX35=0),COUNTRY_INFO!P35,AND(AV35=0,AW35=0,AX35>0),COUNTRY_INFO!T35,AND(AV35>0,AW35>0,AX35>0), MAX(J35*PROFILE!$G$10,COUNTRY_INFO!P35,COUNTRY_INFO!T35),COUNTIFS(AU35:AX35,\">0\")=0,0)","v":68986.475487651653},148632.40542464762,"Y",{"$f":"MAX('MDA2'!J35,'MDA5'!J35,S35,AH35)","v":0},{"$f":"MAX('MDA1'!K35,'MDA2'!K35,'MDA3'!I35,'MDA3'!L35,'MDA5'!K35,V35,AK35)","v":48187},{"$f":"MAX('MDA1'!L35,'MDA2'!L35,'MDA3'!J35,'MDA3'!M35,'MDA5'!L35,Y35,AN35)","v":69268},117455,{"$f":"_xlfn.IFS(AND(AU35=0,AW35=0,AX35=0),0,AND(AU35=0,AW35=0,AX35>0),AI35,AND(AU35=0,AW35>0,AX35=0),T35,AND(AU35=0,AW35>0,AX35>0),MAX(T35,AI35),AND(AU35>0,AW35=0,AX35=0),MIN(MAX('MDA2'!J35,'MDA5'!J35),AZ35),AND(AU35>0,AW35=0,AX35>0),MIN(MAX('MDA2'!J35,'MDA5'!J35,AI35),AZ35),AND(AU35>0,AW35>0,AX35=0),MIN(MAX('MDA2'!J35,'MDA5'!J35,T35),AZ35),AND(AU35>0,AW35>0,AX35>0),MIN(MAX('MDA2'!J35,'MDA5'!J35,AI35,T35),AZ35))","v":0},{"$f":"_xlfn.IFS(AND(AU35=0,AV35=0,AW35=0,AX35=0),0,AND(AU35=0,AV35=0,AW35=0,AX35>0),AL35,AND(AU35=0,AV35=0,AW35>0,AX35=0),W35,AND(AU35=0,AV35=0,AW35>0,AX35>0),MAX(W35,AL35),AND(AU35=0,AV35>0,AW35=0,AX35=0),MIN(J35*PROFILE!$G$9,MAX('MDA3'!I35,'MDA3'!L35)),AND(AU35=0,AV35>0,AW35=0,AX35>0),MIN(J35*PROFILE!$G$9,MAX('MDA3'!I35,'MDA3'!L35,AL35)),AND(AU35=0,AV35>0,AW35>0,AX35=0),MIN(J35*PROFILE!$G$9,MAX('MDA3'!I35,'MDA3'!L35,W35)),AND(AU35=0,AV35>0,AW35>0,AX35>0),MIN(J35*PROFILE!$G$9,MAX('MDA3'!I35,'MDA3'!L35,W35,AL35)),AND(AU35>0,AV35=0,AW35=0,AX35=0), MIN(BA35,MAX('MDA1'!K35,'MDA2'!K35,'MDA5'!K35)),AND(AU35>0,AV35=0,AW35=0,AX35>0), MIN(BA35,MAX('MDA1'!K35,'MDA2'!K35,'MDA5'!K35,AL35)),AND(AU35>0,AV35=0,AW35>0,AX35=0),MIN(BA35,MAX('MDA1'!K35,'MDA2'!KL35,'MDA5'!K35,W35)),AND(AU35>0,AV35=0,AW35>0,AX35>0),MIN(BA35,MAX('MDA1'!K35,'MDA2'!K35,'MDA5'!K35,W35,AL35)),AND(AU35>0,AV35>0,AW35=0,AX35=0),MIN(BA35, MAX('MDA1'!K35,'MDA2'!K35, 'MDA5'!K35,MAX('MDA3'!I35,'MDA3'!L35))), AND(AU35>0,AV35>0,AW35=0,AX35>0),MIN(BA35, MAX('MDA1'!K35,'MDA2'!K35, 'MDA5'!K35,MAX('MDA3'!I35,'MDA3'!L35),AL35)), AND(AU35>0,AV35>0,AW35>0,AX35=0), MIN(BA35, MAX('MDA1'!K35,'MDA2'!K35, 'MDA5'!K35,MAX('MDA3'!I35,'MDA3'!L35),W35)), AND(AU35>0,AV35>0,AW35>0,AX35>0), MIN(BA35, MAX('MDA1'!K35,'MDA2'!K35, 'MDA5'!K35,MAX('MDA3'!I35,'MDA3'!L35),W35,AL35)))","v":41391.84470822302},{"$f":"_xlfn.IFS(AND(AU35=0,AV35=0,AW35=0,AX35=0),0,AND(AU35=0,AV35=0,AW35=0,AX35>0),AO35,AND(AU35=0,AV35=0,AW35>0,AX35=0),Z35,AND(AU35=0,AV35=0,AW35>0,AX35>0),MAX(Z35,AO35),AND(AU35=0,AV35>0,AW35=0,AX35=0),MIN(J35*PROFILE!$G$10,MAX('MDA3'!J35,'MDA3'!J35)),AND(AU35=0,AV35>0,AW35=0,AX35>0),MIN(J35*PROFILE!$G$10,MAX('MDA3'!J35,'MDA3'!M35,AO35)),AND(AU35=0,AV35>0,AW35>0,AX35=0),MIN(J35*PROFILE!$G$10,MAX('MDA3'!J35,'MDA3'!M35,Z35)),AND(AU35=0,AV35>0,AW35>0,AX35>0),MIN(J35*PROFILE!$G$10,MAX('MDA3'!J35,'MDA3'!M35,Z35,AO35)),AND(AU35>0,AV35=0,AW35=0,AX35=0), MIN(BB35,MAX('MDA1'!L35,'MDA2'!L35,'MDA5'!L35)),AND(AU35>0,AV35=0,AW35=0,AX35>0), MIN(BB35,MAX('MDA1'!L35,'MDA2'!L35,'MDA5'!L35,AO35)),AND(AU35>0,AV35=0,AW35>0,AX35=0),MIN(BB35,MAX('MDA1'!L35,'MDA2'!L35,'MDA5'!L35,Z35)),AND(AU35>0,AV35=0,AW35>0,AX35>0),MIN(BB35,MAX('MDA1'!L35,'MDA2'!L35,'MDA5'!L35,Z35,AO35)),AND(AU35>0,AV35>0,AW35=0,AX35=0),MIN(BB35, MAX('MDA1'!L35,'MDA2'!L35, 'MDA5'!L35,MAX('MDA3'!J35,'MDA3'!M35))), AND(AU35>0,AV35>0,AW35=0,AX35>0),MIN(BB35, MAX('MDA1'!L35,'MDA2'!L35, 'MDA5'!L35,MAX('MDA3'!J35,'MDA3'!M35),AO35)), AND(AU35>0,AV35>0,AW35>0,AX35=0), MIN(BB35, MAX('MDA1'!L35,'MDA2'!L35, 'MDA5'!L35,MAX('MDA3'!J35,'MDA3'!M35),Z35)), AND(AU35>0,AV35>0,AW35>0,AX35>0), MIN(BB35, MAX('MDA1'!L35,'MDA2'!L35, 'MDA5'!L35,MAX('MDA3'!J35,'MDA3'!M35),Z35,AO35)))","v":68986.475487651653},110378.32019587466,74.262621183126399]
[{"$f":"IF(COUNTRY_INFO!A36=0,\" \",COUNTRY_INFO!A36)","v":"Togo"},{"$f":"IF(COUNTRY_INFO!B36=0,\" \",COUNTRY_INFO!B36)","v":"PLATEAUX"},{"$f":"IF(COUNTRY_INFO!C36=0,\" \",COUNTRY_INFO!C36)","v":"HAHO"},{"$f":"COUNTRY_INFO!L36","v":"Non requis"},null,null,{"$f":"MAX('MDA1'!M36,'MDA2'!M36,'MDA5'!M36)","v":0},{"$f":"IF(AND(COUNTRY_INFO!H36>0,COUNTRY_INFO!H36<4),IF(D36>G36,G36,D36),0)","v":0},{"$f":"IF(AND(COUNTRY_INFO!H36>0,COUNTRY_INFO!H36<4), IF(G36/D36*100<>0, IF(G36/D36*100>100,100,G36/D36*100), \"-\"),0)","v":0},{"$f":"COUNTRY_INFO!M36","v":248377.13808303158},93123,94780,{"$f":"MAX('MDA1'!M36,MAX('MDA3'!I36,'MDA3'!L36)+MAX('MDA3'!J36,'MDA3'!M36))","v":187903},{"$f":"IF(AND(COUNTRY_INFO!I36>0,COUNTRY_INFO!I36<4),IF(J36>M36,M36,J36),0)","v":187903},{"$f":"IF(AND(COUNTRY_INFO!I36>0,COUNTRY_INFO!I36<4), IF(M36/J36*100<>0, IF(M36/J36*100>100,100,M36/J36*100), \"-\"),0)","v":75.652292900317065},{"$f":"COUNTRY_INFO!Q36","v":143480},48326,48882,{"$f":"MAX('MDA2'!J36,'MDA5'!J36,'T1'!K36, MAX(T3_R1!J36,T3_R2!J36,T3_R3!J36))","v":0},{"$f":"IF(AND(COUNTRY_INFO!J36>1,COUNTRY_INFO!J36<99,COUNTRY_INFO!J36<>4,COUNTRY_INFO!J36<>5),IF(COUNTRY_INFO!N36>S36,S36,COUNTRY_INFO!N36),0)","v":0},{"$f":"IF(AND(COUNTRY_INFO!J36>1,COUNTRY_INFO!J36<99,COUNTRY_INFO!J36<>4,COUNTRY_INFO!J36<>5), IF(T36/COUNTRY_INFO!N36*100<>0, IF(T36/COUNTRY_INFO!N36*100>100,100,T36/COUNTRY_INFO!N36*100), \"-\"),0)","v":"-"},{"$f":"MAX('MDA1'!K36, 'MDA2'!K36, 'MDA5'!K36,'T1'!L36, MAX(T3_R1!K36,T3_R2!K36,T3_R3!K36))","v":97208},{"$f":"IF(AND(COUNTRY_INFO!J36>1,COUNTRY_INFO!J36<99,COUNTRY_INFO!J36<>4,COUNTRY_INFO!J36<>5),IF(COUNTRY_INFO!O36>V36,V36,COUNTRY_INFO!O36),0)","v":93574},{"$f":"IF(AND(COUNTRY_INFO!J36>1,COUNTRY_INFO!J36<99,COUNTRY_INFO!J36<>4,COUNTRY_INFO!J36<>5), IF(W36/COUNTRY_INFO!O36*100<>0, IF(W36/COUNTRY_INFO!O36*100>100,100,W36/COUNTRY_INFO!O36*100), \"-\"),0)","v":100},{"$f":"MAX('MDA1'!L36, 'MDA2'!L36, 'MDA5'!L36,'T1'!M36, MAX(T3_R1!L36,T3_R2!L36,T3_R3!L36))","v":0},{"$f":"IF(AND(COUNTRY_INFO!J36>1,COUNTRY_INFO!J36<99,COUNTRY_INFO!J36<>4,COUNTRY_INFO!J36<>5),IF(COUNTRY_INFO!P36>Y36,Y36,COUNTRY_INFO!P36),0)","v":0},{"$f":"IF(AND(COUNTRY_INFO!J36>1,COUNTRY_INFO!J36<99,COUNTRY_INFO!J36<>4,COUNTRY_INFO!J36<>5), IF(Z36/COUNTRY_INFO!P36*100<>0, IF(Z36/COUNTRY_INFO!P36*100>100,100,Z36/COUNTRY_INFO!P36*100), \"-\"),0)","v":{"$error":"#DIV/0!"}},97208,93574,{"$f":"IF(AND(COUNTRY_INFO!J36>1,COUNTRY_INFO!J36<99,COUNTRY_INFO!J36<>4,COUNTRY_INFO!J36<>5), IF(AC36/P36*100<>0, IF(AC36/P36*100>100,100,AC36/P36*100), \"-\"),0)","v":65.217451909673812},{"$f":"COUNTRY_INFO!U36","v":216650},null,null,{"$f":"MAX('T1'!K36,'T2'!R36)","v":0},{"$f":"IF(AND(COUNTRY_INFO!K36>1,COUNTRY_INFO!K36<99,COUNTRY_INFO!K36<>4,COUNTRY_INFO!K36<>5),IF(COUNTRY_INFO!R36>AH36,AH36,COUNTRY_INFO!R36),0)","v":0},{"$f":"IF(AND(COUNTRY_INFO!K36>1,COUNTRY_INFO!K36<99,COUNTRY_INFO!K36<>4,COUNTRY_INFO!K36<>5), IF(AI36/COUNTRY_INFO!R36*100<>0, IF(AI36/COUNTRY_INFO!R36*100>100,100,AI36/COUNTRY_INFO!R36*100), \"-\"),0)","v":{"$error":"#DIV/0!"}},{"$f":"MAX('T1'!L36,'T2'!S36)","v":97208},{"$f":"IF(AND(COUNTRY_INFO!K36>1,COUNTRY_INFO!K36<99,COUNTRY_INFO!K36<>4,COUNTRY_INFO!K36<>5),IF(COUNTRY_INFO!S36>AK36,AK36,COUNTRY_INFO!S36),0)","v":0},{"$f":"IF(AND(COUNTRY_INFO!K36>1,COUNTRY_INFO!K36<99,COUNTRY_INFO!K36<>4,COUNTRY_INFO!K36<>5), IF(AL36/COUNTRY_INFO!S36*100<>0, IF(AL36/COUNTRY_INFO!S36*100>100,100,AL36/COUNTRY_INFO!S36*100), \"-\"),0)","v":{"$error":"#DIV/0!"}},{"$f":"MAX('T1'!M36,'T2'!T36)","v":110729},{"$f":"IF(AND(COUNTRY_INFO!K36>1,COUNTRY_INFO!K36<99,COUNTRY_INFO!K36<>4,COUNTRY_INFO!K36<>5),IF(COUNTRY_INFO!T36>AN36,AN36,COUNTRY_INFO!T36),0)","v":0},{"$f":"IF(AND(COUNTRY_INFO!K36>1,COUNTRY_INFO!K36<99,COUNTRY_INFO!K36<>4,COUNTRY_INFO!K36<>5), IF(AO36/COUNTRY_INFO!T36*100<>0, IF(AO36/COUNTRY_INFO!T36*100>100,100,AO36/COUNTRY_INFO!T36*100), \"-\"),0)","v":{"$error":"#DIV/0!"}},207937,207937,95.97830602354027,null,{"$f":"IF(AND(D36<>0, D36<>\"Inconnu\",D36<>\"Interrompu\",D36<>\"Non requis\"),D36/COUNTRY_INFO!D36, 0)","v":0},{"$f":"IF(AND(J36<>0,J36<>\"Inconnu\",J36<>\"Interrompu\",J36<>\"Non requis\"),J36/COUNTRY_INFO!D36, 0)","v":0.79630077857117543},{"$f":"IF(AND(P36<>0,P36<>\"Inconnu\",P36<>\"Surveillance\",P36<>\"Non requis\"),P36/COUNTRY_INFO!Q36, 0)","v":1},{"$f":"IF(AND(AE36<>0,AE36<>\"Inconnu\",AE36<>\"Surveillance\",AE36<>\"Non requis\"),AE36/COUNTRY_INFO!U36, 0)","v":1},{"$f":"IF(AU36>0,D36*PROFILE!$G$7,IF(AV36>0,J36*PROFILE!$G$7,0))","v":9935.1108096969056},{"$f":"_xlfn.IFS(OR(AU36>0,AW36>0),COUNTRY_INFO!E36, AV36>0,J36*PROFILE!$G$8,AX36>0,COUNTRY_INFO!R36,COUNTIFS(AU36:AX36,\">0\")=0,0)","v":49906},{"$f":"_xlfn.IFS(OR(AU36>0,AW36>0),COUNTRY_INFO!F36, AV36>0,J36*PROFILE!$G$9,AX36>0,COUNTRY_INFO!S36,COUNTIFS(AU36:AX36,\">0\")=0,0)","v":93574},{"$f":"_xlfn.IFS(AU36>0,COUNTRY_INFO!G36, AND(AV36>0,AW36=0,AX36=0),J36*PROFILE!$G$10,AND(AV36>0,AW36>0,AX36=0), MAX(J36*PROFILE!$G$10,COUNTRY_INFO!P36),AND(AV36>0,AW36=0,AX36>0), MAX(J36*PROFILE!$G$10,COUNTRY_INFO!T36),AND(AV36=0,AW36>0,AX36>0), MAX(COUNTRY_INFO!P36,COUNTRY_INFO!T36),AND(AV36=0,AW36>0,AX36=0),COUNTRY_INFO!P36,AND(AV36=0,AW36=0,AX36>0),COUNTRY_INFO!T36,AND(AV36>0,AW36>0,AX36>0), MAX(J36*PROFILE!$G$10,COUNTRY_INFO!P36,COUNTRY_INFO!T36),COUNTIFS(AU36:AX36,\">0\")=0,0)","v":124188.6173886317},277603.72819832858,"Y",{"$f":"MAX('MDA2'!J36,'MDA5'!J36,S36,AH36)","v":0},{"$f":"MAX('MDA1'!K36,'MDA2'!K36,'MDA3'!I36,'MDA3'!L36,'MDA5'!K36,V36,AK36)","v":97208},{"$f":"MAX('MDA1'!L36,'MDA2'!L36,'MDA3'!J36,'MDA3'!M36,'MDA5'!L36,Y36,AN36)","v":112652},209860,{"$f":"_xlfn.IFS(AND(AU36=0,AW36=0,AX36=0),0,AND(AU36=0,AW36=0,AX36>0),AI36,AND(AU36=0,AW36>0,AX36=0),T36,AND(AU36=0,AW36>0,AX36>0),MAX(T36,AI36),AND(AU36>0,AW36=0,AX36=0),MIN(MAX('MDA2'!J36,'MDA5'!J36),AZ36),AND(AU36>0,AW36=0,AX36>0),MIN(MAX('MDA2'!J36,'MDA5'!J36,AI36),AZ36),AND(AU36>0,AW36>0,AX36=0),MIN(MAX('MDA2'!J36,'MDA5'!J36,T36),AZ36),AND(AU36>0,AW36>0,AX36>0),MIN(MAX('MDA2'!J36,'MDA5'!J36,AI36,T36),AZ36))","v":0},{"$f":"_xlfn.IFS(AND(AU36=0,AV36=0,AW36=0,AX36=0),0,AND(AU36=0,AV36=0,AW36=0,AX36>0),AL36,AND(AU36=0,AV36=0,AW36>0,AX36=0),W36,AND(AU36=0,AV36=0,AW36>0,AX36>0),MAX(W36,AL36),AND(AU36=0,AV36>0,AW36=0,AX36=0),MIN(J36*PROFILE!$G$9,MAX('MDA3'!I36,'MDA3'!L36)),AND(AU36=0,AV36>0,AW36=0,AX36>0),MIN(J36*PROFILE!$G$9,MAX('MDA3'!I36,'MDA3'!L36,AL36)),AND(AU36=0,AV36>0,AW36>0,AX36=0),MIN(J36*PROFILE!$G$9,MAX('MDA3'!I36,'MDA3'!L36,W36)),AND(AU36=0,AV36>0,AW36>0,AX36>0),MIN(J36*PROFILE!$G$9,MAX('MDA3'!I36,'MDA3'!L36,W36,AL36)),AND(AU36>0,AV36=0,AW36=0,AX36=0), MIN(BA36,MAX('MDA1'!K36,'MDA2'!K36,'MDA5'!K36)),AND(AU36>0,AV36=0,AW36=0,AX36>0), MIN(BA36,MAX('MDA1'!K36,'MDA2'!K36,'MDA5'!K36,AL36)),AND(AU36>0,AV36=0,AW36>0,AX36=0),MIN(BA36,MAX('MDA1'!K36,'MDA2'!KL36,'MDA5'!K36,W36)),AND(AU36>0,AV36=0,AW36>0,AX36>0),MIN(BA36,MAX('MDA1'!K36,'MDA2'!K36,'MDA5'!K36,W36,AL36)),AND(AU36>0,AV36>0,AW36=0,AX36=0),MIN(BA36, MAX('MDA1'!K36,'MDA2'!K36, 'MDA5'!K36,MAX('MDA3'!I36,'MDA3'!L36))), AND(AU36>0,AV36>0,AW36=0,AX36>0),MIN(BA36, MAX('MDA1'!K36,'MDA2'!K36, 'MDA5'!K36,MAX('MDA3'!I36,'MDA3'!L36),AL36)), AND(AU36>0,AV36>0,AW36>0,AX36=0), MIN(BA36, MAX('MDA1'!K36,'MDA2'!K36, 'MDA5'!K36,MAX('MDA3'!I36,'MDA3'!L36),W36)), AND(AU36>0,AV36>0,AW36>0,AX36>0), MIN(BA36, MAX('MDA1'!K36,'MDA2'!K36, 'MDA5'!K36,MAX('MDA3'!I36,'MDA3'!L36),W36,AL36)))","v":74513.097373691475},{"$f":"_xlfn.IFS(AND(AU36=0,AV36=0,AW36=0,AX36=0),0,AND(AU36=0,AV36=0,AW36=0,AX36>0),AO36,AND(AU36=0,AV36=0,AW36>0,AX36=0),Z36,AND(AU36=0,AV36=0,AW36>0,AX36>0),MAX(Z36,AO36),AND(AU36=0,AV36>0,AW36=0,AX36=0),MIN(J36*PROFILE!$G$10,MAX('MDA3'!J36,'MDA3'!J36)),AND(AU36=0,AV36>0,AW36=0,AX36>0),MIN(J36*PROFILE!$G$10,MAX('MDA3'!J36,'MDA3'!M36,AO36)),AND(AU36=0,AV36>0,AW36>0,AX36=0),MIN(J36*PROFILE!$G$10,MAX('MDA3'!J36,'MDA3'!M36,Z36)),AND(AU36=0,AV36>0,AW36>0,AX36>0),MIN(J36*PROFILE!$G$10,MAX('MDA3'!J36,'MDA3'!M36,Z36,AO36)),AND(AU36>0,AV36=0,AW36=0,AX36=0), MIN(BB36,MAX('MDA1'!L36,'MDA2'!L36,'MDA5'!L36)),AND(AU36>0,AV36=0,AW36=0,AX36>0), MIN(BB36,MAX('MDA1'!L36,'MDA2'!L36,'MDA5'!L36,AO36)),AND(AU36>0,AV36=0,AW36>0,AX36=0),MIN(BB36,MAX('MDA1'!L36,'MDA2'!L36,'MDA5'!L36,Z36)),AND(AU36>0,AV36=0,AW36>0,AX36>0),MIN(BB36,MAX('MDA1'!L36,'MDA2'!L36,'MDA5'!L36,Z36,AO36)),AND(AU36>0,AV36>0,AW36=0,AX36=0),MIN(BB36, MAX('MDA1'!L36,'MDA2'!L36, 'MDA5'!L36,MAX('MDA3'!J36,'MDA3'!M36))), AND(AU36>0,AV36>0,AW36=0,AX36>0),MIN(BB36, MAX('MDA1'!L36,'MDA2'!L36, 'MDA5'!L36,MAX('MDA3'!J36,'MDA3'!M36),AO36)), AND(AU36>0,AV36>0,AW36>0,AX36=0), MIN(BB36, MAX('MDA1'!L36,'MDA2'!L36, 'MDA5'!L36,MAX('MDA3'!J36,'MDA3'!M36),Z36)), AND(AU36>0,AV36>0,AW36>0,AX36>0), MIN(BB36, MAX('MDA1'!L36,'MDA2'!L36, 'MDA5'!L36,MAX('MDA3'!J36,'MDA3'!M36),Z36,AO36)))","v":112652},187165.09737369147,67.421680028726058]
[{"$f":"IF(COUNTRY_INFO!A37=0,\" \",COUNTRY_INFO!A37)","v":"Togo"},{"$f":"IF(COUNTRY_INFO!B37=0,\" \",COUNTRY_INFO!B37)","v":"PLATEAUX"},{"$f":"IF(COUNTRY_INFO!C37=0,\" \",COUNTRY_INFO!C37)","v":"KLOTO"},{"$f":"COUNTRY_INFO!L37","v":"Non requis"},null,null,{"$f":"MAX('MDA1'!M37,'MDA2'!M37,'MDA5'!M37)","v":0},{"$f":"IF(AND(COUNTRY_INFO!H37>0,COUNTRY_INFO!H37<4),IF(D37>G37,G37,D37),0)","v":0},{"$f":"IF(AND(COUNTRY_INFO!H37>0,COUNTRY_INFO!H37<4), IF(G37/D37*100<>0, IF(G37/D37*100>100,100,G37/D37*100), \"-\"),0)","v":0},{"$f":"COUNTRY_INFO!M37","v":60114.211713520264},24411,25148,{"$f":"MAX('MDA1'!M37,MAX('MDA3'!I37,'MDA3'!L37)+MAX('MDA3'!J37,'MDA3'!M37))","v":49559},{"$f":"IF(AND(COUNTRY_INFO!I37>0,COUNTRY_INFO!I37<4),IF(J37>M37,M37,J37),0)","v":49559},{"$f":"IF(AND(COUNTRY_INFO!I37>0,COUNTRY_INFO!I37<4), IF(M37/J37*100<>0, IF(M37/J37*100>100,100,M37/J37*100), \"-\"),0)","v":82.441403766846207},{"$f":"COUNTRY_INFO!Q37","v":0},19828,20234,{"$f":"MAX('MDA2'!J37,'MDA5'!J37,'T1'!K37, MAX(T3_R1!J37,T3_R2!J37,T3_R3!J37))","v":0},{"$f":"IF(AND(COUNTRY_INFO!J37>1,COUNTRY_INFO!J37<99,COUNTRY_INFO!J37<>4,COUNTRY_INFO!J37<>5),IF(COUNTRY_INFO!N37>S37,S37,COUNTRY_INFO!N37),0)","v":0},{"$f":"IF(AND(COUNTRY_INFO!J37>1,COUNTRY_INFO!J37<99,COUNTRY_INFO!J37<>4,COUNTRY_INFO!J37<>5), IF(T37/COUNTRY_INFO!N37*100<>0, IF(T37/COUNTRY_INFO!N37*100>100,100,T37/COUNTRY_INFO!N37*100), \"-\"),0)","v":0},{"$f":"MAX('MDA1'!K37, 'MDA2'!K37, 'MDA5'!K37,'T1'!L37, MAX(T3_R1!K37,T3_R2!K37,T3_R3!K37))","v":40062},{"$f":"IF(AND(COUNTRY_INFO!J37>1,COUNTRY_INFO!J37<99,COUNTRY_INFO!J37<>4,COUNTRY_INFO!J37<>5),IF(COUNTRY_INFO!O37>V37,V37,COUNTRY_INFO!O37),0)","v":0},{"$f":"IF(AND(COUNTRY_INFO!J37>1,COUNTRY_INFO!J37<99,COUNTRY_INFO!J37<>4,COUNTRY_INFO!J37<>5), IF(W37/COUNTRY_INFO!O37*100<>0, IF(W37/COUNTRY_INFO!O37*100>100,100,W37/COUNTRY_INFO!O37*100), \"-\"),0)","v":0},{"$f":"MAX('MDA1'!L37, 'MDA2'!L37, 'MDA5'!L37,'T1'!M37, MAX(T3_R1!L37,T3_R2!L37,T3_R3!L37))","v":0},{"$f":"IF(AND(COUNTRY_INFO!J37>1,COUNTRY_INFO!J37<99,COUNTRY_INFO!J37<>4,COUNTRY_INFO!J37<>5),IF(COUNTRY_INFO!P37>Y37,Y37,COUNTRY_INFO!P37),0)","v":0},{"$f":"IF(AND(COUNTRY_INFO!J37>1,COUNTRY_INFO!J37<99,COUNTRY_INFO!J37<>4,COUNTRY_INFO!J37<>5), IF(Z37/COUNTRY_INFO!P37*100<>0, IF(Z37/COUNTRY_INFO!P37*100>100,100,Z37/COUNTRY_INFO!P37*100), \"-\"),0)","v":0},40062,0,{"$f":"IF(AND(COUNTRY_INFO!J37>1,COUNTRY_INFO!J37<99,COUNTRY_INFO!J37<>4,COUNTRY_INFO!J37<>5), IF(AC37/P37*100<>0, IF(AC37/P37*100>100,100,AC37/P37*100), \"-\"),0)","v":0},{"$f":"COUNTRY_INFO!U37","v":89268},null,null,{"$f":"MAX('T1'!K37,'T2'!R37)","v":0},{"$f":"IF(AND(COUNTRY_INFO!K37>1,COUNTRY_INFO!K37<99,COUNTRY_INFO!K37<>4,COUNTRY_INFO!K37<>5),IF(COUNTRY_INFO!R37>AH37,AH37,COUNTRY_INFO!R37),0)","v":0},{"$f":"IF(AND(COUNTRY_INFO!K37>1,COUNTRY_INFO!K37<99,COUNTRY_INFO!K37<>4,COUNTRY_INFO!K37<>5), IF(AI37/COUNTRY_INFO!R37*100<>0, IF(AI37/COUNTRY_INFO!R37*100>100,100,AI37/COUNTRY_INFO!R37*100), \"-\"),0)","v":{"$error":"#DIV/0!"}},{"$f":"MAX('T1'!L37,'T2'!S37)","v":37137},{"$f":"IF(AND(COUNTRY_INFO!K37>1,COUNTRY_INFO!K37<99,COUNTRY_INFO!K37<>4,COUNTRY_INFO!K37<>5),IF(COUNTRY_INFO!S37>AK37,AK37,COUNTRY_INFO!S37),0)","v":0},{"$f":"IF(AND(COUNTRY_INFO!K37>1,COUNTRY_INFO!K37<99,COUNTRY_INFO!K37<>4,COUNTRY_INFO!K37<>5), IF(AL37/COUNTRY_INFO!S37*100<>0, IF(AL37/COUNTRY_INFO!S37*100>100,100,AL37/COUNTRY_INFO!S37*100), \"-\"),0)","v":{"$error":"#DIV/0!"}},{"$f":"MAX('T1'!M37,'T2'!T37)","v":2338},{"$f":"IF(AND(COUNTRY_INFO!K37>1,COUNTRY_INFO!K37<99,COUNTRY_INFO!K37<>4,COUNTRY_INFO!K37<>5),IF(COUNTRY_INFO!T37>AN37,AN37,COUNTRY_INFO!T37),0)","v":0},{"$f":"IF(AND(COUNTRY_INFO!K37>1,COUNTRY_INFO!K37<99,COUNTRY_INFO!K37<>4,COUNTRY_INFO!K37<>5), IF(AO37/COUNTRY_INFO!T37*100<>0, IF(AO37/COUNTRY_INFO!T37*100>100,100,AO37/COUNTRY_INFO!T37*100), \"-\"),0)","v":{"$error":"#DIV/0!"}},39475,39475,44.220773401442848,null,{"$f":"IF(AND(D37<>0, D37<>\"Inconnu\",D37<>\"Interrompu\",D37<>\"Non requis\"),D37/COUNTRY_INFO!D37, 0)","v":0},{"$f":"IF(AND(J37<>0,J37<>\"Inconnu\",J37<>\"Interrompu\",J37<>\"Non requis\"),J37/COUNTRY_INFO!D37, 0)","v":0.41493015078210854},{"$f":"IF(AND(P37<>0,P37<>\"Inconnu\",P37<>\"Surveillance\",P37<>\"Non requis\"),P37/COUNTRY_INFO!Q37, 0)","v":0},{"$f":"IF(AND(AE37<>0,AE37<>\"Inconnu\",AE37<>\"Surveillance\",AE37<>\"Non requis\"),AE37/COUNTRY_INFO!U37, 0)","v":1},{"$f":"IF(AU37>0,D37*PROFILE!$G$7,IF(AV37>0,J37*PROFILE!$G$7,0))","v":2404.5745885506894},{"$f":"_xlfn.IFS(OR(AU37>0,AW37>0),COUNTRY_INFO!E37, AV37>0,J37*PROFILE!$G$8,AX37>0,COUNTRY_INFO!R37,COUNTIFS(AU37:AX37,\">0\")=0,0)","v":9618.2667144259594},{"$f":"_xlfn.IFS(OR(AU37>0,AW37>0),COUNTRY_INFO!F37, AV37>0,J37*PROFILE!$G$9,AX37>0,COUNTRY_INFO!S37,COUNTIFS(AU37:AX37,\">0\")=0,0)","v":18034.252852429712},{"$f":"_xlfn.IFS(AU37>0,COUNTRY_INFO!G37, AND(AV37>0,AW37=0,AX37=0),J37*PROFILE!$G$10,AND(AV37>0,AW37>0,AX37=0), MAX(J37*PROFILE!$G$10,COUNTRY_INFO!P37),AND(AV37>0,AW37=0,AX37>0), MAX(J37*PROFILE!$G$10,COUNTRY_INFO!T37),AND(AV37=0,AW37>0,AX37>0), MAX(COUNTRY_INFO!P37,COUNTRY_INFO!T37),AND(AV37=0,AW37>0,AX37=0),COUNTRY_INFO!P37,AND(AV37=0,AW37=0,AX37>0),COUNTRY_INFO!T37,AND(AV37>0,AW37>0,AX37>0), MAX(J37*PROFILE!$G$10,COUNTRY_INFO!P37,COUNTRY_INFO!T37),COUNTIFS(AU37:AX37,\">0\")=0,0)","v":30057.117558113903},60114.211713520264,"Y",{"$f":"MAX('MDA2'!J37,'MDA5'!J37,S37,AH37)","v":0},{"$f":"MAX('MDA1'!K37,'MDA2'!K37,'MDA3'!I37,'MDA3'!L37,'MDA5'!K37,V37,AK37)","v":40062},{"$f":"MAX('MDA1'!L37,'MDA2'!L37,'MDA3'!J37,'MDA3'!M37,'MDA5'!L37,Y37,AN37)","v":33110},73172,{"$f":"_xlfn.IFS(AND(AU37=0,AW37=0,AX37=0),0,AND(AU37=0,AW37=0,AX37>0),AI37,AND(AU37=0,AW37>0,AX37=0),T37,AND(AU37=0,AW37>0,AX37>0),MAX(T37,AI37),AND(AU37>0,AW37=0,AX37=0),MIN(MAX('MDA2'!J37,'MDA5'!J37),AZ37),AND(AU37>0,AW37=0,AX37>0),MIN(MAX('MDA2'!J37,'MDA5'!J37,AI37),AZ37),AND(AU37>0,AW37>0,AX37=0),MIN(MAX('MDA2'!J37,'MDA5'!J37,T37),AZ37),AND(AU37>0,AW37>0,AX37>0),MIN(MAX('MDA2'!J37,'MDA5'!J37,AI37,T37),AZ37))","v":0},{"$f":"_xlfn.IFS(AND(AU37=0,AV37=0,AW37=0,AX37=0),0,AND(AU37=0,AV37=0,AW37=0,AX37>0),AL37,AND(AU37=0,AV37=0,AW37>0,AX37=0),W37,AND(AU37=0,AV37=0,AW37>0,AX37>0),MAX(W37,AL37),AND(AU37=0,AV37>0,AW37=0,AX37=0),MIN(J37*PROFILE!$G$9,MAX('MDA3'!I37,'MDA3'!L37)),AND(AU37=0,AV37>0,AW37=0,AX37>0),MIN(J37*PROFILE!$G$9,MAX('MDA3'!I37,'MDA3'!L37,AL37)),AND(AU37=0,AV37>0,AW37>0,AX37=0),MIN(J37*PROFILE!$G$9,MAX('MDA3'!I37,'MDA3'!L37,W37)),AND(AU37=0,AV37>0,AW37>0,AX37>0),MIN(J37*PROFILE!$G$9,MAX('MDA3'!I37,'MDA3'!L37,W37,AL37)),AND(AU37>0,AV37=0,AW37=0,AX37=0), MIN(BA37,MAX('MDA1'!K37,'MDA2'!K37,'MDA5'!K37)),AND(AU37>0,AV37=0,AW37=0,AX37>0), MIN(BA37,MAX('MDA1'!K37,'MDA2'!K37,'MDA5'!K37,AL37)),AND(AU37>0,AV37=0,AW37>0,AX37=0),MIN(BA37,MAX('MDA1'!K37,'MDA2'!KL37,'MDA5'!K37,W37)),AND(AU37>0,AV37=0,AW37>0,AX37>0),MIN(BA37,MAX('MDA1'!K37,'MDA2'!K37,'MDA5'!K37,W37,AL37)),AND(AU37>0,AV37>0,AW37=0,AX37=0),MIN(BA37, MAX('MDA1'!K37,'MDA2'!K37, 'MDA5'!K37,MAX('MDA3'!I37,'MDA3'!L37))), AND(AU37>0,AV37>0,AW37=0,AX37>0),MIN(BA37, MAX('MDA1'!K37,'MDA2'!K37, 'MDA5'!K37,MAX('MDA3'!I37,'MDA3'!L37),AL37)), AND(AU37>0,AV37>0,AW37>0,AX37=0), MIN(BA37, MAX('MDA1'!K37,'MDA2'!K37, 'MDA5'!K37,MAX('MDA3'!I37,'MDA3'!L37),W37)), AND(AU37>0,AV37>0,AW37>0,AX37>0), MIN(BA37, MAX('MDA1'!K37,'MDA2'!K37, 'MDA5'!K37,MAX('MDA3'!I37,'MDA3'!L37),W37,AL37)))","v":16449},{"$f":"_xlfn.IFS(AND(AU37=0,AV37=0,AW37=0,AX37=0),0,AND(AU37=0,AV37=0,AW37=0,AX37>0),AO37,AND(AU37=0,AV37=0,AW37>0,AX37=0),Z37,AND(AU37=0,AV37=0,AW37>0,AX37>0),MAX(Z37,AO37),AND(AU37=0,AV37>0,AW37=0,AX37=0),MIN(J37*PROFILE!$G$10,MAX('MDA3'!J37,'MDA3'!J37)),AND(AU37=0,AV37>0,AW37=0,AX37>0),MIN(J37*PROFILE!$G$10,MAX('MDA3'!J37,'MDA3'!M37,AO37)),AND(AU37=0,AV37>0,AW37>0,AX37=0),MIN(J37*PROFILE!$G$10,MAX('MDA3'!J37,'MDA3'!M37,Z37)),AND(AU37=0,AV37>0,AW37>0,AX37>0),MIN(J37*PROFILE!$G$10,MAX('MDA3'!J37,'MDA3'!M37,Z37,AO37)),AND(AU37>0,AV37=0,AW37=0,AX37=0), MIN(BB37,MAX('MDA1'!L37,'MDA2'!L37,'MDA5'!L37)),AND(AU37>0,AV37=0,AW37=0,AX37>0), MIN(BB37,MAX('MDA1'!L37,'MDA2'!L37,'MDA5'!L37,AO37)),AND(AU37>0,AV37=0,AW37>0,AX37=0),MIN(BB37,MAX('MDA1'!L37,'MDA2'!L37,'MDA5'!L37,Z37)),AND(AU37>0,AV37=0,AW37>0,AX37>0),MIN(BB37,MAX('MDA1'!L37,'MDA2'!L37,'MDA5'!L37,Z37,AO37)),AND(AU37>0,AV37>0,AW37=0,AX37=0),MIN(BB37, MAX('MDA1'!L37,'MDA2'!L37, 'MDA5'!L37,MAX('MDA3'!J37,'MDA3'!M37))), AND(AU37>0,AV37>0,AW37=0,AX37>0),MIN(BB37, MAX('MDA1'!L37,'MDA2'!L37, 'MDA5'!L37,MAX('MDA3'!J37,'MDA3'!M37),AO37)), AND(AU37>0,AV37>0,AW37>0,AX37=0), MIN(BB37, MAX('MDA1'!L37,'MDA2'!L37, 'MDA5'!L37,MAX('MDA3'!J37,'MDA3'!M37),Z37)), AND(AU37>0,AV37>0,AW37>0,AX37>0), MIN(BB37, MAX('MDA1'!L37,'MDA2'!L37, 'MDA5'!L37,MAX('MDA3'!J37,'MDA3'!M37),Z37,AO37)))","v":30057.117558113903},46506.117558113903,77.362933377123923]
[{"$f":"IF(COUNTRY_INFO!A38=0,\" \",COUNTRY_INFO!A38)","v":"Togo"},{"$f":"IF(COUNTRY_INFO!B38=0,\" \",COUNTRY_INFO!B38)","v":"PLATEAUX"},{"$f":"IF(COUNTRY_INFO!C38=0,\" \",COUNTRY_INFO!C38)","v":"KPELE"},{"$f":"COUNTRY_INFO!L38","v":"Non requis"},null,null,{"$f":"MAX('MDA1'!M38,'MDA2'!M38,'MDA5'!M38)","v":0},{"$f":"IF(AND(COUNTRY_INFO!H38>0,COUNTRY_INFO!H38<4),IF(D38>G38,G38,D38),0)","v":0},{"$f":"IF(AND(COUNTRY_INFO!H38>0,COUNTRY_INFO!H38<4), IF(G38/D38*100<>0, IF(G38/D38*100>100,100,G38/D38*100), \"-\"),0)","v":0},{"$f":"COUNTRY_INFO!M38","v":67833.437267360976},26907,27450,{"$f":"MAX('MDA1'!M38,MAX('MDA3'!I38,'MDA3'!L38)+MAX('MDA3'!J38,'MDA3'!M38))","v":54357},{"$f":"IF(AND(COUNTRY_INFO!I38>0,COUNTRY_INFO!I38<4),IF(J38>M38,M38,J38),0)","v":54357},{"$f":"IF(AND(COUNTRY_INFO!I38>0,COUNTRY_INFO!I38<4), IF(M38/J38*100<>0, IF(M38/J38*100>100,100,M38/J38*100), \"-\"),0)","v":80.133046753558276},{"$f":"COUNTRY_INFO!Q38","v":38818},12095,12468,{"$f":"MAX('MDA2'!J38,'MDA5'!J38,'T1'!K38, MAX(T3_R1!J38,T3_R2!J38,T3_R3!J38))","v":0},{"$f":"IF(AND(COUNTRY_INFO!J38>1,COUNTRY_INFO!J38<99,COUNTRY_INFO!J38<>4,COUNTRY_INFO!J38<>5),IF(COUNTRY_INFO!N38>S38,S38,COUNTRY_INFO!N38),0)","v":0},{"$f":"IF(AND(COUNTRY_INFO!J38>1,COUNTRY_INFO!J38<99,COUNTRY_INFO!J38<>4,COUNTRY_INFO!J38<>5), IF(T38/COUNTRY_INFO!N38*100<>0, IF(T38/COUNTRY_INFO!N38*100>100,100,T38/COUNTRY_INFO!N38*100), \"-\"),0)","v":"-"},{"$f":"MAX('MDA1'!K38, 'MDA2'!K38, 'MDA5'!K38,'T1'!L38, MAX(T3_R1!K38,T3_R2!K38,T3_R3!K38))","v":24563},{"$f":"IF(AND(COUNTRY_INFO!J38>1,COUNTRY_INFO!J38<99,COUNTRY_INFO!J38<>4,COUNTRY_INFO!J38<>5),IF(COUNTRY_INFO!O38>V38,V38,COUNTRY_INFO!O38),0)","v":24563},{"$f":"IF(AND(COUNTRY_INFO!J38>1,COUNTRY_INFO!J38<99,COUNTRY_INFO!J38<>4,COUNTRY_INFO!J38<>5), IF(W38/COUNTRY_INFO!O38*100<>0, IF(W38/COUNTRY_INFO!O38*100>100,100,W38/COUNTRY_INFO!O38*100), \"-\"),0)","v":97.025596460736296},{"$f":"MAX('MDA1'!L38, 'MDA2'!L38, 'MDA5'!L38,'T1'!M38, MAX(T3_R1!L38,T3_R2!L38,T3_R3!L38))","v":0},{"$f":"IF(AND(COUNTRY_INFO!J38>1,COUNTRY_INFO!J38<99,COUNTRY_INFO!J38<>4,COUNTRY_INFO!J38<>5),IF(COUNTRY_INFO!P38>Y38,Y38,COUNTRY_INFO!P38),0)","v":0},{"$f":"IF(AND(COUNTRY_INFO!J38>1,COUNTRY_INFO!J38<99,COUNTRY_INFO!J38<>4,COUNTRY_INFO!J38<>5), IF(Z38/COUNTRY_INFO!P38*100<>0, IF(Z38/COUNTRY_INFO!P38*100>100,100,Z38/COUNTRY_INFO!P38*100), \"-\"),0)","v":{"$error":"#DIV/0!"}},24563,24563,{"$f":"IF(AND(COUNTRY_INFO!J38>1,COUNTRY_INFO!J38<99,COUNTRY_INFO!J38<>4,COUNTRY_INFO!J38<>5), IF(AC38/P38*100<>0, IF(AC38/P38*100>100,100,AC38/P38*100), \"-\"),0)","v":63.277345561337526},{"$f":"COUNTRY_INFO!U38","v":55660},null,null,{"$f":"MAX('T1'!K38,'T2'!R38)","v":0},{"$f":"IF(AND(COUNTRY_INFO!K38>1,COUNTRY_INFO!K38<99,COUNTRY_INFO!K38<>4,COUNTRY_INFO!K38<>5),IF(COUNTRY_INFO!R38>AH38,AH38,COUNTRY_INFO!R38),0)","v":0},{"$f":"IF(AND(COUNTRY_INFO!K38>1,COUNTRY_INFO!K38<99,COUNTRY_INFO!K38<>4,COUNTRY_INFO!K38<>5), IF(AI38/COUNTRY_INFO!R38*100<>0, IF(AI38/COUNTRY_INFO!R38*100>100,100,AI38/COUNTRY_INFO!R38*100), \"-\"),0)","v":{"$error":"#DIV/0!"}},{"$f":"MAX('T1'!L38,'T2'!S38)","v":24563},{"$f":"IF(AND(COUNTRY_INFO!K38>1,COUNTRY_INFO!K38<99,COUNTRY_INFO!K38<>4,COUNTRY_INFO!K38<>5),IF(COUNTRY_INFO!S38>AK38,AK38,COUNTRY_INFO!S38),0)","v":0},{"$f":"IF(AND(COUNTRY_INFO!K38>1,COUNTRY_INFO!K38<99,COUNTRY_INFO!K38<>4,COUNTRY_INFO!K38<>5), IF(AL38/COUNTRY_INFO!S38*100<>0, IF(AL38/COUNTRY_INFO!S38*100>100,100,AL38/COUNTRY_INFO!S38*100), \"-\"),0)","v":{"$error":"#DIV/0!"}},{"$f":"MAX('T1'!M38,'T2'!T38)","v":4540},{"$f":"IF(AND(COUNTRY_INFO!K38>1,COUNTRY_INFO!K38<99,COUNTRY_INFO!K38<>4,COUNTRY_INFO!K38<>5),IF(COUNTRY_INFO!T38>AN38,AN38,COUNTRY_INFO!T38),0)","v":0},{"$f":"IF(AND(COUNTRY_INFO!K38>1,COUNTRY_INFO!K38<99,COUNTRY_INFO!K38<>4,COUNTRY_INFO!K38<>5), IF(AO38/COUNTRY_INFO!T38*100<>0, IF(AO38/COUNTRY_INFO!T38*100>100,100,AO38/COUNTRY_INFO!T38*100), \"-\"),0)","v":{"$error":"#DIV/0!"}},29103,29103,52.287100251527129,null,{"$f":"IF(AND(D38<>0, D38<>\"Inconnu\",D38<>\"Interrompu\",D38<>\"Non requis\"),D38/COUNTRY_INFO!D38, 0)","v":0},{"$f":"IF(AND(J38<>0,J38<>\"Inconnu\",J38<>\"Interrompu\",J38<>\"Non requis\"),J38/COUNTRY_INFO!D38, 0)","v":0.80383353623041465},{"$f":"IF(AND(P38<>0,P38<>\"Inconnu\",P38<>\"Surveillance\",P38<>\"Non requis\"),P38/COUNTRY_INFO!Q38, 0)","v":1},{"$f":"IF(AND(AE38<>0,AE38<>\"Inconnu\",AE38<>\"Surveillance\",AE38<>\"Non requis\"),AE38/COUNTRY_INFO!U38, 0)","v":1},{"$f":"IF(AU38>0,D38*PROFILE!$G$7,IF(AV38>0,J38*PROFILE!$G$7,0))","v":2713.3443965706765},{"$f":"_xlfn.IFS(OR(AU38>0,AW38>0),COUNTRY_INFO!E38, AV38>0,J38*PROFILE!$G$8,AX38>0,COUNTRY_INFO!R38,COUNTIFS(AU38:AX38,\">0\")=0,0)","v":13502},{"$f":"_xlfn.IFS(OR(AU38>0,AW38>0),COUNTRY_INFO!F38, AV38>0,J38*PROFILE!$G$9,AX38>0,COUNTRY_INFO!S38,COUNTIFS(AU38:AX38,\">0\")=0,0)","v":25316},{"$f":"_xlfn.IFS(AU38>0,COUNTRY_INFO!G38, AND(AV38>0,AW38=0,AX38=0),J38*PROFILE!$G$10,AND(AV38>0,AW38>0,AX38=0), MAX(J38*PROFILE!$G$10,COUNTRY_INFO!P38),AND(AV38>0,AW38=0,AX38>0), MAX(J38*PROFILE!$G$10,COUNTRY_INFO!T38),AND(AV38=0,AW38>0,AX38>0), MAX(COUNTRY_INFO!P38,COUNTRY_INFO!T38),AND(AV38=0,AW38>0,AX38=0),COUNTRY_INFO!P38,AND(AV38=0,AW38=0,AX38>0),COUNTRY_INFO!T38,AND(AV38>0,AW38>0,AX38>0), MAX(J38*PROFILE!$G$10,COUNTRY_INFO!P38,COUNTRY_INFO!T38),COUNTIFS(AU38:AX38,\">0\")=0,0)","v":33916.731837597239},75448.076234167907,"Y",{"$f":"MAX('MDA2'!J38,'MDA5'!J38,S38,AH38)","v":0},{"$f":"MAX('MDA1'!K38,'MDA2'!K38,'MDA3'!I38,'MDA3'!L38,'MDA5'!K38,V38,AK38)","v":24563},{"$f":"MAX('MDA1'!L38,'MDA2'!L38,'MDA3'!J38,'MDA3'!M38,'MDA5'!L38,Y38,AN38)","v":34594},59157,{"$f":"_xlfn.IFS(AND(AU38=0,AW38=0,AX38=0),0,AND(AU38=0,AW38=0,AX38>0),AI38,AND(AU38=0,AW38>0,AX38=0),T38,AND(AU38=0,AW38>0,AX38>0),MAX(T38,AI38),AND(AU38>0,AW38=0,AX38=0),MIN(MAX('MDA2'!J38,'MDA5'!J38),AZ38),AND(AU38>0,AW38=0,AX38>0),MIN(MAX('MDA2'!J38,'MDA5'!J38,AI38),AZ38),AND(AU38>0,AW38>0,AX38=0),MIN(MAX('MDA2'!J38,'MDA5'!J38,T38),AZ38),AND(AU38>0,AW38>0,AX38>0),MIN(MAX('MDA2'!J38,'MDA5'!J38,AI38,T38),AZ38))","v":0},{"$f":"_xlfn.IFS(AND(AU38=0,AV38=0,AW38=0,AX38=0),0,AND(AU38=0,AV38=0,AW38=0,AX38>0),AL38,AND(AU38=0,AV38=0,AW38>0,AX38=0),W38,AND(AU38=0,AV38=0,AW38>0,AX38>0),MAX(W38,AL38),AND(AU38=0,AV38>0,AW38=0,AX38=0),MIN(J38*PROFILE!$G$9,MAX('MDA3'!I38,'MDA3'!L38)),AND(AU38=0,AV38>0,AW38=0,AX38>0),MIN(J38*PROFILE!$G$9,MAX('MDA3'!I38,'MDA3'!L38,AL38)),AND(AU38=0,AV38>0,AW38>0,AX38=0),MIN(J38*PROFILE!$G$9,MAX('MDA3'!I38,'MDA3'!L38,W38)),AND(AU38=0,AV38>0,AW38>0,AX38>0),MIN(J38*PROFILE!$G$9,MAX('MDA3'!I38,'MDA3'!L38,W38,AL38)),AND(AU38>0,AV38=0,AW38=0,AX38=0), MIN(BA38,MAX('MDA1'!K38,'MDA2'!K38,'MDA5'!K38)),AND(AU38>0,AV38=0,AW38=0,AX38>0), MIN(BA38,MAX('MDA1'!K38,'MDA2'!K38,'MDA5'!K38,AL38)),AND(AU38>0,AV38=0,AW38>0,AX38=0),MIN(BA38,MAX('MDA1'!K38,'MDA2'!KL38,'MDA5'!K38,W38)),AND(AU38>0,AV38=0,AW38>0,AX38>0),MIN(BA38,MAX('MDA1'!K38,'MDA2'!K38,'MDA5'!K38,W38,AL38)),AND(AU38>0,AV38>0,AW38=0,AX38=0),MIN(BA38, MAX('MDA1'!K38,'MDA2'!K38, 'MDA5'!K38,MAX('MDA3'!I38,'MDA3'!L38))), AND(AU38>0,AV38>0,AW38=0,AX38>0),MIN(BA38, MAX('MDA1'!K38,'MDA2'!K38, 'MDA5'!K38,MAX('MDA3'!I38,'MDA3'!L38),AL38)), AND(AU38>0,AV38>0,AW38>0,AX38=0), MIN(BA38, MAX('MDA1'!K38,'MDA2'!K38, 'MDA5'!K38,MAX('MDA3'!I38,'MDA3'!L38),W38)), AND(AU38>0,AV38>0,AW38>0,AX38>0), MIN(BA38, MAX('MDA1'!K38,'MDA2'!K38, 'MDA5'!K38,MAX('MDA3'!I38,'MDA3'!L38),W38,AL38)))","v":20350.019149529642},{"$f":"_xlfn.IFS(AND(AU38=0,AV38=0,AW38=0,AX38=0),0,AND(AU38=0,AV38=0,AW38=0,AX38>0),AO38,AND(AU38=0,AV38=0,AW38>0,AX38=0),Z38,AND(AU38=0,AV38=0,AW38>0,AX38>0),MAX(Z38,AO38),AND(AU38=0,AV38>0,AW38=0,AX38=0),MIN(J38*PROFILE!$G$10,MAX('MDA3'!J38,'MDA3'!J38)),AND(AU38=0,AV38>0,AW38=0,AX38>0),MIN(J38*PROFILE!$G$10,MAX('MDA3'!J38,'MDA3'!M38,AO38)),AND(AU38=0,AV38>0,AW38>0,AX38=0),MIN(J38*PROFILE!$G$10,MAX('MDA3'!J38,'MDA3'!M38,Z38)),AND(AU38=0,AV38>0,AW38>0,AX38>0),MIN(J38*PROFILE!$G$10,MAX('MDA3'!J38,'MDA3'!M38,Z38,AO38)),AND(AU38>0,AV38=0,AW38=0,AX38=0), MIN(BB38,MAX('MDA1'!L38,'MDA2'!L38,'MDA5'!L38)),AND(AU38>0,AV38=0,AW38=0,AX38>0), MIN(BB38,MAX('MDA1'!L38,'MDA2'!L38,'MDA5'!L38,AO38)),AND(AU38>0,AV38=0,AW38>0,AX38=0),MIN(BB38,MAX('MDA1'!L38,'MDA2'!L38,'MDA5'!L38,Z38)),AND(AU38>0,AV38=0,AW38>0,AX38>0),MIN(BB38,MAX('MDA1'!L38,'MDA2'!L38,'MDA5'!L38,Z38,AO38)),AND(AU38>0,AV38>0,AW38=0,AX38=0),MIN(BB38, MAX('MDA1'!L38,'MDA2'!L38, 'MDA5'!L38,MAX('MDA3'!J38,'MDA3'!M38))), AND(AU38>0,AV38>0,AW38=0,AX38>0),MIN(BB38, MAX('MDA1'!L38,'MDA2'!L38, 'MDA5'!L38,MAX('MDA3'!J38,'MDA3'!M38),AO38)), AND(AU38>0,AV38>0,AW38>0,AX38=0), MIN(BB38, MAX('MDA1'!L38,'MDA2'!L38, 'MDA5'!L38,MAX('MDA3'!J38,'MDA3'!M38),Z38)), AND(AU38>0,AV38>0,AW38>0,AX38>0), MIN(BB38, MAX('MDA1'!L38,'MDA2'!L38, 'MDA5'!L38,MAX('MDA3'!J38,'MDA3'!M38),Z38,AO38)))","v":33916.731837597239},54266.750987126885,71.925957155884774]
[{"$f":"IF(COUNTRY_INFO!A39=0,\" \",COUNTRY_INFO!A39)","v":"Togo"},{"$f":"IF(COUNTRY_INFO!B39=0,\" \",COUNTRY_INFO!B39)","v":"PLATEAUX"},{"$f":"IF(COUNTRY_INFO!C39=0,\" \",COUNTRY_INFO!C39)","v":"MOYEN-MONO"},{"$f":"COUNTRY_INFO!L39","v":"Non requis"},null,null,{"$f":"MAX('MDA1'!M39,'MDA2'!M39,'MDA5'!M39)","v":0},{"$f":"IF(AND(COUNTRY_INFO!H39>0,COUNTRY_INFO!H39<4),IF(D39>G39,G39,D39),0)","v":0},{"$f":"IF(AND(COUNTRY_INFO!H39>0,COUNTRY_INFO!H39<4), IF(G39/D39*100<>0, IF(G39/D39*100>100,100,G39/D39*100), \"-\"),0)","v":0},{"$f":"COUNTRY_INFO!M39","v":60664.309515223329},23367,27541,{"$f":"MAX('MDA1'!M39,MAX('MDA3'!I39,'MDA3'!L39)+MAX('MDA3'!J39,'MDA3'!M39))","v":50908},{"$f":"IF(AND(COUNTRY_INFO!I39>0,COUNTRY_INFO!I39<4),IF(J39>M39,M39,J39),0)","v":50908},{"$f":"IF(AND(COUNTRY_INFO!I39>0,COUNTRY_INFO!I39<4), IF(M39/J39*100<>0, IF(M39/J39*100>100,100,M39/J39*100), \"-\"),0)","v":83.917546258768439},{"$f":"COUNTRY_INFO!Q39","v":47217},14326,15566,{"$f":"MAX('MDA2'!J39,'MDA5'!J39,'T1'!K39, MAX(T3_R1!J39,T3_R2!J39,T3_R3!J39))","v":0},{"$f":"IF(AND(COUNTRY_INFO!J39>1,COUNTRY_INFO!J39<99,COUNTRY_INFO!J39<>4,COUNTRY_INFO!J39<>5),IF(COUNTRY_INFO!N39>S39,S39,COUNTRY_INFO!N39),0)","v":0},{"$f":"IF(AND(COUNTRY_INFO!J39>1,COUNTRY_INFO!J39<99,COUNTRY_INFO!J39<>4,COUNTRY_INFO!J39<>5), IF(T39/COUNTRY_INFO!N39*100<>0, IF(T39/COUNTRY_INFO!N39*100>100,100,T39/COUNTRY_INFO!N39*100), \"-\"),0)","v":"-"},{"$f":"MAX('MDA1'!K39, 'MDA2'!K39, 'MDA5'!K39,'T1'!L39, MAX(T3_R1!K39,T3_R2!K39,T3_R3!K39))","v":29892},{"$f":"IF(AND(COUNTRY_INFO!J39>1,COUNTRY_INFO!J39<99,COUNTRY_INFO!J39<>4,COUNTRY_INFO!J39<>5),IF(COUNTRY_INFO!O39>V39,V39,COUNTRY_INFO!O39),0)","v":29892},{"$f":"IF(AND(COUNTRY_INFO!J39>1,COUNTRY_INFO!J39<99,COUNTRY_INFO!J39<>4,COUNTRY_INFO!J39<>5), IF(W39/COUNTRY_INFO!O39*100<>0, IF(W39/COUNTRY_INFO!O39*100>100,100,W39/COUNTRY_INFO!O39*100), \"-\"),0)","v":97.070857959342732},{"$f":"MAX('MDA1'!L39, 'MDA2'!L39, 'MDA5'!L39,'T1'!M39, MAX(T3_R1!L39,T3_R2!L39,T3_R3!L39))","v":0},{"$f":"IF(AND(COUNTRY_INFO!J39>1,COUNTRY_INFO!J39<99,COUNTRY_INFO!J39<>4,COUNTRY_INFO!J39<>5),IF(COUNTRY_INFO!P39>Y39,Y39,COUNTRY_INFO!P39),0)","v":0},{"$f":"IF(AND(COUNTRY_INFO!J39>1,COUNTRY_INFO!J39<99,COUNTRY_INFO!J39<>4,COUNTRY_INFO!J39<>5), IF(Z39/COUNTRY_INFO!P39*100<>0, IF(Z39/COUNTRY_INFO!P39*100>100,100,Z39/COUNTRY_INFO!P39*100), \"-\"),0)","v":{"$error":"#DIV/0!"}},29892,29892,{"$f":"IF(AND(COUNTRY_INFO!J39>1,COUNTRY_INFO!J39<99,COUNTRY_INFO!J39<>4,COUNTRY_INFO!J39<>5), IF(AC39/P39*100<>0, IF(AC39/P39*100>100,100,AC39/P39*100), \"-\"),0)","v":63.307706969947262},{"$f":"COUNTRY_INFO!U39","v":71052},null,null,{"$f":"MAX('T1'!K39,'T2'!R39)","v":0},{"$f":"IF(AND(COUNTRY_INFO!K39>1,COUNTRY_INFO!K39<99,COUNTRY_INFO!K39<>4,COUNTRY_INFO!K39<>5),IF(COUNTRY_INFO!R39>AH39,AH39,COUNTRY_INFO!R39),0)","v":0},{"$f":"IF(AND(COUNTRY_INFO!K39>1,COUNTRY_INFO!K39<99,COUNTRY_INFO!K39<>4,COUNTRY_INFO!K39<>5), IF(AI39/COUNTRY_INFO!R39*100<>0, IF(AI39/COUNTRY_INFO!R39*100>100,100,AI39/COUNTRY_INFO!R39*100), \"-\"),0)","v":{"$error":"#DIV/0!"}},{"$f":"MAX('T1'!L39,'T2'!S39)","v":29892},{"$f":"IF(AND(COUNTRY_INFO!K39>1,COUNTRY_INFO!K39<99,COUNTRY_INFO!K39<>4,COUNTRY_INFO!K39<>5),IF(COUNTRY_INFO!S39>AK39,AK39,COUNTRY_INFO!S39),0)","v":0},{"$f":"IF(AND(COUNTRY_INFO!K39>1,COUNTRY_INFO!K39<99,COUNTRY_INFO!K39<>4,COUNTRY_INFO!K39<>5), IF(AL39/COUNTRY_INFO!S39*100<>0, IF(AL39/COUNTRY_INFO!S39*100>100,100,AL39/COUNTRY_INFO!S39*100), \"-\"),0)","v":{"$error":"#DIV/0!"}},{"$f":"MAX('T1'!M39,'T2'!T39)","v":18499},{"$f":"IF(AND(COUNTRY_INFO!K39>1,COUNTRY_INFO!K39<99,COUNTRY_INFO!K39<>4,COUNTRY_INFO!K39<>5),IF(COUNTRY_INFO!T39>AN39,AN39,COUNTRY_INFO!T39),0)","v":0},{"$f":"IF(AND(COUNTRY_INFO!K39>1,COUNTRY_INFO!K39<99,COUNTRY_INFO!K39<>4,COUNTRY_INFO!K39<>5), IF(AO39/COUNTRY_INFO!T39*100<>0, IF(AO39/COUNTRY_INFO!T39*100>100,100,AO39/COUNTRY_INFO!T39*100), \"-\"),0)","v":{"$error":"#DIV/0!"}},48391,48391,68.106457242582891,null,{"$f":"IF(AND(D39<>0, D39<>\"Inconnu\",D39<>\"Interrompu\",D39<>\"Non requis\"),D39/COUNTRY_INFO!D39, 0)","v":0},{"$f":"IF(AND(J39<>0,J39<>\"Inconnu\",J39<>\"Interrompu\",J39<>\"Non requis\"),J39/COUNTRY_INFO!D39, 0)","v":0.59100721673982626},{"$f":"IF(AND(P39<>0,P39<>\"Inconnu\",P39<>\"Surveillance\",P39<>\"Non requis\"),P39/COUNTRY_INFO!Q39, 0)","v":1},{"$f":"IF(AND(AE39<>0,AE39<>\"Inconnu\",AE39<>\"Surveillance\",AE39<>\"Non requis\"),AE39/COUNTRY_INFO!U39, 0)","v":1},{"$f":"IF(AU39>0,D39*PROFILE!$G$7,IF(AV39>0,J39*PROFILE!$G$7,0))","v":2426.5785566222744},{"$f":"_xlfn.IFS(OR(AU39>0,AW39>0),COUNTRY_INFO!E39, AV39>0,J39*PROFILE!$G$8,AX39>0,COUNTRY_INFO!R39,COUNTIFS(AU39:AX39,\">0\")=0,0)","v":16423},{"$f":"_xlfn.IFS(OR(AU39>0,AW39>0),COUNTRY_INFO!F39, AV39>0,J39*PROFILE!$G$9,AX39>0,COUNTRY_INFO!S39,COUNTIFS(AU39:AX39,\">0\")=0,0)","v":30794},{"$f":"_xlfn.IFS(AU39>0,COUNTRY_INFO!G39, AND(AV39>0,AW39=0,AX39=0),J39*PROFILE!$G$10,AND(AV39>0,AW39>0,AX39=0), MAX(J39*PROFILE!$G$10,COUNTRY_INFO!P39),AND(AV39>0,AW39=0,AX39>0), MAX(J39*PROFILE!$G$10,COUNTRY_INFO!T39),AND(AV39=0,AW39>0,AX39>0), MAX(COUNTRY_INFO!P39,COUNTRY_INFO!T39),AND(AV39=0,AW39>0,AX39=0),COUNTRY_INFO!P39,AND(AV39=0,AW39=0,AX39>0),COUNTRY_INFO!T39,AND(AV39>0,AW39>0,AX39>0), MAX(J39*PROFILE!$G$10,COUNTRY_INFO!P39,COUNTRY_INFO!T39),COUNTIFS(AU39:AX39,\">0\")=0,0)","v":30332.166566043095},79975.745122665365,"Y",{"$f":"MAX('MDA2'!J39,'MDA5'!J39,S39,AH39)","v":0},{"$f":"MAX('MDA1'!K39,'MDA2'!K39,'MDA3'!I39,'MDA3'!L39,'MDA5'!K39,V39,AK39)","v":29892},{"$f":"MAX('MDA1'!L39,'MDA2'!L39,'MDA3'!J39,'MDA3'!M39,'MDA5'!L39,Y39,AN39)","v":31704},61596,{"$f":"_xlfn.IFS(AND(AU39=0,AW39=0,AX39=0),0,AND(AU39=0,AW39=0,AX39>0),AI39,AND(AU39=0,AW39>0,AX39=0),T39,AND(AU39=0,AW39>0,AX39>0),MAX(T39,AI39),AND(AU39>0,AW39=0,AX39=0),MIN(MAX('MDA2'!J39,'MDA5'!J39),AZ39),AND(AU39>0,AW39=0,AX39>0),MIN(MAX('MDA2'!J39,'MDA5'!J39,AI39),AZ39),AND(AU39>0,AW39>0,AX39=0),MIN(MAX('MDA2'!J39,'MDA5'!J39,T39),AZ39),AND(AU39>0,AW39>0,AX39>0),MIN(MAX('MDA2'!J39,'MDA5'!J39,AI39,T39),AZ39))","v":0},{"$f":"_xlfn.IFS(AND(AU39=0,AV39=0,AW39=0,AX39=0),0,AND(AU39=0,AV39=0,AW39=0,AX39>0),AL39,AND(AU39=0,AV39=0,AW39>0,AX39=0),W39,AND(AU39=0,AV39=0,AW39>0,AX39>0),MAX(W39,AL39),AND(AU39=0,AV39>0,AW39=0,AX39=0),MIN(J39*PROFILE!$G$9,MAX('MDA3'!I39,'MDA3'!L39)),AND(AU39=0,AV39>0,AW39=0,AX39>0),MIN(J39*PROFILE!$G$9,MAX('MDA3'!I39,'MDA3'!L39,AL39)),AND(AU39=0,AV39>0,AW39>0,AX39=0),MIN(J39*PROFILE!$G$9,MAX('MDA3'!I39,'MDA3'!L39,W39)),AND(AU39=0,AV39>0,AW39>0,AX39>0),MIN(J39*PROFILE!$G$9,MAX('MDA3'!I39,'MDA3'!L39,W39,AL39)),AND(AU39>0,AV39=0,AW39=0,AX39=0), MIN(BA39,MAX('MDA1'!K39,'MDA2'!K39,'MDA5'!K39)),AND(AU39>0,AV39=0,AW39=0,AX39>0), MIN(BA39,MAX('MDA1'!K39,'MDA2'!K39,'MDA5'!K39,AL39)),AND(AU39>0,AV39=0,AW39>0,AX39=0),MIN(BA39,MAX('MDA1'!K39,'MDA2'!KL39,'MDA5'!K39,W39)),AND(AU39>0,AV39=0,AW39>0,AX39>0),MIN(BA39,MAX('MDA1'!K39,'MDA2'!K39,'MDA5'!K39,W39,AL39)),AND(AU39>0,AV39>0,AW39=0,AX39=0),MIN(BA39, MAX('MDA1'!K39,'MDA2'!K39, 'MDA5'!K39,MAX('MDA3'!I39,'MDA3'!L39))), AND(AU39>0,AV39>0,AW39=0,AX39>0),MIN(BA39, MAX('MDA1'!K39,'MDA2'!K39, 'MDA5'!K39,MAX('MDA3'!I39,'MDA3'!L39),AL39)), AND(AU39>0,AV39>0,AW39>0,AX39=0), MIN(BA39, MAX('MDA1'!K39,'MDA2'!K39, 'MDA5'!K39,MAX('MDA3'!I39,'MDA3'!L39),W39)), AND(AU39>0,AV39>0,AW39>0,AX39>0), MIN(BA39, MAX('MDA1'!K39,'MDA2'!K39, 'MDA5'!K39,MAX('MDA3'!I39,'MDA3'!L39),W39,AL39)))","v":18199.282095377392},{"$f":"_xlfn.IFS(AND(AU39=0,AV39=0,AW39=0,AX39=0),0,AND(AU39=0,AV39=0,AW39=0,AX39>0),AO39,AND(AU39=0,AV39=0,AW39>0,AX39=0),Z39,AND(AU39=0,AV39=0,AW39>0,AX39>0),MAX(Z39,AO39),AND(AU39=0,AV39>0,AW39=0,AX39=0),MIN(J39*PROFILE!$G$10,MAX('MDA3'!J39,'MDA3'!J39)),AND(AU39=0,AV39>0,AW39=0,AX39>0),MIN(J39*PROFILE!$G$10,MAX('MDA3'!J39,'MDA3'!M39,AO39)),AND(AU39=0,AV39>0,AW39>0,AX39=0),MIN(J39*PROFILE!$G$10,MAX('MDA3'!J39,'MDA3'!M39,Z39)),AND(AU39=0,AV39>0,AW39>0,AX39>0),MIN(J39*PROFILE!$G$10,MAX('MDA3'!J39,'MDA3'!M39,Z39,AO39)),AND(AU39>0,AV39=0,AW39=0,AX39=0), MIN(BB39,MAX('MDA1'!L39,'MDA2'!L39,'MDA5'!L39)),AND(AU39>0,AV39=0,AW39=0,AX39>0), MIN(BB39,MAX('MDA1'!L39,'MDA2'!L39,'MDA5'!L39,AO39)),AND(AU39>0,AV39=0,AW39>0,AX39=0),MIN(BB39,MAX('MDA1'!L39,'MDA2'!L39,'MDA5'!L39,Z39)),AND(AU39>0,AV39=0,AW39>0,AX39>0),MIN(BB39,MAX('MDA1'!L39,'MDA2'!L39,'MDA5'!L39,Z39,AO39)),AND(AU39>0,AV39>0,AW39=0,AX39=0),MIN(BB39, MAX('MDA1'!L39,'MDA2'!L39, 'MDA5'!L39,MAX('MDA3'!J39,'MDA3'!M39))), AND(AU39>0,AV39>0,AW39=0,AX39>0),MIN(BB39, MAX('MDA1'!L39,'MDA2'!L39, 'MDA5'!L39,MAX('MDA3'!J39,'MDA3'!M39),AO39)), AND(AU39>0,AV39>0,AW39>0,AX39=0), MIN(BB39, MAX('MDA1'!L39,'MDA2'!L39, 'MDA5'!L39,MAX('MDA3'!J39,'MDA3'!M39),Z39)), AND(AU39>0,AV39>0,AW39>0,AX39>0), MIN(BB39, MAX('MDA1'!L39,'MDA2'!L39, 'MDA5'!L39,MAX('MDA3'!J39,'MDA3'!M39),Z39,AO39)))","v":30332.166566043095},48531.448661420487,60.682708972556398]
[{"$f":"IF(COUNTRY_INFO!A40=0,\" \",COUNTRY_INFO!A40)","v":"Togo"},{"$f":"IF(COUNTRY_INFO!B40=0,\" \",COUNTRY_INFO!B40)","v":"PLATEAUX"},{"$f":"IF(COUNTRY_INFO!C40=0,\" \",COUNTRY_INFO!C40)","v":"OGOU"},{"$f":"COUNTRY_INFO!L40","v":"Non requis"},null,null,{"$f":"MAX('MDA1'!M40,'MDA2'!M40,'MDA5'!M40)","v":0},{"$f":"IF(AND(COUNTRY_INFO!H40>0,COUNTRY_INFO!H40<4),IF(D40>G40,G40,D40),0)","v":0},{"$f":"IF(AND(COUNTRY_INFO!H40>0,COUNTRY_INFO!H40<4), IF(G40/D40*100<>0, IF(G40/D40*100>100,100,G40/D40*100), \"-\"),0)","v":0},{"$f":"COUNTRY_INFO!M40","v":133874.15793873402},55618,57632,{"$f":"MAX('MDA1'!M40,MAX('MDA3'!I40,'MDA3'!L40)+MAX('MDA3'!J40,'MDA3'!M40))","v":113250},{"$f":"IF(AND(COUNTRY_INFO!I40>0,COUNTRY_INFO!I40<4),IF(J40>M40,M40,J40),0)","v":113250},{"$f":"IF(AND(COUNTRY_INFO!I40>0,COUNTRY_INFO!I40<4), IF(M40/J40*100<>0, IF(M40/J40*100>100,100,M40/J40*100), \"-\"),0)","v":84.594369625710414},{"$f":"COUNTRY_INFO!Q40","v":114649},35805,37695,{"$f":"MAX('MDA2'!J40,'MDA5'!J40,'T1'!K40, MAX(T3_R1!J40,T3_R2!J40,T3_R3!J40))","v":0},{"$f":"IF(AND(COUNTRY_INFO!J40>1,COUNTRY_INFO!J40<99,COUNTRY_INFO!J40<>4,COUNTRY_INFO!J40<>5),IF(COUNTRY_INFO!N40>S40,S40,COUNTRY_INFO!N40),0)","v":0},{"$f":"IF(AND(COUNTRY_INFO!J40>1,COUNTRY_INFO!J40<99,COUNTRY_INFO!J40<>4,COUNTRY_INFO!J40<>5), IF(T40/COUNTRY_INFO!N40*100<>0, IF(T40/COUNTRY_INFO!N40*100>100,100,T40/COUNTRY_INFO!N40*100), \"-\"),0)","v":"-"},{"$f":"MAX('MDA1'!K40, 'MDA2'!K40, 'MDA5'!K40,'T1'!L40, MAX(T3_R1!K40,T3_R2!K40,T3_R3!K40))","v":73500},{"$f":"IF(AND(COUNTRY_INFO!J40>1,COUNTRY_INFO!J40<99,COUNTRY_INFO!J40<>4,COUNTRY_INFO!J40<>5),IF(COUNTRY_INFO!O40>V40,V40,COUNTRY_INFO!O40),0)","v":73500},{"$f":"IF(AND(COUNTRY_INFO!J40>1,COUNTRY_INFO!J40<99,COUNTRY_INFO!J40<>4,COUNTRY_INFO!J40<>5), IF(W40/COUNTRY_INFO!O40*100<>0, IF(W40/COUNTRY_INFO!O40*100>100,100,W40/COUNTRY_INFO!O40*100), \"-\"),0)","v":98.300143103609685},{"$f":"MAX('MDA1'!L40, 'MDA2'!L40, 'MDA5'!L40,'T1'!M40, MAX(T3_R1!L40,T3_R2!L40,T3_R3!L40))","v":0},{"$f":"IF(AND(COUNTRY_INFO!J40>1,COUNTRY_INFO!J40<99,COUNTRY_INFO!J40<>4,COUNTRY_INFO!J40<>5),IF(COUNTRY_INFO!P40>Y40,Y40,COUNTRY_INFO!P40),0)","v":0},{"$f":"IF(AND(COUNTRY_INFO!J40>1,COUNTRY_INFO!J40<99,COUNTRY_INFO!J40<>4,COUNTRY_INFO!J40<>5), IF(Z40/COUNTRY_INFO!P40*100<>0, IF(Z40/COUNTRY_INFO!P40*100>100,100,Z40/COUNTRY_INFO!P40*100), \"-\"),0)","v":{"$error":"#DIV/0!"}},73500,73500,{"$f":"IF(AND(COUNTRY_INFO!J40>1,COUNTRY_INFO!J40<99,COUNTRY_INFO!J40<>4,COUNTRY_INFO!J40<>5), IF(AC40/P40*100<>0, IF(AC40/P40*100>100,100,AC40/P40*100), \"-\"),0)","v":64.108714424024626},{"$f":"COUNTRY_INFO!U40","v":167252},null,null,{"$f":"MAX('T1'!K40,'T2'!R40)","v":0},{"$f":"IF(AND(COUNTRY_INFO!K40>1,COUNTRY_INFO!K40<99,COUNTRY_INFO!K40<>4,COUNTRY_INFO!K40<>5),IF(COUNTRY_INFO!R40>AH40,AH40,COUNTRY_INFO!R40),0)","v":0},{"$f":"IF(AND(COUNTRY_INFO!K40>1,COUNTRY_INFO!K40<99,COUNTRY_INFO!K40<>4,COUNTRY_INFO!K40<>5), IF(AI40/COUNTRY_INFO!R40*100<>0, IF(AI40/COUNTRY_INFO!R40*100>100,100,AI40/COUNTRY_INFO!R40*100), \"-\"),0)","v":{"$error":"#DIV/0!"}},{"$f":"MAX('T1'!L40,'T2'!S40)","v":73500},{"$f":"IF(AND(COUNTRY_INFO!K40>1,COUNTRY_INFO!K40<99,COUNTRY_INFO!K40<>4,COUNTRY_INFO!K40<>5),IF(COUNTRY_INFO!S40>AK40,AK40,COUNTRY_INFO!S40),0)","v":0},{"$f":"IF(AND(COUNTRY_INFO!K40>1,COUNTRY_INFO!K40<99,COUNTRY_INFO!K40<>4,COUNTRY_INFO!K40<>5), IF(AL40/COUNTRY_INFO!S40*100<>0, IF(AL40/COUNTRY_INFO!S40*100>100,100,AL40/COUNTRY_INFO!S40*100), \"-\"),0)","v":{"$error":"#DIV/0!"}},{"$f":"MAX('T1'!M40,'T2'!T40)","v":95323},{"$f":"IF(AND(COUNTRY_INFO!K40>1,COUNTRY_INFO!K40<99,COUNTRY_INFO!K40<>4,COUNTRY_INFO!K40<>5),IF(COUNTRY_INFO!T40>AN40,AN40,COUNTRY_INFO!T40),0)","v":0},{"$f":"IF(AND(COUNTRY_INFO!K40>1,COUNTRY_INFO!K40<99,COUNTRY_INFO!K40<>4,COUNTRY_INFO!K40<>5), IF(AO40/COUNTRY_INFO!T40*100<>0, IF(AO40/COUNTRY_INFO!T40*100>100,100,AO40/COUNTRY_INFO!T40*100), \"-\"),0)","v":{"$error":"#DIV/0!"}},168823,168823,100.93930117427594,null,{"$f":"IF(AND(D40<>0, D40<>\"Inconnu\",D40<>\"Interrompu\",D40<>\"Non requis\"),D40/COUNTRY_INFO!D40, 0)","v":0},{"$f":"IF(AND(J40<>0,J40<>\"Inconnu\",J40<>\"Interrompu\",J40<>\"Non requis\"),J40/COUNTRY_INFO!D40, 0)","v":0.53713628624757292},{"$f":"IF(AND(P40<>0,P40<>\"Inconnu\",P40<>\"Surveillance\",P40<>\"Non requis\"),P40/COUNTRY_INFO!Q40, 0)","v":1},{"$f":"IF(AND(AE40<>0,AE40<>\"Inconnu\",AE40<>\"Surveillance\",AE40<>\"Non requis\"),AE40/COUNTRY_INFO!U40, 0)","v":1},{"$f":"IF(AU40>0,D40*PROFILE!$G$7,IF(AV40>0,J40*PROFILE!$G$7,0))","v":5354.9799467918601},{"$f":"_xlfn.IFS(OR(AU40>0,AW40>0),COUNTRY_INFO!E40, AV40>0,J40*PROFILE!$G$8,AX40>0,COUNTRY_INFO!R40,COUNTIFS(AU40:AX40,\">0\")=0,0)","v":39878},{"$f":"_xlfn.IFS(OR(AU40>0,AW40>0),COUNTRY_INFO!F40, AV40>0,J40*PROFILE!$G$9,AX40>0,COUNTRY_INFO!S40,COUNTIFS(AU40:AX40,\">0\")=0,0)","v":74771},{"$f":"_xlfn.IFS(AU40>0,COUNTRY_INFO!G40, AND(AV40>0,AW40=0,AX40=0),J40*PROFILE!$G$10,AND(AV40>0,AW40>0,AX40=0), MAX(J40*PROFILE!$G$10,COUNTRY_INFO!P40),AND(AV40>0,AW40=0,AX40>0), MAX(J40*PROFILE!$G$10,COUNTRY_INFO!T40),AND(AV40=0,AW40>0,AX40>0), MAX(COUNTRY_INFO!P40,COUNTRY_INFO!T40),AND(AV40=0,AW40>0,AX40=0),COUNTRY_INFO!P40,AND(AV40=0,AW40=0,AX40>0),COUNTRY_INFO!T40,AND(AV40>0,AW40>0,AX40>0), MAX(J40*PROFILE!$G$10,COUNTRY_INFO!P40,COUNTRY_INFO!T40),COUNTIFS(AU40:AX40,\">0\")=0,0)","v":66937.105028244579},186941.08497503644,"Y",{"$f":"MAX('MDA2'!J40,'MDA5'!J40,S40,AH40)","v":0},{"$f":"MAX('MDA1'!K40,'MDA2'!K40,'MDA3'!I40,'MDA3'!L40,'MDA5'!K40,V40,AK40)","v":73500},{"$f":"MAX('MDA1'!L40,'MDA2'!L40,'MDA3'!J40,'MDA3'!M40,'MDA5'!L40,Y40,AN40)","v":95323},168823,{"$f":"_xlfn.IFS(AND(AU40=0,AW40=0,AX40=0),0,AND(AU40=0,AW40=0,AX40>0),AI40,AND(AU40=0,AW40>0,AX40=0),T40,AND(AU40=0,AW40>0,AX40>0),MAX(T40,AI40),AND(AU40>0,AW40=0,AX40=0),MIN(MAX('MDA2'!J40,'MDA5'!J40),AZ40),AND(AU40>0,AW40=0,AX40>0),MIN(MAX('MDA2'!J40,'MDA5'!J40,AI40),AZ40),AND(AU40>0,AW40>0,AX40=0),MIN(MAX('MDA2'!J40,'MDA5'!J40,T40),AZ40),AND(AU40>0,AW40>0,AX40>0),MIN(MAX('MDA2'!J40,'MDA5'!J40,AI40,T40),AZ40))","v":0},{"$f":"_xlfn.IFS(AND(AU40=0,AV40=0,AW40=0,AX40=0),0,AND(AU40=0,AV40=0,AW40=0,AX40>0),AL40,AND(AU40=0,AV40=0,AW40>0,AX40=0),W40,AND(AU40=0,AV40=0,AW40>0,AX40>0),MAX(W40,AL40),AND(AU40=0,AV40>0,AW40=0,AX40=0),MIN(J40*PROFILE!$G$9,MAX('MDA3'!I40,'MDA3'!L40)),AND(AU40=0,AV40>0,AW40=0,AX40>0),MIN(J40*PROFILE!$G$9,MAX('MDA3'!I40,'MDA3'!L40,AL40)),AND(AU40=0,AV40>0,AW40>0,AX40=0),MIN(J40*PROFILE!$G$9,MAX('MDA3'!I40,'MDA3'!L40,W40)),AND(AU40=0,AV40>0,AW40>0,AX40>0),MIN(J40*PROFILE!$G$9,MAX('MDA3'!I40,'MDA3'!L40,W40,AL40)),AND(AU40>0,AV40=0,AW40=0,AX40=0), MIN(BA40,MAX('MDA1'!K40,'MDA2'!K40,'MDA5'!K40)),AND(AU40>0,AV40=0,AW40=0,AX40>0), MIN(BA40,MAX('MDA1'!K40,'MDA2'!K40,'MDA5'!K40,AL40)),AND(AU40>0,AV40=0,AW40>0,AX40=0),MIN(BA40,MAX('MDA1'!K40,'MDA2'!KL40,'MDA5'!K40,W40)),AND(AU40>0,AV40=0,AW40>0,AX40>0),MIN(BA40,MAX('MDA1'!K40,'MDA2'!K40,'MDA5'!K40,W40,AL40)),AND(AU40>0,AV40>0,AW40=0,AX40=0),MIN(BA40, MAX('MDA1'!K40,'MDA2'!K40, 'MDA5'!K40,MAX('MDA3'!I40,'MDA3'!L40))), AND(AU40>0,AV40>0,AW40=0,AX40>0),MIN(BA40, MAX('MDA1'!K40,'MDA2'!K40, 'MDA5'!K40,MAX('MDA3'!I40,'MDA3'!L40),AL40)), AND(AU40>0,AV40>0,AW40>0,AX40=0), MIN(BA40, MAX('MDA1'!K40,'MDA2'!K40, 'MDA5'!K40,MAX('MDA3'!I40,'MDA3'!L40),W40)), AND(AU40>0,AV40>0,AW40>0,AX40>0), MIN(BA40, MAX('MDA1'!K40,'MDA2'!K40, 'MDA5'!K40,MAX('MDA3'!I40,'MDA3'!L40),W40,AL40)))","v":40162.223638212257},{"$f":"_xlfn.IFS(AND(AU40=0,AV40=0,AW40=0,AX40=0),0,AND(AU40=0,AV40=0,AW40=0,AX40>0),AO40,AND(AU40=0,AV40=0,AW40>0,AX40=0),Z40,AND(AU40=0,AV40=0,AW40>0,AX40>0),MAX(Z40,AO40),AND(AU40=0,AV40>0,AW40=0,AX40=0),MIN(J40*PROFILE!$G$10,MAX('MDA3'!J40,'MDA3'!J40)),AND(AU40=0,AV40>0,AW40=0,AX40>0),MIN(J40*PROFILE!$G$10,MAX('MDA3'!J40,'MDA3'!M40,AO40)),AND(AU40=0,AV40>0,AW40>0,AX40=0),MIN(J40*PROFILE!$G$10,MAX('MDA3'!J40,'MDA3'!M40,Z40)),AND(AU40=0,AV40>0,AW40>0,AX40>0),MIN(J40*PROFILE!$G$10,MAX('MDA3'!J40,'MDA3'!M40,Z40,AO40)),AND(AU40>0,AV40=0,AW40=0,AX40=0), MIN(BB40,MAX('MDA1'!L40,'MDA2'!L40,'MDA5'!L40)),AND(AU40>0,AV40=0,AW40=0,AX40>0), MIN(BB40,MAX('MDA1'!L40,'MDA2'!L40,'MDA5'!L40,AO40)),AND(AU40>0,AV40=0,AW40>0,AX40=0),MIN(BB40,MAX('MDA1'!L40,'MDA2'!L40,'MDA5'!L40,Z40)),AND(AU40>0,AV40=0,AW40>0,AX40>0),MIN(BB40,MAX('MDA1'!L40,'MDA2'!L40,'MDA5'!L40,Z40,AO40)),AND(AU40>0,AV40>0,AW40=0,AX40=0),MIN(BB40, MAX('MDA1'!L40,'MDA2'!L40, 'MDA5'!L40,MAX('MDA3'!J40,'MDA3'!M40))), AND(AU40>0,AV40>0,AW40=0,AX40>0),MIN(BB40, MAX('MDA1'!L40,'MDA2'!L40, 'MDA5'!L40,MAX('MDA3'!J40,'MDA3'!M40),AO40)), AND(AU40>0,AV40>0,AW40>0,AX40=0), MIN(BB40, MAX('MDA1'!L40,'MDA2'!L40, 'MDA5'!L40,MAX('MDA3'!J40,'MDA3'!M40),Z40)), AND(AU40>0,AV40>0,AW40>0,AX40>0), MIN(BB40, MAX('MDA1'!L40,'MDA2'!L40, 'MDA5'!L40,MAX('MDA3'!J40,'MDA3'!M40),Z40,AO40)))","v":66937.105028244579},107099.32866645683,57.2904178237537]
[{"$f":"IF(COUNTRY_INFO!A41=0,\" \",COUNTRY_INFO!A41)","v":"Togo"},{"$f":"IF(COUNTRY_INFO!B41=0,\" \",COUNTRY_INFO!B41)","v":"PLATEAUX"},{"$f":"IF(COUNTRY_INFO!C41=0,\" \",COUNTRY_INFO!C41)","v":"WAWA"},{"$f":"COUNTRY_INFO!L41","v":"Non requis"},null,null,{"$f":"MAX('MDA1'!M41,'MDA2'!M41,'MDA5'!M41)","v":0},{"$f":"IF(AND(COUNTRY_INFO!H41>0,COUNTRY_INFO!H41<4),IF(D41>G41,G41,D41),0)","v":0},{"$f":"IF(AND(COUNTRY_INFO!H41>0,COUNTRY_INFO!H41<4), IF(G41/D41*100<>0, IF(G41/D41*100>100,100,G41/D41*100), \"-\"),0)","v":0},{"$f":"COUNTRY_INFO!M41","v":103920.23140604683},41780,42306,{"$f":"MAX('MDA1'!M41,MAX('MDA3'!I41,'MDA3'!L41)+MAX('MDA3'!J41,'MDA3'!M41))","v":84086},{"$f":"IF(AND(COUNTRY_INFO!I41>0,COUNTRY_INFO!I41<4),IF(J41>M41,M41,J41),0)","v":84086},{"$f":"IF(AND(COUNTRY_INFO!I41>0,COUNTRY_INFO!I41<4), IF(M41/J41*100<>0, IF(M41/J41*100>100,100,M41/J41*100), \"-\"),0)","v":80.91398456519147},{"$f":"COUNTRY_INFO!Q41","v":59118},20391,18993,{"$f":"MAX('MDA2'!J41,'MDA5'!J41,'T1'!K41, MAX(T3_R1!J41,T3_R2!J41,T3_R3!J41))","v":0},{"$f":"IF(AND(COUNTRY_INFO!J41>1,COUNTRY_INFO!J41<99,COUNTRY_INFO!J41<>4,COUNTRY_INFO!J41<>5),IF(COUNTRY_INFO!N41>S41,S41,COUNTRY_INFO!N41),0)","v":0},{"$f":"IF(AND(COUNTRY_INFO!J41>1,COUNTRY_INFO!J41<99,COUNTRY_INFO!J41<>4,COUNTRY_INFO!J41<>5), IF(T41/COUNTRY_INFO!N41*100<>0, IF(T41/COUNTRY_INFO!N41*100>100,100,T41/COUNTRY_INFO!N41*100), \"-\"),0)","v":"-"},{"$f":"MAX('MDA1'!K41, 'MDA2'!K41, 'MDA5'!K41,'T1'!L41, MAX(T3_R1!K41,T3_R2!K41,T3_R3!K41))","v":39384},{"$f":"IF(AND(COUNTRY_INFO!J41>1,COUNTRY_INFO!J41<99,COUNTRY_INFO!J41<>4,COUNTRY_INFO!J41<>5),IF(COUNTRY_INFO!O41>V41,V41,COUNTRY_INFO!O41),0)","v":38555},{"$f":"IF(AND(COUNTRY_INFO!J41>1,COUNTRY_INFO!J41<99,COUNTRY_INFO!J41<>4,COUNTRY_INFO!J41<>5), IF(W41/COUNTRY_INFO!O41*100<>0, IF(W41/COUNTRY_INFO!O41*100>100,100,W41/COUNTRY_INFO!O41*100), \"-\"),0)","v":100},{"$f":"MAX('MDA1'!L41, 'MDA2'!L41, 'MDA5'!L41,'T1'!M41, MAX(T3_R1!L41,T3_R2!L41,T3_R3!L41))","v":0},{"$f":"IF(AND(COUNTRY_INFO!J41>1,COUNTRY_INFO!J41<99,COUNTRY_INFO!J41<>4,COUNTRY_INFO!J41<>5),IF(COUNTRY_INFO!P41>Y41,Y41,COUNTRY_INFO!P41),0)","v":0},{"$f":"IF(AND(COUNTRY_INFO!J41>1,COUNTRY_INFO!J41<99,COUNTRY_INFO!J41<>4,COUNTRY_INFO!J41<>5), IF(Z41/COUNTRY_INFO!P41*100<>0, IF(Z41/COUNTRY_INFO!P41*100>100,100,Z41/COUNTRY_INFO!P41*100), \"-\"),0)","v":{"$error":"#DIV/0!"}},39384,38555,{"$f":"IF(AND(COUNTRY_INFO!J41>1,COUNTRY_INFO!J41<99,COUNTRY_INFO!J41<>4,COUNTRY_INFO!J41<>5), IF(AC41/P41*100<>0, IF(AC41/P41*100>100,100,AC41/P41*100), \"-\"),0)","v":65.21702357995872},{"$f":"COUNTRY_INFO!U41","v":79346},null,null,{"$f":"MAX('T1'!K41,'T2'!R41)","v":0},{"$f":"IF(AND(COUNTRY_INFO!K41>1,COUNTRY_INFO!K41<99,COUNTRY_INFO!K41<>4,COUNTRY_INFO!K41<>5),IF(COUNTRY_INFO!R41>AH41,AH41,COUNTRY_INFO!R41),0)","v":0},{"$f":"IF(AND(COUNTRY_INFO!K41>1,COUNTRY_INFO!K41<99,COUNTRY_INFO!K41<>4,COUNTRY_INFO!K41<>5), IF(AI41/COUNTRY_INFO!R41*100<>0, IF(AI41/COUNTRY_INFO!R41*100>100,100,AI41/COUNTRY_INFO!R41*100), \"-\"),0)","v":{"$error":"#DIV/0!"}},{"$f":"MAX('T1'!L41,'T2'!S41)","v":33178},{"$f":"IF(AND(COUNTRY_INFO!K41>1,COUNTRY_INFO!K41<99,COUNTRY_INFO!K41<>4,COUNTRY_INFO!K41<>5),IF(COUNTRY_INFO!S41>AK41,AK41,COUNTRY_INFO!S41),0)","v":0},{"$f":"IF(AND(COUNTRY_INFO!K41>1,COUNTRY_INFO!K41<99,COUNTRY_INFO!K41<>4,COUNTRY_INFO!K41<>5), IF(AL41/COUNTRY_INFO!S41*100<>0, IF(AL41/COUNTRY_INFO!S41*100>100,100,AL41/COUNTRY_INFO!S41*100), \"-\"),0)","v":{"$error":"#DIV/0!"}},{"$f":"MAX('T1'!M41,'T2'!T41)","v":11886},{"$f":"IF(AND(COUNTRY_INFO!K41>1,COUNTRY_INFO!K41<99,COUNTRY_INFO!K41<>4,COUNTRY_INFO!K41<>5),IF(COUNTRY_INFO!T41>AN41,AN41,COUNTRY_INFO!T41),0)","v":0},{"$f":"IF(AND(COUNTRY_INFO!K41>1,COUNTRY_INFO!K41<99,COUNTRY_INFO!K41<>4,COUNTRY_INFO!K41<>5), IF(AO41/COUNTRY_INFO!T41*100<>0, IF(AO41/COUNTRY_INFO!T41*100>100,100,AO41/COUNTRY_INFO!T41*100), \"-\"),0)","v":{"$error":"#DIV/0!"}},45064,45064,56.794293348120881,null,{"$f":"IF(AND(D41<>0, D41<>\"Inconnu\",D41<>\"Interrompu\",D41<>\"Non requis\"),D41/COUNTRY_INFO!D41, 0)","v":0},{"$f":"IF(AND(J41<>0,J41<>\"Inconnu\",J41<>\"Interrompu\",J41<>\"Non requis\"),J41/COUNTRY_INFO!D41, 0)","v":0.80860373408425468},{"$f":"IF(AND(P41<>0,P41<>\"Inconnu\",P41<>\"Surveillance\",P41<>\"Non requis\"),P41/COUNTRY_INFO!Q41, 0)","v":1},{"$f":"IF(AND(AE41<>0,AE41<>\"Inconnu\",AE41<>\"Surveillance\",AE41<>\"Non requis\"),AE41/COUNTRY_INFO!U41, 0)","v":1},{"$f":"IF(AU41>0,D41*PROFILE!$G$7,IF(AV41>0,J41*PROFILE!$G$7,0))","v":4156.8198359837461},{"$f":"_xlfn.IFS(OR(AU41>0,AW41>0),COUNTRY_INFO!E41, AV41>0,J41*PROFILE!$G$8,AX41>0,COUNTRY_INFO!R41,COUNTIFS(AU41:AX41,\">0\")=0,0)","v":20563},{"$f":"_xlfn.IFS(OR(AU41>0,AW41>0),COUNTRY_INFO!F41, AV41>0,J41*PROFILE!$G$9,AX41>0,COUNTRY_INFO!S41,COUNTIFS(AU41:AX41,\">0\")=0,0)","v":38555},{"$f":"_xlfn.IFS(AU41>0,COUNTRY_INFO!G41, AND(AV41>0,AW41=0,AX41=0),J41*PROFILE!$G$10,AND(AV41>0,AW41>0,AX41=0), MAX(J41*PROFILE!$G$10,COUNTRY_INFO!P41),AND(AV41>0,AW41=0,AX41>0), MAX(J41*PROFILE!$G$10,COUNTRY_INFO!T41),AND(AV41=0,AW41>0,AX41>0), MAX(COUNTRY_INFO!P41,COUNTRY_INFO!T41),AND(AV41=0,AW41>0,AX41=0),COUNTRY_INFO!P41,AND(AV41=0,AW41=0,AX41>0),COUNTRY_INFO!T41,AND(AV41>0,AW41>0,AX41>0), MAX(J41*PROFILE!$G$10,COUNTRY_INFO!P41,COUNTRY_INFO!T41),COUNTIFS(AU41:AX41,\">0\")=0,0)","v":51960.135931308163},115234.95576729192,"Y",{"$f":"MAX('MDA2'!J41,'MDA5'!J41,S41,AH41)","v":0},{"$f":"MAX('MDA1'!K41,'MDA2'!K41,'MDA3'!I41,'MDA3'!L41,'MDA5'!K41,V41,AK41)","v":39384},{"$f":"MAX('MDA1'!L41,'MDA2'!L41,'MDA3'!J41,'MDA3'!M41,'MDA5'!L41,Y41,AN41)","v":53613},92997,{"$f":"_xlfn.IFS(AND(AU41=0,AW41=0,AX41=0),0,AND(AU41=0,AW41=0,AX41>0),AI41,AND(AU41=0,AW41>0,AX41=0),T41,AND(AU41=0,AW41>0,AX41>0),MAX(T41,AI41),AND(AU41>0,AW41=0,AX41=0),MIN(MAX('MDA2'!J41,'MDA5'!J41),AZ41),AND(AU41>0,AW41=0,AX41>0),MIN(MAX('MDA2'!J41,'MDA5'!J41,AI41),AZ41),AND(AU41>0,AW41>0,AX41=0),MIN(MAX('MDA2'!J41,'MDA5'!J41,T41),AZ41),AND(AU41>0,AW41>0,AX41>0),MIN(MAX('MDA2'!J41,'MDA5'!J41,AI41,T41),AZ41))","v":0},{"$f":"_xlfn.IFS(AND(AU41=0,AV41=0,AW41=0,AX41=0),0,AND(AU41=0,AV41=0,AW41=0,AX41>0),AL41,AND(AU41=0,AV41=0,AW41>0,AX41=0),W41,AND(AU41=0,AV41=0,AW41>0,AX41>0),MAX(W41,AL41),AND(AU41=0,AV41>0,AW41=0,AX41=0),MIN(J41*PROFILE!$G$9,MAX('MDA3'!I41,'MDA3'!L41)),AND(AU41=0,AV41>0,AW41=0,AX41>0),MIN(J41*PROFILE!$G$9,MAX('MDA3'!I41,'MDA3'!L41,AL41)),AND(AU41=0,AV41>0,AW41>0,AX41=0),MIN(J41*PROFILE!$G$9,MAX('MDA3'!I41,'MDA3'!L41,W41)),AND(AU41=0,AV41>0,AW41>0,AX41>0),MIN(J41*PROFILE!$G$9,MAX('MDA3'!I41,'MDA3'!L41,W41,AL41)),AND(AU41>0,AV41=0,AW41=0,AX41=0), MIN(BA41,MAX('MDA1'!K41,'MDA2'!K41,'MDA5'!K41)),AND(AU41>0,AV41=0,AW41=0,AX41>0), MIN(BA41,MAX('MDA1'!K41,'MDA2'!K41,'MDA5'!K41,AL41)),AND(AU41>0,AV41=0,AW41>0,AX41=0),MIN(BA41,MAX('MDA1'!K41,'MDA2'!KL41,'MDA5'!K41,W41)),AND(AU41>0,AV41=0,AW41>0,AX41>0),MIN(BA41,MAX('MDA1'!K41,'MDA2'!K41,'MDA5'!K41,W41,AL41)),AND(AU41>0,AV41>0,AW41=0,AX41=0),MIN(BA41, MAX('MDA1'!K41,'MDA2'!K41, 'MDA5'!K41,MAX('MDA3'!I41,'MDA3'!L41))), AND(AU41>0,AV41>0,AW41=0,AX41>0),MIN(BA41, MAX('MDA1'!K41,'MDA2'!K41, 'MDA5'!K41,MAX('MDA3'!I41,'MDA3'!L41),AL41)), AND(AU41>0,AV41>0,AW41>0,AX41=0), MIN(BA41, MAX('MDA1'!K41,'MDA2'!K41, 'MDA5'!K41,MAX('MDA3'!I41,'MDA3'!L41),W41)), AND(AU41>0,AV41>0,AW41>0,AX41>0), MIN(BA41, MAX('MDA1'!K41,'MDA2'!K41, 'MDA5'!K41,MAX('MDA3'!I41,'MDA3'!L41),W41,AL41)))","v":31176.050990919797},{"$f":"_xlfn.IFS(AND(AU41=0,AV41=0,AW41=0,AX41=0),0,AND(AU41=0,AV41=0,AW41=0,AX41>0),AO41,AND(AU41=0,AV41=0,AW41>0,AX41=0),Z41,AND(AU41=0,AV41=0,AW41>0,AX41>0),MAX(Z41,AO41),AND(AU41=0,AV41>0,AW41=0,AX41=0),MIN(J41*PROFILE!$G$10,MAX('MDA3'!J41,'MDA3'!J41)),AND(AU41=0,AV41>0,AW41=0,AX41>0),MIN(J41*PROFILE!$G$10,MAX('MDA3'!J41,'MDA3'!M41,AO41)),AND(AU41=0,AV41>0,AW41>0,AX41=0),MIN(J41*PROFILE!$G$10,MAX('MDA3'!J41,'MDA3'!M41,Z41)),AND(AU41=0,AV41>0,AW41>0,AX41>0),MIN(J41*PROFILE!$G$10,MAX('MDA3'!J41,'MDA3'!M41,Z41,AO41)),AND(AU41>0,AV41=0,AW41=0,AX41=0), MIN(BB41,MAX('MDA1'!L41,'MDA2'!L41,'MDA5'!L41)),AND(AU41>0,AV41=0,AW41=0,AX41>0), MIN(BB41,MAX('MDA1'!L41,'MDA2'!L41,'MDA5'!L41,AO41)),AND(AU41>0,AV41=0,AW41>0,AX41=0),MIN(BB41,MAX('MDA1'!L41,'MDA2'!L41,'MDA5'!L41,Z41)),AND(AU41>0,AV41=0,AW41>0,AX41>0),MIN(BB41,MAX('MDA1'!L41,'MDA2'!L41,'MDA5'!L41,Z41,AO41)),AND(AU41>0,AV41>0,AW41=0,AX41=0),MIN(BB41, MAX('MDA1'!L41,'MDA2'!L41, 'MDA5'!L41,MAX('MDA3'!J41,'MDA3'!M41))), AND(AU41>0,AV41>0,AW41=0,AX41>0),MIN(BB41, MAX('MDA1'!L41,'MDA2'!L41, 'MDA5'!L41,MAX('MDA3'!J41,'MDA3'!M41),AO41)), AND(AU41>0,AV41>0,AW41>0,AX41=0), MIN(BB41, MAX('MDA1'!L41,'MDA2'!L41, 'MDA5'!L41,MAX('MDA3'!J41,'MDA3'!M41),Z41)), AND(AU41>0,AV41>0,AW41>0,AX41>0), MIN(BB41, MAX('MDA1'!L41,'MDA2'!L41, 'MDA5'!L41,MAX('MDA3'!J41,'MDA3'!M41),Z41,AO41)))","v":51960.135931308163},83136.186922227964,72.144937591779936]
[{"$f":"IF(COUNTRY_INFO!A42=0,\" \",COUNTRY_INFO!A42)","v":"Togo"},{"$f":"IF(COUNTRY_INFO!B42=0,\" \",COUNTRY_INFO!B42)","v":"SAVANES"},{"$f":"IF(COUNTRY_INFO!C42=0,\" \",COUNTRY_INFO!C42)","v":"CINKASSE"},{"$f":"COUNTRY_INFO!L42","v":"Non requis"},null,null,{"$f":"MAX('MDA1'!M42,'MDA2'!M42,'MDA5'!M42)","v":0},{"$f":"IF(AND(COUNTRY_INFO!H42>0,COUNTRY_INFO!H42<4),IF(D42>G42,G42,D42),0)","v":0},{"$f":"IF(AND(COUNTRY_INFO!H42>0,COUNTRY_INFO!H42<4), IF(G42/D42*100<>0, IF(G42/D42*100>100,100,G42/D42*100), \"-\"),0)","v":0},{"$f":"COUNTRY_INFO!M42","v":71293.94652198971},27441,31808,{"$f":"MAX('MDA1'!M42,MAX('MDA3'!I42,'MDA3'!L42)+MAX('MDA3'!J42,'MDA3'!M42))","v":59249},{"$f":"IF(AND(COUNTRY_INFO!I42>0,COUNTRY_INFO!I42<4),IF(J42>M42,M42,J42),0)","v":59249},{"$f":"IF(AND(COUNTRY_INFO!I42>0,COUNTRY_INFO!I42<4), IF(M42/J42*100<>0, IF(M42/J42*100>100,100,M42/J42*100), \"-\"),0)","v":83.105232478223655},{"$f":"COUNTRY_INFO!Q42","v":0},14397,14913,{"$f":"MAX('MDA2'!J42,'MDA5'!J42,'T1'!K42, MAX(T3_R1!J42,T3_R2!J42,T3_R3!J42))","v":0},{"$f":"IF(AND(COUNTRY_INFO!J42>1,COUNTRY_INFO!J42<99,COUNTRY_INFO!J42<>4,COUNTRY_INFO!J42<>5),IF(COUNTRY_INFO!N42>S42,S42,COUNTRY_INFO!N42),0)","v":0},{"$f":"IF(AND(COUNTRY_INFO!J42>1,COUNTRY_INFO!J42<99,COUNTRY_INFO!J42<>4,COUNTRY_INFO!J42<>5), IF(T42/COUNTRY_INFO!N42*100<>0, IF(T42/COUNTRY_INFO!N42*100>100,100,T42/COUNTRY_INFO!N42*100), \"-\"),0)","v":0},{"$f":"MAX('MDA1'!K42, 'MDA2'!K42, 'MDA5'!K42,'T1'!L42, MAX(T3_R1!K42,T3_R2!K42,T3_R3!K42))","v":29310},{"$f":"IF(AND(COUNTRY_INFO!J42>1,COUNTRY_INFO!J42<99,COUNTRY_INFO!J42<>4,COUNTRY_INFO!J42<>5),IF(COUNTRY_INFO!O42>V42,V42,COUNTRY_INFO!O42),0)","v":0},{"$f":"IF(AND(COUNTRY_INFO!J42>1,COUNTRY_INFO!J42<99,COUNTRY_INFO!J42<>4,COUNTRY_INFO!J42<>5), IF(W42/COUNTRY_INFO!O42*100<>0, IF(W42/COUNTRY_INFO!O42*100>100,100,W42/COUNTRY_INFO!O42*100), \"-\"),0)","v":0},{"$f":"MAX('MDA1'!L42, 'MDA2'!L42, 'MDA5'!L42,'T1'!M42, MAX(T3_R1!L42,T3_R2!L42,T3_R3!L42))","v":0},{"$f":"IF(AND(COUNTRY_INFO!J42>1,COUNTRY_INFO!J42<99,COUNTRY_INFO!J42<>4,COUNTRY_INFO!J42<>5),IF(COUNTRY_INFO!P42>Y42,Y42,COUNTRY_INFO!P42),0)","v":0},{"$f":"IF(AND(COUNTRY_INFO!J42>1,COUNTRY_INFO!J42<99,COUNTRY_INFO!J42<>4,COUNTRY_INFO!J42<>5), IF(Z42/COUNTRY_INFO!P42*100<>0, IF(Z42/COUNTRY_INFO!P42*100>100,100,Z42/COUNTRY_INFO!P42*100), \"-\"),0)","v":0},29310,0,{"$f":"IF(AND(COUNTRY_INFO!J42>1,COUNTRY_INFO!J42<99,COUNTRY_INFO!J42<>4,COUNTRY_INFO!J42<>5), IF(AC42/P42*100<>0, IF(AC42/P42*100>100,100,AC42/P42*100), \"-\"),0)","v":0},{"$f":"COUNTRY_INFO!U42","v":65111},null,null,{"$f":"MAX('T1'!K42,'T2'!R42)","v":0},{"$f":"IF(AND(COUNTRY_INFO!K42>1,COUNTRY_INFO!K42<99,COUNTRY_INFO!K42<>4,COUNTRY_INFO!K42<>5),IF(COUNTRY_INFO!R42>AH42,AH42,COUNTRY_INFO!R42),0)","v":0},{"$f":"IF(AND(COUNTRY_INFO!K42>1,COUNTRY_INFO!K42<99,COUNTRY_INFO!K42<>4,COUNTRY_INFO!K42<>5), IF(AI42/COUNTRY_INFO!R42*100<>0, IF(AI42/COUNTRY_INFO!R42*100>100,100,AI42/COUNTRY_INFO!R42*100), \"-\"),0)","v":{"$error":"#DIV/0!"}},{"$f":"MAX('T1'!L42,'T2'!S42)","v":29310},{"$f":"IF(AND(COUNTRY_INFO!K42>1,COUNTRY_INFO!K42<99,COUNTRY_INFO!K42<>4,COUNTRY_INFO!K42<>5),IF(COUNTRY_INFO!S42>AK42,AK42,COUNTRY_INFO!S42),0)","v":0},{"$f":"IF(AND(COUNTRY_INFO!K42>1,COUNTRY_INFO!K42<99,COUNTRY_INFO!K42<>4,COUNTRY_INFO!K42<>5), IF(AL42/COUNTRY_INFO!S42*100<>0, IF(AL42/COUNTRY_INFO!S42*100>100,100,AL42/COUNTRY_INFO!S42*100), \"-\"),0)","v":{"$error":"#DIV/0!"}},{"$f":"MAX('T1'!M42,'T2'!T42)","v":30770},{"$f":"IF(AND(COUNTRY_INFO!K42>1,COUNTRY_INFO!K42<99,COUNTRY_INFO!K42<>4,COUNTRY_INFO!K42<>5),IF(COUNTRY_INFO!T42>AN42,AN42,COUNTRY_INFO!T42),0)","v":0},{"$f":"IF(AND(COUNTRY_INFO!K42>1,COUNTRY_INFO!K42<99,COUNTRY_INFO!K42<>4,COUNTRY_INFO!K42<>5), IF(AO42/COUNTRY_INFO!T42*100<>0, IF(AO42/COUNTRY_INFO!T42*100>100,100,AO42/COUNTRY_INFO!T42*100), \"-\"),0)","v":{"$error":"#DIV/0!"}},60080,60080,92.273195005452223,null,{"$f":"IF(AND(D42<>0, D42<>\"Inconnu\",D42<>\"Interrompu\",D42<>\"Non requis\"),D42/COUNTRY_INFO!D42, 0)","v":0},{"$f":"IF(AND(J42<>0,J42<>\"Inconnu\",J42<>\"Interrompu\",J42<>\"Non requis\"),J42/COUNTRY_INFO!D42, 0)","v":0.74715057556260434},{"$f":"IF(AND(P42<>0,P42<>\"Inconnu\",P42<>\"Surveillance\",P42<>\"Non requis\"),P42/COUNTRY_INFO!Q42, 0)","v":0},{"$f":"IF(AND(AE42<>0,AE42<>\"Inconnu\",AE42<>\"Surveillance\",AE42<>\"Non requis\"),AE42/COUNTRY_INFO!U42, 0)","v":1},{"$f":"IF(AU42>0,D42*PROFILE!$G$7,IF(AV42>0,J42*PROFILE!$G$7,0))","v":2851.765119057723},{"$f":"_xlfn.IFS(OR(AU42>0,AW42>0),COUNTRY_INFO!E42, AV42>0,J42*PROFILE!$G$8,AX42>0,COUNTRY_INFO!R42,COUNTIFS(AU42:AX42,\">0\")=0,0)","v":11407.02295224961},{"$f":"_xlfn.IFS(OR(AU42>0,AW42>0),COUNTRY_INFO!F42, AV42>0,J42*PROFILE!$G$9,AX42>0,COUNTRY_INFO!S42,COUNTIFS(AU42:AX42,\">0\")=0,0)","v":21388.171312175597},{"$f":"_xlfn.IFS(AU42>0,COUNTRY_INFO!G42, AND(AV42>0,AW42=0,AX42=0),J42*PROFILE!$G$10,AND(AV42>0,AW42>0,AX42=0), MAX(J42*PROFILE!$G$10,COUNTRY_INFO!P42),AND(AV42>0,AW42=0,AX42>0), MAX(J42*PROFILE!$G$10,COUNTRY_INFO!T42),AND(AV42=0,AW42>0,AX42>0), MAX(COUNTRY_INFO!P42,COUNTRY_INFO!T42),AND(AV42=0,AW42>0,AX42=0),COUNTRY_INFO!P42,AND(AV42=0,AW42=0,AX42>0),COUNTRY_INFO!T42,AND(AV42>0,AW42>0,AX42>0), MAX(J42*PROFILE!$G$10,COUNTRY_INFO!P42,COUNTRY_INFO!T42),COUNTIFS(AU42:AX42,\">0\")=0,0)","v":35646.987138506782},71293.94652198971,"Y",{"$f":"MAX('MDA2'!J42,'MDA5'!J42,S42,AH42)","v":0},{"$f":"MAX('MDA1'!K42,'MDA2'!K42,'MDA3'!I42,'MDA3'!L42,'MDA5'!K42,V42,AK42)","v":29310},{"$f":"MAX('MDA1'!L42,'MDA2'!L42,'MDA3'!J42,'MDA3'!M42,'MDA5'!L42,Y42,AN42)","v":37030},66340,{"$f":"_xlfn.IFS(AND(AU42=0,AW42=0,AX42=0),0,AND(AU42=0,AW42=0,AX42>0),AI42,AND(AU42=0,AW42>0,AX42=0),T42,AND(AU42=0,AW42>0,AX42>0),MAX(T42,AI42),AND(AU42>0,AW42=0,AX42=0),MIN(MAX('MDA2'!J42,'MDA5'!J42),AZ42),AND(AU42>0,AW42=0,AX42>0),MIN(MAX('MDA2'!J42,'MDA5'!J42,AI42),AZ42),AND(AU42>0,AW42>0,AX42=0),MIN(MAX('MDA2'!J42,'MDA5'!J42,T42),AZ42),AND(AU42>0,AW42>0,AX42>0),MIN(MAX('MDA2'!J42,'MDA5'!J42,AI42,T42),AZ42))","v":0},{"$f":"_xlfn.IFS(AND(AU42=0,AV42=0,AW42=0,AX42=0),0,AND(AU42=0,AV42=0,AW42=0,AX42>0),AL42,AND(AU42=0,AV42=0,AW42>0,AX42=0),W42,AND(AU42=0,AV42=0,AW42>0,AX42>0),MAX(W42,AL42),AND(AU42=0,AV42>0,AW42=0,AX42=0),MIN(J42*PROFILE!$G$9,MAX('MDA3'!I42,'MDA3'!L42)),AND(AU42=0,AV42>0,AW42=0,AX42>0),MIN(J42*PROFILE!$G$9,MAX('MDA3'!I42,'MDA3'!L42,AL42)),AND(AU42=0,AV42>0,AW42>0,AX42=0),MIN(J42*PROFILE!$G$9,MAX('MDA3'!I42,'MDA3'!L42,W42)),AND(AU42=0,AV42>0,AW42>0,AX42>0),MIN(J42*PROFILE!$G$9,MAX('MDA3'!I42,'MDA3'!L42,W42,AL42)),AND(AU42>0,AV42=0,AW42=0,AX42=0), MIN(BA42,MAX('MDA1'!K42,'MDA2'!K42,'MDA5'!K42)),AND(AU42>0,AV42=0,AW42=0,AX42>0), MIN(BA42,MAX('MDA1'!K42,'MDA2'!K42,'MDA5'!K42,AL42)),AND(AU42>0,AV42=0,AW42>0,AX42=0),MIN(BA42,MAX('MDA1'!K42,'MDA2'!KL42,'MDA5'!K42,W42)),AND(AU42>0,AV42=0,AW42>0,AX42>0),MIN(BA42,MAX('MDA1'!K42,'MDA2'!K42,'MDA5'!K42,W42,AL42)),AND(AU42>0,AV42>0,AW42=0,AX42=0),MIN(BA42, MAX('MDA1'!K42,'MDA2'!K42, 'MDA5'!K42,MAX('MDA3'!I42,'MDA3'!L42))), AND(AU42>0,AV42>0,AW42=0,AX42>0),MIN(BA42, MAX('MDA1'!K42,'MDA2'!K42, 'MDA5'!K42,MAX('MDA3'!I42,'MDA3'!L42),AL42)), AND(AU42>0,AV42>0,AW42>0,AX42=0), MIN(BA42, MAX('MDA1'!K42,'MDA2'!K42, 'MDA5'!K42,MAX('MDA3'!I42,'MDA3'!L42),W42)), AND(AU42>0,AV42>0,AW42>0,AX42>0), MIN(BA42, MAX('MDA1'!K42,'MDA2'!K42, 'MDA5'!K42,MAX('MDA3'!I42,'MDA3'!L42),W42,AL42)))","v":21388.171312175597},{"$f":"_xlfn.IFS(AND(AU42=0,AV42=0,AW42=0,AX42=0),0,AND(AU42=0,AV42=0,AW42=0,AX42>0),AO42,AND(AU42=0,AV42=0,AW42>0,AX42=0),Z42,AND(AU42=0,AV42=0,AW42>0,AX42>0),MAX(Z42,AO42),AND(AU42=0,AV42>0,AW42=0,AX42=0),MIN(J42*PROFILE!$G$10,MAX('MDA3'!J42,'MDA3'!J42)),AND(AU42=0,AV42>0,AW42=0,AX42>0),MIN(J42*PROFILE!$G$10,MAX('MDA3'!J42,'MDA3'!M42,AO42)),AND(AU42=0,AV42>0,AW42>0,AX42=0),MIN(J42*PROFILE!$G$10,MAX('MDA3'!J42,'MDA3'!M42,Z42)),AND(AU42=0,AV42>0,AW42>0,AX42>0),MIN(J42*PROFILE!$G$10,MAX('MDA3'!J42,'MDA3'!M42,Z42,AO42)),AND(AU42>0,AV42=0,AW42=0,AX42=0), MIN(BB42,MAX('MDA1'!L42,'MDA2'!L42,'MDA5'!L42)),AND(AU42>0,AV42=0,AW42=0,AX42>0), MIN(BB42,MAX('MDA1'!L42,'MDA2'!L42,'MDA5'!L42,AO42)),AND(AU42>0,AV42=0,AW42>0,AX42=0),MIN(BB42,MAX('MDA1'!L42,'MDA2'!L42,'MDA5'!L42,Z42)),AND(AU42>0,AV42=0,AW42>0,AX42>0),MIN(BB42,MAX('MDA1'!L42,'MDA2'!L42,'MDA5'!L42,Z42,AO42)),AND(AU42>0,AV42>0,AW42=0,AX42=0),MIN(BB42, MAX('MDA1'!L42,'MDA2'!L42, 'MDA5'!L42,MAX('MDA3'!J42,'MDA3'!M42))), AND(AU42>0,AV42>0,AW42=0,AX42>0),MIN(BB42, MAX('MDA1'!L42,'MDA2'!L42, 'MDA5'!L42,MAX('MDA3'!J42,'MDA3'!M42),AO42)), AND(AU42>0,AV42>0,AW42>0,AX42=0), MIN(BB42, MAX('MDA1'!L42,'MDA2'!L42, 'MDA5'!L42,MAX('MDA3'!J42,'MDA3'!M42),Z42)), AND(AU42>0,AV42>0,AW42>0,AX42>0), MIN(BB42, MAX('MDA1'!L42,'MDA2'!L42, 'MDA5'!L42,MAX('MDA3'!J42,'MDA3'!M42),Z42,AO42)))","v":35646.987138506782},57035.158450682378,80.000001729586685]
[{"$f":"IF(COUNTRY_INFO!A43=0,\" \",COUNTRY_INFO!A43)","v":"Togo"},{"$f":"IF(COUNTRY_INFO!B43=0,\" \",COUNTRY_INFO!B43)","v":"SAVANES"},{"$f":"IF(COUNTRY_INFO!C43=0,\" \",COUNTRY_INFO!C43)","v":"KPENDJAL"},{"$f":"COUNTRY_INFO!L43","v":"Non requis"},null,null,{"$f":"MAX('MDA1'!M43,'MDA2'!M43,'MDA5'!M43)","v":0},{"$f":"IF(AND(COUNTRY_INFO!H43>0,COUNTRY_INFO!H43<4),IF(D43>G43,G43,D43),0)","v":0},{"$f":"IF(AND(COUNTRY_INFO!H43>0,COUNTRY_INFO!H43<4), IF(G43/D43*100<>0, IF(G43/D43*100>100,100,G43/D43*100), \"-\"),0)","v":0},{"$f":"COUNTRY_INFO!M43","v":83377},33087,35459,{"$f":"MAX('MDA1'!M43,MAX('MDA3'!I43,'MDA3'!L43)+MAX('MDA3'!J43,'MDA3'!M43))","v":68546},{"$f":"IF(AND(COUNTRY_INFO!I43>0,COUNTRY_INFO!I43<4),IF(J43>M43,M43,J43),0)","v":68546},{"$f":"IF(AND(COUNTRY_INFO!I43>0,COUNTRY_INFO!I43<4), IF(M43/J43*100<>0, IF(M43/J43*100>100,100,M43/J43*100), \"-\"),0)","v":82.212120848675298},{"$f":"COUNTRY_INFO!Q43","v":38353},14154,14067,{"$f":"MAX('MDA2'!J43,'MDA5'!J43,'T1'!K43, MAX(T3_R1!J43,T3_R2!J43,T3_R3!J43))","v":0},{"$f":"IF(AND(COUNTRY_INFO!J43>1,COUNTRY_INFO!J43<99,COUNTRY_INFO!J43<>4,COUNTRY_INFO!J43<>5),IF(COUNTRY_INFO!N43>S43,S43,COUNTRY_INFO!N43),0)","v":0},{"$f":"IF(AND(COUNTRY_INFO!J43>1,COUNTRY_INFO!J43<99,COUNTRY_INFO!J43<>4,COUNTRY_INFO!J43<>5), IF(T43/COUNTRY_INFO!N43*100<>0, IF(T43/COUNTRY_INFO!N43*100>100,100,T43/COUNTRY_INFO!N43*100), \"-\"),0)","v":"-"},{"$f":"MAX('MDA1'!K43, 'MDA2'!K43, 'MDA5'!K43,'T1'!L43, MAX(T3_R1!K43,T3_R2!K43,T3_R3!K43))","v":28221},{"$f":"IF(AND(COUNTRY_INFO!J43>1,COUNTRY_INFO!J43<99,COUNTRY_INFO!J43<>4,COUNTRY_INFO!J43<>5),IF(COUNTRY_INFO!O43>V43,V43,COUNTRY_INFO!O43),0)","v":25013},{"$f":"IF(AND(COUNTRY_INFO!J43>1,COUNTRY_INFO!J43<99,COUNTRY_INFO!J43<>4,COUNTRY_INFO!J43<>5), IF(W43/COUNTRY_INFO!O43*100<>0, IF(W43/COUNTRY_INFO!O43*100>100,100,W43/COUNTRY_INFO!O43*100), \"-\"),0)","v":100},{"$f":"MAX('MDA1'!L43, 'MDA2'!L43, 'MDA5'!L43,'T1'!M43, MAX(T3_R1!L43,T3_R2!L43,T3_R3!L43))","v":0},{"$f":"IF(AND(COUNTRY_INFO!J43>1,COUNTRY_INFO!J43<99,COUNTRY_INFO!J43<>4,COUNTRY_INFO!J43<>5),IF(COUNTRY_INFO!P43>Y43,Y43,COUNTRY_INFO!P43),0)","v":0},{"$f":"IF(AND(COUNTRY_INFO!J43>1,COUNTRY_INFO!J43<99,COUNTRY_INFO!J43<>4,COUNTRY_INFO!J43<>5), IF(Z43/COUNTRY_INFO!P43*100<>0, IF(Z43/COUNTRY_INFO!P43*100>100,100,Z43/COUNTRY_INFO!P43*100), \"-\"),0)","v":{"$error":"#DIV/0!"}},28221,25013,{"$f":"IF(AND(COUNTRY_INFO!J43>1,COUNTRY_INFO!J43<99,COUNTRY_INFO!J43<>4,COUNTRY_INFO!J43<>5), IF(AC43/P43*100<>0, IF(AC43/P43*100>100,100,AC43/P43*100), \"-\"),0)","v":65.217844757906818},{"$f":"COUNTRY_INFO!U43","v":61438},null,null,{"$f":"MAX('T1'!K43,'T2'!R43)","v":0},{"$f":"IF(AND(COUNTRY_INFO!K43>1,COUNTRY_INFO!K43<99,COUNTRY_INFO!K43<>4,COUNTRY_INFO!K43<>5),IF(COUNTRY_INFO!R43>AH43,AH43,COUNTRY_INFO!R43),0)","v":0},{"$f":"IF(AND(COUNTRY_INFO!K43>1,COUNTRY_INFO!K43<99,COUNTRY_INFO!K43<>4,COUNTRY_INFO!K43<>5), IF(AI43/COUNTRY_INFO!R43*100<>0, IF(AI43/COUNTRY_INFO!R43*100>100,100,AI43/COUNTRY_INFO!R43*100), \"-\"),0)","v":{"$error":"#DIV/0!"}},{"$f":"MAX('T1'!L43,'T2'!S43)","v":28221},{"$f":"IF(AND(COUNTRY_INFO!K43>1,COUNTRY_INFO!K43<99,COUNTRY_INFO!K43<>4,COUNTRY_INFO!K43<>5),IF(COUNTRY_INFO!S43>AK43,AK43,COUNTRY_INFO!S43),0)","v":0},{"$f":"IF(AND(COUNTRY_INFO!K43>1,COUNTRY_INFO!K43<99,COUNTRY_INFO!K43<>4,COUNTRY_INFO!K43<>5), IF(AL43/COUNTRY_INFO!S43*100<>0, IF(AL43/COUNTRY_INFO!S43*100>100,100,AL43/COUNTRY_INFO!S43*100), \"-\"),0)","v":{"$error":"#DIV/0!"}},{"$f":"MAX('T1'!M43,'T2'!T43)","v":8361},{"$f":"IF(AND(COUNTRY_INFO!K43>1,COUNTRY_INFO!K43<99,COUNTRY_INFO!K43<>4,COUNTRY_INFO!K43<>5),IF(COUNTRY_INFO!T43>AN43,AN43,COUNTRY_INFO!T43),0)","v":0},{"$f":"IF(AND(COUNTRY_INFO!K43>1,COUNTRY_INFO!K43<99,COUNTRY_INFO!K43<>4,COUNTRY_INFO!K43<>5), IF(AO43/COUNTRY_INFO!T43*100<>0, IF(AO43/COUNTRY_INFO!T43*100>100,100,AO43/COUNTRY_INFO!T43*100), \"-\"),0)","v":{"$error":"#DIV/0!"}},36582,36582,59.542953872196357,null,{"$f":"IF(AND(D43<>0, D43<>\"Inconnu\",D43<>\"Interrompu\",D43<>\"Non requis\"),D43/COUNTRY_INFO!D43, 0)","v":0},{"$f":"IF(AND(J43<>0,J43<>\"Inconnu\",J43<>\"Interrompu\",J43<>\"Non requis\"),J43/COUNTRY_INFO!D43, 0)","v":1.0000059777034349},{"$f":"IF(AND(P43<>0,P43<>\"Inconnu\",P43<>\"Surveillance\",P43<>\"Non requis\"),P43/COUNTRY_INFO!Q43, 0)","v":1},{"$f":"IF(AND(AE43<>0,AE43<>\"Inconnu\",AE43<>\"Surveillance\",AE43<>\"Non requis\"),AE43/COUNTRY_INFO!U43, 0)","v":1},{"$f":"IF(AU43>0,D43*PROFILE!$G$7,IF(AV43>0,J43*PROFILE!$G$7,0))","v":3335.0884883099875},{"$f":"_xlfn.IFS(OR(AU43>0,AW43>0),COUNTRY_INFO!E43, AV43>0,J43*PROFILE!$G$8,AX43>0,COUNTRY_INFO!R43,COUNTIFS(AU43:AX43,\">0\")=0,0)","v":13340},{"$f":"_xlfn.IFS(OR(AU43>0,AW43>0),COUNTRY_INFO!F43, AV43>0,J43*PROFILE!$G$9,AX43>0,COUNTRY_INFO!S43,COUNTIFS(AU43:AX43,\">0\")=0,0)","v":25013},{"$f":"_xlfn.IFS(AU43>0,COUNTRY_INFO!G43, AND(AV43>0,AW43=0,AX43=0),J43*PROFILE!$G$10,AND(AV43>0,AW43>0,AX43=0), MAX(J43*PROFILE!$G$10,COUNTRY_INFO!P43),AND(AV43>0,AW43=0,AX43>0), MAX(J43*PROFILE!$G$10,COUNTRY_INFO!T43),AND(AV43=0,AW43>0,AX43>0), MAX(COUNTRY_INFO!P43,COUNTRY_INFO!T43),AND(AV43=0,AW43>0,AX43=0),COUNTRY_INFO!P43,AND(AV43=0,AW43=0,AX43>0),COUNTRY_INFO!T43,AND(AV43>0,AW43>0,AX43>0), MAX(J43*PROFILE!$G$10,COUNTRY_INFO!P43,COUNTRY_INFO!T43),COUNTIFS(AU43:AX43,\">0\")=0,0)","v":41688.5162295029},83376.604717812879,"Y",{"$f":"MAX('MDA2'!J43,'MDA5'!J43,S43,AH43)","v":0},{"$f":"MAX('MDA1'!K43,'MDA2'!K43,'MDA3'!I43,'MDA3'!L43,'MDA5'!K43,V43,AK43)","v":28221},{"$f":"MAX('MDA1'!L43,'MDA2'!L43,'MDA3'!J43,'MDA3'!M43,'MDA5'!L43,Y43,AN43)","v":40325},68546,{"$f":"_xlfn.IFS(AND(AU43=0,AW43=0,AX43=0),0,AND(AU43=0,AW43=0,AX43>0),AI43,AND(AU43=0,AW43>0,AX43=0),T43,AND(AU43=0,AW43>0,AX43>0),MAX(T43,AI43),AND(AU43>0,AW43=0,AX43=0),MIN(MAX('MDA2'!J43,'MDA5'!J43),AZ43),AND(AU43>0,AW43=0,AX43>0),MIN(MAX('MDA2'!J43,'MDA5'!J43,AI43),AZ43),AND(AU43>0,AW43>0,AX43=0),MIN(MAX('MDA2'!J43,'MDA5'!J43,T43),AZ43),AND(AU43>0,AW43>0,AX43>0),MIN(MAX('MDA2'!J43,'MDA5'!J43,AI43,T43),AZ43))","v":0},{"$f":"_xlfn.IFS(AND(AU43=0,AV43=0,AW43=0,AX43=0),0,AND(AU43=0,AV43=0,AW43=0,AX43>0),AL43,AND(AU43=0,AV43=0,AW43>0,AX43=0),W43,AND(AU43=0,AV43=0,AW43>0,AX43>0),MAX(W43,AL43),AND(AU43=0,AV43>0,AW43=0,AX43=0),MIN(J43*PROFILE!$G$9,MAX('MDA3'!I43,'MDA3'!L43)),AND(AU43=0,AV43>0,AW43=0,AX43>0),MIN(J43*PROFILE!$G$9,MAX('MDA3'!I43,'MDA3'!L43,AL43)),AND(AU43=0,AV43>0,AW43>0,AX43=0),MIN(J43*PROFILE!$G$9,MAX('MDA3'!I43,'MDA3'!L43,W43)),AND(AU43=0,AV43>0,AW43>0,AX43>0),MIN(J43*PROFILE!$G$9,MAX('MDA3'!I43,'MDA3'!L43,W43,AL43)),AND(AU43>0,AV43=0,AW43=0,AX43=0), MIN(BA43,MAX('MDA1'!K43,'MDA2'!K43,'MDA5'!K43)),AND(AU43>0,AV43=0,AW43=0,AX43>0), MIN(BA43,MAX('MDA1'!K43,'MDA2'!K43,'MDA5'!K43,AL43)),AND(AU43>0,AV43=0,AW43>0,AX43=0),MIN(BA43,MAX('MDA1'!K43,'MDA2'!KL43,'MDA5'!K43,W43)),AND(AU43>0,AV43=0,AW43>0,AX43>0),MIN(BA43,MAX('MDA1'!K43,'MDA2'!K43,'MDA5'!K43,W43,AL43)),AND(AU43>0,AV43>0,AW43=0,AX43=0),MIN(BA43, MAX('MDA1'!K43,'MDA2'!K43, 'MDA5'!K43,MAX('MDA3'!I43,'MDA3'!L43))), AND(AU43>0,AV43>0,AW43=0,AX43>0),MIN(BA43, MAX('MDA1'!K43,'MDA2'!K43, 'MDA5'!K43,MAX('MDA3'!I43,'MDA3'!L43),AL43)), AND(AU43>0,AV43>0,AW43>0,AX43=0), MIN(BA43, MAX('MDA1'!K43,'MDA2'!K43, 'MDA5'!K43,MAX('MDA3'!I43,'MDA3'!L43),W43)), AND(AU43>0,AV43>0,AW43>0,AX43>0), MIN(BA43, MAX('MDA1'!K43,'MDA2'!K43, 'MDA5'!K43,MAX('MDA3'!I43,'MDA3'!L43),W43,AL43)))","v":25013.085212574591},{"$f":"_xlfn.IFS(AND(AU43=0,AV43=0,AW43=0,AX43=0),0,AND(AU43=0,AV43=0,AW43=0,AX43>0),AO43,AND(AU43=0,AV43=0,AW43>0,AX43=0),Z43,AND(AU43=0,AV43=0,AW43>0,AX43>0),MAX(Z43,AO43),AND(AU43=0,AV43>0,AW43=0,AX43=0),MIN(J43*PROFILE!$G$10,MAX('MDA3'!J43,'MDA3'!J43)),AND(AU43=0,AV43>0,AW43=0,AX43>0),MIN(J43*PROFILE!$G$10,MAX('MDA3'!J43,'MDA3'!M43,AO43)),AND(AU43=0,AV43>0,AW43>0,AX43=0),MIN(J43*PROFILE!$G$10,MAX('MDA3'!J43,'MDA3'!M43,Z43)),AND(AU43=0,AV43>0,AW43>0,AX43>0),MIN(J43*PROFILE!$G$10,MAX('MDA3'!J43,'MDA3'!M43,Z43,AO43)),AND(AU43>0,AV43=0,AW43=0,AX43=0), MIN(BB43,MAX('MDA1'!L43,'MDA2'!L43,'MDA5'!L43)),AND(AU43>0,AV43=0,AW43=0,AX43>0), MIN(BB43,MAX('MDA1'!L43,'MDA2'!L43,'MDA5'!L43,AO43)),AND(AU43>0,AV43=0,AW43>0,AX43=0),MIN(BB43,MAX('MDA1'!L43,'MDA2'!L43,'MDA5'!L43,Z43)),AND(AU43>0,AV43=0,AW43>0,AX43>0),MIN(BB43,MAX('MDA1'!L43,'MDA2'!L43,'MDA5'!L43,Z43,AO43)),AND(AU43>0,AV43>0,AW43=0,AX43=0),MIN(BB43, MAX('MDA1'!L43,'MDA2'!L43, 'MDA5'!L43,MAX('MDA3'!J43,'MDA3'!M43))), AND(AU43>0,AV43>0,AW43=0,AX43>0),MIN(BB43, MAX('MDA1'!L43,'MDA2'!L43, 'MDA5'!L43,MAX('MDA3'!J43,'MDA3'!M43),AO43)), AND(AU43>0,AV43>0,AW43>0,AX43=0), MIN(BB43, MAX('MDA1'!L43,'MDA2'!L43, 'MDA5'!L43,MAX('MDA3'!J43,'MDA3'!M43),Z43)), AND(AU43>0,AV43>0,AW43>0,AX43>0), MIN(BB43, MAX('MDA1'!L43,'MDA2'!L43, 'MDA5'!L43,MAX('MDA3'!J43,'MDA3'!M43),Z43,AO43)))","v":40325},65338.085212574588,78.365010704993992]
[{"$f":"IF(COUNTRY_INFO!A44=0,\" \",COUNTRY_INFO!A44)","v":"Togo"},{"$f":"IF(COUNTRY_INFO!B44=0,\" \",COUNTRY_INFO!B44)","v":"SAVANES"},{"$f":"IF(COUNTRY_INFO!C44=0,\" \",COUNTRY_INFO!C44)","v":"KPENDJAL-OUEST"},{"$f":"COUNTRY_INFO!L44","v":"Non requis"},null,null,{"$f":"MAX('MDA1'!M44,'MDA2'!M44,'MDA5'!M44)","v":0},{"$f":"IF(AND(COUNTRY_INFO!H44>0,COUNTRY_INFO!H44<4),IF(D44>G44,G44,D44),0)","v":0},{"$f":"IF(AND(COUNTRY_INFO!H44>0,COUNTRY_INFO!H44<4), IF(G44/D44*100<>0, IF(G44/D44*100>100,100,G44/D44*100), \"-\"),0)","v":0},{"$f":"COUNTRY_INFO!M44","v":127895},50173,56506,{"$f":"MAX('MDA1'!M44,MAX('MDA3'!I44,'MDA3'!L44)+MAX('MDA3'!J44,'MDA3'!M44))","v":106679},{"$f":"IF(AND(COUNTRY_INFO!I44>0,COUNTRY_INFO!I44<4),IF(J44>M44,M44,J44),0)","v":106679},{"$f":"IF(AND(COUNTRY_INFO!I44>0,COUNTRY_INFO!I44<4), IF(M44/J44*100<>0, IF(M44/J44*100>100,100,M44/J44*100), \"-\"),0)","v":83.411392157629308},{"$f":"COUNTRY_INFO!Q44","v":58831},21522,20951,{"$f":"MAX('MDA2'!J44,'MDA5'!J44,'T1'!K44, MAX(T3_R1!J44,T3_R2!J44,T3_R3!J44))","v":0},{"$f":"IF(AND(COUNTRY_INFO!J44>1,COUNTRY_INFO!J44<99,COUNTRY_INFO!J44<>4,COUNTRY_INFO!J44<>5),IF(COUNTRY_INFO!N44>S44,S44,COUNTRY_INFO!N44),0)","v":0},{"$f":"IF(AND(COUNTRY_INFO!J44>1,COUNTRY_INFO!J44<99,COUNTRY_INFO!J44<>4,COUNTRY_INFO!J44<>5), IF(T44/COUNTRY_INFO!N44*100<>0, IF(T44/COUNTRY_INFO!N44*100>100,100,T44/COUNTRY_INFO!N44*100), \"-\"),0)","v":"-"},{"$f":"MAX('MDA1'!K44, 'MDA2'!K44, 'MDA5'!K44,'T1'!L44, MAX(T3_R1!K44,T3_R2!K44,T3_R3!K44))","v":42473},{"$f":"IF(AND(COUNTRY_INFO!J44>1,COUNTRY_INFO!J44<99,COUNTRY_INFO!J44<>4,COUNTRY_INFO!J44<>5),IF(COUNTRY_INFO!O44>V44,V44,COUNTRY_INFO!O44),0)","v":38368},{"$f":"IF(AND(COUNTRY_INFO!J44>1,COUNTRY_INFO!J44<99,COUNTRY_INFO!J44<>4,COUNTRY_INFO!J44<>5), IF(W44/COUNTRY_INFO!O44*100<>0, IF(W44/COUNTRY_INFO!O44*100>100,100,W44/COUNTRY_INFO!O44*100), \"-\"),0)","v":100},{"$f":"MAX('MDA1'!L44, 'MDA2'!L44, 'MDA5'!L44,'T1'!M44, MAX(T3_R1!L44,T3_R2!L44,T3_R3!L44))","v":0},{"$f":"IF(AND(COUNTRY_INFO!J44>1,COUNTRY_INFO!J44<99,COUNTRY_INFO!J44<>4,COUNTRY_INFO!J44<>5),IF(COUNTRY_INFO!P44>Y44,Y44,COUNTRY_INFO!P44),0)","v":0},{"$f":"IF(AND(COUNTRY_INFO!J44>1,COUNTRY_INFO!J44<99,COUNTRY_INFO!J44<>4,COUNTRY_INFO!J44<>5), IF(Z44/COUNTRY_INFO!P44*100<>0, IF(Z44/COUNTRY_INFO!P44*100>100,100,Z44/COUNTRY_INFO!P44*100), \"-\"),0)","v":{"$error":"#DIV/0!"}},42473,38368,{"$f":"IF(AND(COUNTRY_INFO!J44>1,COUNTRY_INFO!J44<99,COUNTRY_INFO!J44<>4,COUNTRY_INFO!J44<>5), IF(AC44/P44*100<>0, IF(AC44/P44*100>100,100,AC44/P44*100), \"-\"),0)","v":65.217317400690106},{"$f":"COUNTRY_INFO!U44","v":90242},null,null,{"$f":"MAX('T1'!K44,'T2'!R44)","v":0},{"$f":"IF(AND(COUNTRY_INFO!K44>1,COUNTRY_INFO!K44<99,COUNTRY_INFO!K44<>4,COUNTRY_INFO!K44<>5),IF(COUNTRY_INFO!R44>AH44,AH44,COUNTRY_INFO!R44),0)","v":0},{"$f":"IF(AND(COUNTRY_INFO!K44>1,COUNTRY_INFO!K44<99,COUNTRY_INFO!K44<>4,COUNTRY_INFO!K44<>5), IF(AI44/COUNTRY_INFO!R44*100<>0, IF(AI44/COUNTRY_INFO!R44*100>100,100,AI44/COUNTRY_INFO!R44*100), \"-\"),0)","v":{"$error":"#DIV/0!"}},{"$f":"MAX('T1'!L44,'T2'!S44)","v":42473},{"$f":"IF(AND(COUNTRY_INFO!K44>1,COUNTRY_INFO!K44<99,COUNTRY_INFO!K44<>4,COUNTRY_INFO!K44<>5),IF(COUNTRY_INFO!S44>AK44,AK44,COUNTRY_INFO!S44),0)","v":0},{"$f":"IF(AND(COUNTRY_INFO!K44>1,COUNTRY_INFO!K44<99,COUNTRY_INFO!K44<>4,COUNTRY_INFO!K44<>5), IF(AL44/COUNTRY_INFO!S44*100<>0, IF(AL44/COUNTRY_INFO!S44*100>100,100,AL44/COUNTRY_INFO!S44*100), \"-\"),0)","v":{"$error":"#DIV/0!"}},{"$f":"MAX('T1'!M44,'T2'!T44)","v":13673},{"$f":"IF(AND(COUNTRY_INFO!K44>1,COUNTRY_INFO!K44<99,COUNTRY_INFO!K44<>4,COUNTRY_INFO!K44<>5),IF(COUNTRY_INFO!T44>AN44,AN44,COUNTRY_INFO!T44),0)","v":0},{"$f":"IF(AND(COUNTRY_INFO!K44>1,COUNTRY_INFO!K44<99,COUNTRY_INFO!K44<>4,COUNTRY_INFO!K44<>5), IF(AO44/COUNTRY_INFO!T44*100<>0, IF(AO44/COUNTRY_INFO!T44*100>100,100,AO44/COUNTRY_INFO!T44*100), \"-\"),0)","v":{"$error":"#DIV/0!"}},56146,56146,62.217149442609873,null,{"$f":"IF(AND(D44<>0, D44<>\"Inconnu\",D44<>\"Interrompu\",D44<>\"Non requis\"),D44/COUNTRY_INFO!D44, 0)","v":0},{"$f":"IF(AND(J44<>0,J44<>\"Inconnu\",J44<>\"Interrompu\",J44<>\"Non requis\"),J44/COUNTRY_INFO!D44, 0)","v":1.0000007099578909},{"$f":"IF(AND(P44<>0,P44<>\"Inconnu\",P44<>\"Surveillance\",P44<>\"Non requis\"),P44/COUNTRY_INFO!Q44, 0)","v":1},{"$f":"IF(AND(AE44<>0,AE44<>\"Inconnu\",AE44<>\"Surveillance\",AE44<>\"Non requis\"),AE44/COUNTRY_INFO!U44, 0)","v":1},{"$f":"IF(AU44>0,D44*PROFILE!$G$7,IF(AV44>0,J44*PROFILE!$G$7,0))","v":5115.813020526115},{"$f":"_xlfn.IFS(OR(AU44>0,AW44>0),COUNTRY_INFO!E44, AV44>0,J44*PROFILE!$G$8,AX44>0,COUNTRY_INFO!R44,COUNTIFS(AU44:AX44,\">0\")=0,0)","v":20463},{"$f":"_xlfn.IFS(OR(AU44>0,AW44>0),COUNTRY_INFO!F44, AV44>0,J44*PROFILE!$G$9,AX44>0,COUNTRY_INFO!S44,COUNTIFS(AU44:AX44,\">0\")=0,0)","v":38368},{"$f":"_xlfn.IFS(AU44>0,COUNTRY_INFO!G44, AND(AV44>0,AW44=0,AX44=0),J44*PROFILE!$G$10,AND(AV44>0,AW44>0,AX44=0), MAX(J44*PROFILE!$G$10,COUNTRY_INFO!P44),AND(AV44>0,AW44=0,AX44>0), MAX(J44*PROFILE!$G$10,COUNTRY_INFO!T44),AND(AV44=0,AW44>0,AX44>0), MAX(COUNTRY_INFO!P44,COUNTRY_INFO!T44),AND(AV44=0,AW44>0,AX44=0),COUNTRY_INFO!P44,AND(AV44=0,AW44=0,AX44>0),COUNTRY_INFO!T44,AND(AV44>0,AW44>0,AX44>0), MAX(J44*PROFILE!$G$10,COUNTRY_INFO!P44,COUNTRY_INFO!T44),COUNTIFS(AU44:AX44,\">0\")=0,0)","v":63947.524895022289},127894.3379155484,"Y",{"$f":"MAX('MDA2'!J44,'MDA5'!J44,S44,AH44)","v":0},{"$f":"MAX('MDA1'!K44,'MDA2'!K44,'MDA3'!I44,'MDA3'!L44,'MDA5'!K44,V44,AK44)","v":42473},{"$f":"MAX('MDA1'!L44,'MDA2'!L44,'MDA3'!J44,'MDA3'!M44,'MDA5'!L44,Y44,AN44)","v":64544},107017,{"$f":"_xlfn.IFS(AND(AU44=0,AW44=0,AX44=0),0,AND(AU44=0,AW44=0,AX44>0),AI44,AND(AU44=0,AW44>0,AX44=0),T44,AND(AU44=0,AW44>0,AX44>0),MAX(T44,AI44),AND(AU44>0,AW44=0,AX44=0),MIN(MAX('MDA2'!J44,'MDA5'!J44),AZ44),AND(AU44>0,AW44=0,AX44>0),MIN(MAX('MDA2'!J44,'MDA5'!J44,AI44),AZ44),AND(AU44>0,AW44>0,AX44=0),MIN(MAX('MDA2'!J44,'MDA5'!J44,T44),AZ44),AND(AU44>0,AW44>0,AX44>0),MIN(MAX('MDA2'!J44,'MDA5'!J44,AI44,T44),AZ44))","v":0},{"$f":"_xlfn.IFS(AND(AU44=0,AV44=0,AW44=0,AX44=0),0,AND(AU44=0,AV44=0,AW44=0,AX44>0),AL44,AND(AU44=0,AV44=0,AW44>0,AX44=0),W44,AND(AU44=0,AV44=0,AW44>0,AX44>0),MAX(W44,AL44),AND(AU44=0,AV44>0,AW44=0,AX44=0),MIN(J44*PROFILE!$G$9,MAX('MDA3'!I44,'MDA3'!L44)),AND(AU44=0,AV44>0,AW44=0,AX44>0),MIN(J44*PROFILE!$G$9,MAX('MDA3'!I44,'MDA3'!L44,AL44)),AND(AU44=0,AV44>0,AW44>0,AX44=0),MIN(J44*PROFILE!$G$9,MAX('MDA3'!I44,'MDA3'!L44,W44)),AND(AU44=0,AV44>0,AW44>0,AX44>0),MIN(J44*PROFILE!$G$9,MAX('MDA3'!I44,'MDA3'!L44,W44,AL44)),AND(AU44>0,AV44=0,AW44=0,AX44=0), MIN(BA44,MAX('MDA1'!K44,'MDA2'!K44,'MDA5'!K44)),AND(AU44>0,AV44=0,AW44=0,AX44>0), MIN(BA44,MAX('MDA1'!K44,'MDA2'!K44,'MDA5'!K44,AL44)),AND(AU44>0,AV44=0,AW44>0,AX44=0),MIN(BA44,MAX('MDA1'!K44,'MDA2'!KL44,'MDA5'!K44,W44)),AND(AU44>0,AV44=0,AW44>0,AX44>0),MIN(BA44,MAX('MDA1'!K44,'MDA2'!K44,'MDA5'!K44,W44,AL44)),AND(AU44>0,AV44>0,AW44=0,AX44=0),MIN(BA44, MAX('MDA1'!K44,'MDA2'!K44, 'MDA5'!K44,MAX('MDA3'!I44,'MDA3'!L44))), AND(AU44>0,AV44>0,AW44=0,AX44>0),MIN(BA44, MAX('MDA1'!K44,'MDA2'!K44, 'MDA5'!K44,MAX('MDA3'!I44,'MDA3'!L44),AL44)), AND(AU44>0,AV44>0,AW44>0,AX44=0), MIN(BA44, MAX('MDA1'!K44,'MDA2'!K44, 'MDA5'!K44,MAX('MDA3'!I44,'MDA3'!L44),W44)), AND(AU44>0,AV44>0,AW44>0,AX44>0), MIN(BA44, MAX('MDA1'!K44,'MDA2'!K44, 'MDA5'!K44,MAX('MDA3'!I44,'MDA3'!L44),W44,AL44)))","v":38368.477317032608},{"$f":"_xlfn.IFS(AND(AU44=0,AV44=0,AW44=0,AX44=0),0,AND(AU44=0,AV44=0,AW44=0,AX44>0),AO44,AND(AU44=0,AV44=0,AW44>0,AX44=0),Z44,AND(AU44=0,AV44=0,AW44>0,AX44>0),MAX(Z44,AO44),AND(AU44=0,AV44>0,AW44=0,AX44=0),MIN(J44*PROFILE!$G$10,MAX('MDA3'!J44,'MDA3'!J44)),AND(AU44=0,AV44>0,AW44=0,AX44>0),MIN(J44*PROFILE!$G$10,MAX('MDA3'!J44,'MDA3'!M44,AO44)),AND(AU44=0,AV44>0,AW44>0,AX44=0),MIN(J44*PROFILE!$G$10,MAX('MDA3'!J44,'MDA3'!M44,Z44)),AND(AU44=0,AV44>0,AW44>0,AX44>0),MIN(J44*PROFILE!$G$10,MAX('MDA3'!J44,'MDA3'!M44,Z44,AO44)),AND(AU44>0,AV44=0,AW44=0,AX44=0), MIN(BB44,MAX('MDA1'!L44,'MDA2'!L44,'MDA5'!L44)),AND(AU44>0,AV44=0,AW44=0,AX44>0), MIN(BB44,MAX('MDA1'!L44,'MDA2'!L44,'MDA5'!L44,AO44)),AND(AU44>0,AV44=0,AW44>0,AX44=0),MIN(BB44,MAX('MDA1'!L44,'MDA2'!L44,'MDA5'!L44,Z44)),AND(AU44>0,AV44=0,AW44>0,AX44>0),MIN(BB44,MAX('MDA1'!L44,'MDA2'!L44,'MDA5'!L44,Z44,AO44)),AND(AU44>0,AV44>0,AW44=0,AX44=0),MIN(BB44, MAX('MDA1'!L44,'MDA2'!L44, 'MDA5'!L44,MAX('MDA3'!J44,'MDA3'!M44))), AND(AU44>0,AV44>0,AW44=0,AX44>0),MIN(BB44, MAX('MDA1'!L44,'MDA2'!L44, 'MDA5'!L44,MAX('MDA3'!J44,'MDA3'!M44),AO44)), AND(AU44>0,AV44>0,AW44>0,AX44=0), MIN(BB44, MAX('MDA1'!L44,'MDA2'!L44, 'MDA5'!L44,MAX('MDA3'!J44,'MDA3'!M44),Z44)), AND(AU44>0,AV44>0,AW44>0,AX44>0), MIN(BB44, MAX('MDA1'!L44,'MDA2'!L44, 'MDA5'!L44,MAX('MDA3'!J44,'MDA3'!M44),Z44,AO44)))","v":63947.524895022289},102316.0022120549,80.000415874248105]
[{"$f":"IF(COUNTRY_INFO!A45=0,\" \",COUNTRY_INFO!A45)","v":"Togo"},{"$f":"IF(COUNTRY_INFO!B45=0,\" \",COUNTRY_INFO!B45)","v":"SAVANES"},{"$f":"IF(COUNTRY_INFO!C45=0,\" \",COUNTRY_INFO!C45)","v":"OTI"},{"$f":"COUNTRY_INFO!L45","v":"Non requis"},null,null,{"$f":"MAX('MDA1'!M45,'MDA2'!M45,'MDA5'!M45)","v":0},{"$f":"IF(AND(COUNTRY_INFO!H45>0,COUNTRY_INFO!H45<4),IF(D45>G45,G45,D45),0)","v":0},{"$f":"IF(AND(COUNTRY_INFO!H45>0,COUNTRY_INFO!H45<4), IF(G45/D45*100<>0, IF(G45/D45*100>100,100,G45/D45*100), \"-\"),0)","v":0},{"$f":"COUNTRY_INFO!M45","v":81780.841515146472},34491,36985,{"$f":"MAX('MDA1'!M45,MAX('MDA3'!I45,'MDA3'!L45)+MAX('MDA3'!J45,'MDA3'!M45))","v":71476},{"$f":"IF(AND(COUNTRY_INFO!I45>0,COUNTRY_INFO!I45<4),IF(J45>M45,M45,J45),0)","v":71476},{"$f":"IF(AND(COUNTRY_INFO!I45>0,COUNTRY_INFO!I45<4), IF(M45/J45*100<>0, IF(M45/J45*100>100,100,M45/J45*100), \"-\"),0)","v":87.399443042857499},{"$f":"COUNTRY_INFO!Q45","v":56931},20396,20801,{"$f":"MAX('MDA2'!J45,'MDA5'!J45,'T1'!K45, MAX(T3_R1!J45,T3_R2!J45,T3_R3!J45))","v":0},{"$f":"IF(AND(COUNTRY_INFO!J45>1,COUNTRY_INFO!J45<99,COUNTRY_INFO!J45<>4,COUNTRY_INFO!J45<>5),IF(COUNTRY_INFO!N45>S45,S45,COUNTRY_INFO!N45),0)","v":0},{"$f":"IF(AND(COUNTRY_INFO!J45>1,COUNTRY_INFO!J45<99,COUNTRY_INFO!J45<>4,COUNTRY_INFO!J45<>5), IF(T45/COUNTRY_INFO!N45*100<>0, IF(T45/COUNTRY_INFO!N45*100>100,100,T45/COUNTRY_INFO!N45*100), \"-\"),0)","v":"-"},{"$f":"MAX('MDA1'!K45, 'MDA2'!K45, 'MDA5'!K45,'T1'!L45, MAX(T3_R1!K45,T3_R2!K45,T3_R3!K45))","v":41197},{"$f":"IF(AND(COUNTRY_INFO!J45>1,COUNTRY_INFO!J45<99,COUNTRY_INFO!J45<>4,COUNTRY_INFO!J45<>5),IF(COUNTRY_INFO!O45>V45,V45,COUNTRY_INFO!O45),0)","v":37129},{"$f":"IF(AND(COUNTRY_INFO!J45>1,COUNTRY_INFO!J45<99,COUNTRY_INFO!J45<>4,COUNTRY_INFO!J45<>5), IF(W45/COUNTRY_INFO!O45*100<>0, IF(W45/COUNTRY_INFO!O45*100>100,100,W45/COUNTRY_INFO!O45*100), \"-\"),0)","v":100},{"$f":"MAX('MDA1'!L45, 'MDA2'!L45, 'MDA5'!L45,'T1'!M45, MAX(T3_R1!L45,T3_R2!L45,T3_R3!L45))","v":0},{"$f":"IF(AND(COUNTRY_INFO!J45>1,COUNTRY_INFO!J45<99,COUNTRY_INFO!J45<>4,COUNTRY_INFO!J45<>5),IF(COUNTRY_INFO!P45>Y45,Y45,COUNTRY_INFO!P45),0)","v":0},{"$f":"IF(AND(COUNTRY_INFO!J45>1,COUNTRY_INFO!J45<99,COUNTRY_INFO!J45<>4,COUNTRY_INFO!J45<>5), IF(Z45/COUNTRY_INFO!P45*100<>0, IF(Z45/COUNTRY_INFO!P45*100>100,100,Z45/COUNTRY_INFO!P45*100), \"-\"),0)","v":{"$error":"#DIV/0!"}},41197,37129,{"$f":"IF(AND(COUNTRY_INFO!J45>1,COUNTRY_INFO!J45<99,COUNTRY_INFO!J45<>4,COUNTRY_INFO!J45<>5), IF(AC45/P45*100<>0, IF(AC45/P45*100>100,100,AC45/P45*100), \"-\"),0)","v":65.21754404454515},{"$f":"COUNTRY_INFO!U45","v":84145},null,null,{"$f":"MAX('T1'!K45,'T2'!R45)","v":0},{"$f":"IF(AND(COUNTRY_INFO!K45>1,COUNTRY_INFO!K45<99,COUNTRY_INFO!K45<>4,COUNTRY_INFO!K45<>5),IF(COUNTRY_INFO!R45>AH45,AH45,COUNTRY_INFO!R45),0)","v":0},{"$f":"IF(AND(COUNTRY_INFO!K45>1,COUNTRY_INFO!K45<99,COUNTRY_INFO!K45<>4,COUNTRY_INFO!K45<>5), IF(AI45/COUNTRY_INFO!R45*100<>0, IF(AI45/COUNTRY_INFO!R45*100>100,100,AI45/COUNTRY_INFO!R45*100), \"-\"),0)","v":{"$error":"#DIV/0!"}},{"$f":"MAX('T1'!L45,'T2'!S45)","v":40506},{"$f":"IF(AND(COUNTRY_INFO!K45>1,COUNTRY_INFO!K45<99,COUNTRY_INFO!K45<>4,COUNTRY_INFO!K45<>5),IF(COUNTRY_INFO!S45>AK45,AK45,COUNTRY_INFO!S45),0)","v":0},{"$f":"IF(AND(COUNTRY_INFO!K45>1,COUNTRY_INFO!K45<99,COUNTRY_INFO!K45<>4,COUNTRY_INFO!K45<>5), IF(AL45/COUNTRY_INFO!S45*100<>0, IF(AL45/COUNTRY_INFO!S45*100>100,100,AL45/COUNTRY_INFO!S45*100), \"-\"),0)","v":{"$error":"#DIV/0!"}},{"$f":"MAX('T1'!M45,'T2'!T45)","v":4245},{"$f":"IF(AND(COUNTRY_INFO!K45>1,COUNTRY_INFO!K45<99,COUNTRY_INFO!K45<>4,COUNTRY_INFO!K45<>5),IF(COUNTRY_INFO!T45>AN45,AN45,COUNTRY_INFO!T45),0)","v":0},{"$f":"IF(AND(COUNTRY_INFO!K45>1,COUNTRY_INFO!K45<99,COUNTRY_INFO!K45<>4,COUNTRY_INFO!K45<>5), IF(AO45/COUNTRY_INFO!T45*100<>0, IF(AO45/COUNTRY_INFO!T45*100>100,100,AO45/COUNTRY_INFO!T45*100), \"-\"),0)","v":{"$error":"#DIV/0!"}},44751,44751,53.183195674133934,null,{"$f":"IF(AND(D45<>0, D45<>\"Inconnu\",D45<>\"Interrompu\",D45<>\"Non requis\"),D45/COUNTRY_INFO!D45, 0)","v":0},{"$f":"IF(AND(J45<>0,J45<>\"Inconnu\",J45<>\"Interrompu\",J45<>\"Non requis\"),J45/COUNTRY_INFO!D45, 0)","v":0.66078145685988965},{"$f":"IF(AND(P45<>0,P45<>\"Inconnu\",P45<>\"Surveillance\",P45<>\"Non requis\"),P45/COUNTRY_INFO!Q45, 0)","v":1},{"$f":"IF(AND(AE45<>0,AE45<>\"Inconnu\",AE45<>\"Surveillance\",AE45<>\"Non requis\"),AE45/COUNTRY_INFO!U45, 0)","v":1},{"$f":"IF(AU45>0,D45*PROFILE!$G$7,IF(AV45>0,J45*PROFILE!$G$7,0))","v":3271.24198641674},{"$f":"_xlfn.IFS(OR(AU45>0,AW45>0),COUNTRY_INFO!E45, AV45>0,J45*PROFILE!$G$8,AX45>0,COUNTRY_INFO!R45,COUNTIFS(AU45:AX45,\">0\")=0,0)","v":19802},{"$f":"_xlfn.IFS(OR(AU45>0,AW45>0),COUNTRY_INFO!F45, AV45>0,J45*PROFILE!$G$9,AX45>0,COUNTRY_INFO!S45,COUNTIFS(AU45:AX45,\">0\")=0,0)","v":37129},{"$f":"_xlfn.IFS(AU45>0,COUNTRY_INFO!G45, AND(AV45>0,AW45=0,AX45=0),J45*PROFILE!$G$10,AND(AV45>0,AW45>0,AX45=0), MAX(J45*PROFILE!$G$10,COUNTRY_INFO!P45),AND(AV45>0,AW45=0,AX45>0), MAX(J45*PROFILE!$G$10,COUNTRY_INFO!T45),AND(AV45=0,AW45>0,AX45>0), MAX(COUNTRY_INFO!P45,COUNTRY_INFO!T45),AND(AV45=0,AW45>0,AX45=0),COUNTRY_INFO!P45,AND(AV45=0,AW45=0,AX45>0),COUNTRY_INFO!T45,AND(AV45>0,AW45>0,AX45>0), MAX(J45*PROFILE!$G$10,COUNTRY_INFO!P45,COUNTRY_INFO!T45),COUNTIFS(AU45:AX45,\">0\")=0,0)","v":40890.436676380639},101092.67866279738,"Y",{"$f":"MAX('MDA2'!J45,'MDA5'!J45,S45,AH45)","v":0},{"$f":"MAX('MDA1'!K45,'MDA2'!K45,'MDA3'!I45,'MDA3'!L45,'MDA5'!K45,V45,AK45)","v":41197},{"$f":"MAX('MDA1'!L45,'MDA2'!L45,'MDA3'!J45,'MDA3'!M45,'MDA5'!L45,Y45,AN45)","v":44091},85288,{"$f":"_xlfn.IFS(AND(AU45=0,AW45=0,AX45=0),0,AND(AU45=0,AW45=0,AX45>0),AI45,AND(AU45=0,AW45>0,AX45=0),T45,AND(AU45=0,AW45>0,AX45>0),MAX(T45,AI45),AND(AU45>0,AW45=0,AX45=0),MIN(MAX('MDA2'!J45,'MDA5'!J45),AZ45),AND(AU45>0,AW45=0,AX45>0),MIN(MAX('MDA2'!J45,'MDA5'!J45,AI45),AZ45),AND(AU45>0,AW45>0,AX45=0),MIN(MAX('MDA2'!J45,'MDA5'!J45,T45),AZ45),AND(AU45>0,AW45>0,AX45>0),MIN(MAX('MDA2'!J45,'MDA5'!J45,AI45,T45),AZ45))","v":0},{"$f":"_xlfn.IFS(AND(AU45=0,AV45=0,AW45=0,AX45=0),0,AND(AU45=0,AV45=0,AW45=0,AX45>0),AL45,AND(AU45=0,AV45=0,AW45>0,AX45=0),W45,AND(AU45=0,AV45=0,AW45>0,AX45>0),MAX(W45,AL45),AND(AU45=0,AV45>0,AW45=0,AX45=0),MIN(J45*PROFILE!$G$9,MAX('MDA3'!I45,'MDA3'!L45)),AND(AU45=0,AV45>0,AW45=0,AX45>0),MIN(J45*PROFILE!$G$9,MAX('MDA3'!I45,'MDA3'!L45,AL45)),AND(AU45=0,AV45>0,AW45>0,AX45=0),MIN(J45*PROFILE!$G$9,MAX('MDA3'!I45,'MDA3'!L45,W45)),AND(AU45=0,AV45>0,AW45>0,AX45>0),MIN(J45*PROFILE!$G$9,MAX('MDA3'!I45,'MDA3'!L45,W45,AL45)),AND(AU45>0,AV45=0,AW45=0,AX45=0), MIN(BA45,MAX('MDA1'!K45,'MDA2'!K45,'MDA5'!K45)),AND(AU45>0,AV45=0,AW45=0,AX45>0), MIN(BA45,MAX('MDA1'!K45,'MDA2'!K45,'MDA5'!K45,AL45)),AND(AU45>0,AV45=0,AW45>0,AX45=0),MIN(BA45,MAX('MDA1'!K45,'MDA2'!KL45,'MDA5'!K45,W45)),AND(AU45>0,AV45=0,AW45>0,AX45>0),MIN(BA45,MAX('MDA1'!K45,'MDA2'!K45,'MDA5'!K45,W45,AL45)),AND(AU45>0,AV45>0,AW45=0,AX45=0),MIN(BA45, MAX('MDA1'!K45,'MDA2'!K45, 'MDA5'!K45,MAX('MDA3'!I45,'MDA3'!L45))), AND(AU45>0,AV45>0,AW45=0,AX45>0),MIN(BA45, MAX('MDA1'!K45,'MDA2'!K45, 'MDA5'!K45,MAX('MDA3'!I45,'MDA3'!L45),AL45)), AND(AU45>0,AV45>0,AW45>0,AX45=0), MIN(BA45, MAX('MDA1'!K45,'MDA2'!K45, 'MDA5'!K45,MAX('MDA3'!I45,'MDA3'!L45),W45)), AND(AU45>0,AV45>0,AW45>0,AX45>0), MIN(BA45, MAX('MDA1'!K45,'MDA2'!K45, 'MDA5'!K45,MAX('MDA3'!I45,'MDA3'!L45),W45,AL45)))","v":24534.237950207091},{"$f":"_xlfn.IFS(AND(AU45=0,AV45=0,AW45=0,AX45=0),0,AND(AU45=0,AV45=0,AW45=0,AX45>0),AO45,AND(AU45=0,AV45=0,AW45>0,AX45=0),Z45,AND(AU45=0,AV45=0,AW45>0,AX45>0),MAX(Z45,AO45),AND(AU45=0,AV45>0,AW45=0,AX45=0),MIN(J45*PROFILE!$G$10,MAX('MDA3'!J45,'MDA3'!J45)),AND(AU45=0,AV45>0,AW45=0,AX45>0),MIN(J45*PROFILE!$G$10,MAX('MDA3'!J45,'MDA3'!M45,AO45)),AND(AU45=0,AV45>0,AW45>0,AX45=0),MIN(J45*PROFILE!$G$10,MAX('MDA3'!J45,'MDA3'!M45,Z45)),AND(AU45=0,AV45>0,AW45>0,AX45>0),MIN(J45*PROFILE!$G$10,MAX('MDA3'!J45,'MDA3'!M45,Z45,AO45)),AND(AU45>0,AV45=0,AW45=0,AX45=0), MIN(BB45,MAX('MDA1'!L45,'MDA2'!L45,'MDA5'!L45)),AND(AU45>0,AV45=0,AW45=0,AX45>0), MIN(BB45,MAX('MDA1'!L45,'MDA2'!L45,'MDA5'!L45,AO45)),AND(AU45>0,AV45=0,AW45>0,AX45=0),MIN(BB45,MAX('MDA1'!L45,'MDA2'!L45,'MDA5'!L45,Z45)),AND(AU45>0,AV45=0,AW45>0,AX45>0),MIN(BB45,MAX('MDA1'!L45,'MDA2'!L45,'MDA5'!L45,Z45,AO45)),AND(AU45>0,AV45>0,AW45=0,AX45=0),MIN(BB45, MAX('MDA1'!L45,'MDA2'!L45, 'MDA5'!L45,MAX('MDA3'!J45,'MDA3'!M45))), AND(AU45>0,AV45>0,AW45=0,AX45>0),MIN(BB45, MAX('MDA1'!L45,'MDA2'!L45, 'MDA5'!L45,MAX('MDA3'!J45,'MDA3'!M45),AO45)), AND(AU45>0,AV45>0,AW45>0,AX45=0), MIN(BB45, MAX('MDA1'!L45,'MDA2'!L45, 'MDA5'!L45,MAX('MDA3'!J45,'MDA3'!M45),Z45)), AND(AU45>0,AV45>0,AW45>0,AX45>0), MIN(BB45, MAX('MDA1'!L45,'MDA2'!L45, 'MDA5'!L45,MAX('MDA3'!J45,'MDA3'!M45),Z45,AO45)))","v":40890.436676380639},65424.67462658773,64.717520093435155]
[{"$f":"IF(COUNTRY_INFO!A46=0,\" \",COUNTRY_INFO!A46)","v":"Togo"},{"$f":"IF(COUNTRY_INFO!B46=0,\" \",COUNTRY_INFO!B46)","v":"SAVANES"},{"$f":"IF(COUNTRY_INFO!C46=0,\" \",COUNTRY_INFO!C46)","v":"OTI-SUD"},{"$f":"COUNTRY_INFO!L46","v":"Non requis"},null,null,{"$f":"MAX('MDA1'!M46,'MDA2'!M46,'MDA5'!M46)","v":0},{"$f":"IF(AND(COUNTRY_INFO!H46>0,COUNTRY_INFO!H46<4),IF(D46>G46,G46,D46),0)","v":0},{"$f":"IF(AND(COUNTRY_INFO!H46>0,COUNTRY_INFO!H46<4), IF(G46/D46*100<>0, IF(G46/D46*100>100,100,G46/D46*100), \"-\"),0)","v":0},{"$f":"COUNTRY_INFO!M46","v":123070.7762482594},51280,54200,{"$f":"MAX('MDA1'!M46,MAX('MDA3'!I46,'MDA3'!L46)+MAX('MDA3'!J46,'MDA3'!M46))","v":105480},{"$f":"IF(AND(COUNTRY_INFO!I46>0,COUNTRY_INFO!I46<4),IF(J46>M46,M46,J46),0)","v":105480},{"$f":"IF(AND(COUNTRY_INFO!I46>0,COUNTRY_INFO!I46<4), IF(M46/J46*100<>0, IF(M46/J46*100>100,100,M46/J46*100), \"-\"),0)","v":85.706780452269896},{"$f":"COUNTRY_INFO!Q46","v":61140},22420,22670,{"$f":"MAX('MDA2'!J46,'MDA5'!J46,'T1'!K46, MAX(T3_R1!J46,T3_R2!J46,T3_R3!J46))","v":0},{"$f":"IF(AND(COUNTRY_INFO!J46>1,COUNTRY_INFO!J46<99,COUNTRY_INFO!J46<>4,COUNTRY_INFO!J46<>5),IF(COUNTRY_INFO!N46>S46,S46,COUNTRY_INFO!N46),0)","v":0},{"$f":"IF(AND(COUNTRY_INFO!J46>1,COUNTRY_INFO!J46<99,COUNTRY_INFO!J46<>4,COUNTRY_INFO!J46<>5), IF(T46/COUNTRY_INFO!N46*100<>0, IF(T46/COUNTRY_INFO!N46*100>100,100,T46/COUNTRY_INFO!N46*100), \"-\"),0)","v":"-"},{"$f":"MAX('MDA1'!K46, 'MDA2'!K46, 'MDA5'!K46,'T1'!L46, MAX(T3_R1!K46,T3_R2!K46,T3_R3!K46))","v":45090},{"$f":"IF(AND(COUNTRY_INFO!J46>1,COUNTRY_INFO!J46<99,COUNTRY_INFO!J46<>4,COUNTRY_INFO!J46<>5),IF(COUNTRY_INFO!O46>V46,V46,COUNTRY_INFO!O46),0)","v":39874},{"$f":"IF(AND(COUNTRY_INFO!J46>1,COUNTRY_INFO!J46<99,COUNTRY_INFO!J46<>4,COUNTRY_INFO!J46<>5), IF(W46/COUNTRY_INFO!O46*100<>0, IF(W46/COUNTRY_INFO!O46*100>100,100,W46/COUNTRY_INFO!O46*100), \"-\"),0)","v":100},{"$f":"MAX('MDA1'!L46, 'MDA2'!L46, 'MDA5'!L46,'T1'!M46, MAX(T3_R1!L46,T3_R2!L46,T3_R3!L46))","v":0},{"$f":"IF(AND(COUNTRY_INFO!J46>1,COUNTRY_INFO!J46<99,COUNTRY_INFO!J46<>4,COUNTRY_INFO!J46<>5),IF(COUNTRY_INFO!P46>Y46,Y46,COUNTRY_INFO!P46),0)","v":0},{"$f":"IF(AND(COUNTRY_INFO!J46>1,COUNTRY_INFO!J46<99,COUNTRY_INFO!J46<>4,COUNTRY_INFO!J46<>5), IF(Z46/COUNTRY_INFO!P46*100<>0, IF(Z46/COUNTRY_INFO!P46*100>100,100,Z46/COUNTRY_INFO!P46*100), \"-\"),0)","v":{"$error":"#DIV/0!"}},45090,39874,{"$f":"IF(AND(COUNTRY_INFO!J46>1,COUNTRY_INFO!J46<99,COUNTRY_INFO!J46<>4,COUNTRY_INFO!J46<>5), IF(AC46/P46*100<>0, IF(AC46/P46*100>100,100,AC46/P46*100), \"-\"),0)","v":65.217533529604182},{"$f":"COUNTRY_INFO!U46","v":108949},null,null,{"$f":"MAX('T1'!K46,'T2'!R46)","v":0},{"$f":"IF(AND(COUNTRY_INFO!K46>1,COUNTRY_INFO!K46<99,COUNTRY_INFO!K46<>4,COUNTRY_INFO!K46<>5),IF(COUNTRY_INFO!R46>AH46,AH46,COUNTRY_INFO!R46),0)","v":0},{"$f":"IF(AND(COUNTRY_INFO!K46>1,COUNTRY_INFO!K46<99,COUNTRY_INFO!K46<>4,COUNTRY_INFO!K46<>5), IF(AI46/COUNTRY_INFO!R46*100<>0, IF(AI46/COUNTRY_INFO!R46*100>100,100,AI46/COUNTRY_INFO!R46*100), \"-\"),0)","v":{"$error":"#DIV/0!"}},{"$f":"MAX('T1'!L46,'T2'!S46)","v":42104},{"$f":"IF(AND(COUNTRY_INFO!K46>1,COUNTRY_INFO!K46<99,COUNTRY_INFO!K46<>4,COUNTRY_INFO!K46<>5),IF(COUNTRY_INFO!S46>AK46,AK46,COUNTRY_INFO!S46),0)","v":0},{"$f":"IF(AND(COUNTRY_INFO!K46>1,COUNTRY_INFO!K46<99,COUNTRY_INFO!K46<>4,COUNTRY_INFO!K46<>5), IF(AL46/COUNTRY_INFO!S46*100<>0, IF(AL46/COUNTRY_INFO!S46*100>100,100,AL46/COUNTRY_INFO!S46*100), \"-\"),0)","v":{"$error":"#DIV/0!"}},{"$f":"MAX('T1'!M46,'T2'!T46)","v":22576.48},{"$f":"IF(AND(COUNTRY_INFO!K46>1,COUNTRY_INFO!K46<99,COUNTRY_INFO!K46<>4,COUNTRY_INFO!K46<>5),IF(COUNTRY_INFO!T46>AN46,AN46,COUNTRY_INFO!T46),0)","v":0},{"$f":"IF(AND(COUNTRY_INFO!K46>1,COUNTRY_INFO!K46<99,COUNTRY_INFO!K46<>4,COUNTRY_INFO!K46<>5), IF(AO46/COUNTRY_INFO!T46*100<>0, IF(AO46/COUNTRY_INFO!T46*100>100,100,AO46/COUNTRY_INFO!T46*100), \"-\"),0)","v":{"$error":"#DIV/0!"}},64680.479999999996,64680.479999999996,59.367667440729143,null,{"$f":"IF(AND(D46<>0, D46<>\"Inconnu\",D46<>\"Interrompu\",D46<>\"Non requis\"),D46/COUNTRY_INFO!D46, 0)","v":0},{"$f":"IF(AND(J46<>0,J46<>\"Inconnu\",J46<>\"Interrompu\",J46<>\"Non requis\"),J46/COUNTRY_INFO!D46, 0)","v":0.92593922288733277},{"$f":"IF(AND(P46<>0,P46<>\"Inconnu\",P46<>\"Surveillance\",P46<>\"Non requis\"),P46/COUNTRY_INFO!Q46, 0)","v":1},{"$f":"IF(AND(AE46<>0,AE46<>\"Inconnu\",AE46<>\"Surveillance\",AE46<>\"Non requis\"),AE46/COUNTRY_INFO!U46, 0)","v":1},{"$f":"IF(AU46>0,D46*PROFILE!$G$7,IF(AV46>0,J46*PROFILE!$G$7,0))","v":4922.8435793197659},{"$f":"_xlfn.IFS(OR(AU46>0,AW46>0),COUNTRY_INFO!E46, AV46>0,J46*PROFILE!$G$8,AX46>0,COUNTRY_INFO!R46,COUNTIFS(AU46:AX46,\">0\")=0,0)","v":21266},{"$f":"_xlfn.IFS(OR(AU46>0,AW46>0),COUNTRY_INFO!F46, AV46>0,J46*PROFILE!$G$9,AX46>0,COUNTRY_INFO!S46,COUNTIFS(AU46:AX46,\">0\")=0,0)","v":39874},{"$f":"_xlfn.IFS(AU46>0,COUNTRY_INFO!G46, AND(AV46>0,AW46=0,AX46=0),J46*PROFILE!$G$10,AND(AV46>0,AW46>0,AX46=0), MAX(J46*PROFILE!$G$10,COUNTRY_INFO!P46),AND(AV46>0,AW46=0,AX46>0), MAX(J46*PROFILE!$G$10,COUNTRY_INFO!T46),AND(AV46=0,AW46>0,AX46>0), MAX(COUNTRY_INFO!P46,COUNTRY_INFO!T46),AND(AV46=0,AW46>0,AX46=0),COUNTRY_INFO!P46,AND(AV46=0,AW46=0,AX46>0),COUNTRY_INFO!T46,AND(AV46>0,AW46>0,AX46>0), MAX(J46*PROFILE!$G$10,COUNTRY_INFO!P46,COUNTRY_INFO!T46),COUNTIFS(AU46:AX46,\">0\")=0,0)","v":61535.412080107009},127598.25565942678,"Y",{"$f":"MAX('MDA2'!J46,'MDA5'!J46,S46,AH46)","v":0},{"$f":"MAX('MDA1'!K46,'MDA2'!K46,'MDA3'!I46,'MDA3'!L46,'MDA5'!K46,V46,AK46)","v":45090},{"$f":"MAX('MDA1'!L46,'MDA2'!L46,'MDA3'!J46,'MDA3'!M46,'MDA5'!L46,Y46,AN46)","v":63726},108816,{"$f":"_xlfn.IFS(AND(AU46=0,AW46=0,AX46=0),0,AND(AU46=0,AW46=0,AX46>0),AI46,AND(AU46=0,AW46>0,AX46=0),T46,AND(AU46=0,AW46>0,AX46>0),MAX(T46,AI46),AND(AU46>0,AW46=0,AX46=0),MIN(MAX('MDA2'!J46,'MDA5'!J46),AZ46),AND(AU46>0,AW46=0,AX46>0),MIN(MAX('MDA2'!J46,'MDA5'!J46,AI46),AZ46),AND(AU46>0,AW46>0,AX46=0),MIN(MAX('MDA2'!J46,'MDA5'!J46,T46),AZ46),AND(AU46>0,AW46>0,AX46>0),MIN(MAX('MDA2'!J46,'MDA5'!J46,AI46,T46),AZ46))","v":0},{"$f":"_xlfn.IFS(AND(AU46=0,AV46=0,AW46=0,AX46=0),0,AND(AU46=0,AV46=0,AW46=0,AX46>0),AL46,AND(AU46=0,AV46=0,AW46>0,AX46=0),W46,AND(AU46=0,AV46=0,AW46>0,AX46>0),MAX(W46,AL46),AND(AU46=0,AV46>0,AW46=0,AX46=0),MIN(J46*PROFILE!$G$9,MAX('MDA3'!I46,'MDA3'!L46)),AND(AU46=0,AV46>0,AW46=0,AX46>0),MIN(J46*PROFILE!$G$9,MAX('MDA3'!I46,'MDA3'!L46,AL46)),AND(AU46=0,AV46>0,AW46>0,AX46=0),MIN(J46*PROFILE!$G$9,MAX('MDA3'!I46,'MDA3'!L46,W46)),AND(AU46=0,AV46>0,AW46>0,AX46>0),MIN(J46*PROFILE!$G$9,MAX('MDA3'!I46,'MDA3'!L46,W46,AL46)),AND(AU46>0,AV46=0,AW46=0,AX46=0), MIN(BA46,MAX('MDA1'!K46,'MDA2'!K46,'MDA5'!K46)),AND(AU46>0,AV46=0,AW46=0,AX46>0), MIN(BA46,MAX('MDA1'!K46,'MDA2'!K46,'MDA5'!K46,AL46)),AND(AU46>0,AV46=0,AW46>0,AX46=0),MIN(BA46,MAX('MDA1'!K46,'MDA2'!KL46,'MDA5'!K46,W46)),AND(AU46>0,AV46=0,AW46>0,AX46>0),MIN(BA46,MAX('MDA1'!K46,'MDA2'!K46,'MDA5'!K46,W46,AL46)),AND(AU46>0,AV46>0,AW46=0,AX46=0),MIN(BA46, MAX('MDA1'!K46,'MDA2'!K46, 'MDA5'!K46,MAX('MDA3'!I46,'MDA3'!L46))), AND(AU46>0,AV46>0,AW46=0,AX46>0),MIN(BA46, MAX('MDA1'!K46,'MDA2'!K46, 'MDA5'!K46,MAX('MDA3'!I46,'MDA3'!L46),AL46)), AND(AU46>0,AV46>0,AW46>0,AX46=0), MIN(BA46, MAX('MDA1'!K46,'MDA2'!K46, 'MDA5'!K46,MAX('MDA3'!I46,'MDA3'!L46),W46)), AND(AU46>0,AV46>0,AW46>0,AX46>0), MIN(BA46, MAX('MDA1'!K46,'MDA2'!K46, 'MDA5'!K46,MAX('MDA3'!I46,'MDA3'!L46),W46,AL46)))","v":36921.211047116274},{"$f":"_xlfn.IFS(AND(AU46=0,AV46=0,AW46=0,AX46=0),0,AND(AU46=0,AV46=0,AW46=0,AX46>0),AO46,AND(AU46=0,AV46=0,AW46>0,AX46=0),Z46,AND(AU46=0,AV46=0,AW46>0,AX46>0),MAX(Z46,AO46),AND(AU46=0,AV46>0,AW46=0,AX46=0),MIN(J46*PROFILE!$G$10,MAX('MDA3'!J46,'MDA3'!J46)),AND(AU46=0,AV46>0,AW46=0,AX46>0),MIN(J46*PROFILE!$G$10,MAX('MDA3'!J46,'MDA3'!M46,AO46)),AND(AU46=0,AV46>0,AW46>0,AX46=0),MIN(J46*PROFILE!$G$10,MAX('MDA3'!J46,'MDA3'!M46,Z46)),AND(AU46=0,AV46>0,AW46>0,AX46>0),MIN(J46*PROFILE!$G$10,MAX('MDA3'!J46,'MDA3'!M46,Z46,AO46)),AND(AU46>0,AV46=0,AW46=0,AX46=0), MIN(BB46,MAX('MDA1'!L46,'MDA2'!L46,'MDA5'!L46)),AND(AU46>0,AV46=0,AW46=0,AX46>0), MIN(BB46,MAX('MDA1'!L46,'MDA2'!L46,'MDA5'!L46,AO46)),AND(AU46>0,AV46=0,AW46>0,AX46=0),MIN(BB46,MAX('MDA1'!L46,'MDA2'!L46,'MDA5'!L46,Z46)),AND(AU46>0,AV46=0,AW46>0,AX46>0),MIN(BB46,MAX('MDA1'!L46,'MDA2'!L46,'MDA5'!L46,Z46,AO46)),AND(AU46>0,AV46>0,AW46=0,AX46=0),MIN(BB46, MAX('MDA1'!L46,'MDA2'!L46, 'MDA5'!L46,MAX('MDA3'!J46,'MDA3'!M46))), AND(AU46>0,AV46>0,AW46=0,AX46>0),MIN(BB46, MAX('MDA1'!L46,'MDA2'!L46, 'MDA5'!L46,MAX('MDA3'!J46,'MDA3'!M46),AO46)), AND(AU46>0,AV46>0,AW46>0,AX46=0), MIN(BB46, MAX('MDA1'!L46,'MDA2'!L46, 'MDA5'!L46,MAX('MDA3'!J46,'MDA3'!M46),Z46)), AND(AU46>0,AV46>0,AW46>0,AX46>0), MIN(BB46, MAX('MDA1'!L46,'MDA2'!L46, 'MDA5'!L46,MAX('MDA3'!J46,'MDA3'!M46),Z46,AO46)))","v":61535.412080107009},98456.623127223284,77.161417778323255]
[{"$f":"IF(COUNTRY_INFO!A47=0,\" \",COUNTRY_INFO!A47)","v":"Togo"},{"$f":"IF(COUNTRY_INFO!B47=0,\" \",COUNTRY_INFO!B47)","v":"SAVANES"},{"$f":"IF(COUNTRY_INFO!C47=0,\" \",COUNTRY_INFO!C47)","v":"TANDJOUARE"},{"$f":"COUNTRY_INFO!L47","v":"Non requis"},null,null,{"$f":"MAX('MDA1'!M47,'MDA2'!M47,'MDA5'!M47)","v":0},{"$f":"IF(AND(COUNTRY_INFO!H47>0,COUNTRY_INFO!H47<4),IF(D47>G47,G47,D47),0)","v":0},{"$f":"IF(AND(COUNTRY_INFO!H47>0,COUNTRY_INFO!H47<4), IF(G47/D47*100<>0, IF(G47/D47*100>100,100,G47/D47*100), \"-\"),0)","v":0},{"$f":"COUNTRY_INFO!M47","v":160709.90229091913},63710,69147,{"$f":"MAX('MDA1'!M47,MAX('MDA3'!I47,'MDA3'!L47)+MAX('MDA3'!J47,'MDA3'!M47))","v":132857},{"$f":"IF(AND(COUNTRY_INFO!I47>0,COUNTRY_INFO!I47<4),IF(J47>M47,M47,J47),0)","v":132857},{"$f":"IF(AND(COUNTRY_INFO!I47>0,COUNTRY_INFO!I47<4), IF(M47/J47*100<>0, IF(M47/J47*100>100,100,M47/J47*100), \"-\"),0)","v":82.668832539951737},{"$f":"COUNTRY_INFO!Q47","v":74029},23343,23683,{"$f":"MAX('MDA2'!J47,'MDA5'!J47,'T1'!K47, MAX(T3_R1!J47,T3_R2!J47,T3_R3!J47))","v":0},{"$f":"IF(AND(COUNTRY_INFO!J47>1,COUNTRY_INFO!J47<99,COUNTRY_INFO!J47<>4,COUNTRY_INFO!J47<>5),IF(COUNTRY_INFO!N47>S47,S47,COUNTRY_INFO!N47),0)","v":0},{"$f":"IF(AND(COUNTRY_INFO!J47>1,COUNTRY_INFO!J47<99,COUNTRY_INFO!J47<>4,COUNTRY_INFO!J47<>5), IF(T47/COUNTRY_INFO!N47*100<>0, IF(T47/COUNTRY_INFO!N47*100>100,100,T47/COUNTRY_INFO!N47*100), \"-\"),0)","v":"-"},{"$f":"MAX('MDA1'!K47, 'MDA2'!K47, 'MDA5'!K47,'T1'!L47, MAX(T3_R1!K47,T3_R2!K47,T3_R3!K47))","v":47026},{"$f":"IF(AND(COUNTRY_INFO!J47>1,COUNTRY_INFO!J47<99,COUNTRY_INFO!J47<>4,COUNTRY_INFO!J47<>5),IF(COUNTRY_INFO!O47>V47,V47,COUNTRY_INFO!O47),0)","v":47026},{"$f":"IF(AND(COUNTRY_INFO!J47>1,COUNTRY_INFO!J47<99,COUNTRY_INFO!J47<>4,COUNTRY_INFO!J47<>5), IF(W47/COUNTRY_INFO!O47*100<>0, IF(W47/COUNTRY_INFO!O47*100>100,100,W47/COUNTRY_INFO!O47*100), \"-\"),0)","v":97.402651201325597},{"$f":"MAX('MDA1'!L47, 'MDA2'!L47, 'MDA5'!L47,'T1'!M47, MAX(T3_R1!L47,T3_R2!L47,T3_R3!L47))","v":0},{"$f":"IF(AND(COUNTRY_INFO!J47>1,COUNTRY_INFO!J47<99,COUNTRY_INFO!J47<>4,COUNTRY_INFO!J47<>5),IF(COUNTRY_INFO!P47>Y47,Y47,COUNTRY_INFO!P47),0)","v":0},{"$f":"IF(AND(COUNTRY_INFO!J47>1,COUNTRY_INFO!J47<99,COUNTRY_INFO!J47<>4,COUNTRY_INFO!J47<>5), IF(Z47/COUNTRY_INFO!P47*100<>0, IF(Z47/COUNTRY_INFO!P47*100>100,100,Z47/COUNTRY_INFO!P47*100), \"-\"),0)","v":{"$error":"#DIV/0!"}},47026,47026,{"$f":"IF(AND(COUNTRY_INFO!J47>1,COUNTRY_INFO!J47<99,COUNTRY_INFO!J47<>4,COUNTRY_INFO!J47<>5), IF(AC47/P47*100<>0, IF(AC47/P47*100>100,100,AC47/P47*100), \"-\"),0)","v":63.523754204433402},{"$f":"COUNTRY_INFO!U47","v":223360},null,null,{"$f":"MAX('T1'!K47,'T2'!R47)","v":0},{"$f":"IF(AND(COUNTRY_INFO!K47>1,COUNTRY_INFO!K47<99,COUNTRY_INFO!K47<>4,COUNTRY_INFO!K47<>5),IF(COUNTRY_INFO!R47>AH47,AH47,COUNTRY_INFO!R47),0)","v":0},{"$f":"IF(AND(COUNTRY_INFO!K47>1,COUNTRY_INFO!K47<99,COUNTRY_INFO!K47<>4,COUNTRY_INFO!K47<>5), IF(AI47/COUNTRY_INFO!R47*100<>0, IF(AI47/COUNTRY_INFO!R47*100>100,100,AI47/COUNTRY_INFO!R47*100), \"-\"),0)","v":0},{"$f":"MAX('T1'!L47,'T2'!S47)","v":45474},{"$f":"IF(AND(COUNTRY_INFO!K47>1,COUNTRY_INFO!K47<99,COUNTRY_INFO!K47<>4,COUNTRY_INFO!K47<>5),IF(COUNTRY_INFO!S47>AK47,AK47,COUNTRY_INFO!S47),0)","v":0},{"$f":"IF(AND(COUNTRY_INFO!K47>1,COUNTRY_INFO!K47<99,COUNTRY_INFO!K47<>4,COUNTRY_INFO!K47<>5), IF(AL47/COUNTRY_INFO!S47*100<>0, IF(AL47/COUNTRY_INFO!S47*100>100,100,AL47/COUNTRY_INFO!S47*100), \"-\"),0)","v":0},{"$f":"MAX('T1'!M47,'T2'!T47)","v":0},{"$f":"IF(AND(COUNTRY_INFO!K47>1,COUNTRY_INFO!K47<99,COUNTRY_INFO!K47<>4,COUNTRY_INFO!K47<>5),IF(COUNTRY_INFO!T47>AN47,AN47,COUNTRY_INFO!T47),0)","v":0},{"$f":"IF(AND(COUNTRY_INFO!K47>1,COUNTRY_INFO!K47<99,COUNTRY_INFO!K47<>4,COUNTRY_INFO!K47<>5), IF(AO47/COUNTRY_INFO!T47*100<>0, IF(AO47/COUNTRY_INFO!T47*100>100,100,AO47/COUNTRY_INFO!T47*100), \"-\"),0)","v":0},45474,45474,20.359061604584529,null,{"$f":"IF(AND(D47<>0, D47<>\"Inconnu\",D47<>\"Interrompu\",D47<>\"Non requis\"),D47/COUNTRY_INFO!D47, 0)","v":0},{"$f":"IF(AND(J47<>0,J47<>\"Inconnu\",J47<>\"Interrompu\",J47<>\"Non requis\"),J47/COUNTRY_INFO!D47, 0)","v":0.99861831984347815},{"$f":"IF(AND(P47<>0,P47<>\"Inconnu\",P47<>\"Surveillance\",P47<>\"Non requis\"),P47/COUNTRY_INFO!Q47, 0)","v":1},{"$f":"IF(AND(AE47<>0,AE47<>\"Inconnu\",AE47<>\"Surveillance\",AE47<>\"Non requis\"),AE47/COUNTRY_INFO!U47, 0)","v":1},{"$f":"IF(AU47>0,D47*PROFILE!$G$7,IF(AV47>0,J47*PROFILE!$G$7,0))","v":6428.412452929073},{"$f":"_xlfn.IFS(OR(AU47>0,AW47>0),COUNTRY_INFO!E47, AV47>0,J47*PROFILE!$G$8,AX47>0,COUNTRY_INFO!R47,COUNTIFS(AU47:AX47,\">0\")=0,0)","v":25749},{"$f":"_xlfn.IFS(OR(AU47>0,AW47>0),COUNTRY_INFO!F47, AV47>0,J47*PROFILE!$G$9,AX47>0,COUNTRY_INFO!S47,COUNTIFS(AU47:AX47,\">0\")=0,0)","v":48280},{"$f":"_xlfn.IFS(AU47>0,COUNTRY_INFO!G47, AND(AV47>0,AW47=0,AX47=0),J47*PROFILE!$G$10,AND(AV47>0,AW47>0,AX47=0), MAX(J47*PROFILE!$G$10,COUNTRY_INFO!P47),AND(AV47>0,AW47=0,AX47>0), MAX(J47*PROFILE!$G$10,COUNTRY_INFO!T47),AND(AV47=0,AW47>0,AX47>0), MAX(COUNTRY_INFO!P47,COUNTRY_INFO!T47),AND(AV47=0,AW47>0,AX47=0),COUNTRY_INFO!P47,AND(AV47=0,AW47=0,AX47>0),COUNTRY_INFO!T47,AND(AV47>0,AW47>0,AX47>0), MAX(J47*PROFILE!$G$10,COUNTRY_INFO!P47,COUNTRY_INFO!T47),COUNTIFS(AU47:AX47,\">0\")=0,0)","v":80354.982427969429},160812.3948808985,"Y",{"$f":"MAX('MDA2'!J47,'MDA5'!J47,S47,AH47)","v":0},{"$f":"MAX('MDA1'!K47,'MDA2'!K47,'MDA3'!I47,'MDA3'!L47,'MDA5'!K47,V47,AK47)","v":47026},{"$f":"MAX('MDA1'!L47,'MDA2'!L47,'MDA3'!J47,'MDA3'!M47,'MDA5'!L47,Y47,AN47)","v":85831},132857,{"$f":"_xlfn.IFS(AND(AU47=0,AW47=0,AX47=0),0,AND(AU47=0,AW47=0,AX47>0),AI47,AND(AU47=0,AW47>0,AX47=0),T47,AND(AU47=0,AW47>0,AX47>0),MAX(T47,AI47),AND(AU47>0,AW47=0,AX47=0),MIN(MAX('MDA2'!J47,'MDA5'!J47),AZ47),AND(AU47>0,AW47=0,AX47>0),MIN(MAX('MDA2'!J47,'MDA5'!J47,AI47),AZ47),AND(AU47>0,AW47>0,AX47=0),MIN(MAX('MDA2'!J47,'MDA5'!J47,T47),AZ47),AND(AU47>0,AW47>0,AX47>0),MIN(MAX('MDA2'!J47,'MDA5'!J47,AI47,T47),AZ47))","v":0},{"$f":"_xlfn.IFS(AND(AU47=0,AV47=0,AW47=0,AX47=0),0,AND(AU47=0,AV47=0,AW47=0,AX47>0),AL47,AND(AU47=0,AV47=0,AW47>0,AX47=0),W47,AND(AU47=0,AV47=0,AW47>0,AX47>0),MAX(W47,AL47),AND(AU47=0,AV47>0,AW47=0,AX47=0),MIN(J47*PROFILE!$G$9,MAX('MDA3'!I47,'MDA3'!L47)),AND(AU47=0,AV47>0,AW47=0,AX47>0),MIN(J47*PROFILE!$G$9,MAX('MDA3'!I47,'MDA3'!L47,AL47)),AND(AU47=0,AV47>0,AW47>0,AX47=0),MIN(J47*PROFILE!$G$9,MAX('MDA3'!I47,'MDA3'!L47,W47)),AND(AU47=0,AV47>0,AW47>0,AX47>0),MIN(J47*PROFILE!$G$9,MAX('MDA3'!I47,'MDA3'!L47,W47,AL47)),AND(AU47>0,AV47=0,AW47=0,AX47=0), MIN(BA47,MAX('MDA1'!K47,'MDA2'!K47,'MDA5'!K47)),AND(AU47>0,AV47=0,AW47=0,AX47>0), MIN(BA47,MAX('MDA1'!K47,'MDA2'!K47,'MDA5'!K47,AL47)),AND(AU47>0,AV47=0,AW47>0,AX47=0),MIN(BA47,MAX('MDA1'!K47,'MDA2'!KL47,'MDA5'!K47,W47)),AND(AU47>0,AV47=0,AW47>0,AX47>0),MIN(BA47,MAX('MDA1'!K47,'MDA2'!K47,'MDA5'!K47,W47,AL47)),AND(AU47>0,AV47>0,AW47=0,AX47=0),MIN(BA47, MAX('MDA1'!K47,'MDA2'!K47, 'MDA5'!K47,MAX('MDA3'!I47,'MDA3'!L47))), AND(AU47>0,AV47>0,AW47=0,AX47>0),MIN(BA47, MAX('MDA1'!K47,'MDA2'!K47, 'MDA5'!K47,MAX('MDA3'!I47,'MDA3'!L47),AL47)), AND(AU47>0,AV47>0,AW47>0,AX47=0), MIN(BA47, MAX('MDA1'!K47,'MDA2'!K47, 'MDA5'!K47,MAX('MDA3'!I47,'MDA3'!L47),W47)), AND(AU47>0,AV47>0,AW47>0,AX47>0), MIN(BA47, MAX('MDA1'!K47,'MDA2'!K47, 'MDA5'!K47,MAX('MDA3'!I47,'MDA3'!L47),W47,AL47)))","v":47026},{"$f":"_xlfn.IFS(AND(AU47=0,AV47=0,AW47=0,AX47=0),0,AND(AU47=0,AV47=0,AW47=0,AX47>0),AO47,AND(AU47=0,AV47=0,AW47>0,AX47=0),Z47,AND(AU47=0,AV47=0,AW47>0,AX47>0),MAX(Z47,AO47),AND(AU47=0,AV47>0,AW47=0,AX47=0),MIN(J47*PROFILE!$G$10,MAX('MDA3'!J47,'MDA3'!J47)),AND(AU47=0,AV47>0,AW47=0,AX47>0),MIN(J47*PROFILE!$G$10,MAX('MDA3'!J47,'MDA3'!M47,AO47)),AND(AU47=0,AV47>0,AW47>0,AX47=0),MIN(J47*PROFILE!$G$10,MAX('MDA3'!J47,'MDA3'!M47,Z47)),AND(AU47=0,AV47>0,AW47>0,AX47>0),MIN(J47*PROFILE!$G$10,MAX('MDA3'!J47,'MDA3'!M47,Z47,AO47)),AND(AU47>0,AV47=0,AW47=0,AX47=0), MIN(BB47,MAX('MDA1'!L47,'MDA2'!L47,'MDA5'!L47)),AND(AU47>0,AV47=0,AW47=0,AX47>0), MIN(BB47,MAX('MDA1'!L47,'MDA2'!L47,'MDA5'!L47,AO47)),AND(AU47>0,AV47=0,AW47>0,AX47=0),MIN(BB47,MAX('MDA1'!L47,'MDA2'!L47,'MDA5'!L47,Z47)),AND(AU47>0,AV47=0,AW47>0,AX47>0),MIN(BB47,MAX('MDA1'!L47,'MDA2'!L47,'MDA5'!L47,Z47,AO47)),AND(AU47>0,AV47>0,AW47=0,AX47=0),MIN(BB47, MAX('MDA1'!L47,'MDA2'!L47, 'MDA5'!L47,MAX('MDA3'!J47,'MDA3'!M47))), AND(AU47>0,AV47>0,AW47=0,AX47>0),MIN(BB47, MAX('MDA1'!L47,'MDA2'!L47, 'MDA5'!L47,MAX('MDA3'!J47,'MDA3'!M47),AO47)), AND(AU47>0,AV47>0,AW47>0,AX47=0), MIN(BB47, MAX('MDA1'!L47,'MDA2'!L47, 'MDA5'!L47,MAX('MDA3'!J47,'MDA3'!M47),Z47)), AND(AU47>0,AV47>0,AW47>0,AX47>0), MIN(BB47, MAX('MDA1'!L47,'MDA2'!L47, 'MDA5'!L47,MAX('MDA3'!J47,'MDA3'!M47),Z47,AO47)))","v":80354.982427969429},127380.98242796943,79.210923089797163]
[{"$f":"IF(COUNTRY_INFO!A48=0,\" \",COUNTRY_INFO!A48)","v":"Togo"},{"$f":"IF(COUNTRY_INFO!B48=0,\" \",COUNTRY_INFO!B48)","v":"SAVANES"},{"$f":"IF(COUNTRY_INFO!C48=0,\" \",COUNTRY_INFO!C48)","v":"TONE"},{"$f":"COUNTRY_INFO!L48","v":"Non requis"},null,null,{"$f":"MAX('MDA1'!M48,'MDA2'!M48,'MDA5'!M48)","v":0},{"$f":"IF(AND(COUNTRY_INFO!H48>0,COUNTRY_INFO!H48<4),IF(D48>G48,G48,D48),0)","v":0},{"$f":"IF(AND(COUNTRY_INFO!H48>0,COUNTRY_INFO!H48<4), IF(G48/D48*100<>0, IF(G48/D48*100>100,100,G48/D48*100), \"-\"),0)","v":0},{"$f":"COUNTRY_INFO!M48","v":291202.47391149274},111626,127712,{"$f":"MAX('MDA1'!M48,MAX('MDA3'!I48,'MDA3'!L48)+MAX('MDA3'!J48,'MDA3'!M48))","v":239338},{"$f":"IF(AND(COUNTRY_INFO!I48>0,COUNTRY_INFO!I48<4),IF(J48>M48,M48,J48),0)","v":239338},{"$f":"IF(AND(COUNTRY_INFO!I48>0,COUNTRY_INFO!I48<4), IF(M48/J48*100<>0, IF(M48/J48*100>100,100,M48/J48*100), \"-\"),0)","v":82.189549005254577},{"$f":"COUNTRY_INFO!Q48","v":165045},56542,56191,{"$f":"MAX('MDA2'!J48,'MDA5'!J48,'T1'!K48, MAX(T3_R1!J48,T3_R2!J48,T3_R3!J48))","v":0},{"$f":"IF(AND(COUNTRY_INFO!J48>1,COUNTRY_INFO!J48<99,COUNTRY_INFO!J48<>4,COUNTRY_INFO!J48<>5),IF(COUNTRY_INFO!N48>S48,S48,COUNTRY_INFO!N48),0)","v":0},{"$f":"IF(AND(COUNTRY_INFO!J48>1,COUNTRY_INFO!J48<99,COUNTRY_INFO!J48<>4,COUNTRY_INFO!J48<>5), IF(T48/COUNTRY_INFO!N48*100<>0, IF(T48/COUNTRY_INFO!N48*100>100,100,T48/COUNTRY_INFO!N48*100), \"-\"),0)","v":"-"},{"$f":"MAX('MDA1'!K48, 'MDA2'!K48, 'MDA5'!K48,'T1'!L48, MAX(T3_R1!K48,T3_R2!K48,T3_R3!K48))","v":112733},{"$f":"IF(AND(COUNTRY_INFO!J48>1,COUNTRY_INFO!J48<99,COUNTRY_INFO!J48<>4,COUNTRY_INFO!J48<>5),IF(COUNTRY_INFO!O48>V48,V48,COUNTRY_INFO!O48),0)","v":107638},{"$f":"IF(AND(COUNTRY_INFO!J48>1,COUNTRY_INFO!J48<99,COUNTRY_INFO!J48<>4,COUNTRY_INFO!J48<>5), IF(W48/COUNTRY_INFO!O48*100<>0, IF(W48/COUNTRY_INFO!O48*100>100,100,W48/COUNTRY_INFO!O48*100), \"-\"),0)","v":100},{"$f":"MAX('MDA1'!L48, 'MDA2'!L48, 'MDA5'!L48,'T1'!M48, MAX(T3_R1!L48,T3_R2!L48,T3_R3!L48))","v":0},{"$f":"IF(AND(COUNTRY_INFO!J48>1,COUNTRY_INFO!J48<99,COUNTRY_INFO!J48<>4,COUNTRY_INFO!J48<>5),IF(COUNTRY_INFO!P48>Y48,Y48,COUNTRY_INFO!P48),0)","v":0},{"$f":"IF(AND(COUNTRY_INFO!J48>1,COUNTRY_INFO!J48<99,COUNTRY_INFO!J48<>4,COUNTRY_INFO!J48<>5), IF(Z48/COUNTRY_INFO!P48*100<>0, IF(Z48/COUNTRY_INFO!P48*100>100,100,Z48/COUNTRY_INFO!P48*100), \"-\"),0)","v":{"$error":"#DIV/0!"}},112733,107638,{"$f":"IF(AND(COUNTRY_INFO!J48>1,COUNTRY_INFO!J48<99,COUNTRY_INFO!J48<>4,COUNTRY_INFO!J48<>5), IF(AC48/P48*100<>0, IF(AC48/P48*100>100,100,AC48/P48*100), \"-\"),0)","v":65.217364961071226},{"$f":"COUNTRY_INFO!U48","v":100424},null,null,{"$f":"MAX('T1'!K48,'T2'!R48)","v":0},{"$f":"IF(AND(COUNTRY_INFO!K48>1,COUNTRY_INFO!K48<99,COUNTRY_INFO!K48<>4,COUNTRY_INFO!K48<>5),IF(COUNTRY_INFO!R48>AH48,AH48,COUNTRY_INFO!R48),0)","v":0},{"$f":"IF(AND(COUNTRY_INFO!K48>1,COUNTRY_INFO!K48<99,COUNTRY_INFO!K48<>4,COUNTRY_INFO!K48<>5), IF(AI48/COUNTRY_INFO!R48*100<>0, IF(AI48/COUNTRY_INFO!R48*100>100,100,AI48/COUNTRY_INFO!R48*100), \"-\"),0)","v":{"$error":"#DIV/0!"}},{"$f":"MAX('T1'!L48,'T2'!S48)","v":102612},{"$f":"IF(AND(COUNTRY_INFO!K48>1,COUNTRY_INFO!K48<99,COUNTRY_INFO!K48<>4,COUNTRY_INFO!K48<>5),IF(COUNTRY_INFO!S48>AK48,AK48,COUNTRY_INFO!S48),0)","v":0},{"$f":"IF(AND(COUNTRY_INFO!K48>1,COUNTRY_INFO!K48<99,COUNTRY_INFO!K48<>4,COUNTRY_INFO!K48<>5), IF(AL48/COUNTRY_INFO!S48*100<>0, IF(AL48/COUNTRY_INFO!S48*100>100,100,AL48/COUNTRY_INFO!S48*100), \"-\"),0)","v":{"$error":"#DIV/0!"}},{"$f":"MAX('T1'!M48,'T2'!T48)","v":14193},{"$f":"IF(AND(COUNTRY_INFO!K48>1,COUNTRY_INFO!K48<99,COUNTRY_INFO!K48<>4,COUNTRY_INFO!K48<>5),IF(COUNTRY_INFO!T48>AN48,AN48,COUNTRY_INFO!T48),0)","v":0},{"$f":"IF(AND(COUNTRY_INFO!K48>1,COUNTRY_INFO!K48<99,COUNTRY_INFO!K48<>4,COUNTRY_INFO!K48<>5), IF(AO48/COUNTRY_INFO!T48*100<>0, IF(AO48/COUNTRY_INFO!T48*100>100,100,AO48/COUNTRY_INFO!T48*100), \"-\"),0)","v":{"$error":"#DIV/0!"}},116805,116805,116.31183780769535,null,{"$f":"IF(AND(D48<>0, D48<>\"Inconnu\",D48<>\"Interrompu\",D48<>\"Non requis\"),D48/COUNTRY_INFO!D48, 0)","v":0},{"$f":"IF(AND(J48<>0,J48<>\"Inconnu\",J48<>\"Interrompu\",J48<>\"Non requis\"),J48/COUNTRY_INFO!D48, 0)","v":0.81161850286761761},{"$f":"IF(AND(P48<>0,P48<>\"Inconnu\",P48<>\"Surveillance\",P48<>\"Non requis\"),P48/COUNTRY_INFO!Q48, 0)","v":1},{"$f":"IF(AND(AE48<>0,AE48<>\"Inconnu\",AE48<>\"Surveillance\",AE48<>\"Non requis\"),AE48/COUNTRY_INFO!U48, 0)","v":1},{"$f":"IF(AU48>0,D48*PROFILE!$G$7,IF(AV48>0,J48*PROFILE!$G$7,0))","v":11648.128602727478},{"$f":"_xlfn.IFS(OR(AU48>0,AW48>0),COUNTRY_INFO!E48, AV48>0,J48*PROFILE!$G$8,AX48>0,COUNTRY_INFO!R48,COUNTIFS(AU48:AX48,\">0\")=0,0)","v":57407},{"$f":"_xlfn.IFS(OR(AU48>0,AW48>0),COUNTRY_INFO!F48, AV48>0,J48*PROFILE!$G$9,AX48>0,COUNTRY_INFO!S48,COUNTIFS(AU48:AX48,\">0\")=0,0)","v":107638},{"$f":"_xlfn.IFS(AU48>0,COUNTRY_INFO!G48, AND(AV48>0,AW48=0,AX48=0),J48*PROFILE!$G$10,AND(AV48>0,AW48>0,AX48=0), MAX(J48*PROFILE!$G$10,COUNTRY_INFO!P48),AND(AV48>0,AW48=0,AX48>0), MAX(J48*PROFILE!$G$10,COUNTRY_INFO!T48),AND(AV48=0,AW48>0,AX48>0), MAX(COUNTRY_INFO!P48,COUNTRY_INFO!T48),AND(AV48=0,AW48>0,AX48=0),COUNTRY_INFO!P48,AND(AV48=0,AW48=0,AX48>0),COUNTRY_INFO!T48,AND(AV48>0,AW48>0,AX48>0), MAX(J48*PROFILE!$G$10,COUNTRY_INFO!P48,COUNTRY_INFO!T48),COUNTIFS(AU48:AX48,\">0\")=0,0)","v":145601.29363890114},322294.42224162864,"Y",{"$f":"MAX('MDA2'!J48,'MDA5'!J48,S48,AH48)","v":0},{"$f":"MAX('MDA1'!K48,'MDA2'!K48,'MDA3'!I48,'MDA3'!L48,'MDA5'!K48,V48,AK48)","v":112733},{"$f":"MAX('MDA1'!L48,'MDA2'!L48,'MDA3'!J48,'MDA3'!M48,'MDA5'!L48,Y48,AN48)","v":147094},259827,{"$f":"_xlfn.IFS(AND(AU48=0,AW48=0,AX48=0),0,AND(AU48=0,AW48=0,AX48>0),AI48,AND(AU48=0,AW48>0,AX48=0),T48,AND(AU48=0,AW48>0,AX48>0),MAX(T48,AI48),AND(AU48>0,AW48=0,AX48=0),MIN(MAX('MDA2'!J48,'MDA5'!J48),AZ48),AND(AU48>0,AW48=0,AX48>0),MIN(MAX('MDA2'!J48,'MDA5'!J48,AI48),AZ48),AND(AU48>0,AW48>0,AX48=0),MIN(MAX('MDA2'!J48,'MDA5'!J48,T48),AZ48),AND(AU48>0,AW48>0,AX48>0),MIN(MAX('MDA2'!J48,'MDA5'!J48,AI48,T48),AZ48))","v":0},{"$f":"_xlfn.IFS(AND(AU48=0,AV48=0,AW48=0,AX48=0),0,AND(AU48=0,AV48=0,AW48=0,AX48>0),AL48,AND(AU48=0,AV48=0,AW48>0,AX48=0),W48,AND(AU48=0,AV48=0,AW48>0,AX48>0),MAX(W48,AL48),AND(AU48=0,AV48>0,AW48=0,AX48=0),MIN(J48*PROFILE!$G$9,MAX('MDA3'!I48,'MDA3'!L48)),AND(AU48=0,AV48>0,AW48=0,AX48>0),MIN(J48*PROFILE!$G$9,MAX('MDA3'!I48,'MDA3'!L48,AL48)),AND(AU48=0,AV48>0,AW48>0,AX48=0),MIN(J48*PROFILE!$G$9,MAX('MDA3'!I48,'MDA3'!L48,W48)),AND(AU48=0,AV48>0,AW48>0,AX48>0),MIN(J48*PROFILE!$G$9,MAX('MDA3'!I48,'MDA3'!L48,W48,AL48)),AND(AU48>0,AV48=0,AW48=0,AX48=0), MIN(BA48,MAX('MDA1'!K48,'MDA2'!K48,'MDA5'!K48)),AND(AU48>0,AV48=0,AW48=0,AX48>0), MIN(BA48,MAX('MDA1'!K48,'MDA2'!K48,'MDA5'!K48,AL48)),AND(AU48>0,AV48=0,AW48>0,AX48=0),MIN(BA48,MAX('MDA1'!K48,'MDA2'!KL48,'MDA5'!K48,W48)),AND(AU48>0,AV48=0,AW48>0,AX48>0),MIN(BA48,MAX('MDA1'!K48,'MDA2'!K48,'MDA5'!K48,W48,AL48)),AND(AU48>0,AV48>0,AW48=0,AX48=0),MIN(BA48, MAX('MDA1'!K48,'MDA2'!K48, 'MDA5'!K48,MAX('MDA3'!I48,'MDA3'!L48))), AND(AU48>0,AV48>0,AW48=0,AX48>0),MIN(BA48, MAX('MDA1'!K48,'MDA2'!K48, 'MDA5'!K48,MAX('MDA3'!I48,'MDA3'!L48),AL48)), AND(AU48>0,AV48>0,AW48>0,AX48=0), MIN(BA48, MAX('MDA1'!K48,'MDA2'!K48, 'MDA5'!K48,MAX('MDA3'!I48,'MDA3'!L48),W48)), AND(AU48>0,AV48>0,AW48>0,AX48>0), MIN(BA48, MAX('MDA1'!K48,'MDA2'!K48, 'MDA5'!K48,MAX('MDA3'!I48,'MDA3'!L48),W48,AL48)))","v":87360.690526892271},{"$f":"_xlfn.IFS(AND(AU48=0,AV48=0,AW48=0,AX48=0),0,AND(AU48=0,AV48=0,AW48=0,AX48>0),AO48,AND(AU48=0,AV48=0,AW48>0,AX48=0),Z48,AND(AU48=0,AV48=0,AW48>0,AX48>0),MAX(Z48,AO48),AND(AU48=0,AV48>0,AW48=0,AX48=0),MIN(J48*PROFILE!$G$10,MAX('MDA3'!J48,'MDA3'!J48)),AND(AU48=0,AV48>0,AW48=0,AX48>0),MIN(J48*PROFILE!$G$10,MAX('MDA3'!J48,'MDA3'!M48,AO48)),AND(AU48=0,AV48>0,AW48>0,AX48=0),MIN(J48*PROFILE!$G$10,MAX('MDA3'!J48,'MDA3'!M48,Z48)),AND(AU48=0,AV48>0,AW48>0,AX48>0),MIN(J48*PROFILE!$G$10,MAX('MDA3'!J48,'MDA3'!M48,Z48,AO48)),AND(AU48>0,AV48=0,AW48=0,AX48=0), MIN(BB48,MAX('MDA1'!L48,'MDA2'!L48,'MDA5'!L48)),AND(AU48>0,AV48=0,AW48=0,AX48>0), MIN(BB48,MAX('MDA1'!L48,'MDA2'!L48,'MDA5'!L48,AO48)),AND(AU48>0,AV48=0,AW48>0,AX48=0),MIN(BB48,MAX('MDA1'!L48,'MDA2'!L48,'MDA5'!L48,Z48)),AND(AU48>0,AV48=0,AW48>0,AX48>0),MIN(BB48,MAX('MDA1'!L48,'MDA2'!L48,'MDA5'!L48,Z48,AO48)),AND(AU48>0,AV48>0,AW48=0,AX48=0),MIN(BB48, MAX('MDA1'!L48,'MDA2'!L48, 'MDA5'!L48,MAX('MDA3'!J48,'MDA3'!M48))), AND(AU48>0,AV48>0,AW48=0,AX48>0),MIN(BB48, MAX('MDA1'!L48,'MDA2'!L48, 'MDA5'!L48,MAX('MDA3'!J48,'MDA3'!M48),AO48)), AND(AU48>0,AV48>0,AW48>0,AX48=0), MIN(BB48, MAX('MDA1'!L48,'MDA2'!L48, 'MDA5'!L48,MAX('MDA3'!J48,'MDA3'!M48),Z48)), AND(AU48>0,AV48>0,AW48>0,AX48>0), MIN(BB48, MAX('MDA1'!L48,'MDA2'!L48, 'MDA5'!L48,MAX('MDA3'!J48,'MDA3'!M48),Z48,AO48)))","v":145601.29363890114},232961.9841657934,72.282350574202155]

{"sheet":"SUMMARY","index":12,"n_rows":68,"n_cols":8,"rows_kept":68,"cut":false,"hidden":false,"merged":[[67,1,67,2],[32,1,32,2],[33,1,33,2],[35,1,35,2],[64,1,64,7],[51,1,57,7],[66,1,66,2],[46,1,46,7],[47,3,47,4],[34,1,34,2],[60,1,60,3],[60,4,60,7],[62,4,62,7],[28,1,28,2],[29,1,29,2],[30,1,30,2],[31,1,31,2],[62,1,62,3],[59,3,59,7],[58,3,58,7],[27,1,27,2],[0,1,0,5],[1,1,1,7],[5,1,8,7],[3,3,3,5],[11,1,11,2],[17,1,17,7]]}
[]
[null,"Formulaire de Rapport Commun v.4.2"]
[]
[null,"Pays",null,{"$f":"IF(INTRO!$E$34<>0,INTRO!$E$34,\" \")","v":"Togo"},null,null,"Année",{"$f":"IF(INTRO!$E$36<>0,INTRO!$E$36,\" \")","v":2022}]
[]
[null,"Les autorités nationales sont priées de compléter ce formulaire de rapport commun et de le soumettre à l'Organisation mondiale de la Santé dans les 3 mois suivant la mise en œuvre du dernier cycle et au plus tard le 31 mars de l'année de mise en œuvre suivante."]
[]
[]
[]
[null,"Nombre de personnes ayant reçu un traitement (au moins une fois) pour les maladies"]
[]
[null,null,null,"EAPréS","EAS","Adultes","Total","Géographique"]
[null,"Filariose lymphatique",null,"Non admissible",0,0,{"$f":"SUM(D13:F13)","v":0},0]
[null,"Onchocercose",null,"Non admissible",1259269,2111544,{"$f":"SUM(D14:F14)","v":3370813},100]
[null,"Géohelminthiases",null,0,2051932,0,{"$f":"SUM(D15:F15)","v":2051932},96.875]
[null,"Schistosomiase",null,0,1811333,942535.48,{"$f":"SUM(D16:F16)","v":2753868.48},121.875]
[]
[null,"Nombre de personnes dans le besoin (dans les zones nécessitant une CP) ayant reçu un traitement pour les maladies \net couverture nationale (%)"]
[]
[null,null,null,"EAPréS","EAS","Adultes","Total","National"]
[null,"Filariose lymphatique",null,"Non admissible",0,0,{"$f":"SUM(D21:F21)","v":0},0]
[null,"Onchocercose",null,null,null,null,3368701,83.828743717736018]
[null,"Géohelminthiases",null,0,1614591,0,{"$f":"SUM(D23:F23)","v":1614591},63.464781291739158]
[null,"Schistosomiase",null,0,0,0,2753868.48,65.616525288944516]
[]
[null,"Nombre de personnes traitées et couverture du programme en pourcentage, par intervention de CP"]
[]
[null,null,null,"EAPréS","EAS","Adultes","Total","Couverture"]
[null,"MDA 1 (IVM+ALB)",null,"Non admissible",{"$f":"'MDA1'!$K$4","v":0},{"$f":"'MDA1'!$L$4","v":0},{"$f":"'MDA1'!$M$4","v":0},{"$f":"'MDA1'!$Q$4","v":" "}]
[null,"MDA 2 (DEC+ALB)",null,{"$f":"'MDA2'!$J$4","v":0},{"$f":"'MDA2'!$K$4","v":0},{"$f":"'MDA2'!$L$4","v":0},{"$f":"'MDA2'!$M$4","v":0},{"$f":"'MDA2'!$Q$4","v":" "}]
[null,"MDA 3 (IVM)",null,{"$f":"IF($B$31=\"MDA 3 (IVM)\",\"Non admissible\",'MDA5'!$J$4)","v":"Non admissible"},{"$f":"IF($B$31=\"MDA 3 (IVM)\",'MDA3'!$O$4,'MDA5'!$K$4)","v":1259269},{"$f":"IF($B$31=\"MDA 3 (IVM)\",'MDA3'!$P$4,'MDA5'!$L$4)","v":2111544},{"$f":"IF($B$31=\"MDA 3 (IVM)\",'MDA3'!$Q$4,'MDA5'!$M$4)","v":3370813},{"$f":"IF($B$31=\"MDA 3 (IVM)\",'MDA3'!$T$4,'MDA5'!$Q$4)","v":92.787586507406544}]
[null,"T 1 (PZQ+ALB/MBD)",null,{"$f":"IF('T1'!$K$4<>0,'T1'!$K$4,\"Non ciblé\")","v":"Non ciblé"},{"$f":"'T1'!$L$4","v":0},{"$f":"IF('T1'!$M$4<>0,'T1'!$M$4,\"Non ciblé\")","v":"Non ciblé"},{"$f":"'T1'!$N$4","v":0},{"$f":"'T1'!$R$4","v":" "}]
[null,"T 2 (PZQ)",null,{"$f":"'T2'!$R$4","v":0},{"$f":"'T2'!$S$4","v":1811333},{"$f":"'T2'!T$4","v":942535.48},{"$f":"'T2'!$U$4","v":2753868.48},{"$f":"'T2'!$Y$4","v":98.436538240428433}]
[null,"T 3 (ALB/MBD) - tournée 1",null,{"$f":"T3_R1!$J$4","v":0},{"$f":"T3_R1!$K$4","v":2050806},{"$f":"T3_R1!$L$4","v":0},{"$f":"T3_R1!$M$4","v":2050806},{"$f":"T3_R1!$Q$4","v":99.266010639070274}]
[null,"T 3 (ALB/MBD) - tournée 2",null,{"$f":"T3_R2!$J$4","v":0},{"$f":"T3_R2!$K$4","v":425748},{"$f":"T3_R2!$L$4","v":0},{"$f":"T3_R2!$M$4","v":425748},{"$f":"T3_R2!$Q$4","v":96.420588241955102}]
[null,"T 3 (ALB/MBD) - tournée 3",null,{"$f":"T3_R3!$J$4","v":0},{"$f":"T3_R3!$K$4","v":0},{"$f":"T3_R3!$L$4","v":0},{"$f":"T3_R3!$M$4","v":0},{"$f":"T3_R3!$Q$4","v":" "}]
[]
[null,"Inventaire des médicaments pour la chimiothérapie préventive dans le pays"]
[]
[null,null,"IVM","DEC","ALB (FL)","ALB (STH)","MBD","PZQ"]
[null,"Disponible",4141324,null,null,538350,null,2642307]
[null,"Distribué",12849808,null,null,2476555,null,8452005]
[null,"Gaspillé",14397,null,null,8796,null,8712]
[null,"Reçus",8725000,null,null,2967000,null,8631000]
[null,"Restant",{"$f":"C41-C42-C43+C44","v":2119},0,0,1019999,0,2812590]
[]
[null,"Veuillez indiquer le médicament qui a été utilisé pour traiter les EAPréS, et les mécanismes de distribution"]
[null,"Médicament",null,"Mécanismes de distribution",null,null,"Source"]
[]
[null,"Remarques supplémentaires évenuelles concernant le rapport"]
[]
[null,"1. Le nombre de districts est de 39 depuis 2020 ;  '2. Une nouvelle région sanitaire (Grand-Lomé) est créée avec deux districts anciennement dans Maritime (Agoè-Nyivé et Golfe);  3. Le programme ayant choisi de travailler provisoirement avec les données démographiques de recensement des distributeurs lors des TDM, la population nécessitant traitement semble parfois trop augmentée par rapport à l'année dernière. Cette réalité suit l'engouement des acteurs du terrain d'une année à l'autre. Quant à la population nécessitant traitement d'Agoè-Nyivé, elle émane de trois villages de la seule formation sanitaire endémique (ADETICOPE)."]
[]
[]
[]
[]
[]
[]
[null,null,null,"J’ai pris connaissance et accepté la politique de la communication \nde données de l’OMS"]
[null,null,null,"Je confirme que toutes les informations fournies dans ce formulaire \nsont complètes et correctes"]
[null,"Nom et signature du Coordonnateur MTN \nou du Représentant du Ministère de la Santé :",null,null,"                Dr Piham GNOSSIKE"]
[]
[null,"Date:",null,null,"                10/07/2023"]
[]
[null,"Veuillez envoyer le rapport national (signé et sous format électronique) au représentant de l'OMS du pays en mettant en copie :"]
[]
[null,"Siège de l'OMS ",null,"PC_JointForms@who.int"]
[null,"Bureau régional de l'OMS",null,"Conseiller régional MTN"]

{"sheet":"PROFILE","index":13,"n_rows":122,"n_cols":8,"rows_kept":122,"cut":false,"hidden":true,"merged":[[6,1,6,3],[6,4,6,5],[25,1,25,3],[77,1,77,3],[121,1,122,7],[83,6,83,7],[85,6,85,7],[87,6,87,7],[84,6,84,7],[86,6,86,7],[9,1,9,2],[53,1,53,3],[63,1,63,3],[29,1,29,3],[21,1,21,6],[16,1,16,6],[4,1,4,7],[5,1,5,2],[79,1,79,3],[19,1,19,6],[9,3,9,5],[41,1,41,3],[75,1,75,3],[78,1,78,3],[7,3,7,5],[8,3,8,5],[76,1,76,3],[23,1,23,3],[11,1,11,6],[20,1,20,6],[45,1,45,3],[49,1,49,3],[0,1,0,5],[1,1,1,7],[3,3,3,5],[67,1,67,3],[71,1,71,3],[26,1,26,3],[27,1,27,3],[28,1,28,3],[57,1,57,3],[5,3,5,5],[30,1,30,3],[34,1,34,3],[40,1,40,3],[7,1,7,2],[8,1,8,2],[12,1,12,6],[18,1,18,6],[17,1,17,6],[61,1,61,3],[13,1,13,6],[14,1,14,6],[15,1,15,6],[39,1,39,3]]}
[]
[null,"Formulaire de Rapport Commun v.4.2 - Profil du pays"]
[]
[null,"Pays",null,{"$f":"IF(INTRO!$E$34<>0,INTRO!$E$34,\" \")","v":"Togo"},null,null,"Année",{"$f":"IF(INTRO!$E$36<>0,INTRO!$E$36,\" \")","v":2022}]
[null,"!!! ATTENTION !!!\nAvant d’analyser les données dans le profil du pays, merci de vous assurer que le rapport dans l’onglet SUMMARY est bien mis à jour"]
[null,"Population totale ",null,null,null,null,1,{"$f":"COUNTRY_INFO!D4","v":8159174.8235999979}]
[null,"Population — autres groupes d’âge",null,null,null,null,{"$f":"IF($H$6<>0,H7/$H$6,0)","v":4.0000101806373312E-2},{"$f":"H6-SUM(H8:H10)","v":326367.82359999791}]
[null,"Population — EAPréS",null,{"$f":"INTRO!B48","v":"1-4 ans"},null,null,{"$f":"IF($H$6<>0,H8/$H$6,0)","v":0.15999988089775979},{"$f":"COUNTRY_INFO!E4","v":1305467}]
[null,"Population — EAS",null,{"$f":"INTRO!B49","v":"5-14 ans"},null,null,{"$f":"IF($H$6<>0,H9/$H$6,0)","v":0.29999982264382974},{"$f":"COUNTRY_INFO!F4","v":2447751}]
[null,"Population — Adultes",null,{"$f":"INTRO!B50","v":"15 ans et plus"},null,null,0.50000019465203716,{"$f":"COUNTRY_INFO!G4","v":4079589}]
[]
[null,"Nombre total d’individus nécessitant une CP pour au moins une des maladies (FL, Oncho, STH, SCH)",null,null,null,null,null,{"$f":"DISTRICT!BC6","v":4880538.3898174316}]
[null,"Proportion du nombre d’individus nécessitant un CP pour au moins une maladie parmi la population totale",null,null,null,null,null,{"$f":"IF(H6<>0,H12/H6,0)","v":0.59816568407147286}]
[null,"Nombre d’UMOs nécessitant une CP pour au moins une des maladies (FL, Oncho, STH, SCH)",null,null,null,null,null,{"$f":"COUNTIF(DISTRICT!BC10:BC1010,\">0\")","v":38}]
[null,"Nombre d’UMOs ayant reçu une CP pour au moins une des maladies (FL, Oncho, STH, SCH)",null,null,null,null,null,{"$f":"COUNTIF(DISTRICT!BL10:BL1010,\">0\")","v":38}]
[null,"Proportion d’UMOs nécessitant une CP pour au moins une maladie et l’ayant reçue",null,null,null,null,null,{"$f":"IF(H14<>0,H15/H14,0)","v":1}]
[null,"Nombre total d’individus ayant été traités pour au moins une maladie (FL, Oncho, STH, SCH)",null,null,null,null,null,{"$f":"DISTRICT!BH6","v":4418848}]
[null,"Nombre total d’individus nécessitant un traitement ayant reçu une CP pour au moins une maladie (FL, Oncho, STH, SCH)",null,null,null,null,null,{"$f":"DISTRICT!BL6","v":3316910.0628912849}]
[null,"Couverture CP pour au moins une maladie (FL, Oncho, STH, SCH)",null,null,null,null,null,{"$f":"DISTRICT!BM6","v":0.67961970544306327}]
[null,"Nombre d’UMOs ayant été traitées pour toutes les maladies nécessitant une CP dans ces unités",null,null,null,null,null,{"$f":"DISTRICT!BD6","v":38}]
[null,"Population nécessitant une CP dans des UMOs qui ont été traitées pour toutes les maladies requérant une CP",null,null,null,null,null,{"$f":"SUMIF(DISTRICT!BD10:BD1010,\"Y\",DISTRICT!BC10:BC1010)","v":4838311.8813539445}]
[null,"Population ayant reçu une CP dans des UMOs qui ont été traitées pour toutes les maladies nécessitant une CP",null,null,null,null,null,{"$f":"SUMIF(DISTRICT!BD10:BD1010,\"Y\",DISTRICT!BL10:BL1010)","v":3286747.5951579385}]
[]
[null,null,null,null,"FL","ONCHO","STH","SCH"]
[]
[null,"Maladies nécessitant une CP dans la pays",null,null,{"$f":"IF(INTRO!E38=\"Endémique\",\"Oui\",\"No\")","v":"No"},{"$f":"IF(INTRO!E40=\"Endémique\",\"Oui\",\"No\")","v":"Oui"},{"$f":"IF(INTRO!E42=\"Endémique\",\"Oui\",\"No\")","v":"Oui"},{"$f":"IF(INTRO!E44=\"Endémique\",\"Oui\",\"No\")","v":"Oui"}]
[null,"Nombre d’UMOs dans le pays",null,null,{"$f":"IF(E26=\"Oui\",INTRO!$E$46,\"-\")","v":"-"},{"$f":"IF(F26=\"Oui\",INTRO!$E$46,\"-\")","v":39},{"$f":"IF(G26=\"Oui\",INTRO!$E$46,\"-\")","v":39},{"$f":"IF(H26=\"Oui\",INTRO!$E$46,\"-\")","v":39}]
[null,"Nombre d’UMOs dont le statut d’endémicité est connu",null,null,{"$f":"IF(E26=\"Oui\",E27-E29,\"-\")","v":"-"},{"$f":"IF(F26=\"Oui\",F27-F29,\"-\")","v":39},{"$f":"IF(G26=\"Oui\",G27-G29,\"-\")","v":39},{"$f":"IF(H26=\"Oui\",H27-H29,\"-\")","v":39}]
[null,"Nombre d’UMOs dont le statut d’endémicité est inconnu",null,null,{"$f":"IF(E26=\"Oui\",E27-(1001-COUNTIF(COUNTRY_INFO!H$10:H$1010,\"\"))+COUNTIF(COUNTRY_INFO!H$10:H$1010,\"=4\"),\"-\")","v":"-"},{"$f":"IF(F26=\"Oui\",F27-(1001-COUNTIF(COUNTRY_INFO!I$10:I$1010,\"\"))+COUNTIF(COUNTRY_INFO!I$10:I$1010,\"=4\"),\"-\")","v":0},{"$f":"IF(G26=\"Oui\",G27-(1001-COUNTIF(COUNTRY_INFO!J$10:J$1010,\"\"))+COUNTIF(COUNTRY_INFO!J$10:J$1010,\"=4\")+COUNTIF(COUNTRY_INFO!J$10:J$1010,\"=5\"),\"-\")","v":0},{"$f":"IF(H26=\"Oui\",H27-(1001-COUNTIF(COUNTRY_INFO!K$10:K$1010,\"\"))+COUNTIF(COUNTRY_INFO!K$10:K$1010,\"=4\")+COUNTIF(COUNTRY_INFO!K$10:K$1010,\"=5\"),\"-\")","v":0}]
[null,"Nombre d’UMOs non-endémiques",null,null,{"$f":"IF(E26=\"Oui\",COUNTIF(COUNTRY_INFO!H$10:H$1010,\"=0\"),\"-\")","v":"-"},{"$f":"IF(F26=\"Oui\",COUNTIF(COUNTRY_INFO!I$10:I$1010,\"=0\"),\"-\")","v":3},{"$f":"IF(G26=\"Oui\",COUNTIF(COUNTRY_INFO!J$10:J$1010,\"=0\"),\"-\")","v":1},{"$f":"IF(H26=\"Oui\",COUNTIF(COUNTRY_INFO!K$10:K$1010,\"=0\"),\"-\")","v":0}]
[null,"Nombre d’UMOs nécessitant une CP (total)",null,null,{"$f":"COUNTIF(COUNTRY_INFO!H$10:H$1010,\"=1\")","v":0},{"$f":"COUNTIF(COUNTRY_INFO!I$10:I$1010,\"=1\")","v":36},{"$f":"SUM(G32:G33)","v":32},{"$f":"SUM(H32:H33)","v":32}]
[null,null,null,"prévalence de base",null,null,{"$f":"COUNTIF(COUNTRY_INFO!J$10:J$1010,\"=2\")+COUNTIF(COUNTRY_INFO!J$10:J$1010,\"=3\")","v":32},{"$f":"COUNTIF(COUNTRY_INFO!K$10:K$1001,\"=2\")+COUNTIF(COUNTRY_INFO!K$10:K$1001,\"=3\")","v":32}]
[null,null,null,"prévalence de l'impact",null,null,{"$f":"COUNTIF(COUNTRY_INFO!J$10:J$1010,\"=11\")+COUNTIF(COUNTRY_INFO!J$10:J$1010,\"=21\")+COUNTIF(COUNTRY_INFO!J$10:J$1010,\"=22\")+COUNTIF(COUNTRY_INFO!J$10:J$1010,\"=31\")","v":0},{"$f":"COUNTIF(COUNTRY_INFO!K$10:K$1001,\"=11\")+COUNTIF(COUNTRY_INFO!K$10:K$1001,\"=21\")+COUNTIF(COUNTRY_INFO!K$10:K$1001,\"=31\")","v":0}]
[null,null,null,"- fiable",null,null,{"$f":"COUNTIF(COUNTRY_INFO!J$10:J$1010,\"=11\")","v":0},{"$f":"COUNTIF(COUNTRY_INFO!K$10:K$1001,\"=11\")","v":0}]
[null,"Population nécessitant une CP dans le pays (total) ",null,null,{"$f":"COUNTRY_INFO!L4","v":0},{"$f":"COUNTRY_INFO!M4","v":4018551.2159682633},{"$f":"COUNTRY_INFO!Q4","v":2544074},{"$f":"COUNTRY_INFO!U4","v":4196913}]
[null,null,"<1 an",null,{"$f":"E35-SUM(E37:E39)","v":0},{"$f":"F35-SUM(F37:F39)","v":160742.45775285549}]
[null,null,"EAPréS",null,{"$f":"SUMIF(COUNTRY_INFO!L$10:L$1010,\">0\",COUNTRY_INFO!E$10:E$1010)","v":0},{"$f":"COUNTRY_INFO!$M$4*$G8","v":642967.71593646996},{"$f":"COUNTRY_INFO!N$4","v":884895},{"$f":"COUNTRY_INFO!R$4","v":0}]
[null,null,"EAS",null,{"$f":"SUMIF(COUNTRY_INFO!L$10:L$1010,\">0\",COUNTRY_INFO!F$10:F$1010)","v":0},{"$f":"COUNTRY_INFO!$M$4*$G9","v":1205564.6520756253},{"$f":"COUNTRY_INFO!O$4","v":1659179},{"$f":"COUNTRY_INFO!S$4","v":0}]
[null,null,"Adultes",null,{"$f":"SUMIF(COUNTRY_INFO!L$10:L$1010,\">0\",COUNTRY_INFO!G$10:G$1010)","v":0},{"$f":"COUNTRY_INFO!$M$4*$G10","v":2009276.3902033123},{"$f":"COUNTRY_INFO!P$4","v":0},{"$f":"COUNTRY_INFO!T$4","v":0}]
[null,"Population nécessitant une CP dans les zones à faible prévalence d'impact",null,null,null,null,{"$f":"SUMIF(COUNTRY_INFO!J$10:J$1010,\"=11\",COUNTRY_INFO!Q$10:Q$1010)","v":0},{"$f":"SUMIF(COUNTRY_INFO!K$10:K$1010,\"=11\",COUNTRY_INFO!U$10:U$1010)","v":0}]
[null,"Nombre d’UMOs où une CP a été mise en oeuvre (total)",null,null,{"$f":"COUNTIF(DISTRICT!G$10:G$1010,\">0\")","v":0},{"$f":"COUNTIF(DISTRICT!M$10:M$1010,\">0\")","v":36},{"$f":"COUNTIF(DISTRICT!AB$10:AB$1010,\">0\")","v":38},{"$f":"COUNTIF(DISTRICT!AQ$10:AQ$1010,\">0\")","v":39}]
[null,"Nombre d’UMOs nécessitant une CP et où elle a été mise en oeuvre",null,null,{"$f":"COUNTIF(DISTRICT!H$10:H$1010,\">0\")","v":0},{"$f":"COUNTIF(DISTRICT!N$10:N$1010,\">0\")","v":36},{"$f":"COUNTIF(DISTRICT!AC$10:AC$1010,\">0\")","v":31},{"$f":"COUNTIF(DISTRICT!AR$10:AR$1010,\">0\")","v":39}]
[null,null,"EAPréS",null,null,null,{"$f":"COUNTIF(DISTRICT!T$10:T$1010,\">0\")","v":0},{"$f":"COUNTIF(DISTRICT!AI$10:AI$1010,\">0\")","v":0}]
[null,null,"EAS",null,null,null,{"$f":"COUNTIF(DISTRICT!W$10:W$1010,\">0\")","v":31},{"$f":"COUNTIF(DISTRICT!AL$10:AL$1010,\">0\")","v":0}]
[null,null,"Adultes",null,null,null,{"$f":"COUNTIF(DISTRICT!Z$10:Z$1010,\">0\")","v":0},{"$f":"COUNTIF(DISTRICT!AO$10:AO$1010,\">0\")","v":0}]
[null,"Nombre d’individus traités (total)",null,null,{"$f":"DISTRICT!G4","v":0},{"$f":"DISTRICT!M4","v":3370813},{"$f":"DISTRICT!AB4","v":2051932},{"$f":"DISTRICT!AQ4","v":2753868.48}]
[null,null,"EAPréS",null,{"$f":"SUMMARY!$D13","v":"Non admissible"},{"$f":"SUMMARY!$D14","v":"Non admissible"},{"$f":"SUMMARY!$D15","v":0},{"$f":"SUMMARY!$D16","v":0}]
[null,null,"EAS",null,{"$f":"SUMMARY!$E13","v":0},{"$f":"SUMMARY!$E14","v":1259269},{"$f":"SUMMARY!$E15","v":2051932},{"$f":"SUMMARY!$E16","v":1811333}]
[null,null,"Adultes",null,{"$f":"SUMMARY!$F13","v":0},{"$f":"SUMMARY!$F14","v":2111544},{"$f":"SUMMARY!$F15","v":0},{"$f":"SUMMARY!$F16","v":942535.48}]
[null,"Nombre d’individus nécessitant CP et traités (total)",null,null,{"$f":"DISTRICT!H4","v":0},{"$f":"DISTRICT!N4","v":3368701},{"$f":"DISTRICT!AC4","v":1614591},{"$f":"DISTRICT!AR4","v":2753868.48}]
[null,null,"EAPréS",null,{"$f":"SUMMARY!$D21","v":"Non admissible"},{"$f":"SUMMARY!$D22","v":0},{"$f":"SUMMARY!$D23","v":0},{"$f":"SUMMARY!$D24","v":0}]
[null,null,"EAS",null,{"$f":"SUMMARY!$E21","v":0},{"$f":"SUMMARY!$E22","v":0},{"$f":"SUMMARY!$E23","v":1614591},{"$f":"SUMMARY!$E24","v":0}]
[null,null,"Adultes",null,{"$f":"SUMMARY!$F21","v":0},{"$f":"SUMMARY!$F22","v":0},{"$f":"SUMMARY!$F23","v":0},{"$f":"SUMMARY!$F24","v":0}]
[null,"Couverture géographique (tous âges)",null,null,{"$f":"IF(E31<>0,E42/E31,0)","v":0},{"$f":"IF(F31<>0,F42/F31,0)","v":1},{"$f":"IF(G31<>0,G42/G31,0)","v":0.96875},{"$f":"IF(H31<>0,H42/H31,0)","v":1.21875}]
[null,null,"EAPréS",null,null,null,{"$f":"IF($G$31<>0,G43/$G$31,0)","v":0},{"$f":"IF($H$31<>0,H43/$H$31,0)","v":0}]
[null,null,"EAS",null,null,null,{"$f":"IF($G$31<>0,G44/$G$31,0)","v":0.96875},{"$f":"IF($H$31<>0,H44/$H$31,0)","v":0}]
[null,null,"Adultes",null,null,null,{"$f":"IF($G$31<>0,G45/$G$31,0)","v":0},{"$f":"IF($H$31<>0,H45/$H$31,0)","v":0}]
[null,"Couverture nationale (total)",null,null,{"$f":"IF(E35<>0,E50/E35,0)","v":0},{"$f":"IF(F35<>0,F50/F35,0)","v":0.83828743717736021},{"$f":"IF(G35<>0,G50/G35,0)","v":0.63464781291739158},{"$f":"IF(H35<>0,H50/H35,0)","v":0.65616525288944516}]
[null,null,"EAPréS",null,null,null,{"$f":"IF($G37<>0,$G51/$G37,0)","v":0},{"$f":"IF($H37<>0,$H51/$H37,0)","v":0}]
[null,null,"EAS",null,null,null,{"$f":"IF($G38<>0,$G52/$G38,0)","v":0.97312646797000202},{"$f":"IF($H38<>0,$H52/$H38,0)","v":0}]
[null,null,"Adultes",null,null,null,{"$f":"IF($G39<>0,$G53/$G39,0)","v":0},{"$f":"IF($H39<>0,$H53/$H39,0)","v":0}]
[null,null,null,null,"FL","ONCHO","STH","SCH"]
[]
[null,"Nombre d’UMOs ayant réalisé une couverture efficace (tous âges)",null,null,{"$f":"COUNTIF(DISTRICT!I$10:I$1010,\">=65\")","v":0},{"$f":"COUNTIF(DISTRICT!O$10:O$1010,\">=65\")","v":36},{"$f":"COUNTIF(DISTRICT!AD$10:AD$1010,\">=75\")","v":0},{"$f":"COUNTIF(DISTRICT!AS$10:AS$1010,\">=75\")","v":9}]
[null,null,"EAPréS",null,null,null,{"$f":"COUNTIF(DISTRICT!U$10:U$1010,\">=75\")","v":0},{"$f":"COUNTIF(DISTRICT!AJ$10:AJ$1010,\">=75\")","v":0}]
[null,null,"EAS",null,null,null,{"$f":"COUNTIF(DISTRICT!X$10:X$1010,\">=75\")","v":31},{"$f":"COUNTIF(DISTRICT!AM$10:AM$1010,\">=75\")","v":0}]
[null,null,"Adultes",null,null,null,{"$f":"COUNTIF(DISTRICT!AA$10:AA$1010,\">=75\")","v":0},{"$f":"COUNTIF(DISTRICT!AP$10:AP$1010,\">=75\")","v":0}]
[null,"Nombre d’individus nécessitant un traitement dans des UMOs ayant réalisé une couverture efficace (total)",null,null,{"$f":"SUMIF(DISTRICT!I10:I1010,\">=65\",DISTRICT!H10:H1010)","v":0},{"$f":"SUMIF(DISTRICT!O10:O1010,\">=65\",DISTRICT!N10:N1010)","v":3368701},{"$f":"SUMIF(DISTRICT!AD10:AD1010,\">=75\",DISTRICT!AC10:AC1010)","v":0},{"$f":"SUMIF(DISTRICT!AS10:AS1010,\">=75\",DISTRICT!AR10:AR1010)","v":1236934}]
[null,null,"EAPréS",null,null,null,{"$f":"SUMIF(DISTRICT!U10:U1010,\">=75\",DISTRICT!T10:T1010)","v":0},{"$f":"SUMIF(DISTRICT!AJ10:AJ1010,\">=75\",DISTRICT!AI10:AI1010)","v":0}]
[null,null,"EAS",null,null,null,{"$f":"SUMIF(DISTRICT!X10:X1010,\">=75\",DISTRICT!W10:W1010)","v":1614591},{"$f":"SUMIF(DISTRICT!AM10:AM1010,\">=75\",DISTRICT!AL10:AL1010)","v":0}]
[null,null,"Adultes",null,null,null,{"$f":"SUMIF(DISTRICT!AA10:AA1010,\">=75\",DISTRICT!Z10:Z1010)","v":0},{"$f":"SUMIF(DISTRICT!AP10:AP1010,\">=75\",DISTRICT!AO10:AO1010)","v":0}]
[null,"Proportion d’UMOs nécessitant une CP and ayant réalisé une couverture efficace (total)",null,null,{"$f":"IF(E42<>0,E64/E42,0)","v":0},{"$f":"IF(F42<>0,F64/F42,0)","v":1},{"$f":"IF(G42<>0,G64/G42,0)","v":0},{"$f":"IF(H42<>0,H64/H42,0)","v":0.23076923076923078}]
[null,null,"EAPréS",null,null,null,{"$f":"IF(G43<>0,G65/G43,0)","v":0},0]
[null,null,"EAS",null,null,null,1,0]
[null,null,"Adultes",null,null,null,0,0]
[null,"Nombre d’UMOs où la CP a été stoppée (càd sous surveillance)",null,null,{"$f":"COUNTIF(COUNTRY_INFO!H$10:H$1010,\"=99\")","v":0},{"$f":"COUNTIF(COUNTRY_INFO!I$10:I$1010,\"=99\")","v":0},{"$f":"COUNTIF(COUNTRY_INFO!J$10:J$1010,\"=99\")","v":0},{"$f":"COUNTIF(COUNTRY_INFO!K$10:K$1010,\"=99\")","v":0}]
[null,"Nombre d’individus dans les UMOs ne nécessitant plus de CP (stoppée)",null,null,{"$f":"SUMIF(COUNTRY_INFO!H$10:H$1010,\"=99\",COUNTRY_INFO!D$10:D$1010)","v":0},{"$f":"SUMIF(COUNTRY_INFO!I$10:I$1010,\"=99\",COUNTRY_INFO!D$10:D$1010)","v":0},{"$f":"SUMIF(COUNTRY_INFO!J$10:J$1010,\"=99\",COUNTRY_INFO!D$10:D$1010)","v":0},{"$f":"SUMIF(COUNTRY_INFO!K$10:K$1010,\"=99\",COUNTRY_INFO!D$10:D$1010)","v":0}]
[null,"Nombre d’individus nécessitant une CP vivants dans des UMOs ciblées pour la CP",null,null,{"$f":"SUMIF(DISTRICT!H$10:H$1010,\">0\",DISTRICT!D$10:D$1010)","v":0},{"$f":"SUMIF(DISTRICT!N$10:N$1010,\">0\",DISTRICT!J$10:J$1010)","v":4018551.2159682633},{"$f":"SUMIF(DISTRICT!AC$10:AC$1010,\">0\",DISTRICT!P$10:P$1010)","v":2522584},{"$f":"SUMIF(DISTRICT!AR$10:AR$1010,\">0\",DISTRICT!AE$10:AE$1010)","v":4196913}]
[null,"Nombre d’individus nécessitant une CP vivant dans des UMOs non ciblées pour la CP",null,null,{"$f":"SUMIF(DISTRICT!H$10:H$1010,\"=0\",DISTRICT!D$10:D$1010)","v":0},{"$f":"SUMIF(DISTRICT!N$10:N$1010,\"=0\",DISTRICT!J$10:J$1010)","v":0},{"$f":"SUMIF(DISTRICT!AC$10:AC$1010,\"=0\",DISTRICT!P$10:P$1010)","v":21490},{"$f":"SUMIF(DISTRICT!AR$10:AR$1010,\"=0\",DISTRICT!AE$10:AE$1010)","v":0}]
[null,null,null,null,{"$f":"E35-E50","v":0},{"$f":"F35-F50","v":649850.21596826334},{"$f":"G35-G50","v":929483},{"$f":"H35-H50","v":1443044.52}]
[null,"Nombre d’UMOs nécessitant et recevant la CP",null,null,{"$f":"E31-E42","v":0},{"$f":"F31-F42","v":0},{"$f":"G31-G42","v":1},{"$f":"H31-H42","v":-7}]
[null,null,null,null,{"$f":"E27-E31-E29","v":{"$error":"#VALUE!"}},3,7,{"$f":"H27-H31-H29","v":7}]
[]
[null,null,null,null,null,null,"Nécessitant et recevant une CP"]
[null,null,null,null,null,null,"Nécessitant mais ne recevant pas de CP"]
[null,null,null,null,null,null,"Ne nécessitant pas de CP"]
[null,null,null,null,null,null,"Statut inconnu"]
[]
[]
[]
[]
[]
[]
[]
[]
[]
[]
[]
[]
[]
[]
[]
[]
[]
[]
[]
[]
[]
[]
[]
[]
[]
[]
[]
[]
[]
[]
[]
[]
[]
[]
[null,"Cliquer ici pour accéder au portail des données de la CP"]

{"sheet":"DATA_POLICY","index":14,"n_rows":39,"n_cols":8,"rows_kept":39,"cut":false,"hidden":true,"merged":[[55,1,55,2],[8,1,12,7],[13,1,16,7],[26,2,36,7],[38,1,45,7],[6,1,6,7],[17,1,21,7],[22,1,25,7],[0,1,0,5],[1,1,1,7],[3,3,3,5]]}
[]
[null,"Formulaire de Rapport Commun v.4.2"]
[]
[null,"Pays",null,{"$f":"IF(INTRO!$E$34<>0,INTRO!$E$34,\" \")","v":"Togo"},null,null,"Année",{"$f":"IF(INTRO!$E$36<>0,INTRO!$E$36,\" \")","v":2022}]
[]
[]
[null,"Déclaration de principe sur la communication de données par l’OMS"]
[]
[null,"Les données sont le fondement de toutes les mesures rationnelles de santé publique et les avantages de la communication de données, y compris pour la science et la santé publique, sont largement reconnus. L’OMS souhaite promouvoir autant que possible la communication de données sanitaires, y compris, mais pas uniquement, de données épidémiologiques et de surveillance."]
[]
[]
[]
[]
[null,{"$f":"\"À cet égard, et sans préjudice des instruments juridiquement contraignants régissant la communication et la publication d’informations, le Ministère de la santé de \" & D4 & \", en fournissant des données à l’OMS :\"","v":"À cet égard, et sans préjudice des instruments juridiquement contraignants régissant la communication et la publication d’informations, le Ministère de la santé de Togo, en fournissant des données à l’OMS :"}]
[]
[]
[]
[null,"confirme que toutes les données à fournir à l’OMS, ont été collectées conformément à la législation nationale applicable, y compris aux lois de protection des données visant à préserver l’anonymat des personnes identifiables ;"]
[]
[]
[]
[]
[null,{"$f":"\"convient que l’OMS aura le droit, toujours sous réserve des mesures visant à garantir l’utilisation éthique et sécurisée des données et toujours sous réserve d’une reconnaissance appropriée de la part de \"&D4&\":\"","v":"convient que l’OMS aura le droit, toujours sous réserve des mesures visant à garantir l’utilisation éthique et sécurisée des données et toujours sous réserve d’une reconnaissance appropriée de la part de Togo:"}]
[]
[]
[]
[null,null,"de publier les données, dépourvues de tout élément d’identification personnelle (ci-après dénommées « les données ») et de les mettre à la disposition de toute partie intéressée, sur demande (dans la mesure où elles n’ont pas, ou pas encore, été publiées par l’OMS), selon des modalités autorisant leur utilisation non commerciale et sans but lucratif à des fins de santé publique (pour autant que l’OMS garde la maîtrise de la publication des données) ;\nd’utiliser, de compiler, d’agréger, d’évaluer et d’analyser les données et de publier et de diffuser les résultats obtenus grâce à ces données en rapport avec des travaux de l’OMS et conformément aux politiques et pratiques de l’Organisation."]
[]
[]
[]
[]
[]
[]
[]
[]
[]
[]
[]
[null,{"$f":"CONCATENATE(\"Sauf lorsque des instruments juridiquement contraignants (RSI, Règlement de Nomenclature de l’OMS, de 1967, etc.) disposent que les données doivent être communiquées et publiées, le Ministère de la santé de \", D4,\" peut, pour certaines données, décider de ne pas appliquer (tout ou partie des) (les) dispositions qui précèdent,\" & \" en informant l’OMS par écrit à l’adresse suivante, à condition que cette notification précise clairement les données, \" & \"dont il s’agit et indique clairement lesquelles des dispositions qui précèdent ne seront pas appliquées, et pour quels motifs.\")","v":"Sauf lorsque des instruments juridiquement contraignants (RSI, Règlement de Nomenclature de l’OMS, de 1967, etc.) disposent que les données doivent être communiquées et publiées, le Ministère de la santé de Togo peut, pour certaines données, décider de ne pas appliquer (tout ou partie des) (les) dispositions qui précèdent, en informant l’OMS par écrit à l’adresse suivante, à condition que cette notification précise clairement les données, dont il s’agit et indique clairement lesquelles des dispositions qui précèdent ne seront pas appliquées, et pour quels motifs."}]