{"text_format":"1","workbook":"xlsx","n_sheets":13,"sheets":["INTRO","COUNTRY_INFO","MDA1","MDA2","MDA3","T1","T2","T3_R1","T3_R2","DISTRICT","SUMMARY","PROFILE","DATA_POLICY"],"not_rendered":{"charts":8,"images":3,"macros":1,"external_links":0,"defined_names":8,"comments":11,"pivot_tables":0},"unopened":[],"bounds":{"document_bytes":16777216,"sheet_cells":100000,"rows_first":2000,"rows_last":500,"rows_between":2000,"halvings":0,"cell_chars":16384,"cell_head_chars":4096},"cells_cut":0,"cells_raw":0,"read":"whole","date_system":"1900"}

{"sheet":"INTRO","index":0,"n_rows":50,"n_cols":5,"rows_kept":50,"cut":false,"hidden":false,"merged":[[7,2,7,4],[8,2,8,4],[0,1,0,4],[1,1,1,4],[2,1,2,4],[3,1,3,4],[4,1,4,4],[5,1,5,4],[9,2,9,4],[11,2,11,4],[12,1,12,4],[13,1,13,4],[14,1,14,4],[22,1,22,4],[23,2,24,4],[25,1,25,4],[15,1,15,4],[16,1,16,4],[17,1,17,4],[18,1,18,4],[19,2,19,4],[45,1,45,2],[10,2,10,4],[41,1,41,2],[43,1,43,2],[46,1,46,4],[33,1,33,2],[35,1,35,2],[26,2,27,4],[37,1,37,2],[39,1,39,2],[28,1,28,4],[29,2,29,4],[30,1,30,4],[31,1,31,4],[20,1,20,4],[21,2,21,4]]}
[]
[null,"PC Joint Reporting Form v.3.1"]
[]
[null,"The purpose of this template Joint Reporting Form (JRF) - available as an Excel file - is to provide national health authorities and data managers with a standardized tool to address these reporting challenges, facilitate  integration and thereby further contribute to improving overall programme management. This template aims to standardize national reporting of programme implementation outcomes, improve availability and coordination of preventive chemotherapy data across the World Health Organization regions. \nNational authorities are requested to complete this form for submission to the World Health Organization any time before 15 August of the current year for reporting data on PC interventions implemented during the previous year."]
[]
[null,"Structure of the application (worksheets):"]
[]
[null,"INTRO","This worksheet includes guides on how to complete the joint reporting form and information about status of PC for endemic diseases in the country"]
[null,"COUNTRY_INFO","This worksheet includes information about administrative structure of the country, population by age group, status of endemicity for each disease, population requiring PC, planned interventions and interventions implemented"]
[null,"MDA1, MDA2, MDA3, T1, T2 and T3","These worksheets include information about endemic districts targeted for treatment with specified PC medicines, treatment plan, and number of people who received treatment by age group"]
[null,"DISTRICT","This worksheet includes summary of people treated by disease at the level of implementation. If data by gender is available, it requires to enter."]
[null,"SUMMARY","This worksheet includes summary of people treated by disease and by PC intervention. Before generating the report (run macros) please select the disease for which you need the report. Follow the same rule to generate various reports.\nThis worksheet should be printed and submitted as a Joint Report (see the instruction for submission in the SUMMARY worksheet)."]
[]
[null,"Instruction for data entry"]
[]
[null,"Most of the cells in the above-mentioned worksheets include formula that are calculated automatically according to the treatment policy recommended by WHO for each disease.\nSee the link http://www.who.int/neglected_diseases/preventive_chemotherapy/pct_manual/en/index.html"]
[]
[null,"Please enter your data into the cells according to their colour code:"]
[]
[null,null,"White - cell is not protected. Please enter the value of the requested indicator."]
[]
[null,null,"Yellow - cell is protected and includes name of indicator. No data entry required."]
[]
[null,null,"Orange - cell is not protected and includes a drop-down menu. Please select the value from the drop-down list."]
[]
[]
[null,null,"Green - cell is not protected and includes formula. Please change the value only if your data are different from those that are calculated automatically."]
[]
[]
[null,null,"Blue - cell is protected and includes formula. No data entry required."]
[]
[null,"Country data"]
[]
[null,"COUNTRY",null,null,"Tanzania"]
[]
[null,"Year of reporting data",null,null,2020]
[]
[null,"Is country endemic for lymphatic filariasis (LF)?",null,null,"Endemic"]
[]
[null,"Is country endemic for onchocerciasis (ONCHO)?",null,null,"Endemic"]
[]
[null,"Is country endemic for soil-transmitted helminthiases (STH)?",null,null,"Endemic"]
[]
[null,"Is country endemic for schistosomiasis (SCH)?",null,null,"Endemic"]
[]
[null,"How many administrative units in the country?",null,null,185]
[null,"If demographical data at the second administrative level are not available by age group, please enter the proportion (%) of population by age group in the country. If data are available, please leave these cells blank."]
[null,"1-4 years age","Preschool-age children (PreSAC)",null,0.129]
[null,"5-14 years age","School-age children (SAC)",null,0.191]
[null,"15 years +","Adults",null,0.56100000000000005]

{"sheet":"COUNTRY_INFO","index":1,"n_rows":194,"n_cols":53,"rows_kept":194,"cut":false,"hidden":false,"merged":[[3,21,3,22],[5,21,5,22],[5,3,5,6],[5,7,5,10],[5,11,5,14],[5,19,5,20],[3,0,3,2],[3,7,3,10],[3,19,3,20],[5,0,5,2],[3,15,3,18],[5,15,5,18]]}
["COUNTRY INFORMATION"]
["Administrative structure, population by age group, endemicity status, planned interventions and interventions implemented"]
[]
["TOTAL",null,null,{"$f":"SUM(D$9:D$1000)","v":54534665.863614552},{"$f":"SUM(E$9:E$1000)","v":7034972},{"$f":"SUM(F$9:F$1000)","v":12259500},{"$f":"SUM(G$9:G$1000)","v":35240192.863614567},null,null,null,null,{"$f":"SUM(L$9:L$1000)","v":8238488.7704826714},{"$f":"SUM(M$9:M$1000)","v":6575683.8165868213},{"$f":"SUM(N$9:N$1000)","v":19294472},{"$f":"SUM(O$9:O$1000)","v":16495073.520397946}]
[]
["Country administrative structure",null,null,"Population",null,null,null,"Endemicity",null,null,null,"Population requiring PC",null,null,null,"Number of treatment\nrounds planned for the year",null,null,null,"PC implemented",null,"Click to see the recommended strategy",null,null,null,null,null,null,null,null,"mda3","t1","t3r1",null,"sth"]
["Country","Province/State","District","Total","PreSAC","SAC","Adults","LF","Oncho","STH","SCH","LF","Oncho","STH","SCH","LF","Oncho","STH","SCH","ROUND 1","ROUND2",null,null,"IU_ID","IU_Name","x","x","x","x","x","x","x","x","x","x","x","x","x","x","x","x","x","x","x","x","x","x","x","x","x","x","x","x"]
[]
[{"$f":"IF(INTRO!$E$34<>0,INTRO!$E$34,\"\")","v":"Tanzania"},"Arusha","Arusha City Council",517356.78689398989,66739,105216,345401.78689398989,0,0,3,2,{"$f":"IF(INTRO!$E$38=\"Endemic\", IF($H9>0, IF($H9=4,\"Unknown\", IF($H9=99,\"Stopped\", $D9)), 0),\"Not required\")","v":0},{"$f":"IF(INTRO!$E$40=\"Endemic\", IF($I9>0, IF($I9=4,\"Unknown\",IF($I9=99,\"Stopped\", $D9)), 0),\"Not required\")","v":0},{"$f":"IF(INTRO!$E$42=\"Endemic\", IF(AND($J9>1,$J9<5), IF($J9=4, \"Unknown\", E9+F9), 0),\"Not required\")","v":171955},{"$f":"IF(INTRO!$E$44=\"Endemic\", IF(AND($K9>0,$K9<5), IF($K9=4,\"Unknown\", IF($K9=1, $F9*0.33, IF($K9=2, $F9*0.5+$G9*0.2, SUM(F9:G9)))), 0),\"Not required\")","v":121688.35737879798},0,0,1,0,null,"T3 (ALB/MBD)","T1","T3",46459,"Arusha City Council",null,null,null,null,null,{"$f":"'MDA3'!Q9","v":0},{"$f":"'T1'!O9","v":0},{"$f":"T3_R1!N9","v":103518},null,{"$f":"AF9+AG9","v":103518},{"$f":"COUNTIF(AF9:AG9,\">0\")","v":1}]
[{"$f":"IF(INTRO!$E$34<>0,INTRO!$E$34,\"\")","v":"Tanzania"},"Arusha","Arusha District Council",401515.89650265587,51796,79707,270012.89650265587,0,0,3,2,{"$f":"IF(INTRO!$E$38=\"Endemic\", IF($H10>0, IF($H10=4,\"Unknown\", IF($H10=99,\"Stopped\", $D10)), 0),\"Not required\")","v":0},{"$f":"IF(INTRO!$E$40=\"Endemic\", IF($I10>0, IF($I10=4,\"Unknown\",IF($I10=99,\"Stopped\", $D10)), 0),\"Not required\")","v":0},{"$f":"IF(INTRO!$E$42=\"Endemic\", IF(AND($J10>1,$J10<5), IF($J10=4, \"Unknown\", E10+F10), 0),\"Not required\")","v":131503},{"$f":"IF(INTRO!$E$44=\"Endemic\", IF(AND($K10>0,$K10<5), IF($K10=4,\"Unknown\", IF($K10=1, $F10*0.33, IF($K10=2, $F10*0.5+$G10*0.2, SUM(F10:G10)))), 0),\"Not required\")","v":93856.079300531186},0,0,1,0,null,"T3 (ALB/MBD)","T1","T3",46460,"Arusha District Council",null,null,null,null,null,{"$f":"'MDA3'!Q10","v":0},{"$f":"'T1'!O10","v":0},{"$f":"T3_R1!N10","v":76522},null,{"$f":"AF10+AG10","v":76522},{"$f":"COUNTIF(AF10:AG10,\">0\")","v":1}]
[{"$f":"IF(INTRO!$E$34<>0,INTRO!$E$34,\"\")","v":"Tanzania"},"Arusha","Karatu District Council",285941.55215627997,36886,60712,188343.55215627997,0,0,3,2,{"$f":"IF(INTRO!$E$38=\"Endemic\", IF($H11>0, IF($H11=4,\"Unknown\", IF($H11=99,\"Stopped\", $D11)), 0),\"Not required\")","v":0},{"$f":"IF(INTRO!$E$40=\"Endemic\", IF($I11>0, IF($I11=4,\"Unknown\",IF($I11=99,\"Stopped\", $D11)), 0),\"Not required\")","v":0},{"$f":"IF(INTRO!$E$42=\"Endemic\", IF(AND($J11>1,$J11<5), IF($J11=4, \"Unknown\", E11+F11), 0),\"Not required\")","v":97598},{"$f":"IF(INTRO!$E$44=\"Endemic\", IF(AND($K11>0,$K11<5), IF($K11=4,\"Unknown\", IF($K11=1, $F11*0.33, IF($K11=2, $F11*0.5+$G11*0.2, SUM(F11:G11)))), 0),\"Not required\")","v":68024.710431255997},0,0,1,0,null,"T3 (ALB/MBD)","T1","T3",46461,"Karatu District Council",null,null,null,null,null,{"$f":"'MDA3'!Q11","v":0},{"$f":"'T1'!O11","v":0},{"$f":"T3_R1!N11","v":59297},null,59297,1]
[{"$f":"IF(INTRO!$E$34<>0,INTRO!$E$34,\"\")","v":"Tanzania"},"Arusha","Longido District Council",152994.8223916475,19736,35947,97311.822391647496,0,0,3,2,{"$f":"IF(INTRO!$E$38=\"Endemic\", IF($H12>0, IF($H12=4,\"Unknown\", IF($H12=99,\"Stopped\", $D12)), 0),\"Not required\")","v":0},{"$f":"IF(INTRO!$E$40=\"Endemic\", IF($I12>0, IF($I12=4,\"Unknown\",IF($I12=99,\"Stopped\", $D12)), 0),\"Not required\")","v":0},{"$f":"IF(INTRO!$E$42=\"Endemic\", IF(AND($J12>1,$J12<5), IF($J12=4, \"Unknown\", E12+F12), 0),\"Not required\")","v":55683},{"$f":"IF(INTRO!$E$44=\"Endemic\", IF(AND($K12>0,$K12<5), IF($K12=4,\"Unknown\", IF($K12=1, $F12*0.33, IF($K12=2, $F12*0.5+$G12*0.2, SUM(F12:G12)))), 0),\"Not required\")","v":37435.864478329502},0,0,1,0,null,"T3 (ALB/MBD)","T1","T3",46462,"Longido District Council",null,null,null,null,null,{"$f":"'MDA3'!Q12","v":0},{"$f":"'T1'!O12","v":0},{"$f":"T3_R1!N12","v":35049},null,35049,1]
[{"$f":"IF(INTRO!$E$34<>0,INTRO!$E$34,\"\")","v":"Tanzania"},"Arusha","Meru District Council",333121.7997904559,42973,67344,222804.7997904559,0,0,3,2,{"$f":"IF(INTRO!$E$38=\"Endemic\", IF($H13>0, IF($H13=4,\"Unknown\", IF($H13=99,\"Stopped\", $D13)), 0),\"Not required\")","v":0},{"$f":"IF(INTRO!$E$40=\"Endemic\", IF($I13>0, IF($I13=4,\"Unknown\",IF($I13=99,\"Stopped\", $D13)), 0),\"Not required\")","v":0},{"$f":"IF(INTRO!$E$42=\"Endemic\", IF(AND($J13>1,$J13<5), IF($J13=4, \"Unknown\", E13+F13), 0),\"Not required\")","v":110317},{"$f":"IF(INTRO!$E$44=\"Endemic\", IF(AND($K13>0,$K13<5), IF($K13=4,\"Unknown\", IF($K13=1, $F13*0.33, IF($K13=2, $F13*0.5+$G13*0.2, SUM(F13:G13)))), 0),\"Not required\")","v":78232.959958091174},0,0,1,0,null,"T3 (ALB/MBD)","T1","T3",46463,"Meru District Council",null,null,null,null,null,{"$f":"'MDA3'!Q13","v":0},{"$f":"'T1'!O13","v":0},{"$f":"T3_R1!N13","v":66586},null,66586,1]
[{"$f":"IF(INTRO!$E$34<>0,INTRO!$E$34,\"\")","v":"Tanzania"},"Arusha","Monduli District Council",197440.62987850897,25470,43473,128497.62987850897,0,0,3,2,{"$f":"IF(INTRO!$E$38=\"Endemic\", IF($H14>0, IF($H14=4,\"Unknown\", IF($H14=99,\"Stopped\", $D14)), 0),\"Not required\")","v":0},{"$f":"IF(INTRO!$E$40=\"Endemic\", IF($I14>0, IF($I14=4,\"Unknown\",IF($I14=99,\"Stopped\", $D14)), 0),\"Not required\")","v":0},{"$f":"IF(INTRO!$E$42=\"Endemic\", IF(AND($J14>1,$J14<5), IF($J14=4, \"Unknown\", E14+F14), 0),\"Not required\")","v":68943},{"$f":"IF(INTRO!$E$44=\"Endemic\", IF(AND($K14>0,$K14<5), IF($K14=4,\"Unknown\", IF($K14=1, $F14*0.33, IF($K14=2, $F14*0.5+$G14*0.2, SUM(F14:G14)))), 0),\"Not required\")","v":47436.025975701792},0,0,1,0,null,"T3 (ALB/MBD)","T1","T3",46464,"Monduli District Council",null,null,null,null,null,{"$f":"'MDA3'!Q14","v":0},{"$f":"'T1'!O14","v":0},{"$f":"T3_R1!N14","v":41965},null,41965,1]
[{"$f":"IF(INTRO!$E$34<>0,INTRO!$E$34,\"\")","v":"Tanzania"},"Arusha","Ngorongoro District Council",216510.16896834964,27930,48404,140176.16896834964,0,0,3,2,{"$f":"IF(INTRO!$E$38=\"Endemic\", IF($H15>0, IF($H15=4,\"Unknown\", IF($H15=99,\"Stopped\", $D15)), 0),\"Not required\")","v":0},{"$f":"IF(INTRO!$E$40=\"Endemic\", IF($I15>0, IF($I15=4,\"Unknown\",IF($I15=99,\"Stopped\", $D15)), 0),\"Not required\")","v":0},{"$f":"IF(INTRO!$E$42=\"Endemic\", IF(AND($J15>1,$J15<5), IF($J15=4, \"Unknown\", E15+F15), 0),\"Not required\")","v":76334},{"$f":"IF(INTRO!$E$44=\"Endemic\", IF(AND($K15>0,$K15<5), IF($K15=4,\"Unknown\", IF($K15=1, $F15*0.33, IF($K15=2, $F15*0.5+$G15*0.2, SUM(F15:G15)))), 0),\"Not required\")","v":52237.233793669933},0,0,1,0,null,"T3 (ALB/MBD)","T1","T3",46465,"Ngorongoro District Council",null,null,null,null,null,{"$f":"'MDA3'!Q15","v":0},{"$f":"'T1'!O15","v":0},{"$f":"T3_R1!N15","v":44588},null,44588,1]
[{"$f":"IF(INTRO!$E$34<>0,INTRO!$E$34,\"\")","v":"Tanzania"},"Dar Es Salaam","Dar es Salaam City Council ",1,0,null,0,1,0,3,2,{"$f":"IF(INTRO!$E$38=\"Endemic\", IF($H16>0, IF($H16=4,\"Unknown\", IF($H16=99,\"Stopped\", $D16)), 0),\"Not required\")","v":1},{"$f":"IF(INTRO!$E$40=\"Endemic\", IF($I16>0, IF($I16=4,\"Unknown\",IF($I16=99,\"Stopped\", $D16)), 0),\"Not required\")","v":0},{"$f":"IF(INTRO!$E$42=\"Endemic\", IF(AND($J16>1,$J16<5), IF($J16=4, \"Unknown\", E16+F16), 0),\"Not required\")","v":0},{"$f":"IF(INTRO!$E$44=\"Endemic\", IF(AND($K16>0,$K16<5), IF($K16=4,\"Unknown\", IF($K16=1, $F16*0.33, IF($K16=2, $F16*0.5+$G16*0.2, SUM(F16:G16)))), 0),\"Not required\")","v":0},0,0,0,1,null,null,"MDA 1","T1",46623,"Dar es Salaam City Council ",null,null,null,null,null,{"$f":"'MDA3'!Q16","v":0},{"$f":"'T1'!O16","v":0},{"$f":"T3_R1!N16","v":0},null,0,0]
[{"$f":"IF(INTRO!$E$34<>0,INTRO!$E$34,\"\")","v":"Tanzania"},"Dar Es Salaam","Ilala Municipal Council",1904036.475429269,245621,259565,1398850.475429269,1,0,3,2,{"$f":"IF(INTRO!$E$38=\"Endemic\", IF($H17>0, IF($H17=4,\"Unknown\", IF($H17=99,\"Stopped\", $D17)), 0),\"Not required\")","v":1904036.475429269},{"$f":"IF(INTRO!$E$40=\"Endemic\", IF($I17>0, IF($I17=4,\"Unknown\",IF($I17=99,\"Stopped\", $D17)), 0),\"Not required\")","v":0},{"$f":"IF(INTRO!$E$42=\"Endemic\", IF(AND($J17>1,$J17<5), IF($J17=4, \"Unknown\", E17+F17), 0),\"Not required\")","v":505186},{"$f":"IF(INTRO!$E$44=\"Endemic\", IF(AND($K17>0,$K17<5), IF($K17=4,\"Unknown\", IF($K17=1, $F17*0.33, IF($K17=2, $F17*0.5+$G17*0.2, SUM(F17:G17)))), 0),\"Not required\")","v":409552.59508585383},0,0,0,1,null,null,"MDA 1","T1",46466,"Ilala Municipal Council",null,null,null,null,null,{"$f":"'MDA3'!Q17","v":0},{"$f":"'T1'!O17","v":0},{"$f":"T3_R1!N17","v":0},null,0,0]
[{"$f":"IF(INTRO!$E$34<>0,INTRO!$E$34,\"\")","v":"Tanzania"},"Dar Es Salaam","Kigamboni Municipal Council",254158.22133242802,32786,36130,185242.22133242802,1,0,3,2,{"$f":"IF(INTRO!$E$38=\"Endemic\", IF($H18>0, IF($H18=4,\"Unknown\", IF($H18=99,\"Stopped\", $D18)), 0),\"Not required\")","v":254158.22133242802},{"$f":"IF(INTRO!$E$40=\"Endemic\", IF($I18>0, IF($I18=4,\"Unknown\",IF($I18=99,\"Stopped\", $D18)), 0),\"Not required\")","v":0},{"$f":"IF(INTRO!$E$42=\"Endemic\", IF(AND($J18>1,$J18<5), IF($J18=4, \"Unknown\", E18+F18), 0),\"Not required\")","v":68916},{"$f":"IF(INTRO!$E$44=\"Endemic\", IF(AND($K18>0,$K18<5), IF($K18=4,\"Unknown\", IF($K18=1, $F18*0.33, IF($K18=2, $F18*0.5+$G18*0.2, SUM(F18:G18)))), 0),\"Not required\")","v":55113.444266485603},0,0,0,1,null,null,"MDA 1","T1",46624,"Kigamboni Municipal Council",null,null,null,null,null,{"$f":"'MDA3'!Q18","v":0},{"$f":"'T1'!O18","v":0},{"$f":"T3_R1!N18","v":0},null,0,0]
[{"$f":"IF(INTRO!$E$34<>0,INTRO!$E$34,\"\")","v":"Tanzania"},"Dar Es Salaam","Kinondoni Municipal Council",1450212.9055870855,187077,178824,1084311.9055870855,1,0,3,2,{"$f":"IF(INTRO!$E$38=\"Endemic\", IF($H19>0, IF($H19=4,\"Unknown\", IF($H19=99,\"Stopped\", $D19)), 0),\"Not required\")","v":1450212.9055870855},{"$f":"IF(INTRO!$E$40=\"Endemic\", IF($I19>0, IF($I19=4,\"Unknown\",IF($I19=99,\"Stopped\", $D19)), 0),\"Not required\")","v":0},{"$f":"IF(INTRO!$E$42=\"Endemic\", IF(AND($J19>1,$J19<5), IF($J19=4, \"Unknown\", E19+F19), 0),\"Not required\")","v":365901},{"$f":"IF(INTRO!$E$44=\"Endemic\", IF(AND($K19>0,$K19<5), IF($K19=4,\"Unknown\", IF($K19=1, $F19*0.33, IF($K19=2, $F19*0.5+$G19*0.2, SUM(F19:G19)))), 0),\"Not required\")","v":306274.38111741713},0,0,0,1,null,null,"MDA 1","T1",46467,"Kinondoni Municipal Council",null,null,null,null,null,{"$f":"'MDA3'!Q19","v":0},{"$f":"'T1'!O19","v":0},{"$f":"T3_R1!N19","v":0},null,0,0]
[{"$f":"IF(INTRO!$E$34<>0,INTRO!$E$34,\"\")","v":"Tanzania"},"Dar Es Salaam","Temeke Municipal Council",1881166.0802289539,242670,267420,1371076.0802289539,1,0,3,2,{"$f":"IF(INTRO!$E$38=\"Endemic\", IF($H20>0, IF($H20=4,\"Unknown\", IF($H20=99,\"Stopped\", $D20)), 0),\"Not required\")","v":1881166.0802289539},{"$f":"IF(INTRO!$E$40=\"Endemic\", IF($I20>0, IF($I20=4,\"Unknown\",IF($I20=99,\"Stopped\", $D20)), 0),\"Not required\")","v":0},{"$f":"IF(INTRO!$E$42=\"Endemic\", IF(AND($J20>1,$J20<5), IF($J20=4, \"Unknown\", E20+F20), 0),\"Not required\")","v":510090},{"$f":"IF(INTRO!$E$44=\"Endemic\", IF(AND($K20>0,$K20<5), IF($K20=4,\"Unknown\", IF($K20=1, $F20*0.33, IF($K20=2, $F20*0.5+$G20*0.2, SUM(F20:G20)))), 0),\"Not required\")","v":407925.21604579076},0,0,0,1,null,null,"MDA 1","T1",46468,"Temeke Municipal Council",null,null,null,null,null,{"$f":"'MDA3'!Q20","v":0},{"$f":"'T1'!O20","v":0},{"$f":"T3_R1!N20","v":0},null,0,0]
[{"$f":"IF(INTRO!$E$34<>0,INTRO!$E$34,\"\")","v":"Tanzania"},"Dar Es Salaam","Ubungo Municipal Council",1318692.8222159485,170111,162606,985975.82221594849,1,0,3,2,{"$f":"IF(INTRO!$E$38=\"Endemic\", IF($H21>0, IF($H21=4,\"Unknown\", IF($H21=99,\"Stopped\", $D21)), 0),\"Not required\")","v":1318692.8222159485},{"$f":"IF(INTRO!$E$40=\"Endemic\", IF($I21>0, IF($I21=4,\"Unknown\",IF($I21=99,\"Stopped\", $D21)), 0),\"Not required\")","v":0},{"$f":"IF(INTRO!$E$42=\"Endemic\", IF(AND($J21>1,$J21<5), IF($J21=4, \"Unknown\", E21+F21), 0),\"Not required\")","v":332717},{"$f":"IF(INTRO!$E$44=\"Endemic\", IF(AND($K21>0,$K21<5), IF($K21=4,\"Unknown\", IF($K21=1, $F21*0.33, IF($K21=2, $F21*0.5+$G21*0.2, SUM(F21:G21)))), 0),\"Not required\")","v":278498.16444318974},0,0,0,1,null,null,"MDA 1","T1",46625,"Ubungo Municipal Council",null,null,null,null,null,{"$f":"'MDA3'!Q21","v":0},{"$f":"'T1'!O21","v":0},{"$f":"T3_R1!N21","v":0},null,0,0]
[{"$f":"IF(INTRO!$E$34<>0,INTRO!$E$34,\"\")","v":"Tanzania"},"Dodoma","Bahi District Council",261781.50029509421,33770,54955,173056.50029509421,99,0,3,2,{"$f":"IF(INTRO!$E$38=\"Endemic\", IF($H22>0, IF($H22=4,\"Unknown\", IF($H22=99,\"Stopped\", $D22)), 0),\"Not required\")","v":"Stopped"},{"$f":"IF(INTRO!$E$40=\"Endemic\", IF($I22>0, IF($I22=4,\"Unknown\",IF($I22=99,\"Stopped\", $D22)), 0),\"Not required\")","v":0},{"$f":"IF(INTRO!$E$42=\"Endemic\", IF(AND($J22>1,$J22<5), IF($J22=4, \"Unknown\", E22+F22), 0),\"Not required\")","v":88725},{"$f":"IF(INTRO!$E$44=\"Endemic\", IF(AND($K22>0,$K22<5), IF($K22=4,\"Unknown\", IF($K22=1, $F22*0.33, IF($K22=2, $F22*0.5+$G22*0.2, SUM(F22:G22)))), 0),\"Not required\")","v":62088.800059018846},0,0,1,0,null,"T3 (ALB/MBD)","T1","T3",46469,"Bahi District Council",null,null,null,null,null,{"$f":"'MDA3'!Q22","v":0},{"$f":"'T1'!O22","v":0},{"$f":"T3_R1!N22","v":49768},null,49768,1]
[{"$f":"IF(INTRO!$E$34<>0,INTRO!$E$34,\"\")","v":"Tanzania"},"Dodoma","Chamwino District Council",390396.29977952002,50361,91641,248394.29977952002,99,0,3,2,{"$f":"IF(INTRO!$E$38=\"Endemic\", IF($H23>0, IF($H23=4,\"Unknown\", IF($H23=99,\"Stopped\", $D23)), 0),\"Not required\")","v":"Stopped"},{"$f":"IF(INTRO!$E$40=\"Endemic\", IF($I23>0, IF($I23=4,\"Unknown\",IF($I23=99,\"Stopped\", $D23)), 0),\"Not required\")","v":0},{"$f":"IF(INTRO!$E$42=\"Endemic\", IF(AND($J23>1,$J23<5), IF($J23=4, \"Unknown\", E23+F23), 0),\"Not required\")","v":142002},{"$f":"IF(INTRO!$E$44=\"Endemic\", IF(AND($K23>0,$K23<5), IF($K23=4,\"Unknown\", IF($K23=1, $F23*0.33, IF($K23=2, $F23*0.5+$G23*0.2, SUM(F23:G23)))), 0),\"Not required\")","v":95499.359955904016},0,0,1,0,null,"T3 (ALB/MBD)","T1","T3",46470,"Chamwino District Council",null,null,null,null,null,{"$f":"'MDA3'!Q23","v":0},{"$f":"'T1'!O23","v":0},{"$f":"T3_R1!N23","v":89473},null,89473,1]
[{"$f":"IF(INTRO!$E$34<>0,INTRO!$E$34,\"\")","v":"Tanzania"},"Dodoma","Chemba District Council",321967,41534,66078,214355,99,0,3,2,{"$f":"IF(INTRO!$E$38=\"Endemic\", IF($H24>0, IF($H24=4,\"Unknown\", IF($H24=99,\"Stopped\", $D24)), 0),\"Not required\")","v":"Stopped"},{"$f":"IF(INTRO!$E$40=\"Endemic\", IF($I24>0, IF($I24=4,\"Unknown\",IF($I24=99,\"Stopped\", $D24)), 0),\"Not required\")","v":0},{"$f":"IF(INTRO!$E$42=\"Endemic\", IF(AND($J24>1,$J24<5), IF($J24=4, \"Unknown\", E24+F24), 0),\"Not required\")","v":107612},{"$f":"IF(INTRO!$E$44=\"Endemic\", IF(AND($K24>0,$K24<5), IF($K24=4,\"Unknown\", IF($K24=1, $F24*0.33, IF($K24=2, $F24*0.5+$G24*0.2, SUM(F24:G24)))), 0),\"Not required\")","v":75910},0,0,1,0,null,"T3 (ALB/MBD)","T1","T3",46471,"Chemba District Council",null,null,null,null,null,{"$f":"'MDA3'!Q24","v":0},{"$f":"'T1'!O24","v":0},{"$f":"T3_R1!N24","v":60914},null,60914,1]
[{"$f":"IF(INTRO!$E$34<>0,INTRO!$E$34,\"\")","v":"Tanzania"},"Dodoma","Dodoma City Council",485370.70527920348,62613,121924,300833.70527920348,99,0,3,2,{"$f":"IF(INTRO!$E$38=\"Endemic\", IF($H25>0, IF($H25=4,\"Unknown\", IF($H25=99,\"Stopped\", $D25)), 0),\"Not required\")","v":"Stopped"},{"$f":"IF(INTRO!$E$40=\"Endemic\", IF($I25>0, IF($I25=4,\"Unknown\",IF($I25=99,\"Stopped\", $D25)), 0),\"Not required\")","v":0},{"$f":"IF(INTRO!$E$42=\"Endemic\", IF(AND($J25>1,$J25<5), IF($J25=4, \"Unknown\", E25+F25), 0),\"Not required\")","v":184537},{"$f":"IF(INTRO!$E$44=\"Endemic\", IF(AND($K25>0,$K25<5), IF($K25=4,\"Unknown\", IF($K25=1, $F25*0.33, IF($K25=2, $F25*0.5+$G25*0.2, SUM(F25:G25)))), 0),\"Not required\")","v":121128.7410558407},0,0,1,0,null,"T3 (ALB/MBD)","T1","T3",46472,"Dodoma Municipal Council",null,null,null,null,null,{"$f":"'MDA3'!Q25","v":0},{"$f":"'T1'!O25","v":0},{"$f":"T3_R1!N25","v":115379},null,115379,1]
[{"$f":"IF(INTRO!$E$34<>0,INTRO!$E$34,\"\")","v":"Tanzania"},"Dodoma","Kondoa District Council",248832.89073731867,32099,56620,160113.89073731867,99,0,3,2,{"$f":"IF(INTRO!$E$38=\"Endemic\", IF($H26>0, IF($H26=4,\"Unknown\", IF($H26=99,\"Stopped\", $D26)), 0),\"Not required\")","v":"Stopped"},{"$f":"IF(INTRO!$E$40=\"Endemic\", IF($I26>0, IF($I26=4,\"Unknown\",IF($I26=99,\"Stopped\", $D26)), 0),\"Not required\")","v":0},{"$f":"IF(INTRO!$E$42=\"Endemic\", IF(AND($J26>1,$J26<5), IF($J26=4, \"Unknown\", E26+F26), 0),\"Not required\")","v":88719},{"$f":"IF(INTRO!$E$44=\"Endemic\", IF(AND($K26>0,$K26<5), IF($K26=4,\"Unknown\", IF($K26=1, $F26*0.33, IF($K26=2, $F26*0.5+$G26*0.2, SUM(F26:G26)))), 0),\"Not required\")","v":60332.77814746373},0,0,1,0,null,"T3 (ALB/MBD)","T1","T3",46473,"Kondoa District Council",null,null,null,null,null,{"$f":"'MDA3'!Q26","v":0},{"$f":"'T1'!O26","v":0},{"$f":"T3_R1!N26","v":53655},null,53655,1]
[{"$f":"IF(INTRO!$E$34<>0,INTRO!$E$34,\"\")","v":"Tanzania"},"Dodoma","Kondoa Town Council ",69708.392383380007,8992,17486,43230.392383380007,99,0,3,2,{"$f":"IF(INTRO!$E$38=\"Endemic\", IF($H27>0, IF($H27=4,\"Unknown\", IF($H27=99,\"Stopped\", $D27)), 0),\"Not required\")","v":"Stopped"},{"$f":"IF(INTRO!$E$40=\"Endemic\", IF($I27>0, IF($I27=4,\"Unknown\",IF($I27=99,\"Stopped\", $D27)), 0),\"Not required\")","v":0},{"$f":"IF(INTRO!$E$42=\"Endemic\", IF(AND($J27>1,$J27<5), IF($J27=4, \"Unknown\", E27+F27), 0),\"Not required\")","v":26478},{"$f":"IF(INTRO!$E$44=\"Endemic\", IF(AND($K27>0,$K27<5), IF($K27=4,\"Unknown\", IF($K27=1, $F27*0.33, IF($K27=2, $F27*0.5+$G27*0.2, SUM(F27:G27)))), 0),\"Not required\")","v":17389.078476676004},0,0,1,0,null,"T3 (ALB/MBD)","T1","T3",46626,"Kondoa Town Council ",null,null,null,null,null,{"$f":"'MDA3'!Q27","v":0},{"$f":"'T1'!O27","v":0},{"$f":"T3_R1!N27","v":16630},null,16630,1]
[{"$f":"IF(INTRO!$E$34<>0,INTRO!$E$34,\"\")","v":"Tanzania"},"Dodoma","Kongwa District Council",366102.72587382939,47227,92776,226099.72587382939,99,0,3,2,{"$f":"IF(INTRO!$E$38=\"Endemic\", IF($H28>0, IF($H28=4,\"Unknown\", IF($H28=99,\"Stopped\", $D28)), 0),\"Not required\")","v":"Stopped"},{"$f":"IF(INTRO!$E$40=\"Endemic\", IF($I28>0, IF($I28=4,\"Unknown\",IF($I28=99,\"Stopped\", $D28)), 0),\"Not required\")","v":0},{"$f":"IF(INTRO!$E$42=\"Endemic\", IF(AND($J28>1,$J28<5), IF($J28=4, \"Unknown\", E28+F28), 0),\"Not required\")","v":140003},{"$f":"IF(INTRO!$E$44=\"Endemic\", IF(AND($K28>0,$K28<5), IF($K28=4,\"Unknown\", IF($K28=1, $F28*0.33, IF($K28=2, $F28*0.5+$G28*0.2, SUM(F28:G28)))), 0),\"Not required\")","v":91607.94517476589},0,0,1,0,null,"T3 (ALB/MBD)","T1","T3",46474,"Kongwa District Council",null,null,null,null,null,{"$f":"'MDA3'!Q28","v":0},{"$f":"'T1'!O28","v":0},{"$f":"T3_R1!N28","v":81220},null,81220,1]
[{"$f":"IF(INTRO!$E$34<>0,INTRO!$E$34,\"\")","v":"Tanzania"},"Dodoma","Mpwapwa District Council",360295.24009323819,46478,83343,230474.24009323819,99,0,3,2,{"$f":"IF(INTRO!$E$38=\"Endemic\", IF($H29>0, IF($H29=4,\"Unknown\", IF($H29=99,\"Stopped\", $D29)), 0),\"Not required\")","v":"Stopped"},{"$f":"IF(INTRO!$E$40=\"Endemic\", IF($I29>0, IF($I29=4,\"Unknown\",IF($I29=99,\"Stopped\", $D29)), 0),\"Not required\")","v":0},{"$f":"IF(INTRO!$E$42=\"Endemic\", IF(AND($J29>1,$J29<5), IF($J29=4, \"Unknown\", E29+F29), 0),\"Not required\")","v":129821},{"$f":"IF(INTRO!$E$44=\"Endemic\", IF(AND($K29>0,$K29<5), IF($K29=4,\"Unknown\", IF($K29=1, $F29*0.33, IF($K29=2, $F29*0.5+$G29*0.2, SUM(F29:G29)))), 0),\"Not required\")","v":87766.348018647637},0,0,1,0,null,"T3 (ALB/MBD)","T1","T3",46475,"Mpwapwa District Council",null,null,null,null,null,{"$f":"'MDA3'!Q29","v":0},{"$f":"'T1'!O29","v":0},{"$f":"T3_R1!N29","v":77282},null,77282,1]
[{"$f":"IF(INTRO!$E$34<>0,INTRO!$E$34,\"\")","v":"Tanzania"},"Geita","Bukombe District Council",276549.0460752548,35675,97625,143249.0460752548,0,0,3,2,{"$f":"IF(INTRO!$E$38=\"Endemic\", IF($H30>0, IF($H30=4,\"Unknown\", IF($H30=99,\"Stopped\", $D30)), 0),\"Not required\")","v":0},{"$f":"IF(INTRO!$E$40=\"Endemic\", IF($I30>0, IF($I30=4,\"Unknown\",IF($I30=99,\"Stopped\", $D30)), 0),\"Not required\")","v":0},{"$f":"IF(INTRO!$E$42=\"Endemic\", IF(AND($J30>1,$J30<5), IF($J30=4, \"Unknown\", E30+F30), 0),\"Not required\")","v":133300},{"$f":"IF(INTRO!$E$44=\"Endemic\", IF(AND($K30>0,$K30<5), IF($K30=4,\"Unknown\", IF($K30=1, $F30*0.33, IF($K30=2, $F30*0.5+$G30*0.2, SUM(F30:G30)))), 0),\"Not required\")","v":77462.309215050962},0,0,1,0,null,"T3 (ALB/MBD)","T1","T3",46476,"Bukombe District Council",null,null,null,null,null,{"$f":"'MDA3'!Q30","v":0},{"$f":"'T1'!O30","v":0},{"$f":"T3_R1!N30","v":96258},null,96258,1]
[{"$f":"IF(INTRO!$E$34<>0,INTRO!$E$34,\"\")","v":"Tanzania"},"Geita","Chato District Council",449696.82578194031,58011,148511,243174.82578194031,0,0,3,2,{"$f":"IF(INTRO!$E$38=\"Endemic\", IF($H31>0, IF($H31=4,\"Unknown\", IF($H31=99,\"Stopped\", $D31)), 0),\"Not required\")","v":0},{"$f":"IF(INTRO!$E$40=\"Endemic\", IF($I31>0, IF($I31=4,\"Unknown\",IF($I31=99,\"Stopped\", $D31)), 0),\"Not required\")","v":0},{"$f":"IF(INTRO!$E$42=\"Endemic\", IF(AND($J31>1,$J31<5), IF($J31=4, \"Unknown\", E31+F31), 0),\"Not required\")","v":206522},{"$f":"IF(INTRO!$E$44=\"Endemic\", IF(AND($K31>0,$K31<5), IF($K31=4,\"Unknown\", IF($K31=1, $F31*0.33, IF($K31=2, $F31*0.5+$G31*0.2, SUM(F31:G31)))), 0),\"Not required\")","v":122890.46515638806},0,0,1,0,null,"T3 (ALB/MBD)","T1","T3",46477,"Chato District Council",null,null,null,null,null,{"$f":"'MDA3'!Q31","v":0},{"$f":"'T1'!O31","v":0},{"$f":"T3_R1!N31","v":146445},null,146445,1]
[{"$f":"IF(INTRO!$E$34<>0,INTRO!$E$34,\"\")","v":"Tanzania"},"Geita","Geita District Council",757338.27577379427,97697,257105,402536.27577379427,0,0,3,2,{"$f":"IF(INTRO!$E$38=\"Endemic\", IF($H32>0, IF($H32=4,\"Unknown\", IF($H32=99,\"Stopped\", $D32)), 0),\"Not required\")","v":0},{"$f":"IF(INTRO!$E$40=\"Endemic\", IF($I32>0, IF($I32=4,\"Unknown\",IF($I32=99,\"Stopped\", $D32)), 0),\"Not required\")","v":0},{"$f":"IF(INTRO!$E$42=\"Endemic\", IF(AND($J32>1,$J32<5), IF($J32=4, \"Unknown\", E32+F32), 0),\"Not required\")","v":354802},{"$f":"IF(INTRO!$E$44=\"Endemic\", IF(AND($K32>0,$K32<5), IF($K32=4,\"Unknown\", IF($K32=1, $F32*0.33, IF($K32=2, $F32*0.5+$G32*0.2, SUM(F32:G32)))), 0),\"Not required\")","v":209059.75515475887},0,0,1,0,null,"T3 (ALB/MBD)","T1","T3",46478,"Geita District Council",null,null,null,null,null,{"$f":"'MDA3'!Q32","v":0},{"$f":"'T1'!O32","v":0},{"$f":"T3_R1!N32","v":244257},null,244257,1]
[{"$f":"IF(INTRO!$E$34<>0,INTRO!$E$34,\"\")","v":"Tanzania"},"Geita","Geita Town Council",237341.48255359152,30617,72200,134524.48255359152,0,0,3,2,{"$f":"IF(INTRO!$E$38=\"Endemic\", IF($H33>0, IF($H33=4,\"Unknown\", IF($H33=99,\"Stopped\", $D33)), 0),\"Not required\")","v":0},{"$f":"IF(INTRO!$E$40=\"Endemic\", IF($I33>0, IF($I33=4,\"Unknown\",IF($I33=99,\"Stopped\", $D33)), 0),\"Not required\")","v":0},{"$f":"IF(INTRO!$E$42=\"Endemic\", IF(AND($J33>1,$J33<5), IF($J33=4, \"Unknown\", E33+F33), 0),\"Not required\")","v":102817},{"$f":"IF(INTRO!$E$44=\"Endemic\", IF(AND($K33>0,$K33<5), IF($K33=4,\"Unknown\", IF($K33=1, $F33*0.33, IF($K33=2, $F33*0.5+$G33*0.2, SUM(F33:G33)))), 0),\"Not required\")","v":63004.896510718303},0,0,1,0,null,"T3 (ALB/MBD)","T1","T3",46627,"Geita Town Council",null,null,null,null,null,{"$f":"'MDA3'!Q33","v":0},{"$f":"'T1'!O33","v":0},{"$f":"T3_R1!N33","v":66255},null,66255,1]
[{"$f":"IF(INTRO!$E$34<>0,INTRO!$E$34,\"\")","v":"Tanzania"},"Geita","Mbogwe District Council",238837.24103212592,30810,83024,125003.24103212592,0,0,3,2,{"$f":"IF(INTRO!$E$38=\"Endemic\", IF($H34>0, IF($H34=4,\"Unknown\", IF($H34=99,\"Stopped\", $D34)), 0),\"Not required\")","v":0},{"$f":"IF(INTRO!$E$40=\"Endemic\", IF($I34>0, IF($I34=4,\"Unknown\",IF($I34=99,\"Stopped\", $D34)), 0),\"Not required\")","v":0},{"$f":"IF(INTRO!$E$42=\"Endemic\", IF(AND($J34>1,$J34<5), IF($J34=4, \"Unknown\", E34+F34), 0),\"Not required\")","v":113834},{"$f":"IF(INTRO!$E$44=\"Endemic\", IF(AND($K34>0,$K34<5), IF($K34=4,\"Unknown\", IF($K34=1, $F34*0.33, IF($K34=2, $F34*0.5+$G34*0.2, SUM(F34:G34)))), 0),\"Not required\")","v":66512.64820642519},0,0,1,0,null,"T3 (ALB/MBD)","T1","T3",46479,"Mbogwe District Council",null,null,null,null,null,{"$f":"'MDA3'!Q34","v":0},{"$f":"'T1'!O34","v":0},{"$f":"T3_R1!N34","v":74471},null,74471,1]
[{"$f":"IF(INTRO!$E$34<>0,INTRO!$E$34,\"\")","v":"Tanzania"},"Geita","Nyang'hwale District Council",182671.6643549315,23565,52576,106530.6643549315,0,0,3,2,{"$f":"IF(INTRO!$E$38=\"Endemic\", IF($H35>0, IF($H35=4,\"Unknown\", IF($H35=99,\"Stopped\", $D35)), 0),\"Not required\")","v":0},{"$f":"IF(INTRO!$E$40=\"Endemic\", IF($I35>0, IF($I35=4,\"Unknown\",IF($I35=99,\"Stopped\", $D35)), 0),\"Not required\")","v":0},{"$f":"IF(INTRO!$E$42=\"Endemic\", IF(AND($J35>1,$J35<5), IF($J35=4, \"Unknown\", E35+F35), 0),\"Not required\")","v":76141},{"$f":"IF(INTRO!$E$44=\"Endemic\", IF(AND($K35>0,$K35<5), IF($K35=4,\"Unknown\", IF($K35=1, $F35*0.33, IF($K35=2, $F35*0.5+$G35*0.2, SUM(F35:G35)))), 0),\"Not required\")","v":47594.132870986301},0,0,1,0,null,"T3 (ALB/MBD)","T1","T3",46480,"Nyang'hwale District Council",null,null,null,null,null,{"$f":"'MDA3'!Q35","v":0},{"$f":"'T1'!O35","v":0},{"$f":"T3_R1!N35","v":48206},null,48206,1]
[{"$f":"IF(INTRO!$E$34<>0,INTRO!$E$34,\"\")","v":"Tanzania"},"Iringa","Iringa District Council",277809.73355097359,35837,78650,163322.73355097359,99,0,3,2,{"$f":"IF(INTRO!$E$38=\"Endemic\", IF($H36>0, IF($H36=4,\"Unknown\", IF($H36=99,\"Stopped\", $D36)), 0),\"Not required\")","v":"Stopped"},{"$f":"IF(INTRO!$E$40=\"Endemic\", IF($I36>0, IF($I36=4,\"Unknown\",IF($I36=99,\"Stopped\", $D36)), 0),\"Not required\")","v":0},{"$f":"IF(INTRO!$E$42=\"Endemic\", IF(AND($J36>1,$J36<5), IF($J36=4, \"Unknown\", E36+F36), 0),\"Not required\")","v":114487},{"$f":"IF(INTRO!$E$44=\"Endemic\", IF(AND($K36>0,$K36<5), IF($K36=4,\"Unknown\", IF($K36=1, $F36*0.33, IF($K36=2, $F36*0.5+$G36*0.2, SUM(F36:G36)))), 0),\"Not required\")","v":71989.546710194714},0,0,1,1,null,"T1 (PZQ+ALB/MBD)","T1","T3",46481,"Iringa District Council",null,null,null,null,null,{"$f":"'MDA3'!Q36","v":0},{"$f":"'T1'!O36","v":74688},{"$f":"T3_R1!N36","v":0},null,74688,1]
[{"$f":"IF(INTRO!$E$34<>0,INTRO!$E$34,\"\")","v":"Tanzania"},"Iringa","Iringa Municipal Council",165510.54549103277,21351,35531,108628.54549103277,99,0,3,2,{"$f":"IF(INTRO!$E$38=\"Endemic\", IF($H37>0, IF($H37=4,\"Unknown\", IF($H37=99,\"Stopped\", $D37)), 0),\"Not required\")","v":"Stopped"},{"$f":"IF(INTRO!$E$40=\"Endemic\", IF($I37>0, IF($I37=4,\"Unknown\",IF($I37=99,\"Stopped\", $D37)), 0),\"Not required\")","v":0},{"$f":"IF(INTRO!$E$42=\"Endemic\", IF(AND($J37>1,$J37<5), IF($J37=4, \"Unknown\", E37+F37), 0),\"Not required\")","v":56882},{"$f":"IF(INTRO!$E$44=\"Endemic\", IF(AND($K37>0,$K37<5), IF($K37=4,\"Unknown\", IF($K37=1, $F37*0.33, IF($K37=2, $F37*0.5+$G37*0.2, SUM(F37:G37)))), 0),\"Not required\")","v":39491.209098206557},0,0,1,1,null,"T1 (PZQ+ALB/MBD)","T1","T3",46482,"Iringa Municipal Council",null,null,null,null,null,{"$f":"'MDA3'!Q37","v":0},{"$f":"'T1'!O37","v":34215},{"$f":"T3_R1!N37","v":0},null,34215,1]
[{"$f":"IF(INTRO!$E$34<>0,INTRO!$E$34,\"\")","v":"Tanzania"},"Iringa","Kilolo District Council",238548.93637787135,30773,46669,161106.93637787135,99,0,3,2,{"$f":"IF(INTRO!$E$38=\"Endemic\", IF($H38>0, IF($H38=4,\"Unknown\", IF($H38=99,\"Stopped\", $D38)), 0),\"Not required\")","v":"Stopped"},{"$f":"IF(INTRO!$E$40=\"Endemic\", IF($I38>0, IF($I38=4,\"Unknown\",IF($I38=99,\"Stopped\", $D38)), 0),\"Not required\")","v":0},{"$f":"IF(INTRO!$E$42=\"Endemic\", IF(AND($J38>1,$J38<5), IF($J38=4, \"Unknown\", E38+F38), 0),\"Not required\")","v":77442},{"$f":"IF(INTRO!$E$44=\"Endemic\", IF(AND($K38>0,$K38<5), IF($K38=4,\"Unknown\", IF($K38=1, $F38*0.33, IF($K38=2, $F38*0.5+$G38*0.2, SUM(F38:G38)))), 0),\"Not required\")","v":55555.88727557427},0,0,1,1,null,"T1 (PZQ+ALB/MBD)","T1","T3",46483,"Kilolo District Council",null,null,null,null,null,{"$f":"'MDA3'!Q38","v":0},{"$f":"'T1'!O38","v":44850},{"$f":"T3_R1!N38","v":0},null,44850,1]
[{"$f":"IF(INTRO!$E$34<>0,INTRO!$E$34,\"\")","v":"Tanzania"},"Iringa","Mafinga Town Council",78346.739359395215,10107,17301,50938.739359395215,99,0,3,2,{"$f":"IF(INTRO!$E$38=\"Endemic\", IF($H39>0, IF($H39=4,\"Unknown\", IF($H39=99,\"Stopped\", $D39)), 0),\"Not required\")","v":"Stopped"},{"$f":"IF(INTRO!$E$40=\"Endemic\", IF($I39>0, IF($I39=4,\"Unknown\",IF($I39=99,\"Stopped\", $D39)), 0),\"Not required\")","v":0},{"$f":"IF(INTRO!$E$42=\"Endemic\", IF(AND($J39>1,$J39<5), IF($J39=4, \"Unknown\", E39+F39), 0),\"Not required\")","v":27408},{"$f":"IF(INTRO!$E$44=\"Endemic\", IF(AND($K39>0,$K39<5), IF($K39=4,\"Unknown\", IF($K39=1, $F39*0.33, IF($K39=2, $F39*0.5+$G39*0.2, SUM(F39:G39)))), 0),\"Not required\")","v":18838.247871879044},0,0,1,1,null,"T1 (PZQ+ALB/MBD)","T1","T3",46484,"Mafinga Town Council",null,null,null,null,null,{"$f":"'MDA3'!Q39","v":0},{"$f":"'T1'!O39","v":16660},{"$f":"T3_R1!N39","v":0},null,16660,1]
[{"$f":"IF(INTRO!$E$34<>0,INTRO!$E$34,\"\")","v":"Tanzania"},"Iringa","Mufindi District Council",285004,36766,69722,178516,99,1,3,2,{"$f":"IF(INTRO!$E$38=\"Endemic\", IF($H40>0, IF($H40=4,\"Unknown\", IF($H40=99,\"Stopped\", $D40)), 0),\"Not required\")","v":"Stopped"},{"$f":"IF(INTRO!$E$40=\"Endemic\", IF($I40>0, IF($I40=4,\"Unknown\",IF($I40=99,\"Stopped\", $D40)), 0),\"Not required\")","v":285004},{"$f":"IF(INTRO!$E$42=\"Endemic\", IF(AND($J40>1,$J40<5), IF($J40=4, \"Unknown\", E40+F40), 0),\"Not required\")","v":106488},{"$f":"IF(INTRO!$E$44=\"Endemic\", IF(AND($K40>0,$K40<5), IF($K40=4,\"Unknown\", IF($K40=1, $F40*0.33, IF($K40=2, $F40*0.5+$G40*0.2, SUM(F40:G40)))), 0),\"Not required\")","v":70564.200000000012},0,1,1,1,null,"T1 (PZQ+ALB/MBD)","MDA 1","T1",46485,"Mufindi District Council",null,null,null,null,null,{"$f":"'MDA3'!Q40","v":0},{"$f":"'T1'!O40","v":67776},{"$f":"T3_R1!N40","v":0},null,67776,1]
[{"$f":"IF(INTRO!$E$34<>0,INTRO!$E$34,\"\")","v":"Tanzania"},"Kagera","Biharamulo District Council",416470.6082288209,53725,92572,270173.6082288209,0,0,3,2,{"$f":"IF(INTRO!$E$38=\"Endemic\", IF($H41>0, IF($H41=4,\"Unknown\", IF($H41=99,\"Stopped\", $D41)), 0),\"Not required\")","v":0},{"$f":"IF(INTRO!$E$40=\"Endemic\", IF($I41>0, IF($I41=4,\"Unknown\",IF($I41=99,\"Stopped\", $D41)), 0),\"Not required\")","v":0},{"$f":"IF(INTRO!$E$42=\"Endemic\", IF(AND($J41>1,$J41<5), IF($J41=4, \"Unknown\", E41+F41), 0),\"Not required\")","v":146297},{"$f":"IF(INTRO!$E$44=\"Endemic\", IF(AND($K41>0,$K41<5), IF($K41=4,\"Unknown\", IF($K41=1, $F41*0.33, IF($K41=2, $F41*0.5+$G41*0.2, SUM(F41:G41)))), 0),\"Not required\")","v":100320.72164576419},0,0,0,1,null,null,"T1","T3",46486,"Biharamulo District Council",null,null,null,null,null,{"$f":"'MDA3'!Q41","v":0},{"$f":"'T1'!O41","v":0},{"$f":"T3_R1!N41","v":0},null,0,0]
[{"$f":"IF(INTRO!$E$34<>0,INTRO!$E$34,\"\")","v":"Tanzania"},"Kagera","Bukoba District Council",372971.13840557495,48113,86385,238473.13840557495,0,0,3,2,{"$f":"IF(INTRO!$E$38=\"Endemic\", IF($H42>0, IF($H42=4,\"Unknown\", IF($H42=99,\"Stopped\", $D42)), 0),\"Not required\")","v":0},{"$f":"IF(INTRO!$E$40=\"Endemic\", IF($I42>0, IF($I42=4,\"Unknown\",IF($I42=99,\"Stopped\", $D42)), 0),\"Not required\")","v":0},{"$f":"IF(INTRO!$E$42=\"Endemic\", IF(AND($J42>1,$J42<5), IF($J42=4, \"Unknown\", E42+F42), 0),\"Not required\")","v":134498},{"$f":"IF(INTRO!$E$44=\"Endemic\", IF(AND($K42>0,$K42<5), IF($K42=4,\"Unknown\", IF($K42=1, $F42*0.33, IF($K42=2, $F42*0.5+$G42*0.2, SUM(F42:G42)))), 0),\"Not required\")","v":90887.127681115002},0,0,0,1,null,null,"T1","T3",46487,"Bukoba District Council",null,null,null,null,null,{"$f":"'MDA3'!Q42","v":0},{"$f":"'T1'!O42","v":0},{"$f":"T3_R1!N42","v":0},null,0,0]
[{"$f":"IF(INTRO!$E$34<>0,INTRO!$E$34,\"\")","v":"Tanzania"},"Kagera","Bukoba Municipal Council",165817.151486769,21390,30105,114322.151486769,0,0,3,2,{"$f":"IF(INTRO!$E$38=\"Endemic\", IF($H43>0, IF($H43=4,\"Unknown\", IF($H43=99,\"Stopped\", $D43)), 0),\"Not required\")","v":0},{"$f":"IF(INTRO!$E$40=\"Endemic\", IF($I43>0, IF($I43=4,\"Unknown\",IF($I43=99,\"Stopped\", $D43)), 0),\"Not required\")","v":0},{"$f":"IF(INTRO!$E$42=\"Endemic\", IF(AND($J43>1,$J43<5), IF($J43=4, \"Unknown\", E43+F43), 0),\"Not required\")","v":51495},{"$f":"IF(INTRO!$E$44=\"Endemic\", IF(AND($K43>0,$K43<5), IF($K43=4,\"Unknown\", IF($K43=1, $F43*0.33, IF($K43=2, $F43*0.5+$G43*0.2, SUM(F43:G43)))), 0),\"Not required\")","v":37916.9302973538},0,0,0,1,null,null,"T1","T3",46488,"Bukoba Municipal Council",null,null,null,null,null,{"$f":"'MDA3'!Q43","v":0},{"$f":"'T1'!O43","v":0},{"$f":"T3_R1!N43","v":0},null,0,0]
[{"$f":"IF(INTRO!$E$34<>0,INTRO!$E$34,\"\")","v":"Tanzania"},"Kagera","Karagwe District Council",427457.03456507472,55142,86898,285417.03456507472,0,0,3,2,{"$f":"IF(INTRO!$E$38=\"Endemic\", IF($H44>0, IF($H44=4,\"Unknown\", IF($H44=99,\"Stopped\", $D44)), 0),\"Not required\")","v":0},{"$f":"IF(INTRO!$E$40=\"Endemic\", IF($I44>0, IF($I44=4,\"Unknown\",IF($I44=99,\"Stopped\", $D44)), 0),\"Not required\")","v":0},{"$f":"IF(INTRO!$E$42=\"Endemic\", IF(AND($J44>1,$J44<5), IF($J44=4, \"Unknown\", E44+F44), 0),\"Not required\")","v":142040},{"$f":"IF(INTRO!$E$44=\"Endemic\", IF(AND($K44>0,$K44<5), IF($K44=4,\"Unknown\", IF($K44=1, $F44*0.33, IF($K44=2, $F44*0.5+$G44*0.2, SUM(F44:G44)))), 0),\"Not required\")","v":100532.40691301494},0,0,0,1,null,null,"T1","T3",46489,"Karagwe District Council",null,null,null,null,null,{"$f":"'MDA3'!Q44","v":0},{"$f":"'T1'!O44","v":0},{"$f":"T3_R1!N44","v":0},null,0,0]
[{"$f":"IF(INTRO!$E$34<>0,INTRO!$E$34,\"\")","v":"Tanzania"},"Kagera","Kyerwa District Council",413303.24862873985,53316,98370,261617.24862873985,0,0,3,2,{"$f":"IF(INTRO!$E$38=\"Endemic\", IF($H45>0, IF($H45=4,\"Unknown\", IF($H45=99,\"Stopped\", $D45)), 0),\"Not required\")","v":0},{"$f":"IF(INTRO!$E$40=\"Endemic\", IF($I45>0, IF($I45=4,\"Unknown\",IF($I45=99,\"Stopped\", $D45)), 0),\"Not required\")","v":0},{"$f":"IF(INTRO!$E$42=\"Endemic\", IF(AND($J45>1,$J45<5), IF($J45=4, \"Unknown\", E45+F45), 0),\"Not required\")","v":151686},{"$f":"IF(INTRO!$E$44=\"Endemic\", IF(AND($K45>0,$K45<5), IF($K45=4,\"Unknown\", IF($K45=1, $F45*0.33, IF($K45=2, $F45*0.5+$G45*0.2, SUM(F45:G45)))), 0),\"Not required\")","v":101508.44972574798},0,0,0,1,null,null,"T1","T3",46490,"Kyerwa District Council",null,null,null,null,null,{"$f":"'MDA3'!Q45","v":0},{"$f":"'T1'!O45","v":0},{"$f":"T3_R1!N45","v":0},null,0,0]
[{"$f":"IF(INTRO!$E$34<>0,INTRO!$E$34,\"\")","v":"Tanzania"},"Kagera","Missenyi District Council",260878.30783825673,33653,55521,171704.30783825673,0,0,3,2,{"$f":"IF(INTRO!$E$38=\"Endemic\", IF($H46>0, IF($H46=4,\"Unknown\", IF($H46=99,\"Stopped\", $D46)), 0),\"Not required\")","v":0},{"$f":"IF(INTRO!$E$40=\"Endemic\", IF($I46>0, IF($I46=4,\"Unknown\",IF($I46=99,\"Stopped\", $D46)), 0),\"Not required\")","v":0},{"$f":"IF(INTRO!$E$42=\"Endemic\", IF(AND($J46>1,$J46<5), IF($J46=4, \"Unknown\", E46+F46), 0),\"Not required\")","v":89174},{"$f":"IF(INTRO!$E$44=\"Endemic\", IF(AND($K46>0,$K46<5), IF($K46=4,\"Unknown\", IF($K46=1, $F46*0.33, IF($K46=2, $F46*0.5+$G46*0.2, SUM(F46:G46)))), 0),\"Not required\")","v":62101.361567651351},0,0,0,1,null,null,"T1","T3",46491,"Missenyi District Council",null,null,null,null,null,{"$f":"'MDA3'!Q46","v":0},{"$f":"'T1'!O46","v":0},{"$f":"T3_R1!N46","v":0},null,0,0]
[{"$f":"IF(INTRO!$E$34<>0,INTRO!$E$34,\"\")","v":"Tanzania"},"Kagera","Muleba District Council",695620.47581375134,89735,158457,447428.47581375134,0,0,3,2,{"$f":"IF(INTRO!$E$38=\"Endemic\", IF($H47>0, IF($H47=4,\"Unknown\", IF($H47=99,\"Stopped\", $D47)), 0),\"Not required\")","v":0},{"$f":"IF(INTRO!$E$40=\"Endemic\", IF($I47>0, IF($I47=4,\"Unknown\",IF($I47=99,\"Stopped\", $D47)), 0),\"Not required\")","v":0},{"$f":"IF(INTRO!$E$42=\"Endemic\", IF(AND($J47>1,$J47<5), IF($J47=4, \"Unknown\", E47+F47), 0),\"Not required\")","v":248192},{"$f":"IF(INTRO!$E$44=\"Endemic\", IF(AND($K47>0,$K47<5), IF($K47=4,\"Unknown\", IF($K47=1, $F47*0.33, IF($K47=2, $F47*0.5+$G47*0.2, SUM(F47:G47)))), 0),\"Not required\")","v":168714.19516275026},0,0,0,1,null,null,"T1","T3",46492,"Muleba District Council",null,null,null,null,null,{"$f":"'MDA3'!Q47","v":0},{"$f":"'T1'!O47","v":0},{"$f":"T3_R1!N47","v":0},null,0,0]
[{"$f":"IF(INTRO!$E$34<>0,INTRO!$E$34,\"\")","v":"Tanzania"},"Kagera","Ngara District Council",412055.85767598107,53155,89999,268901.85767598107,0,0,3,2,{"$f":"IF(INTRO!$E$38=\"Endemic\", IF($H48>0, IF($H48=4,\"Unknown\", IF($H48=99,\"Stopped\", $D48)), 0),\"Not required\")","v":0},{"$f":"IF(INTRO!$E$40=\"Endemic\", IF($I48>0, IF($I48=4,\"Unknown\",IF($I48=99,\"Stopped\", $D48)), 0),\"Not required\")","v":0},{"$f":"IF(INTRO!$E$42=\"Endemic\", IF(AND($J48>1,$J48<5), IF($J48=4, \"Unknown\", E48+F48), 0),\"Not required\")","v":143154},{"$f":"IF(INTRO!$E$44=\"Endemic\", IF(AND($K48>0,$K48<5), IF($K48=4,\"Unknown\", IF($K48=1, $F48*0.33, IF($K48=2, $F48*0.5+$G48*0.2, SUM(F48:G48)))), 0),\"Not required\")","v":98779.871535196216},0,0,0,1,null,null,"T1","T3",46493,"Ngara District Council",null,null,null,null,null,{"$f":"'MDA3'!Q48","v":0},{"$f":"'T1'!O48","v":0},{"$f":"T3_R1!N48","v":0},null,0,0]
[{"$f":"IF(INTRO!$E$34<>0,INTRO!$E$34,\"\")","v":"Tanzania"},"Katavi","Mlele District Council",55886.932702489576,7209,15075,33602.932702489576,99,0,3,2,{"$f":"IF(INTRO!$E$38=\"Endemic\", IF($H49>0, IF($H49=4,\"Unknown\", IF($H49=99,\"Stopped\", $D49)), 0),\"Not required\")","v":"Stopped"},{"$f":"IF(INTRO!$E$40=\"Endemic\", IF($I49>0, IF($I49=4,\"Unknown\",IF($I49=99,\"Stopped\", $D49)), 0),\"Not required\")","v":0},{"$f":"IF(INTRO!$E$42=\"Endemic\", IF(AND($J49>1,$J49<5), IF($J49=4, \"Unknown\", E49+F49), 0),\"Not required\")","v":22284},{"$f":"IF(INTRO!$E$44=\"Endemic\", IF(AND($K49>0,$K49<5), IF($K49=4,\"Unknown\", IF($K49=1, $F49*0.33, IF($K49=2, $F49*0.5+$G49*0.2, SUM(F49:G49)))), 0),\"Not required\")","v":14258.086540497916},0,0,1,0,null,"T3 (ALB/MBD)","T1","T3",46494,"Mlele District Council",null,null,null,null,null,{"$f":"'MDA3'!Q49","v":0},{"$f":"'T1'!O49","v":0},{"$f":"T3_R1!N49","v":14568},null,14568,1]
[{"$f":"IF(INTRO!$E$34<>0,INTRO!$E$34,\"\")","v":"Tanzania"},"Katavi","Mpanda District Council",231441.83991314116,29856,74108,127477.83991314116,99,0,3,2,{"$f":"IF(INTRO!$E$38=\"Endemic\", IF($H50>0, IF($H50=4,\"Unknown\", IF($H50=99,\"Stopped\", $D50)), 0),\"Not required\")","v":"Stopped"},{"$f":"IF(INTRO!$E$40=\"Endemic\", IF($I50>0, IF($I50=4,\"Unknown\",IF($I50=99,\"Stopped\", $D50)), 0),\"Not required\")","v":0},{"$f":"IF(INTRO!$E$42=\"Endemic\", IF(AND($J50>1,$J50<5), IF($J50=4, \"Unknown\", E50+F50), 0),\"Not required\")","v":103964},{"$f":"IF(INTRO!$E$44=\"Endemic\", IF(AND($K50>0,$K50<5), IF($K50=4,\"Unknown\", IF($K50=1, $F50*0.33, IF($K50=2, $F50*0.5+$G50*0.2, SUM(F50:G50)))), 0),\"Not required\")","v":62549.567982628228},0,0,1,0,null,"T3 (ALB/MBD)","T1","T3",46495,"Mpanda District Council",null,null,null,null,null,{"$f":"'MDA3'!Q50","v":0},{"$f":"'T1'!O50","v":0},{"$f":"T3_R1!N50","v":67438},null,67438,1]
[{"$f":"IF(INTRO!$E$34<>0,INTRO!$E$34,\"\")","v":"Tanzania"},"Katavi","Mpanda Municipal Council",142187.05266121871,18342,51634,72211.05266121871,99,0,3,2,{"$f":"IF(INTRO!$E$38=\"Endemic\", IF($H51>0, IF($H51=4,\"Unknown\", IF($H51=99,\"Stopped\", $D51)), 0),\"Not required\")","v":"Stopped"},{"$f":"IF(INTRO!$E$40=\"Endemic\", IF($I51>0, IF($I51=4,\"Unknown\",IF($I51=99,\"Stopped\", $D51)), 0),\"Not required\")","v":0},{"$f":"IF(INTRO!$E$42=\"Endemic\", IF(AND($J51>1,$J51<5), IF($J51=4, \"Unknown\", E51+F51), 0),\"Not required\")","v":69976},{"$f":"IF(INTRO!$E$44=\"Endemic\", IF(AND($K51>0,$K51<5), IF($K51=4,\"Unknown\", IF($K51=1, $F51*0.33, IF($K51=2, $F51*0.5+$G51*0.2, SUM(F51:G51)))), 0),\"Not required\")","v":40259.210532243742},0,0,1,0,null,"T3 (ALB/MBD)","T1","T3",46496,"Mpanda Municipal Council",null,null,null,null,null,{"$f":"'MDA3'!Q51","v":0},{"$f":"'T1'!O51","v":0},{"$f":"T3_R1!N51","v":49258},null,49258,1]
[{"$f":"IF(INTRO!$E$34<>0,INTRO!$E$34,\"\")","v":"Tanzania"},"Katavi","Mpimbwe District Council",133882.31500518689,17271,31370,85241.315005186887,99,0,3,2,{"$f":"IF(INTRO!$E$38=\"Endemic\", IF($H52>0, IF($H52=4,\"Unknown\", IF($H52=99,\"Stopped\", $D52)), 0),\"Not required\")","v":"Stopped"},{"$f":"IF(INTRO!$E$40=\"Endemic\", IF($I52>0, IF($I52=4,\"Unknown\",IF($I52=99,\"Stopped\", $D52)), 0),\"Not required\")","v":0},{"$f":"IF(INTRO!$E$42=\"Endemic\", IF(AND($J52>1,$J52<5), IF($J52=4, \"Unknown\", E52+F52), 0),\"Not required\")","v":48641},{"$f":"IF(INTRO!$E$44=\"Endemic\", IF(AND($K52>0,$K52<5), IF($K52=4,\"Unknown\", IF($K52=1, $F52*0.33, IF($K52=2, $F52*0.5+$G52*0.2, SUM(F52:G52)))), 0),\"Not required\")","v":32733.26300103738},0,0,1,0,null,"T3 (ALB/MBD)","T1","T3",46628,"Mpimbwe District Council",null,null,null,null,null,{"$f":"'MDA3'!Q52","v":0},{"$f":"'T1'!O52","v":0},{"$f":"T3_R1!N52","v":29653},null,29653,1]
[{"$f":"IF(INTRO!$E$34<>0,INTRO!$E$34,\"\")","v":"Tanzania"},"Katavi","Nsimbo District Council",166063.67675221444,21422,38218,106423.67675221444,99,0,3,2,{"$f":"IF(INTRO!$E$38=\"Endemic\", IF($H53>0, IF($H53=4,\"Unknown\", IF($H53=99,\"Stopped\", $D53)), 0),\"Not required\")","v":"Stopped"},{"$f":"IF(INTRO!$E$40=\"Endemic\", IF($I53>0, IF($I53=4,\"Unknown\",IF($I53=99,\"Stopped\", $D53)), 0),\"Not required\")","v":0},{"$f":"IF(INTRO!$E$42=\"Endemic\", IF(AND($J53>1,$J53<5), IF($J53=4, \"Unknown\", E53+F53), 0),\"Not required\")","v":59640},{"$f":"IF(INTRO!$E$44=\"Endemic\", IF(AND($K53>0,$K53<5), IF($K53=4,\"Unknown\", IF($K53=1, $F53*0.33, IF($K53=2, $F53*0.5+$G53*0.2, SUM(F53:G53)))), 0),\"Not required\")","v":40393.73535044289},0,0,1,0,null,"T3 (ALB/MBD)","T1","T3",46497,"Nsimbo District Council",null,null,null,null,null,{"$f":"'MDA3'!Q53","v":0},{"$f":"'T1'!O53","v":0},{"$f":"T3_R1!N53","v":36163},null,36163,1]
[{"$f":"IF(INTRO!$E$34<>0,INTRO!$E$34,\"\")","v":"Tanzania"},"Kigoma","Buhigwe District Council",315174.67151289218,40658,62549,211967.67151289218,0,0,3,2,{"$f":"IF(INTRO!$E$38=\"Endemic\", IF($H54>0, IF($H54=4,\"Unknown\", IF($H54=99,\"Stopped\", $D54)), 0),\"Not required\")","v":0},{"$f":"IF(INTRO!$E$40=\"Endemic\", IF($I54>0, IF($I54=4,\"Unknown\",IF($I54=99,\"Stopped\", $D54)), 0),\"Not required\")","v":0},{"$f":"IF(INTRO!$E$42=\"Endemic\", IF(AND($J54>1,$J54<5), IF($J54=4, \"Unknown\", E54+F54), 0),\"Not required\")","v":103207},{"$f":"IF(INTRO!$E$44=\"Endemic\", IF(AND($K54>0,$K54<5), IF($K54=4,\"Unknown\", IF($K54=1, $F54*0.33, IF($K54=2, $F54*0.5+$G54*0.2, SUM(F54:G54)))), 0),\"Not required\")","v":73668.034302578439},0,0,0,1,null,null,"T1","T3",46498,"Buhigwe District Council",null,null,null,null,null,{"$f":"'MDA3'!Q54","v":0},{"$f":"'T1'!O54","v":0},{"$f":"T3_R1!N54","v":0},null,0,0]
[{"$f":"IF(INTRO!$E$34<>0,INTRO!$E$34,\"\")","v":"Tanzania"},"Kigoma","Kakonko District Council",207631.31831266033,26784,43172,137675.31831266033,0,0,3,2,{"$f":"IF(INTRO!$E$38=\"Endemic\", IF($H55>0, IF($H55=4,\"Unknown\", IF($H55=99,\"Stopped\", $D55)), 0),\"Not required\")","v":0},{"$f":"IF(INTRO!$E$40=\"Endemic\", IF($I55>0, IF($I55=4,\"Unknown\",IF($I55=99,\"Stopped\", $D55)), 0),\"Not required\")","v":0},{"$f":"IF(INTRO!$E$42=\"Endemic\", IF(AND($J55>1,$J55<5), IF($J55=4, \"Unknown\", E55+F55), 0),\"Not required\")","v":69956},{"$f":"IF(INTRO!$E$44=\"Endemic\", IF(AND($K55>0,$K55<5), IF($K55=4,\"Unknown\", IF($K55=1, $F55*0.33, IF($K55=2, $F55*0.5+$G55*0.2, SUM(F55:G55)))), 0),\"Not required\")","v":49121.063662532062},0,0,0,1,null,null,"T1","T3",46499,"Kakonko District Council",null,null,null,null,null,{"$f":"'MDA3'!Q55","v":0},{"$f":"'T1'!O55","v":0},{"$f":"T3_R1!N55","v":0},null,0,0]
[{"$f":"IF(INTRO!$E$34<>0,INTRO!$E$34,\"\")","v":"Tanzania"},"Kigoma","Kasulu District Council",527633.34362426901,68065,110434,349134.34362426901,0,0,3,2,{"$f":"IF(INTRO!$E$38=\"Endemic\", IF($H56>0, IF($H56=4,\"Unknown\", IF($H56=99,\"Stopped\", $D56)), 0),\"Not required\")","v":0},{"$f":"IF(INTRO!$E$40=\"Endemic\", IF($I56>0, IF($I56=4,\"Unknown\",IF($I56=99,\"Stopped\", $D56)), 0),\"Not required\")","v":0},{"$f":"IF(INTRO!$E$42=\"Endemic\", IF(AND($J56>1,$J56<5), IF($J56=4, \"Unknown\", E56+F56), 0),\"Not required\")","v":178499},{"$f":"IF(INTRO!$E$44=\"Endemic\", IF(AND($K56>0,$K56<5), IF($K56=4,\"Unknown\", IF($K56=1, $F56*0.33, IF($K56=2, $F56*0.5+$G56*0.2, SUM(F56:G56)))), 0),\"Not required\")","v":125043.8687248538},0,0,0,1,null,null,"T1","T3",46500,"Kasulu District Council",null,null,null,null,null,{"$f":"'MDA3'!Q56","v":0},{"$f":"'T1'!O56","v":0},{"$f":"T3_R1!N56","v":0},null,0,0]
[{"$f":"IF(INTRO!$E$34<>0,INTRO!$E$34,\"\")","v":"Tanzania"},"Kigoma","Kasulu Town Council",258050.21339738104,33288,51579,173183.21339738104,0,0,3,2,{"$f":"IF(INTRO!$E$38=\"Endemic\", IF($H57>0, IF($H57=4,\"Unknown\", IF($H57=99,\"Stopped\", $D57)), 0),\"Not required\")","v":0},{"$f":"IF(INTRO!$E$40=\"Endemic\", IF($I57>0, IF($I57=4,\"Unknown\",IF($I57=99,\"Stopped\", $D57)), 0),\"Not required\")","v":0},{"$f":"IF(INTRO!$E$42=\"Endemic\", IF(AND($J57>1,$J57<5), IF($J57=4, \"Unknown\", E57+F57), 0),\"Not required\")","v":84867},{"$f":"IF(INTRO!$E$44=\"Endemic\", IF(AND($K57>0,$K57<5), IF($K57=4,\"Unknown\", IF($K57=1, $F57*0.33, IF($K57=2, $F57*0.5+$G57*0.2, SUM(F57:G57)))), 0),\"Not required\")","v":60426.142679476208},0,0,0,1,null,null,"T1","T3",46501,"Kasulu Town Council",null,null,null,null,null,{"$f":"'MDA3'!Q57","v":0},{"$f":"'T1'!O57","v":0},{"$f":"T3_R1!N57","v":0},null,0,0]
[{"$f":"IF(INTRO!$E$34<>0,INTRO!$E$34,\"\")","v":"Tanzania"},"Kigoma","Kibondo District Council",323835.11166712176,41775,66303,215757.11166712176,0,0,3,2,{"$f":"IF(INTRO!$E$38=\"Endemic\", IF($H58>0, IF($H58=4,\"Unknown\", IF($H58=99,\"Stopped\", $D58)), 0),\"Not required\")","v":0},{"$f":"IF(INTRO!$E$40=\"Endemic\", IF($I58>0, IF($I58=4,\"Unknown\",IF($I58=99,\"Stopped\", $D58)), 0),\"Not required\")","v":0},{"$f":"IF(INTRO!$E$42=\"Endemic\", IF(AND($J58>1,$J58<5), IF($J58=4, \"Unknown\", E58+F58), 0),\"Not required\")","v":108078},{"$f":"IF(INTRO!$E$44=\"Endemic\", IF(AND($K58>0,$K58<5), IF($K58=4,\"Unknown\", IF($K58=1, $F58*0.33, IF($K58=2, $F58*0.5+$G58*0.2, SUM(F58:G58)))), 0),\"Not required\")","v":76302.922333424358},0,0,0,1,null,null,"T1","T3",46502,"Kibondo District Council",null,null,null,null,null,{"$f":"'MDA3'!Q58","v":0},{"$f":"'T1'!O58","v":0},{"$f":"T3_R1!N58","v":0},null,0,0]
[{"$f":"IF(INTRO!$E$34<>0,INTRO!$E$34,\"\")","v":"Tanzania"},"Kigoma","Kigoma District Council",262168.39186814474,33820,52925,175423.39186814474,0,0,3,2,{"$f":"IF(INTRO!$E$38=\"Endemic\", IF($H59>0, IF($H59=4,\"Unknown\", IF($H59=99,\"Stopped\", $D59)), 0),\"Not required\")","v":0},{"$f":"IF(INTRO!$E$40=\"Endemic\", IF($I59>0, IF($I59=4,\"Unknown\",IF($I59=99,\"Stopped\", $D59)), 0),\"Not required\")","v":0},{"$f":"IF(INTRO!$E$42=\"Endemic\", IF(AND($J59>1,$J59<5), IF($J59=4, \"Unknown\", E59+F59), 0),\"Not required\")","v":86745},{"$f":"IF(INTRO!$E$44=\"Endemic\", IF(AND($K59>0,$K59<5), IF($K59=4,\"Unknown\", IF($K59=1, $F59*0.33, IF($K59=2, $F59*0.5+$G59*0.2, SUM(F59:G59)))), 0),\"Not required\")","v":61547.178373628951},0,0,0,1,null,null,"T1","T3",46504,"Kigoma District Council",null,null,null,null,null,{"$f":"'MDA3'!Q59","v":0},{"$f":"'T1'!O59","v":0},{"$f":"T3_R1!N59","v":0},null,0,0]
[{"$f":"IF(INTRO!$E$34<>0,INTRO!$E$34,\"\")","v":"Tanzania"},"Kigoma","Kigoma-Ujiji Municipal Council",266990.81770181225,34442,50225,182323.81770181225,0,0,3,2,{"$f":"IF(INTRO!$E$38=\"Endemic\", IF($H60>0, IF($H60=4,\"Unknown\", IF($H60=99,\"Stopped\", $D60)), 0),\"Not required\")","v":0},{"$f":"IF(INTRO!$E$40=\"Endemic\", IF($I60>0, IF($I60=4,\"Unknown\",IF($I60=99,\"Stopped\", $D60)), 0),\"Not required\")","v":0},{"$f":"IF(INTRO!$E$42=\"Endemic\", IF(AND($J60>1,$J60<5), IF($J60=4, \"Unknown\", E60+F60), 0),\"Not required\")","v":84667},{"$f":"IF(INTRO!$E$44=\"Endemic\", IF(AND($K60>0,$K60<5), IF($K60=4,\"Unknown\", IF($K60=1, $F60*0.33, IF($K60=2, $F60*0.5+$G60*0.2, SUM(F60:G60)))), 0),\"Not required\")","v":61577.263540362452},0,0,0,1,null,null,"T1","T3",46503,"Kigoma-Ujiji Municipal Council",null,null,null,null,null,{"$f":"'MDA3'!Q60","v":0},{"$f":"'T1'!O60","v":0},{"$f":"T3_R1!N60","v":0},null,0,0]
[{"$f":"IF(INTRO!$E$34<>0,INTRO!$E$34,\"\")","v":"Tanzania"},"Kigoma","Uvinza District Council",475396.49851364247,61326,93843,320227.49851364247,0,0,3,2,{"$f":"IF(INTRO!$E$38=\"Endemic\", IF($H61>0, IF($H61=4,\"Unknown\", IF($H61=99,\"Stopped\", $D61)), 0),\"Not required\")","v":0},{"$f":"IF(INTRO!$E$40=\"Endemic\", IF($I61>0, IF($I61=4,\"Unknown\",IF($I61=99,\"Stopped\", $D61)), 0),\"Not required\")","v":0},{"$f":"IF(INTRO!$E$42=\"Endemic\", IF(AND($J61>1,$J61<5), IF($J61=4, \"Unknown\", E61+F61), 0),\"Not required\")","v":155169},{"$f":"IF(INTRO!$E$44=\"Endemic\", IF(AND($K61>0,$K61<5), IF($K61=4,\"Unknown\", IF($K61=1, $F61*0.33, IF($K61=2, $F61*0.5+$G61*0.2, SUM(F61:G61)))), 0),\"Not required\")","v":110966.9997027285},0,0,0,1,null,null,"T1","T3",46505,"Uvinza District Council",null,null,null,null,null,{"$f":"'MDA3'!Q61","v":0},{"$f":"'T1'!O61","v":0},{"$f":"T3_R1!N61","v":0},null,0,0]
[{"$f":"IF(INTRO!$E$34<>0,INTRO!$E$34,\"\")","v":"Tanzania"},"Kilimanjaro","Hai District Council",242423.07933583291,31273,42159,168991.07933583291,0,0,3,2,{"$f":"IF(INTRO!$E$38=\"Endemic\", IF($H62>0, IF($H62=4,\"Unknown\", IF($H62=99,\"Stopped\", $D62)), 0),\"Not required\")","v":0},{"$f":"IF(INTRO!$E$40=\"Endemic\", IF($I62>0, IF($I62=4,\"Unknown\",IF($I62=99,\"Stopped\", $D62)), 0),\"Not required\")","v":0},{"$f":"IF(INTRO!$E$42=\"Endemic\", IF(AND($J62>1,$J62<5), IF($J62=4, \"Unknown\", E62+F62), 0),\"Not required\")","v":73432},{"$f":"IF(INTRO!$E$44=\"Endemic\", IF(AND($K62>0,$K62<5), IF($K62=4,\"Unknown\", IF($K62=1, $F62*0.33, IF($K62=2, $F62*0.5+$G62*0.2, SUM(F62:G62)))), 0),\"Not required\")","v":54877.715867166582},0,0,1,0,null,"T3 (ALB/MBD)","T1","T3",46506,"Hai District Council",null,null,null,null,null,{"$f":"'MDA3'!Q62","v":0},{"$f":"'T1'!O62","v":0},{"$f":"T3_R1!N62","v":41912},null,41912,1]
[{"$f":"IF(INTRO!$E$34<>0,INTRO!$E$34,\"\")","v":"Tanzania"},"Kilimanjaro","Moshi District Council",537440.32902477239,69330,84147,383963.32902477239,0,0,3,2,{"$f":"IF(INTRO!$E$38=\"Endemic\", IF($H63>0, IF($H63=4,\"Unknown\", IF($H63=99,\"Stopped\", $D63)), 0),\"Not required\")","v":0},{"$f":"IF(INTRO!$E$40=\"Endemic\", IF($I63>0, IF($I63=4,\"Unknown\",IF($I63=99,\"Stopped\", $D63)), 0),\"Not required\")","v":0},{"$f":"IF(INTRO!$E$42=\"Endemic\", IF(AND($J63>1,$J63<5), IF($J63=4, \"Unknown\", E63+F63), 0),\"Not required\")","v":153477},{"$f":"IF(INTRO!$E$44=\"Endemic\", IF(AND($K63>0,$K63<5), IF($K63=4,\"Unknown\", IF($K63=1, $F63*0.33, IF($K63=2, $F63*0.5+$G63*0.2, SUM(F63:G63)))), 0),\"Not required\")","v":118866.16580495448},0,0,1,0,null,"T3 (ALB/MBD)","T1","T3",46507,"Moshi District Council",null,null,null,null,null,{"$f":"'MDA3'!Q63","v":0},{"$f":"'T1'!O63","v":0},{"$f":"T3_R1!N63","v":82412},null,82412,1]
[{"$f":"IF(INTRO!$E$34<>0,INTRO!$E$34,\"\")","v":"Tanzania"},"Kilimanjaro","Moshi Municipal Council",212209.20879784477,27375,33731,151103.20879784477,0,0,3,2,{"$f":"IF(INTRO!$E$38=\"Endemic\", IF($H64>0, IF($H64=4,\"Unknown\", IF($H64=99,\"Stopped\", $D64)), 0),\"Not required\")","v":0},{"$f":"IF(INTRO!$E$40=\"Endemic\", IF($I64>0, IF($I64=4,\"Unknown\",IF($I64=99,\"Stopped\", $D64)), 0),\"Not required\")","v":0},{"$f":"IF(INTRO!$E$42=\"Endemic\", IF(AND($J64>1,$J64<5), IF($J64=4, \"Unknown\", E64+F64), 0),\"Not required\")","v":61106},{"$f":"IF(INTRO!$E$44=\"Endemic\", IF(AND($K64>0,$K64<5), IF($K64=4,\"Unknown\", IF($K64=1, $F64*0.33, IF($K64=2, $F64*0.5+$G64*0.2, SUM(F64:G64)))), 0),\"Not required\")","v":47086.141759568956},0,0,1,0,null,"T3 (ALB/MBD)","T1","T3",46508,"Moshi Municipal Council",null,null,null,null,null,{"$f":"'MDA3'!Q64","v":0},{"$f":"'T1'!O64","v":0},{"$f":"T3_R1!N64","v":32985},null,32985,1]
[{"$f":"IF(INTRO!$E$34<>0,INTRO!$E$34,\"\")","v":"Tanzania"},"Kilimanjaro","Mwanga District Council",151352.83893770698,19525,29935,101892.83893770698,0,0,3,2,{"$f":"IF(INTRO!$E$38=\"Endemic\", IF($H65>0, IF($H65=4,\"Unknown\", IF($H65=99,\"Stopped\", $D65)), 0),\"Not required\")","v":0},{"$f":"IF(INTRO!$E$40=\"Endemic\", IF($I65>0, IF($I65=4,\"Unknown\",IF($I65=99,\"Stopped\", $D65)), 0),\"Not required\")","v":0},{"$f":"IF(INTRO!$E$42=\"Endemic\", IF(AND($J65>1,$J65<5), IF($J65=4, \"Unknown\", E65+F65), 0),\"Not required\")","v":49460},{"$f":"IF(INTRO!$E$44=\"Endemic\", IF(AND($K65>0,$K65<5), IF($K65=4,\"Unknown\", IF($K65=1, $F65*0.33, IF($K65=2, $F65*0.5+$G65*0.2, SUM(F65:G65)))), 0),\"Not required\")","v":35346.067787541397},0,0,1,0,null,"T3 (ALB/MBD)","T1","T3",46509,"Mwanga District Council",null,null,null,null,null,{"$f":"'MDA3'!Q65","v":0},{"$f":"'T1'!O65","v":0},{"$f":"T3_R1!N65","v":25899},null,25899,1]
[{"$f":"IF(INTRO!$E$34<>0,INTRO!$E$34,\"\")","v":"Tanzania"},"Kilimanjaro","Rombo District Council",300493.07001702627,38764,42872,218857.07001702627,0,0,3,2,{"$f":"IF(INTRO!$E$38=\"Endemic\", IF($H66>0, IF($H66=4,\"Unknown\", IF($H66=99,\"Stopped\", $D66)), 0),\"Not required\")","v":0},{"$f":"IF(INTRO!$E$40=\"Endemic\", IF($I66>0, IF($I66=4,\"Unknown\",IF($I66=99,\"Stopped\", $D66)), 0),\"Not required\")","v":0},{"$f":"IF(INTRO!$E$42=\"Endemic\", IF(AND($J66>1,$J66<5), IF($J66=4, \"Unknown\", E66+F66), 0),\"Not required\")","v":81636},{"$f":"IF(INTRO!$E$44=\"Endemic\", IF(AND($K66>0,$K66<5), IF($K66=4,\"Unknown\", IF($K66=1, $F66*0.33, IF($K66=2, $F66*0.5+$G66*0.2, SUM(F66:G66)))), 0),\"Not required\")","v":65207.414003405254},0,0,1,0,null,"T3 (ALB/MBD)","T1","T3",46510,"Rombo District Council",null,null,null,null,null,{"$f":"'MDA3'!Q66","v":0},{"$f":"'T1'!O66","v":0},{"$f":"T3_R1!N66","v":42835},null,42835,1]
[{"$f":"IF(INTRO!$E$34<>0,INTRO!$E$34,\"\")","v":"Tanzania"},"Kilimanjaro","Same District Council",310679.83184574277,40078,63787,206814.83184574277,0,0,3,2,{"$f":"IF(INTRO!$E$38=\"Endemic\", IF($H67>0, IF($H67=4,\"Unknown\", IF($H67=99,\"Stopped\", $D67)), 0),\"Not required\")","v":0},{"$f":"IF(INTRO!$E$40=\"Endemic\", IF($I67>0, IF($I67=4,\"Unknown\",IF($I67=99,\"Stopped\", $D67)), 0),\"Not required\")","v":0},{"$f":"IF(INTRO!$E$42=\"Endemic\", IF(AND($J67>1,$J67<5), IF($J67=4, \"Unknown\", E67+F67), 0),\"Not required\")","v":103865},{"$f":"IF(INTRO!$E$44=\"Endemic\", IF(AND($K67>0,$K67<5), IF($K67=4,\"Unknown\", IF($K67=1, $F67*0.33, IF($K67=2, $F67*0.5+$G67*0.2, SUM(F67:G67)))), 0),\"Not required\")","v":73256.466369148548},0,0,1,0,null,"T3 (ALB/MBD)","T1","T3",46511,"Same District Council",null,null,null,null,null,{"$f":"'MDA3'!Q67","v":0},{"$f":"'T1'!O67","v":0},{"$f":"T3_R1!N67","v":57351},null,57351,1]
[{"$f":"IF(INTRO!$E$34<>0,INTRO!$E$34,\"\")","v":"Tanzania"},"Kilimanjaro","Siha District Council",133932.14645373967,17277,26010,90645.146453739668,0,0,3,2,{"$f":"IF(INTRO!$E$38=\"Endemic\", IF($H68>0, IF($H68=4,\"Unknown\", IF($H68=99,\"Stopped\", $D68)), 0),\"Not required\")","v":0},{"$f":"IF(INTRO!$E$40=\"Endemic\", IF($I68>0, IF($I68=4,\"Unknown\",IF($I68=99,\"Stopped\", $D68)), 0),\"Not required\")","v":0},{"$f":"IF(INTRO!$E$42=\"Endemic\", IF(AND($J68>1,$J68<5), IF($J68=4, \"Unknown\", E68+F68), 0),\"Not required\")","v":43287},{"$f":"IF(INTRO!$E$44=\"Endemic\", IF(AND($K68>0,$K68<5), IF($K68=4,\"Unknown\", IF($K68=1, $F68*0.33, IF($K68=2, $F68*0.5+$G68*0.2, SUM(F68:G68)))), 0),\"Not required\")","v":31134.029290747934},0,0,1,0,null,"T3 (ALB/MBD)","T1","T3",46512,"Siha District Council",null,null,null,null,null,{"$f":"'MDA3'!Q68","v":0},{"$f":"'T1'!O68","v":0},{"$f":"T3_R1!N68","v":25563},null,25563,1]
[{"$f":"IF(INTRO!$E$34<>0,INTRO!$E$34,\"\")","v":"Tanzania"},"Lindi","Kilwa District Council",219359,28297,57322,133740,1,0,3,2,{"$f":"IF(INTRO!$E$38=\"Endemic\", IF($H69>0, IF($H69=4,\"Unknown\", IF($H69=99,\"Stopped\", $D69)), 0),\"Not required\")","v":219359},{"$f":"IF(INTRO!$E$40=\"Endemic\", IF($I69>0, IF($I69=4,\"Unknown\",IF($I69=99,\"Stopped\", $D69)), 0),\"Not required\")","v":0},{"$f":"IF(INTRO!$E$42=\"Endemic\", IF(AND($J69>1,$J69<5), IF($J69=4, \"Unknown\", E69+F69), 0),\"Not required\")","v":85619},{"$f":"IF(INTRO!$E$44=\"Endemic\", IF(AND($K69>0,$K69<5), IF($K69=4,\"Unknown\", IF($K69=1, $F69*0.33, IF($K69=2, $F69*0.5+$G69*0.2, SUM(F69:G69)))), 0),\"Not required\")","v":55409},0,0,1,0,null,"T3 (ALB/MBD)","MDA 1","T1",46513,"Kilwa District Council",null,null,null,null,null,{"$f":"'MDA3'!Q69","v":0},{"$f":"'T1'!O69","v":0},{"$f":"T3_R1!N69","v":54456},null,54456,1]
[{"$f":"IF(INTRO!$E$34<>0,INTRO!$E$34,\"\")","v":"Tanzania"},"Lindi","Lindi District Council (Mtama District Council)",208955.58071619543,26955,43558,138442.58071619543,1,0,3,2,{"$f":"IF(INTRO!$E$38=\"Endemic\", IF($H70>0, IF($H70=4,\"Unknown\", IF($H70=99,\"Stopped\", $D70)), 0),\"Not required\")","v":208955.58071619543},{"$f":"IF(INTRO!$E$40=\"Endemic\", IF($I70>0, IF($I70=4,\"Unknown\",IF($I70=99,\"Stopped\", $D70)), 0),\"Not required\")","v":0},{"$f":"IF(INTRO!$E$42=\"Endemic\", IF(AND($J70>1,$J70<5), IF($J70=4, \"Unknown\", E70+F70), 0),\"Not required\")","v":70513},{"$f":"IF(INTRO!$E$44=\"Endemic\", IF(AND($K70>0,$K70<5), IF($K70=4,\"Unknown\", IF($K70=1, $F70*0.33, IF($K70=2, $F70*0.5+$G70*0.2, SUM(F70:G70)))), 0),\"Not required\")","v":49467.516143239089},0,0,1,0,null,"T3 (ALB/MBD)","MDA 1","T1",46514,"Mtama District Council (Lindi District Council)",null,null,null,null,null,{"$f":"'MDA3'!Q70","v":0},{"$f":"'T1'!O70","v":0},{"$f":"T3_R1!N70","v":42792},null,42792,1]
[{"$f":"IF(INTRO!$E$34<>0,INTRO!$E$34,\"\")","v":"Tanzania"},"Lindi","Lindi Municipal Council",84856.77730841891,10947,16819,57090.77730841891,99,0,3,2,{"$f":"IF(INTRO!$E$38=\"Endemic\", IF($H71>0, IF($H71=4,\"Unknown\", IF($H71=99,\"Stopped\", $D71)), 0),\"Not required\")","v":"Stopped"},{"$f":"IF(INTRO!$E$40=\"Endemic\", IF($I71>0, IF($I71=4,\"Unknown\",IF($I71=99,\"Stopped\", $D71)), 0),\"Not required\")","v":0},{"$f":"IF(INTRO!$E$42=\"Endemic\", IF(AND($J71>1,$J71<5), IF($J71=4, \"Unknown\", E71+F71), 0),\"Not required\")","v":27766},{"$f":"IF(INTRO!$E$44=\"Endemic\", IF(AND($K71>0,$K71<5), IF($K71=4,\"Unknown\", IF($K71=1, $F71*0.33, IF($K71=2, $F71*0.5+$G71*0.2, SUM(F71:G71)))), 0),\"Not required\")","v":19827.655461683782},0,0,1,0,null,"T3 (ALB/MBD)","T1","T3",46515,"Lindi Municipal Council",null,null,null,null,null,{"$f":"'MDA3'!Q71","v":0},{"$f":"'T1'!O71","v":0},{"$f":"T3_R1!N71","v":16374},null,16374,1]
[{"$f":"IF(INTRO!$E$34<>0,INTRO!$E$34,\"\")","v":"Tanzania"},"Lindi","Liwale District Council",98353.55689874645,12688,24574,61091.55689874645,99,0,3,2,{"$f":"IF(INTRO!$E$38=\"Endemic\", IF($H72>0, IF($H72=4,\"Unknown\", IF($H72=99,\"Stopped\", $D72)), 0),\"Not required\")","v":"Stopped"},{"$f":"IF(INTRO!$E$40=\"Endemic\", IF($I72>0, IF($I72=4,\"Unknown\",IF($I72=99,\"Stopped\", $D72)), 0),\"Not required\")","v":0},{"$f":"IF(INTRO!$E$42=\"Endemic\", IF(AND($J72>1,$J72<5), IF($J72=4, \"Unknown\", E72+F72), 0),\"Not required\")","v":37262},{"$f":"IF(INTRO!$E$44=\"Endemic\", IF(AND($K72>0,$K72<5), IF($K72=4,\"Unknown\", IF($K72=1, $F72*0.33, IF($K72=2, $F72*0.5+$G72*0.2, SUM(F72:G72)))), 0),\"Not required\")","v":24505.311379749292},0,0,1,0,null,"T3 (ALB/MBD)","T1","T3",46516,"Liwale District Council",null,null,null,null,null,{"$f":"'MDA3'!Q72","v":0},{"$f":"'T1'!O72","v":0},{"$f":"T3_R1!N72","v":22467},null,22467,1]
[{"$f":"IF(INTRO!$E$34<>0,INTRO!$E$34,\"\")","v":"Tanzania"},"Lindi","Nachingwea District Council",192080.913740035,24778,41540,125762.913740035,99,0,3,3,{"$f":"IF(INTRO!$E$38=\"Endemic\", IF($H73>0, IF($H73=4,\"Unknown\", IF($H73=99,\"Stopped\", $D73)), 0),\"Not required\")","v":"Stopped"},{"$f":"IF(INTRO!$E$40=\"Endemic\", IF($I73>0, IF($I73=4,\"Unknown\",IF($I73=99,\"Stopped\", $D73)), 0),\"Not required\")","v":0},{"$f":"IF(INTRO!$E$42=\"Endemic\", IF(AND($J73>1,$J73<5), IF($J73=4, \"Unknown\", E73+F73), 0),\"Not required\")","v":66318},{"$f":"IF(INTRO!$E$44=\"Endemic\", IF(AND($K73>0,$K73<5), IF($K73=4,\"Unknown\", IF($K73=1, $F73*0.33, IF($K73=2, $F73*0.5+$G73*0.2, SUM(F73:G73)))), 0),\"Not required\")","v":167302.913740035},0,0,1,1,null,"T1 (PZQ+ALB/MBD)","T1","T3",46517,"Nachingwea District Council",null,null,null,null,null,{"$f":"'MDA3'!Q73","v":0},{"$f":"'T1'!O73","v":39564},{"$f":"T3_R1!N73","v":0},null,39564,1]
[{"$f":"IF(INTRO!$E$34<>0,INTRO!$E$34,\"\")","v":"Tanzania"},"Lindi","Ruangwa District Council",141081.02099961435,18199,29031,93851.020999614353,99,0,3,3,{"$f":"IF(INTRO!$E$38=\"Endemic\", IF($H74>0, IF($H74=4,\"Unknown\", IF($H74=99,\"Stopped\", $D74)), 0),\"Not required\")","v":"Stopped"},{"$f":"IF(INTRO!$E$40=\"Endemic\", IF($I74>0, IF($I74=4,\"Unknown\",IF($I74=99,\"Stopped\", $D74)), 0),\"Not required\")","v":0},{"$f":"IF(INTRO!$E$42=\"Endemic\", IF(AND($J74>1,$J74<5), IF($J74=4, \"Unknown\", E74+F74), 0),\"Not required\")","v":47230},{"$f":"IF(INTRO!$E$44=\"Endemic\", IF(AND($K74>0,$K74<5), IF($K74=4,\"Unknown\", IF($K74=1, $F74*0.33, IF($K74=2, $F74*0.5+$G74*0.2, SUM(F74:G74)))), 0),\"Not required\")","v":122882.02099961435},0,0,1,1,null,"T1 (PZQ+ALB/MBD)","T1","T3",46518,"Ruangwa District Council",null,null,null,null,null,{"$f":"'MDA3'!Q74","v":0},{"$f":"'T1'!O74","v":26416},{"$f":"T3_R1!N74","v":0},null,{"$f":"AF74+AG74","v":26416},{"$f":"COUNTIF(AF74:AG74,\">0\")","v":1}]
[{"$f":"IF(INTRO!$E$34<>0,INTRO!$E$34,\"\")","v":"Tanzania"},"Manyara","Babati District Council",402391.81605947175,51909,84279,266203.81605947175,99,0,3,2,{"$f":"IF(INTRO!$E$38=\"Endemic\", IF($H75>0, IF($H75=4,\"Unknown\", IF($H75=99,\"Stopped\", $D75)), 0),\"Not required\")","v":"Stopped"},{"$f":"IF(INTRO!$E$40=\"Endemic\", IF($I75>0, IF($I75=4,\"Unknown\",IF($I75=99,\"Stopped\", $D75)), 0),\"Not required\")","v":0},{"$f":"IF(INTRO!$E$42=\"Endemic\", IF(AND($J75>1,$J75<5), IF($J75=4, \"Unknown\", E75+F75), 0),\"Not required\")","v":136188},{"$f":"IF(INTRO!$E$44=\"Endemic\", IF(AND($K75>0,$K75<5), IF($K75=4,\"Unknown\", IF($K75=1, $F75*0.33, IF($K75=2, $F75*0.5+$G75*0.2, SUM(F75:G75)))), 0),\"Not required\")","v":95380.263211894344},0,0,1,0,null,"T3 (ALB/MBD)","T1","T3",46519,"Babati District Council",null,null,null,null,null,{"$f":"'MDA3'!Q75","v":0},{"$f":"'T1'!O75","v":0},{"$f":"T3_R1!N75","v":82533},null,82533,1]
[{"$f":"IF(INTRO!$E$34<>0,INTRO!$E$34,\"\")","v":"Tanzania"},"Manyara","Babati Town Council",119934.23798891871,15472,24626,79836.237988918714,99,0,3,2,{"$f":"IF(INTRO!$E$38=\"Endemic\", IF($H76>0, IF($H76=4,\"Unknown\", IF($H76=99,\"Stopped\", $D76)), 0),\"Not required\")","v":"Stopped"},{"$f":"IF(INTRO!$E$40=\"Endemic\", IF($I76>0, IF($I76=4,\"Unknown\",IF($I76=99,\"Stopped\", $D76)), 0),\"Not required\")","v":0},{"$f":"IF(INTRO!$E$42=\"Endemic\", IF(AND($J76>1,$J76<5), IF($J76=4, \"Unknown\", E76+F76), 0),\"Not required\")","v":40098},{"$f":"IF(INTRO!$E$44=\"Endemic\", IF(AND($K76>0,$K76<5), IF($K76=4,\"Unknown\", IF($K76=1, $F76*0.33, IF($K76=2, $F76*0.5+$G76*0.2, SUM(F76:G76)))), 0),\"Not required\")","v":28280.247597783746},0,0,1,0,null,"T3 (ALB/MBD)","T1","T3",46520,"Babati Town Council",null,null,null,null,null,{"$f":"'MDA3'!Q76","v":0},{"$f":"'T1'!O76","v":0},{"$f":"T3_R1!N76","v":23823},null,23823,1]
[{"$f":"IF(INTRO!$E$34<>0,INTRO!$E$34,\"\")","v":"Tanzania"},"Manyara","Hanang District Council",355504.90674441803,45860,73713,235931.90674441803,99,0,3,2,{"$f":"IF(INTRO!$E$38=\"Endemic\", IF($H77>0, IF($H77=4,\"Unknown\", IF($H77=99,\"Stopped\", $D77)), 0),\"Not required\")","v":"Stopped"},{"$f":"IF(INTRO!$E$40=\"Endemic\", IF($I77>0, IF($I77=4,\"Unknown\",IF($I77=99,\"Stopped\", $D77)), 0),\"Not required\")","v":0},{"$f":"IF(INTRO!$E$42=\"Endemic\", IF(AND($J77>1,$J77<5), IF($J77=4, \"Unknown\", E77+F77), 0),\"Not required\")","v":119573},{"$f":"IF(INTRO!$E$44=\"Endemic\", IF(AND($K77>0,$K77<5), IF($K77=4,\"Unknown\", IF($K77=1, $F77*0.33, IF($K77=2, $F77*0.5+$G77*0.2, SUM(F77:G77)))), 0),\"Not required\")","v":84042.881348883617},0,0,1,0,null,"T3 (ALB/MBD)","T1","T3",46521,"Hanang District Council",null,null,null,null,null,{"$f":"'MDA3'!Q77","v":0},{"$f":"'T1'!O77","v":0},{"$f":"T3_R1!N77","v":70798},null,70798,1]
[{"$f":"IF(INTRO!$E$34<>0,INTRO!$E$34,\"\")","v":"Tanzania"},"Manyara","Kiteto District Council",315158.3749355101,40655,62322,212181.3749355101,99,0,3,2,{"$f":"IF(INTRO!$E$38=\"Endemic\", IF($H78>0, IF($H78=4,\"Unknown\", IF($H78=99,\"Stopped\", $D78)), 0),\"Not required\")","v":"Stopped"},{"$f":"IF(INTRO!$E$40=\"Endemic\", IF($I78>0, IF($I78=4,\"Unknown\",IF($I78=99,\"Stopped\", $D78)), 0),\"Not required\")","v":0},{"$f":"IF(INTRO!$E$42=\"Endemic\", IF(AND($J78>1,$J78<5), IF($J78=4, \"Unknown\", E78+F78), 0),\"Not required\")","v":102977},{"$f":"IF(INTRO!$E$44=\"Endemic\", IF(AND($K78>0,$K78<5), IF($K78=4,\"Unknown\", IF($K78=1, $F78*0.33, IF($K78=2, $F78*0.5+$G78*0.2, SUM(F78:G78)))), 0),\"Not required\")","v":73597.274987102021},0,0,1,0,null,"T3 (ALB/MBD)","T1","T3",46522,"Kiteto District Council",null,null,null,null,null,{"$f":"'MDA3'!Q78","v":0},{"$f":"'T1'!O78","v":0},{"$f":"T3_R1!N78","v":56237},null,56237,1]
[{"$f":"IF(INTRO!$E$34<>0,INTRO!$E$34,\"\")","v":"Tanzania"},"Manyara","Mbulu District Council",246311.84153118456,31774,50954,163583.84153118456,99,0,3,2,{"$f":"IF(INTRO!$E$38=\"Endemic\", IF($H79>0, IF($H79=4,\"Unknown\", IF($H79=99,\"Stopped\", $D79)), 0),\"Not required\")","v":"Stopped"},{"$f":"IF(INTRO!$E$40=\"Endemic\", IF($I79>0, IF($I79=4,\"Unknown\",IF($I79=99,\"Stopped\", $D79)), 0),\"Not required\")","v":0},{"$f":"IF(INTRO!$E$42=\"Endemic\", IF(AND($J79>1,$J79<5), IF($J79=4, \"Unknown\", E79+F79), 0),\"Not required\")","v":82728},{"$f":"IF(INTRO!$E$44=\"Endemic\", IF(AND($K79>0,$K79<5), IF($K79=4,\"Unknown\", IF($K79=1, $F79*0.33, IF($K79=2, $F79*0.5+$G79*0.2, SUM(F79:G79)))), 0),\"Not required\")","v":58193.768306236918},0,0,1,0,null,"T3 (ALB/MBD)","T1","T3",46523,"Mbulu District Council",null,null,null,null,null,{"$f":"'MDA3'!Q79","v":0},{"$f":"'T1'!O79","v":0},{"$f":"T3_R1!N79","v":45208},null,45208,1]
[{"$f":"IF(INTRO!$E$34<>0,INTRO!$E$34,\"\")","v":"Tanzania"},"Manyara","Mbulu Town Council",166240.39623994537,21445,34390,110405.39623994537,99,0,3,2,{"$f":"IF(INTRO!$E$38=\"Endemic\", IF($H80>0, IF($H80=4,\"Unknown\", IF($H80=99,\"Stopped\", $D80)), 0),\"Not required\")","v":"Stopped"},{"$f":"IF(INTRO!$E$40=\"Endemic\", IF($I80>0, IF($I80=4,\"Unknown\",IF($I80=99,\"Stopped\", $D80)), 0),\"Not required\")","v":0},{"$f":"IF(INTRO!$E$42=\"Endemic\", IF(AND($J80>1,$J80<5), IF($J80=4, \"Unknown\", E80+F80), 0),\"Not required\")","v":55835},{"$f":"IF(INTRO!$E$44=\"Endemic\", IF(AND($K80>0,$K80<5), IF($K80=4,\"Unknown\", IF($K80=1, $F80*0.33, IF($K80=2, $F80*0.5+$G80*0.2, SUM(F80:G80)))), 0),\"Not required\")","v":39276.079247989081},0,0,1,0,null,"T3 (ALB/MBD)","T1","T3",46630,"Mbulu Town Council",null,null,null,null,null,{"$f":"'MDA3'!Q80","v":0},{"$f":"'T1'!O80","v":0},{"$f":"T3_R1!N80","v":30907},null,30907,1]
[{"$f":"IF(INTRO!$E$34<>0,INTRO!$E$34,\"\")","v":"Tanzania"},"Manyara","Simanjiro District Council",230172.66533097485,29692,46441,154039.66533097485,99,0,3,2,{"$f":"IF(INTRO!$E$38=\"Endemic\", IF($H81>0, IF($H81=4,\"Unknown\", IF($H81=99,\"Stopped\", $D81)), 0),\"Not required\")","v":"Stopped"},{"$f":"IF(INTRO!$E$40=\"Endemic\", IF($I81>0, IF($I81=4,\"Unknown\",IF($I81=99,\"Stopped\", $D81)), 0),\"Not required\")","v":0},{"$f":"IF(INTRO!$E$42=\"Endemic\", IF(AND($J81>1,$J81<5), IF($J81=4, \"Unknown\", E81+F81), 0),\"Not required\")","v":76133},{"$f":"IF(INTRO!$E$44=\"Endemic\", IF(AND($K81>0,$K81<5), IF($K81=4,\"Unknown\", IF($K81=1, $F81*0.33, IF($K81=2, $F81*0.5+$G81*0.2, SUM(F81:G81)))), 0),\"Not required\")","v":54028.433066194972},0,0,1,0,null,"T3 (ALB/MBD)","T1","T3",46524,"Simanjiro District Council",null,null,null,null,null,{"$f":"'MDA3'!Q81","v":0},{"$f":"'T1'!O81","v":0},{"$f":"T3_R1!N81","v":45161},null,45161,1]
[{"$f":"IF(INTRO!$E$34<>0,INTRO!$E$34,\"\")","v":"Tanzania"},"Mara","Bunda District Council",269276.48786115157,34737,70753,163786.48786115157,0,0,3,2,{"$f":"IF(INTRO!$E$38=\"Endemic\", IF($H82>0, IF($H82=4,\"Unknown\", IF($H82=99,\"Stopped\", $D82)), 0),\"Not required\")","v":0},{"$f":"IF(INTRO!$E$40=\"Endemic\", IF($I82>0, IF($I82=4,\"Unknown\",IF($I82=99,\"Stopped\", $D82)), 0),\"Not required\")","v":0},{"$f":"IF(INTRO!$E$42=\"Endemic\", IF(AND($J82>1,$J82<5), IF($J82=4, \"Unknown\", E82+F82), 0),\"Not required\")","v":105490},{"$f":"IF(INTRO!$E$44=\"Endemic\", IF(AND($K82>0,$K82<5), IF($K82=4,\"Unknown\", IF($K82=1, $F82*0.33, IF($K82=2, $F82*0.5+$G82*0.2, SUM(F82:G82)))), 0),\"Not required\")","v":68133.797572230309},0,0,0,1,null,null,"T1","T3",46525,"Bunda District Council",null,null,null,null,null,{"$f":"'MDA3'!Q82","v":0},{"$f":"'T1'!O82","v":0},{"$f":"T3_R1!N82","v":0},null,0,0]
[{"$f":"IF(INTRO!$E$34<>0,INTRO!$E$34,\"\")","v":"Tanzania"},"Mara","Bunda Town Council",138795.24399641345,17905,50097,70793.243996413454,0,0,3,2,{"$f":"IF(INTRO!$E$38=\"Endemic\", IF($H83>0, IF($H83=4,\"Unknown\", IF($H83=99,\"Stopped\", $D83)), 0),\"Not required\")","v":0},{"$f":"IF(INTRO!$E$40=\"Endemic\", IF($I83>0, IF($I83=4,\"Unknown\",IF($I83=99,\"Stopped\", $D83)), 0),\"Not required\")","v":0},{"$f":"IF(INTRO!$E$42=\"Endemic\", IF(AND($J83>1,$J83<5), IF($J83=4, \"Unknown\", E83+F83), 0),\"Not required\")","v":68002},{"$f":"IF(INTRO!$E$44=\"Endemic\", IF(AND($K83>0,$K83<5), IF($K83=4,\"Unknown\", IF($K83=1, $F83*0.33, IF($K83=2, $F83*0.5+$G83*0.2, SUM(F83:G83)))), 0),\"Not required\")","v":39207.148799282688},0,0,0,1,null,null,"T1","T3",46631,"Bunda Town Council",null,null,null,null,null,{"$f":"'MDA3'!Q83","v":0},{"$f":"'T1'!O83","v":0},{"$f":"T3_R1!N83","v":0},null,0,0]
[{"$f":"IF(INTRO!$E$34<>0,INTRO!$E$34,\"\")","v":"Tanzania"},"Mara","Butiama District Council",258072.10457307563,33291,81236,143545.10457307563,0,0,3,2,{"$f":"IF(INTRO!$E$38=\"Endemic\", IF($H84>0, IF($H84=4,\"Unknown\", IF($H84=99,\"Stopped\", $D84)), 0),\"Not required\")","v":0},{"$f":"IF(INTRO!$E$40=\"Endemic\", IF($I84>0, IF($I84=4,\"Unknown\",IF($I84=99,\"Stopped\", $D84)), 0),\"Not required\")","v":0},{"$f":"IF(INTRO!$E$42=\"Endemic\", IF(AND($J84>1,$J84<5), IF($J84=4, \"Unknown\", E84+F84), 0),\"Not required\")","v":114527},{"$f":"IF(INTRO!$E$44=\"Endemic\", IF(AND($K84>0,$K84<5), IF($K84=4,\"Unknown\", IF($K84=1, $F84*0.33, IF($K84=2, $F84*0.5+$G84*0.2, SUM(F84:G84)))), 0),\"Not required\")","v":69327.020914615132},0,0,0,1,null,null,"T1","T3",46526,"Butiama District Council",null,null,null,null,null,{"$f":"'MDA3'!Q84","v":0},{"$f":"'T1'!O84","v":0},{"$f":"T3_R1!N84","v":0},null,0,0]
[{"$f":"IF(INTRO!$E$34<>0,INTRO!$E$34,\"\")","v":"Tanzania"},"Mara","Musoma District Council",253552.94241857366,32708,72259,148585.94241857366,0,0,3,2,{"$f":"IF(INTRO!$E$38=\"Endemic\", IF($H85>0, IF($H85=4,\"Unknown\", IF($H85=99,\"Stopped\", $D85)), 0),\"Not required\")","v":0},{"$f":"IF(INTRO!$E$40=\"Endemic\", IF($I85>0, IF($I85=4,\"Unknown\",IF($I85=99,\"Stopped\", $D85)), 0),\"Not required\")","v":0},{"$f":"IF(INTRO!$E$42=\"Endemic\", IF(AND($J85>1,$J85<5), IF($J85=4, \"Unknown\", E85+F85), 0),\"Not required\")","v":104967},{"$f":"IF(INTRO!$E$44=\"Endemic\", IF(AND($K85>0,$K85<5), IF($K85=4,\"Unknown\", IF($K85=1, $F85*0.33, IF($K85=2, $F85*0.5+$G85*0.2, SUM(F85:G85)))), 0),\"Not required\")","v":65846.688483714737},0,0,0,1,null,null,"T1","T3",46527,"Musoma District Council",null,null,null,null,null,{"$f":"'MDA3'!Q85","v":0},{"$f":"'T1'!O85","v":0},{"$f":"T3_R1!N85","v":0},null,0,0]
[{"$f":"IF(INTRO!$E$34<>0,INTRO!$E$34,\"\")","v":"Tanzania"},"Mara","Musoma Municipal Council",163598.6188166957,21104,44071,98423.6188166957,0,0,3,2,{"$f":"IF(INTRO!$E$38=\"Endemic\", IF($H86>0, IF($H86=4,\"Unknown\", IF($H86=99,\"Stopped\", $D86)), 0),\"Not required\")","v":0},{"$f":"IF(INTRO!$E$40=\"Endemic\", IF($I86>0, IF($I86=4,\"Unknown\",IF($I86=99,\"Stopped\", $D86)), 0),\"Not required\")","v":0},{"$f":"IF(INTRO!$E$42=\"Endemic\", IF(AND($J86>1,$J86<5), IF($J86=4, \"Unknown\", E86+F86), 0),\"Not required\")","v":65175},{"$f":"IF(INTRO!$E$44=\"Endemic\", IF(AND($K86>0,$K86<5), IF($K86=4,\"Unknown\", IF($K86=1, $F86*0.33, IF($K86=2, $F86*0.5+$G86*0.2, SUM(F86:G86)))), 0),\"Not required\")","v":41720.223763339141},0,0,0,1,null,null,"T1","T3",46528,"Musoma Municipal Council",null,null,null,null,null,{"$f":"'MDA3'!Q86","v":0},{"$f":"'T1'!O86","v":0},{"$f":"T3_R1!N86","v":0},null,0,0]
[{"$f":"IF(INTRO!$E$34<>0,INTRO!$E$34,\"\")","v":"Tanzania"},"Mara","Rorya District Council",323037.77214473143,41672,102884,178481.77214473143,0,0,3,2,{"$f":"IF(INTRO!$E$38=\"Endemic\", IF($H87>0, IF($H87=4,\"Unknown\", IF($H87=99,\"Stopped\", $D87)), 0),\"Not required\")","v":0},{"$f":"IF(INTRO!$E$40=\"Endemic\", IF($I87>0, IF($I87=4,\"Unknown\",IF($I87=99,\"Stopped\", $D87)), 0),\"Not required\")","v":0},{"$f":"IF(INTRO!$E$42=\"Endemic\", IF(AND($J87>1,$J87<5), IF($J87=4, \"Unknown\", E87+F87), 0),\"Not required\")","v":144556},{"$f":"IF(INTRO!$E$44=\"Endemic\", IF(AND($K87>0,$K87<5), IF($K87=4,\"Unknown\", IF($K87=1, $F87*0.33, IF($K87=2, $F87*0.5+$G87*0.2, SUM(F87:G87)))), 0),\"Not required\")","v":87138.354428946288},0,0,0,1,null,null,"T1","T3",46529,"Rorya District Council",null,null,null,null,null,{"$f":"'MDA3'!Q87","v":0},{"$f":"'T1'!O87","v":0},{"$f":"T3_R1!N87","v":0},null,0,0]
[{"$f":"IF(INTRO!$E$34<>0,INTRO!$E$34,\"\")","v":"Tanzania"},"Mara","Serengeti District Council",303768.99930336297,39186,84833,179749.99930336297,0,0,3,2,{"$f":"IF(INTRO!$E$38=\"Endemic\", IF($H88>0, IF($H88=4,\"Unknown\", IF($H88=99,\"Stopped\", $D88)), 0),\"Not required\")","v":0},{"$f":"IF(INTRO!$E$40=\"Endemic\", IF($I88>0, IF($I88=4,\"Unknown\",IF($I88=99,\"Stopped\", $D88)), 0),\"Not required\")","v":0},{"$f":"IF(INTRO!$E$42=\"Endemic\", IF(AND($J88>1,$J88<5), IF($J88=4, \"Unknown\", E88+F88), 0),\"Not required\")","v":124019},{"$f":"IF(INTRO!$E$44=\"Endemic\", IF(AND($K88>0,$K88<5), IF($K88=4,\"Unknown\", IF($K88=1, $F88*0.33, IF($K88=2, $F88*0.5+$G88*0.2, SUM(F88:G88)))), 0),\"Not required\")","v":78366.4998606726},0,0,0,1,null,null,"T1","T3",46530,"Serengeti District Council",null,null,null,null,null,{"$f":"'MDA3'!Q88","v":0},{"$f":"'T1'!O88","v":0},{"$f":"T3_R1!N88","v":0},null,0,0]
[{"$f":"IF(INTRO!$E$34<>0,INTRO!$E$34,\"\")","v":"Tanzania"},"Mara","Tarime District Council",318671.72134791163,41109,105349,172213.72134791163,0,0,3,2,{"$f":"IF(INTRO!$E$38=\"Endemic\", IF($H89>0, IF($H89=4,\"Unknown\", IF($H89=99,\"Stopped\", $D89)), 0),\"Not required\")","v":0},{"$f":"IF(INTRO!$E$40=\"Endemic\", IF($I89>0, IF($I89=4,\"Unknown\",IF($I89=99,\"Stopped\", $D89)), 0),\"Not required\")","v":0},{"$f":"IF(INTRO!$E$42=\"Endemic\", IF(AND($J89>1,$J89<5), IF($J89=4, \"Unknown\", E89+F89), 0),\"Not required\")","v":146458},{"$f":"IF(INTRO!$E$44=\"Endemic\", IF(AND($K89>0,$K89<5), IF($K89=4,\"Unknown\", IF($K89=1, $F89*0.33, IF($K89=2, $F89*0.5+$G89*0.2, SUM(F89:G89)))), 0),\"Not required\")","v":87117.244269582327},0,0,0,1,null,null,"T1","T3",46531,"Tarime District Council",null,null,null,null,null,{"$f":"'MDA3'!Q89","v":0},{"$f":"'T1'!O89","v":0},{"$f":"T3_R1!N89","v":0},null,0,0]
[{"$f":"IF(INTRO!$E$34<>0,INTRO!$E$34,\"\")","v":"Tanzania"},"Mara","Tarime Town Council",95039.56829207328,12260,34082,48697.56829207328,0,0,3,2,{"$f":"IF(INTRO!$E$38=\"Endemic\", IF($H90>0, IF($H90=4,\"Unknown\", IF($H90=99,\"Stopped\", $D90)), 0),\"Not required\")","v":0},{"$f":"IF(INTRO!$E$40=\"Endemic\", IF($I90>0, IF($I90=4,\"Unknown\",IF($I90=99,\"Stopped\", $D90)), 0),\"Not required\")","v":0},{"$f":"IF(INTRO!$E$42=\"Endemic\", IF(AND($J90>1,$J90<5), IF($J90=4, \"Unknown\", E90+F90), 0),\"Not required\")","v":46342},{"$f":"IF(INTRO!$E$44=\"Endemic\", IF(AND($K90>0,$K90<5), IF($K90=4,\"Unknown\", IF($K90=1, $F90*0.33, IF($K90=2, $F90*0.5+$G90*0.2, SUM(F90:G90)))), 0),\"Not required\")","v":26780.513658414657},0,0,0,1,null,null,"T1","T3",46532,"Tarime Town Council",null,null,null,null,null,{"$f":"'MDA3'!Q90","v":0},{"$f":"'T1'!O90","v":0},{"$f":"T3_R1!N90","v":0},null,0,0]
[{"$f":"IF(INTRO!$E$34<>0,INTRO!$E$34,\"\")","v":"Tanzania"},"Mbeya","Busokelo District Council",117853.42605018953,15203,23641,79009.426050189533,99,1,3,2,{"$f":"IF(INTRO!$E$38=\"Endemic\", IF($H91>0, IF($H91=4,\"Unknown\", IF($H91=99,\"Stopped\", $D91)), 0),\"Not required\")","v":"Stopped"},{"$f":"IF(INTRO!$E$40=\"Endemic\", IF($I91>0, IF($I91=4,\"Unknown\",IF($I91=99,\"Stopped\", $D91)), 0),\"Not required\")","v":117853.42605018953},{"$f":"IF(INTRO!$E$42=\"Endemic\", IF(AND($J91>1,$J91<5), IF($J91=4, \"Unknown\", E91+F91), 0),\"Not required\")","v":38844},{"$f":"IF(INTRO!$E$44=\"Endemic\", IF(AND($K91>0,$K91<5), IF($K91=4,\"Unknown\", IF($K91=1, $F91*0.33, IF($K91=2, $F91*0.5+$G91*0.2, SUM(F91:G91)))), 0),\"Not required\")","v":27622.385210037908},0,1,1,1,null,"T1 (PZQ+ALB/MBD)","MDA 1","T1",46533,"Busokelo District Council",null,null,null,null,null,{"$f":"'MDA3'!Q91","v":0},{"$f":"'T1'!O91","v":23290},{"$f":"T3_R1!N91","v":0},null,23290,1]
[{"$f":"IF(INTRO!$E$34<>0,INTRO!$E$34,\"\")","v":"Tanzania"},"Mbeya","Chunya District Council",191781.1910471938,24740,42075,124966.1910471938,99,0,3,2,{"$f":"IF(INTRO!$E$38=\"Endemic\", IF($H92>0, IF($H92=4,\"Unknown\", IF($H92=99,\"Stopped\", $D92)), 0),\"Not required\")","v":"Stopped"},{"$f":"IF(INTRO!$E$40=\"Endemic\", IF($I92>0, IF($I92=4,\"Unknown\",IF($I92=99,\"Stopped\", $D92)), 0),\"Not required\")","v":0},{"$f":"IF(INTRO!$E$42=\"Endemic\", IF(AND($J92>1,$J92<5), IF($J92=4, \"Unknown\", E92+F92), 0),\"Not required\")","v":66815},{"$f":"IF(INTRO!$E$44=\"Endemic\", IF(AND($K92>0,$K92<5), IF($K92=4,\"Unknown\", IF($K92=1, $F92*0.33, IF($K92=2, $F92*0.5+$G92*0.2, SUM(F92:G92)))), 0),\"Not required\")","v":46030.738209438758},0,0,1,1,null,"T1 (PZQ+ALB/MBD)","T1","T3",46534,"Chunya District Council",null,null,null,null,null,{"$f":"'MDA3'!Q92","v":0},{"$f":"'T1'!O92","v":40993},{"$f":"T3_R1!N92","v":0},null,40993,1]
[{"$f":"IF(INTRO!$E$34<>0,INTRO!$E$34,\"\")","v":"Tanzania"},"Mbeya","Kyela District Council",270925.50525536551,34949,60119,175857.50525536551,99,1,3,3,{"$f":"IF(INTRO!$E$38=\"Endemic\", IF($H93>0, IF($H93=4,\"Unknown\", IF($H93=99,\"Stopped\", $D93)), 0),\"Not required\")","v":"Stopped"},{"$f":"IF(INTRO!$E$40=\"Endemic\", IF($I93>0, IF($I93=4,\"Unknown\",IF($I93=99,\"Stopped\", $D93)), 0),\"Not required\")","v":270925.50525536551},{"$f":"IF(INTRO!$E$42=\"Endemic\", IF(AND($J93>1,$J93<5), IF($J93=4, \"Unknown\", E93+F93), 0),\"Not required\")","v":95068},{"$f":"IF(INTRO!$E$44=\"Endemic\", IF(AND($K93>0,$K93<5), IF($K93=4,\"Unknown\", IF($K93=1, $F93*0.33, IF($K93=2, $F93*0.5+$G93*0.2, SUM(F93:G93)))), 0),\"Not required\")","v":235976.50525536551},0,1,1,1,null,"T1 (PZQ+ALB/MBD)","MDA 1","T1",46536,"Kyela District Council",null,null,null,null,null,{"$f":"'MDA3'!Q93","v":0},{"$f":"'T1'!O93","v":58622},{"$f":"T3_R1!N93","v":0},null,58622,1]
[{"$f":"IF(INTRO!$E$34<>0,INTRO!$E$34,\"\")","v":"Tanzania"},"Mbeya","Mbarali District Council",367592.01891288528,47419,76803,243370.01891288528,99,0,3,2,{"$f":"IF(INTRO!$E$38=\"Endemic\", IF($H94>0, IF($H94=4,\"Unknown\", IF($H94=99,\"Stopped\", $D94)), 0),\"Not required\")","v":"Stopped"},{"$f":"IF(INTRO!$E$40=\"Endemic\", IF($I94>0, IF($I94=4,\"Unknown\",IF($I94=99,\"Stopped\", $D94)), 0),\"Not required\")","v":0},{"$f":"IF(INTRO!$E$42=\"Endemic\", IF(AND($J94>1,$J94<5), IF($J94=4, \"Unknown\", E94+F94), 0),\"Not required\")","v":124222},{"$f":"IF(INTRO!$E$44=\"Endemic\", IF(AND($K94>0,$K94<5), IF($K94=4,\"Unknown\", IF($K94=1, $F94*0.33, IF($K94=2, $F94*0.5+$G94*0.2, SUM(F94:G94)))), 0),\"Not required\")","v":87075.503782577056},0,0,1,1,null,"T1 (PZQ+ALB/MBD)","T1","T3",46537,"Mbarali District Council",null,null,null,null,null,{"$f":"'MDA3'!Q94","v":0},{"$f":"'T1'!O94","v":74681},{"$f":"T3_R1!N94","v":0},null,74681,1]
[{"$f":"IF(INTRO!$E$34<>0,INTRO!$E$34,\"\")","v":"Tanzania"},"Mbeya","Mbeya City Council",471273.17461765354,60794,95895,314584.17461765354,99,0,3,2,{"$f":"IF(INTRO!$E$38=\"Endemic\", IF($H95>0, IF($H95=4,\"Unknown\", IF($H95=99,\"Stopped\", $D95)), 0),\"Not required\")","v":"Stopped"},{"$f":"IF(INTRO!$E$40=\"Endemic\", IF($I95>0, IF($I95=4,\"Unknown\",IF($I95=99,\"Stopped\", $D95)), 0),\"Not required\")","v":0},{"$f":"IF(INTRO!$E$42=\"Endemic\", IF(AND($J95>1,$J95<5), IF($J95=4, \"Unknown\", E95+F95), 0),\"Not required\")","v":156689},{"$f":"IF(INTRO!$E$44=\"Endemic\", IF(AND($K95>0,$K95<5), IF($K95=4,\"Unknown\", IF($K95=1, $F95*0.33, IF($K95=2, $F95*0.5+$G95*0.2, SUM(F95:G95)))), 0),\"Not required\")","v":110864.33492353071},0,0,1,1,null,"T1 (PZQ+ALB/MBD)","T1","T3",46538,"Mbeya City Council",null,null,null,null,null,{"$f":"'MDA3'!Q95","v":0},{"$f":"'T1'!O95","v":92059},{"$f":"T3_R1!N95","v":0},null,92059,1]
[{"$f":"IF(INTRO!$E$34<>0,INTRO!$E$34,\"\")","v":"Tanzania"},"Mbeya","Mbeya District Council",373468.00288023677,48177,78658,246633.00288023677,99,0,3,2,{"$f":"IF(INTRO!$E$38=\"Endemic\", IF($H96>0, IF($H96=4,\"Unknown\", IF($H96=99,\"Stopped\", $D96)), 0),\"Not required\")","v":"Stopped"},{"$f":"IF(INTRO!$E$40=\"Endemic\", IF($I96>0, IF($I96=4,\"Unknown\",IF($I96=99,\"Stopped\", $D96)), 0),\"Not required\")","v":0},{"$f":"IF(INTRO!$E$42=\"Endemic\", IF(AND($J96>1,$J96<5), IF($J96=4, \"Unknown\", E96+F96), 0),\"Not required\")","v":126835},{"$f":"IF(INTRO!$E$44=\"Endemic\", IF(AND($K96>0,$K96<5), IF($K96=4,\"Unknown\", IF($K96=1, $F96*0.33, IF($K96=2, $F96*0.5+$G96*0.2, SUM(F96:G96)))), 0),\"Not required\")","v":88655.600576047349},0,0,1,1,null,"T1 (PZQ+ALB/MBD)","T1","T3",46539,"Mbeya District Council",null,null,null,null,null,{"$f":"'MDA3'!Q96","v":0},{"$f":"'T1'!O96","v":77621},{"$f":"T3_R1!N96","v":0},null,77621,1]
[{"$f":"IF(INTRO!$E$34<>0,INTRO!$E$34,\"\")","v":"Tanzania"},"Mbeya","Rungwe District Council",297004.36661514378,38314,61502,197188.36661514378,99,1,3,2,{"$f":"IF(INTRO!$E$38=\"Endemic\", IF($H97>0, IF($H97=4,\"Unknown\", IF($H97=99,\"Stopped\", $D97)), 0),\"Not required\")","v":"Stopped"},{"$f":"IF(INTRO!$E$40=\"Endemic\", IF($I97>0, IF($I97=4,\"Unknown\",IF($I97=99,\"Stopped\", $D97)), 0),\"Not required\")","v":297004.36661514378},{"$f":"IF(INTRO!$E$42=\"Endemic\", IF(AND($J97>1,$J97<5), IF($J97=4, \"Unknown\", E97+F97), 0),\"Not required\")","v":99816},{"$f":"IF(INTRO!$E$44=\"Endemic\", IF(AND($K97>0,$K97<5), IF($K97=4,\"Unknown\", IF($K97=1, $F97*0.33, IF($K97=2, $F97*0.5+$G97*0.2, SUM(F97:G97)))), 0),\"Not required\")","v":70188.67332302875},0,1,1,1,null,"T1 (PZQ+ALB/MBD)","MDA 1","T1",46542,"Rungwe District Council",null,null,null,null,null,{"$f":"'MDA3'!Q97","v":0},{"$f":"'T1'!O97","v":60702},{"$f":"T3_R1!N97","v":0},null,60702,1]
[{"$f":"IF(INTRO!$E$34<>0,INTRO!$E$34,\"\")","v":"Tanzania"},"Morogoro","Gairo District Council",233800.01588269012,30160,49761,153879.01588269012,99,1,3,2,{"$f":"IF(INTRO!$E$38=\"Endemic\", IF($H98>0, IF($H98=4,\"Unknown\", IF($H98=99,\"Stopped\", $D98)), 0),\"Not required\")","v":"Stopped"},{"$f":"IF(INTRO!$E$40=\"Endemic\", IF($I98>0, IF($I98=4,\"Unknown\",IF($I98=99,\"Stopped\", $D98)), 0),\"Not required\")","v":233800.01588269012},{"$f":"IF(INTRO!$E$42=\"Endemic\", IF(AND($J98>1,$J98<5), IF($J98=4, \"Unknown\", E98+F98), 0),\"Not required\")","v":79921},{"$f":"IF(INTRO!$E$44=\"Endemic\", IF(AND($K98>0,$K98<5), IF($K98=4,\"Unknown\", IF($K98=1, $F98*0.33, IF($K98=2, $F98*0.5+$G98*0.2, SUM(F98:G98)))), 0),\"Not required\")","v":55656.303176538029},0,1,1,1,null,"T1 (PZQ+ALB/MBD)","MDA 1","T1",46544,"Gairo District Council",null,null,null,null,null,{"$f":"'MDA3'!Q98","v":0},{"$f":"'T1'!O98","v":45342},{"$f":"T3_R1!N98","v":0},null,45342,1]
[{"$f":"IF(INTRO!$E$34<>0,INTRO!$E$34,\"\")","v":"Tanzania"},"Morogoro","Ifakara Town Council",137578,17748,26429,93401,99,1,3,2,{"$f":"IF(INTRO!$E$38=\"Endemic\", IF($H99>0, IF($H99=4,\"Unknown\", IF($H99=99,\"Stopped\", $D99)), 0),\"Not required\")","v":"Stopped"},{"$f":"IF(INTRO!$E$40=\"Endemic\", IF($I99>0, IF($I99=4,\"Unknown\",IF($I99=99,\"Stopped\", $D99)), 0),\"Not required\")","v":137578},{"$f":"IF(INTRO!$E$42=\"Endemic\", IF(AND($J99>1,$J99<5), IF($J99=4, \"Unknown\", E99+F99), 0),\"Not required\")","v":44177},{"$f":"IF(INTRO!$E$44=\"Endemic\", IF(AND($K99>0,$K99<5), IF($K99=4,\"Unknown\", IF($K99=1, $F99*0.33, IF($K99=2, $F99*0.5+$G99*0.2, SUM(F99:G99)))), 0),\"Not required\")","v":31894.7},0,2,1,1,"MDA3 (IVM)","T1 (PZQ+ALB/MBD)","MDA 1","T1",46632,"Ifakara Town Council",null,null,null,null,null,{"$f":"'MDA3'!Q99","v":119560},{"$f":"'T1'!O99","v":24164},{"$f":"T3_R1!N99","v":0},null,24164,1]
[{"$f":"IF(INTRO!$E$34<>0,INTRO!$E$34,\"\")","v":"Tanzania"},"Morogoro","Kilombero District Council (Mlimba District Council)",374778,48346,81523,244909,99,1,3,2,{"$f":"IF(INTRO!$E$38=\"Endemic\", IF($H100>0, IF($H100=4,\"Unknown\", IF($H100=99,\"Stopped\", $D100)), 0),\"Not required\")","v":"Stopped"},{"$f":"IF(INTRO!$E$40=\"Endemic\", IF($I100>0, IF($I100=4,\"Unknown\",IF($I100=99,\"Stopped\", $D100)), 0),\"Not required\")","v":374778},{"$f":"IF(INTRO!$E$42=\"Endemic\", IF(AND($J100>1,$J100<5), IF($J100=4, \"Unknown\", E100+F100), 0),\"Not required\")","v":129869},{"$f":"IF(INTRO!$E$44=\"Endemic\", IF(AND($K100>0,$K100<5), IF($K100=4,\"Unknown\", IF($K100=1, $F100*0.33, IF($K100=2, $F100*0.5+$G100*0.2, SUM(F100:G100)))), 0),\"Not required\")","v":89743.3},0,2,1,1,"MDA3 (IVM)","T1 (PZQ+ALB/MBD)","MDA 1","T1",46545,"Kilombero District Council",null,null,null,null,null,{"$f":"'MDA3'!Q100","v":326806},{"$f":"'T1'!O100","v":79882},{"$f":"T3_R1!N100","v":0},null,79882,1]
[{"$f":"IF(INTRO!$E$34<>0,INTRO!$E$34,\"\")","v":"Tanzania"},"Morogoro","Kilosa District Council",530776.38764369313,68470,108984,353322.38764369313,99,1,3,2,{"$f":"IF(INTRO!$E$38=\"Endemic\", IF($H101>0, IF($H101=4,\"Unknown\", IF($H101=99,\"Stopped\", $D101)), 0),\"Not required\")","v":"Stopped"},{"$f":"IF(INTRO!$E$40=\"Endemic\", IF($I101>0, IF($I101=4,\"Unknown\",IF($I101=99,\"Stopped\", $D101)), 0),\"Not required\")","v":530776.38764369313},{"$f":"IF(INTRO!$E$42=\"Endemic\", IF(AND($J101>1,$J101<5), IF($J101=4, \"Unknown\", E101+F101), 0),\"Not required\")","v":177454},{"$f":"IF(INTRO!$E$44=\"Endemic\", IF(AND($K101>0,$K101<5), IF($K101=4,\"Unknown\", IF($K101=1, $F101*0.33, IF($K101=2, $F101*0.5+$G101*0.2, SUM(F101:G101)))), 0),\"Not required\")","v":125156.47752873863},0,1,1,1,null,"T1 (PZQ+ALB/MBD)","MDA 1","T1",46546,"Kilosa District Council",null,null,null,null,null,{"$f":"'MDA3'!Q101","v":0},{"$f":"'T1'!O101","v":104422},{"$f":"T3_R1!N101","v":0},null,104422,1]
[{"$f":"IF(INTRO!$E$34<>0,INTRO!$E$34,\"\")","v":"Tanzania"},"Morogoro","Malinyi District Council",159841,20619,32774,106448,99,1,3,2,{"$f":"IF(INTRO!$E$38=\"Endemic\", IF($H102>0, IF($H102=4,\"Unknown\", IF($H102=99,\"Stopped\", $D102)), 0),\"Not required\")","v":"Stopped"},{"$f":"IF(INTRO!$E$40=\"Endemic\", IF($I102>0, IF($I102=4,\"Unknown\",IF($I102=99,\"Stopped\", $D102)), 0),\"Not required\")","v":159841},{"$f":"IF(INTRO!$E$42=\"Endemic\", IF(AND($J102>1,$J102<5), IF($J102=4, \"Unknown\", E102+F102), 0),\"Not required\")","v":53393},{"$f":"IF(INTRO!$E$44=\"Endemic\", IF(AND($K102>0,$K102<5), IF($K102=4,\"Unknown\", IF($K102=1, $F102*0.33, IF($K102=2, $F102*0.5+$G102*0.2, SUM(F102:G102)))), 0),\"Not required\")","v":37676.600000000006},0,2,1,1,"MDA3 (IVM)","T1 (PZQ+ALB/MBD)","MDA 1","T1",46633,"Malinyi District Council",null,null,null,null,null,{"$f":"'MDA3'!Q102","v":136906},{"$f":"'T1'!O102","v":30863},{"$f":"T3_R1!N102","v":0},null,30863,1]
[{"$f":"IF(INTRO!$E$34<>0,INTRO!$E$34,\"\")","v":"Tanzania"},"Morogoro","Morogoro District Council",346743.23191583907,44730,81495,220518.23191583907,99,1,3,2,{"$f":"IF(INTRO!$E$38=\"Endemic\", IF($H103>0, IF($H103=4,\"Unknown\", IF($H103=99,\"Stopped\", $D103)), 0),\"Not required\")","v":"Stopped"},{"$f":"IF(INTRO!$E$40=\"Endemic\", IF($I103>0, IF($I103=4,\"Unknown\",IF($I103=99,\"Stopped\", $D103)), 0),\"Not required\")","v":346743.23191583907},{"$f":"IF(INTRO!$E$42=\"Endemic\", IF(AND($J103>1,$J103<5), IF($J103=4, \"Unknown\", E103+F103), 0),\"Not required\")","v":126225},{"$f":"IF(INTRO!$E$44=\"Endemic\", IF(AND($K103>0,$K103<5), IF($K103=4,\"Unknown\", IF($K103=1, $F103*0.33, IF($K103=2, $F103*0.5+$G103*0.2, SUM(F103:G103)))), 0),\"Not required\")","v":84851.146383167827},0,1,1,1,null,"T1 (PZQ+ALB/MBD)","MDA 1","T1",46547,"Morogoro District Council",null,null,null,null,null,{"$f":"'MDA3'!Q103","v":0},{"$f":"'T1'!O103","v":77353},{"$f":"T3_R1!N103","v":0},null,77353,1]
[{"$f":"IF(INTRO!$E$34<>0,INTRO!$E$34,\"\")","v":"Tanzania"},"Morogoro","Morogoro Municipal Council",382618.75283876492,49358,85142,248118.75283876492,99,0,3,2,{"$f":"IF(INTRO!$E$38=\"Endemic\", IF($H104>0, IF($H104=4,\"Unknown\", IF($H104=99,\"Stopped\", $D104)), 0),\"Not required\")","v":"Stopped"},{"$f":"IF(INTRO!$E$40=\"Endemic\", IF($I104>0, IF($I104=4,\"Unknown\",IF($I104=99,\"Stopped\", $D104)), 0),\"Not required\")","v":0},{"$f":"IF(INTRO!$E$42=\"Endemic\", IF(AND($J104>1,$J104<5), IF($J104=4, \"Unknown\", E104+F104), 0),\"Not required\")","v":134500},{"$f":"IF(INTRO!$E$44=\"Endemic\", IF(AND($K104>0,$K104<5), IF($K104=4,\"Unknown\", IF($K104=1, $F104*0.33, IF($K104=2, $F104*0.5+$G104*0.2, SUM(F104:G104)))), 0),\"Not required\")","v":92194.750567752984},0,0,1,1,null,"T1 (PZQ+ALB/MBD)","T1","T3",46548,"Morogoro Municipal Council",null,null,null,null,null,{"$f":"'MDA3'!Q104","v":0},{"$f":"'T1'!O104","v":72964},{"$f":"T3_R1!N104","v":0},null,72964,1]
[{"$f":"IF(INTRO!$E$34<>0,INTRO!$E$34,\"\")","v":"Tanzania"},"Morogoro","Mvomero District Council",378070.71222040732,48771,85290,244009.71222040732,99,1,3,2,{"$f":"IF(INTRO!$E$38=\"Endemic\", IF($H105>0, IF($H105=4,\"Unknown\", IF($H105=99,\"Stopped\", $D105)), 0),\"Not required\")","v":"Stopped"},{"$f":"IF(INTRO!$E$40=\"Endemic\", IF($I105>0, IF($I105=4,\"Unknown\",IF($I105=99,\"Stopped\", $D105)), 0),\"Not required\")","v":378070.71222040732},{"$f":"IF(INTRO!$E$42=\"Endemic\", IF(AND($J105>1,$J105<5), IF($J105=4, \"Unknown\", E105+F105), 0),\"Not required\")","v":134061},{"$f":"IF(INTRO!$E$44=\"Endemic\", IF(AND($K105>0,$K105<5), IF($K105=4,\"Unknown\", IF($K105=1, $F105*0.33, IF($K105=2, $F105*0.5+$G105*0.2, SUM(F105:G105)))), 0),\"Not required\")","v":91446.942444081476},0,1,1,1,null,"T1 (PZQ+ALB/MBD)","MDA 1","T1",46549,"Mvomero District Council",null,null,null,null,null,{"$f":"'MDA3'!Q105","v":0},{"$f":"'T1'!O105","v":77679},{"$f":"T3_R1!N105","v":0},null,77679,1]
[{"$f":"IF(INTRO!$E$34<>0,INTRO!$E$34,\"\")","v":"Tanzania"},"Morogoro","Ulanga District Council",208427,26887,52569,128971,99,1,3,2,{"$f":"IF(INTRO!$E$38=\"Endemic\", IF($H106>0, IF($H106=4,\"Unknown\", IF($H106=99,\"Stopped\", $D106)), 0),\"Not required\")","v":"Stopped"},{"$f":"IF(INTRO!$E$40=\"Endemic\", IF($I106>0, IF($I106=4,\"Unknown\",IF($I106=99,\"Stopped\", $D106)), 0),\"Not required\")","v":208427},{"$f":"IF(INTRO!$E$42=\"Endemic\", IF(AND($J106>1,$J106<5), IF($J106=4, \"Unknown\", E106+F106), 0),\"Not required\")","v":79456},{"$f":"IF(INTRO!$E$44=\"Endemic\", IF(AND($K106>0,$K106<5), IF($K106=4,\"Unknown\", IF($K106=1, $F106*0.33, IF($K106=2, $F106*0.5+$G106*0.2, SUM(F106:G106)))), 0),\"Not required\")","v":52078.7},0,2,1,1,"MDA3 (IVM)","T1 (PZQ+ALB/MBD)","MDA 1","T1",46550,"Ulanga District Council",null,null,null,null,null,{"$f":"'MDA3'!Q106","v":188469},{"$f":"'T1'!O106","v":49076},{"$f":"T3_R1!N106","v":0},null,49076,1]
[{"$f":"IF(INTRO!$E$34<>0,INTRO!$E$34,\"\")","v":"Tanzania"},"Mtwara","Masasi District Council",287417.61682789191,37077,51908,198432.61682789191,1,0,3,3,{"$f":"IF(INTRO!$E$38=\"Endemic\", IF($H107>0, IF($H107=4,\"Unknown\", IF($H107=99,\"Stopped\", $D107)), 0),\"Not required\")","v":287417.61682789191},{"$f":"IF(INTRO!$E$40=\"Endemic\", IF($I107>0, IF($I107=4,\"Unknown\",IF($I107=99,\"Stopped\", $D107)), 0),\"Not required\")","v":0},{"$f":"IF(INTRO!$E$42=\"Endemic\", IF(AND($J107>1,$J107<5), IF($J107=4, \"Unknown\", E107+F107), 0),\"Not required\")","v":88985},{"$f":"IF(INTRO!$E$44=\"Endemic\", IF(AND($K107>0,$K107<5), IF($K107=4,\"Unknown\", IF($K107=1, $F107*0.33, IF($K107=2, $F107*0.5+$G107*0.2, SUM(F107:G107)))), 0),\"Not required\")","v":250340.61682789191},0,0,1,1,null,"T1 (PZQ+ALB/MBD)","MDA 1","T1",46551,"Masasi District Council",null,null,null,null,null,{"$f":"'MDA3'!Q107","v":0},{"$f":"'T1'!O107","v":49454},{"$f":"T3_R1!N107","v":0},null,49454,1]
[{"$f":"IF(INTRO!$E$34<>0,INTRO!$E$34,\"\")","v":"Tanzania"},"Mtwara","Masasi Town Council",98982.439502395457,12769,24754,61459.439502395457,99,0,3,3,{"$f":"IF(INTRO!$E$38=\"Endemic\", IF($H108>0, IF($H108=4,\"Unknown\", IF($H108=99,\"Stopped\", $D108)), 0),\"Not required\")","v":"Stopped"},{"$f":"IF(INTRO!$E$40=\"Endemic\", IF($I108>0, IF($I108=4,\"Unknown\",IF($I108=99,\"Stopped\", $D108)), 0),\"Not required\")","v":0},{"$f":"IF(INTRO!$E$42=\"Endemic\", IF(AND($J108>1,$J108<5), IF($J108=4, \"Unknown\", E108+F108), 0),\"Not required\")","v":37523},{"$f":"IF(INTRO!$E$44=\"Endemic\", IF(AND($K108>0,$K108<5), IF($K108=4,\"Unknown\", IF($K108=1, $F108*0.33, IF($K108=2, $F108*0.5+$G108*0.2, SUM(F108:G108)))), 0),\"Not required\")","v":86213.439502395457},0,0,1,1,null,"T1 (PZQ+ALB/MBD)","T1","T3",46552,"Masasi Town Council",null,null,null,null,null,{"$f":"'MDA3'!Q108","v":0},{"$f":"'T1'!O108","v":22358},{"$f":"T3_R1!N108","v":0},null,22358,1]
[{"$f":"IF(INTRO!$E$34<>0,INTRO!$E$34,\"\")","v":"Tanzania"},"Mtwara","Mtwara District Council",135520.74532328834,17482,34327,83711.745323288342,99,0,3,3,{"$f":"IF(INTRO!$E$38=\"Endemic\", IF($H109>0, IF($H109=4,\"Unknown\", IF($H109=99,\"Stopped\", $D109)), 0),\"Not required\")","v":"Stopped"},{"$f":"IF(INTRO!$E$40=\"Endemic\", IF($I109>0, IF($I109=4,\"Unknown\",IF($I109=99,\"Stopped\", $D109)), 0),\"Not required\")","v":0},{"$f":"IF(INTRO!$E$42=\"Endemic\", IF(AND($J109>1,$J109<5), IF($J109=4, \"Unknown\", E109+F109), 0),\"Not required\")","v":51809},{"$f":"IF(INTRO!$E$44=\"Endemic\", IF(AND($K109>0,$K109<5), IF($K109=4,\"Unknown\", IF($K109=1, $F109*0.33, IF($K109=2, $F109*0.5+$G109*0.2, SUM(F109:G109)))), 0),\"Not required\")","v":118038.74532328834},0,0,1,1,null,"T1 (PZQ+ALB/MBD)","T1","T3",46553,"Mtwara District Council",null,null,null,null,null,{"$f":"'MDA3'!Q109","v":0},{"$f":"'T1'!O109","v":31924},{"$f":"T3_R1!N109","v":0},null,31924,1]
[{"$f":"IF(INTRO!$E$34<>0,INTRO!$E$34,\"\")","v":"Tanzania"},"Mtwara","Mtwara-Mikindani Municipal Council",140907,18177,26644,96086,1,0,3,2,{"$f":"IF(INTRO!$E$38=\"Endemic\", IF($H110>0, IF($H110=4,\"Unknown\", IF($H110=99,\"Stopped\", $D110)), 0),\"Not required\")","v":140907},{"$f":"IF(INTRO!$E$40=\"Endemic\", IF($I110>0, IF($I110=4,\"Unknown\",IF($I110=99,\"Stopped\", $D110)), 0),\"Not required\")","v":0},{"$f":"IF(INTRO!$E$42=\"Endemic\", IF(AND($J110>1,$J110<5), IF($J110=4, \"Unknown\", E110+F110), 0),\"Not required\")","v":44821},{"$f":"IF(INTRO!$E$44=\"Endemic\", IF(AND($K110>0,$K110<5), IF($K110=4,\"Unknown\", IF($K110=1, $F110*0.33, IF($K110=2, $F110*0.5+$G110*0.2, SUM(F110:G110)))), 0),\"Not required\")","v":32539.200000000001},0,0,1,0,null,"T3 (ALB/MBD)","MDA 1","T1",46554,"Mtwara-Mikindani Municipal Council",null,null,null,null,null,{"$f":"'MDA3'!Q110","v":0},{"$f":"'T1'!O110","v":0},{"$f":"T3_R1!N110","v":25952},null,25952,1]
[{"$f":"IF(INTRO!$E$34<>0,INTRO!$E$34,\"\")","v":"Tanzania"},"Mtwara","Nanyamba Town Council",115696.42397034334,14925,25968,74803.423970343341,99,0,3,3,{"$f":"IF(INTRO!$E$38=\"Endemic\", IF($H111>0, IF($H111=4,\"Unknown\", IF($H111=99,\"Stopped\", $D111)), 0),\"Not required\")","v":"Stopped"},{"$f":"IF(INTRO!$E$40=\"Endemic\", IF($I111>0, IF($I111=4,\"Unknown\",IF($I111=99,\"Stopped\", $D111)), 0),\"Not required\")","v":0},{"$f":"IF(INTRO!$E$42=\"Endemic\", IF(AND($J111>1,$J111<5), IF($J111=4, \"Unknown\", E111+F111), 0),\"Not required\")","v":40893},{"$f":"IF(INTRO!$E$44=\"Endemic\", IF(AND($K111>0,$K111<5), IF($K111=4,\"Unknown\", IF($K111=1, $F111*0.33, IF($K111=2, $F111*0.5+$G111*0.2, SUM(F111:G111)))), 0),\"Not required\")","v":100771.42397034334},0,0,1,1,null,"T1 (PZQ+ALB/MBD)","T1","T3",46634,"Nanyamba District Council",null,null,null,null,null,{"$f":"'MDA3'!Q111","v":0},{"$f":"'T1'!O111","v":25375},{"$f":"T3_R1!N111","v":0},null,25375,1]
[{"$f":"IF(INTRO!$E$34<>0,INTRO!$E$34,\"\")","v":"Tanzania"},"Mtwara","Nanyumbu District Council",166216.53271684115,21442,40705,104069.53271684115,99,0,3,3,{"$f":"IF(INTRO!$E$38=\"Endemic\", IF($H112>0, IF($H112=4,\"Unknown\", IF($H112=99,\"Stopped\", $D112)), 0),\"Not required\")","v":"Stopped"},{"$f":"IF(INTRO!$E$40=\"Endemic\", IF($I112>0, IF($I112=4,\"Unknown\",IF($I112=99,\"Stopped\", $D112)), 0),\"Not required\")","v":0},{"$f":"IF(INTRO!$E$42=\"Endemic\", IF(AND($J112>1,$J112<5), IF($J112=4, \"Unknown\", E112+F112), 0),\"Not required\")","v":62147},{"$f":"IF(INTRO!$E$44=\"Endemic\", IF(AND($K112>0,$K112<5), IF($K112=4,\"Unknown\", IF($K112=1, $F112*0.33, IF($K112=2, $F112*0.5+$G112*0.2, SUM(F112:G112)))), 0),\"Not required\")","v":144774.53271684115},0,0,1,1,null,"T1 (PZQ+ALB/MBD)","T1","T3",46555,"Nanyumbu District Council",null,null,null,null,null,{"$f":"'MDA3'!Q112","v":0},{"$f":"'T1'!O112","v":36535},{"$f":"T3_R1!N112","v":0},null,36535,1]
[{"$f":"IF(INTRO!$E$34<>0,INTRO!$E$34,\"\")","v":"Tanzania"},"Mtwara","Newala District Council",128077.83772325939,16522,26531,85024.837723259392,99,0,3,2,{"$f":"IF(INTRO!$E$38=\"Endemic\", IF($H113>0, IF($H113=4,\"Unknown\", IF($H113=99,\"Stopped\", $D113)), 0),\"Not required\")","v":"Stopped"},{"$f":"IF(INTRO!$E$40=\"Endemic\", IF($I113>0, IF($I113=4,\"Unknown\",IF($I113=99,\"Stopped\", $D113)), 0),\"Not required\")","v":0},{"$f":"IF(INTRO!$E$42=\"Endemic\", IF(AND($J113>1,$J113<5), IF($J113=4, \"Unknown\", E113+F113), 0),\"Not required\")","v":43053},{"$f":"IF(INTRO!$E$44=\"Endemic\", IF(AND($K113>0,$K113<5), IF($K113=4,\"Unknown\", IF($K113=1, $F113*0.33, IF($K113=2, $F113*0.5+$G113*0.2, SUM(F113:G113)))), 0),\"Not required\")","v":30270.467544651878},0,0,1,0,null,"T3 (ALB/MBD)","T1","T3",46556,"Newala District Council",null,null,null,null,null,{"$f":"'MDA3'!Q113","v":0},{"$f":"'T1'!O113","v":0},{"$f":"T3_R1!N113","v":25381},null,25381,1]
[{"$f":"IF(INTRO!$E$34<>0,INTRO!$E$34,\"\")","v":"Tanzania"},"Mtwara","Newala Town Council",98337.615841305596,12686,22216,63435.615841305596,99,0,3,2,{"$f":"IF(INTRO!$E$38=\"Endemic\", IF($H114>0, IF($H114=4,\"Unknown\", IF($H114=99,\"Stopped\", $D114)), 0),\"Not required\")","v":"Stopped"},{"$f":"IF(INTRO!$E$40=\"Endemic\", IF($I114>0, IF($I114=4,\"Unknown\",IF($I114=99,\"Stopped\", $D114)), 0),\"Not required\")","v":0},{"$f":"IF(INTRO!$E$42=\"Endemic\", IF(AND($J114>1,$J114<5), IF($J114=4, \"Unknown\", E114+F114), 0),\"Not required\")","v":34902},{"$f":"IF(INTRO!$E$44=\"Endemic\", IF(AND($K114>0,$K114<5), IF($K114=4,\"Unknown\", IF($K114=1, $F114*0.33, IF($K114=2, $F114*0.5+$G114*0.2, SUM(F114:G114)))), 0),\"Not required\")","v":23795.123168261118},0,0,1,0,null,"T3 (ALB/MBD)","T1","T3",46635,"Newala Town Council",null,null,null,null,null,{"$f":"'MDA3'!Q114","v":0},{"$f":"'T1'!O114","v":0},{"$f":"T3_R1!N114","v":21558},null,21558,1]
[{"$f":"IF(INTRO!$E$34<>0,INTRO!$E$34,\"\")","v":"Tanzania"},"Mtwara","Tandahimba District Council",250680.38988355175,32338,64986,153356.38988355175,99,0,3,2,{"$f":"IF(INTRO!$E$38=\"Endemic\", IF($H115>0, IF($H115=4,\"Unknown\", IF($H115=99,\"Stopped\", $D115)), 0),\"Not required\")","v":"Stopped"},{"$f":"IF(INTRO!$E$40=\"Endemic\", IF($I115>0, IF($I115=4,\"Unknown\",IF($I115=99,\"Stopped\", $D115)), 0),\"Not required\")","v":0},{"$f":"IF(INTRO!$E$42=\"Endemic\", IF(AND($J115>1,$J115<5), IF($J115=4, \"Unknown\", E115+F115), 0),\"Not required\")","v":97324},{"$f":"IF(INTRO!$E$44=\"Endemic\", IF(AND($K115>0,$K115<5), IF($K115=4,\"Unknown\", IF($K115=1, $F115*0.33, IF($K115=2, $F115*0.5+$G115*0.2, SUM(F115:G115)))), 0),\"Not required\")","v":63164.277976710349},0,0,1,0,null,"T3 (ALB/MBD)","T1","T3",46557,"Tandahimba District Council",null,null,null,null,null,{"$f":"'MDA3'!Q115","v":0},{"$f":"'T1'!O115","v":0},{"$f":"T3_R1!N115","v":63709},null,63709,1]
[{"$f":"IF(INTRO!$E$34<>0,INTRO!$E$34,\"\")","v":"Tanzania"},"Mwanza","Buchosa District Council",415622.44066424627,53615,109015,252992.44066424627,0,0,3,2,{"$f":"IF(INTRO!$E$38=\"Endemic\", IF($H116>0, IF($H116=4,\"Unknown\", IF($H116=99,\"Stopped\", $D116)), 0),\"Not required\")","v":0},{"$f":"IF(INTRO!$E$40=\"Endemic\", IF($I116>0, IF($I116=4,\"Unknown\",IF($I116=99,\"Stopped\", $D116)), 0),\"Not required\")","v":0},{"$f":"IF(INTRO!$E$42=\"Endemic\", IF(AND($J116>1,$J116<5), IF($J116=4, \"Unknown\", E116+F116), 0),\"Not required\")","v":162630},{"$f":"IF(INTRO!$E$44=\"Endemic\", IF(AND($K116>0,$K116<5), IF($K116=4,\"Unknown\", IF($K116=1, $F116*0.33, IF($K116=2, $F116*0.5+$G116*0.2, SUM(F116:G116)))), 0),\"Not required\")","v":105105.98813284925},0,0,0,1,null,null,"T1","T3",46636,"Buchosa District Council",null,null,null,null,null,{"$f":"'MDA3'!Q116","v":0},{"$f":"'T1'!O116","v":0},{"$f":"T3_R1!N116","v":0},null,0,0]
[{"$f":"IF(INTRO!$E$34<>0,INTRO!$E$34,\"\")","v":"Tanzania"},"Mwanza","Ilemela Municipal Council",434940.1953494632,56107,97585,281248.1953494632,0,0,3,2,{"$f":"IF(INTRO!$E$38=\"Endemic\", IF($H117>0, IF($H117=4,\"Unknown\", IF($H117=99,\"Stopped\", $D117)), 0),\"Not required\")","v":0},{"$f":"IF(INTRO!$E$40=\"Endemic\", IF($I117>0, IF($I117=4,\"Unknown\",IF($I117=99,\"Stopped\", $D117)), 0),\"Not required\")","v":0},{"$f":"IF(INTRO!$E$42=\"Endemic\", IF(AND($J117>1,$J117<5), IF($J117=4, \"Unknown\", E117+F117), 0),\"Not required\")","v":153692},{"$f":"IF(INTRO!$E$44=\"Endemic\", IF(AND($K117>0,$K117<5), IF($K117=4,\"Unknown\", IF($K117=1, $F117*0.33, IF($K117=2, $F117*0.5+$G117*0.2, SUM(F117:G117)))), 0),\"Not required\")","v":105042.13906989264},0,0,0,1,null,null,"T1","T3",46558,"Ilemela Municipal Council",null,null,null,null,null,{"$f":"'MDA3'!Q117","v":0},{"$f":"'T1'!O117","v":0},{"$f":"T3_R1!N117","v":0},null,0,0]
[{"$f":"IF(INTRO!$E$34<>0,INTRO!$E$34,\"\")","v":"Tanzania"},"Mwanza","Kwimba District Council",515471.95119755832,66496,117759,331216.95119755832,0,0,3,3,{"$f":"IF(INTRO!$E$38=\"Endemic\", IF($H118>0, IF($H118=4,\"Unknown\", IF($H118=99,\"Stopped\", $D118)), 0),\"Not required\")","v":0},{"$f":"IF(INTRO!$E$40=\"Endemic\", IF($I118>0, IF($I118=4,\"Unknown\",IF($I118=99,\"Stopped\", $D118)), 0),\"Not required\")","v":0},{"$f":"IF(INTRO!$E$42=\"Endemic\", IF(AND($J118>1,$J118<5), IF($J118=4, \"Unknown\", E118+F118), 0),\"Not required\")","v":184255},{"$f":"IF(INTRO!$E$44=\"Endemic\", IF(AND($K118>0,$K118<5), IF($K118=4,\"Unknown\", IF($K118=1, $F118*0.33, IF($K118=2, $F118*0.5+$G118*0.2, SUM(F118:G118)))), 0),\"Not required\")","v":448975.95119755832},0,0,0,1,null,null,"T1","T3",46559,"Kwimba District Council",null,null,null,null,null,{"$f":"'MDA3'!Q118","v":0},{"$f":"'T1'!O118","v":0},{"$f":"T3_R1!N118","v":0},null,0,0]
[{"$f":"IF(INTRO!$E$34<>0,INTRO!$E$34,\"\")","v":"Tanzania"},"Mwanza","Magu District Council",380108.35742222879,49034,97585,233489.35742222879,0,0,3,3,{"$f":"IF(INTRO!$E$38=\"Endemic\", IF($H119>0, IF($H119=4,\"Unknown\", IF($H119=99,\"Stopped\", $D119)), 0),\"Not required\")","v":0},{"$f":"IF(INTRO!$E$40=\"Endemic\", IF($I119>0, IF($I119=4,\"Unknown\",IF($I119=99,\"Stopped\", $D119)), 0),\"Not required\")","v":0},{"$f":"IF(INTRO!$E$42=\"Endemic\", IF(AND($J119>1,$J119<5), IF($J119=4, \"Unknown\", E119+F119), 0),\"Not required\")","v":146619},{"$f":"IF(INTRO!$E$44=\"Endemic\", IF(AND($K119>0,$K119<5), IF($K119=4,\"Unknown\", IF($K119=1, $F119*0.33, IF($K119=2, $F119*0.5+$G119*0.2, SUM(F119:G119)))), 0),\"Not required\")","v":331074.35742222879},0,0,0,1,null,null,"T1","T3",46560,"Magu District Council",null,null,null,null,null,{"$f":"'MDA3'!Q119","v":0},{"$f":"'T1'!O119","v":0},{"$f":"T3_R1!N119","v":0},null,0,0]
[{"$f":"IF(INTRO!$E$34<>0,INTRO!$E$34,\"\")","v":"Tanzania"},"Mwanza","Misungwi District Council",445852.74172410782,57515,104985,283352.74172410782,0,0,3,3,{"$f":"IF(INTRO!$E$38=\"Endemic\", IF($H120>0, IF($H120=4,\"Unknown\", IF($H120=99,\"Stopped\", $D120)), 0),\"Not required\")","v":0},{"$f":"IF(INTRO!$E$40=\"Endemic\", IF($I120>0, IF($I120=4,\"Unknown\",IF($I120=99,\"Stopped\", $D120)), 0),\"Not required\")","v":0},{"$f":"IF(INTRO!$E$42=\"Endemic\", IF(AND($J120>1,$J120<5), IF($J120=4, \"Unknown\", E120+F120), 0),\"Not required\")","v":162500},{"$f":"IF(INTRO!$E$44=\"Endemic\", IF(AND($K120>0,$K120<5), IF($K120=4,\"Unknown\", IF($K120=1, $F120*0.33, IF($K120=2, $F120*0.5+$G120*0.2, SUM(F120:G120)))), 0),\"Not required\")","v":388337.74172410782},0,0,0,1,null,null,"T1","T3",46561,"Misungwi District Council",null,null,null,null,null,{"$f":"'MDA3'!Q120","v":0},{"$f":"'T1'!O120","v":0},{"$f":"T3_R1!N120","v":0},null,0,0]
[{"$f":"IF(INTRO!$E$34<>0,INTRO!$E$34,\"\")","v":"Tanzania"},"Mwanza","Mwanza-Nyamagana City Council",460872.35025938356,59453,116933,284486.35025938356,0,0,3,2,{"$f":"IF(INTRO!$E$38=\"Endemic\", IF($H121>0, IF($H121=4,\"Unknown\", IF($H121=99,\"Stopped\", $D121)), 0),\"Not required\")","v":0},{"$f":"IF(INTRO!$E$40=\"Endemic\", IF($I121>0, IF($I121=4,\"Unknown\",IF($I121=99,\"Stopped\", $D121)), 0),\"Not required\")","v":0},{"$f":"IF(INTRO!$E$42=\"Endemic\", IF(AND($J121>1,$J121<5), IF($J121=4, \"Unknown\", E121+F121), 0),\"Not required\")","v":176386},{"$f":"IF(INTRO!$E$44=\"Endemic\", IF(AND($K121>0,$K121<5), IF($K121=4,\"Unknown\", IF($K121=1, $F121*0.33, IF($K121=2, $F121*0.5+$G121*0.2, SUM(F121:G121)))), 0),\"Not required\")","v":115363.77005187672},0,0,0,1,null,null,"T1","T3",46562,"Mwanza-Nyamagana City Council",null,null,null,null,null,{"$f":"'MDA3'!Q121","v":0},{"$f":"'T1'!O121","v":0},{"$f":"T3_R1!N121","v":0},null,0,0]
[{"$f":"IF(INTRO!$E$34<>0,INTRO!$E$34,\"\")","v":"Tanzania"},"Mwanza","Sengerema District Council",425133.40499777149,54842,116239,254052.40499777149,0,0,3,2,{"$f":"IF(INTRO!$E$38=\"Endemic\", IF($H122>0, IF($H122=4,\"Unknown\", IF($H122=99,\"Stopped\", $D122)), 0),\"Not required\")","v":0},{"$f":"IF(INTRO!$E$40=\"Endemic\", IF($I122>0, IF($I122=4,\"Unknown\",IF($I122=99,\"Stopped\", $D122)), 0),\"Not required\")","v":0},{"$f":"IF(INTRO!$E$42=\"Endemic\", IF(AND($J122>1,$J122<5), IF($J122=4, \"Unknown\", E122+F122), 0),\"Not required\")","v":171081},{"$f":"IF(INTRO!$E$44=\"Endemic\", IF(AND($K122>0,$K122<5), IF($K122=4,\"Unknown\", IF($K122=1, $F122*0.33, IF($K122=2, $F122*0.5+$G122*0.2, SUM(F122:G122)))), 0),\"Not required\")","v":108929.9809995543},0,0,0,1,null,null,"T1","T3",46563,"Sengerema District Council",null,null,null,null,null,{"$f":"'MDA3'!Q122","v":0},{"$f":"'T1'!O122","v":0},{"$f":"T3_R1!N122","v":0},null,0,0]
[{"$f":"IF(INTRO!$E$34<>0,INTRO!$E$34,\"\")","v":"Tanzania"},"Mwanza","Ukerewe District Council",437661.13643453451,56458,115190,266013.13643453451,0,0,3,2,{"$f":"IF(INTRO!$E$38=\"Endemic\", IF($H123>0, IF($H123=4,\"Unknown\", IF($H123=99,\"Stopped\", $D123)), 0),\"Not required\")","v":0},{"$f":"IF(INTRO!$E$40=\"Endemic\", IF($I123>0, IF($I123=4,\"Unknown\",IF($I123=99,\"Stopped\", $D123)), 0),\"Not required\")","v":0},{"$f":"IF(INTRO!$E$42=\"Endemic\", IF(AND($J123>1,$J123<5), IF($J123=4, \"Unknown\", E123+F123), 0),\"Not required\")","v":171648},{"$f":"IF(INTRO!$E$44=\"Endemic\", IF(AND($K123>0,$K123<5), IF($K123=4,\"Unknown\", IF($K123=1, $F123*0.33, IF($K123=2, $F123*0.5+$G123*0.2, SUM(F123:G123)))), 0),\"Not required\")","v":110797.62728690691},0,0,0,1,null,null,"T1","T3",46564,"Ukerewe District Council",null,null,null,null,null,{"$f":"'MDA3'!Q123","v":0},{"$f":"'T1'!O123","v":0},{"$f":"T3_R1!N123","v":0},null,0,0]
[{"$f":"IF(INTRO!$E$34<>0,INTRO!$E$34,\"\")","v":"Tanzania"},"Njombe","Ludewa District Council",141972.1032400777,18314,39169,84489.103240077704,99,1,3,2,{"$f":"IF(INTRO!$E$38=\"Endemic\", IF($H124>0, IF($H124=4,\"Unknown\", IF($H124=99,\"Stopped\", $D124)), 0),\"Not required\")","v":"Stopped"},{"$f":"IF(INTRO!$E$40=\"Endemic\", IF($I124>0, IF($I124=4,\"Unknown\",IF($I124=99,\"Stopped\", $D124)), 0),\"Not required\")","v":141972.1032400777},{"$f":"IF(INTRO!$E$42=\"Endemic\", IF(AND($J124>1,$J124<5), IF($J124=4, \"Unknown\", E124+F124), 0),\"Not required\")","v":57483},{"$f":"IF(INTRO!$E$44=\"Endemic\", IF(AND($K124>0,$K124<5), IF($K124=4,\"Unknown\", IF($K124=1, $F124*0.33, IF($K124=2, $F124*0.5+$G124*0.2, SUM(F124:G124)))), 0),\"Not required\")","v":36482.320648015542},0,1,1,1,null,"T1 (PZQ+ALB/MBD)","MDA 1","T1",46565,"Ludewa District Council",null,null,null,null,null,{"$f":"'MDA3'!Q124","v":0},{"$f":"'T1'!O124","v":38027},{"$f":"T3_R1!N124","v":0},null,38027,1]
[{"$f":"IF(INTRO!$E$34<>0,INTRO!$E$34,\"\")","v":"Tanzania"},"Njombe","Makambako Town Council",99991.472745775696,12899,26510,60582.472745775696,99,0,3,2,{"$f":"IF(INTRO!$E$38=\"Endemic\", IF($H125>0, IF($H125=4,\"Unknown\", IF($H125=99,\"Stopped\", $D125)), 0),\"Not required\")","v":"Stopped"},{"$f":"IF(INTRO!$E$40=\"Endemic\", IF($I125>0, IF($I125=4,\"Unknown\",IF($I125=99,\"Stopped\", $D125)), 0),\"Not required\")","v":0},{"$f":"IF(INTRO!$E$42=\"Endemic\", IF(AND($J125>1,$J125<5), IF($J125=4, \"Unknown\", E125+F125), 0),\"Not required\")","v":39409},{"$f":"IF(INTRO!$E$44=\"Endemic\", IF(AND($K125>0,$K125<5), IF($K125=4,\"Unknown\", IF($K125=1, $F125*0.33, IF($K125=2, $F125*0.5+$G125*0.2, SUM(F125:G125)))), 0),\"Not required\")","v":25371.494549155141},0,0,1,1,null,"T1 (PZQ+ALB/MBD)","T1","T3",46566,"Makambako Town Council",null,null,null,null,null,{"$f":"'MDA3'!Q125","v":0},{"$f":"'T1'!O125","v":25323},{"$f":"T3_R1!N125","v":0},null,25323,1]
[{"$f":"IF(INTRO!$E$34<>0,INTRO!$E$34,\"\")","v":"Tanzania"},"Njombe","Makete District Council",103656.29049215466,13372,23200,67084.290492154658,99,0,3,2,{"$f":"IF(INTRO!$E$38=\"Endemic\", IF($H126>0, IF($H126=4,\"Unknown\", IF($H126=99,\"Stopped\", $D126)), 0),\"Not required\")","v":"Stopped"},{"$f":"IF(INTRO!$E$40=\"Endemic\", IF($I126>0, IF($I126=4,\"Unknown\",IF($I126=99,\"Stopped\", $D126)), 0),\"Not required\")","v":0},{"$f":"IF(INTRO!$E$42=\"Endemic\", IF(AND($J126>1,$J126<5), IF($J126=4, \"Unknown\", E126+F126), 0),\"Not required\")","v":36572},{"$f":"IF(INTRO!$E$44=\"Endemic\", IF(AND($K126>0,$K126<5), IF($K126=4,\"Unknown\", IF($K126=1, $F126*0.33, IF($K126=2, $F126*0.5+$G126*0.2, SUM(F126:G126)))), 0),\"Not required\")","v":25016.85809843093},0,0,1,1,null,"T1 (PZQ+ALB/MBD)","T1","T3",46567,"Makete District Council",null,null,null,null,null,{"$f":"'MDA3'!Q126","v":0},{"$f":"'T1'!O126","v":22677},{"$f":"T3_R1!N126","v":0},null,22677,1]
[{"$f":"IF(INTRO!$E$34<>0,INTRO!$E$34,\"\")","v":"Tanzania"},"Njombe","Njombe District Council",91382.634058691227,11788,24384,55210.634058691227,99,1,3,2,{"$f":"IF(INTRO!$E$38=\"Endemic\", IF($H127>0, IF($H127=4,\"Unknown\", IF($H127=99,\"Stopped\", $D127)), 0),\"Not required\")","v":"Stopped"},{"$f":"IF(INTRO!$E$40=\"Endemic\", IF($I127>0, IF($I127=4,\"Unknown\",IF($I127=99,\"Stopped\", $D127)), 0),\"Not required\")","v":91382.634058691227},{"$f":"IF(INTRO!$E$42=\"Endemic\", IF(AND($J127>1,$J127<5), IF($J127=4, \"Unknown\", E127+F127), 0),\"Not required\")","v":36172},{"$f":"IF(INTRO!$E$44=\"Endemic\", IF(AND($K127>0,$K127<5), IF($K127=4,\"Unknown\", IF($K127=1, $F127*0.33, IF($K127=2, $F127*0.5+$G127*0.2, SUM(F127:G127)))), 0),\"Not required\")","v":23234.126811738246},0,1,1,1,null,"T1 (PZQ+ALB/MBD)","MDA 1","T1",46568,"Njombe District Council",null,null,null,null,null,{"$f":"'MDA3'!Q127","v":0},{"$f":"'T1'!O127","v":24250},{"$f":"T3_R1!N127","v":0},null,24250,1]
[{"$f":"IF(INTRO!$E$34<>0,INTRO!$E$34,\"\")","v":"Tanzania"},"Njombe","Njombe Town Council",138779.56503746449,17903,37639,83237.56503746449,99,0,3,2,{"$f":"IF(INTRO!$E$38=\"Endemic\", IF($H128>0, IF($H128=4,\"Unknown\", IF($H128=99,\"Stopped\", $D128)), 0),\"Not required\")","v":"Stopped"},{"$f":"IF(INTRO!$E$40=\"Endemic\", IF($I128>0, IF($I128=4,\"Unknown\",IF($I128=99,\"Stopped\", $D128)), 0),\"Not required\")","v":0},{"$f":"IF(INTRO!$E$42=\"Endemic\", IF(AND($J128>1,$J128<5), IF($J128=4, \"Unknown\", E128+F128), 0),\"Not required\")","v":55542},{"$f":"IF(INTRO!$E$44=\"Endemic\", IF(AND($K128>0,$K128<5), IF($K128=4,\"Unknown\", IF($K128=1, $F128*0.33, IF($K128=2, $F128*0.5+$G128*0.2, SUM(F128:G128)))), 0),\"Not required\")","v":35467.013007492904},0,0,1,1,null,"T1 (PZQ+ALB/MBD)","T1","T3",46569,"Njombe Town Council",null,null,null,null,null,{"$f":"'MDA3'!Q128","v":0},{"$f":"'T1'!O128","v":35356},{"$f":"T3_R1!N128","v":0},null,35356,1]
[{"$f":"IF(INTRO!$E$34<>0,INTRO!$E$34,\"\")","v":"Tanzania"},"Njombe","Wanging'ombe District Council",172448.53945627759,22246,43185,107017.53945627759,99,0,3,2,{"$f":"IF(INTRO!$E$38=\"Endemic\", IF($H129>0, IF($H129=4,\"Unknown\", IF($H129=99,\"Stopped\", $D129)), 0),\"Not required\")","v":"Stopped"},{"$f":"IF(INTRO!$E$40=\"Endemic\", IF($I129>0, IF($I129=4,\"Unknown\",IF($I129=99,\"Stopped\", $D129)), 0),\"Not required\")","v":0},{"$f":"IF(INTRO!$E$42=\"Endemic\", IF(AND($J129>1,$J129<5), IF($J129=4, \"Unknown\", E129+F129), 0),\"Not required\")","v":65431},{"$f":"IF(INTRO!$E$44=\"Endemic\", IF(AND($K129>0,$K129<5), IF($K129=4,\"Unknown\", IF($K129=1, $F129*0.33, IF($K129=2, $F129*0.5+$G129*0.2, SUM(F129:G129)))), 0),\"Not required\")","v":42996.007891255518},0,0,1,1,null,"T1 (PZQ+ALB/MBD)","T1","T3",46570,"Wanging'ombe District Council",null,null,null,null,null,{"$f":"'MDA3'!Q129","v":0},{"$f":"'T1'!O129","v":42487},{"$f":"T3_R1!N129","v":0},null,42487,1]
[{"$f":"IF(INTRO!$E$34<>0,INTRO!$E$34,\"\")","v":"Tanzania"},"Pwani","Bagamoyo District Council",116150.84860288499,14983,34954,66213.848602884987,99,0,3,2,{"$f":"IF(INTRO!$E$38=\"Endemic\", IF($H130>0, IF($H130=4,\"Unknown\", IF($H130=99,\"Stopped\", $D130)), 0),\"Not required\")","v":"Stopped"},{"$f":"IF(INTRO!$E$40=\"Endemic\", IF($I130>0, IF($I130=4,\"Unknown\",IF($I130=99,\"Stopped\", $D130)), 0),\"Not required\")","v":0},{"$f":"IF(INTRO!$E$42=\"Endemic\", IF(AND($J130>1,$J130<5), IF($J130=4, \"Unknown\", E130+F130), 0),\"Not required\")","v":49937},{"$f":"IF(INTRO!$E$44=\"Endemic\", IF(AND($K130>0,$K130<5), IF($K130=4,\"Unknown\", IF($K130=1, $F130*0.33, IF($K130=2, $F130*0.5+$G130*0.2, SUM(F130:G130)))), 0),\"Not required\")","v":30719.769720576998},0,0,1,0,null,"T3 (ALB/MBD)","T1","T3",46571,"Bagamoyo District Council",null,null,null,null,null,{"$f":"'MDA3'!Q130","v":0},{"$f":"'T1'!O130","v":0},{"$f":"T3_R1!N130","v":34241},null,34241,1]
[{"$f":"IF(INTRO!$E$34<>0,INTRO!$E$34,\"\")","v":"Tanzania"},"Pwani","Chalinze District Council",254617.20542466908,32846,60732,161039.20542466908,99,0,3,2,{"$f":"IF(INTRO!$E$38=\"Endemic\", IF($H131>0, IF($H131=4,\"Unknown\", IF($H131=99,\"Stopped\", $D131)), 0),\"Not required\")","v":"Stopped"},{"$f":"IF(INTRO!$E$40=\"Endemic\", IF($I131>0, IF($I131=4,\"Unknown\",IF($I131=99,\"Stopped\", $D131)), 0),\"Not required\")","v":0},{"$f":"IF(INTRO!$E$42=\"Endemic\", IF(AND($J131>1,$J131<5), IF($J131=4, \"Unknown\", E131+F131), 0),\"Not required\")","v":93578},{"$f":"IF(INTRO!$E$44=\"Endemic\", IF(AND($K131>0,$K131<5), IF($K131=4,\"Unknown\", IF($K131=1, $F131*0.33, IF($K131=2, $F131*0.5+$G131*0.2, SUM(F131:G131)))), 0),\"Not required\")","v":62573.841084933818},0,0,1,0,null,"T3 (ALB/MBD)","T1","T3",46638,"Chalinze District Council",null,null,null,null,null,{"$f":"'MDA3'!Q131","v":0},{"$f":"'T1'!O131","v":0},{"$f":"T3_R1!N131","v":59560},null,59560,1]
[{"$f":"IF(INTRO!$E$34<>0,INTRO!$E$34,\"\")","v":"Tanzania"},"Pwani","Kibaha District Council",83504.002759398936,10772,21500,51232.002759398936,1,0,3,2,{"$f":"IF(INTRO!$E$38=\"Endemic\", IF($H132>0, IF($H132=4,\"Unknown\", IF($H132=99,\"Stopped\", $D132)), 0),\"Not required\")","v":83504.002759398936},{"$f":"IF(INTRO!$E$40=\"Endemic\", IF($I132>0, IF($I132=4,\"Unknown\",IF($I132=99,\"Stopped\", $D132)), 0),\"Not required\")","v":0},{"$f":"IF(INTRO!$E$42=\"Endemic\", IF(AND($J132>1,$J132<5), IF($J132=4, \"Unknown\", E132+F132), 0),\"Not required\")","v":32272},{"$f":"IF(INTRO!$E$44=\"Endemic\", IF(AND($K132>0,$K132<5), IF($K132=4,\"Unknown\", IF($K132=1, $F132*0.33, IF($K132=2, $F132*0.5+$G132*0.2, SUM(F132:G132)))), 0),\"Not required\")","v":20996.400551879786},0,0,1,1,null,"T1 (PZQ+ALB/MBD)","MDA 1","T1",46572,"Kibaha District Council",null,null,null,null,null,{"$f":"'MDA3'!Q132","v":0},{"$f":"'T1'!O132","v":18781},{"$f":"T3_R1!N132","v":0},null,18781,1]
[{"$f":"IF(INTRO!$E$34<>0,INTRO!$E$34,\"\")","v":"Tanzania"},"Pwani","Kibaha Town Council",152817.55838229004,19713,34561,98543.558382290037,99,0,3,2,{"$f":"IF(INTRO!$E$38=\"Endemic\", IF($H133>0, IF($H133=4,\"Unknown\", IF($H133=99,\"Stopped\", $D133)), 0),\"Not required\")","v":"Stopped"},{"$f":"IF(INTRO!$E$40=\"Endemic\", IF($I133>0, IF($I133=4,\"Unknown\",IF($I133=99,\"Stopped\", $D133)), 0),\"Not required\")","v":0},{"$f":"IF(INTRO!$E$42=\"Endemic\", IF(AND($J133>1,$J133<5), IF($J133=4, \"Unknown\", E133+F133), 0),\"Not required\")","v":54274},{"$f":"IF(INTRO!$E$44=\"Endemic\", IF(AND($K133>0,$K133<5), IF($K133=4,\"Unknown\", IF($K133=1, $F133*0.33, IF($K133=2, $F133*0.5+$G133*0.2, SUM(F133:G133)))), 0),\"Not required\")","v":36989.211676458013},0,0,1,1,null,"T1 (PZQ+ALB/MBD)","T1","T3",46573,"Kibaha Town Council",null,null,null,null,null,{"$f":"'MDA3'!Q133","v":0},{"$f":"'T1'!O133","v":29183},{"$f":"T3_R1!N133","v":0},null,29183,1]
[{"$f":"IF(INTRO!$E$34<>0,INTRO!$E$34,\"\")","v":"Tanzania"},"Pwani","Kibiti District Council",123608.86002801116,15946,41851,65811.860028011157,99,0,3,2,{"$f":"IF(INTRO!$E$38=\"Endemic\", IF($H134>0, IF($H134=4,\"Unknown\", IF($H134=99,\"Stopped\", $D134)), 0),\"Not required\")","v":"Stopped"},{"$f":"IF(INTRO!$E$40=\"Endemic\", IF($I134>0, IF($I134=4,\"Unknown\",IF($I134=99,\"Stopped\", $D134)), 0),\"Not required\")","v":0},{"$f":"IF(INTRO!$E$42=\"Endemic\", IF(AND($J134>1,$J134<5), IF($J134=4, \"Unknown\", E134+F134), 0),\"Not required\")","v":57797},{"$f":"IF(INTRO!$E$44=\"Endemic\", IF(AND($K134>0,$K134<5), IF($K134=4,\"Unknown\", IF($K134=1, $F134*0.33, IF($K134=2, $F134*0.5+$G134*0.2, SUM(F134:G134)))), 0),\"Not required\")","v":34087.872005602228},0,0,1,0,null,"T3 (ALB/MBD)","T1","T3",46639,"Kibiti District Council",null,null,null,null,null,{"$f":"'MDA3'!Q134","v":0},{"$f":"'T1'!O134","v":0},{"$f":"T3_R1!N134","v":36587},null,36587,1]
[{"$f":"IF(INTRO!$E$34<>0,INTRO!$E$34,\"\")","v":"Tanzania"},"Pwani","Kisarawe District Council",120834.69690452528,15588,31492,73754.696904525277,99,0,3,2,{"$f":"IF(INTRO!$E$38=\"Endemic\", IF($H135>0, IF($H135=4,\"Unknown\", IF($H135=99,\"Stopped\", $D135)), 0),\"Not required\")","v":"Stopped"},{"$f":"IF(INTRO!$E$40=\"Endemic\", IF($I135>0, IF($I135=4,\"Unknown\",IF($I135=99,\"Stopped\", $D135)), 0),\"Not required\")","v":0},{"$f":"IF(INTRO!$E$42=\"Endemic\", IF(AND($J135>1,$J135<5), IF($J135=4, \"Unknown\", E135+F135), 0),\"Not required\")","v":47080},{"$f":"IF(INTRO!$E$44=\"Endemic\", IF(AND($K135>0,$K135<5), IF($K135=4,\"Unknown\", IF($K135=1, $F135*0.33, IF($K135=2, $F135*0.5+$G135*0.2, SUM(F135:G135)))), 0),\"Not required\")","v":30496.939380905056},0,0,1,0,null,"T3 (ALB/MBD)","T1","T3",46574,"Kisarawe District Council",null,null,null,null,null,{"$f":"'MDA3'!Q135","v":0},{"$f":"'T1'!O135","v":0},{"$f":"T3_R1!N135","v":28225},null,28225,1]
[{"$f":"IF(INTRO!$E$34<>0,INTRO!$E$34,\"\")","v":"Tanzania"},"Pwani","Mafia District Council",55230.780863099979,7125,12421,35684.780863099979,1,0,3,2,{"$f":"IF(INTRO!$E$38=\"Endemic\", IF($H136>0, IF($H136=4,\"Unknown\", IF($H136=99,\"Stopped\", $D136)), 0),\"Not required\")","v":55230.780863099979},{"$f":"IF(INTRO!$E$40=\"Endemic\", IF($I136>0, IF($I136=4,\"Unknown\",IF($I136=99,\"Stopped\", $D136)), 0),\"Not required\")","v":0},{"$f":"IF(INTRO!$E$42=\"Endemic\", IF(AND($J136>1,$J136<5), IF($J136=4, \"Unknown\", E136+F136), 0),\"Not required\")","v":19546},{"$f":"IF(INTRO!$E$44=\"Endemic\", IF(AND($K136>0,$K136<5), IF($K136=4,\"Unknown\", IF($K136=1, $F136*0.33, IF($K136=2, $F136*0.5+$G136*0.2, SUM(F136:G136)))), 0),\"Not required\")","v":13347.456172619997},0,0,1,1,null,"T1 (PZQ+ALB/MBD)","MDA 1","T1",46575,"Mafia District Council",null,null,null,null,null,{"$f":"'MDA3'!Q136","v":0},{"$f":"'T1'!O136","v":12047},{"$f":"T3_R1!N136","v":0},null,12047,1]
[{"$f":"IF(INTRO!$E$34<>0,INTRO!$E$34,\"\")","v":"Tanzania"},"Pwani","Mkuranga District Council",265132.82667774783,34202,85317,145613.82667774783,99,0,3,2,{"$f":"IF(INTRO!$E$38=\"Endemic\", IF($H137>0, IF($H137=4,\"Unknown\", IF($H137=99,\"Stopped\", $D137)), 0),\"Not required\")","v":"Stopped"},{"$f":"IF(INTRO!$E$40=\"Endemic\", IF($I137>0, IF($I137=4,\"Unknown\",IF($I137=99,\"Stopped\", $D137)), 0),\"Not required\")","v":0},{"$f":"IF(INTRO!$E$42=\"Endemic\", IF(AND($J137>1,$J137<5), IF($J137=4, \"Unknown\", E137+F137), 0),\"Not required\")","v":119519},{"$f":"IF(INTRO!$E$44=\"Endemic\", IF(AND($K137>0,$K137<5), IF($K137=4,\"Unknown\", IF($K137=1, $F137*0.33, IF($K137=2, $F137*0.5+$G137*0.2, SUM(F137:G137)))), 0),\"Not required\")","v":71781.265335549571},0,0,1,0,null,"T3 (ALB/MBD)","T1","T3",46576,"Mkuranga District Council",null,null,null,null,null,{"$f":"'MDA3'!Q137","v":0},{"$f":"'T1'!O137","v":0},{"$f":"T3_R1!N137","v":74393},null,74393,1]
[{"$f":"IF(INTRO!$E$34<>0,INTRO!$E$34,\"\")","v":"Tanzania"},"Pwani","Rufiji District Council",134805.52884928291,17390,34675,82740.528849282913,99,0,3,2,{"$f":"IF(INTRO!$E$38=\"Endemic\", IF($H138>0, IF($H138=4,\"Unknown\", IF($H138=99,\"Stopped\", $D138)), 0),\"Not required\")","v":"Stopped"},{"$f":"IF(INTRO!$E$40=\"Endemic\", IF($I138>0, IF($I138=4,\"Unknown\",IF($I138=99,\"Stopped\", $D138)), 0),\"Not required\")","v":0},{"$f":"IF(INTRO!$E$42=\"Endemic\", IF(AND($J138>1,$J138<5), IF($J138=4, \"Unknown\", E138+F138), 0),\"Not required\")","v":52065},{"$f":"IF(INTRO!$E$44=\"Endemic\", IF(AND($K138>0,$K138<5), IF($K138=4,\"Unknown\", IF($K138=1, $F138*0.33, IF($K138=2, $F138*0.5+$G138*0.2, SUM(F138:G138)))), 0),\"Not required\")","v":33885.605769856586},0,0,1,0,null,"T3 (ALB/MBD)","T1","T3",46577,"Rufiji District Council",null,null,null,null,null,{"$f":"'MDA3'!Q138","v":0},{"$f":"'T1'!O138","v":0},{"$f":"T3_R1!N138","v":32820},null,{"$f":"AF138+AG138","v":32820},{"$f":"COUNTIF(AF138:AG138,\">0\")","v":1}]
[{"$f":"IF(INTRO!$E$34<>0,INTRO!$E$34,\"\")","v":"Tanzania"},"Rukwa","Kalambo District Council",267963.79615889827,34567,61789,171607.79615889827,99,0,3,2,{"$f":"IF(INTRO!$E$38=\"Endemic\", IF($H139>0, IF($H139=4,\"Unknown\", IF($H139=99,\"Stopped\", $D139)), 0),\"Not required\")","v":"Stopped"},{"$f":"IF(INTRO!$E$40=\"Endemic\", IF($I139>0, IF($I139=4,\"Unknown\",IF($I139=99,\"Stopped\", $D139)), 0),\"Not required\")","v":0},{"$f":"IF(INTRO!$E$42=\"Endemic\", IF(AND($J139>1,$J139<5), IF($J139=4, \"Unknown\", E139+F139), 0),\"Not required\")","v":96356},{"$f":"IF(INTRO!$E$44=\"Endemic\", IF(AND($K139>0,$K139<5), IF($K139=4,\"Unknown\", IF($K139=1, $F139*0.33, IF($K139=2, $F139*0.5+$G139*0.2, SUM(F139:G139)))), 0),\"Not required\")","v":65216.059231779655},0,0,1,0,null,"T3 (ALB/MBD)","T1","T3",46578,"Kalambo District Council",null,null,null,null,null,{"$f":"'MDA3'!Q139","v":0},{"$f":"'T1'!O139","v":0},{"$f":"T3_R1!N139","v":58958},null,58958,1]
[{"$f":"IF(INTRO!$E$34<>0,INTRO!$E$34,\"\")","v":"Tanzania"},"Rukwa","Nkasi District Council",362791.60498278291,46800,92300,223691.60498278291,99,0,3,2,{"$f":"IF(INTRO!$E$38=\"Endemic\", IF($H140>0, IF($H140=4,\"Unknown\", IF($H140=99,\"Stopped\", $D140)), 0),\"Not required\")","v":"Stopped"},{"$f":"IF(INTRO!$E$40=\"Endemic\", IF($I140>0, IF($I140=4,\"Unknown\",IF($I140=99,\"Stopped\", $D140)), 0),\"Not required\")","v":0},{"$f":"IF(INTRO!$E$42=\"Endemic\", IF(AND($J140>1,$J140<5), IF($J140=4, \"Unknown\", E140+F140), 0),\"Not required\")","v":139100},{"$f":"IF(INTRO!$E$44=\"Endemic\", IF(AND($K140>0,$K140<5), IF($K140=4,\"Unknown\", IF($K140=1, $F140*0.33, IF($K140=2, $F140*0.5+$G140*0.2, SUM(F140:G140)))), 0),\"Not required\")","v":90888.320996556577},0,0,1,0,null,"T3 (ALB/MBD)","T1","T3",46579,"Nkasi District Council",null,null,null,null,null,{"$f":"'MDA3'!Q140","v":0},{"$f":"'T1'!O140","v":0},{"$f":"T3_R1!N140","v":89245},null,89245,1]
[{"$f":"IF(INTRO!$E$34<>0,INTRO!$E$34,\"\")","v":"Tanzania"},"Rukwa","Sumbawanga District Council",394588.68152514461,50902,100766,242920.68152514461,99,0,3,2,{"$f":"IF(INTRO!$E$38=\"Endemic\", IF($H141>0, IF($H141=4,\"Unknown\", IF($H141=99,\"Stopped\", $D141)), 0),\"Not required\")","v":"Stopped"},{"$f":"IF(INTRO!$E$40=\"Endemic\", IF($I141>0, IF($I141=4,\"Unknown\",IF($I141=99,\"Stopped\", $D141)), 0),\"Not required\")","v":0},{"$f":"IF(INTRO!$E$42=\"Endemic\", IF(AND($J141>1,$J141<5), IF($J141=4, \"Unknown\", E141+F141), 0),\"Not required\")","v":151668},{"$f":"IF(INTRO!$E$44=\"Endemic\", IF(AND($K141>0,$K141<5), IF($K141=4,\"Unknown\", IF($K141=1, $F141*0.33, IF($K141=2, $F141*0.5+$G141*0.2, SUM(F141:G141)))), 0),\"Not required\")","v":98967.136305028922},0,0,1,0,null,"T3 (ALB/MBD)","T1","T3",46580,"Sumbawanga District Council",null,null,null,null,null,{"$f":"'MDA3'!Q141","v":0},{"$f":"'T1'!O141","v":0},{"$f":"T3_R1!N141","v":90508},null,90508,1]
[{"$f":"IF(INTRO!$E$34<>0,INTRO!$E$34,\"\")","v":"Tanzania"},"Rukwa","Sumbawanga Municipal Council",270663.17845747812,34916,66630,169117.17845747812,99,0,3,2,{"$f":"IF(INTRO!$E$38=\"Endemic\", IF($H142>0, IF($H142=4,\"Unknown\", IF($H142=99,\"Stopped\", $D142)), 0),\"Not required\")","v":"Stopped"},{"$f":"IF(INTRO!$E$40=\"Endemic\", IF($I142>0, IF($I142=4,\"Unknown\",IF($I142=99,\"Stopped\", $D142)), 0),\"Not required\")","v":0},{"$f":"IF(INTRO!$E$42=\"Endemic\", IF(AND($J142>1,$J142<5), IF($J142=4, \"Unknown\", E142+F142), 0),\"Not required\")","v":101546},{"$f":"IF(INTRO!$E$44=\"Endemic\", IF(AND($K142>0,$K142<5), IF($K142=4,\"Unknown\", IF($K142=1, $F142*0.33, IF($K142=2, $F142*0.5+$G142*0.2, SUM(F142:G142)))), 0),\"Not required\")","v":67138.43569149563},0,0,1,0,null,"T3 (ALB/MBD)","T1","T3",46581,"Sumbawanga Municipal Council",null,null,null,null,null,{"$f":"'MDA3'!Q142","v":0},{"$f":"'T1'!O142","v":0},{"$f":"T3_R1!N142","v":64794},null,64794,1]
[{"$f":"IF(INTRO!$E$34<>0,INTRO!$E$34,\"\")","v":"Tanzania"},"Ruvuma","Madaba District Council",56536.825805376335,7293,11155,38088.825805376335,99,1,3,2,{"$f":"IF(INTRO!$E$38=\"Endemic\", IF($H143>0, IF($H143=4,\"Unknown\", IF($H143=99,\"Stopped\", $D143)), 0),\"Not required\")","v":"Stopped"},{"$f":"IF(INTRO!$E$40=\"Endemic\", IF($I143>0, IF($I143=4,\"Unknown\",IF($I143=99,\"Stopped\", $D143)), 0),\"Not required\")","v":56536.825805376335},{"$f":"IF(INTRO!$E$42=\"Endemic\", IF(AND($J143>1,$J143<5), IF($J143=4, \"Unknown\", E143+F143), 0),\"Not required\")","v":18448},{"$f":"IF(INTRO!$E$44=\"Endemic\", IF(AND($K143>0,$K143<5), IF($K143=4,\"Unknown\", IF($K143=1, $F143*0.33, IF($K143=2, $F143*0.5+$G143*0.2, SUM(F143:G143)))), 0),\"Not required\")","v":13195.265161075267},0,1,1,1,null,"T1 (PZQ+ALB/MBD)","MDA 1","T1",46640,"Madaba District Council",null,null,null,null,null,{"$f":"'MDA3'!Q143","v":0},{"$f":"'T1'!O143","v":10789},{"$f":"T3_R1!N143","v":0},null,10789,1]
[{"$f":"IF(INTRO!$E$34<>0,INTRO!$E$34,\"\")","v":"Tanzania"},"Ruvuma","Mbinga District Council",265542.64079477306,34255,65978,165309.64079477306,99,1,3,2,{"$f":"IF(INTRO!$E$38=\"Endemic\", IF($H144>0, IF($H144=4,\"Unknown\", IF($H144=99,\"Stopped\", $D144)), 0),\"Not required\")","v":"Stopped"},{"$f":"IF(INTRO!$E$40=\"Endemic\", IF($I144>0, IF($I144=4,\"Unknown\",IF($I144=99,\"Stopped\", $D144)), 0),\"Not required\")","v":265542.64079477306},{"$f":"IF(INTRO!$E$42=\"Endemic\", IF(AND($J144>1,$J144<5), IF($J144=4, \"Unknown\", E144+F144), 0),\"Not required\")","v":100233},{"$f":"IF(INTRO!$E$44=\"Endemic\", IF(AND($K144>0,$K144<5), IF($K144=4,\"Unknown\", IF($K144=1, $F144*0.33, IF($K144=2, $F144*0.5+$G144*0.2, SUM(F144:G144)))), 0),\"Not required\")","v":66050.928158954615},0,1,1,1,null,"T1 (PZQ+ALB/MBD)","MDA 1","T1",46582,"Mbinga District Council",null,null,null,null,null,{"$f":"'MDA3'!Q144","v":0},{"$f":"'T1'!O144","v":64873},{"$f":"T3_R1!N144","v":0},null,64873,1]
[{"$f":"IF(INTRO!$E$34<>0,INTRO!$E$34,\"\")","v":"Tanzania"},"Ruvuma","Mbinga Town Council",105251,13577,31310,60364,99,1,3,2,{"$f":"IF(INTRO!$E$38=\"Endemic\", IF($H145>0, IF($H145=4,\"Unknown\", IF($H145=99,\"Stopped\", $D145)), 0),\"Not required\")","v":"Stopped"},{"$f":"IF(INTRO!$E$40=\"Endemic\", IF($I145>0, IF($I145=4,\"Unknown\",IF($I145=99,\"Stopped\", $D145)), 0),\"Not required\")","v":105251},{"$f":"IF(INTRO!$E$42=\"Endemic\", IF(AND($J145>1,$J145<5), IF($J145=4, \"Unknown\", E145+F145), 0),\"Not required\")","v":44887},{"$f":"IF(INTRO!$E$44=\"Endemic\", IF(AND($K145>0,$K145<5), IF($K145=4,\"Unknown\", IF($K145=1, $F145*0.33, IF($K145=2, $F145*0.5+$G145*0.2, SUM(F145:G145)))), 0),\"Not required\")","v":27727.800000000003},0,1,1,1,null,"T1 (PZQ+ALB/MBD)","MDA 1","T1",46641,"Mbinga Town Council",null,null,null,null,null,{"$f":"'MDA3'!Q145","v":0},{"$f":"'T1'!O145","v":30519},{"$f":"T3_R1!N145","v":0},null,30519,1]
[{"$f":"IF(INTRO!$E$34<>0,INTRO!$E$34,\"\")","v":"Tanzania"},"Ruvuma","Namtumbo District Council",238623.97463385237,30782,56849,150992.97463385237,99,1,3,2,{"$f":"IF(INTRO!$E$38=\"Endemic\", IF($H146>0, IF($H146=4,\"Unknown\", IF($H146=99,\"Stopped\", $D146)), 0),\"Not required\")","v":"Stopped"},{"$f":"IF(INTRO!$E$40=\"Endemic\", IF($I146>0, IF($I146=4,\"Unknown\",IF($I146=99,\"Stopped\", $D146)), 0),\"Not required\")","v":238623.97463385237},{"$f":"IF(INTRO!$E$42=\"Endemic\", IF(AND($J146>1,$J146<5), IF($J146=4, \"Unknown\", E146+F146), 0),\"Not required\")","v":87631},{"$f":"IF(INTRO!$E$44=\"Endemic\", IF(AND($K146>0,$K146<5), IF($K146=4,\"Unknown\", IF($K146=1, $F146*0.33, IF($K146=2, $F146*0.5+$G146*0.2, SUM(F146:G146)))), 0),\"Not required\")","v":58623.094926770471},0,1,1,1,null,"T1 (PZQ+ALB/MBD)","MDA 1","T1",46583,"Namtumbo District Council",null,null,null,null,null,{"$f":"'MDA3'!Q146","v":0},{"$f":"'T1'!O146","v":51885},{"$f":"T3_R1!N146","v":0},null,51885,1]
[{"$f":"IF(INTRO!$E$34<>0,INTRO!$E$34,\"\")","v":"Tanzania"},"Ruvuma","Nyasa District Council",172968.12877248047,22313,46635,104020.12877248047,99,1,3,2,{"$f":"IF(INTRO!$E$38=\"Endemic\", IF($H147>0, IF($H147=4,\"Unknown\", IF($H147=99,\"Stopped\", $D147)), 0),\"Not required\")","v":"Stopped"},{"$f":"IF(INTRO!$E$40=\"Endemic\", IF($I147>0, IF($I147=4,\"Unknown\",IF($I147=99,\"Stopped\", $D147)), 0),\"Not required\")","v":172968.12877248047},{"$f":"IF(INTRO!$E$42=\"Endemic\", IF(AND($J147>1,$J147<5), IF($J147=4, \"Unknown\", E147+F147), 0),\"Not required\")","v":68948},{"$f":"IF(INTRO!$E$44=\"Endemic\", IF(AND($K147>0,$K147<5), IF($K147=4,\"Unknown\", IF($K147=1, $F147*0.33, IF($K147=2, $F147*0.5+$G147*0.2, SUM(F147:G147)))), 0),\"Not required\")","v":44121.525754496091},0,1,1,1,null,"T1 (PZQ+ALB/MBD)","MDA 1","T1",46584,"Nyasa District Council",null,null,null,null,null,{"$f":"'MDA3'!Q147","v":0},{"$f":"'T1'!O147","v":45838},{"$f":"T3_R1!N147","v":0},null,45838,1]
[{"$f":"IF(INTRO!$E$34<>0,INTRO!$E$34,\"\")","v":"Tanzania"},"Ruvuma","Songea District Council",149167.12465624238,19243,31213,98711.124656242377,99,1,3,2,{"$f":"IF(INTRO!$E$38=\"Endemic\", IF($H148>0, IF($H148=4,\"Unknown\", IF($H148=99,\"Stopped\", $D148)), 0),\"Not required\")","v":"Stopped"},{"$f":"IF(INTRO!$E$40=\"Endemic\", IF($I148>0, IF($I148=4,\"Unknown\",IF($I148=99,\"Stopped\", $D148)), 0),\"Not required\")","v":149167.12465624238},{"$f":"IF(INTRO!$E$42=\"Endemic\", IF(AND($J148>1,$J148<5), IF($J148=4, \"Unknown\", E148+F148), 0),\"Not required\")","v":50456},{"$f":"IF(INTRO!$E$44=\"Endemic\", IF(AND($K148>0,$K148<5), IF($K148=4,\"Unknown\", IF($K148=1, $F148*0.33, IF($K148=2, $F148*0.5+$G148*0.2, SUM(F148:G148)))), 0),\"Not required\")","v":35348.724931248478},0,1,1,1,null,"T1 (PZQ+ALB/MBD)","MDA 1","T1",46585,"Songea District Council",null,null,null,null,null,{"$f":"'MDA3'!Q148","v":0},{"$f":"'T1'!O148","v":30640},{"$f":"T3_R1!N148","v":0},null,30640,1]
[{"$f":"IF(INTRO!$E$34<>0,INTRO!$E$34,\"\")","v":"Tanzania"},"Ruvuma","Songea Municipal Council",240601.13334459477,31038,56337,153226.13334459477,99,1,3,2,{"$f":"IF(INTRO!$E$38=\"Endemic\", IF($H149>0, IF($H149=4,\"Unknown\", IF($H149=99,\"Stopped\", $D149)), 0),\"Not required\")","v":"Stopped"},{"$f":"IF(INTRO!$E$40=\"Endemic\", IF($I149>0, IF($I149=4,\"Unknown\",IF($I149=99,\"Stopped\", $D149)), 0),\"Not required\")","v":240601.13334459477},{"$f":"IF(INTRO!$E$42=\"Endemic\", IF(AND($J149>1,$J149<5), IF($J149=4, \"Unknown\", E149+F149), 0),\"Not required\")","v":87375},{"$f":"IF(INTRO!$E$44=\"Endemic\", IF(AND($K149>0,$K149<5), IF($K149=4,\"Unknown\", IF($K149=1, $F149*0.33, IF($K149=2, $F149*0.5+$G149*0.2, SUM(F149:G149)))), 0),\"Not required\")","v":58813.726668918956},0,1,1,1,null,"T1 (PZQ+ALB/MBD)","MDA 1","T1",46586,"Songea Municipal Council",null,null,null,null,null,{"$f":"'MDA3'!Q149","v":0},{"$f":"'T1'!O149","v":51267},{"$f":"T3_R1!N149","v":0},null,51267,1]
[{"$f":"IF(INTRO!$E$34<>0,INTRO!$E$34,\"\")","v":"Tanzania"},"Ruvuma","Tunduru District Council",352990.21378464554,45536,71037,236417.21378464554,99,1,3,3,{"$f":"IF(INTRO!$E$38=\"Endemic\", IF($H150>0, IF($H150=4,\"Unknown\", IF($H150=99,\"Stopped\", $D150)), 0),\"Not required\")","v":"Stopped"},{"$f":"IF(INTRO!$E$40=\"Endemic\", IF($I150>0, IF($I150=4,\"Unknown\",IF($I150=99,\"Stopped\", $D150)), 0),\"Not required\")","v":352990.21378464554},{"$f":"IF(INTRO!$E$42=\"Endemic\", IF(AND($J150>1,$J150<5), IF($J150=4, \"Unknown\", E150+F150), 0),\"Not required\")","v":116573},{"$f":"IF(INTRO!$E$44=\"Endemic\", IF(AND($K150>0,$K150<5), IF($K150=4,\"Unknown\", IF($K150=1, $F150*0.33, IF($K150=2, $F150*0.5+$G150*0.2, SUM(F150:G150)))), 0),\"Not required\")","v":307454.21378464554},0,1,1,1,null,"T1 (PZQ+ALB/MBD)","MDA 1","T1",46587,"Tunduru District Council",null,null,null,null,null,{"$f":"'MDA3'!Q150","v":0},{"$f":"'T1'!O150","v":69465},{"$f":"T3_R1!N150","v":0},null,69465,1]
[{"$f":"IF(INTRO!$E$34<>0,INTRO!$E$34,\"\")","v":"Tanzania"},"Shinyanga","Kahama Town Council",285741.3051950559,36861,88907,159973.3051950559,0,0,3,2,{"$f":"IF(INTRO!$E$38=\"Endemic\", IF($H151>0, IF($H151=4,\"Unknown\", IF($H151=99,\"Stopped\", $D151)), 0),\"Not required\")","v":0},{"$f":"IF(INTRO!$E$40=\"Endemic\", IF($I151>0, IF($I151=4,\"Unknown\",IF($I151=99,\"Stopped\", $D151)), 0),\"Not required\")","v":0},{"$f":"IF(INTRO!$E$42=\"Endemic\", IF(AND($J151>1,$J151<5), IF($J151=4, \"Unknown\", E151+F151), 0),\"Not required\")","v":125768},{"$f":"IF(INTRO!$E$44=\"Endemic\", IF(AND($K151>0,$K151<5), IF($K151=4,\"Unknown\", IF($K151=1, $F151*0.33, IF($K151=2, $F151*0.5+$G151*0.2, SUM(F151:G151)))), 0),\"Not required\")","v":76448.161039011175},0,0,0,1,null,null,"T1","T3",46589,"Kahama Town Council",null,null,null,null,null,{"$f":"'MDA3'!Q151","v":0},{"$f":"'T1'!O151","v":0},{"$f":"T3_R1!N151","v":0},null,0,0]
[{"$f":"IF(INTRO!$E$34<>0,INTRO!$E$34,\"\")","v":"Tanzania"},"Shinyanga","Kishapu District Council",322054.99206479255,41545,89851,190658.99206479255,0,0,3,2,{"$f":"IF(INTRO!$E$38=\"Endemic\", IF($H152>0, IF($H152=4,\"Unknown\", IF($H152=99,\"Stopped\", $D152)), 0),\"Not required\")","v":0},{"$f":"IF(INTRO!$E$40=\"Endemic\", IF($I152>0, IF($I152=4,\"Unknown\",IF($I152=99,\"Stopped\", $D152)), 0),\"Not required\")","v":0},{"$f":"IF(INTRO!$E$42=\"Endemic\", IF(AND($J152>1,$J152<5), IF($J152=4, \"Unknown\", E152+F152), 0),\"Not required\")","v":131396},{"$f":"IF(INTRO!$E$44=\"Endemic\", IF(AND($K152>0,$K152<5), IF($K152=4,\"Unknown\", IF($K152=1, $F152*0.33, IF($K152=2, $F152*0.5+$G152*0.2, SUM(F152:G152)))), 0),\"Not required\")","v":83057.298412958509},0,0,0,1,null,null,"T1","T3",46590,"Kishapu District Council",null,null,null,null,null,{"$f":"'MDA3'!Q152","v":0},{"$f":"'T1'!O152","v":0},{"$f":"T3_R1!N152","v":0},null,0,0]
[{"$f":"IF(INTRO!$E$34<>0,INTRO!$E$34,\"\")","v":"Tanzania"},"Shinyanga","Msalala District Council",295792.02155725128,38157,67518,190117.02155725128,0,0,3,2,{"$f":"IF(INTRO!$E$38=\"Endemic\", IF($H153>0, IF($H153=4,\"Unknown\", IF($H153=99,\"Stopped\", $D153)), 0),\"Not required\")","v":0},{"$f":"IF(INTRO!$E$40=\"Endemic\", IF($I153>0, IF($I153=4,\"Unknown\",IF($I153=99,\"Stopped\", $D153)), 0),\"Not required\")","v":0},{"$f":"IF(INTRO!$E$42=\"Endemic\", IF(AND($J153>1,$J153<5), IF($J153=4, \"Unknown\", E153+F153), 0),\"Not required\")","v":105675},{"$f":"IF(INTRO!$E$44=\"Endemic\", IF(AND($K153>0,$K153<5), IF($K153=4,\"Unknown\", IF($K153=1, $F153*0.33, IF($K153=2, $F153*0.5+$G153*0.2, SUM(F153:G153)))), 0),\"Not required\")","v":71782.404311450257},0,0,0,1,null,null,"T1","T3",46642,"Msalala District Council",null,null,null,null,null,{"$f":"'MDA3'!Q153","v":0},{"$f":"'T1'!O153","v":0},{"$f":"T3_R1!N153","v":0},null,0,0]
[{"$f":"IF(INTRO!$E$34<>0,INTRO!$E$34,\"\")","v":"Tanzania"},"Shinyanga","Shinyanga District Council",394523.55197806557,50894,91832,251797.55197806557,0,0,3,2,{"$f":"IF(INTRO!$E$38=\"Endemic\", IF($H154>0, IF($H154=4,\"Unknown\", IF($H154=99,\"Stopped\", $D154)), 0),\"Not required\")","v":0},{"$f":"IF(INTRO!$E$40=\"Endemic\", IF($I154>0, IF($I154=4,\"Unknown\",IF($I154=99,\"Stopped\", $D154)), 0),\"Not required\")","v":0},{"$f":"IF(INTRO!$E$42=\"Endemic\", IF(AND($J154>1,$J154<5), IF($J154=4, \"Unknown\", E154+F154), 0),\"Not required\")","v":142726},{"$f":"IF(INTRO!$E$44=\"Endemic\", IF(AND($K154>0,$K154<5), IF($K154=4,\"Unknown\", IF($K154=1, $F154*0.33, IF($K154=2, $F154*0.5+$G154*0.2, SUM(F154:G154)))), 0),\"Not required\")","v":96275.510395613121},0,0,0,1,null,null,"T1","T3",46591,"Shinyanga District Council",null,null,null,null,null,{"$f":"'MDA3'!Q154","v":0},{"$f":"'T1'!O154","v":0},{"$f":"T3_R1!N154","v":0},null,0,0]
[{"$f":"IF(INTRO!$E$34<>0,INTRO!$E$34,\"\")","v":"Tanzania"},"Shinyanga","Shinyanga Municipal Council",190399.60810145547,24562,43070,122767.60810145547,0,0,3,2,{"$f":"IF(INTRO!$E$38=\"Endemic\", IF($H155>0, IF($H155=4,\"Unknown\", IF($H155=99,\"Stopped\", $D155)), 0),\"Not required\")","v":0},{"$f":"IF(INTRO!$E$40=\"Endemic\", IF($I155>0, IF($I155=4,\"Unknown\",IF($I155=99,\"Stopped\", $D155)), 0),\"Not required\")","v":0},{"$f":"IF(INTRO!$E$42=\"Endemic\", IF(AND($J155>1,$J155<5), IF($J155=4, \"Unknown\", E155+F155), 0),\"Not required\")","v":67632},{"$f":"IF(INTRO!$E$44=\"Endemic\", IF(AND($K155>0,$K155<5), IF($K155=4,\"Unknown\", IF($K155=1, $F155*0.33, IF($K155=2, $F155*0.5+$G155*0.2, SUM(F155:G155)))), 0),\"Not required\")","v":46088.521620291096},0,0,0,1,null,null,"T1","T3",46592,"Shinyanga Municipal Council",null,null,null,null,null,{"$f":"'MDA3'!Q155","v":0},{"$f":"'T1'!O155","v":0},{"$f":"T3_R1!N155","v":0},null,0,0]
[{"$f":"IF(INTRO!$E$34<>0,INTRO!$E$34,\"\")","v":"Tanzania"},"Shinyanga","Ushetu District Council",322153.71253519895,41558,84815,195780.71253519895,0,0,3,2,{"$f":"IF(INTRO!$E$38=\"Endemic\", IF($H156>0, IF($H156=4,\"Unknown\", IF($H156=99,\"Stopped\", $D156)), 0),\"Not required\")","v":0},{"$f":"IF(INTRO!$E$40=\"Endemic\", IF($I156>0, IF($I156=4,\"Unknown\",IF($I156=99,\"Stopped\", $D156)), 0),\"Not required\")","v":0},{"$f":"IF(INTRO!$E$42=\"Endemic\", IF(AND($J156>1,$J156<5), IF($J156=4, \"Unknown\", E156+F156), 0),\"Not required\")","v":126373},{"$f":"IF(INTRO!$E$44=\"Endemic\", IF(AND($K156>0,$K156<5), IF($K156=4,\"Unknown\", IF($K156=1, $F156*0.33, IF($K156=2, $F156*0.5+$G156*0.2, SUM(F156:G156)))), 0),\"Not required\")","v":81563.642507039796},0,0,0,1,null,null,"T1","T3",46643,"Ushetu District Council",null,null,null,null,null,{"$f":"'MDA3'!Q156","v":0},{"$f":"'T1'!O156","v":0},{"$f":"T3_R1!N156","v":0},null,0,0]
[{"$f":"IF(INTRO!$E$34<>0,INTRO!$E$34,\"\")","v":"Tanzania"},"Simiyu","Bariadi District Council",309171.15058270231,39883,91716,177572.15058270231,0,0,3,3,{"$f":"IF(INTRO!$E$38=\"Endemic\", IF($H157>0, IF($H157=4,\"Unknown\", IF($H157=99,\"Stopped\", $D157)), 0),\"Not required\")","v":0},{"$f":"IF(INTRO!$E$40=\"Endemic\", IF($I157>0, IF($I157=4,\"Unknown\",IF($I157=99,\"Stopped\", $D157)), 0),\"Not required\")","v":0},{"$f":"IF(INTRO!$E$42=\"Endemic\", IF(AND($J157>1,$J157<5), IF($J157=4, \"Unknown\", E157+F157), 0),\"Not required\")","v":131599},{"$f":"IF(INTRO!$E$44=\"Endemic\", IF(AND($K157>0,$K157<5), IF($K157=4,\"Unknown\", IF($K157=1, $F157*0.33, IF($K157=2, $F157*0.5+$G157*0.2, SUM(F157:G157)))), 0),\"Not required\")","v":269288.15058270231},0,0,0,1,null,null,"T1","T3",46593,"Bariadi District Council",null,null,null,null,null,{"$f":"'MDA3'!Q157","v":0},{"$f":"'T1'!O157","v":0},{"$f":"T3_R1!N157","v":0},null,0,0]
[{"$f":"IF(INTRO!$E$34<>0,INTRO!$E$34,\"\")","v":"Tanzania"},"Simiyu","Bariadi Town Council",179998.38008641015,23220,53996,102782.38008641015,0,0,3,3,{"$f":"IF(INTRO!$E$38=\"Endemic\", IF($H158>0, IF($H158=4,\"Unknown\", IF($H158=99,\"Stopped\", $D158)), 0),\"Not required\")","v":0},{"$f":"IF(INTRO!$E$40=\"Endemic\", IF($I158>0, IF($I158=4,\"Unknown\",IF($I158=99,\"Stopped\", $D158)), 0),\"Not required\")","v":0},{"$f":"IF(INTRO!$E$42=\"Endemic\", IF(AND($J158>1,$J158<5), IF($J158=4, \"Unknown\", E158+F158), 0),\"Not required\")","v":77216},{"$f":"IF(INTRO!$E$44=\"Endemic\", IF(AND($K158>0,$K158<5), IF($K158=4,\"Unknown\", IF($K158=1, $F158*0.33, IF($K158=2, $F158*0.5+$G158*0.2, SUM(F158:G158)))), 0),\"Not required\")","v":156778.38008641015},0,0,0,1,null,null,"T1","T3",46594,"Bariadi Town Council",null,null,null,null,null,{"$f":"'MDA3'!Q158","v":0},{"$f":"'T1'!O158","v":0},{"$f":"T3_R1!N158","v":0},null,0,0]
[{"$f":"IF(INTRO!$E$34<>0,INTRO!$E$34,\"\")","v":"Tanzania"},"Simiyu","Busega District Council",235492.09757406975,30378,85473,119641.09757406975,0,0,3,2,{"$f":"IF(INTRO!$E$38=\"Endemic\", IF($H159>0, IF($H159=4,\"Unknown\", IF($H159=99,\"Stopped\", $D159)), 0),\"Not required\")","v":0},{"$f":"IF(INTRO!$E$40=\"Endemic\", IF($I159>0, IF($I159=4,\"Unknown\",IF($I159=99,\"Stopped\", $D159)), 0),\"Not required\")","v":0},{"$f":"IF(INTRO!$E$42=\"Endemic\", IF(AND($J159>1,$J159<5), IF($J159=4, \"Unknown\", E159+F159), 0),\"Not required\")","v":115851},{"$f":"IF(INTRO!$E$44=\"Endemic\", IF(AND($K159>0,$K159<5), IF($K159=4,\"Unknown\", IF($K159=1, $F159*0.33, IF($K159=2, $F159*0.5+$G159*0.2, SUM(F159:G159)))), 0),\"Not required\")","v":66664.719514813944},0,0,0,1,null,null,"T1","T3",46595,"Busega District Council",null,null,null,null,null,{"$f":"'MDA3'!Q159","v":0},{"$f":"'T1'!O159","v":0},{"$f":"T3_R1!N159","v":0},null,0,0]
[{"$f":"IF(INTRO!$E$34<>0,INTRO!$E$34,\"\")","v":"Tanzania"},"Simiyu","Itilima District Council",363073.34862854198,46836,101715,214522.34862854198,0,0,3,3,{"$f":"IF(INTRO!$E$38=\"Endemic\", IF($H160>0, IF($H160=4,\"Unknown\", IF($H160=99,\"Stopped\", $D160)), 0),\"Not required\")","v":0},{"$f":"IF(INTRO!$E$40=\"Endemic\", IF($I160>0, IF($I160=4,\"Unknown\",IF($I160=99,\"Stopped\", $D160)), 0),\"Not required\")","v":0},{"$f":"IF(INTRO!$E$42=\"Endemic\", IF(AND($J160>1,$J160<5), IF($J160=4, \"Unknown\", E160+F160), 0),\"Not required\")","v":148551},{"$f":"IF(INTRO!$E$44=\"Endemic\", IF(AND($K160>0,$K160<5), IF($K160=4,\"Unknown\", IF($K160=1, $F160*0.33, IF($K160=2, $F160*0.5+$G160*0.2, SUM(F160:G160)))), 0),\"Not required\")","v":316237.34862854198},0,0,0,1,null,null,"T1","T3",46596,"Itilima District Council",null,null,null,null,null,{"$f":"'MDA3'!Q160","v":0},{"$f":"'T1'!O160","v":0},{"$f":"T3_R1!N160","v":0},null,0,0]
[{"$f":"IF(INTRO!$E$34<>0,INTRO!$E$34,\"\")","v":"Tanzania"},"Simiyu","Maswa District Council",398036.27291341044,51347,82467,264222.27291341044,0,0,3,3,{"$f":"IF(INTRO!$E$38=\"Endemic\", IF($H161>0, IF($H161=4,\"Unknown\", IF($H161=99,\"Stopped\", $D161)), 0),\"Not required\")","v":0},{"$f":"IF(INTRO!$E$40=\"Endemic\", IF($I161>0, IF($I161=4,\"Unknown\",IF($I161=99,\"Stopped\", $D161)), 0),\"Not required\")","v":0},{"$f":"IF(INTRO!$E$42=\"Endemic\", IF(AND($J161>1,$J161<5), IF($J161=4, \"Unknown\", E161+F161), 0),\"Not required\")","v":133814},{"$f":"IF(INTRO!$E$44=\"Endemic\", IF(AND($K161>0,$K161<5), IF($K161=4,\"Unknown\", IF($K161=1, $F161*0.33, IF($K161=2, $F161*0.5+$G161*0.2, SUM(F161:G161)))), 0),\"Not required\")","v":346689.27291341044},0,0,0,1,null,null,"T1","T3",46597,"Maswa District Council",null,null,null,null,null,{"$f":"'MDA3'!Q161","v":0},{"$f":"'T1'!O161","v":0},{"$f":"T3_R1!N161","v":0},null,0,0]
[{"$f":"IF(INTRO!$E$34<>0,INTRO!$E$34,\"\")","v":"Tanzania"},"Simiyu","Meatu District Council",346557.86994174082,44706,72414,229437.86994174082,0,0,3,2,{"$f":"IF(INTRO!$E$38=\"Endemic\", IF($H162>0, IF($H162=4,\"Unknown\", IF($H162=99,\"Stopped\", $D162)), 0),\"Not required\")","v":0},{"$f":"IF(INTRO!$E$40=\"Endemic\", IF($I162>0, IF($I162=4,\"Unknown\",IF($I162=99,\"Stopped\", $D162)), 0),\"Not required\")","v":0},{"$f":"IF(INTRO!$E$42=\"Endemic\", IF(AND($J162>1,$J162<5), IF($J162=4, \"Unknown\", E162+F162), 0),\"Not required\")","v":117120},{"$f":"IF(INTRO!$E$44=\"Endemic\", IF(AND($K162>0,$K162<5), IF($K162=4,\"Unknown\", IF($K162=1, $F162*0.33, IF($K162=2, $F162*0.5+$G162*0.2, SUM(F162:G162)))), 0),\"Not required\")","v":82094.573988348158},0,0,0,1,null,null,"T1","T3",46598,"Meatu District Council",null,null,null,null,null,{"$f":"'MDA3'!Q162","v":0},{"$f":"'T1'!O162","v":0},{"$f":"T3_R1!N162","v":0},null,0,0]
[{"$f":"IF(INTRO!$E$34<>0,INTRO!$E$34,\"\")","v":"Tanzania"},"Singida","Ikungi District Council",328187.96649323055,42336,83799,202052.96649323055,99,0,3,2,{"$f":"IF(INTRO!$E$38=\"Endemic\", IF($H163>0, IF($H163=4,\"Unknown\", IF($H163=99,\"Stopped\", $D163)), 0),\"Not required\")","v":"Stopped"},{"$f":"IF(INTRO!$E$40=\"Endemic\", IF($I163>0, IF($I163=4,\"Unknown\",IF($I163=99,\"Stopped\", $D163)), 0),\"Not required\")","v":0},{"$f":"IF(INTRO!$E$42=\"Endemic\", IF(AND($J163>1,$J163<5), IF($J163=4, \"Unknown\", E163+F163), 0),\"Not required\")","v":126135},{"$f":"IF(INTRO!$E$44=\"Endemic\", IF(AND($K163>0,$K163<5), IF($K163=4,\"Unknown\", IF($K163=1, $F163*0.33, IF($K163=2, $F163*0.5+$G163*0.2, SUM(F163:G163)))), 0),\"Not required\")","v":82310.093298646112},0,0,1,0,null,"T3 (ALB/MBD)","T1","T3",46599,"Ikungi District Council",null,null,null,null,null,{"$f":"'MDA3'!Q163","v":0},{"$f":"'T1'!O163","v":0},{"$f":"T3_R1!N163","v":83690},null,83690,1]
[{"$f":"IF(INTRO!$E$34<>0,INTRO!$E$34,\"\")","v":"Tanzania"},"Singida","Iramba District Council",284087.89261609729,36647,67252,180188.89261609729,99,0,3,2,{"$f":"IF(INTRO!$E$38=\"Endemic\", IF($H164>0, IF($H164=4,\"Unknown\", IF($H164=99,\"Stopped\", $D164)), 0),\"Not required\")","v":"Stopped"},{"$f":"IF(INTRO!$E$40=\"Endemic\", IF($I164>0, IF($I164=4,\"Unknown\",IF($I164=99,\"Stopped\", $D164)), 0),\"Not required\")","v":0},{"$f":"IF(INTRO!$E$42=\"Endemic\", IF(AND($J164>1,$J164<5), IF($J164=4, \"Unknown\", E164+F164), 0),\"Not required\")","v":103899},{"$f":"IF(INTRO!$E$44=\"Endemic\", IF(AND($K164>0,$K164<5), IF($K164=4,\"Unknown\", IF($K164=1, $F164*0.33, IF($K164=2, $F164*0.5+$G164*0.2, SUM(F164:G164)))), 0),\"Not required\")","v":69663.778523219458},0,0,1,0,null,"T3 (ALB/MBD)","T1","T3",46600,"Iramba District Council",null,null,null,null,null,{"$f":"'MDA3'!Q164","v":0},{"$f":"'T1'!O164","v":0},{"$f":"T3_R1!N164","v":66062},null,66062,1]
[{"$f":"IF(INTRO!$E$34<>0,INTRO!$E$34,\"\")","v":"Tanzania"},"Singida","Itigi District Council",135341.36396578816,17459,39272,78610.363965788158,99,0,3,2,{"$f":"IF(INTRO!$E$38=\"Endemic\", IF($H165>0, IF($H165=4,\"Unknown\", IF($H165=99,\"Stopped\", $D165)), 0),\"Not required\")","v":"Stopped"},{"$f":"IF(INTRO!$E$40=\"Endemic\", IF($I165>0, IF($I165=4,\"Unknown\",IF($I165=99,\"Stopped\", $D165)), 0),\"Not required\")","v":0},{"$f":"IF(INTRO!$E$42=\"Endemic\", IF(AND($J165>1,$J165<5), IF($J165=4, \"Unknown\", E165+F165), 0),\"Not required\")","v":56731},{"$f":"IF(INTRO!$E$44=\"Endemic\", IF(AND($K165>0,$K165<5), IF($K165=4,\"Unknown\", IF($K165=1, $F165*0.33, IF($K165=2, $F165*0.5+$G165*0.2, SUM(F165:G165)))), 0),\"Not required\")","v":35358.072793157633},0,0,1,0,null,"T3 (ALB/MBD)","T1","T3",46644,"Itigi District Council",null,null,null,null,null,{"$f":"'MDA3'!Q165","v":0},{"$f":"'T1'!O165","v":0},{"$f":"T3_R1!N165","v":36887},null,36887,1]
[{"$f":"IF(INTRO!$E$34<>0,INTRO!$E$34,\"\")","v":"Tanzania"},"Singida","Manyoni District Council",221465.78819164442,28569,49408,143488.78819164442,99,0,3,2,{"$f":"IF(INTRO!$E$38=\"Endemic\", IF($H166>0, IF($H166=4,\"Unknown\", IF($H166=99,\"Stopped\", $D166)), 0),\"Not required\")","v":"Stopped"},{"$f":"IF(INTRO!$E$40=\"Endemic\", IF($I166>0, IF($I166=4,\"Unknown\",IF($I166=99,\"Stopped\", $D166)), 0),\"Not required\")","v":0},{"$f":"IF(INTRO!$E$42=\"Endemic\", IF(AND($J166>1,$J166<5), IF($J166=4, \"Unknown\", E166+F166), 0),\"Not required\")","v":77977},{"$f":"IF(INTRO!$E$44=\"Endemic\", IF(AND($K166>0,$K166<5), IF($K166=4,\"Unknown\", IF($K166=1, $F166*0.33, IF($K166=2, $F166*0.5+$G166*0.2, SUM(F166:G166)))), 0),\"Not required\")","v":53401.757638328883},0,0,1,0,null,"T3 (ALB/MBD)","T1","T3",46601,"Manyoni District Council",null,null,null,null,null,{"$f":"'MDA3'!Q166","v":0},{"$f":"'T1'!O166","v":0},{"$f":"T3_R1!N166","v":48242},null,48242,1]
[{"$f":"IF(INTRO!$E$34<>0,INTRO!$E$34,\"\")","v":"Tanzania"},"Singida","Mkalama District Council",226919.92357423308,29273,59870,137776.92357423308,99,0,3,2,{"$f":"IF(INTRO!$E$38=\"Endemic\", IF($H167>0, IF($H167=4,\"Unknown\", IF($H167=99,\"Stopped\", $D167)), 0),\"Not required\")","v":"Stopped"},{"$f":"IF(INTRO!$E$40=\"Endemic\", IF($I167>0, IF($I167=4,\"Unknown\",IF($I167=99,\"Stopped\", $D167)), 0),\"Not required\")","v":0},{"$f":"IF(INTRO!$E$42=\"Endemic\", IF(AND($J167>1,$J167<5), IF($J167=4, \"Unknown\", E167+F167), 0),\"Not required\")","v":89143},{"$f":"IF(INTRO!$E$44=\"Endemic\", IF(AND($K167>0,$K167<5), IF($K167=4,\"Unknown\", IF($K167=1, $F167*0.33, IF($K167=2, $F167*0.5+$G167*0.2, SUM(F167:G167)))), 0),\"Not required\")","v":57490.384714846616},0,0,1,0,null,"T3 (ALB/MBD)","T1","T3",46602,"Mkalama District Council",null,null,null,null,null,{"$f":"'MDA3'!Q167","v":0},{"$f":"'T1'!O167","v":0},{"$f":"T3_R1!N167","v":58520},null,58520,1]
[{"$f":"IF(INTRO!$E$34<>0,INTRO!$E$34,\"\")","v":"Tanzania"},"Singida","Singida District Council",271149.75970628281,34978,76601,159570.75970628281,99,0,3,2,{"$f":"IF(INTRO!$E$38=\"Endemic\", IF($H168>0, IF($H168=4,\"Unknown\", IF($H168=99,\"Stopped\", $D168)), 0),\"Not required\")","v":"Stopped"},{"$f":"IF(INTRO!$E$40=\"Endemic\", IF($I168>0, IF($I168=4,\"Unknown\",IF($I168=99,\"Stopped\", $D168)), 0),\"Not required\")","v":0},{"$f":"IF(INTRO!$E$42=\"Endemic\", IF(AND($J168>1,$J168<5), IF($J168=4, \"Unknown\", E168+F168), 0),\"Not required\")","v":111579},{"$f":"IF(INTRO!$E$44=\"Endemic\", IF(AND($K168>0,$K168<5), IF($K168=4,\"Unknown\", IF($K168=1, $F168*0.33, IF($K168=2, $F168*0.5+$G168*0.2, SUM(F168:G168)))), 0),\"Not required\")","v":70214.651941256569},0,0,1,0,null,"T3 (ALB/MBD)","T1","T3",46603,"Singida District Council",null,null,null,null,null,{"$f":"'MDA3'!Q168","v":0},{"$f":"'T1'!O168","v":0},{"$f":"T3_R1!N168","v":75465},null,75465,1]
[{"$f":"IF(INTRO!$E$34<>0,INTRO!$E$34,\"\")","v":"Tanzania"},"Singida","Singida Municipal Council",180804.90636949494,23324,49900,107580.90636949494,99,0,3,2,{"$f":"IF(INTRO!$E$38=\"Endemic\", IF($H169>0, IF($H169=4,\"Unknown\", IF($H169=99,\"Stopped\", $D169)), 0),\"Not required\")","v":"Stopped"},{"$f":"IF(INTRO!$E$40=\"Endemic\", IF($I169>0, IF($I169=4,\"Unknown\",IF($I169=99,\"Stopped\", $D169)), 0),\"Not required\")","v":0},{"$f":"IF(INTRO!$E$42=\"Endemic\", IF(AND($J169>1,$J169<5), IF($J169=4, \"Unknown\", E169+F169), 0),\"Not required\")","v":73224},{"$f":"IF(INTRO!$E$44=\"Endemic\", IF(AND($K169>0,$K169<5), IF($K169=4,\"Unknown\", IF($K169=1, $F169*0.33, IF($K169=2, $F169*0.5+$G169*0.2, SUM(F169:G169)))), 0),\"Not required\")","v":46466.18127389899},0,0,1,0,null,"T3 (ALB/MBD)","T1","T3",46604,"Singida Municipal Council",null,null,null,null,null,{"$f":"'MDA3'!Q169","v":0},{"$f":"'T1'!O169","v":0},{"$f":"T3_R1!N169","v":48414},null,48414,1]
[{"$f":"IF(INTRO!$E$34<>0,INTRO!$E$34,\"\")","v":"Tanzania"},"Songwe","Ileje District Council",158398.7965180795,20433,26908,111057.7965180795,99,1,3,2,{"$f":"IF(INTRO!$E$38=\"Endemic\", IF($H170>0, IF($H170=4,\"Unknown\", IF($H170=99,\"Stopped\", $D170)), 0),\"Not required\")","v":"Stopped"},{"$f":"IF(INTRO!$E$40=\"Endemic\", IF($I170>0, IF($I170=4,\"Unknown\",IF($I170=99,\"Stopped\", $D170)), 0),\"Not required\")","v":158398.7965180795},{"$f":"IF(INTRO!$E$42=\"Endemic\", IF(AND($J170>1,$J170<5), IF($J170=4, \"Unknown\", E170+F170), 0),\"Not required\")","v":47341},{"$f":"IF(INTRO!$E$44=\"Endemic\", IF(AND($K170>0,$K170<5), IF($K170=4,\"Unknown\", IF($K170=1, $F170*0.33, IF($K170=2, $F170*0.5+$G170*0.2, SUM(F170:G170)))), 0),\"Not required\")","v":35665.559303615897},0,1,1,1,null,"T1 (PZQ+ALB/MBD)","MDA 1","T1",46535,"Ileje District Council",null,null,null,null,null,{"$f":"'MDA3'!Q170","v":0},{"$f":"'T1'!O170","v":25012},{"$f":"T3_R1!N170","v":0},null,25012,1]
[{"$f":"IF(INTRO!$E$34<>0,INTRO!$E$34,\"\")","v":"Tanzania"},"Songwe","Mbozi District Council",568087.10639923892,73283,123543,371261.10639923892,99,0,3,3,{"$f":"IF(INTRO!$E$38=\"Endemic\", IF($H171>0, IF($H171=4,\"Unknown\", IF($H171=99,\"Stopped\", $D171)), 0),\"Not required\")","v":"Stopped"},{"$f":"IF(INTRO!$E$40=\"Endemic\", IF($I171>0, IF($I171=4,\"Unknown\",IF($I171=99,\"Stopped\", $D171)), 0),\"Not required\")","v":0},{"$f":"IF(INTRO!$E$42=\"Endemic\", IF(AND($J171>1,$J171<5), IF($J171=4, \"Unknown\", E171+F171), 0),\"Not required\")","v":196826},{"$f":"IF(INTRO!$E$44=\"Endemic\", IF(AND($K171>0,$K171<5), IF($K171=4,\"Unknown\", IF($K171=1, $F171*0.33, IF($K171=2, $F171*0.5+$G171*0.2, SUM(F171:G171)))), 0),\"Not required\")","v":494804.10639923892},0,0,1,1,null,"T1 (PZQ+ALB/MBD)","T1","T3",46540,"Mbozi District Council",null,null,null,null,null,{"$f":"'MDA3'!Q171","v":0},{"$f":"'T1'!O171","v":121543},{"$f":"T3_R1!N171","v":0},null,121543,1]
[{"$f":"IF(INTRO!$E$34<>0,INTRO!$E$34,\"\")","v":"Tanzania"},"Songwe","Momba District Council",214766.24144061547,27705,50336,136725.24144061547,99,0,3,3,{"$f":"IF(INTRO!$E$38=\"Endemic\", IF($H172>0, IF($H172=4,\"Unknown\", IF($H172=99,\"Stopped\", $D172)), 0),\"Not required\")","v":"Stopped"},{"$f":"IF(INTRO!$E$40=\"Endemic\", IF($I172>0, IF($I172=4,\"Unknown\",IF($I172=99,\"Stopped\", $D172)), 0),\"Not required\")","v":0},{"$f":"IF(INTRO!$E$42=\"Endemic\", IF(AND($J172>1,$J172<5), IF($J172=4, \"Unknown\", E172+F172), 0),\"Not required\")","v":78041},{"$f":"IF(INTRO!$E$44=\"Endemic\", IF(AND($K172>0,$K172<5), IF($K172=4,\"Unknown\", IF($K172=1, $F172*0.33, IF($K172=2, $F172*0.5+$G172*0.2, SUM(F172:G172)))), 0),\"Not required\")","v":187061.24144061547},0,0,1,1,null,"T1 (PZQ+ALB/MBD)","T1","T3",46541,"Momba District Council",null,null,null,null,null,{"$f":"'MDA3'!Q172","v":0},{"$f":"'T1'!O172","v":47911},{"$f":"T3_R1!N172","v":0},null,47911,1]
[{"$f":"IF(INTRO!$E$34<>0,INTRO!$E$34,\"\")","v":"Tanzania"},"Songwe","Songwe District Council",170159.40867348609,21951,35910,112298.40867348609,99,0,3,2,{"$f":"IF(INTRO!$E$38=\"Endemic\", IF($H173>0, IF($H173=4,\"Unknown\", IF($H173=99,\"Stopped\", $D173)), 0),\"Not required\")","v":"Stopped"},{"$f":"IF(INTRO!$E$40=\"Endemic\", IF($I173>0, IF($I173=4,\"Unknown\",IF($I173=99,\"Stopped\", $D173)), 0),\"Not required\")","v":0},{"$f":"IF(INTRO!$E$42=\"Endemic\", IF(AND($J173>1,$J173<5), IF($J173=4, \"Unknown\", E173+F173), 0),\"Not required\")","v":57861},{"$f":"IF(INTRO!$E$44=\"Endemic\", IF(AND($K173>0,$K173<5), IF($K173=4,\"Unknown\", IF($K173=1, $F173*0.33, IF($K173=2, $F173*0.5+$G173*0.2, SUM(F173:G173)))), 0),\"Not required\")","v":40414.681734697224},0,0,1,1,null,"T1 (PZQ+ALB/MBD)","T1","T3",46645,"Songwe District Council",null,null,null,null,null,{"$f":"'MDA3'!Q173","v":0},{"$f":"'T1'!O173","v":35869},{"$f":"T3_R1!N173","v":0},null,35869,1]
[{"$f":"IF(INTRO!$E$34<>0,INTRO!$E$34,\"\")","v":"Tanzania"},"Songwe","Tunduma Town Council",159913.34707855873,20629,38320,100964.34707855873,99,0,3,3,{"$f":"IF(INTRO!$E$38=\"Endemic\", IF($H174>0, IF($H174=4,\"Unknown\", IF($H174=99,\"Stopped\", $D174)), 0),\"Not required\")","v":"Stopped"},{"$f":"IF(INTRO!$E$40=\"Endemic\", IF($I174>0, IF($I174=4,\"Unknown\",IF($I174=99,\"Stopped\", $D174)), 0),\"Not required\")","v":0},{"$f":"IF(INTRO!$E$42=\"Endemic\", IF(AND($J174>1,$J174<5), IF($J174=4, \"Unknown\", E174+F174), 0),\"Not required\")","v":58949},{"$f":"IF(INTRO!$E$44=\"Endemic\", IF(AND($K174>0,$K174<5), IF($K174=4,\"Unknown\", IF($K174=1, $F174*0.33, IF($K174=2, $F174*0.5+$G174*0.2, SUM(F174:G174)))), 0),\"Not required\")","v":139284.34707855873},0,0,1,1,null,"T1 (PZQ+ALB/MBD)","T1","T3",46543,"Tunduma Town Council",null,null,null,null,null,{"$f":"'MDA3'!Q174","v":0},{"$f":"'T1'!O174","v":37107},{"$f":"T3_R1!N174","v":0},null,37107,1]
[{"$f":"IF(INTRO!$E$34<>0,INTRO!$E$34,\"\")","v":"Tanzania"},"Tabora","Igunga District Council",504106.64415706415,65030,99821,339255.64415706415,99,0,3,2,{"$f":"IF(INTRO!$E$38=\"Endemic\", IF($H175>0, IF($H175=4,\"Unknown\", IF($H175=99,\"Stopped\", $D175)), 0),\"Not required\")","v":"Stopped"},{"$f":"IF(INTRO!$E$40=\"Endemic\", IF($I175>0, IF($I175=4,\"Unknown\",IF($I175=99,\"Stopped\", $D175)), 0),\"Not required\")","v":0},{"$f":"IF(INTRO!$E$42=\"Endemic\", IF(AND($J175>1,$J175<5), IF($J175=4, \"Unknown\", E175+F175), 0),\"Not required\")","v":164851},{"$f":"IF(INTRO!$E$44=\"Endemic\", IF(AND($K175>0,$K175<5), IF($K175=4,\"Unknown\", IF($K175=1, $F175*0.33, IF($K175=2, $F175*0.5+$G175*0.2, SUM(F175:G175)))), 0),\"Not required\")","v":117761.62883141283},0,0,1,0,null,"T3 (ALB/MBD)","T1","T3",46605,"Igunga District Council",null,null,null,null,null,{"$f":"'MDA3'!Q175","v":0},{"$f":"'T1'!O175","v":0},{"$f":"T3_R1!N175","v":84117},null,84117,1]
[{"$f":"IF(INTRO!$E$34<>0,INTRO!$E$34,\"\")","v":"Tanzania"},"Tabora","Kaliua District Council",496074.2567529697,63994,124959,307121.2567529697,99,0,3,2,{"$f":"IF(INTRO!$E$38=\"Endemic\", IF($H176>0, IF($H176=4,\"Unknown\", IF($H176=99,\"Stopped\", $D176)), 0),\"Not required\")","v":"Stopped"},{"$f":"IF(INTRO!$E$40=\"Endemic\", IF($I176>0, IF($I176=4,\"Unknown\",IF($I176=99,\"Stopped\", $D176)), 0),\"Not required\")","v":0},{"$f":"IF(INTRO!$E$42=\"Endemic\", IF(AND($J176>1,$J176<5), IF($J176=4, \"Unknown\", E176+F176), 0),\"Not required\")","v":188953},{"$f":"IF(INTRO!$E$44=\"Endemic\", IF(AND($K176>0,$K176<5), IF($K176=4,\"Unknown\", IF($K176=1, $F176*0.33, IF($K176=2, $F176*0.5+$G176*0.2, SUM(F176:G176)))), 0),\"Not required\")","v":123903.75135059394},0,0,1,1,null,"T1 (PZQ+ALB/MBD)","T1","T3",46606,"Kaliua District Council",null,null,null,null,null,{"$f":"'MDA3'!Q176","v":0},{"$f":"'T1'!O176","v":96077},{"$f":"T3_R1!N176","v":0},null,96077,1]
[{"$f":"IF(INTRO!$E$34<>0,INTRO!$E$34,\"\")","v":"Tanzania"},"Tabora","Nzega District Council",552232.21625721781,71238,127286,353708.21625721781,99,0,3,2,{"$f":"IF(INTRO!$E$38=\"Endemic\", IF($H177>0, IF($H177=4,\"Unknown\", IF($H177=99,\"Stopped\", $D177)), 0),\"Not required\")","v":"Stopped"},{"$f":"IF(INTRO!$E$40=\"Endemic\", IF($I177>0, IF($I177=4,\"Unknown\",IF($I177=99,\"Stopped\", $D177)), 0),\"Not required\")","v":0},{"$f":"IF(INTRO!$E$42=\"Endemic\", IF(AND($J177>1,$J177<5), IF($J177=4, \"Unknown\", E177+F177), 0),\"Not required\")","v":198524},{"$f":"IF(INTRO!$E$44=\"Endemic\", IF(AND($K177>0,$K177<5), IF($K177=4,\"Unknown\", IF($K177=1, $F177*0.33, IF($K177=2, $F177*0.5+$G177*0.2, SUM(F177:G177)))), 0),\"Not required\")","v":134384.64325144357},0,0,1,0,null,"T3 (ALB/MBD)","T1","T3",46607,"Nzega District Council",null,null,null,null,null,{"$f":"'MDA3'!Q177","v":0},{"$f":"'T1'!O177","v":0},{"$f":"T3_R1!N177","v":127166},null,127166,1]
[{"$f":"IF(INTRO!$E$34<>0,INTRO!$E$34,\"\")","v":"Tanzania"},"Tabora","Nzega Town Council",81175.103888310128,10472,27178,43525.103888310128,99,0,3,2,{"$f":"IF(INTRO!$E$38=\"Endemic\", IF($H178>0, IF($H178=4,\"Unknown\", IF($H178=99,\"Stopped\", $D178)), 0),\"Not required\")","v":"Stopped"},{"$f":"IF(INTRO!$E$40=\"Endemic\", IF($I178>0, IF($I178=4,\"Unknown\",IF($I178=99,\"Stopped\", $D178)), 0),\"Not required\")","v":0},{"$f":"IF(INTRO!$E$42=\"Endemic\", IF(AND($J178>1,$J178<5), IF($J178=4, \"Unknown\", E178+F178), 0),\"Not required\")","v":37650},{"$f":"IF(INTRO!$E$44=\"Endemic\", IF(AND($K178>0,$K178<5), IF($K178=4,\"Unknown\", IF($K178=1, $F178*0.33, IF($K178=2, $F178*0.5+$G178*0.2, SUM(F178:G178)))), 0),\"Not required\")","v":22294.020777662026},0,0,1,0,null,"T3 (ALB/MBD)","T1","T3",46646,"Nzega Town Council",null,null,null,null,null,{"$f":"'MDA3'!Q178","v":0},{"$f":"'T1'!O178","v":0},{"$f":"T3_R1!N178","v":27176},null,27176,1]
[{"$f":"IF(INTRO!$E$34<>0,INTRO!$E$34,\"\")","v":"Tanzania"},"Tabora","Sikonge District Council",226855.14537195506,29264,54642,142949.14537195506,99,0,3,2,{"$f":"IF(INTRO!$E$38=\"Endemic\", IF($H179>0, IF($H179=4,\"Unknown\", IF($H179=99,\"Stopped\", $D179)), 0),\"Not required\")","v":"Stopped"},{"$f":"IF(INTRO!$E$40=\"Endemic\", IF($I179>0, IF($I179=4,\"Unknown\",IF($I179=99,\"Stopped\", $D179)), 0),\"Not required\")","v":0},{"$f":"IF(INTRO!$E$42=\"Endemic\", IF(AND($J179>1,$J179<5), IF($J179=4, \"Unknown\", E179+F179), 0),\"Not required\")","v":83906},{"$f":"IF(INTRO!$E$44=\"Endemic\", IF(AND($K179>0,$K179<5), IF($K179=4,\"Unknown\", IF($K179=1, $F179*0.33, IF($K179=2, $F179*0.5+$G179*0.2, SUM(F179:G179)))), 0),\"Not required\")","v":55910.829074391018},0,0,1,0,null,"T3 (ALB/MBD)","T1","T3",46608,"Sikonge District Council",null,null,null,null,null,{"$f":"'MDA3'!Q179","v":0},{"$f":"'T1'!O179","v":0},{"$f":"T3_R1!N179","v":51940},null,51940,1]
[{"$f":"IF(INTRO!$E$34<>0,INTRO!$E$34,\"\")","v":"Tanzania"},"Tabora","Tabora Municipal Council",286274.67868054984,36929,52466,196879.67868054984,99,0,3,2,{"$f":"IF(INTRO!$E$38=\"Endemic\", IF($H180>0, IF($H180=4,\"Unknown\", IF($H180=99,\"Stopped\", $D180)), 0),\"Not required\")","v":"Stopped"},{"$f":"IF(INTRO!$E$40=\"Endemic\", IF($I180>0, IF($I180=4,\"Unknown\",IF($I180=99,\"Stopped\", $D180)), 0),\"Not required\")","v":0},{"$f":"IF(INTRO!$E$42=\"Endemic\", IF(AND($J180>1,$J180<5), IF($J180=4, \"Unknown\", E180+F180), 0),\"Not required\")","v":89395},{"$f":"IF(INTRO!$E$44=\"Endemic\", IF(AND($K180>0,$K180<5), IF($K180=4,\"Unknown\", IF($K180=1, $F180*0.33, IF($K180=2, $F180*0.5+$G180*0.2, SUM(F180:G180)))), 0),\"Not required\")","v":65608.935736109968},0,0,1,1,null,"T1 (PZQ+ALB/MBD)","T1","T3",46609,"Tabora Municipal Council",null,null,null,null,null,{"$f":"'MDA3'!Q180","v":0},{"$f":"'T1'!O180","v":51169},{"$f":"T3_R1!N180","v":0},null,51169,1]
[{"$f":"IF(INTRO!$E$34<>0,INTRO!$E$34,\"\")","v":"Tanzania"},"Tabora","Urambo District Council",243123.20475597182,31363,56488,155272.20475597182,99,0,3,2,{"$f":"IF(INTRO!$E$38=\"Endemic\", IF($H181>0, IF($H181=4,\"Unknown\", IF($H181=99,\"Stopped\", $D181)), 0),\"Not required\")","v":"Stopped"},{"$f":"IF(INTRO!$E$40=\"Endemic\", IF($I181>0, IF($I181=4,\"Unknown\",IF($I181=99,\"Stopped\", $D181)), 0),\"Not required\")","v":0},{"$f":"IF(INTRO!$E$42=\"Endemic\", IF(AND($J181>1,$J181<5), IF($J181=4, \"Unknown\", E181+F181), 0),\"Not required\")","v":87851},{"$f":"IF(INTRO!$E$44=\"Endemic\", IF(AND($K181>0,$K181<5), IF($K181=4,\"Unknown\", IF($K181=1, $F181*0.33, IF($K181=2, $F181*0.5+$G181*0.2, SUM(F181:G181)))), 0),\"Not required\")","v":59298.440951194367},0,0,1,1,null,"T1 (PZQ+ALB/MBD)","T1","T3",46610,"Urambo District Council",null,null,null,null,null,{"$f":"'MDA3'!Q181","v":0},{"$f":"'T1'!O181","v":56246},{"$f":"T3_R1!N181","v":0},null,56246,1]
[{"$f":"IF(INTRO!$E$34<>0,INTRO!$E$34,\"\")","v":"Tanzania"},"Tabora","Uyui District Council",500195.0670874028,64525,114798,320872.0670874028,99,0,3,2,{"$f":"IF(INTRO!$E$38=\"Endemic\", IF($H182>0, IF($H182=4,\"Unknown\", IF($H182=99,\"Stopped\", $D182)), 0),\"Not required\")","v":"Stopped"},{"$f":"IF(INTRO!$E$40=\"Endemic\", IF($I182>0, IF($I182=4,\"Unknown\",IF($I182=99,\"Stopped\", $D182)), 0),\"Not required\")","v":0},{"$f":"IF(INTRO!$E$42=\"Endemic\", IF(AND($J182>1,$J182<5), IF($J182=4, \"Unknown\", E182+F182), 0),\"Not required\")","v":179323},{"$f":"IF(INTRO!$E$44=\"Endemic\", IF(AND($K182>0,$K182<5), IF($K182=4,\"Unknown\", IF($K182=1, $F182*0.33, IF($K182=2, $F182*0.5+$G182*0.2, SUM(F182:G182)))), 0),\"Not required\")","v":121573.41341748057},0,0,1,1,null,"T1 (PZQ+ALB/MBD)","T1","T3",46611,"Uyui District Council",null,null,null,null,null,{"$f":"'MDA3'!Q182","v":0},{"$f":"'T1'!O182","v":114792},{"$f":"T3_R1!N182","v":0},null,114792,1]
[{"$f":"IF(INTRO!$E$34<>0,INTRO!$E$34,\"\")","v":"Tanzania"},"Tanga","Bumbuli District Council",190952.524,24633,43050,123269.524,99,1,3,2,{"$f":"IF(INTRO!$E$38=\"Endemic\", IF($H183>0, IF($H183=4,\"Unknown\", IF($H183=99,\"Stopped\", $D183)), 0),\"Not required\")","v":"Stopped"},{"$f":"IF(INTRO!$E$40=\"Endemic\", IF($I183>0, IF($I183=4,\"Unknown\",IF($I183=99,\"Stopped\", $D183)), 0),\"Not required\")","v":190952.524},{"$f":"IF(INTRO!$E$42=\"Endemic\", IF(AND($J183>1,$J183<5), IF($J183=4, \"Unknown\", E183+F183), 0),\"Not required\")","v":67683},{"$f":"IF(INTRO!$E$44=\"Endemic\", IF(AND($K183>0,$K183<5), IF($K183=4,\"Unknown\", IF($K183=1, $F183*0.33, IF($K183=2, $F183*0.5+$G183*0.2, SUM(F183:G183)))), 0),\"Not required\")","v":46178.904800000004},0,2,1,1,"MDA3 (IVM)","T1 (PZQ+ALB/MBD)","MDA 1","T1",46612,"Bumbuli District Council",null,null,null,null,null,{"$f":"'MDA3'!Q183","v":148177},{"$f":"'T1'!O183","v":41102},{"$f":"T3_R1!N183","v":0},null,41102,1]
[{"$f":"IF(INTRO!$E$34<>0,INTRO!$E$34,\"\")","v":"Tanzania"},"Tanga","Handeni District Council",330154.32837637659,42590,77524,210040.32837637659,99,0,3,2,{"$f":"IF(INTRO!$E$38=\"Endemic\", IF($H184>0, IF($H184=4,\"Unknown\", IF($H184=99,\"Stopped\", $D184)), 0),\"Not required\")","v":"Stopped"},{"$f":"IF(INTRO!$E$40=\"Endemic\", IF($I184>0, IF($I184=4,\"Unknown\",IF($I184=99,\"Stopped\", $D184)), 0),\"Not required\")","v":0},{"$f":"IF(INTRO!$E$42=\"Endemic\", IF(AND($J184>1,$J184<5), IF($J184=4, \"Unknown\", E184+F184), 0),\"Not required\")","v":120114},{"$f":"IF(INTRO!$E$44=\"Endemic\", IF(AND($K184>0,$K184<5), IF($K184=4,\"Unknown\", IF($K184=1, $F184*0.33, IF($K184=2, $F184*0.5+$G184*0.2, SUM(F184:G184)))), 0),\"Not required\")","v":80770.065675275313},0,0,1,1,null,"T1 (PZQ+ALB/MBD)","T1","T3",46613,"Handeni District Council",null,null,null,null,null,{"$f":"'MDA3'!Q184","v":0},{"$f":"'T1'!O184","v":77184},{"$f":"T3_R1!N184","v":0},null,77184,1]
[{"$f":"IF(INTRO!$E$34<>0,INTRO!$E$34,\"\")","v":"Tanzania"},"Tanga","Handeni Town Council",94345.654773997274,12171,23066,59108.654773997274,99,0,3,2,{"$f":"IF(INTRO!$E$38=\"Endemic\", IF($H185>0, IF($H185=4,\"Unknown\", IF($H185=99,\"Stopped\", $D185)), 0),\"Not required\")","v":"Stopped"},{"$f":"IF(INTRO!$E$40=\"Endemic\", IF($I185>0, IF($I185=4,\"Unknown\",IF($I185=99,\"Stopped\", $D185)), 0),\"Not required\")","v":0},{"$f":"IF(INTRO!$E$42=\"Endemic\", IF(AND($J185>1,$J185<5), IF($J185=4, \"Unknown\", E185+F185), 0),\"Not required\")","v":35237},{"$f":"IF(INTRO!$E$44=\"Endemic\", IF(AND($K185>0,$K185<5), IF($K185=4,\"Unknown\", IF($K185=1, $F185*0.33, IF($K185=2, $F185*0.5+$G185*0.2, SUM(F185:G185)))), 0),\"Not required\")","v":23354.730954799456},0,0,1,1,null,"T1 (PZQ+ALB/MBD)","T1","T3",46614,"Handeni Town Council",null,null,null,null,null,{"$f":"'MDA3'!Q185","v":0},{"$f":"'T1'!O185","v":20535},{"$f":"T3_R1!N185","v":0},null,20535,1]
[{"$f":"IF(INTRO!$E$34<>0,INTRO!$E$34,\"\")","v":"Tanzania"},"Tanga","Kilindi District Council",282641.57871778036,36461,71052,175128.57871778036,99,0,3,2,{"$f":"IF(INTRO!$E$38=\"Endemic\", IF($H186>0, IF($H186=4,\"Unknown\", IF($H186=99,\"Stopped\", $D186)), 0),\"Not required\")","v":"Stopped"},{"$f":"IF(INTRO!$E$40=\"Endemic\", IF($I186>0, IF($I186=4,\"Unknown\",IF($I186=99,\"Stopped\", $D186)), 0),\"Not required\")","v":0},{"$f":"IF(INTRO!$E$42=\"Endemic\", IF(AND($J186>1,$J186<5), IF($J186=4, \"Unknown\", E186+F186), 0),\"Not required\")","v":107513},{"$f":"IF(INTRO!$E$44=\"Endemic\", IF(AND($K186>0,$K186<5), IF($K186=4,\"Unknown\", IF($K186=1, $F186*0.33, IF($K186=2, $F186*0.5+$G186*0.2, SUM(F186:G186)))), 0),\"Not required\")","v":70551.715743556066},0,0,1,1,null,"T1 (PZQ+ALB/MBD)","T1","T3",46615,"Kilindi District Council",null,null,null,null,null,{"$f":"'MDA3'!Q186","v":0},{"$f":"'T1'!O186","v":60680},{"$f":"T3_R1!N186","v":0},null,60680,1]
[{"$f":"IF(INTRO!$E$34<>0,INTRO!$E$34,\"\")","v":"Tanzania"},"Tanga","Korogwe District Council",288851.80473283923,37262,63952,187637.80473283923,1,1,3,2,{"$f":"IF(INTRO!$E$38=\"Endemic\", IF($H187>0, IF($H187=4,\"Unknown\", IF($H187=99,\"Stopped\", $D187)), 0),\"Not required\")","v":288851.80473283923},{"$f":"IF(INTRO!$E$40=\"Endemic\", IF($I187>0, IF($I187=4,\"Unknown\",IF($I187=99,\"Stopped\", $D187)), 0),\"Not required\")","v":288851.80473283923},{"$f":"IF(INTRO!$E$42=\"Endemic\", IF(AND($J187>1,$J187<5), IF($J187=4, \"Unknown\", E187+F187), 0),\"Not required\")","v":101214},{"$f":"IF(INTRO!$E$44=\"Endemic\", IF(AND($K187>0,$K187<5), IF($K187=4,\"Unknown\", IF($K187=1, $F187*0.33, IF($K187=2, $F187*0.5+$G187*0.2, SUM(F187:G187)))), 0),\"Not required\")","v":69503.560946567857},0,2,1,1,"MDA3 (IVM)","T1 (PZQ+ALB/MBD)","MDA 1","T1",46616,"Korogwe District Council",null,null,null,null,null,{"$f":"'MDA3'!Q187","v":227216},{"$f":"'T1'!O187","v":57376},{"$f":"T3_R1!N187","v":0},null,57376,1]
[{"$f":"IF(INTRO!$E$34<>0,INTRO!$E$34,\"\")","v":"Tanzania"},"Tanga","Korogwe Town Council",81520.097430453388,10516,17747,53257.097430453388,1,0,3,2,{"$f":"IF(INTRO!$E$38=\"Endemic\", IF($H188>0, IF($H188=4,\"Unknown\", IF($H188=99,\"Stopped\", $D188)), 0),\"Not required\")","v":81520.097430453388},{"$f":"IF(INTRO!$E$40=\"Endemic\", IF($I188>0, IF($I188=4,\"Unknown\",IF($I188=99,\"Stopped\", $D188)), 0),\"Not required\")","v":0},{"$f":"IF(INTRO!$E$42=\"Endemic\", IF(AND($J188>1,$J188<5), IF($J188=4, \"Unknown\", E188+F188), 0),\"Not required\")","v":28263},{"$f":"IF(INTRO!$E$44=\"Endemic\", IF(AND($K188>0,$K188<5), IF($K188=4,\"Unknown\", IF($K188=1, $F188*0.33, IF($K188=2, $F188*0.5+$G188*0.2, SUM(F188:G188)))), 0),\"Not required\")","v":19524.919486090679},0,0,1,1,null,"T1 (PZQ+ALB/MBD)","MDA 1","T1",46617,"Korogwe Town Council",null,null,null,null,null,{"$f":"'MDA3'!Q188","v":0},{"$f":"'T1'!O188","v":16045},{"$f":"T3_R1!N188","v":0},null,16045,1]
[{"$f":"IF(INTRO!$E$34<>0,INTRO!$E$34,\"\")","v":"Tanzania"},"Tanga","Lushoto District Council",396735.62036799663,51179,94062,251494.62036799663,99,1,3,2,{"$f":"IF(INTRO!$E$38=\"Endemic\", IF($H189>0, IF($H189=4,\"Unknown\", IF($H189=99,\"Stopped\", $D189)), 0),\"Not required\")","v":"Stopped"},{"$f":"IF(INTRO!$E$40=\"Endemic\", IF($I189>0, IF($I189=4,\"Unknown\",IF($I189=99,\"Stopped\", $D189)), 0),\"Not required\")","v":396735.62036799663},{"$f":"IF(INTRO!$E$42=\"Endemic\", IF(AND($J189>1,$J189<5), IF($J189=4, \"Unknown\", E189+F189), 0),\"Not required\")","v":145241},{"$f":"IF(INTRO!$E$44=\"Endemic\", IF(AND($K189>0,$K189<5), IF($K189=4,\"Unknown\", IF($K189=1, $F189*0.33, IF($K189=2, $F189*0.5+$G189*0.2, SUM(F189:G189)))), 0),\"Not required\")","v":97329.924073599337},0,2,1,1,"MDA3 (IVM)","T1 (PZQ+ALB/MBD)","MDA 1","T1",46618,"Lushoto District Council",null,null,null,null,null,{"$f":"'MDA3'!Q189","v":346000},{"$f":"'T1'!O189","v":92062},{"$f":"T3_R1!N189","v":0},null,92062,1]
[{"$f":"IF(INTRO!$E$34<>0,INTRO!$E$34,\"\")","v":"Tanzania"},"Tanga","Mkinga District Council",140901.09189452321,18176,34054,88671.091894523212,99,1,3,2,{"$f":"IF(INTRO!$E$38=\"Endemic\", IF($H190>0, IF($H190=4,\"Unknown\", IF($H190=99,\"Stopped\", $D190)), 0),\"Not required\")","v":"Stopped"},{"$f":"IF(INTRO!$E$40=\"Endemic\", IF($I190>0, IF($I190=4,\"Unknown\",IF($I190=99,\"Stopped\", $D190)), 0),\"Not required\")","v":140901.09189452321},{"$f":"IF(INTRO!$E$42=\"Endemic\", IF(AND($J190>1,$J190<5), IF($J190=4, \"Unknown\", E190+F190), 0),\"Not required\")","v":52230},{"$f":"IF(INTRO!$E$44=\"Endemic\", IF(AND($K190>0,$K190<5), IF($K190=4,\"Unknown\", IF($K190=1, $F190*0.33, IF($K190=2, $F190*0.5+$G190*0.2, SUM(F190:G190)))), 0),\"Not required\")","v":34761.218378904639},0,2,1,1,"MDA3 (IVM)","T1 (PZQ+ALB/MBD)","MDA 1","T1",46619,"Mkinga District Council",null,null,null,null,null,{"$f":"'MDA3'!Q190","v":114566},{"$f":"'T1'!O190","v":33179},{"$f":"T3_R1!N190","v":0},null,33179,1]
[{"$f":"IF(INTRO!$E$34<>0,INTRO!$E$34,\"\")","v":"Tanzania"},"Tanga","Muheza District Council",244006.5543993199,31477,44672,167857.5543993199,99,1,3,2,{"$f":"IF(INTRO!$E$38=\"Endemic\", IF($H191>0, IF($H191=4,\"Unknown\", IF($H191=99,\"Stopped\", $D191)), 0),\"Not required\")","v":"Stopped"},{"$f":"IF(INTRO!$E$40=\"Endemic\", IF($I191>0, IF($I191=4,\"Unknown\",IF($I191=99,\"Stopped\", $D191)), 0),\"Not required\")","v":244006.5543993199},{"$f":"IF(INTRO!$E$42=\"Endemic\", IF(AND($J191>1,$J191<5), IF($J191=4, \"Unknown\", E191+F191), 0),\"Not required\")","v":76149},{"$f":"IF(INTRO!$E$44=\"Endemic\", IF(AND($K191>0,$K191<5), IF($K191=4,\"Unknown\", IF($K191=1, $F191*0.33, IF($K191=2, $F191*0.5+$G191*0.2, SUM(F191:G191)))), 0),\"Not required\")","v":55907.510879863978},0,2,1,1,"MDA3 (IVM)","T1 (PZQ+ALB/MBD)","MDA 1","T1",46620,"Muheza District Council",null,null,null,null,null,{"$f":"'MDA3'!Q191","v":202491},{"$f":"'T1'!O191","v":44216},{"$f":"T3_R1!N191","v":0},null,44216,1]
[{"$f":"IF(INTRO!$E$34<>0,INTRO!$E$34,\"\")","v":"Tanzania"},"Tanga","Pangani District Council",64475.382359107229,8317,14507,41651.382359107229,1,0,3,2,{"$f":"IF(INTRO!$E$38=\"Endemic\", IF($H192>0, IF($H192=4,\"Unknown\", IF($H192=99,\"Stopped\", $D192)), 0),\"Not required\")","v":64475.382359107229},{"$f":"IF(INTRO!$E$40=\"Endemic\", IF($I192>0, IF($I192=4,\"Unknown\",IF($I192=99,\"Stopped\", $D192)), 0),\"Not required\")","v":0},{"$f":"IF(INTRO!$E$42=\"Endemic\", IF(AND($J192>1,$J192<5), IF($J192=4, \"Unknown\", E192+F192), 0),\"Not required\")","v":22824},{"$f":"IF(INTRO!$E$44=\"Endemic\", IF(AND($K192>0,$K192<5), IF($K192=4,\"Unknown\", IF($K192=1, $F192*0.33, IF($K192=2, $F192*0.5+$G192*0.2, SUM(F192:G192)))), 0),\"Not required\")","v":15583.776471821446},0,0,1,1,null,"T1 (PZQ+ALB/MBD)","MDA 1","T1",46621,"Pangani District Council",null,null,null,null,null,{"$f":"'MDA3'!Q192","v":0},{"$f":"'T1'!O192","v":13323},{"$f":"T3_R1!N192","v":0},null,13323,1]
[{"$f":"IF(INTRO!$E$34<>0,INTRO!$E$34,\"\")","v":"Tanzania"},"Tanga","Tanga City Council",326197.45116513426,42079,97103,187015.45116513426,99,0,3,2,{"$f":"IF(INTRO!$E$38=\"Endemic\", IF($H193>0, IF($H193=4,\"Unknown\", IF($H193=99,\"Stopped\", $D193)), 0),\"Not required\")","v":"Stopped"},{"$f":"IF(INTRO!$E$40=\"Endemic\", IF($I193>0, IF($I193=4,\"Unknown\",IF($I193=99,\"Stopped\", $D193)), 0),\"Not required\")","v":0},{"$f":"IF(INTRO!$E$42=\"Endemic\", IF(AND($J193>1,$J193<5), IF($J193=4, \"Unknown\", E193+F193), 0),\"Not required\")","v":139182},{"$f":"IF(INTRO!$E$44=\"Endemic\", IF(AND($K193>0,$K193<5), IF($K193=4,\"Unknown\", IF($K193=1, $F193*0.33, IF($K193=2, $F193*0.5+$G193*0.2, SUM(F193:G193)))), 0),\"Not required\")","v":85954.590233026858},0,0,1,1,null,"T1 (PZQ+ALB/MBD)","T1","T3",46622,"Tanga City Council",null,null,null,null,null,{"$f":"'MDA3'!Q193","v":0},{"$f":"'T1'!O193","v":95207},{"$f":"T3_R1!N193","v":0},null,95207,1]
[null,null,null,null,null,null,null,null,null,null,null,null,null,null,null,null,null,null,null,null,null," "," "]

{"sheet":"MDA1","index":2,"n_rows":193,"n_cols":17,"rows_kept":193,"cut":false,"hidden":false,"merged":[[5,13,5,16],[3,0,3,2],[5,0,5,2],[5,5,5,8],[5,9,5,12],[5,3,6,3],[5,4,6,4]]}
["MDA 1 - Ivermectin (IVM) and Albendazole (ALB)"]
["Administrative structure, population requiring PC by age group, population treated by age group and coverage"]
[]
["TOTAL",null,null,null,null,null,{"$f":"SUM(G$9:G$1000)","v":0},{"$f":"SUM(H$9:H$1000)","v":0},{"$f":"SUM(I$9:I$1000)","v":0},null,{"$f":"SUM(K$9:K$1000)","v":0},{"$f":"SUM(L$9:L$1000)","v":0},{"$f":"SUM(M$9:M$1000)","v":0},null,{"$f":"IF(G4<>0, IF(K4/G4*100=0, \"-\", K4/G4*100), \" \")","v":" "},{"$f":"IF(H4<>0, IF(L4/H4*100=0, \"-\", L4/H4*100), \" \")","v":" "},{"$f":"IF(I4<>0, IF(M4/I4*100=0, \"-\", M4/I4*100), \" \")","v":" "}]
[]
[null,null,null,"PC implemented","Date","Population targeted for MDA 1",null,null,null,"Population treated",null,null,null,"Programme coverage (%)"]
["Country","Province/State","District",null,null,"PreSAC","SAC","Adults","Total","PreSAC","SAC","Adults","Total","PreSAC","SAC","Adults","Total"]
[]
[{"$f":"IF(COUNTRY_INFO!A9=0,\" \",COUNTRY_INFO!A9)","v":"Tanzania"},{"$f":"IF(COUNTRY_INFO!B9=0,\" \",COUNTRY_INFO!B9)","v":"Arusha"},{"$f":"IF(COUNTRY_INFO!C9=0,\" \",COUNTRY_INFO!C9)","v":"Arusha City Council"},{"$f":"IF(COUNTRY_INFO!$T$9:$T$1000=\"MDA1 (IVM+ALB)\", COUNTRY_INFO!$T$9:$T$1000, \" \")","v":" "},null,null,null,null,{"$f":"SUM(F9:H9)","v":0},null,null,null,{"$f":"SUM(J9:L9)","v":0},null,{"$f":"IF(G9<>0, IF(K9/G9*100=0, \"-\", K9/G9*100), \" \")","v":" "},{"$f":"IF(H9<>0, IF(L9/H9*100=0, \"-\", L9/H9*100), \" \")","v":" "}," "]
[{"$f":"IF(COUNTRY_INFO!A10=0,\" \",COUNTRY_INFO!A10)","v":"Tanzania"},{"$f":"IF(COUNTRY_INFO!B10=0,\" \",COUNTRY_INFO!B10)","v":"Arusha"},{"$f":"IF(COUNTRY_INFO!C10=0,\" \",COUNTRY_INFO!C10)","v":"Arusha District Council"},{"$f":"IF(COUNTRY_INFO!$T$9:$T$1000=\"MDA1 (IVM+ALB)\", COUNTRY_INFO!$T$9:$T$1000, \" \")","v":" "},null,null,null,null,{"$f":"SUM(F10:H10)","v":0},null,null,null,{"$f":"SUM(J10:L10)","v":0},null,{"$f":"IF(G10<>0, IF(K10/G10*100=0, \"-\", K10/G10*100), \" \")","v":" "},{"$f":"IF(H10<>0, IF(L10/H10*100=0, \"-\", L10/H10*100), \" \")","v":" "},{"$f":"IF(I10<>0, IF(M10/I10*100=0, \"-\", M10/I10*100), \" \")","v":" "}]
[{"$f":"IF(COUNTRY_INFO!A11=0,\" \",COUNTRY_INFO!A11)","v":"Tanzania"},{"$f":"IF(COUNTRY_INFO!B11=0,\" \",COUNTRY_INFO!B11)","v":"Arusha"},{"$f":"IF(COUNTRY_INFO!C11=0,\" \",COUNTRY_INFO!C11)","v":"Karatu District Council"},{"$f":"IF(COUNTRY_INFO!$T$9:$T$1000=\"MDA1 (IVM+ALB)\", COUNTRY_INFO!$T$9:$T$1000, \" \")","v":" "},null,null,null,null,0,null,null,null,0,null," "," "," "]
[{"$f":"IF(COUNTRY_INFO!A12=0,\" \",COUNTRY_INFO!A12)","v":"Tanzania"},{"$f":"IF(COUNTRY_INFO!B12=0,\" \",COUNTRY_INFO!B12)","v":"Arusha"},{"$f":"IF(COUNTRY_INFO!C12=0,\" \",COUNTRY_INFO!C12)","v":"Longido District Council"},{"$f":"IF(COUNTRY_INFO!$T$9:$T$1000=\"MDA1 (IVM+ALB)\", COUNTRY_INFO!$T$9:$T$1000, \" \")","v":" "},null,null,null,null,0,null,null,null,0,null," "," "," "]
[{"$f":"IF(COUNTRY_INFO!A13=0,\" \",COUNTRY_INFO!A13)","v":"Tanzania"},{"$f":"IF(COUNTRY_INFO!B13=0,\" \",COUNTRY_INFO!B13)","v":"Arusha"},{"$f":"IF(COUNTRY_INFO!C13=0,\" \",COUNTRY_INFO!C13)","v":"Meru District Council"},{"$f":"IF(COUNTRY_INFO!$T$9:$T$1000=\"MDA1 (IVM+ALB)\", COUNTRY_INFO!$T$9:$T$1000, \" \")","v":" "},null,null,null,null,0,null,null,null,0,null," "," "," "]
[{"$f":"IF(COUNTRY_INFO!A14=0,\" \",COUNTRY_INFO!A14)","v":"Tanzania"},{"$f":"IF(COUNTRY_INFO!B14=0,\" \",COUNTRY_INFO!B14)","v":"Arusha"},{"$f":"IF(COUNTRY_INFO!C14=0,\" \",COUNTRY_INFO!C14)","v":"Monduli District Council"},{"$f":"IF(COUNTRY_INFO!$T$9:$T$1000=\"MDA1 (IVM+ALB)\", COUNTRY_INFO!$T$9:$T$1000, \" \")","v":" "},null,null,null,null,0,null,null,null,0,null," "," "," "]
[{"$f":"IF(COUNTRY_INFO!A15=0,\" \",COUNTRY_INFO!A15)","v":"Tanzania"},{"$f":"IF(COUNTRY_INFO!B15=0,\" \",COUNTRY_INFO!B15)","v":"Arusha"},{"$f":"IF(COUNTRY_INFO!C15=0,\" \",COUNTRY_INFO!C15)","v":"Ngorongoro District Council"},{"$f":"IF(COUNTRY_INFO!$T$9:$T$1000=\"MDA1 (IVM+ALB)\", COUNTRY_INFO!$T$9:$T$1000, \" \")","v":" "},null,null,null,null,0,null,null,null,0,null," "," "," "]
[{"$f":"IF(COUNTRY_INFO!A16=0,\" \",COUNTRY_INFO!A16)","v":"Tanzania"},{"$f":"IF(COUNTRY_INFO!B16=0,\" \",COUNTRY_INFO!B16)","v":"Dar Es Salaam"},{"$f":"IF(COUNTRY_INFO!C16=0,\" \",COUNTRY_INFO!C16)","v":"Dar es Salaam City Council "},{"$f":"IF(COUNTRY_INFO!$T$9:$T$1000=\"MDA1 (IVM+ALB)\", COUNTRY_INFO!$T$9:$T$1000, \" \")","v":" "},null,null,null,null,0,null,null,null,0,null," "," "," "]
[{"$f":"IF(COUNTRY_INFO!A17=0,\" \",COUNTRY_INFO!A17)","v":"Tanzania"},{"$f":"IF(COUNTRY_INFO!B17=0,\" \",COUNTRY_INFO!B17)","v":"Dar Es Salaam"},{"$f":"IF(COUNTRY_INFO!C17=0,\" \",COUNTRY_INFO!C17)","v":"Ilala Municipal Council"},{"$f":"IF(COUNTRY_INFO!$T$9:$T$1000=\"MDA1 (IVM+ALB)\", COUNTRY_INFO!$T$9:$T$1000, \" \")","v":" "},null,null,null,null,0,null,null,null,0,null," "," "," "]
[{"$f":"IF(COUNTRY_INFO!A18=0,\" \",COUNTRY_INFO!A18)","v":"Tanzania"},{"$f":"IF(COUNTRY_INFO!B18=0,\" \",COUNTRY_INFO!B18)","v":"Dar Es Salaam"},{"$f":"IF(COUNTRY_INFO!C18=0,\" \",COUNTRY_INFO!C18)","v":"Kigamboni Municipal Council"},{"$f":"IF(COUNTRY_INFO!$T$9:$T$1000=\"MDA1 (IVM+ALB)\", COUNTRY_INFO!$T$9:$T$1000, \" \")","v":" "},null,null,null,null,0,null,null,null,0,null," "," "," "]
[{"$f":"IF(COUNTRY_INFO!A19=0,\" \",COUNTRY_INFO!A19)","v":"Tanzania"},{"$f":"IF(COUNTRY_INFO!B19=0,\" \",COUNTRY_INFO!B19)","v":"Dar Es Salaam"},{"$f":"IF(COUNTRY_INFO!C19=0,\" \",COUNTRY_INFO!C19)","v":"Kinondoni Municipal Council"},{"$f":"IF(COUNTRY_INFO!$T$9:$T$1000=\"MDA1 (IVM+ALB)\", COUNTRY_INFO!$T$9:$T$1000, \" \")","v":" "},null,null,null,null,0,null,null,null,0,null," "," "," "]
[{"$f":"IF(COUNTRY_INFO!A20=0,\" \",COUNTRY_INFO!A20)","v":"Tanzania"},{"$f":"IF(COUNTRY_INFO!B20=0,\" \",COUNTRY_INFO!B20)","v":"Dar Es Salaam"},{"$f":"IF(COUNTRY_INFO!C20=0,\" \",COUNTRY_INFO!C20)","v":"Temeke Municipal Council"},{"$f":"IF(COUNTRY_INFO!$T$9:$T$1000=\"MDA1 (IVM+ALB)\", COUNTRY_INFO!$T$9:$T$1000, \" \")","v":" "},null,null,null,null,0,null,null,null,0,null," "," "," "]
[{"$f":"IF(COUNTRY_INFO!A21=0,\" \",COUNTRY_INFO!A21)","v":"Tanzania"},{"$f":"IF(COUNTRY_INFO!B21=0,\" \",COUNTRY_INFO!B21)","v":"Dar Es Salaam"},{"$f":"IF(COUNTRY_INFO!C21=0,\" \",COUNTRY_INFO!C21)","v":"Ubungo Municipal Council"},{"$f":"IF(COUNTRY_INFO!$T$9:$T$1000=\"MDA1 (IVM+ALB)\", COUNTRY_INFO!$T$9:$T$1000, \" \")","v":" "},null,null,null,null,0,null,null,null,0,null," "," "," "]
[{"$f":"IF(COUNTRY_INFO!A22=0,\" \",COUNTRY_INFO!A22)","v":"Tanzania"},{"$f":"IF(COUNTRY_INFO!B22=0,\" \",COUNTRY_INFO!B22)","v":"Dodoma"},{"$f":"IF(COUNTRY_INFO!C22=0,\" \",COUNTRY_INFO!C22)","v":"Bahi District Council"},{"$f":"IF(COUNTRY_INFO!$T$9:$T$1000=\"MDA1 (IVM+ALB)\", COUNTRY_INFO!$T$9:$T$1000, \" \")","v":" "},null,null,null,null,0,null,null,null,0,null," "," "," "]
[{"$f":"IF(COUNTRY_INFO!A23=0,\" \",COUNTRY_INFO!A23)","v":"Tanzania"},{"$f":"IF(COUNTRY_INFO!B23=0,\" \",COUNTRY_INFO!B23)","v":"Dodoma"},{"$f":"IF(COUNTRY_INFO!C23=0,\" \",COUNTRY_INFO!C23)","v":"Chamwino District Council"},{"$f":"IF(COUNTRY_INFO!$T$9:$T$1000=\"MDA1 (IVM+ALB)\", COUNTRY_INFO!$T$9:$T$1000, \" \")","v":" "},null,null,null,null,0,null,null,null,0,null," "," "," "]
[{"$f":"IF(COUNTRY_INFO!A24=0,\" \",COUNTRY_INFO!A24)","v":"Tanzania"},{"$f":"IF(COUNTRY_INFO!B24=0,\" \",COUNTRY_INFO!B24)","v":"Dodoma"},{"$f":"IF(COUNTRY_INFO!C24=0,\" \",COUNTRY_INFO!C24)","v":"Chemba District Council"},{"$f":"IF(COUNTRY_INFO!$T$9:$T$1000=\"MDA1 (IVM+ALB)\", COUNTRY_INFO!$T$9:$T$1000, \" \")","v":" "},null,null,null,null,0,null,null,null,0,null," "," "," "]
[{"$f":"IF(COUNTRY_INFO!A25=0,\" \",COUNTRY_INFO!A25)","v":"Tanzania"},{"$f":"IF(COUNTRY_INFO!B25=0,\" \",COUNTRY_INFO!B25)","v":"Dodoma"},{"$f":"IF(COUNTRY_INFO!C25=0,\" \",COUNTRY_INFO!C25)","v":"Dodoma City Council"},{"$f":"IF(COUNTRY_INFO!$T$9:$T$1000=\"MDA1 (IVM+ALB)\", COUNTRY_INFO!$T$9:$T$1000, \" \")","v":" "},null,null,null,null,0,null,null,null,0,null," "," "," "]
[{"$f":"IF(COUNTRY_INFO!A26=0,\" \",COUNTRY_INFO!A26)","v":"Tanzania"},{"$f":"IF(COUNTRY_INFO!B26=0,\" \",COUNTRY_INFO!B26)","v":"Dodoma"},{"$f":"IF(COUNTRY_INFO!C26=0,\" \",COUNTRY_INFO!C26)","v":"Kondoa District Council"},{"$f":"IF(COUNTRY_INFO!$T$9:$T$1000=\"MDA1 (IVM+ALB)\", COUNTRY_INFO!$T$9:$T$1000, \" \")","v":" "},null,null,null,null,0,null,null,null,0,null," "," "," "]
[{"$f":"IF(COUNTRY_INFO!A27=0,\" \",COUNTRY_INFO!A27)","v":"Tanzania"},{"$f":"IF(COUNTRY_INFO!B27=0,\" \",COUNTRY_INFO!B27)","v":"Dodoma"},{"$f":"IF(COUNTRY_INFO!C27=0,\" \",COUNTRY_INFO!C27)","v":"Kondoa Town Council "},{"$f":"IF(COUNTRY_INFO!$T$9:$T$1000=\"MDA1 (IVM+ALB)\", COUNTRY_INFO!$T$9:$T$1000, \" \")","v":" "},null,null,null,null,0,null,null,null,0,null," "," "," "]
[{"$f":"IF(COUNTRY_INFO!A28=0,\" \",COUNTRY_INFO!A28)","v":"Tanzania"},{"$f":"IF(COUNTRY_INFO!B28=0,\" \",COUNTRY_INFO!B28)","v":"Dodoma"},{"$f":"IF(COUNTRY_INFO!C28=0,\" \",COUNTRY_INFO!C28)","v":"Kongwa District Council"},{"$f":"IF(COUNTRY_INFO!$T$9:$T$1000=\"MDA1 (IVM+ALB)\", COUNTRY_INFO!$T$9:$T$1000, \" \")","v":" "},null,null,null,null,0,null,null,null,0,null," "," "," "]
[{"$f":"IF(COUNTRY_INFO!A29=0,\" \",COUNTRY_INFO!A29)","v":"Tanzania"},{"$f":"IF(COUNTRY_INFO!B29=0,\" \",COUNTRY_INFO!B29)","v":"Dodoma"},{"$f":"IF(COUNTRY_INFO!C29=0,\" \",COUNTRY_INFO!C29)","v":"Mpwapwa District Council"},{"$f":"IF(COUNTRY_INFO!$T$9:$T$1000=\"MDA1 (IVM+ALB)\", COUNTRY_INFO!$T$9:$T$1000, \" \")","v":" "},null,null,null,null,0,null,null,null,0,null," "," "," "]
[{"$f":"IF(COUNTRY_INFO!A30=0,\" \",COUNTRY_INFO!A30)","v":"Tanzania"},{"$f":"IF(COUNTRY_INFO!B30=0,\" \",COUNTRY_INFO!B30)","v":"Geita"},{"$f":"IF(COUNTRY_INFO!C30=0,\" \",COUNTRY_INFO!C30)","v":"Bukombe District Council"},{"$f":"IF(COUNTRY_INFO!$T$9:$T$1000=\"MDA1 (IVM+ALB)\", COUNTRY_INFO!$T$9:$T$1000, \" \")","v":" "},null,null,null,null,0,null,null,null,0,null," "," "," "]
[{"$f":"IF(COUNTRY_INFO!A31=0,\" \",COUNTRY_INFO!A31)","v":"Tanzania"},{"$f":"IF(COUNTRY_INFO!B31=0,\" \",COUNTRY_INFO!B31)","v":"Geita"},{"$f":"IF(COUNTRY_INFO!C31=0,\" \",COUNTRY_INFO!C31)","v":"Chato District Council"},{"$f":"IF(COUNTRY_INFO!$T$9:$T$1000=\"MDA1 (IVM+ALB)\", COUNTRY_INFO!$T$9:$T$1000, \" \")","v":" "},null,null,null,null,0,null,null,null,0,null," "," "," "]
[{"$f":"IF(COUNTRY_INFO!A32=0,\" \",COUNTRY_INFO!A32)","v":"Tanzania"},{"$f":"IF(COUNTRY_INFO!B32=0,\" \",COUNTRY_INFO!B32)","v":"Geita"},{"$f":"IF(COUNTRY_INFO!C32=0,\" \",COUNTRY_INFO!C32)","v":"Geita District Council"},{"$f":"IF(COUNTRY_INFO!$T$9:$T$1000=\"MDA1 (IVM+ALB)\", COUNTRY_INFO!$T$9:$T$1000, \" \")","v":" "},null,null,null,null,0,null,null,null,0,null," "," "," "]
[{"$f":"IF(COUNTRY_INFO!A33=0,\" \",COUNTRY_INFO!A33)","v":"Tanzania"},{"$f":"IF(COUNTRY_INFO!B33=0,\" \",COUNTRY_INFO!B33)","v":"Geita"},{"$f":"IF(COUNTRY_INFO!C33=0,\" \",COUNTRY_INFO!C33)","v":"Geita Town Council"},{"$f":"IF(COUNTRY_INFO!$T$9:$T$1000=\"MDA1 (IVM+ALB)\", COUNTRY_INFO!$T$9:$T$1000, \" \")","v":" "},null,null,null,null,0,null,null,null,0,null," "," "," "]
[{"$f":"IF(COUNTRY_INFO!A34=0,\" \",COUNTRY_INFO!A34)","v":"Tanzania"},{"$f":"IF(COUNTRY_INFO!B34=0,\" \",COUNTRY_INFO!B34)","v":"Geita"},{"$f":"IF(COUNTRY_INFO!C34=0,\" \",COUNTRY_INFO!C34)","v":"Mbogwe District Council"},{"$f":"IF(COUNTRY_INFO!$T$9:$T$1000=\"MDA1 (IVM+ALB)\", COUNTRY_INFO!$T$9:$T$1000, \" \")","v":" "},null,null,null,null,0,null,null,null,0,null," "," "," "]
[{"$f":"IF(COUNTRY_INFO!A35=0,\" \",COUNTRY_INFO!A35)","v":"Tanzania"},{"$f":"IF(COUNTRY_INFO!B35=0,\" \",COUNTRY_INFO!B35)","v":"Geita"},{"$f":"IF(COUNTRY_INFO!C35=0,\" \",COUNTRY_INFO!C35)","v":"Nyang'hwale District Council"},{"$f":"IF(COUNTRY_INFO!$T$9:$T$1000=\"MDA1 (IVM+ALB)\", COUNTRY_INFO!$T$9:$T$1000, \" \")","v":" "},null,null,null,null,0,null,null,null,0,null," "," "," "]
[{"$f":"IF(COUNTRY_INFO!A36=0,\" \",COUNTRY_INFO!A36)","v":"Tanzania"},{"$f":"IF(COUNTRY_INFO!B36=0,\" \",COUNTRY_INFO!B36)","v":"Iringa"},{"$f":"IF(COUNTRY_INFO!C36=0,\" \",COUNTRY_INFO!C36)","v":"Iringa District Council"},{"$f":"IF(COUNTRY_INFO!$T$9:$T$1000=\"MDA1 (IVM+ALB)\", COUNTRY_INFO!$T$9:$T$1000, \" \")","v":" "},null,null,null,null,0,null,null,null,0,null," "," "," "]
[{"$f":"IF(COUNTRY_INFO!A37=0,\" \",COUNTRY_INFO!A37)","v":"Tanzania"},{"$f":"IF(COUNTRY_INFO!B37=0,\" \",COUNTRY_INFO!B37)","v":"Iringa"},{"$f":"IF(COUNTRY_INFO!C37=0,\" \",COUNTRY_INFO!C37)","v":"Iringa Municipal Council"},{"$f":"IF(COUNTRY_INFO!$T$9:$T$1000=\"MDA1 (IVM+ALB)\", COUNTRY_INFO!$T$9:$T$1000, \" \")","v":" "},null,null,null,null,0,null,null,null,0,null," "," "," "]
[{"$f":"IF(COUNTRY_INFO!A38=0,\" \",COUNTRY_INFO!A38)","v":"Tanzania"},{"$f":"IF(COUNTRY_INFO!B38=0,\" \",COUNTRY_INFO!B38)","v":"Iringa"},{"$f":"IF(COUNTRY_INFO!C38=0,\" \",COUNTRY_INFO!C38)","v":"Kilolo District Council"},{"$f":"IF(COUNTRY_INFO!$T$9:$T$1000=\"MDA1 (IVM+ALB)\", COUNTRY_INFO!$T$9:$T$1000, \" \")","v":" "},null,null,null,null,0,null,null,null,0,null," "," "," "]
[{"$f":"IF(COUNTRY_INFO!A39=0,\" \",COUNTRY_INFO!A39)","v":"Tanzania"},{"$f":"IF(COUNTRY_INFO!B39=0,\" \",COUNTRY_INFO!B39)","v":"Iringa"},{"$f":"IF(COUNTRY_INFO!C39=0,\" \",COUNTRY_INFO!C39)","v":"Mafinga Town Council"},{"$f":"IF(COUNTRY_INFO!$T$9:$T$1000=\"MDA1 (IVM+ALB)\", COUNTRY_INFO!$T$9:$T$1000, \" \")","v":" "},null,null,null,null,0,null,null,null,0,null," "," "," "]
[{"$f":"IF(COUNTRY_INFO!A40=0,\" \",COUNTRY_INFO!A40)","v":"Tanzania"},{"$f":"IF(COUNTRY_INFO!B40=0,\" \",COUNTRY_INFO!B40)","v":"Iringa"},{"$f":"IF(COUNTRY_INFO!C40=0,\" \",COUNTRY_INFO!C40)","v":"Mufindi District Council"},{"$f":"IF(COUNTRY_INFO!$T$9:$T$1000=\"MDA1 (IVM+ALB)\", COUNTRY_INFO!$T$9:$T$1000, \" \")","v":" "},null,null,null,null,0,null,null,null,0,null," "," "," "]
[{"$f":"IF(COUNTRY_INFO!A41=0,\" \",COUNTRY_INFO!A41)","v":"Tanzania"},{"$f":"IF(COUNTRY_INFO!B41=0,\" \",COUNTRY_INFO!B41)","v":"Kagera"},{"$f":"IF(COUNTRY_INFO!C41=0,\" \",COUNTRY_INFO!C41)","v":"Biharamulo District Council"},{"$f":"IF(COUNTRY_INFO!$T$9:$T$1000=\"MDA1 (IVM+ALB)\", COUNTRY_INFO!$T$9:$T$1000, \" \")","v":" "},null,null,null,null,0,null,null,null,0,null," "," "," "]
[{"$f":"IF(COUNTRY_INFO!A42=0,\" \",COUNTRY_INFO!A42)","v":"Tanzania"},{"$f":"IF(COUNTRY_INFO!B42=0,\" \",COUNTRY_INFO!B42)","v":"Kagera"},{"$f":"IF(COUNTRY_INFO!C42=0,\" \",COUNTRY_INFO!C42)","v":"Bukoba District Council"},{"$f":"IF(COUNTRY_INFO!$T$9:$T$1000=\"MDA1 (IVM+ALB)\", COUNTRY_INFO!$T$9:$T$1000, \" \")","v":" "},null,null,null,null,0,null,null,null,0,null," "," "," "]
[{"$f":"IF(COUNTRY_INFO!A43=0,\" \",COUNTRY_INFO!A43)","v":"Tanzania"},{"$f":"IF(COUNTRY_INFO!B43=0,\" \",COUNTRY_INFO!B43)","v":"Kagera"},{"$f":"IF(COUNTRY_INFO!C43=0,\" \",COUNTRY_INFO!C43)","v":"Bukoba Municipal Council"},{"$f":"IF(COUNTRY_INFO!$T$9:$T$1000=\"MDA1 (IVM+ALB)\", COUNTRY_INFO!$T$9:$T$1000, \" \")","v":" "},null,null,null,null,0,null,null,null,0,null," "," "," "]
[{"$f":"IF(COUNTRY_INFO!A44=0,\" \",COUNTRY_INFO!A44)","v":"Tanzania"},{"$f":"IF(COUNTRY_INFO!B44=0,\" \",COUNTRY_INFO!B44)","v":"Kagera"},{"$f":"IF(COUNTRY_INFO!C44=0,\" \",COUNTRY_INFO!C44)","v":"Karagwe District Council"},{"$f":"IF(COUNTRY_INFO!$T$9:$T$1000=\"MDA1 (IVM+ALB)\", COUNTRY_INFO!$T$9:$T$1000, \" \")","v":" "},null,null,null,null,0,null,null,null,0,null," "," "," "]
[{"$f":"IF(COUNTRY_INFO!A45=0,\" \",COUNTRY_INFO!A45)","v":"Tanzania"},{"$f":"IF(COUNTRY_INFO!B45=0,\" \",COUNTRY_INFO!B45)","v":"Kagera"},{"$f":"IF(COUNTRY_INFO!C45=0,\" \",COUNTRY_INFO!C45)","v":"Kyerwa District Council"},{"$f":"IF(COUNTRY_INFO!$T$9:$T$1000=\"MDA1 (IVM+ALB)\", COUNTRY_INFO!$T$9:$T$1000, \" \")","v":" "},null,null,null,null,0,null,null,null,0,null," "," "," "]
[{"$f":"IF(COUNTRY_INFO!A46=0,\" \",COUNTRY_INFO!A46)","v":"Tanzania"},{"$f":"IF(COUNTRY_INFO!B46=0,\" \",COUNTRY_INFO!B46)","v":"Kagera"},{"$f":"IF(COUNTRY_INFO!C46=0,\" \",COUNTRY_INFO!C46)","v":"Missenyi District Council"},{"$f":"IF(COUNTRY_INFO!$T$9:$T$1000=\"MDA1 (IVM+ALB)\", COUNTRY_INFO!$T$9:$T$1000, \" \")","v":" "},null,null,null,null,0,null,null,null,0,null," "," "," "]
[{"$f":"IF(COUNTRY_INFO!A47=0,\" \",COUNTRY_INFO!A47)","v":"Tanzania"},{"$f":"IF(COUNTRY_INFO!B47=0,\" \",COUNTRY_INFO!B47)","v":"Kagera"},{"$f":"IF(COUNTRY_INFO!C47=0,\" \",COUNTRY_INFO!C47)","v":"Muleba District Council"},{"$f":"IF(COUNTRY_INFO!$T$9:$T$1000=\"MDA1 (IVM+ALB)\", COUNTRY_INFO!$T$9:$T$1000, \" \")","v":" "},null,null,null,null,0,null,null,null,0,null," "," "," "]
[{"$f":"IF(COUNTRY_INFO!A48=0,\" \",COUNTRY_INFO!A48)","v":"Tanzania"},{"$f":"IF(COUNTRY_INFO!B48=0,\" \",COUNTRY_INFO!B48)","v":"Kagera"},{"$f":"IF(COUNTRY_INFO!C48=0,\" \",COUNTRY_INFO!C48)","v":"Ngara District Council"},{"$f":"IF(COUNTRY_INFO!$T$9:$T$1000=\"MDA1 (IVM+ALB)\", COUNTRY_INFO!$T$9:$T$1000, \" \")","v":" "},null,null,null,null,0,null,null,null,0,null," "," "," "]
[{"$f":"IF(COUNTRY_INFO!A49=0,\" \",COUNTRY_INFO!A49)","v":"Tanzania"},{"$f":"IF(COUNTRY_INFO!B49=0,\" \",COUNTRY_INFO!B49)","v":"Katavi"},{"$f":"IF(COUNTRY_INFO!C49=0,\" \",COUNTRY_INFO!C49)","v":"Mlele District Council"},{"$f":"IF(COUNTRY_INFO!$T$9:$T$1000=\"MDA1 (IVM+ALB)\", COUNTRY_INFO!$T$9:$T$1000, \" \")","v":" "},null,null,null,null,0,null,null,null,0,null," "," "," "]
[{"$f":"IF(COUNTRY_INFO!A50=0,\" \",COUNTRY_INFO!A50)","v":"Tanzania"},{"$f":"IF(COUNTRY_INFO!B50=0,\" \",COUNTRY_INFO!B50)","v":"Katavi"},{"$f":"IF(COUNTRY_INFO!C50=0,\" \",COUNTRY_INFO!C50)","v":"Mpanda District Council"},{"$f":"IF(COUNTRY_INFO!$T$9:$T$1000=\"MDA1 (IVM+ALB)\", COUNTRY_INFO!$T$9:$T$1000, \" \")","v":" "},null,null,null,null,0,null,null,null,0,null," "," "," "]
[{"$f":"IF(COUNTRY_INFO!A51=0,\" \",COUNTRY_INFO!A51)","v":"Tanzania"},{"$f":"IF(COUNTRY_INFO!B51=0,\" \",COUNTRY_INFO!B51)","v":"Katavi"},{"$f":"IF(COUNTRY_INFO!C51=0,\" \",COUNTRY_INFO!C51)","v":"Mpanda Municipal Council"},{"$f":"IF(COUNTRY_INFO!$T$9:$T$1000=\"MDA1 (IVM+ALB)\", COUNTRY_INFO!$T$9:$T$1000, \" \")","v":" "},null,null,null,null,0,null,null,null,0,null," "," "," "]
[{"$f":"IF(COUNTRY_INFO!A52=0,\" \",COUNTRY_INFO!A52)","v":"Tanzania"},{"$f":"IF(COUNTRY_INFO!B52=0,\" \",COUNTRY_INFO!B52)","v":"Katavi"},{"$f":"IF(COUNTRY_INFO!C52=0,\" \",COUNTRY_INFO!C52)","v":"Mpimbwe District Council"},{"$f":"IF(COUNTRY_INFO!$T$9:$T$1000=\"MDA1 (IVM+ALB)\", COUNTRY_INFO!$T$9:$T$1000, \" \")","v":" "},null,null,null,null,0,null,null,null,0,null," "," "," "]
[{"$f":"IF(COUNTRY_INFO!A53=0,\" \",COUNTRY_INFO!A53)","v":"Tanzania"},{"$f":"IF(COUNTRY_INFO!B53=0,\" \",COUNTRY_INFO!B53)","v":"Katavi"},{"$f":"IF(COUNTRY_INFO!C53=0,\" \",COUNTRY_INFO!C53)","v":"Nsimbo District Council"},{"$f":"IF(COUNTRY_INFO!$T$9:$T$1000=\"MDA1 (IVM+ALB)\", COUNTRY_INFO!$T$9:$T$1000, \" \")","v":" "},null,null,null,null,0,null,null,null,0,null," "," "," "]
[{"$f":"IF(COUNTRY_INFO!A54=0,\" \",COUNTRY_INFO!A54)","v":"Tanzania"},{"$f":"IF(COUNTRY_INFO!B54=0,\" \",COUNTRY_INFO!B54)","v":"Kigoma"},{"$f":"IF(COUNTRY_INFO!C54=0,\" \",COUNTRY_INFO!C54)","v":"Buhigwe District Council"},{"$f":"IF(COUNTRY_INFO!$T$9:$T$1000=\"MDA1 (IVM+ALB)\", COUNTRY_INFO!$T$9:$T$1000, \" \")","v":" "},null,null,null,null,0,null,null,null,0,null," "," "," "]
[{"$f":"IF(COUNTRY_INFO!A55=0,\" \",COUNTRY_INFO!A55)","v":"Tanzania"},{"$f":"IF(COUNTRY_INFO!B55=0,\" \",COUNTRY_INFO!B55)","v":"Kigoma"},{"$f":"IF(COUNTRY_INFO!C55=0,\" \",COUNTRY_INFO!C55)","v":"Kakonko District Council"},{"$f":"IF(COUNTRY_INFO!$T$9:$T$1000=\"MDA1 (IVM+ALB)\", COUNTRY_INFO!$T$9:$T$1000, \" \")","v":" "},null,null,null,null,0,null,null,null,0,null," "," "," "]
[{"$f":"IF(COUNTRY_INFO!A56=0,\" \",COUNTRY_INFO!A56)","v":"Tanzania"},{"$f":"IF(COUNTRY_INFO!B56=0,\" \",COUNTRY_INFO!B56)","v":"Kigoma"},{"$f":"IF(COUNTRY_INFO!C56=0,\" \",COUNTRY_INFO!C56)","v":"Kasulu District Council"},{"$f":"IF(COUNTRY_INFO!$T$9:$T$1000=\"MDA1 (IVM+ALB)\", COUNTRY_INFO!$T$9:$T$1000, \" \")","v":" "},null,null,null,null,0,null,null,null,0,null," "," "," "]
[{"$f":"IF(COUNTRY_INFO!A57=0,\" \",COUNTRY_INFO!A57)","v":"Tanzania"},{"$f":"IF(COUNTRY_INFO!B57=0,\" \",COUNTRY_INFO!B57)","v":"Kigoma"},{"$f":"IF(COUNTRY_INFO!C57=0,\" \",COUNTRY_INFO!C57)","v":"Kasulu Town Council"},{"$f":"IF(COUNTRY_INFO!$T$9:$T$1000=\"MDA1 (IVM+ALB)\", COUNTRY_INFO!$T$9:$T$1000, \" \")","v":" "},null,null,null,null,0,null,null,null,0,null," "," "," "]
[{"$f":"IF(COUNTRY_INFO!A58=0,\" \",COUNTRY_INFO!A58)","v":"Tanzania"},{"$f":"IF(COUNTRY_INFO!B58=0,\" \",COUNTRY_INFO!B58)","v":"Kigoma"},{"$f":"IF(COUNTRY_INFO!C58=0,\" \",COUNTRY_INFO!C58)","v":"Kibondo District Council"},{"$f":"IF(COUNTRY_INFO!$T$9:$T$1000=\"MDA1 (IVM+ALB)\", COUNTRY_INFO!$T$9:$T$1000, \" \")","v":" "},null,null,null,null,0,null,null,null,0,null," "," "," "]
[{"$f":"IF(COUNTRY_INFO!A59=0,\" \",COUNTRY_INFO!A59)","v":"Tanzania"},{"$f":"IF(COUNTRY_INFO!B59=0,\" \",COUNTRY_INFO!B59)","v":"Kigoma"},{"$f":"IF(COUNTRY_INFO!C59=0,\" \",COUNTRY_INFO!C59)","v":"Kigoma District Council"},{"$f":"IF(COUNTRY_INFO!$T$9:$T$1000=\"MDA1 (IVM+ALB)\", COUNTRY_INFO!$T$9:$T$1000, \" \")","v":" "},null,null,null,null,0,null,null,null,0,null," "," "," "]
[{"$f":"IF(COUNTRY_INFO!A60=0,\" \",COUNTRY_INFO!A60)","v":"Tanzania"},{"$f":"IF(COUNTRY_INFO!B60=0,\" \",COUNTRY_INFO!B60)","v":"Kigoma"},{"$f":"IF(COUNTRY_INFO!C60=0,\" \",COUNTRY_INFO!C60)","v":"Kigoma-Ujiji Municipal Council"},{"$f":"IF(COUNTRY_INFO!$T$9:$T$1000=\"MDA1 (IVM+ALB)\", COUNTRY_INFO!$T$9:$T$1000, \" \")","v":" "},null,null,null,null,0,null,null,null,0,null," "," "," "]
[{"$f":"IF(COUNTRY_INFO!A61=0,\" \",COUNTRY_INFO!A61)","v":"Tanzania"},{"$f":"IF(COUNTRY_INFO!B61=0,\" \",COUNTRY_INFO!B61)","v":"Kigoma"},{"$f":"IF(COUNTRY_INFO!C61=0,\" \",COUNTRY_INFO!C61)","v":"Uvinza District Council"},{"$f":"IF(COUNTRY_INFO!$T$9:$T$1000=\"MDA1 (IVM+ALB)\", COUNTRY_INFO!$T$9:$T$1000, \" \")","v":" "},null,null,null,null,0,null,null,null,0,null," "," "," "]
[{"$f":"IF(COUNTRY_INFO!A62=0,\" \",COUNTRY_INFO!A62)","v":"Tanzania"},{"$f":"IF(COUNTRY_INFO!B62=0,\" \",COUNTRY_INFO!B62)","v":"Kilimanjaro"},{"$f":"IF(COUNTRY_INFO!C62=0,\" \",COUNTRY_INFO!C62)","v":"Hai District Council"},{"$f":"IF(COUNTRY_INFO!$T$9:$T$1000=\"MDA1 (IVM+ALB)\", COUNTRY_INFO!$T$9:$T$1000, \" \")","v":" "},null,null,null,null,0,null,null,null,0,null," "," "," "]
[{"$f":"IF(COUNTRY_INFO!A63=0,\" \",COUNTRY_INFO!A63)","v":"Tanzania"},{"$f":"IF(COUNTRY_INFO!B63=0,\" \",COUNTRY_INFO!B63)","v":"Kilimanjaro"},{"$f":"IF(COUNTRY_INFO!C63=0,\" \",COUNTRY_INFO!C63)","v":"Moshi District Council"},{"$f":"IF(COUNTRY_INFO!$T$9:$T$1000=\"MDA1 (IVM+ALB)\", COUNTRY_INFO!$T$9:$T$1000, \" \")","v":" "},null,null,null,null,0,null,null,null,0,null," "," "," "]
[{"$f":"IF(COUNTRY_INFO!A64=0,\" \",COUNTRY_INFO!A64)","v":"Tanzania"},{"$f":"IF(COUNTRY_INFO!B64=0,\" \",COUNTRY_INFO!B64)","v":"Kilimanjaro"},{"$f":"IF(COUNTRY_INFO!C64=0,\" \",COUNTRY_INFO!C64)","v":"Moshi Municipal Council"},{"$f":"IF(COUNTRY_INFO!$T$9:$T$1000=\"MDA1 (IVM+ALB)\", COUNTRY_INFO!$T$9:$T$1000, \" \")","v":" "},null,null,null,null,0,null,null,null,0,null," "," "," "]
[{"$f":"IF(COUNTRY_INFO!A65=0,\" \",COUNTRY_INFO!A65)","v":"Tanzania"},{"$f":"IF(COUNTRY_INFO!B65=0,\" \",COUNTRY_INFO!B65)","v":"Kilimanjaro"},{"$f":"IF(COUNTRY_INFO!C65=0,\" \",COUNTRY_INFO!C65)","v":"Mwanga District Council"},{"$f":"IF(COUNTRY_INFO!$T$9:$T$1000=\"MDA1 (IVM+ALB)\", COUNTRY_INFO!$T$9:$T$1000, \" \")","v":" "},null,null,null,null,0,null,null,null,0,null," "," "," "]
[{"$f":"IF(COUNTRY_INFO!A66=0,\" \",COUNTRY_INFO!A66)","v":"Tanzania"},{"$f":"IF(COUNTRY_INFO!B66=0,\" \",COUNTRY_INFO!B66)","v":"Kilimanjaro"},{"$f":"IF(COUNTRY_INFO!C66=0,\" \",COUNTRY_INFO!C66)","v":"Rombo District Council"},{"$f":"IF(COUNTRY_INFO!$T$9:$T$1000=\"MDA1 (IVM+ALB)\", COUNTRY_INFO!$T$9:$T$1000, \" \")","v":" "},null,null,null,null,0,null,null,null,0,null," "," "," "]
[{"$f":"IF(COUNTRY_INFO!A67=0,\" \",COUNTRY_INFO!A67)","v":"Tanzania"},{"$f":"IF(COUNTRY_INFO!B67=0,\" \",COUNTRY_INFO!B67)","v":"Kilimanjaro"},{"$f":"IF(COUNTRY_INFO!C67=0,\" \",COUNTRY_INFO!C67)","v":"Same District Council"},{"$f":"IF(COUNTRY_INFO!$T$9:$T$1000=\"MDA1 (IVM+ALB)\", COUNTRY_INFO!$T$9:$T$1000, \" \")","v":" "},null,null,null,null,0,null,null,null,0,null," "," "," "]
[{"$f":"IF(COUNTRY_INFO!A68=0,\" \",COUNTRY_INFO!A68)","v":"Tanzania"},{"$f":"IF(COUNTRY_INFO!B68=0,\" \",COUNTRY_INFO!B68)","v":"Kilimanjaro"},{"$f":"IF(COUNTRY_INFO!C68=0,\" \",COUNTRY_INFO!C68)","v":"Siha District Council"},{"$f":"IF(COUNTRY_INFO!$T$9:$T$1000=\"MDA1 (IVM+ALB)\", COUNTRY_INFO!$T$9:$T$1000, \" \")","v":" "},null,null,null,null,0,null,null,null,0,null," "," "," "]
[{"$f":"IF(COUNTRY_INFO!A69=0,\" \",COUNTRY_INFO!A69)","v":"Tanzania"},{"$f":"IF(COUNTRY_INFO!B69=0,\" \",COUNTRY_INFO!B69)","v":"Lindi"},{"$f":"IF(COUNTRY_INFO!C69=0,\" \",COUNTRY_INFO!C69)","v":"Kilwa District Council"},{"$f":"IF(COUNTRY_INFO!$T$9:$T$1000=\"MDA1 (IVM+ALB)\", COUNTRY_INFO!$T$9:$T$1000, \" \")","v":" "},null,null,null,null,0,null,null,null,0,null," "," "," "]
[{"$f":"IF(COUNTRY_INFO!A70=0,\" \",COUNTRY_INFO!A70)","v":"Tanzania"},{"$f":"IF(COUNTRY_INFO!B70=0,\" \",COUNTRY_INFO!B70)","v":"Lindi"},{"$f":"IF(COUNTRY_INFO!C70=0,\" \",COUNTRY_INFO!C70)","v":"Lindi District Council (Mtama District Council)"},{"$f":"IF(COUNTRY_INFO!$T$9:$T$1000=\"MDA1 (IVM+ALB)\", COUNTRY_INFO!$T$9:$T$1000, \" \")","v":" "},null,null,null,null,0,null,null,null,0,null," "," "," "]
[{"$f":"IF(COUNTRY_INFO!A71=0,\" \",COUNTRY_INFO!A71)","v":"Tanzania"},{"$f":"IF(COUNTRY_INFO!B71=0,\" \",COUNTRY_INFO!B71)","v":"Lindi"},{"$f":"IF(COUNTRY_INFO!C71=0,\" \",COUNTRY_INFO!C71)","v":"Lindi Municipal Council"},{"$f":"IF(COUNTRY_INFO!$T$9:$T$1000=\"MDA1 (IVM+ALB)\", COUNTRY_INFO!$T$9:$T$1000, \" \")","v":" "},null,null,null,null,0,null,null,null,0,null," "," "," "]
[{"$f":"IF(COUNTRY_INFO!A72=0,\" \",COUNTRY_INFO!A72)","v":"Tanzania"},{"$f":"IF(COUNTRY_INFO!B72=0,\" \",COUNTRY_INFO!B72)","v":"Lindi"},{"$f":"IF(COUNTRY_INFO!C72=0,\" \",COUNTRY_INFO!C72)","v":"Liwale District Council"},{"$f":"IF(COUNTRY_INFO!$T$9:$T$1000=\"MDA1 (IVM+ALB)\", COUNTRY_INFO!$T$9:$T$1000, \" \")","v":" "},null,null,null,null,0,null,null,null,0,null," "," "," "]
[{"$f":"IF(COUNTRY_INFO!A73=0,\" \",COUNTRY_INFO!A73)","v":"Tanzania"},{"$f":"IF(COUNTRY_INFO!B73=0,\" \",COUNTRY_INFO!B73)","v":"Lindi"},{"$f":"IF(COUNTRY_INFO!C73=0,\" \",COUNTRY_INFO!C73)","v":"Nachingwea District Council"},{"$f":"IF(COUNTRY_INFO!$T$9:$T$1000=\"MDA1 (IVM+ALB)\", COUNTRY_INFO!$T$9:$T$1000, \" \")","v":" "},null,null,null,null,0,null,null,null,0,null," "," "," "]
[{"$f":"IF(COUNTRY_INFO!A74=0,\" \",COUNTRY_INFO!A74)","v":"Tanzania"},{"$f":"IF(COUNTRY_INFO!B74=0,\" \",COUNTRY_INFO!B74)","v":"Lindi"},{"$f":"IF(COUNTRY_INFO!C74=0,\" \",COUNTRY_INFO!C74)","v":"Ruangwa District Council"},{"$f":"IF(COUNTRY_INFO!$T$9:$T$1000=\"MDA1 (IVM+ALB)\", COUNTRY_INFO!$T$9:$T$1000, \" \")","v":" "},null,null,null,null,{"$f":"SUM(F74:H74)","v":0},null,null,null,{"$f":"SUM(J74:L74)","v":0},null,{"$f":"IF(G74<>0, IF(K74/G74*100=0, \"-\", K74/G74*100), \" \")","v":" "},{"$f":"IF(H74<>0, IF(L74/H74*100=0, \"-\", L74/H74*100), \" \")","v":" "},{"$f":"IF(I74<>0, IF(M74/I74*100=0, \"-\", M74/I74*100), \" \")","v":" "}]
[{"$f":"IF(COUNTRY_INFO!A75=0,\" \",COUNTRY_INFO!A75)","v":"Tanzania"},{"$f":"IF(COUNTRY_INFO!B75=0,\" \",COUNTRY_INFO!B75)","v":"Manyara"},{"$f":"IF(COUNTRY_INFO!C75=0,\" \",COUNTRY_INFO!C75)","v":"Babati District Council"},{"$f":"IF(COUNTRY_INFO!$T$9:$T$1000=\"MDA1 (IVM+ALB)\", COUNTRY_INFO!$T$9:$T$1000, \" \")","v":" "},null,null,null,null,0,null,null,null,0,null," "," "," "]
[{"$f":"IF(COUNTRY_INFO!A76=0,\" \",COUNTRY_INFO!A76)","v":"Tanzania"},{"$f":"IF(COUNTRY_INFO!B76=0,\" \",COUNTRY_INFO!B76)","v":"Manyara"},{"$f":"IF(COUNTRY_INFO!C76=0,\" \",COUNTRY_INFO!C76)","v":"Babati Town Council"},{"$f":"IF(COUNTRY_INFO!$T$9:$T$1000=\"MDA1 (IVM+ALB)\", COUNTRY_INFO!$T$9:$T$1000, \" \")","v":" "},null,null,null,null,0,null,null,null,0,null," "," "," "]
[{"$f":"IF(COUNTRY_INFO!A77=0,\" \",COUNTRY_INFO!A77)","v":"Tanzania"},{"$f":"IF(COUNTRY_INFO!B77=0,\" \",COUNTRY_INFO!B77)","v":"Manyara"},{"$f":"IF(COUNTRY_INFO!C77=0,\" \",COUNTRY_INFO!C77)","v":"Hanang District Council"},{"$f":"IF(COUNTRY_INFO!$T$9:$T$1000=\"MDA1 (IVM+ALB)\", COUNTRY_INFO!$T$9:$T$1000, \" \")","v":" "},null,null,null,null,0,null,null,null,0,null," "," "," "]
[{"$f":"IF(COUNTRY_INFO!A78=0,\" \",COUNTRY_INFO!A78)","v":"Tanzania"},{"$f":"IF(COUNTRY_INFO!B78=0,\" \",COUNTRY_INFO!B78)","v":"Manyara"},{"$f":"IF(COUNTRY_INFO!C78=0,\" \",COUNTRY_INFO!C78)","v":"Kiteto District Council"},{"$f":"IF(COUNTRY_INFO!$T$9:$T$1000=\"MDA1 (IVM+ALB)\", COUNTRY_INFO!$T$9:$T$1000, \" \")","v":" "},null,null,null,null,0,null,null,null,0,null," "," "," "]
[{"$f":"IF(COUNTRY_INFO!A79=0,\" \",COUNTRY_INFO!A79)","v":"Tanzania"},{"$f":"IF(COUNTRY_INFO!B79=0,\" \",COUNTRY_INFO!B79)","v":"Manyara"},{"$f":"IF(COUNTRY_INFO!C79=0,\" \",COUNTRY_INFO!C79)","v":"Mbulu District Council"},{"$f":"IF(COUNTRY_INFO!$T$9:$T$1000=\"MDA1 (IVM+ALB)\", COUNTRY_INFO!$T$9:$T$1000, \" \")","v":" "},null,null,null,null,0,null,null,null,0,null," "," "," "]
[{"$f":"IF(COUNTRY_INFO!A80=0,\" \",COUNTRY_INFO!A80)","v":"Tanzania"},{"$f":"IF(COUNTRY_INFO!B80=0,\" \",COUNTRY_INFO!B80)","v":"Manyara"},{"$f":"IF(COUNTRY_INFO!C80=0,\" \",COUNTRY_INFO!C80)","v":"Mbulu Town Council"},{"$f":"IF(COUNTRY_INFO!$T$9:$T$1000=\"MDA1 (IVM+ALB)\", COUNTRY_INFO!$T$9:$T$1000, \" \")","v":" "},null,null,null,null,0,null,null,null,0,null," "," "," "]
[{"$f":"IF(COUNTRY_INFO!A81=0,\" \",COUNTRY_INFO!A81)","v":"Tanzania"},{"$f":"IF(COUNTRY_INFO!B81=0,\" \",COUNTRY_INFO!B81)","v":"Manyara"},{"$f":"IF(COUNTRY_INFO!C81=0,\" \",COUNTRY_INFO!C81)","v":"Simanjiro District Council"},{"$f":"IF(COUNTRY_INFO!$T$9:$T$1000=\"MDA1 (IVM+ALB)\", COUNTRY_INFO!$T$9:$T$1000, \" \")","v":" "},null,null,null,null,0,null,null,null,0,null," "," "," "]
[{"$f":"IF(COUNTRY_INFO!A82=0,\" \",COUNTRY_INFO!A82)","v":"Tanzania"},{"$f":"IF(COUNTRY_INFO!B82=0,\" \",COUNTRY_INFO!B82)","v":"Mara"},{"$f":"IF(COUNTRY_INFO!C82=0,\" \",COUNTRY_INFO!C82)","v":"Bunda District Council"},{"$f":"IF(COUNTRY_INFO!$T$9:$T$1000=\"MDA1 (IVM+ALB)\", COUNTRY_INFO!$T$9:$T$1000, \" \")","v":" "},null,null,null,null,0,null,null,null,0,null," "," "," "]
[{"$f":"IF(COUNTRY_INFO!A83=0,\" \",COUNTRY_INFO!A83)","v":"Tanzania"},{"$f":"IF(COUNTRY_INFO!B83=0,\" \",COUNTRY_INFO!B83)","v":"Mara"},{"$f":"IF(COUNTRY_INFO!C83=0,\" \",COUNTRY_INFO!C83)","v":"Bunda Town Council"},{"$f":"IF(COUNTRY_INFO!$T$9:$T$1000=\"MDA1 (IVM+ALB)\", COUNTRY_INFO!$T$9:$T$1000, \" \")","v":" "},null,null,null,null,0,null,null,null,0,null," "," "," "]
[{"$f":"IF(COUNTRY_INFO!A84=0,\" \",COUNTRY_INFO!A84)","v":"Tanzania"},{"$f":"IF(COUNTRY_INFO!B84=0,\" \",COUNTRY_INFO!B84)","v":"Mara"},{"$f":"IF(COUNTRY_INFO!C84=0,\" \",COUNTRY_INFO!C84)","v":"Butiama District Council"},{"$f":"IF(COUNTRY_INFO!$T$9:$T$1000=\"MDA1 (IVM+ALB)\", COUNTRY_INFO!$T$9:$T$1000, \" \")","v":" "},null,null,null,null,0,null,null,null,0,null," "," "," "]
[{"$f":"IF(COUNTRY_INFO!A85=0,\" \",COUNTRY_INFO!A85)","v":"Tanzania"},{"$f":"IF(COUNTRY_INFO!B85=0,\" \",COUNTRY_INFO!B85)","v":"Mara"},{"$f":"IF(COUNTRY_INFO!C85=0,\" \",COUNTRY_INFO!C85)","v":"Musoma District Council"},{"$f":"IF(COUNTRY_INFO!$T$9:$T$1000=\"MDA1 (IVM+ALB)\", COUNTRY_INFO!$T$9:$T$1000, \" \")","v":" "},null,null,null,null,0,null,null,null,0,null," "," "," "]
[{"$f":"IF(COUNTRY_INFO!A86=0,\" \",COUNTRY_INFO!A86)","v":"Tanzania"},{"$f":"IF(COUNTRY_INFO!B86=0,\" \",COUNTRY_INFO!B86)","v":"Mara"},{"$f":"IF(COUNTRY_INFO!C86=0,\" \",COUNTRY_INFO!C86)","v":"Musoma Municipal Council"},{"$f":"IF(COUNTRY_INFO!$T$9:$T$1000=\"MDA1 (IVM+ALB)\", COUNTRY_INFO!$T$9:$T$1000, \" \")","v":" "},null,null,null,null,0,null,null,null,0,null," "," "," "]
[{"$f":"IF(COUNTRY_INFO!A87=0,\" \",COUNTRY_INFO!A87)","v":"Tanzania"},{"$f":"IF(COUNTRY_INFO!B87=0,\" \",COUNTRY_INFO!B87)","v":"Mara"},{"$f":"IF(COUNTRY_INFO!C87=0,\" \",COUNTRY_INFO!C87)","v":"Rorya District Council"},{"$f":"IF(COUNTRY_INFO!$T$9:$T$1000=\"MDA1 (IVM+ALB)\", COUNTRY_INFO!$T$9:$T$1000, \" \")","v":" "},null,null,null,null,0,null,null,null,0,null," "," "," "]
[{"$f":"IF(COUNTRY_INFO!A88=0,\" \",COUNTRY_INFO!A88)","v":"Tanzania"},{"$f":"IF(COUNTRY_INFO!B88=0,\" \",COUNTRY_INFO!B88)","v":"Mara"},{"$f":"IF(COUNTRY_INFO!C88=0,\" \",COUNTRY_INFO!C88)","v":"Serengeti District Council"},{"$f":"IF(COUNTRY_INFO!$T$9:$T$1000=\"MDA1 (IVM+ALB)\", COUNTRY_INFO!$T$9:$T$1000, \" \")","v":" "},null,null,null,null,0,null,null,null,0,null," "," "," "]
[{"$f":"IF(COUNTRY_INFO!A89=0,\" \",COUNTRY_INFO!A89)","v":"Tanzania"},{"$f":"IF(COUNTRY_INFO!B89=0,\" \",COUNTRY_INFO!B89)","v":"Mara"},{"$f":"IF(COUNTRY_INFO!C89=0,\" \",COUNTRY_INFO!C89)","v":"Tarime District Council"},{"$f":"IF(COUNTRY_INFO!$T$9:$T$1000=\"MDA1 (IVM+ALB)\", COUNTRY_INFO!$T$9:$T$1000, \" \")","v":" "},null,null,null,null,0,null,null,null,0,null," "," "," "]
[{"$f":"IF(COUNTRY_INFO!A90=0,\" \",COUNTRY_INFO!A90)","v":"Tanzania"},{"$f":"IF(COUNTRY_INFO!B90=0,\" \",COUNTRY_INFO!B90)","v":"Mara"},{"$f":"IF(COUNTRY_INFO!C90=0,\" \",COUNTRY_INFO!C90)","v":"Tarime Town Council"},{"$f":"IF(COUNTRY_INFO!$T$9:$T$1000=\"MDA1 (IVM+ALB)\", COUNTRY_INFO!$T$9:$T$1000, \" \")","v":" "},null,null,null,null,0,null,null,null,0,null," "," "," "]
[{"$f":"IF(COUNTRY_INFO!A91=0,\" \",COUNTRY_INFO!A91)","v":"Tanzania"},{"$f":"IF(COUNTRY_INFO!B91=0,\" \",COUNTRY_INFO!B91)","v":"Mbeya"},{"$f":"IF(COUNTRY_INFO!C91=0,\" \",COUNTRY_INFO!C91)","v":"Busokelo District Council"},{"$f":"IF(COUNTRY_INFO!$T$9:$T$1000=\"MDA1 (IVM+ALB)\", COUNTRY_INFO!$T$9:$T$1000, \" \")","v":" "},null,null,null,null,0,null,null,null,0,null," "," "," "]
[{"$f":"IF(COUNTRY_INFO!A92=0,\" \",COUNTRY_INFO!A92)","v":"Tanzania"},{"$f":"IF(COUNTRY_INFO!B92=0,\" \",COUNTRY_INFO!B92)","v":"Mbeya"},{"$f":"IF(COUNTRY_INFO!C92=0,\" \",COUNTRY_INFO!C92)","v":"Chunya District Council"},{"$f":"IF(COUNTRY_INFO!$T$9:$T$1000=\"MDA1 (IVM+ALB)\", COUNTRY_INFO!$T$9:$T$1000, \" \")","v":" "},null,null,null,null,0,null,null,null,0,null," "," "," "]
[{"$f":"IF(COUNTRY_INFO!A93=0,\" \",COUNTRY_INFO!A93)","v":"Tanzania"},{"$f":"IF(COUNTRY_INFO!B93=0,\" \",COUNTRY_INFO!B93)","v":"Mbeya"},{"$f":"IF(COUNTRY_INFO!C93=0,\" \",COUNTRY_INFO!C93)","v":"Kyela District Council"},{"$f":"IF(COUNTRY_INFO!$T$9:$T$1000=\"MDA1 (IVM+ALB)\", COUNTRY_INFO!$T$9:$T$1000, \" \")","v":" "},null,null,null,null,0,null,null,null,0,null," "," "," "]
[{"$f":"IF(COUNTRY_INFO!A94=0,\" \",COUNTRY_INFO!A94)","v":"Tanzania"},{"$f":"IF(COUNTRY_INFO!B94=0,\" \",COUNTRY_INFO!B94)","v":"Mbeya"},{"$f":"IF(COUNTRY_INFO!C94=0,\" \",COUNTRY_INFO!C94)","v":"Mbarali District Council"},{"$f":"IF(COUNTRY_INFO!$T$9:$T$1000=\"MDA1 (IVM+ALB)\", COUNTRY_INFO!$T$9:$T$1000, \" \")","v":" "},null,null,null,null,0,null,null,null,0,null," "," "," "]
[{"$f":"IF(COUNTRY_INFO!A95=0,\" \",COUNTRY_INFO!A95)","v":"Tanzania"},{"$f":"IF(COUNTRY_INFO!B95=0,\" \",COUNTRY_INFO!B95)","v":"Mbeya"},{"$f":"IF(COUNTRY_INFO!C95=0,\" \",COUNTRY_INFO!C95)","v":"Mbeya City Council"},{"$f":"IF(COUNTRY_INFO!$T$9:$T$1000=\"MDA1 (IVM+ALB)\", COUNTRY_INFO!$T$9:$T$1000, \" \")","v":" "},null,null,null,null,0,null,null,null,0,null," "," "," "]
[{"$f":"IF(COUNTRY_INFO!A96=0,\" \",COUNTRY_INFO!A96)","v":"Tanzania"},{"$f":"IF(COUNTRY_INFO!B96=0,\" \",COUNTRY_INFO!B96)","v":"Mbeya"},{"$f":"IF(COUNTRY_INFO!C96=0,\" \",COUNTRY_INFO!C96)","v":"Mbeya District Council"},{"$f":"IF(COUNTRY_INFO!$T$9:$T$1000=\"MDA1 (IVM+ALB)\", COUNTRY_INFO!$T$9:$T$1000, \" \")","v":" "},null,null,null,null,0,null,null,null,0,null," "," "," "]
[{"$f":"IF(COUNTRY_INFO!A97=0,\" \",COUNTRY_INFO!A97)","v":"Tanzania"},{"$f":"IF(COUNTRY_INFO!B97=0,\" \",COUNTRY_INFO!B97)","v":"Mbeya"},{"$f":"IF(COUNTRY_INFO!C97=0,\" \",COUNTRY_INFO!C97)","v":"Rungwe District Council"},{"$f":"IF(COUNTRY_INFO!$T$9:$T$1000=\"MDA1 (IVM+ALB)\", COUNTRY_INFO!$T$9:$T$1000, \" \")","v":" "},null,null,null,null,0,null,null,null,0,null," "," "," "]
[{"$f":"IF(COUNTRY_INFO!A98=0,\" \",COUNTRY_INFO!A98)","v":"Tanzania"},{"$f":"IF(COUNTRY_INFO!B98=0,\" \",COUNTRY_INFO!B98)","v":"Morogoro"},{"$f":"IF(COUNTRY_INFO!C98=0,\" \",COUNTRY_INFO!C98)","v":"Gairo District Council"},{"$f":"IF(COUNTRY_INFO!$T$9:$T$1000=\"MDA1 (IVM+ALB)\", COUNTRY_INFO!$T$9:$T$1000, \" \")","v":" "},null,null,null,null,0,null,null,null,0,null," "," "," "]
[{"$f":"IF(COUNTRY_INFO!A99=0,\" \",COUNTRY_INFO!A99)","v":"Tanzania"},{"$f":"IF(COUNTRY_INFO!B99=0,\" \",COUNTRY_INFO!B99)","v":"Morogoro"},{"$f":"IF(COUNTRY_INFO!C99=0,\" \",COUNTRY_INFO!C99)","v":"Ifakara Town Council"},{"$f":"IF(COUNTRY_INFO!$T$9:$T$1000=\"MDA1 (IVM+ALB)\", COUNTRY_INFO!$T$9:$T$1000, \" \")","v":" "},null,null,null,null,0,null,null,null,0,null," "," "," "]
[{"$f":"IF(COUNTRY_INFO!A100=0,\" \",COUNTRY_INFO!A100)","v":"Tanzania"},{"$f":"IF(COUNTRY_INFO!B100=0,\" \",COUNTRY_INFO!B100)","v":"Morogoro"},{"$f":"IF(COUNTRY_INFO!C100=0,\" \",COUNTRY_INFO!C100)","v":"Kilombero District Council (Mlimba District Council)"},{"$f":"IF(COUNTRY_INFO!$T$9:$T$1000=\"MDA1 (IVM+ALB)\", COUNTRY_INFO!$T$9:$T$1000, \" \")","v":" "},null,null,null,null,0,null,null,null,0,null," "," "," "]
[{"$f":"IF(COUNTRY_INFO!A101=0,\" \",COUNTRY_INFO!A101)","v":"Tanzania"},{"$f":"IF(COUNTRY_INFO!B101=0,\" \",COUNTRY_INFO!B101)","v":"Morogoro"},{"$f":"IF(COUNTRY_INFO!C101=0,\" \",COUNTRY_INFO!C101)","v":"Kilosa District Council"},{"$f":"IF(COUNTRY_INFO!$T$9:$T$1000=\"MDA1 (IVM+ALB)\", COUNTRY_INFO!$T$9:$T$1000, \" \")","v":" "},null,null,null,null,0,null,null,null,0,null," "," "," "]
[{"$f":"IF(COUNTRY_INFO!A102=0,\" \",COUNTRY_INFO!A102)","v":"Tanzania"},{"$f":"IF(COUNTRY_INFO!B102=0,\" \",COUNTRY_INFO!B102)","v":"Morogoro"},{"$f":"IF(COUNTRY_INFO!C102=0,\" \",COUNTRY_INFO!C102)","v":"Malinyi District Council"},{"$f":"IF(COUNTRY_INFO!$T$9:$T$1000=\"MDA1 (IVM+ALB)\", COUNTRY_INFO!$T$9:$T$1000, \" \")","v":" "},null,null,null,null,0,null,null,null,0,null," "," "," "]
[{"$f":"IF(COUNTRY_INFO!A103=0,\" \",COUNTRY_INFO!A103)","v":"Tanzania"},{"$f":"IF(COUNTRY_INFO!B103=0,\" \",COUNTRY_INFO!B103)","v":"Morogoro"},{"$f":"IF(COUNTRY_INFO!C103=0,\" \",COUNTRY_INFO!C103)","v":"Morogoro District Council"},{"$f":"IF(COUNTRY_INFO!$T$9:$T$1000=\"MDA1 (IVM+ALB)\", COUNTRY_INFO!$T$9:$T$1000, \" \")","v":" "},null,null,null,null,0,null,null,null,0,null," "," "," "]
[{"$f":"IF(COUNTRY_INFO!A104=0,\" \",COUNTRY_INFO!A104)","v":"Tanzania"},{"$f":"IF(COUNTRY_INFO!B104=0,\" \",COUNTRY_INFO!B104)","v":"Morogoro"},{"$f":"IF(COUNTRY_INFO!C104=0,\" \",COUNTRY_INFO!C104)","v":"Morogoro Municipal Council"},{"$f":"IF(COUNTRY_INFO!$T$9:$T$1000=\"MDA1 (IVM+ALB)\", COUNTRY_INFO!$T$9:$T$1000, \" \")","v":" "},null,null,null,null,0,null,null,null,0,null," "," "," "]
[{"$f":"IF(COUNTRY_INFO!A105=0,\" \",COUNTRY_INFO!A105)","v":"Tanzania"},{"$f":"IF(COUNTRY_INFO!B105=0,\" \",COUNTRY_INFO!B105)","v":"Morogoro"},{"$f":"IF(COUNTRY_INFO!C105=0,\" \",COUNTRY_INFO!C105)","v":"Mvomero District Council"},{"$f":"IF(COUNTRY_INFO!$T$9:$T$1000=\"MDA1 (IVM+ALB)\", COUNTRY_INFO!$T$9:$T$1000, \" \")","v":" "},null,null,null,null,0,null,null,null,0,null," "," "," "]
[{"$f":"IF(COUNTRY_INFO!A106=0,\" \",COUNTRY_INFO!A106)","v":"Tanzania"},{"$f":"IF(COUNTRY_INFO!B106=0,\" \",COUNTRY_INFO!B106)","v":"Morogoro"},{"$f":"IF(COUNTRY_INFO!C106=0,\" \",COUNTRY_INFO!C106)","v":"Ulanga District Council"},{"$f":"IF(COUNTRY_INFO!$T$9:$T$1000=\"MDA1 (IVM+ALB)\", COUNTRY_INFO!$T$9:$T$1000, \" \")","v":" "},null,null,null,null,0,null,null,null,0,null," "," "," "]
[{"$f":"IF(COUNTRY_INFO!A107=0,\" \",COUNTRY_INFO!A107)","v":"Tanzania"},{"$f":"IF(COUNTRY_INFO!B107=0,\" \",COUNTRY_INFO!B107)","v":"Mtwara"},{"$f":"IF(COUNTRY_INFO!C107=0,\" \",COUNTRY_INFO!C107)","v":"Masasi District Council"},{"$f":"IF(COUNTRY_INFO!$T$9:$T$1000=\"MDA1 (IVM+ALB)\", COUNTRY_INFO!$T$9:$T$1000, \" \")","v":" "},null,null,null,null,0,null,null,null,0,null," "," "," "]
[{"$f":"IF(COUNTRY_INFO!A108=0,\" \",COUNTRY_INFO!A108)","v":"Tanzania"},{"$f":"IF(COUNTRY_INFO!B108=0,\" \",COUNTRY_INFO!B108)","v":"Mtwara"},{"$f":"IF(COUNTRY_INFO!C108=0,\" \",COUNTRY_INFO!C108)","v":"Masasi Town Council"},{"$f":"IF(COUNTRY_INFO!$T$9:$T$1000=\"MDA1 (IVM+ALB)\", COUNTRY_INFO!$T$9:$T$1000, \" \")","v":" "},null,null,null,null,0,null,null,null,0,null," "," "," "]
[{"$f":"IF(COUNTRY_INFO!A109=0,\" \",COUNTRY_INFO!A109)","v":"Tanzania"},{"$f":"IF(COUNTRY_INFO!B109=0,\" \",COUNTRY_INFO!B109)","v":"Mtwara"},{"$f":"IF(COUNTRY_INFO!C109=0,\" \",COUNTRY_INFO!C109)","v":"Mtwara District Council"},{"$f":"IF(COUNTRY_INFO!$T$9:$T$1000=\"MDA1 (IVM+ALB)\", COUNTRY_INFO!$T$9:$T$1000, \" \")","v":" "},null,null,null,null,0,null,null,null,0,null," "," "," "]
[{"$f":"IF(COUNTRY_INFO!A110=0,\" \",COUNTRY_INFO!A110)","v":"Tanzania"},{"$f":"IF(COUNTRY_INFO!B110=0,\" \",COUNTRY_INFO!B110)","v":"Mtwara"},{"$f":"IF(COUNTRY_INFO!C110=0,\" \",COUNTRY_INFO!C110)","v":"Mtwara-Mikindani Municipal Council"},{"$f":"IF(COUNTRY_INFO!$T$9:$T$1000=\"MDA1 (IVM+ALB)\", COUNTRY_INFO!$T$9:$T$1000, \" \")","v":" "},null,null,null,null,0,null,null,null,0,null," "," "," "]
[{"$f":"IF(COUNTRY_INFO!A111=0,\" \",COUNTRY_INFO!A111)","v":"Tanzania"},{"$f":"IF(COUNTRY_INFO!B111=0,\" \",COUNTRY_INFO!B111)","v":"Mtwara"},{"$f":"IF(COUNTRY_INFO!C111=0,\" \",COUNTRY_INFO!C111)","v":"Nanyamba Town Council"},{"$f":"IF(COUNTRY_INFO!$T$9:$T$1000=\"MDA1 (IVM+ALB)\", COUNTRY_INFO!$T$9:$T$1000, \" \")","v":" "},null,null,null,null,0,null,null,null,0,null," "," "," "]
[{"$f":"IF(COUNTRY_INFO!A112=0,\" \",COUNTRY_INFO!A112)","v":"Tanzania"},{"$f":"IF(COUNTRY_INFO!B112=0,\" \",COUNTRY_INFO!B112)","v":"Mtwara"},{"$f":"IF(COUNTRY_INFO!C112=0,\" \",COUNTRY_INFO!C112)","v":"Nanyumbu District Council"},{"$f":"IF(COUNTRY_INFO!$T$9:$T$1000=\"MDA1 (IVM+ALB)\", COUNTRY_INFO!$T$9:$T$1000, \" \")","v":" "},null,null,null,null,0,null,null,null,0,null," "," "," "]
[{"$f":"IF(COUNTRY_INFO!A113=0,\" \",COUNTRY_INFO!A113)","v":"Tanzania"},{"$f":"IF(COUNTRY_INFO!B113=0,\" \",COUNTRY_INFO!B113)","v":"Mtwara"},{"$f":"IF(COUNTRY_INFO!C113=0,\" \",COUNTRY_INFO!C113)","v":"Newala District Council"},{"$f":"IF(COUNTRY_INFO!$T$9:$T$1000=\"MDA1 (IVM+ALB)\", COUNTRY_INFO!$T$9:$T$1000, \" \")","v":" "},null,null,null,null,0,null,null,null,0,null," "," "," "]
[{"$f":"IF(COUNTRY_INFO!A114=0,\" \",COUNTRY_INFO!A114)","v":"Tanzania"},{"$f":"IF(COUNTRY_INFO!B114=0,\" \",COUNTRY_INFO!B114)","v":"Mtwara"},{"$f":"IF(COUNTRY_INFO!C114=0,\" \",COUNTRY_INFO!C114)","v":"Newala Town Council"},{"$f":"IF(COUNTRY_INFO!$T$9:$T$1000=\"MDA1 (IVM+ALB)\", COUNTRY_INFO!$T$9:$T$1000, \" \")","v":" "},null,null,null,null,0,null,null,null,0,null," "," "," "]
[{"$f":"IF(COUNTRY_INFO!A115=0,\" \",COUNTRY_INFO!A115)","v":"Tanzania"},{"$f":"IF(COUNTRY_INFO!B115=0,\" \",COUNTRY_INFO!B115)","v":"Mtwara"},{"$f":"IF(COUNTRY_INFO!C115=0,\" \",COUNTRY_INFO!C115)","v":"Tandahimba District Council"},{"$f":"IF(COUNTRY_INFO!$T$9:$T$1000=\"MDA1 (IVM+ALB)\", COUNTRY_INFO!$T$9:$T$1000, \" \")","v":" "},null,null,null,null,0,null,null,null,0,null," "," "," "]
[{"$f":"IF(COUNTRY_INFO!A116=0,\" \",COUNTRY_INFO!A116)","v":"Tanzania"},{"$f":"IF(COUNTRY_INFO!B116=0,\" \",COUNTRY_INFO!B116)","v":"Mwanza"},{"$f":"IF(COUNTRY_INFO!C116=0,\" \",COUNTRY_INFO!C116)","v":"Buchosa District Council"},{"$f":"IF(COUNTRY_INFO!$T$9:$T$1000=\"MDA1 (IVM+ALB)\", COUNTRY_INFO!$T$9:$T$1000, \" \")","v":" "},null,null,null,null,0,null,null,null,0,null," "," "," "]
[{"$f":"IF(COUNTRY_INFO!A117=0,\" \",COUNTRY_INFO!A117)","v":"Tanzania"},{"$f":"IF(COUNTRY_INFO!B117=0,\" \",COUNTRY_INFO!B117)","v":"Mwanza"},{"$f":"IF(COUNTRY_INFO!C117=0,\" \",COUNTRY_INFO!C117)","v":"Ilemela Municipal Council"},{"$f":"IF(COUNTRY_INFO!$T$9:$T$1000=\"MDA1 (IVM+ALB)\", COUNTRY_INFO!$T$9:$T$1000, \" \")","v":" "},null,null,null,null,0,null,null,null,0,null," "," "," "]
[{"$f":"IF(COUNTRY_INFO!A118=0,\" \",COUNTRY_INFO!A118)","v":"Tanzania"},{"$f":"IF(COUNTRY_INFO!B118=0,\" \",COUNTRY_INFO!B118)","v":"Mwanza"},{"$f":"IF(COUNTRY_INFO!C118=0,\" \",COUNTRY_INFO!C118)","v":"Kwimba District Council"},{"$f":"IF(COUNTRY_INFO!$T$9:$T$1000=\"MDA1 (IVM+ALB)\", COUNTRY_INFO!$T$9:$T$1000, \" \")","v":" "},null,null,null,null,0,null,null,null,0,null," "," "," "]
[{"$f":"IF(COUNTRY_INFO!A119=0,\" \",COUNTRY_INFO!A119)","v":"Tanzania"},{"$f":"IF(COUNTRY_INFO!B119=0,\" \",COUNTRY_INFO!B119)","v":"Mwanza"},{"$f":"IF(COUNTRY_INFO!C119=0,\" \",COUNTRY_INFO!C119)","v":"Magu District Council"},{"$f":"IF(COUNTRY_INFO!$T$9:$T$1000=\"MDA1 (IVM+ALB)\", COUNTRY_INFO!$T$9:$T$1000, \" \")","v":" "},null,null,null,null,0,null,null,null,0,null," "," "," "]
[{"$f":"IF(COUNTRY_INFO!A120=0,\" \",COUNTRY_INFO!A120)","v":"Tanzania"},{"$f":"IF(COUNTRY_INFO!B120=0,\" \",COUNTRY_INFO!B120)","v":"Mwanza"},{"$f":"IF(COUNTRY_INFO!C120=0,\" \",COUNTRY_INFO!C120)","v":"Misungwi District Council"},{"$f":"IF(COUNTRY_INFO!$T$9:$T$1000=\"MDA1 (IVM+ALB)\", COUNTRY_INFO!$T$9:$T$1000, \" \")","v":" "},null,null,null,null,0,null,null,null,0,null," "," "," "]
[{"$f":"IF(COUNTRY_INFO!A121=0,\" \",COUNTRY_INFO!A121)","v":"Tanzania"},{"$f":"IF(COUNTRY_INFO!B121=0,\" \",COUNTRY_INFO!B121)","v":"Mwanza"},{"$f":"IF(COUNTRY_INFO!C121=0,\" \",COUNTRY_INFO!C121)","v":"Mwanza-Nyamagana City Council"},{"$f":"IF(COUNTRY_INFO!$T$9:$T$1000=\"MDA1 (IVM+ALB)\", COUNTRY_INFO!$T$9:$T$1000, \" \")","v":" "},null,null,null,null,0,null,null,null,0,null," "," "," "]
[{"$f":"IF(COUNTRY_INFO!A122=0,\" \",COUNTRY_INFO!A122)","v":"Tanzania"},{"$f":"IF(COUNTRY_INFO!B122=0,\" \",COUNTRY_INFO!B122)","v":"Mwanza"},{"$f":"IF(COUNTRY_INFO!C122=0,\" \",COUNTRY_INFO!C122)","v":"Sengerema District Council"},{"$f":"IF(COUNTRY_INFO!$T$9:$T$1000=\"MDA1 (IVM+ALB)\", COUNTRY_INFO!$T$9:$T$1000, \" \")","v":" "},null,null,null,null,0,null,null,null,0,null," "," "," "]
[{"$f":"IF(COUNTRY_INFO!A123=0,\" \",COUNTRY_INFO!A123)","v":"Tanzania"},{"$f":"IF(COUNTRY_INFO!B123=0,\" \",COUNTRY_INFO!B123)","v":"Mwanza"},{"$f":"IF(COUNTRY_INFO!C123=0,\" \",COUNTRY_INFO!C123)","v":"Ukerewe District Council"},{"$f":"IF(COUNTRY_INFO!$T$9:$T$1000=\"MDA1 (IVM+ALB)\", COUNTRY_INFO!$T$9:$T$1000, \" \")","v":" "},null,null,null,null,0,null,null,null,0,null," "," "," "]
[{"$f":"IF(COUNTRY_INFO!A124=0,\" \",COUNTRY_INFO!A124)","v":"Tanzania"},{"$f":"IF(COUNTRY_INFO!B124=0,\" \",COUNTRY_INFO!B124)","v":"Njombe"},{"$f":"IF(COUNTRY_INFO!C124=0,\" \",COUNTRY_INFO!C124)","v":"Ludewa District Council"},{"$f":"IF(COUNTRY_INFO!$T$9:$T$1000=\"MDA1 (IVM+ALB)\", COUNTRY_INFO!$T$9:$T$1000, \" \")","v":" "},null,null,null,null,0,null,null,null,0,null," "," "," "]
[{"$f":"IF(COUNTRY_INFO!A125=0,\" \",COUNTRY_INFO!A125)","v":"Tanzania"},{"$f":"IF(COUNTRY_INFO!B125=0,\" \",COUNTRY_INFO!B125)","v":"Njombe"},{"$f":"IF(COUNTRY_INFO!C125=0,\" \",COUNTRY_INFO!C125)","v":"Makambako Town Council"},{"$f":"IF(COUNTRY_INFO!$T$9:$T$1000=\"MDA1 (IVM+ALB)\", COUNTRY_INFO!$T$9:$T$1000, \" \")","v":" "},null,null,null,null,0,null,null,null,0,null," "," "," "]
[{"$f":"IF(COUNTRY_INFO!A126=0,\" \",COUNTRY_INFO!A126)","v":"Tanzania"},{"$f":"IF(COUNTRY_INFO!B126=0,\" \",COUNTRY_INFO!B126)","v":"Njombe"},{"$f":"IF(COUNTRY_INFO!C126=0,\" \",COUNTRY_INFO!C126)","v":"Makete District Council"},{"$f":"IF(COUNTRY_INFO!$T$9:$T$1000=\"MDA1 (IVM+ALB)\", COUNTRY_INFO!$T$9:$T$1000, \" \")","v":" "},null,null,null,null,0,null,null,null,0,null," "," "," "]
[{"$f":"IF(COUNTRY_INFO!A127=0,\" \",COUNTRY_INFO!A127)","v":"Tanzania"},{"$f":"IF(COUNTRY_INFO!B127=0,\" \",COUNTRY_INFO!B127)","v":"Njombe"},{"$f":"IF(COUNTRY_INFO!C127=0,\" \",COUNTRY_INFO!C127)","v":"Njombe District Council"},{"$f":"IF(COUNTRY_INFO!$T$9:$T$1000=\"MDA1 (IVM+ALB)\", COUNTRY_INFO!$T$9:$T$1000, \" \")","v":" "},null,null,null,null,0,null,null,null,0,null," "," "," "]
[{"$f":"IF(COUNTRY_INFO!A128=0,\" \",COUNTRY_INFO!A128)","v":"Tanzania"},{"$f":"IF(COUNTRY_INFO!B128=0,\" \",COUNTRY_INFO!B128)","v":"Njombe"},{"$f":"IF(COUNTRY_INFO!C128=0,\" \",COUNTRY_INFO!C128)","v":"Njombe Town Council"},{"$f":"IF(COUNTRY_INFO!$T$9:$T$1000=\"MDA1 (IVM+ALB)\", COUNTRY_INFO!$T$9:$T$1000, \" \")","v":" "},null,null,null,null,0,null,null,null,0,null," "," "," "]
[{"$f":"IF(COUNTRY_INFO!A129=0,\" \",COUNTRY_INFO!A129)","v":"Tanzania"},{"$f":"IF(COUNTRY_INFO!B129=0,\" \",COUNTRY_INFO!B129)","v":"Njombe"},{"$f":"IF(COUNTRY_INFO!C129=0,\" \",COUNTRY_INFO!C129)","v":"Wanging'ombe District Council"},{"$f":"IF(COUNTRY_INFO!$T$9:$T$1000=\"MDA1 (IVM+ALB)\", COUNTRY_INFO!$T$9:$T$1000, \" \")","v":" "},null,null,null,null,0,null,null,null,0,null," "," "," "]
[{"$f":"IF(COUNTRY_INFO!A130=0,\" \",COUNTRY_INFO!A130)","v":"Tanzania"},{"$f":"IF(COUNTRY_INFO!B130=0,\" \",COUNTRY_INFO!B130)","v":"Pwani"},{"$f":"IF(COUNTRY_INFO!C130=0,\" \",COUNTRY_INFO!C130)","v":"Bagamoyo District Council"},{"$f":"IF(COUNTRY_INFO!$T$9:$T$1000=\"MDA1 (IVM+ALB)\", COUNTRY_INFO!$T$9:$T$1000, \" \")","v":" "},null,null,null,null,0,null,null,null,0,null," "," "," "]
[{"$f":"IF(COUNTRY_INFO!A131=0,\" \",COUNTRY_INFO!A131)","v":"Tanzania"},{"$f":"IF(COUNTRY_INFO!B131=0,\" \",COUNTRY_INFO!B131)","v":"Pwani"},{"$f":"IF(COUNTRY_INFO!C131=0,\" \",COUNTRY_INFO!C131)","v":"Chalinze District Council"},{"$f":"IF(COUNTRY_INFO!$T$9:$T$1000=\"MDA1 (IVM+ALB)\", COUNTRY_INFO!$T$9:$T$1000, \" \")","v":" "},null,null,null,null,0,null,null,null,0,null," "," "," "]
[{"$f":"IF(COUNTRY_INFO!A132=0,\" \",COUNTRY_INFO!A132)","v":"Tanzania"},{"$f":"IF(COUNTRY_INFO!B132=0,\" \",COUNTRY_INFO!B132)","v":"Pwani"},{"$f":"IF(COUNTRY_INFO!C132=0,\" \",COUNTRY_INFO!C132)","v":"Kibaha District Council"},{"$f":"IF(COUNTRY_INFO!$T$9:$T$1000=\"MDA1 (IVM+ALB)\", COUNTRY_INFO!$T$9:$T$1000, \" \")","v":" "},null,null,null,null,0,null,null,null,0,null," "," "," "]
[{"$f":"IF(COUNTRY_INFO!A133=0,\" \",COUNTRY_INFO!A133)","v":"Tanzania"},{"$f":"IF(COUNTRY_INFO!B133=0,\" \",COUNTRY_INFO!B133)","v":"Pwani"},{"$f":"IF(COUNTRY_INFO!C133=0,\" \",COUNTRY_INFO!C133)","v":"Kibaha Town Council"},{"$f":"IF(COUNTRY_INFO!$T$9:$T$1000=\"MDA1 (IVM+ALB)\", COUNTRY_INFO!$T$9:$T$1000, \" \")","v":" "},null,null,null,null,0,null,null,null,0,null," "," "," "]
[{"$f":"IF(COUNTRY_INFO!A134=0,\" \",COUNTRY_INFO!A134)","v":"Tanzania"},{"$f":"IF(COUNTRY_INFO!B134=0,\" \",COUNTRY_INFO!B134)","v":"Pwani"},{"$f":"IF(COUNTRY_INFO!C134=0,\" \",COUNTRY_INFO!C134)","v":"Kibiti District Council"},{"$f":"IF(COUNTRY_INFO!$T$9:$T$1000=\"MDA1 (IVM+ALB)\", COUNTRY_INFO!$T$9:$T$1000, \" \")","v":" "},null,null,null,null,0,null,null,null,0,null," "," "," "]
[{"$f":"IF(COUNTRY_INFO!A135=0,\" \",COUNTRY_INFO!A135)","v":"Tanzania"},{"$f":"IF(COUNTRY_INFO!B135=0,\" \",COUNTRY_INFO!B135)","v":"Pwani"},{"$f":"IF(COUNTRY_INFO!C135=0,\" \",COUNTRY_INFO!C135)","v":"Kisarawe District Council"},{"$f":"IF(COUNTRY_INFO!$T$9:$T$1000=\"MDA1 (IVM+ALB)\", COUNTRY_INFO!$T$9:$T$1000, \" \")","v":" "},null,null,null,null,0,null,null,null,0,null," "," "," "]
[{"$f":"IF(COUNTRY_INFO!A136=0,\" \",COUNTRY_INFO!A136)","v":"Tanzania"},{"$f":"IF(COUNTRY_INFO!B136=0,\" \",COUNTRY_INFO!B136)","v":"Pwani"},{"$f":"IF(COUNTRY_INFO!C136=0,\" \",COUNTRY_INFO!C136)","v":"Mafia District Council"},{"$f":"IF(COUNTRY_INFO!$T$9:$T$1000=\"MDA1 (IVM+ALB)\", COUNTRY_INFO!$T$9:$T$1000, \" \")","v":" "},null,null,null,null,0,null,null,null,0,null," "," "," "]
[{"$f":"IF(COUNTRY_INFO!A137=0,\" \",COUNTRY_INFO!A137)","v":"Tanzania"},{"$f":"IF(COUNTRY_INFO!B137=0,\" \",COUNTRY_INFO!B137)","v":"Pwani"},{"$f":"IF(COUNTRY_INFO!C137=0,\" \",COUNTRY_INFO!C137)","v":"Mkuranga District Council"},{"$f":"IF(COUNTRY_INFO!$T$9:$T$1000=\"MDA1 (IVM+ALB)\", COUNTRY_INFO!$T$9:$T$1000, \" \")","v":" "},null,null,null,null,0,null,null,null,0,null," "," "," "]
[{"$f":"IF(COUNTRY_INFO!A138=0,\" \",COUNTRY_INFO!A138)","v":"Tanzania"},{"$f":"IF(COUNTRY_INFO!B138=0,\" \",COUNTRY_INFO!B138)","v":"Pwani"},{"$f":"IF(COUNTRY_INFO!C138=0,\" \",COUNTRY_INFO!C138)","v":"Rufiji District Council"},{"$f":"IF(COUNTRY_INFO!$T$9:$T$1000=\"MDA1 (IVM+ALB)\", COUNTRY_INFO!$T$9:$T$1000, \" \")","v":" "},null,null,null,null,{"$f":"SUM(F138:H138)","v":0},null,null,null,{"$f":"SUM(J138:L138)","v":0},null,{"$f":"IF(G138<>0, IF(K138/G138*100=0, \"-\", K138/G138*100), \" \")","v":" "},{"$f":"IF(H138<>0, IF(L138/H138*100=0, \"-\", L138/H138*100), \" \")","v":" "},{"$f":"IF(I138<>0, IF(M138/I138*100=0, \"-\", M138/I138*100), \" \")","v":" "}]
[{"$f":"IF(COUNTRY_INFO!A139=0,\" \",COUNTRY_INFO!A139)","v":"Tanzania"},{"$f":"IF(COUNTRY_INFO!B139=0,\" \",COUNTRY_INFO!B139)","v":"Rukwa"},{"$f":"IF(COUNTRY_INFO!C139=0,\" \",COUNTRY_INFO!C139)","v":"Kalambo District Council"},{"$f":"IF(COUNTRY_INFO!$T$9:$T$1000=\"MDA1 (IVM+ALB)\", COUNTRY_INFO!$T$9:$T$1000, \" \")","v":" "},null,null,null,null,0,null,null,null,0,null," "," "," "]
[{"$f":"IF(COUNTRY_INFO!A140=0,\" \",COUNTRY_INFO!A140)","v":"Tanzania"},{"$f":"IF(COUNTRY_INFO!B140=0,\" \",COUNTRY_INFO!B140)","v":"Rukwa"},{"$f":"IF(COUNTRY_INFO!C140=0,\" \",COUNTRY_INFO!C140)","v":"Nkasi District Council"},{"$f":"IF(COUNTRY_INFO!$T$9:$T$1000=\"MDA1 (IVM+ALB)\", COUNTRY_INFO!$T$9:$T$1000, \" \")","v":" "},null,null,null,null,0,null,null,null,0,null," "," "," "]
[{"$f":"IF(COUNTRY_INFO!A141=0,\" \",COUNTRY_INFO!A141)","v":"Tanzania"},{"$f":"IF(COUNTRY_INFO!B141=0,\" \",COUNTRY_INFO!B141)","v":"Rukwa"},{"$f":"IF(COUNTRY_INFO!C141=0,\" \",COUNTRY_INFO!C141)","v":"Sumbawanga District Council"},{"$f":"IF(COUNTRY_INFO!$T$9:$T$1000=\"MDA1 (IVM+ALB)\", COUNTRY_INFO!$T$9:$T$1000, \" \")","v":" "},null,null,null,null,0,null,null,null,0,null," "," "," "]
[{"$f":"IF(COUNTRY_INFO!A142=0,\" \",COUNTRY_INFO!A142)","v":"Tanzania"},{"$f":"IF(COUNTRY_INFO!B142=0,\" \",COUNTRY_INFO!B142)","v":"Rukwa"},{"$f":"IF(COUNTRY_INFO!C142=0,\" \",COUNTRY_INFO!C142)","v":"Sumbawanga Municipal Council"},{"$f":"IF(COUNTRY_INFO!$T$9:$T$1000=\"MDA1 (IVM+ALB)\", COUNTRY_INFO!$T$9:$T$1000, \" \")","v":" "},null,null,null,null,0,null,null,null,0,null," "," "," "]
[{"$f":"IF(COUNTRY_INFO!A143=0,\" \",COUNTRY_INFO!A143)","v":"Tanzania"},{"$f":"IF(COUNTRY_INFO!B143=0,\" \",COUNTRY_INFO!B143)","v":"Ruvuma"},{"$f":"IF(COUNTRY_INFO!C143=0,\" \",COUNTRY_INFO!C143)","v":"Madaba District Council"},{"$f":"IF(COUNTRY_INFO!$T$9:$T$1000=\"MDA1 (IVM+ALB)\", COUNTRY_INFO!$T$9:$T$1000, \" \")","v":" "},null,null,null,null,0,null,null,null,0,null," "," "," "]
[{"$f":"IF(COUNTRY_INFO!A144=0,\" \",COUNTRY_INFO!A144)","v":"Tanzania"},{"$f":"IF(COUNTRY_INFO!B144=0,\" \",COUNTRY_INFO!B144)","v":"Ruvuma"},{"$f":"IF(COUNTRY_INFO!C144=0,\" \",COUNTRY_INFO!C144)","v":"Mbinga District Council"},{"$f":"IF(COUNTRY_INFO!$T$9:$T$1000=\"MDA1 (IVM+ALB)\", COUNTRY_INFO!$T$9:$T$1000, \" \")","v":" "},null,null,null,null,0,null,null,null,0,null," "," "," "]
[{"$f":"IF(COUNTRY_INFO!A145=0,\" \",COUNTRY_INFO!A145)","v":"Tanzania"},{"$f":"IF(COUNTRY_INFO!B145=0,\" \",COUNTRY_INFO!B145)","v":"Ruvuma"},{"$f":"IF(COUNTRY_INFO!C145=0,\" \",COUNTRY_INFO!C145)","v":"Mbinga Town Council"},{"$f":"IF(COUNTRY_INFO!$T$9:$T$1000=\"MDA1 (IVM+ALB)\", COUNTRY_INFO!$T$9:$T$1000, \" \")","v":" "},null,null,null,null,0,null,null,null,0,null," "," "," "]
[{"$f":"IF(COUNTRY_INFO!A146=0,\" \",COUNTRY_INFO!A146)","v":"Tanzania"},{"$f":"IF(COUNTRY_INFO!B146=0,\" \",COUNTRY_INFO!B146)","v":"Ruvuma"},{"$f":"IF(COUNTRY_INFO!C146=0,\" \",COUNTRY_INFO!C146)","v":"Namtumbo District Council"},{"$f":"IF(COUNTRY_INFO!$T$9:$T$1000=\"MDA1 (IVM+ALB)\", COUNTRY_INFO!$T$9:$T$1000, \" \")","v":" "},null,null,null,null,0,null,null,null,0,null," "," "," "]
[{"$f":"IF(COUNTRY_INFO!A147=0,\" \",COUNTRY_INFO!A147)","v":"Tanzania"},{"$f":"IF(COUNTRY_INFO!B147=0,\" \",COUNTRY_INFO!B147)","v":"Ruvuma"},{"$f":"IF(COUNTRY_INFO!C147=0,\" \",COUNTRY_INFO!C147)","v":"Nyasa District Council"},{"$f":"IF(COUNTRY_INFO!$T$9:$T$1000=\"MDA1 (IVM+ALB)\", COUNTRY_INFO!$T$9:$T$1000, \" \")","v":" "},null,null,null,null,0,null,null,null,0,null," "," "," "]
[{"$f":"IF(COUNTRY_INFO!A148=0,\" \",COUNTRY_INFO!A148)","v":"Tanzania"},{"$f":"IF(COUNTRY_INFO!B148=0,\" \",COUNTRY_INFO!B148)","v":"Ruvuma"},{"$f":"IF(COUNTRY_INFO!C148=0,\" \",COUNTRY_INFO!C148)","v":"Songea District Council"},{"$f":"IF(COUNTRY_INFO!$T$9:$T$1000=\"MDA1 (IVM+ALB)\", COUNTRY_INFO!$T$9:$T$1000, \" \")","v":" "},null,null,null,null,0,null,null,null,0,null," "," "," "]
[{"$f":"IF(COUNTRY_INFO!A149=0,\" \",COUNTRY_INFO!A149)","v":"Tanzania"},{"$f":"IF(COUNTRY_INFO!B149=0,\" \",COUNTRY_INFO!B149)","v":"Ruvuma"},{"$f":"IF(COUNTRY_INFO!C149=0,\" \",COUNTRY_INFO!C149)","v":"Songea Municipal Council"},{"$f":"IF(COUNTRY_INFO!$T$9:$T$1000=\"MDA1 (IVM+ALB)\", COUNTRY_INFO!$T$9:$T$1000, \" \")","v":" "},null,null,null,null,0,null,null,null,0,null," "," "," "]
[{"$f":"IF(COUNTRY_INFO!A150=0,\" \",COUNTRY_INFO!A150)","v":"Tanzania"},{"$f":"IF(COUNTRY_INFO!B150=0,\" \",COUNTRY_INFO!B150)","v":"Ruvuma"},{"$f":"IF(COUNTRY_INFO!C150=0,\" \",COUNTRY_INFO!C150)","v":"Tunduru District Council"},{"$f":"IF(COUNTRY_INFO!$T$9:$T$1000=\"MDA1 (IVM+ALB)\", COUNTRY_INFO!$T$9:$T$1000, \" \")","v":" "},null,null,null,null,0,null,null,null,0,null," "," "," "]
[{"$f":"IF(COUNTRY_INFO!A151=0,\" \",COUNTRY_INFO!A151)","v":"Tanzania"},{"$f":"IF(COUNTRY_INFO!B151=0,\" \",COUNTRY_INFO!B151)","v":"Shinyanga"},{"$f":"IF(COUNTRY_INFO!C151=0,\" \",COUNTRY_INFO!C151)","v":"Kahama Town Council"},{"$f":"IF(COUNTRY_INFO!$T$9:$T$1000=\"MDA1 (IVM+ALB)\", COUNTRY_INFO!$T$9:$T$1000, \" \")","v":" "},null,null,null,null,0,null,null,null,0,null," "," "," "]
[{"$f":"IF(COUNTRY_INFO!A152=0,\" \",COUNTRY_INFO!A152)","v":"Tanzania"},{"$f":"IF(COUNTRY_INFO!B152=0,\" \",COUNTRY_INFO!B152)","v":"Shinyanga"},{"$f":"IF(COUNTRY_INFO!C152=0,\" \",COUNTRY_INFO!C152)","v":"Kishapu District Council"},{"$f":"IF(COUNTRY_INFO!$T$9:$T$1000=\"MDA1 (IVM+ALB)\", COUNTRY_INFO!$T$9:$T$1000, \" \")","v":" "},null,null,null,null,0,null,null,null,0,null," "," "," "]
[{"$f":"IF(COUNTRY_INFO!A153=0,\" \",COUNTRY_INFO!A153)","v":"Tanzania"},{"$f":"IF(COUNTRY_INFO!B153=0,\" \",COUNTRY_INFO!B153)","v":"Shinyanga"},{"$f":"IF(COUNTRY_INFO!C153=0,\" \",COUNTRY_INFO!C153)","v":"Msalala District Council"},{"$f":"IF(COUNTRY_INFO!$T$9:$T$1000=\"MDA1 (IVM+ALB)\", COUNTRY_INFO!$T$9:$T$1000, \" \")","v":" "},null,null,null,null,0,null,null,null,0,null," "," "," "]
[{"$f":"IF(COUNTRY_INFO!A154=0,\" \",COUNTRY_INFO!A154)","v":"Tanzania"},{"$f":"IF(COUNTRY_INFO!B154=0,\" \",COUNTRY_INFO!B154)","v":"Shinyanga"},{"$f":"IF(COUNTRY_INFO!C154=0,\" \",COUNTRY_INFO!C154)","v":"Shinyanga District Council"},{"$f":"IF(COUNTRY_INFO!$T$9:$T$1000=\"MDA1 (IVM+ALB)\", COUNTRY_INFO!$T$9:$T$1000, \" \")","v":" "},null,null,null,null,0,null,null,null,0,null," "," "," "]
[{"$f":"IF(COUNTRY_INFO!A155=0,\" \",COUNTRY_INFO!A155)","v":"Tanzania"},{"$f":"IF(COUNTRY_INFO!B155=0,\" \",COUNTRY_INFO!B155)","v":"Shinyanga"},{"$f":"IF(COUNTRY_INFO!C155=0,\" \",COUNTRY_INFO!C155)","v":"Shinyanga Municipal Council"},{"$f":"IF(COUNTRY_INFO!$T$9:$T$1000=\"MDA1 (IVM+ALB)\", COUNTRY_INFO!$T$9:$T$1000, \" \")","v":" "},null,null,null,null,0,null,null,null,0,null," "," "," "]
[{"$f":"IF(COUNTRY_INFO!A156=0,\" \",COUNTRY_INFO!A156)","v":"Tanzania"},{"$f":"IF(COUNTRY_INFO!B156=0,\" \",COUNTRY_INFO!B156)","v":"Shinyanga"},{"$f":"IF(COUNTRY_INFO!C156=0,\" \",COUNTRY_INFO!C156)","v":"Ushetu District Council"},{"$f":"IF(COUNTRY_INFO!$T$9:$T$1000=\"MDA1 (IVM+ALB)\", COUNTRY_INFO!$T$9:$T$1000, \" \")","v":" "},null,null,null,null,0,null,null,null,0,null," "," "," "]
[{"$f":"IF(COUNTRY_INFO!A157=0,\" \",COUNTRY_INFO!A157)","v":"Tanzania"},{"$f":"IF(COUNTRY_INFO!B157=0,\" \",COUNTRY_INFO!B157)","v":"Simiyu"},{"$f":"IF(COUNTRY_INFO!C157=0,\" \",COUNTRY_INFO!C157)","v":"Bariadi District Council"},{"$f":"IF(COUNTRY_INFO!$T$9:$T$1000=\"MDA1 (IVM+ALB)\", COUNTRY_INFO!$T$9:$T$1000, \" \")","v":" "},null,null,null,null,0,null,null,null,0,null," "," "," "]
[{"$f":"IF(COUNTRY_INFO!A158=0,\" \",COUNTRY_INFO!A158)","v":"Tanzania"},{"$f":"IF(COUNTRY_INFO!B158=0,\" \",COUNTRY_INFO!B158)","v":"Simiyu"},{"$f":"IF(COUNTRY_INFO!C158=0,\" \",COUNTRY_INFO!C158)","v":"Bariadi Town Council"},{"$f":"IF(COUNTRY_INFO!$T$9:$T$1000=\"MDA1 (IVM+ALB)\", COUNTRY_INFO!$T$9:$T$1000, \" \")","v":" "},null,null,null,null,0,null,null,null,0,null," "," "," "]
[{"$f":"IF(COUNTRY_INFO!A159=0,\" \",COUNTRY_INFO!A159)","v":"Tanzania"},{"$f":"IF(COUNTRY_INFO!B159=0,\" \",COUNTRY_INFO!B159)","v":"Simiyu"},{"$f":"IF(COUNTRY_INFO!C159=0,\" \",COUNTRY_INFO!C159)","v":"Busega District Council"},{"$f":"IF(COUNTRY_INFO!$T$9:$T$1000=\"MDA1 (IVM+ALB)\", COUNTRY_INFO!$T$9:$T$1000, \" \")","v":" "},null,null,null,null,0,null,null,null,0,null," "," "," "]
[{"$f":"IF(COUNTRY_INFO!A160=0,\" \",COUNTRY_INFO!A160)","v":"Tanzania"},{"$f":"IF(COUNTRY_INFO!B160=0,\" \",COUNTRY_INFO!B160)","v":"Simiyu"},{"$f":"IF(COUNTRY_INFO!C160=0,\" \",COUNTRY_INFO!C160)","v":"Itilima District Council"},{"$f":"IF(COUNTRY_INFO!$T$9:$T$1000=\"MDA1 (IVM+ALB)\", COUNTRY_INFO!$T$9:$T$1000, \" \")","v":" "},null,null,null,null,0,null,null,null,0,null," "," "," "]
[{"$f":"IF(COUNTRY_INFO!A161=0,\" \",COUNTRY_INFO!A161)","v":"Tanzania"},{"$f":"IF(COUNTRY_INFO!B161=0,\" \",COUNTRY_INFO!B161)","v":"Simiyu"},{"$f":"IF(COUNTRY_INFO!C161=0,\" \",COUNTRY_INFO!C161)","v":"Maswa District Council"},{"$f":"IF(COUNTRY_INFO!$T$9:$T$1000=\"MDA1 (IVM+ALB)\", COUNTRY_INFO!$T$9:$T$1000, \" \")","v":" "},null,null,null,null,0,null,null,null,0,null," "," "," "]
[{"$f":"IF(COUNTRY_INFO!A162=0,\" \",COUNTRY_INFO!A162)","v":"Tanzania"},{"$f":"IF(COUNTRY_INFO!B162=0,\" \",COUNTRY_INFO!B162)","v":"Simiyu"},{"$f":"IF(COUNTRY_INFO!C162=0,\" \",COUNTRY_INFO!C162)","v":"Meatu District Council"},{"$f":"IF(COUNTRY_INFO!$T$9:$T$1000=\"MDA1 (IVM+ALB)\", COUNTRY_INFO!$T$9:$T$1000, \" \")","v":" "},null,null,null,null,0,null,null,null,0,null," "," "," "]
[{"$f":"IF(COUNTRY_INFO!A163=0,\" \",COUNTRY_INFO!A163)","v":"Tanzania"},{"$f":"IF(COUNTRY_INFO!B163=0,\" \",COUNTRY_INFO!B163)","v":"Singida"},{"$f":"IF(COUNTRY_INFO!C163=0,\" \",COUNTRY_INFO!C163)","v":"Ikungi District Council"},{"$f":"IF(COUNTRY_INFO!$T$9:$T$1000=\"MDA1 (IVM+ALB)\", COUNTRY_INFO!$T$9:$T$1000, \" \")","v":" "},null,null,null,null,0,null,null,null,0,null," "," "," "]
[{"$f":"IF(COUNTRY_INFO!A164=0,\" \",COUNTRY_INFO!A164)","v":"Tanzania"},{"$f":"IF(COUNTRY_INFO!B164=0,\" \",COUNTRY_INFO!B164)","v":"Singida"},{"$f":"IF(COUNTRY_INFO!C164=0,\" \",COUNTRY_INFO!C164)","v":"Iramba District Council"},{"$f":"IF(COUNTRY_INFO!$T$9:$T$1000=\"MDA1 (IVM+ALB)\", COUNTRY_INFO!$T$9:$T$1000, \" \")","v":" "},null,null,null,null,0,null,null,null,0,null," "," "," "]
[{"$f":"IF(COUNTRY_INFO!A165=0,\" \",COUNTRY_INFO!A165)","v":"Tanzania"},{"$f":"IF(COUNTRY_INFO!B165=0,\" \",COUNTRY_INFO!B165)","v":"Singida"},{"$f":"IF(COUNTRY_INFO!C165=0,\" \",COUNTRY_INFO!C165)","v":"Itigi District Council"},{"$f":"IF(COUNTRY_INFO!$T$9:$T$1000=\"MDA1 (IVM+ALB)\", COUNTRY_INFO!$T$9:$T$1000, \" \")","v":" "},null,null,null,null,0,null,null,null,0,null," "," "," "]
[{"$f":"IF(COUNTRY_INFO!A166=0,\" \",COUNTRY_INFO!A166)","v":"Tanzania"},{"$f":"IF(COUNTRY_INFO!B166=0,\" \",COUNTRY_INFO!B166)","v":"Singida"},{"$f":"IF(COUNTRY_INFO!C166=0,\" \",COUNTRY_INFO!C166)","v":"Manyoni District Council"},{"$f":"IF(COUNTRY_INFO!$T$9:$T$1000=\"MDA1 (IVM+ALB)\", COUNTRY_INFO!$T$9:$T$1000, \" \")","v":" "},null,null,null,null,0,null,null,null,0,null," "," "," "]
[{"$f":"IF(COUNTRY_INFO!A167=0,\" \",COUNTRY_INFO!A167)","v":"Tanzania"},{"$f":"IF(COUNTRY_INFO!B167=0,\" \",COUNTRY_INFO!B167)","v":"Singida"},{"$f":"IF(COUNTRY_INFO!C167=0,\" \",COUNTRY_INFO!C167)","v":"Mkalama District Council"},{"$f":"IF(COUNTRY_INFO!$T$9:$T$1000=\"MDA1 (IVM+ALB)\", COUNTRY_INFO!$T$9:$T$1000, \" \")","v":" "},null,null,null,null,0,null,null,null,0,null," "," "," "]
[{"$f":"IF(COUNTRY_INFO!A168=0,\" \",COUNTRY_INFO!A168)","v":"Tanzania"},{"$f":"IF(COUNTRY_INFO!B168=0,\" \",COUNTRY_INFO!B168)","v":"Singida"},{"$f":"IF(COUNTRY_INFO!C168=0,\" \",COUNTRY_INFO!C168)","v":"Singida District Council"},{"$f":"IF(COUNTRY_INFO!$T$9:$T$1000=\"MDA1 (IVM+ALB)\", COUNTRY_INFO!$T$9:$T$1000, \" \")","v":" "},null,null,null,null,0,null,null,null,0,null," "," "," "]
[{"$f":"IF(COUNTRY_INFO!A169=0,\" \",COUNTRY_INFO!A169)","v":"Tanzania"},{"$f":"IF(COUNTRY_INFO!B169=0,\" \",COUNTRY_INFO!B169)","v":"Singida"},{"$f":"IF(COUNTRY_INFO!C169=0,\" \",COUNTRY_INFO!C169)","v":"Singida Municipal Council"},{"$f":"IF(COUNTRY_INFO!$T$9:$T$1000=\"MDA1 (IVM+ALB)\", COUNTRY_INFO!$T$9:$T$1000, \" \")","v":" "},null,null,null,null,0,null,null,null,0,null," "," "," "]
[{"$f":"IF(COUNTRY_INFO!A170=0,\" \",COUNTRY_INFO!A170)","v":"Tanzania"},{"$f":"IF(COUNTRY_INFO!B170=0,\" \",COUNTRY_INFO!B170)","v":"Songwe"},{"$f":"IF(COUNTRY_INFO!C170=0,\" \",COUNTRY_INFO!C170)","v":"Ileje District Council"},{"$f":"IF(COUNTRY_INFO!$T$9:$T$1000=\"MDA1 (IVM+ALB)\", COUNTRY_INFO!$T$9:$T$1000, \" \")","v":" "},null,null,null,null,0,null,null,null,0,null," "," "," "]
[{"$f":"IF(COUNTRY_INFO!A171=0,\" \",COUNTRY_INFO!A171)","v":"Tanzania"},{"$f":"IF(COUNTRY_INFO!B171=0,\" \",COUNTRY_INFO!B171)","v":"Songwe"},{"$f":"IF(COUNTRY_INFO!C171=0,\" \",COUNTRY_INFO!C171)","v":"Mbozi District Council"},{"$f":"IF(COUNTRY_INFO!$T$9:$T$1000=\"MDA1 (IVM+ALB)\", COUNTRY_INFO!$T$9:$T$1000, \" \")","v":" "},null,null,null,null,0,null,null,null,0,null," "," "," "]
[{"$f":"IF(COUNTRY_INFO!A172=0,\" \",COUNTRY_INFO!A172)","v":"Tanzania"},{"$f":"IF(COUNTRY_INFO!B172=0,\" \",COUNTRY_INFO!B172)","v":"Songwe"},{"$f":"IF(COUNTRY_INFO!C172=0,\" \",COUNTRY_INFO!C172)","v":"Momba District Council"},{"$f":"IF(COUNTRY_INFO!$T$9:$T$1000=\"MDA1 (IVM+ALB)\", COUNTRY_INFO!$T$9:$T$1000, \" \")","v":" "},null,null,null,null,0,null,null,null,0,null," "," "," "]
[{"$f":"IF(COUNTRY_INFO!A173=0,\" \",COUNTRY_INFO!A173)","v":"Tanzania"},{"$f":"IF(COUNTRY_INFO!B173=0,\" \",COUNTRY_INFO!B173)","v":"Songwe"},{"$f":"IF(COUNTRY_INFO!C173=0,\" \",COUNTRY_INFO!C173)","v":"Songwe District Council"},{"$f":"IF(COUNTRY_INFO!$T$9:$T$1000=\"MDA1 (IVM+ALB)\", COUNTRY_INFO!$T$9:$T$1000, \" \")","v":" "},null,null,null,null,0,null,null,null,0,null," "," "," "]
[{"$f":"IF(COUNTRY_INFO!A174=0,\" \",COUNTRY_INFO!A174)","v":"Tanzania"},{"$f":"IF(COUNTRY_INFO!B174=0,\" \",COUNTRY_INFO!B174)","v":"Songwe"},{"$f":"IF(COUNTRY_INFO!C174=0,\" \",COUNTRY_INFO!C174)","v":"Tunduma Town Council"},{"$f":"IF(COUNTRY_INFO!$T$9:$T$1000=\"MDA1 (IVM+ALB)\", COUNTRY_INFO!$T$9:$T$1000, \" \")","v":" "},null,null,null,null,0,null,null,null,0,null," "," "," "]
[{"$f":"IF(COUNTRY_INFO!A175=0,\" \",COUNTRY_INFO!A175)","v":"Tanzania"},{"$f":"IF(COUNTRY_INFO!B175=0,\" \",COUNTRY_INFO!B175)","v":"Tabora"},{"$f":"IF(COUNTRY_INFO!C175=0,\" \",COUNTRY_INFO!C175)","v":"Igunga District Council"},{"$f":"IF(COUNTRY_INFO!$T$9:$T$1000=\"MDA1 (IVM+ALB)\", COUNTRY_INFO!$T$9:$T$1000, \" \")","v":" "},null,null,null,null,0,null,null,null,0,null," "," "," "]
[{"$f":"IF(COUNTRY_INFO!A176=0,\" \",COUNTRY_INFO!A176)","v":"Tanzania"},{"$f":"IF(COUNTRY_INFO!B176=0,\" \",COUNTRY_INFO!B176)","v":"Tabora"},{"$f":"IF(COUNTRY_INFO!C176=0,\" \",COUNTRY_INFO!C176)","v":"Kaliua District Council"},{"$f":"IF(COUNTRY_INFO!$T$9:$T$1000=\"MDA1 (IVM+ALB)\", COUNTRY_INFO!$T$9:$T$1000, \" \")","v":" "},null,null,null,null,0,null,null,null,0,null," "," "," "]
[{"$f":"IF(COUNTRY_INFO!A177=0,\" \",COUNTRY_INFO!A177)","v":"Tanzania"},{"$f":"IF(COUNTRY_INFO!B177=0,\" \",COUNTRY_INFO!B177)","v":"Tabora"},{"$f":"IF(COUNTRY_INFO!C177=0,\" \",COUNTRY_INFO!C177)","v":"Nzega District Council"},{"$f":"IF(COUNTRY_INFO!$T$9:$T$1000=\"MDA1 (IVM+ALB)\", COUNTRY_INFO!$T$9:$T$1000, \" \")","v":" "},null,null,null,null,0,null,null,null,0,null," "," "," "]
[{"$f":"IF(COUNTRY_INFO!A178=0,\" \",COUNTRY_INFO!A178)","v":"Tanzania"},{"$f":"IF(COUNTRY_INFO!B178=0,\" \",COUNTRY_INFO!B178)","v":"Tabora"},{"$f":"IF(COUNTRY_INFO!C178=0,\" \",COUNTRY_INFO!C178)","v":"Nzega Town Council"},{"$f":"IF(COUNTRY_INFO!$T$9:$T$1000=\"MDA1 (IVM+ALB)\", COUNTRY_INFO!$T$9:$T$1000, \" \")","v":" "},null,null,null,null,0,null,null,null,0,null," "," "," "]
[{"$f":"IF(COUNTRY_INFO!A179=0,\" \",COUNTRY_INFO!A179)","v":"Tanzania"},{"$f":"IF(COUNTRY_INFO!B179=0,\" \",COUNTRY_INFO!B179)","v":"Tabora"},{"$f":"IF(COUNTRY_INFO!C179=0,\" \",COUNTRY_INFO!C179)","v":"Sikonge District Council"},{"$f":"IF(COUNTRY_INFO!$T$9:$T$1000=\"MDA1 (IVM+ALB)\", COUNTRY_INFO!$T$9:$T$1000, \" \")","v":" "},null,null,null,null,0,null,null,null,0,null," "," "," "]
[{"$f":"IF(COUNTRY_INFO!A180=0,\" \",COUNTRY_INFO!A180)","v":"Tanzania"},{"$f":"IF(COUNTRY_INFO!B180=0,\" \",COUNTRY_INFO!B180)","v":"Tabora"},{"$f":"IF(COUNTRY_INFO!C180=0,\" \",COUNTRY_INFO!C180)","v":"Tabora Municipal Council"},{"$f":"IF(COUNTRY_INFO!$T$9:$T$1000=\"MDA1 (IVM+ALB)\", COUNTRY_INFO!$T$9:$T$1000, \" \")","v":" "},null,null,null,null,0,null,null,null,0,null," "," "," "]
[{"$f":"IF(COUNTRY_INFO!A181=0,\" \",COUNTRY_INFO!A181)","v":"Tanzania"},{"$f":"IF(COUNTRY_INFO!B181=0,\" \",COUNTRY_INFO!B181)","v":"Tabora"},{"$f":"IF(COUNTRY_INFO!C181=0,\" \",COUNTRY_INFO!C181)","v":"Urambo District Council"},{"$f":"IF(COUNTRY_INFO!$T$9:$T$1000=\"MDA1 (IVM+ALB)\", COUNTRY_INFO!$T$9:$T$1000, \" \")","v":" "},null,null,null,null,0,null,null,null,0,null," "," "," "]
[{"$f":"IF(COUNTRY_INFO!A182=0,\" \",COUNTRY_INFO!A182)","v":"Tanzania"},{"$f":"IF(COUNTRY_INFO!B182=0,\" \",COUNTRY_INFO!B182)","v":"Tabora"},{"$f":"IF(COUNTRY_INFO!C182=0,\" \",COUNTRY_INFO!C182)","v":"Uyui District Council"},{"$f":"IF(COUNTRY_INFO!$T$9:$T$1000=\"MDA1 (IVM+ALB)\", COUNTRY_INFO!$T$9:$T$1000, \" \")","v":" "},null,null,null,null,0,null,null,null,0,null," "," "," "]
[{"$f":"IF(COUNTRY_INFO!A183=0,\" \",COUNTRY_INFO!A183)","v":"Tanzania"},{"$f":"IF(COUNTRY_INFO!B183=0,\" \",COUNTRY_INFO!B183)","v":"Tanga"},{"$f":"IF(COUNTRY_INFO!C183=0,\" \",COUNTRY_INFO!C183)","v":"Bumbuli District Council"},{"$f":"IF(COUNTRY_INFO!$T$9:$T$1000=\"MDA1 (IVM+ALB)\", COUNTRY_INFO!$T$9:$T$1000, \" \")","v":" "},null,null,null,null,0,null,null,null,0,null," "," "," "]
[{"$f":"IF(COUNTRY_INFO!A184=0,\" \",COUNTRY_INFO!A184)","v":"Tanzania"},{"$f":"IF(COUNTRY_INFO!B184=0,\" \",COUNTRY_INFO!B184)","v":"Tanga"},{"$f":"IF(COUNTRY_INFO!C184=0,\" \",COUNTRY_INFO!C184)","v":"Handeni District Council"},{"$f":"IF(COUNTRY_INFO!$T$9:$T$1000=\"MDA1 (IVM+ALB)\", COUNTRY_INFO!$T$9:$T$1000, \" \")","v":" "},null,null,null,null,0,null,null,null,0,null," "," "," "]
[{"$f":"IF(COUNTRY_INFO!A185=0,\" \",COUNTRY_INFO!A185)","v":"Tanzania"},{"$f":"IF(COUNTRY_INFO!B185=0,\" \",COUNTRY_INFO!B185)","v":"Tanga"},{"$f":"IF(COUNTRY_INFO!C185=0,\" \",COUNTRY_INFO!C185)","v":"Handeni Town Council"},{"$f":"IF(COUNTRY_INFO!$T$9:$T$1000=\"MDA1 (IVM+ALB)\", COUNTRY_INFO!$T$9:$T$1000, \" \")","v":" "},null,null,null,null,0,null,null,null,0,null," "," "," "]
[{"$f":"IF(COUNTRY_INFO!A186=0,\" \",COUNTRY_INFO!A186)","v":"Tanzania"},{"$f":"IF(COUNTRY_INFO!B186=0,\" \",COUNTRY_INFO!B186)","v":"Tanga"},{"$f":"IF(COUNTRY_INFO!C186=0,\" \",COUNTRY_INFO!C186)","v":"Kilindi District Council"},{"$f":"IF(COUNTRY_INFO!$T$9:$T$1000=\"MDA1 (IVM+ALB)\", COUNTRY_INFO!$T$9:$T$1000, \" \")","v":" "},null,null,null,null,0,null,null,null,0,null," "," "," "]
[{"$f":"IF(COUNTRY_INFO!A187=0,\" \",COUNTRY_INFO!A187)","v":"Tanzania"},{"$f":"IF(COUNTRY_INFO!B187=0,\" \",COUNTRY_INFO!B187)","v":"Tanga"},{"$f":"IF(COUNTRY_INFO!C187=0,\" \",COUNTRY_INFO!C187)","v":"Korogwe District Council"},{"$f":"IF(COUNTRY_INFO!$T$9:$T$1000=\"MDA1 (IVM+ALB)\", COUNTRY_INFO!$T$9:$T$1000, \" \")","v":" "},null,null,null,null,0,null,null,null,0,null," "," "," "]
[{"$f":"IF(COUNTRY_INFO!A188=0,\" \",COUNTRY_INFO!A188)","v":"Tanzania"},{"$f":"IF(COUNTRY_INFO!B188=0,\" \",COUNTRY_INFO!B188)","v":"Tanga"},{"$f":"IF(COUNTRY_INFO!C188=0,\" \",COUNTRY_INFO!C188)","v":"Korogwe Town Council"},{"$f":"IF(COUNTRY_INFO!$T$9:$T$1000=\"MDA1 (IVM+ALB)\", COUNTRY_INFO!$T$9:$T$1000, \" \")","v":" "},null,null,null,null,0,null,null,null,0,null," "," "," "]
[{"$f":"IF(COUNTRY_INFO!A189=0,\" \",COUNTRY_INFO!A189)","v":"Tanzania"},{"$f":"IF(COUNTRY_INFO!B189=0,\" \",COUNTRY_INFO!B189)","v":"Tanga"},{"$f":"IF(COUNTRY_INFO!C189=0,\" \",COUNTRY_INFO!C189)","v":"Lushoto District Council"},{"$f":"IF(COUNTRY_INFO!$T$9:$T$1000=\"MDA1 (IVM+ALB)\", COUNTRY_INFO!$T$9:$T$1000, \" \")","v":" "},null,null,null,null,0,null,null,null,0,null," "," "," "]
[{"$f":"IF(COUNTRY_INFO!A190=0,\" \",COUNTRY_INFO!A190)","v":"Tanzania"},{"$f":"IF(COUNTRY_INFO!B190=0,\" \",COUNTRY_INFO!B190)","v":"Tanga"},{"$f":"IF(COUNTRY_INFO!C190=0,\" \",COUNTRY_INFO!C190)","v":"Mkinga District Council"},{"$f":"IF(COUNTRY_INFO!$T$9:$T$1000=\"MDA1 (IVM+ALB)\", COUNTRY_INFO!$T$9:$T$1000, \" \")","v":" "},null,null,null,null,0,null,null,null,0,null," "," "," "]
[{"$f":"IF(COUNTRY_INFO!A191=0,\" \",COUNTRY_INFO!A191)","v":"Tanzania"},{"$f":"IF(COUNTRY_INFO!B191=0,\" \",COUNTRY_INFO!B191)","v":"Tanga"},{"$f":"IF(COUNTRY_INFO!C191=0,\" \",COUNTRY_INFO!C191)","v":"Muheza District Council"},{"$f":"IF(COUNTRY_INFO!$T$9:$T$1000=\"MDA1 (IVM+ALB)\", COUNTRY_INFO!$T$9:$T$1000, \" \")","v":" "},null,null,null,null,0,null,null,null,0,null," "," "," "]
[{"$f":"IF(COUNTRY_INFO!A192=0,\" \",COUNTRY_INFO!A192)","v":"Tanzania"},{"$f":"IF(COUNTRY_INFO!B192=0,\" \",COUNTRY_INFO!B192)","v":"Tanga"},{"$f":"IF(COUNTRY_INFO!C192=0,\" \",COUNTRY_INFO!C192)","v":"Pangani District Council"},{"$f":"IF(COUNTRY_INFO!$T$9:$T$1000=\"MDA1 (IVM+ALB)\", COUNTRY_INFO!$T$9:$T$1000, \" \")","v":" "},null,null,null,null,0,null,null,null,0,null," "," "," "]
[{"$f":"IF(COUNTRY_INFO!A193=0,\" \",COUNTRY_INFO!A193)","v":"Tanzania"},{"$f":"IF(COUNTRY_INFO!B193=0,\" \",COUNTRY_INFO!B193)","v":"Tanga"},{"$f":"IF(COUNTRY_INFO!C193=0,\" \",COUNTRY_INFO!C193)","v":"Tanga City Council"},{"$f":"IF(COUNTRY_INFO!$T$9:$T$1000=\"MDA1 (IVM+ALB)\", COUNTRY_INFO!$T$9:$T$1000, \" \")","v":" "},null,null,null,null,0,null,null,null,0,null," "," "," "]

{"sheet":"MDA2","index":3,"n_rows":193,"n_cols":17,"rows_kept":193,"cut":false,"hidden":true,"merged":[[5,5,5,8],[5,9,5,12],[5,13,5,16],[3,0,3,2],[5,0,5,2],[5,3,6,3],[5,4,6,4]]}
["MDA 2 - Diethylcarbamazine citrate (DEC) + Albendazole (ALB)"]
["Administrative structure, population requiring PC by age group, population treated by age group and coverage"]
[]
["TOTAL",null,null,null,null,{"$f":"SUM(F$9:F$1000)","v":0},{"$f":"SUM(G$9:G$1000)","v":0},0,0,0,0,0,0,{"$f":"IF(F4<>0, IF(J4/F4*100=0, \"-\", J4/F4*100), \" \")","v":" "},{"$f":"IF(G4<>0, IF(K4/G4*100=0, \"-\", K4/G4*100), \" \")","v":" "},{"$f":"IF(H4<>0, IF(L4/H4*100=0, \"-\", L4/H4*100), \" \")","v":" "},{"$f":"IF(I4<>0, IF(M4/I4*100=0, \"-\", M4/I4*100), \" \")","v":" "}]
[]
[null,null,null,"PC implemented","Date","Population targeted for MDA 2",null,null,null,"Population treated",null,null,null,"Programme coverage (%)"]
["Country","Province/State","District",null,null,"PreSAC","SAC","Adults","Total","PreSAC","SAC","Adults","Total","PreSAC","SAC","Adults","Total"]
[]
[{"$f":"IF(COUNTRY_INFO!A9=0,\" \",COUNTRY_INFO!A9)","v":"Tanzania"},{"$f":"IF(COUNTRY_INFO!B9=0,\" \",COUNTRY_INFO!B9)","v":"Arusha"},{"$f":"IF(COUNTRY_INFO!C9=0,\" \",COUNTRY_INFO!C9)","v":"Arusha City Council"},{"$f":"IF(COUNTRY_INFO!$T$9:$T$1000=\"MDA2 (DEC+ALB)\", COUNTRY_INFO!$T$9:$T$1000, \" \")","v":" "},null,null,null,null,{"$f":"SUM(F9:H9)","v":0},null,null,null,{"$f":"SUM(J9:L9)","v":0},{"$f":"IF(F9<>0, IF(J9/F9*100=0, \"-\", J9/F9*100), \" \")","v":" "}," "," "," "]
[{"$f":"IF(COUNTRY_INFO!A10=0,\" \",COUNTRY_INFO!A10)","v":"Tanzania"},{"$f":"IF(COUNTRY_INFO!B10=0,\" \",COUNTRY_INFO!B10)","v":"Arusha"},{"$f":"IF(COUNTRY_INFO!C10=0,\" \",COUNTRY_INFO!C10)","v":"Arusha District Council"},{"$f":"IF(COUNTRY_INFO!$T$9:$T$1000=\"MDA2 (DEC+ALB)\", COUNTRY_INFO!$T$9:$T$1000, \" \")","v":" "},null,null,null,null,{"$f":"SUM(F10:H10)","v":0},null,null,null,{"$f":"SUM(J10:L10)","v":0},{"$f":"IF(F10<>0, IF(J10/F10*100=0, \"-\", J10/F10*100), \" \")","v":" "},{"$f":"IF(G10<>0, IF(K10/G10*100=0, \"-\", K10/G10*100), \" \")","v":" "},{"$f":"IF(H10<>0, IF(L10/H10*100=0, \"-\", L10/H10*100), \" \")","v":" "},{"$f":"IF(I10<>0, IF(M10/I10*100=0, \"-\", M10/I10*100), \" \")","v":" "}]
[{"$f":"IF(COUNTRY_INFO!A11=0,\" \",COUNTRY_INFO!A11)","v":"Tanzania"},{"$f":"IF(COUNTRY_INFO!B11=0,\" \",COUNTRY_INFO!B11)","v":"Arusha"},{"$f":"IF(COUNTRY_INFO!C11=0,\" \",COUNTRY_INFO!C11)","v":"Karatu District Council"},{"$f":"IF(COUNTRY_INFO!$T$9:$T$1000=\"MDA2 (DEC+ALB)\", COUNTRY_INFO!$T$9:$T$1000, \" \")","v":" "},null,null,null,null,0,null,null,null,0," "," "," "," "]
[{"$f":"IF(COUNTRY_INFO!A12=0,\" \",COUNTRY_INFO!A12)","v":"Tanzania"},{"$f":"IF(COUNTRY_INFO!B12=0,\" \",COUNTRY_INFO!B12)","v":"Arusha"},{"$f":"IF(COUNTRY_INFO!C12=0,\" \",COUNTRY_INFO!C12)","v":"Longido District Council"},{"$f":"IF(COUNTRY_INFO!$T$9:$T$1000=\"MDA2 (DEC+ALB)\", COUNTRY_INFO!$T$9:$T$1000, \" \")","v":" "},null,null,null,null,0,null,null,null,0," "," "," "," "]
[{"$f":"IF(COUNTRY_INFO!A13=0,\" \",COUNTRY_INFO!A13)","v":"Tanzania"},{"$f":"IF(COUNTRY_INFO!B13=0,\" \",COUNTRY_INFO!B13)","v":"Arusha"},{"$f":"IF(COUNTRY_INFO!C13=0,\" \",COUNTRY_INFO!C13)","v":"Meru District Council"},{"$f":"IF(COUNTRY_INFO!$T$9:$T$1000=\"MDA2 (DEC+ALB)\", COUNTRY_INFO!$T$9:$T$1000, \" \")","v":" "},null,null,null,null,0,null,null,null,0," "," "," "," "]
[{"$f":"IF(COUNTRY_INFO!A14=0,\" \",COUNTRY_INFO!A14)","v":"Tanzania"},{"$f":"IF(COUNTRY_INFO!B14=0,\" \",COUNTRY_INFO!B14)","v":"Arusha"},{"$f":"IF(COUNTRY_INFO!C14=0,\" \",COUNTRY_INFO!C14)","v":"Monduli District Council"},{"$f":"IF(COUNTRY_INFO!$T$9:$T$1000=\"MDA2 (DEC+ALB)\", COUNTRY_INFO!$T$9:$T$1000, \" \")","v":" "},null,null,null,null,0,null,null,null,0," "," "," "," "]
[{"$f":"IF(COUNTRY_INFO!A15=0,\" \",COUNTRY_INFO!A15)","v":"Tanzania"},{"$f":"IF(COUNTRY_INFO!B15=0,\" \",COUNTRY_INFO!B15)","v":"Arusha"},{"$f":"IF(COUNTRY_INFO!C15=0,\" \",COUNTRY_INFO!C15)","v":"Ngorongoro District Council"},{"$f":"IF(COUNTRY_INFO!$T$9:$T$1000=\"MDA2 (DEC+ALB)\", COUNTRY_INFO!$T$9:$T$1000, \" \")","v":" "},null,null,null,null,0,null,null,null,0," "," "," "," "]
[{"$f":"IF(COUNTRY_INFO!A16=0,\" \",COUNTRY_INFO!A16)","v":"Tanzania"},{"$f":"IF(COUNTRY_INFO!B16=0,\" \",COUNTRY_INFO!B16)","v":"Dar Es Salaam"},{"$f":"IF(COUNTRY_INFO!C16=0,\" \",COUNTRY_INFO!C16)","v":"Dar es Salaam City Council "},{"$f":"IF(COUNTRY_INFO!$T$9:$T$1000=\"MDA2 (DEC+ALB)\", COUNTRY_INFO!$T$9:$T$1000, \" \")","v":" "},null,null,null,null,0,null,null,null,0," "," "," "," "]
[{"$f":"IF(COUNTRY_INFO!A17=0,\" \",COUNTRY_INFO!A17)","v":"Tanzania"},{"$f":"IF(COUNTRY_INFO!B17=0,\" \",COUNTRY_INFO!B17)","v":"Dar Es Salaam"},{"$f":"IF(COUNTRY_INFO!C17=0,\" \",COUNTRY_INFO!C17)","v":"Ilala Municipal Council"},{"$f":"IF(COUNTRY_INFO!$T$9:$T$1000=\"MDA2 (DEC+ALB)\", COUNTRY_INFO!$T$9:$T$1000, \" \")","v":" "},null,null,null,null,0,null,null,null,0," "," "," "," "]
[{"$f":"IF(COUNTRY_INFO!A18=0,\" \",COUNTRY_INFO!A18)","v":"Tanzania"},{"$f":"IF(COUNTRY_INFO!B18=0,\" \",COUNTRY_INFO!B18)","v":"Dar Es Salaam"},{"$f":"IF(COUNTRY_INFO!C18=0,\" \",COUNTRY_INFO!C18)","v":"Kigamboni Municipal Council"},{"$f":"IF(COUNTRY_INFO!$T$9:$T$1000=\"MDA2 (DEC+ALB)\", COUNTRY_INFO!$T$9:$T$1000, \" \")","v":" "},null,null,null,null,0,null,null,null,0," "," "," "," "]
[{"$f":"IF(COUNTRY_INFO!A19=0,\" \",COUNTRY_INFO!A19)","v":"Tanzania"},{"$f":"IF(COUNTRY_INFO!B19=0,\" \",COUNTRY_INFO!B19)","v":"Dar Es Salaam"},{"$f":"IF(COUNTRY_INFO!C19=0,\" \",COUNTRY_INFO!C19)","v":"Kinondoni Municipal Council"},{"$f":"IF(COUNTRY_INFO!$T$9:$T$1000=\"MDA2 (DEC+ALB)\", COUNTRY_INFO!$T$9:$T$1000, \" \")","v":" "},null,null,null,null,0,null,null,null,0," "," "," "," "]
[{"$f":"IF(COUNTRY_INFO!A20=0,\" \",COUNTRY_INFO!A20)","v":"Tanzania"},{"$f":"IF(COUNTRY_INFO!B20=0,\" \",COUNTRY_INFO!B20)","v":"Dar Es Salaam"},{"$f":"IF(COUNTRY_INFO!C20=0,\" \",COUNTRY_INFO!C20)","v":"Temeke Municipal Council"},{"$f":"IF(COUNTRY_INFO!$T$9:$T$1000=\"MDA2 (DEC+ALB)\", COUNTRY_INFO!$T$9:$T$1000, \" \")","v":" "},null,null,null,null,0,null,null,null,0," "," "," "," "]
[{"$f":"IF(COUNTRY_INFO!A21=0,\" \",COUNTRY_INFO!A21)","v":"Tanzania"},{"$f":"IF(COUNTRY_INFO!B21=0,\" \",COUNTRY_INFO!B21)","v":"Dar Es Salaam"},{"$f":"IF(COUNTRY_INFO!C21=0,\" \",COUNTRY_INFO!C21)","v":"Ubungo Municipal Council"},{"$f":"IF(COUNTRY_INFO!$T$9:$T$1000=\"MDA2 (DEC+ALB)\", COUNTRY_INFO!$T$9:$T$1000, \" \")","v":" "},null,null,null,null,0,null,null,null,0," "," "," "," "]
[{"$f":"IF(COUNTRY_INFO!A22=0,\" \",COUNTRY_INFO!A22)","v":"Tanzania"},{"$f":"IF(COUNTRY_INFO!B22=0,\" \",COUNTRY_INFO!B22)","v":"Dodoma"},{"$f":"IF(COUNTRY_INFO!C22=0,\" \",COUNTRY_INFO!C22)","v":"Bahi District Council"},{"$f":"IF(COUNTRY_INFO!$T$9:$T$1000=\"MDA2 (DEC+ALB)\", COUNTRY_INFO!$T$9:$T$1000, \" \")","v":" "},null,null,null,null,0,null,null,null,0," "," "," "," "]
[{"$f":"IF(COUNTRY_INFO!A23=0,\" \",COUNTRY_INFO!A23)","v":"Tanzania"},{"$f":"IF(COUNTRY_INFO!B23=0,\" \",COUNTRY_INFO!B23)","v":"Dodoma"},{"$f":"IF(COUNTRY_INFO!C23=0,\" \",COUNTRY_INFO!C23)","v":"Chamwino District Council"},{"$f":"IF(COUNTRY_INFO!$T$9:$T$1000=\"MDA2 (DEC+ALB)\", COUNTRY_INFO!$T$9:$T$1000, \" \")","v":" "},null,null,null,null,0,null,null,null,0," "," "," "," "]
[{"$f":"IF(COUNTRY_INFO!A24=0,\" \",COUNTRY_INFO!A24)","v":"Tanzania"},{"$f":"IF(COUNTRY_INFO!B24=0,\" \",COUNTRY_INFO!B24)","v":"Dodoma"},{"$f":"IF(COUNTRY_INFO!C24=0,\" \",COUNTRY_INFO!C24)","v":"Chemba District Council"},{"$f":"IF(COUNTRY_INFO!$T$9:$T$1000=\"MDA2 (DEC+ALB)\", COUNTRY_INFO!$T$9:$T$1000, \" \")","v":" "},null,null,null,null,0,null,null,null,0," "," "," "," "]
[{"$f":"IF(COUNTRY_INFO!A25=0,\" \",COUNTRY_INFO!A25)","v":"Tanzania"},{"$f":"IF(COUNTRY_INFO!B25=0,\" \",COUNTRY_INFO!B25)","v":"Dodoma"},{"$f":"IF(COUNTRY_INFO!C25=0,\" \",COUNTRY_INFO!C25)","v":"Dodoma City Council"},{"$f":"IF(COUNTRY_INFO!$T$9:$T$1000=\"MDA2 (DEC+ALB)\", COUNTRY_INFO!$T$9:$T$1000, \" \")","v":" "},null,null,null,null,0,null,null,null,0," "," "," "," "]
[{"$f":"IF(COUNTRY_INFO!A26=0,\" \",COUNTRY_INFO!A26)","v":"Tanzania"},{"$f":"IF(COUNTRY_INFO!B26=0,\" \",COUNTRY_INFO!B26)","v":"Dodoma"},{"$f":"IF(COUNTRY_INFO!C26=0,\" \",COUNTRY_INFO!C26)","v":"Kondoa District Council"},{"$f":"IF(COUNTRY_INFO!$T$9:$T$1000=\"MDA2 (DEC+ALB)\", COUNTRY_INFO!$T$9:$T$1000, \" \")","v":" "},null,null,null,null,0,null,null,null,0," "," "," "," "]
[{"$f":"IF(COUNTRY_INFO!A27=0,\" \",COUNTRY_INFO!A27)","v":"Tanzania"},{"$f":"IF(COUNTRY_INFO!B27=0,\" \",COUNTRY_INFO!B27)","v":"Dodoma"},{"$f":"IF(COUNTRY_INFO!C27=0,\" \",COUNTRY_INFO!C27)","v":"Kondoa Town Council "},{"$f":"IF(COUNTRY_INFO!$T$9:$T$1000=\"MDA2 (DEC+ALB)\", COUNTRY_INFO!$T$9:$T$1000, \" \")","v":" "},null,null,null,null,0,null,null,null,0," "," "," "," "]
[{"$f":"IF(COUNTRY_INFO!A28=0,\" \",COUNTRY_INFO!A28)","v":"Tanzania"},{"$f":"IF(COUNTRY_INFO!B28=0,\" \",COUNTRY_INFO!B28)","v":"Dodoma"},{"$f":"IF(COUNTRY_INFO!C28=0,\" \",COUNTRY_INFO!C28)","v":"Kongwa District Council"},{"$f":"IF(COUNTRY_INFO!$T$9:$T$1000=\"MDA2 (DEC+ALB)\", COUNTRY_INFO!$T$9:$T$1000, \" \")","v":" "},null,null,null,null,0,null,null,null,0," "," "," "," "]
[{"$f":"IF(COUNTRY_INFO!A29=0,\" \",COUNTRY_INFO!A29)","v":"Tanzania"},{"$f":"IF(COUNTRY_INFO!B29=0,\" \",COUNTRY_INFO!B29)","v":"Dodoma"},{"$f":"IF(COUNTRY_INFO!C29=0,\" \",COUNTRY_INFO!C29)","v":"Mpwapwa District Council"},{"$f":"IF(COUNTRY_INFO!$T$9:$T$1000=\"MDA2 (DEC+ALB)\", COUNTRY_INFO!$T$9:$T$1000, \" \")","v":" "},null,null,null,null,0,null,null,null,0," "," "," "," "]
[{"$f":"IF(COUNTRY_INFO!A30=0,\" \",COUNTRY_INFO!A30)","v":"Tanzania"},{"$f":"IF(COUNTRY_INFO!B30=0,\" \",COUNTRY_INFO!B30)","v":"Geita"},{"$f":"IF(COUNTRY_INFO!C30=0,\" \",COUNTRY_INFO!C30)","v":"Bukombe District Council"},{"$f":"IF(COUNTRY_INFO!$T$9:$T$1000=\"MDA2 (DEC+ALB)\", COUNTRY_INFO!$T$9:$T$1000, \" \")","v":" "},null,null,null,null,0,null,null,null,0," "," "," "," "]
[{"$f":"IF(COUNTRY_INFO!A31=0,\" \",COUNTRY_INFO!A31)","v":"Tanzania"},{"$f":"IF(COUNTRY_INFO!B31=0,\" \",COUNTRY_INFO!B31)","v":"Geita"},{"$f":"IF(COUNTRY_INFO!C31=0,\" \",COUNTRY_INFO!C31)","v":"Chato District Council"},{"$f":"IF(COUNTRY_INFO!$T$9:$T$1000=\"MDA2 (DEC+ALB)\", COUNTRY_INFO!$T$9:$T$1000, \" \")","v":" "},null,null,null,null,0,null,null,null,0," "," "," "," "]
[{"$f":"IF(COUNTRY_INFO!A32=0,\" \",COUNTRY_INFO!A32)","v":"Tanzania"},{"$f":"IF(COUNTRY_INFO!B32=0,\" \",COUNTRY_INFO!B32)","v":"Geita"},{"$f":"IF(COUNTRY_INFO!C32=0,\" \",COUNTRY_INFO!C32)","v":"Geita District Council"},{"$f":"IF(COUNTRY_INFO!$T$9:$T$1000=\"MDA2 (DEC+ALB)\", COUNTRY_INFO!$T$9:$T$1000, \" \")","v":" "},null,null,null,null,0,null,null,null,0," "," "," "," "]
[{"$f":"IF(COUNTRY_INFO!A33=0,\" \",COUNTRY_INFO!A33)","v":"Tanzania"},{"$f":"IF(COUNTRY_INFO!B33=0,\" \",COUNTRY_INFO!B33)","v":"Geita"},{"$f":"IF(COUNTRY_INFO!C33=0,\" \",COUNTRY_INFO!C33)","v":"Geita Town Council"},{"$f":"IF(COUNTRY_INFO!$T$9:$T$1000=\"MDA2 (DEC+ALB)\", COUNTRY_INFO!$T$9:$T$1000, \" \")","v":" "},null,null,null,null,0,null,null,null,0," "," "," "," "]
[{"$f":"IF(COUNTRY_INFO!A34=0,\" \",COUNTRY_INFO!A34)","v":"Tanzania"},{"$f":"IF(COUNTRY_INFO!B34=0,\" \",COUNTRY_INFO!B34)","v":"Geita"},{"$f":"IF(COUNTRY_INFO!C34=0,\" \",COUNTRY_INFO!C34)","v":"Mbogwe District Council"},{"$f":"IF(COUNTRY_INFO!$T$9:$T$1000=\"MDA2 (DEC+ALB)\", COUNTRY_INFO!$T$9:$T$1000, \" \")","v":" "},null,null,null,null,0,null,null,null,0," "," "," "," "]
[{"$f":"IF(COUNTRY_INFO!A35=0,\" \",COUNTRY_INFO!A35)","v":"Tanzania"},{"$f":"IF(COUNTRY_INFO!B35=0,\" \",COUNTRY_INFO!B35)","v":"Geita"},{"$f":"IF(COUNTRY_INFO!C35=0,\" \",COUNTRY_INFO!C35)","v":"Nyang'hwale District Council"},{"$f":"IF(COUNTRY_INFO!$T$9:$T$1000=\"MDA2 (DEC+ALB)\", COUNTRY_INFO!$T$9:$T$1000, \" \")","v":" "},null,null,null,null,0,null,null,null,0," "," "," "," "]
[{"$f":"IF(COUNTRY_INFO!A36=0,\" \",COUNTRY_INFO!A36)","v":"Tanzania"},{"$f":"IF(COUNTRY_INFO!B36=0,\" \",COUNTRY_INFO!B36)","v":"Iringa"},{"$f":"IF(COUNTRY_INFO!C36=0,\" \",COUNTRY_INFO!C36)","v":"Iringa District Council"},{"$f":"IF(COUNTRY_INFO!$T$9:$T$1000=\"MDA2 (DEC+ALB)\", COUNTRY_INFO!$T$9:$T$1000, \" \")","v":" "},null,null,null,null,0,null,null,null,0," "," "," "," "]
[{"$f":"IF(COUNTRY_INFO!A37=0,\" \",COUNTRY_INFO!A37)","v":"Tanzania"},{"$f":"IF(COUNTRY_INFO!B37=0,\" \",COUNTRY_INFO!B37)","v":"Iringa"},{"$f":"IF(COUNTRY_INFO!C37=0,\" \",COUNTRY_INFO!C37)","v":"Iringa Municipal Council"},{"$f":"IF(COUNTRY_INFO!$T$9:$T$1000=\"MDA2 (DEC+ALB)\", COUNTRY_INFO!$T$9:$T$1000, \" \")","v":" "},null,null,null,null,0,null,null,null,0," "," "," "," "]
[{"$f":"IF(COUNTRY_INFO!A38=0,\" \",COUNTRY_INFO!A38)","v":"Tanzania"},{"$f":"IF(COUNTRY_INFO!B38=0,\" \",COUNTRY_INFO!B38)","v":"Iringa"},{"$f":"IF(COUNTRY_INFO!C38=0,\" \",COUNTRY_INFO!C38)","v":"Kilolo District Council"},{"$f":"IF(COUNTRY_INFO!$T$9:$T$1000=\"MDA2 (DEC+ALB)\", COUNTRY_INFO!$T$9:$T$1000, \" \")","v":" "},null,null,null,null,0,null,null,null,0," "," "," "," "]
[{"$f":"IF(COUNTRY_INFO!A39=0,\" \",COUNTRY_INFO!A39)","v":"Tanzania"},{"$f":"IF(COUNTRY_INFO!B39=0,\" \",COUNTRY_INFO!B39)","v":"Iringa"},{"$f":"IF(COUNTRY_INFO!C39=0,\" \",COUNTRY_INFO!C39)","v":"Mafinga Town Council"},{"$f":"IF(COUNTRY_INFO!$T$9:$T$1000=\"MDA2 (DEC+ALB)\", COUNTRY_INFO!$T$9:$T$1000, \" \")","v":" "},null,null,null,null,0,null,null,null,0," "," "," "," "]
[{"$f":"IF(COUNTRY_INFO!A40=0,\" \",COUNTRY_INFO!A40)","v":"Tanzania"},{"$f":"IF(COUNTRY_INFO!B40=0,\" \",COUNTRY_INFO!B40)","v":"Iringa"},{"$f":"IF(COUNTRY_INFO!C40=0,\" \",COUNTRY_INFO!C40)","v":"Mufindi District Council"},{"$f":"IF(COUNTRY_INFO!$T$9:$T$1000=\"MDA2 (DEC+ALB)\", COUNTRY_INFO!$T$9:$T$1000, \" \")","v":" "},null,null,null,null,0,null,null,null,0," "," "," "," "]
[{"$f":"IF(COUNTRY_INFO!A41=0,\" \",COUNTRY_INFO!A41)","v":"Tanzania"},{"$f":"IF(COUNTRY_INFO!B41=0,\" \",COUNTRY_INFO!B41)","v":"Kagera"},{"$f":"IF(COUNTRY_INFO!C41=0,\" \",COUNTRY_INFO!C41)","v":"Biharamulo District Council"},{"$f":"IF(COUNTRY_INFO!$T$9:$T$1000=\"MDA2 (DEC+ALB)\", COUNTRY_INFO!$T$9:$T$1000, \" \")","v":" "},null,null,null,null,0,null,null,null,0," "," "," "," "]
[{"$f":"IF(COUNTRY_INFO!A42=0,\" \",COUNTRY_INFO!A42)","v":"Tanzania"},{"$f":"IF(COUNTRY_INFO!B42=0,\" \",COUNTRY_INFO!B42)","v":"Kagera"},{"$f":"IF(COUNTRY_INFO!C42=0,\" \",COUNTRY_INFO!C42)","v":"Bukoba District Council"},{"$f":"IF(COUNTRY_INFO!$T$9:$T$1000=\"MDA2 (DEC+ALB)\", COUNTRY_INFO!$T$9:$T$1000, \" \")","v":" "},null,null,null,null,0,null,null,null,0," "," "," "," "]
[{"$f":"IF(COUNTRY_INFO!A43=0,\" \",COUNTRY_INFO!A43)","v":"Tanzania"},{"$f":"IF(COUNTRY_INFO!B43=0,\" \",COUNTRY_INFO!B43)","v":"Kagera"},{"$f":"IF(COUNTRY_INFO!C43=0,\" \",COUNTRY_INFO!C43)","v":"Bukoba Municipal Council"},{"$f":"IF(COUNTRY_INFO!$T$9:$T$1000=\"MDA2 (DEC+ALB)\", COUNTRY_INFO!$T$9:$T$1000, \" \")","v":" "},null,null,null,null,0,null,null,null,0," "," "," "," "]
[{"$f":"IF(COUNTRY_INFO!A44=0,\" \",COUNTRY_INFO!A44)","v":"Tanzania"},{"$f":"IF(COUNTRY_INFO!B44=0,\" \",COUNTRY_INFO!B44)","v":"Kagera"},{"$f":"IF(COUNTRY_INFO!C44=0,\" \",COUNTRY_INFO!C44)","v":"Karagwe District Council"},{"$f":"IF(COUNTRY_INFO!$T$9:$T$1000=\"MDA2 (DEC+ALB)\", COUNTRY_INFO!$T$9:$T$1000, \" \")","v":" "},null,null,null,null,0,null,null,null,0," "," "," "," "]
[{"$f":"IF(COUNTRY_INFO!A45=0,\" \",COUNTRY_INFO!A45)","v":"Tanzania"},{"$f":"IF(COUNTRY_INFO!B45=0,\" \",COUNTRY_INFO!B45)","v":"Kagera"},{"$f":"IF(COUNTRY_INFO!C45=0,\" \",COUNTRY_INFO!C45)","v":"Kyerwa District Council"},{"$f":"IF(COUNTRY_INFO!$T$9:$T$1000=\"MDA2 (DEC+ALB)\", COUNTRY_INFO!$T$9:$T$1000, \" \")","v":" "},null,null,null,null,0,null,null,null,0," "," "," "," "]
[{"$f":"IF(COUNTRY_INFO!A46=0,\" \",COUNTRY_INFO!A46)","v":"Tanzania"},{"$f":"IF(COUNTRY_INFO!B46=0,\" \",COUNTRY_INFO!B46)","v":"Kagera"},{"$f":"IF(COUNTRY_INFO!C46=0,\" \",COUNTRY_INFO!C46)","v":"Missenyi District Council"},{"$f":"IF(COUNTRY_INFO!$T$9:$T$1000=\"MDA2 (DEC+ALB)\", COUNTRY_INFO!$T$9:$T$1000, \" \")","v":" "},null,null,null,null,0,null,null,null,0," "," "," "," "]
[{"$f":"IF(COUNTRY_INFO!A47=0,\" \",COUNTRY_INFO!A47)","v":"Tanzania"},{"$f":"IF(COUNTRY_INFO!B47=0,\" \",COUNTRY_INFO!B47)","v":"Kagera"},{"$f":"IF(COUNTRY_INFO!C47=0,\" \",COUNTRY_INFO!C47)","v":"Muleba District Council"},{"$f":"IF(COUNTRY_INFO!$T$9:$T$1000=\"MDA2 (DEC+ALB)\", COUNTRY_INFO!$T$9:$T$1000, \" \")","v":" "},null,null,null,null,0,null,null,null,0," "," "," "," "]
[{"$f":"IF(COUNTRY_INFO!A48=0,\" \",COUNTRY_INFO!A48)","v":"Tanzania"},{"$f":"IF(COUNTRY_INFO!B48=0,\" \",COUNTRY_INFO!B48)","v":"Kagera"},{"$f":"IF(COUNTRY_INFO!C48=0,\" \",COUNTRY_INFO!C48)","v":"Ngara District Council"},{"$f":"IF(COUNTRY_INFO!$T$9:$T$1000=\"MDA2 (DEC+ALB)\", COUNTRY_INFO!$T$9:$T$1000, \" \")","v":" "},null,null,null,null,0,null,null,null,0," "," "," "," "]
[{"$f":"IF(COUNTRY_INFO!A49=0,\" \",COUNTRY_INFO!A49)","v":"Tanzania"},{"$f":"IF(COUNTRY_INFO!B49=0,\" \",COUNTRY_INFO!B49)","v":"Katavi"},{"$f":"IF(COUNTRY_INFO!C49=0,\" \",COUNTRY_INFO!C49)","v":"Mlele District Council"},{"$f":"IF(COUNTRY_INFO!$T$9:$T$1000=\"MDA2 (DEC+ALB)\", COUNTRY_INFO!$T$9:$T$1000, \" \")","v":" "},null,null,null,null,0,null,null,null,0," "," "," "," "]
[{"$f":"IF(COUNTRY_INFO!A50=0,\" \",COUNTRY_INFO!A50)","v":"Tanzania"},{"$f":"IF(COUNTRY_INFO!B50=0,\" \",COUNTRY_INFO!B50)","v":"Katavi"},{"$f":"IF(COUNTRY_INFO!C50=0,\" \",COUNTRY_INFO!C50)","v":"Mpanda District Council"},{"$f":"IF(COUNTRY_INFO!$T$9:$T$1000=\"MDA2 (DEC+ALB)\", COUNTRY_INFO!$T$9:$T$1000, \" \")","v":" "},null,null,null,null,0,null,null,null,0," "," "," "," "]
[{"$f":"IF(COUNTRY_INFO!A51=0,\" \",COUNTRY_INFO!A51)","v":"Tanzania"},{"$f":"IF(COUNTRY_INFO!B51=0,\" \",COUNTRY_INFO!B51)","v":"Katavi"},{"$f":"IF(COUNTRY_INFO!C51=0,\" \",COUNTRY_INFO!C51)","v":"Mpanda Municipal Council"},{"$f":"IF(COUNTRY_INFO!$T$9:$T$1000=\"MDA2 (DEC+ALB)\", COUNTRY_INFO!$T$9:$T$1000, \" \")","v":" "},null,null,null,null,0,null,null,null,0," "," "," "," "]
[{"$f":"IF(COUNTRY_INFO!A52=0,\" \",COUNTRY_INFO!A52)","v":"Tanzania"},{"$f":"IF(COUNTRY_INFO!B52=0,\" \",COUNTRY_INFO!B52)","v":"Katavi"},{"$f":"IF(COUNTRY_INFO!C52=0,\" \",COUNTRY_INFO!C52)","v":"Mpimbwe District Council"},{"$f":"IF(COUNTRY_INFO!$T$9:$T$1000=\"MDA2 (DEC+ALB)\", COUNTRY_INFO!$T$9:$T$1000, \" \")","v":" "},null,null,null,null,0,null,null,null,0," "," "," "," "]
[{"$f":"IF(COUNTRY_INFO!A53=0,\" \",COUNTRY_INFO!A53)","v":"Tanzania"},{"$f":"IF(COUNTRY_INFO!B53=0,\" \",COUNTRY_INFO!B53)","v":"Katavi"},{"$f":"IF(COUNTRY_INFO!C53=0,\" \",COUNTRY_INFO!C53)","v":"Nsimbo District Council"},{"$f":"IF(COUNTRY_INFO!$T$9:$T$1000=\"MDA2 (DEC+ALB)\", COUNTRY_INFO!$T$9:$T$1000, \" \")","v":" "},null,null,null,null,0,null,null,null,0," "," "," "," "]
[{"$f":"IF(COUNTRY_INFO!A54=0,\" \",COUNTRY_INFO!A54)","v":"Tanzania"},{"$f":"IF(COUNTRY_INFO!B54=0,\" \",COUNTRY_INFO!B54)","v":"Kigoma"},{"$f":"IF(COUNTRY_INFO!C54=0,\" \",COUNTRY_INFO!C54)","v":"Buhigwe District Council"},{"$f":"IF(COUNTRY_INFO!$T$9:$T$1000=\"MDA2 (DEC+ALB)\", COUNTRY_INFO!$T$9:$T$1000, \" \")","v":" "},null,null,null,null,0,null,null,null,0," "," "," "," "]
[{"$f":"IF(COUNTRY_INFO!A55=0,\" \",COUNTRY_INFO!A55)","v":"Tanzania"},{"$f":"IF(COUNTRY_INFO!B55=0,\" \",COUNTRY_INFO!B55)","v":"Kigoma"},{"$f":"IF(COUNTRY_INFO!C55=0,\" \",COUNTRY_INFO!C55)","v":"Kakonko District Council"},{"$f":"IF(COUNTRY_INFO!$T$9:$T$1000=\"MDA2 (DEC+ALB)\", COUNTRY_INFO!$T$9:$T$1000, \" \")","v":" "},null,null,null,null,0,null,null,null,0," "," "," "," "]
[{"$f":"IF(COUNTRY_INFO!A56=0,\" \",COUNTRY_INFO!A56)","v":"Tanzania"},{"$f":"IF(COUNTRY_INFO!B56=0,\" \",COUNTRY_INFO!B56)","v":"Kigoma"},{"$f":"IF(COUNTRY_INFO!C56=0,\" \",COUNTRY_INFO!C56)","v":"Kasulu District Council"},{"$f":"IF(COUNTRY_INFO!$T$9:$T$1000=\"MDA2 (DEC+ALB)\", COUNTRY_INFO!$T$9:$T$1000, \" \")","v":" "},null,null,null,null,0,null,null,null,0," "," "," "," "]
[{"$f":"IF(COUNTRY_INFO!A57=0,\" \",COUNTRY_INFO!A57)","v":"Tanzania"},{"$f":"IF(COUNTRY_INFO!B57=0,\" \",COUNTRY_INFO!B57)","v":"Kigoma"},{"$f":"IF(COUNTRY_INFO!C57=0,\" \",COUNTRY_INFO!C57)","v":"Kasulu Town Council"},{"$f":"IF(COUNTRY_INFO!$T$9:$T$1000=\"MDA2 (DEC+ALB)\", COUNTRY_INFO!$T$9:$T$1000, \" \")","v":" "},null,null,null,null,0,null,null,null,0," "," "," "," "]
[{"$f":"IF(COUNTRY_INFO!A58=0,\" \",COUNTRY_INFO!A58)","v":"Tanzania"},{"$f":"IF(COUNTRY_INFO!B58=0,\" \",COUNTRY_INFO!B58)","v":"Kigoma"},{"$f":"IF(COUNTRY_INFO!C58=0,\" \",COUNTRY_INFO!C58)","v":"Kibondo District Council"},{"$f":"IF(COUNTRY_INFO!$T$9:$T$1000=\"MDA2 (DEC+ALB)\", COUNTRY_INFO!$T$9:$T$1000, \" \")","v":" "},null,null,null,null,0,null,null,null,0," "," "," "," "]
[{"$f":"IF(COUNTRY_INFO!A59=0,\" \",COUNTRY_INFO!A59)","v":"Tanzania"},{"$f":"IF(COUNTRY_INFO!B59=0,\" \",COUNTRY_INFO!B59)","v":"Kigoma"},{"$f":"IF(COUNTRY_INFO!C59=0,\" \",COUNTRY_INFO!C59)","v":"Kigoma District Council"},{"$f":"IF(COUNTRY_INFO!$T$9:$T$1000=\"MDA2 (DEC+ALB)\", COUNTRY_INFO!$T$9:$T$1000, \" \")","v":" "},null,null,null,null,0,null,null,null,0," "," "," "," "]
[{"$f":"IF(COUNTRY_INFO!A60=0,\" \",COUNTRY_INFO!A60)","v":"Tanzania"},{"$f":"IF(COUNTRY_INFO!B60=0,\" \",COUNTRY_INFO!B60)","v":"Kigoma"},{"$f":"IF(COUNTRY_INFO!C60=0,\" \",COUNTRY_INFO!C60)","v":"Kigoma-Ujiji Municipal Council"},{"$f":"IF(COUNTRY_INFO!$T$9:$T$1000=\"MDA2 (DEC+ALB)\", COUNTRY_INFO!$T$9:$T$1000, \" \")","v":" "},null,null,null,null,0,null,null,null,0," "," "," "," "]
[{"$f":"IF(COUNTRY_INFO!A61=0,\" \",COUNTRY_INFO!A61)","v":"Tanzania"},{"$f":"IF(COUNTRY_INFO!B61=0,\" \",COUNTRY_INFO!B61)","v":"Kigoma"},{"$f":"IF(COUNTRY_INFO!C61=0,\" \",COUNTRY_INFO!C61)","v":"Uvinza District Council"},{"$f":"IF(COUNTRY_INFO!$T$9:$T$1000=\"MDA2 (DEC+ALB)\", COUNTRY_INFO!$T$9:$T$1000, \" \")","v":" "},null,null,null,null,0,null,null,null,0," "," "," "," "]
[{"$f":"IF(COUNTRY_INFO!A62=0,\" \",COUNTRY_INFO!A62)","v":"Tanzania"},{"$f":"IF(COUNTRY_INFO!B62=0,\" \",COUNTRY_INFO!B62)","v":"Kilimanjaro"},{"$f":"IF(COUNTRY_INFO!C62=0,\" \",COUNTRY_INFO!C62)","v":"Hai District Council"},{"$f":"IF(COUNTRY_INFO!$T$9:$T$1000=\"MDA2 (DEC+ALB)\", COUNTRY_INFO!$T$9:$T$1000, \" \")","v":" "},null,null,null,null,0,null,null,null,0," "," "," "," "]
[{"$f":"IF(COUNTRY_INFO!A63=0,\" \",COUNTRY_INFO!A63)","v":"Tanzania"},{"$f":"IF(COUNTRY_INFO!B63=0,\" \",COUNTRY_INFO!B63)","v":"Kilimanjaro"},{"$f":"IF(COUNTRY_INFO!C63=0,\" \",COUNTRY_INFO!C63)","v":"Moshi District Council"},{"$f":"IF(COUNTRY_INFO!$T$9:$T$1000=\"MDA2 (DEC+ALB)\", COUNTRY_INFO!$T$9:$T$1000, \" \")","v":" "},null,null,null,null,0,null,null,null,0," "," "," "," "]
[{"$f":"IF(COUNTRY_INFO!A64=0,\" \",COUNTRY_INFO!A64)","v":"Tanzania"},{"$f":"IF(COUNTRY_INFO!B64=0,\" \",COUNTRY_INFO!B64)","v":"Kilimanjaro"},{"$f":"IF(COUNTRY_INFO!C64=0,\" \",COUNTRY_INFO!C64)","v":"Moshi Municipal Council"},{"$f":"IF(COUNTRY_INFO!$T$9:$T$1000=\"MDA2 (DEC+ALB)\", COUNTRY_INFO!$T$9:$T$1000, \" \")","v":" "},null,null,null,null,0,null,null,null,0," "," "," "," "]
[{"$f":"IF(COUNTRY_INFO!A65=0,\" \",COUNTRY_INFO!A65)","v":"Tanzania"},{"$f":"IF(COUNTRY_INFO!B65=0,\" \",COUNTRY_INFO!B65)","v":"Kilimanjaro"},{"$f":"IF(COUNTRY_INFO!C65=0,\" \",COUNTRY_INFO!C65)","v":"Mwanga District Council"},{"$f":"IF(COUNTRY_INFO!$T$9:$T$1000=\"MDA2 (DEC+ALB)\", COUNTRY_INFO!$T$9:$T$1000, \" \")","v":" "},null,null,null,null,0,null,null,null,0," "," "," "," "]
[{"$f":"IF(COUNTRY_INFO!A66=0,\" \",COUNTRY_INFO!A66)","v":"Tanzania"},{"$f":"IF(COUNTRY_INFO!B66=0,\" \",COUNTRY_INFO!B66)","v":"Kilimanjaro"},{"$f":"IF(COUNTRY_INFO!C66=0,\" \",COUNTRY_INFO!C66)","v":"Rombo District Council"},{"$f":"IF(COUNTRY_INFO!$T$9:$T$1000=\"MDA2 (DEC+ALB)\", COUNTRY_INFO!$T$9:$T$1000, \" \")","v":" "},null,null,null,null,0,null,null,null,0," "," "," "," "]
[{"$f":"IF(COUNTRY_INFO!A67=0,\" \",COUNTRY_INFO!A67)","v":"Tanzania"},{"$f":"IF(COUNTRY_INFO!B67=0,\" \",COUNTRY_INFO!B67)","v":"Kilimanjaro"},{"$f":"IF(COUNTRY_INFO!C67=0,\" \",COUNTRY_INFO!C67)","v":"Same District Council"},{"$f":"IF(COUNTRY_INFO!$T$9:$T$1000=\"MDA2 (DEC+ALB)\", COUNTRY_INFO!$T$9:$T$1000, \" \")","v":" "},null,null,null,null,0,null,null,null,0," "," "," "," "]
[{"$f":"IF(COUNTRY_INFO!A68=0,\" \",COUNTRY_INFO!A68)","v":"Tanzania"},{"$f":"IF(COUNTRY_INFO!B68=0,\" \",COUNTRY_INFO!B68)","v":"Kilimanjaro"},{"$f":"IF(COUNTRY_INFO!C68=0,\" \",COUNTRY_INFO!C68)","v":"Siha District Council"},{"$f":"IF(COUNTRY_INFO!$T$9:$T$1000=\"MDA2 (DEC+ALB)\", COUNTRY_INFO!$T$9:$T$1000, \" \")","v":" "},null,null,null,null,0,null,null,null,0," "," "," "," "]
[{"$f":"IF(COUNTRY_INFO!A69=0,\" \",COUNTRY_INFO!A69)","v":"Tanzania"},{"$f":"IF(COUNTRY_INFO!B69=0,\" \",COUNTRY_INFO!B69)","v":"Lindi"},{"$f":"IF(COUNTRY_INFO!C69=0,\" \",COUNTRY_INFO!C69)","v":"Kilwa District Council"},{"$f":"IF(COUNTRY_INFO!$T$9:$T$1000=\"MDA2 (DEC+ALB)\", COUNTRY_INFO!$T$9:$T$1000, \" \")","v":" "},null,null,null,null,0,null,null,null,0," "," "," "," "]
[{"$f":"IF(COUNTRY_INFO!A70=0,\" \",COUNTRY_INFO!A70)","v":"Tanzania"},{"$f":"IF(COUNTRY_INFO!B70=0,\" \",COUNTRY_INFO!B70)","v":"Lindi"},{"$f":"IF(COUNTRY_INFO!C70=0,\" \",COUNTRY_INFO!C70)","v":"Lindi District Council (Mtama District Council)"},{"$f":"IF(COUNTRY_INFO!$T$9:$T$1000=\"MDA2 (DEC+ALB)\", COUNTRY_INFO!$T$9:$T$1000, \" \")","v":" "},null,null,null,null,0,null,null,null,0," "," "," "," "]
[{"$f":"IF(COUNTRY_INFO!A71=0,\" \",COUNTRY_INFO!A71)","v":"Tanzania"},{"$f":"IF(COUNTRY_INFO!B71=0,\" \",COUNTRY_INFO!B71)","v":"Lindi"},{"$f":"IF(COUNTRY_INFO!C71=0,\" \",COUNTRY_INFO!C71)","v":"Lindi Municipal Council"},{"$f":"IF(COUNTRY_INFO!$T$9:$T$1000=\"MDA2 (DEC+ALB)\", COUNTRY_INFO!$T$9:$T$1000, \" \")","v":" "},null,null,null,null,0,null,null,null,0," "," "," "," "]
[{"$f":"IF(COUNTRY_INFO!A72=0,\" \",COUNTRY_INFO!A72)","v":"Tanzania"},{"$f":"IF(COUNTRY_INFO!B72=0,\" \",COUNTRY_INFO!B72)","v":"Lindi"},{"$f":"IF(COUNTRY_INFO!C72=0,\" \",COUNTRY_INFO!C72)","v":"Liwale District Council"},{"$f":"IF(COUNTRY_INFO!$T$9:$T$1000=\"MDA2 (DEC+ALB)\", COUNTRY_INFO!$T$9:$T$1000, \" \")","v":" "},null,null,null,null,0,null,null,null,0," "," "," "," "]
[{"$f":"IF(COUNTRY_INFO!A73=0,\" \",COUNTRY_INFO!A73)","v":"Tanzania"},{"$f":"IF(COUNTRY_INFO!B73=0,\" \",COUNTRY_INFO!B73)","v":"Lindi"},{"$f":"IF(COUNTRY_INFO!C73=0,\" \",COUNTRY_INFO!C73)","v":"Nachingwea District Council"},{"$f":"IF(COUNTRY_INFO!$T$9:$T$1000=\"MDA2 (DEC+ALB)\", COUNTRY_INFO!$T$9:$T$1000, \" \")","v":" "},null,null,null,null,0,null,null,null,0," "," "," "," "]
[{"$f":"IF(COUNTRY_INFO!A74=0,\" \",COUNTRY_INFO!A74)","v":"Tanzania"},{"$f":"IF(COUNTRY_INFO!B74=0,\" \",COUNTRY_INFO!B74)","v":"Lindi"},{"$f":"IF(COUNTRY_INFO!C74=0,\" \",COUNTRY_INFO!C74)","v":"Ruangwa District Council"},{"$f":"IF(COUNTRY_INFO!$T$9:$T$1000=\"MDA2 (DEC+ALB)\", COUNTRY_INFO!$T$9:$T$1000, \" \")","v":" "},null,null,null,null,{"$f":"SUM(F74:H74)","v":0},null,null,null,{"$f":"SUM(J74:L74)","v":0},{"$f":"IF(F74<>0, IF(J74/F74*100=0, \"-\", J74/F74*100), \" \")","v":" "},{"$f":"IF(G74<>0, IF(K74/G74*100=0, \"-\", K74/G74*100), \" \")","v":" "},{"$f":"IF(H74<>0, IF(L74/H74*100=0, \"-\", L74/H74*100), \" \")","v":" "},{"$f":"IF(I74<>0, IF(M74/I74*100=0, \"-\", M74/I74*100), \" \")","v":" "}]
[{"$f":"IF(COUNTRY_INFO!A75=0,\" \",COUNTRY_INFO!A75)","v":"Tanzania"},{"$f":"IF(COUNTRY_INFO!B75=0,\" \",COUNTRY_INFO!B75)","v":"Manyara"},{"$f":"IF(COUNTRY_INFO!C75=0,\" \",COUNTRY_INFO!C75)","v":"Babati District Council"},{"$f":"IF(COUNTRY_INFO!$T$9:$T$1000=\"MDA2 (DEC+ALB)\", COUNTRY_INFO!$T$9:$T$1000, \" \")","v":" "},null,null,null,null,0,null,null,null,0," "," "," "," "]
[{"$f":"IF(COUNTRY_INFO!A76=0,\" \",COUNTRY_INFO!A76)","v":"Tanzania"},{"$f":"IF(COUNTRY_INFO!B76=0,\" \",COUNTRY_INFO!B76)","v":"Manyara"},{"$f":"IF(COUNTRY_INFO!C76=0,\" \",COUNTRY_INFO!C76)","v":"Babati Town Council"},{"$f":"IF(COUNTRY_INFO!$T$9:$T$1000=\"MDA2 (DEC+ALB)\", COUNTRY_INFO!$T$9:$T$1000, \" \")","v":" "},null,null,null,null,0,null,null,null,0," "," "," "," "]
[{"$f":"IF(COUNTRY_INFO!A77=0,\" \",COUNTRY_INFO!A77)","v":"Tanzania"},{"$f":"IF(COUNTRY_INFO!B77=0,\" \",COUNTRY_INFO!B77)","v":"Manyara"},{"$f":"IF(COUNTRY_INFO!C77=0,\" \",COUNTRY_INFO!C77)","v":"Hanang District Council"},{"$f":"IF(COUNTRY_INFO!$T$9:$T$1000=\"MDA2 (DEC+ALB)\", COUNTRY_INFO!$T$9:$T$1000, \" \")","v":" "},null,null,null,null,0,null,null,null,0," "," "," "," "]
[{"$f":"IF(COUNTRY_INFO!A78=0,\" \",COUNTRY_INFO!A78)","v":"Tanzania"},{"$f":"IF(COUNTRY_INFO!B78=0,\" \",COUNTRY_INFO!B78)","v":"Manyara"},{"$f":"IF(COUNTRY_INFO!C78=0,\" \",COUNTRY_INFO!C78)","v":"Kiteto District Council"},{"$f":"IF(COUNTRY_INFO!$T$9:$T$1000=\"MDA2 (DEC+ALB)\", COUNTRY_INFO!$T$9:$T$1000, \" \")","v":" "},null,null,null,null,0,null,null,null,0," "," "," "," "]
[{"$f":"IF(COUNTRY_INFO!A79=0,\" \",COUNTRY_INFO!A79)","v":"Tanzania"},{"$f":"IF(COUNTRY_INFO!B79=0,\" \",COUNTRY_INFO!B79)","v":"Manyara"},{"$f":"IF(COUNTRY_INFO!C79=0,\" \",COUNTRY_INFO!C79)","v":"Mbulu District Council"},{"$f":"IF(COUNTRY_INFO!$T$9:$T$1000=\"MDA2 (DEC+ALB)\", COUNTRY_INFO!$T$9:$T$1000, \" \")","v":" "},null,null,null,null,0,null,null,null,0," "," "," "," "]
[{"$f":"IF(COUNTRY_INFO!A80=0,\" \",COUNTRY_INFO!A80)","v":"Tanzania"},{"$f":"IF(COUNTRY_INFO!B80=0,\" \",COUNTRY_INFO!B80)","v":"Manyara"},{"$f":"IF(COUNTRY_INFO!C80=0,\" \",COUNTRY_INFO!C80)","v":"Mbulu Town Council"},{"$f":"IF(COUNTRY_INFO!$T$9:$T$1000=\"MDA2 (DEC+ALB)\", COUNTRY_INFO!$T$9:$T$1000, \" \")","v":" "},null,null,null,null,0,null,null,null,0," "," "," "," "]
[{"$f":"IF(COUNTRY_INFO!A81=0,\" \",COUNTRY_INFO!A81)","v":"Tanzania"},{"$f":"IF(COUNTRY_INFO!B81=0,\" \",COUNTRY_INFO!B81)","v":"Manyara"},{"$f":"IF(COUNTRY_INFO!C81=0,\" \",COUNTRY_INFO!C81)","v":"Simanjiro District Council"},{"$f":"IF(COUNTRY_INFO!$T$9:$T$1000=\"MDA2 (DEC+ALB)\", COUNTRY_INFO!$T$9:$T$1000, \" \")","v":" "},null,null,null,null,0,null,null,null,0," "," "," "," "]
[{"$f":"IF(COUNTRY_INFO!A82=0,\" \",COUNTRY_INFO!A82)","v":"Tanzania"},{"$f":"IF(COUNTRY_INFO!B82=0,\" \",COUNTRY_INFO!B82)","v":"Mara"},{"$f":"IF(COUNTRY_INFO!C82=0,\" \",COUNTRY_INFO!C82)","v":"Bunda District Council"},{"$f":"IF(COUNTRY_INFO!$T$9:$T$1000=\"MDA2 (DEC+ALB)\", COUNTRY_INFO!$T$9:$T$1000, \" \")","v":" "},null,null,null,null,0,null,null,null,0," "," "," "," "]
[{"$f":"IF(COUNTRY_INFO!A83=0,\" \",COUNTRY_INFO!A83)","v":"Tanzania"},{"$f":"IF(COUNTRY_INFO!B83=0,\" \",COUNTRY_INFO!B83)","v":"Mara"},{"$f":"IF(COUNTRY_INFO!C83=0,\" \",COUNTRY_INFO!C83)","v":"Bunda Town Council"},{"$f":"IF(COUNTRY_INFO!$T$9:$T$1000=\"MDA2 (DEC+ALB)\", COUNTRY_INFO!$T$9:$T$1000, \" \")","v":" "},null,null,null,null,0,null,null,null,0," "," "," "," "]
[{"$f":"IF(COUNTRY_INFO!A84=0,\" \",COUNTRY_INFO!A84)","v":"Tanzania"},{"$f":"IF(COUNTRY_INFO!B84=0,\" \",COUNTRY_INFO!B84)","v":"Mara"},{"$f":"IF(COUNTRY_INFO!C84=0,\" \",COUNTRY_INFO!C84)","v":"Butiama District Council"},{"$f":"IF(COUNTRY_INFO!$T$9:$T$1000=\"MDA2 (DEC+ALB)\", COUNTRY_INFO!$T$9:$T$1000, \" \")","v":" "},null,null,null,null,0,null,null,null,0," "," "," "," "]
[{"$f":"IF(COUNTRY_INFO!A85=0,\" \",COUNTRY_INFO!A85)","v":"Tanzania"},{"$f":"IF(COUNTRY_INFO!B85=0,\" \",COUNTRY_INFO!B85)","v":"Mara"},{"$f":"IF(COUNTRY_INFO!C85=0,\" \",COUNTRY_INFO!C85)","v":"Musoma District Council"},{"$f":"IF(COUNTRY_INFO!$T$9:$T$1000=\"MDA2 (DEC+ALB)\", COUNTRY_INFO!$T$9:$T$1000, \" \")","v":" "},null,null,null,null,0,null,null,null,0," "," "," "," "]
[{"$f":"IF(COUNTRY_INFO!A86=0,\" \",COUNTRY_INFO!A86)","v":"Tanzania"},{"$f":"IF(COUNTRY_INFO!B86=0,\" \",COUNTRY_INFO!B86)","v":"Mara"},{"$f":"IF(COUNTRY_INFO!C86=0,\" \",COUNTRY_INFO!C86)","v":"Musoma Municipal Council"},{"$f":"IF(COUNTRY_INFO!$T$9:$T$1000=\"MDA2 (DEC+ALB)\", COUNTRY_INFO!$T$9:$T$1000, \" \")","v":" "},null,null,null,null,0,null,null,null,0," "," "," "," "]
[{"$f":"IF(COUNTRY_INFO!A87=0,\" \",COUNTRY_INFO!A87)","v":"Tanzania"},{"$f":"IF(COUNTRY_INFO!B87=0,\" \",COUNTRY_INFO!B87)","v":"Mara"},{"$f":"IF(COUNTRY_INFO!C87=0,\" \",COUNTRY_INFO!C87)","v":"Rorya District Council"},{"$f":"IF(COUNTRY_INFO!$T$9:$T$1000=\"MDA2 (DEC+ALB)\", COUNTRY_INFO!$T$9:$T$1000, \" \")","v":" "},null,null,null,null,0,null,null,null,0," "," "," "," "]
[{"$f":"IF(COUNTRY_INFO!A88=0,\" \",COUNTRY_INFO!A88)","v":"Tanzania"},{"$f":"IF(COUNTRY_INFO!B88=0,\" \",COUNTRY_INFO!B88)","v":"Mara"},{"$f":"IF(COUNTRY_INFO!C88=0,\" \",COUNTRY_INFO!C88)","v":"Serengeti District Council"},{"$f":"IF(COUNTRY_INFO!$T$9:$T$1000=\"MDA2 (DEC+ALB)\", COUNTRY_INFO!$T$9:$T$1000, \" \")","v":" "},null,null,null,null,0,null,null,null,0," "," "," "," "]
[{"$f":"IF(COUNTRY_INFO!A89=0,\" \",COUNTRY_INFO!A89)","v":"Tanzania"},{"$f":"IF(COUNTRY_INFO!B89=0,\" \",COUNTRY_INFO!B89)","v":"Mara"},{"$f":"IF(COUNTRY_INFO!C89=0,\" \",COUNTRY_INFO!C89)","v":"Tarime District Council"},{"$f":"IF(COUNTRY_INFO!$T$9:$T$1000=\"MDA2 (DEC+ALB)\", COUNTRY_INFO!$T$9:$T$1000, \" \")","v":" "},null,null,null,null,0,null,null,null,0," "," "," "," "]
[{"$f":"IF(COUNTRY_INFO!A90=0,\" \",COUNTRY_INFO!A90)","v":"Tanzania"},{"$f":"IF(COUNTRY_INFO!B90=0,\" \",COUNTRY_INFO!B90)","v":"Mara"},{"$f":"IF(COUNTRY_INFO!C90=0,\" \",COUNTRY_INFO!C90)","v":"Tarime Town Council"},{"$f":"IF(COUNTRY_INFO!$T$9:$T$1000=\"MDA2 (DEC+ALB)\", COUNTRY_INFO!$T$9:$T$1000, \" \")","v":" "},null,null,null,null,0,null,null,null,0," "," "," "," "]
[{"$f":"IF(COUNTRY_INFO!A91=0,\" \",COUNTRY_INFO!A91)","v":"Tanzania"},{"$f":"IF(COUNTRY_INFO!B91=0,\" \",COUNTRY_INFO!B91)","v":"Mbeya"},{"$f":"IF(COUNTRY_INFO!C91=0,\" \",COUNTRY_INFO!C91)","v":"Busokelo District Council"},{"$f":"IF(COUNTRY_INFO!$T$9:$T$1000=\"MDA2 (DEC+ALB)\", COUNTRY_INFO!$T$9:$T$1000, \" \")","v":" "},null,null,null,null,0,null,null,null,0," "," "," "," "]
[{"$f":"IF(COUNTRY_INFO!A92=0,\" \",COUNTRY_INFO!A92)","v":"Tanzania"},{"$f":"IF(COUNTRY_INFO!B92=0,\" \",COUNTRY_INFO!B92)","v":"Mbeya"},{"$f":"IF(COUNTRY_INFO!C92=0,\" \",COUNTRY_INFO!C92)","v":"Chunya District Council"},{"$f":"IF(COUNTRY_INFO!$T$9:$T$1000=\"MDA2 (DEC+ALB)\", COUNTRY_INFO!$T$9:$T$1000, \" \")","v":" "},null,null,null,null,0,null,null,null,0," "," "," "," "]
[{"$f":"IF(COUNTRY_INFO!A93=0,\" \",COUNTRY_INFO!A93)","v":"Tanzania"},{"$f":"IF(COUNTRY_INFO!B93=0,\" \",COUNTRY_INFO!B93)","v":"Mbeya"},{"$f":"IF(COUNTRY_INFO!C93=0,\" \",COUNTRY_INFO!C93)","v":"Kyela District Council"},{"$f":"IF(COUNTRY_INFO!$T$9:$T$1000=\"MDA2 (DEC+ALB)\", COUNTRY_INFO!$T$9:$T$1000, \" \")","v":" "},null,null,null,null,0,null,null,null,0," "," "," "," "]
[{"$f":"IF(COUNTRY_INFO!A94=0,\" \",COUNTRY_INFO!A94)","v":"Tanzania"},{"$f":"IF(COUNTRY_INFO!B94=0,\" \",COUNTRY_INFO!B94)","v":"Mbeya"},{"$f":"IF(COUNTRY_INFO!C94=0,\" \",COUNTRY_INFO!C94)","v":"Mbarali District Council"},{"$f":"IF(COUNTRY_INFO!$T$9:$T$1000=\"MDA2 (DEC+ALB)\", COUNTRY_INFO!$T$9:$T$1000, \" \")","v":" "},null,null,null,null,0,null,null,null,0," "," "," "," "]
[{"$f":"IF(COUNTRY_INFO!A95=0,\" \",COUNTRY_INFO!A95)","v":"Tanzania"},{"$f":"IF(COUNTRY_INFO!B95=0,\" \",COUNTRY_INFO!B95)","v":"Mbeya"},{"$f":"IF(COUNTRY_INFO!C95=0,\" \",COUNTRY_INFO!C95)","v":"Mbeya City Council"},{"$f":"IF(COUNTRY_INFO!$T$9:$T$1000=\"MDA2 (DEC+ALB)\", COUNTRY_INFO!$T$9:$T$1000, \" \")","v":" "},null,null,null,null,0,null,null,null,0," "," "," "," "]
[{"$f":"IF(COUNTRY_INFO!A96=0,\" \",COUNTRY_INFO!A96)","v":"Tanzania"},{"$f":"IF(COUNTRY_INFO!B96=0,\" \",COUNTRY_INFO!B96)","v":"Mbeya"},{"$f":"IF(COUNTRY_INFO!C96=0,\" \",COUNTRY_INFO!C96)","v":"Mbeya District Council"},{"$f":"IF(COUNTRY_INFO!$T$9:$T$1000=\"MDA2 (DEC+ALB)\", COUNTRY_INFO!$T$9:$T$1000, \" \")","v":" "},null,null,null,null,0,null,null,null,0," "," "," "," "]
[{"$f":"IF(COUNTRY_INFO!A97=0,\" \",COUNTRY_INFO!A97)","v":"Tanzania"},{"$f":"IF(COUNTRY_INFO!B97=0,\" \",COUNTRY_INFO!B97)","v":"Mbeya"},{"$f":"IF(COUNTRY_INFO!C97=0,\" \",COUNTRY_INFO!C97)","v":"Rungwe District Council"},{"$f":"IF(COUNTRY_INFO!$T$9:$T$1000=\"MDA2 (DEC+ALB)\", COUNTRY_INFO!$T$9:$T$1000, \" \")","v":" "},null,null,null,null,0,null,null,null,0," "," "," "," "]
[{"$f":"IF(COUNTRY_INFO!A98=0,\" \",COUNTRY_INFO!A98)","v":"Tanzania"},{"$f":"IF(COUNTRY_INFO!B98=0,\" \",COUNTRY_INFO!B98)","v":"Morogoro"},{"$f":"IF(COUNTRY_INFO!C98=0,\" \",COUNTRY_INFO!C98)","v":"Gairo District Council"},{"$f":"IF(COUNTRY_INFO!$T$9:$T$1000=\"MDA2 (DEC+ALB)\", COUNTRY_INFO!$T$9:$T$1000, \" \")","v":" "},null,null,null,null,0,null,null,null,0," "," "," "," "]
[{"$f":"IF(COUNTRY_INFO!A99=0,\" \",COUNTRY_INFO!A99)","v":"Tanzania"},{"$f":"IF(COUNTRY_INFO!B99=0,\" \",COUNTRY_INFO!B99)","v":"Morogoro"},{"$f":"IF(COUNTRY_INFO!C99=0,\" \",COUNTRY_INFO!C99)","v":"Ifakara Town Council"},{"$f":"IF(COUNTRY_INFO!$T$9:$T$1000=\"MDA2 (DEC+ALB)\", COUNTRY_INFO!$T$9:$T$1000, \" \")","v":" "},null,null,null,null,0,null,null,null,0," "," "," "," "]
[{"$f":"IF(COUNTRY_INFO!A100=0,\" \",COUNTRY_INFO!A100)","v":"Tanzania"},{"$f":"IF(COUNTRY_INFO!B100=0,\" \",COUNTRY_INFO!B100)","v":"Morogoro"},{"$f":"IF(COUNTRY_INFO!C100=0,\" \",COUNTRY_INFO!C100)","v":"Kilombero District Council (Mlimba District Council)"},{"$f":"IF(COUNTRY_INFO!$T$9:$T$1000=\"MDA2 (DEC+ALB)\", COUNTRY_INFO!$T$9:$T$1000, \" \")","v":" "},null,null,null,null,0,null,null,null,0," "," "," "," "]
[{"$f":"IF(COUNTRY_INFO!A101=0,\" \",COUNTRY_INFO!A101)","v":"Tanzania"},{"$f":"IF(COUNTRY_INFO!B101=0,\" \",COUNTRY_INFO!B101)","v":"Morogoro"},{"$f":"IF(COUNTRY_INFO!C101=0,\" \",COUNTRY_INFO!C101)","v":"Kilosa District Council"},{"$f":"IF(COUNTRY_INFO!$T$9:$T$1000=\"MDA2 (DEC+ALB)\", COUNTRY_INFO!$T$9:$T$1000, \" \")","v":" "},null,null,null,null,0,null,null,null,0," "," "," "," "]
[{"$f":"IF(COUNTRY_INFO!A102=0,\" \",COUNTRY_INFO!A102)","v":"Tanzania"},{"$f":"IF(COUNTRY_INFO!B102=0,\" \",COUNTRY_INFO!B102)","v":"Morogoro"},{"$f":"IF(COUNTRY_INFO!C102=0,\" \",COUNTRY_INFO!C102)","v":"Malinyi District Council"},{"$f":"IF(COUNTRY_INFO!$T$9:$T$1000=\"MDA2 (DEC+ALB)\", COUNTRY_INFO!$T$9:$T$1000, \" \")","v":" "},null,null,null,null,0,null,null,null,0," "," "," "," "]
[{"$f":"IF(COUNTRY_INFO!A103=0,\" \",COUNTRY_INFO!A103)","v":"Tanzania"},{"$f":"IF(COUNTRY_INFO!B103=0,\" \",COUNTRY_INFO!B103)","v":"Morogoro"},{"$f":"IF(COUNTRY_INFO!C103=0,\" \",COUNTRY_INFO!C103)","v":"Morogoro District Council"},{"$f":"IF(COUNTRY_INFO!$T$9:$T$1000=\"MDA2 (DEC+ALB)\", COUNTRY_INFO!$T$9:$T$1000, \" \")","v":" "},null,null,null,null,0,null,null,null,0," "," "," "," "]
[{"$f":"IF(COUNTRY_INFO!A104=0,\" \",COUNTRY_INFO!A104)","v":"Tanzania"},{"$f":"IF(COUNTRY_INFO!B104=0,\" \",COUNTRY_INFO!B104)","v":"Morogoro"},{"$f":"IF(COUNTRY_INFO!C104=0,\" \",COUNTRY_INFO!C104)","v":"Morogoro Municipal Council"},{"$f":"IF(COUNTRY_INFO!$T$9:$T$1000=\"MDA2 (DEC+ALB)\", COUNTRY_INFO!$T$9:$T$1000, \" \")","v":" "},null,null,null,null,0,null,null,null,0," "," "," "," "]
[{"$f":"IF(COUNTRY_INFO!A105=0,\" \",COUNTRY_INFO!A105)","v":"Tanzania"},{"$f":"IF(COUNTRY_INFO!B105=0,\" \",COUNTRY_INFO!B105)","v":"Morogoro"},{"$f":"IF(COUNTRY_INFO!C105=0,\" \",COUNTRY_INFO!C105)","v":"Mvomero District Council"},{"$f":"IF(COUNTRY_INFO!$T$9:$T$1000=\"MDA2 (DEC+ALB)\", COUNTRY_INFO!$T$9:$T$1000, \" \")","v":" "},null,null,null,null,0,null,null,null,0," "," "," "," "]
[{"$f":"IF(COUNTRY_INFO!A106=0,\" \",COUNTRY_INFO!A106)","v":"Tanzania"},{"$f":"IF(COUNTRY_INFO!B106=0,\" \",COUNTRY_INFO!B106)","v":"Morogoro"},{"$f":"IF(COUNTRY_INFO!C106=0,\" \",COUNTRY_INFO!C106)","v":"Ulanga District Council"},{"$f":"IF(COUNTRY_INFO!$T$9:$T$1000=\"MDA2 (DEC+ALB)\", COUNTRY_INFO!$T$9:$T$1000, \" \")","v":" "},null,null,null,null,0,null,null,null,0," "," "," "," "]
[{"$f":"IF(COUNTRY_INFO!A107=0,\" \",COUNTRY_INFO!A107)","v":"Tanzania"},{"$f":"IF(COUNTRY_INFO!B107=0,\" \",COUNTRY_INFO!B107)","v":"Mtwara"},{"$f":"IF(COUNTRY_INFO!C107=0,\" \",COUNTRY_INFO!C107)","v":"Masasi District Council"},{"$f":"IF(COUNTRY_INFO!$T$9:$T$1000=\"MDA2 (DEC+ALB)\", COUNTRY_INFO!$T$9:$T$1000, \" \")","v":" "},null,null,null,null,0,null,null,null,0," "," "," "," "]
[{"$f":"IF(COUNTRY_INFO!A108=0,\" \",COUNTRY_INFO!A108)","v":"Tanzania"},{"$f":"IF(COUNTRY_INFO!B108=0,\" \",COUNTRY_INFO!B108)","v":"Mtwara"},{"$f":"IF(COUNTRY_INFO!C108=0,\" \",COUNTRY_INFO!C108)","v":"Masasi Town Council"},{"$f":"IF(COUNTRY_INFO!$T$9:$T$1000=\"MDA2 (DEC+ALB)\", COUNTRY_INFO!$T$9:$T$1000, \" \")","v":" "},null,null,null,null,0,null,null,null,0," "," "," "," "]
[{"$f":"IF(COUNTRY_INFO!A109=0,\" \",COUNTRY_INFO!A109)","v":"Tanzania"},{"$f":"IF(COUNTRY_INFO!B109=0,\" \",COUNTRY_INFO!B109)","v":"Mtwara"},{"$f":"IF(COUNTRY_INFO!C109=0,\" \",COUNTRY_INFO!C109)","v":"Mtwara District Council"},{"$f":"IF(COUNTRY_INFO!$T$9:$T$1000=\"MDA2 (DEC+ALB)\", COUNTRY_INFO!$T$9:$T$1000, \" \")","v":" "},null,null,null,null,0,null,null,null,0," "," "," "," "]
[{"$f":"IF(COUNTRY_INFO!A110=0,\" \",COUNTRY_INFO!A110)","v":"Tanzania"},{"$f":"IF(COUNTRY_INFO!B110=0,\" \",COUNTRY_INFO!B110)","v":"Mtwara"},{"$f":"IF(COUNTRY_INFO!C110=0,\" \",COUNTRY_INFO!C110)","v":"Mtwara-Mikindani Municipal Council"},{"$f":"IF(COUNTRY_INFO!$T$9:$T$1000=\"MDA2 (DEC+ALB)\", COUNTRY_INFO!$T$9:$T$1000, \" \")","v":" "},null,null,null,null,0,null,null,null,0," "," "," "," "]
[{"$f":"IF(COUNTRY_INFO!A111=0,\" \",COUNTRY_INFO!A111)","v":"Tanzania"},{"$f":"IF(COUNTRY_INFO!B111=0,\" \",COUNTRY_INFO!B111)","v":"Mtwara"},{"$f":"IF(COUNTRY_INFO!C111=0,\" \",COUNTRY_INFO!C111)","v":"Nanyamba Town Council"},{"$f":"IF(COUNTRY_INFO!$T$9:$T$1000=\"MDA2 (DEC+ALB)\", COUNTRY_INFO!$T$9:$T$1000, \" \")","v":" "},null,null,null,null,0,null,null,null,0," "," "," "," "]
[{"$f":"IF(COUNTRY_INFO!A112=0,\" \",COUNTRY_INFO!A112)","v":"Tanzania"},{"$f":"IF(COUNTRY_INFO!B112=0,\" \",COUNTRY_INFO!B112)","v":"Mtwara"},{"$f":"IF(COUNTRY_INFO!C112=0,\" \",COUNTRY_INFO!C112)","v":"Nanyumbu District Council"},{"$f":"IF(COUNTRY_INFO!$T$9:$T$1000=\"MDA2 (DEC+ALB)\", COUNTRY_INFO!$T$9:$T$1000, \" \")","v":" "},null,null,null,null,0,null,null,null,0," "," "," "," "]
[{"$f":"IF(COUNTRY_INFO!A113=0,\" \",COUNTRY_INFO!A113)","v":"Tanzania"},{"$f":"IF(COUNTRY_INFO!B113=0,\" \",COUNTRY_INFO!B113)","v":"Mtwara"},{"$f":"IF(COUNTRY_INFO!C113=0,\" \",COUNTRY_INFO!C113)","v":"Newala District Council"},{"$f":"IF(COUNTRY_INFO!$T$9:$T$1000=\"MDA2 (DEC+ALB)\", COUNTRY_INFO!$T$9:$T$1000, \" \")","v":" "},null,null,null,null,0,null,null,null,0," "," "," "," "]
[{"$f":"IF(COUNTRY_INFO!A114=0,\" \",COUNTRY_INFO!A114)","v":"Tanzania"},{"$f":"IF(COUNTRY_INFO!B114=0,\" \",COUNTRY_INFO!B114)","v":"Mtwara"},{"$f":"IF(COUNTRY_INFO!C114=0,\" \",COUNTRY_INFO!C114)","v":"Newala Town Council"},{"$f":"IF(COUNTRY_INFO!$T$9:$T$1000=\"MDA2 (DEC+ALB)\", COUNTRY_INFO!$T$9:$T$1000, \" \")","v":" "},null,null,null,null,0,null,null,null,0," "," "," "," "]
[{"$f":"IF(COUNTRY_INFO!A115=0,\" \",COUNTRY_INFO!A115)","v":"Tanzania"},{"$f":"IF(COUNTRY_INFO!B115=0,\" \",COUNTRY_INFO!B115)","v":"Mtwara"},{"$f":"IF(COUNTRY_INFO!C115=0,\" \",COUNTRY_INFO!C115)","v":"Tandahimba District Council"},{"$f":"IF(COUNTRY_INFO!$T$9:$T$1000=\"MDA2 (DEC+ALB)\", COUNTRY_INFO!$T$9:$T$1000, \" \")","v":" "},null,null,null,null,0,null,null,null,0," "," "," "," "]
[{"$f":"IF(COUNTRY_INFO!A116=0,\" \",COUNTRY_INFO!A116)","v":"Tanzania"},{"$f":"IF(COUNTRY_INFO!B116=0,\" \",COUNTRY_INFO!B116)","v":"Mwanza"},{"$f":"IF(COUNTRY_INFO!C116=0,\" \",COUNTRY_INFO!C116)","v":"Buchosa District Council"},{"$f":"IF(COUNTRY_INFO!$T$9:$T$1000=\"MDA2 (DEC+ALB)\", COUNTRY_INFO!$T$9:$T$1000, \" \")","v":" "},null,null,null,null,0,null,null,null,0," "," "," "," "]
[{"$f":"IF(COUNTRY_INFO!A117=0,\" \",COUNTRY_INFO!A117)","v":"Tanzania"},{"$f":"IF(COUNTRY_INFO!B117=0,\" \",COUNTRY_INFO!B117)","v":"Mwanza"},{"$f":"IF(COUNTRY_INFO!C117=0,\" \",COUNTRY_INFO!C117)","v":"Ilemela Municipal Council"},{"$f":"IF(COUNTRY_INFO!$T$9:$T$1000=\"MDA2 (DEC+ALB)\", COUNTRY_INFO!$T$9:$T$1000, \" \")","v":" "},null,null,null,null,0,null,null,null,0," "," "," "," "]
[{"$f":"IF(COUNTRY_INFO!A118=0,\" \",COUNTRY_INFO!A118)","v":"Tanzania"},{"$f":"IF(COUNTRY_INFO!B118=0,\" \",COUNTRY_INFO!B118)","v":"Mwanza"},{"$f":"IF(COUNTRY_INFO!C118=0,\" \",COUNTRY_INFO!C118)","v":"Kwimba District Council"},{"$f":"IF(COUNTRY_INFO!$T$9:$T$1000=\"MDA2 (DEC+ALB)\", COUNTRY_INFO!$T$9:$T$1000, \" \")","v":" "},null,null,null,null,0,null,null,null,0," "," "," "," "]
[{"$f":"IF(COUNTRY_INFO!A119=0,\" \",COUNTRY_INFO!A119)","v":"Tanzania"},{"$f":"IF(COUNTRY_INFO!B119=0,\" \",COUNTRY_INFO!B119)","v":"Mwanza"},{"$f":"IF(COUNTRY_INFO!C119=0,\" \",COUNTRY_INFO!C119)","v":"Magu District Council"},{"$f":"IF(COUNTRY_INFO!$T$9:$T$1000=\"MDA2 (DEC+ALB)\", COUNTRY_INFO!$T$9:$T$1000, \" \")","v":" "},null,null,null,null,0,null,null,null,0," "," "," "," "]
[{"$f":"IF(COUNTRY_INFO!A120=0,\" \",COUNTRY_INFO!A120)","v":"Tanzania"},{"$f":"IF(COUNTRY_INFO!B120=0,\" \",COUNTRY_INFO!B120)","v":"Mwanza"},{"$f":"IF(COUNTRY_INFO!C120=0,\" \",COUNTRY_INFO!C120)","v":"Misungwi District Council"},{"$f":"IF(COUNTRY_INFO!$T$9:$T$1000=\"MDA2 (DEC+ALB)\", COUNTRY_INFO!$T$9:$T$1000, \" \")","v":" "},null,null,null,null,0,null,null,null,0," "," "," "," "]
[{"$f":"IF(COUNTRY_INFO!A121=0,\" \",COUNTRY_INFO!A121)","v":"Tanzania"},{"$f":"IF(COUNTRY_INFO!B121=0,\" \",COUNTRY_INFO!B121)","v":"Mwanza"},{"$f":"IF(COUNTRY_INFO!C121=0,\" \",COUNTRY_INFO!C121)","v":"Mwanza-Nyamagana City Council"},{"$f":"IF(COUNTRY_INFO!$T$9:$T$1000=\"MDA2 (DEC+ALB)\", COUNTRY_INFO!$T$9:$T$1000, \" \")","v":" "},null,null,null,null,0,null,null,null,0," "," "," "," "]
[{"$f":"IF(COUNTRY_INFO!A122=0,\" \",COUNTRY_INFO!A122)","v":"Tanzania"},{"$f":"IF(COUNTRY_INFO!B122=0,\" \",COUNTRY_INFO!B122)","v":"Mwanza"},{"$f":"IF(COUNTRY_INFO!C122=0,\" \",COUNTRY_INFO!C122)","v":"Sengerema District Council"},{"$f":"IF(COUNTRY_INFO!$T$9:$T$1000=\"MDA2 (DEC+ALB)\", COUNTRY_INFO!$T$9:$T$1000, \" \")","v":" "},null,null,null,null,0,null,null,null,0," "," "," "," "]
[{"$f":"IF(COUNTRY_INFO!A123=0,\" \",COUNTRY_INFO!A123)","v":"Tanzania"},{"$f":"IF(COUNTRY_INFO!B123=0,\" \",COUNTRY_INFO!B123)","v":"Mwanza"},{"$f":"IF(COUNTRY_INFO!C123=0,\" \",COUNTRY_INFO!C123)","v":"Ukerewe District Council"},{"$f":"IF(COUNTRY_INFO!$T$9:$T$1000=\"MDA2 (DEC+ALB)\", COUNTRY_INFO!$T$9:$T$1000, \" \")","v":" "},null,null,null,null,0,null,null,null,0," "," "," "," "]
[{"$f":"IF(COUNTRY_INFO!A124=0,\" \",COUNTRY_INFO!A124)","v":"Tanzania"},{"$f":"IF(COUNTRY_INFO!B124=0,\" \",COUNTRY_INFO!B124)","v":"Njombe"},{"$f":"IF(COUNTRY_INFO!C124=0,\" \",COUNTRY_INFO!C124)","v":"Ludewa District Council"},{"$f":"IF(COUNTRY_INFO!$T$9:$T$1000=\"MDA2 (DEC+ALB)\", COUNTRY_INFO!$T$9:$T$1000, \" \")","v":" "},null,null,null,null,0,null,null,null,0," "," "," "," "]
[{"$f":"IF(COUNTRY_INFO!A125=0,\" \",COUNTRY_INFO!A125)","v":"Tanzania"},{"$f":"IF(COUNTRY_INFO!B125=0,\" \",COUNTRY_INFO!B125)","v":"Njombe"},{"$f":"IF(COUNTRY_INFO!C125=0,\" \",COUNTRY_INFO!C125)","v":"Makambako Town Council"},{"$f":"IF(COUNTRY_INFO!$T$9:$T$1000=\"MDA2 (DEC+ALB)\", COUNTRY_INFO!$T$9:$T$1000, \" \")","v":" "},null,null,null,null,0,null,null,null,0," "," "," "," "]
[{"$f":"IF(COUNTRY_INFO!A126=0,\" \",COUNTRY_INFO!A126)","v":"Tanzania"},{"$f":"IF(COUNTRY_INFO!B126=0,\" \",COUNTRY_INFO!B126)","v":"Njombe"},{"$f":"IF(COUNTRY_INFO!C126=0,\" \",COUNTRY_INFO!C126)","v":"Makete District Council"},{"$f":"IF(COUNTRY_INFO!$T$9:$T$1000=\"MDA2 (DEC+ALB)\", COUNTRY_INFO!$T$9:$T$1000, \" \")","v":" "},null,null,null,null,0,null,null,null,0," "," "," "," "]
[{"$f":"IF(COUNTRY_INFO!A127=0,\" \",COUNTRY_INFO!A127)","v":"Tanzania"},{"$f":"IF(COUNTRY_INFO!B127=0,\" \",COUNTRY_INFO!B127)","v":"Njombe"},{"$f":"IF(COUNTRY_INFO!C127=0,\" \",COUNTRY_INFO!C127)","v":"Njombe District Council"},{"$f":"IF(COUNTRY_INFO!$T$9:$T$1000=\"MDA2 (DEC+ALB)\", COUNTRY_INFO!$T$9:$T$1000, \" \")","v":" "},null,null,null,null,0,null,null,null,0," "," "," "," "]
[{"$f":"IF(COUNTRY_INFO!A128=0,\" \",COUNTRY_INFO!A128)","v":"Tanzania"},{"$f":"IF(COUNTRY_INFO!B128=0,\" \",COUNTRY_INFO!B128)","v":"Njombe"},{"$f":"IF(COUNTRY_INFO!C128=0,\" \",COUNTRY_INFO!C128)","v":"Njombe Town Council"},{"$f":"IF(COUNTRY_INFO!$T$9:$T$1000=\"MDA2 (DEC+ALB)\", COUNTRY_INFO!$T$9:$T$1000, \" \")","v":" "},null,null,null,null,0,null,null,null,0," "," "," "," "]
[{"$f":"IF(COUNTRY_INFO!A129=0,\" \",COUNTRY_INFO!A129)","v":"Tanzania"},{"$f":"IF(COUNTRY_INFO!B129=0,\" \",COUNTRY_INFO!B129)","v":"Njombe"},{"$f":"IF(COUNTRY_INFO!C129=0,\" \",COUNTRY_INFO!C129)","v":"Wanging'ombe District Council"},{"$f":"IF(COUNTRY_INFO!$T$9:$T$1000=\"MDA2 (DEC+ALB)\", COUNTRY_INFO!$T$9:$T$1000, \" \")","v":" "},null,null,null,null,0,null,null,null,0," "," "," "," "]
[{"$f":"IF(COUNTRY_INFO!A130=0,\" \",COUNTRY_INFO!A130)","v":"Tanzania"},{"$f":"IF(COUNTRY_INFO!B130=0,\" \",COUNTRY_INFO!B130)","v":"Pwani"},{"$f":"IF(COUNTRY_INFO!C130=0,\" \",COUNTRY_INFO!C130)","v":"Bagamoyo District Council"},{"$f":"IF(COUNTRY_INFO!$T$9:$T$1000=\"MDA2 (DEC+ALB)\", COUNTRY_INFO!$T$9:$T$1000, \" \")","v":" "},null,null,null,null,0,null,null,null,0," "," "," "," "]
[{"$f":"IF(COUNTRY_INFO!A131=0,\" \",COUNTRY_INFO!A131)","v":"Tanzania"},{"$f":"IF(COUNTRY_INFO!B131=0,\" \",COUNTRY_INFO!B131)","v":"Pwani"},{"$f":"IF(COUNTRY_INFO!C131=0,\" \",COUNTRY_INFO!C131)","v":"Chalinze District Council"},{"$f":"IF(COUNTRY_INFO!$T$9:$T$1000=\"MDA2 (DEC+ALB)\", COUNTRY_INFO!$T$9:$T$1000, \" \")","v":" "},null,null,null,null,0,null,null,null,0," "," "," "," "]
[{"$f":"IF(COUNTRY_INFO!A132=0,\" \",COUNTRY_INFO!A132)","v":"Tanzania"},{"$f":"IF(COUNTRY_INFO!B132=0,\" \",COUNTRY_INFO!B132)","v":"Pwani"},{"$f":"IF(COUNTRY_INFO!C132=0,\" \",COUNTRY_INFO!C132)","v":"Kibaha District Council"},{"$f":"IF(COUNTRY_INFO!$T$9:$T$1000=\"MDA2 (DEC+ALB)\", COUNTRY_INFO!$T$9:$T$1000, \" \")","v":" "},null,null,null,null,0,null,null,null,0," "," "," "," "]
[{"$f":"IF(COUNTRY_INFO!A133=0,\" \",COUNTRY_INFO!A133)","v":"Tanzania"},{"$f":"IF(COUNTRY_INFO!B133=0,\" \",COUNTRY_INFO!B133)","v":"Pwani"},{"$f":"IF(COUNTRY_INFO!C133=0,\" \",COUNTRY_INFO!C133)","v":"Kibaha Town Council"},{"$f":"IF(COUNTRY_INFO!$T$9:$T$1000=\"MDA2 (DEC+ALB)\", COUNTRY_INFO!$T$9:$T$1000, \" \")","v":" "},null,null,null,null,0,null,null,null,0," "," "," "," "]
[{"$f":"IF(COUNTRY_INFO!A134=0,\" \",COUNTRY_INFO!A134)","v":"Tanzania"},{"$f":"IF(COUNTRY_INFO!B134=0,\" \",COUNTRY_INFO!B134)","v":"Pwani"},{"$f":"IF(COUNTRY_INFO!C134=0,\" \",COUNTRY_INFO!C134)","v":"Kibiti District Council"},{"$f":"IF(COUNTRY_INFO!$T$9:$T$1000=\"MDA2 (DEC+ALB)\", COUNTRY_INFO!$T$9:$T$1000, \" \")","v":" "},null,null,null,null,0,null,null,null,0," "," "," "," "]
[{"$f":"IF(COUNTRY_INFO!A135=0,\" \",COUNTRY_INFO!A135)","v":"Tanzania"},{"$f":"IF(COUNTRY_INFO!B135=0,\" \",COUNTRY_INFO!B135)","v":"Pwani"},{"$f":"IF(COUNTRY_INFO!C135=0,\" \",COUNTRY_INFO!C135)","v":"Kisarawe District Council"},{"$f":"IF(COUNTRY_INFO!$T$9:$T$1000=\"MDA2 (DEC+ALB)\", COUNTRY_INFO!$T$9:$T$1000, \" \")","v":" "},null,null,null,null,0,null,null,null,0," "," "," "," "]
[{"$f":"IF(COUNTRY_INFO!A136=0,\" \",COUNTRY_INFO!A136)","v":"Tanzania"},{"$f":"IF(COUNTRY_INFO!B136=0,\" \",COUNTRY_INFO!B136)","v":"Pwani"},{"$f":"IF(COUNTRY_INFO!C136=0,\" \",COUNTRY_INFO!C136)","v":"Mafia District Council"},{"$f":"IF(COUNTRY_INFO!$T$9:$T$1000=\"MDA2 (DEC+ALB)\", COUNTRY_INFO!$T$9:$T$1000, \" \")","v":" "},null,null,null,null,0,null,null,null,0," "," "," "," "]
[{"$f":"IF(COUNTRY_INFO!A137=0,\" \",COUNTRY_INFO!A137)","v":"Tanzania"},{"$f":"IF(COUNTRY_INFO!B137=0,\" \",COUNTRY_INFO!B137)","v":"Pwani"},{"$f":"IF(COUNTRY_INFO!C137=0,\" \",COUNTRY_INFO!C137)","v":"Mkuranga District Council"},{"$f":"IF(COUNTRY_INFO!$T$9:$T$1000=\"MDA2 (DEC+ALB)\", COUNTRY_INFO!$T$9:$T$1000, \" \")","v":" "},null,null,null,null,0,null,null,null,0," "," "," "," "]
[{"$f":"IF(COUNTRY_INFO!A138=0,\" \",COUNTRY_INFO!A138)","v":"Tanzania"},{"$f":"IF(COUNTRY_INFO!B138=0,\" \",COUNTRY_INFO!B138)","v":"Pwani"},{"$f":"IF(COUNTRY_INFO!C138=0,\" \",COUNTRY_INFO!C138)","v":"Rufiji District Council"},{"$f":"IF(COUNTRY_INFO!$T$9:$T$1000=\"MDA2 (DEC+ALB)\", COUNTRY_INFO!$T$9:$T$1000, \" \")","v":" "},null,null,null,null,{"$f":"SUM(F138:H138)","v":0},null,null,null,{"$f":"SUM(J138:L138)","v":0},{"$f":"IF(F138<>0, IF(J138/F138*100=0, \"-\", J138/F138*100), \" \")","v":" "},{"$f":"IF(G138<>0, IF(K138/G138*100=0, \"-\", K138/G138*100), \" \")","v":" "},{"$f":"IF(H138<>0, IF(L138/H138*100=0, \"-\", L138/H138*100), \" \")","v":" "},{"$f":"IF(I138<>0, IF(M138/I138*100=0, \"-\", M138/I138*100), \" \")","v":" "}]
[{"$f":"IF(COUNTRY_INFO!A139=0,\" \",COUNTRY_INFO!A139)","v":"Tanzania"},{"$f":"IF(COUNTRY_INFO!B139=0,\" \",COUNTRY_INFO!B139)","v":"Rukwa"},{"$f":"IF(COUNTRY_INFO!C139=0,\" \",COUNTRY_INFO!C139)","v":"Kalambo District Council"},{"$f":"IF(COUNTRY_INFO!$T$9:$T$1000=\"MDA2 (DEC+ALB)\", COUNTRY_INFO!$T$9:$T$1000, \" \")","v":" "},null,null,null,null,0,null,null,null,0," "," "," "," "]
[{"$f":"IF(COUNTRY_INFO!A140=0,\" \",COUNTRY_INFO!A140)","v":"Tanzania"},{"$f":"IF(COUNTRY_INFO!B140=0,\" \",COUNTRY_INFO!B140)","v":"Rukwa"},{"$f":"IF(COUNTRY_INFO!C140=0,\" \",COUNTRY_INFO!C140)","v":"Nkasi District Council"},{"$f":"IF(COUNTRY_INFO!$T$9:$T$1000=\"MDA2 (DEC+ALB)\", COUNTRY_INFO!$T$9:$T$1000, \" \")","v":" "},null,null,null,null,0,null,null,null,0," "," "," "," "]
[{"$f":"IF(COUNTRY_INFO!A141=0,\" \",COUNTRY_INFO!A141)","v":"Tanzania"},{"$f":"IF(COUNTRY_INFO!B141=0,\" \",COUNTRY_INFO!B141)","v":"Rukwa"},{"$f":"IF(COUNTRY_INFO!C141=0,\" \",COUNTRY_INFO!C141)","v":"Sumbawanga District Council"},{"$f":"IF(COUNTRY_INFO!$T$9:$T$1000=\"MDA2 (DEC+ALB)\", COUNTRY_INFO!$T$9:$T$1000, \" \")","v":" "},null,null,null,null,0,null,null,null,0," "," "," "," "]
[{"$f":"IF(COUNTRY_INFO!A142=0,\" \",COUNTRY_INFO!A142)","v":"Tanzania"},{"$f":"IF(COUNTRY_INFO!B142=0,\" \",COUNTRY_INFO!B142)","v":"Rukwa"},{"$f":"IF(COUNTRY_INFO!C142=0,\" \",COUNTRY_INFO!C142)","v":"Sumbawanga Municipal Council"},{"$f":"IF(COUNTRY_INFO!$T$9:$T$1000=\"MDA2 (DEC+ALB)\", COUNTRY_INFO!$T$9:$T$1000, \" \")","v":" "},null,null,null,null,0,null,null,null,0," "," "," "," "]
[{"$f":"IF(COUNTRY_INFO!A143=0,\" \",COUNTRY_INFO!A143)","v":"Tanzania"},{"$f":"IF(COUNTRY_INFO!B143=0,\" \",COUNTRY_INFO!B143)","v":"Ruvuma"},{"$f":"IF(COUNTRY_INFO!C143=0,\" \",COUNTRY_INFO!C143)","v":"Madaba District Council"},{"$f":"IF(COUNTRY_INFO!$T$9:$T$1000=\"MDA2 (DEC+ALB)\", COUNTRY_INFO!$T$9:$T$1000, \" \")","v":" "},null,null,null,null,0,null,null,null,0," "," "," "," "]
[{"$f":"IF(COUNTRY_INFO!A144=0,\" \",COUNTRY_INFO!A144)","v":"Tanzania"},{"$f":"IF(COUNTRY_INFO!B144=0,\" \",COUNTRY_INFO!B144)","v":"Ruvuma"},{"$f":"IF(COUNTRY_INFO!C144=0,\" \",COUNTRY_INFO!C144)","v":"Mbinga District Council"},{"$f":"IF(COUNTRY_INFO!$T$9:$T$1000=\"MDA2 (DEC+ALB)\", COUNTRY_INFO!$T$9:$T$1000, \" \")","v":" "},null,null,null,null,0,null,null,null,0," "," "," "," "]
[{"$f":"IF(COUNTRY_INFO!A145=0,\" \",COUNTRY_INFO!A145)","v":"Tanzania"},{"$f":"IF(COUNTRY_INFO!B145=0,\" \",COUNTRY_INFO!B145)","v":"Ruvuma"},{"$f":"IF(COUNTRY_INFO!C145=0,\" \",COUNTRY_INFO!C145)","v":"Mbinga Town Council"},{"$f":"IF(COUNTRY_INFO!$T$9:$T$1000=\"MDA2 (DEC+ALB)\", COUNTRY_INFO!$T$9:$T$1000, \" \")","v":" "},null,null,null,null,0,null,null,null,0," "," "," "," "]
[{"$f":"IF(COUNTRY_INFO!A146=0,\" \",COUNTRY_INFO!A146)","v":"Tanzania"},{"$f":"IF(COUNTRY_INFO!B146=0,\" \",COUNTRY_INFO!B146)","v":"Ruvuma"},{"$f":"IF(COUNTRY_INFO!C146=0,\" \",COUNTRY_INFO!C146)","v":"Namtumbo District Council"},{"$f":"IF(COUNTRY_INFO!$T$9:$T$1000=\"MDA2 (DEC+ALB)\", COUNTRY_INFO!$T$9:$T$1000, \" \")","v":" "},null,null,null,null,0,null,null,null,0," "," "," "," "]
[{"$f":"IF(COUNTRY_INFO!A147=0,\" \",COUNTRY_INFO!A147)","v":"Tanzania"},{"$f":"IF(COUNTRY_INFO!B147=0,\" \",COUNTRY_INFO!B147)","v":"Ruvuma"},{"$f":"IF(COUNTRY_INFO!C147=0,\" \",COUNTRY_INFO!C147)","v":"Nyasa District Council"},{"$f":"IF(COUNTRY_INFO!$T$9:$T$1000=\"MDA2 (DEC+ALB)\", COUNTRY_INFO!$T$9:$T$1000, \" \")","v":" "},null,null,null,null,0,null,null,null,0," "," "," "," "]
[{"$f":"IF(COUNTRY_INFO!A148=0,\" \",COUNTRY_INFO!A148)","v":"Tanzania"},{"$f":"IF(COUNTRY_INFO!B148=0,\" \",COUNTRY_INFO!B148)","v":"Ruvuma"},{"$f":"IF(COUNTRY_INFO!C148=0,\" \",COUNTRY_INFO!C148)","v":"Songea District Council"},{"$f":"IF(COUNTRY_INFO!$T$9:$T$1000=\"MDA2 (DEC+ALB)\", COUNTRY_INFO!$T$9:$T$1000, \" \")","v":" "},null,null,null,null,0,null,null,null,0," "," "," "," "]
[{"$f":"IF(COUNTRY_INFO!A149=0,\" \",COUNTRY_INFO!A149)","v":"Tanzania"},{"$f":"IF(COUNTRY_INFO!B149=0,\" \",COUNTRY_INFO!B149)","v":"Ruvuma"},{"$f":"IF(COUNTRY_INFO!C149=0,\" \",COUNTRY_INFO!C149)","v":"Songea Municipal Council"},{"$f":"IF(COUNTRY_INFO!$T$9:$T$1000=\"MDA2 (DEC+ALB)\", COUNTRY_INFO!$T$9:$T$1000, \" \")","v":" "},null,null,null,null,0,null,null,null,0," "," "," "," "]
[{"$f":"IF(COUNTRY_INFO!A150=0,\" \",COUNTRY_INFO!A150)","v":"Tanzania"},{"$f":"IF(COUNTRY_INFO!B150=0,\" \",COUNTRY_INFO!B150)","v":"Ruvuma"},{"$f":"IF(COUNTRY_INFO!C150=0,\" \",COUNTRY_INFO!C150)","v":"Tunduru District Council"},{"$f":"IF(COUNTRY_INFO!$T$9:$T$1000=\"MDA2 (DEC+ALB)\", COUNTRY_INFO!$T$9:$T$1000, \" \")","v":" "},null,null,null,null,0,null,null,null,0," "," "," "," "]
[{"$f":"IF(COUNTRY_INFO!A151=0,\" \",COUNTRY_INFO!A151)","v":"Tanzania"},{"$f":"IF(COUNTRY_INFO!B151=0,\" \",COUNTRY_INFO!B151)","v":"Shinyanga"},{"$f":"IF(COUNTRY_INFO!C151=0,\" \",COUNTRY_INFO!C151)","v":"Kahama Town Council"},{"$f":"IF(COUNTRY_INFO!$T$9:$T$1000=\"MDA2 (DEC+ALB)\", COUNTRY_INFO!$T$9:$T$1000, \" \")","v":" "},null,null,null,null,0,null,null,null,0," "," "," "," "]
[{"$f":"IF(COUNTRY_INFO!A152=0,\" \",COUNTRY_INFO!A152)","v":"Tanzania"},{"$f":"IF(COUNTRY_INFO!B152=0,\" \",COUNTRY_INFO!B152)","v":"Shinyanga"},{"$f":"IF(COUNTRY_INFO!C152=0,\" \",COUNTRY_INFO!C152)","v":"Kishapu District Council"},{"$f":"IF(COUNTRY_INFO!$T$9:$T$1000=\"MDA2 (DEC+ALB)\", COUNTRY_INFO!$T$9:$T$1000, \" \")","v":" "},null,null,null,null,0,null,null,null,0," "," "," "," "]
[{"$f":"IF(COUNTRY_INFO!A153=0,\" \",COUNTRY_INFO!A153)","v":"Tanzania"},{"$f":"IF(COUNTRY_INFO!B153=0,\" \",COUNTRY_INFO!B153)","v":"Shinyanga"},{"$f":"IF(COUNTRY_INFO!C153=0,\" \",COUNTRY_INFO!C153)","v":"Msalala District Council"},{"$f":"IF(COUNTRY_INFO!$T$9:$T$1000=\"MDA2 (DEC+ALB)\", COUNTRY_INFO!$T$9:$T$1000, \" \")","v":" "},null,null,null,null,0,null,null,null,0," "," "," "," "]
[{"$f":"IF(COUNTRY_INFO!A154=0,\" \",COUNTRY_INFO!A154)","v":"Tanzania"},{"$f":"IF(COUNTRY_INFO!B154=0,\" \",COUNTRY_INFO!B154)","v":"Shinyanga"},{"$f":"IF(COUNTRY_INFO!C154=0,\" \",COUNTRY_INFO!C154)","v":"Shinyanga District Council"},{"$f":"IF(COUNTRY_INFO!$T$9:$T$1000=\"MDA2 (DEC+ALB)\", COUNTRY_INFO!$T$9:$T$1000, \" \")","v":" "},null,null,null,null,0,null,null,null,0," "," "," "," "]
[{"$f":"IF(COUNTRY_INFO!A155=0,\" \",COUNTRY_INFO!A155)","v":"Tanzania"},{"$f":"IF(COUNTRY_INFO!B155=0,\" \",COUNTRY_INFO!B155)","v":"Shinyanga"},{"$f":"IF(COUNTRY_INFO!C155=0,\" \",COUNTRY_INFO!C155)","v":"Shinyanga Municipal Council"},{"$f":"IF(COUNTRY_INFO!$T$9:$T$1000=\"MDA2 (DEC+ALB)\", COUNTRY_INFO!$T$9:$T$1000, \" \")","v":" "},null,null,null,null,0,null,null,null,0," "," "," "," "]
[{"$f":"IF(COUNTRY_INFO!A156=0,\" \",COUNTRY_INFO!A156)","v":"Tanzania"},{"$f":"IF(COUNTRY_INFO!B156=0,\" \",COUNTRY_INFO!B156)","v":"Shinyanga"},{"$f":"IF(COUNTRY_INFO!C156=0,\" \",COUNTRY_INFO!C156)","v":"Ushetu District Council"},{"$f":"IF(COUNTRY_INFO!$T$9:$T$1000=\"MDA2 (DEC+ALB)\", COUNTRY_INFO!$T$9:$T$1000, \" \")","v":" "},null,null,null,null,0,null,null,null,0," "," "," "," "]
[{"$f":"IF(COUNTRY_INFO!A157=0,\" \",COUNTRY_INFO!A157)","v":"Tanzania"},{"$f":"IF(COUNTRY_INFO!B157=0,\" \",COUNTRY_INFO!B157)","v":"Simiyu"},{"$f":"IF(COUNTRY_INFO!C157=0,\" \",COUNTRY_INFO!C157)","v":"Bariadi District Council"},{"$f":"IF(COUNTRY_INFO!$T$9:$T$1000=\"MDA2 (DEC+ALB)\", COUNTRY_INFO!$T$9:$T$1000, \" \")","v":" "},null,null,null,null,0,null,null,null,0," "," "," "," "]
[{"$f":"IF(COUNTRY_INFO!A158=0,\" \",COUNTRY_INFO!A158)","v":"Tanzania"},{"$f":"IF(COUNTRY_INFO!B158=0,\" \",COUNTRY_INFO!B158)","v":"Simiyu"},{"$f":"IF(COUNTRY_INFO!C158=0,\" \",COUNTRY_INFO!C158)","v":"Bariadi Town Council"},{"$f":"IF(COUNTRY_INFO!$T$9:$T$1000=\"MDA2 (DEC+ALB)\", COUNTRY_INFO!$T$9:$T$1000, \" \")","v":" "},null,null,null,null,0,null,null,null,0," "," "," "," "]
[{"$f":"IF(COUNTRY_INFO!A159=0,\" \",COUNTRY_INFO!A159)","v":"Tanzania"},{"$f":"IF(COUNTRY_INFO!B159=0,\" \",COUNTRY_INFO!B159)","v":"Simiyu"},{"$f":"IF(COUNTRY_INFO!C159=0,\" \",COUNTRY_INFO!C159)","v":"Busega District Council"},{"$f":"IF(COUNTRY_INFO!$T$9:$T$1000=\"MDA2 (DEC+ALB)\", COUNTRY_INFO!$T$9:$T$1000, \" \")","v":" "},null,null,null,null,0,null,null,null,0," "," "," "," "]
[{"$f":"IF(COUNTRY_INFO!A160=0,\" \",COUNTRY_INFO!A160)","v":"Tanzania"},{"$f":"IF(COUNTRY_INFO!B160=0,\" \",COUNTRY_INFO!B160)","v":"Simiyu"},{"$f":"IF(COUNTRY_INFO!C160=0,\" \",COUNTRY_INFO!C160)","v":"Itilima District Council"},{"$f":"IF(COUNTRY_INFO!$T$9:$T$1000=\"MDA2 (DEC+ALB)\", COUNTRY_INFO!$T$9:$T$1000, \" \")","v":" "},null,null,null,null,0,null,null,null,0," "," "," "," "]
[{"$f":"IF(COUNTRY_INFO!A161=0,\" \",COUNTRY_INFO!A161)","v":"Tanzania"},{"$f":"IF(COUNTRY_INFO!B161=0,\" \",COUNTRY_INFO!B161)","v":"Simiyu"},{"$f":"IF(COUNTRY_INFO!C161=0,\" \",COUNTRY_INFO!C161)","v":"Maswa District Council"},{"$f":"IF(COUNTRY_INFO!$T$9:$T$1000=\"MDA2 (DEC+ALB)\", COUNTRY_INFO!$T$9:$T$1000, \" \")","v":" "},null,null,null,null,0,null,null,null,0," "," "," "," "]
[{"$f":"IF(COUNTRY_INFO!A162=0,\" \",COUNTRY_INFO!A162)","v":"Tanzania"},{"$f":"IF(COUNTRY_INFO!B162=0,\" \",COUNTRY_INFO!B162)","v":"Simiyu"},{"$f":"IF(COUNTRY_INFO!C162=0,\" \",COUNTRY_INFO!C162)","v":"Meatu District Council"},{"$f":"IF(COUNTRY_INFO!$T$9:$T$1000=\"MDA2 (DEC+ALB)\", COUNTRY_INFO!$T$9:$T$1000, \" \")","v":" "},null,null,null,null,0,null,null,null,0," "," "," "," "]
[{"$f":"IF(COUNTRY_INFO!A163=0,\" \",COUNTRY_INFO!A163)","v":"Tanzania"},{"$f":"IF(COUNTRY_INFO!B163=0,\" \",COUNTRY_INFO!B163)","v":"Singida"},{"$f":"IF(COUNTRY_INFO!C163=0,\" \",COUNTRY_INFO!C163)","v":"Ikungi District Council"},{"$f":"IF(COUNTRY_INFO!$T$9:$T$1000=\"MDA2 (DEC+ALB)\", COUNTRY_INFO!$T$9:$T$1000, \" \")","v":" "},null,null,null,null,0,null,null,null,0," "," "," "," "]
[{"$f":"IF(COUNTRY_INFO!A164=0,\" \",COUNTRY_INFO!A164)","v":"Tanzania"},{"$f":"IF(COUNTRY_INFO!B164=0,\" \",COUNTRY_INFO!B164)","v":"Singida"},{"$f":"IF(COUNTRY_INFO!C164=0,\" \",COUNTRY_INFO!C164)","v":"Iramba District Council"},{"$f":"IF(COUNTRY_INFO!$T$9:$T$1000=\"MDA2 (DEC+ALB)\", COUNTRY_INFO!$T$9:$T$1000, \" \")","v":" "},null,null,null,null,0,null,null,null,0," "," "," "," "]
[{"$f":"IF(COUNTRY_INFO!A165=0,\" \",COUNTRY_INFO!A165)","v":"Tanzania"},{"$f":"IF(COUNTRY_INFO!B165=0,\" \",COUNTRY_INFO!B165)","v":"Singida"},{"$f":"IF(COUNTRY_INFO!C165=0,\" \",COUNTRY_INFO!C165)","v":"Itigi District Council"},{"$f":"IF(COUNTRY_INFO!$T$9:$T$1000=\"MDA2 (DEC+ALB)\", COUNTRY_INFO!$T$9:$T$1000, \" \")","v":" "},null,null,null,null,0,null,null,null,0," "," "," "," "]
[{"$f":"IF(COUNTRY_INFO!A166=0,\" \",COUNTRY_INFO!A166)","v":"Tanzania"},{"$f":"IF(COUNTRY_INFO!B166=0,\" \",COUNTRY_INFO!B166)","v":"Singida"},{"$f":"IF(COUNTRY_INFO!C166=0,\" \",COUNTRY_INFO!C166)","v":"Manyoni District Council"},{"$f":"IF(COUNTRY_INFO!$T$9:$T$1000=\"MDA2 (DEC+ALB)\", COUNTRY_INFO!$T$9:$T$1000, \" \")","v":" "},null,null,null,null,0,null,null,null,0," "," "," "," "]
[{"$f":"IF(COUNTRY_INFO!A167=0,\" \",COUNTRY_INFO!A167)","v":"Tanzania"},{"$f":"IF(COUNTRY_INFO!B167=0,\" \",COUNTRY_INFO!B167)","v":"Singida"},{"$f":"IF(COUNTRY_INFO!C167=0,\" \",COUNTRY_INFO!C167)","v":"Mkalama District Council"},{"$f":"IF(COUNTRY_INFO!$T$9:$T$1000=\"MDA2 (DEC+ALB)\", COUNTRY_INFO!$T$9:$T$1000, \" \")","v":" "},null,null,null,null,0,null,null,null,0," "," "," "," "]
[{"$f":"IF(COUNTRY_INFO!A168=0,\" \",COUNTRY_INFO!A168)","v":"Tanzania"},{"$f":"IF(COUNTRY_INFO!B168=0,\" \",COUNTRY_INFO!B168)","v":"Singida"},{"$f":"IF(COUNTRY_INFO!C168=0,\" \",COUNTRY_INFO!C168)","v":"Singida District Council"},{"$f":"IF(COUNTRY_INFO!$T$9:$T$1000=\"MDA2 (DEC+ALB)\", COUNTRY_INFO!$T$9:$T$1000, \" \")","v":" "},null,null,null,null,0,null,null,null,0," "," "," "," "]
[{"$f":"IF(COUNTRY_INFO!A169=0,\" \",COUNTRY_INFO!A169)","v":"Tanzania"},{"$f":"IF(COUNTRY_INFO!B169=0,\" \",COUNTRY_INFO!B169)","v":"Singida"},{"$f":"IF(COUNTRY_INFO!C169=0,\" \",COUNTRY_INFO!C169)","v":"Singida Municipal Council"},{"$f":"IF(COUNTRY_INFO!$T$9:$T$1000=\"MDA2 (DEC+ALB)\", COUNTRY_INFO!$T$9:$T$1000, \" \")","v":" "},null,null,null,null,0,null,null,null,0," "," "," "," "]
[{"$f":"IF(COUNTRY_INFO!A170=0,\" \",COUNTRY_INFO!A170)","v":"Tanzania"},{"$f":"IF(COUNTRY_INFO!B170=0,\" \",COUNTRY_INFO!B170)","v":"Songwe"},{"$f":"IF(COUNTRY_INFO!C170=0,\" \",COUNTRY_INFO!C170)","v":"Ileje District Council"},{"$f":"IF(COUNTRY_INFO!$T$9:$T$1000=\"MDA2 (DEC+ALB)\", COUNTRY_INFO!$T$9:$T$1000, \" \")","v":" "},null,null,null,null,0,null,null,null,0," "," "," "," "]
[{"$f":"IF(COUNTRY_INFO!A171=0,\" \",COUNTRY_INFO!A171)","v":"Tanzania"},{"$f":"IF(COUNTRY_INFO!B171=0,\" \",COUNTRY_INFO!B171)","v":"Songwe"},{"$f":"IF(COUNTRY_INFO!C171=0,\" \",COUNTRY_INFO!C171)","v":"Mbozi District Council"},{"$f":"IF(COUNTRY_INFO!$T$9:$T$1000=\"MDA2 (DEC+ALB)\", COUNTRY_INFO!$T$9:$T$1000, \" \")","v":" "},null,null,null,null,0,null,null,null,0," "," "," "," "]
[{"$f":"IF(COUNTRY_INFO!A172=0,\" \",COUNTRY_INFO!A172)","v":"Tanzania"},{"$f":"IF(COUNTRY_INFO!B172=0,\" \",COUNTRY_INFO!B172)","v":"Songwe"},{"$f":"IF(COUNTRY_INFO!C172=0,\" \",COUNTRY_INFO!C172)","v":"Momba District Council"},{"$f":"IF(COUNTRY_INFO!$T$9:$T$1000=\"MDA2 (DEC+ALB)\", COUNTRY_INFO!$T$9:$T$1000, \" \")","v":" "},null,null,null,null,0,null,null,null,0," "," "," "," "]
[{"$f":"IF(COUNTRY_INFO!A173=0,\" \",COUNTRY_INFO!A173)","v":"Tanzania"},{"$f":"IF(COUNTRY_INFO!B173=0,\" \",COUNTRY_INFO!B173)","v":"Songwe"},{"$f":"IF(COUNTRY_INFO!C173=0,\" \",COUNTRY_INFO!C173)","v":"Songwe District Council"},{"$f":"IF(COUNTRY_INFO!$T$9:$T$1000=\"MDA2 (DEC+ALB)\", COUNTRY_INFO!$T$9:$T$1000, \" \")","v":" "},null,null,null,null,0,null,null,null,0," "," "," "," "]
[{"$f":"IF(COUNTRY_INFO!A174=0,\" \",COUNTRY_INFO!A174)","v":"Tanzania"},{"$f":"IF(COUNTRY_INFO!B174=0,\" \",COUNTRY_INFO!B174)","v":"Songwe"},{"$f":"IF(COUNTRY_INFO!C174=0,\" \",COUNTRY_INFO!C174)","v":"Tunduma Town Council"},{"$f":"IF(COUNTRY_INFO!$T$9:$T$1000=\"MDA2 (DEC+ALB)\", COUNTRY_INFO!$T$9:$T$1000, \" \")","v":" "},null,null,null,null,0,null,null,null,0," "," "," "," "]
[{"$f":"IF(COUNTRY_INFO!A175=0,\" \",COUNTRY_INFO!A175)","v":"Tanzania"},{"$f":"IF(COUNTRY_INFO!B175=0,\" \",COUNTRY_INFO!B175)","v":"Tabora"},{"$f":"IF(COUNTRY_INFO!C175=0,\" \",COUNTRY_INFO!C175)","v":"Igunga District Council"},{"$f":"IF(COUNTRY_INFO!$T$9:$T$1000=\"MDA2 (DEC+ALB)\", COUNTRY_INFO!$T$9:$T$1000, \" \")","v":" "},null,null,null,null,0,null,null,null,0," "," "," "," "]
[{"$f":"IF(COUNTRY_INFO!A176=0,\" \",COUNTRY_INFO!A176)","v":"Tanzania"},{"$f":"IF(COUNTRY_INFO!B176=0,\" \",COUNTRY_INFO!B176)","v":"Tabora"},{"$f":"IF(COUNTRY_INFO!C176=0,\" \",COUNTRY_INFO!C176)","v":"Kaliua District Council"},{"$f":"IF(COUNTRY_INFO!$T$9:$T$1000=\"MDA2 (DEC+ALB)\", COUNTRY_INFO!$T$9:$T$1000, \" \")","v":" "},null,null,null,null,0,null,null,null,0," "," "," "," "]
[{"$f":"IF(COUNTRY_INFO!A177=0,\" \",COUNTRY_INFO!A177)","v":"Tanzania"},{"$f":"IF(COUNTRY_INFO!B177=0,\" \",COUNTRY_INFO!B177)","v":"Tabora"},{"$f":"IF(COUNTRY_INFO!C177=0,\" \",COUNTRY_INFO!C177)","v":"Nzega District Council"},{"$f":"IF(COUNTRY_INFO!$T$9:$T$1000=\"MDA2 (DEC+ALB)\", COUNTRY_INFO!$T$9:$T$1000, \" \")","v":" "},null,null,null,null,0,null,null,null,0," "," "," "," "]
[{"$f":"IF(COUNTRY_INFO!A178=0,\" \",COUNTRY_INFO!A178)","v":"Tanzania"},{"$f":"IF(COUNTRY_INFO!B178=0,\" \",COUNTRY_INFO!B178)","v":"Tabora"},{"$f":"IF(COUNTRY_INFO!C178=0,\" \",COUNTRY_INFO!C178)","v":"Nzega Town Council"},{"$f":"IF(COUNTRY_INFO!$T$9:$T$1000=\"MDA2 (DEC+ALB)\", COUNTRY_INFO!$T$9:$T$1000, \" \")","v":" "},null,null,null,null,0,null,null,null,0," "," "," "," "]
[{"$f":"IF(COUNTRY_INFO!A179=0,\" \",COUNTRY_INFO!A179)","v":"Tanzania"},{"$f":"IF(COUNTRY_INFO!B179=0,\" \",COUNTRY_INFO!B179)","v":"Tabora"},{"$f":"IF(COUNTRY_INFO!C179=0,\" \",COUNTRY_INFO!C179)","v":"Sikonge District Council"},{"$f":"IF(COUNTRY_INFO!$T$9:$T$1000=\"MDA2 (DEC+ALB)\", COUNTRY_INFO!$T$9:$T$1000, \" \")","v":" "},null,null,null,null,0,null,null,null,0," "," "," "," "]
[{"$f":"IF(COUNTRY_INFO!A180=0,\" \",COUNTRY_INFO!A180)","v":"Tanzania"},{"$f":"IF(COUNTRY_INFO!B180=0,\" \",COUNTRY_INFO!B180)","v":"Tabora"},{"$f":"IF(COUNTRY_INFO!C180=0,\" \",COUNTRY_INFO!C180)","v":"Tabora Municipal Council"},{"$f":"IF(COUNTRY_INFO!$T$9:$T$1000=\"MDA2 (DEC+ALB)\", COUNTRY_INFO!$T$9:$T$1000, \" \")","v":" "},null,null,null,null,0,null,null,null,0," "," "," "," "]
[{"$f":"IF(COUNTRY_INFO!A181=0,\" \",COUNTRY_INFO!A181)","v":"Tanzania"},{"$f":"IF(COUNTRY_INFO!B181=0,\" \",COUNTRY_INFO!B181)","v":"Tabora"},{"$f":"IF(COUNTRY_INFO!C181=0,\" \",COUNTRY_INFO!C181)","v":"Urambo District Council"},{"$f":"IF(COUNTRY_INFO!$T$9:$T$1000=\"MDA2 (DEC+ALB)\", COUNTRY_INFO!$T$9:$T$1000, \" \")","v":" "},null,null,null,null,0,null,null,null,0," "," "," "," "]
[{"$f":"IF(COUNTRY_INFO!A182=0,\" \",COUNTRY_INFO!A182)","v":"Tanzania"},{"$f":"IF(COUNTRY_INFO!B182=0,\" \",COUNTRY_INFO!B182)","v":"Tabora"},{"$f":"IF(COUNTRY_INFO!C182=0,\" \",COUNTRY_INFO!C182)","v":"Uyui District Council"},{"$f":"IF(COUNTRY_INFO!$T$9:$T$1000=\"MDA2 (DEC+ALB)\", COUNTRY_INFO!$T$9:$T$1000, \" \")","v":" "},null,null,null,null,0,null,null,null,0," "," "," "," "]
[{"$f":"IF(COUNTRY_INFO!A183=0,\" \",COUNTRY_INFO!A183)","v":"Tanzania"},{"$f":"IF(COUNTRY_INFO!B183=0,\" \",COUNTRY_INFO!B183)","v":"Tanga"},{"$f":"IF(COUNTRY_INFO!C183=0,\" \",COUNTRY_INFO!C183)","v":"Bumbuli District Council"},{"$f":"IF(COUNTRY_INFO!$T$9:$T$1000=\"MDA2 (DEC+ALB)\", COUNTRY_INFO!$T$9:$T$1000, \" \")","v":" "},null,null,null,null,0,null,null,null,0," "," "," "," "]
[{"$f":"IF(COUNTRY_INFO!A184=0,\" \",COUNTRY_INFO!A184)","v":"Tanzania"},{"$f":"IF(COUNTRY_INFO!B184=0,\" \",COUNTRY_INFO!B184)","v":"Tanga"},{"$f":"IF(COUNTRY_INFO!C184=0,\" \",COUNTRY_INFO!C184)","v":"Handeni District Council"},{"$f":"IF(COUNTRY_INFO!$T$9:$T$1000=\"MDA2 (DEC+ALB)\", COUNTRY_INFO!$T$9:$T$1000, \" \")","v":" "},null,null,null,null,0,null,null,null,0," "," "," "," "]
[{"$f":"IF(COUNTRY_INFO!A185=0,\" \",COUNTRY_INFO!A185)","v":"Tanzania"},{"$f":"IF(COUNTRY_INFO!B185=0,\" \",COUNTRY_INFO!B185)","v":"Tanga"},{"$f":"IF(COUNTRY_INFO!C185=0,\" \",COUNTRY_INFO!C185)","v":"Handeni Town Council"},{"$f":"IF(COUNTRY_INFO!$T$9:$T$1000=\"MDA2 (DEC+ALB)\", COUNTRY_INFO!$T$9:$T$1000, \" \")","v":" "},null,null,null,null,0,null,null,null,0," "," "," "," "]
[{"$f":"IF(COUNTRY_INFO!A186=0,\" \",COUNTRY_INFO!A186)","v":"Tanzania"},{"$f":"IF(COUNTRY_INFO!B186=0,\" \",COUNTRY_INFO!B186)","v":"Tanga"},{"$f":"IF(COUNTRY_INFO!C186=0,\" \",COUNTRY_INFO!C186)","v":"Kilindi District Council"},{"$f":"IF(COUNTRY_INFO!$T$9:$T$1000=\"MDA2 (DEC+ALB)\", COUNTRY_INFO!$T$9:$T$1000, \" \")","v":" "},null,null,null,null,0,null,null,null,0," "," "," "," "]
[{"$f":"IF(COUNTRY_INFO!A187=0,\" \",COUNTRY_INFO!A187)","v":"Tanzania"},{"$f":"IF(COUNTRY_INFO!B187=0,\" \",COUNTRY_INFO!B187)","v":"Tanga"},{"$f":"IF(COUNTRY_INFO!C187=0,\" \",COUNTRY_INFO!C187)","v":"Korogwe District Council"},{"$f":"IF(COUNTRY_INFO!$T$9:$T$1000=\"MDA2 (DEC+ALB)\", COUNTRY_INFO!$T$9:$T$1000, \" \")","v":" "},null,null,null,null,0,null,null,null,0," "," "," "," "]
[{"$f":"IF(COUNTRY_INFO!A188=0,\" \",COUNTRY_INFO!A188)","v":"Tanzania"},{"$f":"IF(COUNTRY_INFO!B188=0,\" \",COUNTRY_INFO!B188)","v":"Tanga"},{"$f":"IF(COUNTRY_INFO!C188=0,\" \",COUNTRY_INFO!C188)","v":"Korogwe Town Council"},{"$f":"IF(COUNTRY_INFO!$T$9:$T$1000=\"MDA2 (DEC+ALB)\", COUNTRY_INFO!$T$9:$T$1000, \" \")","v":" "},null,null,null,null,0,null,null,null,0," "," "," "," "]
[{"$f":"IF(COUNTRY_INFO!A189=0,\" \",COUNTRY_INFO!A189)","v":"Tanzania"},{"$f":"IF(COUNTRY_INFO!B189=0,\" \",COUNTRY_INFO!B189)","v":"Tanga"},{"$f":"IF(COUNTRY_INFO!C189=0,\" \",COUNTRY_INFO!C189)","v":"Lushoto District Council"},{"$f":"IF(COUNTRY_INFO!$T$9:$T$1000=\"MDA2 (DEC+ALB)\", COUNTRY_INFO!$T$9:$T$1000, \" \")","v":" "},null,null,null,null,0,null,null,null,0," "," "," "," "]
[{"$f":"IF(COUNTRY_INFO!A190=0,\" \",COUNTRY_INFO!A190)","v":"Tanzania"},{"$f":"IF(COUNTRY_INFO!B190=0,\" \",COUNTRY_INFO!B190)","v":"Tanga"},{"$f":"IF(COUNTRY_INFO!C190=0,\" \",COUNTRY_INFO!C190)","v":"Mkinga District Council"},{"$f":"IF(COUNTRY_INFO!$T$9:$T$1000=\"MDA2 (DEC+ALB)\", COUNTRY_INFO!$T$9:$T$1000, \" \")","v":" "},null,null,null,null,0,null,null,null,0," "," "," "," "]
[{"$f":"IF(COUNTRY_INFO!A191=0,\" \",COUNTRY_INFO!A191)","v":"Tanzania"},{"$f":"IF(COUNTRY_INFO!B191=0,\" \",COUNTRY_INFO!B191)","v":"Tanga"},{"$f":"IF(COUNTRY_INFO!C191=0,\" \",COUNTRY_INFO!C191)","v":"Muheza District Council"},{"$f":"IF(COUNTRY_INFO!$T$9:$T$1000=\"MDA2 (DEC+ALB)\", COUNTRY_INFO!$T$9:$T$1000, \" \")","v":" "},null,null,null,null,0,null,null,null,0," "," "," "," "]
[{"$f":"IF(COUNTRY_INFO!A192=0,\" \",COUNTRY_INFO!A192)","v":"Tanzania"},{"$f":"IF(COUNTRY_INFO!B192=0,\" \",COUNTRY_INFO!B192)","v":"Tanga"},{"$f":"IF(COUNTRY_INFO!C192=0,\" \",COUNTRY_INFO!C192)","v":"Pangani District Council"},{"$f":"IF(COUNTRY_INFO!$T$9:$T$1000=\"MDA2 (DEC+ALB)\", COUNTRY_INFO!$T$9:$T$1000, \" \")","v":" "},null,null,null,null,0,null,null,null,0," "," "," "," "]
[{"$f":"IF(COUNTRY_INFO!A193=0,\" \",COUNTRY_INFO!A193)","v":"Tanzania"},{"$f":"IF(COUNTRY_INFO!B193=0,\" \",COUNTRY_INFO!B193)","v":"Tanga"},{"$f":"IF(COUNTRY_INFO!C193=0,\" \",COUNTRY_INFO!C193)","v":"Tanga City Council"},{"$f":"IF(COUNTRY_INFO!$T$9:$T$1000=\"MDA2 (DEC+ALB)\", COUNTRY_INFO!$T$9:$T$1000, \" \")","v":" "},null,null,null,null,0,null,null,null,0," "," "," "," "]

{"sheet":"MDA3","index":4,"n_rows":193,"n_cols":20,"rows_kept":193,"cut":false,"hidden":false,"merged":[[5,5,5,7],[5,17,5,19],[3,0,3,2],[5,0,5,2],[5,3,6,3],[5,4,6,4],[5,8,5,10],[5,11,5,13],[5,14,5,16]]}
["MDA 3 - Ivermectin (IVM) "]
["Administrative structure, population requiring PC by age group, population treated by age group and coverage"]
[]
["TOTAL",null,null,null,null,{"$f":"SUM(F$9:F$1000)","v":473085},1240572.2763157431,1713657.2763157433,345746.48100000009,1464444.5190000001,1810191,0,0,0,345746.48100000009,1464444.5190000001,1810191,{"$f":"IF(F4<>0, IF(O4/F4*100=0, \"-\", O4/F4*100), \" \")","v":73.083374235074047},{"$f":"IF(G4<>0, IF(P4/G4*100=0, \"-\", P4/G4*100), \" \")","v":118.04588470646094},{"$f":"IF(H4<>0, IF(Q4/H4*100=0, \"-\", Q4/H4*100), \" \")","v":105.63319894931374}]
[]
[null,null,null,"PC implemented","Date","Population targeted for MDA 3",null,null,"Population treated - 1st round",null,null,"Population treated - 2nd round",null,null,"Population treated",null,null,"Programme coverage (%)"]
["Country","Province/State","District",null,null,"SAC","Adults","Total","SAC","Adults","Total","SAC","Adults","Total","SAC","Adults","Total","SAC","Adults","Total"]
[]
[{"$f":"IF(COUNTRY_INFO!A9=0,\" \",COUNTRY_INFO!A9)","v":"Tanzania"},{"$f":"IF(COUNTRY_INFO!B9=0,\" \",COUNTRY_INFO!B9)","v":"Arusha"},{"$f":"IF(COUNTRY_INFO!C9=0,\" \",COUNTRY_INFO!C9)","v":"Arusha City Council"},{"$f":"IF(COUNTRY_INFO!$T$9:$T$1000=\"MDA3 (IVM)\", COUNTRY_INFO!$T$9:$T$1000, \" \")","v":" "},null,null,null,{"$f":"SUM(F9:G9)","v":0},null,null,{"$f":"SUM(I9:J9)","v":0},null,null,{"$f":"SUM(L9:M9)","v":0},{"$f":"MAX(I9,L9)","v":0},0,{"$f":"SUM(O9:P9)","v":0},{"$f":"IF(F9<>0, IF(MAX(I9,L9)/F9*100=0, \"-\", MAX(I9,L9)/F9*100), \" \")","v":" "}," ",{"$f":"IF(H9<>0, IF((MAX(I9,L9)+MAX(J9,M9))/H9*100=0, \"-\",(MAX(I9,L9)+MAX(J9,M9))/H9*100), \" \")","v":" "}]
[{"$f":"IF(COUNTRY_INFO!A10=0,\" \",COUNTRY_INFO!A10)","v":"Tanzania"},{"$f":"IF(COUNTRY_INFO!B10=0,\" \",COUNTRY_INFO!B10)","v":"Arusha"},{"$f":"IF(COUNTRY_INFO!C10=0,\" \",COUNTRY_INFO!C10)","v":"Arusha District Council"},{"$f":"IF(COUNTRY_INFO!$T$9:$T$1000=\"MDA3 (IVM)\", COUNTRY_INFO!$T$9:$T$1000, \" \")","v":" "},null,null,null,{"$f":"SUM(F10:G10)","v":0},null,null,{"$f":"SUM(I10:J10)","v":0},null,null,{"$f":"SUM(L10:M10)","v":0},{"$f":"MAX(I10,L10)","v":0},{"$f":"MAX(J10,M10)","v":0},{"$f":"SUM(O10:P10)","v":0},{"$f":"IF(F10<>0, IF(MAX(I10,L10)/F10*100=0, \"-\", MAX(I10,L10)/F10*100), \" \")","v":" "},{"$f":"IF(G10<>0, IF(MAX(J10,M10)/G10*100=0, \"-\", MAX(J10,M10)/G10*100), \" \")","v":" "},{"$f":"IF(H10<>0, IF((MAX(I10,L10)+MAX(J10,M10))/H10*100=0, \"-\",(MAX(I10,L10)+MAX(J10,M10))/H10*100), \" \")","v":" "}]
[{"$f":"IF(COUNTRY_INFO!A11=0,\" \",COUNTRY_INFO!A11)","v":"Tanzania"},{"$f":"IF(COUNTRY_INFO!B11=0,\" \",COUNTRY_INFO!B11)","v":"Arusha"},{"$f":"IF(COUNTRY_INFO!C11=0,\" \",COUNTRY_INFO!C11)","v":"Karatu District Council"},{"$f":"IF(COUNTRY_INFO!$T$9:$T$1000=\"MDA3 (IVM)\", COUNTRY_INFO!$T$9:$T$1000, \" \")","v":" "},null,null,null,0,null,null,0,null,null,0,0,0,0," "," "," "]
[{"$f":"IF(COUNTRY_INFO!A12=0,\" \",COUNTRY_INFO!A12)","v":"Tanzania"},{"$f":"IF(COUNTRY_INFO!B12=0,\" \",COUNTRY_INFO!B12)","v":"Arusha"},{"$f":"IF(COUNTRY_INFO!C12=0,\" \",COUNTRY_INFO!C12)","v":"Longido District Council"},{"$f":"IF(COUNTRY_INFO!$T$9:$T$1000=\"MDA3 (IVM)\", COUNTRY_INFO!$T$9:$T$1000, \" \")","v":" "},null,null,null,0,null,null,0,null,null,0,0,0,0," "," "," "]
[{"$f":"IF(COUNTRY_INFO!A13=0,\" \",COUNTRY_INFO!A13)","v":"Tanzania"},{"$f":"IF(COUNTRY_INFO!B13=0,\" \",COUNTRY_INFO!B13)","v":"Arusha"},{"$f":"IF(COUNTRY_INFO!C13=0,\" \",COUNTRY_INFO!C13)","v":"Meru District Council"},{"$f":"IF(COUNTRY_INFO!$T$9:$T$1000=\"MDA3 (IVM)\", COUNTRY_INFO!$T$9:$T$1000, \" \")","v":" "},null,null,null,0,null,null,0,null,null,0,0,0,0," "," "," "]
[{"$f":"IF(COUNTRY_INFO!A14=0,\" \",COUNTRY_INFO!A14)","v":"Tanzania"},{"$f":"IF(COUNTRY_INFO!B14=0,\" \",COUNTRY_INFO!B14)","v":"Arusha"},{"$f":"IF(COUNTRY_INFO!C14=0,\" \",COUNTRY_INFO!C14)","v":"Monduli District Council"},{"$f":"IF(COUNTRY_INFO!$T$9:$T$1000=\"MDA3 (IVM)\", COUNTRY_INFO!$T$9:$T$1000, \" \")","v":" "},null,null,null,0,null,null,0,null,null,0,0,0,0," "," "," "]
[{"$f":"IF(COUNTRY_INFO!A15=0,\" \",COUNTRY_INFO!A15)","v":"Tanzania"},{"$f":"IF(COUNTRY_INFO!B15=0,\" \",COUNTRY_INFO!B15)","v":"Arusha"},{"$f":"IF(COUNTRY_INFO!C15=0,\" \",COUNTRY_INFO!C15)","v":"Ngorongoro District Council"},{"$f":"IF(COUNTRY_INFO!$T$9:$T$1000=\"MDA3 (IVM)\", COUNTRY_INFO!$T$9:$T$1000, \" \")","v":" "},null,null,null,0,null,null,0,null,null,0,0,0,0," "," "," "]
[{"$f":"IF(COUNTRY_INFO!A16=0,\" \",COUNTRY_INFO!A16)","v":"Tanzania"},{"$f":"IF(COUNTRY_INFO!B16=0,\" \",COUNTRY_INFO!B16)","v":"Dar Es Salaam"},{"$f":"IF(COUNTRY_INFO!C16=0,\" \",COUNTRY_INFO!C16)","v":"Dar es Salaam City Council "},{"$f":"IF(COUNTRY_INFO!$T$9:$T$1000=\"MDA3 (IVM)\", COUNTRY_INFO!$T$9:$T$1000, \" \")","v":" "},null,null,null,0,null,null,0,null,null,0,0,0,0," "," "," "]
[{"$f":"IF(COUNTRY_INFO!A17=0,\" \",COUNTRY_INFO!A17)","v":"Tanzania"},{"$f":"IF(COUNTRY_INFO!B17=0,\" \",COUNTRY_INFO!B17)","v":"Dar Es Salaam"},{"$f":"IF(COUNTRY_INFO!C17=0,\" \",COUNTRY_INFO!C17)","v":"Ilala Municipal Council"},{"$f":"IF(COUNTRY_INFO!$T$9:$T$1000=\"MDA3 (IVM)\", COUNTRY_INFO!$T$9:$T$1000, \" \")","v":" "},null,null,null,0,null,null,0,null,null,0,0,0,0," "," "," "]
[{"$f":"IF(COUNTRY_INFO!A18=0,\" \",COUNTRY_INFO!A18)","v":"Tanzania"},{"$f":"IF(COUNTRY_INFO!B18=0,\" \",COUNTRY_INFO!B18)","v":"Dar Es Salaam"},{"$f":"IF(COUNTRY_INFO!C18=0,\" \",COUNTRY_INFO!C18)","v":"Kigamboni Municipal Council"},{"$f":"IF(COUNTRY_INFO!$T$9:$T$1000=\"MDA3 (IVM)\", COUNTRY_INFO!$T$9:$T$1000, \" \")","v":" "},null,null,null,0,null,null,0,null,null,0,0,0,0," "," "," "]
[{"$f":"IF(COUNTRY_INFO!A19=0,\" \",COUNTRY_INFO!A19)","v":"Tanzania"},{"$f":"IF(COUNTRY_INFO!B19=0,\" \",COUNTRY_INFO!B19)","v":"Dar Es Salaam"},{"$f":"IF(COUNTRY_INFO!C19=0,\" \",COUNTRY_INFO!C19)","v":"Kinondoni Municipal Council"},{"$f":"IF(COUNTRY_INFO!$T$9:$T$1000=\"MDA3 (IVM)\", COUNTRY_INFO!$T$9:$T$1000, \" \")","v":" "},null,null,null,0,null,null,0,null,null,0,0,0,0," "," "," "]
[{"$f":"IF(COUNTRY_INFO!A20=0,\" \",COUNTRY_INFO!A20)","v":"Tanzania"},{"$f":"IF(COUNTRY_INFO!B20=0,\" \",COUNTRY_INFO!B20)","v":"Dar Es Salaam"},{"$f":"IF(COUNTRY_INFO!C20=0,\" \",COUNTRY_INFO!C20)","v":"Temeke Municipal Council"},{"$f":"IF(COUNTRY_INFO!$T$9:$T$1000=\"MDA3 (IVM)\", COUNTRY_INFO!$T$9:$T$1000, \" \")","v":" "},null,null,null,0,null,null,0,null,null,0,0,0,0," "," "," "]
[{"$f":"IF(COUNTRY_INFO!A21=0,\" \",COUNTRY_INFO!A21)","v":"Tanzania"},{"$f":"IF(COUNTRY_INFO!B21=0,\" \",COUNTRY_INFO!B21)","v":"Dar Es Salaam"},{"$f":"IF(COUNTRY_INFO!C21=0,\" \",COUNTRY_INFO!C21)","v":"Ubungo Municipal Council"},{"$f":"IF(COUNTRY_INFO!$T$9:$T$1000=\"MDA3 (IVM)\", COUNTRY_INFO!$T$9:$T$1000, \" \")","v":" "},null,null,null,0,null,null,0,null,null,0,0,0,0," "," "," "]
[{"$f":"IF(COUNTRY_INFO!A22=0,\" \",COUNTRY_INFO!A22)","v":"Tanzania"},{"$f":"IF(COUNTRY_INFO!B22=0,\" \",COUNTRY_INFO!B22)","v":"Dodoma"},{"$f":"IF(COUNTRY_INFO!C22=0,\" \",COUNTRY_INFO!C22)","v":"Bahi District Council"},{"$f":"IF(COUNTRY_INFO!$T$9:$T$1000=\"MDA3 (IVM)\", COUNTRY_INFO!$T$9:$T$1000, \" \")","v":" "},null,null,null,0,null,null,0,null,null,0,0,0,0," "," "," "]
[{"$f":"IF(COUNTRY_INFO!A23=0,\" \",COUNTRY_INFO!A23)","v":"Tanzania"},{"$f":"IF(COUNTRY_INFO!B23=0,\" \",COUNTRY_INFO!B23)","v":"Dodoma"},{"$f":"IF(COUNTRY_INFO!C23=0,\" \",COUNTRY_INFO!C23)","v":"Chamwino District Council"},{"$f":"IF(COUNTRY_INFO!$T$9:$T$1000=\"MDA3 (IVM)\", COUNTRY_INFO!$T$9:$T$1000, \" \")","v":" "},null,null,null,0,null,null,0,null,null,0,0,0,0," "," "," "]
[{"$f":"IF(COUNTRY_INFO!A24=0,\" \",COUNTRY_INFO!A24)","v":"Tanzania"},{"$f":"IF(COUNTRY_INFO!B24=0,\" \",COUNTRY_INFO!B24)","v":"Dodoma"},{"$f":"IF(COUNTRY_INFO!C24=0,\" \",COUNTRY_INFO!C24)","v":"Chemba District Council"},{"$f":"IF(COUNTRY_INFO!$T$9:$T$1000=\"MDA3 (IVM)\", COUNTRY_INFO!$T$9:$T$1000, \" \")","v":" "},null,null,null,0,null,null,0,null,null,0,0,0,0," "," "," "]
[{"$f":"IF(COUNTRY_INFO!A25=0,\" \",COUNTRY_INFO!A25)","v":"Tanzania"},{"$f":"IF(COUNTRY_INFO!B25=0,\" \",COUNTRY_INFO!B25)","v":"Dodoma"},{"$f":"IF(COUNTRY_INFO!C25=0,\" \",COUNTRY_INFO!C25)","v":"Dodoma City Council"},{"$f":"IF(COUNTRY_INFO!$T$9:$T$1000=\"MDA3 (IVM)\", COUNTRY_INFO!$T$9:$T$1000, \" \")","v":" "},null,null,null,0,null,null,0,null,null,0,0,0,0," "," "," "]
[{"$f":"IF(COUNTRY_INFO!A26=0,\" \",COUNTRY_INFO!A26)","v":"Tanzania"},{"$f":"IF(COUNTRY_INFO!B26=0,\" \",COUNTRY_INFO!B26)","v":"Dodoma"},{"$f":"IF(COUNTRY_INFO!C26=0,\" \",COUNTRY_INFO!C26)","v":"Kondoa District Council"},{"$f":"IF(COUNTRY_INFO!$T$9:$T$1000=\"MDA3 (IVM)\", COUNTRY_INFO!$T$9:$T$1000, \" \")","v":" "},null,null,null,0,null,null,0,null,null,0,0,0,0," "," "," "]
[{"$f":"IF(COUNTRY_INFO!A27=0,\" \",COUNTRY_INFO!A27)","v":"Tanzania"},{"$f":"IF(COUNTRY_INFO!B27=0,\" \",COUNTRY_INFO!B27)","v":"Dodoma"},{"$f":"IF(COUNTRY_INFO!C27=0,\" \",COUNTRY_INFO!C27)","v":"Kondoa Town Council "},{"$f":"IF(COUNTRY_INFO!$T$9:$T$1000=\"MDA3 (IVM)\", COUNTRY_INFO!$T$9:$T$1000, \" \")","v":" "},null,null,null,0,null,null,0,null,null,0,0,0,0," "," "," "]
[{"$f":"IF(COUNTRY_INFO!A28=0,\" \",COUNTRY_INFO!A28)","v":"Tanzania"},{"$f":"IF(COUNTRY_INFO!B28=0,\" \",COUNTRY_INFO!B28)","v":"Dodoma"},{"$f":"IF(COUNTRY_INFO!C28=0,\" \",COUNTRY_INFO!C28)","v":"Kongwa District Council"},{"$f":"IF(COUNTRY_INFO!$T$9:$T$1000=\"MDA3 (IVM)\", COUNTRY_INFO!$T$9:$T$1000, \" \")","v":" "},null,null,null,0,null,null,0,null,null,0,0,0,0," "," "," "]
[{"$f":"IF(COUNTRY_INFO!A29=0,\" \",COUNTRY_INFO!A29)","v":"Tanzania"},{"$f":"IF(COUNTRY_INFO!B29=0,\" \",COUNTRY_INFO!B29)","v":"Dodoma"},{"$f":"IF(COUNTRY_INFO!C29=0,\" \",COUNTRY_INFO!C29)","v":"Mpwapwa District Council"},{"$f":"IF(COUNTRY_INFO!$T$9:$T$1000=\"MDA3 (IVM)\", COUNTRY_INFO!$T$9:$T$1000, \" \")","v":" "},null,null,null,0,null,null,0,null,null,0,0,0,0," "," "," "]
[{"$f":"IF(COUNTRY_INFO!A30=0,\" \",COUNTRY_INFO!A30)","v":"Tanzania"},{"$f":"IF(COUNTRY_INFO!B30=0,\" \",COUNTRY_INFO!B30)","v":"Geita"},{"$f":"IF(COUNTRY_INFO!C30=0,\" \",COUNTRY_INFO!C30)","v":"Bukombe District Council"},{"$f":"IF(COUNTRY_INFO!$T$9:$T$1000=\"MDA3 (IVM)\", COUNTRY_INFO!$T$9:$T$1000, \" \")","v":" "},null,null,null,0,null,null,0,null,null,0,0,0,0," "," "," "]
[{"$f":"IF(COUNTRY_INFO!A31=0,\" \",COUNTRY_INFO!A31)","v":"Tanzania"},{"$f":"IF(COUNTRY_INFO!B31=0,\" \",COUNTRY_INFO!B31)","v":"Geita"},{"$f":"IF(COUNTRY_INFO!C31=0,\" \",COUNTRY_INFO!C31)","v":"Chato District Council"},{"$f":"IF(COUNTRY_INFO!$T$9:$T$1000=\"MDA3 (IVM)\", COUNTRY_INFO!$T$9:$T$1000, \" \")","v":" "},null,null,null,0,null,null,0,null,null,0,0,0,0," "," "," "]
[{"$f":"IF(COUNTRY_INFO!A32=0,\" \",COUNTRY_INFO!A32)","v":"Tanzania"},{"$f":"IF(COUNTRY_INFO!B32=0,\" \",COUNTRY_INFO!B32)","v":"Geita"},{"$f":"IF(COUNTRY_INFO!C32=0,\" \",COUNTRY_INFO!C32)","v":"Geita District Council"},{"$f":"IF(COUNTRY_INFO!$T$9:$T$1000=\"MDA3 (IVM)\", COUNTRY_INFO!$T$9:$T$1000, \" \")","v":" "},null,null,null,0,null,null,0,null,null,0,0,0,0," "," "," "]
[{"$f":"IF(COUNTRY_INFO!A33=0,\" \",COUNTRY_INFO!A33)","v":"Tanzania"},{"$f":"IF(COUNTRY_INFO!B33=0,\" \",COUNTRY_INFO!B33)","v":"Geita"},{"$f":"IF(COUNTRY_INFO!C33=0,\" \",COUNTRY_INFO!C33)","v":"Geita Town Council"},{"$f":"IF(COUNTRY_INFO!$T$9:$T$1000=\"MDA3 (IVM)\", COUNTRY_INFO!$T$9:$T$1000, \" \")","v":" "},null,null,null,0,null,null,0,null,null,0,0,0,0," "," "," "]
[{"$f":"IF(COUNTRY_INFO!A34=0,\" \",COUNTRY_INFO!A34)","v":"Tanzania"},{"$f":"IF(COUNTRY_INFO!B34=0,\" \",COUNTRY_INFO!B34)","v":"Geita"},{"$f":"IF(COUNTRY_INFO!C34=0,\" \",COUNTRY_INFO!C34)","v":"Mbogwe District Council"},{"$f":"IF(COUNTRY_INFO!$T$9:$T$1000=\"MDA3 (IVM)\", COUNTRY_INFO!$T$9:$T$1000, \" \")","v":" "},null,null,null,0,null,null,0,null,null,0,0,0,0," "," "," "]
[{"$f":"IF(COUNTRY_INFO!A35=0,\" \",COUNTRY_INFO!A35)","v":"Tanzania"},{"$f":"IF(COUNTRY_INFO!B35=0,\" \",COUNTRY_INFO!B35)","v":"Geita"},{"$f":"IF(COUNTRY_INFO!C35=0,\" \",COUNTRY_INFO!C35)","v":"Nyang'hwale District Council"},{"$f":"IF(COUNTRY_INFO!$T$9:$T$1000=\"MDA3 (IVM)\", COUNTRY_INFO!$T$9:$T$1000, \" \")","v":" "},null,null,null,0,null,null,0,null,null,0,0,0,0," "," "," "]
[{"$f":"IF(COUNTRY_INFO!A36=0,\" \",COUNTRY_INFO!A36)","v":"Tanzania"},{"$f":"IF(COUNTRY_INFO!B36=0,\" \",COUNTRY_INFO!B36)","v":"Iringa"},{"$f":"IF(COUNTRY_INFO!C36=0,\" \",COUNTRY_INFO!C36)","v":"Iringa District Council"},{"$f":"IF(COUNTRY_INFO!$T$9:$T$1000=\"MDA3 (IVM)\", COUNTRY_INFO!$T$9:$T$1000, \" \")","v":" "},null,null,null,0,null,null,0,null,null,0,0,0,0," "," "," "]
[{"$f":"IF(COUNTRY_INFO!A37=0,\" \",COUNTRY_INFO!A37)","v":"Tanzania"},{"$f":"IF(COUNTRY_INFO!B37=0,\" \",COUNTRY_INFO!B37)","v":"Iringa"},{"$f":"IF(COUNTRY_INFO!C37=0,\" \",COUNTRY_INFO!C37)","v":"Iringa Municipal Council"},{"$f":"IF(COUNTRY_INFO!$T$9:$T$1000=\"MDA3 (IVM)\", COUNTRY_INFO!$T$9:$T$1000, \" \")","v":" "},null,null,null,0,null,null,0,null,null,0,0,0,0," "," "," "]
[{"$f":"IF(COUNTRY_INFO!A38=0,\" \",COUNTRY_INFO!A38)","v":"Tanzania"},{"$f":"IF(COUNTRY_INFO!B38=0,\" \",COUNTRY_INFO!B38)","v":"Iringa"},{"$f":"IF(COUNTRY_INFO!C38=0,\" \",COUNTRY_INFO!C38)","v":"Kilolo District Council"},{"$f":"IF(COUNTRY_INFO!$T$9:$T$1000=\"MDA3 (IVM)\", COUNTRY_INFO!$T$9:$T$1000, \" \")","v":" "},null,null,null,0,null,null,0,null,null,0,0,0,0," "," "," "]
[{"$f":"IF(COUNTRY_INFO!A39=0,\" \",COUNTRY_INFO!A39)","v":"Tanzania"},{"$f":"IF(COUNTRY_INFO!B39=0,\" \",COUNTRY_INFO!B39)","v":"Iringa"},{"$f":"IF(COUNTRY_INFO!C39=0,\" \",COUNTRY_INFO!C39)","v":"Mafinga Town Council"},{"$f":"IF(COUNTRY_INFO!$T$9:$T$1000=\"MDA3 (IVM)\", COUNTRY_INFO!$T$9:$T$1000, \" \")","v":" "},null,null,null,0,null,null,0,null,null,0,0,0,0," "," "," "]
[{"$f":"IF(COUNTRY_INFO!A40=0,\" \",COUNTRY_INFO!A40)","v":"Tanzania"},{"$f":"IF(COUNTRY_INFO!B40=0,\" \",COUNTRY_INFO!B40)","v":"Iringa"},{"$f":"IF(COUNTRY_INFO!C40=0,\" \",COUNTRY_INFO!C40)","v":"Mufindi District Council"},{"$f":"IF(COUNTRY_INFO!$T$9:$T$1000=\"MDA3 (IVM)\", COUNTRY_INFO!$T$9:$T$1000, \" \")","v":" "},null,null,null,0,null,null,0,null,null,0,0,0,0," "," "," "]
[{"$f":"IF(COUNTRY_INFO!A41=0,\" \",COUNTRY_INFO!A41)","v":"Tanzania"},{"$f":"IF(COUNTRY_INFO!B41=0,\" \",COUNTRY_INFO!B41)","v":"Kagera"},{"$f":"IF(COUNTRY_INFO!C41=0,\" \",COUNTRY_INFO!C41)","v":"Biharamulo District Council"},{"$f":"IF(COUNTRY_INFO!$T$9:$T$1000=\"MDA3 (IVM)\", COUNTRY_INFO!$T$9:$T$1000, \" \")","v":" "},null,null,null,0,null,null,0,null,null,0,0,0,0," "," "," "]
[{"$f":"IF(COUNTRY_INFO!A42=0,\" \",COUNTRY_INFO!A42)","v":"Tanzania"},{"$f":"IF(COUNTRY_INFO!B42=0,\" \",COUNTRY_INFO!B42)","v":"Kagera"},{"$f":"IF(COUNTRY_INFO!C42=0,\" \",COUNTRY_INFO!C42)","v":"Bukoba District Council"},{"$f":"IF(COUNTRY_INFO!$T$9:$T$1000=\"MDA3 (IVM)\", COUNTRY_INFO!$T$9:$T$1000, \" \")","v":" "},null,null,null,0,null,null,0,null,null,0,0,0,0," "," "," "]
[{"$f":"IF(COUNTRY_INFO!A43=0,\" \",COUNTRY_INFO!A43)","v":"Tanzania"},{"$f":"IF(COUNTRY_INFO!B43=0,\" \",COUNTRY_INFO!B43)","v":"Kagera"},{"$f":"IF(COUNTRY_INFO!C43=0,\" \",COUNTRY_INFO!C43)","v":"Bukoba Municipal Council"},{"$f":"IF(COUNTRY_INFO!$T$9:$T$1000=\"MDA3 (IVM)\", COUNTRY_INFO!$T$9:$T$1000, \" \")","v":" "},null,null,null,0,null,null,0,null,null,0,0,0,0," "," "," "]
[{"$f":"IF(COUNTRY_INFO!A44=0,\" \",COUNTRY_INFO!A44)","v":"Tanzania"},{"$f":"IF(COUNTRY_INFO!B44=0,\" \",COUNTRY_INFO!B44)","v":"Kagera"},{"$f":"IF(COUNTRY_INFO!C44=0,\" \",COUNTRY_INFO!C44)","v":"Karagwe District Council"},{"$f":"IF(COUNTRY_INFO!$T$9:$T$1000=\"MDA3 (IVM)\", COUNTRY_INFO!$T$9:$T$1000, \" \")","v":" "},null,null,null,0,null,null,0,null,null,0,0,0,0," "," "," "]
[{"$f":"IF(COUNTRY_INFO!A45=0,\" \",COUNTRY_INFO!A45)","v":"Tanzania"},{"$f":"IF(COUNTRY_INFO!B45=0,\" \",COUNTRY_INFO!B45)","v":"Kagera"},{"$f":"IF(COUNTRY_INFO!C45=0,\" \",COUNTRY_INFO!C45)","v":"Kyerwa District Council"},{"$f":"IF(COUNTRY_INFO!$T$9:$T$1000=\"MDA3 (IVM)\", COUNTRY_INFO!$T$9:$T$1000, \" \")","v":" "},null,null,null,0,null,null,0,null,null,0,0,0,0," "," "," "]
[{"$f":"IF(COUNTRY_INFO!A46=0,\" \",COUNTRY_INFO!A46)","v":"Tanzania"},{"$f":"IF(COUNTRY_INFO!B46=0,\" \",COUNTRY_INFO!B46)","v":"Kagera"},{"$f":"IF(COUNTRY_INFO!C46=0,\" \",COUNTRY_INFO!C46)","v":"Missenyi District Council"},{"$f":"IF(COUNTRY_INFO!$T$9:$T$1000=\"MDA3 (IVM)\", COUNTRY_INFO!$T$9:$T$1000, \" \")","v":" "},null,null,null,0,null,null,0,null,null,0,0,0,0," "," "," "]
[{"$f":"IF(COUNTRY_INFO!A47=0,\" \",COUNTRY_INFO!A47)","v":"Tanzania"},{"$f":"IF(COUNTRY_INFO!B47=0,\" \",COUNTRY_INFO!B47)","v":"Kagera"},{"$f":"IF(COUNTRY_INFO!C47=0,\" \",COUNTRY_INFO!C47)","v":"Muleba District Council"},{"$f":"IF(COUNTRY_INFO!$T$9:$T$1000=\"MDA3 (IVM)\", COUNTRY_INFO!$T$9:$T$1000, \" \")","v":" "},null,null,null,0,null,null,0,null,null,0,0,0,0," "," "," "]
[{"$f":"IF(COUNTRY_INFO!A48=0,\" \",COUNTRY_INFO!A48)","v":"Tanzania"},{"$f":"IF(COUNTRY_INFO!B48=0,\" \",COUNTRY_INFO!B48)","v":"Kagera"},{"$f":"IF(COUNTRY_INFO!C48=0,\" \",COUNTRY_INFO!C48)","v":"Ngara District Council"},{"$f":"IF(COUNTRY_INFO!$T$9:$T$1000=\"MDA3 (IVM)\", COUNTRY_INFO!$T$9:$T$1000, \" \")","v":" "},null,null,null,0,null,null,0,null,null,0,0,0,0," "," "," "]
[{"$f":"IF(COUNTRY_INFO!A49=0,\" \",COUNTRY_INFO!A49)","v":"Tanzania"},{"$f":"IF(COUNTRY_INFO!B49=0,\" \",COUNTRY_INFO!B49)","v":"Katavi"},{"$f":"IF(COUNTRY_INFO!C49=0,\" \",COUNTRY_INFO!C49)","v":"Mlele District Council"},{"$f":"IF(COUNTRY_INFO!$T$9:$T$1000=\"MDA3 (IVM)\", COUNTRY_INFO!$T$9:$T$1000, \" \")","v":" "},null,null,null,0,null,null,0,null,null,0,0,0,0," "," "," "]
[{"$f":"IF(COUNTRY_INFO!A50=0,\" \",COUNTRY_INFO!A50)","v":"Tanzania"},{"$f":"IF(COUNTRY_INFO!B50=0,\" \",COUNTRY_INFO!B50)","v":"Katavi"},{"$f":"IF(COUNTRY_INFO!C50=0,\" \",COUNTRY_INFO!C50)","v":"Mpanda District Council"},{"$f":"IF(COUNTRY_INFO!$T$9:$T$1000=\"MDA3 (IVM)\", COUNTRY_INFO!$T$9:$T$1000, \" \")","v":" "},null,null,null,0,null,null,0,null,null,0,0,0,0," "," "," "]
[{"$f":"IF(COUNTRY_INFO!A51=0,\" \",COUNTRY_INFO!A51)","v":"Tanzania"},{"$f":"IF(COUNTRY_INFO!B51=0,\" \",COUNTRY_INFO!B51)","v":"Katavi"},{"$f":"IF(COUNTRY_INFO!C51=0,\" \",COUNTRY_INFO!C51)","v":"Mpanda Municipal Council"},{"$f":"IF(COUNTRY_INFO!$T$9:$T$1000=\"MDA3 (IVM)\", COUNTRY_INFO!$T$9:$T$1000, \" \")","v":" "},null,null,null,0,null,null,0,null,null,0,0,0,0," "," "," "]
[{"$f":"IF(COUNTRY_INFO!A52=0,\" \",COUNTRY_INFO!A52)","v":"Tanzania"},{"$f":"IF(COUNTRY_INFO!B52=0,\" \",COUNTRY_INFO!B52)","v":"Katavi"},{"$f":"IF(COUNTRY_INFO!C52=0,\" \",COUNTRY_INFO!C52)","v":"Mpimbwe District Council"},{"$f":"IF(COUNTRY_INFO!$T$9:$T$1000=\"MDA3 (IVM)\", COUNTRY_INFO!$T$9:$T$1000, \" \")","v":" "},null,null,null,0,null,null,0,null,null,0,0,0,0," "," "," "]
[{"$f":"IF(COUNTRY_INFO!A53=0,\" \",COUNTRY_INFO!A53)","v":"Tanzania"},{"$f":"IF(COUNTRY_INFO!B53=0,\" \",COUNTRY_INFO!B53)","v":"Katavi"},{"$f":"IF(COUNTRY_INFO!C53=0,\" \",COUNTRY_INFO!C53)","v":"Nsimbo District Council"},{"$f":"IF(COUNTRY_INFO!$T$9:$T$1000=\"MDA3 (IVM)\", COUNTRY_INFO!$T$9:$T$1000, \" \")","v":" "},null,null,null,0,null,null,0,null,null,0,0,0,0," "," "," "]
[{"$f":"IF(COUNTRY_INFO!A54=0,\" \",COUNTRY_INFO!A54)","v":"Tanzania"},{"$f":"IF(COUNTRY_INFO!B54=0,\" \",COUNTRY_INFO!B54)","v":"Kigoma"},{"$f":"IF(COUNTRY_INFO!C54=0,\" \",COUNTRY_INFO!C54)","v":"Buhigwe District Council"},{"$f":"IF(COUNTRY_INFO!$T$9:$T$1000=\"MDA3 (IVM)\", COUNTRY_INFO!$T$9:$T$1000, \" \")","v":" "},null,null,null,0,null,null,0,null,null,0,0,0,0," "," "," "]
[{"$f":"IF(COUNTRY_INFO!A55=0,\" \",COUNTRY_INFO!A55)","v":"Tanzania"},{"$f":"IF(COUNTRY_INFO!B55=0,\" \",COUNTRY_INFO!B55)","v":"Kigoma"},{"$f":"IF(COUNTRY_INFO!C55=0,\" \",COUNTRY_INFO!C55)","v":"Kakonko District Council"},{"$f":"IF(COUNTRY_INFO!$T$9:$T$1000=\"MDA3 (IVM)\", COUNTRY_INFO!$T$9:$T$1000, \" \")","v":" "},null,null,null,0,null,null,0,null,null,0,0,0,0," "," "," "]
[{"$f":"IF(COUNTRY_INFO!A56=0,\" \",COUNTRY_INFO!A56)","v":"Tanzania"},{"$f":"IF(COUNTRY_INFO!B56=0,\" \",COUNTRY_INFO!B56)","v":"Kigoma"},{"$f":"IF(COUNTRY_INFO!C56=0,\" \",COUNTRY_INFO!C56)","v":"Kasulu District Council"},{"$f":"IF(COUNTRY_INFO!$T$9:$T$1000=\"MDA3 (IVM)\", COUNTRY_INFO!$T$9:$T$1000, \" \")","v":" "},null,null,null,0,null,null,0,null,null,0,0,0,0," "," "," "]
[{"$f":"IF(COUNTRY_INFO!A57=0,\" \",COUNTRY_INFO!A57)","v":"Tanzania"},{"$f":"IF(COUNTRY_INFO!B57=0,\" \",COUNTRY_INFO!B57)","v":"Kigoma"},{"$f":"IF(COUNTRY_INFO!C57=0,\" \",COUNTRY_INFO!C57)","v":"Kasulu Town Council"},{"$f":"IF(COUNTRY_INFO!$T$9:$T$1000=\"MDA3 (IVM)\", COUNTRY_INFO!$T$9:$T$1000, \" \")","v":" "},null,null,null,0,null,null,0,null,null,0,0,0,0," "," "," "]
[{"$f":"IF(COUNTRY_INFO!A58=0,\" \",COUNTRY_INFO!A58)","v":"Tanzania"},{"$f":"IF(COUNTRY_INFO!B58=0,\" \",COUNTRY_INFO!B58)","v":"Kigoma"},{"$f":"IF(COUNTRY_INFO!C58=0,\" \",COUNTRY_INFO!C58)","v":"Kibondo District Council"},{"$f":"IF(COUNTRY_INFO!$T$9:$T$1000=\"MDA3 (IVM)\", COUNTRY_INFO!$T$9:$T$1000, \" \")","v":" "},null,null,null,0,null,null,0,null,null,0,0,0,0," "," "," "]
[{"$f":"IF(COUNTRY_INFO!A59=0,\" \",COUNTRY_INFO!A59)","v":"Tanzania"},{"$f":"IF(COUNTRY_INFO!B59=0,\" \",COUNTRY_INFO!B59)","v":"Kigoma"},{"$f":"IF(COUNTRY_INFO!C59=0,\" \",COUNTRY_INFO!C59)","v":"Kigoma District Council"},{"$f":"IF(COUNTRY_INFO!$T$9:$T$1000=\"MDA3 (IVM)\", COUNTRY_INFO!$T$9:$T$1000, \" \")","v":" "},null,null,null,0,null,null,0,null,null,0,0,0,0," "," "," "]
[{"$f":"IF(COUNTRY_INFO!A60=0,\" \",COUNTRY_INFO!A60)","v":"Tanzania"},{"$f":"IF(COUNTRY_INFO!B60=0,\" \",COUNTRY_INFO!B60)","v":"Kigoma"},{"$f":"IF(COUNTRY_INFO!C60=0,\" \",COUNTRY_INFO!C60)","v":"Kigoma-Ujiji Municipal Council"},{"$f":"IF(COUNTRY_INFO!$T$9:$T$1000=\"MDA3 (IVM)\", COUNTRY_INFO!$T$9:$T$1000, \" \")","v":" "},null,null,null,0,null,null,0,null,null,0,0,0,0," "," "," "]
[{"$f":"IF(COUNTRY_INFO!A61=0,\" \",COUNTRY_INFO!A61)","v":"Tanzania"},{"$f":"IF(COUNTRY_INFO!B61=0,\" \",COUNTRY_INFO!B61)","v":"Kigoma"},{"$f":"IF(COUNTRY_INFO!C61=0,\" \",COUNTRY_INFO!C61)","v":"Uvinza District Council"},{"$f":"IF(COUNTRY_INFO!$T$9:$T$1000=\"MDA3 (IVM)\", COUNTRY_INFO!$T$9:$T$1000, \" \")","v":" "},null,null,null,0,null,null,0,null,null,0,0,0,0," "," "," "]
[{"$f":"IF(COUNTRY_INFO!A62=0,\" \",COUNTRY_INFO!A62)","v":"Tanzania"},{"$f":"IF(COUNTRY_INFO!B62=0,\" \",COUNTRY_INFO!B62)","v":"Kilimanjaro"},{"$f":"IF(COUNTRY_INFO!C62=0,\" \",COUNTRY_INFO!C62)","v":"Hai District Council"},{"$f":"IF(COUNTRY_INFO!$T$9:$T$1000=\"MDA3 (IVM)\", COUNTRY_INFO!$T$9:$T$1000, \" \")","v":" "},null,null,null,0,null,null,0,null,null,0,0,0,0," "," "," "]
[{"$f":"IF(COUNTRY_INFO!A63=0,\" \",COUNTRY_INFO!A63)","v":"Tanzania"},{"$f":"IF(COUNTRY_INFO!B63=0,\" \",COUNTRY_INFO!B63)","v":"Kilimanjaro"},{"$f":"IF(COUNTRY_INFO!C63=0,\" \",COUNTRY_INFO!C63)","v":"Moshi District Council"},{"$f":"IF(COUNTRY_INFO!$T$9:$T$1000=\"MDA3 (IVM)\", COUNTRY_INFO!$T$9:$T$1000, \" \")","v":" "},null,null,null,0,null,null,0,null,null,0,0,0,0," "," "," "]
[{"$f":"IF(COUNTRY_INFO!A64=0,\" \",COUNTRY_INFO!A64)","v":"Tanzania"},{"$f":"IF(COUNTRY_INFO!B64=0,\" \",COUNTRY_INFO!B64)","v":"Kilimanjaro"},{"$f":"IF(COUNTRY_INFO!C64=0,\" \",COUNTRY_INFO!C64)","v":"Moshi Municipal Council"},{"$f":"IF(COUNTRY_INFO!$T$9:$T$1000=\"MDA3 (IVM)\", COUNTRY_INFO!$T$9:$T$1000, \" \")","v":" "},null,null,null,0,null,null,0,null,null,0,0,0,0," "," "," "]
[{"$f":"IF(COUNTRY_INFO!A65=0,\" \",COUNTRY_INFO!A65)","v":"Tanzania"},{"$f":"IF(COUNTRY_INFO!B65=0,\" \",COUNTRY_INFO!B65)","v":"Kilimanjaro"},{"$f":"IF(COUNTRY_INFO!C65=0,\" \",COUNTRY_INFO!C65)","v":"Mwanga District Council"},{"$f":"IF(COUNTRY_INFO!$T$9:$T$1000=\"MDA3 (IVM)\", COUNTRY_INFO!$T$9:$T$1000, \" \")","v":" "},null,null,null,0,null,null,0,null,null,0,0,0,0," "," "," "]
[{"$f":"IF(COUNTRY_INFO!A66=0,\" \",COUNTRY_INFO!A66)","v":"Tanzania"},{"$f":"IF(COUNTRY_INFO!B66=0,\" \",COUNTRY_INFO!B66)","v":"Kilimanjaro"},{"$f":"IF(COUNTRY_INFO!C66=0,\" \",COUNTRY_INFO!C66)","v":"Rombo District Council"},{"$f":"IF(COUNTRY_INFO!$T$9:$T$1000=\"MDA3 (IVM)\", COUNTRY_INFO!$T$9:$T$1000, \" \")","v":" "},null,null,null,0,null,null,0,null,null,0,0,0,0," "," "," "]
[{"$f":"IF(COUNTRY_INFO!A67=0,\" \",COUNTRY_INFO!A67)","v":"Tanzania"},{"$f":"IF(COUNTRY_INFO!B67=0,\" \",COUNTRY_INFO!B67)","v":"Kilimanjaro"},{"$f":"IF(COUNTRY_INFO!C67=0,\" \",COUNTRY_INFO!C67)","v":"Same District Council"},{"$f":"IF(COUNTRY_INFO!$T$9:$T$1000=\"MDA3 (IVM)\", COUNTRY_INFO!$T$9:$T$1000, \" \")","v":" "},null,null,null,0,null,null,0,null,null,0,0,0,0," "," "," "]
[{"$f":"IF(COUNTRY_INFO!A68=0,\" \",COUNTRY_INFO!A68)","v":"Tanzania"},{"$f":"IF(COUNTRY_INFO!B68=0,\" \",COUNTRY_INFO!B68)","v":"Kilimanjaro"},{"$f":"IF(COUNTRY_INFO!C68=0,\" \",COUNTRY_INFO!C68)","v":"Siha District Council"},{"$f":"IF(COUNTRY_INFO!$T$9:$T$1000=\"MDA3 (IVM)\", COUNTRY_INFO!$T$9:$T$1000, \" \")","v":" "},null,null,null,0,null,null,0,null,null,0,0,0,0," "," "," "]
[{"$f":"IF(COUNTRY_INFO!A69=0,\" \",COUNTRY_INFO!A69)","v":"Tanzania"},{"$f":"IF(COUNTRY_INFO!B69=0,\" \",COUNTRY_INFO!B69)","v":"Lindi"},{"$f":"IF(COUNTRY_INFO!C69=0,\" \",COUNTRY_INFO!C69)","v":"Kilwa District Council"},{"$f":"IF(COUNTRY_INFO!$T$9:$T$1000=\"MDA3 (IVM)\", COUNTRY_INFO!$T$9:$T$1000, \" \")","v":" "},null,null,null,0,null,null,0,null,null,0,0,0,0," "," "," "]
[{"$f":"IF(COUNTRY_INFO!A70=0,\" \",COUNTRY_INFO!A70)","v":"Tanzania"},{"$f":"IF(COUNTRY_INFO!B70=0,\" \",COUNTRY_INFO!B70)","v":"Lindi"},{"$f":"IF(COUNTRY_INFO!C70=0,\" \",COUNTRY_INFO!C70)","v":"Lindi District Council (Mtama District Council)"},{"$f":"IF(COUNTRY_INFO!$T$9:$T$1000=\"MDA3 (IVM)\", COUNTRY_INFO!$T$9:$T$1000, \" \")","v":" "},null,null,null,0,null,null,0,null,null,0,0,0,0," "," "," "]
[{"$f":"IF(COUNTRY_INFO!A71=0,\" \",COUNTRY_INFO!A71)","v":"Tanzania"},{"$f":"IF(COUNTRY_INFO!B71=0,\" \",COUNTRY_INFO!B71)","v":"Lindi"},{"$f":"IF(COUNTRY_INFO!C71=0,\" \",COUNTRY_INFO!C71)","v":"Lindi Municipal Council"},{"$f":"IF(COUNTRY_INFO!$T$9:$T$1000=\"MDA3 (IVM)\", COUNTRY_INFO!$T$9:$T$1000, \" \")","v":" "},null,null,null,0,null,null,0,null,null,0,0,0,0," "," "," "]
[{"$f":"IF(COUNTRY_INFO!A72=0,\" \",COUNTRY_INFO!A72)","v":"Tanzania"},{"$f":"IF(COUNTRY_INFO!B72=0,\" \",COUNTRY_INFO!B72)","v":"Lindi"},{"$f":"IF(COUNTRY_INFO!C72=0,\" \",COUNTRY_INFO!C72)","v":"Liwale District Council"},{"$f":"IF(COUNTRY_INFO!$T$9:$T$1000=\"MDA3 (IVM)\", COUNTRY_INFO!$T$9:$T$1000, \" \")","v":" "},null,null,null,0,null,null,0,null,null,0,0,0,0," "," "," "]
[{"$f":"IF(COUNTRY_INFO!A73=0,\" \",COUNTRY_INFO!A73)","v":"Tanzania"},{"$f":"IF(COUNTRY_INFO!B73=0,\" \",COUNTRY_INFO!B73)","v":"Lindi"},{"$f":"IF(COUNTRY_INFO!C73=0,\" \",COUNTRY_INFO!C73)","v":"Nachingwea District Council"},{"$f":"IF(COUNTRY_INFO!$T$9:$T$1000=\"MDA3 (IVM)\", COUNTRY_INFO!$T$9:$T$1000, \" \")","v":" "},null,null,null,0,null,null,0,null,null,0,0,0,0," "," "," "]
[{"$f":"IF(COUNTRY_INFO!A74=0,\" \",COUNTRY_INFO!A74)","v":"Tanzania"},{"$f":"IF(COUNTRY_INFO!B74=0,\" \",COUNTRY_INFO!B74)","v":"Lindi"},{"$f":"IF(COUNTRY_INFO!C74=0,\" \",COUNTRY_INFO!C74)","v":"Ruangwa District Council"},{"$f":"IF(COUNTRY_INFO!$T$9:$T$1000=\"MDA3 (IVM)\", COUNTRY_INFO!$T$9:$T$1000, \" \")","v":" "},null,null,null,{"$f":"SUM(F74:G74)","v":0},null,null,{"$f":"SUM(I74:J74)","v":0},null,null,{"$f":"SUM(L74:M74)","v":0},{"$f":"MAX(I74,L74)","v":0},{"$f":"MAX(J74,M74)","v":0},{"$f":"SUM(O74:P74)","v":0},{"$f":"IF(F74<>0, IF(MAX(I74,L74)/F74*100=0, \"-\", MAX(I74,L74)/F74*100), \" \")","v":" "},{"$f":"IF(G74<>0, IF(MAX(J74,M74)/G74*100=0, \"-\", MAX(J74,M74)/G74*100), \" \")","v":" "},{"$f":"IF(H74<>0, IF((MAX(I74,L74)+MAX(J74,M74))/H74*100=0, \"-\",(MAX(I74,L74)+MAX(J74,M74))/H74*100), \" \")","v":" "}]
[{"$f":"IF(COUNTRY_INFO!A75=0,\" \",COUNTRY_INFO!A75)","v":"Tanzania"},{"$f":"IF(COUNTRY_INFO!B75=0,\" \",COUNTRY_INFO!B75)","v":"Manyara"},{"$f":"IF(COUNTRY_INFO!C75=0,\" \",COUNTRY_INFO!C75)","v":"Babati District Council"},{"$f":"IF(COUNTRY_INFO!$T$9:$T$1000=\"MDA3 (IVM)\", COUNTRY_INFO!$T$9:$T$1000, \" \")","v":" "},null,null,null,0,null,null,0,null,null,0,0,0,0," "," "," "]
[{"$f":"IF(COUNTRY_INFO!A76=0,\" \",COUNTRY_INFO!A76)","v":"Tanzania"},{"$f":"IF(COUNTRY_INFO!B76=0,\" \",COUNTRY_INFO!B76)","v":"Manyara"},{"$f":"IF(COUNTRY_INFO!C76=0,\" \",COUNTRY_INFO!C76)","v":"Babati Town Council"},{"$f":"IF(COUNTRY_INFO!$T$9:$T$1000=\"MDA3 (IVM)\", COUNTRY_INFO!$T$9:$T$1000, \" \")","v":" "},null,null,null,0,null,null,0,null,null,0,0,0,0," "," "," "]
[{"$f":"IF(COUNTRY_INFO!A77=0,\" \",COUNTRY_INFO!A77)","v":"Tanzania"},{"$f":"IF(COUNTRY_INFO!B77=0,\" \",COUNTRY_INFO!B77)","v":"Manyara"},{"$f":"IF(COUNTRY_INFO!C77=0,\" \",COUNTRY_INFO!C77)","v":"Hanang District Council"},{"$f":"IF(COUNTRY_INFO!$T$9:$T$1000=\"MDA3 (IVM)\", COUNTRY_INFO!$T$9:$T$1000, \" \")","v":" "},null,null,null,0,null,null,0,null,null,0,0,0,0," "," "," "]
[{"$f":"IF(COUNTRY_INFO!A78=0,\" \",COUNTRY_INFO!A78)","v":"Tanzania"},{"$f":"IF(COUNTRY_INFO!B78=0,\" \",COUNTRY_INFO!B78)","v":"Manyara"},{"$f":"IF(COUNTRY_INFO!C78=0,\" \",COUNTRY_INFO!C78)","v":"Kiteto District Council"},{"$f":"IF(COUNTRY_INFO!$T$9:$T$1000=\"MDA3 (IVM)\", COUNTRY_INFO!$T$9:$T$1000, \" \")","v":" "},null,null,null,0,null,null,0,null,null,0,0,0,0," "," "," "]
[{"$f":"IF(COUNTRY_INFO!A79=0,\" \",COUNTRY_INFO!A79)","v":"Tanzania"},{"$f":"IF(COUNTRY_INFO!B79=0,\" \",COUNTRY_INFO!B79)","v":"Manyara"},{"$f":"IF(COUNTRY_INFO!C79=0,\" \",COUNTRY_INFO!C79)","v":"Mbulu District Council"},{"$f":"IF(COUNTRY_INFO!$T$9:$T$1000=\"MDA3 (IVM)\", COUNTRY_INFO!$T$9:$T$1000, \" \")","v":" "},null,null,null,0,null,null,0,null,null,0,0,0,0," "," "," "]
[{"$f":"IF(COUNTRY_INFO!A80=0,\" \",COUNTRY_INFO!A80)","v":"Tanzania"},{"$f":"IF(COUNTRY_INFO!B80=0,\" \",COUNTRY_INFO!B80)","v":"Manyara"},{"$f":"IF(COUNTRY_INFO!C80=0,\" \",COUNTRY_INFO!C80)","v":"Mbulu Town Council"},{"$f":"IF(COUNTRY_INFO!$T$9:$T$1000=\"MDA3 (IVM)\", COUNTRY_INFO!$T$9:$T$1000, \" \")","v":" "},null,null,null,0,null,null,0,null,null,0,0,0,0," "," "," "]
[{"$f":"IF(COUNTRY_INFO!A81=0,\" \",COUNTRY_INFO!A81)","v":"Tanzania"},{"$f":"IF(COUNTRY_INFO!B81=0,\" \",COUNTRY_INFO!B81)","v":"Manyara"},{"$f":"IF(COUNTRY_INFO!C81=0,\" \",COUNTRY_INFO!C81)","v":"Simanjiro District Council"},{"$f":"IF(COUNTRY_INFO!$T$9:$T$1000=\"MDA3 (IVM)\", COUNTRY_INFO!$T$9:$T$1000, \" \")","v":" "},null,null,null,0,null,null,0,null,null,0,0,0,0," "," "," "]
[{"$f":"IF(COUNTRY_INFO!A82=0,\" \",COUNTRY_INFO!A82)","v":"Tanzania"},{"$f":"IF(COUNTRY_INFO!B82=0,\" \",COUNTRY_INFO!B82)","v":"Mara"},{"$f":"IF(COUNTRY_INFO!C82=0,\" \",COUNTRY_INFO!C82)","v":"Bunda District Council"},{"$f":"IF(COUNTRY_INFO!$T$9:$T$1000=\"MDA3 (IVM)\", COUNTRY_INFO!$T$9:$T$1000, \" \")","v":" "},null,null,null,0,null,null,0,null,null,0,0,0,0," "," "," "]
[{"$f":"IF(COUNTRY_INFO!A83=0,\" \",COUNTRY_INFO!A83)","v":"Tanzania"},{"$f":"IF(COUNTRY_INFO!B83=0,\" \",COUNTRY_INFO!B83)","v":"Mara"},{"$f":"IF(COUNTRY_INFO!C83=0,\" \",COUNTRY_INFO!C83)","v":"Bunda Town Council"},{"$f":"IF(COUNTRY_INFO!$T$9:$T$1000=\"MDA3 (IVM)\", COUNTRY_INFO!$T$9:$T$1000, \" \")","v":" "},null,null,null,0,null,null,0,null,null,0,0,0,0," "," "," "]
[{"$f":"IF(COUNTRY_INFO!A84=0,\" \",COUNTRY_INFO!A84)","v":"Tanzania"},{"$f":"IF(COUNTRY_INFO!B84=0,\" \",COUNTRY_INFO!B84)","v":"Mara"},{"$f":"IF(COUNTRY_INFO!C84=0,\" \",COUNTRY_INFO!C84)","v":"Butiama District Council"},{"$f":"IF(COUNTRY_INFO!$T$9:$T$1000=\"MDA3 (IVM)\", COUNTRY_INFO!$T$9:$T$1000, \" \")","v":" "},null,null,null,0,null,null,0,null,null,0,0,0,0," "," "," "]
[{"$f":"IF(COUNTRY_INFO!A85=0,\" \",COUNTRY_INFO!A85)","v":"Tanzania"},{"$f":"IF(COUNTRY_INFO!B85=0,\" \",COUNTRY_INFO!B85)","v":"Mara"},{"$f":"IF(COUNTRY_INFO!C85=0,\" \",COUNTRY_INFO!C85)","v":"Musoma District Council"},{"$f":"IF(COUNTRY_INFO!$T$9:$T$1000=\"MDA3 (IVM)\", COUNTRY_INFO!$T$9:$T$1000, \" \")","v":" "},null,null,null,0,null,null,0,null,null,0,0,0,0," "," "," "]
[{"$f":"IF(COUNTRY_INFO!A86=0,\" \",COUNTRY_INFO!A86)","v":"Tanzania"},{"$f":"IF(COUNTRY_INFO!B86=0,\" \",COUNTRY_INFO!B86)","v":"Mara"},{"$f":"IF(COUNTRY_INFO!C86=0,\" \",COUNTRY_INFO!C86)","v":"Musoma Municipal Council"},{"$f":"IF(COUNTRY_INFO!$T$9:$T$1000=\"MDA3 (IVM)\", COUNTRY_INFO!$T$9:$T$1000, \" \")","v":" "},null,null,null,0,null,null,0,null,null,0,0,0,0," "," "," "]
[{"$f":"IF(COUNTRY_INFO!A87=0,\" \",COUNTRY_INFO!A87)","v":"Tanzania"},{"$f":"IF(COUNTRY_INFO!B87=0,\" \",COUNTRY_INFO!B87)","v":"Mara"},{"$f":"IF(COUNTRY_INFO!C87=0,\" \",COUNTRY_INFO!C87)","v":"Rorya District Council"},{"$f":"IF(COUNTRY_INFO!$T$9:$T$1000=\"MDA3 (IVM)\", COUNTRY_INFO!$T$9:$T$1000, \" \")","v":" "},null,null,null,0,null,null,0,null,null,0,0,0,0," "," "," "]
[{"$f":"IF(COUNTRY_INFO!A88=0,\" \",COUNTRY_INFO!A88)","v":"Tanzania"},{"$f":"IF(COUNTRY_INFO!B88=0,\" \",COUNTRY_INFO!B88)","v":"Mara"},{"$f":"IF(COUNTRY_INFO!C88=0,\" \",COUNTRY_INFO!C88)","v":"Serengeti District Council"},{"$f":"IF(COUNTRY_INFO!$T$9:$T$1000=\"MDA3 (IVM)\", COUNTRY_INFO!$T$9:$T$1000, \" \")","v":" "},null,null,null,0,null,null,0,null,null,0,0,0,0," "," "," "]
[{"$f":"IF(COUNTRY_INFO!A89=0,\" \",COUNTRY_INFO!A89)","v":"Tanzania"},{"$f":"IF(COUNTRY_INFO!B89=0,\" \",COUNTRY_INFO!B89)","v":"Mara"},{"$f":"IF(COUNTRY_INFO!C89=0,\" \",COUNTRY_INFO!C89)","v":"Tarime District Council"},{"$f":"IF(COUNTRY_INFO!$T$9:$T$1000=\"MDA3 (IVM)\", COUNTRY_INFO!$T$9:$T$1000, \" \")","v":" "},null,null,null,0,null,null,0,null,null,0,0,0,0," "," "," "]
[{"$f":"IF(COUNTRY_INFO!A90=0,\" \",COUNTRY_INFO!A90)","v":"Tanzania"},{"$f":"IF(COUNTRY_INFO!B90=0,\" \",COUNTRY_INFO!B90)","v":"Mara"},{"$f":"IF(COUNTRY_INFO!C90=0,\" \",COUNTRY_INFO!C90)","v":"Tarime Town Council"},{"$f":"IF(COUNTRY_INFO!$T$9:$T$1000=\"MDA3 (IVM)\", COUNTRY_INFO!$T$9:$T$1000, \" \")","v":" "},null,null,null,0,null,null,0,null,null,0,0,0,0," "," "," "]
[{"$f":"IF(COUNTRY_INFO!A91=0,\" \",COUNTRY_INFO!A91)","v":"Tanzania"},{"$f":"IF(COUNTRY_INFO!B91=0,\" \",COUNTRY_INFO!B91)","v":"Mbeya"},{"$f":"IF(COUNTRY_INFO!C91=0,\" \",COUNTRY_INFO!C91)","v":"Busokelo District Council"},{"$f":"IF(COUNTRY_INFO!$T$9:$T$1000=\"MDA3 (IVM)\", COUNTRY_INFO!$T$9:$T$1000, \" \")","v":" "},null,null,null,0,null,null,0,null,null,0,0,0,0," "," "," "]
[{"$f":"IF(COUNTRY_INFO!A92=0,\" \",COUNTRY_INFO!A92)","v":"Tanzania"},{"$f":"IF(COUNTRY_INFO!B92=0,\" \",COUNTRY_INFO!B92)","v":"Mbeya"},{"$f":"IF(COUNTRY_INFO!C92=0,\" \",COUNTRY_INFO!C92)","v":"Chunya District Council"},{"$f":"IF(COUNTRY_INFO!$T$9:$T$1000=\"MDA3 (IVM)\", COUNTRY_INFO!$T$9:$T$1000, \" \")","v":" "},null,null,null,0,null,null,0,null,null,0,0,0,0," "," "," "]
[{"$f":"IF(COUNTRY_INFO!A93=0,\" \",COUNTRY_INFO!A93)","v":"Tanzania"},{"$f":"IF(COUNTRY_INFO!B93=0,\" \",COUNTRY_INFO!B93)","v":"Mbeya"},{"$f":"IF(COUNTRY_INFO!C93=0,\" \",COUNTRY_INFO!C93)","v":"Kyela District Council"},{"$f":"IF(COUNTRY_INFO!$T$9:$T$1000=\"MDA3 (IVM)\", COUNTRY_INFO!$T$9:$T$1000, \" \")","v":" "},null,null,null,0,null,null,0,null,null,0,0,0,0," "," "," "]
[{"$f":"IF(COUNTRY_INFO!A94=0,\" \",COUNTRY_INFO!A94)","v":"Tanzania"},{"$f":"IF(COUNTRY_INFO!B94=0,\" \",COUNTRY_INFO!B94)","v":"Mbeya"},{"$f":"IF(COUNTRY_INFO!C94=0,\" \",COUNTRY_INFO!C94)","v":"Mbarali District Council"},{"$f":"IF(COUNTRY_INFO!$T$9:$T$1000=\"MDA3 (IVM)\", COUNTRY_INFO!$T$9:$T$1000, \" \")","v":" "},null,null,null,0,null,null,0,null,null,0,0,0,0," "," "," "]
[{"$f":"IF(COUNTRY_INFO!A95=0,\" \",COUNTRY_INFO!A95)","v":"Tanzania"},{"$f":"IF(COUNTRY_INFO!B95=0,\" \",COUNTRY_INFO!B95)","v":"Mbeya"},{"$f":"IF(COUNTRY_INFO!C95=0,\" \",COUNTRY_INFO!C95)","v":"Mbeya City Council"},{"$f":"IF(COUNTRY_INFO!$T$9:$T$1000=\"MDA3 (IVM)\", COUNTRY_INFO!$T$9:$T$1000, \" \")","v":" "},null,null,null,0,null,null,0,null,null,0,0,0,0," "," "," "]
[{"$f":"IF(COUNTRY_INFO!A96=0,\" \",COUNTRY_INFO!A96)","v":"Tanzania"},{"$f":"IF(COUNTRY_INFO!B96=0,\" \",COUNTRY_INFO!B96)","v":"Mbeya"},{"$f":"IF(COUNTRY_INFO!C96=0,\" \",COUNTRY_INFO!C96)","v":"Mbeya District Council"},{"$f":"IF(COUNTRY_INFO!$T$9:$T$1000=\"MDA3 (IVM)\", COUNTRY_INFO!$T$9:$T$1000, \" \")","v":" "},null,null,null,0,null,null,0,null,null,0,0,0,0," "," "," "]
[{"$f":"IF(COUNTRY_INFO!A97=0,\" \",COUNTRY_INFO!A97)","v":"Tanzania"},{"$f":"IF(COUNTRY_INFO!B97=0,\" \",COUNTRY_INFO!B97)","v":"Mbeya"},{"$f":"IF(COUNTRY_INFO!C97=0,\" \",COUNTRY_INFO!C97)","v":"Rungwe District Council"},{"$f":"IF(COUNTRY_INFO!$T$9:$T$1000=\"MDA3 (IVM)\", COUNTRY_INFO!$T$9:$T$1000, \" \")","v":" "},null,null,null,0,null,null,0,null,null,0,0,0,0," "," "," "]
[{"$f":"IF(COUNTRY_INFO!A98=0,\" \",COUNTRY_INFO!A98)","v":"Tanzania"},{"$f":"IF(COUNTRY_INFO!B98=0,\" \",COUNTRY_INFO!B98)","v":"Morogoro"},{"$f":"IF(COUNTRY_INFO!C98=0,\" \",COUNTRY_INFO!C98)","v":"Gairo District Council"},{"$f":"IF(COUNTRY_INFO!$T$9:$T$1000=\"MDA3 (IVM)\", COUNTRY_INFO!$T$9:$T$1000, \" \")","v":" "},null,null,null,0,null,null,0,null,null,0,0,0,0," "," "," "]
[{"$f":"IF(COUNTRY_INFO!A99=0,\" \",COUNTRY_INFO!A99)","v":"Tanzania"},{"$f":"IF(COUNTRY_INFO!B99=0,\" \",COUNTRY_INFO!B99)","v":"Morogoro"},{"$f":"IF(COUNTRY_INFO!C99=0,\" \",COUNTRY_INFO!C99)","v":"Ifakara Town Council"},{"$f":"IF(COUNTRY_INFO!$T$9:$T$1000=\"MDA3 (IVM)\", COUNTRY_INFO!$T$9:$T$1000, \" \")","v":"MDA3 (IVM)"},"March 2020",26429,83633.400000000009,110062.40000000001,22835.96,96724.040000000008,119560,null,null,0,22835.96,96724.040000000008,119560,86.404933974043658,115.65240681354578,108.62928665920421]
[{"$f":"IF(COUNTRY_INFO!A100=0,\" \",COUNTRY_INFO!A100)","v":"Tanzania"},{"$f":"IF(COUNTRY_INFO!B100=0,\" \",COUNTRY_INFO!B100)","v":"Morogoro"},{"$f":"IF(COUNTRY_INFO!C100=0,\" \",COUNTRY_INFO!C100)","v":"Kilombero District Council (Mlimba District Council)"},{"$f":"IF(COUNTRY_INFO!$T$9:$T$1000=\"MDA3 (IVM)\", COUNTRY_INFO!$T$9:$T$1000, \" \")","v":"MDA3 (IVM)"},"April 2020",81523,218299.40000000002,299822.40000000002,62419.946000000004,264386.054,326806,null,null,0,62419.946000000004,264386.054,326806,76.567282852691889,121.11167231792666,108.99986125119403]
[{"$f":"IF(COUNTRY_INFO!A101=0,\" \",COUNTRY_INFO!A101)","v":"Tanzania"},{"$f":"IF(COUNTRY_INFO!B101=0,\" \",COUNTRY_INFO!B101)","v":"Morogoro"},{"$f":"IF(COUNTRY_INFO!C101=0,\" \",COUNTRY_INFO!C101)","v":"Kilosa District Council"},{"$f":"IF(COUNTRY_INFO!$T$9:$T$1000=\"MDA3 (IVM)\", COUNTRY_INFO!$T$9:$T$1000, \" \")","v":" "},null,null,null,0,null,null,0,null,null,0,0,0,0," "," "," "]
[{"$f":"IF(COUNTRY_INFO!A102=0,\" \",COUNTRY_INFO!A102)","v":"Tanzania"},{"$f":"IF(COUNTRY_INFO!B102=0,\" \",COUNTRY_INFO!B102)","v":"Morogoro"},{"$f":"IF(COUNTRY_INFO!C102=0,\" \",COUNTRY_INFO!C102)","v":"Malinyi District Council"},{"$f":"IF(COUNTRY_INFO!$T$9:$T$1000=\"MDA3 (IVM)\", COUNTRY_INFO!$T$9:$T$1000, \" \")","v":"MDA3 (IVM)"},"March 2020",32774,95098.8,127872.8,26149.046000000002,110756.954,136906,null,null,0,26149.046000000002,110756.954,136906,79.785946176847517,116.46514361905722,107.06420755625902]
[{"$f":"IF(COUNTRY_INFO!A103=0,\" \",COUNTRY_INFO!A103)","v":"Tanzania"},{"$f":"IF(COUNTRY_INFO!B103=0,\" \",COUNTRY_INFO!B103)","v":"Morogoro"},{"$f":"IF(COUNTRY_INFO!C103=0,\" \",COUNTRY_INFO!C103)","v":"Morogoro District Council"},{"$f":"IF(COUNTRY_INFO!$T$9:$T$1000=\"MDA3 (IVM)\", COUNTRY_INFO!$T$9:$T$1000, \" \")","v":" "},null,null,null,0,null,null,0,null,null,0,0,0,0," "," "," "]
[{"$f":"IF(COUNTRY_INFO!A104=0,\" \",COUNTRY_INFO!A104)","v":"Tanzania"},{"$f":"IF(COUNTRY_INFO!B104=0,\" \",COUNTRY_INFO!B104)","v":"Morogoro"},{"$f":"IF(COUNTRY_INFO!C104=0,\" \",COUNTRY_INFO!C104)","v":"Morogoro Municipal Council"},{"$f":"IF(COUNTRY_INFO!$T$9:$T$1000=\"MDA3 (IVM)\", COUNTRY_INFO!$T$9:$T$1000, \" \")","v":" "},null,null,null,0,null,null,0,null,null,0,0,0,0," "," "," "]
[{"$f":"IF(COUNTRY_INFO!A105=0,\" \",COUNTRY_INFO!A105)","v":"Tanzania"},{"$f":"IF(COUNTRY_INFO!B105=0,\" \",COUNTRY_INFO!B105)","v":"Morogoro"},{"$f":"IF(COUNTRY_INFO!C105=0,\" \",COUNTRY_INFO!C105)","v":"Mvomero District Council"},{"$f":"IF(COUNTRY_INFO!$T$9:$T$1000=\"MDA3 (IVM)\", COUNTRY_INFO!$T$9:$T$1000, \" \")","v":" "},null,null,null,0,null,null,0,null,null,0,0,0,0," "," "," "]
[{"$f":"IF(COUNTRY_INFO!A106=0,\" \",COUNTRY_INFO!A106)","v":"Tanzania"},{"$f":"IF(COUNTRY_INFO!B106=0,\" \",COUNTRY_INFO!B106)","v":"Morogoro"},{"$f":"IF(COUNTRY_INFO!C106=0,\" \",COUNTRY_INFO!C106)","v":"Ulanga District Council"},{"$f":"IF(COUNTRY_INFO!$T$9:$T$1000=\"MDA3 (IVM)\", COUNTRY_INFO!$T$9:$T$1000, \" \")","v":"MDA3 (IVM)"},"March 2020",52569,114172.6,166741.6,35997.578999999998,152471.421,188469,null,null,0,35997.578999999998,152471.421,188469,68.47681903783598,133.54466921135193,113.03058145057983]
[{"$f":"IF(COUNTRY_INFO!A107=0,\" \",COUNTRY_INFO!A107)","v":"Tanzania"},{"$f":"IF(COUNTRY_INFO!B107=0,\" \",COUNTRY_INFO!B107)","v":"Mtwara"},{"$f":"IF(COUNTRY_INFO!C107=0,\" \",COUNTRY_INFO!C107)","v":"Masasi District Council"},{"$f":"IF(COUNTRY_INFO!$T$9:$T$1000=\"MDA3 (IVM)\", COUNTRY_INFO!$T$9:$T$1000, \" \")","v":" "},null,null,null,0,null,null,0,null,null,0,0,0,0," "," "," "]
[{"$f":"IF(COUNTRY_INFO!A108=0,\" \",COUNTRY_INFO!A108)","v":"Tanzania"},{"$f":"IF(COUNTRY_INFO!B108=0,\" \",COUNTRY_INFO!B108)","v":"Mtwara"},{"$f":"IF(COUNTRY_INFO!C108=0,\" \",COUNTRY_INFO!C108)","v":"Masasi Town Council"},{"$f":"IF(COUNTRY_INFO!$T$9:$T$1000=\"MDA3 (IVM)\", COUNTRY_INFO!$T$9:$T$1000, \" \")","v":" "},null,null,null,0,null,null,0,null,null,0,0,0,0," "," "," "]
[{"$f":"IF(COUNTRY_INFO!A109=0,\" \",COUNTRY_INFO!A109)","v":"Tanzania"},{"$f":"IF(COUNTRY_INFO!B109=0,\" \",COUNTRY_INFO!B109)","v":"Mtwara"},{"$f":"IF(COUNTRY_INFO!C109=0,\" \",COUNTRY_INFO!C109)","v":"Mtwara District Council"},{"$f":"IF(COUNTRY_INFO!$T$9:$T$1000=\"MDA3 (IVM)\", COUNTRY_INFO!$T$9:$T$1000, \" \")","v":" "},null,null,null,0,null,null,0,null,null,0,0,0,0," "," "," "]
[{"$f":"IF(COUNTRY_INFO!A110=0,\" \",COUNTRY_INFO!A110)","v":"Tanzania"},{"$f":"IF(COUNTRY_INFO!B110=0,\" \",COUNTRY_INFO!B110)","v":"Mtwara"},{"$f":"IF(COUNTRY_INFO!C110=0,\" \",COUNTRY_INFO!C110)","v":"Mtwara-Mikindani Municipal Council"},{"$f":"IF(COUNTRY_INFO!$T$9:$T$1000=\"MDA3 (IVM)\", COUNTRY_INFO!$T$9:$T$1000, \" \")","v":" "},null,null,null,0,null,null,0,null,null,0,0,0,0," "," "," "]
[{"$f":"IF(COUNTRY_INFO!A111=0,\" \",COUNTRY_INFO!A111)","v":"Tanzania"},{"$f":"IF(COUNTRY_INFO!B111=0,\" \",COUNTRY_INFO!B111)","v":"Mtwara"},{"$f":"IF(COUNTRY_INFO!C111=0,\" \",COUNTRY_INFO!C111)","v":"Nanyamba Town Council"},{"$f":"IF(COUNTRY_INFO!$T$9:$T$1000=\"MDA3 (IVM)\", COUNTRY_INFO!$T$9:$T$1000, \" \")","v":" "},null,null,null,0,null,null,0,null,null,0,0,0,0," "," "," "]
[{"$f":"IF(COUNTRY_INFO!A112=0,\" \",COUNTRY_INFO!A112)","v":"Tanzania"},{"$f":"IF(COUNTRY_INFO!B112=0,\" \",COUNTRY_INFO!B112)","v":"Mtwara"},{"$f":"IF(COUNTRY_INFO!C112=0,\" \",COUNTRY_INFO!C112)","v":"Nanyumbu District Council"},{"$f":"IF(COUNTRY_INFO!$T$9:$T$1000=\"MDA3 (IVM)\", COUNTRY_INFO!$T$9:$T$1000, \" \")","v":" "},null,null,null,0,null,null,0,null,null,0,0,0,0," "," "," "]
[{"$f":"IF(COUNTRY_INFO!A113=0,\" \",COUNTRY_INFO!A113)","v":"Tanzania"},{"$f":"IF(COUNTRY_INFO!B113=0,\" \",COUNTRY_INFO!B113)","v":"Mtwara"},{"$f":"IF(COUNTRY_INFO!C113=0,\" \",COUNTRY_INFO!C113)","v":"Newala District Council"},{"$f":"IF(COUNTRY_INFO!$T$9:$T$1000=\"MDA3 (IVM)\", COUNTRY_INFO!$T$9:$T$1000, \" \")","v":" "},null,null,null,0,null,null,0,null,null,0,0,0,0," "," "," "]
[{"$f":"IF(COUNTRY_INFO!A114=0,\" \",COUNTRY_INFO!A114)","v":"Tanzania"},{"$f":"IF(COUNTRY_INFO!B114=0,\" \",COUNTRY_INFO!B114)","v":"Mtwara"},{"$f":"IF(COUNTRY_INFO!C114=0,\" \",COUNTRY_INFO!C114)","v":"Newala Town Council"},{"$f":"IF(COUNTRY_INFO!$T$9:$T$1000=\"MDA3 (IVM)\", COUNTRY_INFO!$T$9:$T$1000, \" \")","v":" "},null,null,null,0,null,null,0,null,null,0,0,0,0," "," "," "]
[{"$f":"IF(COUNTRY_INFO!A115=0,\" \",COUNTRY_INFO!A115)","v":"Tanzania"},{"$f":"IF(COUNTRY_INFO!B115=0,\" \",COUNTRY_INFO!B115)","v":"Mtwara"},{"$f":"IF(COUNTRY_INFO!C115=0,\" \",COUNTRY_INFO!C115)","v":"Tandahimba District Council"},{"$f":"IF(COUNTRY_INFO!$T$9:$T$1000=\"MDA3 (IVM)\", COUNTRY_INFO!$T$9:$T$1000, \" \")","v":" "},null,null,null,0,null,null,0,null,null,0,0,0,0," "," "," "]
[{"$f":"IF(COUNTRY_INFO!A116=0,\" \",COUNTRY_INFO!A116)","v":"Tanzania"},{"$f":"IF(COUNTRY_INFO!B116=0,\" \",COUNTRY_INFO!B116)","v":"Mwanza"},{"$f":"IF(COUNTRY_INFO!C116=0,\" \",COUNTRY_INFO!C116)","v":"Buchosa District Council"},{"$f":"IF(COUNTRY_INFO!$T$9:$T$1000=\"MDA3 (IVM)\", COUNTRY_INFO!$T$9:$T$1000, \" \")","v":" "},null,null,null,0,null,null,0,null,null,0,0,0,0," "," "," "]
[{"$f":"IF(COUNTRY_INFO!A117=0,\" \",COUNTRY_INFO!A117)","v":"Tanzania"},{"$f":"IF(COUNTRY_INFO!B117=0,\" \",COUNTRY_INFO!B117)","v":"Mwanza"},{"$f":"IF(COUNTRY_INFO!C117=0,\" \",COUNTRY_INFO!C117)","v":"Ilemela Municipal Council"},{"$f":"IF(COUNTRY_INFO!$T$9:$T$1000=\"MDA3 (IVM)\", COUNTRY_INFO!$T$9:$T$1000, \" \")","v":" "},null,null,null,0,null,null,0,null,null,0,0,0,0," "," "," "]
[{"$f":"IF(COUNTRY_INFO!A118=0,\" \",COUNTRY_INFO!A118)","v":"Tanzania"},{"$f":"IF(COUNTRY_INFO!B118=0,\" \",COUNTRY_INFO!B118)","v":"Mwanza"},{"$f":"IF(COUNTRY_INFO!C118=0,\" \",COUNTRY_INFO!C118)","v":"Kwimba District Council"},{"$f":"IF(COUNTRY_INFO!$T$9:$T$1000=\"MDA3 (IVM)\", COUNTRY_INFO!$T$9:$T$1000, \" \")","v":" "},null,null,null,0,null,null,0,null,null,0,0,0,0," "," "," "]
[{"$f":"IF(COUNTRY_INFO!A119=0,\" \",COUNTRY_INFO!A119)","v":"Tanzania"},{"$f":"IF(COUNTRY_INFO!B119=0,\" \",COUNTRY_INFO!B119)","v":"Mwanza"},{"$f":"IF(COUNTRY_INFO!C119=0,\" \",COUNTRY_INFO!C119)","v":"Magu District Council"},{"$f":"IF(COUNTRY_INFO!$T$9:$T$1000=\"MDA3 (IVM)\", COUNTRY_INFO!$T$9:$T$1000, \" \")","v":" "},null,null,null,0,null,null,0,null,null,0,0,0,0," "," "," "]
[{"$f":"IF(COUNTRY_INFO!A120=0,\" \",COUNTRY_INFO!A120)","v":"Tanzania"},{"$f":"IF(COUNTRY_INFO!B120=0,\" \",COUNTRY_INFO!B120)","v":"Mwanza"},{"$f":"IF(COUNTRY_INFO!C120=0,\" \",COUNTRY_INFO!C120)","v":"Misungwi District Council"},{"$f":"IF(COUNTRY_INFO!$T$9:$T$1000=\"MDA3 (IVM)\", COUNTRY_INFO!$T$9:$T$1000, \" \")","v":" "},null,null,null,0,null,null,0,null,null,0,0,0,0," "," "," "]
[{"$f":"IF(COUNTRY_INFO!A121=0,\" \",COUNTRY_INFO!A121)","v":"Tanzania"},{"$f":"IF(COUNTRY_INFO!B121=0,\" \",COUNTRY_INFO!B121)","v":"Mwanza"},{"$f":"IF(COUNTRY_INFO!C121=0,\" \",COUNTRY_INFO!C121)","v":"Mwanza-Nyamagana City Council"},{"$f":"IF(COUNTRY_INFO!$T$9:$T$1000=\"MDA3 (IVM)\", COUNTRY_INFO!$T$9:$T$1000, \" \")","v":" "},null,null,null,0,null,null,0,null,null,0,0,0,0," "," "," "]
[{"$f":"IF(COUNTRY_INFO!A122=0,\" \",COUNTRY_INFO!A122)","v":"Tanzania"},{"$f":"IF(COUNTRY_INFO!B122=0,\" \",COUNTRY_INFO!B122)","v":"Mwanza"},{"$f":"IF(COUNTRY_INFO!C122=0,\" \",COUNTRY_INFO!C122)","v":"Sengerema District Council"},{"$f":"IF(COUNTRY_INFO!$T$9:$T$1000=\"MDA3 (IVM)\", COUNTRY_INFO!$T$9:$T$1000, \" \")","v":" "},null,null,null,0,null,null,0,null,null,0,0,0,0," "," "," "]
[{"$f":"IF(COUNTRY_INFO!A123=0,\" \",COUNTRY_INFO!A123)","v":"Tanzania"},{"$f":"IF(COUNTRY_INFO!B123=0,\" \",COUNTRY_INFO!B123)","v":"Mwanza"},{"$f":"IF(COUNTRY_INFO!C123=0,\" \",COUNTRY_INFO!C123)","v":"Ukerewe District Council"},{"$f":"IF(COUNTRY_INFO!$T$9:$T$1000=\"MDA3 (IVM)\", COUNTRY_INFO!$T$9:$T$1000, \" \")","v":" "},null,null,null,0,null,null,0,null,null,0,0,0,0," "," "," "]
[{"$f":"IF(COUNTRY_INFO!A124=0,\" \",COUNTRY_INFO!A124)","v":"Tanzania"},{"$f":"IF(COUNTRY_INFO!B124=0,\" \",COUNTRY_INFO!B124)","v":"Njombe"},{"$f":"IF(COUNTRY_INFO!C124=0,\" \",COUNTRY_INFO!C124)","v":"Ludewa District Council"},{"$f":"IF(COUNTRY_INFO!$T$9:$T$1000=\"MDA3 (IVM)\", COUNTRY_INFO!$T$9:$T$1000, \" \")","v":" "},null,null,null,0,null,null,0,null,null,0,0,0,0," "," "," "]
[{"$f":"IF(COUNTRY_INFO!A125=0,\" \",COUNTRY_INFO!A125)","v":"Tanzania"},{"$f":"IF(COUNTRY_INFO!B125=0,\" \",COUNTRY_INFO!B125)","v":"Njombe"},{"$f":"IF(COUNTRY_INFO!C125=0,\" \",COUNTRY_INFO!C125)","v":"Makambako Town Council"},{"$f":"IF(COUNTRY_INFO!$T$9:$T$1000=\"MDA3 (IVM)\", COUNTRY_INFO!$T$9:$T$1000, \" \")","v":" "},null,null,null,0,null,null,0,null,null,0,0,0,0," "," "," "]
[{"$f":"IF(COUNTRY_INFO!A126=0,\" \",COUNTRY_INFO!A126)","v":"Tanzania"},{"$f":"IF(COUNTRY_INFO!B126=0,\" \",COUNTRY_INFO!B126)","v":"Njombe"},{"$f":"IF(COUNTRY_INFO!C126=0,\" \",COUNTRY_INFO!C126)","v":"Makete District Council"},{"$f":"IF(COUNTRY_INFO!$T$9:$T$1000=\"MDA3 (IVM)\", COUNTRY_INFO!$T$9:$T$1000, \" \")","v":" "},null,null,null,0,null,null,0,null,null,0,0,0,0," "," "," "]
[{"$f":"IF(COUNTRY_INFO!A127=0,\" \",COUNTRY_INFO!A127)","v":"Tanzania"},{"$f":"IF(COUNTRY_INFO!B127=0,\" \",COUNTRY_INFO!B127)","v":"Njombe"},{"$f":"IF(COUNTRY_INFO!C127=0,\" \",COUNTRY_INFO!C127)","v":"Njombe District Council"},{"$f":"IF(COUNTRY_INFO!$T$9:$T$1000=\"MDA3 (IVM)\", COUNTRY_INFO!$T$9:$T$1000, \" \")","v":" "},null,null,null,0,null,null,0,null,null,0,0,0,0," "," "," "]
[{"$f":"IF(COUNTRY_INFO!A128=0,\" \",COUNTRY_INFO!A128)","v":"Tanzania"},{"$f":"IF(COUNTRY_INFO!B128=0,\" \",COUNTRY_INFO!B128)","v":"Njombe"},{"$f":"IF(COUNTRY_INFO!C128=0,\" \",COUNTRY_INFO!C128)","v":"Njombe Town Council"},{"$f":"IF(COUNTRY_INFO!$T$9:$T$1000=\"MDA3 (IVM)\", COUNTRY_INFO!$T$9:$T$1000, \" \")","v":" "},null,null,null,0,null,null,0,null,null,0,0,0,0," "," "," "]
[{"$f":"IF(COUNTRY_INFO!A129=0,\" \",COUNTRY_INFO!A129)","v":"Tanzania"},{"$f":"IF(COUNTRY_INFO!B129=0,\" \",COUNTRY_INFO!B129)","v":"Njombe"},{"$f":"IF(COUNTRY_INFO!C129=0,\" \",COUNTRY_INFO!C129)","v":"Wanging'ombe District Council"},{"$f":"IF(COUNTRY_INFO!$T$9:$T$1000=\"MDA3 (IVM)\", COUNTRY_INFO!$T$9:$T$1000, \" \")","v":" "},null,null,null,0,null,null,0,null,null,0,0,0,0," "," "," "]
[{"$f":"IF(COUNTRY_INFO!A130=0,\" \",COUNTRY_INFO!A130)","v":"Tanzania"},{"$f":"IF(COUNTRY_INFO!B130=0,\" \",COUNTRY_INFO!B130)","v":"Pwani"},{"$f":"IF(COUNTRY_INFO!C130=0,\" \",COUNTRY_INFO!C130)","v":"Bagamoyo District Council"},{"$f":"IF(COUNTRY_INFO!$T$9:$T$1000=\"MDA3 (IVM)\", COUNTRY_INFO!$T$9:$T$1000, \" \")","v":" "},null,null,null,0,null,null,0,null,null,0,0,0,0," "," "," "]
[{"$f":"IF(COUNTRY_INFO!A131=0,\" \",COUNTRY_INFO!A131)","v":"Tanzania"},{"$f":"IF(COUNTRY_INFO!B131=0,\" \",COUNTRY_INFO!B131)","v":"Pwani"},{"$f":"IF(COUNTRY_INFO!C131=0,\" \",COUNTRY_INFO!C131)","v":"Chalinze District Council"},{"$f":"IF(COUNTRY_INFO!$T$9:$T$1000=\"MDA3 (IVM)\", COUNTRY_INFO!$T$9:$T$1000, \" \")","v":" "},null,null,null,0,null,null,0,null,null,0,0,0,0," "," "," "]
[{"$f":"IF(COUNTRY_INFO!A132=0,\" \",COUNTRY_INFO!A132)","v":"Tanzania"},{"$f":"IF(COUNTRY_INFO!B132=0,\" \",COUNTRY_INFO!B132)","v":"Pwani"},{"$f":"IF(COUNTRY_INFO!C132=0,\" \",COUNTRY_INFO!C132)","v":"Kibaha District Council"},{"$f":"IF(COUNTRY_INFO!$T$9:$T$1000=\"MDA3 (IVM)\", COUNTRY_INFO!$T$9:$T$1000, \" \")","v":" "},null,null,null,0,null,null,0,null,null,0,0,0,0," "," "," "]
[{"$f":"IF(COUNTRY_INFO!A133=0,\" \",COUNTRY_INFO!A133)","v":"Tanzania"},{"$f":"IF(COUNTRY_INFO!B133=0,\" \",COUNTRY_INFO!B133)","v":"Pwani"},{"$f":"IF(COUNTRY_INFO!C133=0,\" \",COUNTRY_INFO!C133)","v":"Kibaha Town Council"},{"$f":"IF(COUNTRY_INFO!$T$9:$T$1000=\"MDA3 (IVM)\", COUNTRY_INFO!$T$9:$T$1000, \" \")","v":" "},null,null,null,0,null,null,0,null,null,0,0,0,0," "," "," "]
[{"$f":"IF(COUNTRY_INFO!A134=0,\" \",COUNTRY_INFO!A134)","v":"Tanzania"},{"$f":"IF(COUNTRY_INFO!B134=0,\" \",COUNTRY_INFO!B134)","v":"Pwani"},{"$f":"IF(COUNTRY_INFO!C134=0,\" \",COUNTRY_INFO!C134)","v":"Kibiti District Council"},{"$f":"IF(COUNTRY_INFO!$T$9:$T$1000=\"MDA3 (IVM)\", COUNTRY_INFO!$T$9:$T$1000, \" \")","v":" "},null,null,null,0,null,null,0,null,null,0,0,0,0," "," "," "]
[{"$f":"IF(COUNTRY_INFO!A135=0,\" \",COUNTRY_INFO!A135)","v":"Tanzania"},{"$f":"IF(COUNTRY_INFO!B135=0,\" \",COUNTRY_INFO!B135)","v":"Pwani"},{"$f":"IF(COUNTRY_INFO!C135=0,\" \",COUNTRY_INFO!C135)","v":"Kisarawe District Council"},{"$f":"IF(COUNTRY_INFO!$T$9:$T$1000=\"MDA3 (IVM)\", COUNTRY_INFO!$T$9:$T$1000, \" \")","v":" "},null,null,null,0,null,null,0,null,null,0,0,0,0," "," "," "]
[{"$f":"IF(COUNTRY_INFO!A136=0,\" \",COUNTRY_INFO!A136)","v":"Tanzania"},{"$f":"IF(COUNTRY_INFO!B136=0,\" \",COUNTRY_INFO!B136)","v":"Pwani"},{"$f":"IF(COUNTRY_INFO!C136=0,\" \",COUNTRY_INFO!C136)","v":"Mafia District Council"},{"$f":"IF(COUNTRY_INFO!$T$9:$T$1000=\"MDA3 (IVM)\", COUNTRY_INFO!$T$9:$T$1000, \" \")","v":" "},null,null,null,0,null,null,0,null,null,0,0,0,0," "," "," "]
[{"$f":"IF(COUNTRY_INFO!A137=0,\" \",COUNTRY_INFO!A137)","v":"Tanzania"},{"$f":"IF(COUNTRY_INFO!B137=0,\" \",COUNTRY_INFO!B137)","v":"Pwani"},{"$f":"IF(COUNTRY_INFO!C137=0,\" \",COUNTRY_INFO!C137)","v":"Mkuranga District Council"},{"$f":"IF(COUNTRY_INFO!$T$9:$T$1000=\"MDA3 (IVM)\", COUNTRY_INFO!$T$9:$T$1000, \" \")","v":" "},null,null,null,0,null,null,0,null,null,0,0,0,0," "," "," "]
[{"$f":"IF(COUNTRY_INFO!A138=0,\" \",COUNTRY_INFO!A138)","v":"Tanzania"},{"$f":"IF(COUNTRY_INFO!B138=0,\" \",COUNTRY_INFO!B138)","v":"Pwani"},{"$f":"IF(COUNTRY_INFO!C138=0,\" \",COUNTRY_INFO!C138)","v":"Rufiji District Council"},{"$f":"IF(COUNTRY_INFO!$T$9:$T$1000=\"MDA3 (IVM)\", COUNTRY_INFO!$T$9:$T$1000, \" \")","v":" "},null,null,null,{"$f":"SUM(F138:G138)","v":0},null,null,{"$f":"SUM(I138:J138)","v":0},null,null,{"$f":"SUM(L138:M138)","v":0},{"$f":"MAX(I138,L138)","v":0},{"$f":"MAX(J138,M138)","v":0},{"$f":"SUM(O138:P138)","v":0},{"$f":"IF(F138<>0, IF(MAX(I138,L138)/F138*100=0, \"-\", MAX(I138,L138)/F138*100), \" \")","v":" "},{"$f":"IF(G138<>0, IF(MAX(J138,M138)/G138*100=0, \"-\", MAX(J138,M138)/G138*100), \" \")","v":" "},{"$f":"IF(H138<>0, IF((MAX(I138,L138)+MAX(J138,M138))/H138*100=0, \"-\",(MAX(I138,L138)+MAX(J138,M138))/H138*100), \" \")","v":" "}]
[{"$f":"IF(COUNTRY_INFO!A139=0,\" \",COUNTRY_INFO!A139)","v":"Tanzania"},{"$f":"IF(COUNTRY_INFO!B139=0,\" \",COUNTRY_INFO!B139)","v":"Rukwa"},{"$f":"IF(COUNTRY_INFO!C139=0,\" \",COUNTRY_INFO!C139)","v":"Kalambo District Council"},{"$f":"IF(COUNTRY_INFO!$T$9:$T$1000=\"MDA3 (IVM)\", COUNTRY_INFO!$T$9:$T$1000, \" \")","v":" "},null,null,null,0,null,null,0,null,null,0,0,0,0," "," "," "]
[{"$f":"IF(COUNTRY_INFO!A140=0,\" \",COUNTRY_INFO!A140)","v":"Tanzania"},{"$f":"IF(COUNTRY_INFO!B140=0,\" \",COUNTRY_INFO!B140)","v":"Rukwa"},{"$f":"IF(COUNTRY_INFO!C140=0,\" \",COUNTRY_INFO!C140)","v":"Nkasi District Council"},{"$f":"IF(COUNTRY_INFO!$T$9:$T$1000=\"MDA3 (IVM)\", COUNTRY_INFO!$T$9:$T$1000, \" \")","v":" "},null,null,null,0,null,null,0,null,null,0,0,0,0," "," "," "]
[{"$f":"IF(COUNTRY_INFO!A141=0,\" \",COUNTRY_INFO!A141)","v":"Tanzania"},{"$f":"IF(COUNTRY_INFO!B141=0,\" \",COUNTRY_INFO!B141)","v":"Rukwa"},{"$f":"IF(COUNTRY_INFO!C141=0,\" \",COUNTRY_INFO!C141)","v":"Sumbawanga District Council"},{"$f":"IF(COUNTRY_INFO!$T$9:$T$1000=\"MDA3 (IVM)\", COUNTRY_INFO!$T$9:$T$1000, \" \")","v":" "},null,null,null,0,null,null,0,null,null,0,0,0,0," "," "," "]
[{"$f":"IF(COUNTRY_INFO!A142=0,\" \",COUNTRY_INFO!A142)","v":"Tanzania"},{"$f":"IF(COUNTRY_INFO!B142=0,\" \",COUNTRY_INFO!B142)","v":"Rukwa"},{"$f":"IF(COUNTRY_INFO!C142=0,\" \",COUNTRY_INFO!C142)","v":"Sumbawanga Municipal Council"},{"$f":"IF(COUNTRY_INFO!$T$9:$T$1000=\"MDA3 (IVM)\", COUNTRY_INFO!$T$9:$T$1000, \" \")","v":" "},null,null,null,0,null,null,0,null,null,0,0,0,0," "," "," "]
[{"$f":"IF(COUNTRY_INFO!A143=0,\" \",COUNTRY_INFO!A143)","v":"Tanzania"},{"$f":"IF(COUNTRY_INFO!B143=0,\" \",COUNTRY_INFO!B143)","v":"Ruvuma"},{"$f":"IF(COUNTRY_INFO!C143=0,\" \",COUNTRY_INFO!C143)","v":"Madaba District Council"},{"$f":"IF(COUNTRY_INFO!$T$9:$T$1000=\"MDA3 (IVM)\", COUNTRY_INFO!$T$9:$T$1000, \" \")","v":" "},null,null,null,0,null,null,0,null,null,0,0,0,0," "," "," "]
[{"$f":"IF(COUNTRY_INFO!A144=0,\" \",COUNTRY_INFO!A144)","v":"Tanzania"},{"$f":"IF(COUNTRY_INFO!B144=0,\" \",COUNTRY_INFO!B144)","v":"Ruvuma"},{"$f":"IF(COUNTRY_INFO!C144=0,\" \",COUNTRY_INFO!C144)","v":"Mbinga District Council"},{"$f":"IF(COUNTRY_INFO!$T$9:$T$1000=\"MDA3 (IVM)\", COUNTRY_INFO!$T$9:$T$1000, \" \")","v":" "},null,null,null,0,null,null,0,null,null,0,0,0,0," "," "," "]
[{"$f":"IF(COUNTRY_INFO!A145=0,\" \",COUNTRY_INFO!A145)","v":"Tanzania"},{"$f":"IF(COUNTRY_INFO!B145=0,\" \",COUNTRY_INFO!B145)","v":"Ruvuma"},{"$f":"IF(COUNTRY_INFO!C145=0,\" \",COUNTRY_INFO!C145)","v":"Mbinga Town Council"},{"$f":"IF(COUNTRY_INFO!$T$9:$T$1000=\"MDA3 (IVM)\", COUNTRY_INFO!$T$9:$T$1000, \" \")","v":" "},null,null,null,0,null,null,0,null,null,0,0,0,0," "," "," "]
[{"$f":"IF(COUNTRY_INFO!A146=0,\" \",COUNTRY_INFO!A146)","v":"Tanzania"},{"$f":"IF(COUNTRY_INFO!B146=0,\" \",COUNTRY_INFO!B146)","v":"Ruvuma"},{"$f":"IF(COUNTRY_INFO!C146=0,\" \",COUNTRY_INFO!C146)","v":"Namtumbo District Council"},{"$f":"IF(COUNTRY_INFO!$T$9:$T$1000=\"MDA3 (IVM)\", COUNTRY_INFO!$T$9:$T$1000, \" \")","v":" "},null,null,null,0,null,null,0,null,null,0,0,0,0," "," "," "]
[{"$f":"IF(COUNTRY_INFO!A147=0,\" \",COUNTRY_INFO!A147)","v":"Tanzania"},{"$f":"IF(COUNTRY_INFO!B147=0,\" \",COUNTRY_INFO!B147)","v":"Ruvuma"},{"$f":"IF(COUNTRY_INFO!C147=0,\" \",COUNTRY_INFO!C147)","v":"Nyasa District Council"},{"$f":"IF(COUNTRY_INFO!$T$9:$T$1000=\"MDA3 (IVM)\", COUNTRY_INFO!$T$9:$T$1000, \" \")","v":" "},null,null,null,0,null,null,0,null,null,0,0,0,0," "," "," "]
[{"$f":"IF(COUNTRY_INFO!A148=0,\" \",COUNTRY_INFO!A148)","v":"Tanzania"},{"$f":"IF(COUNTRY_INFO!B148=0,\" \",COUNTRY_INFO!B148)","v":"Ruvuma"},{"$f":"IF(COUNTRY_INFO!C148=0,\" \",COUNTRY_INFO!C148)","v":"Songea District Council"},{"$f":"IF(COUNTRY_INFO!$T$9:$T$1000=\"MDA3 (IVM)\", COUNTRY_INFO!$T$9:$T$1000, \" \")","v":" "},null,null,null,0,null,null,0,null,null,0,0,0,0," "," "," "]
[{"$f":"IF(COUNTRY_INFO!A149=0,\" \",COUNTRY_INFO!A149)","v":"Tanzania"},{"$f":"IF(COUNTRY_INFO!B149=0,\" \",COUNTRY_INFO!B149)","v":"Ruvuma"},{"$f":"IF(COUNTRY_INFO!C149=0,\" \",COUNTRY_INFO!C149)","v":"Songea Municipal Council"},{"$f":"IF(COUNTRY_INFO!$T$9:$T$1000=\"MDA3 (IVM)\", COUNTRY_INFO!$T$9:$T$1000, \" \")","v":" "},null,null,null,0,null,null,0,null,null,0,0,0,0," "," "," "]
[{"$f":"IF(COUNTRY_INFO!A150=0,\" \",COUNTRY_INFO!A150)","v":"Tanzania"},{"$f":"IF(COUNTRY_INFO!B150=0,\" \",COUNTRY_INFO!B150)","v":"Ruvuma"},{"$f":"IF(COUNTRY_INFO!C150=0,\" \",COUNTRY_INFO!C150)","v":"Tunduru District Council"},{"$f":"IF(COUNTRY_INFO!$T$9:$T$1000=\"MDA3 (IVM)\", COUNTRY_INFO!$T$9:$T$1000, \" \")","v":" "},null,null,null,0,null,null,0,null,null,0,0,0,0," "," "," "]
[{"$f":"IF(COUNTRY_INFO!A151=0,\" \",COUNTRY_INFO!A151)","v":"Tanzania"},{"$f":"IF(COUNTRY_INFO!B151=0,\" \",COUNTRY_INFO!B151)","v":"Shinyanga"},{"$f":"IF(COUNTRY_INFO!C151=0,\" \",COUNTRY_INFO!C151)","v":"Kahama Town Council"},{"$f":"IF(COUNTRY_INFO!$T$9:$T$1000=\"MDA3 (IVM)\", COUNTRY_INFO!$T$9:$T$1000, \" \")","v":" "},null,null,null,0,null,null,0,null,null,0,0,0,0," "," "," "]
[{"$f":"IF(COUNTRY_INFO!A152=0,\" \",COUNTRY_INFO!A152)","v":"Tanzania"},{"$f":"IF(COUNTRY_INFO!B152=0,\" \",COUNTRY_INFO!B152)","v":"Shinyanga"},{"$f":"IF(COUNTRY_INFO!C152=0,\" \",COUNTRY_INFO!C152)","v":"Kishapu District Council"},{"$f":"IF(COUNTRY_INFO!$T$9:$T$1000=\"MDA3 (IVM)\", COUNTRY_INFO!$T$9:$T$1000, \" \")","v":" "},null,null,null,0,null,null,0,null,null,0,0,0,0," "," "," "]
[{"$f":"IF(COUNTRY_INFO!A153=0,\" \",COUNTRY_INFO!A153)","v":"Tanzania"},{"$f":"IF(COUNTRY_INFO!B153=0,\" \",COUNTRY_INFO!B153)","v":"Shinyanga"},{"$f":"IF(COUNTRY_INFO!C153=0,\" \",COUNTRY_INFO!C153)","v":"Msalala District Council"},{"$f":"IF(COUNTRY_INFO!$T$9:$T$1000=\"MDA3 (IVM)\", COUNTRY_INFO!$T$9:$T$1000, \" \")","v":" "},null,null,null,0,null,null,0,null,null,0,0,0,0," "," "," "]
[{"$f":"IF(COUNTRY_INFO!A154=0,\" \",COUNTRY_INFO!A154)","v":"Tanzania"},{"$f":"IF(COUNTRY_INFO!B154=0,\" \",COUNTRY_INFO!B154)","v":"Shinyanga"},{"$f":"IF(COUNTRY_INFO!C154=0,\" \",COUNTRY_INFO!C154)","v":"Shinyanga District Council"},{"$f":"IF(COUNTRY_INFO!$T$9:$T$1000=\"MDA3 (IVM)\", COUNTRY_INFO!$T$9:$T$1000, \" \")","v":" "},null,null,null,0,null,null,0,null,null,0,0,0,0," "," "," "]
[{"$f":"IF(COUNTRY_INFO!A155=0,\" \",COUNTRY_INFO!A155)","v":"Tanzania"},{"$f":"IF(COUNTRY_INFO!B155=0,\" \",COUNTRY_INFO!B155)","v":"Shinyanga"},{"$f":"IF(COUNTRY_INFO!C155=0,\" \",COUNTRY_INFO!C155)","v":"Shinyanga Municipal Council"},{"$f":"IF(COUNTRY_INFO!$T$9:$T$1000=\"MDA3 (IVM)\", COUNTRY_INFO!$T$9:$T$1000, \" \")","v":" "},null,null,null,0,null,null,0,null,null,0,0,0,0," "," "," "]
[{"$f":"IF(COUNTRY_INFO!A156=0,\" \",COUNTRY_INFO!A156)","v":"Tanzania"},{"$f":"IF(COUNTRY_INFO!B156=0,\" \",COUNTRY_INFO!B156)","v":"Shinyanga"},{"$f":"IF(COUNTRY_INFO!C156=0,\" \",COUNTRY_INFO!C156)","v":"Ushetu District Council"},{"$f":"IF(COUNTRY_INFO!$T$9:$T$1000=\"MDA3 (IVM)\", COUNTRY_INFO!$T$9:$T$1000, \" \")","v":" "},null,null,null,0,null,null,0,null,null,0,0,0,0," "," "," "]
[{"$f":"IF(COUNTRY_INFO!A157=0,\" \",COUNTRY_INFO!A157)","v":"Tanzania"},{"$f":"IF(COUNTRY_INFO!B157=0,\" \",COUNTRY_INFO!B157)","v":"Simiyu"},{"$f":"IF(COUNTRY_INFO!C157=0,\" \",COUNTRY_INFO!C157)","v":"Bariadi District Council"},{"$f":"IF(COUNTRY_INFO!$T$9:$T$1000=\"MDA3 (IVM)\", COUNTRY_INFO!$T$9:$T$1000, \" \")","v":" "},null,null,null,0,null,null,0,null,null,0,0,0,0," "," "," "]
[{"$f":"IF(COUNTRY_INFO!A158=0,\" \",COUNTRY_INFO!A158)","v":"Tanzania"},{"$f":"IF(COUNTRY_INFO!B158=0,\" \",COUNTRY_INFO!B158)","v":"Simiyu"},{"$f":"IF(COUNTRY_INFO!C158=0,\" \",COUNTRY_INFO!C158)","v":"Bariadi Town Council"},{"$f":"IF(COUNTRY_INFO!$T$9:$T$1000=\"MDA3 (IVM)\", COUNTRY_INFO!$T$9:$T$1000, \" \")","v":" "},null,null,null,0,null,null,0,null,null,0,0,0,0," "," "," "]
[{"$f":"IF(COUNTRY_INFO!A159=0,\" \",COUNTRY_INFO!A159)","v":"Tanzania"},{"$f":"IF(COUNTRY_INFO!B159=0,\" \",COUNTRY_INFO!B159)","v":"Simiyu"},{"$f":"IF(COUNTRY_INFO!C159=0,\" \",COUNTRY_INFO!C159)","v":"Busega District Council"},{"$f":"IF(COUNTRY_INFO!$T$9:$T$1000=\"MDA3 (IVM)\", COUNTRY_INFO!$T$9:$T$1000, \" \")","v":" "},null,null,null,0,null,null,0,null,null,0,0,0,0," "," "," "]
[{"$f":"IF(COUNTRY_INFO!A160=0,\" \",COUNTRY_INFO!A160)","v":"Tanzania"},{"$f":"IF(COUNTRY_INFO!B160=0,\" \",COUNTRY_INFO!B160)","v":"Simiyu"},{"$f":"IF(COUNTRY_INFO!C160=0,\" \",COUNTRY_INFO!C160)","v":"Itilima District Council"},{"$f":"IF(COUNTRY_INFO!$T$9:$T$1000=\"MDA3 (IVM)\", COUNTRY_INFO!$T$9:$T$1000, \" \")","v":" "},null,null,null,0,null,null,0,null,null,0,0,0,0," "," "," "]
[{"$f":"IF(COUNTRY_INFO!A161=0,\" \",COUNTRY_INFO!A161)","v":"Tanzania"},{"$f":"IF(COUNTRY_INFO!B161=0,\" \",COUNTRY_INFO!B161)","v":"Simiyu"},{"$f":"IF(COUNTRY_INFO!C161=0,\" \",COUNTRY_INFO!C161)","v":"Maswa District Council"},{"$f":"IF(COUNTRY_INFO!$T$9:$T$1000=\"MDA3 (IVM)\", COUNTRY_INFO!$T$9:$T$1000, \" \")","v":" "},null,null,null,0,null,null,0,null,null,0,0,0,0," "," "," "]
[{"$f":"IF(COUNTRY_INFO!A162=0,\" \",COUNTRY_INFO!A162)","v":"Tanzania"},{"$f":"IF(COUNTRY_INFO!B162=0,\" \",COUNTRY_INFO!B162)","v":"Simiyu"},{"$f":"IF(COUNTRY_INFO!C162=0,\" \",COUNTRY_INFO!C162)","v":"Meatu District Council"},{"$f":"IF(COUNTRY_INFO!$T$9:$T$1000=\"MDA3 (IVM)\", COUNTRY_INFO!$T$9:$T$1000, \" \")","v":" "},null,null,null,0,null,null,0,null,null,0,0,0,0," "," "," "]
[{"$f":"IF(COUNTRY_INFO!A163=0,\" \",COUNTRY_INFO!A163)","v":"Tanzania"},{"$f":"IF(COUNTRY_INFO!B163=0,\" \",COUNTRY_INFO!B163)","v":"Singida"},{"$f":"IF(COUNTRY_INFO!C163=0,\" \",COUNTRY_INFO!C163)","v":"Ikungi District Council"},{"$f":"IF(COUNTRY_INFO!$T$9:$T$1000=\"MDA3 (IVM)\", COUNTRY_INFO!$T$9:$T$1000, \" \")","v":" "},null,null,null,0,null,null,0,null,null,0,0,0,0," "," "," "]
[{"$f":"IF(COUNTRY_INFO!A164=0,\" \",COUNTRY_INFO!A164)","v":"Tanzania"},{"$f":"IF(COUNTRY_INFO!B164=0,\" \",COUNTRY_INFO!B164)","v":"Singida"},{"$f":"IF(COUNTRY_INFO!C164=0,\" \",COUNTRY_INFO!C164)","v":"Iramba District Council"},{"$f":"IF(COUNTRY_INFO!$T$9:$T$1000=\"MDA3 (IVM)\", COUNTRY_INFO!$T$9:$T$1000, \" \")","v":" "},null,null,null,0,null,null,0,null,null,0,0,0,0," "," "," "]
[{"$f":"IF(COUNTRY_INFO!A165=0,\" \",COUNTRY_INFO!A165)","v":"Tanzania"},{"$f":"IF(COUNTRY_INFO!B165=0,\" \",COUNTRY_INFO!B165)","v":"Singida"},{"$f":"IF(COUNTRY_INFO!C165=0,\" \",COUNTRY_INFO!C165)","v":"Itigi District Council"},{"$f":"IF(COUNTRY_INFO!$T$9:$T$1000=\"MDA3 (IVM)\", COUNTRY_INFO!$T$9:$T$1000, \" \")","v":" "},null,null,null,0,null,null,0,null,null,0,0,0,0," "," "," "]
[{"$f":"IF(COUNTRY_INFO!A166=0,\" \",COUNTRY_INFO!A166)","v":"Tanzania"},{"$f":"IF(COUNTRY_INFO!B166=0,\" \",COUNTRY_INFO!B166)","v":"Singida"},{"$f":"IF(COUNTRY_INFO!C166=0,\" \",COUNTRY_INFO!C166)","v":"Manyoni District Council"},{"$f":"IF(COUNTRY_INFO!$T$9:$T$1000=\"MDA3 (IVM)\", COUNTRY_INFO!$T$9:$T$1000, \" \")","v":" "},null,null,null,0,null,null,0,null,null,0,0,0,0," "," "," "]
[{"$f":"IF(COUNTRY_INFO!A167=0,\" \",COUNTRY_INFO!A167)","v":"Tanzania"},{"$f":"IF(COUNTRY_INFO!B167=0,\" \",COUNTRY_INFO!B167)","v":"Singida"},{"$f":"IF(COUNTRY_INFO!C167=0,\" \",COUNTRY_INFO!C167)","v":"Mkalama District Council"},{"$f":"IF(COUNTRY_INFO!$T$9:$T$1000=\"MDA3 (IVM)\", COUNTRY_INFO!$T$9:$T$1000, \" \")","v":" "},null,null,null,0,null,null,0,null,null,0,0,0,0," "," "," "]
[{"$f":"IF(COUNTRY_INFO!A168=0,\" \",COUNTRY_INFO!A168)","v":"Tanzania"},{"$f":"IF(COUNTRY_INFO!B168=0,\" \",COUNTRY_INFO!B168)","v":"Singida"},{"$f":"IF(COUNTRY_INFO!C168=0,\" \",COUNTRY_INFO!C168)","v":"Singida District Council"},{"$f":"IF(COUNTRY_INFO!$T$9:$T$1000=\"MDA3 (IVM)\", COUNTRY_INFO!$T$9:$T$1000, \" \")","v":" "},null,null,null,0,null,null,0,null,null,0,0,0,0," "," "," "]
[{"$f":"IF(COUNTRY_INFO!A169=0,\" \",COUNTRY_INFO!A169)","v":"Tanzania"},{"$f":"IF(COUNTRY_INFO!B169=0,\" \",COUNTRY_INFO!B169)","v":"Singida"},{"$f":"IF(COUNTRY_INFO!C169=0,\" \",COUNTRY_INFO!C169)","v":"Singida Municipal Council"},{"$f":"IF(COUNTRY_INFO!$T$9:$T$1000=\"MDA3 (IVM)\", COUNTRY_INFO!$T$9:$T$1000, \" \")","v":" "},null,null,null,0,null,null,0,null,null,0,0,0,0," "," "," "]
[{"$f":"IF(COUNTRY_INFO!A170=0,\" \",COUNTRY_INFO!A170)","v":"Tanzania"},{"$f":"IF(COUNTRY_INFO!B170=0,\" \",COUNTRY_INFO!B170)","v":"Songwe"},{"$f":"IF(COUNTRY_INFO!C170=0,\" \",COUNTRY_INFO!C170)","v":"Ileje District Council"},{"$f":"IF(COUNTRY_INFO!$T$9:$T$1000=\"MDA3 (IVM)\", COUNTRY_INFO!$T$9:$T$1000, \" \")","v":" "},null,null,null,0,null,null,0,null,null,0,0,0,0," "," "," "]
[{"$f":"IF(COUNTRY_INFO!A171=0,\" \",COUNTRY_INFO!A171)","v":"Tanzania"},{"$f":"IF(COUNTRY_INFO!B171=0,\" \",COUNTRY_INFO!B171)","v":"Songwe"},{"$f":"IF(COUNTRY_INFO!C171=0,\" \",COUNTRY_INFO!C171)","v":"Mbozi District Council"},{"$f":"IF(COUNTRY_INFO!$T$9:$T$1000=\"MDA3 (IVM)\", COUNTRY_INFO!$T$9:$T$1000, \" \")","v":" "},null,null,null,0,null,null,0,null,null,0,0,0,0," "," "," "]
[{"$f":"IF(COUNTRY_INFO!A172=0,\" \",COUNTRY_INFO!A172)","v":"Tanzania"},{"$f":"IF(COUNTRY_INFO!B172=0,\" \",COUNTRY_INFO!B172)","v":"Songwe"},{"$f":"IF(COUNTRY_INFO!C172=0,\" \",COUNTRY_INFO!C172)","v":"Momba District Council"},{"$f":"IF(COUNTRY_INFO!$T$9:$T$1000=\"MDA3 (IVM)\", COUNTRY_INFO!$T$9:$T$1000, \" \")","v":" "},null,null,null,0,null,null,0,null,null,0,0,0,0," "," "," "]
[{"$f":"IF(COUNTRY_INFO!A173=0,\" \",COUNTRY_INFO!A173)","v":"Tanzania"},{"$f":"IF(COUNTRY_INFO!B173=0,\" \",COUNTRY_INFO!B173)","v":"Songwe"},{"$f":"IF(COUNTRY_INFO!C173=0,\" \",COUNTRY_INFO!C173)","v":"Songwe District Council"},{"$f":"IF(COUNTRY_INFO!$T$9:$T$1000=\"MDA3 (IVM)\", COUNTRY_INFO!$T$9:$T$1000, \" \")","v":" "},null,null,null,0,null,null,0,null,null,0,0,0,0," "," "," "]
[{"$f":"IF(COUNTRY_INFO!A174=0,\" \",COUNTRY_INFO!A174)","v":"Tanzania"},{"$f":"IF(COUNTRY_INFO!B174=0,\" \",COUNTRY_INFO!B174)","v":"Songwe"},{"$f":"IF(COUNTRY_INFO!C174=0,\" \",COUNTRY_INFO!C174)","v":"Tunduma Town Council"},{"$f":"IF(COUNTRY_INFO!$T$9:$T$1000=\"MDA3 (IVM)\", COUNTRY_INFO!$T$9:$T$1000, \" \")","v":" "},null,null,null,0,null,null,0,null,null,0,0,0,0," "," "," "]
[{"$f":"IF(COUNTRY_INFO!A175=0,\" \",COUNTRY_INFO!A175)","v":"Tanzania"},{"$f":"IF(COUNTRY_INFO!B175=0,\" \",COUNTRY_INFO!B175)","v":"Tabora"},{"$f":"IF(COUNTRY_INFO!C175=0,\" \",COUNTRY_INFO!C175)","v":"Igunga District Council"},{"$f":"IF(COUNTRY_INFO!$T$9:$T$1000=\"MDA3 (IVM)\", COUNTRY_INFO!$T$9:$T$1000, \" \")","v":" "},null,null,null,0,null,null,0,null,null,0,0,0,0," "," "," "]
[{"$f":"IF(COUNTRY_INFO!A176=0,\" \",COUNTRY_INFO!A176)","v":"Tanzania"},{"$f":"IF(COUNTRY_INFO!B176=0,\" \",COUNTRY_INFO!B176)","v":"Tabora"},{"$f":"IF(COUNTRY_INFO!C176=0,\" \",COUNTRY_INFO!C176)","v":"Kaliua District Council"},{"$f":"IF(COUNTRY_INFO!$T$9:$T$1000=\"MDA3 (IVM)\", COUNTRY_INFO!$T$9:$T$1000, \" \")","v":" "},null,null,null,0,null,null,0,null,null,0,0,0,0," "," "," "]
[{"$f":"IF(COUNTRY_INFO!A177=0,\" \",COUNTRY_INFO!A177)","v":"Tanzania"},{"$f":"IF(COUNTRY_INFO!B177=0,\" \",COUNTRY_INFO!B177)","v":"Tabora"},{"$f":"IF(COUNTRY_INFO!C177=0,\" \",COUNTRY_INFO!C177)","v":"Nzega District Council"},{"$f":"IF(COUNTRY_INFO!$T$9:$T$1000=\"MDA3 (IVM)\", COUNTRY_INFO!$T$9:$T$1000, \" \")","v":" "},null,null,null,0,null,null,0,null,null,0,0,0,0," "," "," "]
[{"$f":"IF(COUNTRY_INFO!A178=0,\" \",COUNTRY_INFO!A178)","v":"Tanzania"},{"$f":"IF(COUNTRY_INFO!B178=0,\" \",COUNTRY_INFO!B178)","v":"Tabora"},{"$f":"IF(COUNTRY_INFO!C178=0,\" \",COUNTRY_INFO!C178)","v":"Nzega Town Council"},{"$f":"IF(COUNTRY_INFO!$T$9:$T$1000=\"MDA3 (IVM)\", COUNTRY_INFO!$T$9:$T$1000, \" \")","v":" "},null,null,null,0,null,null,0,null,null,0,0,0,0," "," "," "]
[{"$f":"IF(COUNTRY_INFO!A179=0,\" \",COUNTRY_INFO!A179)","v":"Tanzania"},{"$f":"IF(COUNTRY_INFO!B179=0,\" \",COUNTRY_INFO!B179)","v":"Tabora"},{"$f":"IF(COUNTRY_INFO!C179=0,\" \",COUNTRY_INFO!C179)","v":"Sikonge District Council"},{"$f":"IF(COUNTRY_INFO!$T$9:$T$1000=\"MDA3 (IVM)\", COUNTRY_INFO!$T$9:$T$1000, \" \")","v":" "},null,null,null,0,null,null,0,null,null,0,0,0,0," "," "," "]
[{"$f":"IF(COUNTRY_INFO!A180=0,\" \",COUNTRY_INFO!A180)","v":"Tanzania"},{"$f":"IF(COUNTRY_INFO!B180=0,\" \",COUNTRY_INFO!B180)","v":"Tabora"},{"$f":"IF(COUNTRY_INFO!C180=0,\" \",COUNTRY_INFO!C180)","v":"Tabora Municipal Council"},{"$f":"IF(COUNTRY_INFO!$T$9:$T$1000=\"MDA3 (IVM)\", COUNTRY_INFO!$T$9:$T$1000, \" \")","v":" "},null,null,null,0,null,null,0,null,null,0,0,0,0," "," "," "]
[{"$f":"IF(COUNTRY_INFO!A181=0,\" \",COUNTRY_INFO!A181)","v":"Tanzania"},{"$f":"IF(COUNTRY_INFO!B181=0,\" \",COUNTRY_INFO!B181)","v":"Tabora"},{"$f":"IF(COUNTRY_INFO!C181=0,\" \",COUNTRY_INFO!C181)","v":"Urambo District Council"},{"$f":"IF(COUNTRY_INFO!$T$9:$T$1000=\"MDA3 (IVM)\", COUNTRY_INFO!$T$9:$T$1000, \" \")","v":" "},null,null,null,0,null,null,0,null,null,0,0,0,0," "," "," "]
[{"$f":"IF(COUNTRY_INFO!A182=0,\" \",COUNTRY_INFO!A182)","v":"Tanzania"},{"$f":"IF(COUNTRY_INFO!B182=0,\" \",COUNTRY_INFO!B182)","v":"Tabora"},{"$f":"IF(COUNTRY_INFO!C182=0,\" \",COUNTRY_INFO!C182)","v":"Uyui District Council"},{"$f":"IF(COUNTRY_INFO!$T$9:$T$1000=\"MDA3 (IVM)\", COUNTRY_INFO!$T$9:$T$1000, \" \")","v":" "},null,null,null,0,null,null,0,null,null,0,0,0,0," "," "," "]
[{"$f":"IF(COUNTRY_INFO!A183=0,\" \",COUNTRY_INFO!A183)","v":"Tanzania"},{"$f":"IF(COUNTRY_INFO!B183=0,\" \",COUNTRY_INFO!B183)","v":"Tanga"},{"$f":"IF(COUNTRY_INFO!C183=0,\" \",COUNTRY_INFO!C183)","v":"Bumbuli District Council"},{"$f":"IF(COUNTRY_INFO!$T$9:$T$1000=\"MDA3 (IVM)\", COUNTRY_INFO!$T$9:$T$1000, \" \")","v":"MDA3 (IVM)"},"March 2020",43050,109712.01920000001,152762.01920000001,28301.807000000001,119875.193,148177,null,null,0,28301.807000000001,119875.193,148177,65.741711962833918,109.26350082161281,96.998586936719406]
[{"$f":"IF(COUNTRY_INFO!A184=0,\" \",COUNTRY_INFO!A184)","v":"Tanzania"},{"$f":"IF(COUNTRY_INFO!B184=0,\" \",COUNTRY_INFO!B184)","v":"Tanga"},{"$f":"IF(COUNTRY_INFO!C184=0,\" \",COUNTRY_INFO!C184)","v":"Handeni District Council"},{"$f":"IF(COUNTRY_INFO!$T$9:$T$1000=\"MDA3 (IVM)\", COUNTRY_INFO!$T$9:$T$1000, \" \")","v":" "},null,null,null,0,null,null,0,null,null,0,0,0,0," "," "," "]
[{"$f":"IF(COUNTRY_INFO!A185=0,\" \",COUNTRY_INFO!A185)","v":"Tanzania"},{"$f":"IF(COUNTRY_INFO!B185=0,\" \",COUNTRY_INFO!B185)","v":"Tanga"},{"$f":"IF(COUNTRY_INFO!C185=0,\" \",COUNTRY_INFO!C185)","v":"Handeni Town Council"},{"$f":"IF(COUNTRY_INFO!$T$9:$T$1000=\"MDA3 (IVM)\", COUNTRY_INFO!$T$9:$T$1000, \" \")","v":" "},null,null,null,0,null,null,0,null,null,0,0,0,0," "," "," "]
[{"$f":"IF(COUNTRY_INFO!A186=0,\" \",COUNTRY_INFO!A186)","v":"Tanzania"},{"$f":"IF(COUNTRY_INFO!B186=0,\" \",COUNTRY_INFO!B186)","v":"Tanga"},{"$f":"IF(COUNTRY_INFO!C186=0,\" \",COUNTRY_INFO!C186)","v":"Kilindi District Council"},{"$f":"IF(COUNTRY_INFO!$T$9:$T$1000=\"MDA3 (IVM)\", COUNTRY_INFO!$T$9:$T$1000, \" \")","v":" "},null,null,null,0,null,null,0,null,null,0,0,0,0," "," "," "]
[{"$f":"IF(COUNTRY_INFO!A187=0,\" \",COUNTRY_INFO!A187)","v":"Tanzania"},{"$f":"IF(COUNTRY_INFO!B187=0,\" \",COUNTRY_INFO!B187)","v":"Tanga"},{"$f":"IF(COUNTRY_INFO!C187=0,\" \",COUNTRY_INFO!C187)","v":"Korogwe District Council"},{"$f":"IF(COUNTRY_INFO!$T$9:$T$1000=\"MDA3 (IVM)\", COUNTRY_INFO!$T$9:$T$1000, \" \")","v":"MDA3 (IVM)"},"April 2020",63952,167129.44378627138,231081.44378627138,43398.256000000001,183817.74400000001,227216,null,null,0,43398.256000000001,183817.74400000001,227216,67.860670502877156,109.98525444449511,98.327237478295075]
[{"$f":"IF(COUNTRY_INFO!A188=0,\" \",COUNTRY_INFO!A188)","v":"Tanzania"},{"$f":"IF(COUNTRY_INFO!B188=0,\" \",COUNTRY_INFO!B188)","v":"Tanga"},{"$f":"IF(COUNTRY_INFO!C188=0,\" \",COUNTRY_INFO!C188)","v":"Korogwe Town Council"},{"$f":"IF(COUNTRY_INFO!$T$9:$T$1000=\"MDA3 (IVM)\", COUNTRY_INFO!$T$9:$T$1000, \" \")","v":" "},null,null,null,0,null,null,0,null,null,0,0,0,0," "," "," "]
[{"$f":"IF(COUNTRY_INFO!A189=0,\" \",COUNTRY_INFO!A189)","v":"Tanzania"},{"$f":"IF(COUNTRY_INFO!B189=0,\" \",COUNTRY_INFO!B189)","v":"Tanga"},{"$f":"IF(COUNTRY_INFO!C189=0,\" \",COUNTRY_INFO!C189)","v":"Lushoto District Council"},{"$f":"IF(COUNTRY_INFO!$T$9:$T$1000=\"MDA3 (IVM)\", COUNTRY_INFO!$T$9:$T$1000, \" \")","v":"MDA3 (IVM)"},"April 2020",94062,223326.49629439734,317388.49629439734,66086,279914,346000,null,null,0,66086,279914,346000,70.257914992239151,125.33846392817038,109.01466311465296]
[{"$f":"IF(COUNTRY_INFO!A190=0,\" \",COUNTRY_INFO!A190)","v":"Tanzania"},{"$f":"IF(COUNTRY_INFO!B190=0,\" \",COUNTRY_INFO!B190)","v":"Tanga"},{"$f":"IF(COUNTRY_INFO!C190=0,\" \",COUNTRY_INFO!C190)","v":"Mkinga District Council"},{"$f":"IF(COUNTRY_INFO!$T$9:$T$1000=\"MDA3 (IVM)\", COUNTRY_INFO!$T$9:$T$1000, \" \")","v":"MDA3 (IVM)"},"April 2020",34054,78666.873515618572,112720.87351561857,21882.106,92683.894,114566,null,null,0,21882.106,92683.894,114566,64.257079931872909,117.81819952663872,101.63689867442854]
[{"$f":"IF(COUNTRY_INFO!A191=0,\" \",COUNTRY_INFO!A191)","v":"Tanzania"},{"$f":"IF(COUNTRY_INFO!B191=0,\" \",COUNTRY_INFO!B191)","v":"Tanga"},{"$f":"IF(COUNTRY_INFO!C191=0,\" \",COUNTRY_INFO!C191)","v":"Muheza District Council"},{"$f":"IF(COUNTRY_INFO!$T$9:$T$1000=\"MDA3 (IVM)\", COUNTRY_INFO!$T$9:$T$1000, \" \")","v":"MDA3 (IVM)"},"July 2020",44672,150533.24351945592,195205.24351945592,38675.781000000003,163815.21899999998,202491,null,null,0,38675.781000000003,163815.21899999998,202491,86.577231823065901,108.82328392719938,103.73235695373005]
[{"$f":"IF(COUNTRY_INFO!A192=0,\" \",COUNTRY_INFO!A192)","v":"Tanzania"},{"$f":"IF(COUNTRY_INFO!B192=0,\" \",COUNTRY_INFO!B192)","v":"Tanga"},{"$f":"IF(COUNTRY_INFO!C192=0,\" \",COUNTRY_INFO!C192)","v":"Pangani District Council"},{"$f":"IF(COUNTRY_INFO!$T$9:$T$1000=\"MDA3 (IVM)\", COUNTRY_INFO!$T$9:$T$1000, \" \")","v":" "},null,null,null,0,null,null,0,null,null,0,0,0,0," "," "," "]
[{"$f":"IF(COUNTRY_INFO!A193=0,\" \",COUNTRY_INFO!A193)","v":"Tanzania"},{"$f":"IF(COUNTRY_INFO!B193=0,\" \",COUNTRY_INFO!B193)","v":"Tanga"},{"$f":"IF(COUNTRY_INFO!C193=0,\" \",COUNTRY_INFO!C193)","v":"Tanga City Council"},{"$f":"IF(COUNTRY_INFO!$T$9:$T$1000=\"MDA3 (IVM)\", COUNTRY_INFO!$T$9:$T$1000, \" \")","v":" "},null,null,null,0,null,null,0,null,null,0,0,0,0," "," "," "]

{"sheet":"T1","index":5,"n_rows":193,"n_cols":19,"rows_kept":193,"cut":false,"hidden":false,"merged":[[5,6,5,10],[5,11,5,14],[5,15,5,18],[3,0,3,2],[5,0,5,2],[5,3,6,3],[5,5,6,5],[5,4,6,4]]}
["T 1 - Praziquantel (PZQ) and Albendazole (ALB) or Mebendazole (MBD)"]
["Administrative structure, population requiring PC by age group, population treated by age group and coverage"]
[]
["TOTAL",null,null,null,null,null,{"$f":"SUM(G$9:G$1000)","v":0},3376366,3376366,0,{"$f":"SUM(K$9:K$1000)","v":3376366},0,3199570,0,3199570,{"$f":"IF(G4<>0, IF(L4/G4*100=0, \"-\", L4/G4*100), \" \")","v":" "},{"$f":"IF(OR(I4<>0,H4<>0), IF(M4/MAX(H4,I4)*100=0, \"-\", M4/MAX(H4,I4)*100), \" \")","v":94.763719336114633},{"$f":"IF(J4<>0, IF(N4/J4*100=0, \"-\", N4/J4*100), \" \")","v":" "},{"$f":"IF(K4<>0, IF(O4/K4*100=0, \"-\", O4/K4*100), \" \")","v":94.763719336114633}]
[]
[null,null,null,"PC implemented","Medicine","Date","Population targeted for T1",null,null,null,null,"Population treated",null,null,null,"Programme coverage (%)"]
["Country","Province/State","District",null,null,null,"PreSAC (ALB)","SAC (ALB)","SAC (PZQ)","Adults (PZQ)","Total","PreSAC","SAC","Adults","Total","PreSAC","SAC","Adults","Total"]
[]
[{"$f":"IF(COUNTRY_INFO!A9=0,\" \",COUNTRY_INFO!A9)","v":"Tanzania"},{"$f":"IF(COUNTRY_INFO!B9=0,\" \",COUNTRY_INFO!B9)","v":"Arusha"},{"$f":"IF(COUNTRY_INFO!C9=0,\" \",COUNTRY_INFO!C9)","v":"Arusha City Council"},{"$f":"IF(OR(COUNTRY_INFO!$T$9:$T$1000=\"T1 (PZQ+ALB/MBD)\",COUNTRY_INFO!$U$9:$U$1000=\"T1 (PZQ+ALB/MBD)\"), \"T1 (PZQ+ALB/MBD)\", \" \")","v":" "},null,null,null,null,null,null,{"$f":"MAX(H9:I9)+G9+J9","v":0},null,null,null,{"$f":"SUM(L9:N9)","v":0},{"$f":"IF(G9<>0, IF(L9/G9*100=0, \"-\", L9/G9*100), \" \")","v":" "},{"$f":"IF(OR(I9<>0,H9<>0), IF(M9/MAX(H9,I9)*100=0, \"-\", M9/MAX(H9,I9)*100), \" \")","v":" "},{"$f":"IF(J9<>0, IF(N9/J9*100=0, \"-\", N9/J9*100), \" \")","v":" "}," "]
[{"$f":"IF(COUNTRY_INFO!A10=0,\" \",COUNTRY_INFO!A10)","v":"Tanzania"},{"$f":"IF(COUNTRY_INFO!B10=0,\" \",COUNTRY_INFO!B10)","v":"Arusha"},{"$f":"IF(COUNTRY_INFO!C10=0,\" \",COUNTRY_INFO!C10)","v":"Arusha District Council"},{"$f":"IF(OR(COUNTRY_INFO!$T$9:$T$1000=\"T1 (PZQ+ALB/MBD)\",COUNTRY_INFO!$U$9:$U$1000=\"T1 (PZQ+ALB/MBD)\"), \"T1 (PZQ+ALB/MBD)\", \" \")","v":" "},null,null,null,null,null,null,{"$f":"MAX(H10:I10)+G10+J10","v":0},null,null,null,{"$f":"SUM(L10:N10)","v":0},{"$f":"IF(G10<>0, IF(L10/G10*100=0, \"-\", L10/G10*100), \" \")","v":" "},{"$f":"IF(OR(I10<>0,H10<>0), IF(M10/MAX(H10,I10)*100=0, \"-\", M10/MAX(H10,I10)*100), \" \")","v":" "},{"$f":"IF(J10<>0, IF(N10/J10*100=0, \"-\", N10/J10*100), \" \")","v":" "},{"$f":"IF(K10<>0, IF(O10/K10*100=0, \"-\", O10/K10*100), \" \")","v":" "}]
[{"$f":"IF(COUNTRY_INFO!A11=0,\" \",COUNTRY_INFO!A11)","v":"Tanzania"},{"$f":"IF(COUNTRY_INFO!B11=0,\" \",COUNTRY_INFO!B11)","v":"Arusha"},{"$f":"IF(COUNTRY_INFO!C11=0,\" \",COUNTRY_INFO!C11)","v":"Karatu District Council"},{"$f":"IF(OR(COUNTRY_INFO!$T$9:$T$1000=\"T1 (PZQ+ALB/MBD)\",COUNTRY_INFO!$U$9:$U$1000=\"T1 (PZQ+ALB/MBD)\"), \"T1 (PZQ+ALB/MBD)\", \" \")","v":" "},null,null,null,null,null,null,0,null,null,null,0," "," "," "," "]
[{"$f":"IF(COUNTRY_INFO!A12=0,\" \",COUNTRY_INFO!A12)","v":"Tanzania"},{"$f":"IF(COUNTRY_INFO!B12=0,\" \",COUNTRY_INFO!B12)","v":"Arusha"},{"$f":"IF(COUNTRY_INFO!C12=0,\" \",COUNTRY_INFO!C12)","v":"Longido District Council"},{"$f":"IF(OR(COUNTRY_INFO!$T$9:$T$1000=\"T1 (PZQ+ALB/MBD)\",COUNTRY_INFO!$U$9:$U$1000=\"T1 (PZQ+ALB/MBD)\"), \"T1 (PZQ+ALB/MBD)\", \" \")","v":" "},null,null,null,null,null,null,0,null,null,null,0," "," "," "," "]
[{"$f":"IF(COUNTRY_INFO!A13=0,\" \",COUNTRY_INFO!A13)","v":"Tanzania"},{"$f":"IF(COUNTRY_INFO!B13=0,\" \",COUNTRY_INFO!B13)","v":"Arusha"},{"$f":"IF(COUNTRY_INFO!C13=0,\" \",COUNTRY_INFO!C13)","v":"Meru District Council"},{"$f":"IF(OR(COUNTRY_INFO!$T$9:$T$1000=\"T1 (PZQ+ALB/MBD)\",COUNTRY_INFO!$U$9:$U$1000=\"T1 (PZQ+ALB/MBD)\"), \"T1 (PZQ+ALB/MBD)\", \" \")","v":" "},null,null,null,null,null,null,0,null,null,null,0," "," "," "," "]
[{"$f":"IF(COUNTRY_INFO!A14=0,\" \",COUNTRY_INFO!A14)","v":"Tanzania"},{"$f":"IF(COUNTRY_INFO!B14=0,\" \",COUNTRY_INFO!B14)","v":"Arusha"},{"$f":"IF(COUNTRY_INFO!C14=0,\" \",COUNTRY_INFO!C14)","v":"Monduli District Council"},{"$f":"IF(OR(COUNTRY_INFO!$T$9:$T$1000=\"T1 (PZQ+ALB/MBD)\",COUNTRY_INFO!$U$9:$U$1000=\"T1 (PZQ+ALB/MBD)\"), \"T1 (PZQ+ALB/MBD)\", \" \")","v":" "},null,null,null,null,null,null,0,null,null,null,0," "," "," "," "]
[{"$f":"IF(COUNTRY_INFO!A15=0,\" \",COUNTRY_INFO!A15)","v":"Tanzania"},{"$f":"IF(COUNTRY_INFO!B15=0,\" \",COUNTRY_INFO!B15)","v":"Arusha"},{"$f":"IF(COUNTRY_INFO!C15=0,\" \",COUNTRY_INFO!C15)","v":"Ngorongoro District Council"},{"$f":"IF(OR(COUNTRY_INFO!$T$9:$T$1000=\"T1 (PZQ+ALB/MBD)\",COUNTRY_INFO!$U$9:$U$1000=\"T1 (PZQ+ALB/MBD)\"), \"T1 (PZQ+ALB/MBD)\", \" \")","v":" "},null,null,null,null,null,null,0,null,null,null,0," "," "," "," "]
[{"$f":"IF(COUNTRY_INFO!A16=0,\" \",COUNTRY_INFO!A16)","v":"Tanzania"},{"$f":"IF(COUNTRY_INFO!B16=0,\" \",COUNTRY_INFO!B16)","v":"Dar Es Salaam"},{"$f":"IF(COUNTRY_INFO!C16=0,\" \",COUNTRY_INFO!C16)","v":"Dar es Salaam City Council "},{"$f":"IF(OR(COUNTRY_INFO!$T$9:$T$1000=\"T1 (PZQ+ALB/MBD)\",COUNTRY_INFO!$U$9:$U$1000=\"T1 (PZQ+ALB/MBD)\"), \"T1 (PZQ+ALB/MBD)\", \" \")","v":" "},null,null,null,null,null,null,0,null,null,null,0," "," "," "," "]
[{"$f":"IF(COUNTRY_INFO!A17=0,\" \",COUNTRY_INFO!A17)","v":"Tanzania"},{"$f":"IF(COUNTRY_INFO!B17=0,\" \",COUNTRY_INFO!B17)","v":"Dar Es Salaam"},{"$f":"IF(COUNTRY_INFO!C17=0,\" \",COUNTRY_INFO!C17)","v":"Ilala Municipal Council"},{"$f":"IF(OR(COUNTRY_INFO!$T$9:$T$1000=\"T1 (PZQ+ALB/MBD)\",COUNTRY_INFO!$U$9:$U$1000=\"T1 (PZQ+ALB/MBD)\"), \"T1 (PZQ+ALB/MBD)\", \" \")","v":" "},null,null,null,null,null,null,0,null,null,null,0," "," "," "," "]
[{"$f":"IF(COUNTRY_INFO!A18=0,\" \",COUNTRY_INFO!A18)","v":"Tanzania"},{"$f":"IF(COUNTRY_INFO!B18=0,\" \",COUNTRY_INFO!B18)","v":"Dar Es Salaam"},{"$f":"IF(COUNTRY_INFO!C18=0,\" \",COUNTRY_INFO!C18)","v":"Kigamboni Municipal Council"},{"$f":"IF(OR(COUNTRY_INFO!$T$9:$T$1000=\"T1 (PZQ+ALB/MBD)\",COUNTRY_INFO!$U$9:$U$1000=\"T1 (PZQ+ALB/MBD)\"), \"T1 (PZQ+ALB/MBD)\", \" \")","v":" "},null,null,null,null,null,null,0,null,null,null,0," "," "," "," "]
[{"$f":"IF(COUNTRY_INFO!A19=0,\" \",COUNTRY_INFO!A19)","v":"Tanzania"},{"$f":"IF(COUNTRY_INFO!B19=0,\" \",COUNTRY_INFO!B19)","v":"Dar Es Salaam"},{"$f":"IF(COUNTRY_INFO!C19=0,\" \",COUNTRY_INFO!C19)","v":"Kinondoni Municipal Council"},{"$f":"IF(OR(COUNTRY_INFO!$T$9:$T$1000=\"T1 (PZQ+ALB/MBD)\",COUNTRY_INFO!$U$9:$U$1000=\"T1 (PZQ+ALB/MBD)\"), \"T1 (PZQ+ALB/MBD)\", \" \")","v":" "},null,null,null,null,null,null,0,null,null,null,0," "," "," "," "]
[{"$f":"IF(COUNTRY_INFO!A20=0,\" \",COUNTRY_INFO!A20)","v":"Tanzania"},{"$f":"IF(COUNTRY_INFO!B20=0,\" \",COUNTRY_INFO!B20)","v":"Dar Es Salaam"},{"$f":"IF(COUNTRY_INFO!C20=0,\" \",COUNTRY_INFO!C20)","v":"Temeke Municipal Council"},{"$f":"IF(OR(COUNTRY_INFO!$T$9:$T$1000=\"T1 (PZQ+ALB/MBD)\",COUNTRY_INFO!$U$9:$U$1000=\"T1 (PZQ+ALB/MBD)\"), \"T1 (PZQ+ALB/MBD)\", \" \")","v":" "},null,null,null,null,null,null,0,null,null,null,0," "," "," "," "]
[{"$f":"IF(COUNTRY_INFO!A21=0,\" \",COUNTRY_INFO!A21)","v":"Tanzania"},{"$f":"IF(COUNTRY_INFO!B21=0,\" \",COUNTRY_INFO!B21)","v":"Dar Es Salaam"},{"$f":"IF(COUNTRY_INFO!C21=0,\" \",COUNTRY_INFO!C21)","v":"Ubungo Municipal Council"},{"$f":"IF(OR(COUNTRY_INFO!$T$9:$T$1000=\"T1 (PZQ+ALB/MBD)\",COUNTRY_INFO!$U$9:$U$1000=\"T1 (PZQ+ALB/MBD)\"), \"T1 (PZQ+ALB/MBD)\", \" \")","v":" "},null,null,null,null,null,null,0,null,null,null,0," "," "," "," "]
[{"$f":"IF(COUNTRY_INFO!A22=0,\" \",COUNTRY_INFO!A22)","v":"Tanzania"},{"$f":"IF(COUNTRY_INFO!B22=0,\" \",COUNTRY_INFO!B22)","v":"Dodoma"},{"$f":"IF(COUNTRY_INFO!C22=0,\" \",COUNTRY_INFO!C22)","v":"Bahi District Council"},{"$f":"IF(OR(COUNTRY_INFO!$T$9:$T$1000=\"T1 (PZQ+ALB/MBD)\",COUNTRY_INFO!$U$9:$U$1000=\"T1 (PZQ+ALB/MBD)\"), \"T1 (PZQ+ALB/MBD)\", \" \")","v":" "},null,null,null,null,null,null,0,null,null,null,0," "," "," "," "]
[{"$f":"IF(COUNTRY_INFO!A23=0,\" \",COUNTRY_INFO!A23)","v":"Tanzania"},{"$f":"IF(COUNTRY_INFO!B23=0,\" \",COUNTRY_INFO!B23)","v":"Dodoma"},{"$f":"IF(COUNTRY_INFO!C23=0,\" \",COUNTRY_INFO!C23)","v":"Chamwino District Council"},{"$f":"IF(OR(COUNTRY_INFO!$T$9:$T$1000=\"T1 (PZQ+ALB/MBD)\",COUNTRY_INFO!$U$9:$U$1000=\"T1 (PZQ+ALB/MBD)\"), \"T1 (PZQ+ALB/MBD)\", \" \")","v":" "},null,null,null,null,null,null,0,null,null,null,0," "," "," "," "]
[{"$f":"IF(COUNTRY_INFO!A24=0,\" \",COUNTRY_INFO!A24)","v":"Tanzania"},{"$f":"IF(COUNTRY_INFO!B24=0,\" \",COUNTRY_INFO!B24)","v":"Dodoma"},{"$f":"IF(COUNTRY_INFO!C24=0,\" \",COUNTRY_INFO!C24)","v":"Chemba District Council"},{"$f":"IF(OR(COUNTRY_INFO!$T$9:$T$1000=\"T1 (PZQ+ALB/MBD)\",COUNTRY_INFO!$U$9:$U$1000=\"T1 (PZQ+ALB/MBD)\"), \"T1 (PZQ+ALB/MBD)\", \" \")","v":" "},null,null,null,null,null,null,0,null,null,null,0," "," "," "," "]
[{"$f":"IF(COUNTRY_INFO!A25=0,\" \",COUNTRY_INFO!A25)","v":"Tanzania"},{"$f":"IF(COUNTRY_INFO!B25=0,\" \",COUNTRY_INFO!B25)","v":"Dodoma"},{"$f":"IF(COUNTRY_INFO!C25=0,\" \",COUNTRY_INFO!C25)","v":"Dodoma City Council"},{"$f":"IF(OR(COUNTRY_INFO!$T$9:$T$1000=\"T1 (PZQ+ALB/MBD)\",COUNTRY_INFO!$U$9:$U$1000=\"T1 (PZQ+ALB/MBD)\"), \"T1 (PZQ+ALB/MBD)\", \" \")","v":" "},null,null,null,null,null,null,0,null,null,null,0," "," "," "," "]
[{"$f":"IF(COUNTRY_INFO!A26=0,\" \",COUNTRY_INFO!A26)","v":"Tanzania"},{"$f":"IF(COUNTRY_INFO!B26=0,\" \",COUNTRY_INFO!B26)","v":"Dodoma"},{"$f":"IF(COUNTRY_INFO!C26=0,\" \",COUNTRY_INFO!C26)","v":"Kondoa District Council"},{"$f":"IF(OR(COUNTRY_INFO!$T$9:$T$1000=\"T1 (PZQ+ALB/MBD)\",COUNTRY_INFO!$U$9:$U$1000=\"T1 (PZQ+ALB/MBD)\"), \"T1 (PZQ+ALB/MBD)\", \" \")","v":" "},null,null,null,null,null,null,0,null,null,null,0," "," "," "," "]
[{"$f":"IF(COUNTRY_INFO!A27=0,\" \",COUNTRY_INFO!A27)","v":"Tanzania"},{"$f":"IF(COUNTRY_INFO!B27=0,\" \",COUNTRY_INFO!B27)","v":"Dodoma"},{"$f":"IF(COUNTRY_INFO!C27=0,\" \",COUNTRY_INFO!C27)","v":"Kondoa Town Council "},{"$f":"IF(OR(COUNTRY_INFO!$T$9:$T$1000=\"T1 (PZQ+ALB/MBD)\",COUNTRY_INFO!$U$9:$U$1000=\"T1 (PZQ+ALB/MBD)\"), \"T1 (PZQ+ALB/MBD)\", \" \")","v":" "},null,null,null,null,null,null,0,null,null,null,0," "," "," "," "]
[{"$f":"IF(COUNTRY_INFO!A28=0,\" \",COUNTRY_INFO!A28)","v":"Tanzania"},{"$f":"IF(COUNTRY_INFO!B28=0,\" \",COUNTRY_INFO!B28)","v":"Dodoma"},{"$f":"IF(COUNTRY_INFO!C28=0,\" \",COUNTRY_INFO!C28)","v":"Kongwa District Council"},{"$f":"IF(OR(COUNTRY_INFO!$T$9:$T$1000=\"T1 (PZQ+ALB/MBD)\",COUNTRY_INFO!$U$9:$U$1000=\"T1 (PZQ+ALB/MBD)\"), \"T1 (PZQ+ALB/MBD)\", \" \")","v":" "},null,null,null,null,null,null,0,null,null,null,0," "," "," "," "]
[{"$f":"IF(COUNTRY_INFO!A29=0,\" \",COUNTRY_INFO!A29)","v":"Tanzania"},{"$f":"IF(COUNTRY_INFO!B29=0,\" \",COUNTRY_INFO!B29)","v":"Dodoma"},{"$f":"IF(COUNTRY_INFO!C29=0,\" \",COUNTRY_INFO!C29)","v":"Mpwapwa District Council"},{"$f":"IF(OR(COUNTRY_INFO!$T$9:$T$1000=\"T1 (PZQ+ALB/MBD)\",COUNTRY_INFO!$U$9:$U$1000=\"T1 (PZQ+ALB/MBD)\"), \"T1 (PZQ+ALB/MBD)\", \" \")","v":" "},null,null,null,null,null,null,0,null,null,null,0," "," "," "," "]
[{"$f":"IF(COUNTRY_INFO!A30=0,\" \",COUNTRY_INFO!A30)","v":"Tanzania"},{"$f":"IF(COUNTRY_INFO!B30=0,\" \",COUNTRY_INFO!B30)","v":"Geita"},{"$f":"IF(COUNTRY_INFO!C30=0,\" \",COUNTRY_INFO!C30)","v":"Bukombe District Council"},{"$f":"IF(OR(COUNTRY_INFO!$T$9:$T$1000=\"T1 (PZQ+ALB/MBD)\",COUNTRY_INFO!$U$9:$U$1000=\"T1 (PZQ+ALB/MBD)\"), \"T1 (PZQ+ALB/MBD)\", \" \")","v":" "},null,null,null,null,null,null,0,null,null,null,0," "," "," "," "]
[{"$f":"IF(COUNTRY_INFO!A31=0,\" \",COUNTRY_INFO!A31)","v":"Tanzania"},{"$f":"IF(COUNTRY_INFO!B31=0,\" \",COUNTRY_INFO!B31)","v":"Geita"},{"$f":"IF(COUNTRY_INFO!C31=0,\" \",COUNTRY_INFO!C31)","v":"Chato District Council"},{"$f":"IF(OR(COUNTRY_INFO!$T$9:$T$1000=\"T1 (PZQ+ALB/MBD)\",COUNTRY_INFO!$U$9:$U$1000=\"T1 (PZQ+ALB/MBD)\"), \"T1 (PZQ+ALB/MBD)\", \" \")","v":" "},null,null,null,null,null,null,0,null,null,null,0," "," "," "," "]
[{"$f":"IF(COUNTRY_INFO!A32=0,\" \",COUNTRY_INFO!A32)","v":"Tanzania"},{"$f":"IF(COUNTRY_INFO!B32=0,\" \",COUNTRY_INFO!B32)","v":"Geita"},{"$f":"IF(COUNTRY_INFO!C32=0,\" \",COUNTRY_INFO!C32)","v":"Geita District Council"},{"$f":"IF(OR(COUNTRY_INFO!$T$9:$T$1000=\"T1 (PZQ+ALB/MBD)\",COUNTRY_INFO!$U$9:$U$1000=\"T1 (PZQ+ALB/MBD)\"), \"T1 (PZQ+ALB/MBD)\", \" \")","v":" "},null,null,null,null,null,null,0,null,null,null,0," "," "," "," "]
[{"$f":"IF(COUNTRY_INFO!A33=0,\" \",COUNTRY_INFO!A33)","v":"Tanzania"},{"$f":"IF(COUNTRY_INFO!B33=0,\" \",COUNTRY_INFO!B33)","v":"Geita"},{"$f":"IF(COUNTRY_INFO!C33=0,\" \",COUNTRY_INFO!C33)","v":"Geita Town Council"},{"$f":"IF(OR(COUNTRY_INFO!$T$9:$T$1000=\"T1 (PZQ+ALB/MBD)\",COUNTRY_INFO!$U$9:$U$1000=\"T1 (PZQ+ALB/MBD)\"), \"T1 (PZQ+ALB/MBD)\", \" \")","v":" "},null,null,null,null,null,null,0,null,null,null,0," "," "," "," "]
[{"$f":"IF(COUNTRY_INFO!A34=0,\" \",COUNTRY_INFO!A34)","v":"Tanzania"},{"$f":"IF(COUNTRY_INFO!B34=0,\" \",COUNTRY_INFO!B34)","v":"Geita"},{"$f":"IF(COUNTRY_INFO!C34=0,\" \",COUNTRY_INFO!C34)","v":"Mbogwe District Council"},{"$f":"IF(OR(COUNTRY_INFO!$T$9:$T$1000=\"T1 (PZQ+ALB/MBD)\",COUNTRY_INFO!$U$9:$U$1000=\"T1 (PZQ+ALB/MBD)\"), \"T1 (PZQ+ALB/MBD)\", \" \")","v":" "},null,null,null,null,null,null,0,null,null,null,0," "," "," "," "]
[{"$f":"IF(COUNTRY_INFO!A35=0,\" \",COUNTRY_INFO!A35)","v":"Tanzania"},{"$f":"IF(COUNTRY_INFO!B35=0,\" \",COUNTRY_INFO!B35)","v":"Geita"},{"$f":"IF(COUNTRY_INFO!C35=0,\" \",COUNTRY_INFO!C35)","v":"Nyang'hwale District Council"},{"$f":"IF(OR(COUNTRY_INFO!$T$9:$T$1000=\"T1 (PZQ+ALB/MBD)\",COUNTRY_INFO!$U$9:$U$1000=\"T1 (PZQ+ALB/MBD)\"), \"T1 (PZQ+ALB/MBD)\", \" \")","v":" "},null,null,null,null,null,null,0,null,null,null,0," "," "," "," "]
[{"$f":"IF(COUNTRY_INFO!A36=0,\" \",COUNTRY_INFO!A36)","v":"Tanzania"},{"$f":"IF(COUNTRY_INFO!B36=0,\" \",COUNTRY_INFO!B36)","v":"Iringa"},{"$f":"IF(COUNTRY_INFO!C36=0,\" \",COUNTRY_INFO!C36)","v":"Iringa District Council"},{"$f":"IF(OR(COUNTRY_INFO!$T$9:$T$1000=\"T1 (PZQ+ALB/MBD)\",COUNTRY_INFO!$U$9:$U$1000=\"T1 (PZQ+ALB/MBD)\"), \"T1 (PZQ+ALB/MBD)\", \" \")","v":"T1 (PZQ+ALB/MBD)"},"PZQ+MBD","September 2020",null,78650,78650,null,78650,null,74688,null,74688," ",94.962492053401149," ",94.962492053401149]
[{"$f":"IF(COUNTRY_INFO!A37=0,\" \",COUNTRY_INFO!A37)","v":"Tanzania"},{"$f":"IF(COUNTRY_INFO!B37=0,\" \",COUNTRY_INFO!B37)","v":"Iringa"},{"$f":"IF(COUNTRY_INFO!C37=0,\" \",COUNTRY_INFO!C37)","v":"Iringa Municipal Council"},{"$f":"IF(OR(COUNTRY_INFO!$T$9:$T$1000=\"T1 (PZQ+ALB/MBD)\",COUNTRY_INFO!$U$9:$U$1000=\"T1 (PZQ+ALB/MBD)\"), \"T1 (PZQ+ALB/MBD)\", \" \")","v":"T1 (PZQ+ALB/MBD)"},"PZQ+MBD","March 2020",null,35531,35531,null,35531,null,34215,null,34215," ",96.2961920576398," ",96.2961920576398]
[{"$f":"IF(COUNTRY_INFO!A38=0,\" \",COUNTRY_INFO!A38)","v":"Tanzania"},{"$f":"IF(COUNTRY_INFO!B38=0,\" \",COUNTRY_INFO!B38)","v":"Iringa"},{"$f":"IF(COUNTRY_INFO!C38=0,\" \",COUNTRY_INFO!C38)","v":"Kilolo District Council"},{"$f":"IF(OR(COUNTRY_INFO!$T$9:$T$1000=\"T1 (PZQ+ALB/MBD)\",COUNTRY_INFO!$U$9:$U$1000=\"T1 (PZQ+ALB/MBD)\"), \"T1 (PZQ+ALB/MBD)\", \" \")","v":"T1 (PZQ+ALB/MBD)"},"PZQ+MBD","September 2020",null,46669,46669,null,46669,null,44850,null,44850," ",96.102337740255848," ",96.102337740255848]
[{"$f":"IF(COUNTRY_INFO!A39=0,\" \",COUNTRY_INFO!A39)","v":"Tanzania"},{"$f":"IF(COUNTRY_INFO!B39=0,\" \",COUNTRY_INFO!B39)","v":"Iringa"},{"$f":"IF(COUNTRY_INFO!C39=0,\" \",COUNTRY_INFO!C39)","v":"Mafinga Town Council"},{"$f":"IF(OR(COUNTRY_INFO!$T$9:$T$1000=\"T1 (PZQ+ALB/MBD)\",COUNTRY_INFO!$U$9:$U$1000=\"T1 (PZQ+ALB/MBD)\"), \"T1 (PZQ+ALB/MBD)\", \" \")","v":"T1 (PZQ+ALB/MBD)"},"PZQ+MBD","September 2020",null,17301,17301,null,17301,null,16660,null,16660," ",96.295011849026068," ",96.295011849026068]
[{"$f":"IF(COUNTRY_INFO!A40=0,\" \",COUNTRY_INFO!A40)","v":"Tanzania"},{"$f":"IF(COUNTRY_INFO!B40=0,\" \",COUNTRY_INFO!B40)","v":"Iringa"},{"$f":"IF(COUNTRY_INFO!C40=0,\" \",COUNTRY_INFO!C40)","v":"Mufindi District Council"},{"$f":"IF(OR(COUNTRY_INFO!$T$9:$T$1000=\"T1 (PZQ+ALB/MBD)\",COUNTRY_INFO!$U$9:$U$1000=\"T1 (PZQ+ALB/MBD)\"), \"T1 (PZQ+ALB/MBD)\", \" \")","v":"T1 (PZQ+ALB/MBD)"},"PZQ+MBD","September 2020",null,69722,69722,null,69722,null,67776,null,67776," ",97.208915406901696," ",97.208915406901696]
[{"$f":"IF(COUNTRY_INFO!A41=0,\" \",COUNTRY_INFO!A41)","v":"Tanzania"},{"$f":"IF(COUNTRY_INFO!B41=0,\" \",COUNTRY_INFO!B41)","v":"Kagera"},{"$f":"IF(COUNTRY_INFO!C41=0,\" \",COUNTRY_INFO!C41)","v":"Biharamulo District Council"},{"$f":"IF(OR(COUNTRY_INFO!$T$9:$T$1000=\"T1 (PZQ+ALB/MBD)\",COUNTRY_INFO!$U$9:$U$1000=\"T1 (PZQ+ALB/MBD)\"), \"T1 (PZQ+ALB/MBD)\", \" \")","v":" "},null,null,null,null,null,null,0,null,null,null,0," "," "," "," "]
[{"$f":"IF(COUNTRY_INFO!A42=0,\" \",COUNTRY_INFO!A42)","v":"Tanzania"},{"$f":"IF(COUNTRY_INFO!B42=0,\" \",COUNTRY_INFO!B42)","v":"Kagera"},{"$f":"IF(COUNTRY_INFO!C42=0,\" \",COUNTRY_INFO!C42)","v":"Bukoba District Council"},{"$f":"IF(OR(COUNTRY_INFO!$T$9:$T$1000=\"T1 (PZQ+ALB/MBD)\",COUNTRY_INFO!$U$9:$U$1000=\"T1 (PZQ+ALB/MBD)\"), \"T1 (PZQ+ALB/MBD)\", \" \")","v":" "},null,null,null,null,null,null,0,null,null,null,0," "," "," "," "]
[{"$f":"IF(COUNTRY_INFO!A43=0,\" \",COUNTRY_INFO!A43)","v":"Tanzania"},{"$f":"IF(COUNTRY_INFO!B43=0,\" \",COUNTRY_INFO!B43)","v":"Kagera"},{"$f":"IF(COUNTRY_INFO!C43=0,\" \",COUNTRY_INFO!C43)","v":"Bukoba Municipal Council"},{"$f":"IF(OR(COUNTRY_INFO!$T$9:$T$1000=\"T1 (PZQ+ALB/MBD)\",COUNTRY_INFO!$U$9:$U$1000=\"T1 (PZQ+ALB/MBD)\"), \"T1 (PZQ+ALB/MBD)\", \" \")","v":" "},null,null,null,null,null,null,0,null,null,null,0," "," "," "," "]
[{"$f":"IF(COUNTRY_INFO!A44=0,\" \",COUNTRY_INFO!A44)","v":"Tanzania"},{"$f":"IF(COUNTRY_INFO!B44=0,\" \",COUNTRY_INFO!B44)","v":"Kagera"},{"$f":"IF(COUNTRY_INFO!C44=0,\" \",COUNTRY_INFO!C44)","v":"Karagwe District Council"},{"$f":"IF(OR(COUNTRY_INFO!$T$9:$T$1000=\"T1 (PZQ+ALB/MBD)\",COUNTRY_INFO!$U$9:$U$1000=\"T1 (PZQ+ALB/MBD)\"), \"T1 (PZQ+ALB/MBD)\", \" \")","v":" "},null,null,null,null,null,null,0,null,null,null,0," "," "," "," "]
[{"$f":"IF(COUNTRY_INFO!A45=0,\" \",COUNTRY_INFO!A45)","v":"Tanzania"},{"$f":"IF(COUNTRY_INFO!B45=0,\" \",COUNTRY_INFO!B45)","v":"Kagera"},{"$f":"IF(COUNTRY_INFO!C45=0,\" \",COUNTRY_INFO!C45)","v":"Kyerwa District Council"},{"$f":"IF(OR(COUNTRY_INFO!$T$9:$T$1000=\"T1 (PZQ+ALB/MBD)\",COUNTRY_INFO!$U$9:$U$1000=\"T1 (PZQ+ALB/MBD)\"), \"T1 (PZQ+ALB/MBD)\", \" \")","v":" "},null,null,null,null,null,null,0,null,null,null,0," "," "," "," "]
[{"$f":"IF(COUNTRY_INFO!A46=0,\" \",COUNTRY_INFO!A46)","v":"Tanzania"},{"$f":"IF(COUNTRY_INFO!B46=0,\" \",COUNTRY_INFO!B46)","v":"Kagera"},{"$f":"IF(COUNTRY_INFO!C46=0,\" \",COUNTRY_INFO!C46)","v":"Missenyi District Council"},{"$f":"IF(OR(COUNTRY_INFO!$T$9:$T$1000=\"T1 (PZQ+ALB/MBD)\",COUNTRY_INFO!$U$9:$U$1000=\"T1 (PZQ+ALB/MBD)\"), \"T1 (PZQ+ALB/MBD)\", \" \")","v":" "},null,null,null,null,null,null,0,null,null,null,0," "," "," "," "]
[{"$f":"IF(COUNTRY_INFO!A47=0,\" \",COUNTRY_INFO!A47)","v":"Tanzania"},{"$f":"IF(COUNTRY_INFO!B47=0,\" \",COUNTRY_INFO!B47)","v":"Kagera"},{"$f":"IF(COUNTRY_INFO!C47=0,\" \",COUNTRY_INFO!C47)","v":"Muleba District Council"},{"$f":"IF(OR(COUNTRY_INFO!$T$9:$T$1000=\"T1 (PZQ+ALB/MBD)\",COUNTRY_INFO!$U$9:$U$1000=\"T1 (PZQ+ALB/MBD)\"), \"T1 (PZQ+ALB/MBD)\", \" \")","v":" "},null,null,null,null,null,null,0,null,null,null,0," "," "," "," "]
[{"$f":"IF(COUNTRY_INFO!A48=0,\" \",COUNTRY_INFO!A48)","v":"Tanzania"},{"$f":"IF(COUNTRY_INFO!B48=0,\" \",COUNTRY_INFO!B48)","v":"Kagera"},{"$f":"IF(COUNTRY_INFO!C48=0,\" \",COUNTRY_INFO!C48)","v":"Ngara District Council"},{"$f":"IF(OR(COUNTRY_INFO!$T$9:$T$1000=\"T1 (PZQ+ALB/MBD)\",COUNTRY_INFO!$U$9:$U$1000=\"T1 (PZQ+ALB/MBD)\"), \"T1 (PZQ+ALB/MBD)\", \" \")","v":" "},null,null,null,null,null,null,0,null,null,null,0," "," "," "," "]
[{"$f":"IF(COUNTRY_INFO!A49=0,\" \",COUNTRY_INFO!A49)","v":"Tanzania"},{"$f":"IF(COUNTRY_INFO!B49=0,\" \",COUNTRY_INFO!B49)","v":"Katavi"},{"$f":"IF(COUNTRY_INFO!C49=0,\" \",COUNTRY_INFO!C49)","v":"Mlele District Council"},{"$f":"IF(OR(COUNTRY_INFO!$T$9:$T$1000=\"T1 (PZQ+ALB/MBD)\",COUNTRY_INFO!$U$9:$U$1000=\"T1 (PZQ+ALB/MBD)\"), \"T1 (PZQ+ALB/MBD)\", \" \")","v":" "},null,null,null,null,null,null,0,null,null,null,0," "," "," "," "]
[{"$f":"IF(COUNTRY_INFO!A50=0,\" \",COUNTRY_INFO!A50)","v":"Tanzania"},{"$f":"IF(COUNTRY_INFO!B50=0,\" \",COUNTRY_INFO!B50)","v":"Katavi"},{"$f":"IF(COUNTRY_INFO!C50=0,\" \",COUNTRY_INFO!C50)","v":"Mpanda District Council"},{"$f":"IF(OR(COUNTRY_INFO!$T$9:$T$1000=\"T1 (PZQ+ALB/MBD)\",COUNTRY_INFO!$U$9:$U$1000=\"T1 (PZQ+ALB/MBD)\"), \"T1 (PZQ+ALB/MBD)\", \" \")","v":" "},null,null,null,null,null,null,0,null,null,null,0," "," "," "," "]
[{"$f":"IF(COUNTRY_INFO!A51=0,\" \",COUNTRY_INFO!A51)","v":"Tanzania"},{"$f":"IF(COUNTRY_INFO!B51=0,\" \",COUNTRY_INFO!B51)","v":"Katavi"},{"$f":"IF(COUNTRY_INFO!C51=0,\" \",COUNTRY_INFO!C51)","v":"Mpanda Municipal Council"},{"$f":"IF(OR(COUNTRY_INFO!$T$9:$T$1000=\"T1 (PZQ+ALB/MBD)\",COUNTRY_INFO!$U$9:$U$1000=\"T1 (PZQ+ALB/MBD)\"), \"T1 (PZQ+ALB/MBD)\", \" \")","v":" "},null,null,null,null,null,null,0,null,null,null,0," "," "," "," "]
[{"$f":"IF(COUNTRY_INFO!A52=0,\" \",COUNTRY_INFO!A52)","v":"Tanzania"},{"$f":"IF(COUNTRY_INFO!B52=0,\" \",COUNTRY_INFO!B52)","v":"Katavi"},{"$f":"IF(COUNTRY_INFO!C52=0,\" \",COUNTRY_INFO!C52)","v":"Mpimbwe District Council"},{"$f":"IF(OR(COUNTRY_INFO!$T$9:$T$1000=\"T1 (PZQ+ALB/MBD)\",COUNTRY_INFO!$U$9:$U$1000=\"T1 (PZQ+ALB/MBD)\"), \"T1 (PZQ+ALB/MBD)\", \" \")","v":" "},null,null,null,null,null,null,0,null,null,null,0," "," "," "," "]
[{"$f":"IF(COUNTRY_INFO!A53=0,\" \",COUNTRY_INFO!A53)","v":"Tanzania"},{"$f":"IF(COUNTRY_INFO!B53=0,\" \",COUNTRY_INFO!B53)","v":"Katavi"},{"$f":"IF(COUNTRY_INFO!C53=0,\" \",COUNTRY_INFO!C53)","v":"Nsimbo District Council"},{"$f":"IF(OR(COUNTRY_INFO!$T$9:$T$1000=\"T1 (PZQ+ALB/MBD)\",COUNTRY_INFO!$U$9:$U$1000=\"T1 (PZQ+ALB/MBD)\"), \"T1 (PZQ+ALB/MBD)\", \" \")","v":" "},null,null,null,null,null,null,0,null,null,null,0," "," "," "," "]
[{"$f":"IF(COUNTRY_INFO!A54=0,\" \",COUNTRY_INFO!A54)","v":"Tanzania"},{"$f":"IF(COUNTRY_INFO!B54=0,\" \",COUNTRY_INFO!B54)","v":"Kigoma"},{"$f":"IF(COUNTRY_INFO!C54=0,\" \",COUNTRY_INFO!C54)","v":"Buhigwe District Council"},{"$f":"IF(OR(COUNTRY_INFO!$T$9:$T$1000=\"T1 (PZQ+ALB/MBD)\",COUNTRY_INFO!$U$9:$U$1000=\"T1 (PZQ+ALB/MBD)\"), \"T1 (PZQ+ALB/MBD)\", \" \")","v":" "},null,null,null,null,null,null,0,null,null,null,0," "," "," "," "]
[{"$f":"IF(COUNTRY_INFO!A55=0,\" \",COUNTRY_INFO!A55)","v":"Tanzania"},{"$f":"IF(COUNTRY_INFO!B55=0,\" \",COUNTRY_INFO!B55)","v":"Kigoma"},{"$f":"IF(COUNTRY_INFO!C55=0,\" \",COUNTRY_INFO!C55)","v":"Kakonko District Council"},{"$f":"IF(OR(COUNTRY_INFO!$T$9:$T$1000=\"T1 (PZQ+ALB/MBD)\",COUNTRY_INFO!$U$9:$U$1000=\"T1 (PZQ+ALB/MBD)\"), \"T1 (PZQ+ALB/MBD)\", \" \")","v":" "},null,null,null,null,null,null,0,null,null,null,0," "," "," "," "]
[{"$f":"IF(COUNTRY_INFO!A56=0,\" \",COUNTRY_INFO!A56)","v":"Tanzania"},{"$f":"IF(COUNTRY_INFO!B56=0,\" \",COUNTRY_INFO!B56)","v":"Kigoma"},{"$f":"IF(COUNTRY_INFO!C56=0,\" \",COUNTRY_INFO!C56)","v":"Kasulu District Council"},{"$f":"IF(OR(COUNTRY_INFO!$T$9:$T$1000=\"T1 (PZQ+ALB/MBD)\",COUNTRY_INFO!$U$9:$U$1000=\"T1 (PZQ+ALB/MBD)\"), \"T1 (PZQ+ALB/MBD)\", \" \")","v":" "},null,null,null,null,null,null,0,null,null,null,0," "," "," "," "]
[{"$f":"IF(COUNTRY_INFO!A57=0,\" \",COUNTRY_INFO!A57)","v":"Tanzania"},{"$f":"IF(COUNTRY_INFO!B57=0,\" \",COUNTRY_INFO!B57)","v":"Kigoma"},{"$f":"IF(COUNTRY_INFO!C57=0,\" \",COUNTRY_INFO!C57)","v":"Kasulu Town Council"},{"$f":"IF(OR(COUNTRY_INFO!$T$9:$T$1000=\"T1 (PZQ+ALB/MBD)\",COUNTRY_INFO!$U$9:$U$1000=\"T1 (PZQ+ALB/MBD)\"), \"T1 (PZQ+ALB/MBD)\", \" \")","v":" "},null,null,null,null,null,null,0,null,null,null,0," "," "," "," "]
[{"$f":"IF(COUNTRY_INFO!A58=0,\" \",COUNTRY_INFO!A58)","v":"Tanzania"},{"$f":"IF(COUNTRY_INFO!B58=0,\" \",COUNTRY_INFO!B58)","v":"Kigoma"},{"$f":"IF(COUNTRY_INFO!C58=0,\" \",COUNTRY_INFO!C58)","v":"Kibondo District Council"},{"$f":"IF(OR(COUNTRY_INFO!$T$9:$T$1000=\"T1 (PZQ+ALB/MBD)\",COUNTRY_INFO!$U$9:$U$1000=\"T1 (PZQ+ALB/MBD)\"), \"T1 (PZQ+ALB/MBD)\", \" \")","v":" "},null,null,null,null,null,null,0,null,null,null,0," "," "," "," "]
[{"$f":"IF(COUNTRY_INFO!A59=0,\" \",COUNTRY_INFO!A59)","v":"Tanzania"},{"$f":"IF(COUNTRY_INFO!B59=0,\" \",COUNTRY_INFO!B59)","v":"Kigoma"},{"$f":"IF(COUNTRY_INFO!C59=0,\" \",COUNTRY_INFO!C59)","v":"Kigoma District Council"},{"$f":"IF(OR(COUNTRY_INFO!$T$9:$T$1000=\"T1 (PZQ+ALB/MBD)\",COUNTRY_INFO!$U$9:$U$1000=\"T1 (PZQ+ALB/MBD)\"), \"T1 (PZQ+ALB/MBD)\", \" \")","v":" "},null,null,null,null,null,null,0,null,null,null,0," "," "," "," "]
[{"$f":"IF(COUNTRY_INFO!A60=0,\" \",COUNTRY_INFO!A60)","v":"Tanzania"},{"$f":"IF(COUNTRY_INFO!B60=0,\" \",COUNTRY_INFO!B60)","v":"Kigoma"},{"$f":"IF(COUNTRY_INFO!C60=0,\" \",COUNTRY_INFO!C60)","v":"Kigoma-Ujiji Municipal Council"},{"$f":"IF(OR(COUNTRY_INFO!$T$9:$T$1000=\"T1 (PZQ+ALB/MBD)\",COUNTRY_INFO!$U$9:$U$1000=\"T1 (PZQ+ALB/MBD)\"), \"T1 (PZQ+ALB/MBD)\", \" \")","v":" "},null,null,null,null,null,null,0,null,null,null,0," "," "," "," "]
[{"$f":"IF(COUNTRY_INFO!A61=0,\" \",COUNTRY_INFO!A61)","v":"Tanzania"},{"$f":"IF(COUNTRY_INFO!B61=0,\" \",COUNTRY_INFO!B61)","v":"Kigoma"},{"$f":"IF(COUNTRY_INFO!C61=0,\" \",COUNTRY_INFO!C61)","v":"Uvinza District Council"},{"$f":"IF(OR(COUNTRY_INFO!$T$9:$T$1000=\"T1 (PZQ+ALB/MBD)\",COUNTRY_INFO!$U$9:$U$1000=\"T1 (PZQ+ALB/MBD)\"), \"T1 (PZQ+ALB/MBD)\", \" \")","v":" "},null,null,null,null,null,null,0,null,null,null,0," "," "," "," "]
[{"$f":"IF(COUNTRY_INFO!A62=0,\" \",COUNTRY_INFO!A62)","v":"Tanzania"},{"$f":"IF(COUNTRY_INFO!B62=0,\" \",COUNTRY_INFO!B62)","v":"Kilimanjaro"},{"$f":"IF(COUNTRY_INFO!C62=0,\" \",COUNTRY_INFO!C62)","v":"Hai District Council"},{"$f":"IF(OR(COUNTRY_INFO!$T$9:$T$1000=\"T1 (PZQ+ALB/MBD)\",COUNTRY_INFO!$U$9:$U$1000=\"T1 (PZQ+ALB/MBD)\"), \"T1 (PZQ+ALB/MBD)\", \" \")","v":" "},null,null,null,null,null,null,0,null,null,null,0," "," "," "," "]
[{"$f":"IF(COUNTRY_INFO!A63=0,\" \",COUNTRY_INFO!A63)","v":"Tanzania"},{"$f":"IF(COUNTRY_INFO!B63=0,\" \",COUNTRY_INFO!B63)","v":"Kilimanjaro"},{"$f":"IF(COUNTRY_INFO!C63=0,\" \",COUNTRY_INFO!C63)","v":"Moshi District Council"},{"$f":"IF(OR(COUNTRY_INFO!$T$9:$T$1000=\"T1 (PZQ+ALB/MBD)\",COUNTRY_INFO!$U$9:$U$1000=\"T1 (PZQ+ALB/MBD)\"), \"T1 (PZQ+ALB/MBD)\", \" \")","v":" "},null,null,null,null,null,null,0,null,null,null,0," "," "," "," "]
[{"$f":"IF(COUNTRY_INFO!A64=0,\" \",COUNTRY_INFO!A64)","v":"Tanzania"},{"$f":"IF(COUNTRY_INFO!B64=0,\" \",COUNTRY_INFO!B64)","v":"Kilimanjaro"},{"$f":"IF(COUNTRY_INFO!C64=0,\" \",COUNTRY_INFO!C64)","v":"Moshi Municipal Council"},{"$f":"IF(OR(COUNTRY_INFO!$T$9:$T$1000=\"T1 (PZQ+ALB/MBD)\",COUNTRY_INFO!$U$9:$U$1000=\"T1 (PZQ+ALB/MBD)\"), \"T1 (PZQ+ALB/MBD)\", \" \")","v":" "},null,null,null,null,null,null,0,null,null,null,0," "," "," "," "]
[{"$f":"IF(COUNTRY_INFO!A65=0,\" \",COUNTRY_INFO!A65)","v":"Tanzania"},{"$f":"IF(COUNTRY_INFO!B65=0,\" \",COUNTRY_INFO!B65)","v":"Kilimanjaro"},{"$f":"IF(COUNTRY_INFO!C65=0,\" \",COUNTRY_INFO!C65)","v":"Mwanga District Council"},{"$f":"IF(OR(COUNTRY_INFO!$T$9:$T$1000=\"T1 (PZQ+ALB/MBD)\",COUNTRY_INFO!$U$9:$U$1000=\"T1 (PZQ+ALB/MBD)\"), \"T1 (PZQ+ALB/MBD)\", \" \")","v":" "},null,null,null,null,null,null,0,null,null,null,0," "," "," "," "]
[{"$f":"IF(COUNTRY_INFO!A66=0,\" \",COUNTRY_INFO!A66)","v":"Tanzania"},{"$f":"IF(COUNTRY_INFO!B66=0,\" \",COUNTRY_INFO!B66)","v":"Kilimanjaro"},{"$f":"IF(COUNTRY_INFO!C66=0,\" \",COUNTRY_INFO!C66)","v":"Rombo District Council"},{"$f":"IF(OR(COUNTRY_INFO!$T$9:$T$1000=\"T1 (PZQ+ALB/MBD)\",COUNTRY_INFO!$U$9:$U$1000=\"T1 (PZQ+ALB/MBD)\"), \"T1 (PZQ+ALB/MBD)\", \" \")","v":" "},null,null,null,null,null,null,0,null,null,null,0," "," "," "," "]
[{"$f":"IF(COUNTRY_INFO!A67=0,\" \",COUNTRY_INFO!A67)","v":"Tanzania"},{"$f":"IF(COUNTRY_INFO!B67=0,\" \",COUNTRY_INFO!B67)","v":"Kilimanjaro"},{"$f":"IF(COUNTRY_INFO!C67=0,\" \",COUNTRY_INFO!C67)","v":"Same District Council"},{"$f":"IF(OR(COUNTRY_INFO!$T$9:$T$1000=\"T1 (PZQ+ALB/MBD)\",COUNTRY_INFO!$U$9:$U$1000=\"T1 (PZQ+ALB/MBD)\"), \"T1 (PZQ+ALB/MBD)\", \" \")","v":" "},null,null,null,null,null,null,0,null,null,null,0," "," "," "," "]
[{"$f":"IF(COUNTRY_INFO!A68=0,\" \",COUNTRY_INFO!A68)","v":"Tanzania"},{"$f":"IF(COUNTRY_INFO!B68=0,\" \",COUNTRY_INFO!B68)","v":"Kilimanjaro"},{"$f":"IF(COUNTRY_INFO!C68=0,\" \",COUNTRY_INFO!C68)","v":"Siha District Council"},{"$f":"IF(OR(COUNTRY_INFO!$T$9:$T$1000=\"T1 (PZQ+ALB/MBD)\",COUNTRY_INFO!$U$9:$U$1000=\"T1 (PZQ+ALB/MBD)\"), \"T1 (PZQ+ALB/MBD)\", \" \")","v":" "},null,null,null,null,null,null,0,null,null,null,0," "," "," "," "]
[{"$f":"IF(COUNTRY_INFO!A69=0,\" \",COUNTRY_INFO!A69)","v":"Tanzania"},{"$f":"IF(COUNTRY_INFO!B69=0,\" \",COUNTRY_INFO!B69)","v":"Lindi"},{"$f":"IF(COUNTRY_INFO!C69=0,\" \",COUNTRY_INFO!C69)","v":"Kilwa District Council"},{"$f":"IF(OR(COUNTRY_INFO!$T$9:$T$1000=\"T1 (PZQ+ALB/MBD)\",COUNTRY_INFO!$U$9:$U$1000=\"T1 (PZQ+ALB/MBD)\"), \"T1 (PZQ+ALB/MBD)\", \" \")","v":" "},null,null,null,null,null,null,0,null,null,null,0," "," "," "," "]
[{"$f":"IF(COUNTRY_INFO!A70=0,\" \",COUNTRY_INFO!A70)","v":"Tanzania"},{"$f":"IF(COUNTRY_INFO!B70=0,\" \",COUNTRY_INFO!B70)","v":"Lindi"},{"$f":"IF(COUNTRY_INFO!C70=0,\" \",COUNTRY_INFO!C70)","v":"Lindi District Council (Mtama District Council)"},{"$f":"IF(OR(COUNTRY_INFO!$T$9:$T$1000=\"T1 (PZQ+ALB/MBD)\",COUNTRY_INFO!$U$9:$U$1000=\"T1 (PZQ+ALB/MBD)\"), \"T1 (PZQ+ALB/MBD)\", \" \")","v":" "},null,null,null,null,null,null,0,null,null,null,0," "," "," "," "]
[{"$f":"IF(COUNTRY_INFO!A71=0,\" \",COUNTRY_INFO!A71)","v":"Tanzania"},{"$f":"IF(COUNTRY_INFO!B71=0,\" \",COUNTRY_INFO!B71)","v":"Lindi"},{"$f":"IF(COUNTRY_INFO!C71=0,\" \",COUNTRY_INFO!C71)","v":"Lindi Municipal Council"},{"$f":"IF(OR(COUNTRY_INFO!$T$9:$T$1000=\"T1 (PZQ+ALB/MBD)\",COUNTRY_INFO!$U$9:$U$1000=\"T1 (PZQ+ALB/MBD)\"), \"T1 (PZQ+ALB/MBD)\", \" \")","v":" "},null,null,null,null,null,null,0,null,null,null,0," "," "," "," "]
[{"$f":"IF(COUNTRY_INFO!A72=0,\" \",COUNTRY_INFO!A72)","v":"Tanzania"},{"$f":"IF(COUNTRY_INFO!B72=0,\" \",COUNTRY_INFO!B72)","v":"Lindi"},{"$f":"IF(COUNTRY_INFO!C72=0,\" \",COUNTRY_INFO!C72)","v":"Liwale District Council"},{"$f":"IF(OR(COUNTRY_INFO!$T$9:$T$1000=\"T1 (PZQ+ALB/MBD)\",COUNTRY_INFO!$U$9:$U$1000=\"T1 (PZQ+ALB/MBD)\"), \"T1 (PZQ+ALB/MBD)\", \" \")","v":" "},null,null,null,null,null,null,0,null,null,null,0," "," "," "," "]
[{"$f":"IF(COUNTRY_INFO!A73=0,\" \",COUNTRY_INFO!A73)","v":"Tanzania"},{"$f":"IF(COUNTRY_INFO!B73=0,\" \",COUNTRY_INFO!B73)","v":"Lindi"},{"$f":"IF(COUNTRY_INFO!C73=0,\" \",COUNTRY_INFO!C73)","v":"Nachingwea District Council"},{"$f":"IF(OR(COUNTRY_INFO!$T$9:$T$1000=\"T1 (PZQ+ALB/MBD)\",COUNTRY_INFO!$U$9:$U$1000=\"T1 (PZQ+ALB/MBD)\"), \"T1 (PZQ+ALB/MBD)\", \" \")","v":"T1 (PZQ+ALB/MBD)"},"PZQ+ALB","July 2020",null,41540,41540,null,41540,null,39564,null,39564," ",95.243139142994707," ",95.243139142994707]
[{"$f":"IF(COUNTRY_INFO!A74=0,\" \",COUNTRY_INFO!A74)","v":"Tanzania"},{"$f":"IF(COUNTRY_INFO!B74=0,\" \",COUNTRY_INFO!B74)","v":"Lindi"},{"$f":"IF(COUNTRY_INFO!C74=0,\" \",COUNTRY_INFO!C74)","v":"Ruangwa District Council"},{"$f":"IF(OR(COUNTRY_INFO!$T$9:$T$1000=\"T1 (PZQ+ALB/MBD)\",COUNTRY_INFO!$U$9:$U$1000=\"T1 (PZQ+ALB/MBD)\"), \"T1 (PZQ+ALB/MBD)\", \" \")","v":"T1 (PZQ+ALB/MBD)"},"PZQ+ALB","March 2020",null,29031,29031,null,{"$f":"MAX(H74:I74)+G74+J74","v":29031},null,26416,null,{"$f":"SUM(L74:N74)","v":26416},{"$f":"IF(G74<>0, IF(L74/G74*100=0, \"-\", L74/G74*100), \" \")","v":" "},{"$f":"IF(OR(I74<>0,H74<>0), IF(M74/MAX(H74,I74)*100=0, \"-\", M74/MAX(H74,I74)*100), \" \")","v":90.992387447900526},{"$f":"IF(J74<>0, IF(N74/J74*100=0, \"-\", N74/J74*100), \" \")","v":" "},{"$f":"IF(K74<>0, IF(O74/K74*100=0, \"-\", O74/K74*100), \" \")","v":90.992387447900526}]
[{"$f":"IF(COUNTRY_INFO!A75=0,\" \",COUNTRY_INFO!A75)","v":"Tanzania"},{"$f":"IF(COUNTRY_INFO!B75=0,\" \",COUNTRY_INFO!B75)","v":"Manyara"},{"$f":"IF(COUNTRY_INFO!C75=0,\" \",COUNTRY_INFO!C75)","v":"Babati District Council"},{"$f":"IF(OR(COUNTRY_INFO!$T$9:$T$1000=\"T1 (PZQ+ALB/MBD)\",COUNTRY_INFO!$U$9:$U$1000=\"T1 (PZQ+ALB/MBD)\"), \"T1 (PZQ+ALB/MBD)\", \" \")","v":" "},null,null,null,null,null,null,0,null,null,null,0," "," "," "," "]
[{"$f":"IF(COUNTRY_INFO!A76=0,\" \",COUNTRY_INFO!A76)","v":"Tanzania"},{"$f":"IF(COUNTRY_INFO!B76=0,\" \",COUNTRY_INFO!B76)","v":"Manyara"},{"$f":"IF(COUNTRY_INFO!C76=0,\" \",COUNTRY_INFO!C76)","v":"Babati Town Council"},{"$f":"IF(OR(COUNTRY_INFO!$T$9:$T$1000=\"T1 (PZQ+ALB/MBD)\",COUNTRY_INFO!$U$9:$U$1000=\"T1 (PZQ+ALB/MBD)\"), \"T1 (PZQ+ALB/MBD)\", \" \")","v":" "},null,null,null,null,null,null,0,null,null,null,0," "," "," "," "]
[{"$f":"IF(COUNTRY_INFO!A77=0,\" \",COUNTRY_INFO!A77)","v":"Tanzania"},{"$f":"IF(COUNTRY_INFO!B77=0,\" \",COUNTRY_INFO!B77)","v":"Manyara"},{"$f":"IF(COUNTRY_INFO!C77=0,\" \",COUNTRY_INFO!C77)","v":"Hanang District Council"},{"$f":"IF(OR(COUNTRY_INFO!$T$9:$T$1000=\"T1 (PZQ+ALB/MBD)\",COUNTRY_INFO!$U$9:$U$1000=\"T1 (PZQ+ALB/MBD)\"), \"T1 (PZQ+ALB/MBD)\", \" \")","v":" "},null,null,null,null,null,null,0,null,null,null,0," "," "," "," "]
[{"$f":"IF(COUNTRY_INFO!A78=0,\" \",COUNTRY_INFO!A78)","v":"Tanzania"},{"$f":"IF(COUNTRY_INFO!B78=0,\" \",COUNTRY_INFO!B78)","v":"Manyara"},{"$f":"IF(COUNTRY_INFO!C78=0,\" \",COUNTRY_INFO!C78)","v":"Kiteto District Council"},{"$f":"IF(OR(COUNTRY_INFO!$T$9:$T$1000=\"T1 (PZQ+ALB/MBD)\",COUNTRY_INFO!$U$9:$U$1000=\"T1 (PZQ+ALB/MBD)\"), \"T1 (PZQ+ALB/MBD)\", \" \")","v":" "},null,null,null,null,null,null,0,null,null,null,0," "," "," "," "]
[{"$f":"IF(COUNTRY_INFO!A79=0,\" \",COUNTRY_INFO!A79)","v":"Tanzania"},{"$f":"IF(COUNTRY_INFO!B79=0,\" \",COUNTRY_INFO!B79)","v":"Manyara"},{"$f":"IF(COUNTRY_INFO!C79=0,\" \",COUNTRY_INFO!C79)","v":"Mbulu District Council"},{"$f":"IF(OR(COUNTRY_INFO!$T$9:$T$1000=\"T1 (PZQ+ALB/MBD)\",COUNTRY_INFO!$U$9:$U$1000=\"T1 (PZQ+ALB/MBD)\"), \"T1 (PZQ+ALB/MBD)\", \" \")","v":" "},null,null,null,null,null,null,0,null,null,null,0," "," "," "," "]
[{"$f":"IF(COUNTRY_INFO!A80=0,\" \",COUNTRY_INFO!A80)","v":"Tanzania"},{"$f":"IF(COUNTRY_INFO!B80=0,\" \",COUNTRY_INFO!B80)","v":"Manyara"},{"$f":"IF(COUNTRY_INFO!C80=0,\" \",COUNTRY_INFO!C80)","v":"Mbulu Town Council"},{"$f":"IF(OR(COUNTRY_INFO!$T$9:$T$1000=\"T1 (PZQ+ALB/MBD)\",COUNTRY_INFO!$U$9:$U$1000=\"T1 (PZQ+ALB/MBD)\"), \"T1 (PZQ+ALB/MBD)\", \" \")","v":" "},null,null,null,null,null,null,0,null,null,null,0," "," "," "," "]
[{"$f":"IF(COUNTRY_INFO!A81=0,\" \",COUNTRY_INFO!A81)","v":"Tanzania"},{"$f":"IF(COUNTRY_INFO!B81=0,\" \",COUNTRY_INFO!B81)","v":"Manyara"},{"$f":"IF(COUNTRY_INFO!C81=0,\" \",COUNTRY_INFO!C81)","v":"Simanjiro District Council"},{"$f":"IF(OR(COUNTRY_INFO!$T$9:$T$1000=\"T1 (PZQ+ALB/MBD)\",COUNTRY_INFO!$U$9:$U$1000=\"T1 (PZQ+ALB/MBD)\"), \"T1 (PZQ+ALB/MBD)\", \" \")","v":" "},null,null,null,null,null,null,0,null,null,null,0," "," "," "," "]
[{"$f":"IF(COUNTRY_INFO!A82=0,\" \",COUNTRY_INFO!A82)","v":"Tanzania"},{"$f":"IF(COUNTRY_INFO!B82=0,\" \",COUNTRY_INFO!B82)","v":"Mara"},{"$f":"IF(COUNTRY_INFO!C82=0,\" \",COUNTRY_INFO!C82)","v":"Bunda District Council"},{"$f":"IF(OR(COUNTRY_INFO!$T$9:$T$1000=\"T1 (PZQ+ALB/MBD)\",COUNTRY_INFO!$U$9:$U$1000=\"T1 (PZQ+ALB/MBD)\"), \"T1 (PZQ+ALB/MBD)\", \" \")","v":" "},null,null,null,null,null,null,0,null,null,null,0," "," "," "," "]
[{"$f":"IF(COUNTRY_INFO!A83=0,\" \",COUNTRY_INFO!A83)","v":"Tanzania"},{"$f":"IF(COUNTRY_INFO!B83=0,\" \",COUNTRY_INFO!B83)","v":"Mara"},{"$f":"IF(COUNTRY_INFO!C83=0,\" \",COUNTRY_INFO!C83)","v":"Bunda Town Council"},{"$f":"IF(OR(COUNTRY_INFO!$T$9:$T$1000=\"T1 (PZQ+ALB/MBD)\",COUNTRY_INFO!$U$9:$U$1000=\"T1 (PZQ+ALB/MBD)\"), \"T1 (PZQ+ALB/MBD)\", \" \")","v":" "},null,null,null,null,null,null,0,null,null,null,0," "," "," "," "]
[{"$f":"IF(COUNTRY_INFO!A84=0,\" \",COUNTRY_INFO!A84)","v":"Tanzania"},{"$f":"IF(COUNTRY_INFO!B84=0,\" \",COUNTRY_INFO!B84)","v":"Mara"},{"$f":"IF(COUNTRY_INFO!C84=0,\" \",COUNTRY_INFO!C84)","v":"Butiama District Council"},{"$f":"IF(OR(COUNTRY_INFO!$T$9:$T$1000=\"T1 (PZQ+ALB/MBD)\",COUNTRY_INFO!$U$9:$U$1000=\"T1 (PZQ+ALB/MBD)\"), \"T1 (PZQ+ALB/MBD)\", \" \")","v":" "},null,null,null,null,null,null,0,null,null,null,0," "," "," "," "]
[{"$f":"IF(COUNTRY_INFO!A85=0,\" \",COUNTRY_INFO!A85)","v":"Tanzania"},{"$f":"IF(COUNTRY_INFO!B85=0,\" \",COUNTRY_INFO!B85)","v":"Mara"},{"$f":"IF(COUNTRY_INFO!C85=0,\" \",COUNTRY_INFO!C85)","v":"Musoma District Council"},{"$f":"IF(OR(COUNTRY_INFO!$T$9:$T$1000=\"T1 (PZQ+ALB/MBD)\",COUNTRY_INFO!$U$9:$U$1000=\"T1 (PZQ+ALB/MBD)\"), \"T1 (PZQ+ALB/MBD)\", \" \")","v":" "},null,null,null,null,null,null,0,null,null,null,0," "," "," "," "]
[{"$f":"IF(COUNTRY_INFO!A86=0,\" \",COUNTRY_INFO!A86)","v":"Tanzania"},{"$f":"IF(COUNTRY_INFO!B86=0,\" \",COUNTRY_INFO!B86)","v":"Mara"},{"$f":"IF(COUNTRY_INFO!C86=0,\" \",COUNTRY_INFO!C86)","v":"Musoma Municipal Council"},{"$f":"IF(OR(COUNTRY_INFO!$T$9:$T$1000=\"T1 (PZQ+ALB/MBD)\",COUNTRY_INFO!$U$9:$U$1000=\"T1 (PZQ+ALB/MBD)\"), \"T1 (PZQ+ALB/MBD)\", \" \")","v":" "},null,null,null,null,null,null,0,null,null,null,0," "," "," "," "]
[{"$f":"IF(COUNTRY_INFO!A87=0,\" \",COUNTRY_INFO!A87)","v":"Tanzania"},{"$f":"IF(COUNTRY_INFO!B87=0,\" \",COUNTRY_INFO!B87)","v":"Mara"},{"$f":"IF(COUNTRY_INFO!C87=0,\" \",COUNTRY_INFO!C87)","v":"Rorya District Council"},{"$f":"IF(OR(COUNTRY_INFO!$T$9:$T$1000=\"T1 (PZQ+ALB/MBD)\",COUNTRY_INFO!$U$9:$U$1000=\"T1 (PZQ+ALB/MBD)\"), \"T1 (PZQ+ALB/MBD)\", \" \")","v":" "},null,null,null,null,null,null,0,null,null,null,0," "," "," "," "]
[{"$f":"IF(COUNTRY_INFO!A88=0,\" \",COUNTRY_INFO!A88)","v":"Tanzania"},{"$f":"IF(COUNTRY_INFO!B88=0,\" \",COUNTRY_INFO!B88)","v":"Mara"},{"$f":"IF(COUNTRY_INFO!C88=0,\" \",COUNTRY_INFO!C88)","v":"Serengeti District Council"},{"$f":"IF(OR(COUNTRY_INFO!$T$9:$T$1000=\"T1 (PZQ+ALB/MBD)\",COUNTRY_INFO!$U$9:$U$1000=\"T1 (PZQ+ALB/MBD)\"), \"T1 (PZQ+ALB/MBD)\", \" \")","v":" "},null,null,null,null,null,null,0,null,null,null,0," "," "," "," "]
[{"$f":"IF(COUNTRY_INFO!A89=0,\" \",COUNTRY_INFO!A89)","v":"Tanzania"},{"$f":"IF(COUNTRY_INFO!B89=0,\" \",COUNTRY_INFO!B89)","v":"Mara"},{"$f":"IF(COUNTRY_INFO!C89=0,\" \",COUNTRY_INFO!C89)","v":"Tarime District Council"},{"$f":"IF(OR(COUNTRY_INFO!$T$9:$T$1000=\"T1 (PZQ+ALB/MBD)\",COUNTRY_INFO!$U$9:$U$1000=\"T1 (PZQ+ALB/MBD)\"), \"T1 (PZQ+ALB/MBD)\", \" \")","v":" "},null,null,null,null,null,null,0,null,null,null,0," "," "," "," "]
[{"$f":"IF(COUNTRY_INFO!A90=0,\" \",COUNTRY_INFO!A90)","v":"Tanzania"},{"$f":"IF(COUNTRY_INFO!B90=0,\" \",COUNTRY_INFO!B90)","v":"Mara"},{"$f":"IF(COUNTRY_INFO!C90=0,\" \",COUNTRY_INFO!C90)","v":"Tarime Town Council"},{"$f":"IF(OR(COUNTRY_INFO!$T$9:$T$1000=\"T1 (PZQ+ALB/MBD)\",COUNTRY_INFO!$U$9:$U$1000=\"T1 (PZQ+ALB/MBD)\"), \"T1 (PZQ+ALB/MBD)\", \" \")","v":" "},null,null,null,null,null,null,0,null,null,null,0," "," "," "," "]
[{"$f":"IF(COUNTRY_INFO!A91=0,\" \",COUNTRY_INFO!A91)","v":"Tanzania"},{"$f":"IF(COUNTRY_INFO!B91=0,\" \",COUNTRY_INFO!B91)","v":"Mbeya"},{"$f":"IF(COUNTRY_INFO!C91=0,\" \",COUNTRY_INFO!C91)","v":"Busokelo District Council"},{"$f":"IF(OR(COUNTRY_INFO!$T$9:$T$1000=\"T1 (PZQ+ALB/MBD)\",COUNTRY_INFO!$U$9:$U$1000=\"T1 (PZQ+ALB/MBD)\"), \"T1 (PZQ+ALB/MBD)\", \" \")","v":"T1 (PZQ+ALB/MBD)"},"PZQ+ALB","September 2020",null,23641,23641,null,23641,null,23290,null,23290," ",98.515291231335382," ",98.515291231335382]
[{"$f":"IF(COUNTRY_INFO!A92=0,\" \",COUNTRY_INFO!A92)","v":"Tanzania"},{"$f":"IF(COUNTRY_INFO!B92=0,\" \",COUNTRY_INFO!B92)","v":"Mbeya"},{"$f":"IF(COUNTRY_INFO!C92=0,\" \",COUNTRY_INFO!C92)","v":"Chunya District Council"},{"$f":"IF(OR(COUNTRY_INFO!$T$9:$T$1000=\"T1 (PZQ+ALB/MBD)\",COUNTRY_INFO!$U$9:$U$1000=\"T1 (PZQ+ALB/MBD)\"), \"T1 (PZQ+ALB/MBD)\", \" \")","v":"T1 (PZQ+ALB/MBD)"},"PZQ+ALB","August 2020",null,42075,42075,null,42075,null,40993,null,40993," ",97.42840166369578," ",97.42840166369578]
[{"$f":"IF(COUNTRY_INFO!A93=0,\" \",COUNTRY_INFO!A93)","v":"Tanzania"},{"$f":"IF(COUNTRY_INFO!B93=0,\" \",COUNTRY_INFO!B93)","v":"Mbeya"},{"$f":"IF(COUNTRY_INFO!C93=0,\" \",COUNTRY_INFO!C93)","v":"Kyela District Council"},{"$f":"IF(OR(COUNTRY_INFO!$T$9:$T$1000=\"T1 (PZQ+ALB/MBD)\",COUNTRY_INFO!$U$9:$U$1000=\"T1 (PZQ+ALB/MBD)\"), \"T1 (PZQ+ALB/MBD)\", \" \")","v":"T1 (PZQ+ALB/MBD)"},"PZQ+ALB","September 2020",null,60119,60119,null,60119,null,58622,null,58622," ",97.509938621733568," ",97.509938621733568]
[{"$f":"IF(COUNTRY_INFO!A94=0,\" \",COUNTRY_INFO!A94)","v":"Tanzania"},{"$f":"IF(COUNTRY_INFO!B94=0,\" \",COUNTRY_INFO!B94)","v":"Mbeya"},{"$f":"IF(COUNTRY_INFO!C94=0,\" \",COUNTRY_INFO!C94)","v":"Mbarali District Council"},{"$f":"IF(OR(COUNTRY_INFO!$T$9:$T$1000=\"T1 (PZQ+ALB/MBD)\",COUNTRY_INFO!$U$9:$U$1000=\"T1 (PZQ+ALB/MBD)\"), \"T1 (PZQ+ALB/MBD)\", \" \")","v":"T1 (PZQ+ALB/MBD)"},"PZQ+ALB","September 2020",null,76803,76803,null,76803,null,74681,null,74681," ",97.237087092952095," ",97.237087092952095]
[{"$f":"IF(COUNTRY_INFO!A95=0,\" \",COUNTRY_INFO!A95)","v":"Tanzania"},{"$f":"IF(COUNTRY_INFO!B95=0,\" \",COUNTRY_INFO!B95)","v":"Mbeya"},{"$f":"IF(COUNTRY_INFO!C95=0,\" \",COUNTRY_INFO!C95)","v":"Mbeya City Council"},{"$f":"IF(OR(COUNTRY_INFO!$T$9:$T$1000=\"T1 (PZQ+ALB/MBD)\",COUNTRY_INFO!$U$9:$U$1000=\"T1 (PZQ+ALB/MBD)\"), \"T1 (PZQ+ALB/MBD)\", \" \")","v":"T1 (PZQ+ALB/MBD)"},"PZQ+ALB","September 2020",null,95895,95895,null,95895,null,92059,null,92059," ",95.999791438552577," ",95.999791438552577]
[{"$f":"IF(COUNTRY_INFO!A96=0,\" \",COUNTRY_INFO!A96)","v":"Tanzania"},{"$f":"IF(COUNTRY_INFO!B96=0,\" \",COUNTRY_INFO!B96)","v":"Mbeya"},{"$f":"IF(COUNTRY_INFO!C96=0,\" \",COUNTRY_INFO!C96)","v":"Mbeya District Council"},{"$f":"IF(OR(COUNTRY_INFO!$T$9:$T$1000=\"T1 (PZQ+ALB/MBD)\",COUNTRY_INFO!$U$9:$U$1000=\"T1 (PZQ+ALB/MBD)\"), \"T1 (PZQ+ALB/MBD)\", \" \")","v":"T1 (PZQ+ALB/MBD)"},"PZQ+ALB","September 2020",null,78658,78658,null,78658,null,77621,null,77621," ",98.681634417351063," ",98.681634417351063]
[{"$f":"IF(COUNTRY_INFO!A97=0,\" \",COUNTRY_INFO!A97)","v":"Tanzania"},{"$f":"IF(COUNTRY_INFO!B97=0,\" \",COUNTRY_INFO!B97)","v":"Mbeya"},{"$f":"IF(COUNTRY_INFO!C97=0,\" \",COUNTRY_INFO!C97)","v":"Rungwe District Council"},{"$f":"IF(OR(COUNTRY_INFO!$T$9:$T$1000=\"T1 (PZQ+ALB/MBD)\",COUNTRY_INFO!$U$9:$U$1000=\"T1 (PZQ+ALB/MBD)\"), \"T1 (PZQ+ALB/MBD)\", \" \")","v":"T1 (PZQ+ALB/MBD)"},"PZQ+ALB","September 2020",null,61502,61502,null,61502,null,60702,null,60702," ",98.699229293356311," ",98.699229293356311]
[{"$f":"IF(COUNTRY_INFO!A98=0,\" \",COUNTRY_INFO!A98)","v":"Tanzania"},{"$f":"IF(COUNTRY_INFO!B98=0,\" \",COUNTRY_INFO!B98)","v":"Morogoro"},{"$f":"IF(COUNTRY_INFO!C98=0,\" \",COUNTRY_INFO!C98)","v":"Gairo District Council"},{"$f":"IF(OR(COUNTRY_INFO!$T$9:$T$1000=\"T1 (PZQ+ALB/MBD)\",COUNTRY_INFO!$U$9:$U$1000=\"T1 (PZQ+ALB/MBD)\"), \"T1 (PZQ+ALB/MBD)\", \" \")","v":"T1 (PZQ+ALB/MBD)"},"PZQ+ALB","July 2020",null,49761,49761,null,49761,null,45342,null,45342," ",91.119551455959495," ",91.119551455959495]
[{"$f":"IF(COUNTRY_INFO!A99=0,\" \",COUNTRY_INFO!A99)","v":"Tanzania"},{"$f":"IF(COUNTRY_INFO!B99=0,\" \",COUNTRY_INFO!B99)","v":"Morogoro"},{"$f":"IF(COUNTRY_INFO!C99=0,\" \",COUNTRY_INFO!C99)","v":"Ifakara Town Council"},{"$f":"IF(OR(COUNTRY_INFO!$T$9:$T$1000=\"T1 (PZQ+ALB/MBD)\",COUNTRY_INFO!$U$9:$U$1000=\"T1 (PZQ+ALB/MBD)\"), \"T1 (PZQ+ALB/MBD)\", \" \")","v":"T1 (PZQ+ALB/MBD)"},"PZQ+ALB","July 2020",null,26429,26429,null,26429,null,24164,null,24164," ",91.429868704831819," ",91.429868704831819]
[{"$f":"IF(COUNTRY_INFO!A100=0,\" \",COUNTRY_INFO!A100)","v":"Tanzania"},{"$f":"IF(COUNTRY_INFO!B100=0,\" \",COUNTRY_INFO!B100)","v":"Morogoro"},{"$f":"IF(COUNTRY_INFO!C100=0,\" \",COUNTRY_INFO!C100)","v":"Kilombero District Council (Mlimba District Council)"},{"$f":"IF(OR(COUNTRY_INFO!$T$9:$T$1000=\"T1 (PZQ+ALB/MBD)\",COUNTRY_INFO!$U$9:$U$1000=\"T1 (PZQ+ALB/MBD)\"), \"T1 (PZQ+ALB/MBD)\", \" \")","v":"T1 (PZQ+ALB/MBD)"},"PZQ+ALB","July 2020",null,81523,81523,null,81523,null,79882,null,79882," ",97.987071133299807," ",97.987071133299807]
[{"$f":"IF(COUNTRY_INFO!A101=0,\" \",COUNTRY_INFO!A101)","v":"Tanzania"},{"$f":"IF(COUNTRY_INFO!B101=0,\" \",COUNTRY_INFO!B101)","v":"Morogoro"},{"$f":"IF(COUNTRY_INFO!C101=0,\" \",COUNTRY_INFO!C101)","v":"Kilosa District Council"},{"$f":"IF(OR(COUNTRY_INFO!$T$9:$T$1000=\"T1 (PZQ+ALB/MBD)\",COUNTRY_INFO!$U$9:$U$1000=\"T1 (PZQ+ALB/MBD)\"), \"T1 (PZQ+ALB/MBD)\", \" \")","v":"T1 (PZQ+ALB/MBD)"},"PZQ+ALB","March 2020",null,108984,108984,null,108984,null,104422,null,104422," ",95.814064449827498," ",95.814064449827498]
[{"$f":"IF(COUNTRY_INFO!A102=0,\" \",COUNTRY_INFO!A102)","v":"Tanzania"},{"$f":"IF(COUNTRY_INFO!B102=0,\" \",COUNTRY_INFO!B102)","v":"Morogoro"},{"$f":"IF(COUNTRY_INFO!C102=0,\" \",COUNTRY_INFO!C102)","v":"Malinyi District Council"},{"$f":"IF(OR(COUNTRY_INFO!$T$9:$T$1000=\"T1 (PZQ+ALB/MBD)\",COUNTRY_INFO!$U$9:$U$1000=\"T1 (PZQ+ALB/MBD)\"), \"T1 (PZQ+ALB/MBD)\", \" \")","v":"T1 (PZQ+ALB/MBD)"},"PZQ+ALB","July 2020",null,32774,32774,null,32774,null,30863,null,30863," ",94.169158479282359," ",94.169158479282359]
[{"$f":"IF(COUNTRY_INFO!A103=0,\" \",COUNTRY_INFO!A103)","v":"Tanzania"},{"$f":"IF(COUNTRY_INFO!B103=0,\" \",COUNTRY_INFO!B103)","v":"Morogoro"},{"$f":"IF(COUNTRY_INFO!C103=0,\" \",COUNTRY_INFO!C103)","v":"Morogoro District Council"},{"$f":"IF(OR(COUNTRY_INFO!$T$9:$T$1000=\"T1 (PZQ+ALB/MBD)\",COUNTRY_INFO!$U$9:$U$1000=\"T1 (PZQ+ALB/MBD)\"), \"T1 (PZQ+ALB/MBD)\", \" \")","v":"T1 (PZQ+ALB/MBD)"},"PZQ+ALB","March 2020",null,81495,81495,null,81495,null,77353,null,77353," ",94.917479599975465," ",94.917479599975465]
[{"$f":"IF(COUNTRY_INFO!A104=0,\" \",COUNTRY_INFO!A104)","v":"Tanzania"},{"$f":"IF(COUNTRY_INFO!B104=0,\" \",COUNTRY_INFO!B104)","v":"Morogoro"},{"$f":"IF(COUNTRY_INFO!C104=0,\" \",COUNTRY_INFO!C104)","v":"Morogoro Municipal Council"},{"$f":"IF(OR(COUNTRY_INFO!$T$9:$T$1000=\"T1 (PZQ+ALB/MBD)\",COUNTRY_INFO!$U$9:$U$1000=\"T1 (PZQ+ALB/MBD)\"), \"T1 (PZQ+ALB/MBD)\", \" \")","v":"T1 (PZQ+ALB/MBD)"},"PZQ+ALB","March 2020",null,85142,85142,null,85142,null,72964,null,72964," ",85.696835874186647," ",85.696835874186647]
[{"$f":"IF(COUNTRY_INFO!A105=0,\" \",COUNTRY_INFO!A105)","v":"Tanzania"},{"$f":"IF(COUNTRY_INFO!B105=0,\" \",COUNTRY_INFO!B105)","v":"Morogoro"},{"$f":"IF(COUNTRY_INFO!C105=0,\" \",COUNTRY_INFO!C105)","v":"Mvomero District Council"},{"$f":"IF(OR(COUNTRY_INFO!$T$9:$T$1000=\"T1 (PZQ+ALB/MBD)\",COUNTRY_INFO!$U$9:$U$1000=\"T1 (PZQ+ALB/MBD)\"), \"T1 (PZQ+ALB/MBD)\", \" \")","v":"T1 (PZQ+ALB/MBD)"},"PZQ+ALB","March 2020",null,85290,85290,null,85290,null,77679,null,77679," ",91.076327822722476," ",91.076327822722476]
[{"$f":"IF(COUNTRY_INFO!A106=0,\" \",COUNTRY_INFO!A106)","v":"Tanzania"},{"$f":"IF(COUNTRY_INFO!B106=0,\" \",COUNTRY_INFO!B106)","v":"Morogoro"},{"$f":"IF(COUNTRY_INFO!C106=0,\" \",COUNTRY_INFO!C106)","v":"Ulanga District Council"},{"$f":"IF(OR(COUNTRY_INFO!$T$9:$T$1000=\"T1 (PZQ+ALB/MBD)\",COUNTRY_INFO!$U$9:$U$1000=\"T1 (PZQ+ALB/MBD)\"), \"T1 (PZQ+ALB/MBD)\", \" \")","v":"T1 (PZQ+ALB/MBD)"},"PZQ+ALB","March 2020",null,52569,52569,null,52569,null,49076,null,49076," ",93.355399570088835," ",93.355399570088835]
[{"$f":"IF(COUNTRY_INFO!A107=0,\" \",COUNTRY_INFO!A107)","v":"Tanzania"},{"$f":"IF(COUNTRY_INFO!B107=0,\" \",COUNTRY_INFO!B107)","v":"Mtwara"},{"$f":"IF(COUNTRY_INFO!C107=0,\" \",COUNTRY_INFO!C107)","v":"Masasi District Council"},{"$f":"IF(OR(COUNTRY_INFO!$T$9:$T$1000=\"T1 (PZQ+ALB/MBD)\",COUNTRY_INFO!$U$9:$U$1000=\"T1 (PZQ+ALB/MBD)\"), \"T1 (PZQ+ALB/MBD)\", \" \")","v":"T1 (PZQ+ALB/MBD)"},"PZQ+ALB","September 2020",null,51908,51908,null,51908,null,49454,null,49454," ",95.272405024273709," ",95.272405024273709]
[{"$f":"IF(COUNTRY_INFO!A108=0,\" \",COUNTRY_INFO!A108)","v":"Tanzania"},{"$f":"IF(COUNTRY_INFO!B108=0,\" \",COUNTRY_INFO!B108)","v":"Mtwara"},{"$f":"IF(COUNTRY_INFO!C108=0,\" \",COUNTRY_INFO!C108)","v":"Masasi Town Council"},{"$f":"IF(OR(COUNTRY_INFO!$T$9:$T$1000=\"T1 (PZQ+ALB/MBD)\",COUNTRY_INFO!$U$9:$U$1000=\"T1 (PZQ+ALB/MBD)\"), \"T1 (PZQ+ALB/MBD)\", \" \")","v":"T1 (PZQ+ALB/MBD)"},"PZQ+ALB","September 2020",null,24754,24754,null,24754,null,22358,null,22358," ",90.320756241415538," ",90.320756241415538]
[{"$f":"IF(COUNTRY_INFO!A109=0,\" \",COUNTRY_INFO!A109)","v":"Tanzania"},{"$f":"IF(COUNTRY_INFO!B109=0,\" \",COUNTRY_INFO!B109)","v":"Mtwara"},{"$f":"IF(COUNTRY_INFO!C109=0,\" \",COUNTRY_INFO!C109)","v":"Mtwara District Council"},{"$f":"IF(OR(COUNTRY_INFO!$T$9:$T$1000=\"T1 (PZQ+ALB/MBD)\",COUNTRY_INFO!$U$9:$U$1000=\"T1 (PZQ+ALB/MBD)\"), \"T1 (PZQ+ALB/MBD)\", \" \")","v":"T1 (PZQ+ALB/MBD)"},"PZQ+ALB","March 2020",null,34327,34327,null,34327,null,31924,null,31924," ",92.999679552538822," ",92.999679552538822]
[{"$f":"IF(COUNTRY_INFO!A110=0,\" \",COUNTRY_INFO!A110)","v":"Tanzania"},{"$f":"IF(COUNTRY_INFO!B110=0,\" \",COUNTRY_INFO!B110)","v":"Mtwara"},{"$f":"IF(COUNTRY_INFO!C110=0,\" \",COUNTRY_INFO!C110)","v":"Mtwara-Mikindani Municipal Council"},{"$f":"IF(OR(COUNTRY_INFO!$T$9:$T$1000=\"T1 (PZQ+ALB/MBD)\",COUNTRY_INFO!$U$9:$U$1000=\"T1 (PZQ+ALB/MBD)\"), \"T1 (PZQ+ALB/MBD)\", \" \")","v":" "},null,null,null,null,null,null,0,null,null,null,0," "," "," "," "]
[{"$f":"IF(COUNTRY_INFO!A111=0,\" \",COUNTRY_INFO!A111)","v":"Tanzania"},{"$f":"IF(COUNTRY_INFO!B111=0,\" \",COUNTRY_INFO!B111)","v":"Mtwara"},{"$f":"IF(COUNTRY_INFO!C111=0,\" \",COUNTRY_INFO!C111)","v":"Nanyamba Town Council"},{"$f":"IF(OR(COUNTRY_INFO!$T$9:$T$1000=\"T1 (PZQ+ALB/MBD)\",COUNTRY_INFO!$U$9:$U$1000=\"T1 (PZQ+ALB/MBD)\"), \"T1 (PZQ+ALB/MBD)\", \" \")","v":"T1 (PZQ+ALB/MBD)"},"PZQ+ALB","September 2020",null,25968,25968,null,25968,null,25375,null,25375," ",97.716420209488604," ",97.716420209488604]
[{"$f":"IF(COUNTRY_INFO!A112=0,\" \",COUNTRY_INFO!A112)","v":"Tanzania"},{"$f":"IF(COUNTRY_INFO!B112=0,\" \",COUNTRY_INFO!B112)","v":"Mtwara"},{"$f":"IF(COUNTRY_INFO!C112=0,\" \",COUNTRY_INFO!C112)","v":"Nanyumbu District Council"},{"$f":"IF(OR(COUNTRY_INFO!$T$9:$T$1000=\"T1 (PZQ+ALB/MBD)\",COUNTRY_INFO!$U$9:$U$1000=\"T1 (PZQ+ALB/MBD)\"), \"T1 (PZQ+ALB/MBD)\", \" \")","v":"T1 (PZQ+ALB/MBD)"},"PZQ+ALB","September 2020",null,40705,40705,null,40705,null,36535,null,36535," ",89.755558285222946," ",89.755558285222946]
[{"$f":"IF(COUNTRY_INFO!A113=0,\" \",COUNTRY_INFO!A113)","v":"Tanzania"},{"$f":"IF(COUNTRY_INFO!B113=0,\" \",COUNTRY_INFO!B113)","v":"Mtwara"},{"$f":"IF(COUNTRY_INFO!C113=0,\" \",COUNTRY_INFO!C113)","v":"Newala District Council"},{"$f":"IF(OR(COUNTRY_INFO!$T$9:$T$1000=\"T1 (PZQ+ALB/MBD)\",COUNTRY_INFO!$U$9:$U$1000=\"T1 (PZQ+ALB/MBD)\"), \"T1 (PZQ+ALB/MBD)\", \" \")","v":" "},null,null,null,null,null,null,0,null,null,null,0," "," "," "," "]
[{"$f":"IF(COUNTRY_INFO!A114=0,\" \",COUNTRY_INFO!A114)","v":"Tanzania"},{"$f":"IF(COUNTRY_INFO!B114=0,\" \",COUNTRY_INFO!B114)","v":"Mtwara"},{"$f":"IF(COUNTRY_INFO!C114=0,\" \",COUNTRY_INFO!C114)","v":"Newala Town Council"},{"$f":"IF(OR(COUNTRY_INFO!$T$9:$T$1000=\"T1 (PZQ+ALB/MBD)\",COUNTRY_INFO!$U$9:$U$1000=\"T1 (PZQ+ALB/MBD)\"), \"T1 (PZQ+ALB/MBD)\", \" \")","v":" "},null,null,null,null,null,null,0,null,null,null,0," "," "," "," "]
[{"$f":"IF(COUNTRY_INFO!A115=0,\" \",COUNTRY_INFO!A115)","v":"Tanzania"},{"$f":"IF(COUNTRY_INFO!B115=0,\" \",COUNTRY_INFO!B115)","v":"Mtwara"},{"$f":"IF(COUNTRY_INFO!C115=0,\" \",COUNTRY_INFO!C115)","v":"Tandahimba District Council"},{"$f":"IF(OR(COUNTRY_INFO!$T$9:$T$1000=\"T1 (PZQ+ALB/MBD)\",COUNTRY_INFO!$U$9:$U$1000=\"T1 (PZQ+ALB/MBD)\"), \"T1 (PZQ+ALB/MBD)\", \" \")","v":" "},null,null,null,null,null,null,0,null,null,null,0," "," "," "," "]
[{"$f":"IF(COUNTRY_INFO!A116=0,\" \",COUNTRY_INFO!A116)","v":"Tanzania"},{"$f":"IF(COUNTRY_INFO!B116=0,\" \",COUNTRY_INFO!B116)","v":"Mwanza"},{"$f":"IF(COUNTRY_INFO!C116=0,\" \",COUNTRY_INFO!C116)","v":"Buchosa District Council"},{"$f":"IF(OR(COUNTRY_INFO!$T$9:$T$1000=\"T1 (PZQ+ALB/MBD)\",COUNTRY_INFO!$U$9:$U$1000=\"T1 (PZQ+ALB/MBD)\"), \"T1 (PZQ+ALB/MBD)\", \" \")","v":" "},null,null,null,null,null,null,0,null,null,null,0," "," "," "," "]
[{"$f":"IF(COUNTRY_INFO!A117=0,\" \",COUNTRY_INFO!A117)","v":"Tanzania"},{"$f":"IF(COUNTRY_INFO!B117=0,\" \",COUNTRY_INFO!B117)","v":"Mwanza"},{"$f":"IF(COUNTRY_INFO!C117=0,\" \",COUNTRY_INFO!C117)","v":"Ilemela Municipal Council"},{"$f":"IF(OR(COUNTRY_INFO!$T$9:$T$1000=\"T1 (PZQ+ALB/MBD)\",COUNTRY_INFO!$U$9:$U$1000=\"T1 (PZQ+ALB/MBD)\"), \"T1 (PZQ+ALB/MBD)\", \" \")","v":" "},null,null,null,null,null,null,0,null,null,null,0," "," "," "," "]
[{"$f":"IF(COUNTRY_INFO!A118=0,\" \",COUNTRY_INFO!A118)","v":"Tanzania"},{"$f":"IF(COUNTRY_INFO!B118=0,\" \",COUNTRY_INFO!B118)","v":"Mwanza"},{"$f":"IF(COUNTRY_INFO!C118=0,\" \",COUNTRY_INFO!C118)","v":"Kwimba District Council"},{"$f":"IF(OR(COUNTRY_INFO!$T$9:$T$1000=\"T1 (PZQ+ALB/MBD)\",COUNTRY_INFO!$U$9:$U$1000=\"T1 (PZQ+ALB/MBD)\"), \"T1 (PZQ+ALB/MBD)\", \" \")","v":" "},null,null,null,null,null,null,0,null,null,null,0," "," "," "," "]
[{"$f":"IF(COUNTRY_INFO!A119=0,\" \",COUNTRY_INFO!A119)","v":"Tanzania"},{"$f":"IF(COUNTRY_INFO!B119=0,\" \",COUNTRY_INFO!B119)","v":"Mwanza"},{"$f":"IF(COUNTRY_INFO!C119=0,\" \",COUNTRY_INFO!C119)","v":"Magu District Council"},{"$f":"IF(OR(COUNTRY_INFO!$T$9:$T$1000=\"T1 (PZQ+ALB/MBD)\",COUNTRY_INFO!$U$9:$U$1000=\"T1 (PZQ+ALB/MBD)\"), \"T1 (PZQ+ALB/MBD)\", \" \")","v":" "},null,null,null,null,null,null,0,null,null,null,0," "," "," "," "]
[{"$f":"IF(COUNTRY_INFO!A120=0,\" \",COUNTRY_INFO!A120)","v":"Tanzania"},{"$f":"IF(COUNTRY_INFO!B120=0,\" \",COUNTRY_INFO!B120)","v":"Mwanza"},{"$f":"IF(COUNTRY_INFO!C120=0,\" \",COUNTRY_INFO!C120)","v":"Misungwi District Council"},{"$f":"IF(OR(COUNTRY_INFO!$T$9:$T$1000=\"T1 (PZQ+ALB/MBD)\",COUNTRY_INFO!$U$9:$U$1000=\"T1 (PZQ+ALB/MBD)\"), \"T1 (PZQ+ALB/MBD)\", \" \")","v":" "},null,null,null,null,null,null,0,null,null,null,0," "," "," "," "]
[{"$f":"IF(COUNTRY_INFO!A121=0,\" \",COUNTRY_INFO!A121)","v":"Tanzania"},{"$f":"IF(COUNTRY_INFO!B121=0,\" \",COUNTRY_INFO!B121)","v":"Mwanza"},{"$f":"IF(COUNTRY_INFO!C121=0,\" \",COUNTRY_INFO!C121)","v":"Mwanza-Nyamagana City Council"},{"$f":"IF(OR(COUNTRY_INFO!$T$9:$T$1000=\"T1 (PZQ+ALB/MBD)\",COUNTRY_INFO!$U$9:$U$1000=\"T1 (PZQ+ALB/MBD)\"), \"T1 (PZQ+ALB/MBD)\", \" \")","v":" "},null,null,null,null,null,null,0,null,null,null,0," "," "," "," "]
[{"$f":"IF(COUNTRY_INFO!A122=0,\" \",COUNTRY_INFO!A122)","v":"Tanzania"},{"$f":"IF(COUNTRY_INFO!B122=0,\" \",COUNTRY_INFO!B122)","v":"Mwanza"},{"$f":"IF(COUNTRY_INFO!C122=0,\" \",COUNTRY_INFO!C122)","v":"Sengerema District Council"},{"$f":"IF(OR(COUNTRY_INFO!$T$9:$T$1000=\"T1 (PZQ+ALB/MBD)\",COUNTRY_INFO!$U$9:$U$1000=\"T1 (PZQ+ALB/MBD)\"), \"T1 (PZQ+ALB/MBD)\", \" \")","v":" "},null,null,null,null,null,null,0,null,null,null,0," "," "," "," "]
[{"$f":"IF(COUNTRY_INFO!A123=0,\" \",COUNTRY_INFO!A123)","v":"Tanzania"},{"$f":"IF(COUNTRY_INFO!B123=0,\" \",COUNTRY_INFO!B123)","v":"Mwanza"},{"$f":"IF(COUNTRY_INFO!C123=0,\" \",COUNTRY_INFO!C123)","v":"Ukerewe District Council"},{"$f":"IF(OR(COUNTRY_INFO!$T$9:$T$1000=\"T1 (PZQ+ALB/MBD)\",COUNTRY_INFO!$U$9:$U$1000=\"T1 (PZQ+ALB/MBD)\"), \"T1 (PZQ+ALB/MBD)\", \" \")","v":" "},null,null,null,null,null,null,0,null,null,null,0," "," "," "," "]
[{"$f":"IF(COUNTRY_INFO!A124=0,\" \",COUNTRY_INFO!A124)","v":"Tanzania"},{"$f":"IF(COUNTRY_INFO!B124=0,\" \",COUNTRY_INFO!B124)","v":"Njombe"},{"$f":"IF(COUNTRY_INFO!C124=0,\" \",COUNTRY_INFO!C124)","v":"Ludewa District Council"},{"$f":"IF(OR(COUNTRY_INFO!$T$9:$T$1000=\"T1 (PZQ+ALB/MBD)\",COUNTRY_INFO!$U$9:$U$1000=\"T1 (PZQ+ALB/MBD)\"), \"T1 (PZQ+ALB/MBD)\", \" \")","v":"T1 (PZQ+ALB/MBD)"},"PZQ+ALB","September 2020",null,39169,39169,null,39169,null,38027,null,38027," ",97.084429012739676," ",97.084429012739676]
[{"$f":"IF(COUNTRY_INFO!A125=0,\" \",COUNTRY_INFO!A125)","v":"Tanzania"},{"$f":"IF(COUNTRY_INFO!B125=0,\" \",COUNTRY_INFO!B125)","v":"Njombe"},{"$f":"IF(COUNTRY_INFO!C125=0,\" \",COUNTRY_INFO!C125)","v":"Makambako Town Council"},{"$f":"IF(OR(COUNTRY_INFO!$T$9:$T$1000=\"T1 (PZQ+ALB/MBD)\",COUNTRY_INFO!$U$9:$U$1000=\"T1 (PZQ+ALB/MBD)\"), \"T1 (PZQ+ALB/MBD)\", \" \")","v":"T1 (PZQ+ALB/MBD)"},"PZQ+ALB","March 2020",null,26510,26510,null,26510,null,25323,null,25323," ",95.522444360618636," ",95.522444360618636]
[{"$f":"IF(COUNTRY_INFO!A126=0,\" \",COUNTRY_INFO!A126)","v":"Tanzania"},{"$f":"IF(COUNTRY_INFO!B126=0,\" \",COUNTRY_INFO!B126)","v":"Njombe"},{"$f":"IF(COUNTRY_INFO!C126=0,\" \",COUNTRY_INFO!C126)","v":"Makete District Council"},{"$f":"IF(OR(COUNTRY_INFO!$T$9:$T$1000=\"T1 (PZQ+ALB/MBD)\",COUNTRY_INFO!$U$9:$U$1000=\"T1 (PZQ+ALB/MBD)\"), \"T1 (PZQ+ALB/MBD)\", \" \")","v":"T1 (PZQ+ALB/MBD)"},"PZQ+ALB","September 2020",null,23200,23200,null,23200,null,22677,null,22677," ",97.745689655172413," ",97.745689655172413]
[{"$f":"IF(COUNTRY_INFO!A127=0,\" \",COUNTRY_INFO!A127)","v":"Tanzania"},{"$f":"IF(COUNTRY_INFO!B127=0,\" \",COUNTRY_INFO!B127)","v":"Njombe"},{"$f":"IF(COUNTRY_INFO!C127=0,\" \",COUNTRY_INFO!C127)","v":"Njombe District Council"},{"$f":"IF(OR(COUNTRY_INFO!$T$9:$T$1000=\"T1 (PZQ+ALB/MBD)\",COUNTRY_INFO!$U$9:$U$1000=\"T1 (PZQ+ALB/MBD)\"), \"T1 (PZQ+ALB/MBD)\", \" \")","v":"T1 (PZQ+ALB/MBD)"},"PZQ+ALB","September 2020",null,24384,24384,null,24384,null,24250,null,24250," ",99.450459317585299," ",99.450459317585299]
[{"$f":"IF(COUNTRY_INFO!A128=0,\" \",COUNTRY_INFO!A128)","v":"Tanzania"},{"$f":"IF(COUNTRY_INFO!B128=0,\" \",COUNTRY_INFO!B128)","v":"Njombe"},{"$f":"IF(COUNTRY_INFO!C128=0,\" \",COUNTRY_INFO!C128)","v":"Njombe Town Council"},{"$f":"IF(OR(COUNTRY_INFO!$T$9:$T$1000=\"T1 (PZQ+ALB/MBD)\",COUNTRY_INFO!$U$9:$U$1000=\"T1 (PZQ+ALB/MBD)\"), \"T1 (PZQ+ALB/MBD)\", \" \")","v":"T1 (PZQ+ALB/MBD)"},"PZQ+ALB","September 2020",null,37639,37639,null,37639,null,35356,null,35356," ",93.934482850235128," ",93.934482850235128]
[{"$f":"IF(COUNTRY_INFO!A129=0,\" \",COUNTRY_INFO!A129)","v":"Tanzania"},{"$f":"IF(COUNTRY_INFO!B129=0,\" \",COUNTRY_INFO!B129)","v":"Njombe"},{"$f":"IF(COUNTRY_INFO!C129=0,\" \",COUNTRY_INFO!C129)","v":"Wanging'ombe District Council"},{"$f":"IF(OR(COUNTRY_INFO!$T$9:$T$1000=\"T1 (PZQ+ALB/MBD)\",COUNTRY_INFO!$U$9:$U$1000=\"T1 (PZQ+ALB/MBD)\"), \"T1 (PZQ+ALB/MBD)\", \" \")","v":"T1 (PZQ+ALB/MBD)"},"PZQ+ALB","August 2020",null,43185,43185,null,43185,null,42487,null,42487," ",98.383698043302076," ",98.383698043302076]
[{"$f":"IF(COUNTRY_INFO!A130=0,\" \",COUNTRY_INFO!A130)","v":"Tanzania"},{"$f":"IF(COUNTRY_INFO!B130=0,\" \",COUNTRY_INFO!B130)","v":"Pwani"},{"$f":"IF(COUNTRY_INFO!C130=0,\" \",COUNTRY_INFO!C130)","v":"Bagamoyo District Council"},{"$f":"IF(OR(COUNTRY_INFO!$T$9:$T$1000=\"T1 (PZQ+ALB/MBD)\",COUNTRY_INFO!$U$9:$U$1000=\"T1 (PZQ+ALB/MBD)\"), \"T1 (PZQ+ALB/MBD)\", \" \")","v":" "},null,null,null,null,null,null,0,null,null,null,0," "," "," "," "]
[{"$f":"IF(COUNTRY_INFO!A131=0,\" \",COUNTRY_INFO!A131)","v":"Tanzania"},{"$f":"IF(COUNTRY_INFO!B131=0,\" \",COUNTRY_INFO!B131)","v":"Pwani"},{"$f":"IF(COUNTRY_INFO!C131=0,\" \",COUNTRY_INFO!C131)","v":"Chalinze District Council"},{"$f":"IF(OR(COUNTRY_INFO!$T$9:$T$1000=\"T1 (PZQ+ALB/MBD)\",COUNTRY_INFO!$U$9:$U$1000=\"T1 (PZQ+ALB/MBD)\"), \"T1 (PZQ+ALB/MBD)\", \" \")","v":" "},null,null,null,null,null,null,0,null,null,null,0," "," "," "," "]
[{"$f":"IF(COUNTRY_INFO!A132=0,\" \",COUNTRY_INFO!A132)","v":"Tanzania"},{"$f":"IF(COUNTRY_INFO!B132=0,\" \",COUNTRY_INFO!B132)","v":"Pwani"},{"$f":"IF(COUNTRY_INFO!C132=0,\" \",COUNTRY_INFO!C132)","v":"Kibaha District Council"},{"$f":"IF(OR(COUNTRY_INFO!$T$9:$T$1000=\"T1 (PZQ+ALB/MBD)\",COUNTRY_INFO!$U$9:$U$1000=\"T1 (PZQ+ALB/MBD)\"), \"T1 (PZQ+ALB/MBD)\", \" \")","v":"T1 (PZQ+ALB/MBD)"},"PZQ+ALB","August 2020",null,21500,21500,null,21500,null,18781,null,18781," ",87.353488372093025," ",87.353488372093025]
[{"$f":"IF(COUNTRY_INFO!A133=0,\" \",COUNTRY_INFO!A133)","v":"Tanzania"},{"$f":"IF(COUNTRY_INFO!B133=0,\" \",COUNTRY_INFO!B133)","v":"Pwani"},{"$f":"IF(COUNTRY_INFO!C133=0,\" \",COUNTRY_INFO!C133)","v":"Kibaha Town Council"},{"$f":"IF(OR(COUNTRY_INFO!$T$9:$T$1000=\"T1 (PZQ+ALB/MBD)\",COUNTRY_INFO!$U$9:$U$1000=\"T1 (PZQ+ALB/MBD)\"), \"T1 (PZQ+ALB/MBD)\", \" \")","v":"T1 (PZQ+ALB/MBD)"},"PZQ+ALB","July 2020",null,34561,34561,null,34561,null,29183,null,29183," ",84.439107664708786," ",84.439107664708786]
[{"$f":"IF(COUNTRY_INFO!A134=0,\" \",COUNTRY_INFO!A134)","v":"Tanzania"},{"$f":"IF(COUNTRY_INFO!B134=0,\" \",COUNTRY_INFO!B134)","v":"Pwani"},{"$f":"IF(COUNTRY_INFO!C134=0,\" \",COUNTRY_INFO!C134)","v":"Kibiti District Council"},{"$f":"IF(OR(COUNTRY_INFO!$T$9:$T$1000=\"T1 (PZQ+ALB/MBD)\",COUNTRY_INFO!$U$9:$U$1000=\"T1 (PZQ+ALB/MBD)\"), \"T1 (PZQ+ALB/MBD)\", \" \")","v":" "},null,null,null,null,null,null,0,null,null,null,0," "," "," "," "]
[{"$f":"IF(COUNTRY_INFO!A135=0,\" \",COUNTRY_INFO!A135)","v":"Tanzania"},{"$f":"IF(COUNTRY_INFO!B135=0,\" \",COUNTRY_INFO!B135)","v":"Pwani"},{"$f":"IF(COUNTRY_INFO!C135=0,\" \",COUNTRY_INFO!C135)","v":"Kisarawe District Council"},{"$f":"IF(OR(COUNTRY_INFO!$T$9:$T$1000=\"T1 (PZQ+ALB/MBD)\",COUNTRY_INFO!$U$9:$U$1000=\"T1 (PZQ+ALB/MBD)\"), \"T1 (PZQ+ALB/MBD)\", \" \")","v":" "},null,null,null,null,null,null,0,null,null,null,0," "," "," "," "]
[{"$f":"IF(COUNTRY_INFO!A136=0,\" \",COUNTRY_INFO!A136)","v":"Tanzania"},{"$f":"IF(COUNTRY_INFO!B136=0,\" \",COUNTRY_INFO!B136)","v":"Pwani"},{"$f":"IF(COUNTRY_INFO!C136=0,\" \",COUNTRY_INFO!C136)","v":"Mafia District Council"},{"$f":"IF(OR(COUNTRY_INFO!$T$9:$T$1000=\"T1 (PZQ+ALB/MBD)\",COUNTRY_INFO!$U$9:$U$1000=\"T1 (PZQ+ALB/MBD)\"), \"T1 (PZQ+ALB/MBD)\", \" \")","v":"T1 (PZQ+ALB/MBD)"},"PZQ+ALB","September 2020",null,12421,12421,null,12421,null,12047,null,12047," ",96.988970292247004," ",96.988970292247004]
[{"$f":"IF(COUNTRY_INFO!A137=0,\" \",COUNTRY_INFO!A137)","v":"Tanzania"},{"$f":"IF(COUNTRY_INFO!B137=0,\" \",COUNTRY_INFO!B137)","v":"Pwani"},{"$f":"IF(COUNTRY_INFO!C137=0,\" \",COUNTRY_INFO!C137)","v":"Mkuranga District Council"},{"$f":"IF(OR(COUNTRY_INFO!$T$9:$T$1000=\"T1 (PZQ+ALB/MBD)\",COUNTRY_INFO!$U$9:$U$1000=\"T1 (PZQ+ALB/MBD)\"), \"T1 (PZQ+ALB/MBD)\", \" \")","v":" "},null,null,null,null,null,null,0,null,null,null,0," "," "," "," "]
[{"$f":"IF(COUNTRY_INFO!A138=0,\" \",COUNTRY_INFO!A138)","v":"Tanzania"},{"$f":"IF(COUNTRY_INFO!B138=0,\" \",COUNTRY_INFO!B138)","v":"Pwani"},{"$f":"IF(COUNTRY_INFO!C138=0,\" \",COUNTRY_INFO!C138)","v":"Rufiji District Council"},{"$f":"IF(OR(COUNTRY_INFO!$T$9:$T$1000=\"T1 (PZQ+ALB/MBD)\",COUNTRY_INFO!$U$9:$U$1000=\"T1 (PZQ+ALB/MBD)\"), \"T1 (PZQ+ALB/MBD)\", \" \")","v":" "},null,null,null,null,null,null,{"$f":"MAX(H138:I138)+G138+J138","v":0},null,null,null,{"$f":"SUM(L138:N138)","v":0},{"$f":"IF(G138<>0, IF(L138/G138*100=0, \"-\", L138/G138*100), \" \")","v":" "},{"$f":"IF(OR(I138<>0,H138<>0), IF(M138/MAX(H138,I138)*100=0, \"-\", M138/MAX(H138,I138)*100), \" \")","v":" "},{"$f":"IF(J138<>0, IF(N138/J138*100=0, \"-\", N138/J138*100), \" \")","v":" "},{"$f":"IF(K138<>0, IF(O138/K138*100=0, \"-\", O138/K138*100), \" \")","v":" "}]
[{"$f":"IF(COUNTRY_INFO!A139=0,\" \",COUNTRY_INFO!A139)","v":"Tanzania"},{"$f":"IF(COUNTRY_INFO!B139=0,\" \",COUNTRY_INFO!B139)","v":"Rukwa"},{"$f":"IF(COUNTRY_INFO!C139=0,\" \",COUNTRY_INFO!C139)","v":"Kalambo District Council"},{"$f":"IF(OR(COUNTRY_INFO!$T$9:$T$1000=\"T1 (PZQ+ALB/MBD)\",COUNTRY_INFO!$U$9:$U$1000=\"T1 (PZQ+ALB/MBD)\"), \"T1 (PZQ+ALB/MBD)\", \" \")","v":" "},null,null,null,null,null,null,0,null,null,null,0," "," "," "," "]
[{"$f":"IF(COUNTRY_INFO!A140=0,\" \",COUNTRY_INFO!A140)","v":"Tanzania"},{"$f":"IF(COUNTRY_INFO!B140=0,\" \",COUNTRY_INFO!B140)","v":"Rukwa"},{"$f":"IF(COUNTRY_INFO!C140=0,\" \",COUNTRY_INFO!C140)","v":"Nkasi District Council"},{"$f":"IF(OR(COUNTRY_INFO!$T$9:$T$1000=\"T1 (PZQ+ALB/MBD)\",COUNTRY_INFO!$U$9:$U$1000=\"T1 (PZQ+ALB/MBD)\"), \"T1 (PZQ+ALB/MBD)\", \" \")","v":" "},null,null,null,null,null,null,0,null,null,null,0," "," "," "," "]
[{"$f":"IF(COUNTRY_INFO!A141=0,\" \",COUNTRY_INFO!A141)","v":"Tanzania"},{"$f":"IF(COUNTRY_INFO!B141=0,\" \",COUNTRY_INFO!B141)","v":"Rukwa"},{"$f":"IF(COUNTRY_INFO!C141=0,\" \",COUNTRY_INFO!C141)","v":"Sumbawanga District Council"},{"$f":"IF(OR(COUNTRY_INFO!$T$9:$T$1000=\"T1 (PZQ+ALB/MBD)\",COUNTRY_INFO!$U$9:$U$1000=\"T1 (PZQ+ALB/MBD)\"), \"T1 (PZQ+ALB/MBD)\", \" \")","v":" "},null,null,null,null,null,null,0,null,null,null,0," "," "," "," "]
[{"$f":"IF(COUNTRY_INFO!A142=0,\" \",COUNTRY_INFO!A142)","v":"Tanzania"},{"$f":"IF(COUNTRY_INFO!B142=0,\" \",COUNTRY_INFO!B142)","v":"Rukwa"},{"$f":"IF(COUNTRY_INFO!C142=0,\" \",COUNTRY_INFO!C142)","v":"Sumbawanga Municipal Council"},{"$f":"IF(OR(COUNTRY_INFO!$T$9:$T$1000=\"T1 (PZQ+ALB/MBD)\",COUNTRY_INFO!$U$9:$U$1000=\"T1 (PZQ+ALB/MBD)\"), \"T1 (PZQ+ALB/MBD)\", \" \")","v":" "},null,null,null,null,null,null,0,null,null,null,0," "," "," "," "]
[{"$f":"IF(COUNTRY_INFO!A143=0,\" \",COUNTRY_INFO!A143)","v":"Tanzania"},{"$f":"IF(COUNTRY_INFO!B143=0,\" \",COUNTRY_INFO!B143)","v":"Ruvuma"},{"$f":"IF(COUNTRY_INFO!C143=0,\" \",COUNTRY_INFO!C143)","v":"Madaba District Council"},{"$f":"IF(OR(COUNTRY_INFO!$T$9:$T$1000=\"T1 (PZQ+ALB/MBD)\",COUNTRY_INFO!$U$9:$U$1000=\"T1 (PZQ+ALB/MBD)\"), \"T1 (PZQ+ALB/MBD)\", \" \")","v":"T1 (PZQ+ALB/MBD)"},"PZQ+ALB","September 2020",null,11155,11155,null,11155,null,10789,null,10789," ",96.718960107575086," ",96.718960107575086]
[{"$f":"IF(COUNTRY_INFO!A144=0,\" \",COUNTRY_INFO!A144)","v":"Tanzania"},{"$f":"IF(COUNTRY_INFO!B144=0,\" \",COUNTRY_INFO!B144)","v":"Ruvuma"},{"$f":"IF(COUNTRY_INFO!C144=0,\" \",COUNTRY_INFO!C144)","v":"Mbinga District Council"},{"$f":"IF(OR(COUNTRY_INFO!$T$9:$T$1000=\"T1 (PZQ+ALB/MBD)\",COUNTRY_INFO!$U$9:$U$1000=\"T1 (PZQ+ALB/MBD)\"), \"T1 (PZQ+ALB/MBD)\", \" \")","v":"T1 (PZQ+ALB/MBD)"},"PZQ+ALB","July 2020",null,65978,65978,null,65978,null,64873,null,64873," ",98.325199308860533," ",98.325199308860533]
[{"$f":"IF(COUNTRY_INFO!A145=0,\" \",COUNTRY_INFO!A145)","v":"Tanzania"},{"$f":"IF(COUNTRY_INFO!B145=0,\" \",COUNTRY_INFO!B145)","v":"Ruvuma"},{"$f":"IF(COUNTRY_INFO!C145=0,\" \",COUNTRY_INFO!C145)","v":"Mbinga Town Council"},{"$f":"IF(OR(COUNTRY_INFO!$T$9:$T$1000=\"T1 (PZQ+ALB/MBD)\",COUNTRY_INFO!$U$9:$U$1000=\"T1 (PZQ+ALB/MBD)\"), \"T1 (PZQ+ALB/MBD)\", \" \")","v":"T1 (PZQ+ALB/MBD)"},"PZQ+ALB","September 2020",null,31310,31310,null,31310,null,30519,null,30519," ",97.473650590865532," ",97.473650590865532]
[{"$f":"IF(COUNTRY_INFO!A146=0,\" \",COUNTRY_INFO!A146)","v":"Tanzania"},{"$f":"IF(COUNTRY_INFO!B146=0,\" \",COUNTRY_INFO!B146)","v":"Ruvuma"},{"$f":"IF(COUNTRY_INFO!C146=0,\" \",COUNTRY_INFO!C146)","v":"Namtumbo District Council"},{"$f":"IF(OR(COUNTRY_INFO!$T$9:$T$1000=\"T1 (PZQ+ALB/MBD)\",COUNTRY_INFO!$U$9:$U$1000=\"T1 (PZQ+ALB/MBD)\"), \"T1 (PZQ+ALB/MBD)\", \" \")","v":"T1 (PZQ+ALB/MBD)"},"PZQ+ALB","July 2020",null,56849,56849,null,56849,null,51885,null,51885," ",91.268096184629457," ",91.268096184629457]
[{"$f":"IF(COUNTRY_INFO!A147=0,\" \",COUNTRY_INFO!A147)","v":"Tanzania"},{"$f":"IF(COUNTRY_INFO!B147=0,\" \",COUNTRY_INFO!B147)","v":"Ruvuma"},{"$f":"IF(COUNTRY_INFO!C147=0,\" \",COUNTRY_INFO!C147)","v":"Nyasa District Council"},{"$f":"IF(OR(COUNTRY_INFO!$T$9:$T$1000=\"T1 (PZQ+ALB/MBD)\",COUNTRY_INFO!$U$9:$U$1000=\"T1 (PZQ+ALB/MBD)\"), \"T1 (PZQ+ALB/MBD)\", \" \")","v":"T1 (PZQ+ALB/MBD)"},"PZQ+ALB","August 2020",null,46635,46635,null,46635,null,45838,null,45838," ",98.290983167149136," ",98.290983167149136]
[{"$f":"IF(COUNTRY_INFO!A148=0,\" \",COUNTRY_INFO!A148)","v":"Tanzania"},{"$f":"IF(COUNTRY_INFO!B148=0,\" \",COUNTRY_INFO!B148)","v":"Ruvuma"},{"$f":"IF(COUNTRY_INFO!C148=0,\" \",COUNTRY_INFO!C148)","v":"Songea District Council"},{"$f":"IF(OR(COUNTRY_INFO!$T$9:$T$1000=\"T1 (PZQ+ALB/MBD)\",COUNTRY_INFO!$U$9:$U$1000=\"T1 (PZQ+ALB/MBD)\"), \"T1 (PZQ+ALB/MBD)\", \" \")","v":"T1 (PZQ+ALB/MBD)"},"PZQ+ALB","September 2020",null,31213,31213,null,31213,null,30640,null,30640," ",98.164226444109829," ",98.164226444109829]
[{"$f":"IF(COUNTRY_INFO!A149=0,\" \",COUNTRY_INFO!A149)","v":"Tanzania"},{"$f":"IF(COUNTRY_INFO!B149=0,\" \",COUNTRY_INFO!B149)","v":"Ruvuma"},{"$f":"IF(COUNTRY_INFO!C149=0,\" \",COUNTRY_INFO!C149)","v":"Songea Municipal Council"},{"$f":"IF(OR(COUNTRY_INFO!$T$9:$T$1000=\"T1 (PZQ+ALB/MBD)\",COUNTRY_INFO!$U$9:$U$1000=\"T1 (PZQ+ALB/MBD)\"), \"T1 (PZQ+ALB/MBD)\", \" \")","v":"T1 (PZQ+ALB/MBD)"},"PZQ+ALB","September 2020",null,56337,56337,null,56337,null,51267,null,51267," ",91.000585760690129," ",91.000585760690129]
[{"$f":"IF(COUNTRY_INFO!A150=0,\" \",COUNTRY_INFO!A150)","v":"Tanzania"},{"$f":"IF(COUNTRY_INFO!B150=0,\" \",COUNTRY_INFO!B150)","v":"Ruvuma"},{"$f":"IF(COUNTRY_INFO!C150=0,\" \",COUNTRY_INFO!C150)","v":"Tunduru District Council"},{"$f":"IF(OR(COUNTRY_INFO!$T$9:$T$1000=\"T1 (PZQ+ALB/MBD)\",COUNTRY_INFO!$U$9:$U$1000=\"T1 (PZQ+ALB/MBD)\"), \"T1 (PZQ+ALB/MBD)\", \" \")","v":"T1 (PZQ+ALB/MBD)"},"PZQ+ALB","September 2020",null,71037,71037,null,71037,null,69465,null,69465," ",97.787068710671903," ",97.787068710671903]
[{"$f":"IF(COUNTRY_INFO!A151=0,\" \",COUNTRY_INFO!A151)","v":"Tanzania"},{"$f":"IF(COUNTRY_INFO!B151=0,\" \",COUNTRY_INFO!B151)","v":"Shinyanga"},{"$f":"IF(COUNTRY_INFO!C151=0,\" \",COUNTRY_INFO!C151)","v":"Kahama Town Council"},{"$f":"IF(OR(COUNTRY_INFO!$T$9:$T$1000=\"T1 (PZQ+ALB/MBD)\",COUNTRY_INFO!$U$9:$U$1000=\"T1 (PZQ+ALB/MBD)\"), \"T1 (PZQ+ALB/MBD)\", \" \")","v":" "},null,null,null,null,null,null,0,null,null,null,0," "," "," "," "]
[{"$f":"IF(COUNTRY_INFO!A152=0,\" \",COUNTRY_INFO!A152)","v":"Tanzania"},{"$f":"IF(COUNTRY_INFO!B152=0,\" \",COUNTRY_INFO!B152)","v":"Shinyanga"},{"$f":"IF(COUNTRY_INFO!C152=0,\" \",COUNTRY_INFO!C152)","v":"Kishapu District Council"},{"$f":"IF(OR(COUNTRY_INFO!$T$9:$T$1000=\"T1 (PZQ+ALB/MBD)\",COUNTRY_INFO!$U$9:$U$1000=\"T1 (PZQ+ALB/MBD)\"), \"T1 (PZQ+ALB/MBD)\", \" \")","v":" "},null,null,null,null,null,null,0,null,null,null,0," "," "," "," "]
[{"$f":"IF(COUNTRY_INFO!A153=0,\" \",COUNTRY_INFO!A153)","v":"Tanzania"},{"$f":"IF(COUNTRY_INFO!B153=0,\" \",COUNTRY_INFO!B153)","v":"Shinyanga"},{"$f":"IF(COUNTRY_INFO!C153=0,\" \",COUNTRY_INFO!C153)","v":"Msalala District Council"},{"$f":"IF(OR(COUNTRY_INFO!$T$9:$T$1000=\"T1 (PZQ+ALB/MBD)\",COUNTRY_INFO!$U$9:$U$1000=\"T1 (PZQ+ALB/MBD)\"), \"T1 (PZQ+ALB/MBD)\", \" \")","v":" "},null,null,null,null,null,null,0,null,null,null,0," "," "," "," "]
[{"$f":"IF(COUNTRY_INFO!A154=0,\" \",COUNTRY_INFO!A154)","v":"Tanzania"},{"$f":"IF(COUNTRY_INFO!B154=0,\" \",COUNTRY_INFO!B154)","v":"Shinyanga"},{"$f":"IF(COUNTRY_INFO!C154=0,\" \",COUNTRY_INFO!C154)","v":"Shinyanga District Council"},{"$f":"IF(OR(COUNTRY_INFO!$T$9:$T$1000=\"T1 (PZQ+ALB/MBD)\",COUNTRY_INFO!$U$9:$U$1000=\"T1 (PZQ+ALB/MBD)\"), \"T1 (PZQ+ALB/MBD)\", \" \")","v":" "},null,null,null,null,null,null,0,null,null,null,0," "," "," "," "]
[{"$f":"IF(COUNTRY_INFO!A155=0,\" \",COUNTRY_INFO!A155)","v":"Tanzania"},{"$f":"IF(COUNTRY_INFO!B155=0,\" \",COUNTRY_INFO!B155)","v":"Shinyanga"},{"$f":"IF(COUNTRY_INFO!C155=0,\" \",COUNTRY_INFO!C155)","v":"Shinyanga Municipal Council"},{"$f":"IF(OR(COUNTRY_INFO!$T$9:$T$1000=\"T1 (PZQ+ALB/MBD)\",COUNTRY_INFO!$U$9:$U$1000=\"T1 (PZQ+ALB/MBD)\"), \"T1 (PZQ+ALB/MBD)\", \" \")","v":" "},null,null,null,null,null,null,0,null,null,null,0," "," "," "," "]
[{"$f":"IF(COUNTRY_INFO!A156=0,\" \",COUNTRY_INFO!A156)","v":"Tanzania"},{"$f":"IF(COUNTRY_INFO!B156=0,\" \",COUNTRY_INFO!B156)","v":"Shinyanga"},{"$f":"IF(COUNTRY_INFO!C156=0,\" \",COUNTRY_INFO!C156)","v":"Ushetu District Council"},{"$f":"IF(OR(COUNTRY_INFO!$T$9:$T$1000=\"T1 (PZQ+ALB/MBD)\",COUNTRY_INFO!$U$9:$U$1000=\"T1 (PZQ+ALB/MBD)\"), \"T1 (PZQ+ALB/MBD)\", \" \")","v":" "},null,null,null,null,null,null,0,null,null,null,0," "," "," "," "]
[{"$f":"IF(COUNTRY_INFO!A157=0,\" \",COUNTRY_INFO!A157)","v":"Tanzania"},{"$f":"IF(COUNTRY_INFO!B157=0,\" \",COUNTRY_INFO!B157)","v":"Simiyu"},{"$f":"IF(COUNTRY_INFO!C157=0,\" \",COUNTRY_INFO!C157)","v":"Bariadi District Council"},{"$f":"IF(OR(COUNTRY_INFO!$T$9:$T$1000=\"T1 (PZQ+ALB/MBD)\",COUNTRY_INFO!$U$9:$U$1000=\"T1 (PZQ+ALB/MBD)\"), \"T1 (PZQ+ALB/MBD)\", \" \")","v":" "},null,null,null,null,null,null,0,null,null,null,0," "," "," "," "]
[{"$f":"IF(COUNTRY_INFO!A158=0,\" \",COUNTRY_INFO!A158)","v":"Tanzania"},{"$f":"IF(COUNTRY_INFO!B158=0,\" \",COUNTRY_INFO!B158)","v":"Simiyu"},{"$f":"IF(COUNTRY_INFO!C158=0,\" \",COUNTRY_INFO!C158)","v":"Bariadi Town Council"},{"$f":"IF(OR(COUNTRY_INFO!$T$9:$T$1000=\"T1 (PZQ+ALB/MBD)\",COUNTRY_INFO!$U$9:$U$1000=\"T1 (PZQ+ALB/MBD)\"), \"T1 (PZQ+ALB/MBD)\", \" \")","v":" "},null,null,null,null,null,null,0,null,null,null,0," "," "," "," "]
[{"$f":"IF(COUNTRY_INFO!A159=0,\" \",COUNTRY_INFO!A159)","v":"Tanzania"},{"$f":"IF(COUNTRY_INFO!B159=0,\" \",COUNTRY_INFO!B159)","v":"Simiyu"},{"$f":"IF(COUNTRY_INFO!C159=0,\" \",COUNTRY_INFO!C159)","v":"Busega District Council"},{"$f":"IF(OR(COUNTRY_INFO!$T$9:$T$1000=\"T1 (PZQ+ALB/MBD)\",COUNTRY_INFO!$U$9:$U$1000=\"T1 (PZQ+ALB/MBD)\"), \"T1 (PZQ+ALB/MBD)\", \" \")","v":" "},null,null,null,null,null,null,0,null,null,null,0," "," "," "," "]
[{"$f":"IF(COUNTRY_INFO!A160=0,\" \",COUNTRY_INFO!A160)","v":"Tanzania"},{"$f":"IF(COUNTRY_INFO!B160=0,\" \",COUNTRY_INFO!B160)","v":"Simiyu"},{"$f":"IF(COUNTRY_INFO!C160=0,\" \",COUNTRY_INFO!C160)","v":"Itilima District Council"},{"$f":"IF(OR(COUNTRY_INFO!$T$9:$T$1000=\"T1 (PZQ+ALB/MBD)\",COUNTRY_INFO!$U$9:$U$1000=\"T1 (PZQ+ALB/MBD)\"), \"T1 (PZQ+ALB/MBD)\", \" \")","v":" "},null,null,null,null,null,null,0,null,null,null,0," "," "," "," "]
[{"$f":"IF(COUNTRY_INFO!A161=0,\" \",COUNTRY_INFO!A161)","v":"Tanzania"},{"$f":"IF(COUNTRY_INFO!B161=0,\" \",COUNTRY_INFO!B161)","v":"Simiyu"},{"$f":"IF(COUNTRY_INFO!C161=0,\" \",COUNTRY_INFO!C161)","v":"Maswa District Council"},{"$f":"IF(OR(COUNTRY_INFO!$T$9:$T$1000=\"T1 (PZQ+ALB/MBD)\",COUNTRY_INFO!$U$9:$U$1000=\"T1 (PZQ+ALB/MBD)\"), \"T1 (PZQ+ALB/MBD)\", \" \")","v":" "},null,null,null,null,null,null,0,null,null,null,0," "," "," "," "]
[{"$f":"IF(COUNTRY_INFO!A162=0,\" \",COUNTRY_INFO!A162)","v":"Tanzania"},{"$f":"IF(COUNTRY_INFO!B162=0,\" \",COUNTRY_INFO!B162)","v":"Simiyu"},{"$f":"IF(COUNTRY_INFO!C162=0,\" \",COUNTRY_INFO!C162)","v":"Meatu District Council"},{"$f":"IF(OR(COUNTRY_INFO!$T$9:$T$1000=\"T1 (PZQ+ALB/MBD)\",COUNTRY_INFO!$U$9:$U$1000=\"T1 (PZQ+ALB/MBD)\"), \"T1 (PZQ+ALB/MBD)\", \" \")","v":" "},null,null,null,null,null,null,0,null,null,null,0," "," "," "," "]
[{"$f":"IF(COUNTRY_INFO!A163=0,\" \",COUNTRY_INFO!A163)","v":"Tanzania"},{"$f":"IF(COUNTRY_INFO!B163=0,\" \",COUNTRY_INFO!B163)","v":"Singida"},{"$f":"IF(COUNTRY_INFO!C163=0,\" \",COUNTRY_INFO!C163)","v":"Ikungi District Council"},{"$f":"IF(OR(COUNTRY_INFO!$T$9:$T$1000=\"T1 (PZQ+ALB/MBD)\",COUNTRY_INFO!$U$9:$U$1000=\"T1 (PZQ+ALB/MBD)\"), \"T1 (PZQ+ALB/MBD)\", \" \")","v":" "},null,null,null,null,null,null,0,null,null,null,0," "," "," "," "]
[{"$f":"IF(COUNTRY_INFO!A164=0,\" \",COUNTRY_INFO!A164)","v":"Tanzania"},{"$f":"IF(COUNTRY_INFO!B164=0,\" \",COUNTRY_INFO!B164)","v":"Singida"},{"$f":"IF(COUNTRY_INFO!C164=0,\" \",COUNTRY_INFO!C164)","v":"Iramba District Council"},{"$f":"IF(OR(COUNTRY_INFO!$T$9:$T$1000=\"T1 (PZQ+ALB/MBD)\",COUNTRY_INFO!$U$9:$U$1000=\"T1 (PZQ+ALB/MBD)\"), \"T1 (PZQ+ALB/MBD)\", \" \")","v":" "},null,null,null,null,null,null,0,null,null,null,0," "," "," "," "]
[{"$f":"IF(COUNTRY_INFO!A165=0,\" \",COUNTRY_INFO!A165)","v":"Tanzania"},{"$f":"IF(COUNTRY_INFO!B165=0,\" \",COUNTRY_INFO!B165)","v":"Singida"},{"$f":"IF(COUNTRY_INFO!C165=0,\" \",COUNTRY_INFO!C165)","v":"Itigi District Council"},{"$f":"IF(OR(COUNTRY_INFO!$T$9:$T$1000=\"T1 (PZQ+ALB/MBD)\",COUNTRY_INFO!$U$9:$U$1000=\"T1 (PZQ+ALB/MBD)\"), \"T1 (PZQ+ALB/MBD)\", \" \")","v":" "},null,null,null,null,null,null,0,null,null,null,0," "," "," "," "]
[{"$f":"IF(COUNTRY_INFO!A166=0,\" \",COUNTRY_INFO!A166)","v":"Tanzania"},{"$f":"IF(COUNTRY_INFO!B166=0,\" \",COUNTRY_INFO!B166)","v":"Singida"},{"$f":"IF(COUNTRY_INFO!C166=0,\" \",COUNTRY_INFO!C166)","v":"Manyoni District Council"},{"$f":"IF(OR(COUNTRY_INFO!$T$9:$T$1000=\"T1 (PZQ+ALB/MBD)\",COUNTRY_INFO!$U$9:$U$1000=\"T1 (PZQ+ALB/MBD)\"), \"T1 (PZQ+ALB/MBD)\", \" \")","v":" "},null,null,null,null,null,null,0,null,null,null,0," "," "," "," "]
[{"$f":"IF(COUNTRY_INFO!A167=0,\" \",COUNTRY_INFO!A167)","v":"Tanzania"},{"$f":"IF(COUNTRY_INFO!B167=0,\" \",COUNTRY_INFO!B167)","v":"Singida"},{"$f":"IF(COUNTRY_INFO!C167=0,\" \",COUNTRY_INFO!C167)","v":"Mkalama District Council"},{"$f":"IF(OR(COUNTRY_INFO!$T$9:$T$1000=\"T1 (PZQ+ALB/MBD)\",COUNTRY_INFO!$U$9:$U$1000=\"T1 (PZQ+ALB/MBD)\"), \"T1 (PZQ+ALB/MBD)\", \" \")","v":" "},null,null,null,null,null,null,0,null,null,null,0," "," "," "," "]
[{"$f":"IF(COUNTRY_INFO!A168=0,\" \",COUNTRY_INFO!A168)","v":"Tanzania"},{"$f":"IF(COUNTRY_INFO!B168=0,\" \",COUNTRY_INFO!B168)","v":"Singida"},{"$f":"IF(COUNTRY_INFO!C168=0,\" \",COUNTRY_INFO!C168)","v":"Singida District Council"},{"$f":"IF(OR(COUNTRY_INFO!$T$9:$T$1000=\"T1 (PZQ+ALB/MBD)\",COUNTRY_INFO!$U$9:$U$1000=\"T1 (PZQ+ALB/MBD)\"), \"T1 (PZQ+ALB/MBD)\", \" \")","v":" "},null,null,null,null,null,null,0,null,null,null,0," "," "," "," "]
[{"$f":"IF(COUNTRY_INFO!A169=0,\" \",COUNTRY_INFO!A169)","v":"Tanzania"},{"$f":"IF(COUNTRY_INFO!B169=0,\" \",COUNTRY_INFO!B169)","v":"Singida"},{"$f":"IF(COUNTRY_INFO!C169=0,\" \",COUNTRY_INFO!C169)","v":"Singida Municipal Council"},{"$f":"IF(OR(COUNTRY_INFO!$T$9:$T$1000=\"T1 (PZQ+ALB/MBD)\",COUNTRY_INFO!$U$9:$U$1000=\"T1 (PZQ+ALB/MBD)\"), \"T1 (PZQ+ALB/MBD)\", \" \")","v":" "},null,null,null,null,null,null,0,null,null,null,0," "," "," "," "]
[{"$f":"IF(COUNTRY_INFO!A170=0,\" \",COUNTRY_INFO!A170)","v":"Tanzania"},{"$f":"IF(COUNTRY_INFO!B170=0,\" \",COUNTRY_INFO!B170)","v":"Songwe"},{"$f":"IF(COUNTRY_INFO!C170=0,\" \",COUNTRY_INFO!C170)","v":"Ileje District Council"},{"$f":"IF(OR(COUNTRY_INFO!$T$9:$T$1000=\"T1 (PZQ+ALB/MBD)\",COUNTRY_INFO!$U$9:$U$1000=\"T1 (PZQ+ALB/MBD)\"), \"T1 (PZQ+ALB/MBD)\", \" \")","v":"T1 (PZQ+ALB/MBD)"},"PZQ+ALB","September 2020",null,26908,26908,null,26908,null,25012,null,25012," ",92.953768396016059," ",92.953768396016059]
[{"$f":"IF(COUNTRY_INFO!A171=0,\" \",COUNTRY_INFO!A171)","v":"Tanzania"},{"$f":"IF(COUNTRY_INFO!B171=0,\" \",COUNTRY_INFO!B171)","v":"Songwe"},{"$f":"IF(COUNTRY_INFO!C171=0,\" \",COUNTRY_INFO!C171)","v":"Mbozi District Council"},{"$f":"IF(OR(COUNTRY_INFO!$T$9:$T$1000=\"T1 (PZQ+ALB/MBD)\",COUNTRY_INFO!$U$9:$U$1000=\"T1 (PZQ+ALB/MBD)\"), \"T1 (PZQ+ALB/MBD)\", \" \")","v":"T1 (PZQ+ALB/MBD)"},"PZQ+ALB","September 2020",null,123543,123543,null,123543,null,121543,null,121543," ",98.381130456602151," ",98.381130456602151]
[{"$f":"IF(COUNTRY_INFO!A172=0,\" \",COUNTRY_INFO!A172)","v":"Tanzania"},{"$f":"IF(COUNTRY_INFO!B172=0,\" \",COUNTRY_INFO!B172)","v":"Songwe"},{"$f":"IF(COUNTRY_INFO!C172=0,\" \",COUNTRY_INFO!C172)","v":"Momba District Council"},{"$f":"IF(OR(COUNTRY_INFO!$T$9:$T$1000=\"T1 (PZQ+ALB/MBD)\",COUNTRY_INFO!$U$9:$U$1000=\"T1 (PZQ+ALB/MBD)\"), \"T1 (PZQ+ALB/MBD)\", \" \")","v":"T1 (PZQ+ALB/MBD)"},"PZQ+ALB","September 2020",null,50336,50336,null,50336,null,47911,null,47911," ",95.182374443738084," ",95.182374443738084]
[{"$f":"IF(COUNTRY_INFO!A173=0,\" \",COUNTRY_INFO!A173)","v":"Tanzania"},{"$f":"IF(COUNTRY_INFO!B173=0,\" \",COUNTRY_INFO!B173)","v":"Songwe"},{"$f":"IF(COUNTRY_INFO!C173=0,\" \",COUNTRY_INFO!C173)","v":"Songwe District Council"},{"$f":"IF(OR(COUNTRY_INFO!$T$9:$T$1000=\"T1 (PZQ+ALB/MBD)\",COUNTRY_INFO!$U$9:$U$1000=\"T1 (PZQ+ALB/MBD)\"), \"T1 (PZQ+ALB/MBD)\", \" \")","v":"T1 (PZQ+ALB/MBD)"},"PZQ+ALB","September 2020",null,35910,35910,null,35910,null,35869,null,35869," ",99.885825675299358," ",99.885825675299358]
[{"$f":"IF(COUNTRY_INFO!A174=0,\" \",COUNTRY_INFO!A174)","v":"Tanzania"},{"$f":"IF(COUNTRY_INFO!B174=0,\" \",COUNTRY_INFO!B174)","v":"Songwe"},{"$f":"IF(COUNTRY_INFO!C174=0,\" \",COUNTRY_INFO!C174)","v":"Tunduma Town Council"},{"$f":"IF(OR(COUNTRY_INFO!$T$9:$T$1000=\"T1 (PZQ+ALB/MBD)\",COUNTRY_INFO!$U$9:$U$1000=\"T1 (PZQ+ALB/MBD)\"), \"T1 (PZQ+ALB/MBD)\", \" \")","v":"T1 (PZQ+ALB/MBD)"},"PZQ+ALB","September 2020",null,38320,38320,null,38320,null,37107,null,37107," ",96.834551148225472," ",96.834551148225472]
[{"$f":"IF(COUNTRY_INFO!A175=0,\" \",COUNTRY_INFO!A175)","v":"Tanzania"},{"$f":"IF(COUNTRY_INFO!B175=0,\" \",COUNTRY_INFO!B175)","v":"Tabora"},{"$f":"IF(COUNTRY_INFO!C175=0,\" \",COUNTRY_INFO!C175)","v":"Igunga District Council"},{"$f":"IF(OR(COUNTRY_INFO!$T$9:$T$1000=\"T1 (PZQ+ALB/MBD)\",COUNTRY_INFO!$U$9:$U$1000=\"T1 (PZQ+ALB/MBD)\"), \"T1 (PZQ+ALB/MBD)\", \" \")","v":" "},null,null,null,null,null,null,0,null,null,null,0," "," "," "," "]
[{"$f":"IF(COUNTRY_INFO!A176=0,\" \",COUNTRY_INFO!A176)","v":"Tanzania"},{"$f":"IF(COUNTRY_INFO!B176=0,\" \",COUNTRY_INFO!B176)","v":"Tabora"},{"$f":"IF(COUNTRY_INFO!C176=0,\" \",COUNTRY_INFO!C176)","v":"Kaliua District Council"},{"$f":"IF(OR(COUNTRY_INFO!$T$9:$T$1000=\"T1 (PZQ+ALB/MBD)\",COUNTRY_INFO!$U$9:$U$1000=\"T1 (PZQ+ALB/MBD)\"), \"T1 (PZQ+ALB/MBD)\", \" \")","v":"T1 (PZQ+ALB/MBD)"},"PZQ+ALB","March 2020",null,124959,124959,null,124959,null,96077,null,96077," ",76.886818876591519," ",76.886818876591519]
[{"$f":"IF(COUNTRY_INFO!A177=0,\" \",COUNTRY_INFO!A177)","v":"Tanzania"},{"$f":"IF(COUNTRY_INFO!B177=0,\" \",COUNTRY_INFO!B177)","v":"Tabora"},{"$f":"IF(COUNTRY_INFO!C177=0,\" \",COUNTRY_INFO!C177)","v":"Nzega District Council"},{"$f":"IF(OR(COUNTRY_INFO!$T$9:$T$1000=\"T1 (PZQ+ALB/MBD)\",COUNTRY_INFO!$U$9:$U$1000=\"T1 (PZQ+ALB/MBD)\"), \"T1 (PZQ+ALB/MBD)\", \" \")","v":" "},null,null,null,null,null,null,0,null,null,null,0," "," "," "," "]
[{"$f":"IF(COUNTRY_INFO!A178=0,\" \",COUNTRY_INFO!A178)","v":"Tanzania"},{"$f":"IF(COUNTRY_INFO!B178=0,\" \",COUNTRY_INFO!B178)","v":"Tabora"},{"$f":"IF(COUNTRY_INFO!C178=0,\" \",COUNTRY_INFO!C178)","v":"Nzega Town Council"},{"$f":"IF(OR(COUNTRY_INFO!$T$9:$T$1000=\"T1 (PZQ+ALB/MBD)\",COUNTRY_INFO!$U$9:$U$1000=\"T1 (PZQ+ALB/MBD)\"), \"T1 (PZQ+ALB/MBD)\", \" \")","v":" "},null,null,null,null,null,null,0,null,null,null,0," "," "," "," "]
[{"$f":"IF(COUNTRY_INFO!A179=0,\" \",COUNTRY_INFO!A179)","v":"Tanzania"},{"$f":"IF(COUNTRY_INFO!B179=0,\" \",COUNTRY_INFO!B179)","v":"Tabora"},{"$f":"IF(COUNTRY_INFO!C179=0,\" \",COUNTRY_INFO!C179)","v":"Sikonge District Council"},{"$f":"IF(OR(COUNTRY_INFO!$T$9:$T$1000=\"T1 (PZQ+ALB/MBD)\",COUNTRY_INFO!$U$9:$U$1000=\"T1 (PZQ+ALB/MBD)\"), \"T1 (PZQ+ALB/MBD)\", \" \")","v":" "},null,null,null,null,null,null,0,null,null,null,0," "," "," "," "]
[{"$f":"IF(COUNTRY_INFO!A180=0,\" \",COUNTRY_INFO!A180)","v":"Tanzania"},{"$f":"IF(COUNTRY_INFO!B180=0,\" \",COUNTRY_INFO!B180)","v":"Tabora"},{"$f":"IF(COUNTRY_INFO!C180=0,\" \",COUNTRY_INFO!C180)","v":"Tabora Municipal Council"},{"$f":"IF(OR(COUNTRY_INFO!$T$9:$T$1000=\"T1 (PZQ+ALB/MBD)\",COUNTRY_INFO!$U$9:$U$1000=\"T1 (PZQ+ALB/MBD)\"), \"T1 (PZQ+ALB/MBD)\", \" \")","v":"T1 (PZQ+ALB/MBD)"},"PZQ+ALB","September 2020",null,52466,52466,null,52466,null,51169,null,51169," ",97.52792284527122," ",97.52792284527122]
[{"$f":"IF(COUNTRY_INFO!A181=0,\" \",COUNTRY_INFO!A181)","v":"Tanzania"},{"$f":"IF(COUNTRY_INFO!B181=0,\" \",COUNTRY_INFO!B181)","v":"Tabora"},{"$f":"IF(COUNTRY_INFO!C181=0,\" \",COUNTRY_INFO!C181)","v":"Urambo District Council"},{"$f":"IF(OR(COUNTRY_INFO!$T$9:$T$1000=\"T1 (PZQ+ALB/MBD)\",COUNTRY_INFO!$U$9:$U$1000=\"T1 (PZQ+ALB/MBD)\"), \"T1 (PZQ+ALB/MBD)\", \" \")","v":"T1 (PZQ+ALB/MBD)"},"PZQ+ALB","July 2020",null,56488,56488,null,56488,null,56246,null,56246," ",99.571590426285226," ",99.571590426285226]
[{"$f":"IF(COUNTRY_INFO!A182=0,\" \",COUNTRY_INFO!A182)","v":"Tanzania"},{"$f":"IF(COUNTRY_INFO!B182=0,\" \",COUNTRY_INFO!B182)","v":"Tabora"},{"$f":"IF(COUNTRY_INFO!C182=0,\" \",COUNTRY_INFO!C182)","v":"Uyui District Council"},{"$f":"IF(OR(COUNTRY_INFO!$T$9:$T$1000=\"T1 (PZQ+ALB/MBD)\",COUNTRY_INFO!$U$9:$U$1000=\"T1 (PZQ+ALB/MBD)\"), \"T1 (PZQ+ALB/MBD)\", \" \")","v":"T1 (PZQ+ALB/MBD)"},"PZQ+ALB","March 2020",null,114798,114798,null,114798,null,114792,null,114792," ",99.994773428108502," ",99.994773428108502]
[{"$f":"IF(COUNTRY_INFO!A183=0,\" \",COUNTRY_INFO!A183)","v":"Tanzania"},{"$f":"IF(COUNTRY_INFO!B183=0,\" \",COUNTRY_INFO!B183)","v":"Tanga"},{"$f":"IF(COUNTRY_INFO!C183=0,\" \",COUNTRY_INFO!C183)","v":"Bumbuli District Council"},{"$f":"IF(OR(COUNTRY_INFO!$T$9:$T$1000=\"T1 (PZQ+ALB/MBD)\",COUNTRY_INFO!$U$9:$U$1000=\"T1 (PZQ+ALB/MBD)\"), \"T1 (PZQ+ALB/MBD)\", \" \")","v":"T1 (PZQ+ALB/MBD)"},"PZQ+ALB","March 2020",null,43050,43050,null,43050,null,41102,null,41102," ",95.475029036004642," ",95.475029036004642]
[{"$f":"IF(COUNTRY_INFO!A184=0,\" \",COUNTRY_INFO!A184)","v":"Tanzania"},{"$f":"IF(COUNTRY_INFO!B184=0,\" \",COUNTRY_INFO!B184)","v":"Tanga"},{"$f":"IF(COUNTRY_INFO!C184=0,\" \",COUNTRY_INFO!C184)","v":"Handeni District Council"},{"$f":"IF(OR(COUNTRY_INFO!$T$9:$T$1000=\"T1 (PZQ+ALB/MBD)\",COUNTRY_INFO!$U$9:$U$1000=\"T1 (PZQ+ALB/MBD)\"), \"T1 (PZQ+ALB/MBD)\", \" \")","v":"T1 (PZQ+ALB/MBD)"},"PZQ+ALB","July 2020",null,77524,77524,null,77524,null,77184,null,77184," ",99.561426139002123," ",99.561426139002123]
[{"$f":"IF(COUNTRY_INFO!A185=0,\" \",COUNTRY_INFO!A185)","v":"Tanzania"},{"$f":"IF(COUNTRY_INFO!B185=0,\" \",COUNTRY_INFO!B185)","v":"Tanga"},{"$f":"IF(COUNTRY_INFO!C185=0,\" \",COUNTRY_INFO!C185)","v":"Handeni Town Council"},{"$f":"IF(OR(COUNTRY_INFO!$T$9:$T$1000=\"T1 (PZQ+ALB/MBD)\",COUNTRY_INFO!$U$9:$U$1000=\"T1 (PZQ+ALB/MBD)\"), \"T1 (PZQ+ALB/MBD)\", \" \")","v":"T1 (PZQ+ALB/MBD)"},"PZQ+ALB","July 2020",null,23066,23066,null,23066,null,20535,null,20535," ",89.027139512702675," ",89.027139512702675]
[{"$f":"IF(COUNTRY_INFO!A186=0,\" \",COUNTRY_INFO!A186)","v":"Tanzania"},{"$f":"IF(COUNTRY_INFO!B186=0,\" \",COUNTRY_INFO!B186)","v":"Tanga"},{"$f":"IF(COUNTRY_INFO!C186=0,\" \",COUNTRY_INFO!C186)","v":"Kilindi District Council"},{"$f":"IF(OR(COUNTRY_INFO!$T$9:$T$1000=\"T1 (PZQ+ALB/MBD)\",COUNTRY_INFO!$U$9:$U$1000=\"T1 (PZQ+ALB/MBD)\"), \"T1 (PZQ+ALB/MBD)\", \" \")","v":"T1 (PZQ+ALB/MBD)"},"PZQ+ALB","September 2020",null,71052,71052,null,71052,null,60680,null,60680," ",85.402240612509146," ",85.402240612509146]
[{"$f":"IF(COUNTRY_INFO!A187=0,\" \",COUNTRY_INFO!A187)","v":"Tanzania"},{"$f":"IF(COUNTRY_INFO!B187=0,\" \",COUNTRY_INFO!B187)","v":"Tanga"},{"$f":"IF(COUNTRY_INFO!C187=0,\" \",COUNTRY_INFO!C187)","v":"Korogwe District Council"},{"$f":"IF(OR(COUNTRY_INFO!$T$9:$T$1000=\"T1 (PZQ+ALB/MBD)\",COUNTRY_INFO!$U$9:$U$1000=\"T1 (PZQ+ALB/MBD)\"), \"T1 (PZQ+ALB/MBD)\", \" \")","v":"T1 (PZQ+ALB/MBD)"},"PZQ+ALB","September 2020",null,63952,63952,null,63952,null,57376,null,57376," ",89.717287965974478," ",89.717287965974478]
[{"$f":"IF(COUNTRY_INFO!A188=0,\" \",COUNTRY_INFO!A188)","v":"Tanzania"},{"$f":"IF(COUNTRY_INFO!B188=0,\" \",COUNTRY_INFO!B188)","v":"Tanga"},{"$f":"IF(COUNTRY_INFO!C188=0,\" \",COUNTRY_INFO!C188)","v":"Korogwe Town Council"},{"$f":"IF(OR(COUNTRY_INFO!$T$9:$T$1000=\"T1 (PZQ+ALB/MBD)\",COUNTRY_INFO!$U$9:$U$1000=\"T1 (PZQ+ALB/MBD)\"), \"T1 (PZQ+ALB/MBD)\", \" \")","v":"T1 (PZQ+ALB/MBD)"},"PZQ+ALB","August 2020",null,17747,17747,null,17747,null,16045,null,16045," ",90.409646700850843," ",90.409646700850843]
[{"$f":"IF(COUNTRY_INFO!A189=0,\" \",COUNTRY_INFO!A189)","v":"Tanzania"},{"$f":"IF(COUNTRY_INFO!B189=0,\" \",COUNTRY_INFO!B189)","v":"Tanga"},{"$f":"IF(COUNTRY_INFO!C189=0,\" \",COUNTRY_INFO!C189)","v":"Lushoto District Council"},{"$f":"IF(OR(COUNTRY_INFO!$T$9:$T$1000=\"T1 (PZQ+ALB/MBD)\",COUNTRY_INFO!$U$9:$U$1000=\"T1 (PZQ+ALB/MBD)\"), \"T1 (PZQ+ALB/MBD)\", \" \")","v":"T1 (PZQ+ALB/MBD)"},"PZQ+ALB","March 2020",null,94062,94062,null,94062,null,92062,null,92062," ",97.873742850460332," ",97.873742850460332]
[{"$f":"IF(COUNTRY_INFO!A190=0,\" \",COUNTRY_INFO!A190)","v":"Tanzania"},{"$f":"IF(COUNTRY_INFO!B190=0,\" \",COUNTRY_INFO!B190)","v":"Tanga"},{"$f":"IF(COUNTRY_INFO!C190=0,\" \",COUNTRY_INFO!C190)","v":"Mkinga District Council"},{"$f":"IF(OR(COUNTRY_INFO!$T$9:$T$1000=\"T1 (PZQ+ALB/MBD)\",COUNTRY_INFO!$U$9:$U$1000=\"T1 (PZQ+ALB/MBD)\"), \"T1 (PZQ+ALB/MBD)\", \" \")","v":"T1 (PZQ+ALB/MBD)"},"PZQ+ALB","July 2020",null,34054,34054,null,34054,null,33179,null,33179," ",97.430551477065848," ",97.430551477065848]
[{"$f":"IF(COUNTRY_INFO!A191=0,\" \",COUNTRY_INFO!A191)","v":"Tanzania"},{"$f":"IF(COUNTRY_INFO!B191=0,\" \",COUNTRY_INFO!B191)","v":"Tanga"},{"$f":"IF(COUNTRY_INFO!C191=0,\" \",COUNTRY_INFO!C191)","v":"Muheza District Council"},{"$f":"IF(OR(COUNTRY_INFO!$T$9:$T$1000=\"T1 (PZQ+ALB/MBD)\",COUNTRY_INFO!$U$9:$U$1000=\"T1 (PZQ+ALB/MBD)\"), \"T1 (PZQ+ALB/MBD)\", \" \")","v":"T1 (PZQ+ALB/MBD)"},"PZQ+ALB","July 2020",null,44672,44672,null,44672,null,44216,null,44216," ",98.979226361031508," ",98.979226361031508]
[{"$f":"IF(COUNTRY_INFO!A192=0,\" \",COUNTRY_INFO!A192)","v":"Tanzania"},{"$f":"IF(COUNTRY_INFO!B192=0,\" \",COUNTRY_INFO!B192)","v":"Tanga"},{"$f":"IF(COUNTRY_INFO!C192=0,\" \",COUNTRY_INFO!C192)","v":"Pangani District Council"},{"$f":"IF(OR(COUNTRY_INFO!$T$9:$T$1000=\"T1 (PZQ+ALB/MBD)\",COUNTRY_INFO!$U$9:$U$1000=\"T1 (PZQ+ALB/MBD)\"), \"T1 (PZQ+ALB/MBD)\", \" \")","v":"T1 (PZQ+ALB/MBD)"},"PZQ+ALB","July 2020",null,14507,14507,null,14507,null,13323,null,13323," ",91.838422830357757," ",91.838422830357757]
[{"$f":"IF(COUNTRY_INFO!A193=0,\" \",COUNTRY_INFO!A193)","v":"Tanzania"},{"$f":"IF(COUNTRY_INFO!B193=0,\" \",COUNTRY_INFO!B193)","v":"Tanga"},{"$f":"IF(COUNTRY_INFO!C193=0,\" \",COUNTRY_INFO!C193)","v":"Tanga City Council"},{"$f":"IF(OR(COUNTRY_INFO!$T$9:$T$1000=\"T1 (PZQ+ALB/MBD)\",COUNTRY_INFO!$U$9:$U$1000=\"T1 (PZQ+ALB/MBD)\"), \"T1 (PZQ+ALB/MBD)\", \" \")","v":"T1 (PZQ+ALB/MBD)"},"PZQ+ALB","March 2020",null,97103,97103,null,97103,null,95207,null,95207," ",98.047434167842397," ",98.047434167842397]

{"sheet":"T2","index":6,"n_rows":193,"n_cols":17,"rows_kept":193,"cut":false,"hidden":false,"merged":[[5,5,5,8],[5,9,5,12],[5,13,5,16],[3,0,3,2],[5,0,5,2],[5,3,6,3],[5,4,6,4]]}
["T 2 - Praziquantel (PZQ) "]
["Administrative structure, population requiring PC by age group, population treated by age group and coverage"]
[]
["TOTAL",null,null,null,null,{"$f":"SUM(F$9:F$1000)","v":0},0,0,0,0,0,0,0,{"$f":"IF(F4<>0, IF(J4/F4*100=0, \"-\", J4/F4*100), \" \")","v":" "},{"$f":"IF(G4<>0, IF(K4/G4*100=0, \"-\", K4/G4*100), \" \")","v":" "},{"$f":"IF(H4<>0, IF(L4/H4*100=0, \"-\", L4/H4*100), \" \")","v":" "},{"$f":"IF(I4<>0, IF(M4/I4*100=0, \"-\", M4/I4*100), \" \")","v":" "}]
[]
[null,null,null,"PC implemented","Date","Population targeted for T2",null,null,null,"Population treated",null,null,null,"Programme coverage (%)"]
["Country","Province/State","District",null,null,"PreSAC","SAC","Adults","Total","PreSAC","SAC","Adults","Total","PreSAC","SAC","Adults","Total"]
[]
[{"$f":"IF(COUNTRY_INFO!A9=0,\" \",COUNTRY_INFO!A9)","v":"Tanzania"},{"$f":"IF(COUNTRY_INFO!B9=0,\" \",COUNTRY_INFO!B9)","v":"Arusha"},{"$f":"IF(COUNTRY_INFO!C9=0,\" \",COUNTRY_INFO!C9)","v":"Arusha City Council"},{"$f":"IF(OR(COUNTRY_INFO!$T$9:$T$1000=\"T2 (PZQ)\",COUNTRY_INFO!$U$9:$U$1000=\"T2 (PZQ)\"), \"T2 (PZQ)\", \" \")","v":" "},null,null,null,null,{"$f":"SUM(F9:H9)","v":0},null,null,null,{"$f":"SUM(J9:L9)","v":0},{"$f":"IF(F9<>0, IF(J9/F9*100=0, \"-\", J9/F9*100), \" \")","v":" "}," "," "," "]
[{"$f":"IF(COUNTRY_INFO!A10=0,\" \",COUNTRY_INFO!A10)","v":"Tanzania"},{"$f":"IF(COUNTRY_INFO!B10=0,\" \",COUNTRY_INFO!B10)","v":"Arusha"},{"$f":"IF(COUNTRY_INFO!C10=0,\" \",COUNTRY_INFO!C10)","v":"Arusha District Council"},{"$f":"IF(OR(COUNTRY_INFO!$T$9:$T$1000=\"T2 (PZQ)\",COUNTRY_INFO!$U$9:$U$1000=\"T2 (PZQ)\"), \"T2 (PZQ)\", \" \")","v":" "},null,null,null,null,{"$f":"SUM(F10:H10)","v":0},null,null,null,{"$f":"SUM(J10:L10)","v":0},{"$f":"IF(F10<>0, IF(J10/F10*100=0, \"-\", J10/F10*100), \" \")","v":" "},{"$f":"IF(G10<>0, IF(K10/G10*100=0, \"-\", K10/G10*100), \" \")","v":" "},{"$f":"IF(H10<>0, IF(L10/H10*100=0, \"-\", L10/H10*100), \" \")","v":" "},{"$f":"IF(I10<>0, IF(M10/I10*100=0, \"-\", M10/I10*100), \" \")","v":" "}]
[{"$f":"IF(COUNTRY_INFO!A11=0,\" \",COUNTRY_INFO!A11)","v":"Tanzania"},{"$f":"IF(COUNTRY_INFO!B11=0,\" \",COUNTRY_INFO!B11)","v":"Arusha"},{"$f":"IF(COUNTRY_INFO!C11=0,\" \",COUNTRY_INFO!C11)","v":"Karatu District Council"},{"$f":"IF(OR(COUNTRY_INFO!$T$9:$T$1000=\"T2 (PZQ)\",COUNTRY_INFO!$U$9:$U$1000=\"T2 (PZQ)\"), \"T2 (PZQ)\", \" \")","v":" "},null,null,null,null,0,null,null,null,0," "," "," "," "]
[{"$f":"IF(COUNTRY_INFO!A12=0,\" \",COUNTRY_INFO!A12)","v":"Tanzania"},{"$f":"IF(COUNTRY_INFO!B12=0,\" \",COUNTRY_INFO!B12)","v":"Arusha"},{"$f":"IF(COUNTRY_INFO!C12=0,\" \",COUNTRY_INFO!C12)","v":"Longido District Council"},{"$f":"IF(OR(COUNTRY_INFO!$T$9:$T$1000=\"T2 (PZQ)\",COUNTRY_INFO!$U$9:$U$1000=\"T2 (PZQ)\"), \"T2 (PZQ)\", \" \")","v":" "},null,null,null,null,0,null,null,null,0," "," "," "," "]
[{"$f":"IF(COUNTRY_INFO!A13=0,\" \",COUNTRY_INFO!A13)","v":"Tanzania"},{"$f":"IF(COUNTRY_INFO!B13=0,\" \",COUNTRY_INFO!B13)","v":"Arusha"},{"$f":"IF(COUNTRY_INFO!C13=0,\" \",COUNTRY_INFO!C13)","v":"Meru District Council"},{"$f":"IF(OR(COUNTRY_INFO!$T$9:$T$1000=\"T2 (PZQ)\",COUNTRY_INFO!$U$9:$U$1000=\"T2 (PZQ)\"), \"T2 (PZQ)\", \" \")","v":" "},null,null,null,null,0,null,null,null,0," "," "," "," "]
[{"$f":"IF(COUNTRY_INFO!A14=0,\" \",COUNTRY_INFO!A14)","v":"Tanzania"},{"$f":"IF(COUNTRY_INFO!B14=0,\" \",COUNTRY_INFO!B14)","v":"Arusha"},{"$f":"IF(COUNTRY_INFO!C14=0,\" \",COUNTRY_INFO!C14)","v":"Monduli District Council"},{"$f":"IF(OR(COUNTRY_INFO!$T$9:$T$1000=\"T2 (PZQ)\",COUNTRY_INFO!$U$9:$U$1000=\"T2 (PZQ)\"), \"T2 (PZQ)\", \" \")","v":" "},null,null,null,null,0,null,null,null,0," "," "," "," "]
[{"$f":"IF(COUNTRY_INFO!A15=0,\" \",COUNTRY_INFO!A15)","v":"Tanzania"},{"$f":"IF(COUNTRY_INFO!B15=0,\" \",COUNTRY_INFO!B15)","v":"Arusha"},{"$f":"IF(COUNTRY_INFO!C15=0,\" \",COUNTRY_INFO!C15)","v":"Ngorongoro District Council"},{"$f":"IF(OR(COUNTRY_INFO!$T$9:$T$1000=\"T2 (PZQ)\",COUNTRY_INFO!$U$9:$U$1000=\"T2 (PZQ)\"), \"T2 (PZQ)\", \" \")","v":" "},null,null,null,null,0,null,null,null,0," "," "," "," "]
[{"$f":"IF(COUNTRY_INFO!A16=0,\" \",COUNTRY_INFO!A16)","v":"Tanzania"},{"$f":"IF(COUNTRY_INFO!B16=0,\" \",COUNTRY_INFO!B16)","v":"Dar Es Salaam"},{"$f":"IF(COUNTRY_INFO!C16=0,\" \",COUNTRY_INFO!C16)","v":"Dar es Salaam City Council "},{"$f":"IF(OR(COUNTRY_INFO!$T$9:$T$1000=\"T2 (PZQ)\",COUNTRY_INFO!$U$9:$U$1000=\"T2 (PZQ)\"), \"T2 (PZQ)\", \" \")","v":" "},null,null,null,null,0,null,null,null,0," "," "," "," "]
[{"$f":"IF(COUNTRY_INFO!A17=0,\" \",COUNTRY_INFO!A17)","v":"Tanzania"},{"$f":"IF(COUNTRY_INFO!B17=0,\" \",COUNTRY_INFO!B17)","v":"Dar Es Salaam"},{"$f":"IF(COUNTRY_INFO!C17=0,\" \",COUNTRY_INFO!C17)","v":"Ilala Municipal Council"},{"$f":"IF(OR(COUNTRY_INFO!$T$9:$T$1000=\"T2 (PZQ)\",COUNTRY_INFO!$U$9:$U$1000=\"T2 (PZQ)\"), \"T2 (PZQ)\", \" \")","v":" "},null,null,null,null,0,null,null,null,0," "," "," "," "]
[{"$f":"IF(COUNTRY_INFO!A18=0,\" \",COUNTRY_INFO!A18)","v":"Tanzania"},{"$f":"IF(COUNTRY_INFO!B18=0,\" \",COUNTRY_INFO!B18)","v":"Dar Es Salaam"},{"$f":"IF(COUNTRY_INFO!C18=0,\" \",COUNTRY_INFO!C18)","v":"Kigamboni Municipal Council"},{"$f":"IF(OR(COUNTRY_INFO!$T$9:$T$1000=\"T2 (PZQ)\",COUNTRY_INFO!$U$9:$U$1000=\"T2 (PZQ)\"), \"T2 (PZQ)\", \" \")","v":" "},null,null,null,null,0,null,null,null,0," "," "," "," "]
[{"$f":"IF(COUNTRY_INFO!A19=0,\" \",COUNTRY_INFO!A19)","v":"Tanzania"},{"$f":"IF(COUNTRY_INFO!B19=0,\" \",COUNTRY_INFO!B19)","v":"Dar Es Salaam"},{"$f":"IF(COUNTRY_INFO!C19=0,\" \",COUNTRY_INFO!C19)","v":"Kinondoni Municipal Council"},{"$f":"IF(OR(COUNTRY_INFO!$T$9:$T$1000=\"T2 (PZQ)\",COUNTRY_INFO!$U$9:$U$1000=\"T2 (PZQ)\"), \"T2 (PZQ)\", \" \")","v":" "},null,null,null,null,0,null,null,null,0," "," "," "," "]
[{"$f":"IF(COUNTRY_INFO!A20=0,\" \",COUNTRY_INFO!A20)","v":"Tanzania"},{"$f":"IF(COUNTRY_INFO!B20=0,\" \",COUNTRY_INFO!B20)","v":"Dar Es Salaam"},{"$f":"IF(COUNTRY_INFO!C20=0,\" \",COUNTRY_INFO!C20)","v":"Temeke Municipal Council"},{"$f":"IF(OR(COUNTRY_INFO!$T$9:$T$1000=\"T2 (PZQ)\",COUNTRY_INFO!$U$9:$U$1000=\"T2 (PZQ)\"), \"T2 (PZQ)\", \" \")","v":" "},null,null,null,null,0,null,null,null,0," "," "," "," "]
[{"$f":"IF(COUNTRY_INFO!A21=0,\" \",COUNTRY_INFO!A21)","v":"Tanzania"},{"$f":"IF(COUNTRY_INFO!B21=0,\" \",COUNTRY_INFO!B21)","v":"Dar Es Salaam"},{"$f":"IF(COUNTRY_INFO!C21=0,\" \",COUNTRY_INFO!C21)","v":"Ubungo Municipal Council"},{"$f":"IF(OR(COUNTRY_INFO!$T$9:$T$1000=\"T2 (PZQ)\",COUNTRY_INFO!$U$9:$U$1000=\"T2 (PZQ)\"), \"T2 (PZQ)\", \" \")","v":" "},null,null,null,null,0,null,null,null,0," "," "," "," "]
[{"$f":"IF(COUNTRY_INFO!A22=0,\" \",COUNTRY_INFO!A22)","v":"Tanzania"},{"$f":"IF(COUNTRY_INFO!B22=0,\" \",COUNTRY_INFO!B22)","v":"Dodoma"},{"$f":"IF(COUNTRY_INFO!C22=0,\" \",COUNTRY_INFO!C22)","v":"Bahi District Council"},{"$f":"IF(OR(COUNTRY_INFO!$T$9:$T$1000=\"T2 (PZQ)\",COUNTRY_INFO!$U$9:$U$1000=\"T2 (PZQ)\"), \"T2 (PZQ)\", \" \")","v":" "},null,null,null,null,0,null,null,null,0," "," "," "," "]
[{"$f":"IF(COUNTRY_INFO!A23=0,\" \",COUNTRY_INFO!A23)","v":"Tanzania"},{"$f":"IF(COUNTRY_INFO!B23=0,\" \",COUNTRY_INFO!B23)","v":"Dodoma"},{"$f":"IF(COUNTRY_INFO!C23=0,\" \",COUNTRY_INFO!C23)","v":"Chamwino District Council"},{"$f":"IF(OR(COUNTRY_INFO!$T$9:$T$1000=\"T2 (PZQ)\",COUNTRY_INFO!$U$9:$U$1000=\"T2 (PZQ)\"), \"T2 (PZQ)\", \" \")","v":" "},null,null,null,null,0,null,null,null,0," "," "," "," "]
[{"$f":"IF(COUNTRY_INFO!A24=0,\" \",COUNTRY_INFO!A24)","v":"Tanzania"},{"$f":"IF(COUNTRY_INFO!B24=0,\" \",COUNTRY_INFO!B24)","v":"Dodoma"},{"$f":"IF(COUNTRY_INFO!C24=0,\" \",COUNTRY_INFO!C24)","v":"Chemba District Council"},{"$f":"IF(OR(COUNTRY_INFO!$T$9:$T$1000=\"T2 (PZQ)\",COUNTRY_INFO!$U$9:$U$1000=\"T2 (PZQ)\"), \"T2 (PZQ)\", \" \")","v":" "},null,null,null,null,0,null,null,null,0," "," "," "," "]
[{"$f":"IF(COUNTRY_INFO!A25=0,\" \",COUNTRY_INFO!A25)","v":"Tanzania"},{"$f":"IF(COUNTRY_INFO!B25=0,\" \",COUNTRY_INFO!B25)","v":"Dodoma"},{"$f":"IF(COUNTRY_INFO!C25=0,\" \",COUNTRY_INFO!C25)","v":"Dodoma City Council"},{"$f":"IF(OR(COUNTRY_INFO!$T$9:$T$1000=\"T2 (PZQ)\",COUNTRY_INFO!$U$9:$U$1000=\"T2 (PZQ)\"), \"T2 (PZQ)\", \" \")","v":" "},null,null,null,null,0,null,null,null,0," "," "," "," "]
[{"$f":"IF(COUNTRY_INFO!A26=0,\" \",COUNTRY_INFO!A26)","v":"Tanzania"},{"$f":"IF(COUNTRY_INFO!B26=0,\" \",COUNTRY_INFO!B26)","v":"Dodoma"},{"$f":"IF(COUNTRY_INFO!C26=0,\" \",COUNTRY_INFO!C26)","v":"Kondoa District Council"},{"$f":"IF(OR(COUNTRY_INFO!$T$9:$T$1000=\"T2 (PZQ)\",COUNTRY_INFO!$U$9:$U$1000=\"T2 (PZQ)\"), \"T2 (PZQ)\", \" \")","v":" "},null,null,null,null,0,null,null,null,0," "," "," "," "]
[{"$f":"IF(COUNTRY_INFO!A27=0,\" \",COUNTRY_INFO!A27)","v":"Tanzania"},{"$f":"IF(COUNTRY_INFO!B27=0,\" \",COUNTRY_INFO!B27)","v":"Dodoma"},{"$f":"IF(COUNTRY_INFO!C27=0,\" \",COUNTRY_INFO!C27)","v":"Kondoa Town Council "},{"$f":"IF(OR(COUNTRY_INFO!$T$9:$T$1000=\"T2 (PZQ)\",COUNTRY_INFO!$U$9:$U$1000=\"T2 (PZQ)\"), \"T2 (PZQ)\", \" \")","v":" "},null,null,null,null,0,null,null,null,0," "," "," "," "]
[{"$f":"IF(COUNTRY_INFO!A28=0,\" \",COUNTRY_INFO!A28)","v":"Tanzania"},{"$f":"IF(COUNTRY_INFO!B28=0,\" \",COUNTRY_INFO!B28)","v":"Dodoma"},{"$f":"IF(COUNTRY_INFO!C28=0,\" \",COUNTRY_INFO!C28)","v":"Kongwa District Council"},{"$f":"IF(OR(COUNTRY_INFO!$T$9:$T$1000=\"T2 (PZQ)\",COUNTRY_INFO!$U$9:$U$1000=\"T2 (PZQ)\"), \"T2 (PZQ)\", \" \")","v":" "},null,null,null,null,0,null,null,null,0," "," "," "," "]
[{"$f":"IF(COUNTRY_INFO!A29=0,\" \",COUNTRY_INFO!A29)","v":"Tanzania"},{"$f":"IF(COUNTRY_INFO!B29=0,\" \",COUNTRY_INFO!B29)","v":"Dodoma"},{"$f":"IF(COUNTRY_INFO!C29=0,\" \",COUNTRY_INFO!C29)","v":"Mpwapwa District Council"},{"$f":"IF(OR(COUNTRY_INFO!$T$9:$T$1000=\"T2 (PZQ)\",COUNTRY_INFO!$U$9:$U$1000=\"T2 (PZQ)\"), \"T2 (PZQ)\", \" \")","v":" "},null,null,null,null,0,null,null,null,0," "," "," "," "]
[{"$f":"IF(COUNTRY_INFO!A30=0,\" \",COUNTRY_INFO!A30)","v":"Tanzania"},{"$f":"IF(COUNTRY_INFO!B30=0,\" \",COUNTRY_INFO!B30)","v":"Geita"},{"$f":"IF(COUNTRY_INFO!C30=0,\" \",COUNTRY_INFO!C30)","v":"Bukombe District Council"},{"$f":"IF(OR(COUNTRY_INFO!$T$9:$T$1000=\"T2 (PZQ)\",COUNTRY_INFO!$U$9:$U$1000=\"T2 (PZQ)\"), \"T2 (PZQ)\", \" \")","v":" "},null,null,null,null,0,null,null,null,0," "," "," "," "]
[{"$f":"IF(COUNTRY_INFO!A31=0,\" \",COUNTRY_INFO!A31)","v":"Tanzania"},{"$f":"IF(COUNTRY_INFO!B31=0,\" \",COUNTRY_INFO!B31)","v":"Geita"},{"$f":"IF(COUNTRY_INFO!C31=0,\" \",COUNTRY_INFO!C31)","v":"Chato District Council"},{"$f":"IF(OR(COUNTRY_INFO!$T$9:$T$1000=\"T2 (PZQ)\",COUNTRY_INFO!$U$9:$U$1000=\"T2 (PZQ)\"), \"T2 (PZQ)\", \" \")","v":" "},null,null,null,null,0,null,null,null,0," "," "," "," "]
[{"$f":"IF(COUNTRY_INFO!A32=0,\" \",COUNTRY_INFO!A32)","v":"Tanzania"},{"$f":"IF(COUNTRY_INFO!B32=0,\" \",COUNTRY_INFO!B32)","v":"Geita"},{"$f":"IF(COUNTRY_INFO!C32=0,\" \",COUNTRY_INFO!C32)","v":"Geita District Council"},{"$f":"IF(OR(COUNTRY_INFO!$T$9:$T$1000=\"T2 (PZQ)\",COUNTRY_INFO!$U$9:$U$1000=\"T2 (PZQ)\"), \"T2 (PZQ)\", \" \")","v":" "},null,null,null,null,0,null,null,null,0," "," "," "," "]
[{"$f":"IF(COUNTRY_INFO!A33=0,\" \",COUNTRY_INFO!A33)","v":"Tanzania"},{"$f":"IF(COUNTRY_INFO!B33=0,\" \",COUNTRY_INFO!B33)","v":"Geita"},{"$f":"IF(COUNTRY_INFO!C33=0,\" \",COUNTRY_INFO!C33)","v":"Geita Town Council"},{"$f":"IF(OR(COUNTRY_INFO!$T$9:$T$1000=\"T2 (PZQ)\",COUNTRY_INFO!$U$9:$U$1000=\"T2 (PZQ)\"), \"T2 (PZQ)\", \" \")","v":" "},null,null,null,null,0,null,null,null,0," "," "," "," "]
[{"$f":"IF(COUNTRY_INFO!A34=0,\" \",COUNTRY_INFO!A34)","v":"Tanzania"},{"$f":"IF(COUNTRY_INFO!B34=0,\" \",COUNTRY_INFO!B34)","v":"Geita"},{"$f":"IF(COUNTRY_INFO!C34=0,\" \",COUNTRY_INFO!C34)","v":"Mbogwe District Council"},{"$f":"IF(OR(COUNTRY_INFO!$T$9:$T$1000=\"T2 (PZQ)\",COUNTRY_INFO!$U$9:$U$1000=\"T2 (PZQ)\"), \"T2 (PZQ)\", \" \")","v":" "},null,null,null,null,0,null,null,null,0," "," "," "," "]
[{"$f":"IF(COUNTRY_INFO!A35=0,\" \",COUNTRY_INFO!A35)","v":"Tanzania"},{"$f":"IF(COUNTRY_INFO!B35=0,\" \",COUNTRY_INFO!B35)","v":"Geita"},{"$f":"IF(COUNTRY_INFO!C35=0,\" \",COUNTRY_INFO!C35)","v":"Nyang'hwale District Council"},{"$f":"IF(OR(COUNTRY_INFO!$T$9:$T$1000=\"T2 (PZQ)\",COUNTRY_INFO!$U$9:$U$1000=\"T2 (PZQ)\"), \"T2 (PZQ)\", \" \")","v":" "},null,null,null,null,0,null,null,null,0," "," "," "," "]
[{"$f":"IF(COUNTRY_INFO!A36=0,\" \",COUNTRY_INFO!A36)","v":"Tanzania"},{"$f":"IF(COUNTRY_INFO!B36=0,\" \",COUNTRY_INFO!B36)","v":"Iringa"},{"$f":"IF(COUNTRY_INFO!C36=0,\" \",COUNTRY_INFO!C36)","v":"Iringa District Council"},{"$f":"IF(OR(COUNTRY_INFO!$T$9:$T$1000=\"T2 (PZQ)\",COUNTRY_INFO!$U$9:$U$1000=\"T2 (PZQ)\"), \"T2 (PZQ)\", \" \")","v":" "},null,null,null,null,0,null,null,null,0," "," "," "," "]
[{"$f":"IF(COUNTRY_INFO!A37=0,\" \",COUNTRY_INFO!A37)","v":"Tanzania"},{"$f":"IF(COUNTRY_INFO!B37=0,\" \",COUNTRY_INFO!B37)","v":"Iringa"},{"$f":"IF(COUNTRY_INFO!C37=0,\" \",COUNTRY_INFO!C37)","v":"Iringa Municipal Council"},{"$f":"IF(OR(COUNTRY_INFO!$T$9:$T$1000=\"T2 (PZQ)\",COUNTRY_INFO!$U$9:$U$1000=\"T2 (PZQ)\"), \"T2 (PZQ)\", \" \")","v":" "},null,null,null,null,0,null,null,null,0," "," "," "," "]
[{"$f":"IF(COUNTRY_INFO!A38=0,\" \",COUNTRY_INFO!A38)","v":"Tanzania"},{"$f":"IF(COUNTRY_INFO!B38=0,\" \",COUNTRY_INFO!B38)","v":"Iringa"},{"$f":"IF(COUNTRY_INFO!C38=0,\" \",COUNTRY_INFO!C38)","v":"Kilolo District Council"},{"$f":"IF(OR(COUNTRY_INFO!$T$9:$T$1000=\"T2 (PZQ)\",COUNTRY_INFO!$U$9:$U$1000=\"T2 (PZQ)\"), \"T2 (PZQ)\", \" \")","v":" "},null,null,null,null,0,null,null,null,0," "," "," "," "]
[{"$f":"IF(COUNTRY_INFO!A39=0,\" \",COUNTRY_INFO!A39)","v":"Tanzania"},{"$f":"IF(COUNTRY_INFO!B39=0,\" \",COUNTRY_INFO!B39)","v":"Iringa"},{"$f":"IF(COUNTRY_INFO!C39=0,\" \",COUNTRY_INFO!C39)","v":"Mafinga Town Council"},{"$f":"IF(OR(COUNTRY_INFO!$T$9:$T$1000=\"T2 (PZQ)\",COUNTRY_INFO!$U$9:$U$1000=\"T2 (PZQ)\"), \"T2 (PZQ)\", \" \")","v":" "},null,null,null,null,0,null,null,null,0," "," "," "," "]
[{"$f":"IF(COUNTRY_INFO!A40=0,\" \",COUNTRY_INFO!A40)","v":"Tanzania"},{"$f":"IF(COUNTRY_INFO!B40=0,\" \",COUNTRY_INFO!B40)","v":"Iringa"},{"$f":"IF(COUNTRY_INFO!C40=0,\" \",COUNTRY_INFO!C40)","v":"Mufindi District Council"},{"$f":"IF(OR(COUNTRY_INFO!$T$9:$T$1000=\"T2 (PZQ)\",COUNTRY_INFO!$U$9:$U$1000=\"T2 (PZQ)\"), \"T2 (PZQ)\", \" \")","v":" "},null,null,null,null,0,null,null,null,0," "," "," "," "]
[{"$f":"IF(COUNTRY_INFO!A41=0,\" \",COUNTRY_INFO!A41)","v":"Tanzania"},{"$f":"IF(COUNTRY_INFO!B41=0,\" \",COUNTRY_INFO!B41)","v":"Kagera"},{"$f":"IF(COUNTRY_INFO!C41=0,\" \",COUNTRY_INFO!C41)","v":"Biharamulo District Council"},{"$f":"IF(OR(COUNTRY_INFO!$T$9:$T$1000=\"T2 (PZQ)\",COUNTRY_INFO!$U$9:$U$1000=\"T2 (PZQ)\"), \"T2 (PZQ)\", \" \")","v":" "},null,null,null,null,0,null,null,null,0," "," "," "," "]
[{"$f":"IF(COUNTRY_INFO!A42=0,\" \",COUNTRY_INFO!A42)","v":"Tanzania"},{"$f":"IF(COUNTRY_INFO!B42=0,\" \",COUNTRY_INFO!B42)","v":"Kagera"},{"$f":"IF(COUNTRY_INFO!C42=0,\" \",COUNTRY_INFO!C42)","v":"Bukoba District Council"},{"$f":"IF(OR(COUNTRY_INFO!$T$9:$T$1000=\"T2 (PZQ)\",COUNTRY_INFO!$U$9:$U$1000=\"T2 (PZQ)\"), \"T2 (PZQ)\", \" \")","v":" "},null,null,null,null,0,null,null,null,0," "," "," "," "]
[{"$f":"IF(COUNTRY_INFO!A43=0,\" \",COUNTRY_INFO!A43)","v":"Tanzania"},{"$f":"IF(COUNTRY_INFO!B43=0,\" \",COUNTRY_INFO!B43)","v":"Kagera"},{"$f":"IF(COUNTRY_INFO!C43=0,\" \",COUNTRY_INFO!C43)","v":"Bukoba Municipal Council"},{"$f":"IF(OR(COUNTRY_INFO!$T$9:$T$1000=\"T2 (PZQ)\",COUNTRY_INFO!$U$9:$U$1000=\"T2 (PZQ)\"), \"T2 (PZQ)\", \" \")","v":" "},null,null,null,null,0,null,null,null,0," "," "," "," "]
[{"$f":"IF(COUNTRY_INFO!A44=0,\" \",COUNTRY_INFO!A44)","v":"Tanzania"},{"$f":"IF(COUNTRY_INFO!B44=0,\" \",COUNTRY_INFO!B44)","v":"Kagera"},{"$f":"IF(COUNTRY_INFO!C44=0,\" \",COUNTRY_INFO!C44)","v":"Karagwe District Council"},{"$f":"IF(OR(COUNTRY_INFO!$T$9:$T$1000=\"T2 (PZQ)\",COUNTRY_INFO!$U$9:$U$1000=\"T2 (PZQ)\"), \"T2 (PZQ)\", \" \")","v":" "},null,null,null,null,0,null,null,null,0," "," "," "," "]
[{"$f":"IF(COUNTRY_INFO!A45=0,\" \",COUNTRY_INFO!A45)","v":"Tanzania"},{"$f":"IF(COUNTRY_INFO!B45=0,\" \",COUNTRY_INFO!B45)","v":"Kagera"},{"$f":"IF(COUNTRY_INFO!C45=0,\" \",COUNTRY_INFO!C45)","v":"Kyerwa District Council"},{"$f":"IF(OR(COUNTRY_INFO!$T$9:$T$1000=\"T2 (PZQ)\",COUNTRY_INFO!$U$9:$U$1000=\"T2 (PZQ)\"), \"T2 (PZQ)\", \" \")","v":" "},null,null,null,null,0,null,null,null,0," "," "," "," "]
[{"$f":"IF(COUNTRY_INFO!A46=0,\" \",COUNTRY_INFO!A46)","v":"Tanzania"},{"$f":"IF(COUNTRY_INFO!B46=0,\" \",COUNTRY_INFO!B46)","v":"Kagera"},{"$f":"IF(COUNTRY_INFO!C46=0,\" \",COUNTRY_INFO!C46)","v":"Missenyi District Council"},{"$f":"IF(OR(COUNTRY_INFO!$T$9:$T$1000=\"T2 (PZQ)\",COUNTRY_INFO!$U$9:$U$1000=\"T2 (PZQ)\"), \"T2 (PZQ)\", \" \")","v":" "},null,null,null,null,0,null,null,null,0," "," "," "," "]
[{"$f":"IF(COUNTRY_INFO!A47=0,\" \",COUNTRY_INFO!A47)","v":"Tanzania"},{"$f":"IF(COUNTRY_INFO!B47=0,\" \",COUNTRY_INFO!B47)","v":"Kagera"},{"$f":"IF(COUNTRY_INFO!C47=0,\" \",COUNTRY_INFO!C47)","v":"Muleba District Council"},{"$f":"IF(OR(COUNTRY_INFO!$T$9:$T$1000=\"T2 (PZQ)\",COUNTRY_INFO!$U$9:$U$1000=\"T2 (PZQ)\"), \"T2 (PZQ)\", \" \")","v":" "},null,null,null,null,0,null,null,null,0," "," "," "," "]
[{"$f":"IF(COUNTRY_INFO!A48=0,\" \",COUNTRY_INFO!A48)","v":"Tanzania"},{"$f":"IF(COUNTRY_INFO!B48=0,\" \",COUNTRY_INFO!B48)","v":"Kagera"},{"$f":"IF(COUNTRY_INFO!C48=0,\" \",COUNTRY_INFO!C48)","v":"Ngara District Council"},{"$f":"IF(OR(COUNTRY_INFO!$T$9:$T$1000=\"T2 (PZQ)\",COUNTRY_INFO!$U$9:$U$1000=\"T2 (PZQ)\"), \"T2 (PZQ)\", \" \")","v":" "},null,null,null,null,0,null,null,null,0," "," "," "," "]
[{"$f":"IF(COUNTRY_INFO!A49=0,\" \",COUNTRY_INFO!A49)","v":"Tanzania"},{"$f":"IF(COUNTRY_INFO!B49=0,\" \",COUNTRY_INFO!B49)","v":"Katavi"},{"$f":"IF(COUNTRY_INFO!C49=0,\" \",COUNTRY_INFO!C49)","v":"Mlele District Council"},{"$f":"IF(OR(COUNTRY_INFO!$T$9:$T$1000=\"T2 (PZQ)\",COUNTRY_INFO!$U$9:$U$1000=\"T2 (PZQ)\"), \"T2 (PZQ)\", \" \")","v":" "},null,null,null,null,0,null,null,null,0," "," "," "," "]
[{"$f":"IF(COUNTRY_INFO!A50=0,\" \",COUNTRY_INFO!A50)","v":"Tanzania"},{"$f":"IF(COUNTRY_INFO!B50=0,\" \",COUNTRY_INFO!B50)","v":"Katavi"},{"$f":"IF(COUNTRY_INFO!C50=0,\" \",COUNTRY_INFO!C50)","v":"Mpanda District Council"},{"$f":"IF(OR(COUNTRY_INFO!$T$9:$T$1000=\"T2 (PZQ)\",COUNTRY_INFO!$U$9:$U$1000=\"T2 (PZQ)\"), \"T2 (PZQ)\", \" \")","v":" "},null,null,null,null,0,null,null,null,0," "," "," "," "]
[{"$f":"IF(COUNTRY_INFO!A51=0,\" \",COUNTRY_INFO!A51)","v":"Tanzania"},{"$f":"IF(COUNTRY_INFO!B51=0,\" \",COUNTRY_INFO!B51)","v":"Katavi"},{"$f":"IF(COUNTRY_INFO!C51=0,\" \",COUNTRY_INFO!C51)","v":"Mpanda Municipal Council"},{"$f":"IF(OR(COUNTRY_INFO!$T$9:$T$1000=\"T2 (PZQ)\",COUNTRY_INFO!$U$9:$U$1000=\"T2 (PZQ)\"), \"T2 (PZQ)\", \" \")","v":" "},null,null,null,null,0,null,null,null,0," "," "," "," "]
[{"$f":"IF(COUNTRY_INFO!A52=0,\" \",COUNTRY_INFO!A52)","v":"Tanzania"},{"$f":"IF(COUNTRY_INFO!B52=0,\" \",COUNTRY_INFO!B52)","v":"Katavi"},{"$f":"IF(COUNTRY_INFO!C52=0,\" \",COUNTRY_INFO!C52)","v":"Mpimbwe District Council"},{"$f":"IF(OR(COUNTRY_INFO!$T$9:$T$1000=\"T2 (PZQ)\",COUNTRY_INFO!$U$9:$U$1000=\"T2 (PZQ)\"), \"T2 (PZQ)\", \" \")","v":" "},null,null,null,null,0,null,null,null,0," "," "," "," "]
[{"$f":"IF(COUNTRY_INFO!A53=0,\" \",COUNTRY_INFO!A53)","v":"Tanzania"},{"$f":"IF(COUNTRY_INFO!B53=0,\" \",COUNTRY_INFO!B53)","v":"Katavi"},{"$f":"IF(COUNTRY_INFO!C53=0,\" \",COUNTRY_INFO!C53)","v":"Nsimbo District Council"},{"$f":"IF(OR(COUNTRY_INFO!$T$9:$T$1000=\"T2 (PZQ)\",COUNTRY_INFO!$U$9:$U$1000=\"T2 (PZQ)\"), \"T2 (PZQ)\", \" \")","v":" "},null,null,null,null,0,null,null,null,0," "," "," "," "]
[{"$f":"IF(COUNTRY_INFO!A54=0,\" \",COUNTRY_INFO!A54)","v":"Tanzania"},{"$f":"IF(COUNTRY_INFO!B54=0,\" \",COUNTRY_INFO!B54)","v":"Kigoma"},{"$f":"IF(COUNTRY_INFO!C54=0,\" \",COUNTRY_INFO!C54)","v":"Buhigwe District Council"},{"$f":"IF(OR(COUNTRY_INFO!$T$9:$T$1000=\"T2 (PZQ)\",COUNTRY_INFO!$U$9:$U$1000=\"T2 (PZQ)\"), \"T2 (PZQ)\", \" \")","v":" "},null,null,null,null,0,null,null,null,0," "," "," "," "]
[{"$f":"IF(COUNTRY_INFO!A55=0,\" \",COUNTRY_INFO!A55)","v":"Tanzania"},{"$f":"IF(COUNTRY_INFO!B55=0,\" \",COUNTRY_INFO!B55)","v":"Kigoma"},{"$f":"IF(COUNTRY_INFO!C55=0,\" \",COUNTRY_INFO!C55)","v":"Kakonko District Council"},{"$f":"IF(OR(COUNTRY_INFO!$T$9:$T$1000=\"T2 (PZQ)\",COUNTRY_INFO!$U$9:$U$1000=\"T2 (PZQ)\"), \"T2 (PZQ)\", \" \")","v":" "},null,null,null,null,0,null,null,null,0," "," "," "," "]
[{"$f":"IF(COUNTRY_INFO!A56=0,\" \",COUNTRY_INFO!A56)","v":"Tanzania"},{"$f":"IF(COUNTRY_INFO!B56=0,\" \",COUNTRY_INFO!B56)","v":"Kigoma"},{"$f":"IF(COUNTRY_INFO!C56=0,\" \",COUNTRY_INFO!C56)","v":"Kasulu District Council"},{"$f":"IF(OR(COUNTRY_INFO!$T$9:$T$1000=\"T2 (PZQ)\",COUNTRY_INFO!$U$9:$U$1000=\"T2 (PZQ)\"), \"T2 (PZQ)\", \" \")","v":" "},null,null,null,null,0,null,null,null,0," "," "," "," "]
[{"$f":"IF(COUNTRY_INFO!A57=0,\" \",COUNTRY_INFO!A57)","v":"Tanzania"},{"$f":"IF(COUNTRY_INFO!B57=0,\" \",COUNTRY_INFO!B57)","v":"Kigoma"},{"$f":"IF(COUNTRY_INFO!C57=0,\" \",COUNTRY_INFO!C57)","v":"Kasulu Town Council"},{"$f":"IF(OR(COUNTRY_INFO!$T$9:$T$1000=\"T2 (PZQ)\",COUNTRY_INFO!$U$9:$U$1000=\"T2 (PZQ)\"), \"T2 (PZQ)\", \" \")","v":" "},null,null,null,null,0,null,null,null,0," "," "," "," "]
[{"$f":"IF(COUNTRY_INFO!A58=0,\" \",COUNTRY_INFO!A58)","v":"Tanzania"},{"$f":"IF(COUNTRY_INFO!B58=0,\" \",COUNTRY_INFO!B58)","v":"Kigoma"},{"$f":"IF(COUNTRY_INFO!C58=0,\" \",COUNTRY_INFO!C58)","v":"Kibondo District Council"},{"$f":"IF(OR(COUNTRY_INFO!$T$9:$T$1000=\"T2 (PZQ)\",COUNTRY_INFO!$U$9:$U$1000=\"T2 (PZQ)\"), \"T2 (PZQ)\", \" \")","v":" "},null,null,null,null,0,null,null,null,0," "," "," "," "]
[{"$f":"IF(COUNTRY_INFO!A59=0,\" \",COUNTRY_INFO!A59)","v":"Tanzania"},{"$f":"IF(COUNTRY_INFO!B59=0,\" \",COUNTRY_INFO!B59)","v":"Kigoma"},{"$f":"IF(COUNTRY_INFO!C59=0,\" \",COUNTRY_INFO!C59)","v":"Kigoma District Council"},{"$f":"IF(OR(COUNTRY_INFO!$T$9:$T$1000=\"T2 (PZQ)\",COUNTRY_INFO!$U$9:$U$1000=\"T2 (PZQ)\"), \"T2 (PZQ)\", \" \")","v":" "},null,null,null,null,0,null,null,null,0," "," "," "," "]
[{"$f":"IF(COUNTRY_INFO!A60=0,\" \",COUNTRY_INFO!A60)","v":"Tanzania"},{"$f":"IF(COUNTRY_INFO!B60=0,\" \",COUNTRY_INFO!B60)","v":"Kigoma"},{"$f":"IF(COUNTRY_INFO!C60=0,\" \",COUNTRY_INFO!C60)","v":"Kigoma-Ujiji Municipal Council"},{"$f":"IF(OR(COUNTRY_INFO!$T$9:$T$1000=\"T2 (PZQ)\",COUNTRY_INFO!$U$9:$U$1000=\"T2 (PZQ)\"), \"T2 (PZQ)\", \" \")","v":" "},null,null,null,null,0,null,null,null,0," "," "," "," "]
[{"$f":"IF(COUNTRY_INFO!A61=0,\" \",COUNTRY_INFO!A61)","v":"Tanzania"},{"$f":"IF(COUNTRY_INFO!B61=0,\" \",COUNTRY_INFO!B61)","v":"Kigoma"},{"$f":"IF(COUNTRY_INFO!C61=0,\" \",COUNTRY_INFO!C61)","v":"Uvinza District Council"},{"$f":"IF(OR(COUNTRY_INFO!$T$9:$T$1000=\"T2 (PZQ)\",COUNTRY_INFO!$U$9:$U$1000=\"T2 (PZQ)\"), \"T2 (PZQ)\", \" \")","v":" "},null,null,null,null,0,null,null,null,0," "," "," "," "]
[{"$f":"IF(COUNTRY_INFO!A62=0,\" \",COUNTRY_INFO!A62)","v":"Tanzania"},{"$f":"IF(COUNTRY_INFO!B62=0,\" \",COUNTRY_INFO!B62)","v":"Kilimanjaro"},{"$f":"IF(COUNTRY_INFO!C62=0,\" \",COUNTRY_INFO!C62)","v":"Hai District Council"},{"$f":"IF(OR(COUNTRY_INFO!$T$9:$T$1000=\"T2 (PZQ)\",COUNTRY_INFO!$U$9:$U$1000=\"T2 (PZQ)\"), \"T2 (PZQ)\", \" \")","v":" "},null,null,null,null,0,null,null,null,0," "," "," "," "]
[{"$f":"IF(COUNTRY_INFO!A63=0,\" \",COUNTRY_INFO!A63)","v":"Tanzania"},{"$f":"IF(COUNTRY_INFO!B63=0,\" \",COUNTRY_INFO!B63)","v":"Kilimanjaro"},{"$f":"IF(COUNTRY_INFO!C63=0,\" \",COUNTRY_INFO!C63)","v":"Moshi District Council"},{"$f":"IF(OR(COUNTRY_INFO!$T$9:$T$1000=\"T2 (PZQ)\",COUNTRY_INFO!$U$9:$U$1000=\"T2 (PZQ)\"), \"T2 (PZQ)\", \" \")","v":" "},null,null,null,null,0,null,null,null,0," "," "," "," "]
[{"$f":"IF(COUNTRY_INFO!A64=0,\" \",COUNTRY_INFO!A64)","v":"Tanzania"},{"$f":"IF(COUNTRY_INFO!B64=0,\" \",COUNTRY_INFO!B64)","v":"Kilimanjaro"},{"$f":"IF(COUNTRY_INFO!C64=0,\" \",COUNTRY_INFO!C64)","v":"Moshi Municipal Council"},{"$f":"IF(OR(COUNTRY_INFO!$T$9:$T$1000=\"T2 (PZQ)\",COUNTRY_INFO!$U$9:$U$1000=\"T2 (PZQ)\"), \"T2 (PZQ)\", \" \")","v":" "},null,null,null,null,0,null,null,null,0," "," "," "," "]
[{"$f":"IF(COUNTRY_INFO!A65=0,\" \",COUNTRY_INFO!A65)","v":"Tanzania"},{"$f":"IF(COUNTRY_INFO!B65=0,\" \",COUNTRY_INFO!B65)","v":"Kilimanjaro"},{"$f":"IF(COUNTRY_INFO!C65=0,\" \",COUNTRY_INFO!C65)","v":"Mwanga District Council"},{"$f":"IF(OR(COUNTRY_INFO!$T$9:$T$1000=\"T2 (PZQ)\",COUNTRY_INFO!$U$9:$U$1000=\"T2 (PZQ)\"), \"T2 (PZQ)\", \" \")","v":" "},null,null,null,null,0,null,null,null,0," "," "," "," "]
[{"$f":"IF(COUNTRY_INFO!A66=0,\" \",COUNTRY_INFO!A66)","v":"Tanzania"},{"$f":"IF(COUNTRY_INFO!B66=0,\" \",COUNTRY_INFO!B66)","v":"Kilimanjaro"},{"$f":"IF(COUNTRY_INFO!C66=0,\" \",COUNTRY_INFO!C66)","v":"Rombo District Council"},{"$f":"IF(OR(COUNTRY_INFO!$T$9:$T$1000=\"T2 (PZQ)\",COUNTRY_INFO!$U$9:$U$1000=\"T2 (PZQ)\"), \"T2 (PZQ)\", \" \")","v":" "},null,null,null,null,0,null,null,null,0," "," "," "," "]
[{"$f":"IF(COUNTRY_INFO!A67=0,\" \",COUNTRY_INFO!A67)","v":"Tanzania"},{"$f":"IF(COUNTRY_INFO!B67=0,\" \",COUNTRY_INFO!B67)","v":"Kilimanjaro"},{"$f":"IF(COUNTRY_INFO!C67=0,\" \",COUNTRY_INFO!C67)","v":"Same District Council"},{"$f":"IF(OR(COUNTRY_INFO!$T$9:$T$1000=\"T2 (PZQ)\",COUNTRY_INFO!$U$9:$U$1000=\"T2 (PZQ)\"), \"T2 (PZQ)\", \" \")","v":" "},null,null,null,null,0,null,null,null,0," "," "," "," "]
[{"$f":"IF(COUNTRY_INFO!A68=0,\" \",COUNTRY_INFO!A68)","v":"Tanzania"},{"$f":"IF(COUNTRY_INFO!B68=0,\" \",COUNTRY_INFO!B68)","v":"Kilimanjaro"},{"$f":"IF(COUNTRY_INFO!C68=0,\" \",COUNTRY_INFO!C68)","v":"Siha District Council"},{"$f":"IF(OR(COUNTRY_INFO!$T$9:$T$1000=\"T2 (PZQ)\",COUNTRY_INFO!$U$9:$U$1000=\"T2 (PZQ)\"), \"T2 (PZQ)\", \" \")","v":" "},null,null,null,null,0,null,null,null,0," "," "," "," "]
[{"$f":"IF(COUNTRY_INFO!A69=0,\" \",COUNTRY_INFO!A69)","v":"Tanzania"},{"$f":"IF(COUNTRY_INFO!B69=0,\" \",COUNTRY_INFO!B69)","v":"Lindi"},{"$f":"IF(COUNTRY_INFO!C69=0,\" \",COUNTRY_INFO!C69)","v":"Kilwa District Council"},{"$f":"IF(OR(COUNTRY_INFO!$T$9:$T$1000=\"T2 (PZQ)\",COUNTRY_INFO!$U$9:$U$1000=\"T2 (PZQ)\"), \"T2 (PZQ)\", \" \")","v":" "},null,null,null,null,0,null,null,null,0," "," "," "," "]
[{"$f":"IF(COUNTRY_INFO!A70=0,\" \",COUNTRY_INFO!A70)","v":"Tanzania"},{"$f":"IF(COUNTRY_INFO!B70=0,\" \",COUNTRY_INFO!B70)","v":"Lindi"},{"$f":"IF(COUNTRY_INFO!C70=0,\" \",COUNTRY_INFO!C70)","v":"Lindi District Council (Mtama District Council)"},{"$f":"IF(OR(COUNTRY_INFO!$T$9:$T$1000=\"T2 (PZQ)\",COUNTRY_INFO!$U$9:$U$1000=\"T2 (PZQ)\"), \"T2 (PZQ)\", \" \")","v":" "},null,null,null,null,0,null,null,null,0," "," "," "," "]
[{"$f":"IF(COUNTRY_INFO!A71=0,\" \",COUNTRY_INFO!A71)","v":"Tanzania"},{"$f":"IF(COUNTRY_INFO!B71=0,\" \",COUNTRY_INFO!B71)","v":"Lindi"},{"$f":"IF(COUNTRY_INFO!C71=0,\" \",COUNTRY_INFO!C71)","v":"Lindi Municipal Council"},{"$f":"IF(OR(COUNTRY_INFO!$T$9:$T$1000=\"T2 (PZQ)\",COUNTRY_INFO!$U$9:$U$1000=\"T2 (PZQ)\"), \"T2 (PZQ)\", \" \")","v":" "},null,null,null,null,0,null,null,null,0," "," "," "," "]
[{"$f":"IF(COUNTRY_INFO!A72=0,\" \",COUNTRY_INFO!A72)","v":"Tanzania"},{"$f":"IF(COUNTRY_INFO!B72=0,\" \",COUNTRY_INFO!B72)","v":"Lindi"},{"$f":"IF(COUNTRY_INFO!C72=0,\" \",COUNTRY_INFO!C72)","v":"Liwale District Council"},{"$f":"IF(OR(COUNTRY_INFO!$T$9:$T$1000=\"T2 (PZQ)\",COUNTRY_INFO!$U$9:$U$1000=\"T2 (PZQ)\"), \"T2 (PZQ)\", \" \")","v":" "},null,null,null,null,0,null,null,null,0," "," "," "," "]
[{"$f":"IF(COUNTRY_INFO!A73=0,\" \",COUNTRY_INFO!A73)","v":"Tanzania"},{"$f":"IF(COUNTRY_INFO!B73=0,\" \",COUNTRY_INFO!B73)","v":"Lindi"},{"$f":"IF(COUNTRY_INFO!C73=0,\" \",COUNTRY_INFO!C73)","v":"Nachingwea District Council"},{"$f":"IF(OR(COUNTRY_INFO!$T$9:$T$1000=\"T2 (PZQ)\",COUNTRY_INFO!$U$9:$U$1000=\"T2 (PZQ)\"), \"T2 (PZQ)\", \" \")","v":" "},null,null,null,null,0,null,null,null,0," "," "," "," "]
[{"$f":"IF(COUNTRY_INFO!A74=0,\" \",COUNTRY_INFO!A74)","v":"Tanzania"},{"$f":"IF(COUNTRY_INFO!B74=0,\" \",COUNTRY_INFO!B74)","v":"Lindi"},{"$f":"IF(COUNTRY_INFO!C74=0,\" \",COUNTRY_INFO!C74)","v":"Ruangwa District Council"},{"$f":"IF(OR(COUNTRY_INFO!$T$9:$T$1000=\"T2 (PZQ)\",COUNTRY_INFO!$U$9:$U$1000=\"T2 (PZQ)\"), \"T2 (PZQ)\", \" \")","v":" "},null,null,null,null,{"$f":"SUM(F74:H74)","v":0},null,null,null,{"$f":"SUM(J74:L74)","v":0},{"$f":"IF(F74<>0, IF(J74/F74*100=0, \"-\", J74/F74*100), \" \")","v":" "},{"$f":"IF(G74<>0, IF(K74/G74*100=0, \"-\", K74/G74*100), \" \")","v":" "},{"$f":"IF(H74<>0, IF(L74/H74*100=0, \"-\", L74/H74*100), \" \")","v":" "},{"$f":"IF(I74<>0, IF(M74/I74*100=0, \"-\", M74/I74*100), \" \")","v":" "}]
[{"$f":"IF(COUNTRY_INFO!A75=0,\" \",COUNTRY_INFO!A75)","v":"Tanzania"},{"$f":"IF(COUNTRY_INFO!B75=0,\" \",COUNTRY_INFO!B75)","v":"Manyara"},{"$f":"IF(COUNTRY_INFO!C75=0,\" \",COUNTRY_INFO!C75)","v":"Babati District Council"},{"$f":"IF(OR(COUNTRY_INFO!$T$9:$T$1000=\"T2 (PZQ)\",COUNTRY_INFO!$U$9:$U$1000=\"T2 (PZQ)\"), \"T2 (PZQ)\", \" \")","v":" "},null,null,null,null,0,null,null,null,0," "," "," "," "]
[{"$f":"IF(COUNTRY_INFO!A76=0,\" \",COUNTRY_INFO!A76)","v":"Tanzania"},{"$f":"IF(COUNTRY_INFO!B76=0,\" \",COUNTRY_INFO!B76)","v":"Manyara"},{"$f":"IF(COUNTRY_INFO!C76=0,\" \",COUNTRY_INFO!C76)","v":"Babati Town Council"},{"$f":"IF(OR(COUNTRY_INFO!$T$9:$T$1000=\"T2 (PZQ)\",COUNTRY_INFO!$U$9:$U$1000=\"T2 (PZQ)\"), \"T2 (PZQ)\", \" \")","v":" "},null,null,null,null,0,null,null,null,0," "," "," "," "]
[{"$f":"IF(COUNTRY_INFO!A77=0,\" \",COUNTRY_INFO!A77)","v":"Tanzania"},{"$f":"IF(COUNTRY_INFO!B77=0,\" \",COUNTRY_INFO!B77)","v":"Manyara"},{"$f":"IF(COUNTRY_INFO!C77=0,\" \",COUNTRY_INFO!C77)","v":"Hanang District Council"},{"$f":"IF(OR(COUNTRY_INFO!$T$9:$T$1000=\"T2 (PZQ)\",COUNTRY_INFO!$U$9:$U$1000=\"T2 (PZQ)\"), \"T2 (PZQ)\", \" \")","v":" "},null,null,null,null,0,null,null,null,0," "," "," "," "]
[{"$f":"IF(COUNTRY_INFO!A78=0,\" \",COUNTRY_INFO!A78)","v":"Tanzania"},{"$f":"IF(COUNTRY_INFO!B78=0,\" \",COUNTRY_INFO!B78)","v":"Manyara"},{"$f":"IF(COUNTRY_INFO!C78=0,\" \",COUNTRY_INFO!C78)","v":"Kiteto District Council"},{"$f":"IF(OR(COUNTRY_INFO!$T$9:$T$1000=\"T2 (PZQ)\",COUNTRY_INFO!$U$9:$U$1000=\"T2 (PZQ)\"), \"T2 (PZQ)\", \" \")","v":" "},null,null,null,null,0,null,null,null,0," "," "," "," "]
[{"$f":"IF(COUNTRY_INFO!A79=0,\" \",COUNTRY_INFO!A79)","v":"Tanzania"},{"$f":"IF(COUNTRY_INFO!B79=0,\" \",COUNTRY_INFO!B79)","v":"Manyara"},{"$f":"IF(COUNTRY_INFO!C79=0,\" \",COUNTRY_INFO!C79)","v":"Mbulu District Council"},{"$f":"IF(OR(COUNTRY_INFO!$T$9:$T$1000=\"T2 (PZQ)\",COUNTRY_INFO!$U$9:$U$1000=\"T2 (PZQ)\"), \"T2 (PZQ)\", \" \")","v":" "},null,null,null,null,0,null,null,null,0," "," "," "," "]
[{"$f":"IF(COUNTRY_INFO!A80=0,\" \",COUNTRY_INFO!A80)","v":"Tanzania"},{"$f":"IF(COUNTRY_INFO!B80=0,\" \",COUNTRY_INFO!B80)","v":"Manyara"},{"$f":"IF(COUNTRY_INFO!C80=0,\" \",COUNTRY_INFO!C80)","v":"Mbulu Town Council"},{"$f":"IF(OR(COUNTRY_INFO!$T$9:$T$1000=\"T2 (PZQ)\",COUNTRY_INFO!$U$9:$U$1000=\"T2 (PZQ)\"), \"T2 (PZQ)\", \" \")","v":" "},null,null,null,null,0,null,null,null,0," "," "," "," "]
[{"$f":"IF(COUNTRY_INFO!A81=0,\" \",COUNTRY_INFO!A81)","v":"Tanzania"},{"$f":"IF(COUNTRY_INFO!B81=0,\" \",COUNTRY_INFO!B81)","v":"Manyara"},{"$f":"IF(COUNTRY_INFO!C81=0,\" \",COUNTRY_INFO!C81)","v":"Simanjiro District Council"},{"$f":"IF(OR(COUNTRY_INFO!$T$9:$T$1000=\"T2 (PZQ)\",COUNTRY_INFO!$U$9:$U$1000=\"T2 (PZQ)\"), \"T2 (PZQ)\", \" \")","v":" "},null,null,null,null,0,null,null,null,0," "," "," "," "]
[{"$f":"IF(COUNTRY_INFO!A82=0,\" \",COUNTRY_INFO!A82)","v":"Tanzania"},{"$f":"IF(COUNTRY_INFO!B82=0,\" \",COUNTRY_INFO!B82)","v":"Mara"},{"$f":"IF(COUNTRY_INFO!C82=0,\" \",COUNTRY_INFO!C82)","v":"Bunda District Council"},{"$f":"IF(OR(COUNTRY_INFO!$T$9:$T$1000=\"T2 (PZQ)\",COUNTRY_INFO!$U$9:$U$1000=\"T2 (PZQ)\"), \"T2 (PZQ)\", \" \")","v":" "},null,null,null,null,0,null,null,null,0," "," "," "," "]
[{"$f":"IF(COUNTRY_INFO!A83=0,\" \",COUNTRY_INFO!A83)","v":"Tanzania"},{"$f":"IF(COUNTRY_INFO!B83=0,\" \",COUNTRY_INFO!B83)","v":"Mara"},{"$f":"IF(COUNTRY_INFO!C83=0,\" \",COUNTRY_INFO!C83)","v":"Bunda Town Council"},{"$f":"IF(OR(COUNTRY_INFO!$T$9:$T$1000=\"T2 (PZQ)\",COUNTRY_INFO!$U$9:$U$1000=\"T2 (PZQ)\"), \"T2 (PZQ)\", \" \")","v":" "},null,null,null,null,0,null,null,null,0," "," "," "," "]
[{"$f":"IF(COUNTRY_INFO!A84=0,\" \",COUNTRY_INFO!A84)","v":"Tanzania"},{"$f":"IF(COUNTRY_INFO!B84=0,\" \",COUNTRY_INFO!B84)","v":"Mara"},{"$f":"IF(COUNTRY_INFO!C84=0,\" \",COUNTRY_INFO!C84)","v":"Butiama District Council"},{"$f":"IF(OR(COUNTRY_INFO!$T$9:$T$1000=\"T2 (PZQ)\",COUNTRY_INFO!$U$9:$U$1000=\"T2 (PZQ)\"), \"T2 (PZQ)\", \" \")","v":" "},null,null,null,null,0,null,null,null,0," "," "," "," "]
[{"$f":"IF(COUNTRY_INFO!A85=0,\" \",COUNTRY_INFO!A85)","v":"Tanzania"},{"$f":"IF(COUNTRY_INFO!B85=0,\" \",COUNTRY_INFO!B85)","v":"Mara"},{"$f":"IF(COUNTRY_INFO!C85=0,\" \",COUNTRY_INFO!C85)","v":"Musoma District Council"},{"$f":"IF(OR(COUNTRY_INFO!$T$9:$T$1000=\"T2 (PZQ)\",COUNTRY_INFO!$U$9:$U$1000=\"T2 (PZQ)\"), \"T2 (PZQ)\", \" \")","v":" "},null,null,null,null,0,null,null,null,0," "," "," "," "]
[{"$f":"IF(COUNTRY_INFO!A86=0,\" \",COUNTRY_INFO!A86)","v":"Tanzania"},{"$f":"IF(COUNTRY_INFO!B86=0,\" \",COUNTRY_INFO!B86)","v":"Mara"},{"$f":"IF(COUNTRY_INFO!C86=0,\" \",COUNTRY_INFO!C86)","v":"Musoma Municipal Council"},{"$f":"IF(OR(COUNTRY_INFO!$T$9:$T$1000=\"T2 (PZQ)\",COUNTRY_INFO!$U$9:$U$1000=\"T2 (PZQ)\"), \"T2 (PZQ)\", \" \")","v":" "},null,null,null,null,0,null,null,null,0," "," "," "," "]
[{"$f":"IF(COUNTRY_INFO!A87=0,\" \",COUNTRY_INFO!A87)","v":"Tanzania"},{"$f":"IF(COUNTRY_INFO!B87=0,\" \",COUNTRY_INFO!B87)","v":"Mara"},{"$f":"IF(COUNTRY_INFO!C87=0,\" \",COUNTRY_INFO!C87)","v":"Rorya District Council"},{"$f":"IF(OR(COUNTRY_INFO!$T$9:$T$1000=\"T2 (PZQ)\",COUNTRY_INFO!$U$9:$U$1000=\"T2 (PZQ)\"), \"T2 (PZQ)\", \" \")","v":" "},null,null,null,null,0,null,null,null,0," "," "," "," "]
[{"$f":"IF(COUNTRY_INFO!A88=0,\" \",COUNTRY_INFO!A88)","v":"Tanzania"},{"$f":"IF(COUNTRY_INFO!B88=0,\" \",COUNTRY_INFO!B88)","v":"Mara"},{"$f":"IF(COUNTRY_INFO!C88=0,\" \",COUNTRY_INFO!C88)","v":"Serengeti District Council"},{"$f":"IF(OR(COUNTRY_INFO!$T$9:$T$1000=\"T2 (PZQ)\",COUNTRY_INFO!$U$9:$U$1000=\"T2 (PZQ)\"), \"T2 (PZQ)\", \" \")","v":" "},null,null,null,null,0,null,null,null,0," "," "," "," "]
[{"$f":"IF(COUNTRY_INFO!A89=0,\" \",COUNTRY_INFO!A89)","v":"Tanzania"},{"$f":"IF(COUNTRY_INFO!B89=0,\" \",COUNTRY_INFO!B89)","v":"Mara"},{"$f":"IF(COUNTRY_INFO!C89=0,\" \",COUNTRY_INFO!C89)","v":"Tarime District Council"},{"$f":"IF(OR(COUNTRY_INFO!$T$9:$T$1000=\"T2 (PZQ)\",COUNTRY_INFO!$U$9:$U$1000=\"T2 (PZQ)\"), \"T2 (PZQ)\", \" \")","v":" "},null,null,null,null,0,null,null,null,0," "," "," "," "]
[{"$f":"IF(COUNTRY_INFO!A90=0,\" \",COUNTRY_INFO!A90)","v":"Tanzania"},{"$f":"IF(COUNTRY_INFO!B90=0,\" \",COUNTRY_INFO!B90)","v":"Mara"},{"$f":"IF(COUNTRY_INFO!C90=0,\" \",COUNTRY_INFO!C90)","v":"Tarime Town Council"},{"$f":"IF(OR(COUNTRY_INFO!$T$9:$T$1000=\"T2 (PZQ)\",COUNTRY_INFO!$U$9:$U$1000=\"T2 (PZQ)\"), \"T2 (PZQ)\", \" \")","v":" "},null,null,null,null,0,null,null,null,0," "," "," "," "]
[{"$f":"IF(COUNTRY_INFO!A91=0,\" \",COUNTRY_INFO!A91)","v":"Tanzania"},{"$f":"IF(COUNTRY_INFO!B91=0,\" \",COUNTRY_INFO!B91)","v":"Mbeya"},{"$f":"IF(COUNTRY_INFO!C91=0,\" \",COUNTRY_INFO!C91)","v":"Busokelo District Council"},{"$f":"IF(OR(COUNTRY_INFO!$T$9:$T$1000=\"T2 (PZQ)\",COUNTRY_INFO!$U$9:$U$1000=\"T2 (PZQ)\"), \"T2 (PZQ)\", \" \")","v":" "},null,null,null,null,0,null,null,null,0," "," "," "," "]
[{"$f":"IF(COUNTRY_INFO!A92=0,\" \",COUNTRY_INFO!A92)","v":"Tanzania"},{"$f":"IF(COUNTRY_INFO!B92=0,\" \",COUNTRY_INFO!B92)","v":"Mbeya"},{"$f":"IF(COUNTRY_INFO!C92=0,\" \",COUNTRY_INFO!C92)","v":"Chunya District Council"},{"$f":"IF(OR(COUNTRY_INFO!$T$9:$T$1000=\"T2 (PZQ)\",COUNTRY_INFO!$U$9:$U$1000=\"T2 (PZQ)\"), \"T2 (PZQ)\", \" \")","v":" "},null,null,null,null,0,null,null,null,0," "," "," "," "]
[{"$f":"IF(COUNTRY_INFO!A93=0,\" \",COUNTRY_INFO!A93)","v":"Tanzania"},{"$f":"IF(COUNTRY_INFO!B93=0,\" \",COUNTRY_INFO!B93)","v":"Mbeya"},{"$f":"IF(COUNTRY_INFO!C93=0,\" \",COUNTRY_INFO!C93)","v":"Kyela District Council"},{"$f":"IF(OR(COUNTRY_INFO!$T$9:$T$1000=\"T2 (PZQ)\",COUNTRY_INFO!$U$9:$U$1000=\"T2 (PZQ)\"), \"T2 (PZQ)\", \" \")","v":" "},null,null,null,null,0,null,null,null,0," "," "," "," "]
[{"$f":"IF(COUNTRY_INFO!A94=0,\" \",COUNTRY_INFO!A94)","v":"Tanzania"},{"$f":"IF(COUNTRY_INFO!B94=0,\" \",COUNTRY_INFO!B94)","v":"Mbeya"},{"$f":"IF(COUNTRY_INFO!C94=0,\" \",COUNTRY_INFO!C94)","v":"Mbarali District Council"},{"$f":"IF(OR(COUNTRY_INFO!$T$9:$T$1000=\"T2 (PZQ)\",COUNTRY_INFO!$U$9:$U$1000=\"T2 (PZQ)\"), \"T2 (PZQ)\", \" \")","v":" "},null,null,null,null,0,null,null,null,0," "," "," "," "]
[{"$f":"IF(COUNTRY_INFO!A95=0,\" \",COUNTRY_INFO!A95)","v":"Tanzania"},{"$f":"IF(COUNTRY_INFO!B95=0,\" \",COUNTRY_INFO!B95)","v":"Mbeya"},{"$f":"IF(COUNTRY_INFO!C95=0,\" \",COUNTRY_INFO!C95)","v":"Mbeya City Council"},{"$f":"IF(OR(COUNTRY_INFO!$T$9:$T$1000=\"T2 (PZQ)\",COUNTRY_INFO!$U$9:$U$1000=\"T2 (PZQ)\"), \"T2 (PZQ)\", \" \")","v":" "},null,null,null,null,0,null,null,null,0," "," "," "," "]
[{"$f":"IF(COUNTRY_INFO!A96=0,\" \",COUNTRY_INFO!A96)","v":"Tanzania"},{"$f":"IF(COUNTRY_INFO!B96=0,\" \",COUNTRY_INFO!B96)","v":"Mbeya"},{"$f":"IF(COUNTRY_INFO!C96=0,\" \",COUNTRY_INFO!C96)","v":"Mbeya District Council"},{"$f":"IF(OR(COUNTRY_INFO!$T$9:$T$1000=\"T2 (PZQ)\",COUNTRY_INFO!$U$9:$U$1000=\"T2 (PZQ)\"), \"T2 (PZQ)\", \" \")","v":" "},null,null,null,null,0,null,null,null,0," "," "," "," "]
[{"$f":"IF(COUNTRY_INFO!A97=0,\" \",COUNTRY_INFO!A97)","v":"Tanzania"},{"$f":"IF(COUNTRY_INFO!B97=0,\" \",COUNTRY_INFO!B97)","v":"Mbeya"},{"$f":"IF(COUNTRY_INFO!C97=0,\" \",COUNTRY_INFO!C97)","v":"Rungwe District Council"},{"$f":"IF(OR(COUNTRY_INFO!$T$9:$T$1000=\"T2 (PZQ)\",COUNTRY_INFO!$U$9:$U$1000=\"T2 (PZQ)\"), \"T2 (PZQ)\", \" \")","v":" "},null,null,null,null,0,null,null,null,0," "," "," "," "]
[{"$f":"IF(COUNTRY_INFO!A98=0,\" \",COUNTRY_INFO!A98)","v":"Tanzania"},{"$f":"IF(COUNTRY_INFO!B98=0,\" \",COUNTRY_INFO!B98)","v":"Morogoro"},{"$f":"IF(COUNTRY_INFO!C98=0,\" \",COUNTRY_INFO!C98)","v":"Gairo District Council"},{"$f":"IF(OR(COUNTRY_INFO!$T$9:$T$1000=\"T2 (PZQ)\",COUNTRY_INFO!$U$9:$U$1000=\"T2 (PZQ)\"), \"T2 (PZQ)\", \" \")","v":" "},null,null,null,null,0,null,null,null,0," "," "," "," "]
[{"$f":"IF(COUNTRY_INFO!A99=0,\" \",COUNTRY_INFO!A99)","v":"Tanzania"},{"$f":"IF(COUNTRY_INFO!B99=0,\" \",COUNTRY_INFO!B99)","v":"Morogoro"},{"$f":"IF(COUNTRY_INFO!C99=0,\" \",COUNTRY_INFO!C99)","v":"Ifakara Town Council"},{"$f":"IF(OR(COUNTRY_INFO!$T$9:$T$1000=\"T2 (PZQ)\",COUNTRY_INFO!$U$9:$U$1000=\"T2 (PZQ)\"), \"T2 (PZQ)\", \" \")","v":" "},null,null,null,null,0,null,null,null,0," "," "," "," "]
[{"$f":"IF(COUNTRY_INFO!A100=0,\" \",COUNTRY_INFO!A100)","v":"Tanzania"},{"$f":"IF(COUNTRY_INFO!B100=0,\" \",COUNTRY_INFO!B100)","v":"Morogoro"},{"$f":"IF(COUNTRY_INFO!C100=0,\" \",COUNTRY_INFO!C100)","v":"Kilombero District Council (Mlimba District Council)"},{"$f":"IF(OR(COUNTRY_INFO!$T$9:$T$1000=\"T2 (PZQ)\",COUNTRY_INFO!$U$9:$U$1000=\"T2 (PZQ)\"), \"T2 (PZQ)\", \" \")","v":" "},null,null,null,null,0,null,null,null,0," "," "," "," "]
[{"$f":"IF(COUNTRY_INFO!A101=0,\" \",COUNTRY_INFO!A101)","v":"Tanzania"},{"$f":"IF(COUNTRY_INFO!B101=0,\" \",COUNTRY_INFO!B101)","v":"Morogoro"},{"$f":"IF(COUNTRY_INFO!C101=0,\" \",COUNTRY_INFO!C101)","v":"Kilosa District Council"},{"$f":"IF(OR(COUNTRY_INFO!$T$9:$T$1000=\"T2 (PZQ)\",COUNTRY_INFO!$U$9:$U$1000=\"T2 (PZQ)\"), \"T2 (PZQ)\", \" \")","v":" "},null,null,null,null,0,null,null,null,0," "," "," "," "]
[{"$f":"IF(COUNTRY_INFO!A102=0,\" \",COUNTRY_INFO!A102)","v":"Tanzania"},{"$f":"IF(COUNTRY_INFO!B102=0,\" \",COUNTRY_INFO!B102)","v":"Morogoro"},{"$f":"IF(COUNTRY_INFO!C102=0,\" \",COUNTRY_INFO!C102)","v":"Malinyi District Council"},{"$f":"IF(OR(COUNTRY_INFO!$T$9:$T$1000=\"T2 (PZQ)\",COUNTRY_INFO!$U$9:$U$1000=\"T2 (PZQ)\"), \"T2 (PZQ)\", \" \")","v":" "},null,null,null,null,0,null,null,null,0," "," "," "," "]
[{"$f":"IF(COUNTRY_INFO!A103=0,\" \",COUNTRY_INFO!A103)","v":"Tanzania"},{"$f":"IF(COUNTRY_INFO!B103=0,\" \",COUNTRY_INFO!B103)","v":"Morogoro"},{"$f":"IF(COUNTRY_INFO!C103=0,\" \",COUNTRY_INFO!C103)","v":"Morogoro District Council"},{"$f":"IF(OR(COUNTRY_INFO!$T$9:$T$1000=\"T2 (PZQ)\",COUNTRY_INFO!$U$9:$U$1000=\"T2 (PZQ)\"), \"T2 (PZQ)\", \" \")","v":" "},null,null,null,null,0,null,null,null,0," "," "," "," "]
[{"$f":"IF(COUNTRY_INFO!A104=0,\" \",COUNTRY_INFO!A104)","v":"Tanzania"},{"$f":"IF(COUNTRY_INFO!B104=0,\" \",COUNTRY_INFO!B104)","v":"Morogoro"},{"$f":"IF(COUNTRY_INFO!C104=0,\" \",COUNTRY_INFO!C104)","v":"Morogoro Municipal Council"},{"$f":"IF(OR(COUNTRY_INFO!$T$9:$T$1000=\"T2 (PZQ)\",COUNTRY_INFO!$U$9:$U$1000=\"T2 (PZQ)\"), \"T2 (PZQ)\", \" \")","v":" "},null,null,null,null,0,null,null,null,0," "," "," "," "]
[{"$f":"IF(COUNTRY_INFO!A105=0,\" \",COUNTRY_INFO!A105)","v":"Tanzania"},{"$f":"IF(COUNTRY_INFO!B105=0,\" \",COUNTRY_INFO!B105)","v":"Morogoro"},{"$f":"IF(COUNTRY_INFO!C105=0,\" \",COUNTRY_INFO!C105)","v":"Mvomero District Council"},{"$f":"IF(OR(COUNTRY_INFO!$T$9:$T$1000=\"T2 (PZQ)\",COUNTRY_INFO!$U$9:$U$1000=\"T2 (PZQ)\"), \"T2 (PZQ)\", \" \")","v":" "},null,null,null,null,0,null,null,null,0," "," "," "," "]
[{"$f":"IF(COUNTRY_INFO!A106=0,\" \",COUNTRY_INFO!A106)","v":"Tanzania"},{"$f":"IF(COUNTRY_INFO!B106=0,\" \",COUNTRY_INFO!B106)","v":"Morogoro"},{"$f":"IF(COUNTRY_INFO!C106=0,\" \",COUNTRY_INFO!C106)","v":"Ulanga District Council"},{"$f":"IF(OR(COUNTRY_INFO!$T$9:$T$1000=\"T2 (PZQ)\",COUNTRY_INFO!$U$9:$U$1000=\"T2 (PZQ)\"), \"T2 (PZQ)\", \" \")","v":" "},null,null,null,null,0,null,null,null,0," "," "," "," "]
[{"$f":"IF(COUNTRY_INFO!A107=0,\" \",COUNTRY_INFO!A107)","v":"Tanzania"},{"$f":"IF(COUNTRY_INFO!B107=0,\" \",COUNTRY_INFO!B107)","v":"Mtwara"},{"$f":"IF(COUNTRY_INFO!C107=0,\" \",COUNTRY_INFO!C107)","v":"Masasi District Council"},{"$f":"IF(OR(COUNTRY_INFO!$T$9:$T$1000=\"T2 (PZQ)\",COUNTRY_INFO!$U$9:$U$1000=\"T2 (PZQ)\"), \"T2 (PZQ)\", \" \")","v":" "},null,null,null,null,0,null,null,null,0," "," "," "," "]
[{"$f":"IF(COUNTRY_INFO!A108=0,\" \",COUNTRY_INFO!A108)","v":"Tanzania"},{"$f":"IF(COUNTRY_INFO!B108=0,\" \",COUNTRY_INFO!B108)","v":"Mtwara"},{"$f":"IF(COUNTRY_INFO!C108=0,\" \",COUNTRY_INFO!C108)","v":"Masasi Town Council"},{"$f":"IF(OR(COUNTRY_INFO!$T$9:$T$1000=\"T2 (PZQ)\",COUNTRY_INFO!$U$9:$U$1000=\"T2 (PZQ)\"), \"T2 (PZQ)\", \" \")","v":" "},null,null,null,null,0,null,null,null,0," "," "," "," "]
[{"$f":"IF(COUNTRY_INFO!A109=0,\" \",COUNTRY_INFO!A109)","v":"Tanzania"},{"$f":"IF(COUNTRY_INFO!B109=0,\" \",COUNTRY_INFO!B109)","v":"Mtwara"},{"$f":"IF(COUNTRY_INFO!C109=0,\" \",COUNTRY_INFO!C109)","v":"Mtwara District Council"},{"$f":"IF(OR(COUNTRY_INFO!$T$9:$T$1000=\"T2 (PZQ)\",COUNTRY_INFO!$U$9:$U$1000=\"T2 (PZQ)\"), \"T2 (PZQ)\", \" \")","v":" "},null,null,null,null,0,null,null,null,0," "," "," "," "]
[{"$f":"IF(COUNTRY_INFO!A110=0,\" \",COUNTRY_INFO!A110)","v":"Tanzania"},{"$f":"IF(COUNTRY_INFO!B110=0,\" \",COUNTRY_INFO!B110)","v":"Mtwara"},{"$f":"IF(COUNTRY_INFO!C110=0,\" \",COUNTRY_INFO!C110)","v":"Mtwara-Mikindani Municipal Council"},{"$f":"IF(OR(COUNTRY_INFO!$T$9:$T$1000=\"T2 (PZQ)\",COUNTRY_INFO!$U$9:$U$1000=\"T2 (PZQ)\"), \"T2 (PZQ)\", \" \")","v":" "},null,null,null,null,0,null,null,null,0," "," "," "," "]
[{"$f":"IF(COUNTRY_INFO!A111=0,\" \",COUNTRY_INFO!A111)","v":"Tanzania"},{"$f":"IF(COUNTRY_INFO!B111=0,\" \",COUNTRY_INFO!B111)","v":"Mtwara"},{"$f":"IF(COUNTRY_INFO!C111=0,\" \",COUNTRY_INFO!C111)","v":"Nanyamba Town Council"},{"$f":"IF(OR(COUNTRY_INFO!$T$9:$T$1000=\"T2 (PZQ)\",COUNTRY_INFO!$U$9:$U$1000=\"T2 (PZQ)\"), \"T2 (PZQ)\", \" \")","v":" "},null,null,null,null,0,null,null,null,0," "," "," "," "]
[{"$f":"IF(COUNTRY_INFO!A112=0,\" \",COUNTRY_INFO!A112)","v":"Tanzania"},{"$f":"IF(COUNTRY_INFO!B112=0,\" \",COUNTRY_INFO!B112)","v":"Mtwara"},{"$f":"IF(COUNTRY_INFO!C112=0,\" \",COUNTRY_INFO!C112)","v":"Nanyumbu District Council"},{"$f":"IF(OR(COUNTRY_INFO!$T$9:$T$1000=\"T2 (PZQ)\",COUNTRY_INFO!$U$9:$U$1000=\"T2 (PZQ)\"), \"T2 (PZQ)\", \" \")","v":" "},null,null,null,null,0,null,null,null,0," "," "," "," "]
[{"$f":"IF(COUNTRY_INFO!A113=0,\" \",COUNTRY_INFO!A113)","v":"Tanzania"},{"$f":"IF(COUNTRY_INFO!B113=0,\" \",COUNTRY_INFO!B113)","v":"Mtwara"},{"$f":"IF(COUNTRY_INFO!C113=0,\" \",COUNTRY_INFO!C113)","v":"Newala District Council"},{"$f":"IF(OR(COUNTRY_INFO!$T$9:$T$1000=\"T2 (PZQ)\",COUNTRY_INFO!$U$9:$U$1000=\"T2 (PZQ)\"), \"T2 (PZQ)\", \" \")","v":" "},null,null,null,null,0,null,null,null,0," "," "," "," "]
[{"$f":"IF(COUNTRY_INFO!A114=0,\" \",COUNTRY_INFO!A114)","v":"Tanzania"},{"$f":"IF(COUNTRY_INFO!B114=0,\" \",COUNTRY_INFO!B114)","v":"Mtwara"},{"$f":"IF(COUNTRY_INFO!C114=0,\" \",COUNTRY_INFO!C114)","v":"Newala Town Council"},{"$f":"IF(OR(COUNTRY_INFO!$T$9:$T$1000=\"T2 (PZQ)\",COUNTRY_INFO!$U$9:$U$1000=\"T2 (PZQ)\"), \"T2 (PZQ)\", \" \")","v":" "},null,null,null,null,0,null,null,null,0," "," "," "," "]
[{"$f":"IF(COUNTRY_INFO!A115=0,\" \",COUNTRY_INFO!A115)","v":"Tanzania"},{"$f":"IF(COUNTRY_INFO!B115=0,\" \",COUNTRY_INFO!B115)","v":"Mtwara"},{"$f":"IF(COUNTRY_INFO!C115=0,\" \",COUNTRY_INFO!C115)","v":"Tandahimba District Council"},{"$f":"IF(OR(COUNTRY_INFO!$T$9:$T$1000=\"T2 (PZQ)\",COUNTRY_INFO!$U$9:$U$1000=\"T2 (PZQ)\"), \"T2 (PZQ)\", \" \")","v":" "},null,null,null,null,0,null,null,null,0," "," "," "," "]
[{"$f":"IF(COUNTRY_INFO!A116=0,\" \",COUNTRY_INFO!A116)","v":"Tanzania"},{"$f":"IF(COUNTRY_INFO!B116=0,\" \",COUNTRY_INFO!B116)","v":"Mwanza"},{"$f":"IF(COUNTRY_INFO!C116=0,\" \",COUNTRY_INFO!C116)","v":"Buchosa District Council"},{"$f":"IF(OR(COUNTRY_INFO!$T$9:$T$1000=\"T2 (PZQ)\",COUNTRY_INFO!$U$9:$U$1000=\"T2 (PZQ)\"), \"T2 (PZQ)\", \" \")","v":" "},null,null,null,null,0,null,null,null,0," "," "," "," "]
[{"$f":"IF(COUNTRY_INFO!A117=0,\" \",COUNTRY_INFO!A117)","v":"Tanzania"},{"$f":"IF(COUNTRY_INFO!B117=0,\" \",COUNTRY_INFO!B117)","v":"Mwanza"},{"$f":"IF(COUNTRY_INFO!C117=0,\" \",COUNTRY_INFO!C117)","v":"Ilemela Municipal Council"},{"$f":"IF(OR(COUNTRY_INFO!$T$9:$T$1000=\"T2 (PZQ)\",COUNTRY_INFO!$U$9:$U$1000=\"T2 (PZQ)\"), \"T2 (PZQ)\", \" \")","v":" "},null,null,null,null,0,null,null,null,0," "," "," "," "]
[{"$f":"IF(COUNTRY_INFO!A118=0,\" \",COUNTRY_INFO!A118)","v":"Tanzania"},{"$f":"IF(COUNTRY_INFO!B118=0,\" \",COUNTRY_INFO!B118)","v":"Mwanza"},{"$f":"IF(COUNTRY_INFO!C118=0,\" \",COUNTRY_INFO!C118)","v":"Kwimba District Council"},{"$f":"IF(OR(COUNTRY_INFO!$T$9:$T$1000=\"T2 (PZQ)\",COUNTRY_INFO!$U$9:$U$1000=\"T2 (PZQ)\"), \"T2 (PZQ)\", \" \")","v":" "},null,null,null,null,0,null,null,null,0," "," "," "," "]
[{"$f":"IF(COUNTRY_INFO!A119=0,\" \",COUNTRY_INFO!A119)","v":"Tanzania"},{"$f":"IF(COUNTRY_INFO!B119=0,\" \",COUNTRY_INFO!B119)","v":"Mwanza"},{"$f":"IF(COUNTRY_INFO!C119=0,\" \",COUNTRY_INFO!C119)","v":"Magu District Council"},{"$f":"IF(OR(COUNTRY_INFO!$T$9:$T$1000=\"T2 (PZQ)\",COUNTRY_INFO!$U$9:$U$1000=\"T2 (PZQ)\"), \"T2 (PZQ)\", \" \")","v":" "},null,null,null,null,0,null,null,null,0," "," "," "," "]
[{"$f":"IF(COUNTRY_INFO!A120=0,\" \",COUNTRY_INFO!A120)","v":"Tanzania"},{"$f":"IF(COUNTRY_INFO!B120=0,\" \",COUNTRY_INFO!B120)","v":"Mwanza"},{"$f":"IF(COUNTRY_INFO!C120=0,\" \",COUNTRY_INFO!C120)","v":"Misungwi District Council"},{"$f":"IF(OR(COUNTRY_INFO!$T$9:$T$1000=\"T2 (PZQ)\",COUNTRY_INFO!$U$9:$U$1000=\"T2 (PZQ)\"), \"T2 (PZQ)\", \" \")","v":" "},null,null,null,null,0,null,null,null,0," "," "," "," "]
[{"$f":"IF(COUNTRY_INFO!A121=0,\" \",COUNTRY_INFO!A121)","v":"Tanzania"},{"$f":"IF(COUNTRY_INFO!B121=0,\" \",COUNTRY_INFO!B121)","v":"Mwanza"},{"$f":"IF(COUNTRY_INFO!C121=0,\" \",COUNTRY_INFO!C121)","v":"Mwanza-Nyamagana City Council"},{"$f":"IF(OR(COUNTRY_INFO!$T$9:$T$1000=\"T2 (PZQ)\",COUNTRY_INFO!$U$9:$U$1000=\"T2 (PZQ)\"), \"T2 (PZQ)\", \" \")","v":" "},null,null,null,null,0,null,null,null,0," "," "," "," "]
[{"$f":"IF(COUNTRY_INFO!A122=0,\" \",COUNTRY_INFO!A122)","v":"Tanzania"},{"$f":"IF(COUNTRY_INFO!B122=0,\" \",COUNTRY_INFO!B122)","v":"Mwanza"},{"$f":"IF(COUNTRY_INFO!C122=0,\" \",COUNTRY_INFO!C122)","v":"Sengerema District Council"},{"$f":"IF(OR(COUNTRY_INFO!$T$9:$T$1000=\"T2 (PZQ)\",COUNTRY_INFO!$U$9:$U$1000=\"T2 (PZQ)\"), \"T2 (PZQ)\", \" \")","v":" "},null,null,null,null,0,null,null,null,0," "," "," "," "]
[{"$f":"IF(COUNTRY_INFO!A123=0,\" \",COUNTRY_INFO!A123)","v":"Tanzania"},{"$f":"IF(COUNTRY_INFO!B123=0,\" \",COUNTRY_INFO!B123)","v":"Mwanza"},{"$f":"IF(COUNTRY_INFO!C123=0,\" \",COUNTRY_INFO!C123)","v":"Ukerewe District Council"},{"$f":"IF(OR(COUNTRY_INFO!$T$9:$T$1000=\"T2 (PZQ)\",COUNTRY_INFO!$U$9:$U$1000=\"T2 (PZQ)\"), \"T2 (PZQ)\", \" \")","v":" "},null,null,null,null,0,null,null,null,0," "," "," "," "]
[{"$f":"IF(COUNTRY_INFO!A124=0,\" \",COUNTRY_INFO!A124)","v":"Tanzania"},{"$f":"IF(COUNTRY_INFO!B124=0,\" \",COUNTRY_INFO!B124)","v":"Njombe"},{"$f":"IF(COUNTRY_INFO!C124=0,\" \",COUNTRY_INFO!C124)","v":"Ludewa District Council"},{"$f":"IF(OR(COUNTRY_INFO!$T$9:$T$1000=\"T2 (PZQ)\",COUNTRY_INFO!$U$9:$U$1000=\"T2 (PZQ)\"), \"T2 (PZQ)\", \" \")","v":" "},null,null,null,null,0,null,null,null,0," "," "," "," "]
[{"$f":"IF(COUNTRY_INFO!A125=0,\" \",COUNTRY_INFO!A125)","v":"Tanzania"},{"$f":"IF(COUNTRY_INFO!B125=0,\" \",COUNTRY_INFO!B125)","v":"Njombe"},{"$f":"IF(COUNTRY_INFO!C125=0,\" \",COUNTRY_INFO!C125)","v":"Makambako Town Council"},{"$f":"IF(OR(COUNTRY_INFO!$T$9:$T$1000=\"T2 (PZQ)\",COUNTRY_INFO!$U$9:$U$1000=\"T2 (PZQ)\"), \"T2 (PZQ)\", \" \")","v":" "},null,null,null,null,0,null,null,null,0," "," "," "," "]
[{"$f":"IF(COUNTRY_INFO!A126=0,\" \",COUNTRY_INFO!A126)","v":"Tanzania"},{"$f":"IF(COUNTRY_INFO!B126=0,\" \",COUNTRY_INFO!B126)","v":"Njombe"},{"$f":"IF(COUNTRY_INFO!C126=0,\" \",COUNTRY_INFO!C126)","v":"Makete District Council"},{"$f":"IF(OR(COUNTRY_INFO!$T$9:$T$1000=\"T2 (PZQ)\",COUNTRY_INFO!$U$9:$U$1000=\"T2 (PZQ)\"), \"T2 (PZQ)\", \" \")","v":" "},null,null,null,null,0,null,null,null,0," "," "," "," "]
[{"$f":"IF(COUNTRY_INFO!A127=0,\" \",COUNTRY_INFO!A127)","v":"Tanzania"},{"$f":"IF(COUNTRY_INFO!B127=0,\" \",COUNTRY_INFO!B127)","v":"Njombe"},{"$f":"IF(COUNTRY_INFO!C127=0,\" \",COUNTRY_INFO!C127)","v":"Njombe District Council"},{"$f":"IF(OR(COUNTRY_INFO!$T$9:$T$1000=\"T2 (PZQ)\",COUNTRY_INFO!$U$9:$U$1000=\"T2 (PZQ)\"), \"T2 (PZQ)\", \" \")","v":" "},null,null,null,null,0,null,null,null,0," "," "," "," "]
[{"$f":"IF(COUNTRY_INFO!A128=0,\" \",COUNTRY_INFO!A128)","v":"Tanzania"},{"$f":"IF(COUNTRY_INFO!B128=0,\" \",COUNTRY_INFO!B128)","v":"Njombe"},{"$f":"IF(COUNTRY_INFO!C128=0,\" \",COUNTRY_INFO!C128)","v":"Njombe Town Council"},{"$f":"IF(OR(COUNTRY_INFO!$T$9:$T$1000=\"T2 (PZQ)\",COUNTRY_INFO!$U$9:$U$1000=\"T2 (PZQ)\"), \"T2 (PZQ)\", \" \")","v":" "},null,null,null,null,0,null,null,null,0," "," "," "," "]
[{"$f":"IF(COUNTRY_INFO!A129=0,\" \",COUNTRY_INFO!A129)","v":"Tanzania"},{"$f":"IF(COUNTRY_INFO!B129=0,\" \",COUNTRY_INFO!B129)","v":"Njombe"},{"$f":"IF(COUNTRY_INFO!C129=0,\" \",COUNTRY_INFO!C129)","v":"Wanging'ombe District Council"},{"$f":"IF(OR(COUNTRY_INFO!$T$9:$T$1000=\"T2 (PZQ)\",COUNTRY_INFO!$U$9:$U$1000=\"T2 (PZQ)\"), \"T2 (PZQ)\", \" \")","v":" "},null,null,null,null,0,null,null,null,0," "," "," "," "]
[{"$f":"IF(COUNTRY_INFO!A130=0,\" \",COUNTRY_INFO!A130)","v":"Tanzania"},{"$f":"IF(COUNTRY_INFO!B130=0,\" \",COUNTRY_INFO!B130)","v":"Pwani"},{"$f":"IF(COUNTRY_INFO!C130=0,\" \",COUNTRY_INFO!C130)","v":"Bagamoyo District Council"},{"$f":"IF(OR(COUNTRY_INFO!$T$9:$T$1000=\"T2 (PZQ)\",COUNTRY_INFO!$U$9:$U$1000=\"T2 (PZQ)\"), \"T2 (PZQ)\", \" \")","v":" "},null,null,null,null,0,null,null,null,0," "," "," "," "]
[{"$f":"IF(COUNTRY_INFO!A131=0,\" \",COUNTRY_INFO!A131)","v":"Tanzania"},{"$f":"IF(COUNTRY_INFO!B131=0,\" \",COUNTRY_INFO!B131)","v":"Pwani"},{"$f":"IF(COUNTRY_INFO!C131=0,\" \",COUNTRY_INFO!C131)","v":"Chalinze District Council"},{"$f":"IF(OR(COUNTRY_INFO!$T$9:$T$1000=\"T2 (PZQ)\",COUNTRY_INFO!$U$9:$U$1000=\"T2 (PZQ)\"), \"T2 (PZQ)\", \" \")","v":" "},null,null,null,null,0,null,null,null,0," "," "," "," "]
[{"$f":"IF(COUNTRY_INFO!A132=0,\" \",COUNTRY_INFO!A132)","v":"Tanzania"},{"$f":"IF(COUNTRY_INFO!B132=0,\" \",COUNTRY_INFO!B132)","v":"Pwani"},{"$f":"IF(COUNTRY_INFO!C132=0,\" \",COUNTRY_INFO!C132)","v":"Kibaha District Council"},{"$f":"IF(OR(COUNTRY_INFO!$T$9:$T$1000=\"T2 (PZQ)\",COUNTRY_INFO!$U$9:$U$1000=\"T2 (PZQ)\"), \"T2 (PZQ)\", \" \")","v":" "},null,null,null,null,0,null,null,null,0," "," "," "," "]
[{"$f":"IF(COUNTRY_INFO!A133=0,\" \",COUNTRY_INFO!A133)","v":"Tanzania"},{"$f":"IF(COUNTRY_INFO!B133=0,\" \",COUNTRY_INFO!B133)","v":"Pwani"},{"$f":"IF(COUNTRY_INFO!C133=0,\" \",COUNTRY_INFO!C133)","v":"Kibaha Town Council"},{"$f":"IF(OR(COUNTRY_INFO!$T$9:$T$1000=\"T2 (PZQ)\",COUNTRY_INFO!$U$9:$U$1000=\"T2 (PZQ)\"), \"T2 (PZQ)\", \" \")","v":" "},null,null,null,null,0,null,null,null,0," "," "," "," "]
[{"$f":"IF(COUNTRY_INFO!A134=0,\" \",COUNTRY_INFO!A134)","v":"Tanzania"},{"$f":"IF(COUNTRY_INFO!B134=0,\" \",COUNTRY_INFO!B134)","v":"Pwani"},{"$f":"IF(COUNTRY_INFO!C134=0,\" \",COUNTRY_INFO!C134)","v":"Kibiti District Council"},{"$f":"IF(OR(COUNTRY_INFO!$T$9:$T$1000=\"T2 (PZQ)\",COUNTRY_INFO!$U$9:$U$1000=\"T2 (PZQ)\"), \"T2 (PZQ)\", \" \")","v":" "},null,null,null,null,0,null,null,null,0," "," "," "," "]
[{"$f":"IF(COUNTRY_INFO!A135=0,\" \",COUNTRY_INFO!A135)","v":"Tanzania"},{"$f":"IF(COUNTRY_INFO!B135=0,\" \",COUNTRY_INFO!B135)","v":"Pwani"},{"$f":"IF(COUNTRY_INFO!C135=0,\" \",COUNTRY_INFO!C135)","v":"Kisarawe District Council"},{"$f":"IF(OR(COUNTRY_INFO!$T$9:$T$1000=\"T2 (PZQ)\",COUNTRY_INFO!$U$9:$U$1000=\"T2 (PZQ)\"), \"T2 (PZQ)\", \" \")","v":" "},null,null,null,null,0,null,null,null,0," "," "," "," "]
[{"$f":"IF(COUNTRY_INFO!A136=0,\" \",COUNTRY_INFO!A136)","v":"Tanzania"},{"$f":"IF(COUNTRY_INFO!B136=0,\" \",COUNTRY_INFO!B136)","v":"Pwani"},{"$f":"IF(COUNTRY_INFO!C136=0,\" \",COUNTRY_INFO!C136)","v":"Mafia District Council"},{"$f":"IF(OR(COUNTRY_INFO!$T$9:$T$1000=\"T2 (PZQ)\",COUNTRY_INFO!$U$9:$U$1000=\"T2 (PZQ)\"), \"T2 (PZQ)\", \" \")","v":" "},null,null,null,null,0,null,null,null,0," "," "," "," "]
[{"$f":"IF(COUNTRY_INFO!A137=0,\" \",COUNTRY_INFO!A137)","v":"Tanzania"},{"$f":"IF(COUNTRY_INFO!B137=0,\" \",COUNTRY_INFO!B137)","v":"Pwani"},{"$f":"IF(COUNTRY_INFO!C137=0,\" \",COUNTRY_INFO!C137)","v":"Mkuranga District Council"},{"$f":"IF(OR(COUNTRY_INFO!$T$9:$T$1000=\"T2 (PZQ)\",COUNTRY_INFO!$U$9:$U$1000=\"T2 (PZQ)\"), \"T2 (PZQ)\", \" \")","v":" "},null,null,null,null,0,null,null,null,0," "," "," "," "]
[{"$f":"IF(COUNTRY_INFO!A138=0,\" \",COUNTRY_INFO!A138)","v":"Tanzania"},{"$f":"IF(COUNTRY_INFO!B138=0,\" \",COUNTRY_INFO!B138)","v":"Pwani"},{"$f":"IF(COUNTRY_INFO!C138=0,\" \",COUNTRY_INFO!C138)","v":"Rufiji District Council"},{"$f":"IF(OR(COUNTRY_INFO!$T$9:$T$1000=\"T2 (PZQ)\",COUNTRY_INFO!$U$9:$U$1000=\"T2 (PZQ)\"), \"T2 (PZQ)\", \" \")","v":" "},null,null,null,null,{"$f":"SUM(F138:H138)","v":0},null,null,null,{"$f":"SUM(J138:L138)","v":0},{"$f":"IF(F138<>0, IF(J138/F138*100=0, \"-\", J138/F138*100), \" \")","v":" "},{"$f":"IF(G138<>0, IF(K138/G138*100=0, \"-\", K138/G138*100), \" \")","v":" "},{"$f":"IF(H138<>0, IF(L138/H138*100=0, \"-\", L138/H138*100), \" \")","v":" "},{"$f":"IF(I138<>0, IF(M138/I138*100=0, \"-\", M138/I138*100), \" \")","v":" "}]
[{"$f":"IF(COUNTRY_INFO!A139=0,\" \",COUNTRY_INFO!A139)","v":"Tanzania"},{"$f":"IF(COUNTRY_INFO!B139=0,\" \",COUNTRY_INFO!B139)","v":"Rukwa"},{"$f":"IF(COUNTRY_INFO!C139=0,\" \",COUNTRY_INFO!C139)","v":"Kalambo District Council"},{"$f":"IF(OR(COUNTRY_INFO!$T$9:$T$1000=\"T2 (PZQ)\",COUNTRY_INFO!$U$9:$U$1000=\"T2 (PZQ)\"), \"T2 (PZQ)\", \" \")","v":" "},null,null,null,null,0,null,null,null,0," "," "," "," "]
[{"$f":"IF(COUNTRY_INFO!A140=0,\" \",COUNTRY_INFO!A140)","v":"Tanzania"},{"$f":"IF(COUNTRY_INFO!B140=0,\" \",COUNTRY_INFO!B140)","v":"Rukwa"},{"$f":"IF(COUNTRY_INFO!C140=0,\" \",COUNTRY_INFO!C140)","v":"Nkasi District Council"},{"$f":"IF(OR(COUNTRY_INFO!$T$9:$T$1000=\"T2 (PZQ)\",COUNTRY_INFO!$U$9:$U$1000=\"T2 (PZQ)\"), \"T2 (PZQ)\", \" \")","v":" "},null,null,null,null,0,null,null,null,0," "," "," "," "]
[{"$f":"IF(COUNTRY_INFO!A141=0,\" \",COUNTRY_INFO!A141)","v":"Tanzania"},{"$f":"IF(COUNTRY_INFO!B141=0,\" \",COUNTRY_INFO!B141)","v":"Rukwa"},{"$f":"IF(COUNTRY_INFO!C141=0,\" \",COUNTRY_INFO!C141)","v":"Sumbawanga District Council"},{"$f":"IF(OR(COUNTRY_INFO!$T$9:$T$1000=\"T2 (PZQ)\",COUNTRY_INFO!$U$9:$U$1000=\"T2 (PZQ)\"), \"T2 (PZQ)\", \" \")","v":" "},null,null,null,null,0,null,null,null,0," "," "," "," "]
[{"$f":"IF(COUNTRY_INFO!A142=0,\" \",COUNTRY_INFO!A142)","v":"Tanzania"},{"$f":"IF(COUNTRY_INFO!B142=0,\" \",COUNTRY_INFO!B142)","v":"Rukwa"},{"$f":"IF(COUNTRY_INFO!C142=0,\" \",COUNTRY_INFO!C142)","v":"Sumbawanga Municipal Council"},{"$f":"IF(OR(COUNTRY_INFO!$T$9:$T$1000=\"T2 (PZQ)\",COUNTRY_INFO!$U$9:$U$1000=\"T2 (PZQ)\"), \"T2 (PZQ)\", \" \")","v":" "},null,null,null,null,0,null,null,null,0," "," "," "," "]
[{"$f":"IF(COUNTRY_INFO!A143=0,\" \",COUNTRY_INFO!A143)","v":"Tanzania"},{"$f":"IF(COUNTRY_INFO!B143=0,\" \",COUNTRY_INFO!B143)","v":"Ruvuma"},{"$f":"IF(COUNTRY_INFO!C143=0,\" \",COUNTRY_INFO!C143)","v":"Madaba District Council"},{"$f":"IF(OR(COUNTRY_INFO!$T$9:$T$1000=\"T2 (PZQ)\",COUNTRY_INFO!$U$9:$U$1000=\"T2 (PZQ)\"), \"T2 (PZQ)\", \" \")","v":" "},null,null,null,null,0,null,null,null,0," "," "," "," "]
[{"$f":"IF(COUNTRY_INFO!A144=0,\" \",COUNTRY_INFO!A144)","v":"Tanzania"},{"$f":"IF(COUNTRY_INFO!B144=0,\" \",COUNTRY_INFO!B144)","v":"Ruvuma"},{"$f":"IF(COUNTRY_INFO!C144=0,\" \",COUNTRY_INFO!C144)","v":"Mbinga District Council"},{"$f":"IF(OR(COUNTRY_INFO!$T$9:$T$1000=\"T2 (PZQ)\",COUNTRY_INFO!$U$9:$U$1000=\"T2 (PZQ)\"), \"T2 (PZQ)\", \" \")","v":" "},null,null,null,null,0,null,null,null,0," "," "," "," "]
[{"$f":"IF(COUNTRY_INFO!A145=0,\" \",COUNTRY_INFO!A145)","v":"Tanzania"},{"$f":"IF(COUNTRY_INFO!B145=0,\" \",COUNTRY_INFO!B145)","v":"Ruvuma"},{"$f":"IF(COUNTRY_INFO!C145=0,\" \",COUNTRY_INFO!C145)","v":"Mbinga Town Council"},{"$f":"IF(OR(COUNTRY_INFO!$T$9:$T$1000=\"T2 (PZQ)\",COUNTRY_INFO!$U$9:$U$1000=\"T2 (PZQ)\"), \"T2 (PZQ)\", \" \")","v":" "},null,null,null,null,0,null,null,null,0," "," "," "," "]
[{"$f":"IF(COUNTRY_INFO!A146=0,\" \",COUNTRY_INFO!A146)","v":"Tanzania"},{"$f":"IF(COUNTRY_INFO!B146=0,\" \",COUNTRY_INFO!B146)","v":"Ruvuma"},{"$f":"IF(COUNTRY_INFO!C146=0,\" \",COUNTRY_INFO!C146)","v":"Namtumbo District Council"},{"$f":"IF(OR(COUNTRY_INFO!$T$9:$T$1000=\"T2 (PZQ)\",COUNTRY_INFO!$U$9:$U$1000=\"T2 (PZQ)\"), \"T2 (PZQ)\", \" \")","v":" "},null,null,null,null,0,null,null,null,0," "," "," "," "]
[{"$f":"IF(COUNTRY_INFO!A147=0,\" \",COUNTRY_INFO!A147)","v":"Tanzania"},{"$f":"IF(COUNTRY_INFO!B147=0,\" \",COUNTRY_INFO!B147)","v":"Ruvuma"},{"$f":"IF(COUNTRY_INFO!C147=0,\" \",COUNTRY_INFO!C147)","v":"Nyasa District Council"},{"$f":"IF(OR(COUNTRY_INFO!$T$9:$T$1000=\"T2 (PZQ)\",COUNTRY_INFO!$U$9:$U$1000=\"T2 (PZQ)\"), \"T2 (PZQ)\", \" \")","v":" "},null,null,null,null,0,null,null,null,0," "," "," "," "]
[{"$f":"IF(COUNTRY_INFO!A148=0,\" \",COUNTRY_INFO!A148)","v":"Tanzania"},{"$f":"IF(COUNTRY_INFO!B148=0,\" \",COUNTRY_INFO!B148)","v":"Ruvuma"},{"$f":"IF(COUNTRY_INFO!C148=0,\" \",COUNTRY_INFO!C148)","v":"Songea District Council"},{"$f":"IF(OR(COUNTRY_INFO!$T$9:$T$1000=\"T2 (PZQ)\",COUNTRY_INFO!$U$9:$U$1000=\"T2 (PZQ)\"), \"T2 (PZQ)\", \" \")","v":" "},null,null,null,null,0,null,null,null,0," "," "," "," "]
[{"$f":"IF(COUNTRY_INFO!A149=0,\" \",COUNTRY_INFO!A149)","v":"Tanzania"},{"$f":"IF(COUNTRY_INFO!B149=0,\" \",COUNTRY_INFO!B149)","v":"Ruvuma"},{"$f":"IF(COUNTRY_INFO!C149=0,\" \",COUNTRY_INFO!C149)","v":"Songea Municipal Council"},{"$f":"IF(OR(COUNTRY_INFO!$T$9:$T$1000=\"T2 (PZQ)\",COUNTRY_INFO!$U$9:$U$1000=\"T2 (PZQ)\"), \"T2 (PZQ)\", \" \")","v":" "},null,null,null,null,0,null,null,null,0," "," "," "," "]
[{"$f":"IF(COUNTRY_INFO!A150=0,\" \",COUNTRY_INFO!A150)","v":"Tanzania"},{"$f":"IF(COUNTRY_INFO!B150=0,\" \",COUNTRY_INFO!B150)","v":"Ruvuma"},{"$f":"IF(COUNTRY_INFO!C150=0,\" \",COUNTRY_INFO!C150)","v":"Tunduru District Council"},{"$f":"IF(OR(COUNTRY_INFO!$T$9:$T$1000=\"T2 (PZQ)\",COUNTRY_INFO!$U$9:$U$1000=\"T2 (PZQ)\"), \"T2 (PZQ)\", \" \")","v":" "},null,null,null,null,0,null,null,null,0," "," "," "," "]
[{"$f":"IF(COUNTRY_INFO!A151=0,\" \",COUNTRY_INFO!A151)","v":"Tanzania"},{"$f":"IF(COUNTRY_INFO!B151=0,\" \",COUNTRY_INFO!B151)","v":"Shinyanga"},{"$f":"IF(COUNTRY_INFO!C151=0,\" \",COUNTRY_INFO!C151)","v":"Kahama Town Council"},{"$f":"IF(OR(COUNTRY_INFO!$T$9:$T$1000=\"T2 (PZQ)\",COUNTRY_INFO!$U$9:$U$1000=\"T2 (PZQ)\"), \"T2 (PZQ)\", \" \")","v":" "},null,null,null,null,0,null,null,null,0," "," "," "," "]
[{"$f":"IF(COUNTRY_INFO!A152=0,\" \",COUNTRY_INFO!A152)","v":"Tanzania"},{"$f":"IF(COUNTRY_INFO!B152=0,\" \",COUNTRY_INFO!B152)","v":"Shinyanga"},{"$f":"IF(COUNTRY_INFO!C152=0,\" \",COUNTRY_INFO!C152)","v":"Kishapu District Council"},{"$f":"IF(OR(COUNTRY_INFO!$T$9:$T$1000=\"T2 (PZQ)\",COUNTRY_INFO!$U$9:$U$1000=\"T2 (PZQ)\"), \"T2 (PZQ)\", \" \")","v":" "},null,null,null,null,0,null,null,null,0," "," "," "," "]
[{"$f":"IF(COUNTRY_INFO!A153=0,\" \",COUNTRY_INFO!A153)","v":"Tanzania"},{"$f":"IF(COUNTRY_INFO!B153=0,\" \",COUNTRY_INFO!B153)","v":"Shinyanga"},{"$f":"IF(COUNTRY_INFO!C153=0,\" \",COUNTRY_INFO!C153)","v":"Msalala District Council"},{"$f":"IF(OR(COUNTRY_INFO!$T$9:$T$1000=\"T2 (PZQ)\",COUNTRY_INFO!$U$9:$U$1000=\"T2 (PZQ)\"), \"T2 (PZQ)\", \" \")","v":" "},null,null,null,null,0,null,null,null,0," "," "," "," "]
[{"$f":"IF(COUNTRY_INFO!A154=0,\" \",COUNTRY_INFO!A154)","v":"Tanzania"},{"$f":"IF(COUNTRY_INFO!B154=0,\" \",COUNTRY_INFO!B154)","v":"Shinyanga"},{"$f":"IF(COUNTRY_INFO!C154=0,\" \",COUNTRY_INFO!C154)","v":"Shinyanga District Council"},{"$f":"IF(OR(COUNTRY_INFO!$T$9:$T$1000=\"T2 (PZQ)\",COUNTRY_INFO!$U$9:$U$1000=\"T2 (PZQ)\"), \"T2 (PZQ)\", \" \")","v":" "},null,null,null,null,0,null,null,null,0," "," "," "," "]
[{"$f":"IF(COUNTRY_INFO!A155=0,\" \",COUNTRY_INFO!A155)","v":"Tanzania"},{"$f":"IF(COUNTRY_INFO!B155=0,\" \",COUNTRY_INFO!B155)","v":"Shinyanga"},{"$f":"IF(COUNTRY_INFO!C155=0,\" \",COUNTRY_INFO!C155)","v":"Shinyanga Municipal Council"},{"$f":"IF(OR(COUNTRY_INFO!$T$9:$T$1000=\"T2 (PZQ)\",COUNTRY_INFO!$U$9:$U$1000=\"T2 (PZQ)\"), \"T2 (PZQ)\", \" \")","v":" "},null,null,null,null,0,null,null,null,0," "," "," "," "]
[{"$f":"IF(COUNTRY_INFO!A156=0,\" \",COUNTRY_INFO!A156)","v":"Tanzania"},{"$f":"IF(COUNTRY_INFO!B156=0,\" \",COUNTRY_INFO!B156)","v":"Shinyanga"},{"$f":"IF(COUNTRY_INFO!C156=0,\" \",COUNTRY_INFO!C156)","v":"Ushetu District Council"},{"$f":"IF(OR(COUNTRY_INFO!$T$9:$T$1000=\"T2 (PZQ)\",COUNTRY_INFO!$U$9:$U$1000=\"T2 (PZQ)\"), \"T2 (PZQ)\", \" \")","v":" "},null,null,null,null,0,null,null,null,0," "," "," "," "]
[{"$f":"IF(COUNTRY_INFO!A157=0,\" \",COUNTRY_INFO!A157)","v":"Tanzania"},{"$f":"IF(COUNTRY_INFO!B157=0,\" \",COUNTRY_INFO!B157)","v":"Simiyu"},{"$f":"IF(COUNTRY_INFO!C157=0,\" \",COUNTRY_INFO!C157)","v":"Bariadi District Council"},{"$f":"IF(OR(COUNTRY_INFO!$T$9:$T$1000=\"T2 (PZQ)\",COUNTRY_INFO!$U$9:$U$1000=\"T2 (PZQ)\"), \"T2 (PZQ)\", \" \")","v":" "},null,null,null,null,0,null,null,null,0," "," "," "," "]
[{"$f":"IF(COUNTRY_INFO!A158=0,\" \",COUNTRY_INFO!A158)","v":"Tanzania"},{"$f":"IF(COUNTRY_INFO!B158=0,\" \",COUNTRY_INFO!B158)","v":"Simiyu"},{"$f":"IF(COUNTRY_INFO!C158=0,\" \",COUNTRY_INFO!C158)","v":"Bariadi Town Council"},{"$f":"IF(OR(COUNTRY_INFO!$T$9:$T$1000=\"T2 (PZQ)\",COUNTRY_INFO!$U$9:$U$1000=\"T2 (PZQ)\"), \"T2 (PZQ)\", \" \")","v":" "},null,null,null,null,0,null,null,null,0," "," "," "," "]
[{"$f":"IF(COUNTRY_INFO!A159=0,\" \",COUNTRY_INFO!A159)","v":"Tanzania"},{"$f":"IF(COUNTRY_INFO!B159=0,\" \",COUNTRY_INFO!B159)","v":"Simiyu"},{"$f":"IF(COUNTRY_INFO!C159=0,\" \",COUNTRY_INFO!C159)","v":"Busega District Council"},{"$f":"IF(OR(COUNTRY_INFO!$T$9:$T$1000=\"T2 (PZQ)\",COUNTRY_INFO!$U$9:$U$1000=\"T2 (PZQ)\"), \"T2 (PZQ)\", \" \")","v":" "},null,null,null,null,0,null,null,null,0," "," "," "," "]
[{"$f":"IF(COUNTRY_INFO!A160=0,\" \",COUNTRY_INFO!A160)","v":"Tanzania"},{"$f":"IF(COUNTRY_INFO!B160=0,\" \",COUNTRY_INFO!B160)","v":"Simiyu"},{"$f":"IF(COUNTRY_INFO!C160=0,\" \",COUNTRY_INFO!C160)","v":"Itilima District Council"},{"$f":"IF(OR(COUNTRY_INFO!$T$9:$T$1000=\"T2 (PZQ)\",COUNTRY_INFO!$U$9:$U$1000=\"T2 (PZQ)\"), \"T2 (PZQ)\", \" \")","v":" "},null,null,null,null,0,null,null,null,0," "," "," "," "]
[{"$f":"IF(COUNTRY_INFO!A161=0,\" \",COUNTRY_INFO!A161)","v":"Tanzania"},{"$f":"IF(COUNTRY_INFO!B161=0,\" \",COUNTRY_INFO!B161)","v":"Simiyu"},{"$f":"IF(COUNTRY_INFO!C161=0,\" \",COUNTRY_INFO!C161)","v":"Maswa District Council"},{"$f":"IF(OR(COUNTRY_INFO!$T$9:$T$1000=\"T2 (PZQ)\",COUNTRY_INFO!$U$9:$U$1000=\"T2 (PZQ)\"), \"T2 (PZQ)\", \" \")","v":" "},null,null,null,null,0,null,null,null,0," "," "," "," "]
[{"$f":"IF(COUNTRY_INFO!A162=0,\" \",COUNTRY_INFO!A162)","v":"Tanzania"},{"$f":"IF(COUNTRY_INFO!B162=0,\" \",COUNTRY_INFO!B162)","v":"Simiyu"},{"$f":"IF(COUNTRY_INFO!C162=0,\" \",COUNTRY_INFO!C162)","v":"Meatu District Council"},{"$f":"IF(OR(COUNTRY_INFO!$T$9:$T$1000=\"T2 (PZQ)\",COUNTRY_INFO!$U$9:$U$1000=\"T2 (PZQ)\"), \"T2 (PZQ)\", \" \")","v":" "},null,null,null,null,0,null,null,null,0," "," "," "," "]
[{"$f":"IF(COUNTRY_INFO!A163=0,\" \",COUNTRY_INFO!A163)","v":"Tanzania"},{"$f":"IF(COUNTRY_INFO!B163=0,\" \",COUNTRY_INFO!B163)","v":"Singida"},{"$f":"IF(COUNTRY_INFO!C163=0,\" \",COUNTRY_INFO!C163)","v":"Ikungi District Council"},{"$f":"IF(OR(COUNTRY_INFO!$T$9:$T$1000=\"T2 (PZQ)\",COUNTRY_INFO!$U$9:$U$1000=\"T2 (PZQ)\"), \"T2 (PZQ)\", \" \")","v":" "},null,null,null,null,0,null,null,null,0," "," "," "," "]
[{"$f":"IF(COUNTRY_INFO!A164=0,\" \",COUNTRY_INFO!A164)","v":"Tanzania"},{"$f":"IF(COUNTRY_INFO!B164=0,\" \",COUNTRY_INFO!B164)","v":"Singida"},{"$f":"IF(COUNTRY_INFO!C164=0,\" \",COUNTRY_INFO!C164)","v":"Iramba District Council"},{"$f":"IF(OR(COUNTRY_INFO!$T$9:$T$1000=\"T2 (PZQ)\",COUNTRY_INFO!$U$9:$U$1000=\"T2 (PZQ)\"), \"T2 (PZQ)\", \" \")","v":" "},null,null,null,null,0,null,null,null,0," "," "," "," "]
[{"$f":"IF(COUNTRY_INFO!A165=0,\" \",COUNTRY_INFO!A165)","v":"Tanzania"},{"$f":"IF(COUNTRY_INFO!B165=0,\" \",COUNTRY_INFO!B165)","v":"Singida"},{"$f":"IF(COUNTRY_INFO!C165=0,\" \",COUNTRY_INFO!C165)","v":"Itigi District Council"},{"$f":"IF(OR(COUNTRY_INFO!$T$9:$T$1000=\"T2 (PZQ)\",COUNTRY_INFO!$U$9:$U$1000=\"T2 (PZQ)\"), \"T2 (PZQ)\", \" \")","v":" "},null,null,null,null,0,null,null,null,0," "," "," "," "]
[{"$f":"IF(COUNTRY_INFO!A166=0,\" \",COUNTRY_INFO!A166)","v":"Tanzania"},{"$f":"IF(COUNTRY_INFO!B166=0,\" \",COUNTRY_INFO!B166)","v":"Singida"},{"$f":"IF(COUNTRY_INFO!C166=0,\" \",COUNTRY_INFO!C166)","v":"Manyoni District Council"},{"$f":"IF(OR(COUNTRY_INFO!$T$9:$T$1000=\"T2 (PZQ)\",COUNTRY_INFO!$U$9:$U$1000=\"T2 (PZQ)\"), \"T2 (PZQ)\", \" \")","v":" "},null,null,null,null,0,null,null,null,0," "," "," "," "]
[{"$f":"IF(COUNTRY_INFO!A167=0,\" \",COUNTRY_INFO!A167)","v":"Tanzania"},{"$f":"IF(COUNTRY_INFO!B167=0,\" \",COUNTRY_INFO!B167)","v":"Singida"},{"$f":"IF(COUNTRY_INFO!C167=0,\" \",COUNTRY_INFO!C167)","v":"Mkalama District Council"},{"$f":"IF(OR(COUNTRY_INFO!$T$9:$T$1000=\"T2 (PZQ)\",COUNTRY_INFO!$U$9:$U$1000=\"T2 (PZQ)\"), \"T2 (PZQ)\", \" \")","v":" "},null,null,null,null,0,null,null,null,0," "," "," "," "]
[{"$f":"IF(COUNTRY_INFO!A168=0,\" \",COUNTRY_INFO!A168)","v":"Tanzania"},{"$f":"IF(COUNTRY_INFO!B168=0,\" \",COUNTRY_INFO!B168)","v":"Singida"},{"$f":"IF(COUNTRY_INFO!C168=0,\" \",COUNTRY_INFO!C168)","v":"Singida District Council"},{"$f":"IF(OR(COUNTRY_INFO!$T$9:$T$1000=\"T2 (PZQ)\",COUNTRY_INFO!$U$9:$U$1000=\"T2 (PZQ)\"), \"T2 (PZQ)\", \" \")","v":" "},null,null,null,null,0,null,null,null,0," "," "," "," "]
[{"$f":"IF(COUNTRY_INFO!A169=0,\" \",COUNTRY_INFO!A169)","v":"Tanzania"},{"$f":"IF(COUNTRY_INFO!B169=0,\" \",COUNTRY_INFO!B169)","v":"Singida"},{"$f":"IF(COUNTRY_INFO!C169=0,\" \",COUNTRY_INFO!C169)","v":"Singida Municipal Council"},{"$f":"IF(OR(COUNTRY_INFO!$T$9:$T$1000=\"T2 (PZQ)\",COUNTRY_INFO!$U$9:$U$1000=\"T2 (PZQ)\"), \"T2 (PZQ)\", \" \")","v":" "},null,null,null,null,0,null,null,null,0," "," "," "," "]
[{"$f":"IF(COUNTRY_INFO!A170=0,\" \",COUNTRY_INFO!A170)","v":"Tanzania"},{"$f":"IF(COUNTRY_INFO!B170=0,\" \",COUNTRY_INFO!B170)","v":"Songwe"},{"$f":"IF(COUNTRY_INFO!C170=0,\" \",COUNTRY_INFO!C170)","v":"Ileje District Council"},{"$f":"IF(OR(COUNTRY_INFO!$T$9:$T$1000=\"T2 (PZQ)\",COUNTRY_INFO!$U$9:$U$1000=\"T2 (PZQ)\"), \"T2 (PZQ)\", \" \")","v":" "},null,null,null,null,0,null,null,null,0," "," "," "," "]
[{"$f":"IF(COUNTRY_INFO!A171=0,\" \",COUNTRY_INFO!A171)","v":"Tanzania"},{"$f":"IF(COUNTRY_INFO!B171=0,\" \",COUNTRY_INFO!B171)","v":"Songwe"},{"$f":"IF(COUNTRY_INFO!C171=0,\" \",COUNTRY_INFO!C171)","v":"Mbozi District Council"},{"$f":"IF(OR(COUNTRY_INFO!$T$9:$T$1000=\"T2 (PZQ)\",COUNTRY_INFO!$U$9:$U$1000=\"T2 (PZQ)\"), \"T2 (PZQ)\", \" \")","v":" "},null,null,null,null,0,null,null,null,0," "," "," "," "]
[{"$f":"IF(COUNTRY_INFO!A172=0,\" \",COUNTRY_INFO!A172)","v":"Tanzania"},{"$f":"IF(COUNTRY_INFO!B172=0,\" \",COUNTRY_INFO!B172)","v":"Songwe"},{"$f":"IF(COUNTRY_INFO!C172=0,\" \",COUNTRY_INFO!C172)","v":"Momba District Council"},{"$f":"IF(OR(COUNTRY_INFO!$T$9:$T$1000=\"T2 (PZQ)\",COUNTRY_INFO!$U$9:$U$1000=\"T2 (PZQ)\"), \"T2 (PZQ)\", \" \")","v":" "},null,null,null,null,0,null,null,null,0," "," "," "," "]
[{"$f":"IF(COUNTRY_INFO!A173=0,\" \",COUNTRY_INFO!A173)","v":"Tanzania"},{"$f":"IF(COUNTRY_INFO!B173=0,\" \",COUNTRY_INFO!B173)","v":"Songwe"},{"$f":"IF(COUNTRY_INFO!C173=0,\" \",COUNTRY_INFO!C173)","v":"Songwe District Council"},{"$f":"IF(OR(COUNTRY_INFO!$T$9:$T$1000=\"T2 (PZQ)\",COUNTRY_INFO!$U$9:$U$1000=\"T2 (PZQ)\"), \"T2 (PZQ)\", \" \")","v":" "},null,null,null,null,0,null,null,null,0," "," "," "," "]
[{"$f":"IF(COUNTRY_INFO!A174=0,\" \",COUNTRY_INFO!A174)","v":"Tanzania"},{"$f":"IF(COUNTRY_INFO!B174=0,\" \",COUNTRY_INFO!B174)","v":"Songwe"},{"$f":"IF(COUNTRY_INFO!C174=0,\" \",COUNTRY_INFO!C174)","v":"Tunduma Town Council"},{"$f":"IF(OR(COUNTRY_INFO!$T$9:$T$1000=\"T2 (PZQ)\",COUNTRY_INFO!$U$9:$U$1000=\"T2 (PZQ)\"), \"T2 (PZQ)\", \" \")","v":" "},null,null,null,null,0,null,null,null,0," "," "," "," "]
[{"$f":"IF(COUNTRY_INFO!A175=0,\" \",COUNTRY_INFO!A175)","v":"Tanzania"},{"$f":"IF(COUNTRY_INFO!B175=0,\" \",COUNTRY_INFO!B175)","v":"Tabora"},{"$f":"IF(COUNTRY_INFO!C175=0,\" \",COUNTRY_INFO!C175)","v":"Igunga District Council"},{"$f":"IF(OR(COUNTRY_INFO!$T$9:$T$1000=\"T2 (PZQ)\",COUNTRY_INFO!$U$9:$U$1000=\"T2 (PZQ)\"), \"T2 (PZQ)\", \" \")","v":" "},null,null,null,null,0,null,null,null,0," "," "," "," "]
[{"$f":"IF(COUNTRY_INFO!A176=0,\" \",COUNTRY_INFO!A176)","v":"Tanzania"},{"$f":"IF(COUNTRY_INFO!B176=0,\" \",COUNTRY_INFO!B176)","v":"Tabora"},{"$f":"IF(COUNTRY_INFO!C176=0,\" \",COUNTRY_INFO!C176)","v":"Kaliua District Council"},{"$f":"IF(OR(COUNTRY_INFO!$T$9:$T$1000=\"T2 (PZQ)\",COUNTRY_INFO!$U$9:$U$1000=\"T2 (PZQ)\"), \"T2 (PZQ)\", \" \")","v":" "},null,null,null,null,0,null,null,null,0," "," "," "," "]
[{"$f":"IF(COUNTRY_INFO!A177=0,\" \",COUNTRY_INFO!A177)","v":"Tanzania"},{"$f":"IF(COUNTRY_INFO!B177=0,\" \",COUNTRY_INFO!B177)","v":"Tabora"},{"$f":"IF(COUNTRY_INFO!C177=0,\" \",COUNTRY_INFO!C177)","v":"Nzega District Council"},{"$f":"IF(OR(COUNTRY_INFO!$T$9:$T$1000=\"T2 (PZQ)\",COUNTRY_INFO!$U$9:$U$1000=\"T2 (PZQ)\"), \"T2 (PZQ)\", \" \")","v":" "},null,null,null,null,0,null,null,null,0," "," "," "," "]
[{"$f":"IF(COUNTRY_INFO!A178=0,\" \",COUNTRY_INFO!A178)","v":"Tanzania"},{"$f":"IF(COUNTRY_INFO!B178=0,\" \",COUNTRY_INFO!B178)","v":"Tabora"},{"$f":"IF(COUNTRY_INFO!C178=0,\" \",COUNTRY_INFO!C178)","v":"Nzega Town Council"},{"$f":"IF(OR(COUNTRY_INFO!$T$9:$T$1000=\"T2 (PZQ)\",COUNTRY_INFO!$U$9:$U$1000=\"T2 (PZQ)\"), \"T2 (PZQ)\", \" \")","v":" "},null,null,null,null,0,null,null,null,0," "," "," "," "]
[{"$f":"IF(COUNTRY_INFO!A179=0,\" \",COUNTRY_INFO!A179)","v":"Tanzania"},{"$f":"IF(COUNTRY_INFO!B179=0,\" \",COUNTRY_INFO!B179)","v":"Tabora"},{"$f":"IF(COUNTRY_INFO!C179=0,\" \",COUNTRY_INFO!C179)","v":"Sikonge District Council"},{"$f":"IF(OR(COUNTRY_INFO!$T$9:$T$1000=\"T2 (PZQ)\",COUNTRY_INFO!$U$9:$U$1000=\"T2 (PZQ)\"), \"T2 (PZQ)\", \" \")","v":" "},null,null,null,null,0,null,null,null,0," "," "," "," "]
[{"$f":"IF(COUNTRY_INFO!A180=0,\" \",COUNTRY_INFO!A180)","v":"Tanzania"},{"$f":"IF(COUNTRY_INFO!B180=0,\" \",COUNTRY_INFO!B180)","v":"Tabora"},{"$f":"IF(COUNTRY_INFO!C180=0,\" \",COUNTRY_INFO!C180)","v":"Tabora Municipal Council"},{"$f":"IF(OR(COUNTRY_INFO!$T$9:$T$1000=\"T2 (PZQ)\",COUNTRY_INFO!$U$9:$U$1000=\"T2 (PZQ)\"), \"T2 (PZQ)\", \" \")","v":" "},null,null,null,null,0,null,null,null,0," "," "," "," "]
[{"$f":"IF(COUNTRY_INFO!A181=0,\" \",COUNTRY_INFO!A181)","v":"Tanzania"},{"$f":"IF(COUNTRY_INFO!B181=0,\" \",COUNTRY_INFO!B181)","v":"Tabora"},{"$f":"IF(COUNTRY_INFO!C181=0,\" \",COUNTRY_INFO!C181)","v":"Urambo District Council"},{"$f":"IF(OR(COUNTRY_INFO!$T$9:$T$1000=\"T2 (PZQ)\",COUNTRY_INFO!$U$9:$U$1000=\"T2 (PZQ)\"), \"T2 (PZQ)\", \" \")","v":" "},null,null,null,null,0,null,null,null,0," "," "," "," "]
[{"$f":"IF(COUNTRY_INFO!A182=0,\" \",COUNTRY_INFO!A182)","v":"Tanzania"},{"$f":"IF(COUNTRY_INFO!B182=0,\" \",COUNTRY_INFO!B182)","v":"Tabora"},{"$f":"IF(COUNTRY_INFO!C182=0,\" \",COUNTRY_INFO!C182)","v":"Uyui District Council"},{"$f":"IF(OR(COUNTRY_INFO!$T$9:$T$1000=\"T2 (PZQ)\",COUNTRY_INFO!$U$9:$U$1000=\"T2 (PZQ)\"), \"T2 (PZQ)\", \" \")","v":" "},null,null,null,null,0,null,null,null,0," "," "," "," "]
[{"$f":"IF(COUNTRY_INFO!A183=0,\" \",COUNTRY_INFO!A183)","v":"Tanzania"},{"$f":"IF(COUNTRY_INFO!B183=0,\" \",COUNTRY_INFO!B183)","v":"Tanga"},{"$f":"IF(COUNTRY_INFO!C183=0,\" \",COUNTRY_INFO!C183)","v":"Bumbuli District Council"},{"$f":"IF(OR(COUNTRY_INFO!$T$9:$T$1000=\"T2 (PZQ)\",COUNTRY_INFO!$U$9:$U$1000=\"T2 (PZQ)\"), \"T2 (PZQ)\", \" \")","v":" "},null,null,null,null,0,null,null,null,0," "," "," "," "]
[{"$f":"IF(COUNTRY_INFO!A184=0,\" \",COUNTRY_INFO!A184)","v":"Tanzania"},{"$f":"IF(COUNTRY_INFO!B184=0,\" \",COUNTRY_INFO!B184)","v":"Tanga"},{"$f":"IF(COUNTRY_INFO!C184=0,\" \",COUNTRY_INFO!C184)","v":"Handeni District Council"},{"$f":"IF(OR(COUNTRY_INFO!$T$9:$T$1000=\"T2 (PZQ)\",COUNTRY_INFO!$U$9:$U$1000=\"T2 (PZQ)\"), \"T2 (PZQ)\", \" \")","v":" "},null,null,null,null,0,null,null,null,0," "," "," "," "]
[{"$f":"IF(COUNTRY_INFO!A185=0,\" \",COUNTRY_INFO!A185)","v":"Tanzania"},{"$f":"IF(COUNTRY_INFO!B185=0,\" \",COUNTRY_INFO!B185)","v":"Tanga"},{"$f":"IF(COUNTRY_INFO!C185=0,\" \",COUNTRY_INFO!C185)","v":"Handeni Town Council"},{"$f":"IF(OR(COUNTRY_INFO!$T$9:$T$1000=\"T2 (PZQ)\",COUNTRY_INFO!$U$9:$U$1000=\"T2 (PZQ)\"), \"T2 (PZQ)\", \" \")","v":" "},null,null,null,null,0,null,null,null,0," "," "," "," "]
[{"$f":"IF(COUNTRY_INFO!A186=0,\" \",COUNTRY_INFO!A186)","v":"Tanzania"},{"$f":"IF(COUNTRY_INFO!B186=0,\" \",COUNTRY_INFO!B186)","v":"Tanga"},{"$f":"IF(COUNTRY_INFO!C186=0,\" \",COUNTRY_INFO!C186)","v":"Kilindi District Council"},{"$f":"IF(OR(COUNTRY_INFO!$T$9:$T$1000=\"T2 (PZQ)\",COUNTRY_INFO!$U$9:$U$1000=\"T2 (PZQ)\"), \"T2 (PZQ)\", \" \")","v":" "},null,null,null,null,0,null,null,null,0," "," "," "," "]
[{"$f":"IF(COUNTRY_INFO!A187=0,\" \",COUNTRY_INFO!A187)","v":"Tanzania"},{"$f":"IF(COUNTRY_INFO!B187=0,\" \",COUNTRY_INFO!B187)","v":"Tanga"},{"$f":"IF(COUNTRY_INFO!C187=0,\" \",COUNTRY_INFO!C187)","v":"Korogwe District Council"},{"$f":"IF(OR(COUNTRY_INFO!$T$9:$T$1000=\"T2 (PZQ)\",COUNTRY_INFO!$U$9:$U$1000=\"T2 (PZQ)\"), \"T2 (PZQ)\", \" \")","v":" "},null,null,null,null,0,null,null,null,0," "," "," "," "]
[{"$f":"IF(COUNTRY_INFO!A188=0,\" \",COUNTRY_INFO!A188)","v":"Tanzania"},{"$f":"IF(COUNTRY_INFO!B188=0,\" \",COUNTRY_INFO!B188)","v":"Tanga"},{"$f":"IF(COUNTRY_INFO!C188=0,\" \",COUNTRY_INFO!C188)","v":"Korogwe Town Council"},{"$f":"IF(OR(COUNTRY_INFO!$T$9:$T$1000=\"T2 (PZQ)\",COUNTRY_INFO!$U$9:$U$1000=\"T2 (PZQ)\"), \"T2 (PZQ)\", \" \")","v":" "},null,null,null,null,0,null,null,null,0," "," "," "," "]
[{"$f":"IF(COUNTRY_INFO!A189=0,\" \",COUNTRY_INFO!A189)","v":"Tanzania"},{"$f":"IF(COUNTRY_INFO!B189=0,\" \",COUNTRY_INFO!B189)","v":"Tanga"},{"$f":"IF(COUNTRY_INFO!C189=0,\" \",COUNTRY_INFO!C189)","v":"Lushoto District Council"},{"$f":"IF(OR(COUNTRY_INFO!$T$9:$T$1000=\"T2 (PZQ)\",COUNTRY_INFO!$U$9:$U$1000=\"T2 (PZQ)\"), \"T2 (PZQ)\", \" \")","v":" "},null,null,null,null,0,null,null,null,0," "," "," "," "]
[{"$f":"IF(COUNTRY_INFO!A190=0,\" \",COUNTRY_INFO!A190)","v":"Tanzania"},{"$f":"IF(COUNTRY_INFO!B190=0,\" \",COUNTRY_INFO!B190)","v":"Tanga"},{"$f":"IF(COUNTRY_INFO!C190=0,\" \",COUNTRY_INFO!C190)","v":"Mkinga District Council"},{"$f":"IF(OR(COUNTRY_INFO!$T$9:$T$1000=\"T2 (PZQ)\",COUNTRY_INFO!$U$9:$U$1000=\"T2 (PZQ)\"), \"T2 (PZQ)\", \" \")","v":" "},null,null,null,null,0,null,null,null,0," "," "," "," "]
[{"$f":"IF(COUNTRY_INFO!A191=0,\" \",COUNTRY_INFO!A191)","v":"Tanzania"},{"$f":"IF(COUNTRY_INFO!B191=0,\" \",COUNTRY_INFO!B191)","v":"Tanga"},{"$f":"IF(COUNTRY_INFO!C191=0,\" \",COUNTRY_INFO!C191)","v":"Muheza District Council"},{"$f":"IF(OR(COUNTRY_INFO!$T$9:$T$1000=\"T2 (PZQ)\",COUNTRY_INFO!$U$9:$U$1000=\"T2 (PZQ)\"), \"T2 (PZQ)\", \" \")","v":" "},null,null,null,null,0,null,null,null,0," "," "," "," "]
[{"$f":"IF(COUNTRY_INFO!A192=0,\" \",COUNTRY_INFO!A192)","v":"Tanzania"},{"$f":"IF(COUNTRY_INFO!B192=0,\" \",COUNTRY_INFO!B192)","v":"Tanga"},{"$f":"IF(COUNTRY_INFO!C192=0,\" \",COUNTRY_INFO!C192)","v":"Pangani District Council"},{"$f":"IF(OR(COUNTRY_INFO!$T$9:$T$1000=\"T2 (PZQ)\",COUNTRY_INFO!$U$9:$U$1000=\"T2 (PZQ)\"), \"T2 (PZQ)\", \" \")","v":" "},null,null,null,null,0,null,null,null,0," "," "," "," "]
[{"$f":"IF(COUNTRY_INFO!A193=0,\" \",COUNTRY_INFO!A193)","v":"Tanzania"},{"$f":"IF(COUNTRY_INFO!B193=0,\" \",COUNTRY_INFO!B193)","v":"Tanga"},{"$f":"IF(COUNTRY_INFO!C193=0,\" \",COUNTRY_INFO!C193)","v":"Tanga City Council"},{"$f":"IF(OR(COUNTRY_INFO!$T$9:$T$1000=\"T2 (PZQ)\",COUNTRY_INFO!$U$9:$U$1000=\"T2 (PZQ)\"), \"T2 (PZQ)\", \" \")","v":" "},null,null,null,null,0,null,null,null,0," "," "," "," "]

{"sheet":"T3_R1","index":7,"n_rows":193,"n_cols":18,"rows_kept":193,"cut":false,"hidden":false,"merged":[[5,6,5,9],[5,10,5,13],[5,14,5,17],[3,0,3,2],[5,0,5,2],[5,3,6,3],[5,5,6,5],[5,4,6,4]]}
["T 3 - Albendazole (ALB) or Mebendazole (MBD) - Round 1"]
["Administrative structure, population requiring PC by age group, population treated by age group and coverage"]
[]
["TOTAL",null,null,null,null,null,{"$f":"SUM(G$9:G$1000)","v":0},4274623,0,4274623,0,4058141,0,4058141,{"$f":"IF(G4<>0, IF(K4/G4*100=0, \"-\", K4/G4*100), \" \")","v":" "},{"$f":"IF(H4<>0, IF(L4/H4*100=0, \"-\", L4/H4*100), \" \")","v":94.935646956468446},{"$f":"IF(I4<>0, IF(M4/I4*100=0, \"-\", M4/I4*100), \" \")","v":" "},{"$f":"IF(J4<>0, IF(N4/J4*100=0, \"-\", N4/J4*100), \" \")","v":94.935646956468446}]
[]
[null,null,null,"PC implemented","Medicine","Date","Population targeted for T3",null,null,null,"Population treated",null,null,null,"Programme coverage (%)"]
["Country","Province/State","District",null,null,null,"PreSAC","SAC","Adults","Total","PreSAC","SAC","Adults","Total","PreSAC","SAC","Adults","Total"]
[]
[{"$f":"IF(COUNTRY_INFO!A9=0,\" \",COUNTRY_INFO!A9)","v":"Tanzania"},{"$f":"IF(COUNTRY_INFO!B9=0,\" \",COUNTRY_INFO!B9)","v":"Arusha"},{"$f":"IF(COUNTRY_INFO!C9=0,\" \",COUNTRY_INFO!C9)","v":"Arusha City Council"},{"$f":"IF(OR(COUNTRY_INFO!$T$9:$T$1000=\"T3 (ALB/MBD)\",COUNTRY_INFO!$U$9:$U$1000=\"T3 (ALB/MBD)\"), \"T3 (ALB/MBD)\", \" \")","v":"T3 (ALB/MBD)"},"ALB","March 2020",null,105216,null,{"$f":"SUM(G9:I9)","v":105216},null,103518,null,{"$f":"SUM(K9:M9)","v":103518},{"$f":"IF(G9<>0, IF(K9/G9*100=0, \"-\", K9/G9*100), \" \")","v":" "},98.386177007299267," ",98.386177007299267]
[{"$f":"IF(COUNTRY_INFO!A10=0,\" \",COUNTRY_INFO!A10)","v":"Tanzania"},{"$f":"IF(COUNTRY_INFO!B10=0,\" \",COUNTRY_INFO!B10)","v":"Arusha"},{"$f":"IF(COUNTRY_INFO!C10=0,\" \",COUNTRY_INFO!C10)","v":"Arusha District Council"},{"$f":"IF(OR(COUNTRY_INFO!$T$9:$T$1000=\"T3 (ALB/MBD)\",COUNTRY_INFO!$U$9:$U$1000=\"T3 (ALB/MBD)\"), \"T3 (ALB/MBD)\", \" \")","v":"T3 (ALB/MBD)"},"ALB","February 2020",null,79707,null,{"$f":"SUM(G10:I10)","v":79707},null,76522,null,{"$f":"SUM(K10:M10)","v":76522},{"$f":"IF(G10<>0, IF(K10/G10*100=0, \"-\", K10/G10*100), \" \")","v":" "},{"$f":"IF(H10<>0, IF(L10/H10*100=0, \"-\", L10/H10*100), \" \")","v":96.004115071449178},{"$f":"IF(I10<>0, IF(M10/I10*100=0, \"-\", M10/I10*100), \" \")","v":" "},{"$f":"IF(J10<>0, IF(N10/J10*100=0, \"-\", N10/J10*100), \" \")","v":96.004115071449178}]
[{"$f":"IF(COUNTRY_INFO!A11=0,\" \",COUNTRY_INFO!A11)","v":"Tanzania"},{"$f":"IF(COUNTRY_INFO!B11=0,\" \",COUNTRY_INFO!B11)","v":"Arusha"},{"$f":"IF(COUNTRY_INFO!C11=0,\" \",COUNTRY_INFO!C11)","v":"Karatu District Council"},{"$f":"IF(OR(COUNTRY_INFO!$T$9:$T$1000=\"T3 (ALB/MBD)\",COUNTRY_INFO!$U$9:$U$1000=\"T3 (ALB/MBD)\"), \"T3 (ALB/MBD)\", \" \")","v":"T3 (ALB/MBD)"},"ALB","March 2020",null,60712,null,60712,null,59297,null,59297," ",97.669324021610223," ",97.669324021610223]
[{"$f":"IF(COUNTRY_INFO!A12=0,\" \",COUNTRY_INFO!A12)","v":"Tanzania"},{"$f":"IF(COUNTRY_INFO!B12=0,\" \",COUNTRY_INFO!B12)","v":"Arusha"},{"$f":"IF(COUNTRY_INFO!C12=0,\" \",COUNTRY_INFO!C12)","v":"Longido District Council"},{"$f":"IF(OR(COUNTRY_INFO!$T$9:$T$1000=\"T3 (ALB/MBD)\",COUNTRY_INFO!$U$9:$U$1000=\"T3 (ALB/MBD)\"), \"T3 (ALB/MBD)\", \" \")","v":"T3 (ALB/MBD)"},"ALB","March 2020",null,35947,null,35947,null,35049,null,35049," ",97.501877764486608," ",97.501877764486608]
[{"$f":"IF(COUNTRY_INFO!A13=0,\" \",COUNTRY_INFO!A13)","v":"Tanzania"},{"$f":"IF(COUNTRY_INFO!B13=0,\" \",COUNTRY_INFO!B13)","v":"Arusha"},{"$f":"IF(COUNTRY_INFO!C13=0,\" \",COUNTRY_INFO!C13)","v":"Meru District Council"},{"$f":"IF(OR(COUNTRY_INFO!$T$9:$T$1000=\"T3 (ALB/MBD)\",COUNTRY_INFO!$U$9:$U$1000=\"T3 (ALB/MBD)\"), \"T3 (ALB/MBD)\", \" \")","v":"T3 (ALB/MBD)"},"ALB","March 2020",null,67344,null,67344,null,66586,null,66586," ",98.874435732953188," ",98.874435732953188]
[{"$f":"IF(COUNTRY_INFO!A14=0,\" \",COUNTRY_INFO!A14)","v":"Tanzania"},{"$f":"IF(COUNTRY_INFO!B14=0,\" \",COUNTRY_INFO!B14)","v":"Arusha"},{"$f":"IF(COUNTRY_INFO!C14=0,\" \",COUNTRY_INFO!C14)","v":"Monduli District Council"},{"$f":"IF(OR(COUNTRY_INFO!$T$9:$T$1000=\"T3 (ALB/MBD)\",COUNTRY_INFO!$U$9:$U$1000=\"T3 (ALB/MBD)\"), \"T3 (ALB/MBD)\", \" \")","v":"T3 (ALB/MBD)"},"ALB","March 2020",null,43473,null,43473,null,41965,null,41965," ",96.531180272813017," ",96.531180272813017]
[{"$f":"IF(COUNTRY_INFO!A15=0,\" \",COUNTRY_INFO!A15)","v":"Tanzania"},{"$f":"IF(COUNTRY_INFO!B15=0,\" \",COUNTRY_INFO!B15)","v":"Arusha"},{"$f":"IF(COUNTRY_INFO!C15=0,\" \",COUNTRY_INFO!C15)","v":"Ngorongoro District Council"},{"$f":"IF(OR(COUNTRY_INFO!$T$9:$T$1000=\"T3 (ALB/MBD)\",COUNTRY_INFO!$U$9:$U$1000=\"T3 (ALB/MBD)\"), \"T3 (ALB/MBD)\", \" \")","v":"T3 (ALB/MBD)"},"ALB","March 2020",null,48404,null,48404,null,44588,null,44588," ",92.116354020328899," ",92.116354020328899]
[{"$f":"IF(COUNTRY_INFO!A16=0,\" \",COUNTRY_INFO!A16)","v":"Tanzania"},{"$f":"IF(COUNTRY_INFO!B16=0,\" \",COUNTRY_INFO!B16)","v":"Dar Es Salaam"},{"$f":"IF(COUNTRY_INFO!C16=0,\" \",COUNTRY_INFO!C16)","v":"Dar es Salaam City Council "},{"$f":"IF(OR(COUNTRY_INFO!$T$9:$T$1000=\"T3 (ALB/MBD)\",COUNTRY_INFO!$U$9:$U$1000=\"T3 (ALB/MBD)\"), \"T3 (ALB/MBD)\", \" \")","v":" "},null,null,null,null,null,0,null,null,null,0," "," "," "," "]
[{"$f":"IF(COUNTRY_INFO!A17=0,\" \",COUNTRY_INFO!A17)","v":"Tanzania"},{"$f":"IF(COUNTRY_INFO!B17=0,\" \",COUNTRY_INFO!B17)","v":"Dar Es Salaam"},{"$f":"IF(COUNTRY_INFO!C17=0,\" \",COUNTRY_INFO!C17)","v":"Ilala Municipal Council"},{"$f":"IF(OR(COUNTRY_INFO!$T$9:$T$1000=\"T3 (ALB/MBD)\",COUNTRY_INFO!$U$9:$U$1000=\"T3 (ALB/MBD)\"), \"T3 (ALB/MBD)\", \" \")","v":" "},null,null,null,null,null,0,null,null,null,0," "," "," "," "]
[{"$f":"IF(COUNTRY_INFO!A18=0,\" \",COUNTRY_INFO!A18)","v":"Tanzania"},{"$f":"IF(COUNTRY_INFO!B18=0,\" \",COUNTRY_INFO!B18)","v":"Dar Es Salaam"},{"$f":"IF(COUNTRY_INFO!C18=0,\" \",COUNTRY_INFO!C18)","v":"Kigamboni Municipal Council"},{"$f":"IF(OR(COUNTRY_INFO!$T$9:$T$1000=\"T3 (ALB/MBD)\",COUNTRY_INFO!$U$9:$U$1000=\"T3 (ALB/MBD)\"), \"T3 (ALB/MBD)\", \" \")","v":" "},null,null,null,null,null,0,null,null,null,0," "," "," "," "]
[{"$f":"IF(COUNTRY_INFO!A19=0,\" \",COUNTRY_INFO!A19)","v":"Tanzania"},{"$f":"IF(COUNTRY_INFO!B19=0,\" \",COUNTRY_INFO!B19)","v":"Dar Es Salaam"},{"$f":"IF(COUNTRY_INFO!C19=0,\" \",COUNTRY_INFO!C19)","v":"Kinondoni Municipal Council"},{"$f":"IF(OR(COUNTRY_INFO!$T$9:$T$1000=\"T3 (ALB/MBD)\",COUNTRY_INFO!$U$9:$U$1000=\"T3 (ALB/MBD)\"), \"T3 (ALB/MBD)\", \" \")","v":" "},null,null,null,null,null,0,null,null,null,0," "," "," "," "]
[{"$f":"IF(COUNTRY_INFO!A20=0,\" \",COUNTRY_INFO!A20)","v":"Tanzania"},{"$f":"IF(COUNTRY_INFO!B20=0,\" \",COUNTRY_INFO!B20)","v":"Dar Es Salaam"},{"$f":"IF(COUNTRY_INFO!C20=0,\" \",COUNTRY_INFO!C20)","v":"Temeke Municipal Council"},{"$f":"IF(OR(COUNTRY_INFO!$T$9:$T$1000=\"T3 (ALB/MBD)\",COUNTRY_INFO!$U$9:$U$1000=\"T3 (ALB/MBD)\"), \"T3 (ALB/MBD)\", \" \")","v":" "},null,null,null,null,null,0,null,null,null,0," "," "," "," "]
[{"$f":"IF(COUNTRY_INFO!A21=0,\" \",COUNTRY_INFO!A21)","v":"Tanzania"},{"$f":"IF(COUNTRY_INFO!B21=0,\" \",COUNTRY_INFO!B21)","v":"Dar Es Salaam"},{"$f":"IF(COUNTRY_INFO!C21=0,\" \",COUNTRY_INFO!C21)","v":"Ubungo Municipal Council"},{"$f":"IF(OR(COUNTRY_INFO!$T$9:$T$1000=\"T3 (ALB/MBD)\",COUNTRY_INFO!$U$9:$U$1000=\"T3 (ALB/MBD)\"), \"T3 (ALB/MBD)\", \" \")","v":" "},null,null,null,null,null,0,null,null,null,0," "," "," "," "]
[{"$f":"IF(COUNTRY_INFO!A22=0,\" \",COUNTRY_INFO!A22)","v":"Tanzania"},{"$f":"IF(COUNTRY_INFO!B22=0,\" \",COUNTRY_INFO!B22)","v":"Dodoma"},{"$f":"IF(COUNTRY_INFO!C22=0,\" \",COUNTRY_INFO!C22)","v":"Bahi District Council"},{"$f":"IF(OR(COUNTRY_INFO!$T$9:$T$1000=\"T3 (ALB/MBD)\",COUNTRY_INFO!$U$9:$U$1000=\"T3 (ALB/MBD)\"), \"T3 (ALB/MBD)\", \" \")","v":"T3 (ALB/MBD)"},"ALB","March 2020",null,54955,null,54955,null,49768,null,49768," ",90.561368392320986," ",90.561368392320986]
[{"$f":"IF(COUNTRY_INFO!A23=0,\" \",COUNTRY_INFO!A23)","v":"Tanzania"},{"$f":"IF(COUNTRY_INFO!B23=0,\" \",COUNTRY_INFO!B23)","v":"Dodoma"},{"$f":"IF(COUNTRY_INFO!C23=0,\" \",COUNTRY_INFO!C23)","v":"Chamwino District Council"},{"$f":"IF(OR(COUNTRY_INFO!$T$9:$T$1000=\"T3 (ALB/MBD)\",COUNTRY_INFO!$U$9:$U$1000=\"T3 (ALB/MBD)\"), \"T3 (ALB/MBD)\", \" \")","v":"T3 (ALB/MBD)"},"ALB","September 2020",null,91641,null,91641,null,89473,null,89473," ",97.634246679979483," ",97.634246679979483]
[{"$f":"IF(COUNTRY_INFO!A24=0,\" \",COUNTRY_INFO!A24)","v":"Tanzania"},{"$f":"IF(COUNTRY_INFO!B24=0,\" \",COUNTRY_INFO!B24)","v":"Dodoma"},{"$f":"IF(COUNTRY_INFO!C24=0,\" \",COUNTRY_INFO!C24)","v":"Chemba District Council"},{"$f":"IF(OR(COUNTRY_INFO!$T$9:$T$1000=\"T3 (ALB/MBD)\",COUNTRY_INFO!$U$9:$U$1000=\"T3 (ALB/MBD)\"), \"T3 (ALB/MBD)\", \" \")","v":"T3 (ALB/MBD)"},"ALB","March 2020",null,66078,null,66078,null,60914,null,60914," ",92.184993492539121," ",92.184993492539121]
[{"$f":"IF(COUNTRY_INFO!A25=0,\" \",COUNTRY_INFO!A25)","v":"Tanzania"},{"$f":"IF(COUNTRY_INFO!B25=0,\" \",COUNTRY_INFO!B25)","v":"Dodoma"},{"$f":"IF(COUNTRY_INFO!C25=0,\" \",COUNTRY_INFO!C25)","v":"Dodoma City Council"},{"$f":"IF(OR(COUNTRY_INFO!$T$9:$T$1000=\"T3 (ALB/MBD)\",COUNTRY_INFO!$U$9:$U$1000=\"T3 (ALB/MBD)\"), \"T3 (ALB/MBD)\", \" \")","v":"T3 (ALB/MBD)"},"ALB","September 2020",null,121924,null,121924,null,115379,null,115379," ",94.631901840490798," ",94.631901840490798]
[{"$f":"IF(COUNTRY_INFO!A26=0,\" \",COUNTRY_INFO!A26)","v":"Tanzania"},{"$f":"IF(COUNTRY_INFO!B26=0,\" \",COUNTRY_INFO!B26)","v":"Dodoma"},{"$f":"IF(COUNTRY_INFO!C26=0,\" \",COUNTRY_INFO!C26)","v":"Kondoa District Council"},{"$f":"IF(OR(COUNTRY_INFO!$T$9:$T$1000=\"T3 (ALB/MBD)\",COUNTRY_INFO!$U$9:$U$1000=\"T3 (ALB/MBD)\"), \"T3 (ALB/MBD)\", \" \")","v":"T3 (ALB/MBD)"},"ALB","March 2020",null,56620,null,56620,null,53655,null,53655," ",94.763334510773575," ",94.763334510773575]
[{"$f":"IF(COUNTRY_INFO!A27=0,\" \",COUNTRY_INFO!A27)","v":"Tanzania"},{"$f":"IF(COUNTRY_INFO!B27=0,\" \",COUNTRY_INFO!B27)","v":"Dodoma"},{"$f":"IF(COUNTRY_INFO!C27=0,\" \",COUNTRY_INFO!C27)","v":"Kondoa Town Council "},{"$f":"IF(OR(COUNTRY_INFO!$T$9:$T$1000=\"T3 (ALB/MBD)\",COUNTRY_INFO!$U$9:$U$1000=\"T3 (ALB/MBD)\"), \"T3 (ALB/MBD)\", \" \")","v":"T3 (ALB/MBD)"},"ALB","March 2020",null,17486,null,17486,null,16630,null,16630," ",95.104655152693581," ",95.104655152693581]
[{"$f":"IF(COUNTRY_INFO!A28=0,\" \",COUNTRY_INFO!A28)","v":"Tanzania"},{"$f":"IF(COUNTRY_INFO!B28=0,\" \",COUNTRY_INFO!B28)","v":"Dodoma"},{"$f":"IF(COUNTRY_INFO!C28=0,\" \",COUNTRY_INFO!C28)","v":"Kongwa District Council"},{"$f":"IF(OR(COUNTRY_INFO!$T$9:$T$1000=\"T3 (ALB/MBD)\",COUNTRY_INFO!$U$9:$U$1000=\"T3 (ALB/MBD)\"), \"T3 (ALB/MBD)\", \" \")","v":"T3 (ALB/MBD)"},"ALB","September 2020",null,92776,null,92776,null,81220,null,81220," ",87.544192463568166," ",87.544192463568166]
[{"$f":"IF(COUNTRY_INFO!A29=0,\" \",COUNTRY_INFO!A29)","v":"Tanzania"},{"$f":"IF(COUNTRY_INFO!B29=0,\" \",COUNTRY_INFO!B29)","v":"Dodoma"},{"$f":"IF(COUNTRY_INFO!C29=0,\" \",COUNTRY_INFO!C29)","v":"Mpwapwa District Council"},{"$f":"IF(OR(COUNTRY_INFO!$T$9:$T$1000=\"T3 (ALB/MBD)\",COUNTRY_INFO!$U$9:$U$1000=\"T3 (ALB/MBD)\"), \"T3 (ALB/MBD)\", \" \")","v":"T3 (ALB/MBD)"},"ALB","September 2020",null,83343,null,83343,null,77282,null,77282," ",92.727643593343174," ",92.727643593343174]
[{"$f":"IF(COUNTRY_INFO!A30=0,\" \",COUNTRY_INFO!A30)","v":"Tanzania"},{"$f":"IF(COUNTRY_INFO!B30=0,\" \",COUNTRY_INFO!B30)","v":"Geita"},{"$f":"IF(COUNTRY_INFO!C30=0,\" \",COUNTRY_INFO!C30)","v":"Bukombe District Council"},{"$f":"IF(OR(COUNTRY_INFO!$T$9:$T$1000=\"T3 (ALB/MBD)\",COUNTRY_INFO!$U$9:$U$1000=\"T3 (ALB/MBD)\"), \"T3 (ALB/MBD)\", \" \")","v":"T3 (ALB/MBD)"},"ALB","July 2020",null,97625,null,97625,null,96258,null,96258," ",98.599743918053775," ",98.599743918053775]
[{"$f":"IF(COUNTRY_INFO!A31=0,\" \",COUNTRY_INFO!A31)","v":"Tanzania"},{"$f":"IF(COUNTRY_INFO!B31=0,\" \",COUNTRY_INFO!B31)","v":"Geita"},{"$f":"IF(COUNTRY_INFO!C31=0,\" \",COUNTRY_INFO!C31)","v":"Chato District Council"},{"$f":"IF(OR(COUNTRY_INFO!$T$9:$T$1000=\"T3 (ALB/MBD)\",COUNTRY_INFO!$U$9:$U$1000=\"T3 (ALB/MBD)\"), \"T3 (ALB/MBD)\", \" \")","v":"T3 (ALB/MBD)"},"ALB","September 2020",null,148511,null,148511,null,146445,null,146445," ",98.608857256364843," ",98.608857256364843]
[{"$f":"IF(COUNTRY_INFO!A32=0,\" \",COUNTRY_INFO!A32)","v":"Tanzania"},{"$f":"IF(COUNTRY_INFO!B32=0,\" \",COUNTRY_INFO!B32)","v":"Geita"},{"$f":"IF(COUNTRY_INFO!C32=0,\" \",COUNTRY_INFO!C32)","v":"Geita District Council"},{"$f":"IF(OR(COUNTRY_INFO!$T$9:$T$1000=\"T3 (ALB/MBD)\",COUNTRY_INFO!$U$9:$U$1000=\"T3 (ALB/MBD)\"), \"T3 (ALB/MBD)\", \" \")","v":"T3 (ALB/MBD)"},"ALB","July 2020",null,257105,null,257105,null,244257,null,244257," ",95.002819859590431," ",95.002819859590431]
[{"$f":"IF(COUNTRY_INFO!A33=0,\" \",COUNTRY_INFO!A33)","v":"Tanzania"},{"$f":"IF(COUNTRY_INFO!B33=0,\" \",COUNTRY_INFO!B33)","v":"Geita"},{"$f":"IF(COUNTRY_INFO!C33=0,\" \",COUNTRY_INFO!C33)","v":"Geita Town Council"},{"$f":"IF(OR(COUNTRY_INFO!$T$9:$T$1000=\"T3 (ALB/MBD)\",COUNTRY_INFO!$U$9:$U$1000=\"T3 (ALB/MBD)\"), \"T3 (ALB/MBD)\", \" \")","v":"T3 (ALB/MBD)"},"ALB","July 2020",null,72200,null,72200,null,66255,null,66255," ",91.76592797783934," ",91.76592797783934]
[{"$f":"IF(COUNTRY_INFO!A34=0,\" \",COUNTRY_INFO!A34)","v":"Tanzania"},{"$f":"IF(COUNTRY_INFO!B34=0,\" \",COUNTRY_INFO!B34)","v":"Geita"},{"$f":"IF(COUNTRY_INFO!C34=0,\" \",COUNTRY_INFO!C34)","v":"Mbogwe District Council"},{"$f":"IF(OR(COUNTRY_INFO!$T$9:$T$1000=\"T3 (ALB/MBD)\",COUNTRY_INFO!$U$9:$U$1000=\"T3 (ALB/MBD)\"), \"T3 (ALB/MBD)\", \" \")","v":"T3 (ALB/MBD)"},"ALB","August 2020",null,83024,null,83024,null,74471,null,74471," ",89.698159568317593," ",89.698159568317593]
[{"$f":"IF(COUNTRY_INFO!A35=0,\" \",COUNTRY_INFO!A35)","v":"Tanzania"},{"$f":"IF(COUNTRY_INFO!B35=0,\" \",COUNTRY_INFO!B35)","v":"Geita"},{"$f":"IF(COUNTRY_INFO!C35=0,\" \",COUNTRY_INFO!C35)","v":"Nyang'hwale District Council"},{"$f":"IF(OR(COUNTRY_INFO!$T$9:$T$1000=\"T3 (ALB/MBD)\",COUNTRY_INFO!$U$9:$U$1000=\"T3 (ALB/MBD)\"), \"T3 (ALB/MBD)\", \" \")","v":"T3 (ALB/MBD)"},"ALB","July 2020",null,52576,null,52576,null,48206,null,48206," ",91.688222763237974," ",91.688222763237974]
[{"$f":"IF(COUNTRY_INFO!A36=0,\" \",COUNTRY_INFO!A36)","v":"Tanzania"},{"$f":"IF(COUNTRY_INFO!B36=0,\" \",COUNTRY_INFO!B36)","v":"Iringa"},{"$f":"IF(COUNTRY_INFO!C36=0,\" \",COUNTRY_INFO!C36)","v":"Iringa District Council"},{"$f":"IF(OR(COUNTRY_INFO!$T$9:$T$1000=\"T3 (ALB/MBD)\",COUNTRY_INFO!$U$9:$U$1000=\"T3 (ALB/MBD)\"), \"T3 (ALB/MBD)\", \" \")","v":" "},null,null,null,null,null,0,null,null,null,0," "," "," "," "]
[{"$f":"IF(COUNTRY_INFO!A37=0,\" \",COUNTRY_INFO!A37)","v":"Tanzania"},{"$f":"IF(COUNTRY_INFO!B37=0,\" \",COUNTRY_INFO!B37)","v":"Iringa"},{"$f":"IF(COUNTRY_INFO!C37=0,\" \",COUNTRY_INFO!C37)","v":"Iringa Municipal Council"},{"$f":"IF(OR(COUNTRY_INFO!$T$9:$T$1000=\"T3 (ALB/MBD)\",COUNTRY_INFO!$U$9:$U$1000=\"T3 (ALB/MBD)\"), \"T3 (ALB/MBD)\", \" \")","v":" "},null,null,null,null,null,0,null,null,null,0," "," "," "," "]
[{"$f":"IF(COUNTRY_INFO!A38=0,\" \",COUNTRY_INFO!A38)","v":"Tanzania"},{"$f":"IF(COUNTRY_INFO!B38=0,\" \",COUNTRY_INFO!B38)","v":"Iringa"},{"$f":"IF(COUNTRY_INFO!C38=0,\" \",COUNTRY_INFO!C38)","v":"Kilolo District Council"},{"$f":"IF(OR(COUNTRY_INFO!$T$9:$T$1000=\"T3 (ALB/MBD)\",COUNTRY_INFO!$U$9:$U$1000=\"T3 (ALB/MBD)\"), \"T3 (ALB/MBD)\", \" \")","v":" "},null,null,null,null,null,0,null,null,null,0," "," "," "," "]
[{"$f":"IF(COUNTRY_INFO!A39=0,\" \",COUNTRY_INFO!A39)","v":"Tanzania"},{"$f":"IF(COUNTRY_INFO!B39=0,\" \",COUNTRY_INFO!B39)","v":"Iringa"},{"$f":"IF(COUNTRY_INFO!C39=0,\" \",COUNTRY_INFO!C39)","v":"Mafinga Town Council"},{"$f":"IF(OR(COUNTRY_INFO!$T$9:$T$1000=\"T3 (ALB/MBD)\",COUNTRY_INFO!$U$9:$U$1000=\"T3 (ALB/MBD)\"), \"T3 (ALB/MBD)\", \" \")","v":" "},null,null,null,null,null,0,null,null,null,0," "," "," "," "]
[{"$f":"IF(COUNTRY_INFO!A40=0,\" \",COUNTRY_INFO!A40)","v":"Tanzania"},{"$f":"IF(COUNTRY_INFO!B40=0,\" \",COUNTRY_INFO!B40)","v":"Iringa"},{"$f":"IF(COUNTRY_INFO!C40=0,\" \",COUNTRY_INFO!C40)","v":"Mufindi District Council"},{"$f":"IF(OR(COUNTRY_INFO!$T$9:$T$1000=\"T3 (ALB/MBD)\",COUNTRY_INFO!$U$9:$U$1000=\"T3 (ALB/MBD)\"), \"T3 (ALB/MBD)\", \" \")","v":" "},null,null,null,null,null,0,null,null,null,0," "," "," "," "]
[{"$f":"IF(COUNTRY_INFO!A41=0,\" \",COUNTRY_INFO!A41)","v":"Tanzania"},{"$f":"IF(COUNTRY_INFO!B41=0,\" \",COUNTRY_INFO!B41)","v":"Kagera"},{"$f":"IF(COUNTRY_INFO!C41=0,\" \",COUNTRY_INFO!C41)","v":"Biharamulo District Council"},{"$f":"IF(OR(COUNTRY_INFO!$T$9:$T$1000=\"T3 (ALB/MBD)\",COUNTRY_INFO!$U$9:$U$1000=\"T3 (ALB/MBD)\"), \"T3 (ALB/MBD)\", \" \")","v":" "},null,null,null,null,null,0,null,null,null,0," "," "," "," "]
[{"$f":"IF(COUNTRY_INFO!A42=0,\" \",COUNTRY_INFO!A42)","v":"Tanzania"},{"$f":"IF(COUNTRY_INFO!B42=0,\" \",COUNTRY_INFO!B42)","v":"Kagera"},{"$f":"IF(COUNTRY_INFO!C42=0,\" \",COUNTRY_INFO!C42)","v":"Bukoba District Council"},{"$f":"IF(OR(COUNTRY_INFO!$T$9:$T$1000=\"T3 (ALB/MBD)\",COUNTRY_INFO!$U$9:$U$1000=\"T3 (ALB/MBD)\"), \"T3 (ALB/MBD)\", \" \")","v":" "},null,null,null,null,null,0,null,null,null,0," "," "," "," "]
[{"$f":"IF(COUNTRY_INFO!A43=0,\" \",COUNTRY_INFO!A43)","v":"Tanzania"},{"$f":"IF(COUNTRY_INFO!B43=0,\" \",COUNTRY_INFO!B43)","v":"Kagera"},{"$f":"IF(COUNTRY_INFO!C43=0,\" \",COUNTRY_INFO!C43)","v":"Bukoba Municipal Council"},{"$f":"IF(OR(COUNTRY_INFO!$T$9:$T$1000=\"T3 (ALB/MBD)\",COUNTRY_INFO!$U$9:$U$1000=\"T3 (ALB/MBD)\"), \"T3 (ALB/MBD)\", \" \")","v":" "},null,null,null,null,null,0,null,null,null,0," "," "," "," "]
[{"$f":"IF(COUNTRY_INFO!A44=0,\" \",COUNTRY_INFO!A44)","v":"Tanzania"},{"$f":"IF(COUNTRY_INFO!B44=0,\" \",COUNTRY_INFO!B44)","v":"Kagera"},{"$f":"IF(COUNTRY_INFO!C44=0,\" \",COUNTRY_INFO!C44)","v":"Karagwe District Council"},{"$f":"IF(OR(COUNTRY_INFO!$T$9:$T$1000=\"T3 (ALB/MBD)\",COUNTRY_INFO!$U$9:$U$1000=\"T3 (ALB/MBD)\"), \"T3 (ALB/MBD)\", \" \")","v":" "},null,null,null,null,null,0,null,null,null,0," "," "," "," "]
[{"$f":"IF(COUNTRY_INFO!A45=0,\" \",COUNTRY_INFO!A45)","v":"Tanzania"},{"$f":"IF(COUNTRY_INFO!B45=0,\" \",COUNTRY_INFO!B45)","v":"Kagera"},{"$f":"IF(COUNTRY_INFO!C45=0,\" \",COUNTRY_INFO!C45)","v":"Kyerwa District Council"},{"$f":"IF(OR(COUNTRY_INFO!$T$9:$T$1000=\"T3 (ALB/MBD)\",COUNTRY_INFO!$U$9:$U$1000=\"T3 (ALB/MBD)\"), \"T3 (ALB/MBD)\", \" \")","v":" "},null,null,null,null,null,0,null,null,null,0," "," "," "," "]
[{"$f":"IF(COUNTRY_INFO!A46=0,\" \",COUNTRY_INFO!A46)","v":"Tanzania"},{"$f":"IF(COUNTRY_INFO!B46=0,\" \",COUNTRY_INFO!B46)","v":"Kagera"},{"$f":"IF(COUNTRY_INFO!C46=0,\" \",COUNTRY_INFO!C46)","v":"Missenyi District Council"},{"$f":"IF(OR(COUNTRY_INFO!$T$9:$T$1000=\"T3 (ALB/MBD)\",COUNTRY_INFO!$U$9:$U$1000=\"T3 (ALB/MBD)\"), \"T3 (ALB/MBD)\", \" \")","v":" "},null,null,null,null,null,0,null,null,null,0," "," "," "," "]
[{"$f":"IF(COUNTRY_INFO!A47=0,\" \",COUNTRY_INFO!A47)","v":"Tanzania"},{"$f":"IF(COUNTRY_INFO!B47=0,\" \",COUNTRY_INFO!B47)","v":"Kagera"},{"$f":"IF(COUNTRY_INFO!C47=0,\" \",COUNTRY_INFO!C47)","v":"Muleba District Council"},{"$f":"IF(OR(COUNTRY_INFO!$T$9:$T$1000=\"T3 (ALB/MBD)\",COUNTRY_INFO!$U$9:$U$1000=\"T3 (ALB/MBD)\"), \"T3 (ALB/MBD)\", \" \")","v":" "},null,null,null,null,null,0,null,null,null,0," "," "," "," "]
[{"$f":"IF(COUNTRY_INFO!A48=0,\" \",COUNTRY_INFO!A48)","v":"Tanzania"},{"$f":"IF(COUNTRY_INFO!B48=0,\" \",COUNTRY_INFO!B48)","v":"Kagera"},{"$f":"IF(COUNTRY_INFO!C48=0,\" \",COUNTRY_INFO!C48)","v":"Ngara District Council"},{"$f":"IF(OR(COUNTRY_INFO!$T$9:$T$1000=\"T3 (ALB/MBD)\",COUNTRY_INFO!$U$9:$U$1000=\"T3 (ALB/MBD)\"), \"T3 (ALB/MBD)\", \" \")","v":" "},null,null,null,null,null,0,null,null,null,0," "," "," "," "]
[{"$f":"IF(COUNTRY_INFO!A49=0,\" \",COUNTRY_INFO!A49)","v":"Tanzania"},{"$f":"IF(COUNTRY_INFO!B49=0,\" \",COUNTRY_INFO!B49)","v":"Katavi"},{"$f":"IF(COUNTRY_INFO!C49=0,\" \",COUNTRY_INFO!C49)","v":"Mlele District Council"},{"$f":"IF(OR(COUNTRY_INFO!$T$9:$T$1000=\"T3 (ALB/MBD)\",COUNTRY_INFO!$U$9:$U$1000=\"T3 (ALB/MBD)\"), \"T3 (ALB/MBD)\", \" \")","v":"T3 (ALB/MBD)"},"ALB","March 2020",null,15075,null,15075,null,14568,null,14568," ",96.636815920398007," ",96.636815920398007]
[{"$f":"IF(COUNTRY_INFO!A50=0,\" \",COUNTRY_INFO!A50)","v":"Tanzania"},{"$f":"IF(COUNTRY_INFO!B50=0,\" \",COUNTRY_INFO!B50)","v":"Katavi"},{"$f":"IF(COUNTRY_INFO!C50=0,\" \",COUNTRY_INFO!C50)","v":"Mpanda District Council"},{"$f":"IF(OR(COUNTRY_INFO!$T$9:$T$1000=\"T3 (ALB/MBD)\",COUNTRY_INFO!$U$9:$U$1000=\"T3 (ALB/MBD)\"), \"T3 (ALB/MBD)\", \" \")","v":"T3 (ALB/MBD)"},"ALB","March 2020",null,74108,null,74108,null,67438,null,67438," ",90.999622173044742," ",90.999622173044742]
[{"$f":"IF(COUNTRY_INFO!A51=0,\" \",COUNTRY_INFO!A51)","v":"Tanzania"},{"$f":"IF(COUNTRY_INFO!B51=0,\" \",COUNTRY_INFO!B51)","v":"Katavi"},{"$f":"IF(COUNTRY_INFO!C51=0,\" \",COUNTRY_INFO!C51)","v":"Mpanda Municipal Council"},{"$f":"IF(OR(COUNTRY_INFO!$T$9:$T$1000=\"T3 (ALB/MBD)\",COUNTRY_INFO!$U$9:$U$1000=\"T3 (ALB/MBD)\"), \"T3 (ALB/MBD)\", \" \")","v":"T3 (ALB/MBD)"},"ALB","March 2020",null,51634,null,51634,null,49258,null,49258," ",95.398380911802306," ",95.398380911802306]
[{"$f":"IF(COUNTRY_INFO!A52=0,\" \",COUNTRY_INFO!A52)","v":"Tanzania"},{"$f":"IF(COUNTRY_INFO!B52=0,\" \",COUNTRY_INFO!B52)","v":"Katavi"},{"$f":"IF(COUNTRY_INFO!C52=0,\" \",COUNTRY_INFO!C52)","v":"Mpimbwe District Council"},{"$f":"IF(OR(COUNTRY_INFO!$T$9:$T$1000=\"T3 (ALB/MBD)\",COUNTRY_INFO!$U$9:$U$1000=\"T3 (ALB/MBD)\"), \"T3 (ALB/MBD)\", \" \")","v":"T3 (ALB/MBD)"},"ALB","March 2020",null,31370,null,31370,null,29653,null,29653," ",94.526617787695258," ",94.526617787695258]
[{"$f":"IF(COUNTRY_INFO!A53=0,\" \",COUNTRY_INFO!A53)","v":"Tanzania"},{"$f":"IF(COUNTRY_INFO!B53=0,\" \",COUNTRY_INFO!B53)","v":"Katavi"},{"$f":"IF(COUNTRY_INFO!C53=0,\" \",COUNTRY_INFO!C53)","v":"Nsimbo District Council"},{"$f":"IF(OR(COUNTRY_INFO!$T$9:$T$1000=\"T3 (ALB/MBD)\",COUNTRY_INFO!$U$9:$U$1000=\"T3 (ALB/MBD)\"), \"T3 (ALB/MBD)\", \" \")","v":"T3 (ALB/MBD)"},"ALB","March 2020",null,38218,null,38218,null,36163,null,36163," ",94.622952535454502," ",94.622952535454502]
[{"$f":"IF(COUNTRY_INFO!A54=0,\" \",COUNTRY_INFO!A54)","v":"Tanzania"},{"$f":"IF(COUNTRY_INFO!B54=0,\" \",COUNTRY_INFO!B54)","v":"Kigoma"},{"$f":"IF(COUNTRY_INFO!C54=0,\" \",COUNTRY_INFO!C54)","v":"Buhigwe District Council"},{"$f":"IF(OR(COUNTRY_INFO!$T$9:$T$1000=\"T3 (ALB/MBD)\",COUNTRY_INFO!$U$9:$U$1000=\"T3 (ALB/MBD)\"), \"T3 (ALB/MBD)\", \" \")","v":" "},null,null,null,null,null,0,null,null,null,0," "," "," "," "]
[{"$f":"IF(COUNTRY_INFO!A55=0,\" \",COUNTRY_INFO!A55)","v":"Tanzania"},{"$f":"IF(COUNTRY_INFO!B55=0,\" \",COUNTRY_INFO!B55)","v":"Kigoma"},{"$f":"IF(COUNTRY_INFO!C55=0,\" \",COUNTRY_INFO!C55)","v":"Kakonko District Council"},{"$f":"IF(OR(COUNTRY_INFO!$T$9:$T$1000=\"T3 (ALB/MBD)\",COUNTRY_INFO!$U$9:$U$1000=\"T3 (ALB/MBD)\"), \"T3 (ALB/MBD)\", \" \")","v":" "},null,null,null,null,null,0,null,null,null,0," "," "," "," "]
[{"$f":"IF(COUNTRY_INFO!A56=0,\" \",COUNTRY_INFO!A56)","v":"Tanzania"},{"$f":"IF(COUNTRY_INFO!B56=0,\" \",COUNTRY_INFO!B56)","v":"Kigoma"},{"$f":"IF(COUNTRY_INFO!C56=0,\" \",COUNTRY_INFO!C56)","v":"Kasulu District Council"},{"$f":"IF(OR(COUNTRY_INFO!$T$9:$T$1000=\"T3 (ALB/MBD)\",COUNTRY_INFO!$U$9:$U$1000=\"T3 (ALB/MBD)\"), \"T3 (ALB/MBD)\", \" \")","v":" "},null,null,null,null,null,0,null,null,null,0," "," "," "," "]
[{"$f":"IF(COUNTRY_INFO!A57=0,\" \",COUNTRY_INFO!A57)","v":"Tanzania"},{"$f":"IF(COUNTRY_INFO!B57=0,\" \",COUNTRY_INFO!B57)","v":"Kigoma"},{"$f":"IF(COUNTRY_INFO!C57=0,\" \",COUNTRY_INFO!C57)","v":"Kasulu Town Council"},{"$f":"IF(OR(COUNTRY_INFO!$T$9:$T$1000=\"T3 (ALB/MBD)\",COUNTRY_INFO!$U$9:$U$1000=\"T3 (ALB/MBD)\"), \"T3 (ALB/MBD)\", \" \")","v":" "},null,null,null,null,null,0,null,null,null,0," "," "," "," "]
[{"$f":"IF(COUNTRY_INFO!A58=0,\" \",COUNTRY_INFO!A58)","v":"Tanzania"},{"$f":"IF(COUNTRY_INFO!B58=0,\" \",COUNTRY_INFO!B58)","v":"Kigoma"},{"$f":"IF(COUNTRY_INFO!C58=0,\" \",COUNTRY_INFO!C58)","v":"Kibondo District Council"},{"$f":"IF(OR(COUNTRY_INFO!$T$9:$T$1000=\"T3 (ALB/MBD)\",COUNTRY_INFO!$U$9:$U$1000=\"T3 (ALB/MBD)\"), \"T3 (ALB/MBD)\", \" \")","v":" "},null,null,null,null,null,0,null,null,null,0," "," "," "," "]
[{"$f":"IF(COUNTRY_INFO!A59=0,\" \",COUNTRY_INFO!A59)","v":"Tanzania"},{"$f":"IF(COUNTRY_INFO!B59=0,\" \",COUNTRY_INFO!B59)","v":"Kigoma"},{"$f":"IF(COUNTRY_INFO!C59=0,\" \",COUNTRY_INFO!C59)","v":"Kigoma District Council"},{"$f":"IF(OR(COUNTRY_INFO!$T$9:$T$1000=\"T3 (ALB/MBD)\",COUNTRY_INFO!$U$9:$U$1000=\"T3 (ALB/MBD)\"), \"T3 (ALB/MBD)\", \" \")","v":" "},null,null,null,null,null,0,null,null,null,0," "," "," "," "]
[{"$f":"IF(COUNTRY_INFO!A60=0,\" \",COUNTRY_INFO!A60)","v":"Tanzania"},{"$f":"IF(COUNTRY_INFO!B60=0,\" \",COUNTRY_INFO!B60)","v":"Kigoma"},{"$f":"IF(COUNTRY_INFO!C60=0,\" \",COUNTRY_INFO!C60)","v":"Kigoma-Ujiji Municipal Council"},{"$f":"IF(OR(COUNTRY_INFO!$T$9:$T$1000=\"T3 (ALB/MBD)\",COUNTRY_INFO!$U$9:$U$1000=\"T3 (ALB/MBD)\"), \"T3 (ALB/MBD)\", \" \")","v":" "},null,null,null,null,null,0,null,null,null,0," "," "," "," "]
[{"$f":"IF(COUNTRY_INFO!A61=0,\" \",COUNTRY_INFO!A61)","v":"Tanzania"},{"$f":"IF(COUNTRY_INFO!B61=0,\" \",COUNTRY_INFO!B61)","v":"Kigoma"},{"$f":"IF(COUNTRY_INFO!C61=0,\" \",COUNTRY_INFO!C61)","v":"Uvinza District Council"},{"$f":"IF(OR(COUNTRY_INFO!$T$9:$T$1000=\"T3 (ALB/MBD)\",COUNTRY_INFO!$U$9:$U$1000=\"T3 (ALB/MBD)\"), \"T3 (ALB/MBD)\", \" \")","v":" "},null,null,null,null,null,0,null,null,null,0," "," "," "," "]
[{"$f":"IF(COUNTRY_INFO!A62=0,\" \",COUNTRY_INFO!A62)","v":"Tanzania"},{"$f":"IF(COUNTRY_INFO!B62=0,\" \",COUNTRY_INFO!B62)","v":"Kilimanjaro"},{"$f":"IF(COUNTRY_INFO!C62=0,\" \",COUNTRY_INFO!C62)","v":"Hai District Council"},{"$f":"IF(OR(COUNTRY_INFO!$T$9:$T$1000=\"T3 (ALB/MBD)\",COUNTRY_INFO!$U$9:$U$1000=\"T3 (ALB/MBD)\"), \"T3 (ALB/MBD)\", \" \")","v":"T3 (ALB/MBD)"},"ALB","September 2020",null,42159,null,42159,null,41912,null,41912," ",99.41412272587111," ",99.41412272587111]
[{"$f":"IF(COUNTRY_INFO!A63=0,\" \",COUNTRY_INFO!A63)","v":"Tanzania"},{"$f":"IF(COUNTRY_INFO!B63=0,\" \",COUNTRY_INFO!B63)","v":"Kilimanjaro"},{"$f":"IF(COUNTRY_INFO!C63=0,\" \",COUNTRY_INFO!C63)","v":"Moshi District Council"},{"$f":"IF(OR(COUNTRY_INFO!$T$9:$T$1000=\"T3 (ALB/MBD)\",COUNTRY_INFO!$U$9:$U$1000=\"T3 (ALB/MBD)\"), \"T3 (ALB/MBD)\", \" \")","v":"T3 (ALB/MBD)"},"ALB","March 2020",null,84147,null,84147,null,82412,null,82412," ",97.93813207838663," ",97.93813207838663]
[{"$f":"IF(COUNTRY_INFO!A64=0,\" \",COUNTRY_INFO!A64)","v":"Tanzania"},{"$f":"IF(COUNTRY_INFO!B64=0,\" \",COUNTRY_INFO!B64)","v":"Kilimanjaro"},{"$f":"IF(COUNTRY_INFO!C64=0,\" \",COUNTRY_INFO!C64)","v":"Moshi Municipal Council"},{"$f":"IF(OR(COUNTRY_INFO!$T$9:$T$1000=\"T3 (ALB/MBD)\",COUNTRY_INFO!$U$9:$U$1000=\"T3 (ALB/MBD)\"), \"T3 (ALB/MBD)\", \" \")","v":"T3 (ALB/MBD)"},"ALB","March 2020",null,33731,null,33731,null,32985,null,32985," ",97.788384572055378," ",97.788384572055378]
[{"$f":"IF(COUNTRY_INFO!A65=0,\" \",COUNTRY_INFO!A65)","v":"Tanzania"},{"$f":"IF(COUNTRY_INFO!B65=0,\" \",COUNTRY_INFO!B65)","v":"Kilimanjaro"},{"$f":"IF(COUNTRY_INFO!C65=0,\" \",COUNTRY_INFO!C65)","v":"Mwanga District Council"},{"$f":"IF(OR(COUNTRY_INFO!$T$9:$T$1000=\"T3 (ALB/MBD)\",COUNTRY_INFO!$U$9:$U$1000=\"T3 (ALB/MBD)\"), \"T3 (ALB/MBD)\", \" \")","v":"T3 (ALB/MBD)"},"ALB","March 2020",null,29935,null,29935,null,25899,null,25899," ",86.517454484716879," ",86.517454484716879]
[{"$f":"IF(COUNTRY_INFO!A66=0,\" \",COUNTRY_INFO!A66)","v":"Tanzania"},{"$f":"IF(COUNTRY_INFO!B66=0,\" \",COUNTRY_INFO!B66)","v":"Kilimanjaro"},{"$f":"IF(COUNTRY_INFO!C66=0,\" \",COUNTRY_INFO!C66)","v":"Rombo District Council"},{"$f":"IF(OR(COUNTRY_INFO!$T$9:$T$1000=\"T3 (ALB/MBD)\",COUNTRY_INFO!$U$9:$U$1000=\"T3 (ALB/MBD)\"), \"T3 (ALB/MBD)\", \" \")","v":"T3 (ALB/MBD)"},"ALB","September 2020",null,42872,null,42872,null,42835,null,42835," ",99.9136965851838," ",99.9136965851838]
[{"$f":"IF(COUNTRY_INFO!A67=0,\" \",COUNTRY_INFO!A67)","v":"Tanzania"},{"$f":"IF(COUNTRY_INFO!B67=0,\" \",COUNTRY_INFO!B67)","v":"Kilimanjaro"},{"$f":"IF(COUNTRY_INFO!C67=0,\" \",COUNTRY_INFO!C67)","v":"Same District Council"},{"$f":"IF(OR(COUNTRY_INFO!$T$9:$T$1000=\"T3 (ALB/MBD)\",COUNTRY_INFO!$U$9:$U$1000=\"T3 (ALB/MBD)\"), \"T3 (ALB/MBD)\", \" \")","v":"T3 (ALB/MBD)"},"ALB","March 2020",null,63787,null,63787,null,57351,null,57351," ",89.910169783811739," ",89.910169783811739]
[{"$f":"IF(COUNTRY_INFO!A68=0,\" \",COUNTRY_INFO!A68)","v":"Tanzania"},{"$f":"IF(COUNTRY_INFO!B68=0,\" \",COUNTRY_INFO!B68)","v":"Kilimanjaro"},{"$f":"IF(COUNTRY_INFO!C68=0,\" \",COUNTRY_INFO!C68)","v":"Siha District Council"},{"$f":"IF(OR(COUNTRY_INFO!$T$9:$T$1000=\"T3 (ALB/MBD)\",COUNTRY_INFO!$U$9:$U$1000=\"T3 (ALB/MBD)\"), \"T3 (ALB/MBD)\", \" \")","v":"T3 (ALB/MBD)"},"ALB","March 2020",null,26010,null,26010,null,25563,null,25563," ",98.281430219146486," ",98.281430219146486]
[{"$f":"IF(COUNTRY_INFO!A69=0,\" \",COUNTRY_INFO!A69)","v":"Tanzania"},{"$f":"IF(COUNTRY_INFO!B69=0,\" \",COUNTRY_INFO!B69)","v":"Lindi"},{"$f":"IF(COUNTRY_INFO!C69=0,\" \",COUNTRY_INFO!C69)","v":"Kilwa District Council"},{"$f":"IF(OR(COUNTRY_INFO!$T$9:$T$1000=\"T3 (ALB/MBD)\",COUNTRY_INFO!$U$9:$U$1000=\"T3 (ALB/MBD)\"), \"T3 (ALB/MBD)\", \" \")","v":"T3 (ALB/MBD)"},"ALB","September 2020",null,57322,null,57322,null,54456,null,54456," ",95.000174453089571," ",95.000174453089571]
[{"$f":"IF(COUNTRY_INFO!A70=0,\" \",COUNTRY_INFO!A70)","v":"Tanzania"},{"$f":"IF(COUNTRY_INFO!B70=0,\" \",COUNTRY_INFO!B70)","v":"Lindi"},{"$f":"IF(COUNTRY_INFO!C70=0,\" \",COUNTRY_INFO!C70)","v":"Lindi District Council (Mtama District Council)"},{"$f":"IF(OR(COUNTRY_INFO!$T$9:$T$1000=\"T3 (ALB/MBD)\",COUNTRY_INFO!$U$9:$U$1000=\"T3 (ALB/MBD)\"), \"T3 (ALB/MBD)\", \" \")","v":"T3 (ALB/MBD)"},"ALB","March 2020",null,43558,null,43558,null,42792,null,42792," ",98.241425226135277," ",98.241425226135277]
[{"$f":"IF(COUNTRY_INFO!A71=0,\" \",COUNTRY_INFO!A71)","v":"Tanzania"},{"$f":"IF(COUNTRY_INFO!B71=0,\" \",COUNTRY_INFO!B71)","v":"Lindi"},{"$f":"IF(COUNTRY_INFO!C71=0,\" \",COUNTRY_INFO!C71)","v":"Lindi Municipal Council"},{"$f":"IF(OR(COUNTRY_INFO!$T$9:$T$1000=\"T3 (ALB/MBD)\",COUNTRY_INFO!$U$9:$U$1000=\"T3 (ALB/MBD)\"), \"T3 (ALB/MBD)\", \" \")","v":"T3 (ALB/MBD)"},"ALB","March 2020",null,16819,null,16819,null,16374,null,16374," ",97.354182769486883," ",97.354182769486883]
[{"$f":"IF(COUNTRY_INFO!A72=0,\" \",COUNTRY_INFO!A72)","v":"Tanzania"},{"$f":"IF(COUNTRY_INFO!B72=0,\" \",COUNTRY_INFO!B72)","v":"Lindi"},{"$f":"IF(COUNTRY_INFO!C72=0,\" \",COUNTRY_INFO!C72)","v":"Liwale District Council"},{"$f":"IF(OR(COUNTRY_INFO!$T$9:$T$1000=\"T3 (ALB/MBD)\",COUNTRY_INFO!$U$9:$U$1000=\"T3 (ALB/MBD)\"), \"T3 (ALB/MBD)\", \" \")","v":"T3 (ALB/MBD)"},"ALB","July 2020",null,24574,null,24574,null,22467,null,22467," ",91.425897289818508," ",91.425897289818508]
[{"$f":"IF(COUNTRY_INFO!A73=0,\" \",COUNTRY_INFO!A73)","v":"Tanzania"},{"$f":"IF(COUNTRY_INFO!B73=0,\" \",COUNTRY_INFO!B73)","v":"Lindi"},{"$f":"IF(COUNTRY_INFO!C73=0,\" \",COUNTRY_INFO!C73)","v":"Nachingwea District Council"},{"$f":"IF(OR(COUNTRY_INFO!$T$9:$T$1000=\"T3 (ALB/MBD)\",COUNTRY_INFO!$U$9:$U$1000=\"T3 (ALB/MBD)\"), \"T3 (ALB/MBD)\", \" \")","v":" "},null,null,null,null,null,0,null,null,null,0," "," "," "," "]
[{"$f":"IF(COUNTRY_INFO!A74=0,\" \",COUNTRY_INFO!A74)","v":"Tanzania"},{"$f":"IF(COUNTRY_INFO!B74=0,\" \",COUNTRY_INFO!B74)","v":"Lindi"},{"$f":"IF(COUNTRY_INFO!C74=0,\" \",COUNTRY_INFO!C74)","v":"Ruangwa District Council"},{"$f":"IF(OR(COUNTRY_INFO!$T$9:$T$1000=\"T3 (ALB/MBD)\",COUNTRY_INFO!$U$9:$U$1000=\"T3 (ALB/MBD)\"), \"T3 (ALB/MBD)\", \" \")","v":" "},null,null,null,null,null,{"$f":"SUM(G74:I74)","v":0},null,null,null,{"$f":"SUM(K74:M74)","v":0},{"$f":"IF(G74<>0, IF(K74/G74*100=0, \"-\", K74/G74*100), \" \")","v":" "},{"$f":"IF(H74<>0, IF(L74/H74*100=0, \"-\", L74/H74*100), \" \")","v":" "},{"$f":"IF(I74<>0, IF(M74/I74*100=0, \"-\", M74/I74*100), \" \")","v":" "},{"$f":"IF(J74<>0, IF(N74/J74*100=0, \"-\", N74/J74*100), \" \")","v":" "}]
[{"$f":"IF(COUNTRY_INFO!A75=0,\" \",COUNTRY_INFO!A75)","v":"Tanzania"},{"$f":"IF(COUNTRY_INFO!B75=0,\" \",COUNTRY_INFO!B75)","v":"Manyara"},{"$f":"IF(COUNTRY_INFO!C75=0,\" \",COUNTRY_INFO!C75)","v":"Babati District Council"},{"$f":"IF(OR(COUNTRY_INFO!$T$9:$T$1000=\"T3 (ALB/MBD)\",COUNTRY_INFO!$U$9:$U$1000=\"T3 (ALB/MBD)\"), \"T3 (ALB/MBD)\", \" \")","v":"T3 (ALB/MBD)"},"ALB","March 2020",null,84279,null,84279,null,82533,null,82533," ",97.928309543302603," ",97.928309543302603]
[{"$f":"IF(COUNTRY_INFO!A76=0,\" \",COUNTRY_INFO!A76)","v":"Tanzania"},{"$f":"IF(COUNTRY_INFO!B76=0,\" \",COUNTRY_INFO!B76)","v":"Manyara"},{"$f":"IF(COUNTRY_INFO!C76=0,\" \",COUNTRY_INFO!C76)","v":"Babati Town Council"},{"$f":"IF(OR(COUNTRY_INFO!$T$9:$T$1000=\"T3 (ALB/MBD)\",COUNTRY_INFO!$U$9:$U$1000=\"T3 (ALB/MBD)\"), \"T3 (ALB/MBD)\", \" \")","v":"T3 (ALB/MBD)"},"ALB","September 2020",null,24626,null,24626,null,23823,null,23823," ",96.739218711930477," ",96.739218711930477]
[{"$f":"IF(COUNTRY_INFO!A77=0,\" \",COUNTRY_INFO!A77)","v":"Tanzania"},{"$f":"IF(COUNTRY_INFO!B77=0,\" \",COUNTRY_INFO!B77)","v":"Manyara"},{"$f":"IF(COUNTRY_INFO!C77=0,\" \",COUNTRY_INFO!C77)","v":"Hanang District Council"},{"$f":"IF(OR(COUNTRY_INFO!$T$9:$T$1000=\"T3 (ALB/MBD)\",COUNTRY_INFO!$U$9:$U$1000=\"T3 (ALB/MBD)\"), \"T3 (ALB/MBD)\", \" \")","v":"T3 (ALB/MBD)"},"ALB","March 2020",null,73713,null,73713,null,70798,null,70798," ",96.045473661362308," ",96.045473661362308]
[{"$f":"IF(COUNTRY_INFO!A78=0,\" \",COUNTRY_INFO!A78)","v":"Tanzania"},{"$f":"IF(COUNTRY_INFO!B78=0,\" \",COUNTRY_INFO!B78)","v":"Manyara"},{"$f":"IF(COUNTRY_INFO!C78=0,\" \",COUNTRY_INFO!C78)","v":"Kiteto District Council"},{"$f":"IF(OR(COUNTRY_INFO!$T$9:$T$1000=\"T3 (ALB/MBD)\",COUNTRY_INFO!$U$9:$U$1000=\"T3 (ALB/MBD)\"), \"T3 (ALB/MBD)\", \" \")","v":"T3 (ALB/MBD)"},"ALB","March 2020",null,62322,null,62322,null,56237,null,56237," ",90.236192676743372," ",90.236192676743372]
[{"$f":"IF(COUNTRY_INFO!A79=0,\" \",COUNTRY_INFO!A79)","v":"Tanzania"},{"$f":"IF(COUNTRY_INFO!B79=0,\" \",COUNTRY_INFO!B79)","v":"Manyara"},{"$f":"IF(COUNTRY_INFO!C79=0,\" \",COUNTRY_INFO!C79)","v":"Mbulu District Council"},{"$f":"IF(OR(COUNTRY_INFO!$T$9:$T$1000=\"T3 (ALB/MBD)\",COUNTRY_INFO!$U$9:$U$1000=\"T3 (ALB/MBD)\"), \"T3 (ALB/MBD)\", \" \")","v":"T3 (ALB/MBD)"},"ALB","July 2020",null,50954,null,50954,null,45208,null,45208," ",88.723162067747381," ",88.723162067747381]
[{"$f":"IF(COUNTRY_INFO!A80=0,\" \",COUNTRY_INFO!A80)","v":"Tanzania"},{"$f":"IF(COUNTRY_INFO!B80=0,\" \",COUNTRY_INFO!B80)","v":"Manyara"},{"$f":"IF(COUNTRY_INFO!C80=0,\" \",COUNTRY_INFO!C80)","v":"Mbulu Town Council"},{"$f":"IF(OR(COUNTRY_INFO!$T$9:$T$1000=\"T3 (ALB/MBD)\",COUNTRY_INFO!$U$9:$U$1000=\"T3 (ALB/MBD)\"), \"T3 (ALB/MBD)\", \" \")","v":"T3 (ALB/MBD)"},"ALB","March 2020",null,34390,null,34390,null,30907,null,30907," ",89.8720558301832," ",89.8720558301832]
[{"$f":"IF(COUNTRY_INFO!A81=0,\" \",COUNTRY_INFO!A81)","v":"Tanzania"},{"$f":"IF(COUNTRY_INFO!B81=0,\" \",COUNTRY_INFO!B81)","v":"Manyara"},{"$f":"IF(COUNTRY_INFO!C81=0,\" \",COUNTRY_INFO!C81)","v":"Simanjiro District Council"},{"$f":"IF(OR(COUNTRY_INFO!$T$9:$T$1000=\"T3 (ALB/MBD)\",COUNTRY_INFO!$U$9:$U$1000=\"T3 (ALB/MBD)\"), \"T3 (ALB/MBD)\", \" \")","v":"T3 (ALB/MBD)"},"ALB","September 2020",null,46441,null,46441,null,45161,null,45161," ",97.243814732671567," ",97.243814732671567]
[{"$f":"IF(COUNTRY_INFO!A82=0,\" \",COUNTRY_INFO!A82)","v":"Tanzania"},{"$f":"IF(COUNTRY_INFO!B82=0,\" \",COUNTRY_INFO!B82)","v":"Mara"},{"$f":"IF(COUNTRY_INFO!C82=0,\" \",COUNTRY_INFO!C82)","v":"Bunda District Council"},{"$f":"IF(OR(COUNTRY_INFO!$T$9:$T$1000=\"T3 (ALB/MBD)\",COUNTRY_INFO!$U$9:$U$1000=\"T3 (ALB/MBD)\"), \"T3 (ALB/MBD)\", \" \")","v":" "},null,null,null,null,null,0,null,null,null,0," "," "," "," "]
[{"$f":"IF(COUNTRY_INFO!A83=0,\" \",COUNTRY_INFO!A83)","v":"Tanzania"},{"$f":"IF(COUNTRY_INFO!B83=0,\" \",COUNTRY_INFO!B83)","v":"Mara"},{"$f":"IF(COUNTRY_INFO!C83=0,\" \",COUNTRY_INFO!C83)","v":"Bunda Town Council"},{"$f":"IF(OR(COUNTRY_INFO!$T$9:$T$1000=\"T3 (ALB/MBD)\",COUNTRY_INFO!$U$9:$U$1000=\"T3 (ALB/MBD)\"), \"T3 (ALB/MBD)\", \" \")","v":" "},null,null,null,null,null,0,null,null,null,0," "," "," "," "]
[{"$f":"IF(COUNTRY_INFO!A84=0,\" \",COUNTRY_INFO!A84)","v":"Tanzania"},{"$f":"IF(COUNTRY_INFO!B84=0,\" \",COUNTRY_INFO!B84)","v":"Mara"},{"$f":"IF(COUNTRY_INFO!C84=0,\" \",COUNTRY_INFO!C84)","v":"Butiama District Council"},{"$f":"IF(OR(COUNTRY_INFO!$T$9:$T$1000=\"T3 (ALB/MBD)\",COUNTRY_INFO!$U$9:$U$1000=\"T3 (ALB/MBD)\"), \"T3 (ALB/MBD)\", \" \")","v":" "},null,null,null,null,null,0,null,null,null,0," "," "," "," "]
[{"$f":"IF(COUNTRY_INFO!A85=0,\" \",COUNTRY_INFO!A85)","v":"Tanzania"},{"$f":"IF(COUNTRY_INFO!B85=0,\" \",COUNTRY_INFO!B85)","v":"Mara"},{"$f":"IF(COUNTRY_INFO!C85=0,\" \",COUNTRY_INFO!C85)","v":"Musoma District Council"},{"$f":"IF(OR(COUNTRY_INFO!$T$9:$T$1000=\"T3 (ALB/MBD)\",COUNTRY_INFO!$U$9:$U$1000=\"T3 (ALB/MBD)\"), \"T3 (ALB/MBD)\", \" \")","v":" "},null,null,null,null,null,0,null,null,null,0," "," "," "," "]
[{"$f":"IF(COUNTRY_INFO!A86=0,\" \",COUNTRY_INFO!A86)","v":"Tanzania"},{"$f":"IF(COUNTRY_INFO!B86=0,\" \",COUNTRY_INFO!B86)","v":"Mara"},{"$f":"IF(COUNTRY_INFO!C86=0,\" \",COUNTRY_INFO!C86)","v":"Musoma Municipal Council"},{"$f":"IF(OR(COUNTRY_INFO!$T$9:$T$1000=\"T3 (ALB/MBD)\",COUNTRY_INFO!$U$9:$U$1000=\"T3 (ALB/MBD)\"), \"T3 (ALB/MBD)\", \" \")","v":" "},null,null,null,null,null,0,null,null,null,0," "," "," "," "]
[{"$f":"IF(COUNTRY_INFO!A87=0,\" \",COUNTRY_INFO!A87)","v":"Tanzania"},{"$f":"IF(COUNTRY_INFO!B87=0,\" \",COUNTRY_INFO!B87)","v":"Mara"},{"$f":"IF(COUNTRY_INFO!C87=0,\" \",COUNTRY_INFO!C87)","v":"Rorya District Council"},{"$f":"IF(OR(COUNTRY_INFO!$T$9:$T$1000=\"T3 (ALB/MBD)\",COUNTRY_INFO!$U$9:$U$1000=\"T3 (ALB/MBD)\"), \"T3 (ALB/MBD)\", \" \")","v":" "},null,null,null,null,null,0,null,null,null,0," "," "," "," "]
[{"$f":"IF(COUNTRY_INFO!A88=0,\" \",COUNTRY_INFO!A88)","v":"Tanzania"},{"$f":"IF(COUNTRY_INFO!B88=0,\" \",COUNTRY_INFO!B88)","v":"Mara"},{"$f":"IF(COUNTRY_INFO!C88=0,\" \",COUNTRY_INFO!C88)","v":"Serengeti District Council"},{"$f":"IF(OR(COUNTRY_INFO!$T$9:$T$1000=\"T3 (ALB/MBD)\",COUNTRY_INFO!$U$9:$U$1000=\"T3 (ALB/MBD)\"), \"T3 (ALB/MBD)\", \" \")","v":" "},null,null,null,null,null,0,null,null,null,0," "," "," "," "]
[{"$f":"IF(COUNTRY_INFO!A89=0,\" \",COUNTRY_INFO!A89)","v":"Tanzania"},{"$f":"IF(COUNTRY_INFO!B89=0,\" \",COUNTRY_INFO!B89)","v":"Mara"},{"$f":"IF(COUNTRY_INFO!C89=0,\" \",COUNTRY_INFO!C89)","v":"Tarime District Council"},{"$f":"IF(OR(COUNTRY_INFO!$T$9:$T$1000=\"T3 (ALB/MBD)\",COUNTRY_INFO!$U$9:$U$1000=\"T3 (ALB/MBD)\"), \"T3 (ALB/MBD)\", \" \")","v":" "},null,null,null,null,null,0,null,null,null,0," "," "," "," "]
[{"$f":"IF(COUNTRY_INFO!A90=0,\" \",COUNTRY_INFO!A90)","v":"Tanzania"},{"$f":"IF(COUNTRY_INFO!B90=0,\" \",COUNTRY_INFO!B90)","v":"Mara"},{"$f":"IF(COUNTRY_INFO!C90=0,\" \",COUNTRY_INFO!C90)","v":"Tarime Town Council"},{"$f":"IF(OR(COUNTRY_INFO!$T$9:$T$1000=\"T3 (ALB/MBD)\",COUNTRY_INFO!$U$9:$U$1000=\"T3 (ALB/MBD)\"), \"T3 (ALB/MBD)\", \" \")","v":" "},null,null,null,null,null,0,null,null,null,0," "," "," "," "]
[{"$f":"IF(COUNTRY_INFO!A91=0,\" \",COUNTRY_INFO!A91)","v":"Tanzania"},{"$f":"IF(COUNTRY_INFO!B91=0,\" \",COUNTRY_INFO!B91)","v":"Mbeya"},{"$f":"IF(COUNTRY_INFO!C91=0,\" \",COUNTRY_INFO!C91)","v":"Busokelo District Council"},{"$f":"IF(OR(COUNTRY_INFO!$T$9:$T$1000=\"T3 (ALB/MBD)\",COUNTRY_INFO!$U$9:$U$1000=\"T3 (ALB/MBD)\"), \"T3 (ALB/MBD)\", \" \")","v":" "},null,null,null,null,null,0,null,null,null,0," "," "," "," "]
[{"$f":"IF(COUNTRY_INFO!A92=0,\" \",COUNTRY_INFO!A92)","v":"Tanzania"},{"$f":"IF(COUNTRY_INFO!B92=0,\" \",COUNTRY_INFO!B92)","v":"Mbeya"},{"$f":"IF(COUNTRY_INFO!C92=0,\" \",COUNTRY_INFO!C92)","v":"Chunya District Council"},{"$f":"IF(OR(COUNTRY_INFO!$T$9:$T$1000=\"T3 (ALB/MBD)\",COUNTRY_INFO!$U$9:$U$1000=\"T3 (ALB/MBD)\"), \"T3 (ALB/MBD)\", \" \")","v":" "},null,null,null,null,null,0,null,null,null,0," "," "," "," "]
[{"$f":"IF(COUNTRY_INFO!A93=0,\" \",COUNTRY_INFO!A93)","v":"Tanzania"},{"$f":"IF(COUNTRY_INFO!B93=0,\" \",COUNTRY_INFO!B93)","v":"Mbeya"},{"$f":"IF(COUNTRY_INFO!C93=0,\" \",COUNTRY_INFO!C93)","v":"Kyela District Council"},{"$f":"IF(OR(COUNTRY_INFO!$T$9:$T$1000=\"T3 (ALB/MBD)\",COUNTRY_INFO!$U$9:$U$1000=\"T3 (ALB/MBD)\"), \"T3 (ALB/MBD)\", \" \")","v":" "},null,null,null,null,null,0,null,null,null,0," "," "," "," "]
[{"$f":"IF(COUNTRY_INFO!A94=0,\" \",COUNTRY_INFO!A94)","v":"Tanzania"},{"$f":"IF(COUNTRY_INFO!B94=0,\" \",COUNTRY_INFO!B94)","v":"Mbeya"},{"$f":"IF(COUNTRY_INFO!C94=0,\" \",COUNTRY_INFO!C94)","v":"Mbarali District Council"},{"$f":"IF(OR(COUNTRY_INFO!$T$9:$T$1000=\"T3 (ALB/MBD)\",COUNTRY_INFO!$U$9:$U$1000=\"T3 (ALB/MBD)\"), \"T3 (ALB/MBD)\", \" \")","v":" "},null,null,null,null,null,0,null,null,null,0," "," "," "," "]
[{"$f":"IF(COUNTRY_INFO!A95=0,\" \",COUNTRY_INFO!A95)","v":"Tanzania"},{"$f":"IF(COUNTRY_INFO!B95=0,\" \",COUNTRY_INFO!B95)","v":"Mbeya"},{"$f":"IF(COUNTRY_INFO!C95=0,\" \",COUNTRY_INFO!C95)","v":"Mbeya City Council"},{"$f":"IF(OR(COUNTRY_INFO!$T$9:$T$1000=\"T3 (ALB/MBD)\",COUNTRY_INFO!$U$9:$U$1000=\"T3 (ALB/MBD)\"), \"T3 (ALB/MBD)\", \" \")","v":" "},null,null,null,null,null,0,null,null,null,0," "," "," "," "]
[{"$f":"IF(COUNTRY_INFO!A96=0,\" \",COUNTRY_INFO!A96)","v":"Tanzania"},{"$f":"IF(COUNTRY_INFO!B96=0,\" \",COUNTRY_INFO!B96)","v":"Mbeya"},{"$f":"IF(COUNTRY_INFO!C96=0,\" \",COUNTRY_INFO!C96)","v":"Mbeya District Council"},{"$f":"IF(OR(COUNTRY_INFO!$T$9:$T$1000=\"T3 (ALB/MBD)\",COUNTRY_INFO!$U$9:$U$1000=\"T3 (ALB/MBD)\"), \"T3 (ALB/MBD)\", \" \")","v":" "},null,null,null,null,null,0,null,null,null,0," "," "," "," "]
[{"$f":"IF(COUNTRY_INFO!A97=0,\" \",COUNTRY_INFO!A97)","v":"Tanzania"},{"$f":"IF(COUNTRY_INFO!B97=0,\" \",COUNTRY_INFO!B97)","v":"Mbeya"},{"$f":"IF(COUNTRY_INFO!C97=0,\" \",COUNTRY_INFO!C97)","v":"Rungwe District Council"},{"$f":"IF(OR(COUNTRY_INFO!$T$9:$T$1000=\"T3 (ALB/MBD)\",COUNTRY_INFO!$U$9:$U$1000=\"T3 (ALB/MBD)\"), \"T3 (ALB/MBD)\", \" \")","v":" "},null,null,null,null,null,0,null,null,null,0," "," "," "," "]
[{"$f":"IF(COUNTRY_INFO!A98=0,\" \",COUNTRY_INFO!A98)","v":"Tanzania"},{"$f":"IF(COUNTRY_INFO!B98=0,\" \",COUNTRY_INFO!B98)","v":"Morogoro"},{"$f":"IF(COUNTRY_INFO!C98=0,\" \",COUNTRY_INFO!C98)","v":"Gairo District Council"},{"$f":"IF(OR(COUNTRY_INFO!$T$9:$T$1000=\"T3 (ALB/MBD)\",COUNTRY_INFO!$U$9:$U$1000=\"T3 (ALB/MBD)\"), \"T3 (ALB/MBD)\", \" \")","v":" "},null,null,null,null,null,0,null,null,null,0," "," "," "," "]
[{"$f":"IF(COUNTRY_INFO!A99=0,\" \",COUNTRY_INFO!A99)","v":"Tanzania"},{"$f":"IF(COUNTRY_INFO!B99=0,\" \",COUNTRY_INFO!B99)","v":"Morogoro"},{"$f":"IF(COUNTRY_INFO!C99=0,\" \",COUNTRY_INFO!C99)","v":"Ifakara Town Council"},{"$f":"IF(OR(COUNTRY_INFO!$T$9:$T$1000=\"T3 (ALB/MBD)\",COUNTRY_INFO!$U$9:$U$1000=\"T3 (ALB/MBD)\"), \"T3 (ALB/MBD)\", \" \")","v":" "},null,null,null,null,null,0,null,null,null,0," "," "," "," "]
[{"$f":"IF(COUNTRY_INFO!A100=0,\" \",COUNTRY_INFO!A100)","v":"Tanzania"},{"$f":"IF(COUNTRY_INFO!B100=0,\" \",COUNTRY_INFO!B100)","v":"Morogoro"},{"$f":"IF(COUNTRY_INFO!C100=0,\" \",COUNTRY_INFO!C100)","v":"Kilombero District Council (Mlimba District Council)"},{"$f":"IF(OR(COUNTRY_INFO!$T$9:$T$1000=\"T3 (ALB/MBD)\",COUNTRY_INFO!$U$9:$U$1000=\"T3 (ALB/MBD)\"), \"T3 (ALB/MBD)\", \" \")","v":" "},null,null,null,null,null,0,null,null,null,0," "," "," "," "]
[{"$f":"IF(COUNTRY_INFO!A101=0,\" \",COUNTRY_INFO!A101)","v":"Tanzania"},{"$f":"IF(COUNTRY_INFO!B101=0,\" \",COUNTRY_INFO!B101)","v":"Morogoro"},{"$f":"IF(COUNTRY_INFO!C101=0,\" \",COUNTRY_INFO!C101)","v":"Kilosa District Council"},{"$f":"IF(OR(COUNTRY_INFO!$T$9:$T$1000=\"T3 (ALB/MBD)\",COUNTRY_INFO!$U$9:$U$1000=\"T3 (ALB/MBD)\"), \"T3 (ALB/MBD)\", \" \")","v":" "},null,null,null,null,null,0,null,null,null,0," "," "," "," "]
[{"$f":"IF(COUNTRY_INFO!A102=0,\" \",COUNTRY_INFO!A102)","v":"Tanzania"},{"$f":"IF(COUNTRY_INFO!B102=0,\" \",COUNTRY_INFO!B102)","v":"Morogoro"},{"$f":"IF(COUNTRY_INFO!C102=0,\" \",COUNTRY_INFO!C102)","v":"Malinyi District Council"},{"$f":"IF(OR(COUNTRY_INFO!$T$9:$T$1000=\"T3 (ALB/MBD)\",COUNTRY_INFO!$U$9:$U$1000=\"T3 (ALB/MBD)\"), \"T3 (ALB/MBD)\", \" \")","v":" "},null,null,null,null,null,0,null,null,null,0," "," "," "," "]
[{"$f":"IF(COUNTRY_INFO!A103=0,\" \",COUNTRY_INFO!A103)","v":"Tanzania"},{"$f":"IF(COUNTRY_INFO!B103=0,\" \",COUNTRY_INFO!B103)","v":"Morogoro"},{"$f":"IF(COUNTRY_INFO!C103=0,\" \",COUNTRY_INFO!C103)","v":"Morogoro District Council"},{"$f":"IF(OR(COUNTRY_INFO!$T$9:$T$1000=\"T3 (ALB/MBD)\",COUNTRY_INFO!$U$9:$U$1000=\"T3 (ALB/MBD)\"), \"T3 (ALB/MBD)\", \" \")","v":" "},null,null,null,null,null,0,null,null,null,0," "," "," "," "]
[{"$f":"IF(COUNTRY_INFO!A104=0,\" \",COUNTRY_INFO!A104)","v":"Tanzania"},{"$f":"IF(COUNTRY_INFO!B104=0,\" \",COUNTRY_INFO!B104)","v":"Morogoro"},{"$f":"IF(COUNTRY_INFO!C104=0,\" \",COUNTRY_INFO!C104)","v":"Morogoro Municipal Council"},{"$f":"IF(OR(COUNTRY_INFO!$T$9:$T$1000=\"T3 (ALB/MBD)\",COUNTRY_INFO!$U$9:$U$1000=\"T3 (ALB/MBD)\"), \"T3 (ALB/MBD)\", \" \")","v":" "},null,null,null,null,null,0,null,null,null,0," "," "," "," "]
[{"$f":"IF(COUNTRY_INFO!A105=0,\" \",COUNTRY_INFO!A105)","v":"Tanzania"},{"$f":"IF(COUNTRY_INFO!B105=0,\" \",COUNTRY_INFO!B105)","v":"Morogoro"},{"$f":"IF(COUNTRY_INFO!C105=0,\" \",COUNTRY_INFO!C105)","v":"Mvomero District Council"},{"$f":"IF(OR(COUNTRY_INFO!$T$9:$T$1000=\"T3 (ALB/MBD)\",COUNTRY_INFO!$U$9:$U$1000=\"T3 (ALB/MBD)\"), \"T3 (ALB/MBD)\", \" \")","v":" "},null,null,null,null,null,0,null,null,null,0," "," "," "," "]
[{"$f":"IF(COUNTRY_INFO!A106=0,\" \",COUNTRY_INFO!A106)","v":"Tanzania"},{"$f":"IF(COUNTRY_INFO!B106=0,\" \",COUNTRY_INFO!B106)","v":"Morogoro"},{"$f":"IF(COUNTRY_INFO!C106=0,\" \",COUNTRY_INFO!C106)","v":"Ulanga District Council"},{"$f":"IF(OR(COUNTRY_INFO!$T$9:$T$1000=\"T3 (ALB/MBD)\",COUNTRY_INFO!$U$9:$U$1000=\"T3 (ALB/MBD)\"), \"T3 (ALB/MBD)\", \" \")","v":" "},null,null,null,null,null,0,null,null,null,0," "," "," "," "]
[{"$f":"IF(COUNTRY_INFO!A107=0,\" \",COUNTRY_INFO!A107)","v":"Tanzania"},{"$f":"IF(COUNTRY_INFO!B107=0,\" \",COUNTRY_INFO!B107)","v":"Mtwara"},{"$f":"IF(COUNTRY_INFO!C107=0,\" \",COUNTRY_INFO!C107)","v":"Masasi District Council"},{"$f":"IF(OR(COUNTRY_INFO!$T$9:$T$1000=\"T3 (ALB/MBD)\",COUNTRY_INFO!$U$9:$U$1000=\"T3 (ALB/MBD)\"), \"T3 (ALB/MBD)\", \" \")","v":" "},null,null,null,null,null,0,null,null,null,0," "," "," "," "]
[{"$f":"IF(COUNTRY_INFO!A108=0,\" \",COUNTRY_INFO!A108)","v":"Tanzania"},{"$f":"IF(COUNTRY_INFO!B108=0,\" \",COUNTRY_INFO!B108)","v":"Mtwara"},{"$f":"IF(COUNTRY_INFO!C108=0,\" \",COUNTRY_INFO!C108)","v":"Masasi Town Council"},{"$f":"IF(OR(COUNTRY_INFO!$T$9:$T$1000=\"T3 (ALB/MBD)\",COUNTRY_INFO!$U$9:$U$1000=\"T3 (ALB/MBD)\"), \"T3 (ALB/MBD)\", \" \")","v":" "},null,null,null,null,null,0,null,null,null,0," "," "," "," "]
[{"$f":"IF(COUNTRY_INFO!A109=0,\" \",COUNTRY_INFO!A109)","v":"Tanzania"},{"$f":"IF(COUNTRY_INFO!B109=0,\" \",COUNTRY_INFO!B109)","v":"Mtwara"},{"$f":"IF(COUNTRY_INFO!C109=0,\" \",COUNTRY_INFO!C109)","v":"Mtwara District Council"},{"$f":"IF(OR(COUNTRY_INFO!$T$9:$T$1000=\"T3 (ALB/MBD)\",COUNTRY_INFO!$U$9:$U$1000=\"T3 (ALB/MBD)\"), \"T3 (ALB/MBD)\", \" \")","v":" "},null,null,null,null,null,0,null,null,null,0," "," "," "," "]
[{"$f":"IF(COUNTRY_INFO!A110=0,\" \",COUNTRY_INFO!A110)","v":"Tanzania"},{"$f":"IF(COUNTRY_INFO!B110=0,\" \",COUNTRY_INFO!B110)","v":"Mtwara"},{"$f":"IF(COUNTRY_INFO!C110=0,\" \",COUNTRY_INFO!C110)","v":"Mtwara-Mikindani Municipal Council"},{"$f":"IF(OR(COUNTRY_INFO!$T$9:$T$1000=\"T3 (ALB/MBD)\",COUNTRY_INFO!$U$9:$U$1000=\"T3 (ALB/MBD)\"), \"T3 (ALB/MBD)\", \" \")","v":"T3 (ALB/MBD)"},"ALB","September 2020",null,26644,null,26644,null,25952,null,25952," ",97.402792373517485," ",97.402792373517485]
[{"$f":"IF(COUNTRY_INFO!A111=0,\" \",COUNTRY_INFO!A111)","v":"Tanzania"},{"$f":"IF(COUNTRY_INFO!B111=0,\" \",COUNTRY_INFO!B111)","v":"Mtwara"},{"$f":"IF(COUNTRY_INFO!C111=0,\" \",COUNTRY_INFO!C111)","v":"Nanyamba Town Council"},{"$f":"IF(OR(COUNTRY_INFO!$T$9:$T$1000=\"T3 (ALB/MBD)\",COUNTRY_INFO!$U$9:$U$1000=\"T3 (ALB/MBD)\"), \"T3 (ALB/MBD)\", \" \")","v":" "},null,null,null,null,null,0,null,null,null,0," "," "," "," "]
[{"$f":"IF(COUNTRY_INFO!A112=0,\" \",COUNTRY_INFO!A112)","v":"Tanzania"},{"$f":"IF(COUNTRY_INFO!B112=0,\" \",COUNTRY_INFO!B112)","v":"Mtwara"},{"$f":"IF(COUNTRY_INFO!C112=0,\" \",COUNTRY_INFO!C112)","v":"Nanyumbu District Council"},{"$f":"IF(OR(COUNTRY_INFO!$T$9:$T$1000=\"T3 (ALB/MBD)\",COUNTRY_INFO!$U$9:$U$1000=\"T3 (ALB/MBD)\"), \"T3 (ALB/MBD)\", \" \")","v":" "},null,null,null,null,null,0,null,null,null,0," "," "," "," "]
[{"$f":"IF(COUNTRY_INFO!A113=0,\" \",COUNTRY_INFO!A113)","v":"Tanzania"},{"$f":"IF(COUNTRY_INFO!B113=0,\" \",COUNTRY_INFO!B113)","v":"Mtwara"},{"$f":"IF(COUNTRY_INFO!C113=0,\" \",COUNTRY_INFO!C113)","v":"Newala District Council"},{"$f":"IF(OR(COUNTRY_INFO!$T$9:$T$1000=\"T3 (ALB/MBD)\",COUNTRY_INFO!$U$9:$U$1000=\"T3 (ALB/MBD)\"), \"T3 (ALB/MBD)\", \" \")","v":"T3 (ALB/MBD)"},"ALB","March 2020",null,26531,null,26531,null,25381,null,25381," ",95.665447966529712," ",95.665447966529712]
[{"$f":"IF(COUNTRY_INFO!A114=0,\" \",COUNTRY_INFO!A114)","v":"Tanzania"},{"$f":"IF(COUNTRY_INFO!B114=0,\" \",COUNTRY_INFO!B114)","v":"Mtwara"},{"$f":"IF(COUNTRY_INFO!C114=0,\" \",COUNTRY_INFO!C114)","v":"Newala Town Council"},{"$f":"IF(OR(COUNTRY_INFO!$T$9:$T$1000=\"T3 (ALB/MBD)\",COUNTRY_INFO!$U$9:$U$1000=\"T3 (ALB/MBD)\"), \"T3 (ALB/MBD)\", \" \")","v":"T3 (ALB/MBD)"},"ALB","March 2020",null,22216,null,22216,null,21558,null,21558," ",97.038170687792586," ",97.038170687792586]
[{"$f":"IF(COUNTRY_INFO!A115=0,\" \",COUNTRY_INFO!A115)","v":"Tanzania"},{"$f":"IF(COUNTRY_INFO!B115=0,\" \",COUNTRY_INFO!B115)","v":"Mtwara"},{"$f":"IF(COUNTRY_INFO!C115=0,\" \",COUNTRY_INFO!C115)","v":"Tandahimba District Council"},{"$f":"IF(OR(COUNTRY_INFO!$T$9:$T$1000=\"T3 (ALB/MBD)\",COUNTRY_INFO!$U$9:$U$1000=\"T3 (ALB/MBD)\"), \"T3 (ALB/MBD)\", \" \")","v":"T3 (ALB/MBD)"},"ALB","March 2020",null,64986,null,64986,null,63709,null,63709," ",98.034961376296437," ",98.034961376296437]
[{"$f":"IF(COUNTRY_INFO!A116=0,\" \",COUNTRY_INFO!A116)","v":"Tanzania"},{"$f":"IF(COUNTRY_INFO!B116=0,\" \",COUNTRY_INFO!B116)","v":"Mwanza"},{"$f":"IF(COUNTRY_INFO!C116=0,\" \",COUNTRY_INFO!C116)","v":"Buchosa District Council"},{"$f":"IF(OR(COUNTRY_INFO!$T$9:$T$1000=\"T3 (ALB/MBD)\",COUNTRY_INFO!$U$9:$U$1000=\"T3 (ALB/MBD)\"), \"T3 (ALB/MBD)\", \" \")","v":" "},null,null,null,null,null,0,null,null,null,0," "," "," "," "]
[{"$f":"IF(COUNTRY_INFO!A117=0,\" \",COUNTRY_INFO!A117)","v":"Tanzania"},{"$f":"IF(COUNTRY_INFO!B117=0,\" \",COUNTRY_INFO!B117)","v":"Mwanza"},{"$f":"IF(COUNTRY_INFO!C117=0,\" \",COUNTRY_INFO!C117)","v":"Ilemela Municipal Council"},{"$f":"IF(OR(COUNTRY_INFO!$T$9:$T$1000=\"T3 (ALB/MBD)\",COUNTRY_INFO!$U$9:$U$1000=\"T3 (ALB/MBD)\"), \"T3 (ALB/MBD)\", \" \")","v":" "},null,null,null,null,null,0,null,null,null,0," "," "," "," "]
[{"$f":"IF(COUNTRY_INFO!A118=0,\" \",COUNTRY_INFO!A118)","v":"Tanzania"},{"$f":"IF(COUNTRY_INFO!B118=0,\" \",COUNTRY_INFO!B118)","v":"Mwanza"},{"$f":"IF(COUNTRY_INFO!C118=0,\" \",COUNTRY_INFO!C118)","v":"Kwimba District Council"},{"$f":"IF(OR(COUNTRY_INFO!$T$9:$T$1000=\"T3 (ALB/MBD)\",COUNTRY_INFO!$U$9:$U$1000=\"T3 (ALB/MBD)\"), \"T3 (ALB/MBD)\", \" \")","v":" "},null,null,null,null,null,0,null,null,null,0," "," "," "," "]
[{"$f":"IF(COUNTRY_INFO!A119=0,\" \",COUNTRY_INFO!A119)","v":"Tanzania"},{"$f":"IF(COUNTRY_INFO!B119=0,\" \",COUNTRY_INFO!B119)","v":"Mwanza"},{"$f":"IF(COUNTRY_INFO!C119=0,\" \",COUNTRY_INFO!C119)","v":"Magu District Council"},{"$f":"IF(OR(COUNTRY_INFO!$T$9:$T$1000=\"T3 (ALB/MBD)\",COUNTRY_INFO!$U$9:$U$1000=\"T3 (ALB/MBD)\"), \"T3 (ALB/MBD)\", \" \")","v":" "},null,null,null,null,null,0,null,null,null,0," "," "," "," "]
[{"$f":"IF(COUNTRY_INFO!A120=0,\" \",COUNTRY_INFO!A120)","v":"Tanzania"},{"$f":"IF(COUNTRY_INFO!B120=0,\" \",COUNTRY_INFO!B120)","v":"Mwanza"},{"$f":"IF(COUNTRY_INFO!C120=0,\" \",COUNTRY_INFO!C120)","v":"Misungwi District Council"},{"$f":"IF(OR(COUNTRY_INFO!$T$9:$T$1000=\"T3 (ALB/MBD)\",COUNTRY_INFO!$U$9:$U$1000=\"T3 (ALB/MBD)\"), \"T3 (ALB/MBD)\", \" \")","v":" "},null,null,null,null,null,0,null,null,null,0," "," "," "," "]
[{"$f":"IF(COUNTRY_INFO!A121=0,\" \",COUNTRY_INFO!A121)","v":"Tanzania"},{"$f":"IF(COUNTRY_INFO!B121=0,\" \",COUNTRY_INFO!B121)","v":"Mwanza"},{"$f":"IF(COUNTRY_INFO!C121=0,\" \",COUNTRY_INFO!C121)","v":"Mwanza-Nyamagana City Council"},{"$f":"IF(OR(COUNTRY_INFO!$T$9:$T$1000=\"T3 (ALB/MBD)\",COUNTRY_INFO!$U$9:$U$1000=\"T3 (ALB/MBD)\"), \"T3 (ALB/MBD)\", \" \")","v":" "},null,null,null,null,null,0,null,null,null,0," "," "," "," "]
[{"$f":"IF(COUNTRY_INFO!A122=0,\" \",COUNTRY_INFO!A122)","v":"Tanzania"},{"$f":"IF(COUNTRY_INFO!B122=0,\" \",COUNTRY_INFO!B122)","v":"Mwanza"},{"$f":"IF(COUNTRY_INFO!C122=0,\" \",COUNTRY_INFO!C122)","v":"Sengerema District Council"},{"$f":"IF(OR(COUNTRY_INFO!$T$9:$T$1000=\"T3 (ALB/MBD)\",COUNTRY_INFO!$U$9:$U$1000=\"T3 (ALB/MBD)\"), \"T3 (ALB/MBD)\", \" \")","v":" "},null,null,null,null,null,0,null,null,null,0," "," "," "," "]
[{"$f":"IF(COUNTRY_INFO!A123=0,\" \",COUNTRY_INFO!A123)","v":"Tanzania"},{"$f":"IF(COUNTRY_INFO!B123=0,\" \",COUNTRY_INFO!B123)","v":"Mwanza"},{"$f":"IF(COUNTRY_INFO!C123=0,\" \",COUNTRY_INFO!C123)","v":"Ukerewe District Council"},{"$f":"IF(OR(COUNTRY_INFO!$T$9:$T$1000=\"T3 (ALB/MBD)\",COUNTRY_INFO!$U$9:$U$1000=\"T3 (ALB/MBD)\"), \"T3 (ALB/MBD)\", \" \")","v":" "},null,null,null,null,null,0,null,null,null,0," "," "," "," "]
[{"$f":"IF(COUNTRY_INFO!A124=0,\" \",COUNTRY_INFO!A124)","v":"Tanzania"},{"$f":"IF(COUNTRY_INFO!B124=0,\" \",COUNTRY_INFO!B124)","v":"Njombe"},{"$f":"IF(COUNTRY_INFO!C124=0,\" \",COUNTRY_INFO!C124)","v":"Ludewa District Council"},{"$f":"IF(OR(COUNTRY_INFO!$T$9:$T$1000=\"T3 (ALB/MBD)\",COUNTRY_INFO!$U$9:$U$1000=\"T3 (ALB/MBD)\"), \"T3 (ALB/MBD)\", \" \")","v":" "},null,null,null,null,null,0,null,null,null,0," "," "," "," "]
[{"$f":"IF(COUNTRY_INFO!A125=0,\" \",COUNTRY_INFO!A125)","v":"Tanzania"},{"$f":"IF(COUNTRY_INFO!B125=0,\" \",COUNTRY_INFO!B125)","v":"Njombe"},{"$f":"IF(COUNTRY_INFO!C125=0,\" \",COUNTRY_INFO!C125)","v":"Makambako Town Council"},{"$f":"IF(OR(COUNTRY_INFO!$T$9:$T$1000=\"T3 (ALB/MBD)\",COUNTRY_INFO!$U$9:$U$1000=\"T3 (ALB/MBD)\"), \"T3 (ALB/MBD)\", \" \")","v":" "},null,null,null,null,null,0,null,null,null,0," "," "," "," "]
[{"$f":"IF(COUNTRY_INFO!A126=0,\" \",COUNTRY_INFO!A126)","v":"Tanzania"},{"$f":"IF(COUNTRY_INFO!B126=0,\" \",COUNTRY_INFO!B126)","v":"Njombe"},{"$f":"IF(COUNTRY_INFO!C126=0,\" \",COUNTRY_INFO!C126)","v":"Makete District Council"},{"$f":"IF(OR(COUNTRY_INFO!$T$9:$T$1000=\"T3 (ALB/MBD)\",COUNTRY_INFO!$U$9:$U$1000=\"T3 (ALB/MBD)\"), \"T3 (ALB/MBD)\", \" \")","v":" "},null,null,null,null,null,0,null,null,null,0," "," "," "," "]
[{"$f":"IF(COUNTRY_INFO!A127=0,\" \",COUNTRY_INFO!A127)","v":"Tanzania"},{"$f":"IF(COUNTRY_INFO!B127=0,\" \",COUNTRY_INFO!B127)","v":"Njombe"},{"$f":"IF(COUNTRY_INFO!C127=0,\" \",COUNTRY_INFO!C127)","v":"Njombe District Council"},{"$f":"IF(OR(COUNTRY_INFO!$T$9:$T$1000=\"T3 (ALB/MBD)\",COUNTRY_INFO!$U$9:$U$1000=\"T3 (ALB/MBD)\"), \"T3 (ALB/MBD)\", \" \")","v":" "},null,null,null,null,null,0,null,null,null,0," "," "," "," "]
[{"$f":"IF(COUNTRY_INFO!A128=0,\" \",COUNTRY_INFO!A128)","v":"Tanzania"},{"$f":"IF(COUNTRY_INFO!B128=0,\" \",COUNTRY_INFO!B128)","v":"Njombe"},{"$f":"IF(COUNTRY_INFO!C128=0,\" \",COUNTRY_INFO!C128)","v":"Njombe Town Council"},{"$f":"IF(OR(COUNTRY_INFO!$T$9:$T$1000=\"T3 (ALB/MBD)\",COUNTRY_INFO!$U$9:$U$1000=\"T3 (ALB/MBD)\"), \"T3 (ALB/MBD)\", \" \")","v":" "},null,null,null,null,null,0,null,null,null,0," "," "," "," "]
[{"$f":"IF(COUNTRY_INFO!A129=0,\" \",COUNTRY_INFO!A129)","v":"Tanzania"},{"$f":"IF(COUNTRY_INFO!B129=0,\" \",COUNTRY_INFO!B129)","v":"Njombe"},{"$f":"IF(COUNTRY_INFO!C129=0,\" \",COUNTRY_INFO!C129)","v":"Wanging'ombe District Council"},{"$f":"IF(OR(COUNTRY_INFO!$T$9:$T$1000=\"T3 (ALB/MBD)\",COUNTRY_INFO!$U$9:$U$1000=\"T3 (ALB/MBD)\"), \"T3 (ALB/MBD)\", \" \")","v":" "},null,null,null,null,null,0,null,null,null,0," "," "," "," "]
[{"$f":"IF(COUNTRY_INFO!A130=0,\" \",COUNTRY_INFO!A130)","v":"Tanzania"},{"$f":"IF(COUNTRY_INFO!B130=0,\" \",COUNTRY_INFO!B130)","v":"Pwani"},{"$f":"IF(COUNTRY_INFO!C130=0,\" \",COUNTRY_INFO!C130)","v":"Bagamoyo District Council"},{"$f":"IF(OR(COUNTRY_INFO!$T$9:$T$1000=\"T3 (ALB/MBD)\",COUNTRY_INFO!$U$9:$U$1000=\"T3 (ALB/MBD)\"), \"T3 (ALB/MBD)\", \" \")","v":"T3 (ALB/MBD)"},"ALB","September 2020",null,34954,null,34954,null,34241,null,34241," ",97.960176231618703," ",97.960176231618703]
[{"$f":"IF(COUNTRY_INFO!A131=0,\" \",COUNTRY_INFO!A131)","v":"Tanzania"},{"$f":"IF(COUNTRY_INFO!B131=0,\" \",COUNTRY_INFO!B131)","v":"Pwani"},{"$f":"IF(COUNTRY_INFO!C131=0,\" \",COUNTRY_INFO!C131)","v":"Chalinze District Council"},{"$f":"IF(OR(COUNTRY_INFO!$T$9:$T$1000=\"T3 (ALB/MBD)\",COUNTRY_INFO!$U$9:$U$1000=\"T3 (ALB/MBD)\"), \"T3 (ALB/MBD)\", \" \")","v":"T3 (ALB/MBD)"},"ALB","September 2020",null,60732,null,60732,null,59560,null,59560," ",98.070210103405117," ",98.070210103405117]
[{"$f":"IF(COUNTRY_INFO!A132=0,\" \",COUNTRY_INFO!A132)","v":"Tanzania"},{"$f":"IF(COUNTRY_INFO!B132=0,\" \",COUNTRY_INFO!B132)","v":"Pwani"},{"$f":"IF(COUNTRY_INFO!C132=0,\" \",COUNTRY_INFO!C132)","v":"Kibaha District Council"},{"$f":"IF(OR(COUNTRY_INFO!$T$9:$T$1000=\"T3 (ALB/MBD)\",COUNTRY_INFO!$U$9:$U$1000=\"T3 (ALB/MBD)\"), \"T3 (ALB/MBD)\", \" \")","v":" "},null,null,null,null,null,0,null,null,null,0," "," "," "," "]
[{"$f":"IF(COUNTRY_INFO!A133=0,\" \",COUNTRY_INFO!A133)","v":"Tanzania"},{"$f":"IF(COUNTRY_INFO!B133=0,\" \",COUNTRY_INFO!B133)","v":"Pwani"},{"$f":"IF(COUNTRY_INFO!C133=0,\" \",COUNTRY_INFO!C133)","v":"Kibaha Town Council"},{"$f":"IF(OR(COUNTRY_INFO!$T$9:$T$1000=\"T3 (ALB/MBD)\",COUNTRY_INFO!$U$9:$U$1000=\"T3 (ALB/MBD)\"), \"T3 (ALB/MBD)\", \" \")","v":" "},null,null,null,null,null,0,null,null,null,0," "," "," "," "]
[{"$f":"IF(COUNTRY_INFO!A134=0,\" \",COUNTRY_INFO!A134)","v":"Tanzania"},{"$f":"IF(COUNTRY_INFO!B134=0,\" \",COUNTRY_INFO!B134)","v":"Pwani"},{"$f":"IF(COUNTRY_INFO!C134=0,\" \",COUNTRY_INFO!C134)","v":"Kibiti District Council"},{"$f":"IF(OR(COUNTRY_INFO!$T$9:$T$1000=\"T3 (ALB/MBD)\",COUNTRY_INFO!$U$9:$U$1000=\"T3 (ALB/MBD)\"), \"T3 (ALB/MBD)\", \" \")","v":"T3 (ALB/MBD)"},"ALB","July 2020",null,41851,null,41851,null,36587,null,36587," ",87.42204487347972," ",87.42204487347972]
[{"$f":"IF(COUNTRY_INFO!A135=0,\" \",COUNTRY_INFO!A135)","v":"Tanzania"},{"$f":"IF(COUNTRY_INFO!B135=0,\" \",COUNTRY_INFO!B135)","v":"Pwani"},{"$f":"IF(COUNTRY_INFO!C135=0,\" \",COUNTRY_INFO!C135)","v":"Kisarawe District Council"},{"$f":"IF(OR(COUNTRY_INFO!$T$9:$T$1000=\"T3 (ALB/MBD)\",COUNTRY_INFO!$U$9:$U$1000=\"T3 (ALB/MBD)\"), \"T3 (ALB/MBD)\", \" \")","v":"T3 (ALB/MBD)"},"ALB","September 2020",null,31492,null,31492,null,28225,null,28225," ",89.625936745840221," ",89.625936745840221]
[{"$f":"IF(COUNTRY_INFO!A136=0,\" \",COUNTRY_INFO!A136)","v":"Tanzania"},{"$f":"IF(COUNTRY_INFO!B136=0,\" \",COUNTRY_INFO!B136)","v":"Pwani"},{"$f":"IF(COUNTRY_INFO!C136=0,\" \",COUNTRY_INFO!C136)","v":"Mafia District Council"},{"$f":"IF(OR(COUNTRY_INFO!$T$9:$T$1000=\"T3 (ALB/MBD)\",COUNTRY_INFO!$U$9:$U$1000=\"T3 (ALB/MBD)\"), \"T3 (ALB/MBD)\", \" \")","v":" "},null,null,null,null,null,0,null,null,null,0," "," "," "," "]
[{"$f":"IF(COUNTRY_INFO!A137=0,\" \",COUNTRY_INFO!A137)","v":"Tanzania"},{"$f":"IF(COUNTRY_INFO!B137=0,\" \",COUNTRY_INFO!B137)","v":"Pwani"},{"$f":"IF(COUNTRY_INFO!C137=0,\" \",COUNTRY_INFO!C137)","v":"Mkuranga District Council"},{"$f":"IF(OR(COUNTRY_INFO!$T$9:$T$1000=\"T3 (ALB/MBD)\",COUNTRY_INFO!$U$9:$U$1000=\"T3 (ALB/MBD)\"), \"T3 (ALB/MBD)\", \" \")","v":"T3 (ALB/MBD)"},"ALB","September 2020",null,85317,null,85317,null,74393,null,74393," ",87.19598673183539," ",87.19598673183539]
[{"$f":"IF(COUNTRY_INFO!A138=0,\" \",COUNTRY_INFO!A138)","v":"Tanzania"},{"$f":"IF(COUNTRY_INFO!B138=0,\" \",COUNTRY_INFO!B138)","v":"Pwani"},{"$f":"IF(COUNTRY_INFO!C138=0,\" \",COUNTRY_INFO!C138)","v":"Rufiji District Council"},{"$f":"IF(OR(COUNTRY_INFO!$T$9:$T$1000=\"T3 (ALB/MBD)\",COUNTRY_INFO!$U$9:$U$1000=\"T3 (ALB/MBD)\"), \"T3 (ALB/MBD)\", \" \")","v":"T3 (ALB/MBD)"},"ALB","July 2020",null,34675,null,{"$f":"SUM(G138:I138)","v":34675},null,32820,null,{"$f":"SUM(K138:M138)","v":32820},{"$f":"IF(G138<>0, IF(K138/G138*100=0, \"-\", K138/G138*100), \" \")","v":" "},{"$f":"IF(H138<>0, IF(L138/H138*100=0, \"-\", L138/H138*100), \" \")","v":94.650324441240087},{"$f":"IF(I138<>0, IF(M138/I138*100=0, \"-\", M138/I138*100), \" \")","v":" "},{"$f":"IF(J138<>0, IF(N138/J138*100=0, \"-\", N138/J138*100), \" \")","v":94.650324441240087}]
[{"$f":"IF(COUNTRY_INFO!A139=0,\" \",COUNTRY_INFO!A139)","v":"Tanzania"},{"$f":"IF(COUNTRY_INFO!B139=0,\" \",COUNTRY_INFO!B139)","v":"Rukwa"},{"$f":"IF(COUNTRY_INFO!C139=0,\" \",COUNTRY_INFO!C139)","v":"Kalambo District Council"},{"$f":"IF(OR(COUNTRY_INFO!$T$9:$T$1000=\"T3 (ALB/MBD)\",COUNTRY_INFO!$U$9:$U$1000=\"T3 (ALB/MBD)\"), \"T3 (ALB/MBD)\", \" \")","v":"T3 (ALB/MBD)"},"ALB","August 2020",null,61789,null,61789,null,58958,null,58958," ",95.418278334331347," ",95.418278334331347]
[{"$f":"IF(COUNTRY_INFO!A140=0,\" \",COUNTRY_INFO!A140)","v":"Tanzania"},{"$f":"IF(COUNTRY_INFO!B140=0,\" \",COUNTRY_INFO!B140)","v":"Rukwa"},{"$f":"IF(COUNTRY_INFO!C140=0,\" \",COUNTRY_INFO!C140)","v":"Nkasi District Council"},{"$f":"IF(OR(COUNTRY_INFO!$T$9:$T$1000=\"T3 (ALB/MBD)\",COUNTRY_INFO!$U$9:$U$1000=\"T3 (ALB/MBD)\"), \"T3 (ALB/MBD)\", \" \")","v":"T3 (ALB/MBD)"},"ALB","September 2020",null,92300,null,92300,null,89245,null,89245," ",96.690140845070431," ",96.690140845070431]
[{"$f":"IF(COUNTRY_INFO!A141=0,\" \",COUNTRY_INFO!A141)","v":"Tanzania"},{"$f":"IF(COUNTRY_INFO!B141=0,\" \",COUNTRY_INFO!B141)","v":"Rukwa"},{"$f":"IF(COUNTRY_INFO!C141=0,\" \",COUNTRY_INFO!C141)","v":"Sumbawanga District Council"},{"$f":"IF(OR(COUNTRY_INFO!$T$9:$T$1000=\"T3 (ALB/MBD)\",COUNTRY_INFO!$U$9:$U$1000=\"T3 (ALB/MBD)\"), \"T3 (ALB/MBD)\", \" \")","v":"T3 (ALB/MBD)"},"ALB","August 2020",null,100766,null,100766,null,90508,null,90508," ",89.819978961157531," ",89.819978961157531]
[{"$f":"IF(COUNTRY_INFO!A142=0,\" \",COUNTRY_INFO!A142)","v":"Tanzania"},{"$f":"IF(COUNTRY_INFO!B142=0,\" \",COUNTRY_INFO!B142)","v":"Rukwa"},{"$f":"IF(COUNTRY_INFO!C142=0,\" \",COUNTRY_INFO!C142)","v":"Sumbawanga Municipal Council"},{"$f":"IF(OR(COUNTRY_INFO!$T$9:$T$1000=\"T3 (ALB/MBD)\",COUNTRY_INFO!$U$9:$U$1000=\"T3 (ALB/MBD)\"), \"T3 (ALB/MBD)\", \" \")","v":"T3 (ALB/MBD)"},"ALB","July 2020",null,66630,null,66630,null,64794,null,64794," ",97.244484466456555," ",97.244484466456555]
[{"$f":"IF(COUNTRY_INFO!A143=0,\" \",COUNTRY_INFO!A143)","v":"Tanzania"},{"$f":"IF(COUNTRY_INFO!B143=0,\" \",COUNTRY_INFO!B143)","v":"Ruvuma"},{"$f":"IF(COUNTRY_INFO!C143=0,\" \",COUNTRY_INFO!C143)","v":"Madaba District Council"},{"$f":"IF(OR(COUNTRY_INFO!$T$9:$T$1000=\"T3 (ALB/MBD)\",COUNTRY_INFO!$U$9:$U$1000=\"T3 (ALB/MBD)\"), \"T3 (ALB/MBD)\", \" \")","v":" "},null,null,null,null,null,0,null,null,null,0," "," "," "," "]
[{"$f":"IF(COUNTRY_INFO!A144=0,\" \",COUNTRY_INFO!A144)","v":"Tanzania"},{"$f":"IF(COUNTRY_INFO!B144=0,\" \",COUNTRY_INFO!B144)","v":"Ruvuma"},{"$f":"IF(COUNTRY_INFO!C144=0,\" \",COUNTRY_INFO!C144)","v":"Mbinga District Council"},{"$f":"IF(OR(COUNTRY_INFO!$T$9:$T$1000=\"T3 (ALB/MBD)\",COUNTRY_INFO!$U$9:$U$1000=\"T3 (ALB/MBD)\"), \"T3 (ALB/MBD)\", \" \")","v":" "},null,null,null,null,null,0,null,null,null,0," "," "," "," "]
[{"$f":"IF(COUNTRY_INFO!A145=0,\" \",COUNTRY_INFO!A145)","v":"Tanzania"},{"$f":"IF(COUNTRY_INFO!B145=0,\" \",COUNTRY_INFO!B145)","v":"Ruvuma"},{"$f":"IF(COUNTRY_INFO!C145=0,\" \",COUNTRY_INFO!C145)","v":"Mbinga Town Council"},{"$f":"IF(OR(COUNTRY_INFO!$T$9:$T$1000=\"T3 (ALB/MBD)\",COUNTRY_INFO!$U$9:$U$1000=\"T3 (ALB/MBD)\"), \"T3 (ALB/MBD)\", \" \")","v":" "},null,null,null,null,null,0,null,null,null,0," "," "," "," "]
[{"$f":"IF(COUNTRY_INFO!A146=0,\" \",COUNTRY_INFO!A146)","v":"Tanzania"},{"$f":"IF(COUNTRY_INFO!B146=0,\" \",COUNTRY_INFO!B146)","v":"Ruvuma"},{"$f":"IF(COUNTRY_INFO!C146=0,\" \",COUNTRY_INFO!C146)","v":"Namtumbo District Council"},{"$f":"IF(OR(COUNTRY_INFO!$T$9:$T$1000=\"T3 (ALB/MBD)\",COUNTRY_INFO!$U$9:$U$1000=\"T3 (ALB/MBD)\"), \"T3 (ALB/MBD)\", \" \")","v":" "},null,null,null,null,null,0,null,null,null,0," "," "," "," "]
[{"$f":"IF(COUNTRY_INFO!A147=0,\" \",COUNTRY_INFO!A147)","v":"Tanzania"},{"$f":"IF(COUNTRY_INFO!B147=0,\" \",COUNTRY_INFO!B147)","v":"Ruvuma"},{"$f":"IF(COUNTRY_INFO!C147=0,\" \",COUNTRY_INFO!C147)","v":"Nyasa District Council"},{"$f":"IF(OR(COUNTRY_INFO!$T$9:$T$1000=\"T3 (ALB/MBD)\",COUNTRY_INFO!$U$9:$U$1000=\"T3 (ALB/MBD)\"), \"T3 (ALB/MBD)\", \" \")","v":" "},null,null,null,null,null,0,null,null,null,0," "," "," "," "]
[{"$f":"IF(COUNTRY_INFO!A148=0,\" \",COUNTRY_INFO!A148)","v":"Tanzania"},{"$f":"IF(COUNTRY_INFO!B148=0,\" \",COUNTRY_INFO!B148)","v":"Ruvuma"},{"$f":"IF(COUNTRY_INFO!C148=0,\" \",COUNTRY_INFO!C148)","v":"Songea District Council"},{"$f":"IF(OR(COUNTRY_INFO!$T$9:$T$1000=\"T3 (ALB/MBD)\",COUNTRY_INFO!$U$9:$U$1000=\"T3 (ALB/MBD)\"), \"T3 (ALB/MBD)\", \" \")","v":" "},null,null,null,null,null,0,null,null,null,0," "," "," "," "]
[{"$f":"IF(COUNTRY_INFO!A149=0,\" \",COUNTRY_INFO!A149)","v":"Tanzania"},{"$f":"IF(COUNTRY_INFO!B149=0,\" \",COUNTRY_INFO!B149)","v":"Ruvuma"},{"$f":"IF(COUNTRY_INFO!C149=0,\" \",COUNTRY_INFO!C149)","v":"Songea Municipal Council"},{"$f":"IF(OR(COUNTRY_INFO!$T$9:$T$1000=\"T3 (ALB/MBD)\",COUNTRY_INFO!$U$9:$U$1000=\"T3 (ALB/MBD)\"), \"T3 (ALB/MBD)\", \" \")","v":" "},null,null,null,null,null,0,null,null,null,0," "," "," "," "]
[{"$f":"IF(COUNTRY_INFO!A150=0,\" \",COUNTRY_INFO!A150)","v":"Tanzania"},{"$f":"IF(COUNTRY_INFO!B150=0,\" \",COUNTRY_INFO!B150)","v":"Ruvuma"},{"$f":"IF(COUNTRY_INFO!C150=0,\" \",COUNTRY_INFO!C150)","v":"Tunduru District Council"},{"$f":"IF(OR(COUNTRY_INFO!$T$9:$T$1000=\"T3 (ALB/MBD)\",COUNTRY_INFO!$U$9:$U$1000=\"T3 (ALB/MBD)\"), \"T3 (ALB/MBD)\", \" \")","v":" "},null,null,null,null,null,0,null,null,null,0," "," "," "," "]
[{"$f":"IF(COUNTRY_INFO!A151=0,\" \",COUNTRY_INFO!A151)","v":"Tanzania"},{"$f":"IF(COUNTRY_INFO!B151=0,\" \",COUNTRY_INFO!B151)","v":"Shinyanga"},{"$f":"IF(COUNTRY_INFO!C151=0,\" \",COUNTRY_INFO!C151)","v":"Kahama Town Council"},{"$f":"IF(OR(COUNTRY_INFO!$T$9:$T$1000=\"T3 (ALB/MBD)\",COUNTRY_INFO!$U$9:$U$1000=\"T3 (ALB/MBD)\"), \"T3 (ALB/MBD)\", \" \")","v":" "},null,null,null,null,null,0,null,null,null,0," "," "," "," "]
[{"$f":"IF(COUNTRY_INFO!A152=0,\" \",COUNTRY_INFO!A152)","v":"Tanzania"},{"$f":"IF(COUNTRY_INFO!B152=0,\" \",COUNTRY_INFO!B152)","v":"Shinyanga"},{"$f":"IF(COUNTRY_INFO!C152=0,\" \",COUNTRY_INFO!C152)","v":"Kishapu District Council"},{"$f":"IF(OR(COUNTRY_INFO!$T$9:$T$1000=\"T3 (ALB/MBD)\",COUNTRY_INFO!$U$9:$U$1000=\"T3 (ALB/MBD)\"), \"T3 (ALB/MBD)\", \" \")","v":" "},null,null,null,null,null,0,null,null,null,0," "," "," "," "]
[{"$f":"IF(COUNTRY_INFO!A153=0,\" \",COUNTRY_INFO!A153)","v":"Tanzania"},{"$f":"IF(COUNTRY_INFO!B153=0,\" \",COUNTRY_INFO!B153)","v":"Shinyanga"},{"$f":"IF(COUNTRY_INFO!C153=0,\" \",COUNTRY_INFO!C153)","v":"Msalala District Council"},{"$f":"IF(OR(COUNTRY_INFO!$T$9:$T$1000=\"T3 (ALB/MBD)\",COUNTRY_INFO!$U$9:$U$1000=\"T3 (ALB/MBD)\"), \"T3 (ALB/MBD)\", \" \")","v":" "},null,null,null,null,null,0,null,null,null,0," "," "," "," "]
[{"$f":"IF(COUNTRY_INFO!A154=0,\" \",COUNTRY_INFO!A154)","v":"Tanzania"},{"$f":"IF(COUNTRY_INFO!B154=0,\" \",COUNTRY_INFO!B154)","v":"Shinyanga"},{"$f":"IF(COUNTRY_INFO!C154=0,\" \",COUNTRY_INFO!C154)","v":"Shinyanga District Council"},{"$f":"IF(OR(COUNTRY_INFO!$T$9:$T$1000=\"T3 (ALB/MBD)\",COUNTRY_INFO!$U$9:$U$1000=\"T3 (ALB/MBD)\"), \"T3 (ALB/MBD)\", \" \")","v":" "},null,null,null,null,null,0,null,null,null,0," "," "," "," "]
[{"$f":"IF(COUNTRY_INFO!A155=0,\" \",COUNTRY_INFO!A155)","v":"Tanzania"},{"$f":"IF(COUNTRY_INFO!B155=0,\" \",COUNTRY_INFO!B155)","v":"Shinyanga"},{"$f":"IF(COUNTRY_INFO!C155=0,\" \",COUNTRY_INFO!C155)","v":"Shinyanga Municipal Council"},{"$f":"IF(OR(COUNTRY_INFO!$T$9:$T$1000=\"T3 (ALB/MBD)\",COUNTRY_INFO!$U$9:$U$1000=\"T3 (ALB/MBD)\"), \"T3 (ALB/MBD)\", \" \")","v":" "},null,null,null,null,null,0,null,null,null,0," "," "," "," "]
[{"$f":"IF(COUNTRY_INFO!A156=0,\" \",COUNTRY_INFO!A156)","v":"Tanzania"},{"$f":"IF(COUNTRY_INFO!B156=0,\" \",COUNTRY_INFO!B156)","v":"Shinyanga"},{"$f":"IF(COUNTRY_INFO!C156=0,\" \",COUNTRY_INFO!C156)","v":"Ushetu District Council"},{"$f":"IF(OR(COUNTRY_INFO!$T$9:$T$1000=\"T3 (ALB/MBD)\",COUNTRY_INFO!$U$9:$U$1000=\"T3 (ALB/MBD)\"), \"T3 (ALB/MBD)\", \" \")","v":" "},null,null,null,null,null,0,null,null,null,0," "," "," "," "]
[{"$f":"IF(COUNTRY_INFO!A157=0,\" \",COUNTRY_INFO!A157)","v":"Tanzania"},{"$f":"IF(COUNTRY_INFO!B157=0,\" \",COUNTRY_INFO!B157)","v":"Simiyu"},{"$f":"IF(COUNTRY_INFO!C157=0,\" \",COUNTRY_INFO!C157)","v":"Bariadi District Council"},{"$f":"IF(OR(COUNTRY_INFO!$T$9:$T$1000=\"T3 (ALB/MBD)\",COUNTRY_INFO!$U$9:$U$1000=\"T3 (ALB/MBD)\"), \"T3 (ALB/MBD)\", \" \")","v":" "},null,null,null,null,null,0,null,null,null,0," "," "," "," "]
[{"$f":"IF(COUNTRY_INFO!A158=0,\" \",COUNTRY_INFO!A158)","v":"Tanzania"},{"$f":"IF(COUNTRY_INFO!B158=0,\" \",COUNTRY_INFO!B158)","v":"Simiyu"},{"$f":"IF(COUNTRY_INFO!C158=0,\" \",COUNTRY_INFO!C158)","v":"Bariadi Town Council"},{"$f":"IF(OR(COUNTRY_INFO!$T$9:$T$1000=\"T3 (ALB/MBD)\",COUNTRY_INFO!$U$9:$U$1000=\"T3 (ALB/MBD)\"), \"T3 (ALB/MBD)\", \" \")","v":" "},null,null,null,null,null,0,null,null,null,0," "," "," "," "]
[{"$f":"IF(COUNTRY_INFO!A159=0,\" \",COUNTRY_INFO!A159)","v":"Tanzania"},{"$f":"IF(COUNTRY_INFO!B159=0,\" \",COUNTRY_INFO!B159)","v":"Simiyu"},{"$f":"IF(COUNTRY_INFO!C159=0,\" \",COUNTRY_INFO!C159)","v":"Busega District Council"},{"$f":"IF(OR(COUNTRY_INFO!$T$9:$T$1000=\"T3 (ALB/MBD)\",COUNTRY_INFO!$U$9:$U$1000=\"T3 (ALB/MBD)\"), \"T3 (ALB/MBD)\", \" \")","v":" "},null,null,null,null,null,0,null,null,null,0," "," "," "," "]
[{"$f":"IF(COUNTRY_INFO!A160=0,\" \",COUNTRY_INFO!A160)","v":"Tanzania"},{"$f":"IF(COUNTRY_INFO!B160=0,\" \",COUNTRY_INFO!B160)","v":"Simiyu"},{"$f":"IF(COUNTRY_INFO!C160=0,\" \",COUNTRY_INFO!C160)","v":"Itilima District Council"},{"$f":"IF(OR(COUNTRY_INFO!$T$9:$T$1000=\"T3 (ALB/MBD)\",COUNTRY_INFO!$U$9:$U$1000=\"T3 (ALB/MBD)\"), \"T3 (ALB/MBD)\", \" \")","v":" "},null,null,null,null,null,0,null,null,null,0," "," "," "," "]
[{"$f":"IF(COUNTRY_INFO!A161=0,\" \",COUNTRY_INFO!A161)","v":"Tanzania"},{"$f":"IF(COUNTRY_INFO!B161=0,\" \",COUNTRY_INFO!B161)","v":"Simiyu"},{"$f":"IF(COUNTRY_INFO!C161=0,\" \",COUNTRY_INFO!C161)","v":"Maswa District Council"},{"$f":"IF(OR(COUNTRY_INFO!$T$9:$T$1000=\"T3 (ALB/MBD)\",COUNTRY_INFO!$U$9:$U$1000=\"T3 (ALB/MBD)\"), \"T3 (ALB/MBD)\", \" \")","v":" "},null,null,null,null,null,0,null,null,null,0," "," "," "," "]
[{"$f":"IF(COUNTRY_INFO!A162=0,\" \",COUNTRY_INFO!A162)","v":"Tanzania"},{"$f":"IF(COUNTRY_INFO!B162=0,\" \",COUNTRY_INFO!B162)","v":"Simiyu"},{"$f":"IF(COUNTRY_INFO!C162=0,\" \",COUNTRY_INFO!C162)","v":"Meatu District Council"},{"$f":"IF(OR(COUNTRY_INFO!$T$9:$T$1000=\"T3 (ALB/MBD)\",COUNTRY_INFO!$U$9:$U$1000=\"T3 (ALB/MBD)\"), \"T3 (ALB/MBD)\", \" \")","v":" "},null,null,null,null,null,0,null,null,null,0," "," "," "," "]
[{"$f":"IF(COUNTRY_INFO!A163=0,\" \",COUNTRY_INFO!A163)","v":"Tanzania"},{"$f":"IF(COUNTRY_INFO!B163=0,\" \",COUNTRY_INFO!B163)","v":"Singida"},{"$f":"IF(COUNTRY_INFO!C163=0,\" \",COUNTRY_INFO!C163)","v":"Ikungi District Council"},{"$f":"IF(OR(COUNTRY_INFO!$T$9:$T$1000=\"T3 (ALB/MBD)\",COUNTRY_INFO!$U$9:$U$1000=\"T3 (ALB/MBD)\"), \"T3 (ALB/MBD)\", \" \")","v":"T3 (ALB/MBD)"},"ALB","September 2020",null,83799,null,83799,null,83690,null,83690," ",99.869926848769069," ",99.869926848769069]
[{"$f":"IF(COUNTRY_INFO!A164=0,\" \",COUNTRY_INFO!A164)","v":"Tanzania"},{"$f":"IF(COUNTRY_INFO!B164=0,\" \",COUNTRY_INFO!B164)","v":"Singida"},{"$f":"IF(COUNTRY_INFO!C164=0,\" \",COUNTRY_INFO!C164)","v":"Iramba District Council"},{"$f":"IF(OR(COUNTRY_INFO!$T$9:$T$1000=\"T3 (ALB/MBD)\",COUNTRY_INFO!$U$9:$U$1000=\"T3 (ALB/MBD)\"), \"T3 (ALB/MBD)\", \" \")","v":"T3 (ALB/MBD)"},"ALB","March 2020",null,67252,null,67252,null,66062,null,66062," ",98.230535894843271," ",98.230535894843271]
[{"$f":"IF(COUNTRY_INFO!A165=0,\" \",COUNTRY_INFO!A165)","v":"Tanzania"},{"$f":"IF(COUNTRY_INFO!B165=0,\" \",COUNTRY_INFO!B165)","v":"Singida"},{"$f":"IF(COUNTRY_INFO!C165=0,\" \",COUNTRY_INFO!C165)","v":"Itigi District Council"},{"$f":"IF(OR(COUNTRY_INFO!$T$9:$T$1000=\"T3 (ALB/MBD)\",COUNTRY_INFO!$U$9:$U$1000=\"T3 (ALB/MBD)\"), \"T3 (ALB/MBD)\", \" \")","v":"T3 (ALB/MBD)"},"ALB","September 2020",null,39272,null,39272,null,36887,null,36887," ",93.926970869830924," ",93.926970869830924]
[{"$f":"IF(COUNTRY_INFO!A166=0,\" \",COUNTRY_INFO!A166)","v":"Tanzania"},{"$f":"IF(COUNTRY_INFO!B166=0,\" \",COUNTRY_INFO!B166)","v":"Singida"},{"$f":"IF(COUNTRY_INFO!C166=0,\" \",COUNTRY_INFO!C166)","v":"Manyoni District Council"},{"$f":"IF(OR(COUNTRY_INFO!$T$9:$T$1000=\"T3 (ALB/MBD)\",COUNTRY_INFO!$U$9:$U$1000=\"T3 (ALB/MBD)\"), \"T3 (ALB/MBD)\", \" \")","v":"T3 (ALB/MBD)"},"ALB","September 2020",null,49408,null,49408,null,48242,null,48242," ",97.640058290155437," ",97.640058290155437]
[{"$f":"IF(COUNTRY_INFO!A167=0,\" \",COUNTRY_INFO!A167)","v":"Tanzania"},{"$f":"IF(COUNTRY_INFO!B167=0,\" \",COUNTRY_INFO!B167)","v":"Singida"},{"$f":"IF(COUNTRY_INFO!C167=0,\" \",COUNTRY_INFO!C167)","v":"Mkalama District Council"},{"$f":"IF(OR(COUNTRY_INFO!$T$9:$T$1000=\"T3 (ALB/MBD)\",COUNTRY_INFO!$U$9:$U$1000=\"T3 (ALB/MBD)\"), \"T3 (ALB/MBD)\", \" \")","v":"T3 (ALB/MBD)"},"ALB","September 2020",null,59870,null,59870,null,58520,null,58520," ",97.745114414564895," ",97.745114414564895]
[{"$f":"IF(COUNTRY_INFO!A168=0,\" \",COUNTRY_INFO!A168)","v":"Tanzania"},{"$f":"IF(COUNTRY_INFO!B168=0,\" \",COUNTRY_INFO!B168)","v":"Singida"},{"$f":"IF(COUNTRY_INFO!C168=0,\" \",COUNTRY_INFO!C168)","v":"Singida District Council"},{"$f":"IF(OR(COUNTRY_INFO!$T$9:$T$1000=\"T3 (ALB/MBD)\",COUNTRY_INFO!$U$9:$U$1000=\"T3 (ALB/MBD)\"), \"T3 (ALB/MBD)\", \" \")","v":"T3 (ALB/MBD)"},"ALB","September 2020",null,76601,null,76601,null,75465,null,75465," ",98.516990639808881," ",98.516990639808881]
[{"$f":"IF(COUNTRY_INFO!A169=0,\" \",COUNTRY_INFO!A169)","v":"Tanzania"},{"$f":"IF(COUNTRY_INFO!B169=0,\" \",COUNTRY_INFO!B169)","v":"Singida"},{"$f":"IF(COUNTRY_INFO!C169=0,\" \",COUNTRY_INFO!C169)","v":"Singida Municipal Council"},{"$f":"IF(OR(COUNTRY_INFO!$T$9:$T$1000=\"T3 (ALB/MBD)\",COUNTRY_INFO!$U$9:$U$1000=\"T3 (ALB/MBD)\"), \"T3 (ALB/MBD)\", \" \")","v":"T3 (ALB/MBD)"},"ALB","September 2020",null,49900,null,49900,null,48414,null,48414," ",97.022044088176358," ",97.022044088176358]
[{"$f":"IF(COUNTRY_INFO!A170=0,\" \",COUNTRY_INFO!A170)","v":"Tanzania"},{"$f":"IF(COUNTRY_INFO!B170=0,\" \",COUNTRY_INFO!B170)","v":"Songwe"},{"$f":"IF(COUNTRY_INFO!C170=0,\" \",COUNTRY_INFO!C170)","v":"Ileje District Council"},{"$f":"IF(OR(COUNTRY_INFO!$T$9:$T$1000=\"T3 (ALB/MBD)\",COUNTRY_INFO!$U$9:$U$1000=\"T3 (ALB/MBD)\"), \"T3 (ALB/MBD)\", \" \")","v":" "},null,null,null,null,null,0,null,null,null,0," "," "," "," "]
[{"$f":"IF(COUNTRY_INFO!A171=0,\" \",COUNTRY_INFO!A171)","v":"Tanzania"},{"$f":"IF(COUNTRY_INFO!B171=0,\" \",COUNTRY_INFO!B171)","v":"Songwe"},{"$f":"IF(COUNTRY_INFO!C171=0,\" \",COUNTRY_INFO!C171)","v":"Mbozi District Council"},{"$f":"IF(OR(COUNTRY_INFO!$T$9:$T$1000=\"T3 (ALB/MBD)\",COUNTRY_INFO!$U$9:$U$1000=\"T3 (ALB/MBD)\"), \"T3 (ALB/MBD)\", \" \")","v":" "},null,null,null,null,null,0,null,null,null,0," "," "," "," "]
[{"$f":"IF(COUNTRY_INFO!A172=0,\" \",COUNTRY_INFO!A172)","v":"Tanzania"},{"$f":"IF(COUNTRY_INFO!B172=0,\" \",COUNTRY_INFO!B172)","v":"Songwe"},{"$f":"IF(COUNTRY_INFO!C172=0,\" \",COUNTRY_INFO!C172)","v":"Momba District Council"},{"$f":"IF(OR(COUNTRY_INFO!$T$9:$T$1000=\"T3 (ALB/MBD)\",COUNTRY_INFO!$U$9:$U$1000=\"T3 (ALB/MBD)\"), \"T3 (ALB/MBD)\", \" \")","v":" "},null,null,null,null,null,0,null,null,null,0," "," "," "," "]
[{"$f":"IF(COUNTRY_INFO!A173=0,\" \",COUNTRY_INFO!A173)","v":"Tanzania"},{"$f":"IF(COUNTRY_INFO!B173=0,\" \",COUNTRY_INFO!B173)","v":"Songwe"},{"$f":"IF(COUNTRY_INFO!C173=0,\" \",COUNTRY_INFO!C173)","v":"Songwe District Council"},{"$f":"IF(OR(COUNTRY_INFO!$T$9:$T$1000=\"T3 (ALB/MBD)\",COUNTRY_INFO!$U$9:$U$1000=\"T3 (ALB/MBD)\"), \"T3 (ALB/MBD)\", \" \")","v":" "},null,null,null,null,null,0,null,null,null,0," "," "," "," "]
[{"$f":"IF(COUNTRY_INFO!A174=0,\" \",COUNTRY_INFO!A174)","v":"Tanzania"},{"$f":"IF(COUNTRY_INFO!B174=0,\" \",COUNTRY_INFO!B174)","v":"Songwe"},{"$f":"IF(COUNTRY_INFO!C174=0,\" \",COUNTRY_INFO!C174)","v":"Tunduma Town Council"},{"$f":"IF(OR(COUNTRY_INFO!$T$9:$T$1000=\"T3 (ALB/MBD)\",COUNTRY_INFO!$U$9:$U$1000=\"T3 (ALB/MBD)\"), \"T3 (ALB/MBD)\", \" \")","v":" "},null,null,null,null,null,0,null,null,null,0," "," "," "," "]
[{"$f":"IF(COUNTRY_INFO!A175=0,\" \",COUNTRY_INFO!A175)","v":"Tanzania"},{"$f":"IF(COUNTRY_INFO!B175=0,\" \",COUNTRY_INFO!B175)","v":"Tabora"},{"$f":"IF(COUNTRY_INFO!C175=0,\" \",COUNTRY_INFO!C175)","v":"Igunga District Council"},{"$f":"IF(OR(COUNTRY_INFO!$T$9:$T$1000=\"T3 (ALB/MBD)\",COUNTRY_INFO!$U$9:$U$1000=\"T3 (ALB/MBD)\"), \"T3 (ALB/MBD)\", \" \")","v":"T3 (ALB/MBD)"},"ALB","March 2020",null,99821,null,99821,null,84117,null,84117," ",84.267839432584324," ",84.267839432584324]
[{"$f":"IF(COUNTRY_INFO!A176=0,\" \",COUNTRY_INFO!A176)","v":"Tanzania"},{"$f":"IF(COUNTRY_INFO!B176=0,\" \",COUNTRY_INFO!B176)","v":"Tabora"},{"$f":"IF(COUNTRY_INFO!C176=0,\" \",COUNTRY_INFO!C176)","v":"Kaliua District Council"},{"$f":"IF(OR(COUNTRY_INFO!$T$9:$T$1000=\"T3 (ALB/MBD)\",COUNTRY_INFO!$U$9:$U$1000=\"T3 (ALB/MBD)\"), \"T3 (ALB/MBD)\", \" \")","v":" "},null,null,null,null,null,0,null,null,null,0," "," "," "," "]
[{"$f":"IF(COUNTRY_INFO!A177=0,\" \",COUNTRY_INFO!A177)","v":"Tanzania"},{"$f":"IF(COUNTRY_INFO!B177=0,\" \",COUNTRY_INFO!B177)","v":"Tabora"},{"$f":"IF(COUNTRY_INFO!C177=0,\" \",COUNTRY_INFO!C177)","v":"Nzega District Council"},{"$f":"IF(OR(COUNTRY_INFO!$T$9:$T$1000=\"T3 (ALB/MBD)\",COUNTRY_INFO!$U$9:$U$1000=\"T3 (ALB/MBD)\"), \"T3 (ALB/MBD)\", \" \")","v":"T3 (ALB/MBD)"},"ALB","September 2020",null,127286,null,127286,null,127166,null,127166," ",99.905724117342061," ",99.905724117342061]
[{"$f":"IF(COUNTRY_INFO!A178=0,\" \",COUNTRY_INFO!A178)","v":"Tanzania"},{"$f":"IF(COUNTRY_INFO!B178=0,\" \",COUNTRY_INFO!B178)","v":"Tabora"},{"$f":"IF(COUNTRY_INFO!C178=0,\" \",COUNTRY_INFO!C178)","v":"Nzega Town Council"},{"$f":"IF(OR(COUNTRY_INFO!$T$9:$T$1000=\"T3 (ALB/MBD)\",COUNTRY_INFO!$U$9:$U$1000=\"T3 (ALB/MBD)\"), \"T3 (ALB/MBD)\", \" \")","v":"T3 (ALB/MBD)"},"ALB","March 2020",null,27178,null,27178,null,27176,null,27176," ",99.99264110677754," ",99.99264110677754]
[{"$f":"IF(COUNTRY_INFO!A179=0,\" \",COUNTRY_INFO!A179)","v":"Tanzania"},{"$f":"IF(COUNTRY_INFO!B179=0,\" \",COUNTRY_INFO!B179)","v":"Tabora"},{"$f":"IF(COUNTRY_INFO!C179=0,\" \",COUNTRY_INFO!C179)","v":"Sikonge District Council"},{"$f":"IF(OR(COUNTRY_INFO!$T$9:$T$1000=\"T3 (ALB/MBD)\",COUNTRY_INFO!$U$9:$U$1000=\"T3 (ALB/MBD)\"), \"T3 (ALB/MBD)\", \" \")","v":"T3 (ALB/MBD)"},"ALB","March 2020",null,54642,null,54642,null,51940,null,51940," ",95.055085831411731," ",95.055085831411731]
[{"$f":"IF(COUNTRY_INFO!A180=0,\" \",COUNTRY_INFO!A180)","v":"Tanzania"},{"$f":"IF(COUNTRY_INFO!B180=0,\" \",COUNTRY_INFO!B180)","v":"Tabora"},{"$f":"IF(COUNTRY_INFO!C180=0,\" \",COUNTRY_INFO!C180)","v":"Tabora Municipal Council"},{"$f":"IF(OR(COUNTRY_INFO!$T$9:$T$1000=\"T3 (ALB/MBD)\",COUNTRY_INFO!$U$9:$U$1000=\"T3 (ALB/MBD)\"), \"T3 (ALB/MBD)\", \" \")","v":" "},null,null,null,null,null,0,null,null,null,0," "," "," "," "]
[{"$f":"IF(COUNTRY_INFO!A181=0,\" \",COUNTRY_INFO!A181)","v":"Tanzania"},{"$f":"IF(COUNTRY_INFO!B181=0,\" \",COUNTRY_INFO!B181)","v":"Tabora"},{"$f":"IF(COUNTRY_INFO!C181=0,\" \",COUNTRY_INFO!C181)","v":"Urambo District Council"},{"$f":"IF(OR(COUNTRY_INFO!$T$9:$T$1000=\"T3 (ALB/MBD)\",COUNTRY_INFO!$U$9:$U$1000=\"T3 (ALB/MBD)\"), \"T3 (ALB/MBD)\", \" \")","v":" "},null,null,null,null,null,0,null,null,null,0," "," "," "," "]
[{"$f":"IF(COUNTRY_INFO!A182=0,\" \",COUNTRY_INFO!A182)","v":"Tanzania"},{"$f":"IF(COUNTRY_INFO!B182=0,\" \",COUNTRY_INFO!B182)","v":"Tabora"},{"$f":"IF(COUNTRY_INFO!C182=0,\" \",COUNTRY_INFO!C182)","v":"Uyui District Council"},{"$f":"IF(OR(COUNTRY_INFO!$T$9:$T$1000=\"T3 (ALB/MBD)\",COUNTRY_INFO!$U$9:$U$1000=\"T3 (ALB/MBD)\"), \"T3 (ALB/MBD)\", \" \")","v":" "},null,null,null,null,null,0,null,null,null,0," "," "," "," "]
[{"$f":"IF(COUNTRY_INFO!A183=0,\" \",COUNTRY_INFO!A183)","v":"Tanzania"},{"$f":"IF(COUNTRY_INFO!B183=0,\" \",COUNTRY_INFO!B183)","v":"Tanga"},{"$f":"IF(COUNTRY_INFO!C183=0,\" \",COUNTRY_INFO!C183)","v":"Bumbuli District Council"},{"$f":"IF(OR(COUNTRY_INFO!$T$9:$T$1000=\"T3 (ALB/MBD)\",COUNTRY_INFO!$U$9:$U$1000=\"T3 (ALB/MBD)\"), \"T3 (ALB/MBD)\", \" \")","v":" "},null,null,null,null,null,0,null,null,null,0," "," "," "," "]
[{"$f":"IF(COUNTRY_INFO!A184=0,\" \",COUNTRY_INFO!A184)","v":"Tanzania"},{"$f":"IF(COUNTRY_INFO!B184=0,\" \",COUNTRY_INFO!B184)","v":"Tanga"},{"$f":"IF(COUNTRY_INFO!C184=0,\" \",COUNTRY_INFO!C184)","v":"Handeni District Council"},{"$f":"IF(OR(COUNTRY_INFO!$T$9:$T$1000=\"T3 (ALB/MBD)\",COUNTRY_INFO!$U$9:$U$1000=\"T3 (ALB/MBD)\"), \"T3 (ALB/MBD)\", \" \")","v":" "},null,null,null,null,null,0,null,null,null,0," "," "," "," "]
[{"$f":"IF(COUNTRY_INFO!A185=0,\" \",COUNTRY_INFO!A185)","v":"Tanzania"},{"$f":"IF(COUNTRY_INFO!B185=0,\" \",COUNTRY_INFO!B185)","v":"Tanga"},{"$f":"IF(COUNTRY_INFO!C185=0,\" \",COUNTRY_INFO!C185)","v":"Handeni Town Council"},{"$f":"IF(OR(COUNTRY_INFO!$T$9:$T$1000=\"T3 (ALB/MBD)\",COUNTRY_INFO!$U$9:$U$1000=\"T3 (ALB/MBD)\"), \"T3 (ALB/MBD)\", \" \")","v":" "},null,null,null,null,null,0,null,null,null,0," "," "," "," "]
[{"$f":"IF(COUNTRY_INFO!A186=0,\" \",COUNTRY_INFO!A186)","v":"Tanzania"},{"$f":"IF(COUNTRY_INFO!B186=0,\" \",COUNTRY_INFO!B186)","v":"Tanga"},{"$f":"IF(COUNTRY_INFO!C186=0,\" \",COUNTRY_INFO!C186)","v":"Kilindi District Council"},{"$f":"IF(OR(COUNTRY_INFO!$T$9:$T$1000=\"T3 (ALB/MBD)\",COUNTRY_INFO!$U$9:$U$1000=\"T3 (ALB/MBD)\"), \"T3 (ALB/MBD)\", \" \")","v":" "},null,null,null,null,null,0,null,null,null,0," "," "," "," "]
[{"$f":"IF(COUNTRY_INFO!A187=0,\" \",COUNTRY_INFO!A187)","v":"Tanzania"},{"$f":"IF(COUNTRY_INFO!B187=0,\" \",COUNTRY_INFO!B187)","v":"Tanga"},{"$f":"IF(COUNTRY_INFO!C187=0,\" \",COUNTRY_INFO!C187)","v":"Korogwe District Council"},{"$f":"IF(OR(COUNTRY_INFO!$T$9:$T$1000=\"T3 (ALB/MBD)\",COUNTRY_INFO!$U$9:$U$1000=\"T3 (ALB/MBD)\"), \"T3 (ALB/MBD)\", \" \")","v":" "},null,null,null,null,null,0,null,null,null,0," "," "," "," "]
[{"$f":"IF(COUNTRY_INFO!A188=0,\" \",COUNTRY_INFO!A188)","v":"Tanzania"},{"$f":"IF(COUNTRY_INFO!B188=0,\" \",COUNTRY_INFO!B188)","v":"Tanga"},{"$f":"IF(COUNTRY_INFO!C188=0,\" \",COUNTRY_INFO!C188)","v":"Korogwe Town Council"},{"$f":"IF(OR(COUNTRY_INFO!$T$9:$T$1000=\"T3 (ALB/MBD)\",COUNTRY_INFO!$U$9:$U$1000=\"T3 (ALB/MBD)\"), \"T3 (ALB/MBD)\", \" \")","v":" "},null,null,null,null,null,0,null,null,null,0," "," "," "," "]
[{"$f":"IF(COUNTRY_INFO!A189=0,\" \",COUNTRY_INFO!A189)","v":"Tanzania"},{"$f":"IF(COUNTRY_INFO!B189=0,\" \",COUNTRY_INFO!B189)","v":"Tanga"},{"$f":"IF(COUNTRY_INFO!C189=0,\" \",COUNTRY_INFO!C189)","v":"Lushoto District Council"},{"$f":"IF(OR(COUNTRY_INFO!$T$9:$T$1000=\"T3 (ALB/MBD)\",COUNTRY_INFO!$U$9:$U$1000=\"T3 (ALB/MBD)\"), \"T3 (ALB/MBD)\", \" \")","v":" "},null,null,null,null,null,0,null,null,null,0," "," "," "," "]
[{"$f":"IF(COUNTRY_INFO!A190=0,\" \",COUNTRY_INFO!A190)","v":"Tanzania"},{"$f":"IF(COUNTRY_INFO!B190=0,\" \",COUNTRY_INFO!B190)","v":"Tanga"},{"$f":"IF(COUNTRY_INFO!C190=0,\" \",COUNTRY_INFO!C190)","v":"Mkinga District Council"},{"$f":"IF(OR(COUNTRY_INFO!$T$9:$T$1000=\"T3 (ALB/MBD)\",COUNTRY_INFO!$U$9:$U$1000=\"T3 (ALB/MBD)\"), \"T3 (ALB/MBD)\", \" \")","v":" "},null,null,null,null,null,0,null,null,null,0," "," "," "," "]
[{"$f":"IF(COUNTRY_INFO!A191=0,\" \",COUNTRY_INFO!A191)","v":"Tanzania"},{"$f":"IF(COUNTRY_INFO!B191=0,\" \",COUNTRY_INFO!B191)","v":"Tanga"},{"$f":"IF(COUNTRY_INFO!C191=0,\" \",COUNTRY_INFO!C191)","v":"Muheza District Council"},{"$f":"IF(OR(COUNTRY_INFO!$T$9:$T$1000=\"T3 (ALB/MBD)\",COUNTRY_INFO!$U$9:$U$1000=\"T3 (ALB/MBD)\"), \"T3 (ALB/MBD)\", \" \")","v":" "},null,null,null,null,null,0,null,null,null,0," "," "," "," "]
[{"$f":"IF(COUNTRY_INFO!A192=0,\" \",COUNTRY_INFO!A192)","v":"Tanzania"},{"$f":"IF(COUNTRY_INFO!B192=0,\" \",COUNTRY_INFO!B192)","v":"Tanga"},{"$f":"IF(COUNTRY_INFO!C192=0,\" \",COUNTRY_INFO!C192)","v":"Pangani District Council"},{"$f":"IF(OR(COUNTRY_INFO!$T$9:$T$1000=\"T3 (ALB/MBD)\",COUNTRY_INFO!$U$9:$U$1000=\"T3 (ALB/MBD)\"), \"T3 (ALB/MBD)\", \" \")","v":" "},null,null,null,null,null,0,null,null,null,0," "," "," "," "]
[{"$f":"IF(COUNTRY_INFO!A193=0,\" \",COUNTRY_INFO!A193)","v":"Tanzania"},{"$f":"IF(COUNTRY_INFO!B193=0,\" \",COUNTRY_INFO!B193)","v":"Tanga"},{"$f":"IF(COUNTRY_INFO!C193=0,\" \",COUNTRY_INFO!C193)","v":"Tanga City Council"},{"$f":"IF(OR(COUNTRY_INFO!$T$9:$T$1000=\"T3 (ALB/MBD)\",COUNTRY_INFO!$U$9:$U$1000=\"T3 (ALB/MBD)\"), \"T3 (ALB/MBD)\", \" \")","v":" "},null,null,null,null,null,0,null,null,null,0," "," "," "," "]

{"sheet":"T3_R2","index":8,"n_rows":193,"n_cols":18,"rows_kept":193,"cut":false,"hidden":false,"merged":[[5,6,5,9],[5,10,5,13],[5,14,5,17],[3,0,3,2],[5,0,5,2],[5,3,6,3],[5,5,6,5],[5,4,6,4]]}
["T 3 - Albendazole (ALB) or Mebendazole (MBD) - Round 2"]
["Administrative structure, population requiring PC by age group, population treated by age group and coverage"]
[]
["TOTAL",null,null,null,null,null,{"$f":"SUM(G$9:G$1000)","v":0},0,0,0,0,0,0,0,{"$f":"IF(G4<>0, IF(K4/G4*100=0, \"-\", K4/G4*100), \" \")","v":" "},{"$f":"IF(H4<>0, IF(L4/H4*100=0, \"-\", L4/H4*100), \" \")","v":" "},{"$f":"IF(I4<>0, IF(M4/I4*100=0, \"-\", M4/I4*100), \" \")","v":" "},{"$f":"IF(J4<>0, IF(N4/J4*100=0, \"-\", N4/J4*100), \" \")","v":" "}]
[]
[null,null,null,"PC implemented","Medicine","Date","Population targeted for T3",null,null,null,"Population treated",null,null,null,"Programme coverage (%)"]
["Country","Province/State","District",null,null,null,"PreSAC","SAC","Adults","Total","PreSAC","SAC","Adults","Total","PreSAC","SAC","Adults","Total"]
[]
[{"$f":"IF(COUNTRY_INFO!A9=0,\" \",COUNTRY_INFO!A9)","v":"Tanzania"},{"$f":"IF(COUNTRY_INFO!B9=0,\" \",COUNTRY_INFO!B9)","v":"Arusha"},{"$f":"IF(COUNTRY_INFO!C9=0,\" \",COUNTRY_INFO!C9)","v":"Arusha City Council"},{"$f":"IF(AND(COUNTRY_INFO!$T$9:$T$1000=\"T3 (ALB/MBD)\",COUNTRY_INFO!$U$9:$U$1000=\"T3 (ALB/MBD)\"), \"T3 (ALB/MBD)\", \" \")","v":" "},null,null,null,null,null,{"$f":"SUM(G9:I9)","v":0},null,null,null,{"$f":"SUM(K9:M9)","v":0},{"$f":"IF(G9<>0, IF(K9/G9*100=0, \"-\", K9/G9*100), \" \")","v":" "}," "," "," "]
[{"$f":"IF(COUNTRY_INFO!A10=0,\" \",COUNTRY_INFO!A10)","v":"Tanzania"},{"$f":"IF(COUNTRY_INFO!B10=0,\" \",COUNTRY_INFO!B10)","v":"Arusha"},{"$f":"IF(COUNTRY_INFO!C10=0,\" \",COUNTRY_INFO!C10)","v":"Arusha District Council"},{"$f":"IF(AND(COUNTRY_INFO!$T$9:$T$1000=\"T3 (ALB/MBD)\",COUNTRY_INFO!$U$9:$U$1000=\"T3 (ALB/MBD)\"), \"T3 (ALB/MBD)\", \" \")","v":" "},null,null,null,null,null,{"$f":"SUM(G10:I10)","v":0},null,null,null,{"$f":"SUM(K10:M10)","v":0},{"$f":"IF(G10<>0, IF(K10/G10*100=0, \"-\", K10/G10*100), \" \")","v":" "},{"$f":"IF(H10<>0, IF(L10/H10*100=0, \"-\", L10/H10*100), \" \")","v":" "},{"$f":"IF(I10<>0, IF(M10/I10*100=0, \"-\", M10/I10*100), \" \")","v":" "},{"$f":"IF(J10<>0, IF(N10/J10*100=0, \"-\", N10/J10*100), \" \")","v":" "}]
[{"$f":"IF(COUNTRY_INFO!A11=0,\" \",COUNTRY_INFO!A11)","v":"Tanzania"},{"$f":"IF(COUNTRY_INFO!B11=0,\" \",COUNTRY_INFO!B11)","v":"Arusha"},{"$f":"IF(COUNTRY_INFO!C11=0,\" \",COUNTRY_INFO!C11)","v":"Karatu District Council"},{"$f":"IF(AND(COUNTRY_INFO!$T$9:$T$1000=\"T3 (ALB/MBD)\",COUNTRY_INFO!$U$9:$U$1000=\"T3 (ALB/MBD)\"), \"T3 (ALB/MBD)\", \" \")","v":" "},null,null,null,null,null,0,null,null,null,0," "," "," "," "]
[{"$f":"IF(COUNTRY_INFO!A12=0,\" \",COUNTRY_INFO!A12)","v":"Tanzania"},{"$f":"IF(COUNTRY_INFO!B12=0,\" \",COUNTRY_INFO!B12)","v":"Arusha"},{"$f":"IF(COUNTRY_INFO!C12=0,\" \",COUNTRY_INFO!C12)","v":"Longido District Council"},{"$f":"IF(AND(COUNTRY_INFO!$T$9:$T$1000=\"T3 (ALB/MBD)\",COUNTRY_INFO!$U$9:$U$1000=\"T3 (ALB/MBD)\"), \"T3 (ALB/MBD)\", \" \")","v":" "},null,null,null,null,null,0,null,null,null,0," "," "," "," "]
[{"$f":"IF(COUNTRY_INFO!A13=0,\" \",COUNTRY_INFO!A13)","v":"Tanzania"},{"$f":"IF(COUNTRY_INFO!B13=0,\" \",COUNTRY_INFO!B13)","v":"Arusha"},{"$f":"IF(COUNTRY_INFO!C13=0,\" \",COUNTRY_INFO!C13)","v":"Meru District Council"},{"$f":"IF(AND(COUNTRY_INFO!$T$9:$T$1000=\"T3 (ALB/MBD)\",COUNTRY_INFO!$U$9:$U$1000=\"T3 (ALB/MBD)\"), \"T3 (ALB/MBD)\", \" \")","v":" "},null,null,null,null,null,0,null,null,null,0," "," "," "," "]
[{"$f":"IF(COUNTRY_INFO!A14=0,\" \",COUNTRY_INFO!A14)","v":"Tanzania"},{"$f":"IF(COUNTRY_INFO!B14=0,\" \",COUNTRY_INFO!B14)","v":"Arusha"},{"$f":"IF(COUNTRY_INFO!C14=0,\" \",COUNTRY_INFO!C14)","v":"Monduli District Council"},{"$f":"IF(AND(COUNTRY_INFO!$T$9:$T$1000=\"T3 (ALB/MBD)\",COUNTRY_INFO!$U$9:$U$1000=\"T3 (ALB/MBD)\"), \"T3 (ALB/MBD)\", \" \")","v":" "},null,null,null,null,null,0,null,null,null,0," "," "," "," "]
[{"$f":"IF(COUNTRY_INFO!A15=0,\" \",COUNTRY_INFO!A15)","v":"Tanzania"},{"$f":"IF(COUNTRY_INFO!B15=0,\" \",COUNTRY_INFO!B15)","v":"Arusha"},{"$f":"IF(COUNTRY_INFO!C15=0,\" \",COUNTRY_INFO!C15)","v":"Ngorongoro District Council"},{"$f":"IF(AND(COUNTRY_INFO!$T$9:$T$1000=\"T3 (ALB/MBD)\",COUNTRY_INFO!$U$9:$U$1000=\"T3 (ALB/MBD)\"), \"T3 (ALB/MBD)\", \" \")","v":" "},null,null,null,null,null,0,null,null,null,0," "," "," "," "]
[{"$f":"IF(COUNTRY_INFO!A16=0,\" \",COUNTRY_INFO!A16)","v":"Tanzania"},{"$f":"IF(COUNTRY_INFO!B16=0,\" \",COUNTRY_INFO!B16)","v":"Dar Es Salaam"},{"$f":"IF(COUNTRY_INFO!C16=0,\" \",COUNTRY_INFO!C16)","v":"Dar es Salaam City Council "},{"$f":"IF(AND(COUNTRY_INFO!$T$9:$T$1000=\"T3 (ALB/MBD)\",COUNTRY_INFO!$U$9:$U$1000=\"T3 (ALB/MBD)\"), \"T3 (ALB/MBD)\", \" \")","v":" "},null,null,null,null,null,0,null,null,null,0," "," "," "," "]
[{"$f":"IF(COUNTRY_INFO!A17=0,\" \",COUNTRY_INFO!A17)","v":"Tanzania"},{"$f":"IF(COUNTRY_INFO!B17=0,\" \",COUNTRY_INFO!B17)","v":"Dar Es Salaam"},{"$f":"IF(COUNTRY_INFO!C17=0,\" \",COUNTRY_INFO!C17)","v":"Ilala Municipal Council"},{"$f":"IF(AND(COUNTRY_INFO!$T$9:$T$1000=\"T3 (ALB/MBD)\",COUNTRY_INFO!$U$9:$U$1000=\"T3 (ALB/MBD)\"), \"T3 (ALB/MBD)\", \" \")","v":" "},null,null,null,null,null,0,null,null,null,0," "," "," "," "]
[{"$f":"IF(COUNTRY_INFO!A18=0,\" \",COUNTRY_INFO!A18)","v":"Tanzania"},{"$f":"IF(COUNTRY_INFO!B18=0,\" \",COUNTRY_INFO!B18)","v":"Dar Es Salaam"},{"$f":"IF(COUNTRY_INFO!C18=0,\" \",COUNTRY_INFO!C18)","v":"Kigamboni Municipal Council"},{"$f":"IF(AND(COUNTRY_INFO!$T$9:$T$1000=\"T3 (ALB/MBD)\",COUNTRY_INFO!$U$9:$U$1000=\"T3 (ALB/MBD)\"), \"T3 (ALB/MBD)\", \" \")","v":" "},null,null,null,null,null,0,null,null,null,0," "," "," "," "]
[{"$f":"IF(COUNTRY_INFO!A19=0,\" \",COUNTRY_INFO!A19)","v":"Tanzania"},{"$f":"IF(COUNTRY_INFO!B19=0,\" \",COUNTRY_INFO!B19)","v":"Dar Es Salaam"},{"$f":"IF(COUNTRY_INFO!C19=0,\" \",COUNTRY_INFO!C19)","v":"Kinondoni Municipal Council"},{"$f":"IF(AND(COUNTRY_INFO!$T$9:$T$1000=\"T3 (ALB/MBD)\",COUNTRY_INFO!$U$9:$U$1000=\"T3 (ALB/MBD)\"), \"T3 (ALB/MBD)\", \" \")","v":" "},null,null,null,null,null,0,null,null,null,0," "," "," "," "]
[{"$f":"IF(COUNTRY_INFO!A20=0,\" \",COUNTRY_INFO!A20)","v":"Tanzania"},{"$f":"IF(COUNTRY_INFO!B20=0,\" \",COUNTRY_INFO!B20)","v":"Dar Es Salaam"},{"$f":"IF(COUNTRY_INFO!C20=0,\" \",COUNTRY_INFO!C20)","v":"Temeke Municipal Council"},{"$f":"IF(AND(COUNTRY_INFO!$T$9:$T$1000=\"T3 (ALB/MBD)\",COUNTRY_INFO!$U$9:$U$1000=\"T3 (ALB/MBD)\"), \"T3 (ALB/MBD)\", \" \")","v":" "},null,null,null,null,null,0,null,null,null,0," "," "," "," "]
[{"$f":"IF(COUNTRY_INFO!A21=0,\" \",COUNTRY_INFO!A21)","v":"Tanzania"},{"$f":"IF(COUNTRY_INFO!B21=0,\" \",COUNTRY_INFO!B21)","v":"Dar Es Salaam"},{"$f":"IF(COUNTRY_INFO!C21=0,\" \",COUNTRY_INFO!C21)","v":"Ubungo Municipal Council"},{"$f":"IF(AND(COUNTRY_INFO!$T$9:$T$1000=\"T3 (ALB/MBD)\",COUNTRY_INFO!$U$9:$U$1000=\"T3 (ALB/MBD)\"), \"T3 (ALB/MBD)\", \" \")","v":" "},null,null,null,null,null,0,null,null,null,0," "," "," "," "]
[{"$f":"IF(COUNTRY_INFO!A22=0,\" \",COUNTRY_INFO!A22)","v":"Tanzania"},{"$f":"IF(COUNTRY_INFO!B22=0,\" \",COUNTRY_INFO!B22)","v":"Dodoma"},{"$f":"IF(COUNTRY_INFO!C22=0,\" \",COUNTRY_INFO!C22)","v":"Bahi District Council"},{"$f":"IF(AND(COUNTRY_INFO!$T$9:$T$1000=\"T3 (ALB/MBD)\",COUNTRY_INFO!$U$9:$U$1000=\"T3 (ALB/MBD)\"), \"T3 (ALB/MBD)\", \" \")","v":" "},null,null,null,null,null,0,null,null,null,0," "," "," "," "]
[{"$f":"IF(COUNTRY_INFO!A23=0,\" \",COUNTRY_INFO!A23)","v":"Tanzania"},{"$f":"IF(COUNTRY_INFO!B23=0,\" \",COUNTRY_INFO!B23)","v":"Dodoma"},{"$f":"IF(COUNTRY_INFO!C23=0,\" \",COUNTRY_INFO!C23)","v":"Chamwino District Council"},{"$f":"IF(AND(COUNTRY_INFO!$T$9:$T$1000=\"T3 (ALB/MBD)\",COUNTRY_INFO!$U$9:$U$1000=\"T3 (ALB/MBD)\"), \"T3 (ALB/MBD)\", \" \")","v":" "},null,null,null,null,null,0,null,null,null,0," "," "," "," "]
[{"$f":"IF(COUNTRY_INFO!A24=0,\" \",COUNTRY_INFO!A24)","v":"Tanzania"},{"$f":"IF(COUNTRY_INFO!B24=0,\" \",COUNTRY_INFO!B24)","v":"Dodoma"},{"$f":"IF(COUNTRY_INFO!C24=0,\" \",COUNTRY_INFO!C24)","v":"Chemba District Council"},{"$f":"IF(AND(COUNTRY_INFO!$T$9:$T$1000=\"T3 (ALB/MBD)\",COUNTRY_INFO!$U$9:$U$1000=\"T3 (ALB/MBD)\"), \"T3 (ALB/MBD)\", \" \")","v":" "},null,null,null,null,null,0,null,null,null,0," "," "," "," "]
[{"$f":"IF(COUNTRY_INFO!A25=0,\" \",COUNTRY_INFO!A25)","v":"Tanzania"},{"$f":"IF(COUNTRY_INFO!B25=0,\" \",COUNTRY_INFO!B25)","v":"Dodoma"},{"$f":"IF(COUNTRY_INFO!C25=0,\" \",COUNTRY_INFO!C25)","v":"Dodoma City Council"},{"$f":"IF(AND(COUNTRY_INFO!$T$9:$T$1000=\"T3 (ALB/MBD)\",COUNTRY_INFO!$U$9:$U$1000=\"T3 (ALB/MBD)\"), \"T3 (ALB/MBD)\", \" \")","v":" "},null,null,null,null,null,0,null,null,null,0," "," "," "," "]
[{"$f":"IF(COUNTRY_INFO!A26=0,\" \",COUNTRY_INFO!A26)","v":"Tanzania"},{"$f":"IF(COUNTRY_INFO!B26=0,\" \",COUNTRY_INFO!B26)","v":"Dodoma"},{"$f":"IF(COUNTRY_INFO!C26=0,\" \",COUNTRY_INFO!C26)","v":"Kondoa District Council"},{"$f":"IF(AND(COUNTRY_INFO!$T$9:$T$1000=\"T3 (ALB/MBD)\",COUNTRY_INFO!$U$9:$U$1000=\"T3 (ALB/MBD)\"), \"T3 (ALB/MBD)\", \" \")","v":" "},null,null,null,null,null,0,null,null,null,0," "," "," "," "]
[{"$f":"IF(COUNTRY_INFO!A27=0,\" \",COUNTRY_INFO!A27)","v":"Tanzania"},{"$f":"IF(COUNTRY_INFO!B27=0,\" \",COUNTRY_INFO!B27)","v":"Dodoma"},{"$f":"IF(COUNTRY_INFO!C27=0,\" \",COUNTRY_INFO!C27)","v":"Kondoa Town Council "},{"$f":"IF(AND(COUNTRY_INFO!$T$9:$T$1000=\"T3 (ALB/MBD)\",COUNTRY_INFO!$U$9:$U$1000=\"T3 (ALB/MBD)\"), \"T3 (ALB/MBD)\", \" \")","v":" "},null,null,null,null,null,0,null,null,null,0," "," "," "," "]
[{"$f":"IF(COUNTRY_INFO!A28=0,\" \",COUNTRY_INFO!A28)","v":"Tanzania"},{"$f":"IF(COUNTRY_INFO!B28=0,\" \",COUNTRY_INFO!B28)","v":"Dodoma"},{"$f":"IF(COUNTRY_INFO!C28=0,\" \",COUNTRY_INFO!C28)","v":"Kongwa District Council"},{"$f":"IF(AND(COUNTRY_INFO!$T$9:$T$1000=\"T3 (ALB/MBD)\",COUNTRY_INFO!$U$9:$U$1000=\"T3 (ALB/MBD)\"), \"T3 (ALB/MBD)\", \" \")","v":" "},null,null,null,null,null,0,null,null,null,0," "," "," "," "]
[{"$f":"IF(COUNTRY_INFO!A29=0,\" \",COUNTRY_INFO!A29)","v":"Tanzania"},{"$f":"IF(COUNTRY_INFO!B29=0,\" \",COUNTRY_INFO!B29)","v":"Dodoma"},{"$f":"IF(COUNTRY_INFO!C29=0,\" \",COUNTRY_INFO!C29)","v":"Mpwapwa District Council"},{"$f":"IF(AND(COUNTRY_INFO!$T$9:$T$1000=\"T3 (ALB/MBD)\",COUNTRY_INFO!$U$9:$U$1000=\"T3 (ALB/MBD)\"), \"T3 (ALB/MBD)\", \" \")","v":" "},null,null,null,null,null,0,null,null,null,0," "," "," "," "]
[{"$f":"IF(COUNTRY_INFO!A30=0,\" \",COUNTRY_INFO!A30)","v":"Tanzania"},{"$f":"IF(COUNTRY_INFO!B30=0,\" \",COUNTRY_INFO!B30)","v":"Geita"},{"$f":"IF(COUNTRY_INFO!C30=0,\" \",COUNTRY_INFO!C30)","v":"Bukombe District Council"},{"$f":"IF(AND(COUNTRY_INFO!$T$9:$T$1000=\"T3 (ALB/MBD)\",COUNTRY_INFO!$U$9:$U$1000=\"T3 (ALB/MBD)\"), \"T3 (ALB/MBD)\", \" \")","v":" "},null,null,null,null,null,0,null,null,null,0," "," "," "," "]
[{"$f":"IF(COUNTRY_INFO!A31=0,\" \",COUNTRY_INFO!A31)","v":"Tanzania"},{"$f":"IF(COUNTRY_INFO!B31=0,\" \",COUNTRY_INFO!B31)","v":"Geita"},{"$f":"IF(COUNTRY_INFO!C31=0,\" \",COUNTRY_INFO!C31)","v":"Chato District Council"},{"$f":"IF(AND(COUNTRY_INFO!$T$9:$T$1000=\"T3 (ALB/MBD)\",COUNTRY_INFO!$U$9:$U$1000=\"T3 (ALB/MBD)\"), \"T3 (ALB/MBD)\", \" \")","v":" "},null,null,null,null,null,0,null,null,null,0," "," "," "," "]
[{"$f":"IF(COUNTRY_INFO!A32=0,\" \",COUNTRY_INFO!A32)","v":"Tanzania"},{"$f":"IF(COUNTRY_INFO!B32=0,\" \",COUNTRY_INFO!B32)","v":"Geita"},{"$f":"IF(COUNTRY_INFO!C32=0,\" \",COUNTRY_INFO!C32)","v":"Geita District Council"},{"$f":"IF(AND(COUNTRY_INFO!$T$9:$T$1000=\"T3 (ALB/MBD)\",COUNTRY_INFO!$U$9:$U$1000=\"T3 (ALB/MBD)\"), \"T3 (ALB/MBD)\", \" \")","v":" "},null,null,null,null,null,0,null,null,null,0," "," "," "," "]
[{"$f":"IF(COUNTRY_INFO!A33=0,\" \",COUNTRY_INFO!A33)","v":"Tanzania"},{"$f":"IF(COUNTRY_INFO!B33=0,\" \",COUNTRY_INFO!B33)","v":"Geita"},{"$f":"IF(COUNTRY_INFO!C33=0,\" \",COUNTRY_INFO!C33)","v":"Geita Town Council"},{"$f":"IF(AND(COUNTRY_INFO!$T$9:$T$1000=\"T3 (ALB/MBD)\",COUNTRY_INFO!$U$9:$U$1000=\"T3 (ALB/MBD)\"), \"T3 (ALB/MBD)\", \" \")","v":" "},null,null,null,null,null,0,null,null,null,0," "," "," "," "]
[{"$f":"IF(COUNTRY_INFO!A34=0,\" \",COUNTRY_INFO!A34)","v":"Tanzania"},{"$f":"IF(COUNTRY_INFO!B34=0,\" \",COUNTRY_INFO!B34)","v":"Geita"},{"$f":"IF(COUNTRY_INFO!C34=0,\" \",COUNTRY_INFO!C34)","v":"Mbogwe District Council"},{"$f":"IF(AND(COUNTRY_INFO!$T$9:$T$1000=\"T3 (ALB/MBD)\",COUNTRY_INFO!$U$9:$U$1000=\"T3 (ALB/MBD)\"), \"T3 (ALB/MBD)\", \" \")","v":" "},null,null,null,null,null,0,null,null,null,0," "," "," "," "]
[{"$f":"IF(COUNTRY_INFO!A35=0,\" \",COUNTRY_INFO!A35)","v":"Tanzania"},{"$f":"IF(COUNTRY_INFO!B35=0,\" \",COUNTRY_INFO!B35)","v":"Geita"},{"$f":"IF(COUNTRY_INFO!C35=0,\" \",COUNTRY_INFO!C35)","v":"Nyang'hwale District Council"},{"$f":"IF(AND(COUNTRY_INFO!$T$9:$T$1000=\"T3 (ALB/MBD)\",COUNTRY_INFO!$U$9:$U$1000=\"T3 (ALB/MBD)\"), \"T3 (ALB/MBD)\", \" \")","v":" "},null,null,null,null,null,0,null,null,null,0," "," "," "," "]
[{"$f":"IF(COUNTRY_INFO!A36=0,\" \",COUNTRY_INFO!A36)","v":"Tanzania"},{"$f":"IF(COUNTRY_INFO!B36=0,\" \",COUNTRY_INFO!B36)","v":"Iringa"},{"$f":"IF(COUNTRY_INFO!C36=0,\" \",COUNTRY_INFO!C36)","v":"Iringa District Council"},{"$f":"IF(AND(COUNTRY_INFO!$T$9:$T$1000=\"T3 (ALB/MBD)\",COUNTRY_INFO!$U$9:$U$1000=\"T3 (ALB/MBD)\"), \"T3 (ALB/MBD)\", \" \")","v":" "},null,null,null,null,null,0,null,null,null,0," "," "," "," "]
[{"$f":"IF(COUNTRY_INFO!A37=0,\" \",COUNTRY_INFO!A37)","v":"Tanzania"},{"$f":"IF(COUNTRY_INFO!B37=0,\" \",COUNTRY_INFO!B37)","v":"Iringa"},{"$f":"IF(COUNTRY_INFO!C37=0,\" \",COUNTRY_INFO!C37)","v":"Iringa Municipal Council"},{"$f":"IF(AND(COUNTRY_INFO!$T$9:$T$1000=\"T3 (ALB/MBD)\",COUNTRY_INFO!$U$9:$U$1000=\"T3 (ALB/MBD)\"), \"T3 (ALB/MBD)\", \" \")","v":" "},null,null,null,null,null,0,null,null,null,0," "," "," "," "]
[{"$f":"IF(COUNTRY_INFO!A38=0,\" \",COUNTRY_INFO!A38)","v":"Tanzania"},{"$f":"IF(COUNTRY_INFO!B38=0,\" \",COUNTRY_INFO!B38)","v":"Iringa"},{"$f":"IF(COUNTRY_INFO!C38=0,\" \",COUNTRY_INFO!C38)","v":"Kilolo District Council"},{"$f":"IF(AND(COUNTRY_INFO!$T$9:$T$1000=\"T3 (ALB/MBD)\",COUNTRY_INFO!$U$9:$U$1000=\"T3 (ALB/MBD)\"), \"T3 (ALB/MBD)\", \" \")","v":" "},null,null,null,null,null,0,null,null,null,0," "," "," "," "]
[{"$f":"IF(COUNTRY_INFO!A39=0,\" \",COUNTRY_INFO!A39)","v":"Tanzania"},{"$f":"IF(COUNTRY_INFO!B39=0,\" \",COUNTRY_INFO!B39)","v":"Iringa"},{"$f":"IF(COUNTRY_INFO!C39=0,\" \",COUNTRY_INFO!C39)","v":"Mafinga Town Council"},{"$f":"IF(AND(COUNTRY_INFO!$T$9:$T$1000=\"T3 (ALB/MBD)\",COUNTRY_INFO!$U$9:$U$1000=\"T3 (ALB/MBD)\"), \"T3 (ALB/MBD)\", \" \")","v":" "},null,null,null,null,null,0,null,null,null,0," "," "," "," "]
[{"$f":"IF(COUNTRY_INFO!A40=0,\" \",COUNTRY_INFO!A40)","v":"Tanzania"},{"$f":"IF(COUNTRY_INFO!B40=0,\" \",COUNTRY_INFO!B40)","v":"Iringa"},{"$f":"IF(COUNTRY_INFO!C40=0,\" \",COUNTRY_INFO!C40)","v":"Mufindi District Council"},{"$f":"IF(AND(COUNTRY_INFO!$T$9:$T$1000=\"T3 (ALB/MBD)\",COUNTRY_INFO!$U$9:$U$1000=\"T3 (ALB/MBD)\"), \"T3 (ALB/MBD)\", \" \")","v":" "},null,null,null,null,null,0,null,null,null,0," "," "," "," "]
[{"$f":"IF(COUNTRY_INFO!A41=0,\" \",COUNTRY_INFO!A41)","v":"Tanzania"},{"$f":"IF(COUNTRY_INFO!B41=0,\" \",COUNTRY_INFO!B41)","v":"Kagera"},{"$f":"IF(COUNTRY_INFO!C41=0,\" \",COUNTRY_INFO!C41)","v":"Biharamulo District Council"},{"$f":"IF(AND(COUNTRY_INFO!$T$9:$T$1000=\"T3 (ALB/MBD)\",COUNTRY_INFO!$U$9:$U$1000=\"T3 (ALB/MBD)\"), \"T3 (ALB/MBD)\", \" \")","v":" "},null,null,null,null,null,0,null,null,null,0," "," "," "," "]
[{"$f":"IF(COUNTRY_INFO!A42=0,\" \",COUNTRY_INFO!A42)","v":"Tanzania"},{"$f":"IF(COUNTRY_INFO!B42=0,\" \",COUNTRY_INFO!B42)","v":"Kagera"},{"$f":"IF(COUNTRY_INFO!C42=0,\" \",COUNTRY_INFO!C42)","v":"Bukoba District Council"},{"$f":"IF(AND(COUNTRY_INFO!$T$9:$T$1000=\"T3 (ALB/MBD)\",COUNTRY_INFO!$U$9:$U$1000=\"T3 (ALB/MBD)\"), \"T3 (ALB/MBD)\", \" \")","v":" "},null,null,null,null,null,0,null,null,null,0," "," "," "," "]
[{"$f":"IF(COUNTRY_INFO!A43=0,\" \",COUNTRY_INFO!A43)","v":"Tanzania"},{"$f":"IF(COUNTRY_INFO!B43=0,\" \",COUNTRY_INFO!B43)","v":"Kagera"},{"$f":"IF(COUNTRY_INFO!C43=0,\" \",COUNTRY_INFO!C43)","v":"Bukoba Municipal Council"},{"$f":"IF(AND(COUNTRY_INFO!$T$9:$T$1000=\"T3 (ALB/MBD)\",COUNTRY_INFO!$U$9:$U$1000=\"T3 (ALB/MBD)\"), \"T3 (ALB/MBD)\", \" \")","v":" "},null,null,null,null,null,0,null,null,null,0," "," "," "," "]
[{"$f":"IF(COUNTRY_INFO!A44=0,\" \",COUNTRY_INFO!A44)","v":"Tanzania"},{"$f":"IF(COUNTRY_INFO!B44=0,\" \",COUNTRY_INFO!B44)","v":"Kagera"},{"$f":"IF(COUNTRY_INFO!C44=0,\" \",COUNTRY_INFO!C44)","v":"Karagwe District Council"},{"$f":"IF(AND(COUNTRY_INFO!$T$9:$T$1000=\"T3 (ALB/MBD)\",COUNTRY_INFO!$U$9:$U$1000=\"T3 (ALB/MBD)\"), \"T3 (ALB/MBD)\", \" \")","v":" "},null,null,null,null,null,0,null,null,null,0," "," "," "," "]
[{"$f":"IF(COUNTRY_INFO!A45=0,\" \",COUNTRY_INFO!A45)","v":"Tanzania"},{"$f":"IF(COUNTRY_INFO!B45=0,\" \",COUNTRY_INFO!B45)","v":"Kagera"},{"$f":"IF(COUNTRY_INFO!C45=0,\" \",COUNTRY_INFO!C45)","v":"Kyerwa District Council"},{"$f":"IF(AND(COUNTRY_INFO!$T$9:$T$1000=\"T3 (ALB/MBD)\",COUNTRY_INFO!$U$9:$U$1000=\"T3 (ALB/MBD)\"), \"T3 (ALB/MBD)\", \" \")","v":" "},null,null,null,null,null,0,null,null,null,0," "," "," "," "]
[{"$f":"IF(COUNTRY_INFO!A46=0,\" \",COUNTRY_INFO!A46)","v":"Tanzania"},{"$f":"IF(COUNTRY_INFO!B46=0,\" \",COUNTRY_INFO!B46)","v":"Kagera"},{"$f":"IF(COUNTRY_INFO!C46=0,\" \",COUNTRY_INFO!C46)","v":"Missenyi District Council"},{"$f":"IF(AND(COUNTRY_INFO!$T$9:$T$1000=\"T3 (ALB/MBD)\",COUNTRY_INFO!$U$9:$U$1000=\"T3 (ALB/MBD)\"), \"T3 (ALB/MBD)\", \" \")","v":" "},null,null,null,null,null,0,null,null,null,0," "," "," "," "]
[{"$f":"IF(COUNTRY_INFO!A47=0,\" \",COUNTRY_INFO!A47)","v":"Tanzania"},{"$f":"IF(COUNTRY_INFO!B47=0,\" \",COUNTRY_INFO!B47)","v":"Kagera"},{"$f":"IF(COUNTRY_INFO!C47=0,\" \",COUNTRY_INFO!C47)","v":"Muleba District Council"},{"$f":"IF(AND(COUNTRY_INFO!$T$9:$T$1000=\"T3 (ALB/MBD)\",COUNTRY_INFO!$U$9:$U$1000=\"T3 (ALB/MBD)\"), \"T3 (ALB/MBD)\", \" \")","v":" "},null,null,null,null,null,0,null,null,null,0," "," "," "," "]
[{"$f":"IF(COUNTRY_INFO!A48=0,\" \",COUNTRY_INFO!A48)","v":"Tanzania"},{"$f":"IF(COUNTRY_INFO!B48=0,\" \",COUNTRY_INFO!B48)","v":"Kagera"},{"$f":"IF(COUNTRY_INFO!C48=0,\" \",COUNTRY_INFO!C48)","v":"Ngara District Council"},{"$f":"IF(AND(COUNTRY_INFO!$T$9:$T$1000=\"T3 (ALB/MBD)\",COUNTRY_INFO!$U$9:$U$1000=\"T3 (ALB/MBD)\"), \"T3 (ALB/MBD)\", \" \")","v":" "},null,null,null,null,null,0,null,null,null,0," "," "," "," "]
[{"$f":"IF(COUNTRY_INFO!A49=0,\" \",COUNTRY_INFO!A49)","v":"Tanzania"},{"$f":"IF(COUNTRY_INFO!B49=0,\" \",COUNTRY_INFO!B49)","v":"Katavi"},{"$f":"IF(COUNTRY_INFO!C49=0,\" \",COUNTRY_INFO!C49)","v":"Mlele District Council"},{"$f":"IF(AND(COUNTRY_INFO!$T$9:$T$1000=\"T3 (ALB/MBD)\",COUNTRY_INFO!$U$9:$U$1000=\"T3 (ALB/MBD)\"), \"T3 (ALB/MBD)\", \" \")","v":" "},null,null,null,null,null,0,null,null,null,0," "," "," "," "]
[{"$f":"IF(COUNTRY_INFO!A50=0,\" \",COUNTRY_INFO!A50)","v":"Tanzania"},{"$f":"IF(COUNTRY_INFO!B50=0,\" \",COUNTRY_INFO!B50)","v":"Katavi"},{"$f":"IF(COUNTRY_INFO!C50=0,\" \",COUNTRY_INFO!C50)","v":"Mpanda District Council"},{"$f":"IF(AND(COUNTRY_INFO!$T$9:$T$1000=\"T3 (ALB/MBD)\",COUNTRY_INFO!$U$9:$U$1000=\"T3 (ALB/MBD)\"), \"T3 (ALB/MBD)\", \" \")","v":" "},null,null,null,null,null,0,null,null,null,0," "," "," "," "]
[{"$f":"IF(COUNTRY_INFO!A51=0,\" \",COUNTRY_INFO!A51)","v":"Tanzania"},{"$f":"IF(COUNTRY_INFO!B51=0,\" \",COUNTRY_INFO!B51)","v":"Katavi"},{"$f":"IF(COUNTRY_INFO!C51=0,\" \",COUNTRY_INFO!C51)","v":"Mpanda Municipal Council"},{"$f":"IF(AND(COUNTRY_INFO!$T$9:$T$1000=\"T3 (ALB/MBD)\",COUNTRY_INFO!$U$9:$U$1000=\"T3 (ALB/MBD)\"), \"T3 (ALB/MBD)\", \" \")","v":" "},null,null,null,null,null,0,null,null,null,0," "," "," "," "]
[{"$f":"IF(COUNTRY_INFO!A52=0,\" \",COUNTRY_INFO!A52)","v":"Tanzania"},{"$f":"IF(COUNTRY_INFO!B52=0,\" \",COUNTRY_INFO!B52)","v":"Katavi"},{"$f":"IF(COUNTRY_INFO!C52=0,\" \",COUNTRY_INFO!C52)","v":"Mpimbwe District Council"},{"$f":"IF(AND(COUNTRY_INFO!$T$9:$T$1000=\"T3 (ALB/MBD)\",COUNTRY_INFO!$U$9:$U$1000=\"T3 (ALB/MBD)\"), \"T3 (ALB/MBD)\", \" \")","v":" "},null,null,null,null,null,0,null,null,null,0," "," "," "," "]
[{"$f":"IF(COUNTRY_INFO!A53=0,\" \",COUNTRY_INFO!A53)","v":"Tanzania"},{"$f":"IF(COUNTRY_INFO!B53=0,\" \",COUNTRY_INFO!B53)","v":"Katavi"},{"$f":"IF(COUNTRY_INFO!C53=0,\" \",COUNTRY_INFO!C53)","v":"Nsimbo District Council"},{"$f":"IF(AND(COUNTRY_INFO!$T$9:$T$1000=\"T3 (ALB/MBD)\",COUNTRY_INFO!$U$9:$U$1000=\"T3 (ALB/MBD)\"), \"T3 (ALB/MBD)\", \" \")","v":" "},null,null,null,null,null,0,null,null,null,0," "," "," "," "]
[{"$f":"IF(COUNTRY_INFO!A54=0,\" \",COUNTRY_INFO!A54)","v":"Tanzania"},{"$f":"IF(COUNTRY_INFO!B54=0,\" \",COUNTRY_INFO!B54)","v":"Kigoma"},{"$f":"IF(COUNTRY_INFO!C54=0,\" \",COUNTRY_INFO!C54)","v":"Buhigwe District Council"},{"$f":"IF(AND(COUNTRY_INFO!$T$9:$T$1000=\"T3 (ALB/MBD)\",COUNTRY_INFO!$U$9:$U$1000=\"T3 (ALB/MBD)\"), \"T3 (ALB/MBD)\", \" \")","v":" "},null,null,null,null,null,0,null,null,null,0," "," "," "," "]
[{"$f":"IF(COUNTRY_INFO!A55=0,\" \",COUNTRY_INFO!A55)","v":"Tanzania"},{"$f":"IF(COUNTRY_INFO!B55=0,\" \",COUNTRY_INFO!B55)","v":"Kigoma"},{"$f":"IF(COUNTRY_INFO!C55=0,\" \",COUNTRY_INFO!C55)","v":"Kakonko District Council"},{"$f":"IF(AND(COUNTRY_INFO!$T$9:$T$1000=\"T3 (ALB/MBD)\",COUNTRY_INFO!$U$9:$U$1000=\"T3 (ALB/MBD)\"), \"T3 (ALB/MBD)\", \" \")","v":" "},null,null,null,null,null,0,null,null,null,0," "," "," "," "]
[{"$f":"IF(COUNTRY_INFO!A56=0,\" \",COUNTRY_INFO!A56)","v":"Tanzania"},{"$f":"IF(COUNTRY_INFO!B56=0,\" \",COUNTRY_INFO!B56)","v":"Kigoma"},{"$f":"IF(COUNTRY_INFO!C56=0,\" \",COUNTRY_INFO!C56)","v":"Kasulu District Council"},{"$f":"IF(AND(COUNTRY_INFO!$T$9:$T$1000=\"T3 (ALB/MBD)\",COUNTRY_INFO!$U$9:$U$1000=\"T3 (ALB/MBD)\"), \"T3 (ALB/MBD)\", \" \")","v":" "},null,null,null,null,null,0,null,null,null,0," "," "," "," "]
[{"$f":"IF(COUNTRY_INFO!A57=0,\" \",COUNTRY_INFO!A57)","v":"Tanzania"},{"$f":"IF(COUNTRY_INFO!B57=0,\" \",COUNTRY_INFO!B57)","v":"Kigoma"},{"$f":"IF(COUNTRY_INFO!C57=0,\" \",COUNTRY_INFO!C57)","v":"Kasulu Town Council"},{"$f":"IF(AND(COUNTRY_INFO!$T$9:$T$1000=\"T3 (ALB/MBD)\",COUNTRY_INFO!$U$9:$U$1000=\"T3 (ALB/MBD)\"), \"T3 (ALB/MBD)\", \" \")","v":" "},null,null,null,null,null,0,null,null,null,0," "," "," "," "]
[{"$f":"IF(COUNTRY_INFO!A58=0,\" \",COUNTRY_INFO!A58)","v":"Tanzania"},{"$f":"IF(COUNTRY_INFO!B58=0,\" \",COUNTRY_INFO!B58)","v":"Kigoma"},{"$f":"IF(COUNTRY_INFO!C58=0,\" \",COUNTRY_INFO!C58)","v":"Kibondo District Council"},{"$f":"IF(AND(COUNTRY_INFO!$T$9:$T$1000=\"T3 (ALB/MBD)\",COUNTRY_INFO!$U$9:$U$1000=\"T3 (ALB/MBD)\"), \"T3 (ALB/MBD)\", \" \")","v":" "},null,null,null,null,null,0,null,null,null,0," "," "," "," "]
[{"$f":"IF(COUNTRY_INFO!A59=0,\" \",COUNTRY_INFO!A59)","v":"Tanzania"},{"$f":"IF(COUNTRY_INFO!B59=0,\" \",COUNTRY_INFO!B59)","v":"Kigoma"},{"$f":"IF(COUNTRY_INFO!C59=0,\" \",COUNTRY_INFO!C59)","v":"Kigoma District Council"},{"$f":"IF(AND(COUNTRY_INFO!$T$9:$T$1000=\"T3 (ALB/MBD)\",COUNTRY_INFO!$U$9:$U$1000=\"T3 (ALB/MBD)\"), \"T3 (ALB/MBD)\", \" \")","v":" "},null,null,null,null,null,0,null,null,null,0," "," "," "," "]
[{"$f":"IF(COUNTRY_INFO!A60=0,\" \",COUNTRY_INFO!A60)","v":"Tanzania"},{"$f":"IF(COUNTRY_INFO!B60=0,\" \",COUNTRY_INFO!B60)","v":"Kigoma"},{"$f":"IF(COUNTRY_INFO!C60=0,\" \",COUNTRY_INFO!C60)","v":"Kigoma-Ujiji Municipal Council"},{"$f":"IF(AND(COUNTRY_INFO!$T$9:$T$1000=\"T3 (ALB/MBD)\",COUNTRY_INFO!$U$9:$U$1000=\"T3 (ALB/MBD)\"), \"T3 (ALB/MBD)\", \" \")","v":" "},null,null,null,null,null,0,null,null,null,0," "," "," "," "]
[{"$f":"IF(COUNTRY_INFO!A61=0,\" \",COUNTRY_INFO!A61)","v":"Tanzania"},{"$f":"IF(COUNTRY_INFO!B61=0,\" \",COUNTRY_INFO!B61)","v":"Kigoma"},{"$f":"IF(COUNTRY_INFO!C61=0,\" \",COUNTRY_INFO!C61)","v":"Uvinza District Council"},{"$f":"IF(AND(COUNTRY_INFO!$T$9:$T$1000=\"T3 (ALB/MBD)\",COUNTRY_INFO!$U$9:$U$1000=\"T3 (ALB/MBD)\"), \"T3 (ALB/MBD)\", \" \")","v":" "},null,null,null,null,null,0,null,null,null,0," "," "," "," "]
[{"$f":"IF(COUNTRY_INFO!A62=0,\" \",COUNTRY_INFO!A62)","v":"Tanzania"},{"$f":"IF(COUNTRY_INFO!B62=0,\" \",COUNTRY_INFO!B62)","v":"Kilimanjaro"},{"$f":"IF(COUNTRY_INFO!C62=0,\" \",COUNTRY_INFO!C62)","v":"Hai District Council"},{"$f":"IF(AND(COUNTRY_INFO!$T$9:$T$1000=\"T3 (ALB/MBD)\",COUNTRY_INFO!$U$9:$U$1000=\"T3 (ALB/MBD)\"), \"T3 (ALB/MBD)\", \" \")","v":" "},null,null,null,null,null,0,null,null,null,0," "," "," "," "]
[{"$f":"IF(COUNTRY_INFO!A63=0,\" \",COUNTRY_INFO!A63)","v":"Tanzania"},{"$f":"IF(COUNTRY_INFO!B63=0,\" \",COUNTRY_INFO!B63)","v":"Kilimanjaro"},{"$f":"IF(COUNTRY_INFO!C63=0,\" \",COUNTRY_INFO!C63)","v":"Moshi District Council"},{"$f":"IF(AND(COUNTRY_INFO!$T$9:$T$1000=\"T3 (ALB/MBD)\",COUNTRY_INFO!$U$9:$U$1000=\"T3 (ALB/MBD)\"), \"T3 (ALB/MBD)\", \" \")","v":" "},null,null,null,null,null,0,null,null,null,0," "," "," "," "]
[{"$f":"IF(COUNTRY_INFO!A64=0,\" \",COUNTRY_INFO!A64)","v":"Tanzania"},{"$f":"IF(COUNTRY_INFO!B64=0,\" \",COUNTRY_INFO!B64)","v":"Kilimanjaro"},{"$f":"IF(COUNTRY_INFO!C64=0,\" \",COUNTRY_INFO!C64)","v":"Moshi Municipal Council"},{"$f":"IF(AND(COUNTRY_INFO!$T$9:$T$1000=\"T3 (ALB/MBD)\",COUNTRY_INFO!$U$9:$U$1000=\"T3 (ALB/MBD)\"), \"T3 (ALB/MBD)\", \" \")","v":" "},null,null,null,null,null,0,null,null,null,0," "," "," "," "]
[{"$f":"IF(COUNTRY_INFO!A65=0,\" \",COUNTRY_INFO!A65)","v":"Tanzania"},{"$f":"IF(COUNTRY_INFO!B65=0,\" \",COUNTRY_INFO!B65)","v":"Kilimanjaro"},{"$f":"IF(COUNTRY_INFO!C65=0,\" \",COUNTRY_INFO!C65)","v":"Mwanga District Council"},{"$f":"IF(AND(COUNTRY_INFO!$T$9:$T$1000=\"T3 (ALB/MBD)\",COUNTRY_INFO!$U$9:$U$1000=\"T3 (ALB/MBD)\"), \"T3 (ALB/MBD)\", \" \")","v":" "},null,null,null,null,null,0,null,null,null,0," "," "," "," "]
[{"$f":"IF(COUNTRY_INFO!A66=0,\" \",COUNTRY_INFO!A66)","v":"Tanzania"},{"$f":"IF(COUNTRY_INFO!B66=0,\" \",COUNTRY_INFO!B66)","v":"Kilimanjaro"},{"$f":"IF(COUNTRY_INFO!C66=0,\" \",COUNTRY_INFO!C66)","v":"Rombo District Council"},{"$f":"IF(AND(COUNTRY_INFO!$T$9:$T$1000=\"T3 (ALB/MBD)\",COUNTRY_INFO!$U$9:$U$1000=\"T3 (ALB/MBD)\"), \"T3 (ALB/MBD)\", \" \")","v":" "},null,null,null,null,null,0,null,null,null,0," "," "," "," "]
[{"$f":"IF(COUNTRY_INFO!A67=0,\" \",COUNTRY_INFO!A67)","v":"Tanzania"},{"$f":"IF(COUNTRY_INFO!B67=0,\" \",COUNTRY_INFO!B67)","v":"Kilimanjaro"},{"$f":"IF(COUNTRY_INFO!C67=0,\" \",COUNTRY_INFO!C67)","v":"Same District Council"},{"$f":"IF(AND(COUNTRY_INFO!$T$9:$T$1000=\"T3 (ALB/MBD)\",COUNTRY_INFO!$U$9:$U$1000=\"T3 (ALB/MBD)\"), \"T3 (ALB/MBD)\", \" \")","v":" "},null,null,null,null,null,0,null,null,null,0," "," "," "," "]
[{"$f":"IF(COUNTRY_INFO!A68=0,\" \",COUNTRY_INFO!A68)","v":"Tanzania"},{"$f":"IF(COUNTRY_INFO!B68=0,\" \",COUNTRY_INFO!B68)","v":"Kilimanjaro"},{"$f":"IF(COUNTRY_INFO!C68=0,\" \",COUNTRY_INFO!C68)","v":"Siha District Council"},{"$f":"IF(AND(COUNTRY_INFO!$T$9:$T$1000=\"T3 (ALB/MBD)\",COUNTRY_INFO!$U$9:$U$1000=\"T3 (ALB/MBD)\"), \"T3 (ALB/MBD)\", \" \")","v":" "},null,null,null,null,null,0,null,null,null,0," "," "," "," "]
[{"$f":"IF(COUNTRY_INFO!A69=0,\" \",COUNTRY_INFO!A69)","v":"Tanzania"},{"$f":"IF(COUNTRY_INFO!B69=0,\" \",COUNTRY_INFO!B69)","v":"Lindi"},{"$f":"IF(COUNTRY_INFO!C69=0,\" \",COUNTRY_INFO!C69)","v":"Kilwa District Council"},{"$f":"IF(AND(COUNTRY_INFO!$T$9:$T$1000=\"T3 (ALB/MBD)\",COUNTRY_INFO!$U$9:$U$1000=\"T3 (ALB/MBD)\"), \"T3 (ALB/MBD)\", \" \")","v":" "},null,null,null,null,null,0,null,null,null,0," "," "," "," "]
[{"$f":"IF(COUNTRY_INFO!A70=0,\" \",COUNTRY_INFO!A70)","v":"Tanzania"},{"$f":"IF(COUNTRY_INFO!B70=0,\" \",COUNTRY_INFO!B70)","v":"Lindi"},{"$f":"IF(COUNTRY_INFO!C70=0,\" \",COUNTRY_INFO!C70)","v":"Lindi District Council (Mtama District Council)"},{"$f":"IF(AND(COUNTRY_INFO!$T$9:$T$1000=\"T3 (ALB/MBD)\",COUNTRY_INFO!$U$9:$U$1000=\"T3 (ALB/MBD)\"), \"T3 (ALB/MBD)\", \" \")","v":" "},null,null,null,null,null,0,null,null,null,0," "," "," "," "]
[{"$f":"IF(COUNTRY_INFO!A71=0,\" \",COUNTRY_INFO!A71)","v":"Tanzania"},{"$f":"IF(COUNTRY_INFO!B71=0,\" \",COUNTRY_INFO!B71)","v":"Lindi"},{"$f":"IF(COUNTRY_INFO!C71=0,\" \",COUNTRY_INFO!C71)","v":"Lindi Municipal Council"},{"$f":"IF(AND(COUNTRY_INFO!$T$9:$T$1000=\"T3 (ALB/MBD)\",COUNTRY_INFO!$U$9:$U$1000=\"T3 (ALB/MBD)\"), \"T3 (ALB/MBD)\", \" \")","v":" "},null,null,null,null,null,0,null,null,null,0," "," "," "," "]
[{"$f":"IF(COUNTRY_INFO!A72=0,\" \",COUNTRY_INFO!A72)","v":"Tanzania"},{"$f":"IF(COUNTRY_INFO!B72=0,\" \",COUNTRY_INFO!B72)","v":"Lindi"},{"$f":"IF(COUNTRY_INFO!C72=0,\" \",COUNTRY_INFO!C72)","v":"Liwale District Council"},{"$f":"IF(AND(COUNTRY_INFO!$T$9:$T$1000=\"T3 (ALB/MBD)\",COUNTRY_INFO!$U$9:$U$1000=\"T3 (ALB/MBD)\"), \"T3 (ALB/MBD)\", \" \")","v":" "},null,null,null,null,null,0,null,null,null,0," "," "," "," "]
[{"$f":"IF(COUNTRY_INFO!A73=0,\" \",COUNTRY_INFO!A73)","v":"Tanzania"},{"$f":"IF(COUNTRY_INFO!B73=0,\" \",COUNTRY_INFO!B73)","v":"Lindi"},{"$f":"IF(COUNTRY_INFO!C73=0,\" \",COUNTRY_INFO!C73)","v":"Nachingwea District Council"},{"$f":"IF(AND(COUNTRY_INFO!$T$9:$T$1000=\"T3 (ALB/MBD)\",COUNTRY_INFO!$U$9:$U$1000=\"T3 (ALB/MBD)\"), \"T3 (ALB/MBD)\", \" \")","v":" "},null,null,null,null,null,0,null,null,null,0," "," "," "," "]
[{"$f":"IF(COUNTRY_INFO!A74=0,\" \",COUNTRY_INFO!A74)","v":"Tanzania"},{"$f":"IF(COUNTRY_INFO!B74=0,\" \",COUNTRY_INFO!B74)","v":"Lindi"},{"$f":"IF(COUNTRY_INFO!C74=0,\" \",COUNTRY_INFO!C74)","v":"Ruangwa District Council"},{"$f":"IF(AND(COUNTRY_INFO!$T$9:$T$1000=\"T3 (ALB/MBD)\",COUNTRY_INFO!$U$9:$U$1000=\"T3 (ALB/MBD)\"), \"T3 (ALB/MBD)\", \" \")","v":" "},null,null,null,null,null,{"$f":"SUM(G74:I74)","v":0},null,null,null,{"$f":"SUM(K74:M74)","v":0},{"$f":"IF(G74<>0, IF(K74/G74*100=0, \"-\", K74/G74*100), \" \")","v":" "},{"$f":"IF(H74<>0, IF(L74/H74*100=0, \"-\", L74/H74*100), \" \")","v":" "},{"$f":"IF(I74<>0, IF(M74/I74*100=0, \"-\", M74/I74*100), \" \")","v":" "},{"$f":"IF(J74<>0, IF(N74/J74*100=0, \"-\", N74/J74*100), \" \")","v":" "}]
[{"$f":"IF(COUNTRY_INFO!A75=0,\" \",COUNTRY_INFO!A75)","v":"Tanzania"},{"$f":"IF(COUNTRY_INFO!B75=0,\" \",COUNTRY_INFO!B75)","v":"Manyara"},{"$f":"IF(COUNTRY_INFO!C75=0,\" \",COUNTRY_INFO!C75)","v":"Babati District Council"},{"$f":"IF(AND(COUNTRY_INFO!$T$9:$T$1000=\"T3 (ALB/MBD)\",COUNTRY_INFO!$U$9:$U$1000=\"T3 (ALB/MBD)\"), \"T3 (ALB/MBD)\", \" \")","v":" "},null,null,null,null,null,0,null,null,null,0," "," "," "," "]
[{"$f":"IF(COUNTRY_INFO!A76=0,\" \",COUNTRY_INFO!A76)","v":"Tanzania"},{"$f":"IF(COUNTRY_INFO!B76=0,\" \",COUNTRY_INFO!B76)","v":"Manyara"},{"$f":"IF(COUNTRY_INFO!C76=0,\" \",COUNTRY_INFO!C76)","v":"Babati Town Council"},{"$f":"IF(AND(COUNTRY_INFO!$T$9:$T$1000=\"T3 (ALB/MBD)\",COUNTRY_INFO!$U$9:$U$1000=\"T3 (ALB/MBD)\"), \"T3 (ALB/MBD)\", \" \")","v":" "},null,null,null,null,null,0,null,null,null,0," "," "," "," "]
[{"$f":"IF(COUNTRY_INFO!A77=0,\" \",COUNTRY_INFO!A77)","v":"Tanzania"},{"$f":"IF(COUNTRY_INFO!B77=0,\" \",COUNTRY_INFO!B77)","v":"Manyara"},{"$f":"IF(COUNTRY_INFO!C77=0,\" \",COUNTRY_INFO!C77)","v":"Hanang District Council"},{"$f":"IF(AND(COUNTRY_INFO!$T$9:$T$1000=\"T3 (ALB/MBD)\",COUNTRY_INFO!$U$9:$U$1000=\"T3 (ALB/MBD)\"), \"T3 (ALB/MBD)\", \" \")","v":" "},null,null,null,null,null,0,null,null,null,0," "," "," "," "]
[{"$f":"IF(COUNTRY_INFO!A78=0,\" \",COUNTRY_INFO!A78)","v":"Tanzania"},{"$f":"IF(COUNTRY_INFO!B78=0,\" \",COUNTRY_INFO!B78)","v":"Manyara"},{"$f":"IF(COUNTRY_INFO!C78=0,\" \",COUNTRY_INFO!C78)","v":"Kiteto District Council"},{"$f":"IF(AND(COUNTRY_INFO!$T$9:$T$1000=\"T3 (ALB/MBD)\",COUNTRY_INFO!$U$9:$U$1000=\"T3 (ALB/MBD)\"), \"T3 (ALB/MBD)\", \" \")","v":" "},null,null,null,null,null,0,null,null,null,0," "," "," "," "]
[{"$f":"IF(COUNTRY_INFO!A79=0,\" \",COUNTRY_INFO!A79)","v":"Tanzania"},{"$f":"IF(COUNTRY_INFO!B79=0,\" \",COUNTRY_INFO!B79)","v":"Manyara"},{"$f":"IF(COUNTRY_INFO!C79=0,\" \",COUNTRY_INFO!C79)","v":"Mbulu District Council"},{"$f":"IF(AND(COUNTRY_INFO!$T$9:$T$1000=\"T3 (ALB/MBD)\",COUNTRY_INFO!$U$9:$U$1000=\"T3 (ALB/MBD)\"), \"T3 (ALB/MBD)\", \" \")","v":" "},null,null,null,null,null,0,null,null,null,0," "," "," "," "]
[{"$f":"IF(COUNTRY_INFO!A80=0,\" \",COUNTRY_INFO!A80)","v":"Tanzania"},{"$f":"IF(COUNTRY_INFO!B80=0,\" \",COUNTRY_INFO!B80)","v":"Manyara"},{"$f":"IF(COUNTRY_INFO!C80=0,\" \",COUNTRY_INFO!C80)","v":"Mbulu Town Council"},{"$f":"IF(AND(COUNTRY_INFO!$T$9:$T$1000=\"T3 (ALB/MBD)\",COUNTRY_INFO!$U$9:$U$1000=\"T3 (ALB/MBD)\"), \"T3 (ALB/MBD)\", \" \")","v":" "},null,null,null,null,null,0,null,null,null,0," "," "," "," "]
[{"$f":"IF(COUNTRY_INFO!A81=0,\" \",COUNTRY_INFO!A81)","v":"Tanzania"},{"$f":"IF(COUNTRY_INFO!B81=0,\" \",COUNTRY_INFO!B81)","v":"Manyara"},{"$f":"IF(COUNTRY_INFO!C81=0,\" \",COUNTRY_INFO!C81)","v":"Simanjiro District Council"},{"$f":"IF(AND(COUNTRY_INFO!$T$9:$T$1000=\"T3 (ALB/MBD)\",COUNTRY_INFO!$U$9:$U$1000=\"T3 (ALB/MBD)\"), \"T3 (ALB/MBD)\", \" \")","v":" "},null,null,null,null,null,0,null,null,null,0," "," "," "," "]
[{"$f":"IF(COUNTRY_INFO!A82=0,\" \",COUNTRY_INFO!A82)","v":"Tanzania"},{"$f":"IF(COUNTRY_INFO!B82=0,\" \",COUNTRY_INFO!B82)","v":"Mara"},{"$f":"IF(COUNTRY_INFO!C82=0,\" \",COUNTRY_INFO!C82)","v":"Bunda District Council"},{"$f":"IF(AND(COUNTRY_INFO!$T$9:$T$1000=\"T3 (ALB/MBD)\",COUNTRY_INFO!$U$9:$U$1000=\"T3 (ALB/MBD)\"), \"T3 (ALB/MBD)\", \" \")","v":" "},null,null,null,null,null,0,null,null,null,0," "," "," "," "]
[{"$f":"IF(COUNTRY_INFO!A83=0,\" \",COUNTRY_INFO!A83)","v":"Tanzania"},{"$f":"IF(COUNTRY_INFO!B83=0,\" \",COUNTRY_INFO!B83)","v":"Mara"},{"$f":"IF(COUNTRY_INFO!C83=0,\" \",COUNTRY_INFO!C83)","v":"Bunda Town Council"},{"$f":"IF(AND(COUNTRY_INFO!$T$9:$T$1000=\"T3 (ALB/MBD)\",COUNTRY_INFO!$U$9:$U$1000=\"T3 (ALB/MBD)\"), \"T3 (ALB/MBD)\", \" \")","v":" "},null,null,null,null,null,0,null,null,null,0," "," "," "," "]
[{"$f":"IF(COUNTRY_INFO!A84=0,\" \",COUNTRY_INFO!A84)","v":"Tanzania"},{"$f":"IF(COUNTRY_INFO!B84=0,\" \",COUNTRY_INFO!B84)","v":"Mara"},{"$f":"IF(COUNTRY_INFO!C84=0,\" \",COUNTRY_INFO!C84)","v":"Butiama District Council"},{"$f":"IF(AND(COUNTRY_INFO!$T$9:$T$1000=\"T3 (ALB/MBD)\",COUNTRY_INFO!$U$9:$U$1000=\"T3 (ALB/MBD)\"), \"T3 (ALB/MBD)\", \" \")","v":" "},null,null,null,null,null,0,null,null,null,0," "," "," "," "]
[{"$f":"IF(COUNTRY_INFO!A85=0,\" \",COUNTRY_INFO!A85)","v":"Tanzania"},{"$f":"IF(COUNTRY_INFO!B85=0,\" \",COUNTRY_INFO!B85)","v":"Mara"},{"$f":"IF(COUNTRY_INFO!C85=0,\" \",COUNTRY_INFO!C85)","v":"Musoma District Council"},{"$f":"IF(AND(COUNTRY_INFO!$T$9:$T$1000=\"T3 (ALB/MBD)\",COUNTRY_INFO!$U$9:$U$1000=\"T3 (ALB/MBD)\"), \"T3 (ALB/MBD)\", \" \")","v":" "},null,null,null,null,null,0,null,null,null,0," "," "," "," "]
[{"$f":"IF(COUNTRY_INFO!A86=0,\" \",COUNTRY_INFO!A86)","v":"Tanzania"},{"$f":"IF(COUNTRY_INFO!B86=0,\" \",COUNTRY_INFO!B86)","v":"Mara"},{"$f":"IF(COUNTRY_INFO!C86=0,\" \",COUNTRY_INFO!C86)","v":"Musoma Municipal Council"},{"$f":"IF(AND(COUNTRY_INFO!$T$9:$T$1000=\"T3 (ALB/MBD)\",COUNTRY_INFO!$U$9:$U$1000=\"T3 (ALB/MBD)\"), \"T3 (ALB/MBD)\", \" \")","v":" "},null,null,null,null,null,0,null,null,null,0," "," "," "," "]
[{"$f":"IF(COUNTRY_INFO!A87=0,\" \",COUNTRY_INFO!A87)","v":"Tanzania"},{"$f":"IF(COUNTRY_INFO!B87=0,\" \",COUNTRY_INFO!B87)","v":"Mara"},{"$f":"IF(COUNTRY_INFO!C87=0,\" \",COUNTRY_INFO!C87)","v":"Rorya District Council"},{"$f":"IF(AND(COUNTRY_INFO!$T$9:$T$1000=\"T3 (ALB/MBD)\",COUNTRY_INFO!$U$9:$U$1000=\"T3 (ALB/MBD)\"), \"T3 (ALB/MBD)\", \" \")","v":" "},null,null,null,null,null,0,null,null,null,0," "," "," "," "]
[{"$f":"IF(COUNTRY_INFO!A88=0,\" \",COUNTRY_INFO!A88)","v":"Tanzania"},{"$f":"IF(COUNTRY_INFO!B88=0,\" \",COUNTRY_INFO!B88)","v":"Mara"},{"$f":"IF(COUNTRY_INFO!C88=0,\" \",COUNTRY_INFO!C88)","v":"Serengeti District Council"},{"$f":"IF(AND(COUNTRY_INFO!$T$9:$T$1000=\"T3 (ALB/MBD)\",COUNTRY_INFO!$U$9:$U$1000=\"T3 (ALB/MBD)\"), \"T3 (ALB/MBD)\", \" \")","v":" "},null,null,null,null,null,0,null,null,null,0," "," "," "," "]
[{"$f":"IF(COUNTRY_INFO!A89=0,\" \",COUNTRY_INFO!A89)","v":"Tanzania"},{"$f":"IF(COUNTRY_INFO!B89=0,\" \",COUNTRY_INFO!B89)","v":"Mara"},{"$f":"IF(COUNTRY_INFO!C89=0,\" \",COUNTRY_INFO!C89)","v":"Tarime District Council"},{"$f":"IF(AND(COUNTRY_INFO!$T$9:$T$1000=\"T3 (ALB/MBD)\",COUNTRY_INFO!$U$9:$U$1000=\"T3 (ALB/MBD)\"), \"T3 (ALB/MBD)\", \" \")","v":" "},null,null,null,null,null,0,null,null,null,0," "," "," "," "]
[{"$f":"IF(COUNTRY_INFO!A90=0,\" \",COUNTRY_INFO!A90)","v":"Tanzania"},{"$f":"IF(COUNTRY_INFO!B90=0,\" \",COUNTRY_INFO!B90)","v":"Mara"},{"$f":"IF(COUNTRY_INFO!C90=0,\" \",COUNTRY_INFO!C90)","v":"Tarime Town Council"},{"$f":"IF(AND(COUNTRY_INFO!$T$9:$T$1000=\"T3 (ALB/MBD)\",COUNTRY_INFO!$U$9:$U$1000=\"T3 (ALB/MBD)\"), \"T3 (ALB/MBD)\", \" \")","v":" "},null,null,null,null,null,0,null,null,null,0," "," "," "," "]
[{"$f":"IF(COUNTRY_INFO!A91=0,\" \",COUNTRY_INFO!A91)","v":"Tanzania"},{"$f":"IF(COUNTRY_INFO!B91=0,\" \",COUNTRY_INFO!B91)","v":"Mbeya"},{"$f":"IF(COUNTRY_INFO!C91=0,\" \",COUNTRY_INFO!C91)","v":"Busokelo District Council"},{"$f":"IF(AND(COUNTRY_INFO!$T$9:$T$1000=\"T3 (ALB/MBD)\",COUNTRY_INFO!$U$9:$U$1000=\"T3 (ALB/MBD)\"), \"T3 (ALB/MBD)\", \" \")","v":" "},null,null,null,null,null,0,null,null,null,0," "," "," "," "]
[{"$f":"IF(COUNTRY_INFO!A92=0,\" \",COUNTRY_INFO!A92)","v":"Tanzania"},{"$f":"IF(COUNTRY_INFO!B92=0,\" \",COUNTRY_INFO!B92)","v":"Mbeya"},{"$f":"IF(COUNTRY_INFO!C92=0,\" \",COUNTRY_INFO!C92)","v":"Chunya District Council"},{"$f":"IF(AND(COUNTRY_INFO!$T$9:$T$1000=\"T3 (ALB/MBD)\",COUNTRY_INFO!$U$9:$U$1000=\"T3 (ALB/MBD)\"), \"T3 (ALB/MBD)\", \" \")","v":" "},null,null,null,null,null,0,null,null,null,0," "," "," "," "]
[{"$f":"IF(COUNTRY_INFO!A93=0,\" \",COUNTRY_INFO!A93)","v":"Tanzania"},{"$f":"IF(COUNTRY_INFO!B93=0,\" \",COUNTRY_INFO!B93)","v":"Mbeya"},{"$f":"IF(COUNTRY_INFO!C93=0,\" \",COUNTRY_INFO!C93)","v":"Kyela District Council"},{"$f":"IF(AND(COUNTRY_INFO!$T$9:$T$1000=\"T3 (ALB/MBD)\",COUNTRY_INFO!$U$9:$U$1000=\"T3 (ALB/MBD)\"), \"T3 (ALB/MBD)\", \" \")","v":" "},null,null,null,null,null,0,null,null,null,0," "," "," "," "]
[{"$f":"IF(COUNTRY_INFO!A94=0,\" \",COUNTRY_INFO!A94)","v":"Tanzania"},{"$f":"IF(COUNTRY_INFO!B94=0,\" \",COUNTRY_INFO!B94)","v":"Mbeya"},{"$f":"IF(COUNTRY_INFO!C94=0,\" \",COUNTRY_INFO!C94)","v":"Mbarali District Council"},{"$f":"IF(AND(COUNTRY_INFO!$T$9:$T$1000=\"T3 (ALB/MBD)\",COUNTRY_INFO!$U$9:$U$1000=\"T3 (ALB/MBD)\"), \"T3 (ALB/MBD)\", \" \")","v":" "},null,null,null,null,null,0,null,null,null,0," "," "," "," "]
[{"$f":"IF(COUNTRY_INFO!A95=0,\" \",COUNTRY_INFO!A95)","v":"Tanzania"},{"$f":"IF(COUNTRY_INFO!B95=0,\" \",COUNTRY_INFO!B95)","v":"Mbeya"},{"$f":"IF(COUNTRY_INFO!C95=0,\" \",COUNTRY_INFO!C95)","v":"Mbeya City Council"},{"$f":"IF(AND(COUNTRY_INFO!$T$9:$T$1000=\"T3 (ALB/MBD)\",COUNTRY_INFO!$U$9:$U$1000=\"T3 (ALB/MBD)\"), \"T3 (ALB/MBD)\", \" \")","v":" "},null,null,null,null,null,0,null,null,null,0," "," "," "," "]
[{"$f":"IF(COUNTRY_INFO!A96=0,\" \",COUNTRY_INFO!A96)","v":"Tanzania"},{"$f":"IF(COUNTRY_INFO!B96=0,\" \",COUNTRY_INFO!B96)","v":"Mbeya"},{"$f":"IF(COUNTRY_INFO!C96=0,\" \",COUNTRY_INFO!C96)","v":"Mbeya District Council"},{"$f":"IF(AND(COUNTRY_INFO!$T$9:$T$1000=\"T3 (ALB/MBD)\",COUNTRY_INFO!$U$9:$U$1000=\"T3 (ALB/MBD)\"), \"T3 (ALB/MBD)\", \" \")","v":" "},null,null,null,null,null,0,null,null,null,0," "," "," "," "]
[{"$f":"IF(COUNTRY_INFO!A97=0,\" \",COUNTRY_INFO!A97)","v":"Tanzania"},{"$f":"IF(COUNTRY_INFO!B97=0,\" \",COUNTRY_INFO!B97)","v":"Mbeya"},{"$f":"IF(COUNTRY_INFO!C97=0,\" \",COUNTRY_INFO!C97)","v":"Rungwe District Council"},{"$f":"IF(AND(COUNTRY_INFO!$T$9:$T$1000=\"T3 (ALB/MBD)\",COUNTRY_INFO!$U$9:$U$1000=\"T3 (ALB/MBD)\"), \"T3 (ALB/MBD)\", \" \")","v":" "},null,null,null,null,null,0,null,null,null,0," "," "," "," "]
[{"$f":"IF(COUNTRY_INFO!A98=0,\" \",COUNTRY_INFO!A98)","v":"Tanzania"},{"$f":"IF(COUNTRY_INFO!B98=0,\" \",COUNTRY_INFO!B98)","v":"Morogoro"},{"$f":"IF(COUNTRY_INFO!C98=0,\" \",COUNTRY_INFO!C98)","v":"Gairo District Council"},{"$f":"IF(AND(COUNTRY_INFO!$T$9:$T$1000=\"T3 (ALB/MBD)\",COUNTRY_INFO!$U$9:$U$1000=\"T3 (ALB/MBD)\"), \"T3 (ALB/MBD)\", \" \")","v":" "},null,null,null,null,null,0,null,null,null,0," "," "," "," "]
[{"$f":"IF(COUNTRY_INFO!A99=0,\" \",COUNTRY_INFO!A99)","v":"Tanzania"},{"$f":"IF(COUNTRY_INFO!B99=0,\" \",COUNTRY_INFO!B99)","v":"Morogoro"},{"$f":"IF(COUNTRY_INFO!C99=0,\" \",COUNTRY_INFO!C99)","v":"Ifakara Town Council"},{"$f":"IF(AND(COUNTRY_INFO!$T$9:$T$1000=\"T3 (ALB/MBD)\",COUNTRY_INFO!$U$9:$U$1000=\"T3 (ALB/MBD)\"), \"T3 (ALB/MBD)\", \" \")","v":" "},null,null,null,null,null,0,null,null,null,0," "," "," "," "]
[{"$f":"IF(COUNTRY_INFO!A100=0,\" \",COUNTRY_INFO!A100)","v":"Tanzania"},{"$f":"IF(COUNTRY_INFO!B100=0,\" \",COUNTRY_INFO!B100)","v":"Morogoro"},{"$f":"IF(COUNTRY_INFO!C100=0,\" \",COUNTRY_INFO!C100)","v":"Kilombero District Council (Mlimba District Council)"},{"$f":"IF(AND(COUNTRY_INFO!$T$9:$T$1000=\"T3 (ALB/MBD)\",COUNTRY_INFO!$U$9:$U$1000=\"T3 (ALB/MBD)\"), \"T3 (ALB/MBD)\", \" \")","v":" "},null,null,null,null,null,0,null,null,null,0," "," "," "," "]
[{"$f":"IF(COUNTRY_INFO!A101=0,\" \",COUNTRY_INFO!A101)","v":"Tanzania"},{"$f":"IF(COUNTRY_INFO!B101=0,\" \",COUNTRY_INFO!B101)","v":"Morogoro"},{"$f":"IF(COUNTRY_INFO!C101=0,\" \",COUNTRY_INFO!C101)","v":"Kilosa District Council"},{"$f":"IF(AND(COUNTRY_INFO!$T$9:$T$1000=\"T3 (ALB/MBD)\",COUNTRY_INFO!$U$9:$U$1000=\"T3 (ALB/MBD)\"), \"T3 (ALB/MBD)\", \" \")","v":" "},null,null,null,null,null,0,null,null,null,0," "," "," "," "]
[{"$f":"IF(COUNTRY_INFO!A102=0,\" \",COUNTRY_INFO!A102)","v":"Tanzania"},{"$f":"IF(COUNTRY_INFO!B102=0,\" \",COUNTRY_INFO!B102)","v":"Morogoro"},{"$f":"IF(COUNTRY_INFO!C102=0,\" \",COUNTRY_INFO!C102)","v":"Malinyi District Council"},{"$f":"IF(AND(COUNTRY_INFO!$T$9:$T$1000=\"T3 (ALB/MBD)\",COUNTRY_INFO!$U$9:$U$1000=\"T3 (ALB/MBD)\"), \"T3 (ALB/MBD)\", \" \")","v":" "},null,null,null,null,null,0,null,null,null,0," "," "," "," "]
[{"$f":"IF(COUNTRY_INFO!A103=0,\" \",COUNTRY_INFO!A103)","v":"Tanzania"},{"$f":"IF(COUNTRY_INFO!B103=0,\" \",COUNTRY_INFO!B103)","v":"Morogoro"},{"$f":"IF(COUNTRY_INFO!C103=0,\" \",COUNTRY_INFO!C103)","v":"Morogoro District Council"},{"$f":"IF(AND(COUNTRY_INFO!$T$9:$T$1000=\"T3 (ALB/MBD)\",COUNTRY_INFO!$U$9:$U$1000=\"T3 (ALB/MBD)\"), \"T3 (ALB/MBD)\", \" \")","v":" "},null,null,null,null,null,0,null,null,null,0," "," "," "," "]
[{"$f":"IF(COUNTRY_INFO!A104=0,\" \",COUNTRY_INFO!A104)","v":"Tanzania"},{"$f":"IF(COUNTRY_INFO!B104=0,\" \",COUNTRY_INFO!B104)","v":"Morogoro"},{"$f":"IF(COUNTRY_INFO!C104=0,\" \",COUNTRY_INFO!C104)","v":"Morogoro Municipal Council"},{"$f":"IF(AND(COUNTRY_INFO!$T$9:$T$1000=\"T3 (ALB/MBD)\",COUNTRY_INFO!$U$9:$U$1000=\"T3 (ALB/MBD)\"), \"T3 (ALB/MBD)\", \" \")","v":" "},null,null,null,null,null,0,null,null,null,0," "," "," "," "]
[{"$f":"IF(COUNTRY_INFO!A105=0,\" \",COUNTRY_INFO!A105)","v":"Tanzania"},{"$f":"IF(COUNTRY_INFO!B105=0,\" \",COUNTRY_INFO!B105)","v":"Morogoro"},{"$f":"IF(COUNTRY_INFO!C105=0,\" \",COUNTRY_INFO!C105)","v":"Mvomero District Council"},{"$f":"IF(AND(COUNTRY_INFO!$T$9:$T$1000=\"T3 (ALB/MBD)\",COUNTRY_INFO!$U$9:$U$1000=\"T3 (ALB/MBD)\"), \"T3 (ALB/MBD)\", \" \")","v":" "},null,null,null,null,null,0,null,null,null,0," "," "," "," "]
[{"$f":"IF(COUNTRY_INFO!A106=0,\" \",COUNTRY_INFO!A106)","v":"Tanzania"},{"$f":"IF(COUNTRY_INFO!B106=0,\" \",COUNTRY_INFO!B106)","v":"Morogoro"},{"$f":"IF(COUNTRY_INFO!C106=0,\" \",COUNTRY_INFO!C106)","v":"Ulanga District Council"},{"$f":"IF(AND(COUNTRY_INFO!$T$9:$T$1000=\"T3 (ALB/MBD)\",COUNTRY_INFO!$U$9:$U$1000=\"T3 (ALB/MBD)\"), \"T3 (ALB/MBD)\", \" \")","v":" "},null,null,null,null,null,0,null,null,null,0," "," "," "," "]
[{"$f":"IF(COUNTRY_INFO!A107=0,\" \",COUNTRY_INFO!A107)","v":"Tanzania"},{"$f":"IF(COUNTRY_INFO!B107=0,\" \",COUNTRY_INFO!B107)","v":"Mtwara"},{"$f":"IF(COUNTRY_INFO!C107=0,\" \",COUNTRY_INFO!C107)","v":"Masasi District Council"},{"$f":"IF(AND(COUNTRY_INFO!$T$9:$T$1000=\"T3 (ALB/MBD)\",COUNTRY_INFO!$U$9:$U$1000=\"T3 (ALB/MBD)\"), \"T3 (ALB/MBD)\", \" \")","v":" "},null,null,null,null,null,0,null,null,null,0," "," "," "," "]
[{"$f":"IF(COUNTRY_INFO!A108=0,\" \",COUNTRY_INFO!A108)","v":"Tanzania"},{"$f":"IF(COUNTRY_INFO!B108=0,\" \",COUNTRY_INFO!B108)","v":"Mtwara"},{"$f":"IF(COUNTRY_INFO!C108=0,\" \",COUNTRY_INFO!C108)","v":"Masasi Town Council"},{"$f":"IF(AND(COUNTRY_INFO!$T$9:$T$1000=\"T3 (ALB/MBD)\",COUNTRY_INFO!$U$9:$U$1000=\"T3 (ALB/MBD)\"), \"T3 (ALB/MBD)\", \" \")","v":" "},null,null,null,null,null,0,null,null,null,0," "," "," "," "]
[{"$f":"IF(COUNTRY_INFO!A109=0,\" \",COUNTRY_INFO!A109)","v":"Tanzania"},{"$f":"IF(COUNTRY_INFO!B109=0,\" \",COUNTRY_INFO!B109)","v":"Mtwara"},{"$f":"IF(COUNTRY_INFO!C109=0,\" \",COUNTRY_INFO!C109)","v":"Mtwara District Council"},{"$f":"IF(AND(COUNTRY_INFO!$T$9:$T$1000=\"T3 (ALB/MBD)\",COUNTRY_INFO!$U$9:$U$1000=\"T3 (ALB/MBD)\"), \"T3 (ALB/MBD)\", \" \")","v":" "},null,null,null,null,null,0,null,null,null,0," "," "," "," "]
[{"$f":"IF(COUNTRY_INFO!A110=0,\" \",COUNTRY_INFO!A110)","v":"Tanzania"},{"$f":"IF(COUNTRY_INFO!B110=0,\" \",COUNTRY_INFO!B110)","v":"Mtwara"},{"$f":"IF(COUNTRY_INFO!C110=0,\" \",COUNTRY_INFO!C110)","v":"Mtwara-Mikindani Municipal Council"},{"$f":"IF(AND(COUNTRY_INFO!$T$9:$T$1000=\"T3 (ALB/MBD)\",COUNTRY_INFO!$U$9:$U$1000=\"T3 (ALB/MBD)\"), \"T3 (ALB/MBD)\", \" \")","v":" "},null,null,null,null,null,0,null,null,null,0," "," "," "," "]
[{"$f":"IF(COUNTRY_INFO!A111=0,\" \",COUNTRY_INFO!A111)","v":"Tanzania"},{"$f":"IF(COUNTRY_INFO!B111=0,\" \",COUNTRY_INFO!B111)","v":"Mtwara"},{"$f":"IF(COUNTRY_INFO!C111=0,\" \",COUNTRY_INFO!C111)","v":"Nanyamba Town Council"},{"$f":"IF(AND(COUNTRY_INFO!$T$9:$T$1000=\"T3 (ALB/MBD)\",COUNTRY_INFO!$U$9:$U$1000=\"T3 (ALB/MBD)\"), \"T3 (ALB/MBD)\", \" \")","v":" "},null,null,null,null,null,0,null,null,null,0," "," "," "," "]
[{"$f":"IF(COUNTRY_INFO!A112=0,\" \",COUNTRY_INFO!A112)","v":"Tanzania"},{"$f":"IF(COUNTRY_INFO!B112=0,\" \",COUNTRY_INFO!B112)","v":"Mtwara"},{"$f":"IF(COUNTRY_INFO!C112=0,\" \",COUNTRY_INFO!C112)","v":"Nanyumbu District Council"},{"$f":"IF(AND(COUNTRY_INFO!$T$9:$T$1000=\"T3 (ALB/MBD)\",COUNTRY_INFO!$U$9:$U$1000=\"T3 (ALB/MBD)\"), \"T3 (ALB/MBD)\", \" \")","v":" "},null,null,null,null,null,0,null,null,null,0," "," "," "," "]
[{"$f":"IF(COUNTRY_INFO!A113=0,\" \",COUNTRY_INFO!A113)","v":"Tanzania"},{"$f":"IF(COUNTRY_INFO!B113=0,\" \",COUNTRY_INFO!B113)","v":"Mtwara"},{"$f":"IF(COUNTRY_INFO!C113=0,\" \",COUNTRY_INFO!C113)","v":"Newala District Council"},{"$f":"IF(AND(COUNTRY_INFO!$T$9:$T$1000=\"T3 (ALB/MBD)\",COUNTRY_INFO!$U$9:$U$1000=\"T3 (ALB/MBD)\"), \"T3 (ALB/MBD)\", \" \")","v":" "},null,null,null,null,null,0,null,null,null,0," "," "," "," "]
[{"$f":"IF(COUNTRY_INFO!A114=0,\" \",COUNTRY_INFO!A114)","v":"Tanzania"},{"$f":"IF(COUNTRY_INFO!B114=0,\" \",COUNTRY_INFO!B114)","v":"Mtwara"},{"$f":"IF(COUNTRY_INFO!C114=0,\" \",COUNTRY_INFO!C114)","v":"Newala Town Council"},{"$f":"IF(AND(COUNTRY_INFO!$T$9:$T$1000=\"T3 (ALB/MBD)\",COUNTRY_INFO!$U$9:$U$1000=\"T3 (ALB/MBD)\"), \"T3 (ALB/MBD)\", \" \")","v":" "},null,null,null,null,null,0,null,null,null,0," "," "," "," "]
[{"$f":"IF(COUNTRY_INFO!A115=0,\" \",COUNTRY_INFO!A115)","v":"Tanzania"},{"$f":"IF(COUNTRY_INFO!B115=0,\" \",COUNTRY_INFO!B115)","v":"Mtwara"},{"$f":"IF(COUNTRY_INFO!C115=0,\" \",COUNTRY_INFO!C115)","v":"Tandahimba District Council"},{"$f":"IF(AND(COUNTRY_INFO!$T$9:$T$1000=\"T3 (ALB/MBD)\",COUNTRY_INFO!$U$9:$U$1000=\"T3 (ALB/MBD)\"), \"T3 (ALB/MBD)\", \" \")","v":" "},null,null,null,null,null,0,null,null,null,0," "," "," "," "]
[{"$f":"IF(COUNTRY_INFO!A116=0,\" \",COUNTRY_INFO!A116)","v":"Tanzania"},{"$f":"IF(COUNTRY_INFO!B116=0,\" \",COUNTRY_INFO!B116)","v":"Mwanza"},{"$f":"IF(COUNTRY_INFO!C116=0,\" \",COUNTRY_INFO!C116)","v":"Buchosa District Council"},{"$f":"IF(AND(COUNTRY_INFO!$T$9:$T$1000=\"T3 (ALB/MBD)\",COUNTRY_INFO!$U$9:$U$1000=\"T3 (ALB/MBD)\"), \"T3 (ALB/MBD)\", \" \")","v":" "},null,null,null,null,null,0,null,null,null,0," "," "," "," "]
[{"$f":"IF(COUNTRY_INFO!A117=0,\" \",COUNTRY_INFO!A117)","v":"Tanzania"},{"$f":"IF(COUNTRY_INFO!B117=0,\" \",COUNTRY_INFO!B117)","v":"Mwanza"},{"$f":"IF(COUNTRY_INFO!C117=0,\" \",COUNTRY_INFO!C117)","v":"Ilemela Municipal Council"},{"$f":"IF(AND(COUNTRY_INFO!$T$9:$T$1000=\"T3 (ALB/MBD)\",COUNTRY_INFO!$U$9:$U$1000=\"T3 (ALB/MBD)\"), \"T3 (ALB/MBD)\", \" \")","v":" "},null,null,null,null,null,0,null,null,null,0," "," "," "," "]
[{"$f":"IF(COUNTRY_INFO!A118=0,\" \",COUNTRY_INFO!A118)","v":"Tanzania"},{"$f":"IF(COUNTRY_INFO!B118=0,\" \",COUNTRY_INFO!B118)","v":"Mwanza"},{"$f":"IF(COUNTRY_INFO!C118=0,\" \",COUNTRY_INFO!C118)","v":"Kwimba District Council"},{"$f":"IF(AND(COUNTRY_INFO!$T$9:$T$1000=\"T3 (ALB/MBD)\",COUNTRY_INFO!$U$9:$U$1000=\"T3 (ALB/MBD)\"), \"T3 (ALB/MBD)\", \" \")","v":" "},null,null,null,null,null,0,null,null,null,0," "," "," "," "]
[{"$f":"IF(COUNTRY_INFO!A119=0,\" \",COUNTRY_INFO!A119)","v":"Tanzania"},{"$f":"IF(COUNTRY_INFO!B119=0,\" \",COUNTRY_INFO!B119)","v":"Mwanza"},{"$f":"IF(COUNTRY_INFO!C119=0,\" \",COUNTRY_INFO!C119)","v":"Magu District Council"},{"$f":"IF(AND(COUNTRY_INFO!$T$9:$T$1000=\"T3 (ALB/MBD)\",COUNTRY_INFO!$U$9:$U$1000=\"T3 (ALB/MBD)\"), \"T3 (ALB/MBD)\", \" \")","v":" "},null,null,null,null,null,0,null,null,null,0," "," "," "," "]
[{"$f":"IF(COUNTRY_INFO!A120=0,\" \",COUNTRY_INFO!A120)","v":"Tanzania"},{"$f":"IF(COUNTRY_INFO!B120=0,\" \",COUNTRY_INFO!B120)","v":"Mwanza"},{"$f":"IF(COUNTRY_INFO!C120=0,\" \",COUNTRY_INFO!C120)","v":"Misungwi District Council"},{"$f":"IF(AND(COUNTRY_INFO!$T$9:$T$1000=\"T3 (ALB/MBD)\",COUNTRY_INFO!$U$9:$U$1000=\"T3 (ALB/MBD)\"), \"T3 (ALB/MBD)\", \" \")","v":" "},null,null,null,null,null,0,null,null,null,0," "," "," "," "]
[{"$f":"IF(COUNTRY_INFO!A121=0,\" \",COUNTRY_INFO!A121)","v":"Tanzania"},{"$f":"IF(COUNTRY_INFO!B121=0,\" \",COUNTRY_INFO!B121)","v":"Mwanza"},{"$f":"IF(COUNTRY_INFO!C121=0,\" \",COUNTRY_INFO!C121)","v":"Mwanza-Nyamagana City Council"},{"$f":"IF(AND(COUNTRY_INFO!$T$9:$T$1000=\"T3 (ALB/MBD)\",COUNTRY_INFO!$U$9:$U$1000=\"T3 (ALB/MBD)\"), \"T3 (ALB/MBD)\", \" \")","v":" "},null,null,null,null,null,0,null,null,null,0," "," "," "," "]
[{"$f":"IF(COUNTRY_INFO!A122=0,\" \",COUNTRY_INFO!A122)","v":"Tanzania"},{"$f":"IF(COUNTRY_INFO!B122=0,\" \",COUNTRY_INFO!B122)","v":"Mwanza"},{"$f":"IF(COUNTRY_INFO!C122=0,\" \",COUNTRY_INFO!C122)","v":"Sengerema District Council"},{"$f":"IF(AND(COUNTRY_INFO!$T$9:$T$1000=\"T3 (ALB/MBD)\",COUNTRY_INFO!$U$9:$U$1000=\"T3 (ALB/MBD)\"), \"T3 (ALB/MBD)\", \" \")","v":" "},null,null,null,null,null,0,null,null,null,0," "," "," "," "]
[{"$f":"IF(COUNTRY_INFO!A123=0,\" \",COUNTRY_INFO!A123)","v":"Tanzania"},{"$f":"IF(COUNTRY_INFO!B123=0,\" \",COUNTRY_INFO!B123)","v":"Mwanza"},{"$f":"IF(COUNTRY_INFO!C123=0,\" \",COUNTRY_INFO!C123)","v":"Ukerewe District Council"},{"$f":"IF(AND(COUNTRY_INFO!$T$9:$T$1000=\"T3 (ALB/MBD)\",COUNTRY_INFO!$U$9:$U$1000=\"T3 (ALB/MBD)\"), \"T3 (ALB/MBD)\", \" \")","v":" "},null,null,null,null,null,0,null,null,null,0," "," "," "," "]
[{"$f":"IF(COUNTRY_INFO!A124=0,\" \",COUNTRY_INFO!A124)","v":"Tanzania"},{"$f":"IF(COUNTRY_INFO!B124=0,\" \",COUNTRY_INFO!B124)","v":"Njombe"},{"$f":"IF(COUNTRY_INFO!C124=0,\" \",COUNTRY_INFO!C124)","v":"Ludewa District Council"},{"$f":"IF(AND(COUNTRY_INFO!$T$9:$T$1000=\"T3 (ALB/MBD)\",COUNTRY_INFO!$U$9:$U$1000=\"T3 (ALB/MBD)\"), \"T3 (ALB/MBD)\", \" \")","v":" "},null,null,null,null,null,0,null,null,null,0," "," "," "," "]
[{"$f":"IF(COUNTRY_INFO!A125=0,\" \",COUNTRY_INFO!A125)","v":"Tanzania"},{"$f":"IF(COUNTRY_INFO!B125=0,\" \",COUNTRY_INFO!B125)","v":"Njombe"},{"$f":"IF(COUNTRY_INFO!C125=0,\" \",COUNTRY_INFO!C125)","v":"Makambako Town Council"},{"$f":"IF(AND(COUNTRY_INFO!$T$9:$T$1000=\"T3 (ALB/MBD)\",COUNTRY_INFO!$U$9:$U$1000=\"T3 (ALB/MBD)\"), \"T3 (ALB/MBD)\", \" \")","v":" "},null,null,null,null,null,0,null,null,null,0," "," "," "," "]
[{"$f":"IF(COUNTRY_INFO!A126=0,\" \",COUNTRY_INFO!A126)","v":"Tanzania"},{"$f":"IF(COUNTRY_INFO!B126=0,\" \",COUNTRY_INFO!B126)","v":"Njombe"},{"$f":"IF(COUNTRY_INFO!C126=0,\" \",COUNTRY_INFO!C126)","v":"Makete District Council"},{"$f":"IF(AND(COUNTRY_INFO!$T$9:$T$1000=\"T3 (ALB/MBD)\",COUNTRY_INFO!$U$9:$U$1000=\"T3 (ALB/MBD)\"), \"T3 (ALB/MBD)\", \" \")","v":" "},null,null,null,null,null,0,null,null,null,0," "," "," "," "]
[{"$f":"IF(COUNTRY_INFO!A127=0,\" \",COUNTRY_INFO!A127)","v":"Tanzania"},{"$f":"IF(COUNTRY_INFO!B127=0,\" \",COUNTRY_INFO!B127)","v":"Njombe"},{"$f":"IF(COUNTRY_INFO!C127=0,\" \",COUNTRY_INFO!C127)","v":"Njombe District Council"},{"$f":"IF(AND(COUNTRY_INFO!$T$9:$T$1000=\"T3 (ALB/MBD)\",COUNTRY_INFO!$U$9:$U$1000=\"T3 (ALB/MBD)\"), \"T3 (ALB/MBD)\", \" \")","v":" "},null,null,null,null,null,0,null,null,null,0," "," "," "," "]
[{"$f":"IF(COUNTRY_INFO!A128=0,\" \",COUNTRY_INFO!A128)","v":"Tanzania"},{"$f":"IF(COUNTRY_INFO!B128=0,\" \",COUNTRY_INFO!B128)","v":"Njombe"},{"$f":"IF(COUNTRY_INFO!C128=0,\" \",COUNTRY_INFO!C128)","v":"Njombe Town Council"},{"$f":"IF(AND(COUNTRY_INFO!$T$9:$T$1000=\"T3 (ALB/MBD)\",COUNTRY_INFO!$U$9:$U$1000=\"T3 (ALB/MBD)\"), \"T3 (ALB/MBD)\", \" \")","v":" "},null,null,null,null,null,0,null,null,null,0," "," "," "," "]
[{"$f":"IF(COUNTRY_INFO!A129=0,\" \",COUNTRY_INFO!A129)","v":"Tanzania"},{"$f":"IF(COUNTRY_INFO!B129=0,\" \",COUNTRY_INFO!B129)","v":"Njombe"},{"$f":"IF(COUNTRY_INFO!C129=0,\" \",COUNTRY_INFO!C129)","v":"Wanging'ombe District Council"},{"$f":"IF(AND(COUNTRY_INFO!$T$9:$T$1000=\"T3 (ALB/MBD)\",COUNTRY_INFO!$U$9:$U$1000=\"T3 (ALB/MBD)\"), \"T3 (ALB/MBD)\", \" \")","v":" "},null,null,null,null,null,0,null,null,null,0," "," "," "," "]
[{"$f":"IF(COUNTRY_INFO!A130=0,\" \",COUNTRY_INFO!A130)","v":"Tanzania"},{"$f":"IF(COUNTRY_INFO!B130=0,\" \",COUNTRY_INFO!B130)","v":"Pwani"},{"$f":"IF(COUNTRY_INFO!C130=0,\" \",COUNTRY_INFO!C130)","v":"Bagamoyo District Council"},{"$f":"IF(AND(COUNTRY_INFO!$T$9:$T$1000=\"T3 (ALB/MBD)\",COUNTRY_INFO!$U$9:$U$1000=\"T3 (ALB/MBD)\"), \"T3 (ALB/MBD)\", \" \")","v":" "},null,null,null,null,null,0,null,null,null,0," "," "," "," "]
[{"$f":"IF(COUNTRY_INFO!A131=0,\" \",COUNTRY_INFO!A131)","v":"Tanzania"},{"$f":"IF(COUNTRY_INFO!B131=0,\" \",COUNTRY_INFO!B131)","v":"Pwani"},{"$f":"IF(COUNTRY_INFO!C131=0,\" \",COUNTRY_INFO!C131)","v":"Chalinze District Council"},{"$f":"IF(AND(COUNTRY_INFO!$T$9:$T$1000=\"T3 (ALB/MBD)\",COUNTRY_INFO!$U$9:$U$1000=\"T3 (ALB/MBD)\"), \"T3 (ALB/MBD)\", \" \")","v":" "},null,null,null,null,null,0,null,null,null,0," "," "," "," "]
[{"$f":"IF(COUNTRY_INFO!A132=0,\" \",COUNTRY_INFO!A132)","v":"Tanzania"},{"$f":"IF(COUNTRY_INFO!B132=0,\" \",COUNTRY_INFO!B132)","v":"Pwani"},{"$f":"IF(COUNTRY_INFO!C132=0,\" \",COUNTRY_INFO!C132)","v":"Kibaha District Council"},{"$f":"IF(AND(COUNTRY_INFO!$T$9:$T$1000=\"T3 (ALB/MBD)\",COUNTRY_INFO!$U$9:$U$1000=\"T3 (ALB/MBD)\"), \"T3 (ALB/MBD)\", \" \")","v":" "},null,null,null,null,null,0,null,null,null,0," "," "," "," "]
[{"$f":"IF(COUNTRY_INFO!A133=0,\" \",COUNTRY_INFO!A133)","v":"Tanzania"},{"$f":"IF(COUNTRY_INFO!B133=0,\" \",COUNTRY_INFO!B133)","v":"Pwani"},{"$f":"IF(COUNTRY_INFO!C133=0,\" \",COUNTRY_INFO!C133)","v":"Kibaha Town Council"},{"$f":"IF(AND(COUNTRY_INFO!$T$9:$T$1000=\"T3 (ALB/MBD)\",COUNTRY_INFO!$U$9:$U$1000=\"T3 (ALB/MBD)\"), \"T3 (ALB/MBD)\", \" \")","v":" "},null,null,null,null,null,0,null,null,null,0," "," "," "," "]
[{"$f":"IF(COUNTRY_INFO!A134=0,\" \",COUNTRY_INFO!A134)","v":"Tanzania"},{"$f":"IF(COUNTRY_INFO!B134=0,\" \",COUNTRY_INFO!B134)","v":"Pwani"},{"$f":"IF(COUNTRY_INFO!C134=0,\" \",COUNTRY_INFO!C134)","v":"Kibiti District Council"},{"$f":"IF(AND(COUNTRY_INFO!$T$9:$T$1000=\"T3 (ALB/MBD)\",COUNTRY_INFO!$U$9:$U$1000=\"T3 (ALB/MBD)\"), \"T3 (ALB/MBD)\", \" \")","v":" "},null,null,null,null,null,0,null,null,null,0," "," "," "," "]
[{"$f":"IF(COUNTRY_INFO!A135=0,\" \",COUNTRY_INFO!A135)","v":"Tanzania"},{"$f":"IF(COUNTRY_INFO!B135=0,\" \",COUNTRY_INFO!B135)","v":"Pwani"},{"$f":"IF(COUNTRY_INFO!C135=0,\" \",COUNTRY_INFO!C135)","v":"Kisarawe District Council"},{"$f":"IF(AND(COUNTRY_INFO!$T$9:$T$1000=\"T3 (ALB/MBD)\",COUNTRY_INFO!$U$9:$U$1000=\"T3 (ALB/MBD)\"), \"T3 (ALB/MBD)\", \" \")","v":" "},null,null,null,null,null,0,null,null,null,0," "," "," "," "]
[{"$f":"IF(COUNTRY_INFO!A136=0,\" \",COUNTRY_INFO!A136)","v":"Tanzania"},{"$f":"IF(COUNTRY_INFO!B136=0,\" \",COUNTRY_INFO!B136)","v":"Pwani"},{"$f":"IF(COUNTRY_INFO!C136=0,\" \",COUNTRY_INFO!C136)","v":"Mafia District Council"},{"$f":"IF(AND(COUNTRY_INFO!$T$9:$T$1000=\"T3 (ALB/MBD)\",COUNTRY_INFO!$U$9:$U$1000=\"T3 (ALB/MBD)\"), \"T3 (ALB/MBD)\", \" \")","v":" "},null,null,null,null,null,0,null,null,null,0," "," "," "," "]
[{"$f":"IF(COUNTRY_INFO!A137=0,\" \",COUNTRY_INFO!A137)","v":"Tanzania"},{"$f":"IF(COUNTRY_INFO!B137=0,\" \",COUNTRY_INFO!B137)","v":"Pwani"},{"$f":"IF(COUNTRY_INFO!C137=0,\" \",COUNTRY_INFO!C137)","v":"Mkuranga District Council"},{"$f":"IF(AND(COUNTRY_INFO!$T$9:$T$1000=\"T3 (ALB/MBD)\",COUNTRY_INFO!$U$9:$U$1000=\"T3 (ALB/MBD)\"), \"T3 (ALB/MBD)\", \" \")","v":" "},null,null,null,null,null,0,null,null,null,0," "," "," "," "]
[{"$f":"IF(COUNTRY_INFO!A138=0,\" \",COUNTRY_INFO!A138)","v":"Tanzania"},{"$f":"IF(COUNTRY_INFO!B138=0,\" \",COUNTRY_INFO!B138)","v":"Pwani"},{"$f":"IF(COUNTRY_INFO!C138=0,\" \",COUNTRY_INFO!C138)","v":"Rufiji District Council"},{"$f":"IF(AND(COUNTRY_INFO!$T$9:$T$1000=\"T3 (ALB/MBD)\",COUNTRY_INFO!$U$9:$U$1000=\"T3 (ALB/MBD)\"), \"T3 (ALB/MBD)\", \" \")","v":" "},null,null,null,null,null,{"$f":"SUM(G138:I138)","v":0},null,null,null,{"$f":"SUM(K138:M138)","v":0},{"$f":"IF(G138<>0, IF(K138/G138*100=0, \"-\", K138/G138*100), \" \")","v":" "},{"$f":"IF(H138<>0, IF(L138/H138*100=0, \"-\", L138/H138*100), \" \")","v":" "},{"$f":"IF(I138<>0, IF(M138/I138*100=0, \"-\", M138/I138*100), \" \")","v":" "},{"$f":"IF(J138<>0, IF(N138/J138*100=0, \"-\", N138/J138*100), \" \")","v":" "}]
[{"$f":"IF(COUNTRY_INFO!A139=0,\" \",COUNTRY_INFO!A139)","v":"Tanzania"},{"$f":"IF(COUNTRY_INFO!B139=0,\" \",COUNTRY_INFO!B139)","v":"Rukwa"},{"$f":"IF(COUNTRY_INFO!C139=0,\" \",COUNTRY_INFO!C139)","v":"Kalambo District Council"},{"$f":"IF(AND(COUNTRY_INFO!$T$9:$T$1000=\"T3 (ALB/MBD)\",COUNTRY_INFO!$U$9:$U$1000=\"T3 (ALB/MBD)\"), \"T3 (ALB/MBD)\", \" \")","v":" "},null,null,null,null,null,0,null,null,null,0," "," "," "," "]
[{"$f":"IF(COUNTRY_INFO!A140=0,\" \",COUNTRY_INFO!A140)","v":"Tanzania"},{"$f":"IF(COUNTRY_INFO!B140=0,\" \",COUNTRY_INFO!B140)","v":"Rukwa"},{"$f":"IF(COUNTRY_INFO!C140=0,\" \",COUNTRY_INFO!C140)","v":"Nkasi District Council"},{"$f":"IF(AND(COUNTRY_INFO!$T$9:$T$1000=\"T3 (ALB/MBD)\",COUNTRY_INFO!$U$9:$U$1000=\"T3 (ALB/MBD)\"), \"T3 (ALB/MBD)\", \" \")","v":" "},null,null,null,null,null,0,null,null,null,0," "," "," "," "]
[{"$f":"IF(COUNTRY_INFO!A141=0,\" \",COUNTRY_INFO!A141)","v":"Tanzania"},{"$f":"IF(COUNTRY_INFO!B141=0,\" \",COUNTRY_INFO!B141)","v":"Rukwa"},{"$f":"IF(COUNTRY_INFO!C141=0,\" \",COUNTRY_INFO!C141)","v":"Sumbawanga District Council"},{"$f":"IF(AND(COUNTRY_INFO!$T$9:$T$1000=\"T3 (ALB/MBD)\",COUNTRY_INFO!$U$9:$U$1000=\"T3 (ALB/MBD)\"), \"T3 (ALB/MBD)\", \" \")","v":" "},null,null,null,null,null,0,null,null,null,0," "," "," "," "]
[{"$f":"IF(COUNTRY_INFO!A142=0,\" \",COUNTRY_INFO!A142)","v":"Tanzania"},{"$f":"IF(COUNTRY_INFO!B142=0,\" \",COUNTRY_INFO!B142)","v":"Rukwa"},{"$f":"IF(COUNTRY_INFO!C142=0,\" \",COUNTRY_INFO!C142)","v":"Sumbawanga Municipal Council"},{"$f":"IF(AND(COUNTRY_INFO!$T$9:$T$1000=\"T3 (ALB/MBD)\",COUNTRY_INFO!$U$9:$U$1000=\"T3 (ALB/MBD)\"), \"T3 (ALB/MBD)\", \" \")","v":" "},null,null,null,null,null,0,null,null,null,0," "," "," "," "]
[{"$f":"IF(COUNTRY_INFO!A143=0,\" \",COUNTRY_INFO!A143)","v":"Tanzania"},{"$f":"IF(COUNTRY_INFO!B143=0,\" \",COUNTRY_INFO!B143)","v":"Ruvuma"},{"$f":"IF(COUNTRY_INFO!C143=0,\" \",COUNTRY_INFO!C143)","v":"Madaba District Council"},{"$f":"IF(AND(COUNTRY_INFO!$T$9:$T$1000=\"T3 (ALB/MBD)\",COUNTRY_INFO!$U$9:$U$1000=\"T3 (ALB/MBD)\"), \"T3 (ALB/MBD)\", \" \")","v":" "},null,null,null,null,null,0,null,null,null,0," "," "," "," "]
[{"$f":"IF(COUNTRY_INFO!A144=0,\" \",COUNTRY_INFO!A144)","v":"Tanzania"},{"$f":"IF(COUNTRY_INFO!B144=0,\" \",COUNTRY_INFO!B144)","v":"Ruvuma"},{"$f":"IF(COUNTRY_INFO!C144=0,\" \",COUNTRY_INFO!C144)","v":"Mbinga District Council"},{"$f":"IF(AND(COUNTRY_INFO!$T$9:$T$1000=\"T3 (ALB/MBD)\",COUNTRY_INFO!$U$9:$U$1000=\"T3 (ALB/MBD)\"), \"T3 (ALB/MBD)\", \" \")","v":" "},null,null,null,null,null,0,null,null,null,0," "," "," "," "]
[{"$f":"IF(COUNTRY_INFO!A145=0,\" \",COUNTRY_INFO!A145)","v":"Tanzania"},{"$f":"IF(COUNTRY_INFO!B145=0,\" \",COUNTRY_INFO!B145)","v":"Ruvuma"},{"$f":"IF(COUNTRY_INFO!C145=0,\" \",COUNTRY_INFO!C145)","v":"Mbinga Town Council"},{"$f":"IF(AND(COUNTRY_INFO!$T$9:$T$1000=\"T3 (ALB/MBD)\",COUNTRY_INFO!$U$9:$U$1000=\"T3 (ALB/MBD)\"), \"T3 (ALB/MBD)\", \" \")","v":" "},null,null,null,null,null,0,null,null,null,0," "," "," "," "]
[{"$f":"IF(COUNTRY_INFO!A146=0,\" \",COUNTRY_INFO!A146)","v":"Tanzania"},{"$f":"IF(COUNTRY_INFO!B146=0,\" \",COUNTRY_INFO!B146)","v":"Ruvuma"},{"$f":"IF(COUNTRY_INFO!C146=0,\" \",COUNTRY_INFO!C146)","v":"Namtumbo District Council"},{"$f":"IF(AND(COUNTRY_INFO!$T$9:$T$1000=\"T3 (ALB/MBD)\",COUNTRY_INFO!$U$9:$U$1000=\"T3 (ALB/MBD)\"), \"T3 (ALB/MBD)\", \" \")","v":" "},null,null,null,null,null,0,null,null,null,0," "," "," "," "]
[{"$f":"IF(COUNTRY_INFO!A147=0,\" \",COUNTRY_INFO!A147)","v":"Tanzania"},{"$f":"IF(COUNTRY_INFO!B147=0,\" \",COUNTRY_INFO!B147)","v":"Ruvuma"},{"$f":"IF(COUNTRY_INFO!C147=0,\" \",COUNTRY_INFO!C147)","v":"Nyasa District Council"},{"$f":"IF(AND(COUNTRY_INFO!$T$9:$T$1000=\"T3 (ALB/MBD)\",COUNTRY_INFO!$U$9:$U$1000=\"T3 (ALB/MBD)\"), \"T3 (ALB/MBD)\", \" \")","v":" "},null,null,null,null,null,0,null,null,null,0," "," "," "," "]
[{"$f":"IF(COUNTRY_INFO!A148=0,\" \",COUNTRY_INFO!A148)","v":"Tanzania"},{"$f":"IF(COUNTRY_INFO!B148=0,\" \",COUNTRY_INFO!B148)","v":"Ruvuma"},{"$f":"IF(COUNTRY_INFO!C148=0,\" \",COUNTRY_INFO!C148)","v":"Songea District Council"},{"$f":"IF(AND(COUNTRY_INFO!$T$9:$T$1000=\"T3 (ALB/MBD)\",COUNTRY_INFO!$U$9:$U$1000=\"T3 (ALB/MBD)\"), \"T3 (ALB/MBD)\", \" \")","v":" "},null,null,null,null,null,0,null,null,null,0," "," "," "," "]
[{"$f":"IF(COUNTRY_INFO!A149=0,\" \",COUNTRY_INFO!A149)","v":"Tanzania"},{"$f":"IF(COUNTRY_INFO!B149=0,\" \",COUNTRY_INFO!B149)","v":"Ruvuma"},{"$f":"IF(COUNTRY_INFO!C149=0,\" \",COUNTRY_INFO!C149)","v":"Songea Municipal Council"},{"$f":"IF(AND(COUNTRY_INFO!$T$9:$T$1000=\"T3 (ALB/MBD)\",COUNTRY_INFO!$U$9:$U$1000=\"T3 (ALB/MBD)\"), \"T3 (ALB/MBD)\", \" \")","v":" "},null,null,null,null,null,0,null,null,null,0," "," "," "," "]
[{"$f":"IF(COUNTRY_INFO!A150=0,\" \",COUNTRY_INFO!A150)","v":"Tanzania"},{"$f":"IF(COUNTRY_INFO!B150=0,\" \",COUNTRY_INFO!B150)","v":"Ruvuma"},{"$f":"IF(COUNTRY_INFO!C150=0,\" \",COUNTRY_INFO!C150)","v":"Tunduru District Council"},{"$f":"IF(AND(COUNTRY_INFO!$T$9:$T$1000=\"T3 (ALB/MBD)\",COUNTRY_INFO!$U$9:$U$1000=\"T3 (ALB/MBD)\"), \"T3 (ALB/MBD)\", \" \")","v":" "},null,null,null,null,null,0,null,null,null,0," "," "," "," "]
[{"$f":"IF(COUNTRY_INFO!A151=0,\" \",COUNTRY_INFO!A151)","v":"Tanzania"},{"$f":"IF(COUNTRY_INFO!B151=0,\" \",COUNTRY_INFO!B151)","v":"Shinyanga"},{"$f":"IF(COUNTRY_INFO!C151=0,\" \",COUNTRY_INFO!C151)","v":"Kahama Town Council"},{"$f":"IF(AND(COUNTRY_INFO!$T$9:$T$1000=\"T3 (ALB/MBD)\",COUNTRY_INFO!$U$9:$U$1000=\"T3 (ALB/MBD)\"), \"T3 (ALB/MBD)\", \" \")","v":" "},null,null,null,null,null,0,null,null,null,0," "," "," "," "]
[{"$f":"IF(COUNTRY_INFO!A152=0,\" \",COUNTRY_INFO!A152)","v":"Tanzania"},{"$f":"IF(COUNTRY_INFO!B152=0,\" \",COUNTRY_INFO!B152)","v":"Shinyanga"},{"$f":"IF(COUNTRY_INFO!C152=0,\" \",COUNTRY_INFO!C152)","v":"Kishapu District Council"},{"$f":"IF(AND(COUNTRY_INFO!$T$9:$T$1000=\"T3 (ALB/MBD)\",COUNTRY_INFO!$U$9:$U$1000=\"T3 (ALB/MBD)\"), \"T3 (ALB/MBD)\", \" \")","v":" "},null,null,null,null,null,0,null,null,null,0," "," "," "," "]
[{"$f":"IF(COUNTRY_INFO!A153=0,\" \",COUNTRY_INFO!A153)","v":"Tanzania"},{"$f":"IF(COUNTRY_INFO!B153=0,\" \",COUNTRY_INFO!B153)","v":"Shinyanga"},{"$f":"IF(COUNTRY_INFO!C153=0,\" \",COUNTRY_INFO!C153)","v":"Msalala District Council"},{"$f":"IF(AND(COUNTRY_INFO!$T$9:$T$1000=\"T3 (ALB/MBD)\",COUNTRY_INFO!$U$9:$U$1000=\"T3 (ALB/MBD)\"), \"T3 (ALB/MBD)\", \" \")","v":" "},null,null,null,null,null,0,null,null,null,0," "," "," "," "]
[{"$f":"IF(COUNTRY_INFO!A154=0,\" \",COUNTRY_INFO!A154)","v":"Tanzania"},{"$f":"IF(COUNTRY_INFO!B154=0,\" \",COUNTRY_INFO!B154)","v":"Shinyanga"},{"$f":"IF(COUNTRY_INFO!C154=0,\" \",COUNTRY_INFO!C154)","v":"Shinyanga District Council"},{"$f":"IF(AND(COUNTRY_INFO!$T$9:$T$1000=\"T3 (ALB/MBD)\",COUNTRY_INFO!$U$9:$U$1000=\"T3 (ALB/MBD)\"), \"T3 (ALB/MBD)\", \" \")","v":" "},null,null,null,null,null,0,null,null,null,0," "," "," "," "]
[{"$f":"IF(COUNTRY_INFO!A155=0,\" \",COUNTRY_INFO!A155)","v":"Tanzania"},{"$f":"IF(COUNTRY_INFO!B155=0,\" \",COUNTRY_INFO!B155)","v":"Shinyanga"},{"$f":"IF(COUNTRY_INFO!C155=0,\" \",COUNTRY_INFO!C155)","v":"Shinyanga Municipal Council"},{"$f":"IF(AND(COUNTRY_INFO!$T$9:$T$1000=\"T3 (ALB/MBD)\",COUNTRY_INFO!$U$9:$U$1000=\"T3 (ALB/MBD)\"), \"T3 (ALB/MBD)\", \" \")","v":" "},null,null,null,null,null,0,null,null,null,0," "," "," "," "]
[{"$f":"IF(COUNTRY_INFO!A156=0,\" \",COUNTRY_INFO!A156)","v":"Tanzania"},{"$f":"IF(COUNTRY_INFO!B156=0,\" \",COUNTRY_INFO!B156)","v":"Shinyanga"},{"$f":"IF(COUNTRY_INFO!C156=0,\" \",COUNTRY_INFO!C156)","v":"Ushetu District Council"},{"$f":"IF(AND(COUNTRY_INFO!$T$9:$T$1000=\"T3 (ALB/MBD)\",COUNTRY_INFO!$U$9:$U$1000=\"T3 (ALB/MBD)\"), \"T3 (ALB/MBD)\", \" \")","v":" "},null,null,null,null,null,0,null,null,null,0," "," "," "," "]
[{"$f":"IF(COUNTRY_INFO!A157=0,\" \",COUNTRY_INFO!A157)","v":"Tanzania"},{"$f":"IF(COUNTRY_INFO!B157=0,\" \",COUNTRY_INFO!B157)","v":"Simiyu"},{"$f":"IF(COUNTRY_INFO!C157=0,\" \",COUNTRY_INFO!C157)","v":"Bariadi District Council"},{"$f":"IF(AND(COUNTRY_INFO!$T$9:$T$1000=\"T3 (ALB/MBD)\",COUNTRY_INFO!$U$9:$U$1000=\"T3 (ALB/MBD)\"), \"T3 (ALB/MBD)\", \" \")","v":" "},null,null,null,null,null,0,null,null,null,0," "," "," "," "]
[{"$f":"IF(COUNTRY_INFO!A158=0,\" \",COUNTRY_INFO!A158)","v":"Tanzania"},{"$f":"IF(COUNTRY_INFO!B158=0,\" \",COUNTRY_INFO!B158)","v":"Simiyu"},{"$f":"IF(COUNTRY_INFO!C158=0,\" \",COUNTRY_INFO!C158)","v":"Bariadi Town Council"},{"$f":"IF(AND(COUNTRY_INFO!$T$9:$T$1000=\"T3 (ALB/MBD)\",COUNTRY_INFO!$U$9:$U$1000=\"T3 (ALB/MBD)\"), \"T3 (ALB/MBD)\", \" \")","v":" "},null,null,null,null,null,0,null,null,null,0," "," "," "," "]
[{"$f":"IF(COUNTRY_INFO!A159=0,\" \",COUNTRY_INFO!A159)","v":"Tanzania"},{"$f":"IF(COUNTRY_INFO!B159=0,\" \",COUNTRY_INFO!B159)","v":"Simiyu"},{"$f":"IF(COUNTRY_INFO!C159=0,\" \",COUNTRY_INFO!C159)","v":"Busega District Council"},{"$f":"IF(AND(COUNTRY_INFO!$T$9:$T$1000=\"T3 (ALB/MBD)\",COUNTRY_INFO!$U$9:$U$1000=\"T3 (ALB/MBD)\"), \"T3 (ALB/MBD)\", \" \")","v":" "},null,null,null,null,null,0,null,null,null,0," "," "," "," "]
[{"$f":"IF(COUNTRY_INFO!A160=0,\" \",COUNTRY_INFO!A160)","v":"Tanzania"},{"$f":"IF(COUNTRY_INFO!B160=0,\" \",COUNTRY_INFO!B160)","v":"Simiyu"},{"$f":"IF(COUNTRY_INFO!C160=0,\" \",COUNTRY_INFO!C160)","v":"Itilima District Council"},{"$f":"IF(AND(COUNTRY_INFO!$T$9:$T$1000=\"T3 (ALB/MBD)\",COUNTRY_INFO!$U$9:$U$1000=\"T3 (ALB/MBD)\"), \"T3 (ALB/MBD)\", \" \")","v":" "},null,null,null,null,null,0,null,null,null,0," "," "," "," "]
[{"$f":"IF(COUNTRY_INFO!A161=0,\" \",COUNTRY_INFO!A161)","v":"Tanzania"},{"$f":"IF(COUNTRY_INFO!B161=0,\" \",COUNTRY_INFO!B161)","v":"Simiyu"},{"$f":"IF(COUNTRY_INFO!C161=0,\" \",COUNTRY_INFO!C161)","v":"Maswa District Council"},{"$f":"IF(AND(COUNTRY_INFO!$T$9:$T$1000=\"T3 (ALB/MBD)\",COUNTRY_INFO!$U$9:$U$1000=\"T3 (ALB/MBD)\"), \"T3 (ALB/MBD)\", \" \")","v":" "},null,null,null,null,null,0,null,null,null,0," "," "," "," "]
[{"$f":"IF(COUNTRY_INFO!A162=0,\" \",COUNTRY_INFO!A162)","v":"Tanzania"},{"$f":"IF(COUNTRY_INFO!B162=0,\" \",COUNTRY_INFO!B162)","v":"Simiyu"},{"$f":"IF(COUNTRY_INFO!C162=0,\" \",COUNTRY_INFO!C162)","v":"Meatu District Council"},{"$f":"IF(AND(COUNTRY_INFO!$T$9:$T$1000=\"T3 (ALB/MBD)\",COUNTRY_INFO!$U$9:$U$1000=\"T3 (ALB/MBD)\"), \"T3 (ALB/MBD)\", \" \")","v":" "},null,null,null,null,null,0,null,null,null,0," "," "," "," "]
[{"$f":"IF(COUNTRY_INFO!A163=0,\" \",COUNTRY_INFO!A163)","v":"Tanzania"},{"$f":"IF(COUNTRY_INFO!B163=0,\" \",COUNTRY_INFO!B163)","v":"Singida"},{"$f":"IF(COUNTRY_INFO!C163=0,\" \",COUNTRY_INFO!C163)","v":"Ikungi District Council"},{"$f":"IF(AND(COUNTRY_INFO!$T$9:$T$1000=\"T3 (ALB/MBD)\",COUNTRY_INFO!$U$9:$U$1000=\"T3 (ALB/MBD)\"), \"T3 (ALB/MBD)\", \" \")","v":" "},null,null,null,null,null,0,null,null,null,0," "," "," "," "]
[{"$f":"IF(COUNTRY_INFO!A164=0,\" \",COUNTRY_INFO!A164)","v":"Tanzania"},{"$f":"IF(COUNTRY_INFO!B164=0,\" \",COUNTRY_INFO!B164)","v":"Singida"},{"$f":"IF(COUNTRY_INFO!C164=0,\" \",COUNTRY_INFO!C164)","v":"Iramba District Council"},{"$f":"IF(AND(COUNTRY_INFO!$T$9:$T$1000=\"T3 (ALB/MBD)\",COUNTRY_INFO!$U$9:$U$1000=\"T3 (ALB/MBD)\"), \"T3 (ALB/MBD)\", \" \")","v":" "},null,null,null,null,null,0,null,null,null,0," "," "," "," "]
[{"$f":"IF(COUNTRY_INFO!A165=0,\" \",COUNTRY_INFO!A165)","v":"Tanzania"},{"$f":"IF(COUNTRY_INFO!B165=0,\" \",COUNTRY_INFO!B165)","v":"Singida"},{"$f":"IF(COUNTRY_INFO!C165=0,\" \",COUNTRY_INFO!C165)","v":"Itigi District Council"},{"$f":"IF(AND(COUNTRY_INFO!$T$9:$T$1000=\"T3 (ALB/MBD)\",COUNTRY_INFO!$U$9:$U$1000=\"T3 (ALB/MBD)\"), \"T3 (ALB/MBD)\", \" \")","v":" "},null,null,null,null,null,0,null,null,null,0," "," "," "," "]
[{"$f":"IF(COUNTRY_INFO!A166=0,\" \",COUNTRY_INFO!A166)","v":"Tanzania"},{"$f":"IF(COUNTRY_INFO!B166=0,\" \",COUNTRY_INFO!B166)","v":"Singida"},{"$f":"IF(COUNTRY_INFO!C166=0,\" \",COUNTRY_INFO!C166)","v":"Manyoni District Council"},{"$f":"IF(AND(COUNTRY_INFO!$T$9:$T$1000=\"T3 (ALB/MBD)\",COUNTRY_INFO!$U$9:$U$1000=\"T3 (ALB/MBD)\"), \"T3 (ALB/MBD)\", \" \")","v":" "},null,null,null,null,null,0,null,null,null,0," "," "," "," "]
[{"$f":"IF(COUNTRY_INFO!A167=0,\" \",COUNTRY_INFO!A167)","v":"Tanzania"},{"$f":"IF(COUNTRY_INFO!B167=0,\" \",COUNTRY_INFO!B167)","v":"Singida"},{"$f":"IF(COUNTRY_INFO!C167=0,\" \",COUNTRY_INFO!C167)","v":"Mkalama District Council"},{"$f":"IF(AND(COUNTRY_INFO!$T$9:$T$1000=\"T3 (ALB/MBD)\",COUNTRY_INFO!$U$9:$U$1000=\"T3 (ALB/MBD)\"), \"T3 (ALB/MBD)\", \" \")","v":" "},null,null,null,null,null,0,null,null,null,0," "," "," "," "]
[{"$f":"IF(COUNTRY_INFO!A168=0,\" \",COUNTRY_INFO!A168)","v":"Tanzania"},{"$f":"IF(COUNTRY_INFO!B168=0,\" \",COUNTRY_INFO!B168)","v":"Singida"},{"$f":"IF(COUNTRY_INFO!C168=0,\" \",COUNTRY_INFO!C168)","v":"Singida District Council"},{"$f":"IF(AND(COUNTRY_INFO!$T$9:$T$1000=\"T3 (ALB/MBD)\",COUNTRY_INFO!$U$9:$U$1000=\"T3 (ALB/MBD)\"), \"T3 (ALB/MBD)\", \" \")","v":" "},null,null,null,null,null,0,null,null,null,0," "," "," "," "]
[{"$f":"IF(COUNTRY_INFO!A169=0,\" \",COUNTRY_INFO!A169)","v":"Tanzania"},{"$f":"IF(COUNTRY_INFO!B169=0,\" \",COUNTRY_INFO!B169)","v":"Singida"},{"$f":"IF(COUNTRY_INFO!C169=0,\" \",COUNTRY_INFO!C169)","v":"Singida Municipal Council"},{"$f":"IF(AND(COUNTRY_INFO!$T$9:$T$1000=\"T3 (ALB/MBD)\",COUNTRY_INFO!$U$9:$U$1000=\"T3 (ALB/MBD)\"), \"T3 (ALB/MBD)\", \" \")","v":" "},null,null,null,null,null,0,null,null,null,0," "," "," "," "]
[{"$f":"IF(COUNTRY_INFO!A170=0,\" \",COUNTRY_INFO!A170)","v":"Tanzania"},{"$f":"IF(COUNTRY_INFO!B170=0,\" \",COUNTRY_INFO!B170)","v":"Songwe"},{"$f":"IF(COUNTRY_INFO!C170=0,\" \",COUNTRY_INFO!C170)","v":"Ileje District Council"},{"$f":"IF(AND(COUNTRY_INFO!$T$9:$T$1000=\"T3 (ALB/MBD)\",COUNTRY_INFO!$U$9:$U$1000=\"T3 (ALB/MBD)\"), \"T3 (ALB/MBD)\", \" \")","v":" "},null,null,null,null,null,0,null,null,null,0," "," "," "," "]
[{"$f":"IF(COUNTRY_INFO!A171=0,\" \",COUNTRY_INFO!A171)","v":"Tanzania"},{"$f":"IF(COUNTRY_INFO!B171=0,\" \",COUNTRY_INFO!B171)","v":"Songwe"},{"$f":"IF(COUNTRY_INFO!C171=0,\" \",COUNTRY_INFO!C171)","v":"Mbozi District Council"},{"$f":"IF(AND(COUNTRY_INFO!$T$9:$T$1000=\"T3 (ALB/MBD)\",COUNTRY_INFO!$U$9:$U$1000=\"T3 (ALB/MBD)\"), \"T3 (ALB/MBD)\", \" \")","v":" "},null,null,null,null,null,0,null,null,null,0," "," "," "," "]
[{"$f":"IF(COUNTRY_INFO!A172=0,\" \",COUNTRY_INFO!A172)","v":"Tanzania"},{"$f":"IF(COUNTRY_INFO!B172=0,\" \",COUNTRY_INFO!B172)","v":"Songwe"},{"$f":"IF(COUNTRY_INFO!C172=0,\" \",COUNTRY_INFO!C172)","v":"Momba District Council"},{"$f":"IF(AND(COUNTRY_INFO!$T$9:$T$1000=\"T3 (ALB/MBD)\",COUNTRY_INFO!$U$9:$U$1000=\"T3 (ALB/MBD)\"), \"T3 (ALB/MBD)\", \" \")","v":" "},null,null,null,null,null,0,null,null,null,0," "," "," "," "]
[{"$f":"IF(COUNTRY_INFO!A173=0,\" \",COUNTRY_INFO!A173)","v":"Tanzania"},{"$f":"IF(COUNTRY_INFO!B173=0,\" \",COUNTRY_INFO!B173)","v":"Songwe"},{"$f":"IF(COUNTRY_INFO!C173=0,\" \",COUNTRY_INFO!C173)","v":"Songwe District Council"},{"$f":"IF(AND(COUNTRY_INFO!$T$9:$T$1000=\"T3 (ALB/MBD)\",COUNTRY_INFO!$U$9:$U$1000=\"T3 (ALB/MBD)\"), \"T3 (ALB/MBD)\", \" \")","v":" "},null,null,null,null,null,0,null,null,null,0," "," "," "," "]
[{"$f":"IF(COUNTRY_INFO!A174=0,\" \",COUNTRY_INFO!A174)","v":"Tanzania"},{"$f":"IF(COUNTRY_INFO!B174=0,\" \",COUNTRY_INFO!B174)","v":"Songwe"},{"$f":"IF(COUNTRY_INFO!C174=0,\" \",COUNTRY_INFO!C174)","v":"Tunduma Town Council"},{"$f":"IF(AND(COUNTRY_INFO!$T$9:$T$1000=\"T3 (ALB/MBD)\",COUNTRY_INFO!$U$9:$U$1000=\"T3 (ALB/MBD)\"), \"T3 (ALB/MBD)\", \" \")","v":" "},null,null,null,null,null,0,null,null,null,0," "," "," "," "]
[{"$f":"IF(COUNTRY_INFO!A175=0,\" \",COUNTRY_INFO!A175)","v":"Tanzania"},{"$f":"IF(COUNTRY_INFO!B175=0,\" \",COUNTRY_INFO!B175)","v":"Tabora"},{"$f":"IF(COUNTRY_INFO!C175=0,\" \",COUNTRY_INFO!C175)","v":"Igunga District Council"},{"$f":"IF(AND(COUNTRY_INFO!$T$9:$T$1000=\"T3 (ALB/MBD)\",COUNTRY_INFO!$U$9:$U$1000=\"T3 (ALB/MBD)\"), \"T3 (ALB/MBD)\", \" \")","v":" "},null,null,null,null,null,0,null,null,null,0," "," "," "," "]
[{"$f":"IF(COUNTRY_INFO!A176=0,\" \",COUNTRY_INFO!A176)","v":"Tanzania"},{"$f":"IF(COUNTRY_INFO!B176=0,\" \",COUNTRY_INFO!B176)","v":"Tabora"},{"$f":"IF(COUNTRY_INFO!C176=0,\" \",COUNTRY_INFO!C176)","v":"Kaliua District Council"},{"$f":"IF(AND(COUNTRY_INFO!$T$9:$T$1000=\"T3 (ALB/MBD)\",COUNTRY_INFO!$U$9:$U$1000=\"T3 (ALB/MBD)\"), \"T3 (ALB/MBD)\", \" \")","v":" "},null,null,null,null,null,0,null,null,null,0," "," "," "," "]
[{"$f":"IF(COUNTRY_INFO!A177=0,\" \",COUNTRY_INFO!A177)","v":"Tanzania"},{"$f":"IF(COUNTRY_INFO!B177=0,\" \",COUNTRY_INFO!B177)","v":"Tabora"},{"$f":"IF(COUNTRY_INFO!C177=0,\" \",COUNTRY_INFO!C177)","v":"Nzega District Council"},{"$f":"IF(AND(COUNTRY_INFO!$T$9:$T$1000=\"T3 (ALB/MBD)\",COUNTRY_INFO!$U$9:$U$1000=\"T3 (ALB/MBD)\"), \"T3 (ALB/MBD)\", \" \")","v":" "},null,null,null,null,null,0,null,null,null,0," "," "," "," "]
[{"$f":"IF(COUNTRY_INFO!A178=0,\" \",COUNTRY_INFO!A178)","v":"Tanzania"},{"$f":"IF(COUNTRY_INFO!B178=0,\" \",COUNTRY_INFO!B178)","v":"Tabora"},{"$f":"IF(COUNTRY_INFO!C178=0,\" \",COUNTRY_INFO!C178)","v":"Nzega Town Council"},{"$f":"IF(AND(COUNTRY_INFO!$T$9:$T$1000=\"T3 (ALB/MBD)\",COUNTRY_INFO!$U$9:$U$1000=\"T3 (ALB/MBD)\"), \"T3 (ALB/MBD)\", \" \")","v":" "},null,null,null,null,null,0,null,null,null,0," "," "," "," "]
[{"$f":"IF(COUNTRY_INFO!A179=0,\" \",COUNTRY_INFO!A179)","v":"Tanzania"},{"$f":"IF(COUNTRY_INFO!B179=0,\" \",COUNTRY_INFO!B179)","v":"Tabora"},{"$f":"IF(COUNTRY_INFO!C179=0,\" \",COUNTRY_INFO!C179)","v":"Sikonge District Council"},{"$f":"IF(AND(COUNTRY_INFO!$T$9:$T$1000=\"T3 (ALB/MBD)\",COUNTRY_INFO!$U$9:$U$1000=\"T3 (ALB/MBD)\"), \"T3 (ALB/MBD)\", \" \")","v":" "},null,null,null,null,null,0,null,null,null,0," "," "," "," "]
[{"$f":"IF(COUNTRY_INFO!A180=0,\" \",COUNTRY_INFO!A180)","v":"Tanzania"},{"$f":"IF(COUNTRY_INFO!B180=0,\" \",COUNTRY_INFO!B180)","v":"Tabora"},{"$f":"IF(COUNTRY_INFO!C180=0,\" \",COUNTRY_INFO!C180)","v":"Tabora Municipal Council"},{"$f":"IF(AND(COUNTRY_INFO!$T$9:$T$1000=\"T3 (ALB/MBD)\",COUNTRY_INFO!$U$9:$U$1000=\"T3 (ALB/MBD)\"), \"T3 (ALB/MBD)\", \" \")","v":" "},null,null,null,null,null,0,null,null,null,0," "," "," "," "]
[{"$f":"IF(COUNTRY_INFO!A181=0,\" \",COUNTRY_INFO!A181)","v":"Tanzania"},{"$f":"IF(COUNTRY_INFO!B181=0,\" \",COUNTRY_INFO!B181)","v":"Tabora"},{"$f":"IF(COUNTRY_INFO!C181=0,\" \",COUNTRY_INFO!C181)","v":"Urambo District Council"},{"$f":"IF(AND(COUNTRY_INFO!$T$9:$T$1000=\"T3 (ALB/MBD)\",COUNTRY_INFO!$U$9:$U$1000=\"T3 (ALB/MBD)\"), \"T3 (ALB/MBD)\", \" \")","v":" "},null,null,null,null,null,0,null,null,null,0," "," "," "," "]
[{"$f":"IF(COUNTRY_INFO!A182=0,\" \",COUNTRY_INFO!A182)","v":"Tanzania"},{"$f":"IF(COUNTRY_INFO!B182=0,\" \",COUNTRY_INFO!B182)","v":"Tabora"},{"$f":"IF(COUNTRY_INFO!C182=0,\" \",COUNTRY_INFO!C182)","v":"Uyui District Council"},{"$f":"IF(AND(COUNTRY_INFO!$T$9:$T$1000=\"T3 (ALB/MBD)\",COUNTRY_INFO!$U$9:$U$1000=\"T3 (ALB/MBD)\"), \"T3 (ALB/MBD)\", \" \")","v":" "},null,null,null,null,null,0,null,null,null,0," "," "," "," "]
[{"$f":"IF(COUNTRY_INFO!A183=0,\" \",COUNTRY_INFO!A183)","v":"Tanzania"},{"$f":"IF(COUNTRY_INFO!B183=0,\" \",COUNTRY_INFO!B183)","v":"Tanga"},{"$f":"IF(COUNTRY_INFO!C183=0,\" \",COUNTRY_INFO!C183)","v":"Bumbuli District Council"},{"$f":"IF(AND(COUNTRY_INFO!$T$9:$T$1000=\"T3 (ALB/MBD)\",COUNTRY_INFO!$U$9:$U$1000=\"T3 (ALB/MBD)\"), \"T3 (ALB/MBD)\", \" \")","v":" "},null,null,null,null,null,0,null,null,null,0," "," "," "," "]
[{"$f":"IF(COUNTRY_INFO!A184=0,\" \",COUNTRY_INFO!A184)","v":"Tanzania"},{"$f":"IF(COUNTRY_INFO!B184=0,\" \",COUNTRY_INFO!B184)","v":"Tanga"},{"$f":"IF(COUNTRY_INFO!C184=0,\" \",COUNTRY_INFO!C184)","v":"Handeni District Council"},{"$f":"IF(AND(COUNTRY_INFO!$T$9:$T$1000=\"T3 (ALB/MBD)\",COUNTRY_INFO!$U$9:$U$1000=\"T3 (ALB/MBD)\"), \"T3 (ALB/MBD)\", \" \")","v":" "},null,null,null,null,null,0,null,null,null,0," "," "," "," "]
[{"$f":"IF(COUNTRY_INFO!A185=0,\" \",COUNTRY_INFO!A185)","v":"Tanzania"},{"$f":"IF(COUNTRY_INFO!B185=0,\" \",COUNTRY_INFO!B185)","v":"Tanga"},{"$f":"IF(COUNTRY_INFO!C185=0,\" \",COUNTRY_INFO!C185)","v":"Handeni Town Council"},{"$f":"IF(AND(COUNTRY_INFO!$T$9:$T$1000=\"T3 (ALB/MBD)\",COUNTRY_INFO!$U$9:$U$1000=\"T3 (ALB/MBD)\"), \"T3 (ALB/MBD)\", \" \")","v":" "},null,null,null,null,null,0,null,null,null,0," "," "," "," "]
[{"$f":"IF(COUNTRY_INFO!A186=0,\" \",COUNTRY_INFO!A186)","v":"Tanzania"},{"$f":"IF(COUNTRY_INFO!B186=0,\" \",COUNTRY_INFO!B186)","v":"Tanga"},{"$f":"IF(COUNTRY_INFO!C186=0,\" \",COUNTRY_INFO!C186)","v":"Kilindi District Council"},{"$f":"IF(AND(COUNTRY_INFO!$T$9:$T$1000=\"T3 (ALB/MBD)\",COUNTRY_INFO!$U$9:$U$1000=\"T3 (ALB/MBD)\"), \"T3 (ALB/MBD)\", \" \")","v":" "},null,null,null,null,null,0,null,null,null,0," "," "," "," "]
[{"$f":"IF(COUNTRY_INFO!A187=0,\" \",COUNTRY_INFO!A187)","v":"Tanzania"},{"$f":"IF(COUNTRY_INFO!B187=0,\" \",COUNTRY_INFO!B187)","v":"Tanga"},{"$f":"IF(COUNTRY_INFO!C187=0,\" \",COUNTRY_INFO!C187)","v":"Korogwe District Council"},{"$f":"IF(AND(COUNTRY_INFO!$T$9:$T$1000=\"T3 (ALB/MBD)\",COUNTRY_INFO!$U$9:$U$1000=\"T3 (ALB/MBD)\"), \"T3 (ALB/MBD)\", \" \")","v":" "},null,null,null,null,null,0,null,null,null,0," "," "," "," "]
[{"$f":"IF(COUNTRY_INFO!A188=0,\" \",COUNTRY_INFO!A188)","v":"Tanzania"},{"$f":"IF(COUNTRY_INFO!B188=0,\" \",COUNTRY_INFO!B188)","v":"Tanga"},{"$f":"IF(COUNTRY_INFO!C188=0,\" \",COUNTRY_INFO!C188)","v":"Korogwe Town Council"},{"$f":"IF(AND(COUNTRY_INFO!$T$9:$T$1000=\"T3 (ALB/MBD)\",COUNTRY_INFO!$U$9:$U$1000=\"T3 (ALB/MBD)\"), \"T3 (ALB/MBD)\", \" \")","v":" "},null,null,null,null,null,0,null,null,null,0," "," "," "," "]
[{"$f":"IF(COUNTRY_INFO!A189=0,\" \",COUNTRY_INFO!A189)","v":"Tanzania"},{"$f":"IF(COUNTRY_INFO!B189=0,\" \",COUNTRY_INFO!B189)","v":"Tanga"},{"$f":"IF(COUNTRY_INFO!C189=0,\" \",COUNTRY_INFO!C189)","v":"Lushoto District Council"},{"$f":"IF(AND(COUNTRY_INFO!$T$9:$T$1000=\"T3 (ALB/MBD)\",COUNTRY_INFO!$U$9:$U$1000=\"T3 (ALB/MBD)\"), \"T3 (ALB/MBD)\", \" \")","v":" "},null,null,null,null,null,0,null,null,null,0," "," "," "," "]
[{"$f":"IF(COUNTRY_INFO!A190=0,\" \",COUNTRY_INFO!A190)","v":"Tanzania"},{"$f":"IF(COUNTRY_INFO!B190=0,\" \",COUNTRY_INFO!B190)","v":"Tanga"},{"$f":"IF(COUNTRY_INFO!C190=0,\" \",COUNTRY_INFO!C190)","v":"Mkinga District Council"},{"$f":"IF(AND(COUNTRY_INFO!$T$9:$T$1000=\"T3 (ALB/MBD)\",COUNTRY_INFO!$U$9:$U$1000=\"T3 (ALB/MBD)\"), \"T3 (ALB/MBD)\", \" \")","v":" "},null,null,null,null,null,0,null,null,null,0," "," "," "," "]
[{"$f":"IF(COUNTRY_INFO!A191=0,\" \",COUNTRY_INFO!A191)","v":"Tanzania"},{"$f":"IF(COUNTRY_INFO!B191=0,\" \",COUNTRY_INFO!B191)","v":"Tanga"},{"$f":"IF(COUNTRY_INFO!C191=0,\" \",COUNTRY_INFO!C191)","v":"Muheza District Council"},{"$f":"IF(AND(COUNTRY_INFO!$T$9:$T$1000=\"T3 (ALB/MBD)\",COUNTRY_INFO!$U$9:$U$1000=\"T3 (ALB/MBD)\"), \"T3 (ALB/MBD)\", \" \")","v":" "},null,null,null,null,null,0,null,null,null,0," "," "," "," "]
[{"$f":"IF(COUNTRY_INFO!A192=0,\" \",COUNTRY_INFO!A192)","v":"Tanzania"},{"$f":"IF(COUNTRY_INFO!B192=0,\" \",COUNTRY_INFO!B192)","v":"Tanga"},{"$f":"IF(COUNTRY_INFO!C192=0,\" \",COUNTRY_INFO!C192)","v":"Pangani District Council"},{"$f":"IF(AND(COUNTRY_INFO!$T$9:$T$1000=\"T3 (ALB/MBD)\",COUNTRY_INFO!$U$9:$U$1000=\"T3 (ALB/MBD)\"), \"T3 (ALB/MBD)\", \" \")","v":" "},null,null,null,null,null,0,null,null,null,0," "," "," "," "]
[{"$f":"IF(COUNTRY_INFO!A193=0,\" \",COUNTRY_INFO!A193)","v":"Tanzania"},{"$f":"IF(COUNTRY_INFO!B193=0,\" \",COUNTRY_INFO!B193)","v":"Tanga"},{"$f":"IF(COUNTRY_INFO!C193=0,\" \",COUNTRY_INFO!C193)","v":"Tanga City Council"},{"$f":"IF(AND(COUNTRY_INFO!$T$9:$T$1000=\"T3 (ALB/MBD)\",COUNTRY_INFO!$U$9:$U$1000=\"T3 (ALB/MBD)\"), \"T3 (ALB/MBD)\", \" \")","v":" "},null,null,null,null,null,0,null,null,null,0," "," "," "," "]

{"sheet":"DISTRICT","index":9,"n_rows":193,"n_cols":56,"rows_kept":193,"cut":false,"hidden":false,"merged":[[3,0,3,2],[5,0,5,2],[5,4,5,8],[5,10,5,14],[5,16,5,24],[5,26,5,34],[5,3,6,3],[5,9,6,9],[5,15,6,15],[5,25,6,25]]}
["Number of individuals treated"]
["Administrative structure, population treated by age group and gender"]
[]
["TOTAL",null,null,{"$f":"SUM(D$9:D$1000)","v":8238488.7704826714},{"$f":"SUM(E$9:E$1000)","v":0},{"$f":"SUM(F$9:F$1000)","v":0},{"$f":"SUM(G$9:G$1000)","v":0},{"$f":"SUM(H$9:H$1000)","v":0},{"$f":"IF(D4>0, IF(H4/D4*100<>0, H4/D4*100, \"-\"),0)","v":"-"},{"$f":"SUM(J$9:J$1000)","v":6575683.8165868213},{"$f":"SUM(K$9:K$1000)","v":0},{"$f":"SUM(L$9:L$1000)","v":0},{"$f":"SUM(M$9:M$1000)","v":1810191},{"$f":"SUM(N$9:N$1000)","v":1810191},{"$f":"IF(J4>0, IF(N4/J4*100<>0, N4/J4*100, \"-\"),0)","v":27.528559013647936},{"$f":"SUM(P$9:P$1000)","v":19294472},{"$f":"SUM(Q$9:Q$1000)","v":0},{"$f":"SUM(R$9:R$1000)","v":0},{"$f":"SUM(S$9:S$1000)","v":7257711},{"$f":"SUM(T$9:T$1000)","v":0},null,7257711,null,{"$f":"SUM(X$9:X$1000)","v":7257711},{"$f":"IF(P4>0, IF(X4/P4*100<>0, X4/P4*100, \"-\"),0)","v":37.615494220313465},{"$f":"SUM(Z$9:Z$1000)","v":16495073.520397946},0,0,3199570,1958663,null,0,null,1958663,{"$f":"IF(Z4>0, IF(AH4/Z4*100<>0, AH4/Z4*100, \"-\"),0)","v":11.874230191080391}]
[]
[null,null,null,"Population requiring PC for LF","Population treated for lymphatic filariasis",null,null,null,null,"Population requiring PC for ONCHO","Population treated for onchocerciasis",null,null,null,null,"Population requiring PC for STH","Population treated for STH",null,null,null,null,null,null,null,null,"Population requiring PC for SCH","Population treated for schistosomiasis",null,null,null,null,null,null,null,null,null,null,null,null,null,null,{"$f":"SUM(AP9:AP1000)","v":0.26635022578516943},7034972.0000000028,12348244.055326819,16658525.003699649,{"$f":"SUM(AT9:AT1000)","v":36041741.325376675},{"$f":"COUNTIF(AU9:AU1000,\"Y\")","v":40},{"$f":"SUM(AV9:AV1000)","v":0},7257711,1464444.5190000001,{"$f":"SUM(AY9:AY1000)","v":8722155.5190000013},0,7257711,1464444.5190000001,8722155.5190000013,{"$f":"IF(AT6<>0,BC6/AT6,0)","v":0.24200150154395586}]
["Country","Province/State","District",null,"Male","Female","Total treated","Total in need treated","(%)",null,"Male","Female","Total treated","Total in need treated","(%)",null,"Male","Female","Total treated","PreSAC in need treated ","PreSAC (%)","SAC in need treated","SAC (%)","Total in need treated ","(%)",null,"Male","Female","Total treated","SAC in need treated","SAC (%)","Adults in need treated","Adults (%)","Total in need treated ","(%)",null,"LF","ONCHO","STH","SCH-SAC","SCH_Adults","<1","PreSAC","SAC","Adults","Total","Dis","PreSAC","SAC","Adults","Total","PreSAC","SAC","Adults","Total","Coverage"]
[]
[{"$f":"IF(COUNTRY_INFO!A9=0,\" \",COUNTRY_INFO!A9)","v":"Tanzania"},{"$f":"IF(COUNTRY_INFO!B9=0,\" \",COUNTRY_INFO!B9)","v":"Arusha"},{"$f":"IF(COUNTRY_INFO!C9=0,\" \",COUNTRY_INFO!C9)","v":"Arusha City Council"},{"$f":"COUNTRY_INFO!L9","v":0},null,null,{"$f":"MAX('MDA1'!M9,'MDA2'!M9)","v":0},{"$f":"IF(AND(COUNTRY_INFO!H9>0,COUNTRY_INFO!H9<4),IF(D9>MAX('MDA1'!M9,'MDA2'!M9),MAX('MDA1'!M9,'MDA2'!M9),D9),0)","v":0},{"$f":"IF(AND(COUNTRY_INFO!H9>0,COUNTRY_INFO!H9<4), IF(G9/D9*100<>0, IF(G9/D9*100>100,100,G9/D9*100), \"-\"),0)","v":0},{"$f":"COUNTRY_INFO!M9","v":0},null,null,{"$f":"MAX('MDA1'!M9,MAX('MDA3'!I9,'MDA3'!L9)+MAX('MDA3'!J9,'MDA3'!M9))","v":0},{"$f":"IF(AND(COUNTRY_INFO!I9>0,COUNTRY_INFO!I9<4),IF(J9>MAX('MDA1'!M9,MAX('MDA3'!I9,'MDA3'!L9)+MAX('MDA3'!J9,'MDA3'!M9)),MAX('MDA1'!M9,MAX('MDA3'!I9,'MDA3'!L9)+MAX('MDA3'!J9,'MDA3'!M9)),J9),0)","v":0},{"$f":"IF(AND(COUNTRY_INFO!I9>0,COUNTRY_INFO!I9<4), IF(M9/J9*100<>0, IF(M9/J9*100>100,100,M9/J9*100), \"-\"),0)","v":0},{"$f":"COUNTRY_INFO!N9","v":171955},null,null,{"$f":"SUM(MAX('MDA2'!J9, 'T1'!L9, MAX(T3_R1!K9, T3_R2!K9)), MAX('MDA1'!K9, 'MDA2'!K9, 'T1'!M9, MAX(T3_R1!L9, T3_R2!L9)), MAX('MDA1'!L9, 'MDA2'!L9, 'T1'!N9, MAX(T3_R1!M9, T3_R2!M9)))","v":103518},{"$f":"IF(AND(COUNTRY_INFO!J9>1,COUNTRY_INFO!J9<4),IF(COUNTRY_INFO!E9>MAX('MDA2'!J9,'T1'!L9,MAX(T3_R1!K9,T3_R2!K9)),MAX('MDA2'!J9,'T1'!L9,MAX(T3_R1!K9,T3_R2!K9)),COUNTRY_INFO!E9),0)","v":0},{"$f":"IF(AND(COUNTRY_INFO!J9>1,COUNTRY_INFO!J9<4), IF(T9/COUNTRY_INFO!E9*100<>0, IF(T9/COUNTRY_INFO!E9*100>100,100,T9/COUNTRY_INFO!E9*100), \"-\"),0)","v":"-"},{"$f":"IF(AND(COUNTRY_INFO!J9>1,COUNTRY_INFO!J9<4),IF(COUNTRY_INFO!F9>MAX('MDA1'!K9,'MDA2'!K9,'T1'!M9,MAX(T3_R1!L9,T3_R2!L9)),MAX('MDA1'!K9,'MDA2'!K9,'T1'!M9,MAX(T3_R1!L9,T3_R2!L9)),COUNTRY_INFO!F9),0)","v":103518},{"$f":"IF(AND(COUNTRY_INFO!J9>1,COUNTRY_INFO!J9<4), IF(V9/COUNTRY_INFO!F9*100<>0, IF(V9/COUNTRY_INFO!F9*100>100,100,V9/COUNTRY_INFO!F9*100), \"-\"),0)","v":98.386177007299267},{"$f":"SUM(T9,V9)","v":103518},{"$f":"IF(AND(COUNTRY_INFO!J9>1,COUNTRY_INFO!J9<4), IF(S9/P9*100<>0, IF(X9/P9*100>100,100,X9/P9*100), \"-\"),0)","v":60.200633886772707},{"$f":"COUNTRY_INFO!O9","v":121688.35737879798},null,null,{"$f":"MAX('T1'!L9,'T2'!J9)+MAX('T1'!M9,'T2'!K9)+MAX('T1'!N9,'T2'!L9)","v":0},{"$f":"IF(COUNTRY_INFO!K9=1,IF(COUNTRY_INFO!F9*0.33>MAX('T1'!M9,'T2'!K9),MAX('T1'!M9,'T2'!K9),COUNTRY_INFO!F9*0.33),IF(COUNTRY_INFO!K9=2,IF(COUNTRY_INFO!F9*0.5>MAX('T1'!M9,'T2'!K9),MAX('T1'!M9,'T2'!K9),COUNTRY_INFO!F9*0.5),IF(COUNTRY_INFO!K9=3,IF(COUNTRY_INFO!F9>MAX('T1'!M9,'T2'!K9),MAX('T1'!M9,'T2'!K9),COUNTRY_INFO!F9),0)))","v":0},{"$f":"IF(AND(COUNTRY_INFO!K9>0,COUNTRY_INFO!K9<4),IF(Z9>0,IF(COUNTRY_INFO!K9=1, AD9/(COUNTRY_INFO!F9*0.33)*100, IF(COUNTRY_INFO!K9=2, AD9/(COUNTRY_INFO!F9*0.5)*100, IF(COUNTRY_INFO!K9=3, AD9/COUNTRY_INFO!F9*100))),\"-\"),0)","v":0},{"$f":"IF(COUNTRY_INFO!K9=2,IF(COUNTRY_INFO!G9*0.2>MAX('T1'!N9,'T2'!L9),MAX('T1'!N9,'T2'!L9),COUNTRY_INFO!G9*0.2),IF(COUNTRY_INFO!K9=3,IF(COUNTRY_INFO!G9>MAX('T1'!N9,'T2'!L9),MAX('T1'!N9,'T2'!L9),COUNTRY_INFO!G9),0))","v":0},{"$f":"IF(AND(COUNTRY_INFO!K9>0,COUNTRY_INFO!K9<4),IF(Z9>0,IF(COUNTRY_INFO!K9=1, 0, IF(COUNTRY_INFO!K9=2, AF9/(COUNTRY_INFO!G9*0.2)*100, IF(COUNTRY_INFO!K9=3, AF9/COUNTRY_INFO!G9*100))),\"-\"),0)","v":0},{"$f":"SUM(AD9,AF9)","v":0},{"$f":"IF(AND(COUNTRY_INFO!K9>0,COUNTRY_INFO!K9<4), IF(AC9/Z9*100<>0, IF(AH9/Z9*100>100,100,AH9/Z9*100), \"-\"),0)","v":"-"},null,{"$f":"IF(AND(D9<>0, D9<>\"Unknown\",D9<>\"Stopped\",D9<>\"Not required\"),D9/COUNTRY_INFO!D9, 0)","v":0},{"$f":"IF(AND(J9<>0,J9<>\"Unknown\",J9<>\"Stopped\",J9<>\"Not required\"),J9/COUNTRY_INFO!D9, 0)","v":0},{"$f":"IF(AND(P9<>0,P9<>\"Unknown\",P9<>\"Not required\"),P9/(COUNTRY_INFO!E9+COUNTRY_INFO!F9), 0)","v":1},{"$f":"IF(AND(Z9<>0,Z9<>\"Unknown\",Z9<>\"Not required\"),IF(COUNTRY_INFO!K9=1,1,IF(COUNTRY_INFO!K9=2,0.5*COUNTRY_INFO!F9/(0.5*COUNTRY_INFO!F9+0.2*COUNTRY_INFO!G9),IF(COUNTRY_INFO!K9=3,COUNTRY_INFO!F9/(COUNTRY_INFO!F9+COUNTRY_INFO!G9)))),0)","v":0.43231744706881875},{"$f":"IF(AND(Z9<>0,Z9<>\"Unknown\",Z9<>\"Not required\"),IF(COUNTRY_INFO!K9=1,0,IF(COUNTRY_INFO!K9=2,0.2*COUNTRY_INFO!G9/(0.5*COUNTRY_INFO!F9+0.2*COUNTRY_INFO!G9),IF(COUNTRY_INFO!K9=3,COUNTRY_INFO!G9/(COUNTRY_INFO!F9+COUNTRY_INFO!G9)))),0)","v":0.56768255293118119},{"$f":"MAX(COUNTRY_INFO!D9*AK9*PROFILE!$G$7,COUNTRY_INFO!D9*AL9*PROFILE!$G$7)","v":0},{"$f":"MAX(COUNTRY_INFO!D9*AK9*PROFILE!$G$8,COUNTRY_INFO!D9*AL9*PROFILE!$G$8,COUNTRY_INFO!D9*AM9*PROFILE!$G$8)","v":66739.02649209254},{"$f":"MAX(COUNTRY_INFO!D9*AK9*PROFILE!$G$9,COUNTRY_INFO!D9*AL9*PROFILE!$G$9,COUNTRY_INFO!D9*AM9*PROFILE!$G$9,IF(AND(DISTRICT!Z9<>\"Unknown\",Z9<>\"Not required\"),COUNTRY_INFO!O9*DISTRICT!AN9,0))","v":116302.82185626445},{"$f":"MAX(COUNTRY_INFO!D9*AK9*PROFILE!$G$10,COUNTRY_INFO!D9*AL9*PROFILE!$G$10,IF(AND(DISTRICT!Z9<>\"Unknown\",Z9<>\"Not required\"),COUNTRY_INFO!O9*DISTRICT!AO9,0))","v":69080.357378797984},{"$f":"SUM(AP9:AS9)","v":252122.20572715497},{"$f":"IF(COUNTIFS(AK9:AN9,\">0\")=0,0, IF(COUNTIFS(AK9:AN9,\">0\")<=IF(AND(OR(D9>=0,D9=\"Not required\",D9=\"Unknown\",D9=\"Stopped\"),D9>0,H9>0),1,0)+IF(AND(OR(J9>=0,J9=\"Not required\",J9=\"Unknown\",J9=\"Stopped\"),J9>0,N9>0),1,0)+IF(AND(OR(P9>=0,P9=\"Not required\",P9=\"Unknown\"),P9>0,X9>0),1,0)+IF(AND(OR(Z9>=0,Z9=\"Not required\",Z9=\"Unknown\"),Z9>0,AH9>0),1,0),\"Y\",0))","v":0},{"$f":"MAX('MDA2'!J9,'T1'!L9,'T2'!J9,T3_R1!K9,T3_R2!K9)","v":0},{"$f":"MAX('MDA1'!K9,'MDA2'!K9,'MDA3'!I9,'MDA3'!L9,'T1'!M9,'T2'!K9,T3_R1!L9,T3_R2!L9)","v":103518},{"$f":"MAX('MDA1'!L9,'MDA2'!L9,'MDA3'!J9,'MDA3'!M9,'T1'!N9,'T2'!L9,T3_R1!M9,T3_R2!M9)","v":0},{"$f":"SUM(AV9:AX9)","v":103518},{"$f":"MAX('MDA2'!J9,T9)","v":0},{"$f":"MAX('MDA1'!K9,'MDA2'!K9,'MDA3'!I9,'MDA3'!L9,V9,AD9)","v":103518},{"$f":"MAX('MDA1'!L9,'MDA2'!L9,'MDA3'!J9,'MDA3'!M9,AF9)","v":0},{"$f":"IF(AT9<SUM(AZ9:BB9), AT9,SUM(AZ9:BB9))","v":103518},{"$f":"IF(AT9<>0,BC9/AT9*100,0)","v":41.058660303815728}]
[{"$f":"IF(COUNTRY_INFO!A10=0,\" \",COUNTRY_INFO!A10)","v":"Tanzania"},{"$f":"IF(COUNTRY_INFO!B10=0,\" \",COUNTRY_INFO!B10)","v":"Arusha"},{"$f":"IF(COUNTRY_INFO!C10=0,\" \",COUNTRY_INFO!C10)","v":"Arusha District Council"},{"$f":"COUNTRY_INFO!L10","v":0},null,null,{"$f":"MAX('MDA1'!M10,'MDA2'!M10)","v":0},{"$f":"IF(AND(COUNTRY_INFO!H10>0,COUNTRY_INFO!H10<4),IF(D10>MAX('MDA1'!M10,'MDA2'!M10),MAX('MDA1'!M10,'MDA2'!M10),D10),0)","v":0},{"$f":"IF(AND(COUNTRY_INFO!H10>0,COUNTRY_INFO!H10<4), IF(G10/D10*100<>0, IF(G10/D10*100>100,100,G10/D10*100), \"-\"),0)","v":0},{"$f":"COUNTRY_INFO!M10","v":0},null,null,{"$f":"MAX('MDA1'!M10,MAX('MDA3'!I10,'MDA3'!L10)+MAX('MDA3'!J10,'MDA3'!M10))","v":0},{"$f":"IF(AND(COUNTRY_INFO!I10>0,COUNTRY_INFO!I10<4),IF(J10>MAX('MDA1'!M10,MAX('MDA3'!I10,'MDA3'!L10)+MAX('MDA3'!J10,'MDA3'!M10)),MAX('MDA1'!M10,MAX('MDA3'!I10,'MDA3'!L10)+MAX('MDA3'!J10,'MDA3'!M10)),J10),0)","v":0},{"$f":"IF(AND(COUNTRY_INFO!I10>0,COUNTRY_INFO!I10<4), IF(M10/J10*100<>0, IF(M10/J10*100>100,100,M10/J10*100), \"-\"),0)","v":0},{"$f":"COUNTRY_INFO!N10","v":131503},null,null,{"$f":"SUM(MAX('MDA2'!J10, 'T1'!L10, MAX(T3_R1!K10, T3_R2!K10)), MAX('MDA1'!K10, 'MDA2'!K10, 'T1'!M10, MAX(T3_R1!L10, T3_R2!L10)), MAX('MDA1'!L10, 'MDA2'!L10, 'T1'!N10, MAX(T3_R1!M10, T3_R2!M10)))","v":76522},{"$f":"IF(AND(COUNTRY_INFO!J10>1,COUNTRY_INFO!J10<4),IF(COUNTRY_INFO!E10>MAX('MDA2'!J10,'T1'!L10,MAX(T3_R1!K10,T3_R2!K10)),MAX('MDA2'!J10,'T1'!L10,MAX(T3_R1!K10,T3_R2!K10)),COUNTRY_INFO!E10),0)","v":0},{"$f":"IF(AND(COUNTRY_INFO!J10>1,COUNTRY_INFO!J10<4), IF(T10/COUNTRY_INFO!E10*100<>0, IF(T10/COUNTRY_INFO!E10*100>100,100,T10/COUNTRY_INFO!E10*100), \"-\"),0)","v":"-"},{"$f":"IF(AND(COUNTRY_INFO!J10>1,COUNTRY_INFO!J10<4),IF(COUNTRY_INFO!F10>MAX('MDA1'!K10,'MDA2'!K10,'T1'!M10,MAX(T3_R1!L10,T3_R2!L10)),MAX('MDA1'!K10,'MDA2'!K10,'T1'!M10,MAX(T3_R1!L10,T3_R2!L10)),COUNTRY_INFO!F10),0)","v":76522},{"$f":"IF(AND(COUNTRY_INFO!J10>1,COUNTRY_INFO!J10<4), IF(V10/COUNTRY_INFO!F10*100<>0, IF(V10/COUNTRY_INFO!F10*100>100,100,V10/COUNTRY_INFO!F10*100), \"-\"),0)","v":96.004115071449178},{"$f":"SUM(T10,V10)","v":76522},{"$f":"IF(AND(COUNTRY_INFO!J10>1,COUNTRY_INFO!J10<4), IF(S10/P10*100<>0, IF(X10/P10*100>100,100,X10/P10*100), \"-\"),0)","v":58.19030744545752},{"$f":"COUNTRY_INFO!O10","v":93856.079300531186},null,null,{"$f":"MAX('T1'!L10,'T2'!J10)+MAX('T1'!M10,'T2'!K10)+MAX('T1'!N10,'T2'!L10)","v":0},{"$f":"IF(COUNTRY_INFO!K10=1,IF(COUNTRY_INFO!F10*0.33>MAX('T1'!M10,'T2'!K10),MAX('T1'!M10,'T2'!K10),COUNTRY_INFO!F10*0.33),IF(COUNTRY_INFO!K10=2,IF(COUNTRY_INFO!F10*0.5>MAX('T1'!M10,'T2'!K10),MAX('T1'!M10,'T2'!K10),COUNTRY_INFO!F10*0.5),IF(COUNTRY_INFO!K10=3,IF(COUNTRY_INFO!F10>MAX('T1'!M10,'T2'!K10),MAX('T1'!M10,'T2'!K10),COUNTRY_INFO!F10),0)))","v":0},{"$f":"IF(AND(COUNTRY_INFO!K10>0,COUNTRY_INFO!K10<4),IF(Z10>0,IF(COUNTRY_INFO!K10=1, AD10/(COUNTRY_INFO!F10*0.33)*100, IF(COUNTRY_INFO!K10=2, AD10/(COUNTRY_INFO!F10*0.5)*100, IF(COUNTRY_INFO!K10=3, AD10/COUNTRY_INFO!F10*100))),\"-\"),0)","v":0},{"$f":"IF(COUNTRY_INFO!K10=2,IF(COUNTRY_INFO!G10*0.2>MAX('T1'!N10,'T2'!L10),MAX('T1'!N10,'T2'!L10),COUNTRY_INFO!G10*0.2),IF(COUNTRY_INFO!K10=3,IF(COUNTRY_INFO!G10>MAX('T1'!N10,'T2'!L10),MAX('T1'!N10,'T2'!L10),COUNTRY_INFO!G10),0))","v":0},{"$f":"IF(AND(COUNTRY_INFO!K10>0,COUNTRY_INFO!K10<4),IF(Z10>0,IF(COUNTRY_INFO!K10=1, 0, IF(COUNTRY_INFO!K10=2, AF10/(COUNTRY_INFO!G10*0.2)*100, IF(COUNTRY_INFO!K10=3, AF10/COUNTRY_INFO!G10*100))),\"-\"),0)","v":0},{"$f":"SUM(AD10,AF10)","v":0},{"$f":"IF(AND(COUNTRY_INFO!K10>0,COUNTRY_INFO!K10<4), IF(AC10/Z10*100<>0, IF(AH10/Z10*100>100,100,AH10/Z10*100), \"-\"),0)","v":"-"},null,{"$f":"IF(AND(D10<>0, D10<>\"Unknown\",D10<>\"Stopped\",D10<>\"Not required\"),D10/COUNTRY_INFO!D10, 0)","v":0},{"$f":"IF(AND(J10<>0,J10<>\"Unknown\",J10<>\"Stopped\",J10<>\"Not required\"),J10/COUNTRY_INFO!D10, 0)","v":0},{"$f":"IF(AND(P10<>0,P10<>\"Unknown\",P10<>\"Not required\"),P10/(COUNTRY_INFO!E10+COUNTRY_INFO!F10), 0)","v":1},{"$f":"IF(AND(Z10<>0,Z10<>\"Unknown\",Z10<>\"Not required\"),IF(COUNTRY_INFO!K10=1,1,IF(COUNTRY_INFO!K10=2,0.5*COUNTRY_INFO!F10/(0.5*COUNTRY_INFO!F10+0.2*COUNTRY_INFO!G10),IF(COUNTRY_INFO!K10=3,COUNTRY_INFO!F10/(COUNTRY_INFO!F10+COUNTRY_INFO!G10)))),0)","v":0.42462353314788898},{"$f":"IF(AND(Z10<>0,Z10<>\"Unknown\",Z10<>\"Not required\"),IF(COUNTRY_INFO!K10=1,0,IF(COUNTRY_INFO!K10=2,0.2*COUNTRY_INFO!G10/(0.5*COUNTRY_INFO!F10+0.2*COUNTRY_INFO!G10),IF(COUNTRY_INFO!K10=3,COUNTRY_INFO!G10/(COUNTRY_INFO!F10+COUNTRY_INFO!G10)))),0)","v":0.57537646685211097},{"$f":"MAX(COUNTRY_INFO!D10*AK10*PROFILE!$G$7,COUNTRY_INFO!D10*AL10*PROFILE!$G$7)","v":0},{"$f":"MAX(COUNTRY_INFO!D10*AK10*PROFILE!$G$8,COUNTRY_INFO!D10*AL10*PROFILE!$G$8,COUNTRY_INFO!D10*AM10*PROFILE!$G$8)","v":51795.551411559791},{"$f":"MAX(COUNTRY_INFO!D10*AK10*PROFILE!$G$9,COUNTRY_INFO!D10*AL10*PROFILE!$G$9,COUNTRY_INFO!D10*AM10*PROFILE!$G$9,IF(AND(DISTRICT!Z10<>\"Unknown\",Z10<>\"Not required\"),COUNTRY_INFO!O10*DISTRICT!AN10,0))","v":90261.562168266944},{"$f":"MAX(COUNTRY_INFO!D10*AK10*PROFILE!$G$10,COUNTRY_INFO!D10*AL10*PROFILE!$G$10,IF(AND(DISTRICT!Z10<>\"Unknown\",Z10<>\"Not required\"),COUNTRY_INFO!O10*DISTRICT!AO10,0))","v":54002.579300531179},{"$f":"SUM(AP10:AS10)","v":196059.69288035791},{"$f":"IF(COUNTIFS(AK10:AN10,\">0\")=0,0, IF(COUNTIFS(AK10:AN10,\">0\")<=IF(AND(OR(D10>=0,D10=\"Not required\",D10=\"Unknown\",D10=\"Stopped\"),D10>0,H10>0),1,0)+IF(AND(OR(J10>=0,J10=\"Not required\",J10=\"Unknown\",J10=\"Stopped\"),J10>0,N10>0),1,0)+IF(AND(OR(P10>=0,P10=\"Not required\",P10=\"Unknown\"),P10>0,X10>0),1,0)+IF(AND(OR(Z10>=0,Z10=\"Not required\",Z10=\"Unknown\"),Z10>0,AH10>0),1,0),\"Y\",0))","v":0},{"$f":"MAX('MDA2'!J10,'T1'!L10,'T2'!J10,T3_R1!K10,T3_R2!K10)","v":0},{"$f":"MAX('MDA1'!K10,'MDA2'!K10,'MDA3'!I10,'MDA3'!L10,'T1'!M10,'T2'!K10,T3_R1!L10,T3_R2!L10)","v":76522},{"$f":"MAX('MDA1'!L10,'MDA2'!L10,'MDA3'!J10,'MDA3'!M10,'T1'!N10,'T2'!L10,T3_R1!M10,T3_R2!M10)","v":0},{"$f":"SUM(AV10:AX10)","v":76522},{"$f":"MAX('MDA2'!J10,T10)","v":0},{"$f":"MAX('MDA1'!K10,'MDA2'!K10,'MDA3'!I10,'MDA3'!L10,V10,AD10)","v":76522},{"$f":"MAX('MDA1'!L10,'MDA2'!L10,'MDA3'!J10,'MDA3'!M10,AF10)","v":0},{"$f":"IF(AT10<SUM(AZ10:BB10), AT10,SUM(AZ10:BB10))","v":76522},{"$f":"IF(AT10<>0,BC10/AT10*100,0)","v":39.029949948302864}]
[{"$f":"IF(COUNTRY_INFO!A11=0,\" \",COUNTRY_INFO!A11)","v":"Tanzania"},{"$f":"IF(COUNTRY_INFO!B11=0,\" \",COUNTRY_INFO!B11)","v":"Arusha"},{"$f":"IF(COUNTRY_INFO!C11=0,\" \",COUNTRY_INFO!C11)","v":"Karatu District Council"},{"$f":"COUNTRY_INFO!L11","v":0},null,null,{"$f":"MAX('MDA1'!M11,'MDA2'!M11)","v":0},{"$f":"IF(AND(COUNTRY_INFO!H11>0,COUNTRY_INFO!H11<4),IF(D11>MAX('MDA1'!M11,'MDA2'!M11),MAX('MDA1'!M11,'MDA2'!M11),D11),0)","v":0},{"$f":"IF(AND(COUNTRY_INFO!H11>0,COUNTRY_INFO!H11<4), IF(G11/D11*100<>0, IF(G11/D11*100>100,100,G11/D11*100), \"-\"),0)","v":0},{"$f":"COUNTRY_INFO!M11","v":0},null,null,{"$f":"MAX('MDA1'!M11,MAX('MDA3'!I11,'MDA3'!L11)+MAX('MDA3'!J11,'MDA3'!M11))","v":0},{"$f":"IF(AND(COUNTRY_INFO!I11>0,COUNTRY_INFO!I11<4),IF(J11>MAX('MDA1'!M11,MAX('MDA3'!I11,'MDA3'!L11)+MAX('MDA3'!J11,'MDA3'!M11)),MAX('MDA1'!M11,MAX('MDA3'!I11,'MDA3'!L11)+MAX('MDA3'!J11,'MDA3'!M11)),J11),0)","v":0},{"$f":"IF(AND(COUNTRY_INFO!I11>0,COUNTRY_INFO!I11<4), IF(M11/J11*100<>0, IF(M11/J11*100>100,100,M11/J11*100), \"-\"),0)","v":0},{"$f":"COUNTRY_INFO!N11","v":97598},null,null,{"$f":"SUM(MAX('MDA2'!J11, 'T1'!L11, MAX(T3_R1!K11, T3_R2!K11)), MAX('MDA1'!K11, 'MDA2'!K11, 'T1'!M11, MAX(T3_R1!L11, T3_R2!L11)), MAX('MDA1'!L11, 'MDA2'!L11, 'T1'!N11, MAX(T3_R1!M11, T3_R2!M11)))","v":59297},{"$f":"IF(AND(COUNTRY_INFO!J11>1,COUNTRY_INFO!J11<4),IF(COUNTRY_INFO!E11>MAX('MDA2'!J11,'T1'!L11,MAX(T3_R1!K11,T3_R2!K11)),MAX('MDA2'!J11,'T1'!L11,MAX(T3_R1!K11,T3_R2!K11)),COUNTRY_INFO!E11),0)","v":0},{"$f":"IF(AND(COUNTRY_INFO!J11>1,COUNTRY_INFO!J11<4), IF(T11/COUNTRY_INFO!E11*100<>0, IF(T11/COUNTRY_INFO!E11*100>100,100,T11/COUNTRY_INFO!E11*100), \"-\"),0)","v":"-"},{"$f":"IF(AND(COUNTRY_INFO!J11>1,COUNTRY_INFO!J11<4),IF(COUNTRY_INFO!F11>MAX('MDA1'!K11,'MDA2'!K11,'T1'!M11,MAX(T3_R1!L11,T3_R2!L11)),MAX('MDA1'!K11,'MDA2'!K11,'T1'!M11,MAX(T3_R1!L11,T3_R2!L11)),COUNTRY_INFO!F11),0)","v":59297},{"$f":"IF(AND(COUNTRY_INFO!J11>1,COUNTRY_INFO!J11<4), IF(V11/COUNTRY_INFO!F11*100<>0, IF(V11/COUNTRY_INFO!F11*100>100,100,V11/COUNTRY_INFO!F11*100), \"-\"),0)","v":97.669324021610223},59297,{"$f":"IF(AND(COUNTRY_INFO!J11>1,COUNTRY_INFO!J11<4), IF(S11/P11*100<>0, IF(X11/P11*100>100,100,X11/P11*100), \"-\"),0)","v":60.756367958359803},{"$f":"COUNTRY_INFO!O11","v":68024.710431255997},null,null,{"$f":"MAX('T1'!L11,'T2'!J11)+MAX('T1'!M11,'T2'!K11)+MAX('T1'!N11,'T2'!L11)","v":0},{"$f":"IF(COUNTRY_INFO!K11=1,IF(COUNTRY_INFO!F11*0.33>MAX('T1'!M11,'T2'!K11),MAX('T1'!M11,'T2'!K11),COUNTRY_INFO!F11*0.33),IF(COUNTRY_INFO!K11=2,IF(COUNTRY_INFO!F11*0.5>MAX('T1'!M11,'T2'!K11),MAX('T1'!M11,'T2'!K11),COUNTRY_INFO!F11*0.5),IF(COUNTRY_INFO!K11=3,IF(COUNTRY_INFO!F11>MAX('T1'!M11,'T2'!K11),MAX('T1'!M11,'T2'!K11),COUNTRY_INFO!F11),0)))","v":0},{"$f":"IF(AND(COUNTRY_INFO!K11>0,COUNTRY_INFO!K11<4),IF(Z11>0,IF(COUNTRY_INFO!K11=1, AD11/(COUNTRY_INFO!F11*0.33)*100, IF(COUNTRY_INFO!K11=2, AD11/(COUNTRY_INFO!F11*0.5)*100, IF(COUNTRY_INFO!K11=3, AD11/COUNTRY_INFO!F11*100))),\"-\"),0)","v":0},{"$f":"IF(COUNTRY_INFO!K11=2,IF(COUNTRY_INFO!G11*0.2>MAX('T1'!N11,'T2'!L11),MAX('T1'!N11,'T2'!L11),COUNTRY_INFO!G11*0.2),IF(COUNTRY_INFO!K11=3,IF(COUNTRY_INFO!G11>MAX('T1'!N11,'T2'!L11),MAX('T1'!N11,'T2'!L11),COUNTRY_INFO!G11),0))","v":0},{"$f":"IF(AND(COUNTRY_INFO!K11>0,COUNTRY_INFO!K11<4),IF(Z11>0,IF(COUNTRY_INFO!K11=1, 0, IF(COUNTRY_INFO!K11=2, AF11/(COUNTRY_INFO!G11*0.2)*100, IF(COUNTRY_INFO!K11=3, AF11/COUNTRY_INFO!G11*100))),\"-\"),0)","v":0},0,{"$f":"IF(AND(COUNTRY_INFO!K11>0,COUNTRY_INFO!K11<4), IF(AC11/Z11*100<>0, IF(AH11/Z11*100>100,100,AH11/Z11*100), \"-\"),0)","v":"-"},null,{"$f":"IF(AND(D11<>0, D11<>\"Unknown\",D11<>\"Stopped\",D11<>\"Not required\"),D11/COUNTRY_INFO!D11, 0)","v":0},{"$f":"IF(AND(J11<>0,J11<>\"Unknown\",J11<>\"Stopped\",J11<>\"Not required\"),J11/COUNTRY_INFO!D11, 0)","v":0},{"$f":"IF(AND(P11<>0,P11<>\"Unknown\",P11<>\"Not required\"),P11/(COUNTRY_INFO!E11+COUNTRY_INFO!F11), 0)","v":1},{"$f":"IF(AND(Z11<>0,Z11<>\"Unknown\",Z11<>\"Not required\"),IF(COUNTRY_INFO!K11=1,1,IF(COUNTRY_INFO!K11=2,0.5*COUNTRY_INFO!F11/(0.5*COUNTRY_INFO!F11+0.2*COUNTRY_INFO!G11),IF(COUNTRY_INFO!K11=3,COUNTRY_INFO!F11/(COUNTRY_INFO!F11+COUNTRY_INFO!G11)))),0)","v":0.44624960264515912},{"$f":"IF(AND(Z11<>0,Z11<>\"Unknown\",Z11<>\"Not required\"),IF(COUNTRY_INFO!K11=1,0,IF(COUNTRY_INFO!K11=2,0.2*COUNTRY_INFO!G11/(0.5*COUNTRY_INFO!F11+0.2*COUNTRY_INFO!G11),IF(COUNTRY_INFO!K11=3,COUNTRY_INFO!G11/(COUNTRY_INFO!F11+COUNTRY_INFO!G11)))),0)","v":0.55375039735484088},{"$f":"MAX(COUNTRY_INFO!D11*AK11*PROFILE!$G$7,COUNTRY_INFO!D11*AL11*PROFILE!$G$7)","v":0},{"$f":"MAX(COUNTRY_INFO!D11*AK11*PROFILE!$G$8,COUNTRY_INFO!D11*AL11*PROFILE!$G$8,COUNTRY_INFO!D11*AM11*PROFILE!$G$8)","v":36886.460771332968},{"$f":"MAX(COUNTRY_INFO!D11*AK11*PROFILE!$G$9,COUNTRY_INFO!D11*AL11*PROFILE!$G$9,COUNTRY_INFO!D11*AM11*PROFILE!$G$9,IF(AND(DISTRICT!Z11<>\"Unknown\",Z11<>\"Not required\"),COUNTRY_INFO!O11*DISTRICT!AN11,0))","v":64280.222554710454},{"$f":"MAX(COUNTRY_INFO!D11*AK11*PROFILE!$G$10,COUNTRY_INFO!D11*AL11*PROFILE!$G$10,IF(AND(DISTRICT!Z11<>\"Unknown\",Z11<>\"Not required\"),COUNTRY_INFO!O11*DISTRICT!AO11,0))","v":37668.710431255997},138835.3937572994,0,{"$f":"MAX('MDA2'!J11,'T1'!L11,'T2'!J11,T3_R1!K11,T3_R2!K11)","v":0},{"$f":"MAX('MDA1'!K11,'MDA2'!K11,'MDA3'!I11,'MDA3'!L11,'T1'!M11,'T2'!K11,T3_R1!L11,T3_R2!L11)","v":59297},{"$f":"MAX('MDA1'!L11,'MDA2'!L11,'MDA3'!J11,'MDA3'!M11,'T1'!N11,'T2'!L11,T3_R1!M11,T3_R2!M11)","v":0},59297,{"$f":"MAX('MDA2'!J11,T11)","v":0},{"$f":"MAX('MDA1'!K11,'MDA2'!K11,'MDA3'!I11,'MDA3'!L11,V11,AD11)","v":59297},{"$f":"MAX('MDA1'!L11,'MDA2'!L11,'MDA3'!J11,'MDA3'!M11,AF11)","v":0},59297,42.71029050679838]
[{"$f":"IF(COUNTRY_INFO!A12=0,\" \",COUNTRY_INFO!A12)","v":"Tanzania"},{"$f":"IF(COUNTRY_INFO!B12=0,\" \",COUNTRY_INFO!B12)","v":"Arusha"},{"$f":"IF(COUNTRY_INFO!C12=0,\" \",COUNTRY_INFO!C12)","v":"Longido District Council"},{"$f":"COUNTRY_INFO!L12","v":0},null,null,{"$f":"MAX('MDA1'!M12,'MDA2'!M12)","v":0},{"$f":"IF(AND(COUNTRY_INFO!H12>0,COUNTRY_INFO!H12<4),IF(D12>MAX('MDA1'!M12,'MDA2'!M12),MAX('MDA1'!M12,'MDA2'!M12),D12),0)","v":0},{"$f":"IF(AND(COUNTRY_INFO!H12>0,COUNTRY_INFO!H12<4), IF(G12/D12*100<>0, IF(G12/D12*100>100,100,G12/D12*100), \"-\"),0)","v":0},{"$f":"COUNTRY_INFO!M12","v":0},null,null,{"$f":"MAX('MDA1'!M12,MAX('MDA3'!I12,'MDA3'!L12)+MAX('MDA3'!J12,'MDA3'!M12))","v":0},{"$f":"IF(AND(COUNTRY_INFO!I12>0,COUNTRY_INFO!I12<4),IF(J12>MAX('MDA1'!M12,MAX('MDA3'!I12,'MDA3'!L12)+MAX('MDA3'!J12,'MDA3'!M12)),MAX('MDA1'!M12,MAX('MDA3'!I12,'MDA3'!L12)+MAX('MDA3'!J12,'MDA3'!M12)),J12),0)","v":0},{"$f":"IF(AND(COUNTRY_INFO!I12>0,COUNTRY_INFO!I12<4), IF(M12/J12*100<>0, IF(M12/J12*100>100,100,M12/J12*100), \"-\"),0)","v":0},{"$f":"COUNTRY_INFO!N12","v":55683},null,null,{"$f":"SUM(MAX('MDA2'!J12, 'T1'!L12, MAX(T3_R1!K12, T3_R2!K12)), MAX('MDA1'!K12, 'MDA2'!K12, 'T1'!M12, MAX(T3_R1!L12, T3_R2!L12)), MAX('MDA1'!L12, 'MDA2'!L12, 'T1'!N12, MAX(T3_R1!M12, T3_R2!M12)))","v":35049},{"$f":"IF(AND(COUNTRY_INFO!J12>1,COUNTRY_INFO!J12<4),IF(COUNTRY_INFO!E12>MAX('MDA2'!J12,'T1'!L12,MAX(T3_R1!K12,T3_R2!K12)),MAX('MDA2'!J12,'T1'!L12,MAX(T3_R1!K12,T3_R2!K12)),COUNTRY_INFO!E12),0)","v":0},{"$f":"IF(AND(COUNTRY_INFO!J12>1,COUNTRY_INFO!J12<4), IF(T12/COUNTRY_INFO!E12*100<>0, IF(T12/COUNTRY_INFO!E12*100>100,100,T12/COUNTRY_INFO!E12*100), \"-\"),0)","v":"-"},{"$f":"IF(AND(COUNTRY_INFO!J12>1,COUNTRY_INFO!J12<4),IF(COUNTRY_INFO!F12>MAX('MDA1'!K12,'MDA2'!K12,'T1'!M12,MAX(T3_R1!L12,T3_R2!L12)),MAX('MDA1'!K12,'MDA2'!K12,'T1'!M12,MAX(T3_R1!L12,T3_R2!L12)),COUNTRY_INFO!F12),0)","v":35049},{"$f":"IF(AND(COUNTRY_INFO!J12>1,COUNTRY_INFO!J12<4), IF(V12/COUNTRY_INFO!F12*100<>0, IF(V12/COUNTRY_INFO!F12*100>100,100,V12/COUNTRY_INFO!F12*100), \"-\"),0)","v":97.501877764486608},35049,{"$f":"IF(AND(COUNTRY_INFO!J12>1,COUNTRY_INFO!J12<4), IF(S12/P12*100<>0, IF(X12/P12*100>100,100,X12/P12*100), \"-\"),0)","v":62.943806906955444},{"$f":"COUNTRY_INFO!O12","v":37435.864478329502},null,null,{"$f":"MAX('T1'!L12,'T2'!J12)+MAX('T1'!M12,'T2'!K12)+MAX('T1'!N12,'T2'!L12)","v":0},{"$f":"IF(COUNTRY_INFO!K12=1,IF(COUNTRY_INFO!F12*0.33>MAX('T1'!M12,'T2'!K12),MAX('T1'!M12,'T2'!K12),COUNTRY_INFO!F12*0.33),IF(COUNTRY_INFO!K12=2,IF(COUNTRY_INFO!F12*0.5>MAX('T1'!M12,'T2'!K12),MAX('T1'!M12,'T2'!K12),COUNTRY_INFO!F12*0.5),IF(COUNTRY_INFO!K12=3,IF(COUNTRY_INFO!F12>MAX('T1'!M12,'T2'!K12),MAX('T1'!M12,'T2'!K12),COUNTRY_INFO!F12),0)))","v":0},{"$f":"IF(AND(COUNTRY_INFO!K12>0,COUNTRY_INFO!K12<4),IF(Z12>0,IF(COUNTRY_INFO!K12=1, AD12/(COUNTRY_INFO!F12*0.33)*100, IF(COUNTRY_INFO!K12=2, AD12/(COUNTRY_INFO!F12*0.5)*100, IF(COUNTRY_INFO!K12=3, AD12/COUNTRY_INFO!F12*100))),\"-\"),0)","v":0},{"$f":"IF(COUNTRY_INFO!K12=2,IF(COUNTRY_INFO!G12*0.2>MAX('T1'!N12,'T2'!L12),MAX('T1'!N12,'T2'!L12),COUNTRY_INFO!G12*0.2),IF(COUNTRY_INFO!K12=3,IF(COUNTRY_INFO!G12>MAX('T1'!N12,'T2'!L12),MAX('T1'!N12,'T2'!L12),COUNTRY_INFO!G12),0))","v":0},{"$f":"IF(AND(COUNTRY_INFO!K12>0,COUNTRY_INFO!K12<4),IF(Z12>0,IF(COUNTRY_INFO!K12=1, 0, IF(COUNTRY_INFO!K12=2, AF12/(COUNTRY_INFO!G12*0.2)*100, IF(COUNTRY_INFO!K12=3, AF12/COUNTRY_INFO!G12*100))),\"-\"),0)","v":0},0,{"$f":"IF(AND(COUNTRY_INFO!K12>0,COUNTRY_INFO!K12<4), IF(AC12/Z12*100<>0, IF(AH12/Z12*100>100,100,AH12/Z12*100), \"-\"),0)","v":"-"},null,{"$f":"IF(AND(D12<>0, D12<>\"Unknown\",D12<>\"Stopped\",D12<>\"Not required\"),D12/COUNTRY_INFO!D12, 0)","v":0},{"$f":"IF(AND(J12<>0,J12<>\"Unknown\",J12<>\"Stopped\",J12<>\"Not required\"),J12/COUNTRY_INFO!D12, 0)","v":0},{"$f":"IF(AND(P12<>0,P12<>\"Unknown\",P12<>\"Not required\"),P12/(COUNTRY_INFO!E12+COUNTRY_INFO!F12), 0)","v":1},{"$f":"IF(AND(Z12<>0,Z12<>\"Unknown\",Z12<>\"Not required\"),IF(COUNTRY_INFO!K12=1,1,IF(COUNTRY_INFO!K12=2,0.5*COUNTRY_INFO!F12/(0.5*COUNTRY_INFO!F12+0.2*COUNTRY_INFO!G12),IF(COUNTRY_INFO!K12=3,COUNTRY_INFO!F12/(COUNTRY_INFO!F12+COUNTRY_INFO!G12)))),0)","v":0.48011446377588846},{"$f":"IF(AND(Z12<>0,Z12<>\"Unknown\",Z12<>\"Not required\"),IF(COUNTRY_INFO!K12=1,0,IF(COUNTRY_INFO!K12=2,0.2*COUNTRY_INFO!G12/(0.5*COUNTRY_INFO!F12+0.2*COUNTRY_INFO!G12),IF(COUNTRY_INFO!K12=3,COUNTRY_INFO!G12/(COUNTRY_INFO!F12+COUNTRY_INFO!G12)))),0)","v":0.51988553622411138},{"$f":"MAX(COUNTRY_INFO!D12*AK12*PROFILE!$G$7,COUNTRY_INFO!D12*AL12*PROFILE!$G$7)","v":0},{"$f":"MAX(COUNTRY_INFO!D12*AK12*PROFILE!$G$8,COUNTRY_INFO!D12*AL12*PROFILE!$G$8,COUNTRY_INFO!D12*AM12*PROFILE!$G$8)","v":19736.332379150572},{"$f":"MAX(COUNTRY_INFO!D12*AK12*PROFILE!$G$9,COUNTRY_INFO!D12*AL12*PROFILE!$G$9,COUNTRY_INFO!D12*AM12*PROFILE!$G$9,IF(AND(DISTRICT!Z12<>\"Unknown\",Z12<>\"Not required\"),COUNTRY_INFO!O12*DISTRICT!AN12,0))","v":34393.53657728793},{"$f":"MAX(COUNTRY_INFO!D12*AK12*PROFILE!$G$10,COUNTRY_INFO!D12*AL12*PROFILE!$G$10,IF(AND(DISTRICT!Z12<>\"Unknown\",Z12<>\"Not required\"),COUNTRY_INFO!O12*DISTRICT!AO12,0))","v":19462.364478329499},73592.233434768001,0,{"$f":"MAX('MDA2'!J12,'T1'!L12,'T2'!J12,T3_R1!K12,T3_R2!K12)","v":0},{"$f":"MAX('MDA1'!K12,'MDA2'!K12,'MDA3'!I12,'MDA3'!L12,'T1'!M12,'T2'!K12,T3_R1!L12,T3_R2!L12)","v":35049},{"$f":"MAX('MDA1'!L12,'MDA2'!L12,'MDA3'!J12,'MDA3'!M12,'T1'!N12,'T2'!L12,T3_R1!M12,T3_R2!M12)","v":0},35049,{"$f":"MAX('MDA2'!J12,T12)","v":0},{"$f":"MAX('MDA1'!K12,'MDA2'!K12,'MDA3'!I12,'MDA3'!L12,V12,AD12)","v":35049},{"$f":"MAX('MDA1'!L12,'MDA2'!L12,'MDA3'!J12,'MDA3'!M12,AF12)","v":0},35049,47.625949592992527]
[{"$f":"IF(COUNTRY_INFO!A13=0,\" \",COUNTRY_INFO!A13)","v":"Tanzania"},{"$f":"IF(COUNTRY_INFO!B13=0,\" \",COUNTRY_INFO!B13)","v":"Arusha"},{"$f":"IF(COUNTRY_INFO!C13=0,\" \",COUNTRY_INFO!C13)","v":"Meru District Council"},{"$f":"COUNTRY_INFO!L13","v":0},null,null,{"$f":"MAX('MDA1'!M13,'MDA2'!M13)","v":0},{"$f":"IF(AND(COUNTRY_INFO!H13>0,COUNTRY_INFO!H13<4),IF(D13>MAX('MDA1'!M13,'MDA2'!M13),MAX('MDA1'!M13,'MDA2'!M13),D13),0)","v":0},{"$f":"IF(AND(COUNTRY_INFO!H13>0,COUNTRY_INFO!H13<4), IF(G13/D13*100<>0, IF(G13/D13*100>100,100,G13/D13*100), \"-\"),0)","v":0},{"$f":"COUNTRY_INFO!M13","v":0},null,null,{"$f":"MAX('MDA1'!M13,MAX('MDA3'!I13,'MDA3'!L13)+MAX('MDA3'!J13,'MDA3'!M13))","v":0},{"$f":"IF(AND(COUNTRY_INFO!I13>0,COUNTRY_INFO!I13<4),IF(J13>MAX('MDA1'!M13,MAX('MDA3'!I13,'MDA3'!L13)+MAX('MDA3'!J13,'MDA3'!M13)),MAX('MDA1'!M13,MAX('MDA3'!I13,'MDA3'!L13)+MAX('MDA3'!J13,'MDA3'!M13)),J13),0)","v":0},{"$f":"IF(AND(COUNTRY_INFO!I13>0,COUNTRY_INFO!I13<4), IF(M13/J13*100<>0, IF(M13/J13*100>100,100,M13/J13*100), \"-\"),0)","v":0},{"$f":"COUNTRY_INFO!N13","v":110317},null,null,{"$f":"SUM(MAX('MDA2'!J13, 'T1'!L13, MAX(T3_R1!K13, T3_R2!K13)), MAX('MDA1'!K13, 'MDA2'!K13, 'T1'!M13, MAX(T3_R1!L13, T3_R2!L13)), MAX('MDA1'!L13, 'MDA2'!L13, 'T1'!N13, MAX(T3_R1!M13, T3_R2!M13)))","v":66586},{"$f":"IF(AND(COUNTRY_INFO!J13>1,COUNTRY_INFO!J13<4),IF(COUNTRY_INFO!E13>MAX('MDA2'!J13,'T1'!L13,MAX(T3_R1!K13,T3_R2!K13)),MAX('MDA2'!J13,'T1'!L13,MAX(T3_R1!K13,T3_R2!K13)),COUNTRY_INFO!E13),0)","v":0},{"$f":"IF(AND(COUNTRY_INFO!J13>1,COUNTRY_INFO!J13<4), IF(T13/COUNTRY_INFO!E13*100<>0, IF(T13/COUNTRY_INFO!E13*100>100,100,T13/COUNTRY_INFO!E13*100), \"-\"),0)","v":"-"},{"$f":"IF(AND(COUNTRY_INFO!J13>1,COUNTRY_INFO!J13<4),IF(COUNTRY_INFO!F13>MAX('MDA1'!K13,'MDA2'!K13,'T1'!M13,MAX(T3_R1!L13,T3_R2!L13)),MAX('MDA1'!K13,'MDA2'!K13,'T1'!M13,MAX(T3_R1!L13,T3_R2!L13)),COUNTRY_INFO!F13),0)","v":66586},{"$f":"IF(AND(COUNTRY_INFO!J13>1,COUNTRY_INFO!J13<4), IF(V13/COUNTRY_INFO!F13*100<>0, IF(V13/COUNTRY_INFO!F13*100>100,100,V13/COUNTRY_INFO!F13*100), \"-\"),0)","v":98.874435732953188},66586,{"$f":"IF(AND(COUNTRY_INFO!J13>1,COUNTRY_INFO!J13<4), IF(S13/P13*100<>0, IF(X13/P13*100>100,100,X13/P13*100), \"-\"),0)","v":60.35878423089823},{"$f":"COUNTRY_INFO!O13","v":78232.959958091174},null,null,{"$f":"MAX('T1'!L13,'T2'!J13)+MAX('T1'!M13,'T2'!K13)+MAX('T1'!N13,'T2'!L13)","v":0},{"$f":"IF(COUNTRY_INFO!K13=1,IF(COUNTRY_INFO!F13*0.33>MAX('T1'!M13,'T2'!K13),MAX('T1'!M13,'T2'!K13),COUNTRY_INFO!F13*0.33),IF(COUNTRY_INFO!K13=2,IF(COUNTRY_INFO!F13*0.5>MAX('T1'!M13,'T2'!K13),MAX('T1'!M13,'T2'!K13),COUNTRY_INFO!F13*0.5),IF(COUNTRY_INFO!K13=3,IF(COUNTRY_INFO!F13>MAX('T1'!M13,'T2'!K13),MAX('T1'!M13,'T2'!K13),COUNTRY_INFO!F13),0)))","v":0},{"$f":"IF(AND(COUNTRY_INFO!K13>0,COUNTRY_INFO!K13<4),IF(Z13>0,IF(COUNTRY_INFO!K13=1, AD13/(COUNTRY_INFO!F13*0.33)*100, IF(COUNTRY_INFO!K13=2, AD13/(COUNTRY_INFO!F13*0.5)*100, IF(COUNTRY_INFO!K13=3, AD13/COUNTRY_INFO!F13*100))),\"-\"),0)","v":0},{"$f":"IF(COUNTRY_INFO!K13=2,IF(COUNTRY_INFO!G13*0.2>MAX('T1'!N13,'T2'!L13),MAX('T1'!N13,'T2'!L13),COUNTRY_INFO!G13*0.2),IF(COUNTRY_INFO!K13=3,IF(COUNTRY_INFO!G13>MAX('T1'!N13,'T2'!L13),MAX('T1'!N13,'T2'!L13),COUNTRY_INFO!G13),0))","v":0},{"$f":"IF(AND(COUNTRY_INFO!K13>0,COUNTRY_INFO!K13<4),IF(Z13>0,IF(COUNTRY_INFO!K13=1, 0, IF(COUNTRY_INFO!K13=2, AF13/(COUNTRY_INFO!G13*0.2)*100, IF(COUNTRY_INFO!K13=3, AF13/COUNTRY_INFO!G13*100))),\"-\"),0)","v":0},0,{"$f":"IF(AND(COUNTRY_INFO!K13>0,COUNTRY_INFO!K13<4), IF(AC13/Z13*100<>0, IF(AH13/Z13*100>100,100,AH13/Z13*100), \"-\"),0)","v":"-"},null,{"$f":"IF(AND(D13<>0, D13<>\"Unknown\",D13<>\"Stopped\",D13<>\"Not required\"),D13/COUNTRY_INFO!D13, 0)","v":0},{"$f":"IF(AND(J13<>0,J13<>\"Unknown\",J13<>\"Stopped\",J13<>\"Not required\"),J13/COUNTRY_INFO!D13, 0)","v":0},{"$f":"IF(AND(P13<>0,P13<>\"Unknown\",P13<>\"Not required\"),P13/(COUNTRY_INFO!E13+COUNTRY_INFO!F13), 0)","v":1},{"$f":"IF(AND(Z13<>0,Z13<>\"Unknown\",Z13<>\"Not required\"),IF(COUNTRY_INFO!K13=1,1,IF(COUNTRY_INFO!K13=2,0.5*COUNTRY_INFO!F13/(0.5*COUNTRY_INFO!F13+0.2*COUNTRY_INFO!G13),IF(COUNTRY_INFO!K13=3,COUNTRY_INFO!F13/(COUNTRY_INFO!F13+COUNTRY_INFO!G13)))),0)","v":0.43040682620263693},{"$f":"IF(AND(Z13<>0,Z13<>\"Unknown\",Z13<>\"Not required\"),IF(COUNTRY_INFO!K13=1,0,IF(COUNTRY_INFO!K13=2,0.2*COUNTRY_INFO!G13/(0.5*COUNTRY_INFO!F13+0.2*COUNTRY_INFO!G13),IF(COUNTRY_INFO!K13=3,COUNTRY_INFO!G13/(COUNTRY_INFO!F13+COUNTRY_INFO!G13)))),0)","v":0.56959317379736318},{"$f":"MAX(COUNTRY_INFO!D13*AK13*PROFILE!$G$7,COUNTRY_INFO!D13*AL13*PROFILE!$G$7)","v":0},{"$f":"MAX(COUNTRY_INFO!D13*AK13*PROFILE!$G$8,COUNTRY_INFO!D13*AL13*PROFILE!$G$8,COUNTRY_INFO!D13*AM13*PROFILE!$G$8)","v":42972.712805764975},{"$f":"MAX(COUNTRY_INFO!D13*AK13*PROFILE!$G$9,COUNTRY_INFO!D13*AL13*PROFILE!$G$9,COUNTRY_INFO!D13*AM13*PROFILE!$G$9,IF(AND(DISTRICT!Z13<>\"Unknown\",Z13<>\"Not required\"),COUNTRY_INFO!O13*DISTRICT!AN13,0))","v":74886.434891606637},{"$f":"MAX(COUNTRY_INFO!D13*AK13*PROFILE!$G$10,COUNTRY_INFO!D13*AL13*PROFILE!$G$10,IF(AND(DISTRICT!Z13<>\"Unknown\",Z13<>\"Not required\"),COUNTRY_INFO!O13*DISTRICT!AO13,0))","v":44560.959958091182},162420.10765546278,0,{"$f":"MAX('MDA2'!J13,'T1'!L13,'T2'!J13,T3_R1!K13,T3_R2!K13)","v":0},{"$f":"MAX('MDA1'!K13,'MDA2'!K13,'MDA3'!I13,'MDA3'!L13,'T1'!M13,'T2'!K13,T3_R1!L13,T3_R2!L13)","v":66586},{"$f":"MAX('MDA1'!L13,'MDA2'!L13,'MDA3'!J13,'MDA3'!M13,'T1'!N13,'T2'!L13,T3_R1!M13,T3_R2!M13)","v":0},66586,{"$f":"MAX('MDA2'!J13,T13)","v":0},{"$f":"MAX('MDA1'!K13,'MDA2'!K13,'MDA3'!I13,'MDA3'!L13,V13,AD13)","v":66586},{"$f":"MAX('MDA1'!L13,'MDA2'!L13,'MDA3'!J13,'MDA3'!M13,AF13)","v":0},66586,40.996155562984242]
[{"$f":"IF(COUNTRY_INFO!A14=0,\" \",COUNTRY_INFO!A14)","v":"Tanzania"},{"$f":"IF(COUNTRY_INFO!B14=0,\" \",COUNTRY_INFO!B14)","v":"Arusha"},{"$f":"IF(COUNTRY_INFO!C14=0,\" \",COUNTRY_INFO!C14)","v":"Monduli District Council"},{"$f":"COUNTRY_INFO!L14","v":0},null,null,{"$f":"MAX('MDA1'!M14,'MDA2'!M14)","v":0},{"$f":"IF(AND(COUNTRY_INFO!H14>0,COUNTRY_INFO!H14<4),IF(D14>MAX('MDA1'!M14,'MDA2'!M14),MAX('MDA1'!M14,'MDA2'!M14),D14),0)","v":0},{"$f":"IF(AND(COUNTRY_INFO!H14>0,COUNTRY_INFO!H14<4), IF(G14/D14*100<>0, IF(G14/D14*100>100,100,G14/D14*100), \"-\"),0)","v":0},{"$f":"COUNTRY_INFO!M14","v":0},null,null,{"$f":"MAX('MDA1'!M14,MAX('MDA3'!I14,'MDA3'!L14)+MAX('MDA3'!J14,'MDA3'!M14))","v":0},{"$f":"IF(AND(COUNTRY_INFO!I14>0,COUNTRY_INFO!I14<4),IF(J14>MAX('MDA1'!M14,MAX('MDA3'!I14,'MDA3'!L14)+MAX('MDA3'!J14,'MDA3'!M14)),MAX('MDA1'!M14,MAX('MDA3'!I14,'MDA3'!L14)+MAX('MDA3'!J14,'MDA3'!M14)),J14),0)","v":0},{"$f":"IF(AND(COUNTRY_INFO!I14>0,COUNTRY_INFO!I14<4), IF(M14/J14*100<>0, IF(M14/J14*100>100,100,M14/J14*100), \"-\"),0)","v":0},{"$f":"COUNTRY_INFO!N14","v":68943},null,null,{"$f":"SUM(MAX('MDA2'!J14, 'T1'!L14, MAX(T3_R1!K14, T3_R2!K14)), MAX('MDA1'!K14, 'MDA2'!K14, 'T1'!M14, MAX(T3_R1!L14, T3_R2!L14)), MAX('MDA1'!L14, 'MDA2'!L14, 'T1'!N14, MAX(T3_R1!M14, T3_R2!M14)))","v":41965},{"$f":"IF(AND(COUNTRY_INFO!J14>1,COUNTRY_INFO!J14<4),IF(COUNTRY_INFO!E14>MAX('MDA2'!J14,'T1'!L14,MAX(T3_R1!K14,T3_R2!K14)),MAX('MDA2'!J14,'T1'!L14,MAX(T3_R1!K14,T3_R2!K14)),COUNTRY_INFO!E14),0)","v":0},{"$f":"IF(AND(COUNTRY_INFO!J14>1,COUNTRY_INFO!J14<4), IF(T14/COUNTRY_INFO!E14*100<>0, IF(T14/COUNTRY_INFO!E14*100>100,100,T14/COUNTRY_INFO!E14*100), \"-\"),0)","v":"-"},{"$f":"IF(AND(COUNTRY_INFO!J14>1,COUNTRY_INFO!J14<4),IF(COUNTRY_INFO!F14>MAX('MDA1'!K14,'MDA2'!K14,'T1'!M14,MAX(T3_R1!L14,T3_R2!L14)),MAX('MDA1'!K14,'MDA2'!K14,'T1'!M14,MAX(T3_R1!L14,T3_R2!L14)),COUNTRY_INFO!F14),0)","v":41965},{"$f":"IF(AND(COUNTRY_INFO!J14>1,COUNTRY_INFO!J14<4), IF(V14/COUNTRY_INFO!F14*100<>0, IF(V14/COUNTRY_INFO!F14*100>100,100,V14/COUNTRY_INFO!F14*100), \"-\"),0)","v":96.531180272813017},41965,{"$f":"IF(AND(COUNTRY_INFO!J14>1,COUNTRY_INFO!J14<4), IF(S14/P14*100<>0, IF(X14/P14*100>100,100,X14/P14*100), \"-\"),0)","v":60.869123768910548},{"$f":"COUNTRY_INFO!O14","v":47436.025975701792},null,null,{"$f":"MAX('T1'!L14,'T2'!J14)+MAX('T1'!M14,'T2'!K14)+MAX('T1'!N14,'T2'!L14)","v":0},{"$f":"IF(COUNTRY_INFO!K14=1,IF(COUNTRY_INFO!F14*0.33>MAX('T1'!M14,'T2'!K14),MAX('T1'!M14,'T2'!K14),COUNTRY_INFO!F14*0.33),IF(COUNTRY_INFO!K14=2,IF(COUNTRY_INFO!F14*0.5>MAX('T1'!M14,'T2'!K14),MAX('T1'!M14,'T2'!K14),COUNTRY_INFO!F14*0.5),IF(COUNTRY_INFO!K14=3,IF(COUNTRY_INFO!F14>MAX('T1'!M14,'T2'!K14),MAX('T1'!M14,'T2'!K14),COUNTRY_INFO!F14),0)))","v":0},{"$f":"IF(AND(COUNTRY_INFO!K14>0,COUNTRY_INFO!K14<4),IF(Z14>0,IF(COUNTRY_INFO!K14=1, AD14/(COUNTRY_INFO!F14*0.33)*100, IF(COUNTRY_INFO!K14=2, AD14/(COUNTRY_INFO!F14*0.5)*100, IF(COUNTRY_INFO!K14=3, AD14/COUNTRY_INFO!F14*100))),\"-\"),0)","v":0},{"$f":"IF(COUNTRY_INFO!K14=2,IF(COUNTRY_INFO!G14*0.2>MAX('T1'!N14,'T2'!L14),MAX('T1'!N14,'T2'!L14),COUNTRY_INFO!G14*0.2),IF(COUNTRY_INFO!K14=3,IF(COUNTRY_INFO!G14>MAX('T1'!N14,'T2'!L14),MAX('T1'!N14,'T2'!L14),COUNTRY_INFO!G14),0))","v":0},{"$f":"IF(AND(COUNTRY_INFO!K14>0,COUNTRY_INFO!K14<4),IF(Z14>0,IF(COUNTRY_INFO!K14=1, 0, IF(COUNTRY_INFO!K14=2, AF14/(COUNTRY_INFO!G14*0.2)*100, IF(COUNTRY_INFO!K14=3, AF14/COUNTRY_INFO!G14*100))),\"-\"),0)","v":0},0,{"$f":"IF(AND(COUNTRY_INFO!K14>0,COUNTRY_INFO!K14<4), IF(AC14/Z14*100<>0, IF(AH14/Z14*100>100,100,AH14/Z14*100), \"-\"),0)","v":"-"},null,{"$f":"IF(AND(D14<>0, D14<>\"Unknown\",D14<>\"Stopped\",D14<>\"Not required\"),D14/COUNTRY_INFO!D14, 0)","v":0},{"$f":"IF(AND(J14<>0,J14<>\"Unknown\",J14<>\"Stopped\",J14<>\"Not required\"),J14/COUNTRY_INFO!D14, 0)","v":0},{"$f":"IF(AND(P14<>0,P14<>\"Unknown\",P14<>\"Not required\"),P14/(COUNTRY_INFO!E14+COUNTRY_INFO!F14), 0)","v":1},{"$f":"IF(AND(Z14<>0,Z14<>\"Unknown\",Z14<>\"Not required\"),IF(COUNTRY_INFO!K14=1,1,IF(COUNTRY_INFO!K14=2,0.5*COUNTRY_INFO!F14/(0.5*COUNTRY_INFO!F14+0.2*COUNTRY_INFO!G14),IF(COUNTRY_INFO!K14=3,COUNTRY_INFO!F14/(COUNTRY_INFO!F14+COUNTRY_INFO!G14)))),0)","v":0.4582276772327874},{"$f":"IF(AND(Z14<>0,Z14<>\"Unknown\",Z14<>\"Not required\"),IF(COUNTRY_INFO!K14=1,0,IF(COUNTRY_INFO!K14=2,0.2*COUNTRY_INFO!G14/(0.5*COUNTRY_INFO!F14+0.2*COUNTRY_INFO!G14),IF(COUNTRY_INFO!K14=3,COUNTRY_INFO!G14/(COUNTRY_INFO!F14+COUNTRY_INFO!G14)))),0)","v":0.54177232276721266},{"$f":"MAX(COUNTRY_INFO!D14*AK14*PROFILE!$G$7,COUNTRY_INFO!D14*AL14*PROFILE!$G$7)","v":0},{"$f":"MAX(COUNTRY_INFO!D14*AK14*PROFILE!$G$8,COUNTRY_INFO!D14*AL14*PROFILE!$G$8,COUNTRY_INFO!D14*AM14*PROFILE!$G$8)","v":25469.841629384689},{"$f":"MAX(COUNTRY_INFO!D14*AK14*PROFILE!$G$9,COUNTRY_INFO!D14*AL14*PROFILE!$G$9,COUNTRY_INFO!D14*AM14*PROFILE!$G$9,IF(AND(DISTRICT!Z14<>\"Unknown\",Z14<>\"Not required\"),COUNTRY_INFO!O14*DISTRICT!AN14,0))","v":44385.041398237496},{"$f":"MAX(COUNTRY_INFO!D14*AK14*PROFILE!$G$10,COUNTRY_INFO!D14*AL14*PROFILE!$G$10,IF(AND(DISTRICT!Z14<>\"Unknown\",Z14<>\"Not required\"),COUNTRY_INFO!O14*DISTRICT!AO14,0))","v":25699.525975701796},95554.409003323977,0,{"$f":"MAX('MDA2'!J14,'T1'!L14,'T2'!J14,T3_R1!K14,T3_R2!K14)","v":0},{"$f":"MAX('MDA1'!K14,'MDA2'!K14,'MDA3'!I14,'MDA3'!L14,'T1'!M14,'T2'!K14,T3_R1!L14,T3_R2!L14)","v":41965},{"$f":"MAX('MDA1'!L14,'MDA2'!L14,'MDA3'!J14,'MDA3'!M14,'T1'!N14,'T2'!L14,T3_R1!M14,T3_R2!M14)","v":0},41965,{"$f":"MAX('MDA2'!J14,T14)","v":0},{"$f":"MAX('MDA1'!K14,'MDA2'!K14,'MDA3'!I14,'MDA3'!L14,V14,AD14)","v":41965},{"$f":"MAX('MDA1'!L14,'MDA2'!L14,'MDA3'!J14,'MDA3'!M14,AF14)","v":0},41965,43.917387421170901]
[{"$f":"IF(COUNTRY_INFO!A15=0,\" \",COUNTRY_INFO!A15)","v":"Tanzania"},{"$f":"IF(COUNTRY_INFO!B15=0,\" \",COUNTRY_INFO!B15)","v":"Arusha"},{"$f":"IF(COUNTRY_INFO!C15=0,\" \",COUNTRY_INFO!C15)","v":"Ngorongoro District Council"},{"$f":"COUNTRY_INFO!L15","v":0},null,null,{"$f":"MAX('MDA1'!M15,'MDA2'!M15)","v":0},{"$f":"IF(AND(COUNTRY_INFO!H15>0,COUNTRY_INFO!H15<4),IF(D15>MAX('MDA1'!M15,'MDA2'!M15),MAX('MDA1'!M15,'MDA2'!M15),D15),0)","v":0},{"$f":"IF(AND(COUNTRY_INFO!H15>0,COUNTRY_INFO!H15<4), IF(G15/D15*100<>0, IF(G15/D15*100>100,100,G15/D15*100), \"-\"),0)","v":0},{"$f":"COUNTRY_INFO!M15","v":0},null,null,{"$f":"MAX('MDA1'!M15,MAX('MDA3'!I15,'MDA3'!L15)+MAX('MDA3'!J15,'MDA3'!M15))","v":0},{"$f":"IF(AND(COUNTRY_INFO!I15>0,COUNTRY_INFO!I15<4),IF(J15>MAX('MDA1'!M15,MAX('MDA3'!I15,'MDA3'!L15)+MAX('MDA3'!J15,'MDA3'!M15)),MAX('MDA1'!M15,MAX('MDA3'!I15,'MDA3'!L15)+MAX('MDA3'!J15,'MDA3'!M15)),J15),0)","v":0},{"$f":"IF(AND(COUNTRY_INFO!I15>0,COUNTRY_INFO!I15<4), IF(M15/J15*100<>0, IF(M15/J15*100>100,100,M15/J15*100), \"-\"),0)","v":0},{"$f":"COUNTRY_INFO!N15","v":76334},null,null,{"$f":"SUM(MAX('MDA2'!J15, 'T1'!L15, MAX(T3_R1!K15, T3_R2!K15)), MAX('MDA1'!K15, 'MDA2'!K15, 'T1'!M15, MAX(T3_R1!L15, T3_R2!L15)), MAX('MDA1'!L15, 'MDA2'!L15, 'T1'!N15, MAX(T3_R1!M15, T3_R2!M15)))","v":44588},{"$f":"IF(AND(COUNTRY_INFO!J15>1,COUNTRY_INFO!J15<4),IF(COUNTRY_INFO!E15>MAX('MDA2'!J15,'T1'!L15,MAX(T3_R1!K15,T3_R2!K15)),MAX('MDA2'!J15,'T1'!L15,MAX(T3_R1!K15,T3_R2!K15)),COUNTRY_INFO!E15),0)","v":0},{"$f":"IF(AND(COUNTRY_INFO!J15>1,COUNTRY_INFO!J15<4), IF(T15/COUNTRY_INFO!E15*100<>0, IF(T15/COUNTRY_INFO!E15*100>100,100,T15/COUNTRY_INFO!E15*100), \"-\"),0)","v":"-"},{"$f":"IF(AND(COUNTRY_INFO!J15>1,COUNTRY_INFO!J15<4),IF(COUNTRY_INFO!F15>MAX('MDA1'!K15,'MDA2'!K15,'T1'!M15,MAX(T3_R1!L15,T3_R2!L15)),MAX('MDA1'!K15,'MDA2'!K15,'T1'!M15,MAX(T3_R1!L15,T3_R2!L15)),COUNTRY_INFO!F15),0)","v":44588},{"$f":"IF(AND(COUNTRY_INFO!J15>1,COUNTRY_INFO!J15<4), IF(V15/COUNTRY_INFO!F15*100<>0, IF(V15/COUNTRY_INFO!F15*100>100,100,V15/COUNTRY_INFO!F15*100), \"-\"),0)","v":92.116354020328899},44588,{"$f":"IF(AND(COUNTRY_INFO!J15>1,COUNTRY_INFO!J15<4), IF(S15/P15*100<>0, IF(X15/P15*100>100,100,X15/P15*100), \"-\"),0)","v":58.411716928236437},{"$f":"COUNTRY_INFO!O15","v":52237.233793669933},null,null,{"$f":"MAX('T1'!L15,'T2'!J15)+MAX('T1'!M15,'T2'!K15)+MAX('T1'!N15,'T2'!L15)","v":0},{"$f":"IF(COUNTRY_INFO!K15=1,IF(COUNTRY_INFO!F15*0.33>MAX('T1'!M15,'T2'!K15),MAX('T1'!M15,'T2'!K15),COUNTRY_INFO!F15*0.33),IF(COUNTRY_INFO!K15=2,IF(COUNTRY_INFO!F15*0.5>MAX('T1'!M15,'T2'!K15),MAX('T1'!M15,'T2'!K15),COUNTRY_INFO!F15*0.5),IF(COUNTRY_INFO!K15=3,IF(COUNTRY_INFO!F15>MAX('T1'!M15,'T2'!K15),MAX('T1'!M15,'T2'!K15),COUNTRY_INFO!F15),0)))","v":0},{"$f":"IF(AND(COUNTRY_INFO!K15>0,COUNTRY_INFO!K15<4),IF(Z15>0,IF(COUNTRY_INFO!K15=1, AD15/(COUNTRY_INFO!F15*0.33)*100, IF(COUNTRY_INFO!K15=2, AD15/(COUNTRY_INFO!F15*0.5)*100, IF(COUNTRY_INFO!K15=3, AD15/COUNTRY_INFO!F15*100))),\"-\"),0)","v":0},{"$f":"IF(COUNTRY_INFO!K15=2,IF(COUNTRY_INFO!G15*0.2>MAX('T1'!N15,'T2'!L15),MAX('T1'!N15,'T2'!L15),COUNTRY_INFO!G15*0.2),IF(COUNTRY_INFO!K15=3,IF(COUNTRY_INFO!G15>MAX('T1'!N15,'T2'!L15),MAX('T1'!N15,'T2'!L15),COUNTRY_INFO!G15),0))","v":0},{"$f":"IF(AND(COUNTRY_INFO!K15>0,COUNTRY_INFO!K15<4),IF(Z15>0,IF(COUNTRY_INFO!K15=1, 0, IF(COUNTRY_INFO!K15=2, AF15/(COUNTRY_INFO!G15*0.2)*100, IF(COUNTRY_INFO!K15=3, AF15/COUNTRY_INFO!G15*100))),\"-\"),0)","v":0},0,{"$f":"IF(AND(COUNTRY_INFO!K15>0,COUNTRY_INFO!K15<4), IF(AC15/Z15*100<>0, IF(AH15/Z15*100>100,100,AH15/Z15*100), \"-\"),0)","v":"-"},null,{"$f":"IF(AND(D15<>0, D15<>\"Unknown\",D15<>\"Stopped\",D15<>\"Not required\"),D15/COUNTRY_INFO!D15, 0)","v":0},{"$f":"IF(AND(J15<>0,J15<>\"Unknown\",J15<>\"Stopped\",J15<>\"Not required\"),J15/COUNTRY_INFO!D15, 0)","v":0},{"$f":"IF(AND(P15<>0,P15<>\"Unknown\",P15<>\"Not required\"),P15/(COUNTRY_INFO!E15+COUNTRY_INFO!F15), 0)","v":1},{"$f":"IF(AND(Z15<>0,Z15<>\"Unknown\",Z15<>\"Not required\"),IF(COUNTRY_INFO!K15=1,1,IF(COUNTRY_INFO!K15=2,0.5*COUNTRY_INFO!F15/(0.5*COUNTRY_INFO!F15+0.2*COUNTRY_INFO!G15),IF(COUNTRY_INFO!K15=3,COUNTRY_INFO!F15/(COUNTRY_INFO!F15+COUNTRY_INFO!G15)))),0)","v":0.46330937230701486},{"$f":"IF(AND(Z15<>0,Z15<>\"Unknown\",Z15<>\"Not required\"),IF(COUNTRY_INFO!K15=1,0,IF(COUNTRY_INFO!K15=2,0.2*COUNTRY_INFO!G15/(0.5*COUNTRY_INFO!F15+0.2*COUNTRY_INFO!G15),IF(COUNTRY_INFO!K15=3,COUNTRY_INFO!G15/(COUNTRY_INFO!F15+COUNTRY_INFO!G15)))),0)","v":0.53669062769298514},{"$f":"MAX(COUNTRY_INFO!D15*AK15*PROFILE!$G$7,COUNTRY_INFO!D15*AL15*PROFILE!$G$7)","v":0},{"$f":"MAX(COUNTRY_INFO!D15*AK15*PROFILE!$G$8,COUNTRY_INFO!D15*AL15*PROFILE!$G$8,COUNTRY_INFO!D15*AM15*PROFILE!$G$8)","v":27929.812208198517},{"$f":"MAX(COUNTRY_INFO!D15*AK15*PROFILE!$G$9,COUNTRY_INFO!D15*AL15*PROFILE!$G$9,COUNTRY_INFO!D15*AM15*PROFILE!$G$9,IF(AND(DISTRICT!Z15<>\"Unknown\",Z15<>\"Not required\"),COUNTRY_INFO!O15*DISTRICT!AN15,0))","v":48671.911240927431},{"$f":"MAX(COUNTRY_INFO!D15*AK15*PROFILE!$G$10,COUNTRY_INFO!D15*AL15*PROFILE!$G$10,IF(AND(DISTRICT!Z15<>\"Unknown\",Z15<>\"Not required\"),COUNTRY_INFO!O15*DISTRICT!AO15,0))","v":28035.233793669933},104636.95724279588,0,{"$f":"MAX('MDA2'!J15,'T1'!L15,'T2'!J15,T3_R1!K15,T3_R2!K15)","v":0},{"$f":"MAX('MDA1'!K15,'MDA2'!K15,'MDA3'!I15,'MDA3'!L15,'T1'!M15,'T2'!K15,T3_R1!L15,T3_R2!L15)","v":44588},{"$f":"MAX('MDA1'!L15,'MDA2'!L15,'MDA3'!J15,'MDA3'!M15,'T1'!N15,'T2'!L15,T3_R1!M15,T3_R2!M15)","v":0},44588,{"$f":"MAX('MDA2'!J15,T15)","v":0},{"$f":"MAX('MDA1'!K15,'MDA2'!K15,'MDA3'!I15,'MDA3'!L15,V15,AD15)","v":44588},{"$f":"MAX('MDA1'!L15,'MDA2'!L15,'MDA3'!J15,'MDA3'!M15,AF15)","v":0},44588,42.612095357990569]
[{"$f":"IF(COUNTRY_INFO!A16=0,\" \",COUNTRY_INFO!A16)","v":"Tanzania"},{"$f":"IF(COUNTRY_INFO!B16=0,\" \",COUNTRY_INFO!B16)","v":"Dar Es Salaam"},{"$f":"IF(COUNTRY_INFO!C16=0,\" \",COUNTRY_INFO!C16)","v":"Dar es Salaam City Council "},{"$f":"COUNTRY_INFO!L16","v":1},null,null,{"$f":"MAX('MDA1'!M16,'MDA2'!M16)","v":0},{"$f":"IF(AND(COUNTRY_INFO!H16>0,COUNTRY_INFO!H16<4),IF(D16>MAX('MDA1'!M16,'MDA2'!M16),MAX('MDA1'!M16,'MDA2'!M16),D16),0)","v":0},{"$f":"IF(AND(COUNTRY_INFO!H16>0,COUNTRY_INFO!H16<4), IF(G16/D16*100<>0, IF(G16/D16*100>100,100,G16/D16*100), \"-\"),0)","v":"-"},{"$f":"COUNTRY_INFO!M16","v":0},null,null,{"$f":"MAX('MDA1'!M16,MAX('MDA3'!I16,'MDA3'!L16)+MAX('MDA3'!J16,'MDA3'!M16))","v":0},{"$f":"IF(AND(COUNTRY_INFO!I16>0,COUNTRY_INFO!I16<4),IF(J16>MAX('MDA1'!M16,MAX('MDA3'!I16,'MDA3'!L16)+MAX('MDA3'!J16,'MDA3'!M16)),MAX('MDA1'!M16,MAX('MDA3'!I16,'MDA3'!L16)+MAX('MDA3'!J16,'MDA3'!M16)),J16),0)","v":0},{"$f":"IF(AND(COUNTRY_INFO!I16>0,COUNTRY_INFO!I16<4), IF(M16/J16*100<>0, IF(M16/J16*100>100,100,M16/J16*100), \"-\"),0)","v":0},{"$f":"COUNTRY_INFO!N16","v":0},null,null,{"$f":"SUM(MAX('MDA2'!J16, 'T1'!L16, MAX(T3_R1!K16, T3_R2!K16)), MAX('MDA1'!K16, 'MDA2'!K16, 'T1'!M16, MAX(T3_R1!L16, T3_R2!L16)), MAX('MDA1'!L16, 'MDA2'!L16, 'T1'!N16, MAX(T3_R1!M16, T3_R2!M16)))","v":0},{"$f":"IF(AND(COUNTRY_INFO!J16>1,COUNTRY_INFO!J16<4),IF(COUNTRY_INFO!E16>MAX('MDA2'!J16,'T1'!L16,MAX(T3_R1!K16,T3_R2!K16)),MAX('MDA2'!J16,'T1'!L16,MAX(T3_R1!K16,T3_R2!K16)),COUNTRY_INFO!E16),0)","v":0},{"$f":"IF(AND(COUNTRY_INFO!J16>1,COUNTRY_INFO!J16<4), IF(T16/COUNTRY_INFO!E16*100<>0, IF(T16/COUNTRY_INFO!E16*100>100,100,T16/COUNTRY_INFO!E16*100), \"-\"),0)","v":{"$error":"#DIV/0!"}},{"$f":"IF(AND(COUNTRY_INFO!J16>1,COUNTRY_INFO!J16<4),IF(COUNTRY_INFO!F16>MAX('MDA1'!K16,'MDA2'!K16,'T1'!M16,MAX(T3_R1!L16,T3_R2!L16)),MAX('MDA1'!K16,'MDA2'!K16,'T1'!M16,MAX(T3_R1!L16,T3_R2!L16)),COUNTRY_INFO!F16),0)","v":0},{"$f":"IF(AND(COUNTRY_INFO!J16>1,COUNTRY_INFO!J16<4), IF(V16/COUNTRY_INFO!F16*100<>0, IF(V16/COUNTRY_INFO!F16*100>100,100,V16/COUNTRY_INFO!F16*100), \"-\"),0)","v":{"$error":"#DIV/0!"}},0,{"$f":"IF(AND(COUNTRY_INFO!J16>1,COUNTRY_INFO!J16<4), IF(S16/P16*100<>0, IF(X16/P16*100>100,100,X16/P16*100), \"-\"),0)","v":{"$error":"#DIV/0!"}},{"$f":"COUNTRY_INFO!O16","v":0},null,null,{"$f":"MAX('T1'!L16,'T2'!J16)+MAX('T1'!M16,'T2'!K16)+MAX('T1'!N16,'T2'!L16)","v":0},{"$f":"IF(COUNTRY_INFO!K16=1,IF(COUNTRY_INFO!F16*0.33>MAX('T1'!M16,'T2'!K16),MAX('T1'!M16,'T2'!K16),COUNTRY_INFO!F16*0.33),IF(COUNTRY_INFO!K16=2,IF(COUNTRY_INFO!F16*0.5>MAX('T1'!M16,'T2'!K16),MAX('T1'!M16,'T2'!K16),COUNTRY_INFO!F16*0.5),IF(COUNTRY_INFO!K16=3,IF(COUNTRY_INFO!F16>MAX('T1'!M16,'T2'!K16),MAX('T1'!M16,'T2'!K16),COUNTRY_INFO!F16),0)))","v":0},{"$f":"IF(AND(COUNTRY_INFO!K16>0,COUNTRY_INFO!K16<4),IF(Z16>0,IF(COUNTRY_INFO!K16=1, AD16/(COUNTRY_INFO!F16*0.33)*100, IF(COUNTRY_INFO!K16=2, AD16/(COUNTRY_INFO!F16*0.5)*100, IF(COUNTRY_INFO!K16=3, AD16/COUNTRY_INFO!F16*100))),\"-\"),0)","v":"-"},{"$f":"IF(COUNTRY_INFO!K16=2,IF(COUNTRY_INFO!G16*0.2>MAX('T1'!N16,'T2'!L16),MAX('T1'!N16,'T2'!L16),COUNTRY_INFO!G16*0.2),IF(COUNTRY_INFO!K16=3,IF(COUNTRY_INFO!G16>MAX('T1'!N16,'T2'!L16),MAX('T1'!N16,'T2'!L16),COUNTRY_INFO!G16),0))","v":0},{"$f":"IF(AND(COUNTRY_INFO!K16>0,COUNTRY_INFO!K16<4),IF(Z16>0,IF(COUNTRY_INFO!K16=1, 0, IF(COUNTRY_INFO!K16=2, AF16/(COUNTRY_INFO!G16*0.2)*100, IF(COUNTRY_INFO!K16=3, AF16/COUNTRY_INFO!G16*100))),\"-\"),0)","v":"-"},0,{"$f":"IF(AND(COUNTRY_INFO!K16>0,COUNTRY_INFO!K16<4), IF(AC16/Z16*100<>0, IF(AH16/Z16*100>100,100,AH16/Z16*100), \"-\"),0)","v":{"$error":"#DIV/0!"}},null,{"$f":"IF(AND(D16<>0, D16<>\"Unknown\",D16<>\"Stopped\",D16<>\"Not required\"),D16/COUNTRY_INFO!D16, 0)","v":1},{"$f":"IF(AND(J16<>0,J16<>\"Unknown\",J16<>\"Stopped\",J16<>\"Not required\"),J16/COUNTRY_INFO!D16, 0)","v":0},{"$f":"IF(AND(P16<>0,P16<>\"Unknown\",P16<>\"Not required\"),P16/(COUNTRY_INFO!E16+COUNTRY_INFO!F16), 0)","v":0},{"$f":"IF(AND(Z16<>0,Z16<>\"Unknown\",Z16<>\"Not required\"),IF(COUNTRY_INFO!K16=1,1,IF(COUNTRY_INFO!K16=2,0.5*COUNTRY_INFO!F16/(0.5*COUNTRY_INFO!F16+0.2*COUNTRY_INFO!G16),IF(COUNTRY_INFO!K16=3,COUNTRY_INFO!F16/(COUNTRY_INFO!F16+COUNTRY_INFO!G16)))),0)","v":0},{"$f":"IF(AND(Z16<>0,Z16<>\"Unknown\",Z16<>\"Not required\"),IF(COUNTRY_INFO!K16=1,0,IF(COUNTRY_INFO!K16=2,0.2*COUNTRY_INFO!G16/(0.5*COUNTRY_INFO!F16+0.2*COUNTRY_INFO!G16),IF(COUNTRY_INFO!K16=3,COUNTRY_INFO!G16/(COUNTRY_INFO!F16+COUNTRY_INFO!G16)))),0)","v":0},{"$f":"MAX(COUNTRY_INFO!D16*AK16*PROFILE!$G$7,COUNTRY_INFO!D16*AL16*PROFILE!$G$7)","v":1.8336959973308233E-8},{"$f":"MAX(COUNTRY_INFO!D16*AK16*PROFILE!$G$8,COUNTRY_INFO!D16*AL16*PROFILE!$G$8,COUNTRY_INFO!D16*AM16*PROFILE!$G$8)","v":0.12900000189959399},{"$f":"MAX(COUNTRY_INFO!D16*AK16*PROFILE!$G$9,COUNTRY_INFO!D16*AL16*PROFILE!$G$9,COUNTRY_INFO!D16*AM16*PROFILE!$G$9,IF(AND(DISTRICT!Z16<>\"Unknown\",Z16<>\"Not required\"),COUNTRY_INFO!O16*DISTRICT!AN16,0))","v":0.22480196414258258},{"$f":"MAX(COUNTRY_INFO!D16*AK16*PROFILE!$G$10,COUNTRY_INFO!D16*AL16*PROFILE!$G$10,IF(AND(DISTRICT!Z16<>\"Unknown\",Z16<>\"Not required\"),COUNTRY_INFO!O16*DISTRICT!AO16,0))","v":0.64619801562086343},1,0,{"$f":"MAX('MDA2'!J16,'T1'!L16,'T2'!J16,T3_R1!K16,T3_R2!K16)","v":0},{"$f":"MAX('MDA1'!K16,'MDA2'!K16,'MDA3'!I16,'MDA3'!L16,'T1'!M16,'T2'!K16,T3_R1!L16,T3_R2!L16)","v":0},{"$f":"MAX('MDA1'!L16,'MDA2'!L16,'MDA3'!J16,'MDA3'!M16,'T1'!N16,'T2'!L16,T3_R1!M16,T3_R2!M16)","v":0},0,{"$f":"MAX('MDA2'!J16,T16)","v":0},{"$f":"MAX('MDA1'!K16,'MDA2'!K16,'MDA3'!I16,'MDA3'!L16,V16,AD16)","v":0},{"$f":"MAX('MDA1'!L16,'MDA2'!L16,'MDA3'!J16,'MDA3'!M16,AF16)","v":0},0,0]
[{"$f":"IF(COUNTRY_INFO!A17=0,\" \",COUNTRY_INFO!A17)","v":"Tanzania"},{"$f":"IF(COUNTRY_INFO!B17=0,\" \",COUNTRY_INFO!B17)","v":"Dar Es Salaam"},{"$f":"IF(COUNTRY_INFO!C17=0,\" \",COUNTRY_INFO!C17)","v":"Ilala Municipal Council"},{"$f":"COUNTRY_INFO!L17","v":1904036.475429269},null,null,{"$f":"MAX('MDA1'!M17,'MDA2'!M17)","v":0},{"$f":"IF(AND(COUNTRY_INFO!H17>0,COUNTRY_INFO!H17<4),IF(D17>MAX('MDA1'!M17,'MDA2'!M17),MAX('MDA1'!M17,'MDA2'!M17),D17),0)","v":0},{"$f":"IF(AND(COUNTRY_INFO!H17>0,COUNTRY_INFO!H17<4), IF(G17/D17*100<>0, IF(G17/D17*100>100,100,G17/D17*100), \"-\"),0)","v":"-"},{"$f":"COUNTRY_INFO!M17","v":0},null,null,{"$f":"MAX('MDA1'!M17,MAX('MDA3'!I17,'MDA3'!L17)+MAX('MDA3'!J17,'MDA3'!M17))","v":0},{"$f":"IF(AND(COUNTRY_INFO!I17>0,COUNTRY_INFO!I17<4),IF(J17>MAX('MDA1'!M17,MAX('MDA3'!I17,'MDA3'!L17)+MAX('MDA3'!J17,'MDA3'!M17)),MAX('MDA1'!M17,MAX('MDA3'!I17,'MDA3'!L17)+MAX('MDA3'!J17,'MDA3'!M17)),J17),0)","v":0},{"$f":"IF(AND(COUNTRY_INFO!I17>0,COUNTRY_INFO!I17<4), IF(M17/J17*100<>0, IF(M17/J17*100>100,100,M17/J17*100), \"-\"),0)","v":0},{"$f":"COUNTRY_INFO!N17","v":505186},null,null,{"$f":"SUM(MAX('MDA2'!J17, 'T1'!L17, MAX(T3_R1!K17, T3_R2!K17)), MAX('MDA1'!K17, 'MDA2'!K17, 'T1'!M17, MAX(T3_R1!L17, T3_R2!L17)), MAX('MDA1'!L17, 'MDA2'!L17, 'T1'!N17, MAX(T3_R1!M17, T3_R2!M17)))","v":0},{"$f":"IF(AND(COUNTRY_INFO!J17>1,COUNTRY_INFO!J17<4),IF(COUNTRY_INFO!E17>MAX('MDA2'!J17,'T1'!L17,MAX(T3_R1!K17,T3_R2!K17)),MAX('MDA2'!J17,'T1'!L17,MAX(T3_R1!K17,T3_R2!K17)),COUNTRY_INFO!E17),0)","v":0},{"$f":"IF(AND(COUNTRY_INFO!J17>1,COUNTRY_INFO!J17<4), IF(T17/COUNTRY_INFO!E17*100<>0, IF(T17/COUNTRY_INFO!E17*100>100,100,T17/COUNTRY_INFO!E17*100), \"-\"),0)","v":"-"},{"$f":"IF(AND(COUNTRY_INFO!J17>1,COUNTRY_INFO!J17<4),IF(COUNTRY_INFO!F17>MAX('MDA1'!K17,'MDA2'!K17,'T1'!M17,MAX(T3_R1!L17,T3_R2!L17)),MAX('MDA1'!K17,'MDA2'!K17,'T1'!M17,MAX(T3_R1!L17,T3_R2!L17)),COUNTRY_INFO!F17),0)","v":0},{"$f":"IF(AND(COUNTRY_INFO!J17>1,COUNTRY_INFO!J17<4), IF(V17/COUNTRY_INFO!F17*100<>0, IF(V17/COUNTRY_INFO!F17*100>100,100,V17/COUNTRY_INFO!F17*100), \"-\"),0)","v":"-"},0,{"$f":"IF(AND(COUNTRY_INFO!J17>1,COUNTRY_INFO!J17<4), IF(S17/P17*100<>0, IF(X17/P17*100>100,100,X17/P17*100), \"-\"),0)","v":"-"},{"$f":"COUNTRY_INFO!O17","v":409552.59508585383},null,null,{"$f":"MAX('T1'!L17,'T2'!J17)+MAX('T1'!M17,'T2'!K17)+MAX('T1'!N17,'T2'!L17)","v":0},{"$f":"IF(COUNTRY_INFO!K17=1,IF(COUNTRY_INFO!F17*0.33>MAX('T1'!M17,'T2'!K17),MAX('T1'!M17,'T2'!K17),COUNTRY_INFO!F17*0.33),IF(COUNTRY_INFO!K17=2,IF(COUNTRY_INFO!F17*0.5>MAX('T1'!M17,'T2'!K17),MAX('T1'!M17,'T2'!K17),COUNTRY_INFO!F17*0.5),IF(COUNTRY_INFO!K17=3,IF(COUNTRY_INFO!F17>MAX('T1'!M17,'T2'!K17),MAX('T1'!M17,'T2'!K17),COUNTRY_INFO!F17),0)))","v":0},{"$f":"IF(AND(COUNTRY_INFO!K17>0,COUNTRY_INFO!K17<4),IF(Z17>0,IF(COUNTRY_INFO!K17=1, AD17/(COUNTRY_INFO!F17*0.33)*100, IF(COUNTRY_INFO!K17=2, AD17/(COUNTRY_INFO!F17*0.5)*100, IF(COUNTRY_INFO!K17=3, AD17/COUNTRY_INFO!F17*100))),\"-\"),0)","v":0},{"$f":"IF(COUNTRY_INFO!K17=2,IF(COUNTRY_INFO!G17*0.2>MAX('T1'!N17,'T2'!L17),MAX('T1'!N17,'T2'!L17),COUNTRY_INFO!G17*0.2),IF(COUNTRY_INFO!K17=3,IF(COUNTRY_INFO!G17>MAX('T1'!N17,'T2'!L17),MAX('T1'!N17,'T2'!L17),COUNTRY_INFO!G17),0))","v":0},{"$f":"IF(AND(COUNTRY_INFO!K17>0,COUNTRY_INFO!K17<4),IF(Z17>0,IF(COUNTRY_INFO!K17=1, 0, IF(COUNTRY_INFO!K17=2, AF17/(COUNTRY_INFO!G17*0.2)*100, IF(COUNTRY_INFO!K17=3, AF17/COUNTRY_INFO!G17*100))),\"-\"),0)","v":0},0,{"$f":"IF(AND(COUNTRY_INFO!K17>0,COUNTRY_INFO!K17<4), IF(AC17/Z17*100<>0, IF(AH17/Z17*100>100,100,AH17/Z17*100), \"-\"),0)","v":"-"},null,{"$f":"IF(AND(D17<>0, D17<>\"Unknown\",D17<>\"Stopped\",D17<>\"Not required\"),D17/COUNTRY_INFO!D17, 0)","v":1},{"$f":"IF(AND(J17<>0,J17<>\"Unknown\",J17<>\"Stopped\",J17<>\"Not required\"),J17/COUNTRY_INFO!D17, 0)","v":0},{"$f":"IF(AND(P17<>0,P17<>\"Unknown\",P17<>\"Not required\"),P17/(COUNTRY_INFO!E17+COUNTRY_INFO!F17), 0)","v":1},{"$f":"IF(AND(Z17<>0,Z17<>\"Unknown\",Z17<>\"Not required\"),IF(COUNTRY_INFO!K17=1,1,IF(COUNTRY_INFO!K17=2,0.5*COUNTRY_INFO!F17/(0.5*COUNTRY_INFO!F17+0.2*COUNTRY_INFO!G17),IF(COUNTRY_INFO!K17=3,COUNTRY_INFO!F17/(COUNTRY_INFO!F17+COUNTRY_INFO!G17)))),0)","v":0.3168884816192995},{"$f":"IF(AND(Z17<>0,Z17<>\"Unknown\",Z17<>\"Not required\"),IF(COUNTRY_INFO!K17=1,0,IF(COUNTRY_INFO!K17=2,0.2*COUNTRY_INFO!G17/(0.5*COUNTRY_INFO!F17+0.2*COUNTRY_INFO!G17),IF(COUNTRY_INFO!K17=3,COUNTRY_INFO!G17/(COUNTRY_INFO!F17+COUNTRY_INFO!G17)))),0)","v":0.6831115183807005},{"$f":"MAX(COUNTRY_INFO!D17*AK17*PROFILE!$G$7,COUNTRY_INFO!D17*AL17*PROFILE!$G$7)","v":3.4914240637665392E-2},{"$f":"MAX(COUNTRY_INFO!D17*AK17*PROFILE!$G$8,COUNTRY_INFO!D17*AL17*PROFILE!$G$8,COUNTRY_INFO!D17*AM17*PROFILE!$G$8)","v":245620.70894727195},{"$f":"MAX(COUNTRY_INFO!D17*AK17*PROFILE!$G$9,COUNTRY_INFO!D17*AL17*PROFILE!$G$9,COUNTRY_INFO!D17*AM17*PROFILE!$G$9,IF(AND(DISTRICT!Z17<>\"Unknown\",Z17<>\"Not required\"),COUNTRY_INFO!O17*DISTRICT!AN17,0))","v":428031.13947561983},{"$f":"MAX(COUNTRY_INFO!D17*AK17*PROFILE!$G$10,COUNTRY_INFO!D17*AL17*PROFILE!$G$10,IF(AND(DISTRICT!Z17<>\"Unknown\",Z17<>\"Not required\"),COUNTRY_INFO!O17*DISTRICT!AO17,0))","v":1230384.5920921366},1904036.475429269,0,{"$f":"MAX('MDA2'!J17,'T1'!L17,'T2'!J17,T3_R1!K17,T3_R2!K17)","v":0},{"$f":"MAX('MDA1'!K17,'MDA2'!K17,'MDA3'!I17,'MDA3'!L17,'T1'!M17,'T2'!K17,T3_R1!L17,T3_R2!L17)","v":0},{"$f":"MAX('MDA1'!L17,'MDA2'!L17,'MDA3'!J17,'MDA3'!M17,'T1'!N17,'T2'!L17,T3_R1!M17,T3_R2!M17)","v":0},0,{"$f":"MAX('MDA2'!J17,T17)","v":0},{"$f":"MAX('MDA1'!K17,'MDA2'!K17,'MDA3'!I17,'MDA3'!L17,V17,AD17)","v":0},{"$f":"MAX('MDA1'!L17,'MDA2'!L17,'MDA3'!J17,'MDA3'!M17,AF17)","v":0},0,0]
[{"$f":"IF(COUNTRY_INFO!A18=0,\" \",COUNTRY_INFO!A18)","v":"Tanzania"},{"$f":"IF(COUNTRY_INFO!B18=0,\" \",COUNTRY_INFO!B18)","v":"Dar Es Salaam"},{"$f":"IF(COUNTRY_INFO!C18=0,\" \",COUNTRY_INFO!C18)","v":"Kigamboni Municipal Council"},{"$f":"COUNTRY_INFO!L18","v":254158.22133242802},null,null,{"$f":"MAX('MDA1'!M18,'MDA2'!M18)","v":0},{"$f":"IF(AND(COUNTRY_INFO!H18>0,COUNTRY_INFO!H18<4),IF(D18>MAX('MDA1'!M18,'MDA2'!M18),MAX('MDA1'!M18,'MDA2'!M18),D18),0)","v":0},{"$f":"IF(AND(COUNTRY_INFO!H18>0,COUNTRY_INFO!H18<4), IF(G18/D18*100<>0, IF(G18/D18*100>100,100,G18/D18*100), \"-\"),0)","v":"-"},{"$f":"COUNTRY_INFO!M18","v":0},null,null,{"$f":"MAX('MDA1'!M18,MAX('MDA3'!I18,'MDA3'!L18)+MAX('MDA3'!J18,'MDA3'!M18))","v":0},{"$f":"IF(AND(COUNTRY_INFO!I18>0,COUNTRY_INFO!I18<4),IF(J18>MAX('MDA1'!M18,MAX('MDA3'!I18,'MDA3'!L18)+MAX('MDA3'!J18,'MDA3'!M18)),MAX('MDA1'!M18,MAX('MDA3'!I18,'MDA3'!L18)+MAX('MDA3'!J18,'MDA3'!M18)),J18),0)","v":0},{"$f":"IF(AND(COUNTRY_INFO!I18>0,COUNTRY_INFO!I18<4), IF(M18/J18*100<>0, IF(M18/J18*100>100,100,M18/J18*100), \"-\"),0)","v":0},{"$f":"COUNTRY_INFO!N18","v":68916},null,null,{"$f":"SUM(MAX('MDA2'!J18, 'T1'!L18, MAX(T3_R1!K18, T3_R2!K18)), MAX('MDA1'!K18, 'MDA2'!K18, 'T1'!M18, MAX(T3_R1!L18, T3_R2!L18)), MAX('MDA1'!L18, 'MDA2'!L18, 'T1'!N18, MAX(T3_R1!M18, T3_R2!M18)))","v":0},{"$f":"IF(AND(COUNTRY_INFO!J18>1,COUNTRY_INFO!J18<4),IF(COUNTRY_INFO!E18>MAX('MDA2'!J18,'T1'!L18,MAX(T3_R1!K18,T3_R2!K18)),MAX('MDA2'!J18,'T1'!L18,MAX(T3_R1!K18,T3_R2!K18)),COUNTRY_INFO!E18),0)","v":0},{"$f":"IF(AND(COUNTRY_INFO!J18>1,COUNTRY_INFO!J18<4), IF(T18/COUNTRY_INFO!E18*100<>0, IF(T18/COUNTRY_INFO!E18*100>100,100,T18/COUNTRY_INFO!E18*100), \"-\"),0)","v":"-"},{"$f":"IF(AND(COUNTRY_INFO!J18>1,COUNTRY_INFO!J18<4),IF(COUNTRY_INFO!F18>MAX('MDA1'!K18,'MDA2'!K18,'T1'!M18,MAX(T3_R1!L18,T3_R2!L18)),MAX('MDA1'!K18,'MDA2'!K18,'T1'!M18,MAX(T3_R1!L18,T3_R2!L18)),COUNTRY_INFO!F18),0)","v":0},{"$f":"IF(AND(COUNTRY_INFO!J18>1,COUNTRY_INFO!J18<4), IF(V18/COUNTRY_INFO!F18*100<>0, IF(V18/COUNTRY_INFO!F18*100>100,100,V18/COUNTRY_INFO!F18*100), \"-\"),0)","v":"-"},0,{"$f":"IF(AND(COUNTRY_INFO!J18>1,COUNTRY_INFO!J18<4), IF(S18/P18*100<>0, IF(X18/P18*100>100,100,X18/P18*100), \"-\"),0)","v":"-"},{"$f":"COUNTRY_INFO!O18","v":55113.444266485603},null,null,{"$f":"MAX('T1'!L18,'T2'!J18)+MAX('T1'!M18,'T2'!K18)+MAX('T1'!N18,'T2'!L18)","v":0},{"$f":"IF(COUNTRY_INFO!K18=1,IF(COUNTRY_INFO!F18*0.33>MAX('T1'!M18,'T2'!K18),MAX('T1'!M18,'T2'!K18),COUNTRY_INFO!F18*0.33),IF(COUNTRY_INFO!K18=2,IF(COUNTRY_INFO!F18*0.5>MAX('T1'!M18,'T2'!K18),MAX('T1'!M18,'T2'!K18),COUNTRY_INFO!F18*0.5),IF(COUNTRY_INFO!K18=3,IF(COUNTRY_INFO!F18>MAX('T1'!M18,'T2'!K18),MAX('T1'!M18,'T2'!K18),COUNTRY_INFO!F18),0)))","v":0},{"$f":"IF(AND(COUNTRY_INFO!K18>0,COUNTRY_INFO!K18<4),IF(Z18>0,IF(COUNTRY_INFO!K18=1, AD18/(COUNTRY_INFO!F18*0.33)*100, IF(COUNTRY_INFO!K18=2, AD18/(COUNTRY_INFO!F18*0.5)*100, IF(COUNTRY_INFO!K18=3, AD18/COUNTRY_INFO!F18*100))),\"-\"),0)","v":0},{"$f":"IF(COUNTRY_INFO!K18=2,IF(COUNTRY_INFO!G18*0.2>MAX('T1'!N18,'T2'!L18),MAX('T1'!N18,'T2'!L18),COUNTRY_INFO!G18*0.2),IF(COUNTRY_INFO!K18=3,IF(COUNTRY_INFO!G18>MAX('T1'!N18,'T2'!L18),MAX('T1'!N18,'T2'!L18),COUNTRY_INFO!G18),0))","v":0},{"$f":"IF(AND(COUNTRY_INFO!K18>0,COUNTRY_INFO!K18<4),IF(Z18>0,IF(COUNTRY_INFO!K18=1, 0, IF(COUNTRY_INFO!K18=2, AF18/(COUNTRY_INFO!G18*0.2)*100, IF(COUNTRY_INFO!K18=3, AF18/COUNTRY_INFO!G18*100))),\"-\"),0)","v":0},0,{"$f":"IF(AND(COUNTRY_INFO!K18>0,COUNTRY_INFO!K18<4), IF(AC18/Z18*100<>0, IF(AH18/Z18*100>100,100,AH18/Z18*100), \"-\"),0)","v":"-"},null,{"$f":"IF(AND(D18<>0, D18<>\"Unknown\",D18<>\"Stopped\",D18<>\"Not required\"),D18/COUNTRY_INFO!D18, 0)","v":1},{"$f":"IF(AND(J18<>0,J18<>\"Unknown\",J18<>\"Stopped\",J18<>\"Not required\"),J18/COUNTRY_INFO!D18, 0)","v":0},{"$f":"IF(AND(P18<>0,P18<>\"Unknown\",P18<>\"Not required\"),P18/(COUNTRY_INFO!E18+COUNTRY_INFO!F18), 0)","v":1},{"$f":"IF(AND(Z18<>0,Z18<>\"Unknown\",Z18<>\"Not required\"),IF(COUNTRY_INFO!K18=1,1,IF(COUNTRY_INFO!K18=2,0.5*COUNTRY_INFO!F18/(0.5*COUNTRY_INFO!F18+0.2*COUNTRY_INFO!G18),IF(COUNTRY_INFO!K18=3,COUNTRY_INFO!F18/(COUNTRY_INFO!F18+COUNTRY_INFO!G18)))),0)","v":0.32777846205096089},{"$f":"IF(AND(Z18<>0,Z18<>\"Unknown\",Z18<>\"Not required\"),IF(COUNTRY_INFO!K18=1,0,IF(COUNTRY_INFO!K18=2,0.2*COUNTRY_INFO!G18/(0.5*COUNTRY_INFO!F18+0.2*COUNTRY_INFO!G18),IF(COUNTRY_INFO!K18=3,COUNTRY_INFO!G18/(COUNTRY_INFO!F18+COUNTRY_INFO!G18)))),0)","v":0.67222153794903905},{"$f":"MAX(COUNTRY_INFO!D18*AK18*PROFILE!$G$7,COUNTRY_INFO!D18*AL18*PROFILE!$G$7)","v":4.6604891314599474E-3},{"$f":"MAX(COUNTRY_INFO!D18*AK18*PROFILE!$G$8,COUNTRY_INFO!D18*AL18*PROFILE!$G$8,COUNTRY_INFO!D18*AM18*PROFILE!$G$8)","v":32786.411034680641},{"$f":"MAX(COUNTRY_INFO!D18*AK18*PROFILE!$G$9,COUNTRY_INFO!D18*AL18*PROFILE!$G$9,COUNTRY_INFO!D18*AM18*PROFILE!$G$9,IF(AND(DISTRICT!Z18<>\"Unknown\",Z18<>\"Not required\"),COUNTRY_INFO!O18*DISTRICT!AN18,0))","v":57135.267358515048},{"$f":"MAX(COUNTRY_INFO!D18*AK18*PROFILE!$G$10,COUNTRY_INFO!D18*AL18*PROFILE!$G$10,IF(AND(DISTRICT!Z18<>\"Unknown\",Z18<>\"Not required\"),COUNTRY_INFO!O18*DISTRICT!AO18,0))","v":164236.53827874319},254158.22133242802,0,{"$f":"MAX('MDA2'!J18,'T1'!L18,'T2'!J18,T3_R1!K18,T3_R2!K18)","v":0},{"$f":"MAX('MDA1'!K18,'MDA2'!K18,'MDA3'!I18,'MDA3'!L18,'T1'!M18,'T2'!K18,T3_R1!L18,T3_R2!L18)","v":0},{"$f":"MAX('MDA1'!L18,'MDA2'!L18,'MDA3'!J18,'MDA3'!M18,'T1'!N18,'T2'!L18,T3_R1!M18,T3_R2!M18)","v":0},0,{"$f":"MAX('MDA2'!J18,T18)","v":0},{"$f":"MAX('MDA1'!K18,'MDA2'!K18,'MDA3'!I18,'MDA3'!L18,V18,AD18)","v":0},{"$f":"MAX('MDA1'!L18,'MDA2'!L18,'MDA3'!J18,'MDA3'!M18,AF18)","v":0},0,0]
[{"$f":"IF(COUNTRY_INFO!A19=0,\" \",COUNTRY_INFO!A19)","v":"Tanzania"},{"$f":"IF(COUNTRY_INFO!B19=0,\" \",COUNTRY_INFO!B19)","v":"Dar Es Salaam"},{"$f":"IF(COUNTRY_INFO!C19=0,\" \",COUNTRY_INFO!C19)","v":"Kinondoni Municipal Council"},{"$f":"COUNTRY_INFO!L19","v":1450212.9055870855},null,null,{"$f":"MAX('MDA1'!M19,'MDA2'!M19)","v":0},{"$f":"IF(AND(COUNTRY_INFO!H19>0,COUNTRY_INFO!H19<4),IF(D19>MAX('MDA1'!M19,'MDA2'!M19),MAX('MDA1'!M19,'MDA2'!M19),D19),0)","v":0},{"$f":"IF(AND(COUNTRY_INFO!H19>0,COUNTRY_INFO!H19<4), IF(G19/D19*100<>0, IF(G19/D19*100>100,100,G19/D19*100), \"-\"),0)","v":"-"},{"$f":"COUNTRY_INFO!M19","v":0},null,null,{"$f":"MAX('MDA1'!M19,MAX('MDA3'!I19,'MDA3'!L19)+MAX('MDA3'!J19,'MDA3'!M19))","v":0},{"$f":"IF(AND(COUNTRY_INFO!I19>0,COUNTRY_INFO!I19<4),IF(J19>MAX('MDA1'!M19,MAX('MDA3'!I19,'MDA3'!L19)+MAX('MDA3'!J19,'MDA3'!M19)),MAX('MDA1'!M19,MAX('MDA3'!I19,'MDA3'!L19)+MAX('MDA3'!J19,'MDA3'!M19)),J19),0)","v":0},{"$f":"IF(AND(COUNTRY_INFO!I19>0,COUNTRY_INFO!I19<4), IF(M19/J19*100<>0, IF(M19/J19*100>100,100,M19/J19*100), \"-\"),0)","v":0},{"$f":"COUNTRY_INFO!N19","v":365901},null,null,{"$f":"SUM(MAX('MDA2'!J19, 'T1'!L19, MAX(T3_R1!K19, T3_R2!K19)), MAX('MDA1'!K19, 'MDA2'!K19, 'T1'!M19, MAX(T3_R1!L19, T3_R2!L19)), MAX('MDA1'!L19, 'MDA2'!L19, 'T1'!N19, MAX(T3_R1!M19, T3_R2!M19)))","v":0},{"$f":"IF(AND(COUNTRY_INFO!J19>1,COUNTRY_INFO!J19<4),IF(COUNTRY_INFO!E19>MAX('MDA2'!J19,'T1'!L19,MAX(T3_R1!K19,T3_R2!K19)),MAX('MDA2'!J19,'T1'!L19,MAX(T3_R1!K19,T3_R2!K19)),COUNTRY_INFO!E19),0)","v":0},{"$f":"IF(AND(COUNTRY_INFO!J19>1,COUNTRY_INFO!J19<4), IF(T19/COUNTRY_INFO!E19*100<>0, IF(T19/COUNTRY_INFO!E19*100>100,100,T19/COUNTRY_INFO!E19*100), \"-\"),0)","v":"-"},{"$f":"IF(AND(COUNTRY_INFO!J19>1,COUNTRY_INFO!J19<4),IF(COUNTRY_INFO!F19>MAX('MDA1'!K19,'MDA2'!K19,'T1'!M19,MAX(T3_R1!L19,T3_R2!L19)),MAX('MDA1'!K19,'MDA2'!K19,'T1'!M19,MAX(T3_R1!L19,T3_R2!L19)),COUNTRY_INFO!F19),0)","v":0},{"$f":"IF(AND(COUNTRY_INFO!J19>1,COUNTRY_INFO!J19<4), IF(V19/COUNTRY_INFO!F19*100<>0, IF(V19/COUNTRY_INFO!F19*100>100,100,V19/COUNTRY_INFO!F19*100), \"-\"),0)","v":"-"},0,{"$f":"IF(AND(COUNTRY_INFO!J19>1,COUNTRY_INFO!J19<4), IF(S19/P19*100<>0, IF(X19/P19*100>100,100,X19/P19*100), \"-\"),0)","v":"-"},{"$f":"COUNTRY_INFO!O19","v":306274.38111741713},null,null,{"$f":"MAX('T1'!L19,'T2'!J19)+MAX('T1'!M19,'T2'!K19)+MAX('T1'!N19,'T2'!L19)","v":0},{"$f":"IF(COUNTRY_INFO!K19=1,IF(COUNTRY_INFO!F19*0.33>MAX('T1'!M19,'T2'!K19),MAX('T1'!M19,'T2'!K19),COUNTRY_INFO!F19*0.33),IF(COUNTRY_INFO!K19=2,IF(COUNTRY_INFO!F19*0.5>MAX('T1'!M19,'T2'!K19),MAX('T1'!M19,'T2'!K19),COUNTRY_INFO!F19*0.5),IF(COUNTRY_INFO!K19=3,IF(COUNTRY_INFO!F19>MAX('T1'!M19,'T2'!K19),MAX('T1'!M19,'T2'!K19),COUNTRY_INFO!F19),0)))","v":0},{"$f":"IF(AND(COUNTRY_INFO!K19>0,COUNTRY_INFO!K19<4),IF(Z19>0,IF(COUNTRY_INFO!K19=1, AD19/(COUNTRY_INFO!F19*0.33)*100, IF(COUNTRY_INFO!K19=2, AD19/(COUNTRY_INFO!F19*0.5)*100, IF(COUNTRY_INFO!K19=3, AD19/COUNTRY_INFO!F19*100))),\"-\"),0)","v":0},{"$f":"IF(COUNTRY_INFO!K19=2,IF(COUNTRY_INFO!G19*0.2>MAX('T1'!N19,'T2'!L19),MAX('T1'!N19,'T2'!L19),COUNTRY_INFO!G19*0.2),IF(COUNTRY_INFO!K19=3,IF(COUNTRY_INFO!G19>MAX('T1'!N19,'T2'!L19),MAX('T1'!N19,'T2'!L19),COUNTRY_INFO!G19),0))","v":0},{"$f":"IF(AND(COUNTRY_INFO!K19>0,COUNTRY_INFO!K19<4),IF(Z19>0,IF(COUNTRY_INFO!K19=1, 0, IF(COUNTRY_INFO!K19=2, AF19/(COUNTRY_INFO!G19*0.2)*100, IF(COUNTRY_INFO!K19=3, AF19/COUNTRY_INFO!G19*100))),\"-\"),0)","v":0},0,{"$f":"IF(AND(COUNTRY_INFO!K19>0,COUNTRY_INFO!K19<4), IF(AC19/Z19*100<>0, IF(AH19/Z19*100>100,100,AH19/Z19*100), \"-\"),0)","v":"-"},null,{"$f":"IF(AND(D19<>0, D19<>\"Unknown\",D19<>\"Stopped\",D19<>\"Not required\"),D19/COUNTRY_INFO!D19, 0)","v":1},{"$f":"IF(AND(J19<>0,J19<>\"Unknown\",J19<>\"Stopped\",J19<>\"Not required\"),J19/COUNTRY_INFO!D19, 0)","v":0},{"$f":"IF(AND(P19<>0,P19<>\"Unknown\",P19<>\"Not required\"),P19/(COUNTRY_INFO!E19+COUNTRY_INFO!F19), 0)","v":1},{"$f":"IF(AND(Z19<>0,Z19<>\"Unknown\",Z19<>\"Not required\"),IF(COUNTRY_INFO!K19=1,1,IF(COUNTRY_INFO!K19=2,0.5*COUNTRY_INFO!F19/(0.5*COUNTRY_INFO!F19+0.2*COUNTRY_INFO!G19),IF(COUNTRY_INFO!K19=3,COUNTRY_INFO!F19/(COUNTRY_INFO!F19+COUNTRY_INFO!G19)))),0)","v":0.29193430960104338},{"$f":"IF(AND(Z19<>0,Z19<>\"Unknown\",Z19<>\"Not required\"),IF(COUNTRY_INFO!K19=1,0,IF(COUNTRY_INFO!K19=2,0.2*COUNTRY_INFO!G19/(0.5*COUNTRY_INFO!F19+0.2*COUNTRY_INFO!G19),IF(COUNTRY_INFO!K19=3,COUNTRY_INFO!G19/(COUNTRY_INFO!F19+COUNTRY_INFO!G19)))),0)","v":0.70806569039895662},{"$f":"MAX(COUNTRY_INFO!D19*AK19*PROFILE!$G$7,COUNTRY_INFO!D19*AL19*PROFILE!$G$7)","v":2.6592496002525418E-2},{"$f":"MAX(COUNTRY_INFO!D19*AK19*PROFILE!$G$8,COUNTRY_INFO!D19*AL19*PROFILE!$G$8,COUNTRY_INFO!D19*AM19*PROFILE!$G$8)","v":187077.46757554976},{"$f":"MAX(COUNTRY_INFO!D19*AK19*PROFILE!$G$9,COUNTRY_INFO!D19*AL19*PROFILE!$G$9,COUNTRY_INFO!D19*AM19*PROFILE!$G$9,IF(AND(DISTRICT!Z19<>\"Unknown\",Z19<>\"Not required\"),COUNTRY_INFO!O19*DISTRICT!AN19,0))","v":326010.7096008985},{"$f":"MAX(COUNTRY_INFO!D19*AK19*PROFILE!$G$10,COUNTRY_INFO!D19*AL19*PROFILE!$G$10,IF(AND(DISTRICT!Z19<>\"Unknown\",Z19<>\"Not required\"),COUNTRY_INFO!O19*DISTRICT!AO19,0))","v":937124.70181814127},1450212.9055870855,0,{"$f":"MAX('MDA2'!J19,'T1'!L19,'T2'!J19,T3_R1!K19,T3_R2!K19)","v":0},{"$f":"MAX('MDA1'!K19,'MDA2'!K19,'MDA3'!I19,'MDA3'!L19,'T1'!M19,'T2'!K19,T3_R1!L19,T3_R2!L19)","v":0},{"$f":"MAX('MDA1'!L19,'MDA2'!L19,'MDA3'!J19,'MDA3'!M19,'T1'!N19,'T2'!L19,T3_R1!M19,T3_R2!M19)","v":0},0,{"$f":"MAX('MDA2'!J19,T19)","v":0},{"$f":"MAX('MDA1'!K19,'MDA2'!K19,'MDA3'!I19,'MDA3'!L19,V19,AD19)","v":0},{"$f":"MAX('MDA1'!L19,'MDA2'!L19,'MDA3'!J19,'MDA3'!M19,AF19)","v":0},0,0]
[{"$f":"IF(COUNTRY_INFO!A20=0,\" \",COUNTRY_INFO!A20)","v":"Tanzania"},{"$f":"IF(COUNTRY_INFO!B20=0,\" \",COUNTRY_INFO!B20)","v":"Dar Es Salaam"},{"$f":"IF(COUNTRY_INFO!C20=0,\" \",COUNTRY_INFO!C20)","v":"Temeke Municipal Council"},{"$f":"COUNTRY_INFO!L20","v":1881166.0802289539},null,null,{"$f":"MAX('MDA1'!M20,'MDA2'!M20)","v":0},{"$f":"IF(AND(COUNTRY_INFO!H20>0,COUNTRY_INFO!H20<4),IF(D20>MAX('MDA1'!M20,'MDA2'!M20),MAX('MDA1'!M20,'MDA2'!M20),D20),0)","v":0},{"$f":"IF(AND(COUNTRY_INFO!H20>0,COUNTRY_INFO!H20<4), IF(G20/D20*100<>0, IF(G20/D20*100>100,100,G20/D20*100), \"-\"),0)","v":"-"},{"$f":"COUNTRY_INFO!M20","v":0},null,null,{"$f":"MAX('MDA1'!M20,MAX('MDA3'!I20,'MDA3'!L20)+MAX('MDA3'!J20,'MDA3'!M20))","v":0},{"$f":"IF(AND(COUNTRY_INFO!I20>0,COUNTRY_INFO!I20<4),IF(J20>MAX('MDA1'!M20,MAX('MDA3'!I20,'MDA3'!L20)+MAX('MDA3'!J20,'MDA3'!M20)),MAX('MDA1'!M20,MAX('MDA3'!I20,'MDA3'!L20)+MAX('MDA3'!J20,'MDA3'!M20)),J20),0)","v":0},{"$f":"IF(AND(COUNTRY_INFO!I20>0,COUNTRY_INFO!I20<4), IF(M20/J20*100<>0, IF(M20/J20*100>100,100,M20/J20*100), \"-\"),0)","v":0},{"$f":"COUNTRY_INFO!N20","v":510090},null,null,{"$f":"SUM(MAX('MDA2'!J20, 'T1'!L20, MAX(T3_R1!K20, T3_R2!K20)), MAX('MDA1'!K20, 'MDA2'!K20, 'T1'!M20, MAX(T3_R1!L20, T3_R2!L20)), MAX('MDA1'!L20, 'MDA2'!L20, 'T1'!N20, MAX(T3_R1!M20, T3_R2!M20)))","v":0},{"$f":"IF(AND(COUNTRY_INFO!J20>1,COUNTRY_INFO!J20<4),IF(COUNTRY_INFO!E20>MAX('MDA2'!J20,'T1'!L20,MAX(T3_R1!K20,T3_R2!K20)),MAX('MDA2'!J20,'T1'!L20,MAX(T3_R1!K20,T3_R2!K20)),COUNTRY_INFO!E20),0)","v":0},{"$f":"IF(AND(COUNTRY_INFO!J20>1,COUNTRY_INFO!J20<4), IF(T20/COUNTRY_INFO!E20*100<>0, IF(T20/COUNTRY_INFO!E20*100>100,100,T20/COUNTRY_INFO!E20*100), \"-\"),0)","v":"-"},{"$f":"IF(AND(COUNTRY_INFO!J20>1,COUNTRY_INFO!J20<4),IF(COUNTRY_INFO!F20>MAX('MDA1'!K20,'MDA2'!K20,'T1'!M20,MAX(T3_R1!L20,T3_R2!L20)),MAX('MDA1'!K20,'MDA2'!K20,'T1'!M20,MAX(T3_R1!L20,T3_R2!L20)),COUNTRY_INFO!F20),0)","v":0},{"$f":"IF(AND(COUNTRY_INFO!J20>1,COUNTRY_INFO!J20<4), IF(V20/COUNTRY_INFO!F20*100<>0, IF(V20/COUNTRY_INFO!F20*100>100,100,V20/COUNTRY_INFO!F20*100), \"-\"),0)","v":"-"},0,{"$f":"IF(AND(COUNTRY_INFO!J20>1,COUNTRY_INFO!J20<4), IF(S20/P20*100<>0, IF(X20/P20*100>100,100,X20/P20*100), \"-\"),0)","v":"-"},{"$f":"COUNTRY_INFO!O20","v":407925.21604579076},null,null,{"$f":"MAX('T1'!L20,'T2'!J20)+MAX('T1'!M20,'T2'!K20)+MAX('T1'!N20,'T2'!L20)","v":0},{"$f":"IF(COUNTRY_INFO!K20=1,IF(COUNTRY_INFO!F20*0.33>MAX('T1'!M20,'T2'!K20),MAX('T1'!M20,'T2'!K20),COUNTRY_INFO!F20*0.33),IF(COUNTRY_INFO!K20=2,IF(COUNTRY_INFO!F20*0.5>MAX('T1'!M20,'T2'!K20),MAX('T1'!M20,'T2'!K20),COUNTRY_INFO!F20*0.5),IF(COUNTRY_INFO!K20=3,IF(COUNTRY_INFO!F20>MAX('T1'!M20,'T2'!K20),MAX('T1'!M20,'T2'!K20),COUNTRY_INFO!F20),0)))","v":0},{"$f":"IF(AND(COUNTRY_INFO!K20>0,COUNTRY_INFO!K20<4),IF(Z20>0,IF(COUNTRY_INFO!K20=1, AD20/(COUNTRY_INFO!F20*0.33)*100, IF(COUNTRY_INFO!K20=2, AD20/(COUNTRY_INFO!F20*0.5)*100, IF(COUNTRY_INFO!K20=3, AD20/COUNTRY_INFO!F20*100))),\"-\"),0)","v":0},{"$f":"IF(COUNTRY_INFO!K20=2,IF(COUNTRY_INFO!G20*0.2>MAX('T1'!N20,'T2'!L20),MAX('T1'!N20,'T2'!L20),COUNTRY_INFO!G20*0.2),IF(COUNTRY_INFO!K20=3,IF(COUNTRY_INFO!G20>MAX('T1'!N20,'T2'!L20),MAX('T1'!N20,'T2'!L20),COUNTRY_INFO!G20),0))","v":0},{"$f":"IF(AND(COUNTRY_INFO!K20>0,COUNTRY_INFO!K20<4),IF(Z20>0,IF(COUNTRY_INFO!K20=1, 0, IF(COUNTRY_INFO!K20=2, AF20/(COUNTRY_INFO!G20*0.2)*100, IF(COUNTRY_INFO!K20=3, AF20/COUNTRY_INFO!G20*100))),\"-\"),0)","v":0},0,{"$f":"IF(AND(COUNTRY_INFO!K20>0,COUNTRY_INFO!K20<4), IF(AC20/Z20*100<>0, IF(AH20/Z20*100>100,100,AH20/Z20*100), \"-\"),0)","v":"-"},null,{"$f":"IF(AND(D20<>0, D20<>\"Unknown\",D20<>\"Stopped\",D20<>\"Not required\"),D20/COUNTRY_INFO!D20, 0)","v":1},{"$f":"IF(AND(J20<>0,J20<>\"Unknown\",J20<>\"Stopped\",J20<>\"Not required\"),J20/COUNTRY_INFO!D20, 0)","v":0},{"$f":"IF(AND(P20<>0,P20<>\"Unknown\",P20<>\"Not required\"),P20/(COUNTRY_INFO!E20+COUNTRY_INFO!F20), 0)","v":1},{"$f":"IF(AND(Z20<>0,Z20<>\"Unknown\",Z20<>\"Not required\"),IF(COUNTRY_INFO!K20=1,1,IF(COUNTRY_INFO!K20=2,0.5*COUNTRY_INFO!F20/(0.5*COUNTRY_INFO!F20+0.2*COUNTRY_INFO!G20),IF(COUNTRY_INFO!K20=3,COUNTRY_INFO!F20/(COUNTRY_INFO!F20+COUNTRY_INFO!G20)))),0)","v":0.32778066846691495},{"$f":"IF(AND(Z20<>0,Z20<>\"Unknown\",Z20<>\"Not required\"),IF(COUNTRY_INFO!K20=1,0,IF(COUNTRY_INFO!K20=2,0.2*COUNTRY_INFO!G20/(0.5*COUNTRY_INFO!F20+0.2*COUNTRY_INFO!G20),IF(COUNTRY_INFO!K20=3,COUNTRY_INFO!G20/(COUNTRY_INFO!F20+COUNTRY_INFO!G20)))),0)","v":0.672219331533085},{"$f":"MAX(COUNTRY_INFO!D20*AK20*PROFILE!$G$7,COUNTRY_INFO!D20*AL20*PROFILE!$G$7)","v":3.4494867116303472E-2},{"$f":"MAX(COUNTRY_INFO!D20*AK20*PROFILE!$G$8,COUNTRY_INFO!D20*AL20*PROFILE!$G$8,COUNTRY_INFO!D20*AM20*PROFILE!$G$8)","v":242670.42792298683},{"$f":"MAX(COUNTRY_INFO!D20*AK20*PROFILE!$G$9,COUNTRY_INFO!D20*AL20*PROFILE!$G$9,COUNTRY_INFO!D20*AM20*PROFILE!$G$9,IF(AND(DISTRICT!Z20<>\"Unknown\",Z20<>\"Not required\"),COUNTRY_INFO!O20*DISTRICT!AN20,0))","v":422889.82971387188},{"$f":"MAX(COUNTRY_INFO!D20*AK20*PROFILE!$G$10,COUNTRY_INFO!D20*AL20*PROFILE!$G$10,IF(AND(DISTRICT!Z20<>\"Unknown\",Z20<>\"Not required\"),COUNTRY_INFO!O20*DISTRICT!AO20,0))","v":1215605.7880972279},1881166.0802289536,0,{"$f":"MAX('MDA2'!J20,'T1'!L20,'T2'!J20,T3_R1!K20,T3_R2!K20)","v":0},{"$f":"MAX('MDA1'!K20,'MDA2'!K20,'MDA3'!I20,'MDA3'!L20,'T1'!M20,'T2'!K20,T3_R1!L20,T3_R2!L20)","v":0},{"$f":"MAX('MDA1'!L20,'MDA2'!L20,'MDA3'!J20,'MDA3'!M20,'T1'!N20,'T2'!L20,T3_R1!M20,T3_R2!M20)","v":0},0,{"$f":"MAX('MDA2'!J20,T20)","v":0},{"$f":"MAX('MDA1'!K20,'MDA2'!K20,'MDA3'!I20,'MDA3'!L20,V20,AD20)","v":0},{"$f":"MAX('MDA1'!L20,'MDA2'!L20,'MDA3'!J20,'MDA3'!M20,AF20)","v":0},0,0]
[{"$f":"IF(COUNTRY_INFO!A21=0,\" \",COUNTRY_INFO!A21)","v":"Tanzania"},{"$f":"IF(COUNTRY_INFO!B21=0,\" \",COUNTRY_INFO!B21)","v":"Dar Es Salaam"},{"$f":"IF(COUNTRY_INFO!C21=0,\" \",COUNTRY_INFO!C21)","v":"Ubungo Municipal Council"},{"$f":"COUNTRY_INFO!L21","v":1318692.8222159485},null,null,{"$f":"MAX('MDA1'!M21,'MDA2'!M21)","v":0},{"$f":"IF(AND(COUNTRY_INFO!H21>0,COUNTRY_INFO!H21<4),IF(D21>MAX('MDA1'!M21,'MDA2'!M21),MAX('MDA1'!M21,'MDA2'!M21),D21),0)","v":0},{"$f":"IF(AND(COUNTRY_INFO!H21>0,COUNTRY_INFO!H21<4), IF(G21/D21*100<>0, IF(G21/D21*100>100,100,G21/D21*100), \"-\"),0)","v":"-"},{"$f":"COUNTRY_INFO!M21","v":0},null,null,{"$f":"MAX('MDA1'!M21,MAX('MDA3'!I21,'MDA3'!L21)+MAX('MDA3'!J21,'MDA3'!M21))","v":0},{"$f":"IF(AND(COUNTRY_INFO!I21>0,COUNTRY_INFO!I21<4),IF(J21>MAX('MDA1'!M21,MAX('MDA3'!I21,'MDA3'!L21)+MAX('MDA3'!J21,'MDA3'!M21)),MAX('MDA1'!M21,MAX('MDA3'!I21,'MDA3'!L21)+MAX('MDA3'!J21,'MDA3'!M21)),J21),0)","v":0},{"$f":"IF(AND(COUNTRY_INFO!I21>0,COUNTRY_INFO!I21<4), IF(M21/J21*100<>0, IF(M21/J21*100>100,100,M21/J21*100), \"-\"),0)","v":0},{"$f":"COUNTRY_INFO!N21","v":332717},null,null,{"$f":"SUM(MAX('MDA2'!J21, 'T1'!L21, MAX(T3_R1!K21, T3_R2!K21)), MAX('MDA1'!K21, 'MDA2'!K21, 'T1'!M21, MAX(T3_R1!L21, T3_R2!L21)), MAX('MDA1'!L21, 'MDA2'!L21, 'T1'!N21, MAX(T3_R1!M21, T3_R2!M21)))","v":0},{"$f":"IF(AND(COUNTRY_INFO!J21>1,COUNTRY_INFO!J21<4),IF(COUNTRY_INFO!E21>MAX('MDA2'!J21,'T1'!L21,MAX(T3_R1!K21,T3_R2!K21)),MAX('MDA2'!J21,'T1'!L21,MAX(T3_R1!K21,T3_R2!K21)),COUNTRY_INFO!E21),0)","v":0},{"$f":"IF(AND(COUNTRY_INFO!J21>1,COUNTRY_INFO!J21<4), IF(T21/COUNTRY_INFO!E21*100<>0, IF(T21/COUNTRY_INFO!E21*100>100,100,T21/COUNTRY_INFO!E21*100), \"-\"),0)","v":"-"},{"$f":"IF(AND(COUNTRY_INFO!J21>1,COUNTRY_INFO!J21<4),IF(COUNTRY_INFO!F21>MAX('MDA1'!K21,'MDA2'!K21,'T1'!M21,MAX(T3_R1!L21,T3_R2!L21)),MAX('MDA1'!K21,'MDA2'!K21,'T1'!M21,MAX(T3_R1!L21,T3_R2!L21)),COUNTRY_INFO!F21),0)","v":0},{"$f":"IF(AND(COUNTRY_INFO!J21>1,COUNTRY_INFO!J21<4), IF(V21/COUNTRY_INFO!F21*100<>0, IF(V21/COUNTRY_INFO!F21*100>100,100,V21/COUNTRY_INFO!F21*100), \"-\"),0)","v":"-"},0,{"$f":"IF(AND(COUNTRY_INFO!J21>1,COUNTRY_INFO!J21<4), IF(S21/P21*100<>0, IF(X21/P21*100>100,100,X21/P21*100), \"-\"),0)","v":"-"},{"$f":"COUNTRY_INFO!O21","v":278498.16444318974},null,null,{"$f":"MAX('T1'!L21,'T2'!J21)+MAX('T1'!M21,'T2'!K21)+MAX('T1'!N21,'T2'!L21)","v":0},{"$f":"IF(COUNTRY_INFO!K21=1,IF(COUNTRY_INFO!F21*0.33>MAX('T1'!M21,'T2'!K21),MAX('T1'!M21,'T2'!K21),COUNTRY_INFO!F21*0.33),IF(COUNTRY_INFO!K21=2,IF(COUNTRY_INFO!F21*0.5>MAX('T1'!M21,'T2'!K21),MAX('T1'!M21,'T2'!K21),COUNTRY_INFO!F21*0.5),IF(COUNTRY_INFO!K21=3,IF(COUNTRY_INFO!F21>MAX('T1'!M21,'T2'!K21),MAX('T1'!M21,'T2'!K21),COUNTRY_INFO!F21),0)))","v":0},{"$f":"IF(AND(COUNTRY_INFO!K21>0,COUNTRY_INFO!K21<4),IF(Z21>0,IF(COUNTRY_INFO!K21=1, AD21/(COUNTRY_INFO!F21*0.33)*100, IF(COUNTRY_INFO!K21=2, AD21/(COUNTRY_INFO!F21*0.5)*100, IF(COUNTRY_INFO!K21=3, AD21/COUNTRY_INFO!F21*100))),\"-\"),0)","v":0},{"$f":"IF(COUNTRY_INFO!K21=2,IF(COUNTRY_INFO!G21*0.2>MAX('T1'!N21,'T2'!L21),MAX('T1'!N21,'T2'!L21),COUNTRY_INFO!G21*0.2),IF(COUNTRY_INFO!K21=3,IF(COUNTRY_INFO!G21>MAX('T1'!N21,'T2'!L21),MAX('T1'!N21,'T2'!L21),COUNTRY_INFO!G21),0))","v":0},{"$f":"IF(AND(COUNTRY_INFO!K21>0,COUNTRY_INFO!K21<4),IF(Z21>0,IF(COUNTRY_INFO!K21=1, 0, IF(COUNTRY_INFO!K21=2, AF21/(COUNTRY_INFO!G21*0.2)*100, IF(COUNTRY_INFO!K21=3, AF21/COUNTRY_INFO!G21*100))),\"-\"),0)","v":0},0,{"$f":"IF(AND(COUNTRY_INFO!K21>0,COUNTRY_INFO!K21<4), IF(AC21/Z21*100<>0, IF(AH21/Z21*100>100,100,AH21/Z21*100), \"-\"),0)","v":"-"},null,{"$f":"IF(AND(D21<>0, D21<>\"Unknown\",D21<>\"Stopped\",D21<>\"Not required\"),D21/COUNTRY_INFO!D21, 0)","v":1},{"$f":"IF(AND(J21<>0,J21<>\"Unknown\",J21<>\"Stopped\",J21<>\"Not required\"),J21/COUNTRY_INFO!D21, 0)","v":0},{"$f":"IF(AND(P21<>0,P21<>\"Unknown\",P21<>\"Not required\"),P21/(COUNTRY_INFO!E21+COUNTRY_INFO!F21), 0)","v":1},{"$f":"IF(AND(Z21<>0,Z21<>\"Unknown\",Z21<>\"Not required\"),IF(COUNTRY_INFO!K21=1,1,IF(COUNTRY_INFO!K21=2,0.5*COUNTRY_INFO!F21/(0.5*COUNTRY_INFO!F21+0.2*COUNTRY_INFO!G21),IF(COUNTRY_INFO!K21=3,COUNTRY_INFO!F21/(COUNTRY_INFO!F21+COUNTRY_INFO!G21)))),0)","v":0.291933701475382},{"$f":"IF(AND(Z21<>0,Z21<>\"Unknown\",Z21<>\"Not required\"),IF(COUNTRY_INFO!K21=1,0,IF(COUNTRY_INFO!K21=2,0.2*COUNTRY_INFO!G21/(0.5*COUNTRY_INFO!F21+0.2*COUNTRY_INFO!G21),IF(COUNTRY_INFO!K21=3,COUNTRY_INFO!G21/(COUNTRY_INFO!F21+COUNTRY_INFO!G21)))),0)","v":0.70806629852461789},{"$f":"MAX(COUNTRY_INFO!D21*AK21*PROFILE!$G$7,COUNTRY_INFO!D21*AL21*PROFILE!$G$7)","v":2.4180817498062716E-2},{"$f":"MAX(COUNTRY_INFO!D21*AK21*PROFILE!$G$8,COUNTRY_INFO!D21*AL21*PROFILE!$G$8,COUNTRY_INFO!D21*AM21*PROFILE!$G$8)","v":170111.3765708383},{"$f":"MAX(COUNTRY_INFO!D21*AK21*PROFILE!$G$9,COUNTRY_INFO!D21*AL21*PROFILE!$G$9,COUNTRY_INFO!D21*AM21*PROFILE!$G$9,IF(AND(DISTRICT!Z21<>\"Unknown\",Z21<>\"Not required\"),COUNTRY_INFO!O21*DISTRICT!AN21,0))","v":296444.7365348707},{"$f":"MAX(COUNTRY_INFO!D21*AK21*PROFILE!$G$10,COUNTRY_INFO!D21*AL21*PROFILE!$G$10,IF(AND(DISTRICT!Z21<>\"Unknown\",Z21<>\"Not required\"),COUNTRY_INFO!O21*DISTRICT!AO21,0))","v":852136.68492942199},1318692.8222159485,0,{"$f":"MAX('MDA2'!J21,'T1'!L21,'T2'!J21,T3_R1!K21,T3_R2!K21)","v":0},{"$f":"MAX('MDA1'!K21,'MDA2'!K21,'MDA3'!I21,'MDA3'!L21,'T1'!M21,'T2'!K21,T3_R1!L21,T3_R2!L21)","v":0},{"$f":"MAX('MDA1'!L21,'MDA2'!L21,'MDA3'!J21,'MDA3'!M21,'T1'!N21,'T2'!L21,T3_R1!M21,T3_R2!M21)","v":0},0,{"$f":"MAX('MDA2'!J21,T21)","v":0},{"$f":"MAX('MDA1'!K21,'MDA2'!K21,'MDA3'!I21,'MDA3'!L21,V21,AD21)","v":0},{"$f":"MAX('MDA1'!L21,'MDA2'!L21,'MDA3'!J21,'MDA3'!M21,AF21)","v":0},0,0]
[{"$f":"IF(COUNTRY_INFO!A22=0,\" \",COUNTRY_INFO!A22)","v":"Tanzania"},{"$f":"IF(COUNTRY_INFO!B22=0,\" \",COUNTRY_INFO!B22)","v":"Dodoma"},{"$f":"IF(COUNTRY_INFO!C22=0,\" \",COUNTRY_INFO!C22)","v":"Bahi District Council"},{"$f":"COUNTRY_INFO!L22","v":"Stopped"},null,null,{"$f":"MAX('MDA1'!M22,'MDA2'!M22)","v":0},{"$f":"IF(AND(COUNTRY_INFO!H22>0,COUNTRY_INFO!H22<4),IF(D22>MAX('MDA1'!M22,'MDA2'!M22),MAX('MDA1'!M22,'MDA2'!M22),D22),0)","v":0},{"$f":"IF(AND(COUNTRY_INFO!H22>0,COUNTRY_INFO!H22<4), IF(G22/D22*100<>0, IF(G22/D22*100>100,100,G22/D22*100), \"-\"),0)","v":0},{"$f":"COUNTRY_INFO!M22","v":0},null,null,{"$f":"MAX('MDA1'!M22,MAX('MDA3'!I22,'MDA3'!L22)+MAX('MDA3'!J22,'MDA3'!M22))","v":0},{"$f":"IF(AND(COUNTRY_INFO!I22>0,COUNTRY_INFO!I22<4),IF(J22>MAX('MDA1'!M22,MAX('MDA3'!I22,'MDA3'!L22)+MAX('MDA3'!J22,'MDA3'!M22)),MAX('MDA1'!M22,MAX('MDA3'!I22,'MDA3'!L22)+MAX('MDA3'!J22,'MDA3'!M22)),J22),0)","v":0},{"$f":"IF(AND(COUNTRY_INFO!I22>0,COUNTRY_INFO!I22<4), IF(M22/J22*100<>0, IF(M22/J22*100>100,100,M22/J22*100), \"-\"),0)","v":0},{"$f":"COUNTRY_INFO!N22","v":88725},null,null,{"$f":"SUM(MAX('MDA2'!J22, 'T1'!L22, MAX(T3_R1!K22, T3_R2!K22)), MAX('MDA1'!K22, 'MDA2'!K22, 'T1'!M22, MAX(T3_R1!L22, T3_R2!L22)), MAX('MDA1'!L22, 'MDA2'!L22, 'T1'!N22, MAX(T3_R1!M22, T3_R2!M22)))","v":49768},{"$f":"IF(AND(COUNTRY_INFO!J22>1,COUNTRY_INFO!J22<4),IF(COUNTRY_INFO!E22>MAX('MDA2'!J22,'T1'!L22,MAX(T3_R1!K22,T3_R2!K22)),MAX('MDA2'!J22,'T1'!L22,MAX(T3_R1!K22,T3_R2!K22)),COUNTRY_INFO!E22),0)","v":0},{"$f":"IF(AND(COUNTRY_INFO!J22>1,COUNTRY_INFO!J22<4), IF(T22/COUNTRY_INFO!E22*100<>0, IF(T22/COUNTRY_INFO!E22*100>100,100,T22/COUNTRY_INFO!E22*100), \"-\"),0)","v":"-"},{"$f":"IF(AND(COUNTRY_INFO!J22>1,COUNTRY_INFO!J22<4),IF(COUNTRY_INFO!F22>MAX('MDA1'!K22,'MDA2'!K22,'T1'!M22,MAX(T3_R1!L22,T3_R2!L22)),MAX('MDA1'!K22,'MDA2'!K22,'T1'!M22,MAX(T3_R1!L22,T3_R2!L22)),COUNTRY_INFO!F22),0)","v":49768},{"$f":"IF(AND(COUNTRY_INFO!J22>1,COUNTRY_INFO!J22<4), IF(V22/COUNTRY_INFO!F22*100<>0, IF(V22/COUNTRY_INFO!F22*100>100,100,V22/COUNTRY_INFO!F22*100), \"-\"),0)","v":90.561368392320986},49768,{"$f":"IF(AND(COUNTRY_INFO!J22>1,COUNTRY_INFO!J22<4), IF(S22/P22*100<>0, IF(X22/P22*100>100,100,X22/P22*100), \"-\"),0)","v":56.092420400112708},{"$f":"COUNTRY_INFO!O22","v":62088.800059018846},null,null,{"$f":"MAX('T1'!L22,'T2'!J22)+MAX('T1'!M22,'T2'!K22)+MAX('T1'!N22,'T2'!L22)","v":0},{"$f":"IF(COUNTRY_INFO!K22=1,IF(COUNTRY_INFO!F22*0.33>MAX('T1'!M22,'T2'!K22),MAX('T1'!M22,'T2'!K22),COUNTRY_INFO!F22*0.33),IF(COUNTRY_INFO!K22=2,IF(COUNTRY_INFO!F22*0.5>MAX('T1'!M22,'T2'!K22),MAX('T1'!M22,'T2'!K22),COUNTRY_INFO!F22*0.5),IF(COUNTRY_INFO!K22=3,IF(COUNTRY_INFO!F22>MAX('T1'!M22,'T2'!K22),MAX('T1'!M22,'T2'!K22),COUNTRY_INFO!F22),0)))","v":0},{"$f":"IF(AND(COUNTRY_INFO!K22>0,COUNTRY_INFO!K22<4),IF(Z22>0,IF(COUNTRY_INFO!K22=1, AD22/(COUNTRY_INFO!F22*0.33)*100, IF(COUNTRY_INFO!K22=2, AD22/(COUNTRY_INFO!F22*0.5)*100, IF(COUNTRY_INFO!K22=3, AD22/COUNTRY_INFO!F22*100))),\"-\"),0)","v":0},{"$f":"IF(COUNTRY_INFO!K22=2,IF(COUNTRY_INFO!G22*0.2>MAX('T1'!N22,'T2'!L22),MAX('T1'!N22,'T2'!L22),COUNTRY_INFO!G22*0.2),IF(COUNTRY_INFO!K22=3,IF(COUNTRY_INFO!G22>MAX('T1'!N22,'T2'!L22),MAX('T1'!N22,'T2'!L22),COUNTRY_INFO!G22),0))","v":0},{"$f":"IF(AND(COUNTRY_INFO!K22>0,COUNTRY_INFO!K22<4),IF(Z22>0,IF(COUNTRY_INFO!K22=1, 0, IF(COUNTRY_INFO!K22=2, AF22/(COUNTRY_INFO!G22*0.2)*100, IF(COUNTRY_INFO!K22=3, AF22/COUNTRY_INFO!G22*100))),\"-\"),0)","v":0},0,{"$f":"IF(AND(COUNTRY_INFO!K22>0,COUNTRY_INFO!K22<4), IF(AC22/Z22*100<>0, IF(AH22/Z22*100>100,100,AH22/Z22*100), \"-\"),0)","v":"-"},null,{"$f":"IF(AND(D22<>0, D22<>\"Unknown\",D22<>\"Stopped\",D22<>\"Not required\"),D22/COUNTRY_INFO!D22, 0)","v":0},{"$f":"IF(AND(J22<>0,J22<>\"Unknown\",J22<>\"Stopped\",J22<>\"Not required\"),J22/COUNTRY_INFO!D22, 0)","v":0},{"$f":"IF(AND(P22<>0,P22<>\"Unknown\",P22<>\"Not required\"),P22/(COUNTRY_INFO!E22+COUNTRY_INFO!F22), 0)","v":1},{"$f":"IF(AND(Z22<>0,Z22<>\"Unknown\",Z22<>\"Not required\"),IF(COUNTRY_INFO!K22=1,1,IF(COUNTRY_INFO!K22=2,0.5*COUNTRY_INFO!F22/(0.5*COUNTRY_INFO!F22+0.2*COUNTRY_INFO!G22),IF(COUNTRY_INFO!K22=3,COUNTRY_INFO!F22/(COUNTRY_INFO!F22+COUNTRY_INFO!G22)))),0)","v":0.44255163530107061},{"$f":"IF(AND(Z22<>0,Z22<>\"Unknown\",Z22<>\"Not required\"),IF(COUNTRY_INFO!K22=1,0,IF(COUNTRY_INFO!K22=2,0.2*COUNTRY_INFO!G22/(0.5*COUNTRY_INFO!F22+0.2*COUNTRY_INFO!G22),IF(COUNTRY_INFO!K22=3,COUNTRY_INFO!G22/(COUNTRY_INFO!F22+COUNTRY_INFO!G22)))),0)","v":0.55744836469892933},{"$f":"MAX(COUNTRY_INFO!D22*AK22*PROFILE!$G$7,COUNTRY_INFO!D22*AL22*PROFILE!$G$7)","v":0},{"$f":"MAX(COUNTRY_INFO!D22*AK22*PROFILE!$G$8,COUNTRY_INFO!D22*AL22*PROFILE!$G$8,COUNTRY_INFO!D22*AM22*PROFILE!$G$8)","v":33769.81403534572},{"$f":"MAX(COUNTRY_INFO!D22*AK22*PROFILE!$G$9,COUNTRY_INFO!D22*AL22*PROFILE!$G$9,COUNTRY_INFO!D22*AM22*PROFILE!$G$9,IF(AND(DISTRICT!Z22<>\"Unknown\",Z22<>\"Not required\"),COUNTRY_INFO!O22*DISTRICT!AN22,0))","v":58848.995442529238},{"$f":"MAX(COUNTRY_INFO!D22*AK22*PROFILE!$G$10,COUNTRY_INFO!D22*AL22*PROFILE!$G$10,IF(AND(DISTRICT!Z22<>\"Unknown\",Z22<>\"Not required\"),COUNTRY_INFO!O22*DISTRICT!AO22,0))","v":34611.300059018846},127230.1095368938,0,{"$f":"MAX('MDA2'!J22,'T1'!L22,'T2'!J22,T3_R1!K22,T3_R2!K22)","v":0},{"$f":"MAX('MDA1'!K22,'MDA2'!K22,'MDA3'!I22,'MDA3'!L22,'T1'!M22,'T2'!K22,T3_R1!L22,T3_R2!L22)","v":49768},{"$f":"MAX('MDA1'!L22,'MDA2'!L22,'MDA3'!J22,'MDA3'!M22,'T1'!N22,'T2'!L22,T3_R1!M22,T3_R2!M22)","v":0},49768,{"$f":"MAX('MDA2'!J22,T22)","v":0},{"$f":"MAX('MDA1'!K22,'MDA2'!K22,'MDA3'!I22,'MDA3'!L22,V22,AD22)","v":49768},{"$f":"MAX('MDA1'!L22,'MDA2'!L22,'MDA3'!J22,'MDA3'!M22,AF22)","v":0},49768,39.11652688278825]
[{"$f":"IF(COUNTRY_INFO!A23=0,\" \",COUNTRY_INFO!A23)","v":"Tanzania"},{"$f":"IF(COUNTRY_INFO!B23=0,\" \",COUNTRY_INFO!B23)","v":"Dodoma"},{"$f":"IF(COUNTRY_INFO!C23=0,\" \",COUNTRY_INFO!C23)","v":"Chamwino District Council"},{"$f":"COUNTRY_INFO!L23","v":"Stopped"},null,null,{"$f":"MAX('MDA1'!M23,'MDA2'!M23)","v":0},{"$f":"IF(AND(COUNTRY_INFO!H23>0,COUNTRY_INFO!H23<4),IF(D23>MAX('MDA1'!M23,'MDA2'!M23),MAX('MDA1'!M23,'MDA2'!M23),D23),0)","v":0},{"$f":"IF(AND(COUNTRY_INFO!H23>0,COUNTRY_INFO!H23<4), IF(G23/D23*100<>0, IF(G23/D23*100>100,100,G23/D23*100), \"-\"),0)","v":0},{"$f":"COUNTRY_INFO!M23","v":0},null,null,{"$f":"MAX('MDA1'!M23,MAX('MDA3'!I23,'MDA3'!L23)+MAX('MDA3'!J23,'MDA3'!M23))","v":0},{"$f":"IF(AND(COUNTRY_INFO!I23>0,COUNTRY_INFO!I23<4),IF(J23>MAX('MDA1'!M23,MAX('MDA3'!I23,'MDA3'!L23)+MAX('MDA3'!J23,'MDA3'!M23)),MAX('MDA1'!M23,MAX('MDA3'!I23,'MDA3'!L23)+MAX('MDA3'!J23,'MDA3'!M23)),J23),0)","v":0},{"$f":"IF(AND(COUNTRY_INFO!I23>0,COUNTRY_INFO!I23<4), IF(M23/J23*100<>0, IF(M23/J23*100>100,100,M23/J23*100), \"-\"),0)","v":0},{"$f":"COUNTRY_INFO!N23","v":142002},null,null,{"$f":"SUM(MAX('MDA2'!J23, 'T1'!L23, MAX(T3_R1!K23, T3_R2!K23)), MAX('MDA1'!K23, 'MDA2'!K23, 'T1'!M23, MAX(T3_R1!L23, T3_R2!L23)), MAX('MDA1'!L23, 'MDA2'!L23, 'T1'!N23, MAX(T3_R1!M23, T3_R2!M23)))","v":89473},{"$f":"IF(AND(COUNTRY_INFO!J23>1,COUNTRY_INFO!J23<4),IF(COUNTRY_INFO!E23>MAX('MDA2'!J23,'T1'!L23,MAX(T3_R1!K23,T3_R2!K23)),MAX('MDA2'!J23,'T1'!L23,MAX(T3_R1!K23,T3_R2!K23)),COUNTRY_INFO!E23),0)","v":0},{"$f":"IF(AND(COUNTRY_INFO!J23>1,COUNTRY_INFO!J23<4), IF(T23/COUNTRY_INFO!E23*100<>0, IF(T23/COUNTRY_INFO!E23*100>100,100,T23/COUNTRY_INFO!E23*100), \"-\"),0)","v":"-"},{"$f":"IF(AND(COUNTRY_INFO!J23>1,COUNTRY_INFO!J23<4),IF(COUNTRY_INFO!F23>MAX('MDA1'!K23,'MDA2'!K23,'T1'!M23,MAX(T3_R1!L23,T3_R2!L23)),MAX('MDA1'!K23,'MDA2'!K23,'T1'!M23,MAX(T3_R1!L23,T3_R2!L23)),COUNTRY_INFO!F23),0)","v":89473},{"$f":"IF(AND(COUNTRY_INFO!J23>1,COUNTRY_INFO!J23<4), IF(V23/COUNTRY_INFO!F23*100<>0, IF(V23/COUNTRY_INFO!F23*100>100,100,V23/COUNTRY_INFO!F23*100), \"-\"),0)","v":97.634246679979483},89473,{"$f":"IF(AND(COUNTRY_INFO!J23>1,COUNTRY_INFO!J23<4), IF(S23/P23*100<>0, IF(X23/P23*100>100,100,X23/P23*100), \"-\"),0)","v":63.008267489190295},{"$f":"COUNTRY_INFO!O23","v":95499.359955904016},null,null,{"$f":"MAX('T1'!L23,'T2'!J23)+MAX('T1'!M23,'T2'!K23)+MAX('T1'!N23,'T2'!L23)","v":0},{"$f":"IF(COUNTRY_INFO!K23=1,IF(COUNTRY_INFO!F23*0.33>MAX('T1'!M23,'T2'!K23),MAX('T1'!M23,'T2'!K23),COUNTRY_INFO!F23*0.33),IF(COUNTRY_INFO!K23=2,IF(COUNTRY_INFO!F23*0.5>MAX('T1'!M23,'T2'!K23),MAX('T1'!M23,'T2'!K23),COUNTRY_INFO!F23*0.5),IF(COUNTRY_INFO!K23=3,IF(COUNTRY_INFO!F23>MAX('T1'!M23,'T2'!K23),MAX('T1'!M23,'T2'!K23),COUNTRY_INFO!F23),0)))","v":0},{"$f":"IF(AND(COUNTRY_INFO!K23>0,COUNTRY_INFO!K23<4),IF(Z23>0,IF(COUNTRY_INFO!K23=1, AD23/(COUNTRY_INFO!F23*0.33)*100, IF(COUNTRY_INFO!K23=2, AD23/(COUNTRY_INFO!F23*0.5)*100, IF(COUNTRY_INFO!K23=3, AD23/COUNTRY_INFO!F23*100))),\"-\"),0)","v":0},{"$f":"IF(COUNTRY_INFO!K23=2,IF(COUNTRY_INFO!G23*0.2>MAX('T1'!N23,'T2'!L23),MAX('T1'!N23,'T2'!L23),COUNTRY_INFO!G23*0.2),IF(COUNTRY_INFO!K23=3,IF(COUNTRY_INFO!G23>MAX('T1'!N23,'T2'!L23),MAX('T1'!N23,'T2'!L23),COUNTRY_INFO!G23),0))","v":0},{"$f":"IF(AND(COUNTRY_INFO!K23>0,COUNTRY_INFO!K23<4),IF(Z23>0,IF(COUNTRY_INFO!K23=1, 0, IF(COUNTRY_INFO!K23=2, AF23/(COUNTRY_INFO!G23*0.2)*100, IF(COUNTRY_INFO!K23=3, AF23/COUNTRY_INFO!G23*100))),\"-\"),0)","v":0},0,{"$f":"IF(AND(COUNTRY_INFO!K23>0,COUNTRY_INFO!K23<4), IF(AC23/Z23*100<>0, IF(AH23/Z23*100>100,100,AH23/Z23*100), \"-\"),0)","v":"-"},null,{"$f":"IF(AND(D23<>0, D23<>\"Unknown\",D23<>\"Stopped\",D23<>\"Not required\"),D23/COUNTRY_INFO!D23, 0)","v":0},{"$f":"IF(AND(J23<>0,J23<>\"Unknown\",J23<>\"Stopped\",J23<>\"Not required\"),J23/COUNTRY_INFO!D23, 0)","v":0},{"$f":"IF(AND(P23<>0,P23<>\"Unknown\",P23<>\"Not required\"),P23/(COUNTRY_INFO!E23+COUNTRY_INFO!F23), 0)","v":1},{"$f":"IF(AND(Z23<>0,Z23<>\"Unknown\",Z23<>\"Not required\"),IF(COUNTRY_INFO!K23=1,1,IF(COUNTRY_INFO!K23=2,0.5*COUNTRY_INFO!F23/(0.5*COUNTRY_INFO!F23+0.2*COUNTRY_INFO!G23),IF(COUNTRY_INFO!K23=3,COUNTRY_INFO!F23/(COUNTRY_INFO!F23+COUNTRY_INFO!G23)))),0)","v":0.47979902714695899},{"$f":"IF(AND(Z23<>0,Z23<>\"Unknown\",Z23<>\"Not required\"),IF(COUNTRY_INFO!K23=1,0,IF(COUNTRY_INFO!K23=2,0.2*COUNTRY_INFO!G23/(0.5*COUNTRY_INFO!F23+0.2*COUNTRY_INFO!G23),IF(COUNTRY_INFO!K23=3,COUNTRY_INFO!G23/(COUNTRY_INFO!F23+COUNTRY_INFO!G23)))),0)","v":0.5202009728530409},{"$f":"MAX(COUNTRY_INFO!D23*AK23*PROFILE!$G$7,COUNTRY_INFO!D23*AL23*PROFILE!$G$7)","v":0},{"$f":"MAX(COUNTRY_INFO!D23*AK23*PROFILE!$G$8,COUNTRY_INFO!D23*AL23*PROFILE!$G$8,COUNTRY_INFO!D23*AM23*PROFILE!$G$8)","v":50361.123413152549},{"$f":"MAX(COUNTRY_INFO!D23*AK23*PROFILE!$G$9,COUNTRY_INFO!D23*AL23*PROFILE!$G$9,COUNTRY_INFO!D23*AM23*PROFILE!$G$9,IF(AND(DISTRICT!Z23<>\"Unknown\",Z23<>\"Not required\"),COUNTRY_INFO!O23*DISTRICT!AN23,0))","v":87761.854984432575},{"$f":"MAX(COUNTRY_INFO!D23*AK23*PROFILE!$G$10,COUNTRY_INFO!D23*AL23*PROFILE!$G$10,IF(AND(DISTRICT!Z23<>\"Unknown\",Z23<>\"Not required\"),COUNTRY_INFO!O23*DISTRICT!AO23,0))","v":49678.859955904009},187801.83835348915,0,{"$f":"MAX('MDA2'!J23,'T1'!L23,'T2'!J23,T3_R1!K23,T3_R2!K23)","v":0},{"$f":"MAX('MDA1'!K23,'MDA2'!K23,'MDA3'!I23,'MDA3'!L23,'T1'!M23,'T2'!K23,T3_R1!L23,T3_R2!L23)","v":89473},{"$f":"MAX('MDA1'!L23,'MDA2'!L23,'MDA3'!J23,'MDA3'!M23,'T1'!N23,'T2'!L23,T3_R1!M23,T3_R2!M23)","v":0},89473,{"$f":"MAX('MDA2'!J23,T23)","v":0},{"$f":"MAX('MDA1'!K23,'MDA2'!K23,'MDA3'!I23,'MDA3'!L23,V23,AD23)","v":89473},{"$f":"MAX('MDA1'!L23,'MDA2'!L23,'MDA3'!J23,'MDA3'!M23,AF23)","v":0},89473,47.642238640704818]
[{"$f":"IF(COUNTRY_INFO!A24=0,\" \",COUNTRY_INFO!A24)","v":"Tanzania"},{"$f":"IF(COUNTRY_INFO!B24=0,\" \",COUNTRY_INFO!B24)","v":"Dodoma"},{"$f":"IF(COUNTRY_INFO!C24=0,\" \",COUNTRY_INFO!C24)","v":"Chemba District Council"},{"$f":"COUNTRY_INFO!L24","v":"Stopped"},null,null,{"$f":"MAX('MDA1'!M24,'MDA2'!M24)","v":0},{"$f":"IF(AND(COUNTRY_INFO!H24>0,COUNTRY_INFO!H24<4),IF(D24>MAX('MDA1'!M24,'MDA2'!M24),MAX('MDA1'!M24,'MDA2'!M24),D24),0)","v":0},{"$f":"IF(AND(COUNTRY_INFO!H24>0,COUNTRY_INFO!H24<4), IF(G24/D24*100<>0, IF(G24/D24*100>100,100,G24/D24*100), \"-\"),0)","v":0},{"$f":"COUNTRY_INFO!M24","v":0},null,null,{"$f":"MAX('MDA1'!M24,MAX('MDA3'!I24,'MDA3'!L24)+MAX('MDA3'!J24,'MDA3'!M24))","v":0},{"$f":"IF(AND(COUNTRY_INFO!I24>0,COUNTRY_INFO!I24<4),IF(J24>MAX('MDA1'!M24,MAX('MDA3'!I24,'MDA3'!L24)+MAX('MDA3'!J24,'MDA3'!M24)),MAX('MDA1'!M24,MAX('MDA3'!I24,'MDA3'!L24)+MAX('MDA3'!J24,'MDA3'!M24)),J24),0)","v":0},{"$f":"IF(AND(COUNTRY_INFO!I24>0,COUNTRY_INFO!I24<4), IF(M24/J24*100<>0, IF(M24/J24*100>100,100,M24/J24*100), \"-\"),0)","v":0},{"$f":"COUNTRY_INFO!N24","v":107612},null,null,{"$f":"SUM(MAX('MDA2'!J24, 'T1'!L24, MAX(T3_R1!K24, T3_R2!K24)), MAX('MDA1'!K24, 'MDA2'!K24, 'T1'!M24, MAX(T3_R1!L24, T3_R2!L24)), MAX('MDA1'!L24, 'MDA2'!L24, 'T1'!N24, MAX(T3_R1!M24, T3_R2!M24)))","v":60914},{"$f":"IF(AND(COUNTRY_INFO!J24>1,COUNTRY_INFO!J24<4),IF(COUNTRY_INFO!E24>MAX('MDA2'!J24,'T1'!L24,MAX(T3_R1!K24,T3_R2!K24)),MAX('MDA2'!J24,'T1'!L24,MAX(T3_R1!K24,T3_R2!K24)),COUNTRY_INFO!E24),0)","v":0},{"$f":"IF(AND(COUNTRY_INFO!J24>1,COUNTRY_INFO!J24<4), IF(T24/COUNTRY_INFO!E24*100<>0, IF(T24/COUNTRY_INFO!E24*100>100,100,T24/COUNTRY_INFO!E24*100), \"-\"),0)","v":"-"},{"$f":"IF(AND(COUNTRY_INFO!J24>1,COUNTRY_INFO!J24<4),IF(COUNTRY_INFO!F24>MAX('MDA1'!K24,'MDA2'!K24,'T1'!M24,MAX(T3_R1!L24,T3_R2!L24)),MAX('MDA1'!K24,'MDA2'!K24,'T1'!M24,MAX(T3_R1!L24,T3_R2!L24)),COUNTRY_INFO!F24),0)","v":60914},{"$f":"IF(AND(COUNTRY_INFO!J24>1,COUNTRY_INFO!J24<4), IF(V24/COUNTRY_INFO!F24*100<>0, IF(V24/COUNTRY_INFO!F24*100>100,100,V24/COUNTRY_INFO!F24*100), \"-\"),0)","v":92.184993492539121},60914,{"$f":"IF(AND(COUNTRY_INFO!J24>1,COUNTRY_INFO!J24<4), IF(S24/P24*100<>0, IF(X24/P24*100>100,100,X24/P24*100), \"-\"),0)","v":56.60521131472327},{"$f":"COUNTRY_INFO!O24","v":75910},null,null,{"$f":"MAX('T1'!L24,'T2'!J24)+MAX('T1'!M24,'T2'!K24)+MAX('T1'!N24,'T2'!L24)","v":0},{"$f":"IF(COUNTRY_INFO!K24=1,IF(COUNTRY_INFO!F24*0.33>MAX('T1'!M24,'T2'!K24),MAX('T1'!M24,'T2'!K24),COUNTRY_INFO!F24*0.33),IF(COUNTRY_INFO!K24=2,IF(COUNTRY_INFO!F24*0.5>MAX('T1'!M24,'T2'!K24),MAX('T1'!M24,'T2'!K24),COUNTRY_INFO!F24*0.5),IF(COUNTRY_INFO!K24=3,IF(COUNTRY_INFO!F24>MAX('T1'!M24,'T2'!K24),MAX('T1'!M24,'T2'!K24),COUNTRY_INFO!F24),0)))","v":0},{"$f":"IF(AND(COUNTRY_INFO!K24>0,COUNTRY_INFO!K24<4),IF(Z24>0,IF(COUNTRY_INFO!K24=1, AD24/(COUNTRY_INFO!F24*0.33)*100, IF(COUNTRY_INFO!K24=2, AD24/(COUNTRY_INFO!F24*0.5)*100, IF(COUNTRY_INFO!K24=3, AD24/COUNTRY_INFO!F24*100))),\"-\"),0)","v":0},{"$f":"IF(COUNTRY_INFO!K24=2,IF(COUNTRY_INFO!G24*0.2>MAX('T1'!N24,'T2'!L24),MAX('T1'!N24,'T2'!L24),COUNTRY_INFO!G24*0.2),IF(COUNTRY_INFO!K24=3,IF(COUNTRY_INFO!G24>MAX('T1'!N24,'T2'!L24),MAX('T1'!N24,'T2'!L24),COUNTRY_INFO!G24),0))","v":0},{"$f":"IF(AND(COUNTRY_INFO!K24>0,COUNTRY_INFO!K24<4),IF(Z24>0,IF(COUNTRY_INFO!K24=1, 0, IF(COUNTRY_INFO!K24=2, AF24/(COUNTRY_INFO!G24*0.2)*100, IF(COUNTRY_INFO!K24=3, AF24/COUNTRY_INFO!G24*100))),\"-\"),0)","v":0},0,{"$f":"IF(AND(COUNTRY_INFO!K24>0,COUNTRY_INFO!K24<4), IF(AC24/Z24*100<>0, IF(AH24/Z24*100>100,100,AH24/Z24*100), \"-\"),0)","v":"-"},null,{"$f":"IF(AND(D24<>0, D24<>\"Unknown\",D24<>\"Stopped\",D24<>\"Not required\"),D24/COUNTRY_INFO!D24, 0)","v":0},{"$f":"IF(AND(J24<>0,J24<>\"Unknown\",J24<>\"Stopped\",J24<>\"Not required\"),J24/COUNTRY_INFO!D24, 0)","v":0},{"$f":"IF(AND(P24<>0,P24<>\"Unknown\",P24<>\"Not required\"),P24/(COUNTRY_INFO!E24+COUNTRY_INFO!F24), 0)","v":1},{"$f":"IF(AND(Z24<>0,Z24<>\"Unknown\",Z24<>\"Not required\"),IF(COUNTRY_INFO!K24=1,1,IF(COUNTRY_INFO!K24=2,0.5*COUNTRY_INFO!F24/(0.5*COUNTRY_INFO!F24+0.2*COUNTRY_INFO!G24),IF(COUNTRY_INFO!K24=3,COUNTRY_INFO!F24/(COUNTRY_INFO!F24+COUNTRY_INFO!G24)))),0)","v":0.43523909893294693},{"$f":"IF(AND(Z24<>0,Z24<>\"Unknown\",Z24<>\"Not required\"),IF(COUNTRY_INFO!K24=1,0,IF(COUNTRY_INFO!K24=2,0.2*COUNTRY_INFO!G24/(0.5*COUNTRY_INFO!F24+0.2*COUNTRY_INFO!G24),IF(COUNTRY_INFO!K24=3,COUNTRY_INFO!G24/(COUNTRY_INFO!F24+COUNTRY_INFO!G24)))),0)","v":0.56476090106705312},{"$f":"MAX(COUNTRY_INFO!D24*AK24*PROFILE!$G$7,COUNTRY_INFO!D24*AL24*PROFILE!$G$7)","v":0},{"$f":"MAX(COUNTRY_INFO!D24*AK24*PROFILE!$G$8,COUNTRY_INFO!D24*AL24*PROFILE!$G$8,COUNTRY_INFO!D24*AM24*PROFILE!$G$8)","v":41533.74361160658},{"$f":"MAX(COUNTRY_INFO!D24*AK24*PROFILE!$G$9,COUNTRY_INFO!D24*AL24*PROFILE!$G$9,COUNTRY_INFO!D24*AM24*PROFILE!$G$9,IF(AND(DISTRICT!Z24<>\"Unknown\",Z24<>\"Not required\"),COUNTRY_INFO!O24*DISTRICT!AN24,0))","v":72378.813989094881},{"$f":"MAX(COUNTRY_INFO!D24*AK24*PROFILE!$G$10,COUNTRY_INFO!D24*AL24*PROFILE!$G$10,IF(AND(DISTRICT!Z24<>\"Unknown\",Z24<>\"Not required\"),COUNTRY_INFO!O24*DISTRICT!AO24,0))","v":42871},156783.55760070146,0,{"$f":"MAX('MDA2'!J24,'T1'!L24,'T2'!J24,T3_R1!K24,T3_R2!K24)","v":0},{"$f":"MAX('MDA1'!K24,'MDA2'!K24,'MDA3'!I24,'MDA3'!L24,'T1'!M24,'T2'!K24,T3_R1!L24,T3_R2!L24)","v":60914},{"$f":"MAX('MDA1'!L24,'MDA2'!L24,'MDA3'!J24,'MDA3'!M24,'T1'!N24,'T2'!L24,T3_R1!M24,T3_R2!M24)","v":0},60914,{"$f":"MAX('MDA2'!J24,T24)","v":0},{"$f":"MAX('MDA1'!K24,'MDA2'!K24,'MDA3'!I24,'MDA3'!L24,V24,AD24)","v":60914},{"$f":"MAX('MDA1'!L24,'MDA2'!L24,'MDA3'!J24,'MDA3'!M24,AF24)","v":0},60914,38.852288423724012]
[{"$f":"IF(COUNTRY_INFO!A25=0,\" \",COUNTRY_INFO!A25)","v":"Tanzania"},{"$f":"IF(COUNTRY_INFO!B25=0,\" \",COUNTRY_INFO!B25)","v":"Dodoma"},{"$f":"IF(COUNTRY_INFO!C25=0,\" \",COUNTRY_INFO!C25)","v":"Dodoma City Council"},{"$f":"COUNTRY_INFO!L25","v":"Stopped"},null,null,{"$f":"MAX('MDA1'!M25,'MDA2'!M25)","v":0},{"$f":"IF(AND(COUNTRY_INFO!H25>0,COUNTRY_INFO!H25<4),IF(D25>MAX('MDA1'!M25,'MDA2'!M25),MAX('MDA1'!M25,'MDA2'!M25),D25),0)","v":0},{"$f":"IF(AND(COUNTRY_INFO!H25>0,COUNTRY_INFO!H25<4), IF(G25/D25*100<>0, IF(G25/D25*100>100,100,G25/D25*100), \"-\"),0)","v":0},{"$f":"COUNTRY_INFO!M25","v":0},null,null,{"$f":"MAX('MDA1'!M25,MAX('MDA3'!I25,'MDA3'!L25)+MAX('MDA3'!J25,'MDA3'!M25))","v":0},{"$f":"IF(AND(COUNTRY_INFO!I25>0,COUNTRY_INFO!I25<4),IF(J25>MAX('MDA1'!M25,MAX('MDA3'!I25,'MDA3'!L25)+MAX('MDA3'!J25,'MDA3'!M25)),MAX('MDA1'!M25,MAX('MDA3'!I25,'MDA3'!L25)+MAX('MDA3'!J25,'MDA3'!M25)),J25),0)","v":0},{"$f":"IF(AND(COUNTRY_INFO!I25>0,COUNTRY_INFO!I25<4), IF(M25/J25*100<>0, IF(M25/J25*100>100,100,M25/J25*100), \"-\"),0)","v":0},{"$f":"COUNTRY_INFO!N25","v":184537},null,null,{"$f":"SUM(MAX('MDA2'!J25, 'T1'!L25, MAX(T3_R1!K25, T3_R2!K25)), MAX('MDA1'!K25, 'MDA2'!K25, 'T1'!M25, MAX(T3_R1!L25, T3_R2!L25)), MAX('MDA1'!L25, 'MDA2'!L25, 'T1'!N25, MAX(T3_R1!M25, T3_R2!M25)))","v":115379},{"$f":"IF(AND(COUNTRY_INFO!J25>1,COUNTRY_INFO!J25<4),IF(COUNTRY_INFO!E25>MAX('MDA2'!J25,'T1'!L25,MAX(T3_R1!K25,T3_R2!K25)),MAX('MDA2'!J25,'T1'!L25,MAX(T3_R1!K25,T3_R2!K25)),COUNTRY_INFO!E25),0)","v":0},{"$f":"IF(AND(COUNTRY_INFO!J25>1,COUNTRY_INFO!J25<4), IF(T25/COUNTRY_INFO!E25*100<>0, IF(T25/COUNTRY_INFO!E25*100>100,100,T25/COUNTRY_INFO!E25*100), \"-\"),0)","v":"-"},{"$f":"IF(AND(COUNTRY_INFO!J25>1,COUNTRY_INFO!J25<4),IF(COUNTRY_INFO!F25>MAX('MDA1'!K25,'MDA2'!K25,'T1'!M25,MAX(T3_R1!L25,T3_R2!L25)),MAX('MDA1'!K25,'MDA2'!K25,'T1'!M25,MAX(T3_R1!L25,T3_R2!L25)),COUNTRY_INFO!F25),0)","v":115379},{"$f":"IF(AND(COUNTRY_INFO!J25>1,COUNTRY_INFO!J25<4), IF(V25/COUNTRY_INFO!F25*100<>0, IF(V25/COUNTRY_INFO!F25*100>100,100,V25/COUNTRY_INFO!F25*100), \"-\"),0)","v":94.631901840490798},115379,{"$f":"IF(AND(COUNTRY_INFO!J25>1,COUNTRY_INFO!J25<4), IF(S25/P25*100<>0, IF(X25/P25*100>100,100,X25/P25*100), \"-\"),0)","v":62.523504771400859},{"$f":"COUNTRY_INFO!O25","v":121128.7410558407},null,null,{"$f":"MAX('T1'!L25,'T2'!J25)+MAX('T1'!M25,'T2'!K25)+MAX('T1'!N25,'T2'!L25)","v":0},{"$f":"IF(COUNTRY_INFO!K25=1,IF(COUNTRY_INFO!F25*0.33>MAX('T1'!M25,'T2'!K25),MAX('T1'!M25,'T2'!K25),COUNTRY_INFO!F25*0.33),IF(COUNTRY_INFO!K25=2,IF(COUNTRY_INFO!F25*0.5>MAX('T1'!M25,'T2'!K25),MAX('T1'!M25,'T2'!K25),COUNTRY_INFO!F25*0.5),IF(COUNTRY_INFO!K25=3,IF(COUNTRY_INFO!F25>MAX('T1'!M25,'T2'!K25),MAX('T1'!M25,'T2'!K25),COUNTRY_INFO!F25),0)))","v":0},{"$f":"IF(AND(COUNTRY_INFO!K25>0,COUNTRY_INFO!K25<4),IF(Z25>0,IF(COUNTRY_INFO!K25=1, AD25/(COUNTRY_INFO!F25*0.33)*100, IF(COUNTRY_INFO!K25=2, AD25/(COUNTRY_INFO!F25*0.5)*100, IF(COUNTRY_INFO!K25=3, AD25/COUNTRY_INFO!F25*100))),\"-\"),0)","v":0},{"$f":"IF(COUNTRY_INFO!K25=2,IF(COUNTRY_INFO!G25*0.2>MAX('T1'!N25,'T2'!L25),MAX('T1'!N25,'T2'!L25),COUNTRY_INFO!G25*0.2),IF(COUNTRY_INFO!K25=3,IF(COUNTRY_INFO!G25>MAX('T1'!N25,'T2'!L25),MAX('T1'!N25,'T2'!L25),COUNTRY_INFO!G25),0))","v":0},{"$f":"IF(AND(COUNTRY_INFO!K25>0,COUNTRY_INFO!K25<4),IF(Z25>0,IF(COUNTRY_INFO!K25=1, 0, IF(COUNTRY_INFO!K25=2, AF25/(COUNTRY_INFO!G25*0.2)*100, IF(COUNTRY_INFO!K25=3, AF25/COUNTRY_INFO!G25*100))),\"-\"),0)","v":0},0,{"$f":"IF(AND(COUNTRY_INFO!K25>0,COUNTRY_INFO!K25<4), IF(AC25/Z25*100<>0, IF(AH25/Z25*100>100,100,AH25/Z25*100), \"-\"),0)","v":"-"},null,{"$f":"IF(AND(D25<>0, D25<>\"Unknown\",D25<>\"Stopped\",D25<>\"Not required\"),D25/COUNTRY_INFO!D25, 0)","v":0},{"$f":"IF(AND(J25<>0,J25<>\"Unknown\",J25<>\"Stopped\",J25<>\"Not required\"),J25/COUNTRY_INFO!D25, 0)","v":0},{"$f":"IF(AND(P25<>0,P25<>\"Unknown\",P25<>\"Not required\"),P25/(COUNTRY_INFO!E25+COUNTRY_INFO!F25), 0)","v":1},{"$f":"IF(AND(Z25<>0,Z25<>\"Unknown\",Z25<>\"Not required\"),IF(COUNTRY_INFO!K25=1,1,IF(COUNTRY_INFO!K25=2,0.5*COUNTRY_INFO!F25/(0.5*COUNTRY_INFO!F25+0.2*COUNTRY_INFO!G25),IF(COUNTRY_INFO!K25=3,COUNTRY_INFO!F25/(COUNTRY_INFO!F25+COUNTRY_INFO!G25)))),0)","v":0.50328270126985253},{"$f":"IF(AND(Z25<>0,Z25<>\"Unknown\",Z25<>\"Not required\"),IF(COUNTRY_INFO!K25=1,0,IF(COUNTRY_INFO!K25=2,0.2*COUNTRY_INFO!G25/(0.5*COUNTRY_INFO!F25+0.2*COUNTRY_INFO!G25),IF(COUNTRY_INFO!K25=3,COUNTRY_INFO!G25/(COUNTRY_INFO!F25+COUNTRY_INFO!G25)))),0)","v":0.49671729873014742},{"$f":"MAX(COUNTRY_INFO!D25*AK25*PROFILE!$G$7,COUNTRY_INFO!D25*AL25*PROFILE!$G$7)","v":0},{"$f":"MAX(COUNTRY_INFO!D25*AK25*PROFILE!$G$8,COUNTRY_INFO!D25*AL25*PROFILE!$G$8,COUNTRY_INFO!D25*AM25*PROFILE!$G$8)","v":62612.821903024524},{"$f":"MAX(COUNTRY_INFO!D25*AK25*PROFILE!$G$9,COUNTRY_INFO!D25*AL25*PROFILE!$G$9,COUNTRY_INFO!D25*AM25*PROFILE!$G$9,IF(AND(DISTRICT!Z25<>\"Unknown\",Z25<>\"Not required\"),COUNTRY_INFO!O25*DISTRICT!AN25,0))","v":109112.28788403551},{"$f":"MAX(COUNTRY_INFO!D25*AK25*PROFILE!$G$10,COUNTRY_INFO!D25*AL25*PROFILE!$G$10,IF(AND(DISTRICT!Z25<>\"Unknown\",Z25<>\"Not required\"),COUNTRY_INFO!O25*DISTRICT!AO25,0))","v":60166.741055840699},231891.85084290075,0,{"$f":"MAX('MDA2'!J25,'T1'!L25,'T2'!J25,T3_R1!K25,T3_R2!K25)","v":0},{"$f":"MAX('MDA1'!K25,'MDA2'!K25,'MDA3'!I25,'MDA3'!L25,'T1'!M25,'T2'!K25,T3_R1!L25,T3_R2!L25)","v":115379},{"$f":"MAX('MDA1'!L25,'MDA2'!L25,'MDA3'!J25,'MDA3'!M25,'T1'!N25,'T2'!L25,T3_R1!M25,T3_R2!M25)","v":0},115379,{"$f":"MAX('MDA2'!J25,T25)","v":0},{"$f":"MAX('MDA1'!K25,'MDA2'!K25,'MDA3'!I25,'MDA3'!L25,V25,AD25)","v":115379},{"$f":"MAX('MDA1'!L25,'MDA2'!L25,'MDA3'!J25,'MDA3'!M25,AF25)","v":0},115379,49.7555216281255]
[{"$f":"IF(COUNTRY_INFO!A26=0,\" \",COUNTRY_INFO!A26)","v":"Tanzania"},{"$f":"IF(COUNTRY_INFO!B26=0,\" \",COUNTRY_INFO!B26)","v":"Dodoma"},{"$f":"IF(COUNTRY_INFO!C26=0,\" \",COUNTRY_INFO!C26)","v":"Kondoa District Council"},{"$f":"COUNTRY_INFO!L26","v":"Stopped"},null,null,{"$f":"MAX('MDA1'!M26,'MDA2'!M26)","v":0},{"$f":"IF(AND(COUNTRY_INFO!H26>0,COUNTRY_INFO!H26<4),IF(D26>MAX('MDA1'!M26,'MDA2'!M26),MAX('MDA1'!M26,'MDA2'!M26),D26),0)","v":0},{"$f":"IF(AND(COUNTRY_INFO!H26>0,COUNTRY_INFO!H26<4), IF(G26/D26*100<>0, IF(G26/D26*100>100,100,G26/D26*100), \"-\"),0)","v":0},{"$f":"COUNTRY_INFO!M26","v":0},null,null,{"$f":"MAX('MDA1'!M26,MAX('MDA3'!I26,'MDA3'!L26)+MAX('MDA3'!J26,'MDA3'!M26))","v":0},{"$f":"IF(AND(COUNTRY_INFO!I26>0,COUNTRY_INFO!I26<4),IF(J26>MAX('MDA1'!M26,MAX('MDA3'!I26,'MDA3'!L26)+MAX('MDA3'!J26,'MDA3'!M26)),MAX('MDA1'!M26,MAX('MDA3'!I26,'MDA3'!L26)+MAX('MDA3'!J26,'MDA3'!M26)),J26),0)","v":0},{"$f":"IF(AND(COUNTRY_INFO!I26>0,COUNTRY_INFO!I26<4), IF(M26/J26*100<>0, IF(M26/J26*100>100,100,M26/J26*100), \"-\"),0)","v":0},{"$f":"COUNTRY_INFO!N26","v":88719},null,null,{"$f":"SUM(MAX('MDA2'!J26, 'T1'!L26, MAX(T3_R1!K26, T3_R2!K26)), MAX('MDA1'!K26, 'MDA2'!K26, 'T1'!M26, MAX(T3_R1!L26, T3_R2!L26)), MAX('MDA1'!L26, 'MDA2'!L26, 'T1'!N26, MAX(T3_R1!M26, T3_R2!M26)))","v":53655},{"$f":"IF(AND(COUNTRY_INFO!J26>1,COUNTRY_INFO!J26<4),IF(COUNTRY_INFO!E26>MAX('MDA2'!J26,'T1'!L26,MAX(T3_R1!K26,T3_R2!K26)),MAX('MDA2'!J26,'T1'!L26,MAX(T3_R1!K26,T3_R2!K26)),COUNTRY_INFO!E26),0)","v":0},{"$f":"IF(AND(COUNTRY_INFO!J26>1,COUNTRY_INFO!J26<4), IF(T26/COUNTRY_INFO!E26*100<>0, IF(T26/COUNTRY_INFO!E26*100>100,100,T26/COUNTRY_INFO!E26*100), \"-\"),0)","v":"-"},{"$f":"IF(AND(COUNTRY_INFO!J26>1,COUNTRY_INFO!J26<4),IF(COUNTRY_INFO!F26>MAX('MDA1'!K26,'MDA2'!K26,'T1'!M26,MAX(T3_R1!L26,T3_R2!L26)),MAX('MDA1'!K26,'MDA2'!K26,'T1'!M26,MAX(T3_R1!L26,T3_R2!L26)),COUNTRY_INFO!F26),0)","v":53655},{"$f":"IF(AND(COUNTRY_INFO!J26>1,COUNTRY_INFO!J26<4), IF(V26/COUNTRY_INFO!F26*100<>0, IF(V26/COUNTRY_INFO!F26*100>100,100,V26/COUNTRY_INFO!F26*100), \"-\"),0)","v":94.763334510773575},53655,{"$f":"IF(AND(COUNTRY_INFO!J26>1,COUNTRY_INFO!J26<4), IF(S26/P26*100<>0, IF(X26/P26*100>100,100,X26/P26*100), \"-\"),0)","v":60.477462550299258},{"$f":"COUNTRY_INFO!O26","v":60332.77814746373},null,null,{"$f":"MAX('T1'!L26,'T2'!J26)+MAX('T1'!M26,'T2'!K26)+MAX('T1'!N26,'T2'!L26)","v":0},{"$f":"IF(COUNTRY_INFO!K26=1,IF(COUNTRY_INFO!F26*0.33>MAX('T1'!M26,'T2'!K26),MAX('T1'!M26,'T2'!K26),COUNTRY_INFO!F26*0.33),IF(COUNTRY_INFO!K26=2,IF(COUNTRY_INFO!F26*0.5>MAX('T1'!M26,'T2'!K26),MAX('T1'!M26,'T2'!K26),COUNTRY_INFO!F26*0.5),IF(COUNTRY_INFO!K26=3,IF(COUNTRY_INFO!F26>MAX('T1'!M26,'T2'!K26),MAX('T1'!M26,'T2'!K26),COUNTRY_INFO!F26),0)))","v":0},{"$f":"IF(AND(COUNTRY_INFO!K26>0,COUNTRY_INFO!K26<4),IF(Z26>0,IF(COUNTRY_INFO!K26=1, AD26/(COUNTRY_INFO!F26*0.33)*100, IF(COUNTRY_INFO!K26=2, AD26/(COUNTRY_INFO!F26*0.5)*100, IF(COUNTRY_INFO!K26=3, AD26/COUNTRY_INFO!F26*100))),\"-\"),0)","v":0},{"$f":"IF(COUNTRY_INFO!K26=2,IF(COUNTRY_INFO!G26*0.2>MAX('T1'!N26,'T2'!L26),MAX('T1'!N26,'T2'!L26),COUNTRY_INFO!G26*0.2),IF(COUNTRY_INFO!K26=3,IF(COUNTRY_INFO!G26>MAX('T1'!N26,'T2'!L26),MAX('T1'!N26,'T2'!L26),COUNTRY_INFO!G26),0))","v":0},{"$f":"IF(AND(COUNTRY_INFO!K26>0,COUNTRY_INFO!K26<4),IF(Z26>0,IF(COUNTRY_INFO!K26=1, 0, IF(COUNTRY_INFO!K26=2, AF26/(COUNTRY_INFO!G26*0.2)*100, IF(COUNTRY_INFO!K26=3, AF26/COUNTRY_INFO!G26*100))),\"-\"),0)","v":0},0,{"$f":"IF(AND(COUNTRY_INFO!K26>0,COUNTRY_INFO!K26<4), IF(AC26/Z26*100<>0, IF(AH26/Z26*100>100,100,AH26/Z26*100), \"-\"),0)","v":"-"},null,{"$f":"IF(AND(D26<>0, D26<>\"Unknown\",D26<>\"Stopped\",D26<>\"Not required\"),D26/COUNTRY_INFO!D26, 0)","v":0},{"$f":"IF(AND(J26<>0,J26<>\"Unknown\",J26<>\"Stopped\",J26<>\"Not required\"),J26/COUNTRY_INFO!D26, 0)","v":0},{"$f":"IF(AND(P26<>0,P26<>\"Unknown\",P26<>\"Not required\"),P26/(COUNTRY_INFO!E26+COUNTRY_INFO!F26), 0)","v":1},{"$f":"IF(AND(Z26<>0,Z26<>\"Unknown\",Z26<>\"Not required\"),IF(COUNTRY_INFO!K26=1,1,IF(COUNTRY_INFO!K26=2,0.5*COUNTRY_INFO!F26/(0.5*COUNTRY_INFO!F26+0.2*COUNTRY_INFO!G26),IF(COUNTRY_INFO!K26=3,COUNTRY_INFO!F26/(COUNTRY_INFO!F26+COUNTRY_INFO!G26)))),0)","v":0.46923083718779651},{"$f":"IF(AND(Z26<>0,Z26<>\"Unknown\",Z26<>\"Not required\"),IF(COUNTRY_INFO!K26=1,0,IF(COUNTRY_INFO!K26=2,0.2*COUNTRY_INFO!G26/(0.5*COUNTRY_INFO!F26+0.2*COUNTRY_INFO!G26),IF(COUNTRY_INFO!K26=3,COUNTRY_INFO!G26/(COUNTRY_INFO!F26+COUNTRY_INFO!G26)))),0)","v":0.53076916281220354},{"$f":"MAX(COUNTRY_INFO!D26*AK26*PROFILE!$G$7,COUNTRY_INFO!D26*AL26*PROFILE!$G$7)","v":0},{"$f":"MAX(COUNTRY_INFO!D26*AK26*PROFILE!$G$8,COUNTRY_INFO!D26*AL26*PROFILE!$G$8,COUNTRY_INFO!D26*AM26*PROFILE!$G$8)","v":32099.443377795571},{"$f":"MAX(COUNTRY_INFO!D26*AK26*PROFILE!$G$9,COUNTRY_INFO!D26*AL26*PROFILE!$G$9,COUNTRY_INFO!D26*AM26*PROFILE!$G$9,IF(AND(DISTRICT!Z26<>\"Unknown\",Z26<>\"Not required\"),COUNTRY_INFO!O26*DISTRICT!AN26,0))","v":55938.122581025877},{"$f":"MAX(COUNTRY_INFO!D26*AK26*PROFILE!$G$10,COUNTRY_INFO!D26*AL26*PROFILE!$G$10,IF(AND(DISTRICT!Z26<>\"Unknown\",Z26<>\"Not required\"),COUNTRY_INFO!O26*DISTRICT!AO26,0))","v":32022.778147463734},120060.34410628518,0,{"$f":"MAX('MDA2'!J26,'T1'!L26,'T2'!J26,T3_R1!K26,T3_R2!K26)","v":0},{"$f":"MAX('MDA1'!K26,'MDA2'!K26,'MDA3'!I26,'MDA3'!L26,'T1'!M26,'T2'!K26,T3_R1!L26,T3_R2!L26)","v":53655},{"$f":"MAX('MDA1'!L26,'MDA2'!L26,'MDA3'!J26,'MDA3'!M26,'T1'!N26,'T2'!L26,T3_R1!M26,T3_R2!M26)","v":0},53655,{"$f":"MAX('MDA2'!J26,T26)","v":0},{"$f":"MAX('MDA1'!K26,'MDA2'!K26,'MDA3'!I26,'MDA3'!L26,V26,AD26)","v":53655},{"$f":"MAX('MDA1'!L26,'MDA2'!L26,'MDA3'!J26,'MDA3'!M26,AF26)","v":0},53655,44.690026835589549]
[{"$f":"IF(COUNTRY_INFO!A27=0,\" \",COUNTRY_INFO!A27)","v":"Tanzania"},{"$f":"IF(COUNTRY_INFO!B27=0,\" \",COUNTRY_INFO!B27)","v":"Dodoma"},{"$f":"IF(COUNTRY_INFO!C27=0,\" \",COUNTRY_INFO!C27)","v":"Kondoa Town Council "},{"$f":"COUNTRY_INFO!L27","v":"Stopped"},null,null,{"$f":"MAX('MDA1'!M27,'MDA2'!M27)","v":0},{"$f":"IF(AND(COUNTRY_INFO!H27>0,COUNTRY_INFO!H27<4),IF(D27>MAX('MDA1'!M27,'MDA2'!M27),MAX('MDA1'!M27,'MDA2'!M27),D27),0)","v":0},{"$f":"IF(AND(COUNTRY_INFO!H27>0,COUNTRY_INFO!H27<4), IF(G27/D27*100<>0, IF(G27/D27*100>100,100,G27/D27*100), \"-\"),0)","v":0},{"$f":"COUNTRY_INFO!M27","v":0},null,null,{"$f":"MAX('MDA1'!M27,MAX('MDA3'!I27,'MDA3'!L27)+MAX('MDA3'!J27,'MDA3'!M27))","v":0},{"$f":"IF(AND(COUNTRY_INFO!I27>0,COUNTRY_INFO!I27<4),IF(J27>MAX('MDA1'!M27,MAX('MDA3'!I27,'MDA3'!L27)+MAX('MDA3'!J27,'MDA3'!M27)),MAX('MDA1'!M27,MAX('MDA3'!I27,'MDA3'!L27)+MAX('MDA3'!J27,'MDA3'!M27)),J27),0)","v":0},{"$f":"IF(AND(COUNTRY_INFO!I27>0,COUNTRY_INFO!I27<4), IF(M27/J27*100<>0, IF(M27/J27*100>100,100,M27/J27*100), \"-\"),0)","v":0},{"$f":"COUNTRY_INFO!N27","v":26478},null,null,{"$f":"SUM(MAX('MDA2'!J27, 'T1'!L27, MAX(T3_R1!K27, T3_R2!K27)), MAX('MDA1'!K27, 'MDA2'!K27, 'T1'!M27, MAX(T3_R1!L27, T3_R2!L27)), MAX('MDA1'!L27, 'MDA2'!L27, 'T1'!N27, MAX(T3_R1!M27, T3_R2!M27)))","v":16630},{"$f":"IF(AND(COUNTRY_INFO!J27>1,COUNTRY_INFO!J27<4),IF(COUNTRY_INFO!E27>MAX('MDA2'!J27,'T1'!L27,MAX(T3_R1!K27,T3_R2!K27)),MAX('MDA2'!J27,'T1'!L27,MAX(T3_R1!K27,T3_R2!K27)),COUNTRY_INFO!E27),0)","v":0},{"$f":"IF(AND(COUNTRY_INFO!J27>1,COUNTRY_INFO!J27<4), IF(T27/COUNTRY_INFO!E27*100<>0, IF(T27/COUNTRY_INFO!E27*100>100,100,T27/COUNTRY_INFO!E27*100), \"-\"),0)","v":"-"},{"$f":"IF(AND(COUNTRY_INFO!J27>1,COUNTRY_INFO!J27<4),IF(COUNTRY_INFO!F27>MAX('MDA1'!K27,'MDA2'!K27,'T1'!M27,MAX(T3_R1!L27,T3_R2!L27)),MAX('MDA1'!K27,'MDA2'!K27,'T1'!M27,MAX(T3_R1!L27,T3_R2!L27)),COUNTRY_INFO!F27),0)","v":16630},{"$f":"IF(AND(COUNTRY_INFO!J27>1,COUNTRY_INFO!J27<4), IF(V27/COUNTRY_INFO!F27*100<>0, IF(V27/COUNTRY_INFO!F27*100>100,100,V27/COUNTRY_INFO!F27*100), \"-\"),0)","v":95.104655152693581},16630,{"$f":"IF(AND(COUNTRY_INFO!J27>1,COUNTRY_INFO!J27<4), IF(S27/P27*100<>0, IF(X27/P27*100>100,100,X27/P27*100), \"-\"),0)","v":62.806858524057709},{"$f":"COUNTRY_INFO!O27","v":17389.078476676004},null,null,{"$f":"MAX('T1'!L27,'T2'!J27)+MAX('T1'!M27,'T2'!K27)+MAX('T1'!N27,'T2'!L27)","v":0},{"$f":"IF(COUNTRY_INFO!K27=1,IF(COUNTRY_INFO!F27*0.33>MAX('T1'!M27,'T2'!K27),MAX('T1'!M27,'T2'!K27),COUNTRY_INFO!F27*0.33),IF(COUNTRY_INFO!K27=2,IF(COUNTRY_INFO!F27*0.5>MAX('T1'!M27,'T2'!K27),MAX('T1'!M27,'T2'!K27),COUNTRY_INFO!F27*0.5),IF(COUNTRY_INFO!K27=3,IF(COUNTRY_INFO!F27>MAX('T1'!M27,'T2'!K27),MAX('T1'!M27,'T2'!K27),COUNTRY_INFO!F27),0)))","v":0},{"$f":"IF(AND(COUNTRY_INFO!K27>0,COUNTRY_INFO!K27<4),IF(Z27>0,IF(COUNTRY_INFO!K27=1, AD27/(COUNTRY_INFO!F27*0.33)*100, IF(COUNTRY_INFO!K27=2, AD27/(COUNTRY_INFO!F27*0.5)*100, IF(COUNTRY_INFO!K27=3, AD27/COUNTRY_INFO!F27*100))),\"-\"),0)","v":0},{"$f":"IF(COUNTRY_INFO!K27=2,IF(COUNTRY_INFO!G27*0.2>MAX('T1'!N27,'T2'!L27),MAX('T1'!N27,'T2'!L27),COUNTRY_INFO!G27*0.2),IF(COUNTRY_INFO!K27=3,IF(COUNTRY_INFO!G27>MAX('T1'!N27,'T2'!L27),MAX('T1'!N27,'T2'!L27),COUNTRY_INFO!G27),0))","v":0},{"$f":"IF(AND(COUNTRY_INFO!K27>0,COUNTRY_INFO!K27<4),IF(Z27>0,IF(COUNTRY_INFO!K27=1, 0, IF(COUNTRY_INFO!K27=2, AF27/(COUNTRY_INFO!G27*0.2)*100, IF(COUNTRY_INFO!K27=3, AF27/COUNTRY_INFO!G27*100))),\"-\"),0)","v":0},0,{"$f":"IF(AND(COUNTRY_INFO!K27>0,COUNTRY_INFO!K27<4), IF(AC27/Z27*100<>0, IF(AH27/Z27*100>100,100,AH27/Z27*100), \"-\"),0)","v":"-"},null,{"$f":"IF(AND(D27<>0, D27<>\"Unknown\",D27<>\"Stopped\",D27<>\"Not required\"),D27/COUNTRY_INFO!D27, 0)","v":0},{"$f":"IF(AND(J27<>0,J27<>\"Unknown\",J27<>\"Stopped\",J27<>\"Not required\"),J27/COUNTRY_INFO!D27, 0)","v":0},{"$f":"IF(AND(P27<>0,P27<>\"Unknown\",P27<>\"Not required\"),P27/(COUNTRY_INFO!E27+COUNTRY_INFO!F27), 0)","v":1},{"$f":"IF(AND(Z27<>0,Z27<>\"Unknown\",Z27<>\"Not required\"),IF(COUNTRY_INFO!K27=1,1,IF(COUNTRY_INFO!K27=2,0.5*COUNTRY_INFO!F27/(0.5*COUNTRY_INFO!F27+0.2*COUNTRY_INFO!G27),IF(COUNTRY_INFO!K27=3,COUNTRY_INFO!F27/(COUNTRY_INFO!F27+COUNTRY_INFO!G27)))),0)","v":0.50278685047784433},{"$f":"IF(AND(Z27<>0,Z27<>\"Unknown\",Z27<>\"Not required\"),IF(COUNTRY_INFO!K27=1,0,IF(COUNTRY_INFO!K27=2,0.2*COUNTRY_INFO!G27/(0.5*COUNTRY_INFO!F27+0.2*COUNTRY_INFO!G27),IF(COUNTRY_INFO!K27=3,COUNTRY_INFO!G27/(COUNTRY_INFO!F27+COUNTRY_INFO!G27)))),0)","v":0.49721314952215551},{"$f":"MAX(COUNTRY_INFO!D27*AK27*PROFILE!$G$7,COUNTRY_INFO!D27*AL27*PROFILE!$G$7)","v":0},{"$f":"MAX(COUNTRY_INFO!D27*AK27*PROFILE!$G$8,COUNTRY_INFO!D27*AL27*PROFILE!$G$8,COUNTRY_INFO!D27*AM27*PROFILE!$G$8)","v":8992.3827498736646},{"$f":"MAX(COUNTRY_INFO!D27*AK27*PROFILE!$G$9,COUNTRY_INFO!D27*AL27*PROFILE!$G$9,COUNTRY_INFO!D27*AM27*PROFILE!$G$9,IF(AND(DISTRICT!Z27<>\"Unknown\",Z27<>\"Not required\"),COUNTRY_INFO!O27*DISTRICT!AN27,0))","v":15670.583525005668},{"$f":"MAX(COUNTRY_INFO!D27*AK27*PROFILE!$G$10,COUNTRY_INFO!D27*AL27*PROFILE!$G$10,IF(AND(DISTRICT!Z27<>\"Unknown\",Z27<>\"Not required\"),COUNTRY_INFO!O27*DISTRICT!AO27,0))","v":8646.0784766760025},33309.044751555339,0,{"$f":"MAX('MDA2'!J27,'T1'!L27,'T2'!J27,T3_R1!K27,T3_R2!K27)","v":0},{"$f":"MAX('MDA1'!K27,'MDA2'!K27,'MDA3'!I27,'MDA3'!L27,'T1'!M27,'T2'!K27,T3_R1!L27,T3_R2!L27)","v":16630},{"$f":"MAX('MDA1'!L27,'MDA2'!L27,'MDA3'!J27,'MDA3'!M27,'T1'!N27,'T2'!L27,T3_R1!M27,T3_R2!M27)","v":0},16630,{"$f":"MAX('MDA2'!J27,T27)","v":0},{"$f":"MAX('MDA1'!K27,'MDA2'!K27,'MDA3'!I27,'MDA3'!L27,V27,AD27)","v":16630},{"$f":"MAX('MDA1'!L27,'MDA2'!L27,'MDA3'!J27,'MDA3'!M27,AF27)","v":0},16630,49.926379228343002]
[{"$f":"IF(COUNTRY_INFO!A28=0,\" \",COUNTRY_INFO!A28)","v":"Tanzania"},{"$f":"IF(COUNTRY_INFO!B28=0,\" \",COUNTRY_INFO!B28)","v":"Dodoma"},{"$f":"IF(COUNTRY_INFO!C28=0,\" \",COUNTRY_INFO!C28)","v":"Kongwa District Council"},{"$f":"COUNTRY_INFO!L28","v":"Stopped"},null,null,{"$f":"MAX('MDA1'!M28,'MDA2'!M28)","v":0},{"$f":"IF(AND(COUNTRY_INFO!H28>0,COUNTRY_INFO!H28<4),IF(D28>MAX('MDA1'!M28,'MDA2'!M28),MAX('MDA1'!M28,'MDA2'!M28),D28),0)","v":0},{"$f":"IF(AND(COUNTRY_INFO!H28>0,COUNTRY_INFO!H28<4), IF(G28/D28*100<>0, IF(G28/D28*100>100,100,G28/D28*100), \"-\"),0)","v":0},{"$f":"COUNTRY_INFO!M28","v":0},null,null,{"$f":"MAX('MDA1'!M28,MAX('MDA3'!I28,'MDA3'!L28)+MAX('MDA3'!J28,'MDA3'!M28))","v":0},{"$f":"IF(AND(COUNTRY_INFO!I28>0,COUNTRY_INFO!I28<4),IF(J28>MAX('MDA1'!M28,MAX('MDA3'!I28,'MDA3'!L28)+MAX('MDA3'!J28,'MDA3'!M28)),MAX('MDA1'!M28,MAX('MDA3'!I28,'MDA3'!L28)+MAX('MDA3'!J28,'MDA3'!M28)),J28),0)","v":0},{"$f":"IF(AND(COUNTRY_INFO!I28>0,COUNTRY_INFO!I28<4), IF(M28/J28*100<>0, IF(M28/J28*100>100,100,M28/J28*100), \"-\"),0)","v":0},{"$f":"COUNTRY_INFO!N28","v":140003},null,null,{"$f":"SUM(MAX('MDA2'!J28, 'T1'!L28, MAX(T3_R1!K28, T3_R2!K28)), MAX('MDA1'!K28, 'MDA2'!K28, 'T1'!M28, MAX(T3_R1!L28, T3_R2!L28)), MAX('MDA1'!L28, 'MDA2'!L28, 'T1'!N28, MAX(T3_R1!M28, T3_R2!M28)))","v":81220},{"$f":"IF(AND(COUNTRY_INFO!J28>1,COUNTRY_INFO!J28<4),IF(COUNTRY_INFO!E28>MAX('MDA2'!J28,'T1'!L28,MAX(T3_R1!K28,T3_R2!K28)),MAX('MDA2'!J28,'T1'!L28,MAX(T3_R1!K28,T3_R2!K28)),COUNTRY_INFO!E28),0)","v":0},{"$f":"IF(AND(COUNTRY_INFO!J28>1,COUNTRY_INFO!J28<4), IF(T28/COUNTRY_INFO!E28*100<>0, IF(T28/COUNTRY_INFO!E28*100>100,100,T28/COUNTRY_INFO!E28*100), \"-\"),0)","v":"-"},{"$f":"IF(AND(COUNTRY_INFO!J28>1,COUNTRY_INFO!J28<4),IF(COUNTRY_INFO!F28>MAX('MDA1'!K28,'MDA2'!K28,'T1'!M28,MAX(T3_R1!L28,T3_R2!L28)),MAX('MDA1'!K28,'MDA2'!K28,'T1'!M28,MAX(T3_R1!L28,T3_R2!L28)),COUNTRY_INFO!F28),0)","v":81220},{"$f":"IF(AND(COUNTRY_INFO!J28>1,COUNTRY_INFO!J28<4), IF(V28/COUNTRY_INFO!F28*100<>0, IF(V28/COUNTRY_INFO!F28*100>100,100,V28/COUNTRY_INFO!F28*100), \"-\"),0)","v":87.544192463568166},81220,{"$f":"IF(AND(COUNTRY_INFO!J28>1,COUNTRY_INFO!J28<4), IF(S28/P28*100<>0, IF(X28/P28*100>100,100,X28/P28*100), \"-\"),0)","v":58.01304257765905},{"$f":"COUNTRY_INFO!O28","v":91607.94517476589},null,null,{"$f":"MAX('T1'!L28,'T2'!J28)+MAX('T1'!M28,'T2'!K28)+MAX('T1'!N28,'T2'!L28)","v":0},{"$f":"IF(COUNTRY_INFO!K28=1,IF(COUNTRY_INFO!F28*0.33>MAX('T1'!M28,'T2'!K28),MAX('T1'!M28,'T2'!K28),COUNTRY_INFO!F28*0.33),IF(COUNTRY_INFO!K28=2,IF(COUNTRY_INFO!F28*0.5>MAX('T1'!M28,'T2'!K28),MAX('T1'!M28,'T2'!K28),COUNTRY_INFO!F28*0.5),IF(COUNTRY_INFO!K28=3,IF(COUNTRY_INFO!F28>MAX('T1'!M28,'T2'!K28),MAX('T1'!M28,'T2'!K28),COUNTRY_INFO!F28),0)))","v":0},{"$f":"IF(AND(COUNTRY_INFO!K28>0,COUNTRY_INFO!K28<4),IF(Z28>0,IF(COUNTRY_INFO!K28=1, AD28/(COUNTRY_INFO!F28*0.33)*100, IF(COUNTRY_INFO!K28=2, AD28/(COUNTRY_INFO!F28*0.5)*100, IF(COUNTRY_INFO!K28=3, AD28/COUNTRY_INFO!F28*100))),\"-\"),0)","v":0},{"$f":"IF(COUNTRY_INFO!K28=2,IF(COUNTRY_INFO!G28*0.2>MAX('T1'!N28,'T2'!L28),MAX('T1'!N28,'T2'!L28),COUNTRY_INFO!G28*0.2),IF(COUNTRY_INFO!K28=3,IF(COUNTRY_INFO!G28>MAX('T1'!N28,'T2'!L28),MAX('T1'!N28,'T2'!L28),COUNTRY_INFO!G28),0))","v":0},{"$f":"IF(AND(COUNTRY_INFO!K28>0,COUNTRY_INFO!K28<4),IF(Z28>0,IF(COUNTRY_INFO!K28=1, 0, IF(COUNTRY_INFO!K28=2, AF28/(COUNTRY_INFO!G28*0.2)*100, IF(COUNTRY_INFO!K28=3, AF28/COUNTRY_INFO!G28*100))),\"-\"),0)","v":0},0,{"$f":"IF(AND(COUNTRY_INFO!K28>0,COUNTRY_INFO!K28<4), IF(AC28/Z28*100<>0, IF(AH28/Z28*100>100,100,AH28/Z28*100), \"-\"),0)","v":"-"},null,{"$f":"IF(AND(D28<>0, D28<>\"Unknown\",D28<>\"Stopped\",D28<>\"Not required\"),D28/COUNTRY_INFO!D28, 0)","v":0},{"$f":"IF(AND(J28<>0,J28<>\"Unknown\",J28<>\"Stopped\",J28<>\"Not required\"),J28/COUNTRY_INFO!D28, 0)","v":0},{"$f":"IF(AND(P28<>0,P28<>\"Unknown\",P28<>\"Not required\"),P28/(COUNTRY_INFO!E28+COUNTRY_INFO!F28), 0)","v":1},{"$f":"IF(AND(Z28<>0,Z28<>\"Unknown\",Z28<>\"Not required\"),IF(COUNTRY_INFO!K28=1,1,IF(COUNTRY_INFO!K28=2,0.5*COUNTRY_INFO!F28/(0.5*COUNTRY_INFO!F28+0.2*COUNTRY_INFO!G28),IF(COUNTRY_INFO!K28=3,COUNTRY_INFO!F28/(COUNTRY_INFO!F28+COUNTRY_INFO!G28)))),0)","v":0.50637529213762922},{"$f":"IF(AND(Z28<>0,Z28<>\"Unknown\",Z28<>\"Not required\"),IF(COUNTRY_INFO!K28=1,0,IF(COUNTRY_INFO!K28=2,0.2*COUNTRY_INFO!G28/(0.5*COUNTRY_INFO!F28+0.2*COUNTRY_INFO!G28),IF(COUNTRY_INFO!K28=3,COUNTRY_INFO!G28/(COUNTRY_INFO!F28+COUNTRY_INFO!G28)))),0)","v":0.49362470786237067},{"$f":"MAX(COUNTRY_INFO!D28*AK28*PROFILE!$G$7,COUNTRY_INFO!D28*AL28*PROFILE!$G$7)","v":0},{"$f":"MAX(COUNTRY_INFO!D28*AK28*PROFILE!$G$8,COUNTRY_INFO!D28*AL28*PROFILE!$G$8,COUNTRY_INFO!D28*AM28*PROFILE!$G$8)","v":47227.252333170531},{"$f":"MAX(COUNTRY_INFO!D28*AK28*PROFILE!$G$9,COUNTRY_INFO!D28*AL28*PROFILE!$G$9,COUNTRY_INFO!D28*AM28*PROFILE!$G$9,IF(AND(DISTRICT!Z28<>\"Unknown\",Z28<>\"Not required\"),COUNTRY_INFO!O28*DISTRICT!AN28,0))","v":82300.611854390329},{"$f":"MAX(COUNTRY_INFO!D28*AK28*PROFILE!$G$10,COUNTRY_INFO!D28*AL28*PROFILE!$G$10,IF(AND(DISTRICT!Z28<>\"Unknown\",Z28<>\"Not required\"),COUNTRY_INFO!O28*DISTRICT!AO28,0))","v":45219.945174765882},174747.80936232675,0,{"$f":"MAX('MDA2'!J28,'T1'!L28,'T2'!J28,T3_R1!K28,T3_R2!K28)","v":0},{"$f":"MAX('MDA1'!K28,'MDA2'!K28,'MDA3'!I28,'MDA3'!L28,'T1'!M28,'T2'!K28,T3_R1!L28,T3_R2!L28)","v":81220},{"$f":"MAX('MDA1'!L28,'MDA2'!L28,'MDA3'!J28,'MDA3'!M28,'T1'!N28,'T2'!L28,T3_R1!M28,T3_R2!M28)","v":0},81220,{"$f":"MAX('MDA2'!J28,T28)","v":0},{"$f":"MAX('MDA1'!K28,'MDA2'!K28,'MDA3'!I28,'MDA3'!L28,V28,AD28)","v":81220},{"$f":"MAX('MDA1'!L28,'MDA2'!L28,'MDA3'!J28,'MDA3'!M28,AF28)","v":0},81220,46.478408110739913]
[{"$f":"IF(COUNTRY_INFO!A29=0,\" \",COUNTRY_INFO!A29)","v":"Tanzania"},{"$f":"IF(COUNTRY_INFO!B29=0,\" \",COUNTRY_INFO!B29)","v":"Dodoma"},{"$f":"IF(COUNTRY_INFO!C29=0,\" \",COUNTRY_INFO!C29)","v":"Mpwapwa District Council"},{"$f":"COUNTRY_INFO!L29","v":"Stopped"},null,null,{"$f":"MAX('MDA1'!M29,'MDA2'!M29)","v":0},{"$f":"IF(AND(COUNTRY_INFO!H29>0,COUNTRY_INFO!H29<4),IF(D29>MAX('MDA1'!M29,'MDA2'!M29),MAX('MDA1'!M29,'MDA2'!M29),D29),0)","v":0},{"$f":"IF(AND(COUNTRY_INFO!H29>0,COUNTRY_INFO!H29<4), IF(G29/D29*100<>0, IF(G29/D29*100>100,100,G29/D29*100), \"-\"),0)","v":0},{"$f":"COUNTRY_INFO!M29","v":0},null,null,{"$f":"MAX('MDA1'!M29,MAX('MDA3'!I29,'MDA3'!L29)+MAX('MDA3'!J29,'MDA3'!M29))","v":0},{"$f":"IF(AND(COUNTRY_INFO!I29>0,COUNTRY_INFO!I29<4),IF(J29>MAX('MDA1'!M29,MAX('MDA3'!I29,'MDA3'!L29)+MAX('MDA3'!J29,'MDA3'!M29)),MAX('MDA1'!M29,MAX('MDA3'!I29,'MDA3'!L29)+MAX('MDA3'!J29,'MDA3'!M29)),J29),0)","v":0},{"$f":"IF(AND(COUNTRY_INFO!I29>0,COUNTRY_INFO!I29<4), IF(M29/J29*100<>0, IF(M29/J29*100>100,100,M29/J29*100), \"-\"),0)","v":0},{"$f":"COUNTRY_INFO!N29","v":129821},null,null,{"$f":"SUM(MAX('MDA2'!J29, 'T1'!L29, MAX(T3_R1!K29, T3_R2!K29)), MAX('MDA1'!K29, 'MDA2'!K29, 'T1'!M29, MAX(T3_R1!L29, T3_R2!L29)), MAX('MDA1'!L29, 'MDA2'!L29, 'T1'!N29, MAX(T3_R1!M29, T3_R2!M29)))","v":77282},{"$f":"IF(AND(COUNTRY_INFO!J29>1,COUNTRY_INFO!J29<4),IF(COUNTRY_INFO!E29>MAX('MDA2'!J29,'T1'!L29,MAX(T3_R1!K29,T3_R2!K29)),MAX('MDA2'!J29,'T1'!L29,MAX(T3_R1!K29,T3_R2!K29)),COUNTRY_INFO!E29),0)","v":0},{"$f":"IF(AND(COUNTRY_INFO!J29>1,COUNTRY_INFO!J29<4), IF(T29/COUNTRY_INFO!E29*100<>0, IF(T29/COUNTRY_INFO!E29*100>100,100,T29/COUNTRY_INFO!E29*100), \"-\"),0)","v":"-"},{"$f":"IF(AND(COUNTRY_INFO!J29>1,COUNTRY_INFO!J29<4),IF(COUNTRY_INFO!F29>MAX('MDA1'!K29,'MDA2'!K29,'T1'!M29,MAX(T3_R1!L29,T3_R2!L29)),MAX('MDA1'!K29,'MDA2'!K29,'T1'!M29,MAX(T3_R1!L29,T3_R2!L29)),COUNTRY_INFO!F29),0)","v":77282},{"$f":"IF(AND(COUNTRY_INFO!J29>1,COUNTRY_INFO!J29<4), IF(V29/COUNTRY_INFO!F29*100<>0, IF(V29/COUNTRY_INFO!F29*100>100,100,V29/COUNTRY_INFO!F29*100), \"-\"),0)","v":92.727643593343174},77282,{"$f":"IF(AND(COUNTRY_INFO!J29>1,COUNTRY_INFO!J29<4), IF(S29/P29*100<>0, IF(X29/P29*100>100,100,X29/P29*100), \"-\"),0)","v":59.529660070404631},{"$f":"COUNTRY_INFO!O29","v":87766.348018647637},null,null,{"$f":"MAX('T1'!L29,'T2'!J29)+MAX('T1'!M29,'T2'!K29)+MAX('T1'!N29,'T2'!L29)","v":0},{"$f":"IF(COUNTRY_INFO!K29=1,IF(COUNTRY_INFO!F29*0.33>MAX('T1'!M29,'T2'!K29),MAX('T1'!M29,'T2'!K29),COUNTRY_INFO!F29*0.33),IF(COUNTRY_INFO!K29=2,IF(COUNTRY_INFO!F29*0.5>MAX('T1'!M29,'T2'!K29),MAX('T1'!M29,'T2'!K29),COUNTRY_INFO!F29*0.5),IF(COUNTRY_INFO!K29=3,IF(COUNTRY_INFO!F29>MAX('T1'!M29,'T2'!K29),MAX('T1'!M29,'T2'!K29),COUNTRY_INFO!F29),0)))","v":0},{"$f":"IF(AND(COUNTRY_INFO!K29>0,COUNTRY_INFO!K29<4),IF(Z29>0,IF(COUNTRY_INFO!K29=1, AD29/(COUNTRY_INFO!F29*0.33)*100, IF(COUNTRY_INFO!K29=2, AD29/(COUNTRY_INFO!F29*0.5)*100, IF(COUNTRY_INFO!K29=3, AD29/COUNTRY_INFO!F29*100))),\"-\"),0)","v":0},{"$f":"IF(COUNTRY_INFO!K29=2,IF(COUNTRY_INFO!G29*0.2>MAX('T1'!N29,'T2'!L29),MAX('T1'!N29,'T2'!L29),COUNTRY_INFO!G29*0.2),IF(COUNTRY_INFO!K29=3,IF(COUNTRY_INFO!G29>MAX('T1'!N29,'T2'!L29),MAX('T1'!N29,'T2'!L29),COUNTRY_INFO!G29),0))","v":0},{"$f":"IF(AND(COUNTRY_INFO!K29>0,COUNTRY_INFO!K29<4),IF(Z29>0,IF(COUNTRY_INFO!K29=1, 0, IF(COUNTRY_INFO!K29=2, AF29/(COUNTRY_INFO!G29*0.2)*100, IF(COUNTRY_INFO!K29=3, AF29/COUNTRY_INFO!G29*100))),\"-\"),0)","v":0},0,{"$f":"IF(AND(COUNTRY_INFO!K29>0,COUNTRY_INFO!K29<4), IF(AC29/Z29*100<>0, IF(AH29/Z29*100>100,100,AH29/Z29*100), \"-\"),0)","v":"-"},null,{"$f":"IF(AND(D29<>0, D29<>\"Unknown\",D29<>\"Stopped\",D29<>\"Not required\"),D29/COUNTRY_INFO!D29, 0)","v":0},{"$f":"IF(AND(J29<>0,J29<>\"Unknown\",J29<>\"Stopped\",J29<>\"Not required\"),J29/COUNTRY_INFO!D29, 0)","v":0},{"$f":"IF(AND(P29<>0,P29<>\"Unknown\",P29<>\"Not required\"),P29/(COUNTRY_INFO!E29+COUNTRY_INFO!F29), 0)","v":1},{"$f":"IF(AND(Z29<>0,Z29<>\"Unknown\",Z29<>\"Not required\"),IF(COUNTRY_INFO!K29=1,1,IF(COUNTRY_INFO!K29=2,0.5*COUNTRY_INFO!F29/(0.5*COUNTRY_INFO!F29+0.2*COUNTRY_INFO!G29),IF(COUNTRY_INFO!K29=3,COUNTRY_INFO!F29/(COUNTRY_INFO!F29+COUNTRY_INFO!G29)))),0)","v":0.47480043252051563},{"$f":"IF(AND(Z29<>0,Z29<>\"Unknown\",Z29<>\"Not required\"),IF(COUNTRY_INFO!K29=1,0,IF(COUNTRY_INFO!K29=2,0.2*COUNTRY_INFO!G29/(0.5*COUNTRY_INFO!F29+0.2*COUNTRY_INFO!G29),IF(COUNTRY_INFO!K29=3,COUNTRY_INFO!G29/(COUNTRY_INFO!F29+COUNTRY_INFO!G29)))),0)","v":0.52519956747948437},{"$f":"MAX(COUNTRY_INFO!D29*AK29*PROFILE!$G$7,COUNTRY_INFO!D29*AL29*PROFILE!$G$7)","v":0},{"$f":"MAX(COUNTRY_INFO!D29*AK29*PROFILE!$G$8,COUNTRY_INFO!D29*AL29*PROFILE!$G$8,COUNTRY_INFO!D29*AM29*PROFILE!$G$8)","v":46478.0866564424},{"$f":"MAX(COUNTRY_INFO!D29*AK29*PROFILE!$G$9,COUNTRY_INFO!D29*AL29*PROFILE!$G$9,COUNTRY_INFO!D29*AM29*PROFILE!$G$9,IF(AND(DISTRICT!Z29<>\"Unknown\",Z29<>\"Not required\"),COUNTRY_INFO!O29*DISTRICT!AN29,0))","v":80995.077644183315},{"$f":"MAX(COUNTRY_INFO!D29*AK29*PROFILE!$G$10,COUNTRY_INFO!D29*AL29*PROFILE!$G$10,IF(AND(DISTRICT!Z29<>\"Unknown\",Z29<>\"Not required\"),COUNTRY_INFO!O29*DISTRICT!AO29,0))","v":46094.848018647637},173568.01231927334,0,{"$f":"MAX('MDA2'!J29,'T1'!L29,'T2'!J29,T3_R1!K29,T3_R2!K29)","v":0},{"$f":"MAX('MDA1'!K29,'MDA2'!K29,'MDA3'!I29,'MDA3'!L29,'T1'!M29,'T2'!K29,T3_R1!L29,T3_R2!L29)","v":77282},{"$f":"MAX('MDA1'!L29,'MDA2'!L29,'MDA3'!J29,'MDA3'!M29,'T1'!N29,'T2'!L29,T3_R1!M29,T3_R2!M29)","v":0},77282,{"$f":"MAX('MDA2'!J29,T29)","v":0},{"$f":"MAX('MDA1'!K29,'MDA2'!K29,'MDA3'!I29,'MDA3'!L29,V29,AD29)","v":77282},{"$f":"MAX('MDA1'!L29,'MDA2'!L29,'MDA3'!J29,'MDA3'!M29,AF29)","v":0},77282,44.525485409052209]
[{"$f":"IF(COUNTRY_INFO!A30=0,\" \",COUNTRY_INFO!A30)","v":"Tanzania"},{"$f":"IF(COUNTRY_INFO!B30=0,\" \",COUNTRY_INFO!B30)","v":"Geita"},{"$f":"IF(COUNTRY_INFO!C30=0,\" \",COUNTRY_INFO!C30)","v":"Bukombe District Council"},{"$f":"COUNTRY_INFO!L30","v":0},null,null,{"$f":"MAX('MDA1'!M30,'MDA2'!M30)","v":0},{"$f":"IF(AND(COUNTRY_INFO!H30>0,COUNTRY_INFO!H30<4),IF(D30>MAX('MDA1'!M30,'MDA2'!M30),MAX('MDA1'!M30,'MDA2'!M30),D30),0)","v":0},{"$f":"IF(AND(COUNTRY_INFO!H30>0,COUNTRY_INFO!H30<4), IF(G30/D30*100<>0, IF(G30/D30*100>100,100,G30/D30*100), \"-\"),0)","v":0},{"$f":"COUNTRY_INFO!M30","v":0},null,null,{"$f":"MAX('MDA1'!M30,MAX('MDA3'!I30,'MDA3'!L30)+MAX('MDA3'!J30,'MDA3'!M30))","v":0},{"$f":"IF(AND(COUNTRY_INFO!I30>0,COUNTRY_INFO!I30<4),IF(J30>MAX('MDA1'!M30,MAX('MDA3'!I30,'MDA3'!L30)+MAX('MDA3'!J30,'MDA3'!M30)),MAX('MDA1'!M30,MAX('MDA3'!I30,'MDA3'!L30)+MAX('MDA3'!J30,'MDA3'!M30)),J30),0)","v":0},{"$f":"IF(AND(COUNTRY_INFO!I30>0,COUNTRY_INFO!I30<4), IF(M30/J30*100<>0, IF(M30/J30*100>100,100,M30/J30*100), \"-\"),0)","v":0},{"$f":"COUNTRY_INFO!N30","v":133300},null,null,{"$f":"SUM(MAX('MDA2'!J30, 'T1'!L30, MAX(T3_R1!K30, T3_R2!K30)), MAX('MDA1'!K30, 'MDA2'!K30, 'T1'!M30, MAX(T3_R1!L30, T3_R2!L30)), MAX('MDA1'!L30, 'MDA2'!L30, 'T1'!N30, MAX(T3_R1!M30, T3_R2!M30)))","v":96258},{"$f":"IF(AND(COUNTRY_INFO!J30>1,COUNTRY_INFO!J30<4),IF(COUNTRY_INFO!E30>MAX('MDA2'!J30,'T1'!L30,MAX(T3_R1!K30,T3_R2!K30)),MAX('MDA2'!J30,'T1'!L30,MAX(T3_R1!K30,T3_R2!K30)),COUNTRY_INFO!E30),0)","v":0},{"$f":"IF(AND(COUNTRY_INFO!J30>1,COUNTRY_INFO!J30<4), IF(T30/COUNTRY_INFO!E30*100<>0, IF(T30/COUNTRY_INFO!E30*100>100,100,T30/COUNTRY_INFO!E30*100), \"-\"),0)","v":"-"},{"$f":"IF(AND(COUNTRY_INFO!J30>1,COUNTRY_INFO!J30<4),IF(COUNTRY_INFO!F30>MAX('MDA1'!K30,'MDA2'!K30,'T1'!M30,MAX(T3_R1!L30,T3_R2!L30)),MAX('MDA1'!K30,'MDA2'!K30,'T1'!M30,MAX(T3_R1!L30,T3_R2!L30)),COUNTRY_INFO!F30),0)","v":96258},{"$f":"IF(AND(COUNTRY_INFO!J30>1,COUNTRY_INFO!J30<4), IF(V30/COUNTRY_INFO!F30*100<>0, IF(V30/COUNTRY_INFO!F30*100>100,100,V30/COUNTRY_INFO!F30*100), \"-\"),0)","v":98.599743918053775},96258,{"$f":"IF(AND(COUNTRY_INFO!J30>1,COUNTRY_INFO!J30<4), IF(S30/P30*100<>0, IF(X30/P30*100>100,100,X30/P30*100), \"-\"),0)","v":72.211552888222059},{"$f":"COUNTRY_INFO!O30","v":77462.309215050962},null,null,{"$f":"MAX('T1'!L30,'T2'!J30)+MAX('T1'!M30,'T2'!K30)+MAX('T1'!N30,'T2'!L30)","v":0},{"$f":"IF(COUNTRY_INFO!K30=1,IF(COUNTRY_INFO!F30*0.33>MAX('T1'!M30,'T2'!K30),MAX('T1'!M30,'T2'!K30),COUNTRY_INFO!F30*0.33),IF(COUNTRY_INFO!K30=2,IF(COUNTRY_INFO!F30*0.5>MAX('T1'!M30,'T2'!K30),MAX('T1'!M30,'T2'!K30),COUNTRY_INFO!F30*0.5),IF(COUNTRY_INFO!K30=3,IF(COUNTRY_INFO!F30>MAX('T1'!M30,'T2'!K30),MAX('T1'!M30,'T2'!K30),COUNTRY_INFO!F30),0)))","v":0},{"$f":"IF(AND(COUNTRY_INFO!K30>0,COUNTRY_INFO!K30<4),IF(Z30>0,IF(COUNTRY_INFO!K30=1, AD30/(COUNTRY_INFO!F30*0.33)*100, IF(COUNTRY_INFO!K30=2, AD30/(COUNTRY_INFO!F30*0.5)*100, IF(COUNTRY_INFO!K30=3, AD30/COUNTRY_INFO!F30*100))),\"-\"),0)","v":0},{"$f":"IF(COUNTRY_INFO!K30=2,IF(COUNTRY_INFO!G30*0.2>MAX('T1'!N30,'T2'!L30),MAX('T1'!N30,'T2'!L30),COUNTRY_INFO!G30*0.2),IF(COUNTRY_INFO!K30=3,IF(COUNTRY_INFO!G30>MAX('T1'!N30,'T2'!L30),MAX('T1'!N30,'T2'!L30),COUNTRY_INFO!G30),0))","v":0},{"$f":"IF(AND(COUNTRY_INFO!K30>0,COUNTRY_INFO!K30<4),IF(Z30>0,IF(COUNTRY_INFO!K30=1, 0, IF(COUNTRY_INFO!K30=2, AF30/(COUNTRY_INFO!G30*0.2)*100, IF(COUNTRY_INFO!K30=3, AF30/COUNTRY_INFO!G30*100))),\"-\"),0)","v":0},0,{"$f":"IF(AND(COUNTRY_INFO!K30>0,COUNTRY_INFO!K30<4), IF(AC30/Z30*100<>0, IF(AH30/Z30*100>100,100,AH30/Z30*100), \"-\"),0)","v":"-"},null,{"$f":"IF(AND(D30<>0, D30<>\"Unknown\",D30<>\"Stopped\",D30<>\"Not required\"),D30/COUNTRY_INFO!D30, 0)","v":0},{"$f":"IF(AND(J30<>0,J30<>\"Unknown\",J30<>\"Stopped\",J30<>\"Not required\"),J30/COUNTRY_INFO!D30, 0)","v":0},{"$f":"IF(AND(P30<>0,P30<>\"Unknown\",P30<>\"Not required\"),P30/(COUNTRY_INFO!E30+COUNTRY_INFO!F30), 0)","v":1},{"$f":"IF(AND(Z30<>0,Z30<>\"Unknown\",Z30<>\"Not required\"),IF(COUNTRY_INFO!K30=1,1,IF(COUNTRY_INFO!K30=2,0.5*COUNTRY_INFO!F30/(0.5*COUNTRY_INFO!F30+0.2*COUNTRY_INFO!G30),IF(COUNTRY_INFO!K30=3,COUNTRY_INFO!F30/(COUNTRY_INFO!F30+COUNTRY_INFO!G30)))),0)","v":0.63014516988496527},{"$f":"IF(AND(Z30<>0,Z30<>\"Unknown\",Z30<>\"Not required\"),IF(COUNTRY_INFO!K30=1,0,IF(COUNTRY_INFO!K30=2,0.2*COUNTRY_INFO!G30/(0.5*COUNTRY_INFO!F30+0.2*COUNTRY_INFO!G30),IF(COUNTRY_INFO!K30=3,COUNTRY_INFO!G30/(COUNTRY_INFO!F30+COUNTRY_INFO!G30)))),0)","v":0.36985483011503473},{"$f":"MAX(COUNTRY_INFO!D30*AK30*PROFILE!$G$7,COUNTRY_INFO!D30*AL30*PROFILE!$G$7)","v":0},{"$f":"MAX(COUNTRY_INFO!D30*AK30*PROFILE!$G$8,COUNTRY_INFO!D30*AL30*PROFILE!$G$8,COUNTRY_INFO!D30*AM30*PROFILE!$G$8)","v":35674.82746903877},{"$f":"MAX(COUNTRY_INFO!D30*AK30*PROFILE!$G$9,COUNTRY_INFO!D30*AL30*PROFILE!$G$9,COUNTRY_INFO!D30*AM30*PROFILE!$G$9,IF(AND(DISTRICT!Z30<>\"Unknown\",Z30<>\"Not required\"),COUNTRY_INFO!O30*DISTRICT!AN30,0))","v":62168.768739474843},{"$f":"MAX(COUNTRY_INFO!D30*AK30*PROFILE!$G$10,COUNTRY_INFO!D30*AL30*PROFILE!$G$10,IF(AND(DISTRICT!Z30<>\"Unknown\",Z30<>\"Not required\"),COUNTRY_INFO!O30*DISTRICT!AO30,0))","v":28649.809215050962},126493.40542356457,0,{"$f":"MAX('MDA2'!J30,'T1'!L30,'T2'!J30,T3_R1!K30,T3_R2!K30)","v":0},{"$f":"MAX('MDA1'!K30,'MDA2'!K30,'MDA3'!I30,'MDA3'!L30,'T1'!M30,'T2'!K30,T3_R1!L30,T3_R2!L30)","v":96258},{"$f":"MAX('MDA1'!L30,'MDA2'!L30,'MDA3'!J30,'MDA3'!M30,'T1'!N30,'T2'!L30,T3_R1!M30,T3_R2!M30)","v":0},96258,{"$f":"MAX('MDA2'!J30,T30)","v":0},{"$f":"MAX('MDA1'!K30,'MDA2'!K30,'MDA3'!I30,'MDA3'!L30,V30,AD30)","v":96258},{"$f":"MAX('MDA1'!L30,'MDA2'!L30,'MDA3'!J30,'MDA3'!M30,AF30)","v":0},96258,76.097247660997837]
[{"$f":"IF(COUNTRY_INFO!A31=0,\" \",COUNTRY_INFO!A31)","v":"Tanzania"},{"$f":"IF(COUNTRY_INFO!B31=0,\" \",COUNTRY_INFO!B31)","v":"Geita"},{"$f":"IF(COUNTRY_INFO!C31=0,\" \",COUNTRY_INFO!C31)","v":"Chato District Council"},{"$f":"COUNTRY_INFO!L31","v":0},null,null,{"$f":"MAX('MDA1'!M31,'MDA2'!M31)","v":0},{"$f":"IF(AND(COUNTRY_INFO!H31>0,COUNTRY_INFO!H31<4),IF(D31>MAX('MDA1'!M31,'MDA2'!M31),MAX('MDA1'!M31,'MDA2'!M31),D31),0)","v":0},{"$f":"IF(AND(COUNTRY_INFO!H31>0,COUNTRY_INFO!H31<4), IF(G31/D31*100<>0, IF(G31/D31*100>100,100,G31/D31*100), \"-\"),0)","v":0},{"$f":"COUNTRY_INFO!M31","v":0},null,null,{"$f":"MAX('MDA1'!M31,MAX('MDA3'!I31,'MDA3'!L31)+MAX('MDA3'!J31,'MDA3'!M31))","v":0},{"$f":"IF(AND(COUNTRY_INFO!I31>0,COUNTRY_INFO!I31<4),IF(J31>MAX('MDA1'!M31,MAX('MDA3'!I31,'MDA3'!L31)+MAX('MDA3'!J31,'MDA3'!M31)),MAX('MDA1'!M31,MAX('MDA3'!I31,'MDA3'!L31)+MAX('MDA3'!J31,'MDA3'!M31)),J31),0)","v":0},{"$f":"IF(AND(COUNTRY_INFO!I31>0,COUNTRY_INFO!I31<4), IF(M31/J31*100<>0, IF(M31/J31*100>100,100,M31/J31*100), \"-\"),0)","v":0},{"$f":"COUNTRY_INFO!N31","v":206522},null,null,{"$f":"SUM(MAX('MDA2'!J31, 'T1'!L31, MAX(T3_R1!K31, T3_R2!K31)), MAX('MDA1'!K31, 'MDA2'!K31, 'T1'!M31, MAX(T3_R1!L31, T3_R2!L31)), MAX('MDA1'!L31, 'MDA2'!L31, 'T1'!N31, MAX(T3_R1!M31, T3_R2!M31)))","v":146445},{"$f":"IF(AND(COUNTRY_INFO!J31>1,COUNTRY_INFO!J31<4),IF(COUNTRY_INFO!E31>MAX('MDA2'!J31,'T1'!L31,MAX(T3_R1!K31,T3_R2!K31)),MAX('MDA2'!J31,'T1'!L31,MAX(T3_R1!K31,T3_R2!K31)),COUNTRY_INFO!E31),0)","v":0},{"$f":"IF(AND(COUNTRY_INFO!J31>1,COUNTRY_INFO!J31<4), IF(T31/COUNTRY_INFO!E31*100<>0, IF(T31/COUNTRY_INFO!E31*100>100,100,T31/COUNTRY_INFO!E31*100), \"-\"),0)","v":"-"},{"$f":"IF(AND(COUNTRY_INFO!J31>1,COUNTRY_INFO!J31<4),IF(COUNTRY_INFO!F31>MAX('MDA1'!K31,'MDA2'!K31,'T1'!M31,MAX(T3_R1!L31,T3_R2!L31)),MAX('MDA1'!K31,'MDA2'!K31,'T1'!M31,MAX(T3_R1!L31,T3_R2!L31)),COUNTRY_INFO!F31),0)","v":146445},{"$f":"IF(AND(COUNTRY_INFO!J31>1,COUNTRY_INFO!J31<4), IF(V31/COUNTRY_INFO!F31*100<>0, IF(V31/COUNTRY_INFO!F31*100>100,100,V31/COUNTRY_INFO!F31*100), \"-\"),0)","v":98.608857256364843},146445,{"$f":"IF(AND(COUNTRY_INFO!J31>1,COUNTRY_INFO!J31<4), IF(S31/P31*100<>0, IF(X31/P31*100>100,100,X31/P31*100), \"-\"),0)","v":70.910120955636685},{"$f":"COUNTRY_INFO!O31","v":122890.46515638806},null,null,{"$f":"MAX('T1'!L31,'T2'!J31)+MAX('T1'!M31,'T2'!K31)+MAX('T1'!N31,'T2'!L31)","v":0},{"$f":"IF(COUNTRY_INFO!K31=1,IF(COUNTRY_INFO!F31*0.33>MAX('T1'!M31,'T2'!K31),MAX('T1'!M31,'T2'!K31),COUNTRY_INFO!F31*0.33),IF(COUNTRY_INFO!K31=2,IF(COUNTRY_INFO!F31*0.5>MAX('T1'!M31,'T2'!K31),MAX('T1'!M31,'T2'!K31),COUNTRY_INFO!F31*0.5),IF(COUNTRY_INFO!K31=3,IF(COUNTRY_INFO!F31>MAX('T1'!M31,'T2'!K31),MAX('T1'!M31,'T2'!K31),COUNTRY_INFO!F31),0)))","v":0},{"$f":"IF(AND(COUNTRY_INFO!K31>0,COUNTRY_INFO!K31<4),IF(Z31>0,IF(COUNTRY_INFO!K31=1, AD31/(COUNTRY_INFO!F31*0.33)*100, IF(COUNTRY_INFO!K31=2, AD31/(COUNTRY_INFO!F31*0.5)*100, IF(COUNTRY_INFO!K31=3, AD31/COUNTRY_INFO!F31*100))),\"-\"),0)","v":0},{"$f":"IF(COUNTRY_INFO!K31=2,IF(COUNTRY_INFO!G31*0.2>MAX('T1'!N31,'T2'!L31),MAX('T1'!N31,'T2'!L31),COUNTRY_INFO!G31*0.2),IF(COUNTRY_INFO!K31=3,IF(COUNTRY_INFO!G31>MAX('T1'!N31,'T2'!L31),MAX('T1'!N31,'T2'!L31),COUNTRY_INFO!G31),0))","v":0},{"$f":"IF(AND(COUNTRY_INFO!K31>0,COUNTRY_INFO!K31<4),IF(Z31>0,IF(COUNTRY_INFO!K31=1, 0, IF(COUNTRY_INFO!K31=2, AF31/(COUNTRY_INFO!G31*0.2)*100, IF(COUNTRY_INFO!K31=3, AF31/COUNTRY_INFO!G31*100))),\"-\"),0)","v":0},0,{"$f":"IF(AND(COUNTRY_INFO!K31>0,COUNTRY_INFO!K31<4), IF(AC31/Z31*100<>0, IF(AH31/Z31*100>100,100,AH31/Z31*100), \"-\"),0)","v":"-"},null,{"$f":"IF(AND(D31<>0, D31<>\"Unknown\",D31<>\"Stopped\",D31<>\"Not required\"),D31/COUNTRY_INFO!D31, 0)","v":0},{"$f":"IF(AND(J31<>0,J31<>\"Unknown\",J31<>\"Stopped\",J31<>\"Not required\"),J31/COUNTRY_INFO!D31, 0)","v":0},{"$f":"IF(AND(P31<>0,P31<>\"Unknown\",P31<>\"Not required\"),P31/(COUNTRY_INFO!E31+COUNTRY_INFO!F31), 0)","v":1},{"$f":"IF(AND(Z31<>0,Z31<>\"Unknown\",Z31<>\"Not required\"),IF(COUNTRY_INFO!K31=1,1,IF(COUNTRY_INFO!K31=2,0.5*COUNTRY_INFO!F31/(0.5*COUNTRY_INFO!F31+0.2*COUNTRY_INFO!G31),IF(COUNTRY_INFO!K31=3,COUNTRY_INFO!F31/(COUNTRY_INFO!F31+COUNTRY_INFO!G31)))),0)","v":0.60424134537617602},{"$f":"IF(AND(Z31<>0,Z31<>\"Unknown\",Z31<>\"Not required\"),IF(COUNTRY_INFO!K31=1,0,IF(COUNTRY_INFO!K31=2,0.2*COUNTRY_INFO!G31/(0.5*COUNTRY_INFO!F31+0.2*COUNTRY_INFO!G31),IF(COUNTRY_INFO!K31=3,COUNTRY_INFO!G31/(COUNTRY_INFO!F31+COUNTRY_INFO!G31)))),0)","v":0.39575865462382404},{"$f":"MAX(COUNTRY_INFO!D31*AK31*PROFILE!$G$7,COUNTRY_INFO!D31*AL31*PROFILE!$G$7)","v":0},{"$f":"MAX(COUNTRY_INFO!D31*AK31*PROFILE!$G$8,COUNTRY_INFO!D31*AL31*PROFILE!$G$8,COUNTRY_INFO!D31*AM31*PROFILE!$G$8)","v":58010.891380111687},{"$f":"MAX(COUNTRY_INFO!D31*AK31*PROFILE!$G$9,COUNTRY_INFO!D31*AL31*PROFILE!$G$9,COUNTRY_INFO!D31*AM31*PROFILE!$G$9,IF(AND(DISTRICT!Z31<>\"Unknown\",Z31<>\"Not required\"),COUNTRY_INFO!O31*DISTRICT!AN31,0))","v":101092.72970446495},{"$f":"MAX(COUNTRY_INFO!D31*AK31*PROFILE!$G$10,COUNTRY_INFO!D31*AL31*PROFILE!$G$10,IF(AND(DISTRICT!Z31<>\"Unknown\",Z31<>\"Not required\"),COUNTRY_INFO!O31*DISTRICT!AO31,0))","v":48634.965156388062},207738.58624096471,0,{"$f":"MAX('MDA2'!J31,'T1'!L31,'T2'!J31,T3_R1!K31,T3_R2!K31)","v":0},{"$f":"MAX('MDA1'!K31,'MDA2'!K31,'MDA3'!I31,'MDA3'!L31,'T1'!M31,'T2'!K31,T3_R1!L31,T3_R2!L31)","v":146445},{"$f":"MAX('MDA1'!L31,'MDA2'!L31,'MDA3'!J31,'MDA3'!M31,'T1'!N31,'T2'!L31,T3_R1!M31,T3_R2!M31)","v":0},146445,{"$f":"MAX('MDA2'!J31,T31)","v":0},{"$f":"MAX('MDA1'!K31,'MDA2'!K31,'MDA3'!I31,'MDA3'!L31,V31,AD31)","v":146445},{"$f":"MAX('MDA1'!L31,'MDA2'!L31,'MDA3'!J31,'MDA3'!M31,AF31)","v":0},146445,70.494847707364443]
[{"$f":"IF(COUNTRY_INFO!A32=0,\" \",COUNTRY_INFO!A32)","v":"Tanzania"},{"$f":"IF(COUNTRY_INFO!B32=0,\" \",COUNTRY_INFO!B32)","v":"Geita"},{"$f":"IF(COUNTRY_INFO!C32=0,\" \",COUNTRY_INFO!C32)","v":"Geita District Council"},{"$f":"COUNTRY_INFO!L32","v":0},null,null,{"$f":"MAX('MDA1'!M32,'MDA2'!M32)","v":0},{"$f":"IF(AND(COUNTRY_INFO!H32>0,COUNTRY_INFO!H32<4),IF(D32>MAX('MDA1'!M32,'MDA2'!M32),MAX('MDA1'!M32,'MDA2'!M32),D32),0)","v":0},{"$f":"IF(AND(COUNTRY_INFO!H32>0,COUNTRY_INFO!H32<4), IF(G32/D32*100<>0, IF(G32/D32*100>100,100,G32/D32*100), \"-\"),0)","v":0},{"$f":"COUNTRY_INFO!M32","v":0},null,null,{"$f":"MAX('MDA1'!M32,MAX('MDA3'!I32,'MDA3'!L32)+MAX('MDA3'!J32,'MDA3'!M32))","v":0},{"$f":"IF(AND(COUNTRY_INFO!I32>0,COUNTRY_INFO!I32<4),IF(J32>MAX('MDA1'!M32,MAX('MDA3'!I32,'MDA3'!L32)+MAX('MDA3'!J32,'MDA3'!M32)),MAX('MDA1'!M32,MAX('MDA3'!I32,'MDA3'!L32)+MAX('MDA3'!J32,'MDA3'!M32)),J32),0)","v":0},{"$f":"IF(AND(COUNTRY_INFO!I32>0,COUNTRY_INFO!I32<4), IF(M32/J32*100<>0, IF(M32/J32*100>100,100,M32/J32*100), \"-\"),0)","v":0},{"$f":"COUNTRY_INFO!N32","v":354802},null,null,{"$f":"SUM(MAX('MDA2'!J32, 'T1'!L32, MAX(T3_R1!K32, T3_R2!K32)), MAX('MDA1'!K32, 'MDA2'!K32, 'T1'!M32, MAX(T3_R1!L32, T3_R2!L32)), MAX('MDA1'!L32, 'MDA2'!L32, 'T1'!N32, MAX(T3_R1!M32, T3_R2!M32)))","v":244257},{"$f":"IF(AND(COUNTRY_INFO!J32>1,COUNTRY_INFO!J32<4),IF(COUNTRY_INFO!E32>MAX('MDA2'!J32,'T1'!L32,MAX(T3_R1!K32,T3_R2!K32)),MAX('MDA2'!J32,'T1'!L32,MAX(T3_R1!K32,T3_R2!K32)),COUNTRY_INFO!E32),0)","v":0},{"$f":"IF(AND(COUNTRY_INFO!J32>1,COUNTRY_INFO!J32<4), IF(T32/COUNTRY_INFO!E32*100<>0, IF(T32/COUNTRY_INFO!E32*100>100,100,T32/COUNTRY_INFO!E32*100), \"-\"),0)","v":"-"},{"$f":"IF(AND(COUNTRY_INFO!J32>1,COUNTRY_INFO!J32<4),IF(COUNTRY_INFO!F32>MAX('MDA1'!K32,'MDA2'!K32,'T1'!M32,MAX(T3_R1!L32,T3_R2!L32)),MAX('MDA1'!K32,'MDA2'!K32,'T1'!M32,MAX(T3_R1!L32,T3_R2!L32)),COUNTRY_INFO!F32),0)","v":244257},{"$f":"IF(AND(COUNTRY_INFO!J32>1,COUNTRY_INFO!J32<4), IF(V32/COUNTRY_INFO!F32*100<>0, IF(V32/COUNTRY_INFO!F32*100>100,100,V32/COUNTRY_INFO!F32*100), \"-\"),0)","v":95.002819859590431},244257,{"$f":"IF(AND(COUNTRY_INFO!J32>1,COUNTRY_INFO!J32<4), IF(S32/P32*100<>0, IF(X32/P32*100>100,100,X32/P32*100), \"-\"),0)","v":68.843185776855819},{"$f":"COUNTRY_INFO!O32","v":209059.75515475887},null,null,{"$f":"MAX('T1'!L32,'T2'!J32)+MAX('T1'!M32,'T2'!K32)+MAX('T1'!N32,'T2'!L32)","v":0},{"$f":"IF(COUNTRY_INFO!K32=1,IF(COUNTRY_INFO!F32*0.33>MAX('T1'!M32,'T2'!K32),MAX('T1'!M32,'T2'!K32),COUNTRY_INFO!F32*0.33),IF(COUNTRY_INFO!K32=2,IF(COUNTRY_INFO!F32*0.5>MAX('T1'!M32,'T2'!K32),MAX('T1'!M32,'T2'!K32),COUNTRY_INFO!F32*0.5),IF(COUNTRY_INFO!K32=3,IF(COUNTRY_INFO!F32>MAX('T1'!M32,'T2'!K32),MAX('T1'!M32,'T2'!K32),COUNTRY_INFO!F32),0)))","v":0},{"$f":"IF(AND(COUNTRY_INFO!K32>0,COUNTRY_INFO!K32<4),IF(Z32>0,IF(COUNTRY_INFO!K32=1, AD32/(COUNTRY_INFO!F32*0.33)*100, IF(COUNTRY_INFO!K32=2, AD32/(COUNTRY_INFO!F32*0.5)*100, IF(COUNTRY_INFO!K32=3, AD32/COUNTRY_INFO!F32*100))),\"-\"),0)","v":0},{"$f":"IF(COUNTRY_INFO!K32=2,IF(COUNTRY_INFO!G32*0.2>MAX('T1'!N32,'T2'!L32),MAX('T1'!N32,'T2'!L32),COUNTRY_INFO!G32*0.2),IF(COUNTRY_INFO!K32=3,IF(COUNTRY_INFO!G32>MAX('T1'!N32,'T2'!L32),MAX('T1'!N32,'T2'!L32),COUNTRY_INFO!G32),0))","v":0},{"$f":"IF(AND(COUNTRY_INFO!K32>0,COUNTRY_INFO!K32<4),IF(Z32>0,IF(COUNTRY_INFO!K32=1, 0, IF(COUNTRY_INFO!K32=2, AF32/(COUNTRY_INFO!G32*0.2)*100, IF(COUNTRY_INFO!K32=3, AF32/COUNTRY_INFO!G32*100))),\"-\"),0)","v":0},0,{"$f":"IF(AND(COUNTRY_INFO!K32>0,COUNTRY_INFO!K32<4), IF(AC32/Z32*100<>0, IF(AH32/Z32*100>100,100,AH32/Z32*100), \"-\"),0)","v":"-"},null,{"$f":"IF(AND(D32<>0, D32<>\"Unknown\",D32<>\"Stopped\",D32<>\"Not required\"),D32/COUNTRY_INFO!D32, 0)","v":0},{"$f":"IF(AND(J32<>0,J32<>\"Unknown\",J32<>\"Stopped\",J32<>\"Not required\"),J32/COUNTRY_INFO!D32, 0)","v":0},{"$f":"IF(AND(P32<>0,P32<>\"Unknown\",P32<>\"Not required\"),P32/(COUNTRY_INFO!E32+COUNTRY_INFO!F32), 0)","v":1},{"$f":"IF(AND(Z32<>0,Z32<>\"Unknown\",Z32<>\"Not required\"),IF(COUNTRY_INFO!K32=1,1,IF(COUNTRY_INFO!K32=2,0.5*COUNTRY_INFO!F32/(0.5*COUNTRY_INFO!F32+0.2*COUNTRY_INFO!G32),IF(COUNTRY_INFO!K32=3,COUNTRY_INFO!F32/(COUNTRY_INFO!F32+COUNTRY_INFO!G32)))),0)","v":0.61490792383659665},{"$f":"IF(AND(Z32<>0,Z32<>\"Unknown\",Z32<>\"Not required\"),IF(COUNTRY_INFO!K32=1,0,IF(COUNTRY_INFO!K32=2,0.2*COUNTRY_INFO!G32/(0.5*COUNTRY_INFO!F32+0.2*COUNTRY_INFO!G32),IF(COUNTRY_INFO!K32=3,COUNTRY_INFO!G32/(COUNTRY_INFO!F32+COUNTRY_INFO!G32)))),0)","v":0.38509207616340341},{"$f":"MAX(COUNTRY_INFO!D32*AK32*PROFILE!$G$7,COUNTRY_INFO!D32*AL32*PROFILE!$G$7)","v":0},{"$f":"MAX(COUNTRY_INFO!D32*AK32*PROFILE!$G$8,COUNTRY_INFO!D32*AL32*PROFILE!$G$8,COUNTRY_INFO!D32*AM32*PROFILE!$G$8)","v":97696.639013454696},{"$f":"MAX(COUNTRY_INFO!D32*AK32*PROFILE!$G$9,COUNTRY_INFO!D32*AL32*PROFILE!$G$9,COUNTRY_INFO!D32*AM32*PROFILE!$G$9,IF(AND(DISTRICT!Z32<>\"Unknown\",Z32<>\"Not required\"),COUNTRY_INFO!O32*DISTRICT!AN32,0))","v":170251.13191430582},{"$f":"MAX(COUNTRY_INFO!D32*AK32*PROFILE!$G$10,COUNTRY_INFO!D32*AL32*PROFILE!$G$10,IF(AND(DISTRICT!Z32<>\"Unknown\",Z32<>\"Not required\"),COUNTRY_INFO!O32*DISTRICT!AO32,0))","v":80507.255154758866},348455.02608251938,0,{"$f":"MAX('MDA2'!J32,'T1'!L32,'T2'!J32,T3_R1!K32,T3_R2!K32)","v":0},{"$f":"MAX('MDA1'!K32,'MDA2'!K32,'MDA3'!I32,'MDA3'!L32,'T1'!M32,'T2'!K32,T3_R1!L32,T3_R2!L32)","v":244257},{"$f":"MAX('MDA1'!L32,'MDA2'!L32,'MDA3'!J32,'MDA3'!M32,'T1'!N32,'T2'!L32,T3_R1!M32,T3_R2!M32)","v":0},244257,{"$f":"MAX('MDA2'!J32,T32)","v":0},{"$f":"MAX('MDA1'!K32,'MDA2'!K32,'MDA3'!I32,'MDA3'!L32,V32,AD32)","v":244257},{"$f":"MAX('MDA1'!L32,'MDA2'!L32,'MDA3'!J32,'MDA3'!M32,AF32)","v":0},244257,70.097137856222588]
[{"$f":"IF(COUNTRY_INFO!A33=0,\" \",COUNTRY_INFO!A33)","v":"Tanzania"},{"$f":"IF(COUNTRY_INFO!B33=0,\" \",COUNTRY_INFO!B33)","v":"Geita"},{"$f":"IF(COUNTRY_INFO!C33=0,\" \",COUNTRY_INFO!C33)","v":"Geita Town Council"},{"$f":"COUNTRY_INFO!L33","v":0},null,null,{"$f":"MAX('MDA1'!M33,'MDA2'!M33)","v":0},{"$f":"IF(AND(COUNTRY_INFO!H33>0,COUNTRY_INFO!H33<4),IF(D33>MAX('MDA1'!M33,'MDA2'!M33),MAX('MDA1'!M33,'MDA2'!M33),D33),0)","v":0},{"$f":"IF(AND(COUNTRY_INFO!H33>0,COUNTRY_INFO!H33<4), IF(G33/D33*100<>0, IF(G33/D33*100>100,100,G33/D33*100), \"-\"),0)","v":0},{"$f":"COUNTRY_INFO!M33","v":0},null,null,{"$f":"MAX('MDA1'!M33,MAX('MDA3'!I33,'MDA3'!L33)+MAX('MDA3'!J33,'MDA3'!M33))","v":0},{"$f":"IF(AND(COUNTRY_INFO!I33>0,COUNTRY_INFO!I33<4),IF(J33>MAX('MDA1'!M33,MAX('MDA3'!I33,'MDA3'!L33)+MAX('MDA3'!J33,'MDA3'!M33)),MAX('MDA1'!M33,MAX('MDA3'!I33,'MDA3'!L33)+MAX('MDA3'!J33,'MDA3'!M33)),J33),0)","v":0},{"$f":"IF(AND(COUNTRY_INFO!I33>0,COUNTRY_INFO!I33<4), IF(M33/J33*100<>0, IF(M33/J33*100>100,100,M33/J33*100), \"-\"),0)","v":0},{"$f":"COUNTRY_INFO!N33","v":102817},null,null,{"$f":"SUM(MAX('MDA2'!J33, 'T1'!L33, MAX(T3_R1!K33, T3_R2!K33)), MAX('MDA1'!K33, 'MDA2'!K33, 'T1'!M33, MAX(T3_R1!L33, T3_R2!L33)), MAX('MDA1'!L33, 'MDA2'!L33, 'T1'!N33, MAX(T3_R1!M33, T3_R2!M33)))","v":66255},{"$f":"IF(AND(COUNTRY_INFO!J33>1,COUNTRY_INFO!J33<4),IF(COUNTRY_INFO!E33>MAX('MDA2'!J33,'T1'!L33,MAX(T3_R1!K33,T3_R2!K33)),MAX('MDA2'!J33,'T1'!L33,MAX(T3_R1!K33,T3_R2!K33)),COUNTRY_INFO!E33),0)","v":0},{"$f":"IF(AND(COUNTRY_INFO!J33>1,COUNTRY_INFO!J33<4), IF(T33/COUNTRY_INFO!E33*100<>0, IF(T33/COUNTRY_INFO!E33*100>100,100,T33/COUNTRY_INFO!E33*100), \"-\"),0)","v":"-"},{"$f":"IF(AND(COUNTRY_INFO!J33>1,COUNTRY_INFO!J33<4),IF(COUNTRY_INFO!F33>MAX('MDA1'!K33,'MDA2'!K33,'T1'!M33,MAX(T3_R1!L33,T3_R2!L33)),MAX('MDA1'!K33,'MDA2'!K33,'T1'!M33,MAX(T3_R1!L33,T3_R2!L33)),COUNTRY_INFO!F33),0)","v":66255},{"$f":"IF(AND(COUNTRY_INFO!J33>1,COUNTRY_INFO!J33<4), IF(V33/COUNTRY_INFO!F33*100<>0, IF(V33/COUNTRY_INFO!F33*100>100,100,V33/COUNTRY_INFO!F33*100), \"-\"),0)","v":91.76592797783934},66255,{"$f":"IF(AND(COUNTRY_INFO!J33>1,COUNTRY_INFO!J33<4), IF(S33/P33*100<>0, IF(X33/P33*100>100,100,X33/P33*100), \"-\"),0)","v":64.439732729023419},{"$f":"COUNTRY_INFO!O33","v":63004.896510718303},null,null,{"$f":"MAX('T1'!L33,'T2'!J33)+MAX('T1'!M33,'T2'!K33)+MAX('T1'!N33,'T2'!L33)","v":0},{"$f":"IF(COUNTRY_INFO!K33=1,IF(COUNTRY_INFO!F33*0.33>MAX('T1'!M33,'T2'!K33),MAX('T1'!M33,'T2'!K33),COUNTRY_INFO!F33*0.33),IF(COUNTRY_INFO!K33=2,IF(COUNTRY_INFO!F33*0.5>MAX('T1'!M33,'T2'!K33),MAX('T1'!M33,'T2'!K33),COUNTRY_INFO!F33*0.5),IF(COUNTRY_INFO!K33=3,IF(COUNTRY_INFO!F33>MAX('T1'!M33,'T2'!K33),MAX('T1'!M33,'T2'!K33),COUNTRY_INFO!F33),0)))","v":0},{"$f":"IF(AND(COUNTRY_INFO!K33>0,COUNTRY_INFO!K33<4),IF(Z33>0,IF(COUNTRY_INFO!K33=1, AD33/(COUNTRY_INFO!F33*0.33)*100, IF(COUNTRY_INFO!K33=2, AD33/(COUNTRY_INFO!F33*0.5)*100, IF(COUNTRY_INFO!K33=3, AD33/COUNTRY_INFO!F33*100))),\"-\"),0)","v":0},{"$f":"IF(COUNTRY_INFO!K33=2,IF(COUNTRY_INFO!G33*0.2>MAX('T1'!N33,'T2'!L33),MAX('T1'!N33,'T2'!L33),COUNTRY_INFO!G33*0.2),IF(COUNTRY_INFO!K33=3,IF(COUNTRY_INFO!G33>MAX('T1'!N33,'T2'!L33),MAX('T1'!N33,'T2'!L33),COUNTRY_INFO!G33),0))","v":0},{"$f":"IF(AND(COUNTRY_INFO!K33>0,COUNTRY_INFO!K33<4),IF(Z33>0,IF(COUNTRY_INFO!K33=1, 0, IF(COUNTRY_INFO!K33=2, AF33/(COUNTRY_INFO!G33*0.2)*100, IF(COUNTRY_INFO!K33=3, AF33/COUNTRY_INFO!G33*100))),\"-\"),0)","v":0},0,{"$f":"IF(AND(COUNTRY_INFO!K33>0,COUNTRY_INFO!K33<4), IF(AC33/Z33*100<>0, IF(AH33/Z33*100>100,100,AH33/Z33*100), \"-\"),0)","v":"-"},null,{"$f":"IF(AND(D33<>0, D33<>\"Unknown\",D33<>\"Stopped\",D33<>\"Not required\"),D33/COUNTRY_INFO!D33, 0)","v":0},{"$f":"IF(AND(J33<>0,J33<>\"Unknown\",J33<>\"Stopped\",J33<>\"Not required\"),J33/COUNTRY_INFO!D33, 0)","v":0},{"$f":"IF(AND(P33<>0,P33<>\"Unknown\",P33<>\"Not required\"),P33/(COUNTRY_INFO!E33+COUNTRY_INFO!F33), 0)","v":1},{"$f":"IF(AND(Z33<>0,Z33<>\"Unknown\",Z33<>\"Not required\"),IF(COUNTRY_INFO!K33=1,1,IF(COUNTRY_INFO!K33=2,0.5*COUNTRY_INFO!F33/(0.5*COUNTRY_INFO!F33+0.2*COUNTRY_INFO!G33),IF(COUNTRY_INFO!K33=3,COUNTRY_INFO!F33/(COUNTRY_INFO!F33+COUNTRY_INFO!G33)))),0)","v":0.57297134031255359},{"$f":"IF(AND(Z33<>0,Z33<>\"Unknown\",Z33<>\"Not required\"),IF(COUNTRY_INFO!K33=1,0,IF(COUNTRY_INFO!K33=2,0.2*COUNTRY_INFO!G33/(0.5*COUNTRY_INFO!F33+0.2*COUNTRY_INFO!G33),IF(COUNTRY_INFO!K33=3,COUNTRY_INFO!G33/(COUNTRY_INFO!F33+COUNTRY_INFO!G33)))),0)","v":0.42702865968744635},{"$f":"MAX(COUNTRY_INFO!D33*AK33*PROFILE!$G$7,COUNTRY_INFO!D33*AL33*PROFILE!$G$7)","v":0},{"$f":"MAX(COUNTRY_INFO!D33*AK33*PROFILE!$G$8,COUNTRY_INFO!D33*AL33*PROFILE!$G$8,COUNTRY_INFO!D33*AM33*PROFILE!$G$8)","v":30617.051700265758},{"$f":"MAX(COUNTRY_INFO!D33*AK33*PROFILE!$G$9,COUNTRY_INFO!D33*AL33*PROFILE!$G$9,COUNTRY_INFO!D33*AM33*PROFILE!$G$9,IF(AND(DISTRICT!Z33<>\"Unknown\",Z33<>\"Not required\"),COUNTRY_INFO!O33*DISTRICT!AN33,0))","v":53354.831450559868},{"$f":"MAX(COUNTRY_INFO!D33*AK33*PROFILE!$G$10,COUNTRY_INFO!D33*AL33*PROFILE!$G$10,IF(AND(DISTRICT!Z33<>\"Unknown\",Z33<>\"Not required\"),COUNTRY_INFO!O33*DISTRICT!AO33,0))","v":26904.896510718303},110876.77966154393,0,{"$f":"MAX('MDA2'!J33,'T1'!L33,'T2'!J33,T3_R1!K33,T3_R2!K33)","v":0},{"$f":"MAX('MDA1'!K33,'MDA2'!K33,'MDA3'!I33,'MDA3'!L33,'T1'!M33,'T2'!K33,T3_R1!L33,T3_R2!L33)","v":66255},{"$f":"MAX('MDA1'!L33,'MDA2'!L33,'MDA3'!J33,'MDA3'!M33,'T1'!N33,'T2'!L33,T3_R1!M33,T3_R2!M33)","v":0},66255,{"$f":"MAX('MDA2'!J33,T33)","v":0},{"$f":"MAX('MDA1'!K33,'MDA2'!K33,'MDA3'!I33,'MDA3'!L33,V33,AD33)","v":66255},{"$f":"MAX('MDA1'!L33,'MDA2'!L33,'MDA3'!J33,'MDA3'!M33,AF33)","v":0},66255,59.755523385731614]
[{"$f":"IF(COUNTRY_INFO!A34=0,\" \",COUNTRY_INFO!A34)","v":"Tanzania"},{"$f":"IF(COUNTRY_INFO!B34=0,\" \",COUNTRY_INFO!B34)","v":"Geita"},{"$f":"IF(COUNTRY_INFO!C34=0,\" \",COUNTRY_INFO!C34)","v":"Mbogwe District Council"},{"$f":"COUNTRY_INFO!L34","v":0},null,null,{"$f":"MAX('MDA1'!M34,'MDA2'!M34)","v":0},{"$f":"IF(AND(COUNTRY_INFO!H34>0,COUNTRY_INFO!H34<4),IF(D34>MAX('MDA1'!M34,'MDA2'!M34),MAX('MDA1'!M34,'MDA2'!M34),D34),0)","v":0},{"$f":"IF(AND(COUNTRY_INFO!H34>0,COUNTRY_INFO!H34<4), IF(G34/D34*100<>0, IF(G34/D34*100>100,100,G34/D34*100), \"-\"),0)","v":0},{"$f":"COUNTRY_INFO!M34","v":0},null,null,{"$f":"MAX('MDA1'!M34,MAX('MDA3'!I34,'MDA3'!L34)+MAX('MDA3'!J34,'MDA3'!M34))","v":0},{"$f":"IF(AND(COUNTRY_INFO!I34>0,COUNTRY_INFO!I34<4),IF(J34>MAX('MDA1'!M34,MAX('MDA3'!I34,'MDA3'!L34)+MAX('MDA3'!J34,'MDA3'!M34)),MAX('MDA1'!M34,MAX('MDA3'!I34,'MDA3'!L34)+MAX('MDA3'!J34,'MDA3'!M34)),J34),0)","v":0},{"$f":"IF(AND(COUNTRY_INFO!I34>0,COUNTRY_INFO!I34<4), IF(M34/J34*100<>0, IF(M34/J34*100>100,100,M34/J34*100), \"-\"),0)","v":0},{"$f":"COUNTRY_INFO!N34","v":113834},null,null,{"$f":"SUM(MAX('MDA2'!J34, 'T1'!L34, MAX(T3_R1!K34, T3_R2!K34)), MAX('MDA1'!K34, 'MDA2'!K34, 'T1'!M34, MAX(T3_R1!L34, T3_R2!L34)), MAX('MDA1'!L34, 'MDA2'!L34, 'T1'!N34, MAX(T3_R1!M34, T3_R2!M34)))","v":74471},{"$f":"IF(AND(COUNTRY_INFO!J34>1,COUNTRY_INFO!J34<4),IF(COUNTRY_INFO!E34>MAX('MDA2'!J34,'T1'!L34,MAX(T3_R1!K34,T3_R2!K34)),MAX('MDA2'!J34,'T1'!L34,MAX(T3_R1!K34,T3_R2!K34)),COUNTRY_INFO!E34),0)","v":0},{"$f":"IF(AND(COUNTRY_INFO!J34>1,COUNTRY_INFO!J34<4), IF(T34/COUNTRY_INFO!E34*100<>0, IF(T34/COUNTRY_INFO!E34*100>100,100,T34/COUNTRY_INFO!E34*100), \"-\"),0)","v":"-"},{"$f":"IF(AND(COUNTRY_INFO!J34>1,COUNTRY_INFO!J34<4),IF(COUNTRY_INFO!F34>MAX('MDA1'!K34,'MDA2'!K34,'T1'!M34,MAX(T3_R1!L34,T3_R2!L34)),MAX('MDA1'!K34,'MDA2'!K34,'T1'!M34,MAX(T3_R1!L34,T3_R2!L34)),COUNTRY_INFO!F34),0)","v":74471},{"$f":"IF(AND(COUNTRY_INFO!J34>1,COUNTRY_INFO!J34<4), IF(V34/COUNTRY_INFO!F34*100<>0, IF(V34/COUNTRY_INFO!F34*100>100,100,V34/COUNTRY_INFO!F34*100), \"-\"),0)","v":89.698159568317593},74471,{"$f":"IF(AND(COUNTRY_INFO!J34>1,COUNTRY_INFO!J34<4), IF(S34/P34*100<>0, IF(X34/P34*100>100,100,X34/P34*100), \"-\"),0)","v":65.420700318006922},{"$f":"COUNTRY_INFO!O34","v":66512.64820642519},null,null,{"$f":"MAX('T1'!L34,'T2'!J34)+MAX('T1'!M34,'T2'!K34)+MAX('T1'!N34,'T2'!L34)","v":0},{"$f":"IF(COUNTRY_INFO!K34=1,IF(COUNTRY_INFO!F34*0.33>MAX('T1'!M34,'T2'!K34),MAX('T1'!M34,'T2'!K34),COUNTRY_INFO!F34*0.33),IF(COUNTRY_INFO!K34=2,IF(COUNTRY_INFO!F34*0.5>MAX('T1'!M34,'T2'!K34),MAX('T1'!M34,'T2'!K34),COUNTRY_INFO!F34*0.5),IF(COUNTRY_INFO!K34=3,IF(COUNTRY_INFO!F34>MAX('T1'!M34,'T2'!K34),MAX('T1'!M34,'T2'!K34),COUNTRY_INFO!F34),0)))","v":0},{"$f":"IF(AND(COUNTRY_INFO!K34>0,COUNTRY_INFO!K34<4),IF(Z34>0,IF(COUNTRY_INFO!K34=1, AD34/(COUNTRY_INFO!F34*0.33)*100, IF(COUNTRY_INFO!K34=2, AD34/(COUNTRY_INFO!F34*0.5)*100, IF(COUNTRY_INFO!K34=3, AD34/COUNTRY_INFO!F34*100))),\"-\"),0)","v":0},{"$f":"IF(COUNTRY_INFO!K34=2,IF(COUNTRY_INFO!G34*0.2>MAX('T1'!N34,'T2'!L34),MAX('T1'!N34,'T2'!L34),COUNTRY_INFO!G34*0.2),IF(COUNTRY_INFO!K34=3,IF(COUNTRY_INFO!G34>MAX('T1'!N34,'T2'!L34),MAX('T1'!N34,'T2'!L34),COUNTRY_INFO!G34),0))","v":0},{"$f":"IF(AND(COUNTRY_INFO!K34>0,COUNTRY_INFO!K34<4),IF(Z34>0,IF(COUNTRY_INFO!K34=1, 0, IF(COUNTRY_INFO!K34=2, AF34/(COUNTRY_INFO!G34*0.2)*100, IF(COUNTRY_INFO!K34=3, AF34/COUNTRY_INFO!G34*100))),\"-\"),0)","v":0},0,{"$f":"IF(AND(COUNTRY_INFO!K34>0,COUNTRY_INFO!K34<4), IF(AC34/Z34*100<>0, IF(AH34/Z34*100>100,100,AH34/Z34*100), \"-\"),0)","v":"-"},null,{"$f":"IF(AND(D34<>0, D34<>\"Unknown\",D34<>\"Stopped\",D34<>\"Not required\"),D34/COUNTRY_INFO!D34, 0)","v":0},{"$f":"IF(AND(J34<>0,J34<>\"Unknown\",J34<>\"Stopped\",J34<>\"Not required\"),J34/COUNTRY_INFO!D34, 0)","v":0},{"$f":"IF(AND(P34<>0,P34<>\"Unknown\",P34<>\"Not required\"),P34/(COUNTRY_INFO!E34+COUNTRY_INFO!F34), 0)","v":1},{"$f":"IF(AND(Z34<>0,Z34<>\"Unknown\",Z34<>\"Not required\"),IF(COUNTRY_INFO!K34=1,1,IF(COUNTRY_INFO!K34=2,0.5*COUNTRY_INFO!F34/(0.5*COUNTRY_INFO!F34+0.2*COUNTRY_INFO!G34),IF(COUNTRY_INFO!K34=3,COUNTRY_INFO!F34/(COUNTRY_INFO!F34+COUNTRY_INFO!G34)))),0)","v":0.62412189439767185},{"$f":"IF(AND(Z34<>0,Z34<>\"Unknown\",Z34<>\"Not required\"),IF(COUNTRY_INFO!K34=1,0,IF(COUNTRY_INFO!K34=2,0.2*COUNTRY_INFO!G34/(0.5*COUNTRY_INFO!F34+0.2*COUNTRY_INFO!G34),IF(COUNTRY_INFO!K34=3,COUNTRY_INFO!G34/(COUNTRY_INFO!F34+COUNTRY_INFO!G34)))),0)","v":0.37587810560232809},{"$f":"MAX(COUNTRY_INFO!D34*AK34*PROFILE!$G$7,COUNTRY_INFO!D34*AL34*PROFILE!$G$7)","v":0},{"$f":"MAX(COUNTRY_INFO!D34*AK34*PROFILE!$G$8,COUNTRY_INFO!D34*AL34*PROFILE!$G$8,COUNTRY_INFO!D34*AM34*PROFILE!$G$8)","v":30810.00454683803},{"$f":"MAX(COUNTRY_INFO!D34*AK34*PROFILE!$G$9,COUNTRY_INFO!D34*AL34*PROFILE!$G$9,COUNTRY_INFO!D34*AM34*PROFILE!$G$9,IF(AND(DISTRICT!Z34<>\"Unknown\",Z34<>\"Not required\"),COUNTRY_INFO!O34*DISTRICT!AN34,0))","v":53691.080894417326},{"$f":"MAX(COUNTRY_INFO!D34*AK34*PROFILE!$G$10,COUNTRY_INFO!D34*AL34*PROFILE!$G$10,IF(AND(DISTRICT!Z34<>\"Unknown\",Z34<>\"Not required\"),COUNTRY_INFO!O34*DISTRICT!AO34,0))","v":25000.648206425187},109501.73364768055,0,{"$f":"MAX('MDA2'!J34,'T1'!L34,'T2'!J34,T3_R1!K34,T3_R2!K34)","v":0},{"$f":"MAX('MDA1'!K34,'MDA2'!K34,'MDA3'!I34,'MDA3'!L34,'T1'!M34,'T2'!K34,T3_R1!L34,T3_R2!L34)","v":74471},{"$f":"MAX('MDA1'!L34,'MDA2'!L34,'MDA3'!J34,'MDA3'!M34,'T1'!N34,'T2'!L34,T3_R1!M34,T3_R2!M34)","v":0},74471,{"$f":"MAX('MDA2'!J34,T34)","v":0},{"$f":"MAX('MDA1'!K34,'MDA2'!K34,'MDA3'!I34,'MDA3'!L34,V34,AD34)","v":74471},{"$f":"MAX('MDA1'!L34,'MDA2'!L34,'MDA3'!J34,'MDA3'!M34,AF34)","v":0},74471,68.008968916975164]
[{"$f":"IF(COUNTRY_INFO!A35=0,\" \",COUNTRY_INFO!A35)","v":"Tanzania"},{"$f":"IF(COUNTRY_INFO!B35=0,\" \",COUNTRY_INFO!B35)","v":"Geita"},{"$f":"IF(COUNTRY_INFO!C35=0,\" \",COUNTRY_INFO!C35)","v":"Nyang'hwale District Council"},{"$f":"COUNTRY_INFO!L35","v":0},null,null,{"$f":"MAX('MDA1'!M35,'MDA2'!M35)","v":0},{"$f":"IF(AND(COUNTRY_INFO!H35>0,COUNTRY_INFO!H35<4),IF(D35>MAX('MDA1'!M35,'MDA2'!M35),MAX('MDA1'!M35,'MDA2'!M35),D35),0)","v":0},{"$f":"IF(AND(COUNTRY_INFO!H35>0,COUNTRY_INFO!H35<4), IF(G35/D35*100<>0, IF(G35/D35*100>100,100,G35/D35*100), \"-\"),0)","v":0},{"$f":"COUNTRY_INFO!M35","v":0},null,null,{"$f":"MAX('MDA1'!M35,MAX('MDA3'!I35,'MDA3'!L35)+MAX('MDA3'!J35,'MDA3'!M35))","v":0},{"$f":"IF(AND(COUNTRY_INFO!I35>0,COUNTRY_INFO!I35<4),IF(J35>MAX('MDA1'!M35,MAX('MDA3'!I35,'MDA3'!L35)+MAX('MDA3'!J35,'MDA3'!M35)),MAX('MDA1'!M35,MAX('MDA3'!I35,'MDA3'!L35)+MAX('MDA3'!J35,'MDA3'!M35)),J35),0)","v":0},{"$f":"IF(AND(COUNTRY_INFO!I35>0,COUNTRY_INFO!I35<4), IF(M35/J35*100<>0, IF(M35/J35*100>100,100,M35/J35*100), \"-\"),0)","v":0},{"$f":"COUNTRY_INFO!N35","v":76141},null,null,{"$f":"SUM(MAX('MDA2'!J35, 'T1'!L35, MAX(T3_R1!K35, T3_R2!K35)), MAX('MDA1'!K35, 'MDA2'!K35, 'T1'!M35, MAX(T3_R1!L35, T3_R2!L35)), MAX('MDA1'!L35, 'MDA2'!L35, 'T1'!N35, MAX(T3_R1!M35, T3_R2!M35)))","v":48206},{"$f":"IF(AND(COUNTRY_INFO!J35>1,COUNTRY_INFO!J35<4),IF(COUNTRY_INFO!E35>MAX('MDA2'!J35,'T1'!L35,MAX(T3_R1!K35,T3_R2!K35)),MAX('MDA2'!J35,'T1'!L35,MAX(T3_R1!K35,T3_R2!K35)),COUNTRY_INFO!E35),0)","v":0},{"$f":"IF(AND(COUNTRY_INFO!J35>1,COUNTRY_INFO!J35<4), IF(T35/COUNTRY_INFO!E35*100<>0, IF(T35/COUNTRY_INFO!E35*100>100,100,T35/COUNTRY_INFO!E35*100), \"-\"),0)","v":"-"},{"$f":"IF(AND(COUNTRY_INFO!J35>1,COUNTRY_INFO!J35<4),IF(COUNTRY_INFO!F35>MAX('MDA1'!K35,'MDA2'!K35,'T1'!M35,MAX(T3_R1!L35,T3_R2!L35)),MAX('MDA1'!K35,'MDA2'!K35,'T1'!M35,MAX(T3_R1!L35,T3_R2!L35)),COUNTRY_INFO!F35),0)","v":48206},{"$f":"IF(AND(COUNTRY_INFO!J35>1,COUNTRY_INFO!J35<4), IF(V35/COUNTRY_INFO!F35*100<>0, IF(V35/COUNTRY_INFO!F35*100>100,100,V35/COUNTRY_INFO!F35*100), \"-\"),0)","v":91.688222763237974},48206,{"$f":"IF(AND(COUNTRY_INFO!J35>1,COUNTRY_INFO!J35<4), IF(S35/P35*100<>0, IF(X35/P35*100>100,100,X35/P35*100), \"-\"),0)","v":63.311487897453411},{"$f":"COUNTRY_INFO!O35","v":47594.132870986301},null,null,{"$f":"MAX('T1'!L35,'T2'!J35)+MAX('T1'!M35,'T2'!K35)+MAX('T1'!N35,'T2'!L35)","v":0},{"$f":"IF(COUNTRY_INFO!K35=1,IF(COUNTRY_INFO!F35*0.33>MAX('T1'!M35,'T2'!K35),MAX('T1'!M35,'T2'!K35),COUNTRY_INFO!F35*0.33),IF(COUNTRY_INFO!K35=2,IF(COUNTRY_INFO!F35*0.5>MAX('T1'!M35,'T2'!K35),MAX('T1'!M35,'T2'!K35),COUNTRY_INFO!F35*0.5),IF(COUNTRY_INFO!K35=3,IF(COUNTRY_INFO!F35>MAX('T1'!M35,'T2'!K35),MAX('T1'!M35,'T2'!K35),COUNTRY_INFO!F35),0)))","v":0},{"$f":"IF(AND(COUNTRY_INFO!K35>0,COUNTRY_INFO!K35<4),IF(Z35>0,IF(COUNTRY_INFO!K35=1, AD35/(COUNTRY_INFO!F35*0.33)*100, IF(COUNTRY_INFO!K35=2, AD35/(COUNTRY_INFO!F35*0.5)*100, IF(COUNTRY_INFO!K35=3, AD35/COUNTRY_INFO!F35*100))),\"-\"),0)","v":0},{"$f":"IF(COUNTRY_INFO!K35=2,IF(COUNTRY_INFO!G35*0.2>MAX('T1'!N35,'T2'!L35),MAX('T1'!N35,'T2'!L35),COUNTRY_INFO!G35*0.2),IF(COUNTRY_INFO!K35=3,IF(COUNTRY_INFO!G35>MAX('T1'!N35,'T2'!L35),MAX('T1'!N35,'T2'!L35),COUNTRY_INFO!G35),0))","v":0},{"$f":"IF(AND(COUNTRY_INFO!K35>0,COUNTRY_INFO!K35<4),IF(Z35>0,IF(COUNTRY_INFO!K35=1, 0, IF(COUNTRY_INFO!K35=2, AF35/(COUNTRY_INFO!G35*0.2)*100, IF(COUNTRY_INFO!K35=3, AF35/COUNTRY_INFO!G35*100))),\"-\"),0)","v":0},0,{"$f":"IF(AND(COUNTRY_INFO!K35>0,COUNTRY_INFO!K35<4), IF(AC35/Z35*100<>0, IF(AH35/Z35*100>100,100,AH35/Z35*100), \"-\"),0)","v":"-"},null,{"$f":"IF(AND(D35<>0, D35<>\"Unknown\",D35<>\"Stopped\",D35<>\"Not required\"),D35/COUNTRY_INFO!D35, 0)","v":0},{"$f":"IF(AND(J35<>0,J35<>\"Unknown\",J35<>\"Stopped\",J35<>\"Not required\"),J35/COUNTRY_INFO!D35, 0)","v":0},{"$f":"IF(AND(P35<>0,P35<>\"Unknown\",P35<>\"Not required\"),P35/(COUNTRY_INFO!E35+COUNTRY_INFO!F35), 0)","v":1},{"$f":"IF(AND(Z35<>0,Z35<>\"Unknown\",Z35<>\"Not required\"),IF(COUNTRY_INFO!K35=1,1,IF(COUNTRY_INFO!K35=2,0.5*COUNTRY_INFO!F35/(0.5*COUNTRY_INFO!F35+0.2*COUNTRY_INFO!G35),IF(COUNTRY_INFO!K35=3,COUNTRY_INFO!F35/(COUNTRY_INFO!F35+COUNTRY_INFO!G35)))),0)","v":0.55233698807495957},{"$f":"IF(AND(Z35<>0,Z35<>\"Unknown\",Z35<>\"Not required\"),IF(COUNTRY_INFO!K35=1,0,IF(COUNTRY_INFO!K35=2,0.2*COUNTRY_INFO!G35/(0.5*COUNTRY_INFO!F35+0.2*COUNTRY_INFO!G35),IF(COUNTRY_INFO!K35=3,COUNTRY_INFO!G35/(COUNTRY_INFO!F35+COUNTRY_INFO!G35)))),0)","v":0.44766301192504049},{"$f":"MAX(COUNTRY_INFO!D35*AK35*PROFILE!$G$7,COUNTRY_INFO!D35*AL35*PROFILE!$G$7)","v":0},{"$f":"MAX(COUNTRY_INFO!D35*AK35*PROFILE!$G$8,COUNTRY_INFO!D35*AL35*PROFILE!$G$8,COUNTRY_INFO!D35*AM35*PROFILE!$G$8)","v":23564.645048788159},{"$f":"MAX(COUNTRY_INFO!D35*AK35*PROFILE!$G$9,COUNTRY_INFO!D35*AL35*PROFILE!$G$9,COUNTRY_INFO!D35*AM35*PROFILE!$G$9,IF(AND(DISTRICT!Z35<>\"Unknown\",Z35<>\"Not required\"),COUNTRY_INFO!O35*DISTRICT!AN35,0))","v":41064.948940183189},{"$f":"MAX(COUNTRY_INFO!D35*AK35*PROFILE!$G$10,COUNTRY_INFO!D35*AL35*PROFILE!$G$10,IF(AND(DISTRICT!Z35<>\"Unknown\",Z35<>\"Not required\"),COUNTRY_INFO!O35*DISTRICT!AO35,0))","v":21306.132870986301},85935.726859957649,0,{"$f":"MAX('MDA2'!J35,'T1'!L35,'T2'!J35,T3_R1!K35,T3_R2!K35)","v":0},{"$f":"MAX('MDA1'!K35,'MDA2'!K35,'MDA3'!I35,'MDA3'!L35,'T1'!M35,'T2'!K35,T3_R1!L35,T3_R2!L35)","v":48206},{"$f":"MAX('MDA1'!L35,'MDA2'!L35,'MDA3'!J35,'MDA3'!M35,'T1'!N35,'T2'!L35,T3_R1!M35,T3_R2!M35)","v":0},48206,{"$f":"MAX('MDA2'!J35,T35)","v":0},{"$f":"MAX('MDA1'!K35,'MDA2'!K35,'MDA3'!I35,'MDA3'!L35,V35,AD35)","v":48206},{"$f":"MAX('MDA1'!L35,'MDA2'!L35,'MDA3'!J35,'MDA3'!M35,AF35)","v":0},48206,56.095411956609539]
[{"$f":"IF(COUNTRY_INFO!A36=0,\" \",COUNTRY_INFO!A36)","v":"Tanzania"},{"$f":"IF(COUNTRY_INFO!B36=0,\" \",COUNTRY_INFO!B36)","v":"Iringa"},{"$f":"IF(COUNTRY_INFO!C36=0,\" \",COUNTRY_INFO!C36)","v":"Iringa District Council"},{"$f":"COUNTRY_INFO!L36","v":"Stopped"},null,null,{"$f":"MAX('MDA1'!M36,'MDA2'!M36)","v":0},{"$f":"IF(AND(COUNTRY_INFO!H36>0,COUNTRY_INFO!H36<4),IF(D36>MAX('MDA1'!M36,'MDA2'!M36),MAX('MDA1'!M36,'MDA2'!M36),D36),0)","v":0},{"$f":"IF(AND(COUNTRY_INFO!H36>0,COUNTRY_INFO!H36<4), IF(G36/D36*100<>0, IF(G36/D36*100>100,100,G36/D36*100), \"-\"),0)","v":0},{"$f":"COUNTRY_INFO!M36","v":0},null,null,{"$f":"MAX('MDA1'!M36,MAX('MDA3'!I36,'MDA3'!L36)+MAX('MDA3'!J36,'MDA3'!M36))","v":0},{"$f":"IF(AND(COUNTRY_INFO!I36>0,COUNTRY_INFO!I36<4),IF(J36>MAX('MDA1'!M36,MAX('MDA3'!I36,'MDA3'!L36)+MAX('MDA3'!J36,'MDA3'!M36)),MAX('MDA1'!M36,MAX('MDA3'!I36,'MDA3'!L36)+MAX('MDA3'!J36,'MDA3'!M36)),J36),0)","v":0},{"$f":"IF(AND(COUNTRY_INFO!I36>0,COUNTRY_INFO!I36<4), IF(M36/J36*100<>0, IF(M36/J36*100>100,100,M36/J36*100), \"-\"),0)","v":0},{"$f":"COUNTRY_INFO!N36","v":114487},null,null,{"$f":"SUM(MAX('MDA2'!J36, 'T1'!L36, MAX(T3_R1!K36, T3_R2!K36)), MAX('MDA1'!K36, 'MDA2'!K36, 'T1'!M36, MAX(T3_R1!L36, T3_R2!L36)), MAX('MDA1'!L36, 'MDA2'!L36, 'T1'!N36, MAX(T3_R1!M36, T3_R2!M36)))","v":74688},{"$f":"IF(AND(COUNTRY_INFO!J36>1,COUNTRY_INFO!J36<4),IF(COUNTRY_INFO!E36>MAX('MDA2'!J36,'T1'!L36,MAX(T3_R1!K36,T3_R2!K36)),MAX('MDA2'!J36,'T1'!L36,MAX(T3_R1!K36,T3_R2!K36)),COUNTRY_INFO!E36),0)","v":0},{"$f":"IF(AND(COUNTRY_INFO!J36>1,COUNTRY_INFO!J36<4), IF(T36/COUNTRY_INFO!E36*100<>0, IF(T36/COUNTRY_INFO!E36*100>100,100,T36/COUNTRY_INFO!E36*100), \"-\"),0)","v":"-"},{"$f":"IF(AND(COUNTRY_INFO!J36>1,COUNTRY_INFO!J36<4),IF(COUNTRY_INFO!F36>MAX('MDA1'!K36,'MDA2'!K36,'T1'!M36,MAX(T3_R1!L36,T3_R2!L36)),MAX('MDA1'!K36,'MDA2'!K36,'T1'!M36,MAX(T3_R1!L36,T3_R2!L36)),COUNTRY_INFO!F36),0)","v":74688},{"$f":"IF(AND(COUNTRY_INFO!J36>1,COUNTRY_INFO!J36<4), IF(V36/COUNTRY_INFO!F36*100<>0, IF(V36/COUNTRY_INFO!F36*100>100,100,V36/COUNTRY_INFO!F36*100), \"-\"),0)","v":94.962492053401149},74688,{"$f":"IF(AND(COUNTRY_INFO!J36>1,COUNTRY_INFO!J36<4), IF(S36/P36*100<>0, IF(X36/P36*100>100,100,X36/P36*100), \"-\"),0)","v":65.237101155589713},{"$f":"COUNTRY_INFO!O36","v":71989.546710194714},null,null,{"$f":"MAX('T1'!L36,'T2'!J36)+MAX('T1'!M36,'T2'!K36)+MAX('T1'!N36,'T2'!L36)","v":74688},{"$f":"IF(COUNTRY_INFO!K36=1,IF(COUNTRY_INFO!F36*0.33>MAX('T1'!M36,'T2'!K36),MAX('T1'!M36,'T2'!K36),COUNTRY_INFO!F36*0.33),IF(COUNTRY_INFO!K36=2,IF(COUNTRY_INFO!F36*0.5>MAX('T1'!M36,'T2'!K36),MAX('T1'!M36,'T2'!K36),COUNTRY_INFO!F36*0.5),IF(COUNTRY_INFO!K36=3,IF(COUNTRY_INFO!F36>MAX('T1'!M36,'T2'!K36),MAX('T1'!M36,'T2'!K36),COUNTRY_INFO!F36),0)))","v":39325},{"$f":"IF(AND(COUNTRY_INFO!K36>0,COUNTRY_INFO!K36<4),IF(Z36>0,IF(COUNTRY_INFO!K36=1, AD36/(COUNTRY_INFO!F36*0.33)*100, IF(COUNTRY_INFO!K36=2, AD36/(COUNTRY_INFO!F36*0.5)*100, IF(COUNTRY_INFO!K36=3, AD36/COUNTRY_INFO!F36*100))),\"-\"),0)","v":100},{"$f":"IF(COUNTRY_INFO!K36=2,IF(COUNTRY_INFO!G36*0.2>MAX('T1'!N36,'T2'!L36),MAX('T1'!N36,'T2'!L36),COUNTRY_INFO!G36*0.2),IF(COUNTRY_INFO!K36=3,IF(COUNTRY_INFO!G36>MAX('T1'!N36,'T2'!L36),MAX('T1'!N36,'T2'!L36),COUNTRY_INFO!G36),0))","v":0},{"$f":"IF(AND(COUNTRY_INFO!K36>0,COUNTRY_INFO!K36<4),IF(Z36>0,IF(COUNTRY_INFO!K36=1, 0, IF(COUNTRY_INFO!K36=2, AF36/(COUNTRY_INFO!G36*0.2)*100, IF(COUNTRY_INFO!K36=3, AF36/COUNTRY_INFO!G36*100))),\"-\"),0)","v":0},39325,{"$f":"IF(AND(COUNTRY_INFO!K36>0,COUNTRY_INFO!K36<4), IF(AC36/Z36*100<>0, IF(AH36/Z36*100>100,100,AH36/Z36*100), \"-\"),0)","v":54.625986406483428},null,{"$f":"IF(AND(D36<>0, D36<>\"Unknown\",D36<>\"Stopped\",D36<>\"Not required\"),D36/COUNTRY_INFO!D36, 0)","v":0},{"$f":"IF(AND(J36<>0,J36<>\"Unknown\",J36<>\"Stopped\",J36<>\"Not required\"),J36/COUNTRY_INFO!D36, 0)","v":0},{"$f":"IF(AND(P36<>0,P36<>\"Unknown\",P36<>\"Not required\"),P36/(COUNTRY_INFO!E36+COUNTRY_INFO!F36), 0)","v":1},{"$f":"IF(AND(Z36<>0,Z36<>\"Unknown\",Z36<>\"Not required\"),IF(COUNTRY_INFO!K36=1,1,IF(COUNTRY_INFO!K36=2,0.5*COUNTRY_INFO!F36/(0.5*COUNTRY_INFO!F36+0.2*COUNTRY_INFO!G36),IF(COUNTRY_INFO!K36=3,COUNTRY_INFO!F36/(COUNTRY_INFO!F36+COUNTRY_INFO!G36)))),0)","v":0.54625986406483429},{"$f":"IF(AND(Z36<>0,Z36<>\"Unknown\",Z36<>\"Not required\"),IF(COUNTRY_INFO!K36=1,0,IF(COUNTRY_INFO!K36=2,0.2*COUNTRY_INFO!G36/(0.5*COUNTRY_INFO!F36+0.2*COUNTRY_INFO!G36),IF(COUNTRY_INFO!K36=3,COUNTRY_INFO!G36/(COUNTRY_INFO!F36+COUNTRY_INFO!G36)))),0)","v":0.45374013593516582},{"$f":"MAX(COUNTRY_INFO!D36*AK36*PROFILE!$G$7,COUNTRY_INFO!D36*AL36*PROFILE!$G$7)","v":0},{"$f":"MAX(COUNTRY_INFO!D36*AK36*PROFILE!$G$8,COUNTRY_INFO!D36*AL36*PROFILE!$G$8,COUNTRY_INFO!D36*AM36*PROFILE!$G$8)","v":35837.456155801294},{"$f":"MAX(COUNTRY_INFO!D36*AK36*PROFILE!$G$9,COUNTRY_INFO!D36*AL36*PROFILE!$G$9,COUNTRY_INFO!D36*AM36*PROFILE!$G$9,IF(AND(DISTRICT!Z36<>\"Unknown\",Z36<>\"Not required\"),COUNTRY_INFO!O36*DISTRICT!AN36,0))","v":62452.173760186386},{"$f":"MAX(COUNTRY_INFO!D36*AK36*PROFILE!$G$10,COUNTRY_INFO!D36*AL36*PROFILE!$G$10,IF(AND(DISTRICT!Z36<>\"Unknown\",Z36<>\"Not required\"),COUNTRY_INFO!O36*DISTRICT!AO36,0))","v":32664.546710194718},130954.17662618239,"Y",{"$f":"MAX('MDA2'!J36,'T1'!L36,'T2'!J36,T3_R1!K36,T3_R2!K36)","v":0},{"$f":"MAX('MDA1'!K36,'MDA2'!K36,'MDA3'!I36,'MDA3'!L36,'T1'!M36,'T2'!K36,T3_R1!L36,T3_R2!L36)","v":74688},{"$f":"MAX('MDA1'!L36,'MDA2'!L36,'MDA3'!J36,'MDA3'!M36,'T1'!N36,'T2'!L36,T3_R1!M36,T3_R2!M36)","v":0},74688,{"$f":"MAX('MDA2'!J36,T36)","v":0},{"$f":"MAX('MDA1'!K36,'MDA2'!K36,'MDA3'!I36,'MDA3'!L36,V36,AD36)","v":74688},{"$f":"MAX('MDA1'!L36,'MDA2'!L36,'MDA3'!J36,'MDA3'!M36,AF36)","v":0},74688,57.033690657459502]
[{"$f":"IF(COUNTRY_INFO!A37=0,\" \",COUNTRY_INFO!A37)","v":"Tanzania"},{"$f":"IF(COUNTRY_INFO!B37=0,\" \",COUNTRY_INFO!B37)","v":"Iringa"},{"$f":"IF(COUNTRY_INFO!C37=0,\" \",COUNTRY_INFO!C37)","v":"Iringa Municipal Council"},{"$f":"COUNTRY_INFO!L37","v":"Stopped"},null,null,{"$f":"MAX('MDA1'!M37,'MDA2'!M37)","v":0},{"$f":"IF(AND(COUNTRY_INFO!H37>0,COUNTRY_INFO!H37<4),IF(D37>MAX('MDA1'!M37,'MDA2'!M37),MAX('MDA1'!M37,'MDA2'!M37),D37),0)","v":0},{"$f":"IF(AND(COUNTRY_INFO!H37>0,COUNTRY_INFO!H37<4), IF(G37/D37*100<>0, IF(G37/D37*100>100,100,G37/D37*100), \"-\"),0)","v":0},{"$f":"COUNTRY_INFO!M37","v":0},null,null,{"$f":"MAX('MDA1'!M37,MAX('MDA3'!I37,'MDA3'!L37)+MAX('MDA3'!J37,'MDA3'!M37))","v":0},{"$f":"IF(AND(COUNTRY_INFO!I37>0,COUNTRY_INFO!I37<4),IF(J37>MAX('MDA1'!M37,MAX('MDA3'!I37,'MDA3'!L37)+MAX('MDA3'!J37,'MDA3'!M37)),MAX('MDA1'!M37,MAX('MDA3'!I37,'MDA3'!L37)+MAX('MDA3'!J37,'MDA3'!M37)),J37),0)","v":0},{"$f":"IF(AND(COUNTRY_INFO!I37>0,COUNTRY_INFO!I37<4), IF(M37/J37*100<>0, IF(M37/J37*100>100,100,M37/J37*100), \"-\"),0)","v":0},{"$f":"COUNTRY_INFO!N37","v":56882},null,null,{"$f":"SUM(MAX('MDA2'!J37, 'T1'!L37, MAX(T3_R1!K37, T3_R2!K37)), MAX('MDA1'!K37, 'MDA2'!K37, 'T1'!M37, MAX(T3_R1!L37, T3_R2!L37)), MAX('MDA1'!L37, 'MDA2'!L37, 'T1'!N37, MAX(T3_R1!M37, T3_R2!M37)))","v":34215},{"$f":"IF(AND(COUNTRY_INFO!J37>1,COUNTRY_INFO!J37<4),IF(COUNTRY_INFO!E37>MAX('MDA2'!J37,'T1'!L37,MAX(T3_R1!K37,T3_R2!K37)),MAX('MDA2'!J37,'T1'!L37,MAX(T3_R1!K37,T3_R2!K37)),COUNTRY_INFO!E37),0)","v":0},{"$f":"IF(AND(COUNTRY_INFO!J37>1,COUNTRY_INFO!J37<4), IF(T37/COUNTRY_INFO!E37*100<>0, IF(T37/COUNTRY_INFO!E37*100>100,100,T37/COUNTRY_INFO!E37*100), \"-\"),0)","v":"-"},{"$f":"IF(AND(COUNTRY_INFO!J37>1,COUNTRY_INFO!J37<4),IF(COUNTRY_INFO!F37>MAX('MDA1'!K37,'MDA2'!K37,'T1'!M37,MAX(T3_R1!L37,T3_R2!L37)),MAX('MDA1'!K37,'MDA2'!K37,'T1'!M37,MAX(T3_R1!L37,T3_R2!L37)),COUNTRY_INFO!F37),0)","v":34215},{"$f":"IF(AND(COUNTRY_INFO!J37>1,COUNTRY_INFO!J37<4), IF(V37/COUNTRY_INFO!F37*100<>0, IF(V37/COUNTRY_INFO!F37*100>100,100,V37/COUNTRY_INFO!F37*100), \"-\"),0)","v":96.2961920576398},34215,{"$f":"IF(AND(COUNTRY_INFO!J37>1,COUNTRY_INFO!J37<4), IF(S37/P37*100<>0, IF(X37/P37*100>100,100,X37/P37*100), \"-\"),0)","v":60.150838578109067},{"$f":"COUNTRY_INFO!O37","v":39491.209098206557},null,null,{"$f":"MAX('T1'!L37,'T2'!J37)+MAX('T1'!M37,'T2'!K37)+MAX('T1'!N37,'T2'!L37)","v":34215},{"$f":"IF(COUNTRY_INFO!K37=1,IF(COUNTRY_INFO!F37*0.33>MAX('T1'!M37,'T2'!K37),MAX('T1'!M37,'T2'!K37),COUNTRY_INFO!F37*0.33),IF(COUNTRY_INFO!K37=2,IF(COUNTRY_INFO!F37*0.5>MAX('T1'!M37,'T2'!K37),MAX('T1'!M37,'T2'!K37),COUNTRY_INFO!F37*0.5),IF(COUNTRY_INFO!K37=3,IF(COUNTRY_INFO!F37>MAX('T1'!M37,'T2'!K37),MAX('T1'!M37,'T2'!K37),COUNTRY_INFO!F37),0)))","v":17765.5},{"$f":"IF(AND(COUNTRY_INFO!K37>0,COUNTRY_INFO!K37<4),IF(Z37>0,IF(COUNTRY_INFO!K37=1, AD37/(COUNTRY_INFO!F37*0.33)*100, IF(COUNTRY_INFO!K37=2, AD37/(COUNTRY_INFO!F37*0.5)*100, IF(COUNTRY_INFO!K37=3, AD37/COUNTRY_INFO!F37*100))),\"-\"),0)","v":100},{"$f":"IF(COUNTRY_INFO!K37=2,IF(COUNTRY_INFO!G37*0.2>MAX('T1'!N37,'T2'!L37),MAX('T1'!N37,'T2'!L37),COUNTRY_INFO!G37*0.2),IF(COUNTRY_INFO!K37=3,IF(COUNTRY_INFO!G37>MAX('T1'!N37,'T2'!L37),MAX('T1'!N37,'T2'!L37),COUNTRY_INFO!G37),0))","v":0},{"$f":"IF(AND(COUNTRY_INFO!K37>0,COUNTRY_INFO!K37<4),IF(Z37>0,IF(COUNTRY_INFO!K37=1, 0, IF(COUNTRY_INFO!K37=2, AF37/(COUNTRY_INFO!G37*0.2)*100, IF(COUNTRY_INFO!K37=3, AF37/COUNTRY_INFO!G37*100))),\"-\"),0)","v":0},17765.5,{"$f":"IF(AND(COUNTRY_INFO!K37>0,COUNTRY_INFO!K37<4), IF(AC37/Z37*100<>0, IF(AH37/Z37*100>100,100,AH37/Z37*100), \"-\"),0)","v":44.985961194099772},null,{"$f":"IF(AND(D37<>0, D37<>\"Unknown\",D37<>\"Stopped\",D37<>\"Not required\"),D37/COUNTRY_INFO!D37, 0)","v":0},{"$f":"IF(AND(J37<>0,J37<>\"Unknown\",J37<>\"Stopped\",J37<>\"Not required\"),J37/COUNTRY_INFO!D37, 0)","v":0},{"$f":"IF(AND(P37<>0,P37<>\"Unknown\",P37<>\"Not required\"),P37/(COUNTRY_INFO!E37+COUNTRY_INFO!F37), 0)","v":1},{"$f":"IF(AND(Z37<>0,Z37<>\"Unknown\",Z37<>\"Not required\"),IF(COUNTRY_INFO!K37=1,1,IF(COUNTRY_INFO!K37=2,0.5*COUNTRY_INFO!F37/(0.5*COUNTRY_INFO!F37+0.2*COUNTRY_INFO!G37),IF(COUNTRY_INFO!K37=3,COUNTRY_INFO!F37/(COUNTRY_INFO!F37+COUNTRY_INFO!G37)))),0)","v":0.44985961194099772},{"$f":"IF(AND(Z37<>0,Z37<>\"Unknown\",Z37<>\"Not required\"),IF(COUNTRY_INFO!K37=1,0,IF(COUNTRY_INFO!K37=2,0.2*COUNTRY_INFO!G37/(0.5*COUNTRY_INFO!F37+0.2*COUNTRY_INFO!G37),IF(COUNTRY_INFO!K37=3,COUNTRY_INFO!G37/(COUNTRY_INFO!F37+COUNTRY_INFO!G37)))),0)","v":0.55014038805900223},{"$f":"MAX(COUNTRY_INFO!D37*AK37*PROFILE!$G$7,COUNTRY_INFO!D37*AL37*PROFILE!$G$7)","v":0},{"$f":"MAX(COUNTRY_INFO!D37*AK37*PROFILE!$G$8,COUNTRY_INFO!D37*AL37*PROFILE!$G$8,COUNTRY_INFO!D37*AM37*PROFILE!$G$8)","v":21350.860682746064},{"$f":"MAX(COUNTRY_INFO!D37*AK37*PROFILE!$G$9,COUNTRY_INFO!D37*AL37*PROFILE!$G$9,COUNTRY_INFO!D37*AM37*PROFILE!$G$9,IF(AND(DISTRICT!Z37<>\"Unknown\",Z37<>\"Not required\"),COUNTRY_INFO!O37*DISTRICT!AN37,0))","v":37207.095712694434},{"$f":"MAX(COUNTRY_INFO!D37*AK37*PROFILE!$G$10,COUNTRY_INFO!D37*AL37*PROFILE!$G$10,IF(AND(DISTRICT!Z37<>\"Unknown\",Z37<>\"Not required\"),COUNTRY_INFO!O37*DISTRICT!AO37,0))","v":21725.709098206553},80283.665493647059,"Y",{"$f":"MAX('MDA2'!J37,'T1'!L37,'T2'!J37,T3_R1!K37,T3_R2!K37)","v":0},{"$f":"MAX('MDA1'!K37,'MDA2'!K37,'MDA3'!I37,'MDA3'!L37,'T1'!M37,'T2'!K37,T3_R1!L37,T3_R2!L37)","v":34215},{"$f":"MAX('MDA1'!L37,'MDA2'!L37,'MDA3'!J37,'MDA3'!M37,'T1'!N37,'T2'!L37,T3_R1!M37,T3_R2!M37)","v":0},34215,{"$f":"MAX('MDA2'!J37,T37)","v":0},{"$f":"MAX('MDA1'!K37,'MDA2'!K37,'MDA3'!I37,'MDA3'!L37,V37,AD37)","v":34215},{"$f":"MAX('MDA1'!L37,'MDA2'!L37,'MDA3'!J37,'MDA3'!M37,AF37)","v":0},34215,42.617635592021486]
[{"$f":"IF(COUNTRY_INFO!A38=0,\" \",COUNTRY_INFO!A38)","v":"Tanzania"},{"$f":"IF(COUNTRY_INFO!B38=0,\" \",COUNTRY_INFO!B38)","v":"Iringa"},{"$f":"IF(COUNTRY_INFO!C38=0,\" \",COUNTRY_INFO!C38)","v":"Kilolo District Council"},{"$f":"COUNTRY_INFO!L38","v":"Stopped"},null,null,{"$f":"MAX('MDA1'!M38,'MDA2'!M38)","v":0},{"$f":"IF(AND(COUNTRY_INFO!H38>0,COUNTRY_INFO!H38<4),IF(D38>MAX('MDA1'!M38,'MDA2'!M38),MAX('MDA1'!M38,'MDA2'!M38),D38),0)","v":0},{"$f":"IF(AND(COUNTRY_INFO!H38>0,COUNTRY_INFO!H38<4), IF(G38/D38*100<>0, IF(G38/D38*100>100,100,G38/D38*100), \"-\"),0)","v":0},{"$f":"COUNTRY_INFO!M38","v":0},null,null,{"$f":"MAX('MDA1'!M38,MAX('MDA3'!I38,'MDA3'!L38)+MAX('MDA3'!J38,'MDA3'!M38))","v":0},{"$f":"IF(AND(COUNTRY_INFO!I38>0,COUNTRY_INFO!I38<4),IF(J38>MAX('MDA1'!M38,MAX('MDA3'!I38,'MDA3'!L38)+MAX('MDA3'!J38,'MDA3'!M38)),MAX('MDA1'!M38,MAX('MDA3'!I38,'MDA3'!L38)+MAX('MDA3'!J38,'MDA3'!M38)),J38),0)","v":0},{"$f":"IF(AND(COUNTRY_INFO!I38>0,COUNTRY_INFO!I38<4), IF(M38/J38*100<>0, IF(M38/J38*100>100,100,M38/J38*100), \"-\"),0)","v":0},{"$f":"COUNTRY_INFO!N38","v":77442},null,null,{"$f":"SUM(MAX('MDA2'!J38, 'T1'!L38, MAX(T3_R1!K38, T3_R2!K38)), MAX('MDA1'!K38, 'MDA2'!K38, 'T1'!M38, MAX(T3_R1!L38, T3_R2!L38)), MAX('MDA1'!L38, 'MDA2'!L38, 'T1'!N38, MAX(T3_R1!M38, T3_R2!M38)))","v":44850},{"$f":"IF(AND(COUNTRY_INFO!J38>1,COUNTRY_INFO!J38<4),IF(COUNTRY_INFO!E38>MAX('MDA2'!J38,'T1'!L38,MAX(T3_R1!K38,T3_R2!K38)),MAX('MDA2'!J38,'T1'!L38,MAX(T3_R1!K38,T3_R2!K38)),COUNTRY_INFO!E38),0)","v":0},{"$f":"IF(AND(COUNTRY_INFO!J38>1,COUNTRY_INFO!J38<4), IF(T38/COUNTRY_INFO!E38*100<>0, IF(T38/COUNTRY_INFO!E38*100>100,100,T38/COUNTRY_INFO!E38*100), \"-\"),0)","v":"-"},{"$f":"IF(AND(COUNTRY_INFO!J38>1,COUNTRY_INFO!J38<4),IF(COUNTRY_INFO!F38>MAX('MDA1'!K38,'MDA2'!K38,'T1'!M38,MAX(T3_R1!L38,T3_R2!L38)),MAX('MDA1'!K38,'MDA2'!K38,'T1'!M38,MAX(T3_R1!L38,T3_R2!L38)),COUNTRY_INFO!F38),0)","v":44850},{"$f":"IF(AND(COUNTRY_INFO!J38>1,COUNTRY_INFO!J38<4), IF(V38/COUNTRY_INFO!F38*100<>0, IF(V38/COUNTRY_INFO!F38*100>100,100,V38/COUNTRY_INFO!F38*100), \"-\"),0)","v":96.102337740255848},44850,{"$f":"IF(AND(COUNTRY_INFO!J38>1,COUNTRY_INFO!J38<4), IF(S38/P38*100<>0, IF(X38/P38*100>100,100,X38/P38*100), \"-\"),0)","v":57.914310064306193},{"$f":"COUNTRY_INFO!O38","v":55555.88727557427},null,null,{"$f":"MAX('T1'!L38,'T2'!J38)+MAX('T1'!M38,'T2'!K38)+MAX('T1'!N38,'T2'!L38)","v":44850},{"$f":"IF(COUNTRY_INFO!K38=1,IF(COUNTRY_INFO!F38*0.33>MAX('T1'!M38,'T2'!K38),MAX('T1'!M38,'T2'!K38),COUNTRY_INFO!F38*0.33),IF(COUNTRY_INFO!K38=2,IF(COUNTRY_INFO!F38*0.5>MAX('T1'!M38,'T2'!K38),MAX('T1'!M38,'T2'!K38),COUNTRY_INFO!F38*0.5),IF(COUNTRY_INFO!K38=3,IF(COUNTRY_INFO!F38>MAX('T1'!M38,'T2'!K38),MAX('T1'!M38,'T2'!K38),COUNTRY_INFO!F38),0)))","v":23334.5},{"$f":"IF(AND(COUNTRY_INFO!K38>0,COUNTRY_INFO!K38<4),IF(Z38>0,IF(COUNTRY_INFO!K38=1, AD38/(COUNTRY_INFO!F38*0.33)*100, IF(COUNTRY_INFO!K38=2, AD38/(COUNTRY_INFO!F38*0.5)*100, IF(COUNTRY_INFO!K38=3, AD38/COUNTRY_INFO!F38*100))),\"-\"),0)","v":100},{"$f":"IF(COUNTRY_INFO!K38=2,IF(COUNTRY_INFO!G38*0.2>MAX('T1'!N38,'T2'!L38),MAX('T1'!N38,'T2'!L38),COUNTRY_INFO!G38*0.2),IF(COUNTRY_INFO!K38=3,IF(COUNTRY_INFO!G38>MAX('T1'!N38,'T2'!L38),MAX('T1'!N38,'T2'!L38),COUNTRY_INFO!G38),0))","v":0},{"$f":"IF(AND(COUNTRY_INFO!K38>0,COUNTRY_INFO!K38<4),IF(Z38>0,IF(COUNTRY_INFO!K38=1, 0, IF(COUNTRY_INFO!K38=2, AF38/(COUNTRY_INFO!G38*0.2)*100, IF(COUNTRY_INFO!K38=3, AF38/COUNTRY_INFO!G38*100))),\"-\"),0)","v":0},23334.5,{"$f":"IF(AND(COUNTRY_INFO!K38>0,COUNTRY_INFO!K38<4), IF(AC38/Z38*100<>0, IF(AH38/Z38*100>100,100,AH38/Z38*100), \"-\"),0)","v":42.0018492086243},null,{"$f":"IF(AND(D38<>0, D38<>\"Unknown\",D38<>\"Stopped\",D38<>\"Not required\"),D38/COUNTRY_INFO!D38, 0)","v":0},{"$f":"IF(AND(J38<>0,J38<>\"Unknown\",J38<>\"Stopped\",J38<>\"Not required\"),J38/COUNTRY_INFO!D38, 0)","v":0},{"$f":"IF(AND(P38<>0,P38<>\"Unknown\",P38<>\"Not required\"),P38/(COUNTRY_INFO!E38+COUNTRY_INFO!F38), 0)","v":1},{"$f":"IF(AND(Z38<>0,Z38<>\"Unknown\",Z38<>\"Not required\"),IF(COUNTRY_INFO!K38=1,1,IF(COUNTRY_INFO!K38=2,0.5*COUNTRY_INFO!F38/(0.5*COUNTRY_INFO!F38+0.2*COUNTRY_INFO!G38),IF(COUNTRY_INFO!K38=3,COUNTRY_INFO!F38/(COUNTRY_INFO!F38+COUNTRY_INFO!G38)))),0)","v":0.42001849208624298},{"$f":"IF(AND(Z38<>0,Z38<>\"Unknown\",Z38<>\"Not required\"),IF(COUNTRY_INFO!K38=1,0,IF(COUNTRY_INFO!K38=2,0.2*COUNTRY_INFO!G38/(0.5*COUNTRY_INFO!F38+0.2*COUNTRY_INFO!G38),IF(COUNTRY_INFO!K38=3,COUNTRY_INFO!G38/(COUNTRY_INFO!F38+COUNTRY_INFO!G38)))),0)","v":0.57998150791375702},{"$f":"MAX(COUNTRY_INFO!D38*AK38*PROFILE!$G$7,COUNTRY_INFO!D38*AL38*PROFILE!$G$7)","v":0},{"$f":"MAX(COUNTRY_INFO!D38*AK38*PROFILE!$G$8,COUNTRY_INFO!D38*AL38*PROFILE!$G$8,COUNTRY_INFO!D38*AM38*PROFILE!$G$8)","v":30772.813245891528},{"$f":"MAX(COUNTRY_INFO!D38*AK38*PROFILE!$G$9,COUNTRY_INFO!D38*AL38*PROFILE!$G$9,COUNTRY_INFO!D38*AM38*PROFILE!$G$9,IF(AND(DISTRICT!Z38<>\"Unknown\",Z38<>\"Not required\"),COUNTRY_INFO!O38*DISTRICT!AN38,0))","v":53626.269441869445},{"$f":"MAX(COUNTRY_INFO!D38*AK38*PROFILE!$G$10,COUNTRY_INFO!D38*AL38*PROFILE!$G$10,IF(AND(DISTRICT!Z38<>\"Unknown\",Z38<>\"Not required\"),COUNTRY_INFO!O38*DISTRICT!AO38,0))","v":32221.38727557427},116620.46996333523,"Y",{"$f":"MAX('MDA2'!J38,'T1'!L38,'T2'!J38,T3_R1!K38,T3_R2!K38)","v":0},{"$f":"MAX('MDA1'!K38,'MDA2'!K38,'MDA3'!I38,'MDA3'!L38,'T1'!M38,'T2'!K38,T3_R1!L38,T3_R2!L38)","v":44850},{"$f":"MAX('MDA1'!L38,'MDA2'!L38,'MDA3'!J38,'MDA3'!M38,'T1'!N38,'T2'!L38,T3_R1!M38,T3_R2!M38)","v":0},44850,{"$f":"MAX('MDA2'!J38,T38)","v":0},{"$f":"MAX('MDA1'!K38,'MDA2'!K38,'MDA3'!I38,'MDA3'!L38,V38,AD38)","v":44850},{"$f":"MAX('MDA1'!L38,'MDA2'!L38,'MDA3'!J38,'MDA3'!M38,AF38)","v":0},44850,38.458085457982264]
[{"$f":"IF(COUNTRY_INFO!A39=0,\" \",COUNTRY_INFO!A39)","v":"Tanzania"},{"$f":"IF(COUNTRY_INFO!B39=0,\" \",COUNTRY_INFO!B39)","v":"Iringa"},{"$f":"IF(COUNTRY_INFO!C39=0,\" \",COUNTRY_INFO!C39)","v":"Mafinga Town Council"},{"$f":"COUNTRY_INFO!L39","v":"Stopped"},null,null,{"$f":"MAX('MDA1'!M39,'MDA2'!M39)","v":0},{"$f":"IF(AND(COUNTRY_INFO!H39>0,COUNTRY_INFO!H39<4),IF(D39>MAX('MDA1'!M39,'MDA2'!M39),MAX('MDA1'!M39,'MDA2'!M39),D39),0)","v":0},{"$f":"IF(AND(COUNTRY_INFO!H39>0,COUNTRY_INFO!H39<4), IF(G39/D39*100<>0, IF(G39/D39*100>100,100,G39/D39*100), \"-\"),0)","v":0},{"$f":"COUNTRY_INFO!M39","v":0},null,null,{"$f":"MAX('MDA1'!M39,MAX('MDA3'!I39,'MDA3'!L39)+MAX('MDA3'!J39,'MDA3'!M39))","v":0},{"$f":"IF(AND(COUNTRY_INFO!I39>0,COUNTRY_INFO!I39<4),IF(J39>MAX('MDA1'!M39,MAX('MDA3'!I39,'MDA3'!L39)+MAX('MDA3'!J39,'MDA3'!M39)),MAX('MDA1'!M39,MAX('MDA3'!I39,'MDA3'!L39)+MAX('MDA3'!J39,'MDA3'!M39)),J39),0)","v":0},{"$f":"IF(AND(COUNTRY_INFO!I39>0,COUNTRY_INFO!I39<4), IF(M39/J39*100<>0, IF(M39/J39*100>100,100,M39/J39*100), \"-\"),0)","v":0},{"$f":"COUNTRY_INFO!N39","v":27408},null,null,{"$f":"SUM(MAX('MDA2'!J39, 'T1'!L39, MAX(T3_R1!K39, T3_R2!K39)), MAX('MDA1'!K39, 'MDA2'!K39, 'T1'!M39, MAX(T3_R1!L39, T3_R2!L39)), MAX('MDA1'!L39, 'MDA2'!L39, 'T1'!N39, MAX(T3_R1!M39, T3_R2!M39)))","v":16660},{"$f":"IF(AND(COUNTRY_INFO!J39>1,COUNTRY_INFO!J39<4),IF(COUNTRY_INFO!E39>MAX('MDA2'!J39,'T1'!L39,MAX(T3_R1!K39,T3_R2!K39)),MAX('MDA2'!J39,'T1'!L39,MAX(T3_R1!K39,T3_R2!K39)),COUNTRY_INFO!E39),0)","v":0},{"$f":"IF(AND(COUNTRY_INFO!J39>1,COUNTRY_INFO!J39<4), IF(T39/COUNTRY_INFO!E39*100<>0, IF(T39/COUNTRY_INFO!E39*100>100,100,T39/COUNTRY_INFO!E39*100), \"-\"),0)","v":"-"},{"$f":"IF(AND(COUNTRY_INFO!J39>1,COUNTRY_INFO!J39<4),IF(COUNTRY_INFO!F39>MAX('MDA1'!K39,'MDA2'!K39,'T1'!M39,MAX(T3_R1!L39,T3_R2!L39)),MAX('MDA1'!K39,'MDA2'!K39,'T1'!M39,MAX(T3_R1!L39,T3_R2!L39)),COUNTRY_INFO!F39),0)","v":16660},{"$f":"IF(AND(COUNTRY_INFO!J39>1,COUNTRY_INFO!J39<4), IF(V39/COUNTRY_INFO!F39*100<>0, IF(V39/COUNTRY_INFO!F39*100>100,100,V39/COUNTRY_INFO!F39*100), \"-\"),0)","v":96.295011849026068},16660,{"$f":"IF(AND(COUNTRY_INFO!J39>1,COUNTRY_INFO!J39<4), IF(S39/P39*100<>0, IF(X39/P39*100>100,100,X39/P39*100), \"-\"),0)","v":60.785172212492697},{"$f":"COUNTRY_INFO!O39","v":18838.247871879044},null,null,{"$f":"MAX('T1'!L39,'T2'!J39)+MAX('T1'!M39,'T2'!K39)+MAX('T1'!N39,'T2'!L39)","v":16660},{"$f":"IF(COUNTRY_INFO!K39=1,IF(COUNTRY_INFO!F39*0.33>MAX('T1'!M39,'T2'!K39),MAX('T1'!M39,'T2'!K39),COUNTRY_INFO!F39*0.33),IF(COUNTRY_INFO!K39=2,IF(COUNTRY_INFO!F39*0.5>MAX('T1'!M39,'T2'!K39),MAX('T1'!M39,'T2'!K39),COUNTRY_INFO!F39*0.5),IF(COUNTRY_INFO!K39=3,IF(COUNTRY_INFO!F39>MAX('T1'!M39,'T2'!K39),MAX('T1'!M39,'T2'!K39),COUNTRY_INFO!F39),0)))","v":8650.5},{"$f":"IF(AND(COUNTRY_INFO!K39>0,COUNTRY_INFO!K39<4),IF(Z39>0,IF(COUNTRY_INFO!K39=1, AD39/(COUNTRY_INFO!F39*0.33)*100, IF(COUNTRY_INFO!K39=2, AD39/(COUNTRY_INFO!F39*0.5)*100, IF(COUNTRY_INFO!K39=3, AD39/COUNTRY_INFO!F39*100))),\"-\"),0)","v":100},{"$f":"IF(COUNTRY_INFO!K39=2,IF(COUNTRY_INFO!G39*0.2>MAX('T1'!N39,'T2'!L39),MAX('T1'!N39,'T2'!L39),COUNTRY_INFO!G39*0.2),IF(COUNTRY_INFO!K39=3,IF(COUNTRY_INFO!G39>MAX('T1'!N39,'T2'!L39),MAX('T1'!N39,'T2'!L39),COUNTRY_INFO!G39),0))","v":0},{"$f":"IF(AND(COUNTRY_INFO!K39>0,COUNTRY_INFO!K39<4),IF(Z39>0,IF(COUNTRY_INFO!K39=1, 0, IF(COUNTRY_INFO!K39=2, AF39/(COUNTRY_INFO!G39*0.2)*100, IF(COUNTRY_INFO!K39=3, AF39/COUNTRY_INFO!G39*100))),\"-\"),0)","v":0},8650.5,{"$f":"IF(AND(COUNTRY_INFO!K39>0,COUNTRY_INFO!K39<4), IF(AC39/Z39*100<>0, IF(AH39/Z39*100>100,100,AH39/Z39*100), \"-\"),0)","v":45.919875663771833},null,{"$f":"IF(AND(D39<>0, D39<>\"Unknown\",D39<>\"Stopped\",D39<>\"Not required\"),D39/COUNTRY_INFO!D39, 0)","v":0},{"$f":"IF(AND(J39<>0,J39<>\"Unknown\",J39<>\"Stopped\",J39<>\"Not required\"),J39/COUNTRY_INFO!D39, 0)","v":0},{"$f":"IF(AND(P39<>0,P39<>\"Unknown\",P39<>\"Not required\"),P39/(COUNTRY_INFO!E39+COUNTRY_INFO!F39), 0)","v":1},{"$f":"IF(AND(Z39<>0,Z39<>\"Unknown\",Z39<>\"Not required\"),IF(COUNTRY_INFO!K39=1,1,IF(COUNTRY_INFO!K39=2,0.5*COUNTRY_INFO!F39/(0.5*COUNTRY_INFO!F39+0.2*COUNTRY_INFO!G39),IF(COUNTRY_INFO!K39=3,COUNTRY_INFO!F39/(COUNTRY_INFO!F39+COUNTRY_INFO!G39)))),0)","v":0.45919875663771831},{"$f":"IF(AND(Z39<>0,Z39<>\"Unknown\",Z39<>\"Not required\"),IF(COUNTRY_INFO!K39=1,0,IF(COUNTRY_INFO!K39=2,0.2*COUNTRY_INFO!G39/(0.5*COUNTRY_INFO!F39+0.2*COUNTRY_INFO!G39),IF(COUNTRY_INFO!K39=3,COUNTRY_INFO!G39/(COUNTRY_INFO!F39+COUNTRY_INFO!G39)))),0)","v":0.54080124336228175},{"$f":"MAX(COUNTRY_INFO!D39*AK39*PROFILE!$G$7,COUNTRY_INFO!D39*AL39*PROFILE!$G$7)","v":0},{"$f":"MAX(COUNTRY_INFO!D39*AK39*PROFILE!$G$8,COUNTRY_INFO!D39*AL39*PROFILE!$G$8,COUNTRY_INFO!D39*AM39*PROFILE!$G$8)","v":10106.729526188978},{"$f":"MAX(COUNTRY_INFO!D39*AK39*PROFILE!$G$9,COUNTRY_INFO!D39*AL39*PROFILE!$G$9,COUNTRY_INFO!D39*AM39*PROFILE!$G$9,IF(AND(DISTRICT!Z39<>\"Unknown\",Z39<>\"Not required\"),COUNTRY_INFO!O39*DISTRICT!AN39,0))","v":17612.500892159027},{"$f":"MAX(COUNTRY_INFO!D39*AK39*PROFILE!$G$10,COUNTRY_INFO!D39*AL39*PROFILE!$G$10,IF(AND(DISTRICT!Z39<>\"Unknown\",Z39<>\"Not required\"),COUNTRY_INFO!O39*DISTRICT!AO39,0))","v":10187.747871879046},37906.978290227053,"Y",{"$f":"MAX('MDA2'!J39,'T1'!L39,'T2'!J39,T3_R1!K39,T3_R2!K39)","v":0},{"$f":"MAX('MDA1'!K39,'MDA2'!K39,'MDA3'!I39,'MDA3'!L39,'T1'!M39,'T2'!K39,T3_R1!L39,T3_R2!L39)","v":16660},{"$f":"MAX('MDA1'!L39,'MDA2'!L39,'MDA3'!J39,'MDA3'!M39,'T1'!N39,'T2'!L39,T3_R1!M39,T3_R2!M39)","v":0},16660,{"$f":"MAX('MDA2'!J39,T39)","v":0},{"$f":"MAX('MDA1'!K39,'MDA2'!K39,'MDA3'!I39,'MDA3'!L39,V39,AD39)","v":16660},{"$f":"MAX('MDA1'!L39,'MDA2'!L39,'MDA3'!J39,'MDA3'!M39,AF39)","v":0},16660,43.949691459039826]
[{"$f":"IF(COUNTRY_INFO!A40=0,\" \",COUNTRY_INFO!A40)","v":"Tanzania"},{"$f":"IF(COUNTRY_INFO!B40=0,\" \",COUNTRY_INFO!B40)","v":"Iringa"},{"$f":"IF(COUNTRY_INFO!C40=0,\" \",COUNTRY_INFO!C40)","v":"Mufindi District Council"},{"$f":"COUNTRY_INFO!L40","v":"Stopped"},null,null,{"$f":"MAX('MDA1'!M40,'MDA2'!M40)","v":0},{"$f":"IF(AND(COUNTRY_INFO!H40>0,COUNTRY_INFO!H40<4),IF(D40>MAX('MDA1'!M40,'MDA2'!M40),MAX('MDA1'!M40,'MDA2'!M40),D40),0)","v":0},{"$f":"IF(AND(COUNTRY_INFO!H40>0,COUNTRY_INFO!H40<4), IF(G40/D40*100<>0, IF(G40/D40*100>100,100,G40/D40*100), \"-\"),0)","v":0},{"$f":"COUNTRY_INFO!M40","v":285004},null,null,{"$f":"MAX('MDA1'!M40,MAX('MDA3'!I40,'MDA3'!L40)+MAX('MDA3'!J40,'MDA3'!M40))","v":0},{"$f":"IF(AND(COUNTRY_INFO!I40>0,COUNTRY_INFO!I40<4),IF(J40>MAX('MDA1'!M40,MAX('MDA3'!I40,'MDA3'!L40)+MAX('MDA3'!J40,'MDA3'!M40)),MAX('MDA1'!M40,MAX('MDA3'!I40,'MDA3'!L40)+MAX('MDA3'!J40,'MDA3'!M40)),J40),0)","v":0},{"$f":"IF(AND(COUNTRY_INFO!I40>0,COUNTRY_INFO!I40<4), IF(M40/J40*100<>0, IF(M40/J40*100>100,100,M40/J40*100), \"-\"),0)","v":"-"},{"$f":"COUNTRY_INFO!N40","v":106488},null,null,{"$f":"SUM(MAX('MDA2'!J40, 'T1'!L40, MAX(T3_R1!K40, T3_R2!K40)), MAX('MDA1'!K40, 'MDA2'!K40, 'T1'!M40, MAX(T3_R1!L40, T3_R2!L40)), MAX('MDA1'!L40, 'MDA2'!L40, 'T1'!N40, MAX(T3_R1!M40, T3_R2!M40)))","v":67776},{"$f":"IF(AND(COUNTRY_INFO!J40>1,COUNTRY_INFO!J40<4),IF(COUNTRY_INFO!E40>MAX('MDA2'!J40,'T1'!L40,MAX(T3_R1!K40,T3_R2!K40)),MAX('MDA2'!J40,'T1'!L40,MAX(T3_R1!K40,T3_R2!K40)),COUNTRY_INFO!E40),0)","v":0},{"$f":"IF(AND(COUNTRY_INFO!J40>1,COUNTRY_INFO!J40<4), IF(T40/COUNTRY_INFO!E40*100<>0, IF(T40/COUNTRY_INFO!E40*100>100,100,T40/COUNTRY_INFO!E40*100), \"-\"),0)","v":"-"},{"$f":"IF(AND(COUNTRY_INFO!J40>1,COUNTRY_INFO!J40<4),IF(COUNTRY_INFO!F40>MAX('MDA1'!K40,'MDA2'!K40,'T1'!M40,MAX(T3_R1!L40,T3_R2!L40)),MAX('MDA1'!K40,'MDA2'!K40,'T1'!M40,MAX(T3_R1!L40,T3_R2!L40)),COUNTRY_INFO!F40),0)","v":67776},{"$f":"IF(AND(COUNTRY_INFO!J40>1,COUNTRY_INFO!J40<4), IF(V40/COUNTRY_INFO!F40*100<>0, IF(V40/COUNTRY_INFO!F40*100>100,100,V40/COUNTRY_INFO!F40*100), \"-\"),0)","v":97.208915406901696},67776,{"$f":"IF(AND(COUNTRY_INFO!J40>1,COUNTRY_INFO!J40<4), IF(S40/P40*100<>0, IF(X40/P40*100>100,100,X40/P40*100), \"-\"),0)","v":63.646608068514766},{"$f":"COUNTRY_INFO!O40","v":70564.200000000012},null,null,{"$f":"MAX('T1'!L40,'T2'!J40)+MAX('T1'!M40,'T2'!K40)+MAX('T1'!N40,'T2'!L40)","v":67776},{"$f":"IF(COUNTRY_INFO!K40=1,IF(COUNTRY_INFO!F40*0.33>MAX('T1'!M40,'T2'!K40),MAX('T1'!M40,'T2'!K40),COUNTRY_INFO!F40*0.33),IF(COUNTRY_INFO!K40=2,IF(COUNTRY_INFO!F40*0.5>MAX('T1'!M40,'T2'!K40),MAX('T1'!M40,'T2'!K40),COUNTRY_INFO!F40*0.5),IF(COUNTRY_INFO!K40=3,IF(COUNTRY_INFO!F40>MAX('T1'!M40,'T2'!K40),MAX('T1'!M40,'T2'!K40),COUNTRY_INFO!F40),0)))","v":34861},{"$f":"IF(AND(COUNTRY_INFO!K40>0,COUNTRY_INFO!K40<4),IF(Z40>0,IF(COUNTRY_INFO!K40=1, AD40/(COUNTRY_INFO!F40*0.33)*100, IF(COUNTRY_INFO!K40=2, AD40/(COUNTRY_INFO!F40*0.5)*100, IF(COUNTRY_INFO!K40=3, AD40/COUNTRY_INFO!F40*100))),\"-\"),0)","v":100},{"$f":"IF(COUNTRY_INFO!K40=2,IF(COUNTRY_INFO!G40*0.2>MAX('T1'!N40,'T2'!L40),MAX('T1'!N40,'T2'!L40),COUNTRY_INFO!G40*0.2),IF(COUNTRY_INFO!K40=3,IF(COUNTRY_INFO!G40>MAX('T1'!N40,'T2'!L40),MAX('T1'!N40,'T2'!L40),COUNTRY_INFO!G40),0))","v":0},{"$f":"IF(AND(COUNTRY_INFO!K40>0,COUNTRY_INFO!K40<4),IF(Z40>0,IF(COUNTRY_INFO!K40=1, 0, IF(COUNTRY_INFO!K40=2, AF40/(COUNTRY_INFO!G40*0.2)*100, IF(COUNTRY_INFO!K40=3, AF40/COUNTRY_INFO!G40*100))),\"-\"),0)","v":0},34861,{"$f":"IF(AND(COUNTRY_INFO!K40>0,COUNTRY_INFO!K40<4), IF(AC40/Z40*100<>0, IF(AH40/Z40*100>100,100,AH40/Z40*100), \"-\"),0)","v":49.403238469365476},null,{"$f":"IF(AND(D40<>0, D40<>\"Unknown\",D40<>\"Stopped\",D40<>\"Not required\"),D40/COUNTRY_INFO!D40, 0)","v":0},{"$f":"IF(AND(J40<>0,J40<>\"Unknown\",J40<>\"Stopped\",J40<>\"Not required\"),J40/COUNTRY_INFO!D40, 0)","v":1},{"$f":"IF(AND(P40<>0,P40<>\"Unknown\",P40<>\"Not required\"),P40/(COUNTRY_INFO!E40+COUNTRY_INFO!F40), 0)","v":1},{"$f":"IF(AND(Z40<>0,Z40<>\"Unknown\",Z40<>\"Not required\"),IF(COUNTRY_INFO!K40=1,1,IF(COUNTRY_INFO!K40=2,0.5*COUNTRY_INFO!F40/(0.5*COUNTRY_INFO!F40+0.2*COUNTRY_INFO!G40),IF(COUNTRY_INFO!K40=3,COUNTRY_INFO!F40/(COUNTRY_INFO!F40+COUNTRY_INFO!G40)))),0)","v":0.49403238469365479},{"$f":"IF(AND(Z40<>0,Z40<>\"Unknown\",Z40<>\"Not required\"),IF(COUNTRY_INFO!K40=1,0,IF(COUNTRY_INFO!K40=2,0.2*COUNTRY_INFO!G40/(0.5*COUNTRY_INFO!F40+0.2*COUNTRY_INFO!G40),IF(COUNTRY_INFO!K40=3,COUNTRY_INFO!G40/(COUNTRY_INFO!F40+COUNTRY_INFO!G40)))),0)","v":0.50596761530634515},{"$f":"MAX(COUNTRY_INFO!D40*AK40*PROFILE!$G$7,COUNTRY_INFO!D40*AL40*PROFILE!$G$7)","v":5.2261069402327392E-3},{"$f":"MAX(COUNTRY_INFO!D40*AK40*PROFILE!$G$8,COUNTRY_INFO!D40*AL40*PROFILE!$G$8,COUNTRY_INFO!D40*AM40*PROFILE!$G$8)","v":36765.516541391888},{"$f":"MAX(COUNTRY_INFO!D40*AK40*PROFILE!$G$9,COUNTRY_INFO!D40*AL40*PROFILE!$G$9,COUNTRY_INFO!D40*AM40*PROFILE!$G$9,IF(AND(DISTRICT!Z40<>\"Unknown\",Z40<>\"Not required\"),COUNTRY_INFO!O40*DISTRICT!AN40,0))","v":64069.458988492603},{"$f":"MAX(COUNTRY_INFO!D40*AK40*PROFILE!$G$10,COUNTRY_INFO!D40*AL40*PROFILE!$G$10,IF(AND(DISTRICT!Z40<>\"Unknown\",Z40<>\"Not required\"),COUNTRY_INFO!O40*DISTRICT!AO40,0))","v":184169.01924400855},285004,0,{"$f":"MAX('MDA2'!J40,'T1'!L40,'T2'!J40,T3_R1!K40,T3_R2!K40)","v":0},{"$f":"MAX('MDA1'!K40,'MDA2'!K40,'MDA3'!I40,'MDA3'!L40,'T1'!M40,'T2'!K40,T3_R1!L40,T3_R2!L40)","v":67776},{"$f":"MAX('MDA1'!L40,'MDA2'!L40,'MDA3'!J40,'MDA3'!M40,'T1'!N40,'T2'!L40,T3_R1!M40,T3_R2!M40)","v":0},67776,{"$f":"MAX('MDA2'!J40,T40)","v":0},{"$f":"MAX('MDA1'!K40,'MDA2'!K40,'MDA3'!I40,'MDA3'!L40,V40,AD40)","v":67776},{"$f":"MAX('MDA1'!L40,'MDA2'!L40,'MDA3'!J40,'MDA3'!M40,AF40)","v":0},67776,23.780718867103619]
[{"$f":"IF(COUNTRY_INFO!A41=0,\" \",COUNTRY_INFO!A41)","v":"Tanzania"},{"$f":"IF(COUNTRY_INFO!B41=0,\" \",COUNTRY_INFO!B41)","v":"Kagera"},{"$f":"IF(COUNTRY_INFO!C41=0,\" \",COUNTRY_INFO!C41)","v":"Biharamulo District Council"},{"$f":"COUNTRY_INFO!L41","v":0},null,null,{"$f":"MAX('MDA1'!M41,'MDA2'!M41)","v":0},{"$f":"IF(AND(COUNTRY_INFO!H41>0,COUNTRY_INFO!H41<4),IF(D41>MAX('MDA1'!M41,'MDA2'!M41),MAX('MDA1'!M41,'MDA2'!M41),D41),0)","v":0},{"$f":"IF(AND(COUNTRY_INFO!H41>0,COUNTRY_INFO!H41<4), IF(G41/D41*100<>0, IF(G41/D41*100>100,100,G41/D41*100), \"-\"),0)","v":0},{"$f":"COUNTRY_INFO!M41","v":0},null,null,{"$f":"MAX('MDA1'!M41,MAX('MDA3'!I41,'MDA3'!L41)+MAX('MDA3'!J41,'MDA3'!M41))","v":0},{"$f":"IF(AND(COUNTRY_INFO!I41>0,COUNTRY_INFO!I41<4),IF(J41>MAX('MDA1'!M41,MAX('MDA3'!I41,'MDA3'!L41)+MAX('MDA3'!J41,'MDA3'!M41)),MAX('MDA1'!M41,MAX('MDA3'!I41,'MDA3'!L41)+MAX('MDA3'!J41,'MDA3'!M41)),J41),0)","v":0},{"$f":"IF(AND(COUNTRY_INFO!I41>0,COUNTRY_INFO!I41<4), IF(M41/J41*100<>0, IF(M41/J41*100>100,100,M41/J41*100), \"-\"),0)","v":0},{"$f":"COUNTRY_INFO!N41","v":146297},null,null,{"$f":"SUM(MAX('MDA2'!J41, 'T1'!L41, MAX(T3_R1!K41, T3_R2!K41)), MAX('MDA1'!K41, 'MDA2'!K41, 'T1'!M41, MAX(T3_R1!L41, T3_R2!L41)), MAX('MDA1'!L41, 'MDA2'!L41, 'T1'!N41, MAX(T3_R1!M41, T3_R2!M41)))","v":0},{"$f":"IF(AND(COUNTRY_INFO!J41>1,COUNTRY_INFO!J41<4),IF(COUNTRY_INFO!E41>MAX('MDA2'!J41,'T1'!L41,MAX(T3_R1!K41,T3_R2!K41)),MAX('MDA2'!J41,'T1'!L41,MAX(T3_R1!K41,T3_R2!K41)),COUNTRY_INFO!E41),0)","v":0},{"$f":"IF(AND(COUNTRY_INFO!J41>1,COUNTRY_INFO!J41<4), IF(T41/COUNTRY_INFO!E41*100<>0, IF(T41/COUNTRY_INFO!E41*100>100,100,T41/COUNTRY_INFO!E41*100), \"-\"),0)","v":"-"},{"$f":"IF(AND(COUNTRY_INFO!J41>1,COUNTRY_INFO!J41<4),IF(COUNTRY_INFO!F41>MAX('MDA1'!K41,'MDA2'!K41,'T1'!M41,MAX(T3_R1!L41,T3_R2!L41)),MAX('MDA1'!K41,'MDA2'!K41,'T1'!M41,MAX(T3_R1!L41,T3_R2!L41)),COUNTRY_INFO!F41),0)","v":0},{"$f":"IF(AND(COUNTRY_INFO!J41>1,COUNTRY_INFO!J41<4), IF(V41/COUNTRY_INFO!F41*100<>0, IF(V41/COUNTRY_INFO!F41*100>100,100,V41/COUNTRY_INFO!F41*100), \"-\"),0)","v":"-"},0,{"$f":"IF(AND(COUNTRY_INFO!J41>1,COUNTRY_INFO!J41<4), IF(S41/P41*100<>0, IF(X41/P41*100>100,100,X41/P41*100), \"-\"),0)","v":"-"},{"$f":"COUNTRY_INFO!O41","v":100320.72164576419},null,null,{"$f":"MAX('T1'!L41,'T2'!J41)+MAX('T1'!M41,'T2'!K41)+MAX('T1'!N41,'T2'!L41)","v":0},{"$f":"IF(COUNTRY_INFO!K41=1,IF(COUNTRY_INFO!F41*0.33>MAX('T1'!M41,'T2'!K41),MAX('T1'!M41,'T2'!K41),COUNTRY_INFO!F41*0.33),IF(COUNTRY_INFO!K41=2,IF(COUNTRY_INFO!F41*0.5>MAX('T1'!M41,'T2'!K41),MAX('T1'!M41,'T2'!K41),COUNTRY_INFO!F41*0.5),IF(COUNTRY_INFO!K41=3,IF(COUNTRY_INFO!F41>MAX('T1'!M41,'T2'!K41),MAX('T1'!M41,'T2'!K41),COUNTRY_INFO!F41),0)))","v":0},{"$f":"IF(AND(COUNTRY_INFO!K41>0,COUNTRY_INFO!K41<4),IF(Z41>0,IF(COUNTRY_INFO!K41=1, AD41/(COUNTRY_INFO!F41*0.33)*100, IF(COUNTRY_INFO!K41=2, AD41/(COUNTRY_INFO!F41*0.5)*100, IF(COUNTRY_INFO!K41=3, AD41/COUNTRY_INFO!F41*100))),\"-\"),0)","v":0},{"$f":"IF(COUNTRY_INFO!K41=2,IF(COUNTRY_INFO!G41*0.2>MAX('T1'!N41,'T2'!L41),MAX('T1'!N41,'T2'!L41),COUNTRY_INFO!G41*0.2),IF(COUNTRY_INFO!K41=3,IF(COUNTRY_INFO!G41>MAX('T1'!N41,'T2'!L41),MAX('T1'!N41,'T2'!L41),COUNTRY_INFO!G41),0))","v":0},{"$f":"IF(AND(COUNTRY_INFO!K41>0,COUNTRY_INFO!K41<4),IF(Z41>0,IF(COUNTRY_INFO!K41=1, 0, IF(COUNTRY_INFO!K41=2, AF41/(COUNTRY_INFO!G41*0.2)*100, IF(COUNTRY_INFO!K41=3, AF41/COUNTRY_INFO!G41*100))),\"-\"),0)","v":0},0,{"$f":"IF(AND(COUNTRY_INFO!K41>0,COUNTRY_INFO!K41<4), IF(AC41/Z41*100<>0, IF(AH41/Z41*100>100,100,AH41/Z41*100), \"-\"),0)","v":"-"},null,{"$f":"IF(AND(D41<>0, D41<>\"Unknown\",D41<>\"Stopped\",D41<>\"Not required\"),D41/COUNTRY_INFO!D41, 0)","v":0},{"$f":"IF(AND(J41<>0,J41<>\"Unknown\",J41<>\"Stopped\",J41<>\"Not required\"),J41/COUNTRY_INFO!D41, 0)","v":0},{"$f":"IF(AND(P41<>0,P41<>\"Unknown\",P41<>\"Not required\"),P41/(COUNTRY_INFO!E41+COUNTRY_INFO!F41), 0)","v":1},{"$f":"IF(AND(Z41<>0,Z41<>\"Unknown\",Z41<>\"Not required\"),IF(COUNTRY_INFO!K41=1,1,IF(COUNTRY_INFO!K41=2,0.5*COUNTRY_INFO!F41/(0.5*COUNTRY_INFO!F41+0.2*COUNTRY_INFO!G41),IF(COUNTRY_INFO!K41=3,COUNTRY_INFO!F41/(COUNTRY_INFO!F41+COUNTRY_INFO!G41)))),0)","v":0.4613802536572395},{"$f":"IF(AND(Z41<>0,Z41<>\"Unknown\",Z41<>\"Not required\"),IF(COUNTRY_INFO!K41=1,0,IF(COUNTRY_INFO!K41=2,0.2*COUNTRY_INFO!G41/(0.5*COUNTRY_INFO!F41+0.2*COUNTRY_INFO!G41),IF(COUNTRY_INFO!K41=3,COUNTRY_INFO!G41/(COUNTRY_INFO!F41+COUNTRY_INFO!G41)))),0)","v":0.53861974634276044},{"$f":"MAX(COUNTRY_INFO!D41*AK41*PROFILE!$G$7,COUNTRY_INFO!D41*AL41*PROFILE!$G$7)","v":0},{"$f":"MAX(COUNTRY_INFO!D41*AK41*PROFILE!$G$8,COUNTRY_INFO!D41*AL41*PROFILE!$G$8,COUNTRY_INFO!D41*AM41*PROFILE!$G$8)","v":53724.709252642955},{"$f":"MAX(COUNTRY_INFO!D41*AK41*PROFILE!$G$9,COUNTRY_INFO!D41*AL41*PROFILE!$G$9,COUNTRY_INFO!D41*AM41*PROFILE!$G$9,IF(AND(DISTRICT!Z41<>\"Unknown\",Z41<>\"Not required\"),COUNTRY_INFO!O41*DISTRICT!AN41,0))","v":93623.410737494953},{"$f":"MAX(COUNTRY_INFO!D41*AK41*PROFILE!$G$10,COUNTRY_INFO!D41*AL41*PROFILE!$G$10,IF(AND(DISTRICT!Z41<>\"Unknown\",Z41<>\"Not required\"),COUNTRY_INFO!O41*DISTRICT!AO41,0))","v":54034.721645764184},201382.84163590209,0,{"$f":"MAX('MDA2'!J41,'T1'!L41,'T2'!J41,T3_R1!K41,T3_R2!K41)","v":0},{"$f":"MAX('MDA1'!K41,'MDA2'!K41,'MDA3'!I41,'MDA3'!L41,'T1'!M41,'T2'!K41,T3_R1!L41,T3_R2!L41)","v":0},{"$f":"MAX('MDA1'!L41,'MDA2'!L41,'MDA3'!J41,'MDA3'!M41,'T1'!N41,'T2'!L41,T3_R1!M41,T3_R2!M41)","v":0},0,{"$f":"MAX('MDA2'!J41,T41)","v":0},{"$f":"MAX('MDA1'!K41,'MDA2'!K41,'MDA3'!I41,'MDA3'!L41,V41,AD41)","v":0},{"$f":"MAX('MDA1'!L41,'MDA2'!L41,'MDA3'!J41,'MDA3'!M41,AF41)","v":0},0,0]
[{"$f":"IF(COUNTRY_INFO!A42=0,\" \",COUNTRY_INFO!A42)","v":"Tanzania"},{"$f":"IF(COUNTRY_INFO!B42=0,\" \",COUNTRY_INFO!B42)","v":"Kagera"},{"$f":"IF(COUNTRY_INFO!C42=0,\" \",COUNTRY_INFO!C42)","v":"Bukoba District Council"},{"$f":"COUNTRY_INFO!L42","v":0},null,null,{"$f":"MAX('MDA1'!M42,'MDA2'!M42)","v":0},{"$f":"IF(AND(COUNTRY_INFO!H42>0,COUNTRY_INFO!H42<4),IF(D42>MAX('MDA1'!M42,'MDA2'!M42),MAX('MDA1'!M42,'MDA2'!M42),D42),0)","v":0},{"$f":"IF(AND(COUNTRY_INFO!H42>0,COUNTRY_INFO!H42<4), IF(G42/D42*100<>0, IF(G42/D42*100>100,100,G42/D42*100), \"-\"),0)","v":0},{"$f":"COUNTRY_INFO!M42","v":0},null,null,{"$f":"MAX('MDA1'!M42,MAX('MDA3'!I42,'MDA3'!L42)+MAX('MDA3'!J42,'MDA3'!M42))","v":0},{"$f":"IF(AND(COUNTRY_INFO!I42>0,COUNTRY_INFO!I42<4),IF(J42>MAX('MDA1'!M42,MAX('MDA3'!I42,'MDA3'!L42)+MAX('MDA3'!J42,'MDA3'!M42)),MAX('MDA1'!M42,MAX('MDA3'!I42,'MDA3'!L42)+MAX('MDA3'!J42,'MDA3'!M42)),J42),0)","v":0},{"$f":"IF(AND(COUNTRY_INFO!I42>0,COUNTRY_INFO!I42<4), IF(M42/J42*100<>0, IF(M42/J42*100>100,100,M42/J42*100), \"-\"),0)","v":0},{"$f":"COUNTRY_INFO!N42","v":134498},null,null,{"$f":"SUM(MAX('MDA2'!J42, 'T1'!L42, MAX(T3_R1!K42, T3_R2!K42)), MAX('MDA1'!K42, 'MDA2'!K42, 'T1'!M42, MAX(T3_R1!L42, T3_R2!L42)), MAX('MDA1'!L42, 'MDA2'!L42, 'T1'!N42, MAX(T3_R1!M42, T3_R2!M42)))","v":0},{"$f":"IF(AND(COUNTRY_INFO!J42>1,COUNTRY_INFO!J42<4),IF(COUNTRY_INFO!E42>MAX('MDA2'!J42,'T1'!L42,MAX(T3_R1!K42,T3_R2!K42)),MAX('MDA2'!J42,'T1'!L42,MAX(T3_R1!K42,T3_R2!K42)),COUNTRY_INFO!E42),0)","v":0},{"$f":"IF(AND(COUNTRY_INFO!J42>1,COUNTRY_INFO!J42<4), IF(T42/COUNTRY_INFO!E42*100<>0, IF(T42/COUNTRY_INFO!E42*100>100,100,T42/COUNTRY_INFO!E42*100), \"-\"),0)","v":"-"},{"$f":"IF(AND(COUNTRY_INFO!J42>1,COUNTRY_INFO!J42<4),IF(COUNTRY_INFO!F42>MAX('MDA1'!K42,'MDA2'!K42,'T1'!M42,MAX(T3_R1!L42,T3_R2!L42)),MAX('MDA1'!K42,'MDA2'!K42,'T1'!M42,MAX(T3_R1!L42,T3_R2!L42)),COUNTRY_INFO!F42),0)","v":0},{"$f":"IF(AND(COUNTRY_INFO!J42>1,COUNTRY_INFO!J42<4), IF(V42/COUNTRY_INFO!F42*100<>0, IF(V42/COUNTRY_INFO!F42*100>100,100,V42/COUNTRY_INFO!F42*100), \"-\"),0)","v":"-"},0,{"$f":"IF(AND(COUNTRY_INFO!J42>1,COUNTRY_INFO!J42<4), IF(S42/P42*100<>0, IF(X42/P42*100>100,100,X42/P42*100), \"-\"),0)","v":"-"},{"$f":"COUNTRY_INFO!O42","v":90887.127681115002},null,null,{"$f":"MAX('T1'!L42,'T2'!J42)+MAX('T1'!M42,'T2'!K42)+MAX('T1'!N42,'T2'!L42)","v":0},{"$f":"IF(COUNTRY_INFO!K42=1,IF(COUNTRY_INFO!F42*0.33>MAX('T1'!M42,'T2'!K42),MAX('T1'!M42,'T2'!K42),COUNTRY_INFO!F42*0.33),IF(COUNTRY_INFO!K42=2,IF(COUNTRY_INFO!F42*0.5>MAX('T1'!M42,'T2'!K42),MAX('T1'!M42,'T2'!K42),COUNTRY_INFO!F42*0.5),IF(COUNTRY_INFO!K42=3,IF(COUNTRY_INFO!F42>MAX('T1'!M42,'T2'!K42),MAX('T1'!M42,'T2'!K42),COUNTRY_INFO!F42),0)))","v":0},{"$f":"IF(AND(COUNTRY_INFO!K42>0,COUNTRY_INFO!K42<4),IF(Z42>0,IF(COUNTRY_INFO!K42=1, AD42/(COUNTRY_INFO!F42*0.33)*100, IF(COUNTRY_INFO!K42=2, AD42/(COUNTRY_INFO!F42*0.5)*100, IF(COUNTRY_INFO!K42=3, AD42/COUNTRY_INFO!F42*100))),\"-\"),0)","v":0},{"$f":"IF(COUNTRY_INFO!K42=2,IF(COUNTRY_INFO!G42*0.2>MAX('T1'!N42,'T2'!L42),MAX('T1'!N42,'T2'!L42),COUNTRY_INFO!G42*0.2),IF(COUNTRY_INFO!K42=3,IF(COUNTRY_INFO!G42>MAX('T1'!N42,'T2'!L42),MAX('T1'!N42,'T2'!L42),COUNTRY_INFO!G42),0))","v":0},{"$f":"IF(AND(COUNTRY_INFO!K42>0,COUNTRY_INFO!K42<4),IF(Z42>0,IF(COUNTRY_INFO!K42=1, 0, IF(COUNTRY_INFO!K42=2, AF42/(COUNTRY_INFO!G42*0.2)*100, IF(COUNTRY_INFO!K42=3, AF42/COUNTRY_INFO!G42*100))),\"-\"),0)","v":0},0,{"$f":"IF(AND(COUNTRY_INFO!K42>0,COUNTRY_INFO!K42<4), IF(AC42/Z42*100<>0, IF(AH42/Z42*100>100,100,AH42/Z42*100), \"-\"),0)","v":"-"},null,{"$f":"IF(AND(D42<>0, D42<>\"Unknown\",D42<>\"Stopped\",D42<>\"Not required\"),D42/COUNTRY_INFO!D42, 0)","v":0},{"$f":"IF(AND(J42<>0,J42<>\"Unknown\",J42<>\"Stopped\",J42<>\"Not required\"),J42/COUNTRY_INFO!D42, 0)","v":0},{"$f":"IF(AND(P42<>0,P42<>\"Unknown\",P42<>\"Not required\"),P42/(COUNTRY_INFO!E42+COUNTRY_INFO!F42), 0)","v":1},{"$f":"IF(AND(Z42<>0,Z42<>\"Unknown\",Z42<>\"Not required\"),IF(COUNTRY_INFO!K42=1,1,IF(COUNTRY_INFO!K42=2,0.5*COUNTRY_INFO!F42/(0.5*COUNTRY_INFO!F42+0.2*COUNTRY_INFO!G42),IF(COUNTRY_INFO!K42=3,COUNTRY_INFO!F42/(COUNTRY_INFO!F42+COUNTRY_INFO!G42)))),0)","v":0.47523231399219101},{"$f":"IF(AND(Z42<>0,Z42<>\"Unknown\",Z42<>\"Not required\"),IF(COUNTRY_INFO!K42=1,0,IF(COUNTRY_INFO!K42=2,0.2*COUNTRY_INFO!G42/(0.5*COUNTRY_INFO!F42+0.2*COUNTRY_INFO!G42),IF(COUNTRY_INFO!K42=3,COUNTRY_INFO!G42/(COUNTRY_INFO!F42+COUNTRY_INFO!G42)))),0)","v":0.52476768600780888},{"$f":"MAX(COUNTRY_INFO!D42*AK42*PROFILE!$G$7,COUNTRY_INFO!D42*AL42*PROFILE!$G$7)","v":0},{"$f":"MAX(COUNTRY_INFO!D42*AK42*PROFILE!$G$8,COUNTRY_INFO!D42*AL42*PROFILE!$G$8,COUNTRY_INFO!D42*AM42*PROFILE!$G$8)","v":48113.277562812902},{"$f":"MAX(COUNTRY_INFO!D42*AK42*PROFILE!$G$9,COUNTRY_INFO!D42*AL42*PROFILE!$G$9,COUNTRY_INFO!D42*AM42*PROFILE!$G$9,IF(AND(DISTRICT!Z42<>\"Unknown\",Z42<>\"Not required\"),COUNTRY_INFO!O42*DISTRICT!AN42,0))","v":83844.644482068266},{"$f":"MAX(COUNTRY_INFO!D42*AK42*PROFILE!$G$10,COUNTRY_INFO!D42*AL42*PROFILE!$G$10,IF(AND(DISTRICT!Z42<>\"Unknown\",Z42<>\"Not required\"),COUNTRY_INFO!O42*DISTRICT!AO42,0))","v":47694.627681114995},179652.54972599616,0,{"$f":"MAX('MDA2'!J42,'T1'!L42,'T2'!J42,T3_R1!K42,T3_R2!K42)","v":0},{"$f":"MAX('MDA1'!K42,'MDA2'!K42,'MDA3'!I42,'MDA3'!L42,'T1'!M42,'T2'!K42,T3_R1!L42,T3_R2!L42)","v":0},{"$f":"MAX('MDA1'!L42,'MDA2'!L42,'MDA3'!J42,'MDA3'!M42,'T1'!N42,'T2'!L42,T3_R1!M42,T3_R2!M42)","v":0},0,{"$f":"MAX('MDA2'!J42,T42)","v":0},{"$f":"MAX('MDA1'!K42,'MDA2'!K42,'MDA3'!I42,'MDA3'!L42,V42,AD42)","v":0},{"$f":"MAX('MDA1'!L42,'MDA2'!L42,'MDA3'!J42,'MDA3'!M42,AF42)","v":0},0,0]
[{"$f":"IF(COUNTRY_INFO!A43=0,\" \",COUNTRY_INFO!A43)","v":"Tanzania"},{"$f":"IF(COUNTRY_INFO!B43=0,\" \",COUNTRY_INFO!B43)","v":"Kagera"},{"$f":"IF(COUNTRY_INFO!C43=0,\" \",COUNTRY_INFO!C43)","v":"Bukoba Municipal Council"},{"$f":"COUNTRY_INFO!L43","v":0},null,null,{"$f":"MAX('MDA1'!M43,'MDA2'!M43)","v":0},{"$f":"IF(AND(COUNTRY_INFO!H43>0,COUNTRY_INFO!H43<4),IF(D43>MAX('MDA1'!M43,'MDA2'!M43),MAX('MDA1'!M43,'MDA2'!M43),D43),0)","v":0},{"$f":"IF(AND(COUNTRY_INFO!H43>0,COUNTRY_INFO!H43<4), IF(G43/D43*100<>0, IF(G43/D43*100>100,100,G43/D43*100), \"-\"),0)","v":0},{"$f":"COUNTRY_INFO!M43","v":0},null,null,{"$f":"MAX('MDA1'!M43,MAX('MDA3'!I43,'MDA3'!L43)+MAX('MDA3'!J43,'MDA3'!M43))","v":0},{"$f":"IF(AND(COUNTRY_INFO!I43>0,COUNTRY_INFO!I43<4),IF(J43>MAX('MDA1'!M43,MAX('MDA3'!I43,'MDA3'!L43)+MAX('MDA3'!J43,'MDA3'!M43)),MAX('MDA1'!M43,MAX('MDA3'!I43,'MDA3'!L43)+MAX('MDA3'!J43,'MDA3'!M43)),J43),0)","v":0},{"$f":"IF(AND(COUNTRY_INFO!I43>0,COUNTRY_INFO!I43<4), IF(M43/J43*100<>0, IF(M43/J43*100>100,100,M43/J43*100), \"-\"),0)","v":0},{"$f":"COUNTRY_INFO!N43","v":51495},null,null,{"$f":"SUM(MAX('MDA2'!J43, 'T1'!L43, MAX(T3_R1!K43, T3_R2!K43)), MAX('MDA1'!K43, 'MDA2'!K43, 'T1'!M43, MAX(T3_R1!L43, T3_R2!L43)), MAX('MDA1'!L43, 'MDA2'!L43, 'T1'!N43, MAX(T3_R1!M43, T3_R2!M43)))","v":0},{"$f":"IF(AND(COUNTRY_INFO!J43>1,COUNTRY_INFO!J43<4),IF(COUNTRY_INFO!E43>MAX('MDA2'!J43,'T1'!L43,MAX(T3_R1!K43,T3_R2!K43)),MAX('MDA2'!J43,'T1'!L43,MAX(T3_R1!K43,T3_R2!K43)),COUNTRY_INFO!E43),0)","v":0},{"$f":"IF(AND(COUNTRY_INFO!J43>1,COUNTRY_INFO!J43<4), IF(T43/COUNTRY_INFO!E43*100<>0, IF(T43/COUNTRY_INFO!E43*100>100,100,T43/COUNTRY_INFO!E43*100), \"-\"),0)","v":"-"},{"$f":"IF(AND(COUNTRY_INFO!J43>1,COUNTRY_INFO!J43<4),IF(COUNTRY_INFO!F43>MAX('MDA1'!K43,'MDA2'!K43,'T1'!M43,MAX(T3_R1!L43,T3_R2!L43)),MAX('MDA1'!K43,'MDA2'!K43,'T1'!M43,MAX(T3_R1!L43,T3_R2!L43)),COUNTRY_INFO!F43),0)","v":0},{"$f":"IF(AND(COUNTRY_INFO!J43>1,COUNTRY_INFO!J43<4), IF(V43/COUNTRY_INFO!F43*100<>0, IF(V43/COUNTRY_INFO!F43*100>100,100,V43/COUNTRY_INFO!F43*100), \"-\"),0)","v":"-"},0,{"$f":"IF(AND(COUNTRY_INFO!J43>1,COUNTRY_INFO!J43<4), IF(S43/P43*100<>0, IF(X43/P43*100>100,100,X43/P43*100), \"-\"),0)","v":"-"},{"$f":"COUNTRY_INFO!O43","v":37916.9302973538},null,null,{"$f":"MAX('T1'!L43,'T2'!J43)+MAX('T1'!M43,'T2'!K43)+MAX('T1'!N43,'T2'!L43)","v":0},{"$f":"IF(COUNTRY_INFO!K43=1,IF(COUNTRY_INFO!F43*0.33>MAX('T1'!M43,'T2'!K43),MAX('T1'!M43,'T2'!K43),COUNTRY_INFO!F43*0.33),IF(COUNTRY_INFO!K43=2,IF(COUNTRY_INFO!F43*0.5>MAX('T1'!M43,'T2'!K43),MAX('T1'!M43,'T2'!K43),COUNTRY_INFO!F43*0.5),IF(COUNTRY_INFO!K43=3,IF(COUNTRY_INFO!F43>MAX('T1'!M43,'T2'!K43),MAX('T1'!M43,'T2'!K43),COUNTRY_INFO!F43),0)))","v":0},{"$f":"IF(AND(COUNTRY_INFO!K43>0,COUNTRY_INFO!K43<4),IF(Z43>0,IF(COUNTRY_INFO!K43=1, AD43/(COUNTRY_INFO!F43*0.33)*100, IF(COUNTRY_INFO!K43=2, AD43/(COUNTRY_INFO!F43*0.5)*100, IF(COUNTRY_INFO!K43=3, AD43/COUNTRY_INFO!F43*100))),\"-\"),0)","v":0},{"$f":"IF(COUNTRY_INFO!K43=2,IF(COUNTRY_INFO!G43*0.2>MAX('T1'!N43,'T2'!L43),MAX('T1'!N43,'T2'!L43),COUNTRY_INFO!G43*0.2),IF(COUNTRY_INFO!K43=3,IF(COUNTRY_INFO!G43>MAX('T1'!N43,'T2'!L43),MAX('T1'!N43,'T2'!L43),COUNTRY_INFO!G43),0))","v":0},{"$f":"IF(AND(COUNTRY_INFO!K43>0,COUNTRY_INFO!K43<4),IF(Z43>0,IF(COUNTRY_INFO!K43=1, 0, IF(COUNTRY_INFO!K43=2, AF43/(COUNTRY_INFO!G43*0.2)*100, IF(COUNTRY_INFO!K43=3, AF43/COUNTRY_INFO!G43*100))),\"-\"),0)","v":0},0,{"$f":"IF(AND(COUNTRY_INFO!K43>0,COUNTRY_INFO!K43<4), IF(AC43/Z43*100<>0, IF(AH43/Z43*100>100,100,AH43/Z43*100), \"-\"),0)","v":"-"},null,{"$f":"IF(AND(D43<>0, D43<>\"Unknown\",D43<>\"Stopped\",D43<>\"Not required\"),D43/COUNTRY_INFO!D43, 0)","v":0},{"$f":"IF(AND(J43<>0,J43<>\"Unknown\",J43<>\"Stopped\",J43<>\"Not required\"),J43/COUNTRY_INFO!D43, 0)","v":0},{"$f":"IF(AND(P43<>0,P43<>\"Unknown\",P43<>\"Not required\"),P43/(COUNTRY_INFO!E43+COUNTRY_INFO!F43), 0)","v":1},{"$f":"IF(AND(Z43<>0,Z43<>\"Unknown\",Z43<>\"Not required\"),IF(COUNTRY_INFO!K43=1,1,IF(COUNTRY_INFO!K43=2,0.5*COUNTRY_INFO!F43/(0.5*COUNTRY_INFO!F43+0.2*COUNTRY_INFO!G43),IF(COUNTRY_INFO!K43=3,COUNTRY_INFO!F43/(COUNTRY_INFO!F43+COUNTRY_INFO!G43)))),0)","v":0.39698625078440236},{"$f":"IF(AND(Z43<>0,Z43<>\"Unknown\",Z43<>\"Not required\"),IF(COUNTRY_INFO!K43=1,0,IF(COUNTRY_INFO!K43=2,0.2*COUNTRY_INFO!G43/(0.5*COUNTRY_INFO!F43+0.2*COUNTRY_INFO!G43),IF(COUNTRY_INFO!K43=3,COUNTRY_INFO!G43/(COUNTRY_INFO!F43+COUNTRY_INFO!G43)))),0)","v":0.60301374921559758},{"$f":"MAX(COUNTRY_INFO!D43*AK43*PROFILE!$G$7,COUNTRY_INFO!D43*AL43*PROFILE!$G$7)","v":0},{"$f":"MAX(COUNTRY_INFO!D43*AK43*PROFILE!$G$8,COUNTRY_INFO!D43*AL43*PROFILE!$G$8,COUNTRY_INFO!D43*AM43*PROFILE!$G$8)","v":21390.412856778465},{"$f":"MAX(COUNTRY_INFO!D43*AK43*PROFILE!$G$9,COUNTRY_INFO!D43*AL43*PROFILE!$G$9,COUNTRY_INFO!D43*AM43*PROFILE!$G$9,IF(AND(DISTRICT!Z43<>\"Unknown\",Z43<>\"Not required\"),COUNTRY_INFO!O43*DISTRICT!AN43,0))","v":37276.021342753826},{"$f":"MAX(COUNTRY_INFO!D43*AK43*PROFILE!$G$10,COUNTRY_INFO!D43*AL43*PROFILE!$G$10,IF(AND(DISTRICT!Z43<>\"Unknown\",Z43<>\"Not required\"),COUNTRY_INFO!O43*DISTRICT!AO43,0))","v":22864.4302973538},81530.86449688609,0,{"$f":"MAX('MDA2'!J43,'T1'!L43,'T2'!J43,T3_R1!K43,T3_R2!K43)","v":0},{"$f":"MAX('MDA1'!K43,'MDA2'!K43,'MDA3'!I43,'MDA3'!L43,'T1'!M43,'T2'!K43,T3_R1!L43,T3_R2!L43)","v":0},{"$f":"MAX('MDA1'!L43,'MDA2'!L43,'MDA3'!J43,'MDA3'!M43,'T1'!N43,'T2'!L43,T3_R1!M43,T3_R2!M43)","v":0},0,{"$f":"MAX('MDA2'!J43,T43)","v":0},{"$f":"MAX('MDA1'!K43,'MDA2'!K43,'MDA3'!I43,'MDA3'!L43,V43,AD43)","v":0},{"$f":"MAX('MDA1'!L43,'MDA2'!L43,'MDA3'!J43,'MDA3'!M43,AF43)","v":0},0,0]
[{"$f":"IF(COUNTRY_INFO!A44=0,\" \",COUNTRY_INFO!A44)","v":"Tanzania"},{"$f":"IF(COUNTRY_INFO!B44=0,\" \",COUNTRY_INFO!B44)","v":"Kagera"},{"$f":"IF(COUNTRY_INFO!C44=0,\" \",COUNTRY_INFO!C44)","v":"Karagwe District Council"},{"$f":"COUNTRY_INFO!L44","v":0},null,null,{"$f":"MAX('MDA1'!M44,'MDA2'!M44)","v":0},{"$f":"IF(AND(COUNTRY_INFO!H44>0,COUNTRY_INFO!H44<4),IF(D44>MAX('MDA1'!M44,'MDA2'!M44),MAX('MDA1'!M44,'MDA2'!M44),D44),0)","v":0},{"$f":"IF(AND(COUNTRY_INFO!H44>0,COUNTRY_INFO!H44<4), IF(G44/D44*100<>0, IF(G44/D44*100>100,100,G44/D44*100), \"-\"),0)","v":0},{"$f":"COUNTRY_INFO!M44","v":0},null,null,{"$f":"MAX('MDA1'!M44,MAX('MDA3'!I44,'MDA3'!L44)+MAX('MDA3'!J44,'MDA3'!M44))","v":0},{"$f":"IF(AND(COUNTRY_INFO!I44>0,COUNTRY_INFO!I44<4),IF(J44>MAX('MDA1'!M44,MAX('MDA3'!I44,'MDA3'!L44)+MAX('MDA3'!J44,'MDA3'!M44)),MAX('MDA1'!M44,MAX('MDA3'!I44,'MDA3'!L44)+MAX('MDA3'!J44,'MDA3'!M44)),J44),0)","v":0},{"$f":"IF(AND(COUNTRY_INFO!I44>0,COUNTRY_INFO!I44<4), IF(M44/J44*100<>0, IF(M44/J44*100>100,100,M44/J44*100), \"-\"),0)","v":0},{"$f":"COUNTRY_INFO!N44","v":142040},null,null,{"$f":"SUM(MAX('MDA2'!J44, 'T1'!L44, MAX(T3_R1!K44, T3_R2!K44)), MAX('MDA1'!K44, 'MDA2'!K44, 'T1'!M44, MAX(T3_R1!L44, T3_R2!L44)), MAX('MDA1'!L44, 'MDA2'!L44, 'T1'!N44, MAX(T3_R1!M44, T3_R2!M44)))","v":0},{"$f":"IF(AND(COUNTRY_INFO!J44>1,COUNTRY_INFO!J44<4),IF(COUNTRY_INFO!E44>MAX('MDA2'!J44,'T1'!L44,MAX(T3_R1!K44,T3_R2!K44)),MAX('MDA2'!J44,'T1'!L44,MAX(T3_R1!K44,T3_R2!K44)),COUNTRY_INFO!E44),0)","v":0},{"$f":"IF(AND(COUNTRY_INFO!J44>1,COUNTRY_INFO!J44<4), IF(T44/COUNTRY_INFO!E44*100<>0, IF(T44/COUNTRY_INFO!E44*100>100,100,T44/COUNTRY_INFO!E44*100), \"-\"),0)","v":"-"},{"$f":"IF(AND(COUNTRY_INFO!J44>1,COUNTRY_INFO!J44<4),IF(COUNTRY_INFO!F44>MAX('MDA1'!K44,'MDA2'!K44,'T1'!M44,MAX(T3_R1!L44,T3_R2!L44)),MAX('MDA1'!K44,'MDA2'!K44,'T1'!M44,MAX(T3_R1!L44,T3_R2!L44)),COUNTRY_INFO!F44),0)","v":0},{"$f":"IF(AND(COUNTRY_INFO!J44>1,COUNTRY_INFO!J44<4), IF(V44/COUNTRY_INFO!F44*100<>0, IF(V44/COUNTRY_INFO!F44*100>100,100,V44/COUNTRY_INFO!F44*100), \"-\"),0)","v":"-"},0,{"$f":"IF(AND(COUNTRY_INFO!J44>1,COUNTRY_INFO!J44<4), IF(S44/P44*100<>0, IF(X44/P44*100>100,100,X44/P44*100), \"-\"),0)","v":"-"},{"$f":"COUNTRY_INFO!O44","v":100532.40691301494},null,null,{"$f":"MAX('T1'!L44,'T2'!J44)+MAX('T1'!M44,'T2'!K44)+MAX('T1'!N44,'T2'!L44)","v":0},{"$f":"IF(COUNTRY_INFO!K44=1,IF(COUNTRY_INFO!F44*0.33>MAX('T1'!M44,'T2'!K44),MAX('T1'!M44,'T2'!K44),COUNTRY_INFO!F44*0.33),IF(COUNTRY_INFO!K44=2,IF(COUNTRY_INFO!F44*0.5>MAX('T1'!M44,'T2'!K44),MAX('T1'!M44,'T2'!K44),COUNTRY_INFO!F44*0.5),IF(COUNTRY_INFO!K44=3,IF(COUNTRY_INFO!F44>MAX('T1'!M44,'T2'!K44),MAX('T1'!M44,'T2'!K44),COUNTRY_INFO!F44),0)))","v":0},{"$f":"IF(AND(COUNTRY_INFO!K44>0,COUNTRY_INFO!K44<4),IF(Z44>0,IF(COUNTRY_INFO!K44=1, AD44/(COUNTRY_INFO!F44*0.33)*100, IF(COUNTRY_INFO!K44=2, AD44/(COUNTRY_INFO!F44*0.5)*100, IF(COUNTRY_INFO!K44=3, AD44/COUNTRY_INFO!F44*100))),\"-\"),0)","v":0},{"$f":"IF(COUNTRY_INFO!K44=2,IF(COUNTRY_INFO!G44*0.2>MAX('T1'!N44,'T2'!L44),MAX('T1'!N44,'T2'!L44),COUNTRY_INFO!G44*0.2),IF(COUNTRY_INFO!K44=3,IF(COUNTRY_INFO!G44>MAX('T1'!N44,'T2'!L44),MAX('T1'!N44,'T2'!L44),COUNTRY_INFO!G44),0))","v":0},{"$f":"IF(AND(COUNTRY_INFO!K44>0,COUNTRY_INFO!K44<4),IF(Z44>0,IF(COUNTRY_INFO!K44=1, 0, IF(COUNTRY_INFO!K44=2, AF44/(COUNTRY_INFO!G44*0.2)*100, IF(COUNTRY_INFO!K44=3, AF44/COUNTRY_INFO!G44*100))),\"-\"),0)","v":0},0,{"$f":"IF(AND(COUNTRY_INFO!K44>0,COUNTRY_INFO!K44<4), IF(AC44/Z44*100<>0, IF(AH44/Z44*100>100,100,AH44/Z44*100), \"-\"),0)","v":"-"},null,{"$f":"IF(AND(D44<>0, D44<>\"Unknown\",D44<>\"Stopped\",D44<>\"Not required\"),D44/COUNTRY_INFO!D44, 0)","v":0},{"$f":"IF(AND(J44<>0,J44<>\"Unknown\",J44<>\"Stopped\",J44<>\"Not required\"),J44/COUNTRY_INFO!D44, 0)","v":0},{"$f":"IF(AND(P44<>0,P44<>\"Unknown\",P44<>\"Not required\"),P44/(COUNTRY_INFO!E44+COUNTRY_INFO!F44), 0)","v":1},{"$f":"IF(AND(Z44<>0,Z44<>\"Unknown\",Z44<>\"Not required\"),IF(COUNTRY_INFO!K44=1,1,IF(COUNTRY_INFO!K44=2,0.5*COUNTRY_INFO!F44/(0.5*COUNTRY_INFO!F44+0.2*COUNTRY_INFO!G44),IF(COUNTRY_INFO!K44=3,COUNTRY_INFO!F44/(COUNTRY_INFO!F44+COUNTRY_INFO!G44)))),0)","v":0.4321889959084933},{"$f":"IF(AND(Z44<>0,Z44<>\"Unknown\",Z44<>\"Not required\"),IF(COUNTRY_INFO!K44=1,0,IF(COUNTRY_INFO!K44=2,0.2*COUNTRY_INFO!G44/(0.5*COUNTRY_INFO!F44+0.2*COUNTRY_INFO!G44),IF(COUNTRY_INFO!K44=3,COUNTRY_INFO!G44/(COUNTRY_INFO!F44+COUNTRY_INFO!G44)))),0)","v":0.56781100409150664},{"$f":"MAX(COUNTRY_INFO!D44*AK44*PROFILE!$G$7,COUNTRY_INFO!D44*AL44*PROFILE!$G$7)","v":0},{"$f":"MAX(COUNTRY_INFO!D44*AK44*PROFILE!$G$8,COUNTRY_INFO!D44*AL44*PROFILE!$G$8,COUNTRY_INFO!D44*AM44*PROFILE!$G$8)","v":55141.958270889452},{"$f":"MAX(COUNTRY_INFO!D44*AK44*PROFILE!$G$9,COUNTRY_INFO!D44*AL44*PROFILE!$G$9,COUNTRY_INFO!D44*AM44*PROFILE!$G$9,IF(AND(DISTRICT!Z44<>\"Unknown\",Z44<>\"Not required\"),COUNTRY_INFO!O44*DISTRICT!AN44,0))","v":96093.18095679261},{"$f":"MAX(COUNTRY_INFO!D44*AK44*PROFILE!$G$10,COUNTRY_INFO!D44*AL44*PROFILE!$G$10,IF(AND(DISTRICT!Z44<>\"Unknown\",Z44<>\"Not required\"),COUNTRY_INFO!O44*DISTRICT!AO44,0))","v":57083.406913014936},208318.546140697,0,{"$f":"MAX('MDA2'!J44,'T1'!L44,'T2'!J44,T3_R1!K44,T3_R2!K44)","v":0},{"$f":"MAX('MDA1'!K44,'MDA2'!K44,'MDA3'!I44,'MDA3'!L44,'T1'!M44,'T2'!K44,T3_R1!L44,T3_R2!L44)","v":0},{"$f":"MAX('MDA1'!L44,'MDA2'!L44,'MDA3'!J44,'MDA3'!M44,'T1'!N44,'T2'!L44,T3_R1!M44,T3_R2!M44)","v":0},0,{"$f":"MAX('MDA2'!J44,T44)","v":0},{"$f":"MAX('MDA1'!K44,'MDA2'!K44,'MDA3'!I44,'MDA3'!L44,V44,AD44)","v":0},{"$f":"MAX('MDA1'!L44,'MDA2'!L44,'MDA3'!J44,'MDA3'!M44,AF44)","v":0},0,0]
[{"$f":"IF(COUNTRY_INFO!A45=0,\" \",COUNTRY_INFO!A45)","v":"Tanzania"},{"$f":"IF(COUNTRY_INFO!B45=0,\" \",COUNTRY_INFO!B45)","v":"Kagera"},{"$f":"IF(COUNTRY_INFO!C45=0,\" \",COUNTRY_INFO!C45)","v":"Kyerwa District Council"},{"$f":"COUNTRY_INFO!L45","v":0},null,null,{"$f":"MAX('MDA1'!M45,'MDA2'!M45)","v":0},{"$f":"IF(AND(COUNTRY_INFO!H45>0,COUNTRY_INFO!H45<4),IF(D45>MAX('MDA1'!M45,'MDA2'!M45),MAX('MDA1'!M45,'MDA2'!M45),D45),0)","v":0},{"$f":"IF(AND(COUNTRY_INFO!H45>0,COUNTRY_INFO!H45<4), IF(G45/D45*100<>0, IF(G45/D45*100>100,100,G45/D45*100), \"-\"),0)","v":0},{"$f":"COUNTRY_INFO!M45","v":0},null,null,{"$f":"MAX('MDA1'!M45,MAX('MDA3'!I45,'MDA3'!L45)+MAX('MDA3'!J45,'MDA3'!M45))","v":0},{"$f":"IF(AND(COUNTRY_INFO!I45>0,COUNTRY_INFO!I45<4),IF(J45>MAX('MDA1'!M45,MAX('MDA3'!I45,'MDA3'!L45)+MAX('MDA3'!J45,'MDA3'!M45)),MAX('MDA1'!M45,MAX('MDA3'!I45,'MDA3'!L45)+MAX('MDA3'!J45,'MDA3'!M45)),J45),0)","v":0},{"$f":"IF(AND(COUNTRY_INFO!I45>0,COUNTRY_INFO!I45<4), IF(M45/J45*100<>0, IF(M45/J45*100>100,100,M45/J45*100), \"-\"),0)","v":0},{"$f":"COUNTRY_INFO!N45","v":151686},null,null,{"$f":"SUM(MAX('MDA2'!J45, 'T1'!L45, MAX(T3_R1!K45, T3_R2!K45)), MAX('MDA1'!K45, 'MDA2'!K45, 'T1'!M45, MAX(T3_R1!L45, T3_R2!L45)), MAX('MDA1'!L45, 'MDA2'!L45, 'T1'!N45, MAX(T3_R1!M45, T3_R2!M45)))","v":0},{"$f":"IF(AND(COUNTRY_INFO!J45>1,COUNTRY_INFO!J45<4),IF(COUNTRY_INFO!E45>MAX('MDA2'!J45,'T1'!L45,MAX(T3_R1!K45,T3_R2!K45)),MAX('MDA2'!J45,'T1'!L45,MAX(T3_R1!K45,T3_R2!K45)),COUNTRY_INFO!E45),0)","v":0},{"$f":"IF(AND(COUNTRY_INFO!J45>1,COUNTRY_INFO!J45<4), IF(T45/COUNTRY_INFO!E45*100<>0, IF(T45/COUNTRY_INFO!E45*100>100,100,T45/COUNTRY_INFO!E45*100), \"-\"),0)","v":"-"},{"$f":"IF(AND(COUNTRY_INFO!J45>1,COUNTRY_INFO!J45<4),IF(COUNTRY_INFO!F45>MAX('MDA1'!K45,'MDA2'!K45,'T1'!M45,MAX(T3_R1!L45,T3_R2!L45)),MAX('MDA1'!K45,'MDA2'!K45,'T1'!M45,MAX(T3_R1!L45,T3_R2!L45)),COUNTRY_INFO!F45),0)","v":0},{"$f":"IF(AND(COUNTRY_INFO!J45>1,COUNTRY_INFO!J45<4), IF(V45/COUNTRY_INFO!F45*100<>0, IF(V45/COUNTRY_INFO!F45*100>100,100,V45/COUNTRY_INFO!F45*100), \"-\"),0)","v":"-"},0,{"$f":"IF(AND(COUNTRY_INFO!J45>1,COUNTRY_INFO!J45<4), IF(S45/P45*100<>0, IF(X45/P45*100>100,100,X45/P45*100), \"-\"),0)","v":"-"},{"$f":"COUNTRY_INFO!O45","v":101508.44972574798},null,null,{"$f":"MAX('T1'!L45,'T2'!J45)+MAX('T1'!M45,'T2'!K45)+MAX('T1'!N45,'T2'!L45)","v":0},{"$f":"IF(COUNTRY_INFO!K45=1,IF(COUNTRY_INFO!F45*0.33>MAX('T1'!M45,'T2'!K45),MAX('T1'!M45,'T2'!K45),COUNTRY_INFO!F45*0.33),IF(COUNTRY_INFO!K45=2,IF(COUNTRY_INFO!F45*0.5>MAX('T1'!M45,'T2'!K45),MAX('T1'!M45,'T2'!K45),COUNTRY_INFO!F45*0.5),IF(COUNTRY_INFO!K45=3,IF(COUNTRY_INFO!F45>MAX('T1'!M45,'T2'!K45),MAX('T1'!M45,'T2'!K45),COUNTRY_INFO!F45),0)))","v":0},{"$f":"IF(AND(COUNTRY_INFO!K45>0,COUNTRY_INFO!K45<4),IF(Z45>0,IF(COUNTRY_INFO!K45=1, AD45/(COUNTRY_INFO!F45*0.33)*100, IF(COUNTRY_INFO!K45=2, AD45/(COUNTRY_INFO!F45*0.5)*100, IF(COUNTRY_INFO!K45=3, AD45/COUNTRY_INFO!F45*100))),\"-\"),0)","v":0},{"$f":"IF(COUNTRY_INFO!K45=2,IF(COUNTRY_INFO!G45*0.2>MAX('T1'!N45,'T2'!L45),MAX('T1'!N45,'T2'!L45),COUNTRY_INFO!G45*0.2),IF(COUNTRY_INFO!K45=3,IF(COUNTRY_INFO!G45>MAX('T1'!N45,'T2'!L45),MAX('T1'!N45,'T2'!L45),COUNTRY_INFO!G45),0))","v":0},{"$f":"IF(AND(COUNTRY_INFO!K45>0,COUNTRY_INFO!K45<4),IF(Z45>0,IF(COUNTRY_INFO!K45=1, 0, IF(COUNTRY_INFO!K45=2, AF45/(COUNTRY_INFO!G45*0.2)*100, IF(COUNTRY_INFO!K45=3, AF45/COUNTRY_INFO!G45*100))),\"-\"),0)","v":0},0,{"$f":"IF(AND(COUNTRY_INFO!K45>0,COUNTRY_INFO!K45<4), IF(AC45/Z45*100<>0, IF(AH45/Z45*100>100,100,AH45/Z45*100), \"-\"),0)","v":"-"},null,{"$f":"IF(AND(D45<>0, D45<>\"Unknown\",D45<>\"Stopped\",D45<>\"Not required\"),D45/COUNTRY_INFO!D45, 0)","v":0},{"$f":"IF(AND(J45<>0,J45<>\"Unknown\",J45<>\"Stopped\",J45<>\"Not required\"),J45/COUNTRY_INFO!D45, 0)","v":0},{"$f":"IF(AND(P45<>0,P45<>\"Unknown\",P45<>\"Not required\"),P45/(COUNTRY_INFO!E45+COUNTRY_INFO!F45), 0)","v":1},{"$f":"IF(AND(Z45<>0,Z45<>\"Unknown\",Z45<>\"Not required\"),IF(COUNTRY_INFO!K45=1,1,IF(COUNTRY_INFO!K45=2,0.5*COUNTRY_INFO!F45/(0.5*COUNTRY_INFO!F45+0.2*COUNTRY_INFO!G45),IF(COUNTRY_INFO!K45=3,COUNTRY_INFO!F45/(COUNTRY_INFO!F45+COUNTRY_INFO!G45)))),0)","v":0.48454094346713333},{"$f":"IF(AND(Z45<>0,Z45<>\"Unknown\",Z45<>\"Not required\"),IF(COUNTRY_INFO!K45=1,0,IF(COUNTRY_INFO!K45=2,0.2*COUNTRY_INFO!G45/(0.5*COUNTRY_INFO!F45+0.2*COUNTRY_INFO!G45),IF(COUNTRY_INFO!K45=3,COUNTRY_INFO!G45/(COUNTRY_INFO!F45+COUNTRY_INFO!G45)))),0)","v":0.51545905653286661},{"$f":"MAX(COUNTRY_INFO!D45*AK45*PROFILE!$G$7,COUNTRY_INFO!D45*AL45*PROFILE!$G$7)","v":0},{"$f":"MAX(COUNTRY_INFO!D45*AK45*PROFILE!$G$8,COUNTRY_INFO!D45*AL45*PROFILE!$G$8,COUNTRY_INFO!D45*AM45*PROFILE!$G$8)","v":53316.119858215803},{"$f":"MAX(COUNTRY_INFO!D45*AK45*PROFILE!$G$9,COUNTRY_INFO!D45*AL45*PROFILE!$G$9,COUNTRY_INFO!D45*AM45*PROFILE!$G$9,IF(AND(DISTRICT!Z45<>\"Unknown\",Z45<>\"Not required\"),COUNTRY_INFO!O45*DISTRICT!AN45,0))","v":92911.38207825087},{"$f":"MAX(COUNTRY_INFO!D45*AK45*PROFILE!$G$10,COUNTRY_INFO!D45*AL45*PROFILE!$G$10,IF(AND(DISTRICT!Z45<>\"Unknown\",Z45<>\"Not required\"),COUNTRY_INFO!O45*DISTRICT!AO45,0))","v":52323.449725747974},198550.95166221465,0,{"$f":"MAX('MDA2'!J45,'T1'!L45,'T2'!J45,T3_R1!K45,T3_R2!K45)","v":0},{"$f":"MAX('MDA1'!K45,'MDA2'!K45,'MDA3'!I45,'MDA3'!L45,'T1'!M45,'T2'!K45,T3_R1!L45,T3_R2!L45)","v":0},{"$f":"MAX('MDA1'!L45,'MDA2'!L45,'MDA3'!J45,'MDA3'!M45,'T1'!N45,'T2'!L45,T3_R1!M45,T3_R2!M45)","v":0},0,{"$f":"MAX('MDA2'!J45,T45)","v":0},{"$f":"MAX('MDA1'!K45,'MDA2'!K45,'MDA3'!I45,'MDA3'!L45,V45,AD45)","v":0},{"$f":"MAX('MDA1'!L45,'MDA2'!L45,'MDA3'!J45,'MDA3'!M45,AF45)","v":0},0,0]
[{"$f":"IF(COUNTRY_INFO!A46=0,\" \",COUNTRY_INFO!A46)","v":"Tanzania"},{"$f":"IF(COUNTRY_INFO!B46=0,\" \",COUNTRY_INFO!B46)","v":"Kagera"},{"$f":"IF(COUNTRY_INFO!C46=0,\" \",COUNTRY_INFO!C46)","v":"Missenyi District Council"},{"$f":"COUNTRY_INFO!L46","v":0},null,null,{"$f":"MAX('MDA1'!M46,'MDA2'!M46)","v":0},{"$f":"IF(AND(COUNTRY_INFO!H46>0,COUNTRY_INFO!H46<4),IF(D46>MAX('MDA1'!M46,'MDA2'!M46),MAX('MDA1'!M46,'MDA2'!M46),D46),0)","v":0},{"$f":"IF(AND(COUNTRY_INFO!H46>0,COUNTRY_INFO!H46<4), IF(G46/D46*100<>0, IF(G46/D46*100>100,100,G46/D46*100), \"-\"),0)","v":0},{"$f":"COUNTRY_INFO!M46","v":0},null,null,{"$f":"MAX('MDA1'!M46,MAX('MDA3'!I46,'MDA3'!L46)+MAX('MDA3'!J46,'MDA3'!M46))","v":0},{"$f":"IF(AND(COUNTRY_INFO!I46>0,COUNTRY_INFO!I46<4),IF(J46>MAX('MDA1'!M46,MAX('MDA3'!I46,'MDA3'!L46)+MAX('MDA3'!J46,'MDA3'!M46)),MAX('MDA1'!M46,MAX('MDA3'!I46,'MDA3'!L46)+MAX('MDA3'!J46,'MDA3'!M46)),J46),0)","v":0},{"$f":"IF(AND(COUNTRY_INFO!I46>0,COUNTRY_INFO!I46<4), IF(M46/J46*100<>0, IF(M46/J46*100>100,100,M46/J46*100), \"-\"),0)","v":0},{"$f":"COUNTRY_INFO!N46","v":89174},null,null,{"$f":"SUM(MAX('MDA2'!J46, 'T1'!L46, MAX(T3_R1!K46, T3_R2!K46)), MAX('MDA1'!K46, 'MDA2'!K46, 'T1'!M46, MAX(T3_R1!L46, T3_R2!L46)), MAX('MDA1'!L46, 'MDA2'!L46, 'T1'!N46, MAX(T3_R1!M46, T3_R2!M46)))","v":0},{"$f":"IF(AND(COUNTRY_INFO!J46>1,COUNTRY_INFO!J46<4),IF(COUNTRY_INFO!E46>MAX('MDA2'!J46,'T1'!L46,MAX(T3_R1!K46,T3_R2!K46)),MAX('MDA2'!J46,'T1'!L46,MAX(T3_R1!K46,T3_R2!K46)),COUNTRY_INFO!E46),0)","v":0},{"$f":"IF(AND(COUNTRY_INFO!J46>1,COUNTRY_INFO!J46<4), IF(T46/COUNTRY_INFO!E46*100<>0, IF(T46/COUNTRY_INFO!E46*100>100,100,T46/COUNTRY_INFO!E46*100), \"-\"),0)","v":"-"},{"$f":"IF(AND(COUNTRY_INFO!J46>1,COUNTRY_INFO!J46<4),IF(COUNTRY_INFO!F46>MAX('MDA1'!K46,'MDA2'!K46,'T1'!M46,MAX(T3_R1!L46,T3_R2!L46)),MAX('MDA1'!K46,'MDA2'!K46,'T1'!M46,MAX(T3_R1!L46,T3_R2!L46)),COUNTRY_INFO!F46),0)","v":0},{"$f":"IF(AND(COUNTRY_INFO!J46>1,COUNTRY_INFO!J46<4), IF(V46/COUNTRY_INFO!F46*100<>0, IF(V46/COUNTRY_INFO!F46*100>100,100,V46/COUNTRY_INFO!F46*100), \"-\"),0)","v":"-"},0,{"$f":"IF(AND(COUNTRY_INFO!J46>1,COUNTRY_INFO!J46<4), IF(S46/P46*100<>0, IF(X46/P46*100>100,100,X46/P46*100), \"-\"),0)","v":"-"},{"$f":"COUNTRY_INFO!O46","v":62101.361567651351},null,null,{"$f":"MAX('T1'!L46,'T2'!J46)+MAX('T1'!M46,'T2'!K46)+MAX('T1'!N46,'T2'!L46)","v":0},{"$f":"IF(COUNTRY_INFO!K46=1,IF(COUNTRY_INFO!F46*0.33>MAX('T1'!M46,'T2'!K46),MAX('T1'!M46,'T2'!K46),COUNTRY_INFO!F46*0.33),IF(COUNTRY_INFO!K46=2,IF(COUNTRY_INFO!F46*0.5>MAX('T1'!M46,'T2'!K46),MAX('T1'!M46,'T2'!K46),COUNTRY_INFO!F46*0.5),IF(COUNTRY_INFO!K46=3,IF(COUNTRY_INFO!F46>MAX('T1'!M46,'T2'!K46),MAX('T1'!M46,'T2'!K46),COUNTRY_INFO!F46),0)))","v":0},{"$f":"IF(AND(COUNTRY_INFO!K46>0,COUNTRY_INFO!K46<4),IF(Z46>0,IF(COUNTRY_INFO!K46=1, AD46/(COUNTRY_INFO!F46*0.33)*100, IF(COUNTRY_INFO!K46=2, AD46/(COUNTRY_INFO!F46*0.5)*100, IF(COUNTRY_INFO!K46=3, AD46/COUNTRY_INFO!F46*100))),\"-\"),0)","v":0},{"$f":"IF(COUNTRY_INFO!K46=2,IF(COUNTRY_INFO!G46*0.2>MAX('T1'!N46,'T2'!L46),MAX('T1'!N46,'T2'!L46),COUNTRY_INFO!G46*0.2),IF(COUNTRY_INFO!K46=3,IF(COUNTRY_INFO!G46>MAX('T1'!N46,'T2'!L46),MAX('T1'!N46,'T2'!L46),COUNTRY_INFO!G46),0))","v":0},{"$f":"IF(AND(COUNTRY_INFO!K46>0,COUNTRY_INFO!K46<4),IF(Z46>0,IF(COUNTRY_INFO!K46=1, 0, IF(COUNTRY_INFO!K46=2, AF46/(COUNTRY_INFO!G46*0.2)*100, IF(COUNTRY_INFO!K46=3, AF46/COUNTRY_INFO!G46*100))),\"-\"),0)","v":0},0,{"$f":"IF(AND(COUNTRY_INFO!K46>0,COUNTRY_INFO!K46<4), IF(AC46/Z46*100<>0, IF(AH46/Z46*100>100,100,AH46/Z46*100), \"-\"),0)","v":"-"},null,{"$f":"IF(AND(D46<>0, D46<>\"Unknown\",D46<>\"Stopped\",D46<>\"Not required\"),D46/COUNTRY_INFO!D46, 0)","v":0},{"$f":"IF(AND(J46<>0,J46<>\"Unknown\",J46<>\"Stopped\",J46<>\"Not required\"),J46/COUNTRY_INFO!D46, 0)","v":0},{"$f":"IF(AND(P46<>0,P46<>\"Unknown\",P46<>\"Not required\"),P46/(COUNTRY_INFO!E46+COUNTRY_INFO!F46), 0)","v":1},{"$f":"IF(AND(Z46<>0,Z46<>\"Unknown\",Z46<>\"Not required\"),IF(COUNTRY_INFO!K46=1,1,IF(COUNTRY_INFO!K46=2,0.5*COUNTRY_INFO!F46/(0.5*COUNTRY_INFO!F46+0.2*COUNTRY_INFO!G46),IF(COUNTRY_INFO!K46=3,COUNTRY_INFO!F46/(COUNTRY_INFO!F46+COUNTRY_INFO!G46)))),0)","v":0.44701918443057886},{"$f":"IF(AND(Z46<>0,Z46<>\"Unknown\",Z46<>\"Not required\"),IF(COUNTRY_INFO!K46=1,0,IF(COUNTRY_INFO!K46=2,0.2*COUNTRY_INFO!G46/(0.5*COUNTRY_INFO!F46+0.2*COUNTRY_INFO!G46),IF(COUNTRY_INFO!K46=3,COUNTRY_INFO!G46/(COUNTRY_INFO!F46+COUNTRY_INFO!G46)))),0)","v":0.55298081556942114},{"$f":"MAX(COUNTRY_INFO!D46*AK46*PROFILE!$G$7,COUNTRY_INFO!D46*AL46*PROFILE!$G$7)","v":0},{"$f":"MAX(COUNTRY_INFO!D46*AK46*PROFILE!$G$8,COUNTRY_INFO!D46*AL46*PROFILE!$G$8,COUNTRY_INFO!D46*AM46*PROFILE!$G$8)","v":33653.302206697983},{"$f":"MAX(COUNTRY_INFO!D46*AK46*PROFILE!$G$9,COUNTRY_INFO!D46*AL46*PROFILE!$G$9,COUNTRY_INFO!D46*AM46*PROFILE!$G$9,IF(AND(DISTRICT!Z46<>\"Unknown\",Z46<>\"Not required\"),COUNTRY_INFO!O46*DISTRICT!AN46,0))","v":58645.956004233412},{"$f":"MAX(COUNTRY_INFO!D46*AK46*PROFILE!$G$10,COUNTRY_INFO!D46*AL46*PROFILE!$G$10,IF(AND(DISTRICT!Z46<>\"Unknown\",Z46<>\"Not required\"),COUNTRY_INFO!O46*DISTRICT!AO46,0))","v":34340.861567651351},126640.11977858274,0,{"$f":"MAX('MDA2'!J46,'T1'!L46,'T2'!J46,T3_R1!K46,T3_R2!K46)","v":0},{"$f":"MAX('MDA1'!K46,'MDA2'!K46,'MDA3'!I46,'MDA3'!L46,'T1'!M46,'T2'!K46,T3_R1!L46,T3_R2!L46)","v":0},{"$f":"MAX('MDA1'!L46,'MDA2'!L46,'MDA3'!J46,'MDA3'!M46,'T1'!N46,'T2'!L46,T3_R1!M46,T3_R2!M46)","v":0},0,{"$f":"MAX('MDA2'!J46,T46)","v":0},{"$f":"MAX('MDA1'!K46,'MDA2'!K46,'MDA3'!I46,'MDA3'!L46,V46,AD46)","v":0},{"$f":"MAX('MDA1'!L46,'MDA2'!L46,'MDA3'!J46,'MDA3'!M46,AF46)","v":0},0,0]
[{"$f":"IF(COUNTRY_INFO!A47=0,\" \",COUNTRY_INFO!A47)","v":"Tanzania"},{"$f":"IF(COUNTRY_INFO!B47=0,\" \",COUNTRY_INFO!B47)","v":"Kagera"},{"$f":"IF(COUNTRY_INFO!C47=0,\" \",COUNTRY_INFO!C47)","v":"Muleba District Council"},{"$f":"COUNTRY_INFO!L47","v":0},null,null,{"$f":"MAX('MDA1'!M47,'MDA2'!M47)","v":0},{"$f":"IF(AND(COUNTRY_INFO!H47>0,COUNTRY_INFO!H47<4),IF(D47>MAX('MDA1'!M47,'MDA2'!M47),MAX('MDA1'!M47,'MDA2'!M47),D47),0)","v":0},{"$f":"IF(AND(COUNTRY_INFO!H47>0,COUNTRY_INFO!H47<4), IF(G47/D47*100<>0, IF(G47/D47*100>100,100,G47/D47*100), \"-\"),0)","v":0},{"$f":"COUNTRY_INFO!M47","v":0},null,null,{"$f":"MAX('MDA1'!M47,MAX('MDA3'!I47,'MDA3'!L47)+MAX('MDA3'!J47,'MDA3'!M47))","v":0},{"$f":"IF(AND(COUNTRY_INFO!I47>0,COUNTRY_INFO!I47<4),IF(J47>MAX('MDA1'!M47,MAX('MDA3'!I47,'MDA3'!L47)+MAX('MDA3'!J47,'MDA3'!M47)),MAX('MDA1'!M47,MAX('MDA3'!I47,'MDA3'!L47)+MAX('MDA3'!J47,'MDA3'!M47)),J47),0)","v":0},{"$f":"IF(AND(COUNTRY_INFO!I47>0,COUNTRY_INFO!I47<4), IF(M47/J47*100<>0, IF(M47/J47*100>100,100,M47/J47*100), \"-\"),0)","v":0},{"$f":"COUNTRY_INFO!N47","v":248192},null,null,{"$f":"SUM(MAX('MDA2'!J47, 'T1'!L47, MAX(T3_R1!K47, T3_R2!K47)), MAX('MDA1'!K47, 'MDA2'!K47, 'T1'!M47, MAX(T3_R1!L47, T3_R2!L47)), MAX('MDA1'!L47, 'MDA2'!L47, 'T1'!N47, MAX(T3_R1!M47, T3_R2!M47)))","v":0},{"$f":"IF(AND(COUNTRY_INFO!J47>1,COUNTRY_INFO!J47<4),IF(COUNTRY_INFO!E47>MAX('MDA2'!J47,'T1'!L47,MAX(T3_R1!K47,T3_R2!K47)),MAX('MDA2'!J47,'T1'!L47,MAX(T3_R1!K47,T3_R2!K47)),COUNTRY_INFO!E47),0)","v":0},{"$f":"IF(AND(COUNTRY_INFO!J47>1,COUNTRY_INFO!J47<4), IF(T47/COUNTRY_INFO!E47*100<>0, IF(T47/COUNTRY_INFO!E47*100>100,100,T47/COUNTRY_INFO!E47*100), \"-\"),0)","v":"-"},{"$f":"IF(AND(COUNTRY_INFO!J47>1,COUNTRY_INFO!J47<4),IF(COUNTRY_INFO!F47>MAX('MDA1'!K47,'MDA2'!K47,'T1'!M47,MAX(T3_R1!L47,T3_R2!L47)),MAX('MDA1'!K47,'MDA2'!K47,'T1'!M47,MAX(T3_R1!L47,T3_R2!L47)),COUNTRY_INFO!F47),0)","v":0},{"$f":"IF(AND(COUNTRY_INFO!J47>1,COUNTRY_INFO!J47<4), IF(V47/COUNTRY_INFO!F47*100<>0, IF(V47/COUNTRY_INFO!F47*100>100,100,V47/COUNTRY_INFO!F47*100), \"-\"),0)","v":"-"},0,{"$f":"IF(AND(COUNTRY_INFO!J47>1,COUNTRY_INFO!J47<4), IF(S47/P47*100<>0, IF(X47/P47*100>100,100,X47/P47*100), \"-\"),0)","v":"-"},{"$f":"COUNTRY_INFO!O47","v":168714.19516275026},null,null,{"$f":"MAX('T1'!L47,'T2'!J47)+MAX('T1'!M47,'T2'!K47)+MAX('T1'!N47,'T2'!L47)","v":0},{"$f":"IF(COUNTRY_INFO!K47=1,IF(COUNTRY_INFO!F47*0.33>MAX('T1'!M47,'T2'!K47),MAX('T1'!M47,'T2'!K47),COUNTRY_INFO!F47*0.33),IF(COUNTRY_INFO!K47=2,IF(COUNTRY_INFO!F47*0.5>MAX('T1'!M47,'T2'!K47),MAX('T1'!M47,'T2'!K47),COUNTRY_INFO!F47*0.5),IF(COUNTRY_INFO!K47=3,IF(COUNTRY_INFO!F47>MAX('T1'!M47,'T2'!K47),MAX('T1'!M47,'T2'!K47),COUNTRY_INFO!F47),0)))","v":0},{"$f":"IF(AND(COUNTRY_INFO!K47>0,COUNTRY_INFO!K47<4),IF(Z47>0,IF(COUNTRY_INFO!K47=1, AD47/(COUNTRY_INFO!F47*0.33)*100, IF(COUNTRY_INFO!K47=2, AD47/(COUNTRY_INFO!F47*0.5)*100, IF(COUNTRY_INFO!K47=3, AD47/COUNTRY_INFO!F47*100))),\"-\"),0)","v":0},{"$f":"IF(COUNTRY_INFO!K47=2,IF(COUNTRY_INFO!G47*0.2>MAX('T1'!N47,'T2'!L47),MAX('T1'!N47,'T2'!L47),COUNTRY_INFO!G47*0.2),IF(COUNTRY_INFO!K47=3,IF(COUNTRY_INFO!G47>MAX('T1'!N47,'T2'!L47),MAX('T1'!N47,'T2'!L47),COUNTRY_INFO!G47),0))","v":0},{"$f":"IF(AND(COUNTRY_INFO!K47>0,COUNTRY_INFO!K47<4),IF(Z47>0,IF(COUNTRY_INFO!K47=1, 0, IF(COUNTRY_INFO!K47=2, AF47/(COUNTRY_INFO!G47*0.2)*100, IF(COUNTRY_INFO!K47=3, AF47/COUNTRY_INFO!G47*100))),\"-\"),0)","v":0},0,{"$f":"IF(AND(COUNTRY_INFO!K47>0,COUNTRY_INFO!K47<4), IF(AC47/Z47*100<>0, IF(AH47/Z47*100>100,100,AH47/Z47*100), \"-\"),0)","v":"-"},null,{"$f":"IF(AND(D47<>0, D47<>\"Unknown\",D47<>\"Stopped\",D47<>\"Not required\"),D47/COUNTRY_INFO!D47, 0)","v":0},{"$f":"IF(AND(J47<>0,J47<>\"Unknown\",J47<>\"Stopped\",J47<>\"Not required\"),J47/COUNTRY_INFO!D47, 0)","v":0},{"$f":"IF(AND(P47<>0,P47<>\"Unknown\",P47<>\"Not required\"),P47/(COUNTRY_INFO!E47+COUNTRY_INFO!F47), 0)","v":1},{"$f":"IF(AND(Z47<>0,Z47<>\"Unknown\",Z47<>\"Not required\"),IF(COUNTRY_INFO!K47=1,1,IF(COUNTRY_INFO!K47=2,0.5*COUNTRY_INFO!F47/(0.5*COUNTRY_INFO!F47+0.2*COUNTRY_INFO!G47),IF(COUNTRY_INFO!K47=3,COUNTRY_INFO!F47/(COUNTRY_INFO!F47+COUNTRY_INFO!G47)))),0)","v":0.46960186084859179},{"$f":"IF(AND(Z47<>0,Z47<>\"Unknown\",Z47<>\"Not required\"),IF(COUNTRY_INFO!K47=1,0,IF(COUNTRY_INFO!K47=2,0.2*COUNTRY_INFO!G47/(0.5*COUNTRY_INFO!F47+0.2*COUNTRY_INFO!G47),IF(COUNTRY_INFO!K47=3,COUNTRY_INFO!G47/(COUNTRY_INFO!F47+COUNTRY_INFO!G47)))),0)","v":0.53039813915140832},{"$f":"MAX(COUNTRY_INFO!D47*AK47*PROFILE!$G$7,COUNTRY_INFO!D47*AL47*PROFILE!$G$7)","v":0},{"$f":"MAX(COUNTRY_INFO!D47*AK47*PROFILE!$G$8,COUNTRY_INFO!D47*AL47*PROFILE!$G$8,COUNTRY_INFO!D47*AM47*PROFILE!$G$8)","v":89735.042701370388},{"$f":"MAX(COUNTRY_INFO!D47*AK47*PROFILE!$G$9,COUNTRY_INFO!D47*AL47*PROFILE!$G$9,COUNTRY_INFO!D47*AM47*PROFILE!$G$9,IF(AND(DISTRICT!Z47<>\"Unknown\",Z47<>\"Not required\"),COUNTRY_INFO!O47*DISTRICT!AN47,0))","v":156376.84926072916},{"$f":"MAX(COUNTRY_INFO!D47*AK47*PROFILE!$G$10,COUNTRY_INFO!D47*AL47*PROFILE!$G$10,IF(AND(DISTRICT!Z47<>\"Unknown\",Z47<>\"Not required\"),COUNTRY_INFO!O47*DISTRICT!AO47,0))","v":89485.695162750271},335597.58712484979,0,{"$f":"MAX('MDA2'!J47,'T1'!L47,'T2'!J47,T3_R1!K47,T3_R2!K47)","v":0},{"$f":"MAX('MDA1'!K47,'MDA2'!K47,'MDA3'!I47,'MDA3'!L47,'T1'!M47,'T2'!K47,T3_R1!L47,T3_R2!L47)","v":0},{"$f":"MAX('MDA1'!L47,'MDA2'!L47,'MDA3'!J47,'MDA3'!M47,'T1'!N47,'T2'!L47,T3_R1!M47,T3_R2!M47)","v":0},0,{"$f":"MAX('MDA2'!J47,T47)","v":0},{"$f":"MAX('MDA1'!K47,'MDA2'!K47,'MDA3'!I47,'MDA3'!L47,V47,AD47)","v":0},{"$f":"MAX('MDA1'!L47,'MDA2'!L47,'MDA3'!J47,'MDA3'!M47,AF47)","v":0},0,0]
[{"$f":"IF(COUNTRY_INFO!A48=0,\" \",COUNTRY_INFO!A48)","v":"Tanzania"},{"$f":"IF(COUNTRY_INFO!B48=0,\" \",COUNTRY_INFO!B48)","v":"Kagera"},{"$f":"IF(COUNTRY_INFO!C48=0,\" \",COUNTRY_INFO!C48)","v":"Ngara District Council"},{"$f":"COUNTRY_INFO!L48","v":0},null,null,{"$f":"MAX('MDA1'!M48,'MDA2'!M48)","v":0},{"$f":"IF(AND(COUNTRY_INFO!H48>0,COUNTRY_INFO!H48<4),IF(D48>MAX('MDA1'!M48,'MDA2'!M48),MAX('MDA1'!M48,'MDA2'!M48),D48),0)","v":0},{"$f":"IF(AND(COUNTRY_INFO!H48>0,COUNTRY_INFO!H48<4), IF(G48/D48*100<>0, IF(G48/D48*100>100,100,G48/D48*100), \"-\"),0)","v":0},{"$f":"COUNTRY_INFO!M48","v":0},null,null,{"$f":"MAX('MDA1'!M48,MAX('MDA3'!I48,'MDA3'!L48)+MAX('MDA3'!J48,'MDA3'!M48))","v":0},{"$f":"IF(AND(COUNTRY_INFO!I48>0,COUNTRY_INFO!I48<4),IF(J48>MAX('MDA1'!M48,MAX('MDA3'!I48,'MDA3'!L48)+MAX('MDA3'!J48,'MDA3'!M48)),MAX('MDA1'!M48,MAX('MDA3'!I48,'MDA3'!L48)+MAX('MDA3'!J48,'MDA3'!M48)),J48),0)","v":0},{"$f":"IF(AND(COUNTRY_INFO!I48>0,COUNTRY_INFO!I48<4), IF(M48/J48*100<>0, IF(M48/J48*100>100,100,M48/J48*100), \"-\"),0)","v":0},{"$f":"COUNTRY_INFO!N48","v":143154},null,null,{"$f":"SUM(MAX('MDA2'!J48, 'T1'!L48, MAX(T3_R1!K48, T3_R2!K48)), MAX('MDA1'!K48, 'MDA2'!K48, 'T1'!M48, MAX(T3_R1!L48, T3_R2!L48)), MAX('MDA1'!L48, 'MDA2'!L48, 'T1'!N48, MAX(T3_R1!M48, T3_R2!M48)))","v":0},{"$f":"IF(AND(COUNTRY_INFO!J48>1,COUNTRY_INFO!J48<4),IF(COUNTRY_INFO!E48>MAX('MDA2'!J48,'T1'!L48,MAX(T3_R1!K48,T3_R2!K48)),MAX('MDA2'!J48,'T1'!L48,MAX(T3_R1!K48,T3_R2!K48)),COUNTRY_INFO!E48),0)","v":0},{"$f":"IF(AND(COUNTRY_INFO!J48>1,COUNTRY_INFO!J48<4), IF(T48/COUNTRY_INFO!E48*100<>0, IF(T48/COUNTRY_INFO!E48*100>100,100,T48/COUNTRY_INFO!E48*100), \"-\"),0)","v":"-"},{"$f":"IF(AND(COUNTRY_INFO!J48>1,COUNTRY_INFO!J48<4),IF(COUNTRY_INFO!F48>MAX('MDA1'!K48,'MDA2'!K48,'T1'!M48,MAX(T3_R1!L48,T3_R2!L48)),MAX('MDA1'!K48,'MDA2'!K48,'T1'!M48,MAX(T3_R1!L48,T3_R2!L48)),COUNTRY_INFO!F48),0)","v":0},{"$f":"IF(AND(COUNTRY_INFO!J48>1,COUNTRY_INFO!J48<4), IF(V48/COUNTRY_INFO!F48*100<>0, IF(V48/COUNTRY_INFO!F48*100>100,100,V48/COUNTRY_INFO!F48*100), \"-\"),0)","v":"-"},0,{"$f":"IF(AND(COUNTRY_INFO!J48>1,COUNTRY_INFO!J48<4), IF(S48/P48*100<>0, IF(X48/P48*100>100,100,X48/P48*100), \"-\"),0)","v":"-"},{"$f":"COUNTRY_INFO!O48","v":98779.871535196216},null,null,{"$f":"MAX('T1'!L48,'T2'!J48)+MAX('T1'!M48,'T2'!K48)+MAX('T1'!N48,'T2'!L48)","v":0},{"$f":"IF(COUNTRY_INFO!K48=1,IF(COUNTRY_INFO!F48*0.33>MAX('T1'!M48,'T2'!K48),MAX('T1'!M48,'T2'!K48),COUNTRY_INFO!F48*0.33),IF(COUNTRY_INFO!K48=2,IF(COUNTRY_INFO!F48*0.5>MAX('T1'!M48,'T2'!K48),MAX('T1'!M48,'T2'!K48),COUNTRY_INFO!F48*0.5),IF(COUNTRY_INFO!K48=3,IF(COUNTRY_INFO!F48>MAX('T1'!M48,'T2'!K48),MAX('T1'!M48,'T2'!K48),COUNTRY_INFO!F48),0)))","v":0},{"$f":"IF(AND(COUNTRY_INFO!K48>0,COUNTRY_INFO!K48<4),IF(Z48>0,IF(COUNTRY_INFO!K48=1, AD48/(COUNTRY_INFO!F48*0.33)*100, IF(COUNTRY_INFO!K48=2, AD48/(COUNTRY_INFO!F48*0.5)*100, IF(COUNTRY_INFO!K48=3, AD48/COUNTRY_INFO!F48*100))),\"-\"),0)","v":0},{"$f":"IF(COUNTRY_INFO!K48=2,IF(COUNTRY_INFO!G48*0.2>MAX('T1'!N48,'T2'!L48),MAX('T1'!N48,'T2'!L48),COUNTRY_INFO!G48*0.2),IF(COUNTRY_INFO!K48=3,IF(COUNTRY_INFO!G48>MAX('T1'!N48,'T2'!L48),MAX('T1'!N48,'T2'!L48),COUNTRY_INFO!G48),0))","v":0},{"$f":"IF(AND(COUNTRY_INFO!K48>0,COUNTRY_INFO!K48<4),IF(Z48>0,IF(COUNTRY_INFO!K48=1, 0, IF(COUNTRY_INFO!K48=2, AF48/(COUNTRY_INFO!G48*0.2)*100, IF(COUNTRY_INFO!K48=3, AF48/COUNTRY_INFO!G48*100))),\"-\"),0)","v":0},0,{"$f":"IF(AND(COUNTRY_INFO!K48>0,COUNTRY_INFO!K48<4), IF(AC48/Z48*100<>0, IF(AH48/Z48*100>100,100,AH48/Z48*100), \"-\"),0)","v":"-"},null,{"$f":"IF(AND(D48<>0, D48<>\"Unknown\",D48<>\"Stopped\",D48<>\"Not required\"),D48/COUNTRY_INFO!D48, 0)","v":0},{"$f":"IF(AND(J48<>0,J48<>\"Unknown\",J48<>\"Stopped\",J48<>\"Not required\"),J48/COUNTRY_INFO!D48, 0)","v":0},{"$f":"IF(AND(P48<>0,P48<>\"Unknown\",P48<>\"Not required\"),P48/(COUNTRY_INFO!E48+COUNTRY_INFO!F48), 0)","v":1},{"$f":"IF(AND(Z48<>0,Z48<>\"Unknown\",Z48<>\"Not required\"),IF(COUNTRY_INFO!K48=1,1,IF(COUNTRY_INFO!K48=2,0.5*COUNTRY_INFO!F48/(0.5*COUNTRY_INFO!F48+0.2*COUNTRY_INFO!G48),IF(COUNTRY_INFO!K48=3,COUNTRY_INFO!F48/(COUNTRY_INFO!F48+COUNTRY_INFO!G48)))),0)","v":0.45555333592397157},{"$f":"IF(AND(Z48<>0,Z48<>\"Unknown\",Z48<>\"Not required\"),IF(COUNTRY_INFO!K48=1,0,IF(COUNTRY_INFO!K48=2,0.2*COUNTRY_INFO!G48/(0.5*COUNTRY_INFO!F48+0.2*COUNTRY_INFO!G48),IF(COUNTRY_INFO!K48=3,COUNTRY_INFO!G48/(COUNTRY_INFO!F48+COUNTRY_INFO!G48)))),0)","v":0.54444666407602837},{"$f":"MAX(COUNTRY_INFO!D48*AK48*PROFILE!$G$7,COUNTRY_INFO!D48*AL48*PROFILE!$G$7)","v":0},{"$f":"MAX(COUNTRY_INFO!D48*AK48*PROFILE!$G$8,COUNTRY_INFO!D48*AL48*PROFILE!$G$8,COUNTRY_INFO!D48*AM48*PROFILE!$G$8)","v":53155.206422940384},{"$f":"MAX(COUNTRY_INFO!D48*AK48*PROFILE!$G$9,COUNTRY_INFO!D48*AL48*PROFILE!$G$9,COUNTRY_INFO!D48*AM48*PROFILE!$G$9,IF(AND(DISTRICT!Z48<>\"Unknown\",Z48<>\"Not required\"),COUNTRY_INFO!O48*DISTRICT!AN48,0))","v":92630.966142017001},{"$f":"MAX(COUNTRY_INFO!D48*AK48*PROFILE!$G$10,COUNTRY_INFO!D48*AL48*PROFILE!$G$10,IF(AND(DISTRICT!Z48<>\"Unknown\",Z48<>\"Not required\"),COUNTRY_INFO!O48*DISTRICT!AO48,0))","v":53780.371535196209},199566.54410015358,0,{"$f":"MAX('MDA2'!J48,'T1'!L48,'T2'!J48,T3_R1!K48,T3_R2!K48)","v":0},{"$f":"MAX('MDA1'!K48,'MDA2'!K48,'MDA3'!I48,'MDA3'!L48,'T1'!M48,'T2'!K48,T3_R1!L48,T3_R2!L48)","v":0},{"$f":"MAX('MDA1'!L48,'MDA2'!L48,'MDA3'!J48,'MDA3'!M48,'T1'!N48,'T2'!L48,T3_R1!M48,T3_R2!M48)","v":0},0,{"$f":"MAX('MDA2'!J48,T48)","v":0},{"$f":"MAX('MDA1'!K48,'MDA2'!K48,'MDA3'!I48,'MDA3'!L48,V48,AD48)","v":0},{"$f":"MAX('MDA1'!L48,'MDA2'!L48,'MDA3'!J48,'MDA3'!M48,AF48)","v":0},0,0]
[{"$f":"IF(COUNTRY_INFO!A49=0,\" \",COUNTRY_INFO!A49)","v":"Tanzania"},{"$f":"IF(COUNTRY_INFO!B49=0,\" \",COUNTRY_INFO!B49)","v":"Katavi"},{"$f":"IF(COUNTRY_INFO!C49=0,\" \",COUNTRY_INFO!C49)","v":"Mlele District Council"},{"$f":"COUNTRY_INFO!L49","v":"Stopped"},null,null,{"$f":"MAX('MDA1'!M49,'MDA2'!M49)","v":0},{"$f":"IF(AND(COUNTRY_INFO!H49>0,COUNTRY_INFO!H49<4),IF(D49>MAX('MDA1'!M49,'MDA2'!M49),MAX('MDA1'!M49,'MDA2'!M49),D49),0)","v":0},{"$f":"IF(AND(COUNTRY_INFO!H49>0,COUNTRY_INFO!H49<4), IF(G49/D49*100<>0, IF(G49/D49*100>100,100,G49/D49*100), \"-\"),0)","v":0},{"$f":"COUNTRY_INFO!M49","v":0},null,null,{"$f":"MAX('MDA1'!M49,MAX('MDA3'!I49,'MDA3'!L49)+MAX('MDA3'!J49,'MDA3'!M49))","v":0},{"$f":"IF(AND(COUNTRY_INFO!I49>0,COUNTRY_INFO!I49<4),IF(J49>MAX('MDA1'!M49,MAX('MDA3'!I49,'MDA3'!L49)+MAX('MDA3'!J49,'MDA3'!M49)),MAX('MDA1'!M49,MAX('MDA3'!I49,'MDA3'!L49)+MAX('MDA3'!J49,'MDA3'!M49)),J49),0)","v":0},{"$f":"IF(AND(COUNTRY_INFO!I49>0,COUNTRY_INFO!I49<4), IF(M49/J49*100<>0, IF(M49/J49*100>100,100,M49/J49*100), \"-\"),0)","v":0},{"$f":"COUNTRY_INFO!N49","v":22284},null,null,{"$f":"SUM(MAX('MDA2'!J49, 'T1'!L49, MAX(T3_R1!K49, T3_R2!K49)), MAX('MDA1'!K49, 'MDA2'!K49, 'T1'!M49, MAX(T3_R1!L49, T3_R2!L49)), MAX('MDA1'!L49, 'MDA2'!L49, 'T1'!N49, MAX(T3_R1!M49, T3_R2!M49)))","v":14568},{"$f":"IF(AND(COUNTRY_INFO!J49>1,COUNTRY_INFO!J49<4),IF(COUNTRY_INFO!E49>MAX('MDA2'!J49,'T1'!L49,MAX(T3_R1!K49,T3_R2!K49)),MAX('MDA2'!J49,'T1'!L49,MAX(T3_R1!K49,T3_R2!K49)),COUNTRY_INFO!E49),0)","v":0},{"$f":"IF(AND(COUNTRY_INFO!J49>1,COUNTRY_INFO!J49<4), IF(T49/COUNTRY_INFO!E49*100<>0, IF(T49/COUNTRY_INFO!E49*100>100,100,T49/COUNTRY_INFO!E49*100), \"-\"),0)","v":"-"},{"$f":"IF(AND(COUNTRY_INFO!J49>1,COUNTRY_INFO!J49<4),IF(COUNTRY_INFO!F49>MAX('MDA1'!K49,'MDA2'!K49,'T1'!M49,MAX(T3_R1!L49,T3_R2!L49)),MAX('MDA1'!K49,'MDA2'!K49,'T1'!M49,MAX(T3_R1!L49,T3_R2!L49)),COUNTRY_INFO!F49),0)","v":14568},{"$f":"IF(AND(COUNTRY_INFO!J49>1,COUNTRY_INFO!J49<4), IF(V49/COUNTRY_INFO!F49*100<>0, IF(V49/COUNTRY_INFO!F49*100>100,100,V49/COUNTRY_INFO!F49*100), \"-\"),0)","v":96.636815920398007},14568,{"$f":"IF(AND(COUNTRY_INFO!J49>1,COUNTRY_INFO!J49<4), IF(S49/P49*100<>0, IF(X49/P49*100>100,100,X49/P49*100), \"-\"),0)","v":65.374259558427568},{"$f":"COUNTRY_INFO!O49","v":14258.086540497916},null,null,{"$f":"MAX('T1'!L49,'T2'!J49)+MAX('T1'!M49,'T2'!K49)+MAX('T1'!N49,'T2'!L49)","v":0},{"$f":"IF(COUNTRY_INFO!K49=1,IF(COUNTRY_INFO!F49*0.33>MAX('T1'!M49,'T2'!K49),MAX('T1'!M49,'T2'!K49),COUNTRY_INFO!F49*0.33),IF(COUNTRY_INFO!K49=2,IF(COUNTRY_INFO!F49*0.5>MAX('T1'!M49,'T2'!K49),MAX('T1'!M49,'T2'!K49),COUNTRY_INFO!F49*0.5),IF(COUNTRY_INFO!K49=3,IF(COUNTRY_INFO!F49>MAX('T1'!M49,'T2'!K49),MAX('T1'!M49,'T2'!K49),COUNTRY_INFO!F49),0)))","v":0},{"$f":"IF(AND(COUNTRY_INFO!K49>0,COUNTRY_INFO!K49<4),IF(Z49>0,IF(COUNTRY_INFO!K49=1, AD49/(COUNTRY_INFO!F49*0.33)*100, IF(COUNTRY_INFO!K49=2, AD49/(COUNTRY_INFO!F49*0.5)*100, IF(COUNTRY_INFO!K49=3, AD49/COUNTRY_INFO!F49*100))),\"-\"),0)","v":0},{"$f":"IF(COUNTRY_INFO!K49=2,IF(COUNTRY_INFO!G49*0.2>MAX('T1'!N49,'T2'!L49),MAX('T1'!N49,'T2'!L49),COUNTRY_INFO!G49*0.2),IF(COUNTRY_INFO!K49=3,IF(COUNTRY_INFO!G49>MAX('T1'!N49,'T2'!L49),MAX('T1'!N49,'T2'!L49),COUNTRY_INFO!G49),0))","v":0},{"$f":"IF(AND(COUNTRY_INFO!K49>0,COUNTRY_INFO!K49<4),IF(Z49>0,IF(COUNTRY_INFO!K49=1, 0, IF(COUNTRY_INFO!K49=2, AF49/(COUNTRY_INFO!G49*0.2)*100, IF(COUNTRY_INFO!K49=3, AF49/COUNTRY_INFO!G49*100))),\"-\"),0)","v":0},0,{"$f":"IF(AND(COUNTRY_INFO!K49>0,COUNTRY_INFO!K49<4), IF(AC49/Z49*100<>0, IF(AH49/Z49*100>100,100,AH49/Z49*100), \"-\"),0)","v":"-"},null,{"$f":"IF(AND(D49<>0, D49<>\"Unknown\",D49<>\"Stopped\",D49<>\"Not required\"),D49/COUNTRY_INFO!D49, 0)","v":0},{"$f":"IF(AND(J49<>0,J49<>\"Unknown\",J49<>\"Stopped\",J49<>\"Not required\"),J49/COUNTRY_INFO!D49, 0)","v":0},{"$f":"IF(AND(P49<>0,P49<>\"Unknown\",P49<>\"Not required\"),P49/(COUNTRY_INFO!E49+COUNTRY_INFO!F49), 0)","v":1},{"$f":"IF(AND(Z49<>0,Z49<>\"Unknown\",Z49<>\"Not required\"),IF(COUNTRY_INFO!K49=1,1,IF(COUNTRY_INFO!K49=2,0.5*COUNTRY_INFO!F49/(0.5*COUNTRY_INFO!F49+0.2*COUNTRY_INFO!G49),IF(COUNTRY_INFO!K49=3,COUNTRY_INFO!F49/(COUNTRY_INFO!F49+COUNTRY_INFO!G49)))),0)","v":0.52864737344600088},{"$f":"IF(AND(Z49<>0,Z49<>\"Unknown\",Z49<>\"Not required\"),IF(COUNTRY_INFO!K49=1,0,IF(COUNTRY_INFO!K49=2,0.2*COUNTRY_INFO!G49/(0.5*COUNTRY_INFO!F49+0.2*COUNTRY_INFO!G49),IF(COUNTRY_INFO!K49=3,COUNTRY_INFO!G49/(COUNTRY_INFO!F49+COUNTRY_INFO!G49)))),0)","v":0.47135262655399918},{"$f":"MAX(COUNTRY_INFO!D49*AK49*PROFILE!$G$7,COUNTRY_INFO!D49*AL49*PROFILE!$G$7)","v":0},{"$f":"MAX(COUNTRY_INFO!D49*AK49*PROFILE!$G$8,COUNTRY_INFO!D49*AL49*PROFILE!$G$8,COUNTRY_INFO!D49*AM49*PROFILE!$G$8)","v":7209.4144247836366},{"$f":"MAX(COUNTRY_INFO!D49*AK49*PROFILE!$G$9,COUNTRY_INFO!D49*AL49*PROFILE!$G$9,COUNTRY_INFO!D49*AM49*PROFILE!$G$9,IF(AND(DISTRICT!Z49<>\"Unknown\",Z49<>\"Not required\"),COUNTRY_INFO!O49*DISTRICT!AN49,0))","v":12563.492241423986},{"$f":"MAX(COUNTRY_INFO!D49*AK49*PROFILE!$G$10,COUNTRY_INFO!D49*AL49*PROFILE!$G$10,IF(AND(DISTRICT!Z49<>\"Unknown\",Z49<>\"Not required\"),COUNTRY_INFO!O49*DISTRICT!AO49,0))","v":6720.5865404979158},26493.493206705538,0,{"$f":"MAX('MDA2'!J49,'T1'!L49,'T2'!J49,T3_R1!K49,T3_R2!K49)","v":0},{"$f":"MAX('MDA1'!K49,'MDA2'!K49,'MDA3'!I49,'MDA3'!L49,'T1'!M49,'T2'!K49,T3_R1!L49,T3_R2!L49)","v":14568},{"$f":"MAX('MDA1'!L49,'MDA2'!L49,'MDA3'!J49,'MDA3'!M49,'T1'!N49,'T2'!L49,T3_R1!M49,T3_R2!M49)","v":0},14568,{"$f":"MAX('MDA2'!J49,T49)","v":0},{"$f":"MAX('MDA1'!K49,'MDA2'!K49,'MDA3'!I49,'MDA3'!L49,V49,AD49)","v":14568},{"$f":"MAX('MDA1'!L49,'MDA2'!L49,'MDA3'!J49,'MDA3'!M49,AF49)","v":0},14568,54.987086400191352]
[{"$f":"IF(COUNTRY_INFO!A50=0,\" \",COUNTRY_INFO!A50)","v":"Tanzania"},{"$f":"IF(COUNTRY_INFO!B50=0,\" \",COUNTRY_INFO!B50)","v":"Katavi"},{"$f":"IF(COUNTRY_INFO!C50=0,\" \",COUNTRY_INFO!C50)","v":"Mpanda District Council"},{"$f":"COUNTRY_INFO!L50","v":"Stopped"},null,null,{"$f":"MAX('MDA1'!M50,'MDA2'!M50)","v":0},{"$f":"IF(AND(COUNTRY_INFO!H50>0,COUNTRY_INFO!H50<4),IF(D50>MAX('MDA1'!M50,'MDA2'!M50),MAX('MDA1'!M50,'MDA2'!M50),D50),0)","v":0},{"$f":"IF(AND(COUNTRY_INFO!H50>0,COUNTRY_INFO!H50<4), IF(G50/D50*100<>0, IF(G50/D50*100>100,100,G50/D50*100), \"-\"),0)","v":0},{"$f":"COUNTRY_INFO!M50","v":0},null,null,{"$f":"MAX('MDA1'!M50,MAX('MDA3'!I50,'MDA3'!L50)+MAX('MDA3'!J50,'MDA3'!M50))","v":0},{"$f":"IF(AND(COUNTRY_INFO!I50>0,COUNTRY_INFO!I50<4),IF(J50>MAX('MDA1'!M50,MAX('MDA3'!I50,'MDA3'!L50)+MAX('MDA3'!J50,'MDA3'!M50)),MAX('MDA1'!M50,MAX('MDA3'!I50,'MDA3'!L50)+MAX('MDA3'!J50,'MDA3'!M50)),J50),0)","v":0},{"$f":"IF(AND(COUNTRY_INFO!I50>0,COUNTRY_INFO!I50<4), IF(M50/J50*100<>0, IF(M50/J50*100>100,100,M50/J50*100), \"-\"),0)","v":0},{"$f":"COUNTRY_INFO!N50","v":103964},null,null,{"$f":"SUM(MAX('MDA2'!J50, 'T1'!L50, MAX(T3_R1!K50, T3_R2!K50)), MAX('MDA1'!K50, 'MDA2'!K50, 'T1'!M50, MAX(T3_R1!L50, T3_R2!L50)), MAX('MDA1'!L50, 'MDA2'!L50, 'T1'!N50, MAX(T3_R1!M50, T3_R2!M50)))","v":67438},{"$f":"IF(AND(COUNTRY_INFO!J50>1,COUNTRY_INFO!J50<4),IF(COUNTRY_INFO!E50>MAX('MDA2'!J50,'T1'!L50,MAX(T3_R1!K50,T3_R2!K50)),MAX('MDA2'!J50,'T1'!L50,MAX(T3_R1!K50,T3_R2!K50)),COUNTRY_INFO!E50),0)","v":0},{"$f":"IF(AND(COUNTRY_INFO!J50>1,COUNTRY_INFO!J50<4), IF(T50/COUNTRY_INFO!E50*100<>0, IF(T50/COUNTRY_INFO!E50*100>100,100,T50/COUNTRY_INFO!E50*100), \"-\"),0)","v":"-"},{"$f":"IF(AND(COUNTRY_INFO!J50>1,COUNTRY_INFO!J50<4),IF(COUNTRY_INFO!F50>MAX('MDA1'!K50,'MDA2'!K50,'T1'!M50,MAX(T3_R1!L50,T3_R2!L50)),MAX('MDA1'!K50,'MDA2'!K50,'T1'!M50,MAX(T3_R1!L50,T3_R2!L50)),COUNTRY_INFO!F50),0)","v":67438},{"$f":"IF(AND(COUNTRY_INFO!J50>1,COUNTRY_INFO!J50<4), IF(V50/COUNTRY_INFO!F50*100<>0, IF(V50/COUNTRY_INFO!F50*100>100,100,V50/COUNTRY_INFO!F50*100), \"-\"),0)","v":90.999622173044742},67438,{"$f":"IF(AND(COUNTRY_INFO!J50>1,COUNTRY_INFO!J50<4), IF(S50/P50*100<>0, IF(X50/P50*100>100,100,X50/P50*100), \"-\"),0)","v":64.866684621599774},{"$f":"COUNTRY_INFO!O50","v":62549.567982628228},null,null,{"$f":"MAX('T1'!L50,'T2'!J50)+MAX('T1'!M50,'T2'!K50)+MAX('T1'!N50,'T2'!L50)","v":0},{"$f":"IF(COUNTRY_INFO!K50=1,IF(COUNTRY_INFO!F50*0.33>MAX('T1'!M50,'T2'!K50),MAX('T1'!M50,'T2'!K50),COUNTRY_INFO!F50*0.33),IF(COUNTRY_INFO!K50=2,IF(COUNTRY_INFO!F50*0.5>MAX('T1'!M50,'T2'!K50),MAX('T1'!M50,'T2'!K50),COUNTRY_INFO!F50*0.5),IF(COUNTRY_INFO!K50=3,IF(COUNTRY_INFO!F50>MAX('T1'!M50,'T2'!K50),MAX('T1'!M50,'T2'!K50),COUNTRY_INFO!F50),0)))","v":0},{"$f":"IF(AND(COUNTRY_INFO!K50>0,COUNTRY_INFO!K50<4),IF(Z50>0,IF(COUNTRY_INFO!K50=1, AD50/(COUNTRY_INFO!F50*0.33)*100, IF(COUNTRY_INFO!K50=2, AD50/(COUNTRY_INFO!F50*0.5)*100, IF(COUNTRY_INFO!K50=3, AD50/COUNTRY_INFO!F50*100))),\"-\"),0)","v":0},{"$f":"IF(COUNTRY_INFO!K50=2,IF(COUNTRY_INFO!G50*0.2>MAX('T1'!N50,'T2'!L50),MAX('T1'!N50,'T2'!L50),COUNTRY_INFO!G50*0.2),IF(COUNTRY_INFO!K50=3,IF(COUNTRY_INFO!G50>MAX('T1'!N50,'T2'!L50),MAX('T1'!N50,'T2'!L50),COUNTRY_INFO!G50),0))","v":0},{"$f":"IF(AND(COUNTRY_INFO!K50>0,COUNTRY_INFO!K50<4),IF(Z50>0,IF(COUNTRY_INFO!K50=1, 0, IF(COUNTRY_INFO!K50=2, AF50/(COUNTRY_INFO!G50*0.2)*100, IF(COUNTRY_INFO!K50=3, AF50/COUNTRY_INFO!G50*100))),\"-\"),0)","v":0},0,{"$f":"IF(AND(COUNTRY_INFO!K50>0,COUNTRY_INFO!K50<4), IF(AC50/Z50*100<>0, IF(AH50/Z50*100>100,100,AH50/Z50*100), \"-\"),0)","v":"-"},null,{"$f":"IF(AND(D50<>0, D50<>\"Unknown\",D50<>\"Stopped\",D50<>\"Not required\"),D50/COUNTRY_INFO!D50, 0)","v":0},{"$f":"IF(AND(J50<>0,J50<>\"Unknown\",J50<>\"Stopped\",J50<>\"Not required\"),J50/COUNTRY_INFO!D50, 0)","v":0},{"$f":"IF(AND(P50<>0,P50<>\"Unknown\",P50<>\"Not required\"),P50/(COUNTRY_INFO!E50+COUNTRY_INFO!F50), 0)","v":1},{"$f":"IF(AND(Z50<>0,Z50<>\"Unknown\",Z50<>\"Not required\"),IF(COUNTRY_INFO!K50=1,1,IF(COUNTRY_INFO!K50=2,0.5*COUNTRY_INFO!F50/(0.5*COUNTRY_INFO!F50+0.2*COUNTRY_INFO!G50),IF(COUNTRY_INFO!K50=3,COUNTRY_INFO!F50/(COUNTRY_INFO!F50+COUNTRY_INFO!G50)))),0)","v":0.59239417944966366},{"$f":"IF(AND(Z50<>0,Z50<>\"Unknown\",Z50<>\"Not required\"),IF(COUNTRY_INFO!K50=1,0,IF(COUNTRY_INFO!K50=2,0.2*COUNTRY_INFO!G50/(0.5*COUNTRY_INFO!F50+0.2*COUNTRY_INFO!G50),IF(COUNTRY_INFO!K50=3,COUNTRY_INFO!G50/(COUNTRY_INFO!F50+COUNTRY_INFO!G50)))),0)","v":0.40760582055033645},{"$f":"MAX(COUNTRY_INFO!D50*AK50*PROFILE!$G$7,COUNTRY_INFO!D50*AL50*PROFILE!$G$7)","v":0},{"$f":"MAX(COUNTRY_INFO!D50*AK50*PROFILE!$G$8,COUNTRY_INFO!D50*AL50*PROFILE!$G$8,COUNTRY_INFO!D50*AM50*PROFILE!$G$8)","v":29855.997788440738},{"$f":"MAX(COUNTRY_INFO!D50*AK50*PROFILE!$G$9,COUNTRY_INFO!D50*AL50*PROFILE!$G$9,COUNTRY_INFO!D50*AM50*PROFILE!$G$9,IF(AND(DISTRICT!Z50<>\"Unknown\",Z50<>\"Not required\"),COUNTRY_INFO!O50*DISTRICT!AN50,0))","v":52028.580197247298},{"$f":"MAX(COUNTRY_INFO!D50*AK50*PROFILE!$G$10,COUNTRY_INFO!D50*AL50*PROFILE!$G$10,IF(AND(DISTRICT!Z50<>\"Unknown\",Z50<>\"Not required\"),COUNTRY_INFO!O50*DISTRICT!AO50,0))","v":25495.567982628232},107380.14596831627,0,{"$f":"MAX('MDA2'!J50,'T1'!L50,'T2'!J50,T3_R1!K50,T3_R2!K50)","v":0},{"$f":"MAX('MDA1'!K50,'MDA2'!K50,'MDA3'!I50,'MDA3'!L50,'T1'!M50,'T2'!K50,T3_R1!L50,T3_R2!L50)","v":67438},{"$f":"MAX('MDA1'!L50,'MDA2'!L50,'MDA3'!J50,'MDA3'!M50,'T1'!N50,'T2'!L50,T3_R1!M50,T3_R2!M50)","v":0},67438,{"$f":"MAX('MDA2'!J50,T50)","v":0},{"$f":"MAX('MDA1'!K50,'MDA2'!K50,'MDA3'!I50,'MDA3'!L50,V50,AD50)","v":67438},{"$f":"MAX('MDA1'!L50,'MDA2'!L50,'MDA3'!J50,'MDA3'!M50,AF50)","v":0},67438,62.803043702229964]
[{"$f":"IF(COUNTRY_INFO!A51=0,\" \",COUNTRY_INFO!A51)","v":"Tanzania"},{"$f":"IF(COUNTRY_INFO!B51=0,\" \",COUNTRY_INFO!B51)","v":"Katavi"},{"$f":"IF(COUNTRY_INFO!C51=0,\" \",COUNTRY_INFO!C51)","v":"Mpanda Municipal Council"},{"$f":"COUNTRY_INFO!L51","v":"Stopped"},null,null,{"$f":"MAX('MDA1'!M51,'MDA2'!M51)","v":0},{"$f":"IF(AND(COUNTRY_INFO!H51>0,COUNTRY_INFO!H51<4),IF(D51>MAX('MDA1'!M51,'MDA2'!M51),MAX('MDA1'!M51,'MDA2'!M51),D51),0)","v":0},{"$f":"IF(AND(COUNTRY_INFO!H51>0,COUNTRY_INFO!H51<4), IF(G51/D51*100<>0, IF(G51/D51*100>100,100,G51/D51*100), \"-\"),0)","v":0},{"$f":"COUNTRY_INFO!M51","v":0},null,null,{"$f":"MAX('MDA1'!M51,MAX('MDA3'!I51,'MDA3'!L51)+MAX('MDA3'!J51,'MDA3'!M51))","v":0},{"$f":"IF(AND(COUNTRY_INFO!I51>0,COUNTRY_INFO!I51<4),IF(J51>MAX('MDA1'!M51,MAX('MDA3'!I51,'MDA3'!L51)+MAX('MDA3'!J51,'MDA3'!M51)),MAX('MDA1'!M51,MAX('MDA3'!I51,'MDA3'!L51)+MAX('MDA3'!J51,'MDA3'!M51)),J51),0)","v":0},{"$f":"IF(AND(COUNTRY_INFO!I51>0,COUNTRY_INFO!I51<4), IF(M51/J51*100<>0, IF(M51/J51*100>100,100,M51/J51*100), \"-\"),0)","v":0},{"$f":"COUNTRY_INFO!N51","v":69976},null,null,{"$f":"SUM(MAX('MDA2'!J51, 'T1'!L51, MAX(T3_R1!K51, T3_R2!K51)), MAX('MDA1'!K51, 'MDA2'!K51, 'T1'!M51, MAX(T3_R1!L51, T3_R2!L51)), MAX('MDA1'!L51, 'MDA2'!L51, 'T1'!N51, MAX(T3_R1!M51, T3_R2!M51)))","v":49258},{"$f":"IF(AND(COUNTRY_INFO!J51>1,COUNTRY_INFO!J51<4),IF(COUNTRY_INFO!E51>MAX('MDA2'!J51,'T1'!L51,MAX(T3_R1!K51,T3_R2!K51)),MAX('MDA2'!J51,'T1'!L51,MAX(T3_R1!K51,T3_R2!K51)),COUNTRY_INFO!E51),0)","v":0},{"$f":"IF(AND(COUNTRY_INFO!J51>1,COUNTRY_INFO!J51<4), IF(T51/COUNTRY_INFO!E51*100<>0, IF(T51/COUNTRY_INFO!E51*100>100,100,T51/COUNTRY_INFO!E51*100), \"-\"),0)","v":"-"},{"$f":"IF(AND(COUNTRY_INFO!J51>1,COUNTRY_INFO!J51<4),IF(COUNTRY_INFO!F51>MAX('MDA1'!K51,'MDA2'!K51,'T1'!M51,MAX(T3_R1!L51,T3_R2!L51)),MAX('MDA1'!K51,'MDA2'!K51,'T1'!M51,MAX(T3_R1!L51,T3_R2!L51)),COUNTRY_INFO!F51),0)","v":49258},{"$f":"IF(AND(COUNTRY_INFO!J51>1,COUNTRY_INFO!J51<4), IF(V51/COUNTRY_INFO!F51*100<>0, IF(V51/COUNTRY_INFO!F51*100>100,100,V51/COUNTRY_INFO!F51*100), \"-\"),0)","v":95.398380911802306},49258,{"$f":"IF(AND(COUNTRY_INFO!J51>1,COUNTRY_INFO!J51<4), IF(S51/P51*100<>0, IF(X51/P51*100>100,100,X51/P51*100), \"-\"),0)","v":70.392706070652793},{"$f":"COUNTRY_INFO!O51","v":40259.210532243742},null,null,{"$f":"MAX('T1'!L51,'T2'!J51)+MAX('T1'!M51,'T2'!K51)+MAX('T1'!N51,'T2'!L51)","v":0},{"$f":"IF(COUNTRY_INFO!K51=1,IF(COUNTRY_INFO!F51*0.33>MAX('T1'!M51,'T2'!K51),MAX('T1'!M51,'T2'!K51),COUNTRY_INFO!F51*0.33),IF(COUNTRY_INFO!K51=2,IF(COUNTRY_INFO!F51*0.5>MAX('T1'!M51,'T2'!K51),MAX('T1'!M51,'T2'!K51),COUNTRY_INFO!F51*0.5),IF(COUNTRY_INFO!K51=3,IF(COUNTRY_INFO!F51>MAX('T1'!M51,'T2'!K51),MAX('T1'!M51,'T2'!K51),COUNTRY_INFO!F51),0)))","v":0},{"$f":"IF(AND(COUNTRY_INFO!K51>0,COUNTRY_INFO!K51<4),IF(Z51>0,IF(COUNTRY_INFO!K51=1, AD51/(COUNTRY_INFO!F51*0.33)*100, IF(COUNTRY_INFO!K51=2, AD51/(COUNTRY_INFO!F51*0.5)*100, IF(COUNTRY_INFO!K51=3, AD51/COUNTRY_INFO!F51*100))),\"-\"),0)","v":0},{"$f":"IF(COUNTRY_INFO!K51=2,IF(COUNTRY_INFO!G51*0.2>MAX('T1'!N51,'T2'!L51),MAX('T1'!N51,'T2'!L51),COUNTRY_INFO!G51*0.2),IF(COUNTRY_INFO!K51=3,IF(COUNTRY_INFO!G51>MAX('T1'!N51,'T2'!L51),MAX('T1'!N51,'T2'!L51),COUNTRY_INFO!G51),0))","v":0},{"$f":"IF(AND(COUNTRY_INFO!K51>0,COUNTRY_INFO!K51<4),IF(Z51>0,IF(COUNTRY_INFO!K51=1, 0, IF(COUNTRY_INFO!K51=2, AF51/(COUNTRY_INFO!G51*0.2)*100, IF(COUNTRY_INFO!K51=3, AF51/COUNTRY_INFO!G51*100))),\"-\"),0)","v":0},0,{"$f":"IF(AND(COUNTRY_INFO!K51>0,COUNTRY_INFO!K51<4), IF(AC51/Z51*100<>0, IF(AH51/Z51*100>100,100,AH51/Z51*100), \"-\"),0)","v":"-"},null,{"$f":"IF(AND(D51<>0, D51<>\"Unknown\",D51<>\"Stopped\",D51<>\"Not required\"),D51/COUNTRY_INFO!D51, 0)","v":0},{"$f":"IF(AND(J51<>0,J51<>\"Unknown\",J51<>\"Stopped\",J51<>\"Not required\"),J51/COUNTRY_INFO!D51, 0)","v":0},{"$f":"IF(AND(P51<>0,P51<>\"Unknown\",P51<>\"Not required\"),P51/(COUNTRY_INFO!E51+COUNTRY_INFO!F51), 0)","v":1},{"$f":"IF(AND(Z51<>0,Z51<>\"Unknown\",Z51<>\"Not required\"),IF(COUNTRY_INFO!K51=1,1,IF(COUNTRY_INFO!K51=2,0.5*COUNTRY_INFO!F51/(0.5*COUNTRY_INFO!F51+0.2*COUNTRY_INFO!G51),IF(COUNTRY_INFO!K51=3,COUNTRY_INFO!F51/(COUNTRY_INFO!F51+COUNTRY_INFO!G51)))),0)","v":0.64126940540284749},{"$f":"IF(AND(Z51<>0,Z51<>\"Unknown\",Z51<>\"Not required\"),IF(COUNTRY_INFO!K51=1,0,IF(COUNTRY_INFO!K51=2,0.2*COUNTRY_INFO!G51/(0.5*COUNTRY_INFO!F51+0.2*COUNTRY_INFO!G51),IF(COUNTRY_INFO!K51=3,COUNTRY_INFO!G51/(COUNTRY_INFO!F51+COUNTRY_INFO!G51)))),0)","v":0.35873059459715251},{"$f":"MAX(COUNTRY_INFO!D51*AK51*PROFILE!$G$7,COUNTRY_INFO!D51*AL51*PROFILE!$G$7)","v":0},{"$f":"MAX(COUNTRY_INFO!D51*AK51*PROFILE!$G$8,COUNTRY_INFO!D51*AL51*PROFILE!$G$8,COUNTRY_INFO!D51*AM51*PROFILE!$G$8)","v":18342.130063394885},{"$f":"MAX(COUNTRY_INFO!D51*AK51*PROFILE!$G$9,COUNTRY_INFO!D51*AL51*PROFILE!$G$9,COUNTRY_INFO!D51*AM51*PROFILE!$G$9,IF(AND(DISTRICT!Z51<>\"Unknown\",Z51<>\"Not required\"),COUNTRY_INFO!O51*DISTRICT!AN51,0))","v":31963.928713886788},{"$f":"MAX(COUNTRY_INFO!D51*AK51*PROFILE!$G$10,COUNTRY_INFO!D51*AL51*PROFILE!$G$10,IF(AND(DISTRICT!Z51<>\"Unknown\",Z51<>\"Not required\"),COUNTRY_INFO!O51*DISTRICT!AO51,0))","v":14442.210532243742},64748.269309525414,0,{"$f":"MAX('MDA2'!J51,'T1'!L51,'T2'!J51,T3_R1!K51,T3_R2!K51)","v":0},{"$f":"MAX('MDA1'!K51,'MDA2'!K51,'MDA3'!I51,'MDA3'!L51,'T1'!M51,'T2'!K51,T3_R1!L51,T3_R2!L51)","v":49258},{"$f":"MAX('MDA1'!L51,'MDA2'!L51,'MDA3'!J51,'MDA3'!M51,'T1'!N51,'T2'!L51,T3_R1!M51,T3_R2!M51)","v":0},49258,{"$f":"MAX('MDA2'!J51,T51)","v":0},{"$f":"MAX('MDA1'!K51,'MDA2'!K51,'MDA3'!I51,'MDA3'!L51,V51,AD51)","v":49258},{"$f":"MAX('MDA1'!L51,'MDA2'!L51,'MDA3'!J51,'MDA3'!M51,AF51)","v":0},49258,76.076164699514877]
[{"$f":"IF(COUNTRY_INFO!A52=0,\" \",COUNTRY_INFO!A52)","v":"Tanzania"},{"$f":"IF(COUNTRY_INFO!B52=0,\" \",COUNTRY_INFO!B52)","v":"Katavi"},{"$f":"IF(COUNTRY_INFO!C52=0,\" \",COUNTRY_INFO!C52)","v":"Mpimbwe District Council"},{"$f":"COUNTRY_INFO!L52","v":"Stopped"},null,null,{"$f":"MAX('MDA1'!M52,'MDA2'!M52)","v":0},{"$f":"IF(AND(COUNTRY_INFO!H52>0,COUNTRY_INFO!H52<4),IF(D52>MAX('MDA1'!M52,'MDA2'!M52),MAX('MDA1'!M52,'MDA2'!M52),D52),0)","v":0},{"$f":"IF(AND(COUNTRY_INFO!H52>0,COUNTRY_INFO!H52<4), IF(G52/D52*100<>0, IF(G52/D52*100>100,100,G52/D52*100), \"-\"),0)","v":0},{"$f":"COUNTRY_INFO!M52","v":0},null,null,{"$f":"MAX('MDA1'!M52,MAX('MDA3'!I52,'MDA3'!L52)+MAX('MDA3'!J52,'MDA3'!M52))","v":0},{"$f":"IF(AND(COUNTRY_INFO!I52>0,COUNTRY_INFO!I52<4),IF(J52>MAX('MDA1'!M52,MAX('MDA3'!I52,'MDA3'!L52)+MAX('MDA3'!J52,'MDA3'!M52)),MAX('MDA1'!M52,MAX('MDA3'!I52,'MDA3'!L52)+MAX('MDA3'!J52,'MDA3'!M52)),J52),0)","v":0},{"$f":"IF(AND(COUNTRY_INFO!I52>0,COUNTRY_INFO!I52<4), IF(M52/J52*100<>0, IF(M52/J52*100>100,100,M52/J52*100), \"-\"),0)","v":0},{"$f":"COUNTRY_INFO!N52","v":48641},null,null,{"$f":"SUM(MAX('MDA2'!J52, 'T1'!L52, MAX(T3_R1!K52, T3_R2!K52)), MAX('MDA1'!K52, 'MDA2'!K52, 'T1'!M52, MAX(T3_R1!L52, T3_R2!L52)), MAX('MDA1'!L52, 'MDA2'!L52, 'T1'!N52, MAX(T3_R1!M52, T3_R2!M52)))","v":29653},{"$f":"IF(AND(COUNTRY_INFO!J52>1,COUNTRY_INFO!J52<4),IF(COUNTRY_INFO!E52>MAX('MDA2'!J52,'T1'!L52,MAX(T3_R1!K52,T3_R2!K52)),MAX('MDA2'!J52,'T1'!L52,MAX(T3_R1!K52,T3_R2!K52)),COUNTRY_INFO!E52),0)","v":0},{"$f":"IF(AND(COUNTRY_INFO!J52>1,COUNTRY_INFO!J52<4), IF(T52/COUNTRY_INFO!E52*100<>0, IF(T52/COUNTRY_INFO!E52*100>100,100,T52/COUNTRY_INFO!E52*100), \"-\"),0)","v":"-"},{"$f":"IF(AND(COUNTRY_INFO!J52>1,COUNTRY_INFO!J52<4),IF(COUNTRY_INFO!F52>MAX('MDA1'!K52,'MDA2'!K52,'T1'!M52,MAX(T3_R1!L52,T3_R2!L52)),MAX('MDA1'!K52,'MDA2'!K52,'T1'!M52,MAX(T3_R1!L52,T3_R2!L52)),COUNTRY_INFO!F52),0)","v":29653},{"$f":"IF(AND(COUNTRY_INFO!J52>1,COUNTRY_INFO!J52<4), IF(V52/COUNTRY_INFO!F52*100<>0, IF(V52/COUNTRY_INFO!F52*100>100,100,V52/COUNTRY_INFO!F52*100), \"-\"),0)","v":94.526617787695258},29653,{"$f":"IF(AND(COUNTRY_INFO!J52>1,COUNTRY_INFO!J52<4), IF(S52/P52*100<>0, IF(X52/P52*100>100,100,X52/P52*100), \"-\"),0)","v":60.962973623075179},{"$f":"COUNTRY_INFO!O52","v":32733.26300103738},null,null,{"$f":"MAX('T1'!L52,'T2'!J52)+MAX('T1'!M52,'T2'!K52)+MAX('T1'!N52,'T2'!L52)","v":0},{"$f":"IF(COUNTRY_INFO!K52=1,IF(COUNTRY_INFO!F52*0.33>MAX('T1'!M52,'T2'!K52),MAX('T1'!M52,'T2'!K52),COUNTRY_INFO!F52*0.33),IF(COUNTRY_INFO!K52=2,IF(COUNTRY_INFO!F52*0.5>MAX('T1'!M52,'T2'!K52),MAX('T1'!M52,'T2'!K52),COUNTRY_INFO!F52*0.5),IF(COUNTRY_INFO!K52=3,IF(COUNTRY_INFO!F52>MAX('T1'!M52,'T2'!K52),MAX('T1'!M52,'T2'!K52),COUNTRY_INFO!F52),0)))","v":0},{"$f":"IF(AND(COUNTRY_INFO!K52>0,COUNTRY_INFO!K52<4),IF(Z52>0,IF(COUNTRY_INFO!K52=1, AD52/(COUNTRY_INFO!F52*0.33)*100, IF(COUNTRY_INFO!K52=2, AD52/(COUNTRY_INFO!F52*0.5)*100, IF(COUNTRY_INFO!K52=3, AD52/COUNTRY_INFO!F52*100))),\"-\"),0)","v":0},{"$f":"IF(COUNTRY_INFO!K52=2,IF(COUNTRY_INFO!G52*0.2>MAX('T1'!N52,'T2'!L52),MAX('T1'!N52,'T2'!L52),COUNTRY_INFO!G52*0.2),IF(COUNTRY_INFO!K52=3,IF(COUNTRY_INFO!G52>MAX('T1'!N52,'T2'!L52),MAX('T1'!N52,'T2'!L52),COUNTRY_INFO!G52),0))","v":0},{"$f":"IF(AND(COUNTRY_INFO!K52>0,COUNTRY_INFO!K52<4),IF(Z52>0,IF(COUNTRY_INFO!K52=1, 0, IF(COUNTRY_INFO!K52=2, AF52/(COUNTRY_INFO!G52*0.2)*100, IF(COUNTRY_INFO!K52=3, AF52/COUNTRY_INFO!G52*100))),\"-\"),0)","v":0},0,{"$f":"IF(AND(COUNTRY_INFO!K52>0,COUNTRY_INFO!K52<4), IF(AC52/Z52*100<>0, IF(AH52/Z52*100>100,100,AH52/Z52*100), \"-\"),0)","v":"-"},null,{"$f":"IF(AND(D52<>0, D52<>\"Unknown\",D52<>\"Stopped\",D52<>\"Not required\"),D52/COUNTRY_INFO!D52, 0)","v":0},{"$f":"IF(AND(J52<>0,J52<>\"Unknown\",J52<>\"Stopped\",J52<>\"Not required\"),J52/COUNTRY_INFO!D52, 0)","v":0},{"$f":"IF(AND(P52<>0,P52<>\"Unknown\",P52<>\"Not required\"),P52/(COUNTRY_INFO!E52+COUNTRY_INFO!F52), 0)","v":1},{"$f":"IF(AND(Z52<>0,Z52<>\"Unknown\",Z52<>\"Not required\"),IF(COUNTRY_INFO!K52=1,1,IF(COUNTRY_INFO!K52=2,0.5*COUNTRY_INFO!F52/(0.5*COUNTRY_INFO!F52+0.2*COUNTRY_INFO!G52),IF(COUNTRY_INFO!K52=3,COUNTRY_INFO!F52/(COUNTRY_INFO!F52+COUNTRY_INFO!G52)))),0)","v":0.47917618232874959},{"$f":"IF(AND(Z52<>0,Z52<>\"Unknown\",Z52<>\"Not required\"),IF(COUNTRY_INFO!K52=1,0,IF(COUNTRY_INFO!K52=2,0.2*COUNTRY_INFO!G52/(0.5*COUNTRY_INFO!F52+0.2*COUNTRY_INFO!G52),IF(COUNTRY_INFO!K52=3,COUNTRY_INFO!G52/(COUNTRY_INFO!F52+COUNTRY_INFO!G52)))),0)","v":0.52082381767125041},{"$f":"MAX(COUNTRY_INFO!D52*AK52*PROFILE!$G$7,COUNTRY_INFO!D52*AL52*PROFILE!$G$7)","v":0},{"$f":"MAX(COUNTRY_INFO!D52*AK52*PROFILE!$G$8,COUNTRY_INFO!D52*AL52*PROFILE!$G$8,COUNTRY_INFO!D52*AM52*PROFILE!$G$8)","v":17270.818889991147},{"$f":"MAX(COUNTRY_INFO!D52*AK52*PROFILE!$G$9,COUNTRY_INFO!D52*AL52*PROFILE!$G$9,COUNTRY_INFO!D52*AM52*PROFILE!$G$9,IF(AND(DISTRICT!Z52<>\"Unknown\",Z52<>\"Not required\"),COUNTRY_INFO!O52*DISTRICT!AN52,0))","v":30097.007377121969},{"$f":"MAX(COUNTRY_INFO!D52*AK52*PROFILE!$G$10,COUNTRY_INFO!D52*AL52*PROFILE!$G$10,IF(AND(DISTRICT!Z52<>\"Unknown\",Z52<>\"Not required\"),COUNTRY_INFO!O52*DISTRICT!AO52,0))","v":17048.26300103738},64416.089268150492,0,{"$f":"MAX('MDA2'!J52,'T1'!L52,'T2'!J52,T3_R1!K52,T3_R2!K52)","v":0},{"$f":"MAX('MDA1'!K52,'MDA2'!K52,'MDA3'!I52,'MDA3'!L52,'T1'!M52,'T2'!K52,T3_R1!L52,T3_R2!L52)","v":29653},{"$f":"MAX('MDA1'!L52,'MDA2'!L52,'MDA3'!J52,'MDA3'!M52,'T1'!N52,'T2'!L52,T3_R1!M52,T3_R2!M52)","v":0},29653,{"$f":"MAX('MDA2'!J52,T52)","v":0},{"$f":"MAX('MDA1'!K52,'MDA2'!K52,'MDA3'!I52,'MDA3'!L52,V52,AD52)","v":29653},{"$f":"MAX('MDA1'!L52,'MDA2'!L52,'MDA3'!J52,'MDA3'!M52,AF52)","v":0},29653,46.033530344508904]
[{"$f":"IF(COUNTRY_INFO!A53=0,\" \",COUNTRY_INFO!A53)","v":"Tanzania"},{"$f":"IF(COUNTRY_INFO!B53=0,\" \",COUNTRY_INFO!B53)","v":"Katavi"},{"$f":"IF(COUNTRY_INFO!C53=0,\" \",COUNTRY_INFO!C53)","v":"Nsimbo District Council"},{"$f":"COUNTRY_INFO!L53","v":"Stopped"},null,null,{"$f":"MAX('MDA1'!M53,'MDA2'!M53)","v":0},{"$f":"IF(AND(COUNTRY_INFO!H53>0,COUNTRY_INFO!H53<4),IF(D53>MAX('MDA1'!M53,'MDA2'!M53),MAX('MDA1'!M53,'MDA2'!M53),D53),0)","v":0},{"$f":"IF(AND(COUNTRY_INFO!H53>0,COUNTRY_INFO!H53<4), IF(G53/D53*100<>0, IF(G53/D53*100>100,100,G53/D53*100), \"-\"),0)","v":0},{"$f":"COUNTRY_INFO!M53","v":0},null,null,{"$f":"MAX('MDA1'!M53,MAX('MDA3'!I53,'MDA3'!L53)+MAX('MDA3'!J53,'MDA3'!M53))","v":0},{"$f":"IF(AND(COUNTRY_INFO!I53>0,COUNTRY_INFO!I53<4),IF(J53>MAX('MDA1'!M53,MAX('MDA3'!I53,'MDA3'!L53)+MAX('MDA3'!J53,'MDA3'!M53)),MAX('MDA1'!M53,MAX('MDA3'!I53,'MDA3'!L53)+MAX('MDA3'!J53,'MDA3'!M53)),J53),0)","v":0},{"$f":"IF(AND(COUNTRY_INFO!I53>0,COUNTRY_INFO!I53<4), IF(M53/J53*100<>0, IF(M53/J53*100>100,100,M53/J53*100), \"-\"),0)","v":0},{"$f":"COUNTRY_INFO!N53","v":59640},null,null,{"$f":"SUM(MAX('MDA2'!J53, 'T1'!L53, MAX(T3_R1!K53, T3_R2!K53)), MAX('MDA1'!K53, 'MDA2'!K53, 'T1'!M53, MAX(T3_R1!L53, T3_R2!L53)), MAX('MDA1'!L53, 'MDA2'!L53, 'T1'!N53, MAX(T3_R1!M53, T3_R2!M53)))","v":36163},{"$f":"IF(AND(COUNTRY_INFO!J53>1,COUNTRY_INFO!J53<4),IF(COUNTRY_INFO!E53>MAX('MDA2'!J53,'T1'!L53,MAX(T3_R1!K53,T3_R2!K53)),MAX('MDA2'!J53,'T1'!L53,MAX(T3_R1!K53,T3_R2!K53)),COUNTRY_INFO!E53),0)","v":0},{"$f":"IF(AND(COUNTRY_INFO!J53>1,COUNTRY_INFO!J53<4), IF(T53/COUNTRY_INFO!E53*100<>0, IF(T53/COUNTRY_INFO!E53*100>100,100,T53/COUNTRY_INFO!E53*100), \"-\"),0)","v":"-"},{"$f":"IF(AND(COUNTRY_INFO!J53>1,COUNTRY_INFO!J53<4),IF(COUNTRY_INFO!F53>MAX('MDA1'!K53,'MDA2'!K53,'T1'!M53,MAX(T3_R1!L53,T3_R2!L53)),MAX('MDA1'!K53,'MDA2'!K53,'T1'!M53,MAX(T3_R1!L53,T3_R2!L53)),COUNTRY_INFO!F53),0)","v":36163},{"$f":"IF(AND(COUNTRY_INFO!J53>1,COUNTRY_INFO!J53<4), IF(V53/COUNTRY_INFO!F53*100<>0, IF(V53/COUNTRY_INFO!F53*100>100,100,V53/COUNTRY_INFO!F53*100), \"-\"),0)","v":94.622952535454502},36163,{"$f":"IF(AND(COUNTRY_INFO!J53>1,COUNTRY_INFO!J53<4), IF(S53/P53*100<>0, IF(X53/P53*100>100,100,X53/P53*100), \"-\"),0)","v":60.635479543930245},{"$f":"COUNTRY_INFO!O53","v":40393.73535044289},null,null,{"$f":"MAX('T1'!L53,'T2'!J53)+MAX('T1'!M53,'T2'!K53)+MAX('T1'!N53,'T2'!L53)","v":0},{"$f":"IF(COUNTRY_INFO!K53=1,IF(COUNTRY_INFO!F53*0.33>MAX('T1'!M53,'T2'!K53),MAX('T1'!M53,'T2'!K53),COUNTRY_INFO!F53*0.33),IF(COUNTRY_INFO!K53=2,IF(COUNTRY_INFO!F53*0.5>MAX('T1'!M53,'T2'!K53),MAX('T1'!M53,'T2'!K53),COUNTRY_INFO!F53*0.5),IF(COUNTRY_INFO!K53=3,IF(COUNTRY_INFO!F53>MAX('T1'!M53,'T2'!K53),MAX('T1'!M53,'T2'!K53),COUNTRY_INFO!F53),0)))","v":0},{"$f":"IF(AND(COUNTRY_INFO!K53>0,COUNTRY_INFO!K53<4),IF(Z53>0,IF(COUNTRY_INFO!K53=1, AD53/(COUNTRY_INFO!F53*0.33)*100, IF(COUNTRY_INFO!K53=2, AD53/(COUNTRY_INFO!F53*0.5)*100, IF(COUNTRY_INFO!K53=3, AD53/COUNTRY_INFO!F53*100))),\"-\"),0)","v":0},{"$f":"IF(COUNTRY_INFO!K53=2,IF(COUNTRY_INFO!G53*0.2>MAX('T1'!N53,'T2'!L53),MAX('T1'!N53,'T2'!L53),COUNTRY_INFO!G53*0.2),IF(COUNTRY_INFO!K53=3,IF(COUNTRY_INFO!G53>MAX('T1'!N53,'T2'!L53),MAX('T1'!N53,'T2'!L53),COUNTRY_INFO!G53),0))","v":0},{"$f":"IF(AND(COUNTRY_INFO!K53>0,COUNTRY_INFO!K53<4),IF(Z53>0,IF(COUNTRY_INFO!K53=1, 0, IF(COUNTRY_INFO!K53=2, AF53/(COUNTRY_INFO!G53*0.2)*100, IF(COUNTRY_INFO!K53=3, AF53/COUNTRY_INFO!G53*100))),\"-\"),0)","v":0},0,{"$f":"IF(AND(COUNTRY_INFO!K53>0,COUNTRY_INFO!K53<4), IF(AC53/Z53*100<>0, IF(AH53/Z53*100>100,100,AH53/Z53*100), \"-\"),0)","v":"-"},null,{"$f":"IF(AND(D53<>0, D53<>\"Unknown\",D53<>\"Stopped\",D53<>\"Not required\"),D53/COUNTRY_INFO!D53, 0)","v":0},{"$f":"IF(AND(J53<>0,J53<>\"Unknown\",J53<>\"Stopped\",J53<>\"Not required\"),J53/COUNTRY_INFO!D53, 0)","v":0},{"$f":"IF(AND(P53<>0,P53<>\"Unknown\",P53<>\"Not required\"),P53/(COUNTRY_INFO!E53+COUNTRY_INFO!F53), 0)","v":1},{"$f":"IF(AND(Z53<>0,Z53<>\"Unknown\",Z53<>\"Not required\"),IF(COUNTRY_INFO!K53=1,1,IF(COUNTRY_INFO!K53=2,0.5*COUNTRY_INFO!F53/(0.5*COUNTRY_INFO!F53+0.2*COUNTRY_INFO!G53),IF(COUNTRY_INFO!K53=3,COUNTRY_INFO!F53/(COUNTRY_INFO!F53+COUNTRY_INFO!G53)))),0)","v":0.47306840613319218},{"$f":"IF(AND(Z53<>0,Z53<>\"Unknown\",Z53<>\"Not required\"),IF(COUNTRY_INFO!K53=1,0,IF(COUNTRY_INFO!K53=2,0.2*COUNTRY_INFO!G53/(0.5*COUNTRY_INFO!F53+0.2*COUNTRY_INFO!G53),IF(COUNTRY_INFO!K53=3,COUNTRY_INFO!G53/(COUNTRY_INFO!F53+COUNTRY_INFO!G53)))),0)","v":0.52693159386680777},{"$f":"MAX(COUNTRY_INFO!D53*AK53*PROFILE!$G$7,COUNTRY_INFO!D53*AL53*PROFILE!$G$7)","v":0},{"$f":"MAX(COUNTRY_INFO!D53*AK53*PROFILE!$G$8,COUNTRY_INFO!D53*AL53*PROFILE!$G$8,COUNTRY_INFO!D53*AM53*PROFILE!$G$8)","v":21422.214616489226},{"$f":"MAX(COUNTRY_INFO!D53*AK53*PROFILE!$G$9,COUNTRY_INFO!D53*AL53*PROFILE!$G$9,COUNTRY_INFO!D53*AM53*PROFILE!$G$9,IF(AND(DISTRICT!Z53<>\"Unknown\",Z53<>\"Not required\"),COUNTRY_INFO!O53*DISTRICT!AN53,0))","v":37331.440706636735},{"$f":"MAX(COUNTRY_INFO!D53*AK53*PROFILE!$G$10,COUNTRY_INFO!D53*AL53*PROFILE!$G$10,IF(AND(DISTRICT!Z53<>\"Unknown\",Z53<>\"Not required\"),COUNTRY_INFO!O53*DISTRICT!AO53,0))","v":21284.73535044289},80038.390673568851,0,{"$f":"MAX('MDA2'!J53,'T1'!L53,'T2'!J53,T3_R1!K53,T3_R2!K53)","v":0},{"$f":"MAX('MDA1'!K53,'MDA2'!K53,'MDA3'!I53,'MDA3'!L53,'T1'!M53,'T2'!K53,T3_R1!L53,T3_R2!L53)","v":36163},{"$f":"MAX('MDA1'!L53,'MDA2'!L53,'MDA3'!J53,'MDA3'!M53,'T1'!N53,'T2'!L53,T3_R1!M53,T3_R2!M53)","v":0},36163,{"$f":"MAX('MDA2'!J53,T53)","v":0},{"$f":"MAX('MDA1'!K53,'MDA2'!K53,'MDA3'!I53,'MDA3'!L53,V53,AD53)","v":36163},{"$f":"MAX('MDA1'!L53,'MDA2'!L53,'MDA3'!J53,'MDA3'!M53,AF53)","v":0},36163,45.182067874763177]
[{"$f":"IF(COUNTRY_INFO!A54=0,\" \",COUNTRY_INFO!A54)","v":"Tanzania"},{"$f":"IF(COUNTRY_INFO!B54=0,\" \",COUNTRY_INFO!B54)","v":"Kigoma"},{"$f":"IF(COUNTRY_INFO!C54=0,\" \",COUNTRY_INFO!C54)","v":"Buhigwe District Council"},{"$f":"COUNTRY_INFO!L54","v":0},null,null,{"$f":"MAX('MDA1'!M54,'MDA2'!M54)","v":0},{"$f":"IF(AND(COUNTRY_INFO!H54>0,COUNTRY_INFO!H54<4),IF(D54>MAX('MDA1'!M54,'MDA2'!M54),MAX('MDA1'!M54,'MDA2'!M54),D54),0)","v":0},{"$f":"IF(AND(COUNTRY_INFO!H54>0,COUNTRY_INFO!H54<4), IF(G54/D54*100<>0, IF(G54/D54*100>100,100,G54/D54*100), \"-\"),0)","v":0},{"$f":"COUNTRY_INFO!M54","v":0},null,null,{"$f":"MAX('MDA1'!M54,MAX('MDA3'!I54,'MDA3'!L54)+MAX('MDA3'!J54,'MDA3'!M54))","v":0},{"$f":"IF(AND(COUNTRY_INFO!I54>0,COUNTRY_INFO!I54<4),IF(J54>MAX('MDA1'!M54,MAX('MDA3'!I54,'MDA3'!L54)+MAX('MDA3'!J54,'MDA3'!M54)),MAX('MDA1'!M54,MAX('MDA3'!I54,'MDA3'!L54)+MAX('MDA3'!J54,'MDA3'!M54)),J54),0)","v":0},{"$f":"IF(AND(COUNTRY_INFO!I54>0,COUNTRY_INFO!I54<4), IF(M54/J54*100<>0, IF(M54/J54*100>100,100,M54/J54*100), \"-\"),0)","v":0},{"$f":"COUNTRY_INFO!N54","v":103207},null,null,{"$f":"SUM(MAX('MDA2'!J54, 'T1'!L54, MAX(T3_R1!K54, T3_R2!K54)), MAX('MDA1'!K54, 'MDA2'!K54, 'T1'!M54, MAX(T3_R1!L54, T3_R2!L54)), MAX('MDA1'!L54, 'MDA2'!L54, 'T1'!N54, MAX(T3_R1!M54, T3_R2!M54)))","v":0},{"$f":"IF(AND(COUNTRY_INFO!J54>1,COUNTRY_INFO!J54<4),IF(COUNTRY_INFO!E54>MAX('MDA2'!J54,'T1'!L54,MAX(T3_R1!K54,T3_R2!K54)),MAX('MDA2'!J54,'T1'!L54,MAX(T3_R1!K54,T3_R2!K54)),COUNTRY_INFO!E54),0)","v":0},{"$f":"IF(AND(COUNTRY_INFO!J54>1,COUNTRY_INFO!J54<4), IF(T54/COUNTRY_INFO!E54*100<>0, IF(T54/COUNTRY_INFO!E54*100>100,100,T54/COUNTRY_INFO!E54*100), \"-\"),0)","v":"-"},{"$f":"IF(AND(COUNTRY_INFO!J54>1,COUNTRY_INFO!J54<4),IF(COUNTRY_INFO!F54>MAX('MDA1'!K54,'MDA2'!K54,'T1'!M54,MAX(T3_R1!L54,T3_R2!L54)),MAX('MDA1'!K54,'MDA2'!K54,'T1'!M54,MAX(T3_R1!L54,T3_R2!L54)),COUNTRY_INFO!F54),0)","v":0},{"$f":"IF(AND(COUNTRY_INFO!J54>1,COUNTRY_INFO!J54<4), IF(V54/COUNTRY_INFO!F54*100<>0, IF(V54/COUNTRY_INFO!F54*100>100,100,V54/COUNTRY_INFO!F54*100), \"-\"),0)","v":"-"},0,{"$f":"IF(AND(COUNTRY_INFO!J54>1,COUNTRY_INFO!J54<4), IF(S54/P54*100<>0, IF(X54/P54*100>100,100,X54/P54*100), \"-\"),0)","v":"-"},{"$f":"COUNTRY_INFO!O54","v":73668.034302578439},null,null,{"$f":"MAX('T1'!L54,'T2'!J54)+MAX('T1'!M54,'T2'!K54)+MAX('T1'!N54,'T2'!L54)","v":0},{"$f":"IF(COUNTRY_INFO!K54=1,IF(COUNTRY_INFO!F54*0.33>MAX('T1'!M54,'T2'!K54),MAX('T1'!M54,'T2'!K54),COUNTRY_INFO!F54*0.33),IF(COUNTRY_INFO!K54=2,IF(COUNTRY_INFO!F54*0.5>MAX('T1'!M54,'T2'!K54),MAX('T1'!M54,'T2'!K54),COUNTRY_INFO!F54*0.5),IF(COUNTRY_INFO!K54=3,IF(COUNTRY_INFO!F54>MAX('T1'!M54,'T2'!K54),MAX('T1'!M54,'T2'!K54),COUNTRY_INFO!F54),0)))","v":0},{"$f":"IF(AND(COUNTRY_INFO!K54>0,COUNTRY_INFO!K54<4),IF(Z54>0,IF(COUNTRY_INFO!K54=1, AD54/(COUNTRY_INFO!F54*0.33)*100, IF(COUNTRY_INFO!K54=2, AD54/(COUNTRY_INFO!F54*0.5)*100, IF(COUNTRY_INFO!K54=3, AD54/COUNTRY_INFO!F54*100))),\"-\"),0)","v":0},{"$f":"IF(COUNTRY_INFO!K54=2,IF(COUNTRY_INFO!G54*0.2>MAX('T1'!N54,'T2'!L54),MAX('T1'!N54,'T2'!L54),COUNTRY_INFO!G54*0.2),IF(COUNTRY_INFO!K54=3,IF(COUNTRY_INFO!G54>MAX('T1'!N54,'T2'!L54),MAX('T1'!N54,'T2'!L54),COUNTRY_INFO!G54),0))","v":0},{"$f":"IF(AND(COUNTRY_INFO!K54>0,COUNTRY_INFO!K54<4),IF(Z54>0,IF(COUNTRY_INFO!K54=1, 0, IF(COUNTRY_INFO!K54=2, AF54/(COUNTRY_INFO!G54*0.2)*100, IF(COUNTRY_INFO!K54=3, AF54/COUNTRY_INFO!G54*100))),\"-\"),0)","v":0},0,{"$f":"IF(AND(COUNTRY_INFO!K54>0,COUNTRY_INFO!K54<4), IF(AC54/Z54*100<>0, IF(AH54/Z54*100>100,100,AH54/Z54*100), \"-\"),0)","v":"-"},null,{"$f":"IF(AND(D54<>0, D54<>\"Unknown\",D54<>\"Stopped\",D54<>\"Not required\"),D54/COUNTRY_INFO!D54, 0)","v":0},{"$f":"IF(AND(J54<>0,J54<>\"Unknown\",J54<>\"Stopped\",J54<>\"Not required\"),J54/COUNTRY_INFO!D54, 0)","v":0},{"$f":"IF(AND(P54<>0,P54<>\"Unknown\",P54<>\"Not required\"),P54/(COUNTRY_INFO!E54+COUNTRY_INFO!F54), 0)","v":1},{"$f":"IF(AND(Z54<>0,Z54<>\"Unknown\",Z54<>\"Not required\"),IF(COUNTRY_INFO!K54=1,1,IF(COUNTRY_INFO!K54=2,0.5*COUNTRY_INFO!F54/(0.5*COUNTRY_INFO!F54+0.2*COUNTRY_INFO!G54),IF(COUNTRY_INFO!K54=3,COUNTRY_INFO!F54/(COUNTRY_INFO!F54+COUNTRY_INFO!G54)))),0)","v":0.42453284244758743},{"$f":"IF(AND(Z54<>0,Z54<>\"Unknown\",Z54<>\"Not required\"),IF(COUNTRY_INFO!K54=1,0,IF(COUNTRY_INFO!K54=2,0.2*COUNTRY_INFO!G54/(0.5*COUNTRY_INFO!F54+0.2*COUNTRY_INFO!G54),IF(COUNTRY_INFO!K54=3,COUNTRY_INFO!G54/(COUNTRY_INFO!F54+COUNTRY_INFO!G54)))),0)","v":0.57546715755241251},{"$f":"MAX(COUNTRY_INFO!D54*AK54*PROFILE!$G$7,COUNTRY_INFO!D54*AL54*PROFILE!$G$7)","v":0},{"$f":"MAX(COUNTRY_INFO!D54*AK54*PROFILE!$G$8,COUNTRY_INFO!D54*AL54*PROFILE!$G$8,COUNTRY_INFO!D54*AM54*PROFILE!$G$8)","v":40657.533223867002},{"$f":"MAX(COUNTRY_INFO!D54*AK54*PROFILE!$G$9,COUNTRY_INFO!D54*AL54*PROFILE!$G$9,COUNTRY_INFO!D54*AM54*PROFILE!$G$9,IF(AND(DISTRICT!Z54<>\"Unknown\",Z54<>\"Not required\"),COUNTRY_INFO!O54*DISTRICT!AN54,0))","v":70851.885204091435},{"$f":"MAX(COUNTRY_INFO!D54*AK54*PROFILE!$G$10,COUNTRY_INFO!D54*AL54*PROFILE!$G$10,IF(AND(DISTRICT!Z54<>\"Unknown\",Z54<>\"Not required\"),COUNTRY_INFO!O54*DISTRICT!AO54,0))","v":42393.534302578439},153902.95273053687,0,{"$f":"MAX('MDA2'!J54,'T1'!L54,'T2'!J54,T3_R1!K54,T3_R2!K54)","v":0},{"$f":"MAX('MDA1'!K54,'MDA2'!K54,'MDA3'!I54,'MDA3'!L54,'T1'!M54,'T2'!K54,T3_R1!L54,T3_R2!L54)","v":0},{"$f":"MAX('MDA1'!L54,'MDA2'!L54,'MDA3'!J54,'MDA3'!M54,'T1'!N54,'T2'!L54,T3_R1!M54,T3_R2!M54)","v":0},0,{"$f":"MAX('MDA2'!J54,T54)","v":0},{"$f":"MAX('MDA1'!K54,'MDA2'!K54,'MDA3'!I54,'MDA3'!L54,V54,AD54)","v":0},{"$f":"MAX('MDA1'!L54,'MDA2'!L54,'MDA3'!J54,'MDA3'!M54,AF54)","v":0},0,0]
[{"$f":"IF(COUNTRY_INFO!A55=0,\" \",COUNTRY_INFO!A55)","v":"Tanzania"},{"$f":"IF(COUNTRY_INFO!B55=0,\" \",COUNTRY_INFO!B55)","v":"Kigoma"},{"$f":"IF(COUNTRY_INFO!C55=0,\" \",COUNTRY_INFO!C55)","v":"Kakonko District Council"},{"$f":"COUNTRY_INFO!L55","v":0},null,null,{"$f":"MAX('MDA1'!M55,'MDA2'!M55)","v":0},{"$f":"IF(AND(COUNTRY_INFO!H55>0,COUNTRY_INFO!H55<4),IF(D55>MAX('MDA1'!M55,'MDA2'!M55),MAX('MDA1'!M55,'MDA2'!M55),D55),0)","v":0},{"$f":"IF(AND(COUNTRY_INFO!H55>0,COUNTRY_INFO!H55<4), IF(G55/D55*100<>0, IF(G55/D55*100>100,100,G55/D55*100), \"-\"),0)","v":0},{"$f":"COUNTRY_INFO!M55","v":0},null,null,{"$f":"MAX('MDA1'!M55,MAX('MDA3'!I55,'MDA3'!L55)+MAX('MDA3'!J55,'MDA3'!M55))","v":0},{"$f":"IF(AND(COUNTRY_INFO!I55>0,COUNTRY_INFO!I55<4),IF(J55>MAX('MDA1'!M55,MAX('MDA3'!I55,'MDA3'!L55)+MAX('MDA3'!J55,'MDA3'!M55)),MAX('MDA1'!M55,MAX('MDA3'!I55,'MDA3'!L55)+MAX('MDA3'!J55,'MDA3'!M55)),J55),0)","v":0},{"$f":"IF(AND(COUNTRY_INFO!I55>0,COUNTRY_INFO!I55<4), IF(M55/J55*100<>0, IF(M55/J55*100>100,100,M55/J55*100), \"-\"),0)","v":0},{"$f":"COUNTRY_INFO!N55","v":69956},null,null,{"$f":"SUM(MAX('MDA2'!J55, 'T1'!L55, MAX(T3_R1!K55, T3_R2!K55)), MAX('MDA1'!K55, 'MDA2'!K55, 'T1'!M55, MAX(T3_R1!L55, T3_R2!L55)), MAX('MDA1'!L55, 'MDA2'!L55, 'T1'!N55, MAX(T3_R1!M55, T3_R2!M55)))","v":0},{"$f":"IF(AND(COUNTRY_INFO!J55>1,COUNTRY_INFO!J55<4),IF(COUNTRY_INFO!E55>MAX('MDA2'!J55,'T1'!L55,MAX(T3_R1!K55,T3_R2!K55)),MAX('MDA2'!J55,'T1'!L55,MAX(T3_R1!K55,T3_R2!K55)),COUNTRY_INFO!E55),0)","v":0},{"$f":"IF(AND(COUNTRY_INFO!J55>1,COUNTRY_INFO!J55<4), IF(T55/COUNTRY_INFO!E55*100<>0, IF(T55/COUNTRY_INFO!E55*100>100,100,T55/COUNTRY_INFO!E55*100), \"-\"),0)","v":"-"},{"$f":"IF(AND(COUNTRY_INFO!J55>1,COUNTRY_INFO!J55<4),IF(COUNTRY_INFO!F55>MAX('MDA1'!K55,'MDA2'!K55,'T1'!M55,MAX(T3_R1!L55,T3_R2!L55)),MAX('MDA1'!K55,'MDA2'!K55,'T1'!M55,MAX(T3_R1!L55,T3_R2!L55)),COUNTRY_INFO!F55),0)","v":0},{"$f":"IF(AND(COUNTRY_INFO!J55>1,COUNTRY_INFO!J55<4), IF(V55/COUNTRY_INFO!F55*100<>0, IF(V55/COUNTRY_INFO!F55*100>100,100,V55/COUNTRY_INFO!F55*100), \"-\"),0)","v":"-"},0,{"$f":"IF(AND(COUNTRY_INFO!J55>1,COUNTRY_INFO!J55<4), IF(S55/P55*100<>0, IF(X55/P55*100>100,100,X55/P55*100), \"-\"),0)","v":"-"},{"$f":"COUNTRY_INFO!O55","v":49121.063662532062},null,null,{"$f":"MAX('T1'!L55,'T2'!J55)+MAX('T1'!M55,'T2'!K55)+MAX('T1'!N55,'T2'!L55)","v":0},{"$f":"IF(COUNTRY_INFO!K55=1,IF(COUNTRY_INFO!F55*0.33>MAX('T1'!M55,'T2'!K55),MAX('T1'!M55,'T2'!K55),COUNTRY_INFO!F55*0.33),IF(COUNTRY_INFO!K55=2,IF(COUNTRY_INFO!F55*0.5>MAX('T1'!M55,'T2'!K55),MAX('T1'!M55,'T2'!K55),COUNTRY_INFO!F55*0.5),IF(COUNTRY_INFO!K55=3,IF(COUNTRY_INFO!F55>MAX('T1'!M55,'T2'!K55),MAX('T1'!M55,'T2'!K55),COUNTRY_INFO!F55),0)))","v":0},{"$f":"IF(AND(COUNTRY_INFO!K55>0,COUNTRY_INFO!K55<4),IF(Z55>0,IF(COUNTRY_INFO!K55=1, AD55/(COUNTRY_INFO!F55*0.33)*100, IF(COUNTRY_INFO!K55=2, AD55/(COUNTRY_INFO!F55*0.5)*100, IF(COUNTRY_INFO!K55=3, AD55/COUNTRY_INFO!F55*100))),\"-\"),0)","v":0},{"$f":"IF(COUNTRY_INFO!K55=2,IF(COUNTRY_INFO!G55*0.2>MAX('T1'!N55,'T2'!L55),MAX('T1'!N55,'T2'!L55),COUNTRY_INFO!G55*0.2),IF(COUNTRY_INFO!K55=3,IF(COUNTRY_INFO!G55>MAX('T1'!N55,'T2'!L55),MAX('T1'!N55,'T2'!L55),COUNTRY_INFO!G55),0))","v":0},{"$f":"IF(AND(COUNTRY_INFO!K55>0,COUNTRY_INFO!K55<4),IF(Z55>0,IF(COUNTRY_INFO!K55=1, 0, IF(COUNTRY_INFO!K55=2, AF55/(COUNTRY_INFO!G55*0.2)*100, IF(COUNTRY_INFO!K55=3, AF55/COUNTRY_INFO!G55*100))),\"-\"),0)","v":0},0,{"$f":"IF(AND(COUNTRY_INFO!K55>0,COUNTRY_INFO!K55<4), IF(AC55/Z55*100<>0, IF(AH55/Z55*100>100,100,AH55/Z55*100), \"-\"),0)","v":"-"},null,{"$f":"IF(AND(D55<>0, D55<>\"Unknown\",D55<>\"Stopped\",D55<>\"Not required\"),D55/COUNTRY_INFO!D55, 0)","v":0},{"$f":"IF(AND(J55<>0,J55<>\"Unknown\",J55<>\"Stopped\",J55<>\"Not required\"),J55/COUNTRY_INFO!D55, 0)","v":0},{"$f":"IF(AND(P55<>0,P55<>\"Unknown\",P55<>\"Not required\"),P55/(COUNTRY_INFO!E55+COUNTRY_INFO!F55), 0)","v":1},{"$f":"IF(AND(Z55<>0,Z55<>\"Unknown\",Z55<>\"Not required\"),IF(COUNTRY_INFO!K55=1,1,IF(COUNTRY_INFO!K55=2,0.5*COUNTRY_INFO!F55/(0.5*COUNTRY_INFO!F55+0.2*COUNTRY_INFO!G55),IF(COUNTRY_INFO!K55=3,COUNTRY_INFO!F55/(COUNTRY_INFO!F55+COUNTRY_INFO!G55)))),0)","v":0.43944488149317285},{"$f":"IF(AND(Z55<>0,Z55<>\"Unknown\",Z55<>\"Not required\"),IF(COUNTRY_INFO!K55=1,0,IF(COUNTRY_INFO!K55=2,0.2*COUNTRY_INFO!G55/(0.5*COUNTRY_INFO!F55+0.2*COUNTRY_INFO!G55),IF(COUNTRY_INFO!K55=3,COUNTRY_INFO!G55/(COUNTRY_INFO!F55+COUNTRY_INFO!G55)))),0)","v":0.56055511850682727},{"$f":"MAX(COUNTRY_INFO!D55*AK55*PROFILE!$G$7,COUNTRY_INFO!D55*AL55*PROFILE!$G$7)","v":0},{"$f":"MAX(COUNTRY_INFO!D55*AK55*PROFILE!$G$8,COUNTRY_INFO!D55*AL55*PROFILE!$G$8,COUNTRY_INFO!D55*AM55*PROFILE!$G$8)","v":26784.440456748387},{"$f":"MAX(COUNTRY_INFO!D55*AK55*PROFILE!$G$9,COUNTRY_INFO!D55*AL55*PROFILE!$G$9,COUNTRY_INFO!D55*AM55*PROFILE!$G$9,IF(AND(DISTRICT!Z55<>\"Unknown\",Z55<>\"Not required\"),COUNTRY_INFO!O55*DISTRICT!AN55,0))","v":46675.928174199813},{"$f":"MAX(COUNTRY_INFO!D55*AK55*PROFILE!$G$10,COUNTRY_INFO!D55*AL55*PROFILE!$G$10,IF(AND(DISTRICT!Z55<>\"Unknown\",Z55<>\"Not required\"),COUNTRY_INFO!O55*DISTRICT!AO55,0))","v":27535.063662532066},100995.43229348026,0,{"$f":"MAX('MDA2'!J55,'T1'!L55,'T2'!J55,T3_R1!K55,T3_R2!K55)","v":0},{"$f":"MAX('MDA1'!K55,'MDA2'!K55,'MDA3'!I55,'MDA3'!L55,'T1'!M55,'T2'!K55,T3_R1!L55,T3_R2!L55)","v":0},{"$f":"MAX('MDA1'!L55,'MDA2'!L55,'MDA3'!J55,'MDA3'!M55,'T1'!N55,'T2'!L55,T3_R1!M55,T3_R2!M55)","v":0},0,{"$f":"MAX('MDA2'!J55,T55)","v":0},{"$f":"MAX('MDA1'!K55,'MDA2'!K55,'MDA3'!I55,'MDA3'!L55,V55,AD55)","v":0},{"$f":"MAX('MDA1'!L55,'MDA2'!L55,'MDA3'!J55,'MDA3'!M55,AF55)","v":0},0,0]
[{"$f":"IF(COUNTRY_INFO!A56=0,\" \",COUNTRY_INFO!A56)","v":"Tanzania"},{"$f":"IF(COUNTRY_INFO!B56=0,\" \",COUNTRY_INFO!B56)","v":"Kigoma"},{"$f":"IF(COUNTRY_INFO!C56=0,\" \",COUNTRY_INFO!C56)","v":"Kasulu District Council"},{"$f":"COUNTRY_INFO!L56","v":0},null,null,{"$f":"MAX('MDA1'!M56,'MDA2'!M56)","v":0},{"$f":"IF(AND(COUNTRY_INFO!H56>0,COUNTRY_INFO!H56<4),IF(D56>MAX('MDA1'!M56,'MDA2'!M56),MAX('MDA1'!M56,'MDA2'!M56),D56),0)","v":0},{"$f":"IF(AND(COUNTRY_INFO!H56>0,COUNTRY_INFO!H56<4), IF(G56/D56*100<>0, IF(G56/D56*100>100,100,G56/D56*100), \"-\"),0)","v":0},{"$f":"COUNTRY_INFO!M56","v":0},null,null,{"$f":"MAX('MDA1'!M56,MAX('MDA3'!I56,'MDA3'!L56)+MAX('MDA3'!J56,'MDA3'!M56))","v":0},{"$f":"IF(AND(COUNTRY_INFO!I56>0,COUNTRY_INFO!I56<4),IF(J56>MAX('MDA1'!M56,MAX('MDA3'!I56,'MDA3'!L56)+MAX('MDA3'!J56,'MDA3'!M56)),MAX('MDA1'!M56,MAX('MDA3'!I56,'MDA3'!L56)+MAX('MDA3'!J56,'MDA3'!M56)),J56),0)","v":0},{"$f":"IF(AND(COUNTRY_INFO!I56>0,COUNTRY_INFO!I56<4), IF(M56/J56*100<>0, IF(M56/J56*100>100,100,M56/J56*100), \"-\"),0)","v":0},{"$f":"COUNTRY_INFO!N56","v":178499},null,null,{"$f":"SUM(MAX('MDA2'!J56, 'T1'!L56, MAX(T3_R1!K56, T3_R2!K56)), MAX('MDA1'!K56, 'MDA2'!K56, 'T1'!M56, MAX(T3_R1!L56, T3_R2!L56)), MAX('MDA1'!L56, 'MDA2'!L56, 'T1'!N56, MAX(T3_R1!M56, T3_R2!M56)))","v":0},{"$f":"IF(AND(COUNTRY_INFO!J56>1,COUNTRY_INFO!J56<4),IF(COUNTRY_INFO!E56>MAX('MDA2'!J56,'T1'!L56,MAX(T3_R1!K56,T3_R2!K56)),MAX('MDA2'!J56,'T1'!L56,MAX(T3_R1!K56,T3_R2!K56)),COUNTRY_INFO!E56),0)","v":0},{"$f":"IF(AND(COUNTRY_INFO!J56>1,COUNTRY_INFO!J56<4), IF(T56/COUNTRY_INFO!E56*100<>0, IF(T56/COUNTRY_INFO!E56*100>100,100,T56/COUNTRY_INFO!E56*100), \"-\"),0)","v":"-"},{"$f":"IF(AND(COUNTRY_INFO!J56>1,COUNTRY_INFO!J56<4),IF(COUNTRY_INFO!F56>MAX('MDA1'!K56,'MDA2'!K56,'T1'!M56,MAX(T3_R1!L56,T3_R2!L56)),MAX('MDA1'!K56,'MDA2'!K56,'T1'!M56,MAX(T3_R1!L56,T3_R2!L56)),COUNTRY_INFO!F56),0)","v":0},{"$f":"IF(AND(COUNTRY_INFO!J56>1,COUNTRY_INFO!J56<4), IF(V56/COUNTRY_INFO!F56*100<>0, IF(V56/COUNTRY_INFO!F56*100>100,100,V56/COUNTRY_INFO!F56*100), \"-\"),0)","v":"-"},0,{"$f":"IF(AND(COUNTRY_INFO!J56>1,COUNTRY_INFO!J56<4), IF(S56/P56*100<>0, IF(X56/P56*100>100,100,X56/P56*100), \"-\"),0)","v":"-"},{"$f":"COUNTRY_INFO!O56","v":125043.8687248538},null,null,{"$f":"MAX('T1'!L56,'T2'!J56)+MAX('T1'!M56,'T2'!K56)+MAX('T1'!N56,'T2'!L56)","v":0},{"$f":"IF(COUNTRY_INFO!K56=1,IF(COUNTRY_INFO!F56*0.33>MAX('T1'!M56,'T2'!K56),MAX('T1'!M56,'T2'!K56),COUNTRY_INFO!F56*0.33),IF(COUNTRY_INFO!K56=2,IF(COUNTRY_INFO!F56*0.5>MAX('T1'!M56,'T2'!K56),MAX('T1'!M56,'T2'!K56),COUNTRY_INFO!F56*0.5),IF(COUNTRY_INFO!K56=3,IF(COUNTRY_INFO!F56>MAX('T1'!M56,'T2'!K56),MAX('T1'!M56,'T2'!K56),COUNTRY_INFO!F56),0)))","v":0},{"$f":"IF(AND(COUNTRY_INFO!K56>0,COUNTRY_INFO!K56<4),IF(Z56>0,IF(COUNTRY_INFO!K56=1, AD56/(COUNTRY_INFO!F56*0.33)*100, IF(COUNTRY_INFO!K56=2, AD56/(COUNTRY_INFO!F56*0.5)*100, IF(COUNTRY_INFO!K56=3, AD56/COUNTRY_INFO!F56*100))),\"-\"),0)","v":0},{"$f":"IF(COUNTRY_INFO!K56=2,IF(COUNTRY_INFO!G56*0.2>MAX('T1'!N56,'T2'!L56),MAX('T1'!N56,'T2'!L56),COUNTRY_INFO!G56*0.2),IF(COUNTRY_INFO!K56=3,IF(COUNTRY_INFO!G56>MAX('T1'!N56,'T2'!L56),MAX('T1'!N56,'T2'!L56),COUNTRY_INFO!G56),0))","v":0},{"$f":"IF(AND(COUNTRY_INFO!K56>0,COUNTRY_INFO!K56<4),IF(Z56>0,IF(COUNTRY_INFO!K56=1, 0, IF(COUNTRY_INFO!K56=2, AF56/(COUNTRY_INFO!G56*0.2)*100, IF(COUNTRY_INFO!K56=3, AF56/COUNTRY_INFO!G56*100))),\"-\"),0)","v":0},0,{"$f":"IF(AND(COUNTRY_INFO!K56>0,COUNTRY_INFO!K56<4), IF(AC56/Z56*100<>0, IF(AH56/Z56*100>100,100,AH56/Z56*100), \"-\"),0)","v":"-"},null,{"$f":"IF(AND(D56<>0, D56<>\"Unknown\",D56<>\"Stopped\",D56<>\"Not required\"),D56/COUNTRY_INFO!D56, 0)","v":0},{"$f":"IF(AND(J56<>0,J56<>\"Unknown\",J56<>\"Stopped\",J56<>\"Not required\"),J56/COUNTRY_INFO!D56, 0)","v":0},{"$f":"IF(AND(P56<>0,P56<>\"Unknown\",P56<>\"Not required\"),P56/(COUNTRY_INFO!E56+COUNTRY_INFO!F56), 0)","v":1},{"$f":"IF(AND(Z56<>0,Z56<>\"Unknown\",Z56<>\"Not required\"),IF(COUNTRY_INFO!K56=1,1,IF(COUNTRY_INFO!K56=2,0.5*COUNTRY_INFO!F56/(0.5*COUNTRY_INFO!F56+0.2*COUNTRY_INFO!G56),IF(COUNTRY_INFO!K56=3,COUNTRY_INFO!F56/(COUNTRY_INFO!F56+COUNTRY_INFO!G56)))),0)","v":0.44158102722732723},{"$f":"IF(AND(Z56<>0,Z56<>\"Unknown\",Z56<>\"Not required\"),IF(COUNTRY_INFO!K56=1,0,IF(COUNTRY_INFO!K56=2,0.2*COUNTRY_INFO!G56/(0.5*COUNTRY_INFO!F56+0.2*COUNTRY_INFO!G56),IF(COUNTRY_INFO!K56=3,COUNTRY_INFO!G56/(COUNTRY_INFO!F56+COUNTRY_INFO!G56)))),0)","v":0.55841897277267272},{"$f":"MAX(COUNTRY_INFO!D56*AK56*PROFILE!$G$7,COUNTRY_INFO!D56*AL56*PROFILE!$G$7)","v":0},{"$f":"MAX(COUNTRY_INFO!D56*AK56*PROFILE!$G$8,COUNTRY_INFO!D56*AL56*PROFILE!$G$8,COUNTRY_INFO!D56*AM56*PROFILE!$G$8)","v":68064.702329819833},{"$f":"MAX(COUNTRY_INFO!D56*AK56*PROFILE!$G$9,COUNTRY_INFO!D56*AL56*PROFILE!$G$9,COUNTRY_INFO!D56*AM56*PROFILE!$G$9,IF(AND(DISTRICT!Z56<>\"Unknown\",Z56<>\"Not required\"),COUNTRY_INFO!O56*DISTRICT!AN56,0))","v":118613.01199385387},{"$f":"MAX(COUNTRY_INFO!D56*AK56*PROFILE!$G$10,COUNTRY_INFO!D56*AL56*PROFILE!$G$10,IF(AND(DISTRICT!Z56<>\"Unknown\",Z56<>\"Not required\"),COUNTRY_INFO!O56*DISTRICT!AO56,0))","v":69826.868724853804},256504.58304852748,0,{"$f":"MAX('MDA2'!J56,'T1'!L56,'T2'!J56,T3_R1!K56,T3_R2!K56)","v":0},{"$f":"MAX('MDA1'!K56,'MDA2'!K56,'MDA3'!I56,'MDA3'!L56,'T1'!M56,'T2'!K56,T3_R1!L56,T3_R2!L56)","v":0},{"$f":"MAX('MDA1'!L56,'MDA2'!L56,'MDA3'!J56,'MDA3'!M56,'T1'!N56,'T2'!L56,T3_R1!M56,T3_R2!M56)","v":0},0,{"$f":"MAX('MDA2'!J56,T56)","v":0},{"$f":"MAX('MDA1'!K56,'MDA2'!K56,'MDA3'!I56,'MDA3'!L56,V56,AD56)","v":0},{"$f":"MAX('MDA1'!L56,'MDA2'!L56,'MDA3'!J56,'MDA3'!M56,AF56)","v":0},0,0]
[{"$f":"IF(COUNTRY_INFO!A57=0,\" \",COUNTRY_INFO!A57)","v":"Tanzania"},{"$f":"IF(COUNTRY_INFO!B57=0,\" \",COUNTRY_INFO!B57)","v":"Kigoma"},{"$f":"IF(COUNTRY_INFO!C57=0,\" \",COUNTRY_INFO!C57)","v":"Kasulu Town Council"},{"$f":"COUNTRY_INFO!L57","v":0},null,null,{"$f":"MAX('MDA1'!M57,'MDA2'!M57)","v":0},{"$f":"IF(AND(COUNTRY_INFO!H57>0,COUNTRY_INFO!H57<4),IF(D57>MAX('MDA1'!M57,'MDA2'!M57),MAX('MDA1'!M57,'MDA2'!M57),D57),0)","v":0},{"$f":"IF(AND(COUNTRY_INFO!H57>0,COUNTRY_INFO!H57<4), IF(G57/D57*100<>0, IF(G57/D57*100>100,100,G57/D57*100), \"-\"),0)","v":0},{"$f":"COUNTRY_INFO!M57","v":0},null,null,{"$f":"MAX('MDA1'!M57,MAX('MDA3'!I57,'MDA3'!L57)+MAX('MDA3'!J57,'MDA3'!M57))","v":0},{"$f":"IF(AND(COUNTRY_INFO!I57>0,COUNTRY_INFO!I57<4),IF(J57>MAX('MDA1'!M57,MAX('MDA3'!I57,'MDA3'!L57)+MAX('MDA3'!J57,'MDA3'!M57)),MAX('MDA1'!M57,MAX('MDA3'!I57,'MDA3'!L57)+MAX('MDA3'!J57,'MDA3'!M57)),J57),0)","v":0},{"$f":"IF(AND(COUNTRY_INFO!I57>0,COUNTRY_INFO!I57<4), IF(M57/J57*100<>0, IF(M57/J57*100>100,100,M57/J57*100), \"-\"),0)","v":0},{"$f":"COUNTRY_INFO!N57","v":84867},null,null,{"$f":"SUM(MAX('MDA2'!J57, 'T1'!L57, MAX(T3_R1!K57, T3_R2!K57)), MAX('MDA1'!K57, 'MDA2'!K57, 'T1'!M57, MAX(T3_R1!L57, T3_R2!L57)), MAX('MDA1'!L57, 'MDA2'!L57, 'T1'!N57, MAX(T3_R1!M57, T3_R2!M57)))","v":0},{"$f":"IF(AND(COUNTRY_INFO!J57>1,COUNTRY_INFO!J57<4),IF(COUNTRY_INFO!E57>MAX('MDA2'!J57,'T1'!L57,MAX(T3_R1!K57,T3_R2!K57)),MAX('MDA2'!J57,'T1'!L57,MAX(T3_R1!K57,T3_R2!K57)),COUNTRY_INFO!E57),0)","v":0},{"$f":"IF(AND(COUNTRY_INFO!J57>1,COUNTRY_INFO!J57<4), IF(T57/COUNTRY_INFO!E57*100<>0, IF(T57/COUNTRY_INFO!E57*100>100,100,T57/COUNTRY_INFO!E57*100), \"-\"),0)","v":"-"},{"$f":"IF(AND(COUNTRY_INFO!J57>1,COUNTRY_INFO!J57<4),IF(COUNTRY_INFO!F57>MAX('MDA1'!K57,'MDA2'!K57,'T1'!M57,MAX(T3_R1!L57,T3_R2!L57)),MAX('MDA1'!K57,'MDA2'!K57,'T1'!M57,MAX(T3_R1!L57,T3_R2!L57)),COUNTRY_INFO!F57),0)","v":0},{"$f":"IF(AND(COUNTRY_INFO!J57>1,COUNTRY_INFO!J57<4), IF(V57/COUNTRY_INFO!F57*100<>0, IF(V57/COUNTRY_INFO!F57*100>100,100,V57/COUNTRY_INFO!F57*100), \"-\"),0)","v":"-"},0,{"$f":"IF(AND(COUNTRY_INFO!J57>1,COUNTRY_INFO!J57<4), IF(S57/P57*100<>0, IF(X57/P57*100>100,100,X57/P57*100), \"-\"),0)","v":"-"},{"$f":"COUNTRY_INFO!O57","v":60426.142679476208},null,null,{"$f":"MAX('T1'!L57,'T2'!J57)+MAX('T1'!M57,'T2'!K57)+MAX('T1'!N57,'T2'!L57)","v":0},{"$f":"IF(COUNTRY_INFO!K57=1,IF(COUNTRY_INFO!F57*0.33>MAX('T1'!M57,'T2'!K57),MAX('T1'!M57,'T2'!K57),COUNTRY_INFO!F57*0.33),IF(COUNTRY_INFO!K57=2,IF(COUNTRY_INFO!F57*0.5>MAX('T1'!M57,'T2'!K57),MAX('T1'!M57,'T2'!K57),COUNTRY_INFO!F57*0.5),IF(COUNTRY_INFO!K57=3,IF(COUNTRY_INFO!F57>MAX('T1'!M57,'T2'!K57),MAX('T1'!M57,'T2'!K57),COUNTRY_INFO!F57),0)))","v":0},{"$f":"IF(AND(COUNTRY_INFO!K57>0,COUNTRY_INFO!K57<4),IF(Z57>0,IF(COUNTRY_INFO!K57=1, AD57/(COUNTRY_INFO!F57*0.33)*100, IF(COUNTRY_INFO!K57=2, AD57/(COUNTRY_INFO!F57*0.5)*100, IF(COUNTRY_INFO!K57=3, AD57/COUNTRY_INFO!F57*100))),\"-\"),0)","v":0},{"$f":"IF(COUNTRY_INFO!K57=2,IF(COUNTRY_INFO!G57*0.2>MAX('T1'!N57,'T2'!L57),MAX('T1'!N57,'T2'!L57),COUNTRY_INFO!G57*0.2),IF(COUNTRY_INFO!K57=3,IF(COUNTRY_INFO!G57>MAX('T1'!N57,'T2'!L57),MAX('T1'!N57,'T2'!L57),COUNTRY_INFO!G57),0))","v":0},{"$f":"IF(AND(COUNTRY_INFO!K57>0,COUNTRY_INFO!K57<4),IF(Z57>0,IF(COUNTRY_INFO!K57=1, 0, IF(COUNTRY_INFO!K57=2, AF57/(COUNTRY_INFO!G57*0.2)*100, IF(COUNTRY_INFO!K57=3, AF57/COUNTRY_INFO!G57*100))),\"-\"),0)","v":0},0,{"$f":"IF(AND(COUNTRY_INFO!K57>0,COUNTRY_INFO!K57<4), IF(AC57/Z57*100<>0, IF(AH57/Z57*100>100,100,AH57/Z57*100), \"-\"),0)","v":"-"},null,{"$f":"IF(AND(D57<>0, D57<>\"Unknown\",D57<>\"Stopped\",D57<>\"Not required\"),D57/COUNTRY_INFO!D57, 0)","v":0},{"$f":"IF(AND(J57<>0,J57<>\"Unknown\",J57<>\"Stopped\",J57<>\"Not required\"),J57/COUNTRY_INFO!D57, 0)","v":0},{"$f":"IF(AND(P57<>0,P57<>\"Unknown\",P57<>\"Not required\"),P57/(COUNTRY_INFO!E57+COUNTRY_INFO!F57), 0)","v":1},{"$f":"IF(AND(Z57<>0,Z57<>\"Unknown\",Z57<>\"Not required\"),IF(COUNTRY_INFO!K57=1,1,IF(COUNTRY_INFO!K57=2,0.5*COUNTRY_INFO!F57/(0.5*COUNTRY_INFO!F57+0.2*COUNTRY_INFO!G57),IF(COUNTRY_INFO!K57=3,COUNTRY_INFO!F57/(COUNTRY_INFO!F57+COUNTRY_INFO!G57)))),0)","v":0.42679374946697413},{"$f":"IF(AND(Z57<>0,Z57<>\"Unknown\",Z57<>\"Not required\"),IF(COUNTRY_INFO!K57=1,0,IF(COUNTRY_INFO!K57=2,0.2*COUNTRY_INFO!G57/(0.5*COUNTRY_INFO!F57+0.2*COUNTRY_INFO!G57),IF(COUNTRY_INFO!K57=3,COUNTRY_INFO!G57/(COUNTRY_INFO!F57+COUNTRY_INFO!G57)))),0)","v":0.57320625053302587},{"$f":"MAX(COUNTRY_INFO!D57*AK57*PROFILE!$G$7,COUNTRY_INFO!D57*AL57*PROFILE!$G$7)","v":0},{"$f":"MAX(COUNTRY_INFO!D57*AK57*PROFILE!$G$8,COUNTRY_INFO!D57*AL57*PROFILE!$G$8,COUNTRY_INFO!D57*AM57*PROFILE!$G$8)","v":33288.478018452784},{"$f":"MAX(COUNTRY_INFO!D57*AK57*PROFILE!$G$9,COUNTRY_INFO!D57*AL57*PROFILE!$G$9,COUNTRY_INFO!D57*AM57*PROFILE!$G$9,IF(AND(DISTRICT!Z57<>\"Unknown\",Z57<>\"Not required\"),COUNTRY_INFO!O57*DISTRICT!AN57,0))","v":58010.194819143835},{"$f":"MAX(COUNTRY_INFO!D57*AK57*PROFILE!$G$10,COUNTRY_INFO!D57*AL57*PROFILE!$G$10,IF(AND(DISTRICT!Z57<>\"Unknown\",Z57<>\"Not required\"),COUNTRY_INFO!O57*DISTRICT!AO57,0))","v":34636.642679476208},125935.31551707283,0,{"$f":"MAX('MDA2'!J57,'T1'!L57,'T2'!J57,T3_R1!K57,T3_R2!K57)","v":0},{"$f":"MAX('MDA1'!K57,'MDA2'!K57,'MDA3'!I57,'MDA3'!L57,'T1'!M57,'T2'!K57,T3_R1!L57,T3_R2!L57)","v":0},{"$f":"MAX('MDA1'!L57,'MDA2'!L57,'MDA3'!J57,'MDA3'!M57,'T1'!N57,'T2'!L57,T3_R1!M57,T3_R2!M57)","v":0},0,{"$f":"MAX('MDA2'!J57,T57)","v":0},{"$f":"MAX('MDA1'!K57,'MDA2'!K57,'MDA3'!I57,'MDA3'!L57,V57,AD57)","v":0},{"$f":"MAX('MDA1'!L57,'MDA2'!L57,'MDA3'!J57,'MDA3'!M57,AF57)","v":0},0,0]
[{"$f":"IF(COUNTRY_INFO!A58=0,\" \",COUNTRY_INFO!A58)","v":"Tanzania"},{"$f":"IF(COUNTRY_INFO!B58=0,\" \",COUNTRY_INFO!B58)","v":"Kigoma"},{"$f":"IF(COUNTRY_INFO!C58=0,\" \",COUNTRY_INFO!C58)","v":"Kibondo District Council"},{"$f":"COUNTRY_INFO!L58","v":0},null,null,{"$f":"MAX('MDA1'!M58,'MDA2'!M58)","v":0},{"$f":"IF(AND(COUNTRY_INFO!H58>0,COUNTRY_INFO!H58<4),IF(D58>MAX('MDA1'!M58,'MDA2'!M58),MAX('MDA1'!M58,'MDA2'!M58),D58),0)","v":0},{"$f":"IF(AND(COUNTRY_INFO!H58>0,COUNTRY_INFO!H58<4), IF(G58/D58*100<>0, IF(G58/D58*100>100,100,G58/D58*100), \"-\"),0)","v":0},{"$f":"COUNTRY_INFO!M58","v":0},null,null,{"$f":"MAX('MDA1'!M58,MAX('MDA3'!I58,'MDA3'!L58)+MAX('MDA3'!J58,'MDA3'!M58))","v":0},{"$f":"IF(AND(COUNTRY_INFO!I58>0,COUNTRY_INFO!I58<4),IF(J58>MAX('MDA1'!M58,MAX('MDA3'!I58,'MDA3'!L58)+MAX('MDA3'!J58,'MDA3'!M58)),MAX('MDA1'!M58,MAX('MDA3'!I58,'MDA3'!L58)+MAX('MDA3'!J58,'MDA3'!M58)),J58),0)","v":0},{"$f":"IF(AND(COUNTRY_INFO!I58>0,COUNTRY_INFO!I58<4), IF(M58/J58*100<>0, IF(M58/J58*100>100,100,M58/J58*100), \"-\"),0)","v":0},{"$f":"COUNTRY_INFO!N58","v":108078},null,null,{"$f":"SUM(MAX('MDA2'!J58, 'T1'!L58, MAX(T3_R1!K58, T3_R2!K58)), MAX('MDA1'!K58, 'MDA2'!K58, 'T1'!M58, MAX(T3_R1!L58, T3_R2!L58)), MAX('MDA1'!L58, 'MDA2'!L58, 'T1'!N58, MAX(T3_R1!M58, T3_R2!M58)))","v":0},{"$f":"IF(AND(COUNTRY_INFO!J58>1,COUNTRY_INFO!J58<4),IF(COUNTRY_INFO!E58>MAX('MDA2'!J58,'T1'!L58,MAX(T3_R1!K58,T3_R2!K58)),MAX('MDA2'!J58,'T1'!L58,MAX(T3_R1!K58,T3_R2!K58)),COUNTRY_INFO!E58),0)","v":0},{"$f":"IF(AND(COUNTRY_INFO!J58>1,COUNTRY_INFO!J58<4), IF(T58/COUNTRY_INFO!E58*100<>0, IF(T58/COUNTRY_INFO!E58*100>100,100,T58/COUNTRY_INFO!E58*100), \"-\"),0)","v":"-"},{"$f":"IF(AND(COUNTRY_INFO!J58>1,COUNTRY_INFO!J58<4),IF(COUNTRY_INFO!F58>MAX('MDA1'!K58,'MDA2'!K58,'T1'!M58,MAX(T3_R1!L58,T3_R2!L58)),MAX('MDA1'!K58,'MDA2'!K58,'T1'!M58,MAX(T3_R1!L58,T3_R2!L58)),COUNTRY_INFO!F58),0)","v":0},{"$f":"IF(AND(COUNTRY_INFO!J58>1,COUNTRY_INFO!J58<4), IF(V58/COUNTRY_INFO!F58*100<>0, IF(V58/COUNTRY_INFO!F58*100>100,100,V58/COUNTRY_INFO!F58*100), \"-\"),0)","v":"-"},0,{"$f":"IF(AND(COUNTRY_INFO!J58>1,COUNTRY_INFO!J58<4), IF(S58/P58*100<>0, IF(X58/P58*100>100,100,X58/P58*100), \"-\"),0)","v":"-"},{"$f":"COUNTRY_INFO!O58","v":76302.922333424358},null,null,{"$f":"MAX('T1'!L58,'T2'!J58)+MAX('T1'!M58,'T2'!K58)+MAX('T1'!N58,'T2'!L58)","v":0},{"$f":"IF(COUNTRY_INFO!K58=1,IF(COUNTRY_INFO!F58*0.33>MAX('T1'!M58,'T2'!K58),MAX('T1'!M58,'T2'!K58),COUNTRY_INFO!F58*0.33),IF(COUNTRY_INFO!K58=2,IF(COUNTRY_INFO!F58*0.5>MAX('T1'!M58,'T2'!K58),MAX('T1'!M58,'T2'!K58),COUNTRY_INFO!F58*0.5),IF(COUNTRY_INFO!K58=3,IF(COUNTRY_INFO!F58>MAX('T1'!M58,'T2'!K58),MAX('T1'!M58,'T2'!K58),COUNTRY_INFO!F58),0)))","v":0},{"$f":"IF(AND(COUNTRY_INFO!K58>0,COUNTRY_INFO!K58<4),IF(Z58>0,IF(COUNTRY_INFO!K58=1, AD58/(COUNTRY_INFO!F58*0.33)*100, IF(COUNTRY_INFO!K58=2, AD58/(COUNTRY_INFO!F58*0.5)*100, IF(COUNTRY_INFO!K58=3, AD58/COUNTRY_INFO!F58*100))),\"-\"),0)","v":0},{"$f":"IF(COUNTRY_INFO!K58=2,IF(COUNTRY_INFO!G58*0.2>MAX('T1'!N58,'T2'!L58),MAX('T1'!N58,'T2'!L58),COUNTRY_INFO!G58*0.2),IF(COUNTRY_INFO!K58=3,IF(COUNTRY_INFO!G58>MAX('T1'!N58,'T2'!L58),MAX('T1'!N58,'T2'!L58),COUNTRY_INFO!G58),0))","v":0},{"$f":"IF(AND(COUNTRY_INFO!K58>0,COUNTRY_INFO!K58<4),IF(Z58>0,IF(COUNTRY_INFO!K58=1, 0, IF(COUNTRY_INFO!K58=2, AF58/(COUNTRY_INFO!G58*0.2)*100, IF(COUNTRY_INFO!K58=3, AF58/COUNTRY_INFO!G58*100))),\"-\"),0)","v":0},0,{"$f":"IF(AND(COUNTRY_INFO!K58>0,COUNTRY_INFO!K58<4), IF(AC58/Z58*100<>0, IF(AH58/Z58*100>100,100,AH58/Z58*100), \"-\"),0)","v":"-"},null,{"$f":"IF(AND(D58<>0, D58<>\"Unknown\",D58<>\"Stopped\",D58<>\"Not required\"),D58/COUNTRY_INFO!D58, 0)","v":0},{"$f":"IF(AND(J58<>0,J58<>\"Unknown\",J58<>\"Stopped\",J58<>\"Not required\"),J58/COUNTRY_INFO!D58, 0)","v":0},{"$f":"IF(AND(P58<>0,P58<>\"Unknown\",P58<>\"Not required\"),P58/(COUNTRY_INFO!E58+COUNTRY_INFO!F58), 0)","v":1},{"$f":"IF(AND(Z58<>0,Z58<>\"Unknown\",Z58<>\"Not required\"),IF(COUNTRY_INFO!K58=1,1,IF(COUNTRY_INFO!K58=2,0.5*COUNTRY_INFO!F58/(0.5*COUNTRY_INFO!F58+0.2*COUNTRY_INFO!G58),IF(COUNTRY_INFO!K58=3,COUNTRY_INFO!F58/(COUNTRY_INFO!F58+COUNTRY_INFO!G58)))),0)","v":0.43447221923082291},{"$f":"IF(AND(Z58<>0,Z58<>\"Unknown\",Z58<>\"Not required\"),IF(COUNTRY_INFO!K58=1,0,IF(COUNTRY_INFO!K58=2,0.2*COUNTRY_INFO!G58/(0.5*COUNTRY_INFO!F58+0.2*COUNTRY_INFO!G58),IF(COUNTRY_INFO!K58=3,COUNTRY_INFO!G58/(COUNTRY_INFO!F58+COUNTRY_INFO!G58)))),0)","v":0.56552778076917709},{"$f":"MAX(COUNTRY_INFO!D58*AK58*PROFILE!$G$7,COUNTRY_INFO!D58*AL58*PROFILE!$G$7)","v":0},{"$f":"MAX(COUNTRY_INFO!D58*AK58*PROFILE!$G$8,COUNTRY_INFO!D58*AL58*PROFILE!$G$8,COUNTRY_INFO!D58*AM58*PROFILE!$G$8)","v":41774.730020213938},{"$f":"MAX(COUNTRY_INFO!D58*AK58*PROFILE!$G$9,COUNTRY_INFO!D58*AL58*PROFILE!$G$9,COUNTRY_INFO!D58*AM58*PROFILE!$G$9,IF(AND(DISTRICT!Z58<>\"Unknown\",Z58<>\"Not required\"),COUNTRY_INFO!O58*DISTRICT!AN58,0))","v":72798.769161101533},{"$f":"MAX(COUNTRY_INFO!D58*AK58*PROFILE!$G$10,COUNTRY_INFO!D58*AL58*PROFILE!$G$10,IF(AND(DISTRICT!Z58<>\"Unknown\",Z58<>\"Not required\"),COUNTRY_INFO!O58*DISTRICT!AO58,0))","v":43151.422333424358},157724.92151473984,0,{"$f":"MAX('MDA2'!J58,'T1'!L58,'T2'!J58,T3_R1!K58,T3_R2!K58)","v":0},{"$f":"MAX('MDA1'!K58,'MDA2'!K58,'MDA3'!I58,'MDA3'!L58,'T1'!M58,'T2'!K58,T3_R1!L58,T3_R2!L58)","v":0},{"$f":"MAX('MDA1'!L58,'MDA2'!L58,'MDA3'!J58,'MDA3'!M58,'T1'!N58,'T2'!L58,T3_R1!M58,T3_R2!M58)","v":0},0,{"$f":"MAX('MDA2'!J58,T58)","v":0},{"$f":"MAX('MDA1'!K58,'MDA2'!K58,'MDA3'!I58,'MDA3'!L58,V58,AD58)","v":0},{"$f":"MAX('MDA1'!L58,'MDA2'!L58,'MDA3'!J58,'MDA3'!M58,AF58)","v":0},0,0]
[{"$f":"IF(COUNTRY_INFO!A59=0,\" \",COUNTRY_INFO!A59)","v":"Tanzania"},{"$f":"IF(COUNTRY_INFO!B59=0,\" \",COUNTRY_INFO!B59)","v":"Kigoma"},{"$f":"IF(COUNTRY_INFO!C59=0,\" \",COUNTRY_INFO!C59)","v":"Kigoma District Council"},{"$f":"COUNTRY_INFO!L59","v":0},null,null,{"$f":"MAX('MDA1'!M59,'MDA2'!M59)","v":0},{"$f":"IF(AND(COUNTRY_INFO!H59>0,COUNTRY_INFO!H59<4),IF(D59>MAX('MDA1'!M59,'MDA2'!M59),MAX('MDA1'!M59,'MDA2'!M59),D59),0)","v":0},{"$f":"IF(AND(COUNTRY_INFO!H59>0,COUNTRY_INFO!H59<4), IF(G59/D59*100<>0, IF(G59/D59*100>100,100,G59/D59*100), \"-\"),0)","v":0},{"$f":"COUNTRY_INFO!M59","v":0},null,null,{"$f":"MAX('MDA1'!M59,MAX('MDA3'!I59,'MDA3'!L59)+MAX('MDA3'!J59,'MDA3'!M59))","v":0},{"$f":"IF(AND(COUNTRY_INFO!I59>0,COUNTRY_INFO!I59<4),IF(J59>MAX('MDA1'!M59,MAX('MDA3'!I59,'MDA3'!L59)+MAX('MDA3'!J59,'MDA3'!M59)),MAX('MDA1'!M59,MAX('MDA3'!I59,'MDA3'!L59)+MAX('MDA3'!J59,'MDA3'!M59)),J59),0)","v":0},{"$f":"IF(AND(COUNTRY_INFO!I59>0,COUNTRY_INFO!I59<4), IF(M59/J59*100<>0, IF(M59/J59*100>100,100,M59/J59*100), \"-\"),0)","v":0},{"$f":"COUNTRY_INFO!N59","v":86745},null,null,{"$f":"SUM(MAX('MDA2'!J59, 'T1'!L59, MAX(T3_R1!K59, T3_R2!K59)), MAX('MDA1'!K59, 'MDA2'!K59, 'T1'!M59, MAX(T3_R1!L59, T3_R2!L59)), MAX('MDA1'!L59, 'MDA2'!L59, 'T1'!N59, MAX(T3_R1!M59, T3_R2!M59)))","v":0},{"$f":"IF(AND(COUNTRY_INFO!J59>1,COUNTRY_INFO!J59<4),IF(COUNTRY_INFO!E59>MAX('MDA2'!J59,'T1'!L59,MAX(T3_R1!K59,T3_R2!K59)),MAX('MDA2'!J59,'T1'!L59,MAX(T3_R1!K59,T3_R2!K59)),COUNTRY_INFO!E59),0)","v":0},{"$f":"IF(AND(COUNTRY_INFO!J59>1,COUNTRY_INFO!J59<4), IF(T59/COUNTRY_INFO!E59*100<>0, IF(T59/COUNTRY_INFO!E59*100>100,100,T59/COUNTRY_INFO!E59*100), \"-\"),0)","v":"-"},{"$f":"IF(AND(COUNTRY_INFO!J59>1,COUNTRY_INFO!J59<4),IF(COUNTRY_INFO!F59>MAX('MDA1'!K59,'MDA2'!K59,'T1'!M59,MAX(T3_R1!L59,T3_R2!L59)),MAX('MDA1'!K59,'MDA2'!K59,'T1'!M59,MAX(T3_R1!L59,T3_R2!L59)),COUNTRY_INFO!F59),0)","v":0},{"$f":"IF(AND(COUNTRY_INFO!J59>1,COUNTRY_INFO!J59<4), IF(V59/COUNTRY_INFO!F59*100<>0, IF(V59/COUNTRY_INFO!F59*100>100,100,V59/COUNTRY_INFO!F59*100), \"-\"),0)","v":"-"},0,{"$f":"IF(AND(COUNTRY_INFO!J59>1,COUNTRY_INFO!J59<4), IF(S59/P59*100<>0, IF(X59/P59*100>100,100,X59/P59*100), \"-\"),0)","v":"-"},{"$f":"COUNTRY_INFO!O59","v":61547.178373628951},null,null,{"$f":"MAX('T1'!L59,'T2'!J59)+MAX('T1'!M59,'T2'!K59)+MAX('T1'!N59,'T2'!L59)","v":0},{"$f":"IF(COUNTRY_INFO!K59=1,IF(COUNTRY_INFO!F59*0.33>MAX('T1'!M59,'T2'!K59),MAX('T1'!M59,'T2'!K59),COUNTRY_INFO!F59*0.33),IF(COUNTRY_INFO!K59=2,IF(COUNTRY_INFO!F59*0.5>MAX('T1'!M59,'T2'!K59),MAX('T1'!M59,'T2'!K59),COUNTRY_INFO!F59*0.5),IF(COUNTRY_INFO!K59=3,IF(COUNTRY_INFO!F59>MAX('T1'!M59,'T2'!K59),MAX('T1'!M59,'T2'!K59),COUNTRY_INFO!F59),0)))","v":0},{"$f":"IF(AND(COUNTRY_INFO!K59>0,COUNTRY_INFO!K59<4),IF(Z59>0,IF(COUNTRY_INFO!K59=1, AD59/(COUNTRY_INFO!F59*0.33)*100, IF(COUNTRY_INFO!K59=2, AD59/(COUNTRY_INFO!F59*0.5)*100, IF(COUNTRY_INFO!K59=3, AD59/COUNTRY_INFO!F59*100))),\"-\"),0)","v":0},{"$f":"IF(COUNTRY_INFO!K59=2,IF(COUNTRY_INFO!G59*0.2>MAX('T1'!N59,'T2'!L59),MAX('T1'!N59,'T2'!L59),COUNTRY_INFO!G59*0.2),IF(COUNTRY_INFO!K59=3,IF(COUNTRY_INFO!G59>MAX('T1'!N59,'T2'!L59),MAX('T1'!N59,'T2'!L59),COUNTRY_INFO!G59),0))","v":0},{"$f":"IF(AND(COUNTRY_INFO!K59>0,COUNTRY_INFO!K59<4),IF(Z59>0,IF(COUNTRY_INFO!K59=1, 0, IF(COUNTRY_INFO!K59=2, AF59/(COUNTRY_INFO!G59*0.2)*100, IF(COUNTRY_INFO!K59=3, AF59/COUNTRY_INFO!G59*100))),\"-\"),0)","v":0},0,{"$f":"IF(AND(COUNTRY_INFO!K59>0,COUNTRY_INFO!K59<4), IF(AC59/Z59*100<>0, IF(AH59/Z59*100>100,100,AH59/Z59*100), \"-\"),0)","v":"-"},null,{"$f":"IF(AND(D59<>0, D59<>\"Unknown\",D59<>\"Stopped\",D59<>\"Not required\"),D59/COUNTRY_INFO!D59, 0)","v":0},{"$f":"IF(AND(J59<>0,J59<>\"Unknown\",J59<>\"Stopped\",J59<>\"Not required\"),J59/COUNTRY_INFO!D59, 0)","v":0},{"$f":"IF(AND(P59<>0,P59<>\"Unknown\",P59<>\"Not required\"),P59/(COUNTRY_INFO!E59+COUNTRY_INFO!F59), 0)","v":1},{"$f":"IF(AND(Z59<>0,Z59<>\"Unknown\",Z59<>\"Not required\"),IF(COUNTRY_INFO!K59=1,1,IF(COUNTRY_INFO!K59=2,0.5*COUNTRY_INFO!F59/(0.5*COUNTRY_INFO!F59+0.2*COUNTRY_INFO!G59),IF(COUNTRY_INFO!K59=3,COUNTRY_INFO!F59/(COUNTRY_INFO!F59+COUNTRY_INFO!G59)))),0)","v":0.42995472252775696},{"$f":"IF(AND(Z59<>0,Z59<>\"Unknown\",Z59<>\"Not required\"),IF(COUNTRY_INFO!K59=1,0,IF(COUNTRY_INFO!K59=2,0.2*COUNTRY_INFO!G59/(0.5*COUNTRY_INFO!F59+0.2*COUNTRY_INFO!G59),IF(COUNTRY_INFO!K59=3,COUNTRY_INFO!G59/(COUNTRY_INFO!F59+COUNTRY_INFO!G59)))),0)","v":0.57004527747224298},{"$f":"MAX(COUNTRY_INFO!D59*AK59*PROFILE!$G$7,COUNTRY_INFO!D59*AL59*PROFILE!$G$7)","v":0},{"$f":"MAX(COUNTRY_INFO!D59*AK59*PROFILE!$G$8,COUNTRY_INFO!D59*AL59*PROFILE!$G$8,COUNTRY_INFO!D59*AM59*PROFILE!$G$8)","v":33819.723049004169},{"$f":"MAX(COUNTRY_INFO!D59*AK59*PROFILE!$G$9,COUNTRY_INFO!D59*AL59*PROFILE!$G$9,COUNTRY_INFO!D59*AM59*PROFILE!$G$9,IF(AND(DISTRICT!Z59<>\"Unknown\",Z59<>\"Not required\"),COUNTRY_INFO!O59*DISTRICT!AN59,0))","v":58935.969428061209},{"$f":"MAX(COUNTRY_INFO!D59*AK59*PROFILE!$G$10,COUNTRY_INFO!D59*AL59*PROFILE!$G$10,IF(AND(DISTRICT!Z59<>\"Unknown\",Z59<>\"Not required\"),COUNTRY_INFO!O59*DISTRICT!AO59,0))","v":35084.678373628951},127840.37085069432,0,{"$f":"MAX('MDA2'!J59,'T1'!L59,'T2'!J59,T3_R1!K59,T3_R2!K59)","v":0},{"$f":"MAX('MDA1'!K59,'MDA2'!K59,'MDA3'!I59,'MDA3'!L59,'T1'!M59,'T2'!K59,T3_R1!L59,T3_R2!L59)","v":0},{"$f":"MAX('MDA1'!L59,'MDA2'!L59,'MDA3'!J59,'MDA3'!M59,'T1'!N59,'T2'!L59,T3_R1!M59,T3_R2!M59)","v":0},0,{"$f":"MAX('MDA2'!J59,T59)","v":0},{"$f":"MAX('MDA1'!K59,'MDA2'!K59,'MDA3'!I59,'MDA3'!L59,V59,AD59)","v":0},{"$f":"MAX('MDA1'!L59,'MDA2'!L59,'MDA3'!J59,'MDA3'!M59,AF59)","v":0},0,0]
[{"$f":"IF(COUNTRY_INFO!A60=0,\" \",COUNTRY_INFO!A60)","v":"Tanzania"},{"$f":"IF(COUNTRY_INFO!B60=0,\" \",COUNTRY_INFO!B60)","v":"Kigoma"},{"$f":"IF(COUNTRY_INFO!C60=0,\" \",COUNTRY_INFO!C60)","v":"Kigoma-Ujiji Municipal Council"},{"$f":"COUNTRY_INFO!L60","v":0},null,null,{"$f":"MAX('MDA1'!M60,'MDA2'!M60)","v":0},{"$f":"IF(AND(COUNTRY_INFO!H60>0,COUNTRY_INFO!H60<4),IF(D60>MAX('MDA1'!M60,'MDA2'!M60),MAX('MDA1'!M60,'MDA2'!M60),D60),0)","v":0},{"$f":"IF(AND(COUNTRY_INFO!H60>0,COUNTRY_INFO!H60<4), IF(G60/D60*100<>0, IF(G60/D60*100>100,100,G60/D60*100), \"-\"),0)","v":0},{"$f":"COUNTRY_INFO!M60","v":0},null,null,{"$f":"MAX('MDA1'!M60,MAX('MDA3'!I60,'MDA3'!L60)+MAX('MDA3'!J60,'MDA3'!M60))","v":0},{"$f":"IF(AND(COUNTRY_INFO!I60>0,COUNTRY_INFO!I60<4),IF(J60>MAX('MDA1'!M60,MAX('MDA3'!I60,'MDA3'!L60)+MAX('MDA3'!J60,'MDA3'!M60)),MAX('MDA1'!M60,MAX('MDA3'!I60,'MDA3'!L60)+MAX('MDA3'!J60,'MDA3'!M60)),J60),0)","v":0},{"$f":"IF(AND(COUNTRY_INFO!I60>0,COUNTRY_INFO!I60<4), IF(M60/J60*100<>0, IF(M60/J60*100>100,100,M60/J60*100), \"-\"),0)","v":0},{"$f":"COUNTRY_INFO!N60","v":84667},null,null,{"$f":"SUM(MAX('MDA2'!J60, 'T1'!L60, MAX(T3_R1!K60, T3_R2!K60)), MAX('MDA1'!K60, 'MDA2'!K60, 'T1'!M60, MAX(T3_R1!L60, T3_R2!L60)), MAX('MDA1'!L60, 'MDA2'!L60, 'T1'!N60, MAX(T3_R1!M60, T3_R2!M60)))","v":0},{"$f":"IF(AND(COUNTRY_INFO!J60>1,COUNTRY_INFO!J60<4),IF(COUNTRY_INFO!E60>MAX('MDA2'!J60,'T1'!L60,MAX(T3_R1!K60,T3_R2!K60)),MAX('MDA2'!J60,'T1'!L60,MAX(T3_R1!K60,T3_R2!K60)),COUNTRY_INFO!E60),0)","v":0},{"$f":"IF(AND(COUNTRY_INFO!J60>1,COUNTRY_INFO!J60<4), IF(T60/COUNTRY_INFO!E60*100<>0, IF(T60/COUNTRY_INFO!E60*100>100,100,T60/COUNTRY_INFO!E60*100), \"-\"),0)","v":"-"},{"$f":"IF(AND(COUNTRY_INFO!J60>1,COUNTRY_INFO!J60<4),IF(COUNTRY_INFO!F60>MAX('MDA1'!K60,'MDA2'!K60,'T1'!M60,MAX(T3_R1!L60,T3_R2!L60)),MAX('MDA1'!K60,'MDA2'!K60,'T1'!M60,MAX(T3_R1!L60,T3_R2!L60)),COUNTRY_INFO!F60),0)","v":0},{"$f":"IF(AND(COUNTRY_INFO!J60>1,COUNTRY_INFO!J60<4), IF(V60/COUNTRY_INFO!F60*100<>0, IF(V60/COUNTRY_INFO!F60*100>100,100,V60/COUNTRY_INFO!F60*100), \"-\"),0)","v":"-"},0,{"$f":"IF(AND(COUNTRY_INFO!J60>1,COUNTRY_INFO!J60<4), IF(S60/P60*100<>0, IF(X60/P60*100>100,100,X60/P60*100), \"-\"),0)","v":"-"},{"$f":"COUNTRY_INFO!O60","v":61577.263540362452},null,null,{"$f":"MAX('T1'!L60,'T2'!J60)+MAX('T1'!M60,'T2'!K60)+MAX('T1'!N60,'T2'!L60)","v":0},{"$f":"IF(COUNTRY_INFO!K60=1,IF(COUNTRY_INFO!F60*0.33>MAX('T1'!M60,'T2'!K60),MAX('T1'!M60,'T2'!K60),COUNTRY_INFO!F60*0.33),IF(COUNTRY_INFO!K60=2,IF(COUNTRY_INFO!F60*0.5>MAX('T1'!M60,'T2'!K60),MAX('T1'!M60,'T2'!K60),COUNTRY_INFO!F60*0.5),IF(COUNTRY_INFO!K60=3,IF(COUNTRY_INFO!F60>MAX('T1'!M60,'T2'!K60),MAX('T1'!M60,'T2'!K60),COUNTRY_INFO!F60),0)))","v":0},{"$f":"IF(AND(COUNTRY_INFO!K60>0,COUNTRY_INFO!K60<4),IF(Z60>0,IF(COUNTRY_INFO!K60=1, AD60/(COUNTRY_INFO!F60*0.33)*100, IF(COUNTRY_INFO!K60=2, AD60/(COUNTRY_INFO!F60*0.5)*100, IF(COUNTRY_INFO!K60=3, AD60/COUNTRY_INFO!F60*100))),\"-\"),0)","v":0},{"$f":"IF(COUNTRY_INFO!K60=2,IF(COUNTRY_INFO!G60*0.2>MAX('T1'!N60,'T2'!L60),MAX('T1'!N60,'T2'!L60),COUNTRY_INFO!G60*0.2),IF(COUNTRY_INFO!K60=3,IF(COUNTRY_INFO!G60>MAX('T1'!N60,'T2'!L60),MAX('T1'!N60,'T2'!L60),COUNTRY_INFO!G60),0))","v":0},{"$f":"IF(AND(COUNTRY_INFO!K60>0,COUNTRY_INFO!K60<4),IF(Z60>0,IF(COUNTRY_INFO!K60=1, 0, IF(COUNTRY_INFO!K60=2, AF60/(COUNTRY_INFO!G60*0.2)*100, IF(COUNTRY_INFO!K60=3, AF60/COUNTRY_INFO!G60*100))),\"-\"),0)","v":0},0,{"$f":"IF(AND(COUNTRY_INFO!K60>0,COUNTRY_INFO!K60<4), IF(AC60/Z60*100<>0, IF(AH60/Z60*100>100,100,AH60/Z60*100), \"-\"),0)","v":"-"},null,{"$f":"IF(AND(D60<>0, D60<>\"Unknown\",D60<>\"Stopped\",D60<>\"Not required\"),D60/COUNTRY_INFO!D60, 0)","v":0},{"$f":"IF(AND(J60<>0,J60<>\"Unknown\",J60<>\"Stopped\",J60<>\"Not required\"),J60/COUNTRY_INFO!D60, 0)","v":0},{"$f":"IF(AND(P60<>0,P60<>\"Unknown\",P60<>\"Not required\"),P60/(COUNTRY_INFO!E60+COUNTRY_INFO!F60), 0)","v":1},{"$f":"IF(AND(Z60<>0,Z60<>\"Unknown\",Z60<>\"Not required\"),IF(COUNTRY_INFO!K60=1,1,IF(COUNTRY_INFO!K60=2,0.5*COUNTRY_INFO!F60/(0.5*COUNTRY_INFO!F60+0.2*COUNTRY_INFO!G60),IF(COUNTRY_INFO!K60=3,COUNTRY_INFO!F60/(COUNTRY_INFO!F60+COUNTRY_INFO!G60)))),0)","v":0.4078209806049492},{"$f":"IF(AND(Z60<>0,Z60<>\"Unknown\",Z60<>\"Not required\"),IF(COUNTRY_INFO!K60=1,0,IF(COUNTRY_INFO!K60=2,0.2*COUNTRY_INFO!G60/(0.5*COUNTRY_INFO!F60+0.2*COUNTRY_INFO!G60),IF(COUNTRY_INFO!K60=3,COUNTRY_INFO!G60/(COUNTRY_INFO!F60+COUNTRY_INFO!G60)))),0)","v":0.5921790193950508},{"$f":"MAX(COUNTRY_INFO!D60*AK60*PROFILE!$G$7,COUNTRY_INFO!D60*AL60*PROFILE!$G$7)","v":0},{"$f":"MAX(COUNTRY_INFO!D60*AK60*PROFILE!$G$8,COUNTRY_INFO!D60*AL60*PROFILE!$G$8,COUNTRY_INFO!D60*AM60*PROFILE!$G$8)","v":34441.815990707932},{"$f":"MAX(COUNTRY_INFO!D60*AK60*PROFILE!$G$9,COUNTRY_INFO!D60*AL60*PROFILE!$G$9,COUNTRY_INFO!D60*AM60*PROFILE!$G$9,IF(AND(DISTRICT!Z60<>\"Unknown\",Z60<>\"Not required\"),COUNTRY_INFO!O60*DISTRICT!AN60,0))","v":60020.060227401598},{"$f":"MAX(COUNTRY_INFO!D60*AK60*PROFILE!$G$10,COUNTRY_INFO!D60*AL60*PROFILE!$G$10,IF(AND(DISTRICT!Z60<>\"Unknown\",Z60<>\"Not required\"),COUNTRY_INFO!O60*DISTRICT!AO60,0))","v":36464.763540362452},130926.63975847198,0,{"$f":"MAX('MDA2'!J60,'T1'!L60,'T2'!J60,T3_R1!K60,T3_R2!K60)","v":0},{"$f":"MAX('MDA1'!K60,'MDA2'!K60,'MDA3'!I60,'MDA3'!L60,'T1'!M60,'T2'!K60,T3_R1!L60,T3_R2!L60)","v":0},{"$f":"MAX('MDA1'!L60,'MDA2'!L60,'MDA3'!J60,'MDA3'!M60,'T1'!N60,'T2'!L60,T3_R1!M60,T3_R2!M60)","v":0},0,{"$f":"MAX('MDA2'!J60,T60)","v":0},{"$f":"MAX('MDA1'!K60,'MDA2'!K60,'MDA3'!I60,'MDA3'!L60,V60,AD60)","v":0},{"$f":"MAX('MDA1'!L60,'MDA2'!L60,'MDA3'!J60,'MDA3'!M60,AF60)","v":0},0,0]
[{"$f":"IF(COUNTRY_INFO!A61=0,\" \",COUNTRY_INFO!A61)","v":"Tanzania"},{"$f":"IF(COUNTRY_INFO!B61=0,\" \",COUNTRY_INFO!B61)","v":"Kigoma"},{"$f":"IF(COUNTRY_INFO!C61=0,\" \",COUNTRY_INFO!C61)","v":"Uvinza District Council"},{"$f":"COUNTRY_INFO!L61","v":0},null,null,{"$f":"MAX('MDA1'!M61,'MDA2'!M61)","v":0},{"$f":"IF(AND(COUNTRY_INFO!H61>0,COUNTRY_INFO!H61<4),IF(D61>MAX('MDA1'!M61,'MDA2'!M61),MAX('MDA1'!M61,'MDA2'!M61),D61),0)","v":0},{"$f":"IF(AND(COUNTRY_INFO!H61>0,COUNTRY_INFO!H61<4), IF(G61/D61*100<>0, IF(G61/D61*100>100,100,G61/D61*100), \"-\"),0)","v":0},{"$f":"COUNTRY_INFO!M61","v":0},null,null,{"$f":"MAX('MDA1'!M61,MAX('MDA3'!I61,'MDA3'!L61)+MAX('MDA3'!J61,'MDA3'!M61))","v":0},{"$f":"IF(AND(COUNTRY_INFO!I61>0,COUNTRY_INFO!I61<4),IF(J61>MAX('MDA1'!M61,MAX('MDA3'!I61,'MDA3'!L61)+MAX('MDA3'!J61,'MDA3'!M61)),MAX('MDA1'!M61,MAX('MDA3'!I61,'MDA3'!L61)+MAX('MDA3'!J61,'MDA3'!M61)),J61),0)","v":0},{"$f":"IF(AND(COUNTRY_INFO!I61>0,COUNTRY_INFO!I61<4), IF(M61/J61*100<>0, IF(M61/J61*100>100,100,M61/J61*100), \"-\"),0)","v":0},{"$f":"COUNTRY_INFO!N61","v":155169},null,null,{"$f":"SUM(MAX('MDA2'!J61, 'T1'!L61, MAX(T3_R1!K61, T3_R2!K61)), MAX('MDA1'!K61, 'MDA2'!K61, 'T1'!M61, MAX(T3_R1!L61, T3_R2!L61)), MAX('MDA1'!L61, 'MDA2'!L61, 'T1'!N61, MAX(T3_R1!M61, T3_R2!M61)))","v":0},{"$f":"IF(AND(COUNTRY_INFO!J61>1,COUNTRY_INFO!J61<4),IF(COUNTRY_INFO!E61>MAX('MDA2'!J61,'T1'!L61,MAX(T3_R1!K61,T3_R2!K61)),MAX('MDA2'!J61,'T1'!L61,MAX(T3_R1!K61,T3_R2!K61)),COUNTRY_INFO!E61),0)","v":0},{"$f":"IF(AND(COUNTRY_INFO!J61>1,COUNTRY_INFO!J61<4), IF(T61/COUNTRY_INFO!E61*100<>0, IF(T61/COUNTRY_INFO!E61*100>100,100,T61/COUNTRY_INFO!E61*100), \"-\"),0)","v":"-"},{"$f":"IF(AND(COUNTRY_INFO!J61>1,COUNTRY_INFO!J61<4),IF(COUNTRY_INFO!F61>MAX('MDA1'!K61,'MDA2'!K61,'T1'!M61,MAX(T3_R1!L61,T3_R2!L61)),MAX('MDA1'!K61,'MDA2'!K61,'T1'!M61,MAX(T3_R1!L61,T3_R2!L61)),COUNTRY_INFO!F61),0)","v":0},{"$f":"IF(AND(COUNTRY_INFO!J61>1,COUNTRY_INFO!J61<4), IF(V61/COUNTRY_INFO!F61*100<>0, IF(V61/COUNTRY_INFO!F61*100>100,100,V61/COUNTRY_INFO!F61*100), \"-\"),0)","v":"-"},0,{"$f":"IF(AND(COUNTRY_INFO!J61>1,COUNTRY_INFO!J61<4), IF(S61/P61*100<>0, IF(X61/P61*100>100,100,X61/P61*100), \"-\"),0)","v":"-"},{"$f":"COUNTRY_INFO!O61","v":110966.9997027285},null,null,{"$f":"MAX('T1'!L61,'T2'!J61)+MAX('T1'!M61,'T2'!K61)+MAX('T1'!N61,'T2'!L61)","v":0},{"$f":"IF(COUNTRY_INFO!K61=1,IF(COUNTRY_INFO!F61*0.33>MAX('T1'!M61,'T2'!K61),MAX('T1'!M61,'T2'!K61),COUNTRY_INFO!F61*0.33),IF(COUNTRY_INFO!K61=2,IF(COUNTRY_INFO!F61*0.5>MAX('T1'!M61,'T2'!K61),MAX('T1'!M61,'T2'!K61),COUNTRY_INFO!F61*0.5),IF(COUNTRY_INFO!K61=3,IF(COUNTRY_INFO!F61>MAX('T1'!M61,'T2'!K61),MAX('T1'!M61,'T2'!K61),COUNTRY_INFO!F61),0)))","v":0},{"$f":"IF(AND(COUNTRY_INFO!K61>0,COUNTRY_INFO!K61<4),IF(Z61>0,IF(COUNTRY_INFO!K61=1, AD61/(COUNTRY_INFO!F61*0.33)*100, IF(COUNTRY_INFO!K61=2, AD61/(COUNTRY_INFO!F61*0.5)*100, IF(COUNTRY_INFO!K61=3, AD61/COUNTRY_INFO!F61*100))),\"-\"),0)","v":0},{"$f":"IF(COUNTRY_INFO!K61=2,IF(COUNTRY_INFO!G61*0.2>MAX('T1'!N61,'T2'!L61),MAX('T1'!N61,'T2'!L61),COUNTRY_INFO!G61*0.2),IF(COUNTRY_INFO!K61=3,IF(COUNTRY_INFO!G61>MAX('T1'!N61,'T2'!L61),MAX('T1'!N61,'T2'!L61),COUNTRY_INFO!G61),0))","v":0},{"$f":"IF(AND(COUNTRY_INFO!K61>0,COUNTRY_INFO!K61<4),IF(Z61>0,IF(COUNTRY_INFO!K61=1, 0, IF(COUNTRY_INFO!K61=2, AF61/(COUNTRY_INFO!G61*0.2)*100, IF(COUNTRY_INFO!K61=3, AF61/COUNTRY_INFO!G61*100))),\"-\"),0)","v":0},0,{"$f":"IF(AND(COUNTRY_INFO!K61>0,COUNTRY_INFO!K61<4), IF(AC61/Z61*100<>0, IF(AH61/Z61*100>100,100,AH61/Z61*100), \"-\"),0)","v":"-"},null,{"$f":"IF(AND(D61<>0, D61<>\"Unknown\",D61<>\"Stopped\",D61<>\"Not required\"),D61/COUNTRY_INFO!D61, 0)","v":0},{"$f":"IF(AND(J61<>0,J61<>\"Unknown\",J61<>\"Stopped\",J61<>\"Not required\"),J61/COUNTRY_INFO!D61, 0)","v":0},{"$f":"IF(AND(P61<>0,P61<>\"Unknown\",P61<>\"Not required\"),P61/(COUNTRY_INFO!E61+COUNTRY_INFO!F61), 0)","v":1},{"$f":"IF(AND(Z61<>0,Z61<>\"Unknown\",Z61<>\"Not required\"),IF(COUNTRY_INFO!K61=1,1,IF(COUNTRY_INFO!K61=2,0.5*COUNTRY_INFO!F61/(0.5*COUNTRY_INFO!F61+0.2*COUNTRY_INFO!G61),IF(COUNTRY_INFO!K61=3,COUNTRY_INFO!F61/(COUNTRY_INFO!F61+COUNTRY_INFO!G61)))),0)","v":0.42284192711075236},{"$f":"IF(AND(Z61<>0,Z61<>\"Unknown\",Z61<>\"Not required\"),IF(COUNTRY_INFO!K61=1,0,IF(COUNTRY_INFO!K61=2,0.2*COUNTRY_INFO!G61/(0.5*COUNTRY_INFO!F61+0.2*COUNTRY_INFO!G61),IF(COUNTRY_INFO!K61=3,COUNTRY_INFO!G61/(COUNTRY_INFO!F61+COUNTRY_INFO!G61)))),0)","v":0.5771580728892477},{"$f":"MAX(COUNTRY_INFO!D61*AK61*PROFILE!$G$7,COUNTRY_INFO!D61*AL61*PROFILE!$G$7)","v":0},{"$f":"MAX(COUNTRY_INFO!D61*AK61*PROFILE!$G$8,COUNTRY_INFO!D61*AL61*PROFILE!$G$8,COUNTRY_INFO!D61*AM61*PROFILE!$G$8)","v":61326.149211320204},{"$f":"MAX(COUNTRY_INFO!D61*AK61*PROFILE!$G$9,COUNTRY_INFO!D61*AL61*PROFILE!$G$9,COUNTRY_INFO!D61*AM61*PROFILE!$G$9,IF(AND(DISTRICT!Z61<>\"Unknown\",Z61<>\"Not required\"),COUNTRY_INFO!O61*DISTRICT!AN61,0))","v":106870.06661237316},{"$f":"MAX(COUNTRY_INFO!D61*AK61*PROFILE!$G$10,COUNTRY_INFO!D61*AL61*PROFILE!$G$10,IF(AND(DISTRICT!Z61<>\"Unknown\",Z61<>\"Not required\"),COUNTRY_INFO!O61*DISTRICT!AO61,0))","v":64045.499702728499},232241.71552642187,0,{"$f":"MAX('MDA2'!J61,'T1'!L61,'T2'!J61,T3_R1!K61,T3_R2!K61)","v":0},{"$f":"MAX('MDA1'!K61,'MDA2'!K61,'MDA3'!I61,'MDA3'!L61,'T1'!M61,'T2'!K61,T3_R1!L61,T3_R2!L61)","v":0},{"$f":"MAX('MDA1'!L61,'MDA2'!L61,'MDA3'!J61,'MDA3'!M61,'T1'!N61,'T2'!L61,T3_R1!M61,T3_R2!M61)","v":0},0,{"$f":"MAX('MDA2'!J61,T61)","v":0},{"$f":"MAX('MDA1'!K61,'MDA2'!K61,'MDA3'!I61,'MDA3'!L61,V61,AD61)","v":0},{"$f":"MAX('MDA1'!L61,'MDA2'!L61,'MDA3'!J61,'MDA3'!M61,AF61)","v":0},0,0]
[{"$f":"IF(COUNTRY_INFO!A62=0,\" \",COUNTRY_INFO!A62)","v":"Tanzania"},{"$f":"IF(COUNTRY_INFO!B62=0,\" \",COUNTRY_INFO!B62)","v":"Kilimanjaro"},{"$f":"IF(COUNTRY_INFO!C62=0,\" \",COUNTRY_INFO!C62)","v":"Hai District Council"},{"$f":"COUNTRY_INFO!L62","v":0},null,null,{"$f":"MAX('MDA1'!M62,'MDA2'!M62)","v":0},{"$f":"IF(AND(COUNTRY_INFO!H62>0,COUNTRY_INFO!H62<4),IF(D62>MAX('MDA1'!M62,'MDA2'!M62),MAX('MDA1'!M62,'MDA2'!M62),D62),0)","v":0},{"$f":"IF(AND(COUNTRY_INFO!H62>0,COUNTRY_INFO!H62<4), IF(G62/D62*100<>0, IF(G62/D62*100>100,100,G62/D62*100), \"-\"),0)","v":0},{"$f":"COUNTRY_INFO!M62","v":0},null,null,{"$f":"MAX('MDA1'!M62,MAX('MDA3'!I62,'MDA3'!L62)+MAX('MDA3'!J62,'MDA3'!M62))","v":0},{"$f":"IF(AND(COUNTRY_INFO!I62>0,COUNTRY_INFO!I62<4),IF(J62>MAX('MDA1'!M62,MAX('MDA3'!I62,'MDA3'!L62)+MAX('MDA3'!J62,'MDA3'!M62)),MAX('MDA1'!M62,MAX('MDA3'!I62,'MDA3'!L62)+MAX('MDA3'!J62,'MDA3'!M62)),J62),0)","v":0},{"$f":"IF(AND(COUNTRY_INFO!I62>0,COUNTRY_INFO!I62<4), IF(M62/J62*100<>0, IF(M62/J62*100>100,100,M62/J62*100), \"-\"),0)","v":0},{"$f":"COUNTRY_INFO!N62","v":73432},null,null,{"$f":"SUM(MAX('MDA2'!J62, 'T1'!L62, MAX(T3_R1!K62, T3_R2!K62)), MAX('MDA1'!K62, 'MDA2'!K62, 'T1'!M62, MAX(T3_R1!L62, T3_R2!L62)), MAX('MDA1'!L62, 'MDA2'!L62, 'T1'!N62, MAX(T3_R1!M62, T3_R2!M62)))","v":41912},{"$f":"IF(AND(COUNTRY_INFO!J62>1,COUNTRY_INFO!J62<4),IF(COUNTRY_INFO!E62>MAX('MDA2'!J62,'T1'!L62,MAX(T3_R1!K62,T3_R2!K62)),MAX('MDA2'!J62,'T1'!L62,MAX(T3_R1!K62,T3_R2!K62)),COUNTRY_INFO!E62),0)","v":0},{"$f":"IF(AND(COUNTRY_INFO!J62>1,COUNTRY_INFO!J62<4), IF(T62/COUNTRY_INFO!E62*100<>0, IF(T62/COUNTRY_INFO!E62*100>100,100,T62/COUNTRY_INFO!E62*100), \"-\"),0)","v":"-"},{"$f":"IF(AND(COUNTRY_INFO!J62>1,COUNTRY_INFO!J62<4),IF(COUNTRY_INFO!F62>MAX('MDA1'!K62,'MDA2'!K62,'T1'!M62,MAX(T3_R1!L62,T3_R2!L62)),MAX('MDA1'!K62,'MDA2'!K62,'T1'!M62,MAX(T3_R1!L62,T3_R2!L62)),COUNTRY_INFO!F62),0)","v":41912},{"$f":"IF(AND(COUNTRY_INFO!J62>1,COUNTRY_INFO!J62<4), IF(V62/COUNTRY_INFO!F62*100<>0, IF(V62/COUNTRY_INFO!F62*100>100,100,V62/COUNTRY_INFO!F62*100), \"-\"),0)","v":99.41412272587111},41912,{"$f":"IF(AND(COUNTRY_INFO!J62>1,COUNTRY_INFO!J62<4), IF(S62/P62*100<>0, IF(X62/P62*100>100,100,X62/P62*100), \"-\"),0)","v":57.07593419762501},{"$f":"COUNTRY_INFO!O62","v":54877.715867166582},null,null,{"$f":"MAX('T1'!L62,'T2'!J62)+MAX('T1'!M62,'T2'!K62)+MAX('T1'!N62,'T2'!L62)","v":0},{"$f":"IF(COUNTRY_INFO!K62=1,IF(COUNTRY_INFO!F62*0.33>MAX('T1'!M62,'T2'!K62),MAX('T1'!M62,'T2'!K62),COUNTRY_INFO!F62*0.33),IF(COUNTRY_INFO!K62=2,IF(COUNTRY_INFO!F62*0.5>MAX('T1'!M62,'T2'!K62),MAX('T1'!M62,'T2'!K62),COUNTRY_INFO!F62*0.5),IF(COUNTRY_INFO!K62=3,IF(COUNTRY_INFO!F62>MAX('T1'!M62,'T2'!K62),MAX('T1'!M62,'T2'!K62),COUNTRY_INFO!F62),0)))","v":0},{"$f":"IF(AND(COUNTRY_INFO!K62>0,COUNTRY_INFO!K62<4),IF(Z62>0,IF(COUNTRY_INFO!K62=1, AD62/(COUNTRY_INFO!F62*0.33)*100, IF(COUNTRY_INFO!K62=2, AD62/(COUNTRY_INFO!F62*0.5)*100, IF(COUNTRY_INFO!K62=3, AD62/COUNTRY_INFO!F62*100))),\"-\"),0)","v":0},{"$f":"IF(COUNTRY_INFO!K62=2,IF(COUNTRY_INFO!G62*0.2>MAX('T1'!N62,'T2'!L62),MAX('T1'!N62,'T2'!L62),COUNTRY_INFO!G62*0.2),IF(COUNTRY_INFO!K62=3,IF(COUNTRY_INFO!G62>MAX('T1'!N62,'T2'!L62),MAX('T1'!N62,'T2'!L62),COUNTRY_INFO!G62),0))","v":0},{"$f":"IF(AND(COUNTRY_INFO!K62>0,COUNTRY_INFO!K62<4),IF(Z62>0,IF(COUNTRY_INFO!K62=1, 0, IF(COUNTRY_INFO!K62=2, AF62/(COUNTRY_INFO!G62*0.2)*100, IF(COUNTRY_INFO!K62=3, AF62/COUNTRY_INFO!G62*100))),\"-\"),0)","v":0},0,{"$f":"IF(AND(COUNTRY_INFO!K62>0,COUNTRY_INFO!K62<4), IF(AC62/Z62*100<>0, IF(AH62/Z62*100>100,100,AH62/Z62*100), \"-\"),0)","v":"-"},null,{"$f":"IF(AND(D62<>0, D62<>\"Unknown\",D62<>\"Stopped\",D62<>\"Not required\"),D62/COUNTRY_INFO!D62, 0)","v":0},{"$f":"IF(AND(J62<>0,J62<>\"Unknown\",J62<>\"Stopped\",J62<>\"Not required\"),J62/COUNTRY_INFO!D62, 0)","v":0},{"$f":"IF(AND(P62<>0,P62<>\"Unknown\",P62<>\"Not required\"),P62/(COUNTRY_INFO!E62+COUNTRY_INFO!F62), 0)","v":1},{"$f":"IF(AND(Z62<>0,Z62<>\"Unknown\",Z62<>\"Not required\"),IF(COUNTRY_INFO!K62=1,1,IF(COUNTRY_INFO!K62=2,0.5*COUNTRY_INFO!F62/(0.5*COUNTRY_INFO!F62+0.2*COUNTRY_INFO!G62),IF(COUNTRY_INFO!K62=3,COUNTRY_INFO!F62/(COUNTRY_INFO!F62+COUNTRY_INFO!G62)))),0)","v":0.38411766355260962},{"$f":"IF(AND(Z62<>0,Z62<>\"Unknown\",Z62<>\"Not required\"),IF(COUNTRY_INFO!K62=1,0,IF(COUNTRY_INFO!K62=2,0.2*COUNTRY_INFO!G62/(0.5*COUNTRY_INFO!F62+0.2*COUNTRY_INFO!G62),IF(COUNTRY_INFO!K62=3,COUNTRY_INFO!G62/(COUNTRY_INFO!F62+COUNTRY_INFO!G62)))),0)","v":0.61588233644739032},{"$f":"MAX(COUNTRY_INFO!D62*AK62*PROFILE!$G$7,COUNTRY_INFO!D62*AL62*PROFILE!$G$7)","v":0},{"$f":"MAX(COUNTRY_INFO!D62*AK62*PROFILE!$G$8,COUNTRY_INFO!D62*AL62*PROFILE!$G$8,COUNTRY_INFO!D62*AM62*PROFILE!$G$8)","v":31272.577694827869},{"$f":"MAX(COUNTRY_INFO!D62*AK62*PROFILE!$G$9,COUNTRY_INFO!D62*AL62*PROFILE!$G$9,COUNTRY_INFO!D62*AM62*PROFILE!$G$9,IF(AND(DISTRICT!Z62<>\"Unknown\",Z62<>\"Not required\"),COUNTRY_INFO!O62*DISTRICT!AN62,0))","v":54497.184388188361},{"$f":"MAX(COUNTRY_INFO!D62*AK62*PROFILE!$G$10,COUNTRY_INFO!D62*AL62*PROFILE!$G$10,IF(AND(DISTRICT!Z62<>\"Unknown\",Z62<>\"Not required\"),COUNTRY_INFO!O62*DISTRICT!AO62,0))","v":33798.215867166582},119567.97795018282,0,{"$f":"MAX('MDA2'!J62,'T1'!L62,'T2'!J62,T3_R1!K62,T3_R2!K62)","v":0},{"$f":"MAX('MDA1'!K62,'MDA2'!K62,'MDA3'!I62,'MDA3'!L62,'T1'!M62,'T2'!K62,T3_R1!L62,T3_R2!L62)","v":41912},{"$f":"MAX('MDA1'!L62,'MDA2'!L62,'MDA3'!J62,'MDA3'!M62,'T1'!N62,'T2'!L62,T3_R1!M62,T3_R2!M62)","v":0},41912,{"$f":"MAX('MDA2'!J62,T62)","v":0},{"$f":"MAX('MDA1'!K62,'MDA2'!K62,'MDA3'!I62,'MDA3'!L62,V62,AD62)","v":41912},{"$f":"MAX('MDA1'!L62,'MDA2'!L62,'MDA3'!J62,'MDA3'!M62,AF62)","v":0},41912,35.052863415874064]
[{"$f":"IF(COUNTRY_INFO!A63=0,\" \",COUNTRY_INFO!A63)","v":"Tanzania"},{"$f":"IF(COUNTRY_INFO!B63=0,\" \",COUNTRY_INFO!B63)","v":"Kilimanjaro"},{"$f":"IF(COUNTRY_INFO!C63=0,\" \",COUNTRY_INFO!C63)","v":"Moshi District Council"},{"$f":"COUNTRY_INFO!L63","v":0},null,null,{"$f":"MAX('MDA1'!M63,'MDA2'!M63)","v":0},{"$f":"IF(AND(COUNTRY_INFO!H63>0,COUNTRY_INFO!H63<4),IF(D63>MAX('MDA1'!M63,'MDA2'!M63),MAX('MDA1'!M63,'MDA2'!M63),D63),0)","v":0},{"$f":"IF(AND(COUNTRY_INFO!H63>0,COUNTRY_INFO!H63<4), IF(G63/D63*100<>0, IF(G63/D63*100>100,100,G63/D63*100), \"-\"),0)","v":0},{"$f":"COUNTRY_INFO!M63","v":0},null,null,{"$f":"MAX('MDA1'!M63,MAX('MDA3'!I63,'MDA3'!L63)+MAX('MDA3'!J63,'MDA3'!M63))","v":0},{"$f":"IF(AND(COUNTRY_INFO!I63>0,COUNTRY_INFO!I63<4),IF(J63>MAX('MDA1'!M63,MAX('MDA3'!I63,'MDA3'!L63)+MAX('MDA3'!J63,'MDA3'!M63)),MAX('MDA1'!M63,MAX('MDA3'!I63,'MDA3'!L63)+MAX('MDA3'!J63,'MDA3'!M63)),J63),0)","v":0},{"$f":"IF(AND(COUNTRY_INFO!I63>0,COUNTRY_INFO!I63<4), IF(M63/J63*100<>0, IF(M63/J63*100>100,100,M63/J63*100), \"-\"),0)","v":0},{"$f":"COUNTRY_INFO!N63","v":153477},null,null,{"$f":"SUM(MAX('MDA2'!J63, 'T1'!L63, MAX(T3_R1!K63, T3_R2!K63)), MAX('MDA1'!K63, 'MDA2'!K63, 'T1'!M63, MAX(T3_R1!L63, T3_R2!L63)), MAX('MDA1'!L63, 'MDA2'!L63, 'T1'!N63, MAX(T3_R1!M63, T3_R2!M63)))","v":82412},{"$f":"IF(AND(COUNTRY_INFO!J63>1,COUNTRY_INFO!J63<4),IF(COUNTRY_INFO!E63>MAX('MDA2'!J63,'T1'!L63,MAX(T3_R1!K63,T3_R2!K63)),MAX('MDA2'!J63,'T1'!L63,MAX(T3_R1!K63,T3_R2!K63)),COUNTRY_INFO!E63),0)","v":0},{"$f":"IF(AND(COUNTRY_INFO!J63>1,COUNTRY_INFO!J63<4), IF(T63/COUNTRY_INFO!E63*100<>0, IF(T63/COUNTRY_INFO!E63*100>100,100,T63/COUNTRY_INFO!E63*100), \"-\"),0)","v":"-"},{"$f":"IF(AND(COUNTRY_INFO!J63>1,COUNTRY_INFO!J63<4),IF(COUNTRY_INFO!F63>MAX('MDA1'!K63,'MDA2'!K63,'T1'!M63,MAX(T3_R1!L63,T3_R2!L63)),MAX('MDA1'!K63,'MDA2'!K63,'T1'!M63,MAX(T3_R1!L63,T3_R2!L63)),COUNTRY_INFO!F63),0)","v":82412},{"$f":"IF(AND(COUNTRY_INFO!J63>1,COUNTRY_INFO!J63<4), IF(V63/COUNTRY_INFO!F63*100<>0, IF(V63/COUNTRY_INFO!F63*100>100,100,V63/COUNTRY_INFO!F63*100), \"-\"),0)","v":97.93813207838663},82412,{"$f":"IF(AND(COUNTRY_INFO!J63>1,COUNTRY_INFO!J63<4), IF(S63/P63*100<>0, IF(X63/P63*100>100,100,X63/P63*100), \"-\"),0)","v":53.696645099917248},{"$f":"COUNTRY_INFO!O63","v":118866.16580495448},null,null,{"$f":"MAX('T1'!L63,'T2'!J63)+MAX('T1'!M63,'T2'!K63)+MAX('T1'!N63,'T2'!L63)","v":0},{"$f":"IF(COUNTRY_INFO!K63=1,IF(COUNTRY_INFO!F63*0.33>MAX('T1'!M63,'T2'!K63),MAX('T1'!M63,'T2'!K63),COUNTRY_INFO!F63*0.33),IF(COUNTRY_INFO!K63=2,IF(COUNTRY_INFO!F63*0.5>MAX('T1'!M63,'T2'!K63),MAX('T1'!M63,'T2'!K63),COUNTRY_INFO!F63*0.5),IF(COUNTRY_INFO!K63=3,IF(COUNTRY_INFO!F63>MAX('T1'!M63,'T2'!K63),MAX('T1'!M63,'T2'!K63),COUNTRY_INFO!F63),0)))","v":0},{"$f":"IF(AND(COUNTRY_INFO!K63>0,COUNTRY_INFO!K63<4),IF(Z63>0,IF(COUNTRY_INFO!K63=1, AD63/(COUNTRY_INFO!F63*0.33)*100, IF(COUNTRY_INFO!K63=2, AD63/(COUNTRY_INFO!F63*0.5)*100, IF(COUNTRY_INFO!K63=3, AD63/COUNTRY_INFO!F63*100))),\"-\"),0)","v":0},{"$f":"IF(COUNTRY_INFO!K63=2,IF(COUNTRY_INFO!G63*0.2>MAX('T1'!N63,'T2'!L63),MAX('T1'!N63,'T2'!L63),COUNTRY_INFO!G63*0.2),IF(COUNTRY_INFO!K63=3,IF(COUNTRY_INFO!G63>MAX('T1'!N63,'T2'!L63),MAX('T1'!N63,'T2'!L63),COUNTRY_INFO!G63),0))","v":0},{"$f":"IF(AND(COUNTRY_INFO!K63>0,COUNTRY_INFO!K63<4),IF(Z63>0,IF(COUNTRY_INFO!K63=1, 0, IF(COUNTRY_INFO!K63=2, AF63/(COUNTRY_INFO!G63*0.2)*100, IF(COUNTRY_INFO!K63=3, AF63/COUNTRY_INFO!G63*100))),\"-\"),0)","v":0},0,{"$f":"IF(AND(COUNTRY_INFO!K63>0,COUNTRY_INFO!K63<4), IF(AC63/Z63*100<>0, IF(AH63/Z63*100>100,100,AH63/Z63*100), \"-\"),0)","v":"-"},null,{"$f":"IF(AND(D63<>0, D63<>\"Unknown\",D63<>\"Stopped\",D63<>\"Not required\"),D63/COUNTRY_INFO!D63, 0)","v":0},{"$f":"IF(AND(J63<>0,J63<>\"Unknown\",J63<>\"Stopped\",J63<>\"Not required\"),J63/COUNTRY_INFO!D63, 0)","v":0},{"$f":"IF(AND(P63<>0,P63<>\"Unknown\",P63<>\"Not required\"),P63/(COUNTRY_INFO!E63+COUNTRY_INFO!F63), 0)","v":1},{"$f":"IF(AND(Z63<>0,Z63<>\"Unknown\",Z63<>\"Not required\"),IF(COUNTRY_INFO!K63=1,1,IF(COUNTRY_INFO!K63=2,0.5*COUNTRY_INFO!F63/(0.5*COUNTRY_INFO!F63+0.2*COUNTRY_INFO!G63),IF(COUNTRY_INFO!K63=3,COUNTRY_INFO!F63/(COUNTRY_INFO!F63+COUNTRY_INFO!G63)))),0)","v":0.35395690367465632},{"$f":"IF(AND(Z63<>0,Z63<>\"Unknown\",Z63<>\"Not required\"),IF(COUNTRY_INFO!K63=1,0,IF(COUNTRY_INFO!K63=2,0.2*COUNTRY_INFO!G63/(0.5*COUNTRY_INFO!F63+0.2*COUNTRY_INFO!G63),IF(COUNTRY_INFO!K63=3,COUNTRY_INFO!G63/(COUNTRY_INFO!F63+COUNTRY_INFO!G63)))),0)","v":0.64604309632534362},{"$f":"MAX(COUNTRY_INFO!D63*AK63*PROFILE!$G$7,COUNTRY_INFO!D63*AL63*PROFILE!$G$7)","v":0},{"$f":"MAX(COUNTRY_INFO!D63*AK63*PROFILE!$G$8,COUNTRY_INFO!D63*AL63*PROFILE!$G$8,COUNTRY_INFO!D63*AM63*PROFILE!$G$8)","v":69329.803465114062},{"$f":"MAX(COUNTRY_INFO!D63*AK63*PROFILE!$G$9,COUNTRY_INFO!D63*AL63*PROFILE!$G$9,COUNTRY_INFO!D63*AM63*PROFILE!$G$9,IF(AND(DISTRICT!Z63<>\"Unknown\",Z63<>\"Not required\"),COUNTRY_INFO!O63*DISTRICT!AN63,0))","v":120817.64157420467},{"$f":"MAX(COUNTRY_INFO!D63*AK63*PROFILE!$G$10,COUNTRY_INFO!D63*AL63*PROFILE!$G$10,IF(AND(DISTRICT!Z63<>\"Unknown\",Z63<>\"Not required\"),COUNTRY_INFO!O63*DISTRICT!AO63,0))","v":76792.665804954479},266940.11084427324,0,{"$f":"MAX('MDA2'!J63,'T1'!L63,'T2'!J63,T3_R1!K63,T3_R2!K63)","v":0},{"$f":"MAX('MDA1'!K63,'MDA2'!K63,'MDA3'!I63,'MDA3'!L63,'T1'!M63,'T2'!K63,T3_R1!L63,T3_R2!L63)","v":82412},{"$f":"MAX('MDA1'!L63,'MDA2'!L63,'MDA3'!J63,'MDA3'!M63,'T1'!N63,'T2'!L63,T3_R1!M63,T3_R2!M63)","v":0},82412,{"$f":"MAX('MDA2'!J63,T63)","v":0},{"$f":"MAX('MDA1'!K63,'MDA2'!K63,'MDA3'!I63,'MDA3'!L63,V63,AD63)","v":82412},{"$f":"MAX('MDA1'!L63,'MDA2'!L63,'MDA3'!J63,'MDA3'!M63,AF63)","v":0},82412,30.872842503642055]
[{"$f":"IF(COUNTRY_INFO!A64=0,\" \",COUNTRY_INFO!A64)","v":"Tanzania"},{"$f":"IF(COUNTRY_INFO!B64=0,\" \",COUNTRY_INFO!B64)","v":"Kilimanjaro"},{"$f":"IF(COUNTRY_INFO!C64=0,\" \",COUNTRY_INFO!C64)","v":"Moshi Municipal Council"},{"$f":"COUNTRY_INFO!L64","v":0},null,null,{"$f":"MAX('MDA1'!M64,'MDA2'!M64)","v":0},{"$f":"IF(AND(COUNTRY_INFO!H64>0,COUNTRY_INFO!H64<4),IF(D64>MAX('MDA1'!M64,'MDA2'!M64),MAX('MDA1'!M64,'MDA2'!M64),D64),0)","v":0},{"$f":"IF(AND(COUNTRY_INFO!H64>0,COUNTRY_INFO!H64<4), IF(G64/D64*100<>0, IF(G64/D64*100>100,100,G64/D64*100), \"-\"),0)","v":0},{"$f":"COUNTRY_INFO!M64","v":0},null,null,{"$f":"MAX('MDA1'!M64,MAX('MDA3'!I64,'MDA3'!L64)+MAX('MDA3'!J64,'MDA3'!M64))","v":0},{"$f":"IF(AND(COUNTRY_INFO!I64>0,COUNTRY_INFO!I64<4),IF(J64>MAX('MDA1'!M64,MAX('MDA3'!I64,'MDA3'!L64)+MAX('MDA3'!J64,'MDA3'!M64)),MAX('MDA1'!M64,MAX('MDA3'!I64,'MDA3'!L64)+MAX('MDA3'!J64,'MDA3'!M64)),J64),0)","v":0},{"$f":"IF(AND(COUNTRY_INFO!I64>0,COUNTRY_INFO!I64<4), IF(M64/J64*100<>0, IF(M64/J64*100>100,100,M64/J64*100), \"-\"),0)","v":0},{"$f":"COUNTRY_INFO!N64","v":61106},null,null,{"$f":"SUM(MAX('MDA2'!J64, 'T1'!L64, MAX(T3_R1!K64, T3_R2!K64)), MAX('MDA1'!K64, 'MDA2'!K64, 'T1'!M64, MAX(T3_R1!L64, T3_R2!L64)), MAX('MDA1'!L64, 'MDA2'!L64, 'T1'!N64, MAX(T3_R1!M64, T3_R2!M64)))","v":32985},{"$f":"IF(AND(COUNTRY_INFO!J64>1,COUNTRY_INFO!J64<4),IF(COUNTRY_INFO!E64>MAX('MDA2'!J64,'T1'!L64,MAX(T3_R1!K64,T3_R2!K64)),MAX('MDA2'!J64,'T1'!L64,MAX(T3_R1!K64,T3_R2!K64)),COUNTRY_INFO!E64),0)","v":0},{"$f":"IF(AND(COUNTRY_INFO!J64>1,COUNTRY_INFO!J64<4), IF(T64/COUNTRY_INFO!E64*100<>0, IF(T64/COUNTRY_INFO!E64*100>100,100,T64/COUNTRY_INFO!E64*100), \"-\"),0)","v":"-"},{"$f":"IF(AND(COUNTRY_INFO!J64>1,COUNTRY_INFO!J64<4),IF(COUNTRY_INFO!F64>MAX('MDA1'!K64,'MDA2'!K64,'T1'!M64,MAX(T3_R1!L64,T3_R2!L64)),MAX('MDA1'!K64,'MDA2'!K64,'T1'!M64,MAX(T3_R1!L64,T3_R2!L64)),COUNTRY_INFO!F64),0)","v":32985},{"$f":"IF(AND(COUNTRY_INFO!J64>1,COUNTRY_INFO!J64<4), IF(V64/COUNTRY_INFO!F64*100<>0, IF(V64/COUNTRY_INFO!F64*100>100,100,V64/COUNTRY_INFO!F64*100), \"-\"),0)","v":97.788384572055378},32985,{"$f":"IF(AND(COUNTRY_INFO!J64>1,COUNTRY_INFO!J64<4), IF(S64/P64*100<>0, IF(X64/P64*100>100,100,X64/P64*100), \"-\"),0)","v":53.979969233790456},{"$f":"COUNTRY_INFO!O64","v":47086.141759568956},null,null,{"$f":"MAX('T1'!L64,'T2'!J64)+MAX('T1'!M64,'T2'!K64)+MAX('T1'!N64,'T2'!L64)","v":0},{"$f":"IF(COUNTRY_INFO!K64=1,IF(COUNTRY_INFO!F64*0.33>MAX('T1'!M64,'T2'!K64),MAX('T1'!M64,'T2'!K64),COUNTRY_INFO!F64*0.33),IF(COUNTRY_INFO!K64=2,IF(COUNTRY_INFO!F64*0.5>MAX('T1'!M64,'T2'!K64),MAX('T1'!M64,'T2'!K64),COUNTRY_INFO!F64*0.5),IF(COUNTRY_INFO!K64=3,IF(COUNTRY_INFO!F64>MAX('T1'!M64,'T2'!K64),MAX('T1'!M64,'T2'!K64),COUNTRY_INFO!F64),0)))","v":0},{"$f":"IF(AND(COUNTRY_INFO!K64>0,COUNTRY_INFO!K64<4),IF(Z64>0,IF(COUNTRY_INFO!K64=1, AD64/(COUNTRY_INFO!F64*0.33)*100, IF(COUNTRY_INFO!K64=2, AD64/(COUNTRY_INFO!F64*0.5)*100, IF(COUNTRY_INFO!K64=3, AD64/COUNTRY_INFO!F64*100))),\"-\"),0)","v":0},{"$f":"IF(COUNTRY_INFO!K64=2,IF(COUNTRY_INFO!G64*0.2>MAX('T1'!N64,'T2'!L64),MAX('T1'!N64,'T2'!L64),COUNTRY_INFO!G64*0.2),IF(COUNTRY_INFO!K64=3,IF(COUNTRY_INFO!G64>MAX('T1'!N64,'T2'!L64),MAX('T1'!N64,'T2'!L64),COUNTRY_INFO!G64),0))","v":0},{"$f":"IF(AND(COUNTRY_INFO!K64>0,COUNTRY_INFO!K64<4),IF(Z64>0,IF(COUNTRY_INFO!K64=1, 0, IF(COUNTRY_INFO!K64=2, AF64/(COUNTRY_INFO!G64*0.2)*100, IF(COUNTRY_INFO!K64=3, AF64/COUNTRY_INFO!G64*100))),\"-\"),0)","v":0},0,{"$f":"IF(AND(COUNTRY_INFO!K64>0,COUNTRY_INFO!K64<4), IF(AC64/Z64*100<>0, IF(AH64/Z64*100>100,100,AH64/Z64*100), \"-\"),0)","v":"-"},null,{"$f":"IF(AND(D64<>0, D64<>\"Unknown\",D64<>\"Stopped\",D64<>\"Not required\"),D64/COUNTRY_INFO!D64, 0)","v":0},{"$f":"IF(AND(J64<>0,J64<>\"Unknown\",J64<>\"Stopped\",J64<>\"Not required\"),J64/COUNTRY_INFO!D64, 0)","v":0},{"$f":"IF(AND(P64<>0,P64<>\"Unknown\",P64<>\"Not required\"),P64/(COUNTRY_INFO!E64+COUNTRY_INFO!F64), 0)","v":1},{"$f":"IF(AND(Z64<>0,Z64<>\"Unknown\",Z64<>\"Not required\"),IF(COUNTRY_INFO!K64=1,1,IF(COUNTRY_INFO!K64=2,0.5*COUNTRY_INFO!F64/(0.5*COUNTRY_INFO!F64+0.2*COUNTRY_INFO!G64),IF(COUNTRY_INFO!K64=3,COUNTRY_INFO!F64/(COUNTRY_INFO!F64+COUNTRY_INFO!G64)))),0)","v":0.35818394478185406},{"$f":"IF(AND(Z64<>0,Z64<>\"Unknown\",Z64<>\"Not required\"),IF(COUNTRY_INFO!K64=1,0,IF(COUNTRY_INFO!K64=2,0.2*COUNTRY_INFO!G64/(0.5*COUNTRY_INFO!F64+0.2*COUNTRY_INFO!G64),IF(COUNTRY_INFO!K64=3,COUNTRY_INFO!G64/(COUNTRY_INFO!F64+COUNTRY_INFO!G64)))),0)","v":0.64181605521814589},{"$f":"MAX(COUNTRY_INFO!D64*AK64*PROFILE!$G$7,COUNTRY_INFO!D64*AL64*PROFILE!$G$7)","v":0},{"$f":"MAX(COUNTRY_INFO!D64*AK64*PROFILE!$G$8,COUNTRY_INFO!D64*AL64*PROFILE!$G$8,COUNTRY_INFO!D64*AM64*PROFILE!$G$8)","v":27374.988338033312},{"$f":"MAX(COUNTRY_INFO!D64*AK64*PROFILE!$G$9,COUNTRY_INFO!D64*AL64*PROFILE!$G$9,COUNTRY_INFO!D64*AM64*PROFILE!$G$9,IF(AND(DISTRICT!Z64<>\"Unknown\",Z64<>\"Not required\"),COUNTRY_INFO!O64*DISTRICT!AN64,0))","v":47705.046946898918},{"$f":"MAX(COUNTRY_INFO!D64*AK64*PROFILE!$G$10,COUNTRY_INFO!D64*AL64*PROFILE!$G$10,IF(AND(DISTRICT!Z64<>\"Unknown\",Z64<>\"Not required\"),COUNTRY_INFO!O64*DISTRICT!AO64,0))","v":30220.641759568953},105300.67704450119,0,{"$f":"MAX('MDA2'!J64,'T1'!L64,'T2'!J64,T3_R1!K64,T3_R2!K64)","v":0},{"$f":"MAX('MDA1'!K64,'MDA2'!K64,'MDA3'!I64,'MDA3'!L64,'T1'!M64,'T2'!K64,T3_R1!L64,T3_R2!L64)","v":32985},{"$f":"MAX('MDA1'!L64,'MDA2'!L64,'MDA3'!J64,'MDA3'!M64,'T1'!N64,'T2'!L64,T3_R1!M64,T3_R2!M64)","v":0},32985,{"$f":"MAX('MDA2'!J64,T64)","v":0},{"$f":"MAX('MDA1'!K64,'MDA2'!K64,'MDA3'!I64,'MDA3'!L64,V64,AD64)","v":32985},{"$f":"MAX('MDA1'!L64,'MDA2'!L64,'MDA3'!J64,'MDA3'!M64,AF64)","v":0},32985,31.324584917967989]
[{"$f":"IF(COUNTRY_INFO!A65=0,\" \",COUNTRY_INFO!A65)","v":"Tanzania"},{"$f":"IF(COUNTRY_INFO!B65=0,\" \",COUNTRY_INFO!B65)","v":"Kilimanjaro"},{"$f":"IF(COUNTRY_INFO!C65=0,\" \",COUNTRY_INFO!C65)","v":"Mwanga District Council"},{"$f":"COUNTRY_INFO!L65","v":0},null,null,{"$f":"MAX('MDA1'!M65,'MDA2'!M65)","v":0},{"$f":"IF(AND(COUNTRY_INFO!H65>0,COUNTRY_INFO!H65<4),IF(D65>MAX('MDA1'!M65,'MDA2'!M65),MAX('MDA1'!M65,'MDA2'!M65),D65),0)","v":0},{"$f":"IF(AND(COUNTRY_INFO!H65>0,COUNTRY_INFO!H65<4), IF(G65/D65*100<>0, IF(G65/D65*100>100,100,G65/D65*100), \"-\"),0)","v":0},{"$f":"COUNTRY_INFO!M65","v":0},null,null,{"$f":"MAX('MDA1'!M65,MAX('MDA3'!I65,'MDA3'!L65)+MAX('MDA3'!J65,'MDA3'!M65))","v":0},{"$f":"IF(AND(COUNTRY_INFO!I65>0,COUNTRY_INFO!I65<4),IF(J65>MAX('MDA1'!M65,MAX('MDA3'!I65,'MDA3'!L65)+MAX('MDA3'!J65,'MDA3'!M65)),MAX('MDA1'!M65,MAX('MDA3'!I65,'MDA3'!L65)+MAX('MDA3'!J65,'MDA3'!M65)),J65),0)","v":0},{"$f":"IF(AND(COUNTRY_INFO!I65>0,COUNTRY_INFO!I65<4), IF(M65/J65*100<>0, IF(M65/J65*100>100,100,M65/J65*100), \"-\"),0)","v":0},{"$f":"COUNTRY_INFO!N65","v":49460},null,null,{"$f":"SUM(MAX('MDA2'!J65, 'T1'!L65, MAX(T3_R1!K65, T3_R2!K65)), MAX('MDA1'!K65, 'MDA2'!K65, 'T1'!M65, MAX(T3_R1!L65, T3_R2!L65)), MAX('MDA1'!L65, 'MDA2'!L65, 'T1'!N65, MAX(T3_R1!M65, T3_R2!M65)))","v":25899},{"$f":"IF(AND(COUNTRY_INFO!J65>1,COUNTRY_INFO!J65<4),IF(COUNTRY_INFO!E65>MAX('MDA2'!J65,'T1'!L65,MAX(T3_R1!K65,T3_R2!K65)),MAX('MDA2'!J65,'T1'!L65,MAX(T3_R1!K65,T3_R2!K65)),COUNTRY_INFO!E65),0)","v":0},{"$f":"IF(AND(COUNTRY_INFO!J65>1,COUNTRY_INFO!J65<4), IF(T65/COUNTRY_INFO!E65*100<>0, IF(T65/COUNTRY_INFO!E65*100>100,100,T65/COUNTRY_INFO!E65*100), \"-\"),0)","v":"-"},{"$f":"IF(AND(COUNTRY_INFO!J65>1,COUNTRY_INFO!J65<4),IF(COUNTRY_INFO!F65>MAX('MDA1'!K65,'MDA2'!K65,'T1'!M65,MAX(T3_R1!L65,T3_R2!L65)),MAX('MDA1'!K65,'MDA2'!K65,'T1'!M65,MAX(T3_R1!L65,T3_R2!L65)),COUNTRY_INFO!F65),0)","v":25899},{"$f":"IF(AND(COUNTRY_INFO!J65>1,COUNTRY_INFO!J65<4), IF(V65/COUNTRY_INFO!F65*100<>0, IF(V65/COUNTRY_INFO!F65*100>100,100,V65/COUNTRY_INFO!F65*100), \"-\"),0)","v":86.517454484716879},25899,{"$f":"IF(AND(COUNTRY_INFO!J65>1,COUNTRY_INFO!J65<4), IF(S65/P65*100<>0, IF(X65/P65*100>100,100,X65/P65*100), \"-\"),0)","v":52.363526081682167},{"$f":"COUNTRY_INFO!O65","v":35346.067787541397},null,null,{"$f":"MAX('T1'!L65,'T2'!J65)+MAX('T1'!M65,'T2'!K65)+MAX('T1'!N65,'T2'!L65)","v":0},{"$f":"IF(COUNTRY_INFO!K65=1,IF(COUNTRY_INFO!F65*0.33>MAX('T1'!M65,'T2'!K65),MAX('T1'!M65,'T2'!K65),COUNTRY_INFO!F65*0.33),IF(COUNTRY_INFO!K65=2,IF(COUNTRY_INFO!F65*0.5>MAX('T1'!M65,'T2'!K65),MAX('T1'!M65,'T2'!K65),COUNTRY_INFO!F65*0.5),IF(COUNTRY_INFO!K65=3,IF(COUNTRY_INFO!F65>MAX('T1'!M65,'T2'!K65),MAX('T1'!M65,'T2'!K65),COUNTRY_INFO!F65),0)))","v":0},{"$f":"IF(AND(COUNTRY_INFO!K65>0,COUNTRY_INFO!K65<4),IF(Z65>0,IF(COUNTRY_INFO!K65=1, AD65/(COUNTRY_INFO!F65*0.33)*100, IF(COUNTRY_INFO!K65=2, AD65/(COUNTRY_INFO!F65*0.5)*100, IF(COUNTRY_INFO!K65=3, AD65/COUNTRY_INFO!F65*100))),\"-\"),0)","v":0},{"$f":"IF(COUNTRY_INFO!K65=2,IF(COUNTRY_INFO!G65*0.2>MAX('T1'!N65,'T2'!L65),MAX('T1'!N65,'T2'!L65),COUNTRY_INFO!G65*0.2),IF(COUNTRY_INFO!K65=3,IF(COUNTRY_INFO!G65>MAX('T1'!N65,'T2'!L65),MAX('T1'!N65,'T2'!L65),COUNTRY_INFO!G65),0))","v":0},{"$f":"IF(AND(COUNTRY_INFO!K65>0,COUNTRY_INFO!K65<4),IF(Z65>0,IF(COUNTRY_INFO!K65=1, 0, IF(COUNTRY_INFO!K65=2, AF65/(COUNTRY_INFO!G65*0.2)*100, IF(COUNTRY_INFO!K65=3, AF65/COUNTRY_INFO!G65*100))),\"-\"),0)","v":0},0,{"$f":"IF(AND(COUNTRY_INFO!K65>0,COUNTRY_INFO!K65<4), IF(AC65/Z65*100<>0, IF(AH65/Z65*100>100,100,AH65/Z65*100), \"-\"),0)","v":"-"},null,{"$f":"IF(AND(D65<>0, D65<>\"Unknown\",D65<>\"Stopped\",D65<>\"Not required\"),D65/COUNTRY_INFO!D65, 0)","v":0},{"$f":"IF(AND(J65<>0,J65<>\"Unknown\",J65<>\"Stopped\",J65<>\"Not required\"),J65/COUNTRY_INFO!D65, 0)","v":0},{"$f":"IF(AND(P65<>0,P65<>\"Unknown\",P65<>\"Not required\"),P65/(COUNTRY_INFO!E65+COUNTRY_INFO!F65), 0)","v":1},{"$f":"IF(AND(Z65<>0,Z65<>\"Unknown\",Z65<>\"Not required\"),IF(COUNTRY_INFO!K65=1,1,IF(COUNTRY_INFO!K65=2,0.5*COUNTRY_INFO!F65/(0.5*COUNTRY_INFO!F65+0.2*COUNTRY_INFO!G65),IF(COUNTRY_INFO!K65=3,COUNTRY_INFO!F65/(COUNTRY_INFO!F65+COUNTRY_INFO!G65)))),0)","v":0.42345587322377254},{"$f":"IF(AND(Z65<>0,Z65<>\"Unknown\",Z65<>\"Not required\"),IF(COUNTRY_INFO!K65=1,0,IF(COUNTRY_INFO!K65=2,0.2*COUNTRY_INFO!G65/(0.5*COUNTRY_INFO!F65+0.2*COUNTRY_INFO!G65),IF(COUNTRY_INFO!K65=3,COUNTRY_INFO!G65/(COUNTRY_INFO!F65+COUNTRY_INFO!G65)))),0)","v":0.57654412677622746},{"$f":"MAX(COUNTRY_INFO!D65*AK65*PROFILE!$G$7,COUNTRY_INFO!D65*AL65*PROFILE!$G$7)","v":0},{"$f":"MAX(COUNTRY_INFO!D65*AK65*PROFILE!$G$8,COUNTRY_INFO!D65*AL65*PROFILE!$G$8,COUNTRY_INFO!D65*AM65*PROFILE!$G$8)","v":19524.516510473142},{"$f":"MAX(COUNTRY_INFO!D65*AK65*PROFILE!$G$9,COUNTRY_INFO!D65*AL65*PROFILE!$G$9,COUNTRY_INFO!D65*AM65*PROFILE!$G$9,IF(AND(DISTRICT!Z65<>\"Unknown\",Z65<>\"Not required\"),COUNTRY_INFO!O65*DISTRICT!AN65,0))","v":34024.41547175248},{"$f":"MAX(COUNTRY_INFO!D65*AK65*PROFILE!$G$10,COUNTRY_INFO!D65*AL65*PROFILE!$G$10,IF(AND(DISTRICT!Z65<>\"Unknown\",Z65<>\"Not required\"),COUNTRY_INFO!O65*DISTRICT!AO65,0))","v":20378.567787541397},73927.499769767019,0,{"$f":"MAX('MDA2'!J65,'T1'!L65,'T2'!J65,T3_R1!K65,T3_R2!K65)","v":0},{"$f":"MAX('MDA1'!K65,'MDA2'!K65,'MDA3'!I65,'MDA3'!L65,'T1'!M65,'T2'!K65,T3_R1!L65,T3_R2!L65)","v":25899},{"$f":"MAX('MDA1'!L65,'MDA2'!L65,'MDA3'!J65,'MDA3'!M65,'T1'!N65,'T2'!L65,T3_R1!M65,T3_R2!M65)","v":0},25899,{"$f":"MAX('MDA2'!J65,T65)","v":0},{"$f":"MAX('MDA1'!K65,'MDA2'!K65,'MDA3'!I65,'MDA3'!L65,V65,AD65)","v":25899},{"$f":"MAX('MDA1'!L65,'MDA2'!L65,'MDA3'!J65,'MDA3'!M65,AF65)","v":0},25899,35.032971601443926]
[{"$f":"IF(COUNTRY_INFO!A66=0,\" \",COUNTRY_INFO!A66)","v":"Tanzania"},{"$f":"IF(COUNTRY_INFO!B66=0,\" \",COUNTRY_INFO!B66)","v":"Kilimanjaro"},{"$f":"IF(COUNTRY_INFO!C66=0,\" \",COUNTRY_INFO!C66)","v":"Rombo District Council"},{"$f":"COUNTRY_INFO!L66","v":0},null,null,{"$f":"MAX('MDA1'!M66,'MDA2'!M66)","v":0},{"$f":"IF(AND(COUNTRY_INFO!H66>0,COUNTRY_INFO!H66<4),IF(D66>MAX('MDA1'!M66,'MDA2'!M66),MAX('MDA1'!M66,'MDA2'!M66),D66),0)","v":0},{"$f":"IF(AND(COUNTRY_INFO!H66>0,COUNTRY_INFO!H66<4), IF(G66/D66*100<>0, IF(G66/D66*100>100,100,G66/D66*100), \"-\"),0)","v":0},{"$f":"COUNTRY_INFO!M66","v":0},null,null,{"$f":"MAX('MDA1'!M66,MAX('MDA3'!I66,'MDA3'!L66)+MAX('MDA3'!J66,'MDA3'!M66))","v":0},{"$f":"IF(AND(COUNTRY_INFO!I66>0,COUNTRY_INFO!I66<4),IF(J66>MAX('MDA1'!M66,MAX('MDA3'!I66,'MDA3'!L66)+MAX('MDA3'!J66,'MDA3'!M66)),MAX('MDA1'!M66,MAX('MDA3'!I66,'MDA3'!L66)+MAX('MDA3'!J66,'MDA3'!M66)),J66),0)","v":0},{"$f":"IF(AND(COUNTRY_INFO!I66>0,COUNTRY_INFO!I66<4), IF(M66/J66*100<>0, IF(M66/J66*100>100,100,M66/J66*100), \"-\"),0)","v":0},{"$f":"COUNTRY_INFO!N66","v":81636},null,null,{"$f":"SUM(MAX('MDA2'!J66, 'T1'!L66, MAX(T3_R1!K66, T3_R2!K66)), MAX('MDA1'!K66, 'MDA2'!K66, 'T1'!M66, MAX(T3_R1!L66, T3_R2!L66)), MAX('MDA1'!L66, 'MDA2'!L66, 'T1'!N66, MAX(T3_R1!M66, T3_R2!M66)))","v":42835},{"$f":"IF(AND(COUNTRY_INFO!J66>1,COUNTRY_INFO!J66<4),IF(COUNTRY_INFO!E66>MAX('MDA2'!J66,'T1'!L66,MAX(T3_R1!K66,T3_R2!K66)),MAX('MDA2'!J66,'T1'!L66,MAX(T3_R1!K66,T3_R2!K66)),COUNTRY_INFO!E66),0)","v":0},{"$f":"IF(AND(COUNTRY_INFO!J66>1,COUNTRY_INFO!J66<4), IF(T66/COUNTRY_INFO!E66*100<>0, IF(T66/COUNTRY_INFO!E66*100>100,100,T66/COUNTRY_INFO!E66*100), \"-\"),0)","v":"-"},{"$f":"IF(AND(COUNTRY_INFO!J66>1,COUNTRY_INFO!J66<4),IF(COUNTRY_INFO!F66>MAX('MDA1'!K66,'MDA2'!K66,'T1'!M66,MAX(T3_R1!L66,T3_R2!L66)),MAX('MDA1'!K66,'MDA2'!K66,'T1'!M66,MAX(T3_R1!L66,T3_R2!L66)),COUNTRY_INFO!F66),0)","v":42835},{"$f":"IF(AND(COUNTRY_INFO!J66>1,COUNTRY_INFO!J66<4), IF(V66/COUNTRY_INFO!F66*100<>0, IF(V66/COUNTRY_INFO!F66*100>100,100,V66/COUNTRY_INFO!F66*100), \"-\"),0)","v":99.9136965851838},42835,{"$f":"IF(AND(COUNTRY_INFO!J66>1,COUNTRY_INFO!J66<4), IF(S66/P66*100<>0, IF(X66/P66*100>100,100,X66/P66*100), \"-\"),0)","v":52.470723700328278},{"$f":"COUNTRY_INFO!O66","v":65207.414003405254},null,null,{"$f":"MAX('T1'!L66,'T2'!J66)+MAX('T1'!M66,'T2'!K66)+MAX('T1'!N66,'T2'!L66)","v":0},{"$f":"IF(COUNTRY_INFO!K66=1,IF(COUNTRY_INFO!F66*0.33>MAX('T1'!M66,'T2'!K66),MAX('T1'!M66,'T2'!K66),COUNTRY_INFO!F66*0.33),IF(COUNTRY_INFO!K66=2,IF(COUNTRY_INFO!F66*0.5>MAX('T1'!M66,'T2'!K66),MAX('T1'!M66,'T2'!K66),COUNTRY_INFO!F66*0.5),IF(COUNTRY_INFO!K66=3,IF(COUNTRY_INFO!F66>MAX('T1'!M66,'T2'!K66),MAX('T1'!M66,'T2'!K66),COUNTRY_INFO!F66),0)))","v":0},{"$f":"IF(AND(COUNTRY_INFO!K66>0,COUNTRY_INFO!K66<4),IF(Z66>0,IF(COUNTRY_INFO!K66=1, AD66/(COUNTRY_INFO!F66*0.33)*100, IF(COUNTRY_INFO!K66=2, AD66/(COUNTRY_INFO!F66*0.5)*100, IF(COUNTRY_INFO!K66=3, AD66/COUNTRY_INFO!F66*100))),\"-\"),0)","v":0},{"$f":"IF(COUNTRY_INFO!K66=2,IF(COUNTRY_INFO!G66*0.2>MAX('T1'!N66,'T2'!L66),MAX('T1'!N66,'T2'!L66),COUNTRY_INFO!G66*0.2),IF(COUNTRY_INFO!K66=3,IF(COUNTRY_INFO!G66>MAX('T1'!N66,'T2'!L66),MAX('T1'!N66,'T2'!L66),COUNTRY_INFO!G66),0))","v":0},{"$f":"IF(AND(COUNTRY_INFO!K66>0,COUNTRY_INFO!K66<4),IF(Z66>0,IF(COUNTRY_INFO!K66=1, 0, IF(COUNTRY_INFO!K66=2, AF66/(COUNTRY_INFO!G66*0.2)*100, IF(COUNTRY_INFO!K66=3, AF66/COUNTRY_INFO!G66*100))),\"-\"),0)","v":0},0,{"$f":"IF(AND(COUNTRY_INFO!K66>0,COUNTRY_INFO!K66<4), IF(AC66/Z66*100<>0, IF(AH66/Z66*100>100,100,AH66/Z66*100), \"-\"),0)","v":"-"},null,{"$f":"IF(AND(D66<>0, D66<>\"Unknown\",D66<>\"Stopped\",D66<>\"Not required\"),D66/COUNTRY_INFO!D66, 0)","v":0},{"$f":"IF(AND(J66<>0,J66<>\"Unknown\",J66<>\"Stopped\",J66<>\"Not required\"),J66/COUNTRY_INFO!D66, 0)","v":0},{"$f":"IF(AND(P66<>0,P66<>\"Unknown\",P66<>\"Not required\"),P66/(COUNTRY_INFO!E66+COUNTRY_INFO!F66), 0)","v":1},{"$f":"IF(AND(Z66<>0,Z66<>\"Unknown\",Z66<>\"Not required\"),IF(COUNTRY_INFO!K66=1,1,IF(COUNTRY_INFO!K66=2,0.5*COUNTRY_INFO!F66/(0.5*COUNTRY_INFO!F66+0.2*COUNTRY_INFO!G66),IF(COUNTRY_INFO!K66=3,COUNTRY_INFO!F66/(COUNTRY_INFO!F66+COUNTRY_INFO!G66)))),0)","v":0.32873562504534487},{"$f":"IF(AND(Z66<>0,Z66<>\"Unknown\",Z66<>\"Not required\"),IF(COUNTRY_INFO!K66=1,0,IF(COUNTRY_INFO!K66=2,0.2*COUNTRY_INFO!G66/(0.5*COUNTRY_INFO!F66+0.2*COUNTRY_INFO!G66),IF(COUNTRY_INFO!K66=3,COUNTRY_INFO!G66/(COUNTRY_INFO!F66+COUNTRY_INFO!G66)))),0)","v":0.67126437495465519},{"$f":"MAX(COUNTRY_INFO!D66*AK66*PROFILE!$G$7,COUNTRY_INFO!D66*AL66*PROFILE!$G$7)","v":0},{"$f":"MAX(COUNTRY_INFO!D66*AK66*PROFILE!$G$8,COUNTRY_INFO!D66*AL66*PROFILE!$G$8,COUNTRY_INFO!D66*AM66*PROFILE!$G$8)","v":38763.60660301122},{"$f":"MAX(COUNTRY_INFO!D66*AK66*PROFILE!$G$9,COUNTRY_INFO!D66*AL66*PROFILE!$G$9,COUNTRY_INFO!D66*AM66*PROFILE!$G$9,IF(AND(DISTRICT!Z66<>\"Unknown\",Z66<>\"Not required\"),COUNTRY_INFO!O66*DISTRICT!AN66,0))","v":67551.432351062089},{"$f":"MAX(COUNTRY_INFO!D66*AK66*PROFILE!$G$10,COUNTRY_INFO!D66*AL66*PROFILE!$G$10,IF(AND(DISTRICT!Z66<>\"Unknown\",Z66<>\"Not required\"),COUNTRY_INFO!O66*DISTRICT!AO66,0))","v":43771.414003405254},150086.45295747856,0,{"$f":"MAX('MDA2'!J66,'T1'!L66,'T2'!J66,T3_R1!K66,T3_R2!K66)","v":0},{"$f":"MAX('MDA1'!K66,'MDA2'!K66,'MDA3'!I66,'MDA3'!L66,'T1'!M66,'T2'!K66,T3_R1!L66,T3_R2!L66)","v":42835},{"$f":"MAX('MDA1'!L66,'MDA2'!L66,'MDA3'!J66,'MDA3'!M66,'T1'!N66,'T2'!L66,T3_R1!M66,T3_R2!M66)","v":0},42835,{"$f":"MAX('MDA2'!J66,T66)","v":0},{"$f":"MAX('MDA1'!K66,'MDA2'!K66,'MDA3'!I66,'MDA3'!L66,V66,AD66)","v":42835},{"$f":"MAX('MDA1'!L66,'MDA2'!L66,'MDA3'!J66,'MDA3'!M66,AF66)","v":0},42835,28.540217425310004]
[{"$f":"IF(COUNTRY_INFO!A67=0,\" \",COUNTRY_INFO!A67)","v":"Tanzania"},{"$f":"IF(COUNTRY_INFO!B67=0,\" \",COUNTRY_INFO!B67)","v":"Kilimanjaro"},{"$f":"IF(COUNTRY_INFO!C67=0,\" \",COUNTRY_INFO!C67)","v":"Same District Council"},{"$f":"COUNTRY_INFO!L67","v":0},null,null,{"$f":"MAX('MDA1'!M67,'MDA2'!M67)","v":0},{"$f":"IF(AND(COUNTRY_INFO!H67>0,COUNTRY_INFO!H67<4),IF(D67>MAX('MDA1'!M67,'MDA2'!M67),MAX('MDA1'!M67,'MDA2'!M67),D67),0)","v":0},{"$f":"IF(AND(COUNTRY_INFO!H67>0,COUNTRY_INFO!H67<4), IF(G67/D67*100<>0, IF(G67/D67*100>100,100,G67/D67*100), \"-\"),0)","v":0},{"$f":"COUNTRY_INFO!M67","v":0},null,null,{"$f":"MAX('MDA1'!M67,MAX('MDA3'!I67,'MDA3'!L67)+MAX('MDA3'!J67,'MDA3'!M67))","v":0},{"$f":"IF(AND(COUNTRY_INFO!I67>0,COUNTRY_INFO!I67<4),IF(J67>MAX('MDA1'!M67,MAX('MDA3'!I67,'MDA3'!L67)+MAX('MDA3'!J67,'MDA3'!M67)),MAX('MDA1'!M67,MAX('MDA3'!I67,'MDA3'!L67)+MAX('MDA3'!J67,'MDA3'!M67)),J67),0)","v":0},{"$f":"IF(AND(COUNTRY_INFO!I67>0,COUNTRY_INFO!I67<4), IF(M67/J67*100<>0, IF(M67/J67*100>100,100,M67/J67*100), \"-\"),0)","v":0},{"$f":"COUNTRY_INFO!N67","v":103865},null,null,{"$f":"SUM(MAX('MDA2'!J67, 'T1'!L67, MAX(T3_R1!K67, T3_R2!K67)), MAX('MDA1'!K67, 'MDA2'!K67, 'T1'!M67, MAX(T3_R1!L67, T3_R2!L67)), MAX('MDA1'!L67, 'MDA2'!L67, 'T1'!N67, MAX(T3_R1!M67, T3_R2!M67)))","v":57351},{"$f":"IF(AND(COUNTRY_INFO!J67>1,COUNTRY_INFO!J67<4),IF(COUNTRY_INFO!E67>MAX('MDA2'!J67,'T1'!L67,MAX(T3_R1!K67,T3_R2!K67)),MAX('MDA2'!J67,'T1'!L67,MAX(T3_R1!K67,T3_R2!K67)),COUNTRY_INFO!E67),0)","v":0},{"$f":"IF(AND(COUNTRY_INFO!J67>1,COUNTRY_INFO!J67<4), IF(T67/COUNTRY_INFO!E67*100<>0, IF(T67/COUNTRY_INFO!E67*100>100,100,T67/COUNTRY_INFO!E67*100), \"-\"),0)","v":"-"},{"$f":"IF(AND(COUNTRY_INFO!J67>1,COUNTRY_INFO!J67<4),IF(COUNTRY_INFO!F67>MAX('MDA1'!K67,'MDA2'!K67,'T1'!M67,MAX(T3_R1!L67,T3_R2!L67)),MAX('MDA1'!K67,'MDA2'!K67,'T1'!M67,MAX(T3_R1!L67,T3_R2!L67)),COUNTRY_INFO!F67),0)","v":57351},{"$f":"IF(AND(COUNTRY_INFO!J67>1,COUNTRY_INFO!J67<4), IF(V67/COUNTRY_INFO!F67*100<>0, IF(V67/COUNTRY_INFO!F67*100>100,100,V67/COUNTRY_INFO!F67*100), \"-\"),0)","v":89.910169783811739},57351,{"$f":"IF(AND(COUNTRY_INFO!J67>1,COUNTRY_INFO!J67<4), IF(S67/P67*100<>0, IF(X67/P67*100>100,100,X67/P67*100), \"-\"),0)","v":55.216868049872424},{"$f":"COUNTRY_INFO!O67","v":73256.466369148548},null,null,{"$f":"MAX('T1'!L67,'T2'!J67)+MAX('T1'!M67,'T2'!K67)+MAX('T1'!N67,'T2'!L67)","v":0},{"$f":"IF(COUNTRY_INFO!K67=1,IF(COUNTRY_INFO!F67*0.33>MAX('T1'!M67,'T2'!K67),MAX('T1'!M67,'T2'!K67),COUNTRY_INFO!F67*0.33),IF(COUNTRY_INFO!K67=2,IF(COUNTRY_INFO!F67*0.5>MAX('T1'!M67,'T2'!K67),MAX('T1'!M67,'T2'!K67),COUNTRY_INFO!F67*0.5),IF(COUNTRY_INFO!K67=3,IF(COUNTRY_INFO!F67>MAX('T1'!M67,'T2'!K67),MAX('T1'!M67,'T2'!K67),COUNTRY_INFO!F67),0)))","v":0},{"$f":"IF(AND(COUNTRY_INFO!K67>0,COUNTRY_INFO!K67<4),IF(Z67>0,IF(COUNTRY_INFO!K67=1, AD67/(COUNTRY_INFO!F67*0.33)*100, IF(COUNTRY_INFO!K67=2, AD67/(COUNTRY_INFO!F67*0.5)*100, IF(COUNTRY_INFO!K67=3, AD67/COUNTRY_INFO!F67*100))),\"-\"),0)","v":0},{"$f":"IF(COUNTRY_INFO!K67=2,IF(COUNTRY_INFO!G67*0.2>MAX('T1'!N67,'T2'!L67),MAX('T1'!N67,'T2'!L67),COUNTRY_INFO!G67*0.2),IF(COUNTRY_INFO!K67=3,IF(COUNTRY_INFO!G67>MAX('T1'!N67,'T2'!L67),MAX('T1'!N67,'T2'!L67),COUNTRY_INFO!G67),0))","v":0},{"$f":"IF(AND(COUNTRY_INFO!K67>0,COUNTRY_INFO!K67<4),IF(Z67>0,IF(COUNTRY_INFO!K67=1, 0, IF(COUNTRY_INFO!K67=2, AF67/(COUNTRY_INFO!G67*0.2)*100, IF(COUNTRY_INFO!K67=3, AF67/COUNTRY_INFO!G67*100))),\"-\"),0)","v":0},0,{"$f":"IF(AND(COUNTRY_INFO!K67>0,COUNTRY_INFO!K67<4), IF(AC67/Z67*100<>0, IF(AH67/Z67*100>100,100,AH67/Z67*100), \"-\"),0)","v":"-"},null,{"$f":"IF(AND(D67<>0, D67<>\"Unknown\",D67<>\"Stopped\",D67<>\"Not required\"),D67/COUNTRY_INFO!D67, 0)","v":0},{"$f":"IF(AND(J67<>0,J67<>\"Unknown\",J67<>\"Stopped\",J67<>\"Not required\"),J67/COUNTRY_INFO!D67, 0)","v":0},{"$f":"IF(AND(P67<>0,P67<>\"Unknown\",P67<>\"Not required\"),P67/(COUNTRY_INFO!E67+COUNTRY_INFO!F67), 0)","v":1},{"$f":"IF(AND(Z67<>0,Z67<>\"Unknown\",Z67<>\"Not required\"),IF(COUNTRY_INFO!K67=1,1,IF(COUNTRY_INFO!K67=2,0.5*COUNTRY_INFO!F67/(0.5*COUNTRY_INFO!F67+0.2*COUNTRY_INFO!G67),IF(COUNTRY_INFO!K67=3,COUNTRY_INFO!F67/(COUNTRY_INFO!F67+COUNTRY_INFO!G67)))),0)","v":0.43536770992044094},{"$f":"IF(AND(Z67<>0,Z67<>\"Unknown\",Z67<>\"Not required\"),IF(COUNTRY_INFO!K67=1,0,IF(COUNTRY_INFO!K67=2,0.2*COUNTRY_INFO!G67/(0.5*COUNTRY_INFO!F67+0.2*COUNTRY_INFO!G67),IF(COUNTRY_INFO!K67=3,COUNTRY_INFO!G67/(COUNTRY_INFO!F67+COUNTRY_INFO!G67)))),0)","v":0.56463229007955917},{"$f":"MAX(COUNTRY_INFO!D67*AK67*PROFILE!$G$7,COUNTRY_INFO!D67*AL67*PROFILE!$G$7)","v":0},{"$f":"MAX(COUNTRY_INFO!D67*AK67*PROFILE!$G$8,COUNTRY_INFO!D67*AL67*PROFILE!$G$8,COUNTRY_INFO!D67*AM67*PROFILE!$G$8)","v":40077.698898266353},{"$f":"MAX(COUNTRY_INFO!D67*AK67*PROFILE!$G$9,COUNTRY_INFO!D67*AL67*PROFILE!$G$9,COUNTRY_INFO!D67*AM67*PROFILE!$G$9,IF(AND(DISTRICT!Z67<>\"Unknown\",Z67<>\"Not required\"),COUNTRY_INFO!O67*DISTRICT!AN67,0))","v":69841.436418410245},{"$f":"MAX(COUNTRY_INFO!D67*AK67*PROFILE!$G$10,COUNTRY_INFO!D67*AL67*PROFILE!$G$10,IF(AND(DISTRICT!Z67<>\"Unknown\",Z67<>\"Not required\"),COUNTRY_INFO!O67*DISTRICT!AO67,0))","v":41362.966369148555},151282.10168582515,0,{"$f":"MAX('MDA2'!J67,'T1'!L67,'T2'!J67,T3_R1!K67,T3_R2!K67)","v":0},{"$f":"MAX('MDA1'!K67,'MDA2'!K67,'MDA3'!I67,'MDA3'!L67,'T1'!M67,'T2'!K67,T3_R1!L67,T3_R2!L67)","v":57351},{"$f":"MAX('MDA1'!L67,'MDA2'!L67,'MDA3'!J67,'MDA3'!M67,'T1'!N67,'T2'!L67,T3_R1!M67,T3_R2!M67)","v":0},57351,{"$f":"MAX('MDA2'!J67,T67)","v":0},{"$f":"MAX('MDA1'!K67,'MDA2'!K67,'MDA3'!I67,'MDA3'!L67,V67,AD67)","v":57351},{"$f":"MAX('MDA1'!L67,'MDA2'!L67,'MDA3'!J67,'MDA3'!M67,AF67)","v":0},57351,37.90997042009873]
[{"$f":"IF(COUNTRY_INFO!A68=0,\" \",COUNTRY_INFO!A68)","v":"Tanzania"},{"$f":"IF(COUNTRY_INFO!B68=0,\" \",COUNTRY_INFO!B68)","v":"Kilimanjaro"},{"$f":"IF(COUNTRY_INFO!C68=0,\" \",COUNTRY_INFO!C68)","v":"Siha District Council"},{"$f":"COUNTRY_INFO!L68","v":0},null,null,{"$f":"MAX('MDA1'!M68,'MDA2'!M68)","v":0},{"$f":"IF(AND(COUNTRY_INFO!H68>0,COUNTRY_INFO!H68<4),IF(D68>MAX('MDA1'!M68,'MDA2'!M68),MAX('MDA1'!M68,'MDA2'!M68),D68),0)","v":0},{"$f":"IF(AND(COUNTRY_INFO!H68>0,COUNTRY_INFO!H68<4), IF(G68/D68*100<>0, IF(G68/D68*100>100,100,G68/D68*100), \"-\"),0)","v":0},{"$f":"COUNTRY_INFO!M68","v":0},null,null,{"$f":"MAX('MDA1'!M68,MAX('MDA3'!I68,'MDA3'!L68)+MAX('MDA3'!J68,'MDA3'!M68))","v":0},{"$f":"IF(AND(COUNTRY_INFO!I68>0,COUNTRY_INFO!I68<4),IF(J68>MAX('MDA1'!M68,MAX('MDA3'!I68,'MDA3'!L68)+MAX('MDA3'!J68,'MDA3'!M68)),MAX('MDA1'!M68,MAX('MDA3'!I68,'MDA3'!L68)+MAX('MDA3'!J68,'MDA3'!M68)),J68),0)","v":0},{"$f":"IF(AND(COUNTRY_INFO!I68>0,COUNTRY_INFO!I68<4), IF(M68/J68*100<>0, IF(M68/J68*100>100,100,M68/J68*100), \"-\"),0)","v":0},{"$f":"COUNTRY_INFO!N68","v":43287},null,null,{"$f":"SUM(MAX('MDA2'!J68, 'T1'!L68, MAX(T3_R1!K68, T3_R2!K68)), MAX('MDA1'!K68, 'MDA2'!K68, 'T1'!M68, MAX(T3_R1!L68, T3_R2!L68)), MAX('MDA1'!L68, 'MDA2'!L68, 'T1'!N68, MAX(T3_R1!M68, T3_R2!M68)))","v":25563},{"$f":"IF(AND(COUNTRY_INFO!J68>1,COUNTRY_INFO!J68<4),IF(COUNTRY_INFO!E68>MAX('MDA2'!J68,'T1'!L68,MAX(T3_R1!K68,T3_R2!K68)),MAX('MDA2'!J68,'T1'!L68,MAX(T3_R1!K68,T3_R2!K68)),COUNTRY_INFO!E68),0)","v":0},{"$f":"IF(AND(COUNTRY_INFO!J68>1,COUNTRY_INFO!J68<4), IF(T68/COUNTRY_INFO!E68*100<>0, IF(T68/COUNTRY_INFO!E68*100>100,100,T68/COUNTRY_INFO!E68*100), \"-\"),0)","v":"-"},{"$f":"IF(AND(COUNTRY_INFO!J68>1,COUNTRY_INFO!J68<4),IF(COUNTRY_INFO!F68>MAX('MDA1'!K68,'MDA2'!K68,'T1'!M68,MAX(T3_R1!L68,T3_R2!L68)),MAX('MDA1'!K68,'MDA2'!K68,'T1'!M68,MAX(T3_R1!L68,T3_R2!L68)),COUNTRY_INFO!F68),0)","v":25563},{"$f":"IF(AND(COUNTRY_INFO!J68>1,COUNTRY_INFO!J68<4), IF(V68/COUNTRY_INFO!F68*100<>0, IF(V68/COUNTRY_INFO!F68*100>100,100,V68/COUNTRY_INFO!F68*100), \"-\"),0)","v":98.281430219146486},25563,{"$f":"IF(AND(COUNTRY_INFO!J68>1,COUNTRY_INFO!J68<4), IF(S68/P68*100<>0, IF(X68/P68*100>100,100,X68/P68*100), \"-\"),0)","v":59.054681544112555},{"$f":"COUNTRY_INFO!O68","v":31134.029290747934},null,null,{"$f":"MAX('T1'!L68,'T2'!J68)+MAX('T1'!M68,'T2'!K68)+MAX('T1'!N68,'T2'!L68)","v":0},{"$f":"IF(COUNTRY_INFO!K68=1,IF(COUNTRY_INFO!F68*0.33>MAX('T1'!M68,'T2'!K68),MAX('T1'!M68,'T2'!K68),COUNTRY_INFO!F68*0.33),IF(COUNTRY_INFO!K68=2,IF(COUNTRY_INFO!F68*0.5>MAX('T1'!M68,'T2'!K68),MAX('T1'!M68,'T2'!K68),COUNTRY_INFO!F68*0.5),IF(COUNTRY_INFO!K68=3,IF(COUNTRY_INFO!F68>MAX('T1'!M68,'T2'!K68),MAX('T1'!M68,'T2'!K68),COUNTRY_INFO!F68),0)))","v":0},{"$f":"IF(AND(COUNTRY_INFO!K68>0,COUNTRY_INFO!K68<4),IF(Z68>0,IF(COUNTRY_INFO!K68=1, AD68/(COUNTRY_INFO!F68*0.33)*100, IF(COUNTRY_INFO!K68=2, AD68/(COUNTRY_INFO!F68*0.5)*100, IF(COUNTRY_INFO!K68=3, AD68/COUNTRY_INFO!F68*100))),\"-\"),0)","v":0},{"$f":"IF(COUNTRY_INFO!K68=2,IF(COUNTRY_INFO!G68*0.2>MAX('T1'!N68,'T2'!L68),MAX('T1'!N68,'T2'!L68),COUNTRY_INFO!G68*0.2),IF(COUNTRY_INFO!K68=3,IF(COUNTRY_INFO!G68>MAX('T1'!N68,'T2'!L68),MAX('T1'!N68,'T2'!L68),COUNTRY_INFO!G68),0))","v":0},{"$f":"IF(AND(COUNTRY_INFO!K68>0,COUNTRY_INFO!K68<4),IF(Z68>0,IF(COUNTRY_INFO!K68=1, 0, IF(COUNTRY_INFO!K68=2, AF68/(COUNTRY_INFO!G68*0.2)*100, IF(COUNTRY_INFO!K68=3, AF68/COUNTRY_INFO!G68*100))),\"-\"),0)","v":0},0,{"$f":"IF(AND(COUNTRY_INFO!K68>0,COUNTRY_INFO!K68<4), IF(AC68/Z68*100<>0, IF(AH68/Z68*100>100,100,AH68/Z68*100), \"-\"),0)","v":"-"},null,{"$f":"IF(AND(D68<>0, D68<>\"Unknown\",D68<>\"Stopped\",D68<>\"Not required\"),D68/COUNTRY_INFO!D68, 0)","v":0},{"$f":"IF(AND(J68<>0,J68<>\"Unknown\",J68<>\"Stopped\",J68<>\"Not required\"),J68/COUNTRY_INFO!D68, 0)","v":0},{"$f":"IF(AND(P68<>0,P68<>\"Unknown\",P68<>\"Not required\"),P68/(COUNTRY_INFO!E68+COUNTRY_INFO!F68), 0)","v":1},{"$f":"IF(AND(Z68<>0,Z68<>\"Unknown\",Z68<>\"Not required\"),IF(COUNTRY_INFO!K68=1,1,IF(COUNTRY_INFO!K68=2,0.5*COUNTRY_INFO!F68/(0.5*COUNTRY_INFO!F68+0.2*COUNTRY_INFO!G68),IF(COUNTRY_INFO!K68=3,COUNTRY_INFO!F68/(COUNTRY_INFO!F68+COUNTRY_INFO!G68)))),0)","v":0.41771014855005234},{"$f":"IF(AND(Z68<>0,Z68<>\"Unknown\",Z68<>\"Not required\"),IF(COUNTRY_INFO!K68=1,0,IF(COUNTRY_INFO!K68=2,0.2*COUNTRY_INFO!G68/(0.5*COUNTRY_INFO!F68+0.2*COUNTRY_INFO!G68),IF(COUNTRY_INFO!K68=3,COUNTRY_INFO!G68/(COUNTRY_INFO!F68+COUNTRY_INFO!G68)))),0)","v":0.58228985144994772},{"$f":"MAX(COUNTRY_INFO!D68*AK68*PROFILE!$G$7,COUNTRY_INFO!D68*AL68*PROFILE!$G$7)","v":0},{"$f":"MAX(COUNTRY_INFO!D68*AK68*PROFILE!$G$8,COUNTRY_INFO!D68*AL68*PROFILE!$G$8,COUNTRY_INFO!D68*AM68*PROFILE!$G$8)","v":17277.247146949117},{"$f":"MAX(COUNTRY_INFO!D68*AK68*PROFILE!$G$9,COUNTRY_INFO!D68*AL68*PROFILE!$G$9,COUNTRY_INFO!D68*AM68*PROFILE!$G$9,IF(AND(DISTRICT!Z68<>\"Unknown\",Z68<>\"Not required\"),COUNTRY_INFO!O68*DISTRICT!AN68,0))","v":30108.209584632703},{"$f":"MAX(COUNTRY_INFO!D68*AK68*PROFILE!$G$10,COUNTRY_INFO!D68*AL68*PROFILE!$G$10,IF(AND(DISTRICT!Z68<>\"Unknown\",Z68<>\"Not required\"),COUNTRY_INFO!O68*DISTRICT!AO68,0))","v":18129.029290747934},65514.486022329758,0,{"$f":"MAX('MDA2'!J68,'T1'!L68,'T2'!J68,T3_R1!K68,T3_R2!K68)","v":0},{"$f":"MAX('MDA1'!K68,'MDA2'!K68,'MDA3'!I68,'MDA3'!L68,'T1'!M68,'T2'!K68,T3_R1!L68,T3_R2!L68)","v":25563},{"$f":"MAX('MDA1'!L68,'MDA2'!L68,'MDA3'!J68,'MDA3'!M68,'T1'!N68,'T2'!L68,T3_R1!M68,T3_R2!M68)","v":0},25563,{"$f":"MAX('MDA2'!J68,T68)","v":0},{"$f":"MAX('MDA1'!K68,'MDA2'!K68,'MDA3'!I68,'MDA3'!L68,V68,AD68)","v":25563},{"$f":"MAX('MDA1'!L68,'MDA2'!L68,'MDA3'!J68,'MDA3'!M68,AF68)","v":0},25563,39.0188514816207]
[{"$f":"IF(COUNTRY_INFO!A69=0,\" \",COUNTRY_INFO!A69)","v":"Tanzania"},{"$f":"IF(COUNTRY_INFO!B69=0,\" \",COUNTRY_INFO!B69)","v":"Lindi"},{"$f":"IF(COUNTRY_INFO!C69=0,\" \",COUNTRY_INFO!C69)","v":"Kilwa District Council"},{"$f":"COUNTRY_INFO!L69","v":219359},null,null,{"$f":"MAX('MDA1'!M69,'MDA2'!M69)","v":0},{"$f":"IF(AND(COUNTRY_INFO!H69>0,COUNTRY_INFO!H69<4),IF(D69>MAX('MDA1'!M69,'MDA2'!M69),MAX('MDA1'!M69,'MDA2'!M69),D69),0)","v":0},{"$f":"IF(AND(COUNTRY_INFO!H69>0,COUNTRY_INFO!H69<4), IF(G69/D69*100<>0, IF(G69/D69*100>100,100,G69/D69*100), \"-\"),0)","v":"-"},{"$f":"COUNTRY_INFO!M69","v":0},null,null,{"$f":"MAX('MDA1'!M69,MAX('MDA3'!I69,'MDA3'!L69)+MAX('MDA3'!J69,'MDA3'!M69))","v":0},{"$f":"IF(AND(COUNTRY_INFO!I69>0,COUNTRY_INFO!I69<4),IF(J69>MAX('MDA1'!M69,MAX('MDA3'!I69,'MDA3'!L69)+MAX('MDA3'!J69,'MDA3'!M69)),MAX('MDA1'!M69,MAX('MDA3'!I69,'MDA3'!L69)+MAX('MDA3'!J69,'MDA3'!M69)),J69),0)","v":0},{"$f":"IF(AND(COUNTRY_INFO!I69>0,COUNTRY_INFO!I69<4), IF(M69/J69*100<>0, IF(M69/J69*100>100,100,M69/J69*100), \"-\"),0)","v":0},{"$f":"COUNTRY_INFO!N69","v":85619},null,null,{"$f":"SUM(MAX('MDA2'!J69, 'T1'!L69, MAX(T3_R1!K69, T3_R2!K69)), MAX('MDA1'!K69, 'MDA2'!K69, 'T1'!M69, MAX(T3_R1!L69, T3_R2!L69)), MAX('MDA1'!L69, 'MDA2'!L69, 'T1'!N69, MAX(T3_R1!M69, T3_R2!M69)))","v":54456},{"$f":"IF(AND(COUNTRY_INFO!J69>1,COUNTRY_INFO!J69<4),IF(COUNTRY_INFO!E69>MAX('MDA2'!J69,'T1'!L69,MAX(T3_R1!K69,T3_R2!K69)),MAX('MDA2'!J69,'T1'!L69,MAX(T3_R1!K69,T3_R2!K69)),COUNTRY_INFO!E69),0)","v":0},{"$f":"IF(AND(COUNTRY_INFO!J69>1,COUNTRY_INFO!J69<4), IF(T69/COUNTRY_INFO!E69*100<>0, IF(T69/COUNTRY_INFO!E69*100>100,100,T69/COUNTRY_INFO!E69*100), \"-\"),0)","v":"-"},{"$f":"IF(AND(COUNTRY_INFO!J69>1,COUNTRY_INFO!J69<4),IF(COUNTRY_INFO!F69>MAX('MDA1'!K69,'MDA2'!K69,'T1'!M69,MAX(T3_R1!L69,T3_R2!L69)),MAX('MDA1'!K69,'MDA2'!K69,'T1'!M69,MAX(T3_R1!L69,T3_R2!L69)),COUNTRY_INFO!F69),0)","v":54456},{"$f":"IF(AND(COUNTRY_INFO!J69>1,COUNTRY_INFO!J69<4), IF(V69/COUNTRY_INFO!F69*100<>0, IF(V69/COUNTRY_INFO!F69*100>100,100,V69/COUNTRY_INFO!F69*100), \"-\"),0)","v":95.000174453089571},54456,{"$f":"IF(AND(COUNTRY_INFO!J69>1,COUNTRY_INFO!J69<4), IF(S69/P69*100<>0, IF(X69/P69*100>100,100,X69/P69*100), \"-\"),0)","v":63.602705007066184},{"$f":"COUNTRY_INFO!O69","v":55409},null,null,{"$f":"MAX('T1'!L69,'T2'!J69)+MAX('T1'!M69,'T2'!K69)+MAX('T1'!N69,'T2'!L69)","v":0},{"$f":"IF(COUNTRY_INFO!K69=1,IF(COUNTRY_INFO!F69*0.33>MAX('T1'!M69,'T2'!K69),MAX('T1'!M69,'T2'!K69),COUNTRY_INFO!F69*0.33),IF(COUNTRY_INFO!K69=2,IF(COUNTRY_INFO!F69*0.5>MAX('T1'!M69,'T2'!K69),MAX('T1'!M69,'T2'!K69),COUNTRY_INFO!F69*0.5),IF(COUNTRY_INFO!K69=3,IF(COUNTRY_INFO!F69>MAX('T1'!M69,'T2'!K69),MAX('T1'!M69,'T2'!K69),COUNTRY_INFO!F69),0)))","v":0},{"$f":"IF(AND(COUNTRY_INFO!K69>0,COUNTRY_INFO!K69<4),IF(Z69>0,IF(COUNTRY_INFO!K69=1, AD69/(COUNTRY_INFO!F69*0.33)*100, IF(COUNTRY_INFO!K69=2, AD69/(COUNTRY_INFO!F69*0.5)*100, IF(COUNTRY_INFO!K69=3, AD69/COUNTRY_INFO!F69*100))),\"-\"),0)","v":0},{"$f":"IF(COUNTRY_INFO!K69=2,IF(COUNTRY_INFO!G69*0.2>MAX('T1'!N69,'T2'!L69),MAX('T1'!N69,'T2'!L69),COUNTRY_INFO!G69*0.2),IF(COUNTRY_INFO!K69=3,IF(COUNTRY_INFO!G69>MAX('T1'!N69,'T2'!L69),MAX('T1'!N69,'T2'!L69),COUNTRY_INFO!G69),0))","v":0},{"$f":"IF(AND(COUNTRY_INFO!K69>0,COUNTRY_INFO!K69<4),IF(Z69>0,IF(COUNTRY_INFO!K69=1, 0, IF(COUNTRY_INFO!K69=2, AF69/(COUNTRY_INFO!G69*0.2)*100, IF(COUNTRY_INFO!K69=3, AF69/COUNTRY_INFO!G69*100))),\"-\"),0)","v":0},0,{"$f":"IF(AND(COUNTRY_INFO!K69>0,COUNTRY_INFO!K69<4), IF(AC69/Z69*100<>0, IF(AH69/Z69*100>100,100,AH69/Z69*100), \"-\"),0)","v":"-"},null,{"$f":"IF(AND(D69<>0, D69<>\"Unknown\",D69<>\"Stopped\",D69<>\"Not required\"),D69/COUNTRY_INFO!D69, 0)","v":1},{"$f":"IF(AND(J69<>0,J69<>\"Unknown\",J69<>\"Stopped\",J69<>\"Not required\"),J69/COUNTRY_INFO!D69, 0)","v":0},{"$f":"IF(AND(P69<>0,P69<>\"Unknown\",P69<>\"Not required\"),P69/(COUNTRY_INFO!E69+COUNTRY_INFO!F69), 0)","v":1},{"$f":"IF(AND(Z69<>0,Z69<>\"Unknown\",Z69<>\"Not required\"),IF(COUNTRY_INFO!K69=1,1,IF(COUNTRY_INFO!K69=2,0.5*COUNTRY_INFO!F69/(0.5*COUNTRY_INFO!F69+0.2*COUNTRY_INFO!G69),IF(COUNTRY_INFO!K69=3,COUNTRY_INFO!F69/(COUNTRY_INFO!F69+COUNTRY_INFO!G69)))),0)","v":0.51726253857676552},{"$f":"IF(AND(Z69<>0,Z69<>\"Unknown\",Z69<>\"Not required\"),IF(COUNTRY_INFO!K69=1,0,IF(COUNTRY_INFO!K69=2,0.2*COUNTRY_INFO!G69/(0.5*COUNTRY_INFO!F69+0.2*COUNTRY_INFO!G69),IF(COUNTRY_INFO!K69=3,COUNTRY_INFO!G69/(COUNTRY_INFO!F69+COUNTRY_INFO!G69)))),0)","v":0.48273746142323448},{"$f":"MAX(COUNTRY_INFO!D69*AK69*PROFILE!$G$7,COUNTRY_INFO!D69*AL69*PROFILE!$G$7)","v":4.0223772027849205E-3},{"$f":"MAX(COUNTRY_INFO!D69*AK69*PROFILE!$G$8,COUNTRY_INFO!D69*AL69*PROFILE!$G$8,COUNTRY_INFO!D69*AM69*PROFILE!$G$8)","v":28297.311416693035},{"$f":"MAX(COUNTRY_INFO!D69*AK69*PROFILE!$G$9,COUNTRY_INFO!D69*AL69*PROFILE!$G$9,COUNTRY_INFO!D69*AM69*PROFILE!$G$9,IF(AND(DISTRICT!Z69<>\"Unknown\",Z69<>\"Not required\"),COUNTRY_INFO!O69*DISTRICT!AN69,0))","v":49312.334052352773},{"$f":"MAX(COUNTRY_INFO!D69*AK69*PROFILE!$G$10,COUNTRY_INFO!D69*AL69*PROFILE!$G$10,IF(AND(DISTRICT!Z69<>\"Unknown\",Z69<>\"Not required\"),COUNTRY_INFO!O69*DISTRICT!AO69,0))","v":141749.35050857699},219359,0,{"$f":"MAX('MDA2'!J69,'T1'!L69,'T2'!J69,T3_R1!K69,T3_R2!K69)","v":0},{"$f":"MAX('MDA1'!K69,'MDA2'!K69,'MDA3'!I69,'MDA3'!L69,'T1'!M69,'T2'!K69,T3_R1!L69,T3_R2!L69)","v":54456},{"$f":"MAX('MDA1'!L69,'MDA2'!L69,'MDA3'!J69,'MDA3'!M69,'T1'!N69,'T2'!L69,T3_R1!M69,T3_R2!M69)","v":0},54456,{"$f":"MAX('MDA2'!J69,T69)","v":0},{"$f":"MAX('MDA1'!K69,'MDA2'!K69,'MDA3'!I69,'MDA3'!L69,V69,AD69)","v":54456},{"$f":"MAX('MDA1'!L69,'MDA2'!L69,'MDA3'!J69,'MDA3'!M69,AF69)","v":0},54456,24.825058465802634]
[{"$f":"IF(COUNTRY_INFO!A70=0,\" \",COUNTRY_INFO!A70)","v":"Tanzania"},{"$f":"IF(COUNTRY_INFO!B70=0,\" \",COUNTRY_INFO!B70)","v":"Lindi"},{"$f":"IF(COUNTRY_INFO!C70=0,\" \",COUNTRY_INFO!C70)","v":"Lindi District Council (Mtama District Council)"},{"$f":"COUNTRY_INFO!L70","v":208955.58071619543},null,null,{"$f":"MAX('MDA1'!M70,'MDA2'!M70)","v":0},{"$f":"IF(AND(COUNTRY_INFO!H70>0,COUNTRY_INFO!H70<4),IF(D70>MAX('MDA1'!M70,'MDA2'!M70),MAX('MDA1'!M70,'MDA2'!M70),D70),0)","v":0},{"$f":"IF(AND(COUNTRY_INFO!H70>0,COUNTRY_INFO!H70<4), IF(G70/D70*100<>0, IF(G70/D70*100>100,100,G70/D70*100), \"-\"),0)","v":"-"},{"$f":"COUNTRY_INFO!M70","v":0},null,null,{"$f":"MAX('MDA1'!M70,MAX('MDA3'!I70,'MDA3'!L70)+MAX('MDA3'!J70,'MDA3'!M70))","v":0},{"$f":"IF(AND(COUNTRY_INFO!I70>0,COUNTRY_INFO!I70<4),IF(J70>MAX('MDA1'!M70,MAX('MDA3'!I70,'MDA3'!L70)+MAX('MDA3'!J70,'MDA3'!M70)),MAX('MDA1'!M70,MAX('MDA3'!I70,'MDA3'!L70)+MAX('MDA3'!J70,'MDA3'!M70)),J70),0)","v":0},{"$f":"IF(AND(COUNTRY_INFO!I70>0,COUNTRY_INFO!I70<4), IF(M70/J70*100<>0, IF(M70/J70*100>100,100,M70/J70*100), \"-\"),0)","v":0},{"$f":"COUNTRY_INFO!N70","v":70513},null,null,{"$f":"SUM(MAX('MDA2'!J70, 'T1'!L70, MAX(T3_R1!K70, T3_R2!K70)), MAX('MDA1'!K70, 'MDA2'!K70, 'T1'!M70, MAX(T3_R1!L70, T3_R2!L70)), MAX('MDA1'!L70, 'MDA2'!L70, 'T1'!N70, MAX(T3_R1!M70, T3_R2!M70)))","v":42792},{"$f":"IF(AND(COUNTRY_INFO!J70>1,COUNTRY_INFO!J70<4),IF(COUNTRY_INFO!E70>MAX('MDA2'!J70,'T1'!L70,MAX(T3_R1!K70,T3_R2!K70)),MAX('MDA2'!J70,'T1'!L70,MAX(T3_R1!K70,T3_R2!K70)),COUNTRY_INFO!E70),0)","v":0},{"$f":"IF(AND(COUNTRY_INFO!J70>1,COUNTRY_INFO!J70<4), IF(T70/COUNTRY_INFO!E70*100<>0, IF(T70/COUNTRY_INFO!E70*100>100,100,T70/COUNTRY_INFO!E70*100), \"-\"),0)","v":"-"},{"$f":"IF(AND(COUNTRY_INFO!J70>1,COUNTRY_INFO!J70<4),IF(COUNTRY_INFO!F70>MAX('MDA1'!K70,'MDA2'!K70,'T1'!M70,MAX(T3_R1!L70,T3_R2!L70)),MAX('MDA1'!K70,'MDA2'!K70,'T1'!M70,MAX(T3_R1!L70,T3_R2!L70)),COUNTRY_INFO!F70),0)","v":42792},{"$f":"IF(AND(COUNTRY_INFO!J70>1,COUNTRY_INFO!J70<4), IF(V70/COUNTRY_INFO!F70*100<>0, IF(V70/COUNTRY_INFO!F70*100>100,100,V70/COUNTRY_INFO!F70*100), \"-\"),0)","v":98.241425226135277},42792,{"$f":"IF(AND(COUNTRY_INFO!J70>1,COUNTRY_INFO!J70<4), IF(S70/P70*100<>0, IF(X70/P70*100>100,100,X70/P70*100), \"-\"),0)","v":60.686681888446103},{"$f":"COUNTRY_INFO!O70","v":49467.516143239089},null,null,{"$f":"MAX('T1'!L70,'T2'!J70)+MAX('T1'!M70,'T2'!K70)+MAX('T1'!N70,'T2'!L70)","v":0},{"$f":"IF(COUNTRY_INFO!K70=1,IF(COUNTRY_INFO!F70*0.33>MAX('T1'!M70,'T2'!K70),MAX('T1'!M70,'T2'!K70),COUNTRY_INFO!F70*0.33),IF(COUNTRY_INFO!K70=2,IF(COUNTRY_INFO!F70*0.5>MAX('T1'!M70,'T2'!K70),MAX('T1'!M70,'T2'!K70),COUNTRY_INFO!F70*0.5),IF(COUNTRY_INFO!K70=3,IF(COUNTRY_INFO!F70>MAX('T1'!M70,'T2'!K70),MAX('T1'!M70,'T2'!K70),COUNTRY_INFO!F70),0)))","v":0},{"$f":"IF(AND(COUNTRY_INFO!K70>0,COUNTRY_INFO!K70<4),IF(Z70>0,IF(COUNTRY_INFO!K70=1, AD70/(COUNTRY_INFO!F70*0.33)*100, IF(COUNTRY_INFO!K70=2, AD70/(COUNTRY_INFO!F70*0.5)*100, IF(COUNTRY_INFO!K70=3, AD70/COUNTRY_INFO!F70*100))),\"-\"),0)","v":0},{"$f":"IF(COUNTRY_INFO!K70=2,IF(COUNTRY_INFO!G70*0.2>MAX('T1'!N70,'T2'!L70),MAX('T1'!N70,'T2'!L70),COUNTRY_INFO!G70*0.2),IF(COUNTRY_INFO!K70=3,IF(COUNTRY_INFO!G70>MAX('T1'!N70,'T2'!L70),MAX('T1'!N70,'T2'!L70),COUNTRY_INFO!G70),0))","v":0},{"$f":"IF(AND(COUNTRY_INFO!K70>0,COUNTRY_INFO!K70<4),IF(Z70>0,IF(COUNTRY_INFO!K70=1, 0, IF(COUNTRY_INFO!K70=2, AF70/(COUNTRY_INFO!G70*0.2)*100, IF(COUNTRY_INFO!K70=3, AF70/COUNTRY_INFO!G70*100))),\"-\"),0)","v":0},0,{"$f":"IF(AND(COUNTRY_INFO!K70>0,COUNTRY_INFO!K70<4), IF(AC70/Z70*100<>0, IF(AH70/Z70*100>100,100,AH70/Z70*100), \"-\"),0)","v":"-"},null,{"$f":"IF(AND(D70<>0, D70<>\"Unknown\",D70<>\"Stopped\",D70<>\"Not required\"),D70/COUNTRY_INFO!D70, 0)","v":1},{"$f":"IF(AND(J70<>0,J70<>\"Unknown\",J70<>\"Stopped\",J70<>\"Not required\"),J70/COUNTRY_INFO!D70, 0)","v":0},{"$f":"IF(AND(P70<>0,P70<>\"Unknown\",P70<>\"Not required\"),P70/(COUNTRY_INFO!E70+COUNTRY_INFO!F70), 0)","v":1},{"$f":"IF(AND(Z70<>0,Z70<>\"Unknown\",Z70<>\"Not required\"),IF(COUNTRY_INFO!K70=1,1,IF(COUNTRY_INFO!K70=2,0.5*COUNTRY_INFO!F70/(0.5*COUNTRY_INFO!F70+0.2*COUNTRY_INFO!G70),IF(COUNTRY_INFO!K70=3,COUNTRY_INFO!F70/(COUNTRY_INFO!F70+COUNTRY_INFO!G70)))),0)","v":0.44026871971772968},{"$f":"IF(AND(Z70<>0,Z70<>\"Unknown\",Z70<>\"Not required\"),IF(COUNTRY_INFO!K70=1,0,IF(COUNTRY_INFO!K70=2,0.2*COUNTRY_INFO!G70/(0.5*COUNTRY_INFO!F70+0.2*COUNTRY_INFO!G70),IF(COUNTRY_INFO!K70=3,COUNTRY_INFO!G70/(COUNTRY_INFO!F70+COUNTRY_INFO!G70)))),0)","v":0.55973128028227026},{"$f":"MAX(COUNTRY_INFO!D70*AK70*PROFILE!$G$7,COUNTRY_INFO!D70*AL70*PROFILE!$G$7)","v":3.8316101197922534E-3},{"$f":"MAX(COUNTRY_INFO!D70*AK70*PROFILE!$G$8,COUNTRY_INFO!D70*AL70*PROFILE!$G$8,COUNTRY_INFO!D70*AM70*PROFILE!$G$8)","v":26955.270309319974},{"$f":"MAX(COUNTRY_INFO!D70*AK70*PROFILE!$G$9,COUNTRY_INFO!D70*AL70*PROFILE!$G$9,COUNTRY_INFO!D70*AM70*PROFILE!$G$9,IF(AND(DISTRICT!Z70<>\"Unknown\",Z70<>\"Not required\"),COUNTRY_INFO!O70*DISTRICT!AN70,0))","v":46973.624963554685},{"$f":"MAX(COUNTRY_INFO!D70*AK70*PROFILE!$G$10,COUNTRY_INFO!D70*AL70*PROFILE!$G$10,IF(AND(DISTRICT!Z70<>\"Unknown\",Z70<>\"Not required\"),COUNTRY_INFO!O70*DISTRICT!AO70,0))","v":135026.68161171064},208955.5807161954,0,{"$f":"MAX('MDA2'!J70,'T1'!L70,'T2'!J70,T3_R1!K70,T3_R2!K70)","v":0},{"$f":"MAX('MDA1'!K70,'MDA2'!K70,'MDA3'!I70,'MDA3'!L70,'T1'!M70,'T2'!K70,T3_R1!L70,T3_R2!L70)","v":42792},{"$f":"MAX('MDA1'!L70,'MDA2'!L70,'MDA3'!J70,'MDA3'!M70,'T1'!N70,'T2'!L70,T3_R1!M70,T3_R2!M70)","v":0},42792,{"$f":"MAX('MDA2'!J70,T70)","v":0},{"$f":"MAX('MDA1'!K70,'MDA2'!K70,'MDA3'!I70,'MDA3'!L70,V70,AD70)","v":42792},{"$f":"MAX('MDA1'!L70,'MDA2'!L70,'MDA3'!J70,'MDA3'!M70,AF70)","v":0},42792,20.478993599180452]
[{"$f":"IF(COUNTRY_INFO!A71=0,\" \",COUNTRY_INFO!A71)","v":"Tanzania"},{"$f":"IF(COUNTRY_INFO!B71=0,\" \",COUNTRY_INFO!B71)","v":"Lindi"},{"$f":"IF(COUNTRY_INFO!C71=0,\" \",COUNTRY_INFO!C71)","v":"Lindi Municipal Council"},{"$f":"COUNTRY_INFO!L71","v":"Stopped"},null,null,{"$f":"MAX('MDA1'!M71,'MDA2'!M71)","v":0},{"$f":"IF(AND(COUNTRY_INFO!H71>0,COUNTRY_INFO!H71<4),IF(D71>MAX('MDA1'!M71,'MDA2'!M71),MAX('MDA1'!M71,'MDA2'!M71),D71),0)","v":0},{"$f":"IF(AND(COUNTRY_INFO!H71>0,COUNTRY_INFO!H71<4), IF(G71/D71*100<>0, IF(G71/D71*100>100,100,G71/D71*100), \"-\"),0)","v":0},{"$f":"COUNTRY_INFO!M71","v":0},null,null,{"$f":"MAX('MDA1'!M71,MAX('MDA3'!I71,'MDA3'!L71)+MAX('MDA3'!J71,'MDA3'!M71))","v":0},{"$f":"IF(AND(COUNTRY_INFO!I71>0,COUNTRY_INFO!I71<4),IF(J71>MAX('MDA1'!M71,MAX('MDA3'!I71,'MDA3'!L71)+MAX('MDA3'!J71,'MDA3'!M71)),MAX('MDA1'!M71,MAX('MDA3'!I71,'MDA3'!L71)+MAX('MDA3'!J71,'MDA3'!M71)),J71),0)","v":0},{"$f":"IF(AND(COUNTRY_INFO!I71>0,COUNTRY_INFO!I71<4), IF(M71/J71*100<>0, IF(M71/J71*100>100,100,M71/J71*100), \"-\"),0)","v":0},{"$f":"COUNTRY_INFO!N71","v":27766},null,null,{"$f":"SUM(MAX('MDA2'!J71, 'T1'!L71, MAX(T3_R1!K71, T3_R2!K71)), MAX('MDA1'!K71, 'MDA2'!K71, 'T1'!M71, MAX(T3_R1!L71, T3_R2!L71)), MAX('MDA1'!L71, 'MDA2'!L71, 'T1'!N71, MAX(T3_R1!M71, T3_R2!M71)))","v":16374},{"$f":"IF(AND(COUNTRY_INFO!J71>1,COUNTRY_INFO!J71<4),IF(COUNTRY_INFO!E71>MAX('MDA2'!J71,'T1'!L71,MAX(T3_R1!K71,T3_R2!K71)),MAX('MDA2'!J71,'T1'!L71,MAX(T3_R1!K71,T3_R2!K71)),COUNTRY_INFO!E71),0)","v":0},{"$f":"IF(AND(COUNTRY_INFO!J71>1,COUNTRY_INFO!J71<4), IF(T71/COUNTRY_INFO!E71*100<>0, IF(T71/COUNTRY_INFO!E71*100>100,100,T71/COUNTRY_INFO!E71*100), \"-\"),0)","v":"-"},{"$f":"IF(AND(COUNTRY_INFO!J71>1,COUNTRY_INFO!J71<4),IF(COUNTRY_INFO!F71>MAX('MDA1'!K71,'MDA2'!K71,'T1'!M71,MAX(T3_R1!L71,T3_R2!L71)),MAX('MDA1'!K71,'MDA2'!K71,'T1'!M71,MAX(T3_R1!L71,T3_R2!L71)),COUNTRY_INFO!F71),0)","v":16374},{"$f":"IF(AND(COUNTRY_INFO!J71>1,COUNTRY_INFO!J71<4), IF(V71/COUNTRY_INFO!F71*100<>0, IF(V71/COUNTRY_INFO!F71*100>100,100,V71/COUNTRY_INFO!F71*100), \"-\"),0)","v":97.354182769486883},16374,{"$f":"IF(AND(COUNTRY_INFO!J71>1,COUNTRY_INFO!J71<4), IF(S71/P71*100<>0, IF(X71/P71*100>100,100,X71/P71*100), \"-\"),0)","v":58.971403875243098},{"$f":"COUNTRY_INFO!O71","v":19827.655461683782},null,null,{"$f":"MAX('T1'!L71,'T2'!J71)+MAX('T1'!M71,'T2'!K71)+MAX('T1'!N71,'T2'!L71)","v":0},{"$f":"IF(COUNTRY_INFO!K71=1,IF(COUNTRY_INFO!F71*0.33>MAX('T1'!M71,'T2'!K71),MAX('T1'!M71,'T2'!K71),COUNTRY_INFO!F71*0.33),IF(COUNTRY_INFO!K71=2,IF(COUNTRY_INFO!F71*0.5>MAX('T1'!M71,'T2'!K71),MAX('T1'!M71,'T2'!K71),COUNTRY_INFO!F71*0.5),IF(COUNTRY_INFO!K71=3,IF(COUNTRY_INFO!F71>MAX('T1'!M71,'T2'!K71),MAX('T1'!M71,'T2'!K71),COUNTRY_INFO!F71),0)))","v":0},{"$f":"IF(AND(COUNTRY_INFO!K71>0,COUNTRY_INFO!K71<4),IF(Z71>0,IF(COUNTRY_INFO!K71=1, AD71/(COUNTRY_INFO!F71*0.33)*100, IF(COUNTRY_INFO!K71=2, AD71/(COUNTRY_INFO!F71*0.5)*100, IF(COUNTRY_INFO!K71=3, AD71/COUNTRY_INFO!F71*100))),\"-\"),0)","v":0},{"$f":"IF(COUNTRY_INFO!K71=2,IF(COUNTRY_INFO!G71*0.2>MAX('T1'!N71,'T2'!L71),MAX('T1'!N71,'T2'!L71),COUNTRY_INFO!G71*0.2),IF(COUNTRY_INFO!K71=3,IF(COUNTRY_INFO!G71>MAX('T1'!N71,'T2'!L71),MAX('T1'!N71,'T2'!L71),COUNTRY_INFO!G71),0))","v":0},{"$f":"IF(AND(COUNTRY_INFO!K71>0,COUNTRY_INFO!K71<4),IF(Z71>0,IF(COUNTRY_INFO!K71=1, 0, IF(COUNTRY_INFO!K71=2, AF71/(COUNTRY_INFO!G71*0.2)*100, IF(COUNTRY_INFO!K71=3, AF71/COUNTRY_INFO!G71*100))),\"-\"),0)","v":0},0,{"$f":"IF(AND(COUNTRY_INFO!K71>0,COUNTRY_INFO!K71<4), IF(AC71/Z71*100<>0, IF(AH71/Z71*100>100,100,AH71/Z71*100), \"-\"),0)","v":"-"},null,{"$f":"IF(AND(D71<>0, D71<>\"Unknown\",D71<>\"Stopped\",D71<>\"Not required\"),D71/COUNTRY_INFO!D71, 0)","v":0},{"$f":"IF(AND(J71<>0,J71<>\"Unknown\",J71<>\"Stopped\",J71<>\"Not required\"),J71/COUNTRY_INFO!D71, 0)","v":0},{"$f":"IF(AND(P71<>0,P71<>\"Unknown\",P71<>\"Not required\"),P71/(COUNTRY_INFO!E71+COUNTRY_INFO!F71), 0)","v":1},{"$f":"IF(AND(Z71<>0,Z71<>\"Unknown\",Z71<>\"Not required\"),IF(COUNTRY_INFO!K71=1,1,IF(COUNTRY_INFO!K71=2,0.5*COUNTRY_INFO!F71/(0.5*COUNTRY_INFO!F71+0.2*COUNTRY_INFO!G71),IF(COUNTRY_INFO!K71=3,COUNTRY_INFO!F71/(COUNTRY_INFO!F71+COUNTRY_INFO!G71)))),0)","v":0.42412982292591533},{"$f":"IF(AND(Z71<>0,Z71<>\"Unknown\",Z71<>\"Not required\"),IF(COUNTRY_INFO!K71=1,0,IF(COUNTRY_INFO!K71=2,0.2*COUNTRY_INFO!G71/(0.5*COUNTRY_INFO!F71+0.2*COUNTRY_INFO!G71),IF(COUNTRY_INFO!K71=3,COUNTRY_INFO!G71/(COUNTRY_INFO!F71+COUNTRY_INFO!G71)))),0)","v":0.57587017707408472},{"$f":"MAX(COUNTRY_INFO!D71*AK71*PROFILE!$G$7,COUNTRY_INFO!D71*AL71*PROFILE!$G$7)","v":0},{"$f":"MAX(COUNTRY_INFO!D71*AK71*PROFILE!$G$8,COUNTRY_INFO!D71*AL71*PROFILE!$G$8,COUNTRY_INFO!D71*AM71*PROFILE!$G$8)","v":10946.524433979463},{"$f":"MAX(COUNTRY_INFO!D71*AK71*PROFILE!$G$9,COUNTRY_INFO!D71*AL71*PROFILE!$G$9,COUNTRY_INFO!D71*AM71*PROFILE!$G$9,IF(AND(DISTRICT!Z71<>\"Unknown\",Z71<>\"Not required\"),COUNTRY_INFO!O71*DISTRICT!AN71,0))","v":19075.970209742303},{"$f":"MAX(COUNTRY_INFO!D71*AK71*PROFILE!$G$10,COUNTRY_INFO!D71*AL71*PROFILE!$G$10,IF(AND(DISTRICT!Z71<>\"Unknown\",Z71<>\"Not required\"),COUNTRY_INFO!O71*DISTRICT!AO71,0))","v":11418.155461683782},41440.650105405548,0,{"$f":"MAX('MDA2'!J71,'T1'!L71,'T2'!J71,T3_R1!K71,T3_R2!K71)","v":0},{"$f":"MAX('MDA1'!K71,'MDA2'!K71,'MDA3'!I71,'MDA3'!L71,'T1'!M71,'T2'!K71,T3_R1!L71,T3_R2!L71)","v":16374},{"$f":"MAX('MDA1'!L71,'MDA2'!L71,'MDA3'!J71,'MDA3'!M71,'T1'!N71,'T2'!L71,T3_R1!M71,T3_R2!M71)","v":0},16374,{"$f":"MAX('MDA2'!J71,T71)","v":0},{"$f":"MAX('MDA1'!K71,'MDA2'!K71,'MDA3'!I71,'MDA3'!L71,V71,AD71)","v":16374},{"$f":"MAX('MDA1'!L71,'MDA2'!L71,'MDA3'!J71,'MDA3'!M71,AF71)","v":0},16374,39.511928404482639]
[{"$f":"IF(COUNTRY_INFO!A72=0,\" \",COUNTRY_INFO!A72)","v":"Tanzania"},{"$f":"IF(COUNTRY_INFO!B72=0,\" \",COUNTRY_INFO!B72)","v":"Lindi"},{"$f":"IF(COUNTRY_INFO!C72=0,\" \",COUNTRY_INFO!C72)","v":"Liwale District Council"},{"$f":"COUNTRY_INFO!L72","v":"Stopped"},null,null,{"$f":"MAX('MDA1'!M72,'MDA2'!M72)","v":0},{"$f":"IF(AND(COUNTRY_INFO!H72>0,COUNTRY_INFO!H72<4),IF(D72>MAX('MDA1'!M72,'MDA2'!M72),MAX('MDA1'!M72,'MDA2'!M72),D72),0)","v":0},{"$f":"IF(AND(COUNTRY_INFO!H72>0,COUNTRY_INFO!H72<4), IF(G72/D72*100<>0, IF(G72/D72*100>100,100,G72/D72*100), \"-\"),0)","v":0},{"$f":"COUNTRY_INFO!M72","v":0},null,null,{"$f":"MAX('MDA1'!M72,MAX('MDA3'!I72,'MDA3'!L72)+MAX('MDA3'!J72,'MDA3'!M72))","v":0},{"$f":"IF(AND(COUNTRY_INFO!I72>0,COUNTRY_INFO!I72<4),IF(J72>MAX('MDA1'!M72,MAX('MDA3'!I72,'MDA3'!L72)+MAX('MDA3'!J72,'MDA3'!M72)),MAX('MDA1'!M72,MAX('MDA3'!I72,'MDA3'!L72)+MAX('MDA3'!J72,'MDA3'!M72)),J72),0)","v":0},{"$f":"IF(AND(COUNTRY_INFO!I72>0,COUNTRY_INFO!I72<4), IF(M72/J72*100<>0, IF(M72/J72*100>100,100,M72/J72*100), \"-\"),0)","v":0},{"$f":"COUNTRY_INFO!N72","v":37262},null,null,{"$f":"SUM(MAX('MDA2'!J72, 'T1'!L72, MAX(T3_R1!K72, T3_R2!K72)), MAX('MDA1'!K72, 'MDA2'!K72, 'T1'!M72, MAX(T3_R1!L72, T3_R2!L72)), MAX('MDA1'!L72, 'MDA2'!L72, 'T1'!N72, MAX(T3_R1!M72, T3_R2!M72)))","v":22467},{"$f":"IF(AND(COUNTRY_INFO!J72>1,COUNTRY_INFO!J72<4),IF(COUNTRY_INFO!E72>MAX('MDA2'!J72,'T1'!L72,MAX(T3_R1!K72,T3_R2!K72)),MAX('MDA2'!J72,'T1'!L72,MAX(T3_R1!K72,T3_R2!K72)),COUNTRY_INFO!E72),0)","v":0},{"$f":"IF(AND(COUNTRY_INFO!J72>1,COUNTRY_INFO!J72<4), IF(T72/COUNTRY_INFO!E72*100<>0, IF(T72/COUNTRY_INFO!E72*100>100,100,T72/COUNTRY_INFO!E72*100), \"-\"),0)","v":"-"},{"$f":"IF(AND(COUNTRY_INFO!J72>1,COUNTRY_INFO!J72<4),IF(COUNTRY_INFO!F72>MAX('MDA1'!K72,'MDA2'!K72,'T1'!M72,MAX(T3_R1!L72,T3_R2!L72)),MAX('MDA1'!K72,'MDA2'!K72,'T1'!M72,MAX(T3_R1!L72,T3_R2!L72)),COUNTRY_INFO!F72),0)","v":22467},{"$f":"IF(AND(COUNTRY_INFO!J72>1,COUNTRY_INFO!J72<4), IF(V72/COUNTRY_INFO!F72*100<>0, IF(V72/COUNTRY_INFO!F72*100>100,100,V72/COUNTRY_INFO!F72*100), \"-\"),0)","v":91.425897289818508},22467,{"$f":"IF(AND(COUNTRY_INFO!J72>1,COUNTRY_INFO!J72<4), IF(S72/P72*100<>0, IF(X72/P72*100>100,100,X72/P72*100), \"-\"),0)","v":60.294670173366974},{"$f":"COUNTRY_INFO!O72","v":24505.311379749292},null,null,{"$f":"MAX('T1'!L72,'T2'!J72)+MAX('T1'!M72,'T2'!K72)+MAX('T1'!N72,'T2'!L72)","v":0},{"$f":"IF(COUNTRY_INFO!K72=1,IF(COUNTRY_INFO!F72*0.33>MAX('T1'!M72,'T2'!K72),MAX('T1'!M72,'T2'!K72),COUNTRY_INFO!F72*0.33),IF(COUNTRY_INFO!K72=2,IF(COUNTRY_INFO!F72*0.5>MAX('T1'!M72,'T2'!K72),MAX('T1'!M72,'T2'!K72),COUNTRY_INFO!F72*0.5),IF(COUNTRY_INFO!K72=3,IF(COUNTRY_INFO!F72>MAX('T1'!M72,'T2'!K72),MAX('T1'!M72,'T2'!K72),COUNTRY_INFO!F72),0)))","v":0},{"$f":"IF(AND(COUNTRY_INFO!K72>0,COUNTRY_INFO!K72<4),IF(Z72>0,IF(COUNTRY_INFO!K72=1, AD72/(COUNTRY_INFO!F72*0.33)*100, IF(COUNTRY_INFO!K72=2, AD72/(COUNTRY_INFO!F72*0.5)*100, IF(COUNTRY_INFO!K72=3, AD72/COUNTRY_INFO!F72*100))),\"-\"),0)","v":0},{"$f":"IF(COUNTRY_INFO!K72=2,IF(COUNTRY_INFO!G72*0.2>MAX('T1'!N72,'T2'!L72),MAX('T1'!N72,'T2'!L72),COUNTRY_INFO!G72*0.2),IF(COUNTRY_INFO!K72=3,IF(COUNTRY_INFO!G72>MAX('T1'!N72,'T2'!L72),MAX('T1'!N72,'T2'!L72),COUNTRY_INFO!G72),0))","v":0},{"$f":"IF(AND(COUNTRY_INFO!K72>0,COUNTRY_INFO!K72<4),IF(Z72>0,IF(COUNTRY_INFO!K72=1, 0, IF(COUNTRY_INFO!K72=2, AF72/(COUNTRY_INFO!G72*0.2)*100, IF(COUNTRY_INFO!K72=3, AF72/COUNTRY_INFO!G72*100))),\"-\"),0)","v":0},0,{"$f":"IF(AND(COUNTRY_INFO!K72>0,COUNTRY_INFO!K72<4), IF(AC72/Z72*100<>0, IF(AH72/Z72*100>100,100,AH72/Z72*100), \"-\"),0)","v":"-"},null,{"$f":"IF(AND(D72<>0, D72<>\"Unknown\",D72<>\"Stopped\",D72<>\"Not required\"),D72/COUNTRY_INFO!D72, 0)","v":0},{"$f":"IF(AND(J72<>0,J72<>\"Unknown\",J72<>\"Stopped\",J72<>\"Not required\"),J72/COUNTRY_INFO!D72, 0)","v":0},{"$f":"IF(AND(P72<>0,P72<>\"Unknown\",P72<>\"Not required\"),P72/(COUNTRY_INFO!E72+COUNTRY_INFO!F72), 0)","v":1},{"$f":"IF(AND(Z72<>0,Z72<>\"Unknown\",Z72<>\"Not required\"),IF(COUNTRY_INFO!K72=1,1,IF(COUNTRY_INFO!K72=2,0.5*COUNTRY_INFO!F72/(0.5*COUNTRY_INFO!F72+0.2*COUNTRY_INFO!G72),IF(COUNTRY_INFO!K72=3,COUNTRY_INFO!F72/(COUNTRY_INFO!F72+COUNTRY_INFO!G72)))),0)","v":0.50140150474291612},{"$f":"IF(AND(Z72<>0,Z72<>\"Unknown\",Z72<>\"Not required\"),IF(COUNTRY_INFO!K72=1,0,IF(COUNTRY_INFO!K72=2,0.2*COUNTRY_INFO!G72/(0.5*COUNTRY_INFO!F72+0.2*COUNTRY_INFO!G72),IF(COUNTRY_INFO!K72=3,COUNTRY_INFO!G72/(COUNTRY_INFO!F72+COUNTRY_INFO!G72)))),0)","v":0.49859849525708388},{"$f":"MAX(COUNTRY_INFO!D72*AK72*PROFILE!$G$7,COUNTRY_INFO!D72*AL72*PROFILE!$G$7)","v":0},{"$f":"MAX(COUNTRY_INFO!D72*AK72*PROFILE!$G$8,COUNTRY_INFO!D72*AL72*PROFILE!$G$8,COUNTRY_INFO!D72*AM72*PROFILE!$G$8)","v":12687.609026770117},{"$f":"MAX(COUNTRY_INFO!D72*AK72*PROFILE!$G$9,COUNTRY_INFO!D72*AL72*PROFILE!$G$9,COUNTRY_INFO!D72*AM72*PROFILE!$G$9,IF(AND(DISTRICT!Z72<>\"Unknown\",Z72<>\"Not required\"),COUNTRY_INFO!O72*DISTRICT!AN72,0))","v":22110.072771247455},{"$f":"MAX(COUNTRY_INFO!D72*AK72*PROFILE!$G$10,COUNTRY_INFO!D72*AL72*PROFILE!$G$10,IF(AND(DISTRICT!Z72<>\"Unknown\",Z72<>\"Not required\"),COUNTRY_INFO!O72*DISTRICT!AO72,0))","v":12218.311379749292},47015.993177766861,0,{"$f":"MAX('MDA2'!J72,'T1'!L72,'T2'!J72,T3_R1!K72,T3_R2!K72)","v":0},{"$f":"MAX('MDA1'!K72,'MDA2'!K72,'MDA3'!I72,'MDA3'!L72,'T1'!M72,'T2'!K72,T3_R1!L72,T3_R2!L72)","v":22467},{"$f":"MAX('MDA1'!L72,'MDA2'!L72,'MDA3'!J72,'MDA3'!M72,'T1'!N72,'T2'!L72,T3_R1!M72,T3_R2!M72)","v":0},22467,{"$f":"MAX('MDA2'!J72,T72)","v":0},{"$f":"MAX('MDA1'!K72,'MDA2'!K72,'MDA3'!I72,'MDA3'!L72,V72,AD72)","v":22467},{"$f":"MAX('MDA1'!L72,'MDA2'!L72,'MDA3'!J72,'MDA3'!M72,AF72)","v":0},22467,47.785867066665091]
[{"$f":"IF(COUNTRY_INFO!A73=0,\" \",COUNTRY_INFO!A73)","v":"Tanzania"},{"$f":"IF(COUNTRY_INFO!B73=0,\" \",COUNTRY_INFO!B73)","v":"Lindi"},{"$f":"IF(COUNTRY_INFO!C73=0,\" \",COUNTRY_INFO!C73)","v":"Nachingwea District Council"},{"$f":"COUNTRY_INFO!L73","v":"Stopped"},null,null,{"$f":"MAX('MDA1'!M73,'MDA2'!M73)","v":0},{"$f":"IF(AND(COUNTRY_INFO!H73>0,COUNTRY_INFO!H73<4),IF(D73>MAX('MDA1'!M73,'MDA2'!M73),MAX('MDA1'!M73,'MDA2'!M73),D73),0)","v":0},{"$f":"IF(AND(COUNTRY_INFO!H73>0,COUNTRY_INFO!H73<4), IF(G73/D73*100<>0, IF(G73/D73*100>100,100,G73/D73*100), \"-\"),0)","v":0},{"$f":"COUNTRY_INFO!M73","v":0},null,null,{"$f":"MAX('MDA1'!M73,MAX('MDA3'!I73,'MDA3'!L73)+MAX('MDA3'!J73,'MDA3'!M73))","v":0},{"$f":"IF(AND(COUNTRY_INFO!I73>0,COUNTRY_INFO!I73<4),IF(J73>MAX('MDA1'!M73,MAX('MDA3'!I73,'MDA3'!L73)+MAX('MDA3'!J73,'MDA3'!M73)),MAX('MDA1'!M73,MAX('MDA3'!I73,'MDA3'!L73)+MAX('MDA3'!J73,'MDA3'!M73)),J73),0)","v":0},{"$f":"IF(AND(COUNTRY_INFO!I73>0,COUNTRY_INFO!I73<4), IF(M73/J73*100<>0, IF(M73/J73*100>100,100,M73/J73*100), \"-\"),0)","v":0},{"$f":"COUNTRY_INFO!N73","v":66318},null,null,{"$f":"SUM(MAX('MDA2'!J73, 'T1'!L73, MAX(T3_R1!K73, T3_R2!K73)), MAX('MDA1'!K73, 'MDA2'!K73, 'T1'!M73, MAX(T3_R1!L73, T3_R2!L73)), MAX('MDA1'!L73, 'MDA2'!L73, 'T1'!N73, MAX(T3_R1!M73, T3_R2!M73)))","v":39564},{"$f":"IF(AND(COUNTRY_INFO!J73>1,COUNTRY_INFO!J73<4),IF(COUNTRY_INFO!E73>MAX('MDA2'!J73,'T1'!L73,MAX(T3_R1!K73,T3_R2!K73)),MAX('MDA2'!J73,'T1'!L73,MAX(T3_R1!K73,T3_R2!K73)),COUNTRY_INFO!E73),0)","v":0},{"$f":"IF(AND(COUNTRY_INFO!J73>1,COUNTRY_INFO!J73<4), IF(T73/COUNTRY_INFO!E73*100<>0, IF(T73/COUNTRY_INFO!E73*100>100,100,T73/COUNTRY_INFO!E73*100), \"-\"),0)","v":"-"},{"$f":"IF(AND(COUNTRY_INFO!J73>1,COUNTRY_INFO!J73<4),IF(COUNTRY_INFO!F73>MAX('MDA1'!K73,'MDA2'!K73,'T1'!M73,MAX(T3_R1!L73,T3_R2!L73)),MAX('MDA1'!K73,'MDA2'!K73,'T1'!M73,MAX(T3_R1!L73,T3_R2!L73)),COUNTRY_INFO!F73),0)","v":39564},{"$f":"IF(AND(COUNTRY_INFO!J73>1,COUNTRY_INFO!J73<4), IF(V73/COUNTRY_INFO!F73*100<>0, IF(V73/COUNTRY_INFO!F73*100>100,100,V73/COUNTRY_INFO!F73*100), \"-\"),0)","v":95.243139142994707},39564,{"$f":"IF(AND(COUNTRY_INFO!J73>1,COUNTRY_INFO!J73<4), IF(S73/P73*100<>0, IF(X73/P73*100>100,100,X73/P73*100), \"-\"),0)","v":59.658011399620015},{"$f":"COUNTRY_INFO!O73","v":167302.913740035},null,null,{"$f":"MAX('T1'!L73,'T2'!J73)+MAX('T1'!M73,'T2'!K73)+MAX('T1'!N73,'T2'!L73)","v":39564},{"$f":"IF(COUNTRY_INFO!K73=1,IF(COUNTRY_INFO!F73*0.33>MAX('T1'!M73,'T2'!K73),MAX('T1'!M73,'T2'!K73),COUNTRY_INFO!F73*0.33),IF(COUNTRY_INFO!K73=2,IF(COUNTRY_INFO!F73*0.5>MAX('T1'!M73,'T2'!K73),MAX('T1'!M73,'T2'!K73),COUNTRY_INFO!F73*0.5),IF(COUNTRY_INFO!K73=3,IF(COUNTRY_INFO!F73>MAX('T1'!M73,'T2'!K73),MAX('T1'!M73,'T2'!K73),COUNTRY_INFO!F73),0)))","v":39564},{"$f":"IF(AND(COUNTRY_INFO!K73>0,COUNTRY_INFO!K73<4),IF(Z73>0,IF(COUNTRY_INFO!K73=1, AD73/(COUNTRY_INFO!F73*0.33)*100, IF(COUNTRY_INFO!K73=2, AD73/(COUNTRY_INFO!F73*0.5)*100, IF(COUNTRY_INFO!K73=3, AD73/COUNTRY_INFO!F73*100))),\"-\"),0)","v":95.243139142994707},{"$f":"IF(COUNTRY_INFO!K73=2,IF(COUNTRY_INFO!G73*0.2>MAX('T1'!N73,'T2'!L73),MAX('T1'!N73,'T2'!L73),COUNTRY_INFO!G73*0.2),IF(COUNTRY_INFO!K73=3,IF(COUNTRY_INFO!G73>MAX('T1'!N73,'T2'!L73),MAX('T1'!N73,'T2'!L73),COUNTRY_INFO!G73),0))","v":0},{"$f":"IF(AND(COUNTRY_INFO!K73>0,COUNTRY_INFO!K73<4),IF(Z73>0,IF(COUNTRY_INFO!K73=1, 0, IF(COUNTRY_INFO!K73=2, AF73/(COUNTRY_INFO!G73*0.2)*100, IF(COUNTRY_INFO!K73=3, AF73/COUNTRY_INFO!G73*100))),\"-\"),0)","v":0},39564,{"$f":"IF(AND(COUNTRY_INFO!K73>0,COUNTRY_INFO!K73<4), IF(AC73/Z73*100<>0, IF(AH73/Z73*100>100,100,AH73/Z73*100), \"-\"),0)","v":23.648123703019806},null,{"$f":"IF(AND(D73<>0, D73<>\"Unknown\",D73<>\"Stopped\",D73<>\"Not required\"),D73/COUNTRY_INFO!D73, 0)","v":0},{"$f":"IF(AND(J73<>0,J73<>\"Unknown\",J73<>\"Stopped\",J73<>\"Not required\"),J73/COUNTRY_INFO!D73, 0)","v":0},{"$f":"IF(AND(P73<>0,P73<>\"Unknown\",P73<>\"Not required\"),P73/(COUNTRY_INFO!E73+COUNTRY_INFO!F73), 0)","v":1},{"$f":"IF(AND(Z73<>0,Z73<>\"Unknown\",Z73<>\"Not required\"),IF(COUNTRY_INFO!K73=1,1,IF(COUNTRY_INFO!K73=2,0.5*COUNTRY_INFO!F73/(0.5*COUNTRY_INFO!F73+0.2*COUNTRY_INFO!G73),IF(COUNTRY_INFO!K73=3,COUNTRY_INFO!F73/(COUNTRY_INFO!F73+COUNTRY_INFO!G73)))),0)","v":0.24829214908084188},{"$f":"IF(AND(Z73<>0,Z73<>\"Unknown\",Z73<>\"Not required\"),IF(COUNTRY_INFO!K73=1,0,IF(COUNTRY_INFO!K73=2,0.2*COUNTRY_INFO!G73/(0.5*COUNTRY_INFO!F73+0.2*COUNTRY_INFO!G73),IF(COUNTRY_INFO!K73=3,COUNTRY_INFO!G73/(COUNTRY_INFO!F73+COUNTRY_INFO!G73)))),0)","v":0.75170785091915815},{"$f":"MAX(COUNTRY_INFO!D73*AK73*PROFILE!$G$7,COUNTRY_INFO!D73*AL73*PROFILE!$G$7)","v":0},{"$f":"MAX(COUNTRY_INFO!D73*AK73*PROFILE!$G$8,COUNTRY_INFO!D73*AL73*PROFILE!$G$8,COUNTRY_INFO!D73*AM73*PROFILE!$G$8)","v":24778.438237340262},{"$f":"MAX(COUNTRY_INFO!D73*AK73*PROFILE!$G$9,COUNTRY_INFO!D73*AL73*PROFILE!$G$9,COUNTRY_INFO!D73*AM73*PROFILE!$G$9,IF(AND(DISTRICT!Z73<>\"Unknown\",Z73<>\"Not required\"),COUNTRY_INFO!O73*DISTRICT!AN73,0))","v":43180.166683061849},{"$f":"MAX(COUNTRY_INFO!D73*AK73*PROFILE!$G$10,COUNTRY_INFO!D73*AL73*PROFILE!$G$10,IF(AND(DISTRICT!Z73<>\"Unknown\",Z73<>\"Not required\"),COUNTRY_INFO!O73*DISTRICT!AO73,0))","v":125762.913740035},193721.51866043711,"Y",{"$f":"MAX('MDA2'!J73,'T1'!L73,'T2'!J73,T3_R1!K73,T3_R2!K73)","v":0},{"$f":"MAX('MDA1'!K73,'MDA2'!K73,'MDA3'!I73,'MDA3'!L73,'T1'!M73,'T2'!K73,T3_R1!L73,T3_R2!L73)","v":39564},{"$f":"MAX('MDA1'!L73,'MDA2'!L73,'MDA3'!J73,'MDA3'!M73,'T1'!N73,'T2'!L73,T3_R1!M73,T3_R2!M73)","v":0},39564,{"$f":"MAX('MDA2'!J73,T73)","v":0},{"$f":"MAX('MDA1'!K73,'MDA2'!K73,'MDA3'!I73,'MDA3'!L73,V73,AD73)","v":39564},{"$f":"MAX('MDA1'!L73,'MDA2'!L73,'MDA3'!J73,'MDA3'!M73,AF73)","v":0},39564,20.423131241991435]
[{"$f":"IF(COUNTRY_INFO!A74=0,\" \",COUNTRY_INFO!A74)","v":"Tanzania"},{"$f":"IF(COUNTRY_INFO!B74=0,\" \",COUNTRY_INFO!B74)","v":"Lindi"},{"$f":"IF(COUNTRY_INFO!C74=0,\" \",COUNTRY_INFO!C74)","v":"Ruangwa District Council"},{"$f":"COUNTRY_INFO!L74","v":"Stopped"},null,null,{"$f":"MAX('MDA1'!M74,'MDA2'!M74)","v":0},{"$f":"IF(AND(COUNTRY_INFO!H74>0,COUNTRY_INFO!H74<4),IF(D74>MAX('MDA1'!M74,'MDA2'!M74),MAX('MDA1'!M74,'MDA2'!M74),D74),0)","v":0},{"$f":"IF(AND(COUNTRY_INFO!H74>0,COUNTRY_INFO!H74<4), IF(G74/D74*100<>0, IF(G74/D74*100>100,100,G74/D74*100), \"-\"),0)","v":0},{"$f":"COUNTRY_INFO!M74","v":0},null,null,{"$f":"MAX('MDA1'!M74,MAX('MDA3'!I74,'MDA3'!L74)+MAX('MDA3'!J74,'MDA3'!M74))","v":0},{"$f":"IF(AND(COUNTRY_INFO!I74>0,COUNTRY_INFO!I74<4),IF(J74>MAX('MDA1'!M74,MAX('MDA3'!I74,'MDA3'!L74)+MAX('MDA3'!J74,'MDA3'!M74)),MAX('MDA1'!M74,MAX('MDA3'!I74,'MDA3'!L74)+MAX('MDA3'!J74,'MDA3'!M74)),J74),0)","v":0},{"$f":"IF(AND(COUNTRY_INFO!I74>0,COUNTRY_INFO!I74<4), IF(M74/J74*100<>0, IF(M74/J74*100>100,100,M74/J74*100), \"-\"),0)","v":0},{"$f":"COUNTRY_INFO!N74","v":47230},null,null,{"$f":"SUM(MAX('MDA2'!J74, 'T1'!L74, MAX(T3_R1!K74, T3_R2!K74)), MAX('MDA1'!K74, 'MDA2'!K74, 'T1'!M74, MAX(T3_R1!L74, T3_R2!L74)), MAX('MDA1'!L74, 'MDA2'!L74, 'T1'!N74, MAX(T3_R1!M74, T3_R2!M74)))","v":26416},{"$f":"IF(AND(COUNTRY_INFO!J74>1,COUNTRY_INFO!J74<4),IF(COUNTRY_INFO!E74>MAX('MDA2'!J74,'T1'!L74,MAX(T3_R1!K74,T3_R2!K74)),MAX('MDA2'!J74,'T1'!L74,MAX(T3_R1!K74,T3_R2!K74)),COUNTRY_INFO!E74),0)","v":0},{"$f":"IF(AND(COUNTRY_INFO!J74>1,COUNTRY_INFO!J74<4), IF(T74/COUNTRY_INFO!E74*100<>0, IF(T74/COUNTRY_INFO!E74*100>100,100,T74/COUNTRY_INFO!E74*100), \"-\"),0)","v":"-"},{"$f":"IF(AND(COUNTRY_INFO!J74>1,COUNTRY_INFO!J74<4),IF(COUNTRY_INFO!F74>MAX('MDA1'!K74,'MDA2'!K74,'T1'!M74,MAX(T3_R1!L74,T3_R2!L74)),MAX('MDA1'!K74,'MDA2'!K74,'T1'!M74,MAX(T3_R1!L74,T3_R2!L74)),COUNTRY_INFO!F74),0)","v":26416},{"$f":"IF(AND(COUNTRY_INFO!J74>1,COUNTRY_INFO!J74<4), IF(V74/COUNTRY_INFO!F74*100<>0, IF(V74/COUNTRY_INFO!F74*100>100,100,V74/COUNTRY_INFO!F74*100), \"-\"),0)","v":90.992387447900526},{"$f":"SUM(T74,V74)","v":26416},{"$f":"IF(AND(COUNTRY_INFO!J74>1,COUNTRY_INFO!J74<4), IF(S74/P74*100<>0, IF(X74/P74*100>100,100,X74/P74*100), \"-\"),0)","v":55.930552614863437},{"$f":"COUNTRY_INFO!O74","v":122882.02099961435},null,null,{"$f":"MAX('T1'!L74,'T2'!J74)+MAX('T1'!M74,'T2'!K74)+MAX('T1'!N74,'T2'!L74)","v":26416},{"$f":"IF(COUNTRY_INFO!K74=1,IF(COUNTRY_INFO!F74*0.33>MAX('T1'!M74,'T2'!K74),MAX('T1'!M74,'T2'!K74),COUNTRY_INFO!F74*0.33),IF(COUNTRY_INFO!K74=2,IF(COUNTRY_INFO!F74*0.5>MAX('T1'!M74,'T2'!K74),MAX('T1'!M74,'T2'!K74),COUNTRY_INFO!F74*0.5),IF(COUNTRY_INFO!K74=3,IF(COUNTRY_INFO!F74>MAX('T1'!M74,'T2'!K74),MAX('T1'!M74,'T2'!K74),COUNTRY_INFO!F74),0)))","v":26416},{"$f":"IF(AND(COUNTRY_INFO!K74>0,COUNTRY_INFO!K74<4),IF(Z74>0,IF(COUNTRY_INFO!K74=1, AD74/(COUNTRY_INFO!F74*0.33)*100, IF(COUNTRY_INFO!K74=2, AD74/(COUNTRY_INFO!F74*0.5)*100, IF(COUNTRY_INFO!K74=3, AD74/COUNTRY_INFO!F74*100))),\"-\"),0)","v":90.992387447900526},{"$f":"IF(COUNTRY_INFO!K74=2,IF(COUNTRY_INFO!G74*0.2>MAX('T1'!N74,'T2'!L74),MAX('T1'!N74,'T2'!L74),COUNTRY_INFO!G74*0.2),IF(COUNTRY_INFO!K74=3,IF(COUNTRY_INFO!G74>MAX('T1'!N74,'T2'!L74),MAX('T1'!N74,'T2'!L74),COUNTRY_INFO!G74),0))","v":0},{"$f":"IF(AND(COUNTRY_INFO!K74>0,COUNTRY_INFO!K74<4),IF(Z74>0,IF(COUNTRY_INFO!K74=1, 0, IF(COUNTRY_INFO!K74=2, AF74/(COUNTRY_INFO!G74*0.2)*100, IF(COUNTRY_INFO!K74=3, AF74/COUNTRY_INFO!G74*100))),\"-\"),0)","v":0},{"$f":"SUM(AD74,AF74)","v":26416},{"$f":"IF(AND(COUNTRY_INFO!K74>0,COUNTRY_INFO!K74<4), IF(AC74/Z74*100<>0, IF(AH74/Z74*100>100,100,AH74/Z74*100), \"-\"),0)","v":21.497042272834122},null,{"$f":"IF(AND(D74<>0, D74<>\"Unknown\",D74<>\"Stopped\",D74<>\"Not required\"),D74/COUNTRY_INFO!D74, 0)","v":0},{"$f":"IF(AND(J74<>0,J74<>\"Unknown\",J74<>\"Stopped\",J74<>\"Not required\"),J74/COUNTRY_INFO!D74, 0)","v":0},{"$f":"IF(AND(P74<>0,P74<>\"Unknown\",P74<>\"Not required\"),P74/(COUNTRY_INFO!E74+COUNTRY_INFO!F74), 0)","v":1},{"$f":"IF(AND(Z74<>0,Z74<>\"Unknown\",Z74<>\"Not required\"),IF(COUNTRY_INFO!K74=1,1,IF(COUNTRY_INFO!K74=2,0.5*COUNTRY_INFO!F74/(0.5*COUNTRY_INFO!F74+0.2*COUNTRY_INFO!G74),IF(COUNTRY_INFO!K74=3,COUNTRY_INFO!F74/(COUNTRY_INFO!F74+COUNTRY_INFO!G74)))),0)","v":0.23625099720724083},{"$f":"IF(AND(Z74<>0,Z74<>\"Unknown\",Z74<>\"Not required\"),IF(COUNTRY_INFO!K74=1,0,IF(COUNTRY_INFO!K74=2,0.2*COUNTRY_INFO!G74/(0.5*COUNTRY_INFO!F74+0.2*COUNTRY_INFO!G74),IF(COUNTRY_INFO!K74=3,COUNTRY_INFO!G74/(COUNTRY_INFO!F74+COUNTRY_INFO!G74)))),0)","v":0.76374900279275915},{"$f":"MAX(COUNTRY_INFO!D74*AK74*PROFILE!$G$7,COUNTRY_INFO!D74*AL74*PROFILE!$G$7)","v":0},{"$f":"MAX(COUNTRY_INFO!D74*AK74*PROFILE!$G$8,COUNTRY_INFO!D74*AL74*PROFILE!$G$8,COUNTRY_INFO!D74*AM74*PROFILE!$G$8)","v":18199.451976946912},{"$f":"MAX(COUNTRY_INFO!D74*AK74*PROFILE!$G$9,COUNTRY_INFO!D74*AL74*PROFILE!$G$9,COUNTRY_INFO!D74*AM74*PROFILE!$G$9,IF(AND(DISTRICT!Z74<>\"Unknown\",Z74<>\"Not required\"),COUNTRY_INFO!O74*DISTRICT!AN74,0))","v":31715.290623954246},{"$f":"MAX(COUNTRY_INFO!D74*AK74*PROFILE!$G$10,COUNTRY_INFO!D74*AL74*PROFILE!$G$10,IF(AND(DISTRICT!Z74<>\"Unknown\",Z74<>\"Not required\"),COUNTRY_INFO!O74*DISTRICT!AO74,0))","v":93851.020999614353},{"$f":"SUM(AP74:AS74)","v":143765.76360051549},{"$f":"IF(COUNTIFS(AK74:AN74,\">0\")=0,0, IF(COUNTIFS(AK74:AN74,\">0\")<=IF(AND(OR(D74>=0,D74=\"Not required\",D74=\"Unknown\",D74=\"Stopped\"),D74>0,H74>0),1,0)+IF(AND(OR(J74>=0,J74=\"Not required\",J74=\"Unknown\",J74=\"Stopped\"),J74>0,N74>0),1,0)+IF(AND(OR(P74>=0,P74=\"Not required\",P74=\"Unknown\"),P74>0,X74>0),1,0)+IF(AND(OR(Z74>=0,Z74=\"Not required\",Z74=\"Unknown\"),Z74>0,AH74>0),1,0),\"Y\",0))","v":"Y"},{"$f":"MAX('MDA2'!J74,'T1'!L74,'T2'!J74,T3_R1!K74,T3_R2!K74)","v":0},{"$f":"MAX('MDA1'!K74,'MDA2'!K74,'MDA3'!I74,'MDA3'!L74,'T1'!M74,'T2'!K74,T3_R1!L74,T3_R2!L74)","v":26416},{"$f":"MAX('MDA1'!L74,'MDA2'!L74,'MDA3'!J74,'MDA3'!M74,'T1'!N74,'T2'!L74,T3_R1!M74,T3_R2!M74)","v":0},{"$f":"SUM(AV74:AX74)","v":26416},{"$f":"MAX('MDA2'!J74,T74)","v":0},{"$f":"MAX('MDA1'!K74,'MDA2'!K74,'MDA3'!I74,'MDA3'!L74,V74,AD74)","v":26416},{"$f":"MAX('MDA1'!L74,'MDA2'!L74,'MDA3'!J74,'MDA3'!M74,AF74)","v":0},{"$f":"IF(AT74<SUM(AZ74:BB74), AT74,SUM(AZ74:BB74))","v":26416},{"$f":"IF(AT74<>0,BC74/AT74*100,0)","v":18.374332899870801}]
[{"$f":"IF(COUNTRY_INFO!A75=0,\" \",COUNTRY_INFO!A75)","v":"Tanzania"},{"$f":"IF(COUNTRY_INFO!B75=0,\" \",COUNTRY_INFO!B75)","v":"Manyara"},{"$f":"IF(COUNTRY_INFO!C75=0,\" \",COUNTRY_INFO!C75)","v":"Babati District Council"},{"$f":"COUNTRY_INFO!L75","v":"Stopped"},null,null,{"$f":"MAX('MDA1'!M75,'MDA2'!M75)","v":0},{"$f":"IF(AND(COUNTRY_INFO!H75>0,COUNTRY_INFO!H75<4),IF(D75>MAX('MDA1'!M75,'MDA2'!M75),MAX('MDA1'!M75,'MDA2'!M75),D75),0)","v":0},{"$f":"IF(AND(COUNTRY_INFO!H75>0,COUNTRY_INFO!H75<4), IF(G75/D75*100<>0, IF(G75/D75*100>100,100,G75/D75*100), \"-\"),0)","v":0},{"$f":"COUNTRY_INFO!M75","v":0},null,null,{"$f":"MAX('MDA1'!M75,MAX('MDA3'!I75,'MDA3'!L75)+MAX('MDA3'!J75,'MDA3'!M75))","v":0},{"$f":"IF(AND(COUNTRY_INFO!I75>0,COUNTRY_INFO!I75<4),IF(J75>MAX('MDA1'!M75,MAX('MDA3'!I75,'MDA3'!L75)+MAX('MDA3'!J75,'MDA3'!M75)),MAX('MDA1'!M75,MAX('MDA3'!I75,'MDA3'!L75)+MAX('MDA3'!J75,'MDA3'!M75)),J75),0)","v":0},{"$f":"IF(AND(COUNTRY_INFO!I75>0,COUNTRY_INFO!I75<4), IF(M75/J75*100<>0, IF(M75/J75*100>100,100,M75/J75*100), \"-\"),0)","v":0},{"$f":"COUNTRY_INFO!N75","v":136188},null,null,{"$f":"SUM(MAX('MDA2'!J75, 'T1'!L75, MAX(T3_R1!K75, T3_R2!K75)), MAX('MDA1'!K75, 'MDA2'!K75, 'T1'!M75, MAX(T3_R1!L75, T3_R2!L75)), MAX('MDA1'!L75, 'MDA2'!L75, 'T1'!N75, MAX(T3_R1!M75, T3_R2!M75)))","v":82533},{"$f":"IF(AND(COUNTRY_INFO!J75>1,COUNTRY_INFO!J75<4),IF(COUNTRY_INFO!E75>MAX('MDA2'!J75,'T1'!L75,MAX(T3_R1!K75,T3_R2!K75)),MAX('MDA2'!J75,'T1'!L75,MAX(T3_R1!K75,T3_R2!K75)),COUNTRY_INFO!E75),0)","v":0},{"$f":"IF(AND(COUNTRY_INFO!J75>1,COUNTRY_INFO!J75<4), IF(T75/COUNTRY_INFO!E75*100<>0, IF(T75/COUNTRY_INFO!E75*100>100,100,T75/COUNTRY_INFO!E75*100), \"-\"),0)","v":"-"},{"$f":"IF(AND(COUNTRY_INFO!J75>1,COUNTRY_INFO!J75<4),IF(COUNTRY_INFO!F75>MAX('MDA1'!K75,'MDA2'!K75,'T1'!M75,MAX(T3_R1!L75,T3_R2!L75)),MAX('MDA1'!K75,'MDA2'!K75,'T1'!M75,MAX(T3_R1!L75,T3_R2!L75)),COUNTRY_INFO!F75),0)","v":82533},{"$f":"IF(AND(COUNTRY_INFO!J75>1,COUNTRY_INFO!J75<4), IF(V75/COUNTRY_INFO!F75*100<>0, IF(V75/COUNTRY_INFO!F75*100>100,100,V75/COUNTRY_INFO!F75*100), \"-\"),0)","v":97.928309543302603},82533,{"$f":"IF(AND(COUNTRY_INFO!J75>1,COUNTRY_INFO!J75<4), IF(S75/P75*100<>0, IF(X75/P75*100>100,100,X75/P75*100), \"-\"),0)","v":60.602255705348483},{"$f":"COUNTRY_INFO!O75","v":95380.263211894344},null,null,{"$f":"MAX('T1'!L75,'T2'!J75)+MAX('T1'!M75,'T2'!K75)+MAX('T1'!N75,'T2'!L75)","v":0},{"$f":"IF(COUNTRY_INFO!K75=1,IF(COUNTRY_INFO!F75*0.33>MAX('T1'!M75,'T2'!K75),MAX('T1'!M75,'T2'!K75),COUNTRY_INFO!F75*0.33),IF(COUNTRY_INFO!K75=2,IF(COUNTRY_INFO!F75*0.5>MAX('T1'!M75,'T2'!K75),MAX('T1'!M75,'T2'!K75),COUNTRY_INFO!F75*0.5),IF(COUNTRY_INFO!K75=3,IF(COUNTRY_INFO!F75>MAX('T1'!M75,'T2'!K75),MAX('T1'!M75,'T2'!K75),COUNTRY_INFO!F75),0)))","v":0},{"$f":"IF(AND(COUNTRY_INFO!K75>0,COUNTRY_INFO!K75<4),IF(Z75>0,IF(COUNTRY_INFO!K75=1, AD75/(COUNTRY_INFO!F75*0.33)*100, IF(COUNTRY_INFO!K75=2, AD75/(COUNTRY_INFO!F75*0.5)*100, IF(COUNTRY_INFO!K75=3, AD75/COUNTRY_INFO!F75*100))),\"-\"),0)","v":0},{"$f":"IF(COUNTRY_INFO!K75=2,IF(COUNTRY_INFO!G75*0.2>MAX('T1'!N75,'T2'!L75),MAX('T1'!N75,'T2'!L75),COUNTRY_INFO!G75*0.2),IF(COUNTRY_INFO!K75=3,IF(COUNTRY_INFO!G75>MAX('T1'!N75,'T2'!L75),MAX('T1'!N75,'T2'!L75),COUNTRY_INFO!G75),0))","v":0},{"$f":"IF(AND(COUNTRY_INFO!K75>0,COUNTRY_INFO!K75<4),IF(Z75>0,IF(COUNTRY_INFO!K75=1, 0, IF(COUNTRY_INFO!K75=2, AF75/(COUNTRY_INFO!G75*0.2)*100, IF(COUNTRY_INFO!K75=3, AF75/COUNTRY_INFO!G75*100))),\"-\"),0)","v":0},0,{"$f":"IF(AND(COUNTRY_INFO!K75>0,COUNTRY_INFO!K75<4), IF(AC75/Z75*100<>0, IF(AH75/Z75*100>100,100,AH75/Z75*100), \"-\"),0)","v":"-"},null,{"$f":"IF(AND(D75<>0, D75<>\"Unknown\",D75<>\"Stopped\",D75<>\"Not required\"),D75/COUNTRY_INFO!D75, 0)","v":0},{"$f":"IF(AND(J75<>0,J75<>\"Unknown\",J75<>\"Stopped\",J75<>\"Not required\"),J75/COUNTRY_INFO!D75, 0)","v":0},{"$f":"IF(AND(P75<>0,P75<>\"Unknown\",P75<>\"Not required\"),P75/(COUNTRY_INFO!E75+COUNTRY_INFO!F75), 0)","v":1},{"$f":"IF(AND(Z75<>0,Z75<>\"Unknown\",Z75<>\"Not required\"),IF(COUNTRY_INFO!K75=1,1,IF(COUNTRY_INFO!K75=2,0.5*COUNTRY_INFO!F75/(0.5*COUNTRY_INFO!F75+0.2*COUNTRY_INFO!G75),IF(COUNTRY_INFO!K75=3,COUNTRY_INFO!F75/(COUNTRY_INFO!F75+COUNTRY_INFO!G75)))),0)","v":0.44180523916550712},{"$f":"IF(AND(Z75<>0,Z75<>\"Unknown\",Z75<>\"Not required\"),IF(COUNTRY_INFO!K75=1,0,IF(COUNTRY_INFO!K75=2,0.2*COUNTRY_INFO!G75/(0.5*COUNTRY_INFO!F75+0.2*COUNTRY_INFO!G75),IF(COUNTRY_INFO!K75=3,COUNTRY_INFO!G75/(COUNTRY_INFO!F75+COUNTRY_INFO!G75)))),0)","v":0.55819476083449293},{"$f":"MAX(COUNTRY_INFO!D75*AK75*PROFILE!$G$7,COUNTRY_INFO!D75*AL75*PROFILE!$G$7)","v":0},{"$f":"MAX(COUNTRY_INFO!D75*AK75*PROFILE!$G$8,COUNTRY_INFO!D75*AL75*PROFILE!$G$8,COUNTRY_INFO!D75*AM75*PROFILE!$G$8)","v":51908.545036052928},{"$f":"MAX(COUNTRY_INFO!D75*AK75*PROFILE!$G$9,COUNTRY_INFO!D75*AL75*PROFILE!$G$9,COUNTRY_INFO!D75*AM75*PROFILE!$G$9,IF(AND(DISTRICT!Z75<>\"Unknown\",Z75<>\"Not required\"),COUNTRY_INFO!O75*DISTRICT!AN75,0))","v":90458.470605070048},{"$f":"MAX(COUNTRY_INFO!D75*AK75*PROFILE!$G$10,COUNTRY_INFO!D75*AL75*PROFILE!$G$10,IF(AND(DISTRICT!Z75<>\"Unknown\",Z75<>\"Not required\"),COUNTRY_INFO!O75*DISTRICT!AO75,0))","v":53240.763211894351},195607.77885301731,0,{"$f":"MAX('MDA2'!J75,'T1'!L75,'T2'!J75,T3_R1!K75,T3_R2!K75)","v":0},{"$f":"MAX('MDA1'!K75,'MDA2'!K75,'MDA3'!I75,'MDA3'!L75,'T1'!M75,'T2'!K75,T3_R1!L75,T3_R2!L75)","v":82533},{"$f":"MAX('MDA1'!L75,'MDA2'!L75,'MDA3'!J75,'MDA3'!M75,'T1'!N75,'T2'!L75,T3_R1!M75,T3_R2!M75)","v":0},82533,{"$f":"MAX('MDA2'!J75,T75)","v":0},{"$f":"MAX('MDA1'!K75,'MDA2'!K75,'MDA3'!I75,'MDA3'!L75,V75,AD75)","v":82533},{"$f":"MAX('MDA1'!L75,'MDA2'!L75,'MDA3'!J75,'MDA3'!M75,AF75)","v":0},82533,42.193107290491021]
[{"$f":"IF(COUNTRY_INFO!A76=0,\" \",COUNTRY_INFO!A76)","v":"Tanzania"},{"$f":"IF(COUNTRY_INFO!B76=0,\" \",COUNTRY_INFO!B76)","v":"Manyara"},{"$f":"IF(COUNTRY_INFO!C76=0,\" \",COUNTRY_INFO!C76)","v":"Babati Town Council"},{"$f":"COUNTRY_INFO!L76","v":"Stopped"},null,null,{"$f":"MAX('MDA1'!M76,'MDA2'!M76)","v":0},{"$f":"IF(AND(COUNTRY_INFO!H76>0,COUNTRY_INFO!H76<4),IF(D76>MAX('MDA1'!M76,'MDA2'!M76),MAX('MDA1'!M76,'MDA2'!M76),D76),0)","v":0},{"$f":"IF(AND(COUNTRY_INFO!H76>0,COUNTRY_INFO!H76<4), IF(G76/D76*100<>0, IF(G76/D76*100>100,100,G76/D76*100), \"-\"),0)","v":0},{"$f":"COUNTRY_INFO!M76","v":0},null,null,{"$f":"MAX('MDA1'!M76,MAX('MDA3'!I76,'MDA3'!L76)+MAX('MDA3'!J76,'MDA3'!M76))","v":0},{"$f":"IF(AND(COUNTRY_INFO!I76>0,COUNTRY_INFO!I76<4),IF(J76>MAX('MDA1'!M76,MAX('MDA3'!I76,'MDA3'!L76)+MAX('MDA3'!J76,'MDA3'!M76)),MAX('MDA1'!M76,MAX('MDA3'!I76,'MDA3'!L76)+MAX('MDA3'!J76,'MDA3'!M76)),J76),0)","v":0},{"$f":"IF(AND(COUNTRY_INFO!I76>0,COUNTRY_INFO!I76<4), IF(M76/J76*100<>0, IF(M76/J76*100>100,100,M76/J76*100), \"-\"),0)","v":0},{"$f":"COUNTRY_INFO!N76","v":40098},null,null,{"$f":"SUM(MAX('MDA2'!J76, 'T1'!L76, MAX(T3_R1!K76, T3_R2!K76)), MAX('MDA1'!K76, 'MDA2'!K76, 'T1'!M76, MAX(T3_R1!L76, T3_R2!L76)), MAX('MDA1'!L76, 'MDA2'!L76, 'T1'!N76, MAX(T3_R1!M76, T3_R2!M76)))","v":23823},{"$f":"IF(AND(COUNTRY_INFO!J76>1,COUNTRY_INFO!J76<4),IF(COUNTRY_INFO!E76>MAX('MDA2'!J76,'T1'!L76,MAX(T3_R1!K76,T3_R2!K76)),MAX('MDA2'!J76,'T1'!L76,MAX(T3_R1!K76,T3_R2!K76)),COUNTRY_INFO!E76),0)","v":0},{"$f":"IF(AND(COUNTRY_INFO!J76>1,COUNTRY_INFO!J76<4), IF(T76/COUNTRY_INFO!E76*100<>0, IF(T76/COUNTRY_INFO!E76*100>100,100,T76/COUNTRY_INFO!E76*100), \"-\"),0)","v":"-"},{"$f":"IF(AND(COUNTRY_INFO!J76>1,COUNTRY_INFO!J76<4),IF(COUNTRY_INFO!F76>MAX('MDA1'!K76,'MDA2'!K76,'T1'!M76,MAX(T3_R1!L76,T3_R2!L76)),MAX('MDA1'!K76,'MDA2'!K76,'T1'!M76,MAX(T3_R1!L76,T3_R2!L76)),COUNTRY_INFO!F76),0)","v":23823},{"$f":"IF(AND(COUNTRY_INFO!J76>1,COUNTRY_INFO!J76<4), IF(V76/COUNTRY_INFO!F76*100<>0, IF(V76/COUNTRY_INFO!F76*100>100,100,V76/COUNTRY_INFO!F76*100), \"-\"),0)","v":96.739218711930477},23823,{"$f":"IF(AND(COUNTRY_INFO!J76>1,COUNTRY_INFO!J76<4), IF(S76/P76*100<>0, IF(X76/P76*100>100,100,X76/P76*100), \"-\"),0)","v":59.41194074517432},{"$f":"COUNTRY_INFO!O76","v":28280.247597783746},null,null,{"$f":"MAX('T1'!L76,'T2'!J76)+MAX('T1'!M76,'T2'!K76)+MAX('T1'!N76,'T2'!L76)","v":0},{"$f":"IF(COUNTRY_INFO!K76=1,IF(COUNTRY_INFO!F76*0.33>MAX('T1'!M76,'T2'!K76),MAX('T1'!M76,'T2'!K76),COUNTRY_INFO!F76*0.33),IF(COUNTRY_INFO!K76=2,IF(COUNTRY_INFO!F76*0.5>MAX('T1'!M76,'T2'!K76),MAX('T1'!M76,'T2'!K76),COUNTRY_INFO!F76*0.5),IF(COUNTRY_INFO!K76=3,IF(COUNTRY_INFO!F76>MAX('T1'!M76,'T2'!K76),MAX('T1'!M76,'T2'!K76),COUNTRY_INFO!F76),0)))","v":0},{"$f":"IF(AND(COUNTRY_INFO!K76>0,COUNTRY_INFO!K76<4),IF(Z76>0,IF(COUNTRY_INFO!K76=1, AD76/(COUNTRY_INFO!F76*0.33)*100, IF(COUNTRY_INFO!K76=2, AD76/(COUNTRY_INFO!F76*0.5)*100, IF(COUNTRY_INFO!K76=3, AD76/COUNTRY_INFO!F76*100))),\"-\"),0)","v":0},{"$f":"IF(COUNTRY_INFO!K76=2,IF(COUNTRY_INFO!G76*0.2>MAX('T1'!N76,'T2'!L76),MAX('T1'!N76,'T2'!L76),COUNTRY_INFO!G76*0.2),IF(COUNTRY_INFO!K76=3,IF(COUNTRY_INFO!G76>MAX('T1'!N76,'T2'!L76),MAX('T1'!N76,'T2'!L76),COUNTRY_INFO!G76),0))","v":0},{"$f":"IF(AND(COUNTRY_INFO!K76>0,COUNTRY_INFO!K76<4),IF(Z76>0,IF(COUNTRY_INFO!K76=1, 0, IF(COUNTRY_INFO!K76=2, AF76/(COUNTRY_INFO!G76*0.2)*100, IF(COUNTRY_INFO!K76=3, AF76/COUNTRY_INFO!G76*100))),\"-\"),0)","v":0},0,{"$f":"IF(AND(COUNTRY_INFO!K76>0,COUNTRY_INFO!K76<4), IF(AC76/Z76*100<>0, IF(AH76/Z76*100>100,100,AH76/Z76*100), \"-\"),0)","v":"-"},null,{"$f":"IF(AND(D76<>0, D76<>\"Unknown\",D76<>\"Stopped\",D76<>\"Not required\"),D76/COUNTRY_INFO!D76, 0)","v":0},{"$f":"IF(AND(J76<>0,J76<>\"Unknown\",J76<>\"Stopped\",J76<>\"Not required\"),J76/COUNTRY_INFO!D76, 0)","v":0},{"$f":"IF(AND(P76<>0,P76<>\"Unknown\",P76<>\"Not required\"),P76/(COUNTRY_INFO!E76+COUNTRY_INFO!F76), 0)","v":1},{"$f":"IF(AND(Z76<>0,Z76<>\"Unknown\",Z76<>\"Not required\"),IF(COUNTRY_INFO!K76=1,1,IF(COUNTRY_INFO!K76=2,0.5*COUNTRY_INFO!F76/(0.5*COUNTRY_INFO!F76+0.2*COUNTRY_INFO!G76),IF(COUNTRY_INFO!K76=3,COUNTRY_INFO!F76/(COUNTRY_INFO!F76+COUNTRY_INFO!G76)))),0)","v":0.43539222764672469},{"$f":"IF(AND(Z76<>0,Z76<>\"Unknown\",Z76<>\"Not required\"),IF(COUNTRY_INFO!K76=1,0,IF(COUNTRY_INFO!K76=2,0.2*COUNTRY_INFO!G76/(0.5*COUNTRY_INFO!F76+0.2*COUNTRY_INFO!G76),IF(COUNTRY_INFO!K76=3,COUNTRY_INFO!G76/(COUNTRY_INFO!F76+COUNTRY_INFO!G76)))),0)","v":0.56460777235327519},{"$f":"MAX(COUNTRY_INFO!D76*AK76*PROFILE!$G$7,COUNTRY_INFO!D76*AL76*PROFILE!$G$7)","v":0},{"$f":"MAX(COUNTRY_INFO!D76*AK76*PROFILE!$G$8,COUNTRY_INFO!D76*AL76*PROFILE!$G$8,COUNTRY_INFO!D76*AM76*PROFILE!$G$8)","v":15471.516928396872},{"$f":"MAX(COUNTRY_INFO!D76*AK76*PROFILE!$G$9,COUNTRY_INFO!D76*AL76*PROFILE!$G$9,COUNTRY_INFO!D76*AM76*PROFILE!$G$9,IF(AND(DISTRICT!Z76<>\"Unknown\",Z76<>\"Not required\"),COUNTRY_INFO!O76*DISTRICT!AN76,0))","v":26961.45226785287},{"$f":"MAX(COUNTRY_INFO!D76*AK76*PROFILE!$G$10,COUNTRY_INFO!D76*AL76*PROFILE!$G$10,IF(AND(DISTRICT!Z76<>\"Unknown\",Z76<>\"Not required\"),COUNTRY_INFO!O76*DISTRICT!AO76,0))","v":15967.247597783742},58400.216794033491,0,{"$f":"MAX('MDA2'!J76,'T1'!L76,'T2'!J76,T3_R1!K76,T3_R2!K76)","v":0},{"$f":"MAX('MDA1'!K76,'MDA2'!K76,'MDA3'!I76,'MDA3'!L76,'T1'!M76,'T2'!K76,T3_R1!L76,T3_R2!L76)","v":23823},{"$f":"MAX('MDA1'!L76,'MDA2'!L76,'MDA3'!J76,'MDA3'!M76,'T1'!N76,'T2'!L76,T3_R1!M76,T3_R2!M76)","v":0},23823,{"$f":"MAX('MDA2'!J76,T76)","v":0},{"$f":"MAX('MDA1'!K76,'MDA2'!K76,'MDA3'!I76,'MDA3'!L76,V76,AD76)","v":23823},{"$f":"MAX('MDA1'!L76,'MDA2'!L76,'MDA3'!J76,'MDA3'!M76,AF76)","v":0},23823,40.792656787592435]
[{"$f":"IF(COUNTRY_INFO!A77=0,\" \",COUNTRY_INFO!A77)","v":"Tanzania"},{"$f":"IF(COUNTRY_INFO!B77=0,\" \",COUNTRY_INFO!B77)","v":"Manyara"},{"$f":"IF(COUNTRY_INFO!C77=0,\" \",COUNTRY_INFO!C77)","v":"Hanang District Council"},{"$f":"COUNTRY_INFO!L77","v":"Stopped"},null,null,{"$f":"MAX('MDA1'!M77,'MDA2'!M77)","v":0},{"$f":"IF(AND(COUNTRY_INFO!H77>0,COUNTRY_INFO!H77<4),IF(D77>MAX('MDA1'!M77,'MDA2'!M77),MAX('MDA1'!M77,'MDA2'!M77),D77),0)","v":0},{"$f":"IF(AND(COUNTRY_INFO!H77>0,COUNTRY_INFO!H77<4), IF(G77/D77*100<>0, IF(G77/D77*100>100,100,G77/D77*100), \"-\"),0)","v":0},{"$f":"COUNTRY_INFO!M77","v":0},null,null,{"$f":"MAX('MDA1'!M77,MAX('MDA3'!I77,'MDA3'!L77)+MAX('MDA3'!J77,'MDA3'!M77))","v":0},{"$f":"IF(AND(COUNTRY_INFO!I77>0,COUNTRY_INFO!I77<4),IF(J77>MAX('MDA1'!M77,MAX('MDA3'!I77,'MDA3'!L77)+MAX('MDA3'!J77,'MDA3'!M77)),MAX('MDA1'!M77,MAX('MDA3'!I77,'MDA3'!L77)+MAX('MDA3'!J77,'MDA3'!M77)),J77),0)","v":0},{"$f":"IF(AND(COUNTRY_INFO!I77>0,COUNTRY_INFO!I77<4), IF(M77/J77*100<>0, IF(M77/J77*100>100,100,M77/J77*100), \"-\"),0)","v":0},{"$f":"COUNTRY_INFO!N77","v":119573},null,null,{"$f":"SUM(MAX('MDA2'!J77, 'T1'!L77, MAX(T3_R1!K77, T3_R2!K77)), MAX('MDA1'!K77, 'MDA2'!K77, 'T1'!M77, MAX(T3_R1!L77, T3_R2!L77)), MAX('MDA1'!L77, 'MDA2'!L77, 'T1'!N77, MAX(T3_R1!M77, T3_R2!M77)))","v":70798},{"$f":"IF(AND(COUNTRY_INFO!J77>1,COUNTRY_INFO!J77<4),IF(COUNTRY_INFO!E77>MAX('MDA2'!J77,'T1'!L77,MAX(T3_R1!K77,T3_R2!K77)),MAX('MDA2'!J77,'T1'!L77,MAX(T3_R1!K77,T3_R2!K77)),COUNTRY_INFO!E77),0)","v":0},{"$f":"IF(AND(COUNTRY_INFO!J77>1,COUNTRY_INFO!J77<4), IF(T77/COUNTRY_INFO!E77*100<>0, IF(T77/COUNTRY_INFO!E77*100>100,100,T77/COUNTRY_INFO!E77*100), \"-\"),0)","v":"-"},{"$f":"IF(AND(COUNTRY_INFO!J77>1,COUNTRY_INFO!J77<4),IF(COUNTRY_INFO!F77>MAX('MDA1'!K77,'MDA2'!K77,'T1'!M77,MAX(T3_R1!L77,T3_R2!L77)),MAX('MDA1'!K77,'MDA2'!K77,'T1'!M77,MAX(T3_R1!L77,T3_R2!L77)),COUNTRY_INFO!F77),0)","v":70798},{"$f":"IF(AND(COUNTRY_INFO!J77>1,COUNTRY_INFO!J77<4), IF(V77/COUNTRY_INFO!F77*100<>0, IF(V77/COUNTRY_INFO!F77*100>100,100,V77/COUNTRY_INFO!F77*100), \"-\"),0)","v":96.045473661362308},70798,{"$f":"IF(AND(COUNTRY_INFO!J77>1,COUNTRY_INFO!J77<4), IF(S77/P77*100<>0, IF(X77/P77*100>100,100,X77/P77*100), \"-\"),0)","v":59.209018758415368},{"$f":"COUNTRY_INFO!O77","v":84042.881348883617},null,null,{"$f":"MAX('T1'!L77,'T2'!J77)+MAX('T1'!M77,'T2'!K77)+MAX('T1'!N77,'T2'!L77)","v":0},{"$f":"IF(COUNTRY_INFO!K77=1,IF(COUNTRY_INFO!F77*0.33>MAX('T1'!M77,'T2'!K77),MAX('T1'!M77,'T2'!K77),COUNTRY_INFO!F77*0.33),IF(COUNTRY_INFO!K77=2,IF(COUNTRY_INFO!F77*0.5>MAX('T1'!M77,'T2'!K77),MAX('T1'!M77,'T2'!K77),COUNTRY_INFO!F77*0.5),IF(COUNTRY_INFO!K77=3,IF(COUNTRY_INFO!F77>MAX('T1'!M77,'T2'!K77),MAX('T1'!M77,'T2'!K77),COUNTRY_INFO!F77),0)))","v":0},{"$f":"IF(AND(COUNTRY_INFO!K77>0,COUNTRY_INFO!K77<4),IF(Z77>0,IF(COUNTRY_INFO!K77=1, AD77/(COUNTRY_INFO!F77*0.33)*100, IF(COUNTRY_INFO!K77=2, AD77/(COUNTRY_INFO!F77*0.5)*100, IF(COUNTRY_INFO!K77=3, AD77/COUNTRY_INFO!F77*100))),\"-\"),0)","v":0},{"$f":"IF(COUNTRY_INFO!K77=2,IF(COUNTRY_INFO!G77*0.2>MAX('T1'!N77,'T2'!L77),MAX('T1'!N77,'T2'!L77),COUNTRY_INFO!G77*0.2),IF(COUNTRY_INFO!K77=3,IF(COUNTRY_INFO!G77>MAX('T1'!N77,'T2'!L77),MAX('T1'!N77,'T2'!L77),COUNTRY_INFO!G77),0))","v":0},{"$f":"IF(AND(COUNTRY_INFO!K77>0,COUNTRY_INFO!K77<4),IF(Z77>0,IF(COUNTRY_INFO!K77=1, 0, IF(COUNTRY_INFO!K77=2, AF77/(COUNTRY_INFO!G77*0.2)*100, IF(COUNTRY_INFO!K77=3, AF77/COUNTRY_INFO!G77*100))),\"-\"),0)","v":0},0,{"$f":"IF(AND(COUNTRY_INFO!K77>0,COUNTRY_INFO!K77<4), IF(AC77/Z77*100<>0, IF(AH77/Z77*100>100,100,AH77/Z77*100), \"-\"),0)","v":"-"},null,{"$f":"IF(AND(D77<>0, D77<>\"Unknown\",D77<>\"Stopped\",D77<>\"Not required\"),D77/COUNTRY_INFO!D77, 0)","v":0},{"$f":"IF(AND(J77<>0,J77<>\"Unknown\",J77<>\"Stopped\",J77<>\"Not required\"),J77/COUNTRY_INFO!D77, 0)","v":0},{"$f":"IF(AND(P77<>0,P77<>\"Unknown\",P77<>\"Not required\"),P77/(COUNTRY_INFO!E77+COUNTRY_INFO!F77), 0)","v":1},{"$f":"IF(AND(Z77<>0,Z77<>\"Unknown\",Z77<>\"Not required\"),IF(COUNTRY_INFO!K77=1,1,IF(COUNTRY_INFO!K77=2,0.5*COUNTRY_INFO!F77/(0.5*COUNTRY_INFO!F77+0.2*COUNTRY_INFO!G77),IF(COUNTRY_INFO!K77=3,COUNTRY_INFO!F77/(COUNTRY_INFO!F77+COUNTRY_INFO!G77)))),0)","v":0.43854398383843113},{"$f":"IF(AND(Z77<>0,Z77<>\"Unknown\",Z77<>\"Not required\"),IF(COUNTRY_INFO!K77=1,0,IF(COUNTRY_INFO!K77=2,0.2*COUNTRY_INFO!G77/(0.5*COUNTRY_INFO!F77+0.2*COUNTRY_INFO!G77),IF(COUNTRY_INFO!K77=3,COUNTRY_INFO!G77/(COUNTRY_INFO!F77+COUNTRY_INFO!G77)))),0)","v":0.56145601616156882},{"$f":"MAX(COUNTRY_INFO!D77*AK77*PROFILE!$G$7,COUNTRY_INFO!D77*AL77*PROFILE!$G$7)","v":0},{"$f":"MAX(COUNTRY_INFO!D77*AK77*PROFILE!$G$8,COUNTRY_INFO!D77*AL77*PROFILE!$G$8,COUNTRY_INFO!D77*AM77*PROFILE!$G$8)","v":45860.133645344911},{"$f":"MAX(COUNTRY_INFO!D77*AK77*PROFILE!$G$9,COUNTRY_INFO!D77*AL77*PROFILE!$G$9,COUNTRY_INFO!D77*AM77*PROFILE!$G$9,IF(AND(DISTRICT!Z77<>\"Unknown\",Z77<>\"Not required\"),COUNTRY_INFO!O77*DISTRICT!AN77,0))","v":79918.201298470827},{"$f":"MAX(COUNTRY_INFO!D77*AK77*PROFILE!$G$10,COUNTRY_INFO!D77*AL77*PROFILE!$G$10,IF(AND(DISTRICT!Z77<>\"Unknown\",Z77<>\"Not required\"),COUNTRY_INFO!O77*DISTRICT!AO77,0))","v":47186.381348883609},172964.71629269936,0,{"$f":"MAX('MDA2'!J77,'T1'!L77,'T2'!J77,T3_R1!K77,T3_R2!K77)","v":0},{"$f":"MAX('MDA1'!K77,'MDA2'!K77,'MDA3'!I77,'MDA3'!L77,'T1'!M77,'T2'!K77,T3_R1!L77,T3_R2!L77)","v":70798},{"$f":"MAX('MDA1'!L77,'MDA2'!L77,'MDA3'!J77,'MDA3'!M77,'T1'!N77,'T2'!L77,T3_R1!M77,T3_R2!M77)","v":0},70798,{"$f":"MAX('MDA2'!J77,T77)","v":0},{"$f":"MAX('MDA1'!K77,'MDA2'!K77,'MDA3'!I77,'MDA3'!L77,V77,AD77)","v":70798},{"$f":"MAX('MDA1'!L77,'MDA2'!L77,'MDA3'!J77,'MDA3'!M77,AF77)","v":0},70798,40.932047597610691]
[{"$f":"IF(COUNTRY_INFO!A78=0,\" \",COUNTRY_INFO!A78)","v":"Tanzania"},{"$f":"IF(COUNTRY_INFO!B78=0,\" \",COUNTRY_INFO!B78)","v":"Manyara"},{"$f":"IF(COUNTRY_INFO!C78=0,\" \",COUNTRY_INFO!C78)","v":"Kiteto District Council"},{"$f":"COUNTRY_INFO!L78","v":"Stopped"},null,null,{"$f":"MAX('MDA1'!M78,'MDA2'!M78)","v":0},{"$f":"IF(AND(COUNTRY_INFO!H78>0,COUNTRY_INFO!H78<4),IF(D78>MAX('MDA1'!M78,'MDA2'!M78),MAX('MDA1'!M78,'MDA2'!M78),D78),0)","v":0},{"$f":"IF(AND(COUNTRY_INFO!H78>0,COUNTRY_INFO!H78<4), IF(G78/D78*100<>0, IF(G78/D78*100>100,100,G78/D78*100), \"-\"),0)","v":0},{"$f":"COUNTRY_INFO!M78","v":0},null,null,{"$f":"MAX('MDA1'!M78,MAX('MDA3'!I78,'MDA3'!L78)+MAX('MDA3'!J78,'MDA3'!M78))","v":0},{"$f":"IF(AND(COUNTRY_INFO!I78>0,COUNTRY_INFO!I78<4),IF(J78>MAX('MDA1'!M78,MAX('MDA3'!I78,'MDA3'!L78)+MAX('MDA3'!J78,'MDA3'!M78)),MAX('MDA1'!M78,MAX('MDA3'!I78,'MDA3'!L78)+MAX('MDA3'!J78,'MDA3'!M78)),J78),0)","v":0},{"$f":"IF(AND(COUNTRY_INFO!I78>0,COUNTRY_INFO!I78<4), IF(M78/J78*100<>0, IF(M78/J78*100>100,100,M78/J78*100), \"-\"),0)","v":0},{"$f":"COUNTRY_INFO!N78","v":102977},null,null,{"$f":"SUM(MAX('MDA2'!J78, 'T1'!L78, MAX(T3_R1!K78, T3_R2!K78)), MAX('MDA1'!K78, 'MDA2'!K78, 'T1'!M78, MAX(T3_R1!L78, T3_R2!L78)), MAX('MDA1'!L78, 'MDA2'!L78, 'T1'!N78, MAX(T3_R1!M78, T3_R2!M78)))","v":56237},{"$f":"IF(AND(COUNTRY_INFO!J78>1,COUNTRY_INFO!J78<4),IF(COUNTRY_INFO!E78>MAX('MDA2'!J78,'T1'!L78,MAX(T3_R1!K78,T3_R2!K78)),MAX('MDA2'!J78,'T1'!L78,MAX(T3_R1!K78,T3_R2!K78)),COUNTRY_INFO!E78),0)","v":0},{"$f":"IF(AND(COUNTRY_INFO!J78>1,COUNTRY_INFO!J78<4), IF(T78/COUNTRY_INFO!E78*100<>0, IF(T78/COUNTRY_INFO!E78*100>100,100,T78/COUNTRY_INFO!E78*100), \"-\"),0)","v":"-"},{"$f":"IF(AND(COUNTRY_INFO!J78>1,COUNTRY_INFO!J78<4),IF(COUNTRY_INFO!F78>MAX('MDA1'!K78,'MDA2'!K78,'T1'!M78,MAX(T3_R1!L78,T3_R2!L78)),MAX('MDA1'!K78,'MDA2'!K78,'T1'!M78,MAX(T3_R1!L78,T3_R2!L78)),COUNTRY_INFO!F78),0)","v":56237},{"$f":"IF(AND(COUNTRY_INFO!J78>1,COUNTRY_INFO!J78<4), IF(V78/COUNTRY_INFO!F78*100<>0, IF(V78/COUNTRY_INFO!F78*100>100,100,V78/COUNTRY_INFO!F78*100), \"-\"),0)","v":90.236192676743372},56237,{"$f":"IF(AND(COUNTRY_INFO!J78>1,COUNTRY_INFO!J78<4), IF(S78/P78*100<>0, IF(X78/P78*100>100,100,X78/P78*100), \"-\"),0)","v":54.611223865523371},{"$f":"COUNTRY_INFO!O78","v":73597.274987102021},null,null,{"$f":"MAX('T1'!L78,'T2'!J78)+MAX('T1'!M78,'T2'!K78)+MAX('T1'!N78,'T2'!L78)","v":0},{"$f":"IF(COUNTRY_INFO!K78=1,IF(COUNTRY_INFO!F78*0.33>MAX('T1'!M78,'T2'!K78),MAX('T1'!M78,'T2'!K78),COUNTRY_INFO!F78*0.33),IF(COUNTRY_INFO!K78=2,IF(COUNTRY_INFO!F78*0.5>MAX('T1'!M78,'T2'!K78),MAX('T1'!M78,'T2'!K78),COUNTRY_INFO!F78*0.5),IF(COUNTRY_INFO!K78=3,IF(COUNTRY_INFO!F78>MAX('T1'!M78,'T2'!K78),MAX('T1'!M78,'T2'!K78),COUNTRY_INFO!F78),0)))","v":0},{"$f":"IF(AND(COUNTRY_INFO!K78>0,COUNTRY_INFO!K78<4),IF(Z78>0,IF(COUNTRY_INFO!K78=1, AD78/(COUNTRY_INFO!F78*0.33)*100, IF(COUNTRY_INFO!K78=2, AD78/(COUNTRY_INFO!F78*0.5)*100, IF(COUNTRY_INFO!K78=3, AD78/COUNTRY_INFO!F78*100))),\"-\"),0)","v":0},{"$f":"IF(COUNTRY_INFO!K78=2,IF(COUNTRY_INFO!G78*0.2>MAX('T1'!N78,'T2'!L78),MAX('T1'!N78,'T2'!L78),COUNTRY_INFO!G78*0.2),IF(COUNTRY_INFO!K78=3,IF(COUNTRY_INFO!G78>MAX('T1'!N78,'T2'!L78),MAX('T1'!N78,'T2'!L78),COUNTRY_INFO!G78),0))","v":0},{"$f":"IF(AND(COUNTRY_INFO!K78>0,COUNTRY_INFO!K78<4),IF(Z78>0,IF(COUNTRY_INFO!K78=1, 0, IF(COUNTRY_INFO!K78=2, AF78/(COUNTRY_INFO!G78*0.2)*100, IF(COUNTRY_INFO!K78=3, AF78/COUNTRY_INFO!G78*100))),\"-\"),0)","v":0},0,{"$f":"IF(AND(COUNTRY_INFO!K78>0,COUNTRY_INFO!K78<4), IF(AC78/Z78*100<>0, IF(AH78/Z78*100>100,100,AH78/Z78*100), \"-\"),0)","v":"-"},null,{"$f":"IF(AND(D78<>0, D78<>\"Unknown\",D78<>\"Stopped\",D78<>\"Not required\"),D78/COUNTRY_INFO!D78, 0)","v":0},{"$f":"IF(AND(J78<>0,J78<>\"Unknown\",J78<>\"Stopped\",J78<>\"Not required\"),J78/COUNTRY_INFO!D78, 0)","v":0},{"$f":"IF(AND(P78<>0,P78<>\"Unknown\",P78<>\"Not required\"),P78/(COUNTRY_INFO!E78+COUNTRY_INFO!F78), 0)","v":1},{"$f":"IF(AND(Z78<>0,Z78<>\"Unknown\",Z78<>\"Not required\"),IF(COUNTRY_INFO!K78=1,1,IF(COUNTRY_INFO!K78=2,0.5*COUNTRY_INFO!F78/(0.5*COUNTRY_INFO!F78+0.2*COUNTRY_INFO!G78),IF(COUNTRY_INFO!K78=3,COUNTRY_INFO!F78/(COUNTRY_INFO!F78+COUNTRY_INFO!G78)))),0)","v":0.42339882835962322},{"$f":"IF(AND(Z78<>0,Z78<>\"Unknown\",Z78<>\"Not required\"),IF(COUNTRY_INFO!K78=1,0,IF(COUNTRY_INFO!K78=2,0.2*COUNTRY_INFO!G78/(0.5*COUNTRY_INFO!F78+0.2*COUNTRY_INFO!G78),IF(COUNTRY_INFO!K78=3,COUNTRY_INFO!G78/(COUNTRY_INFO!F78+COUNTRY_INFO!G78)))),0)","v":0.57660117164037672},{"$f":"MAX(COUNTRY_INFO!D78*AK78*PROFILE!$G$7,COUNTRY_INFO!D78*AL78*PROFILE!$G$7)","v":0},{"$f":"MAX(COUNTRY_INFO!D78*AK78*PROFILE!$G$8,COUNTRY_INFO!D78*AL78*PROFILE!$G$8,COUNTRY_INFO!D78*AM78*PROFILE!$G$8)","v":40655.430965353757},{"$f":"MAX(COUNTRY_INFO!D78*AK78*PROFILE!$G$9,COUNTRY_INFO!D78*AL78*PROFILE!$G$9,COUNTRY_INFO!D78*AM78*PROFILE!$G$9,IF(AND(DISTRICT!Z78<>\"Unknown\",Z78<>\"Not required\"),COUNTRY_INFO!O78*DISTRICT!AN78,0))","v":70848.221701487142},{"$f":"MAX(COUNTRY_INFO!D78*AK78*PROFILE!$G$10,COUNTRY_INFO!D78*AL78*PROFILE!$G$10,IF(AND(DISTRICT!Z78<>\"Unknown\",Z78<>\"Not required\"),COUNTRY_INFO!O78*DISTRICT!AO78,0))","v":42436.274987102013},153939.92765394293,0,{"$f":"MAX('MDA2'!J78,'T1'!L78,'T2'!J78,T3_R1!K78,T3_R2!K78)","v":0},{"$f":"MAX('MDA1'!K78,'MDA2'!K78,'MDA3'!I78,'MDA3'!L78,'T1'!M78,'T2'!K78,T3_R1!L78,T3_R2!L78)","v":56237},{"$f":"MAX('MDA1'!L78,'MDA2'!L78,'MDA3'!J78,'MDA3'!M78,'T1'!N78,'T2'!L78,T3_R1!M78,T3_R2!M78)","v":0},56237,{"$f":"MAX('MDA2'!J78,T78)","v":0},{"$f":"MAX('MDA1'!K78,'MDA2'!K78,'MDA3'!I78,'MDA3'!L78,V78,AD78)","v":56237},{"$f":"MAX('MDA1'!L78,'MDA2'!L78,'MDA3'!J78,'MDA3'!M78,AF78)","v":0},56237,36.531782791545034]
[{"$f":"IF(COUNTRY_INFO!A79=0,\" \",COUNTRY_INFO!A79)","v":"Tanzania"},{"$f":"IF(COUNTRY_INFO!B79=0,\" \",COUNTRY_INFO!B79)","v":"Manyara"},{"$f":"IF(COUNTRY_INFO!C79=0,\" \",COUNTRY_INFO!C79)","v":"Mbulu District Council"},{"$f":"COUNTRY_INFO!L79","v":"Stopped"},null,null,{"$f":"MAX('MDA1'!M79,'MDA2'!M79)","v":0},{"$f":"IF(AND(COUNTRY_INFO!H79>0,COUNTRY_INFO!H79<4),IF(D79>MAX('MDA1'!M79,'MDA2'!M79),MAX('MDA1'!M79,'MDA2'!M79),D79),0)","v":0},{"$f":"IF(AND(COUNTRY_INFO!H79>0,COUNTRY_INFO!H79<4), IF(G79/D79*100<>0, IF(G79/D79*100>100,100,G79/D79*100), \"-\"),0)","v":0},{"$f":"COUNTRY_INFO!M79","v":0},null,null,{"$f":"MAX('MDA1'!M79,MAX('MDA3'!I79,'MDA3'!L79)+MAX('MDA3'!J79,'MDA3'!M79))","v":0},{"$f":"IF(AND(COUNTRY_INFO!I79>0,COUNTRY_INFO!I79<4),IF(J79>MAX('MDA1'!M79,MAX('MDA3'!I79,'MDA3'!L79)+MAX('MDA3'!J79,'MDA3'!M79)),MAX('MDA1'!M79,MAX('MDA3'!I79,'MDA3'!L79)+MAX('MDA3'!J79,'MDA3'!M79)),J79),0)","v":0},{"$f":"IF(AND(COUNTRY_INFO!I79>0,COUNTRY_INFO!I79<4), IF(M79/J79*100<>0, IF(M79/J79*100>100,100,M79/J79*100), \"-\"),0)","v":0},{"$f":"COUNTRY_INFO!N79","v":82728},null,null,{"$f":"SUM(MAX('MDA2'!J79, 'T1'!L79, MAX(T3_R1!K79, T3_R2!K79)), MAX('MDA1'!K79, 'MDA2'!K79, 'T1'!M79, MAX(T3_R1!L79, T3_R2!L79)), MAX('MDA1'!L79, 'MDA2'!L79, 'T1'!N79, MAX(T3_R1!M79, T3_R2!M79)))","v":45208},{"$f":"IF(AND(COUNTRY_INFO!J79>1,COUNTRY_INFO!J79<4),IF(COUNTRY_INFO!E79>MAX('MDA2'!J79,'T1'!L79,MAX(T3_R1!K79,T3_R2!K79)),MAX('MDA2'!J79,'T1'!L79,MAX(T3_R1!K79,T3_R2!K79)),COUNTRY_INFO!E79),0)","v":0},{"$f":"IF(AND(COUNTRY_INFO!J79>1,COUNTRY_INFO!J79<4), IF(T79/COUNTRY_INFO!E79*100<>0, IF(T79/COUNTRY_INFO!E79*100>100,100,T79/COUNTRY_INFO!E79*100), \"-\"),0)","v":"-"},{"$f":"IF(AND(COUNTRY_INFO!J79>1,COUNTRY_INFO!J79<4),IF(COUNTRY_INFO!F79>MAX('MDA1'!K79,'MDA2'!K79,'T1'!M79,MAX(T3_R1!L79,T3_R2!L79)),MAX('MDA1'!K79,'MDA2'!K79,'T1'!M79,MAX(T3_R1!L79,T3_R2!L79)),COUNTRY_INFO!F79),0)","v":45208},{"$f":"IF(AND(COUNTRY_INFO!J79>1,COUNTRY_INFO!J79<4), IF(V79/COUNTRY_INFO!F79*100<>0, IF(V79/COUNTRY_INFO!F79*100>100,100,V79/COUNTRY_INFO!F79*100), \"-\"),0)","v":88.723162067747381},45208,{"$f":"IF(AND(COUNTRY_INFO!J79>1,COUNTRY_INFO!J79<4), IF(S79/P79*100<>0, IF(X79/P79*100>100,100,X79/P79*100), \"-\"),0)","v":54.646552557779714},{"$f":"COUNTRY_INFO!O79","v":58193.768306236918},null,null,{"$f":"MAX('T1'!L79,'T2'!J79)+MAX('T1'!M79,'T2'!K79)+MAX('T1'!N79,'T2'!L79)","v":0},{"$f":"IF(COUNTRY_INFO!K79=1,IF(COUNTRY_INFO!F79*0.33>MAX('T1'!M79,'T2'!K79),MAX('T1'!M79,'T2'!K79),COUNTRY_INFO!F79*0.33),IF(COUNTRY_INFO!K79=2,IF(COUNTRY_INFO!F79*0.5>MAX('T1'!M79,'T2'!K79),MAX('T1'!M79,'T2'!K79),COUNTRY_INFO!F79*0.5),IF(COUNTRY_INFO!K79=3,IF(COUNTRY_INFO!F79>MAX('T1'!M79,'T2'!K79),MAX('T1'!M79,'T2'!K79),COUNTRY_INFO!F79),0)))","v":0},{"$f":"IF(AND(COUNTRY_INFO!K79>0,COUNTRY_INFO!K79<4),IF(Z79>0,IF(COUNTRY_INFO!K79=1, AD79/(COUNTRY_INFO!F79*0.33)*100, IF(COUNTRY_INFO!K79=2, AD79/(COUNTRY_INFO!F79*0.5)*100, IF(COUNTRY_INFO!K79=3, AD79/COUNTRY_INFO!F79*100))),\"-\"),0)","v":0},{"$f":"IF(COUNTRY_INFO!K79=2,IF(COUNTRY_INFO!G79*0.2>MAX('T1'!N79,'T2'!L79),MAX('T1'!N79,'T2'!L79),COUNTRY_INFO!G79*0.2),IF(COUNTRY_INFO!K79=3,IF(COUNTRY_INFO!G79>MAX('T1'!N79,'T2'!L79),MAX('T1'!N79,'T2'!L79),COUNTRY_INFO!G79),0))","v":0},{"$f":"IF(AND(COUNTRY_INFO!K79>0,COUNTRY_INFO!K79<4),IF(Z79>0,IF(COUNTRY_INFO!K79=1, 0, IF(COUNTRY_INFO!K79=2, AF79/(COUNTRY_INFO!G79*0.2)*100, IF(COUNTRY_INFO!K79=3, AF79/COUNTRY_INFO!G79*100))),\"-\"),0)","v":0},0,{"$f":"IF(AND(COUNTRY_INFO!K79>0,COUNTRY_INFO!K79<4), IF(AC79/Z79*100<>0, IF(AH79/Z79*100>100,100,AH79/Z79*100), \"-\"),0)","v":"-"},null,{"$f":"IF(AND(D79<>0, D79<>\"Unknown\",D79<>\"Stopped\",D79<>\"Not required\"),D79/COUNTRY_INFO!D79, 0)","v":0},{"$f":"IF(AND(J79<>0,J79<>\"Unknown\",J79<>\"Stopped\",J79<>\"Not required\"),J79/COUNTRY_INFO!D79, 0)","v":0},{"$f":"IF(AND(P79<>0,P79<>\"Unknown\",P79<>\"Not required\"),P79/(COUNTRY_INFO!E79+COUNTRY_INFO!F79), 0)","v":1},{"$f":"IF(AND(Z79<>0,Z79<>\"Unknown\",Z79<>\"Not required\"),IF(COUNTRY_INFO!K79=1,1,IF(COUNTRY_INFO!K79=2,0.5*COUNTRY_INFO!F79/(0.5*COUNTRY_INFO!F79+0.2*COUNTRY_INFO!G79),IF(COUNTRY_INFO!K79=3,COUNTRY_INFO!F79/(COUNTRY_INFO!F79+COUNTRY_INFO!G79)))),0)","v":0.43779601736616708},{"$f":"IF(AND(Z79<>0,Z79<>\"Unknown\",Z79<>\"Not required\"),IF(COUNTRY_INFO!K79=1,0,IF(COUNTRY_INFO!K79=2,0.2*COUNTRY_INFO!G79/(0.5*COUNTRY_INFO!F79+0.2*COUNTRY_INFO!G79),IF(COUNTRY_INFO!K79=3,COUNTRY_INFO!G79/(COUNTRY_INFO!F79+COUNTRY_INFO!G79)))),0)","v":0.56220398263383287},{"$f":"MAX(COUNTRY_INFO!D79*AK79*PROFILE!$G$7,COUNTRY_INFO!D79*AL79*PROFILE!$G$7)","v":0},{"$f":"MAX(COUNTRY_INFO!D79*AK79*PROFILE!$G$8,COUNTRY_INFO!D79*AL79*PROFILE!$G$8,COUNTRY_INFO!D79*AM79*PROFILE!$G$8)","v":31774.228025415301},{"$f":"MAX(COUNTRY_INFO!D79*AK79*PROFILE!$G$9,COUNTRY_INFO!D79*AL79*PROFILE!$G$9,COUNTRY_INFO!D79*AM79*PROFILE!$G$9,IF(AND(DISTRICT!Z79<>\"Unknown\",Z79<>\"Not required\"),COUNTRY_INFO!O79*DISTRICT!AN79,0))","v":55371.385767786836},{"$f":"MAX(COUNTRY_INFO!D79*AK79*PROFILE!$G$10,COUNTRY_INFO!D79*AL79*PROFILE!$G$10,IF(AND(DISTRICT!Z79<>\"Unknown\",Z79<>\"Not required\"),COUNTRY_INFO!O79*DISTRICT!AO79,0))","v":32716.768306236914},119862.38209943906,0,{"$f":"MAX('MDA2'!J79,'T1'!L79,'T2'!J79,T3_R1!K79,T3_R2!K79)","v":0},{"$f":"MAX('MDA1'!K79,'MDA2'!K79,'MDA3'!I79,'MDA3'!L79,'T1'!M79,'T2'!K79,T3_R1!L79,T3_R2!L79)","v":45208},{"$f":"MAX('MDA1'!L79,'MDA2'!L79,'MDA3'!J79,'MDA3'!M79,'T1'!N79,'T2'!L79,T3_R1!M79,T3_R2!M79)","v":0},45208,{"$f":"MAX('MDA2'!J79,T79)","v":0},{"$f":"MAX('MDA1'!K79,'MDA2'!K79,'MDA3'!I79,'MDA3'!L79,V79,AD79)","v":45208},{"$f":"MAX('MDA1'!L79,'MDA2'!L79,'MDA3'!J79,'MDA3'!M79,AF79)","v":0},45208,37.71658731301951]
[{"$f":"IF(COUNTRY_INFO!A80=0,\" \",COUNTRY_INFO!A80)","v":"Tanzania"},{"$f":"IF(COUNTRY_INFO!B80=0,\" \",COUNTRY_INFO!B80)","v":"Manyara"},{"$f":"IF(COUNTRY_INFO!C80=0,\" \",COUNTRY_INFO!C80)","v":"Mbulu Town Council"},{"$f":"COUNTRY_INFO!L80","v":"Stopped"},null,null,{"$f":"MAX('MDA1'!M80,'MDA2'!M80)","v":0},{"$f":"IF(AND(COUNTRY_INFO!H80>0,COUNTRY_INFO!H80<4),IF(D80>MAX('MDA1'!M80,'MDA2'!M80),MAX('MDA1'!M80,'MDA2'!M80),D80),0)","v":0},{"$f":"IF(AND(COUNTRY_INFO!H80>0,COUNTRY_INFO!H80<4), IF(G80/D80*100<>0, IF(G80/D80*100>100,100,G80/D80*100), \"-\"),0)","v":0},{"$f":"COUNTRY_INFO!M80","v":0},null,null,{"$f":"MAX('MDA1'!M80,MAX('MDA3'!I80,'MDA3'!L80)+MAX('MDA3'!J80,'MDA3'!M80))","v":0},{"$f":"IF(AND(COUNTRY_INFO!I80>0,COUNTRY_INFO!I80<4),IF(J80>MAX('MDA1'!M80,MAX('MDA3'!I80,'MDA3'!L80)+MAX('MDA3'!J80,'MDA3'!M80)),MAX('MDA1'!M80,MAX('MDA3'!I80,'MDA3'!L80)+MAX('MDA3'!J80,'MDA3'!M80)),J80),0)","v":0},{"$f":"IF(AND(COUNTRY_INFO!I80>0,COUNTRY_INFO!I80<4), IF(M80/J80*100<>0, IF(M80/J80*100>100,100,M80/J80*100), \"-\"),0)","v":0},{"$f":"COUNTRY_INFO!N80","v":55835},null,null,{"$f":"SUM(MAX('MDA2'!J80, 'T1'!L80, MAX(T3_R1!K80, T3_R2!K80)), MAX('MDA1'!K80, 'MDA2'!K80, 'T1'!M80, MAX(T3_R1!L80, T3_R2!L80)), MAX('MDA1'!L80, 'MDA2'!L80, 'T1'!N80, MAX(T3_R1!M80, T3_R2!M80)))","v":30907},{"$f":"IF(AND(COUNTRY_INFO!J80>1,COUNTRY_INFO!J80<4),IF(COUNTRY_INFO!E80>MAX('MDA2'!J80,'T1'!L80,MAX(T3_R1!K80,T3_R2!K80)),MAX('MDA2'!J80,'T1'!L80,MAX(T3_R1!K80,T3_R2!K80)),COUNTRY_INFO!E80),0)","v":0},{"$f":"IF(AND(COUNTRY_INFO!J80>1,COUNTRY_INFO!J80<4), IF(T80/COUNTRY_INFO!E80*100<>0, IF(T80/COUNTRY_INFO!E80*100>100,100,T80/COUNTRY_INFO!E80*100), \"-\"),0)","v":"-"},{"$f":"IF(AND(COUNTRY_INFO!J80>1,COUNTRY_INFO!J80<4),IF(COUNTRY_INFO!F80>MAX('MDA1'!K80,'MDA2'!K80,'T1'!M80,MAX(T3_R1!L80,T3_R2!L80)),MAX('MDA1'!K80,'MDA2'!K80,'T1'!M80,MAX(T3_R1!L80,T3_R2!L80)),COUNTRY_INFO!F80),0)","v":30907},{"$f":"IF(AND(COUNTRY_INFO!J80>1,COUNTRY_INFO!J80<4), IF(V80/COUNTRY_INFO!F80*100<>0, IF(V80/COUNTRY_INFO!F80*100>100,100,V80/COUNTRY_INFO!F80*100), \"-\"),0)","v":89.8720558301832},30907,{"$f":"IF(AND(COUNTRY_INFO!J80>1,COUNTRY_INFO!J80<4), IF(S80/P80*100<>0, IF(X80/P80*100>100,100,X80/P80*100), \"-\"),0)","v":55.354168532282621},{"$f":"COUNTRY_INFO!O80","v":39276.079247989081},null,null,{"$f":"MAX('T1'!L80,'T2'!J80)+MAX('T1'!M80,'T2'!K80)+MAX('T1'!N80,'T2'!L80)","v":0},{"$f":"IF(COUNTRY_INFO!K80=1,IF(COUNTRY_INFO!F80*0.33>MAX('T1'!M80,'T2'!K80),MAX('T1'!M80,'T2'!K80),COUNTRY_INFO!F80*0.33),IF(COUNTRY_INFO!K80=2,IF(COUNTRY_INFO!F80*0.5>MAX('T1'!M80,'T2'!K80),MAX('T1'!M80,'T2'!K80),COUNTRY_INFO!F80*0.5),IF(COUNTRY_INFO!K80=3,IF(COUNTRY_INFO!F80>MAX('T1'!M80,'T2'!K80),MAX('T1'!M80,'T2'!K80),COUNTRY_INFO!F80),0)))","v":0},{"$f":"IF(AND(COUNTRY_INFO!K80>0,COUNTRY_INFO!K80<4),IF(Z80>0,IF(COUNTRY_INFO!K80=1, AD80/(COUNTRY_INFO!F80*0.33)*100, IF(COUNTRY_INFO!K80=2, AD80/(COUNTRY_INFO!F80*0.5)*100, IF(COUNTRY_INFO!K80=3, AD80/COUNTRY_INFO!F80*100))),\"-\"),0)","v":0},{"$f":"IF(COUNTRY_INFO!K80=2,IF(COUNTRY_INFO!G80*0.2>MAX('T1'!N80,'T2'!L80),MAX('T1'!N80,'T2'!L80),COUNTRY_INFO!G80*0.2),IF(COUNTRY_INFO!K80=3,IF(COUNTRY_INFO!G80>MAX('T1'!N80,'T2'!L80),MAX('T1'!N80,'T2'!L80),COUNTRY_INFO!G80),0))","v":0},{"$f":"IF(AND(COUNTRY_INFO!K80>0,COUNTRY_INFO!K80<4),IF(Z80>0,IF(COUNTRY_INFO!K80=1, 0, IF(COUNTRY_INFO!K80=2, AF80/(COUNTRY_INFO!G80*0.2)*100, IF(COUNTRY_INFO!K80=3, AF80/COUNTRY_INFO!G80*100))),\"-\"),0)","v":0},0,{"$f":"IF(AND(COUNTRY_INFO!K80>0,COUNTRY_INFO!K80<4), IF(AC80/Z80*100<>0, IF(AH80/Z80*100>100,100,AH80/Z80*100), \"-\"),0)","v":"-"},null,{"$f":"IF(AND(D80<>0, D80<>\"Unknown\",D80<>\"Stopped\",D80<>\"Not required\"),D80/COUNTRY_INFO!D80, 0)","v":0},{"$f":"IF(AND(J80<>0,J80<>\"Unknown\",J80<>\"Stopped\",J80<>\"Not required\"),J80/COUNTRY_INFO!D80, 0)","v":0},{"$f":"IF(AND(P80<>0,P80<>\"Unknown\",P80<>\"Not required\"),P80/(COUNTRY_INFO!E80+COUNTRY_INFO!F80), 0)","v":1},{"$f":"IF(AND(Z80<>0,Z80<>\"Unknown\",Z80<>\"Not required\"),IF(COUNTRY_INFO!K80=1,1,IF(COUNTRY_INFO!K80=2,0.5*COUNTRY_INFO!F80/(0.5*COUNTRY_INFO!F80+0.2*COUNTRY_INFO!G80),IF(COUNTRY_INFO!K80=3,COUNTRY_INFO!F80/(COUNTRY_INFO!F80+COUNTRY_INFO!G80)))),0)","v":0.4377982815298545},{"$f":"IF(AND(Z80<>0,Z80<>\"Unknown\",Z80<>\"Not required\"),IF(COUNTRY_INFO!K80=1,0,IF(COUNTRY_INFO!K80=2,0.2*COUNTRY_INFO!G80/(0.5*COUNTRY_INFO!F80+0.2*COUNTRY_INFO!G80),IF(COUNTRY_INFO!K80=3,COUNTRY_INFO!G80/(COUNTRY_INFO!F80+COUNTRY_INFO!G80)))),0)","v":0.56220171847014544},{"$f":"MAX(COUNTRY_INFO!D80*AK80*PROFILE!$G$7,COUNTRY_INFO!D80*AL80*PROFILE!$G$7)","v":0},{"$f":"MAX(COUNTRY_INFO!D80*AK80*PROFILE!$G$8,COUNTRY_INFO!D80*AL80*PROFILE!$G$8,COUNTRY_INFO!D80*AM80*PROFILE!$G$8)","v":21445.011430742212},{"$f":"MAX(COUNTRY_INFO!D80*AK80*PROFILE!$G$9,COUNTRY_INFO!D80*AL80*PROFILE!$G$9,COUNTRY_INFO!D80*AM80*PROFILE!$G$9,IF(AND(DISTRICT!Z80<>\"Unknown\",Z80<>\"Not required\"),COUNTRY_INFO!O80*DISTRICT!AN80,0))","v":37371.167594580918},{"$f":"MAX(COUNTRY_INFO!D80*AK80*PROFILE!$G$10,COUNTRY_INFO!D80*AL80*PROFILE!$G$10,IF(AND(DISTRICT!Z80<>\"Unknown\",Z80<>\"Not required\"),COUNTRY_INFO!O80*DISTRICT!AO80,0))","v":22081.079247989077},80897.258273312211,0,{"$f":"MAX('MDA2'!J80,'T1'!L80,'T2'!J80,T3_R1!K80,T3_R2!K80)","v":0},{"$f":"MAX('MDA1'!K80,'MDA2'!K80,'MDA3'!I80,'MDA3'!L80,'T1'!M80,'T2'!K80,T3_R1!L80,T3_R2!L80)","v":30907},{"$f":"MAX('MDA1'!L80,'MDA2'!L80,'MDA3'!J80,'MDA3'!M80,'T1'!N80,'T2'!L80,T3_R1!M80,T3_R2!M80)","v":0},30907,{"$f":"MAX('MDA2'!J80,T80)","v":0},{"$f":"MAX('MDA1'!K80,'MDA2'!K80,'MDA3'!I80,'MDA3'!L80,V80,AD80)","v":30907},{"$f":"MAX('MDA1'!L80,'MDA2'!L80,'MDA3'!J80,'MDA3'!M80,AF80)","v":0},30907,38.205250288681455]
[{"$f":"IF(COUNTRY_INFO!A81=0,\" \",COUNTRY_INFO!A81)","v":"Tanzania"},{"$f":"IF(COUNTRY_INFO!B81=0,\" \",COUNTRY_INFO!B81)","v":"Manyara"},{"$f":"IF(COUNTRY_INFO!C81=0,\" \",COUNTRY_INFO!C81)","v":"Simanjiro District Council"},{"$f":"COUNTRY_INFO!L81","v":"Stopped"},null,null,{"$f":"MAX('MDA1'!M81,'MDA2'!M81)","v":0},{"$f":"IF(AND(COUNTRY_INFO!H81>0,COUNTRY_INFO!H81<4),IF(D81>MAX('MDA1'!M81,'MDA2'!M81),MAX('MDA1'!M81,'MDA2'!M81),D81),0)","v":0},{"$f":"IF(AND(COUNTRY_INFO!H81>0,COUNTRY_INFO!H81<4), IF(G81/D81*100<>0, IF(G81/D81*100>100,100,G81/D81*100), \"-\"),0)","v":0},{"$f":"COUNTRY_INFO!M81","v":0},null,null,{"$f":"MAX('MDA1'!M81,MAX('MDA3'!I81,'MDA3'!L81)+MAX('MDA3'!J81,'MDA3'!M81))","v":0},{"$f":"IF(AND(COUNTRY_INFO!I81>0,COUNTRY_INFO!I81<4),IF(J81>MAX('MDA1'!M81,MAX('MDA3'!I81,'MDA3'!L81)+MAX('MDA3'!J81,'MDA3'!M81)),MAX('MDA1'!M81,MAX('MDA3'!I81,'MDA3'!L81)+MAX('MDA3'!J81,'MDA3'!M81)),J81),0)","v":0},{"$f":"IF(AND(COUNTRY_INFO!I81>0,COUNTRY_INFO!I81<4), IF(M81/J81*100<>0, IF(M81/J81*100>100,100,M81/J81*100), \"-\"),0)","v":0},{"$f":"COUNTRY_INFO!N81","v":76133},null,null,{"$f":"SUM(MAX('MDA2'!J81, 'T1'!L81, MAX(T3_R1!K81, T3_R2!K81)), MAX('MDA1'!K81, 'MDA2'!K81, 'T1'!M81, MAX(T3_R1!L81, T3_R2!L81)), MAX('MDA1'!L81, 'MDA2'!L81, 'T1'!N81, MAX(T3_R1!M81, T3_R2!M81)))","v":45161},{"$f":"IF(AND(COUNTRY_INFO!J81>1,COUNTRY_INFO!J81<4),IF(COUNTRY_INFO!E81>MAX('MDA2'!J81,'T1'!L81,MAX(T3_R1!K81,T3_R2!K81)),MAX('MDA2'!J81,'T1'!L81,MAX(T3_R1!K81,T3_R2!K81)),COUNTRY_INFO!E81),0)","v":0},{"$f":"IF(AND(COUNTRY_INFO!J81>1,COUNTRY_INFO!J81<4), IF(T81/COUNTRY_INFO!E81*100<>0, IF(T81/COUNTRY_INFO!E81*100>100,100,T81/COUNTRY_INFO!E81*100), \"-\"),0)","v":"-"},{"$f":"IF(AND(COUNTRY_INFO!J81>1,COUNTRY_INFO!J81<4),IF(COUNTRY_INFO!F81>MAX('MDA1'!K81,'MDA2'!K81,'T1'!M81,MAX(T3_R1!L81,T3_R2!L81)),MAX('MDA1'!K81,'MDA2'!K81,'T1'!M81,MAX(T3_R1!L81,T3_R2!L81)),COUNTRY_INFO!F81),0)","v":45161},{"$f":"IF(AND(COUNTRY_INFO!J81>1,COUNTRY_INFO!J81<4), IF(V81/COUNTRY_INFO!F81*100<>0, IF(V81/COUNTRY_INFO!F81*100>100,100,V81/COUNTRY_INFO!F81*100), \"-\"),0)","v":97.243814732671567},45161,{"$f":"IF(AND(COUNTRY_INFO!J81>1,COUNTRY_INFO!J81<4), IF(S81/P81*100<>0, IF(X81/P81*100>100,100,X81/P81*100), \"-\"),0)","v":59.31856093940867},{"$f":"COUNTRY_INFO!O81","v":54028.433066194972},null,null,{"$f":"MAX('T1'!L81,'T2'!J81)+MAX('T1'!M81,'T2'!K81)+MAX('T1'!N81,'T2'!L81)","v":0},{"$f":"IF(COUNTRY_INFO!K81=1,IF(COUNTRY_INFO!F81*0.33>MAX('T1'!M81,'T2'!K81),MAX('T1'!M81,'T2'!K81),COUNTRY_INFO!F81*0.33),IF(COUNTRY_INFO!K81=2,IF(COUNTRY_INFO!F81*0.5>MAX('T1'!M81,'T2'!K81),MAX('T1'!M81,'T2'!K81),COUNTRY_INFO!F81*0.5),IF(COUNTRY_INFO!K81=3,IF(COUNTRY_INFO!F81>MAX('T1'!M81,'T2'!K81),MAX('T1'!M81,'T2'!K81),COUNTRY_INFO!F81),0)))","v":0},{"$f":"IF(AND(COUNTRY_INFO!K81>0,COUNTRY_INFO!K81<4),IF(Z81>0,IF(COUNTRY_INFO!K81=1, AD81/(COUNTRY_INFO!F81*0.33)*100, IF(COUNTRY_INFO!K81=2, AD81/(COUNTRY_INFO!F81*0.5)*100, IF(COUNTRY_INFO!K81=3, AD81/COUNTRY_INFO!F81*100))),\"-\"),0)","v":0},{"$f":"IF(COUNTRY_INFO!K81=2,IF(COUNTRY_INFO!G81*0.2>MAX('T1'!N81,'T2'!L81),MAX('T1'!N81,'T2'!L81),COUNTRY_INFO!G81*0.2),IF(COUNTRY_INFO!K81=3,IF(COUNTRY_INFO!G81>MAX('T1'!N81,'T2'!L81),MAX('T1'!N81,'T2'!L81),COUNTRY_INFO!G81),0))","v":0},{"$f":"IF(AND(COUNTRY_INFO!K81>0,COUNTRY_INFO!K81<4),IF(Z81>0,IF(COUNTRY_INFO!K81=1, 0, IF(COUNTRY_INFO!K81=2, AF81/(COUNTRY_INFO!G81*0.2)*100, IF(COUNTRY_INFO!K81=3, AF81/COUNTRY_INFO!G81*100))),\"-\"),0)","v":0},0,{"$f":"IF(AND(COUNTRY_INFO!K81>0,COUNTRY_INFO!K81<4), IF(AC81/Z81*100<>0, IF(AH81/Z81*100>100,100,AH81/Z81*100), \"-\"),0)","v":"-"},null,{"$f":"IF(AND(D81<>0, D81<>\"Unknown\",D81<>\"Stopped\",D81<>\"Not required\"),D81/COUNTRY_INFO!D81, 0)","v":0},{"$f":"IF(AND(J81<>0,J81<>\"Unknown\",J81<>\"Stopped\",J81<>\"Not required\"),J81/COUNTRY_INFO!D81, 0)","v":0},{"$f":"IF(AND(P81<>0,P81<>\"Unknown\",P81<>\"Not required\"),P81/(COUNTRY_INFO!E81+COUNTRY_INFO!F81), 0)","v":1},{"$f":"IF(AND(Z81<>0,Z81<>\"Unknown\",Z81<>\"Not required\"),IF(COUNTRY_INFO!K81=1,1,IF(COUNTRY_INFO!K81=2,0.5*COUNTRY_INFO!F81/(0.5*COUNTRY_INFO!F81+0.2*COUNTRY_INFO!G81),IF(COUNTRY_INFO!K81=3,COUNTRY_INFO!F81/(COUNTRY_INFO!F81+COUNTRY_INFO!G81)))),0)","v":0.42978296208499195},{"$f":"IF(AND(Z81<>0,Z81<>\"Unknown\",Z81<>\"Not required\"),IF(COUNTRY_INFO!K81=1,0,IF(COUNTRY_INFO!K81=2,0.2*COUNTRY_INFO!G81/(0.5*COUNTRY_INFO!F81+0.2*COUNTRY_INFO!G81),IF(COUNTRY_INFO!K81=3,COUNTRY_INFO!G81/(COUNTRY_INFO!F81+COUNTRY_INFO!G81)))),0)","v":0.570217037915008},{"$f":"MAX(COUNTRY_INFO!D81*AK81*PROFILE!$G$7,COUNTRY_INFO!D81*AL81*PROFILE!$G$7)","v":0},{"$f":"MAX(COUNTRY_INFO!D81*AK81*PROFILE!$G$8,COUNTRY_INFO!D81*AL81*PROFILE!$G$8,COUNTRY_INFO!D81*AM81*PROFILE!$G$8)","v":29692.274264930365},{"$f":"MAX(COUNTRY_INFO!D81*AK81*PROFILE!$G$9,COUNTRY_INFO!D81*AL81*PROFILE!$G$9,COUNTRY_INFO!D81*AM81*PROFILE!$G$9,IF(AND(DISTRICT!Z81<>\"Unknown\",Z81<>\"Not required\"),COUNTRY_INFO!O81*DISTRICT!AN81,0))","v":51743.267258336469},{"$f":"MAX(COUNTRY_INFO!D81*AK81*PROFILE!$G$10,COUNTRY_INFO!D81*AL81*PROFILE!$G$10,IF(AND(DISTRICT!Z81<>\"Unknown\",Z81<>\"Not required\"),COUNTRY_INFO!O81*DISTRICT!AO81,0))","v":30807.933066194972},112243.47458946181,0,{"$f":"MAX('MDA2'!J81,'T1'!L81,'T2'!J81,T3_R1!K81,T3_R2!K81)","v":0},{"$f":"MAX('MDA1'!K81,'MDA2'!K81,'MDA3'!I81,'MDA3'!L81,'T1'!M81,'T2'!K81,T3_R1!L81,T3_R2!L81)","v":45161},{"$f":"MAX('MDA1'!L81,'MDA2'!L81,'MDA3'!J81,'MDA3'!M81,'T1'!N81,'T2'!L81,T3_R1!M81,T3_R2!M81)","v":0},45161,{"$f":"MAX('MDA2'!J81,T81)","v":0},{"$f":"MAX('MDA1'!K81,'MDA2'!K81,'MDA3'!I81,'MDA3'!L81,V81,AD81)","v":45161},{"$f":"MAX('MDA1'!L81,'MDA2'!L81,'MDA3'!J81,'MDA3'!M81,AF81)","v":0},45161,40.234855669943798]
[{"$f":"IF(COUNTRY_INFO!A82=0,\" \",COUNTRY_INFO!A82)","v":"Tanzania"},{"$f":"IF(COUNTRY_INFO!B82=0,\" \",COUNTRY_INFO!B82)","v":"Mara"},{"$f":"IF(COUNTRY_INFO!C82=0,\" \",COUNTRY_INFO!C82)","v":"Bunda District Council"},{"$f":"COUNTRY_INFO!L82","v":0},null,null,{"$f":"MAX('MDA1'!M82,'MDA2'!M82)","v":0},{"$f":"IF(AND(COUNTRY_INFO!H82>0,COUNTRY_INFO!H82<4),IF(D82>MAX('MDA1'!M82,'MDA2'!M82),MAX('MDA1'!M82,'MDA2'!M82),D82),0)","v":0},{"$f":"IF(AND(COUNTRY_INFO!H82>0,COUNTRY_INFO!H82<4), IF(G82/D82*100<>0, IF(G82/D82*100>100,100,G82/D82*100), \"-\"),0)","v":0},{"$f":"COUNTRY_INFO!M82","v":0},null,null,{"$f":"MAX('MDA1'!M82,MAX('MDA3'!I82,'MDA3'!L82)+MAX('MDA3'!J82,'MDA3'!M82))","v":0},{"$f":"IF(AND(COUNTRY_INFO!I82>0,COUNTRY_INFO!I82<4),IF(J82>MAX('MDA1'!M82,MAX('MDA3'!I82,'MDA3'!L82)+MAX('MDA3'!J82,'MDA3'!M82)),MAX('MDA1'!M82,MAX('MDA3'!I82,'MDA3'!L82)+MAX('MDA3'!J82,'MDA3'!M82)),J82),0)","v":0},{"$f":"IF(AND(COUNTRY_INFO!I82>0,COUNTRY_INFO!I82<4), IF(M82/J82*100<>0, IF(M82/J82*100>100,100,M82/J82*100), \"-\"),0)","v":0},{"$f":"COUNTRY_INFO!N82","v":105490},null,null,{"$f":"SUM(MAX('MDA2'!J82, 'T1'!L82, MAX(T3_R1!K82, T3_R2!K82)), MAX('MDA1'!K82, 'MDA2'!K82, 'T1'!M82, MAX(T3_R1!L82, T3_R2!L82)), MAX('MDA1'!L82, 'MDA2'!L82, 'T1'!N82, MAX(T3_R1!M82, T3_R2!M82)))","v":0},{"$f":"IF(AND(COUNTRY_INFO!J82>1,COUNTRY_INFO!J82<4),IF(COUNTRY_INFO!E82>MAX('MDA2'!J82,'T1'!L82,MAX(T3_R1!K82,T3_R2!K82)),MAX('MDA2'!J82,'T1'!L82,MAX(T3_R1!K82,T3_R2!K82)),COUNTRY_INFO!E82),0)","v":0},{"$f":"IF(AND(COUNTRY_INFO!J82>1,COUNTRY_INFO!J82<4), IF(T82/COUNTRY_INFO!E82*100<>0, IF(T82/COUNTRY_INFO!E82*100>100,100,T82/COUNTRY_INFO!E82*100), \"-\"),0)","v":"-"},{"$f":"IF(AND(COUNTRY_INFO!J82>1,COUNTRY_INFO!J82<4),IF(COUNTRY_INFO!F82>MAX('MDA1'!K82,'MDA2'!K82,'T1'!M82,MAX(T3_R1!L82,T3_R2!L82)),MAX('MDA1'!K82,'MDA2'!K82,'T1'!M82,MAX(T3_R1!L82,T3_R2!L82)),COUNTRY_INFO!F82),0)","v":0},{"$f":"IF(AND(COUNTRY_INFO!J82>1,COUNTRY_INFO!J82<4), IF(V82/COUNTRY_INFO!F82*100<>0, IF(V82/COUNTRY_INFO!F82*100>100,100,V82/COUNTRY_INFO!F82*100), \"-\"),0)","v":"-"},0,{"$f":"IF(AND(COUNTRY_INFO!J82>1,COUNTRY_INFO!J82<4), IF(S82/P82*100<>0, IF(X82/P82*100>100,100,X82/P82*100), \"-\"),0)","v":"-"},{"$f":"COUNTRY_INFO!O82","v":68133.797572230309},null,null,{"$f":"MAX('T1'!L82,'T2'!J82)+MAX('T1'!M82,'T2'!K82)+MAX('T1'!N82,'T2'!L82)","v":0},{"$f":"IF(COUNTRY_INFO!K82=1,IF(COUNTRY_INFO!F82*0.33>MAX('T1'!M82,'T2'!K82),MAX('T1'!M82,'T2'!K82),COUNTRY_INFO!F82*0.33),IF(COUNTRY_INFO!K82=2,IF(COUNTRY_INFO!F82*0.5>MAX('T1'!M82,'T2'!K82),MAX('T1'!M82,'T2'!K82),COUNTRY_INFO!F82*0.5),IF(COUNTRY_INFO!K82=3,IF(COUNTRY_INFO!F82>MAX('T1'!M82,'T2'!K82),MAX('T1'!M82,'T2'!K82),COUNTRY_INFO!F82),0)))","v":0},{"$f":"IF(AND(COUNTRY_INFO!K82>0,COUNTRY_INFO!K82<4),IF(Z82>0,IF(COUNTRY_INFO!K82=1, AD82/(COUNTRY_INFO!F82*0.33)*100, IF(COUNTRY_INFO!K82=2, AD82/(COUNTRY_INFO!F82*0.5)*100, IF(COUNTRY_INFO!K82=3, AD82/COUNTRY_INFO!F82*100))),\"-\"),0)","v":0},{"$f":"IF(COUNTRY_INFO!K82=2,IF(COUNTRY_INFO!G82*0.2>MAX('T1'!N82,'T2'!L82),MAX('T1'!N82,'T2'!L82),COUNTRY_INFO!G82*0.2),IF(COUNTRY_INFO!K82=3,IF(COUNTRY_INFO!G82>MAX('T1'!N82,'T2'!L82),MAX('T1'!N82,'T2'!L82),COUNTRY_INFO!G82),0))","v":0},{"$f":"IF(AND(COUNTRY_INFO!K82>0,COUNTRY_INFO!K82<4),IF(Z82>0,IF(COUNTRY_INFO!K82=1, 0, IF(COUNTRY_INFO!K82=2, AF82/(COUNTRY_INFO!G82*0.2)*100, IF(COUNTRY_INFO!K82=3, AF82/COUNTRY_INFO!G82*100))),\"-\"),0)","v":0},0,{"$f":"IF(AND(COUNTRY_INFO!K82>0,COUNTRY_INFO!K82<4), IF(AC82/Z82*100<>0, IF(AH82/Z82*100>100,100,AH82/Z82*100), \"-\"),0)","v":"-"},null,{"$f":"IF(AND(D82<>0, D82<>\"Unknown\",D82<>\"Stopped\",D82<>\"Not required\"),D82/COUNTRY_INFO!D82, 0)","v":0},{"$f":"IF(AND(J82<>0,J82<>\"Unknown\",J82<>\"Stopped\",J82<>\"Not required\"),J82/COUNTRY_INFO!D82, 0)","v":0},{"$f":"IF(AND(P82<>0,P82<>\"Unknown\",P82<>\"Not required\"),P82/(COUNTRY_INFO!E82+COUNTRY_INFO!F82), 0)","v":1},{"$f":"IF(AND(Z82<>0,Z82<>\"Unknown\",Z82<>\"Not required\"),IF(COUNTRY_INFO!K82=1,1,IF(COUNTRY_INFO!K82=2,0.5*COUNTRY_INFO!F82/(0.5*COUNTRY_INFO!F82+0.2*COUNTRY_INFO!G82),IF(COUNTRY_INFO!K82=3,COUNTRY_INFO!F82/(COUNTRY_INFO!F82+COUNTRY_INFO!G82)))),0)","v":0.51922102187972874},{"$f":"IF(AND(Z82<>0,Z82<>\"Unknown\",Z82<>\"Not required\"),IF(COUNTRY_INFO!K82=1,0,IF(COUNTRY_INFO!K82=2,0.2*COUNTRY_INFO!G82/(0.5*COUNTRY_INFO!F82+0.2*COUNTRY_INFO!G82),IF(COUNTRY_INFO!K82=3,COUNTRY_INFO!G82/(COUNTRY_INFO!F82+COUNTRY_INFO!G82)))),0)","v":0.48077897812027137},{"$f":"MAX(COUNTRY_INFO!D82*AK82*PROFILE!$G$7,COUNTRY_INFO!D82*AL82*PROFILE!$G$7)","v":0},{"$f":"MAX(COUNTRY_INFO!D82*AK82*PROFILE!$G$8,COUNTRY_INFO!D82*AL82*PROFILE!$G$8,COUNTRY_INFO!D82*AM82*PROFILE!$G$8)","v":34736.667445604551},{"$f":"MAX(COUNTRY_INFO!D82*AK82*PROFILE!$G$9,COUNTRY_INFO!D82*AL82*PROFILE!$G$9,COUNTRY_INFO!D82*AM82*PROFILE!$G$9,IF(AND(DISTRICT!Z82<>\"Unknown\",Z82<>\"Not required\"),COUNTRY_INFO!O82*DISTRICT!AN82,0))","v":60533.883368603172},{"$f":"MAX(COUNTRY_INFO!D82*AK82*PROFILE!$G$10,COUNTRY_INFO!D82*AL82*PROFILE!$G$10,IF(AND(DISTRICT!Z82<>\"Unknown\",Z82<>\"Not required\"),COUNTRY_INFO!O82*DISTRICT!AO82,0))","v":32757.297572230313},128027.84838643804,0,{"$f":"MAX('MDA2'!J82,'T1'!L82,'T2'!J82,T3_R1!K82,T3_R2!K82)","v":0},{"$f":"MAX('MDA1'!K82,'MDA2'!K82,'MDA3'!I82,'MDA3'!L82,'T1'!M82,'T2'!K82,T3_R1!L82,T3_R2!L82)","v":0},{"$f":"MAX('MDA1'!L82,'MDA2'!L82,'MDA3'!J82,'MDA3'!M82,'T1'!N82,'T2'!L82,T3_R1!M82,T3_R2!M82)","v":0},0,{"$f":"MAX('MDA2'!J82,T82)","v":0},{"$f":"MAX('MDA1'!K82,'MDA2'!K82,'MDA3'!I82,'MDA3'!L82,V82,AD82)","v":0},{"$f":"MAX('MDA1'!L82,'MDA2'!L82,'MDA3'!J82,'MDA3'!M82,AF82)","v":0},0,0]
[{"$f":"IF(COUNTRY_INFO!A83=0,\" \",COUNTRY_INFO!A83)","v":"Tanzania"},{"$f":"IF(COUNTRY_INFO!B83=0,\" \",COUNTRY_INFO!B83)","v":"Mara"},{"$f":"IF(COUNTRY_INFO!C83=0,\" \",COUNTRY_INFO!C83)","v":"Bunda Town Council"},{"$f":"COUNTRY_INFO!L83","v":0},null,null,{"$f":"MAX('MDA1'!M83,'MDA2'!M83)","v":0},{"$f":"IF(AND(COUNTRY_INFO!H83>0,COUNTRY_INFO!H83<4),IF(D83>MAX('MDA1'!M83,'MDA2'!M83),MAX('MDA1'!M83,'MDA2'!M83),D83),0)","v":0},{"$f":"IF(AND(COUNTRY_INFO!H83>0,COUNTRY_INFO!H83<4), IF(G83/D83*100<>0, IF(G83/D83*100>100,100,G83/D83*100), \"-\"),0)","v":0},{"$f":"COUNTRY_INFO!M83","v":0},null,null,{"$f":"MAX('MDA1'!M83,MAX('MDA3'!I83,'MDA3'!L83)+MAX('MDA3'!J83,'MDA3'!M83))","v":0},{"$f":"IF(AND(COUNTRY_INFO!I83>0,COUNTRY_INFO!I83<4),IF(J83>MAX('MDA1'!M83,MAX('MDA3'!I83,'MDA3'!L83)+MAX('MDA3'!J83,'MDA3'!M83)),MAX('MDA1'!M83,MAX('MDA3'!I83,'MDA3'!L83)+MAX('MDA3'!J83,'MDA3'!M83)),J83),0)","v":0},{"$f":"IF(AND(COUNTRY_INFO!I83>0,COUNTRY_INFO!I83<4), IF(M83/J83*100<>0, IF(M83/J83*100>100,100,M83/J83*100), \"-\"),0)","v":0},{"$f":"COUNTRY_INFO!N83","v":68002},null,null,{"$f":"SUM(MAX('MDA2'!J83, 'T1'!L83, MAX(T3_R1!K83, T3_R2!K83)), MAX('MDA1'!K83, 'MDA2'!K83, 'T1'!M83, MAX(T3_R1!L83, T3_R2!L83)), MAX('MDA1'!L83, 'MDA2'!L83, 'T1'!N83, MAX(T3_R1!M83, T3_R2!M83)))","v":0},{"$f":"IF(AND(COUNTRY_INFO!J83>1,COUNTRY_INFO!J83<4),IF(COUNTRY_INFO!E83>MAX('MDA2'!J83,'T1'!L83,MAX(T3_R1!K83,T3_R2!K83)),MAX('MDA2'!J83,'T1'!L83,MAX(T3_R1!K83,T3_R2!K83)),COUNTRY_INFO!E83),0)","v":0},{"$f":"IF(AND(COUNTRY_INFO!J83>1,COUNTRY_INFO!J83<4), IF(T83/COUNTRY_INFO!E83*100<>0, IF(T83/COUNTRY_INFO!E83*100>100,100,T83/COUNTRY_INFO!E83*100), \"-\"),0)","v":"-"},{"$f":"IF(AND(COUNTRY_INFO!J83>1,COUNTRY_INFO!J83<4),IF(COUNTRY_INFO!F83>MAX('MDA1'!K83,'MDA2'!K83,'T1'!M83,MAX(T3_R1!L83,T3_R2!L83)),MAX('MDA1'!K83,'MDA2'!K83,'T1'!M83,MAX(T3_R1!L83,T3_R2!L83)),COUNTRY_INFO!F83),0)","v":0},{"$f":"IF(AND(COUNTRY_INFO!J83>1,COUNTRY_INFO!J83<4), IF(V83/COUNTRY_INFO!F83*100<>0, IF(V83/COUNTRY_INFO!F83*100>100,100,V83/COUNTRY_INFO!F83*100), \"-\"),0)","v":"-"},0,{"$f":"IF(AND(COUNTRY_INFO!J83>1,COUNTRY_INFO!J83<4), IF(S83/P83*100<>0, IF(X83/P83*100>100,100,X83/P83*100), \"-\"),0)","v":"-"},{"$f":"COUNTRY_INFO!O83","v":39207.148799282688},null,null,{"$f":"MAX('T1'!L83,'T2'!J83)+MAX('T1'!M83,'T2'!K83)+MAX('T1'!N83,'T2'!L83)","v":0},{"$f":"IF(COUNTRY_INFO!K83=1,IF(COUNTRY_INFO!F83*0.33>MAX('T1'!M83,'T2'!K83),MAX('T1'!M83,'T2'!K83),COUNTRY_INFO!F83*0.33),IF(COUNTRY_INFO!K83=2,IF(COUNTRY_INFO!F83*0.5>MAX('T1'!M83,'T2'!K83),MAX('T1'!M83,'T2'!K83),COUNTRY_INFO!F83*0.5),IF(COUNTRY_INFO!K83=3,IF(COUNTRY_INFO!F83>MAX('T1'!M83,'T2'!K83),MAX('T1'!M83,'T2'!K83),COUNTRY_INFO!F83),0)))","v":0},{"$f":"IF(AND(COUNTRY_INFO!K83>0,COUNTRY_INFO!K83<4),IF(Z83>0,IF(COUNTRY_INFO!K83=1, AD83/(COUNTRY_INFO!F83*0.33)*100, IF(COUNTRY_INFO!K83=2, AD83/(COUNTRY_INFO!F83*0.5)*100, IF(COUNTRY_INFO!K83=3, AD83/COUNTRY_INFO!F83*100))),\"-\"),0)","v":0},{"$f":"IF(COUNTRY_INFO!K83=2,IF(COUNTRY_INFO!G83*0.2>MAX('T1'!N83,'T2'!L83),MAX('T1'!N83,'T2'!L83),COUNTRY_INFO!G83*0.2),IF(COUNTRY_INFO!K83=3,IF(COUNTRY_INFO!G83>MAX('T1'!N83,'T2'!L83),MAX('T1'!N83,'T2'!L83),COUNTRY_INFO!G83),0))","v":0},{"$f":"IF(AND(COUNTRY_INFO!K83>0,COUNTRY_INFO!K83<4),IF(Z83>0,IF(COUNTRY_INFO!K83=1, 0, IF(COUNTRY_INFO!K83=2, AF83/(COUNTRY_INFO!G83*0.2)*100, IF(COUNTRY_INFO!K83=3, AF83/COUNTRY_INFO!G83*100))),\"-\"),0)","v":0},0,{"$f":"IF(AND(COUNTRY_INFO!K83>0,COUNTRY_INFO!K83<4), IF(AC83/Z83*100<>0, IF(AH83/Z83*100>100,100,AH83/Z83*100), \"-\"),0)","v":"-"},null,{"$f":"IF(AND(D83<>0, D83<>\"Unknown\",D83<>\"Stopped\",D83<>\"Not required\"),D83/COUNTRY_INFO!D83, 0)","v":0},{"$f":"IF(AND(J83<>0,J83<>\"Unknown\",J83<>\"Stopped\",J83<>\"Not required\"),J83/COUNTRY_INFO!D83, 0)","v":0},{"$f":"IF(AND(P83<>0,P83<>\"Unknown\",P83<>\"Not required\"),P83/(COUNTRY_INFO!E83+COUNTRY_INFO!F83), 0)","v":1},{"$f":"IF(AND(Z83<>0,Z83<>\"Unknown\",Z83<>\"Not required\"),IF(COUNTRY_INFO!K83=1,1,IF(COUNTRY_INFO!K83=2,0.5*COUNTRY_INFO!F83/(0.5*COUNTRY_INFO!F83+0.2*COUNTRY_INFO!G83),IF(COUNTRY_INFO!K83=3,COUNTRY_INFO!F83/(COUNTRY_INFO!F83+COUNTRY_INFO!G83)))),0)","v":0.6388758368590749},{"$f":"IF(AND(Z83<>0,Z83<>\"Unknown\",Z83<>\"Not required\"),IF(COUNTRY_INFO!K83=1,0,IF(COUNTRY_INFO!K83=2,0.2*COUNTRY_INFO!G83/(0.5*COUNTRY_INFO!F83+0.2*COUNTRY_INFO!G83),IF(COUNTRY_INFO!K83=3,COUNTRY_INFO!G83/(COUNTRY_INFO!F83+COUNTRY_INFO!G83)))),0)","v":0.36112416314092521},{"$f":"MAX(COUNTRY_INFO!D83*AK83*PROFILE!$G$7,COUNTRY_INFO!D83*AL83*PROFILE!$G$7)","v":0},{"$f":"MAX(COUNTRY_INFO!D83*AK83*PROFILE!$G$8,COUNTRY_INFO!D83*AL83*PROFILE!$G$8,COUNTRY_INFO!D83*AM83*PROFILE!$G$8)","v":17904.586739191946},{"$f":"MAX(COUNTRY_INFO!D83*AK83*PROFILE!$G$9,COUNTRY_INFO!D83*AL83*PROFILE!$G$9,COUNTRY_INFO!D83*AM83*PROFILE!$G$9,IF(AND(DISTRICT!Z83<>\"Unknown\",Z83<>\"Not required\"),COUNTRY_INFO!O83*DISTRICT!AN83,0))","v":31201.443464042735},{"$f":"MAX(COUNTRY_INFO!D83*AK83*PROFILE!$G$10,COUNTRY_INFO!D83*AL83*PROFILE!$G$10,IF(AND(DISTRICT!Z83<>\"Unknown\",Z83<>\"Not required\"),COUNTRY_INFO!O83*DISTRICT!AO83,0))","v":14158.648799282691},63264.679002517369,0,{"$f":"MAX('MDA2'!J83,'T1'!L83,'T2'!J83,T3_R1!K83,T3_R2!K83)","v":0},{"$f":"MAX('MDA1'!K83,'MDA2'!K83,'MDA3'!I83,'MDA3'!L83,'T1'!M83,'T2'!K83,T3_R1!L83,T3_R2!L83)","v":0},{"$f":"MAX('MDA1'!L83,'MDA2'!L83,'MDA3'!J83,'MDA3'!M83,'T1'!N83,'T2'!L83,T3_R1!M83,T3_R2!M83)","v":0},0,{"$f":"MAX('MDA2'!J83,T83)","v":0},{"$f":"MAX('MDA1'!K83,'MDA2'!K83,'MDA3'!I83,'MDA3'!L83,V83,AD83)","v":0},{"$f":"MAX('MDA1'!L83,'MDA2'!L83,'MDA3'!J83,'MDA3'!M83,AF83)","v":0},0,0]
[{"$f":"IF(COUNTRY_INFO!A84=0,\" \",COUNTRY_INFO!A84)","v":"Tanzania"},{"$f":"IF(COUNTRY_INFO!B84=0,\" \",COUNTRY_INFO!B84)","v":"Mara"},{"$f":"IF(COUNTRY_INFO!C84=0,\" \",COUNTRY_INFO!C84)","v":"Butiama District Council"},{"$f":"COUNTRY_INFO!L84","v":0},null,null,{"$f":"MAX('MDA1'!M84,'MDA2'!M84)","v":0},{"$f":"IF(AND(COUNTRY_INFO!H84>0,COUNTRY_INFO!H84<4),IF(D84>MAX('MDA1'!M84,'MDA2'!M84),MAX('MDA1'!M84,'MDA2'!M84),D84),0)","v":0},{"$f":"IF(AND(COUNTRY_INFO!H84>0,COUNTRY_INFO!H84<4), IF(G84/D84*100<>0, IF(G84/D84*100>100,100,G84/D84*100), \"-\"),0)","v":0},{"$f":"COUNTRY_INFO!M84","v":0},null,null,{"$f":"MAX('MDA1'!M84,MAX('MDA3'!I84,'MDA3'!L84)+MAX('MDA3'!J84,'MDA3'!M84))","v":0},{"$f":"IF(AND(COUNTRY_INFO!I84>0,COUNTRY_INFO!I84<4),IF(J84>MAX('MDA1'!M84,MAX('MDA3'!I84,'MDA3'!L84)+MAX('MDA3'!J84,'MDA3'!M84)),MAX('MDA1'!M84,MAX('MDA3'!I84,'MDA3'!L84)+MAX('MDA3'!J84,'MDA3'!M84)),J84),0)","v":0},{"$f":"IF(AND(COUNTRY_INFO!I84>0,COUNTRY_INFO!I84<4), IF(M84/J84*100<>0, IF(M84/J84*100>100,100,M84/J84*100), \"-\"),0)","v":0},{"$f":"COUNTRY_INFO!N84","v":114527},null,null,{"$f":"SUM(MAX('MDA2'!J84, 'T1'!L84, MAX(T3_R1!K84, T3_R2!K84)), MAX('MDA1'!K84, 'MDA2'!K84, 'T1'!M84, MAX(T3_R1!L84, T3_R2!L84)), MAX('MDA1'!L84, 'MDA2'!L84, 'T1'!N84, MAX(T3_R1!M84, T3_R2!M84)))","v":0},{"$f":"IF(AND(COUNTRY_INFO!J84>1,COUNTRY_INFO!J84<4),IF(COUNTRY_INFO!E84>MAX('MDA2'!J84,'T1'!L84,MAX(T3_R1!K84,T3_R2!K84)),MAX('MDA2'!J84,'T1'!L84,MAX(T3_R1!K84,T3_R2!K84)),COUNTRY_INFO!E84),0)","v":0},{"$f":"IF(AND(COUNTRY_INFO!J84>1,COUNTRY_INFO!J84<4), IF(T84/COUNTRY_INFO!E84*100<>0, IF(T84/COUNTRY_INFO!E84*100>100,100,T84/COUNTRY_INFO!E84*100), \"-\"),0)","v":"-"},{"$f":"IF(AND(COUNTRY_INFO!J84>1,COUNTRY_INFO!J84<4),IF(COUNTRY_INFO!F84>MAX('MDA1'!K84,'MDA2'!K84,'T1'!M84,MAX(T3_R1!L84,T3_R2!L84)),MAX('MDA1'!K84,'MDA2'!K84,'T1'!M84,MAX(T3_R1!L84,T3_R2!L84)),COUNTRY_INFO!F84),0)","v":0},{"$f":"IF(AND(COUNTRY_INFO!J84>1,COUNTRY_INFO!J84<4), IF(V84/COUNTRY_INFO!F84*100<>0, IF(V84/COUNTRY_INFO!F84*100>100,100,V84/COUNTRY_INFO!F84*100), \"-\"),0)","v":"-"},0,{"$f":"IF(AND(COUNTRY_INFO!J84>1,COUNTRY_INFO!J84<4), IF(S84/P84*100<>0, IF(X84/P84*100>100,100,X84/P84*100), \"-\"),0)","v":"-"},{"$f":"COUNTRY_INFO!O84","v":69327.020914615132},null,null,{"$f":"MAX('T1'!L84,'T2'!J84)+MAX('T1'!M84,'T2'!K84)+MAX('T1'!N84,'T2'!L84)","v":0},{"$f":"IF(COUNTRY_INFO!K84=1,IF(COUNTRY_INFO!F84*0.33>MAX('T1'!M84,'T2'!K84),MAX('T1'!M84,'T2'!K84),COUNTRY_INFO!F84*0.33),IF(COUNTRY_INFO!K84=2,IF(COUNTRY_INFO!F84*0.5>MAX('T1'!M84,'T2'!K84),MAX('T1'!M84,'T2'!K84),COUNTRY_INFO!F84*0.5),IF(COUNTRY_INFO!K84=3,IF(COUNTRY_INFO!F84>MAX('T1'!M84,'T2'!K84),MAX('T1'!M84,'T2'!K84),COUNTRY_INFO!F84),0)))","v":0},{"$f":"IF(AND(COUNTRY_INFO!K84>0,COUNTRY_INFO!K84<4),IF(Z84>0,IF(COUNTRY_INFO!K84=1, AD84/(COUNTRY_INFO!F84*0.33)*100, IF(COUNTRY_INFO!K84=2, AD84/(COUNTRY_INFO!F84*0.5)*100, IF(COUNTRY_INFO!K84=3, AD84/COUNTRY_INFO!F84*100))),\"-\"),0)","v":0},{"$f":"IF(COUNTRY_INFO!K84=2,IF(COUNTRY_INFO!G84*0.2>MAX('T1'!N84,'T2'!L84),MAX('T1'!N84,'T2'!L84),COUNTRY_INFO!G84*0.2),IF(COUNTRY_INFO!K84=3,IF(COUNTRY_INFO!G84>MAX('T1'!N84,'T2'!L84),MAX('T1'!N84,'T2'!L84),COUNTRY_INFO!G84),0))","v":0},{"$f":"IF(AND(COUNTRY_INFO!K84>0,COUNTRY_INFO!K84<4),IF(Z84>0,IF(COUNTRY_INFO!K84=1, 0, IF(COUNTRY_INFO!K84=2, AF84/(COUNTRY_INFO!G84*0.2)*100, IF(COUNTRY_INFO!K84=3, AF84/COUNTRY_INFO!G84*100))),\"-\"),0)","v":0},0,{"$f":"IF(AND(COUNTRY_INFO!K84>0,COUNTRY_INFO!K84<4), IF(AC84/Z84*100<>0, IF(AH84/Z84*100>100,100,AH84/Z84*100), \"-\"),0)","v":"-"},null,{"$f":"IF(AND(D84<>0, D84<>\"Unknown\",D84<>\"Stopped\",D84<>\"Not required\"),D84/COUNTRY_INFO!D84, 0)","v":0},{"$f":"IF(AND(J84<>0,J84<>\"Unknown\",J84<>\"Stopped\",J84<>\"Not required\"),J84/COUNTRY_INFO!D84, 0)","v":0},{"$f":"IF(AND(P84<>0,P84<>\"Unknown\",P84<>\"Not required\"),P84/(COUNTRY_INFO!E84+COUNTRY_INFO!F84), 0)","v":1},{"$f":"IF(AND(Z84<>0,Z84<>\"Unknown\",Z84<>\"Not required\"),IF(COUNTRY_INFO!K84=1,1,IF(COUNTRY_INFO!K84=2,0.5*COUNTRY_INFO!F84/(0.5*COUNTRY_INFO!F84+0.2*COUNTRY_INFO!G84),IF(COUNTRY_INFO!K84=3,COUNTRY_INFO!F84/(COUNTRY_INFO!F84+COUNTRY_INFO!G84)))),0)","v":0.58588988051320035},{"$f":"IF(AND(Z84<>0,Z84<>\"Unknown\",Z84<>\"Not required\"),IF(COUNTRY_INFO!K84=1,0,IF(COUNTRY_INFO!K84=2,0.2*COUNTRY_INFO!G84/(0.5*COUNTRY_INFO!F84+0.2*COUNTRY_INFO!G84),IF(COUNTRY_INFO!K84=3,COUNTRY_INFO!G84/(COUNTRY_INFO!F84+COUNTRY_INFO!G84)))),0)","v":0.4141101194867996},{"$f":"MAX(COUNTRY_INFO!D84*AK84*PROFILE!$G$7,COUNTRY_INFO!D84*AL84*PROFILE!$G$7)","v":0},{"$f":"MAX(COUNTRY_INFO!D84*AK84*PROFILE!$G$8,COUNTRY_INFO!D84*AL84*PROFILE!$G$8,COUNTRY_INFO!D84*AM84*PROFILE!$G$8)","v":33291.301980158976},{"$f":"MAX(COUNTRY_INFO!D84*AK84*PROFILE!$G$9,COUNTRY_INFO!D84*AL84*PROFILE!$G$9,COUNTRY_INFO!D84*AM84*PROFILE!$G$9,IF(AND(DISTRICT!Z84<>\"Unknown\",Z84<>\"Not required\"),COUNTRY_INFO!O84*DISTRICT!AN84,0))","v":58015.115998437366},{"$f":"MAX(COUNTRY_INFO!D84*AK84*PROFILE!$G$10,COUNTRY_INFO!D84*AL84*PROFILE!$G$10,IF(AND(DISTRICT!Z84<>\"Unknown\",Z84<>\"Not required\"),COUNTRY_INFO!O84*DISTRICT!AO84,0))","v":28709.020914615128},120015.43889321148,0,{"$f":"MAX('MDA2'!J84,'T1'!L84,'T2'!J84,T3_R1!K84,T3_R2!K84)","v":0},{"$f":"MAX('MDA1'!K84,'MDA2'!K84,'MDA3'!I84,'MDA3'!L84,'T1'!M84,'T2'!K84,T3_R1!L84,T3_R2!L84)","v":0},{"$f":"MAX('MDA1'!L84,'MDA2'!L84,'MDA3'!J84,'MDA3'!M84,'T1'!N84,'T2'!L84,T3_R1!M84,T3_R2!M84)","v":0},0,{"$f":"MAX('MDA2'!J84,T84)","v":0},{"$f":"MAX('MDA1'!K84,'MDA2'!K84,'MDA3'!I84,'MDA3'!L84,V84,AD84)","v":0},{"$f":"MAX('MDA1'!L84,'MDA2'!L84,'MDA3'!J84,'MDA3'!M84,AF84)","v":0},0,0]
[{"$f":"IF(COUNTRY_INFO!A85=0,\" \",COUNTRY_INFO!A85)","v":"Tanzania"},{"$f":"IF(COUNTRY_INFO!B85=0,\" \",COUNTRY_INFO!B85)","v":"Mara"},{"$f":"IF(COUNTRY_INFO!C85=0,\" \",COUNTRY_INFO!C85)","v":"Musoma District Council"},{"$f":"COUNTRY_INFO!L85","v":0},null,null,{"$f":"MAX('MDA1'!M85,'MDA2'!M85)","v":0},{"$f":"IF(AND(COUNTRY_INFO!H85>0,COUNTRY_INFO!H85<4),IF(D85>MAX('MDA1'!M85,'MDA2'!M85),MAX('MDA1'!M85,'MDA2'!M85),D85),0)","v":0},{"$f":"IF(AND(COUNTRY_INFO!H85>0,COUNTRY_INFO!H85<4), IF(G85/D85*100<>0, IF(G85/D85*100>100,100,G85/D85*100), \"-\"),0)","v":0},{"$f":"COUNTRY_INFO!M85","v":0},null,null,{"$f":"MAX('MDA1'!M85,MAX('MDA3'!I85,'MDA3'!L85)+MAX('MDA3'!J85,'MDA3'!M85))","v":0},{"$f":"IF(AND(COUNTRY_INFO!I85>0,COUNTRY_INFO!I85<4),IF(J85>MAX('MDA1'!M85,MAX('MDA3'!I85,'MDA3'!L85)+MAX('MDA3'!J85,'MDA3'!M85)),MAX('MDA1'!M85,MAX('MDA3'!I85,'MDA3'!L85)+MAX('MDA3'!J85,'MDA3'!M85)),J85),0)","v":0},{"$f":"IF(AND(COUNTRY_INFO!I85>0,COUNTRY_INFO!I85<4), IF(M85/J85*100<>0, IF(M85/J85*100>100,100,M85/J85*100), \"-\"),0)","v":0},{"$f":"COUNTRY_INFO!N85","v":104967},null,null,{"$f":"SUM(MAX('MDA2'!J85, 'T1'!L85, MAX(T3_R1!K85, T3_R2!K85)), MAX('MDA1'!K85, 'MDA2'!K85, 'T1'!M85, MAX(T3_R1!L85, T3_R2!L85)), MAX('MDA1'!L85, 'MDA2'!L85, 'T1'!N85, MAX(T3_R1!M85, T3_R2!M85)))","v":0},{"$f":"IF(AND(COUNTRY_INFO!J85>1,COUNTRY_INFO!J85<4),IF(COUNTRY_INFO!E85>MAX('MDA2'!J85,'T1'!L85,MAX(T3_R1!K85,T3_R2!K85)),MAX('MDA2'!J85,'T1'!L85,MAX(T3_R1!K85,T3_R2!K85)),COUNTRY_INFO!E85),0)","v":0},{"$f":"IF(AND(COUNTRY_INFO!J85>1,COUNTRY_INFO!J85<4), IF(T85/COUNTRY_INFO!E85*100<>0, IF(T85/COUNTRY_INFO!E85*100>100,100,T85/COUNTRY_INFO!E85*100), \"-\"),0)","v":"-"},{"$f":"IF(AND(COUNTRY_INFO!J85>1,COUNTRY_INFO!J85<4),IF(COUNTRY_INFO!F85>MAX('MDA1'!K85,'MDA2'!K85,'T1'!M85,MAX(T3_R1!L85,T3_R2!L85)),MAX('MDA1'!K85,'MDA2'!K85,'T1'!M85,MAX(T3_R1!L85,T3_R2!L85)),COUNTRY_INFO!F85),0)","v":0},{"$f":"IF(AND(COUNTRY_INFO!J85>1,COUNTRY_INFO!J85<4), IF(V85/COUNTRY_INFO!F85*100<>0, IF(V85/COUNTRY_INFO!F85*100>100,100,V85/COUNTRY_INFO!F85*100), \"-\"),0)","v":"-"},0,{"$f":"IF(AND(COUNTRY_INFO!J85>1,COUNTRY_INFO!J85<4), IF(S85/P85*100<>0, IF(X85/P85*100>100,100,X85/P85*100), \"-\"),0)","v":"-"},{"$f":"COUNTRY_INFO!O85","v":65846.688483714737},null,null,{"$f":"MAX('T1'!L85,'T2'!J85)+MAX('T1'!M85,'T2'!K85)+MAX('T1'!N85,'T2'!L85)","v":0},{"$f":"IF(COUNTRY_INFO!K85=1,IF(COUNTRY_INFO!F85*0.33>MAX('T1'!M85,'T2'!K85),MAX('T1'!M85,'T2'!K85),COUNTRY_INFO!F85*0.33),IF(COUNTRY_INFO!K85=2,IF(COUNTRY_INFO!F85*0.5>MAX('T1'!M85,'T2'!K85),MAX('T1'!M85,'T2'!K85),COUNTRY_INFO!F85*0.5),IF(COUNTRY_INFO!K85=3,IF(COUNTRY_INFO!F85>MAX('T1'!M85,'T2'!K85),MAX('T1'!M85,'T2'!K85),COUNTRY_INFO!F85),0)))","v":0},{"$f":"IF(AND(COUNTRY_INFO!K85>0,COUNTRY_INFO!K85<4),IF(Z85>0,IF(COUNTRY_INFO!K85=1, AD85/(COUNTRY_INFO!F85*0.33)*100, IF(COUNTRY_INFO!K85=2, AD85/(COUNTRY_INFO!F85*0.5)*100, IF(COUNTRY_INFO!K85=3, AD85/COUNTRY_INFO!F85*100))),\"-\"),0)","v":0},{"$f":"IF(COUNTRY_INFO!K85=2,IF(COUNTRY_INFO!G85*0.2>MAX('T1'!N85,'T2'!L85),MAX('T1'!N85,'T2'!L85),COUNTRY_INFO!G85*0.2),IF(COUNTRY_INFO!K85=3,IF(COUNTRY_INFO!G85>MAX('T1'!N85,'T2'!L85),MAX('T1'!N85,'T2'!L85),COUNTRY_INFO!G85),0))","v":0},{"$f":"IF(AND(COUNTRY_INFO!K85>0,COUNTRY_INFO!K85<4),IF(Z85>0,IF(COUNTRY_INFO!K85=1, 0, IF(COUNTRY_INFO!K85=2, AF85/(COUNTRY_INFO!G85*0.2)*100, IF(COUNTRY_INFO!K85=3, AF85/COUNTRY_INFO!G85*100))),\"-\"),0)","v":0},0,{"$f":"IF(AND(COUNTRY_INFO!K85>0,COUNTRY_INFO!K85<4), IF(AC85/Z85*100<>0, IF(AH85/Z85*100>100,100,AH85/Z85*100), \"-\"),0)","v":"-"},null,{"$f":"IF(AND(D85<>0, D85<>\"Unknown\",D85<>\"Stopped\",D85<>\"Not required\"),D85/COUNTRY_INFO!D85, 0)","v":0},{"$f":"IF(AND(J85<>0,J85<>\"Unknown\",J85<>\"Stopped\",J85<>\"Not required\"),J85/COUNTRY_INFO!D85, 0)","v":0},{"$f":"IF(AND(P85<>0,P85<>\"Unknown\",P85<>\"Not required\"),P85/(COUNTRY_INFO!E85+COUNTRY_INFO!F85), 0)","v":1},{"$f":"IF(AND(Z85<>0,Z85<>\"Unknown\",Z85<>\"Not required\"),IF(COUNTRY_INFO!K85=1,1,IF(COUNTRY_INFO!K85=2,0.5*COUNTRY_INFO!F85/(0.5*COUNTRY_INFO!F85+0.2*COUNTRY_INFO!G85),IF(COUNTRY_INFO!K85=3,COUNTRY_INFO!F85/(COUNTRY_INFO!F85+COUNTRY_INFO!G85)))),0)","v":0.54869122247408963},{"$f":"IF(AND(Z85<>0,Z85<>\"Unknown\",Z85<>\"Not required\"),IF(COUNTRY_INFO!K85=1,0,IF(COUNTRY_INFO!K85=2,0.2*COUNTRY_INFO!G85/(0.5*COUNTRY_INFO!F85+0.2*COUNTRY_INFO!G85),IF(COUNTRY_INFO!K85=3,COUNTRY_INFO!G85/(COUNTRY_INFO!F85+COUNTRY_INFO!G85)))),0)","v":0.45130877752591031},{"$f":"MAX(COUNTRY_INFO!D85*AK85*PROFILE!$G$7,COUNTRY_INFO!D85*AL85*PROFILE!$G$7)","v":0},{"$f":"MAX(COUNTRY_INFO!D85*AK85*PROFILE!$G$8,COUNTRY_INFO!D85*AL85*PROFILE!$G$8,COUNTRY_INFO!D85*AM85*PROFILE!$G$8)","v":32708.330053643647},{"$f":"MAX(COUNTRY_INFO!D85*AK85*PROFILE!$G$9,COUNTRY_INFO!D85*AL85*PROFILE!$G$9,COUNTRY_INFO!D85*AM85*PROFILE!$G$9,IF(AND(DISTRICT!Z85<>\"Unknown\",Z85<>\"Not required\"),COUNTRY_INFO!O85*DISTRICT!AN85,0))","v":56999.199469826497},{"$f":"MAX(COUNTRY_INFO!D85*AK85*PROFILE!$G$10,COUNTRY_INFO!D85*AL85*PROFILE!$G$10,IF(AND(DISTRICT!Z85<>\"Unknown\",Z85<>\"Not required\"),COUNTRY_INFO!O85*DISTRICT!AO85,0))","v":29717.188483714734},119424.71800718489,0,{"$f":"MAX('MDA2'!J85,'T1'!L85,'T2'!J85,T3_R1!K85,T3_R2!K85)","v":0},{"$f":"MAX('MDA1'!K85,'MDA2'!K85,'MDA3'!I85,'MDA3'!L85,'T1'!M85,'T2'!K85,T3_R1!L85,T3_R2!L85)","v":0},{"$f":"MAX('MDA1'!L85,'MDA2'!L85,'MDA3'!J85,'MDA3'!M85,'T1'!N85,'T2'!L85,T3_R1!M85,T3_R2!M85)","v":0},0,{"$f":"MAX('MDA2'!J85,T85)","v":0},{"$f":"MAX('MDA1'!K85,'MDA2'!K85,'MDA3'!I85,'MDA3'!L85,V85,AD85)","v":0},{"$f":"MAX('MDA1'!L85,'MDA2'!L85,'MDA3'!J85,'MDA3'!M85,AF85)","v":0},0,0]
[{"$f":"IF(COUNTRY_INFO!A86=0,\" \",COUNTRY_INFO!A86)","v":"Tanzania"},{"$f":"IF(COUNTRY_INFO!B86=0,\" \",COUNTRY_INFO!B86)","v":"Mara"},{"$f":"IF(COUNTRY_INFO!C86=0,\" \",COUNTRY_INFO!C86)","v":"Musoma Municipal Council"},{"$f":"COUNTRY_INFO!L86","v":0},null,null,{"$f":"MAX('MDA1'!M86,'MDA2'!M86)","v":0},{"$f":"IF(AND(COUNTRY_INFO!H86>0,COUNTRY_INFO!H86<4),IF(D86>MAX('MDA1'!M86,'MDA2'!M86),MAX('MDA1'!M86,'MDA2'!M86),D86),0)","v":0},{"$f":"IF(AND(COUNTRY_INFO!H86>0,COUNTRY_INFO!H86<4), IF(G86/D86*100<>0, IF(G86/D86*100>100,100,G86/D86*100), \"-\"),0)","v":0},{"$f":"COUNTRY_INFO!M86","v":0},null,null,{"$f":"MAX('MDA1'!M86,MAX('MDA3'!I86,'MDA3'!L86)+MAX('MDA3'!J86,'MDA3'!M86))","v":0},{"$f":"IF(AND(COUNTRY_INFO!I86>0,COUNTRY_INFO!I86<4),IF(J86>MAX('MDA1'!M86,MAX('MDA3'!I86,'MDA3'!L86)+MAX('MDA3'!J86,'MDA3'!M86)),MAX('MDA1'!M86,MAX('MDA3'!I86,'MDA3'!L86)+MAX('MDA3'!J86,'MDA3'!M86)),J86),0)","v":0},{"$f":"IF(AND(COUNTRY_INFO!I86>0,COUNTRY_INFO!I86<4), IF(M86/J86*100<>0, IF(M86/J86*100>100,100,M86/J86*100), \"-\"),0)","v":0},{"$f":"COUNTRY_INFO!N86","v":65175},null,null,{"$f":"SUM(MAX('MDA2'!J86, 'T1'!L86, MAX(T3_R1!K86, T3_R2!K86)), MAX('MDA1'!K86, 'MDA2'!K86, 'T1'!M86, MAX(T3_R1!L86, T3_R2!L86)), MAX('MDA1'!L86, 'MDA2'!L86, 'T1'!N86, MAX(T3_R1!M86, T3_R2!M86)))","v":0},{"$f":"IF(AND(COUNTRY_INFO!J86>1,COUNTRY_INFO!J86<4),IF(COUNTRY_INFO!E86>MAX('MDA2'!J86,'T1'!L86,MAX(T3_R1!K86,T3_R2!K86)),MAX('MDA2'!J86,'T1'!L86,MAX(T3_R1!K86,T3_R2!K86)),COUNTRY_INFO!E86),0)","v":0},{"$f":"IF(AND(COUNTRY_INFO!J86>1,COUNTRY_INFO!J86<4), IF(T86/COUNTRY_INFO!E86*100<>0, IF(T86/COUNTRY_INFO!E86*100>100,100,T86/COUNTRY_INFO!E86*100), \"-\"),0)","v":"-"},{"$f":"IF(AND(COUNTRY_INFO!J86>1,COUNTRY_INFO!J86<4),IF(COUNTRY_INFO!F86>MAX('MDA1'!K86,'MDA2'!K86,'T1'!M86,MAX(T3_R1!L86,T3_R2!L86)),MAX('MDA1'!K86,'MDA2'!K86,'T1'!M86,MAX(T3_R1!L86,T3_R2!L86)),COUNTRY_INFO!F86),0)","v":0},{"$f":"IF(AND(COUNTRY_INFO!J86>1,COUNTRY_INFO!J86<4), IF(V86/COUNTRY_INFO!F86*100<>0, IF(V86/COUNTRY_INFO!F86*100>100,100,V86/COUNTRY_INFO!F86*100), \"-\"),0)","v":"-"},0,{"$f":"IF(AND(COUNTRY_INFO!J86>1,COUNTRY_INFO!J86<4), IF(S86/P86*100<>0, IF(X86/P86*100>100,100,X86/P86*100), \"-\"),0)","v":"-"},{"$f":"COUNTRY_INFO!O86","v":41720.223763339141},null,null,{"$f":"MAX('T1'!L86,'T2'!J86)+MAX('T1'!M86,'T2'!K86)+MAX('T1'!N86,'T2'!L86)","v":0},{"$f":"IF(COUNTRY_INFO!K86=1,IF(COUNTRY_INFO!F86*0.33>MAX('T1'!M86,'T2'!K86),MAX('T1'!M86,'T2'!K86),COUNTRY_INFO!F86*0.33),IF(COUNTRY_INFO!K86=2,IF(COUNTRY_INFO!F86*0.5>MAX('T1'!M86,'T2'!K86),MAX('T1'!M86,'T2'!K86),COUNTRY_INFO!F86*0.5),IF(COUNTRY_INFO!K86=3,IF(COUNTRY_INFO!F86>MAX('T1'!M86,'T2'!K86),MAX('T1'!M86,'T2'!K86),COUNTRY_INFO!F86),0)))","v":0},{"$f":"IF(AND(COUNTRY_INFO!K86>0,COUNTRY_INFO!K86<4),IF(Z86>0,IF(COUNTRY_INFO!K86=1, AD86/(COUNTRY_INFO!F86*0.33)*100, IF(COUNTRY_INFO!K86=2, AD86/(COUNTRY_INFO!F86*0.5)*100, IF(COUNTRY_INFO!K86=3, AD86/COUNTRY_INFO!F86*100))),\"-\"),0)","v":0},{"$f":"IF(COUNTRY_INFO!K86=2,IF(COUNTRY_INFO!G86*0.2>MAX('T1'!N86,'T2'!L86),MAX('T1'!N86,'T2'!L86),COUNTRY_INFO!G86*0.2),IF(COUNTRY_INFO!K86=3,IF(COUNTRY_INFO!G86>MAX('T1'!N86,'T2'!L86),MAX('T1'!N86,'T2'!L86),COUNTRY_INFO!G86),0))","v":0},{"$f":"IF(AND(COUNTRY_INFO!K86>0,COUNTRY_INFO!K86<4),IF(Z86>0,IF(COUNTRY_INFO!K86=1, 0, IF(COUNTRY_INFO!K86=2, AF86/(COUNTRY_INFO!G86*0.2)*100, IF(COUNTRY_INFO!K86=3, AF86/COUNTRY_INFO!G86*100))),\"-\"),0)","v":0},0,{"$f":"IF(AND(COUNTRY_INFO!K86>0,COUNTRY_INFO!K86<4), IF(AC86/Z86*100<>0, IF(AH86/Z86*100>100,100,AH86/Z86*100), \"-\"),0)","v":"-"},null,{"$f":"IF(AND(D86<>0, D86<>\"Unknown\",D86<>\"Stopped\",D86<>\"Not required\"),D86/COUNTRY_INFO!D86, 0)","v":0},{"$f":"IF(AND(J86<>0,J86<>\"Unknown\",J86<>\"Stopped\",J86<>\"Not required\"),J86/COUNTRY_INFO!D86, 0)","v":0},{"$f":"IF(AND(P86<>0,P86<>\"Unknown\",P86<>\"Not required\"),P86/(COUNTRY_INFO!E86+COUNTRY_INFO!F86), 0)","v":1},{"$f":"IF(AND(Z86<>0,Z86<>\"Unknown\",Z86<>\"Not required\"),IF(COUNTRY_INFO!K86=1,1,IF(COUNTRY_INFO!K86=2,0.5*COUNTRY_INFO!F86/(0.5*COUNTRY_INFO!F86+0.2*COUNTRY_INFO!G86),IF(COUNTRY_INFO!K86=3,COUNTRY_INFO!F86/(COUNTRY_INFO!F86+COUNTRY_INFO!G86)))),0)","v":0.52817310197083078},{"$f":"IF(AND(Z86<>0,Z86<>\"Unknown\",Z86<>\"Not required\"),IF(COUNTRY_INFO!K86=1,0,IF(COUNTRY_INFO!K86=2,0.2*COUNTRY_INFO!G86/(0.5*COUNTRY_INFO!F86+0.2*COUNTRY_INFO!G86),IF(COUNTRY_INFO!K86=3,COUNTRY_INFO!G86/(COUNTRY_INFO!F86+COUNTRY_INFO!G86)))),0)","v":0.47182689802916927},{"$f":"MAX(COUNTRY_INFO!D86*AK86*PROFILE!$G$7,COUNTRY_INFO!D86*AL86*PROFILE!$G$7)","v":0},{"$f":"MAX(COUNTRY_INFO!D86*AK86*PROFILE!$G$8,COUNTRY_INFO!D86*AL86*PROFILE!$G$8,COUNTRY_INFO!D86*AM86*PROFILE!$G$8)","v":21104.222138124696},{"$f":"MAX(COUNTRY_INFO!D86*AK86*PROFILE!$G$9,COUNTRY_INFO!D86*AL86*PROFILE!$G$9,COUNTRY_INFO!D86*AM86*PROFILE!$G$9,IF(AND(DISTRICT!Z86<>\"Unknown\",Z86<>\"Not required\"),COUNTRY_INFO!O86*DISTRICT!AN86,0))","v":36777.290841006863},{"$f":"MAX(COUNTRY_INFO!D86*AK86*PROFILE!$G$10,COUNTRY_INFO!D86*AL86*PROFILE!$G$10,IF(AND(DISTRICT!Z86<>\"Unknown\",Z86<>\"Not required\"),COUNTRY_INFO!O86*DISTRICT!AO86,0))","v":19684.723763339141},77566.236742470704,0,{"$f":"MAX('MDA2'!J86,'T1'!L86,'T2'!J86,T3_R1!K86,T3_R2!K86)","v":0},{"$f":"MAX('MDA1'!K86,'MDA2'!K86,'MDA3'!I86,'MDA3'!L86,'T1'!M86,'T2'!K86,T3_R1!L86,T3_R2!L86)","v":0},{"$f":"MAX('MDA1'!L86,'MDA2'!L86,'MDA3'!J86,'MDA3'!M86,'T1'!N86,'T2'!L86,T3_R1!M86,T3_R2!M86)","v":0},0,{"$f":"MAX('MDA2'!J86,T86)","v":0},{"$f":"MAX('MDA1'!K86,'MDA2'!K86,'MDA3'!I86,'MDA3'!L86,V86,AD86)","v":0},{"$f":"MAX('MDA1'!L86,'MDA2'!L86,'MDA3'!J86,'MDA3'!M86,AF86)","v":0},0,0]
[{"$f":"IF(COUNTRY_INFO!A87=0,\" \",COUNTRY_INFO!A87)","v":"Tanzania"},{"$f":"IF(COUNTRY_INFO!B87=0,\" \",COUNTRY_INFO!B87)","v":"Mara"},{"$f":"IF(COUNTRY_INFO!C87=0,\" \",COUNTRY_INFO!C87)","v":"Rorya District Council"},{"$f":"COUNTRY_INFO!L87","v":0},null,null,{"$f":"MAX('MDA1'!M87,'MDA2'!M87)","v":0},{"$f":"IF(AND(COUNTRY_INFO!H87>0,COUNTRY_INFO!H87<4),IF(D87>MAX('MDA1'!M87,'MDA2'!M87),MAX('MDA1'!M87,'MDA2'!M87),D87),0)","v":0},{"$f":"IF(AND(COUNTRY_INFO!H87>0,COUNTRY_INFO!H87<4), IF(G87/D87*100<>0, IF(G87/D87*100>100,100,G87/D87*100), \"-\"),0)","v":0},{"$f":"COUNTRY_INFO!M87","v":0},null,null,{"$f":"MAX('MDA1'!M87,MAX('MDA3'!I87,'MDA3'!L87)+MAX('MDA3'!J87,'MDA3'!M87))","v":0},{"$f":"IF(AND(COUNTRY_INFO!I87>0,COUNTRY_INFO!I87<4),IF(J87>MAX('MDA1'!M87,MAX('MDA3'!I87,'MDA3'!L87)+MAX('MDA3'!J87,'MDA3'!M87)),MAX('MDA1'!M87,MAX('MDA3'!I87,'MDA3'!L87)+MAX('MDA3'!J87,'MDA3'!M87)),J87),0)","v":0},{"$f":"IF(AND(COUNTRY_INFO!I87>0,COUNTRY_INFO!I87<4), IF(M87/J87*100<>0, IF(M87/J87*100>100,100,M87/J87*100), \"-\"),0)","v":0},{"$f":"COUNTRY_INFO!N87","v":144556},null,null,{"$f":"SUM(MAX('MDA2'!J87, 'T1'!L87, MAX(T3_R1!K87, T3_R2!K87)), MAX('MDA1'!K87, 'MDA2'!K87, 'T1'!M87, MAX(T3_R1!L87, T3_R2!L87)), MAX('MDA1'!L87, 'MDA2'!L87, 'T1'!N87, MAX(T3_R1!M87, T3_R2!M87)))","v":0},{"$f":"IF(AND(COUNTRY_INFO!J87>1,COUNTRY_INFO!J87<4),IF(COUNTRY_INFO!E87>MAX('MDA2'!J87,'T1'!L87,MAX(T3_R1!K87,T3_R2!K87)),MAX('MDA2'!J87,'T1'!L87,MAX(T3_R1!K87,T3_R2!K87)),COUNTRY_INFO!E87),0)","v":0},{"$f":"IF(AND(COUNTRY_INFO!J87>1,COUNTRY_INFO!J87<4), IF(T87/COUNTRY_INFO!E87*100<>0, IF(T87/COUNTRY_INFO!E87*100>100,100,T87/COUNTRY_INFO!E87*100), \"-\"),0)","v":"-"},{"$f":"IF(AND(COUNTRY_INFO!J87>1,COUNTRY_INFO!J87<4),IF(COUNTRY_INFO!F87>MAX('MDA1'!K87,'MDA2'!K87,'T1'!M87,MAX(T3_R1!L87,T3_R2!L87)),MAX('MDA1'!K87,'MDA2'!K87,'T1'!M87,MAX(T3_R1!L87,T3_R2!L87)),COUNTRY_INFO!F87),0)","v":0},{"$f":"IF(AND(COUNTRY_INFO!J87>1,COUNTRY_INFO!J87<4), IF(V87/COUNTRY_INFO!F87*100<>0, IF(V87/COUNTRY_INFO!F87*100>100,100,V87/COUNTRY_INFO!F87*100), \"-\"),0)","v":"-"},0,{"$f":"IF(AND(COUNTRY_INFO!J87>1,COUNTRY_INFO!J87<4), IF(S87/P87*100<>0, IF(X87/P87*100>100,100,X87/P87*100), \"-\"),0)","v":"-"},{"$f":"COUNTRY_INFO!O87","v":87138.354428946288},null,null,{"$f":"MAX('T1'!L87,'T2'!J87)+MAX('T1'!M87,'T2'!K87)+MAX('T1'!N87,'T2'!L87)","v":0},{"$f":"IF(COUNTRY_INFO!K87=1,IF(COUNTRY_INFO!F87*0.33>MAX('T1'!M87,'T2'!K87),MAX('T1'!M87,'T2'!K87),COUNTRY_INFO!F87*0.33),IF(COUNTRY_INFO!K87=2,IF(COUNTRY_INFO!F87*0.5>MAX('T1'!M87,'T2'!K87),MAX('T1'!M87,'T2'!K87),COUNTRY_INFO!F87*0.5),IF(COUNTRY_INFO!K87=3,IF(COUNTRY_INFO!F87>MAX('T1'!M87,'T2'!K87),MAX('T1'!M87,'T2'!K87),COUNTRY_INFO!F87),0)))","v":0},{"$f":"IF(AND(COUNTRY_INFO!K87>0,COUNTRY_INFO!K87<4),IF(Z87>0,IF(COUNTRY_INFO!K87=1, AD87/(COUNTRY_INFO!F87*0.33)*100, IF(COUNTRY_INFO!K87=2, AD87/(COUNTRY_INFO!F87*0.5)*100, IF(COUNTRY_INFO!K87=3, AD87/COUNTRY_INFO!F87*100))),\"-\"),0)","v":0},{"$f":"IF(COUNTRY_INFO!K87=2,IF(COUNTRY_INFO!G87*0.2>MAX('T1'!N87,'T2'!L87),MAX('T1'!N87,'T2'!L87),COUNTRY_INFO!G87*0.2),IF(COUNTRY_INFO!K87=3,IF(COUNTRY_INFO!G87>MAX('T1'!N87,'T2'!L87),MAX('T1'!N87,'T2'!L87),COUNTRY_INFO!G87),0))","v":0},{"$f":"IF(AND(COUNTRY_INFO!K87>0,COUNTRY_INFO!K87<4),IF(Z87>0,IF(COUNTRY_INFO!K87=1, 0, IF(COUNTRY_INFO!K87=2, AF87/(COUNTRY_INFO!G87*0.2)*100, IF(COUNTRY_INFO!K87=3, AF87/COUNTRY_INFO!G87*100))),\"-\"),0)","v":0},0,{"$f":"IF(AND(COUNTRY_INFO!K87>0,COUNTRY_INFO!K87<4), IF(AC87/Z87*100<>0, IF(AH87/Z87*100>100,100,AH87/Z87*100), \"-\"),0)","v":"-"},null,{"$f":"IF(AND(D87<>0, D87<>\"Unknown\",D87<>\"Stopped\",D87<>\"Not required\"),D87/COUNTRY_INFO!D87, 0)","v":0},{"$f":"IF(AND(J87<>0,J87<>\"Unknown\",J87<>\"Stopped\",J87<>\"Not required\"),J87/COUNTRY_INFO!D87, 0)","v":0},{"$f":"IF(AND(P87<>0,P87<>\"Unknown\",P87<>\"Not required\"),P87/(COUNTRY_INFO!E87+COUNTRY_INFO!F87), 0)","v":1},{"$f":"IF(AND(Z87<>0,Z87<>\"Unknown\",Z87<>\"Not required\"),IF(COUNTRY_INFO!K87=1,1,IF(COUNTRY_INFO!K87=2,0.5*COUNTRY_INFO!F87/(0.5*COUNTRY_INFO!F87+0.2*COUNTRY_INFO!G87),IF(COUNTRY_INFO!K87=3,COUNTRY_INFO!F87/(COUNTRY_INFO!F87+COUNTRY_INFO!G87)))),0)","v":0.590348536383556},{"$f":"IF(AND(Z87<>0,Z87<>\"Unknown\",Z87<>\"Not required\"),IF(COUNTRY_INFO!K87=1,0,IF(COUNTRY_INFO!K87=2,0.2*COUNTRY_INFO!G87/(0.5*COUNTRY_INFO!F87+0.2*COUNTRY_INFO!G87),IF(COUNTRY_INFO!K87=3,COUNTRY_INFO!G87/(COUNTRY_INFO!F87+COUNTRY_INFO!G87)))),0)","v":0.40965146361644394},{"$f":"MAX(COUNTRY_INFO!D87*AK87*PROFILE!$G$7,COUNTRY_INFO!D87*AL87*PROFILE!$G$7)","v":0},{"$f":"MAX(COUNTRY_INFO!D87*AK87*PROFILE!$G$8,COUNTRY_INFO!D87*AL87*PROFILE!$G$8,COUNTRY_INFO!D87*AM87*PROFILE!$G$8)","v":41671.873220310961},{"$f":"MAX(COUNTRY_INFO!D87*AK87*PROFILE!$G$9,COUNTRY_INFO!D87*AL87*PROFILE!$G$9,COUNTRY_INFO!D87*AM87*PROFILE!$G$9,IF(AND(DISTRICT!Z87<>\"Unknown\",Z87<>\"Not required\"),COUNTRY_INFO!O87*DISTRICT!AN87,0))","v":72619.525670379677},{"$f":"MAX(COUNTRY_INFO!D87*AK87*PROFILE!$G$10,COUNTRY_INFO!D87*AL87*PROFILE!$G$10,IF(AND(DISTRICT!Z87<>\"Unknown\",Z87<>\"Not required\"),COUNTRY_INFO!O87*DISTRICT!AO87,0))","v":35696.354428946288},149987.75331963692,0,{"$f":"MAX('MDA2'!J87,'T1'!L87,'T2'!J87,T3_R1!K87,T3_R2!K87)","v":0},{"$f":"MAX('MDA1'!K87,'MDA2'!K87,'MDA3'!I87,'MDA3'!L87,'T1'!M87,'T2'!K87,T3_R1!L87,T3_R2!L87)","v":0},{"$f":"MAX('MDA1'!L87,'MDA2'!L87,'MDA3'!J87,'MDA3'!M87,'T1'!N87,'T2'!L87,T3_R1!M87,T3_R2!M87)","v":0},0,{"$f":"MAX('MDA2'!J87,T87)","v":0},{"$f":"MAX('MDA1'!K87,'MDA2'!K87,'MDA3'!I87,'MDA3'!L87,V87,AD87)","v":0},{"$f":"MAX('MDA1'!L87,'MDA2'!L87,'MDA3'!J87,'MDA3'!M87,AF87)","v":0},0,0]
[{"$f":"IF(COUNTRY_INFO!A88=0,\" \",COUNTRY_INFO!A88)","v":"Tanzania"},{"$f":"IF(COUNTRY_INFO!B88=0,\" \",COUNTRY_INFO!B88)","v":"Mara"},{"$f":"IF(COUNTRY_INFO!C88=0,\" \",COUNTRY_INFO!C88)","v":"Serengeti District Council"},{"$f":"COUNTRY_INFO!L88","v":0},null,null,{"$f":"MAX('MDA1'!M88,'MDA2'!M88)","v":0},{"$f":"IF(AND(COUNTRY_INFO!H88>0,COUNTRY_INFO!H88<4),IF(D88>MAX('MDA1'!M88,'MDA2'!M88),MAX('MDA1'!M88,'MDA2'!M88),D88),0)","v":0},{"$f":"IF(AND(COUNTRY_INFO!H88>0,COUNTRY_INFO!H88<4), IF(G88/D88*100<>0, IF(G88/D88*100>100,100,G88/D88*100), \"-\"),0)","v":0},{"$f":"COUNTRY_INFO!M88","v":0},null,null,{"$f":"MAX('MDA1'!M88,MAX('MDA3'!I88,'MDA3'!L88)+MAX('MDA3'!J88,'MDA3'!M88))","v":0},{"$f":"IF(AND(COUNTRY_INFO!I88>0,COUNTRY_INFO!I88<4),IF(J88>MAX('MDA1'!M88,MAX('MDA3'!I88,'MDA3'!L88)+MAX('MDA3'!J88,'MDA3'!M88)),MAX('MDA1'!M88,MAX('MDA3'!I88,'MDA3'!L88)+MAX('MDA3'!J88,'MDA3'!M88)),J88),0)","v":0},{"$f":"IF(AND(COUNTRY_INFO!I88>0,COUNTRY_INFO!I88<4), IF(M88/J88*100<>0, IF(M88/J88*100>100,100,M88/J88*100), \"-\"),0)","v":0},{"$f":"COUNTRY_INFO!N88","v":124019},null,null,{"$f":"SUM(MAX('MDA2'!J88, 'T1'!L88, MAX(T3_R1!K88, T3_R2!K88)), MAX('MDA1'!K88, 'MDA2'!K88, 'T1'!M88, MAX(T3_R1!L88, T3_R2!L88)), MAX('MDA1'!L88, 'MDA2'!L88, 'T1'!N88, MAX(T3_R1!M88, T3_R2!M88)))","v":0},{"$f":"IF(AND(COUNTRY_INFO!J88>1,COUNTRY_INFO!J88<4),IF(COUNTRY_INFO!E88>MAX('MDA2'!J88,'T1'!L88,MAX(T3_R1!K88,T3_R2!K88)),MAX('MDA2'!J88,'T1'!L88,MAX(T3_R1!K88,T3_R2!K88)),COUNTRY_INFO!E88),0)","v":0},{"$f":"IF(AND(COUNTRY_INFO!J88>1,COUNTRY_INFO!J88<4), IF(T88/COUNTRY_INFO!E88*100<>0, IF(T88/COUNTRY_INFO!E88*100>100,100,T88/COUNTRY_INFO!E88*100), \"-\"),0)","v":"-"},{"$f":"IF(AND(COUNTRY_INFO!J88>1,COUNTRY_INFO!J88<4),IF(COUNTRY_INFO!F88>MAX('MDA1'!K88,'MDA2'!K88,'T1'!M88,MAX(T3_R1!L88,T3_R2!L88)),MAX('MDA1'!K88,'MDA2'!K88,'T1'!M88,MAX(T3_R1!L88,T3_R2!L88)),COUNTRY_INFO!F88),0)","v":0},{"$f":"IF(AND(COUNTRY_INFO!J88>1,COUNTRY_INFO!J88<4), IF(V88/COUNTRY_INFO!F88*100<>0, IF(V88/COUNTRY_INFO!F88*100>100,100,V88/COUNTRY_INFO!F88*100), \"-\"),0)","v":"-"},0,{"$f":"IF(AND(COUNTRY_INFO!J88>1,COUNTRY_INFO!J88<4), IF(S88/P88*100<>0, IF(X88/P88*100>100,100,X88/P88*100), \"-\"),0)","v":"-"},{"$f":"COUNTRY_INFO!O88","v":78366.4998606726},null,null,{"$f":"MAX('T1'!L88,'T2'!J88)+MAX('T1'!M88,'T2'!K88)+MAX('T1'!N88,'T2'!L88)","v":0},{"$f":"IF(COUNTRY_INFO!K88=1,IF(COUNTRY_INFO!F88*0.33>MAX('T1'!M88,'T2'!K88),MAX('T1'!M88,'T2'!K88),COUNTRY_INFO!F88*0.33),IF(COUNTRY_INFO!K88=2,IF(COUNTRY_INFO!F88*0.5>MAX('T1'!M88,'T2'!K88),MAX('T1'!M88,'T2'!K88),COUNTRY_INFO!F88*0.5),IF(COUNTRY_INFO!K88=3,IF(COUNTRY_INFO!F88>MAX('T1'!M88,'T2'!K88),MAX('T1'!M88,'T2'!K88),COUNTRY_INFO!F88),0)))","v":0},{"$f":"IF(AND(COUNTRY_INFO!K88>0,COUNTRY_INFO!K88<4),IF(Z88>0,IF(COUNTRY_INFO!K88=1, AD88/(COUNTRY_INFO!F88*0.33)*100, IF(COUNTRY_INFO!K88=2, AD88/(COUNTRY_INFO!F88*0.5)*100, IF(COUNTRY_INFO!K88=3, AD88/COUNTRY_INFO!F88*100))),\"-\"),0)","v":0},{"$f":"IF(COUNTRY_INFO!K88=2,IF(COUNTRY_INFO!G88*0.2>MAX('T1'!N88,'T2'!L88),MAX('T1'!N88,'T2'!L88),COUNTRY_INFO!G88*0.2),IF(COUNTRY_INFO!K88=3,IF(COUNTRY_INFO!G88>MAX('T1'!N88,'T2'!L88),MAX('T1'!N88,'T2'!L88),COUNTRY_INFO!G88),0))","v":0},{"$f":"IF(AND(COUNTRY_INFO!K88>0,COUNTRY_INFO!K88<4),IF(Z88>0,IF(COUNTRY_INFO!K88=1, 0, IF(COUNTRY_INFO!K88=2, AF88/(COUNTRY_INFO!G88*0.2)*100, IF(COUNTRY_INFO!K88=3, AF88/COUNTRY_INFO!G88*100))),\"-\"),0)","v":0},0,{"$f":"IF(AND(COUNTRY_INFO!K88>0,COUNTRY_INFO!K88<4), IF(AC88/Z88*100<>0, IF(AH88/Z88*100>100,100,AH88/Z88*100), \"-\"),0)","v":"-"},null,{"$f":"IF(AND(D88<>0, D88<>\"Unknown\",D88<>\"Stopped\",D88<>\"Not required\"),D88/COUNTRY_INFO!D88, 0)","v":0},{"$f":"IF(AND(J88<>0,J88<>\"Unknown\",J88<>\"Stopped\",J88<>\"Not required\"),J88/COUNTRY_INFO!D88, 0)","v":0},{"$f":"IF(AND(P88<>0,P88<>\"Unknown\",P88<>\"Not required\"),P88/(COUNTRY_INFO!E88+COUNTRY_INFO!F88), 0)","v":1},{"$f":"IF(AND(Z88<>0,Z88<>\"Unknown\",Z88<>\"Not required\"),IF(COUNTRY_INFO!K88=1,1,IF(COUNTRY_INFO!K88=2,0.5*COUNTRY_INFO!F88/(0.5*COUNTRY_INFO!F88+0.2*COUNTRY_INFO!G88),IF(COUNTRY_INFO!K88=3,COUNTRY_INFO!F88/(COUNTRY_INFO!F88+COUNTRY_INFO!G88)))),0)","v":0.54125806403772125},{"$f":"IF(AND(Z88<>0,Z88<>\"Unknown\",Z88<>\"Not required\"),IF(COUNTRY_INFO!K88=1,0,IF(COUNTRY_INFO!K88=2,0.2*COUNTRY_INFO!G88/(0.5*COUNTRY_INFO!F88+0.2*COUNTRY_INFO!G88),IF(COUNTRY_INFO!K88=3,COUNTRY_INFO!G88/(COUNTRY_INFO!F88+COUNTRY_INFO!G88)))),0)","v":0.45874193596227869},{"$f":"MAX(COUNTRY_INFO!D88*AK88*PROFILE!$G$7,COUNTRY_INFO!D88*AL88*PROFILE!$G$7)","v":0},{"$f":"MAX(COUNTRY_INFO!D88*AK88*PROFILE!$G$8,COUNTRY_INFO!D88*AL88*PROFILE!$G$8,COUNTRY_INFO!D88*AM88*PROFILE!$G$8)","v":39186.201487171587},{"$f":"MAX(COUNTRY_INFO!D88*AK88*PROFILE!$G$9,COUNTRY_INFO!D88*AL88*PROFILE!$G$9,COUNTRY_INFO!D88*AM88*PROFILE!$G$9,IF(AND(DISTRICT!Z88<>\"Unknown\",Z88<>\"Not required\"),COUNTRY_INFO!O88*DISTRICT!AN88,0))","v":68287.867689022794},{"$f":"MAX(COUNTRY_INFO!D88*AK88*PROFILE!$G$10,COUNTRY_INFO!D88*AL88*PROFILE!$G$10,IF(AND(DISTRICT!Z88<>\"Unknown\",Z88<>\"Not required\"),COUNTRY_INFO!O88*DISTRICT!AO88,0))","v":35949.999860672593},143424.06903686697,0,{"$f":"MAX('MDA2'!J88,'T1'!L88,'T2'!J88,T3_R1!K88,T3_R2!K88)","v":0},{"$f":"MAX('MDA1'!K88,'MDA2'!K88,'MDA3'!I88,'MDA3'!L88,'T1'!M88,'T2'!K88,T3_R1!L88,T3_R2!L88)","v":0},{"$f":"MAX('MDA1'!L88,'MDA2'!L88,'MDA3'!J88,'MDA3'!M88,'T1'!N88,'T2'!L88,T3_R1!M88,T3_R2!M88)","v":0},0,{"$f":"MAX('MDA2'!J88,T88)","v":0},{"$f":"MAX('MDA1'!K88,'MDA2'!K88,'MDA3'!I88,'MDA3'!L88,V88,AD88)","v":0},{"$f":"MAX('MDA1'!L88,'MDA2'!L88,'MDA3'!J88,'MDA3'!M88,AF88)","v":0},0,0]
[{"$f":"IF(COUNTRY_INFO!A89=0,\" \",COUNTRY_INFO!A89)","v":"Tanzania"},{"$f":"IF(COUNTRY_INFO!B89=0,\" \",COUNTRY_INFO!B89)","v":"Mara"},{"$f":"IF(COUNTRY_INFO!C89=0,\" \",COUNTRY_INFO!C89)","v":"Tarime District Council"},{"$f":"COUNTRY_INFO!L89","v":0},null,null,{"$f":"MAX('MDA1'!M89,'MDA2'!M89)","v":0},{"$f":"IF(AND(COUNTRY_INFO!H89>0,COUNTRY_INFO!H89<4),IF(D89>MAX('MDA1'!M89,'MDA2'!M89),MAX('MDA1'!M89,'MDA2'!M89),D89),0)","v":0},{"$f":"IF(AND(COUNTRY_INFO!H89>0,COUNTRY_INFO!H89<4), IF(G89/D89*100<>0, IF(G89/D89*100>100,100,G89/D89*100), \"-\"),0)","v":0},{"$f":"COUNTRY_INFO!M89","v":0},null,null,{"$f":"MAX('MDA1'!M89,MAX('MDA3'!I89,'MDA3'!L89)+MAX('MDA3'!J89,'MDA3'!M89))","v":0},{"$f":"IF(AND(COUNTRY_INFO!I89>0,COUNTRY_INFO!I89<4),IF(J89>MAX('MDA1'!M89,MAX('MDA3'!I89,'MDA3'!L89)+MAX('MDA3'!J89,'MDA3'!M89)),MAX('MDA1'!M89,MAX('MDA3'!I89,'MDA3'!L89)+MAX('MDA3'!J89,'MDA3'!M89)),J89),0)","v":0},{"$f":"IF(AND(COUNTRY_INFO!I89>0,COUNTRY_INFO!I89<4), IF(M89/J89*100<>0, IF(M89/J89*100>100,100,M89/J89*100), \"-\"),0)","v":0},{"$f":"COUNTRY_INFO!N89","v":146458},null,null,{"$f":"SUM(MAX('MDA2'!J89, 'T1'!L89, MAX(T3_R1!K89, T3_R2!K89)), MAX('MDA1'!K89, 'MDA2'!K89, 'T1'!M89, MAX(T3_R1!L89, T3_R2!L89)), MAX('MDA1'!L89, 'MDA2'!L89, 'T1'!N89, MAX(T3_R1!M89, T3_R2!M89)))","v":0},{"$f":"IF(AND(COUNTRY_INFO!J89>1,COUNTRY_INFO!J89<4),IF(COUNTRY_INFO!E89>MAX('MDA2'!J89,'T1'!L89,MAX(T3_R1!K89,T3_R2!K89)),MAX('MDA2'!J89,'T1'!L89,MAX(T3_R1!K89,T3_R2!K89)),COUNTRY_INFO!E89),0)","v":0},{"$f":"IF(AND(COUNTRY_INFO!J89>1,COUNTRY_INFO!J89<4), IF(T89/COUNTRY_INFO!E89*100<>0, IF(T89/COUNTRY_INFO!E89*100>100,100,T89/COUNTRY_INFO!E89*100), \"-\"),0)","v":"-"},{"$f":"IF(AND(COUNTRY_INFO!J89>1,COUNTRY_INFO!J89<4),IF(COUNTRY_INFO!F89>MAX('MDA1'!K89,'MDA2'!K89,'T1'!M89,MAX(T3_R1!L89,T3_R2!L89)),MAX('MDA1'!K89,'MDA2'!K89,'T1'!M89,MAX(T3_R1!L89,T3_R2!L89)),COUNTRY_INFO!F89),0)","v":0},{"$f":"IF(AND(COUNTRY_INFO!J89>1,COUNTRY_INFO!J89<4), IF(V89/COUNTRY_INFO!F89*100<>0, IF(V89/COUNTRY_INFO!F89*100>100,100,V89/COUNTRY_INFO!F89*100), \"-\"),0)","v":"-"},0,{"$f":"IF(AND(COUNTRY_INFO!J89>1,COUNTRY_INFO!J89<4), IF(S89/P89*100<>0, IF(X89/P89*100>100,100,X89/P89*100), \"-\"),0)","v":"-"},{"$f":"COUNTRY_INFO!O89","v":87117.244269582327},null,null,{"$f":"MAX('T1'!L89,'T2'!J89)+MAX('T1'!M89,'T2'!K89)+MAX('T1'!N89,'T2'!L89)","v":0},{"$f":"IF(COUNTRY_INFO!K89=1,IF(COUNTRY_INFO!F89*0.33>MAX('T1'!M89,'T2'!K89),MAX('T1'!M89,'T2'!K89),COUNTRY_INFO!F89*0.33),IF(COUNTRY_INFO!K89=2,IF(COUNTRY_INFO!F89*0.5>MAX('T1'!M89,'T2'!K89),MAX('T1'!M89,'T2'!K89),COUNTRY_INFO!F89*0.5),IF(COUNTRY_INFO!K89=3,IF(COUNTRY_INFO!F89>MAX('T1'!M89,'T2'!K89),MAX('T1'!M89,'T2'!K89),COUNTRY_INFO!F89),0)))","v":0},{"$f":"IF(AND(COUNTRY_INFO!K89>0,COUNTRY_INFO!K89<4),IF(Z89>0,IF(COUNTRY_INFO!K89=1, AD89/(COUNTRY_INFO!F89*0.33)*100, IF(COUNTRY_INFO!K89=2, AD89/(COUNTRY_INFO!F89*0.5)*100, IF(COUNTRY_INFO!K89=3, AD89/COUNTRY_INFO!F89*100))),\"-\"),0)","v":0},{"$f":"IF(COUNTRY_INFO!K89=2,IF(COUNTRY_INFO!G89*0.2>MAX('T1'!N89,'T2'!L89),MAX('T1'!N89,'T2'!L89),COUNTRY_INFO!G89*0.2),IF(COUNTRY_INFO!K89=3,IF(COUNTRY_INFO!G89>MAX('T1'!N89,'T2'!L89),MAX('T1'!N89,'T2'!L89),COUNTRY_INFO!G89),0))","v":0},{"$f":"IF(AND(COUNTRY_INFO!K89>0,COUNTRY_INFO!K89<4),IF(Z89>0,IF(COUNTRY_INFO!K89=1, 0, IF(COUNTRY_INFO!K89=2, AF89/(COUNTRY_INFO!G89*0.2)*100, IF(COUNTRY_INFO!K89=3, AF89/COUNTRY_INFO!G89*100))),\"-\"),0)","v":0},0,{"$f":"IF(AND(COUNTRY_INFO!K89>0,COUNTRY_INFO!K89<4), IF(AC89/Z89*100<>0, IF(AH89/Z89*100>100,100,AH89/Z89*100), \"-\"),0)","v":"-"},null,{"$f":"IF(AND(D89<>0, D89<>\"Unknown\",D89<>\"Stopped\",D89<>\"Not required\"),D89/COUNTRY_INFO!D89, 0)","v":0},{"$f":"IF(AND(J89<>0,J89<>\"Unknown\",J89<>\"Stopped\",J89<>\"Not required\"),J89/COUNTRY_INFO!D89, 0)","v":0},{"$f":"IF(AND(P89<>0,P89<>\"Unknown\",P89<>\"Not required\"),P89/(COUNTRY_INFO!E89+COUNTRY_INFO!F89), 0)","v":1},{"$f":"IF(AND(Z89<>0,Z89<>\"Unknown\",Z89<>\"Not required\"),IF(COUNTRY_INFO!K89=1,1,IF(COUNTRY_INFO!K89=2,0.5*COUNTRY_INFO!F89/(0.5*COUNTRY_INFO!F89+0.2*COUNTRY_INFO!G89),IF(COUNTRY_INFO!K89=3,COUNTRY_INFO!F89/(COUNTRY_INFO!F89+COUNTRY_INFO!G89)))),0)","v":0.60463918988300369},{"$f":"IF(AND(Z89<>0,Z89<>\"Unknown\",Z89<>\"Not required\"),IF(COUNTRY_INFO!K89=1,0,IF(COUNTRY_INFO!K89=2,0.2*COUNTRY_INFO!G89/(0.5*COUNTRY_INFO!F89+0.2*COUNTRY_INFO!G89),IF(COUNTRY_INFO!K89=3,COUNTRY_INFO!G89/(COUNTRY_INFO!F89+COUNTRY_INFO!G89)))),0)","v":0.39536081011699636},{"$f":"MAX(COUNTRY_INFO!D89*AK89*PROFILE!$G$7,COUNTRY_INFO!D89*AL89*PROFILE!$G$7)","v":0},{"$f":"MAX(COUNTRY_INFO!D89*AK89*PROFILE!$G$8,COUNTRY_INFO!D89*AL89*PROFILE!$G$8,COUNTRY_INFO!D89*AM89*PROFILE!$G$8)","v":41108.652659227489},{"$f":"MAX(COUNTRY_INFO!D89*AK89*PROFILE!$G$9,COUNTRY_INFO!D89*AL89*PROFILE!$G$9,COUNTRY_INFO!D89*AM89*PROFILE!$G$9,IF(AND(DISTRICT!Z89<>\"Unknown\",Z89<>\"Not required\"),COUNTRY_INFO!O89*DISTRICT!AN89,0))","v":71638.028875708304},{"$f":"MAX(COUNTRY_INFO!D89*AK89*PROFILE!$G$10,COUNTRY_INFO!D89*AL89*PROFILE!$G$10,IF(AND(DISTRICT!Z89<>\"Unknown\",Z89<>\"Not required\"),COUNTRY_INFO!O89*DISTRICT!AO89,0))","v":34442.744269582327},147189.4258045181,0,{"$f":"MAX('MDA2'!J89,'T1'!L89,'T2'!J89,T3_R1!K89,T3_R2!K89)","v":0},{"$f":"MAX('MDA1'!K89,'MDA2'!K89,'MDA3'!I89,'MDA3'!L89,'T1'!M89,'T2'!K89,T3_R1!L89,T3_R2!L89)","v":0},{"$f":"MAX('MDA1'!L89,'MDA2'!L89,'MDA3'!J89,'MDA3'!M89,'T1'!N89,'T2'!L89,T3_R1!M89,T3_R2!M89)","v":0},0,{"$f":"MAX('MDA2'!J89,T89)","v":0},{"$f":"MAX('MDA1'!K89,'MDA2'!K89,'MDA3'!I89,'MDA3'!L89,V89,AD89)","v":0},{"$f":"MAX('MDA1'!L89,'MDA2'!L89,'MDA3'!J89,'MDA3'!M89,AF89)","v":0},0,0]
[{"$f":"IF(COUNTRY_INFO!A90=0,\" \",COUNTRY_INFO!A90)","v":"Tanzania"},{"$f":"IF(COUNTRY_INFO!B90=0,\" \",COUNTRY_INFO!B90)","v":"Mara"},{"$f":"IF(COUNTRY_INFO!C90=0,\" \",COUNTRY_INFO!C90)","v":"Tarime Town Council"},{"$f":"COUNTRY_INFO!L90","v":0},null,null,{"$f":"MAX('MDA1'!M90,'MDA2'!M90)","v":0},{"$f":"IF(AND(COUNTRY_INFO!H90>0,COUNTRY_INFO!H90<4),IF(D90>MAX('MDA1'!M90,'MDA2'!M90),MAX('MDA1'!M90,'MDA2'!M90),D90),0)","v":0},{"$f":"IF(AND(COUNTRY_INFO!H90>0,COUNTRY_INFO!H90<4), IF(G90/D90*100<>0, IF(G90/D90*100>100,100,G90/D90*100), \"-\"),0)","v":0},{"$f":"COUNTRY_INFO!M90","v":0},null,null,{"$f":"MAX('MDA1'!M90,MAX('MDA3'!I90,'MDA3'!L90)+MAX('MDA3'!J90,'MDA3'!M90))","v":0},{"$f":"IF(AND(COUNTRY_INFO!I90>0,COUNTRY_INFO!I90<4),IF(J90>MAX('MDA1'!M90,MAX('MDA3'!I90,'MDA3'!L90)+MAX('MDA3'!J90,'MDA3'!M90)),MAX('MDA1'!M90,MAX('MDA3'!I90,'MDA3'!L90)+MAX('MDA3'!J90,'MDA3'!M90)),J90),0)","v":0},{"$f":"IF(AND(COUNTRY_INFO!I90>0,COUNTRY_INFO!I90<4), IF(M90/J90*100<>0, IF(M90/J90*100>100,100,M90/J90*100), \"-\"),0)","v":0},{"$f":"COUNTRY_INFO!N90","v":46342},null,null,{"$f":"SUM(MAX('MDA2'!J90, 'T1'!L90, MAX(T3_R1!K90, T3_R2!K90)), MAX('MDA1'!K90, 'MDA2'!K90, 'T1'!M90, MAX(T3_R1!L90, T3_R2!L90)), MAX('MDA1'!L90, 'MDA2'!L90, 'T1'!N90, MAX(T3_R1!M90, T3_R2!M90)))","v":0},{"$f":"IF(AND(COUNTRY_INFO!J90>1,COUNTRY_INFO!J90<4),IF(COUNTRY_INFO!E90>MAX('MDA2'!J90,'T1'!L90,MAX(T3_R1!K90,T3_R2!K90)),MAX('MDA2'!J90,'T1'!L90,MAX(T3_R1!K90,T3_R2!K90)),COUNTRY_INFO!E90),0)","v":0},{"$f":"IF(AND(COUNTRY_INFO!J90>1,COUNTRY_INFO!J90<4), IF(T90/COUNTRY_INFO!E90*100<>0, IF(T90/COUNTRY_INFO!E90*100>100,100,T90/COUNTRY_INFO!E90*100), \"-\"),0)","v":"-"},{"$f":"IF(AND(COUNTRY_INFO!J90>1,COUNTRY_INFO!J90<4),IF(COUNTRY_INFO!F90>MAX('MDA1'!K90,'MDA2'!K90,'T1'!M90,MAX(T3_R1!L90,T3_R2!L90)),MAX('MDA1'!K90,'MDA2'!K90,'T1'!M90,MAX(T3_R1!L90,T3_R2!L90)),COUNTRY_INFO!F90),0)","v":0},{"$f":"IF(AND(COUNTRY_INFO!J90>1,COUNTRY_INFO!J90<4), IF(V90/COUNTRY_INFO!F90*100<>0, IF(V90/COUNTRY_INFO!F90*100>100,100,V90/COUNTRY_INFO!F90*100), \"-\"),0)","v":"-"},0,{"$f":"IF(AND(COUNTRY_INFO!J90>1,COUNTRY_INFO!J90<4), IF(S90/P90*100<>0, IF(X90/P90*100>100,100,X90/P90*100), \"-\"),0)","v":"-"},{"$f":"COUNTRY_INFO!O90","v":26780.513658414657},null,null,{"$f":"MAX('T1'!L90,'T2'!J90)+MAX('T1'!M90,'T2'!K90)+MAX('T1'!N90,'T2'!L90)","v":0},{"$f":"IF(COUNTRY_INFO!K90=1,IF(COUNTRY_INFO!F90*0.33>MAX('T1'!M90,'T2'!K90),MAX('T1'!M90,'T2'!K90),COUNTRY_INFO!F90*0.33),IF(COUNTRY_INFO!K90=2,IF(COUNTRY_INFO!F90*0.5>MAX('T1'!M90,'T2'!K90),MAX('T1'!M90,'T2'!K90),COUNTRY_INFO!F90*0.5),IF(COUNTRY_INFO!K90=3,IF(COUNTRY_INFO!F90>MAX('T1'!M90,'T2'!K90),MAX('T1'!M90,'T2'!K90),COUNTRY_INFO!F90),0)))","v":0},{"$f":"IF(AND(COUNTRY_INFO!K90>0,COUNTRY_INFO!K90<4),IF(Z90>0,IF(COUNTRY_INFO!K90=1, AD90/(COUNTRY_INFO!F90*0.33)*100, IF(COUNTRY_INFO!K90=2, AD90/(COUNTRY_INFO!F90*0.5)*100, IF(COUNTRY_INFO!K90=3, AD90/COUNTRY_INFO!F90*100))),\"-\"),0)","v":0},{"$f":"IF(COUNTRY_INFO!K90=2,IF(COUNTRY_INFO!G90*0.2>MAX('T1'!N90,'T2'!L90),MAX('T1'!N90,'T2'!L90),COUNTRY_INFO!G90*0.2),IF(COUNTRY_INFO!K90=3,IF(COUNTRY_INFO!G90>MAX('T1'!N90,'T2'!L90),MAX('T1'!N90,'T2'!L90),COUNTRY_INFO!G90),0))","v":0},{"$f":"IF(AND(COUNTRY_INFO!K90>0,COUNTRY_INFO!K90<4),IF(Z90>0,IF(COUNTRY_INFO!K90=1, 0, IF(COUNTRY_INFO!K90=2, AF90/(COUNTRY_INFO!G90*0.2)*100, IF(COUNTRY_INFO!K90=3, AF90/COUNTRY_INFO!G90*100))),\"-\"),0)","v":0},0,{"$f":"IF(AND(COUNTRY_INFO!K90>0,COUNTRY_INFO!K90<4), IF(AC90/Z90*100<>0, IF(AH90/Z90*100>100,100,AH90/Z90*100), \"-\"),0)","v":"-"},null,{"$f":"IF(AND(D90<>0, D90<>\"Unknown\",D90<>\"Stopped\",D90<>\"Not required\"),D90/COUNTRY_INFO!D90, 0)","v":0},{"$f":"IF(AND(J90<>0,J90<>\"Unknown\",J90<>\"Stopped\",J90<>\"Not required\"),J90/COUNTRY_INFO!D90, 0)","v":0},{"$f":"IF(AND(P90<>0,P90<>\"Unknown\",P90<>\"Not required\"),P90/(COUNTRY_INFO!E90+COUNTRY_INFO!F90), 0)","v":1},{"$f":"IF(AND(Z90<>0,Z90<>\"Unknown\",Z90<>\"Not required\"),IF(COUNTRY_INFO!K90=1,1,IF(COUNTRY_INFO!K90=2,0.5*COUNTRY_INFO!F90/(0.5*COUNTRY_INFO!F90+0.2*COUNTRY_INFO!G90),IF(COUNTRY_INFO!K90=3,COUNTRY_INFO!F90/(COUNTRY_INFO!F90+COUNTRY_INFO!G90)))),0)","v":0.6363208793288242},{"$f":"IF(AND(Z90<>0,Z90<>\"Unknown\",Z90<>\"Not required\"),IF(COUNTRY_INFO!K90=1,0,IF(COUNTRY_INFO!K90=2,0.2*COUNTRY_INFO!G90/(0.5*COUNTRY_INFO!F90+0.2*COUNTRY_INFO!G90),IF(COUNTRY_INFO!K90=3,COUNTRY_INFO!G90/(COUNTRY_INFO!F90+COUNTRY_INFO!G90)))),0)","v":0.36367912067117586},{"$f":"MAX(COUNTRY_INFO!D90*AK90*PROFILE!$G$7,COUNTRY_INFO!D90*AL90*PROFILE!$G$7)","v":0},{"$f":"MAX(COUNTRY_INFO!D90*AK90*PROFILE!$G$8,COUNTRY_INFO!D90*AL90*PROFILE!$G$8,COUNTRY_INFO!D90*AM90*PROFILE!$G$8)","v":12260.104490214046},{"$f":"MAX(COUNTRY_INFO!D90*AK90*PROFILE!$G$9,COUNTRY_INFO!D90*AL90*PROFILE!$G$9,COUNTRY_INFO!D90*AM90*PROFILE!$G$9,IF(AND(DISTRICT!Z90<>\"Unknown\",Z90<>\"Not required\"),COUNTRY_INFO!O90*DISTRICT!AN90,0))","v":21365.081623321184},{"$f":"MAX(COUNTRY_INFO!D90*AK90*PROFILE!$G$10,COUNTRY_INFO!D90*AL90*PROFILE!$G$10,IF(AND(DISTRICT!Z90<>\"Unknown\",Z90<>\"Not required\"),COUNTRY_INFO!O90*DISTRICT!AO90,0))","v":9739.5136584146567},43364.69977194989,0,{"$f":"MAX('MDA2'!J90,'T1'!L90,'T2'!J90,T3_R1!K90,T3_R2!K90)","v":0},{"$f":"MAX('MDA1'!K90,'MDA2'!K90,'MDA3'!I90,'MDA3'!L90,'T1'!M90,'T2'!K90,T3_R1!L90,T3_R2!L90)","v":0},{"$f":"MAX('MDA1'!L90,'MDA2'!L90,'MDA3'!J90,'MDA3'!M90,'T1'!N90,'T2'!L90,T3_R1!M90,T3_R2!M90)","v":0},0,{"$f":"MAX('MDA2'!J90,T90)","v":0},{"$f":"MAX('MDA1'!K90,'MDA2'!K90,'MDA3'!I90,'MDA3'!L90,V90,AD90)","v":0},{"$f":"MAX('MDA1'!L90,'MDA2'!L90,'MDA3'!J90,'MDA3'!M90,AF90)","v":0},0,0]
[{"$f":"IF(COUNTRY_INFO!A91=0,\" \",COUNTRY_INFO!A91)","v":"Tanzania"},{"$f":"IF(COUNTRY_INFO!B91=0,\" \",COUNTRY_INFO!B91)","v":"Mbeya"},{"$f":"IF(COUNTRY_INFO!C91=0,\" \",COUNTRY_INFO!C91)","v":"Busokelo District Council"},{"$f":"COUNTRY_INFO!L91","v":"Stopped"},null,null,{"$f":"MAX('MDA1'!M91,'MDA2'!M91)","v":0},{"$f":"IF(AND(COUNTRY_INFO!H91>0,COUNTRY_INFO!H91<4),IF(D91>MAX('MDA1'!M91,'MDA2'!M91),MAX('MDA1'!M91,'MDA2'!M91),D91),0)","v":0},{"$f":"IF(AND(COUNTRY_INFO!H91>0,COUNTRY_INFO!H91<4), IF(G91/D91*100<>0, IF(G91/D91*100>100,100,G91/D91*100), \"-\"),0)","v":0},{"$f":"COUNTRY_INFO!M91","v":117853.42605018953},null,null,{"$f":"MAX('MDA1'!M91,MAX('MDA3'!I91,'MDA3'!L91)+MAX('MDA3'!J91,'MDA3'!M91))","v":0},{"$f":"IF(AND(COUNTRY_INFO!I91>0,COUNTRY_INFO!I91<4),IF(J91>MAX('MDA1'!M91,MAX('MDA3'!I91,'MDA3'!L91)+MAX('MDA3'!J91,'MDA3'!M91)),MAX('MDA1'!M91,MAX('MDA3'!I91,'MDA3'!L91)+MAX('MDA3'!J91,'MDA3'!M91)),J91),0)","v":0},{"$f":"IF(AND(COUNTRY_INFO!I91>0,COUNTRY_INFO!I91<4), IF(M91/J91*100<>0, IF(M91/J91*100>100,100,M91/J91*100), \"-\"),0)","v":"-"},{"$f":"COUNTRY_INFO!N91","v":38844},null,null,{"$f":"SUM(MAX('MDA2'!J91, 'T1'!L91, MAX(T3_R1!K91, T3_R2!K91)), MAX('MDA1'!K91, 'MDA2'!K91, 'T1'!M91, MAX(T3_R1!L91, T3_R2!L91)), MAX('MDA1'!L91, 'MDA2'!L91, 'T1'!N91, MAX(T3_R1!M91, T3_R2!M91)))","v":23290},{"$f":"IF(AND(COUNTRY_INFO!J91>1,COUNTRY_INFO!J91<4),IF(COUNTRY_INFO!E91>MAX('MDA2'!J91,'T1'!L91,MAX(T3_R1!K91,T3_R2!K91)),MAX('MDA2'!J91,'T1'!L91,MAX(T3_R1!K91,T3_R2!K91)),COUNTRY_INFO!E91),0)","v":0},{"$f":"IF(AND(COUNTRY_INFO!J91>1,COUNTRY_INFO!J91<4), IF(T91/COUNTRY_INFO!E91*100<>0, IF(T91/COUNTRY_INFO!E91*100>100,100,T91/COUNTRY_INFO!E91*100), \"-\"),0)","v":"-"},{"$f":"IF(AND(COUNTRY_INFO!J91>1,COUNTRY_INFO!J91<4),IF(COUNTRY_INFO!F91>MAX('MDA1'!K91,'MDA2'!K91,'T1'!M91,MAX(T3_R1!L91,T3_R2!L91)),MAX('MDA1'!K91,'MDA2'!K91,'T1'!M91,MAX(T3_R1!L91,T3_R2!L91)),COUNTRY_INFO!F91),0)","v":23290},{"$f":"IF(AND(COUNTRY_INFO!J91>1,COUNTRY_INFO!J91<4), IF(V91/COUNTRY_INFO!F91*100<>0, IF(V91/COUNTRY_INFO!F91*100>100,100,V91/COUNTRY_INFO!F91*100), \"-\"),0)","v":98.515291231335382},23290,{"$f":"IF(AND(COUNTRY_INFO!J91>1,COUNTRY_INFO!J91<4), IF(S91/P91*100<>0, IF(X91/P91*100>100,100,X91/P91*100), \"-\"),0)","v":59.957779837297906},{"$f":"COUNTRY_INFO!O91","v":27622.385210037908},null,null,{"$f":"MAX('T1'!L91,'T2'!J91)+MAX('T1'!M91,'T2'!K91)+MAX('T1'!N91,'T2'!L91)","v":23290},{"$f":"IF(COUNTRY_INFO!K91=1,IF(COUNTRY_INFO!F91*0.33>MAX('T1'!M91,'T2'!K91),MAX('T1'!M91,'T2'!K91),COUNTRY_INFO!F91*0.33),IF(COUNTRY_INFO!K91=2,IF(COUNTRY_INFO!F91*0.5>MAX('T1'!M91,'T2'!K91),MAX('T1'!M91,'T2'!K91),COUNTRY_INFO!F91*0.5),IF(COUNTRY_INFO!K91=3,IF(COUNTRY_INFO!F91>MAX('T1'!M91,'T2'!K91),MAX('T1'!M91,'T2'!K91),COUNTRY_INFO!F91),0)))","v":11820.5},{"$f":"IF(AND(COUNTRY_INFO!K91>0,COUNTRY_INFO!K91<4),IF(Z91>0,IF(COUNTRY_INFO!K91=1, AD91/(COUNTRY_INFO!F91*0.33)*100, IF(COUNTRY_INFO!K91=2, AD91/(COUNTRY_INFO!F91*0.5)*100, IF(COUNTRY_INFO!K91=3, AD91/COUNTRY_INFO!F91*100))),\"-\"),0)","v":100},{"$f":"IF(COUNTRY_INFO!K91=2,IF(COUNTRY_INFO!G91*0.2>MAX('T1'!N91,'T2'!L91),MAX('T1'!N91,'T2'!L91),COUNTRY_INFO!G91*0.2),IF(COUNTRY_INFO!K91=3,IF(COUNTRY_INFO!G91>MAX('T1'!N91,'T2'!L91),MAX('T1'!N91,'T2'!L91),COUNTRY_INFO!G91),0))","v":0},{"$f":"IF(AND(COUNTRY_INFO!K91>0,COUNTRY_INFO!K91<4),IF(Z91>0,IF(COUNTRY_INFO!K91=1, 0, IF(COUNTRY_INFO!K91=2, AF91/(COUNTRY_INFO!G91*0.2)*100, IF(COUNTRY_INFO!K91=3, AF91/COUNTRY_INFO!G91*100))),\"-\"),0)","v":0},11820.5,{"$f":"IF(AND(COUNTRY_INFO!K91>0,COUNTRY_INFO!K91<4), IF(AC91/Z91*100<>0, IF(AH91/Z91*100>100,100,AH91/Z91*100), \"-\"),0)","v":42.793190776676518},null,{"$f":"IF(AND(D91<>0, D91<>\"Unknown\",D91<>\"Stopped\",D91<>\"Not required\"),D91/COUNTRY_INFO!D91, 0)","v":0},{"$f":"IF(AND(J91<>0,J91<>\"Unknown\",J91<>\"Stopped\",J91<>\"Not required\"),J91/COUNTRY_INFO!D91, 0)","v":1},{"$f":"IF(AND(P91<>0,P91<>\"Unknown\",P91<>\"Not required\"),P91/(COUNTRY_INFO!E91+COUNTRY_INFO!F91), 0)","v":1},{"$f":"IF(AND(Z91<>0,Z91<>\"Unknown\",Z91<>\"Not required\"),IF(COUNTRY_INFO!K91=1,1,IF(COUNTRY_INFO!K91=2,0.5*COUNTRY_INFO!F91/(0.5*COUNTRY_INFO!F91+0.2*COUNTRY_INFO!G91),IF(COUNTRY_INFO!K91=3,COUNTRY_INFO!F91/(COUNTRY_INFO!F91+COUNTRY_INFO!G91)))),0)","v":0.42793190776676515},{"$f":"IF(AND(Z91<>0,Z91<>\"Unknown\",Z91<>\"Not required\"),IF(COUNTRY_INFO!K91=1,0,IF(COUNTRY_INFO!K91=2,0.2*COUNTRY_INFO!G91/(0.5*COUNTRY_INFO!F91+0.2*COUNTRY_INFO!G91),IF(COUNTRY_INFO!K91=3,COUNTRY_INFO!G91/(COUNTRY_INFO!F91+COUNTRY_INFO!G91)))),0)","v":0.57206809223323485},{"$f":"MAX(COUNTRY_INFO!D91*AK91*PROFILE!$G$7,COUNTRY_INFO!D91*AL91*PROFILE!$G$7)","v":2.1610735561995672E-3},{"$f":"MAX(COUNTRY_INFO!D91*AK91*PROFILE!$G$8,COUNTRY_INFO!D91*AL91*PROFILE!$G$8,COUNTRY_INFO!D91*AM91*PROFILE!$G$8)","v":15203.092184348108},{"$f":"MAX(COUNTRY_INFO!D91*AK91*PROFILE!$G$9,COUNTRY_INFO!D91*AL91*PROFILE!$G$9,COUNTRY_INFO!D91*AM91*PROFILE!$G$9,IF(AND(DISTRICT!Z91<>\"Unknown\",Z91<>\"Not required\"),COUNTRY_INFO!O91*DISTRICT!AN91,0))","v":26493.681657015215},{"$f":"MAX(COUNTRY_INFO!D91*AK91*PROFILE!$G$10,COUNTRY_INFO!D91*AL91*PROFILE!$G$10,IF(AND(DISTRICT!Z91<>\"Unknown\",Z91<>\"Not required\"),COUNTRY_INFO!O91*DISTRICT!AO91,0))","v":76156.650047752642},117853.42605018952,0,{"$f":"MAX('MDA2'!J91,'T1'!L91,'T2'!J91,T3_R1!K91,T3_R2!K91)","v":0},{"$f":"MAX('MDA1'!K91,'MDA2'!K91,'MDA3'!I91,'MDA3'!L91,'T1'!M91,'T2'!K91,T3_R1!L91,T3_R2!L91)","v":23290},{"$f":"MAX('MDA1'!L91,'MDA2'!L91,'MDA3'!J91,'MDA3'!M91,'T1'!N91,'T2'!L91,T3_R1!M91,T3_R2!M91)","v":0},23290,{"$f":"MAX('MDA2'!J91,T91)","v":0},{"$f":"MAX('MDA1'!K91,'MDA2'!K91,'MDA3'!I91,'MDA3'!L91,V91,AD91)","v":23290},{"$f":"MAX('MDA1'!L91,'MDA2'!L91,'MDA3'!J91,'MDA3'!M91,AF91)","v":0},23290,19.761835341198847]
[{"$f":"IF(COUNTRY_INFO!A92=0,\" \",COUNTRY_INFO!A92)","v":"Tanzania"},{"$f":"IF(COUNTRY_INFO!B92=0,\" \",COUNTRY_INFO!B92)","v":"Mbeya"},{"$f":"IF(COUNTRY_INFO!C92=0,\" \",COUNTRY_INFO!C92)","v":"Chunya District Council"},{"$f":"COUNTRY_INFO!L92","v":"Stopped"},null,null,{"$f":"MAX('MDA1'!M92,'MDA2'!M92)","v":0},{"$f":"IF(AND(COUNTRY_INFO!H92>0,COUNTRY_INFO!H92<4),IF(D92>MAX('MDA1'!M92,'MDA2'!M92),MAX('MDA1'!M92,'MDA2'!M92),D92),0)","v":0},{"$f":"IF(AND(COUNTRY_INFO!H92>0,COUNTRY_INFO!H92<4), IF(G92/D92*100<>0, IF(G92/D92*100>100,100,G92/D92*100), \"-\"),0)","v":0},{"$f":"COUNTRY_INFO!M92","v":0},null,null,{"$f":"MAX('MDA1'!M92,MAX('MDA3'!I92,'MDA3'!L92)+MAX('MDA3'!J92,'MDA3'!M92))","v":0},{"$f":"IF(AND(COUNTRY_INFO!I92>0,COUNTRY_INFO!I92<4),IF(J92>MAX('MDA1'!M92,MAX('MDA3'!I92,'MDA3'!L92)+MAX('MDA3'!J92,'MDA3'!M92)),MAX('MDA1'!M92,MAX('MDA3'!I92,'MDA3'!L92)+MAX('MDA3'!J92,'MDA3'!M92)),J92),0)","v":0},{"$f":"IF(AND(COUNTRY_INFO!I92>0,COUNTRY_INFO!I92<4), IF(M92/J92*100<>0, IF(M92/J92*100>100,100,M92/J92*100), \"-\"),0)","v":0},{"$f":"COUNTRY_INFO!N92","v":66815},null,null,{"$f":"SUM(MAX('MDA2'!J92, 'T1'!L92, MAX(T3_R1!K92, T3_R2!K92)), MAX('MDA1'!K92, 'MDA2'!K92, 'T1'!M92, MAX(T3_R1!L92, T3_R2!L92)), MAX('MDA1'!L92, 'MDA2'!L92, 'T1'!N92, MAX(T3_R1!M92, T3_R2!M92)))","v":40993},{"$f":"IF(AND(COUNTRY_INFO!J92>1,COUNTRY_INFO!J92<4),IF(COUNTRY_INFO!E92>MAX('MDA2'!J92,'T1'!L92,MAX(T3_R1!K92,T3_R2!K92)),MAX('MDA2'!J92,'T1'!L92,MAX(T3_R1!K92,T3_R2!K92)),COUNTRY_INFO!E92),0)","v":0},{"$f":"IF(AND(COUNTRY_INFO!J92>1,COUNTRY_INFO!J92<4), IF(T92/COUNTRY_INFO!E92*100<>0, IF(T92/COUNTRY_INFO!E92*100>100,100,T92/COUNTRY_INFO!E92*100), \"-\"),0)","v":"-"},{"$f":"IF(AND(COUNTRY_INFO!J92>1,COUNTRY_INFO!J92<4),IF(COUNTRY_INFO!F92>MAX('MDA1'!K92,'MDA2'!K92,'T1'!M92,MAX(T3_R1!L92,T3_R2!L92)),MAX('MDA1'!K92,'MDA2'!K92,'T1'!M92,MAX(T3_R1!L92,T3_R2!L92)),COUNTRY_INFO!F92),0)","v":40993},{"$f":"IF(AND(COUNTRY_INFO!J92>1,COUNTRY_INFO!J92<4), IF(V92/COUNTRY_INFO!F92*100<>0, IF(V92/COUNTRY_INFO!F92*100>100,100,V92/COUNTRY_INFO!F92*100), \"-\"),0)","v":97.42840166369578},40993,{"$f":"IF(AND(COUNTRY_INFO!J92>1,COUNTRY_INFO!J92<4), IF(S92/P92*100<>0, IF(X92/P92*100>100,100,X92/P92*100), \"-\"),0)","v":61.352989598144127},{"$f":"COUNTRY_INFO!O92","v":46030.738209438758},null,null,{"$f":"MAX('T1'!L92,'T2'!J92)+MAX('T1'!M92,'T2'!K92)+MAX('T1'!N92,'T2'!L92)","v":40993},{"$f":"IF(COUNTRY_INFO!K92=1,IF(COUNTRY_INFO!F92*0.33>MAX('T1'!M92,'T2'!K92),MAX('T1'!M92,'T2'!K92),COUNTRY_INFO!F92*0.33),IF(COUNTRY_INFO!K92=2,IF(COUNTRY_INFO!F92*0.5>MAX('T1'!M92,'T2'!K92),MAX('T1'!M92,'T2'!K92),COUNTRY_INFO!F92*0.5),IF(COUNTRY_INFO!K92=3,IF(COUNTRY_INFO!F92>MAX('T1'!M92,'T2'!K92),MAX('T1'!M92,'T2'!K92),COUNTRY_INFO!F92),0)))","v":21037.5},{"$f":"IF(AND(COUNTRY_INFO!K92>0,COUNTRY_INFO!K92<4),IF(Z92>0,IF(COUNTRY_INFO!K92=1, AD92/(COUNTRY_INFO!F92*0.33)*100, IF(COUNTRY_INFO!K92=2, AD92/(COUNTRY_INFO!F92*0.5)*100, IF(COUNTRY_INFO!K92=3, AD92/COUNTRY_INFO!F92*100))),\"-\"),0)","v":100},{"$f":"IF(COUNTRY_INFO!K92=2,IF(COUNTRY_INFO!G92*0.2>MAX('T1'!N92,'T2'!L92),MAX('T1'!N92,'T2'!L92),COUNTRY_INFO!G92*0.2),IF(COUNTRY_INFO!K92=3,IF(COUNTRY_INFO!G92>MAX('T1'!N92,'T2'!L92),MAX('T1'!N92,'T2'!L92),COUNTRY_INFO!G92),0))","v":0},{"$f":"IF(AND(COUNTRY_INFO!K92>0,COUNTRY_INFO!K92<4),IF(Z92>0,IF(COUNTRY_INFO!K92=1, 0, IF(COUNTRY_INFO!K92=2, AF92/(COUNTRY_INFO!G92*0.2)*100, IF(COUNTRY_INFO!K92=3, AF92/COUNTRY_INFO!G92*100))),\"-\"),0)","v":0},21037.5,{"$f":"IF(AND(COUNTRY_INFO!K92>0,COUNTRY_INFO!K92<4), IF(AC92/Z92*100<>0, IF(AH92/Z92*100>100,100,AH92/Z92*100), \"-\"),0)","v":45.703155800543279},null,{"$f":"IF(AND(D92<>0, D92<>\"Unknown\",D92<>\"Stopped\",D92<>\"Not required\"),D92/COUNTRY_INFO!D92, 0)","v":0},{"$f":"IF(AND(J92<>0,J92<>\"Unknown\",J92<>\"Stopped\",J92<>\"Not required\"),J92/COUNTRY_INFO!D92, 0)","v":0},{"$f":"IF(AND(P92<>0,P92<>\"Unknown\",P92<>\"Not required\"),P92/(COUNTRY_INFO!E92+COUNTRY_INFO!F92), 0)","v":1},{"$f":"IF(AND(Z92<>0,Z92<>\"Unknown\",Z92<>\"Not required\"),IF(COUNTRY_INFO!K92=1,1,IF(COUNTRY_INFO!K92=2,0.5*COUNTRY_INFO!F92/(0.5*COUNTRY_INFO!F92+0.2*COUNTRY_INFO!G92),IF(COUNTRY_INFO!K92=3,COUNTRY_INFO!F92/(COUNTRY_INFO!F92+COUNTRY_INFO!G92)))),0)","v":0.45703155800543277},{"$f":"IF(AND(Z92<>0,Z92<>\"Unknown\",Z92<>\"Not required\"),IF(COUNTRY_INFO!K92=1,0,IF(COUNTRY_INFO!K92=2,0.2*COUNTRY_INFO!G92/(0.5*COUNTRY_INFO!F92+0.2*COUNTRY_INFO!G92),IF(COUNTRY_INFO!K92=3,COUNTRY_INFO!G92/(COUNTRY_INFO!F92+COUNTRY_INFO!G92)))),0)","v":0.54296844199456729},{"$f":"MAX(COUNTRY_INFO!D92*AK92*PROFILE!$G$7,COUNTRY_INFO!D92*AL92*PROFILE!$G$7)","v":0},{"$f":"MAX(COUNTRY_INFO!D92*AK92*PROFILE!$G$8,COUNTRY_INFO!D92*AL92*PROFILE!$G$8,COUNTRY_INFO!D92*AM92*PROFILE!$G$8)","v":24739.774009394398},{"$f":"MAX(COUNTRY_INFO!D92*AK92*PROFILE!$G$9,COUNTRY_INFO!D92*AL92*PROFILE!$G$9,COUNTRY_INFO!D92*AM92*PROFILE!$G$9,IF(AND(DISTRICT!Z92<>\"Unknown\",Z92<>\"Not required\"),COUNTRY_INFO!O92*DISTRICT!AN92,0))","v":43112.78843301304},{"$f":"MAX(COUNTRY_INFO!D92*AK92*PROFILE!$G$10,COUNTRY_INFO!D92*AL92*PROFILE!$G$10,IF(AND(DISTRICT!Z92<>\"Unknown\",Z92<>\"Not required\"),COUNTRY_INFO!O92*DISTRICT!AO92,0))","v":24993.238209438761},92845.800651846192,"Y",{"$f":"MAX('MDA2'!J92,'T1'!L92,'T2'!J92,T3_R1!K92,T3_R2!K92)","v":0},{"$f":"MAX('MDA1'!K92,'MDA2'!K92,'MDA3'!I92,'MDA3'!L92,'T1'!M92,'T2'!K92,T3_R1!L92,T3_R2!L92)","v":40993},{"$f":"MAX('MDA1'!L92,'MDA2'!L92,'MDA3'!J92,'MDA3'!M92,'T1'!N92,'T2'!L92,T3_R1!M92,T3_R2!M92)","v":0},40993,{"$f":"MAX('MDA2'!J92,T92)","v":0},{"$f":"MAX('MDA1'!K92,'MDA2'!K92,'MDA3'!I92,'MDA3'!L92,V92,AD92)","v":40993},{"$f":"MAX('MDA1'!L92,'MDA2'!L92,'MDA3'!J92,'MDA3'!M92,AF92)","v":0},40993,44.151700682420554]
[{"$f":"IF(COUNTRY_INFO!A93=0,\" \",COUNTRY_INFO!A93)","v":"Tanzania"},{"$f":"IF(COUNTRY_INFO!B93=0,\" \",COUNTRY_INFO!B93)","v":"Mbeya"},{"$f":"IF(COUNTRY_INFO!C93=0,\" \",COUNTRY_INFO!C93)","v":"Kyela District Council"},{"$f":"COUNTRY_INFO!L93","v":"Stopped"},null,null,{"$f":"MAX('MDA1'!M93,'MDA2'!M93)","v":0},{"$f":"IF(AND(COUNTRY_INFO!H93>0,COUNTRY_INFO!H93<4),IF(D93>MAX('MDA1'!M93,'MDA2'!M93),MAX('MDA1'!M93,'MDA2'!M93),D93),0)","v":0},{"$f":"IF(AND(COUNTRY_INFO!H93>0,COUNTRY_INFO!H93<4), IF(G93/D93*100<>0, IF(G93/D93*100>100,100,G93/D93*100), \"-\"),0)","v":0},{"$f":"COUNTRY_INFO!M93","v":270925.50525536551},null,null,{"$f":"MAX('MDA1'!M93,MAX('MDA3'!I93,'MDA3'!L93)+MAX('MDA3'!J93,'MDA3'!M93))","v":0},{"$f":"IF(AND(COUNTRY_INFO!I93>0,COUNTRY_INFO!I93<4),IF(J93>MAX('MDA1'!M93,MAX('MDA3'!I93,'MDA3'!L93)+MAX('MDA3'!J93,'MDA3'!M93)),MAX('MDA1'!M93,MAX('MDA3'!I93,'MDA3'!L93)+MAX('MDA3'!J93,'MDA3'!M93)),J93),0)","v":0},{"$f":"IF(AND(COUNTRY_INFO!I93>0,COUNTRY_INFO!I93<4), IF(M93/J93*100<>0, IF(M93/J93*100>100,100,M93/J93*100), \"-\"),0)","v":"-"},{"$f":"COUNTRY_INFO!N93","v":95068},null,null,{"$f":"SUM(MAX('MDA2'!J93, 'T1'!L93, MAX(T3_R1!K93, T3_R2!K93)), MAX('MDA1'!K93, 'MDA2'!K93, 'T1'!M93, MAX(T3_R1!L93, T3_R2!L93)), MAX('MDA1'!L93, 'MDA2'!L93, 'T1'!N93, MAX(T3_R1!M93, T3_R2!M93)))","v":58622},{"$f":"IF(AND(COUNTRY_INFO!J93>1,COUNTRY_INFO!J93<4),IF(COUNTRY_INFO!E93>MAX('MDA2'!J93,'T1'!L93,MAX(T3_R1!K93,T3_R2!K93)),MAX('MDA2'!J93,'T1'!L93,MAX(T3_R1!K93,T3_R2!K93)),COUNTRY_INFO!E93),0)","v":0},{"$f":"IF(AND(COUNTRY_INFO!J93>1,COUNTRY_INFO!J93<4), IF(T93/COUNTRY_INFO!E93*100<>0, IF(T93/COUNTRY_INFO!E93*100>100,100,T93/COUNTRY_INFO!E93*100), \"-\"),0)","v":"-"},{"$f":"IF(AND(COUNTRY_INFO!J93>1,COUNTRY_INFO!J93<4),IF(COUNTRY_INFO!F93>MAX('MDA1'!K93,'MDA2'!K93,'T1'!M93,MAX(T3_R1!L93,T3_R2!L93)),MAX('MDA1'!K93,'MDA2'!K93,'T1'!M93,MAX(T3_R1!L93,T3_R2!L93)),COUNTRY_INFO!F93),0)","v":58622},{"$f":"IF(AND(COUNTRY_INFO!J93>1,COUNTRY_INFO!J93<4), IF(V93/COUNTRY_INFO!F93*100<>0, IF(V93/COUNTRY_INFO!F93*100>100,100,V93/COUNTRY_INFO!F93*100), \"-\"),0)","v":97.509938621733568},58622,{"$f":"IF(AND(COUNTRY_INFO!J93>1,COUNTRY_INFO!J93<4), IF(S93/P93*100<>0, IF(X93/P93*100>100,100,X93/P93*100), \"-\"),0)","v":61.663230529726086},{"$f":"COUNTRY_INFO!O93","v":235976.50525536551},null,null,{"$f":"MAX('T1'!L93,'T2'!J93)+MAX('T1'!M93,'T2'!K93)+MAX('T1'!N93,'T2'!L93)","v":58622},{"$f":"IF(COUNTRY_INFO!K93=1,IF(COUNTRY_INFO!F93*0.33>MAX('T1'!M93,'T2'!K93),MAX('T1'!M93,'T2'!K93),COUNTRY_INFO!F93*0.33),IF(COUNTRY_INFO!K93=2,IF(COUNTRY_INFO!F93*0.5>MAX('T1'!M93,'T2'!K93),MAX('T1'!M93,'T2'!K93),COUNTRY_INFO!F93*0.5),IF(COUNTRY_INFO!K93=3,IF(COUNTRY_INFO!F93>MAX('T1'!M93,'T2'!K93),MAX('T1'!M93,'T2'!K93),COUNTRY_INFO!F93),0)))","v":58622},{"$f":"IF(AND(COUNTRY_INFO!K93>0,COUNTRY_INFO!K93<4),IF(Z93>0,IF(COUNTRY_INFO!K93=1, AD93/(COUNTRY_INFO!F93*0.33)*100, IF(COUNTRY_INFO!K93=2, AD93/(COUNTRY_INFO!F93*0.5)*100, IF(COUNTRY_INFO!K93=3, AD93/COUNTRY_INFO!F93*100))),\"-\"),0)","v":97.509938621733568},{"$f":"IF(COUNTRY_INFO!K93=2,IF(COUNTRY_INFO!G93*0.2>MAX('T1'!N93,'T2'!L93),MAX('T1'!N93,'T2'!L93),COUNTRY_INFO!G93*0.2),IF(COUNTRY_INFO!K93=3,IF(COUNTRY_INFO!G93>MAX('T1'!N93,'T2'!L93),MAX('T1'!N93,'T2'!L93),COUNTRY_INFO!G93),0))","v":0},{"$f":"IF(AND(COUNTRY_INFO!K93>0,COUNTRY_INFO!K93<4),IF(Z93>0,IF(COUNTRY_INFO!K93=1, 0, IF(COUNTRY_INFO!K93=2, AF93/(COUNTRY_INFO!G93*0.2)*100, IF(COUNTRY_INFO!K93=3, AF93/COUNTRY_INFO!G93*100))),\"-\"),0)","v":0},58622,{"$f":"IF(AND(COUNTRY_INFO!K93>0,COUNTRY_INFO!K93<4), IF(AC93/Z93*100<>0, IF(AH93/Z93*100>100,100,AH93/Z93*100), \"-\"),0)","v":24.842303659239857},null,{"$f":"IF(AND(D93<>0, D93<>\"Unknown\",D93<>\"Stopped\",D93<>\"Not required\"),D93/COUNTRY_INFO!D93, 0)","v":0},{"$f":"IF(AND(J93<>0,J93<>\"Unknown\",J93<>\"Stopped\",J93<>\"Not required\"),J93/COUNTRY_INFO!D93, 0)","v":1},{"$f":"IF(AND(P93<>0,P93<>\"Unknown\",P93<>\"Not required\"),P93/(COUNTRY_INFO!E93+COUNTRY_INFO!F93), 0)","v":1},{"$f":"IF(AND(Z93<>0,Z93<>\"Unknown\",Z93<>\"Not required\"),IF(COUNTRY_INFO!K93=1,1,IF(COUNTRY_INFO!K93=2,0.5*COUNTRY_INFO!F93/(0.5*COUNTRY_INFO!F93+0.2*COUNTRY_INFO!G93),IF(COUNTRY_INFO!K93=3,COUNTRY_INFO!F93/(COUNTRY_INFO!F93+COUNTRY_INFO!G93)))),0)","v":0.25476688848723023},{"$f":"IF(AND(Z93<>0,Z93<>\"Unknown\",Z93<>\"Not required\"),IF(COUNTRY_INFO!K93=1,0,IF(COUNTRY_INFO!K93=2,0.2*COUNTRY_INFO!G93/(0.5*COUNTRY_INFO!F93+0.2*COUNTRY_INFO!G93),IF(COUNTRY_INFO!K93=3,COUNTRY_INFO!G93/(COUNTRY_INFO!F93+COUNTRY_INFO!G93)))),0)","v":0.74523311151276983},{"$f":"MAX(COUNTRY_INFO!D93*AK93*PROFILE!$G$7,COUNTRY_INFO!D93*AL93*PROFILE!$G$7)","v":4.9679501456159469E-3},{"$f":"MAX(COUNTRY_INFO!D93*AK93*PROFILE!$G$8,COUNTRY_INFO!D93*AL93*PROFILE!$G$8,COUNTRY_INFO!D93*AM93*PROFILE!$G$8)","v":34949.390692590612},{"$f":"MAX(COUNTRY_INFO!D93*AK93*PROFILE!$G$9,COUNTRY_INFO!D93*AL93*PROFILE!$G$9,COUNTRY_INFO!D93*AM93*PROFILE!$G$9,IF(AND(DISTRICT!Z93<>\"Unknown\",Z93<>\"Not required\"),COUNTRY_INFO!O93*DISTRICT!AN93,0))","v":60904.585717727743},{"$f":"MAX(COUNTRY_INFO!D93*AK93*PROFILE!$G$10,COUNTRY_INFO!D93*AL93*PROFILE!$G$10,IF(AND(DISTRICT!Z93<>\"Unknown\",Z93<>\"Not required\"),COUNTRY_INFO!O93*DISTRICT!AO93,0))","v":175857.50525536551},271711.48663363402,0,{"$f":"MAX('MDA2'!J93,'T1'!L93,'T2'!J93,T3_R1!K93,T3_R2!K93)","v":0},{"$f":"MAX('MDA1'!K93,'MDA2'!K93,'MDA3'!I93,'MDA3'!L93,'T1'!M93,'T2'!K93,T3_R1!L93,T3_R2!L93)","v":58622},{"$f":"MAX('MDA1'!L93,'MDA2'!L93,'MDA3'!J93,'MDA3'!M93,'T1'!N93,'T2'!L93,T3_R1!M93,T3_R2!M93)","v":0},58622,{"$f":"MAX('MDA2'!J93,T93)","v":0},{"$f":"MAX('MDA1'!K93,'MDA2'!K93,'MDA3'!I93,'MDA3'!L93,V93,AD93)","v":58622},{"$f":"MAX('MDA1'!L93,'MDA2'!L93,'MDA3'!J93,'MDA3'!M93,AF93)","v":0},58622,21.575090816474678]
[{"$f":"IF(COUNTRY_INFO!A94=0,\" \",COUNTRY_INFO!A94)","v":"Tanzania"},{"$f":"IF(COUNTRY_INFO!B94=0,\" \",COUNTRY_INFO!B94)","v":"Mbeya"},{"$f":"IF(COUNTRY_INFO!C94=0,\" \",COUNTRY_INFO!C94)","v":"Mbarali District Council"},{"$f":"COUNTRY_INFO!L94","v":"Stopped"},null,null,{"$f":"MAX('MDA1'!M94,'MDA2'!M94)","v":0},{"$f":"IF(AND(COUNTRY_INFO!H94>0,COUNTRY_INFO!H94<4),IF(D94>MAX('MDA1'!M94,'MDA2'!M94),MAX('MDA1'!M94,'MDA2'!M94),D94),0)","v":0},{"$f":"IF(AND(COUNTRY_INFO!H94>0,COUNTRY_INFO!H94<4), IF(G94/D94*100<>0, IF(G94/D94*100>100,100,G94/D94*100), \"-\"),0)","v":0},{"$f":"COUNTRY_INFO!M94","v":0},null,null,{"$f":"MAX('MDA1'!M94,MAX('MDA3'!I94,'MDA3'!L94)+MAX('MDA3'!J94,'MDA3'!M94))","v":0},{"$f":"IF(AND(COUNTRY_INFO!I94>0,COUNTRY_INFO!I94<4),IF(J94>MAX('MDA1'!M94,MAX('MDA3'!I94,'MDA3'!L94)+MAX('MDA3'!J94,'MDA3'!M94)),MAX('MDA1'!M94,MAX('MDA3'!I94,'MDA3'!L94)+MAX('MDA3'!J94,'MDA3'!M94)),J94),0)","v":0},{"$f":"IF(AND(COUNTRY_INFO!I94>0,COUNTRY_INFO!I94<4), IF(M94/J94*100<>0, IF(M94/J94*100>100,100,M94/J94*100), \"-\"),0)","v":0},{"$f":"COUNTRY_INFO!N94","v":124222},null,null,{"$f":"SUM(MAX('MDA2'!J94, 'T1'!L94, MAX(T3_R1!K94, T3_R2!K94)), MAX('MDA1'!K94, 'MDA2'!K94, 'T1'!M94, MAX(T3_R1!L94, T3_R2!L94)), MAX('MDA1'!L94, 'MDA2'!L94, 'T1'!N94, MAX(T3_R1!M94, T3_R2!M94)))","v":74681},{"$f":"IF(AND(COUNTRY_INFO!J94>1,COUNTRY_INFO!J94<4),IF(COUNTRY_INFO!E94>MAX('MDA2'!J94,'T1'!L94,MAX(T3_R1!K94,T3_R2!K94)),MAX('MDA2'!J94,'T1'!L94,MAX(T3_R1!K94,T3_R2!K94)),COUNTRY_INFO!E94),0)","v":0},{"$f":"IF(AND(COUNTRY_INFO!J94>1,COUNTRY_INFO!J94<4), IF(T94/COUNTRY_INFO!E94*100<>0, IF(T94/COUNTRY_INFO!E94*100>100,100,T94/COUNTRY_INFO!E94*100), \"-\"),0)","v":"-"},{"$f":"IF(AND(COUNTRY_INFO!J94>1,COUNTRY_INFO!J94<4),IF(COUNTRY_INFO!F94>MAX('MDA1'!K94,'MDA2'!K94,'T1'!M94,MAX(T3_R1!L94,T3_R2!L94)),MAX('MDA1'!K94,'MDA2'!K94,'T1'!M94,MAX(T3_R1!L94,T3_R2!L94)),COUNTRY_INFO!F94),0)","v":74681},{"$f":"IF(AND(COUNTRY_INFO!J94>1,COUNTRY_INFO!J94<4), IF(V94/COUNTRY_INFO!F94*100<>0, IF(V94/COUNTRY_INFO!F94*100>100,100,V94/COUNTRY_INFO!F94*100), \"-\"),0)","v":97.237087092952095},74681,{"$f":"IF(AND(COUNTRY_INFO!J94>1,COUNTRY_INFO!J94<4), IF(S94/P94*100<>0, IF(X94/P94*100>100,100,X94/P94*100), \"-\"),0)","v":60.118980534848902},{"$f":"COUNTRY_INFO!O94","v":87075.503782577056},null,null,{"$f":"MAX('T1'!L94,'T2'!J94)+MAX('T1'!M94,'T2'!K94)+MAX('T1'!N94,'T2'!L94)","v":74681},{"$f":"IF(COUNTRY_INFO!K94=1,IF(COUNTRY_INFO!F94*0.33>MAX('T1'!M94,'T2'!K94),MAX('T1'!M94,'T2'!K94),COUNTRY_INFO!F94*0.33),IF(COUNTRY_INFO!K94=2,IF(COUNTRY_INFO!F94*0.5>MAX('T1'!M94,'T2'!K94),MAX('T1'!M94,'T2'!K94),COUNTRY_INFO!F94*0.5),IF(COUNTRY_INFO!K94=3,IF(COUNTRY_INFO!F94>MAX('T1'!M94,'T2'!K94),MAX('T1'!M94,'T2'!K94),COUNTRY_INFO!F94),0)))","v":38401.5},{"$f":"IF(AND(COUNTRY_INFO!K94>0,COUNTRY_INFO!K94<4),IF(Z94>0,IF(COUNTRY_INFO!K94=1, AD94/(COUNTRY_INFO!F94*0.33)*100, IF(COUNTRY_INFO!K94=2, AD94/(COUNTRY_INFO!F94*0.5)*100, IF(COUNTRY_INFO!K94=3, AD94/COUNTRY_INFO!F94*100))),\"-\"),0)","v":100},{"$f":"IF(COUNTRY_INFO!K94=2,IF(COUNTRY_INFO!G94*0.2>MAX('T1'!N94,'T2'!L94),MAX('T1'!N94,'T2'!L94),COUNTRY_INFO!G94*0.2),IF(COUNTRY_INFO!K94=3,IF(COUNTRY_INFO!G94>MAX('T1'!N94,'T2'!L94),MAX('T1'!N94,'T2'!L94),COUNTRY_INFO!G94),0))","v":0},{"$f":"IF(AND(COUNTRY_INFO!K94>0,COUNTRY_INFO!K94<4),IF(Z94>0,IF(COUNTRY_INFO!K94=1, 0, IF(COUNTRY_INFO!K94=2, AF94/(COUNTRY_INFO!G94*0.2)*100, IF(COUNTRY_INFO!K94=3, AF94/COUNTRY_INFO!G94*100))),\"-\"),0)","v":0},38401.5,{"$f":"IF(AND(COUNTRY_INFO!K94>0,COUNTRY_INFO!K94<4), IF(AC94/Z94*100<>0, IF(AH94/Z94*100>100,100,AH94/Z94*100), \"-\"),0)","v":44.101381366551173},null,{"$f":"IF(AND(D94<>0, D94<>\"Unknown\",D94<>\"Stopped\",D94<>\"Not required\"),D94/COUNTRY_INFO!D94, 0)","v":0},{"$f":"IF(AND(J94<>0,J94<>\"Unknown\",J94<>\"Stopped\",J94<>\"Not required\"),J94/COUNTRY_INFO!D94, 0)","v":0},{"$f":"IF(AND(P94<>0,P94<>\"Unknown\",P94<>\"Not required\"),P94/(COUNTRY_INFO!E94+COUNTRY_INFO!F94), 0)","v":1},{"$f":"IF(AND(Z94<>0,Z94<>\"Unknown\",Z94<>\"Not required\"),IF(COUNTRY_INFO!K94=1,1,IF(COUNTRY_INFO!K94=2,0.5*COUNTRY_INFO!F94/(0.5*COUNTRY_INFO!F94+0.2*COUNTRY_INFO!G94),IF(COUNTRY_INFO!K94=3,COUNTRY_INFO!F94/(COUNTRY_INFO!F94+COUNTRY_INFO!G94)))),0)","v":0.44101381366551173},{"$f":"IF(AND(Z94<>0,Z94<>\"Unknown\",Z94<>\"Not required\"),IF(COUNTRY_INFO!K94=1,0,IF(COUNTRY_INFO!K94=2,0.2*COUNTRY_INFO!G94/(0.5*COUNTRY_INFO!F94+0.2*COUNTRY_INFO!G94),IF(COUNTRY_INFO!K94=3,COUNTRY_INFO!G94/(COUNTRY_INFO!F94+COUNTRY_INFO!G94)))),0)","v":0.55898618633448827},{"$f":"MAX(COUNTRY_INFO!D94*AK94*PROFILE!$G$7,COUNTRY_INFO!D94*AL94*PROFILE!$G$7)","v":0},{"$f":"MAX(COUNTRY_INFO!D94*AK94*PROFILE!$G$8,COUNTRY_INFO!D94*AL94*PROFILE!$G$8,COUNTRY_INFO!D94*AM94*PROFILE!$G$8)","v":47419.371138037786},{"$f":"MAX(COUNTRY_INFO!D94*AK94*PROFILE!$G$9,COUNTRY_INFO!D94*AL94*PROFILE!$G$9,COUNTRY_INFO!D94*AM94*PROFILE!$G$9,IF(AND(DISTRICT!Z94<>\"Unknown\",Z94<>\"Not required\"),COUNTRY_INFO!O94*DISTRICT!AN94,0))","v":82635.407854753968},{"$f":"MAX(COUNTRY_INFO!D94*AK94*PROFILE!$G$10,COUNTRY_INFO!D94*AL94*PROFILE!$G$10,IF(AND(DISTRICT!Z94<>\"Unknown\",Z94<>\"Not required\"),COUNTRY_INFO!O94*DISTRICT!AO94,0))","v":48674.003782577056},178728.7827753688,"Y",{"$f":"MAX('MDA2'!J94,'T1'!L94,'T2'!J94,T3_R1!K94,T3_R2!K94)","v":0},{"$f":"MAX('MDA1'!K94,'MDA2'!K94,'MDA3'!I94,'MDA3'!L94,'T1'!M94,'T2'!K94,T3_R1!L94,T3_R2!L94)","v":74681},{"$f":"MAX('MDA1'!L94,'MDA2'!L94,'MDA3'!J94,'MDA3'!M94,'T1'!N94,'T2'!L94,T3_R1!M94,T3_R2!M94)","v":0},74681,{"$f":"MAX('MDA2'!J94,T94)","v":0},{"$f":"MAX('MDA1'!K94,'MDA2'!K94,'MDA3'!I94,'MDA3'!L94,V94,AD94)","v":74681},{"$f":"MAX('MDA1'!L94,'MDA2'!L94,'MDA3'!J94,'MDA3'!M94,AF94)","v":0},74681,41.784540150906253]
[{"$f":"IF(COUNTRY_INFO!A95=0,\" \",COUNTRY_INFO!A95)","v":"Tanzania"},{"$f":"IF(COUNTRY_INFO!B95=0,\" \",COUNTRY_INFO!B95)","v":"Mbeya"},{"$f":"IF(COUNTRY_INFO!C95=0,\" \",COUNTRY_INFO!C95)","v":"Mbeya City Council"},{"$f":"COUNTRY_INFO!L95","v":"Stopped"},null,null,{"$f":"MAX('MDA1'!M95,'MDA2'!M95)","v":0},{"$f":"IF(AND(COUNTRY_INFO!H95>0,COUNTRY_INFO!H95<4),IF(D95>MAX('MDA1'!M95,'MDA2'!M95),MAX('MDA1'!M95,'MDA2'!M95),D95),0)","v":0},{"$f":"IF(AND(COUNTRY_INFO!H95>0,COUNTRY_INFO!H95<4), IF(G95/D95*100<>0, IF(G95/D95*100>100,100,G95/D95*100), \"-\"),0)","v":0},{"$f":"COUNTRY_INFO!M95","v":0},null,null,{"$f":"MAX('MDA1'!M95,MAX('MDA3'!I95,'MDA3'!L95)+MAX('MDA3'!J95,'MDA3'!M95))","v":0},{"$f":"IF(AND(COUNTRY_INFO!I95>0,COUNTRY_INFO!I95<4),IF(J95>MAX('MDA1'!M95,MAX('MDA3'!I95,'MDA3'!L95)+MAX('MDA3'!J95,'MDA3'!M95)),MAX('MDA1'!M95,MAX('MDA3'!I95,'MDA3'!L95)+MAX('MDA3'!J95,'MDA3'!M95)),J95),0)","v":0},{"$f":"IF(AND(COUNTRY_INFO!I95>0,COUNTRY_INFO!I95<4), IF(M95/J95*100<>0, IF(M95/J95*100>100,100,M95/J95*100), \"-\"),0)","v":0},{"$f":"COUNTRY_INFO!N95","v":156689},null,null,{"$f":"SUM(MAX('MDA2'!J95, 'T1'!L95, MAX(T3_R1!K95, T3_R2!K95)), MAX('MDA1'!K95, 'MDA2'!K95, 'T1'!M95, MAX(T3_R1!L95, T3_R2!L95)), MAX('MDA1'!L95, 'MDA2'!L95, 'T1'!N95, MAX(T3_R1!M95, T3_R2!M95)))","v":92059},{"$f":"IF(AND(COUNTRY_INFO!J95>1,COUNTRY_INFO!J95<4),IF(COUNTRY_INFO!E95>MAX('MDA2'!J95,'T1'!L95,MAX(T3_R1!K95,T3_R2!K95)),MAX('MDA2'!J95,'T1'!L95,MAX(T3_R1!K95,T3_R2!K95)),COUNTRY_INFO!E95),0)","v":0},{"$f":"IF(AND(COUNTRY_INFO!J95>1,COUNTRY_INFO!J95<4), IF(T95/COUNTRY_INFO!E95*100<>0, IF(T95/COUNTRY_INFO!E95*100>100,100,T95/COUNTRY_INFO!E95*100), \"-\"),0)","v":"-"},{"$f":"IF(AND(COUNTRY_INFO!J95>1,COUNTRY_INFO!J95<4),IF(COUNTRY_INFO!F95>MAX('MDA1'!K95,'MDA2'!K95,'T1'!M95,MAX(T3_R1!L95,T3_R2!L95)),MAX('MDA1'!K95,'MDA2'!K95,'T1'!M95,MAX(T3_R1!L95,T3_R2!L95)),COUNTRY_INFO!F95),0)","v":92059},{"$f":"IF(AND(COUNTRY_INFO!J95>1,COUNTRY_INFO!J95<4), IF(V95/COUNTRY_INFO!F95*100<>0, IF(V95/COUNTRY_INFO!F95*100>100,100,V95/COUNTRY_INFO!F95*100), \"-\"),0)","v":95.999791438552577},92059,{"$f":"IF(AND(COUNTRY_INFO!J95>1,COUNTRY_INFO!J95<4), IF(S95/P95*100<>0, IF(X95/P95*100>100,100,X95/P95*100), \"-\"),0)","v":58.752688446540603},{"$f":"COUNTRY_INFO!O95","v":110864.33492353071},null,null,{"$f":"MAX('T1'!L95,'T2'!J95)+MAX('T1'!M95,'T2'!K95)+MAX('T1'!N95,'T2'!L95)","v":92059},{"$f":"IF(COUNTRY_INFO!K95=1,IF(COUNTRY_INFO!F95*0.33>MAX('T1'!M95,'T2'!K95),MAX('T1'!M95,'T2'!K95),COUNTRY_INFO!F95*0.33),IF(COUNTRY_INFO!K95=2,IF(COUNTRY_INFO!F95*0.5>MAX('T1'!M95,'T2'!K95),MAX('T1'!M95,'T2'!K95),COUNTRY_INFO!F95*0.5),IF(COUNTRY_INFO!K95=3,IF(COUNTRY_INFO!F95>MAX('T1'!M95,'T2'!K95),MAX('T1'!M95,'T2'!K95),COUNTRY_INFO!F95),0)))","v":47947.5},{"$f":"IF(AND(COUNTRY_INFO!K95>0,COUNTRY_INFO!K95<4),IF(Z95>0,IF(COUNTRY_INFO!K95=1, AD95/(COUNTRY_INFO!F95*0.33)*100, IF(COUNTRY_INFO!K95=2, AD95/(COUNTRY_INFO!F95*0.5)*100, IF(COUNTRY_INFO!K95=3, AD95/COUNTRY_INFO!F95*100))),\"-\"),0)","v":100},{"$f":"IF(COUNTRY_INFO!K95=2,IF(COUNTRY_INFO!G95*0.2>MAX('T1'!N95,'T2'!L95),MAX('T1'!N95,'T2'!L95),COUNTRY_INFO!G95*0.2),IF(COUNTRY_INFO!K95=3,IF(COUNTRY_INFO!G95>MAX('T1'!N95,'T2'!L95),MAX('T1'!N95,'T2'!L95),COUNTRY_INFO!G95),0))","v":0},{"$f":"IF(AND(COUNTRY_INFO!K95>0,COUNTRY_INFO!K95<4),IF(Z95>0,IF(COUNTRY_INFO!K95=1, 0, IF(COUNTRY_INFO!K95=2, AF95/(COUNTRY_INFO!G95*0.2)*100, IF(COUNTRY_INFO!K95=3, AF95/COUNTRY_INFO!G95*100))),\"-\"),0)","v":0},47947.5,{"$f":"IF(AND(COUNTRY_INFO!K95>0,COUNTRY_INFO!K95<4), IF(AC95/Z95*100<>0, IF(AH95/Z95*100>100,100,AH95/Z95*100), \"-\"),0)","v":43.24880497688644},null,{"$f":"IF(AND(D95<>0, D95<>\"Unknown\",D95<>\"Stopped\",D95<>\"Not required\"),D95/COUNTRY_INFO!D95, 0)","v":0},{"$f":"IF(AND(J95<>0,J95<>\"Unknown\",J95<>\"Stopped\",J95<>\"Not required\"),J95/COUNTRY_INFO!D95, 0)","v":0},{"$f":"IF(AND(P95<>0,P95<>\"Unknown\",P95<>\"Not required\"),P95/(COUNTRY_INFO!E95+COUNTRY_INFO!F95), 0)","v":1},{"$f":"IF(AND(Z95<>0,Z95<>\"Unknown\",Z95<>\"Not required\"),IF(COUNTRY_INFO!K95=1,1,IF(COUNTRY_INFO!K95=2,0.5*COUNTRY_INFO!F95/(0.5*COUNTRY_INFO!F95+0.2*COUNTRY_INFO!G95),IF(COUNTRY_INFO!K95=3,COUNTRY_INFO!F95/(COUNTRY_INFO!F95+COUNTRY_INFO!G95)))),0)","v":0.4324880497688644},{"$f":"IF(AND(Z95<>0,Z95<>\"Unknown\",Z95<>\"Not required\"),IF(COUNTRY_INFO!K95=1,0,IF(COUNTRY_INFO!K95=2,0.2*COUNTRY_INFO!G95/(0.5*COUNTRY_INFO!F95+0.2*COUNTRY_INFO!G95),IF(COUNTRY_INFO!K95=3,COUNTRY_INFO!G95/(COUNTRY_INFO!F95+COUNTRY_INFO!G95)))),0)","v":0.56751195023113565},{"$f":"MAX(COUNTRY_INFO!D95*AK95*PROFILE!$G$7,COUNTRY_INFO!D95*AL95*PROFILE!$G$7)","v":0},{"$f":"MAX(COUNTRY_INFO!D95*AK95*PROFILE!$G$8,COUNTRY_INFO!D95*AL95*PROFILE!$G$8,COUNTRY_INFO!D95*AM95*PROFILE!$G$8)","v":60794.240420904993},{"$f":"MAX(COUNTRY_INFO!D95*AK95*PROFILE!$G$9,COUNTRY_INFO!D95*AL95*PROFILE!$G$9,COUNTRY_INFO!D95*AM95*PROFILE!$G$9,IF(AND(DISTRICT!Z95<>\"Unknown\",Z95<>\"Not required\"),COUNTRY_INFO!O95*DISTRICT!AN95,0))","v":105943.13530175881},{"$f":"MAX(COUNTRY_INFO!D95*AK95*PROFILE!$G$10,COUNTRY_INFO!D95*AL95*PROFILE!$G$10,IF(AND(DISTRICT!Z95<>\"Unknown\",Z95<>\"Not required\"),COUNTRY_INFO!O95*DISTRICT!AO95,0))","v":62916.834923530718},229654.21064619452,"Y",{"$f":"MAX('MDA2'!J95,'T1'!L95,'T2'!J95,T3_R1!K95,T3_R2!K95)","v":0},{"$f":"MAX('MDA1'!K95,'MDA2'!K95,'MDA3'!I95,'MDA3'!L95,'T1'!M95,'T2'!K95,T3_R1!L95,T3_R2!L95)","v":92059},{"$f":"MAX('MDA1'!L95,'MDA2'!L95,'MDA3'!J95,'MDA3'!M95,'T1'!N95,'T2'!L95,T3_R1!M95,T3_R2!M95)","v":0},92059,{"$f":"MAX('MDA2'!J95,T95)","v":0},{"$f":"MAX('MDA1'!K95,'MDA2'!K95,'MDA3'!I95,'MDA3'!L95,V95,AD95)","v":92059},{"$f":"MAX('MDA1'!L95,'MDA2'!L95,'MDA3'!J95,'MDA3'!M95,AF95)","v":0},92059,40.085918625644609]
[{"$f":"IF(COUNTRY_INFO!A96=0,\" \",COUNTRY_INFO!A96)","v":"Tanzania"},{"$f":"IF(COUNTRY_INFO!B96=0,\" \",COUNTRY_INFO!B96)","v":"Mbeya"},{"$f":"IF(COUNTRY_INFO!C96=0,\" \",COUNTRY_INFO!C96)","v":"Mbeya District Council"},{"$f":"COUNTRY_INFO!L96","v":"Stopped"},null,null,{"$f":"MAX('MDA1'!M96,'MDA2'!M96)","v":0},{"$f":"IF(AND(COUNTRY_INFO!H96>0,COUNTRY_INFO!H96<4),IF(D96>MAX('MDA1'!M96,'MDA2'!M96),MAX('MDA1'!M96,'MDA2'!M96),D96),0)","v":0},{"$f":"IF(AND(COUNTRY_INFO!H96>0,COUNTRY_INFO!H96<4), IF(G96/D96*100<>0, IF(G96/D96*100>100,100,G96/D96*100), \"-\"),0)","v":0},{"$f":"COUNTRY_INFO!M96","v":0},null,null,{"$f":"MAX('MDA1'!M96,MAX('MDA3'!I96,'MDA3'!L96)+MAX('MDA3'!J96,'MDA3'!M96))","v":0},{"$f":"IF(AND(COUNTRY_INFO!I96>0,COUNTRY_INFO!I96<4),IF(J96>MAX('MDA1'!M96,MAX('MDA3'!I96,'MDA3'!L96)+MAX('MDA3'!J96,'MDA3'!M96)),MAX('MDA1'!M96,MAX('MDA3'!I96,'MDA3'!L96)+MAX('MDA3'!J96,'MDA3'!M96)),J96),0)","v":0},{"$f":"IF(AND(COUNTRY_INFO!I96>0,COUNTRY_INFO!I96<4), IF(M96/J96*100<>0, IF(M96/J96*100>100,100,M96/J96*100), \"-\"),0)","v":0},{"$f":"COUNTRY_INFO!N96","v":126835},null,null,{"$f":"SUM(MAX('MDA2'!J96, 'T1'!L96, MAX(T3_R1!K96, T3_R2!K96)), MAX('MDA1'!K96, 'MDA2'!K96, 'T1'!M96, MAX(T3_R1!L96, T3_R2!L96)), MAX('MDA1'!L96, 'MDA2'!L96, 'T1'!N96, MAX(T3_R1!M96, T3_R2!M96)))","v":77621},{"$f":"IF(AND(COUNTRY_INFO!J96>1,COUNTRY_INFO!J96<4),IF(COUNTRY_INFO!E96>MAX('MDA2'!J96,'T1'!L96,MAX(T3_R1!K96,T3_R2!K96)),MAX('MDA2'!J96,'T1'!L96,MAX(T3_R1!K96,T3_R2!K96)),COUNTRY_INFO!E96),0)","v":0},{"$f":"IF(AND(COUNTRY_INFO!J96>1,COUNTRY_INFO!J96<4), IF(T96/COUNTRY_INFO!E96*100<>0, IF(T96/COUNTRY_INFO!E96*100>100,100,T96/COUNTRY_INFO!E96*100), \"-\"),0)","v":"-"},{"$f":"IF(AND(COUNTRY_INFO!J96>1,COUNTRY_INFO!J96<4),IF(COUNTRY_INFO!F96>MAX('MDA1'!K96,'MDA2'!K96,'T1'!M96,MAX(T3_R1!L96,T3_R2!L96)),MAX('MDA1'!K96,'MDA2'!K96,'T1'!M96,MAX(T3_R1!L96,T3_R2!L96)),COUNTRY_INFO!F96),0)","v":77621},{"$f":"IF(AND(COUNTRY_INFO!J96>1,COUNTRY_INFO!J96<4), IF(V96/COUNTRY_INFO!F96*100<>0, IF(V96/COUNTRY_INFO!F96*100>100,100,V96/COUNTRY_INFO!F96*100), \"-\"),0)","v":98.681634417351063},77621,{"$f":"IF(AND(COUNTRY_INFO!J96>1,COUNTRY_INFO!J96<4), IF(S96/P96*100<>0, IF(X96/P96*100>100,100,X96/P96*100), \"-\"),0)","v":61.198407379666499},{"$f":"COUNTRY_INFO!O96","v":88655.600576047349},null,null,{"$f":"MAX('T1'!L96,'T2'!J96)+MAX('T1'!M96,'T2'!K96)+MAX('T1'!N96,'T2'!L96)","v":77621},{"$f":"IF(COUNTRY_INFO!K96=1,IF(COUNTRY_INFO!F96*0.33>MAX('T1'!M96,'T2'!K96),MAX('T1'!M96,'T2'!K96),COUNTRY_INFO!F96*0.33),IF(COUNTRY_INFO!K96=2,IF(COUNTRY_INFO!F96*0.5>MAX('T1'!M96,'T2'!K96),MAX('T1'!M96,'T2'!K96),COUNTRY_INFO!F96*0.5),IF(COUNTRY_INFO!K96=3,IF(COUNTRY_INFO!F96>MAX('T1'!M96,'T2'!K96),MAX('T1'!M96,'T2'!K96),COUNTRY_INFO!F96),0)))","v":39329},{"$f":"IF(AND(COUNTRY_INFO!K96>0,COUNTRY_INFO!K96<4),IF(Z96>0,IF(COUNTRY_INFO!K96=1, AD96/(COUNTRY_INFO!F96*0.33)*100, IF(COUNTRY_INFO!K96=2, AD96/(COUNTRY_INFO!F96*0.5)*100, IF(COUNTRY_INFO!K96=3, AD96/COUNTRY_INFO!F96*100))),\"-\"),0)","v":100},{"$f":"IF(COUNTRY_INFO!K96=2,IF(COUNTRY_INFO!G96*0.2>MAX('T1'!N96,'T2'!L96),MAX('T1'!N96,'T2'!L96),COUNTRY_INFO!G96*0.2),IF(COUNTRY_INFO!K96=3,IF(COUNTRY_INFO!G96>MAX('T1'!N96,'T2'!L96),MAX('T1'!N96,'T2'!L96),COUNTRY_INFO!G96),0))","v":0},{"$f":"IF(AND(COUNTRY_INFO!K96>0,COUNTRY_INFO!K96<4),IF(Z96>0,IF(COUNTRY_INFO!K96=1, 0, IF(COUNTRY_INFO!K96=2, AF96/(COUNTRY_INFO!G96*0.2)*100, IF(COUNTRY_INFO!K96=3, AF96/COUNTRY_INFO!G96*100))),\"-\"),0)","v":0},39329,{"$f":"IF(AND(COUNTRY_INFO!K96>0,COUNTRY_INFO!K96<4), IF(AC96/Z96*100<>0, IF(AH96/Z96*100>100,100,AH96/Z96*100), \"-\"),0)","v":44.361551604700047},null,{"$f":"IF(AND(D96<>0, D96<>\"Unknown\",D96<>\"Stopped\",D96<>\"Not required\"),D96/COUNTRY_INFO!D96, 0)","v":0},{"$f":"IF(AND(J96<>0,J96<>\"Unknown\",J96<>\"Stopped\",J96<>\"Not required\"),J96/COUNTRY_INFO!D96, 0)","v":0},{"$f":"IF(AND(P96<>0,P96<>\"Unknown\",P96<>\"Not required\"),P96/(COUNTRY_INFO!E96+COUNTRY_INFO!F96), 0)","v":1},{"$f":"IF(AND(Z96<>0,Z96<>\"Unknown\",Z96<>\"Not required\"),IF(COUNTRY_INFO!K96=1,1,IF(COUNTRY_INFO!K96=2,0.5*COUNTRY_INFO!F96/(0.5*COUNTRY_INFO!F96+0.2*COUNTRY_INFO!G96),IF(COUNTRY_INFO!K96=3,COUNTRY_INFO!F96/(COUNTRY_INFO!F96+COUNTRY_INFO!G96)))),0)","v":0.4436155160470005},{"$f":"IF(AND(Z96<>0,Z96<>\"Unknown\",Z96<>\"Not required\"),IF(COUNTRY_INFO!K96=1,0,IF(COUNTRY_INFO!K96=2,0.2*COUNTRY_INFO!G96/(0.5*COUNTRY_INFO!F96+0.2*COUNTRY_INFO!G96),IF(COUNTRY_INFO!K96=3,COUNTRY_INFO!G96/(COUNTRY_INFO!F96+COUNTRY_INFO!G96)))),0)","v":0.55638448395299955},{"$f":"MAX(COUNTRY_INFO!D96*AK96*PROFILE!$G$7,COUNTRY_INFO!D96*AL96*PROFILE!$G$7)","v":0},{"$f":"MAX(COUNTRY_INFO!D96*AK96*PROFILE!$G$8,COUNTRY_INFO!D96*AL96*PROFILE!$G$8,COUNTRY_INFO!D96*AM96*PROFILE!$G$8)","v":48177.373080988116},{"$f":"MAX(COUNTRY_INFO!D96*AK96*PROFILE!$G$9,COUNTRY_INFO!D96*AL96*PROFILE!$G$9,COUNTRY_INFO!D96*AM96*PROFILE!$G$9,IF(AND(DISTRICT!Z96<>\"Unknown\",Z96<>\"Not required\"),COUNTRY_INFO!O96*DISTRICT!AN96,0))","v":83956.340591884917},{"$f":"MAX(COUNTRY_INFO!D96*AK96*PROFILE!$G$10,COUNTRY_INFO!D96*AL96*PROFILE!$G$10,IF(AND(DISTRICT!Z96<>\"Unknown\",Z96<>\"Not required\"),COUNTRY_INFO!O96*DISTRICT!AO96,0))","v":49326.600576047356},181460.31424892039,"Y",{"$f":"MAX('MDA2'!J96,'T1'!L96,'T2'!J96,T3_R1!K96,T3_R2!K96)","v":0},{"$f":"MAX('MDA1'!K96,'MDA2'!K96,'MDA3'!I96,'MDA3'!L96,'T1'!M96,'T2'!K96,T3_R1!L96,T3_R2!L96)","v":77621},{"$f":"MAX('MDA1'!L96,'MDA2'!L96,'MDA3'!J96,'MDA3'!M96,'T1'!N96,'T2'!L96,T3_R1!M96,T3_R2!M96)","v":0},77621,{"$f":"MAX('MDA2'!J96,T96)","v":0},{"$f":"MAX('MDA1'!K96,'MDA2'!K96,'MDA3'!I96,'MDA3'!L96,V96,AD96)","v":77621},{"$f":"MAX('MDA1'!L96,'MDA2'!L96,'MDA3'!J96,'MDA3'!M96,AF96)","v":0},77621,42.775744283966382]
[{"$f":"IF(COUNTRY_INFO!A97=0,\" \",COUNTRY_INFO!A97)","v":"Tanzania"},{"$f":"IF(COUNTRY_INFO!B97=0,\" \",COUNTRY_INFO!B97)","v":"Mbeya"},{"$f":"IF(COUNTRY_INFO!C97=0,\" \",COUNTRY_INFO!C97)","v":"Rungwe District Council"},{"$f":"COUNTRY_INFO!L97","v":"Stopped"},null,null,{"$f":"MAX('MDA1'!M97,'MDA2'!M97)","v":0},{"$f":"IF(AND(COUNTRY_INFO!H97>0,COUNTRY_INFO!H97<4),IF(D97>MAX('MDA1'!M97,'MDA2'!M97),MAX('MDA1'!M97,'MDA2'!M97),D97),0)","v":0},{"$f":"IF(AND(COUNTRY_INFO!H97>0,COUNTRY_INFO!H97<4), IF(G97/D97*100<>0, IF(G97/D97*100>100,100,G97/D97*100), \"-\"),0)","v":0},{"$f":"COUNTRY_INFO!M97","v":297004.36661514378},null,null,{"$f":"MAX('MDA1'!M97,MAX('MDA3'!I97,'MDA3'!L97)+MAX('MDA3'!J97,'MDA3'!M97))","v":0},{"$f":"IF(AND(COUNTRY_INFO!I97>0,COUNTRY_INFO!I97<4),IF(J97>MAX('MDA1'!M97,MAX('MDA3'!I97,'MDA3'!L97)+MAX('MDA3'!J97,'MDA3'!M97)),MAX('MDA1'!M97,MAX('MDA3'!I97,'MDA3'!L97)+MAX('MDA3'!J97,'MDA3'!M97)),J97),0)","v":0},{"$f":"IF(AND(COUNTRY_INFO!I97>0,COUNTRY_INFO!I97<4), IF(M97/J97*100<>0, IF(M97/J97*100>100,100,M97/J97*100), \"-\"),0)","v":"-"},{"$f":"COUNTRY_INFO!N97","v":99816},null,null,{"$f":"SUM(MAX('MDA2'!J97, 'T1'!L97, MAX(T3_R1!K97, T3_R2!K97)), MAX('MDA1'!K97, 'MDA2'!K97, 'T1'!M97, MAX(T3_R1!L97, T3_R2!L97)), MAX('MDA1'!L97, 'MDA2'!L97, 'T1'!N97, MAX(T3_R1!M97, T3_R2!M97)))","v":60702},{"$f":"IF(AND(COUNTRY_INFO!J97>1,COUNTRY_INFO!J97<4),IF(COUNTRY_INFO!E97>MAX('MDA2'!J97,'T1'!L97,MAX(T3_R1!K97,T3_R2!K97)),MAX('MDA2'!J97,'T1'!L97,MAX(T3_R1!K97,T3_R2!K97)),COUNTRY_INFO!E97),0)","v":0},{"$f":"IF(AND(COUNTRY_INFO!J97>1,COUNTRY_INFO!J97<4), IF(T97/COUNTRY_INFO!E97*100<>0, IF(T97/COUNTRY_INFO!E97*100>100,100,T97/COUNTRY_INFO!E97*100), \"-\"),0)","v":"-"},{"$f":"IF(AND(COUNTRY_INFO!J97>1,COUNTRY_INFO!J97<4),IF(COUNTRY_INFO!F97>MAX('MDA1'!K97,'MDA2'!K97,'T1'!M97,MAX(T3_R1!L97,T3_R2!L97)),MAX('MDA1'!K97,'MDA2'!K97,'T1'!M97,MAX(T3_R1!L97,T3_R2!L97)),COUNTRY_INFO!F97),0)","v":60702},{"$f":"IF(AND(COUNTRY_INFO!J97>1,COUNTRY_INFO!J97<4), IF(V97/COUNTRY_INFO!F97*100<>0, IF(V97/COUNTRY_INFO!F97*100>100,100,V97/COUNTRY_INFO!F97*100), \"-\"),0)","v":98.699229293356311},60702,{"$f":"IF(AND(COUNTRY_INFO!J97>1,COUNTRY_INFO!J97<4), IF(S97/P97*100<>0, IF(X97/P97*100>100,100,X97/P97*100), \"-\"),0)","v":60.813897571531619},{"$f":"COUNTRY_INFO!O97","v":70188.67332302875},null,null,{"$f":"MAX('T1'!L97,'T2'!J97)+MAX('T1'!M97,'T2'!K97)+MAX('T1'!N97,'T2'!L97)","v":60702},{"$f":"IF(COUNTRY_INFO!K97=1,IF(COUNTRY_INFO!F97*0.33>MAX('T1'!M97,'T2'!K97),MAX('T1'!M97,'T2'!K97),COUNTRY_INFO!F97*0.33),IF(COUNTRY_INFO!K97=2,IF(COUNTRY_INFO!F97*0.5>MAX('T1'!M97,'T2'!K97),MAX('T1'!M97,'T2'!K97),COUNTRY_INFO!F97*0.5),IF(COUNTRY_INFO!K97=3,IF(COUNTRY_INFO!F97>MAX('T1'!M97,'T2'!K97),MAX('T1'!M97,'T2'!K97),COUNTRY_INFO!F97),0)))","v":30751},{"$f":"IF(AND(COUNTRY_INFO!K97>0,COUNTRY_INFO!K97<4),IF(Z97>0,IF(COUNTRY_INFO!K97=1, AD97/(COUNTRY_INFO!F97*0.33)*100, IF(COUNTRY_INFO!K97=2, AD97/(COUNTRY_INFO!F97*0.5)*100, IF(COUNTRY_INFO!K97=3, AD97/COUNTRY_INFO!F97*100))),\"-\"),0)","v":100},{"$f":"IF(COUNTRY_INFO!K97=2,IF(COUNTRY_INFO!G97*0.2>MAX('T1'!N97,'T2'!L97),MAX('T1'!N97,'T2'!L97),COUNTRY_INFO!G97*0.2),IF(COUNTRY_INFO!K97=3,IF(COUNTRY_INFO!G97>MAX('T1'!N97,'T2'!L97),MAX('T1'!N97,'T2'!L97),COUNTRY_INFO!G97),0))","v":0},{"$f":"IF(AND(COUNTRY_INFO!K97>0,COUNTRY_INFO!K97<4),IF(Z97>0,IF(COUNTRY_INFO!K97=1, 0, IF(COUNTRY_INFO!K97=2, AF97/(COUNTRY_INFO!G97*0.2)*100, IF(COUNTRY_INFO!K97=3, AF97/COUNTRY_INFO!G97*100))),\"-\"),0)","v":0},30751,{"$f":"IF(AND(COUNTRY_INFO!K97>0,COUNTRY_INFO!K97<4), IF(AC97/Z97*100<>0, IF(AH97/Z97*100>100,100,AH97/Z97*100), \"-\"),0)","v":43.811912298833356},null,{"$f":"IF(AND(D97<>0, D97<>\"Unknown\",D97<>\"Stopped\",D97<>\"Not required\"),D97/COUNTRY_INFO!D97, 0)","v":0},{"$f":"IF(AND(J97<>0,J97<>\"Unknown\",J97<>\"Stopped\",J97<>\"Not required\"),J97/COUNTRY_INFO!D97, 0)","v":1},{"$f":"IF(AND(P97<>0,P97<>\"Unknown\",P97<>\"Not required\"),P97/(COUNTRY_INFO!E97+COUNTRY_INFO!F97), 0)","v":1},{"$f":"IF(AND(Z97<>0,Z97<>\"Unknown\",Z97<>\"Not required\"),IF(COUNTRY_INFO!K97=1,1,IF(COUNTRY_INFO!K97=2,0.5*COUNTRY_INFO!F97/(0.5*COUNTRY_INFO!F97+0.2*COUNTRY_INFO!G97),IF(COUNTRY_INFO!K97=3,COUNTRY_INFO!F97/(COUNTRY_INFO!F97+COUNTRY_INFO!G97)))),0)","v":0.43811912298833355},{"$f":"IF(AND(Z97<>0,Z97<>\"Unknown\",Z97<>\"Not required\"),IF(COUNTRY_INFO!K97=1,0,IF(COUNTRY_INFO!K97=2,0.2*COUNTRY_INFO!G97/(0.5*COUNTRY_INFO!F97+0.2*COUNTRY_INFO!G97),IF(COUNTRY_INFO!K97=3,COUNTRY_INFO!G97/(COUNTRY_INFO!F97+COUNTRY_INFO!G97)))),0)","v":0.56188087701166656},{"$f":"MAX(COUNTRY_INFO!D97*AK97*PROFILE!$G$7,COUNTRY_INFO!D97*AL97*PROFILE!$G$7)","v":5.4461571825196557E-3},{"$f":"MAX(COUNTRY_INFO!D97*AK97*PROFILE!$G$8,COUNTRY_INFO!D97*AL97*PROFILE!$G$8,COUNTRY_INFO!D97*AM97*PROFILE!$G$8)","v":38313.563857541259},{"$f":"MAX(COUNTRY_INFO!D97*AK97*PROFILE!$G$9,COUNTRY_INFO!D97*AL97*PROFILE!$G$9,COUNTRY_INFO!D97*AM97*PROFILE!$G$9,IF(AND(DISTRICT!Z97<>\"Unknown\",Z97<>\"Not required\"),COUNTRY_INFO!O97*DISTRICT!AN97,0))","v":66767.164974008003},{"$f":"MAX(COUNTRY_INFO!D97*AK97*PROFILE!$G$10,COUNTRY_INFO!D97*AL97*PROFILE!$G$10,IF(AND(DISTRICT!Z97<>\"Unknown\",Z97<>\"Not required\"),COUNTRY_INFO!O97*DISTRICT!AO97,0))","v":191923.63233743733},297004.36661514378,0,{"$f":"MAX('MDA2'!J97,'T1'!L97,'T2'!J97,T3_R1!K97,T3_R2!K97)","v":0},{"$f":"MAX('MDA1'!K97,'MDA2'!K97,'MDA3'!I97,'MDA3'!L97,'T1'!M97,'T2'!K97,T3_R1!L97,T3_R2!L97)","v":60702},{"$f":"MAX('MDA1'!L97,'MDA2'!L97,'MDA3'!J97,'MDA3'!M97,'T1'!N97,'T2'!L97,T3_R1!M97,T3_R2!M97)","v":0},60702,{"$f":"MAX('MDA2'!J97,T97)","v":0},{"$f":"MAX('MDA1'!K97,'MDA2'!K97,'MDA3'!I97,'MDA3'!L97,V97,AD97)","v":60702},{"$f":"MAX('MDA1'!L97,'MDA2'!L97,'MDA3'!J97,'MDA3'!M97,AF97)","v":0},60702,20.438083349345916]
[{"$f":"IF(COUNTRY_INFO!A98=0,\" \",COUNTRY_INFO!A98)","v":"Tanzania"},{"$f":"IF(COUNTRY_INFO!B98=0,\" \",COUNTRY_INFO!B98)","v":"Morogoro"},{"$f":"IF(COUNTRY_INFO!C98=0,\" \",COUNTRY_INFO!C98)","v":"Gairo District Council"},{"$f":"COUNTRY_INFO!L98","v":"Stopped"},null,null,{"$f":"MAX('MDA1'!M98,'MDA2'!M98)","v":0},{"$f":"IF(AND(COUNTRY_INFO!H98>0,COUNTRY_INFO!H98<4),IF(D98>MAX('MDA1'!M98,'MDA2'!M98),MAX('MDA1'!M98,'MDA2'!M98),D98),0)","v":0},{"$f":"IF(AND(COUNTRY_INFO!H98>0,COUNTRY_INFO!H98<4), IF(G98/D98*100<>0, IF(G98/D98*100>100,100,G98/D98*100), \"-\"),0)","v":0},{"$f":"COUNTRY_INFO!M98","v":233800.01588269012},null,null,{"$f":"MAX('MDA1'!M98,MAX('MDA3'!I98,'MDA3'!L98)+MAX('MDA3'!J98,'MDA3'!M98))","v":0},{"$f":"IF(AND(COUNTRY_INFO!I98>0,COUNTRY_INFO!I98<4),IF(J98>MAX('MDA1'!M98,MAX('MDA3'!I98,'MDA3'!L98)+MAX('MDA3'!J98,'MDA3'!M98)),MAX('MDA1'!M98,MAX('MDA3'!I98,'MDA3'!L98)+MAX('MDA3'!J98,'MDA3'!M98)),J98),0)","v":0},{"$f":"IF(AND(COUNTRY_INFO!I98>0,COUNTRY_INFO!I98<4), IF(M98/J98*100<>0, IF(M98/J98*100>100,100,M98/J98*100), \"-\"),0)","v":"-"},{"$f":"COUNTRY_INFO!N98","v":79921},null,null,{"$f":"SUM(MAX('MDA2'!J98, 'T1'!L98, MAX(T3_R1!K98, T3_R2!K98)), MAX('MDA1'!K98, 'MDA2'!K98, 'T1'!M98, MAX(T3_R1!L98, T3_R2!L98)), MAX('MDA1'!L98, 'MDA2'!L98, 'T1'!N98, MAX(T3_R1!M98, T3_R2!M98)))","v":45342},{"$f":"IF(AND(COUNTRY_INFO!J98>1,COUNTRY_INFO!J98<4),IF(COUNTRY_INFO!E98>MAX('MDA2'!J98,'T1'!L98,MAX(T3_R1!K98,T3_R2!K98)),MAX('MDA2'!J98,'T1'!L98,MAX(T3_R1!K98,T3_R2!K98)),COUNTRY_INFO!E98),0)","v":0},{"$f":"IF(AND(COUNTRY_INFO!J98>1,COUNTRY_INFO!J98<4), IF(T98/COUNTRY_INFO!E98*100<>0, IF(T98/COUNTRY_INFO!E98*100>100,100,T98/COUNTRY_INFO!E98*100), \"-\"),0)","v":"-"},{"$f":"IF(AND(COUNTRY_INFO!J98>1,COUNTRY_INFO!J98<4),IF(COUNTRY_INFO!F98>MAX('MDA1'!K98,'MDA2'!K98,'T1'!M98,MAX(T3_R1!L98,T3_R2!L98)),MAX('MDA1'!K98,'MDA2'!K98,'T1'!M98,MAX(T3_R1!L98,T3_R2!L98)),COUNTRY_INFO!F98),0)","v":45342},{"$f":"IF(AND(COUNTRY_INFO!J98>1,COUNTRY_INFO!J98<4), IF(V98/COUNTRY_INFO!F98*100<>0, IF(V98/COUNTRY_INFO!F98*100>100,100,V98/COUNTRY_INFO!F98*100), \"-\"),0)","v":91.119551455959495},45342,{"$f":"IF(AND(COUNTRY_INFO!J98>1,COUNTRY_INFO!J98<4), IF(S98/P98*100<>0, IF(X98/P98*100>100,100,X98/P98*100), \"-\"),0)","v":56.733524355300858},{"$f":"COUNTRY_INFO!O98","v":55656.303176538029},null,null,{"$f":"MAX('T1'!L98,'T2'!J98)+MAX('T1'!M98,'T2'!K98)+MAX('T1'!N98,'T2'!L98)","v":45342},{"$f":"IF(COUNTRY_INFO!K98=1,IF(COUNTRY_INFO!F98*0.33>MAX('T1'!M98,'T2'!K98),MAX('T1'!M98,'T2'!K98),COUNTRY_INFO!F98*0.33),IF(COUNTRY_INFO!K98=2,IF(COUNTRY_INFO!F98*0.5>MAX('T1'!M98,'T2'!K98),MAX('T1'!M98,'T2'!K98),COUNTRY_INFO!F98*0.5),IF(COUNTRY_INFO!K98=3,IF(COUNTRY_INFO!F98>MAX('T1'!M98,'T2'!K98),MAX('T1'!M98,'T2'!K98),COUNTRY_INFO!F98),0)))","v":24880.5},{"$f":"IF(AND(COUNTRY_INFO!K98>0,COUNTRY_INFO!K98<4),IF(Z98>0,IF(COUNTRY_INFO!K98=1, AD98/(COUNTRY_INFO!F98*0.33)*100, IF(COUNTRY_INFO!K98=2, AD98/(COUNTRY_INFO!F98*0.5)*100, IF(COUNTRY_INFO!K98=3, AD98/COUNTRY_INFO!F98*100))),\"-\"),0)","v":100},{"$f":"IF(COUNTRY_INFO!K98=2,IF(COUNTRY_INFO!G98*0.2>MAX('T1'!N98,'T2'!L98),MAX('T1'!N98,'T2'!L98),COUNTRY_INFO!G98*0.2),IF(COUNTRY_INFO!K98=3,IF(COUNTRY_INFO!G98>MAX('T1'!N98,'T2'!L98),MAX('T1'!N98,'T2'!L98),COUNTRY_INFO!G98),0))","v":0},{"$f":"IF(AND(COUNTRY_INFO!K98>0,COUNTRY_INFO!K98<4),IF(Z98>0,IF(COUNTRY_INFO!K98=1, 0, IF(COUNTRY_INFO!K98=2, AF98/(COUNTRY_INFO!G98*0.2)*100, IF(COUNTRY_INFO!K98=3, AF98/COUNTRY_INFO!G98*100))),\"-\"),0)","v":0},24880.5,{"$f":"IF(AND(COUNTRY_INFO!K98>0,COUNTRY_INFO!K98<4), IF(AC98/Z98*100<>0, IF(AH98/Z98*100>100,100,AH98/Z98*100), \"-\"),0)","v":44.703831515867549},null,{"$f":"IF(AND(D98<>0, D98<>\"Unknown\",D98<>\"Stopped\",D98<>\"Not required\"),D98/COUNTRY_INFO!D98, 0)","v":0},{"$f":"IF(AND(J98<>0,J98<>\"Unknown\",J98<>\"Stopped\",J98<>\"Not required\"),J98/COUNTRY_INFO!D98, 0)","v":1},{"$f":"IF(AND(P98<>0,P98<>\"Unknown\",P98<>\"Not required\"),P98/(COUNTRY_INFO!E98+COUNTRY_INFO!F98), 0)","v":1},{"$f":"IF(AND(Z98<>0,Z98<>\"Unknown\",Z98<>\"Not required\"),IF(COUNTRY_INFO!K98=1,1,IF(COUNTRY_INFO!K98=2,0.5*COUNTRY_INFO!F98/(0.5*COUNTRY_INFO!F98+0.2*COUNTRY_INFO!G98),IF(COUNTRY_INFO!K98=3,COUNTRY_INFO!F98/(COUNTRY_INFO!F98+COUNTRY_INFO!G98)))),0)","v":0.44703831515867548},{"$f":"IF(AND(Z98<>0,Z98<>\"Unknown\",Z98<>\"Not required\"),IF(COUNTRY_INFO!K98=1,0,IF(COUNTRY_INFO!K98=2,0.2*COUNTRY_INFO!G98/(0.5*COUNTRY_INFO!F98+0.2*COUNTRY_INFO!G98),IF(COUNTRY_INFO!K98=3,COUNTRY_INFO!G98/(COUNTRY_INFO!F98+COUNTRY_INFO!G98)))),0)","v":0.55296168484132446},{"$f":"MAX(COUNTRY_INFO!D98*AK98*PROFILE!$G$7,COUNTRY_INFO!D98*AL98*PROFILE!$G$7)","v":4.2871815329997174E-3},{"$f":"MAX(COUNTRY_INFO!D98*AK98*PROFILE!$G$8,COUNTRY_INFO!D98*AL98*PROFILE!$G$8,COUNTRY_INFO!D98*AM98*PROFILE!$G$8)","v":30160.202492992128},{"$f":"MAX(COUNTRY_INFO!D98*AK98*PROFILE!$G$9,COUNTRY_INFO!D98*AL98*PROFILE!$G$9,COUNTRY_INFO!D98*AM98*PROFILE!$G$9,IF(AND(DISTRICT!Z98<>\"Unknown\",Z98<>\"Not required\"),COUNTRY_INFO!O98*DISTRICT!AN98,0))","v":52558.702786995738},{"$f":"MAX(COUNTRY_INFO!D98*AK98*PROFILE!$G$10,COUNTRY_INFO!D98*AL98*PROFILE!$G$10,IF(AND(DISTRICT!Z98<>\"Unknown\",Z98<>\"Not required\"),COUNTRY_INFO!O98*DISTRICT!AO98,0))","v":151081.10631552071},233800.01588269009,0,{"$f":"MAX('MDA2'!J98,'T1'!L98,'T2'!J98,T3_R1!K98,T3_R2!K98)","v":0},{"$f":"MAX('MDA1'!K98,'MDA2'!K98,'MDA3'!I98,'MDA3'!L98,'T1'!M98,'T2'!K98,T3_R1!L98,T3_R2!L98)","v":45342},{"$f":"MAX('MDA1'!L98,'MDA2'!L98,'MDA3'!J98,'MDA3'!M98,'T1'!N98,'T2'!L98,T3_R1!M98,T3_R2!M98)","v":0},45342,{"$f":"MAX('MDA2'!J98,T98)","v":0},{"$f":"MAX('MDA1'!K98,'MDA2'!K98,'MDA3'!I98,'MDA3'!L98,V98,AD98)","v":45342},{"$f":"MAX('MDA1'!L98,'MDA2'!L98,'MDA3'!J98,'MDA3'!M98,AF98)","v":0},45342,19.393497399397312]
[{"$f":"IF(COUNTRY_INFO!A99=0,\" \",COUNTRY_INFO!A99)","v":"Tanzania"},{"$f":"IF(COUNTRY_INFO!B99=0,\" \",COUNTRY_INFO!B99)","v":"Morogoro"},{"$f":"IF(COUNTRY_INFO!C99=0,\" \",COUNTRY_INFO!C99)","v":"Ifakara Town Council"},{"$f":"COUNTRY_INFO!L99","v":"Stopped"},null,null,{"$f":"MAX('MDA1'!M99,'MDA2'!M99)","v":0},{"$f":"IF(AND(COUNTRY_INFO!H99>0,COUNTRY_INFO!H99<4),IF(D99>MAX('MDA1'!M99,'MDA2'!M99),MAX('MDA1'!M99,'MDA2'!M99),D99),0)","v":0},{"$f":"IF(AND(COUNTRY_INFO!H99>0,COUNTRY_INFO!H99<4), IF(G99/D99*100<>0, IF(G99/D99*100>100,100,G99/D99*100), \"-\"),0)","v":0},{"$f":"COUNTRY_INFO!M99","v":137578},null,null,{"$f":"MAX('MDA1'!M99,MAX('MDA3'!I99,'MDA3'!L99)+MAX('MDA3'!J99,'MDA3'!M99))","v":119560},{"$f":"IF(AND(COUNTRY_INFO!I99>0,COUNTRY_INFO!I99<4),IF(J99>MAX('MDA1'!M99,MAX('MDA3'!I99,'MDA3'!L99)+MAX('MDA3'!J99,'MDA3'!M99)),MAX('MDA1'!M99,MAX('MDA3'!I99,'MDA3'!L99)+MAX('MDA3'!J99,'MDA3'!M99)),J99),0)","v":119560},{"$f":"IF(AND(COUNTRY_INFO!I99>0,COUNTRY_INFO!I99<4), IF(M99/J99*100<>0, IF(M99/J99*100>100,100,M99/J99*100), \"-\"),0)","v":86.903429327363398},{"$f":"COUNTRY_INFO!N99","v":44177},null,null,{"$f":"SUM(MAX('MDA2'!J99, 'T1'!L99, MAX(T3_R1!K99, T3_R2!K99)), MAX('MDA1'!K99, 'MDA2'!K99, 'T1'!M99, MAX(T3_R1!L99, T3_R2!L99)), MAX('MDA1'!L99, 'MDA2'!L99, 'T1'!N99, MAX(T3_R1!M99, T3_R2!M99)))","v":24164},{"$f":"IF(AND(COUNTRY_INFO!J99>1,COUNTRY_INFO!J99<4),IF(COUNTRY_INFO!E99>MAX('MDA2'!J99,'T1'!L99,MAX(T3_R1!K99,T3_R2!K99)),MAX('MDA2'!J99,'T1'!L99,MAX(T3_R1!K99,T3_R2!K99)),COUNTRY_INFO!E99),0)","v":0},{"$f":"IF(AND(COUNTRY_INFO!J99>1,COUNTRY_INFO!J99<4), IF(T99/COUNTRY_INFO!E99*100<>0, IF(T99/COUNTRY_INFO!E99*100>100,100,T99/COUNTRY_INFO!E99*100), \"-\"),0)","v":"-"},{"$f":"IF(AND(COUNTRY_INFO!J99>1,COUNTRY_INFO!J99<4),IF(COUNTRY_INFO!F99>MAX('MDA1'!K99,'MDA2'!K99,'T1'!M99,MAX(T3_R1!L99,T3_R2!L99)),MAX('MDA1'!K99,'MDA2'!K99,'T1'!M99,MAX(T3_R1!L99,T3_R2!L99)),COUNTRY_INFO!F99),0)","v":24164},{"$f":"IF(AND(COUNTRY_INFO!J99>1,COUNTRY_INFO!J99<4), IF(V99/COUNTRY_INFO!F99*100<>0, IF(V99/COUNTRY_INFO!F99*100>100,100,V99/COUNTRY_INFO!F99*100), \"-\"),0)","v":91.429868704831819},24164,{"$f":"IF(AND(COUNTRY_INFO!J99>1,COUNTRY_INFO!J99<4), IF(S99/P99*100<>0, IF(X99/P99*100>100,100,X99/P99*100), \"-\"),0)","v":54.698146094121384},{"$f":"COUNTRY_INFO!O99","v":31894.7},null,null,{"$f":"MAX('T1'!L99,'T2'!J99)+MAX('T1'!M99,'T2'!K99)+MAX('T1'!N99,'T2'!L99)","v":24164},{"$f":"IF(COUNTRY_INFO!K99=1,IF(COUNTRY_INFO!F99*0.33>MAX('T1'!M99,'T2'!K99),MAX('T1'!M99,'T2'!K99),COUNTRY_INFO!F99*0.33),IF(COUNTRY_INFO!K99=2,IF(COUNTRY_INFO!F99*0.5>MAX('T1'!M99,'T2'!K99),MAX('T1'!M99,'T2'!K99),COUNTRY_INFO!F99*0.5),IF(COUNTRY_INFO!K99=3,IF(COUNTRY_INFO!F99>MAX('T1'!M99,'T2'!K99),MAX('T1'!M99,'T2'!K99),COUNTRY_INFO!F99),0)))","v":13214.5},{"$f":"IF(AND(COUNTRY_INFO!K99>0,COUNTRY_INFO!K99<4),IF(Z99>0,IF(COUNTRY_INFO!K99=1, AD99/(COUNTRY_INFO!F99*0.33)*100, IF(COUNTRY_INFO!K99=2, AD99/(COUNTRY_INFO!F99*0.5)*100, IF(COUNTRY_INFO!K99=3, AD99/COUNTRY_INFO!F99*100))),\"-\"),0)","v":100},{"$f":"IF(COUNTRY_INFO!K99=2,IF(COUNTRY_INFO!G99*0.2>MAX('T1'!N99,'T2'!L99),MAX('T1'!N99,'T2'!L99),COUNTRY_INFO!G99*0.2),IF(COUNTRY_INFO!K99=3,IF(COUNTRY_INFO!G99>MAX('T1'!N99,'T2'!L99),MAX('T1'!N99,'T2'!L99),COUNTRY_INFO!G99),0))","v":0},{"$f":"IF(AND(COUNTRY_INFO!K99>0,COUNTRY_INFO!K99<4),IF(Z99>0,IF(COUNTRY_INFO!K99=1, 0, IF(COUNTRY_INFO!K99=2, AF99/(COUNTRY_INFO!G99*0.2)*100, IF(COUNTRY_INFO!K99=3, AF99/COUNTRY_INFO!G99*100))),\"-\"),0)","v":0},13214.5,{"$f":"IF(AND(COUNTRY_INFO!K99>0,COUNTRY_INFO!K99<4), IF(AC99/Z99*100<>0, IF(AH99/Z99*100>100,100,AH99/Z99*100), \"-\"),0)","v":41.431648518405879},null,{"$f":"IF(AND(D99<>0, D99<>\"Unknown\",D99<>\"Stopped\",D99<>\"Not required\"),D99/COUNTRY_INFO!D99, 0)","v":0},{"$f":"IF(AND(J99<>0,J99<>\"Unknown\",J99<>\"Stopped\",J99<>\"Not required\"),J99/COUNTRY_INFO!D99, 0)","v":1},{"$f":"IF(AND(P99<>0,P99<>\"Unknown\",P99<>\"Not required\"),P99/(COUNTRY_INFO!E99+COUNTRY_INFO!F99), 0)","v":1},{"$f":"IF(AND(Z99<>0,Z99<>\"Unknown\",Z99<>\"Not required\"),IF(COUNTRY_INFO!K99=1,1,IF(COUNTRY_INFO!K99=2,0.5*COUNTRY_INFO!F99/(0.5*COUNTRY_INFO!F99+0.2*COUNTRY_INFO!G99),IF(COUNTRY_INFO!K99=3,COUNTRY_INFO!F99/(COUNTRY_INFO!F99+COUNTRY_INFO!G99)))),0)","v":0.41431648518405878},{"$f":"IF(AND(Z99<>0,Z99<>\"Unknown\",Z99<>\"Not required\"),IF(COUNTRY_INFO!K99=1,0,IF(COUNTRY_INFO!K99=2,0.2*COUNTRY_INFO!G99/(0.5*COUNTRY_INFO!F99+0.2*COUNTRY_INFO!G99),IF(COUNTRY_INFO!K99=3,COUNTRY_INFO!G99/(COUNTRY_INFO!F99+COUNTRY_INFO!G99)))),0)","v":0.58568351481594116},{"$f":"MAX(COUNTRY_INFO!D99*AK99*PROFILE!$G$7,COUNTRY_INFO!D99*AL99*PROFILE!$G$7)","v":2.5227622792078001E-3},{"$f":"MAX(COUNTRY_INFO!D99*AK99*PROFILE!$G$8,COUNTRY_INFO!D99*AL99*PROFILE!$G$8,COUNTRY_INFO!D99*AM99*PROFILE!$G$8)","v":17747.56226134234},{"$f":"MAX(COUNTRY_INFO!D99*AK99*PROFILE!$G$9,COUNTRY_INFO!D99*AL99*PROFILE!$G$9,COUNTRY_INFO!D99*AM99*PROFILE!$G$9,IF(AND(DISTRICT!Z99<>\"Unknown\",Z99<>\"Not required\"),COUNTRY_INFO!O99*DISTRICT!AN99,0))","v":30927.804622808228},{"$f":"MAX(COUNTRY_INFO!D99*AK99*PROFILE!$G$10,COUNTRY_INFO!D99*AL99*PROFILE!$G$10,IF(AND(DISTRICT!Z99<>\"Unknown\",Z99<>\"Not required\"),COUNTRY_INFO!O99*DISTRICT!AO99,0))","v":88902.630593087146},137578,"Y",{"$f":"MAX('MDA2'!J99,'T1'!L99,'T2'!J99,T3_R1!K99,T3_R2!K99)","v":0},{"$f":"MAX('MDA1'!K99,'MDA2'!K99,'MDA3'!I99,'MDA3'!L99,'T1'!M99,'T2'!K99,T3_R1!L99,T3_R2!L99)","v":24164},{"$f":"MAX('MDA1'!L99,'MDA2'!L99,'MDA3'!J99,'MDA3'!M99,'T1'!N99,'T2'!L99,T3_R1!M99,T3_R2!M99)","v":96724.040000000008},120888.04000000001,{"$f":"MAX('MDA2'!J99,T99)","v":0},{"$f":"MAX('MDA1'!K99,'MDA2'!K99,'MDA3'!I99,'MDA3'!L99,V99,AD99)","v":24164},{"$f":"MAX('MDA1'!L99,'MDA2'!L99,'MDA3'!J99,'MDA3'!M99,AF99)","v":96724.040000000008},120888.04000000001,87.868729011905984]
[{"$f":"IF(COUNTRY_INFO!A100=0,\" \",COUNTRY_INFO!A100)","v":"Tanzania"},{"$f":"IF(COUNTRY_INFO!B100=0,\" \",COUNTRY_INFO!B100)","v":"Morogoro"},{"$f":"IF(COUNTRY_INFO!C100=0,\" \",COUNTRY_INFO!C100)","v":"Kilombero District Council (Mlimba District Council)"},{"$f":"COUNTRY_INFO!L100","v":"Stopped"},null,null,{"$f":"MAX('MDA1'!M100,'MDA2'!M100)","v":0},{"$f":"IF(AND(COUNTRY_INFO!H100>0,COUNTRY_INFO!H100<4),IF(D100>MAX('MDA1'!M100,'MDA2'!M100),MAX('MDA1'!M100,'MDA2'!M100),D100),0)","v":0},{"$f":"IF(AND(COUNTRY_INFO!H100>0,COUNTRY_INFO!H100<4), IF(G100/D100*100<>0, IF(G100/D100*100>100,100,G100/D100*100), \"-\"),0)","v":0},{"$f":"COUNTRY_INFO!M100","v":374778},null,null,{"$f":"MAX('MDA1'!M100,MAX('MDA3'!I100,'MDA3'!L100)+MAX('MDA3'!J100,'MDA3'!M100))","v":326806},{"$f":"IF(AND(COUNTRY_INFO!I100>0,COUNTRY_INFO!I100<4),IF(J100>MAX('MDA1'!M100,MAX('MDA3'!I100,'MDA3'!L100)+MAX('MDA3'!J100,'MDA3'!M100)),MAX('MDA1'!M100,MAX('MDA3'!I100,'MDA3'!L100)+MAX('MDA3'!J100,'MDA3'!M100)),J100),0)","v":326806},{"$f":"IF(AND(COUNTRY_INFO!I100>0,COUNTRY_INFO!I100<4), IF(M100/J100*100<>0, IF(M100/J100*100>100,100,M100/J100*100), \"-\"),0)","v":87.199889000955238},{"$f":"COUNTRY_INFO!N100","v":129869},null,null,{"$f":"SUM(MAX('MDA2'!J100, 'T1'!L100, MAX(T3_R1!K100, T3_R2!K100)), MAX('MDA1'!K100, 'MDA2'!K100, 'T1'!M100, MAX(T3_R1!L100, T3_R2!L100)), MAX('MDA1'!L100, 'MDA2'!L100, 'T1'!N100, MAX(T3_R1!M100, T3_R2!M100)))","v":79882},{"$f":"IF(AND(COUNTRY_INFO!J100>1,COUNTRY_INFO!J100<4),IF(COUNTRY_INFO!E100>MAX('MDA2'!J100,'T1'!L100,MAX(T3_R1!K100,T3_R2!K100)),MAX('MDA2'!J100,'T1'!L100,MAX(T3_R1!K100,T3_R2!K100)),COUNTRY_INFO!E100),0)","v":0},{"$f":"IF(AND(COUNTRY_INFO!J100>1,COUNTRY_INFO!J100<4), IF(T100/COUNTRY_INFO!E100*100<>0, IF(T100/COUNTRY_INFO!E100*100>100,100,T100/COUNTRY_INFO!E100*100), \"-\"),0)","v":"-"},{"$f":"IF(AND(COUNTRY_INFO!J100>1,COUNTRY_INFO!J100<4),IF(COUNTRY_INFO!F100>MAX('MDA1'!K100,'MDA2'!K100,'T1'!M100,MAX(T3_R1!L100,T3_R2!L100)),MAX('MDA1'!K100,'MDA2'!K100,'T1'!M100,MAX(T3_R1!L100,T3_R2!L100)),COUNTRY_INFO!F100),0)","v":79882},{"$f":"IF(AND(COUNTRY_INFO!J100>1,COUNTRY_INFO!J100<4), IF(V100/COUNTRY_INFO!F100*100<>0, IF(V100/COUNTRY_INFO!F100*100>100,100,V100/COUNTRY_INFO!F100*100), \"-\"),0)","v":97.987071133299807},79882,{"$f":"IF(AND(COUNTRY_INFO!J100>1,COUNTRY_INFO!J100<4), IF(S100/P100*100<>0, IF(X100/P100*100>100,100,X100/P100*100), \"-\"),0)","v":61.509675134173669},{"$f":"COUNTRY_INFO!O100","v":89743.3},null,null,{"$f":"MAX('T1'!L100,'T2'!J100)+MAX('T1'!M100,'T2'!K100)+MAX('T1'!N100,'T2'!L100)","v":79882},{"$f":"IF(COUNTRY_INFO!K100=1,IF(COUNTRY_INFO!F100*0.33>MAX('T1'!M100,'T2'!K100),MAX('T1'!M100,'T2'!K100),COUNTRY_INFO!F100*0.33),IF(COUNTRY_INFO!K100=2,IF(COUNTRY_INFO!F100*0.5>MAX('T1'!M100,'T2'!K100),MAX('T1'!M100,'T2'!K100),COUNTRY_INFO!F100*0.5),IF(COUNTRY_INFO!K100=3,IF(COUNTRY_INFO!F100>MAX('T1'!M100,'T2'!K100),MAX('T1'!M100,'T2'!K100),COUNTRY_INFO!F100),0)))","v":40761.5},{"$f":"IF(AND(COUNTRY_INFO!K100>0,COUNTRY_INFO!K100<4),IF(Z100>0,IF(COUNTRY_INFO!K100=1, AD100/(COUNTRY_INFO!F100*0.33)*100, IF(COUNTRY_INFO!K100=2, AD100/(COUNTRY_INFO!F100*0.5)*100, IF(COUNTRY_INFO!K100=3, AD100/COUNTRY_INFO!F100*100))),\"-\"),0)","v":100},{"$f":"IF(COUNTRY_INFO!K100=2,IF(COUNTRY_INFO!G100*0.2>MAX('T1'!N100,'T2'!L100),MAX('T1'!N100,'T2'!L100),COUNTRY_INFO!G100*0.2),IF(COUNTRY_INFO!K100=3,IF(COUNTRY_INFO!G100>MAX('T1'!N100,'T2'!L100),MAX('T1'!N100,'T2'!L100),COUNTRY_INFO!G100),0))","v":0},{"$f":"IF(AND(COUNTRY_INFO!K100>0,COUNTRY_INFO!K100<4),IF(Z100>0,IF(COUNTRY_INFO!K100=1, 0, IF(COUNTRY_INFO!K100=2, AF100/(COUNTRY_INFO!G100*0.2)*100, IF(COUNTRY_INFO!K100=3, AF100/COUNTRY_INFO!G100*100))),\"-\"),0)","v":0},40761.5,{"$f":"IF(AND(COUNTRY_INFO!K100>0,COUNTRY_INFO!K100<4), IF(AC100/Z100*100<>0, IF(AH100/Z100*100>100,100,AH100/Z100*100), \"-\"),0)","v":45.420103784906502},null,{"$f":"IF(AND(D100<>0, D100<>\"Unknown\",D100<>\"Stopped\",D100<>\"Not required\"),D100/COUNTRY_INFO!D100, 0)","v":0},{"$f":"IF(AND(J100<>0,J100<>\"Unknown\",J100<>\"Stopped\",J100<>\"Not required\"),J100/COUNTRY_INFO!D100, 0)","v":1},{"$f":"IF(AND(P100<>0,P100<>\"Unknown\",P100<>\"Not required\"),P100/(COUNTRY_INFO!E100+COUNTRY_INFO!F100), 0)","v":1},{"$f":"IF(AND(Z100<>0,Z100<>\"Unknown\",Z100<>\"Not required\"),IF(COUNTRY_INFO!K100=1,1,IF(COUNTRY_INFO!K100=2,0.5*COUNTRY_INFO!F100/(0.5*COUNTRY_INFO!F100+0.2*COUNTRY_INFO!G100),IF(COUNTRY_INFO!K100=3,COUNTRY_INFO!F100/(COUNTRY_INFO!F100+COUNTRY_INFO!G100)))),0)","v":0.45420103784906501},{"$f":"IF(AND(Z100<>0,Z100<>\"Unknown\",Z100<>\"Not required\"),IF(COUNTRY_INFO!K100=1,0,IF(COUNTRY_INFO!K100=2,0.2*COUNTRY_INFO!G100/(0.5*COUNTRY_INFO!F100+0.2*COUNTRY_INFO!G100),IF(COUNTRY_INFO!K100=3,COUNTRY_INFO!G100/(COUNTRY_INFO!F100+COUNTRY_INFO!G100)))),0)","v":0.54579896215093493},{"$f":"MAX(COUNTRY_INFO!D100*AK100*PROFILE!$G$7,COUNTRY_INFO!D100*AL100*PROFILE!$G$7)","v":6.8722891848765127E-3},{"$f":"MAX(COUNTRY_INFO!D100*AK100*PROFILE!$G$8,COUNTRY_INFO!D100*AL100*PROFILE!$G$8,COUNTRY_INFO!D100*AM100*PROFILE!$G$8)","v":48346.362711926035},{"$f":"MAX(COUNTRY_INFO!D100*AK100*PROFILE!$G$9,COUNTRY_INFO!D100*AL100*PROFILE!$G$9,COUNTRY_INFO!D100*AM100*PROFILE!$G$9,IF(AND(DISTRICT!Z100<>\"Unknown\",Z100<>\"Not required\"),COUNTRY_INFO!O100*DISTRICT!AN100,0))","v":84250.830517428811},{"$f":"MAX(COUNTRY_INFO!D100*AK100*PROFILE!$G$10,COUNTRY_INFO!D100*AL100*PROFILE!$G$10,IF(AND(DISTRICT!Z100<>\"Unknown\",Z100<>\"Not required\"),COUNTRY_INFO!O100*DISTRICT!AO100,0))","v":242180.79989835597},374778,"Y",{"$f":"MAX('MDA2'!J100,'T1'!L100,'T2'!J100,T3_R1!K100,T3_R2!K100)","v":0},{"$f":"MAX('MDA1'!K100,'MDA2'!K100,'MDA3'!I100,'MDA3'!L100,'T1'!M100,'T2'!K100,T3_R1!L100,T3_R2!L100)","v":79882},{"$f":"MAX('MDA1'!L100,'MDA2'!L100,'MDA3'!J100,'MDA3'!M100,'T1'!N100,'T2'!L100,T3_R1!M100,T3_R2!M100)","v":264386.054},344268.054,{"$f":"MAX('MDA2'!J100,T100)","v":0},{"$f":"MAX('MDA1'!K100,'MDA2'!K100,'MDA3'!I100,'MDA3'!L100,V100,AD100)","v":79882},{"$f":"MAX('MDA1'!L100,'MDA2'!L100,'MDA3'!J100,'MDA3'!M100,AF100)","v":264386.054},344268.054,91.859195043465732]
[{"$f":"IF(COUNTRY_INFO!A101=0,\" \",COUNTRY_INFO!A101)","v":"Tanzania"},{"$f":"IF(COUNTRY_INFO!B101=0,\" \",COUNTRY_INFO!B101)","v":"Morogoro"},{"$f":"IF(COUNTRY_INFO!C101=0,\" \",COUNTRY_INFO!C101)","v":"Kilosa District Council"},{"$f":"COUNTRY_INFO!L101","v":"Stopped"},null,null,{"$f":"MAX('MDA1'!M101,'MDA2'!M101)","v":0},{"$f":"IF(AND(COUNTRY_INFO!H101>0,COUNTRY_INFO!H101<4),IF(D101>MAX('MDA1'!M101,'MDA2'!M101),MAX('MDA1'!M101,'MDA2'!M101),D101),0)","v":0},{"$f":"IF(AND(COUNTRY_INFO!H101>0,COUNTRY_INFO!H101<4), IF(G101/D101*100<>0, IF(G101/D101*100>100,100,G101/D101*100), \"-\"),0)","v":0},{"$f":"COUNTRY_INFO!M101","v":530776.38764369313},null,null,{"$f":"MAX('MDA1'!M101,MAX('MDA3'!I101,'MDA3'!L101)+MAX('MDA3'!J101,'MDA3'!M101))","v":0},{"$f":"IF(AND(COUNTRY_INFO!I101>0,COUNTRY_INFO!I101<4),IF(J101>MAX('MDA1'!M101,MAX('MDA3'!I101,'MDA3'!L101)+MAX('MDA3'!J101,'MDA3'!M101)),MAX('MDA1'!M101,MAX('MDA3'!I101,'MDA3'!L101)+MAX('MDA3'!J101,'MDA3'!M101)),J101),0)","v":0},{"$f":"IF(AND(COUNTRY_INFO!I101>0,COUNTRY_INFO!I101<4), IF(M101/J101*100<>0, IF(M101/J101*100>100,100,M101/J101*100), \"-\"),0)","v":"-"},{"$f":"COUNTRY_INFO!N101","v":177454},null,null,{"$f":"SUM(MAX('MDA2'!J101, 'T1'!L101, MAX(T3_R1!K101, T3_R2!K101)), MAX('MDA1'!K101, 'MDA2'!K101, 'T1'!M101, MAX(T3_R1!L101, T3_R2!L101)), MAX('MDA1'!L101, 'MDA2'!L101, 'T1'!N101, MAX(T3_R1!M101, T3_R2!M101)))","v":104422},{"$f":"IF(AND(COUNTRY_INFO!J101>1,COUNTRY_INFO!J101<4),IF(COUNTRY_INFO!E101>MAX('MDA2'!J101,'T1'!L101,MAX(T3_R1!K101,T3_R2!K101)),MAX('MDA2'!J101,'T1'!L101,MAX(T3_R1!K101,T3_R2!K101)),COUNTRY_INFO!E101),0)","v":0},{"$f":"IF(AND(COUNTRY_INFO!J101>1,COUNTRY_INFO!J101<4), IF(T101/COUNTRY_INFO!E101*100<>0, IF(T101/COUNTRY_INFO!E101*100>100,100,T101/COUNTRY_INFO!E101*100), \"-\"),0)","v":"-"},{"$f":"IF(AND(COUNTRY_INFO!J101>1,COUNTRY_INFO!J101<4),IF(COUNTRY_INFO!F101>MAX('MDA1'!K101,'MDA2'!K101,'T1'!M101,MAX(T3_R1!L101,T3_R2!L101)),MAX('MDA1'!K101,'MDA2'!K101,'T1'!M101,MAX(T3_R1!L101,T3_R2!L101)),COUNTRY_INFO!F101),0)","v":104422},{"$f":"IF(AND(COUNTRY_INFO!J101>1,COUNTRY_INFO!J101<4), IF(V101/COUNTRY_INFO!F101*100<>0, IF(V101/COUNTRY_INFO!F101*100>100,100,V101/COUNTRY_INFO!F101*100), \"-\"),0)","v":95.814064449827498},104422,{"$f":"IF(AND(COUNTRY_INFO!J101>1,COUNTRY_INFO!J101<4), IF(S101/P101*100<>0, IF(X101/P101*100>100,100,X101/P101*100), \"-\"),0)","v":58.844545628726323},{"$f":"COUNTRY_INFO!O101","v":125156.47752873863},null,null,{"$f":"MAX('T1'!L101,'T2'!J101)+MAX('T1'!M101,'T2'!K101)+MAX('T1'!N101,'T2'!L101)","v":104422},{"$f":"IF(COUNTRY_INFO!K101=1,IF(COUNTRY_INFO!F101*0.33>MAX('T1'!M101,'T2'!K101),MAX('T1'!M101,'T2'!K101),COUNTRY_INFO!F101*0.33),IF(COUNTRY_INFO!K101=2,IF(COUNTRY_INFO!F101*0.5>MAX('T1'!M101,'T2'!K101),MAX('T1'!M101,'T2'!K101),COUNTRY_INFO!F101*0.5),IF(COUNTRY_INFO!K101=3,IF(COUNTRY_INFO!F101>MAX('T1'!M101,'T2'!K101),MAX('T1'!M101,'T2'!K101),COUNTRY_INFO!F101),0)))","v":54492},{"$f":"IF(AND(COUNTRY_INFO!K101>0,COUNTRY_INFO!K101<4),IF(Z101>0,IF(COUNTRY_INFO!K101=1, AD101/(COUNTRY_INFO!F101*0.33)*100, IF(COUNTRY_INFO!K101=2, AD101/(COUNTRY_INFO!F101*0.5)*100, IF(COUNTRY_INFO!K101=3, AD101/COUNTRY_INFO!F101*100))),\"-\"),0)","v":100},{"$f":"IF(COUNTRY_INFO!K101=2,IF(COUNTRY_INFO!G101*0.2>MAX('T1'!N101,'T2'!L101),MAX('T1'!N101,'T2'!L101),COUNTRY_INFO!G101*0.2),IF(COUNTRY_INFO!K101=3,IF(COUNTRY_INFO!G101>MAX('T1'!N101,'T2'!L101),MAX('T1'!N101,'T2'!L101),COUNTRY_INFO!G101),0))","v":0},{"$f":"IF(AND(COUNTRY_INFO!K101>0,COUNTRY_INFO!K101<4),IF(Z101>0,IF(COUNTRY_INFO!K101=1, 0, IF(COUNTRY_INFO!K101=2, AF101/(COUNTRY_INFO!G101*0.2)*100, IF(COUNTRY_INFO!K101=3, AF101/COUNTRY_INFO!G101*100))),\"-\"),0)","v":0},54492,{"$f":"IF(AND(COUNTRY_INFO!K101>0,COUNTRY_INFO!K101<4), IF(AC101/Z101*100<>0, IF(AH101/Z101*100>100,100,AH101/Z101*100), \"-\"),0)","v":43.539096877736483},null,{"$f":"IF(AND(D101<>0, D101<>\"Unknown\",D101<>\"Stopped\",D101<>\"Not required\"),D101/COUNTRY_INFO!D101, 0)","v":0},{"$f":"IF(AND(J101<>0,J101<>\"Unknown\",J101<>\"Stopped\",J101<>\"Not required\"),J101/COUNTRY_INFO!D101, 0)","v":1},{"$f":"IF(AND(P101<>0,P101<>\"Unknown\",P101<>\"Not required\"),P101/(COUNTRY_INFO!E101+COUNTRY_INFO!F101), 0)","v":1},{"$f":"IF(AND(Z101<>0,Z101<>\"Unknown\",Z101<>\"Not required\"),IF(COUNTRY_INFO!K101=1,1,IF(COUNTRY_INFO!K101=2,0.5*COUNTRY_INFO!F101/(0.5*COUNTRY_INFO!F101+0.2*COUNTRY_INFO!G101),IF(COUNTRY_INFO!K101=3,COUNTRY_INFO!F101/(COUNTRY_INFO!F101+COUNTRY_INFO!G101)))),0)","v":0.43539096877736483},{"$f":"IF(AND(Z101<>0,Z101<>\"Unknown\",Z101<>\"Not required\"),IF(COUNTRY_INFO!K101=1,0,IF(COUNTRY_INFO!K101=2,0.2*COUNTRY_INFO!G101/(0.5*COUNTRY_INFO!F101+0.2*COUNTRY_INFO!G101),IF(COUNTRY_INFO!K101=3,COUNTRY_INFO!G101/(COUNTRY_INFO!F101+COUNTRY_INFO!G101)))),0)","v":0.56460903122263517},{"$f":"MAX(COUNTRY_INFO!D101*AK101*PROFILE!$G$7,COUNTRY_INFO!D101*AL101*PROFILE!$G$7)","v":9.7328253749995354E-3},{"$f":"MAX(COUNTRY_INFO!D101*AK101*PROFILE!$G$8,COUNTRY_INFO!D101*AL101*PROFILE!$G$8,COUNTRY_INFO!D101*AM101*PROFILE!$G$8)","v":68470.155014296048},{"$f":"MAX(COUNTRY_INFO!D101*AK101*PROFILE!$G$9,COUNTRY_INFO!D101*AL101*PROFILE!$G$9,COUNTRY_INFO!D101*AM101*PROFILE!$G$9,IF(AND(DISTRICT!Z101<>\"Unknown\",Z101<>\"Not required\"),COUNTRY_INFO!O101*DISTRICT!AN101,0))","v":119319.57446280701},{"$f":"MAX(COUNTRY_INFO!D101*AK101*PROFILE!$G$10,COUNTRY_INFO!D101*AL101*PROFILE!$G$10,IF(AND(DISTRICT!Z101<>\"Unknown\",Z101<>\"Not required\"),COUNTRY_INFO!O101*DISTRICT!AO101,0))","v":342986.6484337647},530776.38764369313,0,{"$f":"MAX('MDA2'!J101,'T1'!L101,'T2'!J101,T3_R1!K101,T3_R2!K101)","v":0},{"$f":"MAX('MDA1'!K101,'MDA2'!K101,'MDA3'!I101,'MDA3'!L101,'T1'!M101,'T2'!K101,T3_R1!L101,T3_R2!L101)","v":104422},{"$f":"MAX('MDA1'!L101,'MDA2'!L101,'MDA3'!J101,'MDA3'!M101,'T1'!N101,'T2'!L101,T3_R1!M101,T3_R2!M101)","v":0},104422,{"$f":"MAX('MDA2'!J101,T101)","v":0},{"$f":"MAX('MDA1'!K101,'MDA2'!K101,'MDA3'!I101,'MDA3'!L101,V101,AD101)","v":104422},{"$f":"MAX('MDA1'!L101,'MDA2'!L101,'MDA3'!J101,'MDA3'!M101,AF101)","v":0},104422,19.673444868858379]
[{"$f":"IF(COUNTRY_INFO!A102=0,\" \",COUNTRY_INFO!A102)","v":"Tanzania"},{"$f":"IF(COUNTRY_INFO!B102=0,\" \",COUNTRY_INFO!B102)","v":"Morogoro"},{"$f":"IF(COUNTRY_INFO!C102=0,\" \",COUNTRY_INFO!C102)","v":"Malinyi District Council"},{"$f":"COUNTRY_INFO!L102","v":"Stopped"},null,null,{"$f":"MAX('MDA1'!M102,'MDA2'!M102)","v":0},{"$f":"IF(AND(COUNTRY_INFO!H102>0,COUNTRY_INFO!H102<4),IF(D102>MAX('MDA1'!M102,'MDA2'!M102),MAX('MDA1'!M102,'MDA2'!M102),D102),0)","v":0},{"$f":"IF(AND(COUNTRY_INFO!H102>0,COUNTRY_INFO!H102<4), IF(G102/D102*100<>0, IF(G102/D102*100>100,100,G102/D102*100), \"-\"),0)","v":0},{"$f":"COUNTRY_INFO!M102","v":159841},null,null,{"$f":"MAX('MDA1'!M102,MAX('MDA3'!I102,'MDA3'!L102)+MAX('MDA3'!J102,'MDA3'!M102))","v":136906},{"$f":"IF(AND(COUNTRY_INFO!I102>0,COUNTRY_INFO!I102<4),IF(J102>MAX('MDA1'!M102,MAX('MDA3'!I102,'MDA3'!L102)+MAX('MDA3'!J102,'MDA3'!M102)),MAX('MDA1'!M102,MAX('MDA3'!I102,'MDA3'!L102)+MAX('MDA3'!J102,'MDA3'!M102)),J102),0)","v":136906},{"$f":"IF(AND(COUNTRY_INFO!I102>0,COUNTRY_INFO!I102<4), IF(M102/J102*100<>0, IF(M102/J102*100>100,100,M102/J102*100), \"-\"),0)","v":85.651366045007222},{"$f":"COUNTRY_INFO!N102","v":53393},null,null,{"$f":"SUM(MAX('MDA2'!J102, 'T1'!L102, MAX(T3_R1!K102, T3_R2!K102)), MAX('MDA1'!K102, 'MDA2'!K102, 'T1'!M102, MAX(T3_R1!L102, T3_R2!L102)), MAX('MDA1'!L102, 'MDA2'!L102, 'T1'!N102, MAX(T3_R1!M102, T3_R2!M102)))","v":30863},{"$f":"IF(AND(COUNTRY_INFO!J102>1,COUNTRY_INFO!J102<4),IF(COUNTRY_INFO!E102>MAX('MDA2'!J102,'T1'!L102,MAX(T3_R1!K102,T3_R2!K102)),MAX('MDA2'!J102,'T1'!L102,MAX(T3_R1!K102,T3_R2!K102)),COUNTRY_INFO!E102),0)","v":0},{"$f":"IF(AND(COUNTRY_INFO!J102>1,COUNTRY_INFO!J102<4), IF(T102/COUNTRY_INFO!E102*100<>0, IF(T102/COUNTRY_INFO!E102*100>100,100,T102/COUNTRY_INFO!E102*100), \"-\"),0)","v":"-"},{"$f":"IF(AND(COUNTRY_INFO!J102>1,COUNTRY_INFO!J102<4),IF(COUNTRY_INFO!F102>MAX('MDA1'!K102,'MDA2'!K102,'T1'!M102,MAX(T3_R1!L102,T3_R2!L102)),MAX('MDA1'!K102,'MDA2'!K102,'T1'!M102,MAX(T3_R1!L102,T3_R2!L102)),COUNTRY_INFO!F102),0)","v":30863},{"$f":"IF(AND(COUNTRY_INFO!J102>1,COUNTRY_INFO!J102<4), IF(V102/COUNTRY_INFO!F102*100<>0, IF(V102/COUNTRY_INFO!F102*100>100,100,V102/COUNTRY_INFO!F102*100), \"-\"),0)","v":94.169158479282359},30863,{"$f":"IF(AND(COUNTRY_INFO!J102>1,COUNTRY_INFO!J102<4), IF(S102/P102*100<>0, IF(X102/P102*100>100,100,X102/P102*100), \"-\"),0)","v":57.803457382053821},{"$f":"COUNTRY_INFO!O102","v":37676.600000000006},null,null,{"$f":"MAX('T1'!L102,'T2'!J102)+MAX('T1'!M102,'T2'!K102)+MAX('T1'!N102,'T2'!L102)","v":30863},{"$f":"IF(COUNTRY_INFO!K102=1,IF(COUNTRY_INFO!F102*0.33>MAX('T1'!M102,'T2'!K102),MAX('T1'!M102,'T2'!K102),COUNTRY_INFO!F102*0.33),IF(COUNTRY_INFO!K102=2,IF(COUNTRY_INFO!F102*0.5>MAX('T1'!M102,'T2'!K102),MAX('T1'!M102,'T2'!K102),COUNTRY_INFO!F102*0.5),IF(COUNTRY_INFO!K102=3,IF(COUNTRY_INFO!F102>MAX('T1'!M102,'T2'!K102),MAX('T1'!M102,'T2'!K102),COUNTRY_INFO!F102),0)))","v":16387},{"$f":"IF(AND(COUNTRY_INFO!K102>0,COUNTRY_INFO!K102<4),IF(Z102>0,IF(COUNTRY_INFO!K102=1, AD102/(COUNTRY_INFO!F102*0.33)*100, IF(COUNTRY_INFO!K102=2, AD102/(COUNTRY_INFO!F102*0.5)*100, IF(COUNTRY_INFO!K102=3, AD102/COUNTRY_INFO!F102*100))),\"-\"),0)","v":100},{"$f":"IF(COUNTRY_INFO!K102=2,IF(COUNTRY_INFO!G102*0.2>MAX('T1'!N102,'T2'!L102),MAX('T1'!N102,'T2'!L102),COUNTRY_INFO!G102*0.2),IF(COUNTRY_INFO!K102=3,IF(COUNTRY_INFO!G102>MAX('T1'!N102,'T2'!L102),MAX('T1'!N102,'T2'!L102),COUNTRY_INFO!G102),0))","v":0},{"$f":"IF(AND(COUNTRY_INFO!K102>0,COUNTRY_INFO!K102<4),IF(Z102>0,IF(COUNTRY_INFO!K102=1, 0, IF(COUNTRY_INFO!K102=2, AF102/(COUNTRY_INFO!G102*0.2)*100, IF(COUNTRY_INFO!K102=3, AF102/COUNTRY_INFO!G102*100))),\"-\"),0)","v":0},16387,{"$f":"IF(AND(COUNTRY_INFO!K102>0,COUNTRY_INFO!K102<4), IF(AC102/Z102*100<>0, IF(AH102/Z102*100>100,100,AH102/Z102*100), \"-\"),0)","v":43.493839677677911},null,{"$f":"IF(AND(D102<>0, D102<>\"Unknown\",D102<>\"Stopped\",D102<>\"Not required\"),D102/COUNTRY_INFO!D102, 0)","v":0},{"$f":"IF(AND(J102<>0,J102<>\"Unknown\",J102<>\"Stopped\",J102<>\"Not required\"),J102/COUNTRY_INFO!D102, 0)","v":1},{"$f":"IF(AND(P102<>0,P102<>\"Unknown\",P102<>\"Not required\"),P102/(COUNTRY_INFO!E102+COUNTRY_INFO!F102), 0)","v":1},{"$f":"IF(AND(Z102<>0,Z102<>\"Unknown\",Z102<>\"Not required\"),IF(COUNTRY_INFO!K102=1,1,IF(COUNTRY_INFO!K102=2,0.5*COUNTRY_INFO!F102/(0.5*COUNTRY_INFO!F102+0.2*COUNTRY_INFO!G102),IF(COUNTRY_INFO!K102=3,COUNTRY_INFO!F102/(COUNTRY_INFO!F102+COUNTRY_INFO!G102)))),0)","v":0.43493839677677915},{"$f":"IF(AND(Z102<>0,Z102<>\"Unknown\",Z102<>\"Not required\"),IF(COUNTRY_INFO!K102=1,0,IF(COUNTRY_INFO!K102=2,0.2*COUNTRY_INFO!G102/(0.5*COUNTRY_INFO!F102+0.2*COUNTRY_INFO!G102),IF(COUNTRY_INFO!K102=3,COUNTRY_INFO!G102/(COUNTRY_INFO!F102+COUNTRY_INFO!G102)))),0)","v":0.56506160322322074},{"$f":"MAX(COUNTRY_INFO!D102*AK102*PROFILE!$G$7,COUNTRY_INFO!D102*AL102*PROFILE!$G$7)","v":2.9309980190935611E-3},{"$f":"MAX(COUNTRY_INFO!D102*AK102*PROFILE!$G$8,COUNTRY_INFO!D102*AL102*PROFILE!$G$8,COUNTRY_INFO!D102*AM102*PROFILE!$G$8)","v":20619.489303633003},{"$f":"MAX(COUNTRY_INFO!D102*AK102*PROFILE!$G$9,COUNTRY_INFO!D102*AL102*PROFILE!$G$9,COUNTRY_INFO!D102*AM102*PROFILE!$G$9,IF(AND(DISTRICT!Z102<>\"Unknown\",Z102<>\"Not required\"),COUNTRY_INFO!O102*DISTRICT!AN102,0))","v":35932.57075051454},{"$f":"MAX(COUNTRY_INFO!D102*AK102*PROFILE!$G$10,COUNTRY_INFO!D102*AL102*PROFILE!$G$10,IF(AND(DISTRICT!Z102<>\"Unknown\",Z102<>\"Not required\"),COUNTRY_INFO!O102*DISTRICT!AO102,0))","v":103288.93701485443},159841,"Y",{"$f":"MAX('MDA2'!J102,'T1'!L102,'T2'!J102,T3_R1!K102,T3_R2!K102)","v":0},{"$f":"MAX('MDA1'!K102,'MDA2'!K102,'MDA3'!I102,'MDA3'!L102,'T1'!M102,'T2'!K102,T3_R1!L102,T3_R2!L102)","v":30863},{"$f":"MAX('MDA1'!L102,'MDA2'!L102,'MDA3'!J102,'MDA3'!M102,'T1'!N102,'T2'!L102,T3_R1!M102,T3_R2!M102)","v":110756.954},141619.954,{"$f":"MAX('MDA2'!J102,T102)","v":0},{"$f":"MAX('MDA1'!K102,'MDA2'!K102,'MDA3'!I102,'MDA3'!L102,V102,AD102)","v":30863},{"$f":"MAX('MDA1'!L102,'MDA2'!L102,'MDA3'!J102,'MDA3'!M102,AF102)","v":110756.954},141619.954,88.60051801477718]
[{"$f":"IF(COUNTRY_INFO!A103=0,\" \",COUNTRY_INFO!A103)","v":"Tanzania"},{"$f":"IF(COUNTRY_INFO!B103=0,\" \",COUNTRY_INFO!B103)","v":"Morogoro"},{"$f":"IF(COUNTRY_INFO!C103=0,\" \",COUNTRY_INFO!C103)","v":"Morogoro District Council"},{"$f":"COUNTRY_INFO!L103","v":"Stopped"},null,null,{"$f":"MAX('MDA1'!M103,'MDA2'!M103)","v":0},{"$f":"IF(AND(COUNTRY_INFO!H103>0,COUNTRY_INFO!H103<4),IF(D103>MAX('MDA1'!M103,'MDA2'!M103),MAX('MDA1'!M103,'MDA2'!M103),D103),0)","v":0},{"$f":"IF(AND(COUNTRY_INFO!H103>0,COUNTRY_INFO!H103<4), IF(G103/D103*100<>0, IF(G103/D103*100>100,100,G103/D103*100), \"-\"),0)","v":0},{"$f":"COUNTRY_INFO!M103","v":346743.23191583907},null,null,{"$f":"MAX('MDA1'!M103,MAX('MDA3'!I103,'MDA3'!L103)+MAX('MDA3'!J103,'MDA3'!M103))","v":0},{"$f":"IF(AND(COUNTRY_INFO!I103>0,COUNTRY_INFO!I103<4),IF(J103>MAX('MDA1'!M103,MAX('MDA3'!I103,'MDA3'!L103)+MAX('MDA3'!J103,'MDA3'!M103)),MAX('MDA1'!M103,MAX('MDA3'!I103,'MDA3'!L103)+MAX('MDA3'!J103,'MDA3'!M103)),J103),0)","v":0},{"$f":"IF(AND(COUNTRY_INFO!I103>0,COUNTRY_INFO!I103<4), IF(M103/J103*100<>0, IF(M103/J103*100>100,100,M103/J103*100), \"-\"),0)","v":"-"},{"$f":"COUNTRY_INFO!N103","v":126225},null,null,{"$f":"SUM(MAX('MDA2'!J103, 'T1'!L103, MAX(T3_R1!K103, T3_R2!K103)), MAX('MDA1'!K103, 'MDA2'!K103, 'T1'!M103, MAX(T3_R1!L103, T3_R2!L103)), MAX('MDA1'!L103, 'MDA2'!L103, 'T1'!N103, MAX(T3_R1!M103, T3_R2!M103)))","v":77353},{"$f":"IF(AND(COUNTRY_INFO!J103>1,COUNTRY_INFO!J103<4),IF(COUNTRY_INFO!E103>MAX('MDA2'!J103,'T1'!L103,MAX(T3_R1!K103,T3_R2!K103)),MAX('MDA2'!J103,'T1'!L103,MAX(T3_R1!K103,T3_R2!K103)),COUNTRY_INFO!E103),0)","v":0},{"$f":"IF(AND(COUNTRY_INFO!J103>1,COUNTRY_INFO!J103<4), IF(T103/COUNTRY_INFO!E103*100<>0, IF(T103/COUNTRY_INFO!E103*100>100,100,T103/COUNTRY_INFO!E103*100), \"-\"),0)","v":"-"},{"$f":"IF(AND(COUNTRY_INFO!J103>1,COUNTRY_INFO!J103<4),IF(COUNTRY_INFO!F103>MAX('MDA1'!K103,'MDA2'!K103,'T1'!M103,MAX(T3_R1!L103,T3_R2!L103)),MAX('MDA1'!K103,'MDA2'!K103,'T1'!M103,MAX(T3_R1!L103,T3_R2!L103)),COUNTRY_INFO!F103),0)","v":77353},{"$f":"IF(AND(COUNTRY_INFO!J103>1,COUNTRY_INFO!J103<4), IF(V103/COUNTRY_INFO!F103*100<>0, IF(V103/COUNTRY_INFO!F103*100>100,100,V103/COUNTRY_INFO!F103*100), \"-\"),0)","v":94.917479599975465},77353,{"$f":"IF(AND(COUNTRY_INFO!J103>1,COUNTRY_INFO!J103<4), IF(S103/P103*100<>0, IF(X103/P103*100>100,100,X103/P103*100), \"-\"),0)","v":61.281837987720344},{"$f":"COUNTRY_INFO!O103","v":84851.146383167827},null,null,{"$f":"MAX('T1'!L103,'T2'!J103)+MAX('T1'!M103,'T2'!K103)+MAX('T1'!N103,'T2'!L103)","v":77353},{"$f":"IF(COUNTRY_INFO!K103=1,IF(COUNTRY_INFO!F103*0.33>MAX('T1'!M103,'T2'!K103),MAX('T1'!M103,'T2'!K103),COUNTRY_INFO!F103*0.33),IF(COUNTRY_INFO!K103=2,IF(COUNTRY_INFO!F103*0.5>MAX('T1'!M103,'T2'!K103),MAX('T1'!M103,'T2'!K103),COUNTRY_INFO!F103*0.5),IF(COUNTRY_INFO!K103=3,IF(COUNTRY_INFO!F103>MAX('T1'!M103,'T2'!K103),MAX('T1'!M103,'T2'!K103),COUNTRY_INFO!F103),0)))","v":40747.5},{"$f":"IF(AND(COUNTRY_INFO!K103>0,COUNTRY_INFO!K103<4),IF(Z103>0,IF(COUNTRY_INFO!K103=1, AD103/(COUNTRY_INFO!F103*0.33)*100, IF(COUNTRY_INFO!K103=2, AD103/(COUNTRY_INFO!F103*0.5)*100, IF(COUNTRY_INFO!K103=3, AD103/COUNTRY_INFO!F103*100))),\"-\"),0)","v":100},{"$f":"IF(COUNTRY_INFO!K103=2,IF(COUNTRY_INFO!G103*0.2>MAX('T1'!N103,'T2'!L103),MAX('T1'!N103,'T2'!L103),COUNTRY_INFO!G103*0.2),IF(COUNTRY_INFO!K103=3,IF(COUNTRY_INFO!G103>MAX('T1'!N103,'T2'!L103),MAX('T1'!N103,'T2'!L103),COUNTRY_INFO!G103),0))","v":0},{"$f":"IF(AND(COUNTRY_INFO!K103>0,COUNTRY_INFO!K103<4),IF(Z103>0,IF(COUNTRY_INFO!K103=1, 0, IF(COUNTRY_INFO!K103=2, AF103/(COUNTRY_INFO!G103*0.2)*100, IF(COUNTRY_INFO!K103=3, AF103/COUNTRY_INFO!G103*100))),\"-\"),0)","v":0},40747.5,{"$f":"IF(AND(COUNTRY_INFO!K103>0,COUNTRY_INFO!K103<4), IF(AC103/Z103*100<>0, IF(AH103/Z103*100>100,100,AH103/Z103*100), \"-\"),0)","v":48.022332916981306},null,{"$f":"IF(AND(D103<>0, D103<>\"Unknown\",D103<>\"Stopped\",D103<>\"Not required\"),D103/COUNTRY_INFO!D103, 0)","v":0},{"$f":"IF(AND(J103<>0,J103<>\"Unknown\",J103<>\"Stopped\",J103<>\"Not required\"),J103/COUNTRY_INFO!D103, 0)","v":1},{"$f":"IF(AND(P103<>0,P103<>\"Unknown\",P103<>\"Not required\"),P103/(COUNTRY_INFO!E103+COUNTRY_INFO!F103), 0)","v":1},{"$f":"IF(AND(Z103<>0,Z103<>\"Unknown\",Z103<>\"Not required\"),IF(COUNTRY_INFO!K103=1,1,IF(COUNTRY_INFO!K103=2,0.5*COUNTRY_INFO!F103/(0.5*COUNTRY_INFO!F103+0.2*COUNTRY_INFO!G103),IF(COUNTRY_INFO!K103=3,COUNTRY_INFO!F103/(COUNTRY_INFO!F103+COUNTRY_INFO!G103)))),0)","v":0.48022332916981308},{"$f":"IF(AND(Z103<>0,Z103<>\"Unknown\",Z103<>\"Not required\"),IF(COUNTRY_INFO!K103=1,0,IF(COUNTRY_INFO!K103=2,0.2*COUNTRY_INFO!G103/(0.5*COUNTRY_INFO!F103+0.2*COUNTRY_INFO!G103),IF(COUNTRY_INFO!K103=3,COUNTRY_INFO!G103/(COUNTRY_INFO!F103+COUNTRY_INFO!G103)))),0)","v":0.51977667083018686},{"$f":"MAX(COUNTRY_INFO!D103*AK103*PROFILE!$G$7,COUNTRY_INFO!D103*AL103*PROFILE!$G$7)","v":6.3582167646562748E-3},{"$f":"MAX(COUNTRY_INFO!D103*AK103*PROFILE!$G$8,COUNTRY_INFO!D103*AL103*PROFILE!$G$8,COUNTRY_INFO!D103*AM103*PROFILE!$G$8)","v":44729.8775758146},{"$f":"MAX(COUNTRY_INFO!D103*AK103*PROFILE!$G$9,COUNTRY_INFO!D103*AL103*PROFILE!$G$9,COUNTRY_INFO!D103*AM103*PROFILE!$G$9,IF(AND(DISTRICT!Z103<>\"Unknown\",Z103<>\"Not required\"),COUNTRY_INFO!O103*DISTRICT!AN103,0))","v":77948.559587827651},{"$f":"MAX(COUNTRY_INFO!D103*AK103*PROFILE!$G$10,COUNTRY_INFO!D103*AL103*PROFILE!$G$10,IF(AND(DISTRICT!Z103<>\"Unknown\",Z103<>\"Not required\"),COUNTRY_INFO!O103*DISTRICT!AO103,0))","v":224064.78839398004},346743.23191583902,0,{"$f":"MAX('MDA2'!J103,'T1'!L103,'T2'!J103,T3_R1!K103,T3_R2!K103)","v":0},{"$f":"MAX('MDA1'!K103,'MDA2'!K103,'MDA3'!I103,'MDA3'!L103,'T1'!M103,'T2'!K103,T3_R1!L103,T3_R2!L103)","v":77353},{"$f":"MAX('MDA1'!L103,'MDA2'!L103,'MDA3'!J103,'MDA3'!M103,'T1'!N103,'T2'!L103,T3_R1!M103,T3_R2!M103)","v":0},77353,{"$f":"MAX('MDA2'!J103,T103)","v":0},{"$f":"MAX('MDA1'!K103,'MDA2'!K103,'MDA3'!I103,'MDA3'!L103,V103,AD103)","v":77353},{"$f":"MAX('MDA1'!L103,'MDA2'!L103,'MDA3'!J103,'MDA3'!M103,AF103)","v":0},77353,22.308438314024539]
[{"$f":"IF(COUNTRY_INFO!A104=0,\" \",COUNTRY_INFO!A104)","v":"Tanzania"},{"$f":"IF(COUNTRY_INFO!B104=0,\" \",COUNTRY_INFO!B104)","v":"Morogoro"},{"$f":"IF(COUNTRY_INFO!C104=0,\" \",COUNTRY_INFO!C104)","v":"Morogoro Municipal Council"},{"$f":"COUNTRY_INFO!L104","v":"Stopped"},null,null,{"$f":"MAX('MDA1'!M104,'MDA2'!M104)","v":0},{"$f":"IF(AND(COUNTRY_INFO!H104>0,COUNTRY_INFO!H104<4),IF(D104>MAX('MDA1'!M104,'MDA2'!M104),MAX('MDA1'!M104,'MDA2'!M104),D104),0)","v":0},{"$f":"IF(AND(COUNTRY_INFO!H104>0,COUNTRY_INFO!H104<4), IF(G104/D104*100<>0, IF(G104/D104*100>100,100,G104/D104*100), \"-\"),0)","v":0},{"$f":"COUNTRY_INFO!M104","v":0},null,null,{"$f":"MAX('MDA1'!M104,MAX('MDA3'!I104,'MDA3'!L104)+MAX('MDA3'!J104,'MDA3'!M104))","v":0},{"$f":"IF(AND(COUNTRY_INFO!I104>0,COUNTRY_INFO!I104<4),IF(J104>MAX('MDA1'!M104,MAX('MDA3'!I104,'MDA3'!L104)+MAX('MDA3'!J104,'MDA3'!M104)),MAX('MDA1'!M104,MAX('MDA3'!I104,'MDA3'!L104)+MAX('MDA3'!J104,'MDA3'!M104)),J104),0)","v":0},{"$f":"IF(AND(COUNTRY_INFO!I104>0,COUNTRY_INFO!I104<4), IF(M104/J104*100<>0, IF(M104/J104*100>100,100,M104/J104*100), \"-\"),0)","v":0},{"$f":"COUNTRY_INFO!N104","v":134500},null,null,{"$f":"SUM(MAX('MDA2'!J104, 'T1'!L104, MAX(T3_R1!K104, T3_R2!K104)), MAX('MDA1'!K104, 'MDA2'!K104, 'T1'!M104, MAX(T3_R1!L104, T3_R2!L104)), MAX('MDA1'!L104, 'MDA2'!L104, 'T1'!N104, MAX(T3_R1!M104, T3_R2!M104)))","v":72964},{"$f":"IF(AND(COUNTRY_INFO!J104>1,COUNTRY_INFO!J104<4),IF(COUNTRY_INFO!E104>MAX('MDA2'!J104,'T1'!L104,MAX(T3_R1!K104,T3_R2!K104)),MAX('MDA2'!J104,'T1'!L104,MAX(T3_R1!K104,T3_R2!K104)),COUNTRY_INFO!E104),0)","v":0},{"$f":"IF(AND(COUNTRY_INFO!J104>1,COUNTRY_INFO!J104<4), IF(T104/COUNTRY_INFO!E104*100<>0, IF(T104/COUNTRY_INFO!E104*100>100,100,T104/COUNTRY_INFO!E104*100), \"-\"),0)","v":"-"},{"$f":"IF(AND(COUNTRY_INFO!J104>1,COUNTRY_INFO!J104<4),IF(COUNTRY_INFO!F104>MAX('MDA1'!K104,'MDA2'!K104,'T1'!M104,MAX(T3_R1!L104,T3_R2!L104)),MAX('MDA1'!K104,'MDA2'!K104,'T1'!M104,MAX(T3_R1!L104,T3_R2!L104)),COUNTRY_INFO!F104),0)","v":72964},{"$f":"IF(AND(COUNTRY_INFO!J104>1,COUNTRY_INFO!J104<4), IF(V104/COUNTRY_INFO!F104*100<>0, IF(V104/COUNTRY_INFO!F104*100>100,100,V104/COUNTRY_INFO!F104*100), \"-\"),0)","v":85.696835874186647},72964,{"$f":"IF(AND(COUNTRY_INFO!J104>1,COUNTRY_INFO!J104<4), IF(S104/P104*100<>0, IF(X104/P104*100>100,100,X104/P104*100), \"-\"),0)","v":54.248327137546468},{"$f":"COUNTRY_INFO!O104","v":92194.750567752984},null,null,{"$f":"MAX('T1'!L104,'T2'!J104)+MAX('T1'!M104,'T2'!K104)+MAX('T1'!N104,'T2'!L104)","v":72964},{"$f":"IF(COUNTRY_INFO!K104=1,IF(COUNTRY_INFO!F104*0.33>MAX('T1'!M104,'T2'!K104),MAX('T1'!M104,'T2'!K104),COUNTRY_INFO!F104*0.33),IF(COUNTRY_INFO!K104=2,IF(COUNTRY_INFO!F104*0.5>MAX('T1'!M104,'T2'!K104),MAX('T1'!M104,'T2'!K104),COUNTRY_INFO!F104*0.5),IF(COUNTRY_INFO!K104=3,IF(COUNTRY_INFO!F104>MAX('T1'!M104,'T2'!K104),MAX('T1'!M104,'T2'!K104),COUNTRY_INFO!F104),0)))","v":42571},{"$f":"IF(AND(COUNTRY_INFO!K104>0,COUNTRY_INFO!K104<4),IF(Z104>0,IF(COUNTRY_INFO!K104=1, AD104/(COUNTRY_INFO!F104*0.33)*100, IF(COUNTRY_INFO!K104=2, AD104/(COUNTRY_INFO!F104*0.5)*100, IF(COUNTRY_INFO!K104=3, AD104/COUNTRY_INFO!F104*100))),\"-\"),0)","v":100},{"$f":"IF(COUNTRY_INFO!K104=2,IF(COUNTRY_INFO!G104*0.2>MAX('T1'!N104,'T2'!L104),MAX('T1'!N104,'T2'!L104),COUNTRY_INFO!G104*0.2),IF(COUNTRY_INFO!K104=3,IF(COUNTRY_INFO!G104>MAX('T1'!N104,'T2'!L104),MAX('T1'!N104,'T2'!L104),COUNTRY_INFO!G104),0))","v":0},{"$f":"IF(AND(COUNTRY_INFO!K104>0,COUNTRY_INFO!K104<4),IF(Z104>0,IF(COUNTRY_INFO!K104=1, 0, IF(COUNTRY_INFO!K104=2, AF104/(COUNTRY_INFO!G104*0.2)*100, IF(COUNTRY_INFO!K104=3, AF104/COUNTRY_INFO!G104*100))),\"-\"),0)","v":0},42571,{"$f":"IF(AND(COUNTRY_INFO!K104>0,COUNTRY_INFO!K104<4), IF(AC104/Z104*100<>0, IF(AH104/Z104*100>100,100,AH104/Z104*100), \"-\"),0)","v":46.175080183892902},null,{"$f":"IF(AND(D104<>0, D104<>\"Unknown\",D104<>\"Stopped\",D104<>\"Not required\"),D104/COUNTRY_INFO!D104, 0)","v":0},{"$f":"IF(AND(J104<>0,J104<>\"Unknown\",J104<>\"Stopped\",J104<>\"Not required\"),J104/COUNTRY_INFO!D104, 0)","v":0},{"$f":"IF(AND(P104<>0,P104<>\"Unknown\",P104<>\"Not required\"),P104/(COUNTRY_INFO!E104+COUNTRY_INFO!F104), 0)","v":1},{"$f":"IF(AND(Z104<>0,Z104<>\"Unknown\",Z104<>\"Not required\"),IF(COUNTRY_INFO!K104=1,1,IF(COUNTRY_INFO!K104=2,0.5*COUNTRY_INFO!F104/(0.5*COUNTRY_INFO!F104+0.2*COUNTRY_INFO!G104),IF(COUNTRY_INFO!K104=3,COUNTRY_INFO!F104/(COUNTRY_INFO!F104+COUNTRY_INFO!G104)))),0)","v":0.46175080183892903},{"$f":"IF(AND(Z104<>0,Z104<>\"Unknown\",Z104<>\"Not required\"),IF(COUNTRY_INFO!K104=1,0,IF(COUNTRY_INFO!K104=2,0.2*COUNTRY_INFO!G104/(0.5*COUNTRY_INFO!F104+0.2*COUNTRY_INFO!G104),IF(COUNTRY_INFO!K104=3,COUNTRY_INFO!G104/(COUNTRY_INFO!F104+COUNTRY_INFO!G104)))),0)","v":0.53824919816107097},{"$f":"MAX(COUNTRY_INFO!D104*AK104*PROFILE!$G$7,COUNTRY_INFO!D104*AL104*PROFILE!$G$7)","v":0},{"$f":"MAX(COUNTRY_INFO!D104*AK104*PROFILE!$G$8,COUNTRY_INFO!D104*AL104*PROFILE!$G$8,COUNTRY_INFO!D104*AM104*PROFILE!$G$8)","v":49357.81984302096},{"$f":"MAX(COUNTRY_INFO!D104*AK104*PROFILE!$G$9,COUNTRY_INFO!D104*AL104*PROFILE!$G$9,COUNTRY_INFO!D104*AM104*PROFILE!$G$9,IF(AND(DISTRICT!Z104<>\"Unknown\",Z104<>\"Not required\"),COUNTRY_INFO!O104*DISTRICT!AN104,0))","v":86013.447155939692},{"$f":"MAX(COUNTRY_INFO!D104*AK104*PROFILE!$G$10,COUNTRY_INFO!D104*AL104*PROFILE!$G$10,IF(AND(DISTRICT!Z104<>\"Unknown\",Z104<>\"Not required\"),COUNTRY_INFO!O104*DISTRICT!AO104,0))","v":49623.750567752984},184995.01756671362,"Y",{"$f":"MAX('MDA2'!J104,'T1'!L104,'T2'!J104,T3_R1!K104,T3_R2!K104)","v":0},{"$f":"MAX('MDA1'!K104,'MDA2'!K104,'MDA3'!I104,'MDA3'!L104,'T1'!M104,'T2'!K104,T3_R1!L104,T3_R2!L104)","v":72964},{"$f":"MAX('MDA1'!L104,'MDA2'!L104,'MDA3'!J104,'MDA3'!M104,'T1'!N104,'T2'!L104,T3_R1!M104,T3_R2!M104)","v":0},72964,{"$f":"MAX('MDA2'!J104,T104)","v":0},{"$f":"MAX('MDA1'!K104,'MDA2'!K104,'MDA3'!I104,'MDA3'!L104,V104,AD104)","v":72964},{"$f":"MAX('MDA1'!L104,'MDA2'!L104,'MDA3'!J104,'MDA3'!M104,AF104)","v":0},72964,39.441062229520554]
[{"$f":"IF(COUNTRY_INFO!A105=0,\" \",COUNTRY_INFO!A105)","v":"Tanzania"},{"$f":"IF(COUNTRY_INFO!B105=0,\" \",COUNTRY_INFO!B105)","v":"Morogoro"},{"$f":"IF(COUNTRY_INFO!C105=0,\" \",COUNTRY_INFO!C105)","v":"Mvomero District Council"},{"$f":"COUNTRY_INFO!L105","v":"Stopped"},null,null,{"$f":"MAX('MDA1'!M105,'MDA2'!M105)","v":0},{"$f":"IF(AND(COUNTRY_INFO!H105>0,COUNTRY_INFO!H105<4),IF(D105>MAX('MDA1'!M105,'MDA2'!M105),MAX('MDA1'!M105,'MDA2'!M105),D105),0)","v":0},{"$f":"IF(AND(COUNTRY_INFO!H105>0,COUNTRY_INFO!H105<4), IF(G105/D105*100<>0, IF(G105/D105*100>100,100,G105/D105*100), \"-\"),0)","v":0},{"$f":"COUNTRY_INFO!M105","v":378070.71222040732},null,null,{"$f":"MAX('MDA1'!M105,MAX('MDA3'!I105,'MDA3'!L105)+MAX('MDA3'!J105,'MDA3'!M105))","v":0},{"$f":"IF(AND(COUNTRY_INFO!I105>0,COUNTRY_INFO!I105<4),IF(J105>MAX('MDA1'!M105,MAX('MDA3'!I105,'MDA3'!L105)+MAX('MDA3'!J105,'MDA3'!M105)),MAX('MDA1'!M105,MAX('MDA3'!I105,'MDA3'!L105)+MAX('MDA3'!J105,'MDA3'!M105)),J105),0)","v":0},{"$f":"IF(AND(COUNTRY_INFO!I105>0,COUNTRY_INFO!I105<4), IF(M105/J105*100<>0, IF(M105/J105*100>100,100,M105/J105*100), \"-\"),0)","v":"-"},{"$f":"COUNTRY_INFO!N105","v":134061},null,null,{"$f":"SUM(MAX('MDA2'!J105, 'T1'!L105, MAX(T3_R1!K105, T3_R2!K105)), MAX('MDA1'!K105, 'MDA2'!K105, 'T1'!M105, MAX(T3_R1!L105, T3_R2!L105)), MAX('MDA1'!L105, 'MDA2'!L105, 'T1'!N105, MAX(T3_R1!M105, T3_R2!M105)))","v":77679},{"$f":"IF(AND(COUNTRY_INFO!J105>1,COUNTRY_INFO!J105<4),IF(COUNTRY_INFO!E105>MAX('MDA2'!J105,'T1'!L105,MAX(T3_R1!K105,T3_R2!K105)),MAX('MDA2'!J105,'T1'!L105,MAX(T3_R1!K105,T3_R2!K105)),COUNTRY_INFO!E105),0)","v":0},{"$f":"IF(AND(COUNTRY_INFO!J105>1,COUNTRY_INFO!J105<4), IF(T105/COUNTRY_INFO!E105*100<>0, IF(T105/COUNTRY_INFO!E105*100>100,100,T105/COUNTRY_INFO!E105*100), \"-\"),0)","v":"-"},{"$f":"IF(AND(COUNTRY_INFO!J105>1,COUNTRY_INFO!J105<4),IF(COUNTRY_INFO!F105>MAX('MDA1'!K105,'MDA2'!K105,'T1'!M105,MAX(T3_R1!L105,T3_R2!L105)),MAX('MDA1'!K105,'MDA2'!K105,'T1'!M105,MAX(T3_R1!L105,T3_R2!L105)),COUNTRY_INFO!F105),0)","v":77679},{"$f":"IF(AND(COUNTRY_INFO!J105>1,COUNTRY_INFO!J105<4), IF(V105/COUNTRY_INFO!F105*100<>0, IF(V105/COUNTRY_INFO!F105*100>100,100,V105/COUNTRY_INFO!F105*100), \"-\"),0)","v":91.076327822722476},77679,{"$f":"IF(AND(COUNTRY_INFO!J105>1,COUNTRY_INFO!J105<4), IF(S105/P105*100<>0, IF(X105/P105*100>100,100,X105/P105*100), \"-\"),0)","v":57.94302593595453},{"$f":"COUNTRY_INFO!O105","v":91446.942444081476},null,null,{"$f":"MAX('T1'!L105,'T2'!J105)+MAX('T1'!M105,'T2'!K105)+MAX('T1'!N105,'T2'!L105)","v":77679},{"$f":"IF(COUNTRY_INFO!K105=1,IF(COUNTRY_INFO!F105*0.33>MAX('T1'!M105,'T2'!K105),MAX('T1'!M105,'T2'!K105),COUNTRY_INFO!F105*0.33),IF(COUNTRY_INFO!K105=2,IF(COUNTRY_INFO!F105*0.5>MAX('T1'!M105,'T2'!K105),MAX('T1'!M105,'T2'!K105),COUNTRY_INFO!F105*0.5),IF(COUNTRY_INFO!K105=3,IF(COUNTRY_INFO!F105>MAX('T1'!M105,'T2'!K105),MAX('T1'!M105,'T2'!K105),COUNTRY_INFO!F105),0)))","v":42645},{"$f":"IF(AND(COUNTRY_INFO!K105>0,COUNTRY_INFO!K105<4),IF(Z105>0,IF(COUNTRY_INFO!K105=1, AD105/(COUNTRY_INFO!F105*0.33)*100, IF(COUNTRY_INFO!K105=2, AD105/(COUNTRY_INFO!F105*0.5)*100, IF(COUNTRY_INFO!K105=3, AD105/COUNTRY_INFO!F105*100))),\"-\"),0)","v":100},{"$f":"IF(COUNTRY_INFO!K105=2,IF(COUNTRY_INFO!G105*0.2>MAX('T1'!N105,'T2'!L105),MAX('T1'!N105,'T2'!L105),COUNTRY_INFO!G105*0.2),IF(COUNTRY_INFO!K105=3,IF(COUNTRY_INFO!G105>MAX('T1'!N105,'T2'!L105),MAX('T1'!N105,'T2'!L105),COUNTRY_INFO!G105),0))","v":0},{"$f":"IF(AND(COUNTRY_INFO!K105>0,COUNTRY_INFO!K105<4),IF(Z105>0,IF(COUNTRY_INFO!K105=1, 0, IF(COUNTRY_INFO!K105=2, AF105/(COUNTRY_INFO!G105*0.2)*100, IF(COUNTRY_INFO!K105=3, AF105/COUNTRY_INFO!G105*100))),\"-\"),0)","v":0},42645,{"$f":"IF(AND(COUNTRY_INFO!K105>0,COUNTRY_INFO!K105<4), IF(AC105/Z105*100<>0, IF(AH105/Z105*100>100,100,AH105/Z105*100), \"-\"),0)","v":46.633598521981007},null,{"$f":"IF(AND(D105<>0, D105<>\"Unknown\",D105<>\"Stopped\",D105<>\"Not required\"),D105/COUNTRY_INFO!D105, 0)","v":0},{"$f":"IF(AND(J105<>0,J105<>\"Unknown\",J105<>\"Stopped\",J105<>\"Not required\"),J105/COUNTRY_INFO!D105, 0)","v":1},{"$f":"IF(AND(P105<>0,P105<>\"Unknown\",P105<>\"Not required\"),P105/(COUNTRY_INFO!E105+COUNTRY_INFO!F105), 0)","v":1},{"$f":"IF(AND(Z105<>0,Z105<>\"Unknown\",Z105<>\"Not required\"),IF(COUNTRY_INFO!K105=1,1,IF(COUNTRY_INFO!K105=2,0.5*COUNTRY_INFO!F105/(0.5*COUNTRY_INFO!F105+0.2*COUNTRY_INFO!G105),IF(COUNTRY_INFO!K105=3,COUNTRY_INFO!F105/(COUNTRY_INFO!F105+COUNTRY_INFO!G105)))),0)","v":0.46633598521981007},{"$f":"IF(AND(Z105<>0,Z105<>\"Unknown\",Z105<>\"Not required\"),IF(COUNTRY_INFO!K105=1,0,IF(COUNTRY_INFO!K105=2,0.2*COUNTRY_INFO!G105/(0.5*COUNTRY_INFO!F105+0.2*COUNTRY_INFO!G105),IF(COUNTRY_INFO!K105=3,COUNTRY_INFO!G105/(COUNTRY_INFO!F105+COUNTRY_INFO!G105)))),0)","v":0.53366401478018988},{"$f":"MAX(COUNTRY_INFO!D105*AK105*PROFILE!$G$7,COUNTRY_INFO!D105*AL105*PROFILE!$G$7)","v":6.9326675170657453E-3},{"$f":"MAX(COUNTRY_INFO!D105*AK105*PROFILE!$G$8,COUNTRY_INFO!D105*AL105*PROFILE!$G$8,COUNTRY_INFO!D105*AM105*PROFILE!$G$8)","v":48771.122594613393},{"$f":"MAX(COUNTRY_INFO!D105*AK105*PROFILE!$G$9,COUNTRY_INFO!D105*AL105*PROFILE!$G$9,COUNTRY_INFO!D105*AM105*PROFILE!$G$9,IF(AND(DISTRICT!Z105<>\"Unknown\",Z105<>\"Not required\"),COUNTRY_INFO!O105*DISTRICT!AN105,0))","v":84991.03869193267},{"$f":"MAX(COUNTRY_INFO!D105*AK105*PROFILE!$G$10,COUNTRY_INFO!D105*AL105*PROFILE!$G$10,IF(AND(DISTRICT!Z105<>\"Unknown\",Z105<>\"Not required\"),COUNTRY_INFO!O105*DISTRICT!AO105,0))","v":244308.54400119375},378070.71222040732,0,{"$f":"MAX('MDA2'!J105,'T1'!L105,'T2'!J105,T3_R1!K105,T3_R2!K105)","v":0},{"$f":"MAX('MDA1'!K105,'MDA2'!K105,'MDA3'!I105,'MDA3'!L105,'T1'!M105,'T2'!K105,T3_R1!L105,T3_R2!L105)","v":77679},{"$f":"MAX('MDA1'!L105,'MDA2'!L105,'MDA3'!J105,'MDA3'!M105,'T1'!N105,'T2'!L105,T3_R1!M105,T3_R2!M105)","v":0},77679,{"$f":"MAX('MDA2'!J105,T105)","v":0},{"$f":"MAX('MDA1'!K105,'MDA2'!K105,'MDA3'!I105,'MDA3'!L105,V105,AD105)","v":77679},{"$f":"MAX('MDA1'!L105,'MDA2'!L105,'MDA3'!J105,'MDA3'!M105,AF105)","v":0},77679,20.546156443537146]
[{"$f":"IF(COUNTRY_INFO!A106=0,\" \",COUNTRY_INFO!A106)","v":"Tanzania"},{"$f":"IF(COUNTRY_INFO!B106=0,\" \",COUNTRY_INFO!B106)","v":"Morogoro"},{"$f":"IF(COUNTRY_INFO!C106=0,\" \",COUNTRY_INFO!C106)","v":"Ulanga District Council"},{"$f":"COUNTRY_INFO!L106","v":"Stopped"},null,null,{"$f":"MAX('MDA1'!M106,'MDA2'!M106)","v":0},{"$f":"IF(AND(COUNTRY_INFO!H106>0,COUNTRY_INFO!H106<4),IF(D106>MAX('MDA1'!M106,'MDA2'!M106),MAX('MDA1'!M106,'MDA2'!M106),D106),0)","v":0},{"$f":"IF(AND(COUNTRY_INFO!H106>0,COUNTRY_INFO!H106<4), IF(G106/D106*100<>0, IF(G106/D106*100>100,100,G106/D106*100), \"-\"),0)","v":0},{"$f":"COUNTRY_INFO!M106","v":208427},null,null,{"$f":"MAX('MDA1'!M106,MAX('MDA3'!I106,'MDA3'!L106)+MAX('MDA3'!J106,'MDA3'!M106))","v":188469},{"$f":"IF(AND(COUNTRY_INFO!I106>0,COUNTRY_INFO!I106<4),IF(J106>MAX('MDA1'!M106,MAX('MDA3'!I106,'MDA3'!L106)+MAX('MDA3'!J106,'MDA3'!M106)),MAX('MDA1'!M106,MAX('MDA3'!I106,'MDA3'!L106)+MAX('MDA3'!J106,'MDA3'!M106)),J106),0)","v":188469},{"$f":"IF(AND(COUNTRY_INFO!I106>0,COUNTRY_INFO!I106<4), IF(M106/J106*100<>0, IF(M106/J106*100>100,100,M106/J106*100), \"-\"),0)","v":90.424465160463853},{"$f":"COUNTRY_INFO!N106","v":79456},null,null,{"$f":"SUM(MAX('MDA2'!J106, 'T1'!L106, MAX(T3_R1!K106, T3_R2!K106)), MAX('MDA1'!K106, 'MDA2'!K106, 'T1'!M106, MAX(T3_R1!L106, T3_R2!L106)), MAX('MDA1'!L106, 'MDA2'!L106, 'T1'!N106, MAX(T3_R1!M106, T3_R2!M106)))","v":49076},{"$f":"IF(AND(COUNTRY_INFO!J106>1,COUNTRY_INFO!J106<4),IF(COUNTRY_INFO!E106>MAX('MDA2'!J106,'T1'!L106,MAX(T3_R1!K106,T3_R2!K106)),MAX('MDA2'!J106,'T1'!L106,MAX(T3_R1!K106,T3_R2!K106)),COUNTRY_INFO!E106),0)","v":0},{"$f":"IF(AND(COUNTRY_INFO!J106>1,COUNTRY_INFO!J106<4), IF(T106/COUNTRY_INFO!E106*100<>0, IF(T106/COUNTRY_INFO!E106*100>100,100,T106/COUNTRY_INFO!E106*100), \"-\"),0)","v":"-"},{"$f":"IF(AND(COUNTRY_INFO!J106>1,COUNTRY_INFO!J106<4),IF(COUNTRY_INFO!F106>MAX('MDA1'!K106,'MDA2'!K106,'T1'!M106,MAX(T3_R1!L106,T3_R2!L106)),MAX('MDA1'!K106,'MDA2'!K106,'T1'!M106,MAX(T3_R1!L106,T3_R2!L106)),COUNTRY_INFO!F106),0)","v":49076},{"$f":"IF(AND(COUNTRY_INFO!J106>1,COUNTRY_INFO!J106<4), IF(V106/COUNTRY_INFO!F106*100<>0, IF(V106/COUNTRY_INFO!F106*100>100,100,V106/COUNTRY_INFO!F106*100), \"-\"),0)","v":93.355399570088835},49076,{"$f":"IF(AND(COUNTRY_INFO!J106>1,COUNTRY_INFO!J106<4), IF(S106/P106*100<>0, IF(X106/P106*100>100,100,X106/P106*100), \"-\"),0)","v":61.765002013693113},{"$f":"COUNTRY_INFO!O106","v":52078.7},null,null,{"$f":"MAX('T1'!L106,'T2'!J106)+MAX('T1'!M106,'T2'!K106)+MAX('T1'!N106,'T2'!L106)","v":49076},{"$f":"IF(COUNTRY_INFO!K106=1,IF(COUNTRY_INFO!F106*0.33>MAX('T1'!M106,'T2'!K106),MAX('T1'!M106,'T2'!K106),COUNTRY_INFO!F106*0.33),IF(COUNTRY_INFO!K106=2,IF(COUNTRY_INFO!F106*0.5>MAX('T1'!M106,'T2'!K106),MAX('T1'!M106,'T2'!K106),COUNTRY_INFO!F106*0.5),IF(COUNTRY_INFO!K106=3,IF(COUNTRY_INFO!F106>MAX('T1'!M106,'T2'!K106),MAX('T1'!M106,'T2'!K106),COUNTRY_INFO!F106),0)))","v":26284.5},{"$f":"IF(AND(COUNTRY_INFO!K106>0,COUNTRY_INFO!K106<4),IF(Z106>0,IF(COUNTRY_INFO!K106=1, AD106/(COUNTRY_INFO!F106*0.33)*100, IF(COUNTRY_INFO!K106=2, AD106/(COUNTRY_INFO!F106*0.5)*100, IF(COUNTRY_INFO!K106=3, AD106/COUNTRY_INFO!F106*100))),\"-\"),0)","v":100},{"$f":"IF(COUNTRY_INFO!K106=2,IF(COUNTRY_INFO!G106*0.2>MAX('T1'!N106,'T2'!L106),MAX('T1'!N106,'T2'!L106),COUNTRY_INFO!G106*0.2),IF(COUNTRY_INFO!K106=3,IF(COUNTRY_INFO!G106>MAX('T1'!N106,'T2'!L106),MAX('T1'!N106,'T2'!L106),COUNTRY_INFO!G106),0))","v":0},{"$f":"IF(AND(COUNTRY_INFO!K106>0,COUNTRY_INFO!K106<4),IF(Z106>0,IF(COUNTRY_INFO!K106=1, 0, IF(COUNTRY_INFO!K106=2, AF106/(COUNTRY_INFO!G106*0.2)*100, IF(COUNTRY_INFO!K106=3, AF106/COUNTRY_INFO!G106*100))),\"-\"),0)","v":0},26284.5,{"$f":"IF(AND(COUNTRY_INFO!K106>0,COUNTRY_INFO!K106<4), IF(AC106/Z106*100<>0, IF(AH106/Z106*100>100,100,AH106/Z106*100), \"-\"),0)","v":50.470729876129781},null,{"$f":"IF(AND(D106<>0, D106<>\"Unknown\",D106<>\"Stopped\",D106<>\"Not required\"),D106/COUNTRY_INFO!D106, 0)","v":0},{"$f":"IF(AND(J106<>0,J106<>\"Unknown\",J106<>\"Stopped\",J106<>\"Not required\"),J106/COUNTRY_INFO!D106, 0)","v":1},{"$f":"IF(AND(P106<>0,P106<>\"Unknown\",P106<>\"Not required\"),P106/(COUNTRY_INFO!E106+COUNTRY_INFO!F106), 0)","v":1},{"$f":"IF(AND(Z106<>0,Z106<>\"Unknown\",Z106<>\"Not required\"),IF(COUNTRY_INFO!K106=1,1,IF(COUNTRY_INFO!K106=2,0.5*COUNTRY_INFO!F106/(0.5*COUNTRY_INFO!F106+0.2*COUNTRY_INFO!G106),IF(COUNTRY_INFO!K106=3,COUNTRY_INFO!F106/(COUNTRY_INFO!F106+COUNTRY_INFO!G106)))),0)","v":0.50470729876129783},{"$f":"IF(AND(Z106<>0,Z106<>\"Unknown\",Z106<>\"Not required\"),IF(COUNTRY_INFO!K106=1,0,IF(COUNTRY_INFO!K106=2,0.2*COUNTRY_INFO!G106/(0.5*COUNTRY_INFO!F106+0.2*COUNTRY_INFO!G106),IF(COUNTRY_INFO!K106=3,COUNTRY_INFO!G106/(COUNTRY_INFO!F106+COUNTRY_INFO!G106)))),0)","v":0.49529270123870223},{"$f":"MAX(COUNTRY_INFO!D106*AK106*PROFILE!$G$7,COUNTRY_INFO!D106*AL106*PROFILE!$G$7)","v":3.8219175563567152E-3},{"$f":"MAX(COUNTRY_INFO!D106*AK106*PROFILE!$G$8,COUNTRY_INFO!D106*AL106*PROFILE!$G$8,COUNTRY_INFO!D106*AM106*PROFILE!$G$8)","v":26887.083395926675},{"$f":"MAX(COUNTRY_INFO!D106*AK106*PROFILE!$G$9,COUNTRY_INFO!D106*AL106*PROFILE!$G$9,COUNTRY_INFO!D106*AM106*PROFILE!$G$9,IF(AND(DISTRICT!Z106<>\"Unknown\",Z106<>\"Not required\"),COUNTRY_INFO!O106*DISTRICT!AN106,0))","v":46854.798980346059},{"$f":"MAX(COUNTRY_INFO!D106*AK106*PROFILE!$G$10,COUNTRY_INFO!D106*AL106*PROFILE!$G$10,IF(AND(DISTRICT!Z106<>\"Unknown\",Z106<>\"Not required\"),COUNTRY_INFO!O106*DISTRICT!AO106,0))","v":134685.1138018097},208427,"Y",{"$f":"MAX('MDA2'!J106,'T1'!L106,'T2'!J106,T3_R1!K106,T3_R2!K106)","v":0},{"$f":"MAX('MDA1'!K106,'MDA2'!K106,'MDA3'!I106,'MDA3'!L106,'T1'!M106,'T2'!K106,T3_R1!L106,T3_R2!L106)","v":49076},{"$f":"MAX('MDA1'!L106,'MDA2'!L106,'MDA3'!J106,'MDA3'!M106,'T1'!N106,'T2'!L106,T3_R1!M106,T3_R2!M106)","v":152471.421},201547.421,{"$f":"MAX('MDA2'!J106,T106)","v":0},{"$f":"MAX('MDA1'!K106,'MDA2'!K106,'MDA3'!I106,'MDA3'!L106,V106,AD106)","v":49076},{"$f":"MAX('MDA1'!L106,'MDA2'!L106,'MDA3'!J106,'MDA3'!M106,AF106)","v":152471.421},201547.421,96.699286080977998]
[{"$f":"IF(COUNTRY_INFO!A107=0,\" \",COUNTRY_INFO!A107)","v":"Tanzania"},{"$f":"IF(COUNTRY_INFO!B107=0,\" \",COUNTRY_INFO!B107)","v":"Mtwara"},{"$f":"IF(COUNTRY_INFO!C107=0,\" \",COUNTRY_INFO!C107)","v":"Masasi District Council"},{"$f":"COUNTRY_INFO!L107","v":287417.61682789191},null,null,{"$f":"MAX('MDA1'!M107,'MDA2'!M107)","v":0},{"$f":"IF(AND(COUNTRY_INFO!H107>0,COUNTRY_INFO!H107<4),IF(D107>MAX('MDA1'!M107,'MDA2'!M107),MAX('MDA1'!M107,'MDA2'!M107),D107),0)","v":0},{"$f":"IF(AND(COUNTRY_INFO!H107>0,COUNTRY_INFO!H107<4), IF(G107/D107*100<>0, IF(G107/D107*100>100,100,G107/D107*100), \"-\"),0)","v":"-"},{"$f":"COUNTRY_INFO!M107","v":0},null,null,{"$f":"MAX('MDA1'!M107,MAX('MDA3'!I107,'MDA3'!L107)+MAX('MDA3'!J107,'MDA3'!M107))","v":0},{"$f":"IF(AND(COUNTRY_INFO!I107>0,COUNTRY_INFO!I107<4),IF(J107>MAX('MDA1'!M107,MAX('MDA3'!I107,'MDA3'!L107)+MAX('MDA3'!J107,'MDA3'!M107)),MAX('MDA1'!M107,MAX('MDA3'!I107,'MDA3'!L107)+MAX('MDA3'!J107,'MDA3'!M107)),J107),0)","v":0},{"$f":"IF(AND(COUNTRY_INFO!I107>0,COUNTRY_INFO!I107<4), IF(M107/J107*100<>0, IF(M107/J107*100>100,100,M107/J107*100), \"-\"),0)","v":0},{"$f":"COUNTRY_INFO!N107","v":88985},null,null,{"$f":"SUM(MAX('MDA2'!J107, 'T1'!L107, MAX(T3_R1!K107, T3_R2!K107)), MAX('MDA1'!K107, 'MDA2'!K107, 'T1'!M107, MAX(T3_R1!L107, T3_R2!L107)), MAX('MDA1'!L107, 'MDA2'!L107, 'T1'!N107, MAX(T3_R1!M107, T3_R2!M107)))","v":49454},{"$f":"IF(AND(COUNTRY_INFO!J107>1,COUNTRY_INFO!J107<4),IF(COUNTRY_INFO!E107>MAX('MDA2'!J107,'T1'!L107,MAX(T3_R1!K107,T3_R2!K107)),MAX('MDA2'!J107,'T1'!L107,MAX(T3_R1!K107,T3_R2!K107)),COUNTRY_INFO!E107),0)","v":0},{"$f":"IF(AND(COUNTRY_INFO!J107>1,COUNTRY_INFO!J107<4), IF(T107/COUNTRY_INFO!E107*100<>0, IF(T107/COUNTRY_INFO!E107*100>100,100,T107/COUNTRY_INFO!E107*100), \"-\"),0)","v":"-"},{"$f":"IF(AND(COUNTRY_INFO!J107>1,COUNTRY_INFO!J107<4),IF(COUNTRY_INFO!F107>MAX('MDA1'!K107,'MDA2'!K107,'T1'!M107,MAX(T3_R1!L107,T3_R2!L107)),MAX('MDA1'!K107,'MDA2'!K107,'T1'!M107,MAX(T3_R1!L107,T3_R2!L107)),COUNTRY_INFO!F107),0)","v":49454},{"$f":"IF(AND(COUNTRY_INFO!J107>1,COUNTRY_INFO!J107<4), IF(V107/COUNTRY_INFO!F107*100<>0, IF(V107/COUNTRY_INFO!F107*100>100,100,V107/COUNTRY_INFO!F107*100), \"-\"),0)","v":95.272405024273709},49454,{"$f":"IF(AND(COUNTRY_INFO!J107>1,COUNTRY_INFO!J107<4), IF(S107/P107*100<>0, IF(X107/P107*100>100,100,X107/P107*100), \"-\"),0)","v":55.575658818902063},{"$f":"COUNTRY_INFO!O107","v":250340.61682789191},null,null,{"$f":"MAX('T1'!L107,'T2'!J107)+MAX('T1'!M107,'T2'!K107)+MAX('T1'!N107,'T2'!L107)","v":49454},{"$f":"IF(COUNTRY_INFO!K107=1,IF(COUNTRY_INFO!F107*0.33>MAX('T1'!M107,'T2'!K107),MAX('T1'!M107,'T2'!K107),COUNTRY_INFO!F107*0.33),IF(COUNTRY_INFO!K107=2,IF(COUNTRY_INFO!F107*0.5>MAX('T1'!M107,'T2'!K107),MAX('T1'!M107,'T2'!K107),COUNTRY_INFO!F107*0.5),IF(COUNTRY_INFO!K107=3,IF(COUNTRY_INFO!F107>MAX('T1'!M107,'T2'!K107),MAX('T1'!M107,'T2'!K107),COUNTRY_INFO!F107),0)))","v":49454},{"$f":"IF(AND(COUNTRY_INFO!K107>0,COUNTRY_INFO!K107<4),IF(Z107>0,IF(COUNTRY_INFO!K107=1, AD107/(COUNTRY_INFO!F107*0.33)*100, IF(COUNTRY_INFO!K107=2, AD107/(COUNTRY_INFO!F107*0.5)*100, IF(COUNTRY_INFO!K107=3, AD107/COUNTRY_INFO!F107*100))),\"-\"),0)","v":95.272405024273709},{"$f":"IF(COUNTRY_INFO!K107=2,IF(COUNTRY_INFO!G107*0.2>MAX('T1'!N107,'T2'!L107),MAX('T1'!N107,'T2'!L107),COUNTRY_INFO!G107*0.2),IF(COUNTRY_INFO!K107=3,IF(COUNTRY_INFO!G107>MAX('T1'!N107,'T2'!L107),MAX('T1'!N107,'T2'!L107),COUNTRY_INFO!G107),0))","v":0},{"$f":"IF(AND(COUNTRY_INFO!K107>0,COUNTRY_INFO!K107<4),IF(Z107>0,IF(COUNTRY_INFO!K107=1, 0, IF(COUNTRY_INFO!K107=2, AF107/(COUNTRY_INFO!G107*0.2)*100, IF(COUNTRY_INFO!K107=3, AF107/COUNTRY_INFO!G107*100))),\"-\"),0)","v":0},49454,{"$f":"IF(AND(COUNTRY_INFO!K107>0,COUNTRY_INFO!K107<4), IF(AC107/Z107*100<>0, IF(AH107/Z107*100>100,100,AH107/Z107*100), \"-\"),0)","v":19.75468488759034},null,{"$f":"IF(AND(D107<>0, D107<>\"Unknown\",D107<>\"Stopped\",D107<>\"Not required\"),D107/COUNTRY_INFO!D107, 0)","v":1},{"$f":"IF(AND(J107<>0,J107<>\"Unknown\",J107<>\"Stopped\",J107<>\"Not required\"),J107/COUNTRY_INFO!D107, 0)","v":0},{"$f":"IF(AND(P107<>0,P107<>\"Unknown\",P107<>\"Not required\"),P107/(COUNTRY_INFO!E107+COUNTRY_INFO!F107), 0)","v":1},{"$f":"IF(AND(Z107<>0,Z107<>\"Unknown\",Z107<>\"Not required\"),IF(COUNTRY_INFO!K107=1,1,IF(COUNTRY_INFO!K107=2,0.5*COUNTRY_INFO!F107/(0.5*COUNTRY_INFO!F107+0.2*COUNTRY_INFO!G107),IF(COUNTRY_INFO!K107=3,COUNTRY_INFO!F107/(COUNTRY_INFO!F107+COUNTRY_INFO!G107)))),0)","v":0.20734949309358985},{"$f":"IF(AND(Z107<>0,Z107<>\"Unknown\",Z107<>\"Not required\"),IF(COUNTRY_INFO!K107=1,0,IF(COUNTRY_INFO!K107=2,0.2*COUNTRY_INFO!G107/(0.5*COUNTRY_INFO!F107+0.2*COUNTRY_INFO!G107),IF(COUNTRY_INFO!K107=3,COUNTRY_INFO!G107/(COUNTRY_INFO!F107+COUNTRY_INFO!G107)))),0)","v":0.79265050690641015},{"$f":"MAX(COUNTRY_INFO!D107*AK107*PROFILE!$G$7,COUNTRY_INFO!D107*AL107*PROFILE!$G$7)","v":5.2703653353966965E-3},{"$f":"MAX(COUNTRY_INFO!D107*AK107*PROFILE!$G$8,COUNTRY_INFO!D107*AL107*PROFILE!$G$8,COUNTRY_INFO!D107*AM107*PROFILE!$G$8)","v":37076.873116774834},{"$f":"MAX(COUNTRY_INFO!D107*AK107*PROFILE!$G$9,COUNTRY_INFO!D107*AL107*PROFILE!$G$9,COUNTRY_INFO!D107*AM107*PROFILE!$G$9,IF(AND(DISTRICT!Z107<>\"Unknown\",Z107<>\"Not required\"),COUNTRY_INFO!O107*DISTRICT!AN107,0))","v":64612.044792090295},{"$f":"MAX(COUNTRY_INFO!D107*AK107*PROFILE!$G$10,COUNTRY_INFO!D107*AL107*PROFILE!$G$10,IF(AND(DISTRICT!Z107<>\"Unknown\",Z107<>\"Not required\"),COUNTRY_INFO!O107*DISTRICT!AO107,0))","v":198432.61682789191},300121.54000712238,0,{"$f":"MAX('MDA2'!J107,'T1'!L107,'T2'!J107,T3_R1!K107,T3_R2!K107)","v":0},{"$f":"MAX('MDA1'!K107,'MDA2'!K107,'MDA3'!I107,'MDA3'!L107,'T1'!M107,'T2'!K107,T3_R1!L107,T3_R2!L107)","v":49454},{"$f":"MAX('MDA1'!L107,'MDA2'!L107,'MDA3'!J107,'MDA3'!M107,'T1'!N107,'T2'!L107,T3_R1!M107,T3_R2!M107)","v":0},49454,{"$f":"MAX('MDA2'!J107,T107)","v":0},{"$f":"MAX('MDA1'!K107,'MDA2'!K107,'MDA3'!I107,'MDA3'!L107,V107,AD107)","v":49454},{"$f":"MAX('MDA1'!L107,'MDA2'!L107,'MDA3'!J107,'MDA3'!M107,AF107)","v":0},49454,16.477990882902432]
[{"$f":"IF(COUNTRY_INFO!A108=0,\" \",COUNTRY_INFO!A108)","v":"Tanzania"},{"$f":"IF(COUNTRY_INFO!B108=0,\" \",COUNTRY_INFO!B108)","v":"Mtwara"},{"$f":"IF(COUNTRY_INFO!C108=0,\" \",COUNTRY_INFO!C108)","v":"Masasi Town Council"},{"$f":"COUNTRY_INFO!L108","v":"Stopped"},null,null,{"$f":"MAX('MDA1'!M108,'MDA2'!M108)","v":0},{"$f":"IF(AND(COUNTRY_INFO!H108>0,COUNTRY_INFO!H108<4),IF(D108>MAX('MDA1'!M108,'MDA2'!M108),MAX('MDA1'!M108,'MDA2'!M108),D108),0)","v":0},{"$f":"IF(AND(COUNTRY_INFO!H108>0,COUNTRY_INFO!H108<4), IF(G108/D108*100<>0, IF(G108/D108*100>100,100,G108/D108*100), \"-\"),0)","v":0},{"$f":"COUNTRY_INFO!M108","v":0},null,null,{"$f":"MAX('MDA1'!M108,MAX('MDA3'!I108,'MDA3'!L108)+MAX('MDA3'!J108,'MDA3'!M108))","v":0},{"$f":"IF(AND(COUNTRY_INFO!I108>0,COUNTRY_INFO!I108<4),IF(J108>MAX('MDA1'!M108,MAX('MDA3'!I108,'MDA3'!L108)+MAX('MDA3'!J108,'MDA3'!M108)),MAX('MDA1'!M108,MAX('MDA3'!I108,'MDA3'!L108)+MAX('MDA3'!J108,'MDA3'!M108)),J108),0)","v":0},{"$f":"IF(AND(COUNTRY_INFO!I108>0,COUNTRY_INFO!I108<4), IF(M108/J108*100<>0, IF(M108/J108*100>100,100,M108/J108*100), \"-\"),0)","v":0},{"$f":"COUNTRY_INFO!N108","v":37523},null,null,{"$f":"SUM(MAX('MDA2'!J108, 'T1'!L108, MAX(T3_R1!K108, T3_R2!K108)), MAX('MDA1'!K108, 'MDA2'!K108, 'T1'!M108, MAX(T3_R1!L108, T3_R2!L108)), MAX('MDA1'!L108, 'MDA2'!L108, 'T1'!N108, MAX(T3_R1!M108, T3_R2!M108)))","v":22358},{"$f":"IF(AND(COUNTRY_INFO!J108>1,COUNTRY_INFO!J108<4),IF(COUNTRY_INFO!E108>MAX('MDA2'!J108,'T1'!L108,MAX(T3_R1!K108,T3_R2!K108)),MAX('MDA2'!J108,'T1'!L108,MAX(T3_R1!K108,T3_R2!K108)),COUNTRY_INFO!E108),0)","v":0},{"$f":"IF(AND(COUNTRY_INFO!J108>1,COUNTRY_INFO!J108<4), IF(T108/COUNTRY_INFO!E108*100<>0, IF(T108/COUNTRY_INFO!E108*100>100,100,T108/COUNTRY_INFO!E108*100), \"-\"),0)","v":"-"},{"$f":"IF(AND(COUNTRY_INFO!J108>1,COUNTRY_INFO!J108<4),IF(COUNTRY_INFO!F108>MAX('MDA1'!K108,'MDA2'!K108,'T1'!M108,MAX(T3_R1!L108,T3_R2!L108)),MAX('MDA1'!K108,'MDA2'!K108,'T1'!M108,MAX(T3_R1!L108,T3_R2!L108)),COUNTRY_INFO!F108),0)","v":22358},{"$f":"IF(AND(COUNTRY_INFO!J108>1,COUNTRY_INFO!J108<4), IF(V108/COUNTRY_INFO!F108*100<>0, IF(V108/COUNTRY_INFO!F108*100>100,100,V108/COUNTRY_INFO!F108*100), \"-\"),0)","v":90.320756241415538},22358,{"$f":"IF(AND(COUNTRY_INFO!J108>1,COUNTRY_INFO!J108<4), IF(S108/P108*100<>0, IF(X108/P108*100>100,100,X108/P108*100), \"-\"),0)","v":59.584787996695368},{"$f":"COUNTRY_INFO!O108","v":86213.439502395457},null,null,{"$f":"MAX('T1'!L108,'T2'!J108)+MAX('T1'!M108,'T2'!K108)+MAX('T1'!N108,'T2'!L108)","v":22358},{"$f":"IF(COUNTRY_INFO!K108=1,IF(COUNTRY_INFO!F108*0.33>MAX('T1'!M108,'T2'!K108),MAX('T1'!M108,'T2'!K108),COUNTRY_INFO!F108*0.33),IF(COUNTRY_INFO!K108=2,IF(COUNTRY_INFO!F108*0.5>MAX('T1'!M108,'T2'!K108),MAX('T1'!M108,'T2'!K108),COUNTRY_INFO!F108*0.5),IF(COUNTRY_INFO!K108=3,IF(COUNTRY_INFO!F108>MAX('T1'!M108,'T2'!K108),MAX('T1'!M108,'T2'!K108),COUNTRY_INFO!F108),0)))","v":22358},{"$f":"IF(AND(COUNTRY_INFO!K108>0,COUNTRY_INFO!K108<4),IF(Z108>0,IF(COUNTRY_INFO!K108=1, AD108/(COUNTRY_INFO!F108*0.33)*100, IF(COUNTRY_INFO!K108=2, AD108/(COUNTRY_INFO!F108*0.5)*100, IF(COUNTRY_INFO!K108=3, AD108/COUNTRY_INFO!F108*100))),\"-\"),0)","v":90.320756241415538},{"$f":"IF(COUNTRY_INFO!K108=2,IF(COUNTRY_INFO!G108*0.2>MAX('T1'!N108,'T2'!L108),MAX('T1'!N108,'T2'!L108),COUNTRY_INFO!G108*0.2),IF(COUNTRY_INFO!K108=3,IF(COUNTRY_INFO!G108>MAX('T1'!N108,'T2'!L108),MAX('T1'!N108,'T2'!L108),COUNTRY_INFO!G108),0))","v":0},{"$f":"IF(AND(COUNTRY_INFO!K108>0,COUNTRY_INFO!K108<4),IF(Z108>0,IF(COUNTRY_INFO!K108=1, 0, IF(COUNTRY_INFO!K108=2, AF108/(COUNTRY_INFO!G108*0.2)*100, IF(COUNTRY_INFO!K108=3, AF108/COUNTRY_INFO!G108*100))),\"-\"),0)","v":0},22358,{"$f":"IF(AND(COUNTRY_INFO!K108>0,COUNTRY_INFO!K108<4), IF(AC108/Z108*100<>0, IF(AH108/Z108*100>100,100,AH108/Z108*100), \"-\"),0)","v":25.933311707600737},null,{"$f":"IF(AND(D108<>0, D108<>\"Unknown\",D108<>\"Stopped\",D108<>\"Not required\"),D108/COUNTRY_INFO!D108, 0)","v":0},{"$f":"IF(AND(J108<>0,J108<>\"Unknown\",J108<>\"Stopped\",J108<>\"Not required\"),J108/COUNTRY_INFO!D108, 0)","v":0},{"$f":"IF(AND(P108<>0,P108<>\"Unknown\",P108<>\"Not required\"),P108/(COUNTRY_INFO!E108+COUNTRY_INFO!F108), 0)","v":1},{"$f":"IF(AND(Z108<>0,Z108<>\"Unknown\",Z108<>\"Not required\"),IF(COUNTRY_INFO!K108=1,1,IF(COUNTRY_INFO!K108=2,0.5*COUNTRY_INFO!F108/(0.5*COUNTRY_INFO!F108+0.2*COUNTRY_INFO!G108),IF(COUNTRY_INFO!K108=3,COUNTRY_INFO!F108/(COUNTRY_INFO!F108+COUNTRY_INFO!G108)))),0)","v":0.28712460775111759},{"$f":"IF(AND(Z108<>0,Z108<>\"Unknown\",Z108<>\"Not required\"),IF(COUNTRY_INFO!K108=1,0,IF(COUNTRY_INFO!K108=2,0.2*COUNTRY_INFO!G108/(0.5*COUNTRY_INFO!F108+0.2*COUNTRY_INFO!G108),IF(COUNTRY_INFO!K108=3,COUNTRY_INFO!G108/(COUNTRY_INFO!F108+COUNTRY_INFO!G108)))),0)","v":0.71287539224888241},{"$f":"MAX(COUNTRY_INFO!D108*AK108*PROFILE!$G$7,COUNTRY_INFO!D108*AL108*PROFILE!$G$7)","v":0},{"$f":"MAX(COUNTRY_INFO!D108*AK108*PROFILE!$G$8,COUNTRY_INFO!D108*AL108*PROFILE!$G$8,COUNTRY_INFO!D108*AM108*PROFILE!$G$8)","v":12768.734883835461},{"$f":"MAX(COUNTRY_INFO!D108*AK108*PROFILE!$G$9,COUNTRY_INFO!D108*AL108*PROFILE!$G$9,COUNTRY_INFO!D108*AM108*PROFILE!$G$9,IF(AND(DISTRICT!Z108<>\"Unknown\",Z108<>\"Not required\"),COUNTRY_INFO!O108*DISTRICT!AN108,0))","v":24754.000000000004},{"$f":"MAX(COUNTRY_INFO!D108*AK108*PROFILE!$G$10,COUNTRY_INFO!D108*AL108*PROFILE!$G$10,IF(AND(DISTRICT!Z108<>\"Unknown\",Z108<>\"Not required\"),COUNTRY_INFO!O108*DISTRICT!AO108,0))","v":61459.439502395457},98982.174386230923,"Y",{"$f":"MAX('MDA2'!J108,'T1'!L108,'T2'!J108,T3_R1!K108,T3_R2!K108)","v":0},{"$f":"MAX('MDA1'!K108,'MDA2'!K108,'MDA3'!I108,'MDA3'!L108,'T1'!M108,'T2'!K108,T3_R1!L108,T3_R2!L108)","v":22358},{"$f":"MAX('MDA1'!L108,'MDA2'!L108,'MDA3'!J108,'MDA3'!M108,'T1'!N108,'T2'!L108,T3_R1!M108,T3_R2!M108)","v":0},22358,{"$f":"MAX('MDA2'!J108,T108)","v":0},{"$f":"MAX('MDA1'!K108,'MDA2'!K108,'MDA3'!I108,'MDA3'!L108,V108,AD108)","v":22358},{"$f":"MAX('MDA1'!L108,'MDA2'!L108,'MDA3'!J108,'MDA3'!M108,AF108)","v":0},22358,22.587905487667431]
[{"$f":"IF(COUNTRY_INFO!A109=0,\" \",COUNTRY_INFO!A109)","v":"Tanzania"},{"$f":"IF(COUNTRY_INFO!B109=0,\" \",COUNTRY_INFO!B109)","v":"Mtwara"},{"$f":"IF(COUNTRY_INFO!C109=0,\" \",COUNTRY_INFO!C109)","v":"Mtwara District Council"},{"$f":"COUNTRY_INFO!L109","v":"Stopped"},null,null,{"$f":"MAX('MDA1'!M109,'MDA2'!M109)","v":0},{"$f":"IF(AND(COUNTRY_INFO!H109>0,COUNTRY_INFO!H109<4),IF(D109>MAX('MDA1'!M109,'MDA2'!M109),MAX('MDA1'!M109,'MDA2'!M109),D109),0)","v":0},{"$f":"IF(AND(COUNTRY_INFO!H109>0,COUNTRY_INFO!H109<4), IF(G109/D109*100<>0, IF(G109/D109*100>100,100,G109/D109*100), \"-\"),0)","v":0},{"$f":"COUNTRY_INFO!M109","v":0},null,null,{"$f":"MAX('MDA1'!M109,MAX('MDA3'!I109,'MDA3'!L109)+MAX('MDA3'!J109,'MDA3'!M109))","v":0},{"$f":"IF(AND(COUNTRY_INFO!I109>0,COUNTRY_INFO!I109<4),IF(J109>MAX('MDA1'!M109,MAX('MDA3'!I109,'MDA3'!L109)+MAX('MDA3'!J109,'MDA3'!M109)),MAX('MDA1'!M109,MAX('MDA3'!I109,'MDA3'!L109)+MAX('MDA3'!J109,'MDA3'!M109)),J109),0)","v":0},{"$f":"IF(AND(COUNTRY_INFO!I109>0,COUNTRY_INFO!I109<4), IF(M109/J109*100<>0, IF(M109/J109*100>100,100,M109/J109*100), \"-\"),0)","v":0},{"$f":"COUNTRY_INFO!N109","v":51809},null,null,{"$f":"SUM(MAX('MDA2'!J109, 'T1'!L109, MAX(T3_R1!K109, T3_R2!K109)), MAX('MDA1'!K109, 'MDA2'!K109, 'T1'!M109, MAX(T3_R1!L109, T3_R2!L109)), MAX('MDA1'!L109, 'MDA2'!L109, 'T1'!N109, MAX(T3_R1!M109, T3_R2!M109)))","v":31924},{"$f":"IF(AND(COUNTRY_INFO!J109>1,COUNTRY_INFO!J109<4),IF(COUNTRY_INFO!E109>MAX('MDA2'!J109,'T1'!L109,MAX(T3_R1!K109,T3_R2!K109)),MAX('MDA2'!J109,'T1'!L109,MAX(T3_R1!K109,T3_R2!K109)),COUNTRY_INFO!E109),0)","v":0},{"$f":"IF(AND(COUNTRY_INFO!J109>1,COUNTRY_INFO!J109<4), IF(T109/COUNTRY_INFO!E109*100<>0, IF(T109/COUNTRY_INFO!E109*100>100,100,T109/COUNTRY_INFO!E109*100), \"-\"),0)","v":"-"},{"$f":"IF(AND(COUNTRY_INFO!J109>1,COUNTRY_INFO!J109<4),IF(COUNTRY_INFO!F109>MAX('MDA1'!K109,'MDA2'!K109,'T1'!M109,MAX(T3_R1!L109,T3_R2!L109)),MAX('MDA1'!K109,'MDA2'!K109,'T1'!M109,MAX(T3_R1!L109,T3_R2!L109)),COUNTRY_INFO!F109),0)","v":31924},{"$f":"IF(AND(COUNTRY_INFO!J109>1,COUNTRY_INFO!J109<4), IF(V109/COUNTRY_INFO!F109*100<>0, IF(V109/COUNTRY_INFO!F109*100>100,100,V109/COUNTRY_INFO!F109*100), \"-\"),0)","v":92.999679552538822},31924,{"$f":"IF(AND(COUNTRY_INFO!J109>1,COUNTRY_INFO!J109<4), IF(S109/P109*100<>0, IF(X109/P109*100>100,100,X109/P109*100), \"-\"),0)","v":61.618637688432507},{"$f":"COUNTRY_INFO!O109","v":118038.74532328834},null,null,{"$f":"MAX('T1'!L109,'T2'!J109)+MAX('T1'!M109,'T2'!K109)+MAX('T1'!N109,'T2'!L109)","v":31924},{"$f":"IF(COUNTRY_INFO!K109=1,IF(COUNTRY_INFO!F109*0.33>MAX('T1'!M109,'T2'!K109),MAX('T1'!M109,'T2'!K109),COUNTRY_INFO!F109*0.33),IF(COUNTRY_INFO!K109=2,IF(COUNTRY_INFO!F109*0.5>MAX('T1'!M109,'T2'!K109),MAX('T1'!M109,'T2'!K109),COUNTRY_INFO!F109*0.5),IF(COUNTRY_INFO!K109=3,IF(COUNTRY_INFO!F109>MAX('T1'!M109,'T2'!K109),MAX('T1'!M109,'T2'!K109),COUNTRY_INFO!F109),0)))","v":31924},{"$f":"IF(AND(COUNTRY_INFO!K109>0,COUNTRY_INFO!K109<4),IF(Z109>0,IF(COUNTRY_INFO!K109=1, AD109/(COUNTRY_INFO!F109*0.33)*100, IF(COUNTRY_INFO!K109=2, AD109/(COUNTRY_INFO!F109*0.5)*100, IF(COUNTRY_INFO!K109=3, AD109/COUNTRY_INFO!F109*100))),\"-\"),0)","v":92.999679552538822},{"$f":"IF(COUNTRY_INFO!K109=2,IF(COUNTRY_INFO!G109*0.2>MAX('T1'!N109,'T2'!L109),MAX('T1'!N109,'T2'!L109),COUNTRY_INFO!G109*0.2),IF(COUNTRY_INFO!K109=3,IF(COUNTRY_INFO!G109>MAX('T1'!N109,'T2'!L109),MAX('T1'!N109,'T2'!L109),COUNTRY_INFO!G109),0))","v":0},{"$f":"IF(AND(COUNTRY_INFO!K109>0,COUNTRY_INFO!K109<4),IF(Z109>0,IF(COUNTRY_INFO!K109=1, 0, IF(COUNTRY_INFO!K109=2, AF109/(COUNTRY_INFO!G109*0.2)*100, IF(COUNTRY_INFO!K109=3, AF109/COUNTRY_INFO!G109*100))),\"-\"),0)","v":0},31924,{"$f":"IF(AND(COUNTRY_INFO!K109>0,COUNTRY_INFO!K109<4), IF(AC109/Z109*100<>0, IF(AH109/Z109*100>100,100,AH109/Z109*100), \"-\"),0)","v":27.045356939846755},null,{"$f":"IF(AND(D109<>0, D109<>\"Unknown\",D109<>\"Stopped\",D109<>\"Not required\"),D109/COUNTRY_INFO!D109, 0)","v":0},{"$f":"IF(AND(J109<>0,J109<>\"Unknown\",J109<>\"Stopped\",J109<>\"Not required\"),J109/COUNTRY_INFO!D109, 0)","v":0},{"$f":"IF(AND(P109<>0,P109<>\"Unknown\",P109<>\"Not required\"),P109/(COUNTRY_INFO!E109+COUNTRY_INFO!F109), 0)","v":1},{"$f":"IF(AND(Z109<>0,Z109<>\"Unknown\",Z109<>\"Not required\"),IF(COUNTRY_INFO!K109=1,1,IF(COUNTRY_INFO!K109=2,0.5*COUNTRY_INFO!F109/(0.5*COUNTRY_INFO!F109+0.2*COUNTRY_INFO!G109),IF(COUNTRY_INFO!K109=3,COUNTRY_INFO!F109/(COUNTRY_INFO!F109+COUNTRY_INFO!G109)))),0)","v":0.29081129171598785},{"$f":"IF(AND(Z109<>0,Z109<>\"Unknown\",Z109<>\"Not required\"),IF(COUNTRY_INFO!K109=1,0,IF(COUNTRY_INFO!K109=2,0.2*COUNTRY_INFO!G109/(0.5*COUNTRY_INFO!F109+0.2*COUNTRY_INFO!G109),IF(COUNTRY_INFO!K109=3,COUNTRY_INFO!G109/(COUNTRY_INFO!F109+COUNTRY_INFO!G109)))),0)","v":0.70918870828401215},{"$f":"MAX(COUNTRY_INFO!D109*AK109*PROFILE!$G$7,COUNTRY_INFO!D109*AL109*PROFILE!$G$7)","v":0},{"$f":"MAX(COUNTRY_INFO!D109*AK109*PROFILE!$G$8,COUNTRY_INFO!D109*AL109*PROFILE!$G$8,COUNTRY_INFO!D109*AM109*PROFILE!$G$8)","v":17482.17640413859},{"$f":"MAX(COUNTRY_INFO!D109*AK109*PROFILE!$G$9,COUNTRY_INFO!D109*AL109*PROFILE!$G$9,COUNTRY_INFO!D109*AM109*PROFILE!$G$9,IF(AND(DISTRICT!Z109<>\"Unknown\",Z109<>\"Not required\"),COUNTRY_INFO!O109*DISTRICT!AN109,0))","v":34327},{"$f":"MAX(COUNTRY_INFO!D109*AK109*PROFILE!$G$10,COUNTRY_INFO!D109*AL109*PROFILE!$G$10,IF(AND(DISTRICT!Z109<>\"Unknown\",Z109<>\"Not required\"),COUNTRY_INFO!O109*DISTRICT!AO109,0))","v":83711.745323288342},135520.92172742693,"Y",{"$f":"MAX('MDA2'!J109,'T1'!L109,'T2'!J109,T3_R1!K109,T3_R2!K109)","v":0},{"$f":"MAX('MDA1'!K109,'MDA2'!K109,'MDA3'!I109,'MDA3'!L109,'T1'!M109,'T2'!K109,T3_R1!L109,T3_R2!L109)","v":31924},{"$f":"MAX('MDA1'!L109,'MDA2'!L109,'MDA3'!J109,'MDA3'!M109,'T1'!N109,'T2'!L109,T3_R1!M109,T3_R2!M109)","v":0},31924,{"$f":"MAX('MDA2'!J109,T109)","v":0},{"$f":"MAX('MDA1'!K109,'MDA2'!K109,'MDA3'!I109,'MDA3'!L109,V109,AD109)","v":31924},{"$f":"MAX('MDA1'!L109,'MDA2'!L109,'MDA3'!J109,'MDA3'!M109,AF109)","v":0},31924,23.556510384580104]
[{"$f":"IF(COUNTRY_INFO!A110=0,\" \",COUNTRY_INFO!A110)","v":"Tanzania"},{"$f":"IF(COUNTRY_INFO!B110=0,\" \",COUNTRY_INFO!B110)","v":"Mtwara"},{"$f":"IF(COUNTRY_INFO!C110=0,\" \",COUNTRY_INFO!C110)","v":"Mtwara-Mikindani Municipal Council"},{"$f":"COUNTRY_INFO!L110","v":140907},null,null,{"$f":"MAX('MDA1'!M110,'MDA2'!M110)","v":0},{"$f":"IF(AND(COUNTRY_INFO!H110>0,COUNTRY_INFO!H110<4),IF(D110>MAX('MDA1'!M110,'MDA2'!M110),MAX('MDA1'!M110,'MDA2'!M110),D110),0)","v":0},{"$f":"IF(AND(COUNTRY_INFO!H110>0,COUNTRY_INFO!H110<4), IF(G110/D110*100<>0, IF(G110/D110*100>100,100,G110/D110*100), \"-\"),0)","v":"-"},{"$f":"COUNTRY_INFO!M110","v":0},null,null,{"$f":"MAX('MDA1'!M110,MAX('MDA3'!I110,'MDA3'!L110)+MAX('MDA3'!J110,'MDA3'!M110))","v":0},{"$f":"IF(AND(COUNTRY_INFO!I110>0,COUNTRY_INFO!I110<4),IF(J110>MAX('MDA1'!M110,MAX('MDA3'!I110,'MDA3'!L110)+MAX('MDA3'!J110,'MDA3'!M110)),MAX('MDA1'!M110,MAX('MDA3'!I110,'MDA3'!L110)+MAX('MDA3'!J110,'MDA3'!M110)),J110),0)","v":0},{"$f":"IF(AND(COUNTRY_INFO!I110>0,COUNTRY_INFO!I110<4), IF(M110/J110*100<>0, IF(M110/J110*100>100,100,M110/J110*100), \"-\"),0)","v":0},{"$f":"COUNTRY_INFO!N110","v":44821},null,null,{"$f":"SUM(MAX('MDA2'!J110, 'T1'!L110, MAX(T3_R1!K110, T3_R2!K110)), MAX('MDA1'!K110, 'MDA2'!K110, 'T1'!M110, MAX(T3_R1!L110, T3_R2!L110)), MAX('MDA1'!L110, 'MDA2'!L110, 'T1'!N110, MAX(T3_R1!M110, T3_R2!M110)))","v":25952},{"$f":"IF(AND(COUNTRY_INFO!J110>1,COUNTRY_INFO!J110<4),IF(COUNTRY_INFO!E110>MAX('MDA2'!J110,'T1'!L110,MAX(T3_R1!K110,T3_R2!K110)),MAX('MDA2'!J110,'T1'!L110,MAX(T3_R1!K110,T3_R2!K110)),COUNTRY_INFO!E110),0)","v":0},{"$f":"IF(AND(COUNTRY_INFO!J110>1,COUNTRY_INFO!J110<4), IF(T110/COUNTRY_INFO!E110*100<>0, IF(T110/COUNTRY_INFO!E110*100>100,100,T110/COUNTRY_INFO!E110*100), \"-\"),0)","v":"-"},{"$f":"IF(AND(COUNTRY_INFO!J110>1,COUNTRY_INFO!J110<4),IF(COUNTRY_INFO!F110>MAX('MDA1'!K110,'MDA2'!K110,'T1'!M110,MAX(T3_R1!L110,T3_R2!L110)),MAX('MDA1'!K110,'MDA2'!K110,'T1'!M110,MAX(T3_R1!L110,T3_R2!L110)),COUNTRY_INFO!F110),0)","v":25952},{"$f":"IF(AND(COUNTRY_INFO!J110>1,COUNTRY_INFO!J110<4), IF(V110/COUNTRY_INFO!F110*100<>0, IF(V110/COUNTRY_INFO!F110*100>100,100,V110/COUNTRY_INFO!F110*100), \"-\"),0)","v":97.402792373517485},25952,{"$f":"IF(AND(COUNTRY_INFO!J110>1,COUNTRY_INFO!J110<4), IF(S110/P110*100<>0, IF(X110/P110*100>100,100,X110/P110*100), \"-\"),0)","v":57.901430133196499},{"$f":"COUNTRY_INFO!O110","v":32539.200000000001},null,null,{"$f":"MAX('T1'!L110,'T2'!J110)+MAX('T1'!M110,'T2'!K110)+MAX('T1'!N110,'T2'!L110)","v":0},{"$f":"IF(COUNTRY_INFO!K110=1,IF(COUNTRY_INFO!F110*0.33>MAX('T1'!M110,'T2'!K110),MAX('T1'!M110,'T2'!K110),COUNTRY_INFO!F110*0.33),IF(COUNTRY_INFO!K110=2,IF(COUNTRY_INFO!F110*0.5>MAX('T1'!M110,'T2'!K110),MAX('T1'!M110,'T2'!K110),COUNTRY_INFO!F110*0.5),IF(COUNTRY_INFO!K110=3,IF(COUNTRY_INFO!F110>MAX('T1'!M110,'T2'!K110),MAX('T1'!M110,'T2'!K110),COUNTRY_INFO!F110),0)))","v":0},{"$f":"IF(AND(COUNTRY_INFO!K110>0,COUNTRY_INFO!K110<4),IF(Z110>0,IF(COUNTRY_INFO!K110=1, AD110/(COUNTRY_INFO!F110*0.33)*100, IF(COUNTRY_INFO!K110=2, AD110/(COUNTRY_INFO!F110*0.5)*100, IF(COUNTRY_INFO!K110=3, AD110/COUNTRY_INFO!F110*100))),\"-\"),0)","v":0},{"$f":"IF(COUNTRY_INFO!K110=2,IF(COUNTRY_INFO!G110*0.2>MAX('T1'!N110,'T2'!L110),MAX('T1'!N110,'T2'!L110),COUNTRY_INFO!G110*0.2),IF(COUNTRY_INFO!K110=3,IF(COUNTRY_INFO!G110>MAX('T1'!N110,'T2'!L110),MAX('T1'!N110,'T2'!L110),COUNTRY_INFO!G110),0))","v":0},{"$f":"IF(AND(COUNTRY_INFO!K110>0,COUNTRY_INFO!K110<4),IF(Z110>0,IF(COUNTRY_INFO!K110=1, 0, IF(COUNTRY_INFO!K110=2, AF110/(COUNTRY_INFO!G110*0.2)*100, IF(COUNTRY_INFO!K110=3, AF110/COUNTRY_INFO!G110*100))),\"-\"),0)","v":0},0,{"$f":"IF(AND(COUNTRY_INFO!K110>0,COUNTRY_INFO!K110<4), IF(AC110/Z110*100<>0, IF(AH110/Z110*100>100,100,AH110/Z110*100), \"-\"),0)","v":"-"},null,{"$f":"IF(AND(D110<>0, D110<>\"Unknown\",D110<>\"Stopped\",D110<>\"Not required\"),D110/COUNTRY_INFO!D110, 0)","v":1},{"$f":"IF(AND(J110<>0,J110<>\"Unknown\",J110<>\"Stopped\",J110<>\"Not required\"),J110/COUNTRY_INFO!D110, 0)","v":0},{"$f":"IF(AND(P110<>0,P110<>\"Unknown\",P110<>\"Not required\"),P110/(COUNTRY_INFO!E110+COUNTRY_INFO!F110), 0)","v":1},{"$f":"IF(AND(Z110<>0,Z110<>\"Unknown\",Z110<>\"Not required\"),IF(COUNTRY_INFO!K110=1,1,IF(COUNTRY_INFO!K110=2,0.5*COUNTRY_INFO!F110/(0.5*COUNTRY_INFO!F110+0.2*COUNTRY_INFO!G110),IF(COUNTRY_INFO!K110=3,COUNTRY_INFO!F110/(COUNTRY_INFO!F110+COUNTRY_INFO!G110)))),0)","v":0.40941387618626146},{"$f":"IF(AND(Z110<>0,Z110<>\"Unknown\",Z110<>\"Not required\"),IF(COUNTRY_INFO!K110=1,0,IF(COUNTRY_INFO!K110=2,0.2*COUNTRY_INFO!G110/(0.5*COUNTRY_INFO!F110+0.2*COUNTRY_INFO!G110),IF(COUNTRY_INFO!K110=3,COUNTRY_INFO!G110/(COUNTRY_INFO!F110+COUNTRY_INFO!G110)))),0)","v":0.59058612381373854},{"$f":"MAX(COUNTRY_INFO!D110*AK110*PROFILE!$G$7,COUNTRY_INFO!D110*AL110*PROFILE!$G$7)","v":2.583806018958943E-3},{"$f":"MAX(COUNTRY_INFO!D110*AK110*PROFILE!$G$8,COUNTRY_INFO!D110*AL110*PROFILE!$G$8,COUNTRY_INFO!D110*AM110*PROFILE!$G$8)","v":18177.003267666089},{"$f":"MAX(COUNTRY_INFO!D110*AK110*PROFILE!$G$9,COUNTRY_INFO!D110*AL110*PROFILE!$G$9,COUNTRY_INFO!D110*AM110*PROFILE!$G$9,IF(AND(DISTRICT!Z110<>\"Unknown\",Z110<>\"Not required\"),COUNTRY_INFO!O110*DISTRICT!AN110,0))","v":31676.170361438883},{"$f":"MAX(COUNTRY_INFO!D110*AK110*PROFILE!$G$10,COUNTRY_INFO!D110*AL110*PROFILE!$G$10,IF(AND(DISTRICT!Z110<>\"Unknown\",Z110<>\"Not required\"),COUNTRY_INFO!O110*DISTRICT!AO110,0))","v":91053.823787089001},140907,0,{"$f":"MAX('MDA2'!J110,'T1'!L110,'T2'!J110,T3_R1!K110,T3_R2!K110)","v":0},{"$f":"MAX('MDA1'!K110,'MDA2'!K110,'MDA3'!I110,'MDA3'!L110,'T1'!M110,'T2'!K110,T3_R1!L110,T3_R2!L110)","v":25952},{"$f":"MAX('MDA1'!L110,'MDA2'!L110,'MDA3'!J110,'MDA3'!M110,'T1'!N110,'T2'!L110,T3_R1!M110,T3_R2!M110)","v":0},25952,{"$f":"MAX('MDA2'!J110,T110)","v":0},{"$f":"MAX('MDA1'!K110,'MDA2'!K110,'MDA3'!I110,'MDA3'!L110,V110,AD110)","v":25952},{"$f":"MAX('MDA1'!L110,'MDA2'!L110,'MDA3'!J110,'MDA3'!M110,AF110)","v":0},25952,18.417821683805631]
[{"$f":"IF(COUNTRY_INFO!A111=0,\" \",COUNTRY_INFO!A111)","v":"Tanzania"},{"$f":"IF(COUNTRY_INFO!B111=0,\" \",COUNTRY_INFO!B111)","v":"Mtwara"},{"$f":"IF(COUNTRY_INFO!C111=0,\" \",COUNTRY_INFO!C111)","v":"Nanyamba Town Council"},{"$f":"COUNTRY_INFO!L111","v":"Stopped"},null,null,{"$f":"MAX('MDA1'!M111,'MDA2'!M111)","v":0},{"$f":"IF(AND(COUNTRY_INFO!H111>0,COUNTRY_INFO!H111<4),IF(D111>MAX('MDA1'!M111,'MDA2'!M111),MAX('MDA1'!M111,'MDA2'!M111),D111),0)","v":0},{"$f":"IF(AND(COUNTRY_INFO!H111>0,COUNTRY_INFO!H111<4), IF(G111/D111*100<>0, IF(G111/D111*100>100,100,G111/D111*100), \"-\"),0)","v":0},{"$f":"COUNTRY_INFO!M111","v":0},null,null,{"$f":"MAX('MDA1'!M111,MAX('MDA3'!I111,'MDA3'!L111)+MAX('MDA3'!J111,'MDA3'!M111))","v":0},{"$f":"IF(AND(COUNTRY_INFO!I111>0,COUNTRY_INFO!I111<4),IF(J111>MAX('MDA1'!M111,MAX('MDA3'!I111,'MDA3'!L111)+MAX('MDA3'!J111,'MDA3'!M111)),MAX('MDA1'!M111,MAX('MDA3'!I111,'MDA3'!L111)+MAX('MDA3'!J111,'MDA3'!M111)),J111),0)","v":0},{"$f":"IF(AND(COUNTRY_INFO!I111>0,COUNTRY_INFO!I111<4), IF(M111/J111*100<>0, IF(M111/J111*100>100,100,M111/J111*100), \"-\"),0)","v":0},{"$f":"COUNTRY_INFO!N111","v":40893},null,null,{"$f":"SUM(MAX('MDA2'!J111, 'T1'!L111, MAX(T3_R1!K111, T3_R2!K111)), MAX('MDA1'!K111, 'MDA2'!K111, 'T1'!M111, MAX(T3_R1!L111, T3_R2!L111)), MAX('MDA1'!L111, 'MDA2'!L111, 'T1'!N111, MAX(T3_R1!M111, T3_R2!M111)))","v":25375},{"$f":"IF(AND(COUNTRY_INFO!J111>1,COUNTRY_INFO!J111<4),IF(COUNTRY_INFO!E111>MAX('MDA2'!J111,'T1'!L111,MAX(T3_R1!K111,T3_R2!K111)),MAX('MDA2'!J111,'T1'!L111,MAX(T3_R1!K111,T3_R2!K111)),COUNTRY_INFO!E111),0)","v":0},{"$f":"IF(AND(COUNTRY_INFO!J111>1,COUNTRY_INFO!J111<4), IF(T111/COUNTRY_INFO!E111*100<>0, IF(T111/COUNTRY_INFO!E111*100>100,100,T111/COUNTRY_INFO!E111*100), \"-\"),0)","v":"-"},{"$f":"IF(AND(COUNTRY_INFO!J111>1,COUNTRY_INFO!J111<4),IF(COUNTRY_INFO!F111>MAX('MDA1'!K111,'MDA2'!K111,'T1'!M111,MAX(T3_R1!L111,T3_R2!L111)),MAX('MDA1'!K111,'MDA2'!K111,'T1'!M111,MAX(T3_R1!L111,T3_R2!L111)),COUNTRY_INFO!F111),0)","v":25375},{"$f":"IF(AND(COUNTRY_INFO!J111>1,COUNTRY_INFO!J111<4), IF(V111/COUNTRY_INFO!F111*100<>0, IF(V111/COUNTRY_INFO!F111*100>100,100,V111/COUNTRY_INFO!F111*100), \"-\"),0)","v":97.716420209488604},25375,{"$f":"IF(AND(COUNTRY_INFO!J111>1,COUNTRY_INFO!J111<4), IF(S111/P111*100<>0, IF(X111/P111*100>100,100,X111/P111*100), \"-\"),0)","v":62.052184970532856},{"$f":"COUNTRY_INFO!O111","v":100771.42397034334},null,null,{"$f":"MAX('T1'!L111,'T2'!J111)+MAX('T1'!M111,'T2'!K111)+MAX('T1'!N111,'T2'!L111)","v":25375},{"$f":"IF(COUNTRY_INFO!K111=1,IF(COUNTRY_INFO!F111*0.33>MAX('T1'!M111,'T2'!K111),MAX('T1'!M111,'T2'!K111),COUNTRY_INFO!F111*0.33),IF(COUNTRY_INFO!K111=2,IF(COUNTRY_INFO!F111*0.5>MAX('T1'!M111,'T2'!K111),MAX('T1'!M111,'T2'!K111),COUNTRY_INFO!F111*0.5),IF(COUNTRY_INFO!K111=3,IF(COUNTRY_INFO!F111>MAX('T1'!M111,'T2'!K111),MAX('T1'!M111,'T2'!K111),COUNTRY_INFO!F111),0)))","v":25375},{"$f":"IF(AND(COUNTRY_INFO!K111>0,COUNTRY_INFO!K111<4),IF(Z111>0,IF(COUNTRY_INFO!K111=1, AD111/(COUNTRY_INFO!F111*0.33)*100, IF(COUNTRY_INFO!K111=2, AD111/(COUNTRY_INFO!F111*0.5)*100, IF(COUNTRY_INFO!K111=3, AD111/COUNTRY_INFO!F111*100))),\"-\"),0)","v":97.716420209488604},{"$f":"IF(COUNTRY_INFO!K111=2,IF(COUNTRY_INFO!G111*0.2>MAX('T1'!N111,'T2'!L111),MAX('T1'!N111,'T2'!L111),COUNTRY_INFO!G111*0.2),IF(COUNTRY_INFO!K111=3,IF(COUNTRY_INFO!G111>MAX('T1'!N111,'T2'!L111),MAX('T1'!N111,'T2'!L111),COUNTRY_INFO!G111),0))","v":0},{"$f":"IF(AND(COUNTRY_INFO!K111>0,COUNTRY_INFO!K111<4),IF(Z111>0,IF(COUNTRY_INFO!K111=1, 0, IF(COUNTRY_INFO!K111=2, AF111/(COUNTRY_INFO!G111*0.2)*100, IF(COUNTRY_INFO!K111=3, AF111/COUNTRY_INFO!G111*100))),\"-\"),0)","v":0},25375,{"$f":"IF(AND(COUNTRY_INFO!K111>0,COUNTRY_INFO!K111<4), IF(AC111/Z111*100<>0, IF(AH111/Z111*100>100,100,AH111/Z111*100), \"-\"),0)","v":25.18074966120134},null,{"$f":"IF(AND(D111<>0, D111<>\"Unknown\",D111<>\"Stopped\",D111<>\"Not required\"),D111/COUNTRY_INFO!D111, 0)","v":0},{"$f":"IF(AND(J111<>0,J111<>\"Unknown\",J111<>\"Stopped\",J111<>\"Not required\"),J111/COUNTRY_INFO!D111, 0)","v":0},{"$f":"IF(AND(P111<>0,P111<>\"Unknown\",P111<>\"Not required\"),P111/(COUNTRY_INFO!E111+COUNTRY_INFO!F111), 0)","v":1},{"$f":"IF(AND(Z111<>0,Z111<>\"Unknown\",Z111<>\"Not required\"),IF(COUNTRY_INFO!K111=1,1,IF(COUNTRY_INFO!K111=2,0.5*COUNTRY_INFO!F111/(0.5*COUNTRY_INFO!F111+0.2*COUNTRY_INFO!G111),IF(COUNTRY_INFO!K111=3,COUNTRY_INFO!F111/(COUNTRY_INFO!F111+COUNTRY_INFO!G111)))),0)","v":0.25769210136042425},{"$f":"IF(AND(Z111<>0,Z111<>\"Unknown\",Z111<>\"Not required\"),IF(COUNTRY_INFO!K111=1,0,IF(COUNTRY_INFO!K111=2,0.2*COUNTRY_INFO!G111/(0.5*COUNTRY_INFO!F111+0.2*COUNTRY_INFO!G111),IF(COUNTRY_INFO!K111=3,COUNTRY_INFO!G111/(COUNTRY_INFO!F111+COUNTRY_INFO!G111)))),0)","v":0.7423078986395758},{"$f":"MAX(COUNTRY_INFO!D111*AK111*PROFILE!$G$7,COUNTRY_INFO!D111*AL111*PROFILE!$G$7)","v":0},{"$f":"MAX(COUNTRY_INFO!D111*AK111*PROFILE!$G$8,COUNTRY_INFO!D111*AL111*PROFILE!$G$8,COUNTRY_INFO!D111*AM111*PROFILE!$G$8)","v":14924.838911950523},{"$f":"MAX(COUNTRY_INFO!D111*AK111*PROFILE!$G$9,COUNTRY_INFO!D111*AL111*PROFILE!$G$9,COUNTRY_INFO!D111*AM111*PROFILE!$G$9,IF(AND(DISTRICT!Z111<>\"Unknown\",Z111<>\"Not required\"),COUNTRY_INFO!O111*DISTRICT!AN111,0))","v":26008.783352806156},{"$f":"MAX(COUNTRY_INFO!D111*AK111*PROFILE!$G$10,COUNTRY_INFO!D111*AL111*PROFILE!$G$10,IF(AND(DISTRICT!Z111<>\"Unknown\",Z111<>\"Not required\"),COUNTRY_INFO!O111*DISTRICT!AO111,0))","v":74803.423970343341},115737.04623510002,"Y",{"$f":"MAX('MDA2'!J111,'T1'!L111,'T2'!J111,T3_R1!K111,T3_R2!K111)","v":0},{"$f":"MAX('MDA1'!K111,'MDA2'!K111,'MDA3'!I111,'MDA3'!L111,'T1'!M111,'T2'!K111,T3_R1!L111,T3_R2!L111)","v":25375},{"$f":"MAX('MDA1'!L111,'MDA2'!L111,'MDA3'!J111,'MDA3'!M111,'T1'!N111,'T2'!L111,T3_R1!M111,T3_R2!M111)","v":0},25375,{"$f":"MAX('MDA2'!J111,T111)","v":0},{"$f":"MAX('MDA1'!K111,'MDA2'!K111,'MDA3'!I111,'MDA3'!L111,V111,AD111)","v":25375},{"$f":"MAX('MDA1'!L111,'MDA2'!L111,'MDA3'!J111,'MDA3'!M111,AF111)","v":0},25375,21.924699848011521]
[{"$f":"IF(COUNTRY_INFO!A112=0,\" \",COUNTRY_INFO!A112)","v":"Tanzania"},{"$f":"IF(COUNTRY_INFO!B112=0,\" \",COUNTRY_INFO!B112)","v":"Mtwara"},{"$f":"IF(COUNTRY_INFO!C112=0,\" \",COUNTRY_INFO!C112)","v":"Nanyumbu District Council"},{"$f":"COUNTRY_INFO!L112","v":"Stopped"},null,null,{"$f":"MAX('MDA1'!M112,'MDA2'!M112)","v":0},{"$f":"IF(AND(COUNTRY_INFO!H112>0,COUNTRY_INFO!H112<4),IF(D112>MAX('MDA1'!M112,'MDA2'!M112),MAX('MDA1'!M112,'MDA2'!M112),D112),0)","v":0},{"$f":"IF(AND(COUNTRY_INFO!H112>0,COUNTRY_INFO!H112<4), IF(G112/D112*100<>0, IF(G112/D112*100>100,100,G112/D112*100), \"-\"),0)","v":0},{"$f":"COUNTRY_INFO!M112","v":0},null,null,{"$f":"MAX('MDA1'!M112,MAX('MDA3'!I112,'MDA3'!L112)+MAX('MDA3'!J112,'MDA3'!M112))","v":0},{"$f":"IF(AND(COUNTRY_INFO!I112>0,COUNTRY_INFO!I112<4),IF(J112>MAX('MDA1'!M112,MAX('MDA3'!I112,'MDA3'!L112)+MAX('MDA3'!J112,'MDA3'!M112)),MAX('MDA1'!M112,MAX('MDA3'!I112,'MDA3'!L112)+MAX('MDA3'!J112,'MDA3'!M112)),J112),0)","v":0},{"$f":"IF(AND(COUNTRY_INFO!I112>0,COUNTRY_INFO!I112<4), IF(M112/J112*100<>0, IF(M112/J112*100>100,100,M112/J112*100), \"-\"),0)","v":0},{"$f":"COUNTRY_INFO!N112","v":62147},null,null,{"$f":"SUM(MAX('MDA2'!J112, 'T1'!L112, MAX(T3_R1!K112, T3_R2!K112)), MAX('MDA1'!K112, 'MDA2'!K112, 'T1'!M112, MAX(T3_R1!L112, T3_R2!L112)), MAX('MDA1'!L112, 'MDA2'!L112, 'T1'!N112, MAX(T3_R1!M112, T3_R2!M112)))","v":36535},{"$f":"IF(AND(COUNTRY_INFO!J112>1,COUNTRY_INFO!J112<4),IF(COUNTRY_INFO!E112>MAX('MDA2'!J112,'T1'!L112,MAX(T3_R1!K112,T3_R2!K112)),MAX('MDA2'!J112,'T1'!L112,MAX(T3_R1!K112,T3_R2!K112)),COUNTRY_INFO!E112),0)","v":0},{"$f":"IF(AND(COUNTRY_INFO!J112>1,COUNTRY_INFO!J112<4), IF(T112/COUNTRY_INFO!E112*100<>0, IF(T112/COUNTRY_INFO!E112*100>100,100,T112/COUNTRY_INFO!E112*100), \"-\"),0)","v":"-"},{"$f":"IF(AND(COUNTRY_INFO!J112>1,COUNTRY_INFO!J112<4),IF(COUNTRY_INFO!F112>MAX('MDA1'!K112,'MDA2'!K112,'T1'!M112,MAX(T3_R1!L112,T3_R2!L112)),MAX('MDA1'!K112,'MDA2'!K112,'T1'!M112,MAX(T3_R1!L112,T3_R2!L112)),COUNTRY_INFO!F112),0)","v":36535},{"$f":"IF(AND(COUNTRY_INFO!J112>1,COUNTRY_INFO!J112<4), IF(V112/COUNTRY_INFO!F112*100<>0, IF(V112/COUNTRY_INFO!F112*100>100,100,V112/COUNTRY_INFO!F112*100), \"-\"),0)","v":89.755558285222946},36535,{"$f":"IF(AND(COUNTRY_INFO!J112>1,COUNTRY_INFO!J112<4), IF(S112/P112*100<>0, IF(X112/P112*100>100,100,X112/P112*100), \"-\"),0)","v":58.788034820667121},{"$f":"COUNTRY_INFO!O112","v":144774.53271684115},null,null,{"$f":"MAX('T1'!L112,'T2'!J112)+MAX('T1'!M112,'T2'!K112)+MAX('T1'!N112,'T2'!L112)","v":36535},{"$f":"IF(COUNTRY_INFO!K112=1,IF(COUNTRY_INFO!F112*0.33>MAX('T1'!M112,'T2'!K112),MAX('T1'!M112,'T2'!K112),COUNTRY_INFO!F112*0.33),IF(COUNTRY_INFO!K112=2,IF(COUNTRY_INFO!F112*0.5>MAX('T1'!M112,'T2'!K112),MAX('T1'!M112,'T2'!K112),COUNTRY_INFO!F112*0.5),IF(COUNTRY_INFO!K112=3,IF(COUNTRY_INFO!F112>MAX('T1'!M112,'T2'!K112),MAX('T1'!M112,'T2'!K112),COUNTRY_INFO!F112),0)))","v":36535},{"$f":"IF(AND(COUNTRY_INFO!K112>0,COUNTRY_INFO!K112<4),IF(Z112>0,IF(COUNTRY_INFO!K112=1, AD112/(COUNTRY_INFO!F112*0.33)*100, IF(COUNTRY_INFO!K112=2, AD112/(COUNTRY_INFO!F112*0.5)*100, IF(COUNTRY_INFO!K112=3, AD112/COUNTRY_INFO!F112*100))),\"-\"),0)","v":89.755558285222946},{"$f":"IF(COUNTRY_INFO!K112=2,IF(COUNTRY_INFO!G112*0.2>MAX('T1'!N112,'T2'!L112),MAX('T1'!N112,'T2'!L112),COUNTRY_INFO!G112*0.2),IF(COUNTRY_INFO!K112=3,IF(COUNTRY_INFO!G112>MAX('T1'!N112,'T2'!L112),MAX('T1'!N112,'T2'!L112),COUNTRY_INFO!G112),0))","v":0},{"$f":"IF(AND(COUNTRY_INFO!K112>0,COUNTRY_INFO!K112<4),IF(Z112>0,IF(COUNTRY_INFO!K112=1, 0, IF(COUNTRY_INFO!K112=2, AF112/(COUNTRY_INFO!G112*0.2)*100, IF(COUNTRY_INFO!K112=3, AF112/COUNTRY_INFO!G112*100))),\"-\"),0)","v":0},36535,{"$f":"IF(AND(COUNTRY_INFO!K112>0,COUNTRY_INFO!K112<4), IF(AC112/Z112*100<>0, IF(AH112/Z112*100>100,100,AH112/Z112*100), \"-\"),0)","v":25.235792037717975},null,{"$f":"IF(AND(D112<>0, D112<>\"Unknown\",D112<>\"Stopped\",D112<>\"Not required\"),D112/COUNTRY_INFO!D112, 0)","v":0},{"$f":"IF(AND(J112<>0,J112<>\"Unknown\",J112<>\"Stopped\",J112<>\"Not required\"),J112/COUNTRY_INFO!D112, 0)","v":0},{"$f":"IF(AND(P112<>0,P112<>\"Unknown\",P112<>\"Not required\"),P112/(COUNTRY_INFO!E112+COUNTRY_INFO!F112), 0)","v":1},{"$f":"IF(AND(Z112<>0,Z112<>\"Unknown\",Z112<>\"Not required\"),IF(COUNTRY_INFO!K112=1,1,IF(COUNTRY_INFO!K112=2,0.5*COUNTRY_INFO!F112/(0.5*COUNTRY_INFO!F112+0.2*COUNTRY_INFO!G112),IF(COUNTRY_INFO!K112=3,COUNTRY_INFO!F112/(COUNTRY_INFO!F112+COUNTRY_INFO!G112)))),0)","v":0.28116132883407968},{"$f":"IF(AND(Z112<>0,Z112<>\"Unknown\",Z112<>\"Not required\"),IF(COUNTRY_INFO!K112=1,0,IF(COUNTRY_INFO!K112=2,0.2*COUNTRY_INFO!G112/(0.5*COUNTRY_INFO!F112+0.2*COUNTRY_INFO!G112),IF(COUNTRY_INFO!K112=3,COUNTRY_INFO!G112/(COUNTRY_INFO!F112+COUNTRY_INFO!G112)))),0)","v":0.71883867116592037},{"$f":"MAX(COUNTRY_INFO!D112*AK112*PROFILE!$G$7,COUNTRY_INFO!D112*AL112*PROFILE!$G$7)","v":0},{"$f":"MAX(COUNTRY_INFO!D112*AK112*PROFILE!$G$8,COUNTRY_INFO!D112*AL112*PROFILE!$G$8,COUNTRY_INFO!D112*AM112*PROFILE!$G$8)","v":21441.933036216433},{"$f":"MAX(COUNTRY_INFO!D112*AK112*PROFILE!$G$9,COUNTRY_INFO!D112*AL112*PROFILE!$G$9,COUNTRY_INFO!D112*AM112*PROFILE!$G$9,IF(AND(DISTRICT!Z112<>\"Unknown\",Z112<>\"Not required\"),COUNTRY_INFO!O112*DISTRICT!AN112,0))","v":40705},{"$f":"MAX(COUNTRY_INFO!D112*AK112*PROFILE!$G$10,COUNTRY_INFO!D112*AL112*PROFILE!$G$10,IF(AND(DISTRICT!Z112<>\"Unknown\",Z112<>\"Not required\"),COUNTRY_INFO!O112*DISTRICT!AO112,0))","v":104069.53271684115},166216.46575305756,"Y",{"$f":"MAX('MDA2'!J112,'T1'!L112,'T2'!J112,T3_R1!K112,T3_R2!K112)","v":0},{"$f":"MAX('MDA1'!K112,'MDA2'!K112,'MDA3'!I112,'MDA3'!L112,'T1'!M112,'T2'!K112,T3_R1!L112,T3_R2!L112)","v":36535},{"$f":"MAX('MDA1'!L112,'MDA2'!L112,'MDA3'!J112,'MDA3'!M112,'T1'!N112,'T2'!L112,T3_R1!M112,T3_R2!M112)","v":0},36535,{"$f":"MAX('MDA2'!J112,T112)","v":0},{"$f":"MAX('MDA1'!K112,'MDA2'!K112,'MDA3'!I112,'MDA3'!L112,V112,AD112)","v":36535},{"$f":"MAX('MDA1'!L112,'MDA2'!L112,'MDA3'!J112,'MDA3'!M112,AF112)","v":0},36535,21.980373505401609]
[{"$f":"IF(COUNTRY_INFO!A113=0,\" \",COUNTRY_INFO!A113)","v":"Tanzania"},{"$f":"IF(COUNTRY_INFO!B113=0,\" \",COUNTRY_INFO!B113)","v":"Mtwara"},{"$f":"IF(COUNTRY_INFO!C113=0,\" \",COUNTRY_INFO!C113)","v":"Newala District Council"},{"$f":"COUNTRY_INFO!L113","v":"Stopped"},null,null,{"$f":"MAX('MDA1'!M113,'MDA2'!M113)","v":0},{"$f":"IF(AND(COUNTRY_INFO!H113>0,COUNTRY_INFO!H113<4),IF(D113>MAX('MDA1'!M113,'MDA2'!M113),MAX('MDA1'!M113,'MDA2'!M113),D113),0)","v":0},{"$f":"IF(AND(COUNTRY_INFO!H113>0,COUNTRY_INFO!H113<4), IF(G113/D113*100<>0, IF(G113/D113*100>100,100,G113/D113*100), \"-\"),0)","v":0},{"$f":"COUNTRY_INFO!M113","v":0},null,null,{"$f":"MAX('MDA1'!M113,MAX('MDA3'!I113,'MDA3'!L113)+MAX('MDA3'!J113,'MDA3'!M113))","v":0},{"$f":"IF(AND(COUNTRY_INFO!I113>0,COUNTRY_INFO!I113<4),IF(J113>MAX('MDA1'!M113,MAX('MDA3'!I113,'MDA3'!L113)+MAX('MDA3'!J113,'MDA3'!M113)),MAX('MDA1'!M113,MAX('MDA3'!I113,'MDA3'!L113)+MAX('MDA3'!J113,'MDA3'!M113)),J113),0)","v":0},{"$f":"IF(AND(COUNTRY_INFO!I113>0,COUNTRY_INFO!I113<4), IF(M113/J113*100<>0, IF(M113/J113*100>100,100,M113/J113*100), \"-\"),0)","v":0},{"$f":"COUNTRY_INFO!N113","v":43053},null,null,{"$f":"SUM(MAX('MDA2'!J113, 'T1'!L113, MAX(T3_R1!K113, T3_R2!K113)), MAX('MDA1'!K113, 'MDA2'!K113, 'T1'!M113, MAX(T3_R1!L113, T3_R2!L113)), MAX('MDA1'!L113, 'MDA2'!L113, 'T1'!N113, MAX(T3_R1!M113, T3_R2!M113)))","v":25381},{"$f":"IF(AND(COUNTRY_INFO!J113>1,COUNTRY_INFO!J113<4),IF(COUNTRY_INFO!E113>MAX('MDA2'!J113,'T1'!L113,MAX(T3_R1!K113,T3_R2!K113)),MAX('MDA2'!J113,'T1'!L113,MAX(T3_R1!K113,T3_R2!K113)),COUNTRY_INFO!E113),0)","v":0},{"$f":"IF(AND(COUNTRY_INFO!J113>1,COUNTRY_INFO!J113<4), IF(T113/COUNTRY_INFO!E113*100<>0, IF(T113/COUNTRY_INFO!E113*100>100,100,T113/COUNTRY_INFO!E113*100), \"-\"),0)","v":"-"},{"$f":"IF(AND(COUNTRY_INFO!J113>1,COUNTRY_INFO!J113<4),IF(COUNTRY_INFO!F113>MAX('MDA1'!K113,'MDA2'!K113,'T1'!M113,MAX(T3_R1!L113,T3_R2!L113)),MAX('MDA1'!K113,'MDA2'!K113,'T1'!M113,MAX(T3_R1!L113,T3_R2!L113)),COUNTRY_INFO!F113),0)","v":25381},{"$f":"IF(AND(COUNTRY_INFO!J113>1,COUNTRY_INFO!J113<4), IF(V113/COUNTRY_INFO!F113*100<>0, IF(V113/COUNTRY_INFO!F113*100>100,100,V113/COUNTRY_INFO!F113*100), \"-\"),0)","v":95.665447966529712},25381,{"$f":"IF(AND(COUNTRY_INFO!J113>1,COUNTRY_INFO!J113<4), IF(S113/P113*100<>0, IF(X113/P113*100>100,100,X113/P113*100), \"-\"),0)","v":58.952918495807495},{"$f":"COUNTRY_INFO!O113","v":30270.467544651878},null,null,{"$f":"MAX('T1'!L113,'T2'!J113)+MAX('T1'!M113,'T2'!K113)+MAX('T1'!N113,'T2'!L113)","v":0},{"$f":"IF(COUNTRY_INFO!K113=1,IF(COUNTRY_INFO!F113*0.33>MAX('T1'!M113,'T2'!K113),MAX('T1'!M113,'T2'!K113),COUNTRY_INFO!F113*0.33),IF(COUNTRY_INFO!K113=2,IF(COUNTRY_INFO!F113*0.5>MAX('T1'!M113,'T2'!K113),MAX('T1'!M113,'T2'!K113),COUNTRY_INFO!F113*0.5),IF(COUNTRY_INFO!K113=3,IF(COUNTRY_INFO!F113>MAX('T1'!M113,'T2'!K113),MAX('T1'!M113,'T2'!K113),COUNTRY_INFO!F113),0)))","v":0},{"$f":"IF(AND(COUNTRY_INFO!K113>0,COUNTRY_INFO!K113<4),IF(Z113>0,IF(COUNTRY_INFO!K113=1, AD113/(COUNTRY_INFO!F113*0.33)*100, IF(COUNTRY_INFO!K113=2, AD113/(COUNTRY_INFO!F113*0.5)*100, IF(COUNTRY_INFO!K113=3, AD113/COUNTRY_INFO!F113*100))),\"-\"),0)","v":0},{"$f":"IF(COUNTRY_INFO!K113=2,IF(COUNTRY_INFO!G113*0.2>MAX('T1'!N113,'T2'!L113),MAX('T1'!N113,'T2'!L113),COUNTRY_INFO!G113*0.2),IF(COUNTRY_INFO!K113=3,IF(COUNTRY_INFO!G113>MAX('T1'!N113,'T2'!L113),MAX('T1'!N113,'T2'!L113),COUNTRY_INFO!G113),0))","v":0},{"$f":"IF(AND(COUNTRY_INFO!K113>0,COUNTRY_INFO!K113<4),IF(Z113>0,IF(COUNTRY_INFO!K113=1, 0, IF(COUNTRY_INFO!K113=2, AF113/(COUNTRY_INFO!G113*0.2)*100, IF(COUNTRY_INFO!K113=3, AF113/COUNTRY_INFO!G113*100))),\"-\"),0)","v":0},0,{"$f":"IF(AND(COUNTRY_INFO!K113>0,COUNTRY_INFO!K113<4), IF(AC113/Z113*100<>0, IF(AH113/Z113*100>100,100,AH113/Z113*100), \"-\"),0)","v":"-"},null,{"$f":"IF(AND(D113<>0, D113<>\"Unknown\",D113<>\"Stopped\",D113<>\"Not required\"),D113/COUNTRY_INFO!D113, 0)","v":0},{"$f":"IF(AND(J113<>0,J113<>\"Unknown\",J113<>\"Stopped\",J113<>\"Not required\"),J113/COUNTRY_INFO!D113, 0)","v":0},{"$f":"IF(AND(P113<>0,P113<>\"Unknown\",P113<>\"Not required\"),P113/(COUNTRY_INFO!E113+COUNTRY_INFO!F113), 0)","v":1},{"$f":"IF(AND(Z113<>0,Z113<>\"Unknown\",Z113<>\"Not required\"),IF(COUNTRY_INFO!K113=1,1,IF(COUNTRY_INFO!K113=2,0.5*COUNTRY_INFO!F113/(0.5*COUNTRY_INFO!F113+0.2*COUNTRY_INFO!G113),IF(COUNTRY_INFO!K113=3,COUNTRY_INFO!F113/(COUNTRY_INFO!F113+COUNTRY_INFO!G113)))),0)","v":0.43823241185264483},{"$f":"IF(AND(Z113<>0,Z113<>\"Unknown\",Z113<>\"Not required\"),IF(COUNTRY_INFO!K113=1,0,IF(COUNTRY_INFO!K113=2,0.2*COUNTRY_INFO!G113/(0.5*COUNTRY_INFO!F113+0.2*COUNTRY_INFO!G113),IF(COUNTRY_INFO!K113=3,COUNTRY_INFO!G113/(COUNTRY_INFO!F113+COUNTRY_INFO!G113)))),0)","v":0.56176758814735517},{"$f":"MAX(COUNTRY_INFO!D113*AK113*PROFILE!$G$7,COUNTRY_INFO!D113*AL113*PROFILE!$G$7)","v":0},{"$f":"MAX(COUNTRY_INFO!D113*AK113*PROFILE!$G$8,COUNTRY_INFO!D113*AL113*PROFILE!$G$8,COUNTRY_INFO!D113*AM113*PROFILE!$G$8)","v":16522.041309596352},{"$f":"MAX(COUNTRY_INFO!D113*AK113*PROFILE!$G$9,COUNTRY_INFO!D113*AL113*PROFILE!$G$9,COUNTRY_INFO!D113*AM113*PROFILE!$G$9,IF(AND(DISTRICT!Z113<>\"Unknown\",Z113<>\"Not required\"),COUNTRY_INFO!O113*DISTRICT!AN113,0))","v":28792.149483323668},{"$f":"MAX(COUNTRY_INFO!D113*AK113*PROFILE!$G$10,COUNTRY_INFO!D113*AL113*PROFILE!$G$10,IF(AND(DISTRICT!Z113<>\"Unknown\",Z113<>\"Not required\"),COUNTRY_INFO!O113*DISTRICT!AO113,0))","v":17004.967544651878},62319.158337571906,0,{"$f":"MAX('MDA2'!J113,'T1'!L113,'T2'!J113,T3_R1!K113,T3_R2!K113)","v":0},{"$f":"MAX('MDA1'!K113,'MDA2'!K113,'MDA3'!I113,'MDA3'!L113,'T1'!M113,'T2'!K113,T3_R1!L113,T3_R2!L113)","v":25381},{"$f":"MAX('MDA1'!L113,'MDA2'!L113,'MDA3'!J113,'MDA3'!M113,'T1'!N113,'T2'!L113,T3_R1!M113,T3_R2!M113)","v":0},25381,{"$f":"MAX('MDA2'!J113,T113)","v":0},{"$f":"MAX('MDA1'!K113,'MDA2'!K113,'MDA3'!I113,'MDA3'!L113,V113,AD113)","v":25381},{"$f":"MAX('MDA1'!L113,'MDA2'!L113,'MDA3'!J113,'MDA3'!M113,AF113)","v":0},25381,40.727443497416303]
[{"$f":"IF(COUNTRY_INFO!A114=0,\" \",COUNTRY_INFO!A114)","v":"Tanzania"},{"$f":"IF(COUNTRY_INFO!B114=0,\" \",COUNTRY_INFO!B114)","v":"Mtwara"},{"$f":"IF(COUNTRY_INFO!C114=0,\" \",COUNTRY_INFO!C114)","v":"Newala Town Council"},{"$f":"COUNTRY_INFO!L114","v":"Stopped"},null,null,{"$f":"MAX('MDA1'!M114,'MDA2'!M114)","v":0},{"$f":"IF(AND(COUNTRY_INFO!H114>0,COUNTRY_INFO!H114<4),IF(D114>MAX('MDA1'!M114,'MDA2'!M114),MAX('MDA1'!M114,'MDA2'!M114),D114),0)","v":0},{"$f":"IF(AND(COUNTRY_INFO!H114>0,COUNTRY_INFO!H114<4), IF(G114/D114*100<>0, IF(G114/D114*100>100,100,G114/D114*100), \"-\"),0)","v":0},{"$f":"COUNTRY_INFO!M114","v":0},null,null,{"$f":"MAX('MDA1'!M114,MAX('MDA3'!I114,'MDA3'!L114)+MAX('MDA3'!J114,'MDA3'!M114))","v":0},{"$f":"IF(AND(COUNTRY_INFO!I114>0,COUNTRY_INFO!I114<4),IF(J114>MAX('MDA1'!M114,MAX('MDA3'!I114,'MDA3'!L114)+MAX('MDA3'!J114,'MDA3'!M114)),MAX('MDA1'!M114,MAX('MDA3'!I114,'MDA3'!L114)+MAX('MDA3'!J114,'MDA3'!M114)),J114),0)","v":0},{"$f":"IF(AND(COUNTRY_INFO!I114>0,COUNTRY_INFO!I114<4), IF(M114/J114*100<>0, IF(M114/J114*100>100,100,M114/J114*100), \"-\"),0)","v":0},{"$f":"COUNTRY_INFO!N114","v":34902},null,null,{"$f":"SUM(MAX('MDA2'!J114, 'T1'!L114, MAX(T3_R1!K114, T3_R2!K114)), MAX('MDA1'!K114, 'MDA2'!K114, 'T1'!M114, MAX(T3_R1!L114, T3_R2!L114)), MAX('MDA1'!L114, 'MDA2'!L114, 'T1'!N114, MAX(T3_R1!M114, T3_R2!M114)))","v":21558},{"$f":"IF(AND(COUNTRY_INFO!J114>1,COUNTRY_INFO!J114<4),IF(COUNTRY_INFO!E114>MAX('MDA2'!J114,'T1'!L114,MAX(T3_R1!K114,T3_R2!K114)),MAX('MDA2'!J114,'T1'!L114,MAX(T3_R1!K114,T3_R2!K114)),COUNTRY_INFO!E114),0)","v":0},{"$f":"IF(AND(COUNTRY_INFO!J114>1,COUNTRY_INFO!J114<4), IF(T114/COUNTRY_INFO!E114*100<>0, IF(T114/COUNTRY_INFO!E114*100>100,100,T114/COUNTRY_INFO!E114*100), \"-\"),0)","v":"-"},{"$f":"IF(AND(COUNTRY_INFO!J114>1,COUNTRY_INFO!J114<4),IF(COUNTRY_INFO!F114>MAX('MDA1'!K114,'MDA2'!K114,'T1'!M114,MAX(T3_R1!L114,T3_R2!L114)),MAX('MDA1'!K114,'MDA2'!K114,'T1'!M114,MAX(T3_R1!L114,T3_R2!L114)),COUNTRY_INFO!F114),0)","v":21558},{"$f":"IF(AND(COUNTRY_INFO!J114>1,COUNTRY_INFO!J114<4), IF(V114/COUNTRY_INFO!F114*100<>0, IF(V114/COUNTRY_INFO!F114*100>100,100,V114/COUNTRY_INFO!F114*100), \"-\"),0)","v":97.038170687792586},21558,{"$f":"IF(AND(COUNTRY_INFO!J114>1,COUNTRY_INFO!J114<4), IF(S114/P114*100<>0, IF(X114/P114*100>100,100,X114/P114*100), \"-\"),0)","v":61.767233969400039},{"$f":"COUNTRY_INFO!O114","v":23795.123168261118},null,null,{"$f":"MAX('T1'!L114,'T2'!J114)+MAX('T1'!M114,'T2'!K114)+MAX('T1'!N114,'T2'!L114)","v":0},{"$f":"IF(COUNTRY_INFO!K114=1,IF(COUNTRY_INFO!F114*0.33>MAX('T1'!M114,'T2'!K114),MAX('T1'!M114,'T2'!K114),COUNTRY_INFO!F114*0.33),IF(COUNTRY_INFO!K114=2,IF(COUNTRY_INFO!F114*0.5>MAX('T1'!M114,'T2'!K114),MAX('T1'!M114,'T2'!K114),COUNTRY_INFO!F114*0.5),IF(COUNTRY_INFO!K114=3,IF(COUNTRY_INFO!F114>MAX('T1'!M114,'T2'!K114),MAX('T1'!M114,'T2'!K114),COUNTRY_INFO!F114),0)))","v":0},{"$f":"IF(AND(COUNTRY_INFO!K114>0,COUNTRY_INFO!K114<4),IF(Z114>0,IF(COUNTRY_INFO!K114=1, AD114/(COUNTRY_INFO!F114*0.33)*100, IF(COUNTRY_INFO!K114=2, AD114/(COUNTRY_INFO!F114*0.5)*100, IF(COUNTRY_INFO!K114=3, AD114/COUNTRY_INFO!F114*100))),\"-\"),0)","v":0},{"$f":"IF(COUNTRY_INFO!K114=2,IF(COUNTRY_INFO!G114*0.2>MAX('T1'!N114,'T2'!L114),MAX('T1'!N114,'T2'!L114),COUNTRY_INFO!G114*0.2),IF(COUNTRY_INFO!K114=3,IF(COUNTRY_INFO!G114>MAX('T1'!N114,'T2'!L114),MAX('T1'!N114,'T2'!L114),COUNTRY_INFO!G114),0))","v":0},{"$f":"IF(AND(COUNTRY_INFO!K114>0,COUNTRY_INFO!K114<4),IF(Z114>0,IF(COUNTRY_INFO!K114=1, 0, IF(COUNTRY_INFO!K114=2, AF114/(COUNTRY_INFO!G114*0.2)*100, IF(COUNTRY_INFO!K114=3, AF114/COUNTRY_INFO!G114*100))),\"-\"),0)","v":0},0,{"$f":"IF(AND(COUNTRY_INFO!K114>0,COUNTRY_INFO!K114<4), IF(AC114/Z114*100<>0, IF(AH114/Z114*100>100,100,AH114/Z114*100), \"-\"),0)","v":"-"},null,{"$f":"IF(AND(D114<>0, D114<>\"Unknown\",D114<>\"Stopped\",D114<>\"Not required\"),D114/COUNTRY_INFO!D114, 0)","v":0},{"$f":"IF(AND(J114<>0,J114<>\"Unknown\",J114<>\"Stopped\",J114<>\"Not required\"),J114/COUNTRY_INFO!D114, 0)","v":0},{"$f":"IF(AND(P114<>0,P114<>\"Unknown\",P114<>\"Not required\"),P114/(COUNTRY_INFO!E114+COUNTRY_INFO!F114), 0)","v":1},{"$f":"IF(AND(Z114<>0,Z114<>\"Unknown\",Z114<>\"Not required\"),IF(COUNTRY_INFO!K114=1,1,IF(COUNTRY_INFO!K114=2,0.5*COUNTRY_INFO!F114/(0.5*COUNTRY_INFO!F114+0.2*COUNTRY_INFO!G114),IF(COUNTRY_INFO!K114=3,COUNTRY_INFO!F114/(COUNTRY_INFO!F114+COUNTRY_INFO!G114)))),0)","v":0.46681834430747104},{"$f":"IF(AND(Z114<>0,Z114<>\"Unknown\",Z114<>\"Not required\"),IF(COUNTRY_INFO!K114=1,0,IF(COUNTRY_INFO!K114=2,0.2*COUNTRY_INFO!G114/(0.5*COUNTRY_INFO!F114+0.2*COUNTRY_INFO!G114),IF(COUNTRY_INFO!K114=3,COUNTRY_INFO!G114/(COUNTRY_INFO!F114+COUNTRY_INFO!G114)))),0)","v":0.53318165569252907},{"$f":"MAX(COUNTRY_INFO!D114*AK114*PROFILE!$G$7,COUNTRY_INFO!D114*AL114*PROFILE!$G$7)","v":0},{"$f":"MAX(COUNTRY_INFO!D114*AK114*PROFILE!$G$8,COUNTRY_INFO!D114*AL114*PROFILE!$G$8,COUNTRY_INFO!D114*AM114*PROFILE!$G$8)","v":12685.552630329965},{"$f":"MAX(COUNTRY_INFO!D114*AK114*PROFILE!$G$9,COUNTRY_INFO!D114*AL114*PROFILE!$G$9,COUNTRY_INFO!D114*AM114*PROFILE!$G$9,IF(AND(DISTRICT!Z114<>\"Unknown\",Z114<>\"Not required\"),COUNTRY_INFO!O114*DISTRICT!AN114,0))","v":22106.489190224242},{"$f":"MAX(COUNTRY_INFO!D114*AK114*PROFILE!$G$10,COUNTRY_INFO!D114*AL114*PROFILE!$G$10,IF(AND(DISTRICT!Z114<>\"Unknown\",Z114<>\"Not required\"),COUNTRY_INFO!O114*DISTRICT!AO114,0))","v":12687.123168261121},47479.164988815333,0,{"$f":"MAX('MDA2'!J114,'T1'!L114,'T2'!J114,T3_R1!K114,T3_R2!K114)","v":0},{"$f":"MAX('MDA1'!K114,'MDA2'!K114,'MDA3'!I114,'MDA3'!L114,'T1'!M114,'T2'!K114,T3_R1!L114,T3_R2!L114)","v":21558},{"$f":"MAX('MDA1'!L114,'MDA2'!L114,'MDA3'!J114,'MDA3'!M114,'T1'!N114,'T2'!L114,T3_R1!M114,T3_R2!M114)","v":0},21558,{"$f":"MAX('MDA2'!J114,T114)","v":0},{"$f":"MAX('MDA1'!K114,'MDA2'!K114,'MDA3'!I114,'MDA3'!L114,V114,AD114)","v":21558},{"$f":"MAX('MDA1'!L114,'MDA2'!L114,'MDA3'!J114,'MDA3'!M114,AF114)","v":0},21558,45.405179314081067]
[{"$f":"IF(COUNTRY_INFO!A115=0,\" \",COUNTRY_INFO!A115)","v":"Tanzania"},{"$f":"IF(COUNTRY_INFO!B115=0,\" \",COUNTRY_INFO!B115)","v":"Mtwara"},{"$f":"IF(COUNTRY_INFO!C115=0,\" \",COUNTRY_INFO!C115)","v":"Tandahimba District Council"},{"$f":"COUNTRY_INFO!L115","v":"Stopped"},null,null,{"$f":"MAX('MDA1'!M115,'MDA2'!M115)","v":0},{"$f":"IF(AND(COUNTRY_INFO!H115>0,COUNTRY_INFO!H115<4),IF(D115>MAX('MDA1'!M115,'MDA2'!M115),MAX('MDA1'!M115,'MDA2'!M115),D115),0)","v":0},{"$f":"IF(AND(COUNTRY_INFO!H115>0,COUNTRY_INFO!H115<4), IF(G115/D115*100<>0, IF(G115/D115*100>100,100,G115/D115*100), \"-\"),0)","v":0},{"$f":"COUNTRY_INFO!M115","v":0},null,null,{"$f":"MAX('MDA1'!M115,MAX('MDA3'!I115,'MDA3'!L115)+MAX('MDA3'!J115,'MDA3'!M115))","v":0},{"$f":"IF(AND(COUNTRY_INFO!I115>0,COUNTRY_INFO!I115<4),IF(J115>MAX('MDA1'!M115,MAX('MDA3'!I115,'MDA3'!L115)+MAX('MDA3'!J115,'MDA3'!M115)),MAX('MDA1'!M115,MAX('MDA3'!I115,'MDA3'!L115)+MAX('MDA3'!J115,'MDA3'!M115)),J115),0)","v":0},{"$f":"IF(AND(COUNTRY_INFO!I115>0,COUNTRY_INFO!I115<4), IF(M115/J115*100<>0, IF(M115/J115*100>100,100,M115/J115*100), \"-\"),0)","v":0},{"$f":"COUNTRY_INFO!N115","v":97324},null,null,{"$f":"SUM(MAX('MDA2'!J115, 'T1'!L115, MAX(T3_R1!K115, T3_R2!K115)), MAX('MDA1'!K115, 'MDA2'!K115, 'T1'!M115, MAX(T3_R1!L115, T3_R2!L115)), MAX('MDA1'!L115, 'MDA2'!L115, 'T1'!N115, MAX(T3_R1!M115, T3_R2!M115)))","v":63709},{"$f":"IF(AND(COUNTRY_INFO!J115>1,COUNTRY_INFO!J115<4),IF(COUNTRY_INFO!E115>MAX('MDA2'!J115,'T1'!L115,MAX(T3_R1!K115,T3_R2!K115)),MAX('MDA2'!J115,'T1'!L115,MAX(T3_R1!K115,T3_R2!K115)),COUNTRY_INFO!E115),0)","v":0},{"$f":"IF(AND(COUNTRY_INFO!J115>1,COUNTRY_INFO!J115<4), IF(T115/COUNTRY_INFO!E115*100<>0, IF(T115/COUNTRY_INFO!E115*100>100,100,T115/COUNTRY_INFO!E115*100), \"-\"),0)","v":"-"},{"$f":"IF(AND(COUNTRY_INFO!J115>1,COUNTRY_INFO!J115<4),IF(COUNTRY_INFO!F115>MAX('MDA1'!K115,'MDA2'!K115,'T1'!M115,MAX(T3_R1!L115,T3_R2!L115)),MAX('MDA1'!K115,'MDA2'!K115,'T1'!M115,MAX(T3_R1!L115,T3_R2!L115)),COUNTRY_INFO!F115),0)","v":63709},{"$f":"IF(AND(COUNTRY_INFO!J115>1,COUNTRY_INFO!J115<4), IF(V115/COUNTRY_INFO!F115*100<>0, IF(V115/COUNTRY_INFO!F115*100>100,100,V115/COUNTRY_INFO!F115*100), \"-\"),0)","v":98.034961376296437},63709,{"$f":"IF(AND(COUNTRY_INFO!J115>1,COUNTRY_INFO!J115<4), IF(S115/P115*100<>0, IF(X115/P115*100>100,100,X115/P115*100), \"-\"),0)","v":65.460729111010636},{"$f":"COUNTRY_INFO!O115","v":63164.277976710349},null,null,{"$f":"MAX('T1'!L115,'T2'!J115)+MAX('T1'!M115,'T2'!K115)+MAX('T1'!N115,'T2'!L115)","v":0},{"$f":"IF(COUNTRY_INFO!K115=1,IF(COUNTRY_INFO!F115*0.33>MAX('T1'!M115,'T2'!K115),MAX('T1'!M115,'T2'!K115),COUNTRY_INFO!F115*0.33),IF(COUNTRY_INFO!K115=2,IF(COUNTRY_INFO!F115*0.5>MAX('T1'!M115,'T2'!K115),MAX('T1'!M115,'T2'!K115),COUNTRY_INFO!F115*0.5),IF(COUNTRY_INFO!K115=3,IF(COUNTRY_INFO!F115>MAX('T1'!M115,'T2'!K115),MAX('T1'!M115,'T2'!K115),COUNTRY_INFO!F115),0)))","v":0},{"$f":"IF(AND(COUNTRY_INFO!K115>0,COUNTRY_INFO!K115<4),IF(Z115>0,IF(COUNTRY_INFO!K115=1, AD115/(COUNTRY_INFO!F115*0.33)*100, IF(COUNTRY_INFO!K115=2, AD115/(COUNTRY_INFO!F115*0.5)*100, IF(COUNTRY_INFO!K115=3, AD115/COUNTRY_INFO!F115*100))),\"-\"),0)","v":0},{"$f":"IF(COUNTRY_INFO!K115=2,IF(COUNTRY_INFO!G115*0.2>MAX('T1'!N115,'T2'!L115),MAX('T1'!N115,'T2'!L115),COUNTRY_INFO!G115*0.2),IF(COUNTRY_INFO!K115=3,IF(COUNTRY_INFO!G115>MAX('T1'!N115,'T2'!L115),MAX('T1'!N115,'T2'!L115),COUNTRY_INFO!G115),0))","v":0},{"$f":"IF(AND(COUNTRY_INFO!K115>0,COUNTRY_INFO!K115<4),IF(Z115>0,IF(COUNTRY_INFO!K115=1, 0, IF(COUNTRY_INFO!K115=2, AF115/(COUNTRY_INFO!G115*0.2)*100, IF(COUNTRY_INFO!K115=3, AF115/COUNTRY_INFO!G115*100))),\"-\"),0)","v":0},0,{"$f":"IF(AND(COUNTRY_INFO!K115>0,COUNTRY_INFO!K115<4), IF(AC115/Z115*100<>0, IF(AH115/Z115*100>100,100,AH115/Z115*100), \"-\"),0)","v":"-"},null,{"$f":"IF(AND(D115<>0, D115<>\"Unknown\",D115<>\"Stopped\",D115<>\"Not required\"),D115/COUNTRY_INFO!D115, 0)","v":0},{"$f":"IF(AND(J115<>0,J115<>\"Unknown\",J115<>\"Stopped\",J115<>\"Not required\"),J115/COUNTRY_INFO!D115, 0)","v":0},{"$f":"IF(AND(P115<>0,P115<>\"Unknown\",P115<>\"Not required\"),P115/(COUNTRY_INFO!E115+COUNTRY_INFO!F115), 0)","v":1},{"$f":"IF(AND(Z115<>0,Z115<>\"Unknown\",Z115<>\"Not required\"),IF(COUNTRY_INFO!K115=1,1,IF(COUNTRY_INFO!K115=2,0.5*COUNTRY_INFO!F115/(0.5*COUNTRY_INFO!F115+0.2*COUNTRY_INFO!G115),IF(COUNTRY_INFO!K115=3,COUNTRY_INFO!F115/(COUNTRY_INFO!F115+COUNTRY_INFO!G115)))),0)","v":0.51442050856626076},{"$f":"IF(AND(Z115<>0,Z115<>\"Unknown\",Z115<>\"Not required\"),IF(COUNTRY_INFO!K115=1,0,IF(COUNTRY_INFO!K115=2,0.2*COUNTRY_INFO!G115/(0.5*COUNTRY_INFO!F115+0.2*COUNTRY_INFO!G115),IF(COUNTRY_INFO!K115=3,COUNTRY_INFO!G115/(COUNTRY_INFO!F115+COUNTRY_INFO!G115)))),0)","v":0.4855794914337393},{"$f":"MAX(COUNTRY_INFO!D115*AK115*PROFILE!$G$7,COUNTRY_INFO!D115*AL115*PROFILE!$G$7)","v":0},{"$f":"MAX(COUNTRY_INFO!D115*AK115*PROFILE!$G$8,COUNTRY_INFO!D115*AL115*PROFILE!$G$8,COUNTRY_INFO!D115*AM115*PROFILE!$G$8)","v":32337.770771169136},{"$f":"MAX(COUNTRY_INFO!D115*AK115*PROFILE!$G$9,COUNTRY_INFO!D115*AL115*PROFILE!$G$9,COUNTRY_INFO!D115*AM115*PROFILE!$G$9,IF(AND(DISTRICT!Z115<>\"Unknown\",Z115<>\"Not required\"),COUNTRY_INFO!O115*DISTRICT!AN115,0))","v":56353.444017850823},{"$f":"MAX(COUNTRY_INFO!D115*AK115*PROFILE!$G$10,COUNTRY_INFO!D115*AL115*PROFILE!$G$10,IF(AND(DISTRICT!Z115<>\"Unknown\",Z115<>\"Not required\"),COUNTRY_INFO!O115*DISTRICT!AO115,0))","v":30671.277976710349},119362.49276573031,0,{"$f":"MAX('MDA2'!J115,'T1'!L115,'T2'!J115,T3_R1!K115,T3_R2!K115)","v":0},{"$f":"MAX('MDA1'!K115,'MDA2'!K115,'MDA3'!I115,'MDA3'!L115,'T1'!M115,'T2'!K115,T3_R1!L115,T3_R2!L115)","v":63709},{"$f":"MAX('MDA1'!L115,'MDA2'!L115,'MDA3'!J115,'MDA3'!M115,'T1'!N115,'T2'!L115,T3_R1!M115,T3_R2!M115)","v":0},63709,{"$f":"MAX('MDA2'!J115,T115)","v":0},{"$f":"MAX('MDA1'!K115,'MDA2'!K115,'MDA3'!I115,'MDA3'!L115,V115,AD115)","v":63709},{"$f":"MAX('MDA1'!L115,'MDA2'!L115,'MDA3'!J115,'MDA3'!M115,AF115)","v":0},63709,53.374387987221425]
[{"$f":"IF(COUNTRY_INFO!A116=0,\" \",COUNTRY_INFO!A116)","v":"Tanzania"},{"$f":"IF(COUNTRY_INFO!B116=0,\" \",COUNTRY_INFO!B116)","v":"Mwanza"},{"$f":"IF(COUNTRY_INFO!C116=0,\" \",COUNTRY_INFO!C116)","v":"Buchosa District Council"},{"$f":"COUNTRY_INFO!L116","v":0},null,null,{"$f":"MAX('MDA1'!M116,'MDA2'!M116)","v":0},{"$f":"IF(AND(COUNTRY_INFO!H116>0,COUNTRY_INFO!H116<4),IF(D116>MAX('MDA1'!M116,'MDA2'!M116),MAX('MDA1'!M116,'MDA2'!M116),D116),0)","v":0},{"$f":"IF(AND(COUNTRY_INFO!H116>0,COUNTRY_INFO!H116<4), IF(G116/D116*100<>0, IF(G116/D116*100>100,100,G116/D116*100), \"-\"),0)","v":0},{"$f":"COUNTRY_INFO!M116","v":0},null,null,{"$f":"MAX('MDA1'!M116,MAX('MDA3'!I116,'MDA3'!L116)+MAX('MDA3'!J116,'MDA3'!M116))","v":0},{"$f":"IF(AND(COUNTRY_INFO!I116>0,COUNTRY_INFO!I116<4),IF(J116>MAX('MDA1'!M116,MAX('MDA3'!I116,'MDA3'!L116)+MAX('MDA3'!J116,'MDA3'!M116)),MAX('MDA1'!M116,MAX('MDA3'!I116,'MDA3'!L116)+MAX('MDA3'!J116,'MDA3'!M116)),J116),0)","v":0},{"$f":"IF(AND(COUNTRY_INFO!I116>0,COUNTRY_INFO!I116<4), IF(M116/J116*100<>0, IF(M116/J116*100>100,100,M116/J116*100), \"-\"),0)","v":0},{"$f":"COUNTRY_INFO!N116","v":162630},null,null,{"$f":"SUM(MAX('MDA2'!J116, 'T1'!L116, MAX(T3_R1!K116, T3_R2!K116)), MAX('MDA1'!K116, 'MDA2'!K116, 'T1'!M116, MAX(T3_R1!L116, T3_R2!L116)), MAX('MDA1'!L116, 'MDA2'!L116, 'T1'!N116, MAX(T3_R1!M116, T3_R2!M116)))","v":0},{"$f":"IF(AND(COUNTRY_INFO!J116>1,COUNTRY_INFO!J116<4),IF(COUNTRY_INFO!E116>MAX('MDA2'!J116,'T1'!L116,MAX(T3_R1!K116,T3_R2!K116)),MAX('MDA2'!J116,'T1'!L116,MAX(T3_R1!K116,T3_R2!K116)),COUNTRY_INFO!E116),0)","v":0},{"$f":"IF(AND(COUNTRY_INFO!J116>1,COUNTRY_INFO!J116<4), IF(T116/COUNTRY_INFO!E116*100<>0, IF(T116/COUNTRY_INFO!E116*100>100,100,T116/COUNTRY_INFO!E116*100), \"-\"),0)","v":"-"},{"$f":"IF(AND(COUNTRY_INFO!J116>1,COUNTRY_INFO!J116<4),IF(COUNTRY_INFO!F116>MAX('MDA1'!K116,'MDA2'!K116,'T1'!M116,MAX(T3_R1!L116,T3_R2!L116)),MAX('MDA1'!K116,'MDA2'!K116,'T1'!M116,MAX(T3_R1!L116,T3_R2!L116)),COUNTRY_INFO!F116),0)","v":0},{"$f":"IF(AND(COUNTRY_INFO!J116>1,COUNTRY_INFO!J116<4), IF(V116/COUNTRY_INFO!F116*100<>0, IF(V116/COUNTRY_INFO!F116*100>100,100,V116/COUNTRY_INFO!F116*100), \"-\"),0)","v":"-"},0,{"$f":"IF(AND(COUNTRY_INFO!J116>1,COUNTRY_INFO!J116<4), IF(S116/P116*100<>0, IF(X116/P116*100>100,100,X116/P116*100), \"-\"),0)","v":"-"},{"$f":"COUNTRY_INFO!O116","v":105105.98813284925},null,null,{"$f":"MAX('T1'!L116,'T2'!J116)+MAX('T1'!M116,'T2'!K116)+MAX('T1'!N116,'T2'!L116)","v":0},{"$f":"IF(COUNTRY_INFO!K116=1,IF(COUNTRY_INFO!F116*0.33>MAX('T1'!M116,'T2'!K116),MAX('T1'!M116,'T2'!K116),COUNTRY_INFO!F116*0.33),IF(COUNTRY_INFO!K116=2,IF(COUNTRY_INFO!F116*0.5>MAX('T1'!M116,'T2'!K116),MAX('T1'!M116,'T2'!K116),COUNTRY_INFO!F116*0.5),IF(COUNTRY_INFO!K116=3,IF(COUNTRY_INFO!F116>MAX('T1'!M116,'T2'!K116),MAX('T1'!M116,'T2'!K116),COUNTRY_INFO!F116),0)))","v":0},{"$f":"IF(AND(COUNTRY_INFO!K116>0,COUNTRY_INFO!K116<4),IF(Z116>0,IF(COUNTRY_INFO!K116=1, AD116/(COUNTRY_INFO!F116*0.33)*100, IF(COUNTRY_INFO!K116=2, AD116/(COUNTRY_INFO!F116*0.5)*100, IF(COUNTRY_INFO!K116=3, AD116/COUNTRY_INFO!F116*100))),\"-\"),0)","v":0},{"$f":"IF(COUNTRY_INFO!K116=2,IF(COUNTRY_INFO!G116*0.2>MAX('T1'!N116,'T2'!L116),MAX('T1'!N116,'T2'!L116),COUNTRY_INFO!G116*0.2),IF(COUNTRY_INFO!K116=3,IF(COUNTRY_INFO!G116>MAX('T1'!N116,'T2'!L116),MAX('T1'!N116,'T2'!L116),COUNTRY_INFO!G116),0))","v":0},{"$f":"IF(AND(COUNTRY_INFO!K116>0,COUNTRY_INFO!K116<4),IF(Z116>0,IF(COUNTRY_INFO!K116=1, 0, IF(COUNTRY_INFO!K116=2, AF116/(COUNTRY_INFO!G116*0.2)*100, IF(COUNTRY_INFO!K116=3, AF116/COUNTRY_INFO!G116*100))),\"-\"),0)","v":0},0,{"$f":"IF(AND(COUNTRY_INFO!K116>0,COUNTRY_INFO!K116<4), IF(AC116/Z116*100<>0, IF(AH116/Z116*100>100,100,AH116/Z116*100), \"-\"),0)","v":"-"},null,{"$f":"IF(AND(D116<>0, D116<>\"Unknown\",D116<>\"Stopped\",D116<>\"Not required\"),D116/COUNTRY_INFO!D116, 0)","v":0},{"$f":"IF(AND(J116<>0,J116<>\"Unknown\",J116<>\"Stopped\",J116<>\"Not required\"),J116/COUNTRY_INFO!D116, 0)","v":0},{"$f":"IF(AND(P116<>0,P116<>\"Unknown\",P116<>\"Not required\"),P116/(COUNTRY_INFO!E116+COUNTRY_INFO!F116), 0)","v":1},{"$f":"IF(AND(Z116<>0,Z116<>\"Unknown\",Z116<>\"Not required\"),IF(COUNTRY_INFO!K116=1,1,IF(COUNTRY_INFO!K116=2,0.5*COUNTRY_INFO!F116/(0.5*COUNTRY_INFO!F116+0.2*COUNTRY_INFO!G116),IF(COUNTRY_INFO!K116=3,COUNTRY_INFO!F116/(COUNTRY_INFO!F116+COUNTRY_INFO!G116)))),0)","v":0.5185955716538716},{"$f":"IF(AND(Z116<>0,Z116<>\"Unknown\",Z116<>\"Not required\"),IF(COUNTRY_INFO!K116=1,0,IF(COUNTRY_INFO!K116=2,0.2*COUNTRY_INFO!G116/(0.5*COUNTRY_INFO!F116+0.2*COUNTRY_INFO!G116),IF(COUNTRY_INFO!K116=3,COUNTRY_INFO!G116/(COUNTRY_INFO!F116+COUNTRY_INFO!G116)))),0)","v":0.48140442834612845},{"$f":"MAX(COUNTRY_INFO!D116*AK116*PROFILE!$G$7,COUNTRY_INFO!D116*AL116*PROFILE!$G$7)","v":0},{"$f":"MAX(COUNTRY_INFO!D116*AK116*PROFILE!$G$8,COUNTRY_INFO!D116*AL116*PROFILE!$G$8,COUNTRY_INFO!D116*AM116*PROFILE!$G$8)","v":53615.295635201655},{"$f":"MAX(COUNTRY_INFO!D116*AK116*PROFILE!$G$9,COUNTRY_INFO!D116*AL116*PROFILE!$G$9,COUNTRY_INFO!D116*AM116*PROFILE!$G$9,IF(AND(DISTRICT!Z116<>\"Unknown\",Z116<>\"Not required\"),COUNTRY_INFO!O116*DISTRICT!AN116,0))","v":93432.741003056552},{"$f":"MAX(COUNTRY_INFO!D116*AK116*PROFILE!$G$10,COUNTRY_INFO!D116*AL116*PROFILE!$G$10,IF(AND(DISTRICT!Z116<>\"Unknown\",Z116<>\"Not required\"),COUNTRY_INFO!O116*DISTRICT!AO116,0))","v":50598.488132849256},197646.52477110745,0,{"$f":"MAX('MDA2'!J116,'T1'!L116,'T2'!J116,T3_R1!K116,T3_R2!K116)","v":0},{"$f":"MAX('MDA1'!K116,'MDA2'!K116,'MDA3'!I116,'MDA3'!L116,'T1'!M116,'T2'!K116,T3_R1!L116,T3_R2!L116)","v":0},{"$f":"MAX('MDA1'!L116,'MDA2'!L116,'MDA3'!J116,'MDA3'!M116,'T1'!N116,'T2'!L116,T3_R1!M116,T3_R2!M116)","v":0},0,{"$f":"MAX('MDA2'!J116,T116)","v":0},{"$f":"MAX('MDA1'!K116,'MDA2'!K116,'MDA3'!I116,'MDA3'!L116,V116,AD116)","v":0},{"$f":"MAX('MDA1'!L116,'MDA2'!L116,'MDA3'!J116,'MDA3'!M116,AF116)","v":0},0,0]
[{"$f":"IF(COUNTRY_INFO!A117=0,\" \",COUNTRY_INFO!A117)","v":"Tanzania"},{"$f":"IF(COUNTRY_INFO!B117=0,\" \",COUNTRY_INFO!B117)","v":"Mwanza"},{"$f":"IF(COUNTRY_INFO!C117=0,\" \",COUNTRY_INFO!C117)","v":"Ilemela Municipal Council"},{"$f":"COUNTRY_INFO!L117","v":0},null,null,{"$f":"MAX('MDA1'!M117,'MDA2'!M117)","v":0},{"$f":"IF(AND(COUNTRY_INFO!H117>0,COUNTRY_INFO!H117<4),IF(D117>MAX('MDA1'!M117,'MDA2'!M117),MAX('MDA1'!M117,'MDA2'!M117),D117),0)","v":0},{"$f":"IF(AND(COUNTRY_INFO!H117>0,COUNTRY_INFO!H117<4), IF(G117/D117*100<>0, IF(G117/D117*100>100,100,G117/D117*100), \"-\"),0)","v":0},{"$f":"COUNTRY_INFO!M117","v":0},null,null,{"$f":"MAX('MDA1'!M117,MAX('MDA3'!I117,'MDA3'!L117)+MAX('MDA3'!J117,'MDA3'!M117))","v":0},{"$f":"IF(AND(COUNTRY_INFO!I117>0,COUNTRY_INFO!I117<4),IF(J117>MAX('MDA1'!M117,MAX('MDA3'!I117,'MDA3'!L117)+MAX('MDA3'!J117,'MDA3'!M117)),MAX('MDA1'!M117,MAX('MDA3'!I117,'MDA3'!L117)+MAX('MDA3'!J117,'MDA3'!M117)),J117),0)","v":0},{"$f":"IF(AND(COUNTRY_INFO!I117>0,COUNTRY_INFO!I117<4), IF(M117/J117*100<>0, IF(M117/J117*100>100,100,M117/J117*100), \"-\"),0)","v":0},{"$f":"COUNTRY_INFO!N117","v":153692},null,null,{"$f":"SUM(MAX('MDA2'!J117, 'T1'!L117, MAX(T3_R1!K117, T3_R2!K117)), MAX('MDA1'!K117, 'MDA2'!K117, 'T1'!M117, MAX(T3_R1!L117, T3_R2!L117)), MAX('MDA1'!L117, 'MDA2'!L117, 'T1'!N117, MAX(T3_R1!M117, T3_R2!M117)))","v":0},{"$f":"IF(AND(COUNTRY_INFO!J117>1,COUNTRY_INFO!J117<4),IF(COUNTRY_INFO!E117>MAX('MDA2'!J117,'T1'!L117,MAX(T3_R1!K117,T3_R2!K117)),MAX('MDA2'!J117,'T1'!L117,MAX(T3_R1!K117,T3_R2!K117)),COUNTRY_INFO!E117),0)","v":0},{"$f":"IF(AND(COUNTRY_INFO!J117>1,COUNTRY_INFO!J117<4), IF(T117/COUNTRY_INFO!E117*100<>0, IF(T117/COUNTRY_INFO!E117*100>100,100,T117/COUNTRY_INFO!E117*100), \"-\"),0)","v":"-"},{"$f":"IF(AND(COUNTRY_INFO!J117>1,COUNTRY_INFO!J117<4),IF(COUNTRY_INFO!F117>MAX('MDA1'!K117,'MDA2'!K117,'T1'!M117,MAX(T3_R1!L117,T3_R2!L117)),MAX('MDA1'!K117,'MDA2'!K117,'T1'!M117,MAX(T3_R1!L117,T3_R2!L117)),COUNTRY_INFO!F117),0)","v":0},{"$f":"IF(AND(COUNTRY_INFO!J117>1,COUNTRY_INFO!J117<4), IF(V117/COUNTRY_INFO!F117*100<>0, IF(V117/COUNTRY_INFO!F117*100>100,100,V117/COUNTRY_INFO!F117*100), \"-\"),0)","v":"-"},0,{"$f":"IF(AND(COUNTRY_INFO!J117>1,COUNTRY_INFO!J117<4), IF(S117/P117*100<>0, IF(X117/P117*100>100,100,X117/P117*100), \"-\"),0)","v":"-"},{"$f":"COUNTRY_INFO!O117","v":105042.13906989264},null,null,{"$f":"MAX('T1'!L117,'T2'!J117)+MAX('T1'!M117,'T2'!K117)+MAX('T1'!N117,'T2'!L117)","v":0},{"$f":"IF(COUNTRY_INFO!K117=1,IF(COUNTRY_INFO!F117*0.33>MAX('T1'!M117,'T2'!K117),MAX('T1'!M117,'T2'!K117),COUNTRY_INFO!F117*0.33),IF(COUNTRY_INFO!K117=2,IF(COUNTRY_INFO!F117*0.5>MAX('T1'!M117,'T2'!K117),MAX('T1'!M117,'T2'!K117),COUNTRY_INFO!F117*0.5),IF(COUNTRY_INFO!K117=3,IF(COUNTRY_INFO!F117>MAX('T1'!M117,'T2'!K117),MAX('T1'!M117,'T2'!K117),COUNTRY_INFO!F117),0)))","v":0},{"$f":"IF(AND(COUNTRY_INFO!K117>0,COUNTRY_INFO!K117<4),IF(Z117>0,IF(COUNTRY_INFO!K117=1, AD117/(COUNTRY_INFO!F117*0.33)*100, IF(COUNTRY_INFO!K117=2, AD117/(COUNTRY_INFO!F117*0.5)*100, IF(COUNTRY_INFO!K117=3, AD117/COUNTRY_INFO!F117*100))),\"-\"),0)","v":0},{"$f":"IF(COUNTRY_INFO!K117=2,IF(COUNTRY_INFO!G117*0.2>MAX('T1'!N117,'T2'!L117),MAX('T1'!N117,'T2'!L117),COUNTRY_INFO!G117*0.2),IF(COUNTRY_INFO!K117=3,IF(COUNTRY_INFO!G117>MAX('T1'!N117,'T2'!L117),MAX('T1'!N117,'T2'!L117),COUNTRY_INFO!G117),0))","v":0},{"$f":"IF(AND(COUNTRY_INFO!K117>0,COUNTRY_INFO!K117<4),IF(Z117>0,IF(COUNTRY_INFO!K117=1, 0, IF(COUNTRY_INFO!K117=2, AF117/(COUNTRY_INFO!G117*0.2)*100, IF(COUNTRY_INFO!K117=3, AF117/COUNTRY_INFO!G117*100))),\"-\"),0)","v":0},0,{"$f":"IF(AND(COUNTRY_INFO!K117>0,COUNTRY_INFO!K117<4), IF(AC117/Z117*100<>0, IF(AH117/Z117*100>100,100,AH117/Z117*100), \"-\"),0)","v":"-"},null,{"$f":"IF(AND(D117<>0, D117<>\"Unknown\",D117<>\"Stopped\",D117<>\"Not required\"),D117/COUNTRY_INFO!D117, 0)","v":0},{"$f":"IF(AND(J117<>0,J117<>\"Unknown\",J117<>\"Stopped\",J117<>\"Not required\"),J117/COUNTRY_INFO!D117, 0)","v":0},{"$f":"IF(AND(P117<>0,P117<>\"Unknown\",P117<>\"Not required\"),P117/(COUNTRY_INFO!E117+COUNTRY_INFO!F117), 0)","v":1},{"$f":"IF(AND(Z117<>0,Z117<>\"Unknown\",Z117<>\"Not required\"),IF(COUNTRY_INFO!K117=1,1,IF(COUNTRY_INFO!K117=2,0.5*COUNTRY_INFO!F117/(0.5*COUNTRY_INFO!F117+0.2*COUNTRY_INFO!G117),IF(COUNTRY_INFO!K117=3,COUNTRY_INFO!F117/(COUNTRY_INFO!F117+COUNTRY_INFO!G117)))),0)","v":0.4645040593426471},{"$f":"IF(AND(Z117<>0,Z117<>\"Unknown\",Z117<>\"Not required\"),IF(COUNTRY_INFO!K117=1,0,IF(COUNTRY_INFO!K117=2,0.2*COUNTRY_INFO!G117/(0.5*COUNTRY_INFO!F117+0.2*COUNTRY_INFO!G117),IF(COUNTRY_INFO!K117=3,COUNTRY_INFO!G117/(COUNTRY_INFO!F117+COUNTRY_INFO!G117)))),0)","v":0.53549594065735295},{"$f":"MAX(COUNTRY_INFO!D117*AK117*PROFILE!$G$7,COUNTRY_INFO!D117*AL117*PROFILE!$G$7)","v":0},{"$f":"MAX(COUNTRY_INFO!D117*AK117*PROFILE!$G$8,COUNTRY_INFO!D117*AL117*PROFILE!$G$8,COUNTRY_INFO!D117*AM117*PROFILE!$G$8)","v":56107.286026290531},{"$f":"MAX(COUNTRY_INFO!D117*AK117*PROFILE!$G$9,COUNTRY_INFO!D117*AL117*PROFILE!$G$9,COUNTRY_INFO!D117*AM117*PROFILE!$G$9,IF(AND(DISTRICT!Z117<>\"Unknown\",Z117<>\"Not required\"),COUNTRY_INFO!O117*DISTRICT!AN117,0))","v":97775.41019911789},{"$f":"MAX(COUNTRY_INFO!D117*AK117*PROFILE!$G$10,COUNTRY_INFO!D117*AL117*PROFILE!$G$10,IF(AND(DISTRICT!Z117<>\"Unknown\",Z117<>\"Not required\"),COUNTRY_INFO!O117*DISTRICT!AO117,0))","v":56249.639069892648},210132.33529530105,0,{"$f":"MAX('MDA2'!J117,'T1'!L117,'T2'!J117,T3_R1!K117,T3_R2!K117)","v":0},{"$f":"MAX('MDA1'!K117,'MDA2'!K117,'MDA3'!I117,'MDA3'!L117,'T1'!M117,'T2'!K117,T3_R1!L117,T3_R2!L117)","v":0},{"$f":"MAX('MDA1'!L117,'MDA2'!L117,'MDA3'!J117,'MDA3'!M117,'T1'!N117,'T2'!L117,T3_R1!M117,T3_R2!M117)","v":0},0,{"$f":"MAX('MDA2'!J117,T117)","v":0},{"$f":"MAX('MDA1'!K117,'MDA2'!K117,'MDA3'!I117,'MDA3'!L117,V117,AD117)","v":0},{"$f":"MAX('MDA1'!L117,'MDA2'!L117,'MDA3'!J117,'MDA3'!M117,AF117)","v":0},0,0]
[{"$f":"IF(COUNTRY_INFO!A118=0,\" \",COUNTRY_INFO!A118)","v":"Tanzania"},{"$f":"IF(COUNTRY_INFO!B118=0,\" \",COUNTRY_INFO!B118)","v":"Mwanza"},{"$f":"IF(COUNTRY_INFO!C118=0,\" \",COUNTRY_INFO!C118)","v":"Kwimba District Council"},{"$f":"COUNTRY_INFO!L118","v":0},null,null,{"$f":"MAX('MDA1'!M118,'MDA2'!M118)","v":0},{"$f":"IF(AND(COUNTRY_INFO!H118>0,COUNTRY_INFO!H118<4),IF(D118>MAX('MDA1'!M118,'MDA2'!M118),MAX('MDA1'!M118,'MDA2'!M118),D118),0)","v":0},{"$f":"IF(AND(COUNTRY_INFO!H118>0,COUNTRY_INFO!H118<4), IF(G118/D118*100<>0, IF(G118/D118*100>100,100,G118/D118*100), \"-\"),0)","v":0},{"$f":"COUNTRY_INFO!M118","v":0},null,null,{"$f":"MAX('MDA1'!M118,MAX('MDA3'!I118,'MDA3'!L118)+MAX('MDA3'!J118,'MDA3'!M118))","v":0},{"$f":"IF(AND(COUNTRY_INFO!I118>0,COUNTRY_INFO!I118<4),IF(J118>MAX('MDA1'!M118,MAX('MDA3'!I118,'MDA3'!L118)+MAX('MDA3'!J118,'MDA3'!M118)),MAX('MDA1'!M118,MAX('MDA3'!I118,'MDA3'!L118)+MAX('MDA3'!J118,'MDA3'!M118)),J118),0)","v":0},{"$f":"IF(AND(COUNTRY_INFO!I118>0,COUNTRY_INFO!I118<4), IF(M118/J118*100<>0, IF(M118/J118*100>100,100,M118/J118*100), \"-\"),0)","v":0},{"$f":"COUNTRY_INFO!N118","v":184255},null,null,{"$f":"SUM(MAX('MDA2'!J118, 'T1'!L118, MAX(T3_R1!K118, T3_R2!K118)), MAX('MDA1'!K118, 'MDA2'!K118, 'T1'!M118, MAX(T3_R1!L118, T3_R2!L118)), MAX('MDA1'!L118, 'MDA2'!L118, 'T1'!N118, MAX(T3_R1!M118, T3_R2!M118)))","v":0},{"$f":"IF(AND(COUNTRY_INFO!J118>1,COUNTRY_INFO!J118<4),IF(COUNTRY_INFO!E118>MAX('MDA2'!J118,'T1'!L118,MAX(T3_R1!K118,T3_R2!K118)),MAX('MDA2'!J118,'T1'!L118,MAX(T3_R1!K118,T3_R2!K118)),COUNTRY_INFO!E118),0)","v":0},{"$f":"IF(AND(COUNTRY_INFO!J118>1,COUNTRY_INFO!J118<4), IF(T118/COUNTRY_INFO!E118*100<>0, IF(T118/COUNTRY_INFO!E118*100>100,100,T118/COUNTRY_INFO!E118*100), \"-\"),0)","v":"-"},{"$f":"IF(AND(COUNTRY_INFO!J118>1,COUNTRY_INFO!J118<4),IF(COUNTRY_INFO!F118>MAX('MDA1'!K118,'MDA2'!K118,'T1'!M118,MAX(T3_R1!L118,T3_R2!L118)),MAX('MDA1'!K118,'MDA2'!K118,'T1'!M118,MAX(T3_R1!L118,T3_R2!L118)),COUNTRY_INFO!F118),0)","v":0},{"$f":"IF(AND(COUNTRY_INFO!J118>1,COUNTRY_INFO!J118<4), IF(V118/COUNTRY_INFO!F118*100<>0, IF(V118/COUNTRY_INFO!F118*100>100,100,V118/COUNTRY_INFO!F118*100), \"-\"),0)","v":"-"},0,{"$f":"IF(AND(COUNTRY_INFO!J118>1,COUNTRY_INFO!J118<4), IF(S118/P118*100<>0, IF(X118/P118*100>100,100,X118/P118*100), \"-\"),0)","v":"-"},{"$f":"COUNTRY_INFO!O118","v":448975.95119755832},null,null,{"$f":"MAX('T1'!L118,'T2'!J118)+MAX('T1'!M118,'T2'!K118)+MAX('T1'!N118,'T2'!L118)","v":0},{"$f":"IF(COUNTRY_INFO!K118=1,IF(COUNTRY_INFO!F118*0.33>MAX('T1'!M118,'T2'!K118),MAX('T1'!M118,'T2'!K118),COUNTRY_INFO!F118*0.33),IF(COUNTRY_INFO!K118=2,IF(COUNTRY_INFO!F118*0.5>MAX('T1'!M118,'T2'!K118),MAX('T1'!M118,'T2'!K118),COUNTRY_INFO!F118*0.5),IF(COUNTRY_INFO!K118=3,IF(COUNTRY_INFO!F118>MAX('T1'!M118,'T2'!K118),MAX('T1'!M118,'T2'!K118),COUNTRY_INFO!F118),0)))","v":0},{"$f":"IF(AND(COUNTRY_INFO!K118>0,COUNTRY_INFO!K118<4),IF(Z118>0,IF(COUNTRY_INFO!K118=1, AD118/(COUNTRY_INFO!F118*0.33)*100, IF(COUNTRY_INFO!K118=2, AD118/(COUNTRY_INFO!F118*0.5)*100, IF(COUNTRY_INFO!K118=3, AD118/COUNTRY_INFO!F118*100))),\"-\"),0)","v":0},{"$f":"IF(COUNTRY_INFO!K118=2,IF(COUNTRY_INFO!G118*0.2>MAX('T1'!N118,'T2'!L118),MAX('T1'!N118,'T2'!L118),COUNTRY_INFO!G118*0.2),IF(COUNTRY_INFO!K118=3,IF(COUNTRY_INFO!G118>MAX('T1'!N118,'T2'!L118),MAX('T1'!N118,'T2'!L118),COUNTRY_INFO!G118),0))","v":0},{"$f":"IF(AND(COUNTRY_INFO!K118>0,COUNTRY_INFO!K118<4),IF(Z118>0,IF(COUNTRY_INFO!K118=1, 0, IF(COUNTRY_INFO!K118=2, AF118/(COUNTRY_INFO!G118*0.2)*100, IF(COUNTRY_INFO!K118=3, AF118/COUNTRY_INFO!G118*100))),\"-\"),0)","v":0},0,{"$f":"IF(AND(COUNTRY_INFO!K118>0,COUNTRY_INFO!K118<4), IF(AC118/Z118*100<>0, IF(AH118/Z118*100>100,100,AH118/Z118*100), \"-\"),0)","v":"-"},null,{"$f":"IF(AND(D118<>0, D118<>\"Unknown\",D118<>\"Stopped\",D118<>\"Not required\"),D118/COUNTRY_INFO!D118, 0)","v":0},{"$f":"IF(AND(J118<>0,J118<>\"Unknown\",J118<>\"Stopped\",J118<>\"Not required\"),J118/COUNTRY_INFO!D118, 0)","v":0},{"$f":"IF(AND(P118<>0,P118<>\"Unknown\",P118<>\"Not required\"),P118/(COUNTRY_INFO!E118+COUNTRY_INFO!F118), 0)","v":1},{"$f":"IF(AND(Z118<>0,Z118<>\"Unknown\",Z118<>\"Not required\"),IF(COUNTRY_INFO!K118=1,1,IF(COUNTRY_INFO!K118=2,0.5*COUNTRY_INFO!F118/(0.5*COUNTRY_INFO!F118+0.2*COUNTRY_INFO!G118),IF(COUNTRY_INFO!K118=3,COUNTRY_INFO!F118/(COUNTRY_INFO!F118+COUNTRY_INFO!G118)))),0)","v":0.26228353586845837},{"$f":"IF(AND(Z118<>0,Z118<>\"Unknown\",Z118<>\"Not required\"),IF(COUNTRY_INFO!K118=1,0,IF(COUNTRY_INFO!K118=2,0.2*COUNTRY_INFO!G118/(0.5*COUNTRY_INFO!F118+0.2*COUNTRY_INFO!G118),IF(COUNTRY_INFO!K118=3,COUNTRY_INFO!G118/(COUNTRY_INFO!F118+COUNTRY_INFO!G118)))),0)","v":0.73771646413154168},{"$f":"MAX(COUNTRY_INFO!D118*AK118*PROFILE!$G$7,COUNTRY_INFO!D118*AL118*PROFILE!$G$7)","v":0},{"$f":"MAX(COUNTRY_INFO!D118*AK118*PROFILE!$G$8,COUNTRY_INFO!D118*AL118*PROFILE!$G$8,COUNTRY_INFO!D118*AM118*PROFILE!$G$8)","v":66495.882683672447},{"$f":"MAX(COUNTRY_INFO!D118*AK118*PROFILE!$G$9,COUNTRY_INFO!D118*AL118*PROFILE!$G$9,COUNTRY_INFO!D118*AM118*PROFILE!$G$9,IF(AND(DISTRICT!Z118<>\"Unknown\",Z118<>\"Not required\"),COUNTRY_INFO!O118*DISTRICT!AN118,0))","v":117759},{"$f":"MAX(COUNTRY_INFO!D118*AK118*PROFILE!$G$10,COUNTRY_INFO!D118*AL118*PROFILE!$G$10,IF(AND(DISTRICT!Z118<>\"Unknown\",Z118<>\"Not required\"),COUNTRY_INFO!O118*DISTRICT!AO118,0))","v":331216.95119755832},515471.83388123079,0,{"$f":"MAX('MDA2'!J118,'T1'!L118,'T2'!J118,T3_R1!K118,T3_R2!K118)","v":0},{"$f":"MAX('MDA1'!K118,'MDA2'!K118,'MDA3'!I118,'MDA3'!L118,'T1'!M118,'T2'!K118,T3_R1!L118,T3_R2!L118)","v":0},{"$f":"MAX('MDA1'!L118,'MDA2'!L118,'MDA3'!J118,'MDA3'!M118,'T1'!N118,'T2'!L118,T3_R1!M118,T3_R2!M118)","v":0},0,{"$f":"MAX('MDA2'!J118,T118)","v":0},{"$f":"MAX('MDA1'!K118,'MDA2'!K118,'MDA3'!I118,'MDA3'!L118,V118,AD118)","v":0},{"$f":"MAX('MDA1'!L118,'MDA2'!L118,'MDA3'!J118,'MDA3'!M118,AF118)","v":0},0,0]
[{"$f":"IF(COUNTRY_INFO!A119=0,\" \",COUNTRY_INFO!A119)","v":"Tanzania"},{"$f":"IF(COUNTRY_INFO!B119=0,\" \",COUNTRY_INFO!B119)","v":"Mwanza"},{"$f":"IF(COUNTRY_INFO!C119=0,\" \",COUNTRY_INFO!C119)","v":"Magu District Council"},{"$f":"COUNTRY_INFO!L119","v":0},null,null,{"$f":"MAX('MDA1'!M119,'MDA2'!M119)","v":0},{"$f":"IF(AND(COUNTRY_INFO!H119>0,COUNTRY_INFO!H119<4),IF(D119>MAX('MDA1'!M119,'MDA2'!M119),MAX('MDA1'!M119,'MDA2'!M119),D119),0)","v":0},{"$f":"IF(AND(COUNTRY_INFO!H119>0,COUNTRY_INFO!H119<4), IF(G119/D119*100<>0, IF(G119/D119*100>100,100,G119/D119*100), \"-\"),0)","v":0},{"$f":"COUNTRY_INFO!M119","v":0},null,null,{"$f":"MAX('MDA1'!M119,MAX('MDA3'!I119,'MDA3'!L119)+MAX('MDA3'!J119,'MDA3'!M119))","v":0},{"$f":"IF(AND(COUNTRY_INFO!I119>0,COUNTRY_INFO!I119<4),IF(J119>MAX('MDA1'!M119,MAX('MDA3'!I119,'MDA3'!L119)+MAX('MDA3'!J119,'MDA3'!M119)),MAX('MDA1'!M119,MAX('MDA3'!I119,'MDA3'!L119)+MAX('MDA3'!J119,'MDA3'!M119)),J119),0)","v":0},{"$f":"IF(AND(COUNTRY_INFO!I119>0,COUNTRY_INFO!I119<4), IF(M119/J119*100<>0, IF(M119/J119*100>100,100,M119/J119*100), \"-\"),0)","v":0},{"$f":"COUNTRY_INFO!N119","v":146619},null,null,{"$f":"SUM(MAX('MDA2'!J119, 'T1'!L119, MAX(T3_R1!K119, T3_R2!K119)), MAX('MDA1'!K119, 'MDA2'!K119, 'T1'!M119, MAX(T3_R1!L119, T3_R2!L119)), MAX('MDA1'!L119, 'MDA2'!L119, 'T1'!N119, MAX(T3_R1!M119, T3_R2!M119)))","v":0},{"$f":"IF(AND(COUNTRY_INFO!J119>1,COUNTRY_INFO!J119<4),IF(COUNTRY_INFO!E119>MAX('MDA2'!J119,'T1'!L119,MAX(T3_R1!K119,T3_R2!K119)),MAX('MDA2'!J119,'T1'!L119,MAX(T3_R1!K119,T3_R2!K119)),COUNTRY_INFO!E119),0)","v":0},{"$f":"IF(AND(COUNTRY_INFO!J119>1,COUNTRY_INFO!J119<4), IF(T119/COUNTRY_INFO!E119*100<>0, IF(T119/COUNTRY_INFO!E119*100>100,100,T119/COUNTRY_INFO!E119*100), \"-\"),0)","v":"-"},{"$f":"IF(AND(COUNTRY_INFO!J119>1,COUNTRY_INFO!J119<4),IF(COUNTRY_INFO!F119>MAX('MDA1'!K119,'MDA2'!K119,'T1'!M119,MAX(T3_R1!L119,T3_R2!L119)),MAX('MDA1'!K119,'MDA2'!K119,'T1'!M119,MAX(T3_R1!L119,T3_R2!L119)),COUNTRY_INFO!F119),0)","v":0},{"$f":"IF(AND(COUNTRY_INFO!J119>1,COUNTRY_INFO!J119<4), IF(V119/COUNTRY_INFO!F119*100<>0, IF(V119/COUNTRY_INFO!F119*100>100,100,V119/COUNTRY_INFO!F119*100), \"-\"),0)","v":"-"},0,{"$f":"IF(AND(COUNTRY_INFO!J119>1,COUNTRY_INFO!J119<4), IF(S119/P119*100<>0, IF(X119/P119*100>100,100,X119/P119*100), \"-\"),0)","v":"-"},{"$f":"COUNTRY_INFO!O119","v":331074.35742222879},null,null,{"$f":"MAX('T1'!L119,'T2'!J119)+MAX('T1'!M119,'T2'!K119)+MAX('T1'!N119,'T2'!L119)","v":0},{"$f":"IF(COUNTRY_INFO!K119=1,IF(COUNTRY_INFO!F119*0.33>MAX('T1'!M119,'T2'!K119),MAX('T1'!M119,'T2'!K119),COUNTRY_INFO!F119*0.33),IF(COUNTRY_INFO!K119=2,IF(COUNTRY_INFO!F119*0.5>MAX('T1'!M119,'T2'!K119),MAX('T1'!M119,'T2'!K119),COUNTRY_INFO!F119*0.5),IF(COUNTRY_INFO!K119=3,IF(COUNTRY_INFO!F119>MAX('T1'!M119,'T2'!K119),MAX('T1'!M119,'T2'!K119),COUNTRY_INFO!F119),0)))","v":0},{"$f":"IF(AND(COUNTRY_INFO!K119>0,COUNTRY_INFO!K119<4),IF(Z119>0,IF(COUNTRY_INFO!K119=1, AD119/(COUNTRY_INFO!F119*0.33)*100, IF(COUNTRY_INFO!K119=2, AD119/(COUNTRY_INFO!F119*0.5)*100, IF(COUNTRY_INFO!K119=3, AD119/COUNTRY_INFO!F119*100))),\"-\"),0)","v":0},{"$f":"IF(COUNTRY_INFO!K119=2,IF(COUNTRY_INFO!G119*0.2>MAX('T1'!N119,'T2'!L119),MAX('T1'!N119,'T2'!L119),COUNTRY_INFO!G119*0.2),IF(COUNTRY_INFO!K119=3,IF(COUNTRY_INFO!G119>MAX('T1'!N119,'T2'!L119),MAX('T1'!N119,'T2'!L119),COUNTRY_INFO!G119),0))","v":0},{"$f":"IF(AND(COUNTRY_INFO!K119>0,COUNTRY_INFO!K119<4),IF(Z119>0,IF(COUNTRY_INFO!K119=1, 0, IF(COUNTRY_INFO!K119=2, AF119/(COUNTRY_INFO!G119*0.2)*100, IF(COUNTRY_INFO!K119=3, AF119/COUNTRY_INFO!G119*100))),\"-\"),0)","v":0},0,{"$f":"IF(AND(COUNTRY_INFO!K119>0,COUNTRY_INFO!K119<4), IF(AC119/Z119*100<>0, IF(AH119/Z119*100>100,100,AH119/Z119*100), \"-\"),0)","v":"-"},null,{"$f":"IF(AND(D119<>0, D119<>\"Unknown\",D119<>\"Stopped\",D119<>\"Not required\"),D119/COUNTRY_INFO!D119, 0)","v":0},{"$f":"IF(AND(J119<>0,J119<>\"Unknown\",J119<>\"Stopped\",J119<>\"Not required\"),J119/COUNTRY_INFO!D119, 0)","v":0},{"$f":"IF(AND(P119<>0,P119<>\"Unknown\",P119<>\"Not required\"),P119/(COUNTRY_INFO!E119+COUNTRY_INFO!F119), 0)","v":1},{"$f":"IF(AND(Z119<>0,Z119<>\"Unknown\",Z119<>\"Not required\"),IF(COUNTRY_INFO!K119=1,1,IF(COUNTRY_INFO!K119=2,0.5*COUNTRY_INFO!F119/(0.5*COUNTRY_INFO!F119+0.2*COUNTRY_INFO!G119),IF(COUNTRY_INFO!K119=3,COUNTRY_INFO!F119/(COUNTRY_INFO!F119+COUNTRY_INFO!G119)))),0)","v":0.29475251650355694},{"$f":"IF(AND(Z119<>0,Z119<>\"Unknown\",Z119<>\"Not required\"),IF(COUNTRY_INFO!K119=1,0,IF(COUNTRY_INFO!K119=2,0.2*COUNTRY_INFO!G119/(0.5*COUNTRY_INFO!F119+0.2*COUNTRY_INFO!G119),IF(COUNTRY_INFO!K119=3,COUNTRY_INFO!G119/(COUNTRY_INFO!F119+COUNTRY_INFO!G119)))),0)","v":0.70524748349644306},{"$f":"MAX(COUNTRY_INFO!D119*AK119*PROFILE!$G$7,COUNTRY_INFO!D119*AL119*PROFILE!$G$7)","v":0},{"$f":"MAX(COUNTRY_INFO!D119*AK119*PROFILE!$G$8,COUNTRY_INFO!D119*AL119*PROFILE!$G$8,COUNTRY_INFO!D119*AM119*PROFILE!$G$8)","v":49033.978829519066},{"$f":"MAX(COUNTRY_INFO!D119*AK119*PROFILE!$G$9,COUNTRY_INFO!D119*AL119*PROFILE!$G$9,COUNTRY_INFO!D119*AM119*PROFILE!$G$9,IF(AND(DISTRICT!Z119<>\"Unknown\",Z119<>\"Not required\"),COUNTRY_INFO!O119*DISTRICT!AN119,0))","v":97585},{"$f":"MAX(COUNTRY_INFO!D119*AK119*PROFILE!$G$10,COUNTRY_INFO!D119*AL119*PROFILE!$G$10,IF(AND(DISTRICT!Z119<>\"Unknown\",Z119<>\"Not required\"),COUNTRY_INFO!O119*DISTRICT!AO119,0))","v":233489.35742222879},380108.33625174785,0,{"$f":"MAX('MDA2'!J119,'T1'!L119,'T2'!J119,T3_R1!K119,T3_R2!K119)","v":0},{"$f":"MAX('MDA1'!K119,'MDA2'!K119,'MDA3'!I119,'MDA3'!L119,'T1'!M119,'T2'!K119,T3_R1!L119,T3_R2!L119)","v":0},{"$f":"MAX('MDA1'!L119,'MDA2'!L119,'MDA3'!J119,'MDA3'!M119,'T1'!N119,'T2'!L119,T3_R1!M119,T3_R2!M119)","v":0},0,{"$f":"MAX('MDA2'!J119,T119)","v":0},{"$f":"MAX('MDA1'!K119,'MDA2'!K119,'MDA3'!I119,'MDA3'!L119,V119,AD119)","v":0},{"$f":"MAX('MDA1'!L119,'MDA2'!L119,'MDA3'!J119,'MDA3'!M119,AF119)","v":0},0,0]
[{"$f":"IF(COUNTRY_INFO!A120=0,\" \",COUNTRY_INFO!A120)","v":"Tanzania"},{"$f":"IF(COUNTRY_INFO!B120=0,\" \",COUNTRY_INFO!B120)","v":"Mwanza"},{"$f":"IF(COUNTRY_INFO!C120=0,\" \",COUNTRY_INFO!C120)","v":"Misungwi District Council"},{"$f":"COUNTRY_INFO!L120","v":0},null,null,{"$f":"MAX('MDA1'!M120,'MDA2'!M120)","v":0},{"$f":"IF(AND(COUNTRY_INFO!H120>0,COUNTRY_INFO!H120<4),IF(D120>MAX('MDA1'!M120,'MDA2'!M120),MAX('MDA1'!M120,'MDA2'!M120),D120),0)","v":0},{"$f":"IF(AND(COUNTRY_INFO!H120>0,COUNTRY_INFO!H120<4), IF(G120/D120*100<>0, IF(G120/D120*100>100,100,G120/D120*100), \"-\"),0)","v":0},{"$f":"COUNTRY_INFO!M120","v":0},null,null,{"$f":"MAX('MDA1'!M120,MAX('MDA3'!I120,'MDA3'!L120)+MAX('MDA3'!J120,'MDA3'!M120))","v":0},{"$f":"IF(AND(COUNTRY_INFO!I120>0,COUNTRY_INFO!I120<4),IF(J120>MAX('MDA1'!M120,MAX('MDA3'!I120,'MDA3'!L120)+MAX('MDA3'!J120,'MDA3'!M120)),MAX('MDA1'!M120,MAX('MDA3'!I120,'MDA3'!L120)+MAX('MDA3'!J120,'MDA3'!M120)),J120),0)","v":0},{"$f":"IF(AND(COUNTRY_INFO!I120>0,COUNTRY_INFO!I120<4), IF(M120/J120*100<>0, IF(M120/J120*100>100,100,M120/J120*100), \"-\"),0)","v":0},{"$f":"COUNTRY_INFO!N120","v":162500},null,null,{"$f":"SUM(MAX('MDA2'!J120, 'T1'!L120, MAX(T3_R1!K120, T3_R2!K120)), MAX('MDA1'!K120, 'MDA2'!K120, 'T1'!M120, MAX(T3_R1!L120, T3_R2!L120)), MAX('MDA1'!L120, 'MDA2'!L120, 'T1'!N120, MAX(T3_R1!M120, T3_R2!M120)))","v":0},{"$f":"IF(AND(COUNTRY_INFO!J120>1,COUNTRY_INFO!J120<4),IF(COUNTRY_INFO!E120>MAX('MDA2'!J120,'T1'!L120,MAX(T3_R1!K120,T3_R2!K120)),MAX('MDA2'!J120,'T1'!L120,MAX(T3_R1!K120,T3_R2!K120)),COUNTRY_INFO!E120),0)","v":0},{"$f":"IF(AND(COUNTRY_INFO!J120>1,COUNTRY_INFO!J120<4), IF(T120/COUNTRY_INFO!E120*100<>0, IF(T120/COUNTRY_INFO!E120*100>100,100,T120/COUNTRY_INFO!E120*100), \"-\"),0)","v":"-"},{"$f":"IF(AND(COUNTRY_INFO!J120>1,COUNTRY_INFO!J120<4),IF(COUNTRY_INFO!F120>MAX('MDA1'!K120,'MDA2'!K120,'T1'!M120,MAX(T3_R1!L120,T3_R2!L120)),MAX('MDA1'!K120,'MDA2'!K120,'T1'!M120,MAX(T3_R1!L120,T3_R2!L120)),COUNTRY_INFO!F120),0)","v":0},{"$f":"IF(AND(COUNTRY_INFO!J120>1,COUNTRY_INFO!J120<4), IF(V120/COUNTRY_INFO!F120*100<>0, IF(V120/COUNTRY_INFO!F120*100>100,100,V120/COUNTRY_INFO!F120*100), \"-\"),0)","v":"-"},0,{"$f":"IF(AND(COUNTRY_INFO!J120>1,COUNTRY_INFO!J120<4), IF(S120/P120*100<>0, IF(X120/P120*100>100,100,X120/P120*100), \"-\"),0)","v":"-"},{"$f":"COUNTRY_INFO!O120","v":388337.74172410782},null,null,{"$f":"MAX('T1'!L120,'T2'!J120)+MAX('T1'!M120,'T2'!K120)+MAX('T1'!N120,'T2'!L120)","v":0},{"$f":"IF(COUNTRY_INFO!K120=1,IF(COUNTRY_INFO!F120*0.33>MAX('T1'!M120,'T2'!K120),MAX('T1'!M120,'T2'!K120),COUNTRY_INFO!F120*0.33),IF(COUNTRY_INFO!K120=2,IF(COUNTRY_INFO!F120*0.5>MAX('T1'!M120,'T2'!K120),MAX('T1'!M120,'T2'!K120),COUNTRY_INFO!F120*0.5),IF(COUNTRY_INFO!K120=3,IF(COUNTRY_INFO!F120>MAX('T1'!M120,'T2'!K120),MAX('T1'!M120,'T2'!K120),COUNTRY_INFO!F120),0)))","v":0},{"$f":"IF(AND(COUNTRY_INFO!K120>0,COUNTRY_INFO!K120<4),IF(Z120>0,IF(COUNTRY_INFO!K120=1, AD120/(COUNTRY_INFO!F120*0.33)*100, IF(COUNTRY_INFO!K120=2, AD120/(COUNTRY_INFO!F120*0.5)*100, IF(COUNTRY_INFO!K120=3, AD120/COUNTRY_INFO!F120*100))),\"-\"),0)","v":0},{"$f":"IF(COUNTRY_INFO!K120=2,IF(COUNTRY_INFO!G120*0.2>MAX('T1'!N120,'T2'!L120),MAX('T1'!N120,'T2'!L120),COUNTRY_INFO!G120*0.2),IF(COUNTRY_INFO!K120=3,IF(COUNTRY_INFO!G120>MAX('T1'!N120,'T2'!L120),MAX('T1'!N120,'T2'!L120),COUNTRY_INFO!G120),0))","v":0},{"$f":"IF(AND(COUNTRY_INFO!K120>0,COUNTRY_INFO!K120<4),IF(Z120>0,IF(COUNTRY_INFO!K120=1, 0, IF(COUNTRY_INFO!K120=2, AF120/(COUNTRY_INFO!G120*0.2)*100, IF(COUNTRY_INFO!K120=3, AF120/COUNTRY_INFO!G120*100))),\"-\"),0)","v":0},0,{"$f":"IF(AND(COUNTRY_INFO!K120>0,COUNTRY_INFO!K120<4), IF(AC120/Z120*100<>0, IF(AH120/Z120*100>100,100,AH120/Z120*100), \"-\"),0)","v":"-"},null,{"$f":"IF(AND(D120<>0, D120<>\"Unknown\",D120<>\"Stopped\",D120<>\"Not required\"),D120/COUNTRY_INFO!D120, 0)","v":0},{"$f":"IF(AND(J120<>0,J120<>\"Unknown\",J120<>\"Stopped\",J120<>\"Not required\"),J120/COUNTRY_INFO!D120, 0)","v":0},{"$f":"IF(AND(P120<>0,P120<>\"Unknown\",P120<>\"Not required\"),P120/(COUNTRY_INFO!E120+COUNTRY_INFO!F120), 0)","v":1},{"$f":"IF(AND(Z120<>0,Z120<>\"Unknown\",Z120<>\"Not required\"),IF(COUNTRY_INFO!K120=1,1,IF(COUNTRY_INFO!K120=2,0.5*COUNTRY_INFO!F120/(0.5*COUNTRY_INFO!F120+0.2*COUNTRY_INFO!G120),IF(COUNTRY_INFO!K120=3,COUNTRY_INFO!F120/(COUNTRY_INFO!F120+COUNTRY_INFO!G120)))),0)","v":0.2703445705119899},{"$f":"IF(AND(Z120<>0,Z120<>\"Unknown\",Z120<>\"Not required\"),IF(COUNTRY_INFO!K120=1,0,IF(COUNTRY_INFO!K120=2,0.2*COUNTRY_INFO!G120/(0.5*COUNTRY_INFO!F120+0.2*COUNTRY_INFO!G120),IF(COUNTRY_INFO!K120=3,COUNTRY_INFO!G120/(COUNTRY_INFO!F120+COUNTRY_INFO!G120)))),0)","v":0.7296554294880101},{"$f":"MAX(COUNTRY_INFO!D120*AK120*PROFILE!$G$7,COUNTRY_INFO!D120*AL120*PROFILE!$G$7)","v":0},{"$f":"MAX(COUNTRY_INFO!D120*AK120*PROFILE!$G$8,COUNTRY_INFO!D120*AL120*PROFILE!$G$8,COUNTRY_INFO!D120*AM120*PROFILE!$G$8)","v":57515.004529349098},{"$f":"MAX(COUNTRY_INFO!D120*AK120*PROFILE!$G$9,COUNTRY_INFO!D120*AL120*PROFILE!$G$9,COUNTRY_INFO!D120*AM120*PROFILE!$G$9,IF(AND(DISTRICT!Z120<>\"Unknown\",Z120<>\"Not required\"),COUNTRY_INFO!O120*DISTRICT!AN120,0))","v":104984.99999999999},{"$f":"MAX(COUNTRY_INFO!D120*AK120*PROFILE!$G$10,COUNTRY_INFO!D120*AL120*PROFILE!$G$10,IF(AND(DISTRICT!Z120<>\"Unknown\",Z120<>\"Not required\"),COUNTRY_INFO!O120*DISTRICT!AO120,0))","v":283352.74172410782},445852.74625345692,0,{"$f":"MAX('MDA2'!J120,'T1'!L120,'T2'!J120,T3_R1!K120,T3_R2!K120)","v":0},{"$f":"MAX('MDA1'!K120,'MDA2'!K120,'MDA3'!I120,'MDA3'!L120,'T1'!M120,'T2'!K120,T3_R1!L120,T3_R2!L120)","v":0},{"$f":"MAX('MDA1'!L120,'MDA2'!L120,'MDA3'!J120,'MDA3'!M120,'T1'!N120,'T2'!L120,T3_R1!M120,T3_R2!M120)","v":0},0,{"$f":"MAX('MDA2'!J120,T120)","v":0},{"$f":"MAX('MDA1'!K120,'MDA2'!K120,'MDA3'!I120,'MDA3'!L120,V120,AD120)","v":0},{"$f":"MAX('MDA1'!L120,'MDA2'!L120,'MDA3'!J120,'MDA3'!M120,AF120)","v":0},0,0]
[{"$f":"IF(COUNTRY_INFO!A121=0,\" \",COUNTRY_INFO!A121)","v":"Tanzania"},{"$f":"IF(COUNTRY_INFO!B121=0,\" \",COUNTRY_INFO!B121)","v":"Mwanza"},{"$f":"IF(COUNTRY_INFO!C121=0,\" \",COUNTRY_INFO!C121)","v":"Mwanza-Nyamagana City Council"},{"$f":"COUNTRY_INFO!L121","v":0},null,null,{"$f":"MAX('MDA1'!M121,'MDA2'!M121)","v":0},{"$f":"IF(AND(COUNTRY_INFO!H121>0,COUNTRY_INFO!H121<4),IF(D121>MAX('MDA1'!M121,'MDA2'!M121),MAX('MDA1'!M121,'MDA2'!M121),D121),0)","v":0},{"$f":"IF(AND(COUNTRY_INFO!H121>0,COUNTRY_INFO!H121<4), IF(G121/D121*100<>0, IF(G121/D121*100>100,100,G121/D121*100), \"-\"),0)","v":0},{"$f":"COUNTRY_INFO!M121","v":0},null,null,{"$f":"MAX('MDA1'!M121,MAX('MDA3'!I121,'MDA3'!L121)+MAX('MDA3'!J121,'MDA3'!M121))","v":0},{"$f":"IF(AND(COUNTRY_INFO!I121>0,COUNTRY_INFO!I121<4),IF(J121>MAX('MDA1'!M121,MAX('MDA3'!I121,'MDA3'!L121)+MAX('MDA3'!J121,'MDA3'!M121)),MAX('MDA1'!M121,MAX('MDA3'!I121,'MDA3'!L121)+MAX('MDA3'!J121,'MDA3'!M121)),J121),0)","v":0},{"$f":"IF(AND(COUNTRY_INFO!I121>0,COUNTRY_INFO!I121<4), IF(M121/J121*100<>0, IF(M121/J121*100>100,100,M121/J121*100), \"-\"),0)","v":0},{"$f":"COUNTRY_INFO!N121","v":176386},null,null,{"$f":"SUM(MAX('MDA2'!J121, 'T1'!L121, MAX(T3_R1!K121, T3_R2!K121)), MAX('MDA1'!K121, 'MDA2'!K121, 'T1'!M121, MAX(T3_R1!L121, T3_R2!L121)), MAX('MDA1'!L121, 'MDA2'!L121, 'T1'!N121, MAX(T3_R1!M121, T3_R2!M121)))","v":0},{"$f":"IF(AND(COUNTRY_INFO!J121>1,COUNTRY_INFO!J121<4),IF(COUNTRY_INFO!E121>MAX('MDA2'!J121,'T1'!L121,MAX(T3_R1!K121,T3_R2!K121)),MAX('MDA2'!J121,'T1'!L121,MAX(T3_R1!K121,T3_R2!K121)),COUNTRY_INFO!E121),0)","v":0},{"$f":"IF(AND(COUNTRY_INFO!J121>1,COUNTRY_INFO!J121<4), IF(T121/COUNTRY_INFO!E121*100<>0, IF(T121/COUNTRY_INFO!E121*100>100,100,T121/COUNTRY_INFO!E121*100), \"-\"),0)","v":"-"},{"$f":"IF(AND(COUNTRY_INFO!J121>1,COUNTRY_INFO!J121<4),IF(COUNTRY_INFO!F121>MAX('MDA1'!K121,'MDA2'!K121,'T1'!M121,MAX(T3_R1!L121,T3_R2!L121)),MAX('MDA1'!K121,'MDA2'!K121,'T1'!M121,MAX(T3_R1!L121,T3_R2!L121)),COUNTRY_INFO!F121),0)","v":0},{"$f":"IF(AND(COUNTRY_INFO!J121>1,COUNTRY_INFO!J121<4), IF(V121/COUNTRY_INFO!F121*100<>0, IF(V121/COUNTRY_INFO!F121*100>100,100,V121/COUNTRY_INFO!F121*100), \"-\"),0)","v":"-"},0,{"$f":"IF(AND(COUNTRY_INFO!J121>1,COUNTRY_INFO!J121<4), IF(S121/P121*100<>0, IF(X121/P121*100>100,100,X121/P121*100), \"-\"),0)","v":"-"},{"$f":"COUNTRY_INFO!O121","v":115363.77005187672},null,null,{"$f":"MAX('T1'!L121,'T2'!J121)+MAX('T1'!M121,'T2'!K121)+MAX('T1'!N121,'T2'!L121)","v":0},{"$f":"IF(COUNTRY_INFO!K121=1,IF(COUNTRY_INFO!F121*0.33>MAX('T1'!M121,'T2'!K121),MAX('T1'!M121,'T2'!K121),COUNTRY_INFO!F121*0.33),IF(COUNTRY_INFO!K121=2,IF(COUNTRY_INFO!F121*0.5>MAX('T1'!M121,'T2'!K121),MAX('T1'!M121,'T2'!K121),COUNTRY_INFO!F121*0.5),IF(COUNTRY_INFO!K121=3,IF(COUNTRY_INFO!F121>MAX('T1'!M121,'T2'!K121),MAX('T1'!M121,'T2'!K121),COUNTRY_INFO!F121),0)))","v":0},{"$f":"IF(AND(COUNTRY_INFO!K121>0,COUNTRY_INFO!K121<4),IF(Z121>0,IF(COUNTRY_INFO!K121=1, AD121/(COUNTRY_INFO!F121*0.33)*100, IF(COUNTRY_INFO!K121=2, AD121/(COUNTRY_INFO!F121*0.5)*100, IF(COUNTRY_INFO!K121=3, AD121/COUNTRY_INFO!F121*100))),\"-\"),0)","v":0},{"$f":"IF(COUNTRY_INFO!K121=2,IF(COUNTRY_INFO!G121*0.2>MAX('T1'!N121,'T2'!L121),MAX('T1'!N121,'T2'!L121),COUNTRY_INFO!G121*0.2),IF(COUNTRY_INFO!K121=3,IF(COUNTRY_INFO!G121>MAX('T1'!N121,'T2'!L121),MAX('T1'!N121,'T2'!L121),COUNTRY_INFO!G121),0))","v":0},{"$f":"IF(AND(COUNTRY_INFO!K121>0,COUNTRY_INFO!K121<4),IF(Z121>0,IF(COUNTRY_INFO!K121=1, 0, IF(COUNTRY_INFO!K121=2, AF121/(COUNTRY_INFO!G121*0.2)*100, IF(COUNTRY_INFO!K121=3, AF121/COUNTRY_INFO!G121*100))),\"-\"),0)","v":0},0,{"$f":"IF(AND(COUNTRY_INFO!K121>0,COUNTRY_INFO!K121<4), IF(AC121/Z121*100<>0, IF(AH121/Z121*100>100,100,AH121/Z121*100), \"-\"),0)","v":"-"},null,{"$f":"IF(AND(D121<>0, D121<>\"Unknown\",D121<>\"Stopped\",D121<>\"Not required\"),D121/COUNTRY_INFO!D121, 0)","v":0},{"$f":"IF(AND(J121<>0,J121<>\"Unknown\",J121<>\"Stopped\",J121<>\"Not required\"),J121/COUNTRY_INFO!D121, 0)","v":0},{"$f":"IF(AND(P121<>0,P121<>\"Unknown\",P121<>\"Not required\"),P121/(COUNTRY_INFO!E121+COUNTRY_INFO!F121), 0)","v":1},{"$f":"IF(AND(Z121<>0,Z121<>\"Unknown\",Z121<>\"Not required\"),IF(COUNTRY_INFO!K121=1,1,IF(COUNTRY_INFO!K121=2,0.5*COUNTRY_INFO!F121/(0.5*COUNTRY_INFO!F121+0.2*COUNTRY_INFO!G121),IF(COUNTRY_INFO!K121=3,COUNTRY_INFO!F121/(COUNTRY_INFO!F121+COUNTRY_INFO!G121)))),0)","v":0.50680122514814496},{"$f":"IF(AND(Z121<>0,Z121<>\"Unknown\",Z121<>\"Not required\"),IF(COUNTRY_INFO!K121=1,0,IF(COUNTRY_INFO!K121=2,0.2*COUNTRY_INFO!G121/(0.5*COUNTRY_INFO!F121+0.2*COUNTRY_INFO!G121),IF(COUNTRY_INFO!K121=3,COUNTRY_INFO!G121/(COUNTRY_INFO!F121+COUNTRY_INFO!G121)))),0)","v":0.49319877485185498},{"$f":"MAX(COUNTRY_INFO!D121*AK121*PROFILE!$G$7,COUNTRY_INFO!D121*AL121*PROFILE!$G$7)","v":0},{"$f":"MAX(COUNTRY_INFO!D121*AK121*PROFILE!$G$8,COUNTRY_INFO!D121*AL121*PROFILE!$G$8,COUNTRY_INFO!D121*AM121*PROFILE!$G$8)","v":59452.534058930825},{"$f":"MAX(COUNTRY_INFO!D121*AK121*PROFILE!$G$9,COUNTRY_INFO!D121*AL121*PROFILE!$G$9,COUNTRY_INFO!D121*AM121*PROFILE!$G$9,IF(AND(DISTRICT!Z121<>\"Unknown\",Z121<>\"Not required\"),COUNTRY_INFO!O121*DISTRICT!AN121,0))","v":103605.00955731769},{"$f":"MAX(COUNTRY_INFO!D121*AK121*PROFILE!$G$10,COUNTRY_INFO!D121*AL121*PROFILE!$G$10,IF(AND(DISTRICT!Z121<>\"Unknown\",Z121<>\"Not required\"),COUNTRY_INFO!O121*DISTRICT!AO121,0))","v":56897.270051876716},219954.81366812525,0,{"$f":"MAX('MDA2'!J121,'T1'!L121,'T2'!J121,T3_R1!K121,T3_R2!K121)","v":0},{"$f":"MAX('MDA1'!K121,'MDA2'!K121,'MDA3'!I121,'MDA3'!L121,'T1'!M121,'T2'!K121,T3_R1!L121,T3_R2!L121)","v":0},{"$f":"MAX('MDA1'!L121,'MDA2'!L121,'MDA3'!J121,'MDA3'!M121,'T1'!N121,'T2'!L121,T3_R1!M121,T3_R2!M121)","v":0},0,{"$f":"MAX('MDA2'!J121,T121)","v":0},{"$f":"MAX('MDA1'!K121,'MDA2'!K121,'MDA3'!I121,'MDA3'!L121,V121,AD121)","v":0},{"$f":"MAX('MDA1'!L121,'MDA2'!L121,'MDA3'!J121,'MDA3'!M121,AF121)","v":0},0,0]
[{"$f":"IF(COUNTRY_INFO!A122=0,\" \",COUNTRY_INFO!A122)","v":"Tanzania"},{"$f":"IF(COUNTRY_INFO!B122=0,\" \",COUNTRY_INFO!B122)","v":"Mwanza"},{"$f":"IF(COUNTRY_INFO!C122=0,\" \",COUNTRY_INFO!C122)","v":"Sengerema District Council"},{"$f":"COUNTRY_INFO!L122","v":0},null,null,{"$f":"MAX('MDA1'!M122,'MDA2'!M122)","v":0},{"$f":"IF(AND(COUNTRY_INFO!H122>0,COUNTRY_INFO!H122<4),IF(D122>MAX('MDA1'!M122,'MDA2'!M122),MAX('MDA1'!M122,'MDA2'!M122),D122),0)","v":0},{"$f":"IF(AND(COUNTRY_INFO!H122>0,COUNTRY_INFO!H122<4), IF(G122/D122*100<>0, IF(G122/D122*100>100,100,G122/D122*100), \"-\"),0)","v":0},{"$f":"COUNTRY_INFO!M122","v":0},null,null,{"$f":"MAX('MDA1'!M122,MAX('MDA3'!I122,'MDA3'!L122)+MAX('MDA3'!J122,'MDA3'!M122))","v":0},{"$f":"IF(AND(COUNTRY_INFO!I122>0,COUNTRY_INFO!I122<4),IF(J122>MAX('MDA1'!M122,MAX('MDA3'!I122,'MDA3'!L122)+MAX('MDA3'!J122,'MDA3'!M122)),MAX('MDA1'!M122,MAX('MDA3'!I122,'MDA3'!L122)+MAX('MDA3'!J122,'MDA3'!M122)),J122),0)","v":0},{"$f":"IF(AND(COUNTRY_INFO!I122>0,COUNTRY_INFO!I122<4), IF(M122/J122*100<>0, IF(M122/J122*100>100,100,M122/J122*100), \"-\"),0)","v":0},{"$f":"COUNTRY_INFO!N122","v":171081},null,null,{"$f":"SUM(MAX('MDA2'!J122, 'T1'!L122, MAX(T3_R1!K122, T3_R2!K122)), MAX('MDA1'!K122, 'MDA2'!K122, 'T1'!M122, MAX(T3_R1!L122, T3_R2!L122)), MAX('MDA1'!L122, 'MDA2'!L122, 'T1'!N122, MAX(T3_R1!M122, T3_R2!M122)))","v":0},{"$f":"IF(AND(COUNTRY_INFO!J122>1,COUNTRY_INFO!J122<4),IF(COUNTRY_INFO!E122>MAX('MDA2'!J122,'T1'!L122,MAX(T3_R1!K122,T3_R2!K122)),MAX('MDA2'!J122,'T1'!L122,MAX(T3_R1!K122,T3_R2!K122)),COUNTRY_INFO!E122),0)","v":0},{"$f":"IF(AND(COUNTRY_INFO!J122>1,COUNTRY_INFO!J122<4), IF(T122/COUNTRY_INFO!E122*100<>0, IF(T122/COUNTRY_INFO!E122*100>100,100,T122/COUNTRY_INFO!E122*100), \"-\"),0)","v":"-"},{"$f":"IF(AND(COUNTRY_INFO!J122>1,COUNTRY_INFO!J122<4),IF(COUNTRY_INFO!F122>MAX('MDA1'!K122,'MDA2'!K122,'T1'!M122,MAX(T3_R1!L122,T3_R2!L122)),MAX('MDA1'!K122,'MDA2'!K122,'T1'!M122,MAX(T3_R1!L122,T3_R2!L122)),COUNTRY_INFO!F122),0)","v":0},{"$f":"IF(AND(COUNTRY_INFO!J122>1,COUNTRY_INFO!J122<4), IF(V122/COUNTRY_INFO!F122*100<>0, IF(V122/COUNTRY_INFO!F122*100>100,100,V122/COUNTRY_INFO!F122*100), \"-\"),0)","v":"-"},0,{"$f":"IF(AND(COUNTRY_INFO!J122>1,COUNTRY_INFO!J122<4), IF(S122/P122*100<>0, IF(X122/P122*100>100,100,X122/P122*100), \"-\"),0)","v":"-"},{"$f":"COUNTRY_INFO!O122","v":108929.9809995543},null,null,{"$f":"MAX('T1'!L122,'T2'!J122)+MAX('T1'!M122,'T2'!K122)+MAX('T1'!N122,'T2'!L122)","v":0},{"$f":"IF(COUNTRY_INFO!K122=1,IF(COUNTRY_INFO!F122*0.33>MAX('T1'!M122,'T2'!K122),MAX('T1'!M122,'T2'!K122),COUNTRY_INFO!F122*0.33),IF(COUNTRY_INFO!K122=2,IF(COUNTRY_INFO!F122*0.5>MAX('T1'!M122,'T2'!K122),MAX('T1'!M122,'T2'!K122),COUNTRY_INFO!F122*0.5),IF(COUNTRY_INFO!K122=3,IF(COUNTRY_INFO!F122>MAX('T1'!M122,'T2'!K122),MAX('T1'!M122,'T2'!K122),COUNTRY_INFO!F122),0)))","v":0},{"$f":"IF(AND(COUNTRY_INFO!K122>0,COUNTRY_INFO!K122<4),IF(Z122>0,IF(COUNTRY_INFO!K122=1, AD122/(COUNTRY_INFO!F122*0.33)*100, IF(COUNTRY_INFO!K122=2, AD122/(COUNTRY_INFO!F122*0.5)*100, IF(COUNTRY_INFO!K122=3, AD122/COUNTRY_INFO!F122*100))),\"-\"),0)","v":0},{"$f":"IF(COUNTRY_INFO!K122=2,IF(COUNTRY_INFO!G122*0.2>MAX('T1'!N122,'T2'!L122),MAX('T1'!N122,'T2'!L122),COUNTRY_INFO!G122*0.2),IF(COUNTRY_INFO!K122=3,IF(COUNTRY_INFO!G122>MAX('T1'!N122,'T2'!L122),MAX('T1'!N122,'T2'!L122),COUNTRY_INFO!G122),0))","v":0},{"$f":"IF(AND(COUNTRY_INFO!K122>0,COUNTRY_INFO!K122<4),IF(Z122>0,IF(COUNTRY_INFO!K122=1, 0, IF(COUNTRY_INFO!K122=2, AF122/(COUNTRY_INFO!G122*0.2)*100, IF(COUNTRY_INFO!K122=3, AF122/COUNTRY_INFO!G122*100))),\"-\"),0)","v":0},0,{"$f":"IF(AND(COUNTRY_INFO!K122>0,COUNTRY_INFO!K122<4), IF(AC122/Z122*100<>0, IF(AH122/Z122*100>100,100,AH122/Z122*100), \"-\"),0)","v":"-"},null,{"$f":"IF(AND(D122<>0, D122<>\"Unknown\",D122<>\"Stopped\",D122<>\"Not required\"),D122/COUNTRY_INFO!D122, 0)","v":0},{"$f":"IF(AND(J122<>0,J122<>\"Unknown\",J122<>\"Stopped\",J122<>\"Not required\"),J122/COUNTRY_INFO!D122, 0)","v":0},{"$f":"IF(AND(P122<>0,P122<>\"Unknown\",P122<>\"Not required\"),P122/(COUNTRY_INFO!E122+COUNTRY_INFO!F122), 0)","v":1},{"$f":"IF(AND(Z122<>0,Z122<>\"Unknown\",Z122<>\"Not required\"),IF(COUNTRY_INFO!K122=1,1,IF(COUNTRY_INFO!K122=2,0.5*COUNTRY_INFO!F122/(0.5*COUNTRY_INFO!F122+0.2*COUNTRY_INFO!G122),IF(COUNTRY_INFO!K122=3,COUNTRY_INFO!F122/(COUNTRY_INFO!F122+COUNTRY_INFO!G122)))),0)","v":0.53354916127487251},{"$f":"IF(AND(Z122<>0,Z122<>\"Unknown\",Z122<>\"Not required\"),IF(COUNTRY_INFO!K122=1,0,IF(COUNTRY_INFO!K122=2,0.2*COUNTRY_INFO!G122/(0.5*COUNTRY_INFO!F122+0.2*COUNTRY_INFO!G122),IF(COUNTRY_INFO!K122=3,COUNTRY_INFO!G122/(COUNTRY_INFO!F122+COUNTRY_INFO!G122)))),0)","v":0.46645083872512749},{"$f":"MAX(COUNTRY_INFO!D122*AK122*PROFILE!$G$7,COUNTRY_INFO!D122*AL122*PROFILE!$G$7)","v":0},{"$f":"MAX(COUNTRY_INFO!D122*AK122*PROFILE!$G$8,COUNTRY_INFO!D122*AL122*PROFILE!$G$8,COUNTRY_INFO!D122*AM122*PROFILE!$G$8)","v":54842.210052293383},{"$f":"MAX(COUNTRY_INFO!D122*AK122*PROFILE!$G$9,COUNTRY_INFO!D122*AL122*PROFILE!$G$9,COUNTRY_INFO!D122*AM122*PROFILE!$G$9,IF(AND(DISTRICT!Z122<>\"Unknown\",Z122<>\"Not required\"),COUNTRY_INFO!O122*DISTRICT!AN122,0))","v":95570.824466123056},{"$f":"MAX(COUNTRY_INFO!D122*AK122*PROFILE!$G$10,COUNTRY_INFO!D122*AL122*PROFILE!$G$10,IF(AND(DISTRICT!Z122<>\"Unknown\",Z122<>\"Not required\"),COUNTRY_INFO!O122*DISTRICT!AO122,0))","v":50810.480999554304},201223.51551797075,0,{"$f":"MAX('MDA2'!J122,'T1'!L122,'T2'!J122,T3_R1!K122,T3_R2!K122)","v":0},{"$f":"MAX('MDA1'!K122,'MDA2'!K122,'MDA3'!I122,'MDA3'!L122,'T1'!M122,'T2'!K122,T3_R1!L122,T3_R2!L122)","v":0},{"$f":"MAX('MDA1'!L122,'MDA2'!L122,'MDA3'!J122,'MDA3'!M122,'T1'!N122,'T2'!L122,T3_R1!M122,T3_R2!M122)","v":0},0,{"$f":"MAX('MDA2'!J122,T122)","v":0},{"$f":"MAX('MDA1'!K122,'MDA2'!K122,'MDA3'!I122,'MDA3'!L122,V122,AD122)","v":0},{"$f":"MAX('MDA1'!L122,'MDA2'!L122,'MDA3'!J122,'MDA3'!M122,AF122)","v":0},0,0]
[{"$f":"IF(COUNTRY_INFO!A123=0,\" \",COUNTRY_INFO!A123)","v":"Tanzania"},{"$f":"IF(COUNTRY_INFO!B123=0,\" \",COUNTRY_INFO!B123)","v":"Mwanza"},{"$f":"IF(COUNTRY_INFO!C123=0,\" \",COUNTRY_INFO!C123)","v":"Ukerewe District Council"},{"$f":"COUNTRY_INFO!L123","v":0},null,null,{"$f":"MAX('MDA1'!M123,'MDA2'!M123)","v":0},{"$f":"IF(AND(COUNTRY_INFO!H123>0,COUNTRY_INFO!H123<4),IF(D123>MAX('MDA1'!M123,'MDA2'!M123),MAX('MDA1'!M123,'MDA2'!M123),D123),0)","v":0},{"$f":"IF(AND(COUNTRY_INFO!H123>0,COUNTRY_INFO!H123<4), IF(G123/D123*100<>0, IF(G123/D123*100>100,100,G123/D123*100), \"-\"),0)","v":0},{"$f":"COUNTRY_INFO!M123","v":0},null,null,{"$f":"MAX('MDA1'!M123,MAX('MDA3'!I123,'MDA3'!L123)+MAX('MDA3'!J123,'MDA3'!M123))","v":0},{"$f":"IF(AND(COUNTRY_INFO!I123>0,COUNTRY_INFO!I123<4),IF(J123>MAX('MDA1'!M123,MAX('MDA3'!I123,'MDA3'!L123)+MAX('MDA3'!J123,'MDA3'!M123)),MAX('MDA1'!M123,MAX('MDA3'!I123,'MDA3'!L123)+MAX('MDA3'!J123,'MDA3'!M123)),J123),0)","v":0},{"$f":"IF(AND(COUNTRY_INFO!I123>0,COUNTRY_INFO!I123<4), IF(M123/J123*100<>0, IF(M123/J123*100>100,100,M123/J123*100), \"-\"),0)","v":0},{"$f":"COUNTRY_INFO!N123","v":171648},null,null,{"$f":"SUM(MAX('MDA2'!J123, 'T1'!L123, MAX(T3_R1!K123, T3_R2!K123)), MAX('MDA1'!K123, 'MDA2'!K123, 'T1'!M123, MAX(T3_R1!L123, T3_R2!L123)), MAX('MDA1'!L123, 'MDA2'!L123, 'T1'!N123, MAX(T3_R1!M123, T3_R2!M123)))","v":0},{"$f":"IF(AND(COUNTRY_INFO!J123>1,COUNTRY_INFO!J123<4),IF(COUNTRY_INFO!E123>MAX('MDA2'!J123,'T1'!L123,MAX(T3_R1!K123,T3_R2!K123)),MAX('MDA2'!J123,'T1'!L123,MAX(T3_R1!K123,T3_R2!K123)),COUNTRY_INFO!E123),0)","v":0},{"$f":"IF(AND(COUNTRY_INFO!J123>1,COUNTRY_INFO!J123<4), IF(T123/COUNTRY_INFO!E123*100<>0, IF(T123/COUNTRY_INFO!E123*100>100,100,T123/COUNTRY_INFO!E123*100), \"-\"),0)","v":"-"},{"$f":"IF(AND(COUNTRY_INFO!J123>1,COUNTRY_INFO!J123<4),IF(COUNTRY_INFO!F123>MAX('MDA1'!K123,'MDA2'!K123,'T1'!M123,MAX(T3_R1!L123,T3_R2!L123)),MAX('MDA1'!K123,'MDA2'!K123,'T1'!M123,MAX(T3_R1!L123,T3_R2!L123)),COUNTRY_INFO!F123),0)","v":0},{"$f":"IF(AND(COUNTRY_INFO!J123>1,COUNTRY_INFO!J123<4), IF(V123/COUNTRY_INFO!F123*100<>0, IF(V123/COUNTRY_INFO!F123*100>100,100,V123/COUNTRY_INFO!F123*100), \"-\"),0)","v":"-"},0,{"$f":"IF(AND(COUNTRY_INFO!J123>1,COUNTRY_INFO!J123<4), IF(S123/P123*100<>0, IF(X123/P123*100>100,100,X123/P123*100), \"-\"),0)","v":"-"},{"$f":"COUNTRY_INFO!O123","v":110797.62728690691},null,null,{"$f":"MAX('T1'!L123,'T2'!J123)+MAX('T1'!M123,'T2'!K123)+MAX('T1'!N123,'T2'!L123)","v":0},{"$f":"IF(COUNTRY_INFO!K123=1,IF(COUNTRY_INFO!F123*0.33>MAX('T1'!M123,'T2'!K123),MAX('T1'!M123,'T2'!K123),COUNTRY_INFO!F123*0.33),IF(COUNTRY_INFO!K123=2,IF(COUNTRY_INFO!F123*0.5>MAX('T1'!M123,'T2'!K123),MAX('T1'!M123,'T2'!K123),COUNTRY_INFO!F123*0.5),IF(COUNTRY_INFO!K123=3,IF(COUNTRY_INFO!F123>MAX('T1'!M123,'T2'!K123),MAX('T1'!M123,'T2'!K123),COUNTRY_INFO!F123),0)))","v":0},{"$f":"IF(AND(COUNTRY_INFO!K123>0,COUNTRY_INFO!K123<4),IF(Z123>0,IF(COUNTRY_INFO!K123=1, AD123/(COUNTRY_INFO!F123*0.33)*100, IF(COUNTRY_INFO!K123=2, AD123/(COUNTRY_INFO!F123*0.5)*100, IF(COUNTRY_INFO!K123=3, AD123/COUNTRY_INFO!F123*100))),\"-\"),0)","v":0},{"$f":"IF(COUNTRY_INFO!K123=2,IF(COUNTRY_INFO!G123*0.2>MAX('T1'!N123,'T2'!L123),MAX('T1'!N123,'T2'!L123),COUNTRY_INFO!G123*0.2),IF(COUNTRY_INFO!K123=3,IF(COUNTRY_INFO!G123>MAX('T1'!N123,'T2'!L123),MAX('T1'!N123,'T2'!L123),COUNTRY_INFO!G123),0))","v":0},{"$f":"IF(AND(COUNTRY_INFO!K123>0,COUNTRY_INFO!K123<4),IF(Z123>0,IF(COUNTRY_INFO!K123=1, 0, IF(COUNTRY_INFO!K123=2, AF123/(COUNTRY_INFO!G123*0.2)*100, IF(COUNTRY_INFO!K123=3, AF123/COUNTRY_INFO!G123*100))),\"-\"),0)","v":0},0,{"$f":"IF(AND(COUNTRY_INFO!K123>0,COUNTRY_INFO!K123<4), IF(AC123/Z123*100<>0, IF(AH123/Z123*100>100,100,AH123/Z123*100), \"-\"),0)","v":"-"},null,{"$f":"IF(AND(D123<>0, D123<>\"Unknown\",D123<>\"Stopped\",D123<>\"Not required\"),D123/COUNTRY_INFO!D123, 0)","v":0},{"$f":"IF(AND(J123<>0,J123<>\"Unknown\",J123<>\"Stopped\",J123<>\"Not required\"),J123/COUNTRY_INFO!D123, 0)","v":0},{"$f":"IF(AND(P123<>0,P123<>\"Unknown\",P123<>\"Not required\"),P123/(COUNTRY_INFO!E123+COUNTRY_INFO!F123), 0)","v":1},{"$f":"IF(AND(Z123<>0,Z123<>\"Unknown\",Z123<>\"Not required\"),IF(COUNTRY_INFO!K123=1,1,IF(COUNTRY_INFO!K123=2,0.5*COUNTRY_INFO!F123/(0.5*COUNTRY_INFO!F123+0.2*COUNTRY_INFO!G123),IF(COUNTRY_INFO!K123=3,COUNTRY_INFO!F123/(COUNTRY_INFO!F123+COUNTRY_INFO!G123)))),0)","v":0.51982160097038532},{"$f":"IF(AND(Z123<>0,Z123<>\"Unknown\",Z123<>\"Not required\"),IF(COUNTRY_INFO!K123=1,0,IF(COUNTRY_INFO!K123=2,0.2*COUNTRY_INFO!G123/(0.5*COUNTRY_INFO!F123+0.2*COUNTRY_INFO!G123),IF(COUNTRY_INFO!K123=3,COUNTRY_INFO!G123/(COUNTRY_INFO!F123+COUNTRY_INFO!G123)))),0)","v":0.48017839902961468},{"$f":"MAX(COUNTRY_INFO!D123*AK123*PROFILE!$G$7,COUNTRY_INFO!D123*AL123*PROFILE!$G$7)","v":0},{"$f":"MAX(COUNTRY_INFO!D123*AK123*PROFILE!$G$8,COUNTRY_INFO!D123*AL123*PROFILE!$G$8,COUNTRY_INFO!D123*AM123*PROFILE!$G$8)","v":56458.287431433411},{"$f":"MAX(COUNTRY_INFO!D123*AK123*PROFILE!$G$9,COUNTRY_INFO!D123*AL123*PROFILE!$G$9,COUNTRY_INFO!D123*AM123*PROFILE!$G$9,IF(AND(DISTRICT!Z123<>\"Unknown\",Z123<>\"Not required\"),COUNTRY_INFO!O123*DISTRICT!AN123,0))","v":98387.083099358162},{"$f":"MAX(COUNTRY_INFO!D123*AK123*PROFILE!$G$10,COUNTRY_INFO!D123*AL123*PROFILE!$G$10,IF(AND(DISTRICT!Z123<>\"Unknown\",Z123<>\"Not required\"),COUNTRY_INFO!O123*DISTRICT!AO123,0))","v":53202.627286906907},208047.99781769849,0,{"$f":"MAX('MDA2'!J123,'T1'!L123,'T2'!J123,T3_R1!K123,T3_R2!K123)","v":0},{"$f":"MAX('MDA1'!K123,'MDA2'!K123,'MDA3'!I123,'MDA3'!L123,'T1'!M123,'T2'!K123,T3_R1!L123,T3_R2!L123)","v":0},{"$f":"MAX('MDA1'!L123,'MDA2'!L123,'MDA3'!J123,'MDA3'!M123,'T1'!N123,'T2'!L123,T3_R1!M123,T3_R2!M123)","v":0},0,{"$f":"MAX('MDA2'!J123,T123)","v":0},{"$f":"MAX('MDA1'!K123,'MDA2'!K123,'MDA3'!I123,'MDA3'!L123,V123,AD123)","v":0},{"$f":"MAX('MDA1'!L123,'MDA2'!L123,'MDA3'!J123,'MDA3'!M123,AF123)","v":0},0,0]
[{"$f":"IF(COUNTRY_INFO!A124=0,\" \",COUNTRY_INFO!A124)","v":"Tanzania"},{"$f":"IF(COUNTRY_INFO!B124=0,\" \",COUNTRY_INFO!B124)","v":"Njombe"},{"$f":"IF(COUNTRY_INFO!C124=0,\" \",COUNTRY_INFO!C124)","v":"Ludewa District Council"},{"$f":"COUNTRY_INFO!L124","v":"Stopped"},null,null,{"$f":"MAX('MDA1'!M124,'MDA2'!M124)","v":0},{"$f":"IF(AND(COUNTRY_INFO!H124>0,COUNTRY_INFO!H124<4),IF(D124>MAX('MDA1'!M124,'MDA2'!M124),MAX('MDA1'!M124,'MDA2'!M124),D124),0)","v":0},{"$f":"IF(AND(COUNTRY_INFO!H124>0,COUNTRY_INFO!H124<4), IF(G124/D124*100<>0, IF(G124/D124*100>100,100,G124/D124*100), \"-\"),0)","v":0},{"$f":"COUNTRY_INFO!M124","v":141972.1032400777},null,null,{"$f":"MAX('MDA1'!M124,MAX('MDA3'!I124,'MDA3'!L124)+MAX('MDA3'!J124,'MDA3'!M124))","v":0},{"$f":"IF(AND(COUNTRY_INFO!I124>0,COUNTRY_INFO!I124<4),IF(J124>MAX('MDA1'!M124,MAX('MDA3'!I124,'MDA3'!L124)+MAX('MDA3'!J124,'MDA3'!M124)),MAX('MDA1'!M124,MAX('MDA3'!I124,'MDA3'!L124)+MAX('MDA3'!J124,'MDA3'!M124)),J124),0)","v":0},{"$f":"IF(AND(COUNTRY_INFO!I124>0,COUNTRY_INFO!I124<4), IF(M124/J124*100<>0, IF(M124/J124*100>100,100,M124/J124*100), \"-\"),0)","v":"-"},{"$f":"COUNTRY_INFO!N124","v":57483},null,null,{"$f":"SUM(MAX('MDA2'!J124, 'T1'!L124, MAX(T3_R1!K124, T3_R2!K124)), MAX('MDA1'!K124, 'MDA2'!K124, 'T1'!M124, MAX(T3_R1!L124, T3_R2!L124)), MAX('MDA1'!L124, 'MDA2'!L124, 'T1'!N124, MAX(T3_R1!M124, T3_R2!M124)))","v":38027},{"$f":"IF(AND(COUNTRY_INFO!J124>1,COUNTRY_INFO!J124<4),IF(COUNTRY_INFO!E124>MAX('MDA2'!J124,'T1'!L124,MAX(T3_R1!K124,T3_R2!K124)),MAX('MDA2'!J124,'T1'!L124,MAX(T3_R1!K124,T3_R2!K124)),COUNTRY_INFO!E124),0)","v":0},{"$f":"IF(AND(COUNTRY_INFO!J124>1,COUNTRY_INFO!J124<4), IF(T124/COUNTRY_INFO!E124*100<>0, IF(T124/COUNTRY_INFO!E124*100>100,100,T124/COUNTRY_INFO!E124*100), \"-\"),0)","v":"-"},{"$f":"IF(AND(COUNTRY_INFO!J124>1,COUNTRY_INFO!J124<4),IF(COUNTRY_INFO!F124>MAX('MDA1'!K124,'MDA2'!K124,'T1'!M124,MAX(T3_R1!L124,T3_R2!L124)),MAX('MDA1'!K124,'MDA2'!K124,'T1'!M124,MAX(T3_R1!L124,T3_R2!L124)),COUNTRY_INFO!F124),0)","v":38027},{"$f":"IF(AND(COUNTRY_INFO!J124>1,COUNTRY_INFO!J124<4), IF(V124/COUNTRY_INFO!F124*100<>0, IF(V124/COUNTRY_INFO!F124*100>100,100,V124/COUNTRY_INFO!F124*100), \"-\"),0)","v":97.084429012739676},38027,{"$f":"IF(AND(COUNTRY_INFO!J124>1,COUNTRY_INFO!J124<4), IF(S124/P124*100<>0, IF(X124/P124*100>100,100,X124/P124*100), \"-\"),0)","v":66.153471461127637},{"$f":"COUNTRY_INFO!O124","v":36482.320648015542},null,null,{"$f":"MAX('T1'!L124,'T2'!J124)+MAX('T1'!M124,'T2'!K124)+MAX('T1'!N124,'T2'!L124)","v":38027},{"$f":"IF(COUNTRY_INFO!K124=1,IF(COUNTRY_INFO!F124*0.33>MAX('T1'!M124,'T2'!K124),MAX('T1'!M124,'T2'!K124),COUNTRY_INFO!F124*0.33),IF(COUNTRY_INFO!K124=2,IF(COUNTRY_INFO!F124*0.5>MAX('T1'!M124,'T2'!K124),MAX('T1'!M124,'T2'!K124),COUNTRY_INFO!F124*0.5),IF(COUNTRY_INFO!K124=3,IF(COUNTRY_INFO!F124>MAX('T1'!M124,'T2'!K124),MAX('T1'!M124,'T2'!K124),COUNTRY_INFO!F124),0)))","v":19584.5},{"$f":"IF(AND(COUNTRY_INFO!K124>0,COUNTRY_INFO!K124<4),IF(Z124>0,IF(COUNTRY_INFO!K124=1, AD124/(COUNTRY_INFO!F124*0.33)*100, IF(COUNTRY_INFO!K124=2, AD124/(COUNTRY_INFO!F124*0.5)*100, IF(COUNTRY_INFO!K124=3, AD124/COUNTRY_INFO!F124*100))),\"-\"),0)","v":100},{"$f":"IF(COUNTRY_INFO!K124=2,IF(COUNTRY_INFO!G124*0.2>MAX('T1'!N124,'T2'!L124),MAX('T1'!N124,'T2'!L124),COUNTRY_INFO!G124*0.2),IF(COUNTRY_INFO!K124=3,IF(COUNTRY_INFO!G124>MAX('T1'!N124,'T2'!L124),MAX('T1'!N124,'T2'!L124),COUNTRY_INFO!G124),0))","v":0},{"$f":"IF(AND(COUNTRY_INFO!K124>0,COUNTRY_INFO!K124<4),IF(Z124>0,IF(COUNTRY_INFO!K124=1, 0, IF(COUNTRY_INFO!K124=2, AF124/(COUNTRY_INFO!G124*0.2)*100, IF(COUNTRY_INFO!K124=3, AF124/COUNTRY_INFO!G124*100))),\"-\"),0)","v":0},19584.5,{"$f":"IF(AND(COUNTRY_INFO!K124>0,COUNTRY_INFO!K124<4), IF(AC124/Z124*100<>0, IF(AH124/Z124*100>100,100,AH124/Z124*100), \"-\"),0)","v":53.682166189352046},null,{"$f":"IF(AND(D124<>0, D124<>\"Unknown\",D124<>\"Stopped\",D124<>\"Not required\"),D124/COUNTRY_INFO!D124, 0)","v":0},{"$f":"IF(AND(J124<>0,J124<>\"Unknown\",J124<>\"Stopped\",J124<>\"Not required\"),J124/COUNTRY_INFO!D124, 0)","v":1},{"$f":"IF(AND(P124<>0,P124<>\"Unknown\",P124<>\"Not required\"),P124/(COUNTRY_INFO!E124+COUNTRY_INFO!F124), 0)","v":1},{"$f":"IF(AND(Z124<>0,Z124<>\"Unknown\",Z124<>\"Not required\"),IF(COUNTRY_INFO!K124=1,1,IF(COUNTRY_INFO!K124=2,0.5*COUNTRY_INFO!F124/(0.5*COUNTRY_INFO!F124+0.2*COUNTRY_INFO!G124),IF(COUNTRY_INFO!K124=3,COUNTRY_INFO!F124/(COUNTRY_INFO!F124+COUNTRY_INFO!G124)))),0)","v":0.53682166189352043},{"$f":"IF(AND(Z124<>0,Z124<>\"Unknown\",Z124<>\"Not required\"),IF(COUNTRY_INFO!K124=1,0,IF(COUNTRY_INFO!K124=2,0.2*COUNTRY_INFO!G124/(0.5*COUNTRY_INFO!F124+0.2*COUNTRY_INFO!G124),IF(COUNTRY_INFO!K124=3,COUNTRY_INFO!G124/(COUNTRY_INFO!F124+COUNTRY_INFO!G124)))),0)","v":0.46317833810647951},{"$f":"MAX(COUNTRY_INFO!D124*AK124*PROFILE!$G$7,COUNTRY_INFO!D124*AL124*PROFILE!$G$7)","v":2.603336774439689E-3},{"$f":"MAX(COUNTRY_INFO!D124*AK124*PROFILE!$G$8,COUNTRY_INFO!D124*AL124*PROFILE!$G$8,COUNTRY_INFO!D124*AM124*PROFILE!$G$8)","v":18314.401587659377},{"$f":"MAX(COUNTRY_INFO!D124*AK124*PROFILE!$G$9,COUNTRY_INFO!D124*AL124*PROFILE!$G$9,COUNTRY_INFO!D124*AM124*PROFILE!$G$9,IF(AND(DISTRICT!Z124<>\"Unknown\",Z124<>\"Not required\"),COUNTRY_INFO!O124*DISTRICT!AN124,0))","v":31915.607661822978},{"$f":"MAX(COUNTRY_INFO!D124*AK124*PROFILE!$G$10,COUNTRY_INFO!D124*AL124*PROFILE!$G$10,IF(AND(DISTRICT!Z124<>\"Unknown\",Z124<>\"Not required\"),COUNTRY_INFO!O124*DISTRICT!AO124,0))","v":91742.091387258566},141972.1032400777,0,{"$f":"MAX('MDA2'!J124,'T1'!L124,'T2'!J124,T3_R1!K124,T3_R2!K124)","v":0},{"$f":"MAX('MDA1'!K124,'MDA2'!K124,'MDA3'!I124,'MDA3'!L124,'T1'!M124,'T2'!K124,T3_R1!L124,T3_R2!L124)","v":38027},{"$f":"MAX('MDA1'!L124,'MDA2'!L124,'MDA3'!J124,'MDA3'!M124,'T1'!N124,'T2'!L124,T3_R1!M124,T3_R2!M124)","v":0},38027,{"$f":"MAX('MDA2'!J124,T124)","v":0},{"$f":"MAX('MDA1'!K124,'MDA2'!K124,'MDA3'!I124,'MDA3'!L124,V124,AD124)","v":38027},{"$f":"MAX('MDA1'!L124,'MDA2'!L124,'MDA3'!J124,'MDA3'!M124,AF124)","v":0},38027,26.784839508713603]
[{"$f":"IF(COUNTRY_INFO!A125=0,\" \",COUNTRY_INFO!A125)","v":"Tanzania"},{"$f":"IF(COUNTRY_INFO!B125=0,\" \",COUNTRY_INFO!B125)","v":"Njombe"},{"$f":"IF(COUNTRY_INFO!C125=0,\" \",COUNTRY_INFO!C125)","v":"Makambako Town Council"},{"$f":"COUNTRY_INFO!L125","v":"Stopped"},null,null,{"$f":"MAX('MDA1'!M125,'MDA2'!M125)","v":0},{"$f":"IF(AND(COUNTRY_INFO!H125>0,COUNTRY_INFO!H125<4),IF(D125>MAX('MDA1'!M125,'MDA2'!M125),MAX('MDA1'!M125,'MDA2'!M125),D125),0)","v":0},{"$f":"IF(AND(COUNTRY_INFO!H125>0,COUNTRY_INFO!H125<4), IF(G125/D125*100<>0, IF(G125/D125*100>100,100,G125/D125*100), \"-\"),0)","v":0},{"$f":"COUNTRY_INFO!M125","v":0},null,null,{"$f":"MAX('MDA1'!M125,MAX('MDA3'!I125,'MDA3'!L125)+MAX('MDA3'!J125,'MDA3'!M125))","v":0},{"$f":"IF(AND(COUNTRY_INFO!I125>0,COUNTRY_INFO!I125<4),IF(J125>MAX('MDA1'!M125,MAX('MDA3'!I125,'MDA3'!L125)+MAX('MDA3'!J125,'MDA3'!M125)),MAX('MDA1'!M125,MAX('MDA3'!I125,'MDA3'!L125)+MAX('MDA3'!J125,'MDA3'!M125)),J125),0)","v":0},{"$f":"IF(AND(COUNTRY_INFO!I125>0,COUNTRY_INFO!I125<4), IF(M125/J125*100<>0, IF(M125/J125*100>100,100,M125/J125*100), \"-\"),0)","v":0},{"$f":"COUNTRY_INFO!N125","v":39409},null,null,{"$f":"SUM(MAX('MDA2'!J125, 'T1'!L125, MAX(T3_R1!K125, T3_R2!K125)), MAX('MDA1'!K125, 'MDA2'!K125, 'T1'!M125, MAX(T3_R1!L125, T3_R2!L125)), MAX('MDA1'!L125, 'MDA2'!L125, 'T1'!N125, MAX(T3_R1!M125, T3_R2!M125)))","v":25323},{"$f":"IF(AND(COUNTRY_INFO!J125>1,COUNTRY_INFO!J125<4),IF(COUNTRY_INFO!E125>MAX('MDA2'!J125,'T1'!L125,MAX(T3_R1!K125,T3_R2!K125)),MAX('MDA2'!J125,'T1'!L125,MAX(T3_R1!K125,T3_R2!K125)),COUNTRY_INFO!E125),0)","v":0},{"$f":"IF(AND(COUNTRY_INFO!J125>1,COUNTRY_INFO!J125<4), IF(T125/COUNTRY_INFO!E125*100<>0, IF(T125/COUNTRY_INFO!E125*100>100,100,T125/COUNTRY_INFO!E125*100), \"-\"),0)","v":"-"},{"$f":"IF(AND(COUNTRY_INFO!J125>1,COUNTRY_INFO!J125<4),IF(COUNTRY_INFO!F125>MAX('MDA1'!K125,'MDA2'!K125,'T1'!M125,MAX(T3_R1!L125,T3_R2!L125)),MAX('MDA1'!K125,'MDA2'!K125,'T1'!M125,MAX(T3_R1!L125,T3_R2!L125)),COUNTRY_INFO!F125),0)","v":25323},{"$f":"IF(AND(COUNTRY_INFO!J125>1,COUNTRY_INFO!J125<4), IF(V125/COUNTRY_INFO!F125*100<>0, IF(V125/COUNTRY_INFO!F125*100>100,100,V125/COUNTRY_INFO!F125*100), \"-\"),0)","v":95.522444360618636},25323,{"$f":"IF(AND(COUNTRY_INFO!J125>1,COUNTRY_INFO!J125<4), IF(S125/P125*100<>0, IF(X125/P125*100>100,100,X125/P125*100), \"-\"),0)","v":64.256895632977233},{"$f":"COUNTRY_INFO!O125","v":25371.494549155141},null,null,{"$f":"MAX('T1'!L125,'T2'!J125)+MAX('T1'!M125,'T2'!K125)+MAX('T1'!N125,'T2'!L125)","v":25323},{"$f":"IF(COUNTRY_INFO!K125=1,IF(COUNTRY_INFO!F125*0.33>MAX('T1'!M125,'T2'!K125),MAX('T1'!M125,'T2'!K125),COUNTRY_INFO!F125*0.33),IF(COUNTRY_INFO!K125=2,IF(COUNTRY_INFO!F125*0.5>MAX('T1'!M125,'T2'!K125),MAX('T1'!M125,'T2'!K125),COUNTRY_INFO!F125*0.5),IF(COUNTRY_INFO!K125=3,IF(COUNTRY_INFO!F125>MAX('T1'!M125,'T2'!K125),MAX('T1'!M125,'T2'!K125),COUNTRY_INFO!F125),0)))","v":13255},{"$f":"IF(AND(COUNTRY_INFO!K125>0,COUNTRY_INFO!K125<4),IF(Z125>0,IF(COUNTRY_INFO!K125=1, AD125/(COUNTRY_INFO!F125*0.33)*100, IF(COUNTRY_INFO!K125=2, AD125/(COUNTRY_INFO!F125*0.5)*100, IF(COUNTRY_INFO!K125=3, AD125/COUNTRY_INFO!F125*100))),\"-\"),0)","v":100},{"$f":"IF(COUNTRY_INFO!K125=2,IF(COUNTRY_INFO!G125*0.2>MAX('T1'!N125,'T2'!L125),MAX('T1'!N125,'T2'!L125),COUNTRY_INFO!G125*0.2),IF(COUNTRY_INFO!K125=3,IF(COUNTRY_INFO!G125>MAX('T1'!N125,'T2'!L125),MAX('T1'!N125,'T2'!L125),COUNTRY_INFO!G125),0))","v":0},{"$f":"IF(AND(COUNTRY_INFO!K125>0,COUNTRY_INFO!K125<4),IF(Z125>0,IF(COUNTRY_INFO!K125=1, 0, IF(COUNTRY_INFO!K125=2, AF125/(COUNTRY_INFO!G125*0.2)*100, IF(COUNTRY_INFO!K125=3, AF125/COUNTRY_INFO!G125*100))),\"-\"),0)","v":0},13255,{"$f":"IF(AND(COUNTRY_INFO!K125>0,COUNTRY_INFO!K125<4), IF(AC125/Z125*100<>0, IF(AH125/Z125*100>100,100,AH125/Z125*100), \"-\"),0)","v":52.243670448027999},null,{"$f":"IF(AND(D125<>0, D125<>\"Unknown\",D125<>\"Stopped\",D125<>\"Not required\"),D125/COUNTRY_INFO!D125, 0)","v":0},{"$f":"IF(AND(J125<>0,J125<>\"Unknown\",J125<>\"Stopped\",J125<>\"Not required\"),J125/COUNTRY_INFO!D125, 0)","v":0},{"$f":"IF(AND(P125<>0,P125<>\"Unknown\",P125<>\"Not required\"),P125/(COUNTRY_INFO!E125+COUNTRY_INFO!F125), 0)","v":1},{"$f":"IF(AND(Z125<>0,Z125<>\"Unknown\",Z125<>\"Not required\"),IF(COUNTRY_INFO!K125=1,1,IF(COUNTRY_INFO!K125=2,0.5*COUNTRY_INFO!F125/(0.5*COUNTRY_INFO!F125+0.2*COUNTRY_INFO!G125),IF(COUNTRY_INFO!K125=3,COUNTRY_INFO!F125/(COUNTRY_INFO!F125+COUNTRY_INFO!G125)))),0)","v":0.52243670448028001},{"$f":"IF(AND(Z125<>0,Z125<>\"Unknown\",Z125<>\"Not required\"),IF(COUNTRY_INFO!K125=1,0,IF(COUNTRY_INFO!K125=2,0.2*COUNTRY_INFO!G125/(0.5*COUNTRY_INFO!F125+0.2*COUNTRY_INFO!G125),IF(COUNTRY_INFO!K125=3,COUNTRY_INFO!G125/(COUNTRY_INFO!F125+COUNTRY_INFO!G125)))),0)","v":0.47756329551971999},{"$f":"MAX(COUNTRY_INFO!D125*AK125*PROFILE!$G$7,COUNTRY_INFO!D125*AL125*PROFILE!$G$7)","v":0},{"$f":"MAX(COUNTRY_INFO!D125*AK125*PROFILE!$G$8,COUNTRY_INFO!D125*AL125*PROFILE!$G$8,COUNTRY_INFO!D125*AM125*PROFILE!$G$8)","v":12898.900174148264},{"$f":"MAX(COUNTRY_INFO!D125*AK125*PROFILE!$G$9,COUNTRY_INFO!D125*AL125*PROFILE!$G$9,COUNTRY_INFO!D125*AM125*PROFILE!$G$9,IF(AND(DISTRICT!Z125<>\"Unknown\",Z125<>\"Not required\"),COUNTRY_INFO!O125*DISTRICT!AN125,0))","v":22478.279470759891},{"$f":"MAX(COUNTRY_INFO!D125*AK125*PROFILE!$G$10,COUNTRY_INFO!D125*AL125*PROFILE!$G$10,IF(AND(DISTRICT!Z125<>\"Unknown\",Z125<>\"Not required\"),COUNTRY_INFO!O125*DISTRICT!AO125,0))","v":12116.494549155141},47493.6741940633,"Y",{"$f":"MAX('MDA2'!J125,'T1'!L125,'T2'!J125,T3_R1!K125,T3_R2!K125)","v":0},{"$f":"MAX('MDA1'!K125,'MDA2'!K125,'MDA3'!I125,'MDA3'!L125,'T1'!M125,'T2'!K125,T3_R1!L125,T3_R2!L125)","v":25323},{"$f":"MAX('MDA1'!L125,'MDA2'!L125,'MDA3'!J125,'MDA3'!M125,'T1'!N125,'T2'!L125,T3_R1!M125,T3_R2!M125)","v":0},25323,{"$f":"MAX('MDA2'!J125,T125)","v":0},{"$f":"MAX('MDA1'!K125,'MDA2'!K125,'MDA3'!I125,'MDA3'!L125,V125,AD125)","v":25323},{"$f":"MAX('MDA1'!L125,'MDA2'!L125,'MDA3'!J125,'MDA3'!M125,AF125)","v":0},25323,53.318679655164203]
[{"$f":"IF(COUNTRY_INFO!A126=0,\" \",COUNTRY_INFO!A126)","v":"Tanzania"},{"$f":"IF(COUNTRY_INFO!B126=0,\" \",COUNTRY_INFO!B126)","v":"Njombe"},{"$f":"IF(COUNTRY_INFO!C126=0,\" \",COUNTRY_INFO!C126)","v":"Makete District Council"},{"$f":"COUNTRY_INFO!L126","v":"Stopped"},null,null,{"$f":"MAX('MDA1'!M126,'MDA2'!M126)","v":0},{"$f":"IF(AND(COUNTRY_INFO!H126>0,COUNTRY_INFO!H126<4),IF(D126>MAX('MDA1'!M126,'MDA2'!M126),MAX('MDA1'!M126,'MDA2'!M126),D126),0)","v":0},{"$f":"IF(AND(COUNTRY_INFO!H126>0,COUNTRY_INFO!H126<4), IF(G126/D126*100<>0, IF(G126/D126*100>100,100,G126/D126*100), \"-\"),0)","v":0},{"$f":"COUNTRY_INFO!M126","v":0},null,null,{"$f":"MAX('MDA1'!M126,MAX('MDA3'!I126,'MDA3'!L126)+MAX('MDA3'!J126,'MDA3'!M126))","v":0},{"$f":"IF(AND(COUNTRY_INFO!I126>0,COUNTRY_INFO!I126<4),IF(J126>MAX('MDA1'!M126,MAX('MDA3'!I126,'MDA3'!L126)+MAX('MDA3'!J126,'MDA3'!M126)),MAX('MDA1'!M126,MAX('MDA3'!I126,'MDA3'!L126)+MAX('MDA3'!J126,'MDA3'!M126)),J126),0)","v":0},{"$f":"IF(AND(COUNTRY_INFO!I126>0,COUNTRY_INFO!I126<4), IF(M126/J126*100<>0, IF(M126/J126*100>100,100,M126/J126*100), \"-\"),0)","v":0},{"$f":"COUNTRY_INFO!N126","v":36572},null,null,{"$f":"SUM(MAX('MDA2'!J126, 'T1'!L126, MAX(T3_R1!K126, T3_R2!K126)), MAX('MDA1'!K126, 'MDA2'!K126, 'T1'!M126, MAX(T3_R1!L126, T3_R2!L126)), MAX('MDA1'!L126, 'MDA2'!L126, 'T1'!N126, MAX(T3_R1!M126, T3_R2!M126)))","v":22677},{"$f":"IF(AND(COUNTRY_INFO!J126>1,COUNTRY_INFO!J126<4),IF(COUNTRY_INFO!E126>MAX('MDA2'!J126,'T1'!L126,MAX(T3_R1!K126,T3_R2!K126)),MAX('MDA2'!J126,'T1'!L126,MAX(T3_R1!K126,T3_R2!K126)),COUNTRY_INFO!E126),0)","v":0},{"$f":"IF(AND(COUNTRY_INFO!J126>1,COUNTRY_INFO!J126<4), IF(T126/COUNTRY_INFO!E126*100<>0, IF(T126/COUNTRY_INFO!E126*100>100,100,T126/COUNTRY_INFO!E126*100), \"-\"),0)","v":"-"},{"$f":"IF(AND(COUNTRY_INFO!J126>1,COUNTRY_INFO!J126<4),IF(COUNTRY_INFO!F126>MAX('MDA1'!K126,'MDA2'!K126,'T1'!M126,MAX(T3_R1!L126,T3_R2!L126)),MAX('MDA1'!K126,'MDA2'!K126,'T1'!M126,MAX(T3_R1!L126,T3_R2!L126)),COUNTRY_INFO!F126),0)","v":22677},{"$f":"IF(AND(COUNTRY_INFO!J126>1,COUNTRY_INFO!J126<4), IF(V126/COUNTRY_INFO!F126*100<>0, IF(V126/COUNTRY_INFO!F126*100>100,100,V126/COUNTRY_INFO!F126*100), \"-\"),0)","v":97.745689655172413},22677,{"$f":"IF(AND(COUNTRY_INFO!J126>1,COUNTRY_INFO!J126<4), IF(S126/P126*100<>0, IF(X126/P126*100>100,100,X126/P126*100), \"-\"),0)","v":62.006453024171492},{"$f":"COUNTRY_INFO!O126","v":25016.85809843093},null,null,{"$f":"MAX('T1'!L126,'T2'!J126)+MAX('T1'!M126,'T2'!K126)+MAX('T1'!N126,'T2'!L126)","v":22677},{"$f":"IF(COUNTRY_INFO!K126=1,IF(COUNTRY_INFO!F126*0.33>MAX('T1'!M126,'T2'!K126),MAX('T1'!M126,'T2'!K126),COUNTRY_INFO!F126*0.33),IF(COUNTRY_INFO!K126=2,IF(COUNTRY_INFO!F126*0.5>MAX('T1'!M126,'T2'!K126),MAX('T1'!M126,'T2'!K126),COUNTRY_INFO!F126*0.5),IF(COUNTRY_INFO!K126=3,IF(COUNTRY_INFO!F126>MAX('T1'!M126,'T2'!K126),MAX('T1'!M126,'T2'!K126),COUNTRY_INFO!F126),0)))","v":11600},{"$f":"IF(AND(COUNTRY_INFO!K126>0,COUNTRY_INFO!K126<4),IF(Z126>0,IF(COUNTRY_INFO!K126=1, AD126/(COUNTRY_INFO!F126*0.33)*100, IF(COUNTRY_INFO!K126=2, AD126/(COUNTRY_INFO!F126*0.5)*100, IF(COUNTRY_INFO!K126=3, AD126/COUNTRY_INFO!F126*100))),\"-\"),0)","v":100},{"$f":"IF(COUNTRY_INFO!K126=2,IF(COUNTRY_INFO!G126*0.2>MAX('T1'!N126,'T2'!L126),MAX('T1'!N126,'T2'!L126),COUNTRY_INFO!G126*0.2),IF(COUNTRY_INFO!K126=3,IF(COUNTRY_INFO!G126>MAX('T1'!N126,'T2'!L126),MAX('T1'!N126,'T2'!L126),COUNTRY_INFO!G126),0))","v":0},{"$f":"IF(AND(COUNTRY_INFO!K126>0,COUNTRY_INFO!K126<4),IF(Z126>0,IF(COUNTRY_INFO!K126=1, 0, IF(COUNTRY_INFO!K126=2, AF126/(COUNTRY_INFO!G126*0.2)*100, IF(COUNTRY_INFO!K126=3, AF126/COUNTRY_INFO!G126*100))),\"-\"),0)","v":0},11600,{"$f":"IF(AND(COUNTRY_INFO!K126>0,COUNTRY_INFO!K126<4), IF(AC126/Z126*100<>0, IF(AH126/Z126*100>100,100,AH126/Z126*100), \"-\"),0)","v":46.368732453767073},null,{"$f":"IF(AND(D126<>0, D126<>\"Unknown\",D126<>\"Stopped\",D126<>\"Not required\"),D126/COUNTRY_INFO!D126, 0)","v":0},{"$f":"IF(AND(J126<>0,J126<>\"Unknown\",J126<>\"Stopped\",J126<>\"Not required\"),J126/COUNTRY_INFO!D126, 0)","v":0},{"$f":"IF(AND(P126<>0,P126<>\"Unknown\",P126<>\"Not required\"),P126/(COUNTRY_INFO!E126+COUNTRY_INFO!F126), 0)","v":1},{"$f":"IF(AND(Z126<>0,Z126<>\"Unknown\",Z126<>\"Not required\"),IF(COUNTRY_INFO!K126=1,1,IF(COUNTRY_INFO!K126=2,0.5*COUNTRY_INFO!F126/(0.5*COUNTRY_INFO!F126+0.2*COUNTRY_INFO!G126),IF(COUNTRY_INFO!K126=3,COUNTRY_INFO!F126/(COUNTRY_INFO!F126+COUNTRY_INFO!G126)))),0)","v":0.46368732453767075},{"$f":"IF(AND(Z126<>0,Z126<>\"Unknown\",Z126<>\"Not required\"),IF(COUNTRY_INFO!K126=1,0,IF(COUNTRY_INFO!K126=2,0.2*COUNTRY_INFO!G126/(0.5*COUNTRY_INFO!F126+0.2*COUNTRY_INFO!G126),IF(COUNTRY_INFO!K126=3,COUNTRY_INFO!G126/(COUNTRY_INFO!F126+COUNTRY_INFO!G126)))),0)","v":0.5363126754623293},{"$f":"MAX(COUNTRY_INFO!D126*AK126*PROFILE!$G$7,COUNTRY_INFO!D126*AL126*PROFILE!$G$7)","v":0},{"$f":"MAX(COUNTRY_INFO!D126*AK126*PROFILE!$G$8,COUNTRY_INFO!D126*AL126*PROFILE!$G$8,COUNTRY_INFO!D126*AM126*PROFILE!$G$8)","v":13371.661670392818},{"$f":"MAX(COUNTRY_INFO!D126*AK126*PROFILE!$G$9,COUNTRY_INFO!D126*AL126*PROFILE!$G$9,COUNTRY_INFO!D126*AM126*PROFILE!$G$9,IF(AND(DISTRICT!Z126<>\"Unknown\",Z126<>\"Not required\"),COUNTRY_INFO!O126*DISTRICT!AN126,0))","v":23302.137698370476},{"$f":"MAX(COUNTRY_INFO!D126*AK126*PROFILE!$G$10,COUNTRY_INFO!D126*AL126*PROFILE!$G$10,IF(AND(DISTRICT!Z126<>\"Unknown\",Z126<>\"Not required\"),COUNTRY_INFO!O126*DISTRICT!AO126,0))","v":13416.858098430932},50090.657467194222,"Y",{"$f":"MAX('MDA2'!J126,'T1'!L126,'T2'!J126,T3_R1!K126,T3_R2!K126)","v":0},{"$f":"MAX('MDA1'!K126,'MDA2'!K126,'MDA3'!I126,'MDA3'!L126,'T1'!M126,'T2'!K126,T3_R1!L126,T3_R2!L126)","v":22677},{"$f":"MAX('MDA1'!L126,'MDA2'!L126,'MDA3'!J126,'MDA3'!M126,'T1'!N126,'T2'!L126,T3_R1!M126,T3_R2!M126)","v":0},22677,{"$f":"MAX('MDA2'!J126,T126)","v":0},{"$f":"MAX('MDA1'!K126,'MDA2'!K126,'MDA3'!I126,'MDA3'!L126,V126,AD126)","v":22677},{"$f":"MAX('MDA1'!L126,'MDA2'!L126,'MDA3'!J126,'MDA3'!M126,AF126)","v":0},22677,45.271915256556184]
[{"$f":"IF(COUNTRY_INFO!A127=0,\" \",COUNTRY_INFO!A127)","v":"Tanzania"},{"$f":"IF(COUNTRY_INFO!B127=0,\" \",COUNTRY_INFO!B127)","v":"Njombe"},{"$f":"IF(COUNTRY_INFO!C127=0,\" \",COUNTRY_INFO!C127)","v":"Njombe District Council"},{"$f":"COUNTRY_INFO!L127","v":"Stopped"},null,null,{"$f":"MAX('MDA1'!M127,'MDA2'!M127)","v":0},{"$f":"IF(AND(COUNTRY_INFO!H127>0,COUNTRY_INFO!H127<4),IF(D127>MAX('MDA1'!M127,'MDA2'!M127),MAX('MDA1'!M127,'MDA2'!M127),D127),0)","v":0},{"$f":"IF(AND(COUNTRY_INFO!H127>0,COUNTRY_INFO!H127<4), IF(G127/D127*100<>0, IF(G127/D127*100>100,100,G127/D127*100), \"-\"),0)","v":0},{"$f":"COUNTRY_INFO!M127","v":91382.634058691227},null,null,{"$f":"MAX('MDA1'!M127,MAX('MDA3'!I127,'MDA3'!L127)+MAX('MDA3'!J127,'MDA3'!M127))","v":0},{"$f":"IF(AND(COUNTRY_INFO!I127>0,COUNTRY_INFO!I127<4),IF(J127>MAX('MDA1'!M127,MAX('MDA3'!I127,'MDA3'!L127)+MAX('MDA3'!J127,'MDA3'!M127)),MAX('MDA1'!M127,MAX('MDA3'!I127,'MDA3'!L127)+MAX('MDA3'!J127,'MDA3'!M127)),J127),0)","v":0},{"$f":"IF(AND(COUNTRY_INFO!I127>0,COUNTRY_INFO!I127<4), IF(M127/J127*100<>0, IF(M127/J127*100>100,100,M127/J127*100), \"-\"),0)","v":"-"},{"$f":"COUNTRY_INFO!N127","v":36172},null,null,{"$f":"SUM(MAX('MDA2'!J127, 'T1'!L127, MAX(T3_R1!K127, T3_R2!K127)), MAX('MDA1'!K127, 'MDA2'!K127, 'T1'!M127, MAX(T3_R1!L127, T3_R2!L127)), MAX('MDA1'!L127, 'MDA2'!L127, 'T1'!N127, MAX(T3_R1!M127, T3_R2!M127)))","v":24250},{"$f":"IF(AND(COUNTRY_INFO!J127>1,COUNTRY_INFO!J127<4),IF(COUNTRY_INFO!E127>MAX('MDA2'!J127,'T1'!L127,MAX(T3_R1!K127,T3_R2!K127)),MAX('MDA2'!J127,'T1'!L127,MAX(T3_R1!K127,T3_R2!K127)),COUNTRY_INFO!E127),0)","v":0},{"$f":"IF(AND(COUNTRY_INFO!J127>1,COUNTRY_INFO!J127<4), IF(T127/COUNTRY_INFO!E127*100<>0, IF(T127/COUNTRY_INFO!E127*100>100,100,T127/COUNTRY_INFO!E127*100), \"-\"),0)","v":"-"},{"$f":"IF(AND(COUNTRY_INFO!J127>1,COUNTRY_INFO!J127<4),IF(COUNTRY_INFO!F127>MAX('MDA1'!K127,'MDA2'!K127,'T1'!M127,MAX(T3_R1!L127,T3_R2!L127)),MAX('MDA1'!K127,'MDA2'!K127,'T1'!M127,MAX(T3_R1!L127,T3_R2!L127)),COUNTRY_INFO!F127),0)","v":24250},{"$f":"IF(AND(COUNTRY_INFO!J127>1,COUNTRY_INFO!J127<4), IF(V127/COUNTRY_INFO!F127*100<>0, IF(V127/COUNTRY_INFO!F127*100>100,100,V127/COUNTRY_INFO!F127*100), \"-\"),0)","v":99.450459317585299},24250,{"$f":"IF(AND(COUNTRY_INFO!J127>1,COUNTRY_INFO!J127<4), IF(S127/P127*100<>0, IF(X127/P127*100>100,100,X127/P127*100), \"-\"),0)","v":67.040805042574362},{"$f":"COUNTRY_INFO!O127","v":23234.126811738246},null,null,{"$f":"MAX('T1'!L127,'T2'!J127)+MAX('T1'!M127,'T2'!K127)+MAX('T1'!N127,'T2'!L127)","v":24250},{"$f":"IF(COUNTRY_INFO!K127=1,IF(COUNTRY_INFO!F127*0.33>MAX('T1'!M127,'T2'!K127),MAX('T1'!M127,'T2'!K127),COUNTRY_INFO!F127*0.33),IF(COUNTRY_INFO!K127=2,IF(COUNTRY_INFO!F127*0.5>MAX('T1'!M127,'T2'!K127),MAX('T1'!M127,'T2'!K127),COUNTRY_INFO!F127*0.5),IF(COUNTRY_INFO!K127=3,IF(COUNTRY_INFO!F127>MAX('T1'!M127,'T2'!K127),MAX('T1'!M127,'T2'!K127),COUNTRY_INFO!F127),0)))","v":12192},{"$f":"IF(AND(COUNTRY_INFO!K127>0,COUNTRY_INFO!K127<4),IF(Z127>0,IF(COUNTRY_INFO!K127=1, AD127/(COUNTRY_INFO!F127*0.33)*100, IF(COUNTRY_INFO!K127=2, AD127/(COUNTRY_INFO!F127*0.5)*100, IF(COUNTRY_INFO!K127=3, AD127/COUNTRY_INFO!F127*100))),\"-\"),0)","v":100},{"$f":"IF(COUNTRY_INFO!K127=2,IF(COUNTRY_INFO!G127*0.2>MAX('T1'!N127,'T2'!L127),MAX('T1'!N127,'T2'!L127),COUNTRY_INFO!G127*0.2),IF(COUNTRY_INFO!K127=3,IF(COUNTRY_INFO!G127>MAX('T1'!N127,'T2'!L127),MAX('T1'!N127,'T2'!L127),COUNTRY_INFO!G127),0))","v":0},{"$f":"IF(AND(COUNTRY_INFO!K127>0,COUNTRY_INFO!K127<4),IF(Z127>0,IF(COUNTRY_INFO!K127=1, 0, IF(COUNTRY_INFO!K127=2, AF127/(COUNTRY_INFO!G127*0.2)*100, IF(COUNTRY_INFO!K127=3, AF127/COUNTRY_INFO!G127*100))),\"-\"),0)","v":0},12192,{"$f":"IF(AND(COUNTRY_INFO!K127>0,COUNTRY_INFO!K127<4), IF(AC127/Z127*100<>0, IF(AH127/Z127*100>100,100,AH127/Z127*100), \"-\"),0)","v":52.474534975165966},null,{"$f":"IF(AND(D127<>0, D127<>\"Unknown\",D127<>\"Stopped\",D127<>\"Not required\"),D127/COUNTRY_INFO!D127, 0)","v":0},{"$f":"IF(AND(J127<>0,J127<>\"Unknown\",J127<>\"Stopped\",J127<>\"Not required\"),J127/COUNTRY_INFO!D127, 0)","v":1},{"$f":"IF(AND(P127<>0,P127<>\"Unknown\",P127<>\"Not required\"),P127/(COUNTRY_INFO!E127+COUNTRY_INFO!F127), 0)","v":1},{"$f":"IF(AND(Z127<>0,Z127<>\"Unknown\",Z127<>\"Not required\"),IF(COUNTRY_INFO!K127=1,1,IF(COUNTRY_INFO!K127=2,0.5*COUNTRY_INFO!F127/(0.5*COUNTRY_INFO!F127+0.2*COUNTRY_INFO!G127),IF(COUNTRY_INFO!K127=3,COUNTRY_INFO!F127/(COUNTRY_INFO!F127+COUNTRY_INFO!G127)))),0)","v":0.52474534975165965},{"$f":"IF(AND(Z127<>0,Z127<>\"Unknown\",Z127<>\"Not required\"),IF(COUNTRY_INFO!K127=1,0,IF(COUNTRY_INFO!K127=2,0.2*COUNTRY_INFO!G127/(0.5*COUNTRY_INFO!F127+0.2*COUNTRY_INFO!G127),IF(COUNTRY_INFO!K127=3,COUNTRY_INFO!G127/(COUNTRY_INFO!F127+COUNTRY_INFO!G127)))),0)","v":0.47525465024834029},{"$f":"MAX(COUNTRY_INFO!D127*AK127*PROFILE!$G$7,COUNTRY_INFO!D127*AL127*PROFILE!$G$7)","v":1.6756797029896947E-3},{"$f":"MAX(COUNTRY_INFO!D127*AK127*PROFILE!$G$8,COUNTRY_INFO!D127*AL127*PROFILE!$G$8,COUNTRY_INFO!D127*AM127*PROFILE!$G$8)","v":11788.35996716107},{"$f":"MAX(COUNTRY_INFO!D127*AK127*PROFILE!$G$9,COUNTRY_INFO!D127*AL127*PROFILE!$G$9,COUNTRY_INFO!D127*AM127*PROFILE!$G$9,IF(AND(DISTRICT!Z127<>\"Unknown\",Z127<>\"Not required\"),COUNTRY_INFO!O127*DISTRICT!AN127,0))","v":20542.99562491665},{"$f":"MAX(COUNTRY_INFO!D127*AK127*PROFILE!$G$10,COUNTRY_INFO!D127*AL127*PROFILE!$G$10,IF(AND(DISTRICT!Z127<>\"Unknown\",Z127<>\"Not required\"),COUNTRY_INFO!O127*DISTRICT!AO127,0))","v":59051.2767909338},91382.634058691227,0,{"$f":"MAX('MDA2'!J127,'T1'!L127,'T2'!J127,T3_R1!K127,T3_R2!K127)","v":0},{"$f":"MAX('MDA1'!K127,'MDA2'!K127,'MDA3'!I127,'MDA3'!L127,'T1'!M127,'T2'!K127,T3_R1!L127,T3_R2!L127)","v":24250},{"$f":"MAX('MDA1'!L127,'MDA2'!L127,'MDA3'!J127,'MDA3'!M127,'T1'!N127,'T2'!L127,T3_R1!M127,T3_R2!M127)","v":0},24250,{"$f":"MAX('MDA2'!J127,T127)","v":0},{"$f":"MAX('MDA1'!K127,'MDA2'!K127,'MDA3'!I127,'MDA3'!L127,V127,AD127)","v":24250},{"$f":"MAX('MDA1'!L127,'MDA2'!L127,'MDA3'!J127,'MDA3'!M127,AF127)","v":0},24250,26.536770634588237]
[{"$f":"IF(COUNTRY_INFO!A128=0,\" \",COUNTRY_INFO!A128)","v":"Tanzania"},{"$f":"IF(COUNTRY_INFO!B128=0,\" \",COUNTRY_INFO!B128)","v":"Njombe"},{"$f":"IF(COUNTRY_INFO!C128=0,\" \",COUNTRY_INFO!C128)","v":"Njombe Town Council"},{"$f":"COUNTRY_INFO!L128","v":"Stopped"},null,null,{"$f":"MAX('MDA1'!M128,'MDA2'!M128)","v":0},{"$f":"IF(AND(COUNTRY_INFO!H128>0,COUNTRY_INFO!H128<4),IF(D128>MAX('MDA1'!M128,'MDA2'!M128),MAX('MDA1'!M128,'MDA2'!M128),D128),0)","v":0},{"$f":"IF(AND(COUNTRY_INFO!H128>0,COUNTRY_INFO!H128<4), IF(G128/D128*100<>0, IF(G128/D128*100>100,100,G128/D128*100), \"-\"),0)","v":0},{"$f":"COUNTRY_INFO!M128","v":0},null,null,{"$f":"MAX('MDA1'!M128,MAX('MDA3'!I128,'MDA3'!L128)+MAX('MDA3'!J128,'MDA3'!M128))","v":0},{"$f":"IF(AND(COUNTRY_INFO!I128>0,COUNTRY_INFO!I128<4),IF(J128>MAX('MDA1'!M128,MAX('MDA3'!I128,'MDA3'!L128)+MAX('MDA3'!J128,'MDA3'!M128)),MAX('MDA1'!M128,MAX('MDA3'!I128,'MDA3'!L128)+MAX('MDA3'!J128,'MDA3'!M128)),J128),0)","v":0},{"$f":"IF(AND(COUNTRY_INFO!I128>0,COUNTRY_INFO!I128<4), IF(M128/J128*100<>0, IF(M128/J128*100>100,100,M128/J128*100), \"-\"),0)","v":0},{"$f":"COUNTRY_INFO!N128","v":55542},null,null,{"$f":"SUM(MAX('MDA2'!J128, 'T1'!L128, MAX(T3_R1!K128, T3_R2!K128)), MAX('MDA1'!K128, 'MDA2'!K128, 'T1'!M128, MAX(T3_R1!L128, T3_R2!L128)), MAX('MDA1'!L128, 'MDA2'!L128, 'T1'!N128, MAX(T3_R1!M128, T3_R2!M128)))","v":35356},{"$f":"IF(AND(COUNTRY_INFO!J128>1,COUNTRY_INFO!J128<4),IF(COUNTRY_INFO!E128>MAX('MDA2'!J128,'T1'!L128,MAX(T3_R1!K128,T3_R2!K128)),MAX('MDA2'!J128,'T1'!L128,MAX(T3_R1!K128,T3_R2!K128)),COUNTRY_INFO!E128),0)","v":0},{"$f":"IF(AND(COUNTRY_INFO!J128>1,COUNTRY_INFO!J128<4), IF(T128/COUNTRY_INFO!E128*100<>0, IF(T128/COUNTRY_INFO!E128*100>100,100,T128/COUNTRY_INFO!E128*100), \"-\"),0)","v":"-"},{"$f":"IF(AND(COUNTRY_INFO!J128>1,COUNTRY_INFO!J128<4),IF(COUNTRY_INFO!F128>MAX('MDA1'!K128,'MDA2'!K128,'T1'!M128,MAX(T3_R1!L128,T3_R2!L128)),MAX('MDA1'!K128,'MDA2'!K128,'T1'!M128,MAX(T3_R1!L128,T3_R2!L128)),COUNTRY_INFO!F128),0)","v":35356},{"$f":"IF(AND(COUNTRY_INFO!J128>1,COUNTRY_INFO!J128<4), IF(V128/COUNTRY_INFO!F128*100<>0, IF(V128/COUNTRY_INFO!F128*100>100,100,V128/COUNTRY_INFO!F128*100), \"-\"),0)","v":93.934482850235128},35356,{"$f":"IF(AND(COUNTRY_INFO!J128>1,COUNTRY_INFO!J128<4), IF(S128/P128*100<>0, IF(X128/P128*100>100,100,X128/P128*100), \"-\"),0)","v":63.656332145043393},{"$f":"COUNTRY_INFO!O128","v":35467.013007492904},null,null,{"$f":"MAX('T1'!L128,'T2'!J128)+MAX('T1'!M128,'T2'!K128)+MAX('T1'!N128,'T2'!L128)","v":35356},{"$f":"IF(COUNTRY_INFO!K128=1,IF(COUNTRY_INFO!F128*0.33>MAX('T1'!M128,'T2'!K128),MAX('T1'!M128,'T2'!K128),COUNTRY_INFO!F128*0.33),IF(COUNTRY_INFO!K128=2,IF(COUNTRY_INFO!F128*0.5>MAX('T1'!M128,'T2'!K128),MAX('T1'!M128,'T2'!K128),COUNTRY_INFO!F128*0.5),IF(COUNTRY_INFO!K128=3,IF(COUNTRY_INFO!F128>MAX('T1'!M128,'T2'!K128),MAX('T1'!M128,'T2'!K128),COUNTRY_INFO!F128),0)))","v":18819.5},{"$f":"IF(AND(COUNTRY_INFO!K128>0,COUNTRY_INFO!K128<4),IF(Z128>0,IF(COUNTRY_INFO!K128=1, AD128/(COUNTRY_INFO!F128*0.33)*100, IF(COUNTRY_INFO!K128=2, AD128/(COUNTRY_INFO!F128*0.5)*100, IF(COUNTRY_INFO!K128=3, AD128/COUNTRY_INFO!F128*100))),\"-\"),0)","v":100},{"$f":"IF(COUNTRY_INFO!K128=2,IF(COUNTRY_INFO!G128*0.2>MAX('T1'!N128,'T2'!L128),MAX('T1'!N128,'T2'!L128),COUNTRY_INFO!G128*0.2),IF(COUNTRY_INFO!K128=3,IF(COUNTRY_INFO!G128>MAX('T1'!N128,'T2'!L128),MAX('T1'!N128,'T2'!L128),COUNTRY_INFO!G128),0))","v":0},{"$f":"IF(AND(COUNTRY_INFO!K128>0,COUNTRY_INFO!K128<4),IF(Z128>0,IF(COUNTRY_INFO!K128=1, 0, IF(COUNTRY_INFO!K128=2, AF128/(COUNTRY_INFO!G128*0.2)*100, IF(COUNTRY_INFO!K128=3, AF128/COUNTRY_INFO!G128*100))),\"-\"),0)","v":0},18819.5,{"$f":"IF(AND(COUNTRY_INFO!K128>0,COUNTRY_INFO!K128<4), IF(AC128/Z128*100<>0, IF(AH128/Z128*100>100,100,AH128/Z128*100), \"-\"),0)","v":53.061981836542358},null,{"$f":"IF(AND(D128<>0, D128<>\"Unknown\",D128<>\"Stopped\",D128<>\"Not required\"),D128/COUNTRY_INFO!D128, 0)","v":0},{"$f":"IF(AND(J128<>0,J128<>\"Unknown\",J128<>\"Stopped\",J128<>\"Not required\"),J128/COUNTRY_INFO!D128, 0)","v":0},{"$f":"IF(AND(P128<>0,P128<>\"Unknown\",P128<>\"Not required\"),P128/(COUNTRY_INFO!E128+COUNTRY_INFO!F128), 0)","v":1},{"$f":"IF(AND(Z128<>0,Z128<>\"Unknown\",Z128<>\"Not required\"),IF(COUNTRY_INFO!K128=1,1,IF(COUNTRY_INFO!K128=2,0.5*COUNTRY_INFO!F128/(0.5*COUNTRY_INFO!F128+0.2*COUNTRY_INFO!G128),IF(COUNTRY_INFO!K128=3,COUNTRY_INFO!F128/(COUNTRY_INFO!F128+COUNTRY_INFO!G128)))),0)","v":0.5306198183654236},{"$f":"IF(AND(Z128<>0,Z128<>\"Unknown\",Z128<>\"Not required\"),IF(COUNTRY_INFO!K128=1,0,IF(COUNTRY_INFO!K128=2,0.2*COUNTRY_INFO!G128/(0.5*COUNTRY_INFO!F128+0.2*COUNTRY_INFO!G128),IF(COUNTRY_INFO!K128=3,COUNTRY_INFO!G128/(COUNTRY_INFO!F128+COUNTRY_INFO!G128)))),0)","v":0.46938018163457634},{"$f":"MAX(COUNTRY_INFO!D128*AK128*PROFILE!$G$7,COUNTRY_INFO!D128*AL128*PROFILE!$G$7)","v":0},{"$f":"MAX(COUNTRY_INFO!D128*AK128*PROFILE!$G$8,COUNTRY_INFO!D128*AL128*PROFILE!$G$8,COUNTRY_INFO!D128*AM128*PROFILE!$G$8)","v":17902.564153457748},{"$f":"MAX(COUNTRY_INFO!D128*AK128*PROFILE!$G$9,COUNTRY_INFO!D128*AL128*PROFILE!$G$9,COUNTRY_INFO!D128*AM128*PROFILE!$G$9,IF(AND(DISTRICT!Z128<>\"Unknown\",Z128<>\"Not required\"),COUNTRY_INFO!O128*DISTRICT!AN128,0))","v":31197.918803275301},{"$f":"MAX(COUNTRY_INFO!D128*AK128*PROFILE!$G$10,COUNTRY_INFO!D128*AL128*PROFILE!$G$10,IF(AND(DISTRICT!Z128<>\"Unknown\",Z128<>\"Not required\"),COUNTRY_INFO!O128*DISTRICT!AO128,0))","v":16647.5130074929},65747.995964225949,"Y",{"$f":"MAX('MDA2'!J128,'T1'!L128,'T2'!J128,T3_R1!K128,T3_R2!K128)","v":0},{"$f":"MAX('MDA1'!K128,'MDA2'!K128,'MDA3'!I128,'MDA3'!L128,'T1'!M128,'T2'!K128,T3_R1!L128,T3_R2!L128)","v":35356},{"$f":"MAX('MDA1'!L128,'MDA2'!L128,'MDA3'!J128,'MDA3'!M128,'T1'!N128,'T2'!L128,T3_R1!M128,T3_R2!M128)","v":0},35356,{"$f":"MAX('MDA2'!J128,T128)","v":0},{"$f":"MAX('MDA1'!K128,'MDA2'!K128,'MDA3'!I128,'MDA3'!L128,V128,AD128)","v":35356},{"$f":"MAX('MDA1'!L128,'MDA2'!L128,'MDA3'!J128,'MDA3'!M128,AF128)","v":0},35356,53.775023073307828]
[{"$f":"IF(COUNTRY_INFO!A129=0,\" \",COUNTRY_INFO!A129)","v":"Tanzania"},{"$f":"IF(COUNTRY_INFO!B129=0,\" \",COUNTRY_INFO!B129)","v":"Njombe"},{"$f":"IF(COUNTRY_INFO!C129=0,\" \",COUNTRY_INFO!C129)","v":"Wanging'ombe District Council"},{"$f":"COUNTRY_INFO!L129","v":"Stopped"},null,null,{"$f":"MAX('MDA1'!M129,'MDA2'!M129)","v":0},{"$f":"IF(AND(COUNTRY_INFO!H129>0,COUNTRY_INFO!H129<4),IF(D129>MAX('MDA1'!M129,'MDA2'!M129),MAX('MDA1'!M129,'MDA2'!M129),D129),0)","v":0},{"$f":"IF(AND(COUNTRY_INFO!H129>0,COUNTRY_INFO!H129<4), IF(G129/D129*100<>0, IF(G129/D129*100>100,100,G129/D129*100), \"-\"),0)","v":0},{"$f":"COUNTRY_INFO!M129","v":0},null,null,{"$f":"MAX('MDA1'!M129,MAX('MDA3'!I129,'MDA3'!L129)+MAX('MDA3'!J129,'MDA3'!M129))","v":0},{"$f":"IF(AND(COUNTRY_INFO!I129>0,COUNTRY_INFO!I129<4),IF(J129>MAX('MDA1'!M129,MAX('MDA3'!I129,'MDA3'!L129)+MAX('MDA3'!J129,'MDA3'!M129)),MAX('MDA1'!M129,MAX('MDA3'!I129,'MDA3'!L129)+MAX('MDA3'!J129,'MDA3'!M129)),J129),0)","v":0},{"$f":"IF(AND(COUNTRY_INFO!I129>0,COUNTRY_INFO!I129<4), IF(M129/J129*100<>0, IF(M129/J129*100>100,100,M129/J129*100), \"-\"),0)","v":0},{"$f":"COUNTRY_INFO!N129","v":65431},null,null,{"$f":"SUM(MAX('MDA2'!J129, 'T1'!L129, MAX(T3_R1!K129, T3_R2!K129)), MAX('MDA1'!K129, 'MDA2'!K129, 'T1'!M129, MAX(T3_R1!L129, T3_R2!L129)), MAX('MDA1'!L129, 'MDA2'!L129, 'T1'!N129, MAX(T3_R1!M129, T3_R2!M129)))","v":42487},{"$f":"IF(AND(COUNTRY_INFO!J129>1,COUNTRY_INFO!J129<4),IF(COUNTRY_INFO!E129>MAX('MDA2'!J129,'T1'!L129,MAX(T3_R1!K129,T3_R2!K129)),MAX('MDA2'!J129,'T1'!L129,MAX(T3_R1!K129,T3_R2!K129)),COUNTRY_INFO!E129),0)","v":0},{"$f":"IF(AND(COUNTRY_INFO!J129>1,COUNTRY_INFO!J129<4), IF(T129/COUNTRY_INFO!E129*100<>0, IF(T129/COUNTRY_INFO!E129*100>100,100,T129/COUNTRY_INFO!E129*100), \"-\"),0)","v":"-"},{"$f":"IF(AND(COUNTRY_INFO!J129>1,COUNTRY_INFO!J129<4),IF(COUNTRY_INFO!F129>MAX('MDA1'!K129,'MDA2'!K129,'T1'!M129,MAX(T3_R1!L129,T3_R2!L129)),MAX('MDA1'!K129,'MDA2'!K129,'T1'!M129,MAX(T3_R1!L129,T3_R2!L129)),COUNTRY_INFO!F129),0)","v":42487},{"$f":"IF(AND(COUNTRY_INFO!J129>1,COUNTRY_INFO!J129<4), IF(V129/COUNTRY_INFO!F129*100<>0, IF(V129/COUNTRY_INFO!F129*100>100,100,V129/COUNTRY_INFO!F129*100), \"-\"),0)","v":98.383698043302076},42487,{"$f":"IF(AND(COUNTRY_INFO!J129>1,COUNTRY_INFO!J129<4), IF(S129/P129*100<>0, IF(X129/P129*100>100,100,X129/P129*100), \"-\"),0)","v":64.934052666167403},{"$f":"COUNTRY_INFO!O129","v":42996.007891255518},null,null,{"$f":"MAX('T1'!L129,'T2'!J129)+MAX('T1'!M129,'T2'!K129)+MAX('T1'!N129,'T2'!L129)","v":42487},{"$f":"IF(COUNTRY_INFO!K129=1,IF(COUNTRY_INFO!F129*0.33>MAX('T1'!M129,'T2'!K129),MAX('T1'!M129,'T2'!K129),COUNTRY_INFO!F129*0.33),IF(COUNTRY_INFO!K129=2,IF(COUNTRY_INFO!F129*0.5>MAX('T1'!M129,'T2'!K129),MAX('T1'!M129,'T2'!K129),COUNTRY_INFO!F129*0.5),IF(COUNTRY_INFO!K129=3,IF(COUNTRY_INFO!F129>MAX('T1'!M129,'T2'!K129),MAX('T1'!M129,'T2'!K129),COUNTRY_INFO!F129),0)))","v":21592.5},{"$f":"IF(AND(COUNTRY_INFO!K129>0,COUNTRY_INFO!K129<4),IF(Z129>0,IF(COUNTRY_INFO!K129=1, AD129/(COUNTRY_INFO!F129*0.33)*100, IF(COUNTRY_INFO!K129=2, AD129/(COUNTRY_INFO!F129*0.5)*100, IF(COUNTRY_INFO!K129=3, AD129/COUNTRY_INFO!F129*100))),\"-\"),0)","v":100},{"$f":"IF(COUNTRY_INFO!K129=2,IF(COUNTRY_INFO!G129*0.2>MAX('T1'!N129,'T2'!L129),MAX('T1'!N129,'T2'!L129),COUNTRY_INFO!G129*0.2),IF(COUNTRY_INFO!K129=3,IF(COUNTRY_INFO!G129>MAX('T1'!N129,'T2'!L129),MAX('T1'!N129,'T2'!L129),COUNTRY_INFO!G129),0))","v":0},{"$f":"IF(AND(COUNTRY_INFO!K129>0,COUNTRY_INFO!K129<4),IF(Z129>0,IF(COUNTRY_INFO!K129=1, 0, IF(COUNTRY_INFO!K129=2, AF129/(COUNTRY_INFO!G129*0.2)*100, IF(COUNTRY_INFO!K129=3, AF129/COUNTRY_INFO!G129*100))),\"-\"),0)","v":0},21592.5,{"$f":"IF(AND(COUNTRY_INFO!K129>0,COUNTRY_INFO!K129<4), IF(AC129/Z129*100<>0, IF(AH129/Z129*100>100,100,AH129/Z129*100), \"-\"),0)","v":50.219778670176161},null,{"$f":"IF(AND(D129<>0, D129<>\"Unknown\",D129<>\"Stopped\",D129<>\"Not required\"),D129/COUNTRY_INFO!D129, 0)","v":0},{"$f":"IF(AND(J129<>0,J129<>\"Unknown\",J129<>\"Stopped\",J129<>\"Not required\"),J129/COUNTRY_INFO!D129, 0)","v":0},{"$f":"IF(AND(P129<>0,P129<>\"Unknown\",P129<>\"Not required\"),P129/(COUNTRY_INFO!E129+COUNTRY_INFO!F129), 0)","v":1},{"$f":"IF(AND(Z129<>0,Z129<>\"Unknown\",Z129<>\"Not required\"),IF(COUNTRY_INFO!K129=1,1,IF(COUNTRY_INFO!K129=2,0.5*COUNTRY_INFO!F129/(0.5*COUNTRY_INFO!F129+0.2*COUNTRY_INFO!G129),IF(COUNTRY_INFO!K129=3,COUNTRY_INFO!F129/(COUNTRY_INFO!F129+COUNTRY_INFO!G129)))),0)","v":0.50219778670176163},{"$f":"IF(AND(Z129<>0,Z129<>\"Unknown\",Z129<>\"Not required\"),IF(COUNTRY_INFO!K129=1,0,IF(COUNTRY_INFO!K129=2,0.2*COUNTRY_INFO!G129/(0.5*COUNTRY_INFO!F129+0.2*COUNTRY_INFO!G129),IF(COUNTRY_INFO!K129=3,COUNTRY_INFO!G129/(COUNTRY_INFO!F129+COUNTRY_INFO!G129)))),0)","v":0.49780221329823832},{"$f":"MAX(COUNTRY_INFO!D129*AK129*PROFILE!$G$7,COUNTRY_INFO!D129*AL129*PROFILE!$G$7)","v":0},{"$f":"MAX(COUNTRY_INFO!D129*AK129*PROFILE!$G$8,COUNTRY_INFO!D129*AL129*PROFILE!$G$8,COUNTRY_INFO!D129*AM129*PROFILE!$G$8)","v":22245.861917442016},{"$f":"MAX(COUNTRY_INFO!D129*AK129*PROFILE!$G$9,COUNTRY_INFO!D129*AL129*PROFILE!$G$9,COUNTRY_INFO!D129*AM129*PROFILE!$G$9,IF(AND(DISTRICT!Z129<>\"Unknown\",Z129<>\"Not required\"),COUNTRY_INFO!O129*DISTRICT!AN129,0))","v":38766.770383290852},{"$f":"MAX(COUNTRY_INFO!D129*AK129*PROFILE!$G$10,COUNTRY_INFO!D129*AL129*PROFILE!$G$10,IF(AND(DISTRICT!Z129<>\"Unknown\",Z129<>\"Not required\"),COUNTRY_INFO!O129*DISTRICT!AO129,0))","v":21403.507891255518},82416.140191988379,"Y",{"$f":"MAX('MDA2'!J129,'T1'!L129,'T2'!J129,T3_R1!K129,T3_R2!K129)","v":0},{"$f":"MAX('MDA1'!K129,'MDA2'!K129,'MDA3'!I129,'MDA3'!L129,'T1'!M129,'T2'!K129,T3_R1!L129,T3_R2!L129)","v":42487},{"$f":"MAX('MDA1'!L129,'MDA2'!L129,'MDA3'!J129,'MDA3'!M129,'T1'!N129,'T2'!L129,T3_R1!M129,T3_R2!M129)","v":0},42487,{"$f":"MAX('MDA2'!J129,T129)","v":0},{"$f":"MAX('MDA1'!K129,'MDA2'!K129,'MDA3'!I129,'MDA3'!L129,V129,AD129)","v":42487},{"$f":"MAX('MDA1'!L129,'MDA2'!L129,'MDA3'!J129,'MDA3'!M129,AF129)","v":0},42487,51.551795438401435]
[{"$f":"IF(COUNTRY_INFO!A130=0,\" \",COUNTRY_INFO!A130)","v":"Tanzania"},{"$f":"IF(COUNTRY_INFO!B130=0,\" \",COUNTRY_INFO!B130)","v":"Pwani"},{"$f":"IF(COUNTRY_INFO!C130=0,\" \",COUNTRY_INFO!C130)","v":"Bagamoyo District Council"},{"$f":"COUNTRY_INFO!L130","v":"Stopped"},null,null,{"$f":"MAX('MDA1'!M130,'MDA2'!M130)","v":0},{"$f":"IF(AND(COUNTRY_INFO!H130>0,COUNTRY_INFO!H130<4),IF(D130>MAX('MDA1'!M130,'MDA2'!M130),MAX('MDA1'!M130,'MDA2'!M130),D130),0)","v":0},{"$f":"IF(AND(COUNTRY_INFO!H130>0,COUNTRY_INFO!H130<4), IF(G130/D130*100<>0, IF(G130/D130*100>100,100,G130/D130*100), \"-\"),0)","v":0},{"$f":"COUNTRY_INFO!M130","v":0},null,null,{"$f":"MAX('MDA1'!M130,MAX('MDA3'!I130,'MDA3'!L130)+MAX('MDA3'!J130,'MDA3'!M130))","v":0},{"$f":"IF(AND(COUNTRY_INFO!I130>0,COUNTRY_INFO!I130<4),IF(J130>MAX('MDA1'!M130,MAX('MDA3'!I130,'MDA3'!L130)+MAX('MDA3'!J130,'MDA3'!M130)),MAX('MDA1'!M130,MAX('MDA3'!I130,'MDA3'!L130)+MAX('MDA3'!J130,'MDA3'!M130)),J130),0)","v":0},{"$f":"IF(AND(COUNTRY_INFO!I130>0,COUNTRY_INFO!I130<4), IF(M130/J130*100<>0, IF(M130/J130*100>100,100,M130/J130*100), \"-\"),0)","v":0},{"$f":"COUNTRY_INFO!N130","v":49937},null,null,{"$f":"SUM(MAX('MDA2'!J130, 'T1'!L130, MAX(T3_R1!K130, T3_R2!K130)), MAX('MDA1'!K130, 'MDA2'!K130, 'T1'!M130, MAX(T3_R1!L130, T3_R2!L130)), MAX('MDA1'!L130, 'MDA2'!L130, 'T1'!N130, MAX(T3_R1!M130, T3_R2!M130)))","v":34241},{"$f":"IF(AND(COUNTRY_INFO!J130>1,COUNTRY_INFO!J130<4),IF(COUNTRY_INFO!E130>MAX('MDA2'!J130,'T1'!L130,MAX(T3_R1!K130,T3_R2!K130)),MAX('MDA2'!J130,'T1'!L130,MAX(T3_R1!K130,T3_R2!K130)),COUNTRY_INFO!E130),0)","v":0},{"$f":"IF(AND(COUNTRY_INFO!J130>1,COUNTRY_INFO!J130<4), IF(T130/COUNTRY_INFO!E130*100<>0, IF(T130/COUNTRY_INFO!E130*100>100,100,T130/COUNTRY_INFO!E130*100), \"-\"),0)","v":"-"},{"$f":"IF(AND(COUNTRY_INFO!J130>1,COUNTRY_INFO!J130<4),IF(COUNTRY_INFO!F130>MAX('MDA1'!K130,'MDA2'!K130,'T1'!M130,MAX(T3_R1!L130,T3_R2!L130)),MAX('MDA1'!K130,'MDA2'!K130,'T1'!M130,MAX(T3_R1!L130,T3_R2!L130)),COUNTRY_INFO!F130),0)","v":34241},{"$f":"IF(AND(COUNTRY_INFO!J130>1,COUNTRY_INFO!J130<4), IF(V130/COUNTRY_INFO!F130*100<>0, IF(V130/COUNTRY_INFO!F130*100>100,100,V130/COUNTRY_INFO!F130*100), \"-\"),0)","v":97.960176231618703},34241,{"$f":"IF(AND(COUNTRY_INFO!J130>1,COUNTRY_INFO!J130<4), IF(S130/P130*100<>0, IF(X130/P130*100>100,100,X130/P130*100), \"-\"),0)","v":68.568396179185783},{"$f":"COUNTRY_INFO!O130","v":30719.769720576998},null,null,{"$f":"MAX('T1'!L130,'T2'!J130)+MAX('T1'!M130,'T2'!K130)+MAX('T1'!N130,'T2'!L130)","v":0},{"$f":"IF(COUNTRY_INFO!K130=1,IF(COUNTRY_INFO!F130*0.33>MAX('T1'!M130,'T2'!K130),MAX('T1'!M130,'T2'!K130),COUNTRY_INFO!F130*0.33),IF(COUNTRY_INFO!K130=2,IF(COUNTRY_INFO!F130*0.5>MAX('T1'!M130,'T2'!K130),MAX('T1'!M130,'T2'!K130),COUNTRY_INFO!F130*0.5),IF(COUNTRY_INFO!K130=3,IF(COUNTRY_INFO!F130>MAX('T1'!M130,'T2'!K130),MAX('T1'!M130,'T2'!K130),COUNTRY_INFO!F130),0)))","v":0},{"$f":"IF(AND(COUNTRY_INFO!K130>0,COUNTRY_INFO!K130<4),IF(Z130>0,IF(COUNTRY_INFO!K130=1, AD130/(COUNTRY_INFO!F130*0.33)*100, IF(COUNTRY_INFO!K130=2, AD130/(COUNTRY_INFO!F130*0.5)*100, IF(COUNTRY_INFO!K130=3, AD130/COUNTRY_INFO!F130*100))),\"-\"),0)","v":0},{"$f":"IF(COUNTRY_INFO!K130=2,IF(COUNTRY_INFO!G130*0.2>MAX('T1'!N130,'T2'!L130),MAX('T1'!N130,'T2'!L130),COUNTRY_INFO!G130*0.2),IF(COUNTRY_INFO!K130=3,IF(COUNTRY_INFO!G130>MAX('T1'!N130,'T2'!L130),MAX('T1'!N130,'T2'!L130),COUNTRY_INFO!G130),0))","v":0},{"$f":"IF(AND(COUNTRY_INFO!K130>0,COUNTRY_INFO!K130<4),IF(Z130>0,IF(COUNTRY_INFO!K130=1, 0, IF(COUNTRY_INFO!K130=2, AF130/(COUNTRY_INFO!G130*0.2)*100, IF(COUNTRY_INFO!K130=3, AF130/COUNTRY_INFO!G130*100))),\"-\"),0)","v":0},0,{"$f":"IF(AND(COUNTRY_INFO!K130>0,COUNTRY_INFO!K130<4), IF(AC130/Z130*100<>0, IF(AH130/Z130*100>100,100,AH130/Z130*100), \"-\"),0)","v":"-"},null,{"$f":"IF(AND(D130<>0, D130<>\"Unknown\",D130<>\"Stopped\",D130<>\"Not required\"),D130/COUNTRY_INFO!D130, 0)","v":0},{"$f":"IF(AND(J130<>0,J130<>\"Unknown\",J130<>\"Stopped\",J130<>\"Not required\"),J130/COUNTRY_INFO!D130, 0)","v":0},{"$f":"IF(AND(P130<>0,P130<>\"Unknown\",P130<>\"Not required\"),P130/(COUNTRY_INFO!E130+COUNTRY_INFO!F130), 0)","v":1},{"$f":"IF(AND(Z130<>0,Z130<>\"Unknown\",Z130<>\"Not required\"),IF(COUNTRY_INFO!K130=1,1,IF(COUNTRY_INFO!K130=2,0.5*COUNTRY_INFO!F130/(0.5*COUNTRY_INFO!F130+0.2*COUNTRY_INFO!G130),IF(COUNTRY_INFO!K130=3,COUNTRY_INFO!F130/(COUNTRY_INFO!F130+COUNTRY_INFO!G130)))),0)","v":0.56891702506133679},{"$f":"IF(AND(Z130<>0,Z130<>\"Unknown\",Z130<>\"Not required\"),IF(COUNTRY_INFO!K130=1,0,IF(COUNTRY_INFO!K130=2,0.2*COUNTRY_INFO!G130/(0.5*COUNTRY_INFO!F130+0.2*COUNTRY_INFO!G130),IF(COUNTRY_INFO!K130=3,COUNTRY_INFO!G130/(COUNTRY_INFO!F130+COUNTRY_INFO!G130)))),0)","v":0.43108297493866321},{"$f":"MAX(COUNTRY_INFO!D130*AK130*PROFILE!$G$7,COUNTRY_INFO!D130*AL130*PROFILE!$G$7)","v":0},{"$f":"MAX(COUNTRY_INFO!D130*AK130*PROFILE!$G$8,COUNTRY_INFO!D130*AL130*PROFILE!$G$8,COUNTRY_INFO!D130*AM130*PROFILE!$G$8)","v":14983.459690411617},{"$f":"MAX(COUNTRY_INFO!D130*AK130*PROFILE!$G$9,COUNTRY_INFO!D130*AL130*PROFILE!$G$9,COUNTRY_INFO!D130*AM130*PROFILE!$G$9,IF(AND(DISTRICT!Z130<>\"Unknown\",Z130<>\"Not required\"),COUNTRY_INFO!O130*DISTRICT!AN130,0))","v":26110.93890275629},{"$f":"MAX(COUNTRY_INFO!D130*AK130*PROFILE!$G$10,COUNTRY_INFO!D130*AL130*PROFILE!$G$10,IF(AND(DISTRICT!Z130<>\"Unknown\",Z130<>\"Not required\"),COUNTRY_INFO!O130*DISTRICT!AO130,0))","v":13242.769720576998},54337.1683137449,0,{"$f":"MAX('MDA2'!J130,'T1'!L130,'T2'!J130,T3_R1!K130,T3_R2!K130)","v":0},{"$f":"MAX('MDA1'!K130,'MDA2'!K130,'MDA3'!I130,'MDA3'!L130,'T1'!M130,'T2'!K130,T3_R1!L130,T3_R2!L130)","v":34241},{"$f":"MAX('MDA1'!L130,'MDA2'!L130,'MDA3'!J130,'MDA3'!M130,'T1'!N130,'T2'!L130,T3_R1!M130,T3_R2!M130)","v":0},34241,{"$f":"MAX('MDA2'!J130,T130)","v":0},{"$f":"MAX('MDA1'!K130,'MDA2'!K130,'MDA3'!I130,'MDA3'!L130,V130,AD130)","v":34241},{"$f":"MAX('MDA1'!L130,'MDA2'!L130,'MDA3'!J130,'MDA3'!M130,AF130)","v":0},34241,63.015797588661869]
[{"$f":"IF(COUNTRY_INFO!A131=0,\" \",COUNTRY_INFO!A131)","v":"Tanzania"},{"$f":"IF(COUNTRY_INFO!B131=0,\" \",COUNTRY_INFO!B131)","v":"Pwani"},{"$f":"IF(COUNTRY_INFO!C131=0,\" \",COUNTRY_INFO!C131)","v":"Chalinze District Council"},{"$f":"COUNTRY_INFO!L131","v":"Stopped"},null,null,{"$f":"MAX('MDA1'!M131,'MDA2'!M131)","v":0},{"$f":"IF(AND(COUNTRY_INFO!H131>0,COUNTRY_INFO!H131<4),IF(D131>MAX('MDA1'!M131,'MDA2'!M131),MAX('MDA1'!M131,'MDA2'!M131),D131),0)","v":0},{"$f":"IF(AND(COUNTRY_INFO!H131>0,COUNTRY_INFO!H131<4), IF(G131/D131*100<>0, IF(G131/D131*100>100,100,G131/D131*100), \"-\"),0)","v":0},{"$f":"COUNTRY_INFO!M131","v":0},null,null,{"$f":"MAX('MDA1'!M131,MAX('MDA3'!I131,'MDA3'!L131)+MAX('MDA3'!J131,'MDA3'!M131))","v":0},{"$f":"IF(AND(COUNTRY_INFO!I131>0,COUNTRY_INFO!I131<4),IF(J131>MAX('MDA1'!M131,MAX('MDA3'!I131,'MDA3'!L131)+MAX('MDA3'!J131,'MDA3'!M131)),MAX('MDA1'!M131,MAX('MDA3'!I131,'MDA3'!L131)+MAX('MDA3'!J131,'MDA3'!M131)),J131),0)","v":0},{"$f":"IF(AND(COUNTRY_INFO!I131>0,COUNTRY_INFO!I131<4), IF(M131/J131*100<>0, IF(M131/J131*100>100,100,M131/J131*100), \"-\"),0)","v":0},{"$f":"COUNTRY_INFO!N131","v":93578},null,null,{"$f":"SUM(MAX('MDA2'!J131, 'T1'!L131, MAX(T3_R1!K131, T3_R2!K131)), MAX('MDA1'!K131, 'MDA2'!K131, 'T1'!M131, MAX(T3_R1!L131, T3_R2!L131)), MAX('MDA1'!L131, 'MDA2'!L131, 'T1'!N131, MAX(T3_R1!M131, T3_R2!M131)))","v":59560},{"$f":"IF(AND(COUNTRY_INFO!J131>1,COUNTRY_INFO!J131<4),IF(COUNTRY_INFO!E131>MAX('MDA2'!J131,'T1'!L131,MAX(T3_R1!K131,T3_R2!K131)),MAX('MDA2'!J131,'T1'!L131,MAX(T3_R1!K131,T3_R2!K131)),COUNTRY_INFO!E131),0)","v":0},{"$f":"IF(AND(COUNTRY_INFO!J131>1,COUNTRY_INFO!J131<4), IF(T131/COUNTRY_INFO!E131*100<>0, IF(T131/COUNTRY_INFO!E131*100>100,100,T131/COUNTRY_INFO!E131*100), \"-\"),0)","v":"-"},{"$f":"IF(AND(COUNTRY_INFO!J131>1,COUNTRY_INFO!J131<4),IF(COUNTRY_INFO!F131>MAX('MDA1'!K131,'MDA2'!K131,'T1'!M131,MAX(T3_R1!L131,T3_R2!L131)),MAX('MDA1'!K131,'MDA2'!K131,'T1'!M131,MAX(T3_R1!L131,T3_R2!L131)),COUNTRY_INFO!F131),0)","v":59560},{"$f":"IF(AND(COUNTRY_INFO!J131>1,COUNTRY_INFO!J131<4), IF(V131/COUNTRY_INFO!F131*100<>0, IF(V131/COUNTRY_INFO!F131*100>100,100,V131/COUNTRY_INFO!F131*100), \"-\"),0)","v":98.070210103405117},59560,{"$f":"IF(AND(COUNTRY_INFO!J131>1,COUNTRY_INFO!J131<4), IF(S131/P131*100<>0, IF(X131/P131*100>100,100,X131/P131*100), \"-\"),0)","v":63.647438500502254},{"$f":"COUNTRY_INFO!O131","v":62573.841084933818},null,null,{"$f":"MAX('T1'!L131,'T2'!J131)+MAX('T1'!M131,'T2'!K131)+MAX('T1'!N131,'T2'!L131)","v":0},{"$f":"IF(COUNTRY_INFO!K131=1,IF(COUNTRY_INFO!F131*0.33>MAX('T1'!M131,'T2'!K131),MAX('T1'!M131,'T2'!K131),COUNTRY_INFO!F131*0.33),IF(COUNTRY_INFO!K131=2,IF(COUNTRY_INFO!F131*0.5>MAX('T1'!M131,'T2'!K131),MAX('T1'!M131,'T2'!K131),COUNTRY_INFO!F131*0.5),IF(COUNTRY_INFO!K131=3,IF(COUNTRY_INFO!F131>MAX('T1'!M131,'T2'!K131),MAX('T1'!M131,'T2'!K131),COUNTRY_INFO!F131),0)))","v":0},{"$f":"IF(AND(COUNTRY_INFO!K131>0,COUNTRY_INFO!K131<4),IF(Z131>0,IF(COUNTRY_INFO!K131=1, AD131/(COUNTRY_INFO!F131*0.33)*100, IF(COUNTRY_INFO!K131=2, AD131/(COUNTRY_INFO!F131*0.5)*100, IF(COUNTRY_INFO!K131=3, AD131/COUNTRY_INFO!F131*100))),\"-\"),0)","v":0},{"$f":"IF(COUNTRY_INFO!K131=2,IF(COUNTRY_INFO!G131*0.2>MAX('T1'!N131,'T2'!L131),MAX('T1'!N131,'T2'!L131),COUNTRY_INFO!G131*0.2),IF(COUNTRY_INFO!K131=3,IF(COUNTRY_INFO!G131>MAX('T1'!N131,'T2'!L131),MAX('T1'!N131,'T2'!L131),COUNTRY_INFO!G131),0))","v":0},{"$f":"IF(AND(COUNTRY_INFO!K131>0,COUNTRY_INFO!K131<4),IF(Z131>0,IF(COUNTRY_INFO!K131=1, 0, IF(COUNTRY_INFO!K131=2, AF131/(COUNTRY_INFO!G131*0.2)*100, IF(COUNTRY_INFO!K131=3, AF131/COUNTRY_INFO!G131*100))),\"-\"),0)","v":0},0,{"$f":"IF(AND(COUNTRY_INFO!K131>0,COUNTRY_INFO!K131<4), IF(AC131/Z131*100<>0, IF(AH131/Z131*100>100,100,AH131/Z131*100), \"-\"),0)","v":"-"},null,{"$f":"IF(AND(D131<>0, D131<>\"Unknown\",D131<>\"Stopped\",D131<>\"Not required\"),D131/COUNTRY_INFO!D131, 0)","v":0},{"$f":"IF(AND(J131<>0,J131<>\"Unknown\",J131<>\"Stopped\",J131<>\"Not required\"),J131/COUNTRY_INFO!D131, 0)","v":0},{"$f":"IF(AND(P131<>0,P131<>\"Unknown\",P131<>\"Not required\"),P131/(COUNTRY_INFO!E131+COUNTRY_INFO!F131), 0)","v":1},{"$f":"IF(AND(Z131<>0,Z131<>\"Unknown\",Z131<>\"Not required\"),IF(COUNTRY_INFO!K131=1,1,IF(COUNTRY_INFO!K131=2,0.5*COUNTRY_INFO!F131/(0.5*COUNTRY_INFO!F131+0.2*COUNTRY_INFO!G131),IF(COUNTRY_INFO!K131=3,COUNTRY_INFO!F131/(COUNTRY_INFO!F131+COUNTRY_INFO!G131)))),0)","v":0.48528265923108493},{"$f":"IF(AND(Z131<>0,Z131<>\"Unknown\",Z131<>\"Not required\"),IF(COUNTRY_INFO!K131=1,0,IF(COUNTRY_INFO!K131=2,0.2*COUNTRY_INFO!G131/(0.5*COUNTRY_INFO!F131+0.2*COUNTRY_INFO!G131),IF(COUNTRY_INFO!K131=3,COUNTRY_INFO!G131/(COUNTRY_INFO!F131+COUNTRY_INFO!G131)))),0)","v":0.51471734076891507},{"$f":"MAX(COUNTRY_INFO!D131*AK131*PROFILE!$G$7,COUNTRY_INFO!D131*AL131*PROFILE!$G$7)","v":0},{"$f":"MAX(COUNTRY_INFO!D131*AK131*PROFILE!$G$8,COUNTRY_INFO!D131*AL131*PROFILE!$G$8,COUNTRY_INFO!D131*AM131*PROFILE!$G$8)","v":32845.619983451623},{"$f":"MAX(COUNTRY_INFO!D131*AK131*PROFILE!$G$9,COUNTRY_INFO!D131*AL131*PROFILE!$G$9,COUNTRY_INFO!D131*AM131*PROFILE!$G$9,IF(AND(DISTRICT!Z131<>\"Unknown\",Z131<>\"Not required\"),COUNTRY_INFO!O131*DISTRICT!AN131,0))","v":57238.447883961038},{"$f":"MAX(COUNTRY_INFO!D131*AK131*PROFILE!$G$10,COUNTRY_INFO!D131*AL131*PROFILE!$G$10,IF(AND(DISTRICT!Z131<>\"Unknown\",Z131<>\"Not required\"),COUNTRY_INFO!O131*DISTRICT!AO131,0))","v":32207.841084933818},122291.90895234648,0,{"$f":"MAX('MDA2'!J131,'T1'!L131,'T2'!J131,T3_R1!K131,T3_R2!K131)","v":0},{"$f":"MAX('MDA1'!K131,'MDA2'!K131,'MDA3'!I131,'MDA3'!L131,'T1'!M131,'T2'!K131,T3_R1!L131,T3_R2!L131)","v":59560},{"$f":"MAX('MDA1'!L131,'MDA2'!L131,'MDA3'!J131,'MDA3'!M131,'T1'!N131,'T2'!L131,T3_R1!M131,T3_R2!M131)","v":0},59560,{"$f":"MAX('MDA2'!J131,T131)","v":0},{"$f":"MAX('MDA1'!K131,'MDA2'!K131,'MDA3'!I131,'MDA3'!L131,V131,AD131)","v":59560},{"$f":"MAX('MDA1'!L131,'MDA2'!L131,'MDA3'!J131,'MDA3'!M131,AF131)","v":0},59560,48.703140306043274]
[{"$f":"IF(COUNTRY_INFO!A132=0,\" \",COUNTRY_INFO!A132)","v":"Tanzania"},{"$f":"IF(COUNTRY_INFO!B132=0,\" \",COUNTRY_INFO!B132)","v":"Pwani"},{"$f":"IF(COUNTRY_INFO!C132=0,\" \",COUNTRY_INFO!C132)","v":"Kibaha District Council"},{"$f":"COUNTRY_INFO!L132","v":83504.002759398936},null,null,{"$f":"MAX('MDA1'!M132,'MDA2'!M132)","v":0},{"$f":"IF(AND(COUNTRY_INFO!H132>0,COUNTRY_INFO!H132<4),IF(D132>MAX('MDA1'!M132,'MDA2'!M132),MAX('MDA1'!M132,'MDA2'!M132),D132),0)","v":0},{"$f":"IF(AND(COUNTRY_INFO!H132>0,COUNTRY_INFO!H132<4), IF(G132/D132*100<>0, IF(G132/D132*100>100,100,G132/D132*100), \"-\"),0)","v":"-"},{"$f":"COUNTRY_INFO!M132","v":0},null,null,{"$f":"MAX('MDA1'!M132,MAX('MDA3'!I132,'MDA3'!L132)+MAX('MDA3'!J132,'MDA3'!M132))","v":0},{"$f":"IF(AND(COUNTRY_INFO!I132>0,COUNTRY_INFO!I132<4),IF(J132>MAX('MDA1'!M132,MAX('MDA3'!I132,'MDA3'!L132)+MAX('MDA3'!J132,'MDA3'!M132)),MAX('MDA1'!M132,MAX('MDA3'!I132,'MDA3'!L132)+MAX('MDA3'!J132,'MDA3'!M132)),J132),0)","v":0},{"$f":"IF(AND(COUNTRY_INFO!I132>0,COUNTRY_INFO!I132<4), IF(M132/J132*100<>0, IF(M132/J132*100>100,100,M132/J132*100), \"-\"),0)","v":0},{"$f":"COUNTRY_INFO!N132","v":32272},null,null,{"$f":"SUM(MAX('MDA2'!J132, 'T1'!L132, MAX(T3_R1!K132, T3_R2!K132)), MAX('MDA1'!K132, 'MDA2'!K132, 'T1'!M132, MAX(T3_R1!L132, T3_R2!L132)), MAX('MDA1'!L132, 'MDA2'!L132, 'T1'!N132, MAX(T3_R1!M132, T3_R2!M132)))","v":18781},{"$f":"IF(AND(COUNTRY_INFO!J132>1,COUNTRY_INFO!J132<4),IF(COUNTRY_INFO!E132>MAX('MDA2'!J132,'T1'!L132,MAX(T3_R1!K132,T3_R2!K132)),MAX('MDA2'!J132,'T1'!L132,MAX(T3_R1!K132,T3_R2!K132)),COUNTRY_INFO!E132),0)","v":0},{"$f":"IF(AND(COUNTRY_INFO!J132>1,COUNTRY_INFO!J132<4), IF(T132/COUNTRY_INFO!E132*100<>0, IF(T132/COUNTRY_INFO!E132*100>100,100,T132/COUNTRY_INFO!E132*100), \"-\"),0)","v":"-"},{"$f":"IF(AND(COUNTRY_INFO!J132>1,COUNTRY_INFO!J132<4),IF(COUNTRY_INFO!F132>MAX('MDA1'!K132,'MDA2'!K132,'T1'!M132,MAX(T3_R1!L132,T3_R2!L132)),MAX('MDA1'!K132,'MDA2'!K132,'T1'!M132,MAX(T3_R1!L132,T3_R2!L132)),COUNTRY_INFO!F132),0)","v":18781},{"$f":"IF(AND(COUNTRY_INFO!J132>1,COUNTRY_INFO!J132<4), IF(V132/COUNTRY_INFO!F132*100<>0, IF(V132/COUNTRY_INFO!F132*100>100,100,V132/COUNTRY_INFO!F132*100), \"-\"),0)","v":87.353488372093025},18781,{"$f":"IF(AND(COUNTRY_INFO!J132>1,COUNTRY_INFO!J132<4), IF(S132/P132*100<>0, IF(X132/P132*100>100,100,X132/P132*100), \"-\"),0)","v":58.19595934556272},{"$f":"COUNTRY_INFO!O132","v":20996.400551879786},null,null,{"$f":"MAX('T1'!L132,'T2'!J132)+MAX('T1'!M132,'T2'!K132)+MAX('T1'!N132,'T2'!L132)","v":18781},{"$f":"IF(COUNTRY_INFO!K132=1,IF(COUNTRY_INFO!F132*0.33>MAX('T1'!M132,'T2'!K132),MAX('T1'!M132,'T2'!K132),COUNTRY_INFO!F132*0.33),IF(COUNTRY_INFO!K132=2,IF(COUNTRY_INFO!F132*0.5>MAX('T1'!M132,'T2'!K132),MAX('T1'!M132,'T2'!K132),COUNTRY_INFO!F132*0.5),IF(COUNTRY_INFO!K132=3,IF(COUNTRY_INFO!F132>MAX('T1'!M132,'T2'!K132),MAX('T1'!M132,'T2'!K132),COUNTRY_INFO!F132),0)))","v":10750},{"$f":"IF(AND(COUNTRY_INFO!K132>0,COUNTRY_INFO!K132<4),IF(Z132>0,IF(COUNTRY_INFO!K132=1, AD132/(COUNTRY_INFO!F132*0.33)*100, IF(COUNTRY_INFO!K132=2, AD132/(COUNTRY_INFO!F132*0.5)*100, IF(COUNTRY_INFO!K132=3, AD132/COUNTRY_INFO!F132*100))),\"-\"),0)","v":100},{"$f":"IF(COUNTRY_INFO!K132=2,IF(COUNTRY_INFO!G132*0.2>MAX('T1'!N132,'T2'!L132),MAX('T1'!N132,'T2'!L132),COUNTRY_INFO!G132*0.2),IF(COUNTRY_INFO!K132=3,IF(COUNTRY_INFO!G132>MAX('T1'!N132,'T2'!L132),MAX('T1'!N132,'T2'!L132),COUNTRY_INFO!G132),0))","v":0},{"$f":"IF(AND(COUNTRY_INFO!K132>0,COUNTRY_INFO!K132<4),IF(Z132>0,IF(COUNTRY_INFO!K132=1, 0, IF(COUNTRY_INFO!K132=2, AF132/(COUNTRY_INFO!G132*0.2)*100, IF(COUNTRY_INFO!K132=3, AF132/COUNTRY_INFO!G132*100))),\"-\"),0)","v":0},10750,{"$f":"IF(AND(COUNTRY_INFO!K132>0,COUNTRY_INFO!K132<4), IF(AC132/Z132*100<>0, IF(AH132/Z132*100>100,100,AH132/Z132*100), \"-\"),0)","v":51.199251859564875},null,{"$f":"IF(AND(D132<>0, D132<>\"Unknown\",D132<>\"Stopped\",D132<>\"Not required\"),D132/COUNTRY_INFO!D132, 0)","v":1},{"$f":"IF(AND(J132<>0,J132<>\"Unknown\",J132<>\"Stopped\",J132<>\"Not required\"),J132/COUNTRY_INFO!D132, 0)","v":0},{"$f":"IF(AND(P132<>0,P132<>\"Unknown\",P132<>\"Not required\"),P132/(COUNTRY_INFO!E132+COUNTRY_INFO!F132), 0)","v":1},{"$f":"IF(AND(Z132<>0,Z132<>\"Unknown\",Z132<>\"Not required\"),IF(COUNTRY_INFO!K132=1,1,IF(COUNTRY_INFO!K132=2,0.5*COUNTRY_INFO!F132/(0.5*COUNTRY_INFO!F132+0.2*COUNTRY_INFO!G132),IF(COUNTRY_INFO!K132=3,COUNTRY_INFO!F132/(COUNTRY_INFO!F132+COUNTRY_INFO!G132)))),0)","v":0.51199251859564876},{"$f":"IF(AND(Z132<>0,Z132<>\"Unknown\",Z132<>\"Not required\"),IF(COUNTRY_INFO!K132=1,0,IF(COUNTRY_INFO!K132=2,0.2*COUNTRY_INFO!G132/(0.5*COUNTRY_INFO!F132+0.2*COUNTRY_INFO!G132),IF(COUNTRY_INFO!K132=3,COUNTRY_INFO!G132/(COUNTRY_INFO!F132+COUNTRY_INFO!G132)))),0)","v":0.48800748140435141},{"$f":"MAX(COUNTRY_INFO!D132*AK132*PROFILE!$G$7,COUNTRY_INFO!D132*AL132*PROFILE!$G$7)","v":1.5312095562101185E-3},{"$f":"MAX(COUNTRY_INFO!D132*AK132*PROFILE!$G$8,COUNTRY_INFO!D132*AL132*PROFILE!$G$8,COUNTRY_INFO!D132*AM132*PROFILE!$G$8)","v":10772.016514586165},{"$f":"MAX(COUNTRY_INFO!D132*AK132*PROFILE!$G$9,COUNTRY_INFO!D132*AL132*PROFILE!$G$9,COUNTRY_INFO!D132*AM132*PROFILE!$G$9,IF(AND(DISTRICT!Z132<>\"Unknown\",Z132<>\"Not required\"),COUNTRY_INFO!O132*DISTRICT!AN132,0))","v":18771.863834080516},{"$f":"MAX(COUNTRY_INFO!D132*AK132*PROFILE!$G$10,COUNTRY_INFO!D132*AL132*PROFILE!$G$10,IF(AND(DISTRICT!Z132<>\"Unknown\",Z132<>\"Not required\"),COUNTRY_INFO!O132*DISTRICT!AO132,0))","v":53960.120879522699},83504.002759398936,0,{"$f":"MAX('MDA2'!J132,'T1'!L132,'T2'!J132,T3_R1!K132,T3_R2!K132)","v":0},{"$f":"MAX('MDA1'!K132,'MDA2'!K132,'MDA3'!I132,'MDA3'!L132,'T1'!M132,'T2'!K132,T3_R1!L132,T3_R2!L132)","v":18781},{"$f":"MAX('MDA1'!L132,'MDA2'!L132,'MDA3'!J132,'MDA3'!M132,'T1'!N132,'T2'!L132,T3_R1!M132,T3_R2!M132)","v":0},18781,{"$f":"MAX('MDA2'!J132,T132)","v":0},{"$f":"MAX('MDA1'!K132,'MDA2'!K132,'MDA3'!I132,'MDA3'!L132,V132,AD132)","v":18781},{"$f":"MAX('MDA1'!L132,'MDA2'!L132,'MDA3'!J132,'MDA3'!M132,AF132)","v":0},18781,22.491137405848573]
[{"$f":"IF(COUNTRY_INFO!A133=0,\" \",COUNTRY_INFO!A133)","v":"Tanzania"},{"$f":"IF(COUNTRY_INFO!B133=0,\" \",COUNTRY_INFO!B133)","v":"Pwani"},{"$f":"IF(COUNTRY_INFO!C133=0,\" \",COUNTRY_INFO!C133)","v":"Kibaha Town Council"},{"$f":"COUNTRY_INFO!L133","v":"Stopped"},null,null,{"$f":"MAX('MDA1'!M133,'MDA2'!M133)","v":0},{"$f":"IF(AND(COUNTRY_INFO!H133>0,COUNTRY_INFO!H133<4),IF(D133>MAX('MDA1'!M133,'MDA2'!M133),MAX('MDA1'!M133,'MDA2'!M133),D133),0)","v":0},{"$f":"IF(AND(COUNTRY_INFO!H133>0,COUNTRY_INFO!H133<4), IF(G133/D133*100<>0, IF(G133/D133*100>100,100,G133/D133*100), \"-\"),0)","v":0},{"$f":"COUNTRY_INFO!M133","v":0},null,null,{"$f":"MAX('MDA1'!M133,MAX('MDA3'!I133,'MDA3'!L133)+MAX('MDA3'!J133,'MDA3'!M133))","v":0},{"$f":"IF(AND(COUNTRY_INFO!I133>0,COUNTRY_INFO!I133<4),IF(J133>MAX('MDA1'!M133,MAX('MDA3'!I133,'MDA3'!L133)+MAX('MDA3'!J133,'MDA3'!M133)),MAX('MDA1'!M133,MAX('MDA3'!I133,'MDA3'!L133)+MAX('MDA3'!J133,'MDA3'!M133)),J133),0)","v":0},{"$f":"IF(AND(COUNTRY_INFO!I133>0,COUNTRY_INFO!I133<4), IF(M133/J133*100<>0, IF(M133/J133*100>100,100,M133/J133*100), \"-\"),0)","v":0},{"$f":"COUNTRY_INFO!N133","v":54274},null,null,{"$f":"SUM(MAX('MDA2'!J133, 'T1'!L133, MAX(T3_R1!K133, T3_R2!K133)), MAX('MDA1'!K133, 'MDA2'!K133, 'T1'!M133, MAX(T3_R1!L133, T3_R2!L133)), MAX('MDA1'!L133, 'MDA2'!L133, 'T1'!N133, MAX(T3_R1!M133, T3_R2!M133)))","v":29183},{"$f":"IF(AND(COUNTRY_INFO!J133>1,COUNTRY_INFO!J133<4),IF(COUNTRY_INFO!E133>MAX('MDA2'!J133,'T1'!L133,MAX(T3_R1!K133,T3_R2!K133)),MAX('MDA2'!J133,'T1'!L133,MAX(T3_R1!K133,T3_R2!K133)),COUNTRY_INFO!E133),0)","v":0},{"$f":"IF(AND(COUNTRY_INFO!J133>1,COUNTRY_INFO!J133<4), IF(T133/COUNTRY_INFO!E133*100<>0, IF(T133/COUNTRY_INFO!E133*100>100,100,T133/COUNTRY_INFO!E133*100), \"-\"),0)","v":"-"},{"$f":"IF(AND(COUNTRY_INFO!J133>1,COUNTRY_INFO!J133<4),IF(COUNTRY_INFO!F133>MAX('MDA1'!K133,'MDA2'!K133,'T1'!M133,MAX(T3_R1!L133,T3_R2!L133)),MAX('MDA1'!K133,'MDA2'!K133,'T1'!M133,MAX(T3_R1!L133,T3_R2!L133)),COUNTRY_INFO!F133),0)","v":29183},{"$f":"IF(AND(COUNTRY_INFO!J133>1,COUNTRY_INFO!J133<4), IF(V133/COUNTRY_INFO!F133*100<>0, IF(V133/COUNTRY_INFO!F133*100>100,100,V133/COUNTRY_INFO!F133*100), \"-\"),0)","v":84.439107664708786},29183,{"$f":"IF(AND(COUNTRY_INFO!J133>1,COUNTRY_INFO!J133<4), IF(S133/P133*100<>0, IF(X133/P133*100>100,100,X133/P133*100), \"-\"),0)","v":53.769760843129312},{"$f":"COUNTRY_INFO!O133","v":36989.211676458013},null,null,{"$f":"MAX('T1'!L133,'T2'!J133)+MAX('T1'!M133,'T2'!K133)+MAX('T1'!N133,'T2'!L133)","v":29183},{"$f":"IF(COUNTRY_INFO!K133=1,IF(COUNTRY_INFO!F133*0.33>MAX('T1'!M133,'T2'!K133),MAX('T1'!M133,'T2'!K133),COUNTRY_INFO!F133*0.33),IF(COUNTRY_INFO!K133=2,IF(COUNTRY_INFO!F133*0.5>MAX('T1'!M133,'T2'!K133),MAX('T1'!M133,'T2'!K133),COUNTRY_INFO!F133*0.5),IF(COUNTRY_INFO!K133=3,IF(COUNTRY_INFO!F133>MAX('T1'!M133,'T2'!K133),MAX('T1'!M133,'T2'!K133),COUNTRY_INFO!F133),0)))","v":17280.5},{"$f":"IF(AND(COUNTRY_INFO!K133>0,COUNTRY_INFO!K133<4),IF(Z133>0,IF(COUNTRY_INFO!K133=1, AD133/(COUNTRY_INFO!F133*0.33)*100, IF(COUNTRY_INFO!K133=2, AD133/(COUNTRY_INFO!F133*0.5)*100, IF(COUNTRY_INFO!K133=3, AD133/COUNTRY_INFO!F133*100))),\"-\"),0)","v":100},{"$f":"IF(COUNTRY_INFO!K133=2,IF(COUNTRY_INFO!G133*0.2>MAX('T1'!N133,'T2'!L133),MAX('T1'!N133,'T2'!L133),COUNTRY_INFO!G133*0.2),IF(COUNTRY_INFO!K133=3,IF(COUNTRY_INFO!G133>MAX('T1'!N133,'T2'!L133),MAX('T1'!N133,'T2'!L133),COUNTRY_INFO!G133),0))","v":0},{"$f":"IF(AND(COUNTRY_INFO!K133>0,COUNTRY_INFO!K133<4),IF(Z133>0,IF(COUNTRY_INFO!K133=1, 0, IF(COUNTRY_INFO!K133=2, AF133/(COUNTRY_INFO!G133*0.2)*100, IF(COUNTRY_INFO!K133=3, AF133/COUNTRY_INFO!G133*100))),\"-\"),0)","v":0},17280.5,{"$f":"IF(AND(COUNTRY_INFO!K133>0,COUNTRY_INFO!K133<4), IF(AC133/Z133*100<>0, IF(AH133/Z133*100>100,100,AH133/Z133*100), \"-\"),0)","v":46.717675821672806},null,{"$f":"IF(AND(D133<>0, D133<>\"Unknown\",D133<>\"Stopped\",D133<>\"Not required\"),D133/COUNTRY_INFO!D133, 0)","v":0},{"$f":"IF(AND(J133<>0,J133<>\"Unknown\",J133<>\"Stopped\",J133<>\"Not required\"),J133/COUNTRY_INFO!D133, 0)","v":0},{"$f":"IF(AND(P133<>0,P133<>\"Unknown\",P133<>\"Not required\"),P133/(COUNTRY_INFO!E133+COUNTRY_INFO!F133), 0)","v":1},{"$f":"IF(AND(Z133<>0,Z133<>\"Unknown\",Z133<>\"Not required\"),IF(COUNTRY_INFO!K133=1,1,IF(COUNTRY_INFO!K133=2,0.5*COUNTRY_INFO!F133/(0.5*COUNTRY_INFO!F133+0.2*COUNTRY_INFO!G133),IF(COUNTRY_INFO!K133=3,COUNTRY_INFO!F133/(COUNTRY_INFO!F133+COUNTRY_INFO!G133)))),0)","v":0.46717675821672805},{"$f":"IF(AND(Z133<>0,Z133<>\"Unknown\",Z133<>\"Not required\"),IF(COUNTRY_INFO!K133=1,0,IF(COUNTRY_INFO!K133=2,0.2*COUNTRY_INFO!G133/(0.5*COUNTRY_INFO!F133+0.2*COUNTRY_INFO!G133),IF(COUNTRY_INFO!K133=3,COUNTRY_INFO!G133/(COUNTRY_INFO!F133+COUNTRY_INFO!G133)))),0)","v":0.53282324178327178},{"$f":"MAX(COUNTRY_INFO!D133*AK133*PROFILE!$G$7,COUNTRY_INFO!D133*AL133*PROFILE!$G$7)","v":0},{"$f":"MAX(COUNTRY_INFO!D133*AK133*PROFILE!$G$8,COUNTRY_INFO!D133*AL133*PROFILE!$G$8,COUNTRY_INFO!D133*AM133*PROFILE!$G$8)","v":19713.465321606731},{"$f":"MAX(COUNTRY_INFO!D133*AK133*PROFILE!$G$9,COUNTRY_INFO!D133*AL133*PROFILE!$G$9,COUNTRY_INFO!D133*AM133*PROFILE!$G$9,IF(AND(DISTRICT!Z133<>\"Unknown\",Z133<>\"Not required\"),COUNTRY_INFO!O133*DISTRICT!AN133,0))","v":34353.687279812584},{"$f":"MAX(COUNTRY_INFO!D133*AK133*PROFILE!$G$10,COUNTRY_INFO!D133*AL133*PROFILE!$G$10,IF(AND(DISTRICT!Z133<>\"Unknown\",Z133<>\"Not required\"),COUNTRY_INFO!O133*DISTRICT!AO133,0))","v":19708.71167645801},73775.864277877321,"Y",{"$f":"MAX('MDA2'!J133,'T1'!L133,'T2'!J133,T3_R1!K133,T3_R2!K133)","v":0},{"$f":"MAX('MDA1'!K133,'MDA2'!K133,'MDA3'!I133,'MDA3'!L133,'T1'!M133,'T2'!K133,T3_R1!L133,T3_R2!L133)","v":29183},{"$f":"MAX('MDA1'!L133,'MDA2'!L133,'MDA3'!J133,'MDA3'!M133,'T1'!N133,'T2'!L133,T3_R1!M133,T3_R2!M133)","v":0},29183,{"$f":"MAX('MDA2'!J133,T133)","v":0},{"$f":"MAX('MDA1'!K133,'MDA2'!K133,'MDA3'!I133,'MDA3'!L133,V133,AD133)","v":29183},{"$f":"MAX('MDA1'!L133,'MDA2'!L133,'MDA3'!J133,'MDA3'!M133,AF133)","v":0},29183,39.556297016165097]
[{"$f":"IF(COUNTRY_INFO!A134=0,\" \",COUNTRY_INFO!A134)","v":"Tanzania"},{"$f":"IF(COUNTRY_INFO!B134=0,\" \",COUNTRY_INFO!B134)","v":"Pwani"},{"$f":"IF(COUNTRY_INFO!C134=0,\" \",COUNTRY_INFO!C134)","v":"Kibiti District Council"},{"$f":"COUNTRY_INFO!L134","v":"Stopped"},null,null,{"$f":"MAX('MDA1'!M134,'MDA2'!M134)","v":0},{"$f":"IF(AND(COUNTRY_INFO!H134>0,COUNTRY_INFO!H134<4),IF(D134>MAX('MDA1'!M134,'MDA2'!M134),MAX('MDA1'!M134,'MDA2'!M134),D134),0)","v":0},{"$f":"IF(AND(COUNTRY_INFO!H134>0,COUNTRY_INFO!H134<4), IF(G134/D134*100<>0, IF(G134/D134*100>100,100,G134/D134*100), \"-\"),0)","v":0},{"$f":"COUNTRY_INFO!M134","v":0},null,null,{"$f":"MAX('MDA1'!M134,MAX('MDA3'!I134,'MDA3'!L134)+MAX('MDA3'!J134,'MDA3'!M134))","v":0},{"$f":"IF(AND(COUNTRY_INFO!I134>0,COUNTRY_INFO!I134<4),IF(J134>MAX('MDA1'!M134,MAX('MDA3'!I134,'MDA3'!L134)+MAX('MDA3'!J134,'MDA3'!M134)),MAX('MDA1'!M134,MAX('MDA3'!I134,'MDA3'!L134)+MAX('MDA3'!J134,'MDA3'!M134)),J134),0)","v":0},{"$f":"IF(AND(COUNTRY_INFO!I134>0,COUNTRY_INFO!I134<4), IF(M134/J134*100<>0, IF(M134/J134*100>100,100,M134/J134*100), \"-\"),0)","v":0},{"$f":"COUNTRY_INFO!N134","v":57797},null,null,{"$f":"SUM(MAX('MDA2'!J134, 'T1'!L134, MAX(T3_R1!K134, T3_R2!K134)), MAX('MDA1'!K134, 'MDA2'!K134, 'T1'!M134, MAX(T3_R1!L134, T3_R2!L134)), MAX('MDA1'!L134, 'MDA2'!L134, 'T1'!N134, MAX(T3_R1!M134, T3_R2!M134)))","v":36587},{"$f":"IF(AND(COUNTRY_INFO!J134>1,COUNTRY_INFO!J134<4),IF(COUNTRY_INFO!E134>MAX('MDA2'!J134,'T1'!L134,MAX(T3_R1!K134,T3_R2!K134)),MAX('MDA2'!J134,'T1'!L134,MAX(T3_R1!K134,T3_R2!K134)),COUNTRY_INFO!E134),0)","v":0},{"$f":"IF(AND(COUNTRY_INFO!J134>1,COUNTRY_INFO!J134<4), IF(T134/COUNTRY_INFO!E134*100<>0, IF(T134/COUNTRY_INFO!E134*100>100,100,T134/COUNTRY_INFO!E134*100), \"-\"),0)","v":"-"},{"$f":"IF(AND(COUNTRY_INFO!J134>1,COUNTRY_INFO!J134<4),IF(COUNTRY_INFO!F134>MAX('MDA1'!K134,'MDA2'!K134,'T1'!M134,MAX(T3_R1!L134,T3_R2!L134)),MAX('MDA1'!K134,'MDA2'!K134,'T1'!M134,MAX(T3_R1!L134,T3_R2!L134)),COUNTRY_INFO!F134),0)","v":36587},{"$f":"IF(AND(COUNTRY_INFO!J134>1,COUNTRY_INFO!J134<4), IF(V134/COUNTRY_INFO!F134*100<>0, IF(V134/COUNTRY_INFO!F134*100>100,100,V134/COUNTRY_INFO!F134*100), \"-\"),0)","v":87.42204487347972},36587,{"$f":"IF(AND(COUNTRY_INFO!J134>1,COUNTRY_INFO!J134<4), IF(S134/P134*100<>0, IF(X134/P134*100>100,100,X134/P134*100), \"-\"),0)","v":63.302593560219393},{"$f":"COUNTRY_INFO!O134","v":34087.872005602228},null,null,{"$f":"MAX('T1'!L134,'T2'!J134)+MAX('T1'!M134,'T2'!K134)+MAX('T1'!N134,'T2'!L134)","v":0},{"$f":"IF(COUNTRY_INFO!K134=1,IF(COUNTRY_INFO!F134*0.33>MAX('T1'!M134,'T2'!K134),MAX('T1'!M134,'T2'!K134),COUNTRY_INFO!F134*0.33),IF(COUNTRY_INFO!K134=2,IF(COUNTRY_INFO!F134*0.5>MAX('T1'!M134,'T2'!K134),MAX('T1'!M134,'T2'!K134),COUNTRY_INFO!F134*0.5),IF(COUNTRY_INFO!K134=3,IF(COUNTRY_INFO!F134>MAX('T1'!M134,'T2'!K134),MAX('T1'!M134,'T2'!K134),COUNTRY_INFO!F134),0)))","v":0},{"$f":"IF(AND(COUNTRY_INFO!K134>0,COUNTRY_INFO!K134<4),IF(Z134>0,IF(COUNTRY_INFO!K134=1, AD134/(COUNTRY_INFO!F134*0.33)*100, IF(COUNTRY_INFO!K134=2, AD134/(COUNTRY_INFO!F134*0.5)*100, IF(COUNTRY_INFO!K134=3, AD134/COUNTRY_INFO!F134*100))),\"-\"),0)","v":0},{"$f":"IF(COUNTRY_INFO!K134=2,IF(COUNTRY_INFO!G134*0.2>MAX('T1'!N134,'T2'!L134),MAX('T1'!N134,'T2'!L134),COUNTRY_INFO!G134*0.2),IF(COUNTRY_INFO!K134=3,IF(COUNTRY_INFO!G134>MAX('T1'!N134,'T2'!L134),MAX('T1'!N134,'T2'!L134),COUNTRY_INFO!G134),0))","v":0},{"$f":"IF(AND(COUNTRY_INFO!K134>0,COUNTRY_INFO!K134<4),IF(Z134>0,IF(COUNTRY_INFO!K134=1, 0, IF(COUNTRY_INFO!K134=2, AF134/(COUNTRY_INFO!G134*0.2)*100, IF(COUNTRY_INFO!K134=3, AF134/COUNTRY_INFO!G134*100))),\"-\"),0)","v":0},0,{"$f":"IF(AND(COUNTRY_INFO!K134>0,COUNTRY_INFO!K134<4), IF(AC134/Z134*100<>0, IF(AH134/Z134*100>100,100,AH134/Z134*100), \"-\"),0)","v":"-"},null,{"$f":"IF(AND(D134<>0, D134<>\"Unknown\",D134<>\"Stopped\",D134<>\"Not required\"),D134/COUNTRY_INFO!D134, 0)","v":0},{"$f":"IF(AND(J134<>0,J134<>\"Unknown\",J134<>\"Stopped\",J134<>\"Not required\"),J134/COUNTRY_INFO!D134, 0)","v":0},{"$f":"IF(AND(P134<>0,P134<>\"Unknown\",P134<>\"Not required\"),P134/(COUNTRY_INFO!E134+COUNTRY_INFO!F134), 0)","v":1},{"$f":"IF(AND(Z134<>0,Z134<>\"Unknown\",Z134<>\"Not required\"),IF(COUNTRY_INFO!K134=1,1,IF(COUNTRY_INFO!K134=2,0.5*COUNTRY_INFO!F134/(0.5*COUNTRY_INFO!F134+0.2*COUNTRY_INFO!G134),IF(COUNTRY_INFO!K134=3,COUNTRY_INFO!F134/(COUNTRY_INFO!F134+COUNTRY_INFO!G134)))),0)","v":0.61386935495888284},{"$f":"IF(AND(Z134<>0,Z134<>\"Unknown\",Z134<>\"Not required\"),IF(COUNTRY_INFO!K134=1,0,IF(COUNTRY_INFO!K134=2,0.2*COUNTRY_INFO!G134/(0.5*COUNTRY_INFO!F134+0.2*COUNTRY_INFO!G134),IF(COUNTRY_INFO!K134=3,COUNTRY_INFO!G134/(COUNTRY_INFO!F134+COUNTRY_INFO!G134)))),0)","v":0.38613064504111727},{"$f":"MAX(COUNTRY_INFO!D134*AK134*PROFILE!$G$7,COUNTRY_INFO!D134*AL134*PROFILE!$G$7)","v":0},{"$f":"MAX(COUNTRY_INFO!D134*AK134*PROFILE!$G$8,COUNTRY_INFO!D134*AL134*PROFILE!$G$8,COUNTRY_INFO!D134*AM134*PROFILE!$G$8)","v":15945.543178420086},{"$f":"MAX(COUNTRY_INFO!D134*AK134*PROFILE!$G$9,COUNTRY_INFO!D134*AL134*PROFILE!$G$9,COUNTRY_INFO!D134*AM134*PROFILE!$G$9,IF(AND(DISTRICT!Z134<>\"Unknown\",Z134<>\"Not required\"),COUNTRY_INFO!O134*DISTRICT!AN134,0))","v":27787.514519722474},{"$f":"MAX(COUNTRY_INFO!D134*AK134*PROFILE!$G$10,COUNTRY_INFO!D134*AL134*PROFILE!$G$10,IF(AND(DISTRICT!Z134<>\"Unknown\",Z134<>\"Not required\"),COUNTRY_INFO!O134*DISTRICT!AO134,0))","v":13162.372005602232},56895.429703744798,0,{"$f":"MAX('MDA2'!J134,'T1'!L134,'T2'!J134,T3_R1!K134,T3_R2!K134)","v":0},{"$f":"MAX('MDA1'!K134,'MDA2'!K134,'MDA3'!I134,'MDA3'!L134,'T1'!M134,'T2'!K134,T3_R1!L134,T3_R2!L134)","v":36587},{"$f":"MAX('MDA1'!L134,'MDA2'!L134,'MDA3'!J134,'MDA3'!M134,'T1'!N134,'T2'!L134,T3_R1!M134,T3_R2!M134)","v":0},36587,{"$f":"MAX('MDA2'!J134,T134)","v":0},{"$f":"MAX('MDA1'!K134,'MDA2'!K134,'MDA3'!I134,'MDA3'!L134,V134,AD134)","v":36587},{"$f":"MAX('MDA1'!L134,'MDA2'!L134,'MDA3'!J134,'MDA3'!M134,AF134)","v":0},36587,64.305692373726615]
[{"$f":"IF(COUNTRY_INFO!A135=0,\" \",COUNTRY_INFO!A135)","v":"Tanzania"},{"$f":"IF(COUNTRY_INFO!B135=0,\" \",COUNTRY_INFO!B135)","v":"Pwani"},{"$f":"IF(COUNTRY_INFO!C135=0,\" \",COUNTRY_INFO!C135)","v":"Kisarawe District Council"},{"$f":"COUNTRY_INFO!L135","v":"Stopped"},null,null,{"$f":"MAX('MDA1'!M135,'MDA2'!M135)","v":0},{"$f":"IF(AND(COUNTRY_INFO!H135>0,COUNTRY_INFO!H135<4),IF(D135>MAX('MDA1'!M135,'MDA2'!M135),MAX('MDA1'!M135,'MDA2'!M135),D135),0)","v":0},{"$f":"IF(AND(COUNTRY_INFO!H135>0,COUNTRY_INFO!H135<4), IF(G135/D135*100<>0, IF(G135/D135*100>100,100,G135/D135*100), \"-\"),0)","v":0},{"$f":"COUNTRY_INFO!M135","v":0},null,null,{"$f":"MAX('MDA1'!M135,MAX('MDA3'!I135,'MDA3'!L135)+MAX('MDA3'!J135,'MDA3'!M135))","v":0},{"$f":"IF(AND(COUNTRY_INFO!I135>0,COUNTRY_INFO!I135<4),IF(J135>MAX('MDA1'!M135,MAX('MDA3'!I135,'MDA3'!L135)+MAX('MDA3'!J135,'MDA3'!M135)),MAX('MDA1'!M135,MAX('MDA3'!I135,'MDA3'!L135)+MAX('MDA3'!J135,'MDA3'!M135)),J135),0)","v":0},{"$f":"IF(AND(COUNTRY_INFO!I135>0,COUNTRY_INFO!I135<4), IF(M135/J135*100<>0, IF(M135/J135*100>100,100,M135/J135*100), \"-\"),0)","v":0},{"$f":"COUNTRY_INFO!N135","v":47080},null,null,{"$f":"SUM(MAX('MDA2'!J135, 'T1'!L135, MAX(T3_R1!K135, T3_R2!K135)), MAX('MDA1'!K135, 'MDA2'!K135, 'T1'!M135, MAX(T3_R1!L135, T3_R2!L135)), MAX('MDA1'!L135, 'MDA2'!L135, 'T1'!N135, MAX(T3_R1!M135, T3_R2!M135)))","v":28225},{"$f":"IF(AND(COUNTRY_INFO!J135>1,COUNTRY_INFO!J135<4),IF(COUNTRY_INFO!E135>MAX('MDA2'!J135,'T1'!L135,MAX(T3_R1!K135,T3_R2!K135)),MAX('MDA2'!J135,'T1'!L135,MAX(T3_R1!K135,T3_R2!K135)),COUNTRY_INFO!E135),0)","v":0},{"$f":"IF(AND(COUNTRY_INFO!J135>1,COUNTRY_INFO!J135<4), IF(T135/COUNTRY_INFO!E135*100<>0, IF(T135/COUNTRY_INFO!E135*100>100,100,T135/COUNTRY_INFO!E135*100), \"-\"),0)","v":"-"},{"$f":"IF(AND(COUNTRY_INFO!J135>1,COUNTRY_INFO!J135<4),IF(COUNTRY_INFO!F135>MAX('MDA1'!K135,'MDA2'!K135,'T1'!M135,MAX(T3_R1!L135,T3_R2!L135)),MAX('MDA1'!K135,'MDA2'!K135,'T1'!M135,MAX(T3_R1!L135,T3_R2!L135)),COUNTRY_INFO!F135),0)","v":28225},{"$f":"IF(AND(COUNTRY_INFO!J135>1,COUNTRY_INFO!J135<4), IF(V135/COUNTRY_INFO!F135*100<>0, IF(V135/COUNTRY_INFO!F135*100>100,100,V135/COUNTRY_INFO!F135*100), \"-\"),0)","v":89.625936745840221},28225,{"$f":"IF(AND(COUNTRY_INFO!J135>1,COUNTRY_INFO!J135<4), IF(S135/P135*100<>0, IF(X135/P135*100>100,100,X135/P135*100), \"-\"),0)","v":59.951146983857264},{"$f":"COUNTRY_INFO!O135","v":30496.939380905056},null,null,{"$f":"MAX('T1'!L135,'T2'!J135)+MAX('T1'!M135,'T2'!K135)+MAX('T1'!N135,'T2'!L135)","v":0},{"$f":"IF(COUNTRY_INFO!K135=1,IF(COUNTRY_INFO!F135*0.33>MAX('T1'!M135,'T2'!K135),MAX('T1'!M135,'T2'!K135),COUNTRY_INFO!F135*0.33),IF(COUNTRY_INFO!K135=2,IF(COUNTRY_INFO!F135*0.5>MAX('T1'!M135,'T2'!K135),MAX('T1'!M135,'T2'!K135),COUNTRY_INFO!F135*0.5),IF(COUNTRY_INFO!K135=3,IF(COUNTRY_INFO!F135>MAX('T1'!M135,'T2'!K135),MAX('T1'!M135,'T2'!K135),COUNTRY_INFO!F135),0)))","v":0},{"$f":"IF(AND(COUNTRY_INFO!K135>0,COUNTRY_INFO!K135<4),IF(Z135>0,IF(COUNTRY_INFO!K135=1, AD135/(COUNTRY_INFO!F135*0.33)*100, IF(COUNTRY_INFO!K135=2, AD135/(COUNTRY_INFO!F135*0.5)*100, IF(COUNTRY_INFO!K135=3, AD135/COUNTRY_INFO!F135*100))),\"-\"),0)","v":0},{"$f":"IF(COUNTRY_INFO!K135=2,IF(COUNTRY_INFO!G135*0.2>MAX('T1'!N135,'T2'!L135),MAX('T1'!N135,'T2'!L135),COUNTRY_INFO!G135*0.2),IF(COUNTRY_INFO!K135=3,IF(COUNTRY_INFO!G135>MAX('T1'!N135,'T2'!L135),MAX('T1'!N135,'T2'!L135),COUNTRY_INFO!G135),0))","v":0},{"$f":"IF(AND(COUNTRY_INFO!K135>0,COUNTRY_INFO!K135<4),IF(Z135>0,IF(COUNTRY_INFO!K135=1, 0, IF(COUNTRY_INFO!K135=2, AF135/(COUNTRY_INFO!G135*0.2)*100, IF(COUNTRY_INFO!K135=3, AF135/COUNTRY_INFO!G135*100))),\"-\"),0)","v":0},0,{"$f":"IF(AND(COUNTRY_INFO!K135>0,COUNTRY_INFO!K135<4), IF(AC135/Z135*100<>0, IF(AH135/Z135*100>100,100,AH135/Z135*100), \"-\"),0)","v":"-"},null,{"$f":"IF(AND(D135<>0, D135<>\"Unknown\",D135<>\"Stopped\",D135<>\"Not required\"),D135/COUNTRY_INFO!D135, 0)","v":0},{"$f":"IF(AND(J135<>0,J135<>\"Unknown\",J135<>\"Stopped\",J135<>\"Not required\"),J135/COUNTRY_INFO!D135, 0)","v":0},{"$f":"IF(AND(P135<>0,P135<>\"Unknown\",P135<>\"Not required\"),P135/(COUNTRY_INFO!E135+COUNTRY_INFO!F135), 0)","v":1},{"$f":"IF(AND(Z135<>0,Z135<>\"Unknown\",Z135<>\"Not required\"),IF(COUNTRY_INFO!K135=1,1,IF(COUNTRY_INFO!K135=2,0.5*COUNTRY_INFO!F135/(0.5*COUNTRY_INFO!F135+0.2*COUNTRY_INFO!G135),IF(COUNTRY_INFO!K135=3,COUNTRY_INFO!F135/(COUNTRY_INFO!F135+COUNTRY_INFO!G135)))),0)","v":0.51631410625615071},{"$f":"IF(AND(Z135<>0,Z135<>\"Unknown\",Z135<>\"Not required\"),IF(COUNTRY_INFO!K135=1,0,IF(COUNTRY_INFO!K135=2,0.2*COUNTRY_INFO!G135/(0.5*COUNTRY_INFO!F135+0.2*COUNTRY_INFO!G135),IF(COUNTRY_INFO!K135=3,COUNTRY_INFO!G135/(COUNTRY_INFO!F135+COUNTRY_INFO!G135)))),0)","v":0.48368589374384929},{"$f":"MAX(COUNTRY_INFO!D135*AK135*PROFILE!$G$7,COUNTRY_INFO!D135*AL135*PROFILE!$G$7)","v":0},{"$f":"MAX(COUNTRY_INFO!D135*AK135*PROFILE!$G$8,COUNTRY_INFO!D135*AL135*PROFILE!$G$8,COUNTRY_INFO!D135*AM135*PROFILE!$G$8)","v":15587.676130220625},{"$f":"MAX(COUNTRY_INFO!D135*AK135*PROFILE!$G$9,COUNTRY_INFO!D135*AL135*PROFILE!$G$9,COUNTRY_INFO!D135*AM135*PROFILE!$G$9,IF(AND(DISTRICT!Z135<>\"Unknown\",Z135<>\"Not required\"),COUNTRY_INFO!O135*DISTRICT!AN135,0))","v":27163.877200710926},{"$f":"MAX(COUNTRY_INFO!D135*AK135*PROFILE!$G$10,COUNTRY_INFO!D135*AL135*PROFILE!$G$10,IF(AND(DISTRICT!Z135<>\"Unknown\",Z135<>\"Not required\"),COUNTRY_INFO!O135*DISTRICT!AO135,0))","v":14750.939380905056},57502.492711836603,0,{"$f":"MAX('MDA2'!J135,'T1'!L135,'T2'!J135,T3_R1!K135,T3_R2!K135)","v":0},{"$f":"MAX('MDA1'!K135,'MDA2'!K135,'MDA3'!I135,'MDA3'!L135,'T1'!M135,'T2'!K135,T3_R1!L135,T3_R2!L135)","v":28225},{"$f":"MAX('MDA1'!L135,'MDA2'!L135,'MDA3'!J135,'MDA3'!M135,'T1'!N135,'T2'!L135,T3_R1!M135,T3_R2!M135)","v":0},28225,{"$f":"MAX('MDA2'!J135,T135)","v":0},{"$f":"MAX('MDA1'!K135,'MDA2'!K135,'MDA3'!I135,'MDA3'!L135,V135,AD135)","v":28225},{"$f":"MAX('MDA1'!L135,'MDA2'!L135,'MDA3'!J135,'MDA3'!M135,AF135)","v":0},28225,49.084828620290445]
[{"$f":"IF(COUNTRY_INFO!A136=0,\" \",COUNTRY_INFO!A136)","v":"Tanzania"},{"$f":"IF(COUNTRY_INFO!B136=0,\" \",COUNTRY_INFO!B136)","v":"Pwani"},{"$f":"IF(COUNTRY_INFO!C136=0,\" \",COUNTRY_INFO!C136)","v":"Mafia District Council"},{"$f":"COUNTRY_INFO!L136","v":55230.780863099979},null,null,{"$f":"MAX('MDA1'!M136,'MDA2'!M136)","v":0},{"$f":"IF(AND(COUNTRY_INFO!H136>0,COUNTRY_INFO!H136<4),IF(D136>MAX('MDA1'!M136,'MDA2'!M136),MAX('MDA1'!M136,'MDA2'!M136),D136),0)","v":0},{"$f":"IF(AND(COUNTRY_INFO!H136>0,COUNTRY_INFO!H136<4), IF(G136/D136*100<>0, IF(G136/D136*100>100,100,G136/D136*100), \"-\"),0)","v":"-"},{"$f":"COUNTRY_INFO!M136","v":0},null,null,{"$f":"MAX('MDA1'!M136,MAX('MDA3'!I136,'MDA3'!L136)+MAX('MDA3'!J136,'MDA3'!M136))","v":0},{"$f":"IF(AND(COUNTRY_INFO!I136>0,COUNTRY_INFO!I136<4),IF(J136>MAX('MDA1'!M136,MAX('MDA3'!I136,'MDA3'!L136)+MAX('MDA3'!J136,'MDA3'!M136)),MAX('MDA1'!M136,MAX('MDA3'!I136,'MDA3'!L136)+MAX('MDA3'!J136,'MDA3'!M136)),J136),0)","v":0},{"$f":"IF(AND(COUNTRY_INFO!I136>0,COUNTRY_INFO!I136<4), IF(M136/J136*100<>0, IF(M136/J136*100>100,100,M136/J136*100), \"-\"),0)","v":0},{"$f":"COUNTRY_INFO!N136","v":19546},null,null,{"$f":"SUM(MAX('MDA2'!J136, 'T1'!L136, MAX(T3_R1!K136, T3_R2!K136)), MAX('MDA1'!K136, 'MDA2'!K136, 'T1'!M136, MAX(T3_R1!L136, T3_R2!L136)), MAX('MDA1'!L136, 'MDA2'!L136, 'T1'!N136, MAX(T3_R1!M136, T3_R2!M136)))","v":12047},{"$f":"IF(AND(COUNTRY_INFO!J136>1,COUNTRY_INFO!J136<4),IF(COUNTRY_INFO!E136>MAX('MDA2'!J136,'T1'!L136,MAX(T3_R1!K136,T3_R2!K136)),MAX('MDA2'!J136,'T1'!L136,MAX(T3_R1!K136,T3_R2!K136)),COUNTRY_INFO!E136),0)","v":0},{"$f":"IF(AND(COUNTRY_INFO!J136>1,COUNTRY_INFO!J136<4), IF(T136/COUNTRY_INFO!E136*100<>0, IF(T136/COUNTRY_INFO!E136*100>100,100,T136/COUNTRY_INFO!E136*100), \"-\"),0)","v":"-"},{"$f":"IF(AND(COUNTRY_INFO!J136>1,COUNTRY_INFO!J136<4),IF(COUNTRY_INFO!F136>MAX('MDA1'!K136,'MDA2'!K136,'T1'!M136,MAX(T3_R1!L136,T3_R2!L136)),MAX('MDA1'!K136,'MDA2'!K136,'T1'!M136,MAX(T3_R1!L136,T3_R2!L136)),COUNTRY_INFO!F136),0)","v":12047},{"$f":"IF(AND(COUNTRY_INFO!J136>1,COUNTRY_INFO!J136<4), IF(V136/COUNTRY_INFO!F136*100<>0, IF(V136/COUNTRY_INFO!F136*100>100,100,V136/COUNTRY_INFO!F136*100), \"-\"),0)","v":96.988970292247004},12047,{"$f":"IF(AND(COUNTRY_INFO!J136>1,COUNTRY_INFO!J136<4), IF(S136/P136*100<>0, IF(X136/P136*100>100,100,X136/P136*100), \"-\"),0)","v":61.63409393226236},{"$f":"COUNTRY_INFO!O136","v":13347.456172619997},null,null,{"$f":"MAX('T1'!L136,'T2'!J136)+MAX('T1'!M136,'T2'!K136)+MAX('T1'!N136,'T2'!L136)","v":12047},{"$f":"IF(COUNTRY_INFO!K136=1,IF(COUNTRY_INFO!F136*0.33>MAX('T1'!M136,'T2'!K136),MAX('T1'!M136,'T2'!K136),COUNTRY_INFO!F136*0.33),IF(COUNTRY_INFO!K136=2,IF(COUNTRY_INFO!F136*0.5>MAX('T1'!M136,'T2'!K136),MAX('T1'!M136,'T2'!K136),COUNTRY_INFO!F136*0.5),IF(COUNTRY_INFO!K136=3,IF(COUNTRY_INFO!F136>MAX('T1'!M136,'T2'!K136),MAX('T1'!M136,'T2'!K136),COUNTRY_INFO!F136),0)))","v":6210.5},{"$f":"IF(AND(COUNTRY_INFO!K136>0,COUNTRY_INFO!K136<4),IF(Z136>0,IF(COUNTRY_INFO!K136=1, AD136/(COUNTRY_INFO!F136*0.33)*100, IF(COUNTRY_INFO!K136=2, AD136/(COUNTRY_INFO!F136*0.5)*100, IF(COUNTRY_INFO!K136=3, AD136/COUNTRY_INFO!F136*100))),\"-\"),0)","v":100},{"$f":"IF(COUNTRY_INFO!K136=2,IF(COUNTRY_INFO!G136*0.2>MAX('T1'!N136,'T2'!L136),MAX('T1'!N136,'T2'!L136),COUNTRY_INFO!G136*0.2),IF(COUNTRY_INFO!K136=3,IF(COUNTRY_INFO!G136>MAX('T1'!N136,'T2'!L136),MAX('T1'!N136,'T2'!L136),COUNTRY_INFO!G136),0))","v":0},{"$f":"IF(AND(COUNTRY_INFO!K136>0,COUNTRY_INFO!K136<4),IF(Z136>0,IF(COUNTRY_INFO!K136=1, 0, IF(COUNTRY_INFO!K136=2, AF136/(COUNTRY_INFO!G136*0.2)*100, IF(COUNTRY_INFO!K136=3, AF136/COUNTRY_INFO!G136*100))),\"-\"),0)","v":0},6210.5,{"$f":"IF(AND(COUNTRY_INFO!K136>0,COUNTRY_INFO!K136<4), IF(AC136/Z136*100<>0, IF(AH136/Z136*100>100,100,AH136/Z136*100), \"-\"),0)","v":46.529465387867461},null,{"$f":"IF(AND(D136<>0, D136<>\"Unknown\",D136<>\"Stopped\",D136<>\"Not required\"),D136/COUNTRY_INFO!D136, 0)","v":1},{"$f":"IF(AND(J136<>0,J136<>\"Unknown\",J136<>\"Stopped\",J136<>\"Not required\"),J136/COUNTRY_INFO!D136, 0)","v":0},{"$f":"IF(AND(P136<>0,P136<>\"Unknown\",P136<>\"Not required\"),P136/(COUNTRY_INFO!E136+COUNTRY_INFO!F136), 0)","v":1},{"$f":"IF(AND(Z136<>0,Z136<>\"Unknown\",Z136<>\"Not required\"),IF(COUNTRY_INFO!K136=1,1,IF(COUNTRY_INFO!K136=2,0.5*COUNTRY_INFO!F136/(0.5*COUNTRY_INFO!F136+0.2*COUNTRY_INFO!G136),IF(COUNTRY_INFO!K136=3,COUNTRY_INFO!F136/(COUNTRY_INFO!F136+COUNTRY_INFO!G136)))),0)","v":0.46529465387867458},{"$f":"IF(AND(Z136<>0,Z136<>\"Unknown\",Z136<>\"Not required\"),IF(COUNTRY_INFO!K136=1,0,IF(COUNTRY_INFO!K136=2,0.2*COUNTRY_INFO!G136/(0.5*COUNTRY_INFO!F136+0.2*COUNTRY_INFO!G136),IF(COUNTRY_INFO!K136=3,COUNTRY_INFO!G136/(COUNTRY_INFO!F136+COUNTRY_INFO!G136)))),0)","v":0.53470534612132536},{"$f":"MAX(COUNTRY_INFO!D136*AK136*PROFILE!$G$7,COUNTRY_INFO!D136*AL136*PROFILE!$G$7)","v":1.0127646179812226E-3},{"$f":"MAX(COUNTRY_INFO!D136*AK136*PROFILE!$G$8,COUNTRY_INFO!D136*AL136*PROFILE!$G$8,COUNTRY_INFO!D136*AM136*PROFILE!$G$8)","v":7124.7708362559561},{"$f":"MAX(COUNTRY_INFO!D136*AK136*PROFILE!$G$9,COUNTRY_INFO!D136*AL136*PROFILE!$G$9,COUNTRY_INFO!D136*AM136*PROFILE!$G$9,IF(AND(DISTRICT!Z136<>\"Unknown\",Z136<>\"Not required\"),COUNTRY_INFO!O136*DISTRICT!AN136,0))","v":12415.988019153438},{"$f":"MAX(COUNTRY_INFO!D136*AK136*PROFILE!$G$10,COUNTRY_INFO!D136*AL136*PROFILE!$G$10,IF(AND(DISTRICT!Z136<>\"Unknown\",Z136<>\"Not required\"),COUNTRY_INFO!O136*DISTRICT!AO136,0))","v":35690.020994925966},55230.780863099979,0,{"$f":"MAX('MDA2'!J136,'T1'!L136,'T2'!J136,T3_R1!K136,T3_R2!K136)","v":0},{"$f":"MAX('MDA1'!K136,'MDA2'!K136,'MDA3'!I136,'MDA3'!L136,'T1'!M136,'T2'!K136,T3_R1!L136,T3_R2!L136)","v":12047},{"$f":"MAX('MDA1'!L136,'MDA2'!L136,'MDA3'!J136,'MDA3'!M136,'T1'!N136,'T2'!L136,T3_R1!M136,T3_R2!M136)","v":0},12047,{"$f":"MAX('MDA2'!J136,T136)","v":0},{"$f":"MAX('MDA1'!K136,'MDA2'!K136,'MDA3'!I136,'MDA3'!L136,V136,AD136)","v":12047},{"$f":"MAX('MDA1'!L136,'MDA2'!L136,'MDA3'!J136,'MDA3'!M136,AF136)","v":0},12047,21.81211239772399]
[{"$f":"IF(COUNTRY_INFO!A137=0,\" \",COUNTRY_INFO!A137)","v":"Tanzania"},{"$f":"IF(COUNTRY_INFO!B137=0,\" \",COUNTRY_INFO!B137)","v":"Pwani"},{"$f":"IF(COUNTRY_INFO!C137=0,\" \",COUNTRY_INFO!C137)","v":"Mkuranga District Council"},{"$f":"COUNTRY_INFO!L137","v":"Stopped"},null,null,{"$f":"MAX('MDA1'!M137,'MDA2'!M137)","v":0},{"$f":"IF(AND(COUNTRY_INFO!H137>0,COUNTRY_INFO!H137<4),IF(D137>MAX('MDA1'!M137,'MDA2'!M137),MAX('MDA1'!M137,'MDA2'!M137),D137),0)","v":0},{"$f":"IF(AND(COUNTRY_INFO!H137>0,COUNTRY_INFO!H137<4), IF(G137/D137*100<>0, IF(G137/D137*100>100,100,G137/D137*100), \"-\"),0)","v":0},{"$f":"COUNTRY_INFO!M137","v":0},null,null,{"$f":"MAX('MDA1'!M137,MAX('MDA3'!I137,'MDA3'!L137)+MAX('MDA3'!J137,'MDA3'!M137))","v":0},{"$f":"IF(AND(COUNTRY_INFO!I137>0,COUNTRY_INFO!I137<4),IF(J137>MAX('MDA1'!M137,MAX('MDA3'!I137,'MDA3'!L137)+MAX('MDA3'!J137,'MDA3'!M137)),MAX('MDA1'!M137,MAX('MDA3'!I137,'MDA3'!L137)+MAX('MDA3'!J137,'MDA3'!M137)),J137),0)","v":0},{"$f":"IF(AND(COUNTRY_INFO!I137>0,COUNTRY_INFO!I137<4), IF(M137/J137*100<>0, IF(M137/J137*100>100,100,M137/J137*100), \"-\"),0)","v":0},{"$f":"COUNTRY_INFO!N137","v":119519},null,null,{"$f":"SUM(MAX('MDA2'!J137, 'T1'!L137, MAX(T3_R1!K137, T3_R2!K137)), MAX('MDA1'!K137, 'MDA2'!K137, 'T1'!M137, MAX(T3_R1!L137, T3_R2!L137)), MAX('MDA1'!L137, 'MDA2'!L137, 'T1'!N137, MAX(T3_R1!M137, T3_R2!M137)))","v":74393},{"$f":"IF(AND(COUNTRY_INFO!J137>1,COUNTRY_INFO!J137<4),IF(COUNTRY_INFO!E137>MAX('MDA2'!J137,'T1'!L137,MAX(T3_R1!K137,T3_R2!K137)),MAX('MDA2'!J137,'T1'!L137,MAX(T3_R1!K137,T3_R2!K137)),COUNTRY_INFO!E137),0)","v":0},{"$f":"IF(AND(COUNTRY_INFO!J137>1,COUNTRY_INFO!J137<4), IF(T137/COUNTRY_INFO!E137*100<>0, IF(T137/COUNTRY_INFO!E137*100>100,100,T137/COUNTRY_INFO!E137*100), \"-\"),0)","v":"-"},{"$f":"IF(AND(COUNTRY_INFO!J137>1,COUNTRY_INFO!J137<4),IF(COUNTRY_INFO!F137>MAX('MDA1'!K137,'MDA2'!K137,'T1'!M137,MAX(T3_R1!L137,T3_R2!L137)),MAX('MDA1'!K137,'MDA2'!K137,'T1'!M137,MAX(T3_R1!L137,T3_R2!L137)),COUNTRY_INFO!F137),0)","v":74393},{"$f":"IF(AND(COUNTRY_INFO!J137>1,COUNTRY_INFO!J137<4), IF(V137/COUNTRY_INFO!F137*100<>0, IF(V137/COUNTRY_INFO!F137*100>100,100,V137/COUNTRY_INFO!F137*100), \"-\"),0)","v":87.19598673183539},74393,{"$f":"IF(AND(COUNTRY_INFO!J137>1,COUNTRY_INFO!J137<4), IF(S137/P137*100<>0, IF(X137/P137*100>100,100,X137/P137*100), \"-\"),0)","v":62.243660003848753},{"$f":"COUNTRY_INFO!O137","v":71781.265335549571},null,null,{"$f":"MAX('T1'!L137,'T2'!J137)+MAX('T1'!M137,'T2'!K137)+MAX('T1'!N137,'T2'!L137)","v":0},{"$f":"IF(COUNTRY_INFO!K137=1,IF(COUNTRY_INFO!F137*0.33>MAX('T1'!M137,'T2'!K137),MAX('T1'!M137,'T2'!K137),COUNTRY_INFO!F137*0.33),IF(COUNTRY_INFO!K137=2,IF(COUNTRY_INFO!F137*0.5>MAX('T1'!M137,'T2'!K137),MAX('T1'!M137,'T2'!K137),COUNTRY_INFO!F137*0.5),IF(COUNTRY_INFO!K137=3,IF(COUNTRY_INFO!F137>MAX('T1'!M137,'T2'!K137),MAX('T1'!M137,'T2'!K137),COUNTRY_INFO!F137),0)))","v":0},{"$f":"IF(AND(COUNTRY_INFO!K137>0,COUNTRY_INFO!K137<4),IF(Z137>0,IF(COUNTRY_INFO!K137=1, AD137/(COUNTRY_INFO!F137*0.33)*100, IF(COUNTRY_INFO!K137=2, AD137/(COUNTRY_INFO!F137*0.5)*100, IF(COUNTRY_INFO!K137=3, AD137/COUNTRY_INFO!F137*100))),\"-\"),0)","v":0},{"$f":"IF(COUNTRY_INFO!K137=2,IF(COUNTRY_INFO!G137*0.2>MAX('T1'!N137,'T2'!L137),MAX('T1'!N137,'T2'!L137),COUNTRY_INFO!G137*0.2),IF(COUNTRY_INFO!K137=3,IF(COUNTRY_INFO!G137>MAX('T1'!N137,'T2'!L137),MAX('T1'!N137,'T2'!L137),COUNTRY_INFO!G137),0))","v":0},{"$f":"IF(AND(COUNTRY_INFO!K137>0,COUNTRY_INFO!K137<4),IF(Z137>0,IF(COUNTRY_INFO!K137=1, 0, IF(COUNTRY_INFO!K137=2, AF137/(COUNTRY_INFO!G137*0.2)*100, IF(COUNTRY_INFO!K137=3, AF137/COUNTRY_INFO!G137*100))),\"-\"),0)","v":0},0,{"$f":"IF(AND(COUNTRY_INFO!K137>0,COUNTRY_INFO!K137<4), IF(AC137/Z137*100<>0, IF(AH137/Z137*100>100,100,AH137/Z137*100), \"-\"),0)","v":"-"},null,{"$f":"IF(AND(D137<>0, D137<>\"Unknown\",D137<>\"Stopped\",D137<>\"Not required\"),D137/COUNTRY_INFO!D137, 0)","v":0},{"$f":"IF(AND(J137<>0,J137<>\"Unknown\",J137<>\"Stopped\",J137<>\"Not required\"),J137/COUNTRY_INFO!D137, 0)","v":0},{"$f":"IF(AND(P137<>0,P137<>\"Unknown\",P137<>\"Not required\"),P137/(COUNTRY_INFO!E137+COUNTRY_INFO!F137), 0)","v":1},{"$f":"IF(AND(Z137<>0,Z137<>\"Unknown\",Z137<>\"Not required\"),IF(COUNTRY_INFO!K137=1,1,IF(COUNTRY_INFO!K137=2,0.5*COUNTRY_INFO!F137/(0.5*COUNTRY_INFO!F137+0.2*COUNTRY_INFO!G137),IF(COUNTRY_INFO!K137=3,COUNTRY_INFO!F137/(COUNTRY_INFO!F137+COUNTRY_INFO!G137)))),0)","v":0.59428459223431152},{"$f":"IF(AND(Z137<>0,Z137<>\"Unknown\",Z137<>\"Not required\"),IF(COUNTRY_INFO!K137=1,0,IF(COUNTRY_INFO!K137=2,0.2*COUNTRY_INFO!G137/(0.5*COUNTRY_INFO!F137+0.2*COUNTRY_INFO!G137),IF(COUNTRY_INFO!K137=3,COUNTRY_INFO!G137/(COUNTRY_INFO!F137+COUNTRY_INFO!G137)))),0)","v":0.40571540776568837},{"$f":"MAX(COUNTRY_INFO!D137*AK137*PROFILE!$G$7,COUNTRY_INFO!D137*AL137*PROFILE!$G$7)","v":0},{"$f":"MAX(COUNTRY_INFO!D137*AK137*PROFILE!$G$8,COUNTRY_INFO!D137*AL137*PROFILE!$G$8,COUNTRY_INFO!D137*AM137*PROFILE!$G$8)","v":34202.135145074193},{"$f":"MAX(COUNTRY_INFO!D137*AK137*PROFILE!$G$9,COUNTRY_INFO!D137*AL137*PROFILE!$G$9,COUNTRY_INFO!D137*AM137*PROFILE!$G$9,IF(AND(DISTRICT!Z137<>\"Unknown\",Z137<>\"Not required\"),COUNTRY_INFO!O137*DISTRICT!AN137,0))","v":59602.380195832629},{"$f":"MAX(COUNTRY_INFO!D137*AK137*PROFILE!$G$10,COUNTRY_INFO!D137*AL137*PROFILE!$G$10,IF(AND(DISTRICT!Z137<>\"Unknown\",Z137<>\"Not required\"),COUNTRY_INFO!O137*DISTRICT!AO137,0))","v":29122.765335549568},122927.2806764564,0,{"$f":"MAX('MDA2'!J137,'T1'!L137,'T2'!J137,T3_R1!K137,T3_R2!K137)","v":0},{"$f":"MAX('MDA1'!K137,'MDA2'!K137,'MDA3'!I137,'MDA3'!L137,'T1'!M137,'T2'!K137,T3_R1!L137,T3_R2!L137)","v":74393},{"$f":"MAX('MDA1'!L137,'MDA2'!L137,'MDA3'!J137,'MDA3'!M137,'T1'!N137,'T2'!L137,T3_R1!M137,T3_R2!M137)","v":0},74393,{"$f":"MAX('MDA2'!J137,T137)","v":0},{"$f":"MAX('MDA1'!K137,'MDA2'!K137,'MDA3'!I137,'MDA3'!L137,V137,AD137)","v":74393},{"$f":"MAX('MDA1'!L137,'MDA2'!L137,'MDA3'!J137,'MDA3'!M137,AF137)","v":0},74393,60.517892847399565]
[{"$f":"IF(COUNTRY_INFO!A138=0,\" \",COUNTRY_INFO!A138)","v":"Tanzania"},{"$f":"IF(COUNTRY_INFO!B138=0,\" \",COUNTRY_INFO!B138)","v":"Pwani"},{"$f":"IF(COUNTRY_INFO!C138=0,\" \",COUNTRY_INFO!C138)","v":"Rufiji District Council"},{"$f":"COUNTRY_INFO!L138","v":"Stopped"},null,null,{"$f":"MAX('MDA1'!M138,'MDA2'!M138)","v":0},{"$f":"IF(AND(COUNTRY_INFO!H138>0,COUNTRY_INFO!H138<4),IF(D138>MAX('MDA1'!M138,'MDA2'!M138),MAX('MDA1'!M138,'MDA2'!M138),D138),0)","v":0},{"$f":"IF(AND(COUNTRY_INFO!H138>0,COUNTRY_INFO!H138<4), IF(G138/D138*100<>0, IF(G138/D138*100>100,100,G138/D138*100), \"-\"),0)","v":0},{"$f":"COUNTRY_INFO!M138","v":0},null,null,{"$f":"MAX('MDA1'!M138,MAX('MDA3'!I138,'MDA3'!L138)+MAX('MDA3'!J138,'MDA3'!M138))","v":0},{"$f":"IF(AND(COUNTRY_INFO!I138>0,COUNTRY_INFO!I138<4),IF(J138>MAX('MDA1'!M138,MAX('MDA3'!I138,'MDA3'!L138)+MAX('MDA3'!J138,'MDA3'!M138)),MAX('MDA1'!M138,MAX('MDA3'!I138,'MDA3'!L138)+MAX('MDA3'!J138,'MDA3'!M138)),J138),0)","v":0},{"$f":"IF(AND(COUNTRY_INFO!I138>0,COUNTRY_INFO!I138<4), IF(M138/J138*100<>0, IF(M138/J138*100>100,100,M138/J138*100), \"-\"),0)","v":0},{"$f":"COUNTRY_INFO!N138","v":52065},null,null,{"$f":"SUM(MAX('MDA2'!J138, 'T1'!L138, MAX(T3_R1!K138, T3_R2!K138)), MAX('MDA1'!K138, 'MDA2'!K138, 'T1'!M138, MAX(T3_R1!L138, T3_R2!L138)), MAX('MDA1'!L138, 'MDA2'!L138, 'T1'!N138, MAX(T3_R1!M138, T3_R2!M138)))","v":32820},{"$f":"IF(AND(COUNTRY_INFO!J138>1,COUNTRY_INFO!J138<4),IF(COUNTRY_INFO!E138>MAX('MDA2'!J138,'T1'!L138,MAX(T3_R1!K138,T3_R2!K138)),MAX('MDA2'!J138,'T1'!L138,MAX(T3_R1!K138,T3_R2!K138)),COUNTRY_INFO!E138),0)","v":0},{"$f":"IF(AND(COUNTRY_INFO!J138>1,COUNTRY_INFO!J138<4), IF(T138/COUNTRY_INFO!E138*100<>0, IF(T138/COUNTRY_INFO!E138*100>100,100,T138/COUNTRY_INFO!E138*100), \"-\"),0)","v":"-"},{"$f":"IF(AND(COUNTRY_INFO!J138>1,COUNTRY_INFO!J138<4),IF(COUNTRY_INFO!F138>MAX('MDA1'!K138,'MDA2'!K138,'T1'!M138,MAX(T3_R1!L138,T3_R2!L138)),MAX('MDA1'!K138,'MDA2'!K138,'T1'!M138,MAX(T3_R1!L138,T3_R2!L138)),COUNTRY_INFO!F138),0)","v":32820},{"$f":"IF(AND(COUNTRY_INFO!J138>1,COUNTRY_INFO!J138<4), IF(V138/COUNTRY_INFO!F138*100<>0, IF(V138/COUNTRY_INFO!F138*100>100,100,V138/COUNTRY_INFO!F138*100), \"-\"),0)","v":94.650324441240087},{"$f":"SUM(T138,V138)","v":32820},{"$f":"IF(AND(COUNTRY_INFO!J138>1,COUNTRY_INFO!J138<4), IF(S138/P138*100<>0, IF(X138/P138*100>100,100,X138/P138*100), \"-\"),0)","v":63.036588879285503},{"$f":"COUNTRY_INFO!O138","v":33885.605769856586},null,null,{"$f":"MAX('T1'!L138,'T2'!J138)+MAX('T1'!M138,'T2'!K138)+MAX('T1'!N138,'T2'!L138)","v":0},{"$f":"IF(COUNTRY_INFO!K138=1,IF(COUNTRY_INFO!F138*0.33>MAX('T1'!M138,'T2'!K138),MAX('T1'!M138,'T2'!K138),COUNTRY_INFO!F138*0.33),IF(COUNTRY_INFO!K138=2,IF(COUNTRY_INFO!F138*0.5>MAX('T1'!M138,'T2'!K138),MAX('T1'!M138,'T2'!K138),COUNTRY_INFO!F138*0.5),IF(COUNTRY_INFO!K138=3,IF(COUNTRY_INFO!F138>MAX('T1'!M138,'T2'!K138),MAX('T1'!M138,'T2'!K138),COUNTRY_INFO!F138),0)))","v":0},{"$f":"IF(AND(COUNTRY_INFO!K138>0,COUNTRY_INFO!K138<4),IF(Z138>0,IF(COUNTRY_INFO!K138=1, AD138/(COUNTRY_INFO!F138*0.33)*100, IF(COUNTRY_INFO!K138=2, AD138/(COUNTRY_INFO!F138*0.5)*100, IF(COUNTRY_INFO!K138=3, AD138/COUNTRY_INFO!F138*100))),\"-\"),0)","v":0},{"$f":"IF(COUNTRY_INFO!K138=2,IF(COUNTRY_INFO!G138*0.2>MAX('T1'!N138,'T2'!L138),MAX('T1'!N138,'T2'!L138),COUNTRY_INFO!G138*0.2),IF(COUNTRY_INFO!K138=3,IF(COUNTRY_INFO!G138>MAX('T1'!N138,'T2'!L138),MAX('T1'!N138,'T2'!L138),COUNTRY_INFO!G138),0))","v":0},{"$f":"IF(AND(COUNTRY_INFO!K138>0,COUNTRY_INFO!K138<4),IF(Z138>0,IF(COUNTRY_INFO!K138=1, 0, IF(COUNTRY_INFO!K138=2, AF138/(COUNTRY_INFO!G138*0.2)*100, IF(COUNTRY_INFO!K138=3, AF138/COUNTRY_INFO!G138*100))),\"-\"),0)","v":0},{"$f":"SUM(AD138,AF138)","v":0},{"$f":"IF(AND(COUNTRY_INFO!K138>0,COUNTRY_INFO!K138<4), IF(AC138/Z138*100<>0, IF(AH138/Z138*100>100,100,AH138/Z138*100), \"-\"),0)","v":"-"},null,{"$f":"IF(AND(D138<>0, D138<>\"Unknown\",D138<>\"Stopped\",D138<>\"Not required\"),D138/COUNTRY_INFO!D138, 0)","v":0},{"$f":"IF(AND(J138<>0,J138<>\"Unknown\",J138<>\"Stopped\",J138<>\"Not required\"),J138/COUNTRY_INFO!D138, 0)","v":0},{"$f":"IF(AND(P138<>0,P138<>\"Unknown\",P138<>\"Not required\"),P138/(COUNTRY_INFO!E138+COUNTRY_INFO!F138), 0)","v":1},{"$f":"IF(AND(Z138<>0,Z138<>\"Unknown\",Z138<>\"Not required\"),IF(COUNTRY_INFO!K138=1,1,IF(COUNTRY_INFO!K138=2,0.5*COUNTRY_INFO!F138/(0.5*COUNTRY_INFO!F138+0.2*COUNTRY_INFO!G138),IF(COUNTRY_INFO!K138=3,COUNTRY_INFO!F138/(COUNTRY_INFO!F138+COUNTRY_INFO!G138)))),0)","v":0.51164792855563512},{"$f":"IF(AND(Z138<>0,Z138<>\"Unknown\",Z138<>\"Not required\"),IF(COUNTRY_INFO!K138=1,0,IF(COUNTRY_INFO!K138=2,0.2*COUNTRY_INFO!G138/(0.5*COUNTRY_INFO!F138+0.2*COUNTRY_INFO!G138),IF(COUNTRY_INFO!K138=3,COUNTRY_INFO!G138/(COUNTRY_INFO!F138+COUNTRY_INFO!G138)))),0)","v":0.48835207144436477},{"$f":"MAX(COUNTRY_INFO!D138*AK138*PROFILE!$G$7,COUNTRY_INFO!D138*AL138*PROFILE!$G$7)","v":0},{"$f":"MAX(COUNTRY_INFO!D138*AK138*PROFILE!$G$8,COUNTRY_INFO!D138*AL138*PROFILE!$G$8,COUNTRY_INFO!D138*AM138*PROFILE!$G$8)","v":17389.913477633268},{"$f":"MAX(COUNTRY_INFO!D138*AK138*PROFILE!$G$9,COUNTRY_INFO!D138*AL138*PROFILE!$G$9,COUNTRY_INFO!D138*AM138*PROFILE!$G$9,IF(AND(DISTRICT!Z138<>\"Unknown\",Z138<>\"Not required\"),COUNTRY_INFO!O138*DISTRICT!AN138,0))","v":30304.547662598379},{"$f":"MAX(COUNTRY_INFO!D138*AK138*PROFILE!$G$10,COUNTRY_INFO!D138*AL138*PROFILE!$G$10,IF(AND(DISTRICT!Z138<>\"Unknown\",Z138<>\"Not required\"),COUNTRY_INFO!O138*DISTRICT!AO138,0))","v":16548.105769856582},{"$f":"SUM(AP138:AS138)","v":64242.566910088237},{"$f":"IF(COUNTIFS(AK138:AN138,\">0\")=0,0, IF(COUNTIFS(AK138:AN138,\">0\")<=IF(AND(OR(D138>=0,D138=\"Not required\",D138=\"Unknown\",D138=\"Stopped\"),D138>0,H138>0),1,0)+IF(AND(OR(J138>=0,J138=\"Not required\",J138=\"Unknown\",J138=\"Stopped\"),J138>0,N138>0),1,0)+IF(AND(OR(P138>=0,P138=\"Not required\",P138=\"Unknown\"),P138>0,X138>0),1,0)+IF(AND(OR(Z138>=0,Z138=\"Not required\",Z138=\"Unknown\"),Z138>0,AH138>0),1,0),\"Y\",0))","v":0},{"$f":"MAX('MDA2'!J138,'T1'!L138,'T2'!J138,T3_R1!K138,T3_R2!K138)","v":0},{"$f":"MAX('MDA1'!K138,'MDA2'!K138,'MDA3'!I138,'MDA3'!L138,'T1'!M138,'T2'!K138,T3_R1!L138,T3_R2!L138)","v":32820},{"$f":"MAX('MDA1'!L138,'MDA2'!L138,'MDA3'!J138,'MDA3'!M138,'T1'!N138,'T2'!L138,T3_R1!M138,T3_R2!M138)","v":0},{"$f":"SUM(AV138:AX138)","v":32820},{"$f":"MAX('MDA2'!J138,T138)","v":0},{"$f":"MAX('MDA1'!K138,'MDA2'!K138,'MDA3'!I138,'MDA3'!L138,V138,AD138)","v":32820},{"$f":"MAX('MDA1'!L138,'MDA2'!L138,'MDA3'!J138,'MDA3'!M138,AF138)","v":0},{"$f":"IF(AT138<SUM(AZ138:BB138), AT138,SUM(AZ138:BB138))","v":32820},{"$f":"IF(AT138<>0,BC138/AT138*100,0)","v":51.087622395185086}]
[{"$f":"IF(COUNTRY_INFO!A139=0,\" \",COUNTRY_INFO!A139)","v":"Tanzania"},{"$f":"IF(COUNTRY_INFO!B139=0,\" \",COUNTRY_INFO!B139)","v":"Rukwa"},{"$f":"IF(COUNTRY_INFO!C139=0,\" \",COUNTRY_INFO!C139)","v":"Kalambo District Council"},{"$f":"COUNTRY_INFO!L139","v":"Stopped"},null,null,{"$f":"MAX('MDA1'!M139,'MDA2'!M139)","v":0},{"$f":"IF(AND(COUNTRY_INFO!H139>0,COUNTRY_INFO!H139<4),IF(D139>MAX('MDA1'!M139,'MDA2'!M139),MAX('MDA1'!M139,'MDA2'!M139),D139),0)","v":0},{"$f":"IF(AND(COUNTRY_INFO!H139>0,COUNTRY_INFO!H139<4), IF(G139/D139*100<>0, IF(G139/D139*100>100,100,G139/D139*100), \"-\"),0)","v":0},{"$f":"COUNTRY_INFO!M139","v":0},null,null,{"$f":"MAX('MDA1'!M139,MAX('MDA3'!I139,'MDA3'!L139)+MAX('MDA3'!J139,'MDA3'!M139))","v":0},{"$f":"IF(AND(COUNTRY_INFO!I139>0,COUNTRY_INFO!I139<4),IF(J139>MAX('MDA1'!M139,MAX('MDA3'!I139,'MDA3'!L139)+MAX('MDA3'!J139,'MDA3'!M139)),MAX('MDA1'!M139,MAX('MDA3'!I139,'MDA3'!L139)+MAX('MDA3'!J139,'MDA3'!M139)),J139),0)","v":0},{"$f":"IF(AND(COUNTRY_INFO!I139>0,COUNTRY_INFO!I139<4), IF(M139/J139*100<>0, IF(M139/J139*100>100,100,M139/J139*100), \"-\"),0)","v":0},{"$f":"COUNTRY_INFO!N139","v":96356},null,null,{"$f":"SUM(MAX('MDA2'!J139, 'T1'!L139, MAX(T3_R1!K139, T3_R2!K139)), MAX('MDA1'!K139, 'MDA2'!K139, 'T1'!M139, MAX(T3_R1!L139, T3_R2!L139)), MAX('MDA1'!L139, 'MDA2'!L139, 'T1'!N139, MAX(T3_R1!M139, T3_R2!M139)))","v":58958},{"$f":"IF(AND(COUNTRY_INFO!J139>1,COUNTRY_INFO!J139<4),IF(COUNTRY_INFO!E139>MAX('MDA2'!J139,'T1'!L139,MAX(T3_R1!K139,T3_R2!K139)),MAX('MDA2'!J139,'T1'!L139,MAX(T3_R1!K139,T3_R2!K139)),COUNTRY_INFO!E139),0)","v":0},{"$f":"IF(AND(COUNTRY_INFO!J139>1,COUNTRY_INFO!J139<4), IF(T139/COUNTRY_INFO!E139*100<>0, IF(T139/COUNTRY_INFO!E139*100>100,100,T139/COUNTRY_INFO!E139*100), \"-\"),0)","v":"-"},{"$f":"IF(AND(COUNTRY_INFO!J139>1,COUNTRY_INFO!J139<4),IF(COUNTRY_INFO!F139>MAX('MDA1'!K139,'MDA2'!K139,'T1'!M139,MAX(T3_R1!L139,T3_R2!L139)),MAX('MDA1'!K139,'MDA2'!K139,'T1'!M139,MAX(T3_R1!L139,T3_R2!L139)),COUNTRY_INFO!F139),0)","v":58958},{"$f":"IF(AND(COUNTRY_INFO!J139>1,COUNTRY_INFO!J139<4), IF(V139/COUNTRY_INFO!F139*100<>0, IF(V139/COUNTRY_INFO!F139*100>100,100,V139/COUNTRY_INFO!F139*100), \"-\"),0)","v":95.418278334331347},58958,{"$f":"IF(AND(COUNTRY_INFO!J139>1,COUNTRY_INFO!J139<4), IF(S139/P139*100<>0, IF(X139/P139*100>100,100,X139/P139*100), \"-\"),0)","v":61.187679023620746},{"$f":"COUNTRY_INFO!O139","v":65216.059231779655},null,null,{"$f":"MAX('T1'!L139,'T2'!J139)+MAX('T1'!M139,'T2'!K139)+MAX('T1'!N139,'T2'!L139)","v":0},{"$f":"IF(COUNTRY_INFO!K139=1,IF(COUNTRY_INFO!F139*0.33>MAX('T1'!M139,'T2'!K139),MAX('T1'!M139,'T2'!K139),COUNTRY_INFO!F139*0.33),IF(COUNTRY_INFO!K139=2,IF(COUNTRY_INFO!F139*0.5>MAX('T1'!M139,'T2'!K139),MAX('T1'!M139,'T2'!K139),COUNTRY_INFO!F139*0.5),IF(COUNTRY_INFO!K139=3,IF(COUNTRY_INFO!F139>MAX('T1'!M139,'T2'!K139),MAX('T1'!M139,'T2'!K139),COUNTRY_INFO!F139),0)))","v":0},{"$f":"IF(AND(COUNTRY_INFO!K139>0,COUNTRY_INFO!K139<4),IF(Z139>0,IF(COUNTRY_INFO!K139=1, AD139/(COUNTRY_INFO!F139*0.33)*100, IF(COUNTRY_INFO!K139=2, AD139/(COUNTRY_INFO!F139*0.5)*100, IF(COUNTRY_INFO!K139=3, AD139/COUNTRY_INFO!F139*100))),\"-\"),0)","v":0},{"$f":"IF(COUNTRY_INFO!K139=2,IF(COUNTRY_INFO!G139*0.2>MAX('T1'!N139,'T2'!L139),MAX('T1'!N139,'T2'!L139),COUNTRY_INFO!G139*0.2),IF(COUNTRY_INFO!K139=3,IF(COUNTRY_INFO!G139>MAX('T1'!N139,'T2'!L139),MAX('T1'!N139,'T2'!L139),COUNTRY_INFO!G139),0))","v":0},{"$f":"IF(AND(COUNTRY_INFO!K139>0,COUNTRY_INFO!K139<4),IF(Z139>0,IF(COUNTRY_INFO!K139=1, 0, IF(COUNTRY_INFO!K139=2, AF139/(COUNTRY_INFO!G139*0.2)*100, IF(COUNTRY_INFO!K139=3, AF139/COUNTRY_INFO!G139*100))),\"-\"),0)","v":0},0,{"$f":"IF(AND(COUNTRY_INFO!K139>0,COUNTRY_INFO!K139<4), IF(AC139/Z139*100<>0, IF(AH139/Z139*100>100,100,AH139/Z139*100), \"-\"),0)","v":"-"},null,{"$f":"IF(AND(D139<>0, D139<>\"Unknown\",D139<>\"Stopped\",D139<>\"Not required\"),D139/COUNTRY_INFO!D139, 0)","v":0},{"$f":"IF(AND(J139<>0,J139<>\"Unknown\",J139<>\"Stopped\",J139<>\"Not required\"),J139/COUNTRY_INFO!D139, 0)","v":0},{"$f":"IF(AND(P139<>0,P139<>\"Unknown\",P139<>\"Not required\"),P139/(COUNTRY_INFO!E139+COUNTRY_INFO!F139), 0)","v":1},{"$f":"IF(AND(Z139<>0,Z139<>\"Unknown\",Z139<>\"Not required\"),IF(COUNTRY_INFO!K139=1,1,IF(COUNTRY_INFO!K139=2,0.5*COUNTRY_INFO!F139/(0.5*COUNTRY_INFO!F139+0.2*COUNTRY_INFO!G139),IF(COUNTRY_INFO!K139=3,COUNTRY_INFO!F139/(COUNTRY_INFO!F139+COUNTRY_INFO!G139)))),0)","v":0.47372534256018295},{"$f":"IF(AND(Z139<>0,Z139<>\"Unknown\",Z139<>\"Not required\"),IF(COUNTRY_INFO!K139=1,0,IF(COUNTRY_INFO!K139=2,0.2*COUNTRY_INFO!G139/(0.5*COUNTRY_INFO!F139+0.2*COUNTRY_INFO!G139),IF(COUNTRY_INFO!K139=3,COUNTRY_INFO!G139/(COUNTRY_INFO!F139+COUNTRY_INFO!G139)))),0)","v":0.52627465743981705},{"$f":"MAX(COUNTRY_INFO!D139*AK139*PROFILE!$G$7,COUNTRY_INFO!D139*AL139*PROFILE!$G$7)","v":0},{"$f":"MAX(COUNTRY_INFO!D139*AK139*PROFILE!$G$8,COUNTRY_INFO!D139*AL139*PROFILE!$G$8,COUNTRY_INFO!D139*AM139*PROFILE!$G$8)","v":34567.33021352029},{"$f":"MAX(COUNTRY_INFO!D139*AK139*PROFILE!$G$9,COUNTRY_INFO!D139*AL139*PROFILE!$G$9,COUNTRY_INFO!D139*AM139*PROFILE!$G$9,IF(AND(DISTRICT!Z139<>\"Unknown\",Z139<>\"Not required\"),COUNTRY_INFO!O139*DISTRICT!AN139,0))","v":60238.787695622959},{"$f":"MAX(COUNTRY_INFO!D139*AK139*PROFILE!$G$10,COUNTRY_INFO!D139*AL139*PROFILE!$G$10,IF(AND(DISTRICT!Z139<>\"Unknown\",Z139<>\"Not required\"),COUNTRY_INFO!O139*DISTRICT!AO139,0))","v":34321.559231779655},129127.6771409229,0,{"$f":"MAX('MDA2'!J139,'T1'!L139,'T2'!J139,T3_R1!K139,T3_R2!K139)","v":0},{"$f":"MAX('MDA1'!K139,'MDA2'!K139,'MDA3'!I139,'MDA3'!L139,'T1'!M139,'T2'!K139,T3_R1!L139,T3_R2!L139)","v":58958},{"$f":"MAX('MDA1'!L139,'MDA2'!L139,'MDA3'!J139,'MDA3'!M139,'T1'!N139,'T2'!L139,T3_R1!M139,T3_R2!M139)","v":0},58958,{"$f":"MAX('MDA2'!J139,T139)","v":0},{"$f":"MAX('MDA1'!K139,'MDA2'!K139,'MDA3'!I139,'MDA3'!L139,V139,AD139)","v":58958},{"$f":"MAX('MDA1'!L139,'MDA2'!L139,'MDA3'!J139,'MDA3'!M139,AF139)","v":0},58958,45.658685500596789]
[{"$f":"IF(COUNTRY_INFO!A140=0,\" \",COUNTRY_INFO!A140)","v":"Tanzania"},{"$f":"IF(COUNTRY_INFO!B140=0,\" \",COUNTRY_INFO!B140)","v":"Rukwa"},{"$f":"IF(COUNTRY_INFO!C140=0,\" \",COUNTRY_INFO!C140)","v":"Nkasi District Council"},{"$f":"COUNTRY_INFO!L140","v":"Stopped"},null,null,{"$f":"MAX('MDA1'!M140,'MDA2'!M140)","v":0},{"$f":"IF(AND(COUNTRY_INFO!H140>0,COUNTRY_INFO!H140<4),IF(D140>MAX('MDA1'!M140,'MDA2'!M140),MAX('MDA1'!M140,'MDA2'!M140),D140),0)","v":0},{"$f":"IF(AND(COUNTRY_INFO!H140>0,COUNTRY_INFO!H140<4), IF(G140/D140*100<>0, IF(G140/D140*100>100,100,G140/D140*100), \"-\"),0)","v":0},{"$f":"COUNTRY_INFO!M140","v":0},null,null,{"$f":"MAX('MDA1'!M140,MAX('MDA3'!I140,'MDA3'!L140)+MAX('MDA3'!J140,'MDA3'!M140))","v":0},{"$f":"IF(AND(COUNTRY_INFO!I140>0,COUNTRY_INFO!I140<4),IF(J140>MAX('MDA1'!M140,MAX('MDA3'!I140,'MDA3'!L140)+MAX('MDA3'!J140,'MDA3'!M140)),MAX('MDA1'!M140,MAX('MDA3'!I140,'MDA3'!L140)+MAX('MDA3'!J140,'MDA3'!M140)),J140),0)","v":0},{"$f":"IF(AND(COUNTRY_INFO!I140>0,COUNTRY_INFO!I140<4), IF(M140/J140*100<>0, IF(M140/J140*100>100,100,M140/J140*100), \"-\"),0)","v":0},{"$f":"COUNTRY_INFO!N140","v":139100},null,null,{"$f":"SUM(MAX('MDA2'!J140, 'T1'!L140, MAX(T3_R1!K140, T3_R2!K140)), MAX('MDA1'!K140, 'MDA2'!K140, 'T1'!M140, MAX(T3_R1!L140, T3_R2!L140)), MAX('MDA1'!L140, 'MDA2'!L140, 'T1'!N140, MAX(T3_R1!M140, T3_R2!M140)))","v":89245},{"$f":"IF(AND(COUNTRY_INFO!J140>1,COUNTRY_INFO!J140<4),IF(COUNTRY_INFO!E140>MAX('MDA2'!J140,'T1'!L140,MAX(T3_R1!K140,T3_R2!K140)),MAX('MDA2'!J140,'T1'!L140,MAX(T3_R1!K140,T3_R2!K140)),COUNTRY_INFO!E140),0)","v":0},{"$f":"IF(AND(COUNTRY_INFO!J140>1,COUNTRY_INFO!J140<4), IF(T140/COUNTRY_INFO!E140*100<>0, IF(T140/COUNTRY_INFO!E140*100>100,100,T140/COUNTRY_INFO!E140*100), \"-\"),0)","v":"-"},{"$f":"IF(AND(COUNTRY_INFO!J140>1,COUNTRY_INFO!J140<4),IF(COUNTRY_INFO!F140>MAX('MDA1'!K140,'MDA2'!K140,'T1'!M140,MAX(T3_R1!L140,T3_R2!L140)),MAX('MDA1'!K140,'MDA2'!K140,'T1'!M140,MAX(T3_R1!L140,T3_R2!L140)),COUNTRY_INFO!F140),0)","v":89245},{"$f":"IF(AND(COUNTRY_INFO!J140>1,COUNTRY_INFO!J140<4), IF(V140/COUNTRY_INFO!F140*100<>0, IF(V140/COUNTRY_INFO!F140*100>100,100,V140/COUNTRY_INFO!F140*100), \"-\"),0)","v":96.690140845070431},89245,{"$f":"IF(AND(COUNTRY_INFO!J140>1,COUNTRY_INFO!J140<4), IF(S140/P140*100<>0, IF(X140/P140*100>100,100,X140/P140*100), \"-\"),0)","v":64.158878504672899},{"$f":"COUNTRY_INFO!O140","v":90888.320996556577},null,null,{"$f":"MAX('T1'!L140,'T2'!J140)+MAX('T1'!M140,'T2'!K140)+MAX('T1'!N140,'T2'!L140)","v":0},{"$f":"IF(COUNTRY_INFO!K140=1,IF(COUNTRY_INFO!F140*0.33>MAX('T1'!M140,'T2'!K140),MAX('T1'!M140,'T2'!K140),COUNTRY_INFO!F140*0.33),IF(COUNTRY_INFO!K140=2,IF(COUNTRY_INFO!F140*0.5>MAX('T1'!M140,'T2'!K140),MAX('T1'!M140,'T2'!K140),COUNTRY_INFO!F140*0.5),IF(COUNTRY_INFO!K140=3,IF(COUNTRY_INFO!F140>MAX('T1'!M140,'T2'!K140),MAX('T1'!M140,'T2'!K140),COUNTRY_INFO!F140),0)))","v":0},{"$f":"IF(AND(COUNTRY_INFO!K140>0,COUNTRY_INFO!K140<4),IF(Z140>0,IF(COUNTRY_INFO!K140=1, AD140/(COUNTRY_INFO!F140*0.33)*100, IF(COUNTRY_INFO!K140=2, AD140/(COUNTRY_INFO!F140*0.5)*100, IF(COUNTRY_INFO!K140=3, AD140/COUNTRY_INFO!F140*100))),\"-\"),0)","v":0},{"$f":"IF(COUNTRY_INFO!K140=2,IF(COUNTRY_INFO!G140*0.2>MAX('T1'!N140,'T2'!L140),MAX('T1'!N140,'T2'!L140),COUNTRY_INFO!G140*0.2),IF(COUNTRY_INFO!K140=3,IF(COUNTRY_INFO!G140>MAX('T1'!N140,'T2'!L140),MAX('T1'!N140,'T2'!L140),COUNTRY_INFO!G140),0))","v":0},{"$f":"IF(AND(COUNTRY_INFO!K140>0,COUNTRY_INFO!K140<4),IF(Z140>0,IF(COUNTRY_INFO!K140=1, 0, IF(COUNTRY_INFO!K140=2, AF140/(COUNTRY_INFO!G140*0.2)*100, IF(COUNTRY_INFO!K140=3, AF140/COUNTRY_INFO!G140*100))),\"-\"),0)","v":0},0,{"$f":"IF(AND(COUNTRY_INFO!K140>0,COUNTRY_INFO!K140<4), IF(AC140/Z140*100<>0, IF(AH140/Z140*100>100,100,AH140/Z140*100), \"-\"),0)","v":"-"},null,{"$f":"IF(AND(D140<>0, D140<>\"Unknown\",D140<>\"Stopped\",D140<>\"Not required\"),D140/COUNTRY_INFO!D140, 0)","v":0},{"$f":"IF(AND(J140<>0,J140<>\"Unknown\",J140<>\"Stopped\",J140<>\"Not required\"),J140/COUNTRY_INFO!D140, 0)","v":0},{"$f":"IF(AND(P140<>0,P140<>\"Unknown\",P140<>\"Not required\"),P140/(COUNTRY_INFO!E140+COUNTRY_INFO!F140), 0)","v":1},{"$f":"IF(AND(Z140<>0,Z140<>\"Unknown\",Z140<>\"Not required\"),IF(COUNTRY_INFO!K140=1,1,IF(COUNTRY_INFO!K140=2,0.5*COUNTRY_INFO!F140/(0.5*COUNTRY_INFO!F140+0.2*COUNTRY_INFO!G140),IF(COUNTRY_INFO!K140=3,COUNTRY_INFO!F140/(COUNTRY_INFO!F140+COUNTRY_INFO!G140)))),0)","v":0.50776600881150014},{"$f":"IF(AND(Z140<>0,Z140<>\"Unknown\",Z140<>\"Not required\"),IF(COUNTRY_INFO!K140=1,0,IF(COUNTRY_INFO!K140=2,0.2*COUNTRY_INFO!G140/(0.5*COUNTRY_INFO!F140+0.2*COUNTRY_INFO!G140),IF(COUNTRY_INFO!K140=3,COUNTRY_INFO!G140/(COUNTRY_INFO!F140+COUNTRY_INFO!G140)))),0)","v":0.49223399118849992},{"$f":"MAX(COUNTRY_INFO!D140*AK140*PROFILE!$G$7,COUNTRY_INFO!D140*AL140*PROFILE!$G$7)","v":0},{"$f":"MAX(COUNTRY_INFO!D140*AK140*PROFILE!$G$8,COUNTRY_INFO!D140*AL140*PROFILE!$G$8,COUNTRY_INFO!D140*AM140*PROFILE!$G$8)","v":46800.117731935745},{"$f":"MAX(COUNTRY_INFO!D140*AK140*PROFILE!$G$9,COUNTRY_INFO!D140*AL140*PROFILE!$G$9,COUNTRY_INFO!D140*AM140*PROFILE!$G$9,IF(AND(DISTRICT!Z140<>\"Unknown\",Z140<>\"Not required\"),COUNTRY_INFO!O140*DISTRICT!AN140,0))","v":81556.265374569542},{"$f":"MAX(COUNTRY_INFO!D140*AK140*PROFILE!$G$10,COUNTRY_INFO!D140*AL140*PROFILE!$G$10,IF(AND(DISTRICT!Z140<>\"Unknown\",Z140<>\"Not required\"),COUNTRY_INFO!O140*DISTRICT!AO140,0))","v":44738.320996556584},173094.70410306187,0,{"$f":"MAX('MDA2'!J140,'T1'!L140,'T2'!J140,T3_R1!K140,T3_R2!K140)","v":0},{"$f":"MAX('MDA1'!K140,'MDA2'!K140,'MDA3'!I140,'MDA3'!L140,'T1'!M140,'T2'!K140,T3_R1!L140,T3_R2!L140)","v":89245},{"$f":"MAX('MDA1'!L140,'MDA2'!L140,'MDA3'!J140,'MDA3'!M140,'T1'!N140,'T2'!L140,T3_R1!M140,T3_R2!M140)","v":0},89245,{"$f":"MAX('MDA2'!J140,T140)","v":0},{"$f":"MAX('MDA1'!K140,'MDA2'!K140,'MDA3'!I140,'MDA3'!L140,V140,AD140)","v":89245},{"$f":"MAX('MDA1'!L140,'MDA2'!L140,'MDA3'!J140,'MDA3'!M140,AF140)","v":0},89245,51.558480926639362]
[{"$f":"IF(COUNTRY_INFO!A141=0,\" \",COUNTRY_INFO!A141)","v":"Tanzania"},{"$f":"IF(COUNTRY_INFO!B141=0,\" \",COUNTRY_INFO!B141)","v":"Rukwa"},{"$f":"IF(COUNTRY_INFO!C141=0,\" \",COUNTRY_INFO!C141)","v":"Sumbawanga District Council"},{"$f":"COUNTRY_INFO!L141","v":"Stopped"},null,null,{"$f":"MAX('MDA1'!M141,'MDA2'!M141)","v":0},{"$f":"IF(AND(COUNTRY_INFO!H141>0,COUNTRY_INFO!H141<4),IF(D141>MAX('MDA1'!M141,'MDA2'!M141),MAX('MDA1'!M141,'MDA2'!M141),D141),0)","v":0},{"$f":"IF(AND(COUNTRY_INFO!H141>0,COUNTRY_INFO!H141<4), IF(G141/D141*100<>0, IF(G141/D141*100>100,100,G141/D141*100), \"-\"),0)","v":0},{"$f":"COUNTRY_INFO!M141","v":0},null,null,{"$f":"MAX('MDA1'!M141,MAX('MDA3'!I141,'MDA3'!L141)+MAX('MDA3'!J141,'MDA3'!M141))","v":0},{"$f":"IF(AND(COUNTRY_INFO!I141>0,COUNTRY_INFO!I141<4),IF(J141>MAX('MDA1'!M141,MAX('MDA3'!I141,'MDA3'!L141)+MAX('MDA3'!J141,'MDA3'!M141)),MAX('MDA1'!M141,MAX('MDA3'!I141,'MDA3'!L141)+MAX('MDA3'!J141,'MDA3'!M141)),J141),0)","v":0},{"$f":"IF(AND(COUNTRY_INFO!I141>0,COUNTRY_INFO!I141<4), IF(M141/J141*100<>0, IF(M141/J141*100>100,100,M141/J141*100), \"-\"),0)","v":0},{"$f":"COUNTRY_INFO!N141","v":151668},null,null,{"$f":"SUM(MAX('MDA2'!J141, 'T1'!L141, MAX(T3_R1!K141, T3_R2!K141)), MAX('MDA1'!K141, 'MDA2'!K141, 'T1'!M141, MAX(T3_R1!L141, T3_R2!L141)), MAX('MDA1'!L141, 'MDA2'!L141, 'T1'!N141, MAX(T3_R1!M141, T3_R2!M141)))","v":90508},{"$f":"IF(AND(COUNTRY_INFO!J141>1,COUNTRY_INFO!J141<4),IF(COUNTRY_INFO!E141>MAX('MDA2'!J141,'T1'!L141,MAX(T3_R1!K141,T3_R2!K141)),MAX('MDA2'!J141,'T1'!L141,MAX(T3_R1!K141,T3_R2!K141)),COUNTRY_INFO!E141),0)","v":0},{"$f":"IF(AND(COUNTRY_INFO!J141>1,COUNTRY_INFO!J141<4), IF(T141/COUNTRY_INFO!E141*100<>0, IF(T141/COUNTRY_INFO!E141*100>100,100,T141/COUNTRY_INFO!E141*100), \"-\"),0)","v":"-"},{"$f":"IF(AND(COUNTRY_INFO!J141>1,COUNTRY_INFO!J141<4),IF(COUNTRY_INFO!F141>MAX('MDA1'!K141,'MDA2'!K141,'T1'!M141,MAX(T3_R1!L141,T3_R2!L141)),MAX('MDA1'!K141,'MDA2'!K141,'T1'!M141,MAX(T3_R1!L141,T3_R2!L141)),COUNTRY_INFO!F141),0)","v":90508},{"$f":"IF(AND(COUNTRY_INFO!J141>1,COUNTRY_INFO!J141<4), IF(V141/COUNTRY_INFO!F141*100<>0, IF(V141/COUNTRY_INFO!F141*100>100,100,V141/COUNTRY_INFO!F141*100), \"-\"),0)","v":89.819978961157531},90508,{"$f":"IF(AND(COUNTRY_INFO!J141>1,COUNTRY_INFO!J141<4), IF(S141/P141*100<>0, IF(X141/P141*100>100,100,X141/P141*100), \"-\"),0)","v":59.675079779518427},{"$f":"COUNTRY_INFO!O141","v":98967.136305028922},null,null,{"$f":"MAX('T1'!L141,'T2'!J141)+MAX('T1'!M141,'T2'!K141)+MAX('T1'!N141,'T2'!L141)","v":0},{"$f":"IF(COUNTRY_INFO!K141=1,IF(COUNTRY_INFO!F141*0.33>MAX('T1'!M141,'T2'!K141),MAX('T1'!M141,'T2'!K141),COUNTRY_INFO!F141*0.33),IF(COUNTRY_INFO!K141=2,IF(COUNTRY_INFO!F141*0.5>MAX('T1'!M141,'T2'!K141),MAX('T1'!M141,'T2'!K141),COUNTRY_INFO!F141*0.5),IF(COUNTRY_INFO!K141=3,IF(COUNTRY_INFO!F141>MAX('T1'!M141,'T2'!K141),MAX('T1'!M141,'T2'!K141),COUNTRY_INFO!F141),0)))","v":0},{"$f":"IF(AND(COUNTRY_INFO!K141>0,COUNTRY_INFO!K141<4),IF(Z141>0,IF(COUNTRY_INFO!K141=1, AD141/(COUNTRY_INFO!F141*0.33)*100, IF(COUNTRY_INFO!K141=2, AD141/(COUNTRY_INFO!F141*0.5)*100, IF(COUNTRY_INFO!K141=3, AD141/COUNTRY_INFO!F141*100))),\"-\"),0)","v":0},{"$f":"IF(COUNTRY_INFO!K141=2,IF(COUNTRY_INFO!G141*0.2>MAX('T1'!N141,'T2'!L141),MAX('T1'!N141,'T2'!L141),COUNTRY_INFO!G141*0.2),IF(COUNTRY_INFO!K141=3,IF(COUNTRY_INFO!G141>MAX('T1'!N141,'T2'!L141),MAX('T1'!N141,'T2'!L141),COUNTRY_INFO!G141),0))","v":0},{"$f":"IF(AND(COUNTRY_INFO!K141>0,COUNTRY_INFO!K141<4),IF(Z141>0,IF(COUNTRY_INFO!K141=1, 0, IF(COUNTRY_INFO!K141=2, AF141/(COUNTRY_INFO!G141*0.2)*100, IF(COUNTRY_INFO!K141=3, AF141/COUNTRY_INFO!G141*100))),\"-\"),0)","v":0},0,{"$f":"IF(AND(COUNTRY_INFO!K141>0,COUNTRY_INFO!K141<4), IF(AC141/Z141*100<>0, IF(AH141/Z141*100>100,100,AH141/Z141*100), \"-\"),0)","v":"-"},null,{"$f":"IF(AND(D141<>0, D141<>\"Unknown\",D141<>\"Stopped\",D141<>\"Not required\"),D141/COUNTRY_INFO!D141, 0)","v":0},{"$f":"IF(AND(J141<>0,J141<>\"Unknown\",J141<>\"Stopped\",J141<>\"Not required\"),J141/COUNTRY_INFO!D141, 0)","v":0},{"$f":"IF(AND(P141<>0,P141<>\"Unknown\",P141<>\"Not required\"),P141/(COUNTRY_INFO!E141+COUNTRY_INFO!F141), 0)","v":1},{"$f":"IF(AND(Z141<>0,Z141<>\"Unknown\",Z141<>\"Not required\"),IF(COUNTRY_INFO!K141=1,1,IF(COUNTRY_INFO!K141=2,0.5*COUNTRY_INFO!F141/(0.5*COUNTRY_INFO!F141+0.2*COUNTRY_INFO!G141),IF(COUNTRY_INFO!K141=3,COUNTRY_INFO!F141/(COUNTRY_INFO!F141+COUNTRY_INFO!G141)))),0)","v":0.5090881870595243},{"$f":"IF(AND(Z141<>0,Z141<>\"Unknown\",Z141<>\"Not required\"),IF(COUNTRY_INFO!K141=1,0,IF(COUNTRY_INFO!K141=2,0.2*COUNTRY_INFO!G141/(0.5*COUNTRY_INFO!F141+0.2*COUNTRY_INFO!G141),IF(COUNTRY_INFO!K141=3,COUNTRY_INFO!G141/(COUNTRY_INFO!F141+COUNTRY_INFO!G141)))),0)","v":0.4909118129404757},{"$f":"MAX(COUNTRY_INFO!D141*AK141*PROFILE!$G$7,COUNTRY_INFO!D141*AL141*PROFILE!$G$7)","v":0},{"$f":"MAX(COUNTRY_INFO!D141*AK141*PROFILE!$G$8,COUNTRY_INFO!D141*AL141*PROFILE!$G$8,COUNTRY_INFO!D141*AM141*PROFILE!$G$8)","v":50901.94066630194},{"$f":"MAX(COUNTRY_INFO!D141*AK141*PROFILE!$G$9,COUNTRY_INFO!D141*AL141*PROFILE!$G$9,COUNTRY_INFO!D141*AM141*PROFILE!$G$9,IF(AND(DISTRICT!Z141<>\"Unknown\",Z141<>\"Not required\"),COUNTRY_INFO!O141*DISTRICT!AN141,0))","v":88704.310635284492},{"$f":"MAX(COUNTRY_INFO!D141*AK141*PROFILE!$G$10,COUNTRY_INFO!D141*AL141*PROFILE!$G$10,IF(AND(DISTRICT!Z141<>\"Unknown\",Z141<>\"Not required\"),COUNTRY_INFO!O141*DISTRICT!AO141,0))","v":48584.136305028922},188190.38760661535,0,{"$f":"MAX('MDA2'!J141,'T1'!L141,'T2'!J141,T3_R1!K141,T3_R2!K141)","v":0},{"$f":"MAX('MDA1'!K141,'MDA2'!K141,'MDA3'!I141,'MDA3'!L141,'T1'!M141,'T2'!K141,T3_R1!L141,T3_R2!L141)","v":90508},{"$f":"MAX('MDA1'!L141,'MDA2'!L141,'MDA3'!J141,'MDA3'!M141,'T1'!N141,'T2'!L141,T3_R1!M141,T3_R2!M141)","v":0},90508,{"$f":"MAX('MDA2'!J141,T141)","v":0},{"$f":"MAX('MDA1'!K141,'MDA2'!K141,'MDA3'!I141,'MDA3'!L141,V141,AD141)","v":90508},{"$f":"MAX('MDA1'!L141,'MDA2'!L141,'MDA3'!J141,'MDA3'!M141,AF141)","v":0},90508,48.093848549371089]
[{"$f":"IF(COUNTRY_INFO!A142=0,\" \",COUNTRY_INFO!A142)","v":"Tanzania"},{"$f":"IF(COUNTRY_INFO!B142=0,\" \",COUNTRY_INFO!B142)","v":"Rukwa"},{"$f":"IF(COUNTRY_INFO!C142=0,\" \",COUNTRY_INFO!C142)","v":"Sumbawanga Municipal Council"},{"$f":"COUNTRY_INFO!L142","v":"Stopped"},null,null,{"$f":"MAX('MDA1'!M142,'MDA2'!M142)","v":0},{"$f":"IF(AND(COUNTRY_INFO!H142>0,COUNTRY_INFO!H142<4),IF(D142>MAX('MDA1'!M142,'MDA2'!M142),MAX('MDA1'!M142,'MDA2'!M142),D142),0)","v":0},{"$f":"IF(AND(COUNTRY_INFO!H142>0,COUNTRY_INFO!H142<4), IF(G142/D142*100<>0, IF(G142/D142*100>100,100,G142/D142*100), \"-\"),0)","v":0},{"$f":"COUNTRY_INFO!M142","v":0},null,null,{"$f":"MAX('MDA1'!M142,MAX('MDA3'!I142,'MDA3'!L142)+MAX('MDA3'!J142,'MDA3'!M142))","v":0},{"$f":"IF(AND(COUNTRY_INFO!I142>0,COUNTRY_INFO!I142<4),IF(J142>MAX('MDA1'!M142,MAX('MDA3'!I142,'MDA3'!L142)+MAX('MDA3'!J142,'MDA3'!M142)),MAX('MDA1'!M142,MAX('MDA3'!I142,'MDA3'!L142)+MAX('MDA3'!J142,'MDA3'!M142)),J142),0)","v":0},{"$f":"IF(AND(COUNTRY_INFO!I142>0,COUNTRY_INFO!I142<4), IF(M142/J142*100<>0, IF(M142/J142*100>100,100,M142/J142*100), \"-\"),0)","v":0},{"$f":"COUNTRY_INFO!N142","v":101546},null,null,{"$f":"SUM(MAX('MDA2'!J142, 'T1'!L142, MAX(T3_R1!K142, T3_R2!K142)), MAX('MDA1'!K142, 'MDA2'!K142, 'T1'!M142, MAX(T3_R1!L142, T3_R2!L142)), MAX('MDA1'!L142, 'MDA2'!L142, 'T1'!N142, MAX(T3_R1!M142, T3_R2!M142)))","v":64794},{"$f":"IF(AND(COUNTRY_INFO!J142>1,COUNTRY_INFO!J142<4),IF(COUNTRY_INFO!E142>MAX('MDA2'!J142,'T1'!L142,MAX(T3_R1!K142,T3_R2!K142)),MAX('MDA2'!J142,'T1'!L142,MAX(T3_R1!K142,T3_R2!K142)),COUNTRY_INFO!E142),0)","v":0},{"$f":"IF(AND(COUNTRY_INFO!J142>1,COUNTRY_INFO!J142<4), IF(T142/COUNTRY_INFO!E142*100<>0, IF(T142/COUNTRY_INFO!E142*100>100,100,T142/COUNTRY_INFO!E142*100), \"-\"),0)","v":"-"},{"$f":"IF(AND(COUNTRY_INFO!J142>1,COUNTRY_INFO!J142<4),IF(COUNTRY_INFO!F142>MAX('MDA1'!K142,'MDA2'!K142,'T1'!M142,MAX(T3_R1!L142,T3_R2!L142)),MAX('MDA1'!K142,'MDA2'!K142,'T1'!M142,MAX(T3_R1!L142,T3_R2!L142)),COUNTRY_INFO!F142),0)","v":64794},{"$f":"IF(AND(COUNTRY_INFO!J142>1,COUNTRY_INFO!J142<4), IF(V142/COUNTRY_INFO!F142*100<>0, IF(V142/COUNTRY_INFO!F142*100>100,100,V142/COUNTRY_INFO!F142*100), \"-\"),0)","v":97.244484466456555},64794,{"$f":"IF(AND(COUNTRY_INFO!J142>1,COUNTRY_INFO!J142<4), IF(S142/P142*100<>0, IF(X142/P142*100>100,100,X142/P142*100), \"-\"),0)","v":63.807535501152188},{"$f":"COUNTRY_INFO!O142","v":67138.43569149563},null,null,{"$f":"MAX('T1'!L142,'T2'!J142)+MAX('T1'!M142,'T2'!K142)+MAX('T1'!N142,'T2'!L142)","v":0},{"$f":"IF(COUNTRY_INFO!K142=1,IF(COUNTRY_INFO!F142*0.33>MAX('T1'!M142,'T2'!K142),MAX('T1'!M142,'T2'!K142),COUNTRY_INFO!F142*0.33),IF(COUNTRY_INFO!K142=2,IF(COUNTRY_INFO!F142*0.5>MAX('T1'!M142,'T2'!K142),MAX('T1'!M142,'T2'!K142),COUNTRY_INFO!F142*0.5),IF(COUNTRY_INFO!K142=3,IF(COUNTRY_INFO!F142>MAX('T1'!M142,'T2'!K142),MAX('T1'!M142,'T2'!K142),COUNTRY_INFO!F142),0)))","v":0},{"$f":"IF(AND(COUNTRY_INFO!K142>0,COUNTRY_INFO!K142<4),IF(Z142>0,IF(COUNTRY_INFO!K142=1, AD142/(COUNTRY_INFO!F142*0.33)*100, IF(COUNTRY_INFO!K142=2, AD142/(COUNTRY_INFO!F142*0.5)*100, IF(COUNTRY_INFO!K142=3, AD142/COUNTRY_INFO!F142*100))),\"-\"),0)","v":0},{"$f":"IF(COUNTRY_INFO!K142=2,IF(COUNTRY_INFO!G142*0.2>MAX('T1'!N142,'T2'!L142),MAX('T1'!N142,'T2'!L142),COUNTRY_INFO!G142*0.2),IF(COUNTRY_INFO!K142=3,IF(COUNTRY_INFO!G142>MAX('T1'!N142,'T2'!L142),MAX('T1'!N142,'T2'!L142),COUNTRY_INFO!G142),0))","v":0},{"$f":"IF(AND(COUNTRY_INFO!K142>0,COUNTRY_INFO!K142<4),IF(Z142>0,IF(COUNTRY_INFO!K142=1, 0, IF(COUNTRY_INFO!K142=2, AF142/(COUNTRY_INFO!G142*0.2)*100, IF(COUNTRY_INFO!K142=3, AF142/COUNTRY_INFO!G142*100))),\"-\"),0)","v":0},0,{"$f":"IF(AND(COUNTRY_INFO!K142>0,COUNTRY_INFO!K142<4), IF(AC142/Z142*100<>0, IF(AH142/Z142*100>100,100,AH142/Z142*100), \"-\"),0)","v":"-"},null,{"$f":"IF(AND(D142<>0, D142<>\"Unknown\",D142<>\"Stopped\",D142<>\"Not required\"),D142/COUNTRY_INFO!D142, 0)","v":0},{"$f":"IF(AND(J142<>0,J142<>\"Unknown\",J142<>\"Stopped\",J142<>\"Not required\"),J142/COUNTRY_INFO!D142, 0)","v":0},{"$f":"IF(AND(P142<>0,P142<>\"Unknown\",P142<>\"Not required\"),P142/(COUNTRY_INFO!E142+COUNTRY_INFO!F142), 0)","v":1},{"$f":"IF(AND(Z142<>0,Z142<>\"Unknown\",Z142<>\"Not required\"),IF(COUNTRY_INFO!K142=1,1,IF(COUNTRY_INFO!K142=2,0.5*COUNTRY_INFO!F142/(0.5*COUNTRY_INFO!F142+0.2*COUNTRY_INFO!G142),IF(COUNTRY_INFO!K142=3,COUNTRY_INFO!F142/(COUNTRY_INFO!F142+COUNTRY_INFO!G142)))),0)","v":0.49621352742092534},{"$f":"IF(AND(Z142<>0,Z142<>\"Unknown\",Z142<>\"Not required\"),IF(COUNTRY_INFO!K142=1,0,IF(COUNTRY_INFO!K142=2,0.2*COUNTRY_INFO!G142/(0.5*COUNTRY_INFO!F142+0.2*COUNTRY_INFO!G142),IF(COUNTRY_INFO!K142=3,COUNTRY_INFO!G142/(COUNTRY_INFO!F142+COUNTRY_INFO!G142)))),0)","v":0.5037864725790745},{"$f":"MAX(COUNTRY_INFO!D142*AK142*PROFILE!$G$7,COUNTRY_INFO!D142*AL142*PROFILE!$G$7)","v":0},{"$f":"MAX(COUNTRY_INFO!D142*AK142*PROFILE!$G$8,COUNTRY_INFO!D142*AL142*PROFILE!$G$8,COUNTRY_INFO!D142*AM142*PROFILE!$G$8)","v":34915.550535164824},{"$f":"MAX(COUNTRY_INFO!D142*AK142*PROFILE!$G$9,COUNTRY_INFO!D142*AL142*PROFILE!$G$9,COUNTRY_INFO!D142*AM142*PROFILE!$G$9,IF(AND(DISTRICT!Z142<>\"Unknown\",Z142<>\"Not required\"),COUNTRY_INFO!O142*DISTRICT!AN142,0))","v":60845.614138315424},{"$f":"MAX(COUNTRY_INFO!D142*AK142*PROFILE!$G$10,COUNTRY_INFO!D142*AL142*PROFILE!$G$10,IF(AND(DISTRICT!Z142<>\"Unknown\",Z142<>\"Not required\"),COUNTRY_INFO!O142*DISTRICT!AO142,0))","v":33823.435691495622},129584.60036497586,0,{"$f":"MAX('MDA2'!J142,'T1'!L142,'T2'!J142,T3_R1!K142,T3_R2!K142)","v":0},{"$f":"MAX('MDA1'!K142,'MDA2'!K142,'MDA3'!I142,'MDA3'!L142,'T1'!M142,'T2'!K142,T3_R1!L142,T3_R2!L142)","v":64794},{"$f":"MAX('MDA1'!L142,'MDA2'!L142,'MDA3'!J142,'MDA3'!M142,'T1'!N142,'T2'!L142,T3_R1!M142,T3_R2!M142)","v":0},64794,{"$f":"MAX('MDA2'!J142,T142)","v":0},{"$f":"MAX('MDA1'!K142,'MDA2'!K142,'MDA3'!I142,'MDA3'!L142,V142,AD142)","v":64794},{"$f":"MAX('MDA1'!L142,'MDA2'!L142,'MDA3'!J142,'MDA3'!M142,AF142)","v":0},64794,50.001311743453527]
[{"$f":"IF(COUNTRY_INFO!A143=0,\" \",COUNTRY_INFO!A143)","v":"Tanzania"},{"$f":"IF(COUNTRY_INFO!B143=0,\" \",COUNTRY_INFO!B143)","v":"Ruvuma"},{"$f":"IF(COUNTRY_INFO!C143=0,\" \",COUNTRY_INFO!C143)","v":"Madaba District Council"},{"$f":"COUNTRY_INFO!L143","v":"Stopped"},null,null,{"$f":"MAX('MDA1'!M143,'MDA2'!M143)","v":0},{"$f":"IF(AND(COUNTRY_INFO!H143>0,COUNTRY_INFO!H143<4),IF(D143>MAX('MDA1'!M143,'MDA2'!M143),MAX('MDA1'!M143,'MDA2'!M143),D143),0)","v":0},{"$f":"IF(AND(COUNTRY_INFO!H143>0,COUNTRY_INFO!H143<4), IF(G143/D143*100<>0, IF(G143/D143*100>100,100,G143/D143*100), \"-\"),0)","v":0},{"$f":"COUNTRY_INFO!M143","v":56536.825805376335},null,null,{"$f":"MAX('MDA1'!M143,MAX('MDA3'!I143,'MDA3'!L143)+MAX('MDA3'!J143,'MDA3'!M143))","v":0},{"$f":"IF(AND(COUNTRY_INFO!I143>0,COUNTRY_INFO!I143<4),IF(J143>MAX('MDA1'!M143,MAX('MDA3'!I143,'MDA3'!L143)+MAX('MDA3'!J143,'MDA3'!M143)),MAX('MDA1'!M143,MAX('MDA3'!I143,'MDA3'!L143)+MAX('MDA3'!J143,'MDA3'!M143)),J143),0)","v":0},{"$f":"IF(AND(COUNTRY_INFO!I143>0,COUNTRY_INFO!I143<4), IF(M143/J143*100<>0, IF(M143/J143*100>100,100,M143/J143*100), \"-\"),0)","v":"-"},{"$f":"COUNTRY_INFO!N143","v":18448},null,null,{"$f":"SUM(MAX('MDA2'!J143, 'T1'!L143, MAX(T3_R1!K143, T3_R2!K143)), MAX('MDA1'!K143, 'MDA2'!K143, 'T1'!M143, MAX(T3_R1!L143, T3_R2!L143)), MAX('MDA1'!L143, 'MDA2'!L143, 'T1'!N143, MAX(T3_R1!M143, T3_R2!M143)))","v":10789},{"$f":"IF(AND(COUNTRY_INFO!J143>1,COUNTRY_INFO!J143<4),IF(COUNTRY_INFO!E143>MAX('MDA2'!J143,'T1'!L143,MAX(T3_R1!K143,T3_R2!K143)),MAX('MDA2'!J143,'T1'!L143,MAX(T3_R1!K143,T3_R2!K143)),COUNTRY_INFO!E143),0)","v":0},{"$f":"IF(AND(COUNTRY_INFO!J143>1,COUNTRY_INFO!J143<4), IF(T143/COUNTRY_INFO!E143*100<>0, IF(T143/COUNTRY_INFO!E143*100>100,100,T143/COUNTRY_INFO!E143*100), \"-\"),0)","v":"-"},{"$f":"IF(AND(COUNTRY_INFO!J143>1,COUNTRY_INFO!J143<4),IF(COUNTRY_INFO!F143>MAX('MDA1'!K143,'MDA2'!K143,'T1'!M143,MAX(T3_R1!L143,T3_R2!L143)),MAX('MDA1'!K143,'MDA2'!K143,'T1'!M143,MAX(T3_R1!L143,T3_R2!L143)),COUNTRY_INFO!F143),0)","v":10789},{"$f":"IF(AND(COUNTRY_INFO!J143>1,COUNTRY_INFO!J143<4), IF(V143/COUNTRY_INFO!F143*100<>0, IF(V143/COUNTRY_INFO!F143*100>100,100,V143/COUNTRY_INFO!F143*100), \"-\"),0)","v":96.718960107575086},10789,{"$f":"IF(AND(COUNTRY_INFO!J143>1,COUNTRY_INFO!J143<4), IF(S143/P143*100<>0, IF(X143/P143*100>100,100,X143/P143*100), \"-\"),0)","v":58.483304423243709},{"$f":"COUNTRY_INFO!O143","v":13195.265161075267},null,null,{"$f":"MAX('T1'!L143,'T2'!J143)+MAX('T1'!M143,'T2'!K143)+MAX('T1'!N143,'T2'!L143)","v":10789},{"$f":"IF(COUNTRY_INFO!K143=1,IF(COUNTRY_INFO!F143*0.33>MAX('T1'!M143,'T2'!K143),MAX('T1'!M143,'T2'!K143),COUNTRY_INFO!F143*0.33),IF(COUNTRY_INFO!K143=2,IF(COUNTRY_INFO!F143*0.5>MAX('T1'!M143,'T2'!K143),MAX('T1'!M143,'T2'!K143),COUNTRY_INFO!F143*0.5),IF(COUNTRY_INFO!K143=3,IF(COUNTRY_INFO!F143>MAX('T1'!M143,'T2'!K143),MAX('T1'!M143,'T2'!K143),COUNTRY_INFO!F143),0)))","v":5577.5},{"$f":"IF(AND(COUNTRY_INFO!K143>0,COUNTRY_INFO!K143<4),IF(Z143>0,IF(COUNTRY_INFO!K143=1, AD143/(COUNTRY_INFO!F143*0.33)*100, IF(COUNTRY_INFO!K143=2, AD143/(COUNTRY_INFO!F143*0.5)*100, IF(COUNTRY_INFO!K143=3, AD143/COUNTRY_INFO!F143*100))),\"-\"),0)","v":100},{"$f":"IF(COUNTRY_INFO!K143=2,IF(COUNTRY_INFO!G143*0.2>MAX('T1'!N143,'T2'!L143),MAX('T1'!N143,'T2'!L143),COUNTRY_INFO!G143*0.2),IF(COUNTRY_INFO!K143=3,IF(COUNTRY_INFO!G143>MAX('T1'!N143,'T2'!L143),MAX('T1'!N143,'T2'!L143),COUNTRY_INFO!G143),0))","v":0},{"$f":"IF(AND(COUNTRY_INFO!K143>0,COUNTRY_INFO!K143<4),IF(Z143>0,IF(COUNTRY_INFO!K143=1, 0, IF(COUNTRY_INFO!K143=2, AF143/(COUNTRY_INFO!G143*0.2)*100, IF(COUNTRY_INFO!K143=3, AF143/COUNTRY_INFO!G143*100))),\"-\"),0)","v":0},5577.5,{"$f":"IF(AND(COUNTRY_INFO!K143>0,COUNTRY_INFO!K143<4), IF(AC143/Z143*100<>0, IF(AH143/Z143*100>100,100,AH143/Z143*100), \"-\"),0)","v":42.268949747619132},null,{"$f":"IF(AND(D143<>0, D143<>\"Unknown\",D143<>\"Stopped\",D143<>\"Not required\"),D143/COUNTRY_INFO!D143, 0)","v":0},{"$f":"IF(AND(J143<>0,J143<>\"Unknown\",J143<>\"Stopped\",J143<>\"Not required\"),J143/COUNTRY_INFO!D143, 0)","v":1},{"$f":"IF(AND(P143<>0,P143<>\"Unknown\",P143<>\"Not required\"),P143/(COUNTRY_INFO!E143+COUNTRY_INFO!F143), 0)","v":1},{"$f":"IF(AND(Z143<>0,Z143<>\"Unknown\",Z143<>\"Not required\"),IF(COUNTRY_INFO!K143=1,1,IF(COUNTRY_INFO!K143=2,0.5*COUNTRY_INFO!F143/(0.5*COUNTRY_INFO!F143+0.2*COUNTRY_INFO!G143),IF(COUNTRY_INFO!K143=3,COUNTRY_INFO!F143/(COUNTRY_INFO!F143+COUNTRY_INFO!G143)))),0)","v":0.42268949747619133},{"$f":"IF(AND(Z143<>0,Z143<>\"Unknown\",Z143<>\"Not required\"),IF(COUNTRY_INFO!K143=1,0,IF(COUNTRY_INFO!K143=2,0.2*COUNTRY_INFO!G143/(0.5*COUNTRY_INFO!F143+0.2*COUNTRY_INFO!G143),IF(COUNTRY_INFO!K143=3,COUNTRY_INFO!G143/(COUNTRY_INFO!F143+COUNTRY_INFO!G143)))),0)","v":0.57731050252380867},{"$f":"MAX(COUNTRY_INFO!D143*AK143*PROFILE!$G$7,COUNTRY_INFO!D143*AL143*PROFILE!$G$7)","v":1.0367135118110858E-3},{"$f":"MAX(COUNTRY_INFO!D143*AK143*PROFILE!$G$8,COUNTRY_INFO!D143*AL143*PROFILE!$G$8,COUNTRY_INFO!D143*AM143*PROFILE!$G$8)","v":7293.2506362905615},{"$f":"MAX(COUNTRY_INFO!D143*AK143*PROFILE!$G$9,COUNTRY_INFO!D143*AL143*PROFILE!$G$9,COUNTRY_INFO!D143*AM143*PROFILE!$G$9,IF(AND(DISTRICT!Z143<>\"Unknown\",Z143<>\"Not required\"),COUNTRY_INFO!O143*DISTRICT!AN143,0))","v":12709.589487435649},{"$f":"MAX(COUNTRY_INFO!D143*AK143*PROFILE!$G$10,COUNTRY_INFO!D143*AL143*PROFILE!$G$10,IF(AND(DISTRICT!Z143<>\"Unknown\",Z143<>\"Not required\"),COUNTRY_INFO!O143*DISTRICT!AO143,0))","v":36533.984644936609},56536.825805376327,0,{"$f":"MAX('MDA2'!J143,'T1'!L143,'T2'!J143,T3_R1!K143,T3_R2!K143)","v":0},{"$f":"MAX('MDA1'!K143,'MDA2'!K143,'MDA3'!I143,'MDA3'!L143,'T1'!M143,'T2'!K143,T3_R1!L143,T3_R2!L143)","v":10789},{"$f":"MAX('MDA1'!L143,'MDA2'!L143,'MDA3'!J143,'MDA3'!M143,'T1'!N143,'T2'!L143,T3_R1!M143,T3_R2!M143)","v":0},10789,{"$f":"MAX('MDA2'!J143,T143)","v":0},{"$f":"MAX('MDA1'!K143,'MDA2'!K143,'MDA3'!I143,'MDA3'!L143,V143,AD143)","v":10789},{"$f":"MAX('MDA1'!L143,'MDA2'!L143,'MDA3'!J143,'MDA3'!M143,AF143)","v":0},10789,19.083137134617889]
[{"$f":"IF(COUNTRY_INFO!A144=0,\" \",COUNTRY_INFO!A144)","v":"Tanzania"},{"$f":"IF(COUNTRY_INFO!B144=0,\" \",COUNTRY_INFO!B144)","v":"Ruvuma"},{"$f":"IF(COUNTRY_INFO!C144=0,\" \",COUNTRY_INFO!C144)","v":"Mbinga District Council"},{"$f":"COUNTRY_INFO!L144","v":"Stopped"},null,null,{"$f":"MAX('MDA1'!M144,'MDA2'!M144)","v":0},{"$f":"IF(AND(COUNTRY_INFO!H144>0,COUNTRY_INFO!H144<4),IF(D144>MAX('MDA1'!M144,'MDA2'!M144),MAX('MDA1'!M144,'MDA2'!M144),D144),0)","v":0},{"$f":"IF(AND(COUNTRY_INFO!H144>0,COUNTRY_INFO!H144<4), IF(G144/D144*100<>0, IF(G144/D144*100>100,100,G144/D144*100), \"-\"),0)","v":0},{"$f":"COUNTRY_INFO!M144","v":265542.64079477306},null,null,{"$f":"MAX('MDA1'!M144,MAX('MDA3'!I144,'MDA3'!L144)+MAX('MDA3'!J144,'MDA3'!M144))","v":0},{"$f":"IF(AND(COUNTRY_INFO!I144>0,COUNTRY_INFO!I144<4),IF(J144>MAX('MDA1'!M144,MAX('MDA3'!I144,'MDA3'!L144)+MAX('MDA3'!J144,'MDA3'!M144)),MAX('MDA1'!M144,MAX('MDA3'!I144,'MDA3'!L144)+MAX('MDA3'!J144,'MDA3'!M144)),J144),0)","v":0},{"$f":"IF(AND(COUNTRY_INFO!I144>0,COUNTRY_INFO!I144<4), IF(M144/J144*100<>0, IF(M144/J144*100>100,100,M144/J144*100), \"-\"),0)","v":"-"},{"$f":"COUNTRY_INFO!N144","v":100233},null,null,{"$f":"SUM(MAX('MDA2'!J144, 'T1'!L144, MAX(T3_R1!K144, T3_R2!K144)), MAX('MDA1'!K144, 'MDA2'!K144, 'T1'!M144, MAX(T3_R1!L144, T3_R2!L144)), MAX('MDA1'!L144, 'MDA2'!L144, 'T1'!N144, MAX(T3_R1!M144, T3_R2!M144)))","v":64873},{"$f":"IF(AND(COUNTRY_INFO!J144>1,COUNTRY_INFO!J144<4),IF(COUNTRY_INFO!E144>MAX('MDA2'!J144,'T1'!L144,MAX(T3_R1!K144,T3_R2!K144)),MAX('MDA2'!J144,'T1'!L144,MAX(T3_R1!K144,T3_R2!K144)),COUNTRY_INFO!E144),0)","v":0},{"$f":"IF(AND(COUNTRY_INFO!J144>1,COUNTRY_INFO!J144<4), IF(T144/COUNTRY_INFO!E144*100<>0, IF(T144/COUNTRY_INFO!E144*100>100,100,T144/COUNTRY_INFO!E144*100), \"-\"),0)","v":"-"},{"$f":"IF(AND(COUNTRY_INFO!J144>1,COUNTRY_INFO!J144<4),IF(COUNTRY_INFO!F144>MAX('MDA1'!K144,'MDA2'!K144,'T1'!M144,MAX(T3_R1!L144,T3_R2!L144)),MAX('MDA1'!K144,'MDA2'!K144,'T1'!M144,MAX(T3_R1!L144,T3_R2!L144)),COUNTRY_INFO!F144),0)","v":64873},{"$f":"IF(AND(COUNTRY_INFO!J144>1,COUNTRY_INFO!J144<4), IF(V144/COUNTRY_INFO!F144*100<>0, IF(V144/COUNTRY_INFO!F144*100>100,100,V144/COUNTRY_INFO!F144*100), \"-\"),0)","v":98.325199308860533},64873,{"$f":"IF(AND(COUNTRY_INFO!J144>1,COUNTRY_INFO!J144<4), IF(S144/P144*100<>0, IF(X144/P144*100>100,100,X144/P144*100), \"-\"),0)","v":64.722197280336815},{"$f":"COUNTRY_INFO!O144","v":66050.928158954615},null,null,{"$f":"MAX('T1'!L144,'T2'!J144)+MAX('T1'!M144,'T2'!K144)+MAX('T1'!N144,'T2'!L144)","v":64873},{"$f":"IF(COUNTRY_INFO!K144=1,IF(COUNTRY_INFO!F144*0.33>MAX('T1'!M144,'T2'!K144),MAX('T1'!M144,'T2'!K144),COUNTRY_INFO!F144*0.33),IF(COUNTRY_INFO!K144=2,IF(COUNTRY_INFO!F144*0.5>MAX('T1'!M144,'T2'!K144),MAX('T1'!M144,'T2'!K144),COUNTRY_INFO!F144*0.5),IF(COUNTRY_INFO!K144=3,IF(COUNTRY_INFO!F144>MAX('T1'!M144,'T2'!K144),MAX('T1'!M144,'T2'!K144),COUNTRY_INFO!F144),0)))","v":32989},{"$f":"IF(AND(COUNTRY_INFO!K144>0,COUNTRY_INFO!K144<4),IF(Z144>0,IF(COUNTRY_INFO!K144=1, AD144/(COUNTRY_INFO!F144*0.33)*100, IF(COUNTRY_INFO!K144=2, AD144/(COUNTRY_INFO!F144*0.5)*100, IF(COUNTRY_INFO!K144=3, AD144/COUNTRY_INFO!F144*100))),\"-\"),0)","v":100},{"$f":"IF(COUNTRY_INFO!K144=2,IF(COUNTRY_INFO!G144*0.2>MAX('T1'!N144,'T2'!L144),MAX('T1'!N144,'T2'!L144),COUNTRY_INFO!G144*0.2),IF(COUNTRY_INFO!K144=3,IF(COUNTRY_INFO!G144>MAX('T1'!N144,'T2'!L144),MAX('T1'!N144,'T2'!L144),COUNTRY_INFO!G144),0))","v":0},{"$f":"IF(AND(COUNTRY_INFO!K144>0,COUNTRY_INFO!K144<4),IF(Z144>0,IF(COUNTRY_INFO!K144=1, 0, IF(COUNTRY_INFO!K144=2, AF144/(COUNTRY_INFO!G144*0.2)*100, IF(COUNTRY_INFO!K144=3, AF144/COUNTRY_INFO!G144*100))),\"-\"),0)","v":0},32989,{"$f":"IF(AND(COUNTRY_INFO!K144>0,COUNTRY_INFO!K144<4), IF(AC144/Z144*100<>0, IF(AH144/Z144*100>100,100,AH144/Z144*100), \"-\"),0)","v":49.944793993826167},null,{"$f":"IF(AND(D144<>0, D144<>\"Unknown\",D144<>\"Stopped\",D144<>\"Not required\"),D144/COUNTRY_INFO!D144, 0)","v":0},{"$f":"IF(AND(J144<>0,J144<>\"Unknown\",J144<>\"Stopped\",J144<>\"Not required\"),J144/COUNTRY_INFO!D144, 0)","v":1},{"$f":"IF(AND(P144<>0,P144<>\"Unknown\",P144<>\"Not required\"),P144/(COUNTRY_INFO!E144+COUNTRY_INFO!F144), 0)","v":1},{"$f":"IF(AND(Z144<>0,Z144<>\"Unknown\",Z144<>\"Not required\"),IF(COUNTRY_INFO!K144=1,1,IF(COUNTRY_INFO!K144=2,0.5*COUNTRY_INFO!F144/(0.5*COUNTRY_INFO!F144+0.2*COUNTRY_INFO!G144),IF(COUNTRY_INFO!K144=3,COUNTRY_INFO!F144/(COUNTRY_INFO!F144+COUNTRY_INFO!G144)))),0)","v":0.49944793993826164},{"$f":"IF(AND(Z144<>0,Z144<>\"Unknown\",Z144<>\"Not required\"),IF(COUNTRY_INFO!K144=1,0,IF(COUNTRY_INFO!K144=2,0.2*COUNTRY_INFO!G144/(0.5*COUNTRY_INFO!F144+0.2*COUNTRY_INFO!G144),IF(COUNTRY_INFO!K144=3,COUNTRY_INFO!G144/(COUNTRY_INFO!F144+COUNTRY_INFO!G144)))),0)","v":0.50055206006173836},{"$f":"MAX(COUNTRY_INFO!D144*AK144*PROFILE!$G$7,COUNTRY_INFO!D144*AL144*PROFILE!$G$7)","v":4.8692447754603192E-3},{"$f":"MAX(COUNTRY_INFO!D144*AK144*PROFILE!$G$8,COUNTRY_INFO!D144*AL144*PROFILE!$G$8,COUNTRY_INFO!D144*AM144*PROFILE!$G$8)","v":34255.001166948925},{"$f":"MAX(COUNTRY_INFO!D144*AK144*PROFILE!$G$9,COUNTRY_INFO!D144*AL144*PROFILE!$G$9,COUNTRY_INFO!D144*AM144*PROFILE!$G$9,IF(AND(DISTRICT!Z144<>\"Unknown\",Z144<>\"Not required\"),COUNTRY_INFO!O144*DISTRICT!AN144,0))","v":59694.507214273261},{"$f":"MAX(COUNTRY_INFO!D144*AK144*PROFILE!$G$10,COUNTRY_INFO!D144*AL144*PROFILE!$G$10,IF(AND(DISTRICT!Z144<>\"Unknown\",Z144<>\"Not required\"),COUNTRY_INFO!O144*DISTRICT!AO144,0))","v":171593.1275443061},265542.64079477306,0,{"$f":"MAX('MDA2'!J144,'T1'!L144,'T2'!J144,T3_R1!K144,T3_R2!K144)","v":0},{"$f":"MAX('MDA1'!K144,'MDA2'!K144,'MDA3'!I144,'MDA3'!L144,'T1'!M144,'T2'!K144,T3_R1!L144,T3_R2!L144)","v":64873},{"$f":"MAX('MDA1'!L144,'MDA2'!L144,'MDA3'!J144,'MDA3'!M144,'T1'!N144,'T2'!L144,T3_R1!M144,T3_R2!M144)","v":0},64873,{"$f":"MAX('MDA2'!J144,T144)","v":0},{"$f":"MAX('MDA1'!K144,'MDA2'!K144,'MDA3'!I144,'MDA3'!L144,V144,AD144)","v":64873},{"$f":"MAX('MDA1'!L144,'MDA2'!L144,'MDA3'!J144,'MDA3'!M144,AF144)","v":0},64873,24.430351300956467]
[{"$f":"IF(COUNTRY_INFO!A145=0,\" \",COUNTRY_INFO!A145)","v":"Tanzania"},{"$f":"IF(COUNTRY_INFO!B145=0,\" \",COUNTRY_INFO!B145)","v":"Ruvuma"},{"$f":"IF(COUNTRY_INFO!C145=0,\" \",COUNTRY_INFO!C145)","v":"Mbinga Town Council"},{"$f":"COUNTRY_INFO!L145","v":"Stopped"},null,null,{"$f":"MAX('MDA1'!M145,'MDA2'!M145)","v":0},{"$f":"IF(AND(COUNTRY_INFO!H145>0,COUNTRY_INFO!H145<4),IF(D145>MAX('MDA1'!M145,'MDA2'!M145),MAX('MDA1'!M145,'MDA2'!M145),D145),0)","v":0},{"$f":"IF(AND(COUNTRY_INFO!H145>0,COUNTRY_INFO!H145<4), IF(G145/D145*100<>0, IF(G145/D145*100>100,100,G145/D145*100), \"-\"),0)","v":0},{"$f":"COUNTRY_INFO!M145","v":105251},null,null,{"$f":"MAX('MDA1'!M145,MAX('MDA3'!I145,'MDA3'!L145)+MAX('MDA3'!J145,'MDA3'!M145))","v":0},{"$f":"IF(AND(COUNTRY_INFO!I145>0,COUNTRY_INFO!I145<4),IF(J145>MAX('MDA1'!M145,MAX('MDA3'!I145,'MDA3'!L145)+MAX('MDA3'!J145,'MDA3'!M145)),MAX('MDA1'!M145,MAX('MDA3'!I145,'MDA3'!L145)+MAX('MDA3'!J145,'MDA3'!M145)),J145),0)","v":0},{"$f":"IF(AND(COUNTRY_INFO!I145>0,COUNTRY_INFO!I145<4), IF(M145/J145*100<>0, IF(M145/J145*100>100,100,M145/J145*100), \"-\"),0)","v":"-"},{"$f":"COUNTRY_INFO!N145","v":44887},null,null,{"$f":"SUM(MAX('MDA2'!J145, 'T1'!L145, MAX(T3_R1!K145, T3_R2!K145)), MAX('MDA1'!K145, 'MDA2'!K145, 'T1'!M145, MAX(T3_R1!L145, T3_R2!L145)), MAX('MDA1'!L145, 'MDA2'!L145, 'T1'!N145, MAX(T3_R1!M145, T3_R2!M145)))","v":30519},{"$f":"IF(AND(COUNTRY_INFO!J145>1,COUNTRY_INFO!J145<4),IF(COUNTRY_INFO!E145>MAX('MDA2'!J145,'T1'!L145,MAX(T3_R1!K145,T3_R2!K145)),MAX('MDA2'!J145,'T1'!L145,MAX(T3_R1!K145,T3_R2!K145)),COUNTRY_INFO!E145),0)","v":0},{"$f":"IF(AND(COUNTRY_INFO!J145>1,COUNTRY_INFO!J145<4), IF(T145/COUNTRY_INFO!E145*100<>0, IF(T145/COUNTRY_INFO!E145*100>100,100,T145/COUNTRY_INFO!E145*100), \"-\"),0)","v":"-"},{"$f":"IF(AND(COUNTRY_INFO!J145>1,COUNTRY_INFO!J145<4),IF(COUNTRY_INFO!F145>MAX('MDA1'!K145,'MDA2'!K145,'T1'!M145,MAX(T3_R1!L145,T3_R2!L145)),MAX('MDA1'!K145,'MDA2'!K145,'T1'!M145,MAX(T3_R1!L145,T3_R2!L145)),COUNTRY_INFO!F145),0)","v":30519},{"$f":"IF(AND(COUNTRY_INFO!J145>1,COUNTRY_INFO!J145<4), IF(V145/COUNTRY_INFO!F145*100<>0, IF(V145/COUNTRY_INFO!F145*100>100,100,V145/COUNTRY_INFO!F145*100), \"-\"),0)","v":97.473650590865532},30519,{"$f":"IF(AND(COUNTRY_INFO!J145>1,COUNTRY_INFO!J145<4), IF(S145/P145*100<>0, IF(X145/P145*100>100,100,X145/P145*100), \"-\"),0)","v":67.990732283289148},{"$f":"COUNTRY_INFO!O145","v":27727.800000000003},null,null,{"$f":"MAX('T1'!L145,'T2'!J145)+MAX('T1'!M145,'T2'!K145)+MAX('T1'!N145,'T2'!L145)","v":30519},{"$f":"IF(COUNTRY_INFO!K145=1,IF(COUNTRY_INFO!F145*0.33>MAX('T1'!M145,'T2'!K145),MAX('T1'!M145,'T2'!K145),COUNTRY_INFO!F145*0.33),IF(COUNTRY_INFO!K145=2,IF(COUNTRY_INFO!F145*0.5>MAX('T1'!M145,'T2'!K145),MAX('T1'!M145,'T2'!K145),COUNTRY_INFO!F145*0.5),IF(COUNTRY_INFO!K145=3,IF(COUNTRY_INFO!F145>MAX('T1'!M145,'T2'!K145),MAX('T1'!M145,'T2'!K145),COUNTRY_INFO!F145),0)))","v":15655},{"$f":"IF(AND(COUNTRY_INFO!K145>0,COUNTRY_INFO!K145<4),IF(Z145>0,IF(COUNTRY_INFO!K145=1, AD145/(COUNTRY_INFO!F145*0.33)*100, IF(COUNTRY_INFO!K145=2, AD145/(COUNTRY_INFO!F145*0.5)*100, IF(COUNTRY_INFO!K145=3, AD145/COUNTRY_INFO!F145*100))),\"-\"),0)","v":100},{"$f":"IF(COUNTRY_INFO!K145=2,IF(COUNTRY_INFO!G145*0.2>MAX('T1'!N145,'T2'!L145),MAX('T1'!N145,'T2'!L145),COUNTRY_INFO!G145*0.2),IF(COUNTRY_INFO!K145=3,IF(COUNTRY_INFO!G145>MAX('T1'!N145,'T2'!L145),MAX('T1'!N145,'T2'!L145),COUNTRY_INFO!G145),0))","v":0},{"$f":"IF(AND(COUNTRY_INFO!K145>0,COUNTRY_INFO!K145<4),IF(Z145>0,IF(COUNTRY_INFO!K145=1, 0, IF(COUNTRY_INFO!K145=2, AF145/(COUNTRY_INFO!G145*0.2)*100, IF(COUNTRY_INFO!K145=3, AF145/COUNTRY_INFO!G145*100))),\"-\"),0)","v":0},15655,{"$f":"IF(AND(COUNTRY_INFO!K145>0,COUNTRY_INFO!K145<4), IF(AC145/Z145*100<>0, IF(AH145/Z145*100>100,100,AH145/Z145*100), \"-\"),0)","v":56.459582080078476},null,{"$f":"IF(AND(D145<>0, D145<>\"Unknown\",D145<>\"Stopped\",D145<>\"Not required\"),D145/COUNTRY_INFO!D145, 0)","v":0},{"$f":"IF(AND(J145<>0,J145<>\"Unknown\",J145<>\"Stopped\",J145<>\"Not required\"),J145/COUNTRY_INFO!D145, 0)","v":1},{"$f":"IF(AND(P145<>0,P145<>\"Unknown\",P145<>\"Not required\"),P145/(COUNTRY_INFO!E145+COUNTRY_INFO!F145), 0)","v":1},{"$f":"IF(AND(Z145<>0,Z145<>\"Unknown\",Z145<>\"Not required\"),IF(COUNTRY_INFO!K145=1,1,IF(COUNTRY_INFO!K145=2,0.5*COUNTRY_INFO!F145/(0.5*COUNTRY_INFO!F145+0.2*COUNTRY_INFO!G145),IF(COUNTRY_INFO!K145=3,COUNTRY_INFO!F145/(COUNTRY_INFO!F145+COUNTRY_INFO!G145)))),0)","v":0.56459582080078474},{"$f":"IF(AND(Z145<>0,Z145<>\"Unknown\",Z145<>\"Not required\"),IF(COUNTRY_INFO!K145=1,0,IF(COUNTRY_INFO!K145=2,0.2*COUNTRY_INFO!G145/(0.5*COUNTRY_INFO!F145+0.2*COUNTRY_INFO!G145),IF(COUNTRY_INFO!K145=3,COUNTRY_INFO!G145/(COUNTRY_INFO!F145+COUNTRY_INFO!G145)))),0)","v":0.4354041791992152},{"$f":"MAX(COUNTRY_INFO!D145*AK145*PROFILE!$G$7,COUNTRY_INFO!D145*AL145*PROFILE!$G$7)","v":1.9299833741506648E-3},{"$f":"MAX(COUNTRY_INFO!D145*AK145*PROFILE!$G$8,COUNTRY_INFO!D145*AL145*PROFILE!$G$8,COUNTRY_INFO!D145*AM145*PROFILE!$G$8)","v":13577.379199934167},{"$f":"MAX(COUNTRY_INFO!D145*AK145*PROFILE!$G$9,COUNTRY_INFO!D145*AL145*PROFILE!$G$9,COUNTRY_INFO!D145*AM145*PROFILE!$G$9,IF(AND(DISTRICT!Z145<>\"Unknown\",Z145<>\"Not required\"),COUNTRY_INFO!O145*DISTRICT!AN145,0))","v":23660.63152797096},{"$f":"MAX(COUNTRY_INFO!D145*AK145*PROFILE!$G$10,COUNTRY_INFO!D145*AL145*PROFILE!$G$10,IF(AND(DISTRICT!Z145<>\"Unknown\",Z145<>\"Not required\"),COUNTRY_INFO!O145*DISTRICT!AO145,0))","v":68012.98734211149},105251,0,{"$f":"MAX('MDA2'!J145,'T1'!L145,'T2'!J145,T3_R1!K145,T3_R2!K145)","v":0},{"$f":"MAX('MDA1'!K145,'MDA2'!K145,'MDA3'!I145,'MDA3'!L145,'T1'!M145,'T2'!K145,T3_R1!L145,T3_R2!L145)","v":30519},{"$f":"MAX('MDA1'!L145,'MDA2'!L145,'MDA3'!J145,'MDA3'!M145,'T1'!N145,'T2'!L145,T3_R1!M145,T3_R2!M145)","v":0},30519,{"$f":"MAX('MDA2'!J145,T145)","v":0},{"$f":"MAX('MDA1'!K145,'MDA2'!K145,'MDA3'!I145,'MDA3'!L145,V145,AD145)","v":30519},{"$f":"MAX('MDA1'!L145,'MDA2'!L145,'MDA3'!J145,'MDA3'!M145,AF145)","v":0},30519,28.996399084094215]
[{"$f":"IF(COUNTRY_INFO!A146=0,\" \",COUNTRY_INFO!A146)","v":"Tanzania"},{"$f":"IF(COUNTRY_INFO!B146=0,\" \",COUNTRY_INFO!B146)","v":"Ruvuma"},{"$f":"IF(COUNTRY_INFO!C146=0,\" \",COUNTRY_INFO!C146)","v":"Namtumbo District Council"},{"$f":"COUNTRY_INFO!L146","v":"Stopped"},null,null,{"$f":"MAX('MDA1'!M146,'MDA2'!M146)","v":0},{"$f":"IF(AND(COUNTRY_INFO!H146>0,COUNTRY_INFO!H146<4),IF(D146>MAX('MDA1'!M146,'MDA2'!M146),MAX('MDA1'!M146,'MDA2'!M146),D146),0)","v":0},{"$f":"IF(AND(COUNTRY_INFO!H146>0,COUNTRY_INFO!H146<4), IF(G146/D146*100<>0, IF(G146/D146*100>100,100,G146/D146*100), \"-\"),0)","v":0},{"$f":"COUNTRY_INFO!M146","v":238623.97463385237},null,null,{"$f":"MAX('MDA1'!M146,MAX('MDA3'!I146,'MDA3'!L146)+MAX('MDA3'!J146,'MDA3'!M146))","v":0},{"$f":"IF(AND(COUNTRY_INFO!I146>0,COUNTRY_INFO!I146<4),IF(J146>MAX('MDA1'!M146,MAX('MDA3'!I146,'MDA3'!L146)+MAX('MDA3'!J146,'MDA3'!M146)),MAX('MDA1'!M146,MAX('MDA3'!I146,'MDA3'!L146)+MAX('MDA3'!J146,'MDA3'!M146)),J146),0)","v":0},{"$f":"IF(AND(COUNTRY_INFO!I146>0,COUNTRY_INFO!I146<4), IF(M146/J146*100<>0, IF(M146/J146*100>100,100,M146/J146*100), \"-\"),0)","v":"-"},{"$f":"COUNTRY_INFO!N146","v":87631},null,null,{"$f":"SUM(MAX('MDA2'!J146, 'T1'!L146, MAX(T3_R1!K146, T3_R2!K146)), MAX('MDA1'!K146, 'MDA2'!K146, 'T1'!M146, MAX(T3_R1!L146, T3_R2!L146)), MAX('MDA1'!L146, 'MDA2'!L146, 'T1'!N146, MAX(T3_R1!M146, T3_R2!M146)))","v":51885},{"$f":"IF(AND(COUNTRY_INFO!J146>1,COUNTRY_INFO!J146<4),IF(COUNTRY_INFO!E146>MAX('MDA2'!J146,'T1'!L146,MAX(T3_R1!K146,T3_R2!K146)),MAX('MDA2'!J146,'T1'!L146,MAX(T3_R1!K146,T3_R2!K146)),COUNTRY_INFO!E146),0)","v":0},{"$f":"IF(AND(COUNTRY_INFO!J146>1,COUNTRY_INFO!J146<4), IF(T146/COUNTRY_INFO!E146*100<>0, IF(T146/COUNTRY_INFO!E146*100>100,100,T146/COUNTRY_INFO!E146*100), \"-\"),0)","v":"-"},{"$f":"IF(AND(COUNTRY_INFO!J146>1,COUNTRY_INFO!J146<4),IF(COUNTRY_INFO!F146>MAX('MDA1'!K146,'MDA2'!K146,'T1'!M146,MAX(T3_R1!L146,T3_R2!L146)),MAX('MDA1'!K146,'MDA2'!K146,'T1'!M146,MAX(T3_R1!L146,T3_R2!L146)),COUNTRY_INFO!F146),0)","v":51885},{"$f":"IF(AND(COUNTRY_INFO!J146>1,COUNTRY_INFO!J146<4), IF(V146/COUNTRY_INFO!F146*100<>0, IF(V146/COUNTRY_INFO!F146*100>100,100,V146/COUNTRY_INFO!F146*100), \"-\"),0)","v":91.268096184629457},51885,{"$f":"IF(AND(COUNTRY_INFO!J146>1,COUNTRY_INFO!J146<4), IF(S146/P146*100<>0, IF(X146/P146*100>100,100,X146/P146*100), \"-\"),0)","v":59.208499275370585},{"$f":"COUNTRY_INFO!O146","v":58623.094926770471},null,null,{"$f":"MAX('T1'!L146,'T2'!J146)+MAX('T1'!M146,'T2'!K146)+MAX('T1'!N146,'T2'!L146)","v":51885},{"$f":"IF(COUNTRY_INFO!K146=1,IF(COUNTRY_INFO!F146*0.33>MAX('T1'!M146,'T2'!K146),MAX('T1'!M146,'T2'!K146),COUNTRY_INFO!F146*0.33),IF(COUNTRY_INFO!K146=2,IF(COUNTRY_INFO!F146*0.5>MAX('T1'!M146,'T2'!K146),MAX('T1'!M146,'T2'!K146),COUNTRY_INFO!F146*0.5),IF(COUNTRY_INFO!K146=3,IF(COUNTRY_INFO!F146>MAX('T1'!M146,'T2'!K146),MAX('T1'!M146,'T2'!K146),COUNTRY_INFO!F146),0)))","v":28424.5},{"$f":"IF(AND(COUNTRY_INFO!K146>0,COUNTRY_INFO!K146<4),IF(Z146>0,IF(COUNTRY_INFO!K146=1, AD146/(COUNTRY_INFO!F146*0.33)*100, IF(COUNTRY_INFO!K146=2, AD146/(COUNTRY_INFO!F146*0.5)*100, IF(COUNTRY_INFO!K146=3, AD146/COUNTRY_INFO!F146*100))),\"-\"),0)","v":100},{"$f":"IF(COUNTRY_INFO!K146=2,IF(COUNTRY_INFO!G146*0.2>MAX('T1'!N146,'T2'!L146),MAX('T1'!N146,'T2'!L146),COUNTRY_INFO!G146*0.2),IF(COUNTRY_INFO!K146=3,IF(COUNTRY_INFO!G146>MAX('T1'!N146,'T2'!L146),MAX('T1'!N146,'T2'!L146),COUNTRY_INFO!G146),0))","v":0},{"$f":"IF(AND(COUNTRY_INFO!K146>0,COUNTRY_INFO!K146<4),IF(Z146>0,IF(COUNTRY_INFO!K146=1, 0, IF(COUNTRY_INFO!K146=2, AF146/(COUNTRY_INFO!G146*0.2)*100, IF(COUNTRY_INFO!K146=3, AF146/COUNTRY_INFO!G146*100))),\"-\"),0)","v":0},28424.5,{"$f":"IF(AND(COUNTRY_INFO!K146>0,COUNTRY_INFO!K146<4), IF(AC146/Z146*100<>0, IF(AH146/Z146*100>100,100,AH146/Z146*100), \"-\"),0)","v":48.486863471651745},null,{"$f":"IF(AND(D146<>0, D146<>\"Unknown\",D146<>\"Stopped\",D146<>\"Not required\"),D146/COUNTRY_INFO!D146, 0)","v":0},{"$f":"IF(AND(J146<>0,J146<>\"Unknown\",J146<>\"Stopped\",J146<>\"Not required\"),J146/COUNTRY_INFO!D146, 0)","v":1},{"$f":"IF(AND(P146<>0,P146<>\"Unknown\",P146<>\"Not required\"),P146/(COUNTRY_INFO!E146+COUNTRY_INFO!F146), 0)","v":1},{"$f":"IF(AND(Z146<>0,Z146<>\"Unknown\",Z146<>\"Not required\"),IF(COUNTRY_INFO!K146=1,1,IF(COUNTRY_INFO!K146=2,0.5*COUNTRY_INFO!F146/(0.5*COUNTRY_INFO!F146+0.2*COUNTRY_INFO!G146),IF(COUNTRY_INFO!K146=3,COUNTRY_INFO!F146/(COUNTRY_INFO!F146+COUNTRY_INFO!G146)))),0)","v":0.48486863471651748},{"$f":"IF(AND(Z146<>0,Z146<>\"Unknown\",Z146<>\"Not required\"),IF(COUNTRY_INFO!K146=1,0,IF(COUNTRY_INFO!K146=2,0.2*COUNTRY_INFO!G146/(0.5*COUNTRY_INFO!F146+0.2*COUNTRY_INFO!G146),IF(COUNTRY_INFO!K146=3,COUNTRY_INFO!G146/(COUNTRY_INFO!F146+COUNTRY_INFO!G146)))),0)","v":0.51513136528348258},{"$f":"MAX(COUNTRY_INFO!D146*AK146*PROFILE!$G$7,COUNTRY_INFO!D146*AL146*PROFILE!$G$7)","v":4.3756382715326699E-3},{"$f":"MAX(COUNTRY_INFO!D146*AK146*PROFILE!$G$8,COUNTRY_INFO!D146*AL146*PROFILE!$G$8,COUNTRY_INFO!D146*AM146*PROFILE!$G$8)","v":30782.493181055623},{"$f":"MAX(COUNTRY_INFO!D146*AK146*PROFILE!$G$9,COUNTRY_INFO!D146*AL146*PROFILE!$G$9,COUNTRY_INFO!D146*AM146*PROFILE!$G$9,IF(AND(DISTRICT!Z146<>\"Unknown\",Z146<>\"Not required\"),COUNTRY_INFO!O146*DISTRICT!AN146,0))","v":53643.138189199817},{"$f":"MAX(COUNTRY_INFO!D146*AK146*PROFILE!$G$10,COUNTRY_INFO!D146*AL146*PROFILE!$G$10,IF(AND(DISTRICT!Z146<>\"Unknown\",Z146<>\"Not required\"),COUNTRY_INFO!O146*DISTRICT!AO146,0))","v":154198.33888795864},238623.97463385237,0,{"$f":"MAX('MDA2'!J146,'T1'!L146,'T2'!J146,T3_R1!K146,T3_R2!K146)","v":0},{"$f":"MAX('MDA1'!K146,'MDA2'!K146,'MDA3'!I146,'MDA3'!L146,'T1'!M146,'T2'!K146,T3_R1!L146,T3_R2!L146)","v":51885},{"$f":"MAX('MDA1'!L146,'MDA2'!L146,'MDA3'!J146,'MDA3'!M146,'T1'!N146,'T2'!L146,T3_R1!M146,T3_R2!M146)","v":0},51885,{"$f":"MAX('MDA2'!J146,T146)","v":0},{"$f":"MAX('MDA1'!K146,'MDA2'!K146,'MDA3'!I146,'MDA3'!L146,V146,AD146)","v":51885},{"$f":"MAX('MDA1'!L146,'MDA2'!L146,'MDA3'!J146,'MDA3'!M146,AF146)","v":0},51885,21.743414541482263]
[{"$f":"IF(COUNTRY_INFO!A147=0,\" \",COUNTRY_INFO!A147)","v":"Tanzania"},{"$f":"IF(COUNTRY_INFO!B147=0,\" \",COUNTRY_INFO!B147)","v":"Ruvuma"},{"$f":"IF(COUNTRY_INFO!C147=0,\" \",COUNTRY_INFO!C147)","v":"Nyasa District Council"},{"$f":"COUNTRY_INFO!L147","v":"Stopped"},null,null,{"$f":"MAX('MDA1'!M147,'MDA2'!M147)","v":0},{"$f":"IF(AND(COUNTRY_INFO!H147>0,COUNTRY_INFO!H147<4),IF(D147>MAX('MDA1'!M147,'MDA2'!M147),MAX('MDA1'!M147,'MDA2'!M147),D147),0)","v":0},{"$f":"IF(AND(COUNTRY_INFO!H147>0,COUNTRY_INFO!H147<4), IF(G147/D147*100<>0, IF(G147/D147*100>100,100,G147/D147*100), \"-\"),0)","v":0},{"$f":"COUNTRY_INFO!M147","v":172968.12877248047},null,null,{"$f":"MAX('MDA1'!M147,MAX('MDA3'!I147,'MDA3'!L147)+MAX('MDA3'!J147,'MDA3'!M147))","v":0},{"$f":"IF(AND(COUNTRY_INFO!I147>0,COUNTRY_INFO!I147<4),IF(J147>MAX('MDA1'!M147,MAX('MDA3'!I147,'MDA3'!L147)+MAX('MDA3'!J147,'MDA3'!M147)),MAX('MDA1'!M147,MAX('MDA3'!I147,'MDA3'!L147)+MAX('MDA3'!J147,'MDA3'!M147)),J147),0)","v":0},{"$f":"IF(AND(COUNTRY_INFO!I147>0,COUNTRY_INFO!I147<4), IF(M147/J147*100<>0, IF(M147/J147*100>100,100,M147/J147*100), \"-\"),0)","v":"-"},{"$f":"COUNTRY_INFO!N147","v":68948},null,null,{"$f":"SUM(MAX('MDA2'!J147, 'T1'!L147, MAX(T3_R1!K147, T3_R2!K147)), MAX('MDA1'!K147, 'MDA2'!K147, 'T1'!M147, MAX(T3_R1!L147, T3_R2!L147)), MAX('MDA1'!L147, 'MDA2'!L147, 'T1'!N147, MAX(T3_R1!M147, T3_R2!M147)))","v":45838},{"$f":"IF(AND(COUNTRY_INFO!J147>1,COUNTRY_INFO!J147<4),IF(COUNTRY_INFO!E147>MAX('MDA2'!J147,'T1'!L147,MAX(T3_R1!K147,T3_R2!K147)),MAX('MDA2'!J147,'T1'!L147,MAX(T3_R1!K147,T3_R2!K147)),COUNTRY_INFO!E147),0)","v":0},{"$f":"IF(AND(COUNTRY_INFO!J147>1,COUNTRY_INFO!J147<4), IF(T147/COUNTRY_INFO!E147*100<>0, IF(T147/COUNTRY_INFO!E147*100>100,100,T147/COUNTRY_INFO!E147*100), \"-\"),0)","v":"-"},{"$f":"IF(AND(COUNTRY_INFO!J147>1,COUNTRY_INFO!J147<4),IF(COUNTRY_INFO!F147>MAX('MDA1'!K147,'MDA2'!K147,'T1'!M147,MAX(T3_R1!L147,T3_R2!L147)),MAX('MDA1'!K147,'MDA2'!K147,'T1'!M147,MAX(T3_R1!L147,T3_R2!L147)),COUNTRY_INFO!F147),0)","v":45838},{"$f":"IF(AND(COUNTRY_INFO!J147>1,COUNTRY_INFO!J147<4), IF(V147/COUNTRY_INFO!F147*100<>0, IF(V147/COUNTRY_INFO!F147*100>100,100,V147/COUNTRY_INFO!F147*100), \"-\"),0)","v":98.290983167149136},45838,{"$f":"IF(AND(COUNTRY_INFO!J147>1,COUNTRY_INFO!J147<4), IF(S147/P147*100<>0, IF(X147/P147*100>100,100,X147/P147*100), \"-\"),0)","v":66.481986424551835},{"$f":"COUNTRY_INFO!O147","v":44121.525754496091},null,null,{"$f":"MAX('T1'!L147,'T2'!J147)+MAX('T1'!M147,'T2'!K147)+MAX('T1'!N147,'T2'!L147)","v":45838},{"$f":"IF(COUNTRY_INFO!K147=1,IF(COUNTRY_INFO!F147*0.33>MAX('T1'!M147,'T2'!K147),MAX('T1'!M147,'T2'!K147),COUNTRY_INFO!F147*0.33),IF(COUNTRY_INFO!K147=2,IF(COUNTRY_INFO!F147*0.5>MAX('T1'!M147,'T2'!K147),MAX('T1'!M147,'T2'!K147),COUNTRY_INFO!F147*0.5),IF(COUNTRY_INFO!K147=3,IF(COUNTRY_INFO!F147>MAX('T1'!M147,'T2'!K147),MAX('T1'!M147,'T2'!K147),COUNTRY_INFO!F147),0)))","v":23317.5},{"$f":"IF(AND(COUNTRY_INFO!K147>0,COUNTRY_INFO!K147<4),IF(Z147>0,IF(COUNTRY_INFO!K147=1, AD147/(COUNTRY_INFO!F147*0.33)*100, IF(COUNTRY_INFO!K147=2, AD147/(COUNTRY_INFO!F147*0.5)*100, IF(COUNTRY_INFO!K147=3, AD147/COUNTRY_INFO!F147*100))),\"-\"),0)","v":100},{"$f":"IF(COUNTRY_INFO!K147=2,IF(COUNTRY_INFO!G147*0.2>MAX('T1'!N147,'T2'!L147),MAX('T1'!N147,'T2'!L147),COUNTRY_INFO!G147*0.2),IF(COUNTRY_INFO!K147=3,IF(COUNTRY_INFO!G147>MAX('T1'!N147,'T2'!L147),MAX('T1'!N147,'T2'!L147),COUNTRY_INFO!G147),0))","v":0},{"$f":"IF(AND(COUNTRY_INFO!K147>0,COUNTRY_INFO!K147<4),IF(Z147>0,IF(COUNTRY_INFO!K147=1, 0, IF(COUNTRY_INFO!K147=2, AF147/(COUNTRY_INFO!G147*0.2)*100, IF(COUNTRY_INFO!K147=3, AF147/COUNTRY_INFO!G147*100))),\"-\"),0)","v":0},23317.5,{"$f":"IF(AND(COUNTRY_INFO!K147>0,COUNTRY_INFO!K147<4), IF(AC147/Z147*100<>0, IF(AH147/Z147*100>100,100,AH147/Z147*100), \"-\"),0)","v":52.848353725899635},null,{"$f":"IF(AND(D147<>0, D147<>\"Unknown\",D147<>\"Stopped\",D147<>\"Not required\"),D147/COUNTRY_INFO!D147, 0)","v":0},{"$f":"IF(AND(J147<>0,J147<>\"Unknown\",J147<>\"Stopped\",J147<>\"Not required\"),J147/COUNTRY_INFO!D147, 0)","v":1},{"$f":"IF(AND(P147<>0,P147<>\"Unknown\",P147<>\"Not required\"),P147/(COUNTRY_INFO!E147+COUNTRY_INFO!F147), 0)","v":1},{"$f":"IF(AND(Z147<>0,Z147<>\"Unknown\",Z147<>\"Not required\"),IF(COUNTRY_INFO!K147=1,1,IF(COUNTRY_INFO!K147=2,0.5*COUNTRY_INFO!F147/(0.5*COUNTRY_INFO!F147+0.2*COUNTRY_INFO!G147),IF(COUNTRY_INFO!K147=3,COUNTRY_INFO!F147/(COUNTRY_INFO!F147+COUNTRY_INFO!G147)))),0)","v":0.52848353725899633},{"$f":"IF(AND(Z147<>0,Z147<>\"Unknown\",Z147<>\"Not required\"),IF(COUNTRY_INFO!K147=1,0,IF(COUNTRY_INFO!K147=2,0.2*COUNTRY_INFO!G147/(0.5*COUNTRY_INFO!F147+0.2*COUNTRY_INFO!G147),IF(COUNTRY_INFO!K147=3,COUNTRY_INFO!G147/(COUNTRY_INFO!F147+COUNTRY_INFO!G147)))),0)","v":0.47151646274100378},{"$f":"MAX(COUNTRY_INFO!D147*AK147*PROFILE!$G$7,COUNTRY_INFO!D147*AL147*PROFILE!$G$7)","v":3.1717096539589985E-3},{"$f":"MAX(COUNTRY_INFO!D147*AK147*PROFILE!$G$8,COUNTRY_INFO!D147*AL147*PROFILE!$G$8,COUNTRY_INFO!D147*AM147*PROFILE!$G$8)","v":22312.888940219196},{"$f":"MAX(COUNTRY_INFO!D147*AK147*PROFILE!$G$9,COUNTRY_INFO!D147*AL147*PROFILE!$G$9,COUNTRY_INFO!D147*AM147*PROFILE!$G$9,IF(AND(DISTRICT!Z147<>\"Unknown\",Z147<>\"Not required\"),COUNTRY_INFO!O147*DISTRICT!AN147,0))","v":38883.575082120762},{"$f":"MAX(COUNTRY_INFO!D147*AK147*PROFILE!$G$10,COUNTRY_INFO!D147*AL147*PROFILE!$G$10,IF(AND(DISTRICT!Z147<>\"Unknown\",Z147<>\"Not required\"),COUNTRY_INFO!O147*DISTRICT!AO147,0))","v":111771.66157843085},172968.12877248047,0,{"$f":"MAX('MDA2'!J147,'T1'!L147,'T2'!J147,T3_R1!K147,T3_R2!K147)","v":0},{"$f":"MAX('MDA1'!K147,'MDA2'!K147,'MDA3'!I147,'MDA3'!L147,'T1'!M147,'T2'!K147,T3_R1!L147,T3_R2!L147)","v":45838},{"$f":"MAX('MDA1'!L147,'MDA2'!L147,'MDA3'!J147,'MDA3'!M147,'T1'!N147,'T2'!L147,T3_R1!M147,T3_R2!M147)","v":0},45838,{"$f":"MAX('MDA2'!J147,T147)","v":0},{"$f":"MAX('MDA1'!K147,'MDA2'!K147,'MDA3'!I147,'MDA3'!L147,V147,AD147)","v":45838},{"$f":"MAX('MDA1'!L147,'MDA2'!L147,'MDA3'!J147,'MDA3'!M147,AF147)","v":0},45838,26.500835920063963]
[{"$f":"IF(COUNTRY_INFO!A148=0,\" \",COUNTRY_INFO!A148)","v":"Tanzania"},{"$f":"IF(COUNTRY_INFO!B148=0,\" \",COUNTRY_INFO!B148)","v":"Ruvuma"},{"$f":"IF(COUNTRY_INFO!C148=0,\" \",COUNTRY_INFO!C148)","v":"Songea District Council"},{"$f":"COUNTRY_INFO!L148","v":"Stopped"},null,null,{"$f":"MAX('MDA1'!M148,'MDA2'!M148)","v":0},{"$f":"IF(AND(COUNTRY_INFO!H148>0,COUNTRY_INFO!H148<4),IF(D148>MAX('MDA1'!M148,'MDA2'!M148),MAX('MDA1'!M148,'MDA2'!M148),D148),0)","v":0},{"$f":"IF(AND(COUNTRY_INFO!H148>0,COUNTRY_INFO!H148<4), IF(G148/D148*100<>0, IF(G148/D148*100>100,100,G148/D148*100), \"-\"),0)","v":0},{"$f":"COUNTRY_INFO!M148","v":149167.12465624238},null,null,{"$f":"MAX('MDA1'!M148,MAX('MDA3'!I148,'MDA3'!L148)+MAX('MDA3'!J148,'MDA3'!M148))","v":0},{"$f":"IF(AND(COUNTRY_INFO!I148>0,COUNTRY_INFO!I148<4),IF(J148>MAX('MDA1'!M148,MAX('MDA3'!I148,'MDA3'!L148)+MAX('MDA3'!J148,'MDA3'!M148)),MAX('MDA1'!M148,MAX('MDA3'!I148,'MDA3'!L148)+MAX('MDA3'!J148,'MDA3'!M148)),J148),0)","v":0},{"$f":"IF(AND(COUNTRY_INFO!I148>0,COUNTRY_INFO!I148<4), IF(M148/J148*100<>0, IF(M148/J148*100>100,100,M148/J148*100), \"-\"),0)","v":"-"},{"$f":"COUNTRY_INFO!N148","v":50456},null,null,{"$f":"SUM(MAX('MDA2'!J148, 'T1'!L148, MAX(T3_R1!K148, T3_R2!K148)), MAX('MDA1'!K148, 'MDA2'!K148, 'T1'!M148, MAX(T3_R1!L148, T3_R2!L148)), MAX('MDA1'!L148, 'MDA2'!L148, 'T1'!N148, MAX(T3_R1!M148, T3_R2!M148)))","v":30640},{"$f":"IF(AND(COUNTRY_INFO!J148>1,COUNTRY_INFO!J148<4),IF(COUNTRY_INFO!E148>MAX('MDA2'!J148,'T1'!L148,MAX(T3_R1!K148,T3_R2!K148)),MAX('MDA2'!J148,'T1'!L148,MAX(T3_R1!K148,T3_R2!K148)),COUNTRY_INFO!E148),0)","v":0},{"$f":"IF(AND(COUNTRY_INFO!J148>1,COUNTRY_INFO!J148<4), IF(T148/COUNTRY_INFO!E148*100<>0, IF(T148/COUNTRY_INFO!E148*100>100,100,T148/COUNTRY_INFO!E148*100), \"-\"),0)","v":"-"},{"$f":"IF(AND(COUNTRY_INFO!J148>1,COUNTRY_INFO!J148<4),IF(COUNTRY_INFO!F148>MAX('MDA1'!K148,'MDA2'!K148,'T1'!M148,MAX(T3_R1!L148,T3_R2!L148)),MAX('MDA1'!K148,'MDA2'!K148,'T1'!M148,MAX(T3_R1!L148,T3_R2!L148)),COUNTRY_INFO!F148),0)","v":30640},{"$f":"IF(AND(COUNTRY_INFO!J148>1,COUNTRY_INFO!J148<4), IF(V148/COUNTRY_INFO!F148*100<>0, IF(V148/COUNTRY_INFO!F148*100>100,100,V148/COUNTRY_INFO!F148*100), \"-\"),0)","v":98.164226444109829},30640,{"$f":"IF(AND(COUNTRY_INFO!J148>1,COUNTRY_INFO!J148<4), IF(S148/P148*100<>0, IF(X148/P148*100>100,100,X148/P148*100), \"-\"),0)","v":60.726177263358174},{"$f":"COUNTRY_INFO!O148","v":35348.724931248478},null,null,{"$f":"MAX('T1'!L148,'T2'!J148)+MAX('T1'!M148,'T2'!K148)+MAX('T1'!N148,'T2'!L148)","v":30640},{"$f":"IF(COUNTRY_INFO!K148=1,IF(COUNTRY_INFO!F148*0.33>MAX('T1'!M148,'T2'!K148),MAX('T1'!M148,'T2'!K148),COUNTRY_INFO!F148*0.33),IF(COUNTRY_INFO!K148=2,IF(COUNTRY_INFO!F148*0.5>MAX('T1'!M148,'T2'!K148),MAX('T1'!M148,'T2'!K148),COUNTRY_INFO!F148*0.5),IF(COUNTRY_INFO!K148=3,IF(COUNTRY_INFO!F148>MAX('T1'!M148,'T2'!K148),MAX('T1'!M148,'T2'!K148),COUNTRY_INFO!F148),0)))","v":15606.5},{"$f":"IF(AND(COUNTRY_INFO!K148>0,COUNTRY_INFO!K148<4),IF(Z148>0,IF(COUNTRY_INFO!K148=1, AD148/(COUNTRY_INFO!F148*0.33)*100, IF(COUNTRY_INFO!K148=2, AD148/(COUNTRY_INFO!F148*0.5)*100, IF(COUNTRY_INFO!K148=3, AD148/COUNTRY_INFO!F148*100))),\"-\"),0)","v":100},{"$f":"IF(COUNTRY_INFO!K148=2,IF(COUNTRY_INFO!G148*0.2>MAX('T1'!N148,'T2'!L148),MAX('T1'!N148,'T2'!L148),COUNTRY_INFO!G148*0.2),IF(COUNTRY_INFO!K148=3,IF(COUNTRY_INFO!G148>MAX('T1'!N148,'T2'!L148),MAX('T1'!N148,'T2'!L148),COUNTRY_INFO!G148),0))","v":0},{"$f":"IF(AND(COUNTRY_INFO!K148>0,COUNTRY_INFO!K148<4),IF(Z148>0,IF(COUNTRY_INFO!K148=1, 0, IF(COUNTRY_INFO!K148=2, AF148/(COUNTRY_INFO!G148*0.2)*100, IF(COUNTRY_INFO!K148=3, AF148/COUNTRY_INFO!G148*100))),\"-\"),0)","v":0},15606.5,{"$f":"IF(AND(COUNTRY_INFO!K148>0,COUNTRY_INFO!K148<4), IF(AC148/Z148*100<>0, IF(AH148/Z148*100>100,100,AH148/Z148*100), \"-\"),0)","v":44.150107338677337},null,{"$f":"IF(AND(D148<>0, D148<>\"Unknown\",D148<>\"Stopped\",D148<>\"Not required\"),D148/COUNTRY_INFO!D148, 0)","v":0},{"$f":"IF(AND(J148<>0,J148<>\"Unknown\",J148<>\"Stopped\",J148<>\"Not required\"),J148/COUNTRY_INFO!D148, 0)","v":1},{"$f":"IF(AND(P148<>0,P148<>\"Unknown\",P148<>\"Not required\"),P148/(COUNTRY_INFO!E148+COUNTRY_INFO!F148), 0)","v":1},{"$f":"IF(AND(Z148<>0,Z148<>\"Unknown\",Z148<>\"Not required\"),IF(COUNTRY_INFO!K148=1,1,IF(COUNTRY_INFO!K148=2,0.5*COUNTRY_INFO!F148/(0.5*COUNTRY_INFO!F148+0.2*COUNTRY_INFO!G148),IF(COUNTRY_INFO!K148=3,COUNTRY_INFO!F148/(COUNTRY_INFO!F148+COUNTRY_INFO!G148)))),0)","v":0.44150107338677336},{"$f":"IF(AND(Z148<>0,Z148<>\"Unknown\",Z148<>\"Not required\"),IF(COUNTRY_INFO!K148=1,0,IF(COUNTRY_INFO!K148=2,0.2*COUNTRY_INFO!G148/(0.5*COUNTRY_INFO!F148+0.2*COUNTRY_INFO!G148),IF(COUNTRY_INFO!K148=3,COUNTRY_INFO!G148/(COUNTRY_INFO!F148+COUNTRY_INFO!G148)))),0)","v":0.55849892661322664},{"$f":"MAX(COUNTRY_INFO!D148*AK148*PROFILE!$G$7,COUNTRY_INFO!D148*AL148*PROFILE!$G$7)","v":2.7352715941549961E-3},{"$f":"MAX(COUNTRY_INFO!D148*AK148*PROFILE!$G$8,COUNTRY_INFO!D148*AL148*PROFILE!$G$8,COUNTRY_INFO!D148*AM148*PROFILE!$G$8)","v":19242.559364012239},{"$f":"MAX(COUNTRY_INFO!D148*AK148*PROFILE!$G$9,COUNTRY_INFO!D148*AL148*PROFILE!$G$9,COUNTRY_INFO!D148*AM148*PROFILE!$G$9,IF(AND(DISTRICT!Z148<>\"Unknown\",Z148<>\"Not required\"),COUNTRY_INFO!O148*DISTRICT!AN148,0))","v":33533.062608224747},{"$f":"MAX(COUNTRY_INFO!D148*AK148*PROFILE!$G$10,COUNTRY_INFO!D148*AL148*PROFILE!$G$10,IF(AND(DISTRICT!Z148<>\"Unknown\",Z148<>\"Not required\"),COUNTRY_INFO!O148*DISTRICT!AO148,0))","v":96391.499948733792},149167.12465624238,0,{"$f":"MAX('MDA2'!J148,'T1'!L148,'T2'!J148,T3_R1!K148,T3_R2!K148)","v":0},{"$f":"MAX('MDA1'!K148,'MDA2'!K148,'MDA3'!I148,'MDA3'!L148,'T1'!M148,'T2'!K148,T3_R1!L148,T3_R2!L148)","v":30640},{"$f":"MAX('MDA1'!L148,'MDA2'!L148,'MDA3'!J148,'MDA3'!M148,'T1'!N148,'T2'!L148,T3_R1!M148,T3_R2!M148)","v":0},30640,{"$f":"MAX('MDA2'!J148,T148)","v":0},{"$f":"MAX('MDA1'!K148,'MDA2'!K148,'MDA3'!I148,'MDA3'!L148,V148,AD148)","v":30640},{"$f":"MAX('MDA1'!L148,'MDA2'!L148,'MDA3'!J148,'MDA3'!M148,AF148)","v":0},30640,20.540719056300301]
[{"$f":"IF(COUNTRY_INFO!A149=0,\" \",COUNTRY_INFO!A149)","v":"Tanzania"},{"$f":"IF(COUNTRY_INFO!B149=0,\" \",COUNTRY_INFO!B149)","v":"Ruvuma"},{"$f":"IF(COUNTRY_INFO!C149=0,\" \",COUNTRY_INFO!C149)","v":"Songea Municipal Council"},{"$f":"COUNTRY_INFO!L149","v":"Stopped"},null,null,{"$f":"MAX('MDA1'!M149,'MDA2'!M149)","v":0},{"$f":"IF(AND(COUNTRY_INFO!H149>0,COUNTRY_INFO!H149<4),IF(D149>MAX('MDA1'!M149,'MDA2'!M149),MAX('MDA1'!M149,'MDA2'!M149),D149),0)","v":0},{"$f":"IF(AND(COUNTRY_INFO!H149>0,COUNTRY_INFO!H149<4), IF(G149/D149*100<>0, IF(G149/D149*100>100,100,G149/D149*100), \"-\"),0)","v":0},{"$f":"COUNTRY_INFO!M149","v":240601.13334459477},null,null,{"$f":"MAX('MDA1'!M149,MAX('MDA3'!I149,'MDA3'!L149)+MAX('MDA3'!J149,'MDA3'!M149))","v":0},{"$f":"IF(AND(COUNTRY_INFO!I149>0,COUNTRY_INFO!I149<4),IF(J149>MAX('MDA1'!M149,MAX('MDA3'!I149,'MDA3'!L149)+MAX('MDA3'!J149,'MDA3'!M149)),MAX('MDA1'!M149,MAX('MDA3'!I149,'MDA3'!L149)+MAX('MDA3'!J149,'MDA3'!M149)),J149),0)","v":0},{"$f":"IF(AND(COUNTRY_INFO!I149>0,COUNTRY_INFO!I149<4), IF(M149/J149*100<>0, IF(M149/J149*100>100,100,M149/J149*100), \"-\"),0)","v":"-"},{"$f":"COUNTRY_INFO!N149","v":87375},null,null,{"$f":"SUM(MAX('MDA2'!J149, 'T1'!L149, MAX(T3_R1!K149, T3_R2!K149)), MAX('MDA1'!K149, 'MDA2'!K149, 'T1'!M149, MAX(T3_R1!L149, T3_R2!L149)), MAX('MDA1'!L149, 'MDA2'!L149, 'T1'!N149, MAX(T3_R1!M149, T3_R2!M149)))","v":51267},{"$f":"IF(AND(COUNTRY_INFO!J149>1,COUNTRY_INFO!J149<4),IF(COUNTRY_INFO!E149>MAX('MDA2'!J149,'T1'!L149,MAX(T3_R1!K149,T3_R2!K149)),MAX('MDA2'!J149,'T1'!L149,MAX(T3_R1!K149,T3_R2!K149)),COUNTRY_INFO!E149),0)","v":0},{"$f":"IF(AND(COUNTRY_INFO!J149>1,COUNTRY_INFO!J149<4), IF(T149/COUNTRY_INFO!E149*100<>0, IF(T149/COUNTRY_INFO!E149*100>100,100,T149/COUNTRY_INFO!E149*100), \"-\"),0)","v":"-"},{"$f":"IF(AND(COUNTRY_INFO!J149>1,COUNTRY_INFO!J149<4),IF(COUNTRY_INFO!F149>MAX('MDA1'!K149,'MDA2'!K149,'T1'!M149,MAX(T3_R1!L149,T3_R2!L149)),MAX('MDA1'!K149,'MDA2'!K149,'T1'!M149,MAX(T3_R1!L149,T3_R2!L149)),COUNTRY_INFO!F149),0)","v":51267},{"$f":"IF(AND(COUNTRY_INFO!J149>1,COUNTRY_INFO!J149<4), IF(V149/COUNTRY_INFO!F149*100<>0, IF(V149/COUNTRY_INFO!F149*100>100,100,V149/COUNTRY_INFO!F149*100), \"-\"),0)","v":91.000585760690129},51267,{"$f":"IF(AND(COUNTRY_INFO!J149>1,COUNTRY_INFO!J149<4), IF(S149/P149*100<>0, IF(X149/P149*100>100,100,X149/P149*100), \"-\"),0)","v":58.674678111587987},{"$f":"COUNTRY_INFO!O149","v":58813.726668918956},null,null,{"$f":"MAX('T1'!L149,'T2'!J149)+MAX('T1'!M149,'T2'!K149)+MAX('T1'!N149,'T2'!L149)","v":51267},{"$f":"IF(COUNTRY_INFO!K149=1,IF(COUNTRY_INFO!F149*0.33>MAX('T1'!M149,'T2'!K149),MAX('T1'!M149,'T2'!K149),COUNTRY_INFO!F149*0.33),IF(COUNTRY_INFO!K149=2,IF(COUNTRY_INFO!F149*0.5>MAX('T1'!M149,'T2'!K149),MAX('T1'!M149,'T2'!K149),COUNTRY_INFO!F149*0.5),IF(COUNTRY_INFO!K149=3,IF(COUNTRY_INFO!F149>MAX('T1'!M149,'T2'!K149),MAX('T1'!M149,'T2'!K149),COUNTRY_INFO!F149),0)))","v":28168.5},{"$f":"IF(AND(COUNTRY_INFO!K149>0,COUNTRY_INFO!K149<4),IF(Z149>0,IF(COUNTRY_INFO!K149=1, AD149/(COUNTRY_INFO!F149*0.33)*100, IF(COUNTRY_INFO!K149=2, AD149/(COUNTRY_INFO!F149*0.5)*100, IF(COUNTRY_INFO!K149=3, AD149/COUNTRY_INFO!F149*100))),\"-\"),0)","v":100},{"$f":"IF(COUNTRY_INFO!K149=2,IF(COUNTRY_INFO!G149*0.2>MAX('T1'!N149,'T2'!L149),MAX('T1'!N149,'T2'!L149),COUNTRY_INFO!G149*0.2),IF(COUNTRY_INFO!K149=3,IF(COUNTRY_INFO!G149>MAX('T1'!N149,'T2'!L149),MAX('T1'!N149,'T2'!L149),COUNTRY_INFO!G149),0))","v":0},{"$f":"IF(AND(COUNTRY_INFO!K149>0,COUNTRY_INFO!K149<4),IF(Z149>0,IF(COUNTRY_INFO!K149=1, 0, IF(COUNTRY_INFO!K149=2, AF149/(COUNTRY_INFO!G149*0.2)*100, IF(COUNTRY_INFO!K149=3, AF149/COUNTRY_INFO!G149*100))),\"-\"),0)","v":0},28168.5,{"$f":"IF(AND(COUNTRY_INFO!K149>0,COUNTRY_INFO!K149<4), IF(AC149/Z149*100<>0, IF(AH149/Z149*100>100,100,AH149/Z149*100), \"-\"),0)","v":47.894431445518464},null,{"$f":"IF(AND(D149<>0, D149<>\"Unknown\",D149<>\"Stopped\",D149<>\"Not required\"),D149/COUNTRY_INFO!D149, 0)","v":0},{"$f":"IF(AND(J149<>0,J149<>\"Unknown\",J149<>\"Stopped\",J149<>\"Not required\"),J149/COUNTRY_INFO!D149, 0)","v":1},{"$f":"IF(AND(P149<>0,P149<>\"Unknown\",P149<>\"Not required\"),P149/(COUNTRY_INFO!E149+COUNTRY_INFO!F149), 0)","v":1},{"$f":"IF(AND(Z149<>0,Z149<>\"Unknown\",Z149<>\"Not required\"),IF(COUNTRY_INFO!K149=1,1,IF(COUNTRY_INFO!K149=2,0.5*COUNTRY_INFO!F149/(0.5*COUNTRY_INFO!F149+0.2*COUNTRY_INFO!G149),IF(COUNTRY_INFO!K149=3,COUNTRY_INFO!F149/(COUNTRY_INFO!F149+COUNTRY_INFO!G149)))),0)","v":0.47894431445518465},{"$f":"IF(AND(Z149<>0,Z149<>\"Unknown\",Z149<>\"Not required\"),IF(COUNTRY_INFO!K149=1,0,IF(COUNTRY_INFO!K149=2,0.2*COUNTRY_INFO!G149/(0.5*COUNTRY_INFO!F149+0.2*COUNTRY_INFO!G149),IF(COUNTRY_INFO!K149=3,COUNTRY_INFO!G149/(COUNTRY_INFO!F149+COUNTRY_INFO!G149)))),0)","v":0.52105568554481541},{"$f":"MAX(COUNTRY_INFO!D149*AK149*PROFILE!$G$7,COUNTRY_INFO!D149*AL149*PROFILE!$G$7)","v":4.4118933516724308E-3},{"$f":"MAX(COUNTRY_INFO!D149*AK149*PROFILE!$G$8,COUNTRY_INFO!D149*AL149*PROFILE!$G$8,COUNTRY_INFO!D149*AM149*PROFILE!$G$8)","v":31037.546658497191},{"$f":"MAX(COUNTRY_INFO!D149*AK149*PROFILE!$G$9,COUNTRY_INFO!D149*AL149*PROFILE!$G$9,COUNTRY_INFO!D149*AM149*PROFILE!$G$9,IF(AND(DISTRICT!Z149<>\"Unknown\",Z149<>\"Not required\"),COUNTRY_INFO!O149*DISTRICT!AN149,0))","v":54087.607350796323},{"$f":"MAX(COUNTRY_INFO!D149*AK149*PROFILE!$G$10,COUNTRY_INFO!D149*AL149*PROFILE!$G$10,IF(AND(DISTRICT!Z149<>\"Unknown\",Z149<>\"Not required\"),COUNTRY_INFO!O149*DISTRICT!AO149,0))","v":155475.97492340789},240601.13334459474,0,{"$f":"MAX('MDA2'!J149,'T1'!L149,'T2'!J149,T3_R1!K149,T3_R2!K149)","v":0},{"$f":"MAX('MDA1'!K149,'MDA2'!K149,'MDA3'!I149,'MDA3'!L149,'T1'!M149,'T2'!K149,T3_R1!L149,T3_R2!L149)","v":51267},{"$f":"MAX('MDA1'!L149,'MDA2'!L149,'MDA3'!J149,'MDA3'!M149,'T1'!N149,'T2'!L149,T3_R1!M149,T3_R2!M149)","v":0},51267,{"$f":"MAX('MDA2'!J149,T149)","v":0},{"$f":"MAX('MDA1'!K149,'MDA2'!K149,'MDA3'!I149,'MDA3'!L149,V149,AD149)","v":51267},{"$f":"MAX('MDA1'!L149,'MDA2'!L149,'MDA3'!J149,'MDA3'!M149,AF149)","v":0},51267,21.307879679259102]
[{"$f":"IF(COUNTRY_INFO!A150=0,\" \",COUNTRY_INFO!A150)","v":"Tanzania"},{"$f":"IF(COUNTRY_INFO!B150=0,\" \",COUNTRY_INFO!B150)","v":"Ruvuma"},{"$f":"IF(COUNTRY_INFO!C150=0,\" \",COUNTRY_INFO!C150)","v":"Tunduru District Council"},{"$f":"COUNTRY_INFO!L150","v":"Stopped"},null,null,{"$f":"MAX('MDA1'!M150,'MDA2'!M150)","v":0},{"$f":"IF(AND(COUNTRY_INFO!H150>0,COUNTRY_INFO!H150<4),IF(D150>MAX('MDA1'!M150,'MDA2'!M150),MAX('MDA1'!M150,'MDA2'!M150),D150),0)","v":0},{"$f":"IF(AND(COUNTRY_INFO!H150>0,COUNTRY_INFO!H150<4), IF(G150/D150*100<>0, IF(G150/D150*100>100,100,G150/D150*100), \"-\"),0)","v":0},{"$f":"COUNTRY_INFO!M150","v":352990.21378464554},null,null,{"$f":"MAX('MDA1'!M150,MAX('MDA3'!I150,'MDA3'!L150)+MAX('MDA3'!J150,'MDA3'!M150))","v":0},{"$f":"IF(AND(COUNTRY_INFO!I150>0,COUNTRY_INFO!I150<4),IF(J150>MAX('MDA1'!M150,MAX('MDA3'!I150,'MDA3'!L150)+MAX('MDA3'!J150,'MDA3'!M150)),MAX('MDA1'!M150,MAX('MDA3'!I150,'MDA3'!L150)+MAX('MDA3'!J150,'MDA3'!M150)),J150),0)","v":0},{"$f":"IF(AND(COUNTRY_INFO!I150>0,COUNTRY_INFO!I150<4), IF(M150/J150*100<>0, IF(M150/J150*100>100,100,M150/J150*100), \"-\"),0)","v":"-"},{"$f":"COUNTRY_INFO!N150","v":116573},null,null,{"$f":"SUM(MAX('MDA2'!J150, 'T1'!L150, MAX(T3_R1!K150, T3_R2!K150)), MAX('MDA1'!K150, 'MDA2'!K150, 'T1'!M150, MAX(T3_R1!L150, T3_R2!L150)), MAX('MDA1'!L150, 'MDA2'!L150, 'T1'!N150, MAX(T3_R1!M150, T3_R2!M150)))","v":69465},{"$f":"IF(AND(COUNTRY_INFO!J150>1,COUNTRY_INFO!J150<4),IF(COUNTRY_INFO!E150>MAX('MDA2'!J150,'T1'!L150,MAX(T3_R1!K150,T3_R2!K150)),MAX('MDA2'!J150,'T1'!L150,MAX(T3_R1!K150,T3_R2!K150)),COUNTRY_INFO!E150),0)","v":0},{"$f":"IF(AND(COUNTRY_INFO!J150>1,COUNTRY_INFO!J150<4), IF(T150/COUNTRY_INFO!E150*100<>0, IF(T150/COUNTRY_INFO!E150*100>100,100,T150/COUNTRY_INFO!E150*100), \"-\"),0)","v":"-"},{"$f":"IF(AND(COUNTRY_INFO!J150>1,COUNTRY_INFO!J150<4),IF(COUNTRY_INFO!F150>MAX('MDA1'!K150,'MDA2'!K150,'T1'!M150,MAX(T3_R1!L150,T3_R2!L150)),MAX('MDA1'!K150,'MDA2'!K150,'T1'!M150,MAX(T3_R1!L150,T3_R2!L150)),COUNTRY_INFO!F150),0)","v":69465},{"$f":"IF(AND(COUNTRY_INFO!J150>1,COUNTRY_INFO!J150<4), IF(V150/COUNTRY_INFO!F150*100<>0, IF(V150/COUNTRY_INFO!F150*100>100,100,V150/COUNTRY_INFO!F150*100), \"-\"),0)","v":97.787068710671903},69465,{"$f":"IF(AND(COUNTRY_INFO!J150>1,COUNTRY_INFO!J150<4), IF(S150/P150*100<>0, IF(X150/P150*100>100,100,X150/P150*100), \"-\"),0)","v":59.589270242680549},{"$f":"COUNTRY_INFO!O150","v":307454.21378464554},null,null,{"$f":"MAX('T1'!L150,'T2'!J150)+MAX('T1'!M150,'T2'!K150)+MAX('T1'!N150,'T2'!L150)","v":69465},{"$f":"IF(COUNTRY_INFO!K150=1,IF(COUNTRY_INFO!F150*0.33>MAX('T1'!M150,'T2'!K150),MAX('T1'!M150,'T2'!K150),COUNTRY_INFO!F150*0.33),IF(COUNTRY_INFO!K150=2,IF(COUNTRY_INFO!F150*0.5>MAX('T1'!M150,'T2'!K150),MAX('T1'!M150,'T2'!K150),COUNTRY_INFO!F150*0.5),IF(COUNTRY_INFO!K150=3,IF(COUNTRY_INFO!F150>MAX('T1'!M150,'T2'!K150),MAX('T1'!M150,'T2'!K150),COUNTRY_INFO!F150),0)))","v":69465},{"$f":"IF(AND(COUNTRY_INFO!K150>0,COUNTRY_INFO!K150<4),IF(Z150>0,IF(COUNTRY_INFO!K150=1, AD150/(COUNTRY_INFO!F150*0.33)*100, IF(COUNTRY_INFO!K150=2, AD150/(COUNTRY_INFO!F150*0.5)*100, IF(COUNTRY_INFO!K150=3, AD150/COUNTRY_INFO!F150*100))),\"-\"),0)","v":97.787068710671903},{"$f":"IF(COUNTRY_INFO!K150=2,IF(COUNTRY_INFO!G150*0.2>MAX('T1'!N150,'T2'!L150),MAX('T1'!N150,'T2'!L150),COUNTRY_INFO!G150*0.2),IF(COUNTRY_INFO!K150=3,IF(COUNTRY_INFO!G150>MAX('T1'!N150,'T2'!L150),MAX('T1'!N150,'T2'!L150),COUNTRY_INFO!G150),0))","v":0},{"$f":"IF(AND(COUNTRY_INFO!K150>0,COUNTRY_INFO!K150<4),IF(Z150>0,IF(COUNTRY_INFO!K150=1, 0, IF(COUNTRY_INFO!K150=2, AF150/(COUNTRY_INFO!G150*0.2)*100, IF(COUNTRY_INFO!K150=3, AF150/COUNTRY_INFO!G150*100))),\"-\"),0)","v":0},69465,{"$f":"IF(AND(COUNTRY_INFO!K150>0,COUNTRY_INFO!K150<4), IF(AC150/Z150*100<>0, IF(AH150/Z150*100>100,100,AH150/Z150*100), \"-\"),0)","v":22.593608051394718},null,{"$f":"IF(AND(D150<>0, D150<>\"Unknown\",D150<>\"Stopped\",D150<>\"Not required\"),D150/COUNTRY_INFO!D150, 0)","v":0},{"$f":"IF(AND(J150<>0,J150<>\"Unknown\",J150<>\"Stopped\",J150<>\"Not required\"),J150/COUNTRY_INFO!D150, 0)","v":1},{"$f":"IF(AND(P150<>0,P150<>\"Unknown\",P150<>\"Not required\"),P150/(COUNTRY_INFO!E150+COUNTRY_INFO!F150), 0)","v":1},{"$f":"IF(AND(Z150<>0,Z150<>\"Unknown\",Z150<>\"Not required\"),IF(COUNTRY_INFO!K150=1,1,IF(COUNTRY_INFO!K150=2,0.5*COUNTRY_INFO!F150/(0.5*COUNTRY_INFO!F150+0.2*COUNTRY_INFO!G150),IF(COUNTRY_INFO!K150=3,COUNTRY_INFO!F150/(COUNTRY_INFO!F150+COUNTRY_INFO!G150)))),0)","v":0.23104903694622134},{"$f":"IF(AND(Z150<>0,Z150<>\"Unknown\",Z150<>\"Not required\"),IF(COUNTRY_INFO!K150=1,0,IF(COUNTRY_INFO!K150=2,0.2*COUNTRY_INFO!G150/(0.5*COUNTRY_INFO!F150+0.2*COUNTRY_INFO!G150),IF(COUNTRY_INFO!K150=3,COUNTRY_INFO!G150/(COUNTRY_INFO!F150+COUNTRY_INFO!G150)))),0)","v":0.76895096305377864},{"$f":"MAX(COUNTRY_INFO!D150*AK150*PROFILE!$G$7,COUNTRY_INFO!D150*AL150*PROFILE!$G$7)","v":6.4727674211385615E-3},{"$f":"MAX(COUNTRY_INFO!D150*AK150*PROFILE!$G$8,COUNTRY_INFO!D150*AL150*PROFILE!$G$8,COUNTRY_INFO!D150*AM150*PROFILE!$G$8)","v":45535.738248757363},{"$f":"MAX(COUNTRY_INFO!D150*AK150*PROFILE!$G$9,COUNTRY_INFO!D150*AL150*PROFILE!$G$9,COUNTRY_INFO!D150*AM150*PROFILE!$G$9,IF(AND(DISTRICT!Z150<>\"Unknown\",Z150<>\"Not required\"),COUNTRY_INFO!O150*DISTRICT!AN150,0))","v":79352.893381898451},{"$f":"MAX(COUNTRY_INFO!D150*AK150*PROFILE!$G$10,COUNTRY_INFO!D150*AL150*PROFILE!$G$10,IF(AND(DISTRICT!Z150<>\"Unknown\",Z150<>\"Not required\"),COUNTRY_INFO!O150*DISTRICT!AO150,0))","v":236417.21378464554},361305.85188806878,0,{"$f":"MAX('MDA2'!J150,'T1'!L150,'T2'!J150,T3_R1!K150,T3_R2!K150)","v":0},{"$f":"MAX('MDA1'!K150,'MDA2'!K150,'MDA3'!I150,'MDA3'!L150,'T1'!M150,'T2'!K150,T3_R1!L150,T3_R2!L150)","v":69465},{"$f":"MAX('MDA1'!L150,'MDA2'!L150,'MDA3'!J150,'MDA3'!M150,'T1'!N150,'T2'!L150,T3_R1!M150,T3_R2!M150)","v":0},69465,{"$f":"MAX('MDA2'!J150,T150)","v":0},{"$f":"MAX('MDA1'!K150,'MDA2'!K150,'MDA3'!I150,'MDA3'!L150,V150,AD150)","v":69465},{"$f":"MAX('MDA1'!L150,'MDA2'!L150,'MDA3'!J150,'MDA3'!M150,AF150)","v":0},69465,19.226093249527551]
[{"$f":"IF(COUNTRY_INFO!A151=0,\" \",COUNTRY_INFO!A151)","v":"Tanzania"},{"$f":"IF(COUNTRY_INFO!B151=0,\" \",COUNTRY_INFO!B151)","v":"Shinyanga"},{"$f":"IF(COUNTRY_INFO!C151=0,\" \",COUNTRY_INFO!C151)","v":"Kahama Town Council"},{"$f":"COUNTRY_INFO!L151","v":0},null,null,{"$f":"MAX('MDA1'!M151,'MDA2'!M151)","v":0},{"$f":"IF(AND(COUNTRY_INFO!H151>0,COUNTRY_INFO!H151<4),IF(D151>MAX('MDA1'!M151,'MDA2'!M151),MAX('MDA1'!M151,'MDA2'!M151),D151),0)","v":0},{"$f":"IF(AND(COUNTRY_INFO!H151>0,COUNTRY_INFO!H151<4), IF(G151/D151*100<>0, IF(G151/D151*100>100,100,G151/D151*100), \"-\"),0)","v":0},{"$f":"COUNTRY_INFO!M151","v":0},null,null,{"$f":"MAX('MDA1'!M151,MAX('MDA3'!I151,'MDA3'!L151)+MAX('MDA3'!J151,'MDA3'!M151))","v":0},{"$f":"IF(AND(COUNTRY_INFO!I151>0,COUNTRY_INFO!I151<4),IF(J151>MAX('MDA1'!M151,MAX('MDA3'!I151,'MDA3'!L151)+MAX('MDA3'!J151,'MDA3'!M151)),MAX('MDA1'!M151,MAX('MDA3'!I151,'MDA3'!L151)+MAX('MDA3'!J151,'MDA3'!M151)),J151),0)","v":0},{"$f":"IF(AND(COUNTRY_INFO!I151>0,COUNTRY_INFO!I151<4), IF(M151/J151*100<>0, IF(M151/J151*100>100,100,M151/J151*100), \"-\"),0)","v":0},{"$f":"COUNTRY_INFO!N151","v":125768},null,null,{"$f":"SUM(MAX('MDA2'!J151, 'T1'!L151, MAX(T3_R1!K151, T3_R2!K151)), MAX('MDA1'!K151, 'MDA2'!K151, 'T1'!M151, MAX(T3_R1!L151, T3_R2!L151)), MAX('MDA1'!L151, 'MDA2'!L151, 'T1'!N151, MAX(T3_R1!M151, T3_R2!M151)))","v":0},{"$f":"IF(AND(COUNTRY_INFO!J151>1,COUNTRY_INFO!J151<4),IF(COUNTRY_INFO!E151>MAX('MDA2'!J151,'T1'!L151,MAX(T3_R1!K151,T3_R2!K151)),MAX('MDA2'!J151,'T1'!L151,MAX(T3_R1!K151,T3_R2!K151)),COUNTRY_INFO!E151),0)","v":0},{"$f":"IF(AND(COUNTRY_INFO!J151>1,COUNTRY_INFO!J151<4), IF(T151/COUNTRY_INFO!E151*100<>0, IF(T151/COUNTRY_INFO!E151*100>100,100,T151/COUNTRY_INFO!E151*100), \"-\"),0)","v":"-"},{"$f":"IF(AND(COUNTRY_INFO!J151>1,COUNTRY_INFO!J151<4),IF(COUNTRY_INFO!F151>MAX('MDA1'!K151,'MDA2'!K151,'T1'!M151,MAX(T3_R1!L151,T3_R2!L151)),MAX('MDA1'!K151,'MDA2'!K151,'T1'!M151,MAX(T3_R1!L151,T3_R2!L151)),COUNTRY_INFO!F151),0)","v":0},{"$f":"IF(AND(COUNTRY_INFO!J151>1,COUNTRY_INFO!J151<4), IF(V151/COUNTRY_INFO!F151*100<>0, IF(V151/COUNTRY_INFO!F151*100>100,100,V151/COUNTRY_INFO!F151*100), \"-\"),0)","v":"-"},0,{"$f":"IF(AND(COUNTRY_INFO!J151>1,COUNTRY_INFO!J151<4), IF(S151/P151*100<>0, IF(X151/P151*100>100,100,X151/P151*100), \"-\"),0)","v":"-"},{"$f":"COUNTRY_INFO!O151","v":76448.161039011175},null,null,{"$f":"MAX('T1'!L151,'T2'!J151)+MAX('T1'!M151,'T2'!K151)+MAX('T1'!N151,'T2'!L151)","v":0},{"$f":"IF(COUNTRY_INFO!K151=1,IF(COUNTRY_INFO!F151*0.33>MAX('T1'!M151,'T2'!K151),MAX('T1'!M151,'T2'!K151),COUNTRY_INFO!F151*0.33),IF(COUNTRY_INFO!K151=2,IF(COUNTRY_INFO!F151*0.5>MAX('T1'!M151,'T2'!K151),MAX('T1'!M151,'T2'!K151),COUNTRY_INFO!F151*0.5),IF(COUNTRY_INFO!K151=3,IF(COUNTRY_INFO!F151>MAX('T1'!M151,'T2'!K151),MAX('T1'!M151,'T2'!K151),COUNTRY_INFO!F151),0)))","v":0},{"$f":"IF(AND(COUNTRY_INFO!K151>0,COUNTRY_INFO!K151<4),IF(Z151>0,IF(COUNTRY_INFO!K151=1, AD151/(COUNTRY_INFO!F151*0.33)*100, IF(COUNTRY_INFO!K151=2, AD151/(COUNTRY_INFO!F151*0.5)*100, IF(COUNTRY_INFO!K151=3, AD151/COUNTRY_INFO!F151*100))),\"-\"),0)","v":0},{"$f":"IF(COUNTRY_INFO!K151=2,IF(COUNTRY_INFO!G151*0.2>MAX('T1'!N151,'T2'!L151),MAX('T1'!N151,'T2'!L151),COUNTRY_INFO!G151*0.2),IF(COUNTRY_INFO!K151=3,IF(COUNTRY_INFO!G151>MAX('T1'!N151,'T2'!L151),MAX('T1'!N151,'T2'!L151),COUNTRY_INFO!G151),0))","v":0},{"$f":"IF(AND(COUNTRY_INFO!K151>0,COUNTRY_INFO!K151<4),IF(Z151>0,IF(COUNTRY_INFO!K151=1, 0, IF(COUNTRY_INFO!K151=2, AF151/(COUNTRY_INFO!G151*0.2)*100, IF(COUNTRY_INFO!K151=3, AF151/COUNTRY_INFO!G151*100))),\"-\"),0)","v":0},0,{"$f":"IF(AND(COUNTRY_INFO!K151>0,COUNTRY_INFO!K151<4), IF(AC151/Z151*100<>0, IF(AH151/Z151*100>100,100,AH151/Z151*100), \"-\"),0)","v":"-"},null,{"$f":"IF(AND(D151<>0, D151<>\"Unknown\",D151<>\"Stopped\",D151<>\"Not required\"),D151/COUNTRY_INFO!D151, 0)","v":0},{"$f":"IF(AND(J151<>0,J151<>\"Unknown\",J151<>\"Stopped\",J151<>\"Not required\"),J151/COUNTRY_INFO!D151, 0)","v":0},{"$f":"IF(AND(P151<>0,P151<>\"Unknown\",P151<>\"Not required\"),P151/(COUNTRY_INFO!E151+COUNTRY_INFO!F151), 0)","v":1},{"$f":"IF(AND(Z151<>0,Z151<>\"Unknown\",Z151<>\"Not required\"),IF(COUNTRY_INFO!K151=1,1,IF(COUNTRY_INFO!K151=2,0.5*COUNTRY_INFO!F151/(0.5*COUNTRY_INFO!F151+0.2*COUNTRY_INFO!G151),IF(COUNTRY_INFO!K151=3,COUNTRY_INFO!F151/(COUNTRY_INFO!F151+COUNTRY_INFO!G151)))),0)","v":0.5814855373344503},{"$f":"IF(AND(Z151<>0,Z151<>\"Unknown\",Z151<>\"Not required\"),IF(COUNTRY_INFO!K151=1,0,IF(COUNTRY_INFO!K151=2,0.2*COUNTRY_INFO!G151/(0.5*COUNTRY_INFO!F151+0.2*COUNTRY_INFO!G151),IF(COUNTRY_INFO!K151=3,COUNTRY_INFO!G151/(COUNTRY_INFO!F151+COUNTRY_INFO!G151)))),0)","v":0.41851446266554981},{"$f":"MAX(COUNTRY_INFO!D151*AK151*PROFILE!$G$7,COUNTRY_INFO!D151*AL151*PROFILE!$G$7)","v":0},{"$f":"MAX(COUNTRY_INFO!D151*AK151*PROFILE!$G$8,COUNTRY_INFO!D151*AL151*PROFILE!$G$8,COUNTRY_INFO!D151*AM151*PROFILE!$G$8)","v":36860.628912954679},{"$f":"MAX(COUNTRY_INFO!D151*AK151*PROFILE!$G$9,COUNTRY_INFO!D151*AL151*PROFILE!$G$9,COUNTRY_INFO!D151*AM151*PROFILE!$G$9,IF(AND(DISTRICT!Z151<>\"Unknown\",Z151<>\"Not required\"),COUNTRY_INFO!O151*DISTRICT!AN151,0))","v":64235.206644513702},{"$f":"MAX(COUNTRY_INFO!D151*AK151*PROFILE!$G$10,COUNTRY_INFO!D151*AL151*PROFILE!$G$10,IF(AND(DISTRICT!Z151<>\"Unknown\",Z151<>\"Not required\"),COUNTRY_INFO!O151*DISTRICT!AO151,0))","v":31994.661039011182},133090.49659647956,0,{"$f":"MAX('MDA2'!J151,'T1'!L151,'T2'!J151,T3_R1!K151,T3_R2!K151)","v":0},{"$f":"MAX('MDA1'!K151,'MDA2'!K151,'MDA3'!I151,'MDA3'!L151,'T1'!M151,'T2'!K151,T3_R1!L151,T3_R2!L151)","v":0},{"$f":"MAX('MDA1'!L151,'MDA2'!L151,'MDA3'!J151,'MDA3'!M151,'T1'!N151,'T2'!L151,T3_R1!M151,T3_R2!M151)","v":0},0,{"$f":"MAX('MDA2'!J151,T151)","v":0},{"$f":"MAX('MDA1'!K151,'MDA2'!K151,'MDA3'!I151,'MDA3'!L151,V151,AD151)","v":0},{"$f":"MAX('MDA1'!L151,'MDA2'!L151,'MDA3'!J151,'MDA3'!M151,AF151)","v":0},0,0]
[{"$f":"IF(COUNTRY_INFO!A152=0,\" \",COUNTRY_INFO!A152)","v":"Tanzania"},{"$f":"IF(COUNTRY_INFO!B152=0,\" \",COUNTRY_INFO!B152)","v":"Shinyanga"},{"$f":"IF(COUNTRY_INFO!C152=0,\" \",COUNTRY_INFO!C152)","v":"Kishapu District Council"},{"$f":"COUNTRY_INFO!L152","v":0},null,null,{"$f":"MAX('MDA1'!M152,'MDA2'!M152)","v":0},{"$f":"IF(AND(COUNTRY_INFO!H152>0,COUNTRY_INFO!H152<4),IF(D152>MAX('MDA1'!M152,'MDA2'!M152),MAX('MDA1'!M152,'MDA2'!M152),D152),0)","v":0},{"$f":"IF(AND(COUNTRY_INFO!H152>0,COUNTRY_INFO!H152<4), IF(G152/D152*100<>0, IF(G152/D152*100>100,100,G152/D152*100), \"-\"),0)","v":0},{"$f":"COUNTRY_INFO!M152","v":0},null,null,{"$f":"MAX('MDA1'!M152,MAX('MDA3'!I152,'MDA3'!L152)+MAX('MDA3'!J152,'MDA3'!M152))","v":0},{"$f":"IF(AND(COUNTRY_INFO!I152>0,COUNTRY_INFO!I152<4),IF(J152>MAX('MDA1'!M152,MAX('MDA3'!I152,'MDA3'!L152)+MAX('MDA3'!J152,'MDA3'!M152)),MAX('MDA1'!M152,MAX('MDA3'!I152,'MDA3'!L152)+MAX('MDA3'!J152,'MDA3'!M152)),J152),0)","v":0},{"$f":"IF(AND(COUNTRY_INFO!I152>0,COUNTRY_INFO!I152<4), IF(M152/J152*100<>0, IF(M152/J152*100>100,100,M152/J152*100), \"-\"),0)","v":0},{"$f":"COUNTRY_INFO!N152","v":131396},null,null,{"$f":"SUM(MAX('MDA2'!J152, 'T1'!L152, MAX(T3_R1!K152, T3_R2!K152)), MAX('MDA1'!K152, 'MDA2'!K152, 'T1'!M152, MAX(T3_R1!L152, T3_R2!L152)), MAX('MDA1'!L152, 'MDA2'!L152, 'T1'!N152, MAX(T3_R1!M152, T3_R2!M152)))","v":0},{"$f":"IF(AND(COUNTRY_INFO!J152>1,COUNTRY_INFO!J152<4),IF(COUNTRY_INFO!E152>MAX('MDA2'!J152,'T1'!L152,MAX(T3_R1!K152,T3_R2!K152)),MAX('MDA2'!J152,'T1'!L152,MAX(T3_R1!K152,T3_R2!K152)),COUNTRY_INFO!E152),0)","v":0},{"$f":"IF(AND(COUNTRY_INFO!J152>1,COUNTRY_INFO!J152<4), IF(T152/COUNTRY_INFO!E152*100<>0, IF(T152/COUNTRY_INFO!E152*100>100,100,T152/COUNTRY_INFO!E152*100), \"-\"),0)","v":"-"},{"$f":"IF(AND(COUNTRY_INFO!J152>1,COUNTRY_INFO!J152<4),IF(COUNTRY_INFO!F152>MAX('MDA1'!K152,'MDA2'!K152,'T1'!M152,MAX(T3_R1!L152,T3_R2!L152)),MAX('MDA1'!K152,'MDA2'!K152,'T1'!M152,MAX(T3_R1!L152,T3_R2!L152)),COUNTRY_INFO!F152),0)","v":0},{"$f":"IF(AND(COUNTRY_INFO!J152>1,COUNTRY_INFO!J152<4), IF(V152/COUNTRY_INFO!F152*100<>0, IF(V152/COUNTRY_INFO!F152*100>100,100,V152/COUNTRY_INFO!F152*100), \"-\"),0)","v":"-"},0,{"$f":"IF(AND(COUNTRY_INFO!J152>1,COUNTRY_INFO!J152<4), IF(S152/P152*100<>0, IF(X152/P152*100>100,100,X152/P152*100), \"-\"),0)","v":"-"},{"$f":"COUNTRY_INFO!O152","v":83057.298412958509},null,null,{"$f":"MAX('T1'!L152,'T2'!J152)+MAX('T1'!M152,'T2'!K152)+MAX('T1'!N152,'T2'!L152)","v":0},{"$f":"IF(COUNTRY_INFO!K152=1,IF(COUNTRY_INFO!F152*0.33>MAX('T1'!M152,'T2'!K152),MAX('T1'!M152,'T2'!K152),COUNTRY_INFO!F152*0.33),IF(COUNTRY_INFO!K152=2,IF(COUNTRY_INFO!F152*0.5>MAX('T1'!M152,'T2'!K152),MAX('T1'!M152,'T2'!K152),COUNTRY_INFO!F152*0.5),IF(COUNTRY_INFO!K152=3,IF(COUNTRY_INFO!F152>MAX('T1'!M152,'T2'!K152),MAX('T1'!M152,'T2'!K152),COUNTRY_INFO!F152),0)))","v":0},{"$f":"IF(AND(COUNTRY_INFO!K152>0,COUNTRY_INFO!K152<4),IF(Z152>0,IF(COUNTRY_INFO!K152=1, AD152/(COUNTRY_INFO!F152*0.33)*100, IF(COUNTRY_INFO!K152=2, AD152/(COUNTRY_INFO!F152*0.5)*100, IF(COUNTRY_INFO!K152=3, AD152/COUNTRY_INFO!F152*100))),\"-\"),0)","v":0},{"$f":"IF(COUNTRY_INFO!K152=2,IF(COUNTRY_INFO!G152*0.2>MAX('T1'!N152,'T2'!L152),MAX('T1'!N152,'T2'!L152),COUNTRY_INFO!G152*0.2),IF(COUNTRY_INFO!K152=3,IF(COUNTRY_INFO!G152>MAX('T1'!N152,'T2'!L152),MAX('T1'!N152,'T2'!L152),COUNTRY_INFO!G152),0))","v":0},{"$f":"IF(AND(COUNTRY_INFO!K152>0,COUNTRY_INFO!K152<4),IF(Z152>0,IF(COUNTRY_INFO!K152=1, 0, IF(COUNTRY_INFO!K152=2, AF152/(COUNTRY_INFO!G152*0.2)*100, IF(COUNTRY_INFO!K152=3, AF152/COUNTRY_INFO!G152*100))),\"-\"),0)","v":0},0,{"$f":"IF(AND(COUNTRY_INFO!K152>0,COUNTRY_INFO!K152<4), IF(AC152/Z152*100<>0, IF(AH152/Z152*100>100,100,AH152/Z152*100), \"-\"),0)","v":"-"},null,{"$f":"IF(AND(D152<>0, D152<>\"Unknown\",D152<>\"Stopped\",D152<>\"Not required\"),D152/COUNTRY_INFO!D152, 0)","v":0},{"$f":"IF(AND(J152<>0,J152<>\"Unknown\",J152<>\"Stopped\",J152<>\"Not required\"),J152/COUNTRY_INFO!D152, 0)","v":0},{"$f":"IF(AND(P152<>0,P152<>\"Unknown\",P152<>\"Not required\"),P152/(COUNTRY_INFO!E152+COUNTRY_INFO!F152), 0)","v":1},{"$f":"IF(AND(Z152<>0,Z152<>\"Unknown\",Z152<>\"Not required\"),IF(COUNTRY_INFO!K152=1,1,IF(COUNTRY_INFO!K152=2,0.5*COUNTRY_INFO!F152/(0.5*COUNTRY_INFO!F152+0.2*COUNTRY_INFO!G152),IF(COUNTRY_INFO!K152=3,COUNTRY_INFO!F152/(COUNTRY_INFO!F152+COUNTRY_INFO!G152)))),0)","v":0.54089767977561343},{"$f":"IF(AND(Z152<>0,Z152<>\"Unknown\",Z152<>\"Not required\"),IF(COUNTRY_INFO!K152=1,0,IF(COUNTRY_INFO!K152=2,0.2*COUNTRY_INFO!G152/(0.5*COUNTRY_INFO!F152+0.2*COUNTRY_INFO!G152),IF(COUNTRY_INFO!K152=3,COUNTRY_INFO!G152/(COUNTRY_INFO!F152+COUNTRY_INFO!G152)))),0)","v":0.45910232022438652},{"$f":"MAX(COUNTRY_INFO!D152*AK152*PROFILE!$G$7,COUNTRY_INFO!D152*AL152*PROFILE!$G$7)","v":0},{"$f":"MAX(COUNTRY_INFO!D152*AK152*PROFILE!$G$8,COUNTRY_INFO!D152*AL152*PROFILE!$G$8,COUNTRY_INFO!D152*AM152*PROFILE!$G$8)","v":41545.094588131964},{"$f":"MAX(COUNTRY_INFO!D152*AK152*PROFILE!$G$9,COUNTRY_INFO!D152*AL152*PROFILE!$G$9,COUNTRY_INFO!D152*AM152*PROFILE!$G$9,IF(AND(DISTRICT!Z152<>\"Unknown\",Z152<>\"Not required\"),COUNTRY_INFO!O152*DISTRICT!AN152,0))","v":72398.594778089217},{"$f":"MAX(COUNTRY_INFO!D152*AK152*PROFILE!$G$10,COUNTRY_INFO!D152*AL152*PROFILE!$G$10,IF(AND(DISTRICT!Z152<>\"Unknown\",Z152<>\"Not required\"),COUNTRY_INFO!O152*DISTRICT!AO152,0))","v":38131.798412958509},152075.4877791797,0,{"$f":"MAX('MDA2'!J152,'T1'!L152,'T2'!J152,T3_R1!K152,T3_R2!K152)","v":0},{"$f":"MAX('MDA1'!K152,'MDA2'!K152,'MDA3'!I152,'MDA3'!L152,'T1'!M152,'T2'!K152,T3_R1!L152,T3_R2!L152)","v":0},{"$f":"MAX('MDA1'!L152,'MDA2'!L152,'MDA3'!J152,'MDA3'!M152,'T1'!N152,'T2'!L152,T3_R1!M152,T3_R2!M152)","v":0},0,{"$f":"MAX('MDA2'!J152,T152)","v":0},{"$f":"MAX('MDA1'!K152,'MDA2'!K152,'MDA3'!I152,'MDA3'!L152,V152,AD152)","v":0},{"$f":"MAX('MDA1'!L152,'MDA2'!L152,'MDA3'!J152,'MDA3'!M152,AF152)","v":0},0,0]
[{"$f":"IF(COUNTRY_INFO!A153=0,\" \",COUNTRY_INFO!A153)","v":"Tanzania"},{"$f":"IF(COUNTRY_INFO!B153=0,\" \",COUNTRY_INFO!B153)","v":"Shinyanga"},{"$f":"IF(COUNTRY_INFO!C153=0,\" \",COUNTRY_INFO!C153)","v":"Msalala District Council"},{"$f":"COUNTRY_INFO!L153","v":0},null,null,{"$f":"MAX('MDA1'!M153,'MDA2'!M153)","v":0},{"$f":"IF(AND(COUNTRY_INFO!H153>0,COUNTRY_INFO!H153<4),IF(D153>MAX('MDA1'!M153,'MDA2'!M153),MAX('MDA1'!M153,'MDA2'!M153),D153),0)","v":0},{"$f":"IF(AND(COUNTRY_INFO!H153>0,COUNTRY_INFO!H153<4), IF(G153/D153*100<>0, IF(G153/D153*100>100,100,G153/D153*100), \"-\"),0)","v":0},{"$f":"COUNTRY_INFO!M153","v":0},null,null,{"$f":"MAX('MDA1'!M153,MAX('MDA3'!I153,'MDA3'!L153)+MAX('MDA3'!J153,'MDA3'!M153))","v":0},{"$f":"IF(AND(COUNTRY_INFO!I153>0,COUNTRY_INFO!I153<4),IF(J153>MAX('MDA1'!M153,MAX('MDA3'!I153,'MDA3'!L153)+MAX('MDA3'!J153,'MDA3'!M153)),MAX('MDA1'!M153,MAX('MDA3'!I153,'MDA3'!L153)+MAX('MDA3'!J153,'MDA3'!M153)),J153),0)","v":0},{"$f":"IF(AND(COUNTRY_INFO!I153>0,COUNTRY_INFO!I153<4), IF(M153/J153*100<>0, IF(M153/J153*100>100,100,M153/J153*100), \"-\"),0)","v":0},{"$f":"COUNTRY_INFO!N153","v":105675},null,null,{"$f":"SUM(MAX('MDA2'!J153, 'T1'!L153, MAX(T3_R1!K153, T3_R2!K153)), MAX('MDA1'!K153, 'MDA2'!K153, 'T1'!M153, MAX(T3_R1!L153, T3_R2!L153)), MAX('MDA1'!L153, 'MDA2'!L153, 'T1'!N153, MAX(T3_R1!M153, T3_R2!M153)))","v":0},{"$f":"IF(AND(COUNTRY_INFO!J153>1,COUNTRY_INFO!J153<4),IF(COUNTRY_INFO!E153>MAX('MDA2'!J153,'T1'!L153,MAX(T3_R1!K153,T3_R2!K153)),MAX('MDA2'!J153,'T1'!L153,MAX(T3_R1!K153,T3_R2!K153)),COUNTRY_INFO!E153),0)","v":0},{"$f":"IF(AND(COUNTRY_INFO!J153>1,COUNTRY_INFO!J153<4), IF(T153/COUNTRY_INFO!E153*100<>0, IF(T153/COUNTRY_INFO!E153*100>100,100,T153/COUNTRY_INFO!E153*100), \"-\"),0)","v":"-"},{"$f":"IF(AND(COUNTRY_INFO!J153>1,COUNTRY_INFO!J153<4),IF(COUNTRY_INFO!F153>MAX('MDA1'!K153,'MDA2'!K153,'T1'!M153,MAX(T3_R1!L153,T3_R2!L153)),MAX('MDA1'!K153,'MDA2'!K153,'T1'!M153,MAX(T3_R1!L153,T3_R2!L153)),COUNTRY_INFO!F153),0)","v":0},{"$f":"IF(AND(COUNTRY_INFO!J153>1,COUNTRY_INFO!J153<4), IF(V153/COUNTRY_INFO!F153*100<>0, IF(V153/COUNTRY_INFO!F153*100>100,100,V153/COUNTRY_INFO!F153*100), \"-\"),0)","v":"-"},0,{"$f":"IF(AND(COUNTRY_INFO!J153>1,COUNTRY_INFO!J153<4), IF(S153/P153*100<>0, IF(X153/P153*100>100,100,X153/P153*100), \"-\"),0)","v":"-"},{"$f":"COUNTRY_INFO!O153","v":71782.404311450257},null,null,{"$f":"MAX('T1'!L153,'T2'!J153)+MAX('T1'!M153,'T2'!K153)+MAX('T1'!N153,'T2'!L153)","v":0},{"$f":"IF(COUNTRY_INFO!K153=1,IF(COUNTRY_INFO!F153*0.33>MAX('T1'!M153,'T2'!K153),MAX('T1'!M153,'T2'!K153),COUNTRY_INFO!F153*0.33),IF(COUNTRY_INFO!K153=2,IF(COUNTRY_INFO!F153*0.5>MAX('T1'!M153,'T2'!K153),MAX('T1'!M153,'T2'!K153),COUNTRY_INFO!F153*0.5),IF(COUNTRY_INFO!K153=3,IF(COUNTRY_INFO!F153>MAX('T1'!M153,'T2'!K153),MAX('T1'!M153,'T2'!K153),COUNTRY_INFO!F153),0)))","v":0},{"$f":"IF(AND(COUNTRY_INFO!K153>0,COUNTRY_INFO!K153<4),IF(Z153>0,IF(COUNTRY_INFO!K153=1, AD153/(COUNTRY_INFO!F153*0.33)*100, IF(COUNTRY_INFO!K153=2, AD153/(COUNTRY_INFO!F153*0.5)*100, IF(COUNTRY_INFO!K153=3, AD153/COUNTRY_INFO!F153*100))),\"-\"),0)","v":0},{"$f":"IF(COUNTRY_INFO!K153=2,IF(COUNTRY_INFO!G153*0.2>MAX('T1'!N153,'T2'!L153),MAX('T1'!N153,'T2'!L153),COUNTRY_INFO!G153*0.2),IF(COUNTRY_INFO!K153=3,IF(COUNTRY_INFO!G153>MAX('T1'!N153,'T2'!L153),MAX('T1'!N153,'T2'!L153),COUNTRY_INFO!G153),0))","v":0},{"$f":"IF(AND(COUNTRY_INFO!K153>0,COUNTRY_INFO!K153<4),IF(Z153>0,IF(COUNTRY_INFO!K153=1, 0, IF(COUNTRY_INFO!K153=2, AF153/(COUNTRY_INFO!G153*0.2)*100, IF(COUNTRY_INFO!K153=3, AF153/COUNTRY_INFO!G153*100))),\"-\"),0)","v":0},0,{"$f":"IF(AND(COUNTRY_INFO!K153>0,COUNTRY_INFO!K153<4), IF(AC153/Z153*100<>0, IF(AH153/Z153*100>100,100,AH153/Z153*100), \"-\"),0)","v":"-"},null,{"$f":"IF(AND(D153<>0, D153<>\"Unknown\",D153<>\"Stopped\",D153<>\"Not required\"),D153/COUNTRY_INFO!D153, 0)","v":0},{"$f":"IF(AND(J153<>0,J153<>\"Unknown\",J153<>\"Stopped\",J153<>\"Not required\"),J153/COUNTRY_INFO!D153, 0)","v":0},{"$f":"IF(AND(P153<>0,P153<>\"Unknown\",P153<>\"Not required\"),P153/(COUNTRY_INFO!E153+COUNTRY_INFO!F153), 0)","v":1},{"$f":"IF(AND(Z153<>0,Z153<>\"Unknown\",Z153<>\"Not required\"),IF(COUNTRY_INFO!K153=1,1,IF(COUNTRY_INFO!K153=2,0.5*COUNTRY_INFO!F153/(0.5*COUNTRY_INFO!F153+0.2*COUNTRY_INFO!G153),IF(COUNTRY_INFO!K153=3,COUNTRY_INFO!F153/(COUNTRY_INFO!F153+COUNTRY_INFO!G153)))),0)","v":0.47029631180262638},{"$f":"IF(AND(Z153<>0,Z153<>\"Unknown\",Z153<>\"Not required\"),IF(COUNTRY_INFO!K153=1,0,IF(COUNTRY_INFO!K153=2,0.2*COUNTRY_INFO!G153/(0.5*COUNTRY_INFO!F153+0.2*COUNTRY_INFO!G153),IF(COUNTRY_INFO!K153=3,COUNTRY_INFO!G153/(COUNTRY_INFO!F153+COUNTRY_INFO!G153)))),0)","v":0.52970368819737368},{"$f":"MAX(COUNTRY_INFO!D153*AK153*PROFILE!$G$7,COUNTRY_INFO!D153*AL153*PROFILE!$G$7)","v":0},{"$f":"MAX(COUNTRY_INFO!D153*AK153*PROFILE!$G$8,COUNTRY_INFO!D153*AL153*PROFILE!$G$8,COUNTRY_INFO!D153*AM153*PROFILE!$G$8)","v":38157.171342770162},{"$f":"MAX(COUNTRY_INFO!D153*AK153*PROFILE!$G$9,COUNTRY_INFO!D153*AL153*PROFILE!$G$9,COUNTRY_INFO!D153*AM153*PROFILE!$G$9,IF(AND(DISTRICT!Z153<>\"Unknown\",Z153<>\"Not required\"),COUNTRY_INFO!O153*DISTRICT!AN153,0))","v":66494.627423775222},{"$f":"MAX(COUNTRY_INFO!D153*AK153*PROFILE!$G$10,COUNTRY_INFO!D153*AL153*PROFILE!$G$10,IF(AND(DISTRICT!Z153<>\"Unknown\",Z153<>\"Not required\"),COUNTRY_INFO!O153*DISTRICT!AO153,0))","v":38023.404311450257},142675.20307799563,0,{"$f":"MAX('MDA2'!J153,'T1'!L153,'T2'!J153,T3_R1!K153,T3_R2!K153)","v":0},{"$f":"MAX('MDA1'!K153,'MDA2'!K153,'MDA3'!I153,'MDA3'!L153,'T1'!M153,'T2'!K153,T3_R1!L153,T3_R2!L153)","v":0},{"$f":"MAX('MDA1'!L153,'MDA2'!L153,'MDA3'!J153,'MDA3'!M153,'T1'!N153,'T2'!L153,T3_R1!M153,T3_R2!M153)","v":0},0,{"$f":"MAX('MDA2'!J153,T153)","v":0},{"$f":"MAX('MDA1'!K153,'MDA2'!K153,'MDA3'!I153,'MDA3'!L153,V153,AD153)","v":0},{"$f":"MAX('MDA1'!L153,'MDA2'!L153,'MDA3'!J153,'MDA3'!M153,AF153)","v":0},0,0]
[{"$f":"IF(COUNTRY_INFO!A154=0,\" \",COUNTRY_INFO!A154)","v":"Tanzania"},{"$f":"IF(COUNTRY_INFO!B154=0,\" \",COUNTRY_INFO!B154)","v":"Shinyanga"},{"$f":"IF(COUNTRY_INFO!C154=0,\" \",COUNTRY_INFO!C154)","v":"Shinyanga District Council"},{"$f":"COUNTRY_INFO!L154","v":0},null,null,{"$f":"MAX('MDA1'!M154,'MDA2'!M154)","v":0},{"$f":"IF(AND(COUNTRY_INFO!H154>0,COUNTRY_INFO!H154<4),IF(D154>MAX('MDA1'!M154,'MDA2'!M154),MAX('MDA1'!M154,'MDA2'!M154),D154),0)","v":0},{"$f":"IF(AND(COUNTRY_INFO!H154>0,COUNTRY_INFO!H154<4), IF(G154/D154*100<>0, IF(G154/D154*100>100,100,G154/D154*100), \"-\"),0)","v":0},{"$f":"COUNTRY_INFO!M154","v":0},null,null,{"$f":"MAX('MDA1'!M154,MAX('MDA3'!I154,'MDA3'!L154)+MAX('MDA3'!J154,'MDA3'!M154))","v":0},{"$f":"IF(AND(COUNTRY_INFO!I154>0,COUNTRY_INFO!I154<4),IF(J154>MAX('MDA1'!M154,MAX('MDA3'!I154,'MDA3'!L154)+MAX('MDA3'!J154,'MDA3'!M154)),MAX('MDA1'!M154,MAX('MDA3'!I154,'MDA3'!L154)+MAX('MDA3'!J154,'MDA3'!M154)),J154),0)","v":0},{"$f":"IF(AND(COUNTRY_INFO!I154>0,COUNTRY_INFO!I154<4), IF(M154/J154*100<>0, IF(M154/J154*100>100,100,M154/J154*100), \"-\"),0)","v":0},{"$f":"COUNTRY_INFO!N154","v":142726},null,null,{"$f":"SUM(MAX('MDA2'!J154, 'T1'!L154, MAX(T3_R1!K154, T3_R2!K154)), MAX('MDA1'!K154, 'MDA2'!K154, 'T1'!M154, MAX(T3_R1!L154, T3_R2!L154)), MAX('MDA1'!L154, 'MDA2'!L154, 'T1'!N154, MAX(T3_R1!M154, T3_R2!M154)))","v":0},{"$f":"IF(AND(COUNTRY_INFO!J154>1,COUNTRY_INFO!J154<4),IF(COUNTRY_INFO!E154>MAX('MDA2'!J154,'T1'!L154,MAX(T3_R1!K154,T3_R2!K154)),MAX('MDA2'!J154,'T1'!L154,MAX(T3_R1!K154,T3_R2!K154)),COUNTRY_INFO!E154),0)","v":0},{"$f":"IF(AND(COUNTRY_INFO!J154>1,COUNTRY_INFO!J154<4), IF(T154/COUNTRY_INFO!E154*100<>0, IF(T154/COUNTRY_INFO!E154*100>100,100,T154/COUNTRY_INFO!E154*100), \"-\"),0)","v":"-"},{"$f":"IF(AND(COUNTRY_INFO!J154>1,COUNTRY_INFO!J154<4),IF(COUNTRY_INFO!F154>MAX('MDA1'!K154,'MDA2'!K154,'T1'!M154,MAX(T3_R1!L154,T3_R2!L154)),MAX('MDA1'!K154,'MDA2'!K154,'T1'!M154,MAX(T3_R1!L154,T3_R2!L154)),COUNTRY_INFO!F154),0)","v":0},{"$f":"IF(AND(COUNTRY_INFO!J154>1,COUNTRY_INFO!J154<4), IF(V154/COUNTRY_INFO!F154*100<>0, IF(V154/COUNTRY_INFO!F154*100>100,100,V154/COUNTRY_INFO!F154*100), \"-\"),0)","v":"-"},0,{"$f":"IF(AND(COUNTRY_INFO!J154>1,COUNTRY_INFO!J154<4), IF(S154/P154*100<>0, IF(X154/P154*100>100,100,X154/P154*100), \"-\"),0)","v":"-"},{"$f":"COUNTRY_INFO!O154","v":96275.510395613121},null,null,{"$f":"MAX('T1'!L154,'T2'!J154)+MAX('T1'!M154,'T2'!K154)+MAX('T1'!N154,'T2'!L154)","v":0},{"$f":"IF(COUNTRY_INFO!K154=1,IF(COUNTRY_INFO!F154*0.33>MAX('T1'!M154,'T2'!K154),MAX('T1'!M154,'T2'!K154),COUNTRY_INFO!F154*0.33),IF(COUNTRY_INFO!K154=2,IF(COUNTRY_INFO!F154*0.5>MAX('T1'!M154,'T2'!K154),MAX('T1'!M154,'T2'!K154),COUNTRY_INFO!F154*0.5),IF(COUNTRY_INFO!K154=3,IF(COUNTRY_INFO!F154>MAX('T1'!M154,'T2'!K154),MAX('T1'!M154,'T2'!K154),COUNTRY_INFO!F154),0)))","v":0},{"$f":"IF(AND(COUNTRY_INFO!K154>0,COUNTRY_INFO!K154<4),IF(Z154>0,IF(COUNTRY_INFO!K154=1, AD154/(COUNTRY_INFO!F154*0.33)*100, IF(COUNTRY_INFO!K154=2, AD154/(COUNTRY_INFO!F154*0.5)*100, IF(COUNTRY_INFO!K154=3, AD154/COUNTRY_INFO!F154*100))),\"-\"),0)","v":0},{"$f":"IF(COUNTRY_INFO!K154=2,IF(COUNTRY_INFO!G154*0.2>MAX('T1'!N154,'T2'!L154),MAX('T1'!N154,'T2'!L154),COUNTRY_INFO!G154*0.2),IF(COUNTRY_INFO!K154=3,IF(COUNTRY_INFO!G154>MAX('T1'!N154,'T2'!L154),MAX('T1'!N154,'T2'!L154),COUNTRY_INFO!G154),0))","v":0},{"$f":"IF(AND(COUNTRY_INFO!K154>0,COUNTRY_INFO!K154<4),IF(Z154>0,IF(COUNTRY_INFO!K154=1, 0, IF(COUNTRY_INFO!K154=2, AF154/(COUNTRY_INFO!G154*0.2)*100, IF(COUNTRY_INFO!K154=3, AF154/COUNTRY_INFO!G154*100))),\"-\"),0)","v":0},0,{"$f":"IF(AND(COUNTRY_INFO!K154>0,COUNTRY_INFO!K154<4), IF(AC154/Z154*100<>0, IF(AH154/Z154*100>100,100,AH154/Z154*100), \"-\"),0)","v":"-"},null,{"$f":"IF(AND(D154<>0, D154<>\"Unknown\",D154<>\"Stopped\",D154<>\"Not required\"),D154/COUNTRY_INFO!D154, 0)","v":0},{"$f":"IF(AND(J154<>0,J154<>\"Unknown\",J154<>\"Stopped\",J154<>\"Not required\"),J154/COUNTRY_INFO!D154, 0)","v":0},{"$f":"IF(AND(P154<>0,P154<>\"Unknown\",P154<>\"Not required\"),P154/(COUNTRY_INFO!E154+COUNTRY_INFO!F154), 0)","v":1},{"$f":"IF(AND(Z154<>0,Z154<>\"Unknown\",Z154<>\"Not required\"),IF(COUNTRY_INFO!K154=1,1,IF(COUNTRY_INFO!K154=2,0.5*COUNTRY_INFO!F154/(0.5*COUNTRY_INFO!F154+0.2*COUNTRY_INFO!G154),IF(COUNTRY_INFO!K154=3,COUNTRY_INFO!F154/(COUNTRY_INFO!F154+COUNTRY_INFO!G154)))),0)","v":0.47692294552709225},{"$f":"IF(AND(Z154<>0,Z154<>\"Unknown\",Z154<>\"Not required\"),IF(COUNTRY_INFO!K154=1,0,IF(COUNTRY_INFO!K154=2,0.2*COUNTRY_INFO!G154/(0.5*COUNTRY_INFO!F154+0.2*COUNTRY_INFO!G154),IF(COUNTRY_INFO!K154=3,COUNTRY_INFO!G154/(COUNTRY_INFO!F154+COUNTRY_INFO!G154)))),0)","v":0.52307705447290775},{"$f":"MAX(COUNTRY_INFO!D154*AK154*PROFILE!$G$7,COUNTRY_INFO!D154*AL154*PROFILE!$G$7)","v":0},{"$f":"MAX(COUNTRY_INFO!D154*AK154*PROFILE!$G$8,COUNTRY_INFO!D154*AL154*PROFILE!$G$8,COUNTRY_INFO!D154*AM154*PROFILE!$G$8)","v":50893.538954605028},{"$f":"MAX(COUNTRY_INFO!D154*AK154*PROFILE!$G$9,COUNTRY_INFO!D154*AL154*PROFILE!$G$9,COUNTRY_INFO!D154*AM154*PROFILE!$G$9,IF(AND(DISTRICT!Z154<>\"Unknown\",Z154<>\"Not required\"),COUNTRY_INFO!O154*DISTRICT!AN154,0))","v":88689.669385177418},{"$f":"MAX(COUNTRY_INFO!D154*AK154*PROFILE!$G$10,COUNTRY_INFO!D154*AL154*PROFILE!$G$10,IF(AND(DISTRICT!Z154<>\"Unknown\",Z154<>\"Not required\"),COUNTRY_INFO!O154*DISTRICT!AO154,0))","v":50359.510395613121},189942.71873539555,0,{"$f":"MAX('MDA2'!J154,'T1'!L154,'T2'!J154,T3_R1!K154,T3_R2!K154)","v":0},{"$f":"MAX('MDA1'!K154,'MDA2'!K154,'MDA3'!I154,'MDA3'!L154,'T1'!M154,'T2'!K154,T3_R1!L154,T3_R2!L154)","v":0},{"$f":"MAX('MDA1'!L154,'MDA2'!L154,'MDA3'!J154,'MDA3'!M154,'T1'!N154,'T2'!L154,T3_R1!M154,T3_R2!M154)","v":0},0,{"$f":"MAX('MDA2'!J154,T154)","v":0},{"$f":"MAX('MDA1'!K154,'MDA2'!K154,'MDA3'!I154,'MDA3'!L154,V154,AD154)","v":0},{"$f":"MAX('MDA1'!L154,'MDA2'!L154,'MDA3'!J154,'MDA3'!M154,AF154)","v":0},0,0]
[{"$f":"IF(COUNTRY_INFO!A155=0,\" \",COUNTRY_INFO!A155)","v":"Tanzania"},{"$f":"IF(COUNTRY_INFO!B155=0,\" \",COUNTRY_INFO!B155)","v":"Shinyanga"},{"$f":"IF(COUNTRY_INFO!C155=0,\" \",COUNTRY_INFO!C155)","v":"Shinyanga Municipal Council"},{"$f":"COUNTRY_INFO!L155","v":0},null,null,{"$f":"MAX('MDA1'!M155,'MDA2'!M155)","v":0},{"$f":"IF(AND(COUNTRY_INFO!H155>0,COUNTRY_INFO!H155<4),IF(D155>MAX('MDA1'!M155,'MDA2'!M155),MAX('MDA1'!M155,'MDA2'!M155),D155),0)","v":0},{"$f":"IF(AND(COUNTRY_INFO!H155>0,COUNTRY_INFO!H155<4), IF(G155/D155*100<>0, IF(G155/D155*100>100,100,G155/D155*100), \"-\"),0)","v":0},{"$f":"COUNTRY_INFO!M155","v":0},null,null,{"$f":"MAX('MDA1'!M155,MAX('MDA3'!I155,'MDA3'!L155)+MAX('MDA3'!J155,'MDA3'!M155))","v":0},{"$f":"IF(AND(COUNTRY_INFO!I155>0,COUNTRY_INFO!I155<4),IF(J155>MAX('MDA1'!M155,MAX('MDA3'!I155,'MDA3'!L155)+MAX('MDA3'!J155,'MDA3'!M155)),MAX('MDA1'!M155,MAX('MDA3'!I155,'MDA3'!L155)+MAX('MDA3'!J155,'MDA3'!M155)),J155),0)","v":0},{"$f":"IF(AND(COUNTRY_INFO!I155>0,COUNTRY_INFO!I155<4), IF(M155/J155*100<>0, IF(M155/J155*100>100,100,M155/J155*100), \"-\"),0)","v":0},{"$f":"COUNTRY_INFO!N155","v":67632},null,null,{"$f":"SUM(MAX('MDA2'!J155, 'T1'!L155, MAX(T3_R1!K155, T3_R2!K155)), MAX('MDA1'!K155, 'MDA2'!K155, 'T1'!M155, MAX(T3_R1!L155, T3_R2!L155)), MAX('MDA1'!L155, 'MDA2'!L155, 'T1'!N155, MAX(T3_R1!M155, T3_R2!M155)))","v":0},{"$f":"IF(AND(COUNTRY_INFO!J155>1,COUNTRY_INFO!J155<4),IF(COUNTRY_INFO!E155>MAX('MDA2'!J155,'T1'!L155,MAX(T3_R1!K155,T3_R2!K155)),MAX('MDA2'!J155,'T1'!L155,MAX(T3_R1!K155,T3_R2!K155)),COUNTRY_INFO!E155),0)","v":0},{"$f":"IF(AND(COUNTRY_INFO!J155>1,COUNTRY_INFO!J155<4), IF(T155/COUNTRY_INFO!E155*100<>0, IF(T155/COUNTRY_INFO!E155*100>100,100,T155/COUNTRY_INFO!E155*100), \"-\"),0)","v":"-"},{"$f":"IF(AND(COUNTRY_INFO!J155>1,COUNTRY_INFO!J155<4),IF(COUNTRY_INFO!F155>MAX('MDA1'!K155,'MDA2'!K155,'T1'!M155,MAX(T3_R1!L155,T3_R2!L155)),MAX('MDA1'!K155,'MDA2'!K155,'T1'!M155,MAX(T3_R1!L155,T3_R2!L155)),COUNTRY_INFO!F155),0)","v":0},{"$f":"IF(AND(COUNTRY_INFO!J155>1,COUNTRY_INFO!J155<4), IF(V155/COUNTRY_INFO!F155*100<>0, IF(V155/COUNTRY_INFO!F155*100>100,100,V155/COUNTRY_INFO!F155*100), \"-\"),0)","v":"-"},0,{"$f":"IF(AND(COUNTRY_INFO!J155>1,COUNTRY_INFO!J155<4), IF(S155/P155*100<>0, IF(X155/P155*100>100,100,X155/P155*100), \"-\"),0)","v":"-"},{"$f":"COUNTRY_INFO!O155","v":46088.521620291096},null,null,{"$f":"MAX('T1'!L155,'T2'!J155)+MAX('T1'!M155,'T2'!K155)+MAX('T1'!N155,'T2'!L155)","v":0},{"$f":"IF(COUNTRY_INFO!K155=1,IF(COUNTRY_INFO!F155*0.33>MAX('T1'!M155,'T2'!K155),MAX('T1'!M155,'T2'!K155),COUNTRY_INFO!F155*0.33),IF(COUNTRY_INFO!K155=2,IF(COUNTRY_INFO!F155*0.5>MAX('T1'!M155,'T2'!K155),MAX('T1'!M155,'T2'!K155),COUNTRY_INFO!F155*0.5),IF(COUNTRY_INFO!K155=3,IF(COUNTRY_INFO!F155>MAX('T1'!M155,'T2'!K155),MAX('T1'!M155,'T2'!K155),COUNTRY_INFO!F155),0)))","v":0},{"$f":"IF(AND(COUNTRY_INFO!K155>0,COUNTRY_INFO!K155<4),IF(Z155>0,IF(COUNTRY_INFO!K155=1, AD155/(COUNTRY_INFO!F155*0.33)*100, IF(COUNTRY_INFO!K155=2, AD155/(COUNTRY_INFO!F155*0.5)*100, IF(COUNTRY_INFO!K155=3, AD155/COUNTRY_INFO!F155*100))),\"-\"),0)","v":0},{"$f":"IF(COUNTRY_INFO!K155=2,IF(COUNTRY_INFO!G155*0.2>MAX('T1'!N155,'T2'!L155),MAX('T1'!N155,'T2'!L155),COUNTRY_INFO!G155*0.2),IF(COUNTRY_INFO!K155=3,IF(COUNTRY_INFO!G155>MAX('T1'!N155,'T2'!L155),MAX('T1'!N155,'T2'!L155),COUNTRY_INFO!G155),0))","v":0},{"$f":"IF(AND(COUNTRY_INFO!K155>0,COUNTRY_INFO!K155<4),IF(Z155>0,IF(COUNTRY_INFO!K155=1, 0, IF(COUNTRY_INFO!K155=2, AF155/(COUNTRY_INFO!G155*0.2)*100, IF(COUNTRY_INFO!K155=3, AF155/COUNTRY_INFO!G155*100))),\"-\"),0)","v":0},0,{"$f":"IF(AND(COUNTRY_INFO!K155>0,COUNTRY_INFO!K155<4), IF(AC155/Z155*100<>0, IF(AH155/Z155*100>100,100,AH155/Z155*100), \"-\"),0)","v":"-"},null,{"$f":"IF(AND(D155<>0, D155<>\"Unknown\",D155<>\"Stopped\",D155<>\"Not required\"),D155/COUNTRY_INFO!D155, 0)","v":0},{"$f":"IF(AND(J155<>0,J155<>\"Unknown\",J155<>\"Stopped\",J155<>\"Not required\"),J155/COUNTRY_INFO!D155, 0)","v":0},{"$f":"IF(AND(P155<>0,P155<>\"Unknown\",P155<>\"Not required\"),P155/(COUNTRY_INFO!E155+COUNTRY_INFO!F155), 0)","v":1},{"$f":"IF(AND(Z155<>0,Z155<>\"Unknown\",Z155<>\"Not required\"),IF(COUNTRY_INFO!K155=1,1,IF(COUNTRY_INFO!K155=2,0.5*COUNTRY_INFO!F155/(0.5*COUNTRY_INFO!F155+0.2*COUNTRY_INFO!G155),IF(COUNTRY_INFO!K155=3,COUNTRY_INFO!F155/(COUNTRY_INFO!F155+COUNTRY_INFO!G155)))),0)","v":0.46725300015956522},{"$f":"IF(AND(Z155<>0,Z155<>\"Unknown\",Z155<>\"Not required\"),IF(COUNTRY_INFO!K155=1,0,IF(COUNTRY_INFO!K155=2,0.2*COUNTRY_INFO!G155/(0.5*COUNTRY_INFO!F155+0.2*COUNTRY_INFO!G155),IF(COUNTRY_INFO!K155=3,COUNTRY_INFO!G155/(COUNTRY_INFO!F155+COUNTRY_INFO!G155)))),0)","v":0.53274699984043483},{"$f":"MAX(COUNTRY_INFO!D155*AK155*PROFILE!$G$7,COUNTRY_INFO!D155*AL155*PROFILE!$G$7)","v":0},{"$f":"MAX(COUNTRY_INFO!D155*AK155*PROFILE!$G$8,COUNTRY_INFO!D155*AL155*PROFILE!$G$8,COUNTRY_INFO!D155*AM155*PROFILE!$G$8)","v":24561.549806769704},{"$f":"MAX(COUNTRY_INFO!D155*AK155*PROFILE!$G$9,COUNTRY_INFO!D155*AL155*PROFILE!$G$9,COUNTRY_INFO!D155*AM155*PROFILE!$G$9,IF(AND(DISTRICT!Z155<>\"Unknown\",Z155<>\"Not required\"),COUNTRY_INFO!O155*DISTRICT!AN155,0))","v":42802.205873185165},{"$f":"MAX(COUNTRY_INFO!D155*AK155*PROFILE!$G$10,COUNTRY_INFO!D155*AL155*PROFILE!$G$10,IF(AND(DISTRICT!Z155<>\"Unknown\",Z155<>\"Not required\"),COUNTRY_INFO!O155*DISTRICT!AO155,0))","v":24553.521620291096},91917.277300245958,0,{"$f":"MAX('MDA2'!J155,'T1'!L155,'T2'!J155,T3_R1!K155,T3_R2!K155)","v":0},{"$f":"MAX('MDA1'!K155,'MDA2'!K155,'MDA3'!I155,'MDA3'!L155,'T1'!M155,'T2'!K155,T3_R1!L155,T3_R2!L155)","v":0},{"$f":"MAX('MDA1'!L155,'MDA2'!L155,'MDA3'!J155,'MDA3'!M155,'T1'!N155,'T2'!L155,T3_R1!M155,T3_R2!M155)","v":0},0,{"$f":"MAX('MDA2'!J155,T155)","v":0},{"$f":"MAX('MDA1'!K155,'MDA2'!K155,'MDA3'!I155,'MDA3'!L155,V155,AD155)","v":0},{"$f":"MAX('MDA1'!L155,'MDA2'!L155,'MDA3'!J155,'MDA3'!M155,AF155)","v":0},0,0]
[{"$f":"IF(COUNTRY_INFO!A156=0,\" \",COUNTRY_INFO!A156)","v":"Tanzania"},{"$f":"IF(COUNTRY_INFO!B156=0,\" \",COUNTRY_INFO!B156)","v":"Shinyanga"},{"$f":"IF(COUNTRY_INFO!C156=0,\" \",COUNTRY_INFO!C156)","v":"Ushetu District Council"},{"$f":"COUNTRY_INFO!L156","v":0},null,null,{"$f":"MAX('MDA1'!M156,'MDA2'!M156)","v":0},{"$f":"IF(AND(COUNTRY_INFO!H156>0,COUNTRY_INFO!H156<4),IF(D156>MAX('MDA1'!M156,'MDA2'!M156),MAX('MDA1'!M156,'MDA2'!M156),D156),0)","v":0},{"$f":"IF(AND(COUNTRY_INFO!H156>0,COUNTRY_INFO!H156<4), IF(G156/D156*100<>0, IF(G156/D156*100>100,100,G156/D156*100), \"-\"),0)","v":0},{"$f":"COUNTRY_INFO!M156","v":0},null,null,{"$f":"MAX('MDA1'!M156,MAX('MDA3'!I156,'MDA3'!L156)+MAX('MDA3'!J156,'MDA3'!M156))","v":0},{"$f":"IF(AND(COUNTRY_INFO!I156>0,COUNTRY_INFO!I156<4),IF(J156>MAX('MDA1'!M156,MAX('MDA3'!I156,'MDA3'!L156)+MAX('MDA3'!J156,'MDA3'!M156)),MAX('MDA1'!M156,MAX('MDA3'!I156,'MDA3'!L156)+MAX('MDA3'!J156,'MDA3'!M156)),J156),0)","v":0},{"$f":"IF(AND(COUNTRY_INFO!I156>0,COUNTRY_INFO!I156<4), IF(M156/J156*100<>0, IF(M156/J156*100>100,100,M156/J156*100), \"-\"),0)","v":0},{"$f":"COUNTRY_INFO!N156","v":126373},null,null,{"$f":"SUM(MAX('MDA2'!J156, 'T1'!L156, MAX(T3_R1!K156, T3_R2!K156)), MAX('MDA1'!K156, 'MDA2'!K156, 'T1'!M156, MAX(T3_R1!L156, T3_R2!L156)), MAX('MDA1'!L156, 'MDA2'!L156, 'T1'!N156, MAX(T3_R1!M156, T3_R2!M156)))","v":0},{"$f":"IF(AND(COUNTRY_INFO!J156>1,COUNTRY_INFO!J156<4),IF(COUNTRY_INFO!E156>MAX('MDA2'!J156,'T1'!L156,MAX(T3_R1!K156,T3_R2!K156)),MAX('MDA2'!J156,'T1'!L156,MAX(T3_R1!K156,T3_R2!K156)),COUNTRY_INFO!E156),0)","v":0},{"$f":"IF(AND(COUNTRY_INFO!J156>1,COUNTRY_INFO!J156<4), IF(T156/COUNTRY_INFO!E156*100<>0, IF(T156/COUNTRY_INFO!E156*100>100,100,T156/COUNTRY_INFO!E156*100), \"-\"),0)","v":"-"},{"$f":"IF(AND(COUNTRY_INFO!J156>1,COUNTRY_INFO!J156<4),IF(COUNTRY_INFO!F156>MAX('MDA1'!K156,'MDA2'!K156,'T1'!M156,MAX(T3_R1!L156,T3_R2!L156)),MAX('MDA1'!K156,'MDA2'!K156,'T1'!M156,MAX(T3_R1!L156,T3_R2!L156)),COUNTRY_INFO!F156),0)","v":0},{"$f":"IF(AND(COUNTRY_INFO!J156>1,COUNTRY_INFO!J156<4), IF(V156/COUNTRY_INFO!F156*100<>0, IF(V156/COUNTRY_INFO!F156*100>100,100,V156/COUNTRY_INFO!F156*100), \"-\"),0)","v":"-"},0,{"$f":"IF(AND(COUNTRY_INFO!J156>1,COUNTRY_INFO!J156<4), IF(S156/P156*100<>0, IF(X156/P156*100>100,100,X156/P156*100), \"-\"),0)","v":"-"},{"$f":"COUNTRY_INFO!O156","v":81563.642507039796},null,null,{"$f":"MAX('T1'!L156,'T2'!J156)+MAX('T1'!M156,'T2'!K156)+MAX('T1'!N156,'T2'!L156)","v":0},{"$f":"IF(COUNTRY_INFO!K156=1,IF(COUNTRY_INFO!F156*0.33>MAX('T1'!M156,'T2'!K156),MAX('T1'!M156,'T2'!K156),COUNTRY_INFO!F156*0.33),IF(COUNTRY_INFO!K156=2,IF(COUNTRY_INFO!F156*0.5>MAX('T1'!M156,'T2'!K156),MAX('T1'!M156,'T2'!K156),COUNTRY_INFO!F156*0.5),IF(COUNTRY_INFO!K156=3,IF(COUNTRY_INFO!F156>MAX('T1'!M156,'T2'!K156),MAX('T1'!M156,'T2'!K156),COUNTRY_INFO!F156),0)))","v":0},{"$f":"IF(AND(COUNTRY_INFO!K156>0,COUNTRY_INFO!K156<4),IF(Z156>0,IF(COUNTRY_INFO!K156=1, AD156/(COUNTRY_INFO!F156*0.33)*100, IF(COUNTRY_INFO!K156=2, AD156/(COUNTRY_INFO!F156*0.5)*100, IF(COUNTRY_INFO!K156=3, AD156/COUNTRY_INFO!F156*100))),\"-\"),0)","v":0},{"$f":"IF(COUNTRY_INFO!K156=2,IF(COUNTRY_INFO!G156*0.2>MAX('T1'!N156,'T2'!L156),MAX('T1'!N156,'T2'!L156),COUNTRY_INFO!G156*0.2),IF(COUNTRY_INFO!K156=3,IF(COUNTRY_INFO!G156>MAX('T1'!N156,'T2'!L156),MAX('T1'!N156,'T2'!L156),COUNTRY_INFO!G156),0))","v":0},{"$f":"IF(AND(COUNTRY_INFO!K156>0,COUNTRY_INFO!K156<4),IF(Z156>0,IF(COUNTRY_INFO!K156=1, 0, IF(COUNTRY_INFO!K156=2, AF156/(COUNTRY_INFO!G156*0.2)*100, IF(COUNTRY_INFO!K156=3, AF156/COUNTRY_INFO!G156*100))),\"-\"),0)","v":0},0,{"$f":"IF(AND(COUNTRY_INFO!K156>0,COUNTRY_INFO!K156<4), IF(AC156/Z156*100<>0, IF(AH156/Z156*100>100,100,AH156/Z156*100), \"-\"),0)","v":"-"},null,{"$f":"IF(AND(D156<>0, D156<>\"Unknown\",D156<>\"Stopped\",D156<>\"Not required\"),D156/COUNTRY_INFO!D156, 0)","v":0},{"$f":"IF(AND(J156<>0,J156<>\"Unknown\",J156<>\"Stopped\",J156<>\"Not required\"),J156/COUNTRY_INFO!D156, 0)","v":0},{"$f":"IF(AND(P156<>0,P156<>\"Unknown\",P156<>\"Not required\"),P156/(COUNTRY_INFO!E156+COUNTRY_INFO!F156), 0)","v":1},{"$f":"IF(AND(Z156<>0,Z156<>\"Unknown\",Z156<>\"Not required\"),IF(COUNTRY_INFO!K156=1,1,IF(COUNTRY_INFO!K156=2,0.5*COUNTRY_INFO!F156/(0.5*COUNTRY_INFO!F156+0.2*COUNTRY_INFO!G156),IF(COUNTRY_INFO!K156=3,COUNTRY_INFO!F156/(COUNTRY_INFO!F156+COUNTRY_INFO!G156)))),0)","v":0.51993141424918321},{"$f":"IF(AND(Z156<>0,Z156<>\"Unknown\",Z156<>\"Not required\"),IF(COUNTRY_INFO!K156=1,0,IF(COUNTRY_INFO!K156=2,0.2*COUNTRY_INFO!G156/(0.5*COUNTRY_INFO!F156+0.2*COUNTRY_INFO!G156),IF(COUNTRY_INFO!K156=3,COUNTRY_INFO!G156/(COUNTRY_INFO!F156+COUNTRY_INFO!G156)))),0)","v":0.48006858575081668},{"$f":"MAX(COUNTRY_INFO!D156*AK156*PROFILE!$G$7,COUNTRY_INFO!D156*AL156*PROFILE!$G$7)","v":0},{"$f":"MAX(COUNTRY_INFO!D156*AK156*PROFILE!$G$8,COUNTRY_INFO!D156*AL156*PROFILE!$G$8,COUNTRY_INFO!D156*AM156*PROFILE!$G$8)","v":41557.829529001923},{"$f":"MAX(COUNTRY_INFO!D156*AK156*PROFILE!$G$9,COUNTRY_INFO!D156*AL156*PROFILE!$G$9,COUNTRY_INFO!D156*AM156*PROFILE!$G$9,IF(AND(DISTRICT!Z156<>\"Unknown\",Z156<>\"Not required\"),COUNTRY_INFO!O156*DISTRICT!AN156,0))","v":72420.787333737651},{"$f":"MAX(COUNTRY_INFO!D156*AK156*PROFILE!$G$10,COUNTRY_INFO!D156*AL156*PROFILE!$G$10,IF(AND(DISTRICT!Z156<>\"Unknown\",Z156<>\"Not required\"),COUNTRY_INFO!O156*DISTRICT!AO156,0))","v":39156.142507039789},153134.75936977938,0,{"$f":"MAX('MDA2'!J156,'T1'!L156,'T2'!J156,T3_R1!K156,T3_R2!K156)","v":0},{"$f":"MAX('MDA1'!K156,'MDA2'!K156,'MDA3'!I156,'MDA3'!L156,'T1'!M156,'T2'!K156,T3_R1!L156,T3_R2!L156)","v":0},{"$f":"MAX('MDA1'!L156,'MDA2'!L156,'MDA3'!J156,'MDA3'!M156,'T1'!N156,'T2'!L156,T3_R1!M156,T3_R2!M156)","v":0},0,{"$f":"MAX('MDA2'!J156,T156)","v":0},{"$f":"MAX('MDA1'!K156,'MDA2'!K156,'MDA3'!I156,'MDA3'!L156,V156,AD156)","v":0},{"$f":"MAX('MDA1'!L156,'MDA2'!L156,'MDA3'!J156,'MDA3'!M156,AF156)","v":0},0,0]
[{"$f":"IF(COUNTRY_INFO!A157=0,\" \",COUNTRY_INFO!A157)","v":"Tanzania"},{"$f":"IF(COUNTRY_INFO!B157=0,\" \",COUNTRY_INFO!B157)","v":"Simiyu"},{"$f":"IF(COUNTRY_INFO!C157=0,\" \",COUNTRY_INFO!C157)","v":"Bariadi District Council"},{"$f":"COUNTRY_INFO!L157","v":0},null,null,{"$f":"MAX('MDA1'!M157,'MDA2'!M157)","v":0},{"$f":"IF(AND(COUNTRY_INFO!H157>0,COUNTRY_INFO!H157<4),IF(D157>MAX('MDA1'!M157,'MDA2'!M157),MAX('MDA1'!M157,'MDA2'!M157),D157),0)","v":0},{"$f":"IF(AND(COUNTRY_INFO!H157>0,COUNTRY_INFO!H157<4), IF(G157/D157*100<>0, IF(G157/D157*100>100,100,G157/D157*100), \"-\"),0)","v":0},{"$f":"COUNTRY_INFO!M157","v":0},null,null,{"$f":"MAX('MDA1'!M157,MAX('MDA3'!I157,'MDA3'!L157)+MAX('MDA3'!J157,'MDA3'!M157))","v":0},{"$f":"IF(AND(COUNTRY_INFO!I157>0,COUNTRY_INFO!I157<4),IF(J157>MAX('MDA1'!M157,MAX('MDA3'!I157,'MDA3'!L157)+MAX('MDA3'!J157,'MDA3'!M157)),MAX('MDA1'!M157,MAX('MDA3'!I157,'MDA3'!L157)+MAX('MDA3'!J157,'MDA3'!M157)),J157),0)","v":0},{"$f":"IF(AND(COUNTRY_INFO!I157>0,COUNTRY_INFO!I157<4), IF(M157/J157*100<>0, IF(M157/J157*100>100,100,M157/J157*100), \"-\"),0)","v":0},{"$f":"COUNTRY_INFO!N157","v":131599},null,null,{"$f":"SUM(MAX('MDA2'!J157, 'T1'!L157, MAX(T3_R1!K157, T3_R2!K157)), MAX('MDA1'!K157, 'MDA2'!K157, 'T1'!M157, MAX(T3_R1!L157, T3_R2!L157)), MAX('MDA1'!L157, 'MDA2'!L157, 'T1'!N157, MAX(T3_R1!M157, T3_R2!M157)))","v":0},{"$f":"IF(AND(COUNTRY_INFO!J157>1,COUNTRY_INFO!J157<4),IF(COUNTRY_INFO!E157>MAX('MDA2'!J157,'T1'!L157,MAX(T3_R1!K157,T3_R2!K157)),MAX('MDA2'!J157,'T1'!L157,MAX(T3_R1!K157,T3_R2!K157)),COUNTRY_INFO!E157),0)","v":0},{"$f":"IF(AND(COUNTRY_INFO!J157>1,COUNTRY_INFO!J157<4), IF(T157/COUNTRY_INFO!E157*100<>0, IF(T157/COUNTRY_INFO!E157*100>100,100,T157/COUNTRY_INFO!E157*100), \"-\"),0)","v":"-"},{"$f":"IF(AND(COUNTRY_INFO!J157>1,COUNTRY_INFO!J157<4),IF(COUNTRY_INFO!F157>MAX('MDA1'!K157,'MDA2'!K157,'T1'!M157,MAX(T3_R1!L157,T3_R2!L157)),MAX('MDA1'!K157,'MDA2'!K157,'T1'!M157,MAX(T3_R1!L157,T3_R2!L157)),COUNTRY_INFO!F157),0)","v":0},{"$f":"IF(AND(COUNTRY_INFO!J157>1,COUNTRY_INFO!J157<4), IF(V157/COUNTRY_INFO!F157*100<>0, IF(V157/COUNTRY_INFO!F157*100>100,100,V157/COUNTRY_INFO!F157*100), \"-\"),0)","v":"-"},0,{"$f":"IF(AND(COUNTRY_INFO!J157>1,COUNTRY_INFO!J157<4), IF(S157/P157*100<>0, IF(X157/P157*100>100,100,X157/P157*100), \"-\"),0)","v":"-"},{"$f":"COUNTRY_INFO!O157","v":269288.15058270231},null,null,{"$f":"MAX('T1'!L157,'T2'!J157)+MAX('T1'!M157,'T2'!K157)+MAX('T1'!N157,'T2'!L157)","v":0},{"$f":"IF(COUNTRY_INFO!K157=1,IF(COUNTRY_INFO!F157*0.33>MAX('T1'!M157,'T2'!K157),MAX('T1'!M157,'T2'!K157),COUNTRY_INFO!F157*0.33),IF(COUNTRY_INFO!K157=2,IF(COUNTRY_INFO!F157*0.5>MAX('T1'!M157,'T2'!K157),MAX('T1'!M157,'T2'!K157),COUNTRY_INFO!F157*0.5),IF(COUNTRY_INFO!K157=3,IF(COUNTRY_INFO!F157>MAX('T1'!M157,'T2'!K157),MAX('T1'!M157,'T2'!K157),COUNTRY_INFO!F157),0)))","v":0},{"$f":"IF(AND(COUNTRY_INFO!K157>0,COUNTRY_INFO!K157<4),IF(Z157>0,IF(COUNTRY_INFO!K157=1, AD157/(COUNTRY_INFO!F157*0.33)*100, IF(COUNTRY_INFO!K157=2, AD157/(COUNTRY_INFO!F157*0.5)*100, IF(COUNTRY_INFO!K157=3, AD157/COUNTRY_INFO!F157*100))),\"-\"),0)","v":0},{"$f":"IF(COUNTRY_INFO!K157=2,IF(COUNTRY_INFO!G157*0.2>MAX('T1'!N157,'T2'!L157),MAX('T1'!N157,'T2'!L157),COUNTRY_INFO!G157*0.2),IF(COUNTRY_INFO!K157=3,IF(COUNTRY_INFO!G157>MAX('T1'!N157,'T2'!L157),MAX('T1'!N157,'T2'!L157),COUNTRY_INFO!G157),0))","v":0},{"$f":"IF(AND(COUNTRY_INFO!K157>0,COUNTRY_INFO!K157<4),IF(Z157>0,IF(COUNTRY_INFO!K157=1, 0, IF(COUNTRY_INFO!K157=2, AF157/(COUNTRY_INFO!G157*0.2)*100, IF(COUNTRY_INFO!K157=3, AF157/COUNTRY_INFO!G157*100))),\"-\"),0)","v":0},0,{"$f":"IF(AND(COUNTRY_INFO!K157>0,COUNTRY_INFO!K157<4), IF(AC157/Z157*100<>0, IF(AH157/Z157*100>100,100,AH157/Z157*100), \"-\"),0)","v":"-"},null,{"$f":"IF(AND(D157<>0, D157<>\"Unknown\",D157<>\"Stopped\",D157<>\"Not required\"),D157/COUNTRY_INFO!D157, 0)","v":0},{"$f":"IF(AND(J157<>0,J157<>\"Unknown\",J157<>\"Stopped\",J157<>\"Not required\"),J157/COUNTRY_INFO!D157, 0)","v":0},{"$f":"IF(AND(P157<>0,P157<>\"Unknown\",P157<>\"Not required\"),P157/(COUNTRY_INFO!E157+COUNTRY_INFO!F157), 0)","v":1},{"$f":"IF(AND(Z157<>0,Z157<>\"Unknown\",Z157<>\"Not required\"),IF(COUNTRY_INFO!K157=1,1,IF(COUNTRY_INFO!K157=2,0.5*COUNTRY_INFO!F157/(0.5*COUNTRY_INFO!F157+0.2*COUNTRY_INFO!G157),IF(COUNTRY_INFO!K157=3,COUNTRY_INFO!F157/(COUNTRY_INFO!F157+COUNTRY_INFO!G157)))),0)","v":0.34058683904783504},{"$f":"IF(AND(Z157<>0,Z157<>\"Unknown\",Z157<>\"Not required\"),IF(COUNTRY_INFO!K157=1,0,IF(COUNTRY_INFO!K157=2,0.2*COUNTRY_INFO!G157/(0.5*COUNTRY_INFO!F157+0.2*COUNTRY_INFO!G157),IF(COUNTRY_INFO!K157=3,COUNTRY_INFO!G157/(COUNTRY_INFO!F157+COUNTRY_INFO!G157)))),0)","v":0.65941316095216496},{"$f":"MAX(COUNTRY_INFO!D157*AK157*PROFILE!$G$7,COUNTRY_INFO!D157*AL157*PROFILE!$G$7)","v":0},{"$f":"MAX(COUNTRY_INFO!D157*AK157*PROFILE!$G$8,COUNTRY_INFO!D157*AL157*PROFILE!$G$8,COUNTRY_INFO!D157*AM157*PROFILE!$G$8)","v":39883.079012468253},{"$f":"MAX(COUNTRY_INFO!D157*AK157*PROFILE!$G$9,COUNTRY_INFO!D157*AL157*PROFILE!$G$9,COUNTRY_INFO!D157*AM157*PROFILE!$G$9,IF(AND(DISTRICT!Z157<>\"Unknown\",Z157<>\"Not required\"),COUNTRY_INFO!O157*DISTRICT!AN157,0))","v":91716},{"$f":"MAX(COUNTRY_INFO!D157*AK157*PROFILE!$G$10,COUNTRY_INFO!D157*AL157*PROFILE!$G$10,IF(AND(DISTRICT!Z157<>\"Unknown\",Z157<>\"Not required\"),COUNTRY_INFO!O157*DISTRICT!AO157,0))","v":177572.15058270231},309171.22959517059,0,{"$f":"MAX('MDA2'!J157,'T1'!L157,'T2'!J157,T3_R1!K157,T3_R2!K157)","v":0},{"$f":"MAX('MDA1'!K157,'MDA2'!K157,'MDA3'!I157,'MDA3'!L157,'T1'!M157,'T2'!K157,T3_R1!L157,T3_R2!L157)","v":0},{"$f":"MAX('MDA1'!L157,'MDA2'!L157,'MDA3'!J157,'MDA3'!M157,'T1'!N157,'T2'!L157,T3_R1!M157,T3_R2!M157)","v":0},0,{"$f":"MAX('MDA2'!J157,T157)","v":0},{"$f":"MAX('MDA1'!K157,'MDA2'!K157,'MDA3'!I157,'MDA3'!L157,V157,AD157)","v":0},{"$f":"MAX('MDA1'!L157,'MDA2'!L157,'MDA3'!J157,'MDA3'!M157,AF157)","v":0},0,0]
[{"$f":"IF(COUNTRY_INFO!A158=0,\" \",COUNTRY_INFO!A158)","v":"Tanzania"},{"$f":"IF(COUNTRY_INFO!B158=0,\" \",COUNTRY_INFO!B158)","v":"Simiyu"},{"$f":"IF(COUNTRY_INFO!C158=0,\" \",COUNTRY_INFO!C158)","v":"Bariadi Town Council"},{"$f":"COUNTRY_INFO!L158","v":0},null,null,{"$f":"MAX('MDA1'!M158,'MDA2'!M158)","v":0},{"$f":"IF(AND(COUNTRY_INFO!H158>0,COUNTRY_INFO!H158<4),IF(D158>MAX('MDA1'!M158,'MDA2'!M158),MAX('MDA1'!M158,'MDA2'!M158),D158),0)","v":0},{"$f":"IF(AND(COUNTRY_INFO!H158>0,COUNTRY_INFO!H158<4), IF(G158/D158*100<>0, IF(G158/D158*100>100,100,G158/D158*100), \"-\"),0)","v":0},{"$f":"COUNTRY_INFO!M158","v":0},null,null,{"$f":"MAX('MDA1'!M158,MAX('MDA3'!I158,'MDA3'!L158)+MAX('MDA3'!J158,'MDA3'!M158))","v":0},{"$f":"IF(AND(COUNTRY_INFO!I158>0,COUNTRY_INFO!I158<4),IF(J158>MAX('MDA1'!M158,MAX('MDA3'!I158,'MDA3'!L158)+MAX('MDA3'!J158,'MDA3'!M158)),MAX('MDA1'!M158,MAX('MDA3'!I158,'MDA3'!L158)+MAX('MDA3'!J158,'MDA3'!M158)),J158),0)","v":0},{"$f":"IF(AND(COUNTRY_INFO!I158>0,COUNTRY_INFO!I158<4), IF(M158/J158*100<>0, IF(M158/J158*100>100,100,M158/J158*100), \"-\"),0)","v":0},{"$f":"COUNTRY_INFO!N158","v":77216},null,null,{"$f":"SUM(MAX('MDA2'!J158, 'T1'!L158, MAX(T3_R1!K158, T3_R2!K158)), MAX('MDA1'!K158, 'MDA2'!K158, 'T1'!M158, MAX(T3_R1!L158, T3_R2!L158)), MAX('MDA1'!L158, 'MDA2'!L158, 'T1'!N158, MAX(T3_R1!M158, T3_R2!M158)))","v":0},{"$f":"IF(AND(COUNTRY_INFO!J158>1,COUNTRY_INFO!J158<4),IF(COUNTRY_INFO!E158>MAX('MDA2'!J158,'T1'!L158,MAX(T3_R1!K158,T3_R2!K158)),MAX('MDA2'!J158,'T1'!L158,MAX(T3_R1!K158,T3_R2!K158)),COUNTRY_INFO!E158),0)","v":0},{"$f":"IF(AND(COUNTRY_INFO!J158>1,COUNTRY_INFO!J158<4), IF(T158/COUNTRY_INFO!E158*100<>0, IF(T158/COUNTRY_INFO!E158*100>100,100,T158/COUNTRY_INFO!E158*100), \"-\"),0)","v":"-"},{"$f":"IF(AND(COUNTRY_INFO!J158>1,COUNTRY_INFO!J158<4),IF(COUNTRY_INFO!F158>MAX('MDA1'!K158,'MDA2'!K158,'T1'!M158,MAX(T3_R1!L158,T3_R2!L158)),MAX('MDA1'!K158,'MDA2'!K158,'T1'!M158,MAX(T3_R1!L158,T3_R2!L158)),COUNTRY_INFO!F158),0)","v":0},{"$f":"IF(AND(COUNTRY_INFO!J158>1,COUNTRY_INFO!J158<4), IF(V158/COUNTRY_INFO!F158*100<>0, IF(V158/COUNTRY_INFO!F158*100>100,100,V158/COUNTRY_INFO!F158*100), \"-\"),0)","v":"-"},0,{"$f":"IF(AND(COUNTRY_INFO!J158>1,COUNTRY_INFO!J158<4), IF(S158/P158*100<>0, IF(X158/P158*100>100,100,X158/P158*100), \"-\"),0)","v":"-"},{"$f":"COUNTRY_INFO!O158","v":156778.38008641015},null,null,{"$f":"MAX('T1'!L158,'T2'!J158)+MAX('T1'!M158,'T2'!K158)+MAX('T1'!N158,'T2'!L158)","v":0},{"$f":"IF(COUNTRY_INFO!K158=1,IF(COUNTRY_INFO!F158*0.33>MAX('T1'!M158,'T2'!K158),MAX('T1'!M158,'T2'!K158),COUNTRY_INFO!F158*0.33),IF(COUNTRY_INFO!K158=2,IF(COUNTRY_INFO!F158*0.5>MAX('T1'!M158,'T2'!K158),MAX('T1'!M158,'T2'!K158),COUNTRY_INFO!F158*0.5),IF(COUNTRY_INFO!K158=3,IF(COUNTRY_INFO!F158>MAX('T1'!M158,'T2'!K158),MAX('T1'!M158,'T2'!K158),COUNTRY_INFO!F158),0)))","v":0},{"$f":"IF(AND(COUNTRY_INFO!K158>0,COUNTRY_INFO!K158<4),IF(Z158>0,IF(COUNTRY_INFO!K158=1, AD158/(COUNTRY_INFO!F158*0.33)*100, IF(COUNTRY_INFO!K158=2, AD158/(COUNTRY_INFO!F158*0.5)*100, IF(COUNTRY_INFO!K158=3, AD158/COUNTRY_INFO!F158*100))),\"-\"),0)","v":0},{"$f":"IF(COUNTRY_INFO!K158=2,IF(COUNTRY_INFO!G158*0.2>MAX('T1'!N158,'T2'!L158),MAX('T1'!N158,'T2'!L158),COUNTRY_INFO!G158*0.2),IF(COUNTRY_INFO!K158=3,IF(COUNTRY_INFO!G158>MAX('T1'!N158,'T2'!L158),MAX('T1'!N158,'T2'!L158),COUNTRY_INFO!G158),0))","v":0},{"$f":"IF(AND(COUNTRY_INFO!K158>0,COUNTRY_INFO!K158<4),IF(Z158>0,IF(COUNTRY_INFO!K158=1, 0, IF(COUNTRY_INFO!K158=2, AF158/(COUNTRY_INFO!G158*0.2)*100, IF(COUNTRY_INFO!K158=3, AF158/COUNTRY_INFO!G158*100))),\"-\"),0)","v":0},0,{"$f":"IF(AND(COUNTRY_INFO!K158>0,COUNTRY_INFO!K158<4), IF(AC158/Z158*100<>0, IF(AH158/Z158*100>100,100,AH158/Z158*100), \"-\"),0)","v":"-"},null,{"$f":"IF(AND(D158<>0, D158<>\"Unknown\",D158<>\"Stopped\",D158<>\"Not required\"),D158/COUNTRY_INFO!D158, 0)","v":0},{"$f":"IF(AND(J158<>0,J158<>\"Unknown\",J158<>\"Stopped\",J158<>\"Not required\"),J158/COUNTRY_INFO!D158, 0)","v":0},{"$f":"IF(AND(P158<>0,P158<>\"Unknown\",P158<>\"Not required\"),P158/(COUNTRY_INFO!E158+COUNTRY_INFO!F158), 0)","v":1},{"$f":"IF(AND(Z158<>0,Z158<>\"Unknown\",Z158<>\"Not required\"),IF(COUNTRY_INFO!K158=1,1,IF(COUNTRY_INFO!K158=2,0.5*COUNTRY_INFO!F158/(0.5*COUNTRY_INFO!F158+0.2*COUNTRY_INFO!G158),IF(COUNTRY_INFO!K158=3,COUNTRY_INFO!F158/(COUNTRY_INFO!F158+COUNTRY_INFO!G158)))),0)","v":0.34440973283586362},{"$f":"IF(AND(Z158<>0,Z158<>\"Unknown\",Z158<>\"Not required\"),IF(COUNTRY_INFO!K158=1,0,IF(COUNTRY_INFO!K158=2,0.2*COUNTRY_INFO!G158/(0.5*COUNTRY_INFO!F158+0.2*COUNTRY_INFO!G158),IF(COUNTRY_INFO!K158=3,COUNTRY_INFO!G158/(COUNTRY_INFO!F158+COUNTRY_INFO!G158)))),0)","v":0.65559026716413638},{"$f":"MAX(COUNTRY_INFO!D158*AK158*PROFILE!$G$7,COUNTRY_INFO!D158*AL158*PROFILE!$G$7)","v":0},{"$f":"MAX(COUNTRY_INFO!D158*AK158*PROFILE!$G$8,COUNTRY_INFO!D158*AL158*PROFILE!$G$8,COUNTRY_INFO!D158*AM158*PROFILE!$G$8)","v":23219.791373070751},{"$f":"MAX(COUNTRY_INFO!D158*AK158*PROFILE!$G$9,COUNTRY_INFO!D158*AL158*PROFILE!$G$9,COUNTRY_INFO!D158*AM158*PROFILE!$G$9,IF(AND(DISTRICT!Z158<>\"Unknown\",Z158<>\"Not required\"),COUNTRY_INFO!O158*DISTRICT!AN158,0))","v":53996},{"$f":"MAX(COUNTRY_INFO!D158*AK158*PROFILE!$G$10,COUNTRY_INFO!D158*AL158*PROFILE!$G$10,IF(AND(DISTRICT!Z158<>\"Unknown\",Z158<>\"Not required\"),COUNTRY_INFO!O158*DISTRICT!AO158,0))","v":102782.38008641015},179998.17145948089,0,{"$f":"MAX('MDA2'!J158,'T1'!L158,'T2'!J158,T3_R1!K158,T3_R2!K158)","v":0},{"$f":"MAX('MDA1'!K158,'MDA2'!K158,'MDA3'!I158,'MDA3'!L158,'T1'!M158,'T2'!K158,T3_R1!L158,T3_R2!L158)","v":0},{"$f":"MAX('MDA1'!L158,'MDA2'!L158,'MDA3'!J158,'MDA3'!M158,'T1'!N158,'T2'!L158,T3_R1!M158,T3_R2!M158)","v":0},0,{"$f":"MAX('MDA2'!J158,T158)","v":0},{"$f":"MAX('MDA1'!K158,'MDA2'!K158,'MDA3'!I158,'MDA3'!L158,V158,AD158)","v":0},{"$f":"MAX('MDA1'!L158,'MDA2'!L158,'MDA3'!J158,'MDA3'!M158,AF158)","v":0},0,0]
[{"$f":"IF(COUNTRY_INFO!A159=0,\" \",COUNTRY_INFO!A159)","v":"Tanzania"},{"$f":"IF(COUNTRY_INFO!B159=0,\" \",COUNTRY_INFO!B159)","v":"Simiyu"},{"$f":"IF(COUNTRY_INFO!C159=0,\" \",COUNTRY_INFO!C159)","v":"Busega District Council"},{"$f":"COUNTRY_INFO!L159","v":0},null,null,{"$f":"MAX('MDA1'!M159,'MDA2'!M159)","v":0},{"$f":"IF(AND(COUNTRY_INFO!H159>0,COUNTRY_INFO!H159<4),IF(D159>MAX('MDA1'!M159,'MDA2'!M159),MAX('MDA1'!M159,'MDA2'!M159),D159),0)","v":0},{"$f":"IF(AND(COUNTRY_INFO!H159>0,COUNTRY_INFO!H159<4), IF(G159/D159*100<>0, IF(G159/D159*100>100,100,G159/D159*100), \"-\"),0)","v":0},{"$f":"COUNTRY_INFO!M159","v":0},null,null,{"$f":"MAX('MDA1'!M159,MAX('MDA3'!I159,'MDA3'!L159)+MAX('MDA3'!J159,'MDA3'!M159))","v":0},{"$f":"IF(AND(COUNTRY_INFO!I159>0,COUNTRY_INFO!I159<4),IF(J159>MAX('MDA1'!M159,MAX('MDA3'!I159,'MDA3'!L159)+MAX('MDA3'!J159,'MDA3'!M159)),MAX('MDA1'!M159,MAX('MDA3'!I159,'MDA3'!L159)+MAX('MDA3'!J159,'MDA3'!M159)),J159),0)","v":0},{"$f":"IF(AND(COUNTRY_INFO!I159>0,COUNTRY_INFO!I159<4), IF(M159/J159*100<>0, IF(M159/J159*100>100,100,M159/J159*100), \"-\"),0)","v":0},{"$f":"COUNTRY_INFO!N159","v":115851},null,null,{"$f":"SUM(MAX('MDA2'!J159, 'T1'!L159, MAX(T3_R1!K159, T3_R2!K159)), MAX('MDA1'!K159, 'MDA2'!K159, 'T1'!M159, MAX(T3_R1!L159, T3_R2!L159)), MAX('MDA1'!L159, 'MDA2'!L159, 'T1'!N159, MAX(T3_R1!M159, T3_R2!M159)))","v":0},{"$f":"IF(AND(COUNTRY_INFO!J159>1,COUNTRY_INFO!J159<4),IF(COUNTRY_INFO!E159>MAX('MDA2'!J159,'T1'!L159,MAX(T3_R1!K159,T3_R2!K159)),MAX('MDA2'!J159,'T1'!L159,MAX(T3_R1!K159,T3_R2!K159)),COUNTRY_INFO!E159),0)","v":0},{"$f":"IF(AND(COUNTRY_INFO!J159>1,COUNTRY_INFO!J159<4), IF(T159/COUNTRY_INFO!E159*100<>0, IF(T159/COUNTRY_INFO!E159*100>100,100,T159/COUNTRY_INFO!E159*100), \"-\"),0)","v":"-"},{"$f":"IF(AND(COUNTRY_INFO!J159>1,COUNTRY_INFO!J159<4),IF(COUNTRY_INFO!F159>MAX('MDA1'!K159,'MDA2'!K159,'T1'!M159,MAX(T3_R1!L159,T3_R2!L159)),MAX('MDA1'!K159,'MDA2'!K159,'T1'!M159,MAX(T3_R1!L159,T3_R2!L159)),COUNTRY_INFO!F159),0)","v":0},{"$f":"IF(AND(COUNTRY_INFO!J159>1,COUNTRY_INFO!J159<4), IF(V159/COUNTRY_INFO!F159*100<>0, IF(V159/COUNTRY_INFO!F159*100>100,100,V159/COUNTRY_INFO!F159*100), \"-\"),0)","v":"-"},0,{"$f":"IF(AND(COUNTRY_INFO!J159>1,COUNTRY_INFO!J159<4), IF(S159/P159*100<>0, IF(X159/P159*100>100,100,X159/P159*100), \"-\"),0)","v":"-"},{"$f":"COUNTRY_INFO!O159","v":66664.719514813944},null,null,{"$f":"MAX('T1'!L159,'T2'!J159)+MAX('T1'!M159,'T2'!K159)+MAX('T1'!N159,'T2'!L159)","v":0},{"$f":"IF(COUNTRY_INFO!K159=1,IF(COUNTRY_INFO!F159*0.33>MAX('T1'!M159,'T2'!K159),MAX('T1'!M159,'T2'!K159),COUNTRY_INFO!F159*0.33),IF(COUNTRY_INFO!K159=2,IF(COUNTRY_INFO!F159*0.5>MAX('T1'!M159,'T2'!K159),MAX('T1'!M159,'T2'!K159),COUNTRY_INFO!F159*0.5),IF(COUNTRY_INFO!K159=3,IF(COUNTRY_INFO!F159>MAX('T1'!M159,'T2'!K159),MAX('T1'!M159,'T2'!K159),COUNTRY_INFO!F159),0)))","v":0},{"$f":"IF(AND(COUNTRY_INFO!K159>0,COUNTRY_INFO!K159<4),IF(Z159>0,IF(COUNTRY_INFO!K159=1, AD159/(COUNTRY_INFO!F159*0.33)*100, IF(COUNTRY_INFO!K159=2, AD159/(COUNTRY_INFO!F159*0.5)*100, IF(COUNTRY_INFO!K159=3, AD159/COUNTRY_INFO!F159*100))),\"-\"),0)","v":0},{"$f":"IF(COUNTRY_INFO!K159=2,IF(COUNTRY_INFO!G159*0.2>MAX('T1'!N159,'T2'!L159),MAX('T1'!N159,'T2'!L159),COUNTRY_INFO!G159*0.2),IF(COUNTRY_INFO!K159=3,IF(COUNTRY_INFO!G159>MAX('T1'!N159,'T2'!L159),MAX('T1'!N159,'T2'!L159),COUNTRY_INFO!G159),0))","v":0},{"$f":"IF(AND(COUNTRY_INFO!K159>0,COUNTRY_INFO!K159<4),IF(Z159>0,IF(COUNTRY_INFO!K159=1, 0, IF(COUNTRY_INFO!K159=2, AF159/(COUNTRY_INFO!G159*0.2)*100, IF(COUNTRY_INFO!K159=3, AF159/COUNTRY_INFO!G159*100))),\"-\"),0)","v":0},0,{"$f":"IF(AND(COUNTRY_INFO!K159>0,COUNTRY_INFO!K159<4), IF(AC159/Z159*100<>0, IF(AH159/Z159*100>100,100,AH159/Z159*100), \"-\"),0)","v":"-"},null,{"$f":"IF(AND(D159<>0, D159<>\"Unknown\",D159<>\"Stopped\",D159<>\"Not required\"),D159/COUNTRY_INFO!D159, 0)","v":0},{"$f":"IF(AND(J159<>0,J159<>\"Unknown\",J159<>\"Stopped\",J159<>\"Not required\"),J159/COUNTRY_INFO!D159, 0)","v":0},{"$f":"IF(AND(P159<>0,P159<>\"Unknown\",P159<>\"Not required\"),P159/(COUNTRY_INFO!E159+COUNTRY_INFO!F159), 0)","v":1},{"$f":"IF(AND(Z159<>0,Z159<>\"Unknown\",Z159<>\"Not required\"),IF(COUNTRY_INFO!K159=1,1,IF(COUNTRY_INFO!K159=2,0.5*COUNTRY_INFO!F159/(0.5*COUNTRY_INFO!F159+0.2*COUNTRY_INFO!G159),IF(COUNTRY_INFO!K159=3,COUNTRY_INFO!F159/(COUNTRY_INFO!F159+COUNTRY_INFO!G159)))),0)","v":0.6410662237992808},{"$f":"IF(AND(Z159<>0,Z159<>\"Unknown\",Z159<>\"Not required\"),IF(COUNTRY_INFO!K159=1,0,IF(COUNTRY_INFO!K159=2,0.2*COUNTRY_INFO!G159/(0.5*COUNTRY_INFO!F159+0.2*COUNTRY_INFO!G159),IF(COUNTRY_INFO!K159=3,COUNTRY_INFO!G159/(COUNTRY_INFO!F159+COUNTRY_INFO!G159)))),0)","v":0.35893377620071926},{"$f":"MAX(COUNTRY_INFO!D159*AK159*PROFILE!$G$7,COUNTRY_INFO!D159*AL159*PROFILE!$G$7)","v":0},{"$f":"MAX(COUNTRY_INFO!D159*AK159*PROFILE!$G$8,COUNTRY_INFO!D159*AL159*PROFILE!$G$8,COUNTRY_INFO!D159*AM159*PROFILE!$G$8)","v":30378.481034394368},{"$f":"MAX(COUNTRY_INFO!D159*AK159*PROFILE!$G$9,COUNTRY_INFO!D159*AL159*PROFILE!$G$9,COUNTRY_INFO!D159*AM159*PROFILE!$G$9,IF(AND(DISTRICT!Z159<>\"Unknown\",Z159<>\"Not required\"),COUNTRY_INFO!O159*DISTRICT!AN159,0))","v":52939.086074707586},{"$f":"MAX(COUNTRY_INFO!D159*AK159*PROFILE!$G$10,COUNTRY_INFO!D159*AL159*PROFILE!$G$10,IF(AND(DISTRICT!Z159<>\"Unknown\",Z159<>\"Not required\"),COUNTRY_INFO!O159*DISTRICT!AO159,0))","v":23928.219514813951},107245.78662391589,0,{"$f":"MAX('MDA2'!J159,'T1'!L159,'T2'!J159,T3_R1!K159,T3_R2!K159)","v":0},{"$f":"MAX('MDA1'!K159,'MDA2'!K159,'MDA3'!I159,'MDA3'!L159,'T1'!M159,'T2'!K159,T3_R1!L159,T3_R2!L159)","v":0},{"$f":"MAX('MDA1'!L159,'MDA2'!L159,'MDA3'!J159,'MDA3'!M159,'T1'!N159,'T2'!L159,T3_R1!M159,T3_R2!M159)","v":0},0,{"$f":"MAX('MDA2'!J159,T159)","v":0},{"$f":"MAX('MDA1'!K159,'MDA2'!K159,'MDA3'!I159,'MDA3'!L159,V159,AD159)","v":0},{"$f":"MAX('MDA1'!L159,'MDA2'!L159,'MDA3'!J159,'MDA3'!M159,AF159)","v":0},0,0]
[{"$f":"IF(COUNTRY_INFO!A160=0,\" \",COUNTRY_INFO!A160)","v":"Tanzania"},{"$f":"IF(COUNTRY_INFO!B160=0,\" \",COUNTRY_INFO!B160)","v":"Simiyu"},{"$f":"IF(COUNTRY_INFO!C160=0,\" \",COUNTRY_INFO!C160)","v":"Itilima District Council"},{"$f":"COUNTRY_INFO!L160","v":0},null,null,{"$f":"MAX('MDA1'!M160,'MDA2'!M160)","v":0},{"$f":"IF(AND(COUNTRY_INFO!H160>0,COUNTRY_INFO!H160<4),IF(D160>MAX('MDA1'!M160,'MDA2'!M160),MAX('MDA1'!M160,'MDA2'!M160),D160),0)","v":0},{"$f":"IF(AND(COUNTRY_INFO!H160>0,COUNTRY_INFO!H160<4), IF(G160/D160*100<>0, IF(G160/D160*100>100,100,G160/D160*100), \"-\"),0)","v":0},{"$f":"COUNTRY_INFO!M160","v":0},null,null,{"$f":"MAX('MDA1'!M160,MAX('MDA3'!I160,'MDA3'!L160)+MAX('MDA3'!J160,'MDA3'!M160))","v":0},{"$f":"IF(AND(COUNTRY_INFO!I160>0,COUNTRY_INFO!I160<4),IF(J160>MAX('MDA1'!M160,MAX('MDA3'!I160,'MDA3'!L160)+MAX('MDA3'!J160,'MDA3'!M160)),MAX('MDA1'!M160,MAX('MDA3'!I160,'MDA3'!L160)+MAX('MDA3'!J160,'MDA3'!M160)),J160),0)","v":0},{"$f":"IF(AND(COUNTRY_INFO!I160>0,COUNTRY_INFO!I160<4), IF(M160/J160*100<>0, IF(M160/J160*100>100,100,M160/J160*100), \"-\"),0)","v":0},{"$f":"COUNTRY_INFO!N160","v":148551},null,null,{"$f":"SUM(MAX('MDA2'!J160, 'T1'!L160, MAX(T3_R1!K160, T3_R2!K160)), MAX('MDA1'!K160, 'MDA2'!K160, 'T1'!M160, MAX(T3_R1!L160, T3_R2!L160)), MAX('MDA1'!L160, 'MDA2'!L160, 'T1'!N160, MAX(T3_R1!M160, T3_R2!M160)))","v":0},{"$f":"IF(AND(COUNTRY_INFO!J160>1,COUNTRY_INFO!J160<4),IF(COUNTRY_INFO!E160>MAX('MDA2'!J160,'T1'!L160,MAX(T3_R1!K160,T3_R2!K160)),MAX('MDA2'!J160,'T1'!L160,MAX(T3_R1!K160,T3_R2!K160)),COUNTRY_INFO!E160),0)","v":0},{"$f":"IF(AND(COUNTRY_INFO!J160>1,COUNTRY_INFO!J160<4), IF(T160/COUNTRY_INFO!E160*100<>0, IF(T160/COUNTRY_INFO!E160*100>100,100,T160/COUNTRY_INFO!E160*100), \"-\"),0)","v":"-"},{"$f":"IF(AND(COUNTRY_INFO!J160>1,COUNTRY_INFO!J160<4),IF(COUNTRY_INFO!F160>MAX('MDA1'!K160,'MDA2'!K160,'T1'!M160,MAX(T3_R1!L160,T3_R2!L160)),MAX('MDA1'!K160,'MDA2'!K160,'T1'!M160,MAX(T3_R1!L160,T3_R2!L160)),COUNTRY_INFO!F160),0)","v":0},{"$f":"IF(AND(COUNTRY_INFO!J160>1,COUNTRY_INFO!J160<4), IF(V160/COUNTRY_INFO!F160*100<>0, IF(V160/COUNTRY_INFO!F160*100>100,100,V160/COUNTRY_INFO!F160*100), \"-\"),0)","v":"-"},0,{"$f":"IF(AND(COUNTRY_INFO!J160>1,COUNTRY_INFO!J160<4), IF(S160/P160*100<>0, IF(X160/P160*100>100,100,X160/P160*100), \"-\"),0)","v":"-"},{"$f":"COUNTRY_INFO!O160","v":316237.34862854198},null,null,{"$f":"MAX('T1'!L160,'T2'!J160)+MAX('T1'!M160,'T2'!K160)+MAX('T1'!N160,'T2'!L160)","v":0},{"$f":"IF(COUNTRY_INFO!K160=1,IF(COUNTRY_INFO!F160*0.33>MAX('T1'!M160,'T2'!K160),MAX('T1'!M160,'T2'!K160),COUNTRY_INFO!F160*0.33),IF(COUNTRY_INFO!K160=2,IF(COUNTRY_INFO!F160*0.5>MAX('T1'!M160,'T2'!K160),MAX('T1'!M160,'T2'!K160),COUNTRY_INFO!F160*0.5),IF(COUNTRY_INFO!K160=3,IF(COUNTRY_INFO!F160>MAX('T1'!M160,'T2'!K160),MAX('T1'!M160,'T2'!K160),COUNTRY_INFO!F160),0)))","v":0},{"$f":"IF(AND(COUNTRY_INFO!K160>0,COUNTRY_INFO!K160<4),IF(Z160>0,IF(COUNTRY_INFO!K160=1, AD160/(COUNTRY_INFO!F160*0.33)*100, IF(COUNTRY_INFO!K160=2, AD160/(COUNTRY_INFO!F160*0.5)*100, IF(COUNTRY_INFO!K160=3, AD160/COUNTRY_INFO!F160*100))),\"-\"),0)","v":0},{"$f":"IF(COUNTRY_INFO!K160=2,IF(COUNTRY_INFO!G160*0.2>MAX('T1'!N160,'T2'!L160),MAX('T1'!N160,'T2'!L160),COUNTRY_INFO!G160*0.2),IF(COUNTRY_INFO!K160=3,IF(COUNTRY_INFO!G160>MAX('T1'!N160,'T2'!L160),MAX('T1'!N160,'T2'!L160),COUNTRY_INFO!G160),0))","v":0},{"$f":"IF(AND(COUNTRY_INFO!K160>0,COUNTRY_INFO!K160<4),IF(Z160>0,IF(COUNTRY_INFO!K160=1, 0, IF(COUNTRY_INFO!K160=2, AF160/(COUNTRY_INFO!G160*0.2)*100, IF(COUNTRY_INFO!K160=3, AF160/COUNTRY_INFO!G160*100))),\"-\"),0)","v":0},0,{"$f":"IF(AND(COUNTRY_INFO!K160>0,COUNTRY_INFO!K160<4), IF(AC160/Z160*100<>0, IF(AH160/Z160*100>100,100,AH160/Z160*100), \"-\"),0)","v":"-"},null,{"$f":"IF(AND(D160<>0, D160<>\"Unknown\",D160<>\"Stopped\",D160<>\"Not required\"),D160/COUNTRY_INFO!D160, 0)","v":0},{"$f":"IF(AND(J160<>0,J160<>\"Unknown\",J160<>\"Stopped\",J160<>\"Not required\"),J160/COUNTRY_INFO!D160, 0)","v":0},{"$f":"IF(AND(P160<>0,P160<>\"Unknown\",P160<>\"Not required\"),P160/(COUNTRY_INFO!E160+COUNTRY_INFO!F160), 0)","v":1},{"$f":"IF(AND(Z160<>0,Z160<>\"Unknown\",Z160<>\"Not required\"),IF(COUNTRY_INFO!K160=1,1,IF(COUNTRY_INFO!K160=2,0.5*COUNTRY_INFO!F160/(0.5*COUNTRY_INFO!F160+0.2*COUNTRY_INFO!G160),IF(COUNTRY_INFO!K160=3,COUNTRY_INFO!F160/(COUNTRY_INFO!F160+COUNTRY_INFO!G160)))),0)","v":0.32164132554588376},{"$f":"IF(AND(Z160<>0,Z160<>\"Unknown\",Z160<>\"Not required\"),IF(COUNTRY_INFO!K160=1,0,IF(COUNTRY_INFO!K160=2,0.2*COUNTRY_INFO!G160/(0.5*COUNTRY_INFO!F160+0.2*COUNTRY_INFO!G160),IF(COUNTRY_INFO!K160=3,COUNTRY_INFO!G160/(COUNTRY_INFO!F160+COUNTRY_INFO!G160)))),0)","v":0.67835867445411624},{"$f":"MAX(COUNTRY_INFO!D160*AK160*PROFILE!$G$7,COUNTRY_INFO!D160*AL160*PROFILE!$G$7)","v":0},{"$f":"MAX(COUNTRY_INFO!D160*AK160*PROFILE!$G$8,COUNTRY_INFO!D160*AL160*PROFILE!$G$8,COUNTRY_INFO!D160*AM160*PROFILE!$G$8)","v":46836.462662773862},{"$f":"MAX(COUNTRY_INFO!D160*AK160*PROFILE!$G$9,COUNTRY_INFO!D160*AL160*PROFILE!$G$9,COUNTRY_INFO!D160*AM160*PROFILE!$G$9,IF(AND(DISTRICT!Z160<>\"Unknown\",Z160<>\"Not required\"),COUNTRY_INFO!O160*DISTRICT!AN160,0))","v":101715.00000000001},{"$f":"MAX(COUNTRY_INFO!D160*AK160*PROFILE!$G$10,COUNTRY_INFO!D160*AL160*PROFILE!$G$10,IF(AND(DISTRICT!Z160<>\"Unknown\",Z160<>\"Not required\"),COUNTRY_INFO!O160*DISTRICT!AO160,0))","v":214522.34862854198},363073.81129131583,0,{"$f":"MAX('MDA2'!J160,'T1'!L160,'T2'!J160,T3_R1!K160,T3_R2!K160)","v":0},{"$f":"MAX('MDA1'!K160,'MDA2'!K160,'MDA3'!I160,'MDA3'!L160,'T1'!M160,'T2'!K160,T3_R1!L160,T3_R2!L160)","v":0},{"$f":"MAX('MDA1'!L160,'MDA2'!L160,'MDA3'!J160,'MDA3'!M160,'T1'!N160,'T2'!L160,T3_R1!M160,T3_R2!M160)","v":0},0,{"$f":"MAX('MDA2'!J160,T160)","v":0},{"$f":"MAX('MDA1'!K160,'MDA2'!K160,'MDA3'!I160,'MDA3'!L160,V160,AD160)","v":0},{"$f":"MAX('MDA1'!L160,'MDA2'!L160,'MDA3'!J160,'MDA3'!M160,AF160)","v":0},0,0]
[{"$f":"IF(COUNTRY_INFO!A161=0,\" \",COUNTRY_INFO!A161)","v":"Tanzania"},{"$f":"IF(COUNTRY_INFO!B161=0,\" \",COUNTRY_INFO!B161)","v":"Simiyu"},{"$f":"IF(COUNTRY_INFO!C161=0,\" \",COUNTRY_INFO!C161)","v":"Maswa District Council"},{"$f":"COUNTRY_INFO!L161","v":0},null,null,{"$f":"MAX('MDA1'!M161,'MDA2'!M161)","v":0},{"$f":"IF(AND(COUNTRY_INFO!H161>0,COUNTRY_INFO!H161<4),IF(D161>MAX('MDA1'!M161,'MDA2'!M161),MAX('MDA1'!M161,'MDA2'!M161),D161),0)","v":0},{"$f":"IF(AND(COUNTRY_INFO!H161>0,COUNTRY_INFO!H161<4), IF(G161/D161*100<>0, IF(G161/D161*100>100,100,G161/D161*100), \"-\"),0)","v":0},{"$f":"COUNTRY_INFO!M161","v":0},null,null,{"$f":"MAX('MDA1'!M161,MAX('MDA3'!I161,'MDA3'!L161)+MAX('MDA3'!J161,'MDA3'!M161))","v":0},{"$f":"IF(AND(COUNTRY_INFO!I161>0,COUNTRY_INFO!I161<4),IF(J161>MAX('MDA1'!M161,MAX('MDA3'!I161,'MDA3'!L161)+MAX('MDA3'!J161,'MDA3'!M161)),MAX('MDA1'!M161,MAX('MDA3'!I161,'MDA3'!L161)+MAX('MDA3'!J161,'MDA3'!M161)),J161),0)","v":0},{"$f":"IF(AND(COUNTRY_INFO!I161>0,COUNTRY_INFO!I161<4), IF(M161/J161*100<>0, IF(M161/J161*100>100,100,M161/J161*100), \"-\"),0)","v":0},{"$f":"COUNTRY_INFO!N161","v":133814},null,null,{"$f":"SUM(MAX('MDA2'!J161, 'T1'!L161, MAX(T3_R1!K161, T3_R2!K161)), MAX('MDA1'!K161, 'MDA2'!K161, 'T1'!M161, MAX(T3_R1!L161, T3_R2!L161)), MAX('MDA1'!L161, 'MDA2'!L161, 'T1'!N161, MAX(T3_R1!M161, T3_R2!M161)))","v":0},{"$f":"IF(AND(COUNTRY_INFO!J161>1,COUNTRY_INFO!J161<4),IF(COUNTRY_INFO!E161>MAX('MDA2'!J161,'T1'!L161,MAX(T3_R1!K161,T3_R2!K161)),MAX('MDA2'!J161,'T1'!L161,MAX(T3_R1!K161,T3_R2!K161)),COUNTRY_INFO!E161),0)","v":0},{"$f":"IF(AND(COUNTRY_INFO!J161>1,COUNTRY_INFO!J161<4), IF(T161/COUNTRY_INFO!E161*100<>0, IF(T161/COUNTRY_INFO!E161*100>100,100,T161/COUNTRY_INFO!E161*100), \"-\"),0)","v":"-"},{"$f":"IF(AND(COUNTRY_INFO!J161>1,COUNTRY_INFO!J161<4),IF(COUNTRY_INFO!F161>MAX('MDA1'!K161,'MDA2'!K161,'T1'!M161,MAX(T3_R1!L161,T3_R2!L161)),MAX('MDA1'!K161,'MDA2'!K161,'T1'!M161,MAX(T3_R1!L161,T3_R2!L161)),COUNTRY_INFO!F161),0)","v":0},{"$f":"IF(AND(COUNTRY_INFO!J161>1,COUNTRY_INFO!J161<4), IF(V161/COUNTRY_INFO!F161*100<>0, IF(V161/COUNTRY_INFO!F161*100>100,100,V161/COUNTRY_INFO!F161*100), \"-\"),0)","v":"-"},0,{"$f":"IF(AND(COUNTRY_INFO!J161>1,COUNTRY_INFO!J161<4), IF(S161/P161*100<>0, IF(X161/P161*100>100,100,X161/P161*100), \"-\"),0)","v":"-"},{"$f":"COUNTRY_INFO!O161","v":346689.27291341044},null,null,{"$f":"MAX('T1'!L161,'T2'!J161)+MAX('T1'!M161,'T2'!K161)+MAX('T1'!N161,'T2'!L161)","v":0},{"$f":"IF(COUNTRY_INFO!K161=1,IF(COUNTRY_INFO!F161*0.33>MAX('T1'!M161,'T2'!K161),MAX('T1'!M161,'T2'!K161),COUNTRY_INFO!F161*0.33),IF(COUNTRY_INFO!K161=2,IF(COUNTRY_INFO!F161*0.5>MAX('T1'!M161,'T2'!K161),MAX('T1'!M161,'T2'!K161),COUNTRY_INFO!F161*0.5),IF(COUNTRY_INFO!K161=3,IF(COUNTRY_INFO!F161>MAX('T1'!M161,'T2'!K161),MAX('T1'!M161,'T2'!K161),COUNTRY_INFO!F161),0)))","v":0},{"$f":"IF(AND(COUNTRY_INFO!K161>0,COUNTRY_INFO!K161<4),IF(Z161>0,IF(COUNTRY_INFO!K161=1, AD161/(COUNTRY_INFO!F161*0.33)*100, IF(COUNTRY_INFO!K161=2, AD161/(COUNTRY_INFO!F161*0.5)*100, IF(COUNTRY_INFO!K161=3, AD161/COUNTRY_INFO!F161*100))),\"-\"),0)","v":0},{"$f":"IF(COUNTRY_INFO!K161=2,IF(COUNTRY_INFO!G161*0.2>MAX('T1'!N161,'T2'!L161),MAX('T1'!N161,'T2'!L161),COUNTRY_INFO!G161*0.2),IF(COUNTRY_INFO!K161=3,IF(COUNTRY_INFO!G161>MAX('T1'!N161,'T2'!L161),MAX('T1'!N161,'T2'!L161),COUNTRY_INFO!G161),0))","v":0},{"$f":"IF(AND(COUNTRY_INFO!K161>0,COUNTRY_INFO!K161<4),IF(Z161>0,IF(COUNTRY_INFO!K161=1, 0, IF(COUNTRY_INFO!K161=2, AF161/(COUNTRY_INFO!G161*0.2)*100, IF(COUNTRY_INFO!K161=3, AF161/COUNTRY_INFO!G161*100))),\"-\"),0)","v":0},0,{"$f":"IF(AND(COUNTRY_INFO!K161>0,COUNTRY_INFO!K161<4), IF(AC161/Z161*100<>0, IF(AH161/Z161*100>100,100,AH161/Z161*100), \"-\"),0)","v":"-"},null,{"$f":"IF(AND(D161<>0, D161<>\"Unknown\",D161<>\"Stopped\",D161<>\"Not required\"),D161/COUNTRY_INFO!D161, 0)","v":0},{"$f":"IF(AND(J161<>0,J161<>\"Unknown\",J161<>\"Stopped\",J161<>\"Not required\"),J161/COUNTRY_INFO!D161, 0)","v":0},{"$f":"IF(AND(P161<>0,P161<>\"Unknown\",P161<>\"Not required\"),P161/(COUNTRY_INFO!E161+COUNTRY_INFO!F161), 0)","v":1},{"$f":"IF(AND(Z161<>0,Z161<>\"Unknown\",Z161<>\"Not required\"),IF(COUNTRY_INFO!K161=1,1,IF(COUNTRY_INFO!K161=2,0.5*COUNTRY_INFO!F161/(0.5*COUNTRY_INFO!F161+0.2*COUNTRY_INFO!G161),IF(COUNTRY_INFO!K161=3,COUNTRY_INFO!F161/(COUNTRY_INFO!F161+COUNTRY_INFO!G161)))),0)","v":0.23787006533829808},{"$f":"IF(AND(Z161<>0,Z161<>\"Unknown\",Z161<>\"Not required\"),IF(COUNTRY_INFO!K161=1,0,IF(COUNTRY_INFO!K161=2,0.2*COUNTRY_INFO!G161/(0.5*COUNTRY_INFO!F161+0.2*COUNTRY_INFO!G161),IF(COUNTRY_INFO!K161=3,COUNTRY_INFO!G161/(COUNTRY_INFO!F161+COUNTRY_INFO!G161)))),0)","v":0.76212993466170187},{"$f":"MAX(COUNTRY_INFO!D161*AK161*PROFILE!$G$7,COUNTRY_INFO!D161*AL161*PROFILE!$G$7)","v":0},{"$f":"MAX(COUNTRY_INFO!D161*AK161*PROFILE!$G$8,COUNTRY_INFO!D161*AL161*PROFILE!$G$8,COUNTRY_INFO!D161*AM161*PROFILE!$G$8)","v":51346.679961937254},{"$f":"MAX(COUNTRY_INFO!D161*AK161*PROFILE!$G$9,COUNTRY_INFO!D161*AL161*PROFILE!$G$9,COUNTRY_INFO!D161*AM161*PROFILE!$G$9,IF(AND(DISTRICT!Z161<>\"Unknown\",Z161<>\"Not required\"),COUNTRY_INFO!O161*DISTRICT!AN161,0))","v":89479.335950927707},{"$f":"MAX(COUNTRY_INFO!D161*AK161*PROFILE!$G$10,COUNTRY_INFO!D161*AL161*PROFILE!$G$10,IF(AND(DISTRICT!Z161<>\"Unknown\",Z161<>\"Not required\"),COUNTRY_INFO!O161*DISTRICT!AO161,0))","v":264222.27291341044},405048.28882627538,0,{"$f":"MAX('MDA2'!J161,'T1'!L161,'T2'!J161,T3_R1!K161,T3_R2!K161)","v":0},{"$f":"MAX('MDA1'!K161,'MDA2'!K161,'MDA3'!I161,'MDA3'!L161,'T1'!M161,'T2'!K161,T3_R1!L161,T3_R2!L161)","v":0},{"$f":"MAX('MDA1'!L161,'MDA2'!L161,'MDA3'!J161,'MDA3'!M161,'T1'!N161,'T2'!L161,T3_R1!M161,T3_R2!M161)","v":0},0,{"$f":"MAX('MDA2'!J161,T161)","v":0},{"$f":"MAX('MDA1'!K161,'MDA2'!K161,'MDA3'!I161,'MDA3'!L161,V161,AD161)","v":0},{"$f":"MAX('MDA1'!L161,'MDA2'!L161,'MDA3'!J161,'MDA3'!M161,AF161)","v":0},0,0]
[{"$f":"IF(COUNTRY_INFO!A162=0,\" \",COUNTRY_INFO!A162)","v":"Tanzania"},{"$f":"IF(COUNTRY_INFO!B162=0,\" \",COUNTRY_INFO!B162)","v":"Simiyu"},{"$f":"IF(COUNTRY_INFO!C162=0,\" \",COUNTRY_INFO!C162)","v":"Meatu District Council"},{"$f":"COUNTRY_INFO!L162","v":0},null,null,{"$f":"MAX('MDA1'!M162,'MDA2'!M162)","v":0},{"$f":"IF(AND(COUNTRY_INFO!H162>0,COUNTRY_INFO!H162<4),IF(D162>MAX('MDA1'!M162,'MDA2'!M162),MAX('MDA1'!M162,'MDA2'!M162),D162),0)","v":0},{"$f":"IF(AND(COUNTRY_INFO!H162>0,COUNTRY_INFO!H162<4), IF(G162/D162*100<>0, IF(G162/D162*100>100,100,G162/D162*100), \"-\"),0)","v":0},{"$f":"COUNTRY_INFO!M162","v":0},null,null,{"$f":"MAX('MDA1'!M162,MAX('MDA3'!I162,'MDA3'!L162)+MAX('MDA3'!J162,'MDA3'!M162))","v":0},{"$f":"IF(AND(COUNTRY_INFO!I162>0,COUNTRY_INFO!I162<4),IF(J162>MAX('MDA1'!M162,MAX('MDA3'!I162,'MDA3'!L162)+MAX('MDA3'!J162,'MDA3'!M162)),MAX('MDA1'!M162,MAX('MDA3'!I162,'MDA3'!L162)+MAX('MDA3'!J162,'MDA3'!M162)),J162),0)","v":0},{"$f":"IF(AND(COUNTRY_INFO!I162>0,COUNTRY_INFO!I162<4), IF(M162/J162*100<>0, IF(M162/J162*100>100,100,M162/J162*100), \"-\"),0)","v":0},{"$f":"COUNTRY_INFO!N162","v":117120},null,null,{"$f":"SUM(MAX('MDA2'!J162, 'T1'!L162, MAX(T3_R1!K162, T3_R2!K162)), MAX('MDA1'!K162, 'MDA2'!K162, 'T1'!M162, MAX(T3_R1!L162, T3_R2!L162)), MAX('MDA1'!L162, 'MDA2'!L162, 'T1'!N162, MAX(T3_R1!M162, T3_R2!M162)))","v":0},{"$f":"IF(AND(COUNTRY_INFO!J162>1,COUNTRY_INFO!J162<4),IF(COUNTRY_INFO!E162>MAX('MDA2'!J162,'T1'!L162,MAX(T3_R1!K162,T3_R2!K162)),MAX('MDA2'!J162,'T1'!L162,MAX(T3_R1!K162,T3_R2!K162)),COUNTRY_INFO!E162),0)","v":0},{"$f":"IF(AND(COUNTRY_INFO!J162>1,COUNTRY_INFO!J162<4), IF(T162/COUNTRY_INFO!E162*100<>0, IF(T162/COUNTRY_INFO!E162*100>100,100,T162/COUNTRY_INFO!E162*100), \"-\"),0)","v":"-"},{"$f":"IF(AND(COUNTRY_INFO!J162>1,COUNTRY_INFO!J162<4),IF(COUNTRY_INFO!F162>MAX('MDA1'!K162,'MDA2'!K162,'T1'!M162,MAX(T3_R1!L162,T3_R2!L162)),MAX('MDA1'!K162,'MDA2'!K162,'T1'!M162,MAX(T3_R1!L162,T3_R2!L162)),COUNTRY_INFO!F162),0)","v":0},{"$f":"IF(AND(COUNTRY_INFO!J162>1,COUNTRY_INFO!J162<4), IF(V162/COUNTRY_INFO!F162*100<>0, IF(V162/COUNTRY_INFO!F162*100>100,100,V162/COUNTRY_INFO!F162*100), \"-\"),0)","v":"-"},0,{"$f":"IF(AND(COUNTRY_INFO!J162>1,COUNTRY_INFO!J162<4), IF(S162/P162*100<>0, IF(X162/P162*100>100,100,X162/P162*100), \"-\"),0)","v":"-"},{"$f":"COUNTRY_INFO!O162","v":82094.573988348158},null,null,{"$f":"MAX('T1'!L162,'T2'!J162)+MAX('T1'!M162,'T2'!K162)+MAX('T1'!N162,'T2'!L162)","v":0},{"$f":"IF(COUNTRY_INFO!K162=1,IF(COUNTRY_INFO!F162*0.33>MAX('T1'!M162,'T2'!K162),MAX('T1'!M162,'T2'!K162),COUNTRY_INFO!F162*0.33),IF(COUNTRY_INFO!K162=2,IF(COUNTRY_INFO!F162*0.5>MAX('T1'!M162,'T2'!K162),MAX('T1'!M162,'T2'!K162),COUNTRY_INFO!F162*0.5),IF(COUNTRY_INFO!K162=3,IF(COUNTRY_INFO!F162>MAX('T1'!M162,'T2'!K162),MAX('T1'!M162,'T2'!K162),COUNTRY_INFO!F162),0)))","v":0},{"$f":"IF(AND(COUNTRY_INFO!K162>0,COUNTRY_INFO!K162<4),IF(Z162>0,IF(COUNTRY_INFO!K162=1, AD162/(COUNTRY_INFO!F162*0.33)*100, IF(COUNTRY_INFO!K162=2, AD162/(COUNTRY_INFO!F162*0.5)*100, IF(COUNTRY_INFO!K162=3, AD162/COUNTRY_INFO!F162*100))),\"-\"),0)","v":0},{"$f":"IF(COUNTRY_INFO!K162=2,IF(COUNTRY_INFO!G162*0.2>MAX('T1'!N162,'T2'!L162),MAX('T1'!N162,'T2'!L162),COUNTRY_INFO!G162*0.2),IF(COUNTRY_INFO!K162=3,IF(COUNTRY_INFO!G162>MAX('T1'!N162,'T2'!L162),MAX('T1'!N162,'T2'!L162),COUNTRY_INFO!G162),0))","v":0},{"$f":"IF(AND(COUNTRY_INFO!K162>0,COUNTRY_INFO!K162<4),IF(Z162>0,IF(COUNTRY_INFO!K162=1, 0, IF(COUNTRY_INFO!K162=2, AF162/(COUNTRY_INFO!G162*0.2)*100, IF(COUNTRY_INFO!K162=3, AF162/COUNTRY_INFO!G162*100))),\"-\"),0)","v":0},0,{"$f":"IF(AND(COUNTRY_INFO!K162>0,COUNTRY_INFO!K162<4), IF(AC162/Z162*100<>0, IF(AH162/Z162*100>100,100,AH162/Z162*100), \"-\"),0)","v":"-"},null,{"$f":"IF(AND(D162<>0, D162<>\"Unknown\",D162<>\"Stopped\",D162<>\"Not required\"),D162/COUNTRY_INFO!D162, 0)","v":0},{"$f":"IF(AND(J162<>0,J162<>\"Unknown\",J162<>\"Stopped\",J162<>\"Not required\"),J162/COUNTRY_INFO!D162, 0)","v":0},{"$f":"IF(AND(P162<>0,P162<>\"Unknown\",P162<>\"Not required\"),P162/(COUNTRY_INFO!E162+COUNTRY_INFO!F162), 0)","v":1},{"$f":"IF(AND(Z162<>0,Z162<>\"Unknown\",Z162<>\"Not required\"),IF(COUNTRY_INFO!K162=1,1,IF(COUNTRY_INFO!K162=2,0.5*COUNTRY_INFO!F162/(0.5*COUNTRY_INFO!F162+0.2*COUNTRY_INFO!G162),IF(COUNTRY_INFO!K162=3,COUNTRY_INFO!F162/(COUNTRY_INFO!F162+COUNTRY_INFO!G162)))),0)","v":0.44104011070377114},{"$f":"IF(AND(Z162<>0,Z162<>\"Unknown\",Z162<>\"Not required\"),IF(COUNTRY_INFO!K162=1,0,IF(COUNTRY_INFO!K162=2,0.2*COUNTRY_INFO!G162/(0.5*COUNTRY_INFO!F162+0.2*COUNTRY_INFO!G162),IF(COUNTRY_INFO!K162=3,COUNTRY_INFO!G162/(COUNTRY_INFO!F162+COUNTRY_INFO!G162)))),0)","v":0.55895988929622897},{"$f":"MAX(COUNTRY_INFO!D162*AK162*PROFILE!$G$7,COUNTRY_INFO!D162*AL162*PROFILE!$G$7)","v":0},{"$f":"MAX(COUNTRY_INFO!D162*AK162*PROFILE!$G$8,COUNTRY_INFO!D162*AL162*PROFILE!$G$8,COUNTRY_INFO!D162*AM162*PROFILE!$G$8)","v":44705.965880803815},{"$f":"MAX(COUNTRY_INFO!D162*AK162*PROFILE!$G$9,COUNTRY_INFO!D162*AL162*PROFILE!$G$9,COUNTRY_INFO!D162*AM162*PROFILE!$G$9,IF(AND(DISTRICT!Z162<>\"Unknown\",Z162<>\"Not required\"),COUNTRY_INFO!O162*DISTRICT!AN162,0))","v":77906.889851973014},{"$f":"MAX(COUNTRY_INFO!D162*AK162*PROFILE!$G$10,COUNTRY_INFO!D162*AL162*PROFILE!$G$10,IF(AND(DISTRICT!Z162<>\"Unknown\",Z162<>\"Not required\"),COUNTRY_INFO!O162*DISTRICT!AO162,0))","v":45887.573988348166},168500.42972112499,0,{"$f":"MAX('MDA2'!J162,'T1'!L162,'T2'!J162,T3_R1!K162,T3_R2!K162)","v":0},{"$f":"MAX('MDA1'!K162,'MDA2'!K162,'MDA3'!I162,'MDA3'!L162,'T1'!M162,'T2'!K162,T3_R1!L162,T3_R2!L162)","v":0},{"$f":"MAX('MDA1'!L162,'MDA2'!L162,'MDA3'!J162,'MDA3'!M162,'T1'!N162,'T2'!L162,T3_R1!M162,T3_R2!M162)","v":0},0,{"$f":"MAX('MDA2'!J162,T162)","v":0},{"$f":"MAX('MDA1'!K162,'MDA2'!K162,'MDA3'!I162,'MDA3'!L162,V162,AD162)","v":0},{"$f":"MAX('MDA1'!L162,'MDA2'!L162,'MDA3'!J162,'MDA3'!M162,AF162)","v":0},0,0]
[{"$f":"IF(COUNTRY_INFO!A163=0,\" \",COUNTRY_INFO!A163)","v":"Tanzania"},{"$f":"IF(COUNTRY_INFO!B163=0,\" \",COUNTRY_INFO!B163)","v":"Singida"},{"$f":"IF(COUNTRY_INFO!C163=0,\" \",COUNTRY_INFO!C163)","v":"Ikungi District Council"},{"$f":"COUNTRY_INFO!L163","v":"Stopped"},null,null,{"$f":"MAX('MDA1'!M163,'MDA2'!M163)","v":0},{"$f":"IF(AND(COUNTRY_INFO!H163>0,COUNTRY_INFO!H163<4),IF(D163>MAX('MDA1'!M163,'MDA2'!M163),MAX('MDA1'!M163,'MDA2'!M163),D163),0)","v":0},{"$f":"IF(AND(COUNTRY_INFO!H163>0,COUNTRY_INFO!H163<4), IF(G163/D163*100<>0, IF(G163/D163*100>100,100,G163/D163*100), \"-\"),0)","v":0},{"$f":"COUNTRY_INFO!M163","v":0},null,null,{"$f":"MAX('MDA1'!M163,MAX('MDA3'!I163,'MDA3'!L163)+MAX('MDA3'!J163,'MDA3'!M163))","v":0},{"$f":"IF(AND(COUNTRY_INFO!I163>0,COUNTRY_INFO!I163<4),IF(J163>MAX('MDA1'!M163,MAX('MDA3'!I163,'MDA3'!L163)+MAX('MDA3'!J163,'MDA3'!M163)),MAX('MDA1'!M163,MAX('MDA3'!I163,'MDA3'!L163)+MAX('MDA3'!J163,'MDA3'!M163)),J163),0)","v":0},{"$f":"IF(AND(COUNTRY_INFO!I163>0,COUNTRY_INFO!I163<4), IF(M163/J163*100<>0, IF(M163/J163*100>100,100,M163/J163*100), \"-\"),0)","v":0},{"$f":"COUNTRY_INFO!N163","v":126135},null,null,{"$f":"SUM(MAX('MDA2'!J163, 'T1'!L163, MAX(T3_R1!K163, T3_R2!K163)), MAX('MDA1'!K163, 'MDA2'!K163, 'T1'!M163, MAX(T3_R1!L163, T3_R2!L163)), MAX('MDA1'!L163, 'MDA2'!L163, 'T1'!N163, MAX(T3_R1!M163, T3_R2!M163)))","v":83690},{"$f":"IF(AND(COUNTRY_INFO!J163>1,COUNTRY_INFO!J163<4),IF(COUNTRY_INFO!E163>MAX('MDA2'!J163,'T1'!L163,MAX(T3_R1!K163,T3_R2!K163)),MAX('MDA2'!J163,'T1'!L163,MAX(T3_R1!K163,T3_R2!K163)),COUNTRY_INFO!E163),0)","v":0},{"$f":"IF(AND(COUNTRY_INFO!J163>1,COUNTRY_INFO!J163<4), IF(T163/COUNTRY_INFO!E163*100<>0, IF(T163/COUNTRY_INFO!E163*100>100,100,T163/COUNTRY_INFO!E163*100), \"-\"),0)","v":"-"},{"$f":"IF(AND(COUNTRY_INFO!J163>1,COUNTRY_INFO!J163<4),IF(COUNTRY_INFO!F163>MAX('MDA1'!K163,'MDA2'!K163,'T1'!M163,MAX(T3_R1!L163,T3_R2!L163)),MAX('MDA1'!K163,'MDA2'!K163,'T1'!M163,MAX(T3_R1!L163,T3_R2!L163)),COUNTRY_INFO!F163),0)","v":83690},{"$f":"IF(AND(COUNTRY_INFO!J163>1,COUNTRY_INFO!J163<4), IF(V163/COUNTRY_INFO!F163*100<>0, IF(V163/COUNTRY_INFO!F163*100>100,100,V163/COUNTRY_INFO!F163*100), \"-\"),0)","v":99.869926848769069},83690,{"$f":"IF(AND(COUNTRY_INFO!J163>1,COUNTRY_INFO!J163<4), IF(S163/P163*100<>0, IF(X163/P163*100>100,100,X163/P163*100), \"-\"),0)","v":66.349546121219333},{"$f":"COUNTRY_INFO!O163","v":82310.093298646112},null,null,{"$f":"MAX('T1'!L163,'T2'!J163)+MAX('T1'!M163,'T2'!K163)+MAX('T1'!N163,'T2'!L163)","v":0},{"$f":"IF(COUNTRY_INFO!K163=1,IF(COUNTRY_INFO!F163*0.33>MAX('T1'!M163,'T2'!K163),MAX('T1'!M163,'T2'!K163),COUNTRY_INFO!F163*0.33),IF(COUNTRY_INFO!K163=2,IF(COUNTRY_INFO!F163*0.5>MAX('T1'!M163,'T2'!K163),MAX('T1'!M163,'T2'!K163),COUNTRY_INFO!F163*0.5),IF(COUNTRY_INFO!K163=3,IF(COUNTRY_INFO!F163>MAX('T1'!M163,'T2'!K163),MAX('T1'!M163,'T2'!K163),COUNTRY_INFO!F163),0)))","v":0},{"$f":"IF(AND(COUNTRY_INFO!K163>0,COUNTRY_INFO!K163<4),IF(Z163>0,IF(COUNTRY_INFO!K163=1, AD163/(COUNTRY_INFO!F163*0.33)*100, IF(COUNTRY_INFO!K163=2, AD163/(COUNTRY_INFO!F163*0.5)*100, IF(COUNTRY_INFO!K163=3, AD163/COUNTRY_INFO!F163*100))),\"-\"),0)","v":0},{"$f":"IF(COUNTRY_INFO!K163=2,IF(COUNTRY_INFO!G163*0.2>MAX('T1'!N163,'T2'!L163),MAX('T1'!N163,'T2'!L163),COUNTRY_INFO!G163*0.2),IF(COUNTRY_INFO!K163=3,IF(COUNTRY_INFO!G163>MAX('T1'!N163,'T2'!L163),MAX('T1'!N163,'T2'!L163),COUNTRY_INFO!G163),0))","v":0},{"$f":"IF(AND(COUNTRY_INFO!K163>0,COUNTRY_INFO!K163<4),IF(Z163>0,IF(COUNTRY_INFO!K163=1, 0, IF(COUNTRY_INFO!K163=2, AF163/(COUNTRY_INFO!G163*0.2)*100, IF(COUNTRY_INFO!K163=3, AF163/COUNTRY_INFO!G163*100))),\"-\"),0)","v":0},0,{"$f":"IF(AND(COUNTRY_INFO!K163>0,COUNTRY_INFO!K163<4), IF(AC163/Z163*100<>0, IF(AH163/Z163*100>100,100,AH163/Z163*100), \"-\"),0)","v":"-"},null,{"$f":"IF(AND(D163<>0, D163<>\"Unknown\",D163<>\"Stopped\",D163<>\"Not required\"),D163/COUNTRY_INFO!D163, 0)","v":0},{"$f":"IF(AND(J163<>0,J163<>\"Unknown\",J163<>\"Stopped\",J163<>\"Not required\"),J163/COUNTRY_INFO!D163, 0)","v":0},{"$f":"IF(AND(P163<>0,P163<>\"Unknown\",P163<>\"Not required\"),P163/(COUNTRY_INFO!E163+COUNTRY_INFO!F163), 0)","v":1},{"$f":"IF(AND(Z163<>0,Z163<>\"Unknown\",Z163<>\"Not required\"),IF(COUNTRY_INFO!K163=1,1,IF(COUNTRY_INFO!K163=2,0.5*COUNTRY_INFO!F163/(0.5*COUNTRY_INFO!F163+0.2*COUNTRY_INFO!G163),IF(COUNTRY_INFO!K163=3,COUNTRY_INFO!F163/(COUNTRY_INFO!F163+COUNTRY_INFO!G163)))),0)","v":0.50904449649906047},{"$f":"IF(AND(Z163<>0,Z163<>\"Unknown\",Z163<>\"Not required\"),IF(COUNTRY_INFO!K163=1,0,IF(COUNTRY_INFO!K163=2,0.2*COUNTRY_INFO!G163/(0.5*COUNTRY_INFO!F163+0.2*COUNTRY_INFO!G163),IF(COUNTRY_INFO!K163=3,COUNTRY_INFO!G163/(COUNTRY_INFO!F163+COUNTRY_INFO!G163)))),0)","v":0.49095550350093953},{"$f":"MAX(COUNTRY_INFO!D163*AK163*PROFILE!$G$7,COUNTRY_INFO!D163*AL163*PROFILE!$G$7)","v":0},{"$f":"MAX(COUNTRY_INFO!D163*AK163*PROFILE!$G$8,COUNTRY_INFO!D163*AL163*PROFILE!$G$8,COUNTRY_INFO!D163*AM163*PROFILE!$G$8)","v":42336.248301050626},{"$f":"MAX(COUNTRY_INFO!D163*AK163*PROFILE!$G$9,COUNTRY_INFO!D163*AL163*PROFILE!$G$9,COUNTRY_INFO!D163*AM163*PROFILE!$G$9,IF(AND(DISTRICT!Z163<>\"Unknown\",Z163<>\"Not required\"),COUNTRY_INFO!O163*DISTRICT!AN163,0))","v":73777.299475638312},{"$f":"MAX(COUNTRY_INFO!D163*AK163*PROFILE!$G$10,COUNTRY_INFO!D163*AL163*PROFILE!$G$10,IF(AND(DISTRICT!Z163<>\"Unknown\",Z163<>\"Not required\"),COUNTRY_INFO!O163*DISTRICT!AO163,0))","v":40410.593298646112},156524.14107533504,0,{"$f":"MAX('MDA2'!J163,'T1'!L163,'T2'!J163,T3_R1!K163,T3_R2!K163)","v":0},{"$f":"MAX('MDA1'!K163,'MDA2'!K163,'MDA3'!I163,'MDA3'!L163,'T1'!M163,'T2'!K163,T3_R1!L163,T3_R2!L163)","v":83690},{"$f":"MAX('MDA1'!L163,'MDA2'!L163,'MDA3'!J163,'MDA3'!M163,'T1'!N163,'T2'!L163,T3_R1!M163,T3_R2!M163)","v":0},83690,{"$f":"MAX('MDA2'!J163,T163)","v":0},{"$f":"MAX('MDA1'!K163,'MDA2'!K163,'MDA3'!I163,'MDA3'!L163,V163,AD163)","v":83690},{"$f":"MAX('MDA1'!L163,'MDA2'!L163,'MDA3'!J163,'MDA3'!M163,AF163)","v":0},83690,53.467790607277642]
[{"$f":"IF(COUNTRY_INFO!A164=0,\" \",COUNTRY_INFO!A164)","v":"Tanzania"},{"$f":"IF(COUNTRY_INFO!B164=0,\" \",COUNTRY_INFO!B164)","v":"Singida"},{"$f":"IF(COUNTRY_INFO!C164=0,\" \",COUNTRY_INFO!C164)","v":"Iramba District Council"},{"$f":"COUNTRY_INFO!L164","v":"Stopped"},null,null,{"$f":"MAX('MDA1'!M164,'MDA2'!M164)","v":0},{"$f":"IF(AND(COUNTRY_INFO!H164>0,COUNTRY_INFO!H164<4),IF(D164>MAX('MDA1'!M164,'MDA2'!M164),MAX('MDA1'!M164,'MDA2'!M164),D164),0)","v":0},{"$f":"IF(AND(COUNTRY_INFO!H164>0,COUNTRY_INFO!H164<4), IF(G164/D164*100<>0, IF(G164/D164*100>100,100,G164/D164*100), \"-\"),0)","v":0},{"$f":"COUNTRY_INFO!M164","v":0},null,null,{"$f":"MAX('MDA1'!M164,MAX('MDA3'!I164,'MDA3'!L164)+MAX('MDA3'!J164,'MDA3'!M164))","v":0},{"$f":"IF(AND(COUNTRY_INFO!I164>0,COUNTRY_INFO!I164<4),IF(J164>MAX('MDA1'!M164,MAX('MDA3'!I164,'MDA3'!L164)+MAX('MDA3'!J164,'MDA3'!M164)),MAX('MDA1'!M164,MAX('MDA3'!I164,'MDA3'!L164)+MAX('MDA3'!J164,'MDA3'!M164)),J164),0)","v":0},{"$f":"IF(AND(COUNTRY_INFO!I164>0,COUNTRY_INFO!I164<4), IF(M164/J164*100<>0, IF(M164/J164*100>100,100,M164/J164*100), \"-\"),0)","v":0},{"$f":"COUNTRY_INFO!N164","v":103899},null,null,{"$f":"SUM(MAX('MDA2'!J164, 'T1'!L164, MAX(T3_R1!K164, T3_R2!K164)), MAX('MDA1'!K164, 'MDA2'!K164, 'T1'!M164, MAX(T3_R1!L164, T3_R2!L164)), MAX('MDA1'!L164, 'MDA2'!L164, 'T1'!N164, MAX(T3_R1!M164, T3_R2!M164)))","v":66062},{"$f":"IF(AND(COUNTRY_INFO!J164>1,COUNTRY_INFO!J164<4),IF(COUNTRY_INFO!E164>MAX('MDA2'!J164,'T1'!L164,MAX(T3_R1!K164,T3_R2!K164)),MAX('MDA2'!J164,'T1'!L164,MAX(T3_R1!K164,T3_R2!K164)),COUNTRY_INFO!E164),0)","v":0},{"$f":"IF(AND(COUNTRY_INFO!J164>1,COUNTRY_INFO!J164<4), IF(T164/COUNTRY_INFO!E164*100<>0, IF(T164/COUNTRY_INFO!E164*100>100,100,T164/COUNTRY_INFO!E164*100), \"-\"),0)","v":"-"},{"$f":"IF(AND(COUNTRY_INFO!J164>1,COUNTRY_INFO!J164<4),IF(COUNTRY_INFO!F164>MAX('MDA1'!K164,'MDA2'!K164,'T1'!M164,MAX(T3_R1!L164,T3_R2!L164)),MAX('MDA1'!K164,'MDA2'!K164,'T1'!M164,MAX(T3_R1!L164,T3_R2!L164)),COUNTRY_INFO!F164),0)","v":66062},{"$f":"IF(AND(COUNTRY_INFO!J164>1,COUNTRY_INFO!J164<4), IF(V164/COUNTRY_INFO!F164*100<>0, IF(V164/COUNTRY_INFO!F164*100>100,100,V164/COUNTRY_INFO!F164*100), \"-\"),0)","v":98.230535894843271},66062,{"$f":"IF(AND(COUNTRY_INFO!J164>1,COUNTRY_INFO!J164<4), IF(S164/P164*100<>0, IF(X164/P164*100>100,100,X164/P164*100), \"-\"),0)","v":63.582902626589288},{"$f":"COUNTRY_INFO!O164","v":69663.778523219458},null,null,{"$f":"MAX('T1'!L164,'T2'!J164)+MAX('T1'!M164,'T2'!K164)+MAX('T1'!N164,'T2'!L164)","v":0},{"$f":"IF(COUNTRY_INFO!K164=1,IF(COUNTRY_INFO!F164*0.33>MAX('T1'!M164,'T2'!K164),MAX('T1'!M164,'T2'!K164),COUNTRY_INFO!F164*0.33),IF(COUNTRY_INFO!K164=2,IF(COUNTRY_INFO!F164*0.5>MAX('T1'!M164,'T2'!K164),MAX('T1'!M164,'T2'!K164),COUNTRY_INFO!F164*0.5),IF(COUNTRY_INFO!K164=3,IF(COUNTRY_INFO!F164>MAX('T1'!M164,'T2'!K164),MAX('T1'!M164,'T2'!K164),COUNTRY_INFO!F164),0)))","v":0},{"$f":"IF(AND(COUNTRY_INFO!K164>0,COUNTRY_INFO!K164<4),IF(Z164>0,IF(COUNTRY_INFO!K164=1, AD164/(COUNTRY_INFO!F164*0.33)*100, IF(COUNTRY_INFO!K164=2, AD164/(COUNTRY_INFO!F164*0.5)*100, IF(COUNTRY_INFO!K164=3, AD164/COUNTRY_INFO!F164*100))),\"-\"),0)","v":0},{"$f":"IF(COUNTRY_INFO!K164=2,IF(COUNTRY_INFO!G164*0.2>MAX('T1'!N164,'T2'!L164),MAX('T1'!N164,'T2'!L164),COUNTRY_INFO!G164*0.2),IF(COUNTRY_INFO!K164=3,IF(COUNTRY_INFO!G164>MAX('T1'!N164,'T2'!L164),MAX('T1'!N164,'T2'!L164),COUNTRY_INFO!G164),0))","v":0},{"$f":"IF(AND(COUNTRY_INFO!K164>0,COUNTRY_INFO!K164<4),IF(Z164>0,IF(COUNTRY_INFO!K164=1, 0, IF(COUNTRY_INFO!K164=2, AF164/(COUNTRY_INFO!G164*0.2)*100, IF(COUNTRY_INFO!K164=3, AF164/COUNTRY_INFO!G164*100))),\"-\"),0)","v":0},0,{"$f":"IF(AND(COUNTRY_INFO!K164>0,COUNTRY_INFO!K164<4), IF(AC164/Z164*100<>0, IF(AH164/Z164*100>100,100,AH164/Z164*100), \"-\"),0)","v":"-"},null,{"$f":"IF(AND(D164<>0, D164<>\"Unknown\",D164<>\"Stopped\",D164<>\"Not required\"),D164/COUNTRY_INFO!D164, 0)","v":0},{"$f":"IF(AND(J164<>0,J164<>\"Unknown\",J164<>\"Stopped\",J164<>\"Not required\"),J164/COUNTRY_INFO!D164, 0)","v":0},{"$f":"IF(AND(P164<>0,P164<>\"Unknown\",P164<>\"Not required\"),P164/(COUNTRY_INFO!E164+COUNTRY_INFO!F164), 0)","v":1},{"$f":"IF(AND(Z164<>0,Z164<>\"Unknown\",Z164<>\"Not required\"),IF(COUNTRY_INFO!K164=1,1,IF(COUNTRY_INFO!K164=2,0.5*COUNTRY_INFO!F164/(0.5*COUNTRY_INFO!F164+0.2*COUNTRY_INFO!G164),IF(COUNTRY_INFO!K164=3,COUNTRY_INFO!F164/(COUNTRY_INFO!F164+COUNTRY_INFO!G164)))),0)","v":0.48268986714225104},{"$f":"IF(AND(Z164<>0,Z164<>\"Unknown\",Z164<>\"Not required\"),IF(COUNTRY_INFO!K164=1,0,IF(COUNTRY_INFO!K164=2,0.2*COUNTRY_INFO!G164/(0.5*COUNTRY_INFO!F164+0.2*COUNTRY_INFO!G164),IF(COUNTRY_INFO!K164=3,COUNTRY_INFO!G164/(COUNTRY_INFO!F164+COUNTRY_INFO!G164)))),0)","v":0.51731013285774896},{"$f":"MAX(COUNTRY_INFO!D164*AK164*PROFILE!$G$7,COUNTRY_INFO!D164*AL164*PROFILE!$G$7)","v":0},{"$f":"MAX(COUNTRY_INFO!D164*AK164*PROFILE!$G$8,COUNTRY_INFO!D164*AL164*PROFILE!$G$8,COUNTRY_INFO!D164*AM164*PROFILE!$G$8)","v":36647.338687128205},{"$f":"MAX(COUNTRY_INFO!D164*AK164*PROFILE!$G$9,COUNTRY_INFO!D164*AL164*PROFILE!$G$9,COUNTRY_INFO!D164*AM164*PROFILE!$G$9,IF(AND(DISTRICT!Z164<>\"Unknown\",Z164<>\"Not required\"),COUNTRY_INFO!O164*DISTRICT!AN164,0))","v":63863.516249225751},{"$f":"MAX(COUNTRY_INFO!D164*AK164*PROFILE!$G$10,COUNTRY_INFO!D164*AL164*PROFILE!$G$10,IF(AND(DISTRICT!Z164<>\"Unknown\",Z164<>\"Not required\"),COUNTRY_INFO!O164*DISTRICT!AO164,0))","v":36037.778523219458},136548.63345957341,0,{"$f":"MAX('MDA2'!J164,'T1'!L164,'T2'!J164,T3_R1!K164,T3_R2!K164)","v":0},{"$f":"MAX('MDA1'!K164,'MDA2'!K164,'MDA3'!I164,'MDA3'!L164,'T1'!M164,'T2'!K164,T3_R1!L164,T3_R2!L164)","v":66062},{"$f":"MAX('MDA1'!L164,'MDA2'!L164,'MDA3'!J164,'MDA3'!M164,'T1'!N164,'T2'!L164,T3_R1!M164,T3_R2!M164)","v":0},66062,{"$f":"MAX('MDA2'!J164,T164)","v":0},{"$f":"MAX('MDA1'!K164,'MDA2'!K164,'MDA3'!I164,'MDA3'!L164,V164,AD164)","v":66062},{"$f":"MAX('MDA1'!L164,'MDA2'!L164,'MDA3'!J164,'MDA3'!M164,AF164)","v":0},66062,48.379832391042065]
[{"$f":"IF(COUNTRY_INFO!A165=0,\" \",COUNTRY_INFO!A165)","v":"Tanzania"},{"$f":"IF(COUNTRY_INFO!B165=0,\" \",COUNTRY_INFO!B165)","v":"Singida"},{"$f":"IF(COUNTRY_INFO!C165=0,\" \",COUNTRY_INFO!C165)","v":"Itigi District Council"},{"$f":"COUNTRY_INFO!L165","v":"Stopped"},null,null,{"$f":"MAX('MDA1'!M165,'MDA2'!M165)","v":0},{"$f":"IF(AND(COUNTRY_INFO!H165>0,COUNTRY_INFO!H165<4),IF(D165>MAX('MDA1'!M165,'MDA2'!M165),MAX('MDA1'!M165,'MDA2'!M165),D165),0)","v":0},{"$f":"IF(AND(COUNTRY_INFO!H165>0,COUNTRY_INFO!H165<4), IF(G165/D165*100<>0, IF(G165/D165*100>100,100,G165/D165*100), \"-\"),0)","v":0},{"$f":"COUNTRY_INFO!M165","v":0},null,null,{"$f":"MAX('MDA1'!M165,MAX('MDA3'!I165,'MDA3'!L165)+MAX('MDA3'!J165,'MDA3'!M165))","v":0},{"$f":"IF(AND(COUNTRY_INFO!I165>0,COUNTRY_INFO!I165<4),IF(J165>MAX('MDA1'!M165,MAX('MDA3'!I165,'MDA3'!L165)+MAX('MDA3'!J165,'MDA3'!M165)),MAX('MDA1'!M165,MAX('MDA3'!I165,'MDA3'!L165)+MAX('MDA3'!J165,'MDA3'!M165)),J165),0)","v":0},{"$f":"IF(AND(COUNTRY_INFO!I165>0,COUNTRY_INFO!I165<4), IF(M165/J165*100<>0, IF(M165/J165*100>100,100,M165/J165*100), \"-\"),0)","v":0},{"$f":"COUNTRY_INFO!N165","v":56731},null,null,{"$f":"SUM(MAX('MDA2'!J165, 'T1'!L165, MAX(T3_R1!K165, T3_R2!K165)), MAX('MDA1'!K165, 'MDA2'!K165, 'T1'!M165, MAX(T3_R1!L165, T3_R2!L165)), MAX('MDA1'!L165, 'MDA2'!L165, 'T1'!N165, MAX(T3_R1!M165, T3_R2!M165)))","v":36887},{"$f":"IF(AND(COUNTRY_INFO!J165>1,COUNTRY_INFO!J165<4),IF(COUNTRY_INFO!E165>MAX('MDA2'!J165,'T1'!L165,MAX(T3_R1!K165,T3_R2!K165)),MAX('MDA2'!J165,'T1'!L165,MAX(T3_R1!K165,T3_R2!K165)),COUNTRY_INFO!E165),0)","v":0},{"$f":"IF(AND(COUNTRY_INFO!J165>1,COUNTRY_INFO!J165<4), IF(T165/COUNTRY_INFO!E165*100<>0, IF(T165/COUNTRY_INFO!E165*100>100,100,T165/COUNTRY_INFO!E165*100), \"-\"),0)","v":"-"},{"$f":"IF(AND(COUNTRY_INFO!J165>1,COUNTRY_INFO!J165<4),IF(COUNTRY_INFO!F165>MAX('MDA1'!K165,'MDA2'!K165,'T1'!M165,MAX(T3_R1!L165,T3_R2!L165)),MAX('MDA1'!K165,'MDA2'!K165,'T1'!M165,MAX(T3_R1!L165,T3_R2!L165)),COUNTRY_INFO!F165),0)","v":36887},{"$f":"IF(AND(COUNTRY_INFO!J165>1,COUNTRY_INFO!J165<4), IF(V165/COUNTRY_INFO!F165*100<>0, IF(V165/COUNTRY_INFO!F165*100>100,100,V165/COUNTRY_INFO!F165*100), \"-\"),0)","v":93.926970869830924},36887,{"$f":"IF(AND(COUNTRY_INFO!J165>1,COUNTRY_INFO!J165<4), IF(S165/P165*100<>0, IF(X165/P165*100>100,100,X165/P165*100), \"-\"),0)","v":65.020888050624876},{"$f":"COUNTRY_INFO!O165","v":35358.072793157633},null,null,{"$f":"MAX('T1'!L165,'T2'!J165)+MAX('T1'!M165,'T2'!K165)+MAX('T1'!N165,'T2'!L165)","v":0},{"$f":"IF(COUNTRY_INFO!K165=1,IF(COUNTRY_INFO!F165*0.33>MAX('T1'!M165,'T2'!K165),MAX('T1'!M165,'T2'!K165),COUNTRY_INFO!F165*0.33),IF(COUNTRY_INFO!K165=2,IF(COUNTRY_INFO!F165*0.5>MAX('T1'!M165,'T2'!K165),MAX('T1'!M165,'T2'!K165),COUNTRY_INFO!F165*0.5),IF(COUNTRY_INFO!K165=3,IF(COUNTRY_INFO!F165>MAX('T1'!M165,'T2'!K165),MAX('T1'!M165,'T2'!K165),COUNTRY_INFO!F165),0)))","v":0},{"$f":"IF(AND(COUNTRY_INFO!K165>0,COUNTRY_INFO!K165<4),IF(Z165>0,IF(COUNTRY_INFO!K165=1, AD165/(COUNTRY_INFO!F165*0.33)*100, IF(COUNTRY_INFO!K165=2, AD165/(COUNTRY_INFO!F165*0.5)*100, IF(COUNTRY_INFO!K165=3, AD165/COUNTRY_INFO!F165*100))),\"-\"),0)","v":0},{"$f":"IF(COUNTRY_INFO!K165=2,IF(COUNTRY_INFO!G165*0.2>MAX('T1'!N165,'T2'!L165),MAX('T1'!N165,'T2'!L165),COUNTRY_INFO!G165*0.2),IF(COUNTRY_INFO!K165=3,IF(COUNTRY_INFO!G165>MAX('T1'!N165,'T2'!L165),MAX('T1'!N165,'T2'!L165),COUNTRY_INFO!G165),0))","v":0},{"$f":"IF(AND(COUNTRY_INFO!K165>0,COUNTRY_INFO!K165<4),IF(Z165>0,IF(COUNTRY_INFO!K165=1, 0, IF(COUNTRY_INFO!K165=2, AF165/(COUNTRY_INFO!G165*0.2)*100, IF(COUNTRY_INFO!K165=3, AF165/COUNTRY_INFO!G165*100))),\"-\"),0)","v":0},0,{"$f":"IF(AND(COUNTRY_INFO!K165>0,COUNTRY_INFO!K165<4), IF(AC165/Z165*100<>0, IF(AH165/Z165*100>100,100,AH165/Z165*100), \"-\"),0)","v":"-"},null,{"$f":"IF(AND(D165<>0, D165<>\"Unknown\",D165<>\"Stopped\",D165<>\"Not required\"),D165/COUNTRY_INFO!D165, 0)","v":0},{"$f":"IF(AND(J165<>0,J165<>\"Unknown\",J165<>\"Stopped\",J165<>\"Not required\"),J165/COUNTRY_INFO!D165, 0)","v":0},{"$f":"IF(AND(P165<>0,P165<>\"Unknown\",P165<>\"Not required\"),P165/(COUNTRY_INFO!E165+COUNTRY_INFO!F165), 0)","v":1},{"$f":"IF(AND(Z165<>0,Z165<>\"Unknown\",Z165<>\"Not required\"),IF(COUNTRY_INFO!K165=1,1,IF(COUNTRY_INFO!K165=2,0.5*COUNTRY_INFO!F165/(0.5*COUNTRY_INFO!F165+0.2*COUNTRY_INFO!G165),IF(COUNTRY_INFO!K165=3,COUNTRY_INFO!F165/(COUNTRY_INFO!F165+COUNTRY_INFO!G165)))),0)","v":0.55534700985738927},{"$f":"IF(AND(Z165<>0,Z165<>\"Unknown\",Z165<>\"Not required\"),IF(COUNTRY_INFO!K165=1,0,IF(COUNTRY_INFO!K165=2,0.2*COUNTRY_INFO!G165/(0.5*COUNTRY_INFO!F165+0.2*COUNTRY_INFO!G165),IF(COUNTRY_INFO!K165=3,COUNTRY_INFO!G165/(COUNTRY_INFO!F165+COUNTRY_INFO!G165)))),0)","v":0.44465299014261073},{"$f":"MAX(COUNTRY_INFO!D165*AK165*PROFILE!$G$7,COUNTRY_INFO!D165*AL165*PROFILE!$G$7)","v":0},{"$f":"MAX(COUNTRY_INFO!D165*AK165*PROFILE!$G$8,COUNTRY_INFO!D165*AL165*PROFILE!$G$8,COUNTRY_INFO!D165*AM165*PROFILE!$G$8)","v":17459.036208680314},{"$f":"MAX(COUNTRY_INFO!D165*AK165*PROFILE!$G$9,COUNTRY_INFO!D165*AL165*PROFILE!$G$9,COUNTRY_INFO!D165*AM165*PROFILE!$G$9,IF(AND(DISTRICT!Z165<>\"Unknown\",Z165<>\"Not required\"),COUNTRY_INFO!O165*DISTRICT!AN165,0))","v":30425.004449245327},{"$f":"MAX(COUNTRY_INFO!D165*AK165*PROFILE!$G$10,COUNTRY_INFO!D165*AL165*PROFILE!$G$10,IF(AND(DISTRICT!Z165<>\"Unknown\",Z165<>\"Not required\"),COUNTRY_INFO!O165*DISTRICT!AO165,0))","v":15722.072793157633},63606.113451083271,0,{"$f":"MAX('MDA2'!J165,'T1'!L165,'T2'!J165,T3_R1!K165,T3_R2!K165)","v":0},{"$f":"MAX('MDA1'!K165,'MDA2'!K165,'MDA3'!I165,'MDA3'!L165,'T1'!M165,'T2'!K165,T3_R1!L165,T3_R2!L165)","v":36887},{"$f":"MAX('MDA1'!L165,'MDA2'!L165,'MDA3'!J165,'MDA3'!M165,'T1'!N165,'T2'!L165,T3_R1!M165,T3_R2!M165)","v":0},36887,{"$f":"MAX('MDA2'!J165,T165)","v":0},{"$f":"MAX('MDA1'!K165,'MDA2'!K165,'MDA3'!I165,'MDA3'!L165,V165,AD165)","v":36887},{"$f":"MAX('MDA1'!L165,'MDA2'!L165,'MDA3'!J165,'MDA3'!M165,AF165)","v":0},36887,57.992853200138072]
[{"$f":"IF(COUNTRY_INFO!A166=0,\" \",COUNTRY_INFO!A166)","v":"Tanzania"},{"$f":"IF(COUNTRY_INFO!B166=0,\" \",COUNTRY_INFO!B166)","v":"Singida"},{"$f":"IF(COUNTRY_INFO!C166=0,\" \",COUNTRY_INFO!C166)","v":"Manyoni District Council"},{"$f":"COUNTRY_INFO!L166","v":"Stopped"},null,null,{"$f":"MAX('MDA1'!M166,'MDA2'!M166)","v":0},{"$f":"IF(AND(COUNTRY_INFO!H166>0,COUNTRY_INFO!H166<4),IF(D166>MAX('MDA1'!M166,'MDA2'!M166),MAX('MDA1'!M166,'MDA2'!M166),D166),0)","v":0},{"$f":"IF(AND(COUNTRY_INFO!H166>0,COUNTRY_INFO!H166<4), IF(G166/D166*100<>0, IF(G166/D166*100>100,100,G166/D166*100), \"-\"),0)","v":0},{"$f":"COUNTRY_INFO!M166","v":0},null,null,{"$f":"MAX('MDA1'!M166,MAX('MDA3'!I166,'MDA3'!L166)+MAX('MDA3'!J166,'MDA3'!M166))","v":0},{"$f":"IF(AND(COUNTRY_INFO!I166>0,COUNTRY_INFO!I166<4),IF(J166>MAX('MDA1'!M166,MAX('MDA3'!I166,'MDA3'!L166)+MAX('MDA3'!J166,'MDA3'!M166)),MAX('MDA1'!M166,MAX('MDA3'!I166,'MDA3'!L166)+MAX('MDA3'!J166,'MDA3'!M166)),J166),0)","v":0},{"$f":"IF(AND(COUNTRY_INFO!I166>0,COUNTRY_INFO!I166<4), IF(M166/J166*100<>0, IF(M166/J166*100>100,100,M166/J166*100), \"-\"),0)","v":0},{"$f":"COUNTRY_INFO!N166","v":77977},null,null,{"$f":"SUM(MAX('MDA2'!J166, 'T1'!L166, MAX(T3_R1!K166, T3_R2!K166)), MAX('MDA1'!K166, 'MDA2'!K166, 'T1'!M166, MAX(T3_R1!L166, T3_R2!L166)), MAX('MDA1'!L166, 'MDA2'!L166, 'T1'!N166, MAX(T3_R1!M166, T3_R2!M166)))","v":48242},{"$f":"IF(AND(COUNTRY_INFO!J166>1,COUNTRY_INFO!J166<4),IF(COUNTRY_INFO!E166>MAX('MDA2'!J166,'T1'!L166,MAX(T3_R1!K166,T3_R2!K166)),MAX('MDA2'!J166,'T1'!L166,MAX(T3_R1!K166,T3_R2!K166)),COUNTRY_INFO!E166),0)","v":0},{"$f":"IF(AND(COUNTRY_INFO!J166>1,COUNTRY_INFO!J166<4), IF(T166/COUNTRY_INFO!E166*100<>0, IF(T166/COUNTRY_INFO!E166*100>100,100,T166/COUNTRY_INFO!E166*100), \"-\"),0)","v":"-"},{"$f":"IF(AND(COUNTRY_INFO!J166>1,COUNTRY_INFO!J166<4),IF(COUNTRY_INFO!F166>MAX('MDA1'!K166,'MDA2'!K166,'T1'!M166,MAX(T3_R1!L166,T3_R2!L166)),MAX('MDA1'!K166,'MDA2'!K166,'T1'!M166,MAX(T3_R1!L166,T3_R2!L166)),COUNTRY_INFO!F166),0)","v":48242},{"$f":"IF(AND(COUNTRY_INFO!J166>1,COUNTRY_INFO!J166<4), IF(V166/COUNTRY_INFO!F166*100<>0, IF(V166/COUNTRY_INFO!F166*100>100,100,V166/COUNTRY_INFO!F166*100), \"-\"),0)","v":97.640058290155437},48242,{"$f":"IF(AND(COUNTRY_INFO!J166>1,COUNTRY_INFO!J166<4), IF(S166/P166*100<>0, IF(X166/P166*100>100,100,X166/P166*100), \"-\"),0)","v":61.866960770483601},{"$f":"COUNTRY_INFO!O166","v":53401.757638328883},null,null,{"$f":"MAX('T1'!L166,'T2'!J166)+MAX('T1'!M166,'T2'!K166)+MAX('T1'!N166,'T2'!L166)","v":0},{"$f":"IF(COUNTRY_INFO!K166=1,IF(COUNTRY_INFO!F166*0.33>MAX('T1'!M166,'T2'!K166),MAX('T1'!M166,'T2'!K166),COUNTRY_INFO!F166*0.33),IF(COUNTRY_INFO!K166=2,IF(COUNTRY_INFO!F166*0.5>MAX('T1'!M166,'T2'!K166),MAX('T1'!M166,'T2'!K166),COUNTRY_INFO!F166*0.5),IF(COUNTRY_INFO!K166=3,IF(COUNTRY_INFO!F166>MAX('T1'!M166,'T2'!K166),MAX('T1'!M166,'T2'!K166),COUNTRY_INFO!F166),0)))","v":0},{"$f":"IF(AND(COUNTRY_INFO!K166>0,COUNTRY_INFO!K166<4),IF(Z166>0,IF(COUNTRY_INFO!K166=1, AD166/(COUNTRY_INFO!F166*0.33)*100, IF(COUNTRY_INFO!K166=2, AD166/(COUNTRY_INFO!F166*0.5)*100, IF(COUNTRY_INFO!K166=3, AD166/COUNTRY_INFO!F166*100))),\"-\"),0)","v":0},{"$f":"IF(COUNTRY_INFO!K166=2,IF(COUNTRY_INFO!G166*0.2>MAX('T1'!N166,'T2'!L166),MAX('T1'!N166,'T2'!L166),COUNTRY_INFO!G166*0.2),IF(COUNTRY_INFO!K166=3,IF(COUNTRY_INFO!G166>MAX('T1'!N166,'T2'!L166),MAX('T1'!N166,'T2'!L166),COUNTRY_INFO!G166),0))","v":0},{"$f":"IF(AND(COUNTRY_INFO!K166>0,COUNTRY_INFO!K166<4),IF(Z166>0,IF(COUNTRY_INFO!K166=1, 0, IF(COUNTRY_INFO!K166=2, AF166/(COUNTRY_INFO!G166*0.2)*100, IF(COUNTRY_INFO!K166=3, AF166/COUNTRY_INFO!G166*100))),\"-\"),0)","v":0},0,{"$f":"IF(AND(COUNTRY_INFO!K166>0,COUNTRY_INFO!K166<4), IF(AC166/Z166*100<>0, IF(AH166/Z166*100>100,100,AH166/Z166*100), \"-\"),0)","v":"-"},null,{"$f":"IF(AND(D166<>0, D166<>\"Unknown\",D166<>\"Stopped\",D166<>\"Not required\"),D166/COUNTRY_INFO!D166, 0)","v":0},{"$f":"IF(AND(J166<>0,J166<>\"Unknown\",J166<>\"Stopped\",J166<>\"Not required\"),J166/COUNTRY_INFO!D166, 0)","v":0},{"$f":"IF(AND(P166<>0,P166<>\"Unknown\",P166<>\"Not required\"),P166/(COUNTRY_INFO!E166+COUNTRY_INFO!F166), 0)","v":1},{"$f":"IF(AND(Z166<>0,Z166<>\"Unknown\",Z166<>\"Not required\"),IF(COUNTRY_INFO!K166=1,1,IF(COUNTRY_INFO!K166=2,0.5*COUNTRY_INFO!F166/(0.5*COUNTRY_INFO!F166+0.2*COUNTRY_INFO!G166),IF(COUNTRY_INFO!K166=3,COUNTRY_INFO!F166/(COUNTRY_INFO!F166+COUNTRY_INFO!G166)))),0)","v":0.46260649635001544},{"$f":"IF(AND(Z166<>0,Z166<>\"Unknown\",Z166<>\"Not required\"),IF(COUNTRY_INFO!K166=1,0,IF(COUNTRY_INFO!K166=2,0.2*COUNTRY_INFO!G166/(0.5*COUNTRY_INFO!F166+0.2*COUNTRY_INFO!G166),IF(COUNTRY_INFO!K166=3,COUNTRY_INFO!G166/(COUNTRY_INFO!F166+COUNTRY_INFO!G166)))),0)","v":0.53739350364998451},{"$f":"MAX(COUNTRY_INFO!D166*AK166*PROFILE!$G$7,COUNTRY_INFO!D166*AL166*PROFILE!$G$7)","v":0},{"$f":"MAX(COUNTRY_INFO!D166*AK166*PROFILE!$G$8,COUNTRY_INFO!D166*AL166*PROFILE!$G$8,COUNTRY_INFO!D166*AM166*PROFILE!$G$8)","v":28569.08709741721},{"$f":"MAX(COUNTRY_INFO!D166*AK166*PROFILE!$G$9,COUNTRY_INFO!D166*AL166*PROFILE!$G$9,COUNTRY_INFO!D166*AM166*PROFILE!$G$9,IF(AND(DISTRICT!Z166<>\"Unknown\",Z166<>\"Not required\"),COUNTRY_INFO!O166*DISTRICT!AN166,0))","v":49785.944175866833},{"$f":"MAX(COUNTRY_INFO!D166*AK166*PROFILE!$G$10,COUNTRY_INFO!D166*AL166*PROFILE!$G$10,IF(AND(DISTRICT!Z166<>\"Unknown\",Z166<>\"Not required\"),COUNTRY_INFO!O166*DISTRICT!AO166,0))","v":28697.75763832888},107052.78891161292,0,{"$f":"MAX('MDA2'!J166,'T1'!L166,'T2'!J166,T3_R1!K166,T3_R2!K166)","v":0},{"$f":"MAX('MDA1'!K166,'MDA2'!K166,'MDA3'!I166,'MDA3'!L166,'T1'!M166,'T2'!K166,T3_R1!L166,T3_R2!L166)","v":48242},{"$f":"MAX('MDA1'!L166,'MDA2'!L166,'MDA3'!J166,'MDA3'!M166,'T1'!N166,'T2'!L166,T3_R1!M166,T3_R2!M166)","v":0},48242,{"$f":"MAX('MDA2'!J166,T166)","v":0},{"$f":"MAX('MDA1'!K166,'MDA2'!K166,'MDA3'!I166,'MDA3'!L166,V166,AD166)","v":48242},{"$f":"MAX('MDA1'!L166,'MDA2'!L166,'MDA3'!J166,'MDA3'!M166,AF166)","v":0},48242,45.063748913473454]
[{"$f":"IF(COUNTRY_INFO!A167=0,\" \",COUNTRY_INFO!A167)","v":"Tanzania"},{"$f":"IF(COUNTRY_INFO!B167=0,\" \",COUNTRY_INFO!B167)","v":"Singida"},{"$f":"IF(COUNTRY_INFO!C167=0,\" \",COUNTRY_INFO!C167)","v":"Mkalama District Council"},{"$f":"COUNTRY_INFO!L167","v":"Stopped"},null,null,{"$f":"MAX('MDA1'!M167,'MDA2'!M167)","v":0},{"$f":"IF(AND(COUNTRY_INFO!H167>0,COUNTRY_INFO!H167<4),IF(D167>MAX('MDA1'!M167,'MDA2'!M167),MAX('MDA1'!M167,'MDA2'!M167),D167),0)","v":0},{"$f":"IF(AND(COUNTRY_INFO!H167>0,COUNTRY_INFO!H167<4), IF(G167/D167*100<>0, IF(G167/D167*100>100,100,G167/D167*100), \"-\"),0)","v":0},{"$f":"COUNTRY_INFO!M167","v":0},null,null,{"$f":"MAX('MDA1'!M167,MAX('MDA3'!I167,'MDA3'!L167)+MAX('MDA3'!J167,'MDA3'!M167))","v":0},{"$f":"IF(AND(COUNTRY_INFO!I167>0,COUNTRY_INFO!I167<4),IF(J167>MAX('MDA1'!M167,MAX('MDA3'!I167,'MDA3'!L167)+MAX('MDA3'!J167,'MDA3'!M167)),MAX('MDA1'!M167,MAX('MDA3'!I167,'MDA3'!L167)+MAX('MDA3'!J167,'MDA3'!M167)),J167),0)","v":0},{"$f":"IF(AND(COUNTRY_INFO!I167>0,COUNTRY_INFO!I167<4), IF(M167/J167*100<>0, IF(M167/J167*100>100,100,M167/J167*100), \"-\"),0)","v":0},{"$f":"COUNTRY_INFO!N167","v":89143},null,null,{"$f":"SUM(MAX('MDA2'!J167, 'T1'!L167, MAX(T3_R1!K167, T3_R2!K167)), MAX('MDA1'!K167, 'MDA2'!K167, 'T1'!M167, MAX(T3_R1!L167, T3_R2!L167)), MAX('MDA1'!L167, 'MDA2'!L167, 'T1'!N167, MAX(T3_R1!M167, T3_R2!M167)))","v":58520},{"$f":"IF(AND(COUNTRY_INFO!J167>1,COUNTRY_INFO!J167<4),IF(COUNTRY_INFO!E167>MAX('MDA2'!J167,'T1'!L167,MAX(T3_R1!K167,T3_R2!K167)),MAX('MDA2'!J167,'T1'!L167,MAX(T3_R1!K167,T3_R2!K167)),COUNTRY_INFO!E167),0)","v":0},{"$f":"IF(AND(COUNTRY_INFO!J167>1,COUNTRY_INFO!J167<4), IF(T167/COUNTRY_INFO!E167*100<>0, IF(T167/COUNTRY_INFO!E167*100>100,100,T167/COUNTRY_INFO!E167*100), \"-\"),0)","v":"-"},{"$f":"IF(AND(COUNTRY_INFO!J167>1,COUNTRY_INFO!J167<4),IF(COUNTRY_INFO!F167>MAX('MDA1'!K167,'MDA2'!K167,'T1'!M167,MAX(T3_R1!L167,T3_R2!L167)),MAX('MDA1'!K167,'MDA2'!K167,'T1'!M167,MAX(T3_R1!L167,T3_R2!L167)),COUNTRY_INFO!F167),0)","v":58520},{"$f":"IF(AND(COUNTRY_INFO!J167>1,COUNTRY_INFO!J167<4), IF(V167/COUNTRY_INFO!F167*100<>0, IF(V167/COUNTRY_INFO!F167*100>100,100,V167/COUNTRY_INFO!F167*100), \"-\"),0)","v":97.745114414564895},58520,{"$f":"IF(AND(COUNTRY_INFO!J167>1,COUNTRY_INFO!J167<4), IF(S167/P167*100<>0, IF(X167/P167*100>100,100,X167/P167*100), \"-\"),0)","v":65.647330693380297},{"$f":"COUNTRY_INFO!O167","v":57490.384714846616},null,null,{"$f":"MAX('T1'!L167,'T2'!J167)+MAX('T1'!M167,'T2'!K167)+MAX('T1'!N167,'T2'!L167)","v":0},{"$f":"IF(COUNTRY_INFO!K167=1,IF(COUNTRY_INFO!F167*0.33>MAX('T1'!M167,'T2'!K167),MAX('T1'!M167,'T2'!K167),COUNTRY_INFO!F167*0.33),IF(COUNTRY_INFO!K167=2,IF(COUNTRY_INFO!F167*0.5>MAX('T1'!M167,'T2'!K167),MAX('T1'!M167,'T2'!K167),COUNTRY_INFO!F167*0.5),IF(COUNTRY_INFO!K167=3,IF(COUNTRY_INFO!F167>MAX('T1'!M167,'T2'!K167),MAX('T1'!M167,'T2'!K167),COUNTRY_INFO!F167),0)))","v":0},{"$f":"IF(AND(COUNTRY_INFO!K167>0,COUNTRY_INFO!K167<4),IF(Z167>0,IF(COUNTRY_INFO!K167=1, AD167/(COUNTRY_INFO!F167*0.33)*100, IF(COUNTRY_INFO!K167=2, AD167/(COUNTRY_INFO!F167*0.5)*100, IF(COUNTRY_INFO!K167=3, AD167/COUNTRY_INFO!F167*100))),\"-\"),0)","v":0},{"$f":"IF(COUNTRY_INFO!K167=2,IF(COUNTRY_INFO!G167*0.2>MAX('T1'!N167,'T2'!L167),MAX('T1'!N167,'T2'!L167),COUNTRY_INFO!G167*0.2),IF(COUNTRY_INFO!K167=3,IF(COUNTRY_INFO!G167>MAX('T1'!N167,'T2'!L167),MAX('T1'!N167,'T2'!L167),COUNTRY_INFO!G167),0))","v":0},{"$f":"IF(AND(COUNTRY_INFO!K167>0,COUNTRY_INFO!K167<4),IF(Z167>0,IF(COUNTRY_INFO!K167=1, 0, IF(COUNTRY_INFO!K167=2, AF167/(COUNTRY_INFO!G167*0.2)*100, IF(COUNTRY_INFO!K167=3, AF167/COUNTRY_INFO!G167*100))),\"-\"),0)","v":0},0,{"$f":"IF(AND(COUNTRY_INFO!K167>0,COUNTRY_INFO!K167<4), IF(AC167/Z167*100<>0, IF(AH167/Z167*100>100,100,AH167/Z167*100), \"-\"),0)","v":"-"},null,{"$f":"IF(AND(D167<>0, D167<>\"Unknown\",D167<>\"Stopped\",D167<>\"Not required\"),D167/COUNTRY_INFO!D167, 0)","v":0},{"$f":"IF(AND(J167<>0,J167<>\"Unknown\",J167<>\"Stopped\",J167<>\"Not required\"),J167/COUNTRY_INFO!D167, 0)","v":0},{"$f":"IF(AND(P167<>0,P167<>\"Unknown\",P167<>\"Not required\"),P167/(COUNTRY_INFO!E167+COUNTRY_INFO!F167), 0)","v":1},{"$f":"IF(AND(Z167<>0,Z167<>\"Unknown\",Z167<>\"Not required\"),IF(COUNTRY_INFO!K167=1,1,IF(COUNTRY_INFO!K167=2,0.5*COUNTRY_INFO!F167/(0.5*COUNTRY_INFO!F167+0.2*COUNTRY_INFO!G167),IF(COUNTRY_INFO!K167=3,COUNTRY_INFO!F167/(COUNTRY_INFO!F167+COUNTRY_INFO!G167)))),0)","v":0.52069576762232783},{"$f":"IF(AND(Z167<>0,Z167<>\"Unknown\",Z167<>\"Not required\"),IF(COUNTRY_INFO!K167=1,0,IF(COUNTRY_INFO!K167=2,0.2*COUNTRY_INFO!G167/(0.5*COUNTRY_INFO!F167+0.2*COUNTRY_INFO!G167),IF(COUNTRY_INFO!K167=3,COUNTRY_INFO!G167/(COUNTRY_INFO!F167+COUNTRY_INFO!G167)))),0)","v":0.47930423237767217},{"$f":"MAX(COUNTRY_INFO!D167*AK167*PROFILE!$G$7,COUNTRY_INFO!D167*AL167*PROFILE!$G$7)","v":0},{"$f":"MAX(COUNTRY_INFO!D167*AK167*PROFILE!$G$8,COUNTRY_INFO!D167*AL167*PROFILE!$G$8,COUNTRY_INFO!D167*AM167*PROFILE!$G$8)","v":29272.670572131789},{"$f":"MAX(COUNTRY_INFO!D167*AK167*PROFILE!$G$9,COUNTRY_INFO!D167*AL167*PROFILE!$G$9,COUNTRY_INFO!D167*AM167*PROFILE!$G$9,IF(AND(DISTRICT!Z167<>\"Unknown\",Z167<>\"Not required\"),COUNTRY_INFO!O167*DISTRICT!AN167,0))","v":51012.044522572323},{"$f":"MAX(COUNTRY_INFO!D167*AK167*PROFILE!$G$10,COUNTRY_INFO!D167*AL167*PROFILE!$G$10,IF(AND(DISTRICT!Z167<>\"Unknown\",Z167<>\"Not required\"),COUNTRY_INFO!O167*DISTRICT!AO167,0))","v":27555.384714846616},107840.09980955072,0,{"$f":"MAX('MDA2'!J167,'T1'!L167,'T2'!J167,T3_R1!K167,T3_R2!K167)","v":0},{"$f":"MAX('MDA1'!K167,'MDA2'!K167,'MDA3'!I167,'MDA3'!L167,'T1'!M167,'T2'!K167,T3_R1!L167,T3_R2!L167)","v":58520},{"$f":"MAX('MDA1'!L167,'MDA2'!L167,'MDA3'!J167,'MDA3'!M167,'T1'!N167,'T2'!L167,T3_R1!M167,T3_R2!M167)","v":0},58520,{"$f":"MAX('MDA2'!J167,T167)","v":0},{"$f":"MAX('MDA1'!K167,'MDA2'!K167,'MDA3'!I167,'MDA3'!L167,V167,AD167)","v":58520},{"$f":"MAX('MDA1'!L167,'MDA2'!L167,'MDA3'!J167,'MDA3'!M167,AF167)","v":0},58520,54.265528410441298]
[{"$f":"IF(COUNTRY_INFO!A168=0,\" \",COUNTRY_INFO!A168)","v":"Tanzania"},{"$f":"IF(COUNTRY_INFO!B168=0,\" \",COUNTRY_INFO!B168)","v":"Singida"},{"$f":"IF(COUNTRY_INFO!C168=0,\" \",COUNTRY_INFO!C168)","v":"Singida District Council"},{"$f":"COUNTRY_INFO!L168","v":"Stopped"},null,null,{"$f":"MAX('MDA1'!M168,'MDA2'!M168)","v":0},{"$f":"IF(AND(COUNTRY_INFO!H168>0,COUNTRY_INFO!H168<4),IF(D168>MAX('MDA1'!M168,'MDA2'!M168),MAX('MDA1'!M168,'MDA2'!M168),D168),0)","v":0},{"$f":"IF(AND(COUNTRY_INFO!H168>0,COUNTRY_INFO!H168<4), IF(G168/D168*100<>0, IF(G168/D168*100>100,100,G168/D168*100), \"-\"),0)","v":0},{"$f":"COUNTRY_INFO!M168","v":0},null,null,{"$f":"MAX('MDA1'!M168,MAX('MDA3'!I168,'MDA3'!L168)+MAX('MDA3'!J168,'MDA3'!M168))","v":0},{"$f":"IF(AND(COUNTRY_INFO!I168>0,COUNTRY_INFO!I168<4),IF(J168>MAX('MDA1'!M168,MAX('MDA3'!I168,'MDA3'!L168)+MAX('MDA3'!J168,'MDA3'!M168)),MAX('MDA1'!M168,MAX('MDA3'!I168,'MDA3'!L168)+MAX('MDA3'!J168,'MDA3'!M168)),J168),0)","v":0},{"$f":"IF(AND(COUNTRY_INFO!I168>0,COUNTRY_INFO!I168<4), IF(M168/J168*100<>0, IF(M168/J168*100>100,100,M168/J168*100), \"-\"),0)","v":0},{"$f":"COUNTRY_INFO!N168","v":111579},null,null,{"$f":"SUM(MAX('MDA2'!J168, 'T1'!L168, MAX(T3_R1!K168, T3_R2!K168)), MAX('MDA1'!K168, 'MDA2'!K168, 'T1'!M168, MAX(T3_R1!L168, T3_R2!L168)), MAX('MDA1'!L168, 'MDA2'!L168, 'T1'!N168, MAX(T3_R1!M168, T3_R2!M168)))","v":75465},{"$f":"IF(AND(COUNTRY_INFO!J168>1,COUNTRY_INFO!J168<4),IF(COUNTRY_INFO!E168>MAX('MDA2'!J168,'T1'!L168,MAX(T3_R1!K168,T3_R2!K168)),MAX('MDA2'!J168,'T1'!L168,MAX(T3_R1!K168,T3_R2!K168)),COUNTRY_INFO!E168),0)","v":0},{"$f":"IF(AND(COUNTRY_INFO!J168>1,COUNTRY_INFO!J168<4), IF(T168/COUNTRY_INFO!E168*100<>0, IF(T168/COUNTRY_INFO!E168*100>100,100,T168/COUNTRY_INFO!E168*100), \"-\"),0)","v":"-"},{"$f":"IF(AND(COUNTRY_INFO!J168>1,COUNTRY_INFO!J168<4),IF(COUNTRY_INFO!F168>MAX('MDA1'!K168,'MDA2'!K168,'T1'!M168,MAX(T3_R1!L168,T3_R2!L168)),MAX('MDA1'!K168,'MDA2'!K168,'T1'!M168,MAX(T3_R1!L168,T3_R2!L168)),COUNTRY_INFO!F168),0)","v":75465},{"$f":"IF(AND(COUNTRY_INFO!J168>1,COUNTRY_INFO!J168<4), IF(V168/COUNTRY_INFO!F168*100<>0, IF(V168/COUNTRY_INFO!F168*100>100,100,V168/COUNTRY_INFO!F168*100), \"-\"),0)","v":98.516990639808881},75465,{"$f":"IF(AND(COUNTRY_INFO!J168>1,COUNTRY_INFO!J168<4), IF(S168/P168*100<>0, IF(X168/P168*100>100,100,X168/P168*100), \"-\"),0)","v":67.633694512408255},{"$f":"COUNTRY_INFO!O168","v":70214.651941256569},null,null,{"$f":"MAX('T1'!L168,'T2'!J168)+MAX('T1'!M168,'T2'!K168)+MAX('T1'!N168,'T2'!L168)","v":0},{"$f":"IF(COUNTRY_INFO!K168=1,IF(COUNTRY_INFO!F168*0.33>MAX('T1'!M168,'T2'!K168),MAX('T1'!M168,'T2'!K168),COUNTRY_INFO!F168*0.33),IF(COUNTRY_INFO!K168=2,IF(COUNTRY_INFO!F168*0.5>MAX('T1'!M168,'T2'!K168),MAX('T1'!M168,'T2'!K168),COUNTRY_INFO!F168*0.5),IF(COUNTRY_INFO!K168=3,IF(COUNTRY_INFO!F168>MAX('T1'!M168,'T2'!K168),MAX('T1'!M168,'T2'!K168),COUNTRY_INFO!F168),0)))","v":0},{"$f":"IF(AND(COUNTRY_INFO!K168>0,COUNTRY_INFO!K168<4),IF(Z168>0,IF(COUNTRY_INFO!K168=1, AD168/(COUNTRY_INFO!F168*0.33)*100, IF(COUNTRY_INFO!K168=2, AD168/(COUNTRY_INFO!F168*0.5)*100, IF(COUNTRY_INFO!K168=3, AD168/COUNTRY_INFO!F168*100))),\"-\"),0)","v":0},{"$f":"IF(COUNTRY_INFO!K168=2,IF(COUNTRY_INFO!G168*0.2>MAX('T1'!N168,'T2'!L168),MAX('T1'!N168,'T2'!L168),COUNTRY_INFO!G168*0.2),IF(COUNTRY_INFO!K168=3,IF(COUNTRY_INFO!G168>MAX('T1'!N168,'T2'!L168),MAX('T1'!N168,'T2'!L168),COUNTRY_INFO!G168),0))","v":0},{"$f":"IF(AND(COUNTRY_INFO!K168>0,COUNTRY_INFO!K168<4),IF(Z168>0,IF(COUNTRY_INFO!K168=1, 0, IF(COUNTRY_INFO!K168=2, AF168/(COUNTRY_INFO!G168*0.2)*100, IF(COUNTRY_INFO!K168=3, AF168/COUNTRY_INFO!G168*100))),\"-\"),0)","v":0},0,{"$f":"IF(AND(COUNTRY_INFO!K168>0,COUNTRY_INFO!K168<4), IF(AC168/Z168*100<>0, IF(AH168/Z168*100>100,100,AH168/Z168*100), \"-\"),0)","v":"-"},null,{"$f":"IF(AND(D168<>0, D168<>\"Unknown\",D168<>\"Stopped\",D168<>\"Not required\"),D168/COUNTRY_INFO!D168, 0)","v":0},{"$f":"IF(AND(J168<>0,J168<>\"Unknown\",J168<>\"Stopped\",J168<>\"Not required\"),J168/COUNTRY_INFO!D168, 0)","v":0},{"$f":"IF(AND(P168<>0,P168<>\"Unknown\",P168<>\"Not required\"),P168/(COUNTRY_INFO!E168+COUNTRY_INFO!F168), 0)","v":1},{"$f":"IF(AND(Z168<>0,Z168<>\"Unknown\",Z168<>\"Not required\"),IF(COUNTRY_INFO!K168=1,1,IF(COUNTRY_INFO!K168=2,0.5*COUNTRY_INFO!F168/(0.5*COUNTRY_INFO!F168+0.2*COUNTRY_INFO!G168),IF(COUNTRY_INFO!K168=3,COUNTRY_INFO!F168/(COUNTRY_INFO!F168+COUNTRY_INFO!G168)))),0)","v":0.54547731764081386},{"$f":"IF(AND(Z168<>0,Z168<>\"Unknown\",Z168<>\"Not required\"),IF(COUNTRY_INFO!K168=1,0,IF(COUNTRY_INFO!K168=2,0.2*COUNTRY_INFO!G168/(0.5*COUNTRY_INFO!F168+0.2*COUNTRY_INFO!G168),IF(COUNTRY_INFO!K168=3,COUNTRY_INFO!G168/(COUNTRY_INFO!F168+COUNTRY_INFO!G168)))),0)","v":0.45452268235918603},{"$f":"MAX(COUNTRY_INFO!D168*AK168*PROFILE!$G$7,COUNTRY_INFO!D168*AL168*PROFILE!$G$7)","v":0},{"$f":"MAX(COUNTRY_INFO!D168*AK168*PROFILE!$G$8,COUNTRY_INFO!D168*AL168*PROFILE!$G$8,COUNTRY_INFO!D168*AM168*PROFILE!$G$8)","v":34978.319517184937},{"$f":"MAX(COUNTRY_INFO!D168*AK168*PROFILE!$G$9,COUNTRY_INFO!D168*AL168*PROFILE!$G$9,COUNTRY_INFO!D168*AM168*PROFILE!$G$9,IF(AND(DISTRICT!Z168<>\"Unknown\",Z168<>\"Not required\"),COUNTRY_INFO!O168*DISTRICT!AN168,0))","v":60954.998558761668},{"$f":"MAX(COUNTRY_INFO!D168*AK168*PROFILE!$G$10,COUNTRY_INFO!D168*AL168*PROFILE!$G$10,IF(AND(DISTRICT!Z168<>\"Unknown\",Z168<>\"Not required\"),COUNTRY_INFO!O168*DISTRICT!AO168,0))","v":31914.151941256565},127847.47001720317,0,{"$f":"MAX('MDA2'!J168,'T1'!L168,'T2'!J168,T3_R1!K168,T3_R2!K168)","v":0},{"$f":"MAX('MDA1'!K168,'MDA2'!K168,'MDA3'!I168,'MDA3'!L168,'T1'!M168,'T2'!K168,T3_R1!L168,T3_R2!L168)","v":75465},{"$f":"MAX('MDA1'!L168,'MDA2'!L168,'MDA3'!J168,'MDA3'!M168,'T1'!N168,'T2'!L168,T3_R1!M168,T3_R2!M168)","v":0},75465,{"$f":"MAX('MDA2'!J168,T168)","v":0},{"$f":"MAX('MDA1'!K168,'MDA2'!K168,'MDA3'!I168,'MDA3'!L168,V168,AD168)","v":75465},{"$f":"MAX('MDA1'!L168,'MDA2'!L168,'MDA3'!J168,'MDA3'!M168,AF168)","v":0},75465,59.027370654926081]
[{"$f":"IF(COUNTRY_INFO!A169=0,\" \",COUNTRY_INFO!A169)","v":"Tanzania"},{"$f":"IF(COUNTRY_INFO!B169=0,\" \",COUNTRY_INFO!B169)","v":"Singida"},{"$f":"IF(COUNTRY_INFO!C169=0,\" \",COUNTRY_INFO!C169)","v":"Singida Municipal Council"},{"$f":"COUNTRY_INFO!L169","v":"Stopped"},null,null,{"$f":"MAX('MDA1'!M169,'MDA2'!M169)","v":0},{"$f":"IF(AND(COUNTRY_INFO!H169>0,COUNTRY_INFO!H169<4),IF(D169>MAX('MDA1'!M169,'MDA2'!M169),MAX('MDA1'!M169,'MDA2'!M169),D169),0)","v":0},{"$f":"IF(AND(COUNTRY_INFO!H169>0,COUNTRY_INFO!H169<4), IF(G169/D169*100<>0, IF(G169/D169*100>100,100,G169/D169*100), \"-\"),0)","v":0},{"$f":"COUNTRY_INFO!M169","v":0},null,null,{"$f":"MAX('MDA1'!M169,MAX('MDA3'!I169,'MDA3'!L169)+MAX('MDA3'!J169,'MDA3'!M169))","v":0},{"$f":"IF(AND(COUNTRY_INFO!I169>0,COUNTRY_INFO!I169<4),IF(J169>MAX('MDA1'!M169,MAX('MDA3'!I169,'MDA3'!L169)+MAX('MDA3'!J169,'MDA3'!M169)),MAX('MDA1'!M169,MAX('MDA3'!I169,'MDA3'!L169)+MAX('MDA3'!J169,'MDA3'!M169)),J169),0)","v":0},{"$f":"IF(AND(COUNTRY_INFO!I169>0,COUNTRY_INFO!I169<4), IF(M169/J169*100<>0, IF(M169/J169*100>100,100,M169/J169*100), \"-\"),0)","v":0},{"$f":"COUNTRY_INFO!N169","v":73224},null,null,{"$f":"SUM(MAX('MDA2'!J169, 'T1'!L169, MAX(T3_R1!K169, T3_R2!K169)), MAX('MDA1'!K169, 'MDA2'!K169, 'T1'!M169, MAX(T3_R1!L169, T3_R2!L169)), MAX('MDA1'!L169, 'MDA2'!L169, 'T1'!N169, MAX(T3_R1!M169, T3_R2!M169)))","v":48414},{"$f":"IF(AND(COUNTRY_INFO!J169>1,COUNTRY_INFO!J169<4),IF(COUNTRY_INFO!E169>MAX('MDA2'!J169,'T1'!L169,MAX(T3_R1!K169,T3_R2!K169)),MAX('MDA2'!J169,'T1'!L169,MAX(T3_R1!K169,T3_R2!K169)),COUNTRY_INFO!E169),0)","v":0},{"$f":"IF(AND(COUNTRY_INFO!J169>1,COUNTRY_INFO!J169<4), IF(T169/COUNTRY_INFO!E169*100<>0, IF(T169/COUNTRY_INFO!E169*100>100,100,T169/COUNTRY_INFO!E169*100), \"-\"),0)","v":"-"},{"$f":"IF(AND(COUNTRY_INFO!J169>1,COUNTRY_INFO!J169<4),IF(COUNTRY_INFO!F169>MAX('MDA1'!K169,'MDA2'!K169,'T1'!M169,MAX(T3_R1!L169,T3_R2!L169)),MAX('MDA1'!K169,'MDA2'!K169,'T1'!M169,MAX(T3_R1!L169,T3_R2!L169)),COUNTRY_INFO!F169),0)","v":48414},{"$f":"IF(AND(COUNTRY_INFO!J169>1,COUNTRY_INFO!J169<4), IF(V169/COUNTRY_INFO!F169*100<>0, IF(V169/COUNTRY_INFO!F169*100>100,100,V169/COUNTRY_INFO!F169*100), \"-\"),0)","v":97.022044088176358},48414,{"$f":"IF(AND(COUNTRY_INFO!J169>1,COUNTRY_INFO!J169<4), IF(S169/P169*100<>0, IF(X169/P169*100>100,100,X169/P169*100), \"-\"),0)","v":66.117666338905281},{"$f":"COUNTRY_INFO!O169","v":46466.18127389899},null,null,{"$f":"MAX('T1'!L169,'T2'!J169)+MAX('T1'!M169,'T2'!K169)+MAX('T1'!N169,'T2'!L169)","v":0},{"$f":"IF(COUNTRY_INFO!K169=1,IF(COUNTRY_INFO!F169*0.33>MAX('T1'!M169,'T2'!K169),MAX('T1'!M169,'T2'!K169),COUNTRY_INFO!F169*0.33),IF(COUNTRY_INFO!K169=2,IF(COUNTRY_INFO!F169*0.5>MAX('T1'!M169,'T2'!K169),MAX('T1'!M169,'T2'!K169),COUNTRY_INFO!F169*0.5),IF(COUNTRY_INFO!K169=3,IF(COUNTRY_INFO!F169>MAX('T1'!M169,'T2'!K169),MAX('T1'!M169,'T2'!K169),COUNTRY_INFO!F169),0)))","v":0},{"$f":"IF(AND(COUNTRY_INFO!K169>0,COUNTRY_INFO!K169<4),IF(Z169>0,IF(COUNTRY_INFO!K169=1, AD169/(COUNTRY_INFO!F169*0.33)*100, IF(COUNTRY_INFO!K169=2, AD169/(COUNTRY_INFO!F169*0.5)*100, IF(COUNTRY_INFO!K169=3, AD169/COUNTRY_INFO!F169*100))),\"-\"),0)","v":0},{"$f":"IF(COUNTRY_INFO!K169=2,IF(COUNTRY_INFO!G169*0.2>MAX('T1'!N169,'T2'!L169),MAX('T1'!N169,'T2'!L169),COUNTRY_INFO!G169*0.2),IF(COUNTRY_INFO!K169=3,IF(COUNTRY_INFO!G169>MAX('T1'!N169,'T2'!L169),MAX('T1'!N169,'T2'!L169),COUNTRY_INFO!G169),0))","v":0},{"$f":"IF(AND(COUNTRY_INFO!K169>0,COUNTRY_INFO!K169<4),IF(Z169>0,IF(COUNTRY_INFO!K169=1, 0, IF(COUNTRY_INFO!K169=2, AF169/(COUNTRY_INFO!G169*0.2)*100, IF(COUNTRY_INFO!K169=3, AF169/COUNTRY_INFO!G169*100))),\"-\"),0)","v":0},0,{"$f":"IF(AND(COUNTRY_INFO!K169>0,COUNTRY_INFO!K169<4), IF(AC169/Z169*100<>0, IF(AH169/Z169*100>100,100,AH169/Z169*100), \"-\"),0)","v":"-"},null,{"$f":"IF(AND(D169<>0, D169<>\"Unknown\",D169<>\"Stopped\",D169<>\"Not required\"),D169/COUNTRY_INFO!D169, 0)","v":0},{"$f":"IF(AND(J169<>0,J169<>\"Unknown\",J169<>\"Stopped\",J169<>\"Not required\"),J169/COUNTRY_INFO!D169, 0)","v":0},{"$f":"IF(AND(P169<>0,P169<>\"Unknown\",P169<>\"Not required\"),P169/(COUNTRY_INFO!E169+COUNTRY_INFO!F169), 0)","v":1},{"$f":"IF(AND(Z169<>0,Z169<>\"Unknown\",Z169<>\"Not required\"),IF(COUNTRY_INFO!K169=1,1,IF(COUNTRY_INFO!K169=2,0.5*COUNTRY_INFO!F169/(0.5*COUNTRY_INFO!F169+0.2*COUNTRY_INFO!G169),IF(COUNTRY_INFO!K169=3,COUNTRY_INFO!F169/(COUNTRY_INFO!F169+COUNTRY_INFO!G169)))),0)","v":0.53694965490988023},{"$f":"IF(AND(Z169<>0,Z169<>\"Unknown\",Z169<>\"Not required\"),IF(COUNTRY_INFO!K169=1,0,IF(COUNTRY_INFO!K169=2,0.2*COUNTRY_INFO!G169/(0.5*COUNTRY_INFO!F169+0.2*COUNTRY_INFO!G169),IF(COUNTRY_INFO!K169=3,COUNTRY_INFO!G169/(COUNTRY_INFO!F169+COUNTRY_INFO!G169)))),0)","v":0.46305034509011983},{"$f":"MAX(COUNTRY_INFO!D169*AK169*PROFILE!$G$7,COUNTRY_INFO!D169*AL169*PROFILE!$G$7)","v":0},{"$f":"MAX(COUNTRY_INFO!D169*AK169*PROFILE!$G$8,COUNTRY_INFO!D169*AL169*PROFILE!$G$8,COUNTRY_INFO!D169*AM169*PROFILE!$G$8)","v":23323.83326512076},{"$f":"MAX(COUNTRY_INFO!D169*AK169*PROFILE!$G$9,COUNTRY_INFO!D169*AL169*PROFILE!$G$9,COUNTRY_INFO!D169*AM169*PROFILE!$G$9,IF(AND(DISTRICT!Z169<>\"Unknown\",Z169<>\"Not required\"),COUNTRY_INFO!O169*DISTRICT!AN169,0))","v":40645.298078478205},{"$f":"MAX(COUNTRY_INFO!D169*AK169*PROFILE!$G$10,COUNTRY_INFO!D169*AL169*PROFILE!$G$10,IF(AND(DISTRICT!Z169<>\"Unknown\",Z169<>\"Not required\"),COUNTRY_INFO!O169*DISTRICT!AO169,0))","v":21516.18127389899},85485.312617497955,0,{"$f":"MAX('MDA2'!J169,'T1'!L169,'T2'!J169,T3_R1!K169,T3_R2!K169)","v":0},{"$f":"MAX('MDA1'!K169,'MDA2'!K169,'MDA3'!I169,'MDA3'!L169,'T1'!M169,'T2'!K169,T3_R1!L169,T3_R2!L169)","v":48414},{"$f":"MAX('MDA1'!L169,'MDA2'!L169,'MDA3'!J169,'MDA3'!M169,'T1'!N169,'T2'!L169,T3_R1!M169,T3_R2!M169)","v":0},48414,{"$f":"MAX('MDA2'!J169,T169)","v":0},{"$f":"MAX('MDA1'!K169,'MDA2'!K169,'MDA3'!I169,'MDA3'!L169,V169,AD169)","v":48414},{"$f":"MAX('MDA1'!L169,'MDA2'!L169,'MDA3'!J169,'MDA3'!M169,AF169)","v":0},48414,56.634290169385373]
[{"$f":"IF(COUNTRY_INFO!A170=0,\" \",COUNTRY_INFO!A170)","v":"Tanzania"},{"$f":"IF(COUNTRY_INFO!B170=0,\" \",COUNTRY_INFO!B170)","v":"Songwe"},{"$f":"IF(COUNTRY_INFO!C170=0,\" \",COUNTRY_INFO!C170)","v":"Ileje District Council"},{"$f":"COUNTRY_INFO!L170","v":"Stopped"},null,null,{"$f":"MAX('MDA1'!M170,'MDA2'!M170)","v":0},{"$f":"IF(AND(COUNTRY_INFO!H170>0,COUNTRY_INFO!H170<4),IF(D170>MAX('MDA1'!M170,'MDA2'!M170),MAX('MDA1'!M170,'MDA2'!M170),D170),0)","v":0},{"$f":"IF(AND(COUNTRY_INFO!H170>0,COUNTRY_INFO!H170<4), IF(G170/D170*100<>0, IF(G170/D170*100>100,100,G170/D170*100), \"-\"),0)","v":0},{"$f":"COUNTRY_INFO!M170","v":158398.7965180795},null,null,{"$f":"MAX('MDA1'!M170,MAX('MDA3'!I170,'MDA3'!L170)+MAX('MDA3'!J170,'MDA3'!M170))","v":0},{"$f":"IF(AND(COUNTRY_INFO!I170>0,COUNTRY_INFO!I170<4),IF(J170>MAX('MDA1'!M170,MAX('MDA3'!I170,'MDA3'!L170)+MAX('MDA3'!J170,'MDA3'!M170)),MAX('MDA1'!M170,MAX('MDA3'!I170,'MDA3'!L170)+MAX('MDA3'!J170,'MDA3'!M170)),J170),0)","v":0},{"$f":"IF(AND(COUNTRY_INFO!I170>0,COUNTRY_INFO!I170<4), IF(M170/J170*100<>0, IF(M170/J170*100>100,100,M170/J170*100), \"-\"),0)","v":"-"},{"$f":"COUNTRY_INFO!N170","v":47341},null,null,{"$f":"SUM(MAX('MDA2'!J170, 'T1'!L170, MAX(T3_R1!K170, T3_R2!K170)), MAX('MDA1'!K170, 'MDA2'!K170, 'T1'!M170, MAX(T3_R1!L170, T3_R2!L170)), MAX('MDA1'!L170, 'MDA2'!L170, 'T1'!N170, MAX(T3_R1!M170, T3_R2!M170)))","v":25012},{"$f":"IF(AND(COUNTRY_INFO!J170>1,COUNTRY_INFO!J170<4),IF(COUNTRY_INFO!E170>MAX('MDA2'!J170,'T1'!L170,MAX(T3_R1!K170,T3_R2!K170)),MAX('MDA2'!J170,'T1'!L170,MAX(T3_R1!K170,T3_R2!K170)),COUNTRY_INFO!E170),0)","v":0},{"$f":"IF(AND(COUNTRY_INFO!J170>1,COUNTRY_INFO!J170<4), IF(T170/COUNTRY_INFO!E170*100<>0, IF(T170/COUNTRY_INFO!E170*100>100,100,T170/COUNTRY_INFO!E170*100), \"-\"),0)","v":"-"},{"$f":"IF(AND(COUNTRY_INFO!J170>1,COUNTRY_INFO!J170<4),IF(COUNTRY_INFO!F170>MAX('MDA1'!K170,'MDA2'!K170,'T1'!M170,MAX(T3_R1!L170,T3_R2!L170)),MAX('MDA1'!K170,'MDA2'!K170,'T1'!M170,MAX(T3_R1!L170,T3_R2!L170)),COUNTRY_INFO!F170),0)","v":25012},{"$f":"IF(AND(COUNTRY_INFO!J170>1,COUNTRY_INFO!J170<4), IF(V170/COUNTRY_INFO!F170*100<>0, IF(V170/COUNTRY_INFO!F170*100>100,100,V170/COUNTRY_INFO!F170*100), \"-\"),0)","v":92.953768396016059},25012,{"$f":"IF(AND(COUNTRY_INFO!J170>1,COUNTRY_INFO!J170<4), IF(S170/P170*100<>0, IF(X170/P170*100>100,100,X170/P170*100), \"-\"),0)","v":52.83369595065588},{"$f":"COUNTRY_INFO!O170","v":35665.559303615897},null,null,{"$f":"MAX('T1'!L170,'T2'!J170)+MAX('T1'!M170,'T2'!K170)+MAX('T1'!N170,'T2'!L170)","v":25012},{"$f":"IF(COUNTRY_INFO!K170=1,IF(COUNTRY_INFO!F170*0.33>MAX('T1'!M170,'T2'!K170),MAX('T1'!M170,'T2'!K170),COUNTRY_INFO!F170*0.33),IF(COUNTRY_INFO!K170=2,IF(COUNTRY_INFO!F170*0.5>MAX('T1'!M170,'T2'!K170),MAX('T1'!M170,'T2'!K170),COUNTRY_INFO!F170*0.5),IF(COUNTRY_INFO!K170=3,IF(COUNTRY_INFO!F170>MAX('T1'!M170,'T2'!K170),MAX('T1'!M170,'T2'!K170),COUNTRY_INFO!F170),0)))","v":13454},{"$f":"IF(AND(COUNTRY_INFO!K170>0,COUNTRY_INFO!K170<4),IF(Z170>0,IF(COUNTRY_INFO!K170=1, AD170/(COUNTRY_INFO!F170*0.33)*100, IF(COUNTRY_INFO!K170=2, AD170/(COUNTRY_INFO!F170*0.5)*100, IF(COUNTRY_INFO!K170=3, AD170/COUNTRY_INFO!F170*100))),\"-\"),0)","v":100},{"$f":"IF(COUNTRY_INFO!K170=2,IF(COUNTRY_INFO!G170*0.2>MAX('T1'!N170,'T2'!L170),MAX('T1'!N170,'T2'!L170),COUNTRY_INFO!G170*0.2),IF(COUNTRY_INFO!K170=3,IF(COUNTRY_INFO!G170>MAX('T1'!N170,'T2'!L170),MAX('T1'!N170,'T2'!L170),COUNTRY_INFO!G170),0))","v":0},{"$f":"IF(AND(COUNTRY_INFO!K170>0,COUNTRY_INFO!K170<4),IF(Z170>0,IF(COUNTRY_INFO!K170=1, 0, IF(COUNTRY_INFO!K170=2, AF170/(COUNTRY_INFO!G170*0.2)*100, IF(COUNTRY_INFO!K170=3, AF170/COUNTRY_INFO!G170*100))),\"-\"),0)","v":0},13454,{"$f":"IF(AND(COUNTRY_INFO!K170>0,COUNTRY_INFO!K170<4), IF(AC170/Z170*100<>0, IF(AH170/Z170*100>100,100,AH170/Z170*100), \"-\"),0)","v":37.722666523936965},null,{"$f":"IF(AND(D170<>0, D170<>\"Unknown\",D170<>\"Stopped\",D170<>\"Not required\"),D170/COUNTRY_INFO!D170, 0)","v":0},{"$f":"IF(AND(J170<>0,J170<>\"Unknown\",J170<>\"Stopped\",J170<>\"Not required\"),J170/COUNTRY_INFO!D170, 0)","v":1},{"$f":"IF(AND(P170<>0,P170<>\"Unknown\",P170<>\"Not required\"),P170/(COUNTRY_INFO!E170+COUNTRY_INFO!F170), 0)","v":1},{"$f":"IF(AND(Z170<>0,Z170<>\"Unknown\",Z170<>\"Not required\"),IF(COUNTRY_INFO!K170=1,1,IF(COUNTRY_INFO!K170=2,0.5*COUNTRY_INFO!F170/(0.5*COUNTRY_INFO!F170+0.2*COUNTRY_INFO!G170),IF(COUNTRY_INFO!K170=3,COUNTRY_INFO!F170/(COUNTRY_INFO!F170+COUNTRY_INFO!G170)))),0)","v":0.37722666523936965},{"$f":"IF(AND(Z170<>0,Z170<>\"Unknown\",Z170<>\"Not required\"),IF(COUNTRY_INFO!K170=1,0,IF(COUNTRY_INFO!K170=2,0.2*COUNTRY_INFO!G170/(0.5*COUNTRY_INFO!F170+0.2*COUNTRY_INFO!G170),IF(COUNTRY_INFO!K170=3,COUNTRY_INFO!G170/(COUNTRY_INFO!F170+COUNTRY_INFO!G170)))),0)","v":0.62277333476063046},{"$f":"MAX(COUNTRY_INFO!D170*AK170*PROFILE!$G$7,COUNTRY_INFO!D170*AL170*PROFILE!$G$7)","v":2.9045523915722194E-3},{"$f":"MAX(COUNTRY_INFO!D170*AK170*PROFILE!$G$8,COUNTRY_INFO!D170*AL170*PROFILE!$G$8,COUNTRY_INFO!D170*AM170*PROFILE!$G$8)","v":20433.445051725656},{"$f":"MAX(COUNTRY_INFO!D170*AK170*PROFILE!$G$9,COUNTRY_INFO!D170*AL170*PROFILE!$G$9,COUNTRY_INFO!D170*AM170*PROFILE!$G$9,IF(AND(DISTRICT!Z170<>\"Unknown\",Z170<>\"Not required\"),COUNTRY_INFO!O170*DISTRICT!AN170,0))","v":35608.360575085542},{"$f":"MAX(COUNTRY_INFO!D170*AK170*PROFILE!$G$10,COUNTRY_INFO!D170*AL170*PROFILE!$G$10,IF(AND(DISTRICT!Z170<>\"Unknown\",Z170<>\"Not required\"),COUNTRY_INFO!O170*DISTRICT!AO170,0))","v":102356.9879867159},158398.7965180795,0,{"$f":"MAX('MDA2'!J170,'T1'!L170,'T2'!J170,T3_R1!K170,T3_R2!K170)","v":0},{"$f":"MAX('MDA1'!K170,'MDA2'!K170,'MDA3'!I170,'MDA3'!L170,'T1'!M170,'T2'!K170,T3_R1!L170,T3_R2!L170)","v":25012},{"$f":"MAX('MDA1'!L170,'MDA2'!L170,'MDA3'!J170,'MDA3'!M170,'T1'!N170,'T2'!L170,T3_R1!M170,T3_R2!M170)","v":0},25012,{"$f":"MAX('MDA2'!J170,T170)","v":0},{"$f":"MAX('MDA1'!K170,'MDA2'!K170,'MDA3'!I170,'MDA3'!L170,V170,AD170)","v":25012},{"$f":"MAX('MDA1'!L170,'MDA2'!L170,'MDA3'!J170,'MDA3'!M170,AF170)","v":0},25012,15.790524012690433]
[{"$f":"IF(COUNTRY_INFO!A171=0,\" \",COUNTRY_INFO!A171)","v":"Tanzania"},{"$f":"IF(COUNTRY_INFO!B171=0,\" \",COUNTRY_INFO!B171)","v":"Songwe"},{"$f":"IF(COUNTRY_INFO!C171=0,\" \",COUNTRY_INFO!C171)","v":"Mbozi District Council"},{"$f":"COUNTRY_INFO!L171","v":"Stopped"},null,null,{"$f":"MAX('MDA1'!M171,'MDA2'!M171)","v":0},{"$f":"IF(AND(COUNTRY_INFO!H171>0,COUNTRY_INFO!H171<4),IF(D171>MAX('MDA1'!M171,'MDA2'!M171),MAX('MDA1'!M171,'MDA2'!M171),D171),0)","v":0},{"$f":"IF(AND(COUNTRY_INFO!H171>0,COUNTRY_INFO!H171<4), IF(G171/D171*100<>0, IF(G171/D171*100>100,100,G171/D171*100), \"-\"),0)","v":0},{"$f":"COUNTRY_INFO!M171","v":0},null,null,{"$f":"MAX('MDA1'!M171,MAX('MDA3'!I171,'MDA3'!L171)+MAX('MDA3'!J171,'MDA3'!M171))","v":0},{"$f":"IF(AND(COUNTRY_INFO!I171>0,COUNTRY_INFO!I171<4),IF(J171>MAX('MDA1'!M171,MAX('MDA3'!I171,'MDA3'!L171)+MAX('MDA3'!J171,'MDA3'!M171)),MAX('MDA1'!M171,MAX('MDA3'!I171,'MDA3'!L171)+MAX('MDA3'!J171,'MDA3'!M171)),J171),0)","v":0},{"$f":"IF(AND(COUNTRY_INFO!I171>0,COUNTRY_INFO!I171<4), IF(M171/J171*100<>0, IF(M171/J171*100>100,100,M171/J171*100), \"-\"),0)","v":0},{"$f":"COUNTRY_INFO!N171","v":196826},null,null,{"$f":"SUM(MAX('MDA2'!J171, 'T1'!L171, MAX(T3_R1!K171, T3_R2!K171)), MAX('MDA1'!K171, 'MDA2'!K171, 'T1'!M171, MAX(T3_R1!L171, T3_R2!L171)), MAX('MDA1'!L171, 'MDA2'!L171, 'T1'!N171, MAX(T3_R1!M171, T3_R2!M171)))","v":121543},{"$f":"IF(AND(COUNTRY_INFO!J171>1,COUNTRY_INFO!J171<4),IF(COUNTRY_INFO!E171>MAX('MDA2'!J171,'T1'!L171,MAX(T3_R1!K171,T3_R2!K171)),MAX('MDA2'!J171,'T1'!L171,MAX(T3_R1!K171,T3_R2!K171)),COUNTRY_INFO!E171),0)","v":0},{"$f":"IF(AND(COUNTRY_INFO!J171>1,COUNTRY_INFO!J171<4), IF(T171/COUNTRY_INFO!E171*100<>0, IF(T171/COUNTRY_INFO!E171*100>100,100,T171/COUNTRY_INFO!E171*100), \"-\"),0)","v":"-"},{"$f":"IF(AND(COUNTRY_INFO!J171>1,COUNTRY_INFO!J171<4),IF(COUNTRY_INFO!F171>MAX('MDA1'!K171,'MDA2'!K171,'T1'!M171,MAX(T3_R1!L171,T3_R2!L171)),MAX('MDA1'!K171,'MDA2'!K171,'T1'!M171,MAX(T3_R1!L171,T3_R2!L171)),COUNTRY_INFO!F171),0)","v":121543},{"$f":"IF(AND(COUNTRY_INFO!J171>1,COUNTRY_INFO!J171<4), IF(V171/COUNTRY_INFO!F171*100<>0, IF(V171/COUNTRY_INFO!F171*100>100,100,V171/COUNTRY_INFO!F171*100), \"-\"),0)","v":98.381130456602151},121543,{"$f":"IF(AND(COUNTRY_INFO!J171>1,COUNTRY_INFO!J171<4), IF(S171/P171*100<>0, IF(X171/P171*100>100,100,X171/P171*100), \"-\"),0)","v":61.751496245414728},{"$f":"COUNTRY_INFO!O171","v":494804.10639923892},null,null,{"$f":"MAX('T1'!L171,'T2'!J171)+MAX('T1'!M171,'T2'!K171)+MAX('T1'!N171,'T2'!L171)","v":121543},{"$f":"IF(COUNTRY_INFO!K171=1,IF(COUNTRY_INFO!F171*0.33>MAX('T1'!M171,'T2'!K171),MAX('T1'!M171,'T2'!K171),COUNTRY_INFO!F171*0.33),IF(COUNTRY_INFO!K171=2,IF(COUNTRY_INFO!F171*0.5>MAX('T1'!M171,'T2'!K171),MAX('T1'!M171,'T2'!K171),COUNTRY_INFO!F171*0.5),IF(COUNTRY_INFO!K171=3,IF(COUNTRY_INFO!F171>MAX('T1'!M171,'T2'!K171),MAX('T1'!M171,'T2'!K171),COUNTRY_INFO!F171),0)))","v":121543},{"$f":"IF(AND(COUNTRY_INFO!K171>0,COUNTRY_INFO!K171<4),IF(Z171>0,IF(COUNTRY_INFO!K171=1, AD171/(COUNTRY_INFO!F171*0.33)*100, IF(COUNTRY_INFO!K171=2, AD171/(COUNTRY_INFO!F171*0.5)*100, IF(COUNTRY_INFO!K171=3, AD171/COUNTRY_INFO!F171*100))),\"-\"),0)","v":98.381130456602151},{"$f":"IF(COUNTRY_INFO!K171=2,IF(COUNTRY_INFO!G171*0.2>MAX('T1'!N171,'T2'!L171),MAX('T1'!N171,'T2'!L171),COUNTRY_INFO!G171*0.2),IF(COUNTRY_INFO!K171=3,IF(COUNTRY_INFO!G171>MAX('T1'!N171,'T2'!L171),MAX('T1'!N171,'T2'!L171),COUNTRY_INFO!G171),0))","v":0},{"$f":"IF(AND(COUNTRY_INFO!K171>0,COUNTRY_INFO!K171<4),IF(Z171>0,IF(COUNTRY_INFO!K171=1, 0, IF(COUNTRY_INFO!K171=2, AF171/(COUNTRY_INFO!G171*0.2)*100, IF(COUNTRY_INFO!K171=3, AF171/COUNTRY_INFO!G171*100))),\"-\"),0)","v":0},121543,{"$f":"IF(AND(COUNTRY_INFO!K171>0,COUNTRY_INFO!K171<4), IF(AC171/Z171*100<>0, IF(AH171/Z171*100>100,100,AH171/Z171*100), \"-\"),0)","v":24.563862431232835},null,{"$f":"IF(AND(D171<>0, D171<>\"Unknown\",D171<>\"Stopped\",D171<>\"Not required\"),D171/COUNTRY_INFO!D171, 0)","v":0},{"$f":"IF(AND(J171<>0,J171<>\"Unknown\",J171<>\"Stopped\",J171<>\"Not required\"),J171/COUNTRY_INFO!D171, 0)","v":0},{"$f":"IF(AND(P171<>0,P171<>\"Unknown\",P171<>\"Not required\"),P171/(COUNTRY_INFO!E171+COUNTRY_INFO!F171), 0)","v":1},{"$f":"IF(AND(Z171<>0,Z171<>\"Unknown\",Z171<>\"Not required\"),IF(COUNTRY_INFO!K171=1,1,IF(COUNTRY_INFO!K171=2,0.5*COUNTRY_INFO!F171/(0.5*COUNTRY_INFO!F171+0.2*COUNTRY_INFO!G171),IF(COUNTRY_INFO!K171=3,COUNTRY_INFO!F171/(COUNTRY_INFO!F171+COUNTRY_INFO!G171)))),0)","v":0.24968062795404081},{"$f":"IF(AND(Z171<>0,Z171<>\"Unknown\",Z171<>\"Not required\"),IF(COUNTRY_INFO!K171=1,0,IF(COUNTRY_INFO!K171=2,0.2*COUNTRY_INFO!G171/(0.5*COUNTRY_INFO!F171+0.2*COUNTRY_INFO!G171),IF(COUNTRY_INFO!K171=3,COUNTRY_INFO!G171/(COUNTRY_INFO!F171+COUNTRY_INFO!G171)))),0)","v":0.75031937204595922},{"$f":"MAX(COUNTRY_INFO!D171*AK171*PROFILE!$G$7,COUNTRY_INFO!D171*AL171*PROFILE!$G$7)","v":0},{"$f":"MAX(COUNTRY_INFO!D171*AK171*PROFILE!$G$8,COUNTRY_INFO!D171*AL171*PROFILE!$G$8,COUNTRY_INFO!D171*AM171*PROFILE!$G$8)","v":73283.237804636665},{"$f":"MAX(COUNTRY_INFO!D171*AK171*PROFILE!$G$9,COUNTRY_INFO!D171*AL171*PROFILE!$G$9,COUNTRY_INFO!D171*AM171*PROFILE!$G$9,IF(AND(DISTRICT!Z171<>\"Unknown\",Z171<>\"Not required\"),COUNTRY_INFO!O171*DISTRICT!AN171,0))","v":127707.0973226252},{"$f":"MAX(COUNTRY_INFO!D171*AK171*PROFILE!$G$10,COUNTRY_INFO!D171*AL171*PROFILE!$G$10,IF(AND(DISTRICT!Z171<>\"Unknown\",Z171<>\"Not required\"),COUNTRY_INFO!O171*DISTRICT!AO171,0))","v":371261.10639923892},572251.44152650074,"Y",{"$f":"MAX('MDA2'!J171,'T1'!L171,'T2'!J171,T3_R1!K171,T3_R2!K171)","v":0},{"$f":"MAX('MDA1'!K171,'MDA2'!K171,'MDA3'!I171,'MDA3'!L171,'T1'!M171,'T2'!K171,T3_R1!L171,T3_R2!L171)","v":121543},{"$f":"MAX('MDA1'!L171,'MDA2'!L171,'MDA3'!J171,'MDA3'!M171,'T1'!N171,'T2'!L171,T3_R1!M171,T3_R2!M171)","v":0},121543,{"$f":"MAX('MDA2'!J171,T171)","v":0},{"$f":"MAX('MDA1'!K171,'MDA2'!K171,'MDA3'!I171,'MDA3'!L171,V171,AD171)","v":121543},{"$f":"MAX('MDA1'!L171,'MDA2'!L171,'MDA3'!J171,'MDA3'!M171,AF171)","v":0},121543,21.239439725268284]
[{"$f":"IF(COUNTRY_INFO!A172=0,\" \",COUNTRY_INFO!A172)","v":"Tanzania"},{"$f":"IF(COUNTRY_INFO!B172=0,\" \",COUNTRY_INFO!B172)","v":"Songwe"},{"$f":"IF(COUNTRY_INFO!C172=0,\" \",COUNTRY_INFO!C172)","v":"Momba District Council"},{"$f":"COUNTRY_INFO!L172","v":"Stopped"},null,null,{"$f":"MAX('MDA1'!M172,'MDA2'!M172)","v":0},{"$f":"IF(AND(COUNTRY_INFO!H172>0,COUNTRY_INFO!H172<4),IF(D172>MAX('MDA1'!M172,'MDA2'!M172),MAX('MDA1'!M172,'MDA2'!M172),D172),0)","v":0},{"$f":"IF(AND(COUNTRY_INFO!H172>0,COUNTRY_INFO!H172<4), IF(G172/D172*100<>0, IF(G172/D172*100>100,100,G172/D172*100), \"-\"),0)","v":0},{"$f":"COUNTRY_INFO!M172","v":0},null,null,{"$f":"MAX('MDA1'!M172,MAX('MDA3'!I172,'MDA3'!L172)+MAX('MDA3'!J172,'MDA3'!M172))","v":0},{"$f":"IF(AND(COUNTRY_INFO!I172>0,COUNTRY_INFO!I172<4),IF(J172>MAX('MDA1'!M172,MAX('MDA3'!I172,'MDA3'!L172)+MAX('MDA3'!J172,'MDA3'!M172)),MAX('MDA1'!M172,MAX('MDA3'!I172,'MDA3'!L172)+MAX('MDA3'!J172,'MDA3'!M172)),J172),0)","v":0},{"$f":"IF(AND(COUNTRY_INFO!I172>0,COUNTRY_INFO!I172<4), IF(M172/J172*100<>0, IF(M172/J172*100>100,100,M172/J172*100), \"-\"),0)","v":0},{"$f":"COUNTRY_INFO!N172","v":78041},null,null,{"$f":"SUM(MAX('MDA2'!J172, 'T1'!L172, MAX(T3_R1!K172, T3_R2!K172)), MAX('MDA1'!K172, 'MDA2'!K172, 'T1'!M172, MAX(T3_R1!L172, T3_R2!L172)), MAX('MDA1'!L172, 'MDA2'!L172, 'T1'!N172, MAX(T3_R1!M172, T3_R2!M172)))","v":47911},{"$f":"IF(AND(COUNTRY_INFO!J172>1,COUNTRY_INFO!J172<4),IF(COUNTRY_INFO!E172>MAX('MDA2'!J172,'T1'!L172,MAX(T3_R1!K172,T3_R2!K172)),MAX('MDA2'!J172,'T1'!L172,MAX(T3_R1!K172,T3_R2!K172)),COUNTRY_INFO!E172),0)","v":0},{"$f":"IF(AND(COUNTRY_INFO!J172>1,COUNTRY_INFO!J172<4), IF(T172/COUNTRY_INFO!E172*100<>0, IF(T172/COUNTRY_INFO!E172*100>100,100,T172/COUNTRY_INFO!E172*100), \"-\"),0)","v":"-"},{"$f":"IF(AND(COUNTRY_INFO!J172>1,COUNTRY_INFO!J172<4),IF(COUNTRY_INFO!F172>MAX('MDA1'!K172,'MDA2'!K172,'T1'!M172,MAX(T3_R1!L172,T3_R2!L172)),MAX('MDA1'!K172,'MDA2'!K172,'T1'!M172,MAX(T3_R1!L172,T3_R2!L172)),COUNTRY_INFO!F172),0)","v":47911},{"$f":"IF(AND(COUNTRY_INFO!J172>1,COUNTRY_INFO!J172<4), IF(V172/COUNTRY_INFO!F172*100<>0, IF(V172/COUNTRY_INFO!F172*100>100,100,V172/COUNTRY_INFO!F172*100), \"-\"),0)","v":95.182374443738084},47911,{"$f":"IF(AND(COUNTRY_INFO!J172>1,COUNTRY_INFO!J172<4), IF(S172/P172*100<>0, IF(X172/P172*100>100,100,X172/P172*100), \"-\"),0)","v":61.392088773849643},{"$f":"COUNTRY_INFO!O172","v":187061.24144061547},null,null,{"$f":"MAX('T1'!L172,'T2'!J172)+MAX('T1'!M172,'T2'!K172)+MAX('T1'!N172,'T2'!L172)","v":47911},{"$f":"IF(COUNTRY_INFO!K172=1,IF(COUNTRY_INFO!F172*0.33>MAX('T1'!M172,'T2'!K172),MAX('T1'!M172,'T2'!K172),COUNTRY_INFO!F172*0.33),IF(COUNTRY_INFO!K172=2,IF(COUNTRY_INFO!F172*0.5>MAX('T1'!M172,'T2'!K172),MAX('T1'!M172,'T2'!K172),COUNTRY_INFO!F172*0.5),IF(COUNTRY_INFO!K172=3,IF(COUNTRY_INFO!F172>MAX('T1'!M172,'T2'!K172),MAX('T1'!M172,'T2'!K172),COUNTRY_INFO!F172),0)))","v":47911},{"$f":"IF(AND(COUNTRY_INFO!K172>0,COUNTRY_INFO!K172<4),IF(Z172>0,IF(COUNTRY_INFO!K172=1, AD172/(COUNTRY_INFO!F172*0.33)*100, IF(COUNTRY_INFO!K172=2, AD172/(COUNTRY_INFO!F172*0.5)*100, IF(COUNTRY_INFO!K172=3, AD172/COUNTRY_INFO!F172*100))),\"-\"),0)","v":95.182374443738084},{"$f":"IF(COUNTRY_INFO!K172=2,IF(COUNTRY_INFO!G172*0.2>MAX('T1'!N172,'T2'!L172),MAX('T1'!N172,'T2'!L172),COUNTRY_INFO!G172*0.2),IF(COUNTRY_INFO!K172=3,IF(COUNTRY_INFO!G172>MAX('T1'!N172,'T2'!L172),MAX('T1'!N172,'T2'!L172),COUNTRY_INFO!G172),0))","v":0},{"$f":"IF(AND(COUNTRY_INFO!K172>0,COUNTRY_INFO!K172<4),IF(Z172>0,IF(COUNTRY_INFO!K172=1, 0, IF(COUNTRY_INFO!K172=2, AF172/(COUNTRY_INFO!G172*0.2)*100, IF(COUNTRY_INFO!K172=3, AF172/COUNTRY_INFO!G172*100))),\"-\"),0)","v":0},47911,{"$f":"IF(AND(COUNTRY_INFO!K172>0,COUNTRY_INFO!K172<4), IF(AC172/Z172*100<>0, IF(AH172/Z172*100>100,100,AH172/Z172*100), \"-\"),0)","v":25.612467676907748},null,{"$f":"IF(AND(D172<>0, D172<>\"Unknown\",D172<>\"Stopped\",D172<>\"Not required\"),D172/COUNTRY_INFO!D172, 0)","v":0},{"$f":"IF(AND(J172<>0,J172<>\"Unknown\",J172<>\"Stopped\",J172<>\"Not required\"),J172/COUNTRY_INFO!D172, 0)","v":0},{"$f":"IF(AND(P172<>0,P172<>\"Unknown\",P172<>\"Not required\"),P172/(COUNTRY_INFO!E172+COUNTRY_INFO!F172), 0)","v":1},{"$f":"IF(AND(Z172<>0,Z172<>\"Unknown\",Z172<>\"Not required\"),IF(COUNTRY_INFO!K172=1,1,IF(COUNTRY_INFO!K172=2,0.5*COUNTRY_INFO!F172/(0.5*COUNTRY_INFO!F172+0.2*COUNTRY_INFO!G172),IF(COUNTRY_INFO!K172=3,COUNTRY_INFO!F172/(COUNTRY_INFO!F172+COUNTRY_INFO!G172)))),0)","v":0.26908834567945322},{"$f":"IF(AND(Z172<>0,Z172<>\"Unknown\",Z172<>\"Not required\"),IF(COUNTRY_INFO!K172=1,0,IF(COUNTRY_INFO!K172=2,0.2*COUNTRY_INFO!G172/(0.5*COUNTRY_INFO!F172+0.2*COUNTRY_INFO!G172),IF(COUNTRY_INFO!K172=3,COUNTRY_INFO!G172/(COUNTRY_INFO!F172+COUNTRY_INFO!G172)))),0)","v":0.73091165432054672},{"$f":"MAX(COUNTRY_INFO!D172*AK172*PROFILE!$G$7,COUNTRY_INFO!D172*AL172*PROFILE!$G$7)","v":0},{"$f":"MAX(COUNTRY_INFO!D172*AK172*PROFILE!$G$8,COUNTRY_INFO!D172*AL172*PROFILE!$G$8,COUNTRY_INFO!D172*AM172*PROFILE!$G$8)","v":27704.845553808056},{"$f":"MAX(COUNTRY_INFO!D172*AK172*PROFILE!$G$9,COUNTRY_INFO!D172*AL172*PROFILE!$G$9,COUNTRY_INFO!D172*AM172*PROFILE!$G$9,IF(AND(DISTRICT!Z172<>\"Unknown\",Z172<>\"Not required\"),COUNTRY_INFO!O172*DISTRICT!AN172,0))","v":50335.999999999993},{"$f":"MAX(COUNTRY_INFO!D172*AK172*PROFILE!$G$10,COUNTRY_INFO!D172*AL172*PROFILE!$G$10,IF(AND(DISTRICT!Z172<>\"Unknown\",Z172<>\"Not required\"),COUNTRY_INFO!O172*DISTRICT!AO172,0))","v":136725.24144061547},214766.08699442353,"Y",{"$f":"MAX('MDA2'!J172,'T1'!L172,'T2'!J172,T3_R1!K172,T3_R2!K172)","v":0},{"$f":"MAX('MDA1'!K172,'MDA2'!K172,'MDA3'!I172,'MDA3'!L172,'T1'!M172,'T2'!K172,T3_R1!L172,T3_R2!L172)","v":47911},{"$f":"MAX('MDA1'!L172,'MDA2'!L172,'MDA3'!J172,'MDA3'!M172,'T1'!N172,'T2'!L172,T3_R1!M172,T3_R2!M172)","v":0},47911,{"$f":"MAX('MDA2'!J172,T172)","v":0},{"$f":"MAX('MDA1'!K172,'MDA2'!K172,'MDA3'!I172,'MDA3'!L172,V172,AD172)","v":47911},{"$f":"MAX('MDA1'!L172,'MDA2'!L172,'MDA3'!J172,'MDA3'!M172,AF172)","v":0},47911,22.308456921899417]
[{"$f":"IF(COUNTRY_INFO!A173=0,\" \",COUNTRY_INFO!A173)","v":"Tanzania"},{"$f":"IF(COUNTRY_INFO!B173=0,\" \",COUNTRY_INFO!B173)","v":"Songwe"},{"$f":"IF(COUNTRY_INFO!C173=0,\" \",COUNTRY_INFO!C173)","v":"Songwe District Council"},{"$f":"COUNTRY_INFO!L173","v":"Stopped"},null,null,{"$f":"MAX('MDA1'!M173,'MDA2'!M173)","v":0},{"$f":"IF(AND(COUNTRY_INFO!H173>0,COUNTRY_INFO!H173<4),IF(D173>MAX('MDA1'!M173,'MDA2'!M173),MAX('MDA1'!M173,'MDA2'!M173),D173),0)","v":0},{"$f":"IF(AND(COUNTRY_INFO!H173>0,COUNTRY_INFO!H173<4), IF(G173/D173*100<>0, IF(G173/D173*100>100,100,G173/D173*100), \"-\"),0)","v":0},{"$f":"COUNTRY_INFO!M173","v":0},null,null,{"$f":"MAX('MDA1'!M173,MAX('MDA3'!I173,'MDA3'!L173)+MAX('MDA3'!J173,'MDA3'!M173))","v":0},{"$f":"IF(AND(COUNTRY_INFO!I173>0,COUNTRY_INFO!I173<4),IF(J173>MAX('MDA1'!M173,MAX('MDA3'!I173,'MDA3'!L173)+MAX('MDA3'!J173,'MDA3'!M173)),MAX('MDA1'!M173,MAX('MDA3'!I173,'MDA3'!L173)+MAX('MDA3'!J173,'MDA3'!M173)),J173),0)","v":0},{"$f":"IF(AND(COUNTRY_INFO!I173>0,COUNTRY_INFO!I173<4), IF(M173/J173*100<>0, IF(M173/J173*100>100,100,M173/J173*100), \"-\"),0)","v":0},{"$f":"COUNTRY_INFO!N173","v":57861},null,null,{"$f":"SUM(MAX('MDA2'!J173, 'T1'!L173, MAX(T3_R1!K173, T3_R2!K173)), MAX('MDA1'!K173, 'MDA2'!K173, 'T1'!M173, MAX(T3_R1!L173, T3_R2!L173)), MAX('MDA1'!L173, 'MDA2'!L173, 'T1'!N173, MAX(T3_R1!M173, T3_R2!M173)))","v":35869},{"$f":"IF(AND(COUNTRY_INFO!J173>1,COUNTRY_INFO!J173<4),IF(COUNTRY_INFO!E173>MAX('MDA2'!J173,'T1'!L173,MAX(T3_R1!K173,T3_R2!K173)),MAX('MDA2'!J173,'T1'!L173,MAX(T3_R1!K173,T3_R2!K173)),COUNTRY_INFO!E173),0)","v":0},{"$f":"IF(AND(COUNTRY_INFO!J173>1,COUNTRY_INFO!J173<4), IF(T173/COUNTRY_INFO!E173*100<>0, IF(T173/COUNTRY_INFO!E173*100>100,100,T173/COUNTRY_INFO!E173*100), \"-\"),0)","v":"-"},{"$f":"IF(AND(COUNTRY_INFO!J173>1,COUNTRY_INFO!J173<4),IF(COUNTRY_INFO!F173>MAX('MDA1'!K173,'MDA2'!K173,'T1'!M173,MAX(T3_R1!L173,T3_R2!L173)),MAX('MDA1'!K173,'MDA2'!K173,'T1'!M173,MAX(T3_R1!L173,T3_R2!L173)),COUNTRY_INFO!F173),0)","v":35869},{"$f":"IF(AND(COUNTRY_INFO!J173>1,COUNTRY_INFO!J173<4), IF(V173/COUNTRY_INFO!F173*100<>0, IF(V173/COUNTRY_INFO!F173*100>100,100,V173/COUNTRY_INFO!F173*100), \"-\"),0)","v":99.885825675299358},35869,{"$f":"IF(AND(COUNTRY_INFO!J173>1,COUNTRY_INFO!J173<4), IF(S173/P173*100<>0, IF(X173/P173*100>100,100,X173/P173*100), \"-\"),0)","v":61.991669691156389},{"$f":"COUNTRY_INFO!O173","v":40414.681734697224},null,null,{"$f":"MAX('T1'!L173,'T2'!J173)+MAX('T1'!M173,'T2'!K173)+MAX('T1'!N173,'T2'!L173)","v":35869},{"$f":"IF(COUNTRY_INFO!K173=1,IF(COUNTRY_INFO!F173*0.33>MAX('T1'!M173,'T2'!K173),MAX('T1'!M173,'T2'!K173),COUNTRY_INFO!F173*0.33),IF(COUNTRY_INFO!K173=2,IF(COUNTRY_INFO!F173*0.5>MAX('T1'!M173,'T2'!K173),MAX('T1'!M173,'T2'!K173),COUNTRY_INFO!F173*0.5),IF(COUNTRY_INFO!K173=3,IF(COUNTRY_INFO!F173>MAX('T1'!M173,'T2'!K173),MAX('T1'!M173,'T2'!K173),COUNTRY_INFO!F173),0)))","v":17955},{"$f":"IF(AND(COUNTRY_INFO!K173>0,COUNTRY_INFO!K173<4),IF(Z173>0,IF(COUNTRY_INFO!K173=1, AD173/(COUNTRY_INFO!F173*0.33)*100, IF(COUNTRY_INFO!K173=2, AD173/(COUNTRY_INFO!F173*0.5)*100, IF(COUNTRY_INFO!K173=3, AD173/COUNTRY_INFO!F173*100))),\"-\"),0)","v":100},{"$f":"IF(COUNTRY_INFO!K173=2,IF(COUNTRY_INFO!G173*0.2>MAX('T1'!N173,'T2'!L173),MAX('T1'!N173,'T2'!L173),COUNTRY_INFO!G173*0.2),IF(COUNTRY_INFO!K173=3,IF(COUNTRY_INFO!G173>MAX('T1'!N173,'T2'!L173),MAX('T1'!N173,'T2'!L173),COUNTRY_INFO!G173),0))","v":0},{"$f":"IF(AND(COUNTRY_INFO!K173>0,COUNTRY_INFO!K173<4),IF(Z173>0,IF(COUNTRY_INFO!K173=1, 0, IF(COUNTRY_INFO!K173=2, AF173/(COUNTRY_INFO!G173*0.2)*100, IF(COUNTRY_INFO!K173=3, AF173/COUNTRY_INFO!G173*100))),\"-\"),0)","v":0},17955,{"$f":"IF(AND(COUNTRY_INFO!K173>0,COUNTRY_INFO!K173<4), IF(AC173/Z173*100<>0, IF(AH173/Z173*100>100,100,AH173/Z173*100), \"-\"),0)","v":44.426924150648681},null,{"$f":"IF(AND(D173<>0, D173<>\"Unknown\",D173<>\"Stopped\",D173<>\"Not required\"),D173/COUNTRY_INFO!D173, 0)","v":0},{"$f":"IF(AND(J173<>0,J173<>\"Unknown\",J173<>\"Stopped\",J173<>\"Not required\"),J173/COUNTRY_INFO!D173, 0)","v":0},{"$f":"IF(AND(P173<>0,P173<>\"Unknown\",P173<>\"Not required\"),P173/(COUNTRY_INFO!E173+COUNTRY_INFO!F173), 0)","v":1},{"$f":"IF(AND(Z173<>0,Z173<>\"Unknown\",Z173<>\"Not required\"),IF(COUNTRY_INFO!K173=1,1,IF(COUNTRY_INFO!K173=2,0.5*COUNTRY_INFO!F173/(0.5*COUNTRY_INFO!F173+0.2*COUNTRY_INFO!G173),IF(COUNTRY_INFO!K173=3,COUNTRY_INFO!F173/(COUNTRY_INFO!F173+COUNTRY_INFO!G173)))),0)","v":0.44426924150648678},{"$f":"IF(AND(Z173<>0,Z173<>\"Unknown\",Z173<>\"Not required\"),IF(COUNTRY_INFO!K173=1,0,IF(COUNTRY_INFO!K173=2,0.2*COUNTRY_INFO!G173/(0.5*COUNTRY_INFO!F173+0.2*COUNTRY_INFO!G173),IF(COUNTRY_INFO!K173=3,COUNTRY_INFO!G173/(COUNTRY_INFO!F173+COUNTRY_INFO!G173)))),0)","v":0.55573075849351317},{"$f":"MAX(COUNTRY_INFO!D173*AK173*PROFILE!$G$7,COUNTRY_INFO!D173*AL173*PROFILE!$G$7)","v":0},{"$f":"MAX(COUNTRY_INFO!D173*AK173*PROFILE!$G$8,COUNTRY_INFO!D173*AL173*PROFILE!$G$8,COUNTRY_INFO!D173*AM173*PROFILE!$G$8)","v":21950.564042113496},{"$f":"MAX(COUNTRY_INFO!D173*AK173*PROFILE!$G$9,COUNTRY_INFO!D173*AL173*PROFILE!$G$9,COUNTRY_INFO!D173*AM173*PROFILE!$G$9,IF(AND(DISTRICT!Z173<>\"Unknown\",Z173<>\"Not required\"),COUNTRY_INFO!O173*DISTRICT!AN173,0))","v":38252.169287140074},{"$f":"MAX(COUNTRY_INFO!D173*AK173*PROFILE!$G$10,COUNTRY_INFO!D173*AL173*PROFILE!$G$10,IF(AND(DISTRICT!Z173<>\"Unknown\",Z173<>\"Not required\"),COUNTRY_INFO!O173*DISTRICT!AO173,0))","v":22459.68173469722},82662.415063950786,"Y",{"$f":"MAX('MDA2'!J173,'T1'!L173,'T2'!J173,T3_R1!K173,T3_R2!K173)","v":0},{"$f":"MAX('MDA1'!K173,'MDA2'!K173,'MDA3'!I173,'MDA3'!L173,'T1'!M173,'T2'!K173,T3_R1!L173,T3_R2!L173)","v":35869},{"$f":"MAX('MDA1'!L173,'MDA2'!L173,'MDA3'!J173,'MDA3'!M173,'T1'!N173,'T2'!L173,T3_R1!M173,T3_R2!M173)","v":0},35869,{"$f":"MAX('MDA2'!J173,T173)","v":0},{"$f":"MAX('MDA1'!K173,'MDA2'!K173,'MDA3'!I173,'MDA3'!L173,V173,AD173)","v":35869},{"$f":"MAX('MDA1'!L173,'MDA2'!L173,'MDA3'!J173,'MDA3'!M173,AF173)","v":0},35869,43.392151042587344]
[{"$f":"IF(COUNTRY_INFO!A174=0,\" \",COUNTRY_INFO!A174)","v":"Tanzania"},{"$f":"IF(COUNTRY_INFO!B174=0,\" \",COUNTRY_INFO!B174)","v":"Songwe"},{"$f":"IF(COUNTRY_INFO!C174=0,\" \",COUNTRY_INFO!C174)","v":"Tunduma Town Council"},{"$f":"COUNTRY_INFO!L174","v":"Stopped"},null,null,{"$f":"MAX('MDA1'!M174,'MDA2'!M174)","v":0},{"$f":"IF(AND(COUNTRY_INFO!H174>0,COUNTRY_INFO!H174<4),IF(D174>MAX('MDA1'!M174,'MDA2'!M174),MAX('MDA1'!M174,'MDA2'!M174),D174),0)","v":0},{"$f":"IF(AND(COUNTRY_INFO!H174>0,COUNTRY_INFO!H174<4), IF(G174/D174*100<>0, IF(G174/D174*100>100,100,G174/D174*100), \"-\"),0)","v":0},{"$f":"COUNTRY_INFO!M174","v":0},null,null,{"$f":"MAX('MDA1'!M174,MAX('MDA3'!I174,'MDA3'!L174)+MAX('MDA3'!J174,'MDA3'!M174))","v":0},{"$f":"IF(AND(COUNTRY_INFO!I174>0,COUNTRY_INFO!I174<4),IF(J174>MAX('MDA1'!M174,MAX('MDA3'!I174,'MDA3'!L174)+MAX('MDA3'!J174,'MDA3'!M174)),MAX('MDA1'!M174,MAX('MDA3'!I174,'MDA3'!L174)+MAX('MDA3'!J174,'MDA3'!M174)),J174),0)","v":0},{"$f":"IF(AND(COUNTRY_INFO!I174>0,COUNTRY_INFO!I174<4), IF(M174/J174*100<>0, IF(M174/J174*100>100,100,M174/J174*100), \"-\"),0)","v":0},{"$f":"COUNTRY_INFO!N174","v":58949},null,null,{"$f":"SUM(MAX('MDA2'!J174, 'T1'!L174, MAX(T3_R1!K174, T3_R2!K174)), MAX('MDA1'!K174, 'MDA2'!K174, 'T1'!M174, MAX(T3_R1!L174, T3_R2!L174)), MAX('MDA1'!L174, 'MDA2'!L174, 'T1'!N174, MAX(T3_R1!M174, T3_R2!M174)))","v":37107},{"$f":"IF(AND(COUNTRY_INFO!J174>1,COUNTRY_INFO!J174<4),IF(COUNTRY_INFO!E174>MAX('MDA2'!J174,'T1'!L174,MAX(T3_R1!K174,T3_R2!K174)),MAX('MDA2'!J174,'T1'!L174,MAX(T3_R1!K174,T3_R2!K174)),COUNTRY_INFO!E174),0)","v":0},{"$f":"IF(AND(COUNTRY_INFO!J174>1,COUNTRY_INFO!J174<4), IF(T174/COUNTRY_INFO!E174*100<>0, IF(T174/COUNTRY_INFO!E174*100>100,100,T174/COUNTRY_INFO!E174*100), \"-\"),0)","v":"-"},{"$f":"IF(AND(COUNTRY_INFO!J174>1,COUNTRY_INFO!J174<4),IF(COUNTRY_INFO!F174>MAX('MDA1'!K174,'MDA2'!K174,'T1'!M174,MAX(T3_R1!L174,T3_R2!L174)),MAX('MDA1'!K174,'MDA2'!K174,'T1'!M174,MAX(T3_R1!L174,T3_R2!L174)),COUNTRY_INFO!F174),0)","v":37107},{"$f":"IF(AND(COUNTRY_INFO!J174>1,COUNTRY_INFO!J174<4), IF(V174/COUNTRY_INFO!F174*100<>0, IF(V174/COUNTRY_INFO!F174*100>100,100,V174/COUNTRY_INFO!F174*100), \"-\"),0)","v":96.834551148225472},37107,{"$f":"IF(AND(COUNTRY_INFO!J174>1,COUNTRY_INFO!J174<4), IF(S174/P174*100<>0, IF(X174/P174*100>100,100,X174/P174*100), \"-\"),0)","v":62.947632699452072},{"$f":"COUNTRY_INFO!O174","v":139284.34707855873},null,null,{"$f":"MAX('T1'!L174,'T2'!J174)+MAX('T1'!M174,'T2'!K174)+MAX('T1'!N174,'T2'!L174)","v":37107},{"$f":"IF(COUNTRY_INFO!K174=1,IF(COUNTRY_INFO!F174*0.33>MAX('T1'!M174,'T2'!K174),MAX('T1'!M174,'T2'!K174),COUNTRY_INFO!F174*0.33),IF(COUNTRY_INFO!K174=2,IF(COUNTRY_INFO!F174*0.5>MAX('T1'!M174,'T2'!K174),MAX('T1'!M174,'T2'!K174),COUNTRY_INFO!F174*0.5),IF(COUNTRY_INFO!K174=3,IF(COUNTRY_INFO!F174>MAX('T1'!M174,'T2'!K174),MAX('T1'!M174,'T2'!K174),COUNTRY_INFO!F174),0)))","v":37107},{"$f":"IF(AND(COUNTRY_INFO!K174>0,COUNTRY_INFO!K174<4),IF(Z174>0,IF(COUNTRY_INFO!K174=1, AD174/(COUNTRY_INFO!F174*0.33)*100, IF(COUNTRY_INFO!K174=2, AD174/(COUNTRY_INFO!F174*0.5)*100, IF(COUNTRY_INFO!K174=3, AD174/COUNTRY_INFO!F174*100))),\"-\"),0)","v":96.834551148225472},{"$f":"IF(COUNTRY_INFO!K174=2,IF(COUNTRY_INFO!G174*0.2>MAX('T1'!N174,'T2'!L174),MAX('T1'!N174,'T2'!L174),COUNTRY_INFO!G174*0.2),IF(COUNTRY_INFO!K174=3,IF(COUNTRY_INFO!G174>MAX('T1'!N174,'T2'!L174),MAX('T1'!N174,'T2'!L174),COUNTRY_INFO!G174),0))","v":0},{"$f":"IF(AND(COUNTRY_INFO!K174>0,COUNTRY_INFO!K174<4),IF(Z174>0,IF(COUNTRY_INFO!K174=1, 0, IF(COUNTRY_INFO!K174=2, AF174/(COUNTRY_INFO!G174*0.2)*100, IF(COUNTRY_INFO!K174=3, AF174/COUNTRY_INFO!G174*100))),\"-\"),0)","v":0},37107,{"$f":"IF(AND(COUNTRY_INFO!K174>0,COUNTRY_INFO!K174<4), IF(AC174/Z174*100<>0, IF(AH174/Z174*100>100,100,AH174/Z174*100), \"-\"),0)","v":26.641184582694727},null,{"$f":"IF(AND(D174<>0, D174<>\"Unknown\",D174<>\"Stopped\",D174<>\"Not required\"),D174/COUNTRY_INFO!D174, 0)","v":0},{"$f":"IF(AND(J174<>0,J174<>\"Unknown\",J174<>\"Stopped\",J174<>\"Not required\"),J174/COUNTRY_INFO!D174, 0)","v":0},{"$f":"IF(AND(P174<>0,P174<>\"Unknown\",P174<>\"Not required\"),P174/(COUNTRY_INFO!E174+COUNTRY_INFO!F174), 0)","v":1},{"$f":"IF(AND(Z174<>0,Z174<>\"Unknown\",Z174<>\"Not required\"),IF(COUNTRY_INFO!K174=1,1,IF(COUNTRY_INFO!K174=2,0.5*COUNTRY_INFO!F174/(0.5*COUNTRY_INFO!F174+0.2*COUNTRY_INFO!G174),IF(COUNTRY_INFO!K174=3,COUNTRY_INFO!F174/(COUNTRY_INFO!F174+COUNTRY_INFO!G174)))),0)","v":0.27512064925994067},{"$f":"IF(AND(Z174<>0,Z174<>\"Unknown\",Z174<>\"Not required\"),IF(COUNTRY_INFO!K174=1,0,IF(COUNTRY_INFO!K174=2,0.2*COUNTRY_INFO!G174/(0.5*COUNTRY_INFO!F174+0.2*COUNTRY_INFO!G174),IF(COUNTRY_INFO!K174=3,COUNTRY_INFO!G174/(COUNTRY_INFO!F174+COUNTRY_INFO!G174)))),0)","v":0.72487935074005927},{"$f":"MAX(COUNTRY_INFO!D174*AK174*PROFILE!$G$7,COUNTRY_INFO!D174*AL174*PROFILE!$G$7)","v":0},{"$f":"MAX(COUNTRY_INFO!D174*AK174*PROFILE!$G$8,COUNTRY_INFO!D174*AL174*PROFILE!$G$8,COUNTRY_INFO!D174*AM174*PROFILE!$G$8)","v":20628.822076904507},{"$f":"MAX(COUNTRY_INFO!D174*AK174*PROFILE!$G$9,COUNTRY_INFO!D174*AL174*PROFILE!$G$9,COUNTRY_INFO!D174*AM174*PROFILE!$G$9,IF(AND(DISTRICT!Z174<>\"Unknown\",Z174<>\"Not required\"),COUNTRY_INFO!O174*DISTRICT!AN174,0))","v":38320},{"$f":"MAX(COUNTRY_INFO!D174*AK174*PROFILE!$G$10,COUNTRY_INFO!D174*AL174*PROFILE!$G$10,IF(AND(DISTRICT!Z174<>\"Unknown\",Z174<>\"Not required\"),COUNTRY_INFO!O174*DISTRICT!AO174,0))","v":100964.34707855873},159913.16915546323,"Y",{"$f":"MAX('MDA2'!J174,'T1'!L174,'T2'!J174,T3_R1!K174,T3_R2!K174)","v":0},{"$f":"MAX('MDA1'!K174,'MDA2'!K174,'MDA3'!I174,'MDA3'!L174,'T1'!M174,'T2'!K174,T3_R1!L174,T3_R2!L174)","v":37107},{"$f":"MAX('MDA1'!L174,'MDA2'!L174,'MDA3'!J174,'MDA3'!M174,'T1'!N174,'T2'!L174,T3_R1!M174,T3_R2!M174)","v":0},37107,{"$f":"MAX('MDA2'!J174,T174)","v":0},{"$f":"MAX('MDA1'!K174,'MDA2'!K174,'MDA3'!I174,'MDA3'!L174,V174,AD174)","v":37107},{"$f":"MAX('MDA1'!L174,'MDA2'!L174,'MDA3'!J174,'MDA3'!M174,AF174)","v":0},37107,23.204467897153354]
[{"$f":"IF(COUNTRY_INFO!A175=0,\" \",COUNTRY_INFO!A175)","v":"Tanzania"},{"$f":"IF(COUNTRY_INFO!B175=0,\" \",COUNTRY_INFO!B175)","v":"Tabora"},{"$f":"IF(COUNTRY_INFO!C175=0,\" \",COUNTRY_INFO!C175)","v":"Igunga District Council"},{"$f":"COUNTRY_INFO!L175","v":"Stopped"},null,null,{"$f":"MAX('MDA1'!M175,'MDA2'!M175)","v":0},{"$f":"IF(AND(COUNTRY_INFO!H175>0,COUNTRY_INFO!H175<4),IF(D175>MAX('MDA1'!M175,'MDA2'!M175),MAX('MDA1'!M175,'MDA2'!M175),D175),0)","v":0},{"$f":"IF(AND(COUNTRY_INFO!H175>0,COUNTRY_INFO!H175<4), IF(G175/D175*100<>0, IF(G175/D175*100>100,100,G175/D175*100), \"-\"),0)","v":0},{"$f":"COUNTRY_INFO!M175","v":0},null,null,{"$f":"MAX('MDA1'!M175,MAX('MDA3'!I175,'MDA3'!L175)+MAX('MDA3'!J175,'MDA3'!M175))","v":0},{"$f":"IF(AND(COUNTRY_INFO!I175>0,COUNTRY_INFO!I175<4),IF(J175>MAX('MDA1'!M175,MAX('MDA3'!I175,'MDA3'!L175)+MAX('MDA3'!J175,'MDA3'!M175)),MAX('MDA1'!M175,MAX('MDA3'!I175,'MDA3'!L175)+MAX('MDA3'!J175,'MDA3'!M175)),J175),0)","v":0},{"$f":"IF(AND(COUNTRY_INFO!I175>0,COUNTRY_INFO!I175<4), IF(M175/J175*100<>0, IF(M175/J175*100>100,100,M175/J175*100), \"-\"),0)","v":0},{"$f":"COUNTRY_INFO!N175","v":164851},null,null,{"$f":"SUM(MAX('MDA2'!J175, 'T1'!L175, MAX(T3_R1!K175, T3_R2!K175)), MAX('MDA1'!K175, 'MDA2'!K175, 'T1'!M175, MAX(T3_R1!L175, T3_R2!L175)), MAX('MDA1'!L175, 'MDA2'!L175, 'T1'!N175, MAX(T3_R1!M175, T3_R2!M175)))","v":84117},{"$f":"IF(AND(COUNTRY_INFO!J175>1,COUNTRY_INFO!J175<4),IF(COUNTRY_INFO!E175>MAX('MDA2'!J175,'T1'!L175,MAX(T3_R1!K175,T3_R2!K175)),MAX('MDA2'!J175,'T1'!L175,MAX(T3_R1!K175,T3_R2!K175)),COUNTRY_INFO!E175),0)","v":0},{"$f":"IF(AND(COUNTRY_INFO!J175>1,COUNTRY_INFO!J175<4), IF(T175/COUNTRY_INFO!E175*100<>0, IF(T175/COUNTRY_INFO!E175*100>100,100,T175/COUNTRY_INFO!E175*100), \"-\"),0)","v":"-"},{"$f":"IF(AND(COUNTRY_INFO!J175>1,COUNTRY_INFO!J175<4),IF(COUNTRY_INFO!F175>MAX('MDA1'!K175,'MDA2'!K175,'T1'!M175,MAX(T3_R1!L175,T3_R2!L175)),MAX('MDA1'!K175,'MDA2'!K175,'T1'!M175,MAX(T3_R1!L175,T3_R2!L175)),COUNTRY_INFO!F175),0)","v":84117},{"$f":"IF(AND(COUNTRY_INFO!J175>1,COUNTRY_INFO!J175<4), IF(V175/COUNTRY_INFO!F175*100<>0, IF(V175/COUNTRY_INFO!F175*100>100,100,V175/COUNTRY_INFO!F175*100), \"-\"),0)","v":84.267839432584324},84117,{"$f":"IF(AND(COUNTRY_INFO!J175>1,COUNTRY_INFO!J175<4), IF(S175/P175*100<>0, IF(X175/P175*100>100,100,X175/P175*100), \"-\"),0)","v":51.026078094764358},{"$f":"COUNTRY_INFO!O175","v":117761.62883141283},null,null,{"$f":"MAX('T1'!L175,'T2'!J175)+MAX('T1'!M175,'T2'!K175)+MAX('T1'!N175,'T2'!L175)","v":0},{"$f":"IF(COUNTRY_INFO!K175=1,IF(COUNTRY_INFO!F175*0.33>MAX('T1'!M175,'T2'!K175),MAX('T1'!M175,'T2'!K175),COUNTRY_INFO!F175*0.33),IF(COUNTRY_INFO!K175=2,IF(COUNTRY_INFO!F175*0.5>MAX('T1'!M175,'T2'!K175),MAX('T1'!M175,'T2'!K175),COUNTRY_INFO!F175*0.5),IF(COUNTRY_INFO!K175=3,IF(COUNTRY_INFO!F175>MAX('T1'!M175,'T2'!K175),MAX('T1'!M175,'T2'!K175),COUNTRY_INFO!F175),0)))","v":0},{"$f":"IF(AND(COUNTRY_INFO!K175>0,COUNTRY_INFO!K175<4),IF(Z175>0,IF(COUNTRY_INFO!K175=1, AD175/(COUNTRY_INFO!F175*0.33)*100, IF(COUNTRY_INFO!K175=2, AD175/(COUNTRY_INFO!F175*0.5)*100, IF(COUNTRY_INFO!K175=3, AD175/COUNTRY_INFO!F175*100))),\"-\"),0)","v":0},{"$f":"IF(COUNTRY_INFO!K175=2,IF(COUNTRY_INFO!G175*0.2>MAX('T1'!N175,'T2'!L175),MAX('T1'!N175,'T2'!L175),COUNTRY_INFO!G175*0.2),IF(COUNTRY_INFO!K175=3,IF(COUNTRY_INFO!G175>MAX('T1'!N175,'T2'!L175),MAX('T1'!N175,'T2'!L175),COUNTRY_INFO!G175),0))","v":0},{"$f":"IF(AND(COUNTRY_INFO!K175>0,COUNTRY_INFO!K175<4),IF(Z175>0,IF(COUNTRY_INFO!K175=1, 0, IF(COUNTRY_INFO!K175=2, AF175/(COUNTRY_INFO!G175*0.2)*100, IF(COUNTRY_INFO!K175=3, AF175/COUNTRY_INFO!G175*100))),\"-\"),0)","v":0},0,{"$f":"IF(AND(COUNTRY_INFO!K175>0,COUNTRY_INFO!K175<4), IF(AC175/Z175*100<>0, IF(AH175/Z175*100>100,100,AH175/Z175*100), \"-\"),0)","v":"-"},null,{"$f":"IF(AND(D175<>0, D175<>\"Unknown\",D175<>\"Stopped\",D175<>\"Not required\"),D175/COUNTRY_INFO!D175, 0)","v":0},{"$f":"IF(AND(J175<>0,J175<>\"Unknown\",J175<>\"Stopped\",J175<>\"Not required\"),J175/COUNTRY_INFO!D175, 0)","v":0},{"$f":"IF(AND(P175<>0,P175<>\"Unknown\",P175<>\"Not required\"),P175/(COUNTRY_INFO!E175+COUNTRY_INFO!F175), 0)","v":1},{"$f":"IF(AND(Z175<>0,Z175<>\"Unknown\",Z175<>\"Not required\"),IF(COUNTRY_INFO!K175=1,1,IF(COUNTRY_INFO!K175=2,0.5*COUNTRY_INFO!F175/(0.5*COUNTRY_INFO!F175+0.2*COUNTRY_INFO!G175),IF(COUNTRY_INFO!K175=3,COUNTRY_INFO!F175/(COUNTRY_INFO!F175+COUNTRY_INFO!G175)))),0)","v":0.42382650864528809},{"$f":"IF(AND(Z175<>0,Z175<>\"Unknown\",Z175<>\"Not required\"),IF(COUNTRY_INFO!K175=1,0,IF(COUNTRY_INFO!K175=2,0.2*COUNTRY_INFO!G175/(0.5*COUNTRY_INFO!F175+0.2*COUNTRY_INFO!G175),IF(COUNTRY_INFO!K175=3,COUNTRY_INFO!G175/(COUNTRY_INFO!F175+COUNTRY_INFO!G175)))),0)","v":0.57617349135471185},{"$f":"MAX(COUNTRY_INFO!D175*AK175*PROFILE!$G$7,COUNTRY_INFO!D175*AL175*PROFILE!$G$7)","v":0},{"$f":"MAX(COUNTRY_INFO!D175*AK175*PROFILE!$G$8,COUNTRY_INFO!D175*AL175*PROFILE!$G$8,COUNTRY_INFO!D175*AM175*PROFILE!$G$8)","v":65029.758053859223},{"$f":"MAX(COUNTRY_INFO!D175*AK175*PROFILE!$G$9,COUNTRY_INFO!D175*AL175*PROFILE!$G$9,COUNTRY_INFO!D175*AM175*PROFILE!$G$9,IF(AND(DISTRICT!Z175<>\"Unknown\",Z175<>\"Not required\"),COUNTRY_INFO!O175*DISTRICT!AN175,0))","v":113324.16374383397},{"$f":"MAX(COUNTRY_INFO!D175*AK175*PROFILE!$G$10,COUNTRY_INFO!D175*AL175*PROFILE!$G$10,IF(AND(DISTRICT!Z175<>\"Unknown\",Z175<>\"Not required\"),COUNTRY_INFO!O175*DISTRICT!AO175,0))","v":67851.128831412832},246205.050629106,0,{"$f":"MAX('MDA2'!J175,'T1'!L175,'T2'!J175,T3_R1!K175,T3_R2!K175)","v":0},{"$f":"MAX('MDA1'!K175,'MDA2'!K175,'MDA3'!I175,'MDA3'!L175,'T1'!M175,'T2'!K175,T3_R1!L175,T3_R2!L175)","v":84117},{"$f":"MAX('MDA1'!L175,'MDA2'!L175,'MDA3'!J175,'MDA3'!M175,'T1'!N175,'T2'!L175,T3_R1!M175,T3_R2!M175)","v":0},84117,{"$f":"MAX('MDA2'!J175,T175)","v":0},{"$f":"MAX('MDA1'!K175,'MDA2'!K175,'MDA3'!I175,'MDA3'!L175,V175,AD175)","v":84117},{"$f":"MAX('MDA1'!L175,'MDA2'!L175,'MDA3'!J175,'MDA3'!M175,AF175)","v":0},84117,34.165424220609317]
[{"$f":"IF(COUNTRY_INFO!A176=0,\" \",COUNTRY_INFO!A176)","v":"Tanzania"},{"$f":"IF(COUNTRY_INFO!B176=0,\" \",COUNTRY_INFO!B176)","v":"Tabora"},{"$f":"IF(COUNTRY_INFO!C176=0,\" \",COUNTRY_INFO!C176)","v":"Kaliua District Council"},{"$f":"COUNTRY_INFO!L176","v":"Stopped"},null,null,{"$f":"MAX('MDA1'!M176,'MDA2'!M176)","v":0},{"$f":"IF(AND(COUNTRY_INFO!H176>0,COUNTRY_INFO!H176<4),IF(D176>MAX('MDA1'!M176,'MDA2'!M176),MAX('MDA1'!M176,'MDA2'!M176),D176),0)","v":0},{"$f":"IF(AND(COUNTRY_INFO!H176>0,COUNTRY_INFO!H176<4), IF(G176/D176*100<>0, IF(G176/D176*100>100,100,G176/D176*100), \"-\"),0)","v":0},{"$f":"COUNTRY_INFO!M176","v":0},null,null,{"$f":"MAX('MDA1'!M176,MAX('MDA3'!I176,'MDA3'!L176)+MAX('MDA3'!J176,'MDA3'!M176))","v":0},{"$f":"IF(AND(COUNTRY_INFO!I176>0,COUNTRY_INFO!I176<4),IF(J176>MAX('MDA1'!M176,MAX('MDA3'!I176,'MDA3'!L176)+MAX('MDA3'!J176,'MDA3'!M176)),MAX('MDA1'!M176,MAX('MDA3'!I176,'MDA3'!L176)+MAX('MDA3'!J176,'MDA3'!M176)),J176),0)","v":0},{"$f":"IF(AND(COUNTRY_INFO!I176>0,COUNTRY_INFO!I176<4), IF(M176/J176*100<>0, IF(M176/J176*100>100,100,M176/J176*100), \"-\"),0)","v":0},{"$f":"COUNTRY_INFO!N176","v":188953},null,null,{"$f":"SUM(MAX('MDA2'!J176, 'T1'!L176, MAX(T3_R1!K176, T3_R2!K176)), MAX('MDA1'!K176, 'MDA2'!K176, 'T1'!M176, MAX(T3_R1!L176, T3_R2!L176)), MAX('MDA1'!L176, 'MDA2'!L176, 'T1'!N176, MAX(T3_R1!M176, T3_R2!M176)))","v":96077},{"$f":"IF(AND(COUNTRY_INFO!J176>1,COUNTRY_INFO!J176<4),IF(COUNTRY_INFO!E176>MAX('MDA2'!J176,'T1'!L176,MAX(T3_R1!K176,T3_R2!K176)),MAX('MDA2'!J176,'T1'!L176,MAX(T3_R1!K176,T3_R2!K176)),COUNTRY_INFO!E176),0)","v":0},{"$f":"IF(AND(COUNTRY_INFO!J176>1,COUNTRY_INFO!J176<4), IF(T176/COUNTRY_INFO!E176*100<>0, IF(T176/COUNTRY_INFO!E176*100>100,100,T176/COUNTRY_INFO!E176*100), \"-\"),0)","v":"-"},{"$f":"IF(AND(COUNTRY_INFO!J176>1,COUNTRY_INFO!J176<4),IF(COUNTRY_INFO!F176>MAX('MDA1'!K176,'MDA2'!K176,'T1'!M176,MAX(T3_R1!L176,T3_R2!L176)),MAX('MDA1'!K176,'MDA2'!K176,'T1'!M176,MAX(T3_R1!L176,T3_R2!L176)),COUNTRY_INFO!F176),0)","v":96077},{"$f":"IF(AND(COUNTRY_INFO!J176>1,COUNTRY_INFO!J176<4), IF(V176/COUNTRY_INFO!F176*100<>0, IF(V176/COUNTRY_INFO!F176*100>100,100,V176/COUNTRY_INFO!F176*100), \"-\"),0)","v":76.886818876591519},96077,{"$f":"IF(AND(COUNTRY_INFO!J176>1,COUNTRY_INFO!J176<4), IF(S176/P176*100<>0, IF(X176/P176*100>100,100,X176/P176*100), \"-\"),0)","v":50.847036035416217},{"$f":"COUNTRY_INFO!O176","v":123903.75135059394},null,null,{"$f":"MAX('T1'!L176,'T2'!J176)+MAX('T1'!M176,'T2'!K176)+MAX('T1'!N176,'T2'!L176)","v":96077},{"$f":"IF(COUNTRY_INFO!K176=1,IF(COUNTRY_INFO!F176*0.33>MAX('T1'!M176,'T2'!K176),MAX('T1'!M176,'T2'!K176),COUNTRY_INFO!F176*0.33),IF(COUNTRY_INFO!K176=2,IF(COUNTRY_INFO!F176*0.5>MAX('T1'!M176,'T2'!K176),MAX('T1'!M176,'T2'!K176),COUNTRY_INFO!F176*0.5),IF(COUNTRY_INFO!K176=3,IF(COUNTRY_INFO!F176>MAX('T1'!M176,'T2'!K176),MAX('T1'!M176,'T2'!K176),COUNTRY_INFO!F176),0)))","v":62479.5},{"$f":"IF(AND(COUNTRY_INFO!K176>0,COUNTRY_INFO!K176<4),IF(Z176>0,IF(COUNTRY_INFO!K176=1, AD176/(COUNTRY_INFO!F176*0.33)*100, IF(COUNTRY_INFO!K176=2, AD176/(COUNTRY_INFO!F176*0.5)*100, IF(COUNTRY_INFO!K176=3, AD176/COUNTRY_INFO!F176*100))),\"-\"),0)","v":100},{"$f":"IF(COUNTRY_INFO!K176=2,IF(COUNTRY_INFO!G176*0.2>MAX('T1'!N176,'T2'!L176),MAX('T1'!N176,'T2'!L176),COUNTRY_INFO!G176*0.2),IF(COUNTRY_INFO!K176=3,IF(COUNTRY_INFO!G176>MAX('T1'!N176,'T2'!L176),MAX('T1'!N176,'T2'!L176),COUNTRY_INFO!G176),0))","v":0},{"$f":"IF(AND(COUNTRY_INFO!K176>0,COUNTRY_INFO!K176<4),IF(Z176>0,IF(COUNTRY_INFO!K176=1, 0, IF(COUNTRY_INFO!K176=2, AF176/(COUNTRY_INFO!G176*0.2)*100, IF(COUNTRY_INFO!K176=3, AF176/COUNTRY_INFO!G176*100))),\"-\"),0)","v":0},62479.5,{"$f":"IF(AND(COUNTRY_INFO!K176>0,COUNTRY_INFO!K176<4), IF(AC176/Z176*100<>0, IF(AH176/Z176*100>100,100,AH176/Z176*100), \"-\"),0)","v":50.425834019512514},null,{"$f":"IF(AND(D176<>0, D176<>\"Unknown\",D176<>\"Stopped\",D176<>\"Not required\"),D176/COUNTRY_INFO!D176, 0)","v":0},{"$f":"IF(AND(J176<>0,J176<>\"Unknown\",J176<>\"Stopped\",J176<>\"Not required\"),J176/COUNTRY_INFO!D176, 0)","v":0},{"$f":"IF(AND(P176<>0,P176<>\"Unknown\",P176<>\"Not required\"),P176/(COUNTRY_INFO!E176+COUNTRY_INFO!F176), 0)","v":1},{"$f":"IF(AND(Z176<>0,Z176<>\"Unknown\",Z176<>\"Not required\"),IF(COUNTRY_INFO!K176=1,1,IF(COUNTRY_INFO!K176=2,0.5*COUNTRY_INFO!F176/(0.5*COUNTRY_INFO!F176+0.2*COUNTRY_INFO!G176),IF(COUNTRY_INFO!K176=3,COUNTRY_INFO!F176/(COUNTRY_INFO!F176+COUNTRY_INFO!G176)))),0)","v":0.50425834019512517},{"$f":"IF(AND(Z176<>0,Z176<>\"Unknown\",Z176<>\"Not required\"),IF(COUNTRY_INFO!K176=1,0,IF(COUNTRY_INFO!K176=2,0.2*COUNTRY_INFO!G176/(0.5*COUNTRY_INFO!F176+0.2*COUNTRY_INFO!G176),IF(COUNTRY_INFO!K176=3,COUNTRY_INFO!G176/(COUNTRY_INFO!F176+COUNTRY_INFO!G176)))),0)","v":0.49574165980487483},{"$f":"MAX(COUNTRY_INFO!D176*AK176*PROFILE!$G$7,COUNTRY_INFO!D176*AL176*PROFILE!$G$7)","v":0},{"$f":"MAX(COUNTRY_INFO!D176*AK176*PROFILE!$G$8,COUNTRY_INFO!D176*AL176*PROFILE!$G$8,COUNTRY_INFO!D176*AM176*PROFILE!$G$8)","v":63993.580063472764},{"$f":"MAX(COUNTRY_INFO!D176*AK176*PROFILE!$G$9,COUNTRY_INFO!D176*AL176*PROFILE!$G$9,COUNTRY_INFO!D176*AM176*PROFILE!$G$9,IF(AND(DISTRICT!Z176<>\"Unknown\",Z176<>\"Not required\"),COUNTRY_INFO!O176*DISTRICT!AN176,0))","v":111518.46727863939},{"$f":"MAX(COUNTRY_INFO!D176*AK176*PROFILE!$G$10,COUNTRY_INFO!D176*AL176*PROFILE!$G$10,IF(AND(DISTRICT!Z176<>\"Unknown\",Z176<>\"Not required\"),COUNTRY_INFO!O176*DISTRICT!AO176,0))","v":61424.251350593942},236936.2986927061,"Y",{"$f":"MAX('MDA2'!J176,'T1'!L176,'T2'!J176,T3_R1!K176,T3_R2!K176)","v":0},{"$f":"MAX('MDA1'!K176,'MDA2'!K176,'MDA3'!I176,'MDA3'!L176,'T1'!M176,'T2'!K176,T3_R1!L176,T3_R2!L176)","v":96077},{"$f":"MAX('MDA1'!L176,'MDA2'!L176,'MDA3'!J176,'MDA3'!M176,'T1'!N176,'T2'!L176,T3_R1!M176,T3_R2!M176)","v":0},96077,{"$f":"MAX('MDA2'!J176,T176)","v":0},{"$f":"MAX('MDA1'!K176,'MDA2'!K176,'MDA3'!I176,'MDA3'!L176,V176,AD176)","v":96077},{"$f":"MAX('MDA1'!L176,'MDA2'!L176,'MDA3'!J176,'MDA3'!M176,AF176)","v":0},96077,40.549717595026166]
[{"$f":"IF(COUNTRY_INFO!A177=0,\" \",COUNTRY_INFO!A177)","v":"Tanzania"},{"$f":"IF(COUNTRY_INFO!B177=0,\" \",COUNTRY_INFO!B177)","v":"Tabora"},{"$f":"IF(COUNTRY_INFO!C177=0,\" \",COUNTRY_INFO!C177)","v":"Nzega District Council"},{"$f":"COUNTRY_INFO!L177","v":"Stopped"},null,null,{"$f":"MAX('MDA1'!M177,'MDA2'!M177)","v":0},{"$f":"IF(AND(COUNTRY_INFO!H177>0,COUNTRY_INFO!H177<4),IF(D177>MAX('MDA1'!M177,'MDA2'!M177),MAX('MDA1'!M177,'MDA2'!M177),D177),0)","v":0},{"$f":"IF(AND(COUNTRY_INFO!H177>0,COUNTRY_INFO!H177<4), IF(G177/D177*100<>0, IF(G177/D177*100>100,100,G177/D177*100), \"-\"),0)","v":0},{"$f":"COUNTRY_INFO!M177","v":0},null,null,{"$f":"MAX('MDA1'!M177,MAX('MDA3'!I177,'MDA3'!L177)+MAX('MDA3'!J177,'MDA3'!M177))","v":0},{"$f":"IF(AND(COUNTRY_INFO!I177>0,COUNTRY_INFO!I177<4),IF(J177>MAX('MDA1'!M177,MAX('MDA3'!I177,'MDA3'!L177)+MAX('MDA3'!J177,'MDA3'!M177)),MAX('MDA1'!M177,MAX('MDA3'!I177,'MDA3'!L177)+MAX('MDA3'!J177,'MDA3'!M177)),J177),0)","v":0},{"$f":"IF(AND(COUNTRY_INFO!I177>0,COUNTRY_INFO!I177<4), IF(M177/J177*100<>0, IF(M177/J177*100>100,100,M177/J177*100), \"-\"),0)","v":0},{"$f":"COUNTRY_INFO!N177","v":198524},null,null,{"$f":"SUM(MAX('MDA2'!J177, 'T1'!L177, MAX(T3_R1!K177, T3_R2!K177)), MAX('MDA1'!K177, 'MDA2'!K177, 'T1'!M177, MAX(T3_R1!L177, T3_R2!L177)), MAX('MDA1'!L177, 'MDA2'!L177, 'T1'!N177, MAX(T3_R1!M177, T3_R2!M177)))","v":127166},{"$f":"IF(AND(COUNTRY_INFO!J177>1,COUNTRY_INFO!J177<4),IF(COUNTRY_INFO!E177>MAX('MDA2'!J177,'T1'!L177,MAX(T3_R1!K177,T3_R2!K177)),MAX('MDA2'!J177,'T1'!L177,MAX(T3_R1!K177,T3_R2!K177)),COUNTRY_INFO!E177),0)","v":0},{"$f":"IF(AND(COUNTRY_INFO!J177>1,COUNTRY_INFO!J177<4), IF(T177/COUNTRY_INFO!E177*100<>0, IF(T177/COUNTRY_INFO!E177*100>100,100,T177/COUNTRY_INFO!E177*100), \"-\"),0)","v":"-"},{"$f":"IF(AND(COUNTRY_INFO!J177>1,COUNTRY_INFO!J177<4),IF(COUNTRY_INFO!F177>MAX('MDA1'!K177,'MDA2'!K177,'T1'!M177,MAX(T3_R1!L177,T3_R2!L177)),MAX('MDA1'!K177,'MDA2'!K177,'T1'!M177,MAX(T3_R1!L177,T3_R2!L177)),COUNTRY_INFO!F177),0)","v":127166},{"$f":"IF(AND(COUNTRY_INFO!J177>1,COUNTRY_INFO!J177<4), IF(V177/COUNTRY_INFO!F177*100<>0, IF(V177/COUNTRY_INFO!F177*100>100,100,V177/COUNTRY_INFO!F177*100), \"-\"),0)","v":99.905724117342061},127166,{"$f":"IF(AND(COUNTRY_INFO!J177>1,COUNTRY_INFO!J177<4), IF(S177/P177*100<>0, IF(X177/P177*100>100,100,X177/P177*100), \"-\"),0)","v":64.055731296971658},{"$f":"COUNTRY_INFO!O177","v":134384.64325144357},null,null,{"$f":"MAX('T1'!L177,'T2'!J177)+MAX('T1'!M177,'T2'!K177)+MAX('T1'!N177,'T2'!L177)","v":0},{"$f":"IF(COUNTRY_INFO!K177=1,IF(COUNTRY_INFO!F177*0.33>MAX('T1'!M177,'T2'!K177),MAX('T1'!M177,'T2'!K177),COUNTRY_INFO!F177*0.33),IF(COUNTRY_INFO!K177=2,IF(COUNTRY_INFO!F177*0.5>MAX('T1'!M177,'T2'!K177),MAX('T1'!M177,'T2'!K177),COUNTRY_INFO!F177*0.5),IF(COUNTRY_INFO!K177=3,IF(COUNTRY_INFO!F177>MAX('T1'!M177,'T2'!K177),MAX('T1'!M177,'T2'!K177),COUNTRY_INFO!F177),0)))","v":0},{"$f":"IF(AND(COUNTRY_INFO!K177>0,COUNTRY_INFO!K177<4),IF(Z177>0,IF(COUNTRY_INFO!K177=1, AD177/(COUNTRY_INFO!F177*0.33)*100, IF(COUNTRY_INFO!K177=2, AD177/(COUNTRY_INFO!F177*0.5)*100, IF(COUNTRY_INFO!K177=3, AD177/COUNTRY_INFO!F177*100))),\"-\"),0)","v":0},{"$f":"IF(COUNTRY_INFO!K177=2,IF(COUNTRY_INFO!G177*0.2>MAX('T1'!N177,'T2'!L177),MAX('T1'!N177,'T2'!L177),COUNTRY_INFO!G177*0.2),IF(COUNTRY_INFO!K177=3,IF(COUNTRY_INFO!G177>MAX('T1'!N177,'T2'!L177),MAX('T1'!N177,'T2'!L177),COUNTRY_INFO!G177),0))","v":0},{"$f":"IF(AND(COUNTRY_INFO!K177>0,COUNTRY_INFO!K177<4),IF(Z177>0,IF(COUNTRY_INFO!K177=1, 0, IF(COUNTRY_INFO!K177=2, AF177/(COUNTRY_INFO!G177*0.2)*100, IF(COUNTRY_INFO!K177=3, AF177/COUNTRY_INFO!G177*100))),\"-\"),0)","v":0},0,{"$f":"IF(AND(COUNTRY_INFO!K177>0,COUNTRY_INFO!K177<4), IF(AC177/Z177*100<>0, IF(AH177/Z177*100>100,100,AH177/Z177*100), \"-\"),0)","v":"-"},null,{"$f":"IF(AND(D177<>0, D177<>\"Unknown\",D177<>\"Stopped\",D177<>\"Not required\"),D177/COUNTRY_INFO!D177, 0)","v":0},{"$f":"IF(AND(J177<>0,J177<>\"Unknown\",J177<>\"Stopped\",J177<>\"Not required\"),J177/COUNTRY_INFO!D177, 0)","v":0},{"$f":"IF(AND(P177<>0,P177<>\"Unknown\",P177<>\"Not required\"),P177/(COUNTRY_INFO!E177+COUNTRY_INFO!F177), 0)","v":1},{"$f":"IF(AND(Z177<>0,Z177<>\"Unknown\",Z177<>\"Not required\"),IF(COUNTRY_INFO!K177=1,1,IF(COUNTRY_INFO!K177=2,0.5*COUNTRY_INFO!F177/(0.5*COUNTRY_INFO!F177+0.2*COUNTRY_INFO!G177),IF(COUNTRY_INFO!K177=3,COUNTRY_INFO!F177/(COUNTRY_INFO!F177+COUNTRY_INFO!G177)))),0)","v":0.47358833911490361},{"$f":"IF(AND(Z177<>0,Z177<>\"Unknown\",Z177<>\"Not required\"),IF(COUNTRY_INFO!K177=1,0,IF(COUNTRY_INFO!K177=2,0.2*COUNTRY_INFO!G177/(0.5*COUNTRY_INFO!F177+0.2*COUNTRY_INFO!G177),IF(COUNTRY_INFO!K177=3,COUNTRY_INFO!G177/(COUNTRY_INFO!F177+COUNTRY_INFO!G177)))),0)","v":0.52641166088509628},{"$f":"MAX(COUNTRY_INFO!D177*AK177*PROFILE!$G$7,COUNTRY_INFO!D177*AL177*PROFILE!$G$7)","v":0},{"$f":"MAX(COUNTRY_INFO!D177*AK177*PROFILE!$G$8,COUNTRY_INFO!D177*AL177*PROFILE!$G$8,COUNTRY_INFO!D177*AM177*PROFILE!$G$8)","v":71237.956946198101},{"$f":"MAX(COUNTRY_INFO!D177*AK177*PROFILE!$G$9,COUNTRY_INFO!D177*AL177*PROFILE!$G$9,COUNTRY_INFO!D177*AM177*PROFILE!$G$9,IF(AND(DISTRICT!Z177<>\"Unknown\",Z177<>\"Not required\"),COUNTRY_INFO!O177*DISTRICT!AN177,0))","v":124142.88687743398},{"$f":"MAX(COUNTRY_INFO!D177*AK177*PROFILE!$G$10,COUNTRY_INFO!D177*AL177*PROFILE!$G$10,IF(AND(DISTRICT!Z177<>\"Unknown\",Z177<>\"Not required\"),COUNTRY_INFO!O177*DISTRICT!AO177,0))","v":70741.643251443558},266122.48707507562,0,{"$f":"MAX('MDA2'!J177,'T1'!L177,'T2'!J177,T3_R1!K177,T3_R2!K177)","v":0},{"$f":"MAX('MDA1'!K177,'MDA2'!K177,'MDA3'!I177,'MDA3'!L177,'T1'!M177,'T2'!K177,T3_R1!L177,T3_R2!L177)","v":127166},{"$f":"MAX('MDA1'!L177,'MDA2'!L177,'MDA3'!J177,'MDA3'!M177,'T1'!N177,'T2'!L177,T3_R1!M177,T3_R2!M177)","v":0},127166,{"$f":"MAX('MDA2'!J177,T177)","v":0},{"$f":"MAX('MDA1'!K177,'MDA2'!K177,'MDA3'!I177,'MDA3'!L177,V177,AD177)","v":127166},{"$f":"MAX('MDA1'!L177,'MDA2'!L177,'MDA3'!J177,'MDA3'!M177,AF177)","v":0},127166,47.784763098251553]
[{"$f":"IF(COUNTRY_INFO!A178=0,\" \",COUNTRY_INFO!A178)","v":"Tanzania"},{"$f":"IF(COUNTRY_INFO!B178=0,\" \",COUNTRY_INFO!B178)","v":"Tabora"},{"$f":"IF(COUNTRY_INFO!C178=0,\" \",COUNTRY_INFO!C178)","v":"Nzega Town Council"},{"$f":"COUNTRY_INFO!L178","v":"Stopped"},null,null,{"$f":"MAX('MDA1'!M178,'MDA2'!M178)","v":0},{"$f":"IF(AND(COUNTRY_INFO!H178>0,COUNTRY_INFO!H178<4),IF(D178>MAX('MDA1'!M178,'MDA2'!M178),MAX('MDA1'!M178,'MDA2'!M178),D178),0)","v":0},{"$f":"IF(AND(COUNTRY_INFO!H178>0,COUNTRY_INFO!H178<4), IF(G178/D178*100<>0, IF(G178/D178*100>100,100,G178/D178*100), \"-\"),0)","v":0},{"$f":"COUNTRY_INFO!M178","v":0},null,null,{"$f":"MAX('MDA1'!M178,MAX('MDA3'!I178,'MDA3'!L178)+MAX('MDA3'!J178,'MDA3'!M178))","v":0},{"$f":"IF(AND(COUNTRY_INFO!I178>0,COUNTRY_INFO!I178<4),IF(J178>MAX('MDA1'!M178,MAX('MDA3'!I178,'MDA3'!L178)+MAX('MDA3'!J178,'MDA3'!M178)),MAX('MDA1'!M178,MAX('MDA3'!I178,'MDA3'!L178)+MAX('MDA3'!J178,'MDA3'!M178)),J178),0)","v":0},{"$f":"IF(AND(COUNTRY_INFO!I178>0,COUNTRY_INFO!I178<4), IF(M178/J178*100<>0, IF(M178/J178*100>100,100,M178/J178*100), \"-\"),0)","v":0},{"$f":"COUNTRY_INFO!N178","v":37650},null,null,{"$f":"SUM(MAX('MDA2'!J178, 'T1'!L178, MAX(T3_R1!K178, T3_R2!K178)), MAX('MDA1'!K178, 'MDA2'!K178, 'T1'!M178, MAX(T3_R1!L178, T3_R2!L178)), MAX('MDA1'!L178, 'MDA2'!L178, 'T1'!N178, MAX(T3_R1!M178, T3_R2!M178)))","v":27176},{"$f":"IF(AND(COUNTRY_INFO!J178>1,COUNTRY_INFO!J178<4),IF(COUNTRY_INFO!E178>MAX('MDA2'!J178,'T1'!L178,MAX(T3_R1!K178,T3_R2!K178)),MAX('MDA2'!J178,'T1'!L178,MAX(T3_R1!K178,T3_R2!K178)),COUNTRY_INFO!E178),0)","v":0},{"$f":"IF(AND(COUNTRY_INFO!J178>1,COUNTRY_INFO!J178<4), IF(T178/COUNTRY_INFO!E178*100<>0, IF(T178/COUNTRY_INFO!E178*100>100,100,T178/COUNTRY_INFO!E178*100), \"-\"),0)","v":"-"},{"$f":"IF(AND(COUNTRY_INFO!J178>1,COUNTRY_INFO!J178<4),IF(COUNTRY_INFO!F178>MAX('MDA1'!K178,'MDA2'!K178,'T1'!M178,MAX(T3_R1!L178,T3_R2!L178)),MAX('MDA1'!K178,'MDA2'!K178,'T1'!M178,MAX(T3_R1!L178,T3_R2!L178)),COUNTRY_INFO!F178),0)","v":27176},{"$f":"IF(AND(COUNTRY_INFO!J178>1,COUNTRY_INFO!J178<4), IF(V178/COUNTRY_INFO!F178*100<>0, IF(V178/COUNTRY_INFO!F178*100>100,100,V178/COUNTRY_INFO!F178*100), \"-\"),0)","v":99.99264110677754},27176,{"$f":"IF(AND(COUNTRY_INFO!J178>1,COUNTRY_INFO!J178<4), IF(S178/P178*100<>0, IF(X178/P178*100>100,100,X178/P178*100), \"-\"),0)","v":72.180610889774229},{"$f":"COUNTRY_INFO!O178","v":22294.020777662026},null,null,{"$f":"MAX('T1'!L178,'T2'!J178)+MAX('T1'!M178,'T2'!K178)+MAX('T1'!N178,'T2'!L178)","v":0},{"$f":"IF(COUNTRY_INFO!K178=1,IF(COUNTRY_INFO!F178*0.33>MAX('T1'!M178,'T2'!K178),MAX('T1'!M178,'T2'!K178),COUNTRY_INFO!F178*0.33),IF(COUNTRY_INFO!K178=2,IF(COUNTRY_INFO!F178*0.5>MAX('T1'!M178,'T2'!K178),MAX('T1'!M178,'T2'!K178),COUNTRY_INFO!F178*0.5),IF(COUNTRY_INFO!K178=3,IF(COUNTRY_INFO!F178>MAX('T1'!M178,'T2'!K178),MAX('T1'!M178,'T2'!K178),COUNTRY_INFO!F178),0)))","v":0},{"$f":"IF(AND(COUNTRY_INFO!K178>0,COUNTRY_INFO!K178<4),IF(Z178>0,IF(COUNTRY_INFO!K178=1, AD178/(COUNTRY_INFO!F178*0.33)*100, IF(COUNTRY_INFO!K178=2, AD178/(COUNTRY_INFO!F178*0.5)*100, IF(COUNTRY_INFO!K178=3, AD178/COUNTRY_INFO!F178*100))),\"-\"),0)","v":0},{"$f":"IF(COUNTRY_INFO!K178=2,IF(COUNTRY_INFO!G178*0.2>MAX('T1'!N178,'T2'!L178),MAX('T1'!N178,'T2'!L178),COUNTRY_INFO!G178*0.2),IF(COUNTRY_INFO!K178=3,IF(COUNTRY_INFO!G178>MAX('T1'!N178,'T2'!L178),MAX('T1'!N178,'T2'!L178),COUNTRY_INFO!G178),0))","v":0},{"$f":"IF(AND(COUNTRY_INFO!K178>0,COUNTRY_INFO!K178<4),IF(Z178>0,IF(COUNTRY_INFO!K178=1, 0, IF(COUNTRY_INFO!K178=2, AF178/(COUNTRY_INFO!G178*0.2)*100, IF(COUNTRY_INFO!K178=3, AF178/COUNTRY_INFO!G178*100))),\"-\"),0)","v":0},0,{"$f":"IF(AND(COUNTRY_INFO!K178>0,COUNTRY_INFO!K178<4), IF(AC178/Z178*100<>0, IF(AH178/Z178*100>100,100,AH178/Z178*100), \"-\"),0)","v":"-"},null,{"$f":"IF(AND(D178<>0, D178<>\"Unknown\",D178<>\"Stopped\",D178<>\"Not required\"),D178/COUNTRY_INFO!D178, 0)","v":0},{"$f":"IF(AND(J178<>0,J178<>\"Unknown\",J178<>\"Stopped\",J178<>\"Not required\"),J178/COUNTRY_INFO!D178, 0)","v":0},{"$f":"IF(AND(P178<>0,P178<>\"Unknown\",P178<>\"Not required\"),P178/(COUNTRY_INFO!E178+COUNTRY_INFO!F178), 0)","v":1},{"$f":"IF(AND(Z178<>0,Z178<>\"Unknown\",Z178<>\"Not required\"),IF(COUNTRY_INFO!K178=1,1,IF(COUNTRY_INFO!K178=2,0.5*COUNTRY_INFO!F178/(0.5*COUNTRY_INFO!F178+0.2*COUNTRY_INFO!G178),IF(COUNTRY_INFO!K178=3,COUNTRY_INFO!F178/(COUNTRY_INFO!F178+COUNTRY_INFO!G178)))),0)","v":0.60953563000245303},{"$f":"IF(AND(Z178<>0,Z178<>\"Unknown\",Z178<>\"Not required\"),IF(COUNTRY_INFO!K178=1,0,IF(COUNTRY_INFO!K178=2,0.2*COUNTRY_INFO!G178/(0.5*COUNTRY_INFO!F178+0.2*COUNTRY_INFO!G178),IF(COUNTRY_INFO!K178=3,COUNTRY_INFO!G178/(COUNTRY_INFO!F178+COUNTRY_INFO!G178)))),0)","v":0.39046436999754702},{"$f":"MAX(COUNTRY_INFO!D178*AK178*PROFILE!$G$7,COUNTRY_INFO!D178*AL178*PROFILE!$G$7)","v":0},{"$f":"MAX(COUNTRY_INFO!D178*AK178*PROFILE!$G$8,COUNTRY_INFO!D178*AL178*PROFILE!$G$8,COUNTRY_INFO!D178*AM178*PROFILE!$G$8)","v":10471.588555791746},{"$f":"MAX(COUNTRY_INFO!D178*AK178*PROFILE!$G$9,COUNTRY_INFO!D178*AL178*PROFILE!$G$9,COUNTRY_INFO!D178*AM178*PROFILE!$G$9,IF(AND(DISTRICT!Z178<>\"Unknown\",Z178<>\"Not required\"),COUNTRY_INFO!O178*DISTRICT!AN178,0))","v":18248.322793570311},{"$f":"MAX(COUNTRY_INFO!D178*AK178*PROFILE!$G$10,COUNTRY_INFO!D178*AL178*PROFILE!$G$10,IF(AND(DISTRICT!Z178<>\"Unknown\",Z178<>\"Not required\"),COUNTRY_INFO!O178*DISTRICT!AO178,0))","v":8705.0207776620264},37424.932127024083,0,{"$f":"MAX('MDA2'!J178,'T1'!L178,'T2'!J178,T3_R1!K178,T3_R2!K178)","v":0},{"$f":"MAX('MDA1'!K178,'MDA2'!K178,'MDA3'!I178,'MDA3'!L178,'T1'!M178,'T2'!K178,T3_R1!L178,T3_R2!L178)","v":27176},{"$f":"MAX('MDA1'!L178,'MDA2'!L178,'MDA3'!J178,'MDA3'!M178,'T1'!N178,'T2'!L178,T3_R1!M178,T3_R2!M178)","v":0},27176,{"$f":"MAX('MDA2'!J178,T178)","v":0},{"$f":"MAX('MDA1'!K178,'MDA2'!K178,'MDA3'!I178,'MDA3'!L178,V178,AD178)","v":27176},{"$f":"MAX('MDA1'!L178,'MDA2'!L178,'MDA3'!J178,'MDA3'!M178,AF178)","v":0},27176,72.614694150310939]
[{"$f":"IF(COUNTRY_INFO!A179=0,\" \",COUNTRY_INFO!A179)","v":"Tanzania"},{"$f":"IF(COUNTRY_INFO!B179=0,\" \",COUNTRY_INFO!B179)","v":"Tabora"},{"$f":"IF(COUNTRY_INFO!C179=0,\" \",COUNTRY_INFO!C179)","v":"Sikonge District Council"},{"$f":"COUNTRY_INFO!L179","v":"Stopped"},null,null,{"$f":"MAX('MDA1'!M179,'MDA2'!M179)","v":0},{"$f":"IF(AND(COUNTRY_INFO!H179>0,COUNTRY_INFO!H179<4),IF(D179>MAX('MDA1'!M179,'MDA2'!M179),MAX('MDA1'!M179,'MDA2'!M179),D179),0)","v":0},{"$f":"IF(AND(COUNTRY_INFO!H179>0,COUNTRY_INFO!H179<4), IF(G179/D179*100<>0, IF(G179/D179*100>100,100,G179/D179*100), \"-\"),0)","v":0},{"$f":"COUNTRY_INFO!M179","v":0},null,null,{"$f":"MAX('MDA1'!M179,MAX('MDA3'!I179,'MDA3'!L179)+MAX('MDA3'!J179,'MDA3'!M179))","v":0},{"$f":"IF(AND(COUNTRY_INFO!I179>0,COUNTRY_INFO!I179<4),IF(J179>MAX('MDA1'!M179,MAX('MDA3'!I179,'MDA3'!L179)+MAX('MDA3'!J179,'MDA3'!M179)),MAX('MDA1'!M179,MAX('MDA3'!I179,'MDA3'!L179)+MAX('MDA3'!J179,'MDA3'!M179)),J179),0)","v":0},{"$f":"IF(AND(COUNTRY_INFO!I179>0,COUNTRY_INFO!I179<4), IF(M179/J179*100<>0, IF(M179/J179*100>100,100,M179/J179*100), \"-\"),0)","v":0},{"$f":"COUNTRY_INFO!N179","v":83906},null,null,{"$f":"SUM(MAX('MDA2'!J179, 'T1'!L179, MAX(T3_R1!K179, T3_R2!K179)), MAX('MDA1'!K179, 'MDA2'!K179, 'T1'!M179, MAX(T3_R1!L179, T3_R2!L179)), MAX('MDA1'!L179, 'MDA2'!L179, 'T1'!N179, MAX(T3_R1!M179, T3_R2!M179)))","v":51940},{"$f":"IF(AND(COUNTRY_INFO!J179>1,COUNTRY_INFO!J179<4),IF(COUNTRY_INFO!E179>MAX('MDA2'!J179,'T1'!L179,MAX(T3_R1!K179,T3_R2!K179)),MAX('MDA2'!J179,'T1'!L179,MAX(T3_R1!K179,T3_R2!K179)),COUNTRY_INFO!E179),0)","v":0},{"$f":"IF(AND(COUNTRY_INFO!J179>1,COUNTRY_INFO!J179<4), IF(T179/COUNTRY_INFO!E179*100<>0, IF(T179/COUNTRY_INFO!E179*100>100,100,T179/COUNTRY_INFO!E179*100), \"-\"),0)","v":"-"},{"$f":"IF(AND(COUNTRY_INFO!J179>1,COUNTRY_INFO!J179<4),IF(COUNTRY_INFO!F179>MAX('MDA1'!K179,'MDA2'!K179,'T1'!M179,MAX(T3_R1!L179,T3_R2!L179)),MAX('MDA1'!K179,'MDA2'!K179,'T1'!M179,MAX(T3_R1!L179,T3_R2!L179)),COUNTRY_INFO!F179),0)","v":51940},{"$f":"IF(AND(COUNTRY_INFO!J179>1,COUNTRY_INFO!J179<4), IF(V179/COUNTRY_INFO!F179*100<>0, IF(V179/COUNTRY_INFO!F179*100>100,100,V179/COUNTRY_INFO!F179*100), \"-\"),0)","v":95.055085831411731},51940,{"$f":"IF(AND(COUNTRY_INFO!J179>1,COUNTRY_INFO!J179<4), IF(S179/P179*100<>0, IF(X179/P179*100>100,100,X179/P179*100), \"-\"),0)","v":61.902605296403109},{"$f":"COUNTRY_INFO!O179","v":55910.829074391018},null,null,{"$f":"MAX('T1'!L179,'T2'!J179)+MAX('T1'!M179,'T2'!K179)+MAX('T1'!N179,'T2'!L179)","v":0},{"$f":"IF(COUNTRY_INFO!K179=1,IF(COUNTRY_INFO!F179*0.33>MAX('T1'!M179,'T2'!K179),MAX('T1'!M179,'T2'!K179),COUNTRY_INFO!F179*0.33),IF(COUNTRY_INFO!K179=2,IF(COUNTRY_INFO!F179*0.5>MAX('T1'!M179,'T2'!K179),MAX('T1'!M179,'T2'!K179),COUNTRY_INFO!F179*0.5),IF(COUNTRY_INFO!K179=3,IF(COUNTRY_INFO!F179>MAX('T1'!M179,'T2'!K179),MAX('T1'!M179,'T2'!K179),COUNTRY_INFO!F179),0)))","v":0},{"$f":"IF(AND(COUNTRY_INFO!K179>0,COUNTRY_INFO!K179<4),IF(Z179>0,IF(COUNTRY_INFO!K179=1, AD179/(COUNTRY_INFO!F179*0.33)*100, IF(COUNTRY_INFO!K179=2, AD179/(COUNTRY_INFO!F179*0.5)*100, IF(COUNTRY_INFO!K179=3, AD179/COUNTRY_INFO!F179*100))),\"-\"),0)","v":0},{"$f":"IF(COUNTRY_INFO!K179=2,IF(COUNTRY_INFO!G179*0.2>MAX('T1'!N179,'T2'!L179),MAX('T1'!N179,'T2'!L179),COUNTRY_INFO!G179*0.2),IF(COUNTRY_INFO!K179=3,IF(COUNTRY_INFO!G179>MAX('T1'!N179,'T2'!L179),MAX('T1'!N179,'T2'!L179),COUNTRY_INFO!G179),0))","v":0},{"$f":"IF(AND(COUNTRY_INFO!K179>0,COUNTRY_INFO!K179<4),IF(Z179>0,IF(COUNTRY_INFO!K179=1, 0, IF(COUNTRY_INFO!K179=2, AF179/(COUNTRY_INFO!G179*0.2)*100, IF(COUNTRY_INFO!K179=3, AF179/COUNTRY_INFO!G179*100))),\"-\"),0)","v":0},0,{"$f":"IF(AND(COUNTRY_INFO!K179>0,COUNTRY_INFO!K179<4), IF(AC179/Z179*100<>0, IF(AH179/Z179*100>100,100,AH179/Z179*100), \"-\"),0)","v":"-"},null,{"$f":"IF(AND(D179<>0, D179<>\"Unknown\",D179<>\"Stopped\",D179<>\"Not required\"),D179/COUNTRY_INFO!D179, 0)","v":0},{"$f":"IF(AND(J179<>0,J179<>\"Unknown\",J179<>\"Stopped\",J179<>\"Not required\"),J179/COUNTRY_INFO!D179, 0)","v":0},{"$f":"IF(AND(P179<>0,P179<>\"Unknown\",P179<>\"Not required\"),P179/(COUNTRY_INFO!E179+COUNTRY_INFO!F179), 0)","v":1},{"$f":"IF(AND(Z179<>0,Z179<>\"Unknown\",Z179<>\"Not required\"),IF(COUNTRY_INFO!K179=1,1,IF(COUNTRY_INFO!K179=2,0.5*COUNTRY_INFO!F179/(0.5*COUNTRY_INFO!F179+0.2*COUNTRY_INFO!G179),IF(COUNTRY_INFO!K179=3,COUNTRY_INFO!F179/(COUNTRY_INFO!F179+COUNTRY_INFO!G179)))),0)","v":0.48865310088048591},{"$f":"IF(AND(Z179<>0,Z179<>\"Unknown\",Z179<>\"Not required\"),IF(COUNTRY_INFO!K179=1,0,IF(COUNTRY_INFO!K179=2,0.2*COUNTRY_INFO!G179/(0.5*COUNTRY_INFO!F179+0.2*COUNTRY_INFO!G179),IF(COUNTRY_INFO!K179=3,COUNTRY_INFO!G179/(COUNTRY_INFO!F179+COUNTRY_INFO!G179)))),0)","v":0.51134689911951403},{"$f":"MAX(COUNTRY_INFO!D179*AK179*PROFILE!$G$7,COUNTRY_INFO!D179*AL179*PROFILE!$G$7)","v":0},{"$f":"MAX(COUNTRY_INFO!D179*AK179*PROFILE!$G$8,COUNTRY_INFO!D179*AL179*PROFILE!$G$8,COUNTRY_INFO!D179*AM179*PROFILE!$G$8)","v":29264.314183914874},{"$f":"MAX(COUNTRY_INFO!D179*AK179*PROFILE!$G$9,COUNTRY_INFO!D179*AL179*PROFILE!$G$9,COUNTRY_INFO!D179*AM179*PROFILE!$G$9,IF(AND(DISTRICT!Z179<>\"Unknown\",Z179<>\"Not required\"),COUNTRY_INFO!O179*DISTRICT!AN179,0))","v":50997.482255466603},{"$f":"MAX(COUNTRY_INFO!D179*AK179*PROFILE!$G$10,COUNTRY_INFO!D179*AL179*PROFILE!$G$10,IF(AND(DISTRICT!Z179<>\"Unknown\",Z179<>\"Not required\"),COUNTRY_INFO!O179*DISTRICT!AO179,0))","v":28589.829074391015},108851.62551377249,0,{"$f":"MAX('MDA2'!J179,'T1'!L179,'T2'!J179,T3_R1!K179,T3_R2!K179)","v":0},{"$f":"MAX('MDA1'!K179,'MDA2'!K179,'MDA3'!I179,'MDA3'!L179,'T1'!M179,'T2'!K179,T3_R1!L179,T3_R2!L179)","v":51940},{"$f":"MAX('MDA1'!L179,'MDA2'!L179,'MDA3'!J179,'MDA3'!M179,'T1'!N179,'T2'!L179,T3_R1!M179,T3_R2!M179)","v":0},51940,{"$f":"MAX('MDA2'!J179,T179)","v":0},{"$f":"MAX('MDA1'!K179,'MDA2'!K179,'MDA3'!I179,'MDA3'!L179,V179,AD179)","v":51940},{"$f":"MAX('MDA1'!L179,'MDA2'!L179,'MDA3'!J179,'MDA3'!M179,AF179)","v":0},51940,47.716329227833413]
[{"$f":"IF(COUNTRY_INFO!A180=0,\" \",COUNTRY_INFO!A180)","v":"Tanzania"},{"$f":"IF(COUNTRY_INFO!B180=0,\" \",COUNTRY_INFO!B180)","v":"Tabora"},{"$f":"IF(COUNTRY_INFO!C180=0,\" \",COUNTRY_INFO!C180)","v":"Tabora Municipal Council"},{"$f":"COUNTRY_INFO!L180","v":"Stopped"},null,null,{"$f":"MAX('MDA1'!M180,'MDA2'!M180)","v":0},{"$f":"IF(AND(COUNTRY_INFO!H180>0,COUNTRY_INFO!H180<4),IF(D180>MAX('MDA1'!M180,'MDA2'!M180),MAX('MDA1'!M180,'MDA2'!M180),D180),0)","v":0},{"$f":"IF(AND(COUNTRY_INFO!H180>0,COUNTRY_INFO!H180<4), IF(G180/D180*100<>0, IF(G180/D180*100>100,100,G180/D180*100), \"-\"),0)","v":0},{"$f":"COUNTRY_INFO!M180","v":0},null,null,{"$f":"MAX('MDA1'!M180,MAX('MDA3'!I180,'MDA3'!L180)+MAX('MDA3'!J180,'MDA3'!M180))","v":0},{"$f":"IF(AND(COUNTRY_INFO!I180>0,COUNTRY_INFO!I180<4),IF(J180>MAX('MDA1'!M180,MAX('MDA3'!I180,'MDA3'!L180)+MAX('MDA3'!J180,'MDA3'!M180)),MAX('MDA1'!M180,MAX('MDA3'!I180,'MDA3'!L180)+MAX('MDA3'!J180,'MDA3'!M180)),J180),0)","v":0},{"$f":"IF(AND(COUNTRY_INFO!I180>0,COUNTRY_INFO!I180<4), IF(M180/J180*100<>0, IF(M180/J180*100>100,100,M180/J180*100), \"-\"),0)","v":0},{"$f":"COUNTRY_INFO!N180","v":89395},null,null,{"$f":"SUM(MAX('MDA2'!J180, 'T1'!L180, MAX(T3_R1!K180, T3_R2!K180)), MAX('MDA1'!K180, 'MDA2'!K180, 'T1'!M180, MAX(T3_R1!L180, T3_R2!L180)), MAX('MDA1'!L180, 'MDA2'!L180, 'T1'!N180, MAX(T3_R1!M180, T3_R2!M180)))","v":51169},{"$f":"IF(AND(COUNTRY_INFO!J180>1,COUNTRY_INFO!J180<4),IF(COUNTRY_INFO!E180>MAX('MDA2'!J180,'T1'!L180,MAX(T3_R1!K180,T3_R2!K180)),MAX('MDA2'!J180,'T1'!L180,MAX(T3_R1!K180,T3_R2!K180)),COUNTRY_INFO!E180),0)","v":0},{"$f":"IF(AND(COUNTRY_INFO!J180>1,COUNTRY_INFO!J180<4), IF(T180/COUNTRY_INFO!E180*100<>0, IF(T180/COUNTRY_INFO!E180*100>100,100,T180/COUNTRY_INFO!E180*100), \"-\"),0)","v":"-"},{"$f":"IF(AND(COUNTRY_INFO!J180>1,COUNTRY_INFO!J180<4),IF(COUNTRY_INFO!F180>MAX('MDA1'!K180,'MDA2'!K180,'T1'!M180,MAX(T3_R1!L180,T3_R2!L180)),MAX('MDA1'!K180,'MDA2'!K180,'T1'!M180,MAX(T3_R1!L180,T3_R2!L180)),COUNTRY_INFO!F180),0)","v":51169},{"$f":"IF(AND(COUNTRY_INFO!J180>1,COUNTRY_INFO!J180<4), IF(V180/COUNTRY_INFO!F180*100<>0, IF(V180/COUNTRY_INFO!F180*100>100,100,V180/COUNTRY_INFO!F180*100), \"-\"),0)","v":97.52792284527122},51169,{"$f":"IF(AND(COUNTRY_INFO!J180>1,COUNTRY_INFO!J180<4), IF(S180/P180*100<>0, IF(X180/P180*100>100,100,X180/P180*100), \"-\"),0)","v":57.239219195704457},{"$f":"COUNTRY_INFO!O180","v":65608.935736109968},null,null,{"$f":"MAX('T1'!L180,'T2'!J180)+MAX('T1'!M180,'T2'!K180)+MAX('T1'!N180,'T2'!L180)","v":51169},{"$f":"IF(COUNTRY_INFO!K180=1,IF(COUNTRY_INFO!F180*0.33>MAX('T1'!M180,'T2'!K180),MAX('T1'!M180,'T2'!K180),COUNTRY_INFO!F180*0.33),IF(COUNTRY_INFO!K180=2,IF(COUNTRY_INFO!F180*0.5>MAX('T1'!M180,'T2'!K180),MAX('T1'!M180,'T2'!K180),COUNTRY_INFO!F180*0.5),IF(COUNTRY_INFO!K180=3,IF(COUNTRY_INFO!F180>MAX('T1'!M180,'T2'!K180),MAX('T1'!M180,'T2'!K180),COUNTRY_INFO!F180),0)))","v":26233},{"$f":"IF(AND(COUNTRY_INFO!K180>0,COUNTRY_INFO!K180<4),IF(Z180>0,IF(COUNTRY_INFO!K180=1, AD180/(COUNTRY_INFO!F180*0.33)*100, IF(COUNTRY_INFO!K180=2, AD180/(COUNTRY_INFO!F180*0.5)*100, IF(COUNTRY_INFO!K180=3, AD180/COUNTRY_INFO!F180*100))),\"-\"),0)","v":100},{"$f":"IF(COUNTRY_INFO!K180=2,IF(COUNTRY_INFO!G180*0.2>MAX('T1'!N180,'T2'!L180),MAX('T1'!N180,'T2'!L180),COUNTRY_INFO!G180*0.2),IF(COUNTRY_INFO!K180=3,IF(COUNTRY_INFO!G180>MAX('T1'!N180,'T2'!L180),MAX('T1'!N180,'T2'!L180),COUNTRY_INFO!G180),0))","v":0},{"$f":"IF(AND(COUNTRY_INFO!K180>0,COUNTRY_INFO!K180<4),IF(Z180>0,IF(COUNTRY_INFO!K180=1, 0, IF(COUNTRY_INFO!K180=2, AF180/(COUNTRY_INFO!G180*0.2)*100, IF(COUNTRY_INFO!K180=3, AF180/COUNTRY_INFO!G180*100))),\"-\"),0)","v":0},26233,{"$f":"IF(AND(COUNTRY_INFO!K180>0,COUNTRY_INFO!K180<4), IF(AC180/Z180*100<>0, IF(AH180/Z180*100>100,100,AH180/Z180*100), \"-\"),0)","v":39.983882844119712},null,{"$f":"IF(AND(D180<>0, D180<>\"Unknown\",D180<>\"Stopped\",D180<>\"Not required\"),D180/COUNTRY_INFO!D180, 0)","v":0},{"$f":"IF(AND(J180<>0,J180<>\"Unknown\",J180<>\"Stopped\",J180<>\"Not required\"),J180/COUNTRY_INFO!D180, 0)","v":0},{"$f":"IF(AND(P180<>0,P180<>\"Unknown\",P180<>\"Not required\"),P180/(COUNTRY_INFO!E180+COUNTRY_INFO!F180), 0)","v":1},{"$f":"IF(AND(Z180<>0,Z180<>\"Unknown\",Z180<>\"Not required\"),IF(COUNTRY_INFO!K180=1,1,IF(COUNTRY_INFO!K180=2,0.5*COUNTRY_INFO!F180/(0.5*COUNTRY_INFO!F180+0.2*COUNTRY_INFO!G180),IF(COUNTRY_INFO!K180=3,COUNTRY_INFO!F180/(COUNTRY_INFO!F180+COUNTRY_INFO!G180)))),0)","v":0.39983882844119711},{"$f":"IF(AND(Z180<>0,Z180<>\"Unknown\",Z180<>\"Not required\"),IF(COUNTRY_INFO!K180=1,0,IF(COUNTRY_INFO!K180=2,0.2*COUNTRY_INFO!G180/(0.5*COUNTRY_INFO!F180+0.2*COUNTRY_INFO!G180),IF(COUNTRY_INFO!K180=3,COUNTRY_INFO!G180/(COUNTRY_INFO!F180+COUNTRY_INFO!G180)))),0)","v":0.60016117155880289},{"$f":"MAX(COUNTRY_INFO!D180*AK180*PROFILE!$G$7,COUNTRY_INFO!D180*AL180*PROFILE!$G$7)","v":0},{"$f":"MAX(COUNTRY_INFO!D180*AK180*PROFILE!$G$8,COUNTRY_INFO!D180*AL180*PROFILE!$G$8,COUNTRY_INFO!D180*AM180*PROFILE!$G$8)","v":36929.434093596588},{"$f":"MAX(COUNTRY_INFO!D180*AK180*PROFILE!$G$9,COUNTRY_INFO!D180*AL180*PROFILE!$G$9,COUNTRY_INFO!D180*AM180*PROFILE!$G$9,IF(AND(DISTRICT!Z180<>\"Unknown\",Z180<>\"Not required\"),COUNTRY_INFO!O180*DISTRICT!AN180,0))","v":64355.110051674317},{"$f":"MAX(COUNTRY_INFO!D180*AK180*PROFILE!$G$10,COUNTRY_INFO!D180*AL180*PROFILE!$G$10,IF(AND(DISTRICT!Z180<>\"Unknown\",Z180<>\"Not required\"),COUNTRY_INFO!O180*DISTRICT!AO180,0))","v":39375.935736109968},140660.47988138086,"Y",{"$f":"MAX('MDA2'!J180,'T1'!L180,'T2'!J180,T3_R1!K180,T3_R2!K180)","v":0},{"$f":"MAX('MDA1'!K180,'MDA2'!K180,'MDA3'!I180,'MDA3'!L180,'T1'!M180,'T2'!K180,T3_R1!L180,T3_R2!L180)","v":51169},{"$f":"MAX('MDA1'!L180,'MDA2'!L180,'MDA3'!J180,'MDA3'!M180,'T1'!N180,'T2'!L180,T3_R1!M180,T3_R2!M180)","v":0},51169,{"$f":"MAX('MDA2'!J180,T180)","v":0},{"$f":"MAX('MDA1'!K180,'MDA2'!K180,'MDA3'!I180,'MDA3'!L180,V180,AD180)","v":51169},{"$f":"MAX('MDA1'!L180,'MDA2'!L180,'MDA3'!J180,'MDA3'!M180,AF180)","v":0},51169,36.377666309080467]
[{"$f":"IF(COUNTRY_INFO!A181=0,\" \",COUNTRY_INFO!A181)","v":"Tanzania"},{"$f":"IF(COUNTRY_INFO!B181=0,\" \",COUNTRY_INFO!B181)","v":"Tabora"},{"$f":"IF(COUNTRY_INFO!C181=0,\" \",COUNTRY_INFO!C181)","v":"Urambo District Council"},{"$f":"COUNTRY_INFO!L181","v":"Stopped"},null,null,{"$f":"MAX('MDA1'!M181,'MDA2'!M181)","v":0},{"$f":"IF(AND(COUNTRY_INFO!H181>0,COUNTRY_INFO!H181<4),IF(D181>MAX('MDA1'!M181,'MDA2'!M181),MAX('MDA1'!M181,'MDA2'!M181),D181),0)","v":0},{"$f":"IF(AND(COUNTRY_INFO!H181>0,COUNTRY_INFO!H181<4), IF(G181/D181*100<>0, IF(G181/D181*100>100,100,G181/D181*100), \"-\"),0)","v":0},{"$f":"COUNTRY_INFO!M181","v":0},null,null,{"$f":"MAX('MDA1'!M181,MAX('MDA3'!I181,'MDA3'!L181)+MAX('MDA3'!J181,'MDA3'!M181))","v":0},{"$f":"IF(AND(COUNTRY_INFO!I181>0,COUNTRY_INFO!I181<4),IF(J181>MAX('MDA1'!M181,MAX('MDA3'!I181,'MDA3'!L181)+MAX('MDA3'!J181,'MDA3'!M181)),MAX('MDA1'!M181,MAX('MDA3'!I181,'MDA3'!L181)+MAX('MDA3'!J181,'MDA3'!M181)),J181),0)","v":0},{"$f":"IF(AND(COUNTRY_INFO!I181>0,COUNTRY_INFO!I181<4), IF(M181/J181*100<>0, IF(M181/J181*100>100,100,M181/J181*100), \"-\"),0)","v":0},{"$f":"COUNTRY_INFO!N181","v":87851},null,null,{"$f":"SUM(MAX('MDA2'!J181, 'T1'!L181, MAX(T3_R1!K181, T3_R2!K181)), MAX('MDA1'!K181, 'MDA2'!K181, 'T1'!M181, MAX(T3_R1!L181, T3_R2!L181)), MAX('MDA1'!L181, 'MDA2'!L181, 'T1'!N181, MAX(T3_R1!M181, T3_R2!M181)))","v":56246},{"$f":"IF(AND(COUNTRY_INFO!J181>1,COUNTRY_INFO!J181<4),IF(COUNTRY_INFO!E181>MAX('MDA2'!J181,'T1'!L181,MAX(T3_R1!K181,T3_R2!K181)),MAX('MDA2'!J181,'T1'!L181,MAX(T3_R1!K181,T3_R2!K181)),COUNTRY_INFO!E181),0)","v":0},{"$f":"IF(AND(COUNTRY_INFO!J181>1,COUNTRY_INFO!J181<4), IF(T181/COUNTRY_INFO!E181*100<>0, IF(T181/COUNTRY_INFO!E181*100>100,100,T181/COUNTRY_INFO!E181*100), \"-\"),0)","v":"-"},{"$f":"IF(AND(COUNTRY_INFO!J181>1,COUNTRY_INFO!J181<4),IF(COUNTRY_INFO!F181>MAX('MDA1'!K181,'MDA2'!K181,'T1'!M181,MAX(T3_R1!L181,T3_R2!L181)),MAX('MDA1'!K181,'MDA2'!K181,'T1'!M181,MAX(T3_R1!L181,T3_R2!L181)),COUNTRY_INFO!F181),0)","v":56246},{"$f":"IF(AND(COUNTRY_INFO!J181>1,COUNTRY_INFO!J181<4), IF(V181/COUNTRY_INFO!F181*100<>0, IF(V181/COUNTRY_INFO!F181*100>100,100,V181/COUNTRY_INFO!F181*100), \"-\"),0)","v":99.571590426285226},56246,{"$f":"IF(AND(COUNTRY_INFO!J181>1,COUNTRY_INFO!J181<4), IF(S181/P181*100<>0, IF(X181/P181*100>100,100,X181/P181*100), \"-\"),0)","v":64.024313895117871},{"$f":"COUNTRY_INFO!O181","v":59298.440951194367},null,null,{"$f":"MAX('T1'!L181,'T2'!J181)+MAX('T1'!M181,'T2'!K181)+MAX('T1'!N181,'T2'!L181)","v":56246},{"$f":"IF(COUNTRY_INFO!K181=1,IF(COUNTRY_INFO!F181*0.33>MAX('T1'!M181,'T2'!K181),MAX('T1'!M181,'T2'!K181),COUNTRY_INFO!F181*0.33),IF(COUNTRY_INFO!K181=2,IF(COUNTRY_INFO!F181*0.5>MAX('T1'!M181,'T2'!K181),MAX('T1'!M181,'T2'!K181),COUNTRY_INFO!F181*0.5),IF(COUNTRY_INFO!K181=3,IF(COUNTRY_INFO!F181>MAX('T1'!M181,'T2'!K181),MAX('T1'!M181,'T2'!K181),COUNTRY_INFO!F181),0)))","v":28244},{"$f":"IF(AND(COUNTRY_INFO!K181>0,COUNTRY_INFO!K181<4),IF(Z181>0,IF(COUNTRY_INFO!K181=1, AD181/(COUNTRY_INFO!F181*0.33)*100, IF(COUNTRY_INFO!K181=2, AD181/(COUNTRY_INFO!F181*0.5)*100, IF(COUNTRY_INFO!K181=3, AD181/COUNTRY_INFO!F181*100))),\"-\"),0)","v":100},{"$f":"IF(COUNTRY_INFO!K181=2,IF(COUNTRY_INFO!G181*0.2>MAX('T1'!N181,'T2'!L181),MAX('T1'!N181,'T2'!L181),COUNTRY_INFO!G181*0.2),IF(COUNTRY_INFO!K181=3,IF(COUNTRY_INFO!G181>MAX('T1'!N181,'T2'!L181),MAX('T1'!N181,'T2'!L181),COUNTRY_INFO!G181),0))","v":0},{"$f":"IF(AND(COUNTRY_INFO!K181>0,COUNTRY_INFO!K181<4),IF(Z181>0,IF(COUNTRY_INFO!K181=1, 0, IF(COUNTRY_INFO!K181=2, AF181/(COUNTRY_INFO!G181*0.2)*100, IF(COUNTRY_INFO!K181=3, AF181/COUNTRY_INFO!G181*100))),\"-\"),0)","v":0},28244,{"$f":"IF(AND(COUNTRY_INFO!K181>0,COUNTRY_INFO!K181<4), IF(AC181/Z181*100<>0, IF(AH181/Z181*100>100,100,AH181/Z181*100), \"-\"),0)","v":47.630257300097064},null,{"$f":"IF(AND(D181<>0, D181<>\"Unknown\",D181<>\"Stopped\",D181<>\"Not required\"),D181/COUNTRY_INFO!D181, 0)","v":0},{"$f":"IF(AND(J181<>0,J181<>\"Unknown\",J181<>\"Stopped\",J181<>\"Not required\"),J181/COUNTRY_INFO!D181, 0)","v":0},{"$f":"IF(AND(P181<>0,P181<>\"Unknown\",P181<>\"Not required\"),P181/(COUNTRY_INFO!E181+COUNTRY_INFO!F181), 0)","v":1},{"$f":"IF(AND(Z181<>0,Z181<>\"Unknown\",Z181<>\"Not required\"),IF(COUNTRY_INFO!K181=1,1,IF(COUNTRY_INFO!K181=2,0.5*COUNTRY_INFO!F181/(0.5*COUNTRY_INFO!F181+0.2*COUNTRY_INFO!G181),IF(COUNTRY_INFO!K181=3,COUNTRY_INFO!F181/(COUNTRY_INFO!F181+COUNTRY_INFO!G181)))),0)","v":0.47630257300097062},{"$f":"IF(AND(Z181<>0,Z181<>\"Unknown\",Z181<>\"Not required\"),IF(COUNTRY_INFO!K181=1,0,IF(COUNTRY_INFO!K181=2,0.2*COUNTRY_INFO!G181/(0.5*COUNTRY_INFO!F181+0.2*COUNTRY_INFO!G181),IF(COUNTRY_INFO!K181=3,COUNTRY_INFO!G181/(COUNTRY_INFO!F181+COUNTRY_INFO!G181)))),0)","v":0.52369742699902944},{"$f":"MAX(COUNTRY_INFO!D181*AK181*PROFILE!$G$7,COUNTRY_INFO!D181*AL181*PROFILE!$G$7)","v":0},{"$f":"MAX(COUNTRY_INFO!D181*AK181*PROFILE!$G$8,COUNTRY_INFO!D181*AL181*PROFILE!$G$8,COUNTRY_INFO!D181*AM181*PROFILE!$G$8)","v":31362.893875355741},{"$f":"MAX(COUNTRY_INFO!D181*AK181*PROFILE!$G$9,COUNTRY_INFO!D181*AL181*PROFILE!$G$9,COUNTRY_INFO!D181*AM181*PROFILE!$G$9,IF(AND(DISTRICT!Z181<>\"Unknown\",Z181<>\"Not required\"),COUNTRY_INFO!O181*DISTRICT!AN181,0))","v":54654.573957781737},{"$f":"MAX(COUNTRY_INFO!D181*AK181*PROFILE!$G$10,COUNTRY_INFO!D181*AL181*PROFILE!$G$10,IF(AND(DISTRICT!Z181<>\"Unknown\",Z181<>\"Not required\"),COUNTRY_INFO!O181*DISTRICT!AO181,0))","v":31054.44095119437},117071.90878433184,"Y",{"$f":"MAX('MDA2'!J181,'T1'!L181,'T2'!J181,T3_R1!K181,T3_R2!K181)","v":0},{"$f":"MAX('MDA1'!K181,'MDA2'!K181,'MDA3'!I181,'MDA3'!L181,'T1'!M181,'T2'!K181,T3_R1!L181,T3_R2!L181)","v":56246},{"$f":"MAX('MDA1'!L181,'MDA2'!L181,'MDA3'!J181,'MDA3'!M181,'T1'!N181,'T2'!L181,T3_R1!M181,T3_R2!M181)","v":0},56246,{"$f":"MAX('MDA2'!J181,T181)","v":0},{"$f":"MAX('MDA1'!K181,'MDA2'!K181,'MDA3'!I181,'MDA3'!L181,V181,AD181)","v":56246},{"$f":"MAX('MDA1'!L181,'MDA2'!L181,'MDA3'!J181,'MDA3'!M181,AF181)","v":0},56246,48.043976205782684]
[{"$f":"IF(COUNTRY_INFO!A182=0,\" \",COUNTRY_INFO!A182)","v":"Tanzania"},{"$f":"IF(COUNTRY_INFO!B182=0,\" \",COUNTRY_INFO!B182)","v":"Tabora"},{"$f":"IF(COUNTRY_INFO!C182=0,\" \",COUNTRY_INFO!C182)","v":"Uyui District Council"},{"$f":"COUNTRY_INFO!L182","v":"Stopped"},null,null,{"$f":"MAX('MDA1'!M182,'MDA2'!M182)","v":0},{"$f":"IF(AND(COUNTRY_INFO!H182>0,COUNTRY_INFO!H182<4),IF(D182>MAX('MDA1'!M182,'MDA2'!M182),MAX('MDA1'!M182,'MDA2'!M182),D182),0)","v":0},{"$f":"IF(AND(COUNTRY_INFO!H182>0,COUNTRY_INFO!H182<4), IF(G182/D182*100<>0, IF(G182/D182*100>100,100,G182/D182*100), \"-\"),0)","v":0},{"$f":"COUNTRY_INFO!M182","v":0},null,null,{"$f":"MAX('MDA1'!M182,MAX('MDA3'!I182,'MDA3'!L182)+MAX('MDA3'!J182,'MDA3'!M182))","v":0},{"$f":"IF(AND(COUNTRY_INFO!I182>0,COUNTRY_INFO!I182<4),IF(J182>MAX('MDA1'!M182,MAX('MDA3'!I182,'MDA3'!L182)+MAX('MDA3'!J182,'MDA3'!M182)),MAX('MDA1'!M182,MAX('MDA3'!I182,'MDA3'!L182)+MAX('MDA3'!J182,'MDA3'!M182)),J182),0)","v":0},{"$f":"IF(AND(COUNTRY_INFO!I182>0,COUNTRY_INFO!I182<4), IF(M182/J182*100<>0, IF(M182/J182*100>100,100,M182/J182*100), \"-\"),0)","v":0},{"$f":"COUNTRY_INFO!N182","v":179323},null,null,{"$f":"SUM(MAX('MDA2'!J182, 'T1'!L182, MAX(T3_R1!K182, T3_R2!K182)), MAX('MDA1'!K182, 'MDA2'!K182, 'T1'!M182, MAX(T3_R1!L182, T3_R2!L182)), MAX('MDA1'!L182, 'MDA2'!L182, 'T1'!N182, MAX(T3_R1!M182, T3_R2!M182)))","v":114792},{"$f":"IF(AND(COUNTRY_INFO!J182>1,COUNTRY_INFO!J182<4),IF(COUNTRY_INFO!E182>MAX('MDA2'!J182,'T1'!L182,MAX(T3_R1!K182,T3_R2!K182)),MAX('MDA2'!J182,'T1'!L182,MAX(T3_R1!K182,T3_R2!K182)),COUNTRY_INFO!E182),0)","v":0},{"$f":"IF(AND(COUNTRY_INFO!J182>1,COUNTRY_INFO!J182<4), IF(T182/COUNTRY_INFO!E182*100<>0, IF(T182/COUNTRY_INFO!E182*100>100,100,T182/COUNTRY_INFO!E182*100), \"-\"),0)","v":"-"},{"$f":"IF(AND(COUNTRY_INFO!J182>1,COUNTRY_INFO!J182<4),IF(COUNTRY_INFO!F182>MAX('MDA1'!K182,'MDA2'!K182,'T1'!M182,MAX(T3_R1!L182,T3_R2!L182)),MAX('MDA1'!K182,'MDA2'!K182,'T1'!M182,MAX(T3_R1!L182,T3_R2!L182)),COUNTRY_INFO!F182),0)","v":114792},{"$f":"IF(AND(COUNTRY_INFO!J182>1,COUNTRY_INFO!J182<4), IF(V182/COUNTRY_INFO!F182*100<>0, IF(V182/COUNTRY_INFO!F182*100>100,100,V182/COUNTRY_INFO!F182*100), \"-\"),0)","v":99.994773428108502},114792,{"$f":"IF(AND(COUNTRY_INFO!J182>1,COUNTRY_INFO!J182<4), IF(S182/P182*100<>0, IF(X182/P182*100>100,100,X182/P182*100), \"-\"),0)","v":64.014097466582641},{"$f":"COUNTRY_INFO!O182","v":121573.41341748057},null,null,{"$f":"MAX('T1'!L182,'T2'!J182)+MAX('T1'!M182,'T2'!K182)+MAX('T1'!N182,'T2'!L182)","v":114792},{"$f":"IF(COUNTRY_INFO!K182=1,IF(COUNTRY_INFO!F182*0.33>MAX('T1'!M182,'T2'!K182),MAX('T1'!M182,'T2'!K182),COUNTRY_INFO!F182*0.33),IF(COUNTRY_INFO!K182=2,IF(COUNTRY_INFO!F182*0.5>MAX('T1'!M182,'T2'!K182),MAX('T1'!M182,'T2'!K182),COUNTRY_INFO!F182*0.5),IF(COUNTRY_INFO!K182=3,IF(COUNTRY_INFO!F182>MAX('T1'!M182,'T2'!K182),MAX('T1'!M182,'T2'!K182),COUNTRY_INFO!F182),0)))","v":57399},{"$f":"IF(AND(COUNTRY_INFO!K182>0,COUNTRY_INFO!K182<4),IF(Z182>0,IF(COUNTRY_INFO!K182=1, AD182/(COUNTRY_INFO!F182*0.33)*100, IF(COUNTRY_INFO!K182=2, AD182/(COUNTRY_INFO!F182*0.5)*100, IF(COUNTRY_INFO!K182=3, AD182/COUNTRY_INFO!F182*100))),\"-\"),0)","v":100},{"$f":"IF(COUNTRY_INFO!K182=2,IF(COUNTRY_INFO!G182*0.2>MAX('T1'!N182,'T2'!L182),MAX('T1'!N182,'T2'!L182),COUNTRY_INFO!G182*0.2),IF(COUNTRY_INFO!K182=3,IF(COUNTRY_INFO!G182>MAX('T1'!N182,'T2'!L182),MAX('T1'!N182,'T2'!L182),COUNTRY_INFO!G182),0))","v":0},{"$f":"IF(AND(COUNTRY_INFO!K182>0,COUNTRY_INFO!K182<4),IF(Z182>0,IF(COUNTRY_INFO!K182=1, 0, IF(COUNTRY_INFO!K182=2, AF182/(COUNTRY_INFO!G182*0.2)*100, IF(COUNTRY_INFO!K182=3, AF182/COUNTRY_INFO!G182*100))),\"-\"),0)","v":0},57399,{"$f":"IF(AND(COUNTRY_INFO!K182>0,COUNTRY_INFO!K182<4), IF(AC182/Z182*100<>0, IF(AH182/Z182*100>100,100,AH182/Z182*100), \"-\"),0)","v":47.213447732106552},null,{"$f":"IF(AND(D182<>0, D182<>\"Unknown\",D182<>\"Stopped\",D182<>\"Not required\"),D182/COUNTRY_INFO!D182, 0)","v":0},{"$f":"IF(AND(J182<>0,J182<>\"Unknown\",J182<>\"Stopped\",J182<>\"Not required\"),J182/COUNTRY_INFO!D182, 0)","v":0},{"$f":"IF(AND(P182<>0,P182<>\"Unknown\",P182<>\"Not required\"),P182/(COUNTRY_INFO!E182+COUNTRY_INFO!F182), 0)","v":1},{"$f":"IF(AND(Z182<>0,Z182<>\"Unknown\",Z182<>\"Not required\"),IF(COUNTRY_INFO!K182=1,1,IF(COUNTRY_INFO!K182=2,0.5*COUNTRY_INFO!F182/(0.5*COUNTRY_INFO!F182+0.2*COUNTRY_INFO!G182),IF(COUNTRY_INFO!K182=3,COUNTRY_INFO!F182/(COUNTRY_INFO!F182+COUNTRY_INFO!G182)))),0)","v":0.4721344773210655},{"$f":"IF(AND(Z182<>0,Z182<>\"Unknown\",Z182<>\"Not required\"),IF(COUNTRY_INFO!K182=1,0,IF(COUNTRY_INFO!K182=2,0.2*COUNTRY_INFO!G182/(0.5*COUNTRY_INFO!F182+0.2*COUNTRY_INFO!G182),IF(COUNTRY_INFO!K182=3,COUNTRY_INFO!G182/(COUNTRY_INFO!F182+COUNTRY_INFO!G182)))),0)","v":0.5278655226789345},{"$f":"MAX(COUNTRY_INFO!D182*AK182*PROFILE!$G$7,COUNTRY_INFO!D182*AL182*PROFILE!$G$7)","v":0},{"$f":"MAX(COUNTRY_INFO!D182*AK182*PROFILE!$G$8,COUNTRY_INFO!D182*AL182*PROFILE!$G$8,COUNTRY_INFO!D182*AM182*PROFILE!$G$8)","v":64525.1646044425},{"$f":"MAX(COUNTRY_INFO!D182*AK182*PROFILE!$G$9,COUNTRY_INFO!D182*AL182*PROFILE!$G$9,COUNTRY_INFO!D182*AM182*PROFILE!$G$9,IF(AND(DISTRICT!Z182<>\"Unknown\",Z182<>\"Not required\"),COUNTRY_INFO!O182*DISTRICT!AN182,0))","v":112444.833535679},{"$f":"MAX(COUNTRY_INFO!D182*AK182*PROFILE!$G$10,COUNTRY_INFO!D182*AL182*PROFILE!$G$10,IF(AND(DISTRICT!Z182<>\"Unknown\",Z182<>\"Not required\"),COUNTRY_INFO!O182*DISTRICT!AO182,0))","v":64174.413417480566},241144.41155760208,"Y",{"$f":"MAX('MDA2'!J182,'T1'!L182,'T2'!J182,T3_R1!K182,T3_R2!K182)","v":0},{"$f":"MAX('MDA1'!K182,'MDA2'!K182,'MDA3'!I182,'MDA3'!L182,'T1'!M182,'T2'!K182,T3_R1!L182,T3_R2!L182)","v":114792},{"$f":"MAX('MDA1'!L182,'MDA2'!L182,'MDA3'!J182,'MDA3'!M182,'T1'!N182,'T2'!L182,T3_R1!M182,T3_R2!M182)","v":0},114792,{"$f":"MAX('MDA2'!J182,T182)","v":0},{"$f":"MAX('MDA1'!K182,'MDA2'!K182,'MDA3'!I182,'MDA3'!L182,V182,AD182)","v":114792},{"$f":"MAX('MDA1'!L182,'MDA2'!L182,'MDA3'!J182,'MDA3'!M182,AF182)","v":0},114792,47.603010684981051]
[{"$f":"IF(COUNTRY_INFO!A183=0,\" \",COUNTRY_INFO!A183)","v":"Tanzania"},{"$f":"IF(COUNTRY_INFO!B183=0,\" \",COUNTRY_INFO!B183)","v":"Tanga"},{"$f":"IF(COUNTRY_INFO!C183=0,\" \",COUNTRY_INFO!C183)","v":"Bumbuli District Council"},{"$f":"COUNTRY_INFO!L183","v":"Stopped"},null,null,{"$f":"MAX('MDA1'!M183,'MDA2'!M183)","v":0},{"$f":"IF(AND(COUNTRY_INFO!H183>0,COUNTRY_INFO!H183<4),IF(D183>MAX('MDA1'!M183,'MDA2'!M183),MAX('MDA1'!M183,'MDA2'!M183),D183),0)","v":0},{"$f":"IF(AND(COUNTRY_INFO!H183>0,COUNTRY_INFO!H183<4), IF(G183/D183*100<>0, IF(G183/D183*100>100,100,G183/D183*100), \"-\"),0)","v":0},{"$f":"COUNTRY_INFO!M183","v":190952.524},null,null,{"$f":"MAX('MDA1'!M183,MAX('MDA3'!I183,'MDA3'!L183)+MAX('MDA3'!J183,'MDA3'!M183))","v":148177},{"$f":"IF(AND(COUNTRY_INFO!I183>0,COUNTRY_INFO!I183<4),IF(J183>MAX('MDA1'!M183,MAX('MDA3'!I183,'MDA3'!L183)+MAX('MDA3'!J183,'MDA3'!M183)),MAX('MDA1'!M183,MAX('MDA3'!I183,'MDA3'!L183)+MAX('MDA3'!J183,'MDA3'!M183)),J183),0)","v":148177},{"$f":"IF(AND(COUNTRY_INFO!I183>0,COUNTRY_INFO!I183<4), IF(M183/J183*100<>0, IF(M183/J183*100>100,100,M183/J183*100), \"-\"),0)","v":77.598869549375522},{"$f":"COUNTRY_INFO!N183","v":67683},null,null,{"$f":"SUM(MAX('MDA2'!J183, 'T1'!L183, MAX(T3_R1!K183, T3_R2!K183)), MAX('MDA1'!K183, 'MDA2'!K183, 'T1'!M183, MAX(T3_R1!L183, T3_R2!L183)), MAX('MDA1'!L183, 'MDA2'!L183, 'T1'!N183, MAX(T3_R1!M183, T3_R2!M183)))","v":41102},{"$f":"IF(AND(COUNTRY_INFO!J183>1,COUNTRY_INFO!J183<4),IF(COUNTRY_INFO!E183>MAX('MDA2'!J183,'T1'!L183,MAX(T3_R1!K183,T3_R2!K183)),MAX('MDA2'!J183,'T1'!L183,MAX(T3_R1!K183,T3_R2!K183)),COUNTRY_INFO!E183),0)","v":0},{"$f":"IF(AND(COUNTRY_INFO!J183>1,COUNTRY_INFO!J183<4), IF(T183/COUNTRY_INFO!E183*100<>0, IF(T183/COUNTRY_INFO!E183*100>100,100,T183/COUNTRY_INFO!E183*100), \"-\"),0)","v":"-"},{"$f":"IF(AND(COUNTRY_INFO!J183>1,COUNTRY_INFO!J183<4),IF(COUNTRY_INFO!F183>MAX('MDA1'!K183,'MDA2'!K183,'T1'!M183,MAX(T3_R1!L183,T3_R2!L183)),MAX('MDA1'!K183,'MDA2'!K183,'T1'!M183,MAX(T3_R1!L183,T3_R2!L183)),COUNTRY_INFO!F183),0)","v":41102},{"$f":"IF(AND(COUNTRY_INFO!J183>1,COUNTRY_INFO!J183<4), IF(V183/COUNTRY_INFO!F183*100<>0, IF(V183/COUNTRY_INFO!F183*100>100,100,V183/COUNTRY_INFO!F183*100), \"-\"),0)","v":95.475029036004642},41102,{"$f":"IF(AND(COUNTRY_INFO!J183>1,COUNTRY_INFO!J183<4), IF(S183/P183*100<>0, IF(X183/P183*100>100,100,X183/P183*100), \"-\"),0)","v":60.727213628237521},{"$f":"COUNTRY_INFO!O183","v":46178.904800000004},null,null,{"$f":"MAX('T1'!L183,'T2'!J183)+MAX('T1'!M183,'T2'!K183)+MAX('T1'!N183,'T2'!L183)","v":41102},{"$f":"IF(COUNTRY_INFO!K183=1,IF(COUNTRY_INFO!F183*0.33>MAX('T1'!M183,'T2'!K183),MAX('T1'!M183,'T2'!K183),COUNTRY_INFO!F183*0.33),IF(COUNTRY_INFO!K183=2,IF(COUNTRY_INFO!F183*0.5>MAX('T1'!M183,'T2'!K183),MAX('T1'!M183,'T2'!K183),COUNTRY_INFO!F183*0.5),IF(COUNTRY_INFO!K183=3,IF(COUNTRY_INFO!F183>MAX('T1'!M183,'T2'!K183),MAX('T1'!M183,'T2'!K183),COUNTRY_INFO!F183),0)))","v":21525},{"$f":"IF(AND(COUNTRY_INFO!K183>0,COUNTRY_INFO!K183<4),IF(Z183>0,IF(COUNTRY_INFO!K183=1, AD183/(COUNTRY_INFO!F183*0.33)*100, IF(COUNTRY_INFO!K183=2, AD183/(COUNTRY_INFO!F183*0.5)*100, IF(COUNTRY_INFO!K183=3, AD183/COUNTRY_INFO!F183*100))),\"-\"),0)","v":100},{"$f":"IF(COUNTRY_INFO!K183=2,IF(COUNTRY_INFO!G183*0.2>MAX('T1'!N183,'T2'!L183),MAX('T1'!N183,'T2'!L183),COUNTRY_INFO!G183*0.2),IF(COUNTRY_INFO!K183=3,IF(COUNTRY_INFO!G183>MAX('T1'!N183,'T2'!L183),MAX('T1'!N183,'T2'!L183),COUNTRY_INFO!G183),0))","v":0},{"$f":"IF(AND(COUNTRY_INFO!K183>0,COUNTRY_INFO!K183<4),IF(Z183>0,IF(COUNTRY_INFO!K183=1, 0, IF(COUNTRY_INFO!K183=2, AF183/(COUNTRY_INFO!G183*0.2)*100, IF(COUNTRY_INFO!K183=3, AF183/COUNTRY_INFO!G183*100))),\"-\"),0)","v":0},21525,{"$f":"IF(AND(COUNTRY_INFO!K183>0,COUNTRY_INFO!K183<4), IF(AC183/Z183*100<>0, IF(AH183/Z183*100>100,100,AH183/Z183*100), \"-\"),0)","v":46.61219250050295},null,{"$f":"IF(AND(D183<>0, D183<>\"Unknown\",D183<>\"Stopped\",D183<>\"Not required\"),D183/COUNTRY_INFO!D183, 0)","v":0},{"$f":"IF(AND(J183<>0,J183<>\"Unknown\",J183<>\"Stopped\",J183<>\"Not required\"),J183/COUNTRY_INFO!D183, 0)","v":1},{"$f":"IF(AND(P183<>0,P183<>\"Unknown\",P183<>\"Not required\"),P183/(COUNTRY_INFO!E183+COUNTRY_INFO!F183), 0)","v":1},{"$f":"IF(AND(Z183<>0,Z183<>\"Unknown\",Z183<>\"Not required\"),IF(COUNTRY_INFO!K183=1,1,IF(COUNTRY_INFO!K183=2,0.5*COUNTRY_INFO!F183/(0.5*COUNTRY_INFO!F183+0.2*COUNTRY_INFO!G183),IF(COUNTRY_INFO!K183=3,COUNTRY_INFO!F183/(COUNTRY_INFO!F183+COUNTRY_INFO!G183)))),0)","v":0.46612192500502952},{"$f":"IF(AND(Z183<>0,Z183<>\"Unknown\",Z183<>\"Not required\"),IF(COUNTRY_INFO!K183=1,0,IF(COUNTRY_INFO!K183=2,0.2*COUNTRY_INFO!G183/(0.5*COUNTRY_INFO!F183+0.2*COUNTRY_INFO!G183),IF(COUNTRY_INFO!K183=3,COUNTRY_INFO!G183/(COUNTRY_INFO!F183+COUNTRY_INFO!G183)))),0)","v":0.53387807499497042},{"$f":"MAX(COUNTRY_INFO!D183*AK183*PROFILE!$G$7,COUNTRY_INFO!D183*AL183*PROFILE!$G$7)","v":3.5014887893901796E-3},{"$f":"MAX(COUNTRY_INFO!D183*AK183*PROFILE!$G$8,COUNTRY_INFO!D183*AL183*PROFILE!$G$8,COUNTRY_INFO!D183*AM183*PROFILE!$G$8)","v":24632.875958732267},{"$f":"MAX(COUNTRY_INFO!D183*AK183*PROFILE!$G$9,COUNTRY_INFO!D183*AL183*PROFILE!$G$9,COUNTRY_INFO!D183*AM183*PROFILE!$G$9,IF(AND(DISTRICT!Z183<>\"Unknown\",Z183<>\"Not required\"),COUNTRY_INFO!O183*DISTRICT!AN183,0))","v":42926.502453183639},{"$f":"MAX(COUNTRY_INFO!D183*AK183*PROFILE!$G$10,COUNTRY_INFO!D183*AL183*PROFILE!$G$10,IF(AND(DISTRICT!Z183<>\"Unknown\",Z183<>\"Not required\"),COUNTRY_INFO!O183*DISTRICT!AO183,0))","v":123393.1420865953},190952.52399999998,"Y",{"$f":"MAX('MDA2'!J183,'T1'!L183,'T2'!J183,T3_R1!K183,T3_R2!K183)","v":0},{"$f":"MAX('MDA1'!K183,'MDA2'!K183,'MDA3'!I183,'MDA3'!L183,'T1'!M183,'T2'!K183,T3_R1!L183,T3_R2!L183)","v":41102},{"$f":"MAX('MDA1'!L183,'MDA2'!L183,'MDA3'!J183,'MDA3'!M183,'T1'!N183,'T2'!L183,T3_R1!M183,T3_R2!M183)","v":119875.193},160977.193,{"$f":"MAX('MDA2'!J183,T183)","v":0},{"$f":"MAX('MDA1'!K183,'MDA2'!K183,'MDA3'!I183,'MDA3'!L183,V183,AD183)","v":41102},{"$f":"MAX('MDA1'!L183,'MDA2'!L183,'MDA3'!J183,'MDA3'!M183,AF183)","v":119875.193},160977.193,84.302207495303932]
[{"$f":"IF(COUNTRY_INFO!A184=0,\" \",COUNTRY_INFO!A184)","v":"Tanzania"},{"$f":"IF(COUNTRY_INFO!B184=0,\" \",COUNTRY_INFO!B184)","v":"Tanga"},{"$f":"IF(COUNTRY_INFO!C184=0,\" \",COUNTRY_INFO!C184)","v":"Handeni District Council"},{"$f":"COUNTRY_INFO!L184","v":"Stopped"},null,null,{"$f":"MAX('MDA1'!M184,'MDA2'!M184)","v":0},{"$f":"IF(AND(COUNTRY_INFO!H184>0,COUNTRY_INFO!H184<4),IF(D184>MAX('MDA1'!M184,'MDA2'!M184),MAX('MDA1'!M184,'MDA2'!M184),D184),0)","v":0},{"$f":"IF(AND(COUNTRY_INFO!H184>0,COUNTRY_INFO!H184<4), IF(G184/D184*100<>0, IF(G184/D184*100>100,100,G184/D184*100), \"-\"),0)","v":0},{"$f":"COUNTRY_INFO!M184","v":0},null,null,{"$f":"MAX('MDA1'!M184,MAX('MDA3'!I184,'MDA3'!L184)+MAX('MDA3'!J184,'MDA3'!M184))","v":0},{"$f":"IF(AND(COUNTRY_INFO!I184>0,COUNTRY_INFO!I184<4),IF(J184>MAX('MDA1'!M184,MAX('MDA3'!I184,'MDA3'!L184)+MAX('MDA3'!J184,'MDA3'!M184)),MAX('MDA1'!M184,MAX('MDA3'!I184,'MDA3'!L184)+MAX('MDA3'!J184,'MDA3'!M184)),J184),0)","v":0},{"$f":"IF(AND(COUNTRY_INFO!I184>0,COUNTRY_INFO!I184<4), IF(M184/J184*100<>0, IF(M184/J184*100>100,100,M184/J184*100), \"-\"),0)","v":0},{"$f":"COUNTRY_INFO!N184","v":120114},null,null,{"$f":"SUM(MAX('MDA2'!J184, 'T1'!L184, MAX(T3_R1!K184, T3_R2!K184)), MAX('MDA1'!K184, 'MDA2'!K184, 'T1'!M184, MAX(T3_R1!L184, T3_R2!L184)), MAX('MDA1'!L184, 'MDA2'!L184, 'T1'!N184, MAX(T3_R1!M184, T3_R2!M184)))","v":77184},{"$f":"IF(AND(COUNTRY_INFO!J184>1,COUNTRY_INFO!J184<4),IF(COUNTRY_INFO!E184>MAX('MDA2'!J184,'T1'!L184,MAX(T3_R1!K184,T3_R2!K184)),MAX('MDA2'!J184,'T1'!L184,MAX(T3_R1!K184,T3_R2!K184)),COUNTRY_INFO!E184),0)","v":0},{"$f":"IF(AND(COUNTRY_INFO!J184>1,COUNTRY_INFO!J184<4), IF(T184/COUNTRY_INFO!E184*100<>0, IF(T184/COUNTRY_INFO!E184*100>100,100,T184/COUNTRY_INFO!E184*100), \"-\"),0)","v":"-"},{"$f":"IF(AND(COUNTRY_INFO!J184>1,COUNTRY_INFO!J184<4),IF(COUNTRY_INFO!F184>MAX('MDA1'!K184,'MDA2'!K184,'T1'!M184,MAX(T3_R1!L184,T3_R2!L184)),MAX('MDA1'!K184,'MDA2'!K184,'T1'!M184,MAX(T3_R1!L184,T3_R2!L184)),COUNTRY_INFO!F184),0)","v":77184},{"$f":"IF(AND(COUNTRY_INFO!J184>1,COUNTRY_INFO!J184<4), IF(V184/COUNTRY_INFO!F184*100<>0, IF(V184/COUNTRY_INFO!F184*100>100,100,V184/COUNTRY_INFO!F184*100), \"-\"),0)","v":99.561426139002123},77184,{"$f":"IF(AND(COUNTRY_INFO!J184>1,COUNTRY_INFO!J184<4), IF(S184/P184*100<>0, IF(X184/P184*100>100,100,X184/P184*100), \"-\"),0)","v":64.258953993705987},{"$f":"COUNTRY_INFO!O184","v":80770.065675275313},null,null,{"$f":"MAX('T1'!L184,'T2'!J184)+MAX('T1'!M184,'T2'!K184)+MAX('T1'!N184,'T2'!L184)","v":77184},{"$f":"IF(COUNTRY_INFO!K184=1,IF(COUNTRY_INFO!F184*0.33>MAX('T1'!M184,'T2'!K184),MAX('T1'!M184,'T2'!K184),COUNTRY_INFO!F184*0.33),IF(COUNTRY_INFO!K184=2,IF(COUNTRY_INFO!F184*0.5>MAX('T1'!M184,'T2'!K184),MAX('T1'!M184,'T2'!K184),COUNTRY_INFO!F184*0.5),IF(COUNTRY_INFO!K184=3,IF(COUNTRY_INFO!F184>MAX('T1'!M184,'T2'!K184),MAX('T1'!M184,'T2'!K184),COUNTRY_INFO!F184),0)))","v":38762},{"$f":"IF(AND(COUNTRY_INFO!K184>0,COUNTRY_INFO!K184<4),IF(Z184>0,IF(COUNTRY_INFO!K184=1, AD184/(COUNTRY_INFO!F184*0.33)*100, IF(COUNTRY_INFO!K184=2, AD184/(COUNTRY_INFO!F184*0.5)*100, IF(COUNTRY_INFO!K184=3, AD184/COUNTRY_INFO!F184*100))),\"-\"),0)","v":100},{"$f":"IF(COUNTRY_INFO!K184=2,IF(COUNTRY_INFO!G184*0.2>MAX('T1'!N184,'T2'!L184),MAX('T1'!N184,'T2'!L184),COUNTRY_INFO!G184*0.2),IF(COUNTRY_INFO!K184=3,IF(COUNTRY_INFO!G184>MAX('T1'!N184,'T2'!L184),MAX('T1'!N184,'T2'!L184),COUNTRY_INFO!G184),0))","v":0},{"$f":"IF(AND(COUNTRY_INFO!K184>0,COUNTRY_INFO!K184<4),IF(Z184>0,IF(COUNTRY_INFO!K184=1, 0, IF(COUNTRY_INFO!K184=2, AF184/(COUNTRY_INFO!G184*0.2)*100, IF(COUNTRY_INFO!K184=3, AF184/COUNTRY_INFO!G184*100))),\"-\"),0)","v":0},38762,{"$f":"IF(AND(COUNTRY_INFO!K184>0,COUNTRY_INFO!K184<4), IF(AC184/Z184*100<>0, IF(AH184/Z184*100>100,100,AH184/Z184*100), \"-\"),0)","v":47.990551543980622},null,{"$f":"IF(AND(D184<>0, D184<>\"Unknown\",D184<>\"Stopped\",D184<>\"Not required\"),D184/COUNTRY_INFO!D184, 0)","v":0},{"$f":"IF(AND(J184<>0,J184<>\"Unknown\",J184<>\"Stopped\",J184<>\"Not required\"),J184/COUNTRY_INFO!D184, 0)","v":0},{"$f":"IF(AND(P184<>0,P184<>\"Unknown\",P184<>\"Not required\"),P184/(COUNTRY_INFO!E184+COUNTRY_INFO!F184), 0)","v":1},{"$f":"IF(AND(Z184<>0,Z184<>\"Unknown\",Z184<>\"Not required\"),IF(COUNTRY_INFO!K184=1,1,IF(COUNTRY_INFO!K184=2,0.5*COUNTRY_INFO!F184/(0.5*COUNTRY_INFO!F184+0.2*COUNTRY_INFO!G184),IF(COUNTRY_INFO!K184=3,COUNTRY_INFO!F184/(COUNTRY_INFO!F184+COUNTRY_INFO!G184)))),0)","v":0.47990551543980625},{"$f":"IF(AND(Z184<>0,Z184<>\"Unknown\",Z184<>\"Not required\"),IF(COUNTRY_INFO!K184=1,0,IF(COUNTRY_INFO!K184=2,0.2*COUNTRY_INFO!G184/(0.5*COUNTRY_INFO!F184+0.2*COUNTRY_INFO!G184),IF(COUNTRY_INFO!K184=3,COUNTRY_INFO!G184/(COUNTRY_INFO!F184+COUNTRY_INFO!G184)))),0)","v":0.5200944845601938},{"$f":"MAX(COUNTRY_INFO!D184*AK184*PROFILE!$G$7,COUNTRY_INFO!D184*AL184*PROFILE!$G$7)","v":0},{"$f":"MAX(COUNTRY_INFO!D184*AK184*PROFILE!$G$8,COUNTRY_INFO!D184*AL184*PROFILE!$G$8,COUNTRY_INFO!D184*AM184*PROFILE!$G$8)","v":42589.908987711759},{"$f":"MAX(COUNTRY_INFO!D184*AK184*PROFILE!$G$9,COUNTRY_INFO!D184*AL184*PROFILE!$G$9,COUNTRY_INFO!D184*AM184*PROFILE!$G$9,IF(AND(DISTRICT!Z184<>\"Unknown\",Z184<>\"Not required\"),COUNTRY_INFO!O184*DISTRICT!AN184,0))","v":74219.341489184648},{"$f":"MAX(COUNTRY_INFO!D184*AK184*PROFILE!$G$10,COUNTRY_INFO!D184*AL184*PROFILE!$G$10,IF(AND(DISTRICT!Z184<>\"Unknown\",Z184<>\"Not required\"),COUNTRY_INFO!O184*DISTRICT!AO184,0))","v":42008.065675275313},158817.31615217173,"Y",{"$f":"MAX('MDA2'!J184,'T1'!L184,'T2'!J184,T3_R1!K184,T3_R2!K184)","v":0},{"$f":"MAX('MDA1'!K184,'MDA2'!K184,'MDA3'!I184,'MDA3'!L184,'T1'!M184,'T2'!K184,T3_R1!L184,T3_R2!L184)","v":77184},{"$f":"MAX('MDA1'!L184,'MDA2'!L184,'MDA3'!J184,'MDA3'!M184,'T1'!N184,'T2'!L184,T3_R1!M184,T3_R2!M184)","v":0},77184,{"$f":"MAX('MDA2'!J184,T184)","v":0},{"$f":"MAX('MDA1'!K184,'MDA2'!K184,'MDA3'!I184,'MDA3'!L184,V184,AD184)","v":77184},{"$f":"MAX('MDA1'!L184,'MDA2'!L184,'MDA3'!J184,'MDA3'!M184,AF184)","v":0},77184,48.599234560824407]
[{"$f":"IF(COUNTRY_INFO!A185=0,\" \",COUNTRY_INFO!A185)","v":"Tanzania"},{"$f":"IF(COUNTRY_INFO!B185=0,\" \",COUNTRY_INFO!B185)","v":"Tanga"},{"$f":"IF(COUNTRY_INFO!C185=0,\" \",COUNTRY_INFO!C185)","v":"Handeni Town Council"},{"$f":"COUNTRY_INFO!L185","v":"Stopped"},null,null,{"$f":"MAX('MDA1'!M185,'MDA2'!M185)","v":0},{"$f":"IF(AND(COUNTRY_INFO!H185>0,COUNTRY_INFO!H185<4),IF(D185>MAX('MDA1'!M185,'MDA2'!M185),MAX('MDA1'!M185,'MDA2'!M185),D185),0)","v":0},{"$f":"IF(AND(COUNTRY_INFO!H185>0,COUNTRY_INFO!H185<4), IF(G185/D185*100<>0, IF(G185/D185*100>100,100,G185/D185*100), \"-\"),0)","v":0},{"$f":"COUNTRY_INFO!M185","v":0},null,null,{"$f":"MAX('MDA1'!M185,MAX('MDA3'!I185,'MDA3'!L185)+MAX('MDA3'!J185,'MDA3'!M185))","v":0},{"$f":"IF(AND(COUNTRY_INFO!I185>0,COUNTRY_INFO!I185<4),IF(J185>MAX('MDA1'!M185,MAX('MDA3'!I185,'MDA3'!L185)+MAX('MDA3'!J185,'MDA3'!M185)),MAX('MDA1'!M185,MAX('MDA3'!I185,'MDA3'!L185)+MAX('MDA3'!J185,'MDA3'!M185)),J185),0)","v":0},{"$f":"IF(AND(COUNTRY_INFO!I185>0,COUNTRY_INFO!I185<4), IF(M185/J185*100<>0, IF(M185/J185*100>100,100,M185/J185*100), \"-\"),0)","v":0},{"$f":"COUNTRY_INFO!N185","v":35237},null,null,{"$f":"SUM(MAX('MDA2'!J185, 'T1'!L185, MAX(T3_R1!K185, T3_R2!K185)), MAX('MDA1'!K185, 'MDA2'!K185, 'T1'!M185, MAX(T3_R1!L185, T3_R2!L185)), MAX('MDA1'!L185, 'MDA2'!L185, 'T1'!N185, MAX(T3_R1!M185, T3_R2!M185)))","v":20535},{"$f":"IF(AND(COUNTRY_INFO!J185>1,COUNTRY_INFO!J185<4),IF(COUNTRY_INFO!E185>MAX('MDA2'!J185,'T1'!L185,MAX(T3_R1!K185,T3_R2!K185)),MAX('MDA2'!J185,'T1'!L185,MAX(T3_R1!K185,T3_R2!K185)),COUNTRY_INFO!E185),0)","v":0},{"$f":"IF(AND(COUNTRY_INFO!J185>1,COUNTRY_INFO!J185<4), IF(T185/COUNTRY_INFO!E185*100<>0, IF(T185/COUNTRY_INFO!E185*100>100,100,T185/COUNTRY_INFO!E185*100), \"-\"),0)","v":"-"},{"$f":"IF(AND(COUNTRY_INFO!J185>1,COUNTRY_INFO!J185<4),IF(COUNTRY_INFO!F185>MAX('MDA1'!K185,'MDA2'!K185,'T1'!M185,MAX(T3_R1!L185,T3_R2!L185)),MAX('MDA1'!K185,'MDA2'!K185,'T1'!M185,MAX(T3_R1!L185,T3_R2!L185)),COUNTRY_INFO!F185),0)","v":20535},{"$f":"IF(AND(COUNTRY_INFO!J185>1,COUNTRY_INFO!J185<4), IF(V185/COUNTRY_INFO!F185*100<>0, IF(V185/COUNTRY_INFO!F185*100>100,100,V185/COUNTRY_INFO!F185*100), \"-\"),0)","v":89.027139512702675},20535,{"$f":"IF(AND(COUNTRY_INFO!J185>1,COUNTRY_INFO!J185<4), IF(S185/P185*100<>0, IF(X185/P185*100>100,100,X185/P185*100), \"-\"),0)","v":58.276811306297361},{"$f":"COUNTRY_INFO!O185","v":23354.730954799456},null,null,{"$f":"MAX('T1'!L185,'T2'!J185)+MAX('T1'!M185,'T2'!K185)+MAX('T1'!N185,'T2'!L185)","v":20535},{"$f":"IF(COUNTRY_INFO!K185=1,IF(COUNTRY_INFO!F185*0.33>MAX('T1'!M185,'T2'!K185),MAX('T1'!M185,'T2'!K185),COUNTRY_INFO!F185*0.33),IF(COUNTRY_INFO!K185=2,IF(COUNTRY_INFO!F185*0.5>MAX('T1'!M185,'T2'!K185),MAX('T1'!M185,'T2'!K185),COUNTRY_INFO!F185*0.5),IF(COUNTRY_INFO!K185=3,IF(COUNTRY_INFO!F185>MAX('T1'!M185,'T2'!K185),MAX('T1'!M185,'T2'!K185),COUNTRY_INFO!F185),0)))","v":11533},{"$f":"IF(AND(COUNTRY_INFO!K185>0,COUNTRY_INFO!K185<4),IF(Z185>0,IF(COUNTRY_INFO!K185=1, AD185/(COUNTRY_INFO!F185*0.33)*100, IF(COUNTRY_INFO!K185=2, AD185/(COUNTRY_INFO!F185*0.5)*100, IF(COUNTRY_INFO!K185=3, AD185/COUNTRY_INFO!F185*100))),\"-\"),0)","v":100},{"$f":"IF(COUNTRY_INFO!K185=2,IF(COUNTRY_INFO!G185*0.2>MAX('T1'!N185,'T2'!L185),MAX('T1'!N185,'T2'!L185),COUNTRY_INFO!G185*0.2),IF(COUNTRY_INFO!K185=3,IF(COUNTRY_INFO!G185>MAX('T1'!N185,'T2'!L185),MAX('T1'!N185,'T2'!L185),COUNTRY_INFO!G185),0))","v":0},{"$f":"IF(AND(COUNTRY_INFO!K185>0,COUNTRY_INFO!K185<4),IF(Z185>0,IF(COUNTRY_INFO!K185=1, 0, IF(COUNTRY_INFO!K185=2, AF185/(COUNTRY_INFO!G185*0.2)*100, IF(COUNTRY_INFO!K185=3, AF185/COUNTRY_INFO!G185*100))),\"-\"),0)","v":0},11533,{"$f":"IF(AND(COUNTRY_INFO!K185>0,COUNTRY_INFO!K185<4), IF(AC185/Z185*100<>0, IF(AH185/Z185*100>100,100,AH185/Z185*100), \"-\"),0)","v":49.381857672952293},null,{"$f":"IF(AND(D185<>0, D185<>\"Unknown\",D185<>\"Stopped\",D185<>\"Not required\"),D185/COUNTRY_INFO!D185, 0)","v":0},{"$f":"IF(AND(J185<>0,J185<>\"Unknown\",J185<>\"Stopped\",J185<>\"Not required\"),J185/COUNTRY_INFO!D185, 0)","v":0},{"$f":"IF(AND(P185<>0,P185<>\"Unknown\",P185<>\"Not required\"),P185/(COUNTRY_INFO!E185+COUNTRY_INFO!F185), 0)","v":1},{"$f":"IF(AND(Z185<>0,Z185<>\"Unknown\",Z185<>\"Not required\"),IF(COUNTRY_INFO!K185=1,1,IF(COUNTRY_INFO!K185=2,0.5*COUNTRY_INFO!F185/(0.5*COUNTRY_INFO!F185+0.2*COUNTRY_INFO!G185),IF(COUNTRY_INFO!K185=3,COUNTRY_INFO!F185/(COUNTRY_INFO!F185+COUNTRY_INFO!G185)))),0)","v":0.49381857672952295},{"$f":"IF(AND(Z185<>0,Z185<>\"Unknown\",Z185<>\"Not required\"),IF(COUNTRY_INFO!K185=1,0,IF(COUNTRY_INFO!K185=2,0.2*COUNTRY_INFO!G185/(0.5*COUNTRY_INFO!F185+0.2*COUNTRY_INFO!G185),IF(COUNTRY_INFO!K185=3,COUNTRY_INFO!G185/(COUNTRY_INFO!F185+COUNTRY_INFO!G185)))),0)","v":0.50618142327047699},{"$f":"MAX(COUNTRY_INFO!D185*AK185*PROFILE!$G$7,COUNTRY_INFO!D185*AL185*PROFILE!$G$7)","v":0},{"$f":"MAX(COUNTRY_INFO!D185*AK185*PROFILE!$G$8,COUNTRY_INFO!D185*AL185*PROFILE!$G$8,COUNTRY_INFO!D185*AM185*PROFILE!$G$8)","v":12170.589645064087},{"$f":"MAX(COUNTRY_INFO!D185*AK185*PROFILE!$G$9,COUNTRY_INFO!D185*AL185*PROFILE!$G$9,COUNTRY_INFO!D185*AM185*PROFILE!$G$9,IF(AND(DISTRICT!Z185<>\"Unknown\",Z185<>\"Not required\"),COUNTRY_INFO!O185*DISTRICT!AN185,0))","v":21209.088501512611},{"$f":"MAX(COUNTRY_INFO!D185*AK185*PROFILE!$G$10,COUNTRY_INFO!D185*AL185*PROFILE!$G$10,IF(AND(DISTRICT!Z185<>\"Unknown\",Z185<>\"Not required\"),COUNTRY_INFO!O185*DISTRICT!AO185,0))","v":11821.730954799454},45201.40910137615,"Y",{"$f":"MAX('MDA2'!J185,'T1'!L185,'T2'!J185,T3_R1!K185,T3_R2!K185)","v":0},{"$f":"MAX('MDA1'!K185,'MDA2'!K185,'MDA3'!I185,'MDA3'!L185,'T1'!M185,'T2'!K185,T3_R1!L185,T3_R2!L185)","v":20535},{"$f":"MAX('MDA1'!L185,'MDA2'!L185,'MDA3'!J185,'MDA3'!M185,'T1'!N185,'T2'!L185,T3_R1!M185,T3_R2!M185)","v":0},20535,{"$f":"MAX('MDA2'!J185,T185)","v":0},{"$f":"MAX('MDA1'!K185,'MDA2'!K185,'MDA3'!I185,'MDA3'!L185,V185,AD185)","v":20535},{"$f":"MAX('MDA1'!L185,'MDA2'!L185,'MDA3'!J185,'MDA3'!M185,AF185)","v":0},20535,45.429999657631946]
[{"$f":"IF(COUNTRY_INFO!A186=0,\" \",COUNTRY_INFO!A186)","v":"Tanzania"},{"$f":"IF(COUNTRY_INFO!B186=0,\" \",COUNTRY_INFO!B186)","v":"Tanga"},{"$f":"IF(COUNTRY_INFO!C186=0,\" \",COUNTRY_INFO!C186)","v":"Kilindi District Council"},{"$f":"COUNTRY_INFO!L186","v":"Stopped"},null,null,{"$f":"MAX('MDA1'!M186,'MDA2'!M186)","v":0},{"$f":"IF(AND(COUNTRY_INFO!H186>0,COUNTRY_INFO!H186<4),IF(D186>MAX('MDA1'!M186,'MDA2'!M186),MAX('MDA1'!M186,'MDA2'!M186),D186),0)","v":0},{"$f":"IF(AND(COUNTRY_INFO!H186>0,COUNTRY_INFO!H186<4), IF(G186/D186*100<>0, IF(G186/D186*100>100,100,G186/D186*100), \"-\"),0)","v":0},{"$f":"COUNTRY_INFO!M186","v":0},null,null,{"$f":"MAX('MDA1'!M186,MAX('MDA3'!I186,'MDA3'!L186)+MAX('MDA3'!J186,'MDA3'!M186))","v":0},{"$f":"IF(AND(COUNTRY_INFO!I186>0,COUNTRY_INFO!I186<4),IF(J186>MAX('MDA1'!M186,MAX('MDA3'!I186,'MDA3'!L186)+MAX('MDA3'!J186,'MDA3'!M186)),MAX('MDA1'!M186,MAX('MDA3'!I186,'MDA3'!L186)+MAX('MDA3'!J186,'MDA3'!M186)),J186),0)","v":0},{"$f":"IF(AND(COUNTRY_INFO!I186>0,COUNTRY_INFO!I186<4), IF(M186/J186*100<>0, IF(M186/J186*100>100,100,M186/J186*100), \"-\"),0)","v":0},{"$f":"COUNTRY_INFO!N186","v":107513},null,null,{"$f":"SUM(MAX('MDA2'!J186, 'T1'!L186, MAX(T3_R1!K186, T3_R2!K186)), MAX('MDA1'!K186, 'MDA2'!K186, 'T1'!M186, MAX(T3_R1!L186, T3_R2!L186)), MAX('MDA1'!L186, 'MDA2'!L186, 'T1'!N186, MAX(T3_R1!M186, T3_R2!M186)))","v":60680},{"$f":"IF(AND(COUNTRY_INFO!J186>1,COUNTRY_INFO!J186<4),IF(COUNTRY_INFO!E186>MAX('MDA2'!J186,'T1'!L186,MAX(T3_R1!K186,T3_R2!K186)),MAX('MDA2'!J186,'T1'!L186,MAX(T3_R1!K186,T3_R2!K186)),COUNTRY_INFO!E186),0)","v":0},{"$f":"IF(AND(COUNTRY_INFO!J186>1,COUNTRY_INFO!J186<4), IF(T186/COUNTRY_INFO!E186*100<>0, IF(T186/COUNTRY_INFO!E186*100>100,100,T186/COUNTRY_INFO!E186*100), \"-\"),0)","v":"-"},{"$f":"IF(AND(COUNTRY_INFO!J186>1,COUNTRY_INFO!J186<4),IF(COUNTRY_INFO!F186>MAX('MDA1'!K186,'MDA2'!K186,'T1'!M186,MAX(T3_R1!L186,T3_R2!L186)),MAX('MDA1'!K186,'MDA2'!K186,'T1'!M186,MAX(T3_R1!L186,T3_R2!L186)),COUNTRY_INFO!F186),0)","v":60680},{"$f":"IF(AND(COUNTRY_INFO!J186>1,COUNTRY_INFO!J186<4), IF(V186/COUNTRY_INFO!F186*100<>0, IF(V186/COUNTRY_INFO!F186*100>100,100,V186/COUNTRY_INFO!F186*100), \"-\"),0)","v":85.402240612509146},60680,{"$f":"IF(AND(COUNTRY_INFO!J186>1,COUNTRY_INFO!J186<4), IF(S186/P186*100<>0, IF(X186/P186*100>100,100,X186/P186*100), \"-\"),0)","v":56.439686363509537},{"$f":"COUNTRY_INFO!O186","v":70551.715743556066},null,null,{"$f":"MAX('T1'!L186,'T2'!J186)+MAX('T1'!M186,'T2'!K186)+MAX('T1'!N186,'T2'!L186)","v":60680},{"$f":"IF(COUNTRY_INFO!K186=1,IF(COUNTRY_INFO!F186*0.33>MAX('T1'!M186,'T2'!K186),MAX('T1'!M186,'T2'!K186),COUNTRY_INFO!F186*0.33),IF(COUNTRY_INFO!K186=2,IF(COUNTRY_INFO!F186*0.5>MAX('T1'!M186,'T2'!K186),MAX('T1'!M186,'T2'!K186),COUNTRY_INFO!F186*0.5),IF(COUNTRY_INFO!K186=3,IF(COUNTRY_INFO!F186>MAX('T1'!M186,'T2'!K186),MAX('T1'!M186,'T2'!K186),COUNTRY_INFO!F186),0)))","v":35526},{"$f":"IF(AND(COUNTRY_INFO!K186>0,COUNTRY_INFO!K186<4),IF(Z186>0,IF(COUNTRY_INFO!K186=1, AD186/(COUNTRY_INFO!F186*0.33)*100, IF(COUNTRY_INFO!K186=2, AD186/(COUNTRY_INFO!F186*0.5)*100, IF(COUNTRY_INFO!K186=3, AD186/COUNTRY_INFO!F186*100))),\"-\"),0)","v":100},{"$f":"IF(COUNTRY_INFO!K186=2,IF(COUNTRY_INFO!G186*0.2>MAX('T1'!N186,'T2'!L186),MAX('T1'!N186,'T2'!L186),COUNTRY_INFO!G186*0.2),IF(COUNTRY_INFO!K186=3,IF(COUNTRY_INFO!G186>MAX('T1'!N186,'T2'!L186),MAX('T1'!N186,'T2'!L186),COUNTRY_INFO!G186),0))","v":0},{"$f":"IF(AND(COUNTRY_INFO!K186>0,COUNTRY_INFO!K186<4),IF(Z186>0,IF(COUNTRY_INFO!K186=1, 0, IF(COUNTRY_INFO!K186=2, AF186/(COUNTRY_INFO!G186*0.2)*100, IF(COUNTRY_INFO!K186=3, AF186/COUNTRY_INFO!G186*100))),\"-\"),0)","v":0},35526,{"$f":"IF(AND(COUNTRY_INFO!K186>0,COUNTRY_INFO!K186<4), IF(AC186/Z186*100<>0, IF(AH186/Z186*100>100,100,AH186/Z186*100), \"-\"),0)","v":50.354551445823361},null,{"$f":"IF(AND(D186<>0, D186<>\"Unknown\",D186<>\"Stopped\",D186<>\"Not required\"),D186/COUNTRY_INFO!D186, 0)","v":0},{"$f":"IF(AND(J186<>0,J186<>\"Unknown\",J186<>\"Stopped\",J186<>\"Not required\"),J186/COUNTRY_INFO!D186, 0)","v":0},{"$f":"IF(AND(P186<>0,P186<>\"Unknown\",P186<>\"Not required\"),P186/(COUNTRY_INFO!E186+COUNTRY_INFO!F186), 0)","v":1},{"$f":"IF(AND(Z186<>0,Z186<>\"Unknown\",Z186<>\"Not required\"),IF(COUNTRY_INFO!K186=1,1,IF(COUNTRY_INFO!K186=2,0.5*COUNTRY_INFO!F186/(0.5*COUNTRY_INFO!F186+0.2*COUNTRY_INFO!G186),IF(COUNTRY_INFO!K186=3,COUNTRY_INFO!F186/(COUNTRY_INFO!F186+COUNTRY_INFO!G186)))),0)","v":0.50354551445823359},{"$f":"IF(AND(Z186<>0,Z186<>\"Unknown\",Z186<>\"Not required\"),IF(COUNTRY_INFO!K186=1,0,IF(COUNTRY_INFO!K186=2,0.2*COUNTRY_INFO!G186/(0.5*COUNTRY_INFO!F186+0.2*COUNTRY_INFO!G186),IF(COUNTRY_INFO!K186=3,COUNTRY_INFO!G186/(COUNTRY_INFO!F186+COUNTRY_INFO!G186)))),0)","v":0.49645448554176647},{"$f":"MAX(COUNTRY_INFO!D186*AK186*PROFILE!$G$7,COUNTRY_INFO!D186*AL186*PROFILE!$G$7)","v":0},{"$f":"MAX(COUNTRY_INFO!D186*AK186*PROFILE!$G$8,COUNTRY_INFO!D186*AL186*PROFILE!$G$8,COUNTRY_INFO!D186*AM186*PROFILE!$G$8)","v":36460.76419149791},{"$f":"MAX(COUNTRY_INFO!D186*AK186*PROFILE!$G$9,COUNTRY_INFO!D186*AL186*PROFILE!$G$9,COUNTRY_INFO!D186*AM186*PROFILE!$G$9,IF(AND(DISTRICT!Z186<>\"Unknown\",Z186<>\"Not required\"),COUNTRY_INFO!O186*DISTRICT!AN186,0))","v":63538.382044117388},{"$f":"MAX(COUNTRY_INFO!D186*AK186*PROFILE!$G$10,COUNTRY_INFO!D186*AL186*PROFILE!$G$10,IF(AND(DISTRICT!Z186<>\"Unknown\",Z186<>\"Not required\"),COUNTRY_INFO!O186*DISTRICT!AO186,0))","v":35025.715743556073},135024.86197917137,"Y",{"$f":"MAX('MDA2'!J186,'T1'!L186,'T2'!J186,T3_R1!K186,T3_R2!K186)","v":0},{"$f":"MAX('MDA1'!K186,'MDA2'!K186,'MDA3'!I186,'MDA3'!L186,'T1'!M186,'T2'!K186,T3_R1!L186,T3_R2!L186)","v":60680},{"$f":"MAX('MDA1'!L186,'MDA2'!L186,'MDA3'!J186,'MDA3'!M186,'T1'!N186,'T2'!L186,T3_R1!M186,T3_R2!M186)","v":0},60680,{"$f":"MAX('MDA2'!J186,T186)","v":0},{"$f":"MAX('MDA1'!K186,'MDA2'!K186,'MDA3'!I186,'MDA3'!L186,V186,AD186)","v":60680},{"$f":"MAX('MDA1'!L186,'MDA2'!L186,'MDA3'!J186,'MDA3'!M186,AF186)","v":0},60680,44.939871895118365]
[{"$f":"IF(COUNTRY_INFO!A187=0,\" \",COUNTRY_INFO!A187)","v":"Tanzania"},{"$f":"IF(COUNTRY_INFO!B187=0,\" \",COUNTRY_INFO!B187)","v":"Tanga"},{"$f":"IF(COUNTRY_INFO!C187=0,\" \",COUNTRY_INFO!C187)","v":"Korogwe District Council"},{"$f":"COUNTRY_INFO!L187","v":288851.80473283923},null,null,{"$f":"MAX('MDA1'!M187,'MDA2'!M187)","v":0},{"$f":"IF(AND(COUNTRY_INFO!H187>0,COUNTRY_INFO!H187<4),IF(D187>MAX('MDA1'!M187,'MDA2'!M187),MAX('MDA1'!M187,'MDA2'!M187),D187),0)","v":0},{"$f":"IF(AND(COUNTRY_INFO!H187>0,COUNTRY_INFO!H187<4), IF(G187/D187*100<>0, IF(G187/D187*100>100,100,G187/D187*100), \"-\"),0)","v":"-"},{"$f":"COUNTRY_INFO!M187","v":288851.80473283923},null,null,{"$f":"MAX('MDA1'!M187,MAX('MDA3'!I187,'MDA3'!L187)+MAX('MDA3'!J187,'MDA3'!M187))","v":227216},{"$f":"IF(AND(COUNTRY_INFO!I187>0,COUNTRY_INFO!I187<4),IF(J187>MAX('MDA1'!M187,MAX('MDA3'!I187,'MDA3'!L187)+MAX('MDA3'!J187,'MDA3'!M187)),MAX('MDA1'!M187,MAX('MDA3'!I187,'MDA3'!L187)+MAX('MDA3'!J187,'MDA3'!M187)),J187),0)","v":227216},{"$f":"IF(AND(COUNTRY_INFO!I187>0,COUNTRY_INFO!I187<4), IF(M187/J187*100<>0, IF(M187/J187*100>100,100,M187/J187*100), \"-\"),0)","v":78.661789982636051},{"$f":"COUNTRY_INFO!N187","v":101214},null,null,{"$f":"SUM(MAX('MDA2'!J187, 'T1'!L187, MAX(T3_R1!K187, T3_R2!K187)), MAX('MDA1'!K187, 'MDA2'!K187, 'T1'!M187, MAX(T3_R1!L187, T3_R2!L187)), MAX('MDA1'!L187, 'MDA2'!L187, 'T1'!N187, MAX(T3_R1!M187, T3_R2!M187)))","v":57376},{"$f":"IF(AND(COUNTRY_INFO!J187>1,COUNTRY_INFO!J187<4),IF(COUNTRY_INFO!E187>MAX('MDA2'!J187,'T1'!L187,MAX(T3_R1!K187,T3_R2!K187)),MAX('MDA2'!J187,'T1'!L187,MAX(T3_R1!K187,T3_R2!K187)),COUNTRY_INFO!E187),0)","v":0},{"$f":"IF(AND(COUNTRY_INFO!J187>1,COUNTRY_INFO!J187<4), IF(T187/COUNTRY_INFO!E187*100<>0, IF(T187/COUNTRY_INFO!E187*100>100,100,T187/COUNTRY_INFO!E187*100), \"-\"),0)","v":"-"},{"$f":"IF(AND(COUNTRY_INFO!J187>1,COUNTRY_INFO!J187<4),IF(COUNTRY_INFO!F187>MAX('MDA1'!K187,'MDA2'!K187,'T1'!M187,MAX(T3_R1!L187,T3_R2!L187)),MAX('MDA1'!K187,'MDA2'!K187,'T1'!M187,MAX(T3_R1!L187,T3_R2!L187)),COUNTRY_INFO!F187),0)","v":57376},{"$f":"IF(AND(COUNTRY_INFO!J187>1,COUNTRY_INFO!J187<4), IF(V187/COUNTRY_INFO!F187*100<>0, IF(V187/COUNTRY_INFO!F187*100>100,100,V187/COUNTRY_INFO!F187*100), \"-\"),0)","v":89.717287965974478},57376,{"$f":"IF(AND(COUNTRY_INFO!J187>1,COUNTRY_INFO!J187<4), IF(S187/P187*100<>0, IF(X187/P187*100>100,100,X187/P187*100), \"-\"),0)","v":56.687809986760726},{"$f":"COUNTRY_INFO!O187","v":69503.560946567857},null,null,{"$f":"MAX('T1'!L187,'T2'!J187)+MAX('T1'!M187,'T2'!K187)+MAX('T1'!N187,'T2'!L187)","v":57376},{"$f":"IF(COUNTRY_INFO!K187=1,IF(COUNTRY_INFO!F187*0.33>MAX('T1'!M187,'T2'!K187),MAX('T1'!M187,'T2'!K187),COUNTRY_INFO!F187*0.33),IF(COUNTRY_INFO!K187=2,IF(COUNTRY_INFO!F187*0.5>MAX('T1'!M187,'T2'!K187),MAX('T1'!M187,'T2'!K187),COUNTRY_INFO!F187*0.5),IF(COUNTRY_INFO!K187=3,IF(COUNTRY_INFO!F187>MAX('T1'!M187,'T2'!K187),MAX('T1'!M187,'T2'!K187),COUNTRY_INFO!F187),0)))","v":31976},{"$f":"IF(AND(COUNTRY_INFO!K187>0,COUNTRY_INFO!K187<4),IF(Z187>0,IF(COUNTRY_INFO!K187=1, AD187/(COUNTRY_INFO!F187*0.33)*100, IF(COUNTRY_INFO!K187=2, AD187/(COUNTRY_INFO!F187*0.5)*100, IF(COUNTRY_INFO!K187=3, AD187/COUNTRY_INFO!F187*100))),\"-\"),0)","v":100},{"$f":"IF(COUNTRY_INFO!K187=2,IF(COUNTRY_INFO!G187*0.2>MAX('T1'!N187,'T2'!L187),MAX('T1'!N187,'T2'!L187),COUNTRY_INFO!G187*0.2),IF(COUNTRY_INFO!K187=3,IF(COUNTRY_INFO!G187>MAX('T1'!N187,'T2'!L187),MAX('T1'!N187,'T2'!L187),COUNTRY_INFO!G187),0))","v":0},{"$f":"IF(AND(COUNTRY_INFO!K187>0,COUNTRY_INFO!K187<4),IF(Z187>0,IF(COUNTRY_INFO!K187=1, 0, IF(COUNTRY_INFO!K187=2, AF187/(COUNTRY_INFO!G187*0.2)*100, IF(COUNTRY_INFO!K187=3, AF187/COUNTRY_INFO!G187*100))),\"-\"),0)","v":0},31976,{"$f":"IF(AND(COUNTRY_INFO!K187>0,COUNTRY_INFO!K187<4), IF(AC187/Z187*100<>0, IF(AH187/Z187*100>100,100,AH187/Z187*100), \"-\"),0)","v":46.006275886471684},null,{"$f":"IF(AND(D187<>0, D187<>\"Unknown\",D187<>\"Stopped\",D187<>\"Not required\"),D187/COUNTRY_INFO!D187, 0)","v":1},{"$f":"IF(AND(J187<>0,J187<>\"Unknown\",J187<>\"Stopped\",J187<>\"Not required\"),J187/COUNTRY_INFO!D187, 0)","v":1},{"$f":"IF(AND(P187<>0,P187<>\"Unknown\",P187<>\"Not required\"),P187/(COUNTRY_INFO!E187+COUNTRY_INFO!F187), 0)","v":1},{"$f":"IF(AND(Z187<>0,Z187<>\"Unknown\",Z187<>\"Not required\"),IF(COUNTRY_INFO!K187=1,1,IF(COUNTRY_INFO!K187=2,0.5*COUNTRY_INFO!F187/(0.5*COUNTRY_INFO!F187+0.2*COUNTRY_INFO!G187),IF(COUNTRY_INFO!K187=3,COUNTRY_INFO!F187/(COUNTRY_INFO!F187+COUNTRY_INFO!G187)))),0)","v":0.46006275886471687},{"$f":"IF(AND(Z187<>0,Z187<>\"Unknown\",Z187<>\"Not required\"),IF(COUNTRY_INFO!K187=1,0,IF(COUNTRY_INFO!K187=2,0.2*COUNTRY_INFO!G187/(0.5*COUNTRY_INFO!F187+0.2*COUNTRY_INFO!G187),IF(COUNTRY_INFO!K187=3,COUNTRY_INFO!G187/(COUNTRY_INFO!F187+COUNTRY_INFO!G187)))),0)","v":0.53993724113528307},{"$f":"MAX(COUNTRY_INFO!D187*AK187*PROFILE!$G$7,COUNTRY_INFO!D187*AL187*PROFILE!$G$7)","v":5.2966639816039189E-3},{"$f":"MAX(COUNTRY_INFO!D187*AK187*PROFILE!$G$8,COUNTRY_INFO!D187*AL187*PROFILE!$G$8,COUNTRY_INFO!D187*AM187*PROFILE!$G$8)","v":37261.883359237414},{"$f":"MAX(COUNTRY_INFO!D187*AK187*PROFILE!$G$9,COUNTRY_INFO!D187*AL187*PROFILE!$G$9,COUNTRY_INFO!D187*AM187*PROFILE!$G$9,IF(AND(DISTRICT!Z187<>\"Unknown\",Z187<>\"Not required\"),COUNTRY_INFO!O187*DISTRICT!AN187,0))","v":64934.453050071992},{"$f":"MAX(COUNTRY_INFO!D187*AK187*PROFILE!$G$10,COUNTRY_INFO!D187*AL187*PROFILE!$G$10,IF(AND(DISTRICT!Z187<>\"Unknown\",Z187<>\"Not required\"),COUNTRY_INFO!O187*DISTRICT!AO187,0))","v":186655.46302686585},288851.80473283923,0,{"$f":"MAX('MDA2'!J187,'T1'!L187,'T2'!J187,T3_R1!K187,T3_R2!K187)","v":0},{"$f":"MAX('MDA1'!K187,'MDA2'!K187,'MDA3'!I187,'MDA3'!L187,'T1'!M187,'T2'!K187,T3_R1!L187,T3_R2!L187)","v":57376},{"$f":"MAX('MDA1'!L187,'MDA2'!L187,'MDA3'!J187,'MDA3'!M187,'T1'!N187,'T2'!L187,T3_R1!M187,T3_R2!M187)","v":183817.74400000001},241193.74400000001,{"$f":"MAX('MDA2'!J187,T187)","v":0},{"$f":"MAX('MDA1'!K187,'MDA2'!K187,'MDA3'!I187,'MDA3'!L187,V187,AD187)","v":57376},{"$f":"MAX('MDA1'!L187,'MDA2'!L187,'MDA3'!J187,'MDA3'!M187,AF187)","v":183817.74400000001},241193.74400000001,83.500861011784764]
[{"$f":"IF(COUNTRY_INFO!A188=0,\" \",COUNTRY_INFO!A188)","v":"Tanzania"},{"$f":"IF(COUNTRY_INFO!B188=0,\" \",COUNTRY_INFO!B188)","v":"Tanga"},{"$f":"IF(COUNTRY_INFO!C188=0,\" \",COUNTRY_INFO!C188)","v":"Korogwe Town Council"},{"$f":"COUNTRY_INFO!L188","v":81520.097430453388},null,null,{"$f":"MAX('MDA1'!M188,'MDA2'!M188)","v":0},{"$f":"IF(AND(COUNTRY_INFO!H188>0,COUNTRY_INFO!H188<4),IF(D188>MAX('MDA1'!M188,'MDA2'!M188),MAX('MDA1'!M188,'MDA2'!M188),D188),0)","v":0},{"$f":"IF(AND(COUNTRY_INFO!H188>0,COUNTRY_INFO!H188<4), IF(G188/D188*100<>0, IF(G188/D188*100>100,100,G188/D188*100), \"-\"),0)","v":"-"},{"$f":"COUNTRY_INFO!M188","v":0},null,null,{"$f":"MAX('MDA1'!M188,MAX('MDA3'!I188,'MDA3'!L188)+MAX('MDA3'!J188,'MDA3'!M188))","v":0},{"$f":"IF(AND(COUNTRY_INFO!I188>0,COUNTRY_INFO!I188<4),IF(J188>MAX('MDA1'!M188,MAX('MDA3'!I188,'MDA3'!L188)+MAX('MDA3'!J188,'MDA3'!M188)),MAX('MDA1'!M188,MAX('MDA3'!I188,'MDA3'!L188)+MAX('MDA3'!J188,'MDA3'!M188)),J188),0)","v":0},{"$f":"IF(AND(COUNTRY_INFO!I188>0,COUNTRY_INFO!I188<4), IF(M188/J188*100<>0, IF(M188/J188*100>100,100,M188/J188*100), \"-\"),0)","v":0},{"$f":"COUNTRY_INFO!N188","v":28263},null,null,{"$f":"SUM(MAX('MDA2'!J188, 'T1'!L188, MAX(T3_R1!K188, T3_R2!K188)), MAX('MDA1'!K188, 'MDA2'!K188, 'T1'!M188, MAX(T3_R1!L188, T3_R2!L188)), MAX('MDA1'!L188, 'MDA2'!L188, 'T1'!N188, MAX(T3_R1!M188, T3_R2!M188)))","v":16045},{"$f":"IF(AND(COUNTRY_INFO!J188>1,COUNTRY_INFO!J188<4),IF(COUNTRY_INFO!E188>MAX('MDA2'!J188,'T1'!L188,MAX(T3_R1!K188,T3_R2!K188)),MAX('MDA2'!J188,'T1'!L188,MAX(T3_R1!K188,T3_R2!K188)),COUNTRY_INFO!E188),0)","v":0},{"$f":"IF(AND(COUNTRY_INFO!J188>1,COUNTRY_INFO!J188<4), IF(T188/COUNTRY_INFO!E188*100<>0, IF(T188/COUNTRY_INFO!E188*100>100,100,T188/COUNTRY_INFO!E188*100), \"-\"),0)","v":"-"},{"$f":"IF(AND(COUNTRY_INFO!J188>1,COUNTRY_INFO!J188<4),IF(COUNTRY_INFO!F188>MAX('MDA1'!K188,'MDA2'!K188,'T1'!M188,MAX(T3_R1!L188,T3_R2!L188)),MAX('MDA1'!K188,'MDA2'!K188,'T1'!M188,MAX(T3_R1!L188,T3_R2!L188)),COUNTRY_INFO!F188),0)","v":16045},{"$f":"IF(AND(COUNTRY_INFO!J188>1,COUNTRY_INFO!J188<4), IF(V188/COUNTRY_INFO!F188*100<>0, IF(V188/COUNTRY_INFO!F188*100>100,100,V188/COUNTRY_INFO!F188*100), \"-\"),0)","v":90.409646700850843},16045,{"$f":"IF(AND(COUNTRY_INFO!J188>1,COUNTRY_INFO!J188<4), IF(S188/P188*100<>0, IF(X188/P188*100>100,100,X188/P188*100), \"-\"),0)","v":56.770335774687751},{"$f":"COUNTRY_INFO!O188","v":19524.919486090679},null,null,{"$f":"MAX('T1'!L188,'T2'!J188)+MAX('T1'!M188,'T2'!K188)+MAX('T1'!N188,'T2'!L188)","v":16045},{"$f":"IF(COUNTRY_INFO!K188=1,IF(COUNTRY_INFO!F188*0.33>MAX('T1'!M188,'T2'!K188),MAX('T1'!M188,'T2'!K188),COUNTRY_INFO!F188*0.33),IF(COUNTRY_INFO!K188=2,IF(COUNTRY_INFO!F188*0.5>MAX('T1'!M188,'T2'!K188),MAX('T1'!M188,'T2'!K188),COUNTRY_INFO!F188*0.5),IF(COUNTRY_INFO!K188=3,IF(COUNTRY_INFO!F188>MAX('T1'!M188,'T2'!K188),MAX('T1'!M188,'T2'!K188),COUNTRY_INFO!F188),0)))","v":8873.5},{"$f":"IF(AND(COUNTRY_INFO!K188>0,COUNTRY_INFO!K188<4),IF(Z188>0,IF(COUNTRY_INFO!K188=1, AD188/(COUNTRY_INFO!F188*0.33)*100, IF(COUNTRY_INFO!K188=2, AD188/(COUNTRY_INFO!F188*0.5)*100, IF(COUNTRY_INFO!K188=3, AD188/COUNTRY_INFO!F188*100))),\"-\"),0)","v":100},{"$f":"IF(COUNTRY_INFO!K188=2,IF(COUNTRY_INFO!G188*0.2>MAX('T1'!N188,'T2'!L188),MAX('T1'!N188,'T2'!L188),COUNTRY_INFO!G188*0.2),IF(COUNTRY_INFO!K188=3,IF(COUNTRY_INFO!G188>MAX('T1'!N188,'T2'!L188),MAX('T1'!N188,'T2'!L188),COUNTRY_INFO!G188),0))","v":0},{"$f":"IF(AND(COUNTRY_INFO!K188>0,COUNTRY_INFO!K188<4),IF(Z188>0,IF(COUNTRY_INFO!K188=1, 0, IF(COUNTRY_INFO!K188=2, AF188/(COUNTRY_INFO!G188*0.2)*100, IF(COUNTRY_INFO!K188=3, AF188/COUNTRY_INFO!G188*100))),\"-\"),0)","v":0},8873.5,{"$f":"IF(AND(COUNTRY_INFO!K188>0,COUNTRY_INFO!K188<4), IF(AC188/Z188*100<>0, IF(AH188/Z188*100>100,100,AH188/Z188*100), \"-\"),0)","v":45.447050403057368},null,{"$f":"IF(AND(D188<>0, D188<>\"Unknown\",D188<>\"Stopped\",D188<>\"Not required\"),D188/COUNTRY_INFO!D188, 0)","v":1},{"$f":"IF(AND(J188<>0,J188<>\"Unknown\",J188<>\"Stopped\",J188<>\"Not required\"),J188/COUNTRY_INFO!D188, 0)","v":0},{"$f":"IF(AND(P188<>0,P188<>\"Unknown\",P188<>\"Not required\"),P188/(COUNTRY_INFO!E188+COUNTRY_INFO!F188), 0)","v":1},{"$f":"IF(AND(Z188<>0,Z188<>\"Unknown\",Z188<>\"Not required\"),IF(COUNTRY_INFO!K188=1,1,IF(COUNTRY_INFO!K188=2,0.5*COUNTRY_INFO!F188/(0.5*COUNTRY_INFO!F188+0.2*COUNTRY_INFO!G188),IF(COUNTRY_INFO!K188=3,COUNTRY_INFO!F188/(COUNTRY_INFO!F188+COUNTRY_INFO!G188)))),0)","v":0.45447050403057365},{"$f":"IF(AND(Z188<>0,Z188<>\"Unknown\",Z188<>\"Not required\"),IF(COUNTRY_INFO!K188=1,0,IF(COUNTRY_INFO!K188=2,0.2*COUNTRY_INFO!G188/(0.5*COUNTRY_INFO!F188+0.2*COUNTRY_INFO!G188),IF(COUNTRY_INFO!K188=3,COUNTRY_INFO!G188/(COUNTRY_INFO!F188+COUNTRY_INFO!G188)))),0)","v":0.54552949596942635},{"$f":"MAX(COUNTRY_INFO!D188*AK188*PROFILE!$G$7,COUNTRY_INFO!D188*AL188*PROFILE!$G$7)","v":1.4948307636024111E-3},{"$f":"MAX(COUNTRY_INFO!D188*AK188*PROFILE!$G$8,COUNTRY_INFO!D188*AL188*PROFILE!$G$8,COUNTRY_INFO!D188*AM188*PROFILE!$G$8)","v":10516.092723383574},{"$f":"MAX(COUNTRY_INFO!D188*AK188*PROFILE!$G$9,COUNTRY_INFO!D188*AL188*PROFILE!$G$9,COUNTRY_INFO!D188*AM188*PROFILE!$G$9,IF(AND(DISTRICT!Z188<>\"Unknown\",Z188<>\"Not required\"),COUNTRY_INFO!O188*DISTRICT!AN188,0))","v":18325.878019460622},{"$f":"MAX(COUNTRY_INFO!D188*AK188*PROFILE!$G$10,COUNTRY_INFO!D188*AL188*PROFILE!$G$10,IF(AND(DISTRICT!Z188<>\"Unknown\",Z188<>\"Not required\"),COUNTRY_INFO!O188*DISTRICT!AO188,0))","v":52678.125192778425},81520.097430453388,0,{"$f":"MAX('MDA2'!J188,'T1'!L188,'T2'!J188,T3_R1!K188,T3_R2!K188)","v":0},{"$f":"MAX('MDA1'!K188,'MDA2'!K188,'MDA3'!I188,'MDA3'!L188,'T1'!M188,'T2'!K188,T3_R1!L188,T3_R2!L188)","v":16045},{"$f":"MAX('MDA1'!L188,'MDA2'!L188,'MDA3'!J188,'MDA3'!M188,'T1'!N188,'T2'!L188,T3_R1!M188,T3_R2!M188)","v":0},16045,{"$f":"MAX('MDA2'!J188,T188)","v":0},{"$f":"MAX('MDA1'!K188,'MDA2'!K188,'MDA3'!I188,'MDA3'!L188,V188,AD188)","v":16045},{"$f":"MAX('MDA1'!L188,'MDA2'!L188,'MDA3'!J188,'MDA3'!M188,AF188)","v":0},16045,19.68226303174913]
[{"$f":"IF(COUNTRY_INFO!A189=0,\" \",COUNTRY_INFO!A189)","v":"Tanzania"},{"$f":"IF(COUNTRY_INFO!B189=0,\" \",COUNTRY_INFO!B189)","v":"Tanga"},{"$f":"IF(COUNTRY_INFO!C189=0,\" \",COUNTRY_INFO!C189)","v":"Lushoto District Council"},{"$f":"COUNTRY_INFO!L189","v":"Stopped"},null,null,{"$f":"MAX('MDA1'!M189,'MDA2'!M189)","v":0},{"$f":"IF(AND(COUNTRY_INFO!H189>0,COUNTRY_INFO!H189<4),IF(D189>MAX('MDA1'!M189,'MDA2'!M189),MAX('MDA1'!M189,'MDA2'!M189),D189),0)","v":0},{"$f":"IF(AND(COUNTRY_INFO!H189>0,COUNTRY_INFO!H189<4), IF(G189/D189*100<>0, IF(G189/D189*100>100,100,G189/D189*100), \"-\"),0)","v":0},{"$f":"COUNTRY_INFO!M189","v":396735.62036799663},null,null,{"$f":"MAX('MDA1'!M189,MAX('MDA3'!I189,'MDA3'!L189)+MAX('MDA3'!J189,'MDA3'!M189))","v":346000},{"$f":"IF(AND(COUNTRY_INFO!I189>0,COUNTRY_INFO!I189<4),IF(J189>MAX('MDA1'!M189,MAX('MDA3'!I189,'MDA3'!L189)+MAX('MDA3'!J189,'MDA3'!M189)),MAX('MDA1'!M189,MAX('MDA3'!I189,'MDA3'!L189)+MAX('MDA3'!J189,'MDA3'!M189)),J189),0)","v":346000},{"$f":"IF(AND(COUNTRY_INFO!I189>0,COUNTRY_INFO!I189<4), IF(M189/J189*100<>0, IF(M189/J189*100>100,100,M189/J189*100), \"-\"),0)","v":87.211730491722363},{"$f":"COUNTRY_INFO!N189","v":145241},null,null,{"$f":"SUM(MAX('MDA2'!J189, 'T1'!L189, MAX(T3_R1!K189, T3_R2!K189)), MAX('MDA1'!K189, 'MDA2'!K189, 'T1'!M189, MAX(T3_R1!L189, T3_R2!L189)), MAX('MDA1'!L189, 'MDA2'!L189, 'T1'!N189, MAX(T3_R1!M189, T3_R2!M189)))","v":92062},{"$f":"IF(AND(COUNTRY_INFO!J189>1,COUNTRY_INFO!J189<4),IF(COUNTRY_INFO!E189>MAX('MDA2'!J189,'T1'!L189,MAX(T3_R1!K189,T3_R2!K189)),MAX('MDA2'!J189,'T1'!L189,MAX(T3_R1!K189,T3_R2!K189)),COUNTRY_INFO!E189),0)","v":0},{"$f":"IF(AND(COUNTRY_INFO!J189>1,COUNTRY_INFO!J189<4), IF(T189/COUNTRY_INFO!E189*100<>0, IF(T189/COUNTRY_INFO!E189*100>100,100,T189/COUNTRY_INFO!E189*100), \"-\"),0)","v":"-"},{"$f":"IF(AND(COUNTRY_INFO!J189>1,COUNTRY_INFO!J189<4),IF(COUNTRY_INFO!F189>MAX('MDA1'!K189,'MDA2'!K189,'T1'!M189,MAX(T3_R1!L189,T3_R2!L189)),MAX('MDA1'!K189,'MDA2'!K189,'T1'!M189,MAX(T3_R1!L189,T3_R2!L189)),COUNTRY_INFO!F189),0)","v":92062},{"$f":"IF(AND(COUNTRY_INFO!J189>1,COUNTRY_INFO!J189<4), IF(V189/COUNTRY_INFO!F189*100<>0, IF(V189/COUNTRY_INFO!F189*100>100,100,V189/COUNTRY_INFO!F189*100), \"-\"),0)","v":97.873742850460332},92062,{"$f":"IF(AND(COUNTRY_INFO!J189>1,COUNTRY_INFO!J189<4), IF(S189/P189*100<>0, IF(X189/P189*100>100,100,X189/P189*100), \"-\"),0)","v":63.385683106010013},{"$f":"COUNTRY_INFO!O189","v":97329.924073599337},null,null,{"$f":"MAX('T1'!L189,'T2'!J189)+MAX('T1'!M189,'T2'!K189)+MAX('T1'!N189,'T2'!L189)","v":92062},{"$f":"IF(COUNTRY_INFO!K189=1,IF(COUNTRY_INFO!F189*0.33>MAX('T1'!M189,'T2'!K189),MAX('T1'!M189,'T2'!K189),COUNTRY_INFO!F189*0.33),IF(COUNTRY_INFO!K189=2,IF(COUNTRY_INFO!F189*0.5>MAX('T1'!M189,'T2'!K189),MAX('T1'!M189,'T2'!K189),COUNTRY_INFO!F189*0.5),IF(COUNTRY_INFO!K189=3,IF(COUNTRY_INFO!F189>MAX('T1'!M189,'T2'!K189),MAX('T1'!M189,'T2'!K189),COUNTRY_INFO!F189),0)))","v":47031},{"$f":"IF(AND(COUNTRY_INFO!K189>0,COUNTRY_INFO!K189<4),IF(Z189>0,IF(COUNTRY_INFO!K189=1, AD189/(COUNTRY_INFO!F189*0.33)*100, IF(COUNTRY_INFO!K189=2, AD189/(COUNTRY_INFO!F189*0.5)*100, IF(COUNTRY_INFO!K189=3, AD189/COUNTRY_INFO!F189*100))),\"-\"),0)","v":100},{"$f":"IF(COUNTRY_INFO!K189=2,IF(COUNTRY_INFO!G189*0.2>MAX('T1'!N189,'T2'!L189),MAX('T1'!N189,'T2'!L189),COUNTRY_INFO!G189*0.2),IF(COUNTRY_INFO!K189=3,IF(COUNTRY_INFO!G189>MAX('T1'!N189,'T2'!L189),MAX('T1'!N189,'T2'!L189),COUNTRY_INFO!G189),0))","v":0},{"$f":"IF(AND(COUNTRY_INFO!K189>0,COUNTRY_INFO!K189<4),IF(Z189>0,IF(COUNTRY_INFO!K189=1, 0, IF(COUNTRY_INFO!K189=2, AF189/(COUNTRY_INFO!G189*0.2)*100, IF(COUNTRY_INFO!K189=3, AF189/COUNTRY_INFO!G189*100))),\"-\"),0)","v":0},47031,{"$f":"IF(AND(COUNTRY_INFO!K189>0,COUNTRY_INFO!K189<4), IF(AC189/Z189*100<>0, IF(AH189/Z189*100>100,100,AH189/Z189*100), \"-\"),0)","v":48.321213077733326},null,{"$f":"IF(AND(D189<>0, D189<>\"Unknown\",D189<>\"Stopped\",D189<>\"Not required\"),D189/COUNTRY_INFO!D189, 0)","v":0},{"$f":"IF(AND(J189<>0,J189<>\"Unknown\",J189<>\"Stopped\",J189<>\"Not required\"),J189/COUNTRY_INFO!D189, 0)","v":1},{"$f":"IF(AND(P189<>0,P189<>\"Unknown\",P189<>\"Not required\"),P189/(COUNTRY_INFO!E189+COUNTRY_INFO!F189), 0)","v":1},{"$f":"IF(AND(Z189<>0,Z189<>\"Unknown\",Z189<>\"Not required\"),IF(COUNTRY_INFO!K189=1,1,IF(COUNTRY_INFO!K189=2,0.5*COUNTRY_INFO!F189/(0.5*COUNTRY_INFO!F189+0.2*COUNTRY_INFO!G189),IF(COUNTRY_INFO!K189=3,COUNTRY_INFO!F189/(COUNTRY_INFO!F189+COUNTRY_INFO!G189)))),0)","v":0.48321213077733327},{"$f":"IF(AND(Z189<>0,Z189<>\"Unknown\",Z189<>\"Not required\"),IF(COUNTRY_INFO!K189=1,0,IF(COUNTRY_INFO!K189=2,0.2*COUNTRY_INFO!G189/(0.5*COUNTRY_INFO!F189+0.2*COUNTRY_INFO!G189),IF(COUNTRY_INFO!K189=3,COUNTRY_INFO!G189/(COUNTRY_INFO!F189+COUNTRY_INFO!G189)))),0)","v":0.51678786922266662},{"$f":"MAX(COUNTRY_INFO!D189*AK189*PROFILE!$G$7,COUNTRY_INFO!D189*AL189*PROFILE!$G$7)","v":7.2749251906735644E-3},{"$f":"MAX(COUNTRY_INFO!D189*AK189*PROFILE!$G$8,COUNTRY_INFO!D189*AL189*PROFILE!$G$8,COUNTRY_INFO!D189*AM189*PROFILE!$G$8)","v":51178.895781108164},{"$f":"MAX(COUNTRY_INFO!D189*AK189*PROFILE!$G$9,COUNTRY_INFO!D189*AL189*PROFILE!$G$9,COUNTRY_INFO!D189*AM189*PROFILE!$G$9,IF(AND(DISTRICT!Z189<>\"Unknown\",Z189<>\"Not required\"),COUNTRY_INFO!O189*DISTRICT!AN189,0))","v":89186.946704051632},{"$f":"MAX(COUNTRY_INFO!D189*AK189*PROFILE!$G$10,COUNTRY_INFO!D189*AL189*PROFILE!$G$10,IF(AND(DISTRICT!Z189<>\"Unknown\",Z189<>\"Not required\"),COUNTRY_INFO!O189*DISTRICT!AO189,0))","v":256369.77060791163},396735.62036799663,"Y",{"$f":"MAX('MDA2'!J189,'T1'!L189,'T2'!J189,T3_R1!K189,T3_R2!K189)","v":0},{"$f":"MAX('MDA1'!K189,'MDA2'!K189,'MDA3'!I189,'MDA3'!L189,'T1'!M189,'T2'!K189,T3_R1!L189,T3_R2!L189)","v":92062},{"$f":"MAX('MDA1'!L189,'MDA2'!L189,'MDA3'!J189,'MDA3'!M189,'T1'!N189,'T2'!L189,T3_R1!M189,T3_R2!M189)","v":279914},371976,{"$f":"MAX('MDA2'!J189,T189)","v":0},{"$f":"MAX('MDA1'!K189,'MDA2'!K189,'MDA3'!I189,'MDA3'!L189,V189,AD189)","v":92062},{"$f":"MAX('MDA1'!L189,'MDA2'!L189,'MDA3'!J189,'MDA3'!M189,AF189)","v":279914},371976,93.759163761239648]
[{"$f":"IF(COUNTRY_INFO!A190=0,\" \",COUNTRY_INFO!A190)","v":"Tanzania"},{"$f":"IF(COUNTRY_INFO!B190=0,\" \",COUNTRY_INFO!B190)","v":"Tanga"},{"$f":"IF(COUNTRY_INFO!C190=0,\" \",COUNTRY_INFO!C190)","v":"Mkinga District Council"},{"$f":"COUNTRY_INFO!L190","v":"Stopped"},null,null,{"$f":"MAX('MDA1'!M190,'MDA2'!M190)","v":0},{"$f":"IF(AND(COUNTRY_INFO!H190>0,COUNTRY_INFO!H190<4),IF(D190>MAX('MDA1'!M190,'MDA2'!M190),MAX('MDA1'!M190,'MDA2'!M190),D190),0)","v":0},{"$f":"IF(AND(COUNTRY_INFO!H190>0,COUNTRY_INFO!H190<4), IF(G190/D190*100<>0, IF(G190/D190*100>100,100,G190/D190*100), \"-\"),0)","v":0},{"$f":"COUNTRY_INFO!M190","v":140901.09189452321},null,null,{"$f":"MAX('MDA1'!M190,MAX('MDA3'!I190,'MDA3'!L190)+MAX('MDA3'!J190,'MDA3'!M190))","v":114566},{"$f":"IF(AND(COUNTRY_INFO!I190>0,COUNTRY_INFO!I190<4),IF(J190>MAX('MDA1'!M190,MAX('MDA3'!I190,'MDA3'!L190)+MAX('MDA3'!J190,'MDA3'!M190)),MAX('MDA1'!M190,MAX('MDA3'!I190,'MDA3'!L190)+MAX('MDA3'!J190,'MDA3'!M190)),J190),0)","v":114566},{"$f":"IF(AND(COUNTRY_INFO!I190>0,COUNTRY_INFO!I190<4), IF(M190/J190*100<>0, IF(M190/J190*100>100,100,M190/J190*100), \"-\"),0)","v":81.309518939542841},{"$f":"COUNTRY_INFO!N190","v":52230},null,null,{"$f":"SUM(MAX('MDA2'!J190, 'T1'!L190, MAX(T3_R1!K190, T3_R2!K190)), MAX('MDA1'!K190, 'MDA2'!K190, 'T1'!M190, MAX(T3_R1!L190, T3_R2!L190)), MAX('MDA1'!L190, 'MDA2'!L190, 'T1'!N190, MAX(T3_R1!M190, T3_R2!M190)))","v":33179},{"$f":"IF(AND(COUNTRY_INFO!J190>1,COUNTRY_INFO!J190<4),IF(COUNTRY_INFO!E190>MAX('MDA2'!J190,'T1'!L190,MAX(T3_R1!K190,T3_R2!K190)),MAX('MDA2'!J190,'T1'!L190,MAX(T3_R1!K190,T3_R2!K190)),COUNTRY_INFO!E190),0)","v":0},{"$f":"IF(AND(COUNTRY_INFO!J190>1,COUNTRY_INFO!J190<4), IF(T190/COUNTRY_INFO!E190*100<>0, IF(T190/COUNTRY_INFO!E190*100>100,100,T190/COUNTRY_INFO!E190*100), \"-\"),0)","v":"-"},{"$f":"IF(AND(COUNTRY_INFO!J190>1,COUNTRY_INFO!J190<4),IF(COUNTRY_INFO!F190>MAX('MDA1'!K190,'MDA2'!K190,'T1'!M190,MAX(T3_R1!L190,T3_R2!L190)),MAX('MDA1'!K190,'MDA2'!K190,'T1'!M190,MAX(T3_R1!L190,T3_R2!L190)),COUNTRY_INFO!F190),0)","v":33179},{"$f":"IF(AND(COUNTRY_INFO!J190>1,COUNTRY_INFO!J190<4), IF(V190/COUNTRY_INFO!F190*100<>0, IF(V190/COUNTRY_INFO!F190*100>100,100,V190/COUNTRY_INFO!F190*100), \"-\"),0)","v":97.430551477065848},33179,{"$f":"IF(AND(COUNTRY_INFO!J190>1,COUNTRY_INFO!J190<4), IF(S190/P190*100<>0, IF(X190/P190*100>100,100,X190/P190*100), \"-\"),0)","v":63.524794179590273},{"$f":"COUNTRY_INFO!O190","v":34761.218378904639},null,null,{"$f":"MAX('T1'!L190,'T2'!J190)+MAX('T1'!M190,'T2'!K190)+MAX('T1'!N190,'T2'!L190)","v":33179},{"$f":"IF(COUNTRY_INFO!K190=1,IF(COUNTRY_INFO!F190*0.33>MAX('T1'!M190,'T2'!K190),MAX('T1'!M190,'T2'!K190),COUNTRY_INFO!F190*0.33),IF(COUNTRY_INFO!K190=2,IF(COUNTRY_INFO!F190*0.5>MAX('T1'!M190,'T2'!K190),MAX('T1'!M190,'T2'!K190),COUNTRY_INFO!F190*0.5),IF(COUNTRY_INFO!K190=3,IF(COUNTRY_INFO!F190>MAX('T1'!M190,'T2'!K190),MAX('T1'!M190,'T2'!K190),COUNTRY_INFO!F190),0)))","v":17027},{"$f":"IF(AND(COUNTRY_INFO!K190>0,COUNTRY_INFO!K190<4),IF(Z190>0,IF(COUNTRY_INFO!K190=1, AD190/(COUNTRY_INFO!F190*0.33)*100, IF(COUNTRY_INFO!K190=2, AD190/(COUNTRY_INFO!F190*0.5)*100, IF(COUNTRY_INFO!K190=3, AD190/COUNTRY_INFO!F190*100))),\"-\"),0)","v":100},{"$f":"IF(COUNTRY_INFO!K190=2,IF(COUNTRY_INFO!G190*0.2>MAX('T1'!N190,'T2'!L190),MAX('T1'!N190,'T2'!L190),COUNTRY_INFO!G190*0.2),IF(COUNTRY_INFO!K190=3,IF(COUNTRY_INFO!G190>MAX('T1'!N190,'T2'!L190),MAX('T1'!N190,'T2'!L190),COUNTRY_INFO!G190),0))","v":0},{"$f":"IF(AND(COUNTRY_INFO!K190>0,COUNTRY_INFO!K190<4),IF(Z190>0,IF(COUNTRY_INFO!K190=1, 0, IF(COUNTRY_INFO!K190=2, AF190/(COUNTRY_INFO!G190*0.2)*100, IF(COUNTRY_INFO!K190=3, AF190/COUNTRY_INFO!G190*100))),\"-\"),0)","v":0},17027,{"$f":"IF(AND(COUNTRY_INFO!K190>0,COUNTRY_INFO!K190<4), IF(AC190/Z190*100<>0, IF(AH190/Z190*100>100,100,AH190/Z190*100), \"-\"),0)","v":48.982747999227463},null,{"$f":"IF(AND(D190<>0, D190<>\"Unknown\",D190<>\"Stopped\",D190<>\"Not required\"),D190/COUNTRY_INFO!D190, 0)","v":0},{"$f":"IF(AND(J190<>0,J190<>\"Unknown\",J190<>\"Stopped\",J190<>\"Not required\"),J190/COUNTRY_INFO!D190, 0)","v":1},{"$f":"IF(AND(P190<>0,P190<>\"Unknown\",P190<>\"Not required\"),P190/(COUNTRY_INFO!E190+COUNTRY_INFO!F190), 0)","v":1},{"$f":"IF(AND(Z190<>0,Z190<>\"Unknown\",Z190<>\"Not required\"),IF(COUNTRY_INFO!K190=1,1,IF(COUNTRY_INFO!K190=2,0.5*COUNTRY_INFO!F190/(0.5*COUNTRY_INFO!F190+0.2*COUNTRY_INFO!G190),IF(COUNTRY_INFO!K190=3,COUNTRY_INFO!F190/(COUNTRY_INFO!F190+COUNTRY_INFO!G190)))),0)","v":0.48982747999227461},{"$f":"IF(AND(Z190<>0,Z190<>\"Unknown\",Z190<>\"Not required\"),IF(COUNTRY_INFO!K190=1,0,IF(COUNTRY_INFO!K190=2,0.2*COUNTRY_INFO!G190/(0.5*COUNTRY_INFO!F190+0.2*COUNTRY_INFO!G190),IF(COUNTRY_INFO!K190=3,COUNTRY_INFO!G190/(COUNTRY_INFO!F190+COUNTRY_INFO!G190)))),0)","v":0.51017252000772551},{"$f":"MAX(COUNTRY_INFO!D190*AK190*PROFILE!$G$7,COUNTRY_INFO!D190*AL190*PROFILE!$G$7)","v":2.583697682265297E-3},{"$f":"MAX(COUNTRY_INFO!D190*AK190*PROFILE!$G$8,COUNTRY_INFO!D190*AL190*PROFILE!$G$8,COUNTRY_INFO!D190*AM190*PROFILE!$G$8)","v":18176.241122048363},{"$f":"MAX(COUNTRY_INFO!D190*AK190*PROFILE!$G$9,COUNTRY_INFO!D190*AL190*PROFILE!$G$9,COUNTRY_INFO!D190*AM190*PROFILE!$G$9,IF(AND(DISTRICT!Z190<>\"Unknown\",Z190<>\"Not required\"),COUNTRY_INFO!O190*DISTRICT!AN190,0))","v":31674.842207723341},{"$f":"MAX(COUNTRY_INFO!D190*AK190*PROFILE!$G$10,COUNTRY_INFO!D190*AL190*PROFILE!$G$10,IF(AND(DISTRICT!Z190<>\"Unknown\",Z190<>\"Not required\"),COUNTRY_INFO!O190*DISTRICT!AO190,0))","v":91050.005981053822},140901.09189452321,"Y",{"$f":"MAX('MDA2'!J190,'T1'!L190,'T2'!J190,T3_R1!K190,T3_R2!K190)","v":0},{"$f":"MAX('MDA1'!K190,'MDA2'!K190,'MDA3'!I190,'MDA3'!L190,'T1'!M190,'T2'!K190,T3_R1!L190,T3_R2!L190)","v":33179},{"$f":"MAX('MDA1'!L190,'MDA2'!L190,'MDA3'!J190,'MDA3'!M190,'T1'!N190,'T2'!L190,T3_R1!M190,T3_R2!M190)","v":92683.894},125862.894,{"$f":"MAX('MDA2'!J190,T190)","v":0},{"$f":"MAX('MDA1'!K190,'MDA2'!K190,'MDA3'!I190,'MDA3'!L190,V190,AD190)","v":33179},{"$f":"MAX('MDA1'!L190,'MDA2'!L190,'MDA3'!J190,'MDA3'!M190,AF190)","v":92683.894},125862.894,89.327124657216544]
[{"$f":"IF(COUNTRY_INFO!A191=0,\" \",COUNTRY_INFO!A191)","v":"Tanzania"},{"$f":"IF(COUNTRY_INFO!B191=0,\" \",COUNTRY_INFO!B191)","v":"Tanga"},{"$f":"IF(COUNTRY_INFO!C191=0,\" \",COUNTRY_INFO!C191)","v":"Muheza District Council"},{"$f":"COUNTRY_INFO!L191","v":"Stopped"},null,null,{"$f":"MAX('MDA1'!M191,'MDA2'!M191)","v":0},{"$f":"IF(AND(COUNTRY_INFO!H191>0,COUNTRY_INFO!H191<4),IF(D191>MAX('MDA1'!M191,'MDA2'!M191),MAX('MDA1'!M191,'MDA2'!M191),D191),0)","v":0},{"$f":"IF(AND(COUNTRY_INFO!H191>0,COUNTRY_INFO!H191<4), IF(G191/D191*100<>0, IF(G191/D191*100>100,100,G191/D191*100), \"-\"),0)","v":0},{"$f":"COUNTRY_INFO!M191","v":244006.5543993199},null,null,{"$f":"MAX('MDA1'!M191,MAX('MDA3'!I191,'MDA3'!L191)+MAX('MDA3'!J191,'MDA3'!M191))","v":202491},{"$f":"IF(AND(COUNTRY_INFO!I191>0,COUNTRY_INFO!I191<4),IF(J191>MAX('MDA1'!M191,MAX('MDA3'!I191,'MDA3'!L191)+MAX('MDA3'!J191,'MDA3'!M191)),MAX('MDA1'!M191,MAX('MDA3'!I191,'MDA3'!L191)+MAX('MDA3'!J191,'MDA3'!M191)),J191),0)","v":202491},{"$f":"IF(AND(COUNTRY_INFO!I191>0,COUNTRY_INFO!I191<4), IF(M191/J191*100<>0, IF(M191/J191*100>100,100,M191/J191*100), \"-\"),0)","v":82.985885562984038},{"$f":"COUNTRY_INFO!N191","v":76149},null,null,{"$f":"SUM(MAX('MDA2'!J191, 'T1'!L191, MAX(T3_R1!K191, T3_R2!K191)), MAX('MDA1'!K191, 'MDA2'!K191, 'T1'!M191, MAX(T3_R1!L191, T3_R2!L191)), MAX('MDA1'!L191, 'MDA2'!L191, 'T1'!N191, MAX(T3_R1!M191, T3_R2!M191)))","v":44216},{"$f":"IF(AND(COUNTRY_INFO!J191>1,COUNTRY_INFO!J191<4),IF(COUNTRY_INFO!E191>MAX('MDA2'!J191,'T1'!L191,MAX(T3_R1!K191,T3_R2!K191)),MAX('MDA2'!J191,'T1'!L191,MAX(T3_R1!K191,T3_R2!K191)),COUNTRY_INFO!E191),0)","v":0},{"$f":"IF(AND(COUNTRY_INFO!J191>1,COUNTRY_INFO!J191<4), IF(T191/COUNTRY_INFO!E191*100<>0, IF(T191/COUNTRY_INFO!E191*100>100,100,T191/COUNTRY_INFO!E191*100), \"-\"),0)","v":"-"},{"$f":"IF(AND(COUNTRY_INFO!J191>1,COUNTRY_INFO!J191<4),IF(COUNTRY_INFO!F191>MAX('MDA1'!K191,'MDA2'!K191,'T1'!M191,MAX(T3_R1!L191,T3_R2!L191)),MAX('MDA1'!K191,'MDA2'!K191,'T1'!M191,MAX(T3_R1!L191,T3_R2!L191)),COUNTRY_INFO!F191),0)","v":44216},{"$f":"IF(AND(COUNTRY_INFO!J191>1,COUNTRY_INFO!J191<4), IF(V191/COUNTRY_INFO!F191*100<>0, IF(V191/COUNTRY_INFO!F191*100>100,100,V191/COUNTRY_INFO!F191*100), \"-\"),0)","v":98.979226361031508},44216,{"$f":"IF(AND(COUNTRY_INFO!J191>1,COUNTRY_INFO!J191<4), IF(S191/P191*100<>0, IF(X191/P191*100>100,100,X191/P191*100), \"-\"),0)","v":58.065109193817385},{"$f":"COUNTRY_INFO!O191","v":55907.510879863978},null,null,{"$f":"MAX('T1'!L191,'T2'!J191)+MAX('T1'!M191,'T2'!K191)+MAX('T1'!N191,'T2'!L191)","v":44216},{"$f":"IF(COUNTRY_INFO!K191=1,IF(COUNTRY_INFO!F191*0.33>MAX('T1'!M191,'T2'!K191),MAX('T1'!M191,'T2'!K191),COUNTRY_INFO!F191*0.33),IF(COUNTRY_INFO!K191=2,IF(COUNTRY_INFO!F191*0.5>MAX('T1'!M191,'T2'!K191),MAX('T1'!M191,'T2'!K191),COUNTRY_INFO!F191*0.5),IF(COUNTRY_INFO!K191=3,IF(COUNTRY_INFO!F191>MAX('T1'!M191,'T2'!K191),MAX('T1'!M191,'T2'!K191),COUNTRY_INFO!F191),0)))","v":22336},{"$f":"IF(AND(COUNTRY_INFO!K191>0,COUNTRY_INFO!K191<4),IF(Z191>0,IF(COUNTRY_INFO!K191=1, AD191/(COUNTRY_INFO!F191*0.33)*100, IF(COUNTRY_INFO!K191=2, AD191/(COUNTRY_INFO!F191*0.5)*100, IF(COUNTRY_INFO!K191=3, AD191/COUNTRY_INFO!F191*100))),\"-\"),0)","v":100},{"$f":"IF(COUNTRY_INFO!K191=2,IF(COUNTRY_INFO!G191*0.2>MAX('T1'!N191,'T2'!L191),MAX('T1'!N191,'T2'!L191),COUNTRY_INFO!G191*0.2),IF(COUNTRY_INFO!K191=3,IF(COUNTRY_INFO!G191>MAX('T1'!N191,'T2'!L191),MAX('T1'!N191,'T2'!L191),COUNTRY_INFO!G191),0))","v":0},{"$f":"IF(AND(COUNTRY_INFO!K191>0,COUNTRY_INFO!K191<4),IF(Z191>0,IF(COUNTRY_INFO!K191=1, 0, IF(COUNTRY_INFO!K191=2, AF191/(COUNTRY_INFO!G191*0.2)*100, IF(COUNTRY_INFO!K191=3, AF191/COUNTRY_INFO!G191*100))),\"-\"),0)","v":0},22336,{"$f":"IF(AND(COUNTRY_INFO!K191>0,COUNTRY_INFO!K191<4), IF(AC191/Z191*100<>0, IF(AH191/Z191*100>100,100,AH191/Z191*100), \"-\"),0)","v":39.95169816806257},null,{"$f":"IF(AND(D191<>0, D191<>\"Unknown\",D191<>\"Stopped\",D191<>\"Not required\"),D191/COUNTRY_INFO!D191, 0)","v":0},{"$f":"IF(AND(J191<>0,J191<>\"Unknown\",J191<>\"Stopped\",J191<>\"Not required\"),J191/COUNTRY_INFO!D191, 0)","v":1},{"$f":"IF(AND(P191<>0,P191<>\"Unknown\",P191<>\"Not required\"),P191/(COUNTRY_INFO!E191+COUNTRY_INFO!F191), 0)","v":1},{"$f":"IF(AND(Z191<>0,Z191<>\"Unknown\",Z191<>\"Not required\"),IF(COUNTRY_INFO!K191=1,1,IF(COUNTRY_INFO!K191=2,0.5*COUNTRY_INFO!F191/(0.5*COUNTRY_INFO!F191+0.2*COUNTRY_INFO!G191),IF(COUNTRY_INFO!K191=3,COUNTRY_INFO!F191/(COUNTRY_INFO!F191+COUNTRY_INFO!G191)))),0)","v":0.39951698168062572},{"$f":"IF(AND(Z191<>0,Z191<>\"Unknown\",Z191<>\"Not required\"),IF(COUNTRY_INFO!K191=1,0,IF(COUNTRY_INFO!K191=2,0.2*COUNTRY_INFO!G191/(0.5*COUNTRY_INFO!F191+0.2*COUNTRY_INFO!G191),IF(COUNTRY_INFO!K191=3,COUNTRY_INFO!G191/(COUNTRY_INFO!F191+COUNTRY_INFO!G191)))),0)","v":0.60048301831937423},{"$f":"MAX(COUNTRY_INFO!D191*AK191*PROFILE!$G$7,COUNTRY_INFO!D191*AL191*PROFILE!$G$7)","v":4.4743384212451867E-3},{"$f":"MAX(COUNTRY_INFO!D191*AK191*PROFILE!$G$8,COUNTRY_INFO!D191*AL191*PROFILE!$G$8,COUNTRY_INFO!D191*AM191*PROFILE!$G$8)","v":31476.84598102565},{"$f":"MAX(COUNTRY_INFO!D191*AK191*PROFILE!$G$9,COUNTRY_INFO!D191*AL191*PROFILE!$G$9,COUNTRY_INFO!D191*AM191*PROFILE!$G$9,IF(AND(DISTRICT!Z191<>\"Unknown\",Z191<>\"Not required\"),COUNTRY_INFO!O191*DISTRICT!AN191,0))","v":54853.15269263104},{"$f":"MAX(COUNTRY_INFO!D191*AK191*PROFILE!$G$10,COUNTRY_INFO!D191*AL191*PROFILE!$G$10,IF(AND(DISTRICT!Z191<>\"Unknown\",Z191<>\"Not required\"),COUNTRY_INFO!O191*DISTRICT!AO191,0))","v":157676.55125132477},244006.55439931987,"Y",{"$f":"MAX('MDA2'!J191,'T1'!L191,'T2'!J191,T3_R1!K191,T3_R2!K191)","v":0},{"$f":"MAX('MDA1'!K191,'MDA2'!K191,'MDA3'!I191,'MDA3'!L191,'T1'!M191,'T2'!K191,T3_R1!L191,T3_R2!L191)","v":44216},{"$f":"MAX('MDA1'!L191,'MDA2'!L191,'MDA3'!J191,'MDA3'!M191,'T1'!N191,'T2'!L191,T3_R1!M191,T3_R2!M191)","v":163815.21899999998},208031.21899999998,{"$f":"MAX('MDA2'!J191,T191)","v":0},{"$f":"MAX('MDA1'!K191,'MDA2'!K191,'MDA3'!I191,'MDA3'!L191,V191,AD191)","v":44216},{"$f":"MAX('MDA1'!L191,'MDA2'!L191,'MDA3'!J191,'MDA3'!M191,AF191)","v":163815.21899999998},208031.21899999998,85.256406128973978]
[{"$f":"IF(COUNTRY_INFO!A192=0,\" \",COUNTRY_INFO!A192)","v":"Tanzania"},{"$f":"IF(COUNTRY_INFO!B192=0,\" \",COUNTRY_INFO!B192)","v":"Tanga"},{"$f":"IF(COUNTRY_INFO!C192=0,\" \",COUNTRY_INFO!C192)","v":"Pangani District Council"},{"$f":"COUNTRY_INFO!L192","v":64475.382359107229},null,null,{"$f":"MAX('MDA1'!M192,'MDA2'!M192)","v":0},{"$f":"IF(AND(COUNTRY_INFO!H192>0,COUNTRY_INFO!H192<4),IF(D192>MAX('MDA1'!M192,'MDA2'!M192),MAX('MDA1'!M192,'MDA2'!M192),D192),0)","v":0},{"$f":"IF(AND(COUNTRY_INFO!H192>0,COUNTRY_INFO!H192<4), IF(G192/D192*100<>0, IF(G192/D192*100>100,100,G192/D192*100), \"-\"),0)","v":"-"},{"$f":"COUNTRY_INFO!M192","v":0},null,null,{"$f":"MAX('MDA1'!M192,MAX('MDA3'!I192,'MDA3'!L192)+MAX('MDA3'!J192,'MDA3'!M192))","v":0},{"$f":"IF(AND(COUNTRY_INFO!I192>0,COUNTRY_INFO!I192<4),IF(J192>MAX('MDA1'!M192,MAX('MDA3'!I192,'MDA3'!L192)+MAX('MDA3'!J192,'MDA3'!M192)),MAX('MDA1'!M192,MAX('MDA3'!I192,'MDA3'!L192)+MAX('MDA3'!J192,'MDA3'!M192)),J192),0)","v":0},{"$f":"IF(AND(COUNTRY_INFO!I192>0,COUNTRY_INFO!I192<4), IF(M192/J192*100<>0, IF(M192/J192*100>100,100,M192/J192*100), \"-\"),0)","v":0},{"$f":"COUNTRY_INFO!N192","v":22824},null,null,{"$f":"SUM(MAX('MDA2'!J192, 'T1'!L192, MAX(T3_R1!K192, T3_R2!K192)), MAX('MDA1'!K192, 'MDA2'!K192, 'T1'!M192, MAX(T3_R1!L192, T3_R2!L192)), MAX('MDA1'!L192, 'MDA2'!L192, 'T1'!N192, MAX(T3_R1!M192, T3_R2!M192)))","v":13323},{"$f":"IF(AND(COUNTRY_INFO!J192>1,COUNTRY_INFO!J192<4),IF(COUNTRY_INFO!E192>MAX('MDA2'!J192,'T1'!L192,MAX(T3_R1!K192,T3_R2!K192)),MAX('MDA2'!J192,'T1'!L192,MAX(T3_R1!K192,T3_R2!K192)),COUNTRY_INFO!E192),0)","v":0},{"$f":"IF(AND(COUNTRY_INFO!J192>1,COUNTRY_INFO!J192<4), IF(T192/COUNTRY_INFO!E192*100<>0, IF(T192/COUNTRY_INFO!E192*100>100,100,T192/COUNTRY_INFO!E192*100), \"-\"),0)","v":"-"},{"$f":"IF(AND(COUNTRY_INFO!J192>1,COUNTRY_INFO!J192<4),IF(COUNTRY_INFO!F192>MAX('MDA1'!K192,'MDA2'!K192,'T1'!M192,MAX(T3_R1!L192,T3_R2!L192)),MAX('MDA1'!K192,'MDA2'!K192,'T1'!M192,MAX(T3_R1!L192,T3_R2!L192)),COUNTRY_INFO!F192),0)","v":13323},{"$f":"IF(AND(COUNTRY_INFO!J192>1,COUNTRY_INFO!J192<4), IF(V192/COUNTRY_INFO!F192*100<>0, IF(V192/COUNTRY_INFO!F192*100>100,100,V192/COUNTRY_INFO!F192*100), \"-\"),0)","v":91.838422830357757},13323,{"$f":"IF(AND(COUNTRY_INFO!J192>1,COUNTRY_INFO!J192<4), IF(S192/P192*100<>0, IF(X192/P192*100>100,100,X192/P192*100), \"-\"),0)","v":58.372765509989492},{"$f":"COUNTRY_INFO!O192","v":15583.776471821446},null,null,{"$f":"MAX('T1'!L192,'T2'!J192)+MAX('T1'!M192,'T2'!K192)+MAX('T1'!N192,'T2'!L192)","v":13323},{"$f":"IF(COUNTRY_INFO!K192=1,IF(COUNTRY_INFO!F192*0.33>MAX('T1'!M192,'T2'!K192),MAX('T1'!M192,'T2'!K192),COUNTRY_INFO!F192*0.33),IF(COUNTRY_INFO!K192=2,IF(COUNTRY_INFO!F192*0.5>MAX('T1'!M192,'T2'!K192),MAX('T1'!M192,'T2'!K192),COUNTRY_INFO!F192*0.5),IF(COUNTRY_INFO!K192=3,IF(COUNTRY_INFO!F192>MAX('T1'!M192,'T2'!K192),MAX('T1'!M192,'T2'!K192),COUNTRY_INFO!F192),0)))","v":7253.5},{"$f":"IF(AND(COUNTRY_INFO!K192>0,COUNTRY_INFO!K192<4),IF(Z192>0,IF(COUNTRY_INFO!K192=1, AD192/(COUNTRY_INFO!F192*0.33)*100, IF(COUNTRY_INFO!K192=2, AD192/(COUNTRY_INFO!F192*0.5)*100, IF(COUNTRY_INFO!K192=3, AD192/COUNTRY_INFO!F192*100))),\"-\"),0)","v":100},{"$f":"IF(COUNTRY_INFO!K192=2,IF(COUNTRY_INFO!G192*0.2>MAX('T1'!N192,'T2'!L192),MAX('T1'!N192,'T2'!L192),COUNTRY_INFO!G192*0.2),IF(COUNTRY_INFO!K192=3,IF(COUNTRY_INFO!G192>MAX('T1'!N192,'T2'!L192),MAX('T1'!N192,'T2'!L192),COUNTRY_INFO!G192),0))","v":0},{"$f":"IF(AND(COUNTRY_INFO!K192>0,COUNTRY_INFO!K192<4),IF(Z192>0,IF(COUNTRY_INFO!K192=1, 0, IF(COUNTRY_INFO!K192=2, AF192/(COUNTRY_INFO!G192*0.2)*100, IF(COUNTRY_INFO!K192=3, AF192/COUNTRY_INFO!G192*100))),\"-\"),0)","v":0},7253.5,{"$f":"IF(AND(COUNTRY_INFO!K192>0,COUNTRY_INFO!K192<4), IF(AC192/Z192*100<>0, IF(AH192/Z192*100>100,100,AH192/Z192*100), \"-\"),0)","v":46.545200472528364},null,{"$f":"IF(AND(D192<>0, D192<>\"Unknown\",D192<>\"Stopped\",D192<>\"Not required\"),D192/COUNTRY_INFO!D192, 0)","v":1},{"$f":"IF(AND(J192<>0,J192<>\"Unknown\",J192<>\"Stopped\",J192<>\"Not required\"),J192/COUNTRY_INFO!D192, 0)","v":0},{"$f":"IF(AND(P192<>0,P192<>\"Unknown\",P192<>\"Not required\"),P192/(COUNTRY_INFO!E192+COUNTRY_INFO!F192), 0)","v":1},{"$f":"IF(AND(Z192<>0,Z192<>\"Unknown\",Z192<>\"Not required\"),IF(COUNTRY_INFO!K192=1,1,IF(COUNTRY_INFO!K192=2,0.5*COUNTRY_INFO!F192/(0.5*COUNTRY_INFO!F192+0.2*COUNTRY_INFO!G192),IF(COUNTRY_INFO!K192=3,COUNTRY_INFO!F192/(COUNTRY_INFO!F192+COUNTRY_INFO!G192)))),0)","v":0.46545200472528364},{"$f":"IF(AND(Z192<>0,Z192<>\"Unknown\",Z192<>\"Not required\"),IF(COUNTRY_INFO!K192=1,0,IF(COUNTRY_INFO!K192=2,0.2*COUNTRY_INFO!G192/(0.5*COUNTRY_INFO!F192+0.2*COUNTRY_INFO!G192),IF(COUNTRY_INFO!K192=3,COUNTRY_INFO!G192/(COUNTRY_INFO!F192+COUNTRY_INFO!G192)))),0)","v":0.5345479952747163},{"$f":"MAX(COUNTRY_INFO!D192*AK192*PROFILE!$G$7,COUNTRY_INFO!D192*AL192*PROFILE!$G$7)","v":1.1822825055826929E-3},{"$f":"MAX(COUNTRY_INFO!D192*AK192*PROFILE!$G$8,COUNTRY_INFO!D192*AL192*PROFILE!$G$8,COUNTRY_INFO!D192*AM192*PROFILE!$G$8)","v":8317.3244468018802},{"$f":"MAX(COUNTRY_INFO!D192*AK192*PROFILE!$G$9,COUNTRY_INFO!D192*AL192*PROFILE!$G$9,COUNTRY_INFO!D192*AM192*PROFILE!$G$9,IF(AND(DISTRICT!Z192<>\"Unknown\",Z192<>\"Not required\"),COUNTRY_INFO!O192*DISTRICT!AN192,0))","v":14494.192593171325},{"$f":"MAX(COUNTRY_INFO!D192*AK192*PROFILE!$G$10,COUNTRY_INFO!D192*AL192*PROFILE!$G$10,IF(AND(DISTRICT!Z192<>\"Unknown\",Z192<>\"Not required\"),COUNTRY_INFO!O192*DISTRICT!AO192,0))","v":41663.864136851516},64475.382359107229,0,{"$f":"MAX('MDA2'!J192,'T1'!L192,'T2'!J192,T3_R1!K192,T3_R2!K192)","v":0},{"$f":"MAX('MDA1'!K192,'MDA2'!K192,'MDA3'!I192,'MDA3'!L192,'T1'!M192,'T2'!K192,T3_R1!L192,T3_R2!L192)","v":13323},{"$f":"MAX('MDA1'!L192,'MDA2'!L192,'MDA3'!J192,'MDA3'!M192,'T1'!N192,'T2'!L192,T3_R1!M192,T3_R2!M192)","v":0},13323,{"$f":"MAX('MDA2'!J192,T192)","v":0},{"$f":"MAX('MDA1'!K192,'MDA2'!K192,'MDA3'!I192,'MDA3'!L192,V192,AD192)","v":13323},{"$f":"MAX('MDA1'!L192,'MDA2'!L192,'MDA3'!J192,'MDA3'!M192,AF192)","v":0},13323,20.663700644371765]
[{"$f":"IF(COUNTRY_INFO!A193=0,\" \",COUNTRY_INFO!A193)","v":"Tanzania"},{"$f":"IF(COUNTRY_INFO!B193=0,\" \",COUNTRY_INFO!B193)","v":"Tanga"},{"$f":"IF(COUNTRY_INFO!C193=0,\" \",COUNTRY_INFO!C193)","v":"Tanga City Council"},{"$f":"COUNTRY_INFO!L193","v":"Stopped"},null,null,{"$f":"MAX('MDA1'!M193,'MDA2'!M193)","v":0},{"$f":"IF(AND(COUNTRY_INFO!H193>0,COUNTRY_INFO!H193<4),IF(D193>MAX('MDA1'!M193,'MDA2'!M193),MAX('MDA1'!M193,'MDA2'!M193),D193),0)","v":0},{"$f":"IF(AND(COUNTRY_INFO!H193>0,COUNTRY_INFO!H193<4), IF(G193/D193*100<>0, IF(G193/D193*100>100,100,G193/D193*100), \"-\"),0)","v":0},{"$f":"COUNTRY_INFO!M193","v":0},null,null,{"$f":"MAX('MDA1'!M193,MAX('MDA3'!I193,'MDA3'!L193)+MAX('MDA3'!J193,'MDA3'!M193))","v":0},{"$f":"IF(AND(COUNTRY_INFO!I193>0,COUNTRY_INFO!I193<4),IF(J193>MAX('MDA1'!M193,MAX('MDA3'!I193,'MDA3'!L193)+MAX('MDA3'!J193,'MDA3'!M193)),MAX('MDA1'!M193,MAX('MDA3'!I193,'MDA3'!L193)+MAX('MDA3'!J193,'MDA3'!M193)),J193),0)","v":0},{"$f":"IF(AND(COUNTRY_INFO!I193>0,COUNTRY_INFO!I193<4), IF(M193/J193*100<>0, IF(M193/J193*100>100,100,M193/J193*100), \"-\"),0)","v":0},{"$f":"COUNTRY_INFO!N193","v":139182},null,null,{"$f":"SUM(MAX('MDA2'!J193, 'T1'!L193, MAX(T3_R1!K193, T3_R2!K193)), MAX('MDA1'!K193, 'MDA2'!K193, 'T1'!M193, MAX(T3_R1!L193, T3_R2!L193)), MAX('MDA1'!L193, 'MDA2'!L193, 'T1'!N193, MAX(T3_R1!M193, T3_R2!M193)))","v":95207},{"$f":"IF(AND(COUNTRY_INFO!J193>1,COUNTRY_INFO!J193<4),IF(COUNTRY_INFO!E193>MAX('MDA2'!J193,'T1'!L193,MAX(T3_R1!K193,T3_R2!K193)),MAX('MDA2'!J193,'T1'!L193,MAX(T3_R1!K193,T3_R2!K193)),COUNTRY_INFO!E193),0)","v":0},{"$f":"IF(AND(COUNTRY_INFO!J193>1,COUNTRY_INFO!J193<4), IF(T193/COUNTRY_INFO!E193*100<>0, IF(T193/COUNTRY_INFO!E193*100>100,100,T193/COUNTRY_INFO!E193*100), \"-\"),0)","v":"-"},{"$f":"IF(AND(COUNTRY_INFO!J193>1,COUNTRY_INFO!J193<4),IF(COUNTRY_INFO!F193>MAX('MDA1'!K193,'MDA2'!K193,'T1'!M193,MAX(T3_R1!L193,T3_R2!L193)),MAX('MDA1'!K193,'MDA2'!K193,'T1'!M193,MAX(T3_R1!L193,T3_R2!L193)),COUNTRY_INFO!F193),0)","v":95207},{"$f":"IF(AND(COUNTRY_INFO!J193>1,COUNTRY_INFO!J193<4), IF(V193/COUNTRY_INFO!F193*100<>0, IF(V193/COUNTRY_INFO!F193*100>100,100,V193/COUNTRY_INFO!F193*100), \"-\"),0)","v":98.047434167842397},95207,{"$f":"IF(AND(COUNTRY_INFO!J193>1,COUNTRY_INFO!J193<4), IF(S193/P193*100<>0, IF(X193/P193*100>100,100,X193/P193*100), \"-\"),0)","v":68.404678765932374},{"$f":"COUNTRY_INFO!O193","v":85954.590233026858},null,null,{"$f":"MAX('T1'!L193,'T2'!J193)+MAX('T1'!M193,'T2'!K193)+MAX('T1'!N193,'T2'!L193)","v":95207},{"$f":"IF(COUNTRY_INFO!K193=1,IF(COUNTRY_INFO!F193*0.33>MAX('T1'!M193,'T2'!K193),MAX('T1'!M193,'T2'!K193),COUNTRY_INFO!F193*0.33),IF(COUNTRY_INFO!K193=2,IF(COUNTRY_INFO!F193*0.5>MAX('T1'!M193,'T2'!K193),MAX('T1'!M193,'T2'!K193),COUNTRY_INFO!F193*0.5),IF(COUNTRY_INFO!K193=3,IF(COUNTRY_INFO!F193>MAX('T1'!M193,'T2'!K193),MAX('T1'!M193,'T2'!K193),COUNTRY_INFO!F193),0)))","v":48551.5},{"$f":"IF(AND(COUNTRY_INFO!K193>0,COUNTRY_INFO!K193<4),IF(Z193>0,IF(COUNTRY_INFO!K193=1, AD193/(COUNTRY_INFO!F193*0.33)*100, IF(COUNTRY_INFO!K193=2, AD193/(COUNTRY_INFO!F193*0.5)*100, IF(COUNTRY_INFO!K193=3, AD193/COUNTRY_INFO!F193*100))),\"-\"),0)","v":100},{"$f":"IF(COUNTRY_INFO!K193=2,IF(COUNTRY_INFO!G193*0.2>MAX('T1'!N193,'T2'!L193),MAX('T1'!N193,'T2'!L193),COUNTRY_INFO!G193*0.2),IF(COUNTRY_INFO!K193=3,IF(COUNTRY_INFO!G193>MAX('T1'!N193,'T2'!L193),MAX('T1'!N193,'T2'!L193),COUNTRY_INFO!G193),0))","v":0},{"$f":"IF(AND(COUNTRY_INFO!K193>0,COUNTRY_INFO!K193<4),IF(Z193>0,IF(COUNTRY_INFO!K193=1, 0, IF(COUNTRY_INFO!K193=2, AF193/(COUNTRY_INFO!G193*0.2)*100, IF(COUNTRY_INFO!K193=3, AF193/COUNTRY_INFO!G193*100))),\"-\"),0)","v":0},48551.5,{"$f":"IF(AND(COUNTRY_INFO!K193>0,COUNTRY_INFO!K193<4), IF(AC193/Z193*100<>0, IF(AH193/Z193*100>100,100,AH193/Z193*100), \"-\"),0)","v":56.485057829226626},null,{"$f":"IF(AND(D193<>0, D193<>\"Unknown\",D193<>\"Stopped\",D193<>\"Not required\"),D193/COUNTRY_INFO!D193, 0)","v":0},{"$f":"IF(AND(J193<>0,J193<>\"Unknown\",J193<>\"Stopped\",J193<>\"Not required\"),J193/COUNTRY_INFO!D193, 0)","v":0},{"$f":"IF(AND(P193<>0,P193<>\"Unknown\",P193<>\"Not required\"),P193/(COUNTRY_INFO!E193+COUNTRY_INFO!F193), 0)","v":1},{"$f":"IF(AND(Z193<>0,Z193<>\"Unknown\",Z193<>\"Not required\"),IF(COUNTRY_INFO!K193=1,1,IF(COUNTRY_INFO!K193=2,0.5*COUNTRY_INFO!F193/(0.5*COUNTRY_INFO!F193+0.2*COUNTRY_INFO!G193),IF(COUNTRY_INFO!K193=3,COUNTRY_INFO!F193/(COUNTRY_INFO!F193+COUNTRY_INFO!G193)))),0)","v":0.56485057829226626},{"$f":"IF(AND(Z193<>0,Z193<>\"Unknown\",Z193<>\"Not required\"),IF(COUNTRY_INFO!K193=1,0,IF(COUNTRY_INFO!K193=2,0.2*COUNTRY_INFO!G193/(0.5*COUNTRY_INFO!F193+0.2*COUNTRY_INFO!G193),IF(COUNTRY_INFO!K193=3,COUNTRY_INFO!G193/(COUNTRY_INFO!F193+COUNTRY_INFO!G193)))),0)","v":0.43514942170773369},{"$f":"MAX(COUNTRY_INFO!D193*AK193*PROFILE!$G$7,COUNTRY_INFO!D193*AL193*PROFILE!$G$7)","v":0},{"$f":"MAX(COUNTRY_INFO!D193*AK193*PROFILE!$G$8,COUNTRY_INFO!D193*AL193*PROFILE!$G$8,COUNTRY_INFO!D193*AM193*PROFILE!$G$8)","v":42079.471819945036},{"$f":"MAX(COUNTRY_INFO!D193*AK193*PROFILE!$G$9,COUNTRY_INFO!D193*AL193*PROFILE!$G$9,COUNTRY_INFO!D193*AM193*PROFILE!$G$9,IF(AND(DISTRICT!Z193<>\"Unknown\",Z193<>\"Not required\"),COUNTRY_INFO!O193*DISTRICT!AN193,0))","v":73329.827720226342},{"$f":"MAX(COUNTRY_INFO!D193*AK193*PROFILE!$G$10,COUNTRY_INFO!D193*AL193*PROFILE!$G$10,IF(AND(DISTRICT!Z193<>\"Unknown\",Z193<>\"Not required\"),COUNTRY_INFO!O193*DISTRICT!AO193,0))","v":37403.090233026851},152812.38977319823,"Y",{"$f":"MAX('MDA2'!J193,'T1'!L193,'T2'!J193,T3_R1!K193,T3_R2!K193)","v":0},{"$f":"MAX('MDA1'!K193,'MDA2'!K193,'MDA3'!I193,'MDA3'!L193,'T1'!M193,'T2'!K193,T3_R1!L193,T3_R2!L193)","v":95207},{"$f":"MAX('MDA1'!L193,'MDA2'!L193,'MDA3'!J193,'MDA3'!M193,'T1'!N193,'T2'!L193,T3_R1!M193,T3_R2!M193)","v":0},95207,{"$f":"MAX('MDA2'!J193,T193)","v":0},{"$f":"MAX('MDA1'!K193,'MDA2'!K193,'MDA3'!I193,'MDA3'!L193,V193,AD193)","v":95207},{"$f":"MAX('MDA1'!L193,'MDA2'!L193,'MDA3'!J193,'MDA3'!M193,AF193)","v":0},95207,62.303194224830037]

{"sheet":"SUMMARY","index":10,"n_rows":71,"n_cols":8,"rows_kept":71,"cut":false,"hidden":false,"merged":[[70,1,70,2],[36,1,36,2],[37,1,37,2],[38,1,38,2],[67,1,67,7],[63,1,63,2],[54,1,60,7],[69,1,69,2],[64,3,65,7],[49,1,49,7],[63,3,63,7],[50,3,50,4],[32,1,32,2],[33,1,33,2],[34,1,34,2],[35,1,35,2],[23,1,23,5],[31,1,31,2],[24,1,24,5],[25,1,25,5],[26,1,26,5],[27,1,27,5],[15,1,15,3],[0,1,0,5],[1,1,1,7],[5,1,11,7],[3,3,3,5]]}
[]
[null,"PC Joint Reporting Form v.3.1"]
[]
[null,"Country",null,{"$f":"IF(INTRO!$E$34<>0,INTRO!$E$34,\" \")","v":"Tanzania"},null,null,"Year",{"$f":"IF(INTRO!$E$36<>0,INTRO!$E$36,\" \")","v":2020}]
[]
[null,"National authorities are requested to complete the Joint Reporting Form (JRF) for submission to the World Health Organization any time before 15 August of the current year for reporting data on PC interventions implemented during the previous year."]
[]
[]
[]
[]
[]
[]
[]
[null,"Number of people received treatment (at least once) for the diseases"]
[]
[null,null,null,null,"PreSAC","SAC","Adults","Total"]
[null,"Lymphatic filariasis",null,null,"Not eligible",0,0,{"$f":"SUM(E17:G17)","v":0}]
[null,"Onchocerciasis",null,null,"Not eligible",345747,1464444,{"$f":"SUM(E18:G18)","v":1810191}]
[null,"Soil-transmitted helminthiases",null,null,0,7257711,0,{"$f":"SUM(E19:G19)","v":7257711}]
[null,"Schistosomiasis",null,null,"Not targeted",3199570,0,{"$f":"SUM(E20:G20)","v":3199570}]
[]
[null,"Coverage of PC interventions for the diseases (%)"]
[]
[null,null,null,null,null,null,"Geographical","National"]
[null,"Lymphatic filariasis",null,null,null,null,0,"-"]
[null,"Onchocerciasis",null,null,null,null,32.142857142857146,27.528559013647936]
[null,"Soil-transmitted helminthiases",null,null,null,null,72.432432432432435,37.615494220313465]
[null,"Schistosomiasis",null,null,null,null,35.135135135135137,11.874230191080391]
[]
[null,"Number of people treated and programme coverage (%) by PC interventions"]
[]
[null,null,null,"PreSAC","SAC","Adults","Total","Coverage (%)"]
[null,"MDA 1 (IVM+ALB)",null,"Not eligible",{"$f":"'MDA1'!$K$4","v":0},{"$f":"'MDA1'!$L$4","v":0},{"$f":"'MDA1'!$M$4","v":0},{"$f":"'MDA1'!$Q$4","v":" "}]
[null,"MDA 2 (DEC+ALB)",null,{"$f":"'MDA2'!$J$4","v":0},{"$f":"'MDA2'!$K$4","v":0},{"$f":"'MDA2'!$L$4","v":0},{"$f":"'MDA2'!$M$4","v":0},{"$f":"'MDA2'!$Q$4","v":" "}]
[null,"MDA 3 (IVM)",null,"Not eligible",{"$f":"'MDA3'!$O$4","v":345746.48100000009},{"$f":"'MDA3'!$P$4","v":1464444.5190000001},{"$f":"'MDA3'!$Q$4","v":1810191},{"$f":"'MDA3'!$T$4","v":105.63319894931374}]
[null,"T 1 (PZQ+ALB/MBD)",null,{"$f":"IF('T1'!$L$4<>0,'T1'!$L$4,\"Not targeted\")","v":"Not targeted"},{"$f":"'T1'!$M$4","v":3199570},{"$f":"IF('T1'!$N$4<>0,'T1'!$N$4,\"Not targeted\")","v":"Not targeted"},{"$f":"'T1'!$O$4","v":3199570},{"$f":"'T1'!$S$4","v":94.763719336114633}]
[null,"T 2 (PZQ)",null,{"$f":"IF('T2'!$J$4<>0,'T2'!$J$4,\"Not targeted\")","v":"Not targeted"},{"$f":"'T2'!$K$4","v":0},{"$f":"'T2'!$L$4","v":0},{"$f":"'T2'!$M$4","v":0},{"$f":"'T2'!$Q$4","v":" "}]
[null,"T 3 (ALB/MBD) - round 1",null,{"$f":"T3_R1!$K$4","v":0},{"$f":"T3_R1!$L$4","v":4058141},{"$f":"IF(T3_R1!$M$4<>0,T3_R1!$M$4,\"Not targeted\")","v":"Not targeted"},{"$f":"T3_R1!$N$4","v":4058141},{"$f":"T3_R1!$R$4","v":94.935646956468446}]
[null,"T 3 (ALB/MBD) - round 2",null,{"$f":"T3_R2!$K$4","v":0},{"$f":"T3_R2!$L$4","v":0},{"$f":"IF(T3_R2!$M$4<>0,T3_R2!$M$4,\"Not targeted\")","v":"Not targeted"},{"$f":"T3_R2!$N$4","v":0},{"$f":"T3_R2!$R$4","v":" "}]
[]
[null,"Inventory of PC medicines in the country"]
[]
[null,null,"IVM","DEC","ALB (LF)","ALB (STH)","MBD","PZQ"]
[null,"Available"]
[null,"Distributed"]
[null,"Wasted"]
[null,"Received"]
[null,"Remaining",{"$f":"C44-C45-C46+C47","v":0},0,0,0,0,0]
[]
[null,"Please indicate the medicine has been used to treat PreSAC for STH and delivery channels"]
[null,"PC medicine",null,"Delivery channels",null,null,"Source"]
[]
[null,"Additional information"]
[]
[null,"(1) Population estimates for Dar es Salaam City Council are incorporated within Ilala Municipal Council."]
[]
[]
[]
[]
[]
[]
[]
[null,null,null,"       I have read and accept WHO Data Sharing Policy"]
[null,"Name and signature of NTD coordinator or Ministry of Health representative:"]
[]
[null,"Date:"]
[]
[null,"Please send the national report (signed and in electronic format) to the concerned WR with copy to:"]
[]
[null,"WHO headquarters",null,"PC_JointForms@who.int"]
[null,"WHO Regional Office",null,"Regional Advisor for NTD"]

{"sheet":"PROFILE","index":11,"n_rows":124,"n_cols":8,"rows_kept":124,"cut":false,"hidden":true,"merged":[[79,1,79,3],[123,1,124,7],[85,6,85,7],[87,6,87,7],[89,6,89,7],[86,6,86,7],[88,6,88,7],[9,1,9,2],[4,1,4,7],[5,1,5,2],[81,1,81,3],[19,1,19,6],[9,3,9,5],[43,1,43,3],[77,1,77,3],[80,1,80,3],[6,3,6,5],[7,3,7,5],[8,3,8,5],[78,1,78,3],[23,1,23,3],[11,1,11,6],[20,1,20,6],[0,1,0,5],[1,1,1,7],[3,3,3,5],[69,1,69,3],[73,1,73,3],[26,1,26,3],[27,1,27,3],[28,1,28,3],[59,1,59,3],[5,3,5,5],[30,1,30,3],[34,1,34,3],[42,1,42,3],[6,1,6,2],[7,1,7,2],[8,1,8,2],[12,1,12,6],[47,1,47,3],[51,1,51,3],[55,1,55,3],[65,1,65,3],[29,1,29,3],[21,1,21,6],[16,1,16,6],[18,1,18,6],[17,1,17,6],[63,1,63,3],[13,1,13,6],[14,1,14,6],[15,1,15,6]]}
[]
[null,"PC Joint Reporting Form v.3.1 - Country Profile"]
[]
[null,"Country",null,{"$f":"IF(INTRO!$E$34<>0,INTRO!$E$34,\" \")","v":"Tanzania"},null,null,"Year",{"$f":"IF(INTRO!$E$36<>0,INTRO!$E$36,\" \")","v":2020}]
[null,"!!! WARNING !!!\nBefore analysing data in the country profile please be ensure that your report in the SUMMARY tab is updated"]
[null,"Total population",null,null,null,null,1,{"$f":"COUNTRY_INFO!D4","v":54534665.863614552}]
[null,"Population — other age groups",null,null,null,null,{"$f":"IF($H$6<>0,H7/$H$6,0)","v":1.8336959973308233E-8},{"$f":"H6-SUM(H8:H10)","v":0.99999998509883881}]
[null,"Population — Pre-SAC",null,{"$f":"INTRO!B48","v":"1-4 years age"},null,null,{"$f":"IF($H$6<>0,H8/$H$6,0)","v":0.12900000189959399},{"$f":"COUNTRY_INFO!E4","v":7034972}]
[null,"Population — SAC",null,{"$f":"INTRO!B49","v":"5-14 years age"},null,null,{"$f":"IF($H$6<>0,H9/$H$6,0)","v":0.22480196414258258},{"$f":"COUNTRY_INFO!F4","v":12259500}]
[null,"Population — Adults",null,{"$f":"INTRO!B50","v":"15 years +"},null,null,0.64619801562086343,{"$f":"COUNTRY_INFO!G4","v":35240192.863614567}]
[]
[null,"Total number of people requiring PC for at least one disease (LF, ONCHO, STH, SCH)",null,null,null,null,null,{"$f":"DISTRICT!AT6","v":36041741.325376675}]
[null,"Proportion of number of people requiring PC for at least one disease out of total population",null,null,null,null,null,{"$f":"IF(H6<>0,H12/H6,0)","v":0.66089597789987875}]
[null,"Number of IUs requiring PC for at least one disease (LF, ONCHO, STH, SCH)",null,null,null,null,null,{"$f":"COUNTIF(DISTRICT!AT9:AT1000,\">0\")","v":185}]
[null,"Number of IUs received PC for at least one disease (LF, ONCHO, STH, SCH)",null,null,null,null,null,{"$f":"COUNTIF(DISTRICT!AY9:AY1000,\">0\")","v":134}]
[null,"Proportion of IUs requiring PC for at least one disease and received it",null,null,null,null,null,{"$f":"IF(H14<>0,H15/H14,0)","v":0.72432432432432436}]
[null,"Total number of people received PC for at least one disease (LF, ONCHO, STH, SCH)",null,null,null,null,null,{"$f":"DISTRICT!AY6","v":8722155.5190000013}]
[null,"Total number of people in need who received PC for at least one disease (LF, ONCHO, STH, SCH)",null,null,null,null,null,{"$f":"DISTRICT!BC6","v":8722155.5190000013}]
[null,"Coverage of PC for at least one disease (LF, ONCHO, STH, SCH)",null,null,null,null,null,{"$f":"DISTRICT!BD6","v":0.24200150154395586}]
[null,"Number of IUs received treatment for all diseases requiring PC in those IUs",null,null,null,null,null,{"$f":"DISTRICT!AU6","v":40}]
[null,"Population requiring PC in IUs which received treatment for all diseases in need of PC",null,null,null,null,null,{"$f":"SUMIF(DISTRICT!AU9:AU1000,\"Y\",DISTRICT!AT9:AT1000)","v":6517399.6180446688}]
[null,"Population received PC in IUs which were treated for all diseases in need of PC",null,null,null,null,null,{"$f":"SUMIF(DISTRICT!AU9:AU1000,\"Y\",DISTRICT!AY9:AY1000)","v":3355419.7749999999}]
[]
[null,null,null,null,"LF","ONCHO","STH","SCH"]
[]
[null,"Diseases requiring PC in the country",null,null,{"$f":"IF(INTRO!E38=\"Endemic\",\"Yes\",\"No\")","v":"Yes"},{"$f":"IF(INTRO!E40=\"Endemic\",\"Yes\",\"No\")","v":"Yes"},{"$f":"IF(INTRO!E42=\"Endemic\",\"Yes\",\"No\")","v":"Yes"},{"$f":"IF(INTRO!E44=\"Endemic\",\"Yes\",\"No\")","v":"Yes"}]
[null,"Number of implementation units (IUs) in the country",null,null,{"$f":"IF(E26=\"Yes\",INTRO!$E$46,\"-\")","v":185},{"$f":"IF(F26=\"Yes\",INTRO!$E$46,\"-\")","v":185},{"$f":"IF(G26=\"Yes\",INTRO!$E$46,\"-\")","v":185},{"$f":"IF(H26=\"Yes\",INTRO!$E$46,\"-\")","v":185}]
[null,"Number of IUs with endemicity status known",null,null,{"$f":"IF(E26=\"Yes\",E27-E29,\"-\")","v":185},{"$f":"IF(F26=\"Yes\",F27-F29,\"-\")","v":185},{"$f":"IF(G26=\"Yes\",G27-G29,\"-\")","v":185},{"$f":"IF(H26=\"Yes\",H27-H29,\"-\")","v":185}]
[null,"Number of IUs with endemicity status unknown",null,null,{"$f":"IF(E26=\"Yes\",E27-(992-COUNTIF(COUNTRY_INFO!H$9:H$1000,\"\"))+COUNTIF(COUNTRY_INFO!H$9:H$1000,\"=4\"),\"-\")","v":0},{"$f":"IF(F26=\"Yes\",F27-(992-COUNTIF(COUNTRY_INFO!I$9:I$1000,\"\"))+COUNTIF(COUNTRY_INFO!I$9:I$1000,\"=4\"),\"-\")","v":0},{"$f":"IF(G26=\"Yes\",G27-(992-COUNTIF(COUNTRY_INFO!J$9:J$1000,\"\"))+COUNTIF(COUNTRY_INFO!J$9:J$1000,\"=4\")+COUNTIF(COUNTRY_INFO!J$9:J$1000,\"=5\"),\"-\")","v":0},{"$f":"IF(H26=\"Yes\",H27-(992-COUNTIF(COUNTRY_INFO!K$9:K$1000,\"\"))+COUNTIF(COUNTRY_INFO!K$9:K$1000,\"=4\")+COUNTIF(COUNTRY_INFO!K$9:K$1000,\"=5\"),\"-\")","v":0}]
[null,"Number of non-endemic IUs",null,null,{"$f":"IF(E26=\"Yes\",COUNTIF(COUNTRY_INFO!H$9:H$1000,\"=0\"),\"-\")","v":65},{"$f":"IF(F26=\"Yes\",COUNTIF(COUNTRY_INFO!I$9:I$1000,\"=0\"),\"-\")","v":157},{"$f":"IF(G26=\"Yes\",COUNTIF(COUNTRY_INFO!J$9:J$1000,\"=0\"),\"-\")","v":0},{"$f":"IF(H26=\"Yes\",COUNTIF(COUNTRY_INFO!K$9:K$1000,\"=0\"),\"-\")","v":0}]
[null,"Number of IUs requiring PC (total)",null,null,{"$f":"COUNTIF(COUNTRY_INFO!H$9:H$1000,\"=1\")","v":15},{"$f":"COUNTIF(COUNTRY_INFO!I$9:I$1000,\"=1\")","v":28},{"$f":"SUM(G33:G34)","v":185},{"$f":"SUM(H32:H34)","v":185}]
[null,null,null,"low prevalence",null,null,{"$f":"COUNTIF(COUNTRY_INFO!J$9:J$1000,\"=1\")","v":0},{"$f":"COUNTIF(COUNTRY_INFO!K$9:K$1000,\"=1\")","v":0}]
[null,null,null,"moderate prevalence",null,null,{"$f":"COUNTIF(COUNTRY_INFO!J$9:J$1000,\"=2\")","v":0},{"$f":"COUNTIF(COUNTRY_INFO!K$9:K$1000,\"=2\")","v":166}]
[null,null,null,"high prevalence",null,null,{"$f":"COUNTIF(COUNTRY_INFO!J$9:J$1000,\"=3\")","v":185},{"$f":"COUNTIF(COUNTRY_INFO!K$9:K$1000,\"=3\")","v":19}]
[null,"Population requiring PC in the country (total)",null,null,{"$f":"COUNTRY_INFO!L4","v":8238488.7704826714},{"$f":"COUNTRY_INFO!M4","v":6575683.8165868213},{"$f":"COUNTRY_INFO!N4","v":19294472},{"$f":"COUNTRY_INFO!O4","v":16495073.520397946}]
[null,null,"Pre-SAC","moderate prevalence",null,null,{"$f":"SUMIF(COUNTRY_INFO!J$9:J$1000,\"=2\",COUNTRY_INFO!E$9:E$1000)","v":0}]
[null,null,null,"high prevalence",null,null,{"$f":"SUMIF(COUNTRY_INFO!J$9:J$1000,\"=3\",COUNTRY_INFO!E$9:E$1000)","v":7034972}]
[null,null,"SAC","low prevalence",null,null,null,{"$f":"SUMIF(COUNTRY_INFO!K$9:K$1000,\"=1\",COUNTRY_INFO!F$9:F$1000)*0.33","v":0}]
[null,null,null,"moderate prevalence",null,null,{"$f":"SUMIF(COUNTRY_INFO!J$9:J$1000,\"=2\",COUNTRY_INFO!F$9:F$1000)","v":0},{"$f":"SUMIF(COUNTRY_INFO!K$9:K$1000,\"=2\",COUNTRY_INFO!F$9:F$1000)*0.5","v":5508844.5}]
[null,null,null,"high prevalence",null,null,{"$f":"SUMIF(COUNTRY_INFO!J$9:J$1000,\"=3\",COUNTRY_INFO!F$9:F$1000)","v":12259500},{"$f":"SUMIF(COUNTRY_INFO!K$9:K$1000,\"=3\",COUNTRY_INFO!F$9:F$1000)","v":1241811}]
[null,null,"Adults","moderate prevalence",null,null,null,{"$f":"SUMIF(COUNTRY_INFO!K$9:K$1000,\"=2\",COUNTRY_INFO!G$9:G$1000)*0.2","v":6373943.710804157}]
[null,null,null,"high prevalence",null,null,null,{"$f":"SUMIF(COUNTRY_INFO!K$9:K$1000,\"=3\",COUNTRY_INFO!G$9:G$1000)","v":3370474.3095937935}]
[null,"Number of IUs where PC was implemented (total)",null,null,{"$f":"COUNTIF(DISTRICT!G$9:G$1000,\">0\")","v":0},{"$f":"COUNTIF(DISTRICT!M$9:M$1000,\">0\")","v":9},{"$f":"COUNTIF(DISTRICT!S$9:S$1000,\">0\")","v":134},{"$f":"COUNTIF(DISTRICT!AC$9:AC$1000,\">0\")","v":65}]
[null,"Number of IUs in need where PC was implemented (total)",null,null,{"$f":"COUNTIF(DISTRICT!H$9:H$1000,\">0\")","v":0},{"$f":"COUNTIF(DISTRICT!N$9:N$1000,\">0\")","v":9},{"$f":"COUNTIF(DISTRICT!X$9:X$1000,\">0\")","v":134},{"$f":"COUNTIF(DISTRICT!AH$9:AH$1000,\">0\")","v":65}]
[null,null,"Pre-SAC",null,null,null,{"$f":"COUNTIF(DISTRICT!T$9:T$1000,\">0\")","v":0}]
[null,null,"SAC",null,null,null,{"$f":"COUNTIF(DISTRICT!V$9:V$1000,\">0\")","v":134},{"$f":"COUNTIF(DISTRICT!AD$9:AD$1000,\">0\")","v":65}]
[null,null,"Adults",null,null,null,null,{"$f":"COUNTIF(DISTRICT!AF$9:AF$1000,\">0\")","v":0}]
[null,"Number of individuals treated (total)",null,null,{"$f":"DISTRICT!G4","v":0},{"$f":"DISTRICT!M4","v":1810191},{"$f":"DISTRICT!S4","v":7257711},{"$f":"DISTRICT!AC4","v":3199570}]
[null,null,"Pre-SAC",null,{"$f":"SUMMARY!$E17","v":"Not eligible"},{"$f":"SUMMARY!$E18","v":"Not eligible"},{"$f":"SUMMARY!$E19","v":0},{"$f":"SUMMARY!$E20","v":"Not targeted"}]
[null,null,"SAC",null,{"$f":"SUMMARY!$F17","v":0},{"$f":"SUMMARY!$F18","v":345747},{"$f":"SUMMARY!$F19","v":7257711},{"$f":"SUMMARY!$F20","v":3199570}]
[null,null,"Adults",null,{"$f":"SUMMARY!$G17","v":0},{"$f":"SUMMARY!$G18","v":1464444},{"$f":"SUMMARY!$G19","v":0},{"$f":"SUMMARY!$G20","v":0}]
[null,"Number of individuals in need treated (total)",null,null,{"$f":"DISTRICT!H4","v":0},{"$f":"DISTRICT!N4","v":1810191},{"$f":"DISTRICT!X4","v":7257711},{"$f":"DISTRICT!AH4","v":1958663}]
[null,null,"Pre-SAC",null,null,null,{"$f":"DISTRICT!T4","v":0}]
[null,null,"SAC",null,null,null,{"$f":"DISTRICT!V4","v":7257711},{"$f":"DISTRICT!AD4","v":1958663}]
[null,null,"Adults",null,null,null,null,{"$f":"DISTRICT!AF4","v":0}]
[null,"Geographical coverage (all ages)",null,null,{"$f":"IF(E31<>0,E44/E31,0)","v":0},{"$f":"IF(F31<>0,F44/F31,0)","v":0.32142857142857145},{"$f":"IF(G31<>0,G44/G31,0)","v":0.72432432432432436},{"$f":"IF(H31<>0,H44/H31,0)","v":0.35135135135135137}]
[null,null,"Pre-SAC",null,null,null,{"$f":"IF(G31<>0,G45/G31,0)","v":0}]
[null,null,"SAC",null,null,null,{"$f":"IF(G31<>0,G46/G31,0)","v":0.72432432432432436},{"$f":"IF(H31<>0,H46/H31,0)","v":0.35135135135135137}]
[null,null,"Adults",null,null,null,null,{"$f":"IF(SUM(H33:H34)<>0,H47/SUM(H33:H34),0)","v":0}]
[null,"National coverage (total)",null,null,{"$f":"IF(E35<>0,E52/E35,0)","v":0},{"$f":"IF(F35<>0,F52/F35,0)","v":0.27528559013647935},{"$f":"IF(G35<>0,G52/G35,0)","v":0.37615494220313467},{"$f":"IF(H35<>0,H52/H35,0)","v":0.11874230191080391}]
[null,null,"Pre-SAC",null,null,null,{"$f":"IF(SUM(G36:G37)<>0,G53/SUM(G36:G37),0)","v":0}]
[null,null,"SAC",null,null,null,{"$f":"IF(SUM(G39:G40)<>0,G54/SUM(G39:G40),0)","v":0.59200709653737915},{"$f":"IF(SUM(H38:H40)<>0,H54/SUM(H38:H40),0)","v":0.29014412007841311}]
[null,null,"Adults",null,null,null,null,{"$f":"IF(SUM(H41:H42)<>0,H55/SUM(H41:H42),0)","v":0}]
[null,null,null,null,"LF","ONCHO","STH","SCH"]
[]
[null,"Number of IUs achieved effective coverage (all ages)",null,null,{"$f":"COUNTIF(DISTRICT!I$9:I$1000,\">=65\")","v":0},{"$f":"COUNTIF(DISTRICT!O$9:O$1000,\">=65\")","v":9},{"$f":"COUNTIF(DISTRICT!Y$9:Y$1000,\">=75\")","v":0},{"$f":"COUNTIF(DISTRICT!AI$9:AI$1000,\">=75\")","v":0}]
[null,null,"Pre-SAC",null,null,null,{"$f":"COUNTIF(DISTRICT!U$9:U$1000,\">=75\")","v":0}]
[null,null,"SAC",null,null,null,{"$f":"COUNTIF(DISTRICT!W$9:W$1000,\">=75\")","v":134},{"$f":"COUNTIF(DISTRICT!AE$9:AE$1000,\">=75\")","v":65}]
[null,null,"Adults",null,null,null,null,{"$f":"COUNTIF(DISTRICT!AG$9:AG$1000,\">=75\")","v":0}]
[null,"Number of individuals in need treated in IUs achieved effective coverage (total)",null,null,{"$f":"SUMIF(DISTRICT!I9:I1000,\">=65\",DISTRICT!H9:H1000)","v":0},{"$f":"SUMIF(DISTRICT!O9:O1000,\">=65\",DISTRICT!N9:N1000)","v":1810191},{"$f":"SUMIF(DISTRICT!Y9:Y1000,\">=75\",DISTRICT!X9:X1000)","v":0},{"$f":"SUMIF(DISTRICT!AI9:AI1000,\">=75\",DISTRICT!AH9:AH1000)","v":0}]
[null,null,"Pre-SAC",null,null,null,{"$f":"SUMIF(DISTRICT!U9:U1000,\">=75\",DISTRICT!T9:T1000)","v":0}]
[null,null,"SAC",null,null,null,{"$f":"SUMIF(DISTRICT!W9:W1000,\">=75\",DISTRICT!V9:V1000)","v":7257711},{"$f":"SUMIF(DISTRICT!AE9:AE1000,\">=75\",DISTRICT!AD9:AD1000)","v":1958663}]
[null,null,"Adults",null,null,null,null,{"$f":"SUMIF(DISTRICT!AG9:AG1000,\">=75\",DISTRICT!AF9:AF1000)","v":0}]
[null,"Proportion of IUs requiring PC and achieved effective coverage (total)",null,null,{"$f":"IF(E44<>0,E66/E44,0)","v":0},{"$f":"IF(F44<>0,F66/F44,0)","v":1},{"$f":"IF(G44<>0,G66/G44,0)","v":0},{"$f":"IF(H44<>0,H66/H44,0)","v":0}]
[null,null,"Pre-SAC",null,null,null,{"$f":"IF(G45<>0,G67/G45,0)","v":0}]
[null,null,"SAC",null,null,null,{"$f":"IF(G46<>0,G68/G46,0)","v":1},{"$f":"IF(H46<>0,H68/H46,0)","v":1}]
[null,null,"Adults",null,null,null,null,{"$f":"IF(H47<>0,H69/H47,0)","v":0}]
[null,"Number of implementation units where PC was stopped (i.e. under surveillance)",null,null,{"$f":"COUNTIF(COUNTRY_INFO!H$9:H$1000,\"=99\")","v":105},{"$f":"COUNTIF(COUNTRY_INFO!I$9:I$1000,\"=99\")","v":0}]
[null,"Number of individuals in IUs no longer requiring PC (stopped)",null,null,{"$f":"SUMIF(COUNTRY_INFO!H$9:H$1000,\"=99\",COUNTRY_INFO!D$9:D$1000)","v":25076405.859362833},{"$f":"SUMIF(COUNTRY_INFO!I$9:I$1000,\"=99\",COUNTRY_INFO!D$9:D$1000)","v":0}]
[null,"Number of individuals requiring PC living in IUs targeted with PC",null,null,{"$f":"SUMIF(DISTRICT!H$9:H$1000,\">0\",DISTRICT!D$9:D$1000)","v":0},{"$f":"SUMIF(DISTRICT!N$9:N$1000,\">0\",DISTRICT!J$9:J$1000)","v":2142071.5953946789},{"$f":"SUMIF(DISTRICT!X$9:X$1000,\">0\",DISTRICT!P$9:P$1000)","v":11861870},{"$f":"SUMIF(DISTRICT!AH$9:AH$1000,\">0\",DISTRICT!Z$9:Z$1000)","v":5312147.0092653343}]
[null,"Number of individuals requiring PC living in IUs not targeted with PC",null,null,{"$f":"SUMIF(DISTRICT!H$9:H$1000,\"=0\",DISTRICT!D$9:D$1000)","v":8238488.7704826714},{"$f":"SUMIF(DISTRICT!N$9:N$1000,\"=0\",DISTRICT!J$9:J$1000)","v":4433612.2211921429},{"$f":"SUMIF(DISTRICT!X$9:X$1000,\"=0\",DISTRICT!P$9:P$1000)","v":7432602},{"$f":"SUMIF(DISTRICT!AH$9:AH$1000,\"=0\",DISTRICT!Z$9:Z$1000)","v":11182926.511132607}]
[null,null,null,null,{"$f":"E35-E52","v":8238488.7704826714},{"$f":"F35-F52","v":4765492.8165868213},12036761,14536410.520397946]
[null,"Number of IUs requiring and receiving PC",null,null,{"$f":"E31-E44","v":15},{"$f":"F31-F44","v":19},51,120]
[null,null,null,null,{"$f":"E27-E31-E29","v":170},157,0,{"$f":"H27-H31-H29","v":0}]
[]
[null,null,null,null,null,null,"Requiring and receiving PC"]
[null,null,null,null,null,null,"Requiring and not receiving PC"]
[null,null,null,null,null,null,"Not requiring PC"]
[null,null,null,null,null,null,"Status unknown"]
[]
[]
[]
[]
[]
[]
[]
[]
[]
[]
[]
[]
[]
[]
[]
[]
[]
[]
[]
[]
[]
[]
[]
[]
[]
[]
[]
[]
[]
[]
[]
[]
[]
[]
[null,"Click here to access data Preventive Chemotherapy Data Portal"]

{"sheet":"DATA_POLICY","index":12,"n_rows":39,"n_cols":8,"rows_kept":39,"cut":false,"hidden":true,"merged":[[55,1,55,2],[8,1,12,7],[13,1,16,7],[26,2,36,7],[38,1,45,7],[6,1,6,7],[17,1,21,7],[22,1,25,7],[0,1,0,5],[1,1,1,7],[3,3,3,5]]}
[]
[null,"PC Joint Reporting Form v.3.1"]
[]
[null,"Country",null,{"$f":"IF(INTRO!$E$34<>0,INTRO!$E$34,\" \")","v":"Tanzania"},null,null,"Year",{"$f":"IF(INTRO!$E$36<>0,INTRO!$E$36,\" \")","v":2020}]
[]
[]
[null,"WHO Data Sharing Policy statement"]
[]
[null,"Data are the basis for all sound public health actions and the benefits of data sharing are widely recognized, including scientific and public health benefits. Whenever possible, WHO wishes to promote the sharing of health data, including but not restricted to surveillance and epidemiological data.  "]
[]
[]
[]
[]
[null,{"$f":"\"In this connection, and without prejudice to information sharing and publication pursuant to legally binding instruments, by providing data to WHO, the Ministry of Health of \" & D4 & \":\"","v":"In this connection, and without prejudice to information sharing and publication pursuant to legally binding instruments, by providing data to WHO, the Ministry of Health of Tanzania:"}]
[]
[]
[]
[null,"Confirms that all data to be supplied to WHO hereunder have been collected in accordance with applicable national laws, including data protection laws aimed at protecting the confidentiality of identifiable persons;"]
[]
[]
[]
[]
[null,{"$f":"\"Agrees that WHO shall be entitled, subject always to measures to ensure the ethical and secure use of the data, and subject always to an appropriate acknowledgement of \"&D4&\":\"","v":"Agrees that WHO shall be entitled, subject always to measures to ensure the ethical and secure use of the data, and subject always to an appropriate acknowledgement of Tanzania:"}]
[]
[]
[]
[null,null,"to publish the data, stripped of any personal identifiers and make the Data available to any interested party on request (to the extent they have not, or not yet, been published by WHO) on terms that allow non-commercial, not-for-profit use of the Data for public health purposes (provided always that publication of the Data shall remain under the control of WHO); \nto use, compile, aggregate, evaluate and analyse the Data and publish and disseminate the results thereof in conjunction with WHO’s work and in accordance with the Organization’s policies and practices."]
[]
[]
[]
[]
[]
[]
[]
[]
[]
[]
[]
[null,{"$f":"CONCATENATE(\"Except where data sharing and publication is required under legally binding instruments (IHR, WHO Nomenclature Regulations 1967, etc.), the Ministry of Health of \", D4,\" may in respect of certain data opt out of (any part of) the above,\" & \" by notifying WHO thereof in writing at the following address, provided that any such notification shall clearly identify the data in question and clearly indicate the scope of the opt-out (in reference to the  above), \" & \"and provided that specific reasons shall be given for the opt out.\")","v":"Except where data sharing and publication is required under legally binding instruments (IHR, WHO Nomenclature Regulations 1967, etc.), the Ministry of Health of Tanzania may in respect of certain data opt out of (any part of) the above, by notifying WHO thereof in writing at the following address, provided that any such notification shall clearly identify the data in question and clearly indicate the scope of the opt-out (in reference to the  above), and provided that specific reasons shall be given for the opt out."}]