{"text_format":"1","workbook":"xlsx","n_sheets":13,"sheets":["INTRO","COUNTRY_INFO","MDA1","MDA2","MDA3","T1","T2","T3_R1","T3_R2","DISTRICT","SUMMARY","PROFILE","DATA_POLICY"],"not_rendered":{"charts":8,"images":3,"macros":1,"external_links":0,"defined_names":5,"comments":12,"pivot_tables":0},"unopened":[],"bounds":{"document_bytes":16777216,"sheet_cells":100000,"rows_first":2000,"rows_last":500,"rows_between":2000,"halvings":0,"cell_chars":16384,"cell_head_chars":4096},"cells_cut":0,"cells_raw":0,"read":"whole","date_system":"1900"}

{"sheet":"INTRO","index":0,"n_rows":50,"n_cols":5,"rows_kept":50,"cut":false,"hidden":false,"merged":[[7,2,7,4],[8,2,8,4],[0,1,0,4],[1,1,1,4],[2,1,2,4],[3,1,3,4],[4,1,4,4],[5,1,5,4],[9,2,9,4],[11,2,11,4],[12,1,12,4],[13,1,13,4],[14,1,14,4],[22,1,22,4],[23,2,24,4],[25,1,25,4],[15,1,15,4],[16,1,16,4],[17,1,17,4],[18,1,18,4],[19,2,19,4],[45,1,45,2],[10,2,10,4],[41,1,41,2],[43,1,43,2],[46,1,46,4],[33,1,33,2],[35,1,35,2],[26,2,27,4],[37,1,37,2],[39,1,39,2],[28,1,28,4],[29,2,29,4],[30,1,30,4],[31,1,31,4],[20,1,20,4],[21,2,21,4]]}
[]
[null,"PC Joint Reporting Form v.3.1"]
[]
[null,"The purpose of this template Joint Reporting Form (JRF) - available as an Excel file - is to provide national health authorities and data managers with a standardized tool to address these reporting challenges, facilitate  integration and thereby further contribute to improving overall programme management. This template aims to standardize national reporting of programme implementation outcomes, improve availability and coordination of preventive chemotherapy data across the World Health Organization regions. \nNational authorities are requested to complete this form for submission to the World Health Organization any time before 15 August of the current year for reporting data on PC interventions implemented during the previous year."]
[]
[null,"Structure of the application (worksheets):"]
[]
[null,"INTRO","This worksheet includes guides on how to complete the joint reporting form and information about status of PC for endemic diseases in the country"]
[null,"COUNTRY_INFO","This worksheet includes information about administrative structure of the country, population by age group, status of endemicity for each disease, population requiring PC, planned interventions and interventions implemented"]
[null,"MDA1, MDA2, MDA3, T1, T2 and T3","These worksheets include information about endemic districts targeted for treatment with specified PC medicines, treatment plan, and number of people who received treatment by age group"]
[null,"DISTRICT","This worksheet includes summary of people treated by disease at the level of implementation. If data by gender is available, it requires to enter."]
[null,"SUMMARY","This worksheet includes summary of people treated by disease and by PC intervention. Before generating the report (run macros) please select the disease for which you need the report. Follow the same rule to generate various reports.\nThis worksheet should be printed and submitted as a Joint Report (see the instruction for submission in the SUMMARY worksheet)."]
[]
[null,"Instruction for data entry"]
[]
[null,"Most of the cells in the above-mentioned worksheets include formula that are calculated automatically according to the treatment policy recommended by WHO for each disease.\nSee the link http://www.who.int/neglected_diseases/preventive_chemotherapy/pct_manual/en/index.html"]
[]
[null,"Please enter your data into the cells according to their colour code:"]
[]
[null,null,"White - cell is not protected. Please enter the value of the requested indicator."]
[]
[null,null,"Yellow - cell is protected and includes name of indicator. No data entry required."]
[]
[null,null,"Orange - cell is not protected and includes a drop-down menu. Please select the value from the drop-down list."]
[]
[]
[null,null,"Green - cell is not protected and includes formula. Please change the value only if your data are different from those that are calculated automatically."]
[]
[]
[null,null,"Blue - cell is protected and includes formula. No data entry required."]
[]
[null,"Country data"]
[]
[null,"COUNTRY",null,null,"Tanzania"]
[]
[null,"Year of reporting data",null,null,2018]
[]
[null,"Is country endemic for lymphatic filariasis (LF)?",null,null,"Endemic"]
[]
[null,"Is country endemic for onchocerciasis (ONCHO)?",null,null,"Endemic"]
[]
[null,"Is country endemic for soil-transmitted helminthiases (STH)?",null,null,"Endemic"]
[]
[null,"Is country endemic for schistosomiasis (SCH)?",null,null,"Endemic"]
[]
[null,"How many administrative units in the country?",null,null,185]
[null,"If demographical data at the second administrative level are not available by age group, please enter the proportion (%) of population by age group in the country. If data are available, please leave these cells blank."]
[null,"1-4 years age","Preschool-age children (PreSAC)",null,0.129]
[null,"5-14 years age","School-age children (SAC)",null,0.191]
[null,"15 years +","Adults",null,0.68]

{"sheet":"COUNTRY_INFO","index":1,"n_rows":193,"n_cols":28,"rows_kept":193,"cut":false,"hidden":false,"merged":[[3,21,3,22],[5,21,5,22],[5,3,5,6],[5,7,5,10],[5,11,5,14],[5,19,5,20],[3,0,3,2],[3,7,3,10],[3,19,3,20],[5,0,5,2],[3,15,3,18],[5,15,5,18]]}
["COUNTRY INFORMATION"]
["Administrative structure, population by age group, endemicity status, planned interventions and interventions implemented"]
[]
["TOTAL",null,null,{"$f":"SUM(D$9:D$1000)","v":51855766},{"$f":"SUM(E$9:E$1000)","v":5757577.9373612683},{"$f":"SUM(F$9:F$1000)","v":11292889},{"$f":"SUM(G$9:G$1000)","v":34805301.06263873},null,null,null,null,{"$f":"SUM(L$9:L$1000)","v":9986963},{"$f":"SUM(M$9:M$1000)","v":6528587},{"$f":"SUM(N$9:N$1000)","v":17050466.93736127},{"$f":"SUM(O$9:O$1000)","v":15895883.790992608}]
[]
["Country administrative structure",null,null,"Population",null,null,null,"Endemicity",null,null,null,"Population requiring PC",null,null,null,"Number of treatment\nrounds planned for the year",null,null,null,"PC implemented",null,"Click to see the recommended strategy"]
["Country","Province/State","District","Total","PreSAC","SAC","Adults","LF","Oncho","STH","SCH","LF","Oncho","STH","SCH","LF","Oncho","STH","SCH","ROUND 1","ROUND2",null,null,"IU_ID","IU_Name"]
[]
[{"$f":"IF(INTRO!$E$34<>0,INTRO!$E$34,\"\")","v":"Tanzania"},"Arusha","Arusha City Council",488627,34814,102461,351352,0,0,3,2,{"$f":"IF(INTRO!$E$38=\"Endemic\", IF($H9>0, IF($H9=4,\"Unknown\", IF($H9=99,\"Stopped\", $D9)), 0),\"Not required\")","v":0},{"$f":"IF(INTRO!$E$40=\"Endemic\", IF($I9>0, IF($I9=4,\"Unknown\",IF($I9=99,\"Stopped\", $D9)), 0),\"Not required\")","v":0},{"$f":"IF(INTRO!$E$42=\"Endemic\", IF(AND($J9>1,$J9<5), IF($J9=4, \"Unknown\", E9+F9), 0),\"Not required\")","v":137275},{"$f":"IF(INTRO!$E$44=\"Endemic\", IF(AND($K9>0,$K9<5), IF($K9=4,\"Unknown\", IF($K9=1, $F9*0.33, IF($K9=2, $F9*0.5+$G9*0.2, SUM(F9:G9)))), 0),\"Not required\")","v":121500.90000000001},0,0,1,0,null,"T3 (ALB/MBD)",null,null,46459,"Arusha City Council",null,null,{"$f":"Y9=C9","v":true}]
[{"$f":"IF(INTRO!$E$34<>0,INTRO!$E$34,\"\")","v":"Tanzania"},"Arusha","Arusha District Council",379220,48919,72732,257569,0,0,3,2,{"$f":"IF(INTRO!$E$38=\"Endemic\", IF($H10>0, IF($H10=4,\"Unknown\", IF($H10=99,\"Stopped\", $D10)), 0),\"Not required\")","v":0},{"$f":"IF(INTRO!$E$40=\"Endemic\", IF($I10>0, IF($I10=4,\"Unknown\",IF($I10=99,\"Stopped\", $D10)), 0),\"Not required\")","v":0},{"$f":"IF(INTRO!$E$42=\"Endemic\", IF(AND($J10>1,$J10<5), IF($J10=4, \"Unknown\", E10+F10), 0),\"Not required\")","v":121651},{"$f":"IF(INTRO!$E$44=\"Endemic\", IF(AND($K10>0,$K10<5), IF($K10=4,\"Unknown\", IF($K10=1, $F10*0.33, IF($K10=2, $F10*0.5+$G10*0.2, SUM(F10:G10)))), 0),\"Not required\")","v":87879.8},0,0,1,0,null,"T3 (ALB/MBD)",null,null,46460,"Arusha District Council",null,null,{"$f":"Y10=C10","v":true}]
[{"$f":"IF(INTRO!$E$34<>0,INTRO!$E$34,\"\")","v":"Tanzania"},"Arusha","Karatu District Council",270062,30771,56712,182579,0,0,3,2,{"$f":"IF(INTRO!$E$38=\"Endemic\", IF($H11>0, IF($H11=4,\"Unknown\", IF($H11=99,\"Stopped\", $D11)), 0),\"Not required\")","v":0},{"$f":"IF(INTRO!$E$40=\"Endemic\", IF($I11>0, IF($I11=4,\"Unknown\",IF($I11=99,\"Stopped\", $D11)), 0),\"Not required\")","v":0},{"$f":"IF(INTRO!$E$42=\"Endemic\", IF(AND($J11>1,$J11<5), IF($J11=4, \"Unknown\", E11+F11), 0),\"Not required\")","v":87483},{"$f":"IF(INTRO!$E$44=\"Endemic\", IF(AND($K11>0,$K11<5), IF($K11=4,\"Unknown\", IF($K11=1, $F11*0.33, IF($K11=2, $F11*0.5+$G11*0.2, SUM(F11:G11)))), 0),\"Not required\")","v":64871.8},0,0,1,0,null,"T3 (ALB/MBD)",null,null,46461,"Karatu District Council",null,null,true]
[{"$f":"IF(INTRO!$E$34<>0,INTRO!$E$34,\"\")","v":"Tanzania"},"Arusha","Longido District Council",144500,18640,30561,95299,0,0,3,2,{"$f":"IF(INTRO!$E$38=\"Endemic\", IF($H12>0, IF($H12=4,\"Unknown\", IF($H12=99,\"Stopped\", $D12)), 0),\"Not required\")","v":0},{"$f":"IF(INTRO!$E$40=\"Endemic\", IF($I12>0, IF($I12=4,\"Unknown\",IF($I12=99,\"Stopped\", $D12)), 0),\"Not required\")","v":0},{"$f":"IF(INTRO!$E$42=\"Endemic\", IF(AND($J12>1,$J12<5), IF($J12=4, \"Unknown\", E12+F12), 0),\"Not required\")","v":49201},{"$f":"IF(INTRO!$E$44=\"Endemic\", IF(AND($K12>0,$K12<5), IF($K12=4,\"Unknown\", IF($K12=1, $F12*0.33, IF($K12=2, $F12*0.5+$G12*0.2, SUM(F12:G12)))), 0),\"Not required\")","v":34340.300000000003},0,0,1,0,null,"T3 (ALB/MBD)",null,null,46462,"Longido District Council",null,null,true]
[{"$f":"IF(INTRO!$E$34<>0,INTRO!$E$34,\"\")","v":"Tanzania"},"Arusha","Meru District Council",314623,37095,64102,213426,0,0,3,2,{"$f":"IF(INTRO!$E$38=\"Endemic\", IF($H13>0, IF($H13=4,\"Unknown\", IF($H13=99,\"Stopped\", $D13)), 0),\"Not required\")","v":0},{"$f":"IF(INTRO!$E$40=\"Endemic\", IF($I13>0, IF($I13=4,\"Unknown\",IF($I13=99,\"Stopped\", $D13)), 0),\"Not required\")","v":0},{"$f":"IF(INTRO!$E$42=\"Endemic\", IF(AND($J13>1,$J13<5), IF($J13=4, \"Unknown\", E13+F13), 0),\"Not required\")","v":101197},{"$f":"IF(INTRO!$E$44=\"Endemic\", IF(AND($K13>0,$K13<5), IF($K13=4,\"Unknown\", IF($K13=1, $F13*0.33, IF($K13=2, $F13*0.5+$G13*0.2, SUM(F13:G13)))), 0),\"Not required\")","v":74736.200000000012},0,0,1,0,null,"T3 (ALB/MBD)",null,null,46463,"Meru District Council",null,null,true]
[{"$f":"IF(INTRO!$E$34<>0,INTRO!$E$34,\"\")","v":"Tanzania"},"Arusha","Monduli District Council",186477,24055,38063,124359,0,0,3,2,{"$f":"IF(INTRO!$E$38=\"Endemic\", IF($H14>0, IF($H14=4,\"Unknown\", IF($H14=99,\"Stopped\", $D14)), 0),\"Not required\")","v":0},{"$f":"IF(INTRO!$E$40=\"Endemic\", IF($I14>0, IF($I14=4,\"Unknown\",IF($I14=99,\"Stopped\", $D14)), 0),\"Not required\")","v":0},{"$f":"IF(INTRO!$E$42=\"Endemic\", IF(AND($J14>1,$J14<5), IF($J14=4, \"Unknown\", E14+F14), 0),\"Not required\")","v":62118},{"$f":"IF(INTRO!$E$44=\"Endemic\", IF(AND($K14>0,$K14<5), IF($K14=4,\"Unknown\", IF($K14=1, $F14*0.33, IF($K14=2, $F14*0.5+$G14*0.2, SUM(F14:G14)))), 0),\"Not required\")","v":43903.3},0,0,1,0,null,"T3 (ALB/MBD)",null,null,46464,"Monduli District Council",null,null,true]
[{"$f":"IF(INTRO!$E$34<>0,INTRO!$E$34,\"\")","v":"Tanzania"},"Arusha","Ngorongoro District Council",204487,26379,42851,135257,0,0,3,2,{"$f":"IF(INTRO!$E$38=\"Endemic\", IF($H15>0, IF($H15=4,\"Unknown\", IF($H15=99,\"Stopped\", $D15)), 0),\"Not required\")","v":0},{"$f":"IF(INTRO!$E$40=\"Endemic\", IF($I15>0, IF($I15=4,\"Unknown\",IF($I15=99,\"Stopped\", $D15)), 0),\"Not required\")","v":0},{"$f":"IF(INTRO!$E$42=\"Endemic\", IF(AND($J15>1,$J15<5), IF($J15=4, \"Unknown\", E15+F15), 0),\"Not required\")","v":69230},{"$f":"IF(INTRO!$E$44=\"Endemic\", IF(AND($K15>0,$K15<5), IF($K15=4,\"Unknown\", IF($K15=1, $F15*0.33, IF($K15=2, $F15*0.5+$G15*0.2, SUM(F15:G15)))), 0),\"Not required\")","v":48476.9},0,0,1,0,null,"T3 (ALB/MBD)",null,null,46465,"Ngorongoro District Council",null,null,true]
[{"$f":"IF(INTRO!$E$34<>0,INTRO!$E$34,\"\")","v":"Tanzania"},"Dar Es Salaam","Dar es Salaam City Council ",1,1,1,1,1,0,3,2,{"$f":"IF(INTRO!$E$38=\"Endemic\", IF($H16>0, IF($H16=4,\"Unknown\", IF($H16=99,\"Stopped\", $D16)), 0),\"Not required\")","v":1},{"$f":"IF(INTRO!$E$40=\"Endemic\", IF($I16>0, IF($I16=4,\"Unknown\",IF($I16=99,\"Stopped\", $D16)), 0),\"Not required\")","v":0},{"$f":"IF(INTRO!$E$42=\"Endemic\", IF(AND($J16>1,$J16<5), IF($J16=4, \"Unknown\", E16+F16), 0),\"Not required\")","v":2},{"$f":"IF(INTRO!$E$44=\"Endemic\", IF(AND($K16>0,$K16<5), IF($K16=4,\"Unknown\", IF($K16=1, $F16*0.33, IF($K16=2, $F16*0.5+$G16*0.2, SUM(F16:G16)))), 0),\"Not required\")","v":0.7},1,0,1,1,"MDA1 (IVM+ALB)","T1 (PZQ+ALB/MBD)",null,null,46623,"Dar es Salaam City Council ",null,null,true]
[{"$f":"IF(INTRO!$E$34<>0,INTRO!$E$34,\"\")","v":"Tanzania"},"Dar Es Salaam","Ilala Municipal Council",1787412,313135,230745,1243532,1,0,3,2,{"$f":"IF(INTRO!$E$38=\"Endemic\", IF($H17>0, IF($H17=4,\"Unknown\", IF($H17=99,\"Stopped\", $D17)), 0),\"Not required\")","v":1787412},{"$f":"IF(INTRO!$E$40=\"Endemic\", IF($I17>0, IF($I17=4,\"Unknown\",IF($I17=99,\"Stopped\", $D17)), 0),\"Not required\")","v":0},{"$f":"IF(INTRO!$E$42=\"Endemic\", IF(AND($J17>1,$J17<5), IF($J17=4, \"Unknown\", E17+F17), 0),\"Not required\")","v":543880},{"$f":"IF(INTRO!$E$44=\"Endemic\", IF(AND($K17>0,$K17<5), IF($K17=4,\"Unknown\", IF($K17=1, $F17*0.33, IF($K17=2, $F17*0.5+$G17*0.2, SUM(F17:G17)))), 0),\"Not required\")","v":364078.9},1,0,1,1,"MDA1 (IVM+ALB)","T1 (PZQ+ALB/MBD)",null,null,46466,"Ilala Municipal Council",null,null,true]
[{"$f":"IF(INTRO!$E$34<>0,INTRO!$E$34,\"\")","v":"Tanzania"},"Dar Es Salaam","Kigamboni Municipal Council",236331,39538,32119,164674,1,0,3,2,{"$f":"IF(INTRO!$E$38=\"Endemic\", IF($H18>0, IF($H18=4,\"Unknown\", IF($H18=99,\"Stopped\", $D18)), 0),\"Not required\")","v":236331},{"$f":"IF(INTRO!$E$40=\"Endemic\", IF($I18>0, IF($I18=4,\"Unknown\",IF($I18=99,\"Stopped\", $D18)), 0),\"Not required\")","v":0},{"$f":"IF(INTRO!$E$42=\"Endemic\", IF(AND($J18>1,$J18<5), IF($J18=4, \"Unknown\", E18+F18), 0),\"Not required\")","v":71657},{"$f":"IF(INTRO!$E$44=\"Endemic\", IF(AND($K18>0,$K18<5), IF($K18=4,\"Unknown\", IF($K18=1, $F18*0.33, IF($K18=2, $F18*0.5+$G18*0.2, SUM(F18:G18)))), 0),\"Not required\")","v":48994.3},1,0,1,1,"MDA1 (IVM+ALB)","T1 (PZQ+ALB/MBD)",null,null,46624,"Kigamboni Municipal Council",null,null,true]
[{"$f":"IF(INTRO!$E$34<>0,INTRO!$E$34,\"\")","v":"Tanzania"},"Dar Es Salaam","Kinondoni Municipal Council",1289192,166306,158969,963917,1,0,3,2,{"$f":"IF(INTRO!$E$38=\"Endemic\", IF($H19>0, IF($H19=4,\"Unknown\", IF($H19=99,\"Stopped\", $D19)), 0),\"Not required\")","v":1289192},{"$f":"IF(INTRO!$E$40=\"Endemic\", IF($I19>0, IF($I19=4,\"Unknown\",IF($I19=99,\"Stopped\", $D19)), 0),\"Not required\")","v":0},{"$f":"IF(INTRO!$E$42=\"Endemic\", IF(AND($J19>1,$J19<5), IF($J19=4, \"Unknown\", E19+F19), 0),\"Not required\")","v":325275},{"$f":"IF(INTRO!$E$44=\"Endemic\", IF(AND($K19>0,$K19<5), IF($K19=4,\"Unknown\", IF($K19=1, $F19*0.33, IF($K19=2, $F19*0.5+$G19*0.2, SUM(F19:G19)))), 0),\"Not required\")","v":272267.90000000002},1,0,1,1,"MDA1 (IVM+ALB)","T1 (PZQ+ALB/MBD)",null,null,46467,"Kinondoni Municipal Council",null,null,true]
[{"$f":"IF(INTRO!$E$34<>0,INTRO!$E$34,\"\")","v":"Tanzania"},"Dar Es Salaam","Temeke Municipal Council",1672293,215725,237727,1218841,1,0,3,2,{"$f":"IF(INTRO!$E$38=\"Endemic\", IF($H20>0, IF($H20=4,\"Unknown\", IF($H20=99,\"Stopped\", $D20)), 0),\"Not required\")","v":1672293},{"$f":"IF(INTRO!$E$40=\"Endemic\", IF($I20>0, IF($I20=4,\"Unknown\",IF($I20=99,\"Stopped\", $D20)), 0),\"Not required\")","v":0},{"$f":"IF(INTRO!$E$42=\"Endemic\", IF(AND($J20>1,$J20<5), IF($J20=4, \"Unknown\", E20+F20), 0),\"Not required\")","v":453452},{"$f":"IF(INTRO!$E$44=\"Endemic\", IF(AND($K20>0,$K20<5), IF($K20=4,\"Unknown\", IF($K20=1, $F20*0.33, IF($K20=2, $F20*0.5+$G20*0.2, SUM(F20:G20)))), 0),\"Not required\")","v":362631.7},1,0,1,1,"MDA1 (IVM+ALB)","T1 (PZQ+ALB/MBD)",null,null,46468,"Temeke Municipal Council",null,null,true]
[{"$f":"IF(INTRO!$E$34<>0,INTRO!$E$34,\"\")","v":"Tanzania"},"Dar Es Salaam","Ubungo Municipal Council",1172274,151223,144552,876499,1,0,3,2,{"$f":"IF(INTRO!$E$38=\"Endemic\", IF($H21>0, IF($H21=4,\"Unknown\", IF($H21=99,\"Stopped\", $D21)), 0),\"Not required\")","v":1172274},{"$f":"IF(INTRO!$E$40=\"Endemic\", IF($I21>0, IF($I21=4,\"Unknown\",IF($I21=99,\"Stopped\", $D21)), 0),\"Not required\")","v":0},{"$f":"IF(INTRO!$E$42=\"Endemic\", IF(AND($J21>1,$J21<5), IF($J21=4, \"Unknown\", E21+F21), 0),\"Not required\")","v":295775},{"$f":"IF(INTRO!$E$44=\"Endemic\", IF(AND($K21>0,$K21<5), IF($K21=4,\"Unknown\", IF($K21=1, $F21*0.33, IF($K21=2, $F21*0.5+$G21*0.2, SUM(F21:G21)))), 0),\"Not required\")","v":247575.80000000002},1,0,1,1,"MDA1 (IVM+ALB)","T1 (PZQ+ALB/MBD)",null,null,46625,"Ubungo Municipal Council",null,null,true]
[{"$f":"IF(INTRO!$E$34<>0,INTRO!$E$34,\"\")","v":"Tanzania"},"Dodoma","Bahi District Council",251080,32389,51182,167509,99,0,3,2,{"$f":"IF(INTRO!$E$38=\"Endemic\", IF($H22>0, IF($H22=4,\"Unknown\", IF($H22=99,\"Stopped\", $D22)), 0),\"Not required\")","v":"Stopped"},{"$f":"IF(INTRO!$E$40=\"Endemic\", IF($I22>0, IF($I22=4,\"Unknown\",IF($I22=99,\"Stopped\", $D22)), 0),\"Not required\")","v":0},{"$f":"IF(INTRO!$E$42=\"Endemic\", IF(AND($J22>1,$J22<5), IF($J22=4, \"Unknown\", E22+F22), 0),\"Not required\")","v":83571},{"$f":"IF(INTRO!$E$44=\"Endemic\", IF(AND($K22>0,$K22<5), IF($K22=4,\"Unknown\", IF($K22=1, $F22*0.33, IF($K22=2, $F22*0.5+$G22*0.2, SUM(F22:G22)))), 0),\"Not required\")","v":59092.800000000003},0,0,1,0,null,"T3 (ALB/MBD)",null,null,46469,"Bahi District Council",null,null,true]
[{"$f":"IF(INTRO!$E$34<>0,INTRO!$E$34,\"\")","v":"Tanzania"},"Dodoma","Chamwino District Council",374440,48303,79517,246620,99,0,3,2,{"$f":"IF(INTRO!$E$38=\"Endemic\", IF($H23>0, IF($H23=4,\"Unknown\", IF($H23=99,\"Stopped\", $D23)), 0),\"Not required\")","v":"Stopped"},{"$f":"IF(INTRO!$E$40=\"Endemic\", IF($I23>0, IF($I23=4,\"Unknown\",IF($I23=99,\"Stopped\", $D23)), 0),\"Not required\")","v":0},{"$f":"IF(INTRO!$E$42=\"Endemic\", IF(AND($J23>1,$J23<5), IF($J23=4, \"Unknown\", E23+F23), 0),\"Not required\")","v":127820},{"$f":"IF(INTRO!$E$44=\"Endemic\", IF(AND($K23>0,$K23<5), IF($K23=4,\"Unknown\", IF($K23=1, $F23*0.33, IF($K23=2, $F23*0.5+$G23*0.2, SUM(F23:G23)))), 0),\"Not required\")","v":89082.5},0,0,1,0,null,"T3 (ALB/MBD)",null,null,46470,"Chamwino District Council",null,null,true]
[{"$f":"IF(INTRO!$E$34<>0,INTRO!$E$34,\"\")","v":"Tanzania"},"Dodoma","Chemba District Council",267014,34445,56863,175706,99,0,3,2,{"$f":"IF(INTRO!$E$38=\"Endemic\", IF($H24>0, IF($H24=4,\"Unknown\", IF($H24=99,\"Stopped\", $D24)), 0),\"Not required\")","v":"Stopped"},{"$f":"IF(INTRO!$E$40=\"Endemic\", IF($I24>0, IF($I24=4,\"Unknown\",IF($I24=99,\"Stopped\", $D24)), 0),\"Not required\")","v":0},{"$f":"IF(INTRO!$E$42=\"Endemic\", IF(AND($J24>1,$J24<5), IF($J24=4, \"Unknown\", E24+F24), 0),\"Not required\")","v":91308},{"$f":"IF(INTRO!$E$44=\"Endemic\", IF(AND($K24>0,$K24<5), IF($K24=4,\"Unknown\", IF($K24=1, $F24*0.33, IF($K24=2, $F24*0.5+$G24*0.2, SUM(F24:G24)))), 0),\"Not required\")","v":63572.700000000004},0,0,1,0,null,"T3 (ALB/MBD)",null,null,46471,"Chemba District Council",null,null,true]
[{"$f":"IF(INTRO!$E$34<>0,INTRO!$E$34,\"\")","v":"Tanzania"},"Dodoma","Dodoma Municipal Council",465532,37231,102420,325881,99,0,3,2,{"$f":"IF(INTRO!$E$38=\"Endemic\", IF($H25>0, IF($H25=4,\"Unknown\", IF($H25=99,\"Stopped\", $D25)), 0),\"Not required\")","v":"Stopped"},{"$f":"IF(INTRO!$E$40=\"Endemic\", IF($I25>0, IF($I25=4,\"Unknown\",IF($I25=99,\"Stopped\", $D25)), 0),\"Not required\")","v":0},{"$f":"IF(INTRO!$E$42=\"Endemic\", IF(AND($J25>1,$J25<5), IF($J25=4, \"Unknown\", E25+F25), 0),\"Not required\")","v":139651},{"$f":"IF(INTRO!$E$44=\"Endemic\", IF(AND($K25>0,$K25<5), IF($K25=4,\"Unknown\", IF($K25=1, $F25*0.33, IF($K25=2, $F25*0.5+$G25*0.2, SUM(F25:G25)))), 0),\"Not required\")","v":116386.20000000001},0,0,1,0,null,"T3 (ALB/MBD)",null,null,46472,"Dodoma Municipal Council",null,null,true]
[{"$f":"IF(INTRO!$E$34<>0,INTRO!$E$34,\"\")","v":"Tanzania"},"Dodoma","Kondoa District Council",238661,30787,52375,155499,99,0,3,2,{"$f":"IF(INTRO!$E$38=\"Endemic\", IF($H26>0, IF($H26=4,\"Unknown\", IF($H26=99,\"Stopped\", $D26)), 0),\"Not required\")","v":"Stopped"},{"$f":"IF(INTRO!$E$40=\"Endemic\", IF($I26>0, IF($I26=4,\"Unknown\",IF($I26=99,\"Stopped\", $D26)), 0),\"Not required\")","v":0},{"$f":"IF(INTRO!$E$42=\"Endemic\", IF(AND($J26>1,$J26<5), IF($J26=4, \"Unknown\", E26+F26), 0),\"Not required\")","v":83162},{"$f":"IF(INTRO!$E$44=\"Endemic\", IF(AND($K26>0,$K26<5), IF($K26=4,\"Unknown\", IF($K26=1, $F26*0.33, IF($K26=2, $F26*0.5+$G26*0.2, SUM(F26:G26)))), 0),\"Not required\")","v":57287.3},0,0,1,0,null,"T3 (ALB/MBD)",null,null,46473,"Kondoa District Council",null,null,true]
[{"$f":"IF(INTRO!$E$34<>0,INTRO!$E$34,\"\")","v":"Tanzania"},"Dodoma","Kondoa Town Council ",66860,7154,16143,43563,99,0,3,2,{"$f":"IF(INTRO!$E$38=\"Endemic\", IF($H27>0, IF($H27=4,\"Unknown\", IF($H27=99,\"Stopped\", $D27)), 0),\"Not required\")","v":"Stopped"},{"$f":"IF(INTRO!$E$40=\"Endemic\", IF($I27>0, IF($I27=4,\"Unknown\",IF($I27=99,\"Stopped\", $D27)), 0),\"Not required\")","v":0},{"$f":"IF(INTRO!$E$42=\"Endemic\", IF(AND($J27>1,$J27<5), IF($J27=4, \"Unknown\", E27+F27), 0),\"Not required\")","v":23297},{"$f":"IF(INTRO!$E$44=\"Endemic\", IF(AND($K27>0,$K27<5), IF($K27=4,\"Unknown\", IF($K27=1, $F27*0.33, IF($K27=2, $F27*0.5+$G27*0.2, SUM(F27:G27)))), 0),\"Not required\")","v":16784.099999999999},0,0,1,0,null,"T3 (ALB/MBD)",null,null,46626,"Kondoa Town Council ",null,null,true]
[{"$f":"IF(INTRO!$E$34<>0,INTRO!$E$34,\"\")","v":"Tanzania"},"Dodoma","Kongwa District Council",351138,45296,75402,230440,99,0,3,2,{"$f":"IF(INTRO!$E$38=\"Endemic\", IF($H28>0, IF($H28=4,\"Unknown\", IF($H28=99,\"Stopped\", $D28)), 0),\"Not required\")","v":"Stopped"},{"$f":"IF(INTRO!$E$40=\"Endemic\", IF($I28>0, IF($I28=4,\"Unknown\",IF($I28=99,\"Stopped\", $D28)), 0),\"Not required\")","v":0},{"$f":"IF(INTRO!$E$42=\"Endemic\", IF(AND($J28>1,$J28<5), IF($J28=4, \"Unknown\", E28+F28), 0),\"Not required\")","v":120698},{"$f":"IF(INTRO!$E$44=\"Endemic\", IF(AND($K28>0,$K28<5), IF($K28=4,\"Unknown\", IF($K28=1, $F28*0.33, IF($K28=2, $F28*0.5+$G28*0.2, SUM(F28:G28)))), 0),\"Not required\")","v":83789},0,0,1,0,null,"T3 (ALB/MBD)",null,null,46474,"Kongwa District Council",null,null,true]
[{"$f":"IF(INTRO!$E$34<>0,INTRO!$E$34,\"\")","v":"Tanzania"},"Dodoma","Mpwapwa District Council",345568,43355,76015,226198,99,0,3,2,{"$f":"IF(INTRO!$E$38=\"Endemic\", IF($H29>0, IF($H29=4,\"Unknown\", IF($H29=99,\"Stopped\", $D29)), 0),\"Not required\")","v":"Stopped"},{"$f":"IF(INTRO!$E$40=\"Endemic\", IF($I29>0, IF($I29=4,\"Unknown\",IF($I29=99,\"Stopped\", $D29)), 0),\"Not required\")","v":0},{"$f":"IF(INTRO!$E$42=\"Endemic\", IF(AND($J29>1,$J29<5), IF($J29=4, \"Unknown\", E29+F29), 0),\"Not required\")","v":119370},{"$f":"IF(INTRO!$E$44=\"Endemic\", IF(AND($K29>0,$K29<5), IF($K29=4,\"Unknown\", IF($K29=1, $F29*0.33, IF($K29=2, $F29*0.5+$G29*0.2, SUM(F29:G29)))), 0),\"Not required\")","v":83247.100000000006},0,0,1,0,null,"T3 (ALB/MBD)",null,null,46475,"Mpwapwa District Council",null,null,true]
[{"$f":"IF(INTRO!$E$34<>0,INTRO!$E$34,\"\")","v":"Tanzania"},"Geita","Bukombe District Council",261928,5028,84103,172797,0,0,3,2,{"$f":"IF(INTRO!$E$38=\"Endemic\", IF($H30>0, IF($H30=4,\"Unknown\", IF($H30=99,\"Stopped\", $D30)), 0),\"Not required\")","v":0},{"$f":"IF(INTRO!$E$40=\"Endemic\", IF($I30>0, IF($I30=4,\"Unknown\",IF($I30=99,\"Stopped\", $D30)), 0),\"Not required\")","v":0},{"$f":"IF(INTRO!$E$42=\"Endemic\", IF(AND($J30>1,$J30<5), IF($J30=4, \"Unknown\", E30+F30), 0),\"Not required\")","v":89131},{"$f":"IF(INTRO!$E$44=\"Endemic\", IF(AND($K30>0,$K30<5), IF($K30=4,\"Unknown\", IF($K30=1, $F30*0.33, IF($K30=2, $F30*0.5+$G30*0.2, SUM(F30:G30)))), 0),\"Not required\")","v":76610.899999999994},0,0,1,0,null,"T3 (ALB/MBD)",null,null,46476,"Bukombe District Council",null,null,true]
[{"$f":"IF(INTRO!$E$34<>0,INTRO!$E$34,\"\")","v":"Tanzania"},"Geita","Chato District Council",425920,18994,128458,278468,0,0,3,2,{"$f":"IF(INTRO!$E$38=\"Endemic\", IF($H31>0, IF($H31=4,\"Unknown\", IF($H31=99,\"Stopped\", $D31)), 0),\"Not required\")","v":0},{"$f":"IF(INTRO!$E$40=\"Endemic\", IF($I31>0, IF($I31=4,\"Unknown\",IF($I31=99,\"Stopped\", $D31)), 0),\"Not required\")","v":0},{"$f":"IF(INTRO!$E$42=\"Endemic\", IF(AND($J31>1,$J31<5), IF($J31=4, \"Unknown\", E31+F31), 0),\"Not required\")","v":147452},{"$f":"IF(INTRO!$E$44=\"Endemic\", IF(AND($K31>0,$K31<5), IF($K31=4,\"Unknown\", IF($K31=1, $F31*0.33, IF($K31=2, $F31*0.5+$G31*0.2, SUM(F31:G31)))), 0),\"Not required\")","v":119922.6},0,0,1,0,null,"T3 (ALB/MBD)",null,null,46477,"Chato District Council",null,null,true]
[{"$f":"IF(INTRO!$E$34<>0,INTRO!$E$34,\"\")","v":"Tanzania"},"Geita","Geita District Council",717294,21198,220279,475817,0,0,3,2,{"$f":"IF(INTRO!$E$38=\"Endemic\", IF($H32>0, IF($H32=4,\"Unknown\", IF($H32=99,\"Stopped\", $D32)), 0),\"Not required\")","v":0},{"$f":"IF(INTRO!$E$40=\"Endemic\", IF($I32>0, IF($I32=4,\"Unknown\",IF($I32=99,\"Stopped\", $D32)), 0),\"Not required\")","v":0},{"$f":"IF(INTRO!$E$42=\"Endemic\", IF(AND($J32>1,$J32<5), IF($J32=4, \"Unknown\", E32+F32), 0),\"Not required\")","v":241477},{"$f":"IF(INTRO!$E$44=\"Endemic\", IF(AND($K32>0,$K32<5), IF($K32=4,\"Unknown\", IF($K32=1, $F32*0.33, IF($K32=2, $F32*0.5+$G32*0.2, SUM(F32:G32)))), 0),\"Not required\")","v":205302.90000000002},0,0,1,0,null,"T3 (ALB/MBD)",null,null,46478,"Geita District Council",null,null,true]
[{"$f":"IF(INTRO!$E$34<>0,INTRO!$E$34,\"\")","v":"Tanzania"},"Geita","Geita Town Council",224792,6282,69394,149116,0,0,3,2,{"$f":"IF(INTRO!$E$38=\"Endemic\", IF($H33>0, IF($H33=4,\"Unknown\", IF($H33=99,\"Stopped\", $D33)), 0),\"Not required\")","v":0},{"$f":"IF(INTRO!$E$40=\"Endemic\", IF($I33>0, IF($I33=4,\"Unknown\",IF($I33=99,\"Stopped\", $D33)), 0),\"Not required\")","v":0},{"$f":"IF(INTRO!$E$42=\"Endemic\", IF(AND($J33>1,$J33<5), IF($J33=4, \"Unknown\", E33+F33), 0),\"Not required\")","v":75676},{"$f":"IF(INTRO!$E$44=\"Endemic\", IF(AND($K33>0,$K33<5), IF($K33=4,\"Unknown\", IF($K33=1, $F33*0.33, IF($K33=2, $F33*0.5+$G33*0.2, SUM(F33:G33)))), 0),\"Not required\")","v":64520.2},0,0,1,0,null,"T3 (ALB/MBD)",null,null,46627,"Geita Town Council",null,null,true]
[{"$f":"IF(INTRO!$E$34<>0,INTRO!$E$34,\"\")","v":"Tanzania"},"Geita","Mbogwe District Council",226210,2893,75611,147706,0,0,3,2,{"$f":"IF(INTRO!$E$38=\"Endemic\", IF($H34>0, IF($H34=4,\"Unknown\", IF($H34=99,\"Stopped\", $D34)), 0),\"Not required\")","v":0},{"$f":"IF(INTRO!$E$40=\"Endemic\", IF($I34>0, IF($I34=4,\"Unknown\",IF($I34=99,\"Stopped\", $D34)), 0),\"Not required\")","v":0},{"$f":"IF(INTRO!$E$42=\"Endemic\", IF(AND($J34>1,$J34<5), IF($J34=4, \"Unknown\", E34+F34), 0),\"Not required\")","v":78504},{"$f":"IF(INTRO!$E$44=\"Endemic\", IF(AND($K34>0,$K34<5), IF($K34=4,\"Unknown\", IF($K34=1, $F34*0.33, IF($K34=2, $F34*0.5+$G34*0.2, SUM(F34:G34)))), 0),\"Not required\")","v":67346.7},0,0,1,0,null,"T3 (ALB/MBD)",null,null,46479,"Mbogwe District Council",null,null,true]
[{"$f":"IF(INTRO!$E$34<>0,INTRO!$E$34,\"\")","v":"Tanzania"},"Geita","Nyang'hwale District Council",173015,9279,50501,113235,0,0,3,2,{"$f":"IF(INTRO!$E$38=\"Endemic\", IF($H35>0, IF($H35=4,\"Unknown\", IF($H35=99,\"Stopped\", $D35)), 0),\"Not required\")","v":0},{"$f":"IF(INTRO!$E$40=\"Endemic\", IF($I35>0, IF($I35=4,\"Unknown\",IF($I35=99,\"Stopped\", $D35)), 0),\"Not required\")","v":0},{"$f":"IF(INTRO!$E$42=\"Endemic\", IF(AND($J35>1,$J35<5), IF($J35=4, \"Unknown\", E35+F35), 0),\"Not required\")","v":59780},{"$f":"IF(INTRO!$E$44=\"Endemic\", IF(AND($K35>0,$K35<5), IF($K35=4,\"Unknown\", IF($K35=1, $F35*0.33, IF($K35=2, $F35*0.5+$G35*0.2, SUM(F35:G35)))), 0),\"Not required\")","v":47897.5},0,0,1,0,null,"T3 (ALB/MBD)",null,null,46480,"Nyang'hwale District Council",null,null,true]
[{"$f":"IF(INTRO!$E$34<>0,INTRO!$E$34,\"\")","v":"Tanzania"},"Iringa","Iringa District Council",271266,21817,69583,179866,99,0,3,2,{"$f":"IF(INTRO!$E$38=\"Endemic\", IF($H36>0, IF($H36=4,\"Unknown\", IF($H36=99,\"Stopped\", $D36)), 0),\"Not required\")","v":"Stopped"},{"$f":"IF(INTRO!$E$40=\"Endemic\", IF($I36>0, IF($I36=4,\"Unknown\",IF($I36=99,\"Stopped\", $D36)), 0),\"Not required\")","v":0},{"$f":"IF(INTRO!$E$42=\"Endemic\", IF(AND($J36>1,$J36<5), IF($J36=4, \"Unknown\", E36+F36), 0),\"Not required\")","v":91400},{"$f":"IF(INTRO!$E$44=\"Endemic\", IF(AND($K36>0,$K36<5), IF($K36=4,\"Unknown\", IF($K36=1, $F36*0.33, IF($K36=2, $F36*0.5+$G36*0.2, SUM(F36:G36)))), 0),\"Not required\")","v":70764.700000000012},0,0,1,1,null,"T1 (PZQ+ALB/MBD)",null,null,46481,"Iringa District Council",null,null,true]
[{"$f":"IF(INTRO!$E$34<>0,INTRO!$E$34,\"\")","v":"Tanzania"},"Iringa","Iringa Municipal Council",161613,13227,32779,115607,99,0,3,2,{"$f":"IF(INTRO!$E$38=\"Endemic\", IF($H37>0, IF($H37=4,\"Unknown\", IF($H37=99,\"Stopped\", $D37)), 0),\"Not required\")","v":"Stopped"},{"$f":"IF(INTRO!$E$40=\"Endemic\", IF($I37>0, IF($I37=4,\"Unknown\",IF($I37=99,\"Stopped\", $D37)), 0),\"Not required\")","v":0},{"$f":"IF(INTRO!$E$42=\"Endemic\", IF(AND($J37>1,$J37<5), IF($J37=4, \"Unknown\", E37+F37), 0),\"Not required\")","v":46006},{"$f":"IF(INTRO!$E$44=\"Endemic\", IF(AND($K37>0,$K37<5), IF($K37=4,\"Unknown\", IF($K37=1, $F37*0.33, IF($K37=2, $F37*0.5+$G37*0.2, SUM(F37:G37)))), 0),\"Not required\")","v":39510.9},0,0,1,1,null,"T1 (PZQ+ALB/MBD)",null,null,46482,"Iringa Municipal Council",null,null,true]
[{"$f":"IF(INTRO!$E$34<>0,INTRO!$E$34,\"\")","v":"Tanzania"},"Iringa","Kilolo District Council",232928,30047,48712,154169,99,0,3,2,{"$f":"IF(INTRO!$E$38=\"Endemic\", IF($H38>0, IF($H38=4,\"Unknown\", IF($H38=99,\"Stopped\", $D38)), 0),\"Not required\")","v":"Stopped"},{"$f":"IF(INTRO!$E$40=\"Endemic\", IF($I38>0, IF($I38=4,\"Unknown\",IF($I38=99,\"Stopped\", $D38)), 0),\"Not required\")","v":0},{"$f":"IF(INTRO!$E$42=\"Endemic\", IF(AND($J38>1,$J38<5), IF($J38=4, \"Unknown\", E38+F38), 0),\"Not required\")","v":78759},{"$f":"IF(INTRO!$E$44=\"Endemic\", IF(AND($K38>0,$K38<5), IF($K38=4,\"Unknown\", IF($K38=1, $F38*0.33, IF($K38=2, $F38*0.5+$G38*0.2, SUM(F38:G38)))), 0),\"Not required\")","v":55189.8},0,0,1,1,null,"T1 (PZQ+ALB/MBD)",null,null,46483,"Kilolo District Council",null,null,true]
[{"$f":"IF(INTRO!$E$34<>0,INTRO!$E$34,\"\")","v":"Tanzania"},"Iringa","Mafinga Town Council",55423,7149.5834100826332,18037,30236.416589917368,99,0,3,2,{"$f":"IF(INTRO!$E$38=\"Endemic\", IF($H39>0, IF($H39=4,\"Unknown\", IF($H39=99,\"Stopped\", $D39)), 0),\"Not required\")","v":"Stopped"},{"$f":"IF(INTRO!$E$40=\"Endemic\", IF($I39>0, IF($I39=4,\"Unknown\",IF($I39=99,\"Stopped\", $D39)), 0),\"Not required\")","v":0},{"$f":"IF(INTRO!$E$42=\"Endemic\", IF(AND($J39>1,$J39<5), IF($J39=4, \"Unknown\", E39+F39), 0),\"Not required\")","v":25186.583410082632},{"$f":"IF(INTRO!$E$44=\"Endemic\", IF(AND($K39>0,$K39<5), IF($K39=4,\"Unknown\", IF($K39=1, $F39*0.33, IF($K39=2, $F39*0.5+$G39*0.2, SUM(F39:G39)))), 0),\"Not required\")","v":15065.783317983474},0,0,1,1,null,"T1 (PZQ+ALB/MBD)",null,null,46484,"Mafinga Town Council",null,null,true]
[{"$f":"IF(INTRO!$E$34<>0,INTRO!$E$34,\"\")","v":"Tanzania"},"Iringa","Mufindi District Council",283863,28501,67966,187396,99,1,3,2,{"$f":"IF(INTRO!$E$38=\"Endemic\", IF($H40>0, IF($H40=4,\"Unknown\", IF($H40=99,\"Stopped\", $D40)), 0),\"Not required\")","v":"Stopped"},{"$f":"IF(INTRO!$E$40=\"Endemic\", IF($I40>0, IF($I40=4,\"Unknown\",IF($I40=99,\"Stopped\", $D40)), 0),\"Not required\")","v":283863},{"$f":"IF(INTRO!$E$42=\"Endemic\", IF(AND($J40>1,$J40<5), IF($J40=4, \"Unknown\", E40+F40), 0),\"Not required\")","v":96467},{"$f":"IF(INTRO!$E$44=\"Endemic\", IF(AND($K40>0,$K40<5), IF($K40=4,\"Unknown\", IF($K40=1, $F40*0.33, IF($K40=2, $F40*0.5+$G40*0.2, SUM(F40:G40)))), 0),\"Not required\")","v":71462.200000000012},0,1,1,1,"MDA3 (IVM)","T1 (PZQ+ALB/MBD)",null,null,46485,"Mufindi District Council",null,null,true]
[{"$f":"IF(INTRO!$E$34<>0,INTRO!$E$34,\"\")","v":"Tanzania"},"Kagera","Biharamulo District Council",390781,50410,81093,259278,0,0,3,2,{"$f":"IF(INTRO!$E$38=\"Endemic\", IF($H41>0, IF($H41=4,\"Unknown\", IF($H41=99,\"Stopped\", $D41)), 0),\"Not required\")","v":0},{"$f":"IF(INTRO!$E$40=\"Endemic\", IF($I41>0, IF($I41=4,\"Unknown\",IF($I41=99,\"Stopped\", $D41)), 0),\"Not required\")","v":0},{"$f":"IF(INTRO!$E$42=\"Endemic\", IF(AND($J41>1,$J41<5), IF($J41=4, \"Unknown\", E41+F41), 0),\"Not required\")","v":131503},{"$f":"IF(INTRO!$E$44=\"Endemic\", IF(AND($K41>0,$K41<5), IF($K41=4,\"Unknown\", IF($K41=1, $F41*0.33, IF($K41=2, $F41*0.5+$G41*0.2, SUM(F41:G41)))), 0),\"Not required\")","v":92402.1},0,0,1,1,null,"T1 (PZQ+ALB/MBD)",null,null,46486,"Biharamulo District Council",null,null,true]
[{"$f":"IF(INTRO!$E$34<>0,INTRO!$E$34,\"\")","v":"Tanzania"},"Kagera","Bukoba District Council",349963,38474,81110,230379,0,0,3,2,{"$f":"IF(INTRO!$E$38=\"Endemic\", IF($H42>0, IF($H42=4,\"Unknown\", IF($H42=99,\"Stopped\", $D42)), 0),\"Not required\")","v":0},{"$f":"IF(INTRO!$E$40=\"Endemic\", IF($I42>0, IF($I42=4,\"Unknown\",IF($I42=99,\"Stopped\", $D42)), 0),\"Not required\")","v":0},{"$f":"IF(INTRO!$E$42=\"Endemic\", IF(AND($J42>1,$J42<5), IF($J42=4, \"Unknown\", E42+F42), 0),\"Not required\")","v":119584},{"$f":"IF(INTRO!$E$44=\"Endemic\", IF(AND($K42>0,$K42<5), IF($K42=4,\"Unknown\", IF($K42=1, $F42*0.33, IF($K42=2, $F42*0.5+$G42*0.2, SUM(F42:G42)))), 0),\"Not required\")","v":86630.8},0,0,1,1,null,"T1 (PZQ+ALB/MBD)",null,null,46487,"Bukoba District Council",null,null,true]
[{"$f":"IF(INTRO!$E$34<>0,INTRO!$E$34,\"\")","v":"Tanzania"},"Kagera","Bukoba Municipal Council",155590,15748,29661,110181,0,0,3,2,{"$f":"IF(INTRO!$E$38=\"Endemic\", IF($H43>0, IF($H43=4,\"Unknown\", IF($H43=99,\"Stopped\", $D43)), 0),\"Not required\")","v":0},{"$f":"IF(INTRO!$E$40=\"Endemic\", IF($I43>0, IF($I43=4,\"Unknown\",IF($I43=99,\"Stopped\", $D43)), 0),\"Not required\")","v":0},{"$f":"IF(INTRO!$E$42=\"Endemic\", IF(AND($J43>1,$J43<5), IF($J43=4, \"Unknown\", E43+F43), 0),\"Not required\")","v":45409},{"$f":"IF(INTRO!$E$44=\"Endemic\", IF(AND($K43>0,$K43<5), IF($K43=4,\"Unknown\", IF($K43=1, $F43*0.33, IF($K43=2, $F43*0.5+$G43*0.2, SUM(F43:G43)))), 0),\"Not required\")","v":36866.699999999997},0,0,1,1,null,"T1 (PZQ+ALB/MBD)",null,null,46488,"Bukoba Municipal Council",null,null,true]
[{"$f":"IF(INTRO!$E$34<>0,INTRO!$E$34,\"\")","v":"Tanzania"},"Kagera","Karagwe District Council",401091,51742,81538,267811,0,0,3,2,{"$f":"IF(INTRO!$E$38=\"Endemic\", IF($H44>0, IF($H44=4,\"Unknown\", IF($H44=99,\"Stopped\", $D44)), 0),\"Not required\")","v":0},{"$f":"IF(INTRO!$E$40=\"Endemic\", IF($I44>0, IF($I44=4,\"Unknown\",IF($I44=99,\"Stopped\", $D44)), 0),\"Not required\")","v":0},{"$f":"IF(INTRO!$E$42=\"Endemic\", IF(AND($J44>1,$J44<5), IF($J44=4, \"Unknown\", E44+F44), 0),\"Not required\")","v":133280},{"$f":"IF(INTRO!$E$44=\"Endemic\", IF(AND($K44>0,$K44<5), IF($K44=4,\"Unknown\", IF($K44=1, $F44*0.33, IF($K44=2, $F44*0.5+$G44*0.2, SUM(F44:G44)))), 0),\"Not required\")","v":94331.200000000012},0,0,1,1,null,"T1 (PZQ+ALB/MBD)",null,null,46489,"Karagwe District Council",null,null,true]
[{"$f":"IF(INTRO!$E$34<>0,INTRO!$E$34,\"\")","v":"Tanzania"},"Kagera","Kyerwa District Council",387809,41545,91563,254701,0,0,3,2,{"$f":"IF(INTRO!$E$38=\"Endemic\", IF($H45>0, IF($H45=4,\"Unknown\", IF($H45=99,\"Stopped\", $D45)), 0),\"Not required\")","v":0},{"$f":"IF(INTRO!$E$40=\"Endemic\", IF($I45>0, IF($I45=4,\"Unknown\",IF($I45=99,\"Stopped\", $D45)), 0),\"Not required\")","v":0},{"$f":"IF(INTRO!$E$42=\"Endemic\", IF(AND($J45>1,$J45<5), IF($J45=4, \"Unknown\", E45+F45), 0),\"Not required\")","v":133108},{"$f":"IF(INTRO!$E$44=\"Endemic\", IF(AND($K45>0,$K45<5), IF($K45=4,\"Unknown\", IF($K45=1, $F45*0.33, IF($K45=2, $F45*0.5+$G45*0.2, SUM(F45:G45)))), 0),\"Not required\")","v":96721.700000000012},0,0,1,1,null,"T1 (PZQ+ALB/MBD)",null,null,46490,"Kyerwa District Council",null,null,true]
[{"$f":"IF(INTRO!$E$34<>0,INTRO!$E$34,\"\")","v":"Tanzania"},"Kagera","Missenyi District Council",244786,31578,49170,164038,0,0,3,2,{"$f":"IF(INTRO!$E$38=\"Endemic\", IF($H46>0, IF($H46=4,\"Unknown\", IF($H46=99,\"Stopped\", $D46)), 0),\"Not required\")","v":0},{"$f":"IF(INTRO!$E$40=\"Endemic\", IF($I46>0, IF($I46=4,\"Unknown\",IF($I46=99,\"Stopped\", $D46)), 0),\"Not required\")","v":0},{"$f":"IF(INTRO!$E$42=\"Endemic\", IF(AND($J46>1,$J46<5), IF($J46=4, \"Unknown\", E46+F46), 0),\"Not required\")","v":80748},{"$f":"IF(INTRO!$E$44=\"Endemic\", IF(AND($K46>0,$K46<5), IF($K46=4,\"Unknown\", IF($K46=1, $F46*0.33, IF($K46=2, $F46*0.5+$G46*0.2, SUM(F46:G46)))), 0),\"Not required\")","v":57392.6},0,0,1,1,null,"T1 (PZQ+ALB/MBD)",null,null,46491,"Missenyi District Council",null,null,true]
[{"$f":"IF(INTRO!$E$34<>0,INTRO!$E$34,\"\")","v":"Tanzania"},"Kagera","Muleba District Council",652711,84199,134592,433920,0,0,3,2,{"$f":"IF(INTRO!$E$38=\"Endemic\", IF($H47>0, IF($H47=4,\"Unknown\", IF($H47=99,\"Stopped\", $D47)), 0),\"Not required\")","v":0},{"$f":"IF(INTRO!$E$40=\"Endemic\", IF($I47>0, IF($I47=4,\"Unknown\",IF($I47=99,\"Stopped\", $D47)), 0),\"Not required\")","v":0},{"$f":"IF(INTRO!$E$42=\"Endemic\", IF(AND($J47>1,$J47<5), IF($J47=4, \"Unknown\", E47+F47), 0),\"Not required\")","v":218791},{"$f":"IF(INTRO!$E$44=\"Endemic\", IF(AND($K47>0,$K47<5), IF($K47=4,\"Unknown\", IF($K47=1, $F47*0.33, IF($K47=2, $F47*0.5+$G47*0.2, SUM(F47:G47)))), 0),\"Not required\")","v":154080},0,0,1,1,null,"T1 (PZQ+ALB/MBD)",null,null,46492,"Muleba District Council",null,null,true]
[{"$f":"IF(INTRO!$E$34<>0,INTRO!$E$34,\"\")","v":"Tanzania"},"Kagera","Ngara District Council",386638,49876,78131,258631,0,0,3,2,{"$f":"IF(INTRO!$E$38=\"Endemic\", IF($H48>0, IF($H48=4,\"Unknown\", IF($H48=99,\"Stopped\", $D48)), 0),\"Not required\")","v":0},{"$f":"IF(INTRO!$E$40=\"Endemic\", IF($I48>0, IF($I48=4,\"Unknown\",IF($I48=99,\"Stopped\", $D48)), 0),\"Not required\")","v":0},{"$f":"IF(INTRO!$E$42=\"Endemic\", IF(AND($J48>1,$J48<5), IF($J48=4, \"Unknown\", E48+F48), 0),\"Not required\")","v":128007},{"$f":"IF(INTRO!$E$44=\"Endemic\", IF(AND($K48>0,$K48<5), IF($K48=4,\"Unknown\", IF($K48=1, $F48*0.33, IF($K48=2, $F48*0.5+$G48*0.2, SUM(F48:G48)))), 0),\"Not required\")","v":90791.700000000012},0,0,1,1,null,"T1 (PZQ+ALB/MBD)",null,null,46493,"Ngara District Council",null,null,true]
[{"$f":"IF(INTRO!$E$34<>0,INTRO!$E$34,\"\")","v":"Tanzania"},"Katavi","Mlele District Council",52256,4434,13037,34785,99,0,3,2,{"$f":"IF(INTRO!$E$38=\"Endemic\", IF($H49>0, IF($H49=4,\"Unknown\", IF($H49=99,\"Stopped\", $D49)), 0),\"Not required\")","v":"Stopped"},{"$f":"IF(INTRO!$E$40=\"Endemic\", IF($I49>0, IF($I49=4,\"Unknown\",IF($I49=99,\"Stopped\", $D49)), 0),\"Not required\")","v":0},{"$f":"IF(INTRO!$E$42=\"Endemic\", IF(AND($J49>1,$J49<5), IF($J49=4, \"Unknown\", E49+F49), 0),\"Not required\")","v":17471},{"$f":"IF(INTRO!$E$44=\"Endemic\", IF(AND($K49>0,$K49<5), IF($K49=4,\"Unknown\", IF($K49=1, $F49*0.33, IF($K49=2, $F49*0.5+$G49*0.2, SUM(F49:G49)))), 0),\"Not required\")","v":13475.5},0,0,1,0,null,"T3 (ALB/MBD)",null,null,46494,"Mlele District Council",null,null,true]
[{"$f":"IF(INTRO!$E$34<>0,INTRO!$E$34,\"\")","v":"Tanzania"},"Katavi","Mpanda District Council",132947,17150.223329799181,69583,46213.776670200823,99,0,3,2,{"$f":"IF(INTRO!$E$38=\"Endemic\", IF($H50>0, IF($H50=4,\"Unknown\", IF($H50=99,\"Stopped\", $D50)), 0),\"Not required\")","v":"Stopped"},{"$f":"IF(INTRO!$E$40=\"Endemic\", IF($I50>0, IF($I50=4,\"Unknown\",IF($I50=99,\"Stopped\", $D50)), 0),\"Not required\")","v":0},{"$f":"IF(INTRO!$E$42=\"Endemic\", IF(AND($J50>1,$J50<5), IF($J50=4, \"Unknown\", E50+F50), 0),\"Not required\")","v":86733.223329799177},{"$f":"IF(INTRO!$E$44=\"Endemic\", IF(AND($K50>0,$K50<5), IF($K50=4,\"Unknown\", IF($K50=1, $F50*0.33, IF($K50=2, $F50*0.5+$G50*0.2, SUM(F50:G50)))), 0),\"Not required\")","v":44034.255334040165},0,0,1,0,null,"T3 (ALB/MBD)",null,null,46495,"Mpanda District Council",null,null,true]
[{"$f":"IF(INTRO!$E$34<>0,INTRO!$E$34,\"\")","v":"Tanzania"},"Katavi","Mpanda Municipal Council",216402,17992,49471,148939,99,0,3,2,{"$f":"IF(INTRO!$E$38=\"Endemic\", IF($H51>0, IF($H51=4,\"Unknown\", IF($H51=99,\"Stopped\", $D51)), 0),\"Not required\")","v":"Stopped"},{"$f":"IF(INTRO!$E$40=\"Endemic\", IF($I51>0, IF($I51=4,\"Unknown\",IF($I51=99,\"Stopped\", $D51)), 0),\"Not required\")","v":0},{"$f":"IF(INTRO!$E$42=\"Endemic\", IF(AND($J51>1,$J51<5), IF($J51=4, \"Unknown\", E51+F51), 0),\"Not required\")","v":67463},{"$f":"IF(INTRO!$E$44=\"Endemic\", IF(AND($K51>0,$K51<5), IF($K51=4,\"Unknown\", IF($K51=1, $F51*0.33, IF($K51=2, $F51*0.5+$G51*0.2, SUM(F51:G51)))), 0),\"Not required\")","v":54523.3},0,0,1,0,null,"T3 (ALB/MBD)",null,null,46496,"Mpanda Municipal Council",null,null,true]
[{"$f":"IF(INTRO!$E$34<>0,INTRO!$E$34,\"\")","v":"Tanzania"},"Katavi","Mpimbwe District Council",125182,16148,25705,83329,99,0,3,2,{"$f":"IF(INTRO!$E$38=\"Endemic\", IF($H52>0, IF($H52=4,\"Unknown\", IF($H52=99,\"Stopped\", $D52)), 0),\"Not required\")","v":"Stopped"},{"$f":"IF(INTRO!$E$40=\"Endemic\", IF($I52>0, IF($I52=4,\"Unknown\",IF($I52=99,\"Stopped\", $D52)), 0),\"Not required\")","v":0},{"$f":"IF(INTRO!$E$42=\"Endemic\", IF(AND($J52>1,$J52<5), IF($J52=4, \"Unknown\", E52+F52), 0),\"Not required\")","v":41853},{"$f":"IF(INTRO!$E$44=\"Endemic\", IF(AND($K52>0,$K52<5), IF($K52=4,\"Unknown\", IF($K52=1, $F52*0.33, IF($K52=2, $F52*0.5+$G52*0.2, SUM(F52:G52)))), 0),\"Not required\")","v":29518.3},0,0,1,0,null,"T3 (ALB/MBD)",null,null,46628,"Mpimbwe District Council",null,null,true]
[{"$f":"IF(INTRO!$E$34<>0,INTRO!$E$34,\"\")","v":"Tanzania"},"Katavi","Nsimbo District Council",155272,16980,34820,103472,99,0,3,2,{"$f":"IF(INTRO!$E$38=\"Endemic\", IF($H53>0, IF($H53=4,\"Unknown\", IF($H53=99,\"Stopped\", $D53)), 0),\"Not required\")","v":"Stopped"},{"$f":"IF(INTRO!$E$40=\"Endemic\", IF($I53>0, IF($I53=4,\"Unknown\",IF($I53=99,\"Stopped\", $D53)), 0),\"Not required\")","v":0},{"$f":"IF(INTRO!$E$42=\"Endemic\", IF(AND($J53>1,$J53<5), IF($J53=4, \"Unknown\", E53+F53), 0),\"Not required\")","v":51800},{"$f":"IF(INTRO!$E$44=\"Endemic\", IF(AND($K53>0,$K53<5), IF($K53=4,\"Unknown\", IF($K53=1, $F53*0.33, IF($K53=2, $F53*0.5+$G53*0.2, SUM(F53:G53)))), 0),\"Not required\")","v":38104.400000000001},0,0,1,0,null,"T3 (ALB/MBD)",null,null,46497,"Nsimbo District Council",null,null,true]
[{"$f":"IF(INTRO!$E$34<>0,INTRO!$E$34,\"\")","v":"Tanzania"},"Kigoma","Buhigwe District Council",307253,33622,66990,206641,0,0,3,2,{"$f":"IF(INTRO!$E$38=\"Endemic\", IF($H54>0, IF($H54=4,\"Unknown\", IF($H54=99,\"Stopped\", $D54)), 0),\"Not required\")","v":0},{"$f":"IF(INTRO!$E$40=\"Endemic\", IF($I54>0, IF($I54=4,\"Unknown\",IF($I54=99,\"Stopped\", $D54)), 0),\"Not required\")","v":0},{"$f":"IF(INTRO!$E$42=\"Endemic\", IF(AND($J54>1,$J54<5), IF($J54=4, \"Unknown\", E54+F54), 0),\"Not required\")","v":100612},{"$f":"IF(INTRO!$E$44=\"Endemic\", IF(AND($K54>0,$K54<5), IF($K54=4,\"Unknown\", IF($K54=1, $F54*0.33, IF($K54=2, $F54*0.5+$G54*0.2, SUM(F54:G54)))), 0),\"Not required\")","v":74823.200000000012},0,0,1,1,null,"T1 (PZQ+ALB/MBD)",null,null,46498,"Buhigwe District Council",null,null,true]
[{"$f":"IF(INTRO!$E$34<>0,INTRO!$E$34,\"\")","v":"Tanzania"},"Kigoma","Kakonko District Council",202412,26111,42087,134214,0,0,3,2,{"$f":"IF(INTRO!$E$38=\"Endemic\", IF($H55>0, IF($H55=4,\"Unknown\", IF($H55=99,\"Stopped\", $D55)), 0),\"Not required\")","v":0},{"$f":"IF(INTRO!$E$40=\"Endemic\", IF($I55>0, IF($I55=4,\"Unknown\",IF($I55=99,\"Stopped\", $D55)), 0),\"Not required\")","v":0},{"$f":"IF(INTRO!$E$42=\"Endemic\", IF(AND($J55>1,$J55<5), IF($J55=4, \"Unknown\", E55+F55), 0),\"Not required\")","v":68198},{"$f":"IF(INTRO!$E$44=\"Endemic\", IF(AND($K55>0,$K55<5), IF($K55=4,\"Unknown\", IF($K55=1, $F55*0.33, IF($K55=2, $F55*0.5+$G55*0.2, SUM(F55:G55)))), 0),\"Not required\")","v":47886.3},0,0,1,1,null,"T1 (PZQ+ALB/MBD)",null,null,46499,"Kakonko District Council",null,null,true]
[{"$f":"IF(INTRO!$E$34<>0,INTRO!$E$34,\"\")","v":"Tanzania"},"Kigoma","Kasulu District Council",514372,66353,107659,340360,0,0,3,2,{"$f":"IF(INTRO!$E$38=\"Endemic\", IF($H56>0, IF($H56=4,\"Unknown\", IF($H56=99,\"Stopped\", $D56)), 0),\"Not required\")","v":0},{"$f":"IF(INTRO!$E$40=\"Endemic\", IF($I56>0, IF($I56=4,\"Unknown\",IF($I56=99,\"Stopped\", $D56)), 0),\"Not required\")","v":0},{"$f":"IF(INTRO!$E$42=\"Endemic\", IF(AND($J56>1,$J56<5), IF($J56=4, \"Unknown\", E56+F56), 0),\"Not required\")","v":174012},{"$f":"IF(INTRO!$E$44=\"Endemic\", IF(AND($K56>0,$K56<5), IF($K56=4,\"Unknown\", IF($K56=1, $F56*0.33, IF($K56=2, $F56*0.5+$G56*0.2, SUM(F56:G56)))), 0),\"Not required\")","v":121901.5},0,0,1,1,null,"T1 (PZQ+ALB/MBD)",null,null,46500,"Kasulu District Council",null,null,true]
[{"$f":"IF(INTRO!$E$34<>0,INTRO!$E$34,\"\")","v":"Tanzania"},"Kigoma","Kasulu Town Council",251565,21943,60792,168830,0,0,3,2,{"$f":"IF(INTRO!$E$38=\"Endemic\", IF($H57>0, IF($H57=4,\"Unknown\", IF($H57=99,\"Stopped\", $D57)), 0),\"Not required\")","v":0},{"$f":"IF(INTRO!$E$40=\"Endemic\", IF($I57>0, IF($I57=4,\"Unknown\",IF($I57=99,\"Stopped\", $D57)), 0),\"Not required\")","v":0},{"$f":"IF(INTRO!$E$42=\"Endemic\", IF(AND($J57>1,$J57<5), IF($J57=4, \"Unknown\", E57+F57), 0),\"Not required\")","v":82735},{"$f":"IF(INTRO!$E$44=\"Endemic\", IF(AND($K57>0,$K57<5), IF($K57=4,\"Unknown\", IF($K57=1, $F57*0.33, IF($K57=2, $F57*0.5+$G57*0.2, SUM(F57:G57)))), 0),\"Not required\")","v":64162},0,0,1,1,null,"T1 (PZQ+ALB/MBD)",null,null,46501,"Kasulu Town Council",null,null,true]
[{"$f":"IF(INTRO!$E$34<>0,INTRO!$E$34,\"\")","v":"Tanzania"},"Kigoma","Kibondo District Council",315696,40725,64637,210334,0,0,3,2,{"$f":"IF(INTRO!$E$38=\"Endemic\", IF($H58>0, IF($H58=4,\"Unknown\", IF($H58=99,\"Stopped\", $D58)), 0),\"Not required\")","v":0},{"$f":"IF(INTRO!$E$40=\"Endemic\", IF($I58>0, IF($I58=4,\"Unknown\",IF($I58=99,\"Stopped\", $D58)), 0),\"Not required\")","v":0},{"$f":"IF(INTRO!$E$42=\"Endemic\", IF(AND($J58>1,$J58<5), IF($J58=4, \"Unknown\", E58+F58), 0),\"Not required\")","v":105362},{"$f":"IF(INTRO!$E$44=\"Endemic\", IF(AND($K58>0,$K58<5), IF($K58=4,\"Unknown\", IF($K58=1, $F58*0.33, IF($K58=2, $F58*0.5+$G58*0.2, SUM(F58:G58)))), 0),\"Not required\")","v":74385.3},0,0,1,1,null,"T1 (PZQ+ALB/MBD)",null,null,46502,"Kibondo District Council",null,null,true]
[{"$f":"IF(INTRO!$E$34<>0,INTRO!$E$34,\"\")","v":"Tanzania"},"Kigoma","Kigoma District Council",255578,19895,64669,171014,0,0,3,2,{"$f":"IF(INTRO!$E$38=\"Endemic\", IF($H59>0, IF($H59=4,\"Unknown\", IF($H59=99,\"Stopped\", $D59)), 0),\"Not required\")","v":0},{"$f":"IF(INTRO!$E$40=\"Endemic\", IF($I59>0, IF($I59=4,\"Unknown\",IF($I59=99,\"Stopped\", $D59)), 0),\"Not required\")","v":0},{"$f":"IF(INTRO!$E$42=\"Endemic\", IF(AND($J59>1,$J59<5), IF($J59=4, \"Unknown\", E59+F59), 0),\"Not required\")","v":84564},{"$f":"IF(INTRO!$E$44=\"Endemic\", IF(AND($K59>0,$K59<5), IF($K59=4,\"Unknown\", IF($K59=1, $F59*0.33, IF($K59=2, $F59*0.5+$G59*0.2, SUM(F59:G59)))), 0),\"Not required\")","v":66537.3},0,0,1,1,null,"T1 (PZQ+ALB/MBD)",null,null,46504,"Kigoma District Council",null,null,true]
[{"$f":"IF(INTRO!$E$34<>0,INTRO!$E$34,\"\")","v":"Tanzania"},"Kigoma","Kigoma-Ujiji Municipal Council",260280,33576,48963,177741,0,0,3,2,{"$f":"IF(INTRO!$E$38=\"Endemic\", IF($H60>0, IF($H60=4,\"Unknown\", IF($H60=99,\"Stopped\", $D60)), 0),\"Not required\")","v":0},{"$f":"IF(INTRO!$E$40=\"Endemic\", IF($I60>0, IF($I60=4,\"Unknown\",IF($I60=99,\"Stopped\", $D60)), 0),\"Not required\")","v":0},{"$f":"IF(INTRO!$E$42=\"Endemic\", IF(AND($J60>1,$J60<5), IF($J60=4, \"Unknown\", E60+F60), 0),\"Not required\")","v":82539},{"$f":"IF(INTRO!$E$44=\"Endemic\", IF(AND($K60>0,$K60<5), IF($K60=4,\"Unknown\", IF($K60=1, $F60*0.33, IF($K60=2, $F60*0.5+$G60*0.2, SUM(F60:G60)))), 0),\"Not required\")","v":60029.700000000004},0,0,1,1,null,"T1 (PZQ+ALB/MBD)",null,null,46503,"Kigoma-Ujiji Municipal Council",null,null,true]
[{"$f":"IF(INTRO!$E$34<>0,INTRO!$E$34,\"\")","v":"Tanzania"},"Kigoma","Uvinza District Council",463449,59785,91484,312180,0,0,3,2,{"$f":"IF(INTRO!$E$38=\"Endemic\", IF($H61>0, IF($H61=4,\"Unknown\", IF($H61=99,\"Stopped\", $D61)), 0),\"Not required\")","v":0},{"$f":"IF(INTRO!$E$40=\"Endemic\", IF($I61>0, IF($I61=4,\"Unknown\",IF($I61=99,\"Stopped\", $D61)), 0),\"Not required\")","v":0},{"$f":"IF(INTRO!$E$42=\"Endemic\", IF(AND($J61>1,$J61<5), IF($J61=4, \"Unknown\", E61+F61), 0),\"Not required\")","v":151269},{"$f":"IF(INTRO!$E$44=\"Endemic\", IF(AND($K61>0,$K61<5), IF($K61=4,\"Unknown\", IF($K61=1, $F61*0.33, IF($K61=2, $F61*0.5+$G61*0.2, SUM(F61:G61)))), 0),\"Not required\")","v":108178},0,0,1,1,null,"T1 (PZQ+ALB/MBD)",null,null,46505,"Uvinza District Council",null,null,true]
[{"$f":"IF(INTRO!$E$34<>0,INTRO!$E$34,\"\")","v":"Tanzania"},"Kilimanjaro","Hai District Council",234319,30228,41506,162585,0,0,3,2,{"$f":"IF(INTRO!$E$38=\"Endemic\", IF($H62>0, IF($H62=4,\"Unknown\", IF($H62=99,\"Stopped\", $D62)), 0),\"Not required\")","v":0},{"$f":"IF(INTRO!$E$40=\"Endemic\", IF($I62>0, IF($I62=4,\"Unknown\",IF($I62=99,\"Stopped\", $D62)), 0),\"Not required\")","v":0},{"$f":"IF(INTRO!$E$42=\"Endemic\", IF(AND($J62>1,$J62<5), IF($J62=4, \"Unknown\", E62+F62), 0),\"Not required\")","v":71734},{"$f":"IF(INTRO!$E$44=\"Endemic\", IF(AND($K62>0,$K62<5), IF($K62=4,\"Unknown\", IF($K62=1, $F62*0.33, IF($K62=2, $F62*0.5+$G62*0.2, SUM(F62:G62)))), 0),\"Not required\")","v":53270},0,0,1,0,null,"T3 (ALB/MBD)",null,null,46506,"Hai District Council",null,null,true]
[{"$f":"IF(INTRO!$E$34<>0,INTRO!$E$34,\"\")","v":"Tanzania"},"Kilimanjaro","Moshi District Council",519468,67011,94096,358361,0,0,3,2,{"$f":"IF(INTRO!$E$38=\"Endemic\", IF($H63>0, IF($H63=4,\"Unknown\", IF($H63=99,\"Stopped\", $D63)), 0),\"Not required\")","v":0},{"$f":"IF(INTRO!$E$40=\"Endemic\", IF($I63>0, IF($I63=4,\"Unknown\",IF($I63=99,\"Stopped\", $D63)), 0),\"Not required\")","v":0},{"$f":"IF(INTRO!$E$42=\"Endemic\", IF(AND($J63>1,$J63<5), IF($J63=4, \"Unknown\", E63+F63), 0),\"Not required\")","v":161107},{"$f":"IF(INTRO!$E$44=\"Endemic\", IF(AND($K63>0,$K63<5), IF($K63=4,\"Unknown\", IF($K63=1, $F63*0.33, IF($K63=2, $F63*0.5+$G63*0.2, SUM(F63:G63)))), 0),\"Not required\")","v":118720.2},0,0,1,0,null,"T3 (ALB/MBD)",null,null,46507,"Moshi District Council",null,null,true]
[{"$f":"IF(INTRO!$E$34<>0,INTRO!$E$34,\"\")","v":"Tanzania"},"Kilimanjaro","Moshi Municipal Council",205113,23766,31595,149752,0,0,3,2,{"$f":"IF(INTRO!$E$38=\"Endemic\", IF($H64>0, IF($H64=4,\"Unknown\", IF($H64=99,\"Stopped\", $D64)), 0),\"Not required\")","v":0},{"$f":"IF(INTRO!$E$40=\"Endemic\", IF($I64>0, IF($I64=4,\"Unknown\",IF($I64=99,\"Stopped\", $D64)), 0),\"Not required\")","v":0},{"$f":"IF(INTRO!$E$42=\"Endemic\", IF(AND($J64>1,$J64<5), IF($J64=4, \"Unknown\", E64+F64), 0),\"Not required\")","v":55361},{"$f":"IF(INTRO!$E$44=\"Endemic\", IF(AND($K64>0,$K64<5), IF($K64=4,\"Unknown\", IF($K64=1, $F64*0.33, IF($K64=2, $F64*0.5+$G64*0.2, SUM(F64:G64)))), 0),\"Not required\")","v":45747.9},0,0,1,0,null,"T3 (ALB/MBD)",null,null,46508,"Moshi Municipal Council",null,null,true]
[{"$f":"IF(INTRO!$E$34<>0,INTRO!$E$34,\"\")","v":"Tanzania"},"Kilimanjaro","Mwanga District Council",146292,18872,28934,98486,0,0,3,2,{"$f":"IF(INTRO!$E$38=\"Endemic\", IF($H65>0, IF($H65=4,\"Unknown\", IF($H65=99,\"Stopped\", $D65)), 0),\"Not required\")","v":0},{"$f":"IF(INTRO!$E$40=\"Endemic\", IF($I65>0, IF($I65=4,\"Unknown\",IF($I65=99,\"Stopped\", $D65)), 0),\"Not required\")","v":0},{"$f":"IF(INTRO!$E$42=\"Endemic\", IF(AND($J65>1,$J65<5), IF($J65=4, \"Unknown\", E65+F65), 0),\"Not required\")","v":47806},{"$f":"IF(INTRO!$E$44=\"Endemic\", IF(AND($K65>0,$K65<5), IF($K65=4,\"Unknown\", IF($K65=1, $F65*0.33, IF($K65=2, $F65*0.5+$G65*0.2, SUM(F65:G65)))), 0),\"Not required\")","v":34164.199999999997},0,0,1,0,null,"T3 (ALB/MBD)",null,null,46509,"Mwanga District Council",null,null,true]
[{"$f":"IF(INTRO!$E$34<>0,INTRO!$E$34,\"\")","v":"Tanzania"},"Kilimanjaro","Rombo District Council",290446,37467,61531,191448,0,0,3,2,{"$f":"IF(INTRO!$E$38=\"Endemic\", IF($H66>0, IF($H66=4,\"Unknown\", IF($H66=99,\"Stopped\", $D66)), 0),\"Not required\")","v":0},{"$f":"IF(INTRO!$E$40=\"Endemic\", IF($I66>0, IF($I66=4,\"Unknown\",IF($I66=99,\"Stopped\", $D66)), 0),\"Not required\")","v":0},{"$f":"IF(INTRO!$E$42=\"Endemic\", IF(AND($J66>1,$J66<5), IF($J66=4, \"Unknown\", E66+F66), 0),\"Not required\")","v":98998},{"$f":"IF(INTRO!$E$44=\"Endemic\", IF(AND($K66>0,$K66<5), IF($K66=4,\"Unknown\", IF($K66=1, $F66*0.33, IF($K66=2, $F66*0.5+$G66*0.2, SUM(F66:G66)))), 0),\"Not required\")","v":69055.100000000006},0,0,1,0,null,"T3 (ALB/MBD)",null,null,46510,"Rombo District Council",null,null,true]
[{"$f":"IF(INTRO!$E$34<>0,INTRO!$E$34,\"\")","v":"Tanzania"},"Kilimanjaro","Same District Council",300289,38737,61653,199899,0,0,3,2,{"$f":"IF(INTRO!$E$38=\"Endemic\", IF($H67>0, IF($H67=4,\"Unknown\", IF($H67=99,\"Stopped\", $D67)), 0),\"Not required\")","v":0},{"$f":"IF(INTRO!$E$40=\"Endemic\", IF($I67>0, IF($I67=4,\"Unknown\",IF($I67=99,\"Stopped\", $D67)), 0),\"Not required\")","v":0},{"$f":"IF(INTRO!$E$42=\"Endemic\", IF(AND($J67>1,$J67<5), IF($J67=4, \"Unknown\", E67+F67), 0),\"Not required\")","v":100390},{"$f":"IF(INTRO!$E$44=\"Endemic\", IF(AND($K67>0,$K67<5), IF($K67=4,\"Unknown\", IF($K67=1, $F67*0.33, IF($K67=2, $F67*0.5+$G67*0.2, SUM(F67:G67)))), 0),\"Not required\")","v":70806.3},0,0,1,0,null,"T3 (ALB/MBD)",null,null,46511,"Same District Council",null,null,true]
[{"$f":"IF(INTRO!$E$34<>0,INTRO!$E$34,\"\")","v":"Tanzania"},"Kilimanjaro","Siha District Council",129454,16700,25140,87614,0,0,3,2,{"$f":"IF(INTRO!$E$38=\"Endemic\", IF($H68>0, IF($H68=4,\"Unknown\", IF($H68=99,\"Stopped\", $D68)), 0),\"Not required\")","v":0},{"$f":"IF(INTRO!$E$40=\"Endemic\", IF($I68>0, IF($I68=4,\"Unknown\",IF($I68=99,\"Stopped\", $D68)), 0),\"Not required\")","v":0},{"$f":"IF(INTRO!$E$42=\"Endemic\", IF(AND($J68>1,$J68<5), IF($J68=4, \"Unknown\", E68+F68), 0),\"Not required\")","v":41840},{"$f":"IF(INTRO!$E$44=\"Endemic\", IF(AND($K68>0,$K68<5), IF($K68=4,\"Unknown\", IF($K68=1, $F68*0.33, IF($K68=2, $F68*0.5+$G68*0.2, SUM(F68:G68)))), 0),\"Not required\")","v":30092.799999999999},0,0,1,0,null,"T3 (ALB/MBD)",null,null,46512,"Siha District Council",null,null,true]
[{"$f":"IF(INTRO!$E$34<>0,INTRO!$E$34,\"\")","v":"Tanzania"},"Lindi","Kilwa District Council",201279,17450,49123,134706,1,0,3,2,{"$f":"IF(INTRO!$E$38=\"Endemic\", IF($H69>0, IF($H69=4,\"Unknown\", IF($H69=99,\"Stopped\", $D69)), 0),\"Not required\")","v":201279},{"$f":"IF(INTRO!$E$40=\"Endemic\", IF($I69>0, IF($I69=4,\"Unknown\",IF($I69=99,\"Stopped\", $D69)), 0),\"Not required\")","v":0},{"$f":"IF(INTRO!$E$42=\"Endemic\", IF(AND($J69>1,$J69<5), IF($J69=4, \"Unknown\", E69+F69), 0),\"Not required\")","v":66573},{"$f":"IF(INTRO!$E$44=\"Endemic\", IF(AND($K69>0,$K69<5), IF($K69=4,\"Unknown\", IF($K69=1, $F69*0.33, IF($K69=2, $F69*0.5+$G69*0.2, SUM(F69:G69)))), 0),\"Not required\")","v":51502.7},1,0,1,0,"MDA1 (IVM+ALB)","T3 (ALB/MBD)",null,null,46513,"Kilwa District Council",null,null,true]
[{"$f":"IF(INTRO!$E$34<>0,INTRO!$E$34,\"\")","v":"Tanzania"},"Lindi","Lindi District Council",204865,26427,37103,141335,1,0,3,2,{"$f":"IF(INTRO!$E$38=\"Endemic\", IF($H70>0, IF($H70=4,\"Unknown\", IF($H70=99,\"Stopped\", $D70)), 0),\"Not required\")","v":204865},{"$f":"IF(INTRO!$E$40=\"Endemic\", IF($I70>0, IF($I70=4,\"Unknown\",IF($I70=99,\"Stopped\", $D70)), 0),\"Not required\")","v":0},{"$f":"IF(INTRO!$E$42=\"Endemic\", IF(AND($J70>1,$J70<5), IF($J70=4, \"Unknown\", E70+F70), 0),\"Not required\")","v":63530},{"$f":"IF(INTRO!$E$44=\"Endemic\", IF(AND($K70>0,$K70<5), IF($K70=4,\"Unknown\", IF($K70=1, $F70*0.33, IF($K70=2, $F70*0.5+$G70*0.2, SUM(F70:G70)))), 0),\"Not required\")","v":46818.5},1,0,1,0,"MDA1 (IVM+ALB)","T3 (ALB/MBD)",null,null,46514,"Lindi District Council",null,null,true]
[{"$f":"IF(INTRO!$E$34<>0,INTRO!$E$34,\"\")","v":"Tanzania"},"Lindi","Lindi Municipal Council",98765,25152,15190,58423,1,0,3,2,{"$f":"IF(INTRO!$E$38=\"Endemic\", IF($H71>0, IF($H71=4,\"Unknown\", IF($H71=99,\"Stopped\", $D71)), 0),\"Not required\")","v":98765},{"$f":"IF(INTRO!$E$40=\"Endemic\", IF($I71>0, IF($I71=4,\"Unknown\",IF($I71=99,\"Stopped\", $D71)), 0),\"Not required\")","v":0},{"$f":"IF(INTRO!$E$42=\"Endemic\", IF(AND($J71>1,$J71<5), IF($J71=4, \"Unknown\", E71+F71), 0),\"Not required\")","v":40342},{"$f":"IF(INTRO!$E$44=\"Endemic\", IF(AND($K71>0,$K71<5), IF($K71=4,\"Unknown\", IF($K71=1, $F71*0.33, IF($K71=2, $F71*0.5+$G71*0.2, SUM(F71:G71)))), 0),\"Not required\")","v":19279.599999999999},1,0,1,0,"MDA1 (IVM+ALB)","T3 (ALB/MBD)",null,null,46515,"Lindi Municipal Council",null,null,true]
[{"$f":"IF(INTRO!$E$34<>0,INTRO!$E$34,\"\")","v":"Tanzania"},"Lindi","Liwale District Council",96427,7422,24326,64679,99,0,3,2,{"$f":"IF(INTRO!$E$38=\"Endemic\", IF($H72>0, IF($H72=4,\"Unknown\", IF($H72=99,\"Stopped\", $D72)), 0),\"Not required\")","v":"Stopped"},{"$f":"IF(INTRO!$E$40=\"Endemic\", IF($I72>0, IF($I72=4,\"Unknown\",IF($I72=99,\"Stopped\", $D72)), 0),\"Not required\")","v":0},{"$f":"IF(INTRO!$E$42=\"Endemic\", IF(AND($J72>1,$J72<5), IF($J72=4, \"Unknown\", E72+F72), 0),\"Not required\")","v":31748},{"$f":"IF(INTRO!$E$44=\"Endemic\", IF(AND($K72>0,$K72<5), IF($K72=4,\"Unknown\", IF($K72=1, $F72*0.33, IF($K72=2, $F72*0.5+$G72*0.2, SUM(F72:G72)))), 0),\"Not required\")","v":25098.800000000003},0,0,1,0,null,"T3 (ALB/MBD)",null,null,46516,"Liwale District Council",null,null,true]
[{"$f":"IF(INTRO!$E$34<>0,INTRO!$E$34,\"\")","v":"Tanzania"},"Lindi","Nachingwea District Council",195988,31961,34062,129965,1,0,3,3,{"$f":"IF(INTRO!$E$38=\"Endemic\", IF($H73>0, IF($H73=4,\"Unknown\", IF($H73=99,\"Stopped\", $D73)), 0),\"Not required\")","v":195988},{"$f":"IF(INTRO!$E$40=\"Endemic\", IF($I73>0, IF($I73=4,\"Unknown\",IF($I73=99,\"Stopped\", $D73)), 0),\"Not required\")","v":0},{"$f":"IF(INTRO!$E$42=\"Endemic\", IF(AND($J73>1,$J73<5), IF($J73=4, \"Unknown\", E73+F73), 0),\"Not required\")","v":66023},{"$f":"IF(INTRO!$E$44=\"Endemic\", IF(AND($K73>0,$K73<5), IF($K73=4,\"Unknown\", IF($K73=1, $F73*0.33, IF($K73=2, $F73*0.5+$G73*0.2, SUM(F73:G73)))), 0),\"Not required\")","v":164027},1,0,1,1,"MDA1 (IVM+ALB)","T1 (PZQ+ALB/MBD)",null,null,46517,"Nachingwea District Council",null,null,true]
[{"$f":"IF(INTRO!$E$34<>0,INTRO!$E$34,\"\")","v":"Tanzania"},"Lindi","Ruangwa District Council",138320,14077,28226,96017,1,0,3,3,{"$f":"IF(INTRO!$E$38=\"Endemic\", IF($H74>0, IF($H74=4,\"Unknown\", IF($H74=99,\"Stopped\", $D74)), 0),\"Not required\")","v":138320},{"$f":"IF(INTRO!$E$40=\"Endemic\", IF($I74>0, IF($I74=4,\"Unknown\",IF($I74=99,\"Stopped\", $D74)), 0),\"Not required\")","v":0},{"$f":"IF(INTRO!$E$42=\"Endemic\", IF(AND($J74>1,$J74<5), IF($J74=4, \"Unknown\", E74+F74), 0),\"Not required\")","v":42303},{"$f":"IF(INTRO!$E$44=\"Endemic\", IF(AND($K74>0,$K74<5), IF($K74=4,\"Unknown\", IF($K74=1, $F74*0.33, IF($K74=2, $F74*0.5+$G74*0.2, SUM(F74:G74)))), 0),\"Not required\")","v":124243},1,0,1,1,"MDA1 (IVM+ALB)","T1 (PZQ+ALB/MBD)",null,null,46518,"Ruangwa District Council",null,null,{"$f":"Y74=C74","v":true}]
[{"$f":"IF(INTRO!$E$34<>0,INTRO!$E$34,\"\")","v":"Tanzania"},"Manyara","Babati District Council",377379,41546,84407,251426,99,0,3,2,{"$f":"IF(INTRO!$E$38=\"Endemic\", IF($H75>0, IF($H75=4,\"Unknown\", IF($H75=99,\"Stopped\", $D75)), 0),\"Not required\")","v":"Stopped"},{"$f":"IF(INTRO!$E$40=\"Endemic\", IF($I75>0, IF($I75=4,\"Unknown\",IF($I75=99,\"Stopped\", $D75)), 0),\"Not required\")","v":0},{"$f":"IF(INTRO!$E$42=\"Endemic\", IF(AND($J75>1,$J75<5), IF($J75=4, \"Unknown\", E75+F75), 0),\"Not required\")","v":125953},{"$f":"IF(INTRO!$E$44=\"Endemic\", IF(AND($K75>0,$K75<5), IF($K75=4,\"Unknown\", IF($K75=1, $F75*0.33, IF($K75=2, $F75*0.5+$G75*0.2, SUM(F75:G75)))), 0),\"Not required\")","v":92488.700000000012},0,0,1,0,null,"T3 (ALB/MBD)",null,null,46519,"Babati District Council",null,null,true]
[{"$f":"IF(INTRO!$E$34<>0,INTRO!$E$34,\"\")","v":"Tanzania"},"Manyara","Babati Town Council",112477,12010,21901,78566,99,0,3,2,{"$f":"IF(INTRO!$E$38=\"Endemic\", IF($H76>0, IF($H76=4,\"Unknown\", IF($H76=99,\"Stopped\", $D76)), 0),\"Not required\")","v":"Stopped"},{"$f":"IF(INTRO!$E$40=\"Endemic\", IF($I76>0, IF($I76=4,\"Unknown\",IF($I76=99,\"Stopped\", $D76)), 0),\"Not required\")","v":0},{"$f":"IF(INTRO!$E$42=\"Endemic\", IF(AND($J76>1,$J76<5), IF($J76=4, \"Unknown\", E76+F76), 0),\"Not required\")","v":33911},{"$f":"IF(INTRO!$E$44=\"Endemic\", IF(AND($K76>0,$K76<5), IF($K76=4,\"Unknown\", IF($K76=1, $F76*0.33, IF($K76=2, $F76*0.5+$G76*0.2, SUM(F76:G76)))), 0),\"Not required\")","v":26663.7},0,0,1,0,null,"T3 (ALB/MBD)",null,null,46520,"Babati Town Council",null,null,true]
[{"$f":"IF(INTRO!$E$34<>0,INTRO!$E$34,\"\")","v":"Tanzania"},"Manyara","Hanang District Council",333405,43009,69131,221265,99,0,3,2,{"$f":"IF(INTRO!$E$38=\"Endemic\", IF($H77>0, IF($H77=4,\"Unknown\", IF($H77=99,\"Stopped\", $D77)), 0),\"Not required\")","v":"Stopped"},{"$f":"IF(INTRO!$E$40=\"Endemic\", IF($I77>0, IF($I77=4,\"Unknown\",IF($I77=99,\"Stopped\", $D77)), 0),\"Not required\")","v":0},{"$f":"IF(INTRO!$E$42=\"Endemic\", IF(AND($J77>1,$J77<5), IF($J77=4, \"Unknown\", E77+F77), 0),\"Not required\")","v":112140},{"$f":"IF(INTRO!$E$44=\"Endemic\", IF(AND($K77>0,$K77<5), IF($K77=4,\"Unknown\", IF($K77=1, $F77*0.33, IF($K77=2, $F77*0.5+$G77*0.2, SUM(F77:G77)))), 0),\"Not required\")","v":78818.5},0,0,1,0,null,"T3 (ALB/MBD)",null,null,46521,"Hanang District Council",null,null,true]
[{"$f":"IF(INTRO!$E$34<>0,INTRO!$E$34,\"\")","v":"Tanzania"},"Manyara","Kiteto District Council",295568,38129,58263,199176,99,0,3,2,{"$f":"IF(INTRO!$E$38=\"Endemic\", IF($H78>0, IF($H78=4,\"Unknown\", IF($H78=99,\"Stopped\", $D78)), 0),\"Not required\")","v":"Stopped"},{"$f":"IF(INTRO!$E$40=\"Endemic\", IF($I78>0, IF($I78=4,\"Unknown\",IF($I78=99,\"Stopped\", $D78)), 0),\"Not required\")","v":0},{"$f":"IF(INTRO!$E$42=\"Endemic\", IF(AND($J78>1,$J78<5), IF($J78=4, \"Unknown\", E78+F78), 0),\"Not required\")","v":96392},{"$f":"IF(INTRO!$E$44=\"Endemic\", IF(AND($K78>0,$K78<5), IF($K78=4,\"Unknown\", IF($K78=1, $F78*0.33, IF($K78=2, $F78*0.5+$G78*0.2, SUM(F78:G78)))), 0),\"Not required\")","v":68966.700000000012},0,0,1,0,null,"T3 (ALB/MBD)",null,null,46522,"Kiteto District Council",null,null,true]
[{"$f":"IF(INTRO!$E$34<>0,INTRO!$E$34,\"\")","v":"Tanzania"},"Manyara","Mbulu District Council",231000,29799,47787,153414,99,0,3,2,{"$f":"IF(INTRO!$E$38=\"Endemic\", IF($H79>0, IF($H79=4,\"Unknown\", IF($H79=99,\"Stopped\", $D79)), 0),\"Not required\")","v":"Stopped"},{"$f":"IF(INTRO!$E$40=\"Endemic\", IF($I79>0, IF($I79=4,\"Unknown\",IF($I79=99,\"Stopped\", $D79)), 0),\"Not required\")","v":0},{"$f":"IF(INTRO!$E$42=\"Endemic\", IF(AND($J79>1,$J79<5), IF($J79=4, \"Unknown\", E79+F79), 0),\"Not required\")","v":77586},{"$f":"IF(INTRO!$E$44=\"Endemic\", IF(AND($K79>0,$K79<5), IF($K79=4,\"Unknown\", IF($K79=1, $F79*0.33, IF($K79=2, $F79*0.5+$G79*0.2, SUM(F79:G79)))), 0),\"Not required\")","v":54576.3},0,0,1,0,null,"T3 (ALB/MBD)",null,null,46523,"Mbulu District Council",null,null,true]
[{"$f":"IF(INTRO!$E$34<>0,INTRO!$E$34,\"\")","v":"Tanzania"},"Manyara","Mbulu Town Council",155907,20112,32252,103543,99,0,3,2,{"$f":"IF(INTRO!$E$38=\"Endemic\", IF($H80>0, IF($H80=4,\"Unknown\", IF($H80=99,\"Stopped\", $D80)), 0),\"Not required\")","v":"Stopped"},{"$f":"IF(INTRO!$E$40=\"Endemic\", IF($I80>0, IF($I80=4,\"Unknown\",IF($I80=99,\"Stopped\", $D80)), 0),\"Not required\")","v":0},{"$f":"IF(INTRO!$E$42=\"Endemic\", IF(AND($J80>1,$J80<5), IF($J80=4, \"Unknown\", E80+F80), 0),\"Not required\")","v":52364},{"$f":"IF(INTRO!$E$44=\"Endemic\", IF(AND($K80>0,$K80<5), IF($K80=4,\"Unknown\", IF($K80=1, $F80*0.33, IF($K80=2, $F80*0.5+$G80*0.2, SUM(F80:G80)))), 0),\"Not required\")","v":36834.600000000006},0,0,1,0,null,"T3 (ALB/MBD)",null,null,46630,"Mbulu Town Council",null,null,true]
[{"$f":"IF(INTRO!$E$34<>0,INTRO!$E$34,\"\")","v":"Tanzania"},"Manyara","Simanjiro District Council",215867,27847,43382,144638,99,0,3,2,{"$f":"IF(INTRO!$E$38=\"Endemic\", IF($H81>0, IF($H81=4,\"Unknown\", IF($H81=99,\"Stopped\", $D81)), 0),\"Not required\")","v":"Stopped"},{"$f":"IF(INTRO!$E$40=\"Endemic\", IF($I81>0, IF($I81=4,\"Unknown\",IF($I81=99,\"Stopped\", $D81)), 0),\"Not required\")","v":0},{"$f":"IF(INTRO!$E$42=\"Endemic\", IF(AND($J81>1,$J81<5), IF($J81=4, \"Unknown\", E81+F81), 0),\"Not required\")","v":71229},{"$f":"IF(INTRO!$E$44=\"Endemic\", IF(AND($K81>0,$K81<5), IF($K81=4,\"Unknown\", IF($K81=1, $F81*0.33, IF($K81=2, $F81*0.5+$G81*0.2, SUM(F81:G81)))), 0),\"Not required\")","v":50618.600000000006},0,0,1,0,null,"T3 (ALB/MBD)",null,null,46524,"Simanjiro District Council",null,null,true]
[{"$f":"IF(INTRO!$E$34<>0,INTRO!$E$34,\"\")","v":"Tanzania"},"Mara","Bunda District Council",256407,18163,69027,169217,0,0,3,2,{"$f":"IF(INTRO!$E$38=\"Endemic\", IF($H82>0, IF($H82=4,\"Unknown\", IF($H82=99,\"Stopped\", $D82)), 0),\"Not required\")","v":0},{"$f":"IF(INTRO!$E$40=\"Endemic\", IF($I82>0, IF($I82=4,\"Unknown\",IF($I82=99,\"Stopped\", $D82)), 0),\"Not required\")","v":0},{"$f":"IF(INTRO!$E$42=\"Endemic\", IF(AND($J82>1,$J82<5), IF($J82=4, \"Unknown\", E82+F82), 0),\"Not required\")","v":87190},{"$f":"IF(INTRO!$E$44=\"Endemic\", IF(AND($K82>0,$K82<5), IF($K82=4,\"Unknown\", IF($K82=1, $F82*0.33, IF($K82=2, $F82*0.5+$G82*0.2, SUM(F82:G82)))), 0),\"Not required\")","v":68356.899999999994},0,0,1,1,null,"T1 (PZQ+ALB/MBD)",null,null,46525,"Bunda District Council",null,null,true]
[{"$f":"IF(INTRO!$E$34<>0,INTRO!$E$34,\"\")","v":"Tanzania"},"Mara","Bunda Town Council",132161,17048.766591102689,48875,66237.233408897315,0,0,3,2,{"$f":"IF(INTRO!$E$38=\"Endemic\", IF($H83>0, IF($H83=4,\"Unknown\", IF($H83=99,\"Stopped\", $D83)), 0),\"Not required\")","v":0},{"$f":"IF(INTRO!$E$40=\"Endemic\", IF($I83>0, IF($I83=4,\"Unknown\",IF($I83=99,\"Stopped\", $D83)), 0),\"Not required\")","v":0},{"$f":"IF(INTRO!$E$42=\"Endemic\", IF(AND($J83>1,$J83<5), IF($J83=4, \"Unknown\", E83+F83), 0),\"Not required\")","v":65923.766591102685},{"$f":"IF(INTRO!$E$44=\"Endemic\", IF(AND($K83>0,$K83<5), IF($K83=4,\"Unknown\", IF($K83=1, $F83*0.33, IF($K83=2, $F83*0.5+$G83*0.2, SUM(F83:G83)))), 0),\"Not required\")","v":37684.94668177946},0,0,1,1,null,"T1 (PZQ+ALB/MBD)",null,null,46631,"Bunda Town Council",null,null,true]
[{"$f":"IF(INTRO!$E$34<>0,INTRO!$E$34,\"\")","v":"Tanzania"},"Mara","Butiama District Council",280335,36163,58537,185635,0,0,3,2,{"$f":"IF(INTRO!$E$38=\"Endemic\", IF($H84>0, IF($H84=4,\"Unknown\", IF($H84=99,\"Stopped\", $D84)), 0),\"Not required\")","v":0},{"$f":"IF(INTRO!$E$40=\"Endemic\", IF($I84>0, IF($I84=4,\"Unknown\",IF($I84=99,\"Stopped\", $D84)), 0),\"Not required\")","v":0},{"$f":"IF(INTRO!$E$42=\"Endemic\", IF(AND($J84>1,$J84<5), IF($J84=4, \"Unknown\", E84+F84), 0),\"Not required\")","v":94700},{"$f":"IF(INTRO!$E$44=\"Endemic\", IF(AND($K84>0,$K84<5), IF($K84=4,\"Unknown\", IF($K84=1, $F84*0.33, IF($K84=2, $F84*0.5+$G84*0.2, SUM(F84:G84)))), 0),\"Not required\")","v":66395.5},0,0,1,1,null,"T1 (PZQ+ALB/MBD)",null,null,46526,"Butiama District Council",null,null,true]
[{"$f":"IF(INTRO!$E$34<>0,INTRO!$E$34,\"\")","v":"Tanzania"},"Mara","Musoma District Council",206838,26682.138029542406,70497,109658.8619704576,0,0,3,2,{"$f":"IF(INTRO!$E$38=\"Endemic\", IF($H85>0, IF($H85=4,\"Unknown\", IF($H85=99,\"Stopped\", $D85)), 0),\"Not required\")","v":0},{"$f":"IF(INTRO!$E$40=\"Endemic\", IF($I85>0, IF($I85=4,\"Unknown\",IF($I85=99,\"Stopped\", $D85)), 0),\"Not required\")","v":0},{"$f":"IF(INTRO!$E$42=\"Endemic\", IF(AND($J85>1,$J85<5), IF($J85=4, \"Unknown\", E85+F85), 0),\"Not required\")","v":97179.138029542402},{"$f":"IF(INTRO!$E$44=\"Endemic\", IF(AND($K85>0,$K85<5), IF($K85=4,\"Unknown\", IF($K85=1, $F85*0.33, IF($K85=2, $F85*0.5+$G85*0.2, SUM(F85:G85)))), 0),\"Not required\")","v":57180.272394091517},0,0,1,1,null,"T1 (PZQ+ALB/MBD)",null,null,46527,"Musoma District Council",null,null,true]
[{"$f":"IF(INTRO!$E$34<>0,INTRO!$E$34,\"\")","v":"Tanzania"},"Mara","Musoma Municipal Council",155778,20095,42996,92687,0,0,3,2,{"$f":"IF(INTRO!$E$38=\"Endemic\", IF($H86>0, IF($H86=4,\"Unknown\", IF($H86=99,\"Stopped\", $D86)), 0),\"Not required\")","v":0},{"$f":"IF(INTRO!$E$40=\"Endemic\", IF($I86>0, IF($I86=4,\"Unknown\",IF($I86=99,\"Stopped\", $D86)), 0),\"Not required\")","v":0},{"$f":"IF(INTRO!$E$42=\"Endemic\", IF(AND($J86>1,$J86<5), IF($J86=4, \"Unknown\", E86+F86), 0),\"Not required\")","v":63091},{"$f":"IF(INTRO!$E$44=\"Endemic\", IF(AND($K86>0,$K86<5), IF($K86=4,\"Unknown\", IF($K86=1, $F86*0.33, IF($K86=2, $F86*0.5+$G86*0.2, SUM(F86:G86)))), 0),\"Not required\")","v":40035.4},0,0,1,1,null,"T1 (PZQ+ALB/MBD)",null,null,46528,"Musoma Municipal Council",null,null,true]
[{"$f":"IF(INTRO!$E$34<>0,INTRO!$E$34,\"\")","v":"Tanzania"},"Mara","Rorya District Council",307598,39680,100375,167543,0,0,3,2,{"$f":"IF(INTRO!$E$38=\"Endemic\", IF($H87>0, IF($H87=4,\"Unknown\", IF($H87=99,\"Stopped\", $D87)), 0),\"Not required\")","v":0},{"$f":"IF(INTRO!$E$40=\"Endemic\", IF($I87>0, IF($I87=4,\"Unknown\",IF($I87=99,\"Stopped\", $D87)), 0),\"Not required\")","v":0},{"$f":"IF(INTRO!$E$42=\"Endemic\", IF(AND($J87>1,$J87<5), IF($J87=4, \"Unknown\", E87+F87), 0),\"Not required\")","v":140055},{"$f":"IF(INTRO!$E$44=\"Endemic\", IF(AND($K87>0,$K87<5), IF($K87=4,\"Unknown\", IF($K87=1, $F87*0.33, IF($K87=2, $F87*0.5+$G87*0.2, SUM(F87:G87)))), 0),\"Not required\")","v":83696.100000000006},0,0,1,1,null,"T1 (PZQ+ALB/MBD)",null,null,46529,"Rorya District Council",null,null,true]
[{"$f":"IF(INTRO!$E$34<>0,INTRO!$E$34,\"\")","v":"Tanzania"},"Mara","Serengeti District Council",289251,16743,82764,189744,0,0,3,2,{"$f":"IF(INTRO!$E$38=\"Endemic\", IF($H88>0, IF($H88=4,\"Unknown\", IF($H88=99,\"Stopped\", $D88)), 0),\"Not required\")","v":0},{"$f":"IF(INTRO!$E$40=\"Endemic\", IF($I88>0, IF($I88=4,\"Unknown\",IF($I88=99,\"Stopped\", $D88)), 0),\"Not required\")","v":0},{"$f":"IF(INTRO!$E$42=\"Endemic\", IF(AND($J88>1,$J88<5), IF($J88=4, \"Unknown\", E88+F88), 0),\"Not required\")","v":99507},{"$f":"IF(INTRO!$E$44=\"Endemic\", IF(AND($K88>0,$K88<5), IF($K88=4,\"Unknown\", IF($K88=1, $F88*0.33, IF($K88=2, $F88*0.5+$G88*0.2, SUM(F88:G88)))), 0),\"Not required\")","v":79330.8},0,0,1,1,null,"T1 (PZQ+ALB/MBD)",null,null,46530,"Serengeti District Council",null,null,true]
[{"$f":"IF(INTRO!$E$34<>0,INTRO!$E$34,\"\")","v":"Tanzania"},"Mara","Tarime District Council",303441,39144,102779,161518,0,0,3,2,{"$f":"IF(INTRO!$E$38=\"Endemic\", IF($H89>0, IF($H89=4,\"Unknown\", IF($H89=99,\"Stopped\", $D89)), 0),\"Not required\")","v":0},{"$f":"IF(INTRO!$E$40=\"Endemic\", IF($I89>0, IF($I89=4,\"Unknown\",IF($I89=99,\"Stopped\", $D89)), 0),\"Not required\")","v":0},{"$f":"IF(INTRO!$E$42=\"Endemic\", IF(AND($J89>1,$J89<5), IF($J89=4, \"Unknown\", E89+F89), 0),\"Not required\")","v":141923},{"$f":"IF(INTRO!$E$44=\"Endemic\", IF(AND($K89>0,$K89<5), IF($K89=4,\"Unknown\", IF($K89=1, $F89*0.33, IF($K89=2, $F89*0.5+$G89*0.2, SUM(F89:G89)))), 0),\"Not required\")","v":83693.100000000006},0,0,1,1,null,"T1 (PZQ+ALB/MBD)",null,null,46531,"Tarime District Council",null,null,true]
[{"$f":"IF(INTRO!$E$34<>0,INTRO!$E$34,\"\")","v":"Tanzania"},"Mara","Tarime Town Council",90499,11674.370390743235,33251,45573.629609256765,0,0,3,2,{"$f":"IF(INTRO!$E$38=\"Endemic\", IF($H90>0, IF($H90=4,\"Unknown\", IF($H90=99,\"Stopped\", $D90)), 0),\"Not required\")","v":0},{"$f":"IF(INTRO!$E$40=\"Endemic\", IF($I90>0, IF($I90=4,\"Unknown\",IF($I90=99,\"Stopped\", $D90)), 0),\"Not required\")","v":0},{"$f":"IF(INTRO!$E$42=\"Endemic\", IF(AND($J90>1,$J90<5), IF($J90=4, \"Unknown\", E90+F90), 0),\"Not required\")","v":44925.370390743235},{"$f":"IF(INTRO!$E$44=\"Endemic\", IF(AND($K90>0,$K90<5), IF($K90=4,\"Unknown\", IF($K90=1, $F90*0.33, IF($K90=2, $F90*0.5+$G90*0.2, SUM(F90:G90)))), 0),\"Not required\")","v":25740.225921851354},0,0,1,1,null,"T1 (PZQ+ALB/MBD)",null,null,46532,"Tarime Town Council",null,null,true]
[{"$f":"IF(INTRO!$E$34<>0,INTRO!$E$34,\"\")","v":"Tanzania"},"Mbeya","Busokelo District Council",119578,15426,22009,82143,99,1,3,2,{"$f":"IF(INTRO!$E$38=\"Endemic\", IF($H91>0, IF($H91=4,\"Unknown\", IF($H91=99,\"Stopped\", $D91)), 0),\"Not required\")","v":"Stopped"},{"$f":"IF(INTRO!$E$40=\"Endemic\", IF($I91>0, IF($I91=4,\"Unknown\",IF($I91=99,\"Stopped\", $D91)), 0),\"Not required\")","v":119578},{"$f":"IF(INTRO!$E$42=\"Endemic\", IF(AND($J91>1,$J91<5), IF($J91=4, \"Unknown\", E91+F91), 0),\"Not required\")","v":37435},{"$f":"IF(INTRO!$E$44=\"Endemic\", IF(AND($K91>0,$K91<5), IF($K91=4,\"Unknown\", IF($K91=1, $F91*0.33, IF($K91=2, $F91*0.5+$G91*0.2, SUM(F91:G91)))), 0),\"Not required\")","v":27433.100000000002},0,1,1,1,"MDA3 (IVM)","T1 (PZQ+ALB/MBD)",null,null,46533,"Busokelo District Council",null,null,true]
[{"$f":"IF(INTRO!$E$34<>0,INTRO!$E$34,\"\")","v":"Tanzania"},"Mbeya","Chunya District Council",183963,19686,38511,125766,99,0,3,2,{"$f":"IF(INTRO!$E$38=\"Endemic\", IF($H92>0, IF($H92=4,\"Unknown\", IF($H92=99,\"Stopped\", $D92)), 0),\"Not required\")","v":"Stopped"},{"$f":"IF(INTRO!$E$40=\"Endemic\", IF($I92>0, IF($I92=4,\"Unknown\",IF($I92=99,\"Stopped\", $D92)), 0),\"Not required\")","v":0},{"$f":"IF(INTRO!$E$42=\"Endemic\", IF(AND($J92>1,$J92<5), IF($J92=4, \"Unknown\", E92+F92), 0),\"Not required\")","v":58197},{"$f":"IF(INTRO!$E$44=\"Endemic\", IF(AND($K92>0,$K92<5), IF($K92=4,\"Unknown\", IF($K92=1, $F92*0.33, IF($K92=2, $F92*0.5+$G92*0.2, SUM(F92:G92)))), 0),\"Not required\")","v":44408.7},0,0,1,1,null,"T1 (PZQ+ALB/MBD)",null,null,46534,"Chunya District Council",null,null,true]
[{"$f":"IF(INTRO!$E$34<>0,INTRO!$E$34,\"\")","v":"Tanzania"},"Mbeya","Kyela District Council",259882,28116,55882,175884,99,1,3,3,{"$f":"IF(INTRO!$E$38=\"Endemic\", IF($H93>0, IF($H93=4,\"Unknown\", IF($H93=99,\"Stopped\", $D93)), 0),\"Not required\")","v":"Stopped"},{"$f":"IF(INTRO!$E$40=\"Endemic\", IF($I93>0, IF($I93=4,\"Unknown\",IF($I93=99,\"Stopped\", $D93)), 0),\"Not required\")","v":259882},{"$f":"IF(INTRO!$E$42=\"Endemic\", IF(AND($J93>1,$J93<5), IF($J93=4, \"Unknown\", E93+F93), 0),\"Not required\")","v":83998},{"$f":"IF(INTRO!$E$44=\"Endemic\", IF(AND($K93>0,$K93<5), IF($K93=4,\"Unknown\", IF($K93=1, $F93*0.33, IF($K93=2, $F93*0.5+$G93*0.2, SUM(F93:G93)))), 0),\"Not required\")","v":231766},0,1,1,1,"MDA3 (IVM)","T1 (PZQ+ALB/MBD)",null,null,46536,"Kyela District Council",null,null,true]
[{"$f":"IF(INTRO!$E$34<>0,INTRO!$E$34,\"\")","v":"Tanzania"},"Mbeya","Mbarali District Council",352608,45487,66217,240904,99,0,3,2,{"$f":"IF(INTRO!$E$38=\"Endemic\", IF($H94>0, IF($H94=4,\"Unknown\", IF($H94=99,\"Stopped\", $D94)), 0),\"Not required\")","v":"Stopped"},{"$f":"IF(INTRO!$E$40=\"Endemic\", IF($I94>0, IF($I94=4,\"Unknown\",IF($I94=99,\"Stopped\", $D94)), 0),\"Not required\")","v":0},{"$f":"IF(INTRO!$E$42=\"Endemic\", IF(AND($J94>1,$J94<5), IF($J94=4, \"Unknown\", E94+F94), 0),\"Not required\")","v":111704},{"$f":"IF(INTRO!$E$44=\"Endemic\", IF(AND($K94>0,$K94<5), IF($K94=4,\"Unknown\", IF($K94=1, $F94*0.33, IF($K94=2, $F94*0.5+$G94*0.2, SUM(F94:G94)))), 0),\"Not required\")","v":81289.3},0,0,1,1,null,"T1 (PZQ+ALB/MBD)",null,null,46537,"Mbarali District Council",null,null,true]
[{"$f":"IF(INTRO!$E$34<>0,INTRO!$E$34,\"\")","v":"Tanzania"},"Mbeya","Mbeya City Council",452062,58316,74111,319635,99,0,3,2,{"$f":"IF(INTRO!$E$38=\"Endemic\", IF($H95>0, IF($H95=4,\"Unknown\", IF($H95=99,\"Stopped\", $D95)), 0),\"Not required\")","v":"Stopped"},{"$f":"IF(INTRO!$E$40=\"Endemic\", IF($I95>0, IF($I95=4,\"Unknown\",IF($I95=99,\"Stopped\", $D95)), 0),\"Not required\")","v":0},{"$f":"IF(INTRO!$E$42=\"Endemic\", IF(AND($J95>1,$J95<5), IF($J95=4, \"Unknown\", E95+F95), 0),\"Not required\")","v":132427},{"$f":"IF(INTRO!$E$44=\"Endemic\", IF(AND($K95>0,$K95<5), IF($K95=4,\"Unknown\", IF($K95=1, $F95*0.33, IF($K95=2, $F95*0.5+$G95*0.2, SUM(F95:G95)))), 0),\"Not required\")","v":100982.5},0,0,1,1,null,"T1 (PZQ+ALB/MBD)",null,null,46538,"Mbeya City Council",null,null,true]
[{"$f":"IF(INTRO!$E$34<>0,INTRO!$E$34,\"\")","v":"Tanzania"},"Mbeya","Mbeya District Council",358242,40350,74576,243316,99,0,3,2,{"$f":"IF(INTRO!$E$38=\"Endemic\", IF($H96>0, IF($H96=4,\"Unknown\", IF($H96=99,\"Stopped\", $D96)), 0),\"Not required\")","v":"Stopped"},{"$f":"IF(INTRO!$E$40=\"Endemic\", IF($I96>0, IF($I96=4,\"Unknown\",IF($I96=99,\"Stopped\", $D96)), 0),\"Not required\")","v":0},{"$f":"IF(INTRO!$E$42=\"Endemic\", IF(AND($J96>1,$J96<5), IF($J96=4, \"Unknown\", E96+F96), 0),\"Not required\")","v":114926},{"$f":"IF(INTRO!$E$44=\"Endemic\", IF(AND($K96>0,$K96<5), IF($K96=4,\"Unknown\", IF($K96=1, $F96*0.33, IF($K96=2, $F96*0.5+$G96*0.2, SUM(F96:G96)))), 0),\"Not required\")","v":85951.200000000012},0,0,1,1,null,"T1 (PZQ+ALB/MBD)",null,null,46539,"Mbeya District Council",null,null,true]
[{"$f":"IF(INTRO!$E$34<>0,INTRO!$E$34,\"\")","v":"Tanzania"},"Mbeya","Rungwe District Council",293112,44967,55465,192680,99,1,3,2,{"$f":"IF(INTRO!$E$38=\"Endemic\", IF($H97>0, IF($H97=4,\"Unknown\", IF($H97=99,\"Stopped\", $D97)), 0),\"Not required\")","v":"Stopped"},{"$f":"IF(INTRO!$E$40=\"Endemic\", IF($I97>0, IF($I97=4,\"Unknown\",IF($I97=99,\"Stopped\", $D97)), 0),\"Not required\")","v":293112},{"$f":"IF(INTRO!$E$42=\"Endemic\", IF(AND($J97>1,$J97<5), IF($J97=4, \"Unknown\", E97+F97), 0),\"Not required\")","v":100432},{"$f":"IF(INTRO!$E$44=\"Endemic\", IF(AND($K97>0,$K97<5), IF($K97=4,\"Unknown\", IF($K97=1, $F97*0.33, IF($K97=2, $F97*0.5+$G97*0.2, SUM(F97:G97)))), 0),\"Not required\")","v":66268.5},0,1,1,1,"MDA3 (IVM)","T1 (PZQ+ALB/MBD)",null,null,46542,"Rungwe District Council",null,null,true]
[{"$f":"IF(INTRO!$E$34<>0,INTRO!$E$34,\"\")","v":"Tanzania"},"Morogoro","Gairo District Council",223834,28875,47640,147319,99,1,3,2,{"$f":"IF(INTRO!$E$38=\"Endemic\", IF($H98>0, IF($H98=4,\"Unknown\", IF($H98=99,\"Stopped\", $D98)), 0),\"Not required\")","v":"Stopped"},{"$f":"IF(INTRO!$E$40=\"Endemic\", IF($I98>0, IF($I98=4,\"Unknown\",IF($I98=99,\"Stopped\", $D98)), 0),\"Not required\")","v":223834},{"$f":"IF(INTRO!$E$42=\"Endemic\", IF(AND($J98>1,$J98<5), IF($J98=4, \"Unknown\", E98+F98), 0),\"Not required\")","v":76515},{"$f":"IF(INTRO!$E$44=\"Endemic\", IF(AND($K98>0,$K98<5), IF($K98=4,\"Unknown\", IF($K98=1, $F98*0.33, IF($K98=2, $F98*0.5+$G98*0.2, SUM(F98:G98)))), 0),\"Not required\")","v":53283.8},0,1,1,1,"MDA3 (IVM)","T1 (PZQ+ALB/MBD)",null,null,46544,"Gairo District Council",null,null,true]
[{"$f":"IF(INTRO!$E$34<>0,INTRO!$E$34,\"\")","v":"Tanzania"},"Morogoro","Ifakara Town Council",146982,13936,27741,105305,99,1,3,2,{"$f":"IF(INTRO!$E$38=\"Endemic\", IF($H99>0, IF($H99=4,\"Unknown\", IF($H99=99,\"Stopped\", $D99)), 0),\"Not required\")","v":"Stopped"},{"$f":"IF(INTRO!$E$40=\"Endemic\", IF($I99>0, IF($I99=4,\"Unknown\",IF($I99=99,\"Stopped\", $D99)), 0),\"Not required\")","v":146982},{"$f":"IF(INTRO!$E$42=\"Endemic\", IF(AND($J99>1,$J99<5), IF($J99=4, \"Unknown\", E99+F99), 0),\"Not required\")","v":41677},{"$f":"IF(INTRO!$E$44=\"Endemic\", IF(AND($K99>0,$K99<5), IF($K99=4,\"Unknown\", IF($K99=1, $F99*0.33, IF($K99=2, $F99*0.5+$G99*0.2, SUM(F99:G99)))), 0),\"Not required\")","v":34931.5},0,1,1,1,"MDA1 (IVM+ALB)","T2 (PZQ)",null,null,46632,"Ifakara Town Council",null,null,true]
[{"$f":"IF(INTRO!$E$34<>0,INTRO!$E$34,\"\")","v":"Tanzania"},"Morogoro","Kilombero District Council",461479,140386,80942,240151,99,1,3,2,{"$f":"IF(INTRO!$E$38=\"Endemic\", IF($H100>0, IF($H100=4,\"Unknown\", IF($H100=99,\"Stopped\", $D100)), 0),\"Not required\")","v":"Stopped"},{"$f":"IF(INTRO!$E$40=\"Endemic\", IF($I100>0, IF($I100=4,\"Unknown\",IF($I100=99,\"Stopped\", $D100)), 0),\"Not required\")","v":461479},{"$f":"IF(INTRO!$E$42=\"Endemic\", IF(AND($J100>1,$J100<5), IF($J100=4, \"Unknown\", E100+F100), 0),\"Not required\")","v":221328},{"$f":"IF(INTRO!$E$44=\"Endemic\", IF(AND($K100>0,$K100<5), IF($K100=4,\"Unknown\", IF($K100=1, $F100*0.33, IF($K100=2, $F100*0.5+$G100*0.2, SUM(F100:G100)))), 0),\"Not required\")","v":88501.200000000012},0,1,1,1,"MDA1 (IVM+ALB)","T2 (PZQ)",null,null,46545,"Kilombero District Council",null,null,true]
[{"$f":"IF(INTRO!$E$34<>0,INTRO!$E$34,\"\")","v":"Tanzania"},"Morogoro","Kilosa District Council",514045,66312,92883,354850,1,1,3,2,{"$f":"IF(INTRO!$E$38=\"Endemic\", IF($H101>0, IF($H101=4,\"Unknown\", IF($H101=99,\"Stopped\", $D101)), 0),\"Not required\")","v":514045},{"$f":"IF(INTRO!$E$40=\"Endemic\", IF($I101>0, IF($I101=4,\"Unknown\",IF($I101=99,\"Stopped\", $D101)), 0),\"Not required\")","v":514045},{"$f":"IF(INTRO!$E$42=\"Endemic\", IF(AND($J101>1,$J101<5), IF($J101=4, \"Unknown\", E101+F101), 0),\"Not required\")","v":159195},{"$f":"IF(INTRO!$E$44=\"Endemic\", IF(AND($K101>0,$K101<5), IF($K101=4,\"Unknown\", IF($K101=1, $F101*0.33, IF($K101=2, $F101*0.5+$G101*0.2, SUM(F101:G101)))), 0),\"Not required\")","v":117411.5},1,1,1,1,"MDA1 (IVM+ALB)","T2 (PZQ)",null,null,46546,"Kilosa District Council",null,null,true]
[{"$f":"IF(INTRO!$E$34<>0,INTRO!$E$34,\"\")","v":"Tanzania"},"Morogoro","Malinyi District Council",170856,15638,32053,123165,99,1,3,2,{"$f":"IF(INTRO!$E$38=\"Endemic\", IF($H102>0, IF($H102=4,\"Unknown\", IF($H102=99,\"Stopped\", $D102)), 0),\"Not required\")","v":"Stopped"},{"$f":"IF(INTRO!$E$40=\"Endemic\", IF($I102>0, IF($I102=4,\"Unknown\",IF($I102=99,\"Stopped\", $D102)), 0),\"Not required\")","v":170856},{"$f":"IF(INTRO!$E$42=\"Endemic\", IF(AND($J102>1,$J102<5), IF($J102=4, \"Unknown\", E102+F102), 0),\"Not required\")","v":47691},{"$f":"IF(INTRO!$E$44=\"Endemic\", IF(AND($K102>0,$K102<5), IF($K102=4,\"Unknown\", IF($K102=1, $F102*0.33, IF($K102=2, $F102*0.5+$G102*0.2, SUM(F102:G102)))), 0),\"Not required\")","v":40659.5},0,1,1,1,"MDA1 (IVM+ALB)","T2 (PZQ)",null,null,46633,"Malinyi District Council",null,null,true]
[{"$f":"IF(INTRO!$E$34<>0,INTRO!$E$34,\"\")","v":"Tanzania"},"Morogoro","Morogoro District Council",331960,42823,62244,226893,1,1,3,2,{"$f":"IF(INTRO!$E$38=\"Endemic\", IF($H103>0, IF($H103=4,\"Unknown\", IF($H103=99,\"Stopped\", $D103)), 0),\"Not required\")","v":331960},{"$f":"IF(INTRO!$E$40=\"Endemic\", IF($I103>0, IF($I103=4,\"Unknown\",IF($I103=99,\"Stopped\", $D103)), 0),\"Not required\")","v":331960},{"$f":"IF(INTRO!$E$42=\"Endemic\", IF(AND($J103>1,$J103<5), IF($J103=4, \"Unknown\", E103+F103), 0),\"Not required\")","v":105067},{"$f":"IF(INTRO!$E$44=\"Endemic\", IF(AND($K103>0,$K103<5), IF($K103=4,\"Unknown\", IF($K103=1, $F103*0.33, IF($K103=2, $F103*0.5+$G103*0.2, SUM(F103:G103)))), 0),\"Not required\")","v":76500.600000000006},1,1,1,1,"MDA1 (IVM+ALB)","T2 (PZQ)",null,null,46547,"Morogoro District Council",null,null,true]
[{"$f":"IF(INTRO!$E$34<>0,INTRO!$E$34,\"\")","v":"Tanzania"},"Morogoro","Morogoro Municipal Council",366308,27935,74866,263507,1,0,3,2,{"$f":"IF(INTRO!$E$38=\"Endemic\", IF($H104>0, IF($H104=4,\"Unknown\", IF($H104=99,\"Stopped\", $D104)), 0),\"Not required\")","v":366308},{"$f":"IF(INTRO!$E$40=\"Endemic\", IF($I104>0, IF($I104=4,\"Unknown\",IF($I104=99,\"Stopped\", $D104)), 0),\"Not required\")","v":0},{"$f":"IF(INTRO!$E$42=\"Endemic\", IF(AND($J104>1,$J104<5), IF($J104=4, \"Unknown\", E104+F104), 0),\"Not required\")","v":102801},{"$f":"IF(INTRO!$E$44=\"Endemic\", IF(AND($K104>0,$K104<5), IF($K104=4,\"Unknown\", IF($K104=1, $F104*0.33, IF($K104=2, $F104*0.5+$G104*0.2, SUM(F104:G104)))), 0),\"Not required\")","v":90134.399999999994},1,0,1,1,"MDA1 (IVM+ALB)","T2 (PZQ)",null,null,46548,"Morogoro Municipal Council",null,null,true]
[{"$f":"IF(INTRO!$E$34<>0,INTRO!$E$34,\"\")","v":"Tanzania"},"Morogoro","Mvomero District Council",363335,38650,76386,248299,1,1,3,2,{"$f":"IF(INTRO!$E$38=\"Endemic\", IF($H105>0, IF($H105=4,\"Unknown\", IF($H105=99,\"Stopped\", $D105)), 0),\"Not required\")","v":363335},{"$f":"IF(INTRO!$E$40=\"Endemic\", IF($I105>0, IF($I105=4,\"Unknown\",IF($I105=99,\"Stopped\", $D105)), 0),\"Not required\")","v":363335},{"$f":"IF(INTRO!$E$42=\"Endemic\", IF(AND($J105>1,$J105<5), IF($J105=4, \"Unknown\", E105+F105), 0),\"Not required\")","v":115036},{"$f":"IF(INTRO!$E$44=\"Endemic\", IF(AND($K105>0,$K105<5), IF($K105=4,\"Unknown\", IF($K105=1, $F105*0.33, IF($K105=2, $F105*0.5+$G105*0.2, SUM(F105:G105)))), 0),\"Not required\")","v":87852.800000000003},1,1,1,1,"MDA1 (IVM+ALB)","T1 (PZQ+ALB/MBD)",null,null,46549,"Mvomero District Council",null,null,true]
[{"$f":"IF(INTRO!$E$34<>0,INTRO!$E$34,\"\")","v":"Tanzania"},"Morogoro","Ulanga District Council",199151,25691,33915,139545,99,1,3,2,{"$f":"IF(INTRO!$E$38=\"Endemic\", IF($H106>0, IF($H106=4,\"Unknown\", IF($H106=99,\"Stopped\", $D106)), 0),\"Not required\")","v":"Stopped"},{"$f":"IF(INTRO!$E$40=\"Endemic\", IF($I106>0, IF($I106=4,\"Unknown\",IF($I106=99,\"Stopped\", $D106)), 0),\"Not required\")","v":199151},{"$f":"IF(INTRO!$E$42=\"Endemic\", IF(AND($J106>1,$J106<5), IF($J106=4, \"Unknown\", E106+F106), 0),\"Not required\")","v":59606},{"$f":"IF(INTRO!$E$44=\"Endemic\", IF(AND($K106>0,$K106<5), IF($K106=4,\"Unknown\", IF($K106=1, $F106*0.33, IF($K106=2, $F106*0.5+$G106*0.2, SUM(F106:G106)))), 0),\"Not required\")","v":44866.5},0,1,1,1,"MDA1 (IVM+ALB)","T2 (PZQ)",null,null,46550,"Ulanga District Council",null,null,true]
[{"$f":"IF(INTRO!$E$34<>0,INTRO!$E$34,\"\")","v":"Tanzania"},"Mtwara","Masasi District Council",277688,27684,57110,192894,1,0,3,3,{"$f":"IF(INTRO!$E$38=\"Endemic\", IF($H107>0, IF($H107=4,\"Unknown\", IF($H107=99,\"Stopped\", $D107)), 0),\"Not required\")","v":277688},{"$f":"IF(INTRO!$E$40=\"Endemic\", IF($I107>0, IF($I107=4,\"Unknown\",IF($I107=99,\"Stopped\", $D107)), 0),\"Not required\")","v":0},{"$f":"IF(INTRO!$E$42=\"Endemic\", IF(AND($J107>1,$J107<5), IF($J107=4, \"Unknown\", E107+F107), 0),\"Not required\")","v":84794},{"$f":"IF(INTRO!$E$44=\"Endemic\", IF(AND($K107>0,$K107<5), IF($K107=4,\"Unknown\", IF($K107=1, $F107*0.33, IF($K107=2, $F107*0.5+$G107*0.2, SUM(F107:G107)))), 0),\"Not required\")","v":250004},1,0,1,1,"MDA1 (IVM+ALB)","T1 (PZQ+ALB/MBD)",null,null,46551,"Masasi District Council",null,null,true]
[{"$f":"IF(INTRO!$E$34<>0,INTRO!$E$34,\"\")","v":"Tanzania"},"Mtwara","Masasi Town Council",110316,10184,22887,77245,99,0,3,3,{"$f":"IF(INTRO!$E$38=\"Endemic\", IF($H108>0, IF($H108=4,\"Unknown\", IF($H108=99,\"Stopped\", $D108)), 0),\"Not required\")","v":"Stopped"},{"$f":"IF(INTRO!$E$40=\"Endemic\", IF($I108>0, IF($I108=4,\"Unknown\",IF($I108=99,\"Stopped\", $D108)), 0),\"Not required\")","v":0},{"$f":"IF(INTRO!$E$42=\"Endemic\", IF(AND($J108>1,$J108<5), IF($J108=4, \"Unknown\", E108+F108), 0),\"Not required\")","v":33071},{"$f":"IF(INTRO!$E$44=\"Endemic\", IF(AND($K108>0,$K108<5), IF($K108=4,\"Unknown\", IF($K108=1, $F108*0.33, IF($K108=2, $F108*0.5+$G108*0.2, SUM(F108:G108)))), 0),\"Not required\")","v":100132},0,0,1,1,null,"T1 (PZQ+ALB/MBD)",null,null,46552,"Masasi Town Council",null,null,true]
[{"$f":"IF(INTRO!$E$34<>0,INTRO!$E$34,\"\")","v":"Tanzania"},"Mtwara","Mtwara District Council",132123,9765,32276,90082,99,0,3,3,{"$f":"IF(INTRO!$E$38=\"Endemic\", IF($H109>0, IF($H109=4,\"Unknown\", IF($H109=99,\"Stopped\", $D109)), 0),\"Not required\")","v":"Stopped"},{"$f":"IF(INTRO!$E$40=\"Endemic\", IF($I109>0, IF($I109=4,\"Unknown\",IF($I109=99,\"Stopped\", $D109)), 0),\"Not required\")","v":0},{"$f":"IF(INTRO!$E$42=\"Endemic\", IF(AND($J109>1,$J109<5), IF($J109=4, \"Unknown\", E109+F109), 0),\"Not required\")","v":42041},{"$f":"IF(INTRO!$E$44=\"Endemic\", IF(AND($K109>0,$K109<5), IF($K109=4,\"Unknown\", IF($K109=1, $F109*0.33, IF($K109=2, $F109*0.5+$G109*0.2, SUM(F109:G109)))), 0),\"Not required\")","v":122358},0,0,1,1,null,"T1 (PZQ+ALB/MBD)",null,null,46553,"Mtwara District Council",null,null,true]
[{"$f":"IF(INTRO!$E$34<>0,INTRO!$E$34,\"\")","v":"Tanzania"},"Mtwara","Mtwara-Mikindani Municipal Council",142811,36214,23240,83357,1,0,3,2,{"$f":"IF(INTRO!$E$38=\"Endemic\", IF($H110>0, IF($H110=4,\"Unknown\", IF($H110=99,\"Stopped\", $D110)), 0),\"Not required\")","v":142811},{"$f":"IF(INTRO!$E$40=\"Endemic\", IF($I110>0, IF($I110=4,\"Unknown\",IF($I110=99,\"Stopped\", $D110)), 0),\"Not required\")","v":0},{"$f":"IF(INTRO!$E$42=\"Endemic\", IF(AND($J110>1,$J110<5), IF($J110=4, \"Unknown\", E110+F110), 0),\"Not required\")","v":59454},{"$f":"IF(INTRO!$E$44=\"Endemic\", IF(AND($K110>0,$K110<5), IF($K110=4,\"Unknown\", IF($K110=1, $F110*0.33, IF($K110=2, $F110*0.5+$G110*0.2, SUM(F110:G110)))), 0),\"Not required\")","v":28291.4},1,0,1,0,"MDA1 (IVM+ALB)","T3 (ALB/MBD)",null,null,46554,"Mtwara-Mikindani Municipal Council",null,null,true]
[{"$f":"IF(INTRO!$E$34<>0,INTRO!$E$34,\"\")","v":"Tanzania"},"Mtwara","Nanyamba District Council",112797,8524,27367,76906,99,0,3,3,{"$f":"IF(INTRO!$E$38=\"Endemic\", IF($H111>0, IF($H111=4,\"Unknown\", IF($H111=99,\"Stopped\", $D111)), 0),\"Not required\")","v":"Stopped"},{"$f":"IF(INTRO!$E$40=\"Endemic\", IF($I111>0, IF($I111=4,\"Unknown\",IF($I111=99,\"Stopped\", $D111)), 0),\"Not required\")","v":0},{"$f":"IF(INTRO!$E$42=\"Endemic\", IF(AND($J111>1,$J111<5), IF($J111=4, \"Unknown\", E111+F111), 0),\"Not required\")","v":35891},{"$f":"IF(INTRO!$E$44=\"Endemic\", IF(AND($K111>0,$K111<5), IF($K111=4,\"Unknown\", IF($K111=1, $F111*0.33, IF($K111=2, $F111*0.5+$G111*0.2, SUM(F111:G111)))), 0),\"Not required\")","v":104273},0,0,1,1,null,"T1 (PZQ+ALB/MBD)",null,null,46634,"Nanyamba District Council",null,null,true]
[{"$f":"IF(INTRO!$E$34<>0,INTRO!$E$34,\"\")","v":"Tanzania"},"Mtwara","Nanyumbu District Council",162050,17378,34666,110006,99,0,3,3,{"$f":"IF(INTRO!$E$38=\"Endemic\", IF($H112>0, IF($H112=4,\"Unknown\", IF($H112=99,\"Stopped\", $D112)), 0),\"Not required\")","v":"Stopped"},{"$f":"IF(INTRO!$E$40=\"Endemic\", IF($I112>0, IF($I112=4,\"Unknown\",IF($I112=99,\"Stopped\", $D112)), 0),\"Not required\")","v":0},{"$f":"IF(INTRO!$E$42=\"Endemic\", IF(AND($J112>1,$J112<5), IF($J112=4, \"Unknown\", E112+F112), 0),\"Not required\")","v":52044},{"$f":"IF(INTRO!$E$44=\"Endemic\", IF(AND($K112>0,$K112<5), IF($K112=4,\"Unknown\", IF($K112=1, $F112*0.33, IF($K112=2, $F112*0.5+$G112*0.2, SUM(F112:G112)))), 0),\"Not required\")","v":144672},0,0,1,1,null,"T1 (PZQ+ALB/MBD)",null,null,46555,"Nanyumbu District Council",null,null,true]
[{"$f":"IF(INTRO!$E$34<>0,INTRO!$E$34,\"\")","v":"Tanzania"},"Mtwara","Newala District Council",124865,13206,24544,87115,99,0,3,2,{"$f":"IF(INTRO!$E$38=\"Endemic\", IF($H113>0, IF($H113=4,\"Unknown\", IF($H113=99,\"Stopped\", $D113)), 0),\"Not required\")","v":"Stopped"},{"$f":"IF(INTRO!$E$40=\"Endemic\", IF($I113>0, IF($I113=4,\"Unknown\",IF($I113=99,\"Stopped\", $D113)), 0),\"Not required\")","v":0},{"$f":"IF(INTRO!$E$42=\"Endemic\", IF(AND($J113>1,$J113<5), IF($J113=4, \"Unknown\", E113+F113), 0),\"Not required\")","v":37750},{"$f":"IF(INTRO!$E$44=\"Endemic\", IF(AND($K113>0,$K113<5), IF($K113=4,\"Unknown\", IF($K113=1, $F113*0.33, IF($K113=2, $F113*0.5+$G113*0.2, SUM(F113:G113)))), 0),\"Not required\")","v":29695},0,0,1,0,null,"T3 (ALB/MBD)",null,null,46556,"Newala District Council",null,null,true]
[{"$f":"IF(INTRO!$E$34<>0,INTRO!$E$34,\"\")","v":"Tanzania"},"Mtwara","Newala Town Council",95873,8078,20907,66888,99,0,3,2,{"$f":"IF(INTRO!$E$38=\"Endemic\", IF($H114>0, IF($H114=4,\"Unknown\", IF($H114=99,\"Stopped\", $D114)), 0),\"Not required\")","v":"Stopped"},{"$f":"IF(INTRO!$E$40=\"Endemic\", IF($I114>0, IF($I114=4,\"Unknown\",IF($I114=99,\"Stopped\", $D114)), 0),\"Not required\")","v":0},{"$f":"IF(INTRO!$E$42=\"Endemic\", IF(AND($J114>1,$J114<5), IF($J114=4, \"Unknown\", E114+F114), 0),\"Not required\")","v":28985},{"$f":"IF(INTRO!$E$44=\"Endemic\", IF(AND($K114>0,$K114<5), IF($K114=4,\"Unknown\", IF($K114=1, $F114*0.33, IF($K114=2, $F114*0.5+$G114*0.2, SUM(F114:G114)))), 0),\"Not required\")","v":23831.1},0,0,1,0,null,"T3 (ALB/MBD)",null,null,46635,"Newala Town Council",null,null,true]
[{"$f":"IF(INTRO!$E$34<>0,INTRO!$E$34,\"\")","v":"Tanzania"},"Mtwara","Tandahimba District Council",244394,18943,55792,169659,99,0,3,2,{"$f":"IF(INTRO!$E$38=\"Endemic\", IF($H115>0, IF($H115=4,\"Unknown\", IF($H115=99,\"Stopped\", $D115)), 0),\"Not required\")","v":"Stopped"},{"$f":"IF(INTRO!$E$40=\"Endemic\", IF($I115>0, IF($I115=4,\"Unknown\",IF($I115=99,\"Stopped\", $D115)), 0),\"Not required\")","v":0},{"$f":"IF(INTRO!$E$42=\"Endemic\", IF(AND($J115>1,$J115<5), IF($J115=4, \"Unknown\", E115+F115), 0),\"Not required\")","v":74735},{"$f":"IF(INTRO!$E$44=\"Endemic\", IF(AND($K115>0,$K115<5), IF($K115=4,\"Unknown\", IF($K115=1, $F115*0.33, IF($K115=2, $F115*0.5+$G115*0.2, SUM(F115:G115)))), 0),\"Not required\")","v":61827.8},0,0,1,0,null,"T3 (ALB/MBD)",null,null,46557,"Tandahimba District Council",null,null,true]
[{"$f":"IF(INTRO!$E$34<>0,INTRO!$E$34,\"\")","v":"Tanzania"},"Mwanza","Buchosa District Council",391371,24818,105840,260713,0,0,3,2,{"$f":"IF(INTRO!$E$38=\"Endemic\", IF($H116>0, IF($H116=4,\"Unknown\", IF($H116=99,\"Stopped\", $D116)), 0),\"Not required\")","v":0},{"$f":"IF(INTRO!$E$40=\"Endemic\", IF($I116>0, IF($I116=4,\"Unknown\",IF($I116=99,\"Stopped\", $D116)), 0),\"Not required\")","v":0},{"$f":"IF(INTRO!$E$42=\"Endemic\", IF(AND($J116>1,$J116<5), IF($J116=4, \"Unknown\", E116+F116), 0),\"Not required\")","v":130658},{"$f":"IF(INTRO!$E$44=\"Endemic\", IF(AND($K116>0,$K116<5), IF($K116=4,\"Unknown\", IF($K116=1, $F116*0.33, IF($K116=2, $F116*0.5+$G116*0.2, SUM(F116:G116)))), 0),\"Not required\")","v":105062.6},0,0,1,1,null,"T1 (PZQ+ALB/MBD)",null,null,46636,"Buchosa District Council",null,null,true]
[{"$f":"IF(INTRO!$E$34<>0,INTRO!$E$34,\"\")","v":"Tanzania"},"Mwanza","Ilemela Municipal Council",409561,28333,94743,286485,0,0,3,2,{"$f":"IF(INTRO!$E$38=\"Endemic\", IF($H117>0, IF($H117=4,\"Unknown\", IF($H117=99,\"Stopped\", $D117)), 0),\"Not required\")","v":0},{"$f":"IF(INTRO!$E$40=\"Endemic\", IF($I117>0, IF($I117=4,\"Unknown\",IF($I117=99,\"Stopped\", $D117)), 0),\"Not required\")","v":0},{"$f":"IF(INTRO!$E$42=\"Endemic\", IF(AND($J117>1,$J117<5), IF($J117=4, \"Unknown\", E117+F117), 0),\"Not required\")","v":123076},{"$f":"IF(INTRO!$E$44=\"Endemic\", IF(AND($K117>0,$K117<5), IF($K117=4,\"Unknown\", IF($K117=1, $F117*0.33, IF($K117=2, $F117*0.5+$G117*0.2, SUM(F117:G117)))), 0),\"Not required\")","v":104668.5},0,0,1,1,null,"T1 (PZQ+ALB/MBD)",null,null,46558,"Ilemela Municipal Council",null,null,true]
[{"$f":"IF(INTRO!$E$34<>0,INTRO!$E$34,\"\")","v":"Tanzania"},"Mwanza","Kwimba District Council",485393,50256,114329,320808,0,0,3,3,{"$f":"IF(INTRO!$E$38=\"Endemic\", IF($H118>0, IF($H118=4,\"Unknown\", IF($H118=99,\"Stopped\", $D118)), 0),\"Not required\")","v":0},{"$f":"IF(INTRO!$E$40=\"Endemic\", IF($I118>0, IF($I118=4,\"Unknown\",IF($I118=99,\"Stopped\", $D118)), 0),\"Not required\")","v":0},{"$f":"IF(INTRO!$E$42=\"Endemic\", IF(AND($J118>1,$J118<5), IF($J118=4, \"Unknown\", E118+F118), 0),\"Not required\")","v":164585},{"$f":"IF(INTRO!$E$44=\"Endemic\", IF(AND($K118>0,$K118<5), IF($K118=4,\"Unknown\", IF($K118=1, $F118*0.33, IF($K118=2, $F118*0.5+$G118*0.2, SUM(F118:G118)))), 0),\"Not required\")","v":435137},0,0,1,1,null,"T1 (PZQ+ALB/MBD)",null,null,46559,"Kwimba District Council",null,null,true]
[{"$f":"IF(INTRO!$E$34<>0,INTRO!$E$34,\"\")","v":"Tanzania"},"Mwanza","Magu District Council",357928,25600,94743,237585,0,0,3,3,{"$f":"IF(INTRO!$E$38=\"Endemic\", IF($H119>0, IF($H119=4,\"Unknown\", IF($H119=99,\"Stopped\", $D119)), 0),\"Not required\")","v":0},{"$f":"IF(INTRO!$E$40=\"Endemic\", IF($I119>0, IF($I119=4,\"Unknown\",IF($I119=99,\"Stopped\", $D119)), 0),\"Not required\")","v":0},{"$f":"IF(INTRO!$E$42=\"Endemic\", IF(AND($J119>1,$J119<5), IF($J119=4, \"Unknown\", E119+F119), 0),\"Not required\")","v":120343},{"$f":"IF(INTRO!$E$44=\"Endemic\", IF(AND($K119>0,$K119<5), IF($K119=4,\"Unknown\", IF($K119=1, $F119*0.33, IF($K119=2, $F119*0.5+$G119*0.2, SUM(F119:G119)))), 0),\"Not required\")","v":332328},0,0,1,1,null,"T1 (PZQ+ALB/MBD)",null,null,46560,"Magu District Council",null,null,true]
[{"$f":"IF(INTRO!$E$34<>0,INTRO!$E$34,\"\")","v":"Tanzania"},"Mwanza","Misungwi District Council",419837,37633,101927,280277,0,0,3,3,{"$f":"IF(INTRO!$E$38=\"Endemic\", IF($H120>0, IF($H120=4,\"Unknown\", IF($H120=99,\"Stopped\", $D120)), 0),\"Not required\")","v":0},{"$f":"IF(INTRO!$E$40=\"Endemic\", IF($I120>0, IF($I120=4,\"Unknown\",IF($I120=99,\"Stopped\", $D120)), 0),\"Not required\")","v":0},{"$f":"IF(INTRO!$E$42=\"Endemic\", IF(AND($J120>1,$J120<5), IF($J120=4, \"Unknown\", E120+F120), 0),\"Not required\")","v":139560},{"$f":"IF(INTRO!$E$44=\"Endemic\", IF(AND($K120>0,$K120<5), IF($K120=4,\"Unknown\", IF($K120=1, $F120*0.33, IF($K120=2, $F120*0.5+$G120*0.2, SUM(F120:G120)))), 0),\"Not required\")","v":382204},0,0,1,1,null,"T1 (PZQ+ALB/MBD)",null,null,46561,"Misungwi District Council",null,null,true]
[{"$f":"IF(INTRO!$E$34<>0,INTRO!$E$34,\"\")","v":"Tanzania"},"Mwanza","Mwanza-Nyamagana City Council",433981,16164,113527,304290,0,0,3,2,{"$f":"IF(INTRO!$E$38=\"Endemic\", IF($H121>0, IF($H121=4,\"Unknown\", IF($H121=99,\"Stopped\", $D121)), 0),\"Not required\")","v":0},{"$f":"IF(INTRO!$E$40=\"Endemic\", IF($I121>0, IF($I121=4,\"Unknown\",IF($I121=99,\"Stopped\", $D121)), 0),\"Not required\")","v":0},{"$f":"IF(INTRO!$E$42=\"Endemic\", IF(AND($J121>1,$J121<5), IF($J121=4, \"Unknown\", E121+F121), 0),\"Not required\")","v":129691},{"$f":"IF(INTRO!$E$44=\"Endemic\", IF(AND($K121>0,$K121<5), IF($K121=4,\"Unknown\", IF($K121=1, $F121*0.33, IF($K121=2, $F121*0.5+$G121*0.2, SUM(F121:G121)))), 0),\"Not required\")","v":117621.5},0,0,1,1,null,"T1 (PZQ+ALB/MBD)",null,null,46562,"Mwanza-Nyamagana City Council ",null,null,false]
[{"$f":"IF(INTRO!$E$34<>0,INTRO!$E$34,\"\")","v":"Tanzania"},"Mwanza","Sengerema District Council",400326,20794,112853,266679,0,0,3,2,{"$f":"IF(INTRO!$E$38=\"Endemic\", IF($H122>0, IF($H122=4,\"Unknown\", IF($H122=99,\"Stopped\", $D122)), 0),\"Not required\")","v":0},{"$f":"IF(INTRO!$E$40=\"Endemic\", IF($I122>0, IF($I122=4,\"Unknown\",IF($I122=99,\"Stopped\", $D122)), 0),\"Not required\")","v":0},{"$f":"IF(INTRO!$E$42=\"Endemic\", IF(AND($J122>1,$J122<5), IF($J122=4, \"Unknown\", E122+F122), 0),\"Not required\")","v":133647},{"$f":"IF(INTRO!$E$44=\"Endemic\", IF(AND($K122>0,$K122<5), IF($K122=4,\"Unknown\", IF($K122=1, $F122*0.33, IF($K122=2, $F122*0.5+$G122*0.2, SUM(F122:G122)))), 0),\"Not required\")","v":109762.3},0,0,1,1,null,"T1 (PZQ+ALB/MBD)",null,null,46563,"Sengerema District Council",null,null,true]
[{"$f":"IF(INTRO!$E$34<>0,INTRO!$E$34,\"\")","v":"Tanzania"},"Mwanza","Ukerewe District Council",412124,22490,111835,277799,0,0,3,2,{"$f":"IF(INTRO!$E$38=\"Endemic\", IF($H123>0, IF($H123=4,\"Unknown\", IF($H123=99,\"Stopped\", $D123)), 0),\"Not required\")","v":0},{"$f":"IF(INTRO!$E$40=\"Endemic\", IF($I123>0, IF($I123=4,\"Unknown\",IF($I123=99,\"Stopped\", $D123)), 0),\"Not required\")","v":0},{"$f":"IF(INTRO!$E$42=\"Endemic\", IF(AND($J123>1,$J123<5), IF($J123=4, \"Unknown\", E123+F123), 0),\"Not required\")","v":134325},{"$f":"IF(INTRO!$E$44=\"Endemic\", IF(AND($K123>0,$K123<5), IF($K123=4,\"Unknown\", IF($K123=1, $F123*0.33, IF($K123=2, $F123*0.5+$G123*0.2, SUM(F123:G123)))), 0),\"Not required\")","v":111477.3},0,0,1,1,null,"T1 (PZQ+ALB/MBD)",null,null,46564,"Ukerewe District Council",null,null,true]
[{"$f":"IF(INTRO!$E$34<>0,INTRO!$E$34,\"\")","v":"Tanzania"},"Njombe","Ludewa District Council",139742,11215,36703,91824,99,1,3,2,{"$f":"IF(INTRO!$E$38=\"Endemic\", IF($H124>0, IF($H124=4,\"Unknown\", IF($H124=99,\"Stopped\", $D124)), 0),\"Not required\")","v":"Stopped"},{"$f":"IF(INTRO!$E$40=\"Endemic\", IF($I124>0, IF($I124=4,\"Unknown\",IF($I124=99,\"Stopped\", $D124)), 0),\"Not required\")","v":139742},{"$f":"IF(INTRO!$E$42=\"Endemic\", IF(AND($J124>1,$J124<5), IF($J124=4, \"Unknown\", E124+F124), 0),\"Not required\")","v":47918},{"$f":"IF(INTRO!$E$44=\"Endemic\", IF(AND($K124>0,$K124<5), IF($K124=4,\"Unknown\", IF($K124=1, $F124*0.33, IF($K124=2, $F124*0.5+$G124*0.2, SUM(F124:G124)))), 0),\"Not required\")","v":36716.300000000003},0,1,1,1,"MDA3 (IVM)","T1 (PZQ+ALB/MBD)",null,null,46565,"Ludewa District Council",null,null,true]
[{"$f":"IF(INTRO!$E$34<>0,INTRO!$E$34,\"\")","v":"Tanzania"},"Njombe","Makambako Town Council",98422,4953,26808,66661,99,0,3,2,{"$f":"IF(INTRO!$E$38=\"Endemic\", IF($H125>0, IF($H125=4,\"Unknown\", IF($H125=99,\"Stopped\", $D125)), 0),\"Not required\")","v":"Stopped"},{"$f":"IF(INTRO!$E$40=\"Endemic\", IF($I125>0, IF($I125=4,\"Unknown\",IF($I125=99,\"Stopped\", $D125)), 0),\"Not required\")","v":0},{"$f":"IF(INTRO!$E$42=\"Endemic\", IF(AND($J125>1,$J125<5), IF($J125=4, \"Unknown\", E125+F125), 0),\"Not required\")","v":31761},{"$f":"IF(INTRO!$E$44=\"Endemic\", IF(AND($K125>0,$K125<5), IF($K125=4,\"Unknown\", IF($K125=1, $F125*0.33, IF($K125=2, $F125*0.5+$G125*0.2, SUM(F125:G125)))), 0),\"Not required\")","v":26736.2},0,0,1,1,null,"T1 (PZQ+ALB/MBD)",null,null,46566,"Makambako Town Council",null,null,true]
[{"$f":"IF(INTRO!$E$34<>0,INTRO!$E$34,\"\")","v":"Tanzania"},"Njombe","Makete District Council",102029,10107,22779,69143,99,0,3,2,{"$f":"IF(INTRO!$E$38=\"Endemic\", IF($H126>0, IF($H126=4,\"Unknown\", IF($H126=99,\"Stopped\", $D126)), 0),\"Not required\")","v":"Stopped"},{"$f":"IF(INTRO!$E$40=\"Endemic\", IF($I126>0, IF($I126=4,\"Unknown\",IF($I126=99,\"Stopped\", $D126)), 0),\"Not required\")","v":0},{"$f":"IF(INTRO!$E$42=\"Endemic\", IF(AND($J126>1,$J126<5), IF($J126=4, \"Unknown\", E126+F126), 0),\"Not required\")","v":32886},{"$f":"IF(INTRO!$E$44=\"Endemic\", IF(AND($K126>0,$K126<5), IF($K126=4,\"Unknown\", IF($K126=1, $F126*0.33, IF($K126=2, $F126*0.5+$G126*0.2, SUM(F126:G126)))), 0),\"Not required\")","v":25218.1},0,0,1,1,null,"T1 (PZQ+ALB/MBD)",null,null,46567,"Makete District Council",null,null,true]
[{"$f":"IF(INTRO!$E$34<>0,INTRO!$E$34,\"\")","v":"Tanzania"},"Njombe","Njombe District Council",92911,10882,22285,59744,99,1,3,2,{"$f":"IF(INTRO!$E$38=\"Endemic\", IF($H127>0, IF($H127=4,\"Unknown\", IF($H127=99,\"Stopped\", $D127)), 0),\"Not required\")","v":"Stopped"},{"$f":"IF(INTRO!$E$40=\"Endemic\", IF($I127>0, IF($I127=4,\"Unknown\",IF($I127=99,\"Stopped\", $D127)), 0),\"Not required\")","v":92911},{"$f":"IF(INTRO!$E$42=\"Endemic\", IF(AND($J127>1,$J127<5), IF($J127=4, \"Unknown\", E127+F127), 0),\"Not required\")","v":33167},{"$f":"IF(INTRO!$E$44=\"Endemic\", IF(AND($K127>0,$K127<5), IF($K127=4,\"Unknown\", IF($K127=1, $F127*0.33, IF($K127=2, $F127*0.5+$G127*0.2, SUM(F127:G127)))), 0),\"Not required\")","v":23091.300000000003},0,1,1,1,"MDA3 (IVM)","T1 (PZQ+ALB/MBD)",null,null,46568,"Njombe District Council",null,null,true]
[{"$f":"IF(INTRO!$E$34<>0,INTRO!$E$34,\"\")","v":"Tanzania"},"Njombe","Njombe Town Council",136600,7878,35652,93070,99,0,3,2,{"$f":"IF(INTRO!$E$38=\"Endemic\", IF($H128>0, IF($H128=4,\"Unknown\", IF($H128=99,\"Stopped\", $D128)), 0),\"Not required\")","v":"Stopped"},{"$f":"IF(INTRO!$E$40=\"Endemic\", IF($I128>0, IF($I128=4,\"Unknown\",IF($I128=99,\"Stopped\", $D128)), 0),\"Not required\")","v":0},{"$f":"IF(INTRO!$E$42=\"Endemic\", IF(AND($J128>1,$J128<5), IF($J128=4, \"Unknown\", E128+F128), 0),\"Not required\")","v":43530},{"$f":"IF(INTRO!$E$44=\"Endemic\", IF(AND($K128>0,$K128<5), IF($K128=4,\"Unknown\", IF($K128=1, $F128*0.33, IF($K128=2, $F128*0.5+$G128*0.2, SUM(F128:G128)))), 0),\"Not required\")","v":36440},0,0,1,1,null,"T1 (PZQ+ALB/MBD)",null,null,46569,"Njombe Town Council",null,null,true]
[{"$f":"IF(INTRO!$E$34<>0,INTRO!$E$34,\"\")","v":"Tanzania"},"Njombe","Wanging'ombe District Council",169740,14538,42240,112962,99,0,3,2,{"$f":"IF(INTRO!$E$38=\"Endemic\", IF($H129>0, IF($H129=4,\"Unknown\", IF($H129=99,\"Stopped\", $D129)), 0),\"Not required\")","v":"Stopped"},{"$f":"IF(INTRO!$E$40=\"Endemic\", IF($I129>0, IF($I129=4,\"Unknown\",IF($I129=99,\"Stopped\", $D129)), 0),\"Not required\")","v":0},{"$f":"IF(INTRO!$E$42=\"Endemic\", IF(AND($J129>1,$J129<5), IF($J129=4, \"Unknown\", E129+F129), 0),\"Not required\")","v":56778},{"$f":"IF(INTRO!$E$44=\"Endemic\", IF(AND($K129>0,$K129<5), IF($K129=4,\"Unknown\", IF($K129=1, $F129*0.33, IF($K129=2, $F129*0.5+$G129*0.2, SUM(F129:G129)))), 0),\"Not required\")","v":43712.4},0,0,1,1,null,"T1 (PZQ+ALB/MBD)",null,null,46570,"Wanging'ombe District Council",null,null,true]
[{"$f":"IF(INTRO!$E$34<>0,INTRO!$E$34,\"\")","v":"Tanzania"},"Pwani","Bagamoyo District Council",111281,6289,27373,77619,99,0,3,2,{"$f":"IF(INTRO!$E$38=\"Endemic\", IF($H130>0, IF($H130=4,\"Unknown\", IF($H130=99,\"Stopped\", $D130)), 0),\"Not required\")","v":"Stopped"},{"$f":"IF(INTRO!$E$40=\"Endemic\", IF($I130>0, IF($I130=4,\"Unknown\",IF($I130=99,\"Stopped\", $D130)), 0),\"Not required\")","v":0},{"$f":"IF(INTRO!$E$42=\"Endemic\", IF(AND($J130>1,$J130<5), IF($J130=4, \"Unknown\", E130+F130), 0),\"Not required\")","v":33662},{"$f":"IF(INTRO!$E$44=\"Endemic\", IF(AND($K130>0,$K130<5), IF($K130=4,\"Unknown\", IF($K130=1, $F130*0.33, IF($K130=2, $F130*0.5+$G130*0.2, SUM(F130:G130)))), 0),\"Not required\")","v":29210.300000000003},0,0,1,0,null,"T3 (ALB/MBD)",null,null,46571,"Bagamoyo District Council",null,null,true]
[{"$f":"IF(INTRO!$E$34<>0,INTRO!$E$34,\"\")","v":"Tanzania"},"Pwani","Chalinze District Council",243939,22697,51095,170147,99,0,3,2,{"$f":"IF(INTRO!$E$38=\"Endemic\", IF($H131>0, IF($H131=4,\"Unknown\", IF($H131=99,\"Stopped\", $D131)), 0),\"Not required\")","v":"Stopped"},{"$f":"IF(INTRO!$E$40=\"Endemic\", IF($I131>0, IF($I131=4,\"Unknown\",IF($I131=99,\"Stopped\", $D131)), 0),\"Not required\")","v":0},{"$f":"IF(INTRO!$E$42=\"Endemic\", IF(AND($J131>1,$J131<5), IF($J131=4, \"Unknown\", E131+F131), 0),\"Not required\")","v":73792},{"$f":"IF(INTRO!$E$44=\"Endemic\", IF(AND($K131>0,$K131<5), IF($K131=4,\"Unknown\", IF($K131=1, $F131*0.33, IF($K131=2, $F131*0.5+$G131*0.2, SUM(F131:G131)))), 0),\"Not required\")","v":59576.9},0,0,1,0,null,"T3 (ALB/MBD)",null,null,46638,"Chalinze District Council",null,null,true]
[{"$f":"IF(INTRO!$E$34<>0,INTRO!$E$34,\"\")","v":"Tanzania"},"Pwani","Kibaha District Council",80002,4231,19481,56290,1,0,3,2,{"$f":"IF(INTRO!$E$38=\"Endemic\", IF($H132>0, IF($H132=4,\"Unknown\", IF($H132=99,\"Stopped\", $D132)), 0),\"Not required\")","v":80002},{"$f":"IF(INTRO!$E$40=\"Endemic\", IF($I132>0, IF($I132=4,\"Unknown\",IF($I132=99,\"Stopped\", $D132)), 0),\"Not required\")","v":0},{"$f":"IF(INTRO!$E$42=\"Endemic\", IF(AND($J132>1,$J132<5), IF($J132=4, \"Unknown\", E132+F132), 0),\"Not required\")","v":23712},{"$f":"IF(INTRO!$E$44=\"Endemic\", IF(AND($K132>0,$K132<5), IF($K132=4,\"Unknown\", IF($K132=1, $F132*0.33, IF($K132=2, $F132*0.5+$G132*0.2, SUM(F132:G132)))), 0),\"Not required\")","v":20998.5},1,0,1,1,"MDA1 (IVM+ALB)","T1 (PZQ+ALB/MBD)",null,null,46572,"Kibaha District Council",null,null,true]
[{"$f":"IF(INTRO!$E$34<>0,INTRO!$E$34,\"\")","v":"Tanzania"},"Pwani","Kibaha Town Council",146409,6443,35161,104805,99,0,3,2,{"$f":"IF(INTRO!$E$38=\"Endemic\", IF($H133>0, IF($H133=4,\"Unknown\", IF($H133=99,\"Stopped\", $D133)), 0),\"Not required\")","v":"Stopped"},{"$f":"IF(INTRO!$E$40=\"Endemic\", IF($I133>0, IF($I133=4,\"Unknown\",IF($I133=99,\"Stopped\", $D133)), 0),\"Not required\")","v":0},{"$f":"IF(INTRO!$E$42=\"Endemic\", IF(AND($J133>1,$J133<5), IF($J133=4, \"Unknown\", E133+F133), 0),\"Not required\")","v":41604},{"$f":"IF(INTRO!$E$44=\"Endemic\", IF(AND($K133>0,$K133<5), IF($K133=4,\"Unknown\", IF($K133=1, $F133*0.33, IF($K133=2, $F133*0.5+$G133*0.2, SUM(F133:G133)))), 0),\"Not required\")","v":38541.5},0,0,1,1,null,"T1 (PZQ+ALB/MBD)",null,null,46573,"Kibaha Town Council",null,null,true]
[{"$f":"IF(INTRO!$E$34<>0,INTRO!$E$34,\"\")","v":"Tanzania"},"Pwani","Kibiti District Council",118425,4461,34891,79073,99,0,3,2,{"$f":"IF(INTRO!$E$38=\"Endemic\", IF($H134>0, IF($H134=4,\"Unknown\", IF($H134=99,\"Stopped\", $D134)), 0),\"Not required\")","v":"Stopped"},{"$f":"IF(INTRO!$E$40=\"Endemic\", IF($I134>0, IF($I134=4,\"Unknown\",IF($I134=99,\"Stopped\", $D134)), 0),\"Not required\")","v":0},{"$f":"IF(INTRO!$E$42=\"Endemic\", IF(AND($J134>1,$J134<5), IF($J134=4, \"Unknown\", E134+F134), 0),\"Not required\")","v":39352},{"$f":"IF(INTRO!$E$44=\"Endemic\", IF(AND($K134>0,$K134<5), IF($K134=4,\"Unknown\", IF($K134=1, $F134*0.33, IF($K134=2, $F134*0.5+$G134*0.2, SUM(F134:G134)))), 0),\"Not required\")","v":33260.1},0,0,1,0,null,"T3 (ALB/MBD)",null,null,46639,"Kibiti District Council",null,null,true]
[{"$f":"IF(INTRO!$E$34<>0,INTRO!$E$34,\"\")","v":"Tanzania"},"Pwani","Kisarawe District Council",115769,4326,29405,82038,99,0,3,2,{"$f":"IF(INTRO!$E$38=\"Endemic\", IF($H135>0, IF($H135=4,\"Unknown\", IF($H135=99,\"Stopped\", $D135)), 0),\"Not required\")","v":"Stopped"},{"$f":"IF(INTRO!$E$40=\"Endemic\", IF($I135>0, IF($I135=4,\"Unknown\",IF($I135=99,\"Stopped\", $D135)), 0),\"Not required\")","v":0},{"$f":"IF(INTRO!$E$42=\"Endemic\", IF(AND($J135>1,$J135<5), IF($J135=4, \"Unknown\", E135+F135), 0),\"Not required\")","v":33731},{"$f":"IF(INTRO!$E$44=\"Endemic\", IF(AND($K135>0,$K135<5), IF($K135=4,\"Unknown\", IF($K135=1, $F135*0.33, IF($K135=2, $F135*0.5+$G135*0.2, SUM(F135:G135)))), 0),\"Not required\")","v":31110.100000000002},0,0,1,0,null,"T3 (ALB/MBD)",null,null,46574,"Kisarawe District Council",null,null,true]
[{"$f":"IF(INTRO!$E$34<>0,INTRO!$E$34,\"\")","v":"Tanzania"},"Pwani","Mafia District Council",52915,4652,11265,36998,1,0,3,2,{"$f":"IF(INTRO!$E$38=\"Endemic\", IF($H136>0, IF($H136=4,\"Unknown\", IF($H136=99,\"Stopped\", $D136)), 0),\"Not required\")","v":52915},{"$f":"IF(INTRO!$E$40=\"Endemic\", IF($I136>0, IF($I136=4,\"Unknown\",IF($I136=99,\"Stopped\", $D136)), 0),\"Not required\")","v":0},{"$f":"IF(INTRO!$E$42=\"Endemic\", IF(AND($J136>1,$J136<5), IF($J136=4, \"Unknown\", E136+F136), 0),\"Not required\")","v":15917},{"$f":"IF(INTRO!$E$44=\"Endemic\", IF(AND($K136>0,$K136<5), IF($K136=4,\"Unknown\", IF($K136=1, $F136*0.33, IF($K136=2, $F136*0.5+$G136*0.2, SUM(F136:G136)))), 0),\"Not required\")","v":13032.1},1,0,1,1,"MDA1 (IVM+ALB)","T1 (PZQ+ALB/MBD)",null,null,46575,"Mafia District Council",null,null,true]
[{"$f":"IF(INTRO!$E$34<>0,INTRO!$E$34,\"\")","v":"Tanzania"},"Pwani","Mkuranga District Council",254013,6887,74369,172757,99,0,3,2,{"$f":"IF(INTRO!$E$38=\"Endemic\", IF($H137>0, IF($H137=4,\"Unknown\", IF($H137=99,\"Stopped\", $D137)), 0),\"Not required\")","v":"Stopped"},{"$f":"IF(INTRO!$E$40=\"Endemic\", IF($I137>0, IF($I137=4,\"Unknown\",IF($I137=99,\"Stopped\", $D137)), 0),\"Not required\")","v":0},{"$f":"IF(INTRO!$E$42=\"Endemic\", IF(AND($J137>1,$J137<5), IF($J137=4, \"Unknown\", E137+F137), 0),\"Not required\")","v":81256},{"$f":"IF(INTRO!$E$44=\"Endemic\", IF(AND($K137>0,$K137<5), IF($K137=4,\"Unknown\", IF($K137=1, $F137*0.33, IF($K137=2, $F137*0.5+$G137*0.2, SUM(F137:G137)))), 0),\"Not required\")","v":71735.899999999994},0,0,1,0,null,"T3 (ALB/MBD)",null,null,46576,"Mkuranga District Council",null,null,true]
[{"$f":"IF(INTRO!$E$34<>0,INTRO!$E$34,\"\")","v":"Tanzania"},"Pwani","Rufiji District Council",129154,16661,26256,86237,99,0,3,2,{"$f":"IF(INTRO!$E$38=\"Endemic\", IF($H138>0, IF($H138=4,\"Unknown\", IF($H138=99,\"Stopped\", $D138)), 0),\"Not required\")","v":"Stopped"},{"$f":"IF(INTRO!$E$40=\"Endemic\", IF($I138>0, IF($I138=4,\"Unknown\",IF($I138=99,\"Stopped\", $D138)), 0),\"Not required\")","v":0},{"$f":"IF(INTRO!$E$42=\"Endemic\", IF(AND($J138>1,$J138<5), IF($J138=4, \"Unknown\", E138+F138), 0),\"Not required\")","v":42917},{"$f":"IF(INTRO!$E$44=\"Endemic\", IF(AND($K138>0,$K138<5), IF($K138=4,\"Unknown\", IF($K138=1, $F138*0.33, IF($K138=2, $F138*0.5+$G138*0.2, SUM(F138:G138)))), 0),\"Not required\")","v":30375.4},0,0,1,0,null,"T3 (ALB/MBD)",null,null,46577,"Rufiji District Council",null,null,{"$f":"Y138=C138","v":true}]
[{"$f":"IF(INTRO!$E$34<>0,INTRO!$E$34,\"\")","v":"Tanzania"},"Rukwa","Kalambo District Council",250908,32367,53400,165141,99,0,3,2,{"$f":"IF(INTRO!$E$38=\"Endemic\", IF($H139>0, IF($H139=4,\"Unknown\", IF($H139=99,\"Stopped\", $D139)), 0),\"Not required\")","v":"Stopped"},{"$f":"IF(INTRO!$E$40=\"Endemic\", IF($I139>0, IF($I139=4,\"Unknown\",IF($I139=99,\"Stopped\", $D139)), 0),\"Not required\")","v":0},{"$f":"IF(INTRO!$E$42=\"Endemic\", IF(AND($J139>1,$J139<5), IF($J139=4, \"Unknown\", E139+F139), 0),\"Not required\")","v":85767},{"$f":"IF(INTRO!$E$44=\"Endemic\", IF(AND($K139>0,$K139<5), IF($K139=4,\"Unknown\", IF($K139=1, $F139*0.33, IF($K139=2, $F139*0.5+$G139*0.2, SUM(F139:G139)))), 0),\"Not required\")","v":59728.200000000004},0,0,1,0,null,"T3 (ALB/MBD)",null,null,46578,"Kalambo District Council",null,null,true]
[{"$f":"IF(INTRO!$E$34<>0,INTRO!$E$34,\"\")","v":"Tanzania"},"Rukwa","Nkasi District Council",339698,28308,86665,224725,99,0,3,2,{"$f":"IF(INTRO!$E$38=\"Endemic\", IF($H140>0, IF($H140=4,\"Unknown\", IF($H140=99,\"Stopped\", $D140)), 0),\"Not required\")","v":"Stopped"},{"$f":"IF(INTRO!$E$40=\"Endemic\", IF($I140>0, IF($I140=4,\"Unknown\",IF($I140=99,\"Stopped\", $D140)), 0),\"Not required\")","v":0},{"$f":"IF(INTRO!$E$42=\"Endemic\", IF(AND($J140>1,$J140<5), IF($J140=4, \"Unknown\", E140+F140), 0),\"Not required\")","v":114973},{"$f":"IF(INTRO!$E$44=\"Endemic\", IF(AND($K140>0,$K140<5), IF($K140=4,\"Unknown\", IF($K140=1, $F140*0.33, IF($K140=2, $F140*0.5+$G140*0.2, SUM(F140:G140)))), 0),\"Not required\")","v":88277.5},0,0,1,0,null,"T3 (ALB/MBD)",null,null,46579,"Nkasi District Council",null,null,true]
[{"$f":"IF(INTRO!$E$34<>0,INTRO!$E$34,\"\")","v":"Tanzania"},"Rukwa","Sumbawanga District Council",369472,47663,77659,244150,99,0,3,2,{"$f":"IF(INTRO!$E$38=\"Endemic\", IF($H141>0, IF($H141=4,\"Unknown\", IF($H141=99,\"Stopped\", $D141)), 0),\"Not required\")","v":"Stopped"},{"$f":"IF(INTRO!$E$40=\"Endemic\", IF($I141>0, IF($I141=4,\"Unknown\",IF($I141=99,\"Stopped\", $D141)), 0),\"Not required\")","v":0},{"$f":"IF(INTRO!$E$42=\"Endemic\", IF(AND($J141>1,$J141<5), IF($J141=4, \"Unknown\", E141+F141), 0),\"Not required\")","v":125322},{"$f":"IF(INTRO!$E$44=\"Endemic\", IF(AND($K141>0,$K141<5), IF($K141=4,\"Unknown\", IF($K141=1, $F141*0.33, IF($K141=2, $F141*0.5+$G141*0.2, SUM(F141:G141)))), 0),\"Not required\")","v":87659.5},0,0,1,0,null,"T3 (ALB/MBD)",null,null,46580,"Sumbawanga District Council",null,null,true]
[{"$f":"IF(INTRO!$E$34<>0,INTRO!$E$34,\"\")","v":"Tanzania"},"Rukwa","Sumbawanga Municipal Council",253437,32693.309614717993,85777,134966.69038528201,99,0,3,2,{"$f":"IF(INTRO!$E$38=\"Endemic\", IF($H142>0, IF($H142=4,\"Unknown\", IF($H142=99,\"Stopped\", $D142)), 0),\"Not required\")","v":"Stopped"},{"$f":"IF(INTRO!$E$40=\"Endemic\", IF($I142>0, IF($I142=4,\"Unknown\",IF($I142=99,\"Stopped\", $D142)), 0),\"Not required\")","v":0},{"$f":"IF(INTRO!$E$42=\"Endemic\", IF(AND($J142>1,$J142<5), IF($J142=4, \"Unknown\", E142+F142), 0),\"Not required\")","v":118470.30961471799},{"$f":"IF(INTRO!$E$44=\"Endemic\", IF(AND($K142>0,$K142<5), IF($K142=4,\"Unknown\", IF($K142=1, $F142*0.33, IF($K142=2, $F142*0.5+$G142*0.2, SUM(F142:G142)))), 0),\"Not required\")","v":69881.838077056396},0,0,1,0,null,"T3 (ALB/MBD)",null,null,46581,"Sumbawanga Municipal Council",null,null,true]
[{"$f":"IF(INTRO!$E$34<>0,INTRO!$E$34,\"\")","v":"Tanzania"},"Ruvuma","Madaba District Council",54119,6333,10961,36825,99,1,3,2,{"$f":"IF(INTRO!$E$38=\"Endemic\", IF($H143>0, IF($H143=4,\"Unknown\", IF($H143=99,\"Stopped\", $D143)), 0),\"Not required\")","v":"Stopped"},{"$f":"IF(INTRO!$E$40=\"Endemic\", IF($I143>0, IF($I143=4,\"Unknown\",IF($I143=99,\"Stopped\", $D143)), 0),\"Not required\")","v":54119},{"$f":"IF(INTRO!$E$42=\"Endemic\", IF(AND($J143>1,$J143<5), IF($J143=4, \"Unknown\", E143+F143), 0),\"Not required\")","v":17294},{"$f":"IF(INTRO!$E$44=\"Endemic\", IF(AND($K143>0,$K143<5), IF($K143=4,\"Unknown\", IF($K143=1, $F143*0.33, IF($K143=2, $F143*0.5+$G143*0.2, SUM(F143:G143)))), 0),\"Not required\")","v":12845.5},0,1,1,1,"MDA3 (IVM)","T1 (PZQ+ALB/MBD)",null,null,46640,"Madaba District Council",null,null,true]
[{"$f":"IF(INTRO!$E$34<>0,INTRO!$E$34,\"\")","v":"Tanzania"},"Ruvuma","Mbinga District Council",254185,32789,49353,172043,99,1,3,2,{"$f":"IF(INTRO!$E$38=\"Endemic\", IF($H144>0, IF($H144=4,\"Unknown\", IF($H144=99,\"Stopped\", $D144)), 0),\"Not required\")","v":"Stopped"},{"$f":"IF(INTRO!$E$40=\"Endemic\", IF($I144>0, IF($I144=4,\"Unknown\",IF($I144=99,\"Stopped\", $D144)), 0),\"Not required\")","v":254185},{"$f":"IF(INTRO!$E$42=\"Endemic\", IF(AND($J144>1,$J144<5), IF($J144=4, \"Unknown\", E144+F144), 0),\"Not required\")","v":82142},{"$f":"IF(INTRO!$E$44=\"Endemic\", IF(AND($K144>0,$K144<5), IF($K144=4,\"Unknown\", IF($K144=1, $F144*0.33, IF($K144=2, $F144*0.5+$G144*0.2, SUM(F144:G144)))), 0),\"Not required\")","v":59085.1},0,1,1,1,"MDA3 (IVM)","T1 (PZQ+ALB/MBD)",null,null,46582,"Mbinga District Council",null,null,true]
[{"$f":"IF(INTRO!$E$34<>0,INTRO!$E$34,\"\")","v":"Tanzania"},"Ruvuma","Mbinga Town Council",146468,18895,28438,99135,99,1,3,2,{"$f":"IF(INTRO!$E$38=\"Endemic\", IF($H145>0, IF($H145=4,\"Unknown\", IF($H145=99,\"Stopped\", $D145)), 0),\"Not required\")","v":"Stopped"},{"$f":"IF(INTRO!$E$40=\"Endemic\", IF($I145>0, IF($I145=4,\"Unknown\",IF($I145=99,\"Stopped\", $D145)), 0),\"Not required\")","v":146468},{"$f":"IF(INTRO!$E$42=\"Endemic\", IF(AND($J145>1,$J145<5), IF($J145=4, \"Unknown\", E145+F145), 0),\"Not required\")","v":47333},{"$f":"IF(INTRO!$E$44=\"Endemic\", IF(AND($K145>0,$K145<5), IF($K145=4,\"Unknown\", IF($K145=1, $F145*0.33, IF($K145=2, $F145*0.5+$G145*0.2, SUM(F145:G145)))), 0),\"Not required\")","v":34046},0,1,1,1,"MDA3 (IVM)","T1 (PZQ+ALB/MBD)",null,null,46641,"Mbinga Town Council",null,null,true]
[{"$f":"IF(INTRO!$E$34<>0,INTRO!$E$34,\"\")","v":"Tanzania"},"Ruvuma","Namtumbo District Council",228417,14364,60332,153721,99,1,3,2,{"$f":"IF(INTRO!$E$38=\"Endemic\", IF($H146>0, IF($H146=4,\"Unknown\", IF($H146=99,\"Stopped\", $D146)), 0),\"Not required\")","v":"Stopped"},{"$f":"IF(INTRO!$E$40=\"Endemic\", IF($I146>0, IF($I146=4,\"Unknown\",IF($I146=99,\"Stopped\", $D146)), 0),\"Not required\")","v":228417},{"$f":"IF(INTRO!$E$42=\"Endemic\", IF(AND($J146>1,$J146<5), IF($J146=4, \"Unknown\", E146+F146), 0),\"Not required\")","v":74696},{"$f":"IF(INTRO!$E$44=\"Endemic\", IF(AND($K146>0,$K146<5), IF($K146=4,\"Unknown\", IF($K146=1, $F146*0.33, IF($K146=2, $F146*0.5+$G146*0.2, SUM(F146:G146)))), 0),\"Not required\")","v":60910.2},0,1,1,1,"MDA3 (IVM)","T1 (PZQ+ALB/MBD)",null,null,46583,"Namtumbo District Council",null,null,true]
[{"$f":"IF(INTRO!$E$34<>0,INTRO!$E$34,\"\")","v":"Tanzania"},"Ruvuma","Nyasa District Council",165571,10433,43675,111463,99,1,3,2,{"$f":"IF(INTRO!$E$38=\"Endemic\", IF($H147>0, IF($H147=4,\"Unknown\", IF($H147=99,\"Stopped\", $D147)), 0),\"Not required\")","v":"Stopped"},{"$f":"IF(INTRO!$E$40=\"Endemic\", IF($I147>0, IF($I147=4,\"Unknown\",IF($I147=99,\"Stopped\", $D147)), 0),\"Not required\")","v":165571},{"$f":"IF(INTRO!$E$42=\"Endemic\", IF(AND($J147>1,$J147<5), IF($J147=4, \"Unknown\", E147+F147), 0),\"Not required\")","v":54108},{"$f":"IF(INTRO!$E$44=\"Endemic\", IF(AND($K147>0,$K147<5), IF($K147=4,\"Unknown\", IF($K147=1, $F147*0.33, IF($K147=2, $F147*0.5+$G147*0.2, SUM(F147:G147)))), 0),\"Not required\")","v":44130.100000000006},0,1,1,1,"MDA3 (IVM)","T1 (PZQ+ALB/MBD)",null,null,46584,"Nyasa District Council",null,null,true]
[{"$f":"IF(INTRO!$E$34<>0,INTRO!$E$34,\"\")","v":"Tanzania"},"Ruvuma","Songea District Council",142786,17978,27649,97159,99,1,3,2,{"$f":"IF(INTRO!$E$38=\"Endemic\", IF($H148>0, IF($H148=4,\"Unknown\", IF($H148=99,\"Stopped\", $D148)), 0),\"Not required\")","v":"Stopped"},{"$f":"IF(INTRO!$E$40=\"Endemic\", IF($I148>0, IF($I148=4,\"Unknown\",IF($I148=99,\"Stopped\", $D148)), 0),\"Not required\")","v":142786},{"$f":"IF(INTRO!$E$42=\"Endemic\", IF(AND($J148>1,$J148<5), IF($J148=4, \"Unknown\", E148+F148), 0),\"Not required\")","v":45627},{"$f":"IF(INTRO!$E$44=\"Endemic\", IF(AND($K148>0,$K148<5), IF($K148=4,\"Unknown\", IF($K148=1, $F148*0.33, IF($K148=2, $F148*0.5+$G148*0.2, SUM(F148:G148)))), 0),\"Not required\")","v":33256.300000000003},0,1,1,1,"MDA3 (IVM)","T1 (PZQ+ALB/MBD)",null,null,46585,"Songea District Council",null,null,true]
[{"$f":"IF(INTRO!$E$34<>0,INTRO!$E$34,\"\")","v":"Tanzania"},"Ruvuma","Songea Municipal Council",230309,17208,54043,159058,99,1,3,2,{"$f":"IF(INTRO!$E$38=\"Endemic\", IF($H149>0, IF($H149=4,\"Unknown\", IF($H149=99,\"Stopped\", $D149)), 0),\"Not required\")","v":"Stopped"},{"$f":"IF(INTRO!$E$40=\"Endemic\", IF($I149>0, IF($I149=4,\"Unknown\",IF($I149=99,\"Stopped\", $D149)), 0),\"Not required\")","v":230309},{"$f":"IF(INTRO!$E$42=\"Endemic\", IF(AND($J149>1,$J149<5), IF($J149=4, \"Unknown\", E149+F149), 0),\"Not required\")","v":71251},{"$f":"IF(INTRO!$E$44=\"Endemic\", IF(AND($K149>0,$K149<5), IF($K149=4,\"Unknown\", IF($K149=1, $F149*0.33, IF($K149=2, $F149*0.5+$G149*0.2, SUM(F149:G149)))), 0),\"Not required\")","v":58833.100000000006},0,0,1,1,"MDA3 (IVM)","T1 (PZQ+ALB/MBD)",null,null,46586,"Songea Municipal Council",null,null,true]
[{"$f":"IF(INTRO!$E$34<>0,INTRO!$E$34,\"\")","v":"Tanzania"},"Ruvuma","Tunduru District Council",349982,55679,67211,227092,99,1,3,3,{"$f":"IF(INTRO!$E$38=\"Endemic\", IF($H150>0, IF($H150=4,\"Unknown\", IF($H150=99,\"Stopped\", $D150)), 0),\"Not required\")","v":"Stopped"},{"$f":"IF(INTRO!$E$40=\"Endemic\", IF($I150>0, IF($I150=4,\"Unknown\",IF($I150=99,\"Stopped\", $D150)), 0),\"Not required\")","v":349982},{"$f":"IF(INTRO!$E$42=\"Endemic\", IF(AND($J150>1,$J150<5), IF($J150=4, \"Unknown\", E150+F150), 0),\"Not required\")","v":122890},{"$f":"IF(INTRO!$E$44=\"Endemic\", IF(AND($K150>0,$K150<5), IF($K150=4,\"Unknown\", IF($K150=1, $F150*0.33, IF($K150=2, $F150*0.5+$G150*0.2, SUM(F150:G150)))), 0),\"Not required\")","v":294303},0,1,1,1,"MDA3 (IVM)","T1 (PZQ+ALB/MBD)",null,null,46587,"Tunduru District Council",null,null,true]
[{"$f":"IF(INTRO!$E$34<>0,INTRO!$E$34,\"\")","v":"Tanzania"},"Shinyanga","Kahama Town Council",274374,35394.244479677669,87078,151901.75552032233,0,0,3,2,{"$f":"IF(INTRO!$E$38=\"Endemic\", IF($H151>0, IF($H151=4,\"Unknown\", IF($H151=99,\"Stopped\", $D151)), 0),\"Not required\")","v":0},{"$f":"IF(INTRO!$E$40=\"Endemic\", IF($I151>0, IF($I151=4,\"Unknown\",IF($I151=99,\"Stopped\", $D151)), 0),\"Not required\")","v":0},{"$f":"IF(INTRO!$E$42=\"Endemic\", IF(AND($J151>1,$J151<5), IF($J151=4, \"Unknown\", E151+F151), 0),\"Not required\")","v":122472.24447967767},{"$f":"IF(INTRO!$E$44=\"Endemic\", IF(AND($K151>0,$K151<5), IF($K151=4,\"Unknown\", IF($K151=1, $F151*0.33, IF($K151=2, $F151*0.5+$G151*0.2, SUM(F151:G151)))), 0),\"Not required\")","v":73919.351104064466},0,0,1,1,null,"T1 (PZQ+ALB/MBD)",null,null,46589,"Kahama Town Council",null,null,true]
[{"$f":"IF(INTRO!$E$34<>0,INTRO!$E$34,\"\")","v":"Tanzania"},"Shinyanga","Kishapu District Council",309244,13634,88003,207607,0,0,3,2,{"$f":"IF(INTRO!$E$38=\"Endemic\", IF($H152>0, IF($H152=4,\"Unknown\", IF($H152=99,\"Stopped\", $D152)), 0),\"Not required\")","v":0},{"$f":"IF(INTRO!$E$40=\"Endemic\", IF($I152>0, IF($I152=4,\"Unknown\",IF($I152=99,\"Stopped\", $D152)), 0),\"Not required\")","v":0},{"$f":"IF(INTRO!$E$42=\"Endemic\", IF(AND($J152>1,$J152<5), IF($J152=4, \"Unknown\", E152+F152), 0),\"Not required\")","v":101637},{"$f":"IF(INTRO!$E$44=\"Endemic\", IF(AND($K152>0,$K152<5), IF($K152=4,\"Unknown\", IF($K152=1, $F152*0.33, IF($K152=2, $F152*0.5+$G152*0.2, SUM(F152:G152)))), 0),\"Not required\")","v":85522.9},0,0,1,1,null,"T1 (PZQ+ALB/MBD)",null,null,46590,"Kishapu District Council",null,null,true]
[{"$f":"IF(INTRO!$E$34<>0,INTRO!$E$34,\"\")","v":"Tanzania"},"Shinyanga","Msalala District Council",284024,29564,66129,188331,0,0,3,2,{"$f":"IF(INTRO!$E$38=\"Endemic\", IF($H153>0, IF($H153=4,\"Unknown\", IF($H153=99,\"Stopped\", $D153)), 0),\"Not required\")","v":0},{"$f":"IF(INTRO!$E$40=\"Endemic\", IF($I153>0, IF($I153=4,\"Unknown\",IF($I153=99,\"Stopped\", $D153)), 0),\"Not required\")","v":0},{"$f":"IF(INTRO!$E$42=\"Endemic\", IF(AND($J153>1,$J153<5), IF($J153=4, \"Unknown\", E153+F153), 0),\"Not required\")","v":95693},{"$f":"IF(INTRO!$E$44=\"Endemic\", IF(AND($K153>0,$K153<5), IF($K153=4,\"Unknown\", IF($K153=1, $F153*0.33, IF($K153=2, $F153*0.5+$G153*0.2, SUM(F153:G153)))), 0),\"Not required\")","v":70730.700000000012},0,0,1,1,null,"T1 (PZQ+ALB/MBD)",null,null,46642,"Msalala District Council",null,null,true]
[{"$f":"IF(INTRO!$E$34<>0,INTRO!$E$34,\"\")","v":"Tanzania"},"Shinyanga","Shinyanga District Council",378829,36582,89943,252304,0,0,3,2,{"$f":"IF(INTRO!$E$38=\"Endemic\", IF($H154>0, IF($H154=4,\"Unknown\", IF($H154=99,\"Stopped\", $D154)), 0),\"Not required\")","v":0},{"$f":"IF(INTRO!$E$40=\"Endemic\", IF($I154>0, IF($I154=4,\"Unknown\",IF($I154=99,\"Stopped\", $D154)), 0),\"Not required\")","v":0},{"$f":"IF(INTRO!$E$42=\"Endemic\", IF(AND($J154>1,$J154<5), IF($J154=4, \"Unknown\", E154+F154), 0),\"Not required\")","v":126525},{"$f":"IF(INTRO!$E$44=\"Endemic\", IF(AND($K154>0,$K154<5), IF($K154=4,\"Unknown\", IF($K154=1, $F154*0.33, IF($K154=2, $F154*0.5+$G154*0.2, SUM(F154:G154)))), 0),\"Not required\")","v":95432.3},0,0,1,1,null,"T1 (PZQ+ALB/MBD)",null,null,46591,"Shinyanga District Council",null,null,true]
[{"$f":"IF(INTRO!$E$34<>0,INTRO!$E$34,\"\")","v":"Tanzania"},"Shinyanga","Shinyanga Municipal Council",182824,13799,42184,126841,0,0,3,2,{"$f":"IF(INTRO!$E$38=\"Endemic\", IF($H155>0, IF($H155=4,\"Unknown\", IF($H155=99,\"Stopped\", $D155)), 0),\"Not required\")","v":0},{"$f":"IF(INTRO!$E$40=\"Endemic\", IF($I155>0, IF($I155=4,\"Unknown\",IF($I155=99,\"Stopped\", $D155)), 0),\"Not required\")","v":0},{"$f":"IF(INTRO!$E$42=\"Endemic\", IF(AND($J155>1,$J155<5), IF($J155=4, \"Unknown\", E155+F155), 0),\"Not required\")","v":55983},{"$f":"IF(INTRO!$E$44=\"Endemic\", IF(AND($K155>0,$K155<5), IF($K155=4,\"Unknown\", IF($K155=1, $F155*0.33, IF($K155=2, $F155*0.5+$G155*0.2, SUM(F155:G155)))), 0),\"Not required\")","v":46460.2},0,0,1,1,null,"T1 (PZQ+ALB/MBD)",null,null,46592,"Shinyanga Municipal Council",null,null,true]
[{"$f":"IF(INTRO!$E$34<>0,INTRO!$E$34,\"\")","v":"Tanzania"},"Shinyanga","Ushetu District Council",309340,21151,83071,205118,0,0,3,2,{"$f":"IF(INTRO!$E$38=\"Endemic\", IF($H156>0, IF($H156=4,\"Unknown\", IF($H156=99,\"Stopped\", $D156)), 0),\"Not required\")","v":0},{"$f":"IF(INTRO!$E$40=\"Endemic\", IF($I156>0, IF($I156=4,\"Unknown\",IF($I156=99,\"Stopped\", $D156)), 0),\"Not required\")","v":0},{"$f":"IF(INTRO!$E$42=\"Endemic\", IF(AND($J156>1,$J156<5), IF($J156=4, \"Unknown\", E156+F156), 0),\"Not required\")","v":104222},{"$f":"IF(INTRO!$E$44=\"Endemic\", IF(AND($K156>0,$K156<5), IF($K156=4,\"Unknown\", IF($K156=1, $F156*0.33, IF($K156=2, $F156*0.5+$G156*0.2, SUM(F156:G156)))), 0),\"Not required\")","v":82559.100000000006},0,0,1,1,null,"T1 (PZQ+ALB/MBD)",null,null,46643,"Ushetu District Council",null,null,true]
[{"$f":"IF(INTRO!$E$34<>0,INTRO!$E$34,\"\")","v":"Tanzania"},"Simiyu","Bariadi District Council",297495,12252,90094,195149,0,0,3,3,{"$f":"IF(INTRO!$E$38=\"Endemic\", IF($H157>0, IF($H157=4,\"Unknown\", IF($H157=99,\"Stopped\", $D157)), 0),\"Not required\")","v":0},{"$f":"IF(INTRO!$E$40=\"Endemic\", IF($I157>0, IF($I157=4,\"Unknown\",IF($I157=99,\"Stopped\", $D157)), 0),\"Not required\")","v":0},{"$f":"IF(INTRO!$E$42=\"Endemic\", IF(AND($J157>1,$J157<5), IF($J157=4, \"Unknown\", E157+F157), 0),\"Not required\")","v":102346},{"$f":"IF(INTRO!$E$44=\"Endemic\", IF(AND($K157>0,$K157<5), IF($K157=4,\"Unknown\", IF($K157=1, $F157*0.33, IF($K157=2, $F157*0.5+$G157*0.2, SUM(F157:G157)))), 0),\"Not required\")","v":285243},0,0,1,1,null,"T1 (PZQ+ALB/MBD)",null,null,46593,"Bariadi District Council",null,null,true]
[{"$f":"IF(INTRO!$E$34<>0,INTRO!$E$34,\"\")","v":"Tanzania"},"Simiyu","Bariadi Town Council",173202,6545,53041,113616,0,0,3,3,{"$f":"IF(INTRO!$E$38=\"Endemic\", IF($H158>0, IF($H158=4,\"Unknown\", IF($H158=99,\"Stopped\", $D158)), 0),\"Not required\")","v":0},{"$f":"IF(INTRO!$E$40=\"Endemic\", IF($I158>0, IF($I158=4,\"Unknown\",IF($I158=99,\"Stopped\", $D158)), 0),\"Not required\")","v":0},{"$f":"IF(INTRO!$E$42=\"Endemic\", IF(AND($J158>1,$J158<5), IF($J158=4, \"Unknown\", E158+F158), 0),\"Not required\")","v":59586},{"$f":"IF(INTRO!$E$44=\"Endemic\", IF(AND($K158>0,$K158<5), IF($K158=4,\"Unknown\", IF($K158=1, $F158*0.33, IF($K158=2, $F158*0.5+$G158*0.2, SUM(F158:G158)))), 0),\"Not required\")","v":166657},0,0,1,1,null,"T1 (PZQ+ALB/MBD)",null,null,46594,"Bariadi Town Council",null,null,true]
[{"$f":"IF(INTRO!$E$34<>0,INTRO!$E$34,\"\")","v":"Tanzania"},"Simiyu","Busega District Council",226599,29231.27459668088,83962,113405.72540331911,0,0,3,2,{"$f":"IF(INTRO!$E$38=\"Endemic\", IF($H159>0, IF($H159=4,\"Unknown\", IF($H159=99,\"Stopped\", $D159)), 0),\"Not required\")","v":0},{"$f":"IF(INTRO!$E$40=\"Endemic\", IF($I159>0, IF($I159=4,\"Unknown\",IF($I159=99,\"Stopped\", $D159)), 0),\"Not required\")","v":0},{"$f":"IF(INTRO!$E$42=\"Endemic\", IF(AND($J159>1,$J159<5), IF($J159=4, \"Unknown\", E159+F159), 0),\"Not required\")","v":113193.27459668089},{"$f":"IF(INTRO!$E$44=\"Endemic\", IF(AND($K159>0,$K159<5), IF($K159=4,\"Unknown\", IF($K159=1, $F159*0.33, IF($K159=2, $F159*0.5+$G159*0.2, SUM(F159:G159)))), 0),\"Not required\")","v":64662.145080663824},0,0,1,1,null,"T1 (PZQ+ALB/MBD)",null,null,46595,"Busega District Council",null,null,true]
[{"$f":"IF(INTRO!$E$34<>0,INTRO!$E$34,\"\")","v":"Tanzania"},"Simiyu","Itilima District Council",349364,22844,99917,226603,0,0,3,3,{"$f":"IF(INTRO!$E$38=\"Endemic\", IF($H160>0, IF($H160=4,\"Unknown\", IF($H160=99,\"Stopped\", $D160)), 0),\"Not required\")","v":0},{"$f":"IF(INTRO!$E$40=\"Endemic\", IF($I160>0, IF($I160=4,\"Unknown\",IF($I160=99,\"Stopped\", $D160)), 0),\"Not required\")","v":0},{"$f":"IF(INTRO!$E$42=\"Endemic\", IF(AND($J160>1,$J160<5), IF($J160=4, \"Unknown\", E160+F160), 0),\"Not required\")","v":122761},{"$f":"IF(INTRO!$E$44=\"Endemic\", IF(AND($K160>0,$K160<5), IF($K160=4,\"Unknown\", IF($K160=1, $F160*0.33, IF($K160=2, $F160*0.5+$G160*0.2, SUM(F160:G160)))), 0),\"Not required\")","v":326520},0,0,1,1,null,"T1 (PZQ+ALB/MBD)",null,null,46596,"Itilima District Council",null,null,true]
[{"$f":"IF(INTRO!$E$34<>0,INTRO!$E$34,\"\")","v":"Tanzania"},"Simiyu","Maswa District Council",383004,49408,79352,254244,0,0,3,3,{"$f":"IF(INTRO!$E$38=\"Endemic\", IF($H161>0, IF($H161=4,\"Unknown\", IF($H161=99,\"Stopped\", $D161)), 0),\"Not required\")","v":0},{"$f":"IF(INTRO!$E$40=\"Endemic\", IF($I161>0, IF($I161=4,\"Unknown\",IF($I161=99,\"Stopped\", $D161)), 0),\"Not required\")","v":0},{"$f":"IF(INTRO!$E$42=\"Endemic\", IF(AND($J161>1,$J161<5), IF($J161=4, \"Unknown\", E161+F161), 0),\"Not required\")","v":128760},{"$f":"IF(INTRO!$E$44=\"Endemic\", IF(AND($K161>0,$K161<5), IF($K161=4,\"Unknown\", IF($K161=1, $F161*0.33, IF($K161=2, $F161*0.5+$G161*0.2, SUM(F161:G161)))), 0),\"Not required\")","v":333596},0,0,1,1,null,"T1 (PZQ+ALB/MBD)",null,null,46597,"Maswa District Council",null,null,true]
[{"$f":"IF(INTRO!$E$34<>0,INTRO!$E$34,\"\")","v":"Tanzania"},"Simiyu","Meatu District Council",333469,43017,69679,220773,0,0,3,2,{"$f":"IF(INTRO!$E$38=\"Endemic\", IF($H162>0, IF($H162=4,\"Unknown\", IF($H162=99,\"Stopped\", $D162)), 0),\"Not required\")","v":0},{"$f":"IF(INTRO!$E$40=\"Endemic\", IF($I162>0, IF($I162=4,\"Unknown\",IF($I162=99,\"Stopped\", $D162)), 0),\"Not required\")","v":0},{"$f":"IF(INTRO!$E$42=\"Endemic\", IF(AND($J162>1,$J162<5), IF($J162=4, \"Unknown\", E162+F162), 0),\"Not required\")","v":112696},{"$f":"IF(INTRO!$E$44=\"Endemic\", IF(AND($K162>0,$K162<5), IF($K162=4,\"Unknown\", IF($K162=1, $F162*0.33, IF($K162=2, $F162*0.5+$G162*0.2, SUM(F162:G162)))), 0),\"Not required\")","v":78994.100000000006},0,0,1,1,null,"T1 (PZQ+ALB/MBD)",null,null,46598,"Meatu District Council",null,null,true]
[{"$f":"IF(INTRO!$E$34<>0,INTRO!$E$34,\"\")","v":"Tanzania"},"Singida","Ikungi District Council",312861,29422,74024,209415,99,0,3,2,{"$f":"IF(INTRO!$E$38=\"Endemic\", IF($H163>0, IF($H163=4,\"Unknown\", IF($H163=99,\"Stopped\", $D163)), 0),\"Not required\")","v":"Stopped"},{"$f":"IF(INTRO!$E$40=\"Endemic\", IF($I163>0, IF($I163=4,\"Unknown\",IF($I163=99,\"Stopped\", $D163)), 0),\"Not required\")","v":0},{"$f":"IF(INTRO!$E$42=\"Endemic\", IF(AND($J163>1,$J163<5), IF($J163=4, \"Unknown\", E163+F163), 0),\"Not required\")","v":103446},{"$f":"IF(INTRO!$E$44=\"Endemic\", IF(AND($K163>0,$K163<5), IF($K163=4,\"Unknown\", IF($K163=1, $F163*0.33, IF($K163=2, $F163*0.5+$G163*0.2, SUM(F163:G163)))), 0),\"Not required\")","v":78895},0,0,1,0,null,"T3 (ALB/MBD)",null,null,46599,"Ikungi District Council",null,null,true]
[{"$f":"IF(INTRO!$E$34<>0,INTRO!$E$34,\"\")","v":"Tanzania"},"Singida","Iramba District Council",270822,30355,58322,182145,99,0,3,2,{"$f":"IF(INTRO!$E$38=\"Endemic\", IF($H164>0, IF($H164=4,\"Unknown\", IF($H164=99,\"Stopped\", $D164)), 0),\"Not required\")","v":"Stopped"},{"$f":"IF(INTRO!$E$40=\"Endemic\", IF($I164>0, IF($I164=4,\"Unknown\",IF($I164=99,\"Stopped\", $D164)), 0),\"Not required\")","v":0},{"$f":"IF(INTRO!$E$42=\"Endemic\", IF(AND($J164>1,$J164<5), IF($J164=4, \"Unknown\", E164+F164), 0),\"Not required\")","v":88677},{"$f":"IF(INTRO!$E$44=\"Endemic\", IF(AND($K164>0,$K164<5), IF($K164=4,\"Unknown\", IF($K164=1, $F164*0.33, IF($K164=2, $F164*0.5+$G164*0.2, SUM(F164:G164)))), 0),\"Not required\")","v":65590},0,0,1,0,null,"T3 (ALB/MBD)",null,null,46600,"Iramba District Council",null,null,true]
[{"$f":"IF(INTRO!$E$34<>0,INTRO!$E$34,\"\")","v":"Tanzania"},"Singida","Itigi District Council",129020,6974,35203,86843,99,0,3,2,{"$f":"IF(INTRO!$E$38=\"Endemic\", IF($H165>0, IF($H165=4,\"Unknown\", IF($H165=99,\"Stopped\", $D165)), 0),\"Not required\")","v":"Stopped"},{"$f":"IF(INTRO!$E$40=\"Endemic\", IF($I165>0, IF($I165=4,\"Unknown\",IF($I165=99,\"Stopped\", $D165)), 0),\"Not required\")","v":0},{"$f":"IF(INTRO!$E$42=\"Endemic\", IF(AND($J165>1,$J165<5), IF($J165=4, \"Unknown\", E165+F165), 0),\"Not required\")","v":42177},{"$f":"IF(INTRO!$E$44=\"Endemic\", IF(AND($K165>0,$K165<5), IF($K165=4,\"Unknown\", IF($K165=1, $F165*0.33, IF($K165=2, $F165*0.5+$G165*0.2, SUM(F165:G165)))), 0),\"Not required\")","v":34970.100000000006},0,0,1,0,null,"T3 (ALB/MBD)",null,null,46644,"Itigi District Council",null,null,true]
[{"$f":"IF(INTRO!$E$34<>0,INTRO!$E$34,\"\")","v":"Tanzania"},"Singida","Manyoni District Council",211125,25929,43089,142107,99,0,3,2,{"$f":"IF(INTRO!$E$38=\"Endemic\", IF($H166>0, IF($H166=4,\"Unknown\", IF($H166=99,\"Stopped\", $D166)), 0),\"Not required\")","v":"Stopped"},{"$f":"IF(INTRO!$E$40=\"Endemic\", IF($I166>0, IF($I166=4,\"Unknown\",IF($I166=99,\"Stopped\", $D166)), 0),\"Not required\")","v":0},{"$f":"IF(INTRO!$E$42=\"Endemic\", IF(AND($J166>1,$J166<5), IF($J166=4, \"Unknown\", E166+F166), 0),\"Not required\")","v":69018},{"$f":"IF(INTRO!$E$44=\"Endemic\", IF(AND($K166>0,$K166<5), IF($K166=4,\"Unknown\", IF($K166=1, $F166*0.33, IF($K166=2, $F166*0.5+$G166*0.2, SUM(F166:G166)))), 0),\"Not required\")","v":49965.9},0,0,1,0,null,"T3 (ALB/MBD)",null,null,46601,"Manyoni District Council",null,null,true]
[{"$f":"IF(INTRO!$E$34<>0,INTRO!$E$34,\"\")","v":"Tanzania"},"Singida","Mkalama District Council",216322,14644,58738,142940,99,0,3,2,{"$f":"IF(INTRO!$E$38=\"Endemic\", IF($H167>0, IF($H167=4,\"Unknown\", IF($H167=99,\"Stopped\", $D167)), 0),\"Not required\")","v":"Stopped"},{"$f":"IF(INTRO!$E$40=\"Endemic\", IF($I167>0, IF($I167=4,\"Unknown\",IF($I167=99,\"Stopped\", $D167)), 0),\"Not required\")","v":0},{"$f":"IF(INTRO!$E$42=\"Endemic\", IF(AND($J167>1,$J167<5), IF($J167=4, \"Unknown\", E167+F167), 0),\"Not required\")","v":73382},{"$f":"IF(INTRO!$E$44=\"Endemic\", IF(AND($K167>0,$K167<5), IF($K167=4,\"Unknown\", IF($K167=1, $F167*0.33, IF($K167=2, $F167*0.5+$G167*0.2, SUM(F167:G167)))), 0),\"Not required\")","v":57957},0,0,1,0,null,"T3 (ALB/MBD)",null,null,46602,"Mkalama District Council",null,null,true]
[{"$f":"IF(INTRO!$E$34<>0,INTRO!$E$34,\"\")","v":"Tanzania"},"Singida","Singida District Council",258488,16933,71535,170020,99,0,3,2,{"$f":"IF(INTRO!$E$38=\"Endemic\", IF($H168>0, IF($H168=4,\"Unknown\", IF($H168=99,\"Stopped\", $D168)), 0),\"Not required\")","v":"Stopped"},{"$f":"IF(INTRO!$E$40=\"Endemic\", IF($I168>0, IF($I168=4,\"Unknown\",IF($I168=99,\"Stopped\", $D168)), 0),\"Not required\")","v":0},{"$f":"IF(INTRO!$E$42=\"Endemic\", IF(AND($J168>1,$J168<5), IF($J168=4, \"Unknown\", E168+F168), 0),\"Not required\")","v":88468},{"$f":"IF(INTRO!$E$44=\"Endemic\", IF(AND($K168>0,$K168<5), IF($K168=4,\"Unknown\", IF($K168=1, $F168*0.33, IF($K168=2, $F168*0.5+$G168*0.2, SUM(F168:G168)))), 0),\"Not required\")","v":69771.5},0,0,1,0,null,"T3 (ALB/MBD)",null,null,46603,"Singida District Council",null,null,true]
[{"$f":"IF(INTRO!$E$34<>0,INTRO!$E$34,\"\")","v":"Tanzania"},"Singida","Singida Municipal Council",172362,8276,44573,119513,99,0,3,2,{"$f":"IF(INTRO!$E$38=\"Endemic\", IF($H169>0, IF($H169=4,\"Unknown\", IF($H169=99,\"Stopped\", $D169)), 0),\"Not required\")","v":"Stopped"},{"$f":"IF(INTRO!$E$40=\"Endemic\", IF($I169>0, IF($I169=4,\"Unknown\",IF($I169=99,\"Stopped\", $D169)), 0),\"Not required\")","v":0},{"$f":"IF(INTRO!$E$42=\"Endemic\", IF(AND($J169>1,$J169<5), IF($J169=4, \"Unknown\", E169+F169), 0),\"Not required\")","v":52849},{"$f":"IF(INTRO!$E$44=\"Endemic\", IF(AND($K169>0,$K169<5), IF($K169=4,\"Unknown\", IF($K169=1, $F169*0.33, IF($K169=2, $F169*0.5+$G169*0.2, SUM(F169:G169)))), 0),\"Not required\")","v":46189.100000000006},0,0,1,0,null,"T3 (ALB/MBD)",null,null,46604,"Singida Municipal Council",null,null,true]
[{"$f":"IF(INTRO!$E$34<>0,INTRO!$E$34,\"\")","v":"Tanzania"},"Songwe","Ileje District Council",151587,20045,29071,102471,99,1,3,2,{"$f":"IF(INTRO!$E$38=\"Endemic\", IF($H170>0, IF($H170=4,\"Unknown\", IF($H170=99,\"Stopped\", $D170)), 0),\"Not required\")","v":"Stopped"},{"$f":"IF(INTRO!$E$40=\"Endemic\", IF($I170>0, IF($I170=4,\"Unknown\",IF($I170=99,\"Stopped\", $D170)), 0),\"Not required\")","v":151587},{"$f":"IF(INTRO!$E$42=\"Endemic\", IF(AND($J170>1,$J170<5), IF($J170=4, \"Unknown\", E170+F170), 0),\"Not required\")","v":49116},{"$f":"IF(INTRO!$E$44=\"Endemic\", IF(AND($K170>0,$K170<5), IF($K170=4,\"Unknown\", IF($K170=1, $F170*0.33, IF($K170=2, $F170*0.5+$G170*0.2, SUM(F170:G170)))), 0),\"Not required\")","v":35029.699999999997},0,1,1,1,"MDA3 (IVM)","T1 (PZQ+ALB/MBD)",null,null,46535,"Ileje District Council",null,null,true]
[{"$f":"IF(INTRO!$E$34<>0,INTRO!$E$34,\"\")","v":"Tanzania"},"Songwe","Mbozi District Council",523706,67558,108056,348092,99,0,3,3,{"$f":"IF(INTRO!$E$38=\"Endemic\", IF($H171>0, IF($H171=4,\"Unknown\", IF($H171=99,\"Stopped\", $D171)), 0),\"Not required\")","v":"Stopped"},{"$f":"IF(INTRO!$E$40=\"Endemic\", IF($I171>0, IF($I171=4,\"Unknown\",IF($I171=99,\"Stopped\", $D171)), 0),\"Not required\")","v":0},{"$f":"IF(INTRO!$E$42=\"Endemic\", IF(AND($J171>1,$J171<5), IF($J171=4, \"Unknown\", E171+F171), 0),\"Not required\")","v":175614},{"$f":"IF(INTRO!$E$44=\"Endemic\", IF(AND($K171>0,$K171<5), IF($K171=4,\"Unknown\", IF($K171=1, $F171*0.33, IF($K171=2, $F171*0.5+$G171*0.2, SUM(F171:G171)))), 0),\"Not required\")","v":456148},0,0,1,1,null,"T1 (PZQ+ALB/MBD)",null,null,46540,"Mbozi District Council",null,null,true]
[{"$f":"IF(INTRO!$E$34<>0,INTRO!$E$34,\"\")","v":"Tanzania"},"Songwe","Momba District Council",230934,29791,47060,154083,99,0,3,3,{"$f":"IF(INTRO!$E$38=\"Endemic\", IF($H172>0, IF($H172=4,\"Unknown\", IF($H172=99,\"Stopped\", $D172)), 0),\"Not required\")","v":"Stopped"},{"$f":"IF(INTRO!$E$40=\"Endemic\", IF($I172>0, IF($I172=4,\"Unknown\",IF($I172=99,\"Stopped\", $D172)), 0),\"Not required\")","v":0},{"$f":"IF(INTRO!$E$42=\"Endemic\", IF(AND($J172>1,$J172<5), IF($J172=4, \"Unknown\", E172+F172), 0),\"Not required\")","v":76851},{"$f":"IF(INTRO!$E$44=\"Endemic\", IF(AND($K172>0,$K172<5), IF($K172=4,\"Unknown\", IF($K172=1, $F172*0.33, IF($K172=2, $F172*0.5+$G172*0.2, SUM(F172:G172)))), 0),\"Not required\")","v":201143},0,0,1,1,null,"T1 (PZQ+ALB/MBD)",null,null,46541,"Momba District Council",null,null,true]
[{"$f":"IF(INTRO!$E$34<>0,INTRO!$E$34,\"\")","v":"Tanzania"},"Songwe","Songwe District Council",156866,16901,32724,107241,99,0,3,2,{"$f":"IF(INTRO!$E$38=\"Endemic\", IF($H173>0, IF($H173=4,\"Unknown\", IF($H173=99,\"Stopped\", $D173)), 0),\"Not required\")","v":"Stopped"},{"$f":"IF(INTRO!$E$40=\"Endemic\", IF($I173>0, IF($I173=4,\"Unknown\",IF($I173=99,\"Stopped\", $D173)), 0),\"Not required\")","v":0},{"$f":"IF(INTRO!$E$42=\"Endemic\", IF(AND($J173>1,$J173<5), IF($J173=4, \"Unknown\", E173+F173), 0),\"Not required\")","v":49625},{"$f":"IF(INTRO!$E$44=\"Endemic\", IF(AND($K173>0,$K173<5), IF($K173=4,\"Unknown\", IF($K173=1, $F173*0.33, IF($K173=2, $F173*0.5+$G173*0.2, SUM(F173:G173)))), 0),\"Not required\")","v":37810.199999999997},0,0,1,1,null,"T1 (PZQ+ALB/MBD)",null,null,46645,"Songwe District Council",null,null,true]
[{"$f":"IF(INTRO!$E$34<>0,INTRO!$E$34,\"\")","v":"Tanzania"},"Songwe","Tunduma Town Council",114473,14767.026918922042,35757,63948.973081077958,99,0,3,3,{"$f":"IF(INTRO!$E$38=\"Endemic\", IF($H174>0, IF($H174=4,\"Unknown\", IF($H174=99,\"Stopped\", $D174)), 0),\"Not required\")","v":"Stopped"},{"$f":"IF(INTRO!$E$40=\"Endemic\", IF($I174>0, IF($I174=4,\"Unknown\",IF($I174=99,\"Stopped\", $D174)), 0),\"Not required\")","v":0},{"$f":"IF(INTRO!$E$42=\"Endemic\", IF(AND($J174>1,$J174<5), IF($J174=4, \"Unknown\", E174+F174), 0),\"Not required\")","v":50524.026918922042},{"$f":"IF(INTRO!$E$44=\"Endemic\", IF(AND($K174>0,$K174<5), IF($K174=4,\"Unknown\", IF($K174=1, $F174*0.33, IF($K174=2, $F174*0.5+$G174*0.2, SUM(F174:G174)))), 0),\"Not required\")","v":99705.973081077958},0,0,1,1,null,"T1 (PZQ+ALB/MBD)",null,null,46543,"Tunduma Town Council",null,null,true]
[{"$f":"IF(INTRO!$E$34<>0,INTRO!$E$34,\"\")","v":"Tanzania"},"Tabora","Igunga District Council",474521,61213,93962,319346,99,0,3,2,{"$f":"IF(INTRO!$E$38=\"Endemic\", IF($H175>0, IF($H175=4,\"Unknown\", IF($H175=99,\"Stopped\", $D175)), 0),\"Not required\")","v":"Stopped"},{"$f":"IF(INTRO!$E$40=\"Endemic\", IF($I175>0, IF($I175=4,\"Unknown\",IF($I175=99,\"Stopped\", $D175)), 0),\"Not required\")","v":0},{"$f":"IF(INTRO!$E$42=\"Endemic\", IF(AND($J175>1,$J175<5), IF($J175=4, \"Unknown\", E175+F175), 0),\"Not required\")","v":155175},{"$f":"IF(INTRO!$E$44=\"Endemic\", IF(AND($K175>0,$K175<5), IF($K175=4,\"Unknown\", IF($K175=1, $F175*0.33, IF($K175=2, $F175*0.5+$G175*0.2, SUM(F175:G175)))), 0),\"Not required\")","v":110850.20000000001},0,0,1,0,null,"T3 (ALB/MBD)",null,null,46605,"Igunga District Council",null,null,true]
[{"$f":"IF(INTRO!$E$34<>0,INTRO!$E$34,\"\")","v":"Tanzania"},"Tabora","Kaliua District Council",466961,53879,103462,309620,99,0,3,2,{"$f":"IF(INTRO!$E$38=\"Endemic\", IF($H176>0, IF($H176=4,\"Unknown\", IF($H176=99,\"Stopped\", $D176)), 0),\"Not required\")","v":"Stopped"},{"$f":"IF(INTRO!$E$40=\"Endemic\", IF($I176>0, IF($I176=4,\"Unknown\",IF($I176=99,\"Stopped\", $D176)), 0),\"Not required\")","v":0},{"$f":"IF(INTRO!$E$42=\"Endemic\", IF(AND($J176>1,$J176<5), IF($J176=4, \"Unknown\", E176+F176), 0),\"Not required\")","v":157341},{"$f":"IF(INTRO!$E$44=\"Endemic\", IF(AND($K176>0,$K176<5), IF($K176=4,\"Unknown\", IF($K176=1, $F176*0.33, IF($K176=2, $F176*0.5+$G176*0.2, SUM(F176:G176)))), 0),\"Not required\")","v":113655},0,0,1,1,null,"T1 (PZQ+T3 (ALB/MBD)/MBD)",null,null,46606,"Kaliua District Council",null,null,true]
[{"$f":"IF(INTRO!$E$34<>0,INTRO!$E$34,\"\")","v":"Tanzania"},"Tabora","Nzega District Council",519820,67057,104900,347863,99,0,3,2,{"$f":"IF(INTRO!$E$38=\"Endemic\", IF($H177>0, IF($H177=4,\"Unknown\", IF($H177=99,\"Stopped\", $D177)), 0),\"Not required\")","v":"Stopped"},{"$f":"IF(INTRO!$E$40=\"Endemic\", IF($I177>0, IF($I177=4,\"Unknown\",IF($I177=99,\"Stopped\", $D177)), 0),\"Not required\")","v":0},{"$f":"IF(INTRO!$E$42=\"Endemic\", IF(AND($J177>1,$J177<5), IF($J177=4, \"Unknown\", E177+F177), 0),\"Not required\")","v":171957},{"$f":"IF(INTRO!$E$44=\"Endemic\", IF(AND($K177>0,$K177<5), IF($K177=4,\"Unknown\", IF($K177=1, $F177*0.33, IF($K177=2, $F177*0.5+$G177*0.2, SUM(F177:G177)))), 0),\"Not required\")","v":122022.6},0,0,1,0,null,"T3 (ALB/MBD)",null,null,46607,"Nzega District Council",null,null,true]
[{"$f":"IF(INTRO!$E$34<>0,INTRO!$E$34,\"\")","v":"Tanzania"},"Tabora","Nzega Town Council",76410,4088,21189,51133,99,0,3,2,{"$f":"IF(INTRO!$E$38=\"Endemic\", IF($H178>0, IF($H178=4,\"Unknown\", IF($H178=99,\"Stopped\", $D178)), 0),\"Not required\")","v":"Stopped"},{"$f":"IF(INTRO!$E$40=\"Endemic\", IF($I178>0, IF($I178=4,\"Unknown\",IF($I178=99,\"Stopped\", $D178)), 0),\"Not required\")","v":0},{"$f":"IF(INTRO!$E$42=\"Endemic\", IF(AND($J178>1,$J178<5), IF($J178=4, \"Unknown\", E178+F178), 0),\"Not required\")","v":25277},{"$f":"IF(INTRO!$E$44=\"Endemic\", IF(AND($K178>0,$K178<5), IF($K178=4,\"Unknown\", IF($K178=1, $F178*0.33, IF($K178=2, $F178*0.5+$G178*0.2, SUM(F178:G178)))), 0),\"Not required\")","v":20821.099999999999},0,0,1,0,null,"T3 (ALB/MBD)",null,null,46646,"Nzega Town Council",null,null,true]
[{"$f":"IF(INTRO!$E$34<>0,INTRO!$E$34,\"\")","v":"Tanzania"},"Tabora","Sikonge District Council",213542,27547,43707,142288,99,0,3,2,{"$f":"IF(INTRO!$E$38=\"Endemic\", IF($H179>0, IF($H179=4,\"Unknown\", IF($H179=99,\"Stopped\", $D179)), 0),\"Not required\")","v":"Stopped"},{"$f":"IF(INTRO!$E$40=\"Endemic\", IF($I179>0, IF($I179=4,\"Unknown\",IF($I179=99,\"Stopped\", $D179)), 0),\"Not required\")","v":0},{"$f":"IF(INTRO!$E$42=\"Endemic\", IF(AND($J179>1,$J179<5), IF($J179=4, \"Unknown\", E179+F179), 0),\"Not required\")","v":71254},{"$f":"IF(INTRO!$E$44=\"Endemic\", IF(AND($K179>0,$K179<5), IF($K179=4,\"Unknown\", IF($K179=1, $F179*0.33, IF($K179=2, $F179*0.5+$G179*0.2, SUM(F179:G179)))), 0),\"Not required\")","v":50311.100000000006},0,0,1,0,null,"T3 (ALB/MBD)",null,null,46608,"Sikonge District Council",null,null,true]
[{"$f":"IF(INTRO!$E$34<>0,INTRO!$E$34,\"\")","v":"Tanzania"},"Tabora","Tabora Municipal Council",269474,34763,48371,186340,99,0,3,2,{"$f":"IF(INTRO!$E$38=\"Endemic\", IF($H180>0, IF($H180=4,\"Unknown\", IF($H180=99,\"Stopped\", $D180)), 0),\"Not required\")","v":"Stopped"},{"$f":"IF(INTRO!$E$40=\"Endemic\", IF($I180>0, IF($I180=4,\"Unknown\",IF($I180=99,\"Stopped\", $D180)), 0),\"Not required\")","v":0},{"$f":"IF(INTRO!$E$42=\"Endemic\", IF(AND($J180>1,$J180<5), IF($J180=4, \"Unknown\", E180+F180), 0),\"Not required\")","v":83134},{"$f":"IF(INTRO!$E$44=\"Endemic\", IF(AND($K180>0,$K180<5), IF($K180=4,\"Unknown\", IF($K180=1, $F180*0.33, IF($K180=2, $F180*0.5+$G180*0.2, SUM(F180:G180)))), 0),\"Not required\")","v":61453.5},0,0,1,1,null,"T1 (PZQ+ALB/MBD)",null,null,46609,"Tabora Municipal Council",null,null,true]
[{"$f":"IF(INTRO!$E$34<>0,INTRO!$E$34,\"\")","v":"Tanzania"},"Tabora","Urambo District Council",228853,29523,46938,152392,99,0,3,2,{"$f":"IF(INTRO!$E$38=\"Endemic\", IF($H181>0, IF($H181=4,\"Unknown\", IF($H181=99,\"Stopped\", $D181)), 0),\"Not required\")","v":"Stopped"},{"$f":"IF(INTRO!$E$40=\"Endemic\", IF($I181>0, IF($I181=4,\"Unknown\",IF($I181=99,\"Stopped\", $D181)), 0),\"Not required\")","v":0},{"$f":"IF(INTRO!$E$42=\"Endemic\", IF(AND($J181>1,$J181<5), IF($J181=4, \"Unknown\", E181+F181), 0),\"Not required\")","v":76461},{"$f":"IF(INTRO!$E$44=\"Endemic\", IF(AND($K181>0,$K181<5), IF($K181=4,\"Unknown\", IF($K181=1, $F181*0.33, IF($K181=2, $F181*0.5+$G181*0.2, SUM(F181:G181)))), 0),\"Not required\")","v":53947.4},0,0,1,1,null,"T1 (PZQ+ALB/MBD)",null,null,46610,"Urambo District Council",null,null,true]
[{"$f":"IF(INTRO!$E$34<>0,INTRO!$E$34,\"\")","v":"Tanzania"},"Tabora","Uyui District Council",470837,60738,98805,311294,99,0,3,2,{"$f":"IF(INTRO!$E$38=\"Endemic\", IF($H182>0, IF($H182=4,\"Unknown\", IF($H182=99,\"Stopped\", $D182)), 0),\"Not required\")","v":"Stopped"},{"$f":"IF(INTRO!$E$40=\"Endemic\", IF($I182>0, IF($I182=4,\"Unknown\",IF($I182=99,\"Stopped\", $D182)), 0),\"Not required\")","v":0},{"$f":"IF(INTRO!$E$42=\"Endemic\", IF(AND($J182>1,$J182<5), IF($J182=4, \"Unknown\", E182+F182), 0),\"Not required\")","v":159543},{"$f":"IF(INTRO!$E$44=\"Endemic\", IF(AND($K182>0,$K182<5), IF($K182=4,\"Unknown\", IF($K182=1, $F182*0.33, IF($K182=2, $F182*0.5+$G182*0.2, SUM(F182:G182)))), 0),\"Not required\")","v":111661.3},0,0,1,1,null,"T1 (PZQ+ALB/MBD)",null,null,46611,"Uyui District Council",null,null,true]
[{"$f":"IF(INTRO!$E$34<>0,INTRO!$E$34,\"\")","v":"Tanzania"},"Tanga","Bumbuli District Council",182322,20728,44266,117328,99,1,3,2,{"$f":"IF(INTRO!$E$38=\"Endemic\", IF($H183>0, IF($H183=4,\"Unknown\", IF($H183=99,\"Stopped\", $D183)), 0),\"Not required\")","v":"Stopped"},{"$f":"IF(INTRO!$E$40=\"Endemic\", IF($I183>0, IF($I183=4,\"Unknown\",IF($I183=99,\"Stopped\", $D183)), 0),\"Not required\")","v":182322},{"$f":"IF(INTRO!$E$42=\"Endemic\", IF(AND($J183>1,$J183<5), IF($J183=4, \"Unknown\", E183+F183), 0),\"Not required\")","v":64994},{"$f":"IF(INTRO!$E$44=\"Endemic\", IF(AND($K183>0,$K183<5), IF($K183=4,\"Unknown\", IF($K183=1, $F183*0.33, IF($K183=2, $F183*0.5+$G183*0.2, SUM(F183:G183)))), 0),\"Not required\")","v":45598.600000000006},0,1,1,1,"MDA3 (IVM)","T1 (PZQ+ALB/MBD)",null,null,46612,"Bumbuli District Council",null,null,true]
[{"$f":"IF(INTRO!$E$34<>0,INTRO!$E$34,\"\")","v":"Tanzania"},"Tanga","Handeni District Council",315232,35398,70290,209544,99,0,3,2,{"$f":"IF(INTRO!$E$38=\"Endemic\", IF($H184>0, IF($H184=4,\"Unknown\", IF($H184=99,\"Stopped\", $D184)), 0),\"Not required\")","v":"Stopped"},{"$f":"IF(INTRO!$E$40=\"Endemic\", IF($I184>0, IF($I184=4,\"Unknown\",IF($I184=99,\"Stopped\", $D184)), 0),\"Not required\")","v":0},{"$f":"IF(INTRO!$E$42=\"Endemic\", IF(AND($J184>1,$J184<5), IF($J184=4, \"Unknown\", E184+F184), 0),\"Not required\")","v":105688},{"$f":"IF(INTRO!$E$44=\"Endemic\", IF(AND($K184>0,$K184<5), IF($K184=4,\"Unknown\", IF($K184=1, $F184*0.33, IF($K184=2, $F184*0.5+$G184*0.2, SUM(F184:G184)))), 0),\"Not required\")","v":77053.8},0,0,1,1,null,"T1 (PZQ+ALB/MBD)",null,null,46613,"Handeni District Council",null,null,true]
[{"$f":"IF(INTRO!$E$34<>0,INTRO!$E$34,\"\")","v":"Tanzania"},"Tanga","Handeni Town Council",90082,6677,23020,60385,99,0,3,2,{"$f":"IF(INTRO!$E$38=\"Endemic\", IF($H185>0, IF($H185=4,\"Unknown\", IF($H185=99,\"Stopped\", $D185)), 0),\"Not required\")","v":"Stopped"},{"$f":"IF(INTRO!$E$40=\"Endemic\", IF($I185>0, IF($I185=4,\"Unknown\",IF($I185=99,\"Stopped\", $D185)), 0),\"Not required\")","v":0},{"$f":"IF(INTRO!$E$42=\"Endemic\", IF(AND($J185>1,$J185<5), IF($J185=4, \"Unknown\", E185+F185), 0),\"Not required\")","v":29697},{"$f":"IF(INTRO!$E$44=\"Endemic\", IF(AND($K185>0,$K185<5), IF($K185=4,\"Unknown\", IF($K185=1, $F185*0.33, IF($K185=2, $F185*0.5+$G185*0.2, SUM(F185:G185)))), 0),\"Not required\")","v":23587},0,0,1,1,null,"T1 (PZQ+ALB/MBD)",null,null,46614,"Handeni Town Council",null,null,true]
[{"$f":"IF(INTRO!$E$34<>0,INTRO!$E$34,\"\")","v":"Tanzania"},"Tanga","Kilindi District Council",269866,34813,54336,180717,99,0,3,2,{"$f":"IF(INTRO!$E$38=\"Endemic\", IF($H186>0, IF($H186=4,\"Unknown\", IF($H186=99,\"Stopped\", $D186)), 0),\"Not required\")","v":"Stopped"},{"$f":"IF(INTRO!$E$40=\"Endemic\", IF($I186>0, IF($I186=4,\"Unknown\",IF($I186=99,\"Stopped\", $D186)), 0),\"Not required\")","v":0},{"$f":"IF(INTRO!$E$42=\"Endemic\", IF(AND($J186>1,$J186<5), IF($J186=4, \"Unknown\", E186+F186), 0),\"Not required\")","v":89149},{"$f":"IF(INTRO!$E$44=\"Endemic\", IF(AND($K186>0,$K186<5), IF($K186=4,\"Unknown\", IF($K186=1, $F186*0.33, IF($K186=2, $F186*0.5+$G186*0.2, SUM(F186:G186)))), 0),\"Not required\")","v":63311.4},0,0,1,1,null,"T1 (PZQ+ALB/MBD)",null,null,46615,"Kilindi District Council",null,null,true]
[{"$f":"IF(INTRO!$E$34<>0,INTRO!$E$34,\"\")","v":"Tanzania"},"Tanga","Korogwe District Council",275797,35578,55862,184357,1,1,3,2,{"$f":"IF(INTRO!$E$38=\"Endemic\", IF($H187>0, IF($H187=4,\"Unknown\", IF($H187=99,\"Stopped\", $D187)), 0),\"Not required\")","v":275797},{"$f":"IF(INTRO!$E$40=\"Endemic\", IF($I187>0, IF($I187=4,\"Unknown\",IF($I187=99,\"Stopped\", $D187)), 0),\"Not required\")","v":275797},{"$f":"IF(INTRO!$E$42=\"Endemic\", IF(AND($J187>1,$J187<5), IF($J187=4, \"Unknown\", E187+F187), 0),\"Not required\")","v":91440},{"$f":"IF(INTRO!$E$44=\"Endemic\", IF(AND($K187>0,$K187<5), IF($K187=4,\"Unknown\", IF($K187=1, $F187*0.33, IF($K187=2, $F187*0.5+$G187*0.2, SUM(F187:G187)))), 0),\"Not required\")","v":64802.400000000001},1,1,1,1,"MDA1 (IVM+ALB)","T1 (PZQ+ALB/MBD)",null,null,46616,"Korogwe District Council",null,null,true]
[{"$f":"IF(INTRO!$E$34<>0,INTRO!$E$34,\"\")","v":"Tanzania"},"Tanga","Korogwe Town Council",77835,6789,16473,54573,1,0,3,2,{"$f":"IF(INTRO!$E$38=\"Endemic\", IF($H188>0, IF($H188=4,\"Unknown\", IF($H188=99,\"Stopped\", $D188)), 0),\"Not required\")","v":77835},{"$f":"IF(INTRO!$E$40=\"Endemic\", IF($I188>0, IF($I188=4,\"Unknown\",IF($I188=99,\"Stopped\", $D188)), 0),\"Not required\")","v":0},{"$f":"IF(INTRO!$E$42=\"Endemic\", IF(AND($J188>1,$J188<5), IF($J188=4, \"Unknown\", E188+F188), 0),\"Not required\")","v":23262},{"$f":"IF(INTRO!$E$44=\"Endemic\", IF(AND($K188>0,$K188<5), IF($K188=4,\"Unknown\", IF($K188=1, $F188*0.33, IF($K188=2, $F188*0.5+$G188*0.2, SUM(F188:G188)))), 0),\"Not required\")","v":19151.099999999999},1,0,1,1,"MDA1 (IVM+ALB)","T1 (PZQ+ALB/MBD)",null,null,46617,"Korogwe Town Council",null,null,true]
[{"$f":"IF(INTRO!$E$34<>0,INTRO!$E$34,\"\")","v":"Tanzania"},"Tanga","Lushoto District Council",378803,48865,86170,243768,99,1,3,2,{"$f":"IF(INTRO!$E$38=\"Endemic\", IF($H189>0, IF($H189=4,\"Unknown\", IF($H189=99,\"Stopped\", $D189)), 0),\"Not required\")","v":"Stopped"},{"$f":"IF(INTRO!$E$40=\"Endemic\", IF($I189>0, IF($I189=4,\"Unknown\",IF($I189=99,\"Stopped\", $D189)), 0),\"Not required\")","v":378803},{"$f":"IF(INTRO!$E$42=\"Endemic\", IF(AND($J189>1,$J189<5), IF($J189=4, \"Unknown\", E189+F189), 0),\"Not required\")","v":135035},{"$f":"IF(INTRO!$E$44=\"Endemic\", IF(AND($K189>0,$K189<5), IF($K189=4,\"Unknown\", IF($K189=1, $F189*0.33, IF($K189=2, $F189*0.5+$G189*0.2, SUM(F189:G189)))), 0),\"Not required\")","v":91838.6},0,1,1,1,"MDA3 (IVM)","T1 (PZQ+ALB/MBD)",null,null,46618,"Lushoto District Council",null,null,true]
[{"$f":"IF(INTRO!$E$34<>0,INTRO!$E$34,\"\")","v":"Tanzania"},"Tanga","Mkinga District Council",134532,11761,32387,90384,1,1,3,2,{"$f":"IF(INTRO!$E$38=\"Endemic\", IF($H190>0, IF($H190=4,\"Unknown\", IF($H190=99,\"Stopped\", $D190)), 0),\"Not required\")","v":134532},{"$f":"IF(INTRO!$E$40=\"Endemic\", IF($I190>0, IF($I190=4,\"Unknown\",IF($I190=99,\"Stopped\", $D190)), 0),\"Not required\")","v":134532},{"$f":"IF(INTRO!$E$42=\"Endemic\", IF(AND($J190>1,$J190<5), IF($J190=4, \"Unknown\", E190+F190), 0),\"Not required\")","v":44148},{"$f":"IF(INTRO!$E$44=\"Endemic\", IF(AND($K190>0,$K190<5), IF($K190=4,\"Unknown\", IF($K190=1, $F190*0.33, IF($K190=2, $F190*0.5+$G190*0.2, SUM(F190:G190)))), 0),\"Not required\")","v":34270.300000000003},1,1,1,1,"MDA1 (IVM+ALB)","T1 (PZQ+ALB/MBD)",null,null,46619,"Mkinga District Council",null,null,true]
[{"$f":"IF(INTRO!$E$34<>0,INTRO!$E$34,\"\")","v":"Tanzania"},"Tanga","Muheza District Council",232979,30055,42067,160857,99,1,3,2,{"$f":"IF(INTRO!$E$38=\"Endemic\", IF($H191>0, IF($H191=4,\"Unknown\", IF($H191=99,\"Stopped\", $D191)), 0),\"Not required\")","v":"Stopped"},{"$f":"IF(INTRO!$E$40=\"Endemic\", IF($I191>0, IF($I191=4,\"Unknown\",IF($I191=99,\"Stopped\", $D191)), 0),\"Not required\")","v":232979},{"$f":"IF(INTRO!$E$42=\"Endemic\", IF(AND($J191>1,$J191<5), IF($J191=4, \"Unknown\", E191+F191), 0),\"Not required\")","v":72122},{"$f":"IF(INTRO!$E$44=\"Endemic\", IF(AND($K191>0,$K191<5), IF($K191=4,\"Unknown\", IF($K191=1, $F191*0.33, IF($K191=2, $F191*0.5+$G191*0.2, SUM(F191:G191)))), 0),\"Not required\")","v":53204.9},0,1,1,1,"MDA3 (IVM)","T1 (PZQ+ALB/MBD)",null,null,46620,"Muheza District Council",null,null,true]
[{"$f":"IF(INTRO!$E$34<>0,INTRO!$E$34,\"\")","v":"Tanzania"},"Tanga","Pangani District Council",61560,5187,13701,42672,1,0,3,2,{"$f":"IF(INTRO!$E$38=\"Endemic\", IF($H192>0, IF($H192=4,\"Unknown\", IF($H192=99,\"Stopped\", $D192)), 0),\"Not required\")","v":61560},{"$f":"IF(INTRO!$E$40=\"Endemic\", IF($I192>0, IF($I192=4,\"Unknown\",IF($I192=99,\"Stopped\", $D192)), 0),\"Not required\")","v":0},{"$f":"IF(INTRO!$E$42=\"Endemic\", IF(AND($J192>1,$J192<5), IF($J192=4, \"Unknown\", E192+F192), 0),\"Not required\")","v":18888},{"$f":"IF(INTRO!$E$44=\"Endemic\", IF(AND($K192>0,$K192<5), IF($K192=4,\"Unknown\", IF($K192=1, $F192*0.33, IF($K192=2, $F192*0.5+$G192*0.2, SUM(F192:G192)))), 0),\"Not required\")","v":15384.9},1,0,1,1,"MDA1 (IVM+ALB)","T1 (PZQ+ALB/MBD)",null,null,46621,"Pangani District Council",null,null,true]
[{"$f":"IF(INTRO!$E$34<>0,INTRO!$E$34,\"\")","v":"Tanzania"},"Tanga","Tanga City Council",311455,26936,65026,219493,1,0,3,2,{"$f":"IF(INTRO!$E$38=\"Endemic\", IF($H193>0, IF($H193=4,\"Unknown\", IF($H193=99,\"Stopped\", $D193)), 0),\"Not required\")","v":311455},{"$f":"IF(INTRO!$E$40=\"Endemic\", IF($I193>0, IF($I193=4,\"Unknown\",IF($I193=99,\"Stopped\", $D193)), 0),\"Not required\")","v":0},{"$f":"IF(INTRO!$E$42=\"Endemic\", IF(AND($J193>1,$J193<5), IF($J193=4, \"Unknown\", E193+F193), 0),\"Not required\")","v":91962},{"$f":"IF(INTRO!$E$44=\"Endemic\", IF(AND($K193>0,$K193<5), IF($K193=4,\"Unknown\", IF($K193=1, $F193*0.33, IF($K193=2, $F193*0.5+$G193*0.2, SUM(F193:G193)))), 0),\"Not required\")","v":76411.600000000006},1,0,1,1,"MDA1 (IVM+ALB)","T2 (PZQ)",null,null,46622,"Tanga City Council",null,null,true]

{"sheet":"MDA1","index":2,"n_rows":193,"n_cols":17,"rows_kept":193,"cut":false,"hidden":false,"merged":[[5,13,5,16],[3,0,3,2],[5,0,5,2],[5,5,5,8],[5,9,5,12],[5,3,6,3],[5,4,6,4]]}
["MDA 1 - Ivermectin (IVM) and Albendazole (ALB)"]
["Administrative structure, population requiring PC by age group, population treated by age group and coverage"]
[]
["TOTAL",null,null,null,null,null,{"$f":"SUM(G$9:G$1000)","v":2094397},{"$f":"SUM(H$9:H$1000)","v":7456495},{"$f":"SUM(I$9:I$1000)","v":9550892},null,{"$f":"SUM(K$9:K$1000)","v":1739637.5030000003},{"$f":"SUM(L$9:L$1000)","v":7368414.4969999986},{"$f":"SUM(M$9:M$1000)","v":9108052},null,{"$f":"IF(G4<>0, IF(K4/G4*100=0, \"-\", K4/G4*100), \" \")","v":83.061497080066488},{"$f":"IF(H4<>0, IF(L4/H4*100=0, \"-\", L4/H4*100), \" \")","v":98.818741204815382},{"$f":"IF(I4<>0, IF(M4/I4*100=0, \"-\", M4/I4*100), \" \")","v":95.363365013445872}]
[]
[null,null,null,"PC implemented","Date","Population targeted for MDA 1",null,null,null,"Population treated",null,null,null,"Programme coverage (%)"]
["Country","Province/State","District",null,null,"PreSAC","SAC","Adults","Total","PreSAC","SAC","Adults","Total","PreSAC","SAC","Adults","Total"]
[]
[{"$f":"IF(COUNTRY_INFO!A9=0,\" \",COUNTRY_INFO!A9)","v":"Tanzania"},{"$f":"IF(COUNTRY_INFO!B9=0,\" \",COUNTRY_INFO!B9)","v":"Arusha"},{"$f":"IF(COUNTRY_INFO!C9=0,\" \",COUNTRY_INFO!C9)","v":"Arusha City Council"},{"$f":"IF(COUNTRY_INFO!$T$9:$T$1000=\"MDA1 (IVM+ALB)\", COUNTRY_INFO!$T$9:$T$1000, \" \")","v":" "},null,null,null,null,{"$f":"SUM(F9:H9)","v":0},null,null,null,{"$f":"SUM(J9:L9)","v":0},null,{"$f":"IF(G9<>0, IF(K9/G9*100=0, \"-\", K9/G9*100), \" \")","v":" "},{"$f":"IF(H9<>0, IF(L9/H9*100=0, \"-\", L9/H9*100), \" \")","v":" "}," "]
[{"$f":"IF(COUNTRY_INFO!A10=0,\" \",COUNTRY_INFO!A10)","v":"Tanzania"},{"$f":"IF(COUNTRY_INFO!B10=0,\" \",COUNTRY_INFO!B10)","v":"Arusha"},{"$f":"IF(COUNTRY_INFO!C10=0,\" \",COUNTRY_INFO!C10)","v":"Arusha District Council"},{"$f":"IF(COUNTRY_INFO!$T$9:$T$1000=\"MDA1 (IVM+ALB)\", COUNTRY_INFO!$T$9:$T$1000, \" \")","v":" "},null,null,null,null,{"$f":"SUM(F10:H10)","v":0},null,null,null,{"$f":"SUM(J10:L10)","v":0},null,{"$f":"IF(G10<>0, IF(K10/G10*100=0, \"-\", K10/G10*100), \" \")","v":" "},{"$f":"IF(H10<>0, IF(L10/H10*100=0, \"-\", L10/H10*100), \" \")","v":" "},{"$f":"IF(I10<>0, IF(M10/I10*100=0, \"-\", M10/I10*100), \" \")","v":" "}]
[{"$f":"IF(COUNTRY_INFO!A11=0,\" \",COUNTRY_INFO!A11)","v":"Tanzania"},{"$f":"IF(COUNTRY_INFO!B11=0,\" \",COUNTRY_INFO!B11)","v":"Arusha"},{"$f":"IF(COUNTRY_INFO!C11=0,\" \",COUNTRY_INFO!C11)","v":"Karatu District Council"},{"$f":"IF(COUNTRY_INFO!$T$9:$T$1000=\"MDA1 (IVM+ALB)\", COUNTRY_INFO!$T$9:$T$1000, \" \")","v":" "},null,null,null,null,0,null,null,null,0,null," "," "," "]
[{"$f":"IF(COUNTRY_INFO!A12=0,\" \",COUNTRY_INFO!A12)","v":"Tanzania"},{"$f":"IF(COUNTRY_INFO!B12=0,\" \",COUNTRY_INFO!B12)","v":"Arusha"},{"$f":"IF(COUNTRY_INFO!C12=0,\" \",COUNTRY_INFO!C12)","v":"Longido District Council"},{"$f":"IF(COUNTRY_INFO!$T$9:$T$1000=\"MDA1 (IVM+ALB)\", COUNTRY_INFO!$T$9:$T$1000, \" \")","v":" "},null,null,null,null,0,null,null,null,0,null," "," "," "]
[{"$f":"IF(COUNTRY_INFO!A13=0,\" \",COUNTRY_INFO!A13)","v":"Tanzania"},{"$f":"IF(COUNTRY_INFO!B13=0,\" \",COUNTRY_INFO!B13)","v":"Arusha"},{"$f":"IF(COUNTRY_INFO!C13=0,\" \",COUNTRY_INFO!C13)","v":"Meru District Council"},{"$f":"IF(COUNTRY_INFO!$T$9:$T$1000=\"MDA1 (IVM+ALB)\", COUNTRY_INFO!$T$9:$T$1000, \" \")","v":" "},null,null,null,null,0,null,null,null,0,null," "," "," "]
[{"$f":"IF(COUNTRY_INFO!A14=0,\" \",COUNTRY_INFO!A14)","v":"Tanzania"},{"$f":"IF(COUNTRY_INFO!B14=0,\" \",COUNTRY_INFO!B14)","v":"Arusha"},{"$f":"IF(COUNTRY_INFO!C14=0,\" \",COUNTRY_INFO!C14)","v":"Monduli District Council"},{"$f":"IF(COUNTRY_INFO!$T$9:$T$1000=\"MDA1 (IVM+ALB)\", COUNTRY_INFO!$T$9:$T$1000, \" \")","v":" "},null,null,null,null,0,null,null,null,0,null," "," "," "]
[{"$f":"IF(COUNTRY_INFO!A15=0,\" \",COUNTRY_INFO!A15)","v":"Tanzania"},{"$f":"IF(COUNTRY_INFO!B15=0,\" \",COUNTRY_INFO!B15)","v":"Arusha"},{"$f":"IF(COUNTRY_INFO!C15=0,\" \",COUNTRY_INFO!C15)","v":"Ngorongoro District Council"},{"$f":"IF(COUNTRY_INFO!$T$9:$T$1000=\"MDA1 (IVM+ALB)\", COUNTRY_INFO!$T$9:$T$1000, \" \")","v":" "},null,null,null,null,0,null,null,null,0,null," "," "," "]
[{"$f":"IF(COUNTRY_INFO!A16=0,\" \",COUNTRY_INFO!A16)","v":"Tanzania"},{"$f":"IF(COUNTRY_INFO!B16=0,\" \",COUNTRY_INFO!B16)","v":"Dar Es Salaam"},{"$f":"IF(COUNTRY_INFO!C16=0,\" \",COUNTRY_INFO!C16)","v":"Dar es Salaam City Council "},{"$f":"IF(COUNTRY_INFO!$T$9:$T$1000=\"MDA1 (IVM+ALB)\", COUNTRY_INFO!$T$9:$T$1000, \" \")","v":"MDA1 (IVM+ALB)"},"Dec - 2018",null,0,1,1,null,1,1,2,null," ",100,200]
[{"$f":"IF(COUNTRY_INFO!A17=0,\" \",COUNTRY_INFO!A17)","v":"Tanzania"},{"$f":"IF(COUNTRY_INFO!B17=0,\" \",COUNTRY_INFO!B17)","v":"Dar Es Salaam"},{"$f":"IF(COUNTRY_INFO!C17=0,\" \",COUNTRY_INFO!C17)","v":"Ilala Municipal Council"},{"$f":"IF(COUNTRY_INFO!$T$9:$T$1000=\"MDA1 (IVM+ALB)\", COUNTRY_INFO!$T$9:$T$1000, \" \")","v":"MDA1 (IVM+ALB)"},"Dec - 2018",null,341396,1215440,1556836,null,312913,1325378,1638291,null,91.656902834245273,109.04511946291055,105.23208610283933]
[{"$f":"IF(COUNTRY_INFO!A18=0,\" \",COUNTRY_INFO!A18)","v":"Tanzania"},{"$f":"IF(COUNTRY_INFO!B18=0,\" \",COUNTRY_INFO!B18)","v":"Dar Es Salaam"},{"$f":"IF(COUNTRY_INFO!C18=0,\" \",COUNTRY_INFO!C18)","v":"Kigamboni Municipal Council"},{"$f":"IF(COUNTRY_INFO!$T$9:$T$1000=\"MDA1 (IVM+ALB)\", COUNTRY_INFO!$T$9:$T$1000, \" \")","v":"MDA1 (IVM+ALB)"},"Dec - 2018",null,45139,160705,205844,null,39469.385999999999,167176.614,206646,null,87.439655287002367,104.02701471640583,100.38961543693283]
[{"$f":"IF(COUNTRY_INFO!A19=0,\" \",COUNTRY_INFO!A19)","v":"Tanzania"},{"$f":"IF(COUNTRY_INFO!B19=0,\" \",COUNTRY_INFO!B19)","v":"Dar Es Salaam"},{"$f":"IF(COUNTRY_INFO!C19=0,\" \",COUNTRY_INFO!C19)","v":"Kinondoni Municipal Council"},{"$f":"IF(COUNTRY_INFO!$T$9:$T$1000=\"MDA1 (IVM+ALB)\", COUNTRY_INFO!$T$9:$T$1000, \" \")","v":"MDA1 (IVM+ALB)"},"Dec - 2018",null,246236,876650,1122886,null,208493.117,883093.88300000003,1091587,null,84.672069478061701,100.73505766269322,97.21262888663675]
[{"$f":"IF(COUNTRY_INFO!A20=0,\" \",COUNTRY_INFO!A20)","v":"Tanzania"},{"$f":"IF(COUNTRY_INFO!B20=0,\" \",COUNTRY_INFO!B20)","v":"Dar Es Salaam"},{"$f":"IF(COUNTRY_INFO!C20=0,\" \",COUNTRY_INFO!C20)","v":"Temeke Municipal Council"},{"$f":"IF(COUNTRY_INFO!$T$9:$T$1000=\"MDA1 (IVM+ALB)\", COUNTRY_INFO!$T$9:$T$1000, \" \")","v":"MDA1 (IVM+ALB)"},"Dec - 2018",null,319408,1137159,1456567,null,227934.81599999999,965441.18400000001,1193376,null,71.361649050743864,84.899401402970028,81.930731645025602]
[{"$f":"IF(COUNTRY_INFO!A21=0,\" \",COUNTRY_INFO!A21)","v":"Tanzania"},{"$f":"IF(COUNTRY_INFO!B21=0,\" \",COUNTRY_INFO!B21)","v":"Dar Es Salaam"},{"$f":"IF(COUNTRY_INFO!C21=0,\" \",COUNTRY_INFO!C21)","v":"Ubungo Municipal Council"},{"$f":"IF(COUNTRY_INFO!$T$9:$T$1000=\"MDA1 (IVM+ALB)\", COUNTRY_INFO!$T$9:$T$1000, \" \")","v":"MDA1 (IVM+ALB)"},"Dec - 2018",null,223904,797147,1021051,null,190547.712,807084.28799999994,997632,null,85.102415320851804,101.24660671118374,97.706382932879947]
[{"$f":"IF(COUNTRY_INFO!A22=0,\" \",COUNTRY_INFO!A22)","v":"Tanzania"},{"$f":"IF(COUNTRY_INFO!B22=0,\" \",COUNTRY_INFO!B22)","v":"Dodoma"},{"$f":"IF(COUNTRY_INFO!C22=0,\" \",COUNTRY_INFO!C22)","v":"Bahi District Council"},{"$f":"IF(COUNTRY_INFO!$T$9:$T$1000=\"MDA1 (IVM+ALB)\", COUNTRY_INFO!$T$9:$T$1000, \" \")","v":" "},null,null,null,null,0,null,null,null,0,null," "," "," "]
[{"$f":"IF(COUNTRY_INFO!A23=0,\" \",COUNTRY_INFO!A23)","v":"Tanzania"},{"$f":"IF(COUNTRY_INFO!B23=0,\" \",COUNTRY_INFO!B23)","v":"Dodoma"},{"$f":"IF(COUNTRY_INFO!C23=0,\" \",COUNTRY_INFO!C23)","v":"Chamwino District Council"},{"$f":"IF(COUNTRY_INFO!$T$9:$T$1000=\"MDA1 (IVM+ALB)\", COUNTRY_INFO!$T$9:$T$1000, \" \")","v":" "},null,null,null,null,0,null,null,null,0,null," "," "," "]
[{"$f":"IF(COUNTRY_INFO!A24=0,\" \",COUNTRY_INFO!A24)","v":"Tanzania"},{"$f":"IF(COUNTRY_INFO!B24=0,\" \",COUNTRY_INFO!B24)","v":"Dodoma"},{"$f":"IF(COUNTRY_INFO!C24=0,\" \",COUNTRY_INFO!C24)","v":"Chemba District Council"},{"$f":"IF(COUNTRY_INFO!$T$9:$T$1000=\"MDA1 (IVM+ALB)\", COUNTRY_INFO!$T$9:$T$1000, \" \")","v":" "},null,null,null,null,0,null,null,null,0,null," "," "," "]
[{"$f":"IF(COUNTRY_INFO!A25=0,\" \",COUNTRY_INFO!A25)","v":"Tanzania"},{"$f":"IF(COUNTRY_INFO!B25=0,\" \",COUNTRY_INFO!B25)","v":"Dodoma"},{"$f":"IF(COUNTRY_INFO!C25=0,\" \",COUNTRY_INFO!C25)","v":"Dodoma Municipal Council"},{"$f":"IF(COUNTRY_INFO!$T$9:$T$1000=\"MDA1 (IVM+ALB)\", COUNTRY_INFO!$T$9:$T$1000, \" \")","v":" "},null,null,null,null,0,null,null,null,0,null," "," "," "]
[{"$f":"IF(COUNTRY_INFO!A26=0,\" \",COUNTRY_INFO!A26)","v":"Tanzania"},{"$f":"IF(COUNTRY_INFO!B26=0,\" \",COUNTRY_INFO!B26)","v":"Dodoma"},{"$f":"IF(COUNTRY_INFO!C26=0,\" \",COUNTRY_INFO!C26)","v":"Kondoa District Council"},{"$f":"IF(COUNTRY_INFO!$T$9:$T$1000=\"MDA1 (IVM+ALB)\", COUNTRY_INFO!$T$9:$T$1000, \" \")","v":" "},null,null,null,null,0,null,null,null,0,null," "," "," "]
[{"$f":"IF(COUNTRY_INFO!A27=0,\" \",COUNTRY_INFO!A27)","v":"Tanzania"},{"$f":"IF(COUNTRY_INFO!B27=0,\" \",COUNTRY_INFO!B27)","v":"Dodoma"},{"$f":"IF(COUNTRY_INFO!C27=0,\" \",COUNTRY_INFO!C27)","v":"Kondoa Town Council "},{"$f":"IF(COUNTRY_INFO!$T$9:$T$1000=\"MDA1 (IVM+ALB)\", COUNTRY_INFO!$T$9:$T$1000, \" \")","v":" "},null,null,null,null,0,null,null,null,0,null," "," "," "]
[{"$f":"IF(COUNTRY_INFO!A28=0,\" \",COUNTRY_INFO!A28)","v":"Tanzania"},{"$f":"IF(COUNTRY_INFO!B28=0,\" \",COUNTRY_INFO!B28)","v":"Dodoma"},{"$f":"IF(COUNTRY_INFO!C28=0,\" \",COUNTRY_INFO!C28)","v":"Kongwa District Council"},{"$f":"IF(COUNTRY_INFO!$T$9:$T$1000=\"MDA1 (IVM+ALB)\", COUNTRY_INFO!$T$9:$T$1000, \" \")","v":" "},null,null,null,null,0,null,null,null,0,null," "," "," "]
[{"$f":"IF(COUNTRY_INFO!A29=0,\" \",COUNTRY_INFO!A29)","v":"Tanzania"},{"$f":"IF(COUNTRY_INFO!B29=0,\" \",COUNTRY_INFO!B29)","v":"Dodoma"},{"$f":"IF(COUNTRY_INFO!C29=0,\" \",COUNTRY_INFO!C29)","v":"Mpwapwa District Council"},{"$f":"IF(COUNTRY_INFO!$T$9:$T$1000=\"MDA1 (IVM+ALB)\", COUNTRY_INFO!$T$9:$T$1000, \" \")","v":" "},null,null,null,null,0,null,null,null,0,null," "," "," "]
[{"$f":"IF(COUNTRY_INFO!A30=0,\" \",COUNTRY_INFO!A30)","v":"Tanzania"},{"$f":"IF(COUNTRY_INFO!B30=0,\" \",COUNTRY_INFO!B30)","v":"Geita"},{"$f":"IF(COUNTRY_INFO!C30=0,\" \",COUNTRY_INFO!C30)","v":"Bukombe District Council"},{"$f":"IF(COUNTRY_INFO!$T$9:$T$1000=\"MDA1 (IVM+ALB)\", COUNTRY_INFO!$T$9:$T$1000, \" \")","v":" "},null,null,null,null,0,null,null,null,0,null," "," "," "]
[{"$f":"IF(COUNTRY_INFO!A31=0,\" \",COUNTRY_INFO!A31)","v":"Tanzania"},{"$f":"IF(COUNTRY_INFO!B31=0,\" \",COUNTRY_INFO!B31)","v":"Geita"},{"$f":"IF(COUNTRY_INFO!C31=0,\" \",COUNTRY_INFO!C31)","v":"Chato District Council"},{"$f":"IF(COUNTRY_INFO!$T$9:$T$1000=\"MDA1 (IVM+ALB)\", COUNTRY_INFO!$T$9:$T$1000, \" \")","v":" "},null,null,null,null,0,null,null,null,0,null," "," "," "]
[{"$f":"IF(COUNTRY_INFO!A32=0,\" \",COUNTRY_INFO!A32)","v":"Tanzania"},{"$f":"IF(COUNTRY_INFO!B32=0,\" \",COUNTRY_INFO!B32)","v":"Geita"},{"$f":"IF(COUNTRY_INFO!C32=0,\" \",COUNTRY_INFO!C32)","v":"Geita District Council"},{"$f":"IF(COUNTRY_INFO!$T$9:$T$1000=\"MDA1 (IVM+ALB)\", COUNTRY_INFO!$T$9:$T$1000, \" \")","v":" "},null,null,null,null,0,null,null,null,0,null," "," "," "]
[{"$f":"IF(COUNTRY_INFO!A33=0,\" \",COUNTRY_INFO!A33)","v":"Tanzania"},{"$f":"IF(COUNTRY_INFO!B33=0,\" \",COUNTRY_INFO!B33)","v":"Geita"},{"$f":"IF(COUNTRY_INFO!C33=0,\" \",COUNTRY_INFO!C33)","v":"Geita Town Council"},{"$f":"IF(COUNTRY_INFO!$T$9:$T$1000=\"MDA1 (IVM+ALB)\", COUNTRY_INFO!$T$9:$T$1000, \" \")","v":" "},null,null,null,null,0,null,null,null,0,null," "," "," "]
[{"$f":"IF(COUNTRY_INFO!A34=0,\" \",COUNTRY_INFO!A34)","v":"Tanzania"},{"$f":"IF(COUNTRY_INFO!B34=0,\" \",COUNTRY_INFO!B34)","v":"Geita"},{"$f":"IF(COUNTRY_INFO!C34=0,\" \",COUNTRY_INFO!C34)","v":"Mbogwe District Council"},{"$f":"IF(COUNTRY_INFO!$T$9:$T$1000=\"MDA1 (IVM+ALB)\", COUNTRY_INFO!$T$9:$T$1000, \" \")","v":" "},null,null,null,null,0,null,null,null,0,null," "," "," "]
[{"$f":"IF(COUNTRY_INFO!A35=0,\" \",COUNTRY_INFO!A35)","v":"Tanzania"},{"$f":"IF(COUNTRY_INFO!B35=0,\" \",COUNTRY_INFO!B35)","v":"Geita"},{"$f":"IF(COUNTRY_INFO!C35=0,\" \",COUNTRY_INFO!C35)","v":"Nyang'hwale District Council"},{"$f":"IF(COUNTRY_INFO!$T$9:$T$1000=\"MDA1 (IVM+ALB)\", COUNTRY_INFO!$T$9:$T$1000, \" \")","v":" "},null,null,null,null,0,null,null,null,0,null," "," "," "]
[{"$f":"IF(COUNTRY_INFO!A36=0,\" \",COUNTRY_INFO!A36)","v":"Tanzania"},{"$f":"IF(COUNTRY_INFO!B36=0,\" \",COUNTRY_INFO!B36)","v":"Iringa"},{"$f":"IF(COUNTRY_INFO!C36=0,\" \",COUNTRY_INFO!C36)","v":"Iringa District Council"},{"$f":"IF(COUNTRY_INFO!$T$9:$T$1000=\"MDA1 (IVM+ALB)\", COUNTRY_INFO!$T$9:$T$1000, \" \")","v":" "},null,null,null,null,0,null,null,null,0,null," "," "," "]
[{"$f":"IF(COUNTRY_INFO!A37=0,\" \",COUNTRY_INFO!A37)","v":"Tanzania"},{"$f":"IF(COUNTRY_INFO!B37=0,\" \",COUNTRY_INFO!B37)","v":"Iringa"},{"$f":"IF(COUNTRY_INFO!C37=0,\" \",COUNTRY_INFO!C37)","v":"Iringa Municipal Council"},{"$f":"IF(COUNTRY_INFO!$T$9:$T$1000=\"MDA1 (IVM+ALB)\", COUNTRY_INFO!$T$9:$T$1000, \" \")","v":" "},null,null,null,null,0,null,null,null,0,null," "," "," "]
[{"$f":"IF(COUNTRY_INFO!A38=0,\" \",COUNTRY_INFO!A38)","v":"Tanzania"},{"$f":"IF(COUNTRY_INFO!B38=0,\" \",COUNTRY_INFO!B38)","v":"Iringa"},{"$f":"IF(COUNTRY_INFO!C38=0,\" \",COUNTRY_INFO!C38)","v":"Kilolo District Council"},{"$f":"IF(COUNTRY_INFO!$T$9:$T$1000=\"MDA1 (IVM+ALB)\", COUNTRY_INFO!$T$9:$T$1000, \" \")","v":" "},null,null,null,null,0,null,null,null,0,null," "," "," "]
[{"$f":"IF(COUNTRY_INFO!A39=0,\" \",COUNTRY_INFO!A39)","v":"Tanzania"},{"$f":"IF(COUNTRY_INFO!B39=0,\" \",COUNTRY_INFO!B39)","v":"Iringa"},{"$f":"IF(COUNTRY_INFO!C39=0,\" \",COUNTRY_INFO!C39)","v":"Mafinga Town Council"},{"$f":"IF(COUNTRY_INFO!$T$9:$T$1000=\"MDA1 (IVM+ALB)\", COUNTRY_INFO!$T$9:$T$1000, \" \")","v":" "},null,null,null,null,0,null,null,null,0,null," "," "," "]
[{"$f":"IF(COUNTRY_INFO!A40=0,\" \",COUNTRY_INFO!A40)","v":"Tanzania"},{"$f":"IF(COUNTRY_INFO!B40=0,\" \",COUNTRY_INFO!B40)","v":"Iringa"},{"$f":"IF(COUNTRY_INFO!C40=0,\" \",COUNTRY_INFO!C40)","v":"Mufindi District Council"},{"$f":"IF(COUNTRY_INFO!$T$9:$T$1000=\"MDA1 (IVM+ALB)\", COUNTRY_INFO!$T$9:$T$1000, \" \")","v":" "},null,null,null,null,0,null,null,null,0,null," "," "," "]
[{"$f":"IF(COUNTRY_INFO!A41=0,\" \",COUNTRY_INFO!A41)","v":"Tanzania"},{"$f":"IF(COUNTRY_INFO!B41=0,\" \",COUNTRY_INFO!B41)","v":"Kagera"},{"$f":"IF(COUNTRY_INFO!C41=0,\" \",COUNTRY_INFO!C41)","v":"Biharamulo District Council"},{"$f":"IF(COUNTRY_INFO!$T$9:$T$1000=\"MDA1 (IVM+ALB)\", COUNTRY_INFO!$T$9:$T$1000, \" \")","v":" "},null,null,null,null,0,null,null,null,0,null," "," "," "]
[{"$f":"IF(COUNTRY_INFO!A42=0,\" \",COUNTRY_INFO!A42)","v":"Tanzania"},{"$f":"IF(COUNTRY_INFO!B42=0,\" \",COUNTRY_INFO!B42)","v":"Kagera"},{"$f":"IF(COUNTRY_INFO!C42=0,\" \",COUNTRY_INFO!C42)","v":"Bukoba District Council"},{"$f":"IF(COUNTRY_INFO!$T$9:$T$1000=\"MDA1 (IVM+ALB)\", COUNTRY_INFO!$T$9:$T$1000, \" \")","v":" "},null,null,null,null,0,null,null,null,0,null," "," "," "]
[{"$f":"IF(COUNTRY_INFO!A43=0,\" \",COUNTRY_INFO!A43)","v":"Tanzania"},{"$f":"IF(COUNTRY_INFO!B43=0,\" \",COUNTRY_INFO!B43)","v":"Kagera"},{"$f":"IF(COUNTRY_INFO!C43=0,\" \",COUNTRY_INFO!C43)","v":"Bukoba Municipal Council"},{"$f":"IF(COUNTRY_INFO!$T$9:$T$1000=\"MDA1 (IVM+ALB)\", COUNTRY_INFO!$T$9:$T$1000, \" \")","v":" "},null,null,null,null,0,null,null,null,0,null," "," "," "]
[{"$f":"IF(COUNTRY_INFO!A44=0,\" \",COUNTRY_INFO!A44)","v":"Tanzania"},{"$f":"IF(COUNTRY_INFO!B44=0,\" \",COUNTRY_INFO!B44)","v":"Kagera"},{"$f":"IF(COUNTRY_INFO!C44=0,\" \",COUNTRY_INFO!C44)","v":"Karagwe District Council"},{"$f":"IF(COUNTRY_INFO!$T$9:$T$1000=\"MDA1 (IVM+ALB)\", COUNTRY_INFO!$T$9:$T$1000, \" \")","v":" "},null,null,null,null,0,null,null,null,0,null," "," "," "]
[{"$f":"IF(COUNTRY_INFO!A45=0,\" \",COUNTRY_INFO!A45)","v":"Tanzania"},{"$f":"IF(COUNTRY_INFO!B45=0,\" \",COUNTRY_INFO!B45)","v":"Kagera"},{"$f":"IF(COUNTRY_INFO!C45=0,\" \",COUNTRY_INFO!C45)","v":"Kyerwa District Council"},{"$f":"IF(COUNTRY_INFO!$T$9:$T$1000=\"MDA1 (IVM+ALB)\", COUNTRY_INFO!$T$9:$T$1000, \" \")","v":" "},null,null,null,null,0,null,null,null,0,null," "," "," "]
[{"$f":"IF(COUNTRY_INFO!A46=0,\" \",COUNTRY_INFO!A46)","v":"Tanzania"},{"$f":"IF(COUNTRY_INFO!B46=0,\" \",COUNTRY_INFO!B46)","v":"Kagera"},{"$f":"IF(COUNTRY_INFO!C46=0,\" \",COUNTRY_INFO!C46)","v":"Missenyi District Council"},{"$f":"IF(COUNTRY_INFO!$T$9:$T$1000=\"MDA1 (IVM+ALB)\", COUNTRY_INFO!$T$9:$T$1000, \" \")","v":" "},null,null,null,null,0,null,null,null,0,null," "," "," "]
[{"$f":"IF(COUNTRY_INFO!A47=0,\" \",COUNTRY_INFO!A47)","v":"Tanzania"},{"$f":"IF(COUNTRY_INFO!B47=0,\" \",COUNTRY_INFO!B47)","v":"Kagera"},{"$f":"IF(COUNTRY_INFO!C47=0,\" \",COUNTRY_INFO!C47)","v":"Muleba District Council"},{"$f":"IF(COUNTRY_INFO!$T$9:$T$1000=\"MDA1 (IVM+ALB)\", COUNTRY_INFO!$T$9:$T$1000, \" \")","v":" "},null,null,null,null,0,null,null,null,0,null," "," "," "]
[{"$f":"IF(COUNTRY_INFO!A48=0,\" \",COUNTRY_INFO!A48)","v":"Tanzania"},{"$f":"IF(COUNTRY_INFO!B48=0,\" \",COUNTRY_INFO!B48)","v":"Kagera"},{"$f":"IF(COUNTRY_INFO!C48=0,\" \",COUNTRY_INFO!C48)","v":"Ngara District Council"},{"$f":"IF(COUNTRY_INFO!$T$9:$T$1000=\"MDA1 (IVM+ALB)\", COUNTRY_INFO!$T$9:$T$1000, \" \")","v":" "},null,null,null,null,0,null,null,null,0,null," "," "," "]
[{"$f":"IF(COUNTRY_INFO!A49=0,\" \",COUNTRY_INFO!A49)","v":"Tanzania"},{"$f":"IF(COUNTRY_INFO!B49=0,\" \",COUNTRY_INFO!B49)","v":"Katavi"},{"$f":"IF(COUNTRY_INFO!C49=0,\" \",COUNTRY_INFO!C49)","v":"Mlele District Council"},{"$f":"IF(COUNTRY_INFO!$T$9:$T$1000=\"MDA1 (IVM+ALB)\", COUNTRY_INFO!$T$9:$T$1000, \" \")","v":" "},null,null,null,null,0,null,null,null,0,null," "," "," "]
[{"$f":"IF(COUNTRY_INFO!A50=0,\" \",COUNTRY_INFO!A50)","v":"Tanzania"},{"$f":"IF(COUNTRY_INFO!B50=0,\" \",COUNTRY_INFO!B50)","v":"Katavi"},{"$f":"IF(COUNTRY_INFO!C50=0,\" \",COUNTRY_INFO!C50)","v":"Mpanda District Council"},{"$f":"IF(COUNTRY_INFO!$T$9:$T$1000=\"MDA1 (IVM+ALB)\", COUNTRY_INFO!$T$9:$T$1000, \" \")","v":" "},null,null,null,null,0,null,null,null,0,null," "," "," "]
[{"$f":"IF(COUNTRY_INFO!A51=0,\" \",COUNTRY_INFO!A51)","v":"Tanzania"},{"$f":"IF(COUNTRY_INFO!B51=0,\" \",COUNTRY_INFO!B51)","v":"Katavi"},{"$f":"IF(COUNTRY_INFO!C51=0,\" \",COUNTRY_INFO!C51)","v":"Mpanda Municipal Council"},{"$f":"IF(COUNTRY_INFO!$T$9:$T$1000=\"MDA1 (IVM+ALB)\", COUNTRY_INFO!$T$9:$T$1000, \" \")","v":" "},null,null,null,null,0,null,null,null,0,null," "," "," "]
[{"$f":"IF(COUNTRY_INFO!A52=0,\" \",COUNTRY_INFO!A52)","v":"Tanzania"},{"$f":"IF(COUNTRY_INFO!B52=0,\" \",COUNTRY_INFO!B52)","v":"Katavi"},{"$f":"IF(COUNTRY_INFO!C52=0,\" \",COUNTRY_INFO!C52)","v":"Mpimbwe District Council"},{"$f":"IF(COUNTRY_INFO!$T$9:$T$1000=\"MDA1 (IVM+ALB)\", COUNTRY_INFO!$T$9:$T$1000, \" \")","v":" "},null,null,null,null,0,null,null,null,0,null," "," "," "]
[{"$f":"IF(COUNTRY_INFO!A53=0,\" \",COUNTRY_INFO!A53)","v":"Tanzania"},{"$f":"IF(COUNTRY_INFO!B53=0,\" \",COUNTRY_INFO!B53)","v":"Katavi"},{"$f":"IF(COUNTRY_INFO!C53=0,\" \",COUNTRY_INFO!C53)","v":"Nsimbo District Council"},{"$f":"IF(COUNTRY_INFO!$T$9:$T$1000=\"MDA1 (IVM+ALB)\", COUNTRY_INFO!$T$9:$T$1000, \" \")","v":" "},null,null,null,null,0,null,null,null,0,null," "," "," "]
[{"$f":"IF(COUNTRY_INFO!A54=0,\" \",COUNTRY_INFO!A54)","v":"Tanzania"},{"$f":"IF(COUNTRY_INFO!B54=0,\" \",COUNTRY_INFO!B54)","v":"Kigoma"},{"$f":"IF(COUNTRY_INFO!C54=0,\" \",COUNTRY_INFO!C54)","v":"Buhigwe District Council"},{"$f":"IF(COUNTRY_INFO!$T$9:$T$1000=\"MDA1 (IVM+ALB)\", COUNTRY_INFO!$T$9:$T$1000, \" \")","v":" "},null,null,null,null,0,null,null,null,0,null," "," "," "]
[{"$f":"IF(COUNTRY_INFO!A55=0,\" \",COUNTRY_INFO!A55)","v":"Tanzania"},{"$f":"IF(COUNTRY_INFO!B55=0,\" \",COUNTRY_INFO!B55)","v":"Kigoma"},{"$f":"IF(COUNTRY_INFO!C55=0,\" \",COUNTRY_INFO!C55)","v":"Kakonko District Council"},{"$f":"IF(COUNTRY_INFO!$T$9:$T$1000=\"MDA1 (IVM+ALB)\", COUNTRY_INFO!$T$9:$T$1000, \" \")","v":" "},null,null,null,null,0,null,null,null,0,null," "," "," "]
[{"$f":"IF(COUNTRY_INFO!A56=0,\" \",COUNTRY_INFO!A56)","v":"Tanzania"},{"$f":"IF(COUNTRY_INFO!B56=0,\" \",COUNTRY_INFO!B56)","v":"Kigoma"},{"$f":"IF(COUNTRY_INFO!C56=0,\" \",COUNTRY_INFO!C56)","v":"Kasulu District Council"},{"$f":"IF(COUNTRY_INFO!$T$9:$T$1000=\"MDA1 (IVM+ALB)\", COUNTRY_INFO!$T$9:$T$1000, \" \")","v":" "},null,null,null,null,0,null,null,null,0,null," "," "," "]
[{"$f":"IF(COUNTRY_INFO!A57=0,\" \",COUNTRY_INFO!A57)","v":"Tanzania"},{"$f":"IF(COUNTRY_INFO!B57=0,\" \",COUNTRY_INFO!B57)","v":"Kigoma"},{"$f":"IF(COUNTRY_INFO!C57=0,\" \",COUNTRY_INFO!C57)","v":"Kasulu Town Council"},{"$f":"IF(COUNTRY_INFO!$T$9:$T$1000=\"MDA1 (IVM+ALB)\", COUNTRY_INFO!$T$9:$T$1000, \" \")","v":" "},null,null,null,null,0,null,null,null,0,null," "," "," "]
[{"$f":"IF(COUNTRY_INFO!A58=0,\" \",COUNTRY_INFO!A58)","v":"Tanzania"},{"$f":"IF(COUNTRY_INFO!B58=0,\" \",COUNTRY_INFO!B58)","v":"Kigoma"},{"$f":"IF(COUNTRY_INFO!C58=0,\" \",COUNTRY_INFO!C58)","v":"Kibondo District Council"},{"$f":"IF(COUNTRY_INFO!$T$9:$T$1000=\"MDA1 (IVM+ALB)\", COUNTRY_INFO!$T$9:$T$1000, \" \")","v":" "},null,null,null,null,0,null,null,null,0,null," "," "," "]
[{"$f":"IF(COUNTRY_INFO!A59=0,\" \",COUNTRY_INFO!A59)","v":"Tanzania"},{"$f":"IF(COUNTRY_INFO!B59=0,\" \",COUNTRY_INFO!B59)","v":"Kigoma"},{"$f":"IF(COUNTRY_INFO!C59=0,\" \",COUNTRY_INFO!C59)","v":"Kigoma District Council"},{"$f":"IF(COUNTRY_INFO!$T$9:$T$1000=\"MDA1 (IVM+ALB)\", COUNTRY_INFO!$T$9:$T$1000, \" \")","v":" "},null,null,null,null,0,null,null,null,0,null," "," "," "]
[{"$f":"IF(COUNTRY_INFO!A60=0,\" \",COUNTRY_INFO!A60)","v":"Tanzania"},{"$f":"IF(COUNTRY_INFO!B60=0,\" \",COUNTRY_INFO!B60)","v":"Kigoma"},{"$f":"IF(COUNTRY_INFO!C60=0,\" \",COUNTRY_INFO!C60)","v":"Kigoma-Ujiji Municipal Council"},{"$f":"IF(COUNTRY_INFO!$T$9:$T$1000=\"MDA1 (IVM+ALB)\", COUNTRY_INFO!$T$9:$T$1000, \" \")","v":" "},null,null,null,null,0,null,null,null,0,null," "," "," "]
[{"$f":"IF(COUNTRY_INFO!A61=0,\" \",COUNTRY_INFO!A61)","v":"Tanzania"},{"$f":"IF(COUNTRY_INFO!B61=0,\" \",COUNTRY_INFO!B61)","v":"Kigoma"},{"$f":"IF(COUNTRY_INFO!C61=0,\" \",COUNTRY_INFO!C61)","v":"Uvinza District Council"},{"$f":"IF(COUNTRY_INFO!$T$9:$T$1000=\"MDA1 (IVM+ALB)\", COUNTRY_INFO!$T$9:$T$1000, \" \")","v":" "},null,null,null,null,0,null,null,null,0,null," "," "," "]
[{"$f":"IF(COUNTRY_INFO!A62=0,\" \",COUNTRY_INFO!A62)","v":"Tanzania"},{"$f":"IF(COUNTRY_INFO!B62=0,\" \",COUNTRY_INFO!B62)","v":"Kilimanjaro"},{"$f":"IF(COUNTRY_INFO!C62=0,\" \",COUNTRY_INFO!C62)","v":"Hai District Council"},{"$f":"IF(COUNTRY_INFO!$T$9:$T$1000=\"MDA1 (IVM+ALB)\", COUNTRY_INFO!$T$9:$T$1000, \" \")","v":" "},null,null,null,null,0,null,null,null,0,null," "," "," "]
[{"$f":"IF(COUNTRY_INFO!A63=0,\" \",COUNTRY_INFO!A63)","v":"Tanzania"},{"$f":"IF(COUNTRY_INFO!B63=0,\" \",COUNTRY_INFO!B63)","v":"Kilimanjaro"},{"$f":"IF(COUNTRY_INFO!C63=0,\" \",COUNTRY_INFO!C63)","v":"Moshi District Council"},{"$f":"IF(COUNTRY_INFO!$T$9:$T$1000=\"MDA1 (IVM+ALB)\", COUNTRY_INFO!$T$9:$T$1000, \" \")","v":" "},null,null,null,null,0,null,null,null,0,null," "," "," "]
[{"$f":"IF(COUNTRY_INFO!A64=0,\" \",COUNTRY_INFO!A64)","v":"Tanzania"},{"$f":"IF(COUNTRY_INFO!B64=0,\" \",COUNTRY_INFO!B64)","v":"Kilimanjaro"},{"$f":"IF(COUNTRY_INFO!C64=0,\" \",COUNTRY_INFO!C64)","v":"Moshi Municipal Council"},{"$f":"IF(COUNTRY_INFO!$T$9:$T$1000=\"MDA1 (IVM+ALB)\", COUNTRY_INFO!$T$9:$T$1000, \" \")","v":" "},null,null,null,null,0,null,null,null,0,null," "," "," "]
[{"$f":"IF(COUNTRY_INFO!A65=0,\" \",COUNTRY_INFO!A65)","v":"Tanzania"},{"$f":"IF(COUNTRY_INFO!B65=0,\" \",COUNTRY_INFO!B65)","v":"Kilimanjaro"},{"$f":"IF(COUNTRY_INFO!C65=0,\" \",COUNTRY_INFO!C65)","v":"Mwanga District Council"},{"$f":"IF(COUNTRY_INFO!$T$9:$T$1000=\"MDA1 (IVM+ALB)\", COUNTRY_INFO!$T$9:$T$1000, \" \")","v":" "},null,null,null,null,0,null,null,null,0,null," "," "," "]
[{"$f":"IF(COUNTRY_INFO!A66=0,\" \",COUNTRY_INFO!A66)","v":"Tanzania"},{"$f":"IF(COUNTRY_INFO!B66=0,\" \",COUNTRY_INFO!B66)","v":"Kilimanjaro"},{"$f":"IF(COUNTRY_INFO!C66=0,\" \",COUNTRY_INFO!C66)","v":"Rombo District Council"},{"$f":"IF(COUNTRY_INFO!$T$9:$T$1000=\"MDA1 (IVM+ALB)\", COUNTRY_INFO!$T$9:$T$1000, \" \")","v":" "},null,null,null,null,0,null,null,null,0,null," "," "," "]
[{"$f":"IF(COUNTRY_INFO!A67=0,\" \",COUNTRY_INFO!A67)","v":"Tanzania"},{"$f":"IF(COUNTRY_INFO!B67=0,\" \",COUNTRY_INFO!B67)","v":"Kilimanjaro"},{"$f":"IF(COUNTRY_INFO!C67=0,\" \",COUNTRY_INFO!C67)","v":"Same District Council"},{"$f":"IF(COUNTRY_INFO!$T$9:$T$1000=\"MDA1 (IVM+ALB)\", COUNTRY_INFO!$T$9:$T$1000, \" \")","v":" "},null,null,null,null,0,null,null,null,0,null," "," "," "]
[{"$f":"IF(COUNTRY_INFO!A68=0,\" \",COUNTRY_INFO!A68)","v":"Tanzania"},{"$f":"IF(COUNTRY_INFO!B68=0,\" \",COUNTRY_INFO!B68)","v":"Kilimanjaro"},{"$f":"IF(COUNTRY_INFO!C68=0,\" \",COUNTRY_INFO!C68)","v":"Siha District Council"},{"$f":"IF(COUNTRY_INFO!$T$9:$T$1000=\"MDA1 (IVM+ALB)\", COUNTRY_INFO!$T$9:$T$1000, \" \")","v":" "},null,null,null,null,0,null,null,null,0,null," "," "," "]
[{"$f":"IF(COUNTRY_INFO!A69=0,\" \",COUNTRY_INFO!A69)","v":"Tanzania"},{"$f":"IF(COUNTRY_INFO!B69=0,\" \",COUNTRY_INFO!B69)","v":"Lindi"},{"$f":"IF(COUNTRY_INFO!C69=0,\" \",COUNTRY_INFO!C69)","v":"Kilwa District Council"},{"$f":"IF(COUNTRY_INFO!$T$9:$T$1000=\"MDA1 (IVM+ALB)\", COUNTRY_INFO!$T$9:$T$1000, \" \")","v":"MDA1 (IVM+ALB)"},"Sept - 2018",null,38444,136870,175314,null,31015.535,131369.465,162385,null,80.677179793986056,95.981197486666176,92.625232440078946]
[{"$f":"IF(COUNTRY_INFO!A70=0,\" \",COUNTRY_INFO!A70)","v":"Tanzania"},{"$f":"IF(COUNTRY_INFO!B70=0,\" \",COUNTRY_INFO!B70)","v":"Lindi"},{"$f":"IF(COUNTRY_INFO!C70=0,\" \",COUNTRY_INFO!C70)","v":"Lindi District Council"},{"$f":"IF(COUNTRY_INFO!$T$9:$T$1000=\"MDA1 (IVM+ALB)\", COUNTRY_INFO!$T$9:$T$1000, \" \")","v":"MDA1 (IVM+ALB)"},"Sept - 2018",null,39129,139309,178438,null,29499.759000000002,124949.24099999999,154449,null,75.391037338035744,89.69215269652355,86.556114728925451]
[{"$f":"IF(COUNTRY_INFO!A71=0,\" \",COUNTRY_INFO!A71)","v":"Tanzania"},{"$f":"IF(COUNTRY_INFO!B71=0,\" \",COUNTRY_INFO!B71)","v":"Lindi"},{"$f":"IF(COUNTRY_INFO!C71=0,\" \",COUNTRY_INFO!C71)","v":"Lindi Municipal Council"},{"$f":"IF(COUNTRY_INFO!$T$9:$T$1000=\"MDA1 (IVM+ALB)\", COUNTRY_INFO!$T$9:$T$1000, \" \")","v":"MDA1 (IVM+ALB)"},"Sept - 2018",null,18864,67160,86024,null,12544.689,53134.311000000002,65679,null,66.500683842239184,79.11600804050029,76.349623360922536]
[{"$f":"IF(COUNTRY_INFO!A72=0,\" \",COUNTRY_INFO!A72)","v":"Tanzania"},{"$f":"IF(COUNTRY_INFO!B72=0,\" \",COUNTRY_INFO!B72)","v":"Lindi"},{"$f":"IF(COUNTRY_INFO!C72=0,\" \",COUNTRY_INFO!C72)","v":"Liwale District Council"},{"$f":"IF(COUNTRY_INFO!$T$9:$T$1000=\"MDA1 (IVM+ALB)\", COUNTRY_INFO!$T$9:$T$1000, \" \")","v":" "},null,null,null,null,0,null,null,null,0,null," "," "," "]
[{"$f":"IF(COUNTRY_INFO!A73=0,\" \",COUNTRY_INFO!A73)","v":"Tanzania"},{"$f":"IF(COUNTRY_INFO!B73=0,\" \",COUNTRY_INFO!B73)","v":"Lindi"},{"$f":"IF(COUNTRY_INFO!C73=0,\" \",COUNTRY_INFO!C73)","v":"Nachingwea District Council"},{"$f":"IF(COUNTRY_INFO!$T$9:$T$1000=\"MDA1 (IVM+ALB)\", COUNTRY_INFO!$T$9:$T$1000, \" \")","v":"MDA1 (IVM+ALB)"},"Sept - 2018",null,37434,133272,170706,null,26327.631000000001,111513.36900000001,137841,null,70.330798204840534,83.673516567621107,80.747601138800036]
[{"$f":"IF(COUNTRY_INFO!A74=0,\" \",COUNTRY_INFO!A74)","v":"Tanzania"},{"$f":"IF(COUNTRY_INFO!B74=0,\" \",COUNTRY_INFO!B74)","v":"Lindi"},{"$f":"IF(COUNTRY_INFO!C74=0,\" \",COUNTRY_INFO!C74)","v":"Ruangwa District Council"},{"$f":"IF(COUNTRY_INFO!$T$9:$T$1000=\"MDA1 (IVM+ALB)\", COUNTRY_INFO!$T$9:$T$1000, \" \")","v":"MDA1 (IVM+ALB)"},"Oct - 2018",null,26419,94057,{"$f":"SUM(F74:H74)","v":120476},null,20074.864000000001,85029.135999999999,{"$f":"SUM(J74:L74)","v":105104},null,{"$f":"IF(G74<>0, IF(K74/G74*100=0, \"-\", K74/G74*100), \" \")","v":75.986464287066141},{"$f":"IF(H74<>0, IF(L74/H74*100=0, \"-\", L74/H74*100), \" \")","v":90.401709601624546},{"$f":"IF(I74<>0, IF(M74/I74*100=0, \"-\", M74/I74*100), \" \")","v":87.240612238122111}]
[{"$f":"IF(COUNTRY_INFO!A75=0,\" \",COUNTRY_INFO!A75)","v":"Tanzania"},{"$f":"IF(COUNTRY_INFO!B75=0,\" \",COUNTRY_INFO!B75)","v":"Manyara"},{"$f":"IF(COUNTRY_INFO!C75=0,\" \",COUNTRY_INFO!C75)","v":"Babati District Council"},{"$f":"IF(COUNTRY_INFO!$T$9:$T$1000=\"MDA1 (IVM+ALB)\", COUNTRY_INFO!$T$9:$T$1000, \" \")","v":" "},null,null,null,null,0,null,null,null,0,null," "," "," "]
[{"$f":"IF(COUNTRY_INFO!A76=0,\" \",COUNTRY_INFO!A76)","v":"Tanzania"},{"$f":"IF(COUNTRY_INFO!B76=0,\" \",COUNTRY_INFO!B76)","v":"Manyara"},{"$f":"IF(COUNTRY_INFO!C76=0,\" \",COUNTRY_INFO!C76)","v":"Babati Town Council"},{"$f":"IF(COUNTRY_INFO!$T$9:$T$1000=\"MDA1 (IVM+ALB)\", COUNTRY_INFO!$T$9:$T$1000, \" \")","v":" "},null,null,null,null,0,null,null,null,0,null," "," "," "]
[{"$f":"IF(COUNTRY_INFO!A77=0,\" \",COUNTRY_INFO!A77)","v":"Tanzania"},{"$f":"IF(COUNTRY_INFO!B77=0,\" \",COUNTRY_INFO!B77)","v":"Manyara"},{"$f":"IF(COUNTRY_INFO!C77=0,\" \",COUNTRY_INFO!C77)","v":"Hanang District Council"},{"$f":"IF(COUNTRY_INFO!$T$9:$T$1000=\"MDA1 (IVM+ALB)\", COUNTRY_INFO!$T$9:$T$1000, \" \")","v":" "},null,null,null,null,0,null,null,null,0,null," "," "," "]
[{"$f":"IF(COUNTRY_INFO!A78=0,\" \",COUNTRY_INFO!A78)","v":"Tanzania"},{"$f":"IF(COUNTRY_INFO!B78=0,\" \",COUNTRY_INFO!B78)","v":"Manyara"},{"$f":"IF(COUNTRY_INFO!C78=0,\" \",COUNTRY_INFO!C78)","v":"Kiteto District Council"},{"$f":"IF(COUNTRY_INFO!$T$9:$T$1000=\"MDA1 (IVM+ALB)\", COUNTRY_INFO!$T$9:$T$1000, \" \")","v":" "},null,null,null,null,0,null,null,null,0,null," "," "," "]
[{"$f":"IF(COUNTRY_INFO!A79=0,\" \",COUNTRY_INFO!A79)","v":"Tanzania"},{"$f":"IF(COUNTRY_INFO!B79=0,\" \",COUNTRY_INFO!B79)","v":"Manyara"},{"$f":"IF(COUNTRY_INFO!C79=0,\" \",COUNTRY_INFO!C79)","v":"Mbulu District Council"},{"$f":"IF(COUNTRY_INFO!$T$9:$T$1000=\"MDA1 (IVM+ALB)\", COUNTRY_INFO!$T$9:$T$1000, \" \")","v":" "},null,null,null,null,0,null,null,null,0,null," "," "," "]
[{"$f":"IF(COUNTRY_INFO!A80=0,\" \",COUNTRY_INFO!A80)","v":"Tanzania"},{"$f":"IF(COUNTRY_INFO!B80=0,\" \",COUNTRY_INFO!B80)","v":"Manyara"},{"$f":"IF(COUNTRY_INFO!C80=0,\" \",COUNTRY_INFO!C80)","v":"Mbulu Town Council"},{"$f":"IF(COUNTRY_INFO!$T$9:$T$1000=\"MDA1 (IVM+ALB)\", COUNTRY_INFO!$T$9:$T$1000, \" \")","v":" "},null,null,null,null,0,null,null,null,0,null," "," "," "]
[{"$f":"IF(COUNTRY_INFO!A81=0,\" \",COUNTRY_INFO!A81)","v":"Tanzania"},{"$f":"IF(COUNTRY_INFO!B81=0,\" \",COUNTRY_INFO!B81)","v":"Manyara"},{"$f":"IF(COUNTRY_INFO!C81=0,\" \",COUNTRY_INFO!C81)","v":"Simanjiro District Council"},{"$f":"IF(COUNTRY_INFO!$T$9:$T$1000=\"MDA1 (IVM+ALB)\", COUNTRY_INFO!$T$9:$T$1000, \" \")","v":" "},null,null,null,null,0,null,null,null,0,null," "," "," "]
[{"$f":"IF(COUNTRY_INFO!A82=0,\" \",COUNTRY_INFO!A82)","v":"Tanzania"},{"$f":"IF(COUNTRY_INFO!B82=0,\" \",COUNTRY_INFO!B82)","v":"Mara"},{"$f":"IF(COUNTRY_INFO!C82=0,\" \",COUNTRY_INFO!C82)","v":"Bunda District Council"},{"$f":"IF(COUNTRY_INFO!$T$9:$T$1000=\"MDA1 (IVM+ALB)\", COUNTRY_INFO!$T$9:$T$1000, \" \")","v":" "},null,null,null,null,0,null,null,null,0,null," "," "," "]
[{"$f":"IF(COUNTRY_INFO!A83=0,\" \",COUNTRY_INFO!A83)","v":"Tanzania"},{"$f":"IF(COUNTRY_INFO!B83=0,\" \",COUNTRY_INFO!B83)","v":"Mara"},{"$f":"IF(COUNTRY_INFO!C83=0,\" \",COUNTRY_INFO!C83)","v":"Bunda Town Council"},{"$f":"IF(COUNTRY_INFO!$T$9:$T$1000=\"MDA1 (IVM+ALB)\", COUNTRY_INFO!$T$9:$T$1000, \" \")","v":" "},null,null,null,null,0,null,null,null,0,null," "," "," "]
[{"$f":"IF(COUNTRY_INFO!A84=0,\" \",COUNTRY_INFO!A84)","v":"Tanzania"},{"$f":"IF(COUNTRY_INFO!B84=0,\" \",COUNTRY_INFO!B84)","v":"Mara"},{"$f":"IF(COUNTRY_INFO!C84=0,\" \",COUNTRY_INFO!C84)","v":"Butiama District Council"},{"$f":"IF(COUNTRY_INFO!$T$9:$T$1000=\"MDA1 (IVM+ALB)\", COUNTRY_INFO!$T$9:$T$1000, \" \")","v":" "},null,null,null,null,0,null,null,null,0,null," "," "," "]
[{"$f":"IF(COUNTRY_INFO!A85=0,\" \",COUNTRY_INFO!A85)","v":"Tanzania"},{"$f":"IF(COUNTRY_INFO!B85=0,\" \",COUNTRY_INFO!B85)","v":"Mara"},{"$f":"IF(COUNTRY_INFO!C85=0,\" \",COUNTRY_INFO!C85)","v":"Musoma District Council"},{"$f":"IF(COUNTRY_INFO!$T$9:$T$1000=\"MDA1 (IVM+ALB)\", COUNTRY_INFO!$T$9:$T$1000, \" \")","v":" "},null,null,null,null,0,null,null,null,0,null," "," "," "]
[{"$f":"IF(COUNTRY_INFO!A86=0,\" \",COUNTRY_INFO!A86)","v":"Tanzania"},{"$f":"IF(COUNTRY_INFO!B86=0,\" \",COUNTRY_INFO!B86)","v":"Mara"},{"$f":"IF(COUNTRY_INFO!C86=0,\" \",COUNTRY_INFO!C86)","v":"Musoma Municipal Council"},{"$f":"IF(COUNTRY_INFO!$T$9:$T$1000=\"MDA1 (IVM+ALB)\", COUNTRY_INFO!$T$9:$T$1000, \" \")","v":" "},null,null,null,null,0,null,null,null,0,null," "," "," "]
[{"$f":"IF(COUNTRY_INFO!A87=0,\" \",COUNTRY_INFO!A87)","v":"Tanzania"},{"$f":"IF(COUNTRY_INFO!B87=0,\" \",COUNTRY_INFO!B87)","v":"Mara"},{"$f":"IF(COUNTRY_INFO!C87=0,\" \",COUNTRY_INFO!C87)","v":"Rorya District Council"},{"$f":"IF(COUNTRY_INFO!$T$9:$T$1000=\"MDA1 (IVM+ALB)\", COUNTRY_INFO!$T$9:$T$1000, \" \")","v":" "},null,null,null,null,0,null,null,null,0,null," "," "," "]
[{"$f":"IF(COUNTRY_INFO!A88=0,\" \",COUNTRY_INFO!A88)","v":"Tanzania"},{"$f":"IF(COUNTRY_INFO!B88=0,\" \",COUNTRY_INFO!B88)","v":"Mara"},{"$f":"IF(COUNTRY_INFO!C88=0,\" \",COUNTRY_INFO!C88)","v":"Serengeti District Council"},{"$f":"IF(COUNTRY_INFO!$T$9:$T$1000=\"MDA1 (IVM+ALB)\", COUNTRY_INFO!$T$9:$T$1000, \" \")","v":" "},null,null,null,null,0,null,null,null,0,null," "," "," "]
[{"$f":"IF(COUNTRY_INFO!A89=0,\" \",COUNTRY_INFO!A89)","v":"Tanzania"},{"$f":"IF(COUNTRY_INFO!B89=0,\" \",COUNTRY_INFO!B89)","v":"Mara"},{"$f":"IF(COUNTRY_INFO!C89=0,\" \",COUNTRY_INFO!C89)","v":"Tarime District Council"},{"$f":"IF(COUNTRY_INFO!$T$9:$T$1000=\"MDA1 (IVM+ALB)\", COUNTRY_INFO!$T$9:$T$1000, \" \")","v":" "},null,null,null,null,0,null,null,null,0,null," "," "," "]
[{"$f":"IF(COUNTRY_INFO!A90=0,\" \",COUNTRY_INFO!A90)","v":"Tanzania"},{"$f":"IF(COUNTRY_INFO!B90=0,\" \",COUNTRY_INFO!B90)","v":"Mara"},{"$f":"IF(COUNTRY_INFO!C90=0,\" \",COUNTRY_INFO!C90)","v":"Tarime Town Council"},{"$f":"IF(COUNTRY_INFO!$T$9:$T$1000=\"MDA1 (IVM+ALB)\", COUNTRY_INFO!$T$9:$T$1000, \" \")","v":" "},null,null,null,null,0,null,null,null,0,null," "," "," "]
[{"$f":"IF(COUNTRY_INFO!A91=0,\" \",COUNTRY_INFO!A91)","v":"Tanzania"},{"$f":"IF(COUNTRY_INFO!B91=0,\" \",COUNTRY_INFO!B91)","v":"Mbeya"},{"$f":"IF(COUNTRY_INFO!C91=0,\" \",COUNTRY_INFO!C91)","v":"Busokelo District Council"},{"$f":"IF(COUNTRY_INFO!$T$9:$T$1000=\"MDA1 (IVM+ALB)\", COUNTRY_INFO!$T$9:$T$1000, \" \")","v":" "},null,null,null,null,0,null,null,null,0,null," "," "," "]
[{"$f":"IF(COUNTRY_INFO!A92=0,\" \",COUNTRY_INFO!A92)","v":"Tanzania"},{"$f":"IF(COUNTRY_INFO!B92=0,\" \",COUNTRY_INFO!B92)","v":"Mbeya"},{"$f":"IF(COUNTRY_INFO!C92=0,\" \",COUNTRY_INFO!C92)","v":"Chunya District Council"},{"$f":"IF(COUNTRY_INFO!$T$9:$T$1000=\"MDA1 (IVM+ALB)\", COUNTRY_INFO!$T$9:$T$1000, \" \")","v":" "},null,null,null,null,0,null,null,null,0,null," "," "," "]
[{"$f":"IF(COUNTRY_INFO!A93=0,\" \",COUNTRY_INFO!A93)","v":"Tanzania"},{"$f":"IF(COUNTRY_INFO!B93=0,\" \",COUNTRY_INFO!B93)","v":"Mbeya"},{"$f":"IF(COUNTRY_INFO!C93=0,\" \",COUNTRY_INFO!C93)","v":"Kyela District Council"},{"$f":"IF(COUNTRY_INFO!$T$9:$T$1000=\"MDA1 (IVM+ALB)\", COUNTRY_INFO!$T$9:$T$1000, \" \")","v":" "},null,null,null,null,0,null,null,null,0,null," "," "," "]
[{"$f":"IF(COUNTRY_INFO!A94=0,\" \",COUNTRY_INFO!A94)","v":"Tanzania"},{"$f":"IF(COUNTRY_INFO!B94=0,\" \",COUNTRY_INFO!B94)","v":"Mbeya"},{"$f":"IF(COUNTRY_INFO!C94=0,\" \",COUNTRY_INFO!C94)","v":"Mbarali District Council"},{"$f":"IF(COUNTRY_INFO!$T$9:$T$1000=\"MDA1 (IVM+ALB)\", COUNTRY_INFO!$T$9:$T$1000, \" \")","v":" "},null,null,null,null,0,null,null,null,0,null," "," "," "]
[{"$f":"IF(COUNTRY_INFO!A95=0,\" \",COUNTRY_INFO!A95)","v":"Tanzania"},{"$f":"IF(COUNTRY_INFO!B95=0,\" \",COUNTRY_INFO!B95)","v":"Mbeya"},{"$f":"IF(COUNTRY_INFO!C95=0,\" \",COUNTRY_INFO!C95)","v":"Mbeya City Council"},{"$f":"IF(COUNTRY_INFO!$T$9:$T$1000=\"MDA1 (IVM+ALB)\", COUNTRY_INFO!$T$9:$T$1000, \" \")","v":" "},null,null,null,null,0,null,null,null,0,null," "," "," "]
[{"$f":"IF(COUNTRY_INFO!A96=0,\" \",COUNTRY_INFO!A96)","v":"Tanzania"},{"$f":"IF(COUNTRY_INFO!B96=0,\" \",COUNTRY_INFO!B96)","v":"Mbeya"},{"$f":"IF(COUNTRY_INFO!C96=0,\" \",COUNTRY_INFO!C96)","v":"Mbeya District Council"},{"$f":"IF(COUNTRY_INFO!$T$9:$T$1000=\"MDA1 (IVM+ALB)\", COUNTRY_INFO!$T$9:$T$1000, \" \")","v":" "},null,null,null,null,0,null,null,null,0,null," "," "," "]
[{"$f":"IF(COUNTRY_INFO!A97=0,\" \",COUNTRY_INFO!A97)","v":"Tanzania"},{"$f":"IF(COUNTRY_INFO!B97=0,\" \",COUNTRY_INFO!B97)","v":"Mbeya"},{"$f":"IF(COUNTRY_INFO!C97=0,\" \",COUNTRY_INFO!C97)","v":"Rungwe District Council"},{"$f":"IF(COUNTRY_INFO!$T$9:$T$1000=\"MDA1 (IVM+ALB)\", COUNTRY_INFO!$T$9:$T$1000, \" \")","v":" "},null,null,null,null,0,null,null,null,0,null," "," "," "]
[{"$f":"IF(COUNTRY_INFO!A98=0,\" \",COUNTRY_INFO!A98)","v":"Tanzania"},{"$f":"IF(COUNTRY_INFO!B98=0,\" \",COUNTRY_INFO!B98)","v":"Morogoro"},{"$f":"IF(COUNTRY_INFO!C98=0,\" \",COUNTRY_INFO!C98)","v":"Gairo District Council"},{"$f":"IF(COUNTRY_INFO!$T$9:$T$1000=\"MDA1 (IVM+ALB)\", COUNTRY_INFO!$T$9:$T$1000, \" \")","v":" "},null,null,null,null,0,null,null,null,0,null," "," "," "]
[{"$f":"IF(COUNTRY_INFO!A99=0,\" \",COUNTRY_INFO!A99)","v":"Tanzania"},{"$f":"IF(COUNTRY_INFO!B99=0,\" \",COUNTRY_INFO!B99)","v":"Morogoro"},{"$f":"IF(COUNTRY_INFO!C99=0,\" \",COUNTRY_INFO!C99)","v":"Ifakara Town Council"},{"$f":"IF(COUNTRY_INFO!$T$9:$T$1000=\"MDA1 (IVM+ALB)\", COUNTRY_INFO!$T$9:$T$1000, \" \")","v":"MDA1 (IVM+ALB)"},"June - 2018",null,28074,99948,128022,null,21958.887999999999,93009.111999999994,114968,null,78.217881313671015,93.057501900988498,89.803315055224886]
[{"$f":"IF(COUNTRY_INFO!A100=0,\" \",COUNTRY_INFO!A100)","v":"Tanzania"},{"$f":"IF(COUNTRY_INFO!B100=0,\" \",COUNTRY_INFO!B100)","v":"Morogoro"},{"$f":"IF(COUNTRY_INFO!C100=0,\" \",COUNTRY_INFO!C100)","v":"Kilombero District Council"},{"$f":"IF(COUNTRY_INFO!$T$9:$T$1000=\"MDA1 (IVM+ALB)\", COUNTRY_INFO!$T$9:$T$1000, \" \")","v":"MDA1 (IVM+ALB)"},"June - 2018",null,88142,313806,401948,null,72276.691999999995,306135.30800000002,378412,null,82.000285902294024,97.555594220633139,94.144516206076418]
[{"$f":"IF(COUNTRY_INFO!A101=0,\" \",COUNTRY_INFO!A101)","v":"Tanzania"},{"$f":"IF(COUNTRY_INFO!B101=0,\" \",COUNTRY_INFO!B101)","v":"Morogoro"},{"$f":"IF(COUNTRY_INFO!C101=0,\" \",COUNTRY_INFO!C101)","v":"Kilosa District Council"},{"$f":"IF(COUNTRY_INFO!$T$9:$T$1000=\"MDA1 (IVM+ALB)\", COUNTRY_INFO!$T$9:$T$1000, \" \")","v":"MDA1 (IVM+ALB)"},"Oct - 2018",null,98183,349551,447734,null,81095.161999999997,343486.83799999999,424582,null,82.595930048990155,98.265156729633148,94.82907261901039]
[{"$f":"IF(COUNTRY_INFO!A102=0,\" \",COUNTRY_INFO!A102)","v":"Tanzania"},{"$f":"IF(COUNTRY_INFO!B102=0,\" \",COUNTRY_INFO!B102)","v":"Morogoro"},{"$f":"IF(COUNTRY_INFO!C102=0,\" \",COUNTRY_INFO!C102)","v":"Malinyi District Council"},{"$f":"IF(COUNTRY_INFO!$T$9:$T$1000=\"MDA1 (IVM+ALB)\", COUNTRY_INFO!$T$9:$T$1000, \" \")","v":"MDA1 (IVM+ALB)"},"June - 2018",null,32633,116182,148815,null,28204.206000000002,119461.79399999999,147666,null,86.42848037262894,102.82297946325592,99.227900413264791]
[{"$f":"IF(COUNTRY_INFO!A103=0,\" \",COUNTRY_INFO!A103)","v":"Tanzania"},{"$f":"IF(COUNTRY_INFO!B103=0,\" \",COUNTRY_INFO!B103)","v":"Morogoro"},{"$f":"IF(COUNTRY_INFO!C103=0,\" \",COUNTRY_INFO!C103)","v":"Morogoro District Council"},{"$f":"IF(COUNTRY_INFO!$T$9:$T$1000=\"MDA1 (IVM+ALB)\", COUNTRY_INFO!$T$9:$T$1000, \" \")","v":"MDA1 (IVM+ALB)"},"Sept - 2018",null,63404,225733,289137,null,49147.165000000001,208167.83499999999,257315,null,77.514297205223642,92.218610039294205,88.994144644234396]
[{"$f":"IF(COUNTRY_INFO!A104=0,\" \",COUNTRY_INFO!A104)","v":"Tanzania"},{"$f":"IF(COUNTRY_INFO!B104=0,\" \",COUNTRY_INFO!B104)","v":"Morogoro"},{"$f":"IF(COUNTRY_INFO!C104=0,\" \",COUNTRY_INFO!C104)","v":"Morogoro Municipal Council"},{"$f":"IF(COUNTRY_INFO!$T$9:$T$1000=\"MDA1 (IVM+ALB)\", COUNTRY_INFO!$T$9:$T$1000, \" \")","v":"MDA1 (IVM+ALB)"},"Sept - 2018",null,69965,249089,319054,null,61089.631000000001,258751.36900000001,319841,null,87.3145587079254,103.87908297837321,100.24666670845687]
[{"$f":"IF(COUNTRY_INFO!A105=0,\" \",COUNTRY_INFO!A105)","v":"Tanzania"},{"$f":"IF(COUNTRY_INFO!B105=0,\" \",COUNTRY_INFO!B105)","v":"Morogoro"},{"$f":"IF(COUNTRY_INFO!C105=0,\" \",COUNTRY_INFO!C105)","v":"Mvomero District Council"},{"$f":"IF(COUNTRY_INFO!$T$9:$T$1000=\"MDA1 (IVM+ALB)\", COUNTRY_INFO!$T$9:$T$1000, \" \")","v":"MDA1 (IVM+ALB)"},"Sept - 2018",null,69397,247068,316465,null,56296.294999999998,238448.70500000002,294745,null,81.122087410118596,96.511367315880662,93.136681781555623]
[{"$f":"IF(COUNTRY_INFO!A106=0,\" \",COUNTRY_INFO!A106)","v":"Tanzania"},{"$f":"IF(COUNTRY_INFO!B106=0,\" \",COUNTRY_INFO!B106)","v":"Morogoro"},{"$f":"IF(COUNTRY_INFO!C106=0,\" \",COUNTRY_INFO!C106)","v":"Ulanga District Council"},{"$f":"IF(COUNTRY_INFO!$T$9:$T$1000=\"MDA1 (IVM+ALB)\", COUNTRY_INFO!$T$9:$T$1000, \" \")","v":"MDA1 (IVM+ALB)"},"June - 2018",null,38038,135423,173461,null,33845.199999999997,143354.79999999999,177200,null,88.977338451022661,105.85705530079824,102.15552775551853]
[{"$f":"IF(COUNTRY_INFO!A107=0,\" \",COUNTRY_INFO!A107)","v":"Tanzania"},{"$f":"IF(COUNTRY_INFO!B107=0,\" \",COUNTRY_INFO!B107)","v":"Mtwara"},{"$f":"IF(COUNTRY_INFO!C107=0,\" \",COUNTRY_INFO!C107)","v":"Masasi District Council"},{"$f":"IF(COUNTRY_INFO!$T$9:$T$1000=\"MDA1 (IVM+ALB)\", COUNTRY_INFO!$T$9:$T$1000, \" \")","v":"MDA1 (IVM+ALB)"},"Nov - 2018",null,53038,188828,241866,null,47573.325000000004,201501.67499999999,249075,null,89.696679739055028,106.71175620141081,102.98057602143335]
[{"$f":"IF(COUNTRY_INFO!A108=0,\" \",COUNTRY_INFO!A108)","v":"Tanzania"},{"$f":"IF(COUNTRY_INFO!B108=0,\" \",COUNTRY_INFO!B108)","v":"Mtwara"},{"$f":"IF(COUNTRY_INFO!C108=0,\" \",COUNTRY_INFO!C108)","v":"Masasi Town Council"},{"$f":"IF(COUNTRY_INFO!$T$9:$T$1000=\"MDA1 (IVM+ALB)\", COUNTRY_INFO!$T$9:$T$1000, \" \")","v":" "},null,null,null,null,0,null,null,null,0,null," "," "," "]
[{"$f":"IF(COUNTRY_INFO!A109=0,\" \",COUNTRY_INFO!A109)","v":"Tanzania"},{"$f":"IF(COUNTRY_INFO!B109=0,\" \",COUNTRY_INFO!B109)","v":"Mtwara"},{"$f":"IF(COUNTRY_INFO!C109=0,\" \",COUNTRY_INFO!C109)","v":"Mtwara District Council"},{"$f":"IF(COUNTRY_INFO!$T$9:$T$1000=\"MDA1 (IVM+ALB)\", COUNTRY_INFO!$T$9:$T$1000, \" \")","v":" "},null,null,null,null,0,null,null,null,0,null," "," "," "]
[{"$f":"IF(COUNTRY_INFO!A110=0,\" \",COUNTRY_INFO!A110)","v":"Tanzania"},{"$f":"IF(COUNTRY_INFO!B110=0,\" \",COUNTRY_INFO!B110)","v":"Mtwara"},{"$f":"IF(COUNTRY_INFO!C110=0,\" \",COUNTRY_INFO!C110)","v":"Mtwara-Mikindani Municipal Council"},{"$f":"IF(COUNTRY_INFO!$T$9:$T$1000=\"MDA1 (IVM+ALB)\", COUNTRY_INFO!$T$9:$T$1000, \" \")","v":"MDA1 (IVM+ALB)"},"Sept - 2018",null,27277,97111,124388,null,22959.346000000001,97246.653999999995,120206,null,84.171081863841337,100.13968963351216,96.637939351062812]
[{"$f":"IF(COUNTRY_INFO!A111=0,\" \",COUNTRY_INFO!A111)","v":"Tanzania"},{"$f":"IF(COUNTRY_INFO!B111=0,\" \",COUNTRY_INFO!B111)","v":"Mtwara"},{"$f":"IF(COUNTRY_INFO!C111=0,\" \",COUNTRY_INFO!C111)","v":"Nanyamba District Council"},{"$f":"IF(COUNTRY_INFO!$T$9:$T$1000=\"MDA1 (IVM+ALB)\", COUNTRY_INFO!$T$9:$T$1000, \" \")","v":" "},null,null,null,null,0,null,null,null,0,null," "," "," "]
[{"$f":"IF(COUNTRY_INFO!A112=0,\" \",COUNTRY_INFO!A112)","v":"Tanzania"},{"$f":"IF(COUNTRY_INFO!B112=0,\" \",COUNTRY_INFO!B112)","v":"Mtwara"},{"$f":"IF(COUNTRY_INFO!C112=0,\" \",COUNTRY_INFO!C112)","v":"Nanyumbu District Council"},{"$f":"IF(COUNTRY_INFO!$T$9:$T$1000=\"MDA1 (IVM+ALB)\", COUNTRY_INFO!$T$9:$T$1000, \" \")","v":" "},null,null,null,null,0,null,null,null,0,null," "," "," "]
[{"$f":"IF(COUNTRY_INFO!A113=0,\" \",COUNTRY_INFO!A113)","v":"Tanzania"},{"$f":"IF(COUNTRY_INFO!B113=0,\" \",COUNTRY_INFO!B113)","v":"Mtwara"},{"$f":"IF(COUNTRY_INFO!C113=0,\" \",COUNTRY_INFO!C113)","v":"Newala District Council"},{"$f":"IF(COUNTRY_INFO!$T$9:$T$1000=\"MDA1 (IVM+ALB)\", COUNTRY_INFO!$T$9:$T$1000, \" \")","v":" "},null,null,null,null,0,null,null,null,0,null," "," "," "]
[{"$f":"IF(COUNTRY_INFO!A114=0,\" \",COUNTRY_INFO!A114)","v":"Tanzania"},{"$f":"IF(COUNTRY_INFO!B114=0,\" \",COUNTRY_INFO!B114)","v":"Mtwara"},{"$f":"IF(COUNTRY_INFO!C114=0,\" \",COUNTRY_INFO!C114)","v":"Newala Town Council"},{"$f":"IF(COUNTRY_INFO!$T$9:$T$1000=\"MDA1 (IVM+ALB)\", COUNTRY_INFO!$T$9:$T$1000, \" \")","v":" "},null,null,null,null,0,null,null,null,0,null," "," "," "]
[{"$f":"IF(COUNTRY_INFO!A115=0,\" \",COUNTRY_INFO!A115)","v":"Tanzania"},{"$f":"IF(COUNTRY_INFO!B115=0,\" \",COUNTRY_INFO!B115)","v":"Mtwara"},{"$f":"IF(COUNTRY_INFO!C115=0,\" \",COUNTRY_INFO!C115)","v":"Tandahimba District Council"},{"$f":"IF(COUNTRY_INFO!$T$9:$T$1000=\"MDA1 (IVM+ALB)\", COUNTRY_INFO!$T$9:$T$1000, \" \")","v":" "},null,null,null,null,0,null,null,null,0,null," "," "," "]
[{"$f":"IF(COUNTRY_INFO!A116=0,\" \",COUNTRY_INFO!A116)","v":"Tanzania"},{"$f":"IF(COUNTRY_INFO!B116=0,\" \",COUNTRY_INFO!B116)","v":"Mwanza"},{"$f":"IF(COUNTRY_INFO!C116=0,\" \",COUNTRY_INFO!C116)","v":"Buchosa District Council"},{"$f":"IF(COUNTRY_INFO!$T$9:$T$1000=\"MDA1 (IVM+ALB)\", COUNTRY_INFO!$T$9:$T$1000, \" \")","v":" "},null,null,null,null,0,null,null,null,0,null," "," "," "]
[{"$f":"IF(COUNTRY_INFO!A117=0,\" \",COUNTRY_INFO!A117)","v":"Tanzania"},{"$f":"IF(COUNTRY_INFO!B117=0,\" \",COUNTRY_INFO!B117)","v":"Mwanza"},{"$f":"IF(COUNTRY_INFO!C117=0,\" \",COUNTRY_INFO!C117)","v":"Ilemela Municipal Council"},{"$f":"IF(COUNTRY_INFO!$T$9:$T$1000=\"MDA1 (IVM+ALB)\", COUNTRY_INFO!$T$9:$T$1000, \" \")","v":" "},null,null,null,null,0,null,null,null,0,null," "," "," "]
[{"$f":"IF(COUNTRY_INFO!A118=0,\" \",COUNTRY_INFO!A118)","v":"Tanzania"},{"$f":"IF(COUNTRY_INFO!B118=0,\" \",COUNTRY_INFO!B118)","v":"Mwanza"},{"$f":"IF(COUNTRY_INFO!C118=0,\" \",COUNTRY_INFO!C118)","v":"Kwimba District Council"},{"$f":"IF(COUNTRY_INFO!$T$9:$T$1000=\"MDA1 (IVM+ALB)\", COUNTRY_INFO!$T$9:$T$1000, \" \")","v":" "},null,null,null,null,0,null,null,null,0,null," "," "," "]
[{"$f":"IF(COUNTRY_INFO!A119=0,\" \",COUNTRY_INFO!A119)","v":"Tanzania"},{"$f":"IF(COUNTRY_INFO!B119=0,\" \",COUNTRY_INFO!B119)","v":"Mwanza"},{"$f":"IF(COUNTRY_INFO!C119=0,\" \",COUNTRY_INFO!C119)","v":"Magu District Council"},{"$f":"IF(COUNTRY_INFO!$T$9:$T$1000=\"MDA1 (IVM+ALB)\", COUNTRY_INFO!$T$9:$T$1000, \" \")","v":" "},null,null,null,null,0,null,null,null,0,null," "," "," "]
[{"$f":"IF(COUNTRY_INFO!A120=0,\" \",COUNTRY_INFO!A120)","v":"Tanzania"},{"$f":"IF(COUNTRY_INFO!B120=0,\" \",COUNTRY_INFO!B120)","v":"Mwanza"},{"$f":"IF(COUNTRY_INFO!C120=0,\" \",COUNTRY_INFO!C120)","v":"Misungwi District Council"},{"$f":"IF(COUNTRY_INFO!$T$9:$T$1000=\"MDA1 (IVM+ALB)\", COUNTRY_INFO!$T$9:$T$1000, \" \")","v":" "},null,null,null,null,0,null,null,null,0,null," "," "," "]
[{"$f":"IF(COUNTRY_INFO!A121=0,\" \",COUNTRY_INFO!A121)","v":"Tanzania"},{"$f":"IF(COUNTRY_INFO!B121=0,\" \",COUNTRY_INFO!B121)","v":"Mwanza"},{"$f":"IF(COUNTRY_INFO!C121=0,\" \",COUNTRY_INFO!C121)","v":"Mwanza-Nyamagana City Council"},{"$f":"IF(COUNTRY_INFO!$T$9:$T$1000=\"MDA1 (IVM+ALB)\", COUNTRY_INFO!$T$9:$T$1000, \" \")","v":" "},null,null,null,null,0,null,null,null,0,null," "," "," "]
[{"$f":"IF(COUNTRY_INFO!A122=0,\" \",COUNTRY_INFO!A122)","v":"Tanzania"},{"$f":"IF(COUNTRY_INFO!B122=0,\" \",COUNTRY_INFO!B122)","v":"Mwanza"},{"$f":"IF(COUNTRY_INFO!C122=0,\" \",COUNTRY_INFO!C122)","v":"Sengerema District Council"},{"$f":"IF(COUNTRY_INFO!$T$9:$T$1000=\"MDA1 (IVM+ALB)\", COUNTRY_INFO!$T$9:$T$1000, \" \")","v":" "},null,null,null,null,0,null,null,null,0,null," "," "," "]
[{"$f":"IF(COUNTRY_INFO!A123=0,\" \",COUNTRY_INFO!A123)","v":"Tanzania"},{"$f":"IF(COUNTRY_INFO!B123=0,\" \",COUNTRY_INFO!B123)","v":"Mwanza"},{"$f":"IF(COUNTRY_INFO!C123=0,\" \",COUNTRY_INFO!C123)","v":"Ukerewe District Council"},{"$f":"IF(COUNTRY_INFO!$T$9:$T$1000=\"MDA1 (IVM+ALB)\", COUNTRY_INFO!$T$9:$T$1000, \" \")","v":" "},null,null,null,null,0,null,null,null,0,null," "," "," "]
[{"$f":"IF(COUNTRY_INFO!A124=0,\" \",COUNTRY_INFO!A124)","v":"Tanzania"},{"$f":"IF(COUNTRY_INFO!B124=0,\" \",COUNTRY_INFO!B124)","v":"Njombe"},{"$f":"IF(COUNTRY_INFO!C124=0,\" \",COUNTRY_INFO!C124)","v":"Ludewa District Council"},{"$f":"IF(COUNTRY_INFO!$T$9:$T$1000=\"MDA1 (IVM+ALB)\", COUNTRY_INFO!$T$9:$T$1000, \" \")","v":" "},null,null,null,null,0,null,null,null,0,null," "," "," "]
[{"$f":"IF(COUNTRY_INFO!A125=0,\" \",COUNTRY_INFO!A125)","v":"Tanzania"},{"$f":"IF(COUNTRY_INFO!B125=0,\" \",COUNTRY_INFO!B125)","v":"Njombe"},{"$f":"IF(COUNTRY_INFO!C125=0,\" \",COUNTRY_INFO!C125)","v":"Makambako Town Council"},{"$f":"IF(COUNTRY_INFO!$T$9:$T$1000=\"MDA1 (IVM+ALB)\", COUNTRY_INFO!$T$9:$T$1000, \" \")","v":" "},null,null,null,null,0,null,null,null,0,null," "," "," "]
[{"$f":"IF(COUNTRY_INFO!A126=0,\" \",COUNTRY_INFO!A126)","v":"Tanzania"},{"$f":"IF(COUNTRY_INFO!B126=0,\" \",COUNTRY_INFO!B126)","v":"Njombe"},{"$f":"IF(COUNTRY_INFO!C126=0,\" \",COUNTRY_INFO!C126)","v":"Makete District Council"},{"$f":"IF(COUNTRY_INFO!$T$9:$T$1000=\"MDA1 (IVM+ALB)\", COUNTRY_INFO!$T$9:$T$1000, \" \")","v":" "},null,null,null,null,0,null,null,null,0,null," "," "," "]
[{"$f":"IF(COUNTRY_INFO!A127=0,\" \",COUNTRY_INFO!A127)","v":"Tanzania"},{"$f":"IF(COUNTRY_INFO!B127=0,\" \",COUNTRY_INFO!B127)","v":"Njombe"},{"$f":"IF(COUNTRY_INFO!C127=0,\" \",COUNTRY_INFO!C127)","v":"Njombe District Council"},{"$f":"IF(COUNTRY_INFO!$T$9:$T$1000=\"MDA1 (IVM+ALB)\", COUNTRY_INFO!$T$9:$T$1000, \" \")","v":" "},null,null,null,null,0,null,null,null,0,null," "," "," "]
[{"$f":"IF(COUNTRY_INFO!A128=0,\" \",COUNTRY_INFO!A128)","v":"Tanzania"},{"$f":"IF(COUNTRY_INFO!B128=0,\" \",COUNTRY_INFO!B128)","v":"Njombe"},{"$f":"IF(COUNTRY_INFO!C128=0,\" \",COUNTRY_INFO!C128)","v":"Njombe Town Council"},{"$f":"IF(COUNTRY_INFO!$T$9:$T$1000=\"MDA1 (IVM+ALB)\", COUNTRY_INFO!$T$9:$T$1000, \" \")","v":" "},null,null,null,null,0,null,null,null,0,null," "," "," "]
[{"$f":"IF(COUNTRY_INFO!A129=0,\" \",COUNTRY_INFO!A129)","v":"Tanzania"},{"$f":"IF(COUNTRY_INFO!B129=0,\" \",COUNTRY_INFO!B129)","v":"Njombe"},{"$f":"IF(COUNTRY_INFO!C129=0,\" \",COUNTRY_INFO!C129)","v":"Wanging'ombe District Council"},{"$f":"IF(COUNTRY_INFO!$T$9:$T$1000=\"MDA1 (IVM+ALB)\", COUNTRY_INFO!$T$9:$T$1000, \" \")","v":" "},null,null,null,null,0,null,null,null,0,null," "," "," "]
[{"$f":"IF(COUNTRY_INFO!A130=0,\" \",COUNTRY_INFO!A130)","v":"Tanzania"},{"$f":"IF(COUNTRY_INFO!B130=0,\" \",COUNTRY_INFO!B130)","v":"Pwani"},{"$f":"IF(COUNTRY_INFO!C130=0,\" \",COUNTRY_INFO!C130)","v":"Bagamoyo District Council"},{"$f":"IF(COUNTRY_INFO!$T$9:$T$1000=\"MDA1 (IVM+ALB)\", COUNTRY_INFO!$T$9:$T$1000, \" \")","v":" "},null,null,null,null,0,null,null,null,0,null," "," "," "]
[{"$f":"IF(COUNTRY_INFO!A131=0,\" \",COUNTRY_INFO!A131)","v":"Tanzania"},{"$f":"IF(COUNTRY_INFO!B131=0,\" \",COUNTRY_INFO!B131)","v":"Pwani"},{"$f":"IF(COUNTRY_INFO!C131=0,\" \",COUNTRY_INFO!C131)","v":"Chalinze District Council"},{"$f":"IF(COUNTRY_INFO!$T$9:$T$1000=\"MDA1 (IVM+ALB)\", COUNTRY_INFO!$T$9:$T$1000, \" \")","v":" "},null,null,null,null,0,null,null,null,0,null," "," "," "]
[{"$f":"IF(COUNTRY_INFO!A132=0,\" \",COUNTRY_INFO!A132)","v":"Tanzania"},{"$f":"IF(COUNTRY_INFO!B132=0,\" \",COUNTRY_INFO!B132)","v":"Pwani"},{"$f":"IF(COUNTRY_INFO!C132=0,\" \",COUNTRY_INFO!C132)","v":"Kibaha District Council"},{"$f":"IF(COUNTRY_INFO!$T$9:$T$1000=\"MDA1 (IVM+ALB)\", COUNTRY_INFO!$T$9:$T$1000, \" \")","v":"MDA1 (IVM+ALB)"},"Sept - 2018",null,15280,54401,69681,null,12731.105,53923.895000000004,66655,null,83.318749999999994,99.122984871601631,95.657352793444403]
[{"$f":"IF(COUNTRY_INFO!A133=0,\" \",COUNTRY_INFO!A133)","v":"Tanzania"},{"$f":"IF(COUNTRY_INFO!B133=0,\" \",COUNTRY_INFO!B133)","v":"Pwani"},{"$f":"IF(COUNTRY_INFO!C133=0,\" \",COUNTRY_INFO!C133)","v":"Kibaha Town Council"},{"$f":"IF(COUNTRY_INFO!$T$9:$T$1000=\"MDA1 (IVM+ALB)\", COUNTRY_INFO!$T$9:$T$1000, \" \")","v":" "},null,null,null,null,0,null,null,null,0,null," "," "," "]
[{"$f":"IF(COUNTRY_INFO!A134=0,\" \",COUNTRY_INFO!A134)","v":"Tanzania"},{"$f":"IF(COUNTRY_INFO!B134=0,\" \",COUNTRY_INFO!B134)","v":"Pwani"},{"$f":"IF(COUNTRY_INFO!C134=0,\" \",COUNTRY_INFO!C134)","v":"Kibiti District Council"},{"$f":"IF(COUNTRY_INFO!$T$9:$T$1000=\"MDA1 (IVM+ALB)\", COUNTRY_INFO!$T$9:$T$1000, \" \")","v":" "},null,null,null,null,0,null,null,null,0,null," "," "," "]
[{"$f":"IF(COUNTRY_INFO!A135=0,\" \",COUNTRY_INFO!A135)","v":"Tanzania"},{"$f":"IF(COUNTRY_INFO!B135=0,\" \",COUNTRY_INFO!B135)","v":"Pwani"},{"$f":"IF(COUNTRY_INFO!C135=0,\" \",COUNTRY_INFO!C135)","v":"Kisarawe District Council"},{"$f":"IF(COUNTRY_INFO!$T$9:$T$1000=\"MDA1 (IVM+ALB)\", COUNTRY_INFO!$T$9:$T$1000, \" \")","v":" "},null,null,null,null,0,null,null,null,0,null," "," "," "]
[{"$f":"IF(COUNTRY_INFO!A136=0,\" \",COUNTRY_INFO!A136)","v":"Tanzania"},{"$f":"IF(COUNTRY_INFO!B136=0,\" \",COUNTRY_INFO!B136)","v":"Pwani"},{"$f":"IF(COUNTRY_INFO!C136=0,\" \",COUNTRY_INFO!C136)","v":"Mafia District Council"},{"$f":"IF(COUNTRY_INFO!$T$9:$T$1000=\"MDA1 (IVM+ALB)\", COUNTRY_INFO!$T$9:$T$1000, \" \")","v":"MDA1 (IVM+ALB)"},"Nov - 2018",null,10107,35982,46089,null,8240.3130000000001,34902.686999999998,43143,null,81.530750964677949,97.000408537602141,93.608019267070233]
[{"$f":"IF(COUNTRY_INFO!A137=0,\" \",COUNTRY_INFO!A137)","v":"Tanzania"},{"$f":"IF(COUNTRY_INFO!B137=0,\" \",COUNTRY_INFO!B137)","v":"Pwani"},{"$f":"IF(COUNTRY_INFO!C137=0,\" \",COUNTRY_INFO!C137)","v":"Mkuranga District Council"},{"$f":"IF(COUNTRY_INFO!$T$9:$T$1000=\"MDA1 (IVM+ALB)\", COUNTRY_INFO!$T$9:$T$1000, \" \")","v":" "},null,null,null,null,0,null,null,null,0,null," "," "," "]
[{"$f":"IF(COUNTRY_INFO!A138=0,\" \",COUNTRY_INFO!A138)","v":"Tanzania"},{"$f":"IF(COUNTRY_INFO!B138=0,\" \",COUNTRY_INFO!B138)","v":"Pwani"},{"$f":"IF(COUNTRY_INFO!C138=0,\" \",COUNTRY_INFO!C138)","v":"Rufiji District Council"},{"$f":"IF(COUNTRY_INFO!$T$9:$T$1000=\"MDA1 (IVM+ALB)\", COUNTRY_INFO!$T$9:$T$1000, \" \")","v":" "},null,null,null,null,{"$f":"SUM(F138:H138)","v":0},null,null,null,{"$f":"SUM(J138:L138)","v":0},null,{"$f":"IF(G138<>0, IF(K138/G138*100=0, \"-\", K138/G138*100), \" \")","v":" "},{"$f":"IF(H138<>0, IF(L138/H138*100=0, \"-\", L138/H138*100), \" \")","v":" "},{"$f":"IF(I138<>0, IF(M138/I138*100=0, \"-\", M138/I138*100), \" \")","v":" "}]
[{"$f":"IF(COUNTRY_INFO!A139=0,\" \",COUNTRY_INFO!A139)","v":"Tanzania"},{"$f":"IF(COUNTRY_INFO!B139=0,\" \",COUNTRY_INFO!B139)","v":"Rukwa"},{"$f":"IF(COUNTRY_INFO!C139=0,\" \",COUNTRY_INFO!C139)","v":"Kalambo District Council"},{"$f":"IF(COUNTRY_INFO!$T$9:$T$1000=\"MDA1 (IVM+ALB)\", COUNTRY_INFO!$T$9:$T$1000, \" \")","v":" "},null,null,null,null,0,null,null,null,0,null," "," "," "]
[{"$f":"IF(COUNTRY_INFO!A140=0,\" \",COUNTRY_INFO!A140)","v":"Tanzania"},{"$f":"IF(COUNTRY_INFO!B140=0,\" \",COUNTRY_INFO!B140)","v":"Rukwa"},{"$f":"IF(COUNTRY_INFO!C140=0,\" \",COUNTRY_INFO!C140)","v":"Nkasi District Council"},{"$f":"IF(COUNTRY_INFO!$T$9:$T$1000=\"MDA1 (IVM+ALB)\", COUNTRY_INFO!$T$9:$T$1000, \" \")","v":" "},null,null,null,null,0,null,null,null,0,null," "," "," "]
[{"$f":"IF(COUNTRY_INFO!A141=0,\" \",COUNTRY_INFO!A141)","v":"Tanzania"},{"$f":"IF(COUNTRY_INFO!B141=0,\" \",COUNTRY_INFO!B141)","v":"Rukwa"},{"$f":"IF(COUNTRY_INFO!C141=0,\" \",COUNTRY_INFO!C141)","v":"Sumbawanga District Council"},{"$f":"IF(COUNTRY_INFO!$T$9:$T$1000=\"MDA1 (IVM+ALB)\", COUNTRY_INFO!$T$9:$T$1000, \" \")","v":" "},null,null,null,null,0,null,null,null,0,null," "," "," "]
[{"$f":"IF(COUNTRY_INFO!A142=0,\" \",COUNTRY_INFO!A142)","v":"Tanzania"},{"$f":"IF(COUNTRY_INFO!B142=0,\" \",COUNTRY_INFO!B142)","v":"Rukwa"},{"$f":"IF(COUNTRY_INFO!C142=0,\" \",COUNTRY_INFO!C142)","v":"Sumbawanga Municipal Council"},{"$f":"IF(COUNTRY_INFO!$T$9:$T$1000=\"MDA1 (IVM+ALB)\", COUNTRY_INFO!$T$9:$T$1000, \" \")","v":" "},null,null,null,null,0,null,null,null,0,null," "," "," "]
[{"$f":"IF(COUNTRY_INFO!A143=0,\" \",COUNTRY_INFO!A143)","v":"Tanzania"},{"$f":"IF(COUNTRY_INFO!B143=0,\" \",COUNTRY_INFO!B143)","v":"Ruvuma"},{"$f":"IF(COUNTRY_INFO!C143=0,\" \",COUNTRY_INFO!C143)","v":"Madaba District Council"},{"$f":"IF(COUNTRY_INFO!$T$9:$T$1000=\"MDA1 (IVM+ALB)\", COUNTRY_INFO!$T$9:$T$1000, \" \")","v":" "},null,null,null,null,0,null,null,null,0,null," "," "," "]
[{"$f":"IF(COUNTRY_INFO!A144=0,\" \",COUNTRY_INFO!A144)","v":"Tanzania"},{"$f":"IF(COUNTRY_INFO!B144=0,\" \",COUNTRY_INFO!B144)","v":"Ruvuma"},{"$f":"IF(COUNTRY_INFO!C144=0,\" \",COUNTRY_INFO!C144)","v":"Mbinga District Council"},{"$f":"IF(COUNTRY_INFO!$T$9:$T$1000=\"MDA1 (IVM+ALB)\", COUNTRY_INFO!$T$9:$T$1000, \" \")","v":" "},null,null,null,null,0,null,null,null,0,null," "," "," "]
[{"$f":"IF(COUNTRY_INFO!A145=0,\" \",COUNTRY_INFO!A145)","v":"Tanzania"},{"$f":"IF(COUNTRY_INFO!B145=0,\" \",COUNTRY_INFO!B145)","v":"Ruvuma"},{"$f":"IF(COUNTRY_INFO!C145=0,\" \",COUNTRY_INFO!C145)","v":"Mbinga Town Council"},{"$f":"IF(COUNTRY_INFO!$T$9:$T$1000=\"MDA1 (IVM+ALB)\", COUNTRY_INFO!$T$9:$T$1000, \" \")","v":" "},null,null,null,null,0,null,null,null,0,null," "," "," "]
[{"$f":"IF(COUNTRY_INFO!A146=0,\" \",COUNTRY_INFO!A146)","v":"Tanzania"},{"$f":"IF(COUNTRY_INFO!B146=0,\" \",COUNTRY_INFO!B146)","v":"Ruvuma"},{"$f":"IF(COUNTRY_INFO!C146=0,\" \",COUNTRY_INFO!C146)","v":"Namtumbo District Council"},{"$f":"IF(COUNTRY_INFO!$T$9:$T$1000=\"MDA1 (IVM+ALB)\", COUNTRY_INFO!$T$9:$T$1000, \" \")","v":" "},null,null,null,null,0,null,null,null,0,null," "," "," "]
[{"$f":"IF(COUNTRY_INFO!A147=0,\" \",COUNTRY_INFO!A147)","v":"Tanzania"},{"$f":"IF(COUNTRY_INFO!B147=0,\" \",COUNTRY_INFO!B147)","v":"Ruvuma"},{"$f":"IF(COUNTRY_INFO!C147=0,\" \",COUNTRY_INFO!C147)","v":"Nyasa District Council"},{"$f":"IF(COUNTRY_INFO!$T$9:$T$1000=\"MDA1 (IVM+ALB)\", COUNTRY_INFO!$T$9:$T$1000, \" \")","v":" "},null,null,null,null,0,null,null,null,0,null," "," "," "]
[{"$f":"IF(COUNTRY_INFO!A148=0,\" \",COUNTRY_INFO!A148)","v":"Tanzania"},{"$f":"IF(COUNTRY_INFO!B148=0,\" \",COUNTRY_INFO!B148)","v":"Ruvuma"},{"$f":"IF(COUNTRY_INFO!C148=0,\" \",COUNTRY_INFO!C148)","v":"Songea District Council"},{"$f":"IF(COUNTRY_INFO!$T$9:$T$1000=\"MDA1 (IVM+ALB)\", COUNTRY_INFO!$T$9:$T$1000, \" \")","v":" "},null,null,null,null,0,null,null,null,0,null," "," "," "]
[{"$f":"IF(COUNTRY_INFO!A149=0,\" \",COUNTRY_INFO!A149)","v":"Tanzania"},{"$f":"IF(COUNTRY_INFO!B149=0,\" \",COUNTRY_INFO!B149)","v":"Ruvuma"},{"$f":"IF(COUNTRY_INFO!C149=0,\" \",COUNTRY_INFO!C149)","v":"Songea Municipal Council"},{"$f":"IF(COUNTRY_INFO!$T$9:$T$1000=\"MDA1 (IVM+ALB)\", COUNTRY_INFO!$T$9:$T$1000, \" \")","v":" "},null,null,null,null,0,null,null,null,0,null," "," "," "]
[{"$f":"IF(COUNTRY_INFO!A150=0,\" \",COUNTRY_INFO!A150)","v":"Tanzania"},{"$f":"IF(COUNTRY_INFO!B150=0,\" \",COUNTRY_INFO!B150)","v":"Ruvuma"},{"$f":"IF(COUNTRY_INFO!C150=0,\" \",COUNTRY_INFO!C150)","v":"Tunduru District Council"},{"$f":"IF(COUNTRY_INFO!$T$9:$T$1000=\"MDA1 (IVM+ALB)\", COUNTRY_INFO!$T$9:$T$1000, \" \")","v":" "},null,null,null,null,0,null,null,null,0,null," "," "," "]
[{"$f":"IF(COUNTRY_INFO!A151=0,\" \",COUNTRY_INFO!A151)","v":"Tanzania"},{"$f":"IF(COUNTRY_INFO!B151=0,\" \",COUNTRY_INFO!B151)","v":"Shinyanga"},{"$f":"IF(COUNTRY_INFO!C151=0,\" \",COUNTRY_INFO!C151)","v":"Kahama Town Council"},{"$f":"IF(COUNTRY_INFO!$T$9:$T$1000=\"MDA1 (IVM+ALB)\", COUNTRY_INFO!$T$9:$T$1000, \" \")","v":" "},null,null,null,null,0,null,null,null,0,null," "," "," "]
[{"$f":"IF(COUNTRY_INFO!A152=0,\" \",COUNTRY_INFO!A152)","v":"Tanzania"},{"$f":"IF(COUNTRY_INFO!B152=0,\" \",COUNTRY_INFO!B152)","v":"Shinyanga"},{"$f":"IF(COUNTRY_INFO!C152=0,\" \",COUNTRY_INFO!C152)","v":"Kishapu District Council"},{"$f":"IF(COUNTRY_INFO!$T$9:$T$1000=\"MDA1 (IVM+ALB)\", COUNTRY_INFO!$T$9:$T$1000, \" \")","v":" "},null,null,null,null,0,null,null,null,0,null," "," "," "]
[{"$f":"IF(COUNTRY_INFO!A153=0,\" \",COUNTRY_INFO!A153)","v":"Tanzania"},{"$f":"IF(COUNTRY_INFO!B153=0,\" \",COUNTRY_INFO!B153)","v":"Shinyanga"},{"$f":"IF(COUNTRY_INFO!C153=0,\" \",COUNTRY_INFO!C153)","v":"Msalala District Council"},{"$f":"IF(COUNTRY_INFO!$T$9:$T$1000=\"MDA1 (IVM+ALB)\", COUNTRY_INFO!$T$9:$T$1000, \" \")","v":" "},null,null,null,null,0,null,null,null,0,null," "," "," "]
[{"$f":"IF(COUNTRY_INFO!A154=0,\" \",COUNTRY_INFO!A154)","v":"Tanzania"},{"$f":"IF(COUNTRY_INFO!B154=0,\" \",COUNTRY_INFO!B154)","v":"Shinyanga"},{"$f":"IF(COUNTRY_INFO!C154=0,\" \",COUNTRY_INFO!C154)","v":"Shinyanga District Council"},{"$f":"IF(COUNTRY_INFO!$T$9:$T$1000=\"MDA1 (IVM+ALB)\", COUNTRY_INFO!$T$9:$T$1000, \" \")","v":" "},null,null,null,null,0,null,null,null,0,null," "," "," "]
[{"$f":"IF(COUNTRY_INFO!A155=0,\" \",COUNTRY_INFO!A155)","v":"Tanzania"},{"$f":"IF(COUNTRY_INFO!B155=0,\" \",COUNTRY_INFO!B155)","v":"Shinyanga"},{"$f":"IF(COUNTRY_INFO!C155=0,\" \",COUNTRY_INFO!C155)","v":"Shinyanga Municipal Council"},{"$f":"IF(COUNTRY_INFO!$T$9:$T$1000=\"MDA1 (IVM+ALB)\", COUNTRY_INFO!$T$9:$T$1000, \" \")","v":" "},null,null,null,null,0,null,null,null,0,null," "," "," "]
[{"$f":"IF(COUNTRY_INFO!A156=0,\" \",COUNTRY_INFO!A156)","v":"Tanzania"},{"$f":"IF(COUNTRY_INFO!B156=0,\" \",COUNTRY_INFO!B156)","v":"Shinyanga"},{"$f":"IF(COUNTRY_INFO!C156=0,\" \",COUNTRY_INFO!C156)","v":"Ushetu District Council"},{"$f":"IF(COUNTRY_INFO!$T$9:$T$1000=\"MDA1 (IVM+ALB)\", COUNTRY_INFO!$T$9:$T$1000, \" \")","v":" "},null,null,null,null,0,null,null,null,0,null," "," "," "]
[{"$f":"IF(COUNTRY_INFO!A157=0,\" \",COUNTRY_INFO!A157)","v":"Tanzania"},{"$f":"IF(COUNTRY_INFO!B157=0,\" \",COUNTRY_INFO!B157)","v":"Simiyu"},{"$f":"IF(COUNTRY_INFO!C157=0,\" \",COUNTRY_INFO!C157)","v":"Bariadi District Council"},{"$f":"IF(COUNTRY_INFO!$T$9:$T$1000=\"MDA1 (IVM+ALB)\", COUNTRY_INFO!$T$9:$T$1000, \" \")","v":" "},null,null,null,null,0,null,null,null,0,null," "," "," "]
[{"$f":"IF(COUNTRY_INFO!A158=0,\" \",COUNTRY_INFO!A158)","v":"Tanzania"},{"$f":"IF(COUNTRY_INFO!B158=0,\" \",COUNTRY_INFO!B158)","v":"Simiyu"},{"$f":"IF(COUNTRY_INFO!C158=0,\" \",COUNTRY_INFO!C158)","v":"Bariadi Town Council"},{"$f":"IF(COUNTRY_INFO!$T$9:$T$1000=\"MDA1 (IVM+ALB)\", COUNTRY_INFO!$T$9:$T$1000, \" \")","v":" "},null,null,null,null,0,null,null,null,0,null," "," "," "]
[{"$f":"IF(COUNTRY_INFO!A159=0,\" \",COUNTRY_INFO!A159)","v":"Tanzania"},{"$f":"IF(COUNTRY_INFO!B159=0,\" \",COUNTRY_INFO!B159)","v":"Simiyu"},{"$f":"IF(COUNTRY_INFO!C159=0,\" \",COUNTRY_INFO!C159)","v":"Busega District Council"},{"$f":"IF(COUNTRY_INFO!$T$9:$T$1000=\"MDA1 (IVM+ALB)\", COUNTRY_INFO!$T$9:$T$1000, \" \")","v":" "},null,null,null,null,0,null,null,null,0,null," "," "," "]
[{"$f":"IF(COUNTRY_INFO!A160=0,\" \",COUNTRY_INFO!A160)","v":"Tanzania"},{"$f":"IF(COUNTRY_INFO!B160=0,\" \",COUNTRY_INFO!B160)","v":"Simiyu"},{"$f":"IF(COUNTRY_INFO!C160=0,\" \",COUNTRY_INFO!C160)","v":"Itilima District Council"},{"$f":"IF(COUNTRY_INFO!$T$9:$T$1000=\"MDA1 (IVM+ALB)\", COUNTRY_INFO!$T$9:$T$1000, \" \")","v":" "},null,null,null,null,0,null,null,null,0,null," "," "," "]
[{"$f":"IF(COUNTRY_INFO!A161=0,\" \",COUNTRY_INFO!A161)","v":"Tanzania"},{"$f":"IF(COUNTRY_INFO!B161=0,\" \",COUNTRY_INFO!B161)","v":"Simiyu"},{"$f":"IF(COUNTRY_INFO!C161=0,\" \",COUNTRY_INFO!C161)","v":"Maswa District Council"},{"$f":"IF(COUNTRY_INFO!$T$9:$T$1000=\"MDA1 (IVM+ALB)\", COUNTRY_INFO!$T$9:$T$1000, \" \")","v":" "},null,null,null,null,0,null,null,null,0,null," "," "," "]
[{"$f":"IF(COUNTRY_INFO!A162=0,\" \",COUNTRY_INFO!A162)","v":"Tanzania"},{"$f":"IF(COUNTRY_INFO!B162=0,\" \",COUNTRY_INFO!B162)","v":"Simiyu"},{"$f":"IF(COUNTRY_INFO!C162=0,\" \",COUNTRY_INFO!C162)","v":"Meatu District Council"},{"$f":"IF(COUNTRY_INFO!$T$9:$T$1000=\"MDA1 (IVM+ALB)\", COUNTRY_INFO!$T$9:$T$1000, \" \")","v":" "},null,null,null,null,0,null,null,null,0,null," "," "," "]
[{"$f":"IF(COUNTRY_INFO!A163=0,\" \",COUNTRY_INFO!A163)","v":"Tanzania"},{"$f":"IF(COUNTRY_INFO!B163=0,\" \",COUNTRY_INFO!B163)","v":"Singida"},{"$f":"IF(COUNTRY_INFO!C163=0,\" \",COUNTRY_INFO!C163)","v":"Ikungi District Council"},{"$f":"IF(COUNTRY_INFO!$T$9:$T$1000=\"MDA1 (IVM+ALB)\", COUNTRY_INFO!$T$9:$T$1000, \" \")","v":" "},null,null,null,null,0,null,null,null,0,null," "," "," "]
[{"$f":"IF(COUNTRY_INFO!A164=0,\" \",COUNTRY_INFO!A164)","v":"Tanzania"},{"$f":"IF(COUNTRY_INFO!B164=0,\" \",COUNTRY_INFO!B164)","v":"Singida"},{"$f":"IF(COUNTRY_INFO!C164=0,\" \",COUNTRY_INFO!C164)","v":"Iramba District Council"},{"$f":"IF(COUNTRY_INFO!$T$9:$T$1000=\"MDA1 (IVM+ALB)\", COUNTRY_INFO!$T$9:$T$1000, \" \")","v":" "},null,null,null,null,0,null,null,null,0,null," "," "," "]
[{"$f":"IF(COUNTRY_INFO!A165=0,\" \",COUNTRY_INFO!A165)","v":"Tanzania"},{"$f":"IF(COUNTRY_INFO!B165=0,\" \",COUNTRY_INFO!B165)","v":"Singida"},{"$f":"IF(COUNTRY_INFO!C165=0,\" \",COUNTRY_INFO!C165)","v":"Itigi District Council"},{"$f":"IF(COUNTRY_INFO!$T$9:$T$1000=\"MDA1 (IVM+ALB)\", COUNTRY_INFO!$T$9:$T$1000, \" \")","v":" "},null,null,null,null,0,null,null,null,0,null," "," "," "]
[{"$f":"IF(COUNTRY_INFO!A166=0,\" \",COUNTRY_INFO!A166)","v":"Tanzania"},{"$f":"IF(COUNTRY_INFO!B166=0,\" \",COUNTRY_INFO!B166)","v":"Singida"},{"$f":"IF(COUNTRY_INFO!C166=0,\" \",COUNTRY_INFO!C166)","v":"Manyoni District Council"},{"$f":"IF(COUNTRY_INFO!$T$9:$T$1000=\"MDA1 (IVM+ALB)\", COUNTRY_INFO!$T$9:$T$1000, \" \")","v":" "},null,null,null,null,0,null,null,null,0,null," "," "," "]
[{"$f":"IF(COUNTRY_INFO!A167=0,\" \",COUNTRY_INFO!A167)","v":"Tanzania"},{"$f":"IF(COUNTRY_INFO!B167=0,\" \",COUNTRY_INFO!B167)","v":"Singida"},{"$f":"IF(COUNTRY_INFO!C167=0,\" \",COUNTRY_INFO!C167)","v":"Mkalama District Council"},{"$f":"IF(COUNTRY_INFO!$T$9:$T$1000=\"MDA1 (IVM+ALB)\", COUNTRY_INFO!$T$9:$T$1000, \" \")","v":" "},null,null,null,null,0,null,null,null,0,null," "," "," "]
[{"$f":"IF(COUNTRY_INFO!A168=0,\" \",COUNTRY_INFO!A168)","v":"Tanzania"},{"$f":"IF(COUNTRY_INFO!B168=0,\" \",COUNTRY_INFO!B168)","v":"Singida"},{"$f":"IF(COUNTRY_INFO!C168=0,\" \",COUNTRY_INFO!C168)","v":"Singida District Council"},{"$f":"IF(COUNTRY_INFO!$T$9:$T$1000=\"MDA1 (IVM+ALB)\", COUNTRY_INFO!$T$9:$T$1000, \" \")","v":" "},null,null,null,null,0,null,null,null,0,null," "," "," "]
[{"$f":"IF(COUNTRY_INFO!A169=0,\" \",COUNTRY_INFO!A169)","v":"Tanzania"},{"$f":"IF(COUNTRY_INFO!B169=0,\" \",COUNTRY_INFO!B169)","v":"Singida"},{"$f":"IF(COUNTRY_INFO!C169=0,\" \",COUNTRY_INFO!C169)","v":"Singida Municipal Council"},{"$f":"IF(COUNTRY_INFO!$T$9:$T$1000=\"MDA1 (IVM+ALB)\", COUNTRY_INFO!$T$9:$T$1000, \" \")","v":" "},null,null,null,null,0,null,null,null,0,null," "," "," "]
[{"$f":"IF(COUNTRY_INFO!A170=0,\" \",COUNTRY_INFO!A170)","v":"Tanzania"},{"$f":"IF(COUNTRY_INFO!B170=0,\" \",COUNTRY_INFO!B170)","v":"Songwe"},{"$f":"IF(COUNTRY_INFO!C170=0,\" \",COUNTRY_INFO!C170)","v":"Ileje District Council"},{"$f":"IF(COUNTRY_INFO!$T$9:$T$1000=\"MDA1 (IVM+ALB)\", COUNTRY_INFO!$T$9:$T$1000, \" \")","v":" "},null,null,null,null,0,null,null,null,0,null," "," "," "]
[{"$f":"IF(COUNTRY_INFO!A171=0,\" \",COUNTRY_INFO!A171)","v":"Tanzania"},{"$f":"IF(COUNTRY_INFO!B171=0,\" \",COUNTRY_INFO!B171)","v":"Songwe"},{"$f":"IF(COUNTRY_INFO!C171=0,\" \",COUNTRY_INFO!C171)","v":"Mbozi District Council"},{"$f":"IF(COUNTRY_INFO!$T$9:$T$1000=\"MDA1 (IVM+ALB)\", COUNTRY_INFO!$T$9:$T$1000, \" \")","v":" "},null,null,null,null,0,null,null,null,0,null," "," "," "]
[{"$f":"IF(COUNTRY_INFO!A172=0,\" \",COUNTRY_INFO!A172)","v":"Tanzania"},{"$f":"IF(COUNTRY_INFO!B172=0,\" \",COUNTRY_INFO!B172)","v":"Songwe"},{"$f":"IF(COUNTRY_INFO!C172=0,\" \",COUNTRY_INFO!C172)","v":"Momba District Council"},{"$f":"IF(COUNTRY_INFO!$T$9:$T$1000=\"MDA1 (IVM+ALB)\", COUNTRY_INFO!$T$9:$T$1000, \" \")","v":" "},null,null,null,null,0,null,null,null,0,null," "," "," "]
[{"$f":"IF(COUNTRY_INFO!A173=0,\" \",COUNTRY_INFO!A173)","v":"Tanzania"},{"$f":"IF(COUNTRY_INFO!B173=0,\" \",COUNTRY_INFO!B173)","v":"Songwe"},{"$f":"IF(COUNTRY_INFO!C173=0,\" \",COUNTRY_INFO!C173)","v":"Songwe District Council"},{"$f":"IF(COUNTRY_INFO!$T$9:$T$1000=\"MDA1 (IVM+ALB)\", COUNTRY_INFO!$T$9:$T$1000, \" \")","v":" "},null,null,null,null,0,null,null,null,0,null," "," "," "]
[{"$f":"IF(COUNTRY_INFO!A174=0,\" \",COUNTRY_INFO!A174)","v":"Tanzania"},{"$f":"IF(COUNTRY_INFO!B174=0,\" \",COUNTRY_INFO!B174)","v":"Songwe"},{"$f":"IF(COUNTRY_INFO!C174=0,\" \",COUNTRY_INFO!C174)","v":"Tunduma Town Council"},{"$f":"IF(COUNTRY_INFO!$T$9:$T$1000=\"MDA1 (IVM+ALB)\", COUNTRY_INFO!$T$9:$T$1000, \" \")","v":" "},null,null,null,null,0,null,null,null,0,null," "," "," "]
[{"$f":"IF(COUNTRY_INFO!A175=0,\" \",COUNTRY_INFO!A175)","v":"Tanzania"},{"$f":"IF(COUNTRY_INFO!B175=0,\" \",COUNTRY_INFO!B175)","v":"Tabora"},{"$f":"IF(COUNTRY_INFO!C175=0,\" \",COUNTRY_INFO!C175)","v":"Igunga District Council"},{"$f":"IF(COUNTRY_INFO!$T$9:$T$1000=\"MDA1 (IVM+ALB)\", COUNTRY_INFO!$T$9:$T$1000, \" \")","v":" "},null,null,null,null,0,null,null,null,0,null," "," "," "]
[{"$f":"IF(COUNTRY_INFO!A176=0,\" \",COUNTRY_INFO!A176)","v":"Tanzania"},{"$f":"IF(COUNTRY_INFO!B176=0,\" \",COUNTRY_INFO!B176)","v":"Tabora"},{"$f":"IF(COUNTRY_INFO!C176=0,\" \",COUNTRY_INFO!C176)","v":"Kaliua District Council"},{"$f":"IF(COUNTRY_INFO!$T$9:$T$1000=\"MDA1 (IVM+ALB)\", COUNTRY_INFO!$T$9:$T$1000, \" \")","v":" "},null,null,null,null,0,null,null,null,0,null," "," "," "]
[{"$f":"IF(COUNTRY_INFO!A177=0,\" \",COUNTRY_INFO!A177)","v":"Tanzania"},{"$f":"IF(COUNTRY_INFO!B177=0,\" \",COUNTRY_INFO!B177)","v":"Tabora"},{"$f":"IF(COUNTRY_INFO!C177=0,\" \",COUNTRY_INFO!C177)","v":"Nzega District Council"},{"$f":"IF(COUNTRY_INFO!$T$9:$T$1000=\"MDA1 (IVM+ALB)\", COUNTRY_INFO!$T$9:$T$1000, \" \")","v":" "},null,null,null,null,0,null,null,null,0,null," "," "," "]
[{"$f":"IF(COUNTRY_INFO!A178=0,\" \",COUNTRY_INFO!A178)","v":"Tanzania"},{"$f":"IF(COUNTRY_INFO!B178=0,\" \",COUNTRY_INFO!B178)","v":"Tabora"},{"$f":"IF(COUNTRY_INFO!C178=0,\" \",COUNTRY_INFO!C178)","v":"Nzega Town Council"},{"$f":"IF(COUNTRY_INFO!$T$9:$T$1000=\"MDA1 (IVM+ALB)\", COUNTRY_INFO!$T$9:$T$1000, \" \")","v":" "},null,null,null,null,0,null,null,null,0,null," "," "," "]
[{"$f":"IF(COUNTRY_INFO!A179=0,\" \",COUNTRY_INFO!A179)","v":"Tanzania"},{"$f":"IF(COUNTRY_INFO!B179=0,\" \",COUNTRY_INFO!B179)","v":"Tabora"},{"$f":"IF(COUNTRY_INFO!C179=0,\" \",COUNTRY_INFO!C179)","v":"Sikonge District Council"},{"$f":"IF(COUNTRY_INFO!$T$9:$T$1000=\"MDA1 (IVM+ALB)\", COUNTRY_INFO!$T$9:$T$1000, \" \")","v":" "},null,null,null,null,0,null,null,null,0,null," "," "," "]
[{"$f":"IF(COUNTRY_INFO!A180=0,\" \",COUNTRY_INFO!A180)","v":"Tanzania"},{"$f":"IF(COUNTRY_INFO!B180=0,\" \",COUNTRY_INFO!B180)","v":"Tabora"},{"$f":"IF(COUNTRY_INFO!C180=0,\" \",COUNTRY_INFO!C180)","v":"Tabora Municipal Council"},{"$f":"IF(COUNTRY_INFO!$T$9:$T$1000=\"MDA1 (IVM+ALB)\", COUNTRY_INFO!$T$9:$T$1000, \" \")","v":" "},null,null,null,null,0,null,null,null,0,null," "," "," "]
[{"$f":"IF(COUNTRY_INFO!A181=0,\" \",COUNTRY_INFO!A181)","v":"Tanzania"},{"$f":"IF(COUNTRY_INFO!B181=0,\" \",COUNTRY_INFO!B181)","v":"Tabora"},{"$f":"IF(COUNTRY_INFO!C181=0,\" \",COUNTRY_INFO!C181)","v":"Urambo District Council"},{"$f":"IF(COUNTRY_INFO!$T$9:$T$1000=\"MDA1 (IVM+ALB)\", COUNTRY_INFO!$T$9:$T$1000, \" \")","v":" "},null,null,null,null,0,null,null,null,0,null," "," "," "]
[{"$f":"IF(COUNTRY_INFO!A182=0,\" \",COUNTRY_INFO!A182)","v":"Tanzania"},{"$f":"IF(COUNTRY_INFO!B182=0,\" \",COUNTRY_INFO!B182)","v":"Tabora"},{"$f":"IF(COUNTRY_INFO!C182=0,\" \",COUNTRY_INFO!C182)","v":"Uyui District Council"},{"$f":"IF(COUNTRY_INFO!$T$9:$T$1000=\"MDA1 (IVM+ALB)\", COUNTRY_INFO!$T$9:$T$1000, \" \")","v":" "},null,null,null,null,0,null,null,null,0,null," "," "," "]
[{"$f":"IF(COUNTRY_INFO!A183=0,\" \",COUNTRY_INFO!A183)","v":"Tanzania"},{"$f":"IF(COUNTRY_INFO!B183=0,\" \",COUNTRY_INFO!B183)","v":"Tanga"},{"$f":"IF(COUNTRY_INFO!C183=0,\" \",COUNTRY_INFO!C183)","v":"Bumbuli District Council"},{"$f":"IF(COUNTRY_INFO!$T$9:$T$1000=\"MDA1 (IVM+ALB)\", COUNTRY_INFO!$T$9:$T$1000, \" \")","v":" "},null,null,null,null,0,null,null,null,0,null," "," "," "]
[{"$f":"IF(COUNTRY_INFO!A184=0,\" \",COUNTRY_INFO!A184)","v":"Tanzania"},{"$f":"IF(COUNTRY_INFO!B184=0,\" \",COUNTRY_INFO!B184)","v":"Tanga"},{"$f":"IF(COUNTRY_INFO!C184=0,\" \",COUNTRY_INFO!C184)","v":"Handeni District Council"},{"$f":"IF(COUNTRY_INFO!$T$9:$T$1000=\"MDA1 (IVM+ALB)\", COUNTRY_INFO!$T$9:$T$1000, \" \")","v":" "},null,null,null,null,0,null,null,null,0,null," "," "," "]
[{"$f":"IF(COUNTRY_INFO!A185=0,\" \",COUNTRY_INFO!A185)","v":"Tanzania"},{"$f":"IF(COUNTRY_INFO!B185=0,\" \",COUNTRY_INFO!B185)","v":"Tanga"},{"$f":"IF(COUNTRY_INFO!C185=0,\" \",COUNTRY_INFO!C185)","v":"Handeni Town Council"},{"$f":"IF(COUNTRY_INFO!$T$9:$T$1000=\"MDA1 (IVM+ALB)\", COUNTRY_INFO!$T$9:$T$1000, \" \")","v":" "},null,null,null,null,0,null,null,null,0,null," "," "," "]
[{"$f":"IF(COUNTRY_INFO!A186=0,\" \",COUNTRY_INFO!A186)","v":"Tanzania"},{"$f":"IF(COUNTRY_INFO!B186=0,\" \",COUNTRY_INFO!B186)","v":"Tanga"},{"$f":"IF(COUNTRY_INFO!C186=0,\" \",COUNTRY_INFO!C186)","v":"Kilindi District Council"},{"$f":"IF(COUNTRY_INFO!$T$9:$T$1000=\"MDA1 (IVM+ALB)\", COUNTRY_INFO!$T$9:$T$1000, \" \")","v":" "},null,null,null,null,0,null,null,null,0,null," "," "," "]
[{"$f":"IF(COUNTRY_INFO!A187=0,\" \",COUNTRY_INFO!A187)","v":"Tanzania"},{"$f":"IF(COUNTRY_INFO!B187=0,\" \",COUNTRY_INFO!B187)","v":"Tanga"},{"$f":"IF(COUNTRY_INFO!C187=0,\" \",COUNTRY_INFO!C187)","v":"Korogwe District Council"},{"$f":"IF(COUNTRY_INFO!$T$9:$T$1000=\"MDA1 (IVM+ALB)\", COUNTRY_INFO!$T$9:$T$1000, \" \")","v":"MDA1 (IVM+ALB)"},"Dec - 2018",null,52677,187542,240219,null,45871.896999999997,194295.103,240167,null,87.081453006055767,103.60084834330443,99.978353086142221]
[{"$f":"IF(COUNTRY_INFO!A188=0,\" \",COUNTRY_INFO!A188)","v":"Tanzania"},{"$f":"IF(COUNTRY_INFO!B188=0,\" \",COUNTRY_INFO!B188)","v":"Tanga"},{"$f":"IF(COUNTRY_INFO!C188=0,\" \",COUNTRY_INFO!C188)","v":"Korogwe Town Council"},{"$f":"IF(COUNTRY_INFO!$T$9:$T$1000=\"MDA1 (IVM+ALB)\", COUNTRY_INFO!$T$9:$T$1000, \" \")","v":"MDA1 (IVM+ALB)"},"Nov - 2018",null,14867,52928,67795,null,12094.884,51229.116000000002,63324,null,81.353897894666034,96.790198004836753,93.405118371561329]
[{"$f":"IF(COUNTRY_INFO!A189=0,\" \",COUNTRY_INFO!A189)","v":"Tanzania"},{"$f":"IF(COUNTRY_INFO!B189=0,\" \",COUNTRY_INFO!B189)","v":"Tanga"},{"$f":"IF(COUNTRY_INFO!C189=0,\" \",COUNTRY_INFO!C189)","v":"Lushoto District Council"},{"$f":"IF(COUNTRY_INFO!$T$9:$T$1000=\"MDA1 (IVM+ALB)\", COUNTRY_INFO!$T$9:$T$1000, \" \")","v":" "},null,null,null,null,0,null,null,null,0,null," "," "," "]
[{"$f":"IF(COUNTRY_INFO!A190=0,\" \",COUNTRY_INFO!A190)","v":"Tanzania"},{"$f":"IF(COUNTRY_INFO!B190=0,\" \",COUNTRY_INFO!B190)","v":"Tanga"},{"$f":"IF(COUNTRY_INFO!C190=0,\" \",COUNTRY_INFO!C190)","v":"Mkinga District Council"},{"$f":"IF(COUNTRY_INFO!$T$9:$T$1000=\"MDA1 (IVM+ALB)\", COUNTRY_INFO!$T$9:$T$1000, \" \")","v":"MDA1 (IVM+ALB)"},null,null,25696,91482,117178,null,21874,92652,114526,null,85.126089663760894,101.27894011936776,97.736776528017202]
[{"$f":"IF(COUNTRY_INFO!A191=0,\" \",COUNTRY_INFO!A191)","v":"Tanzania"},{"$f":"IF(COUNTRY_INFO!B191=0,\" \",COUNTRY_INFO!B191)","v":"Tanga"},{"$f":"IF(COUNTRY_INFO!C191=0,\" \",COUNTRY_INFO!C191)","v":"Muheza District Council"},{"$f":"IF(COUNTRY_INFO!$T$9:$T$1000=\"MDA1 (IVM+ALB)\", COUNTRY_INFO!$T$9:$T$1000, \" \")","v":" "},null,null,null,null,0,null,null,null,0,null," "," "," "]
[{"$f":"IF(COUNTRY_INFO!A192=0,\" \",COUNTRY_INFO!A192)","v":"Tanzania"},{"$f":"IF(COUNTRY_INFO!B192=0,\" \",COUNTRY_INFO!B192)","v":"Tanga"},{"$f":"IF(COUNTRY_INFO!C192=0,\" \",COUNTRY_INFO!C192)","v":"Pangani District Council"},{"$f":"IF(COUNTRY_INFO!$T$9:$T$1000=\"MDA1 (IVM+ALB)\", COUNTRY_INFO!$T$9:$T$1000, \" \")","v":"MDA1 (IVM+ALB)"},"Oct - 2018",null,11758,41861,53619,null,9155.3940000000002,38778.606,47934,null,77.865232182343931,92.63659731014549,89.397415095395289]
[{"$f":"IF(COUNTRY_INFO!A193=0,\" \",COUNTRY_INFO!A193)","v":"Tanzania"},{"$f":"IF(COUNTRY_INFO!B193=0,\" \",COUNTRY_INFO!B193)","v":"Tanga"},{"$f":"IF(COUNTRY_INFO!C193=0,\" \",COUNTRY_INFO!C193)","v":"Tanga City Council"},{"$f":"IF(COUNTRY_INFO!$T$9:$T$1000=\"MDA1 (IVM+ALB)\", COUNTRY_INFO!$T$9:$T$1000, \" \")","v":"MDA1 (IVM+ALB)"},"Oct - 2018",null,59488,211790,271278,null,56402.491000000002,238898.50899999999,295301,null,94.813224515868754,112.79971150668113,108.85549141471111]

{"sheet":"MDA2","index":3,"n_rows":193,"n_cols":17,"rows_kept":193,"cut":false,"hidden":true,"merged":[[5,5,5,8],[5,9,5,12],[5,13,5,16],[3,0,3,2],[5,0,5,2],[5,3,6,3],[5,4,6,4]]}
["MDA 2 - Diethylcarbamazine citrate (DEC) + Albendazole (ALB)"]
["Administrative structure, population requiring PC by age group, population treated by age group and coverage"]
[]
["TOTAL",null,null,null,null,{"$f":"SUM(F$9:F$1000)","v":0},{"$f":"SUM(G$9:G$1000)","v":0},0,0,0,0,0,0,{"$f":"IF(F4<>0, IF(J4/F4*100=0, \"-\", J4/F4*100), \" \")","v":" "},{"$f":"IF(G4<>0, IF(K4/G4*100=0, \"-\", K4/G4*100), \" \")","v":" "},{"$f":"IF(H4<>0, IF(L4/H4*100=0, \"-\", L4/H4*100), \" \")","v":" "},{"$f":"IF(I4<>0, IF(M4/I4*100=0, \"-\", M4/I4*100), \" \")","v":" "}]
[]
[null,null,null,"PC implemented","Date","Population targeted for MDA 2",null,null,null,"Population treated",null,null,null,"Programme coverage (%)"]
["Country","Province/State","District",null,null,"PreSAC","SAC","Adults","Total","PreSAC","SAC","Adults","Total","PreSAC","SAC","Adults","Total"]
[]
[{"$f":"IF(COUNTRY_INFO!A9=0,\" \",COUNTRY_INFO!A9)","v":"Tanzania"},{"$f":"IF(COUNTRY_INFO!B9=0,\" \",COUNTRY_INFO!B9)","v":"Arusha"},{"$f":"IF(COUNTRY_INFO!C9=0,\" \",COUNTRY_INFO!C9)","v":"Arusha City Council"},{"$f":"IF(COUNTRY_INFO!$T$9:$T$1000=\"MDA2 (DEC+ALB)\", COUNTRY_INFO!$T$9:$T$1000, \" \")","v":" "},null,null,null,null,{"$f":"SUM(F9:H9)","v":0},null,null,null,{"$f":"SUM(J9:L9)","v":0},{"$f":"IF(F9<>0, IF(J9/F9*100=0, \"-\", J9/F9*100), \" \")","v":" "}," "," "," "]
[{"$f":"IF(COUNTRY_INFO!A10=0,\" \",COUNTRY_INFO!A10)","v":"Tanzania"},{"$f":"IF(COUNTRY_INFO!B10=0,\" \",COUNTRY_INFO!B10)","v":"Arusha"},{"$f":"IF(COUNTRY_INFO!C10=0,\" \",COUNTRY_INFO!C10)","v":"Arusha District Council"},{"$f":"IF(COUNTRY_INFO!$T$9:$T$1000=\"MDA2 (DEC+ALB)\", COUNTRY_INFO!$T$9:$T$1000, \" \")","v":" "},null,null,null,null,{"$f":"SUM(F10:H10)","v":0},null,null,null,{"$f":"SUM(J10:L10)","v":0},{"$f":"IF(F10<>0, IF(J10/F10*100=0, \"-\", J10/F10*100), \" \")","v":" "},{"$f":"IF(G10<>0, IF(K10/G10*100=0, \"-\", K10/G10*100), \" \")","v":" "},{"$f":"IF(H10<>0, IF(L10/H10*100=0, \"-\", L10/H10*100), \" \")","v":" "},{"$f":"IF(I10<>0, IF(M10/I10*100=0, \"-\", M10/I10*100), \" \")","v":" "}]
[{"$f":"IF(COUNTRY_INFO!A11=0,\" \",COUNTRY_INFO!A11)","v":"Tanzania"},{"$f":"IF(COUNTRY_INFO!B11=0,\" \",COUNTRY_INFO!B11)","v":"Arusha"},{"$f":"IF(COUNTRY_INFO!C11=0,\" \",COUNTRY_INFO!C11)","v":"Karatu District Council"},{"$f":"IF(COUNTRY_INFO!$T$9:$T$1000=\"MDA2 (DEC+ALB)\", COUNTRY_INFO!$T$9:$T$1000, \" \")","v":" "},null,null,null,null,0,null,null,null,0," "," "," "," "]
[{"$f":"IF(COUNTRY_INFO!A12=0,\" \",COUNTRY_INFO!A12)","v":"Tanzania"},{"$f":"IF(COUNTRY_INFO!B12=0,\" \",COUNTRY_INFO!B12)","v":"Arusha"},{"$f":"IF(COUNTRY_INFO!C12=0,\" \",COUNTRY_INFO!C12)","v":"Longido District Council"},{"$f":"IF(COUNTRY_INFO!$T$9:$T$1000=\"MDA2 (DEC+ALB)\", COUNTRY_INFO!$T$9:$T$1000, \" \")","v":" "},null,null,null,null,0,null,null,null,0," "," "," "," "]
[{"$f":"IF(COUNTRY_INFO!A13=0,\" \",COUNTRY_INFO!A13)","v":"Tanzania"},{"$f":"IF(COUNTRY_INFO!B13=0,\" \",COUNTRY_INFO!B13)","v":"Arusha"},{"$f":"IF(COUNTRY_INFO!C13=0,\" \",COUNTRY_INFO!C13)","v":"Meru District Council"},{"$f":"IF(COUNTRY_INFO!$T$9:$T$1000=\"MDA2 (DEC+ALB)\", COUNTRY_INFO!$T$9:$T$1000, \" \")","v":" "},null,null,null,null,0,null,null,null,0," "," "," "," "]
[{"$f":"IF(COUNTRY_INFO!A14=0,\" \",COUNTRY_INFO!A14)","v":"Tanzania"},{"$f":"IF(COUNTRY_INFO!B14=0,\" \",COUNTRY_INFO!B14)","v":"Arusha"},{"$f":"IF(COUNTRY_INFO!C14=0,\" \",COUNTRY_INFO!C14)","v":"Monduli District Council"},{"$f":"IF(COUNTRY_INFO!$T$9:$T$1000=\"MDA2 (DEC+ALB)\", COUNTRY_INFO!$T$9:$T$1000, \" \")","v":" "},null,null,null,null,0,null,null,null,0," "," "," "," "]
[{"$f":"IF(COUNTRY_INFO!A15=0,\" \",COUNTRY_INFO!A15)","v":"Tanzania"},{"$f":"IF(COUNTRY_INFO!B15=0,\" \",COUNTRY_INFO!B15)","v":"Arusha"},{"$f":"IF(COUNTRY_INFO!C15=0,\" \",COUNTRY_INFO!C15)","v":"Ngorongoro District Council"},{"$f":"IF(COUNTRY_INFO!$T$9:$T$1000=\"MDA2 (DEC+ALB)\", COUNTRY_INFO!$T$9:$T$1000, \" \")","v":" "},null,null,null,null,0,null,null,null,0," "," "," "," "]
[{"$f":"IF(COUNTRY_INFO!A16=0,\" \",COUNTRY_INFO!A16)","v":"Tanzania"},{"$f":"IF(COUNTRY_INFO!B16=0,\" \",COUNTRY_INFO!B16)","v":"Dar Es Salaam"},{"$f":"IF(COUNTRY_INFO!C16=0,\" \",COUNTRY_INFO!C16)","v":"Dar es Salaam City Council "},{"$f":"IF(COUNTRY_INFO!$T$9:$T$1000=\"MDA2 (DEC+ALB)\", COUNTRY_INFO!$T$9:$T$1000, \" \")","v":" "},null,null,null,null,0,null,null,null,0," "," "," "," "]
[{"$f":"IF(COUNTRY_INFO!A17=0,\" \",COUNTRY_INFO!A17)","v":"Tanzania"},{"$f":"IF(COUNTRY_INFO!B17=0,\" \",COUNTRY_INFO!B17)","v":"Dar Es Salaam"},{"$f":"IF(COUNTRY_INFO!C17=0,\" \",COUNTRY_INFO!C17)","v":"Ilala Municipal Council"},{"$f":"IF(COUNTRY_INFO!$T$9:$T$1000=\"MDA2 (DEC+ALB)\", COUNTRY_INFO!$T$9:$T$1000, \" \")","v":" "},null,null,null,null,0,null,null,null,0," "," "," "," "]
[{"$f":"IF(COUNTRY_INFO!A18=0,\" \",COUNTRY_INFO!A18)","v":"Tanzania"},{"$f":"IF(COUNTRY_INFO!B18=0,\" \",COUNTRY_INFO!B18)","v":"Dar Es Salaam"},{"$f":"IF(COUNTRY_INFO!C18=0,\" \",COUNTRY_INFO!C18)","v":"Kigamboni Municipal Council"},{"$f":"IF(COUNTRY_INFO!$T$9:$T$1000=\"MDA2 (DEC+ALB)\", COUNTRY_INFO!$T$9:$T$1000, \" \")","v":" "},null,null,null,null,0,null,null,null,0," "," "," "," "]
[{"$f":"IF(COUNTRY_INFO!A19=0,\" \",COUNTRY_INFO!A19)","v":"Tanzania"},{"$f":"IF(COUNTRY_INFO!B19=0,\" \",COUNTRY_INFO!B19)","v":"Dar Es Salaam"},{"$f":"IF(COUNTRY_INFO!C19=0,\" \",COUNTRY_INFO!C19)","v":"Kinondoni Municipal Council"},{"$f":"IF(COUNTRY_INFO!$T$9:$T$1000=\"MDA2 (DEC+ALB)\", COUNTRY_INFO!$T$9:$T$1000, \" \")","v":" "},null,null,null,null,0,null,null,null,0," "," "," "," "]
[{"$f":"IF(COUNTRY_INFO!A20=0,\" \",COUNTRY_INFO!A20)","v":"Tanzania"},{"$f":"IF(COUNTRY_INFO!B20=0,\" \",COUNTRY_INFO!B20)","v":"Dar Es Salaam"},{"$f":"IF(COUNTRY_INFO!C20=0,\" \",COUNTRY_INFO!C20)","v":"Temeke Municipal Council"},{"$f":"IF(COUNTRY_INFO!$T$9:$T$1000=\"MDA2 (DEC+ALB)\", COUNTRY_INFO!$T$9:$T$1000, \" \")","v":" "},null,null,null,null,0,null,null,null,0," "," "," "," "]
[{"$f":"IF(COUNTRY_INFO!A21=0,\" \",COUNTRY_INFO!A21)","v":"Tanzania"},{"$f":"IF(COUNTRY_INFO!B21=0,\" \",COUNTRY_INFO!B21)","v":"Dar Es Salaam"},{"$f":"IF(COUNTRY_INFO!C21=0,\" \",COUNTRY_INFO!C21)","v":"Ubungo Municipal Council"},{"$f":"IF(COUNTRY_INFO!$T$9:$T$1000=\"MDA2 (DEC+ALB)\", COUNTRY_INFO!$T$9:$T$1000, \" \")","v":" "},null,null,null,null,0,null,null,null,0," "," "," "," "]
[{"$f":"IF(COUNTRY_INFO!A22=0,\" \",COUNTRY_INFO!A22)","v":"Tanzania"},{"$f":"IF(COUNTRY_INFO!B22=0,\" \",COUNTRY_INFO!B22)","v":"Dodoma"},{"$f":"IF(COUNTRY_INFO!C22=0,\" \",COUNTRY_INFO!C22)","v":"Bahi District Council"},{"$f":"IF(COUNTRY_INFO!$T$9:$T$1000=\"MDA2 (DEC+ALB)\", COUNTRY_INFO!$T$9:$T$1000, \" \")","v":" "},null,null,null,null,0,null,null,null,0," "," "," "," "]
[{"$f":"IF(COUNTRY_INFO!A23=0,\" \",COUNTRY_INFO!A23)","v":"Tanzania"},{"$f":"IF(COUNTRY_INFO!B23=0,\" \",COUNTRY_INFO!B23)","v":"Dodoma"},{"$f":"IF(COUNTRY_INFO!C23=0,\" \",COUNTRY_INFO!C23)","v":"Chamwino District Council"},{"$f":"IF(COUNTRY_INFO!$T$9:$T$1000=\"MDA2 (DEC+ALB)\", COUNTRY_INFO!$T$9:$T$1000, \" \")","v":" "},null,null,null,null,0,null,null,null,0," "," "," "," "]
[{"$f":"IF(COUNTRY_INFO!A24=0,\" \",COUNTRY_INFO!A24)","v":"Tanzania"},{"$f":"IF(COUNTRY_INFO!B24=0,\" \",COUNTRY_INFO!B24)","v":"Dodoma"},{"$f":"IF(COUNTRY_INFO!C24=0,\" \",COUNTRY_INFO!C24)","v":"Chemba District Council"},{"$f":"IF(COUNTRY_INFO!$T$9:$T$1000=\"MDA2 (DEC+ALB)\", COUNTRY_INFO!$T$9:$T$1000, \" \")","v":" "},null,null,null,null,0,null,null,null,0," "," "," "," "]
[{"$f":"IF(COUNTRY_INFO!A25=0,\" \",COUNTRY_INFO!A25)","v":"Tanzania"},{"$f":"IF(COUNTRY_INFO!B25=0,\" \",COUNTRY_INFO!B25)","v":"Dodoma"},{"$f":"IF(COUNTRY_INFO!C25=0,\" \",COUNTRY_INFO!C25)","v":"Dodoma Municipal Council"},{"$f":"IF(COUNTRY_INFO!$T$9:$T$1000=\"MDA2 (DEC+ALB)\", COUNTRY_INFO!$T$9:$T$1000, \" \")","v":" "},null,null,null,null,0,null,null,null,0," "," "," "," "]
[{"$f":"IF(COUNTRY_INFO!A26=0,\" \",COUNTRY_INFO!A26)","v":"Tanzania"},{"$f":"IF(COUNTRY_INFO!B26=0,\" \",COUNTRY_INFO!B26)","v":"Dodoma"},{"$f":"IF(COUNTRY_INFO!C26=0,\" \",COUNTRY_INFO!C26)","v":"Kondoa District Council"},{"$f":"IF(COUNTRY_INFO!$T$9:$T$1000=\"MDA2 (DEC+ALB)\", COUNTRY_INFO!$T$9:$T$1000, \" \")","v":" "},null,null,null,null,0,null,null,null,0," "," "," "," "]
[{"$f":"IF(COUNTRY_INFO!A27=0,\" \",COUNTRY_INFO!A27)","v":"Tanzania"},{"$f":"IF(COUNTRY_INFO!B27=0,\" \",COUNTRY_INFO!B27)","v":"Dodoma"},{"$f":"IF(COUNTRY_INFO!C27=0,\" \",COUNTRY_INFO!C27)","v":"Kondoa Town Council "},{"$f":"IF(COUNTRY_INFO!$T$9:$T$1000=\"MDA2 (DEC+ALB)\", COUNTRY_INFO!$T$9:$T$1000, \" \")","v":" "},null,null,null,null,0,null,null,null,0," "," "," "," "]
[{"$f":"IF(COUNTRY_INFO!A28=0,\" \",COUNTRY_INFO!A28)","v":"Tanzania"},{"$f":"IF(COUNTRY_INFO!B28=0,\" \",COUNTRY_INFO!B28)","v":"Dodoma"},{"$f":"IF(COUNTRY_INFO!C28=0,\" \",COUNTRY_INFO!C28)","v":"Kongwa District Council"},{"$f":"IF(COUNTRY_INFO!$T$9:$T$1000=\"MDA2 (DEC+ALB)\", COUNTRY_INFO!$T$9:$T$1000, \" \")","v":" "},null,null,null,null,0,null,null,null,0," "," "," "," "]
[{"$f":"IF(COUNTRY_INFO!A29=0,\" \",COUNTRY_INFO!A29)","v":"Tanzania"},{"$f":"IF(COUNTRY_INFO!B29=0,\" \",COUNTRY_INFO!B29)","v":"Dodoma"},{"$f":"IF(COUNTRY_INFO!C29=0,\" \",COUNTRY_INFO!C29)","v":"Mpwapwa District Council"},{"$f":"IF(COUNTRY_INFO!$T$9:$T$1000=\"MDA2 (DEC+ALB)\", COUNTRY_INFO!$T$9:$T$1000, \" \")","v":" "},null,null,null,null,0,null,null,null,0," "," "," "," "]
[{"$f":"IF(COUNTRY_INFO!A30=0,\" \",COUNTRY_INFO!A30)","v":"Tanzania"},{"$f":"IF(COUNTRY_INFO!B30=0,\" \",COUNTRY_INFO!B30)","v":"Geita"},{"$f":"IF(COUNTRY_INFO!C30=0,\" \",COUNTRY_INFO!C30)","v":"Bukombe District Council"},{"$f":"IF(COUNTRY_INFO!$T$9:$T$1000=\"MDA2 (DEC+ALB)\", COUNTRY_INFO!$T$9:$T$1000, \" \")","v":" "},null,null,null,null,0,null,null,null,0," "," "," "," "]
[{"$f":"IF(COUNTRY_INFO!A31=0,\" \",COUNTRY_INFO!A31)","v":"Tanzania"},{"$f":"IF(COUNTRY_INFO!B31=0,\" \",COUNTRY_INFO!B31)","v":"Geita"},{"$f":"IF(COUNTRY_INFO!C31=0,\" \",COUNTRY_INFO!C31)","v":"Chato District Council"},{"$f":"IF(COUNTRY_INFO!$T$9:$T$1000=\"MDA2 (DEC+ALB)\", COUNTRY_INFO!$T$9:$T$1000, \" \")","v":" "},null,null,null,null,0,null,null,null,0," "," "," "," "]
[{"$f":"IF(COUNTRY_INFO!A32=0,\" \",COUNTRY_INFO!A32)","v":"Tanzania"},{"$f":"IF(COUNTRY_INFO!B32=0,\" \",COUNTRY_INFO!B32)","v":"Geita"},{"$f":"IF(COUNTRY_INFO!C32=0,\" \",COUNTRY_INFO!C32)","v":"Geita District Council"},{"$f":"IF(COUNTRY_INFO!$T$9:$T$1000=\"MDA2 (DEC+ALB)\", COUNTRY_INFO!$T$9:$T$1000, \" \")","v":" "},null,null,null,null,0,null,null,null,0," "," "," "," "]
[{"$f":"IF(COUNTRY_INFO!A33=0,\" \",COUNTRY_INFO!A33)","v":"Tanzania"},{"$f":"IF(COUNTRY_INFO!B33=0,\" \",COUNTRY_INFO!B33)","v":"Geita"},{"$f":"IF(COUNTRY_INFO!C33=0,\" \",COUNTRY_INFO!C33)","v":"Geita Town Council"},{"$f":"IF(COUNTRY_INFO!$T$9:$T$1000=\"MDA2 (DEC+ALB)\", COUNTRY_INFO!$T$9:$T$1000, \" \")","v":" "},null,null,null,null,0,null,null,null,0," "," "," "," "]
[{"$f":"IF(COUNTRY_INFO!A34=0,\" \",COUNTRY_INFO!A34)","v":"Tanzania"},{"$f":"IF(COUNTRY_INFO!B34=0,\" \",COUNTRY_INFO!B34)","v":"Geita"},{"$f":"IF(COUNTRY_INFO!C34=0,\" \",COUNTRY_INFO!C34)","v":"Mbogwe District Council"},{"$f":"IF(COUNTRY_INFO!$T$9:$T$1000=\"MDA2 (DEC+ALB)\", COUNTRY_INFO!$T$9:$T$1000, \" \")","v":" "},null,null,null,null,0,null,null,null,0," "," "," "," "]
[{"$f":"IF(COUNTRY_INFO!A35=0,\" \",COUNTRY_INFO!A35)","v":"Tanzania"},{"$f":"IF(COUNTRY_INFO!B35=0,\" \",COUNTRY_INFO!B35)","v":"Geita"},{"$f":"IF(COUNTRY_INFO!C35=0,\" \",COUNTRY_INFO!C35)","v":"Nyang'hwale District Council"},{"$f":"IF(COUNTRY_INFO!$T$9:$T$1000=\"MDA2 (DEC+ALB)\", COUNTRY_INFO!$T$9:$T$1000, \" \")","v":" "},null,null,null,null,0,null,null,null,0," "," "," "," "]
[{"$f":"IF(COUNTRY_INFO!A36=0,\" \",COUNTRY_INFO!A36)","v":"Tanzania"},{"$f":"IF(COUNTRY_INFO!B36=0,\" \",COUNTRY_INFO!B36)","v":"Iringa"},{"$f":"IF(COUNTRY_INFO!C36=0,\" \",COUNTRY_INFO!C36)","v":"Iringa District Council"},{"$f":"IF(COUNTRY_INFO!$T$9:$T$1000=\"MDA2 (DEC+ALB)\", COUNTRY_INFO!$T$9:$T$1000, \" \")","v":" "},null,null,null,null,0,null,null,null,0," "," "," "," "]
[{"$f":"IF(COUNTRY_INFO!A37=0,\" \",COUNTRY_INFO!A37)","v":"Tanzania"},{"$f":"IF(COUNTRY_INFO!B37=0,\" \",COUNTRY_INFO!B37)","v":"Iringa"},{"$f":"IF(COUNTRY_INFO!C37=0,\" \",COUNTRY_INFO!C37)","v":"Iringa Municipal Council"},{"$f":"IF(COUNTRY_INFO!$T$9:$T$1000=\"MDA2 (DEC+ALB)\", COUNTRY_INFO!$T$9:$T$1000, \" \")","v":" "},null,null,null,null,0,null,null,null,0," "," "," "," "]
[{"$f":"IF(COUNTRY_INFO!A38=0,\" \",COUNTRY_INFO!A38)","v":"Tanzania"},{"$f":"IF(COUNTRY_INFO!B38=0,\" \",COUNTRY_INFO!B38)","v":"Iringa"},{"$f":"IF(COUNTRY_INFO!C38=0,\" \",COUNTRY_INFO!C38)","v":"Kilolo District Council"},{"$f":"IF(COUNTRY_INFO!$T$9:$T$1000=\"MDA2 (DEC+ALB)\", COUNTRY_INFO!$T$9:$T$1000, \" \")","v":" "},null,null,null,null,0,null,null,null,0," "," "," "," "]
[{"$f":"IF(COUNTRY_INFO!A39=0,\" \",COUNTRY_INFO!A39)","v":"Tanzania"},{"$f":"IF(COUNTRY_INFO!B39=0,\" \",COUNTRY_INFO!B39)","v":"Iringa"},{"$f":"IF(COUNTRY_INFO!C39=0,\" \",COUNTRY_INFO!C39)","v":"Mafinga Town Council"},{"$f":"IF(COUNTRY_INFO!$T$9:$T$1000=\"MDA2 (DEC+ALB)\", COUNTRY_INFO!$T$9:$T$1000, \" \")","v":" "},null,null,null,null,0,null,null,null,0," "," "," "," "]
[{"$f":"IF(COUNTRY_INFO!A40=0,\" \",COUNTRY_INFO!A40)","v":"Tanzania"},{"$f":"IF(COUNTRY_INFO!B40=0,\" \",COUNTRY_INFO!B40)","v":"Iringa"},{"$f":"IF(COUNTRY_INFO!C40=0,\" \",COUNTRY_INFO!C40)","v":"Mufindi District Council"},{"$f":"IF(COUNTRY_INFO!$T$9:$T$1000=\"MDA2 (DEC+ALB)\", COUNTRY_INFO!$T$9:$T$1000, \" \")","v":" "},null,null,null,null,0,null,null,null,0," "," "," "," "]
[{"$f":"IF(COUNTRY_INFO!A41=0,\" \",COUNTRY_INFO!A41)","v":"Tanzania"},{"$f":"IF(COUNTRY_INFO!B41=0,\" \",COUNTRY_INFO!B41)","v":"Kagera"},{"$f":"IF(COUNTRY_INFO!C41=0,\" \",COUNTRY_INFO!C41)","v":"Biharamulo District Council"},{"$f":"IF(COUNTRY_INFO!$T$9:$T$1000=\"MDA2 (DEC+ALB)\", COUNTRY_INFO!$T$9:$T$1000, \" \")","v":" "},null,null,null,null,0,null,null,null,0," "," "," "," "]
[{"$f":"IF(COUNTRY_INFO!A42=0,\" \",COUNTRY_INFO!A42)","v":"Tanzania"},{"$f":"IF(COUNTRY_INFO!B42=0,\" \",COUNTRY_INFO!B42)","v":"Kagera"},{"$f":"IF(COUNTRY_INFO!C42=0,\" \",COUNTRY_INFO!C42)","v":"Bukoba District Council"},{"$f":"IF(COUNTRY_INFO!$T$9:$T$1000=\"MDA2 (DEC+ALB)\", COUNTRY_INFO!$T$9:$T$1000, \" \")","v":" "},null,null,null,null,0,null,null,null,0," "," "," "," "]
[{"$f":"IF(COUNTRY_INFO!A43=0,\" \",COUNTRY_INFO!A43)","v":"Tanzania"},{"$f":"IF(COUNTRY_INFO!B43=0,\" \",COUNTRY_INFO!B43)","v":"Kagera"},{"$f":"IF(COUNTRY_INFO!C43=0,\" \",COUNTRY_INFO!C43)","v":"Bukoba Municipal Council"},{"$f":"IF(COUNTRY_INFO!$T$9:$T$1000=\"MDA2 (DEC+ALB)\", COUNTRY_INFO!$T$9:$T$1000, \" \")","v":" "},null,null,null,null,0,null,null,null,0," "," "," "," "]
[{"$f":"IF(COUNTRY_INFO!A44=0,\" \",COUNTRY_INFO!A44)","v":"Tanzania"},{"$f":"IF(COUNTRY_INFO!B44=0,\" \",COUNTRY_INFO!B44)","v":"Kagera"},{"$f":"IF(COUNTRY_INFO!C44=0,\" \",COUNTRY_INFO!C44)","v":"Karagwe District Council"},{"$f":"IF(COUNTRY_INFO!$T$9:$T$1000=\"MDA2 (DEC+ALB)\", COUNTRY_INFO!$T$9:$T$1000, \" \")","v":" "},null,null,null,null,0,null,null,null,0," "," "," "," "]
[{"$f":"IF(COUNTRY_INFO!A45=0,\" \",COUNTRY_INFO!A45)","v":"Tanzania"},{"$f":"IF(COUNTRY_INFO!B45=0,\" \",COUNTRY_INFO!B45)","v":"Kagera"},{"$f":"IF(COUNTRY_INFO!C45=0,\" \",COUNTRY_INFO!C45)","v":"Kyerwa District Council"},{"$f":"IF(COUNTRY_INFO!$T$9:$T$1000=\"MDA2 (DEC+ALB)\", COUNTRY_INFO!$T$9:$T$1000, \" \")","v":" "},null,null,null,null,0,null,null,null,0," "," "," "," "]
[{"$f":"IF(COUNTRY_INFO!A46=0,\" \",COUNTRY_INFO!A46)","v":"Tanzania"},{"$f":"IF(COUNTRY_INFO!B46=0,\" \",COUNTRY_INFO!B46)","v":"Kagera"},{"$f":"IF(COUNTRY_INFO!C46=0,\" \",COUNTRY_INFO!C46)","v":"Missenyi District Council"},{"$f":"IF(COUNTRY_INFO!$T$9:$T$1000=\"MDA2 (DEC+ALB)\", COUNTRY_INFO!$T$9:$T$1000, \" \")","v":" "},null,null,null,null,0,null,null,null,0," "," "," "," "]
[{"$f":"IF(COUNTRY_INFO!A47=0,\" \",COUNTRY_INFO!A47)","v":"Tanzania"},{"$f":"IF(COUNTRY_INFO!B47=0,\" \",COUNTRY_INFO!B47)","v":"Kagera"},{"$f":"IF(COUNTRY_INFO!C47=0,\" \",COUNTRY_INFO!C47)","v":"Muleba District Council"},{"$f":"IF(COUNTRY_INFO!$T$9:$T$1000=\"MDA2 (DEC+ALB)\", COUNTRY_INFO!$T$9:$T$1000, \" \")","v":" "},null,null,null,null,0,null,null,null,0," "," "," "," "]
[{"$f":"IF(COUNTRY_INFO!A48=0,\" \",COUNTRY_INFO!A48)","v":"Tanzania"},{"$f":"IF(COUNTRY_INFO!B48=0,\" \",COUNTRY_INFO!B48)","v":"Kagera"},{"$f":"IF(COUNTRY_INFO!C48=0,\" \",COUNTRY_INFO!C48)","v":"Ngara District Council"},{"$f":"IF(COUNTRY_INFO!$T$9:$T$1000=\"MDA2 (DEC+ALB)\", COUNTRY_INFO!$T$9:$T$1000, \" \")","v":" "},null,null,null,null,0,null,null,null,0," "," "," "," "]
[{"$f":"IF(COUNTRY_INFO!A49=0,\" \",COUNTRY_INFO!A49)","v":"Tanzania"},{"$f":"IF(COUNTRY_INFO!B49=0,\" \",COUNTRY_INFO!B49)","v":"Katavi"},{"$f":"IF(COUNTRY_INFO!C49=0,\" \",COUNTRY_INFO!C49)","v":"Mlele District Council"},{"$f":"IF(COUNTRY_INFO!$T$9:$T$1000=\"MDA2 (DEC+ALB)\", COUNTRY_INFO!$T$9:$T$1000, \" \")","v":" "},null,null,null,null,0,null,null,null,0," "," "," "," "]
[{"$f":"IF(COUNTRY_INFO!A50=0,\" \",COUNTRY_INFO!A50)","v":"Tanzania"},{"$f":"IF(COUNTRY_INFO!B50=0,\" \",COUNTRY_INFO!B50)","v":"Katavi"},{"$f":"IF(COUNTRY_INFO!C50=0,\" \",COUNTRY_INFO!C50)","v":"Mpanda District Council"},{"$f":"IF(COUNTRY_INFO!$T$9:$T$1000=\"MDA2 (DEC+ALB)\", COUNTRY_INFO!$T$9:$T$1000, \" \")","v":" "},null,null,null,null,0,null,null,null,0," "," "," "," "]
[{"$f":"IF(COUNTRY_INFO!A51=0,\" \",COUNTRY_INFO!A51)","v":"Tanzania"},{"$f":"IF(COUNTRY_INFO!B51=0,\" \",COUNTRY_INFO!B51)","v":"Katavi"},{"$f":"IF(COUNTRY_INFO!C51=0,\" \",COUNTRY_INFO!C51)","v":"Mpanda Municipal Council"},{"$f":"IF(COUNTRY_INFO!$T$9:$T$1000=\"MDA2 (DEC+ALB)\", COUNTRY_INFO!$T$9:$T$1000, \" \")","v":" "},null,null,null,null,0,null,null,null,0," "," "," "," "]
[{"$f":"IF(COUNTRY_INFO!A52=0,\" \",COUNTRY_INFO!A52)","v":"Tanzania"},{"$f":"IF(COUNTRY_INFO!B52=0,\" \",COUNTRY_INFO!B52)","v":"Katavi"},{"$f":"IF(COUNTRY_INFO!C52=0,\" \",COUNTRY_INFO!C52)","v":"Mpimbwe District Council"},{"$f":"IF(COUNTRY_INFO!$T$9:$T$1000=\"MDA2 (DEC+ALB)\", COUNTRY_INFO!$T$9:$T$1000, \" \")","v":" "},null,null,null,null,0,null,null,null,0," "," "," "," "]
[{"$f":"IF(COUNTRY_INFO!A53=0,\" \",COUNTRY_INFO!A53)","v":"Tanzania"},{"$f":"IF(COUNTRY_INFO!B53=0,\" \",COUNTRY_INFO!B53)","v":"Katavi"},{"$f":"IF(COUNTRY_INFO!C53=0,\" \",COUNTRY_INFO!C53)","v":"Nsimbo District Council"},{"$f":"IF(COUNTRY_INFO!$T$9:$T$1000=\"MDA2 (DEC+ALB)\", COUNTRY_INFO!$T$9:$T$1000, \" \")","v":" "},null,null,null,null,0,null,null,null,0," "," "," "," "]
[{"$f":"IF(COUNTRY_INFO!A54=0,\" \",COUNTRY_INFO!A54)","v":"Tanzania"},{"$f":"IF(COUNTRY_INFO!B54=0,\" \",COUNTRY_INFO!B54)","v":"Kigoma"},{"$f":"IF(COUNTRY_INFO!C54=0,\" \",COUNTRY_INFO!C54)","v":"Buhigwe District Council"},{"$f":"IF(COUNTRY_INFO!$T$9:$T$1000=\"MDA2 (DEC+ALB)\", COUNTRY_INFO!$T$9:$T$1000, \" \")","v":" "},null,null,null,null,0,null,null,null,0," "," "," "," "]
[{"$f":"IF(COUNTRY_INFO!A55=0,\" \",COUNTRY_INFO!A55)","v":"Tanzania"},{"$f":"IF(COUNTRY_INFO!B55=0,\" \",COUNTRY_INFO!B55)","v":"Kigoma"},{"$f":"IF(COUNTRY_INFO!C55=0,\" \",COUNTRY_INFO!C55)","v":"Kakonko District Council"},{"$f":"IF(COUNTRY_INFO!$T$9:$T$1000=\"MDA2 (DEC+ALB)\", COUNTRY_INFO!$T$9:$T$1000, \" \")","v":" "},null,null,null,null,0,null,null,null,0," "," "," "," "]
[{"$f":"IF(COUNTRY_INFO!A56=0,\" \",COUNTRY_INFO!A56)","v":"Tanzania"},{"$f":"IF(COUNTRY_INFO!B56=0,\" \",COUNTRY_INFO!B56)","v":"Kigoma"},{"$f":"IF(COUNTRY_INFO!C56=0,\" \",COUNTRY_INFO!C56)","v":"Kasulu District Council"},{"$f":"IF(COUNTRY_INFO!$T$9:$T$1000=\"MDA2 (DEC+ALB)\", COUNTRY_INFO!$T$9:$T$1000, \" \")","v":" "},null,null,null,null,0,null,null,null,0," "," "," "," "]
[{"$f":"IF(COUNTRY_INFO!A57=0,\" \",COUNTRY_INFO!A57)","v":"Tanzania"},{"$f":"IF(COUNTRY_INFO!B57=0,\" \",COUNTRY_INFO!B57)","v":"Kigoma"},{"$f":"IF(COUNTRY_INFO!C57=0,\" \",COUNTRY_INFO!C57)","v":"Kasulu Town Council"},{"$f":"IF(COUNTRY_INFO!$T$9:$T$1000=\"MDA2 (DEC+ALB)\", COUNTRY_INFO!$T$9:$T$1000, \" \")","v":" "},null,null,null,null,0,null,null,null,0," "," "," "," "]
[{"$f":"IF(COUNTRY_INFO!A58=0,\" \",COUNTRY_INFO!A58)","v":"Tanzania"},{"$f":"IF(COUNTRY_INFO!B58=0,\" \",COUNTRY_INFO!B58)","v":"Kigoma"},{"$f":"IF(COUNTRY_INFO!C58=0,\" \",COUNTRY_INFO!C58)","v":"Kibondo District Council"},{"$f":"IF(COUNTRY_INFO!$T$9:$T$1000=\"MDA2 (DEC+ALB)\", COUNTRY_INFO!$T$9:$T$1000, \" \")","v":" "},null,null,null,null,0,null,null,null,0," "," "," "," "]
[{"$f":"IF(COUNTRY_INFO!A59=0,\" \",COUNTRY_INFO!A59)","v":"Tanzania"},{"$f":"IF(COUNTRY_INFO!B59=0,\" \",COUNTRY_INFO!B59)","v":"Kigoma"},{"$f":"IF(COUNTRY_INFO!C59=0,\" \",COUNTRY_INFO!C59)","v":"Kigoma District Council"},{"$f":"IF(COUNTRY_INFO!$T$9:$T$1000=\"MDA2 (DEC+ALB)\", COUNTRY_INFO!$T$9:$T$1000, \" \")","v":" "},null,null,null,null,0,null,null,null,0," "," "," "," "]
[{"$f":"IF(COUNTRY_INFO!A60=0,\" \",COUNTRY_INFO!A60)","v":"Tanzania"},{"$f":"IF(COUNTRY_INFO!B60=0,\" \",COUNTRY_INFO!B60)","v":"Kigoma"},{"$f":"IF(COUNTRY_INFO!C60=0,\" \",COUNTRY_INFO!C60)","v":"Kigoma-Ujiji Municipal Council"},{"$f":"IF(COUNTRY_INFO!$T$9:$T$1000=\"MDA2 (DEC+ALB)\", COUNTRY_INFO!$T$9:$T$1000, \" \")","v":" "},null,null,null,null,0,null,null,null,0," "," "," "," "]
[{"$f":"IF(COUNTRY_INFO!A61=0,\" \",COUNTRY_INFO!A61)","v":"Tanzania"},{"$f":"IF(COUNTRY_INFO!B61=0,\" \",COUNTRY_INFO!B61)","v":"Kigoma"},{"$f":"IF(COUNTRY_INFO!C61=0,\" \",COUNTRY_INFO!C61)","v":"Uvinza District Council"},{"$f":"IF(COUNTRY_INFO!$T$9:$T$1000=\"MDA2 (DEC+ALB)\", COUNTRY_INFO!$T$9:$T$1000, \" \")","v":" "},null,null,null,null,0,null,null,null,0," "," "," "," "]
[{"$f":"IF(COUNTRY_INFO!A62=0,\" \",COUNTRY_INFO!A62)","v":"Tanzania"},{"$f":"IF(COUNTRY_INFO!B62=0,\" \",COUNTRY_INFO!B62)","v":"Kilimanjaro"},{"$f":"IF(COUNTRY_INFO!C62=0,\" \",COUNTRY_INFO!C62)","v":"Hai District Council"},{"$f":"IF(COUNTRY_INFO!$T$9:$T$1000=\"MDA2 (DEC+ALB)\", COUNTRY_INFO!$T$9:$T$1000, \" \")","v":" "},null,null,null,null,0,null,null,null,0," "," "," "," "]
[{"$f":"IF(COUNTRY_INFO!A63=0,\" \",COUNTRY_INFO!A63)","v":"Tanzania"},{"$f":"IF(COUNTRY_INFO!B63=0,\" \",COUNTRY_INFO!B63)","v":"Kilimanjaro"},{"$f":"IF(COUNTRY_INFO!C63=0,\" \",COUNTRY_INFO!C63)","v":"Moshi District Council"},{"$f":"IF(COUNTRY_INFO!$T$9:$T$1000=\"MDA2 (DEC+ALB)\", COUNTRY_INFO!$T$9:$T$1000, \" \")","v":" "},null,null,null,null,0,null,null,null,0," "," "," "," "]
[{"$f":"IF(COUNTRY_INFO!A64=0,\" \",COUNTRY_INFO!A64)","v":"Tanzania"},{"$f":"IF(COUNTRY_INFO!B64=0,\" \",COUNTRY_INFO!B64)","v":"Kilimanjaro"},{"$f":"IF(COUNTRY_INFO!C64=0,\" \",COUNTRY_INFO!C64)","v":"Moshi Municipal Council"},{"$f":"IF(COUNTRY_INFO!$T$9:$T$1000=\"MDA2 (DEC+ALB)\", COUNTRY_INFO!$T$9:$T$1000, \" \")","v":" "},null,null,null,null,0,null,null,null,0," "," "," "," "]
[{"$f":"IF(COUNTRY_INFO!A65=0,\" \",COUNTRY_INFO!A65)","v":"Tanzania"},{"$f":"IF(COUNTRY_INFO!B65=0,\" \",COUNTRY_INFO!B65)","v":"Kilimanjaro"},{"$f":"IF(COUNTRY_INFO!C65=0,\" \",COUNTRY_INFO!C65)","v":"Mwanga District Council"},{"$f":"IF(COUNTRY_INFO!$T$9:$T$1000=\"MDA2 (DEC+ALB)\", COUNTRY_INFO!$T$9:$T$1000, \" \")","v":" "},null,null,null,null,0,null,null,null,0," "," "," "," "]
[{"$f":"IF(COUNTRY_INFO!A66=0,\" \",COUNTRY_INFO!A66)","v":"Tanzania"},{"$f":"IF(COUNTRY_INFO!B66=0,\" \",COUNTRY_INFO!B66)","v":"Kilimanjaro"},{"$f":"IF(COUNTRY_INFO!C66=0,\" \",COUNTRY_INFO!C66)","v":"Rombo District Council"},{"$f":"IF(COUNTRY_INFO!$T$9:$T$1000=\"MDA2 (DEC+ALB)\", COUNTRY_INFO!$T$9:$T$1000, \" \")","v":" "},null,null,null,null,0,null,null,null,0," "," "," "," "]
[{"$f":"IF(COUNTRY_INFO!A67=0,\" \",COUNTRY_INFO!A67)","v":"Tanzania"},{"$f":"IF(COUNTRY_INFO!B67=0,\" \",COUNTRY_INFO!B67)","v":"Kilimanjaro"},{"$f":"IF(COUNTRY_INFO!C67=0,\" \",COUNTRY_INFO!C67)","v":"Same District Council"},{"$f":"IF(COUNTRY_INFO!$T$9:$T$1000=\"MDA2 (DEC+ALB)\", COUNTRY_INFO!$T$9:$T$1000, \" \")","v":" "},null,null,null,null,0,null,null,null,0," "," "," "," "]
[{"$f":"IF(COUNTRY_INFO!A68=0,\" \",COUNTRY_INFO!A68)","v":"Tanzania"},{"$f":"IF(COUNTRY_INFO!B68=0,\" \",COUNTRY_INFO!B68)","v":"Kilimanjaro"},{"$f":"IF(COUNTRY_INFO!C68=0,\" \",COUNTRY_INFO!C68)","v":"Siha District Council"},{"$f":"IF(COUNTRY_INFO!$T$9:$T$1000=\"MDA2 (DEC+ALB)\", COUNTRY_INFO!$T$9:$T$1000, \" \")","v":" "},null,null,null,null,0,null,null,null,0," "," "," "," "]
[{"$f":"IF(COUNTRY_INFO!A69=0,\" \",COUNTRY_INFO!A69)","v":"Tanzania"},{"$f":"IF(COUNTRY_INFO!B69=0,\" \",COUNTRY_INFO!B69)","v":"Lindi"},{"$f":"IF(COUNTRY_INFO!C69=0,\" \",COUNTRY_INFO!C69)","v":"Kilwa District Council"},{"$f":"IF(COUNTRY_INFO!$T$9:$T$1000=\"MDA2 (DEC+ALB)\", COUNTRY_INFO!$T$9:$T$1000, \" \")","v":" "},null,null,null,null,0,null,null,null,0," "," "," "," "]
[{"$f":"IF(COUNTRY_INFO!A70=0,\" \",COUNTRY_INFO!A70)","v":"Tanzania"},{"$f":"IF(COUNTRY_INFO!B70=0,\" \",COUNTRY_INFO!B70)","v":"Lindi"},{"$f":"IF(COUNTRY_INFO!C70=0,\" \",COUNTRY_INFO!C70)","v":"Lindi District Council"},{"$f":"IF(COUNTRY_INFO!$T$9:$T$1000=\"MDA2 (DEC+ALB)\", COUNTRY_INFO!$T$9:$T$1000, \" \")","v":" "},null,null,null,null,0,null,null,null,0," "," "," "," "]
[{"$f":"IF(COUNTRY_INFO!A71=0,\" \",COUNTRY_INFO!A71)","v":"Tanzania"},{"$f":"IF(COUNTRY_INFO!B71=0,\" \",COUNTRY_INFO!B71)","v":"Lindi"},{"$f":"IF(COUNTRY_INFO!C71=0,\" \",COUNTRY_INFO!C71)","v":"Lindi Municipal Council"},{"$f":"IF(COUNTRY_INFO!$T$9:$T$1000=\"MDA2 (DEC+ALB)\", COUNTRY_INFO!$T$9:$T$1000, \" \")","v":" "},null,null,null,null,0,null,null,null,0," "," "," "," "]
[{"$f":"IF(COUNTRY_INFO!A72=0,\" \",COUNTRY_INFO!A72)","v":"Tanzania"},{"$f":"IF(COUNTRY_INFO!B72=0,\" \",COUNTRY_INFO!B72)","v":"Lindi"},{"$f":"IF(COUNTRY_INFO!C72=0,\" \",COUNTRY_INFO!C72)","v":"Liwale District Council"},{"$f":"IF(COUNTRY_INFO!$T$9:$T$1000=\"MDA2 (DEC+ALB)\", COUNTRY_INFO!$T$9:$T$1000, \" \")","v":" "},null,null,null,null,0,null,null,null,0," "," "," "," "]
[{"$f":"IF(COUNTRY_INFO!A73=0,\" \",COUNTRY_INFO!A73)","v":"Tanzania"},{"$f":"IF(COUNTRY_INFO!B73=0,\" \",COUNTRY_INFO!B73)","v":"Lindi"},{"$f":"IF(COUNTRY_INFO!C73=0,\" \",COUNTRY_INFO!C73)","v":"Nachingwea District Council"},{"$f":"IF(COUNTRY_INFO!$T$9:$T$1000=\"MDA2 (DEC+ALB)\", COUNTRY_INFO!$T$9:$T$1000, \" \")","v":" "},null,null,null,null,0,null,null,null,0," "," "," "," "]
[{"$f":"IF(COUNTRY_INFO!A74=0,\" \",COUNTRY_INFO!A74)","v":"Tanzania"},{"$f":"IF(COUNTRY_INFO!B74=0,\" \",COUNTRY_INFO!B74)","v":"Lindi"},{"$f":"IF(COUNTRY_INFO!C74=0,\" \",COUNTRY_INFO!C74)","v":"Ruangwa District Council"},{"$f":"IF(COUNTRY_INFO!$T$9:$T$1000=\"MDA2 (DEC+ALB)\", COUNTRY_INFO!$T$9:$T$1000, \" \")","v":" "},null,null,null,null,{"$f":"SUM(F74:H74)","v":0},null,null,null,{"$f":"SUM(J74:L74)","v":0},{"$f":"IF(F74<>0, IF(J74/F74*100=0, \"-\", J74/F74*100), \" \")","v":" "},{"$f":"IF(G74<>0, IF(K74/G74*100=0, \"-\", K74/G74*100), \" \")","v":" "},{"$f":"IF(H74<>0, IF(L74/H74*100=0, \"-\", L74/H74*100), \" \")","v":" "},{"$f":"IF(I74<>0, IF(M74/I74*100=0, \"-\", M74/I74*100), \" \")","v":" "}]
[{"$f":"IF(COUNTRY_INFO!A75=0,\" \",COUNTRY_INFO!A75)","v":"Tanzania"},{"$f":"IF(COUNTRY_INFO!B75=0,\" \",COUNTRY_INFO!B75)","v":"Manyara"},{"$f":"IF(COUNTRY_INFO!C75=0,\" \",COUNTRY_INFO!C75)","v":"Babati District Council"},{"$f":"IF(COUNTRY_INFO!$T$9:$T$1000=\"MDA2 (DEC+ALB)\", COUNTRY_INFO!$T$9:$T$1000, \" \")","v":" "},null,null,null,null,0,null,null,null,0," "," "," "," "]
[{"$f":"IF(COUNTRY_INFO!A76=0,\" \",COUNTRY_INFO!A76)","v":"Tanzania"},{"$f":"IF(COUNTRY_INFO!B76=0,\" \",COUNTRY_INFO!B76)","v":"Manyara"},{"$f":"IF(COUNTRY_INFO!C76=0,\" \",COUNTRY_INFO!C76)","v":"Babati Town Council"},{"$f":"IF(COUNTRY_INFO!$T$9:$T$1000=\"MDA2 (DEC+ALB)\", COUNTRY_INFO!$T$9:$T$1000, \" \")","v":" "},null,null,null,null,0,null,null,null,0," "," "," "," "]
[{"$f":"IF(COUNTRY_INFO!A77=0,\" \",COUNTRY_INFO!A77)","v":"Tanzania"},{"$f":"IF(COUNTRY_INFO!B77=0,\" \",COUNTRY_INFO!B77)","v":"Manyara"},{"$f":"IF(COUNTRY_INFO!C77=0,\" \",COUNTRY_INFO!C77)","v":"Hanang District Council"},{"$f":"IF(COUNTRY_INFO!$T$9:$T$1000=\"MDA2 (DEC+ALB)\", COUNTRY_INFO!$T$9:$T$1000, \" \")","v":" "},null,null,null,null,0,null,null,null,0," "," "," "," "]
[{"$f":"IF(COUNTRY_INFO!A78=0,\" \",COUNTRY_INFO!A78)","v":"Tanzania"},{"$f":"IF(COUNTRY_INFO!B78=0,\" \",COUNTRY_INFO!B78)","v":"Manyara"},{"$f":"IF(COUNTRY_INFO!C78=0,\" \",COUNTRY_INFO!C78)","v":"Kiteto District Council"},{"$f":"IF(COUNTRY_INFO!$T$9:$T$1000=\"MDA2 (DEC+ALB)\", COUNTRY_INFO!$T$9:$T$1000, \" \")","v":" "},null,null,null,null,0,null,null,null,0," "," "," "," "]
[{"$f":"IF(COUNTRY_INFO!A79=0,\" \",COUNTRY_INFO!A79)","v":"Tanzania"},{"$f":"IF(COUNTRY_INFO!B79=0,\" \",COUNTRY_INFO!B79)","v":"Manyara"},{"$f":"IF(COUNTRY_INFO!C79=0,\" \",COUNTRY_INFO!C79)","v":"Mbulu District Council"},{"$f":"IF(COUNTRY_INFO!$T$9:$T$1000=\"MDA2 (DEC+ALB)\", COUNTRY_INFO!$T$9:$T$1000, \" \")","v":" "},null,null,null,null,0,null,null,null,0," "," "," "," "]
[{"$f":"IF(COUNTRY_INFO!A80=0,\" \",COUNTRY_INFO!A80)","v":"Tanzania"},{"$f":"IF(COUNTRY_INFO!B80=0,\" \",COUNTRY_INFO!B80)","v":"Manyara"},{"$f":"IF(COUNTRY_INFO!C80=0,\" \",COUNTRY_INFO!C80)","v":"Mbulu Town Council"},{"$f":"IF(COUNTRY_INFO!$T$9:$T$1000=\"MDA2 (DEC+ALB)\", COUNTRY_INFO!$T$9:$T$1000, \" \")","v":" "},null,null,null,null,0,null,null,null,0," "," "," "," "]
[{"$f":"IF(COUNTRY_INFO!A81=0,\" \",COUNTRY_INFO!A81)","v":"Tanzania"},{"$f":"IF(COUNTRY_INFO!B81=0,\" \",COUNTRY_INFO!B81)","v":"Manyara"},{"$f":"IF(COUNTRY_INFO!C81=0,\" \",COUNTRY_INFO!C81)","v":"Simanjiro District Council"},{"$f":"IF(COUNTRY_INFO!$T$9:$T$1000=\"MDA2 (DEC+ALB)\", COUNTRY_INFO!$T$9:$T$1000, \" \")","v":" "},null,null,null,null,0,null,null,null,0," "," "," "," "]
[{"$f":"IF(COUNTRY_INFO!A82=0,\" \",COUNTRY_INFO!A82)","v":"Tanzania"},{"$f":"IF(COUNTRY_INFO!B82=0,\" \",COUNTRY_INFO!B82)","v":"Mara"},{"$f":"IF(COUNTRY_INFO!C82=0,\" \",COUNTRY_INFO!C82)","v":"Bunda District Council"},{"$f":"IF(COUNTRY_INFO!$T$9:$T$1000=\"MDA2 (DEC+ALB)\", COUNTRY_INFO!$T$9:$T$1000, \" \")","v":" "},null,null,null,null,0,null,null,null,0," "," "," "," "]
[{"$f":"IF(COUNTRY_INFO!A83=0,\" \",COUNTRY_INFO!A83)","v":"Tanzania"},{"$f":"IF(COUNTRY_INFO!B83=0,\" \",COUNTRY_INFO!B83)","v":"Mara"},{"$f":"IF(COUNTRY_INFO!C83=0,\" \",COUNTRY_INFO!C83)","v":"Bunda Town Council"},{"$f":"IF(COUNTRY_INFO!$T$9:$T$1000=\"MDA2 (DEC+ALB)\", COUNTRY_INFO!$T$9:$T$1000, \" \")","v":" "},null,null,null,null,0,null,null,null,0," "," "," "," "]
[{"$f":"IF(COUNTRY_INFO!A84=0,\" \",COUNTRY_INFO!A84)","v":"Tanzania"},{"$f":"IF(COUNTRY_INFO!B84=0,\" \",COUNTRY_INFO!B84)","v":"Mara"},{"$f":"IF(COUNTRY_INFO!C84=0,\" \",COUNTRY_INFO!C84)","v":"Butiama District Council"},{"$f":"IF(COUNTRY_INFO!$T$9:$T$1000=\"MDA2 (DEC+ALB)\", COUNTRY_INFO!$T$9:$T$1000, \" \")","v":" "},null,null,null,null,0,null,null,null,0," "," "," "," "]
[{"$f":"IF(COUNTRY_INFO!A85=0,\" \",COUNTRY_INFO!A85)","v":"Tanzania"},{"$f":"IF(COUNTRY_INFO!B85=0,\" \",COUNTRY_INFO!B85)","v":"Mara"},{"$f":"IF(COUNTRY_INFO!C85=0,\" \",COUNTRY_INFO!C85)","v":"Musoma District Council"},{"$f":"IF(COUNTRY_INFO!$T$9:$T$1000=\"MDA2 (DEC+ALB)\", COUNTRY_INFO!$T$9:$T$1000, \" \")","v":" "},null,null,null,null,0,null,null,null,0," "," "," "," "]
[{"$f":"IF(COUNTRY_INFO!A86=0,\" \",COUNTRY_INFO!A86)","v":"Tanzania"},{"$f":"IF(COUNTRY_INFO!B86=0,\" \",COUNTRY_INFO!B86)","v":"Mara"},{"$f":"IF(COUNTRY_INFO!C86=0,\" \",COUNTRY_INFO!C86)","v":"Musoma Municipal Council"},{"$f":"IF(COUNTRY_INFO!$T$9:$T$1000=\"MDA2 (DEC+ALB)\", COUNTRY_INFO!$T$9:$T$1000, \" \")","v":" "},null,null,null,null,0,null,null,null,0," "," "," "," "]
[{"$f":"IF(COUNTRY_INFO!A87=0,\" \",COUNTRY_INFO!A87)","v":"Tanzania"},{"$f":"IF(COUNTRY_INFO!B87=0,\" \",COUNTRY_INFO!B87)","v":"Mara"},{"$f":"IF(COUNTRY_INFO!C87=0,\" \",COUNTRY_INFO!C87)","v":"Rorya District Council"},{"$f":"IF(COUNTRY_INFO!$T$9:$T$1000=\"MDA2 (DEC+ALB)\", COUNTRY_INFO!$T$9:$T$1000, \" \")","v":" "},null,null,null,null,0,null,null,null,0," "," "," "," "]
[{"$f":"IF(COUNTRY_INFO!A88=0,\" \",COUNTRY_INFO!A88)","v":"Tanzania"},{"$f":"IF(COUNTRY_INFO!B88=0,\" \",COUNTRY_INFO!B88)","v":"Mara"},{"$f":"IF(COUNTRY_INFO!C88=0,\" \",COUNTRY_INFO!C88)","v":"Serengeti District Council"},{"$f":"IF(COUNTRY_INFO!$T$9:$T$1000=\"MDA2 (DEC+ALB)\", COUNTRY_INFO!$T$9:$T$1000, \" \")","v":" "},null,null,null,null,0,null,null,null,0," "," "," "," "]
[{"$f":"IF(COUNTRY_INFO!A89=0,\" \",COUNTRY_INFO!A89)","v":"Tanzania"},{"$f":"IF(COUNTRY_INFO!B89=0,\" \",COUNTRY_INFO!B89)","v":"Mara"},{"$f":"IF(COUNTRY_INFO!C89=0,\" \",COUNTRY_INFO!C89)","v":"Tarime District Council"},{"$f":"IF(COUNTRY_INFO!$T$9:$T$1000=\"MDA2 (DEC+ALB)\", COUNTRY_INFO!$T$9:$T$1000, \" \")","v":" "},null,null,null,null,0,null,null,null,0," "," "," "," "]
[{"$f":"IF(COUNTRY_INFO!A90=0,\" \",COUNTRY_INFO!A90)","v":"Tanzania"},{"$f":"IF(COUNTRY_INFO!B90=0,\" \",COUNTRY_INFO!B90)","v":"Mara"},{"$f":"IF(COUNTRY_INFO!C90=0,\" \",COUNTRY_INFO!C90)","v":"Tarime Town Council"},{"$f":"IF(COUNTRY_INFO!$T$9:$T$1000=\"MDA2 (DEC+ALB)\", COUNTRY_INFO!$T$9:$T$1000, \" \")","v":" "},null,null,null,null,0,null,null,null,0," "," "," "," "]
[{"$f":"IF(COUNTRY_INFO!A91=0,\" \",COUNTRY_INFO!A91)","v":"Tanzania"},{"$f":"IF(COUNTRY_INFO!B91=0,\" \",COUNTRY_INFO!B91)","v":"Mbeya"},{"$f":"IF(COUNTRY_INFO!C91=0,\" \",COUNTRY_INFO!C91)","v":"Busokelo District Council"},{"$f":"IF(COUNTRY_INFO!$T$9:$T$1000=\"MDA2 (DEC+ALB)\", COUNTRY_INFO!$T$9:$T$1000, \" \")","v":" "},null,null,null,null,0,null,null,null,0," "," "," "," "]
[{"$f":"IF(COUNTRY_INFO!A92=0,\" \",COUNTRY_INFO!A92)","v":"Tanzania"},{"$f":"IF(COUNTRY_INFO!B92=0,\" \",COUNTRY_INFO!B92)","v":"Mbeya"},{"$f":"IF(COUNTRY_INFO!C92=0,\" \",COUNTRY_INFO!C92)","v":"Chunya District Council"},{"$f":"IF(COUNTRY_INFO!$T$9:$T$1000=\"MDA2 (DEC+ALB)\", COUNTRY_INFO!$T$9:$T$1000, \" \")","v":" "},null,null,null,null,0,null,null,null,0," "," "," "," "]
[{"$f":"IF(COUNTRY_INFO!A93=0,\" \",COUNTRY_INFO!A93)","v":"Tanzania"},{"$f":"IF(COUNTRY_INFO!B93=0,\" \",COUNTRY_INFO!B93)","v":"Mbeya"},{"$f":"IF(COUNTRY_INFO!C93=0,\" \",COUNTRY_INFO!C93)","v":"Kyela District Council"},{"$f":"IF(COUNTRY_INFO!$T$9:$T$1000=\"MDA2 (DEC+ALB)\", COUNTRY_INFO!$T$9:$T$1000, \" \")","v":" "},null,null,null,null,0,null,null,null,0," "," "," "," "]
[{"$f":"IF(COUNTRY_INFO!A94=0,\" \",COUNTRY_INFO!A94)","v":"Tanzania"},{"$f":"IF(COUNTRY_INFO!B94=0,\" \",COUNTRY_INFO!B94)","v":"Mbeya"},{"$f":"IF(COUNTRY_INFO!C94=0,\" \",COUNTRY_INFO!C94)","v":"Mbarali District Council"},{"$f":"IF(COUNTRY_INFO!$T$9:$T$1000=\"MDA2 (DEC+ALB)\", COUNTRY_INFO!$T$9:$T$1000, \" \")","v":" "},null,null,null,null,0,null,null,null,0," "," "," "," "]
[{"$f":"IF(COUNTRY_INFO!A95=0,\" \",COUNTRY_INFO!A95)","v":"Tanzania"},{"$f":"IF(COUNTRY_INFO!B95=0,\" \",COUNTRY_INFO!B95)","v":"Mbeya"},{"$f":"IF(COUNTRY_INFO!C95=0,\" \",COUNTRY_INFO!C95)","v":"Mbeya City Council"},{"$f":"IF(COUNTRY_INFO!$T$9:$T$1000=\"MDA2 (DEC+ALB)\", COUNTRY_INFO!$T$9:$T$1000, \" \")","v":" "},null,null,null,null,0,null,null,null,0," "," "," "," "]
[{"$f":"IF(COUNTRY_INFO!A96=0,\" \",COUNTRY_INFO!A96)","v":"Tanzania"},{"$f":"IF(COUNTRY_INFO!B96=0,\" \",COUNTRY_INFO!B96)","v":"Mbeya"},{"$f":"IF(COUNTRY_INFO!C96=0,\" \",COUNTRY_INFO!C96)","v":"Mbeya District Council"},{"$f":"IF(COUNTRY_INFO!$T$9:$T$1000=\"MDA2 (DEC+ALB)\", COUNTRY_INFO!$T$9:$T$1000, \" \")","v":" "},null,null,null,null,0,null,null,null,0," "," "," "," "]
[{"$f":"IF(COUNTRY_INFO!A97=0,\" \",COUNTRY_INFO!A97)","v":"Tanzania"},{"$f":"IF(COUNTRY_INFO!B97=0,\" \",COUNTRY_INFO!B97)","v":"Mbeya"},{"$f":"IF(COUNTRY_INFO!C97=0,\" \",COUNTRY_INFO!C97)","v":"Rungwe District Council"},{"$f":"IF(COUNTRY_INFO!$T$9:$T$1000=\"MDA2 (DEC+ALB)\", COUNTRY_INFO!$T$9:$T$1000, \" \")","v":" "},null,null,null,null,0,null,null,null,0," "," "," "," "]
[{"$f":"IF(COUNTRY_INFO!A98=0,\" \",COUNTRY_INFO!A98)","v":"Tanzania"},{"$f":"IF(COUNTRY_INFO!B98=0,\" \",COUNTRY_INFO!B98)","v":"Morogoro"},{"$f":"IF(COUNTRY_INFO!C98=0,\" \",COUNTRY_INFO!C98)","v":"Gairo District Council"},{"$f":"IF(COUNTRY_INFO!$T$9:$T$1000=\"MDA2 (DEC+ALB)\", COUNTRY_INFO!$T$9:$T$1000, \" \")","v":" "},null,null,null,null,0,null,null,null,0," "," "," "," "]
[{"$f":"IF(COUNTRY_INFO!A99=0,\" \",COUNTRY_INFO!A99)","v":"Tanzania"},{"$f":"IF(COUNTRY_INFO!B99=0,\" \",COUNTRY_INFO!B99)","v":"Morogoro"},{"$f":"IF(COUNTRY_INFO!C99=0,\" \",COUNTRY_INFO!C99)","v":"Ifakara Town Council"},{"$f":"IF(COUNTRY_INFO!$T$9:$T$1000=\"MDA2 (DEC+ALB)\", COUNTRY_INFO!$T$9:$T$1000, \" \")","v":" "},null,null,null,null,0,null,null,null,0," "," "," "," "]
[{"$f":"IF(COUNTRY_INFO!A100=0,\" \",COUNTRY_INFO!A100)","v":"Tanzania"},{"$f":"IF(COUNTRY_INFO!B100=0,\" \",COUNTRY_INFO!B100)","v":"Morogoro"},{"$f":"IF(COUNTRY_INFO!C100=0,\" \",COUNTRY_INFO!C100)","v":"Kilombero District Council"},{"$f":"IF(COUNTRY_INFO!$T$9:$T$1000=\"MDA2 (DEC+ALB)\", COUNTRY_INFO!$T$9:$T$1000, \" \")","v":" "},null,null,null,null,0,null,null,null,0," "," "," "," "]
[{"$f":"IF(COUNTRY_INFO!A101=0,\" \",COUNTRY_INFO!A101)","v":"Tanzania"},{"$f":"IF(COUNTRY_INFO!B101=0,\" \",COUNTRY_INFO!B101)","v":"Morogoro"},{"$f":"IF(COUNTRY_INFO!C101=0,\" \",COUNTRY_INFO!C101)","v":"Kilosa District Council"},{"$f":"IF(COUNTRY_INFO!$T$9:$T$1000=\"MDA2 (DEC+ALB)\", COUNTRY_INFO!$T$9:$T$1000, \" \")","v":" "},null,null,null,null,0,null,null,null,0," "," "," "," "]
[{"$f":"IF(COUNTRY_INFO!A102=0,\" \",COUNTRY_INFO!A102)","v":"Tanzania"},{"$f":"IF(COUNTRY_INFO!B102=0,\" \",COUNTRY_INFO!B102)","v":"Morogoro"},{"$f":"IF(COUNTRY_INFO!C102=0,\" \",COUNTRY_INFO!C102)","v":"Malinyi District Council"},{"$f":"IF(COUNTRY_INFO!$T$9:$T$1000=\"MDA2 (DEC+ALB)\", COUNTRY_INFO!$T$9:$T$1000, \" \")","v":" "},null,null,null,null,0,null,null,null,0," "," "," "," "]
[{"$f":"IF(COUNTRY_INFO!A103=0,\" \",COUNTRY_INFO!A103)","v":"Tanzania"},{"$f":"IF(COUNTRY_INFO!B103=0,\" \",COUNTRY_INFO!B103)","v":"Morogoro"},{"$f":"IF(COUNTRY_INFO!C103=0,\" \",COUNTRY_INFO!C103)","v":"Morogoro District Council"},{"$f":"IF(COUNTRY_INFO!$T$9:$T$1000=\"MDA2 (DEC+ALB)\", COUNTRY_INFO!$T$9:$T$1000, \" \")","v":" "},null,null,null,null,0,null,null,null,0," "," "," "," "]
[{"$f":"IF(COUNTRY_INFO!A104=0,\" \",COUNTRY_INFO!A104)","v":"Tanzania"},{"$f":"IF(COUNTRY_INFO!B104=0,\" \",COUNTRY_INFO!B104)","v":"Morogoro"},{"$f":"IF(COUNTRY_INFO!C104=0,\" \",COUNTRY_INFO!C104)","v":"Morogoro Municipal Council"},{"$f":"IF(COUNTRY_INFO!$T$9:$T$1000=\"MDA2 (DEC+ALB)\", COUNTRY_INFO!$T$9:$T$1000, \" \")","v":" "},null,null,null,null,0,null,null,null,0," "," "," "," "]
[{"$f":"IF(COUNTRY_INFO!A105=0,\" \",COUNTRY_INFO!A105)","v":"Tanzania"},{"$f":"IF(COUNTRY_INFO!B105=0,\" \",COUNTRY_INFO!B105)","v":"Morogoro"},{"$f":"IF(COUNTRY_INFO!C105=0,\" \",COUNTRY_INFO!C105)","v":"Mvomero District Council"},{"$f":"IF(COUNTRY_INFO!$T$9:$T$1000=\"MDA2 (DEC+ALB)\", COUNTRY_INFO!$T$9:$T$1000, \" \")","v":" "},null,null,null,null,0,null,null,null,0," "," "," "," "]
[{"$f":"IF(COUNTRY_INFO!A106=0,\" \",COUNTRY_INFO!A106)","v":"Tanzania"},{"$f":"IF(COUNTRY_INFO!B106=0,\" \",COUNTRY_INFO!B106)","v":"Morogoro"},{"$f":"IF(COUNTRY_INFO!C106=0,\" \",COUNTRY_INFO!C106)","v":"Ulanga District Council"},{"$f":"IF(COUNTRY_INFO!$T$9:$T$1000=\"MDA2 (DEC+ALB)\", COUNTRY_INFO!$T$9:$T$1000, \" \")","v":" "},null,null,null,null,0,null,null,null,0," "," "," "," "]
[{"$f":"IF(COUNTRY_INFO!A107=0,\" \",COUNTRY_INFO!A107)","v":"Tanzania"},{"$f":"IF(COUNTRY_INFO!B107=0,\" \",COUNTRY_INFO!B107)","v":"Mtwara"},{"$f":"IF(COUNTRY_INFO!C107=0,\" \",COUNTRY_INFO!C107)","v":"Masasi District Council"},{"$f":"IF(COUNTRY_INFO!$T$9:$T$1000=\"MDA2 (DEC+ALB)\", COUNTRY_INFO!$T$9:$T$1000, \" \")","v":" "},null,null,null,null,0,null,null,null,0," "," "," "," "]
[{"$f":"IF(COUNTRY_INFO!A108=0,\" \",COUNTRY_INFO!A108)","v":"Tanzania"},{"$f":"IF(COUNTRY_INFO!B108=0,\" \",COUNTRY_INFO!B108)","v":"Mtwara"},{"$f":"IF(COUNTRY_INFO!C108=0,\" \",COUNTRY_INFO!C108)","v":"Masasi Town Council"},{"$f":"IF(COUNTRY_INFO!$T$9:$T$1000=\"MDA2 (DEC+ALB)\", COUNTRY_INFO!$T$9:$T$1000, \" \")","v":" "},null,null,null,null,0,null,null,null,0," "," "," "," "]
[{"$f":"IF(COUNTRY_INFO!A109=0,\" \",COUNTRY_INFO!A109)","v":"Tanzania"},{"$f":"IF(COUNTRY_INFO!B109=0,\" \",COUNTRY_INFO!B109)","v":"Mtwara"},{"$f":"IF(COUNTRY_INFO!C109=0,\" \",COUNTRY_INFO!C109)","v":"Mtwara District Council"},{"$f":"IF(COUNTRY_INFO!$T$9:$T$1000=\"MDA2 (DEC+ALB)\", COUNTRY_INFO!$T$9:$T$1000, \" \")","v":" "},null,null,null,null,0,null,null,null,0," "," "," "," "]
[{"$f":"IF(COUNTRY_INFO!A110=0,\" \",COUNTRY_INFO!A110)","v":"Tanzania"},{"$f":"IF(COUNTRY_INFO!B110=0,\" \",COUNTRY_INFO!B110)","v":"Mtwara"},{"$f":"IF(COUNTRY_INFO!C110=0,\" \",COUNTRY_INFO!C110)","v":"Mtwara-Mikindani Municipal Council"},{"$f":"IF(COUNTRY_INFO!$T$9:$T$1000=\"MDA2 (DEC+ALB)\", COUNTRY_INFO!$T$9:$T$1000, \" \")","v":" "},null,null,null,null,0,null,null,null,0," "," "," "," "]
[{"$f":"IF(COUNTRY_INFO!A111=0,\" \",COUNTRY_INFO!A111)","v":"Tanzania"},{"$f":"IF(COUNTRY_INFO!B111=0,\" \",COUNTRY_INFO!B111)","v":"Mtwara"},{"$f":"IF(COUNTRY_INFO!C111=0,\" \",COUNTRY_INFO!C111)","v":"Nanyamba District Council"},{"$f":"IF(COUNTRY_INFO!$T$9:$T$1000=\"MDA2 (DEC+ALB)\", COUNTRY_INFO!$T$9:$T$1000, \" \")","v":" "},null,null,null,null,0,null,null,null,0," "," "," "," "]
[{"$f":"IF(COUNTRY_INFO!A112=0,\" \",COUNTRY_INFO!A112)","v":"Tanzania"},{"$f":"IF(COUNTRY_INFO!B112=0,\" \",COUNTRY_INFO!B112)","v":"Mtwara"},{"$f":"IF(COUNTRY_INFO!C112=0,\" \",COUNTRY_INFO!C112)","v":"Nanyumbu District Council"},{"$f":"IF(COUNTRY_INFO!$T$9:$T$1000=\"MDA2 (DEC+ALB)\", COUNTRY_INFO!$T$9:$T$1000, \" \")","v":" "},null,null,null,null,0,null,null,null,0," "," "," "," "]
[{"$f":"IF(COUNTRY_INFO!A113=0,\" \",COUNTRY_INFO!A113)","v":"Tanzania"},{"$f":"IF(COUNTRY_INFO!B113=0,\" \",COUNTRY_INFO!B113)","v":"Mtwara"},{"$f":"IF(COUNTRY_INFO!C113=0,\" \",COUNTRY_INFO!C113)","v":"Newala District Council"},{"$f":"IF(COUNTRY_INFO!$T$9:$T$1000=\"MDA2 (DEC+ALB)\", COUNTRY_INFO!$T$9:$T$1000, \" \")","v":" "},null,null,null,null,0,null,null,null,0," "," "," "," "]
[{"$f":"IF(COUNTRY_INFO!A114=0,\" \",COUNTRY_INFO!A114)","v":"Tanzania"},{"$f":"IF(COUNTRY_INFO!B114=0,\" \",COUNTRY_INFO!B114)","v":"Mtwara"},{"$f":"IF(COUNTRY_INFO!C114=0,\" \",COUNTRY_INFO!C114)","v":"Newala Town Council"},{"$f":"IF(COUNTRY_INFO!$T$9:$T$1000=\"MDA2 (DEC+ALB)\", COUNTRY_INFO!$T$9:$T$1000, \" \")","v":" "},null,null,null,null,0,null,null,null,0," "," "," "," "]
[{"$f":"IF(COUNTRY_INFO!A115=0,\" \",COUNTRY_INFO!A115)","v":"Tanzania"},{"$f":"IF(COUNTRY_INFO!B115=0,\" \",COUNTRY_INFO!B115)","v":"Mtwara"},{"$f":"IF(COUNTRY_INFO!C115=0,\" \",COUNTRY_INFO!C115)","v":"Tandahimba District Council"},{"$f":"IF(COUNTRY_INFO!$T$9:$T$1000=\"MDA2 (DEC+ALB)\", COUNTRY_INFO!$T$9:$T$1000, \" \")","v":" "},null,null,null,null,0,null,null,null,0," "," "," "," "]
[{"$f":"IF(COUNTRY_INFO!A116=0,\" \",COUNTRY_INFO!A116)","v":"Tanzania"},{"$f":"IF(COUNTRY_INFO!B116=0,\" \",COUNTRY_INFO!B116)","v":"Mwanza"},{"$f":"IF(COUNTRY_INFO!C116=0,\" \",COUNTRY_INFO!C116)","v":"Buchosa District Council"},{"$f":"IF(COUNTRY_INFO!$T$9:$T$1000=\"MDA2 (DEC+ALB)\", COUNTRY_INFO!$T$9:$T$1000, \" \")","v":" "},null,null,null,null,0,null,null,null,0," "," "," "," "]
[{"$f":"IF(COUNTRY_INFO!A117=0,\" \",COUNTRY_INFO!A117)","v":"Tanzania"},{"$f":"IF(COUNTRY_INFO!B117=0,\" \",COUNTRY_INFO!B117)","v":"Mwanza"},{"$f":"IF(COUNTRY_INFO!C117=0,\" \",COUNTRY_INFO!C117)","v":"Ilemela Municipal Council"},{"$f":"IF(COUNTRY_INFO!$T$9:$T$1000=\"MDA2 (DEC+ALB)\", COUNTRY_INFO!$T$9:$T$1000, \" \")","v":" "},null,null,null,null,0,null,null,null,0," "," "," "," "]
[{"$f":"IF(COUNTRY_INFO!A118=0,\" \",COUNTRY_INFO!A118)","v":"Tanzania"},{"$f":"IF(COUNTRY_INFO!B118=0,\" \",COUNTRY_INFO!B118)","v":"Mwanza"},{"$f":"IF(COUNTRY_INFO!C118=0,\" \",COUNTRY_INFO!C118)","v":"Kwimba District Council"},{"$f":"IF(COUNTRY_INFO!$T$9:$T$1000=\"MDA2 (DEC+ALB)\", COUNTRY_INFO!$T$9:$T$1000, \" \")","v":" "},null,null,null,null,0,null,null,null,0," "," "," "," "]
[{"$f":"IF(COUNTRY_INFO!A119=0,\" \",COUNTRY_INFO!A119)","v":"Tanzania"},{"$f":"IF(COUNTRY_INFO!B119=0,\" \",COUNTRY_INFO!B119)","v":"Mwanza"},{"$f":"IF(COUNTRY_INFO!C119=0,\" \",COUNTRY_INFO!C119)","v":"Magu District Council"},{"$f":"IF(COUNTRY_INFO!$T$9:$T$1000=\"MDA2 (DEC+ALB)\", COUNTRY_INFO!$T$9:$T$1000, \" \")","v":" "},null,null,null,null,0,null,null,null,0," "," "," "," "]
[{"$f":"IF(COUNTRY_INFO!A120=0,\" \",COUNTRY_INFO!A120)","v":"Tanzania"},{"$f":"IF(COUNTRY_INFO!B120=0,\" \",COUNTRY_INFO!B120)","v":"Mwanza"},{"$f":"IF(COUNTRY_INFO!C120=0,\" \",COUNTRY_INFO!C120)","v":"Misungwi District Council"},{"$f":"IF(COUNTRY_INFO!$T$9:$T$1000=\"MDA2 (DEC+ALB)\", COUNTRY_INFO!$T$9:$T$1000, \" \")","v":" "},null,null,null,null,0,null,null,null,0," "," "," "," "]
[{"$f":"IF(COUNTRY_INFO!A121=0,\" \",COUNTRY_INFO!A121)","v":"Tanzania"},{"$f":"IF(COUNTRY_INFO!B121=0,\" \",COUNTRY_INFO!B121)","v":"Mwanza"},{"$f":"IF(COUNTRY_INFO!C121=0,\" \",COUNTRY_INFO!C121)","v":"Mwanza-Nyamagana City Council"},{"$f":"IF(COUNTRY_INFO!$T$9:$T$1000=\"MDA2 (DEC+ALB)\", COUNTRY_INFO!$T$9:$T$1000, \" \")","v":" "},null,null,null,null,0,null,null,null,0," "," "," "," "]
[{"$f":"IF(COUNTRY_INFO!A122=0,\" \",COUNTRY_INFO!A122)","v":"Tanzania"},{"$f":"IF(COUNTRY_INFO!B122=0,\" \",COUNTRY_INFO!B122)","v":"Mwanza"},{"$f":"IF(COUNTRY_INFO!C122=0,\" \",COUNTRY_INFO!C122)","v":"Sengerema District Council"},{"$f":"IF(COUNTRY_INFO!$T$9:$T$1000=\"MDA2 (DEC+ALB)\", COUNTRY_INFO!$T$9:$T$1000, \" \")","v":" "},null,null,null,null,0,null,null,null,0," "," "," "," "]
[{"$f":"IF(COUNTRY_INFO!A123=0,\" \",COUNTRY_INFO!A123)","v":"Tanzania"},{"$f":"IF(COUNTRY_INFO!B123=0,\" \",COUNTRY_INFO!B123)","v":"Mwanza"},{"$f":"IF(COUNTRY_INFO!C123=0,\" \",COUNTRY_INFO!C123)","v":"Ukerewe District Council"},{"$f":"IF(COUNTRY_INFO!$T$9:$T$1000=\"MDA2 (DEC+ALB)\", COUNTRY_INFO!$T$9:$T$1000, \" \")","v":" "},null,null,null,null,0,null,null,null,0," "," "," "," "]
[{"$f":"IF(COUNTRY_INFO!A124=0,\" \",COUNTRY_INFO!A124)","v":"Tanzania"},{"$f":"IF(COUNTRY_INFO!B124=0,\" \",COUNTRY_INFO!B124)","v":"Njombe"},{"$f":"IF(COUNTRY_INFO!C124=0,\" \",COUNTRY_INFO!C124)","v":"Ludewa District Council"},{"$f":"IF(COUNTRY_INFO!$T$9:$T$1000=\"MDA2 (DEC+ALB)\", COUNTRY_INFO!$T$9:$T$1000, \" \")","v":" "},null,null,null,null,0,null,null,null,0," "," "," "," "]
[{"$f":"IF(COUNTRY_INFO!A125=0,\" \",COUNTRY_INFO!A125)","v":"Tanzania"},{"$f":"IF(COUNTRY_INFO!B125=0,\" \",COUNTRY_INFO!B125)","v":"Njombe"},{"$f":"IF(COUNTRY_INFO!C125=0,\" \",COUNTRY_INFO!C125)","v":"Makambako Town Council"},{"$f":"IF(COUNTRY_INFO!$T$9:$T$1000=\"MDA2 (DEC+ALB)\", COUNTRY_INFO!$T$9:$T$1000, \" \")","v":" "},null,null,null,null,0,null,null,null,0," "," "," "," "]
[{"$f":"IF(COUNTRY_INFO!A126=0,\" \",COUNTRY_INFO!A126)","v":"Tanzania"},{"$f":"IF(COUNTRY_INFO!B126=0,\" \",COUNTRY_INFO!B126)","v":"Njombe"},{"$f":"IF(COUNTRY_INFO!C126=0,\" \",COUNTRY_INFO!C126)","v":"Makete District Council"},{"$f":"IF(COUNTRY_INFO!$T$9:$T$1000=\"MDA2 (DEC+ALB)\", COUNTRY_INFO!$T$9:$T$1000, \" \")","v":" "},null,null,null,null,0,null,null,null,0," "," "," "," "]
[{"$f":"IF(COUNTRY_INFO!A127=0,\" \",COUNTRY_INFO!A127)","v":"Tanzania"},{"$f":"IF(COUNTRY_INFO!B127=0,\" \",COUNTRY_INFO!B127)","v":"Njombe"},{"$f":"IF(COUNTRY_INFO!C127=0,\" \",COUNTRY_INFO!C127)","v":"Njombe District Council"},{"$f":"IF(COUNTRY_INFO!$T$9:$T$1000=\"MDA2 (DEC+ALB)\", COUNTRY_INFO!$T$9:$T$1000, \" \")","v":" "},null,null,null,null,0,null,null,null,0," "," "," "," "]
[{"$f":"IF(COUNTRY_INFO!A128=0,\" \",COUNTRY_INFO!A128)","v":"Tanzania"},{"$f":"IF(COUNTRY_INFO!B128=0,\" \",COUNTRY_INFO!B128)","v":"Njombe"},{"$f":"IF(COUNTRY_INFO!C128=0,\" \",COUNTRY_INFO!C128)","v":"Njombe Town Council"},{"$f":"IF(COUNTRY_INFO!$T$9:$T$1000=\"MDA2 (DEC+ALB)\", COUNTRY_INFO!$T$9:$T$1000, \" \")","v":" "},null,null,null,null,0,null,null,null,0," "," "," "," "]
[{"$f":"IF(COUNTRY_INFO!A129=0,\" \",COUNTRY_INFO!A129)","v":"Tanzania"},{"$f":"IF(COUNTRY_INFO!B129=0,\" \",COUNTRY_INFO!B129)","v":"Njombe"},{"$f":"IF(COUNTRY_INFO!C129=0,\" \",COUNTRY_INFO!C129)","v":"Wanging'ombe District Council"},{"$f":"IF(COUNTRY_INFO!$T$9:$T$1000=\"MDA2 (DEC+ALB)\", COUNTRY_INFO!$T$9:$T$1000, \" \")","v":" "},null,null,null,null,0,null,null,null,0," "," "," "," "]
[{"$f":"IF(COUNTRY_INFO!A130=0,\" \",COUNTRY_INFO!A130)","v":"Tanzania"},{"$f":"IF(COUNTRY_INFO!B130=0,\" \",COUNTRY_INFO!B130)","v":"Pwani"},{"$f":"IF(COUNTRY_INFO!C130=0,\" \",COUNTRY_INFO!C130)","v":"Bagamoyo District Council"},{"$f":"IF(COUNTRY_INFO!$T$9:$T$1000=\"MDA2 (DEC+ALB)\", COUNTRY_INFO!$T$9:$T$1000, \" \")","v":" "},null,null,null,null,0,null,null,null,0," "," "," "," "]
[{"$f":"IF(COUNTRY_INFO!A131=0,\" \",COUNTRY_INFO!A131)","v":"Tanzania"},{"$f":"IF(COUNTRY_INFO!B131=0,\" \",COUNTRY_INFO!B131)","v":"Pwani"},{"$f":"IF(COUNTRY_INFO!C131=0,\" \",COUNTRY_INFO!C131)","v":"Chalinze District Council"},{"$f":"IF(COUNTRY_INFO!$T$9:$T$1000=\"MDA2 (DEC+ALB)\", COUNTRY_INFO!$T$9:$T$1000, \" \")","v":" "},null,null,null,null,0,null,null,null,0," "," "," "," "]
[{"$f":"IF(COUNTRY_INFO!A132=0,\" \",COUNTRY_INFO!A132)","v":"Tanzania"},{"$f":"IF(COUNTRY_INFO!B132=0,\" \",COUNTRY_INFO!B132)","v":"Pwani"},{"$f":"IF(COUNTRY_INFO!C132=0,\" \",COUNTRY_INFO!C132)","v":"Kibaha District Council"},{"$f":"IF(COUNTRY_INFO!$T$9:$T$1000=\"MDA2 (DEC+ALB)\", COUNTRY_INFO!$T$9:$T$1000, \" \")","v":" "},null,null,null,null,0,null,null,null,0," "," "," "," "]
[{"$f":"IF(COUNTRY_INFO!A133=0,\" \",COUNTRY_INFO!A133)","v":"Tanzania"},{"$f":"IF(COUNTRY_INFO!B133=0,\" \",COUNTRY_INFO!B133)","v":"Pwani"},{"$f":"IF(COUNTRY_INFO!C133=0,\" \",COUNTRY_INFO!C133)","v":"Kibaha Town Council"},{"$f":"IF(COUNTRY_INFO!$T$9:$T$1000=\"MDA2 (DEC+ALB)\", COUNTRY_INFO!$T$9:$T$1000, \" \")","v":" "},null,null,null,null,0,null,null,null,0," "," "," "," "]
[{"$f":"IF(COUNTRY_INFO!A134=0,\" \",COUNTRY_INFO!A134)","v":"Tanzania"},{"$f":"IF(COUNTRY_INFO!B134=0,\" \",COUNTRY_INFO!B134)","v":"Pwani"},{"$f":"IF(COUNTRY_INFO!C134=0,\" \",COUNTRY_INFO!C134)","v":"Kibiti District Council"},{"$f":"IF(COUNTRY_INFO!$T$9:$T$1000=\"MDA2 (DEC+ALB)\", COUNTRY_INFO!$T$9:$T$1000, \" \")","v":" "},null,null,null,null,0,null,null,null,0," "," "," "," "]
[{"$f":"IF(COUNTRY_INFO!A135=0,\" \",COUNTRY_INFO!A135)","v":"Tanzania"},{"$f":"IF(COUNTRY_INFO!B135=0,\" \",COUNTRY_INFO!B135)","v":"Pwani"},{"$f":"IF(COUNTRY_INFO!C135=0,\" \",COUNTRY_INFO!C135)","v":"Kisarawe District Council"},{"$f":"IF(COUNTRY_INFO!$T$9:$T$1000=\"MDA2 (DEC+ALB)\", COUNTRY_INFO!$T$9:$T$1000, \" \")","v":" "},null,null,null,null,0,null,null,null,0," "," "," "," "]
[{"$f":"IF(COUNTRY_INFO!A136=0,\" \",COUNTRY_INFO!A136)","v":"Tanzania"},{"$f":"IF(COUNTRY_INFO!B136=0,\" \",COUNTRY_INFO!B136)","v":"Pwani"},{"$f":"IF(COUNTRY_INFO!C136=0,\" \",COUNTRY_INFO!C136)","v":"Mafia District Council"},{"$f":"IF(COUNTRY_INFO!$T$9:$T$1000=\"MDA2 (DEC+ALB)\", COUNTRY_INFO!$T$9:$T$1000, \" \")","v":" "},null,null,null,null,0,null,null,null,0," "," "," "," "]
[{"$f":"IF(COUNTRY_INFO!A137=0,\" \",COUNTRY_INFO!A137)","v":"Tanzania"},{"$f":"IF(COUNTRY_INFO!B137=0,\" \",COUNTRY_INFO!B137)","v":"Pwani"},{"$f":"IF(COUNTRY_INFO!C137=0,\" \",COUNTRY_INFO!C137)","v":"Mkuranga District Council"},{"$f":"IF(COUNTRY_INFO!$T$9:$T$1000=\"MDA2 (DEC+ALB)\", COUNTRY_INFO!$T$9:$T$1000, \" \")","v":" "},null,null,null,null,0,null,null,null,0," "," "," "," "]
[{"$f":"IF(COUNTRY_INFO!A138=0,\" \",COUNTRY_INFO!A138)","v":"Tanzania"},{"$f":"IF(COUNTRY_INFO!B138=0,\" \",COUNTRY_INFO!B138)","v":"Pwani"},{"$f":"IF(COUNTRY_INFO!C138=0,\" \",COUNTRY_INFO!C138)","v":"Rufiji District Council"},{"$f":"IF(COUNTRY_INFO!$T$9:$T$1000=\"MDA2 (DEC+ALB)\", COUNTRY_INFO!$T$9:$T$1000, \" \")","v":" "},null,null,null,null,{"$f":"SUM(F138:H138)","v":0},null,null,null,{"$f":"SUM(J138:L138)","v":0},{"$f":"IF(F138<>0, IF(J138/F138*100=0, \"-\", J138/F138*100), \" \")","v":" "},{"$f":"IF(G138<>0, IF(K138/G138*100=0, \"-\", K138/G138*100), \" \")","v":" "},{"$f":"IF(H138<>0, IF(L138/H138*100=0, \"-\", L138/H138*100), \" \")","v":" "},{"$f":"IF(I138<>0, IF(M138/I138*100=0, \"-\", M138/I138*100), \" \")","v":" "}]
[{"$f":"IF(COUNTRY_INFO!A139=0,\" \",COUNTRY_INFO!A139)","v":"Tanzania"},{"$f":"IF(COUNTRY_INFO!B139=0,\" \",COUNTRY_INFO!B139)","v":"Rukwa"},{"$f":"IF(COUNTRY_INFO!C139=0,\" \",COUNTRY_INFO!C139)","v":"Kalambo District Council"},{"$f":"IF(COUNTRY_INFO!$T$9:$T$1000=\"MDA2 (DEC+ALB)\", COUNTRY_INFO!$T$9:$T$1000, \" \")","v":" "},null,null,null,null,0,null,null,null,0," "," "," "," "]
[{"$f":"IF(COUNTRY_INFO!A140=0,\" \",COUNTRY_INFO!A140)","v":"Tanzania"},{"$f":"IF(COUNTRY_INFO!B140=0,\" \",COUNTRY_INFO!B140)","v":"Rukwa"},{"$f":"IF(COUNTRY_INFO!C140=0,\" \",COUNTRY_INFO!C140)","v":"Nkasi District Council"},{"$f":"IF(COUNTRY_INFO!$T$9:$T$1000=\"MDA2 (DEC+ALB)\", COUNTRY_INFO!$T$9:$T$1000, \" \")","v":" "},null,null,null,null,0,null,null,null,0," "," "," "," "]
[{"$f":"IF(COUNTRY_INFO!A141=0,\" \",COUNTRY_INFO!A141)","v":"Tanzania"},{"$f":"IF(COUNTRY_INFO!B141=0,\" \",COUNTRY_INFO!B141)","v":"Rukwa"},{"$f":"IF(COUNTRY_INFO!C141=0,\" \",COUNTRY_INFO!C141)","v":"Sumbawanga District Council"},{"$f":"IF(COUNTRY_INFO!$T$9:$T$1000=\"MDA2 (DEC+ALB)\", COUNTRY_INFO!$T$9:$T$1000, \" \")","v":" "},null,null,null,null,0,null,null,null,0," "," "," "," "]
[{"$f":"IF(COUNTRY_INFO!A142=0,\" \",COUNTRY_INFO!A142)","v":"Tanzania"},{"$f":"IF(COUNTRY_INFO!B142=0,\" \",COUNTRY_INFO!B142)","v":"Rukwa"},{"$f":"IF(COUNTRY_INFO!C142=0,\" \",COUNTRY_INFO!C142)","v":"Sumbawanga Municipal Council"},{"$f":"IF(COUNTRY_INFO!$T$9:$T$1000=\"MDA2 (DEC+ALB)\", COUNTRY_INFO!$T$9:$T$1000, \" \")","v":" "},null,null,null,null,0,null,null,null,0," "," "," "," "]
[{"$f":"IF(COUNTRY_INFO!A143=0,\" \",COUNTRY_INFO!A143)","v":"Tanzania"},{"$f":"IF(COUNTRY_INFO!B143=0,\" \",COUNTRY_INFO!B143)","v":"Ruvuma"},{"$f":"IF(COUNTRY_INFO!C143=0,\" \",COUNTRY_INFO!C143)","v":"Madaba District Council"},{"$f":"IF(COUNTRY_INFO!$T$9:$T$1000=\"MDA2 (DEC+ALB)\", COUNTRY_INFO!$T$9:$T$1000, \" \")","v":" "},null,null,null,null,0,null,null,null,0," "," "," "," "]
[{"$f":"IF(COUNTRY_INFO!A144=0,\" \",COUNTRY_INFO!A144)","v":"Tanzania"},{"$f":"IF(COUNTRY_INFO!B144=0,\" \",COUNTRY_INFO!B144)","v":"Ruvuma"},{"$f":"IF(COUNTRY_INFO!C144=0,\" \",COUNTRY_INFO!C144)","v":"Mbinga District Council"},{"$f":"IF(COUNTRY_INFO!$T$9:$T$1000=\"MDA2 (DEC+ALB)\", COUNTRY_INFO!$T$9:$T$1000, \" \")","v":" "},null,null,null,null,0,null,null,null,0," "," "," "," "]
[{"$f":"IF(COUNTRY_INFO!A145=0,\" \",COUNTRY_INFO!A145)","v":"Tanzania"},{"$f":"IF(COUNTRY_INFO!B145=0,\" \",COUNTRY_INFO!B145)","v":"Ruvuma"},{"$f":"IF(COUNTRY_INFO!C145=0,\" \",COUNTRY_INFO!C145)","v":"Mbinga Town Council"},{"$f":"IF(COUNTRY_INFO!$T$9:$T$1000=\"MDA2 (DEC+ALB)\", COUNTRY_INFO!$T$9:$T$1000, \" \")","v":" "},null,null,null,null,0,null,null,null,0," "," "," "," "]
[{"$f":"IF(COUNTRY_INFO!A146=0,\" \",COUNTRY_INFO!A146)","v":"Tanzania"},{"$f":"IF(COUNTRY_INFO!B146=0,\" \",COUNTRY_INFO!B146)","v":"Ruvuma"},{"$f":"IF(COUNTRY_INFO!C146=0,\" \",COUNTRY_INFO!C146)","v":"Namtumbo District Council"},{"$f":"IF(COUNTRY_INFO!$T$9:$T$1000=\"MDA2 (DEC+ALB)\", COUNTRY_INFO!$T$9:$T$1000, \" \")","v":" "},null,null,null,null,0,null,null,null,0," "," "," "," "]
[{"$f":"IF(COUNTRY_INFO!A147=0,\" \",COUNTRY_INFO!A147)","v":"Tanzania"},{"$f":"IF(COUNTRY_INFO!B147=0,\" \",COUNTRY_INFO!B147)","v":"Ruvuma"},{"$f":"IF(COUNTRY_INFO!C147=0,\" \",COUNTRY_INFO!C147)","v":"Nyasa District Council"},{"$f":"IF(COUNTRY_INFO!$T$9:$T$1000=\"MDA2 (DEC+ALB)\", COUNTRY_INFO!$T$9:$T$1000, \" \")","v":" "},null,null,null,null,0,null,null,null,0," "," "," "," "]
[{"$f":"IF(COUNTRY_INFO!A148=0,\" \",COUNTRY_INFO!A148)","v":"Tanzania"},{"$f":"IF(COUNTRY_INFO!B148=0,\" \",COUNTRY_INFO!B148)","v":"Ruvuma"},{"$f":"IF(COUNTRY_INFO!C148=0,\" \",COUNTRY_INFO!C148)","v":"Songea District Council"},{"$f":"IF(COUNTRY_INFO!$T$9:$T$1000=\"MDA2 (DEC+ALB)\", COUNTRY_INFO!$T$9:$T$1000, \" \")","v":" "},null,null,null,null,0,null,null,null,0," "," "," "," "]
[{"$f":"IF(COUNTRY_INFO!A149=0,\" \",COUNTRY_INFO!A149)","v":"Tanzania"},{"$f":"IF(COUNTRY_INFO!B149=0,\" \",COUNTRY_INFO!B149)","v":"Ruvuma"},{"$f":"IF(COUNTRY_INFO!C149=0,\" \",COUNTRY_INFO!C149)","v":"Songea Municipal Council"},{"$f":"IF(COUNTRY_INFO!$T$9:$T$1000=\"MDA2 (DEC+ALB)\", COUNTRY_INFO!$T$9:$T$1000, \" \")","v":" "},null,null,null,null,0,null,null,null,0," "," "," "," "]
[{"$f":"IF(COUNTRY_INFO!A150=0,\" \",COUNTRY_INFO!A150)","v":"Tanzania"},{"$f":"IF(COUNTRY_INFO!B150=0,\" \",COUNTRY_INFO!B150)","v":"Ruvuma"},{"$f":"IF(COUNTRY_INFO!C150=0,\" \",COUNTRY_INFO!C150)","v":"Tunduru District Council"},{"$f":"IF(COUNTRY_INFO!$T$9:$T$1000=\"MDA2 (DEC+ALB)\", COUNTRY_INFO!$T$9:$T$1000, \" \")","v":" "},null,null,null,null,0,null,null,null,0," "," "," "," "]
[{"$f":"IF(COUNTRY_INFO!A151=0,\" \",COUNTRY_INFO!A151)","v":"Tanzania"},{"$f":"IF(COUNTRY_INFO!B151=0,\" \",COUNTRY_INFO!B151)","v":"Shinyanga"},{"$f":"IF(COUNTRY_INFO!C151=0,\" \",COUNTRY_INFO!C151)","v":"Kahama Town Council"},{"$f":"IF(COUNTRY_INFO!$T$9:$T$1000=\"MDA2 (DEC+ALB)\", COUNTRY_INFO!$T$9:$T$1000, \" \")","v":" "},null,null,null,null,0,null,null,null,0," "," "," "," "]
[{"$f":"IF(COUNTRY_INFO!A152=0,\" \",COUNTRY_INFO!A152)","v":"Tanzania"},{"$f":"IF(COUNTRY_INFO!B152=0,\" \",COUNTRY_INFO!B152)","v":"Shinyanga"},{"$f":"IF(COUNTRY_INFO!C152=0,\" \",COUNTRY_INFO!C152)","v":"Kishapu District Council"},{"$f":"IF(COUNTRY_INFO!$T$9:$T$1000=\"MDA2 (DEC+ALB)\", COUNTRY_INFO!$T$9:$T$1000, \" \")","v":" "},null,null,null,null,0,null,null,null,0," "," "," "," "]
[{"$f":"IF(COUNTRY_INFO!A153=0,\" \",COUNTRY_INFO!A153)","v":"Tanzania"},{"$f":"IF(COUNTRY_INFO!B153=0,\" \",COUNTRY_INFO!B153)","v":"Shinyanga"},{"$f":"IF(COUNTRY_INFO!C153=0,\" \",COUNTRY_INFO!C153)","v":"Msalala District Council"},{"$f":"IF(COUNTRY_INFO!$T$9:$T$1000=\"MDA2 (DEC+ALB)\", COUNTRY_INFO!$T$9:$T$1000, \" \")","v":" "},null,null,null,null,0,null,null,null,0," "," "," "," "]
[{"$f":"IF(COUNTRY_INFO!A154=0,\" \",COUNTRY_INFO!A154)","v":"Tanzania"},{"$f":"IF(COUNTRY_INFO!B154=0,\" \",COUNTRY_INFO!B154)","v":"Shinyanga"},{"$f":"IF(COUNTRY_INFO!C154=0,\" \",COUNTRY_INFO!C154)","v":"Shinyanga District Council"},{"$f":"IF(COUNTRY_INFO!$T$9:$T$1000=\"MDA2 (DEC+ALB)\", COUNTRY_INFO!$T$9:$T$1000, \" \")","v":" "},null,null,null,null,0,null,null,null,0," "," "," "," "]
[{"$f":"IF(COUNTRY_INFO!A155=0,\" \",COUNTRY_INFO!A155)","v":"Tanzania"},{"$f":"IF(COUNTRY_INFO!B155=0,\" \",COUNTRY_INFO!B155)","v":"Shinyanga"},{"$f":"IF(COUNTRY_INFO!C155=0,\" \",COUNTRY_INFO!C155)","v":"Shinyanga Municipal Council"},{"$f":"IF(COUNTRY_INFO!$T$9:$T$1000=\"MDA2 (DEC+ALB)\", COUNTRY_INFO!$T$9:$T$1000, \" \")","v":" "},null,null,null,null,0,null,null,null,0," "," "," "," "]
[{"$f":"IF(COUNTRY_INFO!A156=0,\" \",COUNTRY_INFO!A156)","v":"Tanzania"},{"$f":"IF(COUNTRY_INFO!B156=0,\" \",COUNTRY_INFO!B156)","v":"Shinyanga"},{"$f":"IF(COUNTRY_INFO!C156=0,\" \",COUNTRY_INFO!C156)","v":"Ushetu District Council"},{"$f":"IF(COUNTRY_INFO!$T$9:$T$1000=\"MDA2 (DEC+ALB)\", COUNTRY_INFO!$T$9:$T$1000, \" \")","v":" "},null,null,null,null,0,null,null,null,0," "," "," "," "]
[{"$f":"IF(COUNTRY_INFO!A157=0,\" \",COUNTRY_INFO!A157)","v":"Tanzania"},{"$f":"IF(COUNTRY_INFO!B157=0,\" \",COUNTRY_INFO!B157)","v":"Simiyu"},{"$f":"IF(COUNTRY_INFO!C157=0,\" \",COUNTRY_INFO!C157)","v":"Bariadi District Council"},{"$f":"IF(COUNTRY_INFO!$T$9:$T$1000=\"MDA2 (DEC+ALB)\", COUNTRY_INFO!$T$9:$T$1000, \" \")","v":" "},null,null,null,null,0,null,null,null,0," "," "," "," "]
[{"$f":"IF(COUNTRY_INFO!A158=0,\" \",COUNTRY_INFO!A158)","v":"Tanzania"},{"$f":"IF(COUNTRY_INFO!B158=0,\" \",COUNTRY_INFO!B158)","v":"Simiyu"},{"$f":"IF(COUNTRY_INFO!C158=0,\" \",COUNTRY_INFO!C158)","v":"Bariadi Town Council"},{"$f":"IF(COUNTRY_INFO!$T$9:$T$1000=\"MDA2 (DEC+ALB)\", COUNTRY_INFO!$T$9:$T$1000, \" \")","v":" "},null,null,null,null,0,null,null,null,0," "," "," "," "]
[{"$f":"IF(COUNTRY_INFO!A159=0,\" \",COUNTRY_INFO!A159)","v":"Tanzania"},{"$f":"IF(COUNTRY_INFO!B159=0,\" \",COUNTRY_INFO!B159)","v":"Simiyu"},{"$f":"IF(COUNTRY_INFO!C159=0,\" \",COUNTRY_INFO!C159)","v":"Busega District Council"},{"$f":"IF(COUNTRY_INFO!$T$9:$T$1000=\"MDA2 (DEC+ALB)\", COUNTRY_INFO!$T$9:$T$1000, \" \")","v":" "},null,null,null,null,0,null,null,null,0," "," "," "," "]
[{"$f":"IF(COUNTRY_INFO!A160=0,\" \",COUNTRY_INFO!A160)","v":"Tanzania"},{"$f":"IF(COUNTRY_INFO!B160=0,\" \",COUNTRY_INFO!B160)","v":"Simiyu"},{"$f":"IF(COUNTRY_INFO!C160=0,\" \",COUNTRY_INFO!C160)","v":"Itilima District Council"},{"$f":"IF(COUNTRY_INFO!$T$9:$T$1000=\"MDA2 (DEC+ALB)\", COUNTRY_INFO!$T$9:$T$1000, \" \")","v":" "},null,null,null,null,0,null,null,null,0," "," "," "," "]
[{"$f":"IF(COUNTRY_INFO!A161=0,\" \",COUNTRY_INFO!A161)","v":"Tanzania"},{"$f":"IF(COUNTRY_INFO!B161=0,\" \",COUNTRY_INFO!B161)","v":"Simiyu"},{"$f":"IF(COUNTRY_INFO!C161=0,\" \",COUNTRY_INFO!C161)","v":"Maswa District Council"},{"$f":"IF(COUNTRY_INFO!$T$9:$T$1000=\"MDA2 (DEC+ALB)\", COUNTRY_INFO!$T$9:$T$1000, \" \")","v":" "},null,null,null,null,0,null,null,null,0," "," "," "," "]
[{"$f":"IF(COUNTRY_INFO!A162=0,\" \",COUNTRY_INFO!A162)","v":"Tanzania"},{"$f":"IF(COUNTRY_INFO!B162=0,\" \",COUNTRY_INFO!B162)","v":"Simiyu"},{"$f":"IF(COUNTRY_INFO!C162=0,\" \",COUNTRY_INFO!C162)","v":"Meatu District Council"},{"$f":"IF(COUNTRY_INFO!$T$9:$T$1000=\"MDA2 (DEC+ALB)\", COUNTRY_INFO!$T$9:$T$1000, \" \")","v":" "},null,null,null,null,0,null,null,null,0," "," "," "," "]
[{"$f":"IF(COUNTRY_INFO!A163=0,\" \",COUNTRY_INFO!A163)","v":"Tanzania"},{"$f":"IF(COUNTRY_INFO!B163=0,\" \",COUNTRY_INFO!B163)","v":"Singida"},{"$f":"IF(COUNTRY_INFO!C163=0,\" \",COUNTRY_INFO!C163)","v":"Ikungi District Council"},{"$f":"IF(COUNTRY_INFO!$T$9:$T$1000=\"MDA2 (DEC+ALB)\", COUNTRY_INFO!$T$9:$T$1000, \" \")","v":" "},null,null,null,null,0,null,null,null,0," "," "," "," "]
[{"$f":"IF(COUNTRY_INFO!A164=0,\" \",COUNTRY_INFO!A164)","v":"Tanzania"},{"$f":"IF(COUNTRY_INFO!B164=0,\" \",COUNTRY_INFO!B164)","v":"Singida"},{"$f":"IF(COUNTRY_INFO!C164=0,\" \",COUNTRY_INFO!C164)","v":"Iramba District Council"},{"$f":"IF(COUNTRY_INFO!$T$9:$T$1000=\"MDA2 (DEC+ALB)\", COUNTRY_INFO!$T$9:$T$1000, \" \")","v":" "},null,null,null,null,0,null,null,null,0," "," "," "," "]
[{"$f":"IF(COUNTRY_INFO!A165=0,\" \",COUNTRY_INFO!A165)","v":"Tanzania"},{"$f":"IF(COUNTRY_INFO!B165=0,\" \",COUNTRY_INFO!B165)","v":"Singida"},{"$f":"IF(COUNTRY_INFO!C165=0,\" \",COUNTRY_INFO!C165)","v":"Itigi District Council"},{"$f":"IF(COUNTRY_INFO!$T$9:$T$1000=\"MDA2 (DEC+ALB)\", COUNTRY_INFO!$T$9:$T$1000, \" \")","v":" "},null,null,null,null,0,null,null,null,0," "," "," "," "]
[{"$f":"IF(COUNTRY_INFO!A166=0,\" \",COUNTRY_INFO!A166)","v":"Tanzania"},{"$f":"IF(COUNTRY_INFO!B166=0,\" \",COUNTRY_INFO!B166)","v":"Singida"},{"$f":"IF(COUNTRY_INFO!C166=0,\" \",COUNTRY_INFO!C166)","v":"Manyoni District Council"},{"$f":"IF(COUNTRY_INFO!$T$9:$T$1000=\"MDA2 (DEC+ALB)\", COUNTRY_INFO!$T$9:$T$1000, \" \")","v":" "},null,null,null,null,0,null,null,null,0," "," "," "," "]
[{"$f":"IF(COUNTRY_INFO!A167=0,\" \",COUNTRY_INFO!A167)","v":"Tanzania"},{"$f":"IF(COUNTRY_INFO!B167=0,\" \",COUNTRY_INFO!B167)","v":"Singida"},{"$f":"IF(COUNTRY_INFO!C167=0,\" \",COUNTRY_INFO!C167)","v":"Mkalama District Council"},{"$f":"IF(COUNTRY_INFO!$T$9:$T$1000=\"MDA2 (DEC+ALB)\", COUNTRY_INFO!$T$9:$T$1000, \" \")","v":" "},null,null,null,null,0,null,null,null,0," "," "," "," "]
[{"$f":"IF(COUNTRY_INFO!A168=0,\" \",COUNTRY_INFO!A168)","v":"Tanzania"},{"$f":"IF(COUNTRY_INFO!B168=0,\" \",COUNTRY_INFO!B168)","v":"Singida"},{"$f":"IF(COUNTRY_INFO!C168=0,\" \",COUNTRY_INFO!C168)","v":"Singida District Council"},{"$f":"IF(COUNTRY_INFO!$T$9:$T$1000=\"MDA2 (DEC+ALB)\", COUNTRY_INFO!$T$9:$T$1000, \" \")","v":" "},null,null,null,null,0,null,null,null,0," "," "," "," "]
[{"$f":"IF(COUNTRY_INFO!A169=0,\" \",COUNTRY_INFO!A169)","v":"Tanzania"},{"$f":"IF(COUNTRY_INFO!B169=0,\" \",COUNTRY_INFO!B169)","v":"Singida"},{"$f":"IF(COUNTRY_INFO!C169=0,\" \",COUNTRY_INFO!C169)","v":"Singida Municipal Council"},{"$f":"IF(COUNTRY_INFO!$T$9:$T$1000=\"MDA2 (DEC+ALB)\", COUNTRY_INFO!$T$9:$T$1000, \" \")","v":" "},null,null,null,null,0,null,null,null,0," "," "," "," "]
[{"$f":"IF(COUNTRY_INFO!A170=0,\" \",COUNTRY_INFO!A170)","v":"Tanzania"},{"$f":"IF(COUNTRY_INFO!B170=0,\" \",COUNTRY_INFO!B170)","v":"Songwe"},{"$f":"IF(COUNTRY_INFO!C170=0,\" \",COUNTRY_INFO!C170)","v":"Ileje District Council"},{"$f":"IF(COUNTRY_INFO!$T$9:$T$1000=\"MDA2 (DEC+ALB)\", COUNTRY_INFO!$T$9:$T$1000, \" \")","v":" "},null,null,null,null,0,null,null,null,0," "," "," "," "]
[{"$f":"IF(COUNTRY_INFO!A171=0,\" \",COUNTRY_INFO!A171)","v":"Tanzania"},{"$f":"IF(COUNTRY_INFO!B171=0,\" \",COUNTRY_INFO!B171)","v":"Songwe"},{"$f":"IF(COUNTRY_INFO!C171=0,\" \",COUNTRY_INFO!C171)","v":"Mbozi District Council"},{"$f":"IF(COUNTRY_INFO!$T$9:$T$1000=\"MDA2 (DEC+ALB)\", COUNTRY_INFO!$T$9:$T$1000, \" \")","v":" "},null,null,null,null,0,null,null,null,0," "," "," "," "]
[{"$f":"IF(COUNTRY_INFO!A172=0,\" \",COUNTRY_INFO!A172)","v":"Tanzania"},{"$f":"IF(COUNTRY_INFO!B172=0,\" \",COUNTRY_INFO!B172)","v":"Songwe"},{"$f":"IF(COUNTRY_INFO!C172=0,\" \",COUNTRY_INFO!C172)","v":"Momba District Council"},{"$f":"IF(COUNTRY_INFO!$T$9:$T$1000=\"MDA2 (DEC+ALB)\", COUNTRY_INFO!$T$9:$T$1000, \" \")","v":" "},null,null,null,null,0,null,null,null,0," "," "," "," "]
[{"$f":"IF(COUNTRY_INFO!A173=0,\" \",COUNTRY_INFO!A173)","v":"Tanzania"},{"$f":"IF(COUNTRY_INFO!B173=0,\" \",COUNTRY_INFO!B173)","v":"Songwe"},{"$f":"IF(COUNTRY_INFO!C173=0,\" \",COUNTRY_INFO!C173)","v":"Songwe District Council"},{"$f":"IF(COUNTRY_INFO!$T$9:$T$1000=\"MDA2 (DEC+ALB)\", COUNTRY_INFO!$T$9:$T$1000, \" \")","v":" "},null,null,null,null,0,null,null,null,0," "," "," "," "]
[{"$f":"IF(COUNTRY_INFO!A174=0,\" \",COUNTRY_INFO!A174)","v":"Tanzania"},{"$f":"IF(COUNTRY_INFO!B174=0,\" \",COUNTRY_INFO!B174)","v":"Songwe"},{"$f":"IF(COUNTRY_INFO!C174=0,\" \",COUNTRY_INFO!C174)","v":"Tunduma Town Council"},{"$f":"IF(COUNTRY_INFO!$T$9:$T$1000=\"MDA2 (DEC+ALB)\", COUNTRY_INFO!$T$9:$T$1000, \" \")","v":" "},null,null,null,null,0,null,null,null,0," "," "," "," "]
[{"$f":"IF(COUNTRY_INFO!A175=0,\" \",COUNTRY_INFO!A175)","v":"Tanzania"},{"$f":"IF(COUNTRY_INFO!B175=0,\" \",COUNTRY_INFO!B175)","v":"Tabora"},{"$f":"IF(COUNTRY_INFO!C175=0,\" \",COUNTRY_INFO!C175)","v":"Igunga District Council"},{"$f":"IF(COUNTRY_INFO!$T$9:$T$1000=\"MDA2 (DEC+ALB)\", COUNTRY_INFO!$T$9:$T$1000, \" \")","v":" "},null,null,null,null,0,null,null,null,0," "," "," "," "]
[{"$f":"IF(COUNTRY_INFO!A176=0,\" \",COUNTRY_INFO!A176)","v":"Tanzania"},{"$f":"IF(COUNTRY_INFO!B176=0,\" \",COUNTRY_INFO!B176)","v":"Tabora"},{"$f":"IF(COUNTRY_INFO!C176=0,\" \",COUNTRY_INFO!C176)","v":"Kaliua District Council"},{"$f":"IF(COUNTRY_INFO!$T$9:$T$1000=\"MDA2 (DEC+ALB)\", COUNTRY_INFO!$T$9:$T$1000, \" \")","v":" "},null,null,null,null,0,null,null,null,0," "," "," "," "]
[{"$f":"IF(COUNTRY_INFO!A177=0,\" \",COUNTRY_INFO!A177)","v":"Tanzania"},{"$f":"IF(COUNTRY_INFO!B177=0,\" \",COUNTRY_INFO!B177)","v":"Tabora"},{"$f":"IF(COUNTRY_INFO!C177=0,\" \",COUNTRY_INFO!C177)","v":"Nzega District Council"},{"$f":"IF(COUNTRY_INFO!$T$9:$T$1000=\"MDA2 (DEC+ALB)\", COUNTRY_INFO!$T$9:$T$1000, \" \")","v":" "},null,null,null,null,0,null,null,null,0," "," "," "," "]
[{"$f":"IF(COUNTRY_INFO!A178=0,\" \",COUNTRY_INFO!A178)","v":"Tanzania"},{"$f":"IF(COUNTRY_INFO!B178=0,\" \",COUNTRY_INFO!B178)","v":"Tabora"},{"$f":"IF(COUNTRY_INFO!C178=0,\" \",COUNTRY_INFO!C178)","v":"Nzega Town Council"},{"$f":"IF(COUNTRY_INFO!$T$9:$T$1000=\"MDA2 (DEC+ALB)\", COUNTRY_INFO!$T$9:$T$1000, \" \")","v":" "},null,null,null,null,0,null,null,null,0," "," "," "," "]
[{"$f":"IF(COUNTRY_INFO!A179=0,\" \",COUNTRY_INFO!A179)","v":"Tanzania"},{"$f":"IF(COUNTRY_INFO!B179=0,\" \",COUNTRY_INFO!B179)","v":"Tabora"},{"$f":"IF(COUNTRY_INFO!C179=0,\" \",COUNTRY_INFO!C179)","v":"Sikonge District Council"},{"$f":"IF(COUNTRY_INFO!$T$9:$T$1000=\"MDA2 (DEC+ALB)\", COUNTRY_INFO!$T$9:$T$1000, \" \")","v":" "},null,null,null,null,0,null,null,null,0," "," "," "," "]
[{"$f":"IF(COUNTRY_INFO!A180=0,\" \",COUNTRY_INFO!A180)","v":"Tanzania"},{"$f":"IF(COUNTRY_INFO!B180=0,\" \",COUNTRY_INFO!B180)","v":"Tabora"},{"$f":"IF(COUNTRY_INFO!C180=0,\" \",COUNTRY_INFO!C180)","v":"Tabora Municipal Council"},{"$f":"IF(COUNTRY_INFO!$T$9:$T$1000=\"MDA2 (DEC+ALB)\", COUNTRY_INFO!$T$9:$T$1000, \" \")","v":" "},null,null,null,null,0,null,null,null,0," "," "," "," "]
[{"$f":"IF(COUNTRY_INFO!A181=0,\" \",COUNTRY_INFO!A181)","v":"Tanzania"},{"$f":"IF(COUNTRY_INFO!B181=0,\" \",COUNTRY_INFO!B181)","v":"Tabora"},{"$f":"IF(COUNTRY_INFO!C181=0,\" \",COUNTRY_INFO!C181)","v":"Urambo District Council"},{"$f":"IF(COUNTRY_INFO!$T$9:$T$1000=\"MDA2 (DEC+ALB)\", COUNTRY_INFO!$T$9:$T$1000, \" \")","v":" "},null,null,null,null,0,null,null,null,0," "," "," "," "]
[{"$f":"IF(COUNTRY_INFO!A182=0,\" \",COUNTRY_INFO!A182)","v":"Tanzania"},{"$f":"IF(COUNTRY_INFO!B182=0,\" \",COUNTRY_INFO!B182)","v":"Tabora"},{"$f":"IF(COUNTRY_INFO!C182=0,\" \",COUNTRY_INFO!C182)","v":"Uyui District Council"},{"$f":"IF(COUNTRY_INFO!$T$9:$T$1000=\"MDA2 (DEC+ALB)\", COUNTRY_INFO!$T$9:$T$1000, \" \")","v":" "},null,null,null,null,0,null,null,null,0," "," "," "," "]
[{"$f":"IF(COUNTRY_INFO!A183=0,\" \",COUNTRY_INFO!A183)","v":"Tanzania"},{"$f":"IF(COUNTRY_INFO!B183=0,\" \",COUNTRY_INFO!B183)","v":"Tanga"},{"$f":"IF(COUNTRY_INFO!C183=0,\" \",COUNTRY_INFO!C183)","v":"Bumbuli District Council"},{"$f":"IF(COUNTRY_INFO!$T$9:$T$1000=\"MDA2 (DEC+ALB)\", COUNTRY_INFO!$T$9:$T$1000, \" \")","v":" "},null,null,null,null,0,null,null,null,0," "," "," "," "]
[{"$f":"IF(COUNTRY_INFO!A184=0,\" \",COUNTRY_INFO!A184)","v":"Tanzania"},{"$f":"IF(COUNTRY_INFO!B184=0,\" \",COUNTRY_INFO!B184)","v":"Tanga"},{"$f":"IF(COUNTRY_INFO!C184=0,\" \",COUNTRY_INFO!C184)","v":"Handeni District Council"},{"$f":"IF(COUNTRY_INFO!$T$9:$T$1000=\"MDA2 (DEC+ALB)\", COUNTRY_INFO!$T$9:$T$1000, \" \")","v":" "},null,null,null,null,0,null,null,null,0," "," "," "," "]
[{"$f":"IF(COUNTRY_INFO!A185=0,\" \",COUNTRY_INFO!A185)","v":"Tanzania"},{"$f":"IF(COUNTRY_INFO!B185=0,\" \",COUNTRY_INFO!B185)","v":"Tanga"},{"$f":"IF(COUNTRY_INFO!C185=0,\" \",COUNTRY_INFO!C185)","v":"Handeni Town Council"},{"$f":"IF(COUNTRY_INFO!$T$9:$T$1000=\"MDA2 (DEC+ALB)\", COUNTRY_INFO!$T$9:$T$1000, \" \")","v":" "},null,null,null,null,0,null,null,null,0," "," "," "," "]
[{"$f":"IF(COUNTRY_INFO!A186=0,\" \",COUNTRY_INFO!A186)","v":"Tanzania"},{"$f":"IF(COUNTRY_INFO!B186=0,\" \",COUNTRY_INFO!B186)","v":"Tanga"},{"$f":"IF(COUNTRY_INFO!C186=0,\" \",COUNTRY_INFO!C186)","v":"Kilindi District Council"},{"$f":"IF(COUNTRY_INFO!$T$9:$T$1000=\"MDA2 (DEC+ALB)\", COUNTRY_INFO!$T$9:$T$1000, \" \")","v":" "},null,null,null,null,0,null,null,null,0," "," "," "," "]
[{"$f":"IF(COUNTRY_INFO!A187=0,\" \",COUNTRY_INFO!A187)","v":"Tanzania"},{"$f":"IF(COUNTRY_INFO!B187=0,\" \",COUNTRY_INFO!B187)","v":"Tanga"},{"$f":"IF(COUNTRY_INFO!C187=0,\" \",COUNTRY_INFO!C187)","v":"Korogwe District Council"},{"$f":"IF(COUNTRY_INFO!$T$9:$T$1000=\"MDA2 (DEC+ALB)\", COUNTRY_INFO!$T$9:$T$1000, \" \")","v":" "},null,null,null,null,0,null,null,null,0," "," "," "," "]
[{"$f":"IF(COUNTRY_INFO!A188=0,\" \",COUNTRY_INFO!A188)","v":"Tanzania"},{"$f":"IF(COUNTRY_INFO!B188=0,\" \",COUNTRY_INFO!B188)","v":"Tanga"},{"$f":"IF(COUNTRY_INFO!C188=0,\" \",COUNTRY_INFO!C188)","v":"Korogwe Town Council"},{"$f":"IF(COUNTRY_INFO!$T$9:$T$1000=\"MDA2 (DEC+ALB)\", COUNTRY_INFO!$T$9:$T$1000, \" \")","v":" "},null,null,null,null,0,null,null,null,0," "," "," "," "]
[{"$f":"IF(COUNTRY_INFO!A189=0,\" \",COUNTRY_INFO!A189)","v":"Tanzania"},{"$f":"IF(COUNTRY_INFO!B189=0,\" \",COUNTRY_INFO!B189)","v":"Tanga"},{"$f":"IF(COUNTRY_INFO!C189=0,\" \",COUNTRY_INFO!C189)","v":"Lushoto District Council"},{"$f":"IF(COUNTRY_INFO!$T$9:$T$1000=\"MDA2 (DEC+ALB)\", COUNTRY_INFO!$T$9:$T$1000, \" \")","v":" "},null,null,null,null,0,null,null,null,0," "," "," "," "]
[{"$f":"IF(COUNTRY_INFO!A190=0,\" \",COUNTRY_INFO!A190)","v":"Tanzania"},{"$f":"IF(COUNTRY_INFO!B190=0,\" \",COUNTRY_INFO!B190)","v":"Tanga"},{"$f":"IF(COUNTRY_INFO!C190=0,\" \",COUNTRY_INFO!C190)","v":"Mkinga District Council"},{"$f":"IF(COUNTRY_INFO!$T$9:$T$1000=\"MDA2 (DEC+ALB)\", COUNTRY_INFO!$T$9:$T$1000, \" \")","v":" "},null,null,null,null,0,null,null,null,0," "," "," "," "]
[{"$f":"IF(COUNTRY_INFO!A191=0,\" \",COUNTRY_INFO!A191)","v":"Tanzania"},{"$f":"IF(COUNTRY_INFO!B191=0,\" \",COUNTRY_INFO!B191)","v":"Tanga"},{"$f":"IF(COUNTRY_INFO!C191=0,\" \",COUNTRY_INFO!C191)","v":"Muheza District Council"},{"$f":"IF(COUNTRY_INFO!$T$9:$T$1000=\"MDA2 (DEC+ALB)\", COUNTRY_INFO!$T$9:$T$1000, \" \")","v":" "},null,null,null,null,0,null,null,null,0," "," "," "," "]
[{"$f":"IF(COUNTRY_INFO!A192=0,\" \",COUNTRY_INFO!A192)","v":"Tanzania"},{"$f":"IF(COUNTRY_INFO!B192=0,\" \",COUNTRY_INFO!B192)","v":"Tanga"},{"$f":"IF(COUNTRY_INFO!C192=0,\" \",COUNTRY_INFO!C192)","v":"Pangani District Council"},{"$f":"IF(COUNTRY_INFO!$T$9:$T$1000=\"MDA2 (DEC+ALB)\", COUNTRY_INFO!$T$9:$T$1000, \" \")","v":" "},null,null,null,null,0,null,null,null,0," "," "," "," "]
[{"$f":"IF(COUNTRY_INFO!A193=0,\" \",COUNTRY_INFO!A193)","v":"Tanzania"},{"$f":"IF(COUNTRY_INFO!B193=0,\" \",COUNTRY_INFO!B193)","v":"Tanga"},{"$f":"IF(COUNTRY_INFO!C193=0,\" \",COUNTRY_INFO!C193)","v":"Tanga City Council"},{"$f":"IF(COUNTRY_INFO!$T$9:$T$1000=\"MDA2 (DEC+ALB)\", COUNTRY_INFO!$T$9:$T$1000, \" \")","v":" "},null,null,null,null,0,null,null,null,0," "," "," "," "]

{"sheet":"MDA3","index":4,"n_rows":193,"n_cols":20,"rows_kept":193,"cut":false,"hidden":false,"merged":[[5,5,5,7],[5,17,5,19],[3,0,3,2],[5,0,5,2],[5,3,6,3],[5,4,6,4],[5,8,5,10],[5,11,5,13],[5,14,5,16]]}
["MDA 3 - Ivermectin (IVM) "]
["Administrative structure, population requiring PC by age group, population treated by age group and coverage"]
[]
["TOTAL",null,null,null,null,{"$f":"SUM(F$9:F$1000)","v":750715},2672705,3423420,595093.24600000004,2520583.7540000002,3115677,0,0,0,595093.24600000004,2520583.7540000002,3115677,{"$f":"IF(F4<>0, IF(O4/F4*100=0, \"-\", O4/F4*100), \" \")","v":79.270195213896088},{"$f":"IF(G4<>0, IF(P4/G4*100=0, \"-\", P4/G4*100), \" \")","v":94.308341324613082},{"$f":"IF(H4<>0, IF(Q4/H4*100=0, \"-\", Q4/H4*100), \" \")","v":91.010656010656007}]
[]
[null,null,null,"PC implemented","Date","Population targeted for MDA 3",null,null,"Population treated - 1st round",null,null,"Population treated - 2nd round",null,null,"Population treated",null,null,"Programme coverage (%)"]
["Country","Province/State","District",null,null,"SAC","Adults","Total","SAC","Adults","Total","SAC","Adults","Total","SAC","Adults","Total","SAC","Adults","Total"]
[]
[{"$f":"IF(COUNTRY_INFO!A9=0,\" \",COUNTRY_INFO!A9)","v":"Tanzania"},{"$f":"IF(COUNTRY_INFO!B9=0,\" \",COUNTRY_INFO!B9)","v":"Arusha"},{"$f":"IF(COUNTRY_INFO!C9=0,\" \",COUNTRY_INFO!C9)","v":"Arusha City Council"},{"$f":"IF(COUNTRY_INFO!$T$9:$T$1000=\"MDA3 (IVM)\", COUNTRY_INFO!$T$9:$T$1000, \" \")","v":" "},null,null,null,{"$f":"SUM(F9:G9)","v":0},null,null,{"$f":"SUM(I9:J9)","v":0},null,null,{"$f":"SUM(L9:M9)","v":0},{"$f":"MAX(I9,L9)","v":0},0,{"$f":"SUM(O9:P9)","v":0},{"$f":"IF(F9<>0, IF(MAX(I9,L9)/F9*100=0, \"-\", MAX(I9,L9)/F9*100), \" \")","v":" "}," ",{"$f":"IF(H9<>0, IF((MAX(I9,L9)+MAX(J9,M9))/H9*100=0, \"-\",(MAX(I9,L9)+MAX(J9,M9))/H9*100), \" \")","v":" "}]
[{"$f":"IF(COUNTRY_INFO!A10=0,\" \",COUNTRY_INFO!A10)","v":"Tanzania"},{"$f":"IF(COUNTRY_INFO!B10=0,\" \",COUNTRY_INFO!B10)","v":"Arusha"},{"$f":"IF(COUNTRY_INFO!C10=0,\" \",COUNTRY_INFO!C10)","v":"Arusha District Council"},{"$f":"IF(COUNTRY_INFO!$T$9:$T$1000=\"MDA3 (IVM)\", COUNTRY_INFO!$T$9:$T$1000, \" \")","v":" "},null,null,null,{"$f":"SUM(F10:G10)","v":0},null,null,{"$f":"SUM(I10:J10)","v":0},null,null,{"$f":"SUM(L10:M10)","v":0},{"$f":"MAX(I10,L10)","v":0},{"$f":"MAX(J10,M10)","v":0},{"$f":"SUM(O10:P10)","v":0},{"$f":"IF(F10<>0, IF(MAX(I10,L10)/F10*100=0, \"-\", MAX(I10,L10)/F10*100), \" \")","v":" "},{"$f":"IF(G10<>0, IF(MAX(J10,M10)/G10*100=0, \"-\", MAX(J10,M10)/G10*100), \" \")","v":" "},{"$f":"IF(H10<>0, IF((MAX(I10,L10)+MAX(J10,M10))/H10*100=0, \"-\",(MAX(I10,L10)+MAX(J10,M10))/H10*100), \" \")","v":" "}]
[{"$f":"IF(COUNTRY_INFO!A11=0,\" \",COUNTRY_INFO!A11)","v":"Tanzania"},{"$f":"IF(COUNTRY_INFO!B11=0,\" \",COUNTRY_INFO!B11)","v":"Arusha"},{"$f":"IF(COUNTRY_INFO!C11=0,\" \",COUNTRY_INFO!C11)","v":"Karatu District Council"},{"$f":"IF(COUNTRY_INFO!$T$9:$T$1000=\"MDA3 (IVM)\", COUNTRY_INFO!$T$9:$T$1000, \" \")","v":" "},null,null,null,0,null,null,0,null,null,0,0,0,0," "," "," "]
[{"$f":"IF(COUNTRY_INFO!A12=0,\" \",COUNTRY_INFO!A12)","v":"Tanzania"},{"$f":"IF(COUNTRY_INFO!B12=0,\" \",COUNTRY_INFO!B12)","v":"Arusha"},{"$f":"IF(COUNTRY_INFO!C12=0,\" \",COUNTRY_INFO!C12)","v":"Longido District Council"},{"$f":"IF(COUNTRY_INFO!$T$9:$T$1000=\"MDA3 (IVM)\", COUNTRY_INFO!$T$9:$T$1000, \" \")","v":" "},null,null,null,0,null,null,0,null,null,0,0,0,0," "," "," "]
[{"$f":"IF(COUNTRY_INFO!A13=0,\" \",COUNTRY_INFO!A13)","v":"Tanzania"},{"$f":"IF(COUNTRY_INFO!B13=0,\" \",COUNTRY_INFO!B13)","v":"Arusha"},{"$f":"IF(COUNTRY_INFO!C13=0,\" \",COUNTRY_INFO!C13)","v":"Meru District Council"},{"$f":"IF(COUNTRY_INFO!$T$9:$T$1000=\"MDA3 (IVM)\", COUNTRY_INFO!$T$9:$T$1000, \" \")","v":" "},null,null,null,0,null,null,0,null,null,0,0,0,0," "," "," "]
[{"$f":"IF(COUNTRY_INFO!A14=0,\" \",COUNTRY_INFO!A14)","v":"Tanzania"},{"$f":"IF(COUNTRY_INFO!B14=0,\" \",COUNTRY_INFO!B14)","v":"Arusha"},{"$f":"IF(COUNTRY_INFO!C14=0,\" \",COUNTRY_INFO!C14)","v":"Monduli District Council"},{"$f":"IF(COUNTRY_INFO!$T$9:$T$1000=\"MDA3 (IVM)\", COUNTRY_INFO!$T$9:$T$1000, \" \")","v":" "},null,null,null,0,null,null,0,null,null,0,0,0,0," "," "," "]
[{"$f":"IF(COUNTRY_INFO!A15=0,\" \",COUNTRY_INFO!A15)","v":"Tanzania"},{"$f":"IF(COUNTRY_INFO!B15=0,\" \",COUNTRY_INFO!B15)","v":"Arusha"},{"$f":"IF(COUNTRY_INFO!C15=0,\" \",COUNTRY_INFO!C15)","v":"Ngorongoro District Council"},{"$f":"IF(COUNTRY_INFO!$T$9:$T$1000=\"MDA3 (IVM)\", COUNTRY_INFO!$T$9:$T$1000, \" \")","v":" "},null,null,null,0,null,null,0,null,null,0,0,0,0," "," "," "]
[{"$f":"IF(COUNTRY_INFO!A16=0,\" \",COUNTRY_INFO!A16)","v":"Tanzania"},{"$f":"IF(COUNTRY_INFO!B16=0,\" \",COUNTRY_INFO!B16)","v":"Dar Es Salaam"},{"$f":"IF(COUNTRY_INFO!C16=0,\" \",COUNTRY_INFO!C16)","v":"Dar es Salaam City Council "},{"$f":"IF(COUNTRY_INFO!$T$9:$T$1000=\"MDA3 (IVM)\", COUNTRY_INFO!$T$9:$T$1000, \" \")","v":" "},null,null,null,0,null,null,0,null,null,0,0,0,0," "," "," "]
[{"$f":"IF(COUNTRY_INFO!A17=0,\" \",COUNTRY_INFO!A17)","v":"Tanzania"},{"$f":"IF(COUNTRY_INFO!B17=0,\" \",COUNTRY_INFO!B17)","v":"Dar Es Salaam"},{"$f":"IF(COUNTRY_INFO!C17=0,\" \",COUNTRY_INFO!C17)","v":"Ilala Municipal Council"},{"$f":"IF(COUNTRY_INFO!$T$9:$T$1000=\"MDA3 (IVM)\", COUNTRY_INFO!$T$9:$T$1000, \" \")","v":" "},null,null,null,0,null,null,0,null,null,0,0,0,0," "," "," "]
[{"$f":"IF(COUNTRY_INFO!A18=0,\" \",COUNTRY_INFO!A18)","v":"Tanzania"},{"$f":"IF(COUNTRY_INFO!B18=0,\" \",COUNTRY_INFO!B18)","v":"Dar Es Salaam"},{"$f":"IF(COUNTRY_INFO!C18=0,\" \",COUNTRY_INFO!C18)","v":"Kigamboni Municipal Council"},{"$f":"IF(COUNTRY_INFO!$T$9:$T$1000=\"MDA3 (IVM)\", COUNTRY_INFO!$T$9:$T$1000, \" \")","v":" "},null,null,null,0,null,null,0,null,null,0,0,0,0," "," "," "]
[{"$f":"IF(COUNTRY_INFO!A19=0,\" \",COUNTRY_INFO!A19)","v":"Tanzania"},{"$f":"IF(COUNTRY_INFO!B19=0,\" \",COUNTRY_INFO!B19)","v":"Dar Es Salaam"},{"$f":"IF(COUNTRY_INFO!C19=0,\" \",COUNTRY_INFO!C19)","v":"Kinondoni Municipal Council"},{"$f":"IF(COUNTRY_INFO!$T$9:$T$1000=\"MDA3 (IVM)\", COUNTRY_INFO!$T$9:$T$1000, \" \")","v":" "},null,null,null,0,null,null,0,null,null,0,0,0,0," "," "," "]
[{"$f":"IF(COUNTRY_INFO!A20=0,\" \",COUNTRY_INFO!A20)","v":"Tanzania"},{"$f":"IF(COUNTRY_INFO!B20=0,\" \",COUNTRY_INFO!B20)","v":"Dar Es Salaam"},{"$f":"IF(COUNTRY_INFO!C20=0,\" \",COUNTRY_INFO!C20)","v":"Temeke Municipal Council"},{"$f":"IF(COUNTRY_INFO!$T$9:$T$1000=\"MDA3 (IVM)\", COUNTRY_INFO!$T$9:$T$1000, \" \")","v":" "},null,null,null,0,null,null,0,null,null,0,0,0,0," "," "," "]
[{"$f":"IF(COUNTRY_INFO!A21=0,\" \",COUNTRY_INFO!A21)","v":"Tanzania"},{"$f":"IF(COUNTRY_INFO!B21=0,\" \",COUNTRY_INFO!B21)","v":"Dar Es Salaam"},{"$f":"IF(COUNTRY_INFO!C21=0,\" \",COUNTRY_INFO!C21)","v":"Ubungo Municipal Council"},{"$f":"IF(COUNTRY_INFO!$T$9:$T$1000=\"MDA3 (IVM)\", COUNTRY_INFO!$T$9:$T$1000, \" \")","v":" "},null,null,null,0,null,null,0,null,null,0,0,0,0," "," "," "]
[{"$f":"IF(COUNTRY_INFO!A22=0,\" \",COUNTRY_INFO!A22)","v":"Tanzania"},{"$f":"IF(COUNTRY_INFO!B22=0,\" \",COUNTRY_INFO!B22)","v":"Dodoma"},{"$f":"IF(COUNTRY_INFO!C22=0,\" \",COUNTRY_INFO!C22)","v":"Bahi District Council"},{"$f":"IF(COUNTRY_INFO!$T$9:$T$1000=\"MDA3 (IVM)\", COUNTRY_INFO!$T$9:$T$1000, \" \")","v":" "},null,null,null,0,null,null,0,null,null,0,0,0,0," "," "," "]
[{"$f":"IF(COUNTRY_INFO!A23=0,\" \",COUNTRY_INFO!A23)","v":"Tanzania"},{"$f":"IF(COUNTRY_INFO!B23=0,\" \",COUNTRY_INFO!B23)","v":"Dodoma"},{"$f":"IF(COUNTRY_INFO!C23=0,\" \",COUNTRY_INFO!C23)","v":"Chamwino District Council"},{"$f":"IF(COUNTRY_INFO!$T$9:$T$1000=\"MDA3 (IVM)\", COUNTRY_INFO!$T$9:$T$1000, \" \")","v":" "},null,null,null,0,null,null,0,null,null,0,0,0,0," "," "," "]
[{"$f":"IF(COUNTRY_INFO!A24=0,\" \",COUNTRY_INFO!A24)","v":"Tanzania"},{"$f":"IF(COUNTRY_INFO!B24=0,\" \",COUNTRY_INFO!B24)","v":"Dodoma"},{"$f":"IF(COUNTRY_INFO!C24=0,\" \",COUNTRY_INFO!C24)","v":"Chemba District Council"},{"$f":"IF(COUNTRY_INFO!$T$9:$T$1000=\"MDA3 (IVM)\", COUNTRY_INFO!$T$9:$T$1000, \" \")","v":" "},null,null,null,0,null,null,0,null,null,0,0,0,0," "," "," "]
[{"$f":"IF(COUNTRY_INFO!A25=0,\" \",COUNTRY_INFO!A25)","v":"Tanzania"},{"$f":"IF(COUNTRY_INFO!B25=0,\" \",COUNTRY_INFO!B25)","v":"Dodoma"},{"$f":"IF(COUNTRY_INFO!C25=0,\" \",COUNTRY_INFO!C25)","v":"Dodoma Municipal Council"},{"$f":"IF(COUNTRY_INFO!$T$9:$T$1000=\"MDA3 (IVM)\", COUNTRY_INFO!$T$9:$T$1000, \" \")","v":" "},null,null,null,0,null,null,0,null,null,0,0,0,0," "," "," "]
[{"$f":"IF(COUNTRY_INFO!A26=0,\" \",COUNTRY_INFO!A26)","v":"Tanzania"},{"$f":"IF(COUNTRY_INFO!B26=0,\" \",COUNTRY_INFO!B26)","v":"Dodoma"},{"$f":"IF(COUNTRY_INFO!C26=0,\" \",COUNTRY_INFO!C26)","v":"Kondoa District Council"},{"$f":"IF(COUNTRY_INFO!$T$9:$T$1000=\"MDA3 (IVM)\", COUNTRY_INFO!$T$9:$T$1000, \" \")","v":" "},null,null,null,0,null,null,0,null,null,0,0,0,0," "," "," "]
[{"$f":"IF(COUNTRY_INFO!A27=0,\" \",COUNTRY_INFO!A27)","v":"Tanzania"},{"$f":"IF(COUNTRY_INFO!B27=0,\" \",COUNTRY_INFO!B27)","v":"Dodoma"},{"$f":"IF(COUNTRY_INFO!C27=0,\" \",COUNTRY_INFO!C27)","v":"Kondoa Town Council "},{"$f":"IF(COUNTRY_INFO!$T$9:$T$1000=\"MDA3 (IVM)\", COUNTRY_INFO!$T$9:$T$1000, \" \")","v":" "},null,null,null,0,null,null,0,null,null,0,0,0,0," "," "," "]
[{"$f":"IF(COUNTRY_INFO!A28=0,\" \",COUNTRY_INFO!A28)","v":"Tanzania"},{"$f":"IF(COUNTRY_INFO!B28=0,\" \",COUNTRY_INFO!B28)","v":"Dodoma"},{"$f":"IF(COUNTRY_INFO!C28=0,\" \",COUNTRY_INFO!C28)","v":"Kongwa District Council"},{"$f":"IF(COUNTRY_INFO!$T$9:$T$1000=\"MDA3 (IVM)\", COUNTRY_INFO!$T$9:$T$1000, \" \")","v":" "},null,null,null,0,null,null,0,null,null,0,0,0,0," "," "," "]
[{"$f":"IF(COUNTRY_INFO!A29=0,\" \",COUNTRY_INFO!A29)","v":"Tanzania"},{"$f":"IF(COUNTRY_INFO!B29=0,\" \",COUNTRY_INFO!B29)","v":"Dodoma"},{"$f":"IF(COUNTRY_INFO!C29=0,\" \",COUNTRY_INFO!C29)","v":"Mpwapwa District Council"},{"$f":"IF(COUNTRY_INFO!$T$9:$T$1000=\"MDA3 (IVM)\", COUNTRY_INFO!$T$9:$T$1000, \" \")","v":" "},null,null,null,0,null,null,0,null,null,0,0,0,0," "," "," "]
[{"$f":"IF(COUNTRY_INFO!A30=0,\" \",COUNTRY_INFO!A30)","v":"Tanzania"},{"$f":"IF(COUNTRY_INFO!B30=0,\" \",COUNTRY_INFO!B30)","v":"Geita"},{"$f":"IF(COUNTRY_INFO!C30=0,\" \",COUNTRY_INFO!C30)","v":"Bukombe District Council"},{"$f":"IF(COUNTRY_INFO!$T$9:$T$1000=\"MDA3 (IVM)\", COUNTRY_INFO!$T$9:$T$1000, \" \")","v":" "},null,null,null,0,null,null,0,null,null,0,0,0,0," "," "," "]
[{"$f":"IF(COUNTRY_INFO!A31=0,\" \",COUNTRY_INFO!A31)","v":"Tanzania"},{"$f":"IF(COUNTRY_INFO!B31=0,\" \",COUNTRY_INFO!B31)","v":"Geita"},{"$f":"IF(COUNTRY_INFO!C31=0,\" \",COUNTRY_INFO!C31)","v":"Chato District Council"},{"$f":"IF(COUNTRY_INFO!$T$9:$T$1000=\"MDA3 (IVM)\", COUNTRY_INFO!$T$9:$T$1000, \" \")","v":" "},null,null,null,0,null,null,0,null,null,0,0,0,0," "," "," "]
[{"$f":"IF(COUNTRY_INFO!A32=0,\" \",COUNTRY_INFO!A32)","v":"Tanzania"},{"$f":"IF(COUNTRY_INFO!B32=0,\" \",COUNTRY_INFO!B32)","v":"Geita"},{"$f":"IF(COUNTRY_INFO!C32=0,\" \",COUNTRY_INFO!C32)","v":"Geita District Council"},{"$f":"IF(COUNTRY_INFO!$T$9:$T$1000=\"MDA3 (IVM)\", COUNTRY_INFO!$T$9:$T$1000, \" \")","v":" "},null,null,null,0,null,null,0,null,null,0,0,0,0," "," "," "]
[{"$f":"IF(COUNTRY_INFO!A33=0,\" \",COUNTRY_INFO!A33)","v":"Tanzania"},{"$f":"IF(COUNTRY_INFO!B33=0,\" \",COUNTRY_INFO!B33)","v":"Geita"},{"$f":"IF(COUNTRY_INFO!C33=0,\" \",COUNTRY_INFO!C33)","v":"Geita Town Council"},{"$f":"IF(COUNTRY_INFO!$T$9:$T$1000=\"MDA3 (IVM)\", COUNTRY_INFO!$T$9:$T$1000, \" \")","v":" "},null,null,null,0,null,null,0,null,null,0,0,0,0," "," "," "]
[{"$f":"IF(COUNTRY_INFO!A34=0,\" \",COUNTRY_INFO!A34)","v":"Tanzania"},{"$f":"IF(COUNTRY_INFO!B34=0,\" \",COUNTRY_INFO!B34)","v":"Geita"},{"$f":"IF(COUNTRY_INFO!C34=0,\" \",COUNTRY_INFO!C34)","v":"Mbogwe District Council"},{"$f":"IF(COUNTRY_INFO!$T$9:$T$1000=\"MDA3 (IVM)\", COUNTRY_INFO!$T$9:$T$1000, \" \")","v":" "},null,null,null,0,null,null,0,null,null,0,0,0,0," "," "," "]
[{"$f":"IF(COUNTRY_INFO!A35=0,\" \",COUNTRY_INFO!A35)","v":"Tanzania"},{"$f":"IF(COUNTRY_INFO!B35=0,\" \",COUNTRY_INFO!B35)","v":"Geita"},{"$f":"IF(COUNTRY_INFO!C35=0,\" \",COUNTRY_INFO!C35)","v":"Nyang'hwale District Council"},{"$f":"IF(COUNTRY_INFO!$T$9:$T$1000=\"MDA3 (IVM)\", COUNTRY_INFO!$T$9:$T$1000, \" \")","v":" "},null,null,null,0,null,null,0,null,null,0,0,0,0," "," "," "]
[{"$f":"IF(COUNTRY_INFO!A36=0,\" \",COUNTRY_INFO!A36)","v":"Tanzania"},{"$f":"IF(COUNTRY_INFO!B36=0,\" \",COUNTRY_INFO!B36)","v":"Iringa"},{"$f":"IF(COUNTRY_INFO!C36=0,\" \",COUNTRY_INFO!C36)","v":"Iringa District Council"},{"$f":"IF(COUNTRY_INFO!$T$9:$T$1000=\"MDA3 (IVM)\", COUNTRY_INFO!$T$9:$T$1000, \" \")","v":" "},null,null,null,0,null,null,0,null,null,0,0,0,0," "," "," "]
[{"$f":"IF(COUNTRY_INFO!A37=0,\" \",COUNTRY_INFO!A37)","v":"Tanzania"},{"$f":"IF(COUNTRY_INFO!B37=0,\" \",COUNTRY_INFO!B37)","v":"Iringa"},{"$f":"IF(COUNTRY_INFO!C37=0,\" \",COUNTRY_INFO!C37)","v":"Iringa Municipal Council"},{"$f":"IF(COUNTRY_INFO!$T$9:$T$1000=\"MDA3 (IVM)\", COUNTRY_INFO!$T$9:$T$1000, \" \")","v":" "},null,null,null,0,null,null,0,null,null,0,0,0,0," "," "," "]
[{"$f":"IF(COUNTRY_INFO!A38=0,\" \",COUNTRY_INFO!A38)","v":"Tanzania"},{"$f":"IF(COUNTRY_INFO!B38=0,\" \",COUNTRY_INFO!B38)","v":"Iringa"},{"$f":"IF(COUNTRY_INFO!C38=0,\" \",COUNTRY_INFO!C38)","v":"Kilolo District Council"},{"$f":"IF(COUNTRY_INFO!$T$9:$T$1000=\"MDA3 (IVM)\", COUNTRY_INFO!$T$9:$T$1000, \" \")","v":" "},null,null,null,0,null,null,0,null,null,0,0,0,0," "," "," "]
[{"$f":"IF(COUNTRY_INFO!A39=0,\" \",COUNTRY_INFO!A39)","v":"Tanzania"},{"$f":"IF(COUNTRY_INFO!B39=0,\" \",COUNTRY_INFO!B39)","v":"Iringa"},{"$f":"IF(COUNTRY_INFO!C39=0,\" \",COUNTRY_INFO!C39)","v":"Mafinga Town Council"},{"$f":"IF(COUNTRY_INFO!$T$9:$T$1000=\"MDA3 (IVM)\", COUNTRY_INFO!$T$9:$T$1000, \" \")","v":" "},null,null,null,0,null,null,0,null,null,0,0,0,0," "," "," "]
[{"$f":"IF(COUNTRY_INFO!A40=0,\" \",COUNTRY_INFO!A40)","v":"Tanzania"},{"$f":"IF(COUNTRY_INFO!B40=0,\" \",COUNTRY_INFO!B40)","v":"Iringa"},{"$f":"IF(COUNTRY_INFO!C40=0,\" \",COUNTRY_INFO!C40)","v":"Mufindi District Council"},{"$f":"IF(COUNTRY_INFO!$T$9:$T$1000=\"MDA3 (IVM)\", COUNTRY_INFO!$T$9:$T$1000, \" \")","v":"MDA3 (IVM)"},"Dec - 2018",54218,193027,247245,44884.809000000001,190114.19099999999,234999,null,null,0,44884.809000000001,190114.19099999999,234999,82.785807296469798,98.490983644775071,95.047018139901724]
[{"$f":"IF(COUNTRY_INFO!A41=0,\" \",COUNTRY_INFO!A41)","v":"Tanzania"},{"$f":"IF(COUNTRY_INFO!B41=0,\" \",COUNTRY_INFO!B41)","v":"Kagera"},{"$f":"IF(COUNTRY_INFO!C41=0,\" \",COUNTRY_INFO!C41)","v":"Biharamulo District Council"},{"$f":"IF(COUNTRY_INFO!$T$9:$T$1000=\"MDA3 (IVM)\", COUNTRY_INFO!$T$9:$T$1000, \" \")","v":" "},null,null,null,0,null,null,0,null,null,0,0,0,0," "," "," "]
[{"$f":"IF(COUNTRY_INFO!A42=0,\" \",COUNTRY_INFO!A42)","v":"Tanzania"},{"$f":"IF(COUNTRY_INFO!B42=0,\" \",COUNTRY_INFO!B42)","v":"Kagera"},{"$f":"IF(COUNTRY_INFO!C42=0,\" \",COUNTRY_INFO!C42)","v":"Bukoba District Council"},{"$f":"IF(COUNTRY_INFO!$T$9:$T$1000=\"MDA3 (IVM)\", COUNTRY_INFO!$T$9:$T$1000, \" \")","v":" "},null,null,null,0,null,null,0,null,null,0,0,0,0," "," "," "]
[{"$f":"IF(COUNTRY_INFO!A43=0,\" \",COUNTRY_INFO!A43)","v":"Tanzania"},{"$f":"IF(COUNTRY_INFO!B43=0,\" \",COUNTRY_INFO!B43)","v":"Kagera"},{"$f":"IF(COUNTRY_INFO!C43=0,\" \",COUNTRY_INFO!C43)","v":"Bukoba Municipal Council"},{"$f":"IF(COUNTRY_INFO!$T$9:$T$1000=\"MDA3 (IVM)\", COUNTRY_INFO!$T$9:$T$1000, \" \")","v":" "},null,null,null,0,null,null,0,null,null,0,0,0,0," "," "," "]
[{"$f":"IF(COUNTRY_INFO!A44=0,\" \",COUNTRY_INFO!A44)","v":"Tanzania"},{"$f":"IF(COUNTRY_INFO!B44=0,\" \",COUNTRY_INFO!B44)","v":"Kagera"},{"$f":"IF(COUNTRY_INFO!C44=0,\" \",COUNTRY_INFO!C44)","v":"Karagwe District Council"},{"$f":"IF(COUNTRY_INFO!$T$9:$T$1000=\"MDA3 (IVM)\", COUNTRY_INFO!$T$9:$T$1000, \" \")","v":" "},null,null,null,0,null,null,0,null,null,0,0,0,0," "," "," "]
[{"$f":"IF(COUNTRY_INFO!A45=0,\" \",COUNTRY_INFO!A45)","v":"Tanzania"},{"$f":"IF(COUNTRY_INFO!B45=0,\" \",COUNTRY_INFO!B45)","v":"Kagera"},{"$f":"IF(COUNTRY_INFO!C45=0,\" \",COUNTRY_INFO!C45)","v":"Kyerwa District Council"},{"$f":"IF(COUNTRY_INFO!$T$9:$T$1000=\"MDA3 (IVM)\", COUNTRY_INFO!$T$9:$T$1000, \" \")","v":" "},null,null,null,0,null,null,0,null,null,0,0,0,0," "," "," "]
[{"$f":"IF(COUNTRY_INFO!A46=0,\" \",COUNTRY_INFO!A46)","v":"Tanzania"},{"$f":"IF(COUNTRY_INFO!B46=0,\" \",COUNTRY_INFO!B46)","v":"Kagera"},{"$f":"IF(COUNTRY_INFO!C46=0,\" \",COUNTRY_INFO!C46)","v":"Missenyi District Council"},{"$f":"IF(COUNTRY_INFO!$T$9:$T$1000=\"MDA3 (IVM)\", COUNTRY_INFO!$T$9:$T$1000, \" \")","v":" "},null,null,null,0,null,null,0,null,null,0,0,0,0," "," "," "]
[{"$f":"IF(COUNTRY_INFO!A47=0,\" \",COUNTRY_INFO!A47)","v":"Tanzania"},{"$f":"IF(COUNTRY_INFO!B47=0,\" \",COUNTRY_INFO!B47)","v":"Kagera"},{"$f":"IF(COUNTRY_INFO!C47=0,\" \",COUNTRY_INFO!C47)","v":"Muleba District Council"},{"$f":"IF(COUNTRY_INFO!$T$9:$T$1000=\"MDA3 (IVM)\", COUNTRY_INFO!$T$9:$T$1000, \" \")","v":" "},null,null,null,0,null,null,0,null,null,0,0,0,0," "," "," "]
[{"$f":"IF(COUNTRY_INFO!A48=0,\" \",COUNTRY_INFO!A48)","v":"Tanzania"},{"$f":"IF(COUNTRY_INFO!B48=0,\" \",COUNTRY_INFO!B48)","v":"Kagera"},{"$f":"IF(COUNTRY_INFO!C48=0,\" \",COUNTRY_INFO!C48)","v":"Ngara District Council"},{"$f":"IF(COUNTRY_INFO!$T$9:$T$1000=\"MDA3 (IVM)\", COUNTRY_INFO!$T$9:$T$1000, \" \")","v":" "},null,null,null,0,null,null,0,null,null,0,0,0,0," "," "," "]
[{"$f":"IF(COUNTRY_INFO!A49=0,\" \",COUNTRY_INFO!A49)","v":"Tanzania"},{"$f":"IF(COUNTRY_INFO!B49=0,\" \",COUNTRY_INFO!B49)","v":"Katavi"},{"$f":"IF(COUNTRY_INFO!C49=0,\" \",COUNTRY_INFO!C49)","v":"Mlele District Council"},{"$f":"IF(COUNTRY_INFO!$T$9:$T$1000=\"MDA3 (IVM)\", COUNTRY_INFO!$T$9:$T$1000, \" \")","v":" "},null,null,null,0,null,null,0,null,null,0,0,0,0," "," "," "]
[{"$f":"IF(COUNTRY_INFO!A50=0,\" \",COUNTRY_INFO!A50)","v":"Tanzania"},{"$f":"IF(COUNTRY_INFO!B50=0,\" \",COUNTRY_INFO!B50)","v":"Katavi"},{"$f":"IF(COUNTRY_INFO!C50=0,\" \",COUNTRY_INFO!C50)","v":"Mpanda District Council"},{"$f":"IF(COUNTRY_INFO!$T$9:$T$1000=\"MDA3 (IVM)\", COUNTRY_INFO!$T$9:$T$1000, \" \")","v":" "},null,null,null,0,null,null,0,null,null,0,0,0,0," "," "," "]
[{"$f":"IF(COUNTRY_INFO!A51=0,\" \",COUNTRY_INFO!A51)","v":"Tanzania"},{"$f":"IF(COUNTRY_INFO!B51=0,\" \",COUNTRY_INFO!B51)","v":"Katavi"},{"$f":"IF(COUNTRY_INFO!C51=0,\" \",COUNTRY_INFO!C51)","v":"Mpanda Municipal Council"},{"$f":"IF(COUNTRY_INFO!$T$9:$T$1000=\"MDA3 (IVM)\", COUNTRY_INFO!$T$9:$T$1000, \" \")","v":" "},null,null,null,0,null,null,0,null,null,0,0,0,0," "," "," "]
[{"$f":"IF(COUNTRY_INFO!A52=0,\" \",COUNTRY_INFO!A52)","v":"Tanzania"},{"$f":"IF(COUNTRY_INFO!B52=0,\" \",COUNTRY_INFO!B52)","v":"Katavi"},{"$f":"IF(COUNTRY_INFO!C52=0,\" \",COUNTRY_INFO!C52)","v":"Mpimbwe District Council"},{"$f":"IF(COUNTRY_INFO!$T$9:$T$1000=\"MDA3 (IVM)\", COUNTRY_INFO!$T$9:$T$1000, \" \")","v":" "},null,null,null,0,null,null,0,null,null,0,0,0,0," "," "," "]
[{"$f":"IF(COUNTRY_INFO!A53=0,\" \",COUNTRY_INFO!A53)","v":"Tanzania"},{"$f":"IF(COUNTRY_INFO!B53=0,\" \",COUNTRY_INFO!B53)","v":"Katavi"},{"$f":"IF(COUNTRY_INFO!C53=0,\" \",COUNTRY_INFO!C53)","v":"Nsimbo District Council"},{"$f":"IF(COUNTRY_INFO!$T$9:$T$1000=\"MDA3 (IVM)\", COUNTRY_INFO!$T$9:$T$1000, \" \")","v":" "},null,null,null,0,null,null,0,null,null,0,0,0,0," "," "," "]
[{"$f":"IF(COUNTRY_INFO!A54=0,\" \",COUNTRY_INFO!A54)","v":"Tanzania"},{"$f":"IF(COUNTRY_INFO!B54=0,\" \",COUNTRY_INFO!B54)","v":"Kigoma"},{"$f":"IF(COUNTRY_INFO!C54=0,\" \",COUNTRY_INFO!C54)","v":"Buhigwe District Council"},{"$f":"IF(COUNTRY_INFO!$T$9:$T$1000=\"MDA3 (IVM)\", COUNTRY_INFO!$T$9:$T$1000, \" \")","v":" "},null,null,null,0,null,null,0,null,null,0,0,0,0," "," "," "]
[{"$f":"IF(COUNTRY_INFO!A55=0,\" \",COUNTRY_INFO!A55)","v":"Tanzania"},{"$f":"IF(COUNTRY_INFO!B55=0,\" \",COUNTRY_INFO!B55)","v":"Kigoma"},{"$f":"IF(COUNTRY_INFO!C55=0,\" \",COUNTRY_INFO!C55)","v":"Kakonko District Council"},{"$f":"IF(COUNTRY_INFO!$T$9:$T$1000=\"MDA3 (IVM)\", COUNTRY_INFO!$T$9:$T$1000, \" \")","v":" "},null,null,null,0,null,null,0,null,null,0,0,0,0," "," "," "]
[{"$f":"IF(COUNTRY_INFO!A56=0,\" \",COUNTRY_INFO!A56)","v":"Tanzania"},{"$f":"IF(COUNTRY_INFO!B56=0,\" \",COUNTRY_INFO!B56)","v":"Kigoma"},{"$f":"IF(COUNTRY_INFO!C56=0,\" \",COUNTRY_INFO!C56)","v":"Kasulu District Council"},{"$f":"IF(COUNTRY_INFO!$T$9:$T$1000=\"MDA3 (IVM)\", COUNTRY_INFO!$T$9:$T$1000, \" \")","v":" "},null,null,null,0,null,null,0,null,null,0,0,0,0," "," "," "]
[{"$f":"IF(COUNTRY_INFO!A57=0,\" \",COUNTRY_INFO!A57)","v":"Tanzania"},{"$f":"IF(COUNTRY_INFO!B57=0,\" \",COUNTRY_INFO!B57)","v":"Kigoma"},{"$f":"IF(COUNTRY_INFO!C57=0,\" \",COUNTRY_INFO!C57)","v":"Kasulu Town Council"},{"$f":"IF(COUNTRY_INFO!$T$9:$T$1000=\"MDA3 (IVM)\", COUNTRY_INFO!$T$9:$T$1000, \" \")","v":" "},null,null,null,0,null,null,0,null,null,0,0,0,0," "," "," "]
[{"$f":"IF(COUNTRY_INFO!A58=0,\" \",COUNTRY_INFO!A58)","v":"Tanzania"},{"$f":"IF(COUNTRY_INFO!B58=0,\" \",COUNTRY_INFO!B58)","v":"Kigoma"},{"$f":"IF(COUNTRY_INFO!C58=0,\" \",COUNTRY_INFO!C58)","v":"Kibondo District Council"},{"$f":"IF(COUNTRY_INFO!$T$9:$T$1000=\"MDA3 (IVM)\", COUNTRY_INFO!$T$9:$T$1000, \" \")","v":" "},null,null,null,0,null,null,0,null,null,0,0,0,0," "," "," "]
[{"$f":"IF(COUNTRY_INFO!A59=0,\" \",COUNTRY_INFO!A59)","v":"Tanzania"},{"$f":"IF(COUNTRY_INFO!B59=0,\" \",COUNTRY_INFO!B59)","v":"Kigoma"},{"$f":"IF(COUNTRY_INFO!C59=0,\" \",COUNTRY_INFO!C59)","v":"Kigoma District Council"},{"$f":"IF(COUNTRY_INFO!$T$9:$T$1000=\"MDA3 (IVM)\", COUNTRY_INFO!$T$9:$T$1000, \" \")","v":" "},null,null,null,0,null,null,0,null,null,0,0,0,0," "," "," "]
[{"$f":"IF(COUNTRY_INFO!A60=0,\" \",COUNTRY_INFO!A60)","v":"Tanzania"},{"$f":"IF(COUNTRY_INFO!B60=0,\" \",COUNTRY_INFO!B60)","v":"Kigoma"},{"$f":"IF(COUNTRY_INFO!C60=0,\" \",COUNTRY_INFO!C60)","v":"Kigoma-Ujiji Municipal Council"},{"$f":"IF(COUNTRY_INFO!$T$9:$T$1000=\"MDA3 (IVM)\", COUNTRY_INFO!$T$9:$T$1000, \" \")","v":" "},null,null,null,0,null,null,0,null,null,0,0,0,0," "," "," "]
[{"$f":"IF(COUNTRY_INFO!A61=0,\" \",COUNTRY_INFO!A61)","v":"Tanzania"},{"$f":"IF(COUNTRY_INFO!B61=0,\" \",COUNTRY_INFO!B61)","v":"Kigoma"},{"$f":"IF(COUNTRY_INFO!C61=0,\" \",COUNTRY_INFO!C61)","v":"Uvinza District Council"},{"$f":"IF(COUNTRY_INFO!$T$9:$T$1000=\"MDA3 (IVM)\", COUNTRY_INFO!$T$9:$T$1000, \" \")","v":" "},null,null,null,0,null,null,0,null,null,0,0,0,0," "," "," "]
[{"$f":"IF(COUNTRY_INFO!A62=0,\" \",COUNTRY_INFO!A62)","v":"Tanzania"},{"$f":"IF(COUNTRY_INFO!B62=0,\" \",COUNTRY_INFO!B62)","v":"Kilimanjaro"},{"$f":"IF(COUNTRY_INFO!C62=0,\" \",COUNTRY_INFO!C62)","v":"Hai District Council"},{"$f":"IF(COUNTRY_INFO!$T$9:$T$1000=\"MDA3 (IVM)\", COUNTRY_INFO!$T$9:$T$1000, \" \")","v":" "},null,null,null,0,null,null,0,null,null,0,0,0,0," "," "," "]
[{"$f":"IF(COUNTRY_INFO!A63=0,\" \",COUNTRY_INFO!A63)","v":"Tanzania"},{"$f":"IF(COUNTRY_INFO!B63=0,\" \",COUNTRY_INFO!B63)","v":"Kilimanjaro"},{"$f":"IF(COUNTRY_INFO!C63=0,\" \",COUNTRY_INFO!C63)","v":"Moshi District Council"},{"$f":"IF(COUNTRY_INFO!$T$9:$T$1000=\"MDA3 (IVM)\", COUNTRY_INFO!$T$9:$T$1000, \" \")","v":" "},null,null,null,0,null,null,0,null,null,0,0,0,0," "," "," "]
[{"$f":"IF(COUNTRY_INFO!A64=0,\" \",COUNTRY_INFO!A64)","v":"Tanzania"},{"$f":"IF(COUNTRY_INFO!B64=0,\" \",COUNTRY_INFO!B64)","v":"Kilimanjaro"},{"$f":"IF(COUNTRY_INFO!C64=0,\" \",COUNTRY_INFO!C64)","v":"Moshi Municipal Council"},{"$f":"IF(COUNTRY_INFO!$T$9:$T$1000=\"MDA3 (IVM)\", COUNTRY_INFO!$T$9:$T$1000, \" \")","v":" "},null,null,null,0,null,null,0,null,null,0,0,0,0," "," "," "]
[{"$f":"IF(COUNTRY_INFO!A65=0,\" \",COUNTRY_INFO!A65)","v":"Tanzania"},{"$f":"IF(COUNTRY_INFO!B65=0,\" \",COUNTRY_INFO!B65)","v":"Kilimanjaro"},{"$f":"IF(COUNTRY_INFO!C65=0,\" \",COUNTRY_INFO!C65)","v":"Mwanga District Council"},{"$f":"IF(COUNTRY_INFO!$T$9:$T$1000=\"MDA3 (IVM)\", COUNTRY_INFO!$T$9:$T$1000, \" \")","v":" "},null,null,null,0,null,null,0,null,null,0,0,0,0," "," "," "]
[{"$f":"IF(COUNTRY_INFO!A66=0,\" \",COUNTRY_INFO!A66)","v":"Tanzania"},{"$f":"IF(COUNTRY_INFO!B66=0,\" \",COUNTRY_INFO!B66)","v":"Kilimanjaro"},{"$f":"IF(COUNTRY_INFO!C66=0,\" \",COUNTRY_INFO!C66)","v":"Rombo District Council"},{"$f":"IF(COUNTRY_INFO!$T$9:$T$1000=\"MDA3 (IVM)\", COUNTRY_INFO!$T$9:$T$1000, \" \")","v":" "},null,null,null,0,null,null,0,null,null,0,0,0,0," "," "," "]
[{"$f":"IF(COUNTRY_INFO!A67=0,\" \",COUNTRY_INFO!A67)","v":"Tanzania"},{"$f":"IF(COUNTRY_INFO!B67=0,\" \",COUNTRY_INFO!B67)","v":"Kilimanjaro"},{"$f":"IF(COUNTRY_INFO!C67=0,\" \",COUNTRY_INFO!C67)","v":"Same District Council"},{"$f":"IF(COUNTRY_INFO!$T$9:$T$1000=\"MDA3 (IVM)\", COUNTRY_INFO!$T$9:$T$1000, \" \")","v":" "},null,null,null,0,null,null,0,null,null,0,0,0,0," "," "," "]
[{"$f":"IF(COUNTRY_INFO!A68=0,\" \",COUNTRY_INFO!A68)","v":"Tanzania"},{"$f":"IF(COUNTRY_INFO!B68=0,\" \",COUNTRY_INFO!B68)","v":"Kilimanjaro"},{"$f":"IF(COUNTRY_INFO!C68=0,\" \",COUNTRY_INFO!C68)","v":"Siha District Council"},{"$f":"IF(COUNTRY_INFO!$T$9:$T$1000=\"MDA3 (IVM)\", COUNTRY_INFO!$T$9:$T$1000, \" \")","v":" "},null,null,null,0,null,null,0,null,null,0,0,0,0," "," "," "]
[{"$f":"IF(COUNTRY_INFO!A69=0,\" \",COUNTRY_INFO!A69)","v":"Tanzania"},{"$f":"IF(COUNTRY_INFO!B69=0,\" \",COUNTRY_INFO!B69)","v":"Lindi"},{"$f":"IF(COUNTRY_INFO!C69=0,\" \",COUNTRY_INFO!C69)","v":"Kilwa District Council"},{"$f":"IF(COUNTRY_INFO!$T$9:$T$1000=\"MDA3 (IVM)\", COUNTRY_INFO!$T$9:$T$1000, \" \")","v":" "},null,null,null,0,null,null,0,null,null,0,0,0,0," "," "," "]
[{"$f":"IF(COUNTRY_INFO!A70=0,\" \",COUNTRY_INFO!A70)","v":"Tanzania"},{"$f":"IF(COUNTRY_INFO!B70=0,\" \",COUNTRY_INFO!B70)","v":"Lindi"},{"$f":"IF(COUNTRY_INFO!C70=0,\" \",COUNTRY_INFO!C70)","v":"Lindi District Council"},{"$f":"IF(COUNTRY_INFO!$T$9:$T$1000=\"MDA3 (IVM)\", COUNTRY_INFO!$T$9:$T$1000, \" \")","v":" "},null,null,null,0,null,null,0,null,null,0,0,0,0," "," "," "]
[{"$f":"IF(COUNTRY_INFO!A71=0,\" \",COUNTRY_INFO!A71)","v":"Tanzania"},{"$f":"IF(COUNTRY_INFO!B71=0,\" \",COUNTRY_INFO!B71)","v":"Lindi"},{"$f":"IF(COUNTRY_INFO!C71=0,\" \",COUNTRY_INFO!C71)","v":"Lindi Municipal Council"},{"$f":"IF(COUNTRY_INFO!$T$9:$T$1000=\"MDA3 (IVM)\", COUNTRY_INFO!$T$9:$T$1000, \" \")","v":" "},null,null,null,0,null,null,0,null,null,0,0,0,0," "," "," "]
[{"$f":"IF(COUNTRY_INFO!A72=0,\" \",COUNTRY_INFO!A72)","v":"Tanzania"},{"$f":"IF(COUNTRY_INFO!B72=0,\" \",COUNTRY_INFO!B72)","v":"Lindi"},{"$f":"IF(COUNTRY_INFO!C72=0,\" \",COUNTRY_INFO!C72)","v":"Liwale District Council"},{"$f":"IF(COUNTRY_INFO!$T$9:$T$1000=\"MDA3 (IVM)\", COUNTRY_INFO!$T$9:$T$1000, \" \")","v":" "},null,null,null,0,null,null,0,null,null,0,0,0,0," "," "," "]
[{"$f":"IF(COUNTRY_INFO!A73=0,\" \",COUNTRY_INFO!A73)","v":"Tanzania"},{"$f":"IF(COUNTRY_INFO!B73=0,\" \",COUNTRY_INFO!B73)","v":"Lindi"},{"$f":"IF(COUNTRY_INFO!C73=0,\" \",COUNTRY_INFO!C73)","v":"Nachingwea District Council"},{"$f":"IF(COUNTRY_INFO!$T$9:$T$1000=\"MDA3 (IVM)\", COUNTRY_INFO!$T$9:$T$1000, \" \")","v":" "},null,null,null,0,null,null,0,null,null,0,0,0,0," "," "," "]
[{"$f":"IF(COUNTRY_INFO!A74=0,\" \",COUNTRY_INFO!A74)","v":"Tanzania"},{"$f":"IF(COUNTRY_INFO!B74=0,\" \",COUNTRY_INFO!B74)","v":"Lindi"},{"$f":"IF(COUNTRY_INFO!C74=0,\" \",COUNTRY_INFO!C74)","v":"Ruangwa District Council"},{"$f":"IF(COUNTRY_INFO!$T$9:$T$1000=\"MDA3 (IVM)\", COUNTRY_INFO!$T$9:$T$1000, \" \")","v":" "},null,null,null,{"$f":"SUM(F74:G74)","v":0},null,null,{"$f":"SUM(I74:J74)","v":0},null,null,{"$f":"SUM(L74:M74)","v":0},{"$f":"MAX(I74,L74)","v":0},{"$f":"MAX(J74,M74)","v":0},{"$f":"SUM(O74:P74)","v":0},{"$f":"IF(F74<>0, IF(MAX(I74,L74)/F74*100=0, \"-\", MAX(I74,L74)/F74*100), \" \")","v":" "},{"$f":"IF(G74<>0, IF(MAX(J74,M74)/G74*100=0, \"-\", MAX(J74,M74)/G74*100), \" \")","v":" "},{"$f":"IF(H74<>0, IF((MAX(I74,L74)+MAX(J74,M74))/H74*100=0, \"-\",(MAX(I74,L74)+MAX(J74,M74))/H74*100), \" \")","v":" "}]
[{"$f":"IF(COUNTRY_INFO!A75=0,\" \",COUNTRY_INFO!A75)","v":"Tanzania"},{"$f":"IF(COUNTRY_INFO!B75=0,\" \",COUNTRY_INFO!B75)","v":"Manyara"},{"$f":"IF(COUNTRY_INFO!C75=0,\" \",COUNTRY_INFO!C75)","v":"Babati District Council"},{"$f":"IF(COUNTRY_INFO!$T$9:$T$1000=\"MDA3 (IVM)\", COUNTRY_INFO!$T$9:$T$1000, \" \")","v":" "},null,null,null,0,null,null,0,null,null,0,0,0,0," "," "," "]
[{"$f":"IF(COUNTRY_INFO!A76=0,\" \",COUNTRY_INFO!A76)","v":"Tanzania"},{"$f":"IF(COUNTRY_INFO!B76=0,\" \",COUNTRY_INFO!B76)","v":"Manyara"},{"$f":"IF(COUNTRY_INFO!C76=0,\" \",COUNTRY_INFO!C76)","v":"Babati Town Council"},{"$f":"IF(COUNTRY_INFO!$T$9:$T$1000=\"MDA3 (IVM)\", COUNTRY_INFO!$T$9:$T$1000, \" \")","v":" "},null,null,null,0,null,null,0,null,null,0,0,0,0," "," "," "]
[{"$f":"IF(COUNTRY_INFO!A77=0,\" \",COUNTRY_INFO!A77)","v":"Tanzania"},{"$f":"IF(COUNTRY_INFO!B77=0,\" \",COUNTRY_INFO!B77)","v":"Manyara"},{"$f":"IF(COUNTRY_INFO!C77=0,\" \",COUNTRY_INFO!C77)","v":"Hanang District Council"},{"$f":"IF(COUNTRY_INFO!$T$9:$T$1000=\"MDA3 (IVM)\", COUNTRY_INFO!$T$9:$T$1000, \" \")","v":" "},null,null,null,0,null,null,0,null,null,0,0,0,0," "," "," "]
[{"$f":"IF(COUNTRY_INFO!A78=0,\" \",COUNTRY_INFO!A78)","v":"Tanzania"},{"$f":"IF(COUNTRY_INFO!B78=0,\" \",COUNTRY_INFO!B78)","v":"Manyara"},{"$f":"IF(COUNTRY_INFO!C78=0,\" \",COUNTRY_INFO!C78)","v":"Kiteto District Council"},{"$f":"IF(COUNTRY_INFO!$T$9:$T$1000=\"MDA3 (IVM)\", COUNTRY_INFO!$T$9:$T$1000, \" \")","v":" "},null,null,null,0,null,null,0,null,null,0,0,0,0," "," "," "]
[{"$f":"IF(COUNTRY_INFO!A79=0,\" \",COUNTRY_INFO!A79)","v":"Tanzania"},{"$f":"IF(COUNTRY_INFO!B79=0,\" \",COUNTRY_INFO!B79)","v":"Manyara"},{"$f":"IF(COUNTRY_INFO!C79=0,\" \",COUNTRY_INFO!C79)","v":"Mbulu District Council"},{"$f":"IF(COUNTRY_INFO!$T$9:$T$1000=\"MDA3 (IVM)\", COUNTRY_INFO!$T$9:$T$1000, \" \")","v":" "},null,null,null,0,null,null,0,null,null,0,0,0,0," "," "," "]
[{"$f":"IF(COUNTRY_INFO!A80=0,\" \",COUNTRY_INFO!A80)","v":"Tanzania"},{"$f":"IF(COUNTRY_INFO!B80=0,\" \",COUNTRY_INFO!B80)","v":"Manyara"},{"$f":"IF(COUNTRY_INFO!C80=0,\" \",COUNTRY_INFO!C80)","v":"Mbulu Town Council"},{"$f":"IF(COUNTRY_INFO!$T$9:$T$1000=\"MDA3 (IVM)\", COUNTRY_INFO!$T$9:$T$1000, \" \")","v":" "},null,null,null,0,null,null,0,null,null,0,0,0,0," "," "," "]
[{"$f":"IF(COUNTRY_INFO!A81=0,\" \",COUNTRY_INFO!A81)","v":"Tanzania"},{"$f":"IF(COUNTRY_INFO!B81=0,\" \",COUNTRY_INFO!B81)","v":"Manyara"},{"$f":"IF(COUNTRY_INFO!C81=0,\" \",COUNTRY_INFO!C81)","v":"Simanjiro District Council"},{"$f":"IF(COUNTRY_INFO!$T$9:$T$1000=\"MDA3 (IVM)\", COUNTRY_INFO!$T$9:$T$1000, \" \")","v":" "},null,null,null,0,null,null,0,null,null,0,0,0,0," "," "," "]
[{"$f":"IF(COUNTRY_INFO!A82=0,\" \",COUNTRY_INFO!A82)","v":"Tanzania"},{"$f":"IF(COUNTRY_INFO!B82=0,\" \",COUNTRY_INFO!B82)","v":"Mara"},{"$f":"IF(COUNTRY_INFO!C82=0,\" \",COUNTRY_INFO!C82)","v":"Bunda District Council"},{"$f":"IF(COUNTRY_INFO!$T$9:$T$1000=\"MDA3 (IVM)\", COUNTRY_INFO!$T$9:$T$1000, \" \")","v":" "},null,null,null,0,null,null,0,null,null,0,0,0,0," "," "," "]
[{"$f":"IF(COUNTRY_INFO!A83=0,\" \",COUNTRY_INFO!A83)","v":"Tanzania"},{"$f":"IF(COUNTRY_INFO!B83=0,\" \",COUNTRY_INFO!B83)","v":"Mara"},{"$f":"IF(COUNTRY_INFO!C83=0,\" \",COUNTRY_INFO!C83)","v":"Bunda Town Council"},{"$f":"IF(COUNTRY_INFO!$T$9:$T$1000=\"MDA3 (IVM)\", COUNTRY_INFO!$T$9:$T$1000, \" \")","v":" "},null,null,null,0,null,null,0,null,null,0,0,0,0," "," "," "]
[{"$f":"IF(COUNTRY_INFO!A84=0,\" \",COUNTRY_INFO!A84)","v":"Tanzania"},{"$f":"IF(COUNTRY_INFO!B84=0,\" \",COUNTRY_INFO!B84)","v":"Mara"},{"$f":"IF(COUNTRY_INFO!C84=0,\" \",COUNTRY_INFO!C84)","v":"Butiama District Council"},{"$f":"IF(COUNTRY_INFO!$T$9:$T$1000=\"MDA3 (IVM)\", COUNTRY_INFO!$T$9:$T$1000, \" \")","v":" "},null,null,null,0,null,null,0,null,null,0,0,0,0," "," "," "]
[{"$f":"IF(COUNTRY_INFO!A85=0,\" \",COUNTRY_INFO!A85)","v":"Tanzania"},{"$f":"IF(COUNTRY_INFO!B85=0,\" \",COUNTRY_INFO!B85)","v":"Mara"},{"$f":"IF(COUNTRY_INFO!C85=0,\" \",COUNTRY_INFO!C85)","v":"Musoma District Council"},{"$f":"IF(COUNTRY_INFO!$T$9:$T$1000=\"MDA3 (IVM)\", COUNTRY_INFO!$T$9:$T$1000, \" \")","v":" "},null,null,null,0,null,null,0,null,null,0,0,0,0," "," "," "]
[{"$f":"IF(COUNTRY_INFO!A86=0,\" \",COUNTRY_INFO!A86)","v":"Tanzania"},{"$f":"IF(COUNTRY_INFO!B86=0,\" \",COUNTRY_INFO!B86)","v":"Mara"},{"$f":"IF(COUNTRY_INFO!C86=0,\" \",COUNTRY_INFO!C86)","v":"Musoma Municipal Council"},{"$f":"IF(COUNTRY_INFO!$T$9:$T$1000=\"MDA3 (IVM)\", COUNTRY_INFO!$T$9:$T$1000, \" \")","v":" "},null,null,null,0,null,null,0,null,null,0,0,0,0," "," "," "]
[{"$f":"IF(COUNTRY_INFO!A87=0,\" \",COUNTRY_INFO!A87)","v":"Tanzania"},{"$f":"IF(COUNTRY_INFO!B87=0,\" \",COUNTRY_INFO!B87)","v":"Mara"},{"$f":"IF(COUNTRY_INFO!C87=0,\" \",COUNTRY_INFO!C87)","v":"Rorya District Council"},{"$f":"IF(COUNTRY_INFO!$T$9:$T$1000=\"MDA3 (IVM)\", COUNTRY_INFO!$T$9:$T$1000, \" \")","v":" "},null,null,null,0,null,null,0,null,null,0,0,0,0," "," "," "]
[{"$f":"IF(COUNTRY_INFO!A88=0,\" \",COUNTRY_INFO!A88)","v":"Tanzania"},{"$f":"IF(COUNTRY_INFO!B88=0,\" \",COUNTRY_INFO!B88)","v":"Mara"},{"$f":"IF(COUNTRY_INFO!C88=0,\" \",COUNTRY_INFO!C88)","v":"Serengeti District Council"},{"$f":"IF(COUNTRY_INFO!$T$9:$T$1000=\"MDA3 (IVM)\", COUNTRY_INFO!$T$9:$T$1000, \" \")","v":" "},null,null,null,0,null,null,0,null,null,0,0,0,0," "," "," "]
[{"$f":"IF(COUNTRY_INFO!A89=0,\" \",COUNTRY_INFO!A89)","v":"Tanzania"},{"$f":"IF(COUNTRY_INFO!B89=0,\" \",COUNTRY_INFO!B89)","v":"Mara"},{"$f":"IF(COUNTRY_INFO!C89=0,\" \",COUNTRY_INFO!C89)","v":"Tarime District Council"},{"$f":"IF(COUNTRY_INFO!$T$9:$T$1000=\"MDA3 (IVM)\", COUNTRY_INFO!$T$9:$T$1000, \" \")","v":" "},null,null,null,0,null,null,0,null,null,0,0,0,0," "," "," "]
[{"$f":"IF(COUNTRY_INFO!A90=0,\" \",COUNTRY_INFO!A90)","v":"Tanzania"},{"$f":"IF(COUNTRY_INFO!B90=0,\" \",COUNTRY_INFO!B90)","v":"Mara"},{"$f":"IF(COUNTRY_INFO!C90=0,\" \",COUNTRY_INFO!C90)","v":"Tarime Town Council"},{"$f":"IF(COUNTRY_INFO!$T$9:$T$1000=\"MDA3 (IVM)\", COUNTRY_INFO!$T$9:$T$1000, \" \")","v":" "},null,null,null,0,null,null,0,null,null,0,0,0,0," "," "," "]
[{"$f":"IF(COUNTRY_INFO!A91=0,\" \",COUNTRY_INFO!A91)","v":"Tanzania"},{"$f":"IF(COUNTRY_INFO!B91=0,\" \",COUNTRY_INFO!B91)","v":"Mbeya"},{"$f":"IF(COUNTRY_INFO!C91=0,\" \",COUNTRY_INFO!C91)","v":"Busokelo District Council"},{"$f":"IF(COUNTRY_INFO!$T$9:$T$1000=\"MDA3 (IVM)\", COUNTRY_INFO!$T$9:$T$1000, \" \")","v":"MDA3 (IVM)"},"Sept - 2018",22839,81313,104152,18624.600999999999,78886.399000000005,97511,null,null,0,18624.600999999999,78886.399000000005,97511,81.547357590087117,97.015728112355959,93.62374222290498]
[{"$f":"IF(COUNTRY_INFO!A92=0,\" \",COUNTRY_INFO!A92)","v":"Tanzania"},{"$f":"IF(COUNTRY_INFO!B92=0,\" \",COUNTRY_INFO!B92)","v":"Mbeya"},{"$f":"IF(COUNTRY_INFO!C92=0,\" \",COUNTRY_INFO!C92)","v":"Chunya District Council"},{"$f":"IF(COUNTRY_INFO!$T$9:$T$1000=\"MDA3 (IVM)\", COUNTRY_INFO!$T$9:$T$1000, \" \")","v":" "},null,null,null,0,null,null,0,null,null,0,0,0,0," "," "," "]
[{"$f":"IF(COUNTRY_INFO!A93=0,\" \",COUNTRY_INFO!A93)","v":"Tanzania"},{"$f":"IF(COUNTRY_INFO!B93=0,\" \",COUNTRY_INFO!B93)","v":"Mbeya"},{"$f":"IF(COUNTRY_INFO!C93=0,\" \",COUNTRY_INFO!C93)","v":"Kyela District Council"},{"$f":"IF(COUNTRY_INFO!$T$9:$T$1000=\"MDA3 (IVM)\", COUNTRY_INFO!$T$9:$T$1000, \" \")","v":"MDA3 (IVM)"},"Sept - 2018",49638,176720,226358,42470.76,179889.24,222360,null,null,0,42470.76,179889.24,222360,85.560981506104199,101.79336803983703,98.233771282658438]
[{"$f":"IF(COUNTRY_INFO!A94=0,\" \",COUNTRY_INFO!A94)","v":"Tanzania"},{"$f":"IF(COUNTRY_INFO!B94=0,\" \",COUNTRY_INFO!B94)","v":"Mbeya"},{"$f":"IF(COUNTRY_INFO!C94=0,\" \",COUNTRY_INFO!C94)","v":"Mbarali District Council"},{"$f":"IF(COUNTRY_INFO!$T$9:$T$1000=\"MDA3 (IVM)\", COUNTRY_INFO!$T$9:$T$1000, \" \")","v":" "},null,null,null,0,null,null,0,null,null,0,0,0,0," "," "," "]
[{"$f":"IF(COUNTRY_INFO!A95=0,\" \",COUNTRY_INFO!A95)","v":"Tanzania"},{"$f":"IF(COUNTRY_INFO!B95=0,\" \",COUNTRY_INFO!B95)","v":"Mbeya"},{"$f":"IF(COUNTRY_INFO!C95=0,\" \",COUNTRY_INFO!C95)","v":"Mbeya City Council"},{"$f":"IF(COUNTRY_INFO!$T$9:$T$1000=\"MDA3 (IVM)\", COUNTRY_INFO!$T$9:$T$1000, \" \")","v":" "},null,null,null,0,null,null,0,null,null,0,0,0,0," "," "," "]
[{"$f":"IF(COUNTRY_INFO!A96=0,\" \",COUNTRY_INFO!A96)","v":"Tanzania"},{"$f":"IF(COUNTRY_INFO!B96=0,\" \",COUNTRY_INFO!B96)","v":"Mbeya"},{"$f":"IF(COUNTRY_INFO!C96=0,\" \",COUNTRY_INFO!C96)","v":"Mbeya District Council"},{"$f":"IF(COUNTRY_INFO!$T$9:$T$1000=\"MDA3 (IVM)\", COUNTRY_INFO!$T$9:$T$1000, \" \")","v":" "},null,null,null,0,null,null,0,null,null,0,0,0,0," "," "," "]
[{"$f":"IF(COUNTRY_INFO!A97=0,\" \",COUNTRY_INFO!A97)","v":"Tanzania"},{"$f":"IF(COUNTRY_INFO!B97=0,\" \",COUNTRY_INFO!B97)","v":"Mbeya"},{"$f":"IF(COUNTRY_INFO!C97=0,\" \",COUNTRY_INFO!C97)","v":"Rungwe District Council"},{"$f":"IF(COUNTRY_INFO!$T$9:$T$1000=\"MDA3 (IVM)\", COUNTRY_INFO!$T$9:$T$1000, \" \")","v":"MDA3 (IVM)"},"Sept - 2018",55984,199316,255300,44742.896000000001,189513.10399999999,234256,null,null,0,44742.896000000001,189513.10399999999,234256,79.920863103743926,95.081731521804571,91.757148452800635]
[{"$f":"IF(COUNTRY_INFO!A98=0,\" \",COUNTRY_INFO!A98)","v":"Tanzania"},{"$f":"IF(COUNTRY_INFO!B98=0,\" \",COUNTRY_INFO!B98)","v":"Morogoro"},{"$f":"IF(COUNTRY_INFO!C98=0,\" \",COUNTRY_INFO!C98)","v":"Gairo District Council"},{"$f":"IF(COUNTRY_INFO!$T$9:$T$1000=\"MDA3 (IVM)\", COUNTRY_INFO!$T$9:$T$1000, \" \")","v":"MDA3 (IVM)"},"Oct - 2018",42752,152207,194959,36957.163,156535.837,193493,null,null,0,36957.163,156535.837,193493,86.445459861526956,102.84404593744046,99.248047025271973]
[{"$f":"IF(COUNTRY_INFO!A99=0,\" \",COUNTRY_INFO!A99)","v":"Tanzania"},{"$f":"IF(COUNTRY_INFO!B99=0,\" \",COUNTRY_INFO!B99)","v":"Morogoro"},{"$f":"IF(COUNTRY_INFO!C99=0,\" \",COUNTRY_INFO!C99)","v":"Ifakara Town Council"},{"$f":"IF(COUNTRY_INFO!$T$9:$T$1000=\"MDA3 (IVM)\", COUNTRY_INFO!$T$9:$T$1000, \" \")","v":" "},null,null,null,0,null,null,0,null,null,0,0,0,0," "," "," "]
[{"$f":"IF(COUNTRY_INFO!A100=0,\" \",COUNTRY_INFO!A100)","v":"Tanzania"},{"$f":"IF(COUNTRY_INFO!B100=0,\" \",COUNTRY_INFO!B100)","v":"Morogoro"},{"$f":"IF(COUNTRY_INFO!C100=0,\" \",COUNTRY_INFO!C100)","v":"Kilombero District Council"},{"$f":"IF(COUNTRY_INFO!$T$9:$T$1000=\"MDA3 (IVM)\", COUNTRY_INFO!$T$9:$T$1000, \" \")","v":" "},null,null,null,0,null,null,0,null,null,0,0,0,0," "," "," "]
[{"$f":"IF(COUNTRY_INFO!A101=0,\" \",COUNTRY_INFO!A101)","v":"Tanzania"},{"$f":"IF(COUNTRY_INFO!B101=0,\" \",COUNTRY_INFO!B101)","v":"Morogoro"},{"$f":"IF(COUNTRY_INFO!C101=0,\" \",COUNTRY_INFO!C101)","v":"Kilosa District Council"},{"$f":"IF(COUNTRY_INFO!$T$9:$T$1000=\"MDA3 (IVM)\", COUNTRY_INFO!$T$9:$T$1000, \" \")","v":" "},null,null,null,0,null,null,0,null,null,0,0,0,0," "," "," "]
[{"$f":"IF(COUNTRY_INFO!A102=0,\" \",COUNTRY_INFO!A102)","v":"Tanzania"},{"$f":"IF(COUNTRY_INFO!B102=0,\" \",COUNTRY_INFO!B102)","v":"Morogoro"},{"$f":"IF(COUNTRY_INFO!C102=0,\" \",COUNTRY_INFO!C102)","v":"Malinyi District Council"},{"$f":"IF(COUNTRY_INFO!$T$9:$T$1000=\"MDA3 (IVM)\", COUNTRY_INFO!$T$9:$T$1000, \" \")","v":" "},null,null,null,0,null,null,0,null,null,0,0,0,0," "," "," "]
[{"$f":"IF(COUNTRY_INFO!A103=0,\" \",COUNTRY_INFO!A103)","v":"Tanzania"},{"$f":"IF(COUNTRY_INFO!B103=0,\" \",COUNTRY_INFO!B103)","v":"Morogoro"},{"$f":"IF(COUNTRY_INFO!C103=0,\" \",COUNTRY_INFO!C103)","v":"Morogoro District Council"},{"$f":"IF(COUNTRY_INFO!$T$9:$T$1000=\"MDA3 (IVM)\", COUNTRY_INFO!$T$9:$T$1000, \" \")","v":" "},null,null,null,0,null,null,0,null,null,0,0,0,0," "," "," "]
[{"$f":"IF(COUNTRY_INFO!A104=0,\" \",COUNTRY_INFO!A104)","v":"Tanzania"},{"$f":"IF(COUNTRY_INFO!B104=0,\" \",COUNTRY_INFO!B104)","v":"Morogoro"},{"$f":"IF(COUNTRY_INFO!C104=0,\" \",COUNTRY_INFO!C104)","v":"Morogoro Municipal Council"},{"$f":"IF(COUNTRY_INFO!$T$9:$T$1000=\"MDA3 (IVM)\", COUNTRY_INFO!$T$9:$T$1000, \" \")","v":" "},null,null,null,0,null,null,0,null,null,0,0,0,0," "," "," "]
[{"$f":"IF(COUNTRY_INFO!A105=0,\" \",COUNTRY_INFO!A105)","v":"Tanzania"},{"$f":"IF(COUNTRY_INFO!B105=0,\" \",COUNTRY_INFO!B105)","v":"Morogoro"},{"$f":"IF(COUNTRY_INFO!C105=0,\" \",COUNTRY_INFO!C105)","v":"Mvomero District Council"},{"$f":"IF(COUNTRY_INFO!$T$9:$T$1000=\"MDA3 (IVM)\", COUNTRY_INFO!$T$9:$T$1000, \" \")","v":" "},null,null,null,0,null,null,0,null,null,0,0,0,0," "," "," "]
[{"$f":"IF(COUNTRY_INFO!A106=0,\" \",COUNTRY_INFO!A106)","v":"Tanzania"},{"$f":"IF(COUNTRY_INFO!B106=0,\" \",COUNTRY_INFO!B106)","v":"Morogoro"},{"$f":"IF(COUNTRY_INFO!C106=0,\" \",COUNTRY_INFO!C106)","v":"Ulanga District Council"},{"$f":"IF(COUNTRY_INFO!$T$9:$T$1000=\"MDA3 (IVM)\", COUNTRY_INFO!$T$9:$T$1000, \" \")","v":" "},null,null,null,0,null,null,0,null,null,0,0,0,0," "," "," "]
[{"$f":"IF(COUNTRY_INFO!A107=0,\" \",COUNTRY_INFO!A107)","v":"Tanzania"},{"$f":"IF(COUNTRY_INFO!B107=0,\" \",COUNTRY_INFO!B107)","v":"Mtwara"},{"$f":"IF(COUNTRY_INFO!C107=0,\" \",COUNTRY_INFO!C107)","v":"Masasi District Council"},{"$f":"IF(COUNTRY_INFO!$T$9:$T$1000=\"MDA3 (IVM)\", COUNTRY_INFO!$T$9:$T$1000, \" \")","v":" "},null,null,null,0,null,null,0,null,null,0,0,0,0," "," "," "]
[{"$f":"IF(COUNTRY_INFO!A108=0,\" \",COUNTRY_INFO!A108)","v":"Tanzania"},{"$f":"IF(COUNTRY_INFO!B108=0,\" \",COUNTRY_INFO!B108)","v":"Mtwara"},{"$f":"IF(COUNTRY_INFO!C108=0,\" \",COUNTRY_INFO!C108)","v":"Masasi Town Council"},{"$f":"IF(COUNTRY_INFO!$T$9:$T$1000=\"MDA3 (IVM)\", COUNTRY_INFO!$T$9:$T$1000, \" \")","v":" "},null,null,null,0,null,null,0,null,null,0,0,0,0," "," "," "]
[{"$f":"IF(COUNTRY_INFO!A109=0,\" \",COUNTRY_INFO!A109)","v":"Tanzania"},{"$f":"IF(COUNTRY_INFO!B109=0,\" \",COUNTRY_INFO!B109)","v":"Mtwara"},{"$f":"IF(COUNTRY_INFO!C109=0,\" \",COUNTRY_INFO!C109)","v":"Mtwara District Council"},{"$f":"IF(COUNTRY_INFO!$T$9:$T$1000=\"MDA3 (IVM)\", COUNTRY_INFO!$T$9:$T$1000, \" \")","v":" "},null,null,null,0,null,null,0,null,null,0,0,0,0," "," "," "]
[{"$f":"IF(COUNTRY_INFO!A110=0,\" \",COUNTRY_INFO!A110)","v":"Tanzania"},{"$f":"IF(COUNTRY_INFO!B110=0,\" \",COUNTRY_INFO!B110)","v":"Mtwara"},{"$f":"IF(COUNTRY_INFO!C110=0,\" \",COUNTRY_INFO!C110)","v":"Mtwara-Mikindani Municipal Council"},{"$f":"IF(COUNTRY_INFO!$T$9:$T$1000=\"MDA3 (IVM)\", COUNTRY_INFO!$T$9:$T$1000, \" \")","v":" "},null,null,null,0,null,null,0,null,null,0,0,0,0," "," "," "]
[{"$f":"IF(COUNTRY_INFO!A111=0,\" \",COUNTRY_INFO!A111)","v":"Tanzania"},{"$f":"IF(COUNTRY_INFO!B111=0,\" \",COUNTRY_INFO!B111)","v":"Mtwara"},{"$f":"IF(COUNTRY_INFO!C111=0,\" \",COUNTRY_INFO!C111)","v":"Nanyamba District Council"},{"$f":"IF(COUNTRY_INFO!$T$9:$T$1000=\"MDA3 (IVM)\", COUNTRY_INFO!$T$9:$T$1000, \" \")","v":" "},null,null,null,0,null,null,0,null,null,0,0,0,0," "," "," "]
[{"$f":"IF(COUNTRY_INFO!A112=0,\" \",COUNTRY_INFO!A112)","v":"Tanzania"},{"$f":"IF(COUNTRY_INFO!B112=0,\" \",COUNTRY_INFO!B112)","v":"Mtwara"},{"$f":"IF(COUNTRY_INFO!C112=0,\" \",COUNTRY_INFO!C112)","v":"Nanyumbu District Council"},{"$f":"IF(COUNTRY_INFO!$T$9:$T$1000=\"MDA3 (IVM)\", COUNTRY_INFO!$T$9:$T$1000, \" \")","v":" "},null,null,null,0,null,null,0,null,null,0,0,0,0," "," "," "]
[{"$f":"IF(COUNTRY_INFO!A113=0,\" \",COUNTRY_INFO!A113)","v":"Tanzania"},{"$f":"IF(COUNTRY_INFO!B113=0,\" \",COUNTRY_INFO!B113)","v":"Mtwara"},{"$f":"IF(COUNTRY_INFO!C113=0,\" \",COUNTRY_INFO!C113)","v":"Newala District Council"},{"$f":"IF(COUNTRY_INFO!$T$9:$T$1000=\"MDA3 (IVM)\", COUNTRY_INFO!$T$9:$T$1000, \" \")","v":" "},null,null,null,0,null,null,0,null,null,0,0,0,0," "," "," "]
[{"$f":"IF(COUNTRY_INFO!A114=0,\" \",COUNTRY_INFO!A114)","v":"Tanzania"},{"$f":"IF(COUNTRY_INFO!B114=0,\" \",COUNTRY_INFO!B114)","v":"Mtwara"},{"$f":"IF(COUNTRY_INFO!C114=0,\" \",COUNTRY_INFO!C114)","v":"Newala Town Council"},{"$f":"IF(COUNTRY_INFO!$T$9:$T$1000=\"MDA3 (IVM)\", COUNTRY_INFO!$T$9:$T$1000, \" \")","v":" "},null,null,null,0,null,null,0,null,null,0,0,0,0," "," "," "]
[{"$f":"IF(COUNTRY_INFO!A115=0,\" \",COUNTRY_INFO!A115)","v":"Tanzania"},{"$f":"IF(COUNTRY_INFO!B115=0,\" \",COUNTRY_INFO!B115)","v":"Mtwara"},{"$f":"IF(COUNTRY_INFO!C115=0,\" \",COUNTRY_INFO!C115)","v":"Tandahimba District Council"},{"$f":"IF(COUNTRY_INFO!$T$9:$T$1000=\"MDA3 (IVM)\", COUNTRY_INFO!$T$9:$T$1000, \" \")","v":" "},null,null,null,0,null,null,0,null,null,0,0,0,0," "," "," "]
[{"$f":"IF(COUNTRY_INFO!A116=0,\" \",COUNTRY_INFO!A116)","v":"Tanzania"},{"$f":"IF(COUNTRY_INFO!B116=0,\" \",COUNTRY_INFO!B116)","v":"Mwanza"},{"$f":"IF(COUNTRY_INFO!C116=0,\" \",COUNTRY_INFO!C116)","v":"Buchosa District Council"},{"$f":"IF(COUNTRY_INFO!$T$9:$T$1000=\"MDA3 (IVM)\", COUNTRY_INFO!$T$9:$T$1000, \" \")","v":" "},null,null,null,0,null,null,0,null,null,0,0,0,0," "," "," "]
[{"$f":"IF(COUNTRY_INFO!A117=0,\" \",COUNTRY_INFO!A117)","v":"Tanzania"},{"$f":"IF(COUNTRY_INFO!B117=0,\" \",COUNTRY_INFO!B117)","v":"Mwanza"},{"$f":"IF(COUNTRY_INFO!C117=0,\" \",COUNTRY_INFO!C117)","v":"Ilemela Municipal Council"},{"$f":"IF(COUNTRY_INFO!$T$9:$T$1000=\"MDA3 (IVM)\", COUNTRY_INFO!$T$9:$T$1000, \" \")","v":" "},null,null,null,0,null,null,0,null,null,0,0,0,0," "," "," "]
[{"$f":"IF(COUNTRY_INFO!A118=0,\" \",COUNTRY_INFO!A118)","v":"Tanzania"},{"$f":"IF(COUNTRY_INFO!B118=0,\" \",COUNTRY_INFO!B118)","v":"Mwanza"},{"$f":"IF(COUNTRY_INFO!C118=0,\" \",COUNTRY_INFO!C118)","v":"Kwimba District Council"},{"$f":"IF(COUNTRY_INFO!$T$9:$T$1000=\"MDA3 (IVM)\", COUNTRY_INFO!$T$9:$T$1000, \" \")","v":" "},null,null,null,0,null,null,0,null,null,0,0,0,0," "," "," "]
[{"$f":"IF(COUNTRY_INFO!A119=0,\" \",COUNTRY_INFO!A119)","v":"Tanzania"},{"$f":"IF(COUNTRY_INFO!B119=0,\" \",COUNTRY_INFO!B119)","v":"Mwanza"},{"$f":"IF(COUNTRY_INFO!C119=0,\" \",COUNTRY_INFO!C119)","v":"Magu District Council"},{"$f":"IF(COUNTRY_INFO!$T$9:$T$1000=\"MDA3 (IVM)\", COUNTRY_INFO!$T$9:$T$1000, \" \")","v":" "},null,null,null,0,null,null,0,null,null,0,0,0,0," "," "," "]
[{"$f":"IF(COUNTRY_INFO!A120=0,\" \",COUNTRY_INFO!A120)","v":"Tanzania"},{"$f":"IF(COUNTRY_INFO!B120=0,\" \",COUNTRY_INFO!B120)","v":"Mwanza"},{"$f":"IF(COUNTRY_INFO!C120=0,\" \",COUNTRY_INFO!C120)","v":"Misungwi District Council"},{"$f":"IF(COUNTRY_INFO!$T$9:$T$1000=\"MDA3 (IVM)\", COUNTRY_INFO!$T$9:$T$1000, \" \")","v":" "},null,null,null,0,null,null,0,null,null,0,0,0,0," "," "," "]
[{"$f":"IF(COUNTRY_INFO!A121=0,\" \",COUNTRY_INFO!A121)","v":"Tanzania"},{"$f":"IF(COUNTRY_INFO!B121=0,\" \",COUNTRY_INFO!B121)","v":"Mwanza"},{"$f":"IF(COUNTRY_INFO!C121=0,\" \",COUNTRY_INFO!C121)","v":"Mwanza-Nyamagana City Council"},{"$f":"IF(COUNTRY_INFO!$T$9:$T$1000=\"MDA3 (IVM)\", COUNTRY_INFO!$T$9:$T$1000, \" \")","v":" "},null,null,null,0,null,null,0,null,null,0,0,0,0," "," "," "]
[{"$f":"IF(COUNTRY_INFO!A122=0,\" \",COUNTRY_INFO!A122)","v":"Tanzania"},{"$f":"IF(COUNTRY_INFO!B122=0,\" \",COUNTRY_INFO!B122)","v":"Mwanza"},{"$f":"IF(COUNTRY_INFO!C122=0,\" \",COUNTRY_INFO!C122)","v":"Sengerema District Council"},{"$f":"IF(COUNTRY_INFO!$T$9:$T$1000=\"MDA3 (IVM)\", COUNTRY_INFO!$T$9:$T$1000, \" \")","v":" "},null,null,null,0,null,null,0,null,null,0,0,0,0," "," "," "]
[{"$f":"IF(COUNTRY_INFO!A123=0,\" \",COUNTRY_INFO!A123)","v":"Tanzania"},{"$f":"IF(COUNTRY_INFO!B123=0,\" \",COUNTRY_INFO!B123)","v":"Mwanza"},{"$f":"IF(COUNTRY_INFO!C123=0,\" \",COUNTRY_INFO!C123)","v":"Ukerewe District Council"},{"$f":"IF(COUNTRY_INFO!$T$9:$T$1000=\"MDA3 (IVM)\", COUNTRY_INFO!$T$9:$T$1000, \" \")","v":" "},null,null,null,0,null,null,0,null,null,0,0,0,0," "," "," "]
[{"$f":"IF(COUNTRY_INFO!A124=0,\" \",COUNTRY_INFO!A124)","v":"Tanzania"},{"$f":"IF(COUNTRY_INFO!B124=0,\" \",COUNTRY_INFO!B124)","v":"Njombe"},{"$f":"IF(COUNTRY_INFO!C124=0,\" \",COUNTRY_INFO!C124)","v":"Ludewa District Council"},{"$f":"IF(COUNTRY_INFO!$T$9:$T$1000=\"MDA3 (IVM)\", COUNTRY_INFO!$T$9:$T$1000, \" \")","v":"MDA3 (IVM)"},"Nov - 2018",26691,95024,121715,22214.828000000001,94093.171999999991,116308,null,null,0,22214.828000000001,94093.171999999991,116308,83.229657937132373,99.020428523320419,95.557655178079941]
[{"$f":"IF(COUNTRY_INFO!A125=0,\" \",COUNTRY_INFO!A125)","v":"Tanzania"},{"$f":"IF(COUNTRY_INFO!B125=0,\" \",COUNTRY_INFO!B125)","v":"Njombe"},{"$f":"IF(COUNTRY_INFO!C125=0,\" \",COUNTRY_INFO!C125)","v":"Makambako Town Council"},{"$f":"IF(COUNTRY_INFO!$T$9:$T$1000=\"MDA3 (IVM)\", COUNTRY_INFO!$T$9:$T$1000, \" \")","v":" "},null,null,null,0,null,null,0,null,null,0,0,0,0," "," "," "]
[{"$f":"IF(COUNTRY_INFO!A126=0,\" \",COUNTRY_INFO!A126)","v":"Tanzania"},{"$f":"IF(COUNTRY_INFO!B126=0,\" \",COUNTRY_INFO!B126)","v":"Njombe"},{"$f":"IF(COUNTRY_INFO!C126=0,\" \",COUNTRY_INFO!C126)","v":"Makete District Council"},{"$f":"IF(COUNTRY_INFO!$T$9:$T$1000=\"MDA3 (IVM)\", COUNTRY_INFO!$T$9:$T$1000, \" \")","v":" "},null,null,null,0,null,null,0,null,null,0,0,0,0," "," "," "]
[{"$f":"IF(COUNTRY_INFO!A127=0,\" \",COUNTRY_INFO!A127)","v":"Tanzania"},{"$f":"IF(COUNTRY_INFO!B127=0,\" \",COUNTRY_INFO!B127)","v":"Njombe"},{"$f":"IF(COUNTRY_INFO!C127=0,\" \",COUNTRY_INFO!C127)","v":"Njombe District Council"},{"$f":"IF(COUNTRY_INFO!$T$9:$T$1000=\"MDA3 (IVM)\", COUNTRY_INFO!$T$9:$T$1000, \" \")","v":"MDA3 (IVM)"},"Oct - 2018",17746,63179,80925,15337.109,64961.891000000003,80299,null,null,0,15337.109,64961.891000000003,80299,86.425724106840988,102.82196774244608,99.226444238492434]
[{"$f":"IF(COUNTRY_INFO!A128=0,\" \",COUNTRY_INFO!A128)","v":"Tanzania"},{"$f":"IF(COUNTRY_INFO!B128=0,\" \",COUNTRY_INFO!B128)","v":"Njombe"},{"$f":"IF(COUNTRY_INFO!C128=0,\" \",COUNTRY_INFO!C128)","v":"Njombe Town Council"},{"$f":"IF(COUNTRY_INFO!$T$9:$T$1000=\"MDA3 (IVM)\", COUNTRY_INFO!$T$9:$T$1000, \" \")","v":" "},null,null,null,0,null,null,0,null,null,0,0,0,0," "," "," "]
[{"$f":"IF(COUNTRY_INFO!A129=0,\" \",COUNTRY_INFO!A129)","v":"Tanzania"},{"$f":"IF(COUNTRY_INFO!B129=0,\" \",COUNTRY_INFO!B129)","v":"Njombe"},{"$f":"IF(COUNTRY_INFO!C129=0,\" \",COUNTRY_INFO!C129)","v":"Wanging'ombe District Council"},{"$f":"IF(COUNTRY_INFO!$T$9:$T$1000=\"MDA3 (IVM)\", COUNTRY_INFO!$T$9:$T$1000, \" \")","v":" "},null,null,null,0,null,null,0,null,null,0,0,0,0," "," "," "]
[{"$f":"IF(COUNTRY_INFO!A130=0,\" \",COUNTRY_INFO!A130)","v":"Tanzania"},{"$f":"IF(COUNTRY_INFO!B130=0,\" \",COUNTRY_INFO!B130)","v":"Pwani"},{"$f":"IF(COUNTRY_INFO!C130=0,\" \",COUNTRY_INFO!C130)","v":"Bagamoyo District Council"},{"$f":"IF(COUNTRY_INFO!$T$9:$T$1000=\"MDA3 (IVM)\", COUNTRY_INFO!$T$9:$T$1000, \" \")","v":" "},null,null,null,0,null,null,0,null,null,0,0,0,0," "," "," "]
[{"$f":"IF(COUNTRY_INFO!A131=0,\" \",COUNTRY_INFO!A131)","v":"Tanzania"},{"$f":"IF(COUNTRY_INFO!B131=0,\" \",COUNTRY_INFO!B131)","v":"Pwani"},{"$f":"IF(COUNTRY_INFO!C131=0,\" \",COUNTRY_INFO!C131)","v":"Chalinze District Council"},{"$f":"IF(COUNTRY_INFO!$T$9:$T$1000=\"MDA3 (IVM)\", COUNTRY_INFO!$T$9:$T$1000, \" \")","v":" "},null,null,null,0,null,null,0,null,null,0,0,0,0," "," "," "]
[{"$f":"IF(COUNTRY_INFO!A132=0,\" \",COUNTRY_INFO!A132)","v":"Tanzania"},{"$f":"IF(COUNTRY_INFO!B132=0,\" \",COUNTRY_INFO!B132)","v":"Pwani"},{"$f":"IF(COUNTRY_INFO!C132=0,\" \",COUNTRY_INFO!C132)","v":"Kibaha District Council"},{"$f":"IF(COUNTRY_INFO!$T$9:$T$1000=\"MDA3 (IVM)\", COUNTRY_INFO!$T$9:$T$1000, \" \")","v":" "},null,null,null,0,null,null,0,null,null,0,0,0,0," "," "," "]
[{"$f":"IF(COUNTRY_INFO!A133=0,\" \",COUNTRY_INFO!A133)","v":"Tanzania"},{"$f":"IF(COUNTRY_INFO!B133=0,\" \",COUNTRY_INFO!B133)","v":"Pwani"},{"$f":"IF(COUNTRY_INFO!C133=0,\" \",COUNTRY_INFO!C133)","v":"Kibaha Town Council"},{"$f":"IF(COUNTRY_INFO!$T$9:$T$1000=\"MDA3 (IVM)\", COUNTRY_INFO!$T$9:$T$1000, \" \")","v":" "},null,null,null,0,null,null,0,null,null,0,0,0,0," "," "," "]
[{"$f":"IF(COUNTRY_INFO!A134=0,\" \",COUNTRY_INFO!A134)","v":"Tanzania"},{"$f":"IF(COUNTRY_INFO!B134=0,\" \",COUNTRY_INFO!B134)","v":"Pwani"},{"$f":"IF(COUNTRY_INFO!C134=0,\" \",COUNTRY_INFO!C134)","v":"Kibiti District Council"},{"$f":"IF(COUNTRY_INFO!$T$9:$T$1000=\"MDA3 (IVM)\", COUNTRY_INFO!$T$9:$T$1000, \" \")","v":" "},null,null,null,0,null,null,0,null,null,0,0,0,0," "," "," "]
[{"$f":"IF(COUNTRY_INFO!A135=0,\" \",COUNTRY_INFO!A135)","v":"Tanzania"},{"$f":"IF(COUNTRY_INFO!B135=0,\" \",COUNTRY_INFO!B135)","v":"Pwani"},{"$f":"IF(COUNTRY_INFO!C135=0,\" \",COUNTRY_INFO!C135)","v":"Kisarawe District Council"},{"$f":"IF(COUNTRY_INFO!$T$9:$T$1000=\"MDA3 (IVM)\", COUNTRY_INFO!$T$9:$T$1000, \" \")","v":" "},null,null,null,0,null,null,0,null,null,0,0,0,0," "," "," "]
[{"$f":"IF(COUNTRY_INFO!A136=0,\" \",COUNTRY_INFO!A136)","v":"Tanzania"},{"$f":"IF(COUNTRY_INFO!B136=0,\" \",COUNTRY_INFO!B136)","v":"Pwani"},{"$f":"IF(COUNTRY_INFO!C136=0,\" \",COUNTRY_INFO!C136)","v":"Mafia District Council"},{"$f":"IF(COUNTRY_INFO!$T$9:$T$1000=\"MDA3 (IVM)\", COUNTRY_INFO!$T$9:$T$1000, \" \")","v":" "},null,null,null,0,null,null,0,null,null,0,0,0,0," "," "," "]
[{"$f":"IF(COUNTRY_INFO!A137=0,\" \",COUNTRY_INFO!A137)","v":"Tanzania"},{"$f":"IF(COUNTRY_INFO!B137=0,\" \",COUNTRY_INFO!B137)","v":"Pwani"},{"$f":"IF(COUNTRY_INFO!C137=0,\" \",COUNTRY_INFO!C137)","v":"Mkuranga District Council"},{"$f":"IF(COUNTRY_INFO!$T$9:$T$1000=\"MDA3 (IVM)\", COUNTRY_INFO!$T$9:$T$1000, \" \")","v":" "},null,null,null,0,null,null,0,null,null,0,0,0,0," "," "," "]
[{"$f":"IF(COUNTRY_INFO!A138=0,\" \",COUNTRY_INFO!A138)","v":"Tanzania"},{"$f":"IF(COUNTRY_INFO!B138=0,\" \",COUNTRY_INFO!B138)","v":"Pwani"},{"$f":"IF(COUNTRY_INFO!C138=0,\" \",COUNTRY_INFO!C138)","v":"Rufiji District Council"},{"$f":"IF(COUNTRY_INFO!$T$9:$T$1000=\"MDA3 (IVM)\", COUNTRY_INFO!$T$9:$T$1000, \" \")","v":" "},null,null,null,{"$f":"SUM(F138:G138)","v":0},null,null,{"$f":"SUM(I138:J138)","v":0},null,null,{"$f":"SUM(L138:M138)","v":0},{"$f":"MAX(I138,L138)","v":0},{"$f":"MAX(J138,M138)","v":0},{"$f":"SUM(O138:P138)","v":0},{"$f":"IF(F138<>0, IF(MAX(I138,L138)/F138*100=0, \"-\", MAX(I138,L138)/F138*100), \" \")","v":" "},{"$f":"IF(G138<>0, IF(MAX(J138,M138)/G138*100=0, \"-\", MAX(J138,M138)/G138*100), \" \")","v":" "},{"$f":"IF(H138<>0, IF((MAX(I138,L138)+MAX(J138,M138))/H138*100=0, \"-\",(MAX(I138,L138)+MAX(J138,M138))/H138*100), \" \")","v":" "}]
[{"$f":"IF(COUNTRY_INFO!A139=0,\" \",COUNTRY_INFO!A139)","v":"Tanzania"},{"$f":"IF(COUNTRY_INFO!B139=0,\" \",COUNTRY_INFO!B139)","v":"Rukwa"},{"$f":"IF(COUNTRY_INFO!C139=0,\" \",COUNTRY_INFO!C139)","v":"Kalambo District Council"},{"$f":"IF(COUNTRY_INFO!$T$9:$T$1000=\"MDA3 (IVM)\", COUNTRY_INFO!$T$9:$T$1000, \" \")","v":" "},null,null,null,0,null,null,0,null,null,0,0,0,0," "," "," "]
[{"$f":"IF(COUNTRY_INFO!A140=0,\" \",COUNTRY_INFO!A140)","v":"Tanzania"},{"$f":"IF(COUNTRY_INFO!B140=0,\" \",COUNTRY_INFO!B140)","v":"Rukwa"},{"$f":"IF(COUNTRY_INFO!C140=0,\" \",COUNTRY_INFO!C140)","v":"Nkasi District Council"},{"$f":"IF(COUNTRY_INFO!$T$9:$T$1000=\"MDA3 (IVM)\", COUNTRY_INFO!$T$9:$T$1000, \" \")","v":" "},null,null,null,0,null,null,0,null,null,0,0,0,0," "," "," "]
[{"$f":"IF(COUNTRY_INFO!A141=0,\" \",COUNTRY_INFO!A141)","v":"Tanzania"},{"$f":"IF(COUNTRY_INFO!B141=0,\" \",COUNTRY_INFO!B141)","v":"Rukwa"},{"$f":"IF(COUNTRY_INFO!C141=0,\" \",COUNTRY_INFO!C141)","v":"Sumbawanga District Council"},{"$f":"IF(COUNTRY_INFO!$T$9:$T$1000=\"MDA3 (IVM)\", COUNTRY_INFO!$T$9:$T$1000, \" \")","v":" "},null,null,null,0,null,null,0,null,null,0,0,0,0," "," "," "]
[{"$f":"IF(COUNTRY_INFO!A142=0,\" \",COUNTRY_INFO!A142)","v":"Tanzania"},{"$f":"IF(COUNTRY_INFO!B142=0,\" \",COUNTRY_INFO!B142)","v":"Rukwa"},{"$f":"IF(COUNTRY_INFO!C142=0,\" \",COUNTRY_INFO!C142)","v":"Sumbawanga Municipal Council"},{"$f":"IF(COUNTRY_INFO!$T$9:$T$1000=\"MDA3 (IVM)\", COUNTRY_INFO!$T$9:$T$1000, \" \")","v":" "},null,null,null,0,null,null,0,null,null,0,0,0,0," "," "," "]
[{"$f":"IF(COUNTRY_INFO!A143=0,\" \",COUNTRY_INFO!A143)","v":"Tanzania"},{"$f":"IF(COUNTRY_INFO!B143=0,\" \",COUNTRY_INFO!B143)","v":"Ruvuma"},{"$f":"IF(COUNTRY_INFO!C143=0,\" \",COUNTRY_INFO!C143)","v":"Madaba District Council"},{"$f":"IF(COUNTRY_INFO!$T$9:$T$1000=\"MDA3 (IVM)\", COUNTRY_INFO!$T$9:$T$1000, \" \")","v":"MDA3 (IVM)"},"Sept - 2018",10337,36801,47138,7207.576,30528.423999999999,37736,null,null,0,7207.576,30528.423999999999,37736,69.725994002128274,82.955419689682344,80.054308625737193]
[{"$f":"IF(COUNTRY_INFO!A144=0,\" \",COUNTRY_INFO!A144)","v":"Tanzania"},{"$f":"IF(COUNTRY_INFO!B144=0,\" \",COUNTRY_INFO!B144)","v":"Ruvuma"},{"$f":"IF(COUNTRY_INFO!C144=0,\" \",COUNTRY_INFO!C144)","v":"Mbinga District Council"},{"$f":"IF(COUNTRY_INFO!$T$9:$T$1000=\"MDA3 (IVM)\", COUNTRY_INFO!$T$9:$T$1000, \" \")","v":"MDA3 (IVM)"},"Oct - 2018",48549,172846,221395,36737.322,155604.67800000001,192342,null,null,0,36737.322,155604.67800000001,192342,75.670604955817836,90.025038473554503,86.877300752049507]
[{"$f":"IF(COUNTRY_INFO!A145=0,\" \",COUNTRY_INFO!A145)","v":"Tanzania"},{"$f":"IF(COUNTRY_INFO!B145=0,\" \",COUNTRY_INFO!B145)","v":"Ruvuma"},{"$f":"IF(COUNTRY_INFO!C145=0,\" \",COUNTRY_INFO!C145)","v":"Mbinga Town Council"},{"$f":"IF(COUNTRY_INFO!$T$9:$T$1000=\"MDA3 (IVM)\", COUNTRY_INFO!$T$9:$T$1000, \" \")","v":"MDA3 (IVM)"},"Oct - 2018",27975,99598,127573,16847.727999999999,71360.271999999997,88208,null,null,0,16847.727999999999,71360.271999999997,88208,60.22422877569258,71.648298158597555,69.143157251142483]
[{"$f":"IF(COUNTRY_INFO!A146=0,\" \",COUNTRY_INFO!A146)","v":"Tanzania"},{"$f":"IF(COUNTRY_INFO!B146=0,\" \",COUNTRY_INFO!B146)","v":"Ruvuma"},{"$f":"IF(COUNTRY_INFO!C146=0,\" \",COUNTRY_INFO!C146)","v":"Namtumbo District Council"},{"$f":"IF(COUNTRY_INFO!$T$9:$T$1000=\"MDA3 (IVM)\", COUNTRY_INFO!$T$9:$T$1000, \" \")","v":"MDA3 (IVM)"},"Oct - 2018",43628,155324,198952,31259.633000000002,132403.367,163663,null,null,0,31259.633000000002,132403.367,163663,71.650391950123776,85.2433410161984,82.262555792351918]
[{"$f":"IF(COUNTRY_INFO!A147=0,\" \",COUNTRY_INFO!A147)","v":"Tanzania"},{"$f":"IF(COUNTRY_INFO!B147=0,\" \",COUNTRY_INFO!B147)","v":"Ruvuma"},{"$f":"IF(COUNTRY_INFO!C147=0,\" \",COUNTRY_INFO!C147)","v":"Nyasa District Council"},{"$f":"IF(COUNTRY_INFO!$T$9:$T$1000=\"MDA3 (IVM)\", COUNTRY_INFO!$T$9:$T$1000, \" \")","v":"MDA3 (IVM)"},"Sept - 2018",31624,112588,144212,27483.754000000001,116410.246,143894,null,null,0,27483.754000000001,116410.246,143894,86.907899064002024,103.39489643656516,99.779491304468422]
[{"$f":"IF(COUNTRY_INFO!A148=0,\" \",COUNTRY_INFO!A148)","v":"Tanzania"},{"$f":"IF(COUNTRY_INFO!B148=0,\" \",COUNTRY_INFO!B148)","v":"Ruvuma"},{"$f":"IF(COUNTRY_INFO!C148=0,\" \",COUNTRY_INFO!C148)","v":"Songea District Council"},{"$f":"IF(COUNTRY_INFO!$T$9:$T$1000=\"MDA3 (IVM)\", COUNTRY_INFO!$T$9:$T$1000, \" \")","v":"MDA3 (IVM)"},"Oct - 2018",27272,97095,124367,21719.756000000001,91996.244000000006,113716,null,null,0,21719.756000000001,91996.244000000006,113716,79.641229099442654,94.748693547556528,91.43583104842925]
[{"$f":"IF(COUNTRY_INFO!A149=0,\" \",COUNTRY_INFO!A149)","v":"Tanzania"},{"$f":"IF(COUNTRY_INFO!B149=0,\" \",COUNTRY_INFO!B149)","v":"Ruvuma"},{"$f":"IF(COUNTRY_INFO!C149=0,\" \",COUNTRY_INFO!C149)","v":"Songea Municipal Council"},{"$f":"IF(COUNTRY_INFO!$T$9:$T$1000=\"MDA3 (IVM)\", COUNTRY_INFO!$T$9:$T$1000, \" \")","v":"MDA3 (IVM)"},"Sept - 2018",43989,156610,200599,28475.044000000002,120608.95600000001,149084,null,null,0,28475.044000000002,120608.95600000001,149084,64.73219213894383,77.012295511142341,74.319413356995796]
[{"$f":"IF(COUNTRY_INFO!A150=0,\" \",COUNTRY_INFO!A150)","v":"Tanzania"},{"$f":"IF(COUNTRY_INFO!B150=0,\" \",COUNTRY_INFO!B150)","v":"Ruvuma"},{"$f":"IF(COUNTRY_INFO!C150=0,\" \",COUNTRY_INFO!C150)","v":"Tunduru District Council"},{"$f":"IF(COUNTRY_INFO!$T$9:$T$1000=\"MDA3 (IVM)\", COUNTRY_INFO!$T$9:$T$1000, \" \")","v":"MDA3 (IVM)"},"Nov - 2018",66847,237988,304835,56465.902999999998,239167.09700000001,295633,null,null,0,56465.902999999998,239167.09700000001,295633,84.470362170329267,100.49544388792712,96.981317762068002]
[{"$f":"IF(COUNTRY_INFO!A151=0,\" \",COUNTRY_INFO!A151)","v":"Tanzania"},{"$f":"IF(COUNTRY_INFO!B151=0,\" \",COUNTRY_INFO!B151)","v":"Shinyanga"},{"$f":"IF(COUNTRY_INFO!C151=0,\" \",COUNTRY_INFO!C151)","v":"Kahama Town Council"},{"$f":"IF(COUNTRY_INFO!$T$9:$T$1000=\"MDA3 (IVM)\", COUNTRY_INFO!$T$9:$T$1000, \" \")","v":" "},null,null,null,0,null,null,0,null,null,0,0,0,0," "," "," "]
[{"$f":"IF(COUNTRY_INFO!A152=0,\" \",COUNTRY_INFO!A152)","v":"Tanzania"},{"$f":"IF(COUNTRY_INFO!B152=0,\" \",COUNTRY_INFO!B152)","v":"Shinyanga"},{"$f":"IF(COUNTRY_INFO!C152=0,\" \",COUNTRY_INFO!C152)","v":"Kishapu District Council"},{"$f":"IF(COUNTRY_INFO!$T$9:$T$1000=\"MDA3 (IVM)\", COUNTRY_INFO!$T$9:$T$1000, \" \")","v":" "},null,null,null,0,null,null,0,null,null,0,0,0,0," "," "," "]
[{"$f":"IF(COUNTRY_INFO!A153=0,\" \",COUNTRY_INFO!A153)","v":"Tanzania"},{"$f":"IF(COUNTRY_INFO!B153=0,\" \",COUNTRY_INFO!B153)","v":"Shinyanga"},{"$f":"IF(COUNTRY_INFO!C153=0,\" \",COUNTRY_INFO!C153)","v":"Msalala District Council"},{"$f":"IF(COUNTRY_INFO!$T$9:$T$1000=\"MDA3 (IVM)\", COUNTRY_INFO!$T$9:$T$1000, \" \")","v":" "},null,null,null,0,null,null,0,null,null,0,0,0,0," "," "," "]
[{"$f":"IF(COUNTRY_INFO!A154=0,\" \",COUNTRY_INFO!A154)","v":"Tanzania"},{"$f":"IF(COUNTRY_INFO!B154=0,\" \",COUNTRY_INFO!B154)","v":"Shinyanga"},{"$f":"IF(COUNTRY_INFO!C154=0,\" \",COUNTRY_INFO!C154)","v":"Shinyanga District Council"},{"$f":"IF(COUNTRY_INFO!$T$9:$T$1000=\"MDA3 (IVM)\", COUNTRY_INFO!$T$9:$T$1000, \" \")","v":" "},null,null,null,0,null,null,0,null,null,0,0,0,0," "," "," "]
[{"$f":"IF(COUNTRY_INFO!A155=0,\" \",COUNTRY_INFO!A155)","v":"Tanzania"},{"$f":"IF(COUNTRY_INFO!B155=0,\" \",COUNTRY_INFO!B155)","v":"Shinyanga"},{"$f":"IF(COUNTRY_INFO!C155=0,\" \",COUNTRY_INFO!C155)","v":"Shinyanga Municipal Council"},{"$f":"IF(COUNTRY_INFO!$T$9:$T$1000=\"MDA3 (IVM)\", COUNTRY_INFO!$T$9:$T$1000, \" \")","v":" "},null,null,null,0,null,null,0,null,null,0,0,0,0," "," "," "]
[{"$f":"IF(COUNTRY_INFO!A156=0,\" \",COUNTRY_INFO!A156)","v":"Tanzania"},{"$f":"IF(COUNTRY_INFO!B156=0,\" \",COUNTRY_INFO!B156)","v":"Shinyanga"},{"$f":"IF(COUNTRY_INFO!C156=0,\" \",COUNTRY_INFO!C156)","v":"Ushetu District Council"},{"$f":"IF(COUNTRY_INFO!$T$9:$T$1000=\"MDA3 (IVM)\", COUNTRY_INFO!$T$9:$T$1000, \" \")","v":" "},null,null,null,0,null,null,0,null,null,0,0,0,0," "," "," "]
[{"$f":"IF(COUNTRY_INFO!A157=0,\" \",COUNTRY_INFO!A157)","v":"Tanzania"},{"$f":"IF(COUNTRY_INFO!B157=0,\" \",COUNTRY_INFO!B157)","v":"Simiyu"},{"$f":"IF(COUNTRY_INFO!C157=0,\" \",COUNTRY_INFO!C157)","v":"Bariadi District Council"},{"$f":"IF(COUNTRY_INFO!$T$9:$T$1000=\"MDA3 (IVM)\", COUNTRY_INFO!$T$9:$T$1000, \" \")","v":" "},null,null,null,0,null,null,0,null,null,0,0,0,0," "," "," "]
[{"$f":"IF(COUNTRY_INFO!A158=0,\" \",COUNTRY_INFO!A158)","v":"Tanzania"},{"$f":"IF(COUNTRY_INFO!B158=0,\" \",COUNTRY_INFO!B158)","v":"Simiyu"},{"$f":"IF(COUNTRY_INFO!C158=0,\" \",COUNTRY_INFO!C158)","v":"Bariadi Town Council"},{"$f":"IF(COUNTRY_INFO!$T$9:$T$1000=\"MDA3 (IVM)\", COUNTRY_INFO!$T$9:$T$1000, \" \")","v":" "},null,null,null,0,null,null,0,null,null,0,0,0,0," "," "," "]
[{"$f":"IF(COUNTRY_INFO!A159=0,\" \",COUNTRY_INFO!A159)","v":"Tanzania"},{"$f":"IF(COUNTRY_INFO!B159=0,\" \",COUNTRY_INFO!B159)","v":"Simiyu"},{"$f":"IF(COUNTRY_INFO!C159=0,\" \",COUNTRY_INFO!C159)","v":"Busega District Council"},{"$f":"IF(COUNTRY_INFO!$T$9:$T$1000=\"MDA3 (IVM)\", COUNTRY_INFO!$T$9:$T$1000, \" \")","v":" "},null,null,null,0,null,null,0,null,null,0,0,0,0," "," "," "]
[{"$f":"IF(COUNTRY_INFO!A160=0,\" \",COUNTRY_INFO!A160)","v":"Tanzania"},{"$f":"IF(COUNTRY_INFO!B160=0,\" \",COUNTRY_INFO!B160)","v":"Simiyu"},{"$f":"IF(COUNTRY_INFO!C160=0,\" \",COUNTRY_INFO!C160)","v":"Itilima District Council"},{"$f":"IF(COUNTRY_INFO!$T$9:$T$1000=\"MDA3 (IVM)\", COUNTRY_INFO!$T$9:$T$1000, \" \")","v":" "},null,null,null,0,null,null,0,null,null,0,0,0,0," "," "," "]
[{"$f":"IF(COUNTRY_INFO!A161=0,\" \",COUNTRY_INFO!A161)","v":"Tanzania"},{"$f":"IF(COUNTRY_INFO!B161=0,\" \",COUNTRY_INFO!B161)","v":"Simiyu"},{"$f":"IF(COUNTRY_INFO!C161=0,\" \",COUNTRY_INFO!C161)","v":"Maswa District Council"},{"$f":"IF(COUNTRY_INFO!$T$9:$T$1000=\"MDA3 (IVM)\", COUNTRY_INFO!$T$9:$T$1000, \" \")","v":" "},null,null,null,0,null,null,0,null,null,0,0,0,0," "," "," "]
[{"$f":"IF(COUNTRY_INFO!A162=0,\" \",COUNTRY_INFO!A162)","v":"Tanzania"},{"$f":"IF(COUNTRY_INFO!B162=0,\" \",COUNTRY_INFO!B162)","v":"Simiyu"},{"$f":"IF(COUNTRY_INFO!C162=0,\" \",COUNTRY_INFO!C162)","v":"Meatu District Council"},{"$f":"IF(COUNTRY_INFO!$T$9:$T$1000=\"MDA3 (IVM)\", COUNTRY_INFO!$T$9:$T$1000, \" \")","v":" "},null,null,null,0,null,null,0,null,null,0,0,0,0," "," "," "]
[{"$f":"IF(COUNTRY_INFO!A163=0,\" \",COUNTRY_INFO!A163)","v":"Tanzania"},{"$f":"IF(COUNTRY_INFO!B163=0,\" \",COUNTRY_INFO!B163)","v":"Singida"},{"$f":"IF(COUNTRY_INFO!C163=0,\" \",COUNTRY_INFO!C163)","v":"Ikungi District Council"},{"$f":"IF(COUNTRY_INFO!$T$9:$T$1000=\"MDA3 (IVM)\", COUNTRY_INFO!$T$9:$T$1000, \" \")","v":" "},null,null,null,0,null,null,0,null,null,0,0,0,0," "," "," "]
[{"$f":"IF(COUNTRY_INFO!A164=0,\" \",COUNTRY_INFO!A164)","v":"Tanzania"},{"$f":"IF(COUNTRY_INFO!B164=0,\" \",COUNTRY_INFO!B164)","v":"Singida"},{"$f":"IF(COUNTRY_INFO!C164=0,\" \",COUNTRY_INFO!C164)","v":"Iramba District Council"},{"$f":"IF(COUNTRY_INFO!$T$9:$T$1000=\"MDA3 (IVM)\", COUNTRY_INFO!$T$9:$T$1000, \" \")","v":" "},null,null,null,0,null,null,0,null,null,0,0,0,0," "," "," "]
[{"$f":"IF(COUNTRY_INFO!A165=0,\" \",COUNTRY_INFO!A165)","v":"Tanzania"},{"$f":"IF(COUNTRY_INFO!B165=0,\" \",COUNTRY_INFO!B165)","v":"Singida"},{"$f":"IF(COUNTRY_INFO!C165=0,\" \",COUNTRY_INFO!C165)","v":"Itigi District Council"},{"$f":"IF(COUNTRY_INFO!$T$9:$T$1000=\"MDA3 (IVM)\", COUNTRY_INFO!$T$9:$T$1000, \" \")","v":" "},null,null,null,0,null,null,0,null,null,0,0,0,0," "," "," "]
[{"$f":"IF(COUNTRY_INFO!A166=0,\" \",COUNTRY_INFO!A166)","v":"Tanzania"},{"$f":"IF(COUNTRY_INFO!B166=0,\" \",COUNTRY_INFO!B166)","v":"Singida"},{"$f":"IF(COUNTRY_INFO!C166=0,\" \",COUNTRY_INFO!C166)","v":"Manyoni District Council"},{"$f":"IF(COUNTRY_INFO!$T$9:$T$1000=\"MDA3 (IVM)\", COUNTRY_INFO!$T$9:$T$1000, \" \")","v":" "},null,null,null,0,null,null,0,null,null,0,0,0,0," "," "," "]
[{"$f":"IF(COUNTRY_INFO!A167=0,\" \",COUNTRY_INFO!A167)","v":"Tanzania"},{"$f":"IF(COUNTRY_INFO!B167=0,\" \",COUNTRY_INFO!B167)","v":"Singida"},{"$f":"IF(COUNTRY_INFO!C167=0,\" \",COUNTRY_INFO!C167)","v":"Mkalama District Council"},{"$f":"IF(COUNTRY_INFO!$T$9:$T$1000=\"MDA3 (IVM)\", COUNTRY_INFO!$T$9:$T$1000, \" \")","v":" "},null,null,null,0,null,null,0,null,null,0,0,0,0," "," "," "]
[{"$f":"IF(COUNTRY_INFO!A168=0,\" \",COUNTRY_INFO!A168)","v":"Tanzania"},{"$f":"IF(COUNTRY_INFO!B168=0,\" \",COUNTRY_INFO!B168)","v":"Singida"},{"$f":"IF(COUNTRY_INFO!C168=0,\" \",COUNTRY_INFO!C168)","v":"Singida District Council"},{"$f":"IF(COUNTRY_INFO!$T$9:$T$1000=\"MDA3 (IVM)\", COUNTRY_INFO!$T$9:$T$1000, \" \")","v":" "},null,null,null,0,null,null,0,null,null,0,0,0,0," "," "," "]
[{"$f":"IF(COUNTRY_INFO!A169=0,\" \",COUNTRY_INFO!A169)","v":"Tanzania"},{"$f":"IF(COUNTRY_INFO!B169=0,\" \",COUNTRY_INFO!B169)","v":"Singida"},{"$f":"IF(COUNTRY_INFO!C169=0,\" \",COUNTRY_INFO!C169)","v":"Singida Municipal Council"},{"$f":"IF(COUNTRY_INFO!$T$9:$T$1000=\"MDA3 (IVM)\", COUNTRY_INFO!$T$9:$T$1000, \" \")","v":" "},null,null,null,0,null,null,0,null,null,0,0,0,0," "," "," "]
[{"$f":"IF(COUNTRY_INFO!A170=0,\" \",COUNTRY_INFO!A170)","v":"Tanzania"},{"$f":"IF(COUNTRY_INFO!B170=0,\" \",COUNTRY_INFO!B170)","v":"Songwe"},{"$f":"IF(COUNTRY_INFO!C170=0,\" \",COUNTRY_INFO!C170)","v":"Ileje District Council"},{"$f":"IF(COUNTRY_INFO!$T$9:$T$1000=\"MDA3 (IVM)\", COUNTRY_INFO!$T$9:$T$1000, \" \")","v":"MDA3 (IVM)"},"Sept - 2018",28953,103079,132032,23669.674999999999,100255.325,123925,null,null,0,23669.674999999999,100255.325,123925,81.752063689427686,97.260669001445493,93.859821861366939]
[{"$f":"IF(COUNTRY_INFO!A171=0,\" \",COUNTRY_INFO!A171)","v":"Tanzania"},{"$f":"IF(COUNTRY_INFO!B171=0,\" \",COUNTRY_INFO!B171)","v":"Songwe"},{"$f":"IF(COUNTRY_INFO!C171=0,\" \",COUNTRY_INFO!C171)","v":"Mbozi District Council"},{"$f":"IF(COUNTRY_INFO!$T$9:$T$1000=\"MDA3 (IVM)\", COUNTRY_INFO!$T$9:$T$1000, \" \")","v":" "},null,null,null,0,null,null,0,null,null,0,0,0,0," "," "," "]
[{"$f":"IF(COUNTRY_INFO!A172=0,\" \",COUNTRY_INFO!A172)","v":"Tanzania"},{"$f":"IF(COUNTRY_INFO!B172=0,\" \",COUNTRY_INFO!B172)","v":"Songwe"},{"$f":"IF(COUNTRY_INFO!C172=0,\" \",COUNTRY_INFO!C172)","v":"Momba District Council"},{"$f":"IF(COUNTRY_INFO!$T$9:$T$1000=\"MDA3 (IVM)\", COUNTRY_INFO!$T$9:$T$1000, \" \")","v":" "},null,null,null,0,null,null,0,null,null,0,0,0,0," "," "," "]
[{"$f":"IF(COUNTRY_INFO!A173=0,\" \",COUNTRY_INFO!A173)","v":"Tanzania"},{"$f":"IF(COUNTRY_INFO!B173=0,\" \",COUNTRY_INFO!B173)","v":"Songwe"},{"$f":"IF(COUNTRY_INFO!C173=0,\" \",COUNTRY_INFO!C173)","v":"Songwe District Council"},{"$f":"IF(COUNTRY_INFO!$T$9:$T$1000=\"MDA3 (IVM)\", COUNTRY_INFO!$T$9:$T$1000, \" \")","v":" "},null,null,null,0,null,null,0,null,null,0,0,0,0," "," "," "]
[{"$f":"IF(COUNTRY_INFO!A174=0,\" \",COUNTRY_INFO!A174)","v":"Tanzania"},{"$f":"IF(COUNTRY_INFO!B174=0,\" \",COUNTRY_INFO!B174)","v":"Songwe"},{"$f":"IF(COUNTRY_INFO!C174=0,\" \",COUNTRY_INFO!C174)","v":"Tunduma Town Council"},{"$f":"IF(COUNTRY_INFO!$T$9:$T$1000=\"MDA3 (IVM)\", COUNTRY_INFO!$T$9:$T$1000, \" \")","v":" "},null,null,null,0,null,null,0,null,null,0,0,0,0," "," "," "]
[{"$f":"IF(COUNTRY_INFO!A175=0,\" \",COUNTRY_INFO!A175)","v":"Tanzania"},{"$f":"IF(COUNTRY_INFO!B175=0,\" \",COUNTRY_INFO!B175)","v":"Tabora"},{"$f":"IF(COUNTRY_INFO!C175=0,\" \",COUNTRY_INFO!C175)","v":"Igunga District Council"},{"$f":"IF(COUNTRY_INFO!$T$9:$T$1000=\"MDA3 (IVM)\", COUNTRY_INFO!$T$9:$T$1000, \" \")","v":" "},null,null,null,0,null,null,0,null,null,0,0,0,0," "," "," "]
[{"$f":"IF(COUNTRY_INFO!A176=0,\" \",COUNTRY_INFO!A176)","v":"Tanzania"},{"$f":"IF(COUNTRY_INFO!B176=0,\" \",COUNTRY_INFO!B176)","v":"Tabora"},{"$f":"IF(COUNTRY_INFO!C176=0,\" \",COUNTRY_INFO!C176)","v":"Kaliua District Council"},{"$f":"IF(COUNTRY_INFO!$T$9:$T$1000=\"MDA3 (IVM)\", COUNTRY_INFO!$T$9:$T$1000, \" \")","v":" "},null,null,null,0,null,null,0,null,null,0,0,0,0," "," "," "]
[{"$f":"IF(COUNTRY_INFO!A177=0,\" \",COUNTRY_INFO!A177)","v":"Tanzania"},{"$f":"IF(COUNTRY_INFO!B177=0,\" \",COUNTRY_INFO!B177)","v":"Tabora"},{"$f":"IF(COUNTRY_INFO!C177=0,\" \",COUNTRY_INFO!C177)","v":"Nzega District Council"},{"$f":"IF(COUNTRY_INFO!$T$9:$T$1000=\"MDA3 (IVM)\", COUNTRY_INFO!$T$9:$T$1000, \" \")","v":" "},null,null,null,0,null,null,0,null,null,0,0,0,0," "," "," "]
[{"$f":"IF(COUNTRY_INFO!A178=0,\" \",COUNTRY_INFO!A178)","v":"Tanzania"},{"$f":"IF(COUNTRY_INFO!B178=0,\" \",COUNTRY_INFO!B178)","v":"Tabora"},{"$f":"IF(COUNTRY_INFO!C178=0,\" \",COUNTRY_INFO!C178)","v":"Nzega Town Council"},{"$f":"IF(COUNTRY_INFO!$T$9:$T$1000=\"MDA3 (IVM)\", COUNTRY_INFO!$T$9:$T$1000, \" \")","v":" "},null,null,null,0,null,null,0,null,null,0,0,0,0," "," "," "]
[{"$f":"IF(COUNTRY_INFO!A179=0,\" \",COUNTRY_INFO!A179)","v":"Tanzania"},{"$f":"IF(COUNTRY_INFO!B179=0,\" \",COUNTRY_INFO!B179)","v":"Tabora"},{"$f":"IF(COUNTRY_INFO!C179=0,\" \",COUNTRY_INFO!C179)","v":"Sikonge District Council"},{"$f":"IF(COUNTRY_INFO!$T$9:$T$1000=\"MDA3 (IVM)\", COUNTRY_INFO!$T$9:$T$1000, \" \")","v":" "},null,null,null,0,null,null,0,null,null,0,0,0,0," "," "," "]
[{"$f":"IF(COUNTRY_INFO!A180=0,\" \",COUNTRY_INFO!A180)","v":"Tanzania"},{"$f":"IF(COUNTRY_INFO!B180=0,\" \",COUNTRY_INFO!B180)","v":"Tabora"},{"$f":"IF(COUNTRY_INFO!C180=0,\" \",COUNTRY_INFO!C180)","v":"Tabora Municipal Council"},{"$f":"IF(COUNTRY_INFO!$T$9:$T$1000=\"MDA3 (IVM)\", COUNTRY_INFO!$T$9:$T$1000, \" \")","v":" "},null,null,null,0,null,null,0,null,null,0,0,0,0," "," "," "]
[{"$f":"IF(COUNTRY_INFO!A181=0,\" \",COUNTRY_INFO!A181)","v":"Tanzania"},{"$f":"IF(COUNTRY_INFO!B181=0,\" \",COUNTRY_INFO!B181)","v":"Tabora"},{"$f":"IF(COUNTRY_INFO!C181=0,\" \",COUNTRY_INFO!C181)","v":"Urambo District Council"},{"$f":"IF(COUNTRY_INFO!$T$9:$T$1000=\"MDA3 (IVM)\", COUNTRY_INFO!$T$9:$T$1000, \" \")","v":" "},null,null,null,0,null,null,0,null,null,0,0,0,0," "," "," "]
[{"$f":"IF(COUNTRY_INFO!A182=0,\" \",COUNTRY_INFO!A182)","v":"Tanzania"},{"$f":"IF(COUNTRY_INFO!B182=0,\" \",COUNTRY_INFO!B182)","v":"Tabora"},{"$f":"IF(COUNTRY_INFO!C182=0,\" \",COUNTRY_INFO!C182)","v":"Uyui District Council"},{"$f":"IF(COUNTRY_INFO!$T$9:$T$1000=\"MDA3 (IVM)\", COUNTRY_INFO!$T$9:$T$1000, \" \")","v":" "},null,null,null,0,null,null,0,null,null,0,0,0,0," "," "," "]
[{"$f":"IF(COUNTRY_INFO!A183=0,\" \",COUNTRY_INFO!A183)","v":"Tanzania"},{"$f":"IF(COUNTRY_INFO!B183=0,\" \",COUNTRY_INFO!B183)","v":"Tanga"},{"$f":"IF(COUNTRY_INFO!C183=0,\" \",COUNTRY_INFO!C183)","v":"Bumbuli District Council"},{"$f":"IF(COUNTRY_INFO!$T$9:$T$1000=\"MDA3 (IVM)\", COUNTRY_INFO!$T$9:$T$1000, \" \")","v":"MDA3 (IVM)"},"Dec - 2018",34823,123979,158802,25702,108869,134571,null,null,0,25702,108869,134571,73.80754099302186,87.812452108824885,84.741376053198323]
[{"$f":"IF(COUNTRY_INFO!A184=0,\" \",COUNTRY_INFO!A184)","v":"Tanzania"},{"$f":"IF(COUNTRY_INFO!B184=0,\" \",COUNTRY_INFO!B184)","v":"Tanga"},{"$f":"IF(COUNTRY_INFO!C184=0,\" \",COUNTRY_INFO!C184)","v":"Handeni District Council"},{"$f":"IF(COUNTRY_INFO!$T$9:$T$1000=\"MDA3 (IVM)\", COUNTRY_INFO!$T$9:$T$1000, \" \")","v":" "},null,null,null,0,null,null,0,null,null,0,0,0,0," "," "," "]
[{"$f":"IF(COUNTRY_INFO!A185=0,\" \",COUNTRY_INFO!A185)","v":"Tanzania"},{"$f":"IF(COUNTRY_INFO!B185=0,\" \",COUNTRY_INFO!B185)","v":"Tanga"},{"$f":"IF(COUNTRY_INFO!C185=0,\" \",COUNTRY_INFO!C185)","v":"Handeni Town Council"},{"$f":"IF(COUNTRY_INFO!$T$9:$T$1000=\"MDA3 (IVM)\", COUNTRY_INFO!$T$9:$T$1000, \" \")","v":" "},null,null,null,0,null,null,0,null,null,0,0,0,0," "," "," "]
[{"$f":"IF(COUNTRY_INFO!A186=0,\" \",COUNTRY_INFO!A186)","v":"Tanzania"},{"$f":"IF(COUNTRY_INFO!B186=0,\" \",COUNTRY_INFO!B186)","v":"Tanga"},{"$f":"IF(COUNTRY_INFO!C186=0,\" \",COUNTRY_INFO!C186)","v":"Kilindi District Council"},{"$f":"IF(COUNTRY_INFO!$T$9:$T$1000=\"MDA3 (IVM)\", COUNTRY_INFO!$T$9:$T$1000, \" \")","v":" "},null,null,null,0,null,null,0,null,null,0,0,0,0," "," "," "]
[{"$f":"IF(COUNTRY_INFO!A187=0,\" \",COUNTRY_INFO!A187)","v":"Tanzania"},{"$f":"IF(COUNTRY_INFO!B187=0,\" \",COUNTRY_INFO!B187)","v":"Tanga"},{"$f":"IF(COUNTRY_INFO!C187=0,\" \",COUNTRY_INFO!C187)","v":"Korogwe District Council"},{"$f":"IF(COUNTRY_INFO!$T$9:$T$1000=\"MDA3 (IVM)\", COUNTRY_INFO!$T$9:$T$1000, \" \")","v":" "},null,null,null,0,null,null,0,null,null,0,0,0,0," "," "," "]
[{"$f":"IF(COUNTRY_INFO!A188=0,\" \",COUNTRY_INFO!A188)","v":"Tanzania"},{"$f":"IF(COUNTRY_INFO!B188=0,\" \",COUNTRY_INFO!B188)","v":"Tanga"},{"$f":"IF(COUNTRY_INFO!C188=0,\" \",COUNTRY_INFO!C188)","v":"Korogwe Town Council"},{"$f":"IF(COUNTRY_INFO!$T$9:$T$1000=\"MDA3 (IVM)\", COUNTRY_INFO!$T$9:$T$1000, \" \")","v":" "},null,null,null,0,null,null,0,null,null,0,0,0,0," "," "," "]
[{"$f":"IF(COUNTRY_INFO!A189=0,\" \",COUNTRY_INFO!A189)","v":"Tanzania"},{"$f":"IF(COUNTRY_INFO!B189=0,\" \",COUNTRY_INFO!B189)","v":"Tanga"},{"$f":"IF(COUNTRY_INFO!C189=0,\" \",COUNTRY_INFO!C189)","v":"Lushoto District Council"},{"$f":"IF(COUNTRY_INFO!$T$9:$T$1000=\"MDA3 (IVM)\", COUNTRY_INFO!$T$9:$T$1000, \" \")","v":"MDA3 (IVM)"},"Sept - 2018",72351,257586,329937,57977.476999999999,245569.52299999999,303547,null,null,0,57977.476999999999,245569.52299999999,303547,80.133622202872118,95.3349650213909,92.001503317299978]
[{"$f":"IF(COUNTRY_INFO!A190=0,\" \",COUNTRY_INFO!A190)","v":"Tanzania"},{"$f":"IF(COUNTRY_INFO!B190=0,\" \",COUNTRY_INFO!B190)","v":"Tanga"},{"$f":"IF(COUNTRY_INFO!C190=0,\" \",COUNTRY_INFO!C190)","v":"Mkinga District Council"},{"$f":"IF(COUNTRY_INFO!$T$9:$T$1000=\"MDA3 (IVM)\", COUNTRY_INFO!$T$9:$T$1000, \" \")","v":" "},null,null,null,0,null,null,0,null,null,0,0,0,0," "," "," "]
[{"$f":"IF(COUNTRY_INFO!A191=0,\" \",COUNTRY_INFO!A191)","v":"Tanzania"},{"$f":"IF(COUNTRY_INFO!B191=0,\" \",COUNTRY_INFO!B191)","v":"Tanga"},{"$f":"IF(COUNTRY_INFO!C191=0,\" \",COUNTRY_INFO!C191)","v":"Muheza District Council"},{"$f":"IF(COUNTRY_INFO!$T$9:$T$1000=\"MDA3 (IVM)\", COUNTRY_INFO!$T$9:$T$1000, \" \")","v":"MDA3 (IVM)"},"Dec - 2018",44499,158425,202924,36315.212,153816.788,190132,null,null,0,36315.212,153816.788,190132,81.609051888806491,97.091234338014829,93.696162109952496]
[{"$f":"IF(COUNTRY_INFO!A192=0,\" \",COUNTRY_INFO!A192)","v":"Tanzania"},{"$f":"IF(COUNTRY_INFO!B192=0,\" \",COUNTRY_INFO!B192)","v":"Tanga"},{"$f":"IF(COUNTRY_INFO!C192=0,\" \",COUNTRY_INFO!C192)","v":"Pangani District Council"},{"$f":"IF(COUNTRY_INFO!$T$9:$T$1000=\"MDA3 (IVM)\", COUNTRY_INFO!$T$9:$T$1000, \" \")","v":" "},null,null,null,0,null,null,0,null,null,0,0,0,0," "," "," "]
[{"$f":"IF(COUNTRY_INFO!A193=0,\" \",COUNTRY_INFO!A193)","v":"Tanzania"},{"$f":"IF(COUNTRY_INFO!B193=0,\" \",COUNTRY_INFO!B193)","v":"Tanga"},{"$f":"IF(COUNTRY_INFO!C193=0,\" \",COUNTRY_INFO!C193)","v":"Tanga City Council"},{"$f":"IF(COUNTRY_INFO!$T$9:$T$1000=\"MDA3 (IVM)\", COUNTRY_INFO!$T$9:$T$1000, \" \")","v":" "},null,null,null,0,null,null,0,null,null,0,0,0,0," "," "," "]

{"sheet":"T1","index":5,"n_rows":193,"n_cols":19,"rows_kept":193,"cut":false,"hidden":false,"merged":[[5,6,5,10],[5,11,5,14],[5,15,5,18],[3,0,3,2],[5,0,5,2],[5,3,6,3],[5,5,6,5],[5,4,6,4]]}
["T 1 - Praziquantel (PZQ) and Albendazole (ALB) or Mebendazole (MBD)"]
["Administrative structure, population requiring PC by age group, population treated by age group and coverage"]
[]
["TOTAL",null,null,null,null,null,{"$f":"SUM(G$9:G$1000)","v":0},6936923,6936923,0,{"$f":"SUM(K$9:K$1000)","v":6936923},0,6089315,0,6089315,{"$f":"IF(G4<>0, IF(L4/G4*100=0, \"-\", L4/G4*100), \" \")","v":" "},{"$f":"IF(OR(I4<>0,H4<>0), IF(M4/MAX(H4,I4)*100=0, \"-\", M4/MAX(H4,I4)*100), \" \")","v":87.781210776016977},{"$f":"IF(J4<>0, IF(N4/J4*100=0, \"-\", N4/J4*100), \" \")","v":" "},{"$f":"IF(K4<>0, IF(O4/K4*100=0, \"-\", O4/K4*100), \" \")","v":87.781210776016977}]
[]
[null,null,null,"PC implemented","Medicine","Date","Population targeted for T1",null,null,null,null,"Population treated",null,null,null,"Programme coverage (%)"]
["Country","Province/State","District",null,null,null,"PreSAC (ALB)","SAC (ALB)","SAC (PZQ)","Adults (PZQ)","Total","PreSAC","SAC","Adults","Total","PreSAC","SAC","Adults","Total"]
[]
[{"$f":"IF(COUNTRY_INFO!A9=0,\" \",COUNTRY_INFO!A9)","v":"Tanzania"},{"$f":"IF(COUNTRY_INFO!B9=0,\" \",COUNTRY_INFO!B9)","v":"Arusha"},{"$f":"IF(COUNTRY_INFO!C9=0,\" \",COUNTRY_INFO!C9)","v":"Arusha City Council"},{"$f":"IF(OR(COUNTRY_INFO!$T$9:$T$1000=\"T1 (PZQ+ALB/MBD)\",COUNTRY_INFO!$U$9:$U$1000=\"T1 (PZQ+ALB/MBD)\"), \"T1 (PZQ+ALB/MBD)\", \" \")","v":" "},null,null,null,null,null,null,{"$f":"MAX(H9:I9)+G9+J9","v":0},null,null,null,{"$f":"SUM(L9:N9)","v":0},{"$f":"IF(G9<>0, IF(L9/G9*100=0, \"-\", L9/G9*100), \" \")","v":" "},{"$f":"IF(OR(I9<>0,H9<>0), IF(M9/MAX(H9,I9)*100=0, \"-\", M9/MAX(H9,I9)*100), \" \")","v":" "},{"$f":"IF(J9<>0, IF(N9/J9*100=0, \"-\", N9/J9*100), \" \")","v":" "}," "]
[{"$f":"IF(COUNTRY_INFO!A10=0,\" \",COUNTRY_INFO!A10)","v":"Tanzania"},{"$f":"IF(COUNTRY_INFO!B10=0,\" \",COUNTRY_INFO!B10)","v":"Arusha"},{"$f":"IF(COUNTRY_INFO!C10=0,\" \",COUNTRY_INFO!C10)","v":"Arusha District Council"},{"$f":"IF(OR(COUNTRY_INFO!$T$9:$T$1000=\"T1 (PZQ+ALB/MBD)\",COUNTRY_INFO!$U$9:$U$1000=\"T1 (PZQ+ALB/MBD)\"), \"T1 (PZQ+ALB/MBD)\", \" \")","v":" "},null,null,null,null,null,null,{"$f":"MAX(H10:I10)+G10+J10","v":0},null,null,null,{"$f":"SUM(L10:N10)","v":0},{"$f":"IF(G10<>0, IF(L10/G10*100=0, \"-\", L10/G10*100), \" \")","v":" "},{"$f":"IF(OR(I10<>0,H10<>0), IF(M10/MAX(H10,I10)*100=0, \"-\", M10/MAX(H10,I10)*100), \" \")","v":" "},{"$f":"IF(J10<>0, IF(N10/J10*100=0, \"-\", N10/J10*100), \" \")","v":" "},{"$f":"IF(K10<>0, IF(O10/K10*100=0, \"-\", O10/K10*100), \" \")","v":" "}]
[{"$f":"IF(COUNTRY_INFO!A11=0,\" \",COUNTRY_INFO!A11)","v":"Tanzania"},{"$f":"IF(COUNTRY_INFO!B11=0,\" \",COUNTRY_INFO!B11)","v":"Arusha"},{"$f":"IF(COUNTRY_INFO!C11=0,\" \",COUNTRY_INFO!C11)","v":"Karatu District Council"},{"$f":"IF(OR(COUNTRY_INFO!$T$9:$T$1000=\"T1 (PZQ+ALB/MBD)\",COUNTRY_INFO!$U$9:$U$1000=\"T1 (PZQ+ALB/MBD)\"), \"T1 (PZQ+ALB/MBD)\", \" \")","v":" "},null,null,null,null,null,null,0,null,null,null,0," "," "," "," "]
[{"$f":"IF(COUNTRY_INFO!A12=0,\" \",COUNTRY_INFO!A12)","v":"Tanzania"},{"$f":"IF(COUNTRY_INFO!B12=0,\" \",COUNTRY_INFO!B12)","v":"Arusha"},{"$f":"IF(COUNTRY_INFO!C12=0,\" \",COUNTRY_INFO!C12)","v":"Longido District Council"},{"$f":"IF(OR(COUNTRY_INFO!$T$9:$T$1000=\"T1 (PZQ+ALB/MBD)\",COUNTRY_INFO!$U$9:$U$1000=\"T1 (PZQ+ALB/MBD)\"), \"T1 (PZQ+ALB/MBD)\", \" \")","v":" "},null,null,null,null,null,null,0,null,null,null,0," "," "," "," "]
[{"$f":"IF(COUNTRY_INFO!A13=0,\" \",COUNTRY_INFO!A13)","v":"Tanzania"},{"$f":"IF(COUNTRY_INFO!B13=0,\" \",COUNTRY_INFO!B13)","v":"Arusha"},{"$f":"IF(COUNTRY_INFO!C13=0,\" \",COUNTRY_INFO!C13)","v":"Meru District Council"},{"$f":"IF(OR(COUNTRY_INFO!$T$9:$T$1000=\"T1 (PZQ+ALB/MBD)\",COUNTRY_INFO!$U$9:$U$1000=\"T1 (PZQ+ALB/MBD)\"), \"T1 (PZQ+ALB/MBD)\", \" \")","v":" "},null,null,null,null,null,null,0,null,null,null,0," "," "," "," "]
[{"$f":"IF(COUNTRY_INFO!A14=0,\" \",COUNTRY_INFO!A14)","v":"Tanzania"},{"$f":"IF(COUNTRY_INFO!B14=0,\" \",COUNTRY_INFO!B14)","v":"Arusha"},{"$f":"IF(COUNTRY_INFO!C14=0,\" \",COUNTRY_INFO!C14)","v":"Monduli District Council"},{"$f":"IF(OR(COUNTRY_INFO!$T$9:$T$1000=\"T1 (PZQ+ALB/MBD)\",COUNTRY_INFO!$U$9:$U$1000=\"T1 (PZQ+ALB/MBD)\"), \"T1 (PZQ+ALB/MBD)\", \" \")","v":" "},null,null,null,null,null,null,0,null,null,null,0," "," "," "," "]
[{"$f":"IF(COUNTRY_INFO!A15=0,\" \",COUNTRY_INFO!A15)","v":"Tanzania"},{"$f":"IF(COUNTRY_INFO!B15=0,\" \",COUNTRY_INFO!B15)","v":"Arusha"},{"$f":"IF(COUNTRY_INFO!C15=0,\" \",COUNTRY_INFO!C15)","v":"Ngorongoro District Council"},{"$f":"IF(OR(COUNTRY_INFO!$T$9:$T$1000=\"T1 (PZQ+ALB/MBD)\",COUNTRY_INFO!$U$9:$U$1000=\"T1 (PZQ+ALB/MBD)\"), \"T1 (PZQ+ALB/MBD)\", \" \")","v":" "},null,null,null,null,null,null,0,null,null,null,0," "," "," "," "]
[{"$f":"IF(COUNTRY_INFO!A16=0,\" \",COUNTRY_INFO!A16)","v":"Tanzania"},{"$f":"IF(COUNTRY_INFO!B16=0,\" \",COUNTRY_INFO!B16)","v":"Dar Es Salaam"},{"$f":"IF(COUNTRY_INFO!C16=0,\" \",COUNTRY_INFO!C16)","v":"Dar es Salaam City Council "},{"$f":"IF(OR(COUNTRY_INFO!$T$9:$T$1000=\"T1 (PZQ+ALB/MBD)\",COUNTRY_INFO!$U$9:$U$1000=\"T1 (PZQ+ALB/MBD)\"), \"T1 (PZQ+ALB/MBD)\", \" \")","v":"T1 (PZQ+ALB/MBD)"},"PZQ+ALB","Aug - 2018",null,1,1,null,1,null,1,null,1," ",100," ",100]
[{"$f":"IF(COUNTRY_INFO!A17=0,\" \",COUNTRY_INFO!A17)","v":"Tanzania"},{"$f":"IF(COUNTRY_INFO!B17=0,\" \",COUNTRY_INFO!B17)","v":"Dar Es Salaam"},{"$f":"IF(COUNTRY_INFO!C17=0,\" \",COUNTRY_INFO!C17)","v":"Ilala Municipal Council"},{"$f":"IF(OR(COUNTRY_INFO!$T$9:$T$1000=\"T1 (PZQ+ALB/MBD)\",COUNTRY_INFO!$U$9:$U$1000=\"T1 (PZQ+ALB/MBD)\"), \"T1 (PZQ+ALB/MBD)\", \" \")","v":"T1 (PZQ+ALB/MBD)"},"PZQ+ALB","Aug - 2018",null,230745,230745,null,230745,null,186525,null,186525," ",80.83598777871677," ",80.83598777871677]
[{"$f":"IF(COUNTRY_INFO!A18=0,\" \",COUNTRY_INFO!A18)","v":"Tanzania"},{"$f":"IF(COUNTRY_INFO!B18=0,\" \",COUNTRY_INFO!B18)","v":"Dar Es Salaam"},{"$f":"IF(COUNTRY_INFO!C18=0,\" \",COUNTRY_INFO!C18)","v":"Kigamboni Municipal Council"},{"$f":"IF(OR(COUNTRY_INFO!$T$9:$T$1000=\"T1 (PZQ+ALB/MBD)\",COUNTRY_INFO!$U$9:$U$1000=\"T1 (PZQ+ALB/MBD)\"), \"T1 (PZQ+ALB/MBD)\", \" \")","v":"T1 (PZQ+ALB/MBD)"},"PZQ+ALB","Aug - 2018",null,32119,32119,null,32119,null,27668,null,27668," ",86.142158846788504," ",86.142158846788504]
[{"$f":"IF(COUNTRY_INFO!A19=0,\" \",COUNTRY_INFO!A19)","v":"Tanzania"},{"$f":"IF(COUNTRY_INFO!B19=0,\" \",COUNTRY_INFO!B19)","v":"Dar Es Salaam"},{"$f":"IF(COUNTRY_INFO!C19=0,\" \",COUNTRY_INFO!C19)","v":"Kinondoni Municipal Council"},{"$f":"IF(OR(COUNTRY_INFO!$T$9:$T$1000=\"T1 (PZQ+ALB/MBD)\",COUNTRY_INFO!$U$9:$U$1000=\"T1 (PZQ+ALB/MBD)\"), \"T1 (PZQ+ALB/MBD)\", \" \")","v":"T1 (PZQ+ALB/MBD)"},"PZQ+ALB","Aug - 2018",null,158969,158969,null,158969,null,105570,null,105570," ",66.409174115708097," ",66.409174115708097]
[{"$f":"IF(COUNTRY_INFO!A20=0,\" \",COUNTRY_INFO!A20)","v":"Tanzania"},{"$f":"IF(COUNTRY_INFO!B20=0,\" \",COUNTRY_INFO!B20)","v":"Dar Es Salaam"},{"$f":"IF(COUNTRY_INFO!C20=0,\" \",COUNTRY_INFO!C20)","v":"Temeke Municipal Council"},{"$f":"IF(OR(COUNTRY_INFO!$T$9:$T$1000=\"T1 (PZQ+ALB/MBD)\",COUNTRY_INFO!$U$9:$U$1000=\"T1 (PZQ+ALB/MBD)\"), \"T1 (PZQ+ALB/MBD)\", \" \")","v":"T1 (PZQ+ALB/MBD)"},"PZQ+ALB","Aug - 2018",null,237727,237727,null,237727,null,161710,null,161710," ",68.023404998170165," ",68.023404998170165]
[{"$f":"IF(COUNTRY_INFO!A21=0,\" \",COUNTRY_INFO!A21)","v":"Tanzania"},{"$f":"IF(COUNTRY_INFO!B21=0,\" \",COUNTRY_INFO!B21)","v":"Dar Es Salaam"},{"$f":"IF(COUNTRY_INFO!C21=0,\" \",COUNTRY_INFO!C21)","v":"Ubungo Municipal Council"},{"$f":"IF(OR(COUNTRY_INFO!$T$9:$T$1000=\"T1 (PZQ+ALB/MBD)\",COUNTRY_INFO!$U$9:$U$1000=\"T1 (PZQ+ALB/MBD)\"), \"T1 (PZQ+ALB/MBD)\", \" \")","v":"T1 (PZQ+ALB/MBD)"},"PZQ+ALB","Aug - 2018",null,144552,144552,null,144552,null,111592,null,111592," ",77.198516796723666," ",77.198516796723666]
[{"$f":"IF(COUNTRY_INFO!A22=0,\" \",COUNTRY_INFO!A22)","v":"Tanzania"},{"$f":"IF(COUNTRY_INFO!B22=0,\" \",COUNTRY_INFO!B22)","v":"Dodoma"},{"$f":"IF(COUNTRY_INFO!C22=0,\" \",COUNTRY_INFO!C22)","v":"Bahi District Council"},{"$f":"IF(OR(COUNTRY_INFO!$T$9:$T$1000=\"T1 (PZQ+ALB/MBD)\",COUNTRY_INFO!$U$9:$U$1000=\"T1 (PZQ+ALB/MBD)\"), \"T1 (PZQ+ALB/MBD)\", \" \")","v":" "},null,null,null,null,null,null,0,null,null,null,0," "," "," "," "]
[{"$f":"IF(COUNTRY_INFO!A23=0,\" \",COUNTRY_INFO!A23)","v":"Tanzania"},{"$f":"IF(COUNTRY_INFO!B23=0,\" \",COUNTRY_INFO!B23)","v":"Dodoma"},{"$f":"IF(COUNTRY_INFO!C23=0,\" \",COUNTRY_INFO!C23)","v":"Chamwino District Council"},{"$f":"IF(OR(COUNTRY_INFO!$T$9:$T$1000=\"T1 (PZQ+ALB/MBD)\",COUNTRY_INFO!$U$9:$U$1000=\"T1 (PZQ+ALB/MBD)\"), \"T1 (PZQ+ALB/MBD)\", \" \")","v":" "},null,null,null,null,null,null,0,null,null,null,0," "," "," "," "]
[{"$f":"IF(COUNTRY_INFO!A24=0,\" \",COUNTRY_INFO!A24)","v":"Tanzania"},{"$f":"IF(COUNTRY_INFO!B24=0,\" \",COUNTRY_INFO!B24)","v":"Dodoma"},{"$f":"IF(COUNTRY_INFO!C24=0,\" \",COUNTRY_INFO!C24)","v":"Chemba District Council"},{"$f":"IF(OR(COUNTRY_INFO!$T$9:$T$1000=\"T1 (PZQ+ALB/MBD)\",COUNTRY_INFO!$U$9:$U$1000=\"T1 (PZQ+ALB/MBD)\"), \"T1 (PZQ+ALB/MBD)\", \" \")","v":" "},null,null,null,null,null,null,0,null,null,null,0," "," "," "," "]
[{"$f":"IF(COUNTRY_INFO!A25=0,\" \",COUNTRY_INFO!A25)","v":"Tanzania"},{"$f":"IF(COUNTRY_INFO!B25=0,\" \",COUNTRY_INFO!B25)","v":"Dodoma"},{"$f":"IF(COUNTRY_INFO!C25=0,\" \",COUNTRY_INFO!C25)","v":"Dodoma Municipal Council"},{"$f":"IF(OR(COUNTRY_INFO!$T$9:$T$1000=\"T1 (PZQ+ALB/MBD)\",COUNTRY_INFO!$U$9:$U$1000=\"T1 (PZQ+ALB/MBD)\"), \"T1 (PZQ+ALB/MBD)\", \" \")","v":" "},null,null,null,null,null,null,0,null,null,null,0," "," "," "," "]
[{"$f":"IF(COUNTRY_INFO!A26=0,\" \",COUNTRY_INFO!A26)","v":"Tanzania"},{"$f":"IF(COUNTRY_INFO!B26=0,\" \",COUNTRY_INFO!B26)","v":"Dodoma"},{"$f":"IF(COUNTRY_INFO!C26=0,\" \",COUNTRY_INFO!C26)","v":"Kondoa District Council"},{"$f":"IF(OR(COUNTRY_INFO!$T$9:$T$1000=\"T1 (PZQ+ALB/MBD)\",COUNTRY_INFO!$U$9:$U$1000=\"T1 (PZQ+ALB/MBD)\"), \"T1 (PZQ+ALB/MBD)\", \" \")","v":" "},null,null,null,null,null,null,0,null,null,null,0," "," "," "," "]
[{"$f":"IF(COUNTRY_INFO!A27=0,\" \",COUNTRY_INFO!A27)","v":"Tanzania"},{"$f":"IF(COUNTRY_INFO!B27=0,\" \",COUNTRY_INFO!B27)","v":"Dodoma"},{"$f":"IF(COUNTRY_INFO!C27=0,\" \",COUNTRY_INFO!C27)","v":"Kondoa Town Council "},{"$f":"IF(OR(COUNTRY_INFO!$T$9:$T$1000=\"T1 (PZQ+ALB/MBD)\",COUNTRY_INFO!$U$9:$U$1000=\"T1 (PZQ+ALB/MBD)\"), \"T1 (PZQ+ALB/MBD)\", \" \")","v":" "},null,null,null,null,null,null,0,null,null,null,0," "," "," "," "]
[{"$f":"IF(COUNTRY_INFO!A28=0,\" \",COUNTRY_INFO!A28)","v":"Tanzania"},{"$f":"IF(COUNTRY_INFO!B28=0,\" \",COUNTRY_INFO!B28)","v":"Dodoma"},{"$f":"IF(COUNTRY_INFO!C28=0,\" \",COUNTRY_INFO!C28)","v":"Kongwa District Council"},{"$f":"IF(OR(COUNTRY_INFO!$T$9:$T$1000=\"T1 (PZQ+ALB/MBD)\",COUNTRY_INFO!$U$9:$U$1000=\"T1 (PZQ+ALB/MBD)\"), \"T1 (PZQ+ALB/MBD)\", \" \")","v":" "},null,null,null,null,null,null,0,null,null,null,0," "," "," "," "]
[{"$f":"IF(COUNTRY_INFO!A29=0,\" \",COUNTRY_INFO!A29)","v":"Tanzania"},{"$f":"IF(COUNTRY_INFO!B29=0,\" \",COUNTRY_INFO!B29)","v":"Dodoma"},{"$f":"IF(COUNTRY_INFO!C29=0,\" \",COUNTRY_INFO!C29)","v":"Mpwapwa District Council"},{"$f":"IF(OR(COUNTRY_INFO!$T$9:$T$1000=\"T1 (PZQ+ALB/MBD)\",COUNTRY_INFO!$U$9:$U$1000=\"T1 (PZQ+ALB/MBD)\"), \"T1 (PZQ+ALB/MBD)\", \" \")","v":" "},null,null,null,null,null,null,0,null,null,null,0," "," "," "," "]
[{"$f":"IF(COUNTRY_INFO!A30=0,\" \",COUNTRY_INFO!A30)","v":"Tanzania"},{"$f":"IF(COUNTRY_INFO!B30=0,\" \",COUNTRY_INFO!B30)","v":"Geita"},{"$f":"IF(COUNTRY_INFO!C30=0,\" \",COUNTRY_INFO!C30)","v":"Bukombe District Council"},{"$f":"IF(OR(COUNTRY_INFO!$T$9:$T$1000=\"T1 (PZQ+ALB/MBD)\",COUNTRY_INFO!$U$9:$U$1000=\"T1 (PZQ+ALB/MBD)\"), \"T1 (PZQ+ALB/MBD)\", \" \")","v":" "},null,null,null,null,null,null,0,null,null,null,0," "," "," "," "]
[{"$f":"IF(COUNTRY_INFO!A31=0,\" \",COUNTRY_INFO!A31)","v":"Tanzania"},{"$f":"IF(COUNTRY_INFO!B31=0,\" \",COUNTRY_INFO!B31)","v":"Geita"},{"$f":"IF(COUNTRY_INFO!C31=0,\" \",COUNTRY_INFO!C31)","v":"Chato District Council"},{"$f":"IF(OR(COUNTRY_INFO!$T$9:$T$1000=\"T1 (PZQ+ALB/MBD)\",COUNTRY_INFO!$U$9:$U$1000=\"T1 (PZQ+ALB/MBD)\"), \"T1 (PZQ+ALB/MBD)\", \" \")","v":" "},null,null,null,null,null,null,0,null,null,null,0," "," "," "," "]
[{"$f":"IF(COUNTRY_INFO!A32=0,\" \",COUNTRY_INFO!A32)","v":"Tanzania"},{"$f":"IF(COUNTRY_INFO!B32=0,\" \",COUNTRY_INFO!B32)","v":"Geita"},{"$f":"IF(COUNTRY_INFO!C32=0,\" \",COUNTRY_INFO!C32)","v":"Geita District Council"},{"$f":"IF(OR(COUNTRY_INFO!$T$9:$T$1000=\"T1 (PZQ+ALB/MBD)\",COUNTRY_INFO!$U$9:$U$1000=\"T1 (PZQ+ALB/MBD)\"), \"T1 (PZQ+ALB/MBD)\", \" \")","v":" "},null,null,null,null,null,null,0,null,null,null,0," "," "," "," "]
[{"$f":"IF(COUNTRY_INFO!A33=0,\" \",COUNTRY_INFO!A33)","v":"Tanzania"},{"$f":"IF(COUNTRY_INFO!B33=0,\" \",COUNTRY_INFO!B33)","v":"Geita"},{"$f":"IF(COUNTRY_INFO!C33=0,\" \",COUNTRY_INFO!C33)","v":"Geita Town Council"},{"$f":"IF(OR(COUNTRY_INFO!$T$9:$T$1000=\"T1 (PZQ+ALB/MBD)\",COUNTRY_INFO!$U$9:$U$1000=\"T1 (PZQ+ALB/MBD)\"), \"T1 (PZQ+ALB/MBD)\", \" \")","v":" "},null,null,null,null,null,null,0,null,null,null,0," "," "," "," "]
[{"$f":"IF(COUNTRY_INFO!A34=0,\" \",COUNTRY_INFO!A34)","v":"Tanzania"},{"$f":"IF(COUNTRY_INFO!B34=0,\" \",COUNTRY_INFO!B34)","v":"Geita"},{"$f":"IF(COUNTRY_INFO!C34=0,\" \",COUNTRY_INFO!C34)","v":"Mbogwe District Council"},{"$f":"IF(OR(COUNTRY_INFO!$T$9:$T$1000=\"T1 (PZQ+ALB/MBD)\",COUNTRY_INFO!$U$9:$U$1000=\"T1 (PZQ+ALB/MBD)\"), \"T1 (PZQ+ALB/MBD)\", \" \")","v":" "},null,null,null,null,null,null,0,null,null,null,0," "," "," "," "]
[{"$f":"IF(COUNTRY_INFO!A35=0,\" \",COUNTRY_INFO!A35)","v":"Tanzania"},{"$f":"IF(COUNTRY_INFO!B35=0,\" \",COUNTRY_INFO!B35)","v":"Geita"},{"$f":"IF(COUNTRY_INFO!C35=0,\" \",COUNTRY_INFO!C35)","v":"Nyang'hwale District Council"},{"$f":"IF(OR(COUNTRY_INFO!$T$9:$T$1000=\"T1 (PZQ+ALB/MBD)\",COUNTRY_INFO!$U$9:$U$1000=\"T1 (PZQ+ALB/MBD)\"), \"T1 (PZQ+ALB/MBD)\", \" \")","v":" "},null,null,null,null,null,null,0,null,null,null,0," "," "," "," "]
[{"$f":"IF(COUNTRY_INFO!A36=0,\" \",COUNTRY_INFO!A36)","v":"Tanzania"},{"$f":"IF(COUNTRY_INFO!B36=0,\" \",COUNTRY_INFO!B36)","v":"Iringa"},{"$f":"IF(COUNTRY_INFO!C36=0,\" \",COUNTRY_INFO!C36)","v":"Iringa District Council"},{"$f":"IF(OR(COUNTRY_INFO!$T$9:$T$1000=\"T1 (PZQ+ALB/MBD)\",COUNTRY_INFO!$U$9:$U$1000=\"T1 (PZQ+ALB/MBD)\"), \"T1 (PZQ+ALB/MBD)\", \" \")","v":"T1 (PZQ+ALB/MBD)"},"PZQ+MBD","May - 2018",null,69583,69583,null,69583,null,65032,null,65032," ",93.459609387350355," ",93.459609387350355]
[{"$f":"IF(COUNTRY_INFO!A37=0,\" \",COUNTRY_INFO!A37)","v":"Tanzania"},{"$f":"IF(COUNTRY_INFO!B37=0,\" \",COUNTRY_INFO!B37)","v":"Iringa"},{"$f":"IF(COUNTRY_INFO!C37=0,\" \",COUNTRY_INFO!C37)","v":"Iringa Municipal Council"},{"$f":"IF(OR(COUNTRY_INFO!$T$9:$T$1000=\"T1 (PZQ+ALB/MBD)\",COUNTRY_INFO!$U$9:$U$1000=\"T1 (PZQ+ALB/MBD)\"), \"T1 (PZQ+ALB/MBD)\", \" \")","v":"T1 (PZQ+ALB/MBD)"},"PZQ+MBD","July - 2018",null,32779,32779,null,32779,null,30000,null,30000," ",91.522011043656008," ",91.522011043656008]
[{"$f":"IF(COUNTRY_INFO!A38=0,\" \",COUNTRY_INFO!A38)","v":"Tanzania"},{"$f":"IF(COUNTRY_INFO!B38=0,\" \",COUNTRY_INFO!B38)","v":"Iringa"},{"$f":"IF(COUNTRY_INFO!C38=0,\" \",COUNTRY_INFO!C38)","v":"Kilolo District Council"},{"$f":"IF(OR(COUNTRY_INFO!$T$9:$T$1000=\"T1 (PZQ+ALB/MBD)\",COUNTRY_INFO!$U$9:$U$1000=\"T1 (PZQ+ALB/MBD)\"), \"T1 (PZQ+ALB/MBD)\", \" \")","v":"T1 (PZQ+ALB/MBD)"},"PZQ+MBD","July - 2018",null,48712,48712,null,48712,null,44550,null,44550," ",91.455904089341431," ",91.455904089341431]
[{"$f":"IF(COUNTRY_INFO!A39=0,\" \",COUNTRY_INFO!A39)","v":"Tanzania"},{"$f":"IF(COUNTRY_INFO!B39=0,\" \",COUNTRY_INFO!B39)","v":"Iringa"},{"$f":"IF(COUNTRY_INFO!C39=0,\" \",COUNTRY_INFO!C39)","v":"Mafinga Town Council"},{"$f":"IF(OR(COUNTRY_INFO!$T$9:$T$1000=\"T1 (PZQ+ALB/MBD)\",COUNTRY_INFO!$U$9:$U$1000=\"T1 (PZQ+ALB/MBD)\"), \"T1 (PZQ+ALB/MBD)\", \" \")","v":"T1 (PZQ+ALB/MBD)"},"PZQ+MBD","April - 2018",null,18037,18037,null,18037,null,17086,null,17086," ",94.72750457393137," ",94.72750457393137]
[{"$f":"IF(COUNTRY_INFO!A40=0,\" \",COUNTRY_INFO!A40)","v":"Tanzania"},{"$f":"IF(COUNTRY_INFO!B40=0,\" \",COUNTRY_INFO!B40)","v":"Iringa"},{"$f":"IF(COUNTRY_INFO!C40=0,\" \",COUNTRY_INFO!C40)","v":"Mufindi District Council"},{"$f":"IF(OR(COUNTRY_INFO!$T$9:$T$1000=\"T1 (PZQ+ALB/MBD)\",COUNTRY_INFO!$U$9:$U$1000=\"T1 (PZQ+ALB/MBD)\"), \"T1 (PZQ+ALB/MBD)\", \" \")","v":"T1 (PZQ+ALB/MBD)"},"PZQ+MBD","July - 2018",null,67966,67966,null,67966,null,64170,null,64170," ",94.41485448606656," ",94.41485448606656]
[{"$f":"IF(COUNTRY_INFO!A41=0,\" \",COUNTRY_INFO!A41)","v":"Tanzania"},{"$f":"IF(COUNTRY_INFO!B41=0,\" \",COUNTRY_INFO!B41)","v":"Kagera"},{"$f":"IF(COUNTRY_INFO!C41=0,\" \",COUNTRY_INFO!C41)","v":"Biharamulo District Council"},{"$f":"IF(OR(COUNTRY_INFO!$T$9:$T$1000=\"T1 (PZQ+ALB/MBD)\",COUNTRY_INFO!$U$9:$U$1000=\"T1 (PZQ+ALB/MBD)\"), \"T1 (PZQ+ALB/MBD)\", \" \")","v":"T1 (PZQ+ALB/MBD)"},"PZQ+MBD","July - 2018",null,81093,81093,null,81093,null,63993,null,63993," ",78.913099774333176," ",78.913099774333176]
[{"$f":"IF(COUNTRY_INFO!A42=0,\" \",COUNTRY_INFO!A42)","v":"Tanzania"},{"$f":"IF(COUNTRY_INFO!B42=0,\" \",COUNTRY_INFO!B42)","v":"Kagera"},{"$f":"IF(COUNTRY_INFO!C42=0,\" \",COUNTRY_INFO!C42)","v":"Bukoba District Council"},{"$f":"IF(OR(COUNTRY_INFO!$T$9:$T$1000=\"T1 (PZQ+ALB/MBD)\",COUNTRY_INFO!$U$9:$U$1000=\"T1 (PZQ+ALB/MBD)\"), \"T1 (PZQ+ALB/MBD)\", \" \")","v":"T1 (PZQ+ALB/MBD)"},"PZQ+MBD","July - 2018",null,81110,81110,null,81110,null,76533,null,76533," ",94.357045986931325," ",94.357045986931325]
[{"$f":"IF(COUNTRY_INFO!A43=0,\" \",COUNTRY_INFO!A43)","v":"Tanzania"},{"$f":"IF(COUNTRY_INFO!B43=0,\" \",COUNTRY_INFO!B43)","v":"Kagera"},{"$f":"IF(COUNTRY_INFO!C43=0,\" \",COUNTRY_INFO!C43)","v":"Bukoba Municipal Council"},{"$f":"IF(OR(COUNTRY_INFO!$T$9:$T$1000=\"T1 (PZQ+ALB/MBD)\",COUNTRY_INFO!$U$9:$U$1000=\"T1 (PZQ+ALB/MBD)\"), \"T1 (PZQ+ALB/MBD)\", \" \")","v":"T1 (PZQ+ALB/MBD)"},"PZQ+MBD","July - 2018",null,29661,29661,null,29661,null,26787,null,26787," ",90.310508748862134," ",90.310508748862134]
[{"$f":"IF(COUNTRY_INFO!A44=0,\" \",COUNTRY_INFO!A44)","v":"Tanzania"},{"$f":"IF(COUNTRY_INFO!B44=0,\" \",COUNTRY_INFO!B44)","v":"Kagera"},{"$f":"IF(COUNTRY_INFO!C44=0,\" \",COUNTRY_INFO!C44)","v":"Karagwe District Council"},{"$f":"IF(OR(COUNTRY_INFO!$T$9:$T$1000=\"T1 (PZQ+ALB/MBD)\",COUNTRY_INFO!$U$9:$U$1000=\"T1 (PZQ+ALB/MBD)\"), \"T1 (PZQ+ALB/MBD)\", \" \")","v":"T1 (PZQ+ALB/MBD)"},"PZQ+MBD","July - 2018",null,81538,81538,null,81538,null,69478,null,69478," ",85.209350241605136," ",85.209350241605136]
[{"$f":"IF(COUNTRY_INFO!A45=0,\" \",COUNTRY_INFO!A45)","v":"Tanzania"},{"$f":"IF(COUNTRY_INFO!B45=0,\" \",COUNTRY_INFO!B45)","v":"Kagera"},{"$f":"IF(COUNTRY_INFO!C45=0,\" \",COUNTRY_INFO!C45)","v":"Kyerwa District Council"},{"$f":"IF(OR(COUNTRY_INFO!$T$9:$T$1000=\"T1 (PZQ+ALB/MBD)\",COUNTRY_INFO!$U$9:$U$1000=\"T1 (PZQ+ALB/MBD)\"), \"T1 (PZQ+ALB/MBD)\", \" \")","v":"T1 (PZQ+ALB/MBD)"},"PZQ+MBD","July - 2018",null,91563,91563,null,91563,null,88871,null,88871," ",97.059947795506915," ",97.059947795506915]
[{"$f":"IF(COUNTRY_INFO!A46=0,\" \",COUNTRY_INFO!A46)","v":"Tanzania"},{"$f":"IF(COUNTRY_INFO!B46=0,\" \",COUNTRY_INFO!B46)","v":"Kagera"},{"$f":"IF(COUNTRY_INFO!C46=0,\" \",COUNTRY_INFO!C46)","v":"Missenyi District Council"},{"$f":"IF(OR(COUNTRY_INFO!$T$9:$T$1000=\"T1 (PZQ+ALB/MBD)\",COUNTRY_INFO!$U$9:$U$1000=\"T1 (PZQ+ALB/MBD)\"), \"T1 (PZQ+ALB/MBD)\", \" \")","v":"T1 (PZQ+ALB/MBD)"},"PZQ+MBD","July - 2018",null,49170,49170,null,49170,null,47864,null,47864," ",97.343908887533047," ",97.343908887533047]
[{"$f":"IF(COUNTRY_INFO!A47=0,\" \",COUNTRY_INFO!A47)","v":"Tanzania"},{"$f":"IF(COUNTRY_INFO!B47=0,\" \",COUNTRY_INFO!B47)","v":"Kagera"},{"$f":"IF(COUNTRY_INFO!C47=0,\" \",COUNTRY_INFO!C47)","v":"Muleba District Council"},{"$f":"IF(OR(COUNTRY_INFO!$T$9:$T$1000=\"T1 (PZQ+ALB/MBD)\",COUNTRY_INFO!$U$9:$U$1000=\"T1 (PZQ+ALB/MBD)\"), \"T1 (PZQ+ALB/MBD)\", \" \")","v":"T1 (PZQ+ALB/MBD)"},"PZQ+MBD","July - 2018",null,134592,134592,null,134592,null,131815,null,131815," ",97.936727294341424," ",97.936727294341424]
[{"$f":"IF(COUNTRY_INFO!A48=0,\" \",COUNTRY_INFO!A48)","v":"Tanzania"},{"$f":"IF(COUNTRY_INFO!B48=0,\" \",COUNTRY_INFO!B48)","v":"Kagera"},{"$f":"IF(COUNTRY_INFO!C48=0,\" \",COUNTRY_INFO!C48)","v":"Ngara District Council"},{"$f":"IF(OR(COUNTRY_INFO!$T$9:$T$1000=\"T1 (PZQ+ALB/MBD)\",COUNTRY_INFO!$U$9:$U$1000=\"T1 (PZQ+ALB/MBD)\"), \"T1 (PZQ+ALB/MBD)\", \" \")","v":"T1 (PZQ+ALB/MBD)"},"PZQ+MBD","July - 2018",null,78131,78131,null,78131,null,74703,null,74703," ",95.612496960233457," ",95.612496960233457]
[{"$f":"IF(COUNTRY_INFO!A49=0,\" \",COUNTRY_INFO!A49)","v":"Tanzania"},{"$f":"IF(COUNTRY_INFO!B49=0,\" \",COUNTRY_INFO!B49)","v":"Katavi"},{"$f":"IF(COUNTRY_INFO!C49=0,\" \",COUNTRY_INFO!C49)","v":"Mlele District Council"},{"$f":"IF(OR(COUNTRY_INFO!$T$9:$T$1000=\"T1 (PZQ+ALB/MBD)\",COUNTRY_INFO!$U$9:$U$1000=\"T1 (PZQ+ALB/MBD)\"), \"T1 (PZQ+ALB/MBD)\", \" \")","v":" "},null,null,null,null,null,null,0,null,null,null,0," "," "," "," "]
[{"$f":"IF(COUNTRY_INFO!A50=0,\" \",COUNTRY_INFO!A50)","v":"Tanzania"},{"$f":"IF(COUNTRY_INFO!B50=0,\" \",COUNTRY_INFO!B50)","v":"Katavi"},{"$f":"IF(COUNTRY_INFO!C50=0,\" \",COUNTRY_INFO!C50)","v":"Mpanda District Council"},{"$f":"IF(OR(COUNTRY_INFO!$T$9:$T$1000=\"T1 (PZQ+ALB/MBD)\",COUNTRY_INFO!$U$9:$U$1000=\"T1 (PZQ+ALB/MBD)\"), \"T1 (PZQ+ALB/MBD)\", \" \")","v":" "},null,null,null,null,null,null,0,null,null,null,0," "," "," "," "]
[{"$f":"IF(COUNTRY_INFO!A51=0,\" \",COUNTRY_INFO!A51)","v":"Tanzania"},{"$f":"IF(COUNTRY_INFO!B51=0,\" \",COUNTRY_INFO!B51)","v":"Katavi"},{"$f":"IF(COUNTRY_INFO!C51=0,\" \",COUNTRY_INFO!C51)","v":"Mpanda Municipal Council"},{"$f":"IF(OR(COUNTRY_INFO!$T$9:$T$1000=\"T1 (PZQ+ALB/MBD)\",COUNTRY_INFO!$U$9:$U$1000=\"T1 (PZQ+ALB/MBD)\"), \"T1 (PZQ+ALB/MBD)\", \" \")","v":" "},null,null,null,null,null,null,0,null,null,null,0," "," "," "," "]
[{"$f":"IF(COUNTRY_INFO!A52=0,\" \",COUNTRY_INFO!A52)","v":"Tanzania"},{"$f":"IF(COUNTRY_INFO!B52=0,\" \",COUNTRY_INFO!B52)","v":"Katavi"},{"$f":"IF(COUNTRY_INFO!C52=0,\" \",COUNTRY_INFO!C52)","v":"Mpimbwe District Council"},{"$f":"IF(OR(COUNTRY_INFO!$T$9:$T$1000=\"T1 (PZQ+ALB/MBD)\",COUNTRY_INFO!$U$9:$U$1000=\"T1 (PZQ+ALB/MBD)\"), \"T1 (PZQ+ALB/MBD)\", \" \")","v":" "},null,null,null,null,null,null,0,null,null,null,0," "," "," "," "]
[{"$f":"IF(COUNTRY_INFO!A53=0,\" \",COUNTRY_INFO!A53)","v":"Tanzania"},{"$f":"IF(COUNTRY_INFO!B53=0,\" \",COUNTRY_INFO!B53)","v":"Katavi"},{"$f":"IF(COUNTRY_INFO!C53=0,\" \",COUNTRY_INFO!C53)","v":"Nsimbo District Council"},{"$f":"IF(OR(COUNTRY_INFO!$T$9:$T$1000=\"T1 (PZQ+ALB/MBD)\",COUNTRY_INFO!$U$9:$U$1000=\"T1 (PZQ+ALB/MBD)\"), \"T1 (PZQ+ALB/MBD)\", \" \")","v":" "},null,null,null,null,null,null,0,null,null,null,0," "," "," "," "]
[{"$f":"IF(COUNTRY_INFO!A54=0,\" \",COUNTRY_INFO!A54)","v":"Tanzania"},{"$f":"IF(COUNTRY_INFO!B54=0,\" \",COUNTRY_INFO!B54)","v":"Kigoma"},{"$f":"IF(COUNTRY_INFO!C54=0,\" \",COUNTRY_INFO!C54)","v":"Buhigwe District Council"},{"$f":"IF(OR(COUNTRY_INFO!$T$9:$T$1000=\"T1 (PZQ+ALB/MBD)\",COUNTRY_INFO!$U$9:$U$1000=\"T1 (PZQ+ALB/MBD)\"), \"T1 (PZQ+ALB/MBD)\", \" \")","v":"T1 (PZQ+ALB/MBD)"},"PZQ+MBD","July - 2018",null,66990,66990,null,66990,null,62956,null,62956," ",93.978205702343629," ",93.978205702343629]
[{"$f":"IF(COUNTRY_INFO!A55=0,\" \",COUNTRY_INFO!A55)","v":"Tanzania"},{"$f":"IF(COUNTRY_INFO!B55=0,\" \",COUNTRY_INFO!B55)","v":"Kigoma"},{"$f":"IF(COUNTRY_INFO!C55=0,\" \",COUNTRY_INFO!C55)","v":"Kakonko District Council"},{"$f":"IF(OR(COUNTRY_INFO!$T$9:$T$1000=\"T1 (PZQ+ALB/MBD)\",COUNTRY_INFO!$U$9:$U$1000=\"T1 (PZQ+ALB/MBD)\"), \"T1 (PZQ+ALB/MBD)\", \" \")","v":"T1 (PZQ+ALB/MBD)"},"PZQ+MBD","July - 2018",null,42087,42087,null,42087,null,35273,null,35273," ",83.809727469289811," ",83.809727469289811]
[{"$f":"IF(COUNTRY_INFO!A56=0,\" \",COUNTRY_INFO!A56)","v":"Tanzania"},{"$f":"IF(COUNTRY_INFO!B56=0,\" \",COUNTRY_INFO!B56)","v":"Kigoma"},{"$f":"IF(COUNTRY_INFO!C56=0,\" \",COUNTRY_INFO!C56)","v":"Kasulu District Council"},{"$f":"IF(OR(COUNTRY_INFO!$T$9:$T$1000=\"T1 (PZQ+ALB/MBD)\",COUNTRY_INFO!$U$9:$U$1000=\"T1 (PZQ+ALB/MBD)\"), \"T1 (PZQ+ALB/MBD)\", \" \")","v":"T1 (PZQ+ALB/MBD)"},"PZQ+MBD","July - 2018",null,107659,107659,null,107659,null,73036,null,73036," ",67.840124838610791," ",67.840124838610791]
[{"$f":"IF(COUNTRY_INFO!A57=0,\" \",COUNTRY_INFO!A57)","v":"Tanzania"},{"$f":"IF(COUNTRY_INFO!B57=0,\" \",COUNTRY_INFO!B57)","v":"Kigoma"},{"$f":"IF(COUNTRY_INFO!C57=0,\" \",COUNTRY_INFO!C57)","v":"Kasulu Town Council"},{"$f":"IF(OR(COUNTRY_INFO!$T$9:$T$1000=\"T1 (PZQ+ALB/MBD)\",COUNTRY_INFO!$U$9:$U$1000=\"T1 (PZQ+ALB/MBD)\"), \"T1 (PZQ+ALB/MBD)\", \" \")","v":"T1 (PZQ+ALB/MBD)"},"PZQ+MBD","July - 2018",null,60792,60792,null,60792,null,58336,null,58336," ",95.959994736149497," ",95.959994736149497]
[{"$f":"IF(COUNTRY_INFO!A58=0,\" \",COUNTRY_INFO!A58)","v":"Tanzania"},{"$f":"IF(COUNTRY_INFO!B58=0,\" \",COUNTRY_INFO!B58)","v":"Kigoma"},{"$f":"IF(COUNTRY_INFO!C58=0,\" \",COUNTRY_INFO!C58)","v":"Kibondo District Council"},{"$f":"IF(OR(COUNTRY_INFO!$T$9:$T$1000=\"T1 (PZQ+ALB/MBD)\",COUNTRY_INFO!$U$9:$U$1000=\"T1 (PZQ+ALB/MBD)\"), \"T1 (PZQ+ALB/MBD)\", \" \")","v":"T1 (PZQ+ALB/MBD)"},"PZQ+MBD","July - 2018",null,64637,64637,null,64637,null,55576,null,55576," ",85.981713260207002," ",85.981713260207002]
[{"$f":"IF(COUNTRY_INFO!A59=0,\" \",COUNTRY_INFO!A59)","v":"Tanzania"},{"$f":"IF(COUNTRY_INFO!B59=0,\" \",COUNTRY_INFO!B59)","v":"Kigoma"},{"$f":"IF(COUNTRY_INFO!C59=0,\" \",COUNTRY_INFO!C59)","v":"Kigoma District Council"},{"$f":"IF(OR(COUNTRY_INFO!$T$9:$T$1000=\"T1 (PZQ+ALB/MBD)\",COUNTRY_INFO!$U$9:$U$1000=\"T1 (PZQ+ALB/MBD)\"), \"T1 (PZQ+ALB/MBD)\", \" \")","v":"T1 (PZQ+ALB/MBD)"},"PZQ+MBD","July - 2018",null,64669,64669,null,64669,null,53071,null,53071," ",82.065595571293812," ",82.065595571293812]
[{"$f":"IF(COUNTRY_INFO!A60=0,\" \",COUNTRY_INFO!A60)","v":"Tanzania"},{"$f":"IF(COUNTRY_INFO!B60=0,\" \",COUNTRY_INFO!B60)","v":"Kigoma"},{"$f":"IF(COUNTRY_INFO!C60=0,\" \",COUNTRY_INFO!C60)","v":"Kigoma-Ujiji Municipal Council"},{"$f":"IF(OR(COUNTRY_INFO!$T$9:$T$1000=\"T1 (PZQ+ALB/MBD)\",COUNTRY_INFO!$U$9:$U$1000=\"T1 (PZQ+ALB/MBD)\"), \"T1 (PZQ+ALB/MBD)\", \" \")","v":"T1 (PZQ+ALB/MBD)"},"PZQ+MBD","July - 2018",null,48963,48963,null,48963,null,43073,null,43073," ",87.970508343034538," ",87.970508343034538]
[{"$f":"IF(COUNTRY_INFO!A61=0,\" \",COUNTRY_INFO!A61)","v":"Tanzania"},{"$f":"IF(COUNTRY_INFO!B61=0,\" \",COUNTRY_INFO!B61)","v":"Kigoma"},{"$f":"IF(COUNTRY_INFO!C61=0,\" \",COUNTRY_INFO!C61)","v":"Uvinza District Council"},{"$f":"IF(OR(COUNTRY_INFO!$T$9:$T$1000=\"T1 (PZQ+ALB/MBD)\",COUNTRY_INFO!$U$9:$U$1000=\"T1 (PZQ+ALB/MBD)\"), \"T1 (PZQ+ALB/MBD)\", \" \")","v":"T1 (PZQ+ALB/MBD)"},"PZQ+MBD","July - 2018",null,91484,91484,null,91484,null,71047,null,71047," ",77.660574526693196," ",77.660574526693196]
[{"$f":"IF(COUNTRY_INFO!A62=0,\" \",COUNTRY_INFO!A62)","v":"Tanzania"},{"$f":"IF(COUNTRY_INFO!B62=0,\" \",COUNTRY_INFO!B62)","v":"Kilimanjaro"},{"$f":"IF(COUNTRY_INFO!C62=0,\" \",COUNTRY_INFO!C62)","v":"Hai District Council"},{"$f":"IF(OR(COUNTRY_INFO!$T$9:$T$1000=\"T1 (PZQ+ALB/MBD)\",COUNTRY_INFO!$U$9:$U$1000=\"T1 (PZQ+ALB/MBD)\"), \"T1 (PZQ+ALB/MBD)\", \" \")","v":" "},null,null,null,null,null,null,0,null,null,null,0," "," "," "," "]
[{"$f":"IF(COUNTRY_INFO!A63=0,\" \",COUNTRY_INFO!A63)","v":"Tanzania"},{"$f":"IF(COUNTRY_INFO!B63=0,\" \",COUNTRY_INFO!B63)","v":"Kilimanjaro"},{"$f":"IF(COUNTRY_INFO!C63=0,\" \",COUNTRY_INFO!C63)","v":"Moshi District Council"},{"$f":"IF(OR(COUNTRY_INFO!$T$9:$T$1000=\"T1 (PZQ+ALB/MBD)\",COUNTRY_INFO!$U$9:$U$1000=\"T1 (PZQ+ALB/MBD)\"), \"T1 (PZQ+ALB/MBD)\", \" \")","v":" "},null,null,null,null,null,null,0,null,null,null,0," "," "," "," "]
[{"$f":"IF(COUNTRY_INFO!A64=0,\" \",COUNTRY_INFO!A64)","v":"Tanzania"},{"$f":"IF(COUNTRY_INFO!B64=0,\" \",COUNTRY_INFO!B64)","v":"Kilimanjaro"},{"$f":"IF(COUNTRY_INFO!C64=0,\" \",COUNTRY_INFO!C64)","v":"Moshi Municipal Council"},{"$f":"IF(OR(COUNTRY_INFO!$T$9:$T$1000=\"T1 (PZQ+ALB/MBD)\",COUNTRY_INFO!$U$9:$U$1000=\"T1 (PZQ+ALB/MBD)\"), \"T1 (PZQ+ALB/MBD)\", \" \")","v":" "},null,null,null,null,null,null,0,null,null,null,0," "," "," "," "]
[{"$f":"IF(COUNTRY_INFO!A65=0,\" \",COUNTRY_INFO!A65)","v":"Tanzania"},{"$f":"IF(COUNTRY_INFO!B65=0,\" \",COUNTRY_INFO!B65)","v":"Kilimanjaro"},{"$f":"IF(COUNTRY_INFO!C65=0,\" \",COUNTRY_INFO!C65)","v":"Mwanga District Council"},{"$f":"IF(OR(COUNTRY_INFO!$T$9:$T$1000=\"T1 (PZQ+ALB/MBD)\",COUNTRY_INFO!$U$9:$U$1000=\"T1 (PZQ+ALB/MBD)\"), \"T1 (PZQ+ALB/MBD)\", \" \")","v":" "},null,null,null,null,null,null,0,null,null,null,0," "," "," "," "]
[{"$f":"IF(COUNTRY_INFO!A66=0,\" \",COUNTRY_INFO!A66)","v":"Tanzania"},{"$f":"IF(COUNTRY_INFO!B66=0,\" \",COUNTRY_INFO!B66)","v":"Kilimanjaro"},{"$f":"IF(COUNTRY_INFO!C66=0,\" \",COUNTRY_INFO!C66)","v":"Rombo District Council"},{"$f":"IF(OR(COUNTRY_INFO!$T$9:$T$1000=\"T1 (PZQ+ALB/MBD)\",COUNTRY_INFO!$U$9:$U$1000=\"T1 (PZQ+ALB/MBD)\"), \"T1 (PZQ+ALB/MBD)\", \" \")","v":" "},null,null,null,null,null,null,0,null,null,null,0," "," "," "," "]
[{"$f":"IF(COUNTRY_INFO!A67=0,\" \",COUNTRY_INFO!A67)","v":"Tanzania"},{"$f":"IF(COUNTRY_INFO!B67=0,\" \",COUNTRY_INFO!B67)","v":"Kilimanjaro"},{"$f":"IF(COUNTRY_INFO!C67=0,\" \",COUNTRY_INFO!C67)","v":"Same District Council"},{"$f":"IF(OR(COUNTRY_INFO!$T$9:$T$1000=\"T1 (PZQ+ALB/MBD)\",COUNTRY_INFO!$U$9:$U$1000=\"T1 (PZQ+ALB/MBD)\"), \"T1 (PZQ+ALB/MBD)\", \" \")","v":" "},null,null,null,null,null,null,0,null,null,null,0," "," "," "," "]
[{"$f":"IF(COUNTRY_INFO!A68=0,\" \",COUNTRY_INFO!A68)","v":"Tanzania"},{"$f":"IF(COUNTRY_INFO!B68=0,\" \",COUNTRY_INFO!B68)","v":"Kilimanjaro"},{"$f":"IF(COUNTRY_INFO!C68=0,\" \",COUNTRY_INFO!C68)","v":"Siha District Council"},{"$f":"IF(OR(COUNTRY_INFO!$T$9:$T$1000=\"T1 (PZQ+ALB/MBD)\",COUNTRY_INFO!$U$9:$U$1000=\"T1 (PZQ+ALB/MBD)\"), \"T1 (PZQ+ALB/MBD)\", \" \")","v":" "},null,null,null,null,null,null,0,null,null,null,0," "," "," "," "]
[{"$f":"IF(COUNTRY_INFO!A69=0,\" \",COUNTRY_INFO!A69)","v":"Tanzania"},{"$f":"IF(COUNTRY_INFO!B69=0,\" \",COUNTRY_INFO!B69)","v":"Lindi"},{"$f":"IF(COUNTRY_INFO!C69=0,\" \",COUNTRY_INFO!C69)","v":"Kilwa District Council"},{"$f":"IF(OR(COUNTRY_INFO!$T$9:$T$1000=\"T1 (PZQ+ALB/MBD)\",COUNTRY_INFO!$U$9:$U$1000=\"T1 (PZQ+ALB/MBD)\"), \"T1 (PZQ+ALB/MBD)\", \" \")","v":" "},null,null,null,null,null,null,0,null,null,null,0," "," "," "," "]
[{"$f":"IF(COUNTRY_INFO!A70=0,\" \",COUNTRY_INFO!A70)","v":"Tanzania"},{"$f":"IF(COUNTRY_INFO!B70=0,\" \",COUNTRY_INFO!B70)","v":"Lindi"},{"$f":"IF(COUNTRY_INFO!C70=0,\" \",COUNTRY_INFO!C70)","v":"Lindi District Council"},{"$f":"IF(OR(COUNTRY_INFO!$T$9:$T$1000=\"T1 (PZQ+ALB/MBD)\",COUNTRY_INFO!$U$9:$U$1000=\"T1 (PZQ+ALB/MBD)\"), \"T1 (PZQ+ALB/MBD)\", \" \")","v":" "},null,null,null,null,null,null,0,null,null,null,0," "," "," "," "]
[{"$f":"IF(COUNTRY_INFO!A71=0,\" \",COUNTRY_INFO!A71)","v":"Tanzania"},{"$f":"IF(COUNTRY_INFO!B71=0,\" \",COUNTRY_INFO!B71)","v":"Lindi"},{"$f":"IF(COUNTRY_INFO!C71=0,\" \",COUNTRY_INFO!C71)","v":"Lindi Municipal Council"},{"$f":"IF(OR(COUNTRY_INFO!$T$9:$T$1000=\"T1 (PZQ+ALB/MBD)\",COUNTRY_INFO!$U$9:$U$1000=\"T1 (PZQ+ALB/MBD)\"), \"T1 (PZQ+ALB/MBD)\", \" \")","v":" "},null,null,null,null,null,null,0,null,null,null,0," "," "," "," "]
[{"$f":"IF(COUNTRY_INFO!A72=0,\" \",COUNTRY_INFO!A72)","v":"Tanzania"},{"$f":"IF(COUNTRY_INFO!B72=0,\" \",COUNTRY_INFO!B72)","v":"Lindi"},{"$f":"IF(COUNTRY_INFO!C72=0,\" \",COUNTRY_INFO!C72)","v":"Liwale District Council"},{"$f":"IF(OR(COUNTRY_INFO!$T$9:$T$1000=\"T1 (PZQ+ALB/MBD)\",COUNTRY_INFO!$U$9:$U$1000=\"T1 (PZQ+ALB/MBD)\"), \"T1 (PZQ+ALB/MBD)\", \" \")","v":" "},null,null,null,null,null,null,0,null,null,null,0," "," "," "," "]
[{"$f":"IF(COUNTRY_INFO!A73=0,\" \",COUNTRY_INFO!A73)","v":"Tanzania"},{"$f":"IF(COUNTRY_INFO!B73=0,\" \",COUNTRY_INFO!B73)","v":"Lindi"},{"$f":"IF(COUNTRY_INFO!C73=0,\" \",COUNTRY_INFO!C73)","v":"Nachingwea District Council"},{"$f":"IF(OR(COUNTRY_INFO!$T$9:$T$1000=\"T1 (PZQ+ALB/MBD)\",COUNTRY_INFO!$U$9:$U$1000=\"T1 (PZQ+ALB/MBD)\"), \"T1 (PZQ+ALB/MBD)\", \" \")","v":"T1 (PZQ+ALB/MBD)"},"PZQ+ALB","April - 2018",null,34062,34062,null,34062,null,29107,null,29107," ",85.452997475192291," ",85.452997475192291]
[{"$f":"IF(COUNTRY_INFO!A74=0,\" \",COUNTRY_INFO!A74)","v":"Tanzania"},{"$f":"IF(COUNTRY_INFO!B74=0,\" \",COUNTRY_INFO!B74)","v":"Lindi"},{"$f":"IF(COUNTRY_INFO!C74=0,\" \",COUNTRY_INFO!C74)","v":"Ruangwa District Council"},{"$f":"IF(OR(COUNTRY_INFO!$T$9:$T$1000=\"T1 (PZQ+ALB/MBD)\",COUNTRY_INFO!$U$9:$U$1000=\"T1 (PZQ+ALB/MBD)\"), \"T1 (PZQ+ALB/MBD)\", \" \")","v":"T1 (PZQ+ALB/MBD)"},"PZQ+ALB","May - 2018",null,28226,28226,null,{"$f":"MAX(H74:I74)+G74+J74","v":28226},null,24482,null,{"$f":"SUM(L74:N74)","v":24482},{"$f":"IF(G74<>0, IF(L74/G74*100=0, \"-\", L74/G74*100), \" \")","v":" "},{"$f":"IF(OR(I74<>0,H74<>0), IF(M74/MAX(H74,I74)*100=0, \"-\", M74/MAX(H74,I74)*100), \" \")","v":86.735633812796706},{"$f":"IF(J74<>0, IF(N74/J74*100=0, \"-\", N74/J74*100), \" \")","v":" "},{"$f":"IF(K74<>0, IF(O74/K74*100=0, \"-\", O74/K74*100), \" \")","v":86.735633812796706}]
[{"$f":"IF(COUNTRY_INFO!A75=0,\" \",COUNTRY_INFO!A75)","v":"Tanzania"},{"$f":"IF(COUNTRY_INFO!B75=0,\" \",COUNTRY_INFO!B75)","v":"Manyara"},{"$f":"IF(COUNTRY_INFO!C75=0,\" \",COUNTRY_INFO!C75)","v":"Babati District Council"},{"$f":"IF(OR(COUNTRY_INFO!$T$9:$T$1000=\"T1 (PZQ+ALB/MBD)\",COUNTRY_INFO!$U$9:$U$1000=\"T1 (PZQ+ALB/MBD)\"), \"T1 (PZQ+ALB/MBD)\", \" \")","v":" "},null,null,null,null,null,null,0,null,null,null,0," "," "," "," "]
[{"$f":"IF(COUNTRY_INFO!A76=0,\" \",COUNTRY_INFO!A76)","v":"Tanzania"},{"$f":"IF(COUNTRY_INFO!B76=0,\" \",COUNTRY_INFO!B76)","v":"Manyara"},{"$f":"IF(COUNTRY_INFO!C76=0,\" \",COUNTRY_INFO!C76)","v":"Babati Town Council"},{"$f":"IF(OR(COUNTRY_INFO!$T$9:$T$1000=\"T1 (PZQ+ALB/MBD)\",COUNTRY_INFO!$U$9:$U$1000=\"T1 (PZQ+ALB/MBD)\"), \"T1 (PZQ+ALB/MBD)\", \" \")","v":" "},null,null,null,null,null,null,0,null,null,null,0," "," "," "," "]
[{"$f":"IF(COUNTRY_INFO!A77=0,\" \",COUNTRY_INFO!A77)","v":"Tanzania"},{"$f":"IF(COUNTRY_INFO!B77=0,\" \",COUNTRY_INFO!B77)","v":"Manyara"},{"$f":"IF(COUNTRY_INFO!C77=0,\" \",COUNTRY_INFO!C77)","v":"Hanang District Council"},{"$f":"IF(OR(COUNTRY_INFO!$T$9:$T$1000=\"T1 (PZQ+ALB/MBD)\",COUNTRY_INFO!$U$9:$U$1000=\"T1 (PZQ+ALB/MBD)\"), \"T1 (PZQ+ALB/MBD)\", \" \")","v":" "},null,null,null,null,null,null,0,null,null,null,0," "," "," "," "]
[{"$f":"IF(COUNTRY_INFO!A78=0,\" \",COUNTRY_INFO!A78)","v":"Tanzania"},{"$f":"IF(COUNTRY_INFO!B78=0,\" \",COUNTRY_INFO!B78)","v":"Manyara"},{"$f":"IF(COUNTRY_INFO!C78=0,\" \",COUNTRY_INFO!C78)","v":"Kiteto District Council"},{"$f":"IF(OR(COUNTRY_INFO!$T$9:$T$1000=\"T1 (PZQ+ALB/MBD)\",COUNTRY_INFO!$U$9:$U$1000=\"T1 (PZQ+ALB/MBD)\"), \"T1 (PZQ+ALB/MBD)\", \" \")","v":" "},null,null,null,null,null,null,0,null,null,null,0," "," "," "," "]
[{"$f":"IF(COUNTRY_INFO!A79=0,\" \",COUNTRY_INFO!A79)","v":"Tanzania"},{"$f":"IF(COUNTRY_INFO!B79=0,\" \",COUNTRY_INFO!B79)","v":"Manyara"},{"$f":"IF(COUNTRY_INFO!C79=0,\" \",COUNTRY_INFO!C79)","v":"Mbulu District Council"},{"$f":"IF(OR(COUNTRY_INFO!$T$9:$T$1000=\"T1 (PZQ+ALB/MBD)\",COUNTRY_INFO!$U$9:$U$1000=\"T1 (PZQ+ALB/MBD)\"), \"T1 (PZQ+ALB/MBD)\", \" \")","v":" "},null,null,null,null,null,null,0,null,null,null,0," "," "," "," "]
[{"$f":"IF(COUNTRY_INFO!A80=0,\" \",COUNTRY_INFO!A80)","v":"Tanzania"},{"$f":"IF(COUNTRY_INFO!B80=0,\" \",COUNTRY_INFO!B80)","v":"Manyara"},{"$f":"IF(COUNTRY_INFO!C80=0,\" \",COUNTRY_INFO!C80)","v":"Mbulu Town Council"},{"$f":"IF(OR(COUNTRY_INFO!$T$9:$T$1000=\"T1 (PZQ+ALB/MBD)\",COUNTRY_INFO!$U$9:$U$1000=\"T1 (PZQ+ALB/MBD)\"), \"T1 (PZQ+ALB/MBD)\", \" \")","v":" "},null,null,null,null,null,null,0,null,null,null,0," "," "," "," "]
[{"$f":"IF(COUNTRY_INFO!A81=0,\" \",COUNTRY_INFO!A81)","v":"Tanzania"},{"$f":"IF(COUNTRY_INFO!B81=0,\" \",COUNTRY_INFO!B81)","v":"Manyara"},{"$f":"IF(COUNTRY_INFO!C81=0,\" \",COUNTRY_INFO!C81)","v":"Simanjiro District Council"},{"$f":"IF(OR(COUNTRY_INFO!$T$9:$T$1000=\"T1 (PZQ+ALB/MBD)\",COUNTRY_INFO!$U$9:$U$1000=\"T1 (PZQ+ALB/MBD)\"), \"T1 (PZQ+ALB/MBD)\", \" \")","v":" "},null,null,null,null,null,null,0,null,null,null,0," "," "," "," "]
[{"$f":"IF(COUNTRY_INFO!A82=0,\" \",COUNTRY_INFO!A82)","v":"Tanzania"},{"$f":"IF(COUNTRY_INFO!B82=0,\" \",COUNTRY_INFO!B82)","v":"Mara"},{"$f":"IF(COUNTRY_INFO!C82=0,\" \",COUNTRY_INFO!C82)","v":"Bunda District Council"},{"$f":"IF(OR(COUNTRY_INFO!$T$9:$T$1000=\"T1 (PZQ+ALB/MBD)\",COUNTRY_INFO!$U$9:$U$1000=\"T1 (PZQ+ALB/MBD)\"), \"T1 (PZQ+ALB/MBD)\", \" \")","v":"T1 (PZQ+ALB/MBD)"},"PZQ+ALB","July - 2018",null,69027,69027,null,69027,null,56664,null,56664," ",82.089617106349692," ",82.089617106349692]
[{"$f":"IF(COUNTRY_INFO!A83=0,\" \",COUNTRY_INFO!A83)","v":"Tanzania"},{"$f":"IF(COUNTRY_INFO!B83=0,\" \",COUNTRY_INFO!B83)","v":"Mara"},{"$f":"IF(COUNTRY_INFO!C83=0,\" \",COUNTRY_INFO!C83)","v":"Bunda Town Council"},{"$f":"IF(OR(COUNTRY_INFO!$T$9:$T$1000=\"T1 (PZQ+ALB/MBD)\",COUNTRY_INFO!$U$9:$U$1000=\"T1 (PZQ+ALB/MBD)\"), \"T1 (PZQ+ALB/MBD)\", \" \")","v":"T1 (PZQ+ALB/MBD)"},"PZQ+ALB","July - 2018",null,48875,48875,null,48875,null,34978,null,34978," ",71.566240409207154," ",71.566240409207154]
[{"$f":"IF(COUNTRY_INFO!A84=0,\" \",COUNTRY_INFO!A84)","v":"Tanzania"},{"$f":"IF(COUNTRY_INFO!B84=0,\" \",COUNTRY_INFO!B84)","v":"Mara"},{"$f":"IF(COUNTRY_INFO!C84=0,\" \",COUNTRY_INFO!C84)","v":"Butiama District Council"},{"$f":"IF(OR(COUNTRY_INFO!$T$9:$T$1000=\"T1 (PZQ+ALB/MBD)\",COUNTRY_INFO!$U$9:$U$1000=\"T1 (PZQ+ALB/MBD)\"), \"T1 (PZQ+ALB/MBD)\", \" \")","v":"T1 (PZQ+ALB/MBD)"},"PZQ+ALB","July - 2018",null,58537,58537,null,58537,null,56761,null,56761," ",96.966021490681115," ",96.966021490681115]
[{"$f":"IF(COUNTRY_INFO!A85=0,\" \",COUNTRY_INFO!A85)","v":"Tanzania"},{"$f":"IF(COUNTRY_INFO!B85=0,\" \",COUNTRY_INFO!B85)","v":"Mara"},{"$f":"IF(COUNTRY_INFO!C85=0,\" \",COUNTRY_INFO!C85)","v":"Musoma District Council"},{"$f":"IF(OR(COUNTRY_INFO!$T$9:$T$1000=\"T1 (PZQ+ALB/MBD)\",COUNTRY_INFO!$U$9:$U$1000=\"T1 (PZQ+ALB/MBD)\"), \"T1 (PZQ+ALB/MBD)\", \" \")","v":"T1 (PZQ+ALB/MBD)"},"PZQ+ALB","July - 2018",null,70497,70497,null,70497,null,59395,null,59395," ",84.251812133849668," ",84.251812133849668]
[{"$f":"IF(COUNTRY_INFO!A86=0,\" \",COUNTRY_INFO!A86)","v":"Tanzania"},{"$f":"IF(COUNTRY_INFO!B86=0,\" \",COUNTRY_INFO!B86)","v":"Mara"},{"$f":"IF(COUNTRY_INFO!C86=0,\" \",COUNTRY_INFO!C86)","v":"Musoma Municipal Council"},{"$f":"IF(OR(COUNTRY_INFO!$T$9:$T$1000=\"T1 (PZQ+ALB/MBD)\",COUNTRY_INFO!$U$9:$U$1000=\"T1 (PZQ+ALB/MBD)\"), \"T1 (PZQ+ALB/MBD)\", \" \")","v":"T1 (PZQ+ALB/MBD)"},"PZQ+ALB","July - 2018",null,42996,42996,null,42996,null,38114,null,38114," ",88.645455391199178," ",88.645455391199178]
[{"$f":"IF(COUNTRY_INFO!A87=0,\" \",COUNTRY_INFO!A87)","v":"Tanzania"},{"$f":"IF(COUNTRY_INFO!B87=0,\" \",COUNTRY_INFO!B87)","v":"Mara"},{"$f":"IF(COUNTRY_INFO!C87=0,\" \",COUNTRY_INFO!C87)","v":"Rorya District Council"},{"$f":"IF(OR(COUNTRY_INFO!$T$9:$T$1000=\"T1 (PZQ+ALB/MBD)\",COUNTRY_INFO!$U$9:$U$1000=\"T1 (PZQ+ALB/MBD)\"), \"T1 (PZQ+ALB/MBD)\", \" \")","v":"T1 (PZQ+ALB/MBD)"},"PZQ+ALB","July - 2018",null,100375,100375,null,100375,null,86090,null,86090," ",85.768368617683691," ",85.768368617683691]
[{"$f":"IF(COUNTRY_INFO!A88=0,\" \",COUNTRY_INFO!A88)","v":"Tanzania"},{"$f":"IF(COUNTRY_INFO!B88=0,\" \",COUNTRY_INFO!B88)","v":"Mara"},{"$f":"IF(COUNTRY_INFO!C88=0,\" \",COUNTRY_INFO!C88)","v":"Serengeti District Council"},{"$f":"IF(OR(COUNTRY_INFO!$T$9:$T$1000=\"T1 (PZQ+ALB/MBD)\",COUNTRY_INFO!$U$9:$U$1000=\"T1 (PZQ+ALB/MBD)\"), \"T1 (PZQ+ALB/MBD)\", \" \")","v":"T1 (PZQ+ALB/MBD)"},"PZQ+ALB","July - 2018",null,82764,82764,null,82764,null,64909,null,64909," ",78.426610603644093," ",78.426610603644093]
[{"$f":"IF(COUNTRY_INFO!A89=0,\" \",COUNTRY_INFO!A89)","v":"Tanzania"},{"$f":"IF(COUNTRY_INFO!B89=0,\" \",COUNTRY_INFO!B89)","v":"Mara"},{"$f":"IF(COUNTRY_INFO!C89=0,\" \",COUNTRY_INFO!C89)","v":"Tarime District Council"},{"$f":"IF(OR(COUNTRY_INFO!$T$9:$T$1000=\"T1 (PZQ+ALB/MBD)\",COUNTRY_INFO!$U$9:$U$1000=\"T1 (PZQ+ALB/MBD)\"), \"T1 (PZQ+ALB/MBD)\", \" \")","v":"T1 (PZQ+ALB/MBD)"},"PZQ+ALB","July - 2018",null,102779,102779,null,102779,null,75603,null,75603," ",73.558800922367411," ",73.558800922367411]
[{"$f":"IF(COUNTRY_INFO!A90=0,\" \",COUNTRY_INFO!A90)","v":"Tanzania"},{"$f":"IF(COUNTRY_INFO!B90=0,\" \",COUNTRY_INFO!B90)","v":"Mara"},{"$f":"IF(COUNTRY_INFO!C90=0,\" \",COUNTRY_INFO!C90)","v":"Tarime Town Council"},{"$f":"IF(OR(COUNTRY_INFO!$T$9:$T$1000=\"T1 (PZQ+ALB/MBD)\",COUNTRY_INFO!$U$9:$U$1000=\"T1 (PZQ+ALB/MBD)\"), \"T1 (PZQ+ALB/MBD)\", \" \")","v":"T1 (PZQ+ALB/MBD)"},"PZQ+ALB","July - 2018",null,33251,33251,null,33251,null,30266,null,30266," ",91.022826381161465," ",91.022826381161465]
[{"$f":"IF(COUNTRY_INFO!A91=0,\" \",COUNTRY_INFO!A91)","v":"Tanzania"},{"$f":"IF(COUNTRY_INFO!B91=0,\" \",COUNTRY_INFO!B91)","v":"Mbeya"},{"$f":"IF(COUNTRY_INFO!C91=0,\" \",COUNTRY_INFO!C91)","v":"Busokelo District Council"},{"$f":"IF(OR(COUNTRY_INFO!$T$9:$T$1000=\"T1 (PZQ+ALB/MBD)\",COUNTRY_INFO!$U$9:$U$1000=\"T1 (PZQ+ALB/MBD)\"), \"T1 (PZQ+ALB/MBD)\", \" \")","v":"T1 (PZQ+ALB/MBD)"},"PZQ+ALB","July - 2018",null,22009,22009,null,22009,null,21999,null,21999," ",99.954564041982835," ",99.954564041982835]
[{"$f":"IF(COUNTRY_INFO!A92=0,\" \",COUNTRY_INFO!A92)","v":"Tanzania"},{"$f":"IF(COUNTRY_INFO!B92=0,\" \",COUNTRY_INFO!B92)","v":"Mbeya"},{"$f":"IF(COUNTRY_INFO!C92=0,\" \",COUNTRY_INFO!C92)","v":"Chunya District Council"},{"$f":"IF(OR(COUNTRY_INFO!$T$9:$T$1000=\"T1 (PZQ+ALB/MBD)\",COUNTRY_INFO!$U$9:$U$1000=\"T1 (PZQ+ALB/MBD)\"), \"T1 (PZQ+ALB/MBD)\", \" \")","v":"T1 (PZQ+ALB/MBD)"},"PZQ+ALB","July - 2018",null,38511,38511,null,38511,null,38511,null,38511," ",100," ",100]
[{"$f":"IF(COUNTRY_INFO!A93=0,\" \",COUNTRY_INFO!A93)","v":"Tanzania"},{"$f":"IF(COUNTRY_INFO!B93=0,\" \",COUNTRY_INFO!B93)","v":"Mbeya"},{"$f":"IF(COUNTRY_INFO!C93=0,\" \",COUNTRY_INFO!C93)","v":"Kyela District Council"},{"$f":"IF(OR(COUNTRY_INFO!$T$9:$T$1000=\"T1 (PZQ+ALB/MBD)\",COUNTRY_INFO!$U$9:$U$1000=\"T1 (PZQ+ALB/MBD)\"), \"T1 (PZQ+ALB/MBD)\", \" \")","v":"T1 (PZQ+ALB/MBD)"},"PZQ+ALB","July - 2018",null,55882,55882,null,55882,null,54764,null,54764," ",97.999355785404958," ",97.999355785404958]
[{"$f":"IF(COUNTRY_INFO!A94=0,\" \",COUNTRY_INFO!A94)","v":"Tanzania"},{"$f":"IF(COUNTRY_INFO!B94=0,\" \",COUNTRY_INFO!B94)","v":"Mbeya"},{"$f":"IF(COUNTRY_INFO!C94=0,\" \",COUNTRY_INFO!C94)","v":"Mbarali District Council"},{"$f":"IF(OR(COUNTRY_INFO!$T$9:$T$1000=\"T1 (PZQ+ALB/MBD)\",COUNTRY_INFO!$U$9:$U$1000=\"T1 (PZQ+ALB/MBD)\"), \"T1 (PZQ+ALB/MBD)\", \" \")","v":"T1 (PZQ+ALB/MBD)"},"PZQ+ALB","July - 2018",null,66217,66217,null,66217,null,47034,null,47034," ",71.03009801108476," ",71.03009801108476]
[{"$f":"IF(COUNTRY_INFO!A95=0,\" \",COUNTRY_INFO!A95)","v":"Tanzania"},{"$f":"IF(COUNTRY_INFO!B95=0,\" \",COUNTRY_INFO!B95)","v":"Mbeya"},{"$f":"IF(COUNTRY_INFO!C95=0,\" \",COUNTRY_INFO!C95)","v":"Mbeya City Council"},{"$f":"IF(OR(COUNTRY_INFO!$T$9:$T$1000=\"T1 (PZQ+ALB/MBD)\",COUNTRY_INFO!$U$9:$U$1000=\"T1 (PZQ+ALB/MBD)\"), \"T1 (PZQ+ALB/MBD)\", \" \")","v":"T1 (PZQ+ALB/MBD)"},"PZQ+ALB","July - 2018",null,74111,74111,null,74111,null,65838,null,65838," ",88.83701474814805," ",88.83701474814805]
[{"$f":"IF(COUNTRY_INFO!A96=0,\" \",COUNTRY_INFO!A96)","v":"Tanzania"},{"$f":"IF(COUNTRY_INFO!B96=0,\" \",COUNTRY_INFO!B96)","v":"Mbeya"},{"$f":"IF(COUNTRY_INFO!C96=0,\" \",COUNTRY_INFO!C96)","v":"Mbeya District Council"},{"$f":"IF(OR(COUNTRY_INFO!$T$9:$T$1000=\"T1 (PZQ+ALB/MBD)\",COUNTRY_INFO!$U$9:$U$1000=\"T1 (PZQ+ALB/MBD)\"), \"T1 (PZQ+ALB/MBD)\", \" \")","v":"T1 (PZQ+ALB/MBD)"},"PZQ+ALB","July - 2018",null,74576,74576,null,74576,null,71325,null,71325," ",95.640688693413438," ",95.640688693413438]
[{"$f":"IF(COUNTRY_INFO!A97=0,\" \",COUNTRY_INFO!A97)","v":"Tanzania"},{"$f":"IF(COUNTRY_INFO!B97=0,\" \",COUNTRY_INFO!B97)","v":"Mbeya"},{"$f":"IF(COUNTRY_INFO!C97=0,\" \",COUNTRY_INFO!C97)","v":"Rungwe District Council"},{"$f":"IF(OR(COUNTRY_INFO!$T$9:$T$1000=\"T1 (PZQ+ALB/MBD)\",COUNTRY_INFO!$U$9:$U$1000=\"T1 (PZQ+ALB/MBD)\"), \"T1 (PZQ+ALB/MBD)\", \" \")","v":"T1 (PZQ+ALB/MBD)"},"PZQ+ALB","July - 2018",null,55465,55465,null,55465,null,51845,null,51845," ",93.473361579374384," ",93.473361579374384]
[{"$f":"IF(COUNTRY_INFO!A98=0,\" \",COUNTRY_INFO!A98)","v":"Tanzania"},{"$f":"IF(COUNTRY_INFO!B98=0,\" \",COUNTRY_INFO!B98)","v":"Morogoro"},{"$f":"IF(COUNTRY_INFO!C98=0,\" \",COUNTRY_INFO!C98)","v":"Gairo District Council"},{"$f":"IF(OR(COUNTRY_INFO!$T$9:$T$1000=\"T1 (PZQ+ALB/MBD)\",COUNTRY_INFO!$U$9:$U$1000=\"T1 (PZQ+ALB/MBD)\"), \"T1 (PZQ+ALB/MBD)\", \" \")","v":"T1 (PZQ+ALB/MBD)"},"PZQ+ALB","July - 2018",null,47640,47640,null,47640,null,38084,null,38084," ",79.94122586062133," ",79.94122586062133]
[{"$f":"IF(COUNTRY_INFO!A99=0,\" \",COUNTRY_INFO!A99)","v":"Tanzania"},{"$f":"IF(COUNTRY_INFO!B99=0,\" \",COUNTRY_INFO!B99)","v":"Morogoro"},{"$f":"IF(COUNTRY_INFO!C99=0,\" \",COUNTRY_INFO!C99)","v":"Ifakara Town Council"},{"$f":"IF(OR(COUNTRY_INFO!$T$9:$T$1000=\"T1 (PZQ+ALB/MBD)\",COUNTRY_INFO!$U$9:$U$1000=\"T1 (PZQ+ALB/MBD)\"), \"T1 (PZQ+ALB/MBD)\", \" \")","v":" "},null,null,null,null,null,null,0,null,null,null,0," "," "," "," "]
[{"$f":"IF(COUNTRY_INFO!A100=0,\" \",COUNTRY_INFO!A100)","v":"Tanzania"},{"$f":"IF(COUNTRY_INFO!B100=0,\" \",COUNTRY_INFO!B100)","v":"Morogoro"},{"$f":"IF(COUNTRY_INFO!C100=0,\" \",COUNTRY_INFO!C100)","v":"Kilombero District Council"},{"$f":"IF(OR(COUNTRY_INFO!$T$9:$T$1000=\"T1 (PZQ+ALB/MBD)\",COUNTRY_INFO!$U$9:$U$1000=\"T1 (PZQ+ALB/MBD)\"), \"T1 (PZQ+ALB/MBD)\", \" \")","v":" "},null,null,null,null,null,null,0,null,null,null,0," "," "," "," "]
[{"$f":"IF(COUNTRY_INFO!A101=0,\" \",COUNTRY_INFO!A101)","v":"Tanzania"},{"$f":"IF(COUNTRY_INFO!B101=0,\" \",COUNTRY_INFO!B101)","v":"Morogoro"},{"$f":"IF(COUNTRY_INFO!C101=0,\" \",COUNTRY_INFO!C101)","v":"Kilosa District Council"},{"$f":"IF(OR(COUNTRY_INFO!$T$9:$T$1000=\"T1 (PZQ+ALB/MBD)\",COUNTRY_INFO!$U$9:$U$1000=\"T1 (PZQ+ALB/MBD)\"), \"T1 (PZQ+ALB/MBD)\", \" \")","v":" "},null,null,null,null,null,null,0,null,null,null,0," "," "," "," "]
[{"$f":"IF(COUNTRY_INFO!A102=0,\" \",COUNTRY_INFO!A102)","v":"Tanzania"},{"$f":"IF(COUNTRY_INFO!B102=0,\" \",COUNTRY_INFO!B102)","v":"Morogoro"},{"$f":"IF(COUNTRY_INFO!C102=0,\" \",COUNTRY_INFO!C102)","v":"Malinyi District Council"},{"$f":"IF(OR(COUNTRY_INFO!$T$9:$T$1000=\"T1 (PZQ+ALB/MBD)\",COUNTRY_INFO!$U$9:$U$1000=\"T1 (PZQ+ALB/MBD)\"), \"T1 (PZQ+ALB/MBD)\", \" \")","v":" "},null,null,null,null,null,null,0,null,null,null,0," "," "," "," "]
[{"$f":"IF(COUNTRY_INFO!A103=0,\" \",COUNTRY_INFO!A103)","v":"Tanzania"},{"$f":"IF(COUNTRY_INFO!B103=0,\" \",COUNTRY_INFO!B103)","v":"Morogoro"},{"$f":"IF(COUNTRY_INFO!C103=0,\" \",COUNTRY_INFO!C103)","v":"Morogoro District Council"},{"$f":"IF(OR(COUNTRY_INFO!$T$9:$T$1000=\"T1 (PZQ+ALB/MBD)\",COUNTRY_INFO!$U$9:$U$1000=\"T1 (PZQ+ALB/MBD)\"), \"T1 (PZQ+ALB/MBD)\", \" \")","v":" "},null,null,null,null,null,null,0,null,null,null,0," "," "," "," "]
[{"$f":"IF(COUNTRY_INFO!A104=0,\" \",COUNTRY_INFO!A104)","v":"Tanzania"},{"$f":"IF(COUNTRY_INFO!B104=0,\" \",COUNTRY_INFO!B104)","v":"Morogoro"},{"$f":"IF(COUNTRY_INFO!C104=0,\" \",COUNTRY_INFO!C104)","v":"Morogoro Municipal Council"},{"$f":"IF(OR(COUNTRY_INFO!$T$9:$T$1000=\"T1 (PZQ+ALB/MBD)\",COUNTRY_INFO!$U$9:$U$1000=\"T1 (PZQ+ALB/MBD)\"), \"T1 (PZQ+ALB/MBD)\", \" \")","v":" "},null,null,null,null,null,null,0,null,null,null,0," "," "," "," "]
[{"$f":"IF(COUNTRY_INFO!A105=0,\" \",COUNTRY_INFO!A105)","v":"Tanzania"},{"$f":"IF(COUNTRY_INFO!B105=0,\" \",COUNTRY_INFO!B105)","v":"Morogoro"},{"$f":"IF(COUNTRY_INFO!C105=0,\" \",COUNTRY_INFO!C105)","v":"Mvomero District Council"},{"$f":"IF(OR(COUNTRY_INFO!$T$9:$T$1000=\"T1 (PZQ+ALB/MBD)\",COUNTRY_INFO!$U$9:$U$1000=\"T1 (PZQ+ALB/MBD)\"), \"T1 (PZQ+ALB/MBD)\", \" \")","v":"T1 (PZQ+ALB/MBD)"},"PZQ+ALB","July - 2018",null,76386,76386,null,76386,null,69616,null,69616," ",91.137119367423352," ",91.137119367423352]
[{"$f":"IF(COUNTRY_INFO!A106=0,\" \",COUNTRY_INFO!A106)","v":"Tanzania"},{"$f":"IF(COUNTRY_INFO!B106=0,\" \",COUNTRY_INFO!B106)","v":"Morogoro"},{"$f":"IF(COUNTRY_INFO!C106=0,\" \",COUNTRY_INFO!C106)","v":"Ulanga District Council"},{"$f":"IF(OR(COUNTRY_INFO!$T$9:$T$1000=\"T1 (PZQ+ALB/MBD)\",COUNTRY_INFO!$U$9:$U$1000=\"T1 (PZQ+ALB/MBD)\"), \"T1 (PZQ+ALB/MBD)\", \" \")","v":" "},null,null,null,null,null,null,0,null,null,null,0," "," "," "," "]
[{"$f":"IF(COUNTRY_INFO!A107=0,\" \",COUNTRY_INFO!A107)","v":"Tanzania"},{"$f":"IF(COUNTRY_INFO!B107=0,\" \",COUNTRY_INFO!B107)","v":"Mtwara"},{"$f":"IF(COUNTRY_INFO!C107=0,\" \",COUNTRY_INFO!C107)","v":"Masasi District Council"},{"$f":"IF(OR(COUNTRY_INFO!$T$9:$T$1000=\"T1 (PZQ+ALB/MBD)\",COUNTRY_INFO!$U$9:$U$1000=\"T1 (PZQ+ALB/MBD)\"), \"T1 (PZQ+ALB/MBD)\", \" \")","v":"T1 (PZQ+ALB/MBD)"},"PZQ+ALB","May - 2018",null,57110,57110,null,57110,null,52749,null,52749," ",92.363859219050966," ",92.363859219050966]
[{"$f":"IF(COUNTRY_INFO!A108=0,\" \",COUNTRY_INFO!A108)","v":"Tanzania"},{"$f":"IF(COUNTRY_INFO!B108=0,\" \",COUNTRY_INFO!B108)","v":"Mtwara"},{"$f":"IF(COUNTRY_INFO!C108=0,\" \",COUNTRY_INFO!C108)","v":"Masasi Town Council"},{"$f":"IF(OR(COUNTRY_INFO!$T$9:$T$1000=\"T1 (PZQ+ALB/MBD)\",COUNTRY_INFO!$U$9:$U$1000=\"T1 (PZQ+ALB/MBD)\"), \"T1 (PZQ+ALB/MBD)\", \" \")","v":"T1 (PZQ+ALB/MBD)"},"PZQ+ALB","May - 2018",null,22887,22887,null,22887,null,21249,null,21249," ",92.843098702320091," ",92.843098702320091]
[{"$f":"IF(COUNTRY_INFO!A109=0,\" \",COUNTRY_INFO!A109)","v":"Tanzania"},{"$f":"IF(COUNTRY_INFO!B109=0,\" \",COUNTRY_INFO!B109)","v":"Mtwara"},{"$f":"IF(COUNTRY_INFO!C109=0,\" \",COUNTRY_INFO!C109)","v":"Mtwara District Council"},{"$f":"IF(OR(COUNTRY_INFO!$T$9:$T$1000=\"T1 (PZQ+ALB/MBD)\",COUNTRY_INFO!$U$9:$U$1000=\"T1 (PZQ+ALB/MBD)\"), \"T1 (PZQ+ALB/MBD)\", \" \")","v":"T1 (PZQ+ALB/MBD)"},"PZQ+ALB","April - 2018",null,32276,32276,null,32276,null,30331,null,30331," ",93.973850539100255," ",93.973850539100255]
[{"$f":"IF(COUNTRY_INFO!A110=0,\" \",COUNTRY_INFO!A110)","v":"Tanzania"},{"$f":"IF(COUNTRY_INFO!B110=0,\" \",COUNTRY_INFO!B110)","v":"Mtwara"},{"$f":"IF(COUNTRY_INFO!C110=0,\" \",COUNTRY_INFO!C110)","v":"Mtwara-Mikindani Municipal Council"},{"$f":"IF(OR(COUNTRY_INFO!$T$9:$T$1000=\"T1 (PZQ+ALB/MBD)\",COUNTRY_INFO!$U$9:$U$1000=\"T1 (PZQ+ALB/MBD)\"), \"T1 (PZQ+ALB/MBD)\", \" \")","v":" "},null,null,null,null,null,null,0,null,21915,null,21915," "," "," "," "]
[{"$f":"IF(COUNTRY_INFO!A111=0,\" \",COUNTRY_INFO!A111)","v":"Tanzania"},{"$f":"IF(COUNTRY_INFO!B111=0,\" \",COUNTRY_INFO!B111)","v":"Mtwara"},{"$f":"IF(COUNTRY_INFO!C111=0,\" \",COUNTRY_INFO!C111)","v":"Nanyamba District Council"},{"$f":"IF(OR(COUNTRY_INFO!$T$9:$T$1000=\"T1 (PZQ+ALB/MBD)\",COUNTRY_INFO!$U$9:$U$1000=\"T1 (PZQ+ALB/MBD)\"), \"T1 (PZQ+ALB/MBD)\", \" \")","v":"T1 (PZQ+ALB/MBD)"},"PZQ+ALB","March - 2018",null,27367,27367,null,27367,null,25499,null,25499," ",93.174260971242745," ",93.174260971242745]
[{"$f":"IF(COUNTRY_INFO!A112=0,\" \",COUNTRY_INFO!A112)","v":"Tanzania"},{"$f":"IF(COUNTRY_INFO!B112=0,\" \",COUNTRY_INFO!B112)","v":"Mtwara"},{"$f":"IF(COUNTRY_INFO!C112=0,\" \",COUNTRY_INFO!C112)","v":"Nanyumbu District Council"},{"$f":"IF(OR(COUNTRY_INFO!$T$9:$T$1000=\"T1 (PZQ+ALB/MBD)\",COUNTRY_INFO!$U$9:$U$1000=\"T1 (PZQ+ALB/MBD)\"), \"T1 (PZQ+ALB/MBD)\", \" \")","v":"T1 (PZQ+ALB/MBD)"},"PZQ+ALB","April - 2018",null,34666,34666,null,34666,null,32638,null,32638," ",94.149887497836488," ",94.149887497836488]
[{"$f":"IF(COUNTRY_INFO!A113=0,\" \",COUNTRY_INFO!A113)","v":"Tanzania"},{"$f":"IF(COUNTRY_INFO!B113=0,\" \",COUNTRY_INFO!B113)","v":"Mtwara"},{"$f":"IF(COUNTRY_INFO!C113=0,\" \",COUNTRY_INFO!C113)","v":"Newala District Council"},{"$f":"IF(OR(COUNTRY_INFO!$T$9:$T$1000=\"T1 (PZQ+ALB/MBD)\",COUNTRY_INFO!$U$9:$U$1000=\"T1 (PZQ+ALB/MBD)\"), \"T1 (PZQ+ALB/MBD)\", \" \")","v":" "},null,null,null,null,null,null,0,null,null,null,0," "," "," "," "]
[{"$f":"IF(COUNTRY_INFO!A114=0,\" \",COUNTRY_INFO!A114)","v":"Tanzania"},{"$f":"IF(COUNTRY_INFO!B114=0,\" \",COUNTRY_INFO!B114)","v":"Mtwara"},{"$f":"IF(COUNTRY_INFO!C114=0,\" \",COUNTRY_INFO!C114)","v":"Newala Town Council"},{"$f":"IF(OR(COUNTRY_INFO!$T$9:$T$1000=\"T1 (PZQ+ALB/MBD)\",COUNTRY_INFO!$U$9:$U$1000=\"T1 (PZQ+ALB/MBD)\"), \"T1 (PZQ+ALB/MBD)\", \" \")","v":" "},null,null,null,null,null,null,0,null,null,null,0," "," "," "," "]
[{"$f":"IF(COUNTRY_INFO!A115=0,\" \",COUNTRY_INFO!A115)","v":"Tanzania"},{"$f":"IF(COUNTRY_INFO!B115=0,\" \",COUNTRY_INFO!B115)","v":"Mtwara"},{"$f":"IF(COUNTRY_INFO!C115=0,\" \",COUNTRY_INFO!C115)","v":"Tandahimba District Council"},{"$f":"IF(OR(COUNTRY_INFO!$T$9:$T$1000=\"T1 (PZQ+ALB/MBD)\",COUNTRY_INFO!$U$9:$U$1000=\"T1 (PZQ+ALB/MBD)\"), \"T1 (PZQ+ALB/MBD)\", \" \")","v":" "},null,null,null,null,null,null,0,null,null,null,0," "," "," "," "]
[{"$f":"IF(COUNTRY_INFO!A116=0,\" \",COUNTRY_INFO!A116)","v":"Tanzania"},{"$f":"IF(COUNTRY_INFO!B116=0,\" \",COUNTRY_INFO!B116)","v":"Mwanza"},{"$f":"IF(COUNTRY_INFO!C116=0,\" \",COUNTRY_INFO!C116)","v":"Buchosa District Council"},{"$f":"IF(OR(COUNTRY_INFO!$T$9:$T$1000=\"T1 (PZQ+ALB/MBD)\",COUNTRY_INFO!$U$9:$U$1000=\"T1 (PZQ+ALB/MBD)\"), \"T1 (PZQ+ALB/MBD)\", \" \")","v":"T1 (PZQ+ALB/MBD)"},"PZQ+ALB","July - 2018",null,105840,105840,null,105840,null,88813,null,88813," ",83.912509448223744," ",83.912509448223744]
[{"$f":"IF(COUNTRY_INFO!A117=0,\" \",COUNTRY_INFO!A117)","v":"Tanzania"},{"$f":"IF(COUNTRY_INFO!B117=0,\" \",COUNTRY_INFO!B117)","v":"Mwanza"},{"$f":"IF(COUNTRY_INFO!C117=0,\" \",COUNTRY_INFO!C117)","v":"Ilemela Municipal Council"},{"$f":"IF(OR(COUNTRY_INFO!$T$9:$T$1000=\"T1 (PZQ+ALB/MBD)\",COUNTRY_INFO!$U$9:$U$1000=\"T1 (PZQ+ALB/MBD)\"), \"T1 (PZQ+ALB/MBD)\", \" \")","v":"T1 (PZQ+ALB/MBD)"},"PZQ+ALB","July - 2018",null,94743,94743,null,94743,null,84417,null,84417," ",89.101041765618575," ",89.101041765618575]
[{"$f":"IF(COUNTRY_INFO!A118=0,\" \",COUNTRY_INFO!A118)","v":"Tanzania"},{"$f":"IF(COUNTRY_INFO!B118=0,\" \",COUNTRY_INFO!B118)","v":"Mwanza"},{"$f":"IF(COUNTRY_INFO!C118=0,\" \",COUNTRY_INFO!C118)","v":"Kwimba District Council"},{"$f":"IF(OR(COUNTRY_INFO!$T$9:$T$1000=\"T1 (PZQ+ALB/MBD)\",COUNTRY_INFO!$U$9:$U$1000=\"T1 (PZQ+ALB/MBD)\"), \"T1 (PZQ+ALB/MBD)\", \" \")","v":"T1 (PZQ+ALB/MBD)"},"PZQ+ALB","July - 2018",null,114329,114329,null,114329,null,102908,null,102908," ",90.010408557758751," ",90.010408557758751]
[{"$f":"IF(COUNTRY_INFO!A119=0,\" \",COUNTRY_INFO!A119)","v":"Tanzania"},{"$f":"IF(COUNTRY_INFO!B119=0,\" \",COUNTRY_INFO!B119)","v":"Mwanza"},{"$f":"IF(COUNTRY_INFO!C119=0,\" \",COUNTRY_INFO!C119)","v":"Magu District Council"},{"$f":"IF(OR(COUNTRY_INFO!$T$9:$T$1000=\"T1 (PZQ+ALB/MBD)\",COUNTRY_INFO!$U$9:$U$1000=\"T1 (PZQ+ALB/MBD)\"), \"T1 (PZQ+ALB/MBD)\", \" \")","v":"T1 (PZQ+ALB/MBD)"},"PZQ+ALB","July - 2018",null,94743,94743,null,94743,null,82076,null,82076," ",86.630146818234593," ",86.630146818234593]
[{"$f":"IF(COUNTRY_INFO!A120=0,\" \",COUNTRY_INFO!A120)","v":"Tanzania"},{"$f":"IF(COUNTRY_INFO!B120=0,\" \",COUNTRY_INFO!B120)","v":"Mwanza"},{"$f":"IF(COUNTRY_INFO!C120=0,\" \",COUNTRY_INFO!C120)","v":"Misungwi District Council"},{"$f":"IF(OR(COUNTRY_INFO!$T$9:$T$1000=\"T1 (PZQ+ALB/MBD)\",COUNTRY_INFO!$U$9:$U$1000=\"T1 (PZQ+ALB/MBD)\"), \"T1 (PZQ+ALB/MBD)\", \" \")","v":"T1 (PZQ+ALB/MBD)"},"PZQ+ALB","July - 2018",null,101927,101927,null,101927,null,96155,null,96155," ",94.337123627694325," ",94.337123627694325]
[{"$f":"IF(COUNTRY_INFO!A121=0,\" \",COUNTRY_INFO!A121)","v":"Tanzania"},{"$f":"IF(COUNTRY_INFO!B121=0,\" \",COUNTRY_INFO!B121)","v":"Mwanza"},{"$f":"IF(COUNTRY_INFO!C121=0,\" \",COUNTRY_INFO!C121)","v":"Mwanza-Nyamagana City Council"},{"$f":"IF(OR(COUNTRY_INFO!$T$9:$T$1000=\"T1 (PZQ+ALB/MBD)\",COUNTRY_INFO!$U$9:$U$1000=\"T1 (PZQ+ALB/MBD)\"), \"T1 (PZQ+ALB/MBD)\", \" \")","v":"T1 (PZQ+ALB/MBD)"},"PZQ+ALB","July - 2018",null,113527,113527,null,113527,null,105393,null,105393," ",92.835184581641371," ",92.835184581641371]
[{"$f":"IF(COUNTRY_INFO!A122=0,\" \",COUNTRY_INFO!A122)","v":"Tanzania"},{"$f":"IF(COUNTRY_INFO!B122=0,\" \",COUNTRY_INFO!B122)","v":"Mwanza"},{"$f":"IF(COUNTRY_INFO!C122=0,\" \",COUNTRY_INFO!C122)","v":"Sengerema District Council"},{"$f":"IF(OR(COUNTRY_INFO!$T$9:$T$1000=\"T1 (PZQ+ALB/MBD)\",COUNTRY_INFO!$U$9:$U$1000=\"T1 (PZQ+ALB/MBD)\"), \"T1 (PZQ+ALB/MBD)\", \" \")","v":"T1 (PZQ+ALB/MBD)"},"PZQ+ALB","July - 2018",null,112853,112853,null,112853,null,94511,null,94511," ",83.746998307532806," ",83.746998307532806]
[{"$f":"IF(COUNTRY_INFO!A123=0,\" \",COUNTRY_INFO!A123)","v":"Tanzania"},{"$f":"IF(COUNTRY_INFO!B123=0,\" \",COUNTRY_INFO!B123)","v":"Mwanza"},{"$f":"IF(COUNTRY_INFO!C123=0,\" \",COUNTRY_INFO!C123)","v":"Ukerewe District Council"},{"$f":"IF(OR(COUNTRY_INFO!$T$9:$T$1000=\"T1 (PZQ+ALB/MBD)\",COUNTRY_INFO!$U$9:$U$1000=\"T1 (PZQ+ALB/MBD)\"), \"T1 (PZQ+ALB/MBD)\", \" \")","v":"T1 (PZQ+ALB/MBD)"},"PZQ+ALB","July - 2018",null,111835,111835,null,111835,null,92123,null,92123," ",82.37403317387222," ",82.37403317387222]
[{"$f":"IF(COUNTRY_INFO!A124=0,\" \",COUNTRY_INFO!A124)","v":"Tanzania"},{"$f":"IF(COUNTRY_INFO!B124=0,\" \",COUNTRY_INFO!B124)","v":"Njombe"},{"$f":"IF(COUNTRY_INFO!C124=0,\" \",COUNTRY_INFO!C124)","v":"Ludewa District Council"},{"$f":"IF(OR(COUNTRY_INFO!$T$9:$T$1000=\"T1 (PZQ+ALB/MBD)\",COUNTRY_INFO!$U$9:$U$1000=\"T1 (PZQ+ALB/MBD)\"), \"T1 (PZQ+ALB/MBD)\", \" \")","v":"T1 (PZQ+ALB/MBD)"},"PZQ+ALB","May - 2018",null,36703,36703,null,36703,null,36104,null,36104," ",98.367980819006618," ",98.367980819006618]
[{"$f":"IF(COUNTRY_INFO!A125=0,\" \",COUNTRY_INFO!A125)","v":"Tanzania"},{"$f":"IF(COUNTRY_INFO!B125=0,\" \",COUNTRY_INFO!B125)","v":"Njombe"},{"$f":"IF(COUNTRY_INFO!C125=0,\" \",COUNTRY_INFO!C125)","v":"Makambako Town Council"},{"$f":"IF(OR(COUNTRY_INFO!$T$9:$T$1000=\"T1 (PZQ+ALB/MBD)\",COUNTRY_INFO!$U$9:$U$1000=\"T1 (PZQ+ALB/MBD)\"), \"T1 (PZQ+ALB/MBD)\", \" \")","v":"T1 (PZQ+ALB/MBD)"},"PZQ+ALB","April - 2018",null,26808,26808,null,26808,null,24201,null,24201," ",90.275290957923005," ",90.275290957923005]
[{"$f":"IF(COUNTRY_INFO!A126=0,\" \",COUNTRY_INFO!A126)","v":"Tanzania"},{"$f":"IF(COUNTRY_INFO!B126=0,\" \",COUNTRY_INFO!B126)","v":"Njombe"},{"$f":"IF(COUNTRY_INFO!C126=0,\" \",COUNTRY_INFO!C126)","v":"Makete District Council"},{"$f":"IF(OR(COUNTRY_INFO!$T$9:$T$1000=\"T1 (PZQ+ALB/MBD)\",COUNTRY_INFO!$U$9:$U$1000=\"T1 (PZQ+ALB/MBD)\"), \"T1 (PZQ+ALB/MBD)\", \" \")","v":"T1 (PZQ+ALB/MBD)"},"PZQ+ALB","May - 2018",null,22779,22779,null,22779,null,21809,null,21809," ",95.741691909214637," ",95.741691909214637]
[{"$f":"IF(COUNTRY_INFO!A127=0,\" \",COUNTRY_INFO!A127)","v":"Tanzania"},{"$f":"IF(COUNTRY_INFO!B127=0,\" \",COUNTRY_INFO!B127)","v":"Njombe"},{"$f":"IF(COUNTRY_INFO!C127=0,\" \",COUNTRY_INFO!C127)","v":"Njombe District Council"},{"$f":"IF(OR(COUNTRY_INFO!$T$9:$T$1000=\"T1 (PZQ+ALB/MBD)\",COUNTRY_INFO!$U$9:$U$1000=\"T1 (PZQ+ALB/MBD)\"), \"T1 (PZQ+ALB/MBD)\", \" \")","v":"T1 (PZQ+ALB/MBD)"},"PZQ+ALB","April - 2018",null,22285,22285,null,22285,null,21269,null,21269," ",95.440879515369076," ",95.440879515369076]
[{"$f":"IF(COUNTRY_INFO!A128=0,\" \",COUNTRY_INFO!A128)","v":"Tanzania"},{"$f":"IF(COUNTRY_INFO!B128=0,\" \",COUNTRY_INFO!B128)","v":"Njombe"},{"$f":"IF(COUNTRY_INFO!C128=0,\" \",COUNTRY_INFO!C128)","v":"Njombe Town Council"},{"$f":"IF(OR(COUNTRY_INFO!$T$9:$T$1000=\"T1 (PZQ+ALB/MBD)\",COUNTRY_INFO!$U$9:$U$1000=\"T1 (PZQ+ALB/MBD)\"), \"T1 (PZQ+ALB/MBD)\", \" \")","v":"T1 (PZQ+ALB/MBD)"},"PZQ+ALB","April - 2018",null,35652,35652,null,35652,null,35113,null,35113," ",98.488163356894418," ",98.488163356894418]
[{"$f":"IF(COUNTRY_INFO!A129=0,\" \",COUNTRY_INFO!A129)","v":"Tanzania"},{"$f":"IF(COUNTRY_INFO!B129=0,\" \",COUNTRY_INFO!B129)","v":"Njombe"},{"$f":"IF(COUNTRY_INFO!C129=0,\" \",COUNTRY_INFO!C129)","v":"Wanging'ombe District Council"},{"$f":"IF(OR(COUNTRY_INFO!$T$9:$T$1000=\"T1 (PZQ+ALB/MBD)\",COUNTRY_INFO!$U$9:$U$1000=\"T1 (PZQ+ALB/MBD)\"), \"T1 (PZQ+ALB/MBD)\", \" \")","v":"T1 (PZQ+ALB/MBD)"},"PZQ+ALB","May - 2018",null,42240,42240,null,42240,null,39548,null,39548," ",93.626893939393938," ",93.626893939393938]
[{"$f":"IF(COUNTRY_INFO!A130=0,\" \",COUNTRY_INFO!A130)","v":"Tanzania"},{"$f":"IF(COUNTRY_INFO!B130=0,\" \",COUNTRY_INFO!B130)","v":"Pwani"},{"$f":"IF(COUNTRY_INFO!C130=0,\" \",COUNTRY_INFO!C130)","v":"Bagamoyo District Council"},{"$f":"IF(OR(COUNTRY_INFO!$T$9:$T$1000=\"T1 (PZQ+ALB/MBD)\",COUNTRY_INFO!$U$9:$U$1000=\"T1 (PZQ+ALB/MBD)\"), \"T1 (PZQ+ALB/MBD)\", \" \")","v":" "},null,null,null,null,null,null,0,null,null,null,0," "," "," "," "]
[{"$f":"IF(COUNTRY_INFO!A131=0,\" \",COUNTRY_INFO!A131)","v":"Tanzania"},{"$f":"IF(COUNTRY_INFO!B131=0,\" \",COUNTRY_INFO!B131)","v":"Pwani"},{"$f":"IF(COUNTRY_INFO!C131=0,\" \",COUNTRY_INFO!C131)","v":"Chalinze District Council"},{"$f":"IF(OR(COUNTRY_INFO!$T$9:$T$1000=\"T1 (PZQ+ALB/MBD)\",COUNTRY_INFO!$U$9:$U$1000=\"T1 (PZQ+ALB/MBD)\"), \"T1 (PZQ+ALB/MBD)\", \" \")","v":" "},null,null,null,null,null,null,0,null,null,null,0," "," "," "," "]
[{"$f":"IF(COUNTRY_INFO!A132=0,\" \",COUNTRY_INFO!A132)","v":"Tanzania"},{"$f":"IF(COUNTRY_INFO!B132=0,\" \",COUNTRY_INFO!B132)","v":"Pwani"},{"$f":"IF(COUNTRY_INFO!C132=0,\" \",COUNTRY_INFO!C132)","v":"Kibaha District Council"},{"$f":"IF(OR(COUNTRY_INFO!$T$9:$T$1000=\"T1 (PZQ+ALB/MBD)\",COUNTRY_INFO!$U$9:$U$1000=\"T1 (PZQ+ALB/MBD)\"), \"T1 (PZQ+ALB/MBD)\", \" \")","v":"T1 (PZQ+ALB/MBD)"},"PZQ+ALB","April - 2018",null,19481,19481,null,19481,null,15626,null,15626," ",80.211488116626455," ",80.211488116626455]
[{"$f":"IF(COUNTRY_INFO!A133=0,\" \",COUNTRY_INFO!A133)","v":"Tanzania"},{"$f":"IF(COUNTRY_INFO!B133=0,\" \",COUNTRY_INFO!B133)","v":"Pwani"},{"$f":"IF(COUNTRY_INFO!C133=0,\" \",COUNTRY_INFO!C133)","v":"Kibaha Town Council"},{"$f":"IF(OR(COUNTRY_INFO!$T$9:$T$1000=\"T1 (PZQ+ALB/MBD)\",COUNTRY_INFO!$U$9:$U$1000=\"T1 (PZQ+ALB/MBD)\"), \"T1 (PZQ+ALB/MBD)\", \" \")","v":"T1 (PZQ+ALB/MBD)"},"PZQ+ALB","April - 2018",null,35161,35161,null,35161,null,33981,null,33981," ",96.644008987230166," ",96.644008987230166]
[{"$f":"IF(COUNTRY_INFO!A134=0,\" \",COUNTRY_INFO!A134)","v":"Tanzania"},{"$f":"IF(COUNTRY_INFO!B134=0,\" \",COUNTRY_INFO!B134)","v":"Pwani"},{"$f":"IF(COUNTRY_INFO!C134=0,\" \",COUNTRY_INFO!C134)","v":"Kibiti District Council"},{"$f":"IF(OR(COUNTRY_INFO!$T$9:$T$1000=\"T1 (PZQ+ALB/MBD)\",COUNTRY_INFO!$U$9:$U$1000=\"T1 (PZQ+ALB/MBD)\"), \"T1 (PZQ+ALB/MBD)\", \" \")","v":" "},null,null,null,0,0,null,0,null,null,null,0," "," "," "," "]
[{"$f":"IF(COUNTRY_INFO!A135=0,\" \",COUNTRY_INFO!A135)","v":"Tanzania"},{"$f":"IF(COUNTRY_INFO!B135=0,\" \",COUNTRY_INFO!B135)","v":"Pwani"},{"$f":"IF(COUNTRY_INFO!C135=0,\" \",COUNTRY_INFO!C135)","v":"Kisarawe District Council"},{"$f":"IF(OR(COUNTRY_INFO!$T$9:$T$1000=\"T1 (PZQ+ALB/MBD)\",COUNTRY_INFO!$U$9:$U$1000=\"T1 (PZQ+ALB/MBD)\"), \"T1 (PZQ+ALB/MBD)\", \" \")","v":" "},null,null,null,0,0,null,0,null,null,null,0," "," "," "," "]
[{"$f":"IF(COUNTRY_INFO!A136=0,\" \",COUNTRY_INFO!A136)","v":"Tanzania"},{"$f":"IF(COUNTRY_INFO!B136=0,\" \",COUNTRY_INFO!B136)","v":"Pwani"},{"$f":"IF(COUNTRY_INFO!C136=0,\" \",COUNTRY_INFO!C136)","v":"Mafia District Council"},{"$f":"IF(OR(COUNTRY_INFO!$T$9:$T$1000=\"T1 (PZQ+ALB/MBD)\",COUNTRY_INFO!$U$9:$U$1000=\"T1 (PZQ+ALB/MBD)\"), \"T1 (PZQ+ALB/MBD)\", \" \")","v":"T1 (PZQ+ALB/MBD)"},"PZQ+ALB","July - 2018",null,11265,11265,null,11265,null,10099,null,10099," ",89.64935641367066," ",89.64935641367066]
[{"$f":"IF(COUNTRY_INFO!A137=0,\" \",COUNTRY_INFO!A137)","v":"Tanzania"},{"$f":"IF(COUNTRY_INFO!B137=0,\" \",COUNTRY_INFO!B137)","v":"Pwani"},{"$f":"IF(COUNTRY_INFO!C137=0,\" \",COUNTRY_INFO!C137)","v":"Mkuranga District Council"},{"$f":"IF(OR(COUNTRY_INFO!$T$9:$T$1000=\"T1 (PZQ+ALB/MBD)\",COUNTRY_INFO!$U$9:$U$1000=\"T1 (PZQ+ALB/MBD)\"), \"T1 (PZQ+ALB/MBD)\", \" \")","v":" "},null,null,null,null,null,null,0,null,null,null,0," "," "," "," "]
[{"$f":"IF(COUNTRY_INFO!A138=0,\" \",COUNTRY_INFO!A138)","v":"Tanzania"},{"$f":"IF(COUNTRY_INFO!B138=0,\" \",COUNTRY_INFO!B138)","v":"Pwani"},{"$f":"IF(COUNTRY_INFO!C138=0,\" \",COUNTRY_INFO!C138)","v":"Rufiji District Council"},{"$f":"IF(OR(COUNTRY_INFO!$T$9:$T$1000=\"T1 (PZQ+ALB/MBD)\",COUNTRY_INFO!$U$9:$U$1000=\"T1 (PZQ+ALB/MBD)\"), \"T1 (PZQ+ALB/MBD)\", \" \")","v":" "},null,null,null,null,null,null,{"$f":"MAX(H138:I138)+G138+J138","v":0},null,null,null,{"$f":"SUM(L138:N138)","v":0},{"$f":"IF(G138<>0, IF(L138/G138*100=0, \"-\", L138/G138*100), \" \")","v":" "},{"$f":"IF(OR(I138<>0,H138<>0), IF(M138/MAX(H138,I138)*100=0, \"-\", M138/MAX(H138,I138)*100), \" \")","v":" "},{"$f":"IF(J138<>0, IF(N138/J138*100=0, \"-\", N138/J138*100), \" \")","v":" "},{"$f":"IF(K138<>0, IF(O138/K138*100=0, \"-\", O138/K138*100), \" \")","v":" "}]
[{"$f":"IF(COUNTRY_INFO!A139=0,\" \",COUNTRY_INFO!A139)","v":"Tanzania"},{"$f":"IF(COUNTRY_INFO!B139=0,\" \",COUNTRY_INFO!B139)","v":"Rukwa"},{"$f":"IF(COUNTRY_INFO!C139=0,\" \",COUNTRY_INFO!C139)","v":"Kalambo District Council"},{"$f":"IF(OR(COUNTRY_INFO!$T$9:$T$1000=\"T1 (PZQ+ALB/MBD)\",COUNTRY_INFO!$U$9:$U$1000=\"T1 (PZQ+ALB/MBD)\"), \"T1 (PZQ+ALB/MBD)\", \" \")","v":" "},null,null,null,null,null,null,0,null,null,null,0," "," "," "," "]
[{"$f":"IF(COUNTRY_INFO!A140=0,\" \",COUNTRY_INFO!A140)","v":"Tanzania"},{"$f":"IF(COUNTRY_INFO!B140=0,\" \",COUNTRY_INFO!B140)","v":"Rukwa"},{"$f":"IF(COUNTRY_INFO!C140=0,\" \",COUNTRY_INFO!C140)","v":"Nkasi District Council"},{"$f":"IF(OR(COUNTRY_INFO!$T$9:$T$1000=\"T1 (PZQ+ALB/MBD)\",COUNTRY_INFO!$U$9:$U$1000=\"T1 (PZQ+ALB/MBD)\"), \"T1 (PZQ+ALB/MBD)\", \" \")","v":" "},null,null,null,null,null,null,0,null,null,null,0," "," "," "," "]
[{"$f":"IF(COUNTRY_INFO!A141=0,\" \",COUNTRY_INFO!A141)","v":"Tanzania"},{"$f":"IF(COUNTRY_INFO!B141=0,\" \",COUNTRY_INFO!B141)","v":"Rukwa"},{"$f":"IF(COUNTRY_INFO!C141=0,\" \",COUNTRY_INFO!C141)","v":"Sumbawanga District Council"},{"$f":"IF(OR(COUNTRY_INFO!$T$9:$T$1000=\"T1 (PZQ+ALB/MBD)\",COUNTRY_INFO!$U$9:$U$1000=\"T1 (PZQ+ALB/MBD)\"), \"T1 (PZQ+ALB/MBD)\", \" \")","v":" "},null,null,null,null,null,null,0,null,null,null,0," "," "," "," "]
[{"$f":"IF(COUNTRY_INFO!A142=0,\" \",COUNTRY_INFO!A142)","v":"Tanzania"},{"$f":"IF(COUNTRY_INFO!B142=0,\" \",COUNTRY_INFO!B142)","v":"Rukwa"},{"$f":"IF(COUNTRY_INFO!C142=0,\" \",COUNTRY_INFO!C142)","v":"Sumbawanga Municipal Council"},{"$f":"IF(OR(COUNTRY_INFO!$T$9:$T$1000=\"T1 (PZQ+ALB/MBD)\",COUNTRY_INFO!$U$9:$U$1000=\"T1 (PZQ+ALB/MBD)\"), \"T1 (PZQ+ALB/MBD)\", \" \")","v":" "},null,null,null,null,null,null,0,null,null,null,0," "," "," "," "]
[{"$f":"IF(COUNTRY_INFO!A143=0,\" \",COUNTRY_INFO!A143)","v":"Tanzania"},{"$f":"IF(COUNTRY_INFO!B143=0,\" \",COUNTRY_INFO!B143)","v":"Ruvuma"},{"$f":"IF(COUNTRY_INFO!C143=0,\" \",COUNTRY_INFO!C143)","v":"Madaba District Council"},{"$f":"IF(OR(COUNTRY_INFO!$T$9:$T$1000=\"T1 (PZQ+ALB/MBD)\",COUNTRY_INFO!$U$9:$U$1000=\"T1 (PZQ+ALB/MBD)\"), \"T1 (PZQ+ALB/MBD)\", \" \")","v":"T1 (PZQ+ALB/MBD)"},"PZQ+ALB","July - 2018",null,10961,10961,null,10961,null,10572,null,10572," ",96.451053735972991," ",96.451053735972991]
[{"$f":"IF(COUNTRY_INFO!A144=0,\" \",COUNTRY_INFO!A144)","v":"Tanzania"},{"$f":"IF(COUNTRY_INFO!B144=0,\" \",COUNTRY_INFO!B144)","v":"Ruvuma"},{"$f":"IF(COUNTRY_INFO!C144=0,\" \",COUNTRY_INFO!C144)","v":"Mbinga District Council"},{"$f":"IF(OR(COUNTRY_INFO!$T$9:$T$1000=\"T1 (PZQ+ALB/MBD)\",COUNTRY_INFO!$U$9:$U$1000=\"T1 (PZQ+ALB/MBD)\"), \"T1 (PZQ+ALB/MBD)\", \" \")","v":"T1 (PZQ+ALB/MBD)"},"PZQ+ALB","July - 2018",null,49353,49353,null,49353,null,41821,null,41821," ",84.73851640224504," ",84.73851640224504]
[{"$f":"IF(COUNTRY_INFO!A145=0,\" \",COUNTRY_INFO!A145)","v":"Tanzania"},{"$f":"IF(COUNTRY_INFO!B145=0,\" \",COUNTRY_INFO!B145)","v":"Ruvuma"},{"$f":"IF(COUNTRY_INFO!C145=0,\" \",COUNTRY_INFO!C145)","v":"Mbinga Town Council"},{"$f":"IF(OR(COUNTRY_INFO!$T$9:$T$1000=\"T1 (PZQ+ALB/MBD)\",COUNTRY_INFO!$U$9:$U$1000=\"T1 (PZQ+ALB/MBD)\"), \"T1 (PZQ+ALB/MBD)\", \" \")","v":"T1 (PZQ+ALB/MBD)"},"PZQ+ALB","July - 2018",null,28438,28438,null,28438,null,22828,null,22828," ",80.272874323088828," ",80.272874323088828]
[{"$f":"IF(COUNTRY_INFO!A146=0,\" \",COUNTRY_INFO!A146)","v":"Tanzania"},{"$f":"IF(COUNTRY_INFO!B146=0,\" \",COUNTRY_INFO!B146)","v":"Ruvuma"},{"$f":"IF(COUNTRY_INFO!C146=0,\" \",COUNTRY_INFO!C146)","v":"Namtumbo District Council"},{"$f":"IF(OR(COUNTRY_INFO!$T$9:$T$1000=\"T1 (PZQ+ALB/MBD)\",COUNTRY_INFO!$U$9:$U$1000=\"T1 (PZQ+ALB/MBD)\"), \"T1 (PZQ+ALB/MBD)\", \" \")","v":"T1 (PZQ+ALB/MBD)"},"PZQ+ALB","July - 2018",null,60332,60332,null,60332,null,55005,null,55005," ",91.170523105482999," ",91.170523105482999]
[{"$f":"IF(COUNTRY_INFO!A147=0,\" \",COUNTRY_INFO!A147)","v":"Tanzania"},{"$f":"IF(COUNTRY_INFO!B147=0,\" \",COUNTRY_INFO!B147)","v":"Ruvuma"},{"$f":"IF(COUNTRY_INFO!C147=0,\" \",COUNTRY_INFO!C147)","v":"Nyasa District Council"},{"$f":"IF(OR(COUNTRY_INFO!$T$9:$T$1000=\"T1 (PZQ+ALB/MBD)\",COUNTRY_INFO!$U$9:$U$1000=\"T1 (PZQ+ALB/MBD)\"), \"T1 (PZQ+ALB/MBD)\", \" \")","v":"T1 (PZQ+ALB/MBD)"},"PZQ+ALB","July - 2018",null,43675,43675,null,43675,null,37305,null,37305," ",85.414997137950778," ",85.414997137950778]
[{"$f":"IF(COUNTRY_INFO!A148=0,\" \",COUNTRY_INFO!A148)","v":"Tanzania"},{"$f":"IF(COUNTRY_INFO!B148=0,\" \",COUNTRY_INFO!B148)","v":"Ruvuma"},{"$f":"IF(COUNTRY_INFO!C148=0,\" \",COUNTRY_INFO!C148)","v":"Songea District Council"},{"$f":"IF(OR(COUNTRY_INFO!$T$9:$T$1000=\"T1 (PZQ+ALB/MBD)\",COUNTRY_INFO!$U$9:$U$1000=\"T1 (PZQ+ALB/MBD)\"), \"T1 (PZQ+ALB/MBD)\", \" \")","v":"T1 (PZQ+ALB/MBD)"},"PZQ+ALB","July - 2018",null,27649,27649,null,27649,null,27649,null,27649," ",100," ",100]
[{"$f":"IF(COUNTRY_INFO!A149=0,\" \",COUNTRY_INFO!A149)","v":"Tanzania"},{"$f":"IF(COUNTRY_INFO!B149=0,\" \",COUNTRY_INFO!B149)","v":"Ruvuma"},{"$f":"IF(COUNTRY_INFO!C149=0,\" \",COUNTRY_INFO!C149)","v":"Songea Municipal Council"},{"$f":"IF(OR(COUNTRY_INFO!$T$9:$T$1000=\"T1 (PZQ+ALB/MBD)\",COUNTRY_INFO!$U$9:$U$1000=\"T1 (PZQ+ALB/MBD)\"), \"T1 (PZQ+ALB/MBD)\", \" \")","v":"T1 (PZQ+ALB/MBD)"},"PZQ+ALB","July - 2018",null,54043,54043,null,54043,null,43341,null,43341," ",80.197250337694058," ",80.197250337694058]
[{"$f":"IF(COUNTRY_INFO!A150=0,\" \",COUNTRY_INFO!A150)","v":"Tanzania"},{"$f":"IF(COUNTRY_INFO!B150=0,\" \",COUNTRY_INFO!B150)","v":"Ruvuma"},{"$f":"IF(COUNTRY_INFO!C150=0,\" \",COUNTRY_INFO!C150)","v":"Tunduru District Council"},{"$f":"IF(OR(COUNTRY_INFO!$T$9:$T$1000=\"T1 (PZQ+ALB/MBD)\",COUNTRY_INFO!$U$9:$U$1000=\"T1 (PZQ+ALB/MBD)\"), \"T1 (PZQ+ALB/MBD)\", \" \")","v":"T1 (PZQ+ALB/MBD)"},"PZQ+ALB","July - 2018",null,67211,67211,null,67211,null,65815,null,65815," ",97.922959039442944," ",97.922959039442944]
[{"$f":"IF(COUNTRY_INFO!A151=0,\" \",COUNTRY_INFO!A151)","v":"Tanzania"},{"$f":"IF(COUNTRY_INFO!B151=0,\" \",COUNTRY_INFO!B151)","v":"Shinyanga"},{"$f":"IF(COUNTRY_INFO!C151=0,\" \",COUNTRY_INFO!C151)","v":"Kahama Town Council"},{"$f":"IF(OR(COUNTRY_INFO!$T$9:$T$1000=\"T1 (PZQ+ALB/MBD)\",COUNTRY_INFO!$U$9:$U$1000=\"T1 (PZQ+ALB/MBD)\"), \"T1 (PZQ+ALB/MBD)\", \" \")","v":"T1 (PZQ+ALB/MBD)"},"PZQ+ALB","July - 2018",null,87078,87078,null,87078,null,71671,null,71671," ",82.306667585383224," ",82.306667585383224]
[{"$f":"IF(COUNTRY_INFO!A152=0,\" \",COUNTRY_INFO!A152)","v":"Tanzania"},{"$f":"IF(COUNTRY_INFO!B152=0,\" \",COUNTRY_INFO!B152)","v":"Shinyanga"},{"$f":"IF(COUNTRY_INFO!C152=0,\" \",COUNTRY_INFO!C152)","v":"Kishapu District Council"},{"$f":"IF(OR(COUNTRY_INFO!$T$9:$T$1000=\"T1 (PZQ+ALB/MBD)\",COUNTRY_INFO!$U$9:$U$1000=\"T1 (PZQ+ALB/MBD)\"), \"T1 (PZQ+ALB/MBD)\", \" \")","v":"T1 (PZQ+ALB/MBD)"},"PZQ+ALB","July - 2018",null,88003,88003,null,88003,null,80601,null,80601," ",91.58892310489415," ",91.58892310489415]
[{"$f":"IF(COUNTRY_INFO!A153=0,\" \",COUNTRY_INFO!A153)","v":"Tanzania"},{"$f":"IF(COUNTRY_INFO!B153=0,\" \",COUNTRY_INFO!B153)","v":"Shinyanga"},{"$f":"IF(COUNTRY_INFO!C153=0,\" \",COUNTRY_INFO!C153)","v":"Msalala District Council"},{"$f":"IF(OR(COUNTRY_INFO!$T$9:$T$1000=\"T1 (PZQ+ALB/MBD)\",COUNTRY_INFO!$U$9:$U$1000=\"T1 (PZQ+ALB/MBD)\"), \"T1 (PZQ+ALB/MBD)\", \" \")","v":"T1 (PZQ+ALB/MBD)"},"PZQ+ALB","July - 2018",null,66129,66129,null,66129,null,61969,null,61969," ",93.70926522403181," ",93.70926522403181]
[{"$f":"IF(COUNTRY_INFO!A154=0,\" \",COUNTRY_INFO!A154)","v":"Tanzania"},{"$f":"IF(COUNTRY_INFO!B154=0,\" \",COUNTRY_INFO!B154)","v":"Shinyanga"},{"$f":"IF(COUNTRY_INFO!C154=0,\" \",COUNTRY_INFO!C154)","v":"Shinyanga District Council"},{"$f":"IF(OR(COUNTRY_INFO!$T$9:$T$1000=\"T1 (PZQ+ALB/MBD)\",COUNTRY_INFO!$U$9:$U$1000=\"T1 (PZQ+ALB/MBD)\"), \"T1 (PZQ+ALB/MBD)\", \" \")","v":"T1 (PZQ+ALB/MBD)"},"PZQ+ALB","July - 2018",null,89943,89943,null,89943,null,86303,null,86303," ",95.952992450774374," ",95.952992450774374]
[{"$f":"IF(COUNTRY_INFO!A155=0,\" \",COUNTRY_INFO!A155)","v":"Tanzania"},{"$f":"IF(COUNTRY_INFO!B155=0,\" \",COUNTRY_INFO!B155)","v":"Shinyanga"},{"$f":"IF(COUNTRY_INFO!C155=0,\" \",COUNTRY_INFO!C155)","v":"Shinyanga Municipal Council"},{"$f":"IF(OR(COUNTRY_INFO!$T$9:$T$1000=\"T1 (PZQ+ALB/MBD)\",COUNTRY_INFO!$U$9:$U$1000=\"T1 (PZQ+ALB/MBD)\"), \"T1 (PZQ+ALB/MBD)\", \" \")","v":"T1 (PZQ+ALB/MBD)"},"PZQ+ALB","July - 2018",null,42184,42184,null,42184,null,37607,null,37607," ",89.149914659586571," ",89.149914659586571]
[{"$f":"IF(COUNTRY_INFO!A156=0,\" \",COUNTRY_INFO!A156)","v":"Tanzania"},{"$f":"IF(COUNTRY_INFO!B156=0,\" \",COUNTRY_INFO!B156)","v":"Shinyanga"},{"$f":"IF(COUNTRY_INFO!C156=0,\" \",COUNTRY_INFO!C156)","v":"Ushetu District Council"},{"$f":"IF(OR(COUNTRY_INFO!$T$9:$T$1000=\"T1 (PZQ+ALB/MBD)\",COUNTRY_INFO!$U$9:$U$1000=\"T1 (PZQ+ALB/MBD)\"), \"T1 (PZQ+ALB/MBD)\", \" \")","v":"T1 (PZQ+ALB/MBD)"},"PZQ+ALB","July - 2018",null,83071,83071,null,83071,null,81893,null,81893," ",98.581935934321237," ",98.581935934321237]
[{"$f":"IF(COUNTRY_INFO!A157=0,\" \",COUNTRY_INFO!A157)","v":"Tanzania"},{"$f":"IF(COUNTRY_INFO!B157=0,\" \",COUNTRY_INFO!B157)","v":"Simiyu"},{"$f":"IF(COUNTRY_INFO!C157=0,\" \",COUNTRY_INFO!C157)","v":"Bariadi District Council"},{"$f":"IF(OR(COUNTRY_INFO!$T$9:$T$1000=\"T1 (PZQ+ALB/MBD)\",COUNTRY_INFO!$U$9:$U$1000=\"T1 (PZQ+ALB/MBD)\"), \"T1 (PZQ+ALB/MBD)\", \" \")","v":"T1 (PZQ+ALB/MBD)"},"PZQ+ALB","July - 2018",null,90094,90094,null,90094,null,80657,null,80657," ",89.525384598308435," ",89.525384598308435]
[{"$f":"IF(COUNTRY_INFO!A158=0,\" \",COUNTRY_INFO!A158)","v":"Tanzania"},{"$f":"IF(COUNTRY_INFO!B158=0,\" \",COUNTRY_INFO!B158)","v":"Simiyu"},{"$f":"IF(COUNTRY_INFO!C158=0,\" \",COUNTRY_INFO!C158)","v":"Bariadi Town Council"},{"$f":"IF(OR(COUNTRY_INFO!$T$9:$T$1000=\"T1 (PZQ+ALB/MBD)\",COUNTRY_INFO!$U$9:$U$1000=\"T1 (PZQ+ALB/MBD)\"), \"T1 (PZQ+ALB/MBD)\", \" \")","v":"T1 (PZQ+ALB/MBD)"},"PZQ+ALB","July - 2018",null,53041,53041,null,53041,null,41529,null,41529," ",78.296035142625513," ",78.296035142625513]
[{"$f":"IF(COUNTRY_INFO!A159=0,\" \",COUNTRY_INFO!A159)","v":"Tanzania"},{"$f":"IF(COUNTRY_INFO!B159=0,\" \",COUNTRY_INFO!B159)","v":"Simiyu"},{"$f":"IF(COUNTRY_INFO!C159=0,\" \",COUNTRY_INFO!C159)","v":"Busega District Council"},{"$f":"IF(OR(COUNTRY_INFO!$T$9:$T$1000=\"T1 (PZQ+ALB/MBD)\",COUNTRY_INFO!$U$9:$U$1000=\"T1 (PZQ+ALB/MBD)\"), \"T1 (PZQ+ALB/MBD)\", \" \")","v":"T1 (PZQ+ALB/MBD)"},"PZQ+ALB","July - 2018",null,83962,83962,null,83962,null,72373,null,72373," ",86.197327362378218," ",86.197327362378218]
[{"$f":"IF(COUNTRY_INFO!A160=0,\" \",COUNTRY_INFO!A160)","v":"Tanzania"},{"$f":"IF(COUNTRY_INFO!B160=0,\" \",COUNTRY_INFO!B160)","v":"Simiyu"},{"$f":"IF(COUNTRY_INFO!C160=0,\" \",COUNTRY_INFO!C160)","v":"Itilima District Council"},{"$f":"IF(OR(COUNTRY_INFO!$T$9:$T$1000=\"T1 (PZQ+ALB/MBD)\",COUNTRY_INFO!$U$9:$U$1000=\"T1 (PZQ+ALB/MBD)\"), \"T1 (PZQ+ALB/MBD)\", \" \")","v":"T1 (PZQ+ALB/MBD)"},"PZQ+ALB","July - 2018",null,99917,99917,null,99917,null,81727,null,81727," ",81.794889758499551," ",81.794889758499551]
[{"$f":"IF(COUNTRY_INFO!A161=0,\" \",COUNTRY_INFO!A161)","v":"Tanzania"},{"$f":"IF(COUNTRY_INFO!B161=0,\" \",COUNTRY_INFO!B161)","v":"Simiyu"},{"$f":"IF(COUNTRY_INFO!C161=0,\" \",COUNTRY_INFO!C161)","v":"Maswa District Council"},{"$f":"IF(OR(COUNTRY_INFO!$T$9:$T$1000=\"T1 (PZQ+ALB/MBD)\",COUNTRY_INFO!$U$9:$U$1000=\"T1 (PZQ+ALB/MBD)\"), \"T1 (PZQ+ALB/MBD)\", \" \")","v":"T1 (PZQ+ALB/MBD)"},"PZQ+ALB","July - 2018",null,79352,79352,null,79352,null,77165,null,77165," ",97.243925798971674," ",97.243925798971674]
[{"$f":"IF(COUNTRY_INFO!A162=0,\" \",COUNTRY_INFO!A162)","v":"Tanzania"},{"$f":"IF(COUNTRY_INFO!B162=0,\" \",COUNTRY_INFO!B162)","v":"Simiyu"},{"$f":"IF(COUNTRY_INFO!C162=0,\" \",COUNTRY_INFO!C162)","v":"Meatu District Council"},{"$f":"IF(OR(COUNTRY_INFO!$T$9:$T$1000=\"T1 (PZQ+ALB/MBD)\",COUNTRY_INFO!$U$9:$U$1000=\"T1 (PZQ+ALB/MBD)\"), \"T1 (PZQ+ALB/MBD)\", \" \")","v":"T1 (PZQ+ALB/MBD)"},"PZQ+ALB","July - 2018",null,69679,69679,null,69679,null,65159,null,65159," ",93.513110119261171," ",93.513110119261171]
[{"$f":"IF(COUNTRY_INFO!A163=0,\" \",COUNTRY_INFO!A163)","v":"Tanzania"},{"$f":"IF(COUNTRY_INFO!B163=0,\" \",COUNTRY_INFO!B163)","v":"Singida"},{"$f":"IF(COUNTRY_INFO!C163=0,\" \",COUNTRY_INFO!C163)","v":"Ikungi District Council"},{"$f":"IF(OR(COUNTRY_INFO!$T$9:$T$1000=\"T1 (PZQ+ALB/MBD)\",COUNTRY_INFO!$U$9:$U$1000=\"T1 (PZQ+ALB/MBD)\"), \"T1 (PZQ+ALB/MBD)\", \" \")","v":" "},null,null,null,null,null,null,0,null,null,null,0," "," "," "," "]
[{"$f":"IF(COUNTRY_INFO!A164=0,\" \",COUNTRY_INFO!A164)","v":"Tanzania"},{"$f":"IF(COUNTRY_INFO!B164=0,\" \",COUNTRY_INFO!B164)","v":"Singida"},{"$f":"IF(COUNTRY_INFO!C164=0,\" \",COUNTRY_INFO!C164)","v":"Iramba District Council"},{"$f":"IF(OR(COUNTRY_INFO!$T$9:$T$1000=\"T1 (PZQ+ALB/MBD)\",COUNTRY_INFO!$U$9:$U$1000=\"T1 (PZQ+ALB/MBD)\"), \"T1 (PZQ+ALB/MBD)\", \" \")","v":" "},null,null,null,null,null,null,0,null,null,null,0," "," "," "," "]
[{"$f":"IF(COUNTRY_INFO!A165=0,\" \",COUNTRY_INFO!A165)","v":"Tanzania"},{"$f":"IF(COUNTRY_INFO!B165=0,\" \",COUNTRY_INFO!B165)","v":"Singida"},{"$f":"IF(COUNTRY_INFO!C165=0,\" \",COUNTRY_INFO!C165)","v":"Itigi District Council"},{"$f":"IF(OR(COUNTRY_INFO!$T$9:$T$1000=\"T1 (PZQ+ALB/MBD)\",COUNTRY_INFO!$U$9:$U$1000=\"T1 (PZQ+ALB/MBD)\"), \"T1 (PZQ+ALB/MBD)\", \" \")","v":" "},null,null,null,null,null,null,0,null,null,null,0," "," "," "," "]
[{"$f":"IF(COUNTRY_INFO!A166=0,\" \",COUNTRY_INFO!A166)","v":"Tanzania"},{"$f":"IF(COUNTRY_INFO!B166=0,\" \",COUNTRY_INFO!B166)","v":"Singida"},{"$f":"IF(COUNTRY_INFO!C166=0,\" \",COUNTRY_INFO!C166)","v":"Manyoni District Council"},{"$f":"IF(OR(COUNTRY_INFO!$T$9:$T$1000=\"T1 (PZQ+ALB/MBD)\",COUNTRY_INFO!$U$9:$U$1000=\"T1 (PZQ+ALB/MBD)\"), \"T1 (PZQ+ALB/MBD)\", \" \")","v":" "},null,null,null,null,null,null,0,null,null,null,0," "," "," "," "]
[{"$f":"IF(COUNTRY_INFO!A167=0,\" \",COUNTRY_INFO!A167)","v":"Tanzania"},{"$f":"IF(COUNTRY_INFO!B167=0,\" \",COUNTRY_INFO!B167)","v":"Singida"},{"$f":"IF(COUNTRY_INFO!C167=0,\" \",COUNTRY_INFO!C167)","v":"Mkalama District Council"},{"$f":"IF(OR(COUNTRY_INFO!$T$9:$T$1000=\"T1 (PZQ+ALB/MBD)\",COUNTRY_INFO!$U$9:$U$1000=\"T1 (PZQ+ALB/MBD)\"), \"T1 (PZQ+ALB/MBD)\", \" \")","v":" "},null,null,null,null,null,null,0,null,null,null,0," "," "," "," "]
[{"$f":"IF(COUNTRY_INFO!A168=0,\" \",COUNTRY_INFO!A168)","v":"Tanzania"},{"$f":"IF(COUNTRY_INFO!B168=0,\" \",COUNTRY_INFO!B168)","v":"Singida"},{"$f":"IF(COUNTRY_INFO!C168=0,\" \",COUNTRY_INFO!C168)","v":"Singida District Council"},{"$f":"IF(OR(COUNTRY_INFO!$T$9:$T$1000=\"T1 (PZQ+ALB/MBD)\",COUNTRY_INFO!$U$9:$U$1000=\"T1 (PZQ+ALB/MBD)\"), \"T1 (PZQ+ALB/MBD)\", \" \")","v":" "},null,null,null,null,null,null,0,null,null,null,0," "," "," "," "]
[{"$f":"IF(COUNTRY_INFO!A169=0,\" \",COUNTRY_INFO!A169)","v":"Tanzania"},{"$f":"IF(COUNTRY_INFO!B169=0,\" \",COUNTRY_INFO!B169)","v":"Singida"},{"$f":"IF(COUNTRY_INFO!C169=0,\" \",COUNTRY_INFO!C169)","v":"Singida Municipal Council"},{"$f":"IF(OR(COUNTRY_INFO!$T$9:$T$1000=\"T1 (PZQ+ALB/MBD)\",COUNTRY_INFO!$U$9:$U$1000=\"T1 (PZQ+ALB/MBD)\"), \"T1 (PZQ+ALB/MBD)\", \" \")","v":" "},null,null,null,null,null,null,0,null,null,null,0," "," "," "," "]
[{"$f":"IF(COUNTRY_INFO!A170=0,\" \",COUNTRY_INFO!A170)","v":"Tanzania"},{"$f":"IF(COUNTRY_INFO!B170=0,\" \",COUNTRY_INFO!B170)","v":"Songwe"},{"$f":"IF(COUNTRY_INFO!C170=0,\" \",COUNTRY_INFO!C170)","v":"Ileje District Council"},{"$f":"IF(OR(COUNTRY_INFO!$T$9:$T$1000=\"T1 (PZQ+ALB/MBD)\",COUNTRY_INFO!$U$9:$U$1000=\"T1 (PZQ+ALB/MBD)\"), \"T1 (PZQ+ALB/MBD)\", \" \")","v":"T1 (PZQ+ALB/MBD)"},"PZQ+ALB","May - 2018",null,29071,29071,null,29071,null,23300,null,23300," ",80.148601699287951," ",80.148601699287951]
[{"$f":"IF(COUNTRY_INFO!A171=0,\" \",COUNTRY_INFO!A171)","v":"Tanzania"},{"$f":"IF(COUNTRY_INFO!B171=0,\" \",COUNTRY_INFO!B171)","v":"Songwe"},{"$f":"IF(COUNTRY_INFO!C171=0,\" \",COUNTRY_INFO!C171)","v":"Mbozi District Council"},{"$f":"IF(OR(COUNTRY_INFO!$T$9:$T$1000=\"T1 (PZQ+ALB/MBD)\",COUNTRY_INFO!$U$9:$U$1000=\"T1 (PZQ+ALB/MBD)\"), \"T1 (PZQ+ALB/MBD)\", \" \")","v":"T1 (PZQ+ALB/MBD)"},"PZQ+ALB","May - 2018",null,108056,108056,null,108056,null,104342,null,104342," ",96.562893314577622," ",96.562893314577622]
[{"$f":"IF(COUNTRY_INFO!A172=0,\" \",COUNTRY_INFO!A172)","v":"Tanzania"},{"$f":"IF(COUNTRY_INFO!B172=0,\" \",COUNTRY_INFO!B172)","v":"Songwe"},{"$f":"IF(COUNTRY_INFO!C172=0,\" \",COUNTRY_INFO!C172)","v":"Momba District Council"},{"$f":"IF(OR(COUNTRY_INFO!$T$9:$T$1000=\"T1 (PZQ+ALB/MBD)\",COUNTRY_INFO!$U$9:$U$1000=\"T1 (PZQ+ALB/MBD)\"), \"T1 (PZQ+ALB/MBD)\", \" \")","v":"T1 (PZQ+ALB/MBD)"},"PZQ+ALB","Aug - 2018",null,47060,47060,null,47060,null,39448,null,39448," ",83.824904377390567," ",83.824904377390567]
[{"$f":"IF(COUNTRY_INFO!A173=0,\" \",COUNTRY_INFO!A173)","v":"Tanzania"},{"$f":"IF(COUNTRY_INFO!B173=0,\" \",COUNTRY_INFO!B173)","v":"Songwe"},{"$f":"IF(COUNTRY_INFO!C173=0,\" \",COUNTRY_INFO!C173)","v":"Songwe District Council"},{"$f":"IF(OR(COUNTRY_INFO!$T$9:$T$1000=\"T1 (PZQ+ALB/MBD)\",COUNTRY_INFO!$U$9:$U$1000=\"T1 (PZQ+ALB/MBD)\"), \"T1 (PZQ+ALB/MBD)\", \" \")","v":"T1 (PZQ+ALB/MBD)"},"PZQ+ALB","May - 2018",null,32724,32724,null,32724,null,32349,null,32349," ",98.854052071873852," ",98.854052071873852]
[{"$f":"IF(COUNTRY_INFO!A174=0,\" \",COUNTRY_INFO!A174)","v":"Tanzania"},{"$f":"IF(COUNTRY_INFO!B174=0,\" \",COUNTRY_INFO!B174)","v":"Songwe"},{"$f":"IF(COUNTRY_INFO!C174=0,\" \",COUNTRY_INFO!C174)","v":"Tunduma Town Council"},{"$f":"IF(OR(COUNTRY_INFO!$T$9:$T$1000=\"T1 (PZQ+ALB/MBD)\",COUNTRY_INFO!$U$9:$U$1000=\"T1 (PZQ+ALB/MBD)\"), \"T1 (PZQ+ALB/MBD)\", \" \")","v":"T1 (PZQ+ALB/MBD)"},"PZQ+ALB","May - 2018",null,35757,35757,null,35757,null,32524,null,32524," ",90.958413737170346," ",90.958413737170346]
[{"$f":"IF(COUNTRY_INFO!A175=0,\" \",COUNTRY_INFO!A175)","v":"Tanzania"},{"$f":"IF(COUNTRY_INFO!B175=0,\" \",COUNTRY_INFO!B175)","v":"Tabora"},{"$f":"IF(COUNTRY_INFO!C175=0,\" \",COUNTRY_INFO!C175)","v":"Igunga District Council"},{"$f":"IF(OR(COUNTRY_INFO!$T$9:$T$1000=\"T1 (PZQ+ALB/MBD)\",COUNTRY_INFO!$U$9:$U$1000=\"T1 (PZQ+ALB/MBD)\"), \"T1 (PZQ+ALB/MBD)\", \" \")","v":" "},null,null,null,null,null,null,0,null,null,null,0," "," "," "," "]
[{"$f":"IF(COUNTRY_INFO!A176=0,\" \",COUNTRY_INFO!A176)","v":"Tanzania"},{"$f":"IF(COUNTRY_INFO!B176=0,\" \",COUNTRY_INFO!B176)","v":"Tabora"},{"$f":"IF(COUNTRY_INFO!C176=0,\" \",COUNTRY_INFO!C176)","v":"Kaliua District Council"},{"$f":"IF(OR(COUNTRY_INFO!$T$9:$T$1000=\"T1 (PZQ+ALB/MBD)\",COUNTRY_INFO!$U$9:$U$1000=\"T1 (PZQ+ALB/MBD)\"), \"T1 (PZQ+ALB/MBD)\", \" \")","v":" "},null,null,null,103462,103462,null,103462,null,99403,null,99403," ",96.076820475150299," ",96.076820475150299]
[{"$f":"IF(COUNTRY_INFO!A177=0,\" \",COUNTRY_INFO!A177)","v":"Tanzania"},{"$f":"IF(COUNTRY_INFO!B177=0,\" \",COUNTRY_INFO!B177)","v":"Tabora"},{"$f":"IF(COUNTRY_INFO!C177=0,\" \",COUNTRY_INFO!C177)","v":"Nzega District Council"},{"$f":"IF(OR(COUNTRY_INFO!$T$9:$T$1000=\"T1 (PZQ+ALB/MBD)\",COUNTRY_INFO!$U$9:$U$1000=\"T1 (PZQ+ALB/MBD)\"), \"T1 (PZQ+ALB/MBD)\", \" \")","v":" "},null,null,null,null,null,null,0,null,null,null,0," "," "," "," "]
[{"$f":"IF(COUNTRY_INFO!A178=0,\" \",COUNTRY_INFO!A178)","v":"Tanzania"},{"$f":"IF(COUNTRY_INFO!B178=0,\" \",COUNTRY_INFO!B178)","v":"Tabora"},{"$f":"IF(COUNTRY_INFO!C178=0,\" \",COUNTRY_INFO!C178)","v":"Nzega Town Council"},{"$f":"IF(OR(COUNTRY_INFO!$T$9:$T$1000=\"T1 (PZQ+ALB/MBD)\",COUNTRY_INFO!$U$9:$U$1000=\"T1 (PZQ+ALB/MBD)\"), \"T1 (PZQ+ALB/MBD)\", \" \")","v":" "},null,null,null,null,null,null,0,null,null,null,0," "," "," "," "]
[{"$f":"IF(COUNTRY_INFO!A179=0,\" \",COUNTRY_INFO!A179)","v":"Tanzania"},{"$f":"IF(COUNTRY_INFO!B179=0,\" \",COUNTRY_INFO!B179)","v":"Tabora"},{"$f":"IF(COUNTRY_INFO!C179=0,\" \",COUNTRY_INFO!C179)","v":"Sikonge District Council"},{"$f":"IF(OR(COUNTRY_INFO!$T$9:$T$1000=\"T1 (PZQ+ALB/MBD)\",COUNTRY_INFO!$U$9:$U$1000=\"T1 (PZQ+ALB/MBD)\"), \"T1 (PZQ+ALB/MBD)\", \" \")","v":" "},null,null,null,null,null,null,0,null,null,null,0," "," "," "," "]
[{"$f":"IF(COUNTRY_INFO!A180=0,\" \",COUNTRY_INFO!A180)","v":"Tanzania"},{"$f":"IF(COUNTRY_INFO!B180=0,\" \",COUNTRY_INFO!B180)","v":"Tabora"},{"$f":"IF(COUNTRY_INFO!C180=0,\" \",COUNTRY_INFO!C180)","v":"Tabora Municipal Council"},{"$f":"IF(OR(COUNTRY_INFO!$T$9:$T$1000=\"T1 (PZQ+ALB/MBD)\",COUNTRY_INFO!$U$9:$U$1000=\"T1 (PZQ+ALB/MBD)\"), \"T1 (PZQ+ALB/MBD)\", \" \")","v":"T1 (PZQ+ALB/MBD)"},"PZQ+ALB","April - 2018",null,48371,48371,null,48371,null,44392,null,44392," ",91.77399681627422," ",91.77399681627422]
[{"$f":"IF(COUNTRY_INFO!A181=0,\" \",COUNTRY_INFO!A181)","v":"Tanzania"},{"$f":"IF(COUNTRY_INFO!B181=0,\" \",COUNTRY_INFO!B181)","v":"Tabora"},{"$f":"IF(COUNTRY_INFO!C181=0,\" \",COUNTRY_INFO!C181)","v":"Urambo District Council"},{"$f":"IF(OR(COUNTRY_INFO!$T$9:$T$1000=\"T1 (PZQ+ALB/MBD)\",COUNTRY_INFO!$U$9:$U$1000=\"T1 (PZQ+ALB/MBD)\"), \"T1 (PZQ+ALB/MBD)\", \" \")","v":"T1 (PZQ+ALB/MBD)"},"PZQ+ALB","April - 2018",null,46938,46938,null,46938,null,45410,null,45410," ",96.74464186799608," ",96.74464186799608]
[{"$f":"IF(COUNTRY_INFO!A182=0,\" \",COUNTRY_INFO!A182)","v":"Tanzania"},{"$f":"IF(COUNTRY_INFO!B182=0,\" \",COUNTRY_INFO!B182)","v":"Tabora"},{"$f":"IF(COUNTRY_INFO!C182=0,\" \",COUNTRY_INFO!C182)","v":"Uyui District Council"},{"$f":"IF(OR(COUNTRY_INFO!$T$9:$T$1000=\"T1 (PZQ+ALB/MBD)\",COUNTRY_INFO!$U$9:$U$1000=\"T1 (PZQ+ALB/MBD)\"), \"T1 (PZQ+ALB/MBD)\", \" \")","v":"T1 (PZQ+ALB/MBD)"},"PZQ+ALB","April - 2018",null,98805,98805,null,98805,null,91530,null,91530," ",92.637012296948541," ",92.637012296948541]
[{"$f":"IF(COUNTRY_INFO!A183=0,\" \",COUNTRY_INFO!A183)","v":"Tanzania"},{"$f":"IF(COUNTRY_INFO!B183=0,\" \",COUNTRY_INFO!B183)","v":"Tanga"},{"$f":"IF(COUNTRY_INFO!C183=0,\" \",COUNTRY_INFO!C183)","v":"Bumbuli District Council"},{"$f":"IF(OR(COUNTRY_INFO!$T$9:$T$1000=\"T1 (PZQ+ALB/MBD)\",COUNTRY_INFO!$U$9:$U$1000=\"T1 (PZQ+ALB/MBD)\"), \"T1 (PZQ+ALB/MBD)\", \" \")","v":"T1 (PZQ+ALB/MBD)"},"PZQ+ALB","July - 2018",null,44266,44266,null,44266,null,42571,null,42571," ",96.170876067410646," ",96.170876067410646]
[{"$f":"IF(COUNTRY_INFO!A184=0,\" \",COUNTRY_INFO!A184)","v":"Tanzania"},{"$f":"IF(COUNTRY_INFO!B184=0,\" \",COUNTRY_INFO!B184)","v":"Tanga"},{"$f":"IF(COUNTRY_INFO!C184=0,\" \",COUNTRY_INFO!C184)","v":"Handeni District Council"},{"$f":"IF(OR(COUNTRY_INFO!$T$9:$T$1000=\"T1 (PZQ+ALB/MBD)\",COUNTRY_INFO!$U$9:$U$1000=\"T1 (PZQ+ALB/MBD)\"), \"T1 (PZQ+ALB/MBD)\", \" \")","v":"T1 (PZQ+ALB/MBD)"},"PZQ+ALB","July - 2018",null,70290,70290,null,70290,null,69298,null,69298," ",98.588703940816615," ",98.588703940816615]
[{"$f":"IF(COUNTRY_INFO!A185=0,\" \",COUNTRY_INFO!A185)","v":"Tanzania"},{"$f":"IF(COUNTRY_INFO!B185=0,\" \",COUNTRY_INFO!B185)","v":"Tanga"},{"$f":"IF(COUNTRY_INFO!C185=0,\" \",COUNTRY_INFO!C185)","v":"Handeni Town Council"},{"$f":"IF(OR(COUNTRY_INFO!$T$9:$T$1000=\"T1 (PZQ+ALB/MBD)\",COUNTRY_INFO!$U$9:$U$1000=\"T1 (PZQ+ALB/MBD)\"), \"T1 (PZQ+ALB/MBD)\", \" \")","v":"T1 (PZQ+ALB/MBD)"},"PZQ+ALB","July - 2018",null,23020,23020,null,23020,null,20619,null,20619," ",89.569939183318866," ",89.569939183318866]
[{"$f":"IF(COUNTRY_INFO!A186=0,\" \",COUNTRY_INFO!A186)","v":"Tanzania"},{"$f":"IF(COUNTRY_INFO!B186=0,\" \",COUNTRY_INFO!B186)","v":"Tanga"},{"$f":"IF(COUNTRY_INFO!C186=0,\" \",COUNTRY_INFO!C186)","v":"Kilindi District Council"},{"$f":"IF(OR(COUNTRY_INFO!$T$9:$T$1000=\"T1 (PZQ+ALB/MBD)\",COUNTRY_INFO!$U$9:$U$1000=\"T1 (PZQ+ALB/MBD)\"), \"T1 (PZQ+ALB/MBD)\", \" \")","v":"T1 (PZQ+ALB/MBD)"},"PZQ+ALB","Aug - 2018",null,54336,54336,null,54336,null,49170,null,49170," ",90.492491166077741," ",90.492491166077741]
[{"$f":"IF(COUNTRY_INFO!A187=0,\" \",COUNTRY_INFO!A187)","v":"Tanzania"},{"$f":"IF(COUNTRY_INFO!B187=0,\" \",COUNTRY_INFO!B187)","v":"Tanga"},{"$f":"IF(COUNTRY_INFO!C187=0,\" \",COUNTRY_INFO!C187)","v":"Korogwe District Council"},{"$f":"IF(OR(COUNTRY_INFO!$T$9:$T$1000=\"T1 (PZQ+ALB/MBD)\",COUNTRY_INFO!$U$9:$U$1000=\"T1 (PZQ+ALB/MBD)\"), \"T1 (PZQ+ALB/MBD)\", \" \")","v":"T1 (PZQ+ALB/MBD)"},"PZQ+ALB","July - 2018",null,55862,55862,null,55862,null,54082,null,54082," ",96.813576313057183," ",96.813576313057183]
[{"$f":"IF(COUNTRY_INFO!A188=0,\" \",COUNTRY_INFO!A188)","v":"Tanzania"},{"$f":"IF(COUNTRY_INFO!B188=0,\" \",COUNTRY_INFO!B188)","v":"Tanga"},{"$f":"IF(COUNTRY_INFO!C188=0,\" \",COUNTRY_INFO!C188)","v":"Korogwe Town Council"},{"$f":"IF(OR(COUNTRY_INFO!$T$9:$T$1000=\"T1 (PZQ+ALB/MBD)\",COUNTRY_INFO!$U$9:$U$1000=\"T1 (PZQ+ALB/MBD)\"), \"T1 (PZQ+ALB/MBD)\", \" \")","v":"T1 (PZQ+ALB/MBD)"},"PZQ+ALB","July - 2018",null,16473,16473,null,16473,null,14443,null,14443," ",87.676804467917208," ",87.676804467917208]
[{"$f":"IF(COUNTRY_INFO!A189=0,\" \",COUNTRY_INFO!A189)","v":"Tanzania"},{"$f":"IF(COUNTRY_INFO!B189=0,\" \",COUNTRY_INFO!B189)","v":"Tanga"},{"$f":"IF(COUNTRY_INFO!C189=0,\" \",COUNTRY_INFO!C189)","v":"Lushoto District Council"},{"$f":"IF(OR(COUNTRY_INFO!$T$9:$T$1000=\"T1 (PZQ+ALB/MBD)\",COUNTRY_INFO!$U$9:$U$1000=\"T1 (PZQ+ALB/MBD)\"), \"T1 (PZQ+ALB/MBD)\", \" \")","v":"T1 (PZQ+ALB/MBD)"},"PZQ+ALB","Sept - 2018",null,86170,86170,null,86170,null,78728,null,78728," ",91.363583613786702," ",91.363583613786702]
[{"$f":"IF(COUNTRY_INFO!A190=0,\" \",COUNTRY_INFO!A190)","v":"Tanzania"},{"$f":"IF(COUNTRY_INFO!B190=0,\" \",COUNTRY_INFO!B190)","v":"Tanga"},{"$f":"IF(COUNTRY_INFO!C190=0,\" \",COUNTRY_INFO!C190)","v":"Mkinga District Council"},{"$f":"IF(OR(COUNTRY_INFO!$T$9:$T$1000=\"T1 (PZQ+ALB/MBD)\",COUNTRY_INFO!$U$9:$U$1000=\"T1 (PZQ+ALB/MBD)\"), \"T1 (PZQ+ALB/MBD)\", \" \")","v":"T1 (PZQ+ALB/MBD)"},"PZQ+ALB","July - 2018",null,32387,32387,null,32387,null,31313,null,31313," ",96.683854633031771," ",96.683854633031771]
[{"$f":"IF(COUNTRY_INFO!A191=0,\" \",COUNTRY_INFO!A191)","v":"Tanzania"},{"$f":"IF(COUNTRY_INFO!B191=0,\" \",COUNTRY_INFO!B191)","v":"Tanga"},{"$f":"IF(COUNTRY_INFO!C191=0,\" \",COUNTRY_INFO!C191)","v":"Muheza District Council"},{"$f":"IF(OR(COUNTRY_INFO!$T$9:$T$1000=\"T1 (PZQ+ALB/MBD)\",COUNTRY_INFO!$U$9:$U$1000=\"T1 (PZQ+ALB/MBD)\"), \"T1 (PZQ+ALB/MBD)\", \" \")","v":"T1 (PZQ+ALB/MBD)"},"PZQ+ALB","July - 2018",null,42067,42067,null,42067,null,31541,null,31541," ",74.978011267739561," ",74.978011267739561]
[{"$f":"IF(COUNTRY_INFO!A192=0,\" \",COUNTRY_INFO!A192)","v":"Tanzania"},{"$f":"IF(COUNTRY_INFO!B192=0,\" \",COUNTRY_INFO!B192)","v":"Tanga"},{"$f":"IF(COUNTRY_INFO!C192=0,\" \",COUNTRY_INFO!C192)","v":"Pangani District Council"},{"$f":"IF(OR(COUNTRY_INFO!$T$9:$T$1000=\"T1 (PZQ+ALB/MBD)\",COUNTRY_INFO!$U$9:$U$1000=\"T1 (PZQ+ALB/MBD)\"), \"T1 (PZQ+ALB/MBD)\", \" \")","v":"T1 (PZQ+ALB/MBD)"},"PZQ+ALB","July - 2018",null,13701,13701,null,13701,null,11634,null,11634," ",84.91350996277643," ",84.91350996277643]
[{"$f":"IF(COUNTRY_INFO!A193=0,\" \",COUNTRY_INFO!A193)","v":"Tanzania"},{"$f":"IF(COUNTRY_INFO!B193=0,\" \",COUNTRY_INFO!B193)","v":"Tanga"},{"$f":"IF(COUNTRY_INFO!C193=0,\" \",COUNTRY_INFO!C193)","v":"Tanga City Council"},{"$f":"IF(OR(COUNTRY_INFO!$T$9:$T$1000=\"T1 (PZQ+ALB/MBD)\",COUNTRY_INFO!$U$9:$U$1000=\"T1 (PZQ+ALB/MBD)\"), \"T1 (PZQ+ALB/MBD)\", \" \")","v":" "},null,null,null,null,null,null,0,null,null,null,0," "," "," "," "]

{"sheet":"T2","index":6,"n_rows":193,"n_cols":17,"rows_kept":193,"cut":false,"hidden":false,"merged":[[5,5,5,8],[5,9,5,12],[5,13,5,16],[3,0,3,2],[5,0,5,2],[5,3,6,3],[5,4,6,4]]}
["T 2 - Praziquantel (PZQ) "]
["Administrative structure, population requiring PC by age group, population treated by age group and coverage"]
[]
["TOTAL",null,null,null,null,{"$f":"SUM(F$9:F$1000)","v":0},469670,0,469670,0,408434,0,408434,{"$f":"IF(F4<>0, IF(J4/F4*100=0, \"-\", J4/F4*100), \" \")","v":" "},{"$f":"IF(G4<>0, IF(K4/G4*100=0, \"-\", K4/G4*100), \" \")","v":86.961909425767033},{"$f":"IF(H4<>0, IF(L4/H4*100=0, \"-\", L4/H4*100), \" \")","v":" "},{"$f":"IF(I4<>0, IF(M4/I4*100=0, \"-\", M4/I4*100), \" \")","v":86.961909425767033}]
[]
[null,null,null,"PC implemented","Date","Population targeted for T2",null,null,null,"Population treated",null,null,null,"Programme coverage (%)"]
["Country","Province/State","District",null,null,"PreSAC","SAC","Adults","Total","PreSAC","SAC","Adults","Total","PreSAC","SAC","Adults","Total"]
[]
[{"$f":"IF(COUNTRY_INFO!A9=0,\" \",COUNTRY_INFO!A9)","v":"Tanzania"},{"$f":"IF(COUNTRY_INFO!B9=0,\" \",COUNTRY_INFO!B9)","v":"Arusha"},{"$f":"IF(COUNTRY_INFO!C9=0,\" \",COUNTRY_INFO!C9)","v":"Arusha City Council"},{"$f":"IF(OR(COUNTRY_INFO!$T$9:$T$1000=\"T2 (PZQ)\",COUNTRY_INFO!$U$9:$U$1000=\"T2 (PZQ)\"), \"T2 (PZQ)\", \" \")","v":" "},null,null,null,null,{"$f":"SUM(F9:H9)","v":0},null,null,null,{"$f":"SUM(J9:L9)","v":0},{"$f":"IF(F9<>0, IF(J9/F9*100=0, \"-\", J9/F9*100), \" \")","v":" "}," "," "," "]
[{"$f":"IF(COUNTRY_INFO!A10=0,\" \",COUNTRY_INFO!A10)","v":"Tanzania"},{"$f":"IF(COUNTRY_INFO!B10=0,\" \",COUNTRY_INFO!B10)","v":"Arusha"},{"$f":"IF(COUNTRY_INFO!C10=0,\" \",COUNTRY_INFO!C10)","v":"Arusha District Council"},{"$f":"IF(OR(COUNTRY_INFO!$T$9:$T$1000=\"T2 (PZQ)\",COUNTRY_INFO!$U$9:$U$1000=\"T2 (PZQ)\"), \"T2 (PZQ)\", \" \")","v":" "},null,null,null,null,{"$f":"SUM(F10:H10)","v":0},null,null,null,{"$f":"SUM(J10:L10)","v":0},{"$f":"IF(F10<>0, IF(J10/F10*100=0, \"-\", J10/F10*100), \" \")","v":" "},{"$f":"IF(G10<>0, IF(K10/G10*100=0, \"-\", K10/G10*100), \" \")","v":" "},{"$f":"IF(H10<>0, IF(L10/H10*100=0, \"-\", L10/H10*100), \" \")","v":" "},{"$f":"IF(I10<>0, IF(M10/I10*100=0, \"-\", M10/I10*100), \" \")","v":" "}]
[{"$f":"IF(COUNTRY_INFO!A11=0,\" \",COUNTRY_INFO!A11)","v":"Tanzania"},{"$f":"IF(COUNTRY_INFO!B11=0,\" \",COUNTRY_INFO!B11)","v":"Arusha"},{"$f":"IF(COUNTRY_INFO!C11=0,\" \",COUNTRY_INFO!C11)","v":"Karatu District Council"},{"$f":"IF(OR(COUNTRY_INFO!$T$9:$T$1000=\"T2 (PZQ)\",COUNTRY_INFO!$U$9:$U$1000=\"T2 (PZQ)\"), \"T2 (PZQ)\", \" \")","v":" "},null,null,null,null,0,null,null,null,0," "," "," "," "]
[{"$f":"IF(COUNTRY_INFO!A12=0,\" \",COUNTRY_INFO!A12)","v":"Tanzania"},{"$f":"IF(COUNTRY_INFO!B12=0,\" \",COUNTRY_INFO!B12)","v":"Arusha"},{"$f":"IF(COUNTRY_INFO!C12=0,\" \",COUNTRY_INFO!C12)","v":"Longido District Council"},{"$f":"IF(OR(COUNTRY_INFO!$T$9:$T$1000=\"T2 (PZQ)\",COUNTRY_INFO!$U$9:$U$1000=\"T2 (PZQ)\"), \"T2 (PZQ)\", \" \")","v":" "},null,null,null,null,0,null,null,null,0," "," "," "," "]
[{"$f":"IF(COUNTRY_INFO!A13=0,\" \",COUNTRY_INFO!A13)","v":"Tanzania"},{"$f":"IF(COUNTRY_INFO!B13=0,\" \",COUNTRY_INFO!B13)","v":"Arusha"},{"$f":"IF(COUNTRY_INFO!C13=0,\" \",COUNTRY_INFO!C13)","v":"Meru District Council"},{"$f":"IF(OR(COUNTRY_INFO!$T$9:$T$1000=\"T2 (PZQ)\",COUNTRY_INFO!$U$9:$U$1000=\"T2 (PZQ)\"), \"T2 (PZQ)\", \" \")","v":" "},null,null,null,null,0,null,null,null,0," "," "," "," "]
[{"$f":"IF(COUNTRY_INFO!A14=0,\" \",COUNTRY_INFO!A14)","v":"Tanzania"},{"$f":"IF(COUNTRY_INFO!B14=0,\" \",COUNTRY_INFO!B14)","v":"Arusha"},{"$f":"IF(COUNTRY_INFO!C14=0,\" \",COUNTRY_INFO!C14)","v":"Monduli District Council"},{"$f":"IF(OR(COUNTRY_INFO!$T$9:$T$1000=\"T2 (PZQ)\",COUNTRY_INFO!$U$9:$U$1000=\"T2 (PZQ)\"), \"T2 (PZQ)\", \" \")","v":" "},null,null,null,null,0,null,null,null,0," "," "," "," "]
[{"$f":"IF(COUNTRY_INFO!A15=0,\" \",COUNTRY_INFO!A15)","v":"Tanzania"},{"$f":"IF(COUNTRY_INFO!B15=0,\" \",COUNTRY_INFO!B15)","v":"Arusha"},{"$f":"IF(COUNTRY_INFO!C15=0,\" \",COUNTRY_INFO!C15)","v":"Ngorongoro District Council"},{"$f":"IF(OR(COUNTRY_INFO!$T$9:$T$1000=\"T2 (PZQ)\",COUNTRY_INFO!$U$9:$U$1000=\"T2 (PZQ)\"), \"T2 (PZQ)\", \" \")","v":" "},null,null,null,null,0,null,null,null,0," "," "," "," "]
[{"$f":"IF(COUNTRY_INFO!A16=0,\" \",COUNTRY_INFO!A16)","v":"Tanzania"},{"$f":"IF(COUNTRY_INFO!B16=0,\" \",COUNTRY_INFO!B16)","v":"Dar Es Salaam"},{"$f":"IF(COUNTRY_INFO!C16=0,\" \",COUNTRY_INFO!C16)","v":"Dar es Salaam City Council "},{"$f":"IF(OR(COUNTRY_INFO!$T$9:$T$1000=\"T2 (PZQ)\",COUNTRY_INFO!$U$9:$U$1000=\"T2 (PZQ)\"), \"T2 (PZQ)\", \" \")","v":" "},null,null,null,null,0,null,null,null,0," "," "," "," "]
[{"$f":"IF(COUNTRY_INFO!A17=0,\" \",COUNTRY_INFO!A17)","v":"Tanzania"},{"$f":"IF(COUNTRY_INFO!B17=0,\" \",COUNTRY_INFO!B17)","v":"Dar Es Salaam"},{"$f":"IF(COUNTRY_INFO!C17=0,\" \",COUNTRY_INFO!C17)","v":"Ilala Municipal Council"},{"$f":"IF(OR(COUNTRY_INFO!$T$9:$T$1000=\"T2 (PZQ)\",COUNTRY_INFO!$U$9:$U$1000=\"T2 (PZQ)\"), \"T2 (PZQ)\", \" \")","v":" "},null,null,null,null,0,null,null,null,0," "," "," "," "]
[{"$f":"IF(COUNTRY_INFO!A18=0,\" \",COUNTRY_INFO!A18)","v":"Tanzania"},{"$f":"IF(COUNTRY_INFO!B18=0,\" \",COUNTRY_INFO!B18)","v":"Dar Es Salaam"},{"$f":"IF(COUNTRY_INFO!C18=0,\" \",COUNTRY_INFO!C18)","v":"Kigamboni Municipal Council"},{"$f":"IF(OR(COUNTRY_INFO!$T$9:$T$1000=\"T2 (PZQ)\",COUNTRY_INFO!$U$9:$U$1000=\"T2 (PZQ)\"), \"T2 (PZQ)\", \" \")","v":" "},null,null,null,null,0,null,null,null,0," "," "," "," "]
[{"$f":"IF(COUNTRY_INFO!A19=0,\" \",COUNTRY_INFO!A19)","v":"Tanzania"},{"$f":"IF(COUNTRY_INFO!B19=0,\" \",COUNTRY_INFO!B19)","v":"Dar Es Salaam"},{"$f":"IF(COUNTRY_INFO!C19=0,\" \",COUNTRY_INFO!C19)","v":"Kinondoni Municipal Council"},{"$f":"IF(OR(COUNTRY_INFO!$T$9:$T$1000=\"T2 (PZQ)\",COUNTRY_INFO!$U$9:$U$1000=\"T2 (PZQ)\"), \"T2 (PZQ)\", \" \")","v":" "},null,null,null,null,0,null,null,null,0," "," "," "," "]
[{"$f":"IF(COUNTRY_INFO!A20=0,\" \",COUNTRY_INFO!A20)","v":"Tanzania"},{"$f":"IF(COUNTRY_INFO!B20=0,\" \",COUNTRY_INFO!B20)","v":"Dar Es Salaam"},{"$f":"IF(COUNTRY_INFO!C20=0,\" \",COUNTRY_INFO!C20)","v":"Temeke Municipal Council"},{"$f":"IF(OR(COUNTRY_INFO!$T$9:$T$1000=\"T2 (PZQ)\",COUNTRY_INFO!$U$9:$U$1000=\"T2 (PZQ)\"), \"T2 (PZQ)\", \" \")","v":" "},null,null,null,null,0,null,null,null,0," "," "," "," "]
[{"$f":"IF(COUNTRY_INFO!A21=0,\" \",COUNTRY_INFO!A21)","v":"Tanzania"},{"$f":"IF(COUNTRY_INFO!B21=0,\" \",COUNTRY_INFO!B21)","v":"Dar Es Salaam"},{"$f":"IF(COUNTRY_INFO!C21=0,\" \",COUNTRY_INFO!C21)","v":"Ubungo Municipal Council"},{"$f":"IF(OR(COUNTRY_INFO!$T$9:$T$1000=\"T2 (PZQ)\",COUNTRY_INFO!$U$9:$U$1000=\"T2 (PZQ)\"), \"T2 (PZQ)\", \" \")","v":" "},null,null,null,null,0,null,null,null,0," "," "," "," "]
[{"$f":"IF(COUNTRY_INFO!A22=0,\" \",COUNTRY_INFO!A22)","v":"Tanzania"},{"$f":"IF(COUNTRY_INFO!B22=0,\" \",COUNTRY_INFO!B22)","v":"Dodoma"},{"$f":"IF(COUNTRY_INFO!C22=0,\" \",COUNTRY_INFO!C22)","v":"Bahi District Council"},{"$f":"IF(OR(COUNTRY_INFO!$T$9:$T$1000=\"T2 (PZQ)\",COUNTRY_INFO!$U$9:$U$1000=\"T2 (PZQ)\"), \"T2 (PZQ)\", \" \")","v":" "},null,null,null,null,0,null,null,null,0," "," "," "," "]
[{"$f":"IF(COUNTRY_INFO!A23=0,\" \",COUNTRY_INFO!A23)","v":"Tanzania"},{"$f":"IF(COUNTRY_INFO!B23=0,\" \",COUNTRY_INFO!B23)","v":"Dodoma"},{"$f":"IF(COUNTRY_INFO!C23=0,\" \",COUNTRY_INFO!C23)","v":"Chamwino District Council"},{"$f":"IF(OR(COUNTRY_INFO!$T$9:$T$1000=\"T2 (PZQ)\",COUNTRY_INFO!$U$9:$U$1000=\"T2 (PZQ)\"), \"T2 (PZQ)\", \" \")","v":" "},null,null,null,null,0,null,null,null,0," "," "," "," "]
[{"$f":"IF(COUNTRY_INFO!A24=0,\" \",COUNTRY_INFO!A24)","v":"Tanzania"},{"$f":"IF(COUNTRY_INFO!B24=0,\" \",COUNTRY_INFO!B24)","v":"Dodoma"},{"$f":"IF(COUNTRY_INFO!C24=0,\" \",COUNTRY_INFO!C24)","v":"Chemba District Council"},{"$f":"IF(OR(COUNTRY_INFO!$T$9:$T$1000=\"T2 (PZQ)\",COUNTRY_INFO!$U$9:$U$1000=\"T2 (PZQ)\"), \"T2 (PZQ)\", \" \")","v":" "},null,null,null,null,0,null,null,null,0," "," "," "," "]
[{"$f":"IF(COUNTRY_INFO!A25=0,\" \",COUNTRY_INFO!A25)","v":"Tanzania"},{"$f":"IF(COUNTRY_INFO!B25=0,\" \",COUNTRY_INFO!B25)","v":"Dodoma"},{"$f":"IF(COUNTRY_INFO!C25=0,\" \",COUNTRY_INFO!C25)","v":"Dodoma Municipal Council"},{"$f":"IF(OR(COUNTRY_INFO!$T$9:$T$1000=\"T2 (PZQ)\",COUNTRY_INFO!$U$9:$U$1000=\"T2 (PZQ)\"), \"T2 (PZQ)\", \" \")","v":" "},null,null,null,null,0,null,null,null,0," "," "," "," "]
[{"$f":"IF(COUNTRY_INFO!A26=0,\" \",COUNTRY_INFO!A26)","v":"Tanzania"},{"$f":"IF(COUNTRY_INFO!B26=0,\" \",COUNTRY_INFO!B26)","v":"Dodoma"},{"$f":"IF(COUNTRY_INFO!C26=0,\" \",COUNTRY_INFO!C26)","v":"Kondoa District Council"},{"$f":"IF(OR(COUNTRY_INFO!$T$9:$T$1000=\"T2 (PZQ)\",COUNTRY_INFO!$U$9:$U$1000=\"T2 (PZQ)\"), \"T2 (PZQ)\", \" \")","v":" "},null,null,null,null,0,null,null,null,0," "," "," "," "]
[{"$f":"IF(COUNTRY_INFO!A27=0,\" \",COUNTRY_INFO!A27)","v":"Tanzania"},{"$f":"IF(COUNTRY_INFO!B27=0,\" \",COUNTRY_INFO!B27)","v":"Dodoma"},{"$f":"IF(COUNTRY_INFO!C27=0,\" \",COUNTRY_INFO!C27)","v":"Kondoa Town Council "},{"$f":"IF(OR(COUNTRY_INFO!$T$9:$T$1000=\"T2 (PZQ)\",COUNTRY_INFO!$U$9:$U$1000=\"T2 (PZQ)\"), \"T2 (PZQ)\", \" \")","v":" "},null,null,null,null,0,null,null,null,0," "," "," "," "]
[{"$f":"IF(COUNTRY_INFO!A28=0,\" \",COUNTRY_INFO!A28)","v":"Tanzania"},{"$f":"IF(COUNTRY_INFO!B28=0,\" \",COUNTRY_INFO!B28)","v":"Dodoma"},{"$f":"IF(COUNTRY_INFO!C28=0,\" \",COUNTRY_INFO!C28)","v":"Kongwa District Council"},{"$f":"IF(OR(COUNTRY_INFO!$T$9:$T$1000=\"T2 (PZQ)\",COUNTRY_INFO!$U$9:$U$1000=\"T2 (PZQ)\"), \"T2 (PZQ)\", \" \")","v":" "},null,null,null,null,0,null,null,null,0," "," "," "," "]
[{"$f":"IF(COUNTRY_INFO!A29=0,\" \",COUNTRY_INFO!A29)","v":"Tanzania"},{"$f":"IF(COUNTRY_INFO!B29=0,\" \",COUNTRY_INFO!B29)","v":"Dodoma"},{"$f":"IF(COUNTRY_INFO!C29=0,\" \",COUNTRY_INFO!C29)","v":"Mpwapwa District Council"},{"$f":"IF(OR(COUNTRY_INFO!$T$9:$T$1000=\"T2 (PZQ)\",COUNTRY_INFO!$U$9:$U$1000=\"T2 (PZQ)\"), \"T2 (PZQ)\", \" \")","v":" "},null,null,null,null,0,null,null,null,0," "," "," "," "]
[{"$f":"IF(COUNTRY_INFO!A30=0,\" \",COUNTRY_INFO!A30)","v":"Tanzania"},{"$f":"IF(COUNTRY_INFO!B30=0,\" \",COUNTRY_INFO!B30)","v":"Geita"},{"$f":"IF(COUNTRY_INFO!C30=0,\" \",COUNTRY_INFO!C30)","v":"Bukombe District Council"},{"$f":"IF(OR(COUNTRY_INFO!$T$9:$T$1000=\"T2 (PZQ)\",COUNTRY_INFO!$U$9:$U$1000=\"T2 (PZQ)\"), \"T2 (PZQ)\", \" \")","v":" "},null,null,null,null,0,null,null,null,0," "," "," "," "]
[{"$f":"IF(COUNTRY_INFO!A31=0,\" \",COUNTRY_INFO!A31)","v":"Tanzania"},{"$f":"IF(COUNTRY_INFO!B31=0,\" \",COUNTRY_INFO!B31)","v":"Geita"},{"$f":"IF(COUNTRY_INFO!C31=0,\" \",COUNTRY_INFO!C31)","v":"Chato District Council"},{"$f":"IF(OR(COUNTRY_INFO!$T$9:$T$1000=\"T2 (PZQ)\",COUNTRY_INFO!$U$9:$U$1000=\"T2 (PZQ)\"), \"T2 (PZQ)\", \" \")","v":" "},null,null,null,null,0,null,null,null,0," "," "," "," "]
[{"$f":"IF(COUNTRY_INFO!A32=0,\" \",COUNTRY_INFO!A32)","v":"Tanzania"},{"$f":"IF(COUNTRY_INFO!B32=0,\" \",COUNTRY_INFO!B32)","v":"Geita"},{"$f":"IF(COUNTRY_INFO!C32=0,\" \",COUNTRY_INFO!C32)","v":"Geita District Council"},{"$f":"IF(OR(COUNTRY_INFO!$T$9:$T$1000=\"T2 (PZQ)\",COUNTRY_INFO!$U$9:$U$1000=\"T2 (PZQ)\"), \"T2 (PZQ)\", \" \")","v":" "},null,null,null,null,0,null,null,null,0," "," "," "," "]
[{"$f":"IF(COUNTRY_INFO!A33=0,\" \",COUNTRY_INFO!A33)","v":"Tanzania"},{"$f":"IF(COUNTRY_INFO!B33=0,\" \",COUNTRY_INFO!B33)","v":"Geita"},{"$f":"IF(COUNTRY_INFO!C33=0,\" \",COUNTRY_INFO!C33)","v":"Geita Town Council"},{"$f":"IF(OR(COUNTRY_INFO!$T$9:$T$1000=\"T2 (PZQ)\",COUNTRY_INFO!$U$9:$U$1000=\"T2 (PZQ)\"), \"T2 (PZQ)\", \" \")","v":" "},null,null,null,null,0,null,null,null,0," "," "," "," "]
[{"$f":"IF(COUNTRY_INFO!A34=0,\" \",COUNTRY_INFO!A34)","v":"Tanzania"},{"$f":"IF(COUNTRY_INFO!B34=0,\" \",COUNTRY_INFO!B34)","v":"Geita"},{"$f":"IF(COUNTRY_INFO!C34=0,\" \",COUNTRY_INFO!C34)","v":"Mbogwe District Council"},{"$f":"IF(OR(COUNTRY_INFO!$T$9:$T$1000=\"T2 (PZQ)\",COUNTRY_INFO!$U$9:$U$1000=\"T2 (PZQ)\"), \"T2 (PZQ)\", \" \")","v":" "},null,null,null,null,0,null,null,null,0," "," "," "," "]
[{"$f":"IF(COUNTRY_INFO!A35=0,\" \",COUNTRY_INFO!A35)","v":"Tanzania"},{"$f":"IF(COUNTRY_INFO!B35=0,\" \",COUNTRY_INFO!B35)","v":"Geita"},{"$f":"IF(COUNTRY_INFO!C35=0,\" \",COUNTRY_INFO!C35)","v":"Nyang'hwale District Council"},{"$f":"IF(OR(COUNTRY_INFO!$T$9:$T$1000=\"T2 (PZQ)\",COUNTRY_INFO!$U$9:$U$1000=\"T2 (PZQ)\"), \"T2 (PZQ)\", \" \")","v":" "},null,null,null,null,0,null,null,null,0," "," "," "," "]
[{"$f":"IF(COUNTRY_INFO!A36=0,\" \",COUNTRY_INFO!A36)","v":"Tanzania"},{"$f":"IF(COUNTRY_INFO!B36=0,\" \",COUNTRY_INFO!B36)","v":"Iringa"},{"$f":"IF(COUNTRY_INFO!C36=0,\" \",COUNTRY_INFO!C36)","v":"Iringa District Council"},{"$f":"IF(OR(COUNTRY_INFO!$T$9:$T$1000=\"T2 (PZQ)\",COUNTRY_INFO!$U$9:$U$1000=\"T2 (PZQ)\"), \"T2 (PZQ)\", \" \")","v":" "},null,null,null,null,0,null,null,null,0," "," "," "," "]
[{"$f":"IF(COUNTRY_INFO!A37=0,\" \",COUNTRY_INFO!A37)","v":"Tanzania"},{"$f":"IF(COUNTRY_INFO!B37=0,\" \",COUNTRY_INFO!B37)","v":"Iringa"},{"$f":"IF(COUNTRY_INFO!C37=0,\" \",COUNTRY_INFO!C37)","v":"Iringa Municipal Council"},{"$f":"IF(OR(COUNTRY_INFO!$T$9:$T$1000=\"T2 (PZQ)\",COUNTRY_INFO!$U$9:$U$1000=\"T2 (PZQ)\"), \"T2 (PZQ)\", \" \")","v":" "},null,null,null,null,0,null,null,null,0," "," "," "," "]
[{"$f":"IF(COUNTRY_INFO!A38=0,\" \",COUNTRY_INFO!A38)","v":"Tanzania"},{"$f":"IF(COUNTRY_INFO!B38=0,\" \",COUNTRY_INFO!B38)","v":"Iringa"},{"$f":"IF(COUNTRY_INFO!C38=0,\" \",COUNTRY_INFO!C38)","v":"Kilolo District Council"},{"$f":"IF(OR(COUNTRY_INFO!$T$9:$T$1000=\"T2 (PZQ)\",COUNTRY_INFO!$U$9:$U$1000=\"T2 (PZQ)\"), \"T2 (PZQ)\", \" \")","v":" "},null,null,null,null,0,null,null,null,0," "," "," "," "]
[{"$f":"IF(COUNTRY_INFO!A39=0,\" \",COUNTRY_INFO!A39)","v":"Tanzania"},{"$f":"IF(COUNTRY_INFO!B39=0,\" \",COUNTRY_INFO!B39)","v":"Iringa"},{"$f":"IF(COUNTRY_INFO!C39=0,\" \",COUNTRY_INFO!C39)","v":"Mafinga Town Council"},{"$f":"IF(OR(COUNTRY_INFO!$T$9:$T$1000=\"T2 (PZQ)\",COUNTRY_INFO!$U$9:$U$1000=\"T2 (PZQ)\"), \"T2 (PZQ)\", \" \")","v":" "},null,null,null,null,0,null,null,null,0," "," "," "," "]
[{"$f":"IF(COUNTRY_INFO!A40=0,\" \",COUNTRY_INFO!A40)","v":"Tanzania"},{"$f":"IF(COUNTRY_INFO!B40=0,\" \",COUNTRY_INFO!B40)","v":"Iringa"},{"$f":"IF(COUNTRY_INFO!C40=0,\" \",COUNTRY_INFO!C40)","v":"Mufindi District Council"},{"$f":"IF(OR(COUNTRY_INFO!$T$9:$T$1000=\"T2 (PZQ)\",COUNTRY_INFO!$U$9:$U$1000=\"T2 (PZQ)\"), \"T2 (PZQ)\", \" \")","v":" "},null,null,null,null,0,null,null,null,0," "," "," "," "]
[{"$f":"IF(COUNTRY_INFO!A41=0,\" \",COUNTRY_INFO!A41)","v":"Tanzania"},{"$f":"IF(COUNTRY_INFO!B41=0,\" \",COUNTRY_INFO!B41)","v":"Kagera"},{"$f":"IF(COUNTRY_INFO!C41=0,\" \",COUNTRY_INFO!C41)","v":"Biharamulo District Council"},{"$f":"IF(OR(COUNTRY_INFO!$T$9:$T$1000=\"T2 (PZQ)\",COUNTRY_INFO!$U$9:$U$1000=\"T2 (PZQ)\"), \"T2 (PZQ)\", \" \")","v":" "},null,null,null,null,0,null,null,null,0," "," "," "," "]
[{"$f":"IF(COUNTRY_INFO!A42=0,\" \",COUNTRY_INFO!A42)","v":"Tanzania"},{"$f":"IF(COUNTRY_INFO!B42=0,\" \",COUNTRY_INFO!B42)","v":"Kagera"},{"$f":"IF(COUNTRY_INFO!C42=0,\" \",COUNTRY_INFO!C42)","v":"Bukoba District Council"},{"$f":"IF(OR(COUNTRY_INFO!$T$9:$T$1000=\"T2 (PZQ)\",COUNTRY_INFO!$U$9:$U$1000=\"T2 (PZQ)\"), \"T2 (PZQ)\", \" \")","v":" "},null,null,null,null,0,null,null,null,0," "," "," "," "]
[{"$f":"IF(COUNTRY_INFO!A43=0,\" \",COUNTRY_INFO!A43)","v":"Tanzania"},{"$f":"IF(COUNTRY_INFO!B43=0,\" \",COUNTRY_INFO!B43)","v":"Kagera"},{"$f":"IF(COUNTRY_INFO!C43=0,\" \",COUNTRY_INFO!C43)","v":"Bukoba Municipal Council"},{"$f":"IF(OR(COUNTRY_INFO!$T$9:$T$1000=\"T2 (PZQ)\",COUNTRY_INFO!$U$9:$U$1000=\"T2 (PZQ)\"), \"T2 (PZQ)\", \" \")","v":" "},null,null,null,null,0,null,null,null,0," "," "," "," "]
[{"$f":"IF(COUNTRY_INFO!A44=0,\" \",COUNTRY_INFO!A44)","v":"Tanzania"},{"$f":"IF(COUNTRY_INFO!B44=0,\" \",COUNTRY_INFO!B44)","v":"Kagera"},{"$f":"IF(COUNTRY_INFO!C44=0,\" \",COUNTRY_INFO!C44)","v":"Karagwe District Council"},{"$f":"IF(OR(COUNTRY_INFO!$T$9:$T$1000=\"T2 (PZQ)\",COUNTRY_INFO!$U$9:$U$1000=\"T2 (PZQ)\"), \"T2 (PZQ)\", \" \")","v":" "},null,null,null,null,0,null,null,null,0," "," "," "," "]
[{"$f":"IF(COUNTRY_INFO!A45=0,\" \",COUNTRY_INFO!A45)","v":"Tanzania"},{"$f":"IF(COUNTRY_INFO!B45=0,\" \",COUNTRY_INFO!B45)","v":"Kagera"},{"$f":"IF(COUNTRY_INFO!C45=0,\" \",COUNTRY_INFO!C45)","v":"Kyerwa District Council"},{"$f":"IF(OR(COUNTRY_INFO!$T$9:$T$1000=\"T2 (PZQ)\",COUNTRY_INFO!$U$9:$U$1000=\"T2 (PZQ)\"), \"T2 (PZQ)\", \" \")","v":" "},null,null,null,null,0,null,null,null,0," "," "," "," "]
[{"$f":"IF(COUNTRY_INFO!A46=0,\" \",COUNTRY_INFO!A46)","v":"Tanzania"},{"$f":"IF(COUNTRY_INFO!B46=0,\" \",COUNTRY_INFO!B46)","v":"Kagera"},{"$f":"IF(COUNTRY_INFO!C46=0,\" \",COUNTRY_INFO!C46)","v":"Missenyi District Council"},{"$f":"IF(OR(COUNTRY_INFO!$T$9:$T$1000=\"T2 (PZQ)\",COUNTRY_INFO!$U$9:$U$1000=\"T2 (PZQ)\"), \"T2 (PZQ)\", \" \")","v":" "},null,null,null,null,0,null,null,null,0," "," "," "," "]
[{"$f":"IF(COUNTRY_INFO!A47=0,\" \",COUNTRY_INFO!A47)","v":"Tanzania"},{"$f":"IF(COUNTRY_INFO!B47=0,\" \",COUNTRY_INFO!B47)","v":"Kagera"},{"$f":"IF(COUNTRY_INFO!C47=0,\" \",COUNTRY_INFO!C47)","v":"Muleba District Council"},{"$f":"IF(OR(COUNTRY_INFO!$T$9:$T$1000=\"T2 (PZQ)\",COUNTRY_INFO!$U$9:$U$1000=\"T2 (PZQ)\"), \"T2 (PZQ)\", \" \")","v":" "},null,null,null,null,0,null,null,null,0," "," "," "," "]
[{"$f":"IF(COUNTRY_INFO!A48=0,\" \",COUNTRY_INFO!A48)","v":"Tanzania"},{"$f":"IF(COUNTRY_INFO!B48=0,\" \",COUNTRY_INFO!B48)","v":"Kagera"},{"$f":"IF(COUNTRY_INFO!C48=0,\" \",COUNTRY_INFO!C48)","v":"Ngara District Council"},{"$f":"IF(OR(COUNTRY_INFO!$T$9:$T$1000=\"T2 (PZQ)\",COUNTRY_INFO!$U$9:$U$1000=\"T2 (PZQ)\"), \"T2 (PZQ)\", \" \")","v":" "},null,null,null,null,0,null,null,null,0," "," "," "," "]
[{"$f":"IF(COUNTRY_INFO!A49=0,\" \",COUNTRY_INFO!A49)","v":"Tanzania"},{"$f":"IF(COUNTRY_INFO!B49=0,\" \",COUNTRY_INFO!B49)","v":"Katavi"},{"$f":"IF(COUNTRY_INFO!C49=0,\" \",COUNTRY_INFO!C49)","v":"Mlele District Council"},{"$f":"IF(OR(COUNTRY_INFO!$T$9:$T$1000=\"T2 (PZQ)\",COUNTRY_INFO!$U$9:$U$1000=\"T2 (PZQ)\"), \"T2 (PZQ)\", \" \")","v":" "},null,null,null,null,0,null,null,null,0," "," "," "," "]
[{"$f":"IF(COUNTRY_INFO!A50=0,\" \",COUNTRY_INFO!A50)","v":"Tanzania"},{"$f":"IF(COUNTRY_INFO!B50=0,\" \",COUNTRY_INFO!B50)","v":"Katavi"},{"$f":"IF(COUNTRY_INFO!C50=0,\" \",COUNTRY_INFO!C50)","v":"Mpanda District Council"},{"$f":"IF(OR(COUNTRY_INFO!$T$9:$T$1000=\"T2 (PZQ)\",COUNTRY_INFO!$U$9:$U$1000=\"T2 (PZQ)\"), \"T2 (PZQ)\", \" \")","v":" "},null,null,null,null,0,null,null,null,0," "," "," "," "]
[{"$f":"IF(COUNTRY_INFO!A51=0,\" \",COUNTRY_INFO!A51)","v":"Tanzania"},{"$f":"IF(COUNTRY_INFO!B51=0,\" \",COUNTRY_INFO!B51)","v":"Katavi"},{"$f":"IF(COUNTRY_INFO!C51=0,\" \",COUNTRY_INFO!C51)","v":"Mpanda Municipal Council"},{"$f":"IF(OR(COUNTRY_INFO!$T$9:$T$1000=\"T2 (PZQ)\",COUNTRY_INFO!$U$9:$U$1000=\"T2 (PZQ)\"), \"T2 (PZQ)\", \" \")","v":" "},null,null,null,null,0,null,null,null,0," "," "," "," "]
[{"$f":"IF(COUNTRY_INFO!A52=0,\" \",COUNTRY_INFO!A52)","v":"Tanzania"},{"$f":"IF(COUNTRY_INFO!B52=0,\" \",COUNTRY_INFO!B52)","v":"Katavi"},{"$f":"IF(COUNTRY_INFO!C52=0,\" \",COUNTRY_INFO!C52)","v":"Mpimbwe District Council"},{"$f":"IF(OR(COUNTRY_INFO!$T$9:$T$1000=\"T2 (PZQ)\",COUNTRY_INFO!$U$9:$U$1000=\"T2 (PZQ)\"), \"T2 (PZQ)\", \" \")","v":" "},null,null,null,null,0,null,null,null,0," "," "," "," "]
[{"$f":"IF(COUNTRY_INFO!A53=0,\" \",COUNTRY_INFO!A53)","v":"Tanzania"},{"$f":"IF(COUNTRY_INFO!B53=0,\" \",COUNTRY_INFO!B53)","v":"Katavi"},{"$f":"IF(COUNTRY_INFO!C53=0,\" \",COUNTRY_INFO!C53)","v":"Nsimbo District Council"},{"$f":"IF(OR(COUNTRY_INFO!$T$9:$T$1000=\"T2 (PZQ)\",COUNTRY_INFO!$U$9:$U$1000=\"T2 (PZQ)\"), \"T2 (PZQ)\", \" \")","v":" "},null,null,null,null,0,null,null,null,0," "," "," "," "]
[{"$f":"IF(COUNTRY_INFO!A54=0,\" \",COUNTRY_INFO!A54)","v":"Tanzania"},{"$f":"IF(COUNTRY_INFO!B54=0,\" \",COUNTRY_INFO!B54)","v":"Kigoma"},{"$f":"IF(COUNTRY_INFO!C54=0,\" \",COUNTRY_INFO!C54)","v":"Buhigwe District Council"},{"$f":"IF(OR(COUNTRY_INFO!$T$9:$T$1000=\"T2 (PZQ)\",COUNTRY_INFO!$U$9:$U$1000=\"T2 (PZQ)\"), \"T2 (PZQ)\", \" \")","v":" "},null,null,null,null,0,null,null,null,0," "," "," "," "]
[{"$f":"IF(COUNTRY_INFO!A55=0,\" \",COUNTRY_INFO!A55)","v":"Tanzania"},{"$f":"IF(COUNTRY_INFO!B55=0,\" \",COUNTRY_INFO!B55)","v":"Kigoma"},{"$f":"IF(COUNTRY_INFO!C55=0,\" \",COUNTRY_INFO!C55)","v":"Kakonko District Council"},{"$f":"IF(OR(COUNTRY_INFO!$T$9:$T$1000=\"T2 (PZQ)\",COUNTRY_INFO!$U$9:$U$1000=\"T2 (PZQ)\"), \"T2 (PZQ)\", \" \")","v":" "},null,null,null,null,0,null,null,null,0," "," "," "," "]
[{"$f":"IF(COUNTRY_INFO!A56=0,\" \",COUNTRY_INFO!A56)","v":"Tanzania"},{"$f":"IF(COUNTRY_INFO!B56=0,\" \",COUNTRY_INFO!B56)","v":"Kigoma"},{"$f":"IF(COUNTRY_INFO!C56=0,\" \",COUNTRY_INFO!C56)","v":"Kasulu District Council"},{"$f":"IF(OR(COUNTRY_INFO!$T$9:$T$1000=\"T2 (PZQ)\",COUNTRY_INFO!$U$9:$U$1000=\"T2 (PZQ)\"), \"T2 (PZQ)\", \" \")","v":" "},null,null,null,null,0,null,null,null,0," "," "," "," "]
[{"$f":"IF(COUNTRY_INFO!A57=0,\" \",COUNTRY_INFO!A57)","v":"Tanzania"},{"$f":"IF(COUNTRY_INFO!B57=0,\" \",COUNTRY_INFO!B57)","v":"Kigoma"},{"$f":"IF(COUNTRY_INFO!C57=0,\" \",COUNTRY_INFO!C57)","v":"Kasulu Town Council"},{"$f":"IF(OR(COUNTRY_INFO!$T$9:$T$1000=\"T2 (PZQ)\",COUNTRY_INFO!$U$9:$U$1000=\"T2 (PZQ)\"), \"T2 (PZQ)\", \" \")","v":" "},null,null,null,null,0,null,null,null,0," "," "," "," "]
[{"$f":"IF(COUNTRY_INFO!A58=0,\" \",COUNTRY_INFO!A58)","v":"Tanzania"},{"$f":"IF(COUNTRY_INFO!B58=0,\" \",COUNTRY_INFO!B58)","v":"Kigoma"},{"$f":"IF(COUNTRY_INFO!C58=0,\" \",COUNTRY_INFO!C58)","v":"Kibondo District Council"},{"$f":"IF(OR(COUNTRY_INFO!$T$9:$T$1000=\"T2 (PZQ)\",COUNTRY_INFO!$U$9:$U$1000=\"T2 (PZQ)\"), \"T2 (PZQ)\", \" \")","v":" "},null,null,null,null,0,null,null,null,0," "," "," "," "]
[{"$f":"IF(COUNTRY_INFO!A59=0,\" \",COUNTRY_INFO!A59)","v":"Tanzania"},{"$f":"IF(COUNTRY_INFO!B59=0,\" \",COUNTRY_INFO!B59)","v":"Kigoma"},{"$f":"IF(COUNTRY_INFO!C59=0,\" \",COUNTRY_INFO!C59)","v":"Kigoma District Council"},{"$f":"IF(OR(COUNTRY_INFO!$T$9:$T$1000=\"T2 (PZQ)\",COUNTRY_INFO!$U$9:$U$1000=\"T2 (PZQ)\"), \"T2 (PZQ)\", \" \")","v":" "},null,null,null,null,0,null,null,null,0," "," "," "," "]
[{"$f":"IF(COUNTRY_INFO!A60=0,\" \",COUNTRY_INFO!A60)","v":"Tanzania"},{"$f":"IF(COUNTRY_INFO!B60=0,\" \",COUNTRY_INFO!B60)","v":"Kigoma"},{"$f":"IF(COUNTRY_INFO!C60=0,\" \",COUNTRY_INFO!C60)","v":"Kigoma-Ujiji Municipal Council"},{"$f":"IF(OR(COUNTRY_INFO!$T$9:$T$1000=\"T2 (PZQ)\",COUNTRY_INFO!$U$9:$U$1000=\"T2 (PZQ)\"), \"T2 (PZQ)\", \" \")","v":" "},null,null,null,null,0,null,null,null,0," "," "," "," "]
[{"$f":"IF(COUNTRY_INFO!A61=0,\" \",COUNTRY_INFO!A61)","v":"Tanzania"},{"$f":"IF(COUNTRY_INFO!B61=0,\" \",COUNTRY_INFO!B61)","v":"Kigoma"},{"$f":"IF(COUNTRY_INFO!C61=0,\" \",COUNTRY_INFO!C61)","v":"Uvinza District Council"},{"$f":"IF(OR(COUNTRY_INFO!$T$9:$T$1000=\"T2 (PZQ)\",COUNTRY_INFO!$U$9:$U$1000=\"T2 (PZQ)\"), \"T2 (PZQ)\", \" \")","v":" "},null,null,null,null,0,null,null,null,0," "," "," "," "]
[{"$f":"IF(COUNTRY_INFO!A62=0,\" \",COUNTRY_INFO!A62)","v":"Tanzania"},{"$f":"IF(COUNTRY_INFO!B62=0,\" \",COUNTRY_INFO!B62)","v":"Kilimanjaro"},{"$f":"IF(COUNTRY_INFO!C62=0,\" \",COUNTRY_INFO!C62)","v":"Hai District Council"},{"$f":"IF(OR(COUNTRY_INFO!$T$9:$T$1000=\"T2 (PZQ)\",COUNTRY_INFO!$U$9:$U$1000=\"T2 (PZQ)\"), \"T2 (PZQ)\", \" \")","v":" "},null,null,null,null,0,null,null,null,0," "," "," "," "]
[{"$f":"IF(COUNTRY_INFO!A63=0,\" \",COUNTRY_INFO!A63)","v":"Tanzania"},{"$f":"IF(COUNTRY_INFO!B63=0,\" \",COUNTRY_INFO!B63)","v":"Kilimanjaro"},{"$f":"IF(COUNTRY_INFO!C63=0,\" \",COUNTRY_INFO!C63)","v":"Moshi District Council"},{"$f":"IF(OR(COUNTRY_INFO!$T$9:$T$1000=\"T2 (PZQ)\",COUNTRY_INFO!$U$9:$U$1000=\"T2 (PZQ)\"), \"T2 (PZQ)\", \" \")","v":" "},null,null,null,null,0,null,null,null,0," "," "," "," "]
[{"$f":"IF(COUNTRY_INFO!A64=0,\" \",COUNTRY_INFO!A64)","v":"Tanzania"},{"$f":"IF(COUNTRY_INFO!B64=0,\" \",COUNTRY_INFO!B64)","v":"Kilimanjaro"},{"$f":"IF(COUNTRY_INFO!C64=0,\" \",COUNTRY_INFO!C64)","v":"Moshi Municipal Council"},{"$f":"IF(OR(COUNTRY_INFO!$T$9:$T$1000=\"T2 (PZQ)\",COUNTRY_INFO!$U$9:$U$1000=\"T2 (PZQ)\"), \"T2 (PZQ)\", \" \")","v":" "},null,null,null,null,0,null,null,null,0," "," "," "," "]
[{"$f":"IF(COUNTRY_INFO!A65=0,\" \",COUNTRY_INFO!A65)","v":"Tanzania"},{"$f":"IF(COUNTRY_INFO!B65=0,\" \",COUNTRY_INFO!B65)","v":"Kilimanjaro"},{"$f":"IF(COUNTRY_INFO!C65=0,\" \",COUNTRY_INFO!C65)","v":"Mwanga District Council"},{"$f":"IF(OR(COUNTRY_INFO!$T$9:$T$1000=\"T2 (PZQ)\",COUNTRY_INFO!$U$9:$U$1000=\"T2 (PZQ)\"), \"T2 (PZQ)\", \" \")","v":" "},null,null,null,null,0,null,null,null,0," "," "," "," "]
[{"$f":"IF(COUNTRY_INFO!A66=0,\" \",COUNTRY_INFO!A66)","v":"Tanzania"},{"$f":"IF(COUNTRY_INFO!B66=0,\" \",COUNTRY_INFO!B66)","v":"Kilimanjaro"},{"$f":"IF(COUNTRY_INFO!C66=0,\" \",COUNTRY_INFO!C66)","v":"Rombo District Council"},{"$f":"IF(OR(COUNTRY_INFO!$T$9:$T$1000=\"T2 (PZQ)\",COUNTRY_INFO!$U$9:$U$1000=\"T2 (PZQ)\"), \"T2 (PZQ)\", \" \")","v":" "},null,null,null,null,0,null,null,null,0," "," "," "," "]
[{"$f":"IF(COUNTRY_INFO!A67=0,\" \",COUNTRY_INFO!A67)","v":"Tanzania"},{"$f":"IF(COUNTRY_INFO!B67=0,\" \",COUNTRY_INFO!B67)","v":"Kilimanjaro"},{"$f":"IF(COUNTRY_INFO!C67=0,\" \",COUNTRY_INFO!C67)","v":"Same District Council"},{"$f":"IF(OR(COUNTRY_INFO!$T$9:$T$1000=\"T2 (PZQ)\",COUNTRY_INFO!$U$9:$U$1000=\"T2 (PZQ)\"), \"T2 (PZQ)\", \" \")","v":" "},null,null,null,null,0,null,null,null,0," "," "," "," "]
[{"$f":"IF(COUNTRY_INFO!A68=0,\" \",COUNTRY_INFO!A68)","v":"Tanzania"},{"$f":"IF(COUNTRY_INFO!B68=0,\" \",COUNTRY_INFO!B68)","v":"Kilimanjaro"},{"$f":"IF(COUNTRY_INFO!C68=0,\" \",COUNTRY_INFO!C68)","v":"Siha District Council"},{"$f":"IF(OR(COUNTRY_INFO!$T$9:$T$1000=\"T2 (PZQ)\",COUNTRY_INFO!$U$9:$U$1000=\"T2 (PZQ)\"), \"T2 (PZQ)\", \" \")","v":" "},null,null,null,null,0,null,null,null,0," "," "," "," "]
[{"$f":"IF(COUNTRY_INFO!A69=0,\" \",COUNTRY_INFO!A69)","v":"Tanzania"},{"$f":"IF(COUNTRY_INFO!B69=0,\" \",COUNTRY_INFO!B69)","v":"Lindi"},{"$f":"IF(COUNTRY_INFO!C69=0,\" \",COUNTRY_INFO!C69)","v":"Kilwa District Council"},{"$f":"IF(OR(COUNTRY_INFO!$T$9:$T$1000=\"T2 (PZQ)\",COUNTRY_INFO!$U$9:$U$1000=\"T2 (PZQ)\"), \"T2 (PZQ)\", \" \")","v":" "},null,null,null,null,0,null,null,null,0," "," "," "," "]
[{"$f":"IF(COUNTRY_INFO!A70=0,\" \",COUNTRY_INFO!A70)","v":"Tanzania"},{"$f":"IF(COUNTRY_INFO!B70=0,\" \",COUNTRY_INFO!B70)","v":"Lindi"},{"$f":"IF(COUNTRY_INFO!C70=0,\" \",COUNTRY_INFO!C70)","v":"Lindi District Council"},{"$f":"IF(OR(COUNTRY_INFO!$T$9:$T$1000=\"T2 (PZQ)\",COUNTRY_INFO!$U$9:$U$1000=\"T2 (PZQ)\"), \"T2 (PZQ)\", \" \")","v":" "},null,null,null,null,0,null,null,null,0," "," "," "," "]
[{"$f":"IF(COUNTRY_INFO!A71=0,\" \",COUNTRY_INFO!A71)","v":"Tanzania"},{"$f":"IF(COUNTRY_INFO!B71=0,\" \",COUNTRY_INFO!B71)","v":"Lindi"},{"$f":"IF(COUNTRY_INFO!C71=0,\" \",COUNTRY_INFO!C71)","v":"Lindi Municipal Council"},{"$f":"IF(OR(COUNTRY_INFO!$T$9:$T$1000=\"T2 (PZQ)\",COUNTRY_INFO!$U$9:$U$1000=\"T2 (PZQ)\"), \"T2 (PZQ)\", \" \")","v":" "},null,null,null,null,0,null,null,null,0," "," "," "," "]
[{"$f":"IF(COUNTRY_INFO!A72=0,\" \",COUNTRY_INFO!A72)","v":"Tanzania"},{"$f":"IF(COUNTRY_INFO!B72=0,\" \",COUNTRY_INFO!B72)","v":"Lindi"},{"$f":"IF(COUNTRY_INFO!C72=0,\" \",COUNTRY_INFO!C72)","v":"Liwale District Council"},{"$f":"IF(OR(COUNTRY_INFO!$T$9:$T$1000=\"T2 (PZQ)\",COUNTRY_INFO!$U$9:$U$1000=\"T2 (PZQ)\"), \"T2 (PZQ)\", \" \")","v":" "},null,null,null,null,0,null,null,null,0," "," "," "," "]
[{"$f":"IF(COUNTRY_INFO!A73=0,\" \",COUNTRY_INFO!A73)","v":"Tanzania"},{"$f":"IF(COUNTRY_INFO!B73=0,\" \",COUNTRY_INFO!B73)","v":"Lindi"},{"$f":"IF(COUNTRY_INFO!C73=0,\" \",COUNTRY_INFO!C73)","v":"Nachingwea District Council"},{"$f":"IF(OR(COUNTRY_INFO!$T$9:$T$1000=\"T2 (PZQ)\",COUNTRY_INFO!$U$9:$U$1000=\"T2 (PZQ)\"), \"T2 (PZQ)\", \" \")","v":" "},null,null,null,null,0,null,null,null,0," "," "," "," "]
[{"$f":"IF(COUNTRY_INFO!A74=0,\" \",COUNTRY_INFO!A74)","v":"Tanzania"},{"$f":"IF(COUNTRY_INFO!B74=0,\" \",COUNTRY_INFO!B74)","v":"Lindi"},{"$f":"IF(COUNTRY_INFO!C74=0,\" \",COUNTRY_INFO!C74)","v":"Ruangwa District Council"},{"$f":"IF(OR(COUNTRY_INFO!$T$9:$T$1000=\"T2 (PZQ)\",COUNTRY_INFO!$U$9:$U$1000=\"T2 (PZQ)\"), \"T2 (PZQ)\", \" \")","v":" "},null,null,null,null,{"$f":"SUM(F74:H74)","v":0},null,null,null,{"$f":"SUM(J74:L74)","v":0},{"$f":"IF(F74<>0, IF(J74/F74*100=0, \"-\", J74/F74*100), \" \")","v":" "},{"$f":"IF(G74<>0, IF(K74/G74*100=0, \"-\", K74/G74*100), \" \")","v":" "},{"$f":"IF(H74<>0, IF(L74/H74*100=0, \"-\", L74/H74*100), \" \")","v":" "},{"$f":"IF(I74<>0, IF(M74/I74*100=0, \"-\", M74/I74*100), \" \")","v":" "}]
[{"$f":"IF(COUNTRY_INFO!A75=0,\" \",COUNTRY_INFO!A75)","v":"Tanzania"},{"$f":"IF(COUNTRY_INFO!B75=0,\" \",COUNTRY_INFO!B75)","v":"Manyara"},{"$f":"IF(COUNTRY_INFO!C75=0,\" \",COUNTRY_INFO!C75)","v":"Babati District Council"},{"$f":"IF(OR(COUNTRY_INFO!$T$9:$T$1000=\"T2 (PZQ)\",COUNTRY_INFO!$U$9:$U$1000=\"T2 (PZQ)\"), \"T2 (PZQ)\", \" \")","v":" "},null,null,null,null,0,null,null,null,0," "," "," "," "]
[{"$f":"IF(COUNTRY_INFO!A76=0,\" \",COUNTRY_INFO!A76)","v":"Tanzania"},{"$f":"IF(COUNTRY_INFO!B76=0,\" \",COUNTRY_INFO!B76)","v":"Manyara"},{"$f":"IF(COUNTRY_INFO!C76=0,\" \",COUNTRY_INFO!C76)","v":"Babati Town Council"},{"$f":"IF(OR(COUNTRY_INFO!$T$9:$T$1000=\"T2 (PZQ)\",COUNTRY_INFO!$U$9:$U$1000=\"T2 (PZQ)\"), \"T2 (PZQ)\", \" \")","v":" "},null,null,null,null,0,null,null,null,0," "," "," "," "]
[{"$f":"IF(COUNTRY_INFO!A77=0,\" \",COUNTRY_INFO!A77)","v":"Tanzania"},{"$f":"IF(COUNTRY_INFO!B77=0,\" \",COUNTRY_INFO!B77)","v":"Manyara"},{"$f":"IF(COUNTRY_INFO!C77=0,\" \",COUNTRY_INFO!C77)","v":"Hanang District Council"},{"$f":"IF(OR(COUNTRY_INFO!$T$9:$T$1000=\"T2 (PZQ)\",COUNTRY_INFO!$U$9:$U$1000=\"T2 (PZQ)\"), \"T2 (PZQ)\", \" \")","v":" "},null,null,null,null,0,null,null,null,0," "," "," "," "]
[{"$f":"IF(COUNTRY_INFO!A78=0,\" \",COUNTRY_INFO!A78)","v":"Tanzania"},{"$f":"IF(COUNTRY_INFO!B78=0,\" \",COUNTRY_INFO!B78)","v":"Manyara"},{"$f":"IF(COUNTRY_INFO!C78=0,\" \",COUNTRY_INFO!C78)","v":"Kiteto District Council"},{"$f":"IF(OR(COUNTRY_INFO!$T$9:$T$1000=\"T2 (PZQ)\",COUNTRY_INFO!$U$9:$U$1000=\"T2 (PZQ)\"), \"T2 (PZQ)\", \" \")","v":" "},null,null,null,null,0,null,null,null,0," "," "," "," "]
[{"$f":"IF(COUNTRY_INFO!A79=0,\" \",COUNTRY_INFO!A79)","v":"Tanzania"},{"$f":"IF(COUNTRY_INFO!B79=0,\" \",COUNTRY_INFO!B79)","v":"Manyara"},{"$f":"IF(COUNTRY_INFO!C79=0,\" \",COUNTRY_INFO!C79)","v":"Mbulu District Council"},{"$f":"IF(OR(COUNTRY_INFO!$T$9:$T$1000=\"T2 (PZQ)\",COUNTRY_INFO!$U$9:$U$1000=\"T2 (PZQ)\"), \"T2 (PZQ)\", \" \")","v":" "},null,null,null,null,0,null,null,null,0," "," "," "," "]
[{"$f":"IF(COUNTRY_INFO!A80=0,\" \",COUNTRY_INFO!A80)","v":"Tanzania"},{"$f":"IF(COUNTRY_INFO!B80=0,\" \",COUNTRY_INFO!B80)","v":"Manyara"},{"$f":"IF(COUNTRY_INFO!C80=0,\" \",COUNTRY_INFO!C80)","v":"Mbulu Town Council"},{"$f":"IF(OR(COUNTRY_INFO!$T$9:$T$1000=\"T2 (PZQ)\",COUNTRY_INFO!$U$9:$U$1000=\"T2 (PZQ)\"), \"T2 (PZQ)\", \" \")","v":" "},null,null,null,null,0,null,null,null,0," "," "," "," "]
[{"$f":"IF(COUNTRY_INFO!A81=0,\" \",COUNTRY_INFO!A81)","v":"Tanzania"},{"$f":"IF(COUNTRY_INFO!B81=0,\" \",COUNTRY_INFO!B81)","v":"Manyara"},{"$f":"IF(COUNTRY_INFO!C81=0,\" \",COUNTRY_INFO!C81)","v":"Simanjiro District Council"},{"$f":"IF(OR(COUNTRY_INFO!$T$9:$T$1000=\"T2 (PZQ)\",COUNTRY_INFO!$U$9:$U$1000=\"T2 (PZQ)\"), \"T2 (PZQ)\", \" \")","v":" "},null,null,null,null,0,null,null,null,0," "," "," "," "]
[{"$f":"IF(COUNTRY_INFO!A82=0,\" \",COUNTRY_INFO!A82)","v":"Tanzania"},{"$f":"IF(COUNTRY_INFO!B82=0,\" \",COUNTRY_INFO!B82)","v":"Mara"},{"$f":"IF(COUNTRY_INFO!C82=0,\" \",COUNTRY_INFO!C82)","v":"Bunda District Council"},{"$f":"IF(OR(COUNTRY_INFO!$T$9:$T$1000=\"T2 (PZQ)\",COUNTRY_INFO!$U$9:$U$1000=\"T2 (PZQ)\"), \"T2 (PZQ)\", \" \")","v":" "},null,null,null,null,0,null,null,null,0," "," "," "," "]
[{"$f":"IF(COUNTRY_INFO!A83=0,\" \",COUNTRY_INFO!A83)","v":"Tanzania"},{"$f":"IF(COUNTRY_INFO!B83=0,\" \",COUNTRY_INFO!B83)","v":"Mara"},{"$f":"IF(COUNTRY_INFO!C83=0,\" \",COUNTRY_INFO!C83)","v":"Bunda Town Council"},{"$f":"IF(OR(COUNTRY_INFO!$T$9:$T$1000=\"T2 (PZQ)\",COUNTRY_INFO!$U$9:$U$1000=\"T2 (PZQ)\"), \"T2 (PZQ)\", \" \")","v":" "},null,null,null,null,0,null,null,null,0," "," "," "," "]
[{"$f":"IF(COUNTRY_INFO!A84=0,\" \",COUNTRY_INFO!A84)","v":"Tanzania"},{"$f":"IF(COUNTRY_INFO!B84=0,\" \",COUNTRY_INFO!B84)","v":"Mara"},{"$f":"IF(COUNTRY_INFO!C84=0,\" \",COUNTRY_INFO!C84)","v":"Butiama District Council"},{"$f":"IF(OR(COUNTRY_INFO!$T$9:$T$1000=\"T2 (PZQ)\",COUNTRY_INFO!$U$9:$U$1000=\"T2 (PZQ)\"), \"T2 (PZQ)\", \" \")","v":" "},null,null,null,null,0,null,null,null,0," "," "," "," "]
[{"$f":"IF(COUNTRY_INFO!A85=0,\" \",COUNTRY_INFO!A85)","v":"Tanzania"},{"$f":"IF(COUNTRY_INFO!B85=0,\" \",COUNTRY_INFO!B85)","v":"Mara"},{"$f":"IF(COUNTRY_INFO!C85=0,\" \",COUNTRY_INFO!C85)","v":"Musoma District Council"},{"$f":"IF(OR(COUNTRY_INFO!$T$9:$T$1000=\"T2 (PZQ)\",COUNTRY_INFO!$U$9:$U$1000=\"T2 (PZQ)\"), \"T2 (PZQ)\", \" \")","v":" "},null,null,null,null,0,null,null,null,0," "," "," "," "]
[{"$f":"IF(COUNTRY_INFO!A86=0,\" \",COUNTRY_INFO!A86)","v":"Tanzania"},{"$f":"IF(COUNTRY_INFO!B86=0,\" \",COUNTRY_INFO!B86)","v":"Mara"},{"$f":"IF(COUNTRY_INFO!C86=0,\" \",COUNTRY_INFO!C86)","v":"Musoma Municipal Council"},{"$f":"IF(OR(COUNTRY_INFO!$T$9:$T$1000=\"T2 (PZQ)\",COUNTRY_INFO!$U$9:$U$1000=\"T2 (PZQ)\"), \"T2 (PZQ)\", \" \")","v":" "},null,null,null,null,0,null,null,null,0," "," "," "," "]
[{"$f":"IF(COUNTRY_INFO!A87=0,\" \",COUNTRY_INFO!A87)","v":"Tanzania"},{"$f":"IF(COUNTRY_INFO!B87=0,\" \",COUNTRY_INFO!B87)","v":"Mara"},{"$f":"IF(COUNTRY_INFO!C87=0,\" \",COUNTRY_INFO!C87)","v":"Rorya District Council"},{"$f":"IF(OR(COUNTRY_INFO!$T$9:$T$1000=\"T2 (PZQ)\",COUNTRY_INFO!$U$9:$U$1000=\"T2 (PZQ)\"), \"T2 (PZQ)\", \" \")","v":" "},null,null,null,null,0,null,null,null,0," "," "," "," "]
[{"$f":"IF(COUNTRY_INFO!A88=0,\" \",COUNTRY_INFO!A88)","v":"Tanzania"},{"$f":"IF(COUNTRY_INFO!B88=0,\" \",COUNTRY_INFO!B88)","v":"Mara"},{"$f":"IF(COUNTRY_INFO!C88=0,\" \",COUNTRY_INFO!C88)","v":"Serengeti District Council"},{"$f":"IF(OR(COUNTRY_INFO!$T$9:$T$1000=\"T2 (PZQ)\",COUNTRY_INFO!$U$9:$U$1000=\"T2 (PZQ)\"), \"T2 (PZQ)\", \" \")","v":" "},null,null,null,null,0,null,null,null,0," "," "," "," "]
[{"$f":"IF(COUNTRY_INFO!A89=0,\" \",COUNTRY_INFO!A89)","v":"Tanzania"},{"$f":"IF(COUNTRY_INFO!B89=0,\" \",COUNTRY_INFO!B89)","v":"Mara"},{"$f":"IF(COUNTRY_INFO!C89=0,\" \",COUNTRY_INFO!C89)","v":"Tarime District Council"},{"$f":"IF(OR(COUNTRY_INFO!$T$9:$T$1000=\"T2 (PZQ)\",COUNTRY_INFO!$U$9:$U$1000=\"T2 (PZQ)\"), \"T2 (PZQ)\", \" \")","v":" "},null,null,null,null,0,null,null,null,0," "," "," "," "]
[{"$f":"IF(COUNTRY_INFO!A90=0,\" \",COUNTRY_INFO!A90)","v":"Tanzania"},{"$f":"IF(COUNTRY_INFO!B90=0,\" \",COUNTRY_INFO!B90)","v":"Mara"},{"$f":"IF(COUNTRY_INFO!C90=0,\" \",COUNTRY_INFO!C90)","v":"Tarime Town Council"},{"$f":"IF(OR(COUNTRY_INFO!$T$9:$T$1000=\"T2 (PZQ)\",COUNTRY_INFO!$U$9:$U$1000=\"T2 (PZQ)\"), \"T2 (PZQ)\", \" \")","v":" "},null,null,null,null,0,null,null,null,0," "," "," "," "]
[{"$f":"IF(COUNTRY_INFO!A91=0,\" \",COUNTRY_INFO!A91)","v":"Tanzania"},{"$f":"IF(COUNTRY_INFO!B91=0,\" \",COUNTRY_INFO!B91)","v":"Mbeya"},{"$f":"IF(COUNTRY_INFO!C91=0,\" \",COUNTRY_INFO!C91)","v":"Busokelo District Council"},{"$f":"IF(OR(COUNTRY_INFO!$T$9:$T$1000=\"T2 (PZQ)\",COUNTRY_INFO!$U$9:$U$1000=\"T2 (PZQ)\"), \"T2 (PZQ)\", \" \")","v":" "},null,null,null,null,0,null,null,null,0," "," "," "," "]
[{"$f":"IF(COUNTRY_INFO!A92=0,\" \",COUNTRY_INFO!A92)","v":"Tanzania"},{"$f":"IF(COUNTRY_INFO!B92=0,\" \",COUNTRY_INFO!B92)","v":"Mbeya"},{"$f":"IF(COUNTRY_INFO!C92=0,\" \",COUNTRY_INFO!C92)","v":"Chunya District Council"},{"$f":"IF(OR(COUNTRY_INFO!$T$9:$T$1000=\"T2 (PZQ)\",COUNTRY_INFO!$U$9:$U$1000=\"T2 (PZQ)\"), \"T2 (PZQ)\", \" \")","v":" "},null,null,null,null,0,null,null,null,0," "," "," "," "]
[{"$f":"IF(COUNTRY_INFO!A93=0,\" \",COUNTRY_INFO!A93)","v":"Tanzania"},{"$f":"IF(COUNTRY_INFO!B93=0,\" \",COUNTRY_INFO!B93)","v":"Mbeya"},{"$f":"IF(COUNTRY_INFO!C93=0,\" \",COUNTRY_INFO!C93)","v":"Kyela District Council"},{"$f":"IF(OR(COUNTRY_INFO!$T$9:$T$1000=\"T2 (PZQ)\",COUNTRY_INFO!$U$9:$U$1000=\"T2 (PZQ)\"), \"T2 (PZQ)\", \" \")","v":" "},null,null,null,null,0,null,null,null,0," "," "," "," "]
[{"$f":"IF(COUNTRY_INFO!A94=0,\" \",COUNTRY_INFO!A94)","v":"Tanzania"},{"$f":"IF(COUNTRY_INFO!B94=0,\" \",COUNTRY_INFO!B94)","v":"Mbeya"},{"$f":"IF(COUNTRY_INFO!C94=0,\" \",COUNTRY_INFO!C94)","v":"Mbarali District Council"},{"$f":"IF(OR(COUNTRY_INFO!$T$9:$T$1000=\"T2 (PZQ)\",COUNTRY_INFO!$U$9:$U$1000=\"T2 (PZQ)\"), \"T2 (PZQ)\", \" \")","v":" "},null,null,null,null,0,null,null,null,0," "," "," "," "]
[{"$f":"IF(COUNTRY_INFO!A95=0,\" \",COUNTRY_INFO!A95)","v":"Tanzania"},{"$f":"IF(COUNTRY_INFO!B95=0,\" \",COUNTRY_INFO!B95)","v":"Mbeya"},{"$f":"IF(COUNTRY_INFO!C95=0,\" \",COUNTRY_INFO!C95)","v":"Mbeya City Council"},{"$f":"IF(OR(COUNTRY_INFO!$T$9:$T$1000=\"T2 (PZQ)\",COUNTRY_INFO!$U$9:$U$1000=\"T2 (PZQ)\"), \"T2 (PZQ)\", \" \")","v":" "},null,null,null,null,0,null,null,null,0," "," "," "," "]
[{"$f":"IF(COUNTRY_INFO!A96=0,\" \",COUNTRY_INFO!A96)","v":"Tanzania"},{"$f":"IF(COUNTRY_INFO!B96=0,\" \",COUNTRY_INFO!B96)","v":"Mbeya"},{"$f":"IF(COUNTRY_INFO!C96=0,\" \",COUNTRY_INFO!C96)","v":"Mbeya District Council"},{"$f":"IF(OR(COUNTRY_INFO!$T$9:$T$1000=\"T2 (PZQ)\",COUNTRY_INFO!$U$9:$U$1000=\"T2 (PZQ)\"), \"T2 (PZQ)\", \" \")","v":" "},null,null,null,null,0,null,null,null,0," "," "," "," "]
[{"$f":"IF(COUNTRY_INFO!A97=0,\" \",COUNTRY_INFO!A97)","v":"Tanzania"},{"$f":"IF(COUNTRY_INFO!B97=0,\" \",COUNTRY_INFO!B97)","v":"Mbeya"},{"$f":"IF(COUNTRY_INFO!C97=0,\" \",COUNTRY_INFO!C97)","v":"Rungwe District Council"},{"$f":"IF(OR(COUNTRY_INFO!$T$9:$T$1000=\"T2 (PZQ)\",COUNTRY_INFO!$U$9:$U$1000=\"T2 (PZQ)\"), \"T2 (PZQ)\", \" \")","v":" "},null,null,null,null,0,null,null,null,0," "," "," "," "]
[{"$f":"IF(COUNTRY_INFO!A98=0,\" \",COUNTRY_INFO!A98)","v":"Tanzania"},{"$f":"IF(COUNTRY_INFO!B98=0,\" \",COUNTRY_INFO!B98)","v":"Morogoro"},{"$f":"IF(COUNTRY_INFO!C98=0,\" \",COUNTRY_INFO!C98)","v":"Gairo District Council"},{"$f":"IF(OR(COUNTRY_INFO!$T$9:$T$1000=\"T2 (PZQ)\",COUNTRY_INFO!$U$9:$U$1000=\"T2 (PZQ)\"), \"T2 (PZQ)\", \" \")","v":" "},null,null,null,null,0,null,null,null,0," "," "," "," "]
[{"$f":"IF(COUNTRY_INFO!A99=0,\" \",COUNTRY_INFO!A99)","v":"Tanzania"},{"$f":"IF(COUNTRY_INFO!B99=0,\" \",COUNTRY_INFO!B99)","v":"Morogoro"},{"$f":"IF(COUNTRY_INFO!C99=0,\" \",COUNTRY_INFO!C99)","v":"Ifakara Town Council"},{"$f":"IF(OR(COUNTRY_INFO!$T$9:$T$1000=\"T2 (PZQ)\",COUNTRY_INFO!$U$9:$U$1000=\"T2 (PZQ)\"), \"T2 (PZQ)\", \" \")","v":"T2 (PZQ)"},"June - 2018",null,27741,null,27741,null,25193,null,25193," ",90.815039111784003," ",90.815039111784003]
[{"$f":"IF(COUNTRY_INFO!A100=0,\" \",COUNTRY_INFO!A100)","v":"Tanzania"},{"$f":"IF(COUNTRY_INFO!B100=0,\" \",COUNTRY_INFO!B100)","v":"Morogoro"},{"$f":"IF(COUNTRY_INFO!C100=0,\" \",COUNTRY_INFO!C100)","v":"Kilombero District Council"},{"$f":"IF(OR(COUNTRY_INFO!$T$9:$T$1000=\"T2 (PZQ)\",COUNTRY_INFO!$U$9:$U$1000=\"T2 (PZQ)\"), \"T2 (PZQ)\", \" \")","v":"T2 (PZQ)"},"June - 2018",null,80942,null,80942,null,65585,null,65585," ",81.02715524696697," ",81.02715524696697]
[{"$f":"IF(COUNTRY_INFO!A101=0,\" \",COUNTRY_INFO!A101)","v":"Tanzania"},{"$f":"IF(COUNTRY_INFO!B101=0,\" \",COUNTRY_INFO!B101)","v":"Morogoro"},{"$f":"IF(COUNTRY_INFO!C101=0,\" \",COUNTRY_INFO!C101)","v":"Kilosa District Council"},{"$f":"IF(OR(COUNTRY_INFO!$T$9:$T$1000=\"T2 (PZQ)\",COUNTRY_INFO!$U$9:$U$1000=\"T2 (PZQ)\"), \"T2 (PZQ)\", \" \")","v":"T2 (PZQ)"},"July - 2018",null,92883,null,92883,null,73219,null,73219," ",78.829279846688848," ",78.829279846688848]
[{"$f":"IF(COUNTRY_INFO!A102=0,\" \",COUNTRY_INFO!A102)","v":"Tanzania"},{"$f":"IF(COUNTRY_INFO!B102=0,\" \",COUNTRY_INFO!B102)","v":"Morogoro"},{"$f":"IF(COUNTRY_INFO!C102=0,\" \",COUNTRY_INFO!C102)","v":"Malinyi District Council"},{"$f":"IF(OR(COUNTRY_INFO!$T$9:$T$1000=\"T2 (PZQ)\",COUNTRY_INFO!$U$9:$U$1000=\"T2 (PZQ)\"), \"T2 (PZQ)\", \" \")","v":"T2 (PZQ)"},"June - 2018",null,32053,null,32053,null,27488,null,27488," ",85.757963373163193," ",85.757963373163193]
[{"$f":"IF(COUNTRY_INFO!A103=0,\" \",COUNTRY_INFO!A103)","v":"Tanzania"},{"$f":"IF(COUNTRY_INFO!B103=0,\" \",COUNTRY_INFO!B103)","v":"Morogoro"},{"$f":"IF(COUNTRY_INFO!C103=0,\" \",COUNTRY_INFO!C103)","v":"Morogoro District Council"},{"$f":"IF(OR(COUNTRY_INFO!$T$9:$T$1000=\"T2 (PZQ)\",COUNTRY_INFO!$U$9:$U$1000=\"T2 (PZQ)\"), \"T2 (PZQ)\", \" \")","v":"T2 (PZQ)"},"Aug - 2018",null,62244,null,62244,null,53590,null,53590," ",86.096651886125571," ",86.096651886125571]
[{"$f":"IF(COUNTRY_INFO!A104=0,\" \",COUNTRY_INFO!A104)","v":"Tanzania"},{"$f":"IF(COUNTRY_INFO!B104=0,\" \",COUNTRY_INFO!B104)","v":"Morogoro"},{"$f":"IF(COUNTRY_INFO!C104=0,\" \",COUNTRY_INFO!C104)","v":"Morogoro Municipal Council"},{"$f":"IF(OR(COUNTRY_INFO!$T$9:$T$1000=\"T2 (PZQ)\",COUNTRY_INFO!$U$9:$U$1000=\"T2 (PZQ)\"), \"T2 (PZQ)\", \" \")","v":"T2 (PZQ)"},"July - 2018",null,74866,null,74866,null,67660,null,67660," ",90.374802981326638," ",90.374802981326638]
[{"$f":"IF(COUNTRY_INFO!A105=0,\" \",COUNTRY_INFO!A105)","v":"Tanzania"},{"$f":"IF(COUNTRY_INFO!B105=0,\" \",COUNTRY_INFO!B105)","v":"Morogoro"},{"$f":"IF(COUNTRY_INFO!C105=0,\" \",COUNTRY_INFO!C105)","v":"Mvomero District Council"},{"$f":"IF(OR(COUNTRY_INFO!$T$9:$T$1000=\"T2 (PZQ)\",COUNTRY_INFO!$U$9:$U$1000=\"T2 (PZQ)\"), \"T2 (PZQ)\", \" \")","v":" "},null,null,null,null,0,null,null,null,0," "," "," "," "]
[{"$f":"IF(COUNTRY_INFO!A106=0,\" \",COUNTRY_INFO!A106)","v":"Tanzania"},{"$f":"IF(COUNTRY_INFO!B106=0,\" \",COUNTRY_INFO!B106)","v":"Morogoro"},{"$f":"IF(COUNTRY_INFO!C106=0,\" \",COUNTRY_INFO!C106)","v":"Ulanga District Council"},{"$f":"IF(OR(COUNTRY_INFO!$T$9:$T$1000=\"T2 (PZQ)\",COUNTRY_INFO!$U$9:$U$1000=\"T2 (PZQ)\"), \"T2 (PZQ)\", \" \")","v":"T2 (PZQ)"},"June - 2018",null,33915,null,33915,null,32939,null,32939," ",97.122217307975816," ",97.122217307975816]
[{"$f":"IF(COUNTRY_INFO!A107=0,\" \",COUNTRY_INFO!A107)","v":"Tanzania"},{"$f":"IF(COUNTRY_INFO!B107=0,\" \",COUNTRY_INFO!B107)","v":"Mtwara"},{"$f":"IF(COUNTRY_INFO!C107=0,\" \",COUNTRY_INFO!C107)","v":"Masasi District Council"},{"$f":"IF(OR(COUNTRY_INFO!$T$9:$T$1000=\"T2 (PZQ)\",COUNTRY_INFO!$U$9:$U$1000=\"T2 (PZQ)\"), \"T2 (PZQ)\", \" \")","v":" "},null,null,null,null,0,null,null,null,0," "," "," "," "]
[{"$f":"IF(COUNTRY_INFO!A108=0,\" \",COUNTRY_INFO!A108)","v":"Tanzania"},{"$f":"IF(COUNTRY_INFO!B108=0,\" \",COUNTRY_INFO!B108)","v":"Mtwara"},{"$f":"IF(COUNTRY_INFO!C108=0,\" \",COUNTRY_INFO!C108)","v":"Masasi Town Council"},{"$f":"IF(OR(COUNTRY_INFO!$T$9:$T$1000=\"T2 (PZQ)\",COUNTRY_INFO!$U$9:$U$1000=\"T2 (PZQ)\"), \"T2 (PZQ)\", \" \")","v":" "},null,null,null,null,0,null,null,null,0," "," "," "," "]
[{"$f":"IF(COUNTRY_INFO!A109=0,\" \",COUNTRY_INFO!A109)","v":"Tanzania"},{"$f":"IF(COUNTRY_INFO!B109=0,\" \",COUNTRY_INFO!B109)","v":"Mtwara"},{"$f":"IF(COUNTRY_INFO!C109=0,\" \",COUNTRY_INFO!C109)","v":"Mtwara District Council"},{"$f":"IF(OR(COUNTRY_INFO!$T$9:$T$1000=\"T2 (PZQ)\",COUNTRY_INFO!$U$9:$U$1000=\"T2 (PZQ)\"), \"T2 (PZQ)\", \" \")","v":" "},null,null,null,null,0,null,null,null,0," "," "," "," "]
[{"$f":"IF(COUNTRY_INFO!A110=0,\" \",COUNTRY_INFO!A110)","v":"Tanzania"},{"$f":"IF(COUNTRY_INFO!B110=0,\" \",COUNTRY_INFO!B110)","v":"Mtwara"},{"$f":"IF(COUNTRY_INFO!C110=0,\" \",COUNTRY_INFO!C110)","v":"Mtwara-Mikindani Municipal Council"},{"$f":"IF(OR(COUNTRY_INFO!$T$9:$T$1000=\"T2 (PZQ)\",COUNTRY_INFO!$U$9:$U$1000=\"T2 (PZQ)\"), \"T2 (PZQ)\", \" \")","v":" "},null,null,null,null,0,null,null,null,0," "," "," "," "]
[{"$f":"IF(COUNTRY_INFO!A111=0,\" \",COUNTRY_INFO!A111)","v":"Tanzania"},{"$f":"IF(COUNTRY_INFO!B111=0,\" \",COUNTRY_INFO!B111)","v":"Mtwara"},{"$f":"IF(COUNTRY_INFO!C111=0,\" \",COUNTRY_INFO!C111)","v":"Nanyamba District Council"},{"$f":"IF(OR(COUNTRY_INFO!$T$9:$T$1000=\"T2 (PZQ)\",COUNTRY_INFO!$U$9:$U$1000=\"T2 (PZQ)\"), \"T2 (PZQ)\", \" \")","v":" "},null,null,null,null,0,null,null,null,0," "," "," "," "]
[{"$f":"IF(COUNTRY_INFO!A112=0,\" \",COUNTRY_INFO!A112)","v":"Tanzania"},{"$f":"IF(COUNTRY_INFO!B112=0,\" \",COUNTRY_INFO!B112)","v":"Mtwara"},{"$f":"IF(COUNTRY_INFO!C112=0,\" \",COUNTRY_INFO!C112)","v":"Nanyumbu District Council"},{"$f":"IF(OR(COUNTRY_INFO!$T$9:$T$1000=\"T2 (PZQ)\",COUNTRY_INFO!$U$9:$U$1000=\"T2 (PZQ)\"), \"T2 (PZQ)\", \" \")","v":" "},null,null,null,null,0,null,null,null,0," "," "," "," "]
[{"$f":"IF(COUNTRY_INFO!A113=0,\" \",COUNTRY_INFO!A113)","v":"Tanzania"},{"$f":"IF(COUNTRY_INFO!B113=0,\" \",COUNTRY_INFO!B113)","v":"Mtwara"},{"$f":"IF(COUNTRY_INFO!C113=0,\" \",COUNTRY_INFO!C113)","v":"Newala District Council"},{"$f":"IF(OR(COUNTRY_INFO!$T$9:$T$1000=\"T2 (PZQ)\",COUNTRY_INFO!$U$9:$U$1000=\"T2 (PZQ)\"), \"T2 (PZQ)\", \" \")","v":" "},null,null,null,null,0,null,null,null,0," "," "," "," "]
[{"$f":"IF(COUNTRY_INFO!A114=0,\" \",COUNTRY_INFO!A114)","v":"Tanzania"},{"$f":"IF(COUNTRY_INFO!B114=0,\" \",COUNTRY_INFO!B114)","v":"Mtwara"},{"$f":"IF(COUNTRY_INFO!C114=0,\" \",COUNTRY_INFO!C114)","v":"Newala Town Council"},{"$f":"IF(OR(COUNTRY_INFO!$T$9:$T$1000=\"T2 (PZQ)\",COUNTRY_INFO!$U$9:$U$1000=\"T2 (PZQ)\"), \"T2 (PZQ)\", \" \")","v":" "},null,null,null,null,0,null,null,null,0," "," "," "," "]
[{"$f":"IF(COUNTRY_INFO!A115=0,\" \",COUNTRY_INFO!A115)","v":"Tanzania"},{"$f":"IF(COUNTRY_INFO!B115=0,\" \",COUNTRY_INFO!B115)","v":"Mtwara"},{"$f":"IF(COUNTRY_INFO!C115=0,\" \",COUNTRY_INFO!C115)","v":"Tandahimba District Council"},{"$f":"IF(OR(COUNTRY_INFO!$T$9:$T$1000=\"T2 (PZQ)\",COUNTRY_INFO!$U$9:$U$1000=\"T2 (PZQ)\"), \"T2 (PZQ)\", \" \")","v":" "},null,null,null,null,0,null,null,null,0," "," "," "," "]
[{"$f":"IF(COUNTRY_INFO!A116=0,\" \",COUNTRY_INFO!A116)","v":"Tanzania"},{"$f":"IF(COUNTRY_INFO!B116=0,\" \",COUNTRY_INFO!B116)","v":"Mwanza"},{"$f":"IF(COUNTRY_INFO!C116=0,\" \",COUNTRY_INFO!C116)","v":"Buchosa District Council"},{"$f":"IF(OR(COUNTRY_INFO!$T$9:$T$1000=\"T2 (PZQ)\",COUNTRY_INFO!$U$9:$U$1000=\"T2 (PZQ)\"), \"T2 (PZQ)\", \" \")","v":" "},null,null,null,null,0,null,null,null,0," "," "," "," "]
[{"$f":"IF(COUNTRY_INFO!A117=0,\" \",COUNTRY_INFO!A117)","v":"Tanzania"},{"$f":"IF(COUNTRY_INFO!B117=0,\" \",COUNTRY_INFO!B117)","v":"Mwanza"},{"$f":"IF(COUNTRY_INFO!C117=0,\" \",COUNTRY_INFO!C117)","v":"Ilemela Municipal Council"},{"$f":"IF(OR(COUNTRY_INFO!$T$9:$T$1000=\"T2 (PZQ)\",COUNTRY_INFO!$U$9:$U$1000=\"T2 (PZQ)\"), \"T2 (PZQ)\", \" \")","v":" "},null,null,null,null,0,null,null,null,0," "," "," "," "]
[{"$f":"IF(COUNTRY_INFO!A118=0,\" \",COUNTRY_INFO!A118)","v":"Tanzania"},{"$f":"IF(COUNTRY_INFO!B118=0,\" \",COUNTRY_INFO!B118)","v":"Mwanza"},{"$f":"IF(COUNTRY_INFO!C118=0,\" \",COUNTRY_INFO!C118)","v":"Kwimba District Council"},{"$f":"IF(OR(COUNTRY_INFO!$T$9:$T$1000=\"T2 (PZQ)\",COUNTRY_INFO!$U$9:$U$1000=\"T2 (PZQ)\"), \"T2 (PZQ)\", \" \")","v":" "},null,null,null,null,0,null,null,null,0," "," "," "," "]
[{"$f":"IF(COUNTRY_INFO!A119=0,\" \",COUNTRY_INFO!A119)","v":"Tanzania"},{"$f":"IF(COUNTRY_INFO!B119=0,\" \",COUNTRY_INFO!B119)","v":"Mwanza"},{"$f":"IF(COUNTRY_INFO!C119=0,\" \",COUNTRY_INFO!C119)","v":"Magu District Council"},{"$f":"IF(OR(COUNTRY_INFO!$T$9:$T$1000=\"T2 (PZQ)\",COUNTRY_INFO!$U$9:$U$1000=\"T2 (PZQ)\"), \"T2 (PZQ)\", \" \")","v":" "},null,null,null,null,0,null,null,null,0," "," "," "," "]
[{"$f":"IF(COUNTRY_INFO!A120=0,\" \",COUNTRY_INFO!A120)","v":"Tanzania"},{"$f":"IF(COUNTRY_INFO!B120=0,\" \",COUNTRY_INFO!B120)","v":"Mwanza"},{"$f":"IF(COUNTRY_INFO!C120=0,\" \",COUNTRY_INFO!C120)","v":"Misungwi District Council"},{"$f":"IF(OR(COUNTRY_INFO!$T$9:$T$1000=\"T2 (PZQ)\",COUNTRY_INFO!$U$9:$U$1000=\"T2 (PZQ)\"), \"T2 (PZQ)\", \" \")","v":" "},null,null,null,null,0,null,null,null,0," "," "," "," "]
[{"$f":"IF(COUNTRY_INFO!A121=0,\" \",COUNTRY_INFO!A121)","v":"Tanzania"},{"$f":"IF(COUNTRY_INFO!B121=0,\" \",COUNTRY_INFO!B121)","v":"Mwanza"},{"$f":"IF(COUNTRY_INFO!C121=0,\" \",COUNTRY_INFO!C121)","v":"Mwanza-Nyamagana City Council"},{"$f":"IF(OR(COUNTRY_INFO!$T$9:$T$1000=\"T2 (PZQ)\",COUNTRY_INFO!$U$9:$U$1000=\"T2 (PZQ)\"), \"T2 (PZQ)\", \" \")","v":" "},null,null,null,null,0,null,null,null,0," "," "," "," "]
[{"$f":"IF(COUNTRY_INFO!A122=0,\" \",COUNTRY_INFO!A122)","v":"Tanzania"},{"$f":"IF(COUNTRY_INFO!B122=0,\" \",COUNTRY_INFO!B122)","v":"Mwanza"},{"$f":"IF(COUNTRY_INFO!C122=0,\" \",COUNTRY_INFO!C122)","v":"Sengerema District Council"},{"$f":"IF(OR(COUNTRY_INFO!$T$9:$T$1000=\"T2 (PZQ)\",COUNTRY_INFO!$U$9:$U$1000=\"T2 (PZQ)\"), \"T2 (PZQ)\", \" \")","v":" "},null,null,null,null,0,null,null,null,0," "," "," "," "]
[{"$f":"IF(COUNTRY_INFO!A123=0,\" \",COUNTRY_INFO!A123)","v":"Tanzania"},{"$f":"IF(COUNTRY_INFO!B123=0,\" \",COUNTRY_INFO!B123)","v":"Mwanza"},{"$f":"IF(COUNTRY_INFO!C123=0,\" \",COUNTRY_INFO!C123)","v":"Ukerewe District Council"},{"$f":"IF(OR(COUNTRY_INFO!$T$9:$T$1000=\"T2 (PZQ)\",COUNTRY_INFO!$U$9:$U$1000=\"T2 (PZQ)\"), \"T2 (PZQ)\", \" \")","v":" "},null,null,null,null,0,null,null,null,0," "," "," "," "]
[{"$f":"IF(COUNTRY_INFO!A124=0,\" \",COUNTRY_INFO!A124)","v":"Tanzania"},{"$f":"IF(COUNTRY_INFO!B124=0,\" \",COUNTRY_INFO!B124)","v":"Njombe"},{"$f":"IF(COUNTRY_INFO!C124=0,\" \",COUNTRY_INFO!C124)","v":"Ludewa District Council"},{"$f":"IF(OR(COUNTRY_INFO!$T$9:$T$1000=\"T2 (PZQ)\",COUNTRY_INFO!$U$9:$U$1000=\"T2 (PZQ)\"), \"T2 (PZQ)\", \" \")","v":" "},null,null,null,null,0,null,null,null,0," "," "," "," "]
[{"$f":"IF(COUNTRY_INFO!A125=0,\" \",COUNTRY_INFO!A125)","v":"Tanzania"},{"$f":"IF(COUNTRY_INFO!B125=0,\" \",COUNTRY_INFO!B125)","v":"Njombe"},{"$f":"IF(COUNTRY_INFO!C125=0,\" \",COUNTRY_INFO!C125)","v":"Makambako Town Council"},{"$f":"IF(OR(COUNTRY_INFO!$T$9:$T$1000=\"T2 (PZQ)\",COUNTRY_INFO!$U$9:$U$1000=\"T2 (PZQ)\"), \"T2 (PZQ)\", \" \")","v":" "},null,null,null,null,0,null,null,null,0," "," "," "," "]
[{"$f":"IF(COUNTRY_INFO!A126=0,\" \",COUNTRY_INFO!A126)","v":"Tanzania"},{"$f":"IF(COUNTRY_INFO!B126=0,\" \",COUNTRY_INFO!B126)","v":"Njombe"},{"$f":"IF(COUNTRY_INFO!C126=0,\" \",COUNTRY_INFO!C126)","v":"Makete District Council"},{"$f":"IF(OR(COUNTRY_INFO!$T$9:$T$1000=\"T2 (PZQ)\",COUNTRY_INFO!$U$9:$U$1000=\"T2 (PZQ)\"), \"T2 (PZQ)\", \" \")","v":" "},null,null,null,null,0,null,null,null,0," "," "," "," "]
[{"$f":"IF(COUNTRY_INFO!A127=0,\" \",COUNTRY_INFO!A127)","v":"Tanzania"},{"$f":"IF(COUNTRY_INFO!B127=0,\" \",COUNTRY_INFO!B127)","v":"Njombe"},{"$f":"IF(COUNTRY_INFO!C127=0,\" \",COUNTRY_INFO!C127)","v":"Njombe District Council"},{"$f":"IF(OR(COUNTRY_INFO!$T$9:$T$1000=\"T2 (PZQ)\",COUNTRY_INFO!$U$9:$U$1000=\"T2 (PZQ)\"), \"T2 (PZQ)\", \" \")","v":" "},null,null,null,null,0,null,null,null,0," "," "," "," "]
[{"$f":"IF(COUNTRY_INFO!A128=0,\" \",COUNTRY_INFO!A128)","v":"Tanzania"},{"$f":"IF(COUNTRY_INFO!B128=0,\" \",COUNTRY_INFO!B128)","v":"Njombe"},{"$f":"IF(COUNTRY_INFO!C128=0,\" \",COUNTRY_INFO!C128)","v":"Njombe Town Council"},{"$f":"IF(OR(COUNTRY_INFO!$T$9:$T$1000=\"T2 (PZQ)\",COUNTRY_INFO!$U$9:$U$1000=\"T2 (PZQ)\"), \"T2 (PZQ)\", \" \")","v":" "},null,null,null,null,0,null,null,null,0," "," "," "," "]
[{"$f":"IF(COUNTRY_INFO!A129=0,\" \",COUNTRY_INFO!A129)","v":"Tanzania"},{"$f":"IF(COUNTRY_INFO!B129=0,\" \",COUNTRY_INFO!B129)","v":"Njombe"},{"$f":"IF(COUNTRY_INFO!C129=0,\" \",COUNTRY_INFO!C129)","v":"Wanging'ombe District Council"},{"$f":"IF(OR(COUNTRY_INFO!$T$9:$T$1000=\"T2 (PZQ)\",COUNTRY_INFO!$U$9:$U$1000=\"T2 (PZQ)\"), \"T2 (PZQ)\", \" \")","v":" "},null,null,null,null,0,null,null,null,0," "," "," "," "]
[{"$f":"IF(COUNTRY_INFO!A130=0,\" \",COUNTRY_INFO!A130)","v":"Tanzania"},{"$f":"IF(COUNTRY_INFO!B130=0,\" \",COUNTRY_INFO!B130)","v":"Pwani"},{"$f":"IF(COUNTRY_INFO!C130=0,\" \",COUNTRY_INFO!C130)","v":"Bagamoyo District Council"},{"$f":"IF(OR(COUNTRY_INFO!$T$9:$T$1000=\"T2 (PZQ)\",COUNTRY_INFO!$U$9:$U$1000=\"T2 (PZQ)\"), \"T2 (PZQ)\", \" \")","v":" "},null,null,null,null,0,null,null,null,0," "," "," "," "]
[{"$f":"IF(COUNTRY_INFO!A131=0,\" \",COUNTRY_INFO!A131)","v":"Tanzania"},{"$f":"IF(COUNTRY_INFO!B131=0,\" \",COUNTRY_INFO!B131)","v":"Pwani"},{"$f":"IF(COUNTRY_INFO!C131=0,\" \",COUNTRY_INFO!C131)","v":"Chalinze District Council"},{"$f":"IF(OR(COUNTRY_INFO!$T$9:$T$1000=\"T2 (PZQ)\",COUNTRY_INFO!$U$9:$U$1000=\"T2 (PZQ)\"), \"T2 (PZQ)\", \" \")","v":" "},null,null,null,null,0,null,null,null,0," "," "," "," "]
[{"$f":"IF(COUNTRY_INFO!A132=0,\" \",COUNTRY_INFO!A132)","v":"Tanzania"},{"$f":"IF(COUNTRY_INFO!B132=0,\" \",COUNTRY_INFO!B132)","v":"Pwani"},{"$f":"IF(COUNTRY_INFO!C132=0,\" \",COUNTRY_INFO!C132)","v":"Kibaha District Council"},{"$f":"IF(OR(COUNTRY_INFO!$T$9:$T$1000=\"T2 (PZQ)\",COUNTRY_INFO!$U$9:$U$1000=\"T2 (PZQ)\"), \"T2 (PZQ)\", \" \")","v":" "},null,null,null,null,0,null,null,null,0," "," "," "," "]
[{"$f":"IF(COUNTRY_INFO!A133=0,\" \",COUNTRY_INFO!A133)","v":"Tanzania"},{"$f":"IF(COUNTRY_INFO!B133=0,\" \",COUNTRY_INFO!B133)","v":"Pwani"},{"$f":"IF(COUNTRY_INFO!C133=0,\" \",COUNTRY_INFO!C133)","v":"Kibaha Town Council"},{"$f":"IF(OR(COUNTRY_INFO!$T$9:$T$1000=\"T2 (PZQ)\",COUNTRY_INFO!$U$9:$U$1000=\"T2 (PZQ)\"), \"T2 (PZQ)\", \" \")","v":" "},null,null,null,null,0,null,null,null,0," "," "," "," "]
[{"$f":"IF(COUNTRY_INFO!A134=0,\" \",COUNTRY_INFO!A134)","v":"Tanzania"},{"$f":"IF(COUNTRY_INFO!B134=0,\" \",COUNTRY_INFO!B134)","v":"Pwani"},{"$f":"IF(COUNTRY_INFO!C134=0,\" \",COUNTRY_INFO!C134)","v":"Kibiti District Council"},{"$f":"IF(OR(COUNTRY_INFO!$T$9:$T$1000=\"T2 (PZQ)\",COUNTRY_INFO!$U$9:$U$1000=\"T2 (PZQ)\"), \"T2 (PZQ)\", \" \")","v":" "},null,null,null,null,0,null,null,null,0," "," "," "," "]
[{"$f":"IF(COUNTRY_INFO!A135=0,\" \",COUNTRY_INFO!A135)","v":"Tanzania"},{"$f":"IF(COUNTRY_INFO!B135=0,\" \",COUNTRY_INFO!B135)","v":"Pwani"},{"$f":"IF(COUNTRY_INFO!C135=0,\" \",COUNTRY_INFO!C135)","v":"Kisarawe District Council"},{"$f":"IF(OR(COUNTRY_INFO!$T$9:$T$1000=\"T2 (PZQ)\",COUNTRY_INFO!$U$9:$U$1000=\"T2 (PZQ)\"), \"T2 (PZQ)\", \" \")","v":" "},null,null,null,null,0,null,null,null,0," "," "," "," "]
[{"$f":"IF(COUNTRY_INFO!A136=0,\" \",COUNTRY_INFO!A136)","v":"Tanzania"},{"$f":"IF(COUNTRY_INFO!B136=0,\" \",COUNTRY_INFO!B136)","v":"Pwani"},{"$f":"IF(COUNTRY_INFO!C136=0,\" \",COUNTRY_INFO!C136)","v":"Mafia District Council"},{"$f":"IF(OR(COUNTRY_INFO!$T$9:$T$1000=\"T2 (PZQ)\",COUNTRY_INFO!$U$9:$U$1000=\"T2 (PZQ)\"), \"T2 (PZQ)\", \" \")","v":" "},null,null,null,null,0,null,null,null,0," "," "," "," "]
[{"$f":"IF(COUNTRY_INFO!A137=0,\" \",COUNTRY_INFO!A137)","v":"Tanzania"},{"$f":"IF(COUNTRY_INFO!B137=0,\" \",COUNTRY_INFO!B137)","v":"Pwani"},{"$f":"IF(COUNTRY_INFO!C137=0,\" \",COUNTRY_INFO!C137)","v":"Mkuranga District Council"},{"$f":"IF(OR(COUNTRY_INFO!$T$9:$T$1000=\"T2 (PZQ)\",COUNTRY_INFO!$U$9:$U$1000=\"T2 (PZQ)\"), \"T2 (PZQ)\", \" \")","v":" "},null,null,null,null,0,null,null,null,0," "," "," "," "]
[{"$f":"IF(COUNTRY_INFO!A138=0,\" \",COUNTRY_INFO!A138)","v":"Tanzania"},{"$f":"IF(COUNTRY_INFO!B138=0,\" \",COUNTRY_INFO!B138)","v":"Pwani"},{"$f":"IF(COUNTRY_INFO!C138=0,\" \",COUNTRY_INFO!C138)","v":"Rufiji District Council"},{"$f":"IF(OR(COUNTRY_INFO!$T$9:$T$1000=\"T2 (PZQ)\",COUNTRY_INFO!$U$9:$U$1000=\"T2 (PZQ)\"), \"T2 (PZQ)\", \" \")","v":" "},null,null,null,null,{"$f":"SUM(F138:H138)","v":0},null,null,null,{"$f":"SUM(J138:L138)","v":0},{"$f":"IF(F138<>0, IF(J138/F138*100=0, \"-\", J138/F138*100), \" \")","v":" "},{"$f":"IF(G138<>0, IF(K138/G138*100=0, \"-\", K138/G138*100), \" \")","v":" "},{"$f":"IF(H138<>0, IF(L138/H138*100=0, \"-\", L138/H138*100), \" \")","v":" "},{"$f":"IF(I138<>0, IF(M138/I138*100=0, \"-\", M138/I138*100), \" \")","v":" "}]
[{"$f":"IF(COUNTRY_INFO!A139=0,\" \",COUNTRY_INFO!A139)","v":"Tanzania"},{"$f":"IF(COUNTRY_INFO!B139=0,\" \",COUNTRY_INFO!B139)","v":"Rukwa"},{"$f":"IF(COUNTRY_INFO!C139=0,\" \",COUNTRY_INFO!C139)","v":"Kalambo District Council"},{"$f":"IF(OR(COUNTRY_INFO!$T$9:$T$1000=\"T2 (PZQ)\",COUNTRY_INFO!$U$9:$U$1000=\"T2 (PZQ)\"), \"T2 (PZQ)\", \" \")","v":" "},null,null,null,null,0,null,null,null,0," "," "," "," "]
[{"$f":"IF(COUNTRY_INFO!A140=0,\" \",COUNTRY_INFO!A140)","v":"Tanzania"},{"$f":"IF(COUNTRY_INFO!B140=0,\" \",COUNTRY_INFO!B140)","v":"Rukwa"},{"$f":"IF(COUNTRY_INFO!C140=0,\" \",COUNTRY_INFO!C140)","v":"Nkasi District Council"},{"$f":"IF(OR(COUNTRY_INFO!$T$9:$T$1000=\"T2 (PZQ)\",COUNTRY_INFO!$U$9:$U$1000=\"T2 (PZQ)\"), \"T2 (PZQ)\", \" \")","v":" "},null,null,null,null,0,null,null,null,0," "," "," "," "]
[{"$f":"IF(COUNTRY_INFO!A141=0,\" \",COUNTRY_INFO!A141)","v":"Tanzania"},{"$f":"IF(COUNTRY_INFO!B141=0,\" \",COUNTRY_INFO!B141)","v":"Rukwa"},{"$f":"IF(COUNTRY_INFO!C141=0,\" \",COUNTRY_INFO!C141)","v":"Sumbawanga District Council"},{"$f":"IF(OR(COUNTRY_INFO!$T$9:$T$1000=\"T2 (PZQ)\",COUNTRY_INFO!$U$9:$U$1000=\"T2 (PZQ)\"), \"T2 (PZQ)\", \" \")","v":" "},null,null,null,null,0,null,null,null,0," "," "," "," "]
[{"$f":"IF(COUNTRY_INFO!A142=0,\" \",COUNTRY_INFO!A142)","v":"Tanzania"},{"$f":"IF(COUNTRY_INFO!B142=0,\" \",COUNTRY_INFO!B142)","v":"Rukwa"},{"$f":"IF(COUNTRY_INFO!C142=0,\" \",COUNTRY_INFO!C142)","v":"Sumbawanga Municipal Council"},{"$f":"IF(OR(COUNTRY_INFO!$T$9:$T$1000=\"T2 (PZQ)\",COUNTRY_INFO!$U$9:$U$1000=\"T2 (PZQ)\"), \"T2 (PZQ)\", \" \")","v":" "},null,null,null,null,0,null,null,null,0," "," "," "," "]
[{"$f":"IF(COUNTRY_INFO!A143=0,\" \",COUNTRY_INFO!A143)","v":"Tanzania"},{"$f":"IF(COUNTRY_INFO!B143=0,\" \",COUNTRY_INFO!B143)","v":"Ruvuma"},{"$f":"IF(COUNTRY_INFO!C143=0,\" \",COUNTRY_INFO!C143)","v":"Madaba District Council"},{"$f":"IF(OR(COUNTRY_INFO!$T$9:$T$1000=\"T2 (PZQ)\",COUNTRY_INFO!$U$9:$U$1000=\"T2 (PZQ)\"), \"T2 (PZQ)\", \" \")","v":" "},null,null,null,null,0,null,null,null,0," "," "," "," "]
[{"$f":"IF(COUNTRY_INFO!A144=0,\" \",COUNTRY_INFO!A144)","v":"Tanzania"},{"$f":"IF(COUNTRY_INFO!B144=0,\" \",COUNTRY_INFO!B144)","v":"Ruvuma"},{"$f":"IF(COUNTRY_INFO!C144=0,\" \",COUNTRY_INFO!C144)","v":"Mbinga District Council"},{"$f":"IF(OR(COUNTRY_INFO!$T$9:$T$1000=\"T2 (PZQ)\",COUNTRY_INFO!$U$9:$U$1000=\"T2 (PZQ)\"), \"T2 (PZQ)\", \" \")","v":" "},null,null,null,null,0,null,null,null,0," "," "," "," "]
[{"$f":"IF(COUNTRY_INFO!A145=0,\" \",COUNTRY_INFO!A145)","v":"Tanzania"},{"$f":"IF(COUNTRY_INFO!B145=0,\" \",COUNTRY_INFO!B145)","v":"Ruvuma"},{"$f":"IF(COUNTRY_INFO!C145=0,\" \",COUNTRY_INFO!C145)","v":"Mbinga Town Council"},{"$f":"IF(OR(COUNTRY_INFO!$T$9:$T$1000=\"T2 (PZQ)\",COUNTRY_INFO!$U$9:$U$1000=\"T2 (PZQ)\"), \"T2 (PZQ)\", \" \")","v":" "},null,null,null,null,0,null,null,null,0," "," "," "," "]
[{"$f":"IF(COUNTRY_INFO!A146=0,\" \",COUNTRY_INFO!A146)","v":"Tanzania"},{"$f":"IF(COUNTRY_INFO!B146=0,\" \",COUNTRY_INFO!B146)","v":"Ruvuma"},{"$f":"IF(COUNTRY_INFO!C146=0,\" \",COUNTRY_INFO!C146)","v":"Namtumbo District Council"},{"$f":"IF(OR(COUNTRY_INFO!$T$9:$T$1000=\"T2 (PZQ)\",COUNTRY_INFO!$U$9:$U$1000=\"T2 (PZQ)\"), \"T2 (PZQ)\", \" \")","v":" "},null,null,null,null,0,null,null,null,0," "," "," "," "]
[{"$f":"IF(COUNTRY_INFO!A147=0,\" \",COUNTRY_INFO!A147)","v":"Tanzania"},{"$f":"IF(COUNTRY_INFO!B147=0,\" \",COUNTRY_INFO!B147)","v":"Ruvuma"},{"$f":"IF(COUNTRY_INFO!C147=0,\" \",COUNTRY_INFO!C147)","v":"Nyasa District Council"},{"$f":"IF(OR(COUNTRY_INFO!$T$9:$T$1000=\"T2 (PZQ)\",COUNTRY_INFO!$U$9:$U$1000=\"T2 (PZQ)\"), \"T2 (PZQ)\", \" \")","v":" "},null,null,null,null,0,null,null,null,0," "," "," "," "]
[{"$f":"IF(COUNTRY_INFO!A148=0,\" \",COUNTRY_INFO!A148)","v":"Tanzania"},{"$f":"IF(COUNTRY_INFO!B148=0,\" \",COUNTRY_INFO!B148)","v":"Ruvuma"},{"$f":"IF(COUNTRY_INFO!C148=0,\" \",COUNTRY_INFO!C148)","v":"Songea District Council"},{"$f":"IF(OR(COUNTRY_INFO!$T$9:$T$1000=\"T2 (PZQ)\",COUNTRY_INFO!$U$9:$U$1000=\"T2 (PZQ)\"), \"T2 (PZQ)\", \" \")","v":" "},null,null,null,null,0,null,null,null,0," "," "," "," "]
[{"$f":"IF(COUNTRY_INFO!A149=0,\" \",COUNTRY_INFO!A149)","v":"Tanzania"},{"$f":"IF(COUNTRY_INFO!B149=0,\" \",COUNTRY_INFO!B149)","v":"Ruvuma"},{"$f":"IF(COUNTRY_INFO!C149=0,\" \",COUNTRY_INFO!C149)","v":"Songea Municipal Council"},{"$f":"IF(OR(COUNTRY_INFO!$T$9:$T$1000=\"T2 (PZQ)\",COUNTRY_INFO!$U$9:$U$1000=\"T2 (PZQ)\"), \"T2 (PZQ)\", \" \")","v":" "},null,null,null,null,0,null,null,null,0," "," "," "," "]
[{"$f":"IF(COUNTRY_INFO!A150=0,\" \",COUNTRY_INFO!A150)","v":"Tanzania"},{"$f":"IF(COUNTRY_INFO!B150=0,\" \",COUNTRY_INFO!B150)","v":"Ruvuma"},{"$f":"IF(COUNTRY_INFO!C150=0,\" \",COUNTRY_INFO!C150)","v":"Tunduru District Council"},{"$f":"IF(OR(COUNTRY_INFO!$T$9:$T$1000=\"T2 (PZQ)\",COUNTRY_INFO!$U$9:$U$1000=\"T2 (PZQ)\"), \"T2 (PZQ)\", \" \")","v":" "},null,null,null,null,0,null,null,null,0," "," "," "," "]
[{"$f":"IF(COUNTRY_INFO!A151=0,\" \",COUNTRY_INFO!A151)","v":"Tanzania"},{"$f":"IF(COUNTRY_INFO!B151=0,\" \",COUNTRY_INFO!B151)","v":"Shinyanga"},{"$f":"IF(COUNTRY_INFO!C151=0,\" \",COUNTRY_INFO!C151)","v":"Kahama Town Council"},{"$f":"IF(OR(COUNTRY_INFO!$T$9:$T$1000=\"T2 (PZQ)\",COUNTRY_INFO!$U$9:$U$1000=\"T2 (PZQ)\"), \"T2 (PZQ)\", \" \")","v":" "},null,null,null,null,0,null,null,null,0," "," "," "," "]
[{"$f":"IF(COUNTRY_INFO!A152=0,\" \",COUNTRY_INFO!A152)","v":"Tanzania"},{"$f":"IF(COUNTRY_INFO!B152=0,\" \",COUNTRY_INFO!B152)","v":"Shinyanga"},{"$f":"IF(COUNTRY_INFO!C152=0,\" \",COUNTRY_INFO!C152)","v":"Kishapu District Council"},{"$f":"IF(OR(COUNTRY_INFO!$T$9:$T$1000=\"T2 (PZQ)\",COUNTRY_INFO!$U$9:$U$1000=\"T2 (PZQ)\"), \"T2 (PZQ)\", \" \")","v":" "},null,null,null,null,0,null,null,null,0," "," "," "," "]
[{"$f":"IF(COUNTRY_INFO!A153=0,\" \",COUNTRY_INFO!A153)","v":"Tanzania"},{"$f":"IF(COUNTRY_INFO!B153=0,\" \",COUNTRY_INFO!B153)","v":"Shinyanga"},{"$f":"IF(COUNTRY_INFO!C153=0,\" \",COUNTRY_INFO!C153)","v":"Msalala District Council"},{"$f":"IF(OR(COUNTRY_INFO!$T$9:$T$1000=\"T2 (PZQ)\",COUNTRY_INFO!$U$9:$U$1000=\"T2 (PZQ)\"), \"T2 (PZQ)\", \" \")","v":" "},null,null,null,null,0,null,null,null,0," "," "," "," "]
[{"$f":"IF(COUNTRY_INFO!A154=0,\" \",COUNTRY_INFO!A154)","v":"Tanzania"},{"$f":"IF(COUNTRY_INFO!B154=0,\" \",COUNTRY_INFO!B154)","v":"Shinyanga"},{"$f":"IF(COUNTRY_INFO!C154=0,\" \",COUNTRY_INFO!C154)","v":"Shinyanga District Council"},{"$f":"IF(OR(COUNTRY_INFO!$T$9:$T$1000=\"T2 (PZQ)\",COUNTRY_INFO!$U$9:$U$1000=\"T2 (PZQ)\"), \"T2 (PZQ)\", \" \")","v":" "},null,null,null,null,0,null,null,null,0," "," "," "," "]
[{"$f":"IF(COUNTRY_INFO!A155=0,\" \",COUNTRY_INFO!A155)","v":"Tanzania"},{"$f":"IF(COUNTRY_INFO!B155=0,\" \",COUNTRY_INFO!B155)","v":"Shinyanga"},{"$f":"IF(COUNTRY_INFO!C155=0,\" \",COUNTRY_INFO!C155)","v":"Shinyanga Municipal Council"},{"$f":"IF(OR(COUNTRY_INFO!$T$9:$T$1000=\"T2 (PZQ)\",COUNTRY_INFO!$U$9:$U$1000=\"T2 (PZQ)\"), \"T2 (PZQ)\", \" \")","v":" "},null,null,null,null,0,null,null,null,0," "," "," "," "]
[{"$f":"IF(COUNTRY_INFO!A156=0,\" \",COUNTRY_INFO!A156)","v":"Tanzania"},{"$f":"IF(COUNTRY_INFO!B156=0,\" \",COUNTRY_INFO!B156)","v":"Shinyanga"},{"$f":"IF(COUNTRY_INFO!C156=0,\" \",COUNTRY_INFO!C156)","v":"Ushetu District Council"},{"$f":"IF(OR(COUNTRY_INFO!$T$9:$T$1000=\"T2 (PZQ)\",COUNTRY_INFO!$U$9:$U$1000=\"T2 (PZQ)\"), \"T2 (PZQ)\", \" \")","v":" "},null,null,null,null,0,null,null,null,0," "," "," "," "]
[{"$f":"IF(COUNTRY_INFO!A157=0,\" \",COUNTRY_INFO!A157)","v":"Tanzania"},{"$f":"IF(COUNTRY_INFO!B157=0,\" \",COUNTRY_INFO!B157)","v":"Simiyu"},{"$f":"IF(COUNTRY_INFO!C157=0,\" \",COUNTRY_INFO!C157)","v":"Bariadi District Council"},{"$f":"IF(OR(COUNTRY_INFO!$T$9:$T$1000=\"T2 (PZQ)\",COUNTRY_INFO!$U$9:$U$1000=\"T2 (PZQ)\"), \"T2 (PZQ)\", \" \")","v":" "},null,null,null,null,0,null,null,null,0," "," "," "," "]
[{"$f":"IF(COUNTRY_INFO!A158=0,\" \",COUNTRY_INFO!A158)","v":"Tanzania"},{"$f":"IF(COUNTRY_INFO!B158=0,\" \",COUNTRY_INFO!B158)","v":"Simiyu"},{"$f":"IF(COUNTRY_INFO!C158=0,\" \",COUNTRY_INFO!C158)","v":"Bariadi Town Council"},{"$f":"IF(OR(COUNTRY_INFO!$T$9:$T$1000=\"T2 (PZQ)\",COUNTRY_INFO!$U$9:$U$1000=\"T2 (PZQ)\"), \"T2 (PZQ)\", \" \")","v":" "},null,null,null,null,0,null,null,null,0," "," "," "," "]
[{"$f":"IF(COUNTRY_INFO!A159=0,\" \",COUNTRY_INFO!A159)","v":"Tanzania"},{"$f":"IF(COUNTRY_INFO!B159=0,\" \",COUNTRY_INFO!B159)","v":"Simiyu"},{"$f":"IF(COUNTRY_INFO!C159=0,\" \",COUNTRY_INFO!C159)","v":"Busega District Council"},{"$f":"IF(OR(COUNTRY_INFO!$T$9:$T$1000=\"T2 (PZQ)\",COUNTRY_INFO!$U$9:$U$1000=\"T2 (PZQ)\"), \"T2 (PZQ)\", \" \")","v":" "},null,null,null,null,0,null,null,null,0," "," "," "," "]
[{"$f":"IF(COUNTRY_INFO!A160=0,\" \",COUNTRY_INFO!A160)","v":"Tanzania"},{"$f":"IF(COUNTRY_INFO!B160=0,\" \",COUNTRY_INFO!B160)","v":"Simiyu"},{"$f":"IF(COUNTRY_INFO!C160=0,\" \",COUNTRY_INFO!C160)","v":"Itilima District Council"},{"$f":"IF(OR(COUNTRY_INFO!$T$9:$T$1000=\"T2 (PZQ)\",COUNTRY_INFO!$U$9:$U$1000=\"T2 (PZQ)\"), \"T2 (PZQ)\", \" \")","v":" "},null,null,null,null,0,null,null,null,0," "," "," "," "]
[{"$f":"IF(COUNTRY_INFO!A161=0,\" \",COUNTRY_INFO!A161)","v":"Tanzania"},{"$f":"IF(COUNTRY_INFO!B161=0,\" \",COUNTRY_INFO!B161)","v":"Simiyu"},{"$f":"IF(COUNTRY_INFO!C161=0,\" \",COUNTRY_INFO!C161)","v":"Maswa District Council"},{"$f":"IF(OR(COUNTRY_INFO!$T$9:$T$1000=\"T2 (PZQ)\",COUNTRY_INFO!$U$9:$U$1000=\"T2 (PZQ)\"), \"T2 (PZQ)\", \" \")","v":" "},null,null,null,null,0,null,null,null,0," "," "," "," "]
[{"$f":"IF(COUNTRY_INFO!A162=0,\" \",COUNTRY_INFO!A162)","v":"Tanzania"},{"$f":"IF(COUNTRY_INFO!B162=0,\" \",COUNTRY_INFO!B162)","v":"Simiyu"},{"$f":"IF(COUNTRY_INFO!C162=0,\" \",COUNTRY_INFO!C162)","v":"Meatu District Council"},{"$f":"IF(OR(COUNTRY_INFO!$T$9:$T$1000=\"T2 (PZQ)\",COUNTRY_INFO!$U$9:$U$1000=\"T2 (PZQ)\"), \"T2 (PZQ)\", \" \")","v":" "},null,null,null,null,0,null,null,null,0," "," "," "," "]
[{"$f":"IF(COUNTRY_INFO!A163=0,\" \",COUNTRY_INFO!A163)","v":"Tanzania"},{"$f":"IF(COUNTRY_INFO!B163=0,\" \",COUNTRY_INFO!B163)","v":"Singida"},{"$f":"IF(COUNTRY_INFO!C163=0,\" \",COUNTRY_INFO!C163)","v":"Ikungi District Council"},{"$f":"IF(OR(COUNTRY_INFO!$T$9:$T$1000=\"T2 (PZQ)\",COUNTRY_INFO!$U$9:$U$1000=\"T2 (PZQ)\"), \"T2 (PZQ)\", \" \")","v":" "},null,null,null,null,0,null,null,null,0," "," "," "," "]
[{"$f":"IF(COUNTRY_INFO!A164=0,\" \",COUNTRY_INFO!A164)","v":"Tanzania"},{"$f":"IF(COUNTRY_INFO!B164=0,\" \",COUNTRY_INFO!B164)","v":"Singida"},{"$f":"IF(COUNTRY_INFO!C164=0,\" \",COUNTRY_INFO!C164)","v":"Iramba District Council"},{"$f":"IF(OR(COUNTRY_INFO!$T$9:$T$1000=\"T2 (PZQ)\",COUNTRY_INFO!$U$9:$U$1000=\"T2 (PZQ)\"), \"T2 (PZQ)\", \" \")","v":" "},null,null,null,null,0,null,null,null,0," "," "," "," "]
[{"$f":"IF(COUNTRY_INFO!A165=0,\" \",COUNTRY_INFO!A165)","v":"Tanzania"},{"$f":"IF(COUNTRY_INFO!B165=0,\" \",COUNTRY_INFO!B165)","v":"Singida"},{"$f":"IF(COUNTRY_INFO!C165=0,\" \",COUNTRY_INFO!C165)","v":"Itigi District Council"},{"$f":"IF(OR(COUNTRY_INFO!$T$9:$T$1000=\"T2 (PZQ)\",COUNTRY_INFO!$U$9:$U$1000=\"T2 (PZQ)\"), \"T2 (PZQ)\", \" \")","v":" "},null,null,null,null,0,null,null,null,0," "," "," "," "]
[{"$f":"IF(COUNTRY_INFO!A166=0,\" \",COUNTRY_INFO!A166)","v":"Tanzania"},{"$f":"IF(COUNTRY_INFO!B166=0,\" \",COUNTRY_INFO!B166)","v":"Singida"},{"$f":"IF(COUNTRY_INFO!C166=0,\" \",COUNTRY_INFO!C166)","v":"Manyoni District Council"},{"$f":"IF(OR(COUNTRY_INFO!$T$9:$T$1000=\"T2 (PZQ)\",COUNTRY_INFO!$U$9:$U$1000=\"T2 (PZQ)\"), \"T2 (PZQ)\", \" \")","v":" "},null,null,null,null,0,null,null,null,0," "," "," "," "]
[{"$f":"IF(COUNTRY_INFO!A167=0,\" \",COUNTRY_INFO!A167)","v":"Tanzania"},{"$f":"IF(COUNTRY_INFO!B167=0,\" \",COUNTRY_INFO!B167)","v":"Singida"},{"$f":"IF(COUNTRY_INFO!C167=0,\" \",COUNTRY_INFO!C167)","v":"Mkalama District Council"},{"$f":"IF(OR(COUNTRY_INFO!$T$9:$T$1000=\"T2 (PZQ)\",COUNTRY_INFO!$U$9:$U$1000=\"T2 (PZQ)\"), \"T2 (PZQ)\", \" \")","v":" "},null,null,null,null,0,null,null,null,0," "," "," "," "]
[{"$f":"IF(COUNTRY_INFO!A168=0,\" \",COUNTRY_INFO!A168)","v":"Tanzania"},{"$f":"IF(COUNTRY_INFO!B168=0,\" \",COUNTRY_INFO!B168)","v":"Singida"},{"$f":"IF(COUNTRY_INFO!C168=0,\" \",COUNTRY_INFO!C168)","v":"Singida District Council"},{"$f":"IF(OR(COUNTRY_INFO!$T$9:$T$1000=\"T2 (PZQ)\",COUNTRY_INFO!$U$9:$U$1000=\"T2 (PZQ)\"), \"T2 (PZQ)\", \" \")","v":" "},null,null,null,null,0,null,null,null,0," "," "," "," "]
[{"$f":"IF(COUNTRY_INFO!A169=0,\" \",COUNTRY_INFO!A169)","v":"Tanzania"},{"$f":"IF(COUNTRY_INFO!B169=0,\" \",COUNTRY_INFO!B169)","v":"Singida"},{"$f":"IF(COUNTRY_INFO!C169=0,\" \",COUNTRY_INFO!C169)","v":"Singida Municipal Council"},{"$f":"IF(OR(COUNTRY_INFO!$T$9:$T$1000=\"T2 (PZQ)\",COUNTRY_INFO!$U$9:$U$1000=\"T2 (PZQ)\"), \"T2 (PZQ)\", \" \")","v":" "},null,null,null,null,0,null,null,null,0," "," "," "," "]
[{"$f":"IF(COUNTRY_INFO!A170=0,\" \",COUNTRY_INFO!A170)","v":"Tanzania"},{"$f":"IF(COUNTRY_INFO!B170=0,\" \",COUNTRY_INFO!B170)","v":"Songwe"},{"$f":"IF(COUNTRY_INFO!C170=0,\" \",COUNTRY_INFO!C170)","v":"Ileje District Council"},{"$f":"IF(OR(COUNTRY_INFO!$T$9:$T$1000=\"T2 (PZQ)\",COUNTRY_INFO!$U$9:$U$1000=\"T2 (PZQ)\"), \"T2 (PZQ)\", \" \")","v":" "},null,null,null,null,0,null,null,null,0," "," "," "," "]
[{"$f":"IF(COUNTRY_INFO!A171=0,\" \",COUNTRY_INFO!A171)","v":"Tanzania"},{"$f":"IF(COUNTRY_INFO!B171=0,\" \",COUNTRY_INFO!B171)","v":"Songwe"},{"$f":"IF(COUNTRY_INFO!C171=0,\" \",COUNTRY_INFO!C171)","v":"Mbozi District Council"},{"$f":"IF(OR(COUNTRY_INFO!$T$9:$T$1000=\"T2 (PZQ)\",COUNTRY_INFO!$U$9:$U$1000=\"T2 (PZQ)\"), \"T2 (PZQ)\", \" \")","v":" "},null,null,null,null,0,null,null,null,0," "," "," "," "]
[{"$f":"IF(COUNTRY_INFO!A172=0,\" \",COUNTRY_INFO!A172)","v":"Tanzania"},{"$f":"IF(COUNTRY_INFO!B172=0,\" \",COUNTRY_INFO!B172)","v":"Songwe"},{"$f":"IF(COUNTRY_INFO!C172=0,\" \",COUNTRY_INFO!C172)","v":"Momba District Council"},{"$f":"IF(OR(COUNTRY_INFO!$T$9:$T$1000=\"T2 (PZQ)\",COUNTRY_INFO!$U$9:$U$1000=\"T2 (PZQ)\"), \"T2 (PZQ)\", \" \")","v":" "},null,null,null,null,0,null,null,null,0," "," "," "," "]
[{"$f":"IF(COUNTRY_INFO!A173=0,\" \",COUNTRY_INFO!A173)","v":"Tanzania"},{"$f":"IF(COUNTRY_INFO!B173=0,\" \",COUNTRY_INFO!B173)","v":"Songwe"},{"$f":"IF(COUNTRY_INFO!C173=0,\" \",COUNTRY_INFO!C173)","v":"Songwe District Council"},{"$f":"IF(OR(COUNTRY_INFO!$T$9:$T$1000=\"T2 (PZQ)\",COUNTRY_INFO!$U$9:$U$1000=\"T2 (PZQ)\"), \"T2 (PZQ)\", \" \")","v":" "},null,null,null,null,0,null,null,null,0," "," "," "," "]
[{"$f":"IF(COUNTRY_INFO!A174=0,\" \",COUNTRY_INFO!A174)","v":"Tanzania"},{"$f":"IF(COUNTRY_INFO!B174=0,\" \",COUNTRY_INFO!B174)","v":"Songwe"},{"$f":"IF(COUNTRY_INFO!C174=0,\" \",COUNTRY_INFO!C174)","v":"Tunduma Town Council"},{"$f":"IF(OR(COUNTRY_INFO!$T$9:$T$1000=\"T2 (PZQ)\",COUNTRY_INFO!$U$9:$U$1000=\"T2 (PZQ)\"), \"T2 (PZQ)\", \" \")","v":" "},null,null,null,null,0,null,null,null,0," "," "," "," "]
[{"$f":"IF(COUNTRY_INFO!A175=0,\" \",COUNTRY_INFO!A175)","v":"Tanzania"},{"$f":"IF(COUNTRY_INFO!B175=0,\" \",COUNTRY_INFO!B175)","v":"Tabora"},{"$f":"IF(COUNTRY_INFO!C175=0,\" \",COUNTRY_INFO!C175)","v":"Igunga District Council"},{"$f":"IF(OR(COUNTRY_INFO!$T$9:$T$1000=\"T2 (PZQ)\",COUNTRY_INFO!$U$9:$U$1000=\"T2 (PZQ)\"), \"T2 (PZQ)\", \" \")","v":" "},null,null,null,null,0,null,null,null,0," "," "," "," "]
[{"$f":"IF(COUNTRY_INFO!A176=0,\" \",COUNTRY_INFO!A176)","v":"Tanzania"},{"$f":"IF(COUNTRY_INFO!B176=0,\" \",COUNTRY_INFO!B176)","v":"Tabora"},{"$f":"IF(COUNTRY_INFO!C176=0,\" \",COUNTRY_INFO!C176)","v":"Kaliua District Council"},{"$f":"IF(OR(COUNTRY_INFO!$T$9:$T$1000=\"T2 (PZQ)\",COUNTRY_INFO!$U$9:$U$1000=\"T2 (PZQ)\"), \"T2 (PZQ)\", \" \")","v":" "},null,null,null,null,0,null,null,null,0," "," "," "," "]
[{"$f":"IF(COUNTRY_INFO!A177=0,\" \",COUNTRY_INFO!A177)","v":"Tanzania"},{"$f":"IF(COUNTRY_INFO!B177=0,\" \",COUNTRY_INFO!B177)","v":"Tabora"},{"$f":"IF(COUNTRY_INFO!C177=0,\" \",COUNTRY_INFO!C177)","v":"Nzega District Council"},{"$f":"IF(OR(COUNTRY_INFO!$T$9:$T$1000=\"T2 (PZQ)\",COUNTRY_INFO!$U$9:$U$1000=\"T2 (PZQ)\"), \"T2 (PZQ)\", \" \")","v":" "},null,null,null,null,0,null,null,null,0," "," "," "," "]
[{"$f":"IF(COUNTRY_INFO!A178=0,\" \",COUNTRY_INFO!A178)","v":"Tanzania"},{"$f":"IF(COUNTRY_INFO!B178=0,\" \",COUNTRY_INFO!B178)","v":"Tabora"},{"$f":"IF(COUNTRY_INFO!C178=0,\" \",COUNTRY_INFO!C178)","v":"Nzega Town Council"},{"$f":"IF(OR(COUNTRY_INFO!$T$9:$T$1000=\"T2 (PZQ)\",COUNTRY_INFO!$U$9:$U$1000=\"T2 (PZQ)\"), \"T2 (PZQ)\", \" \")","v":" "},null,null,null,null,0,null,null,null,0," "," "," "," "]
[{"$f":"IF(COUNTRY_INFO!A179=0,\" \",COUNTRY_INFO!A179)","v":"Tanzania"},{"$f":"IF(COUNTRY_INFO!B179=0,\" \",COUNTRY_INFO!B179)","v":"Tabora"},{"$f":"IF(COUNTRY_INFO!C179=0,\" \",COUNTRY_INFO!C179)","v":"Sikonge District Council"},{"$f":"IF(OR(COUNTRY_INFO!$T$9:$T$1000=\"T2 (PZQ)\",COUNTRY_INFO!$U$9:$U$1000=\"T2 (PZQ)\"), \"T2 (PZQ)\", \" \")","v":" "},null,null,null,null,0,null,null,null,0," "," "," "," "]
[{"$f":"IF(COUNTRY_INFO!A180=0,\" \",COUNTRY_INFO!A180)","v":"Tanzania"},{"$f":"IF(COUNTRY_INFO!B180=0,\" \",COUNTRY_INFO!B180)","v":"Tabora"},{"$f":"IF(COUNTRY_INFO!C180=0,\" \",COUNTRY_INFO!C180)","v":"Tabora Municipal Council"},{"$f":"IF(OR(COUNTRY_INFO!$T$9:$T$1000=\"T2 (PZQ)\",COUNTRY_INFO!$U$9:$U$1000=\"T2 (PZQ)\"), \"T2 (PZQ)\", \" \")","v":" "},null,null,null,null,0,null,null,null,0," "," "," "," "]
[{"$f":"IF(COUNTRY_INFO!A181=0,\" \",COUNTRY_INFO!A181)","v":"Tanzania"},{"$f":"IF(COUNTRY_INFO!B181=0,\" \",COUNTRY_INFO!B181)","v":"Tabora"},{"$f":"IF(COUNTRY_INFO!C181=0,\" \",COUNTRY_INFO!C181)","v":"Urambo District Council"},{"$f":"IF(OR(COUNTRY_INFO!$T$9:$T$1000=\"T2 (PZQ)\",COUNTRY_INFO!$U$9:$U$1000=\"T2 (PZQ)\"), \"T2 (PZQ)\", \" \")","v":" "},null,null,null,null,0,null,null,null,0," "," "," "," "]
[{"$f":"IF(COUNTRY_INFO!A182=0,\" \",COUNTRY_INFO!A182)","v":"Tanzania"},{"$f":"IF(COUNTRY_INFO!B182=0,\" \",COUNTRY_INFO!B182)","v":"Tabora"},{"$f":"IF(COUNTRY_INFO!C182=0,\" \",COUNTRY_INFO!C182)","v":"Uyui District Council"},{"$f":"IF(OR(COUNTRY_INFO!$T$9:$T$1000=\"T2 (PZQ)\",COUNTRY_INFO!$U$9:$U$1000=\"T2 (PZQ)\"), \"T2 (PZQ)\", \" \")","v":" "},null,null,null,null,0,null,null,null,0," "," "," "," "]
[{"$f":"IF(COUNTRY_INFO!A183=0,\" \",COUNTRY_INFO!A183)","v":"Tanzania"},{"$f":"IF(COUNTRY_INFO!B183=0,\" \",COUNTRY_INFO!B183)","v":"Tanga"},{"$f":"IF(COUNTRY_INFO!C183=0,\" \",COUNTRY_INFO!C183)","v":"Bumbuli District Council"},{"$f":"IF(OR(COUNTRY_INFO!$T$9:$T$1000=\"T2 (PZQ)\",COUNTRY_INFO!$U$9:$U$1000=\"T2 (PZQ)\"), \"T2 (PZQ)\", \" \")","v":" "},null,null,null,null,0,null,null,null,0," "," "," "," "]
[{"$f":"IF(COUNTRY_INFO!A184=0,\" \",COUNTRY_INFO!A184)","v":"Tanzania"},{"$f":"IF(COUNTRY_INFO!B184=0,\" \",COUNTRY_INFO!B184)","v":"Tanga"},{"$f":"IF(COUNTRY_INFO!C184=0,\" \",COUNTRY_INFO!C184)","v":"Handeni District Council"},{"$f":"IF(OR(COUNTRY_INFO!$T$9:$T$1000=\"T2 (PZQ)\",COUNTRY_INFO!$U$9:$U$1000=\"T2 (PZQ)\"), \"T2 (PZQ)\", \" \")","v":" "},null,null,null,null,0,null,null,null,0," "," "," "," "]
[{"$f":"IF(COUNTRY_INFO!A185=0,\" \",COUNTRY_INFO!A185)","v":"Tanzania"},{"$f":"IF(COUNTRY_INFO!B185=0,\" \",COUNTRY_INFO!B185)","v":"Tanga"},{"$f":"IF(COUNTRY_INFO!C185=0,\" \",COUNTRY_INFO!C185)","v":"Handeni Town Council"},{"$f":"IF(OR(COUNTRY_INFO!$T$9:$T$1000=\"T2 (PZQ)\",COUNTRY_INFO!$U$9:$U$1000=\"T2 (PZQ)\"), \"T2 (PZQ)\", \" \")","v":" "},null,null,null,null,0,null,null,null,0," "," "," "," "]
[{"$f":"IF(COUNTRY_INFO!A186=0,\" \",COUNTRY_INFO!A186)","v":"Tanzania"},{"$f":"IF(COUNTRY_INFO!B186=0,\" \",COUNTRY_INFO!B186)","v":"Tanga"},{"$f":"IF(COUNTRY_INFO!C186=0,\" \",COUNTRY_INFO!C186)","v":"Kilindi District Council"},{"$f":"IF(OR(COUNTRY_INFO!$T$9:$T$1000=\"T2 (PZQ)\",COUNTRY_INFO!$U$9:$U$1000=\"T2 (PZQ)\"), \"T2 (PZQ)\", \" \")","v":" "},null,null,null,null,0,null,null,null,0," "," "," "," "]
[{"$f":"IF(COUNTRY_INFO!A187=0,\" \",COUNTRY_INFO!A187)","v":"Tanzania"},{"$f":"IF(COUNTRY_INFO!B187=0,\" \",COUNTRY_INFO!B187)","v":"Tanga"},{"$f":"IF(COUNTRY_INFO!C187=0,\" \",COUNTRY_INFO!C187)","v":"Korogwe District Council"},{"$f":"IF(OR(COUNTRY_INFO!$T$9:$T$1000=\"T2 (PZQ)\",COUNTRY_INFO!$U$9:$U$1000=\"T2 (PZQ)\"), \"T2 (PZQ)\", \" \")","v":" "},null,null,null,null,0,null,null,null,0," "," "," "," "]
[{"$f":"IF(COUNTRY_INFO!A188=0,\" \",COUNTRY_INFO!A188)","v":"Tanzania"},{"$f":"IF(COUNTRY_INFO!B188=0,\" \",COUNTRY_INFO!B188)","v":"Tanga"},{"$f":"IF(COUNTRY_INFO!C188=0,\" \",COUNTRY_INFO!C188)","v":"Korogwe Town Council"},{"$f":"IF(OR(COUNTRY_INFO!$T$9:$T$1000=\"T2 (PZQ)\",COUNTRY_INFO!$U$9:$U$1000=\"T2 (PZQ)\"), \"T2 (PZQ)\", \" \")","v":" "},null,null,null,null,0,null,null,null,0," "," "," "," "]
[{"$f":"IF(COUNTRY_INFO!A189=0,\" \",COUNTRY_INFO!A189)","v":"Tanzania"},{"$f":"IF(COUNTRY_INFO!B189=0,\" \",COUNTRY_INFO!B189)","v":"Tanga"},{"$f":"IF(COUNTRY_INFO!C189=0,\" \",COUNTRY_INFO!C189)","v":"Lushoto District Council"},{"$f":"IF(OR(COUNTRY_INFO!$T$9:$T$1000=\"T2 (PZQ)\",COUNTRY_INFO!$U$9:$U$1000=\"T2 (PZQ)\"), \"T2 (PZQ)\", \" \")","v":" "},null,null,null,null,0,null,null,null,0," "," "," "," "]
[{"$f":"IF(COUNTRY_INFO!A190=0,\" \",COUNTRY_INFO!A190)","v":"Tanzania"},{"$f":"IF(COUNTRY_INFO!B190=0,\" \",COUNTRY_INFO!B190)","v":"Tanga"},{"$f":"IF(COUNTRY_INFO!C190=0,\" \",COUNTRY_INFO!C190)","v":"Mkinga District Council"},{"$f":"IF(OR(COUNTRY_INFO!$T$9:$T$1000=\"T2 (PZQ)\",COUNTRY_INFO!$U$9:$U$1000=\"T2 (PZQ)\"), \"T2 (PZQ)\", \" \")","v":" "},null,null,null,null,0,null,null,null,0," "," "," "," "]
[{"$f":"IF(COUNTRY_INFO!A191=0,\" \",COUNTRY_INFO!A191)","v":"Tanzania"},{"$f":"IF(COUNTRY_INFO!B191=0,\" \",COUNTRY_INFO!B191)","v":"Tanga"},{"$f":"IF(COUNTRY_INFO!C191=0,\" \",COUNTRY_INFO!C191)","v":"Muheza District Council"},{"$f":"IF(OR(COUNTRY_INFO!$T$9:$T$1000=\"T2 (PZQ)\",COUNTRY_INFO!$U$9:$U$1000=\"T2 (PZQ)\"), \"T2 (PZQ)\", \" \")","v":" "},null,null,null,null,0,null,null,null,0," "," "," "," "]
[{"$f":"IF(COUNTRY_INFO!A192=0,\" \",COUNTRY_INFO!A192)","v":"Tanzania"},{"$f":"IF(COUNTRY_INFO!B192=0,\" \",COUNTRY_INFO!B192)","v":"Tanga"},{"$f":"IF(COUNTRY_INFO!C192=0,\" \",COUNTRY_INFO!C192)","v":"Pangani District Council"},{"$f":"IF(OR(COUNTRY_INFO!$T$9:$T$1000=\"T2 (PZQ)\",COUNTRY_INFO!$U$9:$U$1000=\"T2 (PZQ)\"), \"T2 (PZQ)\", \" \")","v":" "},null,null,null,null,0,null,null,null,0," "," "," "," "]
[{"$f":"IF(COUNTRY_INFO!A193=0,\" \",COUNTRY_INFO!A193)","v":"Tanzania"},{"$f":"IF(COUNTRY_INFO!B193=0,\" \",COUNTRY_INFO!B193)","v":"Tanga"},{"$f":"IF(COUNTRY_INFO!C193=0,\" \",COUNTRY_INFO!C193)","v":"Tanga City Council"},{"$f":"IF(OR(COUNTRY_INFO!$T$9:$T$1000=\"T2 (PZQ)\",COUNTRY_INFO!$U$9:$U$1000=\"T2 (PZQ)\"), \"T2 (PZQ)\", \" \")","v":"T2 (PZQ)"},"Aug - 2018",null,65026,null,65026,null,62760,null,62760," ",96.515240057823021," ",96.515240057823021]

{"sheet":"T3_R1","index":7,"n_rows":193,"n_cols":18,"rows_kept":193,"cut":false,"hidden":false,"merged":[[5,6,5,9],[5,10,5,13],[5,14,5,17],[3,0,3,2],[5,0,5,2],[5,3,6,3],[5,5,6,5],[5,4,6,4]]}
["T 3 - Albendazole (ALB) or Mebendazole (MBD) - Round 1"]
["Administrative structure, population requiring PC by age group, population treated by age group and coverage"]
[]
["TOTAL",null,null,null,null,null,{"$f":"SUM(G$9:G$1000)","v":0},3886296,0,3886296,0,3632195,0,3632195,{"$f":"IF(G4<>0, IF(K4/G4*100=0, \"-\", K4/G4*100), \" \")","v":" "},{"$f":"IF(H4<>0, IF(L4/H4*100=0, \"-\", L4/H4*100), \" \")","v":93.461614864127696},{"$f":"IF(I4<>0, IF(M4/I4*100=0, \"-\", M4/I4*100), \" \")","v":" "},{"$f":"IF(J4<>0, IF(N4/J4*100=0, \"-\", N4/J4*100), \" \")","v":93.461614864127696}]
[]
[null,null,null,"PC implemented","Medicine","Date","Population targeted for T3",null,null,null,"Population treated",null,null,null,"Programme coverage (%)"]
["Country","Province/State","District",null,null,null,"PreSAC","SAC","Adults","Total","PreSAC","SAC","Adults","Total","PreSAC","SAC","Adults","Total"]
[]
[{"$f":"IF(COUNTRY_INFO!A9=0,\" \",COUNTRY_INFO!A9)","v":"Tanzania"},{"$f":"IF(COUNTRY_INFO!B9=0,\" \",COUNTRY_INFO!B9)","v":"Arusha"},{"$f":"IF(COUNTRY_INFO!C9=0,\" \",COUNTRY_INFO!C9)","v":"Arusha City Council"},{"$f":"IF(OR(COUNTRY_INFO!$T$9:$T$1000=\"T3 (ALB/MBD)\",COUNTRY_INFO!$U$9:$U$1000=\"T3 (ALB/MBD)\"), \"T3 (ALB/MBD)\", \" \")","v":"T3 (ALB/MBD)"},"ALB","April - 2018",null,102461,null,{"$f":"SUM(G9:I9)","v":102461},null,101009,null,{"$f":"SUM(K9:M9)","v":101009},{"$f":"IF(G9<>0, IF(K9/G9*100=0, \"-\", K9/G9*100), \" \")","v":" "},98.582875435531577," ",98.582875435531577]
[{"$f":"IF(COUNTRY_INFO!A10=0,\" \",COUNTRY_INFO!A10)","v":"Tanzania"},{"$f":"IF(COUNTRY_INFO!B10=0,\" \",COUNTRY_INFO!B10)","v":"Arusha"},{"$f":"IF(COUNTRY_INFO!C10=0,\" \",COUNTRY_INFO!C10)","v":"Arusha District Council"},{"$f":"IF(OR(COUNTRY_INFO!$T$9:$T$1000=\"T3 (ALB/MBD)\",COUNTRY_INFO!$U$9:$U$1000=\"T3 (ALB/MBD)\"), \"T3 (ALB/MBD)\", \" \")","v":"T3 (ALB/MBD)"},"ALB","April - 2018",null,72732,null,{"$f":"SUM(G10:I10)","v":72732},null,71373,null,{"$f":"SUM(K10:M10)","v":71373},{"$f":"IF(G10<>0, IF(K10/G10*100=0, \"-\", K10/G10*100), \" \")","v":" "},{"$f":"IF(H10<>0, IF(L10/H10*100=0, \"-\", L10/H10*100), \" \")","v":98.131496452730573},{"$f":"IF(I10<>0, IF(M10/I10*100=0, \"-\", M10/I10*100), \" \")","v":" "},{"$f":"IF(J10<>0, IF(N10/J10*100=0, \"-\", N10/J10*100), \" \")","v":98.131496452730573}]
[{"$f":"IF(COUNTRY_INFO!A11=0,\" \",COUNTRY_INFO!A11)","v":"Tanzania"},{"$f":"IF(COUNTRY_INFO!B11=0,\" \",COUNTRY_INFO!B11)","v":"Arusha"},{"$f":"IF(COUNTRY_INFO!C11=0,\" \",COUNTRY_INFO!C11)","v":"Karatu District Council"},{"$f":"IF(OR(COUNTRY_INFO!$T$9:$T$1000=\"T3 (ALB/MBD)\",COUNTRY_INFO!$U$9:$U$1000=\"T3 (ALB/MBD)\"), \"T3 (ALB/MBD)\", \" \")","v":"T3 (ALB/MBD)"},"ALB","April - 2018",null,56712,null,56712,null,54469,null,54469," ",96.044928762872047," ",96.044928762872047]
[{"$f":"IF(COUNTRY_INFO!A12=0,\" \",COUNTRY_INFO!A12)","v":"Tanzania"},{"$f":"IF(COUNTRY_INFO!B12=0,\" \",COUNTRY_INFO!B12)","v":"Arusha"},{"$f":"IF(COUNTRY_INFO!C12=0,\" \",COUNTRY_INFO!C12)","v":"Longido District Council"},{"$f":"IF(OR(COUNTRY_INFO!$T$9:$T$1000=\"T3 (ALB/MBD)\",COUNTRY_INFO!$U$9:$U$1000=\"T3 (ALB/MBD)\"), \"T3 (ALB/MBD)\", \" \")","v":"T3 (ALB/MBD)"},"ALB","April - 2018",null,30561,null,30561,null,28622,null,28622," ",93.655312326167333," ",93.655312326167333]
[{"$f":"IF(COUNTRY_INFO!A13=0,\" \",COUNTRY_INFO!A13)","v":"Tanzania"},{"$f":"IF(COUNTRY_INFO!B13=0,\" \",COUNTRY_INFO!B13)","v":"Arusha"},{"$f":"IF(COUNTRY_INFO!C13=0,\" \",COUNTRY_INFO!C13)","v":"Meru District Council"},{"$f":"IF(OR(COUNTRY_INFO!$T$9:$T$1000=\"T3 (ALB/MBD)\",COUNTRY_INFO!$U$9:$U$1000=\"T3 (ALB/MBD)\"), \"T3 (ALB/MBD)\", \" \")","v":"T3 (ALB/MBD)"},"ALB","April - 2018",null,64102,null,64102,null,63465,null,63465," ",99.006271255187045," ",99.006271255187045]
[{"$f":"IF(COUNTRY_INFO!A14=0,\" \",COUNTRY_INFO!A14)","v":"Tanzania"},{"$f":"IF(COUNTRY_INFO!B14=0,\" \",COUNTRY_INFO!B14)","v":"Arusha"},{"$f":"IF(COUNTRY_INFO!C14=0,\" \",COUNTRY_INFO!C14)","v":"Monduli District Council"},{"$f":"IF(OR(COUNTRY_INFO!$T$9:$T$1000=\"T3 (ALB/MBD)\",COUNTRY_INFO!$U$9:$U$1000=\"T3 (ALB/MBD)\"), \"T3 (ALB/MBD)\", \" \")","v":"T3 (ALB/MBD)"},"ALB","April - 2018",null,38063,null,38063,null,34842,null,34842," ",91.537713790295044," ",91.537713790295044]
[{"$f":"IF(COUNTRY_INFO!A15=0,\" \",COUNTRY_INFO!A15)","v":"Tanzania"},{"$f":"IF(COUNTRY_INFO!B15=0,\" \",COUNTRY_INFO!B15)","v":"Arusha"},{"$f":"IF(COUNTRY_INFO!C15=0,\" \",COUNTRY_INFO!C15)","v":"Ngorongoro District Council"},{"$f":"IF(OR(COUNTRY_INFO!$T$9:$T$1000=\"T3 (ALB/MBD)\",COUNTRY_INFO!$U$9:$U$1000=\"T3 (ALB/MBD)\"), \"T3 (ALB/MBD)\", \" \")","v":"T3 (ALB/MBD)"},"ALB","April - 2018",null,42851,null,42851,null,35611,null,35611," ",83.104244941774979," ",83.104244941774979]
[{"$f":"IF(COUNTRY_INFO!A16=0,\" \",COUNTRY_INFO!A16)","v":"Tanzania"},{"$f":"IF(COUNTRY_INFO!B16=0,\" \",COUNTRY_INFO!B16)","v":"Dar Es Salaam"},{"$f":"IF(COUNTRY_INFO!C16=0,\" \",COUNTRY_INFO!C16)","v":"Dar es Salaam City Council "},{"$f":"IF(OR(COUNTRY_INFO!$T$9:$T$1000=\"T3 (ALB/MBD)\",COUNTRY_INFO!$U$9:$U$1000=\"T3 (ALB/MBD)\"), \"T3 (ALB/MBD)\", \" \")","v":" "},null,null,null,null,null,0,null,null,null,0," "," "," "," "]
[{"$f":"IF(COUNTRY_INFO!A17=0,\" \",COUNTRY_INFO!A17)","v":"Tanzania"},{"$f":"IF(COUNTRY_INFO!B17=0,\" \",COUNTRY_INFO!B17)","v":"Dar Es Salaam"},{"$f":"IF(COUNTRY_INFO!C17=0,\" \",COUNTRY_INFO!C17)","v":"Ilala Municipal Council"},{"$f":"IF(OR(COUNTRY_INFO!$T$9:$T$1000=\"T3 (ALB/MBD)\",COUNTRY_INFO!$U$9:$U$1000=\"T3 (ALB/MBD)\"), \"T3 (ALB/MBD)\", \" \")","v":" "},null,null,null,null,null,0,null,null,null,0," "," "," "," "]
[{"$f":"IF(COUNTRY_INFO!A18=0,\" \",COUNTRY_INFO!A18)","v":"Tanzania"},{"$f":"IF(COUNTRY_INFO!B18=0,\" \",COUNTRY_INFO!B18)","v":"Dar Es Salaam"},{"$f":"IF(COUNTRY_INFO!C18=0,\" \",COUNTRY_INFO!C18)","v":"Kigamboni Municipal Council"},{"$f":"IF(OR(COUNTRY_INFO!$T$9:$T$1000=\"T3 (ALB/MBD)\",COUNTRY_INFO!$U$9:$U$1000=\"T3 (ALB/MBD)\"), \"T3 (ALB/MBD)\", \" \")","v":" "},null,null,null,null,null,0,null,null,null,0," "," "," "," "]
[{"$f":"IF(COUNTRY_INFO!A19=0,\" \",COUNTRY_INFO!A19)","v":"Tanzania"},{"$f":"IF(COUNTRY_INFO!B19=0,\" \",COUNTRY_INFO!B19)","v":"Dar Es Salaam"},{"$f":"IF(COUNTRY_INFO!C19=0,\" \",COUNTRY_INFO!C19)","v":"Kinondoni Municipal Council"},{"$f":"IF(OR(COUNTRY_INFO!$T$9:$T$1000=\"T3 (ALB/MBD)\",COUNTRY_INFO!$U$9:$U$1000=\"T3 (ALB/MBD)\"), \"T3 (ALB/MBD)\", \" \")","v":" "},null,null,null,null,null,0,null,null,null,0," "," "," "," "]
[{"$f":"IF(COUNTRY_INFO!A20=0,\" \",COUNTRY_INFO!A20)","v":"Tanzania"},{"$f":"IF(COUNTRY_INFO!B20=0,\" \",COUNTRY_INFO!B20)","v":"Dar Es Salaam"},{"$f":"IF(COUNTRY_INFO!C20=0,\" \",COUNTRY_INFO!C20)","v":"Temeke Municipal Council"},{"$f":"IF(OR(COUNTRY_INFO!$T$9:$T$1000=\"T3 (ALB/MBD)\",COUNTRY_INFO!$U$9:$U$1000=\"T3 (ALB/MBD)\"), \"T3 (ALB/MBD)\", \" \")","v":" "},null,null,null,null,null,0,null,null,null,0," "," "," "," "]
[{"$f":"IF(COUNTRY_INFO!A21=0,\" \",COUNTRY_INFO!A21)","v":"Tanzania"},{"$f":"IF(COUNTRY_INFO!B21=0,\" \",COUNTRY_INFO!B21)","v":"Dar Es Salaam"},{"$f":"IF(COUNTRY_INFO!C21=0,\" \",COUNTRY_INFO!C21)","v":"Ubungo Municipal Council"},{"$f":"IF(OR(COUNTRY_INFO!$T$9:$T$1000=\"T3 (ALB/MBD)\",COUNTRY_INFO!$U$9:$U$1000=\"T3 (ALB/MBD)\"), \"T3 (ALB/MBD)\", \" \")","v":" "},null,null,null,null,null,0,null,null,null,0," "," "," "," "]
[{"$f":"IF(COUNTRY_INFO!A22=0,\" \",COUNTRY_INFO!A22)","v":"Tanzania"},{"$f":"IF(COUNTRY_INFO!B22=0,\" \",COUNTRY_INFO!B22)","v":"Dodoma"},{"$f":"IF(COUNTRY_INFO!C22=0,\" \",COUNTRY_INFO!C22)","v":"Bahi District Council"},{"$f":"IF(OR(COUNTRY_INFO!$T$9:$T$1000=\"T3 (ALB/MBD)\",COUNTRY_INFO!$U$9:$U$1000=\"T3 (ALB/MBD)\"), \"T3 (ALB/MBD)\", \" \")","v":"T3 (ALB/MBD)"},"ALB","April - 2018",null,51182,null,51182,null,39449,null,39449," ",77.075925129928493," ",77.075925129928493]
[{"$f":"IF(COUNTRY_INFO!A23=0,\" \",COUNTRY_INFO!A23)","v":"Tanzania"},{"$f":"IF(COUNTRY_INFO!B23=0,\" \",COUNTRY_INFO!B23)","v":"Dodoma"},{"$f":"IF(COUNTRY_INFO!C23=0,\" \",COUNTRY_INFO!C23)","v":"Chamwino District Council"},{"$f":"IF(OR(COUNTRY_INFO!$T$9:$T$1000=\"T3 (ALB/MBD)\",COUNTRY_INFO!$U$9:$U$1000=\"T3 (ALB/MBD)\"), \"T3 (ALB/MBD)\", \" \")","v":"T3 (ALB/MBD)"},"ALB","April - 2018",null,79517,null,79517,null,75468,null,75468," ",94.908007092822928," ",94.908007092822928]
[{"$f":"IF(COUNTRY_INFO!A24=0,\" \",COUNTRY_INFO!A24)","v":"Tanzania"},{"$f":"IF(COUNTRY_INFO!B24=0,\" \",COUNTRY_INFO!B24)","v":"Dodoma"},{"$f":"IF(COUNTRY_INFO!C24=0,\" \",COUNTRY_INFO!C24)","v":"Chemba District Council"},{"$f":"IF(OR(COUNTRY_INFO!$T$9:$T$1000=\"T3 (ALB/MBD)\",COUNTRY_INFO!$U$9:$U$1000=\"T3 (ALB/MBD)\"), \"T3 (ALB/MBD)\", \" \")","v":"T3 (ALB/MBD)"},"ALB","March - 2018",null,56863,null,56863,null,54560,null,54560," ",95.949914707278893," ",95.949914707278893]
[{"$f":"IF(COUNTRY_INFO!A25=0,\" \",COUNTRY_INFO!A25)","v":"Tanzania"},{"$f":"IF(COUNTRY_INFO!B25=0,\" \",COUNTRY_INFO!B25)","v":"Dodoma"},{"$f":"IF(COUNTRY_INFO!C25=0,\" \",COUNTRY_INFO!C25)","v":"Dodoma Municipal Council"},{"$f":"IF(OR(COUNTRY_INFO!$T$9:$T$1000=\"T3 (ALB/MBD)\",COUNTRY_INFO!$U$9:$U$1000=\"T3 (ALB/MBD)\"), \"T3 (ALB/MBD)\", \" \")","v":"T3 (ALB/MBD)"},"ALB","April - 2018",null,102420,null,102420,null,90545,null,90545," ",88.40558484670963," ",88.40558484670963]
[{"$f":"IF(COUNTRY_INFO!A26=0,\" \",COUNTRY_INFO!A26)","v":"Tanzania"},{"$f":"IF(COUNTRY_INFO!B26=0,\" \",COUNTRY_INFO!B26)","v":"Dodoma"},{"$f":"IF(COUNTRY_INFO!C26=0,\" \",COUNTRY_INFO!C26)","v":"Kondoa District Council"},{"$f":"IF(OR(COUNTRY_INFO!$T$9:$T$1000=\"T3 (ALB/MBD)\",COUNTRY_INFO!$U$9:$U$1000=\"T3 (ALB/MBD)\"), \"T3 (ALB/MBD)\", \" \")","v":"T3 (ALB/MBD)"},"ALB","April - 2018",null,52375,null,52375,null,46738,null,46738," ",89.237231503579949," ",89.237231503579949]
[{"$f":"IF(COUNTRY_INFO!A27=0,\" \",COUNTRY_INFO!A27)","v":"Tanzania"},{"$f":"IF(COUNTRY_INFO!B27=0,\" \",COUNTRY_INFO!B27)","v":"Dodoma"},{"$f":"IF(COUNTRY_INFO!C27=0,\" \",COUNTRY_INFO!C27)","v":"Kondoa Town Council "},{"$f":"IF(OR(COUNTRY_INFO!$T$9:$T$1000=\"T3 (ALB/MBD)\",COUNTRY_INFO!$U$9:$U$1000=\"T3 (ALB/MBD)\"), \"T3 (ALB/MBD)\", \" \")","v":"T3 (ALB/MBD)"},"ALB","April - 2018",null,16143,null,16143,null,15864,null,15864," ",98.271696710648584," ",98.271696710648584]
[{"$f":"IF(COUNTRY_INFO!A28=0,\" \",COUNTRY_INFO!A28)","v":"Tanzania"},{"$f":"IF(COUNTRY_INFO!B28=0,\" \",COUNTRY_INFO!B28)","v":"Dodoma"},{"$f":"IF(COUNTRY_INFO!C28=0,\" \",COUNTRY_INFO!C28)","v":"Kongwa District Council"},{"$f":"IF(OR(COUNTRY_INFO!$T$9:$T$1000=\"T3 (ALB/MBD)\",COUNTRY_INFO!$U$9:$U$1000=\"T3 (ALB/MBD)\"), \"T3 (ALB/MBD)\", \" \")","v":"T3 (ALB/MBD)"},"ALB","April - 2018",null,75402,null,75402,null,73736,null,73736," ",97.790509535556083," ",97.790509535556083]
[{"$f":"IF(COUNTRY_INFO!A29=0,\" \",COUNTRY_INFO!A29)","v":"Tanzania"},{"$f":"IF(COUNTRY_INFO!B29=0,\" \",COUNTRY_INFO!B29)","v":"Dodoma"},{"$f":"IF(COUNTRY_INFO!C29=0,\" \",COUNTRY_INFO!C29)","v":"Mpwapwa District Council"},{"$f":"IF(OR(COUNTRY_INFO!$T$9:$T$1000=\"T3 (ALB/MBD)\",COUNTRY_INFO!$U$9:$U$1000=\"T3 (ALB/MBD)\"), \"T3 (ALB/MBD)\", \" \")","v":"T3 (ALB/MBD)"},"ALB","April - 2018",null,76015,null,76015,null,75967,null,75967," ",99.936854568177338," ",99.936854568177338]
[{"$f":"IF(COUNTRY_INFO!A30=0,\" \",COUNTRY_INFO!A30)","v":"Tanzania"},{"$f":"IF(COUNTRY_INFO!B30=0,\" \",COUNTRY_INFO!B30)","v":"Geita"},{"$f":"IF(COUNTRY_INFO!C30=0,\" \",COUNTRY_INFO!C30)","v":"Bukombe District Council"},{"$f":"IF(OR(COUNTRY_INFO!$T$9:$T$1000=\"T3 (ALB/MBD)\",COUNTRY_INFO!$U$9:$U$1000=\"T3 (ALB/MBD)\"), \"T3 (ALB/MBD)\", \" \")","v":"T3 (ALB/MBD)"},"ALB","April - 2018",null,84103,null,84103,null,83172,null,83172," ",98.893024030058385," ",98.893024030058385]
[{"$f":"IF(COUNTRY_INFO!A31=0,\" \",COUNTRY_INFO!A31)","v":"Tanzania"},{"$f":"IF(COUNTRY_INFO!B31=0,\" \",COUNTRY_INFO!B31)","v":"Geita"},{"$f":"IF(COUNTRY_INFO!C31=0,\" \",COUNTRY_INFO!C31)","v":"Chato District Council"},{"$f":"IF(OR(COUNTRY_INFO!$T$9:$T$1000=\"T3 (ALB/MBD)\",COUNTRY_INFO!$U$9:$U$1000=\"T3 (ALB/MBD)\"), \"T3 (ALB/MBD)\", \" \")","v":"T3 (ALB/MBD)"},"ALB","April - 2018",null,128458,null,128458,null,125631,null,125631," ",97.799280698749797," ",97.799280698749797]
[{"$f":"IF(COUNTRY_INFO!A32=0,\" \",COUNTRY_INFO!A32)","v":"Tanzania"},{"$f":"IF(COUNTRY_INFO!B32=0,\" \",COUNTRY_INFO!B32)","v":"Geita"},{"$f":"IF(COUNTRY_INFO!C32=0,\" \",COUNTRY_INFO!C32)","v":"Geita District Council"},{"$f":"IF(OR(COUNTRY_INFO!$T$9:$T$1000=\"T3 (ALB/MBD)\",COUNTRY_INFO!$U$9:$U$1000=\"T3 (ALB/MBD)\"), \"T3 (ALB/MBD)\", \" \")","v":"T3 (ALB/MBD)"},"ALB","April - 2018",null,220279,null,220279,null,214190,null,214190," ",97.23577826302099," ",97.23577826302099]
[{"$f":"IF(COUNTRY_INFO!A33=0,\" \",COUNTRY_INFO!A33)","v":"Tanzania"},{"$f":"IF(COUNTRY_INFO!B33=0,\" \",COUNTRY_INFO!B33)","v":"Geita"},{"$f":"IF(COUNTRY_INFO!C33=0,\" \",COUNTRY_INFO!C33)","v":"Geita Town Council"},{"$f":"IF(OR(COUNTRY_INFO!$T$9:$T$1000=\"T3 (ALB/MBD)\",COUNTRY_INFO!$U$9:$U$1000=\"T3 (ALB/MBD)\"), \"T3 (ALB/MBD)\", \" \")","v":"T3 (ALB/MBD)"},"ALB","April - 2018",null,69394,null,69394,null,65091,null,65091," ",93.799175721243913," ",93.799175721243913]
[{"$f":"IF(COUNTRY_INFO!A34=0,\" \",COUNTRY_INFO!A34)","v":"Tanzania"},{"$f":"IF(COUNTRY_INFO!B34=0,\" \",COUNTRY_INFO!B34)","v":"Geita"},{"$f":"IF(COUNTRY_INFO!C34=0,\" \",COUNTRY_INFO!C34)","v":"Mbogwe District Council"},{"$f":"IF(OR(COUNTRY_INFO!$T$9:$T$1000=\"T3 (ALB/MBD)\",COUNTRY_INFO!$U$9:$U$1000=\"T3 (ALB/MBD)\"), \"T3 (ALB/MBD)\", \" \")","v":"T3 (ALB/MBD)"},"ALB","April - 2018",null,75611,null,75611,null,68027,null,68027," ",89.969713401489201," ",89.969713401489201]
[{"$f":"IF(COUNTRY_INFO!A35=0,\" \",COUNTRY_INFO!A35)","v":"Tanzania"},{"$f":"IF(COUNTRY_INFO!B35=0,\" \",COUNTRY_INFO!B35)","v":"Geita"},{"$f":"IF(COUNTRY_INFO!C35=0,\" \",COUNTRY_INFO!C35)","v":"Nyang'hwale District Council"},{"$f":"IF(OR(COUNTRY_INFO!$T$9:$T$1000=\"T3 (ALB/MBD)\",COUNTRY_INFO!$U$9:$U$1000=\"T3 (ALB/MBD)\"), \"T3 (ALB/MBD)\", \" \")","v":"T3 (ALB/MBD)"},"ALB","April - 2018",null,50501,null,50501,null,47813,null,47813," ",94.677333122116394," ",94.677333122116394]
[{"$f":"IF(COUNTRY_INFO!A36=0,\" \",COUNTRY_INFO!A36)","v":"Tanzania"},{"$f":"IF(COUNTRY_INFO!B36=0,\" \",COUNTRY_INFO!B36)","v":"Iringa"},{"$f":"IF(COUNTRY_INFO!C36=0,\" \",COUNTRY_INFO!C36)","v":"Iringa District Council"},{"$f":"IF(OR(COUNTRY_INFO!$T$9:$T$1000=\"T3 (ALB/MBD)\",COUNTRY_INFO!$U$9:$U$1000=\"T3 (ALB/MBD)\"), \"T3 (ALB/MBD)\", \" \")","v":" "},null,null,null,null,null,0,null,null,null,0," "," "," "," "]
[{"$f":"IF(COUNTRY_INFO!A37=0,\" \",COUNTRY_INFO!A37)","v":"Tanzania"},{"$f":"IF(COUNTRY_INFO!B37=0,\" \",COUNTRY_INFO!B37)","v":"Iringa"},{"$f":"IF(COUNTRY_INFO!C37=0,\" \",COUNTRY_INFO!C37)","v":"Iringa Municipal Council"},{"$f":"IF(OR(COUNTRY_INFO!$T$9:$T$1000=\"T3 (ALB/MBD)\",COUNTRY_INFO!$U$9:$U$1000=\"T3 (ALB/MBD)\"), \"T3 (ALB/MBD)\", \" \")","v":" "},null,null,null,null,null,0,null,null,null,0," "," "," "," "]
[{"$f":"IF(COUNTRY_INFO!A38=0,\" \",COUNTRY_INFO!A38)","v":"Tanzania"},{"$f":"IF(COUNTRY_INFO!B38=0,\" \",COUNTRY_INFO!B38)","v":"Iringa"},{"$f":"IF(COUNTRY_INFO!C38=0,\" \",COUNTRY_INFO!C38)","v":"Kilolo District Council"},{"$f":"IF(OR(COUNTRY_INFO!$T$9:$T$1000=\"T3 (ALB/MBD)\",COUNTRY_INFO!$U$9:$U$1000=\"T3 (ALB/MBD)\"), \"T3 (ALB/MBD)\", \" \")","v":" "},null,null,null,null,null,0,null,null,null,0," "," "," "," "]
[{"$f":"IF(COUNTRY_INFO!A39=0,\" \",COUNTRY_INFO!A39)","v":"Tanzania"},{"$f":"IF(COUNTRY_INFO!B39=0,\" \",COUNTRY_INFO!B39)","v":"Iringa"},{"$f":"IF(COUNTRY_INFO!C39=0,\" \",COUNTRY_INFO!C39)","v":"Mafinga Town Council"},{"$f":"IF(OR(COUNTRY_INFO!$T$9:$T$1000=\"T3 (ALB/MBD)\",COUNTRY_INFO!$U$9:$U$1000=\"T3 (ALB/MBD)\"), \"T3 (ALB/MBD)\", \" \")","v":" "},null,null,null,null,null,0,null,null,null,0," "," "," "," "]
[{"$f":"IF(COUNTRY_INFO!A40=0,\" \",COUNTRY_INFO!A40)","v":"Tanzania"},{"$f":"IF(COUNTRY_INFO!B40=0,\" \",COUNTRY_INFO!B40)","v":"Iringa"},{"$f":"IF(COUNTRY_INFO!C40=0,\" \",COUNTRY_INFO!C40)","v":"Mufindi District Council"},{"$f":"IF(OR(COUNTRY_INFO!$T$9:$T$1000=\"T3 (ALB/MBD)\",COUNTRY_INFO!$U$9:$U$1000=\"T3 (ALB/MBD)\"), \"T3 (ALB/MBD)\", \" \")","v":" "},null,null,null,null,null,0,null,null,null,0," "," "," "," "]
[{"$f":"IF(COUNTRY_INFO!A41=0,\" \",COUNTRY_INFO!A41)","v":"Tanzania"},{"$f":"IF(COUNTRY_INFO!B41=0,\" \",COUNTRY_INFO!B41)","v":"Kagera"},{"$f":"IF(COUNTRY_INFO!C41=0,\" \",COUNTRY_INFO!C41)","v":"Biharamulo District Council"},{"$f":"IF(OR(COUNTRY_INFO!$T$9:$T$1000=\"T3 (ALB/MBD)\",COUNTRY_INFO!$U$9:$U$1000=\"T3 (ALB/MBD)\"), \"T3 (ALB/MBD)\", \" \")","v":" "},null,null,null,null,null,0,null,null,null,0," "," "," "," "]
[{"$f":"IF(COUNTRY_INFO!A42=0,\" \",COUNTRY_INFO!A42)","v":"Tanzania"},{"$f":"IF(COUNTRY_INFO!B42=0,\" \",COUNTRY_INFO!B42)","v":"Kagera"},{"$f":"IF(COUNTRY_INFO!C42=0,\" \",COUNTRY_INFO!C42)","v":"Bukoba District Council"},{"$f":"IF(OR(COUNTRY_INFO!$T$9:$T$1000=\"T3 (ALB/MBD)\",COUNTRY_INFO!$U$9:$U$1000=\"T3 (ALB/MBD)\"), \"T3 (ALB/MBD)\", \" \")","v":" "},null,null,null,null,null,0,null,null,null,0," "," "," "," "]
[{"$f":"IF(COUNTRY_INFO!A43=0,\" \",COUNTRY_INFO!A43)","v":"Tanzania"},{"$f":"IF(COUNTRY_INFO!B43=0,\" \",COUNTRY_INFO!B43)","v":"Kagera"},{"$f":"IF(COUNTRY_INFO!C43=0,\" \",COUNTRY_INFO!C43)","v":"Bukoba Municipal Council"},{"$f":"IF(OR(COUNTRY_INFO!$T$9:$T$1000=\"T3 (ALB/MBD)\",COUNTRY_INFO!$U$9:$U$1000=\"T3 (ALB/MBD)\"), \"T3 (ALB/MBD)\", \" \")","v":" "},null,null,null,null,null,0,null,null,null,0," "," "," "," "]
[{"$f":"IF(COUNTRY_INFO!A44=0,\" \",COUNTRY_INFO!A44)","v":"Tanzania"},{"$f":"IF(COUNTRY_INFO!B44=0,\" \",COUNTRY_INFO!B44)","v":"Kagera"},{"$f":"IF(COUNTRY_INFO!C44=0,\" \",COUNTRY_INFO!C44)","v":"Karagwe District Council"},{"$f":"IF(OR(COUNTRY_INFO!$T$9:$T$1000=\"T3 (ALB/MBD)\",COUNTRY_INFO!$U$9:$U$1000=\"T3 (ALB/MBD)\"), \"T3 (ALB/MBD)\", \" \")","v":" "},null,null,null,null,null,0,null,null,null,0," "," "," "," "]
[{"$f":"IF(COUNTRY_INFO!A45=0,\" \",COUNTRY_INFO!A45)","v":"Tanzania"},{"$f":"IF(COUNTRY_INFO!B45=0,\" \",COUNTRY_INFO!B45)","v":"Kagera"},{"$f":"IF(COUNTRY_INFO!C45=0,\" \",COUNTRY_INFO!C45)","v":"Kyerwa District Council"},{"$f":"IF(OR(COUNTRY_INFO!$T$9:$T$1000=\"T3 (ALB/MBD)\",COUNTRY_INFO!$U$9:$U$1000=\"T3 (ALB/MBD)\"), \"T3 (ALB/MBD)\", \" \")","v":" "},null,null,null,null,null,0,null,null,null,0," "," "," "," "]
[{"$f":"IF(COUNTRY_INFO!A46=0,\" \",COUNTRY_INFO!A46)","v":"Tanzania"},{"$f":"IF(COUNTRY_INFO!B46=0,\" \",COUNTRY_INFO!B46)","v":"Kagera"},{"$f":"IF(COUNTRY_INFO!C46=0,\" \",COUNTRY_INFO!C46)","v":"Missenyi District Council"},{"$f":"IF(OR(COUNTRY_INFO!$T$9:$T$1000=\"T3 (ALB/MBD)\",COUNTRY_INFO!$U$9:$U$1000=\"T3 (ALB/MBD)\"), \"T3 (ALB/MBD)\", \" \")","v":" "},null,null,null,null,null,0,null,null,null,0," "," "," "," "]
[{"$f":"IF(COUNTRY_INFO!A47=0,\" \",COUNTRY_INFO!A47)","v":"Tanzania"},{"$f":"IF(COUNTRY_INFO!B47=0,\" \",COUNTRY_INFO!B47)","v":"Kagera"},{"$f":"IF(COUNTRY_INFO!C47=0,\" \",COUNTRY_INFO!C47)","v":"Muleba District Council"},{"$f":"IF(OR(COUNTRY_INFO!$T$9:$T$1000=\"T3 (ALB/MBD)\",COUNTRY_INFO!$U$9:$U$1000=\"T3 (ALB/MBD)\"), \"T3 (ALB/MBD)\", \" \")","v":" "},null,null,null,null,null,0,null,null,null,0," "," "," "," "]
[{"$f":"IF(COUNTRY_INFO!A48=0,\" \",COUNTRY_INFO!A48)","v":"Tanzania"},{"$f":"IF(COUNTRY_INFO!B48=0,\" \",COUNTRY_INFO!B48)","v":"Kagera"},{"$f":"IF(COUNTRY_INFO!C48=0,\" \",COUNTRY_INFO!C48)","v":"Ngara District Council"},{"$f":"IF(OR(COUNTRY_INFO!$T$9:$T$1000=\"T3 (ALB/MBD)\",COUNTRY_INFO!$U$9:$U$1000=\"T3 (ALB/MBD)\"), \"T3 (ALB/MBD)\", \" \")","v":" "},null,null,null,null,null,0,null,null,null,0," "," "," "," "]
[{"$f":"IF(COUNTRY_INFO!A49=0,\" \",COUNTRY_INFO!A49)","v":"Tanzania"},{"$f":"IF(COUNTRY_INFO!B49=0,\" \",COUNTRY_INFO!B49)","v":"Katavi"},{"$f":"IF(COUNTRY_INFO!C49=0,\" \",COUNTRY_INFO!C49)","v":"Mlele District Council"},{"$f":"IF(OR(COUNTRY_INFO!$T$9:$T$1000=\"T3 (ALB/MBD)\",COUNTRY_INFO!$U$9:$U$1000=\"T3 (ALB/MBD)\"), \"T3 (ALB/MBD)\", \" \")","v":"T3 (ALB/MBD)"},"ALB","March - 2018",null,13037,null,13037,null,12063,null,12063," ",92.528956048170599," ",92.528956048170599]
[{"$f":"IF(COUNTRY_INFO!A50=0,\" \",COUNTRY_INFO!A50)","v":"Tanzania"},{"$f":"IF(COUNTRY_INFO!B50=0,\" \",COUNTRY_INFO!B50)","v":"Katavi"},{"$f":"IF(COUNTRY_INFO!C50=0,\" \",COUNTRY_INFO!C50)","v":"Mpanda District Council"},{"$f":"IF(OR(COUNTRY_INFO!$T$9:$T$1000=\"T3 (ALB/MBD)\",COUNTRY_INFO!$U$9:$U$1000=\"T3 (ALB/MBD)\"), \"T3 (ALB/MBD)\", \" \")","v":"T3 (ALB/MBD)"},"ALB","May - 2018",null,69583,null,69583,null,65032,null,65032," ",93.459609387350355," ",93.459609387350355]
[{"$f":"IF(COUNTRY_INFO!A51=0,\" \",COUNTRY_INFO!A51)","v":"Tanzania"},{"$f":"IF(COUNTRY_INFO!B51=0,\" \",COUNTRY_INFO!B51)","v":"Katavi"},{"$f":"IF(COUNTRY_INFO!C51=0,\" \",COUNTRY_INFO!C51)","v":"Mpanda Municipal Council"},{"$f":"IF(OR(COUNTRY_INFO!$T$9:$T$1000=\"T3 (ALB/MBD)\",COUNTRY_INFO!$U$9:$U$1000=\"T3 (ALB/MBD)\"), \"T3 (ALB/MBD)\", \" \")","v":"T3 (ALB/MBD)"},"ALB","March - 2018",null,49471,null,49471,null,40248,null,40248," ",81.356754462210176," ",81.356754462210176]
[{"$f":"IF(COUNTRY_INFO!A52=0,\" \",COUNTRY_INFO!A52)","v":"Tanzania"},{"$f":"IF(COUNTRY_INFO!B52=0,\" \",COUNTRY_INFO!B52)","v":"Katavi"},{"$f":"IF(COUNTRY_INFO!C52=0,\" \",COUNTRY_INFO!C52)","v":"Mpimbwe District Council"},{"$f":"IF(OR(COUNTRY_INFO!$T$9:$T$1000=\"T3 (ALB/MBD)\",COUNTRY_INFO!$U$9:$U$1000=\"T3 (ALB/MBD)\"), \"T3 (ALB/MBD)\", \" \")","v":"T3 (ALB/MBD)"},"ALB","April - 2018",null,25705,null,25705,null,24996,null,24996," ",97.241781754522478," ",97.241781754522478]
[{"$f":"IF(COUNTRY_INFO!A53=0,\" \",COUNTRY_INFO!A53)","v":"Tanzania"},{"$f":"IF(COUNTRY_INFO!B53=0,\" \",COUNTRY_INFO!B53)","v":"Katavi"},{"$f":"IF(COUNTRY_INFO!C53=0,\" \",COUNTRY_INFO!C53)","v":"Nsimbo District Council"},{"$f":"IF(OR(COUNTRY_INFO!$T$9:$T$1000=\"T3 (ALB/MBD)\",COUNTRY_INFO!$U$9:$U$1000=\"T3 (ALB/MBD)\"), \"T3 (ALB/MBD)\", \" \")","v":"T3 (ALB/MBD)"},"ALB","March - 2018",null,34820,null,34820,null,33728,null,33728," ",96.863871338311313," ",96.863871338311313]
[{"$f":"IF(COUNTRY_INFO!A54=0,\" \",COUNTRY_INFO!A54)","v":"Tanzania"},{"$f":"IF(COUNTRY_INFO!B54=0,\" \",COUNTRY_INFO!B54)","v":"Kigoma"},{"$f":"IF(COUNTRY_INFO!C54=0,\" \",COUNTRY_INFO!C54)","v":"Buhigwe District Council"},{"$f":"IF(OR(COUNTRY_INFO!$T$9:$T$1000=\"T3 (ALB/MBD)\",COUNTRY_INFO!$U$9:$U$1000=\"T3 (ALB/MBD)\"), \"T3 (ALB/MBD)\", \" \")","v":" "},null,null,null,null,null,0,null,null,null,0," "," "," "," "]
[{"$f":"IF(COUNTRY_INFO!A55=0,\" \",COUNTRY_INFO!A55)","v":"Tanzania"},{"$f":"IF(COUNTRY_INFO!B55=0,\" \",COUNTRY_INFO!B55)","v":"Kigoma"},{"$f":"IF(COUNTRY_INFO!C55=0,\" \",COUNTRY_INFO!C55)","v":"Kakonko District Council"},{"$f":"IF(OR(COUNTRY_INFO!$T$9:$T$1000=\"T3 (ALB/MBD)\",COUNTRY_INFO!$U$9:$U$1000=\"T3 (ALB/MBD)\"), \"T3 (ALB/MBD)\", \" \")","v":" "},null,null,null,null,null,0,null,null,null,0," "," "," "," "]
[{"$f":"IF(COUNTRY_INFO!A56=0,\" \",COUNTRY_INFO!A56)","v":"Tanzania"},{"$f":"IF(COUNTRY_INFO!B56=0,\" \",COUNTRY_INFO!B56)","v":"Kigoma"},{"$f":"IF(COUNTRY_INFO!C56=0,\" \",COUNTRY_INFO!C56)","v":"Kasulu District Council"},{"$f":"IF(OR(COUNTRY_INFO!$T$9:$T$1000=\"T3 (ALB/MBD)\",COUNTRY_INFO!$U$9:$U$1000=\"T3 (ALB/MBD)\"), \"T3 (ALB/MBD)\", \" \")","v":" "},null,null,null,null,null,0,null,null,null,0," "," "," "," "]
[{"$f":"IF(COUNTRY_INFO!A57=0,\" \",COUNTRY_INFO!A57)","v":"Tanzania"},{"$f":"IF(COUNTRY_INFO!B57=0,\" \",COUNTRY_INFO!B57)","v":"Kigoma"},{"$f":"IF(COUNTRY_INFO!C57=0,\" \",COUNTRY_INFO!C57)","v":"Kasulu Town Council"},{"$f":"IF(OR(COUNTRY_INFO!$T$9:$T$1000=\"T3 (ALB/MBD)\",COUNTRY_INFO!$U$9:$U$1000=\"T3 (ALB/MBD)\"), \"T3 (ALB/MBD)\", \" \")","v":" "},null,null,null,null,null,0,null,null,null,0," "," "," "," "]
[{"$f":"IF(COUNTRY_INFO!A58=0,\" \",COUNTRY_INFO!A58)","v":"Tanzania"},{"$f":"IF(COUNTRY_INFO!B58=0,\" \",COUNTRY_INFO!B58)","v":"Kigoma"},{"$f":"IF(COUNTRY_INFO!C58=0,\" \",COUNTRY_INFO!C58)","v":"Kibondo District Council"},{"$f":"IF(OR(COUNTRY_INFO!$T$9:$T$1000=\"T3 (ALB/MBD)\",COUNTRY_INFO!$U$9:$U$1000=\"T3 (ALB/MBD)\"), \"T3 (ALB/MBD)\", \" \")","v":" "},null,null,null,null,null,0,null,null,null,0," "," "," "," "]
[{"$f":"IF(COUNTRY_INFO!A59=0,\" \",COUNTRY_INFO!A59)","v":"Tanzania"},{"$f":"IF(COUNTRY_INFO!B59=0,\" \",COUNTRY_INFO!B59)","v":"Kigoma"},{"$f":"IF(COUNTRY_INFO!C59=0,\" \",COUNTRY_INFO!C59)","v":"Kigoma District Council"},{"$f":"IF(OR(COUNTRY_INFO!$T$9:$T$1000=\"T3 (ALB/MBD)\",COUNTRY_INFO!$U$9:$U$1000=\"T3 (ALB/MBD)\"), \"T3 (ALB/MBD)\", \" \")","v":" "},null,null,null,null,null,0,null,null,null,0," "," "," "," "]
[{"$f":"IF(COUNTRY_INFO!A60=0,\" \",COUNTRY_INFO!A60)","v":"Tanzania"},{"$f":"IF(COUNTRY_INFO!B60=0,\" \",COUNTRY_INFO!B60)","v":"Kigoma"},{"$f":"IF(COUNTRY_INFO!C60=0,\" \",COUNTRY_INFO!C60)","v":"Kigoma-Ujiji Municipal Council"},{"$f":"IF(OR(COUNTRY_INFO!$T$9:$T$1000=\"T3 (ALB/MBD)\",COUNTRY_INFO!$U$9:$U$1000=\"T3 (ALB/MBD)\"), \"T3 (ALB/MBD)\", \" \")","v":" "},null,null,null,null,null,0,null,null,null,0," "," "," "," "]
[{"$f":"IF(COUNTRY_INFO!A61=0,\" \",COUNTRY_INFO!A61)","v":"Tanzania"},{"$f":"IF(COUNTRY_INFO!B61=0,\" \",COUNTRY_INFO!B61)","v":"Kigoma"},{"$f":"IF(COUNTRY_INFO!C61=0,\" \",COUNTRY_INFO!C61)","v":"Uvinza District Council"},{"$f":"IF(OR(COUNTRY_INFO!$T$9:$T$1000=\"T3 (ALB/MBD)\",COUNTRY_INFO!$U$9:$U$1000=\"T3 (ALB/MBD)\"), \"T3 (ALB/MBD)\", \" \")","v":" "},null,null,null,null,null,0,null,null,null,0," "," "," "," "]
[{"$f":"IF(COUNTRY_INFO!A62=0,\" \",COUNTRY_INFO!A62)","v":"Tanzania"},{"$f":"IF(COUNTRY_INFO!B62=0,\" \",COUNTRY_INFO!B62)","v":"Kilimanjaro"},{"$f":"IF(COUNTRY_INFO!C62=0,\" \",COUNTRY_INFO!C62)","v":"Hai District Council"},{"$f":"IF(OR(COUNTRY_INFO!$T$9:$T$1000=\"T3 (ALB/MBD)\",COUNTRY_INFO!$U$9:$U$1000=\"T3 (ALB/MBD)\"), \"T3 (ALB/MBD)\", \" \")","v":"T3 (ALB/MBD)"},"ALB","April - 2018",null,41506,null,41506,null,40055,null,40055," ",96.504119886281501," ",96.504119886281501]
[{"$f":"IF(COUNTRY_INFO!A63=0,\" \",COUNTRY_INFO!A63)","v":"Tanzania"},{"$f":"IF(COUNTRY_INFO!B63=0,\" \",COUNTRY_INFO!B63)","v":"Kilimanjaro"},{"$f":"IF(COUNTRY_INFO!C63=0,\" \",COUNTRY_INFO!C63)","v":"Moshi District Council"},{"$f":"IF(OR(COUNTRY_INFO!$T$9:$T$1000=\"T3 (ALB/MBD)\",COUNTRY_INFO!$U$9:$U$1000=\"T3 (ALB/MBD)\"), \"T3 (ALB/MBD)\", \" \")","v":"T3 (ALB/MBD)"},"ALB","April - 2018",null,94096,null,94096,null,82463,null,82463," ",87.637094031627271," ",87.637094031627271]
[{"$f":"IF(COUNTRY_INFO!A64=0,\" \",COUNTRY_INFO!A64)","v":"Tanzania"},{"$f":"IF(COUNTRY_INFO!B64=0,\" \",COUNTRY_INFO!B64)","v":"Kilimanjaro"},{"$f":"IF(COUNTRY_INFO!C64=0,\" \",COUNTRY_INFO!C64)","v":"Moshi Municipal Council"},{"$f":"IF(OR(COUNTRY_INFO!$T$9:$T$1000=\"T3 (ALB/MBD)\",COUNTRY_INFO!$U$9:$U$1000=\"T3 (ALB/MBD)\"), \"T3 (ALB/MBD)\", \" \")","v":"T3 (ALB/MBD)"},"ALB","April - 2018",null,31595,null,31595,null,31475,null,31475," ",99.620193068523506," ",99.620193068523506]
[{"$f":"IF(COUNTRY_INFO!A65=0,\" \",COUNTRY_INFO!A65)","v":"Tanzania"},{"$f":"IF(COUNTRY_INFO!B65=0,\" \",COUNTRY_INFO!B65)","v":"Kilimanjaro"},{"$f":"IF(COUNTRY_INFO!C65=0,\" \",COUNTRY_INFO!C65)","v":"Mwanga District Council"},{"$f":"IF(OR(COUNTRY_INFO!$T$9:$T$1000=\"T3 (ALB/MBD)\",COUNTRY_INFO!$U$9:$U$1000=\"T3 (ALB/MBD)\"), \"T3 (ALB/MBD)\", \" \")","v":"T3 (ALB/MBD)"},"ALB","April - 2018",null,28934,null,28934,null,26067,null,26067," ",90.091242137277945," ",90.091242137277945]
[{"$f":"IF(COUNTRY_INFO!A66=0,\" \",COUNTRY_INFO!A66)","v":"Tanzania"},{"$f":"IF(COUNTRY_INFO!B66=0,\" \",COUNTRY_INFO!B66)","v":"Kilimanjaro"},{"$f":"IF(COUNTRY_INFO!C66=0,\" \",COUNTRY_INFO!C66)","v":"Rombo District Council"},{"$f":"IF(OR(COUNTRY_INFO!$T$9:$T$1000=\"T3 (ALB/MBD)\",COUNTRY_INFO!$U$9:$U$1000=\"T3 (ALB/MBD)\"), \"T3 (ALB/MBD)\", \" \")","v":"T3 (ALB/MBD)"},"ALB","April - 2018",null,61531,null,61531,null,52976,null,52976," ",86.096439193252181," ",86.096439193252181]
[{"$f":"IF(COUNTRY_INFO!A67=0,\" \",COUNTRY_INFO!A67)","v":"Tanzania"},{"$f":"IF(COUNTRY_INFO!B67=0,\" \",COUNTRY_INFO!B67)","v":"Kilimanjaro"},{"$f":"IF(COUNTRY_INFO!C67=0,\" \",COUNTRY_INFO!C67)","v":"Same District Council"},{"$f":"IF(OR(COUNTRY_INFO!$T$9:$T$1000=\"T3 (ALB/MBD)\",COUNTRY_INFO!$U$9:$U$1000=\"T3 (ALB/MBD)\"), \"T3 (ALB/MBD)\", \" \")","v":"T3 (ALB/MBD)"},"ALB","April - 2018",null,61653,null,61653,null,55445,null,55445," ",89.930741407555189," ",89.930741407555189]
[{"$f":"IF(COUNTRY_INFO!A68=0,\" \",COUNTRY_INFO!A68)","v":"Tanzania"},{"$f":"IF(COUNTRY_INFO!B68=0,\" \",COUNTRY_INFO!B68)","v":"Kilimanjaro"},{"$f":"IF(COUNTRY_INFO!C68=0,\" \",COUNTRY_INFO!C68)","v":"Siha District Council"},{"$f":"IF(OR(COUNTRY_INFO!$T$9:$T$1000=\"T3 (ALB/MBD)\",COUNTRY_INFO!$U$9:$U$1000=\"T3 (ALB/MBD)\"), \"T3 (ALB/MBD)\", \" \")","v":"T3 (ALB/MBD)"},"ALB","April - 2018",null,25140,null,25140,null,22340,null,22340," ",88.862370723945901," ",88.862370723945901]
[{"$f":"IF(COUNTRY_INFO!A69=0,\" \",COUNTRY_INFO!A69)","v":"Tanzania"},{"$f":"IF(COUNTRY_INFO!B69=0,\" \",COUNTRY_INFO!B69)","v":"Lindi"},{"$f":"IF(COUNTRY_INFO!C69=0,\" \",COUNTRY_INFO!C69)","v":"Kilwa District Council"},{"$f":"IF(OR(COUNTRY_INFO!$T$9:$T$1000=\"T3 (ALB/MBD)\",COUNTRY_INFO!$U$9:$U$1000=\"T3 (ALB/MBD)\"), \"T3 (ALB/MBD)\", \" \")","v":"T3 (ALB/MBD)"},"ALB","April - 2018",null,49123,null,49123,null,46756,null,46756," ",95.181483215601645," ",95.181483215601645]
[{"$f":"IF(COUNTRY_INFO!A70=0,\" \",COUNTRY_INFO!A70)","v":"Tanzania"},{"$f":"IF(COUNTRY_INFO!B70=0,\" \",COUNTRY_INFO!B70)","v":"Lindi"},{"$f":"IF(COUNTRY_INFO!C70=0,\" \",COUNTRY_INFO!C70)","v":"Lindi District Council"},{"$f":"IF(OR(COUNTRY_INFO!$T$9:$T$1000=\"T3 (ALB/MBD)\",COUNTRY_INFO!$U$9:$U$1000=\"T3 (ALB/MBD)\"), \"T3 (ALB/MBD)\", \" \")","v":"T3 (ALB/MBD)"},"ALB","April - 2018",null,37103,null,37103,null,35642,null,35642," ",96.062313020510473," ",96.062313020510473]
[{"$f":"IF(COUNTRY_INFO!A71=0,\" \",COUNTRY_INFO!A71)","v":"Tanzania"},{"$f":"IF(COUNTRY_INFO!B71=0,\" \",COUNTRY_INFO!B71)","v":"Lindi"},{"$f":"IF(COUNTRY_INFO!C71=0,\" \",COUNTRY_INFO!C71)","v":"Lindi Municipal Council"},{"$f":"IF(OR(COUNTRY_INFO!$T$9:$T$1000=\"T3 (ALB/MBD)\",COUNTRY_INFO!$U$9:$U$1000=\"T3 (ALB/MBD)\"), \"T3 (ALB/MBD)\", \" \")","v":"T3 (ALB/MBD)"},"ALB","April - 2018",null,15190,null,15190,null,14732,null,14732," ",96.984858459512836," ",96.984858459512836]
[{"$f":"IF(COUNTRY_INFO!A72=0,\" \",COUNTRY_INFO!A72)","v":"Tanzania"},{"$f":"IF(COUNTRY_INFO!B72=0,\" \",COUNTRY_INFO!B72)","v":"Lindi"},{"$f":"IF(COUNTRY_INFO!C72=0,\" \",COUNTRY_INFO!C72)","v":"Liwale District Council"},{"$f":"IF(OR(COUNTRY_INFO!$T$9:$T$1000=\"T3 (ALB/MBD)\",COUNTRY_INFO!$U$9:$U$1000=\"T3 (ALB/MBD)\"), \"T3 (ALB/MBD)\", \" \")","v":"T3 (ALB/MBD)"},"ALB","April - 2018",null,24326,null,24326,null,21058,null,21058," ",86.565814355011099," ",86.565814355011099]
[{"$f":"IF(COUNTRY_INFO!A73=0,\" \",COUNTRY_INFO!A73)","v":"Tanzania"},{"$f":"IF(COUNTRY_INFO!B73=0,\" \",COUNTRY_INFO!B73)","v":"Lindi"},{"$f":"IF(COUNTRY_INFO!C73=0,\" \",COUNTRY_INFO!C73)","v":"Nachingwea District Council"},{"$f":"IF(OR(COUNTRY_INFO!$T$9:$T$1000=\"T3 (ALB/MBD)\",COUNTRY_INFO!$U$9:$U$1000=\"T3 (ALB/MBD)\"), \"T3 (ALB/MBD)\", \" \")","v":" "},null,null,null,null,null,0,null,null,null,0," "," "," "," "]
[{"$f":"IF(COUNTRY_INFO!A74=0,\" \",COUNTRY_INFO!A74)","v":"Tanzania"},{"$f":"IF(COUNTRY_INFO!B74=0,\" \",COUNTRY_INFO!B74)","v":"Lindi"},{"$f":"IF(COUNTRY_INFO!C74=0,\" \",COUNTRY_INFO!C74)","v":"Ruangwa District Council"},{"$f":"IF(OR(COUNTRY_INFO!$T$9:$T$1000=\"T3 (ALB/MBD)\",COUNTRY_INFO!$U$9:$U$1000=\"T3 (ALB/MBD)\"), \"T3 (ALB/MBD)\", \" \")","v":" "},null,null,null,null,null,{"$f":"SUM(G74:I74)","v":0},null,null,null,{"$f":"SUM(K74:M74)","v":0},{"$f":"IF(G74<>0, IF(K74/G74*100=0, \"-\", K74/G74*100), \" \")","v":" "},{"$f":"IF(H74<>0, IF(L74/H74*100=0, \"-\", L74/H74*100), \" \")","v":" "},{"$f":"IF(I74<>0, IF(M74/I74*100=0, \"-\", M74/I74*100), \" \")","v":" "},{"$f":"IF(J74<>0, IF(N74/J74*100=0, \"-\", N74/J74*100), \" \")","v":" "}]
[{"$f":"IF(COUNTRY_INFO!A75=0,\" \",COUNTRY_INFO!A75)","v":"Tanzania"},{"$f":"IF(COUNTRY_INFO!B75=0,\" \",COUNTRY_INFO!B75)","v":"Manyara"},{"$f":"IF(COUNTRY_INFO!C75=0,\" \",COUNTRY_INFO!C75)","v":"Babati District Council"},{"$f":"IF(OR(COUNTRY_INFO!$T$9:$T$1000=\"T3 (ALB/MBD)\",COUNTRY_INFO!$U$9:$U$1000=\"T3 (ALB/MBD)\"), \"T3 (ALB/MBD)\", \" \")","v":"T3 (ALB/MBD)"},"ALB","April - 2018",null,84407,null,84407,null,83510,null,83510," ",98.937291930764033," ",98.937291930764033]
[{"$f":"IF(COUNTRY_INFO!A76=0,\" \",COUNTRY_INFO!A76)","v":"Tanzania"},{"$f":"IF(COUNTRY_INFO!B76=0,\" \",COUNTRY_INFO!B76)","v":"Manyara"},{"$f":"IF(COUNTRY_INFO!C76=0,\" \",COUNTRY_INFO!C76)","v":"Babati Town Council"},{"$f":"IF(OR(COUNTRY_INFO!$T$9:$T$1000=\"T3 (ALB/MBD)\",COUNTRY_INFO!$U$9:$U$1000=\"T3 (ALB/MBD)\"), \"T3 (ALB/MBD)\", \" \")","v":"T3 (ALB/MBD)"},"ALB","April - 2018",null,21901,null,21901,null,20053,null,20053," ",91.562029131089901," ",91.562029131089901]
[{"$f":"IF(COUNTRY_INFO!A77=0,\" \",COUNTRY_INFO!A77)","v":"Tanzania"},{"$f":"IF(COUNTRY_INFO!B77=0,\" \",COUNTRY_INFO!B77)","v":"Manyara"},{"$f":"IF(COUNTRY_INFO!C77=0,\" \",COUNTRY_INFO!C77)","v":"Hanang District Council"},{"$f":"IF(OR(COUNTRY_INFO!$T$9:$T$1000=\"T3 (ALB/MBD)\",COUNTRY_INFO!$U$9:$U$1000=\"T3 (ALB/MBD)\"), \"T3 (ALB/MBD)\", \" \")","v":"T3 (ALB/MBD)"},"ALB","April - 2018",null,69131,null,69131,null,60433,null,60433," ",87.418090292343521," ",87.418090292343521]
[{"$f":"IF(COUNTRY_INFO!A78=0,\" \",COUNTRY_INFO!A78)","v":"Tanzania"},{"$f":"IF(COUNTRY_INFO!B78=0,\" \",COUNTRY_INFO!B78)","v":"Manyara"},{"$f":"IF(COUNTRY_INFO!C78=0,\" \",COUNTRY_INFO!C78)","v":"Kiteto District Council"},{"$f":"IF(OR(COUNTRY_INFO!$T$9:$T$1000=\"T3 (ALB/MBD)\",COUNTRY_INFO!$U$9:$U$1000=\"T3 (ALB/MBD)\"), \"T3 (ALB/MBD)\", \" \")","v":"T3 (ALB/MBD)"},"ALB","April - 2018",null,58263,null,58263,null,52185,null,52185," ",89.567993409196234," ",89.567993409196234]
[{"$f":"IF(COUNTRY_INFO!A79=0,\" \",COUNTRY_INFO!A79)","v":"Tanzania"},{"$f":"IF(COUNTRY_INFO!B79=0,\" \",COUNTRY_INFO!B79)","v":"Manyara"},{"$f":"IF(COUNTRY_INFO!C79=0,\" \",COUNTRY_INFO!C79)","v":"Mbulu District Council"},{"$f":"IF(OR(COUNTRY_INFO!$T$9:$T$1000=\"T3 (ALB/MBD)\",COUNTRY_INFO!$U$9:$U$1000=\"T3 (ALB/MBD)\"), \"T3 (ALB/MBD)\", \" \")","v":"T3 (ALB/MBD)"},"ALB","April - 2018",null,47787,null,47787,null,41109,null,41109," ",86.025488103459097," ",86.025488103459097]
[{"$f":"IF(COUNTRY_INFO!A80=0,\" \",COUNTRY_INFO!A80)","v":"Tanzania"},{"$f":"IF(COUNTRY_INFO!B80=0,\" \",COUNTRY_INFO!B80)","v":"Manyara"},{"$f":"IF(COUNTRY_INFO!C80=0,\" \",COUNTRY_INFO!C80)","v":"Mbulu Town Council"},{"$f":"IF(OR(COUNTRY_INFO!$T$9:$T$1000=\"T3 (ALB/MBD)\",COUNTRY_INFO!$U$9:$U$1000=\"T3 (ALB/MBD)\"), \"T3 (ALB/MBD)\", \" \")","v":"T3 (ALB/MBD)"},"ALB","April - 2018",null,32252,null,32252,null,28615,null,28615," ",88.723179957832073," ",88.723179957832073]
[{"$f":"IF(COUNTRY_INFO!A81=0,\" \",COUNTRY_INFO!A81)","v":"Tanzania"},{"$f":"IF(COUNTRY_INFO!B81=0,\" \",COUNTRY_INFO!B81)","v":"Manyara"},{"$f":"IF(COUNTRY_INFO!C81=0,\" \",COUNTRY_INFO!C81)","v":"Simanjiro District Council"},{"$f":"IF(OR(COUNTRY_INFO!$T$9:$T$1000=\"T3 (ALB/MBD)\",COUNTRY_INFO!$U$9:$U$1000=\"T3 (ALB/MBD)\"), \"T3 (ALB/MBD)\", \" \")","v":"T3 (ALB/MBD)"},"ALB","April - 2018",null,43382,null,43382,null,36094,null,36094," ",83.200405698215846," ",83.200405698215846]
[{"$f":"IF(COUNTRY_INFO!A82=0,\" \",COUNTRY_INFO!A82)","v":"Tanzania"},{"$f":"IF(COUNTRY_INFO!B82=0,\" \",COUNTRY_INFO!B82)","v":"Mara"},{"$f":"IF(COUNTRY_INFO!C82=0,\" \",COUNTRY_INFO!C82)","v":"Bunda District Council"},{"$f":"IF(OR(COUNTRY_INFO!$T$9:$T$1000=\"T3 (ALB/MBD)\",COUNTRY_INFO!$U$9:$U$1000=\"T3 (ALB/MBD)\"), \"T3 (ALB/MBD)\", \" \")","v":" "},null,null,null,null,null,0,null,null,null,0," "," "," "," "]
[{"$f":"IF(COUNTRY_INFO!A83=0,\" \",COUNTRY_INFO!A83)","v":"Tanzania"},{"$f":"IF(COUNTRY_INFO!B83=0,\" \",COUNTRY_INFO!B83)","v":"Mara"},{"$f":"IF(COUNTRY_INFO!C83=0,\" \",COUNTRY_INFO!C83)","v":"Bunda Town Council"},{"$f":"IF(OR(COUNTRY_INFO!$T$9:$T$1000=\"T3 (ALB/MBD)\",COUNTRY_INFO!$U$9:$U$1000=\"T3 (ALB/MBD)\"), \"T3 (ALB/MBD)\", \" \")","v":" "},null,null,null,null,null,0,null,null,null,0," "," "," "," "]
[{"$f":"IF(COUNTRY_INFO!A84=0,\" \",COUNTRY_INFO!A84)","v":"Tanzania"},{"$f":"IF(COUNTRY_INFO!B84=0,\" \",COUNTRY_INFO!B84)","v":"Mara"},{"$f":"IF(COUNTRY_INFO!C84=0,\" \",COUNTRY_INFO!C84)","v":"Butiama District Council"},{"$f":"IF(OR(COUNTRY_INFO!$T$9:$T$1000=\"T3 (ALB/MBD)\",COUNTRY_INFO!$U$9:$U$1000=\"T3 (ALB/MBD)\"), \"T3 (ALB/MBD)\", \" \")","v":" "},null,null,null,null,null,0,null,null,null,0," "," "," "," "]
[{"$f":"IF(COUNTRY_INFO!A85=0,\" \",COUNTRY_INFO!A85)","v":"Tanzania"},{"$f":"IF(COUNTRY_INFO!B85=0,\" \",COUNTRY_INFO!B85)","v":"Mara"},{"$f":"IF(COUNTRY_INFO!C85=0,\" \",COUNTRY_INFO!C85)","v":"Musoma District Council"},{"$f":"IF(OR(COUNTRY_INFO!$T$9:$T$1000=\"T3 (ALB/MBD)\",COUNTRY_INFO!$U$9:$U$1000=\"T3 (ALB/MBD)\"), \"T3 (ALB/MBD)\", \" \")","v":" "},null,null,null,null,null,0,null,null,null,0," "," "," "," "]
[{"$f":"IF(COUNTRY_INFO!A86=0,\" \",COUNTRY_INFO!A86)","v":"Tanzania"},{"$f":"IF(COUNTRY_INFO!B86=0,\" \",COUNTRY_INFO!B86)","v":"Mara"},{"$f":"IF(COUNTRY_INFO!C86=0,\" \",COUNTRY_INFO!C86)","v":"Musoma Municipal Council"},{"$f":"IF(OR(COUNTRY_INFO!$T$9:$T$1000=\"T3 (ALB/MBD)\",COUNTRY_INFO!$U$9:$U$1000=\"T3 (ALB/MBD)\"), \"T3 (ALB/MBD)\", \" \")","v":" "},null,null,null,null,null,0,null,null,null,0," "," "," "," "]
[{"$f":"IF(COUNTRY_INFO!A87=0,\" \",COUNTRY_INFO!A87)","v":"Tanzania"},{"$f":"IF(COUNTRY_INFO!B87=0,\" \",COUNTRY_INFO!B87)","v":"Mara"},{"$f":"IF(COUNTRY_INFO!C87=0,\" \",COUNTRY_INFO!C87)","v":"Rorya District Council"},{"$f":"IF(OR(COUNTRY_INFO!$T$9:$T$1000=\"T3 (ALB/MBD)\",COUNTRY_INFO!$U$9:$U$1000=\"T3 (ALB/MBD)\"), \"T3 (ALB/MBD)\", \" \")","v":" "},null,null,null,null,null,0,null,null,null,0," "," "," "," "]
[{"$f":"IF(COUNTRY_INFO!A88=0,\" \",COUNTRY_INFO!A88)","v":"Tanzania"},{"$f":"IF(COUNTRY_INFO!B88=0,\" \",COUNTRY_INFO!B88)","v":"Mara"},{"$f":"IF(COUNTRY_INFO!C88=0,\" \",COUNTRY_INFO!C88)","v":"Serengeti District Council"},{"$f":"IF(OR(COUNTRY_INFO!$T$9:$T$1000=\"T3 (ALB/MBD)\",COUNTRY_INFO!$U$9:$U$1000=\"T3 (ALB/MBD)\"), \"T3 (ALB/MBD)\", \" \")","v":" "},null,null,null,null,null,0,null,null,null,0," "," "," "," "]
[{"$f":"IF(COUNTRY_INFO!A89=0,\" \",COUNTRY_INFO!A89)","v":"Tanzania"},{"$f":"IF(COUNTRY_INFO!B89=0,\" \",COUNTRY_INFO!B89)","v":"Mara"},{"$f":"IF(COUNTRY_INFO!C89=0,\" \",COUNTRY_INFO!C89)","v":"Tarime District Council"},{"$f":"IF(OR(COUNTRY_INFO!$T$9:$T$1000=\"T3 (ALB/MBD)\",COUNTRY_INFO!$U$9:$U$1000=\"T3 (ALB/MBD)\"), \"T3 (ALB/MBD)\", \" \")","v":" "},null,null,null,null,null,0,null,null,null,0," "," "," "," "]
[{"$f":"IF(COUNTRY_INFO!A90=0,\" \",COUNTRY_INFO!A90)","v":"Tanzania"},{"$f":"IF(COUNTRY_INFO!B90=0,\" \",COUNTRY_INFO!B90)","v":"Mara"},{"$f":"IF(COUNTRY_INFO!C90=0,\" \",COUNTRY_INFO!C90)","v":"Tarime Town Council"},{"$f":"IF(OR(COUNTRY_INFO!$T$9:$T$1000=\"T3 (ALB/MBD)\",COUNTRY_INFO!$U$9:$U$1000=\"T3 (ALB/MBD)\"), \"T3 (ALB/MBD)\", \" \")","v":" "},null,null,null,null,null,0,null,null,null,0," "," "," "," "]
[{"$f":"IF(COUNTRY_INFO!A91=0,\" \",COUNTRY_INFO!A91)","v":"Tanzania"},{"$f":"IF(COUNTRY_INFO!B91=0,\" \",COUNTRY_INFO!B91)","v":"Mbeya"},{"$f":"IF(COUNTRY_INFO!C91=0,\" \",COUNTRY_INFO!C91)","v":"Busokelo District Council"},{"$f":"IF(OR(COUNTRY_INFO!$T$9:$T$1000=\"T3 (ALB/MBD)\",COUNTRY_INFO!$U$9:$U$1000=\"T3 (ALB/MBD)\"), \"T3 (ALB/MBD)\", \" \")","v":" "},null,null,null,null,null,0,null,null,null,0," "," "," "," "]
[{"$f":"IF(COUNTRY_INFO!A92=0,\" \",COUNTRY_INFO!A92)","v":"Tanzania"},{"$f":"IF(COUNTRY_INFO!B92=0,\" \",COUNTRY_INFO!B92)","v":"Mbeya"},{"$f":"IF(COUNTRY_INFO!C92=0,\" \",COUNTRY_INFO!C92)","v":"Chunya District Council"},{"$f":"IF(OR(COUNTRY_INFO!$T$9:$T$1000=\"T3 (ALB/MBD)\",COUNTRY_INFO!$U$9:$U$1000=\"T3 (ALB/MBD)\"), \"T3 (ALB/MBD)\", \" \")","v":" "},null,null,null,null,null,0,null,null,null,0," "," "," "," "]
[{"$f":"IF(COUNTRY_INFO!A93=0,\" \",COUNTRY_INFO!A93)","v":"Tanzania"},{"$f":"IF(COUNTRY_INFO!B93=0,\" \",COUNTRY_INFO!B93)","v":"Mbeya"},{"$f":"IF(COUNTRY_INFO!C93=0,\" \",COUNTRY_INFO!C93)","v":"Kyela District Council"},{"$f":"IF(OR(COUNTRY_INFO!$T$9:$T$1000=\"T3 (ALB/MBD)\",COUNTRY_INFO!$U$9:$U$1000=\"T3 (ALB/MBD)\"), \"T3 (ALB/MBD)\", \" \")","v":" "},null,null,null,null,null,0,null,null,null,0," "," "," "," "]
[{"$f":"IF(COUNTRY_INFO!A94=0,\" \",COUNTRY_INFO!A94)","v":"Tanzania"},{"$f":"IF(COUNTRY_INFO!B94=0,\" \",COUNTRY_INFO!B94)","v":"Mbeya"},{"$f":"IF(COUNTRY_INFO!C94=0,\" \",COUNTRY_INFO!C94)","v":"Mbarali District Council"},{"$f":"IF(OR(COUNTRY_INFO!$T$9:$T$1000=\"T3 (ALB/MBD)\",COUNTRY_INFO!$U$9:$U$1000=\"T3 (ALB/MBD)\"), \"T3 (ALB/MBD)\", \" \")","v":" "},null,null,null,null,null,0,null,null,null,0," "," "," "," "]
[{"$f":"IF(COUNTRY_INFO!A95=0,\" \",COUNTRY_INFO!A95)","v":"Tanzania"},{"$f":"IF(COUNTRY_INFO!B95=0,\" \",COUNTRY_INFO!B95)","v":"Mbeya"},{"$f":"IF(COUNTRY_INFO!C95=0,\" \",COUNTRY_INFO!C95)","v":"Mbeya City Council"},{"$f":"IF(OR(COUNTRY_INFO!$T$9:$T$1000=\"T3 (ALB/MBD)\",COUNTRY_INFO!$U$9:$U$1000=\"T3 (ALB/MBD)\"), \"T3 (ALB/MBD)\", \" \")","v":" "},null,null,null,null,null,0,null,null,null,0," "," "," "," "]
[{"$f":"IF(COUNTRY_INFO!A96=0,\" \",COUNTRY_INFO!A96)","v":"Tanzania"},{"$f":"IF(COUNTRY_INFO!B96=0,\" \",COUNTRY_INFO!B96)","v":"Mbeya"},{"$f":"IF(COUNTRY_INFO!C96=0,\" \",COUNTRY_INFO!C96)","v":"Mbeya District Council"},{"$f":"IF(OR(COUNTRY_INFO!$T$9:$T$1000=\"T3 (ALB/MBD)\",COUNTRY_INFO!$U$9:$U$1000=\"T3 (ALB/MBD)\"), \"T3 (ALB/MBD)\", \" \")","v":" "},null,null,null,null,null,0,null,null,null,0," "," "," "," "]
[{"$f":"IF(COUNTRY_INFO!A97=0,\" \",COUNTRY_INFO!A97)","v":"Tanzania"},{"$f":"IF(COUNTRY_INFO!B97=0,\" \",COUNTRY_INFO!B97)","v":"Mbeya"},{"$f":"IF(COUNTRY_INFO!C97=0,\" \",COUNTRY_INFO!C97)","v":"Rungwe District Council"},{"$f":"IF(OR(COUNTRY_INFO!$T$9:$T$1000=\"T3 (ALB/MBD)\",COUNTRY_INFO!$U$9:$U$1000=\"T3 (ALB/MBD)\"), \"T3 (ALB/MBD)\", \" \")","v":" "},null,null,null,null,null,0,null,null,null,0," "," "," "," "]
[{"$f":"IF(COUNTRY_INFO!A98=0,\" \",COUNTRY_INFO!A98)","v":"Tanzania"},{"$f":"IF(COUNTRY_INFO!B98=0,\" \",COUNTRY_INFO!B98)","v":"Morogoro"},{"$f":"IF(COUNTRY_INFO!C98=0,\" \",COUNTRY_INFO!C98)","v":"Gairo District Council"},{"$f":"IF(OR(COUNTRY_INFO!$T$9:$T$1000=\"T3 (ALB/MBD)\",COUNTRY_INFO!$U$9:$U$1000=\"T3 (ALB/MBD)\"), \"T3 (ALB/MBD)\", \" \")","v":" "},null,null,null,null,null,0,null,null,null,0," "," "," "," "]
[{"$f":"IF(COUNTRY_INFO!A99=0,\" \",COUNTRY_INFO!A99)","v":"Tanzania"},{"$f":"IF(COUNTRY_INFO!B99=0,\" \",COUNTRY_INFO!B99)","v":"Morogoro"},{"$f":"IF(COUNTRY_INFO!C99=0,\" \",COUNTRY_INFO!C99)","v":"Ifakara Town Council"},{"$f":"IF(OR(COUNTRY_INFO!$T$9:$T$1000=\"T3 (ALB/MBD)\",COUNTRY_INFO!$U$9:$U$1000=\"T3 (ALB/MBD)\"), \"T3 (ALB/MBD)\", \" \")","v":" "},null,null,null,null,null,0,null,null,null,0," "," "," "," "]
[{"$f":"IF(COUNTRY_INFO!A100=0,\" \",COUNTRY_INFO!A100)","v":"Tanzania"},{"$f":"IF(COUNTRY_INFO!B100=0,\" \",COUNTRY_INFO!B100)","v":"Morogoro"},{"$f":"IF(COUNTRY_INFO!C100=0,\" \",COUNTRY_INFO!C100)","v":"Kilombero District Council"},{"$f":"IF(OR(COUNTRY_INFO!$T$9:$T$1000=\"T3 (ALB/MBD)\",COUNTRY_INFO!$U$9:$U$1000=\"T3 (ALB/MBD)\"), \"T3 (ALB/MBD)\", \" \")","v":" "},null,null,null,null,null,0,null,null,null,0," "," "," "," "]
[{"$f":"IF(COUNTRY_INFO!A101=0,\" \",COUNTRY_INFO!A101)","v":"Tanzania"},{"$f":"IF(COUNTRY_INFO!B101=0,\" \",COUNTRY_INFO!B101)","v":"Morogoro"},{"$f":"IF(COUNTRY_INFO!C101=0,\" \",COUNTRY_INFO!C101)","v":"Kilosa District Council"},{"$f":"IF(OR(COUNTRY_INFO!$T$9:$T$1000=\"T3 (ALB/MBD)\",COUNTRY_INFO!$U$9:$U$1000=\"T3 (ALB/MBD)\"), \"T3 (ALB/MBD)\", \" \")","v":" "},null,null,null,null,null,0,null,null,null,0," "," "," "," "]
[{"$f":"IF(COUNTRY_INFO!A102=0,\" \",COUNTRY_INFO!A102)","v":"Tanzania"},{"$f":"IF(COUNTRY_INFO!B102=0,\" \",COUNTRY_INFO!B102)","v":"Morogoro"},{"$f":"IF(COUNTRY_INFO!C102=0,\" \",COUNTRY_INFO!C102)","v":"Malinyi District Council"},{"$f":"IF(OR(COUNTRY_INFO!$T$9:$T$1000=\"T3 (ALB/MBD)\",COUNTRY_INFO!$U$9:$U$1000=\"T3 (ALB/MBD)\"), \"T3 (ALB/MBD)\", \" \")","v":" "},null,null,null,null,null,0,null,null,null,0," "," "," "," "]
[{"$f":"IF(COUNTRY_INFO!A103=0,\" \",COUNTRY_INFO!A103)","v":"Tanzania"},{"$f":"IF(COUNTRY_INFO!B103=0,\" \",COUNTRY_INFO!B103)","v":"Morogoro"},{"$f":"IF(COUNTRY_INFO!C103=0,\" \",COUNTRY_INFO!C103)","v":"Morogoro District Council"},{"$f":"IF(OR(COUNTRY_INFO!$T$9:$T$1000=\"T3 (ALB/MBD)\",COUNTRY_INFO!$U$9:$U$1000=\"T3 (ALB/MBD)\"), \"T3 (ALB/MBD)\", \" \")","v":" "},null,null,null,null,null,0,null,null,null,0," "," "," "," "]
[{"$f":"IF(COUNTRY_INFO!A104=0,\" \",COUNTRY_INFO!A104)","v":"Tanzania"},{"$f":"IF(COUNTRY_INFO!B104=0,\" \",COUNTRY_INFO!B104)","v":"Morogoro"},{"$f":"IF(COUNTRY_INFO!C104=0,\" \",COUNTRY_INFO!C104)","v":"Morogoro Municipal Council"},{"$f":"IF(OR(COUNTRY_INFO!$T$9:$T$1000=\"T3 (ALB/MBD)\",COUNTRY_INFO!$U$9:$U$1000=\"T3 (ALB/MBD)\"), \"T3 (ALB/MBD)\", \" \")","v":" "},null,null,null,null,null,0,null,null,null,0," "," "," "," "]
[{"$f":"IF(COUNTRY_INFO!A105=0,\" \",COUNTRY_INFO!A105)","v":"Tanzania"},{"$f":"IF(COUNTRY_INFO!B105=0,\" \",COUNTRY_INFO!B105)","v":"Morogoro"},{"$f":"IF(COUNTRY_INFO!C105=0,\" \",COUNTRY_INFO!C105)","v":"Mvomero District Council"},{"$f":"IF(OR(COUNTRY_INFO!$T$9:$T$1000=\"T3 (ALB/MBD)\",COUNTRY_INFO!$U$9:$U$1000=\"T3 (ALB/MBD)\"), \"T3 (ALB/MBD)\", \" \")","v":" "},null,null,null,null,null,0,null,null,null,0," "," "," "," "]
[{"$f":"IF(COUNTRY_INFO!A106=0,\" \",COUNTRY_INFO!A106)","v":"Tanzania"},{"$f":"IF(COUNTRY_INFO!B106=0,\" \",COUNTRY_INFO!B106)","v":"Morogoro"},{"$f":"IF(COUNTRY_INFO!C106=0,\" \",COUNTRY_INFO!C106)","v":"Ulanga District Council"},{"$f":"IF(OR(COUNTRY_INFO!$T$9:$T$1000=\"T3 (ALB/MBD)\",COUNTRY_INFO!$U$9:$U$1000=\"T3 (ALB/MBD)\"), \"T3 (ALB/MBD)\", \" \")","v":" "},null,null,null,null,null,0,null,null,null,0," "," "," "," "]
[{"$f":"IF(COUNTRY_INFO!A107=0,\" \",COUNTRY_INFO!A107)","v":"Tanzania"},{"$f":"IF(COUNTRY_INFO!B107=0,\" \",COUNTRY_INFO!B107)","v":"Mtwara"},{"$f":"IF(COUNTRY_INFO!C107=0,\" \",COUNTRY_INFO!C107)","v":"Masasi District Council"},{"$f":"IF(OR(COUNTRY_INFO!$T$9:$T$1000=\"T3 (ALB/MBD)\",COUNTRY_INFO!$U$9:$U$1000=\"T3 (ALB/MBD)\"), \"T3 (ALB/MBD)\", \" \")","v":" "},null,null,null,null,null,0,null,null,null,0," "," "," "," "]
[{"$f":"IF(COUNTRY_INFO!A108=0,\" \",COUNTRY_INFO!A108)","v":"Tanzania"},{"$f":"IF(COUNTRY_INFO!B108=0,\" \",COUNTRY_INFO!B108)","v":"Mtwara"},{"$f":"IF(COUNTRY_INFO!C108=0,\" \",COUNTRY_INFO!C108)","v":"Masasi Town Council"},{"$f":"IF(OR(COUNTRY_INFO!$T$9:$T$1000=\"T3 (ALB/MBD)\",COUNTRY_INFO!$U$9:$U$1000=\"T3 (ALB/MBD)\"), \"T3 (ALB/MBD)\", \" \")","v":" "},null,null,null,null,null,0,null,null,null,0," "," "," "," "]
[{"$f":"IF(COUNTRY_INFO!A109=0,\" \",COUNTRY_INFO!A109)","v":"Tanzania"},{"$f":"IF(COUNTRY_INFO!B109=0,\" \",COUNTRY_INFO!B109)","v":"Mtwara"},{"$f":"IF(COUNTRY_INFO!C109=0,\" \",COUNTRY_INFO!C109)","v":"Mtwara District Council"},{"$f":"IF(OR(COUNTRY_INFO!$T$9:$T$1000=\"T3 (ALB/MBD)\",COUNTRY_INFO!$U$9:$U$1000=\"T3 (ALB/MBD)\"), \"T3 (ALB/MBD)\", \" \")","v":" "},null,null,null,null,null,0,null,null,null,0," "," "," "," "]
[{"$f":"IF(COUNTRY_INFO!A110=0,\" \",COUNTRY_INFO!A110)","v":"Tanzania"},{"$f":"IF(COUNTRY_INFO!B110=0,\" \",COUNTRY_INFO!B110)","v":"Mtwara"},{"$f":"IF(COUNTRY_INFO!C110=0,\" \",COUNTRY_INFO!C110)","v":"Mtwara-Mikindani Municipal Council"},{"$f":"IF(OR(COUNTRY_INFO!$T$9:$T$1000=\"T3 (ALB/MBD)\",COUNTRY_INFO!$U$9:$U$1000=\"T3 (ALB/MBD)\"), \"T3 (ALB/MBD)\", \" \")","v":"T3 (ALB/MBD)"},"ALB","April - 2018",null,23240,null,23240,null,21915,null,21915," ",94.298623063683308," ",94.298623063683308]
[{"$f":"IF(COUNTRY_INFO!A111=0,\" \",COUNTRY_INFO!A111)","v":"Tanzania"},{"$f":"IF(COUNTRY_INFO!B111=0,\" \",COUNTRY_INFO!B111)","v":"Mtwara"},{"$f":"IF(COUNTRY_INFO!C111=0,\" \",COUNTRY_INFO!C111)","v":"Nanyamba District Council"},{"$f":"IF(OR(COUNTRY_INFO!$T$9:$T$1000=\"T3 (ALB/MBD)\",COUNTRY_INFO!$U$9:$U$1000=\"T3 (ALB/MBD)\"), \"T3 (ALB/MBD)\", \" \")","v":" "},null,null,null,null,null,0,null,null,null,0," "," "," "," "]
[{"$f":"IF(COUNTRY_INFO!A112=0,\" \",COUNTRY_INFO!A112)","v":"Tanzania"},{"$f":"IF(COUNTRY_INFO!B112=0,\" \",COUNTRY_INFO!B112)","v":"Mtwara"},{"$f":"IF(COUNTRY_INFO!C112=0,\" \",COUNTRY_INFO!C112)","v":"Nanyumbu District Council"},{"$f":"IF(OR(COUNTRY_INFO!$T$9:$T$1000=\"T3 (ALB/MBD)\",COUNTRY_INFO!$U$9:$U$1000=\"T3 (ALB/MBD)\"), \"T3 (ALB/MBD)\", \" \")","v":" "},null,null,null,null,null,0,null,null,null,0," "," "," "," "]
[{"$f":"IF(COUNTRY_INFO!A113=0,\" \",COUNTRY_INFO!A113)","v":"Tanzania"},{"$f":"IF(COUNTRY_INFO!B113=0,\" \",COUNTRY_INFO!B113)","v":"Mtwara"},{"$f":"IF(COUNTRY_INFO!C113=0,\" \",COUNTRY_INFO!C113)","v":"Newala District Council"},{"$f":"IF(OR(COUNTRY_INFO!$T$9:$T$1000=\"T3 (ALB/MBD)\",COUNTRY_INFO!$U$9:$U$1000=\"T3 (ALB/MBD)\"), \"T3 (ALB/MBD)\", \" \")","v":"T3 (ALB/MBD)"},"ALB","April - 2018",null,24544,null,24544,null,23592,null,23592," ",96.121251629726203," ",96.121251629726203]
[{"$f":"IF(COUNTRY_INFO!A114=0,\" \",COUNTRY_INFO!A114)","v":"Tanzania"},{"$f":"IF(COUNTRY_INFO!B114=0,\" \",COUNTRY_INFO!B114)","v":"Mtwara"},{"$f":"IF(COUNTRY_INFO!C114=0,\" \",COUNTRY_INFO!C114)","v":"Newala Town Council"},{"$f":"IF(OR(COUNTRY_INFO!$T$9:$T$1000=\"T3 (ALB/MBD)\",COUNTRY_INFO!$U$9:$U$1000=\"T3 (ALB/MBD)\"), \"T3 (ALB/MBD)\", \" \")","v":"T3 (ALB/MBD)"},"ALB","May - 2018",null,20907,null,20907,null,19105,null,19105," ",91.380877218156598," ",91.380877218156598]
[{"$f":"IF(COUNTRY_INFO!A115=0,\" \",COUNTRY_INFO!A115)","v":"Tanzania"},{"$f":"IF(COUNTRY_INFO!B115=0,\" \",COUNTRY_INFO!B115)","v":"Mtwara"},{"$f":"IF(COUNTRY_INFO!C115=0,\" \",COUNTRY_INFO!C115)","v":"Tandahimba District Council"},{"$f":"IF(OR(COUNTRY_INFO!$T$9:$T$1000=\"T3 (ALB/MBD)\",COUNTRY_INFO!$U$9:$U$1000=\"T3 (ALB/MBD)\"), \"T3 (ALB/MBD)\", \" \")","v":"T3 (ALB/MBD)"},"ALB","May - 2018",null,55792,null,55792,null,51155,null,51155," ",91.688772583882994," ",91.688772583882994]
[{"$f":"IF(COUNTRY_INFO!A116=0,\" \",COUNTRY_INFO!A116)","v":"Tanzania"},{"$f":"IF(COUNTRY_INFO!B116=0,\" \",COUNTRY_INFO!B116)","v":"Mwanza"},{"$f":"IF(COUNTRY_INFO!C116=0,\" \",COUNTRY_INFO!C116)","v":"Buchosa District Council"},{"$f":"IF(OR(COUNTRY_INFO!$T$9:$T$1000=\"T3 (ALB/MBD)\",COUNTRY_INFO!$U$9:$U$1000=\"T3 (ALB/MBD)\"), \"T3 (ALB/MBD)\", \" \")","v":" "},null,null,null,null,null,0,null,null,null,0," "," "," "," "]
[{"$f":"IF(COUNTRY_INFO!A117=0,\" \",COUNTRY_INFO!A117)","v":"Tanzania"},{"$f":"IF(COUNTRY_INFO!B117=0,\" \",COUNTRY_INFO!B117)","v":"Mwanza"},{"$f":"IF(COUNTRY_INFO!C117=0,\" \",COUNTRY_INFO!C117)","v":"Ilemela Municipal Council"},{"$f":"IF(OR(COUNTRY_INFO!$T$9:$T$1000=\"T3 (ALB/MBD)\",COUNTRY_INFO!$U$9:$U$1000=\"T3 (ALB/MBD)\"), \"T3 (ALB/MBD)\", \" \")","v":" "},null,null,null,null,null,0,null,null,null,0," "," "," "," "]
[{"$f":"IF(COUNTRY_INFO!A118=0,\" \",COUNTRY_INFO!A118)","v":"Tanzania"},{"$f":"IF(COUNTRY_INFO!B118=0,\" \",COUNTRY_INFO!B118)","v":"Mwanza"},{"$f":"IF(COUNTRY_INFO!C118=0,\" \",COUNTRY_INFO!C118)","v":"Kwimba District Council"},{"$f":"IF(OR(COUNTRY_INFO!$T$9:$T$1000=\"T3 (ALB/MBD)\",COUNTRY_INFO!$U$9:$U$1000=\"T3 (ALB/MBD)\"), \"T3 (ALB/MBD)\", \" \")","v":" "},null,null,null,null,null,0,null,null,null,0," "," "," "," "]
[{"$f":"IF(COUNTRY_INFO!A119=0,\" \",COUNTRY_INFO!A119)","v":"Tanzania"},{"$f":"IF(COUNTRY_INFO!B119=0,\" \",COUNTRY_INFO!B119)","v":"Mwanza"},{"$f":"IF(COUNTRY_INFO!C119=0,\" \",COUNTRY_INFO!C119)","v":"Magu District Council"},{"$f":"IF(OR(COUNTRY_INFO!$T$9:$T$1000=\"T3 (ALB/MBD)\",COUNTRY_INFO!$U$9:$U$1000=\"T3 (ALB/MBD)\"), \"T3 (ALB/MBD)\", \" \")","v":" "},null,null,null,null,null,0,null,null,null,0," "," "," "," "]
[{"$f":"IF(COUNTRY_INFO!A120=0,\" \",COUNTRY_INFO!A120)","v":"Tanzania"},{"$f":"IF(COUNTRY_INFO!B120=0,\" \",COUNTRY_INFO!B120)","v":"Mwanza"},{"$f":"IF(COUNTRY_INFO!C120=0,\" \",COUNTRY_INFO!C120)","v":"Misungwi District Council"},{"$f":"IF(OR(COUNTRY_INFO!$T$9:$T$1000=\"T3 (ALB/MBD)\",COUNTRY_INFO!$U$9:$U$1000=\"T3 (ALB/MBD)\"), \"T3 (ALB/MBD)\", \" \")","v":" "},null,null,null,null,null,0,null,null,null,0," "," "," "," "]
[{"$f":"IF(COUNTRY_INFO!A121=0,\" \",COUNTRY_INFO!A121)","v":"Tanzania"},{"$f":"IF(COUNTRY_INFO!B121=0,\" \",COUNTRY_INFO!B121)","v":"Mwanza"},{"$f":"IF(COUNTRY_INFO!C121=0,\" \",COUNTRY_INFO!C121)","v":"Mwanza-Nyamagana City Council"},{"$f":"IF(OR(COUNTRY_INFO!$T$9:$T$1000=\"T3 (ALB/MBD)\",COUNTRY_INFO!$U$9:$U$1000=\"T3 (ALB/MBD)\"), \"T3 (ALB/MBD)\", \" \")","v":" "},null,null,null,null,null,0,null,null,null,0," "," "," "," "]
[{"$f":"IF(COUNTRY_INFO!A122=0,\" \",COUNTRY_INFO!A122)","v":"Tanzania"},{"$f":"IF(COUNTRY_INFO!B122=0,\" \",COUNTRY_INFO!B122)","v":"Mwanza"},{"$f":"IF(COUNTRY_INFO!C122=0,\" \",COUNTRY_INFO!C122)","v":"Sengerema District Council"},{"$f":"IF(OR(COUNTRY_INFO!$T$9:$T$1000=\"T3 (ALB/MBD)\",COUNTRY_INFO!$U$9:$U$1000=\"T3 (ALB/MBD)\"), \"T3 (ALB/MBD)\", \" \")","v":" "},null,null,null,null,null,0,null,null,null,0," "," "," "," "]
[{"$f":"IF(COUNTRY_INFO!A123=0,\" \",COUNTRY_INFO!A123)","v":"Tanzania"},{"$f":"IF(COUNTRY_INFO!B123=0,\" \",COUNTRY_INFO!B123)","v":"Mwanza"},{"$f":"IF(COUNTRY_INFO!C123=0,\" \",COUNTRY_INFO!C123)","v":"Ukerewe District Council"},{"$f":"IF(OR(COUNTRY_INFO!$T$9:$T$1000=\"T3 (ALB/MBD)\",COUNTRY_INFO!$U$9:$U$1000=\"T3 (ALB/MBD)\"), \"T3 (ALB/MBD)\", \" \")","v":" "},null,null,null,null,null,0,null,null,null,0," "," "," "," "]
[{"$f":"IF(COUNTRY_INFO!A124=0,\" \",COUNTRY_INFO!A124)","v":"Tanzania"},{"$f":"IF(COUNTRY_INFO!B124=0,\" \",COUNTRY_INFO!B124)","v":"Njombe"},{"$f":"IF(COUNTRY_INFO!C124=0,\" \",COUNTRY_INFO!C124)","v":"Ludewa District Council"},{"$f":"IF(OR(COUNTRY_INFO!$T$9:$T$1000=\"T3 (ALB/MBD)\",COUNTRY_INFO!$U$9:$U$1000=\"T3 (ALB/MBD)\"), \"T3 (ALB/MBD)\", \" \")","v":" "},null,null,null,null,null,0,null,null,null,0," "," "," "," "]
[{"$f":"IF(COUNTRY_INFO!A125=0,\" \",COUNTRY_INFO!A125)","v":"Tanzania"},{"$f":"IF(COUNTRY_INFO!B125=0,\" \",COUNTRY_INFO!B125)","v":"Njombe"},{"$f":"IF(COUNTRY_INFO!C125=0,\" \",COUNTRY_INFO!C125)","v":"Makambako Town Council"},{"$f":"IF(OR(COUNTRY_INFO!$T$9:$T$1000=\"T3 (ALB/MBD)\",COUNTRY_INFO!$U$9:$U$1000=\"T3 (ALB/MBD)\"), \"T3 (ALB/MBD)\", \" \")","v":" "},null,null,null,null,null,0,null,null,null,0," "," "," "," "]
[{"$f":"IF(COUNTRY_INFO!A126=0,\" \",COUNTRY_INFO!A126)","v":"Tanzania"},{"$f":"IF(COUNTRY_INFO!B126=0,\" \",COUNTRY_INFO!B126)","v":"Njombe"},{"$f":"IF(COUNTRY_INFO!C126=0,\" \",COUNTRY_INFO!C126)","v":"Makete District Council"},{"$f":"IF(OR(COUNTRY_INFO!$T$9:$T$1000=\"T3 (ALB/MBD)\",COUNTRY_INFO!$U$9:$U$1000=\"T3 (ALB/MBD)\"), \"T3 (ALB/MBD)\", \" \")","v":" "},null,null,null,null,null,0,null,null,null,0," "," "," "," "]
[{"$f":"IF(COUNTRY_INFO!A127=0,\" \",COUNTRY_INFO!A127)","v":"Tanzania"},{"$f":"IF(COUNTRY_INFO!B127=0,\" \",COUNTRY_INFO!B127)","v":"Njombe"},{"$f":"IF(COUNTRY_INFO!C127=0,\" \",COUNTRY_INFO!C127)","v":"Njombe District Council"},{"$f":"IF(OR(COUNTRY_INFO!$T$9:$T$1000=\"T3 (ALB/MBD)\",COUNTRY_INFO!$U$9:$U$1000=\"T3 (ALB/MBD)\"), \"T3 (ALB/MBD)\", \" \")","v":" "},null,null,null,null,null,0,null,null,null,0," "," "," "," "]
[{"$f":"IF(COUNTRY_INFO!A128=0,\" \",COUNTRY_INFO!A128)","v":"Tanzania"},{"$f":"IF(COUNTRY_INFO!B128=0,\" \",COUNTRY_INFO!B128)","v":"Njombe"},{"$f":"IF(COUNTRY_INFO!C128=0,\" \",COUNTRY_INFO!C128)","v":"Njombe Town Council"},{"$f":"IF(OR(COUNTRY_INFO!$T$9:$T$1000=\"T3 (ALB/MBD)\",COUNTRY_INFO!$U$9:$U$1000=\"T3 (ALB/MBD)\"), \"T3 (ALB/MBD)\", \" \")","v":" "},null,null,null,null,null,0,null,null,null,0," "," "," "," "]
[{"$f":"IF(COUNTRY_INFO!A129=0,\" \",COUNTRY_INFO!A129)","v":"Tanzania"},{"$f":"IF(COUNTRY_INFO!B129=0,\" \",COUNTRY_INFO!B129)","v":"Njombe"},{"$f":"IF(COUNTRY_INFO!C129=0,\" \",COUNTRY_INFO!C129)","v":"Wanging'ombe District Council"},{"$f":"IF(OR(COUNTRY_INFO!$T$9:$T$1000=\"T3 (ALB/MBD)\",COUNTRY_INFO!$U$9:$U$1000=\"T3 (ALB/MBD)\"), \"T3 (ALB/MBD)\", \" \")","v":" "},null,null,null,null,null,0,null,null,null,0," "," "," "," "]
[{"$f":"IF(COUNTRY_INFO!A130=0,\" \",COUNTRY_INFO!A130)","v":"Tanzania"},{"$f":"IF(COUNTRY_INFO!B130=0,\" \",COUNTRY_INFO!B130)","v":"Pwani"},{"$f":"IF(COUNTRY_INFO!C130=0,\" \",COUNTRY_INFO!C130)","v":"Bagamoyo District Council"},{"$f":"IF(OR(COUNTRY_INFO!$T$9:$T$1000=\"T3 (ALB/MBD)\",COUNTRY_INFO!$U$9:$U$1000=\"T3 (ALB/MBD)\"), \"T3 (ALB/MBD)\", \" \")","v":"T3 (ALB/MBD)"},"ALB","April - 2018",null,27373,null,27373,null,24717,null,24717," ",90.297008000584526," ",90.297008000584526]
[{"$f":"IF(COUNTRY_INFO!A131=0,\" \",COUNTRY_INFO!A131)","v":"Tanzania"},{"$f":"IF(COUNTRY_INFO!B131=0,\" \",COUNTRY_INFO!B131)","v":"Pwani"},{"$f":"IF(COUNTRY_INFO!C131=0,\" \",COUNTRY_INFO!C131)","v":"Chalinze District Council"},{"$f":"IF(OR(COUNTRY_INFO!$T$9:$T$1000=\"T3 (ALB/MBD)\",COUNTRY_INFO!$U$9:$U$1000=\"T3 (ALB/MBD)\"), \"T3 (ALB/MBD)\", \" \")","v":"T3 (ALB/MBD)"},"ALB","April - 2018",null,51095,null,51095,null,48999,null,48999," ",95.897837361777079," ",95.897837361777079]
[{"$f":"IF(COUNTRY_INFO!A132=0,\" \",COUNTRY_INFO!A132)","v":"Tanzania"},{"$f":"IF(COUNTRY_INFO!B132=0,\" \",COUNTRY_INFO!B132)","v":"Pwani"},{"$f":"IF(COUNTRY_INFO!C132=0,\" \",COUNTRY_INFO!C132)","v":"Kibaha District Council"},{"$f":"IF(OR(COUNTRY_INFO!$T$9:$T$1000=\"T3 (ALB/MBD)\",COUNTRY_INFO!$U$9:$U$1000=\"T3 (ALB/MBD)\"), \"T3 (ALB/MBD)\", \" \")","v":" "},null,null,null,null,null,0,null,null,null,0," "," "," "," "]
[{"$f":"IF(COUNTRY_INFO!A133=0,\" \",COUNTRY_INFO!A133)","v":"Tanzania"},{"$f":"IF(COUNTRY_INFO!B133=0,\" \",COUNTRY_INFO!B133)","v":"Pwani"},{"$f":"IF(COUNTRY_INFO!C133=0,\" \",COUNTRY_INFO!C133)","v":"Kibaha Town Council"},{"$f":"IF(OR(COUNTRY_INFO!$T$9:$T$1000=\"T3 (ALB/MBD)\",COUNTRY_INFO!$U$9:$U$1000=\"T3 (ALB/MBD)\"), \"T3 (ALB/MBD)\", \" \")","v":" "},null,null,null,null,null,0,null,null,null,0," "," "," "," "]
[{"$f":"IF(COUNTRY_INFO!A134=0,\" \",COUNTRY_INFO!A134)","v":"Tanzania"},{"$f":"IF(COUNTRY_INFO!B134=0,\" \",COUNTRY_INFO!B134)","v":"Pwani"},{"$f":"IF(COUNTRY_INFO!C134=0,\" \",COUNTRY_INFO!C134)","v":"Kibiti District Council"},{"$f":"IF(OR(COUNTRY_INFO!$T$9:$T$1000=\"T3 (ALB/MBD)\",COUNTRY_INFO!$U$9:$U$1000=\"T3 (ALB/MBD)\"), \"T3 (ALB/MBD)\", \" \")","v":"T3 (ALB/MBD)"},"ALB","April - 2018",null,34891,null,34891,null,31636,null,31636," ",90.670946662463109," ",90.670946662463109]
[{"$f":"IF(COUNTRY_INFO!A135=0,\" \",COUNTRY_INFO!A135)","v":"Tanzania"},{"$f":"IF(COUNTRY_INFO!B135=0,\" \",COUNTRY_INFO!B135)","v":"Pwani"},{"$f":"IF(COUNTRY_INFO!C135=0,\" \",COUNTRY_INFO!C135)","v":"Kisarawe District Council"},{"$f":"IF(OR(COUNTRY_INFO!$T$9:$T$1000=\"T3 (ALB/MBD)\",COUNTRY_INFO!$U$9:$U$1000=\"T3 (ALB/MBD)\"), \"T3 (ALB/MBD)\", \" \")","v":"T3 (ALB/MBD)"},"ALB","April - 2018",null,29405,null,29405,null,27366,null,27366," ",93.065805135181094," ",93.065805135181094]
[{"$f":"IF(COUNTRY_INFO!A136=0,\" \",COUNTRY_INFO!A136)","v":"Tanzania"},{"$f":"IF(COUNTRY_INFO!B136=0,\" \",COUNTRY_INFO!B136)","v":"Pwani"},{"$f":"IF(COUNTRY_INFO!C136=0,\" \",COUNTRY_INFO!C136)","v":"Mafia District Council"},{"$f":"IF(OR(COUNTRY_INFO!$T$9:$T$1000=\"T3 (ALB/MBD)\",COUNTRY_INFO!$U$9:$U$1000=\"T3 (ALB/MBD)\"), \"T3 (ALB/MBD)\", \" \")","v":" "},null,null,null,null,null,0,null,null,null,0," "," "," "," "]
[{"$f":"IF(COUNTRY_INFO!A137=0,\" \",COUNTRY_INFO!A137)","v":"Tanzania"},{"$f":"IF(COUNTRY_INFO!B137=0,\" \",COUNTRY_INFO!B137)","v":"Pwani"},{"$f":"IF(COUNTRY_INFO!C137=0,\" \",COUNTRY_INFO!C137)","v":"Mkuranga District Council"},{"$f":"IF(OR(COUNTRY_INFO!$T$9:$T$1000=\"T3 (ALB/MBD)\",COUNTRY_INFO!$U$9:$U$1000=\"T3 (ALB/MBD)\"), \"T3 (ALB/MBD)\", \" \")","v":"T3 (ALB/MBD)"},"ALB","April - 2018",null,74369,null,74369,null,64242,null,64242," ",86.382767013137197," ",86.382767013137197]
[{"$f":"IF(COUNTRY_INFO!A138=0,\" \",COUNTRY_INFO!A138)","v":"Tanzania"},{"$f":"IF(COUNTRY_INFO!B138=0,\" \",COUNTRY_INFO!B138)","v":"Pwani"},{"$f":"IF(COUNTRY_INFO!C138=0,\" \",COUNTRY_INFO!C138)","v":"Rufiji District Council"},{"$f":"IF(OR(COUNTRY_INFO!$T$9:$T$1000=\"T3 (ALB/MBD)\",COUNTRY_INFO!$U$9:$U$1000=\"T3 (ALB/MBD)\"), \"T3 (ALB/MBD)\", \" \")","v":"T3 (ALB/MBD)"},"ALB","April - 2018",null,26256,null,{"$f":"SUM(G138:I138)","v":26256},null,24755,null,{"$f":"SUM(K138:M138)","v":24755},{"$f":"IF(G138<>0, IF(K138/G138*100=0, \"-\", K138/G138*100), \" \")","v":" "},{"$f":"IF(H138<>0, IF(L138/H138*100=0, \"-\", L138/H138*100), \" \")","v":94.283211456429001},{"$f":"IF(I138<>0, IF(M138/I138*100=0, \"-\", M138/I138*100), \" \")","v":" "},{"$f":"IF(J138<>0, IF(N138/J138*100=0, \"-\", N138/J138*100), \" \")","v":94.283211456429001}]
[{"$f":"IF(COUNTRY_INFO!A139=0,\" \",COUNTRY_INFO!A139)","v":"Tanzania"},{"$f":"IF(COUNTRY_INFO!B139=0,\" \",COUNTRY_INFO!B139)","v":"Rukwa"},{"$f":"IF(COUNTRY_INFO!C139=0,\" \",COUNTRY_INFO!C139)","v":"Kalambo District Council"},{"$f":"IF(OR(COUNTRY_INFO!$T$9:$T$1000=\"T3 (ALB/MBD)\",COUNTRY_INFO!$U$9:$U$1000=\"T3 (ALB/MBD)\"), \"T3 (ALB/MBD)\", \" \")","v":"T3 (ALB/MBD)"},"ALB","May - 2018",null,53400,null,53400,null,49366,null,49366," ",92.445692883895134," ",92.445692883895134]
[{"$f":"IF(COUNTRY_INFO!A140=0,\" \",COUNTRY_INFO!A140)","v":"Tanzania"},{"$f":"IF(COUNTRY_INFO!B140=0,\" \",COUNTRY_INFO!B140)","v":"Rukwa"},{"$f":"IF(COUNTRY_INFO!C140=0,\" \",COUNTRY_INFO!C140)","v":"Nkasi District Council"},{"$f":"IF(OR(COUNTRY_INFO!$T$9:$T$1000=\"T3 (ALB/MBD)\",COUNTRY_INFO!$U$9:$U$1000=\"T3 (ALB/MBD)\"), \"T3 (ALB/MBD)\", \" \")","v":"T3 (ALB/MBD)"},"ALB","March - 2018",null,86665,null,86665,null,83198,null,83198," ",95.999538452662549," ",95.999538452662549]
[{"$f":"IF(COUNTRY_INFO!A141=0,\" \",COUNTRY_INFO!A141)","v":"Tanzania"},{"$f":"IF(COUNTRY_INFO!B141=0,\" \",COUNTRY_INFO!B141)","v":"Rukwa"},{"$f":"IF(COUNTRY_INFO!C141=0,\" \",COUNTRY_INFO!C141)","v":"Sumbawanga District Council"},{"$f":"IF(OR(COUNTRY_INFO!$T$9:$T$1000=\"T3 (ALB/MBD)\",COUNTRY_INFO!$U$9:$U$1000=\"T3 (ALB/MBD)\"), \"T3 (ALB/MBD)\", \" \")","v":"T3 (ALB/MBD)"},"ALB","April - 2018",null,77659,null,77659,null,74914,null,74914," ",96.46531631877825," ",96.46531631877825]
[{"$f":"IF(COUNTRY_INFO!A142=0,\" \",COUNTRY_INFO!A142)","v":"Tanzania"},{"$f":"IF(COUNTRY_INFO!B142=0,\" \",COUNTRY_INFO!B142)","v":"Rukwa"},{"$f":"IF(COUNTRY_INFO!C142=0,\" \",COUNTRY_INFO!C142)","v":"Sumbawanga Municipal Council"},{"$f":"IF(OR(COUNTRY_INFO!$T$9:$T$1000=\"T3 (ALB/MBD)\",COUNTRY_INFO!$U$9:$U$1000=\"T3 (ALB/MBD)\"), \"T3 (ALB/MBD)\", \" \")","v":"T3 (ALB/MBD)"},"ALB","April - 2018",null,85777,null,85777,null,74913,null,74913," ",87.334600184198564," ",87.334600184198564]
[{"$f":"IF(COUNTRY_INFO!A143=0,\" \",COUNTRY_INFO!A143)","v":"Tanzania"},{"$f":"IF(COUNTRY_INFO!B143=0,\" \",COUNTRY_INFO!B143)","v":"Ruvuma"},{"$f":"IF(COUNTRY_INFO!C143=0,\" \",COUNTRY_INFO!C143)","v":"Madaba District Council"},{"$f":"IF(OR(COUNTRY_INFO!$T$9:$T$1000=\"T3 (ALB/MBD)\",COUNTRY_INFO!$U$9:$U$1000=\"T3 (ALB/MBD)\"), \"T3 (ALB/MBD)\", \" \")","v":" "},null,null,null,null,null,0,null,null,null,0," "," "," "," "]
[{"$f":"IF(COUNTRY_INFO!A144=0,\" \",COUNTRY_INFO!A144)","v":"Tanzania"},{"$f":"IF(COUNTRY_INFO!B144=0,\" \",COUNTRY_INFO!B144)","v":"Ruvuma"},{"$f":"IF(COUNTRY_INFO!C144=0,\" \",COUNTRY_INFO!C144)","v":"Mbinga District Council"},{"$f":"IF(OR(COUNTRY_INFO!$T$9:$T$1000=\"T3 (ALB/MBD)\",COUNTRY_INFO!$U$9:$U$1000=\"T3 (ALB/MBD)\"), \"T3 (ALB/MBD)\", \" \")","v":" "},null,null,null,null,null,0,null,null,null,0," "," "," "," "]
[{"$f":"IF(COUNTRY_INFO!A145=0,\" \",COUNTRY_INFO!A145)","v":"Tanzania"},{"$f":"IF(COUNTRY_INFO!B145=0,\" \",COUNTRY_INFO!B145)","v":"Ruvuma"},{"$f":"IF(COUNTRY_INFO!C145=0,\" \",COUNTRY_INFO!C145)","v":"Mbinga Town Council"},{"$f":"IF(OR(COUNTRY_INFO!$T$9:$T$1000=\"T3 (ALB/MBD)\",COUNTRY_INFO!$U$9:$U$1000=\"T3 (ALB/MBD)\"), \"T3 (ALB/MBD)\", \" \")","v":" "},null,null,null,null,null,0,null,null,null,0," "," "," "," "]
[{"$f":"IF(COUNTRY_INFO!A146=0,\" \",COUNTRY_INFO!A146)","v":"Tanzania"},{"$f":"IF(COUNTRY_INFO!B146=0,\" \",COUNTRY_INFO!B146)","v":"Ruvuma"},{"$f":"IF(COUNTRY_INFO!C146=0,\" \",COUNTRY_INFO!C146)","v":"Namtumbo District Council"},{"$f":"IF(OR(COUNTRY_INFO!$T$9:$T$1000=\"T3 (ALB/MBD)\",COUNTRY_INFO!$U$9:$U$1000=\"T3 (ALB/MBD)\"), \"T3 (ALB/MBD)\", \" \")","v":" "},null,null,null,null,null,0,null,null,null,0," "," "," "," "]
[{"$f":"IF(COUNTRY_INFO!A147=0,\" \",COUNTRY_INFO!A147)","v":"Tanzania"},{"$f":"IF(COUNTRY_INFO!B147=0,\" \",COUNTRY_INFO!B147)","v":"Ruvuma"},{"$f":"IF(COUNTRY_INFO!C147=0,\" \",COUNTRY_INFO!C147)","v":"Nyasa District Council"},{"$f":"IF(OR(COUNTRY_INFO!$T$9:$T$1000=\"T3 (ALB/MBD)\",COUNTRY_INFO!$U$9:$U$1000=\"T3 (ALB/MBD)\"), \"T3 (ALB/MBD)\", \" \")","v":" "},null,null,null,null,null,0,null,null,null,0," "," "," "," "]
[{"$f":"IF(COUNTRY_INFO!A148=0,\" \",COUNTRY_INFO!A148)","v":"Tanzania"},{"$f":"IF(COUNTRY_INFO!B148=0,\" \",COUNTRY_INFO!B148)","v":"Ruvuma"},{"$f":"IF(COUNTRY_INFO!C148=0,\" \",COUNTRY_INFO!C148)","v":"Songea District Council"},{"$f":"IF(OR(COUNTRY_INFO!$T$9:$T$1000=\"T3 (ALB/MBD)\",COUNTRY_INFO!$U$9:$U$1000=\"T3 (ALB/MBD)\"), \"T3 (ALB/MBD)\", \" \")","v":" "},null,null,null,null,null,0,null,null,null,0," "," "," "," "]
[{"$f":"IF(COUNTRY_INFO!A149=0,\" \",COUNTRY_INFO!A149)","v":"Tanzania"},{"$f":"IF(COUNTRY_INFO!B149=0,\" \",COUNTRY_INFO!B149)","v":"Ruvuma"},{"$f":"IF(COUNTRY_INFO!C149=0,\" \",COUNTRY_INFO!C149)","v":"Songea Municipal Council"},{"$f":"IF(OR(COUNTRY_INFO!$T$9:$T$1000=\"T3 (ALB/MBD)\",COUNTRY_INFO!$U$9:$U$1000=\"T3 (ALB/MBD)\"), \"T3 (ALB/MBD)\", \" \")","v":" "},null,null,null,null,null,0,null,null,null,0," "," "," "," "]
[{"$f":"IF(COUNTRY_INFO!A150=0,\" \",COUNTRY_INFO!A150)","v":"Tanzania"},{"$f":"IF(COUNTRY_INFO!B150=0,\" \",COUNTRY_INFO!B150)","v":"Ruvuma"},{"$f":"IF(COUNTRY_INFO!C150=0,\" \",COUNTRY_INFO!C150)","v":"Tunduru District Council"},{"$f":"IF(OR(COUNTRY_INFO!$T$9:$T$1000=\"T3 (ALB/MBD)\",COUNTRY_INFO!$U$9:$U$1000=\"T3 (ALB/MBD)\"), \"T3 (ALB/MBD)\", \" \")","v":" "},null,null,null,null,null,0,null,null,null,0," "," "," "," "]
[{"$f":"IF(COUNTRY_INFO!A151=0,\" \",COUNTRY_INFO!A151)","v":"Tanzania"},{"$f":"IF(COUNTRY_INFO!B151=0,\" \",COUNTRY_INFO!B151)","v":"Shinyanga"},{"$f":"IF(COUNTRY_INFO!C151=0,\" \",COUNTRY_INFO!C151)","v":"Kahama Town Council"},{"$f":"IF(OR(COUNTRY_INFO!$T$9:$T$1000=\"T3 (ALB/MBD)\",COUNTRY_INFO!$U$9:$U$1000=\"T3 (ALB/MBD)\"), \"T3 (ALB/MBD)\", \" \")","v":" "},null,null,null,null,null,0,null,null,null,0," "," "," "," "]
[{"$f":"IF(COUNTRY_INFO!A152=0,\" \",COUNTRY_INFO!A152)","v":"Tanzania"},{"$f":"IF(COUNTRY_INFO!B152=0,\" \",COUNTRY_INFO!B152)","v":"Shinyanga"},{"$f":"IF(COUNTRY_INFO!C152=0,\" \",COUNTRY_INFO!C152)","v":"Kishapu District Council"},{"$f":"IF(OR(COUNTRY_INFO!$T$9:$T$1000=\"T3 (ALB/MBD)\",COUNTRY_INFO!$U$9:$U$1000=\"T3 (ALB/MBD)\"), \"T3 (ALB/MBD)\", \" \")","v":" "},null,null,null,null,null,0,null,null,null,0," "," "," "," "]
[{"$f":"IF(COUNTRY_INFO!A153=0,\" \",COUNTRY_INFO!A153)","v":"Tanzania"},{"$f":"IF(COUNTRY_INFO!B153=0,\" \",COUNTRY_INFO!B153)","v":"Shinyanga"},{"$f":"IF(COUNTRY_INFO!C153=0,\" \",COUNTRY_INFO!C153)","v":"Msalala District Council"},{"$f":"IF(OR(COUNTRY_INFO!$T$9:$T$1000=\"T3 (ALB/MBD)\",COUNTRY_INFO!$U$9:$U$1000=\"T3 (ALB/MBD)\"), \"T3 (ALB/MBD)\", \" \")","v":" "},null,null,null,null,null,0,null,null,null,0," "," "," "," "]
[{"$f":"IF(COUNTRY_INFO!A154=0,\" \",COUNTRY_INFO!A154)","v":"Tanzania"},{"$f":"IF(COUNTRY_INFO!B154=0,\" \",COUNTRY_INFO!B154)","v":"Shinyanga"},{"$f":"IF(COUNTRY_INFO!C154=0,\" \",COUNTRY_INFO!C154)","v":"Shinyanga District Council"},{"$f":"IF(OR(COUNTRY_INFO!$T$9:$T$1000=\"T3 (ALB/MBD)\",COUNTRY_INFO!$U$9:$U$1000=\"T3 (ALB/MBD)\"), \"T3 (ALB/MBD)\", \" \")","v":" "},null,null,null,null,null,0,null,null,null,0," "," "," "," "]
[{"$f":"IF(COUNTRY_INFO!A155=0,\" \",COUNTRY_INFO!A155)","v":"Tanzania"},{"$f":"IF(COUNTRY_INFO!B155=0,\" \",COUNTRY_INFO!B155)","v":"Shinyanga"},{"$f":"IF(COUNTRY_INFO!C155=0,\" \",COUNTRY_INFO!C155)","v":"Shinyanga Municipal Council"},{"$f":"IF(OR(COUNTRY_INFO!$T$9:$T$1000=\"T3 (ALB/MBD)\",COUNTRY_INFO!$U$9:$U$1000=\"T3 (ALB/MBD)\"), \"T3 (ALB/MBD)\", \" \")","v":" "},null,null,null,null,null,0,null,null,null,0," "," "," "," "]
[{"$f":"IF(COUNTRY_INFO!A156=0,\" \",COUNTRY_INFO!A156)","v":"Tanzania"},{"$f":"IF(COUNTRY_INFO!B156=0,\" \",COUNTRY_INFO!B156)","v":"Shinyanga"},{"$f":"IF(COUNTRY_INFO!C156=0,\" \",COUNTRY_INFO!C156)","v":"Ushetu District Council"},{"$f":"IF(OR(COUNTRY_INFO!$T$9:$T$1000=\"T3 (ALB/MBD)\",COUNTRY_INFO!$U$9:$U$1000=\"T3 (ALB/MBD)\"), \"T3 (ALB/MBD)\", \" \")","v":" "},null,null,null,null,null,0,null,null,null,0," "," "," "," "]
[{"$f":"IF(COUNTRY_INFO!A157=0,\" \",COUNTRY_INFO!A157)","v":"Tanzania"},{"$f":"IF(COUNTRY_INFO!B157=0,\" \",COUNTRY_INFO!B157)","v":"Simiyu"},{"$f":"IF(COUNTRY_INFO!C157=0,\" \",COUNTRY_INFO!C157)","v":"Bariadi District Council"},{"$f":"IF(OR(COUNTRY_INFO!$T$9:$T$1000=\"T3 (ALB/MBD)\",COUNTRY_INFO!$U$9:$U$1000=\"T3 (ALB/MBD)\"), \"T3 (ALB/MBD)\", \" \")","v":" "},null,null,null,null,null,0,null,null,null,0," "," "," "," "]
[{"$f":"IF(COUNTRY_INFO!A158=0,\" \",COUNTRY_INFO!A158)","v":"Tanzania"},{"$f":"IF(COUNTRY_INFO!B158=0,\" \",COUNTRY_INFO!B158)","v":"Simiyu"},{"$f":"IF(COUNTRY_INFO!C158=0,\" \",COUNTRY_INFO!C158)","v":"Bariadi Town Council"},{"$f":"IF(OR(COUNTRY_INFO!$T$9:$T$1000=\"T3 (ALB/MBD)\",COUNTRY_INFO!$U$9:$U$1000=\"T3 (ALB/MBD)\"), \"T3 (ALB/MBD)\", \" \")","v":" "},null,null,null,null,null,0,null,null,null,0," "," "," "," "]
[{"$f":"IF(COUNTRY_INFO!A159=0,\" \",COUNTRY_INFO!A159)","v":"Tanzania"},{"$f":"IF(COUNTRY_INFO!B159=0,\" \",COUNTRY_INFO!B159)","v":"Simiyu"},{"$f":"IF(COUNTRY_INFO!C159=0,\" \",COUNTRY_INFO!C159)","v":"Busega District Council"},{"$f":"IF(OR(COUNTRY_INFO!$T$9:$T$1000=\"T3 (ALB/MBD)\",COUNTRY_INFO!$U$9:$U$1000=\"T3 (ALB/MBD)\"), \"T3 (ALB/MBD)\", \" \")","v":" "},null,null,null,null,null,0,null,null,null,0," "," "," "," "]
[{"$f":"IF(COUNTRY_INFO!A160=0,\" \",COUNTRY_INFO!A160)","v":"Tanzania"},{"$f":"IF(COUNTRY_INFO!B160=0,\" \",COUNTRY_INFO!B160)","v":"Simiyu"},{"$f":"IF(COUNTRY_INFO!C160=0,\" \",COUNTRY_INFO!C160)","v":"Itilima District Council"},{"$f":"IF(OR(COUNTRY_INFO!$T$9:$T$1000=\"T3 (ALB/MBD)\",COUNTRY_INFO!$U$9:$U$1000=\"T3 (ALB/MBD)\"), \"T3 (ALB/MBD)\", \" \")","v":" "},null,null,null,null,null,0,null,null,null,0," "," "," "," "]
[{"$f":"IF(COUNTRY_INFO!A161=0,\" \",COUNTRY_INFO!A161)","v":"Tanzania"},{"$f":"IF(COUNTRY_INFO!B161=0,\" \",COUNTRY_INFO!B161)","v":"Simiyu"},{"$f":"IF(COUNTRY_INFO!C161=0,\" \",COUNTRY_INFO!C161)","v":"Maswa District Council"},{"$f":"IF(OR(COUNTRY_INFO!$T$9:$T$1000=\"T3 (ALB/MBD)\",COUNTRY_INFO!$U$9:$U$1000=\"T3 (ALB/MBD)\"), \"T3 (ALB/MBD)\", \" \")","v":" "},null,null,null,null,null,0,null,null,null,0," "," "," "," "]
[{"$f":"IF(COUNTRY_INFO!A162=0,\" \",COUNTRY_INFO!A162)","v":"Tanzania"},{"$f":"IF(COUNTRY_INFO!B162=0,\" \",COUNTRY_INFO!B162)","v":"Simiyu"},{"$f":"IF(COUNTRY_INFO!C162=0,\" \",COUNTRY_INFO!C162)","v":"Meatu District Council"},{"$f":"IF(OR(COUNTRY_INFO!$T$9:$T$1000=\"T3 (ALB/MBD)\",COUNTRY_INFO!$U$9:$U$1000=\"T3 (ALB/MBD)\"), \"T3 (ALB/MBD)\", \" \")","v":" "},null,null,null,null,null,0,null,null,null,0," "," "," "," "]
[{"$f":"IF(COUNTRY_INFO!A163=0,\" \",COUNTRY_INFO!A163)","v":"Tanzania"},{"$f":"IF(COUNTRY_INFO!B163=0,\" \",COUNTRY_INFO!B163)","v":"Singida"},{"$f":"IF(COUNTRY_INFO!C163=0,\" \",COUNTRY_INFO!C163)","v":"Ikungi District Council"},{"$f":"IF(OR(COUNTRY_INFO!$T$9:$T$1000=\"T3 (ALB/MBD)\",COUNTRY_INFO!$U$9:$U$1000=\"T3 (ALB/MBD)\"), \"T3 (ALB/MBD)\", \" \")","v":"T3 (ALB/MBD)"},"ALB","April - 2018",null,74024,null,74024,null,72267,null,72267," ",97.626445477142553," ",97.626445477142553]
[{"$f":"IF(COUNTRY_INFO!A164=0,\" \",COUNTRY_INFO!A164)","v":"Tanzania"},{"$f":"IF(COUNTRY_INFO!B164=0,\" \",COUNTRY_INFO!B164)","v":"Singida"},{"$f":"IF(COUNTRY_INFO!C164=0,\" \",COUNTRY_INFO!C164)","v":"Iramba District Council"},{"$f":"IF(OR(COUNTRY_INFO!$T$9:$T$1000=\"T3 (ALB/MBD)\",COUNTRY_INFO!$U$9:$U$1000=\"T3 (ALB/MBD)\"), \"T3 (ALB/MBD)\", \" \")","v":"T3 (ALB/MBD)"},"ALB","April - 2018",null,58322,null,58322,null,58281,null,58281," ",99.929700627550503," ",99.929700627550503]
[{"$f":"IF(COUNTRY_INFO!A165=0,\" \",COUNTRY_INFO!A165)","v":"Tanzania"},{"$f":"IF(COUNTRY_INFO!B165=0,\" \",COUNTRY_INFO!B165)","v":"Singida"},{"$f":"IF(COUNTRY_INFO!C165=0,\" \",COUNTRY_INFO!C165)","v":"Itigi District Council"},{"$f":"IF(OR(COUNTRY_INFO!$T$9:$T$1000=\"T3 (ALB/MBD)\",COUNTRY_INFO!$U$9:$U$1000=\"T3 (ALB/MBD)\"), \"T3 (ALB/MBD)\", \" \")","v":"T3 (ALB/MBD)"},"ALB","April - 2018",null,35203,null,35203,null,31662,null,31662," ",89.941198193335794," ",89.941198193335794]
[{"$f":"IF(COUNTRY_INFO!A166=0,\" \",COUNTRY_INFO!A166)","v":"Tanzania"},{"$f":"IF(COUNTRY_INFO!B166=0,\" \",COUNTRY_INFO!B166)","v":"Singida"},{"$f":"IF(COUNTRY_INFO!C166=0,\" \",COUNTRY_INFO!C166)","v":"Manyoni District Council"},{"$f":"IF(OR(COUNTRY_INFO!$T$9:$T$1000=\"T3 (ALB/MBD)\",COUNTRY_INFO!$U$9:$U$1000=\"T3 (ALB/MBD)\"), \"T3 (ALB/MBD)\", \" \")","v":"T3 (ALB/MBD)"},"ALB","April - 2018",null,43089,null,43089,null,42102,null,42102," ",97.709392188261504," ",97.709392188261504]
[{"$f":"IF(COUNTRY_INFO!A167=0,\" \",COUNTRY_INFO!A167)","v":"Tanzania"},{"$f":"IF(COUNTRY_INFO!B167=0,\" \",COUNTRY_INFO!B167)","v":"Singida"},{"$f":"IF(COUNTRY_INFO!C167=0,\" \",COUNTRY_INFO!C167)","v":"Mkalama District Council"},{"$f":"IF(OR(COUNTRY_INFO!$T$9:$T$1000=\"T3 (ALB/MBD)\",COUNTRY_INFO!$U$9:$U$1000=\"T3 (ALB/MBD)\"), \"T3 (ALB/MBD)\", \" \")","v":"T3 (ALB/MBD)"},"ALB","April - 2018",null,58738,null,58738,null,51797,null,51797," ",88.183118253941231," ",88.183118253941231]
[{"$f":"IF(COUNTRY_INFO!A168=0,\" \",COUNTRY_INFO!A168)","v":"Tanzania"},{"$f":"IF(COUNTRY_INFO!B168=0,\" \",COUNTRY_INFO!B168)","v":"Singida"},{"$f":"IF(COUNTRY_INFO!C168=0,\" \",COUNTRY_INFO!C168)","v":"Singida District Council"},{"$f":"IF(OR(COUNTRY_INFO!$T$9:$T$1000=\"T3 (ALB/MBD)\",COUNTRY_INFO!$U$9:$U$1000=\"T3 (ALB/MBD)\"), \"T3 (ALB/MBD)\", \" \")","v":"T3 (ALB/MBD)"},"ALB","April - 2018",null,71535,null,71535,null,68228,null,68228," ",95.377088138673372," ",95.377088138673372]
[{"$f":"IF(COUNTRY_INFO!A169=0,\" \",COUNTRY_INFO!A169)","v":"Tanzania"},{"$f":"IF(COUNTRY_INFO!B169=0,\" \",COUNTRY_INFO!B169)","v":"Singida"},{"$f":"IF(COUNTRY_INFO!C169=0,\" \",COUNTRY_INFO!C169)","v":"Singida Municipal Council"},{"$f":"IF(OR(COUNTRY_INFO!$T$9:$T$1000=\"T3 (ALB/MBD)\",COUNTRY_INFO!$U$9:$U$1000=\"T3 (ALB/MBD)\"), \"T3 (ALB/MBD)\", \" \")","v":"T3 (ALB/MBD)"},"ALB","April - 2018",null,44573,null,44573,null,42718,null,42718," ",95.838287752675384," ",95.838287752675384]
[{"$f":"IF(COUNTRY_INFO!A170=0,\" \",COUNTRY_INFO!A170)","v":"Tanzania"},{"$f":"IF(COUNTRY_INFO!B170=0,\" \",COUNTRY_INFO!B170)","v":"Songwe"},{"$f":"IF(COUNTRY_INFO!C170=0,\" \",COUNTRY_INFO!C170)","v":"Ileje District Council"},{"$f":"IF(OR(COUNTRY_INFO!$T$9:$T$1000=\"T3 (ALB/MBD)\",COUNTRY_INFO!$U$9:$U$1000=\"T3 (ALB/MBD)\"), \"T3 (ALB/MBD)\", \" \")","v":" "},null,null,null,null,null,0,null,null,null,0," "," "," "," "]
[{"$f":"IF(COUNTRY_INFO!A171=0,\" \",COUNTRY_INFO!A171)","v":"Tanzania"},{"$f":"IF(COUNTRY_INFO!B171=0,\" \",COUNTRY_INFO!B171)","v":"Songwe"},{"$f":"IF(COUNTRY_INFO!C171=0,\" \",COUNTRY_INFO!C171)","v":"Mbozi District Council"},{"$f":"IF(OR(COUNTRY_INFO!$T$9:$T$1000=\"T3 (ALB/MBD)\",COUNTRY_INFO!$U$9:$U$1000=\"T3 (ALB/MBD)\"), \"T3 (ALB/MBD)\", \" \")","v":" "},null,null,null,null,null,0,null,null,null,0," "," "," "," "]
[{"$f":"IF(COUNTRY_INFO!A172=0,\" \",COUNTRY_INFO!A172)","v":"Tanzania"},{"$f":"IF(COUNTRY_INFO!B172=0,\" \",COUNTRY_INFO!B172)","v":"Songwe"},{"$f":"IF(COUNTRY_INFO!C172=0,\" \",COUNTRY_INFO!C172)","v":"Momba District Council"},{"$f":"IF(OR(COUNTRY_INFO!$T$9:$T$1000=\"T3 (ALB/MBD)\",COUNTRY_INFO!$U$9:$U$1000=\"T3 (ALB/MBD)\"), \"T3 (ALB/MBD)\", \" \")","v":" "},null,null,null,null,null,0,null,null,null,0," "," "," "," "]
[{"$f":"IF(COUNTRY_INFO!A173=0,\" \",COUNTRY_INFO!A173)","v":"Tanzania"},{"$f":"IF(COUNTRY_INFO!B173=0,\" \",COUNTRY_INFO!B173)","v":"Songwe"},{"$f":"IF(COUNTRY_INFO!C173=0,\" \",COUNTRY_INFO!C173)","v":"Songwe District Council"},{"$f":"IF(OR(COUNTRY_INFO!$T$9:$T$1000=\"T3 (ALB/MBD)\",COUNTRY_INFO!$U$9:$U$1000=\"T3 (ALB/MBD)\"), \"T3 (ALB/MBD)\", \" \")","v":" "},null,null,null,null,null,0,null,null,null,0," "," "," "," "]
[{"$f":"IF(COUNTRY_INFO!A174=0,\" \",COUNTRY_INFO!A174)","v":"Tanzania"},{"$f":"IF(COUNTRY_INFO!B174=0,\" \",COUNTRY_INFO!B174)","v":"Songwe"},{"$f":"IF(COUNTRY_INFO!C174=0,\" \",COUNTRY_INFO!C174)","v":"Tunduma Town Council"},{"$f":"IF(OR(COUNTRY_INFO!$T$9:$T$1000=\"T3 (ALB/MBD)\",COUNTRY_INFO!$U$9:$U$1000=\"T3 (ALB/MBD)\"), \"T3 (ALB/MBD)\", \" \")","v":" "},null,null,null,null,null,0,null,null,null,0," "," "," "," "]
[{"$f":"IF(COUNTRY_INFO!A175=0,\" \",COUNTRY_INFO!A175)","v":"Tanzania"},{"$f":"IF(COUNTRY_INFO!B175=0,\" \",COUNTRY_INFO!B175)","v":"Tabora"},{"$f":"IF(COUNTRY_INFO!C175=0,\" \",COUNTRY_INFO!C175)","v":"Igunga District Council"},{"$f":"IF(OR(COUNTRY_INFO!$T$9:$T$1000=\"T3 (ALB/MBD)\",COUNTRY_INFO!$U$9:$U$1000=\"T3 (ALB/MBD)\"), \"T3 (ALB/MBD)\", \" \")","v":"T3 (ALB/MBD)"},"ALB","May - 2018",null,93962,null,93962,null,86901,null,86901," ",92.485259998722896," ",92.485259998722896]
[{"$f":"IF(COUNTRY_INFO!A176=0,\" \",COUNTRY_INFO!A176)","v":"Tanzania"},{"$f":"IF(COUNTRY_INFO!B176=0,\" \",COUNTRY_INFO!B176)","v":"Tabora"},{"$f":"IF(COUNTRY_INFO!C176=0,\" \",COUNTRY_INFO!C176)","v":"Kaliua District Council"},{"$f":"IF(OR(COUNTRY_INFO!$T$9:$T$1000=\"T3 (ALB/MBD)\",COUNTRY_INFO!$U$9:$U$1000=\"T3 (ALB/MBD)\"), \"T3 (ALB/MBD)\", \" \")","v":" "},null,null,null,null,null,0,null,null,null,0," "," "," "," "]
[{"$f":"IF(COUNTRY_INFO!A177=0,\" \",COUNTRY_INFO!A177)","v":"Tanzania"},{"$f":"IF(COUNTRY_INFO!B177=0,\" \",COUNTRY_INFO!B177)","v":"Tabora"},{"$f":"IF(COUNTRY_INFO!C177=0,\" \",COUNTRY_INFO!C177)","v":"Nzega District Council"},{"$f":"IF(OR(COUNTRY_INFO!$T$9:$T$1000=\"T3 (ALB/MBD)\",COUNTRY_INFO!$U$9:$U$1000=\"T3 (ALB/MBD)\"), \"T3 (ALB/MBD)\", \" \")","v":"T3 (ALB/MBD)"},"ALB","April - 2018",null,104900,null,104900,null,104005,null,104005," ",99.146806482364155," ",99.146806482364155]
[{"$f":"IF(COUNTRY_INFO!A178=0,\" \",COUNTRY_INFO!A178)","v":"Tanzania"},{"$f":"IF(COUNTRY_INFO!B178=0,\" \",COUNTRY_INFO!B178)","v":"Tabora"},{"$f":"IF(COUNTRY_INFO!C178=0,\" \",COUNTRY_INFO!C178)","v":"Nzega Town Council"},{"$f":"IF(OR(COUNTRY_INFO!$T$9:$T$1000=\"T3 (ALB/MBD)\",COUNTRY_INFO!$U$9:$U$1000=\"T3 (ALB/MBD)\"), \"T3 (ALB/MBD)\", \" \")","v":"T3 (ALB/MBD)"},"ALB","April - 2018",null,21189,null,21189,null,18511,null,18511," ",87.361366746896977," ",87.361366746896977]
[{"$f":"IF(COUNTRY_INFO!A179=0,\" \",COUNTRY_INFO!A179)","v":"Tanzania"},{"$f":"IF(COUNTRY_INFO!B179=0,\" \",COUNTRY_INFO!B179)","v":"Tabora"},{"$f":"IF(COUNTRY_INFO!C179=0,\" \",COUNTRY_INFO!C179)","v":"Sikonge District Council"},{"$f":"IF(OR(COUNTRY_INFO!$T$9:$T$1000=\"T3 (ALB/MBD)\",COUNTRY_INFO!$U$9:$U$1000=\"T3 (ALB/MBD)\"), \"T3 (ALB/MBD)\", \" \")","v":"T3 (ALB/MBD)"},"ALB","April - 2018",null,43707,null,43707,null,43133,null,43133," ",98.686709222778958," ",98.686709222778958]
[{"$f":"IF(COUNTRY_INFO!A180=0,\" \",COUNTRY_INFO!A180)","v":"Tanzania"},{"$f":"IF(COUNTRY_INFO!B180=0,\" \",COUNTRY_INFO!B180)","v":"Tabora"},{"$f":"IF(COUNTRY_INFO!C180=0,\" \",COUNTRY_INFO!C180)","v":"Tabora Municipal Council"},{"$f":"IF(OR(COUNTRY_INFO!$T$9:$T$1000=\"T3 (ALB/MBD)\",COUNTRY_INFO!$U$9:$U$1000=\"T3 (ALB/MBD)\"), \"T3 (ALB/MBD)\", \" \")","v":" "},null,null,null,null,null,0,null,null,null,0," "," "," "," "]
[{"$f":"IF(COUNTRY_INFO!A181=0,\" \",COUNTRY_INFO!A181)","v":"Tanzania"},{"$f":"IF(COUNTRY_INFO!B181=0,\" \",COUNTRY_INFO!B181)","v":"Tabora"},{"$f":"IF(COUNTRY_INFO!C181=0,\" \",COUNTRY_INFO!C181)","v":"Urambo District Council"},{"$f":"IF(OR(COUNTRY_INFO!$T$9:$T$1000=\"T3 (ALB/MBD)\",COUNTRY_INFO!$U$9:$U$1000=\"T3 (ALB/MBD)\"), \"T3 (ALB/MBD)\", \" \")","v":" "},null,null,null,null,null,0,null,null,null,0," "," "," "," "]
[{"$f":"IF(COUNTRY_INFO!A182=0,\" \",COUNTRY_INFO!A182)","v":"Tanzania"},{"$f":"IF(COUNTRY_INFO!B182=0,\" \",COUNTRY_INFO!B182)","v":"Tabora"},{"$f":"IF(COUNTRY_INFO!C182=0,\" \",COUNTRY_INFO!C182)","v":"Uyui District Council"},{"$f":"IF(OR(COUNTRY_INFO!$T$9:$T$1000=\"T3 (ALB/MBD)\",COUNTRY_INFO!$U$9:$U$1000=\"T3 (ALB/MBD)\"), \"T3 (ALB/MBD)\", \" \")","v":" "},null,null,null,null,null,0,null,null,null,0," "," "," "," "]
[{"$f":"IF(COUNTRY_INFO!A183=0,\" \",COUNTRY_INFO!A183)","v":"Tanzania"},{"$f":"IF(COUNTRY_INFO!B183=0,\" \",COUNTRY_INFO!B183)","v":"Tanga"},{"$f":"IF(COUNTRY_INFO!C183=0,\" \",COUNTRY_INFO!C183)","v":"Bumbuli District Council"},{"$f":"IF(OR(COUNTRY_INFO!$T$9:$T$1000=\"T3 (ALB/MBD)\",COUNTRY_INFO!$U$9:$U$1000=\"T3 (ALB/MBD)\"), \"T3 (ALB/MBD)\", \" \")","v":" "},null,null,null,null,null,0,null,null,null,0," "," "," "," "]
[{"$f":"IF(COUNTRY_INFO!A184=0,\" \",COUNTRY_INFO!A184)","v":"Tanzania"},{"$f":"IF(COUNTRY_INFO!B184=0,\" \",COUNTRY_INFO!B184)","v":"Tanga"},{"$f":"IF(COUNTRY_INFO!C184=0,\" \",COUNTRY_INFO!C184)","v":"Handeni District Council"},{"$f":"IF(OR(COUNTRY_INFO!$T$9:$T$1000=\"T3 (ALB/MBD)\",COUNTRY_INFO!$U$9:$U$1000=\"T3 (ALB/MBD)\"), \"T3 (ALB/MBD)\", \" \")","v":" "},null,null,null,null,null,0,null,null,null,0," "," "," "," "]
[{"$f":"IF(COUNTRY_INFO!A185=0,\" \",COUNTRY_INFO!A185)","v":"Tanzania"},{"$f":"IF(COUNTRY_INFO!B185=0,\" \",COUNTRY_INFO!B185)","v":"Tanga"},{"$f":"IF(COUNTRY_INFO!C185=0,\" \",COUNTRY_INFO!C185)","v":"Handeni Town Council"},{"$f":"IF(OR(COUNTRY_INFO!$T$9:$T$1000=\"T3 (ALB/MBD)\",COUNTRY_INFO!$U$9:$U$1000=\"T3 (ALB/MBD)\"), \"T3 (ALB/MBD)\", \" \")","v":" "},null,null,null,null,null,0,null,null,null,0," "," "," "," "]
[{"$f":"IF(COUNTRY_INFO!A186=0,\" \",COUNTRY_INFO!A186)","v":"Tanzania"},{"$f":"IF(COUNTRY_INFO!B186=0,\" \",COUNTRY_INFO!B186)","v":"Tanga"},{"$f":"IF(COUNTRY_INFO!C186=0,\" \",COUNTRY_INFO!C186)","v":"Kilindi District Council"},{"$f":"IF(OR(COUNTRY_INFO!$T$9:$T$1000=\"T3 (ALB/MBD)\",COUNTRY_INFO!$U$9:$U$1000=\"T3 (ALB/MBD)\"), \"T3 (ALB/MBD)\", \" \")","v":" "},null,null,null,null,null,0,null,null,null,0," "," "," "," "]
[{"$f":"IF(COUNTRY_INFO!A187=0,\" \",COUNTRY_INFO!A187)","v":"Tanzania"},{"$f":"IF(COUNTRY_INFO!B187=0,\" \",COUNTRY_INFO!B187)","v":"Tanga"},{"$f":"IF(COUNTRY_INFO!C187=0,\" \",COUNTRY_INFO!C187)","v":"Korogwe District Council"},{"$f":"IF(OR(COUNTRY_INFO!$T$9:$T$1000=\"T3 (ALB/MBD)\",COUNTRY_INFO!$U$9:$U$1000=\"T3 (ALB/MBD)\"), \"T3 (ALB/MBD)\", \" \")","v":" "},null,null,null,null,null,0,null,null,null,0," "," "," "," "]
[{"$f":"IF(COUNTRY_INFO!A188=0,\" \",COUNTRY_INFO!A188)","v":"Tanzania"},{"$f":"IF(COUNTRY_INFO!B188=0,\" \",COUNTRY_INFO!B188)","v":"Tanga"},{"$f":"IF(COUNTRY_INFO!C188=0,\" \",COUNTRY_INFO!C188)","v":"Korogwe Town Council"},{"$f":"IF(OR(COUNTRY_INFO!$T$9:$T$1000=\"T3 (ALB/MBD)\",COUNTRY_INFO!$U$9:$U$1000=\"T3 (ALB/MBD)\"), \"T3 (ALB/MBD)\", \" \")","v":" "},null,null,null,null,null,0,null,null,null,0," "," "," "," "]
[{"$f":"IF(COUNTRY_INFO!A189=0,\" \",COUNTRY_INFO!A189)","v":"Tanzania"},{"$f":"IF(COUNTRY_INFO!B189=0,\" \",COUNTRY_INFO!B189)","v":"Tanga"},{"$f":"IF(COUNTRY_INFO!C189=0,\" \",COUNTRY_INFO!C189)","v":"Lushoto District Council"},{"$f":"IF(OR(COUNTRY_INFO!$T$9:$T$1000=\"T3 (ALB/MBD)\",COUNTRY_INFO!$U$9:$U$1000=\"T3 (ALB/MBD)\"), \"T3 (ALB/MBD)\", \" \")","v":" "},null,null,null,null,null,0,null,null,null,0," "," "," "," "]
[{"$f":"IF(COUNTRY_INFO!A190=0,\" \",COUNTRY_INFO!A190)","v":"Tanzania"},{"$f":"IF(COUNTRY_INFO!B190=0,\" \",COUNTRY_INFO!B190)","v":"Tanga"},{"$f":"IF(COUNTRY_INFO!C190=0,\" \",COUNTRY_INFO!C190)","v":"Mkinga District Council"},{"$f":"IF(OR(COUNTRY_INFO!$T$9:$T$1000=\"T3 (ALB/MBD)\",COUNTRY_INFO!$U$9:$U$1000=\"T3 (ALB/MBD)\"), \"T3 (ALB/MBD)\", \" \")","v":" "},null,null,null,null,null,0,null,null,null,0," "," "," "," "]
[{"$f":"IF(COUNTRY_INFO!A191=0,\" \",COUNTRY_INFO!A191)","v":"Tanzania"},{"$f":"IF(COUNTRY_INFO!B191=0,\" \",COUNTRY_INFO!B191)","v":"Tanga"},{"$f":"IF(COUNTRY_INFO!C191=0,\" \",COUNTRY_INFO!C191)","v":"Muheza District Council"},{"$f":"IF(OR(COUNTRY_INFO!$T$9:$T$1000=\"T3 (ALB/MBD)\",COUNTRY_INFO!$U$9:$U$1000=\"T3 (ALB/MBD)\"), \"T3 (ALB/MBD)\", \" \")","v":" "},null,null,null,null,null,0,null,null,null,0," "," "," "," "]
[{"$f":"IF(COUNTRY_INFO!A192=0,\" \",COUNTRY_INFO!A192)","v":"Tanzania"},{"$f":"IF(COUNTRY_INFO!B192=0,\" \",COUNTRY_INFO!B192)","v":"Tanga"},{"$f":"IF(COUNTRY_INFO!C192=0,\" \",COUNTRY_INFO!C192)","v":"Pangani District Council"},{"$f":"IF(OR(COUNTRY_INFO!$T$9:$T$1000=\"T3 (ALB/MBD)\",COUNTRY_INFO!$U$9:$U$1000=\"T3 (ALB/MBD)\"), \"T3 (ALB/MBD)\", \" \")","v":" "},null,null,null,null,null,0,null,null,null,0," "," "," "," "]
[{"$f":"IF(COUNTRY_INFO!A193=0,\" \",COUNTRY_INFO!A193)","v":"Tanzania"},{"$f":"IF(COUNTRY_INFO!B193=0,\" \",COUNTRY_INFO!B193)","v":"Tanga"},{"$f":"IF(COUNTRY_INFO!C193=0,\" \",COUNTRY_INFO!C193)","v":"Tanga City Council"},{"$f":"IF(OR(COUNTRY_INFO!$T$9:$T$1000=\"T3 (ALB/MBD)\",COUNTRY_INFO!$U$9:$U$1000=\"T3 (ALB/MBD)\"), \"T3 (ALB/MBD)\", \" \")","v":" "},null,null,null,null,null,0,null,null,null,0," "," "," "," "]

{"sheet":"T3_R2","index":8,"n_rows":193,"n_cols":18,"rows_kept":193,"cut":false,"hidden":false,"merged":[[5,6,5,9],[5,10,5,13],[5,14,5,17],[3,0,3,2],[5,0,5,2],[5,3,6,3],[5,5,6,5],[5,4,6,4]]}
["T 3 - Albendazole (ALB) or Mebendazole (MBD) - Round 2"]
["Administrative structure, population requiring PC by age group, population treated by age group and coverage"]
[]
["TOTAL",null,null,null,null,null,{"$f":"SUM(G$9:G$1000)","v":0},0,0,0,0,0,0,0,{"$f":"IF(G4<>0, IF(K4/G4*100=0, \"-\", K4/G4*100), \" \")","v":" "},{"$f":"IF(H4<>0, IF(L4/H4*100=0, \"-\", L4/H4*100), \" \")","v":" "},{"$f":"IF(I4<>0, IF(M4/I4*100=0, \"-\", M4/I4*100), \" \")","v":" "},{"$f":"IF(J4<>0, IF(N4/J4*100=0, \"-\", N4/J4*100), \" \")","v":" "}]
[]
[null,null,null,"PC implemented","Medicine","Date","Population targeted for T3",null,null,null,"Population treated",null,null,null,"Programme coverage (%)"]
["Country","Province/State","District",null,null,null,"PreSAC","SAC","Adults","Total","PreSAC","SAC","Adults","Total","PreSAC","SAC","Adults","Total"]
[]
[{"$f":"IF(COUNTRY_INFO!A9=0,\" \",COUNTRY_INFO!A9)","v":"Tanzania"},{"$f":"IF(COUNTRY_INFO!B9=0,\" \",COUNTRY_INFO!B9)","v":"Arusha"},{"$f":"IF(COUNTRY_INFO!C9=0,\" \",COUNTRY_INFO!C9)","v":"Arusha City Council"},{"$f":"IF(AND(COUNTRY_INFO!$T$9:$T$1000=\"T3 (ALB/MBD)\",COUNTRY_INFO!$U$9:$U$1000=\"T3 (ALB/MBD)\"), \"T3 (ALB/MBD)\", \" \")","v":" "},null,null,null,null,null,{"$f":"SUM(G9:I9)","v":0},null,null,null,{"$f":"SUM(K9:M9)","v":0},{"$f":"IF(G9<>0, IF(K9/G9*100=0, \"-\", K9/G9*100), \" \")","v":" "}," "," "," "]
[{"$f":"IF(COUNTRY_INFO!A10=0,\" \",COUNTRY_INFO!A10)","v":"Tanzania"},{"$f":"IF(COUNTRY_INFO!B10=0,\" \",COUNTRY_INFO!B10)","v":"Arusha"},{"$f":"IF(COUNTRY_INFO!C10=0,\" \",COUNTRY_INFO!C10)","v":"Arusha District Council"},{"$f":"IF(AND(COUNTRY_INFO!$T$9:$T$1000=\"T3 (ALB/MBD)\",COUNTRY_INFO!$U$9:$U$1000=\"T3 (ALB/MBD)\"), \"T3 (ALB/MBD)\", \" \")","v":" "},null,null,null,null,null,{"$f":"SUM(G10:I10)","v":0},null,null,null,{"$f":"SUM(K10:M10)","v":0},{"$f":"IF(G10<>0, IF(K10/G10*100=0, \"-\", K10/G10*100), \" \")","v":" "},{"$f":"IF(H10<>0, IF(L10/H10*100=0, \"-\", L10/H10*100), \" \")","v":" "},{"$f":"IF(I10<>0, IF(M10/I10*100=0, \"-\", M10/I10*100), \" \")","v":" "},{"$f":"IF(J10<>0, IF(N10/J10*100=0, \"-\", N10/J10*100), \" \")","v":" "}]
[{"$f":"IF(COUNTRY_INFO!A11=0,\" \",COUNTRY_INFO!A11)","v":"Tanzania"},{"$f":"IF(COUNTRY_INFO!B11=0,\" \",COUNTRY_INFO!B11)","v":"Arusha"},{"$f":"IF(COUNTRY_INFO!C11=0,\" \",COUNTRY_INFO!C11)","v":"Karatu District Council"},{"$f":"IF(AND(COUNTRY_INFO!$T$9:$T$1000=\"T3 (ALB/MBD)\",COUNTRY_INFO!$U$9:$U$1000=\"T3 (ALB/MBD)\"), \"T3 (ALB/MBD)\", \" \")","v":" "},null,null,null,null,null,0,null,null,null,0," "," "," "," "]
[{"$f":"IF(COUNTRY_INFO!A12=0,\" \",COUNTRY_INFO!A12)","v":"Tanzania"},{"$f":"IF(COUNTRY_INFO!B12=0,\" \",COUNTRY_INFO!B12)","v":"Arusha"},{"$f":"IF(COUNTRY_INFO!C12=0,\" \",COUNTRY_INFO!C12)","v":"Longido District Council"},{"$f":"IF(AND(COUNTRY_INFO!$T$9:$T$1000=\"T3 (ALB/MBD)\",COUNTRY_INFO!$U$9:$U$1000=\"T3 (ALB/MBD)\"), \"T3 (ALB/MBD)\", \" \")","v":" "},null,null,null,null,null,0,null,null,null,0," "," "," "," "]
[{"$f":"IF(COUNTRY_INFO!A13=0,\" \",COUNTRY_INFO!A13)","v":"Tanzania"},{"$f":"IF(COUNTRY_INFO!B13=0,\" \",COUNTRY_INFO!B13)","v":"Arusha"},{"$f":"IF(COUNTRY_INFO!C13=0,\" \",COUNTRY_INFO!C13)","v":"Meru District Council"},{"$f":"IF(AND(COUNTRY_INFO!$T$9:$T$1000=\"T3 (ALB/MBD)\",COUNTRY_INFO!$U$9:$U$1000=\"T3 (ALB/MBD)\"), \"T3 (ALB/MBD)\", \" \")","v":" "},null,null,null,null,null,0,null,null,null,0," "," "," "," "]
[{"$f":"IF(COUNTRY_INFO!A14=0,\" \",COUNTRY_INFO!A14)","v":"Tanzania"},{"$f":"IF(COUNTRY_INFO!B14=0,\" \",COUNTRY_INFO!B14)","v":"Arusha"},{"$f":"IF(COUNTRY_INFO!C14=0,\" \",COUNTRY_INFO!C14)","v":"Monduli District Council"},{"$f":"IF(AND(COUNTRY_INFO!$T$9:$T$1000=\"T3 (ALB/MBD)\",COUNTRY_INFO!$U$9:$U$1000=\"T3 (ALB/MBD)\"), \"T3 (ALB/MBD)\", \" \")","v":" "},null,null,null,null,null,0,null,null,null,0," "," "," "," "]
[{"$f":"IF(COUNTRY_INFO!A15=0,\" \",COUNTRY_INFO!A15)","v":"Tanzania"},{"$f":"IF(COUNTRY_INFO!B15=0,\" \",COUNTRY_INFO!B15)","v":"Arusha"},{"$f":"IF(COUNTRY_INFO!C15=0,\" \",COUNTRY_INFO!C15)","v":"Ngorongoro District Council"},{"$f":"IF(AND(COUNTRY_INFO!$T$9:$T$1000=\"T3 (ALB/MBD)\",COUNTRY_INFO!$U$9:$U$1000=\"T3 (ALB/MBD)\"), \"T3 (ALB/MBD)\", \" \")","v":" "},null,null,null,null,null,0,null,null,null,0," "," "," "," "]
[{"$f":"IF(COUNTRY_INFO!A16=0,\" \",COUNTRY_INFO!A16)","v":"Tanzania"},{"$f":"IF(COUNTRY_INFO!B16=0,\" \",COUNTRY_INFO!B16)","v":"Dar Es Salaam"},{"$f":"IF(COUNTRY_INFO!C16=0,\" \",COUNTRY_INFO!C16)","v":"Dar es Salaam City Council "},{"$f":"IF(AND(COUNTRY_INFO!$T$9:$T$1000=\"T3 (ALB/MBD)\",COUNTRY_INFO!$U$9:$U$1000=\"T3 (ALB/MBD)\"), \"T3 (ALB/MBD)\", \" \")","v":" "},null,null,null,null,null,0,null,null,null,0," "," "," "," "]
[{"$f":"IF(COUNTRY_INFO!A17=0,\" \",COUNTRY_INFO!A17)","v":"Tanzania"},{"$f":"IF(COUNTRY_INFO!B17=0,\" \",COUNTRY_INFO!B17)","v":"Dar Es Salaam"},{"$f":"IF(COUNTRY_INFO!C17=0,\" \",COUNTRY_INFO!C17)","v":"Ilala Municipal Council"},{"$f":"IF(AND(COUNTRY_INFO!$T$9:$T$1000=\"T3 (ALB/MBD)\",COUNTRY_INFO!$U$9:$U$1000=\"T3 (ALB/MBD)\"), \"T3 (ALB/MBD)\", \" \")","v":" "},null,null,null,null,null,0,null,null,null,0," "," "," "," "]
[{"$f":"IF(COUNTRY_INFO!A18=0,\" \",COUNTRY_INFO!A18)","v":"Tanzania"},{"$f":"IF(COUNTRY_INFO!B18=0,\" \",COUNTRY_INFO!B18)","v":"Dar Es Salaam"},{"$f":"IF(COUNTRY_INFO!C18=0,\" \",COUNTRY_INFO!C18)","v":"Kigamboni Municipal Council"},{"$f":"IF(AND(COUNTRY_INFO!$T$9:$T$1000=\"T3 (ALB/MBD)\",COUNTRY_INFO!$U$9:$U$1000=\"T3 (ALB/MBD)\"), \"T3 (ALB/MBD)\", \" \")","v":" "},null,null,null,null,null,0,null,null,null,0," "," "," "," "]
[{"$f":"IF(COUNTRY_INFO!A19=0,\" \",COUNTRY_INFO!A19)","v":"Tanzania"},{"$f":"IF(COUNTRY_INFO!B19=0,\" \",COUNTRY_INFO!B19)","v":"Dar Es Salaam"},{"$f":"IF(COUNTRY_INFO!C19=0,\" \",COUNTRY_INFO!C19)","v":"Kinondoni Municipal Council"},{"$f":"IF(AND(COUNTRY_INFO!$T$9:$T$1000=\"T3 (ALB/MBD)\",COUNTRY_INFO!$U$9:$U$1000=\"T3 (ALB/MBD)\"), \"T3 (ALB/MBD)\", \" \")","v":" "},null,null,null,null,null,0,null,null,null,0," "," "," "," "]
[{"$f":"IF(COUNTRY_INFO!A20=0,\" \",COUNTRY_INFO!A20)","v":"Tanzania"},{"$f":"IF(COUNTRY_INFO!B20=0,\" \",COUNTRY_INFO!B20)","v":"Dar Es Salaam"},{"$f":"IF(COUNTRY_INFO!C20=0,\" \",COUNTRY_INFO!C20)","v":"Temeke Municipal Council"},{"$f":"IF(AND(COUNTRY_INFO!$T$9:$T$1000=\"T3 (ALB/MBD)\",COUNTRY_INFO!$U$9:$U$1000=\"T3 (ALB/MBD)\"), \"T3 (ALB/MBD)\", \" \")","v":" "},null,null,null,null,null,0,null,null,null,0," "," "," "," "]
[{"$f":"IF(COUNTRY_INFO!A21=0,\" \",COUNTRY_INFO!A21)","v":"Tanzania"},{"$f":"IF(COUNTRY_INFO!B21=0,\" \",COUNTRY_INFO!B21)","v":"Dar Es Salaam"},{"$f":"IF(COUNTRY_INFO!C21=0,\" \",COUNTRY_INFO!C21)","v":"Ubungo Municipal Council"},{"$f":"IF(AND(COUNTRY_INFO!$T$9:$T$1000=\"T3 (ALB/MBD)\",COUNTRY_INFO!$U$9:$U$1000=\"T3 (ALB/MBD)\"), \"T3 (ALB/MBD)\", \" \")","v":" "},null,null,null,null,null,0,null,null,null,0," "," "," "," "]
[{"$f":"IF(COUNTRY_INFO!A22=0,\" \",COUNTRY_INFO!A22)","v":"Tanzania"},{"$f":"IF(COUNTRY_INFO!B22=0,\" \",COUNTRY_INFO!B22)","v":"Dodoma"},{"$f":"IF(COUNTRY_INFO!C22=0,\" \",COUNTRY_INFO!C22)","v":"Bahi District Council"},{"$f":"IF(AND(COUNTRY_INFO!$T$9:$T$1000=\"T3 (ALB/MBD)\",COUNTRY_INFO!$U$9:$U$1000=\"T3 (ALB/MBD)\"), \"T3 (ALB/MBD)\", \" \")","v":" "},null,null,null,null,null,0,null,null,null,0," "," "," "," "]
[{"$f":"IF(COUNTRY_INFO!A23=0,\" \",COUNTRY_INFO!A23)","v":"Tanzania"},{"$f":"IF(COUNTRY_INFO!B23=0,\" \",COUNTRY_INFO!B23)","v":"Dodoma"},{"$f":"IF(COUNTRY_INFO!C23=0,\" \",COUNTRY_INFO!C23)","v":"Chamwino District Council"},{"$f":"IF(AND(COUNTRY_INFO!$T$9:$T$1000=\"T3 (ALB/MBD)\",COUNTRY_INFO!$U$9:$U$1000=\"T3 (ALB/MBD)\"), \"T3 (ALB/MBD)\", \" \")","v":" "},null,null,null,null,null,0,null,null,null,0," "," "," "," "]
[{"$f":"IF(COUNTRY_INFO!A24=0,\" \",COUNTRY_INFO!A24)","v":"Tanzania"},{"$f":"IF(COUNTRY_INFO!B24=0,\" \",COUNTRY_INFO!B24)","v":"Dodoma"},{"$f":"IF(COUNTRY_INFO!C24=0,\" \",COUNTRY_INFO!C24)","v":"Chemba District Council"},{"$f":"IF(AND(COUNTRY_INFO!$T$9:$T$1000=\"T3 (ALB/MBD)\",COUNTRY_INFO!$U$9:$U$1000=\"T3 (ALB/MBD)\"), \"T3 (ALB/MBD)\", \" \")","v":" "},null,null,null,null,null,0,null,null,null,0," "," "," "," "]
[{"$f":"IF(COUNTRY_INFO!A25=0,\" \",COUNTRY_INFO!A25)","v":"Tanzania"},{"$f":"IF(COUNTRY_INFO!B25=0,\" \",COUNTRY_INFO!B25)","v":"Dodoma"},{"$f":"IF(COUNTRY_INFO!C25=0,\" \",COUNTRY_INFO!C25)","v":"Dodoma Municipal Council"},{"$f":"IF(AND(COUNTRY_INFO!$T$9:$T$1000=\"T3 (ALB/MBD)\",COUNTRY_INFO!$U$9:$U$1000=\"T3 (ALB/MBD)\"), \"T3 (ALB/MBD)\", \" \")","v":" "},null,null,null,null,null,0,null,null,null,0," "," "," "," "]
[{"$f":"IF(COUNTRY_INFO!A26=0,\" \",COUNTRY_INFO!A26)","v":"Tanzania"},{"$f":"IF(COUNTRY_INFO!B26=0,\" \",COUNTRY_INFO!B26)","v":"Dodoma"},{"$f":"IF(COUNTRY_INFO!C26=0,\" \",COUNTRY_INFO!C26)","v":"Kondoa District Council"},{"$f":"IF(AND(COUNTRY_INFO!$T$9:$T$1000=\"T3 (ALB/MBD)\",COUNTRY_INFO!$U$9:$U$1000=\"T3 (ALB/MBD)\"), \"T3 (ALB/MBD)\", \" \")","v":" "},null,null,null,null,null,0,null,null,null,0," "," "," "," "]
[{"$f":"IF(COUNTRY_INFO!A27=0,\" \",COUNTRY_INFO!A27)","v":"Tanzania"},{"$f":"IF(COUNTRY_INFO!B27=0,\" \",COUNTRY_INFO!B27)","v":"Dodoma"},{"$f":"IF(COUNTRY_INFO!C27=0,\" \",COUNTRY_INFO!C27)","v":"Kondoa Town Council "},{"$f":"IF(AND(COUNTRY_INFO!$T$9:$T$1000=\"T3 (ALB/MBD)\",COUNTRY_INFO!$U$9:$U$1000=\"T3 (ALB/MBD)\"), \"T3 (ALB/MBD)\", \" \")","v":" "},null,null,null,null,null,0,null,null,null,0," "," "," "," "]
[{"$f":"IF(COUNTRY_INFO!A28=0,\" \",COUNTRY_INFO!A28)","v":"Tanzania"},{"$f":"IF(COUNTRY_INFO!B28=0,\" \",COUNTRY_INFO!B28)","v":"Dodoma"},{"$f":"IF(COUNTRY_INFO!C28=0,\" \",COUNTRY_INFO!C28)","v":"Kongwa District Council"},{"$f":"IF(AND(COUNTRY_INFO!$T$9:$T$1000=\"T3 (ALB/MBD)\",COUNTRY_INFO!$U$9:$U$1000=\"T3 (ALB/MBD)\"), \"T3 (ALB/MBD)\", \" \")","v":" "},null,null,null,null,null,0,null,null,null,0," "," "," "," "]
[{"$f":"IF(COUNTRY_INFO!A29=0,\" \",COUNTRY_INFO!A29)","v":"Tanzania"},{"$f":"IF(COUNTRY_INFO!B29=0,\" \",COUNTRY_INFO!B29)","v":"Dodoma"},{"$f":"IF(COUNTRY_INFO!C29=0,\" \",COUNTRY_INFO!C29)","v":"Mpwapwa District Council"},{"$f":"IF(AND(COUNTRY_INFO!$T$9:$T$1000=\"T3 (ALB/MBD)\",COUNTRY_INFO!$U$9:$U$1000=\"T3 (ALB/MBD)\"), \"T3 (ALB/MBD)\", \" \")","v":" "},null,null,null,null,null,0,null,null,null,0," "," "," "," "]
[{"$f":"IF(COUNTRY_INFO!A30=0,\" \",COUNTRY_INFO!A30)","v":"Tanzania"},{"$f":"IF(COUNTRY_INFO!B30=0,\" \",COUNTRY_INFO!B30)","v":"Geita"},{"$f":"IF(COUNTRY_INFO!C30=0,\" \",COUNTRY_INFO!C30)","v":"Bukombe District Council"},{"$f":"IF(AND(COUNTRY_INFO!$T$9:$T$1000=\"T3 (ALB/MBD)\",COUNTRY_INFO!$U$9:$U$1000=\"T3 (ALB/MBD)\"), \"T3 (ALB/MBD)\", \" \")","v":" "},null,null,null,null,null,0,null,null,null,0," "," "," "," "]
[{"$f":"IF(COUNTRY_INFO!A31=0,\" \",COUNTRY_INFO!A31)","v":"Tanzania"},{"$f":"IF(COUNTRY_INFO!B31=0,\" \",COUNTRY_INFO!B31)","v":"Geita"},{"$f":"IF(COUNTRY_INFO!C31=0,\" \",COUNTRY_INFO!C31)","v":"Chato District Council"},{"$f":"IF(AND(COUNTRY_INFO!$T$9:$T$1000=\"T3 (ALB/MBD)\",COUNTRY_INFO!$U$9:$U$1000=\"T3 (ALB/MBD)\"), \"T3 (ALB/MBD)\", \" \")","v":" "},null,null,null,null,null,0,null,null,null,0," "," "," "," "]
[{"$f":"IF(COUNTRY_INFO!A32=0,\" \",COUNTRY_INFO!A32)","v":"Tanzania"},{"$f":"IF(COUNTRY_INFO!B32=0,\" \",COUNTRY_INFO!B32)","v":"Geita"},{"$f":"IF(COUNTRY_INFO!C32=0,\" \",COUNTRY_INFO!C32)","v":"Geita District Council"},{"$f":"IF(AND(COUNTRY_INFO!$T$9:$T$1000=\"T3 (ALB/MBD)\",COUNTRY_INFO!$U$9:$U$1000=\"T3 (ALB/MBD)\"), \"T3 (ALB/MBD)\", \" \")","v":" "},null,null,null,null,null,0,null,null,null,0," "," "," "," "]
[{"$f":"IF(COUNTRY_INFO!A33=0,\" \",COUNTRY_INFO!A33)","v":"Tanzania"},{"$f":"IF(COUNTRY_INFO!B33=0,\" \",COUNTRY_INFO!B33)","v":"Geita"},{"$f":"IF(COUNTRY_INFO!C33=0,\" \",COUNTRY_INFO!C33)","v":"Geita Town Council"},{"$f":"IF(AND(COUNTRY_INFO!$T$9:$T$1000=\"T3 (ALB/MBD)\",COUNTRY_INFO!$U$9:$U$1000=\"T3 (ALB/MBD)\"), \"T3 (ALB/MBD)\", \" \")","v":" "},null,null,null,null,null,0,null,null,null,0," "," "," "," "]
[{"$f":"IF(COUNTRY_INFO!A34=0,\" \",COUNTRY_INFO!A34)","v":"Tanzania"},{"$f":"IF(COUNTRY_INFO!B34=0,\" \",COUNTRY_INFO!B34)","v":"Geita"},{"$f":"IF(COUNTRY_INFO!C34=0,\" \",COUNTRY_INFO!C34)","v":"Mbogwe District Council"},{"$f":"IF(AND(COUNTRY_INFO!$T$9:$T$1000=\"T3 (ALB/MBD)\",COUNTRY_INFO!$U$9:$U$1000=\"T3 (ALB/MBD)\"), \"T3 (ALB/MBD)\", \" \")","v":" "},null,null,null,null,null,0,null,null,null,0," "," "," "," "]
[{"$f":"IF(COUNTRY_INFO!A35=0,\" \",COUNTRY_INFO!A35)","v":"Tanzania"},{"$f":"IF(COUNTRY_INFO!B35=0,\" \",COUNTRY_INFO!B35)","v":"Geita"},{"$f":"IF(COUNTRY_INFO!C35=0,\" \",COUNTRY_INFO!C35)","v":"Nyang'hwale District Council"},{"$f":"IF(AND(COUNTRY_INFO!$T$9:$T$1000=\"T3 (ALB/MBD)\",COUNTRY_INFO!$U$9:$U$1000=\"T3 (ALB/MBD)\"), \"T3 (ALB/MBD)\", \" \")","v":" "},null,null,null,null,null,0,null,null,null,0," "," "," "," "]
[{"$f":"IF(COUNTRY_INFO!A36=0,\" \",COUNTRY_INFO!A36)","v":"Tanzania"},{"$f":"IF(COUNTRY_INFO!B36=0,\" \",COUNTRY_INFO!B36)","v":"Iringa"},{"$f":"IF(COUNTRY_INFO!C36=0,\" \",COUNTRY_INFO!C36)","v":"Iringa District Council"},{"$f":"IF(AND(COUNTRY_INFO!$T$9:$T$1000=\"T3 (ALB/MBD)\",COUNTRY_INFO!$U$9:$U$1000=\"T3 (ALB/MBD)\"), \"T3 (ALB/MBD)\", \" \")","v":" "},null,null,null,null,null,0,null,null,null,0," "," "," "," "]
[{"$f":"IF(COUNTRY_INFO!A37=0,\" \",COUNTRY_INFO!A37)","v":"Tanzania"},{"$f":"IF(COUNTRY_INFO!B37=0,\" \",COUNTRY_INFO!B37)","v":"Iringa"},{"$f":"IF(COUNTRY_INFO!C37=0,\" \",COUNTRY_INFO!C37)","v":"Iringa Municipal Council"},{"$f":"IF(AND(COUNTRY_INFO!$T$9:$T$1000=\"T3 (ALB/MBD)\",COUNTRY_INFO!$U$9:$U$1000=\"T3 (ALB/MBD)\"), \"T3 (ALB/MBD)\", \" \")","v":" "},null,null,null,null,null,0,null,null,null,0," "," "," "," "]
[{"$f":"IF(COUNTRY_INFO!A38=0,\" \",COUNTRY_INFO!A38)","v":"Tanzania"},{"$f":"IF(COUNTRY_INFO!B38=0,\" \",COUNTRY_INFO!B38)","v":"Iringa"},{"$f":"IF(COUNTRY_INFO!C38=0,\" \",COUNTRY_INFO!C38)","v":"Kilolo District Council"},{"$f":"IF(AND(COUNTRY_INFO!$T$9:$T$1000=\"T3 (ALB/MBD)\",COUNTRY_INFO!$U$9:$U$1000=\"T3 (ALB/MBD)\"), \"T3 (ALB/MBD)\", \" \")","v":" "},null,null,null,null,null,0,null,null,null,0," "," "," "," "]
[{"$f":"IF(COUNTRY_INFO!A39=0,\" \",COUNTRY_INFO!A39)","v":"Tanzania"},{"$f":"IF(COUNTRY_INFO!B39=0,\" \",COUNTRY_INFO!B39)","v":"Iringa"},{"$f":"IF(COUNTRY_INFO!C39=0,\" \",COUNTRY_INFO!C39)","v":"Mafinga Town Council"},{"$f":"IF(AND(COUNTRY_INFO!$T$9:$T$1000=\"T3 (ALB/MBD)\",COUNTRY_INFO!$U$9:$U$1000=\"T3 (ALB/MBD)\"), \"T3 (ALB/MBD)\", \" \")","v":" "},null,null,null,null,null,0,null,null,null,0," "," "," "," "]
[{"$f":"IF(COUNTRY_INFO!A40=0,\" \",COUNTRY_INFO!A40)","v":"Tanzania"},{"$f":"IF(COUNTRY_INFO!B40=0,\" \",COUNTRY_INFO!B40)","v":"Iringa"},{"$f":"IF(COUNTRY_INFO!C40=0,\" \",COUNTRY_INFO!C40)","v":"Mufindi District Council"},{"$f":"IF(AND(COUNTRY_INFO!$T$9:$T$1000=\"T3 (ALB/MBD)\",COUNTRY_INFO!$U$9:$U$1000=\"T3 (ALB/MBD)\"), \"T3 (ALB/MBD)\", \" \")","v":" "},null,null,null,null,null,0,null,null,null,0," "," "," "," "]
[{"$f":"IF(COUNTRY_INFO!A41=0,\" \",COUNTRY_INFO!A41)","v":"Tanzania"},{"$f":"IF(COUNTRY_INFO!B41=0,\" \",COUNTRY_INFO!B41)","v":"Kagera"},{"$f":"IF(COUNTRY_INFO!C41=0,\" \",COUNTRY_INFO!C41)","v":"Biharamulo District Council"},{"$f":"IF(AND(COUNTRY_INFO!$T$9:$T$1000=\"T3 (ALB/MBD)\",COUNTRY_INFO!$U$9:$U$1000=\"T3 (ALB/MBD)\"), \"T3 (ALB/MBD)\", \" \")","v":" "},null,null,null,null,null,0,null,null,null,0," "," "," "," "]
[{"$f":"IF(COUNTRY_INFO!A42=0,\" \",COUNTRY_INFO!A42)","v":"Tanzania"},{"$f":"IF(COUNTRY_INFO!B42=0,\" \",COUNTRY_INFO!B42)","v":"Kagera"},{"$f":"IF(COUNTRY_INFO!C42=0,\" \",COUNTRY_INFO!C42)","v":"Bukoba District Council"},{"$f":"IF(AND(COUNTRY_INFO!$T$9:$T$1000=\"T3 (ALB/MBD)\",COUNTRY_INFO!$U$9:$U$1000=\"T3 (ALB/MBD)\"), \"T3 (ALB/MBD)\", \" \")","v":" "},null,null,null,null,null,0,null,null,null,0," "," "," "," "]
[{"$f":"IF(COUNTRY_INFO!A43=0,\" \",COUNTRY_INFO!A43)","v":"Tanzania"},{"$f":"IF(COUNTRY_INFO!B43=0,\" \",COUNTRY_INFO!B43)","v":"Kagera"},{"$f":"IF(COUNTRY_INFO!C43=0,\" \",COUNTRY_INFO!C43)","v":"Bukoba Municipal Council"},{"$f":"IF(AND(COUNTRY_INFO!$T$9:$T$1000=\"T3 (ALB/MBD)\",COUNTRY_INFO!$U$9:$U$1000=\"T3 (ALB/MBD)\"), \"T3 (ALB/MBD)\", \" \")","v":" "},null,null,null,null,null,0,null,null,null,0," "," "," "," "]
[{"$f":"IF(COUNTRY_INFO!A44=0,\" \",COUNTRY_INFO!A44)","v":"Tanzania"},{"$f":"IF(COUNTRY_INFO!B44=0,\" \",COUNTRY_INFO!B44)","v":"Kagera"},{"$f":"IF(COUNTRY_INFO!C44=0,\" \",COUNTRY_INFO!C44)","v":"Karagwe District Council"},{"$f":"IF(AND(COUNTRY_INFO!$T$9:$T$1000=\"T3 (ALB/MBD)\",COUNTRY_INFO!$U$9:$U$1000=\"T3 (ALB/MBD)\"), \"T3 (ALB/MBD)\", \" \")","v":" "},null,null,null,null,null,0,null,null,null,0," "," "," "," "]
[{"$f":"IF(COUNTRY_INFO!A45=0,\" \",COUNTRY_INFO!A45)","v":"Tanzania"},{"$f":"IF(COUNTRY_INFO!B45=0,\" \",COUNTRY_INFO!B45)","v":"Kagera"},{"$f":"IF(COUNTRY_INFO!C45=0,\" \",COUNTRY_INFO!C45)","v":"Kyerwa District Council"},{"$f":"IF(AND(COUNTRY_INFO!$T$9:$T$1000=\"T3 (ALB/MBD)\",COUNTRY_INFO!$U$9:$U$1000=\"T3 (ALB/MBD)\"), \"T3 (ALB/MBD)\", \" \")","v":" "},null,null,null,null,null,0,null,null,null,0," "," "," "," "]
[{"$f":"IF(COUNTRY_INFO!A46=0,\" \",COUNTRY_INFO!A46)","v":"Tanzania"},{"$f":"IF(COUNTRY_INFO!B46=0,\" \",COUNTRY_INFO!B46)","v":"Kagera"},{"$f":"IF(COUNTRY_INFO!C46=0,\" \",COUNTRY_INFO!C46)","v":"Missenyi District Council"},{"$f":"IF(AND(COUNTRY_INFO!$T$9:$T$1000=\"T3 (ALB/MBD)\",COUNTRY_INFO!$U$9:$U$1000=\"T3 (ALB/MBD)\"), \"T3 (ALB/MBD)\", \" \")","v":" "},null,null,null,null,null,0,null,null,null,0," "," "," "," "]
[{"$f":"IF(COUNTRY_INFO!A47=0,\" \",COUNTRY_INFO!A47)","v":"Tanzania"},{"$f":"IF(COUNTRY_INFO!B47=0,\" \",COUNTRY_INFO!B47)","v":"Kagera"},{"$f":"IF(COUNTRY_INFO!C47=0,\" \",COUNTRY_INFO!C47)","v":"Muleba District Council"},{"$f":"IF(AND(COUNTRY_INFO!$T$9:$T$1000=\"T3 (ALB/MBD)\",COUNTRY_INFO!$U$9:$U$1000=\"T3 (ALB/MBD)\"), \"T3 (ALB/MBD)\", \" \")","v":" "},null,null,null,null,null,0,null,null,null,0," "," "," "," "]
[{"$f":"IF(COUNTRY_INFO!A48=0,\" \",COUNTRY_INFO!A48)","v":"Tanzania"},{"$f":"IF(COUNTRY_INFO!B48=0,\" \",COUNTRY_INFO!B48)","v":"Kagera"},{"$f":"IF(COUNTRY_INFO!C48=0,\" \",COUNTRY_INFO!C48)","v":"Ngara District Council"},{"$f":"IF(AND(COUNTRY_INFO!$T$9:$T$1000=\"T3 (ALB/MBD)\",COUNTRY_INFO!$U$9:$U$1000=\"T3 (ALB/MBD)\"), \"T3 (ALB/MBD)\", \" \")","v":" "},null,null,null,null,null,0,null,null,null,0," "," "," "," "]
[{"$f":"IF(COUNTRY_INFO!A49=0,\" \",COUNTRY_INFO!A49)","v":"Tanzania"},{"$f":"IF(COUNTRY_INFO!B49=0,\" \",COUNTRY_INFO!B49)","v":"Katavi"},{"$f":"IF(COUNTRY_INFO!C49=0,\" \",COUNTRY_INFO!C49)","v":"Mlele District Council"},{"$f":"IF(AND(COUNTRY_INFO!$T$9:$T$1000=\"T3 (ALB/MBD)\",COUNTRY_INFO!$U$9:$U$1000=\"T3 (ALB/MBD)\"), \"T3 (ALB/MBD)\", \" \")","v":" "},null,null,null,null,null,0,null,null,null,0," "," "," "," "]
[{"$f":"IF(COUNTRY_INFO!A50=0,\" \",COUNTRY_INFO!A50)","v":"Tanzania"},{"$f":"IF(COUNTRY_INFO!B50=0,\" \",COUNTRY_INFO!B50)","v":"Katavi"},{"$f":"IF(COUNTRY_INFO!C50=0,\" \",COUNTRY_INFO!C50)","v":"Mpanda District Council"},{"$f":"IF(AND(COUNTRY_INFO!$T$9:$T$1000=\"T3 (ALB/MBD)\",COUNTRY_INFO!$U$9:$U$1000=\"T3 (ALB/MBD)\"), \"T3 (ALB/MBD)\", \" \")","v":" "},null,null,null,null,null,0,null,null,null,0," "," "," "," "]
[{"$f":"IF(COUNTRY_INFO!A51=0,\" \",COUNTRY_INFO!A51)","v":"Tanzania"},{"$f":"IF(COUNTRY_INFO!B51=0,\" \",COUNTRY_INFO!B51)","v":"Katavi"},{"$f":"IF(COUNTRY_INFO!C51=0,\" \",COUNTRY_INFO!C51)","v":"Mpanda Municipal Council"},{"$f":"IF(AND(COUNTRY_INFO!$T$9:$T$1000=\"T3 (ALB/MBD)\",COUNTRY_INFO!$U$9:$U$1000=\"T3 (ALB/MBD)\"), \"T3 (ALB/MBD)\", \" \")","v":" "},null,null,null,null,null,0,null,null,null,0," "," "," "," "]
[{"$f":"IF(COUNTRY_INFO!A52=0,\" \",COUNTRY_INFO!A52)","v":"Tanzania"},{"$f":"IF(COUNTRY_INFO!B52=0,\" \",COUNTRY_INFO!B52)","v":"Katavi"},{"$f":"IF(COUNTRY_INFO!C52=0,\" \",COUNTRY_INFO!C52)","v":"Mpimbwe District Council"},{"$f":"IF(AND(COUNTRY_INFO!$T$9:$T$1000=\"T3 (ALB/MBD)\",COUNTRY_INFO!$U$9:$U$1000=\"T3 (ALB/MBD)\"), \"T3 (ALB/MBD)\", \" \")","v":" "},null,null,null,null,null,0,null,null,null,0," "," "," "," "]
[{"$f":"IF(COUNTRY_INFO!A53=0,\" \",COUNTRY_INFO!A53)","v":"Tanzania"},{"$f":"IF(COUNTRY_INFO!B53=0,\" \",COUNTRY_INFO!B53)","v":"Katavi"},{"$f":"IF(COUNTRY_INFO!C53=0,\" \",COUNTRY_INFO!C53)","v":"Nsimbo District Council"},{"$f":"IF(AND(COUNTRY_INFO!$T$9:$T$1000=\"T3 (ALB/MBD)\",COUNTRY_INFO!$U$9:$U$1000=\"T3 (ALB/MBD)\"), \"T3 (ALB/MBD)\", \" \")","v":" "},null,null,null,null,null,0,null,null,null,0," "," "," "," "]
[{"$f":"IF(COUNTRY_INFO!A54=0,\" \",COUNTRY_INFO!A54)","v":"Tanzania"},{"$f":"IF(COUNTRY_INFO!B54=0,\" \",COUNTRY_INFO!B54)","v":"Kigoma"},{"$f":"IF(COUNTRY_INFO!C54=0,\" \",COUNTRY_INFO!C54)","v":"Buhigwe District Council"},{"$f":"IF(AND(COUNTRY_INFO!$T$9:$T$1000=\"T3 (ALB/MBD)\",COUNTRY_INFO!$U$9:$U$1000=\"T3 (ALB/MBD)\"), \"T3 (ALB/MBD)\", \" \")","v":" "},null,null,null,null,null,0,null,null,null,0," "," "," "," "]
[{"$f":"IF(COUNTRY_INFO!A55=0,\" \",COUNTRY_INFO!A55)","v":"Tanzania"},{"$f":"IF(COUNTRY_INFO!B55=0,\" \",COUNTRY_INFO!B55)","v":"Kigoma"},{"$f":"IF(COUNTRY_INFO!C55=0,\" \",COUNTRY_INFO!C55)","v":"Kakonko District Council"},{"$f":"IF(AND(COUNTRY_INFO!$T$9:$T$1000=\"T3 (ALB/MBD)\",COUNTRY_INFO!$U$9:$U$1000=\"T3 (ALB/MBD)\"), \"T3 (ALB/MBD)\", \" \")","v":" "},null,null,null,null,null,0,null,null,null,0," "," "," "," "]
[{"$f":"IF(COUNTRY_INFO!A56=0,\" \",COUNTRY_INFO!A56)","v":"Tanzania"},{"$f":"IF(COUNTRY_INFO!B56=0,\" \",COUNTRY_INFO!B56)","v":"Kigoma"},{"$f":"IF(COUNTRY_INFO!C56=0,\" \",COUNTRY_INFO!C56)","v":"Kasulu District Council"},{"$f":"IF(AND(COUNTRY_INFO!$T$9:$T$1000=\"T3 (ALB/MBD)\",COUNTRY_INFO!$U$9:$U$1000=\"T3 (ALB/MBD)\"), \"T3 (ALB/MBD)\", \" \")","v":" "},null,null,null,null,null,0,null,null,null,0," "," "," "," "]
[{"$f":"IF(COUNTRY_INFO!A57=0,\" \",COUNTRY_INFO!A57)","v":"Tanzania"},{"$f":"IF(COUNTRY_INFO!B57=0,\" \",COUNTRY_INFO!B57)","v":"Kigoma"},{"$f":"IF(COUNTRY_INFO!C57=0,\" \",COUNTRY_INFO!C57)","v":"Kasulu Town Council"},{"$f":"IF(AND(COUNTRY_INFO!$T$9:$T$1000=\"T3 (ALB/MBD)\",COUNTRY_INFO!$U$9:$U$1000=\"T3 (ALB/MBD)\"), \"T3 (ALB/MBD)\", \" \")","v":" "},null,null,null,null,null,0,null,null,null,0," "," "," "," "]
[{"$f":"IF(COUNTRY_INFO!A58=0,\" \",COUNTRY_INFO!A58)","v":"Tanzania"},{"$f":"IF(COUNTRY_INFO!B58=0,\" \",COUNTRY_INFO!B58)","v":"Kigoma"},{"$f":"IF(COUNTRY_INFO!C58=0,\" \",COUNTRY_INFO!C58)","v":"Kibondo District Council"},{"$f":"IF(AND(COUNTRY_INFO!$T$9:$T$1000=\"T3 (ALB/MBD)\",COUNTRY_INFO!$U$9:$U$1000=\"T3 (ALB/MBD)\"), \"T3 (ALB/MBD)\", \" \")","v":" "},null,null,null,null,null,0,null,null,null,0," "," "," "," "]
[{"$f":"IF(COUNTRY_INFO!A59=0,\" \",COUNTRY_INFO!A59)","v":"Tanzania"},{"$f":"IF(COUNTRY_INFO!B59=0,\" \",COUNTRY_INFO!B59)","v":"Kigoma"},{"$f":"IF(COUNTRY_INFO!C59=0,\" \",COUNTRY_INFO!C59)","v":"Kigoma District Council"},{"$f":"IF(AND(COUNTRY_INFO!$T$9:$T$1000=\"T3 (ALB/MBD)\",COUNTRY_INFO!$U$9:$U$1000=\"T3 (ALB/MBD)\"), \"T3 (ALB/MBD)\", \" \")","v":" "},null,null,null,null,null,0,null,null,null,0," "," "," "," "]
[{"$f":"IF(COUNTRY_INFO!A60=0,\" \",COUNTRY_INFO!A60)","v":"Tanzania"},{"$f":"IF(COUNTRY_INFO!B60=0,\" \",COUNTRY_INFO!B60)","v":"Kigoma"},{"$f":"IF(COUNTRY_INFO!C60=0,\" \",COUNTRY_INFO!C60)","v":"Kigoma-Ujiji Municipal Council"},{"$f":"IF(AND(COUNTRY_INFO!$T$9:$T$1000=\"T3 (ALB/MBD)\",COUNTRY_INFO!$U$9:$U$1000=\"T3 (ALB/MBD)\"), \"T3 (ALB/MBD)\", \" \")","v":" "},null,null,null,null,null,0,null,null,null,0," "," "," "," "]
[{"$f":"IF(COUNTRY_INFO!A61=0,\" \",COUNTRY_INFO!A61)","v":"Tanzania"},{"$f":"IF(COUNTRY_INFO!B61=0,\" \",COUNTRY_INFO!B61)","v":"Kigoma"},{"$f":"IF(COUNTRY_INFO!C61=0,\" \",COUNTRY_INFO!C61)","v":"Uvinza District Council"},{"$f":"IF(AND(COUNTRY_INFO!$T$9:$T$1000=\"T3 (ALB/MBD)\",COUNTRY_INFO!$U$9:$U$1000=\"T3 (ALB/MBD)\"), \"T3 (ALB/MBD)\", \" \")","v":" "},null,null,null,null,null,0,null,null,null,0," "," "," "," "]
[{"$f":"IF(COUNTRY_INFO!A62=0,\" \",COUNTRY_INFO!A62)","v":"Tanzania"},{"$f":"IF(COUNTRY_INFO!B62=0,\" \",COUNTRY_INFO!B62)","v":"Kilimanjaro"},{"$f":"IF(COUNTRY_INFO!C62=0,\" \",COUNTRY_INFO!C62)","v":"Hai District Council"},{"$f":"IF(AND(COUNTRY_INFO!$T$9:$T$1000=\"T3 (ALB/MBD)\",COUNTRY_INFO!$U$9:$U$1000=\"T3 (ALB/MBD)\"), \"T3 (ALB/MBD)\", \" \")","v":" "},null,null,null,null,null,0,null,null,null,0," "," "," "," "]
[{"$f":"IF(COUNTRY_INFO!A63=0,\" \",COUNTRY_INFO!A63)","v":"Tanzania"},{"$f":"IF(COUNTRY_INFO!B63=0,\" \",COUNTRY_INFO!B63)","v":"Kilimanjaro"},{"$f":"IF(COUNTRY_INFO!C63=0,\" \",COUNTRY_INFO!C63)","v":"Moshi District Council"},{"$f":"IF(AND(COUNTRY_INFO!$T$9:$T$1000=\"T3 (ALB/MBD)\",COUNTRY_INFO!$U$9:$U$1000=\"T3 (ALB/MBD)\"), \"T3 (ALB/MBD)\", \" \")","v":" "},null,null,null,null,null,0,null,null,null,0," "," "," "," "]
[{"$f":"IF(COUNTRY_INFO!A64=0,\" \",COUNTRY_INFO!A64)","v":"Tanzania"},{"$f":"IF(COUNTRY_INFO!B64=0,\" \",COUNTRY_INFO!B64)","v":"Kilimanjaro"},{"$f":"IF(COUNTRY_INFO!C64=0,\" \",COUNTRY_INFO!C64)","v":"Moshi Municipal Council"},{"$f":"IF(AND(COUNTRY_INFO!$T$9:$T$1000=\"T3 (ALB/MBD)\",COUNTRY_INFO!$U$9:$U$1000=\"T3 (ALB/MBD)\"), \"T3 (ALB/MBD)\", \" \")","v":" "},null,null,null,null,null,0,null,null,null,0," "," "," "," "]
[{"$f":"IF(COUNTRY_INFO!A65=0,\" \",COUNTRY_INFO!A65)","v":"Tanzania"},{"$f":"IF(COUNTRY_INFO!B65=0,\" \",COUNTRY_INFO!B65)","v":"Kilimanjaro"},{"$f":"IF(COUNTRY_INFO!C65=0,\" \",COUNTRY_INFO!C65)","v":"Mwanga District Council"},{"$f":"IF(AND(COUNTRY_INFO!$T$9:$T$1000=\"T3 (ALB/MBD)\",COUNTRY_INFO!$U$9:$U$1000=\"T3 (ALB/MBD)\"), \"T3 (ALB/MBD)\", \" \")","v":" "},null,null,null,null,null,0,null,null,null,0," "," "," "," "]
[{"$f":"IF(COUNTRY_INFO!A66=0,\" \",COUNTRY_INFO!A66)","v":"Tanzania"},{"$f":"IF(COUNTRY_INFO!B66=0,\" \",COUNTRY_INFO!B66)","v":"Kilimanjaro"},{"$f":"IF(COUNTRY_INFO!C66=0,\" \",COUNTRY_INFO!C66)","v":"Rombo District Council"},{"$f":"IF(AND(COUNTRY_INFO!$T$9:$T$1000=\"T3 (ALB/MBD)\",COUNTRY_INFO!$U$9:$U$1000=\"T3 (ALB/MBD)\"), \"T3 (ALB/MBD)\", \" \")","v":" "},null,null,null,null,null,0,null,null,null,0," "," "," "," "]
[{"$f":"IF(COUNTRY_INFO!A67=0,\" \",COUNTRY_INFO!A67)","v":"Tanzania"},{"$f":"IF(COUNTRY_INFO!B67=0,\" \",COUNTRY_INFO!B67)","v":"Kilimanjaro"},{"$f":"IF(COUNTRY_INFO!C67=0,\" \",COUNTRY_INFO!C67)","v":"Same District Council"},{"$f":"IF(AND(COUNTRY_INFO!$T$9:$T$1000=\"T3 (ALB/MBD)\",COUNTRY_INFO!$U$9:$U$1000=\"T3 (ALB/MBD)\"), \"T3 (ALB/MBD)\", \" \")","v":" "},null,null,null,null,null,0,null,null,null,0," "," "," "," "]
[{"$f":"IF(COUNTRY_INFO!A68=0,\" \",COUNTRY_INFO!A68)","v":"Tanzania"},{"$f":"IF(COUNTRY_INFO!B68=0,\" \",COUNTRY_INFO!B68)","v":"Kilimanjaro"},{"$f":"IF(COUNTRY_INFO!C68=0,\" \",COUNTRY_INFO!C68)","v":"Siha District Council"},{"$f":"IF(AND(COUNTRY_INFO!$T$9:$T$1000=\"T3 (ALB/MBD)\",COUNTRY_INFO!$U$9:$U$1000=\"T3 (ALB/MBD)\"), \"T3 (ALB/MBD)\", \" \")","v":" "},null,null,null,null,null,0,null,null,null,0," "," "," "," "]
[{"$f":"IF(COUNTRY_INFO!A69=0,\" \",COUNTRY_INFO!A69)","v":"Tanzania"},{"$f":"IF(COUNTRY_INFO!B69=0,\" \",COUNTRY_INFO!B69)","v":"Lindi"},{"$f":"IF(COUNTRY_INFO!C69=0,\" \",COUNTRY_INFO!C69)","v":"Kilwa District Council"},{"$f":"IF(AND(COUNTRY_INFO!$T$9:$T$1000=\"T3 (ALB/MBD)\",COUNTRY_INFO!$U$9:$U$1000=\"T3 (ALB/MBD)\"), \"T3 (ALB/MBD)\", \" \")","v":" "},null,null,null,null,null,0,null,null,null,0," "," "," "," "]
[{"$f":"IF(COUNTRY_INFO!A70=0,\" \",COUNTRY_INFO!A70)","v":"Tanzania"},{"$f":"IF(COUNTRY_INFO!B70=0,\" \",COUNTRY_INFO!B70)","v":"Lindi"},{"$f":"IF(COUNTRY_INFO!C70=0,\" \",COUNTRY_INFO!C70)","v":"Lindi District Council"},{"$f":"IF(AND(COUNTRY_INFO!$T$9:$T$1000=\"T3 (ALB/MBD)\",COUNTRY_INFO!$U$9:$U$1000=\"T3 (ALB/MBD)\"), \"T3 (ALB/MBD)\", \" \")","v":" "},null,null,null,null,null,0,null,null,null,0," "," "," "," "]
[{"$f":"IF(COUNTRY_INFO!A71=0,\" \",COUNTRY_INFO!A71)","v":"Tanzania"},{"$f":"IF(COUNTRY_INFO!B71=0,\" \",COUNTRY_INFO!B71)","v":"Lindi"},{"$f":"IF(COUNTRY_INFO!C71=0,\" \",COUNTRY_INFO!C71)","v":"Lindi Municipal Council"},{"$f":"IF(AND(COUNTRY_INFO!$T$9:$T$1000=\"T3 (ALB/MBD)\",COUNTRY_INFO!$U$9:$U$1000=\"T3 (ALB/MBD)\"), \"T3 (ALB/MBD)\", \" \")","v":" "},null,null,null,null,null,0,null,null,null,0," "," "," "," "]
[{"$f":"IF(COUNTRY_INFO!A72=0,\" \",COUNTRY_INFO!A72)","v":"Tanzania"},{"$f":"IF(COUNTRY_INFO!B72=0,\" \",COUNTRY_INFO!B72)","v":"Lindi"},{"$f":"IF(COUNTRY_INFO!C72=0,\" \",COUNTRY_INFO!C72)","v":"Liwale District Council"},{"$f":"IF(AND(COUNTRY_INFO!$T$9:$T$1000=\"T3 (ALB/MBD)\",COUNTRY_INFO!$U$9:$U$1000=\"T3 (ALB/MBD)\"), \"T3 (ALB/MBD)\", \" \")","v":" "},null,null,null,null,null,0,null,null,null,0," "," "," "," "]
[{"$f":"IF(COUNTRY_INFO!A73=0,\" \",COUNTRY_INFO!A73)","v":"Tanzania"},{"$f":"IF(COUNTRY_INFO!B73=0,\" \",COUNTRY_INFO!B73)","v":"Lindi"},{"$f":"IF(COUNTRY_INFO!C73=0,\" \",COUNTRY_INFO!C73)","v":"Nachingwea District Council"},{"$f":"IF(AND(COUNTRY_INFO!$T$9:$T$1000=\"T3 (ALB/MBD)\",COUNTRY_INFO!$U$9:$U$1000=\"T3 (ALB/MBD)\"), \"T3 (ALB/MBD)\", \" \")","v":" "},null,null,null,null,null,0,null,null,null,0," "," "," "," "]
[{"$f":"IF(COUNTRY_INFO!A74=0,\" \",COUNTRY_INFO!A74)","v":"Tanzania"},{"$f":"IF(COUNTRY_INFO!B74=0,\" \",COUNTRY_INFO!B74)","v":"Lindi"},{"$f":"IF(COUNTRY_INFO!C74=0,\" \",COUNTRY_INFO!C74)","v":"Ruangwa District Council"},{"$f":"IF(AND(COUNTRY_INFO!$T$9:$T$1000=\"T3 (ALB/MBD)\",COUNTRY_INFO!$U$9:$U$1000=\"T3 (ALB/MBD)\"), \"T3 (ALB/MBD)\", \" \")","v":" "},null,null,null,null,null,{"$f":"SUM(G74:I74)","v":0},null,null,null,{"$f":"SUM(K74:M74)","v":0},{"$f":"IF(G74<>0, IF(K74/G74*100=0, \"-\", K74/G74*100), \" \")","v":" "},{"$f":"IF(H74<>0, IF(L74/H74*100=0, \"-\", L74/H74*100), \" \")","v":" "},{"$f":"IF(I74<>0, IF(M74/I74*100=0, \"-\", M74/I74*100), \" \")","v":" "},{"$f":"IF(J74<>0, IF(N74/J74*100=0, \"-\", N74/J74*100), \" \")","v":" "}]
[{"$f":"IF(COUNTRY_INFO!A75=0,\" \",COUNTRY_INFO!A75)","v":"Tanzania"},{"$f":"IF(COUNTRY_INFO!B75=0,\" \",COUNTRY_INFO!B75)","v":"Manyara"},{"$f":"IF(COUNTRY_INFO!C75=0,\" \",COUNTRY_INFO!C75)","v":"Babati District Council"},{"$f":"IF(AND(COUNTRY_INFO!$T$9:$T$1000=\"T3 (ALB/MBD)\",COUNTRY_INFO!$U$9:$U$1000=\"T3 (ALB/MBD)\"), \"T3 (ALB/MBD)\", \" \")","v":" "},null,null,null,null,null,0,null,null,null,0," "," "," "," "]
[{"$f":"IF(COUNTRY_INFO!A76=0,\" \",COUNTRY_INFO!A76)","v":"Tanzania"},{"$f":"IF(COUNTRY_INFO!B76=0,\" \",COUNTRY_INFO!B76)","v":"Manyara"},{"$f":"IF(COUNTRY_INFO!C76=0,\" \",COUNTRY_INFO!C76)","v":"Babati Town Council"},{"$f":"IF(AND(COUNTRY_INFO!$T$9:$T$1000=\"T3 (ALB/MBD)\",COUNTRY_INFO!$U$9:$U$1000=\"T3 (ALB/MBD)\"), \"T3 (ALB/MBD)\", \" \")","v":" "},null,null,null,null,null,0,null,null,null,0," "," "," "," "]
[{"$f":"IF(COUNTRY_INFO!A77=0,\" \",COUNTRY_INFO!A77)","v":"Tanzania"},{"$f":"IF(COUNTRY_INFO!B77=0,\" \",COUNTRY_INFO!B77)","v":"Manyara"},{"$f":"IF(COUNTRY_INFO!C77=0,\" \",COUNTRY_INFO!C77)","v":"Hanang District Council"},{"$f":"IF(AND(COUNTRY_INFO!$T$9:$T$1000=\"T3 (ALB/MBD)\",COUNTRY_INFO!$U$9:$U$1000=\"T3 (ALB/MBD)\"), \"T3 (ALB/MBD)\", \" \")","v":" "},null,null,null,null,null,0,null,null,null,0," "," "," "," "]
[{"$f":"IF(COUNTRY_INFO!A78=0,\" \",COUNTRY_INFO!A78)","v":"Tanzania"},{"$f":"IF(COUNTRY_INFO!B78=0,\" \",COUNTRY_INFO!B78)","v":"Manyara"},{"$f":"IF(COUNTRY_INFO!C78=0,\" \",COUNTRY_INFO!C78)","v":"Kiteto District Council"},{"$f":"IF(AND(COUNTRY_INFO!$T$9:$T$1000=\"T3 (ALB/MBD)\",COUNTRY_INFO!$U$9:$U$1000=\"T3 (ALB/MBD)\"), \"T3 (ALB/MBD)\", \" \")","v":" "},null,null,null,null,null,0,null,null,null,0," "," "," "," "]
[{"$f":"IF(COUNTRY_INFO!A79=0,\" \",COUNTRY_INFO!A79)","v":"Tanzania"},{"$f":"IF(COUNTRY_INFO!B79=0,\" \",COUNTRY_INFO!B79)","v":"Manyara"},{"$f":"IF(COUNTRY_INFO!C79=0,\" \",COUNTRY_INFO!C79)","v":"Mbulu District Council"},{"$f":"IF(AND(COUNTRY_INFO!$T$9:$T$1000=\"T3 (ALB/MBD)\",COUNTRY_INFO!$U$9:$U$1000=\"T3 (ALB/MBD)\"), \"T3 (ALB/MBD)\", \" \")","v":" "},null,null,null,null,null,0,null,null,null,0," "," "," "," "]
[{"$f":"IF(COUNTRY_INFO!A80=0,\" \",COUNTRY_INFO!A80)","v":"Tanzania"},{"$f":"IF(COUNTRY_INFO!B80=0,\" \",COUNTRY_INFO!B80)","v":"Manyara"},{"$f":"IF(COUNTRY_INFO!C80=0,\" \",COUNTRY_INFO!C80)","v":"Mbulu Town Council"},{"$f":"IF(AND(COUNTRY_INFO!$T$9:$T$1000=\"T3 (ALB/MBD)\",COUNTRY_INFO!$U$9:$U$1000=\"T3 (ALB/MBD)\"), \"T3 (ALB/MBD)\", \" \")","v":" "},null,null,null,null,null,0,null,null,null,0," "," "," "," "]
[{"$f":"IF(COUNTRY_INFO!A81=0,\" \",COUNTRY_INFO!A81)","v":"Tanzania"},{"$f":"IF(COUNTRY_INFO!B81=0,\" \",COUNTRY_INFO!B81)","v":"Manyara"},{"$f":"IF(COUNTRY_INFO!C81=0,\" \",COUNTRY_INFO!C81)","v":"Simanjiro District Council"},{"$f":"IF(AND(COUNTRY_INFO!$T$9:$T$1000=\"T3 (ALB/MBD)\",COUNTRY_INFO!$U$9:$U$1000=\"T3 (ALB/MBD)\"), \"T3 (ALB/MBD)\", \" \")","v":" "},null,null,null,null,null,0,null,null,null,0," "," "," "," "]
[{"$f":"IF(COUNTRY_INFO!A82=0,\" \",COUNTRY_INFO!A82)","v":"Tanzania"},{"$f":"IF(COUNTRY_INFO!B82=0,\" \",COUNTRY_INFO!B82)","v":"Mara"},{"$f":"IF(COUNTRY_INFO!C82=0,\" \",COUNTRY_INFO!C82)","v":"Bunda District Council"},{"$f":"IF(AND(COUNTRY_INFO!$T$9:$T$1000=\"T3 (ALB/MBD)\",COUNTRY_INFO!$U$9:$U$1000=\"T3 (ALB/MBD)\"), \"T3 (ALB/MBD)\", \" \")","v":" "},null,null,null,null,null,0,null,null,null,0," "," "," "," "]
[{"$f":"IF(COUNTRY_INFO!A83=0,\" \",COUNTRY_INFO!A83)","v":"Tanzania"},{"$f":"IF(COUNTRY_INFO!B83=0,\" \",COUNTRY_INFO!B83)","v":"Mara"},{"$f":"IF(COUNTRY_INFO!C83=0,\" \",COUNTRY_INFO!C83)","v":"Bunda Town Council"},{"$f":"IF(AND(COUNTRY_INFO!$T$9:$T$1000=\"T3 (ALB/MBD)\",COUNTRY_INFO!$U$9:$U$1000=\"T3 (ALB/MBD)\"), \"T3 (ALB/MBD)\", \" \")","v":" "},null,null,null,null,null,0,null,null,null,0," "," "," "," "]
[{"$f":"IF(COUNTRY_INFO!A84=0,\" \",COUNTRY_INFO!A84)","v":"Tanzania"},{"$f":"IF(COUNTRY_INFO!B84=0,\" \",COUNTRY_INFO!B84)","v":"Mara"},{"$f":"IF(COUNTRY_INFO!C84=0,\" \",COUNTRY_INFO!C84)","v":"Butiama District Council"},{"$f":"IF(AND(COUNTRY_INFO!$T$9:$T$1000=\"T3 (ALB/MBD)\",COUNTRY_INFO!$U$9:$U$1000=\"T3 (ALB/MBD)\"), \"T3 (ALB/MBD)\", \" \")","v":" "},null,null,null,null,null,0,null,null,null,0," "," "," "," "]
[{"$f":"IF(COUNTRY_INFO!A85=0,\" \",COUNTRY_INFO!A85)","v":"Tanzania"},{"$f":"IF(COUNTRY_INFO!B85=0,\" \",COUNTRY_INFO!B85)","v":"Mara"},{"$f":"IF(COUNTRY_INFO!C85=0,\" \",COUNTRY_INFO!C85)","v":"Musoma District Council"},{"$f":"IF(AND(COUNTRY_INFO!$T$9:$T$1000=\"T3 (ALB/MBD)\",COUNTRY_INFO!$U$9:$U$1000=\"T3 (ALB/MBD)\"), \"T3 (ALB/MBD)\", \" \")","v":" "},null,null,null,null,null,0,null,null,null,0," "," "," "," "]
[{"$f":"IF(COUNTRY_INFO!A86=0,\" \",COUNTRY_INFO!A86)","v":"Tanzania"},{"$f":"IF(COUNTRY_INFO!B86=0,\" \",COUNTRY_INFO!B86)","v":"Mara"},{"$f":"IF(COUNTRY_INFO!C86=0,\" \",COUNTRY_INFO!C86)","v":"Musoma Municipal Council"},{"$f":"IF(AND(COUNTRY_INFO!$T$9:$T$1000=\"T3 (ALB/MBD)\",COUNTRY_INFO!$U$9:$U$1000=\"T3 (ALB/MBD)\"), \"T3 (ALB/MBD)\", \" \")","v":" "},null,null,null,null,null,0,null,null,null,0," "," "," "," "]
[{"$f":"IF(COUNTRY_INFO!A87=0,\" \",COUNTRY_INFO!A87)","v":"Tanzania"},{"$f":"IF(COUNTRY_INFO!B87=0,\" \",COUNTRY_INFO!B87)","v":"Mara"},{"$f":"IF(COUNTRY_INFO!C87=0,\" \",COUNTRY_INFO!C87)","v":"Rorya District Council"},{"$f":"IF(AND(COUNTRY_INFO!$T$9:$T$1000=\"T3 (ALB/MBD)\",COUNTRY_INFO!$U$9:$U$1000=\"T3 (ALB/MBD)\"), \"T3 (ALB/MBD)\", \" \")","v":" "},null,null,null,null,null,0,null,null,null,0," "," "," "," "]
[{"$f":"IF(COUNTRY_INFO!A88=0,\" \",COUNTRY_INFO!A88)","v":"Tanzania"},{"$f":"IF(COUNTRY_INFO!B88=0,\" \",COUNTRY_INFO!B88)","v":"Mara"},{"$f":"IF(COUNTRY_INFO!C88=0,\" \",COUNTRY_INFO!C88)","v":"Serengeti District Council"},{"$f":"IF(AND(COUNTRY_INFO!$T$9:$T$1000=\"T3 (ALB/MBD)\",COUNTRY_INFO!$U$9:$U$1000=\"T3 (ALB/MBD)\"), \"T3 (ALB/MBD)\", \" \")","v":" "},null,null,null,null,null,0,null,null,null,0," "," "," "," "]
[{"$f":"IF(COUNTRY_INFO!A89=0,\" \",COUNTRY_INFO!A89)","v":"Tanzania"},{"$f":"IF(COUNTRY_INFO!B89=0,\" \",COUNTRY_INFO!B89)","v":"Mara"},{"$f":"IF(COUNTRY_INFO!C89=0,\" \",COUNTRY_INFO!C89)","v":"Tarime District Council"},{"$f":"IF(AND(COUNTRY_INFO!$T$9:$T$1000=\"T3 (ALB/MBD)\",COUNTRY_INFO!$U$9:$U$1000=\"T3 (ALB/MBD)\"), \"T3 (ALB/MBD)\", \" \")","v":" "},null,null,null,null,null,0,null,null,null,0," "," "," "," "]
[{"$f":"IF(COUNTRY_INFO!A90=0,\" \",COUNTRY_INFO!A90)","v":"Tanzania"},{"$f":"IF(COUNTRY_INFO!B90=0,\" \",COUNTRY_INFO!B90)","v":"Mara"},{"$f":"IF(COUNTRY_INFO!C90=0,\" \",COUNTRY_INFO!C90)","v":"Tarime Town Council"},{"$f":"IF(AND(COUNTRY_INFO!$T$9:$T$1000=\"T3 (ALB/MBD)\",COUNTRY_INFO!$U$9:$U$1000=\"T3 (ALB/MBD)\"), \"T3 (ALB/MBD)\", \" \")","v":" "},null,null,null,null,null,0,null,null,null,0," "," "," "," "]
[{"$f":"IF(COUNTRY_INFO!A91=0,\" \",COUNTRY_INFO!A91)","v":"Tanzania"},{"$f":"IF(COUNTRY_INFO!B91=0,\" \",COUNTRY_INFO!B91)","v":"Mbeya"},{"$f":"IF(COUNTRY_INFO!C91=0,\" \",COUNTRY_INFO!C91)","v":"Busokelo District Council"},{"$f":"IF(AND(COUNTRY_INFO!$T$9:$T$1000=\"T3 (ALB/MBD)\",COUNTRY_INFO!$U$9:$U$1000=\"T3 (ALB/MBD)\"), \"T3 (ALB/MBD)\", \" \")","v":" "},null,null,null,null,null,0,null,null,null,0," "," "," "," "]
[{"$f":"IF(COUNTRY_INFO!A92=0,\" \",COUNTRY_INFO!A92)","v":"Tanzania"},{"$f":"IF(COUNTRY_INFO!B92=0,\" \",COUNTRY_INFO!B92)","v":"Mbeya"},{"$f":"IF(COUNTRY_INFO!C92=0,\" \",COUNTRY_INFO!C92)","v":"Chunya District Council"},{"$f":"IF(AND(COUNTRY_INFO!$T$9:$T$1000=\"T3 (ALB/MBD)\",COUNTRY_INFO!$U$9:$U$1000=\"T3 (ALB/MBD)\"), \"T3 (ALB/MBD)\", \" \")","v":" "},null,null,null,null,null,0,null,null,null,0," "," "," "," "]
[{"$f":"IF(COUNTRY_INFO!A93=0,\" \",COUNTRY_INFO!A93)","v":"Tanzania"},{"$f":"IF(COUNTRY_INFO!B93=0,\" \",COUNTRY_INFO!B93)","v":"Mbeya"},{"$f":"IF(COUNTRY_INFO!C93=0,\" \",COUNTRY_INFO!C93)","v":"Kyela District Council"},{"$f":"IF(AND(COUNTRY_INFO!$T$9:$T$1000=\"T3 (ALB/MBD)\",COUNTRY_INFO!$U$9:$U$1000=\"T3 (ALB/MBD)\"), \"T3 (ALB/MBD)\", \" \")","v":" "},null,null,null,null,null,0,null,null,null,0," "," "," "," "]
[{"$f":"IF(COUNTRY_INFO!A94=0,\" \",COUNTRY_INFO!A94)","v":"Tanzania"},{"$f":"IF(COUNTRY_INFO!B94=0,\" \",COUNTRY_INFO!B94)","v":"Mbeya"},{"$f":"IF(COUNTRY_INFO!C94=0,\" \",COUNTRY_INFO!C94)","v":"Mbarali District Council"},{"$f":"IF(AND(COUNTRY_INFO!$T$9:$T$1000=\"T3 (ALB/MBD)\",COUNTRY_INFO!$U$9:$U$1000=\"T3 (ALB/MBD)\"), \"T3 (ALB/MBD)\", \" \")","v":" "},null,null,null,null,null,0,null,null,null,0," "," "," "," "]
[{"$f":"IF(COUNTRY_INFO!A95=0,\" \",COUNTRY_INFO!A95)","v":"Tanzania"},{"$f":"IF(COUNTRY_INFO!B95=0,\" \",COUNTRY_INFO!B95)","v":"Mbeya"},{"$f":"IF(COUNTRY_INFO!C95=0,\" \",COUNTRY_INFO!C95)","v":"Mbeya City Council"},{"$f":"IF(AND(COUNTRY_INFO!$T$9:$T$1000=\"T3 (ALB/MBD)\",COUNTRY_INFO!$U$9:$U$1000=\"T3 (ALB/MBD)\"), \"T3 (ALB/MBD)\", \" \")","v":" "},null,null,null,null,null,0,null,null,null,0," "," "," "," "]
[{"$f":"IF(COUNTRY_INFO!A96=0,\" \",COUNTRY_INFO!A96)","v":"Tanzania"},{"$f":"IF(COUNTRY_INFO!B96=0,\" \",COUNTRY_INFO!B96)","v":"Mbeya"},{"$f":"IF(COUNTRY_INFO!C96=0,\" \",COUNTRY_INFO!C96)","v":"Mbeya District Council"},{"$f":"IF(AND(COUNTRY_INFO!$T$9:$T$1000=\"T3 (ALB/MBD)\",COUNTRY_INFO!$U$9:$U$1000=\"T3 (ALB/MBD)\"), \"T3 (ALB/MBD)\", \" \")","v":" "},null,null,null,null,null,0,null,null,null,0," "," "," "," "]
[{"$f":"IF(COUNTRY_INFO!A97=0,\" \",COUNTRY_INFO!A97)","v":"Tanzania"},{"$f":"IF(COUNTRY_INFO!B97=0,\" \",COUNTRY_INFO!B97)","v":"Mbeya"},{"$f":"IF(COUNTRY_INFO!C97=0,\" \",COUNTRY_INFO!C97)","v":"Rungwe District Council"},{"$f":"IF(AND(COUNTRY_INFO!$T$9:$T$1000=\"T3 (ALB/MBD)\",COUNTRY_INFO!$U$9:$U$1000=\"T3 (ALB/MBD)\"), \"T3 (ALB/MBD)\", \" \")","v":" "},null,null,null,null,null,0,null,null,null,0," "," "," "," "]
[{"$f":"IF(COUNTRY_INFO!A98=0,\" \",COUNTRY_INFO!A98)","v":"Tanzania"},{"$f":"IF(COUNTRY_INFO!B98=0,\" \",COUNTRY_INFO!B98)","v":"Morogoro"},{"$f":"IF(COUNTRY_INFO!C98=0,\" \",COUNTRY_INFO!C98)","v":"Gairo District Council"},{"$f":"IF(AND(COUNTRY_INFO!$T$9:$T$1000=\"T3 (ALB/MBD)\",COUNTRY_INFO!$U$9:$U$1000=\"T3 (ALB/MBD)\"), \"T3 (ALB/MBD)\", \" \")","v":" "},null,null,null,null,null,0,null,null,null,0," "," "," "," "]
[{"$f":"IF(COUNTRY_INFO!A99=0,\" \",COUNTRY_INFO!A99)","v":"Tanzania"},{"$f":"IF(COUNTRY_INFO!B99=0,\" \",COUNTRY_INFO!B99)","v":"Morogoro"},{"$f":"IF(COUNTRY_INFO!C99=0,\" \",COUNTRY_INFO!C99)","v":"Ifakara Town Council"},{"$f":"IF(AND(COUNTRY_INFO!$T$9:$T$1000=\"T3 (ALB/MBD)\",COUNTRY_INFO!$U$9:$U$1000=\"T3 (ALB/MBD)\"), \"T3 (ALB/MBD)\", \" \")","v":" "},null,null,null,null,null,0,null,null,null,0," "," "," "," "]
[{"$f":"IF(COUNTRY_INFO!A100=0,\" \",COUNTRY_INFO!A100)","v":"Tanzania"},{"$f":"IF(COUNTRY_INFO!B100=0,\" \",COUNTRY_INFO!B100)","v":"Morogoro"},{"$f":"IF(COUNTRY_INFO!C100=0,\" \",COUNTRY_INFO!C100)","v":"Kilombero District Council"},{"$f":"IF(AND(COUNTRY_INFO!$T$9:$T$1000=\"T3 (ALB/MBD)\",COUNTRY_INFO!$U$9:$U$1000=\"T3 (ALB/MBD)\"), \"T3 (ALB/MBD)\", \" \")","v":" "},null,null,null,null,null,0,null,null,null,0," "," "," "," "]
[{"$f":"IF(COUNTRY_INFO!A101=0,\" \",COUNTRY_INFO!A101)","v":"Tanzania"},{"$f":"IF(COUNTRY_INFO!B101=0,\" \",COUNTRY_INFO!B101)","v":"Morogoro"},{"$f":"IF(COUNTRY_INFO!C101=0,\" \",COUNTRY_INFO!C101)","v":"Kilosa District Council"},{"$f":"IF(AND(COUNTRY_INFO!$T$9:$T$1000=\"T3 (ALB/MBD)\",COUNTRY_INFO!$U$9:$U$1000=\"T3 (ALB/MBD)\"), \"T3 (ALB/MBD)\", \" \")","v":" "},null,null,null,null,null,0,null,null,null,0," "," "," "," "]
[{"$f":"IF(COUNTRY_INFO!A102=0,\" \",COUNTRY_INFO!A102)","v":"Tanzania"},{"$f":"IF(COUNTRY_INFO!B102=0,\" \",COUNTRY_INFO!B102)","v":"Morogoro"},{"$f":"IF(COUNTRY_INFO!C102=0,\" \",COUNTRY_INFO!C102)","v":"Malinyi District Council"},{"$f":"IF(AND(COUNTRY_INFO!$T$9:$T$1000=\"T3 (ALB/MBD)\",COUNTRY_INFO!$U$9:$U$1000=\"T3 (ALB/MBD)\"), \"T3 (ALB/MBD)\", \" \")","v":" "},null,null,null,null,null,0,null,null,null,0," "," "," "," "]
[{"$f":"IF(COUNTRY_INFO!A103=0,\" \",COUNTRY_INFO!A103)","v":"Tanzania"},{"$f":"IF(COUNTRY_INFO!B103=0,\" \",COUNTRY_INFO!B103)","v":"Morogoro"},{"$f":"IF(COUNTRY_INFO!C103=0,\" \",COUNTRY_INFO!C103)","v":"Morogoro District Council"},{"$f":"IF(AND(COUNTRY_INFO!$T$9:$T$1000=\"T3 (ALB/MBD)\",COUNTRY_INFO!$U$9:$U$1000=\"T3 (ALB/MBD)\"), \"T3 (ALB/MBD)\", \" \")","v":" "},null,null,null,null,null,0,null,null,null,0," "," "," "," "]
[{"$f":"IF(COUNTRY_INFO!A104=0,\" \",COUNTRY_INFO!A104)","v":"Tanzania"},{"$f":"IF(COUNTRY_INFO!B104=0,\" \",COUNTRY_INFO!B104)","v":"Morogoro"},{"$f":"IF(COUNTRY_INFO!C104=0,\" \",COUNTRY_INFO!C104)","v":"Morogoro Municipal Council"},{"$f":"IF(AND(COUNTRY_INFO!$T$9:$T$1000=\"T3 (ALB/MBD)\",COUNTRY_INFO!$U$9:$U$1000=\"T3 (ALB/MBD)\"), \"T3 (ALB/MBD)\", \" \")","v":" "},null,null,null,null,null,0,null,null,null,0," "," "," "," "]
[{"$f":"IF(COUNTRY_INFO!A105=0,\" \",COUNTRY_INFO!A105)","v":"Tanzania"},{"$f":"IF(COUNTRY_INFO!B105=0,\" \",COUNTRY_INFO!B105)","v":"Morogoro"},{"$f":"IF(COUNTRY_INFO!C105=0,\" \",COUNTRY_INFO!C105)","v":"Mvomero District Council"},{"$f":"IF(AND(COUNTRY_INFO!$T$9:$T$1000=\"T3 (ALB/MBD)\",COUNTRY_INFO!$U$9:$U$1000=\"T3 (ALB/MBD)\"), \"T3 (ALB/MBD)\", \" \")","v":" "},null,null,null,null,null,0,null,null,null,0," "," "," "," "]
[{"$f":"IF(COUNTRY_INFO!A106=0,\" \",COUNTRY_INFO!A106)","v":"Tanzania"},{"$f":"IF(COUNTRY_INFO!B106=0,\" \",COUNTRY_INFO!B106)","v":"Morogoro"},{"$f":"IF(COUNTRY_INFO!C106=0,\" \",COUNTRY_INFO!C106)","v":"Ulanga District Council"},{"$f":"IF(AND(COUNTRY_INFO!$T$9:$T$1000=\"T3 (ALB/MBD)\",COUNTRY_INFO!$U$9:$U$1000=\"T3 (ALB/MBD)\"), \"T3 (ALB/MBD)\", \" \")","v":" "},null,null,null,null,null,0,null,null,null,0," "," "," "," "]
[{"$f":"IF(COUNTRY_INFO!A107=0,\" \",COUNTRY_INFO!A107)","v":"Tanzania"},{"$f":"IF(COUNTRY_INFO!B107=0,\" \",COUNTRY_INFO!B107)","v":"Mtwara"},{"$f":"IF(COUNTRY_INFO!C107=0,\" \",COUNTRY_INFO!C107)","v":"Masasi District Council"},{"$f":"IF(AND(COUNTRY_INFO!$T$9:$T$1000=\"T3 (ALB/MBD)\",COUNTRY_INFO!$U$9:$U$1000=\"T3 (ALB/MBD)\"), \"T3 (ALB/MBD)\", \" \")","v":" "},null,null,null,null,null,0,null,null,null,0," "," "," "," "]
[{"$f":"IF(COUNTRY_INFO!A108=0,\" \",COUNTRY_INFO!A108)","v":"Tanzania"},{"$f":"IF(COUNTRY_INFO!B108=0,\" \",COUNTRY_INFO!B108)","v":"Mtwara"},{"$f":"IF(COUNTRY_INFO!C108=0,\" \",COUNTRY_INFO!C108)","v":"Masasi Town Council"},{"$f":"IF(AND(COUNTRY_INFO!$T$9:$T$1000=\"T3 (ALB/MBD)\",COUNTRY_INFO!$U$9:$U$1000=\"T3 (ALB/MBD)\"), \"T3 (ALB/MBD)\", \" \")","v":" "},null,null,null,null,null,0,null,null,null,0," "," "," "," "]
[{"$f":"IF(COUNTRY_INFO!A109=0,\" \",COUNTRY_INFO!A109)","v":"Tanzania"},{"$f":"IF(COUNTRY_INFO!B109=0,\" \",COUNTRY_INFO!B109)","v":"Mtwara"},{"$f":"IF(COUNTRY_INFO!C109=0,\" \",COUNTRY_INFO!C109)","v":"Mtwara District Council"},{"$f":"IF(AND(COUNTRY_INFO!$T$9:$T$1000=\"T3 (ALB/MBD)\",COUNTRY_INFO!$U$9:$U$1000=\"T3 (ALB/MBD)\"), \"T3 (ALB/MBD)\", \" \")","v":" "},null,null,null,null,null,0,null,null,null,0," "," "," "," "]
[{"$f":"IF(COUNTRY_INFO!A110=0,\" \",COUNTRY_INFO!A110)","v":"Tanzania"},{"$f":"IF(COUNTRY_INFO!B110=0,\" \",COUNTRY_INFO!B110)","v":"Mtwara"},{"$f":"IF(COUNTRY_INFO!C110=0,\" \",COUNTRY_INFO!C110)","v":"Mtwara-Mikindani Municipal Council"},{"$f":"IF(AND(COUNTRY_INFO!$T$9:$T$1000=\"T3 (ALB/MBD)\",COUNTRY_INFO!$U$9:$U$1000=\"T3 (ALB/MBD)\"), \"T3 (ALB/MBD)\", \" \")","v":" "},null,null,null,null,null,0,null,null,null,0," "," "," "," "]
[{"$f":"IF(COUNTRY_INFO!A111=0,\" \",COUNTRY_INFO!A111)","v":"Tanzania"},{"$f":"IF(COUNTRY_INFO!B111=0,\" \",COUNTRY_INFO!B111)","v":"Mtwara"},{"$f":"IF(COUNTRY_INFO!C111=0,\" \",COUNTRY_INFO!C111)","v":"Nanyamba District Council"},{"$f":"IF(AND(COUNTRY_INFO!$T$9:$T$1000=\"T3 (ALB/MBD)\",COUNTRY_INFO!$U$9:$U$1000=\"T3 (ALB/MBD)\"), \"T3 (ALB/MBD)\", \" \")","v":" "},null,null,null,null,null,0,null,null,null,0," "," "," "," "]
[{"$f":"IF(COUNTRY_INFO!A112=0,\" \",COUNTRY_INFO!A112)","v":"Tanzania"},{"$f":"IF(COUNTRY_INFO!B112=0,\" \",COUNTRY_INFO!B112)","v":"Mtwara"},{"$f":"IF(COUNTRY_INFO!C112=0,\" \",COUNTRY_INFO!C112)","v":"Nanyumbu District Council"},{"$f":"IF(AND(COUNTRY_INFO!$T$9:$T$1000=\"T3 (ALB/MBD)\",COUNTRY_INFO!$U$9:$U$1000=\"T3 (ALB/MBD)\"), \"T3 (ALB/MBD)\", \" \")","v":" "},null,null,null,null,null,0,null,null,null,0," "," "," "," "]
[{"$f":"IF(COUNTRY_INFO!A113=0,\" \",COUNTRY_INFO!A113)","v":"Tanzania"},{"$f":"IF(COUNTRY_INFO!B113=0,\" \",COUNTRY_INFO!B113)","v":"Mtwara"},{"$f":"IF(COUNTRY_INFO!C113=0,\" \",COUNTRY_INFO!C113)","v":"Newala District Council"},{"$f":"IF(AND(COUNTRY_INFO!$T$9:$T$1000=\"T3 (ALB/MBD)\",COUNTRY_INFO!$U$9:$U$1000=\"T3 (ALB/MBD)\"), \"T3 (ALB/MBD)\", \" \")","v":" "},null,null,null,null,null,0,null,null,null,0," "," "," "," "]
[{"$f":"IF(COUNTRY_INFO!A114=0,\" \",COUNTRY_INFO!A114)","v":"Tanzania"},{"$f":"IF(COUNTRY_INFO!B114=0,\" \",COUNTRY_INFO!B114)","v":"Mtwara"},{"$f":"IF(COUNTRY_INFO!C114=0,\" \",COUNTRY_INFO!C114)","v":"Newala Town Council"},{"$f":"IF(AND(COUNTRY_INFO!$T$9:$T$1000=\"T3 (ALB/MBD)\",COUNTRY_INFO!$U$9:$U$1000=\"T3 (ALB/MBD)\"), \"T3 (ALB/MBD)\", \" \")","v":" "},null,null,null,null,null,0,null,null,null,0," "," "," "," "]
[{"$f":"IF(COUNTRY_INFO!A115=0,\" \",COUNTRY_INFO!A115)","v":"Tanzania"},{"$f":"IF(COUNTRY_INFO!B115=0,\" \",COUNTRY_INFO!B115)","v":"Mtwara"},{"$f":"IF(COUNTRY_INFO!C115=0,\" \",COUNTRY_INFO!C115)","v":"Tandahimba District Council"},{"$f":"IF(AND(COUNTRY_INFO!$T$9:$T$1000=\"T3 (ALB/MBD)\",COUNTRY_INFO!$U$9:$U$1000=\"T3 (ALB/MBD)\"), \"T3 (ALB/MBD)\", \" \")","v":" "},null,null,null,null,null,0,null,null,null,0," "," "," "," "]
[{"$f":"IF(COUNTRY_INFO!A116=0,\" \",COUNTRY_INFO!A116)","v":"Tanzania"},{"$f":"IF(COUNTRY_INFO!B116=0,\" \",COUNTRY_INFO!B116)","v":"Mwanza"},{"$f":"IF(COUNTRY_INFO!C116=0,\" \",COUNTRY_INFO!C116)","v":"Buchosa District Council"},{"$f":"IF(AND(COUNTRY_INFO!$T$9:$T$1000=\"T3 (ALB/MBD)\",COUNTRY_INFO!$U$9:$U$1000=\"T3 (ALB/MBD)\"), \"T3 (ALB/MBD)\", \" \")","v":" "},null,null,null,null,null,0,null,null,null,0," "," "," "," "]
[{"$f":"IF(COUNTRY_INFO!A117=0,\" \",COUNTRY_INFO!A117)","v":"Tanzania"},{"$f":"IF(COUNTRY_INFO!B117=0,\" \",COUNTRY_INFO!B117)","v":"Mwanza"},{"$f":"IF(COUNTRY_INFO!C117=0,\" \",COUNTRY_INFO!C117)","v":"Ilemela Municipal Council"},{"$f":"IF(AND(COUNTRY_INFO!$T$9:$T$1000=\"T3 (ALB/MBD)\",COUNTRY_INFO!$U$9:$U$1000=\"T3 (ALB/MBD)\"), \"T3 (ALB/MBD)\", \" \")","v":" "},null,null,null,null,null,0,null,null,null,0," "," "," "," "]
[{"$f":"IF(COUNTRY_INFO!A118=0,\" \",COUNTRY_INFO!A118)","v":"Tanzania"},{"$f":"IF(COUNTRY_INFO!B118=0,\" \",COUNTRY_INFO!B118)","v":"Mwanza"},{"$f":"IF(COUNTRY_INFO!C118=0,\" \",COUNTRY_INFO!C118)","v":"Kwimba District Council"},{"$f":"IF(AND(COUNTRY_INFO!$T$9:$T$1000=\"T3 (ALB/MBD)\",COUNTRY_INFO!$U$9:$U$1000=\"T3 (ALB/MBD)\"), \"T3 (ALB/MBD)\", \" \")","v":" "},null,null,null,null,null,0,null,null,null,0," "," "," "," "]
[{"$f":"IF(COUNTRY_INFO!A119=0,\" \",COUNTRY_INFO!A119)","v":"Tanzania"},{"$f":"IF(COUNTRY_INFO!B119=0,\" \",COUNTRY_INFO!B119)","v":"Mwanza"},{"$f":"IF(COUNTRY_INFO!C119=0,\" \",COUNTRY_INFO!C119)","v":"Magu District Council"},{"$f":"IF(AND(COUNTRY_INFO!$T$9:$T$1000=\"T3 (ALB/MBD)\",COUNTRY_INFO!$U$9:$U$1000=\"T3 (ALB/MBD)\"), \"T3 (ALB/MBD)\", \" \")","v":" "},null,null,null,null,null,0,null,null,null,0," "," "," "," "]
[{"$f":"IF(COUNTRY_INFO!A120=0,\" \",COUNTRY_INFO!A120)","v":"Tanzania"},{"$f":"IF(COUNTRY_INFO!B120=0,\" \",COUNTRY_INFO!B120)","v":"Mwanza"},{"$f":"IF(COUNTRY_INFO!C120=0,\" \",COUNTRY_INFO!C120)","v":"Misungwi District Council"},{"$f":"IF(AND(COUNTRY_INFO!$T$9:$T$1000=\"T3 (ALB/MBD)\",COUNTRY_INFO!$U$9:$U$1000=\"T3 (ALB/MBD)\"), \"T3 (ALB/MBD)\", \" \")","v":" "},null,null,null,null,null,0,null,null,null,0," "," "," "," "]
[{"$f":"IF(COUNTRY_INFO!A121=0,\" \",COUNTRY_INFO!A121)","v":"Tanzania"},{"$f":"IF(COUNTRY_INFO!B121=0,\" \",COUNTRY_INFO!B121)","v":"Mwanza"},{"$f":"IF(COUNTRY_INFO!C121=0,\" \",COUNTRY_INFO!C121)","v":"Mwanza-Nyamagana City Council"},{"$f":"IF(AND(COUNTRY_INFO!$T$9:$T$1000=\"T3 (ALB/MBD)\",COUNTRY_INFO!$U$9:$U$1000=\"T3 (ALB/MBD)\"), \"T3 (ALB/MBD)\", \" \")","v":" "},null,null,null,null,null,0,null,null,null,0," "," "," "," "]
[{"$f":"IF(COUNTRY_INFO!A122=0,\" \",COUNTRY_INFO!A122)","v":"Tanzania"},{"$f":"IF(COUNTRY_INFO!B122=0,\" \",COUNTRY_INFO!B122)","v":"Mwanza"},{"$f":"IF(COUNTRY_INFO!C122=0,\" \",COUNTRY_INFO!C122)","v":"Sengerema District Council"},{"$f":"IF(AND(COUNTRY_INFO!$T$9:$T$1000=\"T3 (ALB/MBD)\",COUNTRY_INFO!$U$9:$U$1000=\"T3 (ALB/MBD)\"), \"T3 (ALB/MBD)\", \" \")","v":" "},null,null,null,null,null,0,null,null,null,0," "," "," "," "]
[{"$f":"IF(COUNTRY_INFO!A123=0,\" \",COUNTRY_INFO!A123)","v":"Tanzania"},{"$f":"IF(COUNTRY_INFO!B123=0,\" \",COUNTRY_INFO!B123)","v":"Mwanza"},{"$f":"IF(COUNTRY_INFO!C123=0,\" \",COUNTRY_INFO!C123)","v":"Ukerewe District Council"},{"$f":"IF(AND(COUNTRY_INFO!$T$9:$T$1000=\"T3 (ALB/MBD)\",COUNTRY_INFO!$U$9:$U$1000=\"T3 (ALB/MBD)\"), \"T3 (ALB/MBD)\", \" \")","v":" "},null,null,null,null,null,0,null,null,null,0," "," "," "," "]
[{"$f":"IF(COUNTRY_INFO!A124=0,\" \",COUNTRY_INFO!A124)","v":"Tanzania"},{"$f":"IF(COUNTRY_INFO!B124=0,\" \",COUNTRY_INFO!B124)","v":"Njombe"},{"$f":"IF(COUNTRY_INFO!C124=0,\" \",COUNTRY_INFO!C124)","v":"Ludewa District Council"},{"$f":"IF(AND(COUNTRY_INFO!$T$9:$T$1000=\"T3 (ALB/MBD)\",COUNTRY_INFO!$U$9:$U$1000=\"T3 (ALB/MBD)\"), \"T3 (ALB/MBD)\", \" \")","v":" "},null,null,null,null,null,0,null,null,null,0," "," "," "," "]
[{"$f":"IF(COUNTRY_INFO!A125=0,\" \",COUNTRY_INFO!A125)","v":"Tanzania"},{"$f":"IF(COUNTRY_INFO!B125=0,\" \",COUNTRY_INFO!B125)","v":"Njombe"},{"$f":"IF(COUNTRY_INFO!C125=0,\" \",COUNTRY_INFO!C125)","v":"Makambako Town Council"},{"$f":"IF(AND(COUNTRY_INFO!$T$9:$T$1000=\"T3 (ALB/MBD)\",COUNTRY_INFO!$U$9:$U$1000=\"T3 (ALB/MBD)\"), \"T3 (ALB/MBD)\", \" \")","v":" "},null,null,null,null,null,0,null,null,null,0," "," "," "," "]
[{"$f":"IF(COUNTRY_INFO!A126=0,\" \",COUNTRY_INFO!A126)","v":"Tanzania"},{"$f":"IF(COUNTRY_INFO!B126=0,\" \",COUNTRY_INFO!B126)","v":"Njombe"},{"$f":"IF(COUNTRY_INFO!C126=0,\" \",COUNTRY_INFO!C126)","v":"Makete District Council"},{"$f":"IF(AND(COUNTRY_INFO!$T$9:$T$1000=\"T3 (ALB/MBD)\",COUNTRY_INFO!$U$9:$U$1000=\"T3 (ALB/MBD)\"), \"T3 (ALB/MBD)\", \" \")","v":" "},null,null,null,null,null,0,null,null,null,0," "," "," "," "]
[{"$f":"IF(COUNTRY_INFO!A127=0,\" \",COUNTRY_INFO!A127)","v":"Tanzania"},{"$f":"IF(COUNTRY_INFO!B127=0,\" \",COUNTRY_INFO!B127)","v":"Njombe"},{"$f":"IF(COUNTRY_INFO!C127=0,\" \",COUNTRY_INFO!C127)","v":"Njombe District Council"},{"$f":"IF(AND(COUNTRY_INFO!$T$9:$T$1000=\"T3 (ALB/MBD)\",COUNTRY_INFO!$U$9:$U$1000=\"T3 (ALB/MBD)\"), \"T3 (ALB/MBD)\", \" \")","v":" "},null,null,null,null,null,0,null,null,null,0," "," "," "," "]
[{"$f":"IF(COUNTRY_INFO!A128=0,\" \",COUNTRY_INFO!A128)","v":"Tanzania"},{"$f":"IF(COUNTRY_INFO!B128=0,\" \",COUNTRY_INFO!B128)","v":"Njombe"},{"$f":"IF(COUNTRY_INFO!C128=0,\" \",COUNTRY_INFO!C128)","v":"Njombe Town Council"},{"$f":"IF(AND(COUNTRY_INFO!$T$9:$T$1000=\"T3 (ALB/MBD)\",COUNTRY_INFO!$U$9:$U$1000=\"T3 (ALB/MBD)\"), \"T3 (ALB/MBD)\", \" \")","v":" "},null,null,null,null,null,0,null,null,null,0," "," "," "," "]
[{"$f":"IF(COUNTRY_INFO!A129=0,\" \",COUNTRY_INFO!A129)","v":"Tanzania"},{"$f":"IF(COUNTRY_INFO!B129=0,\" \",COUNTRY_INFO!B129)","v":"Njombe"},{"$f":"IF(COUNTRY_INFO!C129=0,\" \",COUNTRY_INFO!C129)","v":"Wanging'ombe District Council"},{"$f":"IF(AND(COUNTRY_INFO!$T$9:$T$1000=\"T3 (ALB/MBD)\",COUNTRY_INFO!$U$9:$U$1000=\"T3 (ALB/MBD)\"), \"T3 (ALB/MBD)\", \" \")","v":" "},null,null,null,null,null,0,null,null,null,0," "," "," "," "]
[{"$f":"IF(COUNTRY_INFO!A130=0,\" \",COUNTRY_INFO!A130)","v":"Tanzania"},{"$f":"IF(COUNTRY_INFO!B130=0,\" \",COUNTRY_INFO!B130)","v":"Pwani"},{"$f":"IF(COUNTRY_INFO!C130=0,\" \",COUNTRY_INFO!C130)","v":"Bagamoyo District Council"},{"$f":"IF(AND(COUNTRY_INFO!$T$9:$T$1000=\"T3 (ALB/MBD)\",COUNTRY_INFO!$U$9:$U$1000=\"T3 (ALB/MBD)\"), \"T3 (ALB/MBD)\", \" \")","v":" "},null,null,null,null,null,0,null,null,null,0," "," "," "," "]
[{"$f":"IF(COUNTRY_INFO!A131=0,\" \",COUNTRY_INFO!A131)","v":"Tanzania"},{"$f":"IF(COUNTRY_INFO!B131=0,\" \",COUNTRY_INFO!B131)","v":"Pwani"},{"$f":"IF(COUNTRY_INFO!C131=0,\" \",COUNTRY_INFO!C131)","v":"Chalinze District Council"},{"$f":"IF(AND(COUNTRY_INFO!$T$9:$T$1000=\"T3 (ALB/MBD)\",COUNTRY_INFO!$U$9:$U$1000=\"T3 (ALB/MBD)\"), \"T3 (ALB/MBD)\", \" \")","v":" "},null,null,null,null,null,0,null,null,null,0," "," "," "," "]
[{"$f":"IF(COUNTRY_INFO!A132=0,\" \",COUNTRY_INFO!A132)","v":"Tanzania"},{"$f":"IF(COUNTRY_INFO!B132=0,\" \",COUNTRY_INFO!B132)","v":"Pwani"},{"$f":"IF(COUNTRY_INFO!C132=0,\" \",COUNTRY_INFO!C132)","v":"Kibaha District Council"},{"$f":"IF(AND(COUNTRY_INFO!$T$9:$T$1000=\"T3 (ALB/MBD)\",COUNTRY_INFO!$U$9:$U$1000=\"T3 (ALB/MBD)\"), \"T3 (ALB/MBD)\", \" \")","v":" "},null,null,null,null,null,0,null,null,null,0," "," "," "," "]
[{"$f":"IF(COUNTRY_INFO!A133=0,\" \",COUNTRY_INFO!A133)","v":"Tanzania"},{"$f":"IF(COUNTRY_INFO!B133=0,\" \",COUNTRY_INFO!B133)","v":"Pwani"},{"$f":"IF(COUNTRY_INFO!C133=0,\" \",COUNTRY_INFO!C133)","v":"Kibaha Town Council"},{"$f":"IF(AND(COUNTRY_INFO!$T$9:$T$1000=\"T3 (ALB/MBD)\",COUNTRY_INFO!$U$9:$U$1000=\"T3 (ALB/MBD)\"), \"T3 (ALB/MBD)\", \" \")","v":" "},null,null,null,null,null,0,null,null,null,0," "," "," "," "]
[{"$f":"IF(COUNTRY_INFO!A134=0,\" \",COUNTRY_INFO!A134)","v":"Tanzania"},{"$f":"IF(COUNTRY_INFO!B134=0,\" \",COUNTRY_INFO!B134)","v":"Pwani"},{"$f":"IF(COUNTRY_INFO!C134=0,\" \",COUNTRY_INFO!C134)","v":"Kibiti District Council"},{"$f":"IF(AND(COUNTRY_INFO!$T$9:$T$1000=\"T3 (ALB/MBD)\",COUNTRY_INFO!$U$9:$U$1000=\"T3 (ALB/MBD)\"), \"T3 (ALB/MBD)\", \" \")","v":" "},null,null,null,null,null,0,null,null,null,0," "," "," "," "]
[{"$f":"IF(COUNTRY_INFO!A135=0,\" \",COUNTRY_INFO!A135)","v":"Tanzania"},{"$f":"IF(COUNTRY_INFO!B135=0,\" \",COUNTRY_INFO!B135)","v":"Pwani"},{"$f":"IF(COUNTRY_INFO!C135=0,\" \",COUNTRY_INFO!C135)","v":"Kisarawe District Council"},{"$f":"IF(AND(COUNTRY_INFO!$T$9:$T$1000=\"T3 (ALB/MBD)\",COUNTRY_INFO!$U$9:$U$1000=\"T3 (ALB/MBD)\"), \"T3 (ALB/MBD)\", \" \")","v":" "},null,null,null,null,null,0,null,null,null,0," "," "," "," "]
[{"$f":"IF(COUNTRY_INFO!A136=0,\" \",COUNTRY_INFO!A136)","v":"Tanzania"},{"$f":"IF(COUNTRY_INFO!B136=0,\" \",COUNTRY_INFO!B136)","v":"Pwani"},{"$f":"IF(COUNTRY_INFO!C136=0,\" \",COUNTRY_INFO!C136)","v":"Mafia District Council"},{"$f":"IF(AND(COUNTRY_INFO!$T$9:$T$1000=\"T3 (ALB/MBD)\",COUNTRY_INFO!$U$9:$U$1000=\"T3 (ALB/MBD)\"), \"T3 (ALB/MBD)\", \" \")","v":" "},null,null,null,null,null,0,null,null,null,0," "," "," "," "]
[{"$f":"IF(COUNTRY_INFO!A137=0,\" \",COUNTRY_INFO!A137)","v":"Tanzania"},{"$f":"IF(COUNTRY_INFO!B137=0,\" \",COUNTRY_INFO!B137)","v":"Pwani"},{"$f":"IF(COUNTRY_INFO!C137=0,\" \",COUNTRY_INFO!C137)","v":"Mkuranga District Council"},{"$f":"IF(AND(COUNTRY_INFO!$T$9:$T$1000=\"T3 (ALB/MBD)\",COUNTRY_INFO!$U$9:$U$1000=\"T3 (ALB/MBD)\"), \"T3 (ALB/MBD)\", \" \")","v":" "},null,null,null,null,null,0,null,null,null,0," "," "," "," "]
[{"$f":"IF(COUNTRY_INFO!A138=0,\" \",COUNTRY_INFO!A138)","v":"Tanzania"},{"$f":"IF(COUNTRY_INFO!B138=0,\" \",COUNTRY_INFO!B138)","v":"Pwani"},{"$f":"IF(COUNTRY_INFO!C138=0,\" \",COUNTRY_INFO!C138)","v":"Rufiji District Council"},{"$f":"IF(AND(COUNTRY_INFO!$T$9:$T$1000=\"T3 (ALB/MBD)\",COUNTRY_INFO!$U$9:$U$1000=\"T3 (ALB/MBD)\"), \"T3 (ALB/MBD)\", \" \")","v":" "},null,null,null,null,null,{"$f":"SUM(G138:I138)","v":0},null,null,null,{"$f":"SUM(K138:M138)","v":0},{"$f":"IF(G138<>0, IF(K138/G138*100=0, \"-\", K138/G138*100), \" \")","v":" "},{"$f":"IF(H138<>0, IF(L138/H138*100=0, \"-\", L138/H138*100), \" \")","v":" "},{"$f":"IF(I138<>0, IF(M138/I138*100=0, \"-\", M138/I138*100), \" \")","v":" "},{"$f":"IF(J138<>0, IF(N138/J138*100=0, \"-\", N138/J138*100), \" \")","v":" "}]
[{"$f":"IF(COUNTRY_INFO!A139=0,\" \",COUNTRY_INFO!A139)","v":"Tanzania"},{"$f":"IF(COUNTRY_INFO!B139=0,\" \",COUNTRY_INFO!B139)","v":"Rukwa"},{"$f":"IF(COUNTRY_INFO!C139=0,\" \",COUNTRY_INFO!C139)","v":"Kalambo District Council"},{"$f":"IF(AND(COUNTRY_INFO!$T$9:$T$1000=\"T3 (ALB/MBD)\",COUNTRY_INFO!$U$9:$U$1000=\"T3 (ALB/MBD)\"), \"T3 (ALB/MBD)\", \" \")","v":" "},null,null,null,null,null,0,null,null,null,0," "," "," "," "]
[{"$f":"IF(COUNTRY_INFO!A140=0,\" \",COUNTRY_INFO!A140)","v":"Tanzania"},{"$f":"IF(COUNTRY_INFO!B140=0,\" \",COUNTRY_INFO!B140)","v":"Rukwa"},{"$f":"IF(COUNTRY_INFO!C140=0,\" \",COUNTRY_INFO!C140)","v":"Nkasi District Council"},{"$f":"IF(AND(COUNTRY_INFO!$T$9:$T$1000=\"T3 (ALB/MBD)\",COUNTRY_INFO!$U$9:$U$1000=\"T3 (ALB/MBD)\"), \"T3 (ALB/MBD)\", \" \")","v":" "},null,null,null,null,null,0,null,null,null,0," "," "," "," "]
[{"$f":"IF(COUNTRY_INFO!A141=0,\" \",COUNTRY_INFO!A141)","v":"Tanzania"},{"$f":"IF(COUNTRY_INFO!B141=0,\" \",COUNTRY_INFO!B141)","v":"Rukwa"},{"$f":"IF(COUNTRY_INFO!C141=0,\" \",COUNTRY_INFO!C141)","v":"Sumbawanga District Council"},{"$f":"IF(AND(COUNTRY_INFO!$T$9:$T$1000=\"T3 (ALB/MBD)\",COUNTRY_INFO!$U$9:$U$1000=\"T3 (ALB/MBD)\"), \"T3 (ALB/MBD)\", \" \")","v":" "},null,null,null,null,null,0,null,null,null,0," "," "," "," "]
[{"$f":"IF(COUNTRY_INFO!A142=0,\" \",COUNTRY_INFO!A142)","v":"Tanzania"},{"$f":"IF(COUNTRY_INFO!B142=0,\" \",COUNTRY_INFO!B142)","v":"Rukwa"},{"$f":"IF(COUNTRY_INFO!C142=0,\" \",COUNTRY_INFO!C142)","v":"Sumbawanga Municipal Council"},{"$f":"IF(AND(COUNTRY_INFO!$T$9:$T$1000=\"T3 (ALB/MBD)\",COUNTRY_INFO!$U$9:$U$1000=\"T3 (ALB/MBD)\"), \"T3 (ALB/MBD)\", \" \")","v":" "},null,null,null,null,null,0,null,null,null,0," "," "," "," "]
[{"$f":"IF(COUNTRY_INFO!A143=0,\" \",COUNTRY_INFO!A143)","v":"Tanzania"},{"$f":"IF(COUNTRY_INFO!B143=0,\" \",COUNTRY_INFO!B143)","v":"Ruvuma"},{"$f":"IF(COUNTRY_INFO!C143=0,\" \",COUNTRY_INFO!C143)","v":"Madaba District Council"},{"$f":"IF(AND(COUNTRY_INFO!$T$9:$T$1000=\"T3 (ALB/MBD)\",COUNTRY_INFO!$U$9:$U$1000=\"T3 (ALB/MBD)\"), \"T3 (ALB/MBD)\", \" \")","v":" "},null,null,null,null,null,0,null,null,null,0," "," "," "," "]
[{"$f":"IF(COUNTRY_INFO!A144=0,\" \",COUNTRY_INFO!A144)","v":"Tanzania"},{"$f":"IF(COUNTRY_INFO!B144=0,\" \",COUNTRY_INFO!B144)","v":"Ruvuma"},{"$f":"IF(COUNTRY_INFO!C144=0,\" \",COUNTRY_INFO!C144)","v":"Mbinga District Council"},{"$f":"IF(AND(COUNTRY_INFO!$T$9:$T$1000=\"T3 (ALB/MBD)\",COUNTRY_INFO!$U$9:$U$1000=\"T3 (ALB/MBD)\"), \"T3 (ALB/MBD)\", \" \")","v":" "},null,null,null,null,null,0,null,null,null,0," "," "," "," "]
[{"$f":"IF(COUNTRY_INFO!A145=0,\" \",COUNTRY_INFO!A145)","v":"Tanzania"},{"$f":"IF(COUNTRY_INFO!B145=0,\" \",COUNTRY_INFO!B145)","v":"Ruvuma"},{"$f":"IF(COUNTRY_INFO!C145=0,\" \",COUNTRY_INFO!C145)","v":"Mbinga Town Council"},{"$f":"IF(AND(COUNTRY_INFO!$T$9:$T$1000=\"T3 (ALB/MBD)\",COUNTRY_INFO!$U$9:$U$1000=\"T3 (ALB/MBD)\"), \"T3 (ALB/MBD)\", \" \")","v":" "},null,null,null,null,null,0,null,null,null,0," "," "," "," "]
[{"$f":"IF(COUNTRY_INFO!A146=0,\" \",COUNTRY_INFO!A146)","v":"Tanzania"},{"$f":"IF(COUNTRY_INFO!B146=0,\" \",COUNTRY_INFO!B146)","v":"Ruvuma"},{"$f":"IF(COUNTRY_INFO!C146=0,\" \",COUNTRY_INFO!C146)","v":"Namtumbo District Council"},{"$f":"IF(AND(COUNTRY_INFO!$T$9:$T$1000=\"T3 (ALB/MBD)\",COUNTRY_INFO!$U$9:$U$1000=\"T3 (ALB/MBD)\"), \"T3 (ALB/MBD)\", \" \")","v":" "},null,null,null,null,null,0,null,null,null,0," "," "," "," "]
[{"$f":"IF(COUNTRY_INFO!A147=0,\" \",COUNTRY_INFO!A147)","v":"Tanzania"},{"$f":"IF(COUNTRY_INFO!B147=0,\" \",COUNTRY_INFO!B147)","v":"Ruvuma"},{"$f":"IF(COUNTRY_INFO!C147=0,\" \",COUNTRY_INFO!C147)","v":"Nyasa District Council"},{"$f":"IF(AND(COUNTRY_INFO!$T$9:$T$1000=\"T3 (ALB/MBD)\",COUNTRY_INFO!$U$9:$U$1000=\"T3 (ALB/MBD)\"), \"T3 (ALB/MBD)\", \" \")","v":" "},null,null,null,null,null,0,null,null,null,0," "," "," "," "]
[{"$f":"IF(COUNTRY_INFO!A148=0,\" \",COUNTRY_INFO!A148)","v":"Tanzania"},{"$f":"IF(COUNTRY_INFO!B148=0,\" \",COUNTRY_INFO!B148)","v":"Ruvuma"},{"$f":"IF(COUNTRY_INFO!C148=0,\" \",COUNTRY_INFO!C148)","v":"Songea District Council"},{"$f":"IF(AND(COUNTRY_INFO!$T$9:$T$1000=\"T3 (ALB/MBD)\",COUNTRY_INFO!$U$9:$U$1000=\"T3 (ALB/MBD)\"), \"T3 (ALB/MBD)\", \" \")","v":" "},null,null,null,null,null,0,null,null,null,0," "," "," "," "]
[{"$f":"IF(COUNTRY_INFO!A149=0,\" \",COUNTRY_INFO!A149)","v":"Tanzania"},{"$f":"IF(COUNTRY_INFO!B149=0,\" \",COUNTRY_INFO!B149)","v":"Ruvuma"},{"$f":"IF(COUNTRY_INFO!C149=0,\" \",COUNTRY_INFO!C149)","v":"Songea Municipal Council"},{"$f":"IF(AND(COUNTRY_INFO!$T$9:$T$1000=\"T3 (ALB/MBD)\",COUNTRY_INFO!$U$9:$U$1000=\"T3 (ALB/MBD)\"), \"T3 (ALB/MBD)\", \" \")","v":" "},null,null,null,null,null,0,null,null,null,0," "," "," "," "]
[{"$f":"IF(COUNTRY_INFO!A150=0,\" \",COUNTRY_INFO!A150)","v":"Tanzania"},{"$f":"IF(COUNTRY_INFO!B150=0,\" \",COUNTRY_INFO!B150)","v":"Ruvuma"},{"$f":"IF(COUNTRY_INFO!C150=0,\" \",COUNTRY_INFO!C150)","v":"Tunduru District Council"},{"$f":"IF(AND(COUNTRY_INFO!$T$9:$T$1000=\"T3 (ALB/MBD)\",COUNTRY_INFO!$U$9:$U$1000=\"T3 (ALB/MBD)\"), \"T3 (ALB/MBD)\", \" \")","v":" "},null,null,null,null,null,0,null,null,null,0," "," "," "," "]
[{"$f":"IF(COUNTRY_INFO!A151=0,\" \",COUNTRY_INFO!A151)","v":"Tanzania"},{"$f":"IF(COUNTRY_INFO!B151=0,\" \",COUNTRY_INFO!B151)","v":"Shinyanga"},{"$f":"IF(COUNTRY_INFO!C151=0,\" \",COUNTRY_INFO!C151)","v":"Kahama Town Council"},{"$f":"IF(AND(COUNTRY_INFO!$T$9:$T$1000=\"T3 (ALB/MBD)\",COUNTRY_INFO!$U$9:$U$1000=\"T3 (ALB/MBD)\"), \"T3 (ALB/MBD)\", \" \")","v":" "},null,null,null,null,null,0,null,null,null,0," "," "," "," "]
[{"$f":"IF(COUNTRY_INFO!A152=0,\" \",COUNTRY_INFO!A152)","v":"Tanzania"},{"$f":"IF(COUNTRY_INFO!B152=0,\" \",COUNTRY_INFO!B152)","v":"Shinyanga"},{"$f":"IF(COUNTRY_INFO!C152=0,\" \",COUNTRY_INFO!C152)","v":"Kishapu District Council"},{"$f":"IF(AND(COUNTRY_INFO!$T$9:$T$1000=\"T3 (ALB/MBD)\",COUNTRY_INFO!$U$9:$U$1000=\"T3 (ALB/MBD)\"), \"T3 (ALB/MBD)\", \" \")","v":" "},null,null,null,null,null,0,null,null,null,0," "," "," "," "]
[{"$f":"IF(COUNTRY_INFO!A153=0,\" \",COUNTRY_INFO!A153)","v":"Tanzania"},{"$f":"IF(COUNTRY_INFO!B153=0,\" \",COUNTRY_INFO!B153)","v":"Shinyanga"},{"$f":"IF(COUNTRY_INFO!C153=0,\" \",COUNTRY_INFO!C153)","v":"Msalala District Council"},{"$f":"IF(AND(COUNTRY_INFO!$T$9:$T$1000=\"T3 (ALB/MBD)\",COUNTRY_INFO!$U$9:$U$1000=\"T3 (ALB/MBD)\"), \"T3 (ALB/MBD)\", \" \")","v":" "},null,null,null,null,null,0,null,null,null,0," "," "," "," "]
[{"$f":"IF(COUNTRY_INFO!A154=0,\" \",COUNTRY_INFO!A154)","v":"Tanzania"},{"$f":"IF(COUNTRY_INFO!B154=0,\" \",COUNTRY_INFO!B154)","v":"Shinyanga"},{"$f":"IF(COUNTRY_INFO!C154=0,\" \",COUNTRY_INFO!C154)","v":"Shinyanga District Council"},{"$f":"IF(AND(COUNTRY_INFO!$T$9:$T$1000=\"T3 (ALB/MBD)\",COUNTRY_INFO!$U$9:$U$1000=\"T3 (ALB/MBD)\"), \"T3 (ALB/MBD)\", \" \")","v":" "},null,null,null,null,null,0,null,null,null,0," "," "," "," "]
[{"$f":"IF(COUNTRY_INFO!A155=0,\" \",COUNTRY_INFO!A155)","v":"Tanzania"},{"$f":"IF(COUNTRY_INFO!B155=0,\" \",COUNTRY_INFO!B155)","v":"Shinyanga"},{"$f":"IF(COUNTRY_INFO!C155=0,\" \",COUNTRY_INFO!C155)","v":"Shinyanga Municipal Council"},{"$f":"IF(AND(COUNTRY_INFO!$T$9:$T$1000=\"T3 (ALB/MBD)\",COUNTRY_INFO!$U$9:$U$1000=\"T3 (ALB/MBD)\"), \"T3 (ALB/MBD)\", \" \")","v":" "},null,null,null,null,null,0,null,null,null,0," "," "," "," "]
[{"$f":"IF(COUNTRY_INFO!A156=0,\" \",COUNTRY_INFO!A156)","v":"Tanzania"},{"$f":"IF(COUNTRY_INFO!B156=0,\" \",COUNTRY_INFO!B156)","v":"Shinyanga"},{"$f":"IF(COUNTRY_INFO!C156=0,\" \",COUNTRY_INFO!C156)","v":"Ushetu District Council"},{"$f":"IF(AND(COUNTRY_INFO!$T$9:$T$1000=\"T3 (ALB/MBD)\",COUNTRY_INFO!$U$9:$U$1000=\"T3 (ALB/MBD)\"), \"T3 (ALB/MBD)\", \" \")","v":" "},null,null,null,null,null,0,null,null,null,0," "," "," "," "]
[{"$f":"IF(COUNTRY_INFO!A157=0,\" \",COUNTRY_INFO!A157)","v":"Tanzania"},{"$f":"IF(COUNTRY_INFO!B157=0,\" \",COUNTRY_INFO!B157)","v":"Simiyu"},{"$f":"IF(COUNTRY_INFO!C157=0,\" \",COUNTRY_INFO!C157)","v":"Bariadi District Council"},{"$f":"IF(AND(COUNTRY_INFO!$T$9:$T$1000=\"T3 (ALB/MBD)\",COUNTRY_INFO!$U$9:$U$1000=\"T3 (ALB/MBD)\"), \"T3 (ALB/MBD)\", \" \")","v":" "},null,null,null,null,null,0,null,null,null,0," "," "," "," "]
[{"$f":"IF(COUNTRY_INFO!A158=0,\" \",COUNTRY_INFO!A158)","v":"Tanzania"},{"$f":"IF(COUNTRY_INFO!B158=0,\" \",COUNTRY_INFO!B158)","v":"Simiyu"},{"$f":"IF(COUNTRY_INFO!C158=0,\" \",COUNTRY_INFO!C158)","v":"Bariadi Town Council"},{"$f":"IF(AND(COUNTRY_INFO!$T$9:$T$1000=\"T3 (ALB/MBD)\",COUNTRY_INFO!$U$9:$U$1000=\"T3 (ALB/MBD)\"), \"T3 (ALB/MBD)\", \" \")","v":" "},null,null,null,null,null,0,null,null,null,0," "," "," "," "]
[{"$f":"IF(COUNTRY_INFO!A159=0,\" \",COUNTRY_INFO!A159)","v":"Tanzania"},{"$f":"IF(COUNTRY_INFO!B159=0,\" \",COUNTRY_INFO!B159)","v":"Simiyu"},{"$f":"IF(COUNTRY_INFO!C159=0,\" \",COUNTRY_INFO!C159)","v":"Busega District Council"},{"$f":"IF(AND(COUNTRY_INFO!$T$9:$T$1000=\"T3 (ALB/MBD)\",COUNTRY_INFO!$U$9:$U$1000=\"T3 (ALB/MBD)\"), \"T3 (ALB/MBD)\", \" \")","v":" "},null,null,null,null,null,0,null,null,null,0," "," "," "," "]
[{"$f":"IF(COUNTRY_INFO!A160=0,\" \",COUNTRY_INFO!A160)","v":"Tanzania"},{"$f":"IF(COUNTRY_INFO!B160=0,\" \",COUNTRY_INFO!B160)","v":"Simiyu"},{"$f":"IF(COUNTRY_INFO!C160=0,\" \",COUNTRY_INFO!C160)","v":"Itilima District Council"},{"$f":"IF(AND(COUNTRY_INFO!$T$9:$T$1000=\"T3 (ALB/MBD)\",COUNTRY_INFO!$U$9:$U$1000=\"T3 (ALB/MBD)\"), \"T3 (ALB/MBD)\", \" \")","v":" "},null,null,null,null,null,0,null,null,null,0," "," "," "," "]
[{"$f":"IF(COUNTRY_INFO!A161=0,\" \",COUNTRY_INFO!A161)","v":"Tanzania"},{"$f":"IF(COUNTRY_INFO!B161=0,\" \",COUNTRY_INFO!B161)","v":"Simiyu"},{"$f":"IF(COUNTRY_INFO!C161=0,\" \",COUNTRY_INFO!C161)","v":"Maswa District Council"},{"$f":"IF(AND(COUNTRY_INFO!$T$9:$T$1000=\"T3 (ALB/MBD)\",COUNTRY_INFO!$U$9:$U$1000=\"T3 (ALB/MBD)\"), \"T3 (ALB/MBD)\", \" \")","v":" "},null,null,null,null,null,0,null,null,null,0," "," "," "," "]
[{"$f":"IF(COUNTRY_INFO!A162=0,\" \",COUNTRY_INFO!A162)","v":"Tanzania"},{"$f":"IF(COUNTRY_INFO!B162=0,\" \",COUNTRY_INFO!B162)","v":"Simiyu"},{"$f":"IF(COUNTRY_INFO!C162=0,\" \",COUNTRY_INFO!C162)","v":"Meatu District Council"},{"$f":"IF(AND(COUNTRY_INFO!$T$9:$T$1000=\"T3 (ALB/MBD)\",COUNTRY_INFO!$U$9:$U$1000=\"T3 (ALB/MBD)\"), \"T3 (ALB/MBD)\", \" \")","v":" "},null,null,null,null,null,0,null,null,null,0," "," "," "," "]
[{"$f":"IF(COUNTRY_INFO!A163=0,\" \",COUNTRY_INFO!A163)","v":"Tanzania"},{"$f":"IF(COUNTRY_INFO!B163=0,\" \",COUNTRY_INFO!B163)","v":"Singida"},{"$f":"IF(COUNTRY_INFO!C163=0,\" \",COUNTRY_INFO!C163)","v":"Ikungi District Council"},{"$f":"IF(AND(COUNTRY_INFO!$T$9:$T$1000=\"T3 (ALB/MBD)\",COUNTRY_INFO!$U$9:$U$1000=\"T3 (ALB/MBD)\"), \"T3 (ALB/MBD)\", \" \")","v":" "},null,null,null,null,null,0,null,null,null,0," "," "," "," "]
[{"$f":"IF(COUNTRY_INFO!A164=0,\" \",COUNTRY_INFO!A164)","v":"Tanzania"},{"$f":"IF(COUNTRY_INFO!B164=0,\" \",COUNTRY_INFO!B164)","v":"Singida"},{"$f":"IF(COUNTRY_INFO!C164=0,\" \",COUNTRY_INFO!C164)","v":"Iramba District Council"},{"$f":"IF(AND(COUNTRY_INFO!$T$9:$T$1000=\"T3 (ALB/MBD)\",COUNTRY_INFO!$U$9:$U$1000=\"T3 (ALB/MBD)\"), \"T3 (ALB/MBD)\", \" \")","v":" "},null,null,null,null,null,0,null,null,null,0," "," "," "," "]
[{"$f":"IF(COUNTRY_INFO!A165=0,\" \",COUNTRY_INFO!A165)","v":"Tanzania"},{"$f":"IF(COUNTRY_INFO!B165=0,\" \",COUNTRY_INFO!B165)","v":"Singida"},{"$f":"IF(COUNTRY_INFO!C165=0,\" \",COUNTRY_INFO!C165)","v":"Itigi District Council"},{"$f":"IF(AND(COUNTRY_INFO!$T$9:$T$1000=\"T3 (ALB/MBD)\",COUNTRY_INFO!$U$9:$U$1000=\"T3 (ALB/MBD)\"), \"T3 (ALB/MBD)\", \" \")","v":" "},null,null,null,null,null,0,null,null,null,0," "," "," "," "]
[{"$f":"IF(COUNTRY_INFO!A166=0,\" \",COUNTRY_INFO!A166)","v":"Tanzania"},{"$f":"IF(COUNTRY_INFO!B166=0,\" \",COUNTRY_INFO!B166)","v":"Singida"},{"$f":"IF(COUNTRY_INFO!C166=0,\" \",COUNTRY_INFO!C166)","v":"Manyoni District Council"},{"$f":"IF(AND(COUNTRY_INFO!$T$9:$T$1000=\"T3 (ALB/MBD)\",COUNTRY_INFO!$U$9:$U$1000=\"T3 (ALB/MBD)\"), \"T3 (ALB/MBD)\", \" \")","v":" "},null,null,null,null,null,0,null,null,null,0," "," "," "," "]
[{"$f":"IF(COUNTRY_INFO!A167=0,\" \",COUNTRY_INFO!A167)","v":"Tanzania"},{"$f":"IF(COUNTRY_INFO!B167=0,\" \",COUNTRY_INFO!B167)","v":"Singida"},{"$f":"IF(COUNTRY_INFO!C167=0,\" \",COUNTRY_INFO!C167)","v":"Mkalama District Council"},{"$f":"IF(AND(COUNTRY_INFO!$T$9:$T$1000=\"T3 (ALB/MBD)\",COUNTRY_INFO!$U$9:$U$1000=\"T3 (ALB/MBD)\"), \"T3 (ALB/MBD)\", \" \")","v":" "},null,null,null,null,null,0,null,null,null,0," "," "," "," "]
[{"$f":"IF(COUNTRY_INFO!A168=0,\" \",COUNTRY_INFO!A168)","v":"Tanzania"},{"$f":"IF(COUNTRY_INFO!B168=0,\" \",COUNTRY_INFO!B168)","v":"Singida"},{"$f":"IF(COUNTRY_INFO!C168=0,\" \",COUNTRY_INFO!C168)","v":"Singida District Council"},{"$f":"IF(AND(COUNTRY_INFO!$T$9:$T$1000=\"T3 (ALB/MBD)\",COUNTRY_INFO!$U$9:$U$1000=\"T3 (ALB/MBD)\"), \"T3 (ALB/MBD)\", \" \")","v":" "},null,null,null,null,null,0,null,null,null,0," "," "," "," "]
[{"$f":"IF(COUNTRY_INFO!A169=0,\" \",COUNTRY_INFO!A169)","v":"Tanzania"},{"$f":"IF(COUNTRY_INFO!B169=0,\" \",COUNTRY_INFO!B169)","v":"Singida"},{"$f":"IF(COUNTRY_INFO!C169=0,\" \",COUNTRY_INFO!C169)","v":"Singida Municipal Council"},{"$f":"IF(AND(COUNTRY_INFO!$T$9:$T$1000=\"T3 (ALB/MBD)\",COUNTRY_INFO!$U$9:$U$1000=\"T3 (ALB/MBD)\"), \"T3 (ALB/MBD)\", \" \")","v":" "},null,null,null,null,null,0,null,null,null,0," "," "," "," "]
[{"$f":"IF(COUNTRY_INFO!A170=0,\" \",COUNTRY_INFO!A170)","v":"Tanzania"},{"$f":"IF(COUNTRY_INFO!B170=0,\" \",COUNTRY_INFO!B170)","v":"Songwe"},{"$f":"IF(COUNTRY_INFO!C170=0,\" \",COUNTRY_INFO!C170)","v":"Ileje District Council"},{"$f":"IF(AND(COUNTRY_INFO!$T$9:$T$1000=\"T3 (ALB/MBD)\",COUNTRY_INFO!$U$9:$U$1000=\"T3 (ALB/MBD)\"), \"T3 (ALB/MBD)\", \" \")","v":" "},null,null,null,null,null,0,null,null,null,0," "," "," "," "]
[{"$f":"IF(COUNTRY_INFO!A171=0,\" \",COUNTRY_INFO!A171)","v":"Tanzania"},{"$f":"IF(COUNTRY_INFO!B171=0,\" \",COUNTRY_INFO!B171)","v":"Songwe"},{"$f":"IF(COUNTRY_INFO!C171=0,\" \",COUNTRY_INFO!C171)","v":"Mbozi District Council"},{"$f":"IF(AND(COUNTRY_INFO!$T$9:$T$1000=\"T3 (ALB/MBD)\",COUNTRY_INFO!$U$9:$U$1000=\"T3 (ALB/MBD)\"), \"T3 (ALB/MBD)\", \" \")","v":" "},null,null,null,null,null,0,null,null,null,0," "," "," "," "]
[{"$f":"IF(COUNTRY_INFO!A172=0,\" \",COUNTRY_INFO!A172)","v":"Tanzania"},{"$f":"IF(COUNTRY_INFO!B172=0,\" \",COUNTRY_INFO!B172)","v":"Songwe"},{"$f":"IF(COUNTRY_INFO!C172=0,\" \",COUNTRY_INFO!C172)","v":"Momba District Council"},{"$f":"IF(AND(COUNTRY_INFO!$T$9:$T$1000=\"T3 (ALB/MBD)\",COUNTRY_INFO!$U$9:$U$1000=\"T3 (ALB/MBD)\"), \"T3 (ALB/MBD)\", \" \")","v":" "},null,null,null,null,null,0,null,null,null,0," "," "," "," "]
[{"$f":"IF(COUNTRY_INFO!A173=0,\" \",COUNTRY_INFO!A173)","v":"Tanzania"},{"$f":"IF(COUNTRY_INFO!B173=0,\" \",COUNTRY_INFO!B173)","v":"Songwe"},{"$f":"IF(COUNTRY_INFO!C173=0,\" \",COUNTRY_INFO!C173)","v":"Songwe District Council"},{"$f":"IF(AND(COUNTRY_INFO!$T$9:$T$1000=\"T3 (ALB/MBD)\",COUNTRY_INFO!$U$9:$U$1000=\"T3 (ALB/MBD)\"), \"T3 (ALB/MBD)\", \" \")","v":" "},null,null,null,null,null,0,null,null,null,0," "," "," "," "]
[{"$f":"IF(COUNTRY_INFO!A174=0,\" \",COUNTRY_INFO!A174)","v":"Tanzania"},{"$f":"IF(COUNTRY_INFO!B174=0,\" \",COUNTRY_INFO!B174)","v":"Songwe"},{"$f":"IF(COUNTRY_INFO!C174=0,\" \",COUNTRY_INFO!C174)","v":"Tunduma Town Council"},{"$f":"IF(AND(COUNTRY_INFO!$T$9:$T$1000=\"T3 (ALB/MBD)\",COUNTRY_INFO!$U$9:$U$1000=\"T3 (ALB/MBD)\"), \"T3 (ALB/MBD)\", \" \")","v":" "},null,null,null,null,null,0,null,null,null,0," "," "," "," "]
[{"$f":"IF(COUNTRY_INFO!A175=0,\" \",COUNTRY_INFO!A175)","v":"Tanzania"},{"$f":"IF(COUNTRY_INFO!B175=0,\" \",COUNTRY_INFO!B175)","v":"Tabora"},{"$f":"IF(COUNTRY_INFO!C175=0,\" \",COUNTRY_INFO!C175)","v":"Igunga District Council"},{"$f":"IF(AND(COUNTRY_INFO!$T$9:$T$1000=\"T3 (ALB/MBD)\",COUNTRY_INFO!$U$9:$U$1000=\"T3 (ALB/MBD)\"), \"T3 (ALB/MBD)\", \" \")","v":" "},null,null,null,null,null,0,null,null,null,0," "," "," "," "]
[{"$f":"IF(COUNTRY_INFO!A176=0,\" \",COUNTRY_INFO!A176)","v":"Tanzania"},{"$f":"IF(COUNTRY_INFO!B176=0,\" \",COUNTRY_INFO!B176)","v":"Tabora"},{"$f":"IF(COUNTRY_INFO!C176=0,\" \",COUNTRY_INFO!C176)","v":"Kaliua District Council"},{"$f":"IF(AND(COUNTRY_INFO!$T$9:$T$1000=\"T3 (ALB/MBD)\",COUNTRY_INFO!$U$9:$U$1000=\"T3 (ALB/MBD)\"), \"T3 (ALB/MBD)\", \" \")","v":" "},null,null,null,null,null,0,null,null,null,0," "," "," "," "]
[{"$f":"IF(COUNTRY_INFO!A177=0,\" \",COUNTRY_INFO!A177)","v":"Tanzania"},{"$f":"IF(COUNTRY_INFO!B177=0,\" \",COUNTRY_INFO!B177)","v":"Tabora"},{"$f":"IF(COUNTRY_INFO!C177=0,\" \",COUNTRY_INFO!C177)","v":"Nzega District Council"},{"$f":"IF(AND(COUNTRY_INFO!$T$9:$T$1000=\"T3 (ALB/MBD)\",COUNTRY_INFO!$U$9:$U$1000=\"T3 (ALB/MBD)\"), \"T3 (ALB/MBD)\", \" \")","v":" "},null,null,null,null,null,0,null,null,null,0," "," "," "," "]
[{"$f":"IF(COUNTRY_INFO!A178=0,\" \",COUNTRY_INFO!A178)","v":"Tanzania"},{"$f":"IF(COUNTRY_INFO!B178=0,\" \",COUNTRY_INFO!B178)","v":"Tabora"},{"$f":"IF(COUNTRY_INFO!C178=0,\" \",COUNTRY_INFO!C178)","v":"Nzega Town Council"},{"$f":"IF(AND(COUNTRY_INFO!$T$9:$T$1000=\"T3 (ALB/MBD)\",COUNTRY_INFO!$U$9:$U$1000=\"T3 (ALB/MBD)\"), \"T3 (ALB/MBD)\", \" \")","v":" "},null,null,null,null,null,0,null,null,null,0," "," "," "," "]
[{"$f":"IF(COUNTRY_INFO!A179=0,\" \",COUNTRY_INFO!A179)","v":"Tanzania"},{"$f":"IF(COUNTRY_INFO!B179=0,\" \",COUNTRY_INFO!B179)","v":"Tabora"},{"$f":"IF(COUNTRY_INFO!C179=0,\" \",COUNTRY_INFO!C179)","v":"Sikonge District Council"},{"$f":"IF(AND(COUNTRY_INFO!$T$9:$T$1000=\"T3 (ALB/MBD)\",COUNTRY_INFO!$U$9:$U$1000=\"T3 (ALB/MBD)\"), \"T3 (ALB/MBD)\", \" \")","v":" "},null,null,null,null,null,0,null,null,null,0," "," "," "," "]
[{"$f":"IF(COUNTRY_INFO!A180=0,\" \",COUNTRY_INFO!A180)","v":"Tanzania"},{"$f":"IF(COUNTRY_INFO!B180=0,\" \",COUNTRY_INFO!B180)","v":"Tabora"},{"$f":"IF(COUNTRY_INFO!C180=0,\" \",COUNTRY_INFO!C180)","v":"Tabora Municipal Council"},{"$f":"IF(AND(COUNTRY_INFO!$T$9:$T$1000=\"T3 (ALB/MBD)\",COUNTRY_INFO!$U$9:$U$1000=\"T3 (ALB/MBD)\"), \"T3 (ALB/MBD)\", \" \")","v":" "},null,null,null,null,null,0,null,null,null,0," "," "," "," "]
[{"$f":"IF(COUNTRY_INFO!A181=0,\" \",COUNTRY_INFO!A181)","v":"Tanzania"},{"$f":"IF(COUNTRY_INFO!B181=0,\" \",COUNTRY_INFO!B181)","v":"Tabora"},{"$f":"IF(COUNTRY_INFO!C181=0,\" \",COUNTRY_INFO!C181)","v":"Urambo District Council"},{"$f":"IF(AND(COUNTRY_INFO!$T$9:$T$1000=\"T3 (ALB/MBD)\",COUNTRY_INFO!$U$9:$U$1000=\"T3 (ALB/MBD)\"), \"T3 (ALB/MBD)\", \" \")","v":" "},null,null,null,null,null,0,null,null,null,0," "," "," "," "]
[{"$f":"IF(COUNTRY_INFO!A182=0,\" \",COUNTRY_INFO!A182)","v":"Tanzania"},{"$f":"IF(COUNTRY_INFO!B182=0,\" \",COUNTRY_INFO!B182)","v":"Tabora"},{"$f":"IF(COUNTRY_INFO!C182=0,\" \",COUNTRY_INFO!C182)","v":"Uyui District Council"},{"$f":"IF(AND(COUNTRY_INFO!$T$9:$T$1000=\"T3 (ALB/MBD)\",COUNTRY_INFO!$U$9:$U$1000=\"T3 (ALB/MBD)\"), \"T3 (ALB/MBD)\", \" \")","v":" "},null,null,null,null,null,0,null,null,null,0," "," "," "," "]
[{"$f":"IF(COUNTRY_INFO!A183=0,\" \",COUNTRY_INFO!A183)","v":"Tanzania"},{"$f":"IF(COUNTRY_INFO!B183=0,\" \",COUNTRY_INFO!B183)","v":"Tanga"},{"$f":"IF(COUNTRY_INFO!C183=0,\" \",COUNTRY_INFO!C183)","v":"Bumbuli District Council"},{"$f":"IF(AND(COUNTRY_INFO!$T$9:$T$1000=\"T3 (ALB/MBD)\",COUNTRY_INFO!$U$9:$U$1000=\"T3 (ALB/MBD)\"), \"T3 (ALB/MBD)\", \" \")","v":" "},null,null,null,null,null,0,null,null,null,0," "," "," "," "]
[{"$f":"IF(COUNTRY_INFO!A184=0,\" \",COUNTRY_INFO!A184)","v":"Tanzania"},{"$f":"IF(COUNTRY_INFO!B184=0,\" \",COUNTRY_INFO!B184)","v":"Tanga"},{"$f":"IF(COUNTRY_INFO!C184=0,\" \",COUNTRY_INFO!C184)","v":"Handeni District Council"},{"$f":"IF(AND(COUNTRY_INFO!$T$9:$T$1000=\"T3 (ALB/MBD)\",COUNTRY_INFO!$U$9:$U$1000=\"T3 (ALB/MBD)\"), \"T3 (ALB/MBD)\", \" \")","v":" "},null,null,null,null,null,0,null,null,null,0," "," "," "," "]
[{"$f":"IF(COUNTRY_INFO!A185=0,\" \",COUNTRY_INFO!A185)","v":"Tanzania"},{"$f":"IF(COUNTRY_INFO!B185=0,\" \",COUNTRY_INFO!B185)","v":"Tanga"},{"$f":"IF(COUNTRY_INFO!C185=0,\" \",COUNTRY_INFO!C185)","v":"Handeni Town Council"},{"$f":"IF(AND(COUNTRY_INFO!$T$9:$T$1000=\"T3 (ALB/MBD)\",COUNTRY_INFO!$U$9:$U$1000=\"T3 (ALB/MBD)\"), \"T3 (ALB/MBD)\", \" \")","v":" "},null,null,null,null,null,0,null,null,null,0," "," "," "," "]
[{"$f":"IF(COUNTRY_INFO!A186=0,\" \",COUNTRY_INFO!A186)","v":"Tanzania"},{"$f":"IF(COUNTRY_INFO!B186=0,\" \",COUNTRY_INFO!B186)","v":"Tanga"},{"$f":"IF(COUNTRY_INFO!C186=0,\" \",COUNTRY_INFO!C186)","v":"Kilindi District Council"},{"$f":"IF(AND(COUNTRY_INFO!$T$9:$T$1000=\"T3 (ALB/MBD)\",COUNTRY_INFO!$U$9:$U$1000=\"T3 (ALB/MBD)\"), \"T3 (ALB/MBD)\", \" \")","v":" "},null,null,null,null,null,0,null,null,null,0," "," "," "," "]
[{"$f":"IF(COUNTRY_INFO!A187=0,\" \",COUNTRY_INFO!A187)","v":"Tanzania"},{"$f":"IF(COUNTRY_INFO!B187=0,\" \",COUNTRY_INFO!B187)","v":"Tanga"},{"$f":"IF(COUNTRY_INFO!C187=0,\" \",COUNTRY_INFO!C187)","v":"Korogwe District Council"},{"$f":"IF(AND(COUNTRY_INFO!$T$9:$T$1000=\"T3 (ALB/MBD)\",COUNTRY_INFO!$U$9:$U$1000=\"T3 (ALB/MBD)\"), \"T3 (ALB/MBD)\", \" \")","v":" "},null,null,null,null,null,0,null,null,null,0," "," "," "," "]
[{"$f":"IF(COUNTRY_INFO!A188=0,\" \",COUNTRY_INFO!A188)","v":"Tanzania"},{"$f":"IF(COUNTRY_INFO!B188=0,\" \",COUNTRY_INFO!B188)","v":"Tanga"},{"$f":"IF(COUNTRY_INFO!C188=0,\" \",COUNTRY_INFO!C188)","v":"Korogwe Town Council"},{"$f":"IF(AND(COUNTRY_INFO!$T$9:$T$1000=\"T3 (ALB/MBD)\",COUNTRY_INFO!$U$9:$U$1000=\"T3 (ALB/MBD)\"), \"T3 (ALB/MBD)\", \" \")","v":" "},null,null,null,null,null,0,null,null,null,0," "," "," "," "]
[{"$f":"IF(COUNTRY_INFO!A189=0,\" \",COUNTRY_INFO!A189)","v":"Tanzania"},{"$f":"IF(COUNTRY_INFO!B189=0,\" \",COUNTRY_INFO!B189)","v":"Tanga"},{"$f":"IF(COUNTRY_INFO!C189=0,\" \",COUNTRY_INFO!C189)","v":"Lushoto District Council"},{"$f":"IF(AND(COUNTRY_INFO!$T$9:$T$1000=\"T3 (ALB/MBD)\",COUNTRY_INFO!$U$9:$U$1000=\"T3 (ALB/MBD)\"), \"T3 (ALB/MBD)\", \" \")","v":" "},null,null,null,null,null,0,null,null,null,0," "," "," "," "]
[{"$f":"IF(COUNTRY_INFO!A190=0,\" \",COUNTRY_INFO!A190)","v":"Tanzania"},{"$f":"IF(COUNTRY_INFO!B190=0,\" \",COUNTRY_INFO!B190)","v":"Tanga"},{"$f":"IF(COUNTRY_INFO!C190=0,\" \",COUNTRY_INFO!C190)","v":"Mkinga District Council"},{"$f":"IF(AND(COUNTRY_INFO!$T$9:$T$1000=\"T3 (ALB/MBD)\",COUNTRY_INFO!$U$9:$U$1000=\"T3 (ALB/MBD)\"), \"T3 (ALB/MBD)\", \" \")","v":" "},null,null,null,null,null,0,null,null,null,0," "," "," "," "]
[{"$f":"IF(COUNTRY_INFO!A191=0,\" \",COUNTRY_INFO!A191)","v":"Tanzania"},{"$f":"IF(COUNTRY_INFO!B191=0,\" \",COUNTRY_INFO!B191)","v":"Tanga"},{"$f":"IF(COUNTRY_INFO!C191=0,\" \",COUNTRY_INFO!C191)","v":"Muheza District Council"},{"$f":"IF(AND(COUNTRY_INFO!$T$9:$T$1000=\"T3 (ALB/MBD)\",COUNTRY_INFO!$U$9:$U$1000=\"T3 (ALB/MBD)\"), \"T3 (ALB/MBD)\", \" \")","v":" "},null,null,null,null,null,0,null,null,null,0," "," "," "," "]
[{"$f":"IF(COUNTRY_INFO!A192=0,\" \",COUNTRY_INFO!A192)","v":"Tanzania"},{"$f":"IF(COUNTRY_INFO!B192=0,\" \",COUNTRY_INFO!B192)","v":"Tanga"},{"$f":"IF(COUNTRY_INFO!C192=0,\" \",COUNTRY_INFO!C192)","v":"Pangani District Council"},{"$f":"IF(AND(COUNTRY_INFO!$T$9:$T$1000=\"T3 (ALB/MBD)\",COUNTRY_INFO!$U$9:$U$1000=\"T3 (ALB/MBD)\"), \"T3 (ALB/MBD)\", \" \")","v":" "},null,null,null,null,null,0,null,null,null,0," "," "," "," "]
[{"$f":"IF(COUNTRY_INFO!A193=0,\" \",COUNTRY_INFO!A193)","v":"Tanzania"},{"$f":"IF(COUNTRY_INFO!B193=0,\" \",COUNTRY_INFO!B193)","v":"Tanga"},{"$f":"IF(COUNTRY_INFO!C193=0,\" \",COUNTRY_INFO!C193)","v":"Tanga City Council"},{"$f":"IF(AND(COUNTRY_INFO!$T$9:$T$1000=\"T3 (ALB/MBD)\",COUNTRY_INFO!$U$9:$U$1000=\"T3 (ALB/MBD)\"), \"T3 (ALB/MBD)\", \" \")","v":" "},null,null,null,null,null,0,null,null,null,0," "," "," "," "]

{"sheet":"DISTRICT","index":9,"n_rows":193,"n_cols":56,"rows_kept":193,"cut":false,"hidden":false,"merged":[[3,0,3,2],[5,0,5,2],[5,4,5,8],[5,10,5,14],[5,16,5,24],[5,26,5,34],[5,3,6,3],[5,9,6,9],[5,15,6,15],[5,25,6,25]]}
["Number of individuals treated"]
["Administrative structure, population treated by age group and gender"]
[]
["TOTAL",null,null,{"$f":"SUM(D$9:D$1000)","v":9986963},{"$f":"SUM(E$9:E$1000)","v":0},{"$f":"SUM(F$9:F$1000)","v":0},{"$f":"SUM(G$9:G$1000)","v":9108052},{"$f":"SUM(H$9:H$1000)","v":8289805},{"$f":"IF(D4>0, IF(H4/D4*100<>0, H4/D4*100, \"-\"),0)","v":83.006265268029935},{"$f":"SUM(J$9:J$1000)","v":6528587},{"$f":"SUM(K$9:K$1000)","v":0},{"$f":"SUM(L$9:L$1000)","v":0},{"$f":"SUM(M$9:M$1000)","v":12223729},{"$f":"SUM(N$9:N$1000)","v":5265258},{"$f":"IF(J4>0, IF(N4/J4*100<>0, N4/J4*100, \"-\"),0)","v":80.649273724927014},{"$f":"SUM(P$9:P$1000)","v":17050466.93736127},{"$f":"SUM(Q$9:Q$1000)","v":0},{"$f":"SUM(R$9:R$1000)","v":0},{"$f":"SUM(S$9:S$1000)","v":17859366.309000004},{"$f":"SUM(T$9:T$1000)","v":0},null,10305913.596999999,null,{"$f":"SUM(X$9:X$1000)","v":10305913.596999999},{"$f":"IF(P4>0, IF(X4/P4*100<>0, X4/P4*100, \"-\"),0)","v":60.443585708597269},{"$f":"SUM(Z$9:Z$1000)","v":15895883.790992608},0,0,6497749,4198100,null,0,null,4198100,{"$f":"IF(Z4>0, IF(AH4/Z4*100<>0, AH4/Z4*100, \"-\"),0)","v":26.409981698399498}]
[]
[null,null,null,"Population requiring PC for LF","Population treated for lymphatic filariasis",null,null,null,null,"Population requiring PC for ONCHO","Population treated for onchocerciasis",null,null,null,null,"Population requiring PC for STH","Population treated for STH",null,null,null,null,null,null,null,null,"Population requiring PC for SCH","Population treated for schistosomiasis",null,null,null,null,null,null,null,null,null,null,null,null,null,null,{"$f":"SUM(AP9:AP1000)","v":-6.246823159453474E-2},5757577.9373612711,11416239.442886095,16947439.279044636,{"$f":"SUM(AT9:AT1000)","v":34121256.596823767},{"$f":"COUNTIF(AU9:AU1000,\"Y\")","v":117},{"$f":"SUM(AV9:AV1000)","v":0},10516700.523999998,9888998.2509999983,{"$f":"SUM(AY9:AY1000)","v":20405698.775000002},0,10496095.698999999,9888998.2509999983,20378856.675621346,{"$f":"IF(AT6<>0,BC6/AT6,0)","v":0.59724812941145744}]
["Country","Province/State","District",null,"Male","Female","Total treated","Total in need treated","(%)",null,"Male","Female","Total treated","Total in need treated","(%)",null,"Male","Female","Total treated","PreSAC in need treated ","PreSAC (%)","SAC in need treated","SAC (%)","Total in need treated ","(%)",null,"Male","Female","Total treated","SAC in need treated","SAC (%)","Adults in need treated","Adults (%)","Total in need treated ","(%)",null,"LF","ONCHO","STH","SCH-SAC","SCH_Adults","<1","PreSAC","SAC","Adults","Total","Dis","PreSAC","SAC","Adults","Total","PreSAC","SAC","Adults","Total","Coverage"]
[]
[{"$f":"IF(COUNTRY_INFO!A9=0,\" \",COUNTRY_INFO!A9)","v":"Tanzania"},{"$f":"IF(COUNTRY_INFO!B9=0,\" \",COUNTRY_INFO!B9)","v":"Arusha"},{"$f":"IF(COUNTRY_INFO!C9=0,\" \",COUNTRY_INFO!C9)","v":"Arusha City Council"},{"$f":"COUNTRY_INFO!L9","v":0},null,null,{"$f":"MAX('MDA1'!M9,'MDA2'!M9)","v":0},{"$f":"IF(AND(COUNTRY_INFO!H9>0,COUNTRY_INFO!H9<4),IF(D9>MAX('MDA1'!M9,'MDA2'!M9),MAX('MDA1'!M9,'MDA2'!M9),D9),0)","v":0},{"$f":"IF(AND(COUNTRY_INFO!H9>0,COUNTRY_INFO!H9<4), IF(G9/D9*100<>0, IF(G9/D9*100>100,100,G9/D9*100), \"-\"),0)","v":0},{"$f":"COUNTRY_INFO!M9","v":0},null,null,{"$f":"MAX('MDA1'!M9,MAX('MDA3'!I9,'MDA3'!L9)+MAX('MDA3'!J9,'MDA3'!M9))","v":0},{"$f":"IF(AND(COUNTRY_INFO!I9>0,COUNTRY_INFO!I9<4),IF(J9>MAX('MDA1'!M9,MAX('MDA3'!I9,'MDA3'!L9)+MAX('MDA3'!J9,'MDA3'!M9)),MAX('MDA1'!M9,MAX('MDA3'!I9,'MDA3'!L9)+MAX('MDA3'!J9,'MDA3'!M9)),J9),0)","v":0},{"$f":"IF(AND(COUNTRY_INFO!I9>0,COUNTRY_INFO!I9<4), IF(M9/J9*100<>0, IF(M9/J9*100>100,100,M9/J9*100), \"-\"),0)","v":0},{"$f":"COUNTRY_INFO!N9","v":137275},null,null,{"$f":"SUM(MAX('MDA2'!J9, 'T1'!L9, MAX(T3_R1!K9, T3_R2!K9)), MAX('MDA1'!K9, 'MDA2'!K9, 'T1'!M9, MAX(T3_R1!L9, T3_R2!L9)), MAX('MDA1'!L9, 'MDA2'!L9, 'T1'!N9, MAX(T3_R1!M9, T3_R2!M9)))","v":101009},{"$f":"IF(AND(COUNTRY_INFO!J9>1,COUNTRY_INFO!J9<4),IF(COUNTRY_INFO!E9>MAX('MDA2'!J9,'T1'!L9,MAX(T3_R1!K9,T3_R2!K9)),MAX('MDA2'!J9,'T1'!L9,MAX(T3_R1!K9,T3_R2!K9)),COUNTRY_INFO!E9),0)","v":0},{"$f":"IF(AND(COUNTRY_INFO!J9>1,COUNTRY_INFO!J9<4), IF(T9/COUNTRY_INFO!E9*100<>0, IF(T9/COUNTRY_INFO!E9*100>100,100,T9/COUNTRY_INFO!E9*100), \"-\"),0)","v":"-"},{"$f":"IF(AND(COUNTRY_INFO!J9>1,COUNTRY_INFO!J9<4),IF(COUNTRY_INFO!F9>MAX('MDA1'!K9,'MDA2'!K9,'T1'!M9,MAX(T3_R1!L9,T3_R2!L9)),MAX('MDA1'!K9,'MDA2'!K9,'T1'!M9,MAX(T3_R1!L9,T3_R2!L9)),COUNTRY_INFO!F9),0)","v":101009},{"$f":"IF(AND(COUNTRY_INFO!J9>1,COUNTRY_INFO!J9<4), IF(V9/COUNTRY_INFO!F9*100<>0, IF(V9/COUNTRY_INFO!F9*100>100,100,V9/COUNTRY_INFO!F9*100), \"-\"),0)","v":98.582875435531577},{"$f":"SUM(T9,V9)","v":101009},{"$f":"IF(AND(COUNTRY_INFO!J9>1,COUNTRY_INFO!J9<4), IF(S9/P9*100<>0, IF(X9/P9*100>100,100,X9/P9*100), \"-\"),0)","v":73.581496995082858},{"$f":"COUNTRY_INFO!O9","v":121500.90000000001},null,null,{"$f":"MAX('T1'!L9,'T2'!J9)+MAX('T1'!M9,'T2'!K9)+MAX('T1'!N9,'T2'!L9)","v":0},{"$f":"IF(COUNTRY_INFO!K9=1,IF(COUNTRY_INFO!F9*0.33>MAX('T1'!M9,'T2'!K9),MAX('T1'!M9,'T2'!K9),COUNTRY_INFO!F9*0.33),IF(COUNTRY_INFO!K9=2,IF(COUNTRY_INFO!F9*0.5>MAX('T1'!M9,'T2'!K9),MAX('T1'!M9,'T2'!K9),COUNTRY_INFO!F9*0.5),IF(COUNTRY_INFO!K9=3,IF(COUNTRY_INFO!F9>MAX('T1'!M9,'T2'!K9),MAX('T1'!M9,'T2'!K9),COUNTRY_INFO!F9),0)))","v":0},{"$f":"IF(AND(COUNTRY_INFO!K9>0,COUNTRY_INFO!K9<4),IF(Z9>0,IF(COUNTRY_INFO!K9=1, AD9/(COUNTRY_INFO!F9*0.33)*100, IF(COUNTRY_INFO!K9=2, AD9/(COUNTRY_INFO!F9*0.5)*100, IF(COUNTRY_INFO!K9=3, AD9/COUNTRY_INFO!F9*100))),\"-\"),0)","v":0},{"$f":"IF(COUNTRY_INFO!K9=2,IF(COUNTRY_INFO!G9*0.2>MAX('T1'!N9,'T2'!L9),MAX('T1'!N9,'T2'!L9),COUNTRY_INFO!G9*0.2),IF(COUNTRY_INFO!K9=3,IF(COUNTRY_INFO!G9>MAX('T1'!N9,'T2'!L9),MAX('T1'!N9,'T2'!L9),COUNTRY_INFO!G9),0))","v":0},{"$f":"IF(AND(COUNTRY_INFO!K9>0,COUNTRY_INFO!K9<4),IF(Z9>0,IF(COUNTRY_INFO!K9=1, 0, IF(COUNTRY_INFO!K9=2, AF9/(COUNTRY_INFO!G9*0.2)*100, IF(COUNTRY_INFO!K9=3, AF9/COUNTRY_INFO!G9*100))),\"-\"),0)","v":0},{"$f":"SUM(AD9,AF9)","v":0},{"$f":"IF(AND(COUNTRY_INFO!K9>0,COUNTRY_INFO!K9<4), IF(AC9/Z9*100<>0, IF(AH9/Z9*100>100,100,AH9/Z9*100), \"-\"),0)","v":"-"},null,{"$f":"IF(AND(D9<>0, D9<>\"Unknown\",D9<>\"Stopped\",D9<>\"Not required\"),D9/COUNTRY_INFO!D9, 0)","v":0},{"$f":"IF(AND(J9<>0,J9<>\"Unknown\",J9<>\"Stopped\",J9<>\"Not required\"),J9/COUNTRY_INFO!D9, 0)","v":0},{"$f":"IF(AND(P9<>0,P9<>\"Unknown\",P9<>\"Not required\"),P9/(COUNTRY_INFO!E9+COUNTRY_INFO!F9), 0)","v":1},{"$f":"IF(AND(Z9<>0,Z9<>\"Unknown\",Z9<>\"Not required\"),IF(COUNTRY_INFO!K9=1,1,IF(COUNTRY_INFO!K9=2,0.5*COUNTRY_INFO!F9/(0.5*COUNTRY_INFO!F9+0.2*COUNTRY_INFO!G9),IF(COUNTRY_INFO!K9=3,COUNTRY_INFO!F9/(COUNTRY_INFO!F9+COUNTRY_INFO!G9)))),0)","v":0.42164708244959498},{"$f":"IF(AND(Z9<>0,Z9<>\"Unknown\",Z9<>\"Not required\"),IF(COUNTRY_INFO!K9=1,0,IF(COUNTRY_INFO!K9=2,0.2*COUNTRY_INFO!G9/(0.5*COUNTRY_INFO!F9+0.2*COUNTRY_INFO!G9),IF(COUNTRY_INFO!K9=3,COUNTRY_INFO!G9/(COUNTRY_INFO!F9+COUNTRY_INFO!G9)))),0)","v":0.57835291755040497},{"$f":"MAX(COUNTRY_INFO!D9*AK9*PROFILE!$G$7,COUNTRY_INFO!D9*AL9*PROFILE!$G$7)","v":0},{"$f":"MAX(COUNTRY_INFO!D9*AK9*PROFILE!$G$8,COUNTRY_INFO!D9*AL9*PROFILE!$G$8,COUNTRY_INFO!D9*AM9*PROFILE!$G$8)","v":54252.559586122487},{"$f":"MAX(COUNTRY_INFO!D9*AK9*PROFILE!$G$9,COUNTRY_INFO!D9*AL9*PROFILE!$G$9,COUNTRY_INFO!D9*AM9*PROFILE!$G$9,IF(AND(DISTRICT!Z9<>\"Unknown\",Z9<>\"Not required\"),COUNTRY_INFO!O9*DISTRICT!AN9,0))","v":106410.74077283904},{"$f":"MAX(COUNTRY_INFO!D9*AK9*PROFILE!$G$10,COUNTRY_INFO!D9*AL9*PROFILE!$G$10,IF(AND(DISTRICT!Z9<>\"Unknown\",Z9<>\"Not required\"),COUNTRY_INFO!O9*DISTRICT!AO9,0))","v":70270.400000000009},{"$f":"SUM(AP9:AS9)","v":230933.70035896153},{"$f":"IF(COUNTIFS(AK9:AN9,\">0\")=0,0, IF(COUNTIFS(AK9:AN9,\">0\")<=IF(AND(OR(D9>=0,D9=\"Not required\",D9=\"Unknown\",D9=\"Stopped\"),D9>0,H9>0),1,0)+IF(AND(OR(J9>=0,J9=\"Not required\",J9=\"Unknown\",J9=\"Stopped\"),J9>0,N9>0),1,0)+IF(AND(OR(P9>=0,P9=\"Not required\",P9=\"Unknown\"),P9>0,X9>0),1,0)+IF(AND(OR(Z9>=0,Z9=\"Not required\",Z9=\"Unknown\"),Z9>0,AH9>0),1,0),\"Y\",0))","v":0},{"$f":"MAX('MDA2'!J9,'T1'!L9,'T2'!J9,T3_R1!K9,T3_R2!K9)","v":0},{"$f":"MAX('MDA1'!K9,'MDA2'!K9,'MDA3'!I9,'MDA3'!L9,'T1'!M9,'T2'!K9,T3_R1!L9,T3_R2!L9)","v":101009},{"$f":"MAX('MDA1'!L9,'MDA2'!L9,'MDA3'!J9,'MDA3'!M9,'T1'!N9,'T2'!L9,T3_R1!M9,T3_R2!M9)","v":0},{"$f":"SUM(AV9:AX9)","v":101009},{"$f":"MAX('MDA2'!J9,T9)","v":0},{"$f":"MAX('MDA1'!K9,'MDA2'!K9,'MDA3'!I9,'MDA3'!L9,V9,AD9)","v":101009},{"$f":"MAX('MDA1'!L9,'MDA2'!L9,'MDA3'!J9,'MDA3'!M9,AF9)","v":0},{"$f":"IF(AT9<SUM(AZ9:BB9), AT9,SUM(AZ9:BB9))","v":101009},{"$f":"IF(AT9<>0,BC9/AT9*100,0)","v":43.739393532859175}]
[{"$f":"IF(COUNTRY_INFO!A10=0,\" \",COUNTRY_INFO!A10)","v":"Tanzania"},{"$f":"IF(COUNTRY_INFO!B10=0,\" \",COUNTRY_INFO!B10)","v":"Arusha"},{"$f":"IF(COUNTRY_INFO!C10=0,\" \",COUNTRY_INFO!C10)","v":"Arusha District Council"},{"$f":"COUNTRY_INFO!L10","v":0},null,null,{"$f":"MAX('MDA1'!M10,'MDA2'!M10)","v":0},{"$f":"IF(AND(COUNTRY_INFO!H10>0,COUNTRY_INFO!H10<4),IF(D10>MAX('MDA1'!M10,'MDA2'!M10),MAX('MDA1'!M10,'MDA2'!M10),D10),0)","v":0},{"$f":"IF(AND(COUNTRY_INFO!H10>0,COUNTRY_INFO!H10<4), IF(G10/D10*100<>0, IF(G10/D10*100>100,100,G10/D10*100), \"-\"),0)","v":0},{"$f":"COUNTRY_INFO!M10","v":0},null,null,{"$f":"MAX('MDA1'!M10,MAX('MDA3'!I10,'MDA3'!L10)+MAX('MDA3'!J10,'MDA3'!M10))","v":0},{"$f":"IF(AND(COUNTRY_INFO!I10>0,COUNTRY_INFO!I10<4),IF(J10>MAX('MDA1'!M10,MAX('MDA3'!I10,'MDA3'!L10)+MAX('MDA3'!J10,'MDA3'!M10)),MAX('MDA1'!M10,MAX('MDA3'!I10,'MDA3'!L10)+MAX('MDA3'!J10,'MDA3'!M10)),J10),0)","v":0},{"$f":"IF(AND(COUNTRY_INFO!I10>0,COUNTRY_INFO!I10<4), IF(M10/J10*100<>0, IF(M10/J10*100>100,100,M10/J10*100), \"-\"),0)","v":0},{"$f":"COUNTRY_INFO!N10","v":121651},null,null,{"$f":"SUM(MAX('MDA2'!J10, 'T1'!L10, MAX(T3_R1!K10, T3_R2!K10)), MAX('MDA1'!K10, 'MDA2'!K10, 'T1'!M10, MAX(T3_R1!L10, T3_R2!L10)), MAX('MDA1'!L10, 'MDA2'!L10, 'T1'!N10, MAX(T3_R1!M10, T3_R2!M10)))","v":71373},{"$f":"IF(AND(COUNTRY_INFO!J10>1,COUNTRY_INFO!J10<4),IF(COUNTRY_INFO!E10>MAX('MDA2'!J10,'T1'!L10,MAX(T3_R1!K10,T3_R2!K10)),MAX('MDA2'!J10,'T1'!L10,MAX(T3_R1!K10,T3_R2!K10)),COUNTRY_INFO!E10),0)","v":0},{"$f":"IF(AND(COUNTRY_INFO!J10>1,COUNTRY_INFO!J10<4), IF(T10/COUNTRY_INFO!E10*100<>0, IF(T10/COUNTRY_INFO!E10*100>100,100,T10/COUNTRY_INFO!E10*100), \"-\"),0)","v":"-"},{"$f":"IF(AND(COUNTRY_INFO!J10>1,COUNTRY_INFO!J10<4),IF(COUNTRY_INFO!F10>MAX('MDA1'!K10,'MDA2'!K10,'T1'!M10,MAX(T3_R1!L10,T3_R2!L10)),MAX('MDA1'!K10,'MDA2'!K10,'T1'!M10,MAX(T3_R1!L10,T3_R2!L10)),COUNTRY_INFO!F10),0)","v":71373},{"$f":"IF(AND(COUNTRY_INFO!J10>1,COUNTRY_INFO!J10<4), IF(V10/COUNTRY_INFO!F10*100<>0, IF(V10/COUNTRY_INFO!F10*100>100,100,V10/COUNTRY_INFO!F10*100), \"-\"),0)","v":98.131496452730573},{"$f":"SUM(T10,V10)","v":71373},{"$f":"IF(AND(COUNTRY_INFO!J10>1,COUNTRY_INFO!J10<4), IF(S10/P10*100<>0, IF(X10/P10*100>100,100,X10/P10*100), \"-\"),0)","v":58.670294531076607},{"$f":"COUNTRY_INFO!O10","v":87879.8},null,null,{"$f":"MAX('T1'!L10,'T2'!J10)+MAX('T1'!M10,'T2'!K10)+MAX('T1'!N10,'T2'!L10)","v":0},{"$f":"IF(COUNTRY_INFO!K10=1,IF(COUNTRY_INFO!F10*0.33>MAX('T1'!M10,'T2'!K10),MAX('T1'!M10,'T2'!K10),COUNTRY_INFO!F10*0.33),IF(COUNTRY_INFO!K10=2,IF(COUNTRY_INFO!F10*0.5>MAX('T1'!M10,'T2'!K10),MAX('T1'!M10,'T2'!K10),COUNTRY_INFO!F10*0.5),IF(COUNTRY_INFO!K10=3,IF(COUNTRY_INFO!F10>MAX('T1'!M10,'T2'!K10),MAX('T1'!M10,'T2'!K10),COUNTRY_INFO!F10),0)))","v":0},{"$f":"IF(AND(COUNTRY_INFO!K10>0,COUNTRY_INFO!K10<4),IF(Z10>0,IF(COUNTRY_INFO!K10=1, AD10/(COUNTRY_INFO!F10*0.33)*100, IF(COUNTRY_INFO!K10=2, AD10/(COUNTRY_INFO!F10*0.5)*100, IF(COUNTRY_INFO!K10=3, AD10/COUNTRY_INFO!F10*100))),\"-\"),0)","v":0},{"$f":"IF(COUNTRY_INFO!K10=2,IF(COUNTRY_INFO!G10*0.2>MAX('T1'!N10,'T2'!L10),MAX('T1'!N10,'T2'!L10),COUNTRY_INFO!G10*0.2),IF(COUNTRY_INFO!K10=3,IF(COUNTRY_INFO!G10>MAX('T1'!N10,'T2'!L10),MAX('T1'!N10,'T2'!L10),COUNTRY_INFO!G10),0))","v":0},{"$f":"IF(AND(COUNTRY_INFO!K10>0,COUNTRY_INFO!K10<4),IF(Z10>0,IF(COUNTRY_INFO!K10=1, 0, IF(COUNTRY_INFO!K10=2, AF10/(COUNTRY_INFO!G10*0.2)*100, IF(COUNTRY_INFO!K10=3, AF10/COUNTRY_INFO!G10*100))),\"-\"),0)","v":0},{"$f":"SUM(AD10,AF10)","v":0},{"$f":"IF(AND(COUNTRY_INFO!K10>0,COUNTRY_INFO!K10<4), IF(AC10/Z10*100<>0, IF(AH10/Z10*100>100,100,AH10/Z10*100), \"-\"),0)","v":"-"},null,{"$f":"IF(AND(D10<>0, D10<>\"Unknown\",D10<>\"Stopped\",D10<>\"Not required\"),D10/COUNTRY_INFO!D10, 0)","v":0},{"$f":"IF(AND(J10<>0,J10<>\"Unknown\",J10<>\"Stopped\",J10<>\"Not required\"),J10/COUNTRY_INFO!D10, 0)","v":0},{"$f":"IF(AND(P10<>0,P10<>\"Unknown\",P10<>\"Not required\"),P10/(COUNTRY_INFO!E10+COUNTRY_INFO!F10), 0)","v":1},{"$f":"IF(AND(Z10<>0,Z10<>\"Unknown\",Z10<>\"Not required\"),IF(COUNTRY_INFO!K10=1,1,IF(COUNTRY_INFO!K10=2,0.5*COUNTRY_INFO!F10/(0.5*COUNTRY_INFO!F10+0.2*COUNTRY_INFO!G10),IF(COUNTRY_INFO!K10=3,COUNTRY_INFO!F10/(COUNTRY_INFO!F10+COUNTRY_INFO!G10)))),0)","v":0.4138152339900637},{"$f":"IF(AND(Z10<>0,Z10<>\"Unknown\",Z10<>\"Not required\"),IF(COUNTRY_INFO!K10=1,0,IF(COUNTRY_INFO!K10=2,0.2*COUNTRY_INFO!G10/(0.5*COUNTRY_INFO!F10+0.2*COUNTRY_INFO!G10),IF(COUNTRY_INFO!K10=3,COUNTRY_INFO!G10/(COUNTRY_INFO!F10+COUNTRY_INFO!G10)))),0)","v":0.5861847660099363},{"$f":"MAX(COUNTRY_INFO!D10*AK10*PROFILE!$G$7,COUNTRY_INFO!D10*AL10*PROFILE!$G$7)","v":0},{"$f":"MAX(COUNTRY_INFO!D10*AK10*PROFILE!$G$8,COUNTRY_INFO!D10*AL10*PROFILE!$G$8,COUNTRY_INFO!D10*AM10*PROFILE!$G$8)","v":42105.032358525765},{"$f":"MAX(COUNTRY_INFO!D10*AK10*PROFILE!$G$9,COUNTRY_INFO!D10*AL10*PROFILE!$G$9,COUNTRY_INFO!D10*AM10*PROFILE!$G$9,IF(AND(DISTRICT!Z10<>\"Unknown\",Z10<>\"Not required\"),COUNTRY_INFO!O10*DISTRICT!AN10,0))","v":82584.63227753689},{"$f":"MAX(COUNTRY_INFO!D10*AK10*PROFILE!$G$10,COUNTRY_INFO!D10*AL10*PROFILE!$G$10,IF(AND(DISTRICT!Z10<>\"Unknown\",Z10<>\"Not required\"),COUNTRY_INFO!O10*DISTRICT!AO10,0))","v":51513.8},{"$f":"SUM(AP10:AS10)","v":176203.46463606268},0,{"$f":"MAX('MDA2'!J10,'T1'!L10,'T2'!J10,T3_R1!K10,T3_R2!K10)","v":0},{"$f":"MAX('MDA1'!K10,'MDA2'!K10,'MDA3'!I10,'MDA3'!L10,'T1'!M10,'T2'!K10,T3_R1!L10,T3_R2!L10)","v":71373},{"$f":"MAX('MDA1'!L10,'MDA2'!L10,'MDA3'!J10,'MDA3'!M10,'T1'!N10,'T2'!L10,T3_R1!M10,T3_R2!M10)","v":0},{"$f":"SUM(AV10:AX10)","v":71373},{"$f":"MAX('MDA2'!J10,T10)","v":0},{"$f":"MAX('MDA1'!K10,'MDA2'!K10,'MDA3'!I10,'MDA3'!L10,V10,AD10)","v":71373},{"$f":"MAX('MDA1'!L10,'MDA2'!L10,'MDA3'!J10,'MDA3'!M10,AF10)","v":0},71373,40.506013969371431]
[{"$f":"IF(COUNTRY_INFO!A11=0,\" \",COUNTRY_INFO!A11)","v":"Tanzania"},{"$f":"IF(COUNTRY_INFO!B11=0,\" \",COUNTRY_INFO!B11)","v":"Arusha"},{"$f":"IF(COUNTRY_INFO!C11=0,\" \",COUNTRY_INFO!C11)","v":"Karatu District Council"},{"$f":"COUNTRY_INFO!L11","v":0},null,null,{"$f":"MAX('MDA1'!M11,'MDA2'!M11)","v":0},{"$f":"IF(AND(COUNTRY_INFO!H11>0,COUNTRY_INFO!H11<4),IF(D11>MAX('MDA1'!M11,'MDA2'!M11),MAX('MDA1'!M11,'MDA2'!M11),D11),0)","v":0},{"$f":"IF(AND(COUNTRY_INFO!H11>0,COUNTRY_INFO!H11<4), IF(G11/D11*100<>0, IF(G11/D11*100>100,100,G11/D11*100), \"-\"),0)","v":0},{"$f":"COUNTRY_INFO!M11","v":0},null,null,{"$f":"MAX('MDA1'!M11,MAX('MDA3'!I11,'MDA3'!L11)+MAX('MDA3'!J11,'MDA3'!M11))","v":0},{"$f":"IF(AND(COUNTRY_INFO!I11>0,COUNTRY_INFO!I11<4),IF(J11>MAX('MDA1'!M11,MAX('MDA3'!I11,'MDA3'!L11)+MAX('MDA3'!J11,'MDA3'!M11)),MAX('MDA1'!M11,MAX('MDA3'!I11,'MDA3'!L11)+MAX('MDA3'!J11,'MDA3'!M11)),J11),0)","v":0},{"$f":"IF(AND(COUNTRY_INFO!I11>0,COUNTRY_INFO!I11<4), IF(M11/J11*100<>0, IF(M11/J11*100>100,100,M11/J11*100), \"-\"),0)","v":0},{"$f":"COUNTRY_INFO!N11","v":87483},null,null,{"$f":"SUM(MAX('MDA2'!J11, 'T1'!L11, MAX(T3_R1!K11, T3_R2!K11)), MAX('MDA1'!K11, 'MDA2'!K11, 'T1'!M11, MAX(T3_R1!L11, T3_R2!L11)), MAX('MDA1'!L11, 'MDA2'!L11, 'T1'!N11, MAX(T3_R1!M11, T3_R2!M11)))","v":54469},{"$f":"IF(AND(COUNTRY_INFO!J11>1,COUNTRY_INFO!J11<4),IF(COUNTRY_INFO!E11>MAX('MDA2'!J11,'T1'!L11,MAX(T3_R1!K11,T3_R2!K11)),MAX('MDA2'!J11,'T1'!L11,MAX(T3_R1!K11,T3_R2!K11)),COUNTRY_INFO!E11),0)","v":0},{"$f":"IF(AND(COUNTRY_INFO!J11>1,COUNTRY_INFO!J11<4), IF(T11/COUNTRY_INFO!E11*100<>0, IF(T11/COUNTRY_INFO!E11*100>100,100,T11/COUNTRY_INFO!E11*100), \"-\"),0)","v":"-"},{"$f":"IF(AND(COUNTRY_INFO!J11>1,COUNTRY_INFO!J11<4),IF(COUNTRY_INFO!F11>MAX('MDA1'!K11,'MDA2'!K11,'T1'!M11,MAX(T3_R1!L11,T3_R2!L11)),MAX('MDA1'!K11,'MDA2'!K11,'T1'!M11,MAX(T3_R1!L11,T3_R2!L11)),COUNTRY_INFO!F11),0)","v":54469},{"$f":"IF(AND(COUNTRY_INFO!J11>1,COUNTRY_INFO!J11<4), IF(V11/COUNTRY_INFO!F11*100<>0, IF(V11/COUNTRY_INFO!F11*100>100,100,V11/COUNTRY_INFO!F11*100), \"-\"),0)","v":96.044928762872047},54469,{"$f":"IF(AND(COUNTRY_INFO!J11>1,COUNTRY_INFO!J11<4), IF(S11/P11*100<>0, IF(X11/P11*100>100,100,X11/P11*100), \"-\"),0)","v":62.262382405724537},{"$f":"COUNTRY_INFO!O11","v":64871.8},null,null,{"$f":"MAX('T1'!L11,'T2'!J11)+MAX('T1'!M11,'T2'!K11)+MAX('T1'!N11,'T2'!L11)","v":0},{"$f":"IF(COUNTRY_INFO!K11=1,IF(COUNTRY_INFO!F11*0.33>MAX('T1'!M11,'T2'!K11),MAX('T1'!M11,'T2'!K11),COUNTRY_INFO!F11*0.33),IF(COUNTRY_INFO!K11=2,IF(COUNTRY_INFO!F11*0.5>MAX('T1'!M11,'T2'!K11),MAX('T1'!M11,'T2'!K11),COUNTRY_INFO!F11*0.5),IF(COUNTRY_INFO!K11=3,IF(COUNTRY_INFO!F11>MAX('T1'!M11,'T2'!K11),MAX('T1'!M11,'T2'!K11),COUNTRY_INFO!F11),0)))","v":0},{"$f":"IF(AND(COUNTRY_INFO!K11>0,COUNTRY_INFO!K11<4),IF(Z11>0,IF(COUNTRY_INFO!K11=1, AD11/(COUNTRY_INFO!F11*0.33)*100, IF(COUNTRY_INFO!K11=2, AD11/(COUNTRY_INFO!F11*0.5)*100, IF(COUNTRY_INFO!K11=3, AD11/COUNTRY_INFO!F11*100))),\"-\"),0)","v":0},{"$f":"IF(COUNTRY_INFO!K11=2,IF(COUNTRY_INFO!G11*0.2>MAX('T1'!N11,'T2'!L11),MAX('T1'!N11,'T2'!L11),COUNTRY_INFO!G11*0.2),IF(COUNTRY_INFO!K11=3,IF(COUNTRY_INFO!G11>MAX('T1'!N11,'T2'!L11),MAX('T1'!N11,'T2'!L11),COUNTRY_INFO!G11),0))","v":0},{"$f":"IF(AND(COUNTRY_INFO!K11>0,COUNTRY_INFO!K11<4),IF(Z11>0,IF(COUNTRY_INFO!K11=1, 0, IF(COUNTRY_INFO!K11=2, AF11/(COUNTRY_INFO!G11*0.2)*100, IF(COUNTRY_INFO!K11=3, AF11/COUNTRY_INFO!G11*100))),\"-\"),0)","v":0},0,{"$f":"IF(AND(COUNTRY_INFO!K11>0,COUNTRY_INFO!K11<4), IF(AC11/Z11*100<>0, IF(AH11/Z11*100>100,100,AH11/Z11*100), \"-\"),0)","v":"-"},null,{"$f":"IF(AND(D11<>0, D11<>\"Unknown\",D11<>\"Stopped\",D11<>\"Not required\"),D11/COUNTRY_INFO!D11, 0)","v":0},{"$f":"IF(AND(J11<>0,J11<>\"Unknown\",J11<>\"Stopped\",J11<>\"Not required\"),J11/COUNTRY_INFO!D11, 0)","v":0},{"$f":"IF(AND(P11<>0,P11<>\"Unknown\",P11<>\"Not required\"),P11/(COUNTRY_INFO!E11+COUNTRY_INFO!F11), 0)","v":1},{"$f":"IF(AND(Z11<>0,Z11<>\"Unknown\",Z11<>\"Not required\"),IF(COUNTRY_INFO!K11=1,1,IF(COUNTRY_INFO!K11=2,0.5*COUNTRY_INFO!F11/(0.5*COUNTRY_INFO!F11+0.2*COUNTRY_INFO!G11),IF(COUNTRY_INFO!K11=3,COUNTRY_INFO!F11/(COUNTRY_INFO!F11+COUNTRY_INFO!G11)))),0)","v":0.43710826584124379},{"$f":"IF(AND(Z11<>0,Z11<>\"Unknown\",Z11<>\"Not required\"),IF(COUNTRY_INFO!K11=1,0,IF(COUNTRY_INFO!K11=2,0.2*COUNTRY_INFO!G11/(0.5*COUNTRY_INFO!F11+0.2*COUNTRY_INFO!G11),IF(COUNTRY_INFO!K11=3,COUNTRY_INFO!G11/(COUNTRY_INFO!F11+COUNTRY_INFO!G11)))),0)","v":0.56289173415875626},{"$f":"MAX(COUNTRY_INFO!D11*AK11*PROFILE!$G$7,COUNTRY_INFO!D11*AL11*PROFILE!$G$7)","v":0},{"$f":"MAX(COUNTRY_INFO!D11*AK11*PROFILE!$G$8,COUNTRY_INFO!D11*AL11*PROFILE!$G$8,COUNTRY_INFO!D11*AM11*PROFILE!$G$8)","v":29985.151755730672},{"$f":"MAX(COUNTRY_INFO!D11*AK11*PROFILE!$G$9,COUNTRY_INFO!D11*AL11*PROFILE!$G$9,COUNTRY_INFO!D11*AM11*PROFILE!$G$9,IF(AND(DISTRICT!Z11<>\"Unknown\",Z11<>\"Not required\"),COUNTRY_INFO!O11*DISTRICT!AN11,0))","v":58812.749755118843},{"$f":"MAX(COUNTRY_INFO!D11*AK11*PROFILE!$G$10,COUNTRY_INFO!D11*AL11*PROFILE!$G$10,IF(AND(DISTRICT!Z11<>\"Unknown\",Z11<>\"Not required\"),COUNTRY_INFO!O11*DISTRICT!AO11,0))","v":36515.800000000003},125313.70151084951,0,{"$f":"MAX('MDA2'!J11,'T1'!L11,'T2'!J11,T3_R1!K11,T3_R2!K11)","v":0},{"$f":"MAX('MDA1'!K11,'MDA2'!K11,'MDA3'!I11,'MDA3'!L11,'T1'!M11,'T2'!K11,T3_R1!L11,T3_R2!L11)","v":54469},{"$f":"MAX('MDA1'!L11,'MDA2'!L11,'MDA3'!J11,'MDA3'!M11,'T1'!N11,'T2'!L11,T3_R1!M11,T3_R2!M11)","v":0},54469,{"$f":"MAX('MDA2'!J11,T11)","v":0},{"$f":"MAX('MDA1'!K11,'MDA2'!K11,'MDA3'!I11,'MDA3'!L11,V11,AD11)","v":54469},{"$f":"MAX('MDA1'!L11,'MDA2'!L11,'MDA3'!J11,'MDA3'!M11,AF11)","v":0},54469,43.466116907642487]
[{"$f":"IF(COUNTRY_INFO!A12=0,\" \",COUNTRY_INFO!A12)","v":"Tanzania"},{"$f":"IF(COUNTRY_INFO!B12=0,\" \",COUNTRY_INFO!B12)","v":"Arusha"},{"$f":"IF(COUNTRY_INFO!C12=0,\" \",COUNTRY_INFO!C12)","v":"Longido District Council"},{"$f":"COUNTRY_INFO!L12","v":0},null,null,{"$f":"MAX('MDA1'!M12,'MDA2'!M12)","v":0},{"$f":"IF(AND(COUNTRY_INFO!H12>0,COUNTRY_INFO!H12<4),IF(D12>MAX('MDA1'!M12,'MDA2'!M12),MAX('MDA1'!M12,'MDA2'!M12),D12),0)","v":0},{"$f":"IF(AND(COUNTRY_INFO!H12>0,COUNTRY_INFO!H12<4), IF(G12/D12*100<>0, IF(G12/D12*100>100,100,G12/D12*100), \"-\"),0)","v":0},{"$f":"COUNTRY_INFO!M12","v":0},null,null,{"$f":"MAX('MDA1'!M12,MAX('MDA3'!I12,'MDA3'!L12)+MAX('MDA3'!J12,'MDA3'!M12))","v":0},{"$f":"IF(AND(COUNTRY_INFO!I12>0,COUNTRY_INFO!I12<4),IF(J12>MAX('MDA1'!M12,MAX('MDA3'!I12,'MDA3'!L12)+MAX('MDA3'!J12,'MDA3'!M12)),MAX('MDA1'!M12,MAX('MDA3'!I12,'MDA3'!L12)+MAX('MDA3'!J12,'MDA3'!M12)),J12),0)","v":0},{"$f":"IF(AND(COUNTRY_INFO!I12>0,COUNTRY_INFO!I12<4), IF(M12/J12*100<>0, IF(M12/J12*100>100,100,M12/J12*100), \"-\"),0)","v":0},{"$f":"COUNTRY_INFO!N12","v":49201},null,null,{"$f":"SUM(MAX('MDA2'!J12, 'T1'!L12, MAX(T3_R1!K12, T3_R2!K12)), MAX('MDA1'!K12, 'MDA2'!K12, 'T1'!M12, MAX(T3_R1!L12, T3_R2!L12)), MAX('MDA1'!L12, 'MDA2'!L12, 'T1'!N12, MAX(T3_R1!M12, T3_R2!M12)))","v":28622},{"$f":"IF(AND(COUNTRY_INFO!J12>1,COUNTRY_INFO!J12<4),IF(COUNTRY_INFO!E12>MAX('MDA2'!J12,'T1'!L12,MAX(T3_R1!K12,T3_R2!K12)),MAX('MDA2'!J12,'T1'!L12,MAX(T3_R1!K12,T3_R2!K12)),COUNTRY_INFO!E12),0)","v":0},{"$f":"IF(AND(COUNTRY_INFO!J12>1,COUNTRY_INFO!J12<4), IF(T12/COUNTRY_INFO!E12*100<>0, IF(T12/COUNTRY_INFO!E12*100>100,100,T12/COUNTRY_INFO!E12*100), \"-\"),0)","v":"-"},{"$f":"IF(AND(COUNTRY_INFO!J12>1,COUNTRY_INFO!J12<4),IF(COUNTRY_INFO!F12>MAX('MDA1'!K12,'MDA2'!K12,'T1'!M12,MAX(T3_R1!L12,T3_R2!L12)),MAX('MDA1'!K12,'MDA2'!K12,'T1'!M12,MAX(T3_R1!L12,T3_R2!L12)),COUNTRY_INFO!F12),0)","v":28622},{"$f":"IF(AND(COUNTRY_INFO!J12>1,COUNTRY_INFO!J12<4), IF(V12/COUNTRY_INFO!F12*100<>0, IF(V12/COUNTRY_INFO!F12*100>100,100,V12/COUNTRY_INFO!F12*100), \"-\"),0)","v":93.655312326167333},28622,{"$f":"IF(AND(COUNTRY_INFO!J12>1,COUNTRY_INFO!J12<4), IF(S12/P12*100<>0, IF(X12/P12*100>100,100,X12/P12*100), \"-\"),0)","v":58.173614357431759},{"$f":"COUNTRY_INFO!O12","v":34340.300000000003},null,null,{"$f":"MAX('T1'!L12,'T2'!J12)+MAX('T1'!M12,'T2'!K12)+MAX('T1'!N12,'T2'!L12)","v":0},{"$f":"IF(COUNTRY_INFO!K12=1,IF(COUNTRY_INFO!F12*0.33>MAX('T1'!M12,'T2'!K12),MAX('T1'!M12,'T2'!K12),COUNTRY_INFO!F12*0.33),IF(COUNTRY_INFO!K12=2,IF(COUNTRY_INFO!F12*0.5>MAX('T1'!M12,'T2'!K12),MAX('T1'!M12,'T2'!K12),COUNTRY_INFO!F12*0.5),IF(COUNTRY_INFO!K12=3,IF(COUNTRY_INFO!F12>MAX('T1'!M12,'T2'!K12),MAX('T1'!M12,'T2'!K12),COUNTRY_INFO!F12),0)))","v":0},{"$f":"IF(AND(COUNTRY_INFO!K12>0,COUNTRY_INFO!K12<4),IF(Z12>0,IF(COUNTRY_INFO!K12=1, AD12/(COUNTRY_INFO!F12*0.33)*100, IF(COUNTRY_INFO!K12=2, AD12/(COUNTRY_INFO!F12*0.5)*100, IF(COUNTRY_INFO!K12=3, AD12/COUNTRY_INFO!F12*100))),\"-\"),0)","v":0},{"$f":"IF(COUNTRY_INFO!K12=2,IF(COUNTRY_INFO!G12*0.2>MAX('T1'!N12,'T2'!L12),MAX('T1'!N12,'T2'!L12),COUNTRY_INFO!G12*0.2),IF(COUNTRY_INFO!K12=3,IF(COUNTRY_INFO!G12>MAX('T1'!N12,'T2'!L12),MAX('T1'!N12,'T2'!L12),COUNTRY_INFO!G12),0))","v":0},{"$f":"IF(AND(COUNTRY_INFO!K12>0,COUNTRY_INFO!K12<4),IF(Z12>0,IF(COUNTRY_INFO!K12=1, 0, IF(COUNTRY_INFO!K12=2, AF12/(COUNTRY_INFO!G12*0.2)*100, IF(COUNTRY_INFO!K12=3, AF12/COUNTRY_INFO!G12*100))),\"-\"),0)","v":0},0,{"$f":"IF(AND(COUNTRY_INFO!K12>0,COUNTRY_INFO!K12<4), IF(AC12/Z12*100<>0, IF(AH12/Z12*100>100,100,AH12/Z12*100), \"-\"),0)","v":"-"},null,{"$f":"IF(AND(D12<>0, D12<>\"Unknown\",D12<>\"Stopped\",D12<>\"Not required\"),D12/COUNTRY_INFO!D12, 0)","v":0},{"$f":"IF(AND(J12<>0,J12<>\"Unknown\",J12<>\"Stopped\",J12<>\"Not required\"),J12/COUNTRY_INFO!D12, 0)","v":0},{"$f":"IF(AND(P12<>0,P12<>\"Unknown\",P12<>\"Not required\"),P12/(COUNTRY_INFO!E12+COUNTRY_INFO!F12), 0)","v":1},{"$f":"IF(AND(Z12<>0,Z12<>\"Unknown\",Z12<>\"Not required\"),IF(COUNTRY_INFO!K12=1,1,IF(COUNTRY_INFO!K12=2,0.5*COUNTRY_INFO!F12/(0.5*COUNTRY_INFO!F12+0.2*COUNTRY_INFO!G12),IF(COUNTRY_INFO!K12=3,COUNTRY_INFO!F12/(COUNTRY_INFO!F12+COUNTRY_INFO!G12)))),0)","v":0.44497281619554863},{"$f":"IF(AND(Z12<>0,Z12<>\"Unknown\",Z12<>\"Not required\"),IF(COUNTRY_INFO!K12=1,0,IF(COUNTRY_INFO!K12=2,0.2*COUNTRY_INFO!G12/(0.5*COUNTRY_INFO!F12+0.2*COUNTRY_INFO!G12),IF(COUNTRY_INFO!K12=3,COUNTRY_INFO!G12/(COUNTRY_INFO!F12+COUNTRY_INFO!G12)))),0)","v":0.55502718380445126},{"$f":"MAX(COUNTRY_INFO!D12*AK12*PROFILE!$G$7,COUNTRY_INFO!D12*AL12*PROFILE!$G$7)","v":0},{"$f":"MAX(COUNTRY_INFO!D12*AK12*PROFILE!$G$8,COUNTRY_INFO!D12*AL12*PROFILE!$G$8,COUNTRY_INFO!D12*AM12*PROFILE!$G$8)","v":16043.924834679008},{"$f":"MAX(COUNTRY_INFO!D12*AK12*PROFILE!$G$9,COUNTRY_INFO!D12*AL12*PROFILE!$G$9,COUNTRY_INFO!D12*AM12*PROFILE!$G$9,IF(AND(DISTRICT!Z12<>\"Unknown\",Z12<>\"Not required\"),COUNTRY_INFO!O12*DISTRICT!AN12,0))","v":31468.486272095568},{"$f":"MAX(COUNTRY_INFO!D12*AK12*PROFILE!$G$10,COUNTRY_INFO!D12*AL12*PROFILE!$G$10,IF(AND(DISTRICT!Z12<>\"Unknown\",Z12<>\"Not required\"),COUNTRY_INFO!O12*DISTRICT!AO12,0))","v":19059.8},66572.211106774572,0,{"$f":"MAX('MDA2'!J12,'T1'!L12,'T2'!J12,T3_R1!K12,T3_R2!K12)","v":0},{"$f":"MAX('MDA1'!K12,'MDA2'!K12,'MDA3'!I12,'MDA3'!L12,'T1'!M12,'T2'!K12,T3_R1!L12,T3_R2!L12)","v":28622},{"$f":"MAX('MDA1'!L12,'MDA2'!L12,'MDA3'!J12,'MDA3'!M12,'T1'!N12,'T2'!L12,T3_R1!M12,T3_R2!M12)","v":0},28622,{"$f":"MAX('MDA2'!J12,T12)","v":0},{"$f":"MAX('MDA1'!K12,'MDA2'!K12,'MDA3'!I12,'MDA3'!L12,V12,AD12)","v":28622},{"$f":"MAX('MDA1'!L12,'MDA2'!L12,'MDA3'!J12,'MDA3'!M12,AF12)","v":0},28622,42.993915215003796]
[{"$f":"IF(COUNTRY_INFO!A13=0,\" \",COUNTRY_INFO!A13)","v":"Tanzania"},{"$f":"IF(COUNTRY_INFO!B13=0,\" \",COUNTRY_INFO!B13)","v":"Arusha"},{"$f":"IF(COUNTRY_INFO!C13=0,\" \",COUNTRY_INFO!C13)","v":"Meru District Council"},{"$f":"COUNTRY_INFO!L13","v":0},null,null,{"$f":"MAX('MDA1'!M13,'MDA2'!M13)","v":0},{"$f":"IF(AND(COUNTRY_INFO!H13>0,COUNTRY_INFO!H13<4),IF(D13>MAX('MDA1'!M13,'MDA2'!M13),MAX('MDA1'!M13,'MDA2'!M13),D13),0)","v":0},{"$f":"IF(AND(COUNTRY_INFO!H13>0,COUNTRY_INFO!H13<4), IF(G13/D13*100<>0, IF(G13/D13*100>100,100,G13/D13*100), \"-\"),0)","v":0},{"$f":"COUNTRY_INFO!M13","v":0},null,null,{"$f":"MAX('MDA1'!M13,MAX('MDA3'!I13,'MDA3'!L13)+MAX('MDA3'!J13,'MDA3'!M13))","v":0},{"$f":"IF(AND(COUNTRY_INFO!I13>0,COUNTRY_INFO!I13<4),IF(J13>MAX('MDA1'!M13,MAX('MDA3'!I13,'MDA3'!L13)+MAX('MDA3'!J13,'MDA3'!M13)),MAX('MDA1'!M13,MAX('MDA3'!I13,'MDA3'!L13)+MAX('MDA3'!J13,'MDA3'!M13)),J13),0)","v":0},{"$f":"IF(AND(COUNTRY_INFO!I13>0,COUNTRY_INFO!I13<4), IF(M13/J13*100<>0, IF(M13/J13*100>100,100,M13/J13*100), \"-\"),0)","v":0},{"$f":"COUNTRY_INFO!N13","v":101197},null,null,{"$f":"SUM(MAX('MDA2'!J13, 'T1'!L13, MAX(T3_R1!K13, T3_R2!K13)), MAX('MDA1'!K13, 'MDA2'!K13, 'T1'!M13, MAX(T3_R1!L13, T3_R2!L13)), MAX('MDA1'!L13, 'MDA2'!L13, 'T1'!N13, MAX(T3_R1!M13, T3_R2!M13)))","v":63465},{"$f":"IF(AND(COUNTRY_INFO!J13>1,COUNTRY_INFO!J13<4),IF(COUNTRY_INFO!E13>MAX('MDA2'!J13,'T1'!L13,MAX(T3_R1!K13,T3_R2!K13)),MAX('MDA2'!J13,'T1'!L13,MAX(T3_R1!K13,T3_R2!K13)),COUNTRY_INFO!E13),0)","v":0},{"$f":"IF(AND(COUNTRY_INFO!J13>1,COUNTRY_INFO!J13<4), IF(T13/COUNTRY_INFO!E13*100<>0, IF(T13/COUNTRY_INFO!E13*100>100,100,T13/COUNTRY_INFO!E13*100), \"-\"),0)","v":"-"},{"$f":"IF(AND(COUNTRY_INFO!J13>1,COUNTRY_INFO!J13<4),IF(COUNTRY_INFO!F13>MAX('MDA1'!K13,'MDA2'!K13,'T1'!M13,MAX(T3_R1!L13,T3_R2!L13)),MAX('MDA1'!K13,'MDA2'!K13,'T1'!M13,MAX(T3_R1!L13,T3_R2!L13)),COUNTRY_INFO!F13),0)","v":63465},{"$f":"IF(AND(COUNTRY_INFO!J13>1,COUNTRY_INFO!J13<4), IF(V13/COUNTRY_INFO!F13*100<>0, IF(V13/COUNTRY_INFO!F13*100>100,100,V13/COUNTRY_INFO!F13*100), \"-\"),0)","v":99.006271255187045},63465,{"$f":"IF(AND(COUNTRY_INFO!J13>1,COUNTRY_INFO!J13<4), IF(S13/P13*100<>0, IF(X13/P13*100>100,100,X13/P13*100), \"-\"),0)","v":62.714309712738526},{"$f":"COUNTRY_INFO!O13","v":74736.200000000012},null,null,{"$f":"MAX('T1'!L13,'T2'!J13)+MAX('T1'!M13,'T2'!K13)+MAX('T1'!N13,'T2'!L13)","v":0},{"$f":"IF(COUNTRY_INFO!K13=1,IF(COUNTRY_INFO!F13*0.33>MAX('T1'!M13,'T2'!K13),MAX('T1'!M13,'T2'!K13),COUNTRY_INFO!F13*0.33),IF(COUNTRY_INFO!K13=2,IF(COUNTRY_INFO!F13*0.5>MAX('T1'!M13,'T2'!K13),MAX('T1'!M13,'T2'!K13),COUNTRY_INFO!F13*0.5),IF(COUNTRY_INFO!K13=3,IF(COUNTRY_INFO!F13>MAX('T1'!M13,'T2'!K13),MAX('T1'!M13,'T2'!K13),COUNTRY_INFO!F13),0)))","v":0},{"$f":"IF(AND(COUNTRY_INFO!K13>0,COUNTRY_INFO!K13<4),IF(Z13>0,IF(COUNTRY_INFO!K13=1, AD13/(COUNTRY_INFO!F13*0.33)*100, IF(COUNTRY_INFO!K13=2, AD13/(COUNTRY_INFO!F13*0.5)*100, IF(COUNTRY_INFO!K13=3, AD13/COUNTRY_INFO!F13*100))),\"-\"),0)","v":0},{"$f":"IF(COUNTRY_INFO!K13=2,IF(COUNTRY_INFO!G13*0.2>MAX('T1'!N13,'T2'!L13),MAX('T1'!N13,'T2'!L13),COUNTRY_INFO!G13*0.2),IF(COUNTRY_INFO!K13=3,IF(COUNTRY_INFO!G13>MAX('T1'!N13,'T2'!L13),MAX('T1'!N13,'T2'!L13),COUNTRY_INFO!G13),0))","v":0},{"$f":"IF(AND(COUNTRY_INFO!K13>0,COUNTRY_INFO!K13<4),IF(Z13>0,IF(COUNTRY_INFO!K13=1, 0, IF(COUNTRY_INFO!K13=2, AF13/(COUNTRY_INFO!G13*0.2)*100, IF(COUNTRY_INFO!K13=3, AF13/COUNTRY_INFO!G13*100))),\"-\"),0)","v":0},0,{"$f":"IF(AND(COUNTRY_INFO!K13>0,COUNTRY_INFO!K13<4), IF(AC13/Z13*100<>0, IF(AH13/Z13*100>100,100,AH13/Z13*100), \"-\"),0)","v":"-"},null,{"$f":"IF(AND(D13<>0, D13<>\"Unknown\",D13<>\"Stopped\",D13<>\"Not required\"),D13/COUNTRY_INFO!D13, 0)","v":0},{"$f":"IF(AND(J13<>0,J13<>\"Unknown\",J13<>\"Stopped\",J13<>\"Not required\"),J13/COUNTRY_INFO!D13, 0)","v":0},{"$f":"IF(AND(P13<>0,P13<>\"Unknown\",P13<>\"Not required\"),P13/(COUNTRY_INFO!E13+COUNTRY_INFO!F13), 0)","v":1},{"$f":"IF(AND(Z13<>0,Z13<>\"Unknown\",Z13<>\"Not required\"),IF(COUNTRY_INFO!K13=1,1,IF(COUNTRY_INFO!K13=2,0.5*COUNTRY_INFO!F13/(0.5*COUNTRY_INFO!F13+0.2*COUNTRY_INFO!G13),IF(COUNTRY_INFO!K13=3,COUNTRY_INFO!F13/(COUNTRY_INFO!F13+COUNTRY_INFO!G13)))),0)","v":0.42885509298037622},{"$f":"IF(AND(Z13<>0,Z13<>\"Unknown\",Z13<>\"Not required\"),IF(COUNTRY_INFO!K13=1,0,IF(COUNTRY_INFO!K13=2,0.2*COUNTRY_INFO!G13/(0.5*COUNTRY_INFO!F13+0.2*COUNTRY_INFO!G13),IF(COUNTRY_INFO!K13=3,COUNTRY_INFO!G13/(COUNTRY_INFO!F13+COUNTRY_INFO!G13)))),0)","v":0.57114490701962362},{"$f":"MAX(COUNTRY_INFO!D13*AK13*PROFILE!$G$7,COUNTRY_INFO!D13*AL13*PROFILE!$G$7)","v":0},{"$f":"MAX(COUNTRY_INFO!D13*AK13*PROFILE!$G$8,COUNTRY_INFO!D13*AL13*PROFILE!$G$8,COUNTRY_INFO!D13*AM13*PROFILE!$G$8)","v":34932.78728900494},{"$f":"MAX(COUNTRY_INFO!D13*AK13*PROFILE!$G$9,COUNTRY_INFO!D13*AL13*PROFILE!$G$9,COUNTRY_INFO!D13*AM13*PROFILE!$G$9,IF(AND(DISTRICT!Z13<>\"Unknown\",Z13<>\"Not required\"),COUNTRY_INFO!O13*DISTRICT!AN13,0))","v":68517.021151456909},{"$f":"MAX(COUNTRY_INFO!D13*AK13*PROFILE!$G$10,COUNTRY_INFO!D13*AL13*PROFILE!$G$10,IF(AND(DISTRICT!Z13<>\"Unknown\",Z13<>\"Not required\"),COUNTRY_INFO!O13*DISTRICT!AO13,0))","v":42685.200000000004},146135.00844046185,0,{"$f":"MAX('MDA2'!J13,'T1'!L13,'T2'!J13,T3_R1!K13,T3_R2!K13)","v":0},{"$f":"MAX('MDA1'!K13,'MDA2'!K13,'MDA3'!I13,'MDA3'!L13,'T1'!M13,'T2'!K13,T3_R1!L13,T3_R2!L13)","v":63465},{"$f":"MAX('MDA1'!L13,'MDA2'!L13,'MDA3'!J13,'MDA3'!M13,'T1'!N13,'T2'!L13,T3_R1!M13,T3_R2!M13)","v":0},63465,{"$f":"MAX('MDA2'!J13,T13)","v":0},{"$f":"MAX('MDA1'!K13,'MDA2'!K13,'MDA3'!I13,'MDA3'!L13,V13,AD13)","v":63465},{"$f":"MAX('MDA1'!L13,'MDA2'!L13,'MDA3'!J13,'MDA3'!M13,AF13)","v":0},63465,43.429018602244675]
[{"$f":"IF(COUNTRY_INFO!A14=0,\" \",COUNTRY_INFO!A14)","v":"Tanzania"},{"$f":"IF(COUNTRY_INFO!B14=0,\" \",COUNTRY_INFO!B14)","v":"Arusha"},{"$f":"IF(COUNTRY_INFO!C14=0,\" \",COUNTRY_INFO!C14)","v":"Monduli District Council"},{"$f":"COUNTRY_INFO!L14","v":0},null,null,{"$f":"MAX('MDA1'!M14,'MDA2'!M14)","v":0},{"$f":"IF(AND(COUNTRY_INFO!H14>0,COUNTRY_INFO!H14<4),IF(D14>MAX('MDA1'!M14,'MDA2'!M14),MAX('MDA1'!M14,'MDA2'!M14),D14),0)","v":0},{"$f":"IF(AND(COUNTRY_INFO!H14>0,COUNTRY_INFO!H14<4), IF(G14/D14*100<>0, IF(G14/D14*100>100,100,G14/D14*100), \"-\"),0)","v":0},{"$f":"COUNTRY_INFO!M14","v":0},null,null,{"$f":"MAX('MDA1'!M14,MAX('MDA3'!I14,'MDA3'!L14)+MAX('MDA3'!J14,'MDA3'!M14))","v":0},{"$f":"IF(AND(COUNTRY_INFO!I14>0,COUNTRY_INFO!I14<4),IF(J14>MAX('MDA1'!M14,MAX('MDA3'!I14,'MDA3'!L14)+MAX('MDA3'!J14,'MDA3'!M14)),MAX('MDA1'!M14,MAX('MDA3'!I14,'MDA3'!L14)+MAX('MDA3'!J14,'MDA3'!M14)),J14),0)","v":0},{"$f":"IF(AND(COUNTRY_INFO!I14>0,COUNTRY_INFO!I14<4), IF(M14/J14*100<>0, IF(M14/J14*100>100,100,M14/J14*100), \"-\"),0)","v":0},{"$f":"COUNTRY_INFO!N14","v":62118},null,null,{"$f":"SUM(MAX('MDA2'!J14, 'T1'!L14, MAX(T3_R1!K14, T3_R2!K14)), MAX('MDA1'!K14, 'MDA2'!K14, 'T1'!M14, MAX(T3_R1!L14, T3_R2!L14)), MAX('MDA1'!L14, 'MDA2'!L14, 'T1'!N14, MAX(T3_R1!M14, T3_R2!M14)))","v":34842},{"$f":"IF(AND(COUNTRY_INFO!J14>1,COUNTRY_INFO!J14<4),IF(COUNTRY_INFO!E14>MAX('MDA2'!J14,'T1'!L14,MAX(T3_R1!K14,T3_R2!K14)),MAX('MDA2'!J14,'T1'!L14,MAX(T3_R1!K14,T3_R2!K14)),COUNTRY_INFO!E14),0)","v":0},{"$f":"IF(AND(COUNTRY_INFO!J14>1,COUNTRY_INFO!J14<4), IF(T14/COUNTRY_INFO!E14*100<>0, IF(T14/COUNTRY_INFO!E14*100>100,100,T14/COUNTRY_INFO!E14*100), \"-\"),0)","v":"-"},{"$f":"IF(AND(COUNTRY_INFO!J14>1,COUNTRY_INFO!J14<4),IF(COUNTRY_INFO!F14>MAX('MDA1'!K14,'MDA2'!K14,'T1'!M14,MAX(T3_R1!L14,T3_R2!L14)),MAX('MDA1'!K14,'MDA2'!K14,'T1'!M14,MAX(T3_R1!L14,T3_R2!L14)),COUNTRY_INFO!F14),0)","v":34842},{"$f":"IF(AND(COUNTRY_INFO!J14>1,COUNTRY_INFO!J14<4), IF(V14/COUNTRY_INFO!F14*100<>0, IF(V14/COUNTRY_INFO!F14*100>100,100,V14/COUNTRY_INFO!F14*100), \"-\"),0)","v":91.537713790295044},34842,{"$f":"IF(AND(COUNTRY_INFO!J14>1,COUNTRY_INFO!J14<4), IF(S14/P14*100<>0, IF(X14/P14*100>100,100,X14/P14*100), \"-\"),0)","v":56.090022215782867},{"$f":"COUNTRY_INFO!O14","v":43903.3},null,null,{"$f":"MAX('T1'!L14,'T2'!J14)+MAX('T1'!M14,'T2'!K14)+MAX('T1'!N14,'T2'!L14)","v":0},{"$f":"IF(COUNTRY_INFO!K14=1,IF(COUNTRY_INFO!F14*0.33>MAX('T1'!M14,'T2'!K14),MAX('T1'!M14,'T2'!K14),COUNTRY_INFO!F14*0.33),IF(COUNTRY_INFO!K14=2,IF(COUNTRY_INFO!F14*0.5>MAX('T1'!M14,'T2'!K14),MAX('T1'!M14,'T2'!K14),COUNTRY_INFO!F14*0.5),IF(COUNTRY_INFO!K14=3,IF(COUNTRY_INFO!F14>MAX('T1'!M14,'T2'!K14),MAX('T1'!M14,'T2'!K14),COUNTRY_INFO!F14),0)))","v":0},{"$f":"IF(AND(COUNTRY_INFO!K14>0,COUNTRY_INFO!K14<4),IF(Z14>0,IF(COUNTRY_INFO!K14=1, AD14/(COUNTRY_INFO!F14*0.33)*100, IF(COUNTRY_INFO!K14=2, AD14/(COUNTRY_INFO!F14*0.5)*100, IF(COUNTRY_INFO!K14=3, AD14/COUNTRY_INFO!F14*100))),\"-\"),0)","v":0},{"$f":"IF(COUNTRY_INFO!K14=2,IF(COUNTRY_INFO!G14*0.2>MAX('T1'!N14,'T2'!L14),MAX('T1'!N14,'T2'!L14),COUNTRY_INFO!G14*0.2),IF(COUNTRY_INFO!K14=3,IF(COUNTRY_INFO!G14>MAX('T1'!N14,'T2'!L14),MAX('T1'!N14,'T2'!L14),COUNTRY_INFO!G14),0))","v":0},{"$f":"IF(AND(COUNTRY_INFO!K14>0,COUNTRY_INFO!K14<4),IF(Z14>0,IF(COUNTRY_INFO!K14=1, 0, IF(COUNTRY_INFO!K14=2, AF14/(COUNTRY_INFO!G14*0.2)*100, IF(COUNTRY_INFO!K14=3, AF14/COUNTRY_INFO!G14*100))),\"-\"),0)","v":0},0,{"$f":"IF(AND(COUNTRY_INFO!K14>0,COUNTRY_INFO!K14<4), IF(AC14/Z14*100<>0, IF(AH14/Z14*100>100,100,AH14/Z14*100), \"-\"),0)","v":"-"},null,{"$f":"IF(AND(D14<>0, D14<>\"Unknown\",D14<>\"Stopped\",D14<>\"Not required\"),D14/COUNTRY_INFO!D14, 0)","v":0},{"$f":"IF(AND(J14<>0,J14<>\"Unknown\",J14<>\"Stopped\",J14<>\"Not required\"),J14/COUNTRY_INFO!D14, 0)","v":0},{"$f":"IF(AND(P14<>0,P14<>\"Unknown\",P14<>\"Not required\"),P14/(COUNTRY_INFO!E14+COUNTRY_INFO!F14), 0)","v":1},{"$f":"IF(AND(Z14<>0,Z14<>\"Unknown\",Z14<>\"Not required\"),IF(COUNTRY_INFO!K14=1,1,IF(COUNTRY_INFO!K14=2,0.5*COUNTRY_INFO!F14/(0.5*COUNTRY_INFO!F14+0.2*COUNTRY_INFO!G14),IF(COUNTRY_INFO!K14=3,COUNTRY_INFO!F14/(COUNTRY_INFO!F14+COUNTRY_INFO!G14)))),0)","v":0.43348677662043628},{"$f":"IF(AND(Z14<>0,Z14<>\"Unknown\",Z14<>\"Not required\"),IF(COUNTRY_INFO!K14=1,0,IF(COUNTRY_INFO!K14=2,0.2*COUNTRY_INFO!G14/(0.5*COUNTRY_INFO!F14+0.2*COUNTRY_INFO!G14),IF(COUNTRY_INFO!K14=3,COUNTRY_INFO!G14/(COUNTRY_INFO!F14+COUNTRY_INFO!G14)))),0)","v":0.56651322337956378},{"$f":"MAX(COUNTRY_INFO!D14*AK14*PROFILE!$G$7,COUNTRY_INFO!D14*AL14*PROFILE!$G$7)","v":0},{"$f":"MAX(COUNTRY_INFO!D14*AK14*PROFILE!$G$8,COUNTRY_INFO!D14*AL14*PROFILE!$G$8,COUNTRY_INFO!D14*AM14*PROFILE!$G$8)","v":20704.657241497836},{"$f":"MAX(COUNTRY_INFO!D14*AK14*PROFILE!$G$9,COUNTRY_INFO!D14*AL14*PROFILE!$G$9,COUNTRY_INFO!D14*AM14*PROFILE!$G$9,IF(AND(DISTRICT!Z14<>\"Unknown\",Z14<>\"Not required\"),COUNTRY_INFO!O14*DISTRICT!AN14,0))","v":40610.02709039145},{"$f":"MAX(COUNTRY_INFO!D14*AK14*PROFILE!$G$10,COUNTRY_INFO!D14*AL14*PROFILE!$G$10,IF(AND(DISTRICT!Z14<>\"Unknown\",Z14<>\"Not required\"),COUNTRY_INFO!O14*DISTRICT!AO14,0))","v":24871.800000000003},86186.484331889282,0,{"$f":"MAX('MDA2'!J14,'T1'!L14,'T2'!J14,T3_R1!K14,T3_R2!K14)","v":0},{"$f":"MAX('MDA1'!K14,'MDA2'!K14,'MDA3'!I14,'MDA3'!L14,'T1'!M14,'T2'!K14,T3_R1!L14,T3_R2!L14)","v":34842},{"$f":"MAX('MDA1'!L14,'MDA2'!L14,'MDA3'!J14,'MDA3'!M14,'T1'!N14,'T2'!L14,T3_R1!M14,T3_R2!M14)","v":0},34842,{"$f":"MAX('MDA2'!J14,T14)","v":0},{"$f":"MAX('MDA1'!K14,'MDA2'!K14,'MDA3'!I14,'MDA3'!L14,V14,AD14)","v":34842},{"$f":"MAX('MDA1'!L14,'MDA2'!L14,'MDA3'!J14,'MDA3'!M14,AF14)","v":0},34842,40.426292208218484]
[{"$f":"IF(COUNTRY_INFO!A15=0,\" \",COUNTRY_INFO!A15)","v":"Tanzania"},{"$f":"IF(COUNTRY_INFO!B15=0,\" \",COUNTRY_INFO!B15)","v":"Arusha"},{"$f":"IF(COUNTRY_INFO!C15=0,\" \",COUNTRY_INFO!C15)","v":"Ngorongoro District Council"},{"$f":"COUNTRY_INFO!L15","v":0},null,null,{"$f":"MAX('MDA1'!M15,'MDA2'!M15)","v":0},{"$f":"IF(AND(COUNTRY_INFO!H15>0,COUNTRY_INFO!H15<4),IF(D15>MAX('MDA1'!M15,'MDA2'!M15),MAX('MDA1'!M15,'MDA2'!M15),D15),0)","v":0},{"$f":"IF(AND(COUNTRY_INFO!H15>0,COUNTRY_INFO!H15<4), IF(G15/D15*100<>0, IF(G15/D15*100>100,100,G15/D15*100), \"-\"),0)","v":0},{"$f":"COUNTRY_INFO!M15","v":0},null,null,{"$f":"MAX('MDA1'!M15,MAX('MDA3'!I15,'MDA3'!L15)+MAX('MDA3'!J15,'MDA3'!M15))","v":0},{"$f":"IF(AND(COUNTRY_INFO!I15>0,COUNTRY_INFO!I15<4),IF(J15>MAX('MDA1'!M15,MAX('MDA3'!I15,'MDA3'!L15)+MAX('MDA3'!J15,'MDA3'!M15)),MAX('MDA1'!M15,MAX('MDA3'!I15,'MDA3'!L15)+MAX('MDA3'!J15,'MDA3'!M15)),J15),0)","v":0},{"$f":"IF(AND(COUNTRY_INFO!I15>0,COUNTRY_INFO!I15<4), IF(M15/J15*100<>0, IF(M15/J15*100>100,100,M15/J15*100), \"-\"),0)","v":0},{"$f":"COUNTRY_INFO!N15","v":69230},null,null,{"$f":"SUM(MAX('MDA2'!J15, 'T1'!L15, MAX(T3_R1!K15, T3_R2!K15)), MAX('MDA1'!K15, 'MDA2'!K15, 'T1'!M15, MAX(T3_R1!L15, T3_R2!L15)), MAX('MDA1'!L15, 'MDA2'!L15, 'T1'!N15, MAX(T3_R1!M15, T3_R2!M15)))","v":35611},{"$f":"IF(AND(COUNTRY_INFO!J15>1,COUNTRY_INFO!J15<4),IF(COUNTRY_INFO!E15>MAX('MDA2'!J15,'T1'!L15,MAX(T3_R1!K15,T3_R2!K15)),MAX('MDA2'!J15,'T1'!L15,MAX(T3_R1!K15,T3_R2!K15)),COUNTRY_INFO!E15),0)","v":0},{"$f":"IF(AND(COUNTRY_INFO!J15>1,COUNTRY_INFO!J15<4), IF(T15/COUNTRY_INFO!E15*100<>0, IF(T15/COUNTRY_INFO!E15*100>100,100,T15/COUNTRY_INFO!E15*100), \"-\"),0)","v":"-"},{"$f":"IF(AND(COUNTRY_INFO!J15>1,COUNTRY_INFO!J15<4),IF(COUNTRY_INFO!F15>MAX('MDA1'!K15,'MDA2'!K15,'T1'!M15,MAX(T3_R1!L15,T3_R2!L15)),MAX('MDA1'!K15,'MDA2'!K15,'T1'!M15,MAX(T3_R1!L15,T3_R2!L15)),COUNTRY_INFO!F15),0)","v":35611},{"$f":"IF(AND(COUNTRY_INFO!J15>1,COUNTRY_INFO!J15<4), IF(V15/COUNTRY_INFO!F15*100<>0, IF(V15/COUNTRY_INFO!F15*100>100,100,V15/COUNTRY_INFO!F15*100), \"-\"),0)","v":83.104244941774979},35611,{"$f":"IF(AND(COUNTRY_INFO!J15>1,COUNTRY_INFO!J15<4), IF(S15/P15*100<>0, IF(X15/P15*100>100,100,X15/P15*100), \"-\"),0)","v":51.438682652029463},{"$f":"COUNTRY_INFO!O15","v":48476.9},null,null,{"$f":"MAX('T1'!L15,'T2'!J15)+MAX('T1'!M15,'T2'!K15)+MAX('T1'!N15,'T2'!L15)","v":0},{"$f":"IF(COUNTRY_INFO!K15=1,IF(COUNTRY_INFO!F15*0.33>MAX('T1'!M15,'T2'!K15),MAX('T1'!M15,'T2'!K15),COUNTRY_INFO!F15*0.33),IF(COUNTRY_INFO!K15=2,IF(COUNTRY_INFO!F15*0.5>MAX('T1'!M15,'T2'!K15),MAX('T1'!M15,'T2'!K15),COUNTRY_INFO!F15*0.5),IF(COUNTRY_INFO!K15=3,IF(COUNTRY_INFO!F15>MAX('T1'!M15,'T2'!K15),MAX('T1'!M15,'T2'!K15),COUNTRY_INFO!F15),0)))","v":0},{"$f":"IF(AND(COUNTRY_INFO!K15>0,COUNTRY_INFO!K15<4),IF(Z15>0,IF(COUNTRY_INFO!K15=1, AD15/(COUNTRY_INFO!F15*0.33)*100, IF(COUNTRY_INFO!K15=2, AD15/(COUNTRY_INFO!F15*0.5)*100, IF(COUNTRY_INFO!K15=3, AD15/COUNTRY_INFO!F15*100))),\"-\"),0)","v":0},{"$f":"IF(COUNTRY_INFO!K15=2,IF(COUNTRY_INFO!G15*0.2>MAX('T1'!N15,'T2'!L15),MAX('T1'!N15,'T2'!L15),COUNTRY_INFO!G15*0.2),IF(COUNTRY_INFO!K15=3,IF(COUNTRY_INFO!G15>MAX('T1'!N15,'T2'!L15),MAX('T1'!N15,'T2'!L15),COUNTRY_INFO!G15),0))","v":0},{"$f":"IF(AND(COUNTRY_INFO!K15>0,COUNTRY_INFO!K15<4),IF(Z15>0,IF(COUNTRY_INFO!K15=1, 0, IF(COUNTRY_INFO!K15=2, AF15/(COUNTRY_INFO!G15*0.2)*100, IF(COUNTRY_INFO!K15=3, AF15/COUNTRY_INFO!G15*100))),\"-\"),0)","v":0},0,{"$f":"IF(AND(COUNTRY_INFO!K15>0,COUNTRY_INFO!K15<4), IF(AC15/Z15*100<>0, IF(AH15/Z15*100>100,100,AH15/Z15*100), \"-\"),0)","v":"-"},null,{"$f":"IF(AND(D15<>0, D15<>\"Unknown\",D15<>\"Stopped\",D15<>\"Not required\"),D15/COUNTRY_INFO!D15, 0)","v":0},{"$f":"IF(AND(J15<>0,J15<>\"Unknown\",J15<>\"Stopped\",J15<>\"Not required\"),J15/COUNTRY_INFO!D15, 0)","v":0},{"$f":"IF(AND(P15<>0,P15<>\"Unknown\",P15<>\"Not required\"),P15/(COUNTRY_INFO!E15+COUNTRY_INFO!F15), 0)","v":1},{"$f":"IF(AND(Z15<>0,Z15<>\"Unknown\",Z15<>\"Not required\"),IF(COUNTRY_INFO!K15=1,1,IF(COUNTRY_INFO!K15=2,0.5*COUNTRY_INFO!F15/(0.5*COUNTRY_INFO!F15+0.2*COUNTRY_INFO!G15),IF(COUNTRY_INFO!K15=3,COUNTRY_INFO!F15/(COUNTRY_INFO!F15+COUNTRY_INFO!G15)))),0)","v":0.44197339351319903},{"$f":"IF(AND(Z15<>0,Z15<>\"Unknown\",Z15<>\"Not required\"),IF(COUNTRY_INFO!K15=1,0,IF(COUNTRY_INFO!K15=2,0.2*COUNTRY_INFO!G15/(0.5*COUNTRY_INFO!F15+0.2*COUNTRY_INFO!G15),IF(COUNTRY_INFO!K15=3,COUNTRY_INFO!G15/(COUNTRY_INFO!F15+COUNTRY_INFO!G15)))),0)","v":0.55802660648680091},{"$f":"MAX(COUNTRY_INFO!D15*AK15*PROFILE!$G$7,COUNTRY_INFO!D15*AL15*PROFILE!$G$7)","v":0},{"$f":"MAX(COUNTRY_INFO!D15*AK15*PROFILE!$G$8,COUNTRY_INFO!D15*AL15*PROFILE!$G$8,COUNTRY_INFO!D15*AM15*PROFILE!$G$8)","v":22704.318738193815},{"$f":"MAX(COUNTRY_INFO!D15*AK15*PROFILE!$G$9,COUNTRY_INFO!D15*AL15*PROFILE!$G$9,COUNTRY_INFO!D15*AM15*PROFILE!$G$9,IF(AND(DISTRICT!Z15<>\"Unknown\",Z15<>\"Not required\"),COUNTRY_INFO!O15*DISTRICT!AN15,0))","v":44532.154687349524},{"$f":"MAX(COUNTRY_INFO!D15*AK15*PROFILE!$G$10,COUNTRY_INFO!D15*AL15*PROFILE!$G$10,IF(AND(DISTRICT!Z15<>\"Unknown\",Z15<>\"Not required\"),COUNTRY_INFO!O15*DISTRICT!AO15,0))","v":27051.4},94287.873425543337,0,{"$f":"MAX('MDA2'!J15,'T1'!L15,'T2'!J15,T3_R1!K15,T3_R2!K15)","v":0},{"$f":"MAX('MDA1'!K15,'MDA2'!K15,'MDA3'!I15,'MDA3'!L15,'T1'!M15,'T2'!K15,T3_R1!L15,T3_R2!L15)","v":35611},{"$f":"MAX('MDA1'!L15,'MDA2'!L15,'MDA3'!J15,'MDA3'!M15,'T1'!N15,'T2'!L15,T3_R1!M15,T3_R2!M15)","v":0},35611,{"$f":"MAX('MDA2'!J15,T15)","v":0},{"$f":"MAX('MDA1'!K15,'MDA2'!K15,'MDA3'!I15,'MDA3'!L15,V15,AD15)","v":35611},{"$f":"MAX('MDA1'!L15,'MDA2'!L15,'MDA3'!J15,'MDA3'!M15,AF15)","v":0},35611,37.768377529609971]
[{"$f":"IF(COUNTRY_INFO!A16=0,\" \",COUNTRY_INFO!A16)","v":"Tanzania"},{"$f":"IF(COUNTRY_INFO!B16=0,\" \",COUNTRY_INFO!B16)","v":"Dar Es Salaam"},{"$f":"IF(COUNTRY_INFO!C16=0,\" \",COUNTRY_INFO!C16)","v":"Dar es Salaam City Council "},{"$f":"COUNTRY_INFO!L16","v":1},null,null,{"$f":"MAX('MDA1'!M16,'MDA2'!M16)","v":2},{"$f":"IF(AND(COUNTRY_INFO!H16>0,COUNTRY_INFO!H16<4),IF(D16>MAX('MDA1'!M16,'MDA2'!M16),MAX('MDA1'!M16,'MDA2'!M16),D16),0)","v":1},{"$f":"IF(AND(COUNTRY_INFO!H16>0,COUNTRY_INFO!H16<4), IF(G16/D16*100<>0, IF(G16/D16*100>100,100,G16/D16*100), \"-\"),0)","v":100},{"$f":"COUNTRY_INFO!M16","v":0},null,null,{"$f":"MAX('MDA1'!M16,MAX('MDA3'!I16,'MDA3'!L16)+MAX('MDA3'!J16,'MDA3'!M16))","v":2},{"$f":"IF(AND(COUNTRY_INFO!I16>0,COUNTRY_INFO!I16<4),IF(J16>MAX('MDA1'!M16,MAX('MDA3'!I16,'MDA3'!L16)+MAX('MDA3'!J16,'MDA3'!M16)),MAX('MDA1'!M16,MAX('MDA3'!I16,'MDA3'!L16)+MAX('MDA3'!J16,'MDA3'!M16)),J16),0)","v":0},{"$f":"IF(AND(COUNTRY_INFO!I16>0,COUNTRY_INFO!I16<4), IF(M16/J16*100<>0, IF(M16/J16*100>100,100,M16/J16*100), \"-\"),0)","v":0},{"$f":"COUNTRY_INFO!N16","v":2},null,null,{"$f":"SUM(MAX('MDA2'!J16, 'T1'!L16, MAX(T3_R1!K16, T3_R2!K16)), MAX('MDA1'!K16, 'MDA2'!K16, 'T1'!M16, MAX(T3_R1!L16, T3_R2!L16)), MAX('MDA1'!L16, 'MDA2'!L16, 'T1'!N16, MAX(T3_R1!M16, T3_R2!M16)))","v":2},{"$f":"IF(AND(COUNTRY_INFO!J16>1,COUNTRY_INFO!J16<4),IF(COUNTRY_INFO!E16>MAX('MDA2'!J16,'T1'!L16,MAX(T3_R1!K16,T3_R2!K16)),MAX('MDA2'!J16,'T1'!L16,MAX(T3_R1!K16,T3_R2!K16)),COUNTRY_INFO!E16),0)","v":0},{"$f":"IF(AND(COUNTRY_INFO!J16>1,COUNTRY_INFO!J16<4), IF(T16/COUNTRY_INFO!E16*100<>0, IF(T16/COUNTRY_INFO!E16*100>100,100,T16/COUNTRY_INFO!E16*100), \"-\"),0)","v":"-"},{"$f":"IF(AND(COUNTRY_INFO!J16>1,COUNTRY_INFO!J16<4),IF(COUNTRY_INFO!F16>MAX('MDA1'!K16,'MDA2'!K16,'T1'!M16,MAX(T3_R1!L16,T3_R2!L16)),MAX('MDA1'!K16,'MDA2'!K16,'T1'!M16,MAX(T3_R1!L16,T3_R2!L16)),COUNTRY_INFO!F16),0)","v":1},{"$f":"IF(AND(COUNTRY_INFO!J16>1,COUNTRY_INFO!J16<4), IF(V16/COUNTRY_INFO!F16*100<>0, IF(V16/COUNTRY_INFO!F16*100>100,100,V16/COUNTRY_INFO!F16*100), \"-\"),0)","v":100},1,{"$f":"IF(AND(COUNTRY_INFO!J16>1,COUNTRY_INFO!J16<4), IF(S16/P16*100<>0, IF(X16/P16*100>100,100,X16/P16*100), \"-\"),0)","v":50},{"$f":"COUNTRY_INFO!O16","v":0.7},null,null,{"$f":"MAX('T1'!L16,'T2'!J16)+MAX('T1'!M16,'T2'!K16)+MAX('T1'!N16,'T2'!L16)","v":1},{"$f":"IF(COUNTRY_INFO!K16=1,IF(COUNTRY_INFO!F16*0.33>MAX('T1'!M16,'T2'!K16),MAX('T1'!M16,'T2'!K16),COUNTRY_INFO!F16*0.33),IF(COUNTRY_INFO!K16=2,IF(COUNTRY_INFO!F16*0.5>MAX('T1'!M16,'T2'!K16),MAX('T1'!M16,'T2'!K16),COUNTRY_INFO!F16*0.5),IF(COUNTRY_INFO!K16=3,IF(COUNTRY_INFO!F16>MAX('T1'!M16,'T2'!K16),MAX('T1'!M16,'T2'!K16),COUNTRY_INFO!F16),0)))","v":0.5},{"$f":"IF(AND(COUNTRY_INFO!K16>0,COUNTRY_INFO!K16<4),IF(Z16>0,IF(COUNTRY_INFO!K16=1, AD16/(COUNTRY_INFO!F16*0.33)*100, IF(COUNTRY_INFO!K16=2, AD16/(COUNTRY_INFO!F16*0.5)*100, IF(COUNTRY_INFO!K16=3, AD16/COUNTRY_INFO!F16*100))),\"-\"),0)","v":100},{"$f":"IF(COUNTRY_INFO!K16=2,IF(COUNTRY_INFO!G16*0.2>MAX('T1'!N16,'T2'!L16),MAX('T1'!N16,'T2'!L16),COUNTRY_INFO!G16*0.2),IF(COUNTRY_INFO!K16=3,IF(COUNTRY_INFO!G16>MAX('T1'!N16,'T2'!L16),MAX('T1'!N16,'T2'!L16),COUNTRY_INFO!G16),0))","v":0},{"$f":"IF(AND(COUNTRY_INFO!K16>0,COUNTRY_INFO!K16<4),IF(Z16>0,IF(COUNTRY_INFO!K16=1, 0, IF(COUNTRY_INFO!K16=2, AF16/(COUNTRY_INFO!G16*0.2)*100, IF(COUNTRY_INFO!K16=3, AF16/COUNTRY_INFO!G16*100))),\"-\"),0)","v":0},0.5,{"$f":"IF(AND(COUNTRY_INFO!K16>0,COUNTRY_INFO!K16<4), IF(AC16/Z16*100<>0, IF(AH16/Z16*100>100,100,AH16/Z16*100), \"-\"),0)","v":71.428571428571431},null,{"$f":"IF(AND(D16<>0, D16<>\"Unknown\",D16<>\"Stopped\",D16<>\"Not required\"),D16/COUNTRY_INFO!D16, 0)","v":1},{"$f":"IF(AND(J16<>0,J16<>\"Unknown\",J16<>\"Stopped\",J16<>\"Not required\"),J16/COUNTRY_INFO!D16, 0)","v":0},{"$f":"IF(AND(P16<>0,P16<>\"Unknown\",P16<>\"Not required\"),P16/(COUNTRY_INFO!E16+COUNTRY_INFO!F16), 0)","v":1},{"$f":"IF(AND(Z16<>0,Z16<>\"Unknown\",Z16<>\"Not required\"),IF(COUNTRY_INFO!K16=1,1,IF(COUNTRY_INFO!K16=2,0.5*COUNTRY_INFO!F16/(0.5*COUNTRY_INFO!F16+0.2*COUNTRY_INFO!G16),IF(COUNTRY_INFO!K16=3,COUNTRY_INFO!F16/(COUNTRY_INFO!F16+COUNTRY_INFO!G16)))),0)","v":0.7142857142857143},{"$f":"IF(AND(Z16<>0,Z16<>\"Unknown\",Z16<>\"Not required\"),IF(COUNTRY_INFO!K16=1,0,IF(COUNTRY_INFO!K16=2,0.2*COUNTRY_INFO!G16/(0.5*COUNTRY_INFO!F16+0.2*COUNTRY_INFO!G16),IF(COUNTRY_INFO!K16=3,COUNTRY_INFO!G16/(COUNTRY_INFO!F16+COUNTRY_INFO!G16)))),0)","v":0.28571428571428575},{"$f":"MAX(COUNTRY_INFO!D16*AK16*PROFILE!$G$7,COUNTRY_INFO!D16*AL16*PROFILE!$G$7)","v":0},{"$f":"MAX(COUNTRY_INFO!D16*AK16*PROFILE!$G$8,COUNTRY_INFO!D16*AL16*PROFILE!$G$8,COUNTRY_INFO!D16*AM16*PROFILE!$G$8)","v":0.11103062169328033},{"$f":"MAX(COUNTRY_INFO!D16*AK16*PROFILE!$G$9,COUNTRY_INFO!D16*AL16*PROFILE!$G$9,COUNTRY_INFO!D16*AM16*PROFILE!$G$9,IF(AND(DISTRICT!Z16<>\"Unknown\",Z16<>\"Not required\"),COUNTRY_INFO!O16*DISTRICT!AN16,0))","v":0.5},{"$f":"MAX(COUNTRY_INFO!D16*AK16*PROFILE!$G$10,COUNTRY_INFO!D16*AL16*PROFILE!$G$10,IF(AND(DISTRICT!Z16<>\"Unknown\",Z16<>\"Not required\"),COUNTRY_INFO!O16*DISTRICT!AO16,0))","v":0.67119442537284535},1.2822250470661256,"Y",{"$f":"MAX('MDA2'!J16,'T1'!L16,'T2'!J16,T3_R1!K16,T3_R2!K16)","v":0},{"$f":"MAX('MDA1'!K16,'MDA2'!K16,'MDA3'!I16,'MDA3'!L16,'T1'!M16,'T2'!K16,T3_R1!L16,T3_R2!L16)","v":1},{"$f":"MAX('MDA1'!L16,'MDA2'!L16,'MDA3'!J16,'MDA3'!M16,'T1'!N16,'T2'!L16,T3_R1!M16,T3_R2!M16)","v":1},2,{"$f":"MAX('MDA2'!J16,T16)","v":0},{"$f":"MAX('MDA1'!K16,'MDA2'!K16,'MDA3'!I16,'MDA3'!L16,V16,AD16)","v":1},{"$f":"MAX('MDA1'!L16,'MDA2'!L16,'MDA3'!J16,'MDA3'!M16,AF16)","v":1},1.2822250470661256,100]
[{"$f":"IF(COUNTRY_INFO!A17=0,\" \",COUNTRY_INFO!A17)","v":"Tanzania"},{"$f":"IF(COUNTRY_INFO!B17=0,\" \",COUNTRY_INFO!B17)","v":"Dar Es Salaam"},{"$f":"IF(COUNTRY_INFO!C17=0,\" \",COUNTRY_INFO!C17)","v":"Ilala Municipal Council"},{"$f":"COUNTRY_INFO!L17","v":1787412},null,null,{"$f":"MAX('MDA1'!M17,'MDA2'!M17)","v":1638291},{"$f":"IF(AND(COUNTRY_INFO!H17>0,COUNTRY_INFO!H17<4),IF(D17>MAX('MDA1'!M17,'MDA2'!M17),MAX('MDA1'!M17,'MDA2'!M17),D17),0)","v":1638291},{"$f":"IF(AND(COUNTRY_INFO!H17>0,COUNTRY_INFO!H17<4), IF(G17/D17*100<>0, IF(G17/D17*100>100,100,G17/D17*100), \"-\"),0)","v":91.657155708924407},{"$f":"COUNTRY_INFO!M17","v":0},null,null,{"$f":"MAX('MDA1'!M17,MAX('MDA3'!I17,'MDA3'!L17)+MAX('MDA3'!J17,'MDA3'!M17))","v":1638291},{"$f":"IF(AND(COUNTRY_INFO!I17>0,COUNTRY_INFO!I17<4),IF(J17>MAX('MDA1'!M17,MAX('MDA3'!I17,'MDA3'!L17)+MAX('MDA3'!J17,'MDA3'!M17)),MAX('MDA1'!M17,MAX('MDA3'!I17,'MDA3'!L17)+MAX('MDA3'!J17,'MDA3'!M17)),J17),0)","v":0},{"$f":"IF(AND(COUNTRY_INFO!I17>0,COUNTRY_INFO!I17<4), IF(M17/J17*100<>0, IF(M17/J17*100>100,100,M17/J17*100), \"-\"),0)","v":0},{"$f":"COUNTRY_INFO!N17","v":543880},null,null,{"$f":"SUM(MAX('MDA2'!J17, 'T1'!L17, MAX(T3_R1!K17, T3_R2!K17)), MAX('MDA1'!K17, 'MDA2'!K17, 'T1'!M17, MAX(T3_R1!L17, T3_R2!L17)), MAX('MDA1'!L17, 'MDA2'!L17, 'T1'!N17, MAX(T3_R1!M17, T3_R2!M17)))","v":1638291},{"$f":"IF(AND(COUNTRY_INFO!J17>1,COUNTRY_INFO!J17<4),IF(COUNTRY_INFO!E17>MAX('MDA2'!J17,'T1'!L17,MAX(T3_R1!K17,T3_R2!K17)),MAX('MDA2'!J17,'T1'!L17,MAX(T3_R1!K17,T3_R2!K17)),COUNTRY_INFO!E17),0)","v":0},{"$f":"IF(AND(COUNTRY_INFO!J17>1,COUNTRY_INFO!J17<4), IF(T17/COUNTRY_INFO!E17*100<>0, IF(T17/COUNTRY_INFO!E17*100>100,100,T17/COUNTRY_INFO!E17*100), \"-\"),0)","v":"-"},{"$f":"IF(AND(COUNTRY_INFO!J17>1,COUNTRY_INFO!J17<4),IF(COUNTRY_INFO!F17>MAX('MDA1'!K17,'MDA2'!K17,'T1'!M17,MAX(T3_R1!L17,T3_R2!L17)),MAX('MDA1'!K17,'MDA2'!K17,'T1'!M17,MAX(T3_R1!L17,T3_R2!L17)),COUNTRY_INFO!F17),0)","v":230745},{"$f":"IF(AND(COUNTRY_INFO!J17>1,COUNTRY_INFO!J17<4), IF(V17/COUNTRY_INFO!F17*100<>0, IF(V17/COUNTRY_INFO!F17*100>100,100,V17/COUNTRY_INFO!F17*100), \"-\"),0)","v":100},230745,{"$f":"IF(AND(COUNTRY_INFO!J17>1,COUNTRY_INFO!J17<4), IF(S17/P17*100<>0, IF(X17/P17*100>100,100,X17/P17*100), \"-\"),0)","v":42.42571890858278},{"$f":"COUNTRY_INFO!O17","v":364078.9},null,null,{"$f":"MAX('T1'!L17,'T2'!J17)+MAX('T1'!M17,'T2'!K17)+MAX('T1'!N17,'T2'!L17)","v":186525},{"$f":"IF(COUNTRY_INFO!K17=1,IF(COUNTRY_INFO!F17*0.33>MAX('T1'!M17,'T2'!K17),MAX('T1'!M17,'T2'!K17),COUNTRY_INFO!F17*0.33),IF(COUNTRY_INFO!K17=2,IF(COUNTRY_INFO!F17*0.5>MAX('T1'!M17,'T2'!K17),MAX('T1'!M17,'T2'!K17),COUNTRY_INFO!F17*0.5),IF(COUNTRY_INFO!K17=3,IF(COUNTRY_INFO!F17>MAX('T1'!M17,'T2'!K17),MAX('T1'!M17,'T2'!K17),COUNTRY_INFO!F17),0)))","v":115372.5},{"$f":"IF(AND(COUNTRY_INFO!K17>0,COUNTRY_INFO!K17<4),IF(Z17>0,IF(COUNTRY_INFO!K17=1, AD17/(COUNTRY_INFO!F17*0.33)*100, IF(COUNTRY_INFO!K17=2, AD17/(COUNTRY_INFO!F17*0.5)*100, IF(COUNTRY_INFO!K17=3, AD17/COUNTRY_INFO!F17*100))),\"-\"),0)","v":100},{"$f":"IF(COUNTRY_INFO!K17=2,IF(COUNTRY_INFO!G17*0.2>MAX('T1'!N17,'T2'!L17),MAX('T1'!N17,'T2'!L17),COUNTRY_INFO!G17*0.2),IF(COUNTRY_INFO!K17=3,IF(COUNTRY_INFO!G17>MAX('T1'!N17,'T2'!L17),MAX('T1'!N17,'T2'!L17),COUNTRY_INFO!G17),0))","v":0},{"$f":"IF(AND(COUNTRY_INFO!K17>0,COUNTRY_INFO!K17<4),IF(Z17>0,IF(COUNTRY_INFO!K17=1, 0, IF(COUNTRY_INFO!K17=2, AF17/(COUNTRY_INFO!G17*0.2)*100, IF(COUNTRY_INFO!K17=3, AF17/COUNTRY_INFO!G17*100))),\"-\"),0)","v":0},115372.5,{"$f":"IF(AND(COUNTRY_INFO!K17>0,COUNTRY_INFO!K17<4), IF(AC17/Z17*100<>0, IF(AH17/Z17*100>100,100,AH17/Z17*100), \"-\"),0)","v":31.688872933861312},null,{"$f":"IF(AND(D17<>0, D17<>\"Unknown\",D17<>\"Stopped\",D17<>\"Not required\"),D17/COUNTRY_INFO!D17, 0)","v":1},{"$f":"IF(AND(J17<>0,J17<>\"Unknown\",J17<>\"Stopped\",J17<>\"Not required\"),J17/COUNTRY_INFO!D17, 0)","v":0},{"$f":"IF(AND(P17<>0,P17<>\"Unknown\",P17<>\"Not required\"),P17/(COUNTRY_INFO!E17+COUNTRY_INFO!F17), 0)","v":1},{"$f":"IF(AND(Z17<>0,Z17<>\"Unknown\",Z17<>\"Not required\"),IF(COUNTRY_INFO!K17=1,1,IF(COUNTRY_INFO!K17=2,0.5*COUNTRY_INFO!F17/(0.5*COUNTRY_INFO!F17+0.2*COUNTRY_INFO!G17),IF(COUNTRY_INFO!K17=3,COUNTRY_INFO!F17/(COUNTRY_INFO!F17+COUNTRY_INFO!G17)))),0)","v":0.31688872933861312},{"$f":"IF(AND(Z17<>0,Z17<>\"Unknown\",Z17<>\"Not required\"),IF(COUNTRY_INFO!K17=1,0,IF(COUNTRY_INFO!K17=2,0.2*COUNTRY_INFO!G17/(0.5*COUNTRY_INFO!F17+0.2*COUNTRY_INFO!G17),IF(COUNTRY_INFO!K17=3,COUNTRY_INFO!G17/(COUNTRY_INFO!F17+COUNTRY_INFO!G17)))),0)","v":0.68311127066138688},{"$f":"MAX(COUNTRY_INFO!D17*AK17*PROFILE!$G$7,COUNTRY_INFO!D17*AL17*PROFILE!$G$7)","v":0},{"$f":"MAX(COUNTRY_INFO!D17*AK17*PROFILE!$G$8,COUNTRY_INFO!D17*AL17*PROFILE!$G$8,COUNTRY_INFO!D17*AM17*PROFILE!$G$8)","v":198457.46558202957},{"$f":"MAX(COUNTRY_INFO!D17*AK17*PROFILE!$G$9,COUNTRY_INFO!D17*AL17*PROFILE!$G$9,COUNTRY_INFO!D17*AM17*PROFILE!$G$9,IF(AND(DISTRICT!Z17<>\"Unknown\",Z17<>\"Not required\"),COUNTRY_INFO!O17*DISTRICT!AN17,0))","v":389253.63311127253},{"$f":"MAX(COUNTRY_INFO!D17*AK17*PROFILE!$G$10,COUNTRY_INFO!D17*AL17*PROFILE!$G$10,IF(AND(DISTRICT!Z17<>\"Unknown\",Z17<>\"Not required\"),COUNTRY_INFO!O17*DISTRICT!AO17,0))","v":1199700.9702445283},1787412.0689378304,"Y",{"$f":"MAX('MDA2'!J17,'T1'!L17,'T2'!J17,T3_R1!K17,T3_R2!K17)","v":0},{"$f":"MAX('MDA1'!K17,'MDA2'!K17,'MDA3'!I17,'MDA3'!L17,'T1'!M17,'T2'!K17,T3_R1!L17,T3_R2!L17)","v":312913},{"$f":"MAX('MDA1'!L17,'MDA2'!L17,'MDA3'!J17,'MDA3'!M17,'T1'!N17,'T2'!L17,T3_R1!M17,T3_R2!M17)","v":1325378},1638291,{"$f":"MAX('MDA2'!J17,T17)","v":0},{"$f":"MAX('MDA1'!K17,'MDA2'!K17,'MDA3'!I17,'MDA3'!L17,V17,AD17)","v":312913},{"$f":"MAX('MDA1'!L17,'MDA2'!L17,'MDA3'!J17,'MDA3'!M17,AF17)","v":1325378},1638291,91.657152173843969]
[{"$f":"IF(COUNTRY_INFO!A18=0,\" \",COUNTRY_INFO!A18)","v":"Tanzania"},{"$f":"IF(COUNTRY_INFO!B18=0,\" \",COUNTRY_INFO!B18)","v":"Dar Es Salaam"},{"$f":"IF(COUNTRY_INFO!C18=0,\" \",COUNTRY_INFO!C18)","v":"Kigamboni Municipal Council"},{"$f":"COUNTRY_INFO!L18","v":236331},null,null,{"$f":"MAX('MDA1'!M18,'MDA2'!M18)","v":206646},{"$f":"IF(AND(COUNTRY_INFO!H18>0,COUNTRY_INFO!H18<4),IF(D18>MAX('MDA1'!M18,'MDA2'!M18),MAX('MDA1'!M18,'MDA2'!M18),D18),0)","v":206646},{"$f":"IF(AND(COUNTRY_INFO!H18>0,COUNTRY_INFO!H18<4), IF(G18/D18*100<>0, IF(G18/D18*100>100,100,G18/D18*100), \"-\"),0)","v":87.439227185599862},{"$f":"COUNTRY_INFO!M18","v":0},null,null,{"$f":"MAX('MDA1'!M18,MAX('MDA3'!I18,'MDA3'!L18)+MAX('MDA3'!J18,'MDA3'!M18))","v":206646},{"$f":"IF(AND(COUNTRY_INFO!I18>0,COUNTRY_INFO!I18<4),IF(J18>MAX('MDA1'!M18,MAX('MDA3'!I18,'MDA3'!L18)+MAX('MDA3'!J18,'MDA3'!M18)),MAX('MDA1'!M18,MAX('MDA3'!I18,'MDA3'!L18)+MAX('MDA3'!J18,'MDA3'!M18)),J18),0)","v":0},{"$f":"IF(AND(COUNTRY_INFO!I18>0,COUNTRY_INFO!I18<4), IF(M18/J18*100<>0, IF(M18/J18*100>100,100,M18/J18*100), \"-\"),0)","v":0},{"$f":"COUNTRY_INFO!N18","v":71657},null,null,{"$f":"SUM(MAX('MDA2'!J18, 'T1'!L18, MAX(T3_R1!K18, T3_R2!K18)), MAX('MDA1'!K18, 'MDA2'!K18, 'T1'!M18, MAX(T3_R1!L18, T3_R2!L18)), MAX('MDA1'!L18, 'MDA2'!L18, 'T1'!N18, MAX(T3_R1!M18, T3_R2!M18)))","v":206646},{"$f":"IF(AND(COUNTRY_INFO!J18>1,COUNTRY_INFO!J18<4),IF(COUNTRY_INFO!E18>MAX('MDA2'!J18,'T1'!L18,MAX(T3_R1!K18,T3_R2!K18)),MAX('MDA2'!J18,'T1'!L18,MAX(T3_R1!K18,T3_R2!K18)),COUNTRY_INFO!E18),0)","v":0},{"$f":"IF(AND(COUNTRY_INFO!J18>1,COUNTRY_INFO!J18<4), IF(T18/COUNTRY_INFO!E18*100<>0, IF(T18/COUNTRY_INFO!E18*100>100,100,T18/COUNTRY_INFO!E18*100), \"-\"),0)","v":"-"},{"$f":"IF(AND(COUNTRY_INFO!J18>1,COUNTRY_INFO!J18<4),IF(COUNTRY_INFO!F18>MAX('MDA1'!K18,'MDA2'!K18,'T1'!M18,MAX(T3_R1!L18,T3_R2!L18)),MAX('MDA1'!K18,'MDA2'!K18,'T1'!M18,MAX(T3_R1!L18,T3_R2!L18)),COUNTRY_INFO!F18),0)","v":32119},{"$f":"IF(AND(COUNTRY_INFO!J18>1,COUNTRY_INFO!J18<4), IF(V18/COUNTRY_INFO!F18*100<>0, IF(V18/COUNTRY_INFO!F18*100>100,100,V18/COUNTRY_INFO!F18*100), \"-\"),0)","v":100},32119,{"$f":"IF(AND(COUNTRY_INFO!J18>1,COUNTRY_INFO!J18<4), IF(S18/P18*100<>0, IF(X18/P18*100>100,100,X18/P18*100), \"-\"),0)","v":44.823255229775178},{"$f":"COUNTRY_INFO!O18","v":48994.3},null,null,{"$f":"MAX('T1'!L18,'T2'!J18)+MAX('T1'!M18,'T2'!K18)+MAX('T1'!N18,'T2'!L18)","v":27668},{"$f":"IF(COUNTRY_INFO!K18=1,IF(COUNTRY_INFO!F18*0.33>MAX('T1'!M18,'T2'!K18),MAX('T1'!M18,'T2'!K18),COUNTRY_INFO!F18*0.33),IF(COUNTRY_INFO!K18=2,IF(COUNTRY_INFO!F18*0.5>MAX('T1'!M18,'T2'!K18),MAX('T1'!M18,'T2'!K18),COUNTRY_INFO!F18*0.5),IF(COUNTRY_INFO!K18=3,IF(COUNTRY_INFO!F18>MAX('T1'!M18,'T2'!K18),MAX('T1'!M18,'T2'!K18),COUNTRY_INFO!F18),0)))","v":16059.5},{"$f":"IF(AND(COUNTRY_INFO!K18>0,COUNTRY_INFO!K18<4),IF(Z18>0,IF(COUNTRY_INFO!K18=1, AD18/(COUNTRY_INFO!F18*0.33)*100, IF(COUNTRY_INFO!K18=2, AD18/(COUNTRY_INFO!F18*0.5)*100, IF(COUNTRY_INFO!K18=3, AD18/COUNTRY_INFO!F18*100))),\"-\"),0)","v":100},{"$f":"IF(COUNTRY_INFO!K18=2,IF(COUNTRY_INFO!G18*0.2>MAX('T1'!N18,'T2'!L18),MAX('T1'!N18,'T2'!L18),COUNTRY_INFO!G18*0.2),IF(COUNTRY_INFO!K18=3,IF(COUNTRY_INFO!G18>MAX('T1'!N18,'T2'!L18),MAX('T1'!N18,'T2'!L18),COUNTRY_INFO!G18),0))","v":0},{"$f":"IF(AND(COUNTRY_INFO!K18>0,COUNTRY_INFO!K18<4),IF(Z18>0,IF(COUNTRY_INFO!K18=1, 0, IF(COUNTRY_INFO!K18=2, AF18/(COUNTRY_INFO!G18*0.2)*100, IF(COUNTRY_INFO!K18=3, AF18/COUNTRY_INFO!G18*100))),\"-\"),0)","v":0},16059.5,{"$f":"IF(AND(COUNTRY_INFO!K18>0,COUNTRY_INFO!K18<4), IF(AC18/Z18*100<>0, IF(AH18/Z18*100>100,100,AH18/Z18*100), \"-\"),0)","v":32.778302782160374},null,{"$f":"IF(AND(D18<>0, D18<>\"Unknown\",D18<>\"Stopped\",D18<>\"Not required\"),D18/COUNTRY_INFO!D18, 0)","v":1},{"$f":"IF(AND(J18<>0,J18<>\"Unknown\",J18<>\"Stopped\",J18<>\"Not required\"),J18/COUNTRY_INFO!D18, 0)","v":0},{"$f":"IF(AND(P18<>0,P18<>\"Unknown\",P18<>\"Not required\"),P18/(COUNTRY_INFO!E18+COUNTRY_INFO!F18), 0)","v":1},{"$f":"IF(AND(Z18<>0,Z18<>\"Unknown\",Z18<>\"Not required\"),IF(COUNTRY_INFO!K18=1,1,IF(COUNTRY_INFO!K18=2,0.5*COUNTRY_INFO!F18/(0.5*COUNTRY_INFO!F18+0.2*COUNTRY_INFO!G18),IF(COUNTRY_INFO!K18=3,COUNTRY_INFO!F18/(COUNTRY_INFO!F18+COUNTRY_INFO!G18)))),0)","v":0.32778302782160373},{"$f":"IF(AND(Z18<>0,Z18<>\"Unknown\",Z18<>\"Not required\"),IF(COUNTRY_INFO!K18=1,0,IF(COUNTRY_INFO!K18=2,0.2*COUNTRY_INFO!G18/(0.5*COUNTRY_INFO!F18+0.2*COUNTRY_INFO!G18),IF(COUNTRY_INFO!K18=3,COUNTRY_INFO!G18/(COUNTRY_INFO!F18+COUNTRY_INFO!G18)))),0)","v":0.67221697217839627},{"$f":"MAX(COUNTRY_INFO!D18*AK18*PROFILE!$G$7,COUNTRY_INFO!D18*AL18*PROFILE!$G$7)","v":0},{"$f":"MAX(COUNTRY_INFO!D18*AK18*PROFILE!$G$8,COUNTRY_INFO!D18*AL18*PROFILE!$G$8,COUNTRY_INFO!D18*AM18*PROFILE!$G$8)","v":26239.977855394634},{"$f":"MAX(COUNTRY_INFO!D18*AK18*PROFILE!$G$9,COUNTRY_INFO!D18*AL18*PROFILE!$G$9,COUNTRY_INFO!D18*AM18*PROFILE!$G$9,IF(AND(DISTRICT!Z18<>\"Unknown\",Z18<>\"Not required\"),COUNTRY_INFO!O18*DISTRICT!AN18,0))","v":51466.981516751679},{"$f":"MAX(COUNTRY_INFO!D18*AK18*PROFILE!$G$10,COUNTRY_INFO!D18*AL18*PROFILE!$G$10,IF(AND(DISTRICT!Z18<>\"Unknown\",Z18<>\"Not required\"),COUNTRY_INFO!O18*DISTRICT!AO18,0))","v":158624.04974278991},236331.00911493623,"Y",{"$f":"MAX('MDA2'!J18,'T1'!L18,'T2'!J18,T3_R1!K18,T3_R2!K18)","v":0},{"$f":"MAX('MDA1'!K18,'MDA2'!K18,'MDA3'!I18,'MDA3'!L18,'T1'!M18,'T2'!K18,T3_R1!L18,T3_R2!L18)","v":39469.385999999999},{"$f":"MAX('MDA1'!L18,'MDA2'!L18,'MDA3'!J18,'MDA3'!M18,'T1'!N18,'T2'!L18,T3_R1!M18,T3_R2!M18)","v":167176.614},206646,{"$f":"MAX('MDA2'!J18,T18)","v":0},{"$f":"MAX('MDA1'!K18,'MDA2'!K18,'MDA3'!I18,'MDA3'!L18,V18,AD18)","v":39469.385999999999},{"$f":"MAX('MDA1'!L18,'MDA2'!L18,'MDA3'!J18,'MDA3'!M18,AF18)","v":167176.614},206646,87.439223813198652]
[{"$f":"IF(COUNTRY_INFO!A19=0,\" \",COUNTRY_INFO!A19)","v":"Tanzania"},{"$f":"IF(COUNTRY_INFO!B19=0,\" \",COUNTRY_INFO!B19)","v":"Dar Es Salaam"},{"$f":"IF(COUNTRY_INFO!C19=0,\" \",COUNTRY_INFO!C19)","v":"Kinondoni Municipal Council"},{"$f":"COUNTRY_INFO!L19","v":1289192},null,null,{"$f":"MAX('MDA1'!M19,'MDA2'!M19)","v":1091587},{"$f":"IF(AND(COUNTRY_INFO!H19>0,COUNTRY_INFO!H19<4),IF(D19>MAX('MDA1'!M19,'MDA2'!M19),MAX('MDA1'!M19,'MDA2'!M19),D19),0)","v":1091587},{"$f":"IF(AND(COUNTRY_INFO!H19>0,COUNTRY_INFO!H19<4), IF(G19/D19*100<>0, IF(G19/D19*100>100,100,G19/D19*100), \"-\"),0)","v":84.672182266101558},{"$f":"COUNTRY_INFO!M19","v":0},null,null,{"$f":"MAX('MDA1'!M19,MAX('MDA3'!I19,'MDA3'!L19)+MAX('MDA3'!J19,'MDA3'!M19))","v":1091587},{"$f":"IF(AND(COUNTRY_INFO!I19>0,COUNTRY_INFO!I19<4),IF(J19>MAX('MDA1'!M19,MAX('MDA3'!I19,'MDA3'!L19)+MAX('MDA3'!J19,'MDA3'!M19)),MAX('MDA1'!M19,MAX('MDA3'!I19,'MDA3'!L19)+MAX('MDA3'!J19,'MDA3'!M19)),J19),0)","v":0},{"$f":"IF(AND(COUNTRY_INFO!I19>0,COUNTRY_INFO!I19<4), IF(M19/J19*100<>0, IF(M19/J19*100>100,100,M19/J19*100), \"-\"),0)","v":0},{"$f":"COUNTRY_INFO!N19","v":325275},null,null,{"$f":"SUM(MAX('MDA2'!J19, 'T1'!L19, MAX(T3_R1!K19, T3_R2!K19)), MAX('MDA1'!K19, 'MDA2'!K19, 'T1'!M19, MAX(T3_R1!L19, T3_R2!L19)), MAX('MDA1'!L19, 'MDA2'!L19, 'T1'!N19, MAX(T3_R1!M19, T3_R2!M19)))","v":1091587},{"$f":"IF(AND(COUNTRY_INFO!J19>1,COUNTRY_INFO!J19<4),IF(COUNTRY_INFO!E19>MAX('MDA2'!J19,'T1'!L19,MAX(T3_R1!K19,T3_R2!K19)),MAX('MDA2'!J19,'T1'!L19,MAX(T3_R1!K19,T3_R2!K19)),COUNTRY_INFO!E19),0)","v":0},{"$f":"IF(AND(COUNTRY_INFO!J19>1,COUNTRY_INFO!J19<4), IF(T19/COUNTRY_INFO!E19*100<>0, IF(T19/COUNTRY_INFO!E19*100>100,100,T19/COUNTRY_INFO!E19*100), \"-\"),0)","v":"-"},{"$f":"IF(AND(COUNTRY_INFO!J19>1,COUNTRY_INFO!J19<4),IF(COUNTRY_INFO!F19>MAX('MDA1'!K19,'MDA2'!K19,'T1'!M19,MAX(T3_R1!L19,T3_R2!L19)),MAX('MDA1'!K19,'MDA2'!K19,'T1'!M19,MAX(T3_R1!L19,T3_R2!L19)),COUNTRY_INFO!F19),0)","v":158969},{"$f":"IF(AND(COUNTRY_INFO!J19>1,COUNTRY_INFO!J19<4), IF(V19/COUNTRY_INFO!F19*100<>0, IF(V19/COUNTRY_INFO!F19*100>100,100,V19/COUNTRY_INFO!F19*100), \"-\"),0)","v":100},158969,{"$f":"IF(AND(COUNTRY_INFO!J19>1,COUNTRY_INFO!J19<4), IF(S19/P19*100<>0, IF(X19/P19*100>100,100,X19/P19*100), \"-\"),0)","v":48.872185074168009},{"$f":"COUNTRY_INFO!O19","v":272267.90000000002},null,null,{"$f":"MAX('T1'!L19,'T2'!J19)+MAX('T1'!M19,'T2'!K19)+MAX('T1'!N19,'T2'!L19)","v":105570},{"$f":"IF(COUNTRY_INFO!K19=1,IF(COUNTRY_INFO!F19*0.33>MAX('T1'!M19,'T2'!K19),MAX('T1'!M19,'T2'!K19),COUNTRY_INFO!F19*0.33),IF(COUNTRY_INFO!K19=2,IF(COUNTRY_INFO!F19*0.5>MAX('T1'!M19,'T2'!K19),MAX('T1'!M19,'T2'!K19),COUNTRY_INFO!F19*0.5),IF(COUNTRY_INFO!K19=3,IF(COUNTRY_INFO!F19>MAX('T1'!M19,'T2'!K19),MAX('T1'!M19,'T2'!K19),COUNTRY_INFO!F19),0)))","v":79484.5},{"$f":"IF(AND(COUNTRY_INFO!K19>0,COUNTRY_INFO!K19<4),IF(Z19>0,IF(COUNTRY_INFO!K19=1, AD19/(COUNTRY_INFO!F19*0.33)*100, IF(COUNTRY_INFO!K19=2, AD19/(COUNTRY_INFO!F19*0.5)*100, IF(COUNTRY_INFO!K19=3, AD19/COUNTRY_INFO!F19*100))),\"-\"),0)","v":100},{"$f":"IF(COUNTRY_INFO!K19=2,IF(COUNTRY_INFO!G19*0.2>MAX('T1'!N19,'T2'!L19),MAX('T1'!N19,'T2'!L19),COUNTRY_INFO!G19*0.2),IF(COUNTRY_INFO!K19=3,IF(COUNTRY_INFO!G19>MAX('T1'!N19,'T2'!L19),MAX('T1'!N19,'T2'!L19),COUNTRY_INFO!G19),0))","v":0},{"$f":"IF(AND(COUNTRY_INFO!K19>0,COUNTRY_INFO!K19<4),IF(Z19>0,IF(COUNTRY_INFO!K19=1, 0, IF(COUNTRY_INFO!K19=2, AF19/(COUNTRY_INFO!G19*0.2)*100, IF(COUNTRY_INFO!K19=3, AF19/COUNTRY_INFO!G19*100))),\"-\"),0)","v":0},79484.5,{"$f":"IF(AND(COUNTRY_INFO!K19>0,COUNTRY_INFO!K19<4), IF(AC19/Z19*100<>0, IF(AH19/Z19*100>100,100,AH19/Z19*100), \"-\"),0)","v":29.193489206770241},null,{"$f":"IF(AND(D19<>0, D19<>\"Unknown\",D19<>\"Stopped\",D19<>\"Not required\"),D19/COUNTRY_INFO!D19, 0)","v":1},{"$f":"IF(AND(J19<>0,J19<>\"Unknown\",J19<>\"Stopped\",J19<>\"Not required\"),J19/COUNTRY_INFO!D19, 0)","v":0},{"$f":"IF(AND(P19<>0,P19<>\"Unknown\",P19<>\"Not required\"),P19/(COUNTRY_INFO!E19+COUNTRY_INFO!F19), 0)","v":1},{"$f":"IF(AND(Z19<>0,Z19<>\"Unknown\",Z19<>\"Not required\"),IF(COUNTRY_INFO!K19=1,1,IF(COUNTRY_INFO!K19=2,0.5*COUNTRY_INFO!F19/(0.5*COUNTRY_INFO!F19+0.2*COUNTRY_INFO!G19),IF(COUNTRY_INFO!K19=3,COUNTRY_INFO!F19/(COUNTRY_INFO!F19+COUNTRY_INFO!G19)))),0)","v":0.2919348920677024},{"$f":"IF(AND(Z19<>0,Z19<>\"Unknown\",Z19<>\"Not required\"),IF(COUNTRY_INFO!K19=1,0,IF(COUNTRY_INFO!K19=2,0.2*COUNTRY_INFO!G19/(0.5*COUNTRY_INFO!F19+0.2*COUNTRY_INFO!G19),IF(COUNTRY_INFO!K19=3,COUNTRY_INFO!G19/(COUNTRY_INFO!F19+COUNTRY_INFO!G19)))),0)","v":0.7080651079322976},{"$f":"MAX(COUNTRY_INFO!D19*AK19*PROFILE!$G$7,COUNTRY_INFO!D19*AL19*PROFILE!$G$7)","v":0},{"$f":"MAX(COUNTRY_INFO!D19*AK19*PROFILE!$G$8,COUNTRY_INFO!D19*AL19*PROFILE!$G$8,COUNTRY_INFO!D19*AM19*PROFILE!$G$8)","v":143139.78924200346},{"$f":"MAX(COUNTRY_INFO!D19*AK19*PROFILE!$G$9,COUNTRY_INFO!D19*AL19*PROFILE!$G$9,COUNTRY_INFO!D19*AM19*PROFILE!$G$9,IF(AND(DISTRICT!Z19<>\"Unknown\",Z19<>\"Not required\"),COUNTRY_INFO!O19*DISTRICT!AN19,0))","v":280753.77684495103},{"$f":"MAX(COUNTRY_INFO!D19*AK19*PROFILE!$G$10,COUNTRY_INFO!D19*AL19*PROFILE!$G$10,IF(AND(DISTRICT!Z19<>\"Unknown\",Z19<>\"Not required\"),COUNTRY_INFO!O19*DISTRICT!AO19,0))","v":865298.48363526922},1289192.0497222238,"Y",{"$f":"MAX('MDA2'!J19,'T1'!L19,'T2'!J19,T3_R1!K19,T3_R2!K19)","v":0},{"$f":"MAX('MDA1'!K19,'MDA2'!K19,'MDA3'!I19,'MDA3'!L19,'T1'!M19,'T2'!K19,T3_R1!L19,T3_R2!L19)","v":208493.117},{"$f":"MAX('MDA1'!L19,'MDA2'!L19,'MDA3'!J19,'MDA3'!M19,'T1'!N19,'T2'!L19,T3_R1!M19,T3_R2!M19)","v":883093.88300000003},1091587,{"$f":"MAX('MDA2'!J19,T19)","v":0},{"$f":"MAX('MDA1'!K19,'MDA2'!K19,'MDA3'!I19,'MDA3'!L19,V19,AD19)","v":208493.117},{"$f":"MAX('MDA1'!L19,'MDA2'!L19,'MDA3'!J19,'MDA3'!M19,AF19)","v":883093.88300000003},1091587,84.672179000421167]
[{"$f":"IF(COUNTRY_INFO!A20=0,\" \",COUNTRY_INFO!A20)","v":"Tanzania"},{"$f":"IF(COUNTRY_INFO!B20=0,\" \",COUNTRY_INFO!B20)","v":"Dar Es Salaam"},{"$f":"IF(COUNTRY_INFO!C20=0,\" \",COUNTRY_INFO!C20)","v":"Temeke Municipal Council"},{"$f":"COUNTRY_INFO!L20","v":1672293},null,null,{"$f":"MAX('MDA1'!M20,'MDA2'!M20)","v":1193376},{"$f":"IF(AND(COUNTRY_INFO!H20>0,COUNTRY_INFO!H20<4),IF(D20>MAX('MDA1'!M20,'MDA2'!M20),MAX('MDA1'!M20,'MDA2'!M20),D20),0)","v":1193376},{"$f":"IF(AND(COUNTRY_INFO!H20>0,COUNTRY_INFO!H20<4), IF(G20/D20*100<>0, IF(G20/D20*100>100,100,G20/D20*100), \"-\"),0)","v":71.361657317228506},{"$f":"COUNTRY_INFO!M20","v":0},null,null,{"$f":"MAX('MDA1'!M20,MAX('MDA3'!I20,'MDA3'!L20)+MAX('MDA3'!J20,'MDA3'!M20))","v":1193376},{"$f":"IF(AND(COUNTRY_INFO!I20>0,COUNTRY_INFO!I20<4),IF(J20>MAX('MDA1'!M20,MAX('MDA3'!I20,'MDA3'!L20)+MAX('MDA3'!J20,'MDA3'!M20)),MAX('MDA1'!M20,MAX('MDA3'!I20,'MDA3'!L20)+MAX('MDA3'!J20,'MDA3'!M20)),J20),0)","v":0},{"$f":"IF(AND(COUNTRY_INFO!I20>0,COUNTRY_INFO!I20<4), IF(M20/J20*100<>0, IF(M20/J20*100>100,100,M20/J20*100), \"-\"),0)","v":0},{"$f":"COUNTRY_INFO!N20","v":453452},null,null,{"$f":"SUM(MAX('MDA2'!J20, 'T1'!L20, MAX(T3_R1!K20, T3_R2!K20)), MAX('MDA1'!K20, 'MDA2'!K20, 'T1'!M20, MAX(T3_R1!L20, T3_R2!L20)), MAX('MDA1'!L20, 'MDA2'!L20, 'T1'!N20, MAX(T3_R1!M20, T3_R2!M20)))","v":1193376},{"$f":"IF(AND(COUNTRY_INFO!J20>1,COUNTRY_INFO!J20<4),IF(COUNTRY_INFO!E20>MAX('MDA2'!J20,'T1'!L20,MAX(T3_R1!K20,T3_R2!K20)),MAX('MDA2'!J20,'T1'!L20,MAX(T3_R1!K20,T3_R2!K20)),COUNTRY_INFO!E20),0)","v":0},{"$f":"IF(AND(COUNTRY_INFO!J20>1,COUNTRY_INFO!J20<4), IF(T20/COUNTRY_INFO!E20*100<>0, IF(T20/COUNTRY_INFO!E20*100>100,100,T20/COUNTRY_INFO!E20*100), \"-\"),0)","v":"-"},{"$f":"IF(AND(COUNTRY_INFO!J20>1,COUNTRY_INFO!J20<4),IF(COUNTRY_INFO!F20>MAX('MDA1'!K20,'MDA2'!K20,'T1'!M20,MAX(T3_R1!L20,T3_R2!L20)),MAX('MDA1'!K20,'MDA2'!K20,'T1'!M20,MAX(T3_R1!L20,T3_R2!L20)),COUNTRY_INFO!F20),0)","v":227934.81599999999},{"$f":"IF(AND(COUNTRY_INFO!J20>1,COUNTRY_INFO!J20<4), IF(V20/COUNTRY_INFO!F20*100<>0, IF(V20/COUNTRY_INFO!F20*100>100,100,V20/COUNTRY_INFO!F20*100), \"-\"),0)","v":95.88091213871374},227934.81599999999,{"$f":"IF(AND(COUNTRY_INFO!J20>1,COUNTRY_INFO!J20<4), IF(S20/P20*100<>0, IF(X20/P20*100>100,100,X20/P20*100), \"-\"),0)","v":50.266580806788809},{"$f":"COUNTRY_INFO!O20","v":362631.7},null,null,{"$f":"MAX('T1'!L20,'T2'!J20)+MAX('T1'!M20,'T2'!K20)+MAX('T1'!N20,'T2'!L20)","v":161710},{"$f":"IF(COUNTRY_INFO!K20=1,IF(COUNTRY_INFO!F20*0.33>MAX('T1'!M20,'T2'!K20),MAX('T1'!M20,'T2'!K20),COUNTRY_INFO!F20*0.33),IF(COUNTRY_INFO!K20=2,IF(COUNTRY_INFO!F20*0.5>MAX('T1'!M20,'T2'!K20),MAX('T1'!M20,'T2'!K20),COUNTRY_INFO!F20*0.5),IF(COUNTRY_INFO!K20=3,IF(COUNTRY_INFO!F20>MAX('T1'!M20,'T2'!K20),MAX('T1'!M20,'T2'!K20),COUNTRY_INFO!F20),0)))","v":118863.5},{"$f":"IF(AND(COUNTRY_INFO!K20>0,COUNTRY_INFO!K20<4),IF(Z20>0,IF(COUNTRY_INFO!K20=1, AD20/(COUNTRY_INFO!F20*0.33)*100, IF(COUNTRY_INFO!K20=2, AD20/(COUNTRY_INFO!F20*0.5)*100, IF(COUNTRY_INFO!K20=3, AD20/COUNTRY_INFO!F20*100))),\"-\"),0)","v":100},{"$f":"IF(COUNTRY_INFO!K20=2,IF(COUNTRY_INFO!G20*0.2>MAX('T1'!N20,'T2'!L20),MAX('T1'!N20,'T2'!L20),COUNTRY_INFO!G20*0.2),IF(COUNTRY_INFO!K20=3,IF(COUNTRY_INFO!G20>MAX('T1'!N20,'T2'!L20),MAX('T1'!N20,'T2'!L20),COUNTRY_INFO!G20),0))","v":0},{"$f":"IF(AND(COUNTRY_INFO!K20>0,COUNTRY_INFO!K20<4),IF(Z20>0,IF(COUNTRY_INFO!K20=1, 0, IF(COUNTRY_INFO!K20=2, AF20/(COUNTRY_INFO!G20*0.2)*100, IF(COUNTRY_INFO!K20=3, AF20/COUNTRY_INFO!G20*100))),\"-\"),0)","v":0},118863.5,{"$f":"IF(AND(COUNTRY_INFO!K20>0,COUNTRY_INFO!K20<4), IF(AC20/Z20*100<>0, IF(AH20/Z20*100>100,100,AH20/Z20*100), \"-\"),0)","v":32.778022439847369},null,{"$f":"IF(AND(D20<>0, D20<>\"Unknown\",D20<>\"Stopped\",D20<>\"Not required\"),D20/COUNTRY_INFO!D20, 0)","v":1},{"$f":"IF(AND(J20<>0,J20<>\"Unknown\",J20<>\"Stopped\",J20<>\"Not required\"),J20/COUNTRY_INFO!D20, 0)","v":0},{"$f":"IF(AND(P20<>0,P20<>\"Unknown\",P20<>\"Not required\"),P20/(COUNTRY_INFO!E20+COUNTRY_INFO!F20), 0)","v":1},{"$f":"IF(AND(Z20<>0,Z20<>\"Unknown\",Z20<>\"Not required\"),IF(COUNTRY_INFO!K20=1,1,IF(COUNTRY_INFO!K20=2,0.5*COUNTRY_INFO!F20/(0.5*COUNTRY_INFO!F20+0.2*COUNTRY_INFO!G20),IF(COUNTRY_INFO!K20=3,COUNTRY_INFO!F20/(COUNTRY_INFO!F20+COUNTRY_INFO!G20)))),0)","v":0.32778022439847371},{"$f":"IF(AND(Z20<>0,Z20<>\"Unknown\",Z20<>\"Not required\"),IF(COUNTRY_INFO!K20=1,0,IF(COUNTRY_INFO!K20=2,0.2*COUNTRY_INFO!G20/(0.5*COUNTRY_INFO!F20+0.2*COUNTRY_INFO!G20),IF(COUNTRY_INFO!K20=3,COUNTRY_INFO!G20/(COUNTRY_INFO!F20+COUNTRY_INFO!G20)))),0)","v":0.67221977560152635},{"$f":"MAX(COUNTRY_INFO!D20*AK20*PROFILE!$G$7,COUNTRY_INFO!D20*AL20*PROFILE!$G$7)","v":0},{"$f":"MAX(COUNTRY_INFO!D20*AK20*PROFILE!$G$8,COUNTRY_INFO!D20*AL20*PROFILE!$G$8,COUNTRY_INFO!D20*AM20*PROFILE!$G$8)","v":185675.73144332084},{"$f":"MAX(COUNTRY_INFO!D20*AK20*PROFILE!$G$9,COUNTRY_INFO!D20*AL20*PROFILE!$G$9,COUNTRY_INFO!D20*AM20*PROFILE!$G$9,IF(AND(DISTRICT!Z20<>\"Unknown\",Z20<>\"Not required\"),COUNTRY_INFO!O20*DISTRICT!AN20,0))","v":364183.59386450873},{"$f":"MAX(COUNTRY_INFO!D20*AK20*PROFILE!$G$10,COUNTRY_INFO!D20*AL20*PROFILE!$G$10,IF(AND(DISTRICT!Z20<>\"Unknown\",Z20<>\"Not required\"),COUNTRY_INFO!O20*DISTRICT!AO20,0))","v":1122433.7391900318},1672293.0644978613,"Y",{"$f":"MAX('MDA2'!J20,'T1'!L20,'T2'!J20,T3_R1!K20,T3_R2!K20)","v":0},{"$f":"MAX('MDA1'!K20,'MDA2'!K20,'MDA3'!I20,'MDA3'!L20,'T1'!M20,'T2'!K20,T3_R1!L20,T3_R2!L20)","v":227934.81599999999},{"$f":"MAX('MDA1'!L20,'MDA2'!L20,'MDA3'!J20,'MDA3'!M20,'T1'!N20,'T2'!L20,T3_R1!M20,T3_R2!M20)","v":965441.18400000001},1193376,{"$f":"MAX('MDA2'!J20,T20)","v":0},{"$f":"MAX('MDA1'!K20,'MDA2'!K20,'MDA3'!I20,'MDA3'!L20,V20,AD20)","v":227934.81599999999},{"$f":"MAX('MDA1'!L20,'MDA2'!L20,'MDA3'!J20,'MDA3'!M20,AF20)","v":965441.18400000001},1193376,71.361654564915298]
[{"$f":"IF(COUNTRY_INFO!A21=0,\" \",COUNTRY_INFO!A21)","v":"Tanzania"},{"$f":"IF(COUNTRY_INFO!B21=0,\" \",COUNTRY_INFO!B21)","v":"Dar Es Salaam"},{"$f":"IF(COUNTRY_INFO!C21=0,\" \",COUNTRY_INFO!C21)","v":"Ubungo Municipal Council"},{"$f":"COUNTRY_INFO!L21","v":1172274},null,null,{"$f":"MAX('MDA1'!M21,'MDA2'!M21)","v":997632},{"$f":"IF(AND(COUNTRY_INFO!H21>0,COUNTRY_INFO!H21<4),IF(D21>MAX('MDA1'!M21,'MDA2'!M21),MAX('MDA1'!M21,'MDA2'!M21),D21),0)","v":997632},{"$f":"IF(AND(COUNTRY_INFO!H21>0,COUNTRY_INFO!H21<4), IF(G21/D21*100<>0, IF(G21/D21*100>100,100,G21/D21*100), \"-\"),0)","v":85.102288372854801},{"$f":"COUNTRY_INFO!M21","v":0},null,null,{"$f":"MAX('MDA1'!M21,MAX('MDA3'!I21,'MDA3'!L21)+MAX('MDA3'!J21,'MDA3'!M21))","v":997632},{"$f":"IF(AND(COUNTRY_INFO!I21>0,COUNTRY_INFO!I21<4),IF(J21>MAX('MDA1'!M21,MAX('MDA3'!I21,'MDA3'!L21)+MAX('MDA3'!J21,'MDA3'!M21)),MAX('MDA1'!M21,MAX('MDA3'!I21,'MDA3'!L21)+MAX('MDA3'!J21,'MDA3'!M21)),J21),0)","v":0},{"$f":"IF(AND(COUNTRY_INFO!I21>0,COUNTRY_INFO!I21<4), IF(M21/J21*100<>0, IF(M21/J21*100>100,100,M21/J21*100), \"-\"),0)","v":0},{"$f":"COUNTRY_INFO!N21","v":295775},null,null,{"$f":"SUM(MAX('MDA2'!J21, 'T1'!L21, MAX(T3_R1!K21, T3_R2!K21)), MAX('MDA1'!K21, 'MDA2'!K21, 'T1'!M21, MAX(T3_R1!L21, T3_R2!L21)), MAX('MDA1'!L21, 'MDA2'!L21, 'T1'!N21, MAX(T3_R1!M21, T3_R2!M21)))","v":997632},{"$f":"IF(AND(COUNTRY_INFO!J21>1,COUNTRY_INFO!J21<4),IF(COUNTRY_INFO!E21>MAX('MDA2'!J21,'T1'!L21,MAX(T3_R1!K21,T3_R2!K21)),MAX('MDA2'!J21,'T1'!L21,MAX(T3_R1!K21,T3_R2!K21)),COUNTRY_INFO!E21),0)","v":0},{"$f":"IF(AND(COUNTRY_INFO!J21>1,COUNTRY_INFO!J21<4), IF(T21/COUNTRY_INFO!E21*100<>0, IF(T21/COUNTRY_INFO!E21*100>100,100,T21/COUNTRY_INFO!E21*100), \"-\"),0)","v":"-"},{"$f":"IF(AND(COUNTRY_INFO!J21>1,COUNTRY_INFO!J21<4),IF(COUNTRY_INFO!F21>MAX('MDA1'!K21,'MDA2'!K21,'T1'!M21,MAX(T3_R1!L21,T3_R2!L21)),MAX('MDA1'!K21,'MDA2'!K21,'T1'!M21,MAX(T3_R1!L21,T3_R2!L21)),COUNTRY_INFO!F21),0)","v":144552},{"$f":"IF(AND(COUNTRY_INFO!J21>1,COUNTRY_INFO!J21<4), IF(V21/COUNTRY_INFO!F21*100<>0, IF(V21/COUNTRY_INFO!F21*100>100,100,V21/COUNTRY_INFO!F21*100), \"-\"),0)","v":100},144552,{"$f":"IF(AND(COUNTRY_INFO!J21>1,COUNTRY_INFO!J21<4), IF(S21/P21*100<>0, IF(X21/P21*100>100,100,X21/P21*100), \"-\"),0)","v":48.872284675851574},{"$f":"COUNTRY_INFO!O21","v":247575.80000000002},null,null,{"$f":"MAX('T1'!L21,'T2'!J21)+MAX('T1'!M21,'T2'!K21)+MAX('T1'!N21,'T2'!L21)","v":111592},{"$f":"IF(COUNTRY_INFO!K21=1,IF(COUNTRY_INFO!F21*0.33>MAX('T1'!M21,'T2'!K21),MAX('T1'!M21,'T2'!K21),COUNTRY_INFO!F21*0.33),IF(COUNTRY_INFO!K21=2,IF(COUNTRY_INFO!F21*0.5>MAX('T1'!M21,'T2'!K21),MAX('T1'!M21,'T2'!K21),COUNTRY_INFO!F21*0.5),IF(COUNTRY_INFO!K21=3,IF(COUNTRY_INFO!F21>MAX('T1'!M21,'T2'!K21),MAX('T1'!M21,'T2'!K21),COUNTRY_INFO!F21),0)))","v":72276},{"$f":"IF(AND(COUNTRY_INFO!K21>0,COUNTRY_INFO!K21<4),IF(Z21>0,IF(COUNTRY_INFO!K21=1, AD21/(COUNTRY_INFO!F21*0.33)*100, IF(COUNTRY_INFO!K21=2, AD21/(COUNTRY_INFO!F21*0.5)*100, IF(COUNTRY_INFO!K21=3, AD21/COUNTRY_INFO!F21*100))),\"-\"),0)","v":100},{"$f":"IF(COUNTRY_INFO!K21=2,IF(COUNTRY_INFO!G21*0.2>MAX('T1'!N21,'T2'!L21),MAX('T1'!N21,'T2'!L21),COUNTRY_INFO!G21*0.2),IF(COUNTRY_INFO!K21=3,IF(COUNTRY_INFO!G21>MAX('T1'!N21,'T2'!L21),MAX('T1'!N21,'T2'!L21),COUNTRY_INFO!G21),0))","v":0},{"$f":"IF(AND(COUNTRY_INFO!K21>0,COUNTRY_INFO!K21<4),IF(Z21>0,IF(COUNTRY_INFO!K21=1, 0, IF(COUNTRY_INFO!K21=2, AF21/(COUNTRY_INFO!G21*0.2)*100, IF(COUNTRY_INFO!K21=3, AF21/COUNTRY_INFO!G21*100))),\"-\"),0)","v":0},72276,{"$f":"IF(AND(COUNTRY_INFO!K21>0,COUNTRY_INFO!K21<4), IF(AC21/Z21*100<>0, IF(AH21/Z21*100>100,100,AH21/Z21*100), \"-\"),0)","v":29.193483369537731},null,{"$f":"IF(AND(D21<>0, D21<>\"Unknown\",D21<>\"Stopped\",D21<>\"Not required\"),D21/COUNTRY_INFO!D21, 0)","v":1},{"$f":"IF(AND(J21<>0,J21<>\"Unknown\",J21<>\"Stopped\",J21<>\"Not required\"),J21/COUNTRY_INFO!D21, 0)","v":0},{"$f":"IF(AND(P21<>0,P21<>\"Unknown\",P21<>\"Not required\"),P21/(COUNTRY_INFO!E21+COUNTRY_INFO!F21), 0)","v":1},{"$f":"IF(AND(Z21<>0,Z21<>\"Unknown\",Z21<>\"Not required\"),IF(COUNTRY_INFO!K21=1,1,IF(COUNTRY_INFO!K21=2,0.5*COUNTRY_INFO!F21/(0.5*COUNTRY_INFO!F21+0.2*COUNTRY_INFO!G21),IF(COUNTRY_INFO!K21=3,COUNTRY_INFO!F21/(COUNTRY_INFO!F21+COUNTRY_INFO!G21)))),0)","v":0.29193483369537732},{"$f":"IF(AND(Z21<>0,Z21<>\"Unknown\",Z21<>\"Not required\"),IF(COUNTRY_INFO!K21=1,0,IF(COUNTRY_INFO!K21=2,0.2*COUNTRY_INFO!G21/(0.5*COUNTRY_INFO!F21+0.2*COUNTRY_INFO!G21),IF(COUNTRY_INFO!K21=3,COUNTRY_INFO!G21/(COUNTRY_INFO!F21+COUNTRY_INFO!G21)))),0)","v":0.70806516630462268},{"$f":"MAX(COUNTRY_INFO!D21*AK21*PROFILE!$G$7,COUNTRY_INFO!D21*AL21*PROFILE!$G$7)","v":0},{"$f":"MAX(COUNTRY_INFO!D21*AK21*PROFILE!$G$8,COUNTRY_INFO!D21*AL21*PROFILE!$G$8,COUNTRY_INFO!D21*AM21*PROFILE!$G$8)","v":130158.31101486851},{"$f":"MAX(COUNTRY_INFO!D21*AK21*PROFILE!$G$9,COUNTRY_INFO!D21*AL21*PROFILE!$G$9,COUNTRY_INFO!D21*AM21*PROFILE!$G$9,IF(AND(DISTRICT!Z21<>\"Unknown\",Z21<>\"Not required\"),COUNTRY_INFO!O21*DISTRICT!AN21,0))","v":255291.96038847446},{"$f":"MAX(COUNTRY_INFO!D21*AK21*PROFILE!$G$10,COUNTRY_INFO!D21*AL21*PROFILE!$G$10,IF(AND(DISTRICT!Z21<>\"Unknown\",Z21<>\"Not required\"),COUNTRY_INFO!O21*DISTRICT!AO21,0))","v":786823.77380952693},1172274.04521287,"Y",{"$f":"MAX('MDA2'!J21,'T1'!L21,'T2'!J21,T3_R1!K21,T3_R2!K21)","v":0},{"$f":"MAX('MDA1'!K21,'MDA2'!K21,'MDA3'!I21,'MDA3'!L21,'T1'!M21,'T2'!K21,T3_R1!L21,T3_R2!L21)","v":190547.712},{"$f":"MAX('MDA1'!L21,'MDA2'!L21,'MDA3'!J21,'MDA3'!M21,'T1'!N21,'T2'!L21,T3_R1!M21,T3_R2!M21)","v":807084.28799999994},997632,{"$f":"MAX('MDA2'!J21,T21)","v":0},{"$f":"MAX('MDA1'!K21,'MDA2'!K21,'MDA3'!I21,'MDA3'!L21,V21,AD21)","v":190547.712},{"$f":"MAX('MDA1'!L21,'MDA2'!L21,'MDA3'!J21,'MDA3'!M21,AF21)","v":807084.28799999994},997632,85.102285090585866]
[{"$f":"IF(COUNTRY_INFO!A22=0,\" \",COUNTRY_INFO!A22)","v":"Tanzania"},{"$f":"IF(COUNTRY_INFO!B22=0,\" \",COUNTRY_INFO!B22)","v":"Dodoma"},{"$f":"IF(COUNTRY_INFO!C22=0,\" \",COUNTRY_INFO!C22)","v":"Bahi District Council"},{"$f":"COUNTRY_INFO!L22","v":"Stopped"},null,null,{"$f":"MAX('MDA1'!M22,'MDA2'!M22)","v":0},{"$f":"IF(AND(COUNTRY_INFO!H22>0,COUNTRY_INFO!H22<4),IF(D22>MAX('MDA1'!M22,'MDA2'!M22),MAX('MDA1'!M22,'MDA2'!M22),D22),0)","v":0},{"$f":"IF(AND(COUNTRY_INFO!H22>0,COUNTRY_INFO!H22<4), IF(G22/D22*100<>0, IF(G22/D22*100>100,100,G22/D22*100), \"-\"),0)","v":0},{"$f":"COUNTRY_INFO!M22","v":0},null,null,{"$f":"MAX('MDA1'!M22,MAX('MDA3'!I22,'MDA3'!L22)+MAX('MDA3'!J22,'MDA3'!M22))","v":0},{"$f":"IF(AND(COUNTRY_INFO!I22>0,COUNTRY_INFO!I22<4),IF(J22>MAX('MDA1'!M22,MAX('MDA3'!I22,'MDA3'!L22)+MAX('MDA3'!J22,'MDA3'!M22)),MAX('MDA1'!M22,MAX('MDA3'!I22,'MDA3'!L22)+MAX('MDA3'!J22,'MDA3'!M22)),J22),0)","v":0},{"$f":"IF(AND(COUNTRY_INFO!I22>0,COUNTRY_INFO!I22<4), IF(M22/J22*100<>0, IF(M22/J22*100>100,100,M22/J22*100), \"-\"),0)","v":0},{"$f":"COUNTRY_INFO!N22","v":83571},null,null,{"$f":"SUM(MAX('MDA2'!J22, 'T1'!L22, MAX(T3_R1!K22, T3_R2!K22)), MAX('MDA1'!K22, 'MDA2'!K22, 'T1'!M22, MAX(T3_R1!L22, T3_R2!L22)), MAX('MDA1'!L22, 'MDA2'!L22, 'T1'!N22, MAX(T3_R1!M22, T3_R2!M22)))","v":39449},{"$f":"IF(AND(COUNTRY_INFO!J22>1,COUNTRY_INFO!J22<4),IF(COUNTRY_INFO!E22>MAX('MDA2'!J22,'T1'!L22,MAX(T3_R1!K22,T3_R2!K22)),MAX('MDA2'!J22,'T1'!L22,MAX(T3_R1!K22,T3_R2!K22)),COUNTRY_INFO!E22),0)","v":0},{"$f":"IF(AND(COUNTRY_INFO!J22>1,COUNTRY_INFO!J22<4), IF(T22/COUNTRY_INFO!E22*100<>0, IF(T22/COUNTRY_INFO!E22*100>100,100,T22/COUNTRY_INFO!E22*100), \"-\"),0)","v":"-"},{"$f":"IF(AND(COUNTRY_INFO!J22>1,COUNTRY_INFO!J22<4),IF(COUNTRY_INFO!F22>MAX('MDA1'!K22,'MDA2'!K22,'T1'!M22,MAX(T3_R1!L22,T3_R2!L22)),MAX('MDA1'!K22,'MDA2'!K22,'T1'!M22,MAX(T3_R1!L22,T3_R2!L22)),COUNTRY_INFO!F22),0)","v":39449},{"$f":"IF(AND(COUNTRY_INFO!J22>1,COUNTRY_INFO!J22<4), IF(V22/COUNTRY_INFO!F22*100<>0, IF(V22/COUNTRY_INFO!F22*100>100,100,V22/COUNTRY_INFO!F22*100), \"-\"),0)","v":77.075925129928493},39449,{"$f":"IF(AND(COUNTRY_INFO!J22>1,COUNTRY_INFO!J22<4), IF(S22/P22*100<>0, IF(X22/P22*100>100,100,X22/P22*100), \"-\"),0)","v":47.204173696617246},{"$f":"COUNTRY_INFO!O22","v":59092.800000000003},null,null,{"$f":"MAX('T1'!L22,'T2'!J22)+MAX('T1'!M22,'T2'!K22)+MAX('T1'!N22,'T2'!L22)","v":0},{"$f":"IF(COUNTRY_INFO!K22=1,IF(COUNTRY_INFO!F22*0.33>MAX('T1'!M22,'T2'!K22),MAX('T1'!M22,'T2'!K22),COUNTRY_INFO!F22*0.33),IF(COUNTRY_INFO!K22=2,IF(COUNTRY_INFO!F22*0.5>MAX('T1'!M22,'T2'!K22),MAX('T1'!M22,'T2'!K22),COUNTRY_INFO!F22*0.5),IF(COUNTRY_INFO!K22=3,IF(COUNTRY_INFO!F22>MAX('T1'!M22,'T2'!K22),MAX('T1'!M22,'T2'!K22),COUNTRY_INFO!F22),0)))","v":0},{"$f":"IF(AND(COUNTRY_INFO!K22>0,COUNTRY_INFO!K22<4),IF(Z22>0,IF(COUNTRY_INFO!K22=1, AD22/(COUNTRY_INFO!F22*0.33)*100, IF(COUNTRY_INFO!K22=2, AD22/(COUNTRY_INFO!F22*0.5)*100, IF(COUNTRY_INFO!K22=3, AD22/COUNTRY_INFO!F22*100))),\"-\"),0)","v":0},{"$f":"IF(COUNTRY_INFO!K22=2,IF(COUNTRY_INFO!G22*0.2>MAX('T1'!N22,'T2'!L22),MAX('T1'!N22,'T2'!L22),COUNTRY_INFO!G22*0.2),IF(COUNTRY_INFO!K22=3,IF(COUNTRY_INFO!G22>MAX('T1'!N22,'T2'!L22),MAX('T1'!N22,'T2'!L22),COUNTRY_INFO!G22),0))","v":0},{"$f":"IF(AND(COUNTRY_INFO!K22>0,COUNTRY_INFO!K22<4),IF(Z22>0,IF(COUNTRY_INFO!K22=1, 0, IF(COUNTRY_INFO!K22=2, AF22/(COUNTRY_INFO!G22*0.2)*100, IF(COUNTRY_INFO!K22=3, AF22/COUNTRY_INFO!G22*100))),\"-\"),0)","v":0},0,{"$f":"IF(AND(COUNTRY_INFO!K22>0,COUNTRY_INFO!K22<4), IF(AC22/Z22*100<>0, IF(AH22/Z22*100>100,100,AH22/Z22*100), \"-\"),0)","v":"-"},null,{"$f":"IF(AND(D22<>0, D22<>\"Unknown\",D22<>\"Stopped\",D22<>\"Not required\"),D22/COUNTRY_INFO!D22, 0)","v":0},{"$f":"IF(AND(J22<>0,J22<>\"Unknown\",J22<>\"Stopped\",J22<>\"Not required\"),J22/COUNTRY_INFO!D22, 0)","v":0},{"$f":"IF(AND(P22<>0,P22<>\"Unknown\",P22<>\"Not required\"),P22/(COUNTRY_INFO!E22+COUNTRY_INFO!F22), 0)","v":1},{"$f":"IF(AND(Z22<>0,Z22<>\"Unknown\",Z22<>\"Not required\"),IF(COUNTRY_INFO!K22=1,1,IF(COUNTRY_INFO!K22=2,0.5*COUNTRY_INFO!F22/(0.5*COUNTRY_INFO!F22+0.2*COUNTRY_INFO!G22),IF(COUNTRY_INFO!K22=3,COUNTRY_INFO!F22/(COUNTRY_INFO!F22+COUNTRY_INFO!G22)))),0)","v":0.43306460347115044},{"$f":"IF(AND(Z22<>0,Z22<>\"Unknown\",Z22<>\"Not required\"),IF(COUNTRY_INFO!K22=1,0,IF(COUNTRY_INFO!K22=2,0.2*COUNTRY_INFO!G22/(0.5*COUNTRY_INFO!F22+0.2*COUNTRY_INFO!G22),IF(COUNTRY_INFO!K22=3,COUNTRY_INFO!G22/(COUNTRY_INFO!F22+COUNTRY_INFO!G22)))),0)","v":0.56693539652884961},{"$f":"MAX(COUNTRY_INFO!D22*AK22*PROFILE!$G$7,COUNTRY_INFO!D22*AL22*PROFILE!$G$7)","v":0},{"$f":"MAX(COUNTRY_INFO!D22*AK22*PROFILE!$G$8,COUNTRY_INFO!D22*AL22*PROFILE!$G$8,COUNTRY_INFO!D22*AM22*PROFILE!$G$8)","v":27877.568494748826},{"$f":"MAX(COUNTRY_INFO!D22*AK22*PROFILE!$G$9,COUNTRY_INFO!D22*AL22*PROFILE!$G$9,COUNTRY_INFO!D22*AM22*PROFILE!$G$9,IF(AND(DISTRICT!Z22<>\"Unknown\",Z22<>\"Not required\"),COUNTRY_INFO!O22*DISTRICT!AN22,0))","v":54678.944866420446},{"$f":"MAX(COUNTRY_INFO!D22*AK22*PROFILE!$G$10,COUNTRY_INFO!D22*AL22*PROFILE!$G$10,IF(AND(DISTRICT!Z22<>\"Unknown\",Z22<>\"Not required\"),COUNTRY_INFO!O22*DISTRICT!AO22,0))","v":33501.800000000003},116058.31336116928,0,{"$f":"MAX('MDA2'!J22,'T1'!L22,'T2'!J22,T3_R1!K22,T3_R2!K22)","v":0},{"$f":"MAX('MDA1'!K22,'MDA2'!K22,'MDA3'!I22,'MDA3'!L22,'T1'!M22,'T2'!K22,T3_R1!L22,T3_R2!L22)","v":39449},{"$f":"MAX('MDA1'!L22,'MDA2'!L22,'MDA3'!J22,'MDA3'!M22,'T1'!N22,'T2'!L22,T3_R1!M22,T3_R2!M22)","v":0},39449,{"$f":"MAX('MDA2'!J22,T22)","v":0},{"$f":"MAX('MDA1'!K22,'MDA2'!K22,'MDA3'!I22,'MDA3'!L22,V22,AD22)","v":39449},{"$f":"MAX('MDA1'!L22,'MDA2'!L22,'MDA3'!J22,'MDA3'!M22,AF22)","v":0},39449,33.990671462918939]
[{"$f":"IF(COUNTRY_INFO!A23=0,\" \",COUNTRY_INFO!A23)","v":"Tanzania"},{"$f":"IF(COUNTRY_INFO!B23=0,\" \",COUNTRY_INFO!B23)","v":"Dodoma"},{"$f":"IF(COUNTRY_INFO!C23=0,\" \",COUNTRY_INFO!C23)","v":"Chamwino District Council"},{"$f":"COUNTRY_INFO!L23","v":"Stopped"},null,null,{"$f":"MAX('MDA1'!M23,'MDA2'!M23)","v":0},{"$f":"IF(AND(COUNTRY_INFO!H23>0,COUNTRY_INFO!H23<4),IF(D23>MAX('MDA1'!M23,'MDA2'!M23),MAX('MDA1'!M23,'MDA2'!M23),D23),0)","v":0},{"$f":"IF(AND(COUNTRY_INFO!H23>0,COUNTRY_INFO!H23<4), IF(G23/D23*100<>0, IF(G23/D23*100>100,100,G23/D23*100), \"-\"),0)","v":0},{"$f":"COUNTRY_INFO!M23","v":0},null,null,{"$f":"MAX('MDA1'!M23,MAX('MDA3'!I23,'MDA3'!L23)+MAX('MDA3'!J23,'MDA3'!M23))","v":0},{"$f":"IF(AND(COUNTRY_INFO!I23>0,COUNTRY_INFO!I23<4),IF(J23>MAX('MDA1'!M23,MAX('MDA3'!I23,'MDA3'!L23)+MAX('MDA3'!J23,'MDA3'!M23)),MAX('MDA1'!M23,MAX('MDA3'!I23,'MDA3'!L23)+MAX('MDA3'!J23,'MDA3'!M23)),J23),0)","v":0},{"$f":"IF(AND(COUNTRY_INFO!I23>0,COUNTRY_INFO!I23<4), IF(M23/J23*100<>0, IF(M23/J23*100>100,100,M23/J23*100), \"-\"),0)","v":0},{"$f":"COUNTRY_INFO!N23","v":127820},null,null,{"$f":"SUM(MAX('MDA2'!J23, 'T1'!L23, MAX(T3_R1!K23, T3_R2!K23)), MAX('MDA1'!K23, 'MDA2'!K23, 'T1'!M23, MAX(T3_R1!L23, T3_R2!L23)), MAX('MDA1'!L23, 'MDA2'!L23, 'T1'!N23, MAX(T3_R1!M23, T3_R2!M23)))","v":75468},{"$f":"IF(AND(COUNTRY_INFO!J23>1,COUNTRY_INFO!J23<4),IF(COUNTRY_INFO!E23>MAX('MDA2'!J23,'T1'!L23,MAX(T3_R1!K23,T3_R2!K23)),MAX('MDA2'!J23,'T1'!L23,MAX(T3_R1!K23,T3_R2!K23)),COUNTRY_INFO!E23),0)","v":0},{"$f":"IF(AND(COUNTRY_INFO!J23>1,COUNTRY_INFO!J23<4), IF(T23/COUNTRY_INFO!E23*100<>0, IF(T23/COUNTRY_INFO!E23*100>100,100,T23/COUNTRY_INFO!E23*100), \"-\"),0)","v":"-"},{"$f":"IF(AND(COUNTRY_INFO!J23>1,COUNTRY_INFO!J23<4),IF(COUNTRY_INFO!F23>MAX('MDA1'!K23,'MDA2'!K23,'T1'!M23,MAX(T3_R1!L23,T3_R2!L23)),MAX('MDA1'!K23,'MDA2'!K23,'T1'!M23,MAX(T3_R1!L23,T3_R2!L23)),COUNTRY_INFO!F23),0)","v":75468},{"$f":"IF(AND(COUNTRY_INFO!J23>1,COUNTRY_INFO!J23<4), IF(V23/COUNTRY_INFO!F23*100<>0, IF(V23/COUNTRY_INFO!F23*100>100,100,V23/COUNTRY_INFO!F23*100), \"-\"),0)","v":94.908007092822928},75468,{"$f":"IF(AND(COUNTRY_INFO!J23>1,COUNTRY_INFO!J23<4), IF(S23/P23*100<>0, IF(X23/P23*100>100,100,X23/P23*100), \"-\"),0)","v":59.04240337975277},{"$f":"COUNTRY_INFO!O23","v":89082.5},null,null,{"$f":"MAX('T1'!L23,'T2'!J23)+MAX('T1'!M23,'T2'!K23)+MAX('T1'!N23,'T2'!L23)","v":0},{"$f":"IF(COUNTRY_INFO!K23=1,IF(COUNTRY_INFO!F23*0.33>MAX('T1'!M23,'T2'!K23),MAX('T1'!M23,'T2'!K23),COUNTRY_INFO!F23*0.33),IF(COUNTRY_INFO!K23=2,IF(COUNTRY_INFO!F23*0.5>MAX('T1'!M23,'T2'!K23),MAX('T1'!M23,'T2'!K23),COUNTRY_INFO!F23*0.5),IF(COUNTRY_INFO!K23=3,IF(COUNTRY_INFO!F23>MAX('T1'!M23,'T2'!K23),MAX('T1'!M23,'T2'!K23),COUNTRY_INFO!F23),0)))","v":0},{"$f":"IF(AND(COUNTRY_INFO!K23>0,COUNTRY_INFO!K23<4),IF(Z23>0,IF(COUNTRY_INFO!K23=1, AD23/(COUNTRY_INFO!F23*0.33)*100, IF(COUNTRY_INFO!K23=2, AD23/(COUNTRY_INFO!F23*0.5)*100, IF(COUNTRY_INFO!K23=3, AD23/COUNTRY_INFO!F23*100))),\"-\"),0)","v":0},{"$f":"IF(COUNTRY_INFO!K23=2,IF(COUNTRY_INFO!G23*0.2>MAX('T1'!N23,'T2'!L23),MAX('T1'!N23,'T2'!L23),COUNTRY_INFO!G23*0.2),IF(COUNTRY_INFO!K23=3,IF(COUNTRY_INFO!G23>MAX('T1'!N23,'T2'!L23),MAX('T1'!N23,'T2'!L23),COUNTRY_INFO!G23),0))","v":0},{"$f":"IF(AND(COUNTRY_INFO!K23>0,COUNTRY_INFO!K23<4),IF(Z23>0,IF(COUNTRY_INFO!K23=1, 0, IF(COUNTRY_INFO!K23=2, AF23/(COUNTRY_INFO!G23*0.2)*100, IF(COUNTRY_INFO!K23=3, AF23/COUNTRY_INFO!G23*100))),\"-\"),0)","v":0},0,{"$f":"IF(AND(COUNTRY_INFO!K23>0,COUNTRY_INFO!K23<4), IF(AC23/Z23*100<>0, IF(AH23/Z23*100>100,100,AH23/Z23*100), \"-\"),0)","v":"-"},null,{"$f":"IF(AND(D23<>0, D23<>\"Unknown\",D23<>\"Stopped\",D23<>\"Not required\"),D23/COUNTRY_INFO!D23, 0)","v":0},{"$f":"IF(AND(J23<>0,J23<>\"Unknown\",J23<>\"Stopped\",J23<>\"Not required\"),J23/COUNTRY_INFO!D23, 0)","v":0},{"$f":"IF(AND(P23<>0,P23<>\"Unknown\",P23<>\"Not required\"),P23/(COUNTRY_INFO!E23+COUNTRY_INFO!F23), 0)","v":1},{"$f":"IF(AND(Z23<>0,Z23<>\"Unknown\",Z23<>\"Not required\"),IF(COUNTRY_INFO!K23=1,1,IF(COUNTRY_INFO!K23=2,0.5*COUNTRY_INFO!F23/(0.5*COUNTRY_INFO!F23+0.2*COUNTRY_INFO!G23),IF(COUNTRY_INFO!K23=3,COUNTRY_INFO!F23/(COUNTRY_INFO!F23+COUNTRY_INFO!G23)))),0)","v":0.44631100384475064},{"$f":"IF(AND(Z23<>0,Z23<>\"Unknown\",Z23<>\"Not required\"),IF(COUNTRY_INFO!K23=1,0,IF(COUNTRY_INFO!K23=2,0.2*COUNTRY_INFO!G23/(0.5*COUNTRY_INFO!F23+0.2*COUNTRY_INFO!G23),IF(COUNTRY_INFO!K23=3,COUNTRY_INFO!G23/(COUNTRY_INFO!F23+COUNTRY_INFO!G23)))),0)","v":0.55368899615524936},{"$f":"MAX(COUNTRY_INFO!D23*AK23*PROFILE!$G$7,COUNTRY_INFO!D23*AL23*PROFILE!$G$7)","v":0},{"$f":"MAX(COUNTRY_INFO!D23*AK23*PROFILE!$G$8,COUNTRY_INFO!D23*AL23*PROFILE!$G$8,COUNTRY_INFO!D23*AM23*PROFILE!$G$8)","v":41574.305986831889},{"$f":"MAX(COUNTRY_INFO!D23*AK23*PROFILE!$G$9,COUNTRY_INFO!D23*AL23*PROFILE!$G$9,COUNTRY_INFO!D23*AM23*PROFILE!$G$9,IF(AND(DISTRICT!Z23<>\"Unknown\",Z23<>\"Not required\"),COUNTRY_INFO!O23*DISTRICT!AN23,0))","v":81543.66781815546},{"$f":"MAX(COUNTRY_INFO!D23*AK23*PROFILE!$G$10,COUNTRY_INFO!D23*AL23*PROFILE!$G$10,IF(AND(DISTRICT!Z23<>\"Unknown\",Z23<>\"Not required\"),COUNTRY_INFO!O23*DISTRICT!AO23,0))","v":49324},172441.97380498736,0,{"$f":"MAX('MDA2'!J23,'T1'!L23,'T2'!J23,T3_R1!K23,T3_R2!K23)","v":0},{"$f":"MAX('MDA1'!K23,'MDA2'!K23,'MDA3'!I23,'MDA3'!L23,'T1'!M23,'T2'!K23,T3_R1!L23,T3_R2!L23)","v":75468},{"$f":"MAX('MDA1'!L23,'MDA2'!L23,'MDA3'!J23,'MDA3'!M23,'T1'!N23,'T2'!L23,T3_R1!M23,T3_R2!M23)","v":0},75468,{"$f":"MAX('MDA2'!J23,T23)","v":0},{"$f":"MAX('MDA1'!K23,'MDA2'!K23,'MDA3'!I23,'MDA3'!L23,V23,AD23)","v":75468},{"$f":"MAX('MDA1'!L23,'MDA2'!L23,'MDA3'!J23,'MDA3'!M23,AF23)","v":0},75468,43.764286811832655]
[{"$f":"IF(COUNTRY_INFO!A24=0,\" \",COUNTRY_INFO!A24)","v":"Tanzania"},{"$f":"IF(COUNTRY_INFO!B24=0,\" \",COUNTRY_INFO!B24)","v":"Dodoma"},{"$f":"IF(COUNTRY_INFO!C24=0,\" \",COUNTRY_INFO!C24)","v":"Chemba District Council"},{"$f":"COUNTRY_INFO!L24","v":"Stopped"},null,null,{"$f":"MAX('MDA1'!M24,'MDA2'!M24)","v":0},{"$f":"IF(AND(COUNTRY_INFO!H24>0,COUNTRY_INFO!H24<4),IF(D24>MAX('MDA1'!M24,'MDA2'!M24),MAX('MDA1'!M24,'MDA2'!M24),D24),0)","v":0},{"$f":"IF(AND(COUNTRY_INFO!H24>0,COUNTRY_INFO!H24<4), IF(G24/D24*100<>0, IF(G24/D24*100>100,100,G24/D24*100), \"-\"),0)","v":0},{"$f":"COUNTRY_INFO!M24","v":0},null,null,{"$f":"MAX('MDA1'!M24,MAX('MDA3'!I24,'MDA3'!L24)+MAX('MDA3'!J24,'MDA3'!M24))","v":0},{"$f":"IF(AND(COUNTRY_INFO!I24>0,COUNTRY_INFO!I24<4),IF(J24>MAX('MDA1'!M24,MAX('MDA3'!I24,'MDA3'!L24)+MAX('MDA3'!J24,'MDA3'!M24)),MAX('MDA1'!M24,MAX('MDA3'!I24,'MDA3'!L24)+MAX('MDA3'!J24,'MDA3'!M24)),J24),0)","v":0},{"$f":"IF(AND(COUNTRY_INFO!I24>0,COUNTRY_INFO!I24<4), IF(M24/J24*100<>0, IF(M24/J24*100>100,100,M24/J24*100), \"-\"),0)","v":0},{"$f":"COUNTRY_INFO!N24","v":91308},null,null,{"$f":"SUM(MAX('MDA2'!J24, 'T1'!L24, MAX(T3_R1!K24, T3_R2!K24)), MAX('MDA1'!K24, 'MDA2'!K24, 'T1'!M24, MAX(T3_R1!L24, T3_R2!L24)), MAX('MDA1'!L24, 'MDA2'!L24, 'T1'!N24, MAX(T3_R1!M24, T3_R2!M24)))","v":54560},{"$f":"IF(AND(COUNTRY_INFO!J24>1,COUNTRY_INFO!J24<4),IF(COUNTRY_INFO!E24>MAX('MDA2'!J24,'T1'!L24,MAX(T3_R1!K24,T3_R2!K24)),MAX('MDA2'!J24,'T1'!L24,MAX(T3_R1!K24,T3_R2!K24)),COUNTRY_INFO!E24),0)","v":0},{"$f":"IF(AND(COUNTRY_INFO!J24>1,COUNTRY_INFO!J24<4), IF(T24/COUNTRY_INFO!E24*100<>0, IF(T24/COUNTRY_INFO!E24*100>100,100,T24/COUNTRY_INFO!E24*100), \"-\"),0)","v":"-"},{"$f":"IF(AND(COUNTRY_INFO!J24>1,COUNTRY_INFO!J24<4),IF(COUNTRY_INFO!F24>MAX('MDA1'!K24,'MDA2'!K24,'T1'!M24,MAX(T3_R1!L24,T3_R2!L24)),MAX('MDA1'!K24,'MDA2'!K24,'T1'!M24,MAX(T3_R1!L24,T3_R2!L24)),COUNTRY_INFO!F24),0)","v":54560},{"$f":"IF(AND(COUNTRY_INFO!J24>1,COUNTRY_INFO!J24<4), IF(V24/COUNTRY_INFO!F24*100<>0, IF(V24/COUNTRY_INFO!F24*100>100,100,V24/COUNTRY_INFO!F24*100), \"-\"),0)","v":95.949914707278893},54560,{"$f":"IF(AND(COUNTRY_INFO!J24>1,COUNTRY_INFO!J24<4), IF(S24/P24*100<>0, IF(X24/P24*100>100,100,X24/P24*100), \"-\"),0)","v":59.753800324177512},{"$f":"COUNTRY_INFO!O24","v":63572.700000000004},null,null,{"$f":"MAX('T1'!L24,'T2'!J24)+MAX('T1'!M24,'T2'!K24)+MAX('T1'!N24,'T2'!L24)","v":0},{"$f":"IF(COUNTRY_INFO!K24=1,IF(COUNTRY_INFO!F24*0.33>MAX('T1'!M24,'T2'!K24),MAX('T1'!M24,'T2'!K24),COUNTRY_INFO!F24*0.33),IF(COUNTRY_INFO!K24=2,IF(COUNTRY_INFO!F24*0.5>MAX('T1'!M24,'T2'!K24),MAX('T1'!M24,'T2'!K24),COUNTRY_INFO!F24*0.5),IF(COUNTRY_INFO!K24=3,IF(COUNTRY_INFO!F24>MAX('T1'!M24,'T2'!K24),MAX('T1'!M24,'T2'!K24),COUNTRY_INFO!F24),0)))","v":0},{"$f":"IF(AND(COUNTRY_INFO!K24>0,COUNTRY_INFO!K24<4),IF(Z24>0,IF(COUNTRY_INFO!K24=1, AD24/(COUNTRY_INFO!F24*0.33)*100, IF(COUNTRY_INFO!K24=2, AD24/(COUNTRY_INFO!F24*0.5)*100, IF(COUNTRY_INFO!K24=3, AD24/COUNTRY_INFO!F24*100))),\"-\"),0)","v":0},{"$f":"IF(COUNTRY_INFO!K24=2,IF(COUNTRY_INFO!G24*0.2>MAX('T1'!N24,'T2'!L24),MAX('T1'!N24,'T2'!L24),COUNTRY_INFO!G24*0.2),IF(COUNTRY_INFO!K24=3,IF(COUNTRY_INFO!G24>MAX('T1'!N24,'T2'!L24),MAX('T1'!N24,'T2'!L24),COUNTRY_INFO!G24),0))","v":0},{"$f":"IF(AND(COUNTRY_INFO!K24>0,COUNTRY_INFO!K24<4),IF(Z24>0,IF(COUNTRY_INFO!K24=1, 0, IF(COUNTRY_INFO!K24=2, AF24/(COUNTRY_INFO!G24*0.2)*100, IF(COUNTRY_INFO!K24=3, AF24/COUNTRY_INFO!G24*100))),\"-\"),0)","v":0},0,{"$f":"IF(AND(COUNTRY_INFO!K24>0,COUNTRY_INFO!K24<4), IF(AC24/Z24*100<>0, IF(AH24/Z24*100>100,100,AH24/Z24*100), \"-\"),0)","v":"-"},null,{"$f":"IF(AND(D24<>0, D24<>\"Unknown\",D24<>\"Stopped\",D24<>\"Not required\"),D24/COUNTRY_INFO!D24, 0)","v":0},{"$f":"IF(AND(J24<>0,J24<>\"Unknown\",J24<>\"Stopped\",J24<>\"Not required\"),J24/COUNTRY_INFO!D24, 0)","v":0},{"$f":"IF(AND(P24<>0,P24<>\"Unknown\",P24<>\"Not required\"),P24/(COUNTRY_INFO!E24+COUNTRY_INFO!F24), 0)","v":1},{"$f":"IF(AND(Z24<>0,Z24<>\"Unknown\",Z24<>\"Not required\"),IF(COUNTRY_INFO!K24=1,1,IF(COUNTRY_INFO!K24=2,0.5*COUNTRY_INFO!F24/(0.5*COUNTRY_INFO!F24+0.2*COUNTRY_INFO!G24),IF(COUNTRY_INFO!K24=3,COUNTRY_INFO!F24/(COUNTRY_INFO!F24+COUNTRY_INFO!G24)))),0)","v":0.44722813408900358},{"$f":"IF(AND(Z24<>0,Z24<>\"Unknown\",Z24<>\"Not required\"),IF(COUNTRY_INFO!K24=1,0,IF(COUNTRY_INFO!K24=2,0.2*COUNTRY_INFO!G24/(0.5*COUNTRY_INFO!F24+0.2*COUNTRY_INFO!G24),IF(COUNTRY_INFO!K24=3,COUNTRY_INFO!G24/(COUNTRY_INFO!F24+COUNTRY_INFO!G24)))),0)","v":0.55277186591099636},{"$f":"MAX(COUNTRY_INFO!D24*AK24*PROFILE!$G$7,COUNTRY_INFO!D24*AL24*PROFILE!$G$7)","v":0},{"$f":"MAX(COUNTRY_INFO!D24*AK24*PROFILE!$G$8,COUNTRY_INFO!D24*AL24*PROFILE!$G$8,COUNTRY_INFO!D24*AM24*PROFILE!$G$8)","v":29646.730420809556},{"$f":"MAX(COUNTRY_INFO!D24*AK24*PROFILE!$G$9,COUNTRY_INFO!D24*AL24*PROFILE!$G$9,COUNTRY_INFO!D24*AM24*PROFILE!$G$9,IF(AND(DISTRICT!Z24<>\"Unknown\",Z24<>\"Not required\"),COUNTRY_INFO!O24*DISTRICT!AN24,0))","v":58148.971581019556},{"$f":"MAX(COUNTRY_INFO!D24*AK24*PROFILE!$G$10,COUNTRY_INFO!D24*AL24*PROFILE!$G$10,IF(AND(DISTRICT!Z24<>\"Unknown\",Z24<>\"Not required\"),COUNTRY_INFO!O24*DISTRICT!AO24,0))","v":35141.200000000004},122936.90200182912,0,{"$f":"MAX('MDA2'!J24,'T1'!L24,'T2'!J24,T3_R1!K24,T3_R2!K24)","v":0},{"$f":"MAX('MDA1'!K24,'MDA2'!K24,'MDA3'!I24,'MDA3'!L24,'T1'!M24,'T2'!K24,T3_R1!L24,T3_R2!L24)","v":54560},{"$f":"MAX('MDA1'!L24,'MDA2'!L24,'MDA3'!J24,'MDA3'!M24,'T1'!N24,'T2'!L24,T3_R1!M24,T3_R2!M24)","v":0},54560,{"$f":"MAX('MDA2'!J24,T24)","v":0},{"$f":"MAX('MDA1'!K24,'MDA2'!K24,'MDA3'!I24,'MDA3'!L24,V24,AD24)","v":54560},{"$f":"MAX('MDA1'!L24,'MDA2'!L24,'MDA3'!J24,'MDA3'!M24,AF24)","v":0},54560,44.380490407337767]
[{"$f":"IF(COUNTRY_INFO!A25=0,\" \",COUNTRY_INFO!A25)","v":"Tanzania"},{"$f":"IF(COUNTRY_INFO!B25=0,\" \",COUNTRY_INFO!B25)","v":"Dodoma"},{"$f":"IF(COUNTRY_INFO!C25=0,\" \",COUNTRY_INFO!C25)","v":"Dodoma Municipal Council"},{"$f":"COUNTRY_INFO!L25","v":"Stopped"},null,null,{"$f":"MAX('MDA1'!M25,'MDA2'!M25)","v":0},{"$f":"IF(AND(COUNTRY_INFO!H25>0,COUNTRY_INFO!H25<4),IF(D25>MAX('MDA1'!M25,'MDA2'!M25),MAX('MDA1'!M25,'MDA2'!M25),D25),0)","v":0},{"$f":"IF(AND(COUNTRY_INFO!H25>0,COUNTRY_INFO!H25<4), IF(G25/D25*100<>0, IF(G25/D25*100>100,100,G25/D25*100), \"-\"),0)","v":0},{"$f":"COUNTRY_INFO!M25","v":0},null,null,{"$f":"MAX('MDA1'!M25,MAX('MDA3'!I25,'MDA3'!L25)+MAX('MDA3'!J25,'MDA3'!M25))","v":0},{"$f":"IF(AND(COUNTRY_INFO!I25>0,COUNTRY_INFO!I25<4),IF(J25>MAX('MDA1'!M25,MAX('MDA3'!I25,'MDA3'!L25)+MAX('MDA3'!J25,'MDA3'!M25)),MAX('MDA1'!M25,MAX('MDA3'!I25,'MDA3'!L25)+MAX('MDA3'!J25,'MDA3'!M25)),J25),0)","v":0},{"$f":"IF(AND(COUNTRY_INFO!I25>0,COUNTRY_INFO!I25<4), IF(M25/J25*100<>0, IF(M25/J25*100>100,100,M25/J25*100), \"-\"),0)","v":0},{"$f":"COUNTRY_INFO!N25","v":139651},null,null,{"$f":"SUM(MAX('MDA2'!J25, 'T1'!L25, MAX(T3_R1!K25, T3_R2!K25)), MAX('MDA1'!K25, 'MDA2'!K25, 'T1'!M25, MAX(T3_R1!L25, T3_R2!L25)), MAX('MDA1'!L25, 'MDA2'!L25, 'T1'!N25, MAX(T3_R1!M25, T3_R2!M25)))","v":90545},{"$f":"IF(AND(COUNTRY_INFO!J25>1,COUNTRY_INFO!J25<4),IF(COUNTRY_INFO!E25>MAX('MDA2'!J25,'T1'!L25,MAX(T3_R1!K25,T3_R2!K25)),MAX('MDA2'!J25,'T1'!L25,MAX(T3_R1!K25,T3_R2!K25)),COUNTRY_INFO!E25),0)","v":0},{"$f":"IF(AND(COUNTRY_INFO!J25>1,COUNTRY_INFO!J25<4), IF(T25/COUNTRY_INFO!E25*100<>0, IF(T25/COUNTRY_INFO!E25*100>100,100,T25/COUNTRY_INFO!E25*100), \"-\"),0)","v":"-"},{"$f":"IF(AND(COUNTRY_INFO!J25>1,COUNTRY_INFO!J25<4),IF(COUNTRY_INFO!F25>MAX('MDA1'!K25,'MDA2'!K25,'T1'!M25,MAX(T3_R1!L25,T3_R2!L25)),MAX('MDA1'!K25,'MDA2'!K25,'T1'!M25,MAX(T3_R1!L25,T3_R2!L25)),COUNTRY_INFO!F25),0)","v":90545},{"$f":"IF(AND(COUNTRY_INFO!J25>1,COUNTRY_INFO!J25<4), IF(V25/COUNTRY_INFO!F25*100<>0, IF(V25/COUNTRY_INFO!F25*100>100,100,V25/COUNTRY_INFO!F25*100), \"-\"),0)","v":88.40558484670963},90545,{"$f":"IF(AND(COUNTRY_INFO!J25>1,COUNTRY_INFO!J25<4), IF(S25/P25*100<>0, IF(X25/P25*100>100,100,X25/P25*100), \"-\"),0)","v":64.836628452356223},{"$f":"COUNTRY_INFO!O25","v":116386.20000000001},null,null,{"$f":"MAX('T1'!L25,'T2'!J25)+MAX('T1'!M25,'T2'!K25)+MAX('T1'!N25,'T2'!L25)","v":0},{"$f":"IF(COUNTRY_INFO!K25=1,IF(COUNTRY_INFO!F25*0.33>MAX('T1'!M25,'T2'!K25),MAX('T1'!M25,'T2'!K25),COUNTRY_INFO!F25*0.33),IF(COUNTRY_INFO!K25=2,IF(COUNTRY_INFO!F25*0.5>MAX('T1'!M25,'T2'!K25),MAX('T1'!M25,'T2'!K25),COUNTRY_INFO!F25*0.5),IF(COUNTRY_INFO!K25=3,IF(COUNTRY_INFO!F25>MAX('T1'!M25,'T2'!K25),MAX('T1'!M25,'T2'!K25),COUNTRY_INFO!F25),0)))","v":0},{"$f":"IF(AND(COUNTRY_INFO!K25>0,COUNTRY_INFO!K25<4),IF(Z25>0,IF(COUNTRY_INFO!K25=1, AD25/(COUNTRY_INFO!F25*0.33)*100, IF(COUNTRY_INFO!K25=2, AD25/(COUNTRY_INFO!F25*0.5)*100, IF(COUNTRY_INFO!K25=3, AD25/COUNTRY_INFO!F25*100))),\"-\"),0)","v":0},{"$f":"IF(COUNTRY_INFO!K25=2,IF(COUNTRY_INFO!G25*0.2>MAX('T1'!N25,'T2'!L25),MAX('T1'!N25,'T2'!L25),COUNTRY_INFO!G25*0.2),IF(COUNTRY_INFO!K25=3,IF(COUNTRY_INFO!G25>MAX('T1'!N25,'T2'!L25),MAX('T1'!N25,'T2'!L25),COUNTRY_INFO!G25),0))","v":0},{"$f":"IF(AND(COUNTRY_INFO!K25>0,COUNTRY_INFO!K25<4),IF(Z25>0,IF(COUNTRY_INFO!K25=1, 0, IF(COUNTRY_INFO!K25=2, AF25/(COUNTRY_INFO!G25*0.2)*100, IF(COUNTRY_INFO!K25=3, AF25/COUNTRY_INFO!G25*100))),\"-\"),0)","v":0},0,{"$f":"IF(AND(COUNTRY_INFO!K25>0,COUNTRY_INFO!K25<4), IF(AC25/Z25*100<>0, IF(AH25/Z25*100>100,100,AH25/Z25*100), \"-\"),0)","v":"-"},null,{"$f":"IF(AND(D25<>0, D25<>\"Unknown\",D25<>\"Stopped\",D25<>\"Not required\"),D25/COUNTRY_INFO!D25, 0)","v":0},{"$f":"IF(AND(J25<>0,J25<>\"Unknown\",J25<>\"Stopped\",J25<>\"Not required\"),J25/COUNTRY_INFO!D25, 0)","v":0},{"$f":"IF(AND(P25<>0,P25<>\"Unknown\",P25<>\"Not required\"),P25/(COUNTRY_INFO!E25+COUNTRY_INFO!F25), 0)","v":1},{"$f":"IF(AND(Z25<>0,Z25<>\"Unknown\",Z25<>\"Not required\"),IF(COUNTRY_INFO!K25=1,1,IF(COUNTRY_INFO!K25=2,0.5*COUNTRY_INFO!F25/(0.5*COUNTRY_INFO!F25+0.2*COUNTRY_INFO!G25),IF(COUNTRY_INFO!K25=3,COUNTRY_INFO!F25/(COUNTRY_INFO!F25+COUNTRY_INFO!G25)))),0)","v":0.44000061863004375},{"$f":"IF(AND(Z25<>0,Z25<>\"Unknown\",Z25<>\"Not required\"),IF(COUNTRY_INFO!K25=1,0,IF(COUNTRY_INFO!K25=2,0.2*COUNTRY_INFO!G25/(0.5*COUNTRY_INFO!F25+0.2*COUNTRY_INFO!G25),IF(COUNTRY_INFO!K25=3,COUNTRY_INFO!G25/(COUNTRY_INFO!F25+COUNTRY_INFO!G25)))),0)","v":0.5599993813699562},{"$f":"MAX(COUNTRY_INFO!D25*AK25*PROFILE!$G$7,COUNTRY_INFO!D25*AL25*PROFILE!$G$7)","v":0},{"$f":"MAX(COUNTRY_INFO!D25*AK25*PROFILE!$G$8,COUNTRY_INFO!D25*AL25*PROFILE!$G$8,COUNTRY_INFO!D25*AM25*PROFILE!$G$8)","v":51688.30737811618},{"$f":"MAX(COUNTRY_INFO!D25*AK25*PROFILE!$G$9,COUNTRY_INFO!D25*AL25*PROFILE!$G$9,COUNTRY_INFO!D25*AM25*PROFILE!$G$9,IF(AND(DISTRICT!Z25<>\"Unknown\",Z25<>\"Not required\"),COUNTRY_INFO!O25*DISTRICT!AN25,0))","v":101381.2273440913},{"$f":"MAX(COUNTRY_INFO!D25*AK25*PROFILE!$G$10,COUNTRY_INFO!D25*AL25*PROFILE!$G$10,IF(AND(DISTRICT!Z25<>\"Unknown\",Z25<>\"Not required\"),COUNTRY_INFO!O25*DISTRICT!AO25,0))","v":65176.200000000004},218245.73472220747,0,{"$f":"MAX('MDA2'!J25,'T1'!L25,'T2'!J25,T3_R1!K25,T3_R2!K25)","v":0},{"$f":"MAX('MDA1'!K25,'MDA2'!K25,'MDA3'!I25,'MDA3'!L25,'T1'!M25,'T2'!K25,T3_R1!L25,T3_R2!L25)","v":90545},{"$f":"MAX('MDA1'!L25,'MDA2'!L25,'MDA3'!J25,'MDA3'!M25,'T1'!N25,'T2'!L25,T3_R1!M25,T3_R2!M25)","v":0},90545,{"$f":"MAX('MDA2'!J25,T25)","v":0},{"$f":"MAX('MDA1'!K25,'MDA2'!K25,'MDA3'!I25,'MDA3'!L25,V25,AD25)","v":90545},{"$f":"MAX('MDA1'!L25,'MDA2'!L25,'MDA3'!J25,'MDA3'!M25,AF25)","v":0},90545,41.487637829554636]
[{"$f":"IF(COUNTRY_INFO!A26=0,\" \",COUNTRY_INFO!A26)","v":"Tanzania"},{"$f":"IF(COUNTRY_INFO!B26=0,\" \",COUNTRY_INFO!B26)","v":"Dodoma"},{"$f":"IF(COUNTRY_INFO!C26=0,\" \",COUNTRY_INFO!C26)","v":"Kondoa District Council"},{"$f":"COUNTRY_INFO!L26","v":"Stopped"},null,null,{"$f":"MAX('MDA1'!M26,'MDA2'!M26)","v":0},{"$f":"IF(AND(COUNTRY_INFO!H26>0,COUNTRY_INFO!H26<4),IF(D26>MAX('MDA1'!M26,'MDA2'!M26),MAX('MDA1'!M26,'MDA2'!M26),D26),0)","v":0},{"$f":"IF(AND(COUNTRY_INFO!H26>0,COUNTRY_INFO!H26<4), IF(G26/D26*100<>0, IF(G26/D26*100>100,100,G26/D26*100), \"-\"),0)","v":0},{"$f":"COUNTRY_INFO!M26","v":0},null,null,{"$f":"MAX('MDA1'!M26,MAX('MDA3'!I26,'MDA3'!L26)+MAX('MDA3'!J26,'MDA3'!M26))","v":0},{"$f":"IF(AND(COUNTRY_INFO!I26>0,COUNTRY_INFO!I26<4),IF(J26>MAX('MDA1'!M26,MAX('MDA3'!I26,'MDA3'!L26)+MAX('MDA3'!J26,'MDA3'!M26)),MAX('MDA1'!M26,MAX('MDA3'!I26,'MDA3'!L26)+MAX('MDA3'!J26,'MDA3'!M26)),J26),0)","v":0},{"$f":"IF(AND(COUNTRY_INFO!I26>0,COUNTRY_INFO!I26<4), IF(M26/J26*100<>0, IF(M26/J26*100>100,100,M26/J26*100), \"-\"),0)","v":0},{"$f":"COUNTRY_INFO!N26","v":83162},null,null,{"$f":"SUM(MAX('MDA2'!J26, 'T1'!L26, MAX(T3_R1!K26, T3_R2!K26)), MAX('MDA1'!K26, 'MDA2'!K26, 'T1'!M26, MAX(T3_R1!L26, T3_R2!L26)), MAX('MDA1'!L26, 'MDA2'!L26, 'T1'!N26, MAX(T3_R1!M26, T3_R2!M26)))","v":46738},{"$f":"IF(AND(COUNTRY_INFO!J26>1,COUNTRY_INFO!J26<4),IF(COUNTRY_INFO!E26>MAX('MDA2'!J26,'T1'!L26,MAX(T3_R1!K26,T3_R2!K26)),MAX('MDA2'!J26,'T1'!L26,MAX(T3_R1!K26,T3_R2!K26)),COUNTRY_INFO!E26),0)","v":0},{"$f":"IF(AND(COUNTRY_INFO!J26>1,COUNTRY_INFO!J26<4), IF(T26/COUNTRY_INFO!E26*100<>0, IF(T26/COUNTRY_INFO!E26*100>100,100,T26/COUNTRY_INFO!E26*100), \"-\"),0)","v":"-"},{"$f":"IF(AND(COUNTRY_INFO!J26>1,COUNTRY_INFO!J26<4),IF(COUNTRY_INFO!F26>MAX('MDA1'!K26,'MDA2'!K26,'T1'!M26,MAX(T3_R1!L26,T3_R2!L26)),MAX('MDA1'!K26,'MDA2'!K26,'T1'!M26,MAX(T3_R1!L26,T3_R2!L26)),COUNTRY_INFO!F26),0)","v":46738},{"$f":"IF(AND(COUNTRY_INFO!J26>1,COUNTRY_INFO!J26<4), IF(V26/COUNTRY_INFO!F26*100<>0, IF(V26/COUNTRY_INFO!F26*100>100,100,V26/COUNTRY_INFO!F26*100), \"-\"),0)","v":89.237231503579949},46738,{"$f":"IF(AND(COUNTRY_INFO!J26>1,COUNTRY_INFO!J26<4), IF(S26/P26*100<>0, IF(X26/P26*100>100,100,X26/P26*100), \"-\"),0)","v":56.201149563502561},{"$f":"COUNTRY_INFO!O26","v":57287.3},null,null,{"$f":"MAX('T1'!L26,'T2'!J26)+MAX('T1'!M26,'T2'!K26)+MAX('T1'!N26,'T2'!L26)","v":0},{"$f":"IF(COUNTRY_INFO!K26=1,IF(COUNTRY_INFO!F26*0.33>MAX('T1'!M26,'T2'!K26),MAX('T1'!M26,'T2'!K26),COUNTRY_INFO!F26*0.33),IF(COUNTRY_INFO!K26=2,IF(COUNTRY_INFO!F26*0.5>MAX('T1'!M26,'T2'!K26),MAX('T1'!M26,'T2'!K26),COUNTRY_INFO!F26*0.5),IF(COUNTRY_INFO!K26=3,IF(COUNTRY_INFO!F26>MAX('T1'!M26,'T2'!K26),MAX('T1'!M26,'T2'!K26),COUNTRY_INFO!F26),0)))","v":0},{"$f":"IF(AND(COUNTRY_INFO!K26>0,COUNTRY_INFO!K26<4),IF(Z26>0,IF(COUNTRY_INFO!K26=1, AD26/(COUNTRY_INFO!F26*0.33)*100, IF(COUNTRY_INFO!K26=2, AD26/(COUNTRY_INFO!F26*0.5)*100, IF(COUNTRY_INFO!K26=3, AD26/COUNTRY_INFO!F26*100))),\"-\"),0)","v":0},{"$f":"IF(COUNTRY_INFO!K26=2,IF(COUNTRY_INFO!G26*0.2>MAX('T1'!N26,'T2'!L26),MAX('T1'!N26,'T2'!L26),COUNTRY_INFO!G26*0.2),IF(COUNTRY_INFO!K26=3,IF(COUNTRY_INFO!G26>MAX('T1'!N26,'T2'!L26),MAX('T1'!N26,'T2'!L26),COUNTRY_INFO!G26),0))","v":0},{"$f":"IF(AND(COUNTRY_INFO!K26>0,COUNTRY_INFO!K26<4),IF(Z26>0,IF(COUNTRY_INFO!K26=1, 0, IF(COUNTRY_INFO!K26=2, AF26/(COUNTRY_INFO!G26*0.2)*100, IF(COUNTRY_INFO!K26=3, AF26/COUNTRY_INFO!G26*100))),\"-\"),0)","v":0},0,{"$f":"IF(AND(COUNTRY_INFO!K26>0,COUNTRY_INFO!K26<4), IF(AC26/Z26*100<>0, IF(AH26/Z26*100>100,100,AH26/Z26*100), \"-\"),0)","v":"-"},null,{"$f":"IF(AND(D26<>0, D26<>\"Unknown\",D26<>\"Stopped\",D26<>\"Not required\"),D26/COUNTRY_INFO!D26, 0)","v":0},{"$f":"IF(AND(J26<>0,J26<>\"Unknown\",J26<>\"Stopped\",J26<>\"Not required\"),J26/COUNTRY_INFO!D26, 0)","v":0},{"$f":"IF(AND(P26<>0,P26<>\"Unknown\",P26<>\"Not required\"),P26/(COUNTRY_INFO!E26+COUNTRY_INFO!F26), 0)","v":1},{"$f":"IF(AND(Z26<>0,Z26<>\"Unknown\",Z26<>\"Not required\"),IF(COUNTRY_INFO!K26=1,1,IF(COUNTRY_INFO!K26=2,0.5*COUNTRY_INFO!F26/(0.5*COUNTRY_INFO!F26+0.2*COUNTRY_INFO!G26),IF(COUNTRY_INFO!K26=3,COUNTRY_INFO!F26/(COUNTRY_INFO!F26+COUNTRY_INFO!G26)))),0)","v":0.45712575038446562},{"$f":"IF(AND(Z26<>0,Z26<>\"Unknown\",Z26<>\"Not required\"),IF(COUNTRY_INFO!K26=1,0,IF(COUNTRY_INFO!K26=2,0.2*COUNTRY_INFO!G26/(0.5*COUNTRY_INFO!F26+0.2*COUNTRY_INFO!G26),IF(COUNTRY_INFO!K26=3,COUNTRY_INFO!G26/(COUNTRY_INFO!F26+COUNTRY_INFO!G26)))),0)","v":0.54287424961553432},{"$f":"MAX(COUNTRY_INFO!D26*AK26*PROFILE!$G$7,COUNTRY_INFO!D26*AL26*PROFILE!$G$7)","v":0},{"$f":"MAX(COUNTRY_INFO!D26*AK26*PROFILE!$G$8,COUNTRY_INFO!D26*AL26*PROFILE!$G$8,COUNTRY_INFO!D26*AM26*PROFILE!$G$8)","v":26498.679203939977},{"$f":"MAX(COUNTRY_INFO!D26*AK26*PROFILE!$G$9,COUNTRY_INFO!D26*AL26*PROFILE!$G$9,COUNTRY_INFO!D26*AM26*PROFILE!$G$9,IF(AND(DISTRICT!Z26<>\"Unknown\",Z26<>\"Not required\"),COUNTRY_INFO!O26*DISTRICT!AN26,0))","v":51974.397246952249},{"$f":"MAX(COUNTRY_INFO!D26*AK26*PROFILE!$G$10,COUNTRY_INFO!D26*AL26*PROFILE!$G$10,IF(AND(DISTRICT!Z26<>\"Unknown\",Z26<>\"Not required\"),COUNTRY_INFO!O26*DISTRICT!AO26,0))","v":31099.8},109572.87645089223,0,{"$f":"MAX('MDA2'!J26,'T1'!L26,'T2'!J26,T3_R1!K26,T3_R2!K26)","v":0},{"$f":"MAX('MDA1'!K26,'MDA2'!K26,'MDA3'!I26,'MDA3'!L26,'T1'!M26,'T2'!K26,T3_R1!L26,T3_R2!L26)","v":46738},{"$f":"MAX('MDA1'!L26,'MDA2'!L26,'MDA3'!J26,'MDA3'!M26,'T1'!N26,'T2'!L26,T3_R1!M26,T3_R2!M26)","v":0},46738,{"$f":"MAX('MDA2'!J26,T26)","v":0},{"$f":"MAX('MDA1'!K26,'MDA2'!K26,'MDA3'!I26,'MDA3'!L26,V26,AD26)","v":46738},{"$f":"MAX('MDA1'!L26,'MDA2'!L26,'MDA3'!J26,'MDA3'!M26,AF26)","v":0},46738,42.654716672466634]
[{"$f":"IF(COUNTRY_INFO!A27=0,\" \",COUNTRY_INFO!A27)","v":"Tanzania"},{"$f":"IF(COUNTRY_INFO!B27=0,\" \",COUNTRY_INFO!B27)","v":"Dodoma"},{"$f":"IF(COUNTRY_INFO!C27=0,\" \",COUNTRY_INFO!C27)","v":"Kondoa Town Council "},{"$f":"COUNTRY_INFO!L27","v":"Stopped"},null,null,{"$f":"MAX('MDA1'!M27,'MDA2'!M27)","v":0},{"$f":"IF(AND(COUNTRY_INFO!H27>0,COUNTRY_INFO!H27<4),IF(D27>MAX('MDA1'!M27,'MDA2'!M27),MAX('MDA1'!M27,'MDA2'!M27),D27),0)","v":0},{"$f":"IF(AND(COUNTRY_INFO!H27>0,COUNTRY_INFO!H27<4), IF(G27/D27*100<>0, IF(G27/D27*100>100,100,G27/D27*100), \"-\"),0)","v":0},{"$f":"COUNTRY_INFO!M27","v":0},null,null,{"$f":"MAX('MDA1'!M27,MAX('MDA3'!I27,'MDA3'!L27)+MAX('MDA3'!J27,'MDA3'!M27))","v":0},{"$f":"IF(AND(COUNTRY_INFO!I27>0,COUNTRY_INFO!I27<4),IF(J27>MAX('MDA1'!M27,MAX('MDA3'!I27,'MDA3'!L27)+MAX('MDA3'!J27,'MDA3'!M27)),MAX('MDA1'!M27,MAX('MDA3'!I27,'MDA3'!L27)+MAX('MDA3'!J27,'MDA3'!M27)),J27),0)","v":0},{"$f":"IF(AND(COUNTRY_INFO!I27>0,COUNTRY_INFO!I27<4), IF(M27/J27*100<>0, IF(M27/J27*100>100,100,M27/J27*100), \"-\"),0)","v":0},{"$f":"COUNTRY_INFO!N27","v":23297},null,null,{"$f":"SUM(MAX('MDA2'!J27, 'T1'!L27, MAX(T3_R1!K27, T3_R2!K27)), MAX('MDA1'!K27, 'MDA2'!K27, 'T1'!M27, MAX(T3_R1!L27, T3_R2!L27)), MAX('MDA1'!L27, 'MDA2'!L27, 'T1'!N27, MAX(T3_R1!M27, T3_R2!M27)))","v":15864},{"$f":"IF(AND(COUNTRY_INFO!J27>1,COUNTRY_INFO!J27<4),IF(COUNTRY_INFO!E27>MAX('MDA2'!J27,'T1'!L27,MAX(T3_R1!K27,T3_R2!K27)),MAX('MDA2'!J27,'T1'!L27,MAX(T3_R1!K27,T3_R2!K27)),COUNTRY_INFO!E27),0)","v":0},{"$f":"IF(AND(COUNTRY_INFO!J27>1,COUNTRY_INFO!J27<4), IF(T27/COUNTRY_INFO!E27*100<>0, IF(T27/COUNTRY_INFO!E27*100>100,100,T27/COUNTRY_INFO!E27*100), \"-\"),0)","v":"-"},{"$f":"IF(AND(COUNTRY_INFO!J27>1,COUNTRY_INFO!J27<4),IF(COUNTRY_INFO!F27>MAX('MDA1'!K27,'MDA2'!K27,'T1'!M27,MAX(T3_R1!L27,T3_R2!L27)),MAX('MDA1'!K27,'MDA2'!K27,'T1'!M27,MAX(T3_R1!L27,T3_R2!L27)),COUNTRY_INFO!F27),0)","v":15864},{"$f":"IF(AND(COUNTRY_INFO!J27>1,COUNTRY_INFO!J27<4), IF(V27/COUNTRY_INFO!F27*100<>0, IF(V27/COUNTRY_INFO!F27*100>100,100,V27/COUNTRY_INFO!F27*100), \"-\"),0)","v":98.271696710648584},15864,{"$f":"IF(AND(COUNTRY_INFO!J27>1,COUNTRY_INFO!J27<4), IF(S27/P27*100<>0, IF(X27/P27*100>100,100,X27/P27*100), \"-\"),0)","v":68.094604455509284},{"$f":"COUNTRY_INFO!O27","v":16784.099999999999},null,null,{"$f":"MAX('T1'!L27,'T2'!J27)+MAX('T1'!M27,'T2'!K27)+MAX('T1'!N27,'T2'!L27)","v":0},{"$f":"IF(COUNTRY_INFO!K27=1,IF(COUNTRY_INFO!F27*0.33>MAX('T1'!M27,'T2'!K27),MAX('T1'!M27,'T2'!K27),COUNTRY_INFO!F27*0.33),IF(COUNTRY_INFO!K27=2,IF(COUNTRY_INFO!F27*0.5>MAX('T1'!M27,'T2'!K27),MAX('T1'!M27,'T2'!K27),COUNTRY_INFO!F27*0.5),IF(COUNTRY_INFO!K27=3,IF(COUNTRY_INFO!F27>MAX('T1'!M27,'T2'!K27),MAX('T1'!M27,'T2'!K27),COUNTRY_INFO!F27),0)))","v":0},{"$f":"IF(AND(COUNTRY_INFO!K27>0,COUNTRY_INFO!K27<4),IF(Z27>0,IF(COUNTRY_INFO!K27=1, AD27/(COUNTRY_INFO!F27*0.33)*100, IF(COUNTRY_INFO!K27=2, AD27/(COUNTRY_INFO!F27*0.5)*100, IF(COUNTRY_INFO!K27=3, AD27/COUNTRY_INFO!F27*100))),\"-\"),0)","v":0},{"$f":"IF(COUNTRY_INFO!K27=2,IF(COUNTRY_INFO!G27*0.2>MAX('T1'!N27,'T2'!L27),MAX('T1'!N27,'T2'!L27),COUNTRY_INFO!G27*0.2),IF(COUNTRY_INFO!K27=3,IF(COUNTRY_INFO!G27>MAX('T1'!N27,'T2'!L27),MAX('T1'!N27,'T2'!L27),COUNTRY_INFO!G27),0))","v":0},{"$f":"IF(AND(COUNTRY_INFO!K27>0,COUNTRY_INFO!K27<4),IF(Z27>0,IF(COUNTRY_INFO!K27=1, 0, IF(COUNTRY_INFO!K27=2, AF27/(COUNTRY_INFO!G27*0.2)*100, IF(COUNTRY_INFO!K27=3, AF27/COUNTRY_INFO!G27*100))),\"-\"),0)","v":0},0,{"$f":"IF(AND(COUNTRY_INFO!K27>0,COUNTRY_INFO!K27<4), IF(AC27/Z27*100<>0, IF(AH27/Z27*100>100,100,AH27/Z27*100), \"-\"),0)","v":"-"},null,{"$f":"IF(AND(D27<>0, D27<>\"Unknown\",D27<>\"Stopped\",D27<>\"Not required\"),D27/COUNTRY_INFO!D27, 0)","v":0},{"$f":"IF(AND(J27<>0,J27<>\"Unknown\",J27<>\"Stopped\",J27<>\"Not required\"),J27/COUNTRY_INFO!D27, 0)","v":0},{"$f":"IF(AND(P27<>0,P27<>\"Unknown\",P27<>\"Not required\"),P27/(COUNTRY_INFO!E27+COUNTRY_INFO!F27), 0)","v":1},{"$f":"IF(AND(Z27<>0,Z27<>\"Unknown\",Z27<>\"Not required\"),IF(COUNTRY_INFO!K27=1,1,IF(COUNTRY_INFO!K27=2,0.5*COUNTRY_INFO!F27/(0.5*COUNTRY_INFO!F27+0.2*COUNTRY_INFO!G27),IF(COUNTRY_INFO!K27=3,COUNTRY_INFO!F27/(COUNTRY_INFO!F27+COUNTRY_INFO!G27)))),0)","v":0.48090156755500746},{"$f":"IF(AND(Z27<>0,Z27<>\"Unknown\",Z27<>\"Not required\"),IF(COUNTRY_INFO!K27=1,0,IF(COUNTRY_INFO!K27=2,0.2*COUNTRY_INFO!G27/(0.5*COUNTRY_INFO!F27+0.2*COUNTRY_INFO!G27),IF(COUNTRY_INFO!K27=3,COUNTRY_INFO!G27/(COUNTRY_INFO!F27+COUNTRY_INFO!G27)))),0)","v":0.51909843244499265},{"$f":"MAX(COUNTRY_INFO!D27*AK27*PROFILE!$G$7,COUNTRY_INFO!D27*AL27*PROFILE!$G$7)","v":0},{"$f":"MAX(COUNTRY_INFO!D27*AK27*PROFILE!$G$8,COUNTRY_INFO!D27*AL27*PROFILE!$G$8,COUNTRY_INFO!D27*AM27*PROFILE!$G$8)","v":7423.5073664127231},{"$f":"MAX(COUNTRY_INFO!D27*AK27*PROFILE!$G$9,COUNTRY_INFO!D27*AL27*PROFILE!$G$9,COUNTRY_INFO!D27*AM27*PROFILE!$G$9,IF(AND(DISTRICT!Z27<>\"Unknown\",Z27<>\"Not required\"),COUNTRY_INFO!O27*DISTRICT!AN27,0))","v":14560.435931849894},{"$f":"MAX(COUNTRY_INFO!D27*AK27*PROFILE!$G$10,COUNTRY_INFO!D27*AL27*PROFILE!$G$10,IF(AND(DISTRICT!Z27<>\"Unknown\",Z27<>\"Not required\"),COUNTRY_INFO!O27*DISTRICT!AO27,0))","v":8712.6},30696.543298262615,0,{"$f":"MAX('MDA2'!J27,'T1'!L27,'T2'!J27,T3_R1!K27,T3_R2!K27)","v":0},{"$f":"MAX('MDA1'!K27,'MDA2'!K27,'MDA3'!I27,'MDA3'!L27,'T1'!M27,'T2'!K27,T3_R1!L27,T3_R2!L27)","v":15864},{"$f":"MAX('MDA1'!L27,'MDA2'!L27,'MDA3'!J27,'MDA3'!M27,'T1'!N27,'T2'!L27,T3_R1!M27,T3_R2!M27)","v":0},15864,{"$f":"MAX('MDA2'!J27,T27)","v":0},{"$f":"MAX('MDA1'!K27,'MDA2'!K27,'MDA3'!I27,'MDA3'!L27,V27,AD27)","v":15864},{"$f":"MAX('MDA1'!L27,'MDA2'!L27,'MDA3'!J27,'MDA3'!M27,AF27)","v":0},15864,51.680086079587603]
[{"$f":"IF(COUNTRY_INFO!A28=0,\" \",COUNTRY_INFO!A28)","v":"Tanzania"},{"$f":"IF(COUNTRY_INFO!B28=0,\" \",COUNTRY_INFO!B28)","v":"Dodoma"},{"$f":"IF(COUNTRY_INFO!C28=0,\" \",COUNTRY_INFO!C28)","v":"Kongwa District Council"},{"$f":"COUNTRY_INFO!L28","v":"Stopped"},null,null,{"$f":"MAX('MDA1'!M28,'MDA2'!M28)","v":0},{"$f":"IF(AND(COUNTRY_INFO!H28>0,COUNTRY_INFO!H28<4),IF(D28>MAX('MDA1'!M28,'MDA2'!M28),MAX('MDA1'!M28,'MDA2'!M28),D28),0)","v":0},{"$f":"IF(AND(COUNTRY_INFO!H28>0,COUNTRY_INFO!H28<4), IF(G28/D28*100<>0, IF(G28/D28*100>100,100,G28/D28*100), \"-\"),0)","v":0},{"$f":"COUNTRY_INFO!M28","v":0},null,null,{"$f":"MAX('MDA1'!M28,MAX('MDA3'!I28,'MDA3'!L28)+MAX('MDA3'!J28,'MDA3'!M28))","v":0},{"$f":"IF(AND(COUNTRY_INFO!I28>0,COUNTRY_INFO!I28<4),IF(J28>MAX('MDA1'!M28,MAX('MDA3'!I28,'MDA3'!L28)+MAX('MDA3'!J28,'MDA3'!M28)),MAX('MDA1'!M28,MAX('MDA3'!I28,'MDA3'!L28)+MAX('MDA3'!J28,'MDA3'!M28)),J28),0)","v":0},{"$f":"IF(AND(COUNTRY_INFO!I28>0,COUNTRY_INFO!I28<4), IF(M28/J28*100<>0, IF(M28/J28*100>100,100,M28/J28*100), \"-\"),0)","v":0},{"$f":"COUNTRY_INFO!N28","v":120698},null,null,{"$f":"SUM(MAX('MDA2'!J28, 'T1'!L28, MAX(T3_R1!K28, T3_R2!K28)), MAX('MDA1'!K28, 'MDA2'!K28, 'T1'!M28, MAX(T3_R1!L28, T3_R2!L28)), MAX('MDA1'!L28, 'MDA2'!L28, 'T1'!N28, MAX(T3_R1!M28, T3_R2!M28)))","v":73736},{"$f":"IF(AND(COUNTRY_INFO!J28>1,COUNTRY_INFO!J28<4),IF(COUNTRY_INFO!E28>MAX('MDA2'!J28,'T1'!L28,MAX(T3_R1!K28,T3_R2!K28)),MAX('MDA2'!J28,'T1'!L28,MAX(T3_R1!K28,T3_R2!K28)),COUNTRY_INFO!E28),0)","v":0},{"$f":"IF(AND(COUNTRY_INFO!J28>1,COUNTRY_INFO!J28<4), IF(T28/COUNTRY_INFO!E28*100<>0, IF(T28/COUNTRY_INFO!E28*100>100,100,T28/COUNTRY_INFO!E28*100), \"-\"),0)","v":"-"},{"$f":"IF(AND(COUNTRY_INFO!J28>1,COUNTRY_INFO!J28<4),IF(COUNTRY_INFO!F28>MAX('MDA1'!K28,'MDA2'!K28,'T1'!M28,MAX(T3_R1!L28,T3_R2!L28)),MAX('MDA1'!K28,'MDA2'!K28,'T1'!M28,MAX(T3_R1!L28,T3_R2!L28)),COUNTRY_INFO!F28),0)","v":73736},{"$f":"IF(AND(COUNTRY_INFO!J28>1,COUNTRY_INFO!J28<4), IF(V28/COUNTRY_INFO!F28*100<>0, IF(V28/COUNTRY_INFO!F28*100>100,100,V28/COUNTRY_INFO!F28*100), \"-\"),0)","v":97.790509535556083},73736,{"$f":"IF(AND(COUNTRY_INFO!J28>1,COUNTRY_INFO!J28<4), IF(S28/P28*100<>0, IF(X28/P28*100>100,100,X28/P28*100), \"-\"),0)","v":61.091318828812412},{"$f":"COUNTRY_INFO!O28","v":83789},null,null,{"$f":"MAX('T1'!L28,'T2'!J28)+MAX('T1'!M28,'T2'!K28)+MAX('T1'!N28,'T2'!L28)","v":0},{"$f":"IF(COUNTRY_INFO!K28=1,IF(COUNTRY_INFO!F28*0.33>MAX('T1'!M28,'T2'!K28),MAX('T1'!M28,'T2'!K28),COUNTRY_INFO!F28*0.33),IF(COUNTRY_INFO!K28=2,IF(COUNTRY_INFO!F28*0.5>MAX('T1'!M28,'T2'!K28),MAX('T1'!M28,'T2'!K28),COUNTRY_INFO!F28*0.5),IF(COUNTRY_INFO!K28=3,IF(COUNTRY_INFO!F28>MAX('T1'!M28,'T2'!K28),MAX('T1'!M28,'T2'!K28),COUNTRY_INFO!F28),0)))","v":0},{"$f":"IF(AND(COUNTRY_INFO!K28>0,COUNTRY_INFO!K28<4),IF(Z28>0,IF(COUNTRY_INFO!K28=1, AD28/(COUNTRY_INFO!F28*0.33)*100, IF(COUNTRY_INFO!K28=2, AD28/(COUNTRY_INFO!F28*0.5)*100, IF(COUNTRY_INFO!K28=3, AD28/COUNTRY_INFO!F28*100))),\"-\"),0)","v":0},{"$f":"IF(COUNTRY_INFO!K28=2,IF(COUNTRY_INFO!G28*0.2>MAX('T1'!N28,'T2'!L28),MAX('T1'!N28,'T2'!L28),COUNTRY_INFO!G28*0.2),IF(COUNTRY_INFO!K28=3,IF(COUNTRY_INFO!G28>MAX('T1'!N28,'T2'!L28),MAX('T1'!N28,'T2'!L28),COUNTRY_INFO!G28),0))","v":0},{"$f":"IF(AND(COUNTRY_INFO!K28>0,COUNTRY_INFO!K28<4),IF(Z28>0,IF(COUNTRY_INFO!K28=1, 0, IF(COUNTRY_INFO!K28=2, AF28/(COUNTRY_INFO!G28*0.2)*100, IF(COUNTRY_INFO!K28=3, AF28/COUNTRY_INFO!G28*100))),\"-\"),0)","v":0},0,{"$f":"IF(AND(COUNTRY_INFO!K28>0,COUNTRY_INFO!K28<4), IF(AC28/Z28*100<>0, IF(AH28/Z28*100>100,100,AH28/Z28*100), \"-\"),0)","v":"-"},null,{"$f":"IF(AND(D28<>0, D28<>\"Unknown\",D28<>\"Stopped\",D28<>\"Not required\"),D28/COUNTRY_INFO!D28, 0)","v":0},{"$f":"IF(AND(J28<>0,J28<>\"Unknown\",J28<>\"Stopped\",J28<>\"Not required\"),J28/COUNTRY_INFO!D28, 0)","v":0},{"$f":"IF(AND(P28<>0,P28<>\"Unknown\",P28<>\"Not required\"),P28/(COUNTRY_INFO!E28+COUNTRY_INFO!F28), 0)","v":1},{"$f":"IF(AND(Z28<>0,Z28<>\"Unknown\",Z28<>\"Not required\"),IF(COUNTRY_INFO!K28=1,1,IF(COUNTRY_INFO!K28=2,0.5*COUNTRY_INFO!F28/(0.5*COUNTRY_INFO!F28+0.2*COUNTRY_INFO!G28),IF(COUNTRY_INFO!K28=3,COUNTRY_INFO!F28/(COUNTRY_INFO!F28+COUNTRY_INFO!G28)))),0)","v":0.44995166429960975},{"$f":"IF(AND(Z28<>0,Z28<>\"Unknown\",Z28<>\"Not required\"),IF(COUNTRY_INFO!K28=1,0,IF(COUNTRY_INFO!K28=2,0.2*COUNTRY_INFO!G28/(0.5*COUNTRY_INFO!F28+0.2*COUNTRY_INFO!G28),IF(COUNTRY_INFO!K28=3,COUNTRY_INFO!G28/(COUNTRY_INFO!F28+COUNTRY_INFO!G28)))),0)","v":0.55004833570039025},{"$f":"MAX(COUNTRY_INFO!D28*AK28*PROFILE!$G$7,COUNTRY_INFO!D28*AL28*PROFILE!$G$7)","v":0},{"$f":"MAX(COUNTRY_INFO!D28*AK28*PROFILE!$G$8,COUNTRY_INFO!D28*AL28*PROFILE!$G$8,COUNTRY_INFO!D28*AM28*PROFILE!$G$8)","v":38987.070440135067},{"$f":"MAX(COUNTRY_INFO!D28*AK28*PROFILE!$G$9,COUNTRY_INFO!D28*AL28*PROFILE!$G$9,COUNTRY_INFO!D28*AM28*PROFILE!$G$9,IF(AND(DISTRICT!Z28<>\"Unknown\",Z28<>\"Not required\"),COUNTRY_INFO!O28*DISTRICT!AN28,0))","v":76469.074966166736},{"$f":"MAX(COUNTRY_INFO!D28*AK28*PROFILE!$G$10,COUNTRY_INFO!D28*AL28*PROFILE!$G$10,IF(AND(DISTRICT!Z28<>\"Unknown\",Z28<>\"Not required\"),COUNTRY_INFO!O28*DISTRICT!AO28,0))","v":46088},161544.1454063018,0,{"$f":"MAX('MDA2'!J28,'T1'!L28,'T2'!J28,T3_R1!K28,T3_R2!K28)","v":0},{"$f":"MAX('MDA1'!K28,'MDA2'!K28,'MDA3'!I28,'MDA3'!L28,'T1'!M28,'T2'!K28,T3_R1!L28,T3_R2!L28)","v":73736},{"$f":"MAX('MDA1'!L28,'MDA2'!L28,'MDA3'!J28,'MDA3'!M28,'T1'!N28,'T2'!L28,T3_R1!M28,T3_R2!M28)","v":0},73736,{"$f":"MAX('MDA2'!J28,T28)","v":0},{"$f":"MAX('MDA1'!K28,'MDA2'!K28,'MDA3'!I28,'MDA3'!L28,V28,AD28)","v":73736},{"$f":"MAX('MDA1'!L28,'MDA2'!L28,'MDA3'!J28,'MDA3'!M28,AF28)","v":0},73736,45.644489198011861]
[{"$f":"IF(COUNTRY_INFO!A29=0,\" \",COUNTRY_INFO!A29)","v":"Tanzania"},{"$f":"IF(COUNTRY_INFO!B29=0,\" \",COUNTRY_INFO!B29)","v":"Dodoma"},{"$f":"IF(COUNTRY_INFO!C29=0,\" \",COUNTRY_INFO!C29)","v":"Mpwapwa District Council"},{"$f":"COUNTRY_INFO!L29","v":"Stopped"},null,null,{"$f":"MAX('MDA1'!M29,'MDA2'!M29)","v":0},{"$f":"IF(AND(COUNTRY_INFO!H29>0,COUNTRY_INFO!H29<4),IF(D29>MAX('MDA1'!M29,'MDA2'!M29),MAX('MDA1'!M29,'MDA2'!M29),D29),0)","v":0},{"$f":"IF(AND(COUNTRY_INFO!H29>0,COUNTRY_INFO!H29<4), IF(G29/D29*100<>0, IF(G29/D29*100>100,100,G29/D29*100), \"-\"),0)","v":0},{"$f":"COUNTRY_INFO!M29","v":0},null,null,{"$f":"MAX('MDA1'!M29,MAX('MDA3'!I29,'MDA3'!L29)+MAX('MDA3'!J29,'MDA3'!M29))","v":0},{"$f":"IF(AND(COUNTRY_INFO!I29>0,COUNTRY_INFO!I29<4),IF(J29>MAX('MDA1'!M29,MAX('MDA3'!I29,'MDA3'!L29)+MAX('MDA3'!J29,'MDA3'!M29)),MAX('MDA1'!M29,MAX('MDA3'!I29,'MDA3'!L29)+MAX('MDA3'!J29,'MDA3'!M29)),J29),0)","v":0},{"$f":"IF(AND(COUNTRY_INFO!I29>0,COUNTRY_INFO!I29<4), IF(M29/J29*100<>0, IF(M29/J29*100>100,100,M29/J29*100), \"-\"),0)","v":0},{"$f":"COUNTRY_INFO!N29","v":119370},null,null,{"$f":"SUM(MAX('MDA2'!J29, 'T1'!L29, MAX(T3_R1!K29, T3_R2!K29)), MAX('MDA1'!K29, 'MDA2'!K29, 'T1'!M29, MAX(T3_R1!L29, T3_R2!L29)), MAX('MDA1'!L29, 'MDA2'!L29, 'T1'!N29, MAX(T3_R1!M29, T3_R2!M29)))","v":75967},{"$f":"IF(AND(COUNTRY_INFO!J29>1,COUNTRY_INFO!J29<4),IF(COUNTRY_INFO!E29>MAX('MDA2'!J29,'T1'!L29,MAX(T3_R1!K29,T3_R2!K29)),MAX('MDA2'!J29,'T1'!L29,MAX(T3_R1!K29,T3_R2!K29)),COUNTRY_INFO!E29),0)","v":0},{"$f":"IF(AND(COUNTRY_INFO!J29>1,COUNTRY_INFO!J29<4), IF(T29/COUNTRY_INFO!E29*100<>0, IF(T29/COUNTRY_INFO!E29*100>100,100,T29/COUNTRY_INFO!E29*100), \"-\"),0)","v":"-"},{"$f":"IF(AND(COUNTRY_INFO!J29>1,COUNTRY_INFO!J29<4),IF(COUNTRY_INFO!F29>MAX('MDA1'!K29,'MDA2'!K29,'T1'!M29,MAX(T3_R1!L29,T3_R2!L29)),MAX('MDA1'!K29,'MDA2'!K29,'T1'!M29,MAX(T3_R1!L29,T3_R2!L29)),COUNTRY_INFO!F29),0)","v":75967},{"$f":"IF(AND(COUNTRY_INFO!J29>1,COUNTRY_INFO!J29<4), IF(V29/COUNTRY_INFO!F29*100<>0, IF(V29/COUNTRY_INFO!F29*100>100,100,V29/COUNTRY_INFO!F29*100), \"-\"),0)","v":99.936854568177338},75967,{"$f":"IF(AND(COUNTRY_INFO!J29>1,COUNTRY_INFO!J29<4), IF(S29/P29*100<>0, IF(X29/P29*100>100,100,X29/P29*100), \"-\"),0)","v":63.639943034263212},{"$f":"COUNTRY_INFO!O29","v":83247.100000000006},null,null,{"$f":"MAX('T1'!L29,'T2'!J29)+MAX('T1'!M29,'T2'!K29)+MAX('T1'!N29,'T2'!L29)","v":0},{"$f":"IF(COUNTRY_INFO!K29=1,IF(COUNTRY_INFO!F29*0.33>MAX('T1'!M29,'T2'!K29),MAX('T1'!M29,'T2'!K29),COUNTRY_INFO!F29*0.33),IF(COUNTRY_INFO!K29=2,IF(COUNTRY_INFO!F29*0.5>MAX('T1'!M29,'T2'!K29),MAX('T1'!M29,'T2'!K29),COUNTRY_INFO!F29*0.5),IF(COUNTRY_INFO!K29=3,IF(COUNTRY_INFO!F29>MAX('T1'!M29,'T2'!K29),MAX('T1'!M29,'T2'!K29),COUNTRY_INFO!F29),0)))","v":0},{"$f":"IF(AND(COUNTRY_INFO!K29>0,COUNTRY_INFO!K29<4),IF(Z29>0,IF(COUNTRY_INFO!K29=1, AD29/(COUNTRY_INFO!F29*0.33)*100, IF(COUNTRY_INFO!K29=2, AD29/(COUNTRY_INFO!F29*0.5)*100, IF(COUNTRY_INFO!K29=3, AD29/COUNTRY_INFO!F29*100))),\"-\"),0)","v":0},{"$f":"IF(COUNTRY_INFO!K29=2,IF(COUNTRY_INFO!G29*0.2>MAX('T1'!N29,'T2'!L29),MAX('T1'!N29,'T2'!L29),COUNTRY_INFO!G29*0.2),IF(COUNTRY_INFO!K29=3,IF(COUNTRY_INFO!G29>MAX('T1'!N29,'T2'!L29),MAX('T1'!N29,'T2'!L29),COUNTRY_INFO!G29),0))","v":0},{"$f":"IF(AND(COUNTRY_INFO!K29>0,COUNTRY_INFO!K29<4),IF(Z29>0,IF(COUNTRY_INFO!K29=1, 0, IF(COUNTRY_INFO!K29=2, AF29/(COUNTRY_INFO!G29*0.2)*100, IF(COUNTRY_INFO!K29=3, AF29/COUNTRY_INFO!G29*100))),\"-\"),0)","v":0},0,{"$f":"IF(AND(COUNTRY_INFO!K29>0,COUNTRY_INFO!K29<4), IF(AC29/Z29*100<>0, IF(AH29/Z29*100>100,100,AH29/Z29*100), \"-\"),0)","v":"-"},null,{"$f":"IF(AND(D29<>0, D29<>\"Unknown\",D29<>\"Stopped\",D29<>\"Not required\"),D29/COUNTRY_INFO!D29, 0)","v":0},{"$f":"IF(AND(J29<>0,J29<>\"Unknown\",J29<>\"Stopped\",J29<>\"Not required\"),J29/COUNTRY_INFO!D29, 0)","v":0},{"$f":"IF(AND(P29<>0,P29<>\"Unknown\",P29<>\"Not required\"),P29/(COUNTRY_INFO!E29+COUNTRY_INFO!F29), 0)","v":1},{"$f":"IF(AND(Z29<>0,Z29<>\"Unknown\",Z29<>\"Not required\"),IF(COUNTRY_INFO!K29=1,1,IF(COUNTRY_INFO!K29=2,0.5*COUNTRY_INFO!F29/(0.5*COUNTRY_INFO!F29+0.2*COUNTRY_INFO!G29),IF(COUNTRY_INFO!K29=3,COUNTRY_INFO!F29/(COUNTRY_INFO!F29+COUNTRY_INFO!G29)))),0)","v":0.45656245082411279},{"$f":"IF(AND(Z29<>0,Z29<>\"Unknown\",Z29<>\"Not required\"),IF(COUNTRY_INFO!K29=1,0,IF(COUNTRY_INFO!K29=2,0.2*COUNTRY_INFO!G29/(0.5*COUNTRY_INFO!F29+0.2*COUNTRY_INFO!G29),IF(COUNTRY_INFO!K29=3,COUNTRY_INFO!G29/(COUNTRY_INFO!F29+COUNTRY_INFO!G29)))),0)","v":0.54343754917588727},{"$f":"MAX(COUNTRY_INFO!D29*AK29*PROFILE!$G$7,COUNTRY_INFO!D29*AL29*PROFILE!$G$7)","v":0},{"$f":"MAX(COUNTRY_INFO!D29*AK29*PROFILE!$G$8,COUNTRY_INFO!D29*AL29*PROFILE!$G$8,COUNTRY_INFO!D29*AM29*PROFILE!$G$8)","v":38368.629877303494},{"$f":"MAX(COUNTRY_INFO!D29*AK29*PROFILE!$G$9,COUNTRY_INFO!D29*AL29*PROFILE!$G$9,COUNTRY_INFO!D29*AM29*PROFILE!$G$9,IF(AND(DISTRICT!Z29<>\"Unknown\",Z29<>\"Not required\"),COUNTRY_INFO!O29*DISTRICT!AN29,0))","v":75256.068263498411},{"$f":"MAX(COUNTRY_INFO!D29*AK29*PROFILE!$G$10,COUNTRY_INFO!D29*AL29*PROFILE!$G$10,IF(AND(DISTRICT!Z29<>\"Unknown\",Z29<>\"Not required\"),COUNTRY_INFO!O29*DISTRICT!AO29,0))","v":45239.600000000006},158864.2981408019,0,{"$f":"MAX('MDA2'!J29,'T1'!L29,'T2'!J29,T3_R1!K29,T3_R2!K29)","v":0},{"$f":"MAX('MDA1'!K29,'MDA2'!K29,'MDA3'!I29,'MDA3'!L29,'T1'!M29,'T2'!K29,T3_R1!L29,T3_R2!L29)","v":75967},{"$f":"MAX('MDA1'!L29,'MDA2'!L29,'MDA3'!J29,'MDA3'!M29,'T1'!N29,'T2'!L29,T3_R1!M29,T3_R2!M29)","v":0},75967,{"$f":"MAX('MDA2'!J29,T29)","v":0},{"$f":"MAX('MDA1'!K29,'MDA2'!K29,'MDA3'!I29,'MDA3'!L29,V29,AD29)","v":75967},{"$f":"MAX('MDA1'!L29,'MDA2'!L29,'MDA3'!J29,'MDA3'!M29,AF29)","v":0},75967,47.818799370938727]
[{"$f":"IF(COUNTRY_INFO!A30=0,\" \",COUNTRY_INFO!A30)","v":"Tanzania"},{"$f":"IF(COUNTRY_INFO!B30=0,\" \",COUNTRY_INFO!B30)","v":"Geita"},{"$f":"IF(COUNTRY_INFO!C30=0,\" \",COUNTRY_INFO!C30)","v":"Bukombe District Council"},{"$f":"COUNTRY_INFO!L30","v":0},null,null,{"$f":"MAX('MDA1'!M30,'MDA2'!M30)","v":0},{"$f":"IF(AND(COUNTRY_INFO!H30>0,COUNTRY_INFO!H30<4),IF(D30>MAX('MDA1'!M30,'MDA2'!M30),MAX('MDA1'!M30,'MDA2'!M30),D30),0)","v":0},{"$f":"IF(AND(COUNTRY_INFO!H30>0,COUNTRY_INFO!H30<4), IF(G30/D30*100<>0, IF(G30/D30*100>100,100,G30/D30*100), \"-\"),0)","v":0},{"$f":"COUNTRY_INFO!M30","v":0},null,null,{"$f":"MAX('MDA1'!M30,MAX('MDA3'!I30,'MDA3'!L30)+MAX('MDA3'!J30,'MDA3'!M30))","v":0},{"$f":"IF(AND(COUNTRY_INFO!I30>0,COUNTRY_INFO!I30<4),IF(J30>MAX('MDA1'!M30,MAX('MDA3'!I30,'MDA3'!L30)+MAX('MDA3'!J30,'MDA3'!M30)),MAX('MDA1'!M30,MAX('MDA3'!I30,'MDA3'!L30)+MAX('MDA3'!J30,'MDA3'!M30)),J30),0)","v":0},{"$f":"IF(AND(COUNTRY_INFO!I30>0,COUNTRY_INFO!I30<4), IF(M30/J30*100<>0, IF(M30/J30*100>100,100,M30/J30*100), \"-\"),0)","v":0},{"$f":"COUNTRY_INFO!N30","v":89131},null,null,{"$f":"SUM(MAX('MDA2'!J30, 'T1'!L30, MAX(T3_R1!K30, T3_R2!K30)), MAX('MDA1'!K30, 'MDA2'!K30, 'T1'!M30, MAX(T3_R1!L30, T3_R2!L30)), MAX('MDA1'!L30, 'MDA2'!L30, 'T1'!N30, MAX(T3_R1!M30, T3_R2!M30)))","v":83172},{"$f":"IF(AND(COUNTRY_INFO!J30>1,COUNTRY_INFO!J30<4),IF(COUNTRY_INFO!E30>MAX('MDA2'!J30,'T1'!L30,MAX(T3_R1!K30,T3_R2!K30)),MAX('MDA2'!J30,'T1'!L30,MAX(T3_R1!K30,T3_R2!K30)),COUNTRY_INFO!E30),0)","v":0},{"$f":"IF(AND(COUNTRY_INFO!J30>1,COUNTRY_INFO!J30<4), IF(T30/COUNTRY_INFO!E30*100<>0, IF(T30/COUNTRY_INFO!E30*100>100,100,T30/COUNTRY_INFO!E30*100), \"-\"),0)","v":"-"},{"$f":"IF(AND(COUNTRY_INFO!J30>1,COUNTRY_INFO!J30<4),IF(COUNTRY_INFO!F30>MAX('MDA1'!K30,'MDA2'!K30,'T1'!M30,MAX(T3_R1!L30,T3_R2!L30)),MAX('MDA1'!K30,'MDA2'!K30,'T1'!M30,MAX(T3_R1!L30,T3_R2!L30)),COUNTRY_INFO!F30),0)","v":83172},{"$f":"IF(AND(COUNTRY_INFO!J30>1,COUNTRY_INFO!J30<4), IF(V30/COUNTRY_INFO!F30*100<>0, IF(V30/COUNTRY_INFO!F30*100>100,100,V30/COUNTRY_INFO!F30*100), \"-\"),0)","v":98.893024030058385},83172,{"$f":"IF(AND(COUNTRY_INFO!J30>1,COUNTRY_INFO!J30<4), IF(S30/P30*100<>0, IF(X30/P30*100>100,100,X30/P30*100), \"-\"),0)","v":93.314335079826321},{"$f":"COUNTRY_INFO!O30","v":76610.899999999994},null,null,{"$f":"MAX('T1'!L30,'T2'!J30)+MAX('T1'!M30,'T2'!K30)+MAX('T1'!N30,'T2'!L30)","v":0},{"$f":"IF(COUNTRY_INFO!K30=1,IF(COUNTRY_INFO!F30*0.33>MAX('T1'!M30,'T2'!K30),MAX('T1'!M30,'T2'!K30),COUNTRY_INFO!F30*0.33),IF(COUNTRY_INFO!K30=2,IF(COUNTRY_INFO!F30*0.5>MAX('T1'!M30,'T2'!K30),MAX('T1'!M30,'T2'!K30),COUNTRY_INFO!F30*0.5),IF(COUNTRY_INFO!K30=3,IF(COUNTRY_INFO!F30>MAX('T1'!M30,'T2'!K30),MAX('T1'!M30,'T2'!K30),COUNTRY_INFO!F30),0)))","v":0},{"$f":"IF(AND(COUNTRY_INFO!K30>0,COUNTRY_INFO!K30<4),IF(Z30>0,IF(COUNTRY_INFO!K30=1, AD30/(COUNTRY_INFO!F30*0.33)*100, IF(COUNTRY_INFO!K30=2, AD30/(COUNTRY_INFO!F30*0.5)*100, IF(COUNTRY_INFO!K30=3, AD30/COUNTRY_INFO!F30*100))),\"-\"),0)","v":0},{"$f":"IF(COUNTRY_INFO!K30=2,IF(COUNTRY_INFO!G30*0.2>MAX('T1'!N30,'T2'!L30),MAX('T1'!N30,'T2'!L30),COUNTRY_INFO!G30*0.2),IF(COUNTRY_INFO!K30=3,IF(COUNTRY_INFO!G30>MAX('T1'!N30,'T2'!L30),MAX('T1'!N30,'T2'!L30),COUNTRY_INFO!G30),0))","v":0},{"$f":"IF(AND(COUNTRY_INFO!K30>0,COUNTRY_INFO!K30<4),IF(Z30>0,IF(COUNTRY_INFO!K30=1, 0, IF(COUNTRY_INFO!K30=2, AF30/(COUNTRY_INFO!G30*0.2)*100, IF(COUNTRY_INFO!K30=3, AF30/COUNTRY_INFO!G30*100))),\"-\"),0)","v":0},0,{"$f":"IF(AND(COUNTRY_INFO!K30>0,COUNTRY_INFO!K30<4), IF(AC30/Z30*100<>0, IF(AH30/Z30*100>100,100,AH30/Z30*100), \"-\"),0)","v":"-"},null,{"$f":"IF(AND(D30<>0, D30<>\"Unknown\",D30<>\"Stopped\",D30<>\"Not required\"),D30/COUNTRY_INFO!D30, 0)","v":0},{"$f":"IF(AND(J30<>0,J30<>\"Unknown\",J30<>\"Stopped\",J30<>\"Not required\"),J30/COUNTRY_INFO!D30, 0)","v":0},{"$f":"IF(AND(P30<>0,P30<>\"Unknown\",P30<>\"Not required\"),P30/(COUNTRY_INFO!E30+COUNTRY_INFO!F30), 0)","v":1},{"$f":"IF(AND(Z30<>0,Z30<>\"Unknown\",Z30<>\"Not required\"),IF(COUNTRY_INFO!K30=1,1,IF(COUNTRY_INFO!K30=2,0.5*COUNTRY_INFO!F30/(0.5*COUNTRY_INFO!F30+0.2*COUNTRY_INFO!G30),IF(COUNTRY_INFO!K30=3,COUNTRY_INFO!F30/(COUNTRY_INFO!F30+COUNTRY_INFO!G30)))),0)","v":0.54889708905651813},{"$f":"IF(AND(Z30<>0,Z30<>\"Unknown\",Z30<>\"Not required\"),IF(COUNTRY_INFO!K30=1,0,IF(COUNTRY_INFO!K30=2,0.2*COUNTRY_INFO!G30/(0.5*COUNTRY_INFO!F30+0.2*COUNTRY_INFO!G30),IF(COUNTRY_INFO!K30=3,COUNTRY_INFO!G30/(COUNTRY_INFO!F30+COUNTRY_INFO!G30)))),0)","v":0.45110291094348198},{"$f":"MAX(COUNTRY_INFO!D30*AK30*PROFILE!$G$7,COUNTRY_INFO!D30*AL30*PROFILE!$G$7)","v":0},{"$f":"MAX(COUNTRY_INFO!D30*AK30*PROFILE!$G$8,COUNTRY_INFO!D30*AL30*PROFILE!$G$8,COUNTRY_INFO!D30*AM30*PROFILE!$G$8)","v":29082.02867887753},{"$f":"MAX(COUNTRY_INFO!D30*AK30*PROFILE!$G$9,COUNTRY_INFO!D30*AL30*PROFILE!$G$9,COUNTRY_INFO!D30*AM30*PROFILE!$G$9,IF(AND(DISTRICT!Z30<>\"Unknown\",Z30<>\"Not required\"),COUNTRY_INFO!O30*DISTRICT!AN30,0))","v":57041.36797423839},{"$f":"MAX(COUNTRY_INFO!D30*AK30*PROFILE!$G$10,COUNTRY_INFO!D30*AL30*PROFILE!$G$10,IF(AND(DISTRICT!Z30<>\"Unknown\",Z30<>\"Not required\"),COUNTRY_INFO!O30*DISTRICT!AO30,0))","v":34559.4},120682.79665311592,0,{"$f":"MAX('MDA2'!J30,'T1'!L30,'T2'!J30,T3_R1!K30,T3_R2!K30)","v":0},{"$f":"MAX('MDA1'!K30,'MDA2'!K30,'MDA3'!I30,'MDA3'!L30,'T1'!M30,'T2'!K30,T3_R1!L30,T3_R2!L30)","v":83172},{"$f":"MAX('MDA1'!L30,'MDA2'!L30,'MDA3'!J30,'MDA3'!M30,'T1'!N30,'T2'!L30,T3_R1!M30,T3_R2!M30)","v":0},83172,{"$f":"MAX('MDA2'!J30,T30)","v":0},{"$f":"MAX('MDA1'!K30,'MDA2'!K30,'MDA3'!I30,'MDA3'!L30,V30,AD30)","v":83172},{"$f":"MAX('MDA1'!L30,'MDA2'!L30,'MDA3'!J30,'MDA3'!M30,AF30)","v":0},83172,68.917859302734826]
[{"$f":"IF(COUNTRY_INFO!A31=0,\" \",COUNTRY_INFO!A31)","v":"Tanzania"},{"$f":"IF(COUNTRY_INFO!B31=0,\" \",COUNTRY_INFO!B31)","v":"Geita"},{"$f":"IF(COUNTRY_INFO!C31=0,\" \",COUNTRY_INFO!C31)","v":"Chato District Council"},{"$f":"COUNTRY_INFO!L31","v":0},null,null,{"$f":"MAX('MDA1'!M31,'MDA2'!M31)","v":0},{"$f":"IF(AND(COUNTRY_INFO!H31>0,COUNTRY_INFO!H31<4),IF(D31>MAX('MDA1'!M31,'MDA2'!M31),MAX('MDA1'!M31,'MDA2'!M31),D31),0)","v":0},{"$f":"IF(AND(COUNTRY_INFO!H31>0,COUNTRY_INFO!H31<4), IF(G31/D31*100<>0, IF(G31/D31*100>100,100,G31/D31*100), \"-\"),0)","v":0},{"$f":"COUNTRY_INFO!M31","v":0},null,null,{"$f":"MAX('MDA1'!M31,MAX('MDA3'!I31,'MDA3'!L31)+MAX('MDA3'!J31,'MDA3'!M31))","v":0},{"$f":"IF(AND(COUNTRY_INFO!I31>0,COUNTRY_INFO!I31<4),IF(J31>MAX('MDA1'!M31,MAX('MDA3'!I31,'MDA3'!L31)+MAX('MDA3'!J31,'MDA3'!M31)),MAX('MDA1'!M31,MAX('MDA3'!I31,'MDA3'!L31)+MAX('MDA3'!J31,'MDA3'!M31)),J31),0)","v":0},{"$f":"IF(AND(COUNTRY_INFO!I31>0,COUNTRY_INFO!I31<4), IF(M31/J31*100<>0, IF(M31/J31*100>100,100,M31/J31*100), \"-\"),0)","v":0},{"$f":"COUNTRY_INFO!N31","v":147452},null,null,{"$f":"SUM(MAX('MDA2'!J31, 'T1'!L31, MAX(T3_R1!K31, T3_R2!K31)), MAX('MDA1'!K31, 'MDA2'!K31, 'T1'!M31, MAX(T3_R1!L31, T3_R2!L31)), MAX('MDA1'!L31, 'MDA2'!L31, 'T1'!N31, MAX(T3_R1!M31, T3_R2!M31)))","v":125631},{"$f":"IF(AND(COUNTRY_INFO!J31>1,COUNTRY_INFO!J31<4),IF(COUNTRY_INFO!E31>MAX('MDA2'!J31,'T1'!L31,MAX(T3_R1!K31,T3_R2!K31)),MAX('MDA2'!J31,'T1'!L31,MAX(T3_R1!K31,T3_R2!K31)),COUNTRY_INFO!E31),0)","v":0},{"$f":"IF(AND(COUNTRY_INFO!J31>1,COUNTRY_INFO!J31<4), IF(T31/COUNTRY_INFO!E31*100<>0, IF(T31/COUNTRY_INFO!E31*100>100,100,T31/COUNTRY_INFO!E31*100), \"-\"),0)","v":"-"},{"$f":"IF(AND(COUNTRY_INFO!J31>1,COUNTRY_INFO!J31<4),IF(COUNTRY_INFO!F31>MAX('MDA1'!K31,'MDA2'!K31,'T1'!M31,MAX(T3_R1!L31,T3_R2!L31)),MAX('MDA1'!K31,'MDA2'!K31,'T1'!M31,MAX(T3_R1!L31,T3_R2!L31)),COUNTRY_INFO!F31),0)","v":125631},{"$f":"IF(AND(COUNTRY_INFO!J31>1,COUNTRY_INFO!J31<4), IF(V31/COUNTRY_INFO!F31*100<>0, IF(V31/COUNTRY_INFO!F31*100>100,100,V31/COUNTRY_INFO!F31*100), \"-\"),0)","v":97.799280698749797},125631,{"$f":"IF(AND(COUNTRY_INFO!J31>1,COUNTRY_INFO!J31<4), IF(S31/P31*100<>0, IF(X31/P31*100>100,100,X31/P31*100), \"-\"),0)","v":85.201285842172368},{"$f":"COUNTRY_INFO!O31","v":119922.6},null,null,{"$f":"MAX('T1'!L31,'T2'!J31)+MAX('T1'!M31,'T2'!K31)+MAX('T1'!N31,'T2'!L31)","v":0},{"$f":"IF(COUNTRY_INFO!K31=1,IF(COUNTRY_INFO!F31*0.33>MAX('T1'!M31,'T2'!K31),MAX('T1'!M31,'T2'!K31),COUNTRY_INFO!F31*0.33),IF(COUNTRY_INFO!K31=2,IF(COUNTRY_INFO!F31*0.5>MAX('T1'!M31,'T2'!K31),MAX('T1'!M31,'T2'!K31),COUNTRY_INFO!F31*0.5),IF(COUNTRY_INFO!K31=3,IF(COUNTRY_INFO!F31>MAX('T1'!M31,'T2'!K31),MAX('T1'!M31,'T2'!K31),COUNTRY_INFO!F31),0)))","v":0},{"$f":"IF(AND(COUNTRY_INFO!K31>0,COUNTRY_INFO!K31<4),IF(Z31>0,IF(COUNTRY_INFO!K31=1, AD31/(COUNTRY_INFO!F31*0.33)*100, IF(COUNTRY_INFO!K31=2, AD31/(COUNTRY_INFO!F31*0.5)*100, IF(COUNTRY_INFO!K31=3, AD31/COUNTRY_INFO!F31*100))),\"-\"),0)","v":0},{"$f":"IF(COUNTRY_INFO!K31=2,IF(COUNTRY_INFO!G31*0.2>MAX('T1'!N31,'T2'!L31),MAX('T1'!N31,'T2'!L31),COUNTRY_INFO!G31*0.2),IF(COUNTRY_INFO!K31=3,IF(COUNTRY_INFO!G31>MAX('T1'!N31,'T2'!L31),MAX('T1'!N31,'T2'!L31),COUNTRY_INFO!G31),0))","v":0},{"$f":"IF(AND(COUNTRY_INFO!K31>0,COUNTRY_INFO!K31<4),IF(Z31>0,IF(COUNTRY_INFO!K31=1, 0, IF(COUNTRY_INFO!K31=2, AF31/(COUNTRY_INFO!G31*0.2)*100, IF(COUNTRY_INFO!K31=3, AF31/COUNTRY_INFO!G31*100))),\"-\"),0)","v":0},0,{"$f":"IF(AND(COUNTRY_INFO!K31>0,COUNTRY_INFO!K31<4), IF(AC31/Z31*100<>0, IF(AH31/Z31*100>100,100,AH31/Z31*100), \"-\"),0)","v":"-"},null,{"$f":"IF(AND(D31<>0, D31<>\"Unknown\",D31<>\"Stopped\",D31<>\"Not required\"),D31/COUNTRY_INFO!D31, 0)","v":0},{"$f":"IF(AND(J31<>0,J31<>\"Unknown\",J31<>\"Stopped\",J31<>\"Not required\"),J31/COUNTRY_INFO!D31, 0)","v":0},{"$f":"IF(AND(P31<>0,P31<>\"Unknown\",P31<>\"Not required\"),P31/(COUNTRY_INFO!E31+COUNTRY_INFO!F31), 0)","v":1},{"$f":"IF(AND(Z31<>0,Z31<>\"Unknown\",Z31<>\"Not required\"),IF(COUNTRY_INFO!K31=1,1,IF(COUNTRY_INFO!K31=2,0.5*COUNTRY_INFO!F31/(0.5*COUNTRY_INFO!F31+0.2*COUNTRY_INFO!G31),IF(COUNTRY_INFO!K31=3,COUNTRY_INFO!F31/(COUNTRY_INFO!F31+COUNTRY_INFO!G31)))),0)","v":0.53558712035929834},{"$f":"IF(AND(Z31<>0,Z31<>\"Unknown\",Z31<>\"Not required\"),IF(COUNTRY_INFO!K31=1,0,IF(COUNTRY_INFO!K31=2,0.2*COUNTRY_INFO!G31/(0.5*COUNTRY_INFO!F31+0.2*COUNTRY_INFO!G31),IF(COUNTRY_INFO!K31=3,COUNTRY_INFO!G31/(COUNTRY_INFO!F31+COUNTRY_INFO!G31)))),0)","v":0.4644128796407016},{"$f":"MAX(COUNTRY_INFO!D31*AK31*PROFILE!$G$7,COUNTRY_INFO!D31*AL31*PROFILE!$G$7)","v":0},{"$f":"MAX(COUNTRY_INFO!D31*AK31*PROFILE!$G$8,COUNTRY_INFO!D31*AL31*PROFILE!$G$8,COUNTRY_INFO!D31*AM31*PROFILE!$G$8)","v":47290.16239160196},{"$f":"MAX(COUNTRY_INFO!D31*AK31*PROFILE!$G$9,COUNTRY_INFO!D31*AL31*PROFILE!$G$9,COUNTRY_INFO!D31*AM31*PROFILE!$G$9,IF(AND(DISTRICT!Z31<>\"Unknown\",Z31<>\"Not required\"),COUNTRY_INFO!O31*DISTRICT!AN31,0))","v":92754.724380698579},{"$f":"MAX(COUNTRY_INFO!D31*AK31*PROFILE!$G$10,COUNTRY_INFO!D31*AL31*PROFILE!$G$10,IF(AND(DISTRICT!Z31<>\"Unknown\",Z31<>\"Not required\"),COUNTRY_INFO!O31*DISTRICT!AO31,0))","v":55693.600000000006},195738.48677230053,0,{"$f":"MAX('MDA2'!J31,'T1'!L31,'T2'!J31,T3_R1!K31,T3_R2!K31)","v":0},{"$f":"MAX('MDA1'!K31,'MDA2'!K31,'MDA3'!I31,'MDA3'!L31,'T1'!M31,'T2'!K31,T3_R1!L31,T3_R2!L31)","v":125631},{"$f":"MAX('MDA1'!L31,'MDA2'!L31,'MDA3'!J31,'MDA3'!M31,'T1'!N31,'T2'!L31,T3_R1!M31,T3_R2!M31)","v":0},125631,{"$f":"MAX('MDA2'!J31,T31)","v":0},{"$f":"MAX('MDA1'!K31,'MDA2'!K31,'MDA3'!I31,'MDA3'!L31,V31,AD31)","v":125631},{"$f":"MAX('MDA1'!L31,'MDA2'!L31,'MDA3'!J31,'MDA3'!M31,AF31)","v":0},125631,64.183085335764616]
[{"$f":"IF(COUNTRY_INFO!A32=0,\" \",COUNTRY_INFO!A32)","v":"Tanzania"},{"$f":"IF(COUNTRY_INFO!B32=0,\" \",COUNTRY_INFO!B32)","v":"Geita"},{"$f":"IF(COUNTRY_INFO!C32=0,\" \",COUNTRY_INFO!C32)","v":"Geita District Council"},{"$f":"COUNTRY_INFO!L32","v":0},null,null,{"$f":"MAX('MDA1'!M32,'MDA2'!M32)","v":0},{"$f":"IF(AND(COUNTRY_INFO!H32>0,COUNTRY_INFO!H32<4),IF(D32>MAX('MDA1'!M32,'MDA2'!M32),MAX('MDA1'!M32,'MDA2'!M32),D32),0)","v":0},{"$f":"IF(AND(COUNTRY_INFO!H32>0,COUNTRY_INFO!H32<4), IF(G32/D32*100<>0, IF(G32/D32*100>100,100,G32/D32*100), \"-\"),0)","v":0},{"$f":"COUNTRY_INFO!M32","v":0},null,null,{"$f":"MAX('MDA1'!M32,MAX('MDA3'!I32,'MDA3'!L32)+MAX('MDA3'!J32,'MDA3'!M32))","v":0},{"$f":"IF(AND(COUNTRY_INFO!I32>0,COUNTRY_INFO!I32<4),IF(J32>MAX('MDA1'!M32,MAX('MDA3'!I32,'MDA3'!L32)+MAX('MDA3'!J32,'MDA3'!M32)),MAX('MDA1'!M32,MAX('MDA3'!I32,'MDA3'!L32)+MAX('MDA3'!J32,'MDA3'!M32)),J32),0)","v":0},{"$f":"IF(AND(COUNTRY_INFO!I32>0,COUNTRY_INFO!I32<4), IF(M32/J32*100<>0, IF(M32/J32*100>100,100,M32/J32*100), \"-\"),0)","v":0},{"$f":"COUNTRY_INFO!N32","v":241477},null,null,{"$f":"SUM(MAX('MDA2'!J32, 'T1'!L32, MAX(T3_R1!K32, T3_R2!K32)), MAX('MDA1'!K32, 'MDA2'!K32, 'T1'!M32, MAX(T3_R1!L32, T3_R2!L32)), MAX('MDA1'!L32, 'MDA2'!L32, 'T1'!N32, MAX(T3_R1!M32, T3_R2!M32)))","v":214190},{"$f":"IF(AND(COUNTRY_INFO!J32>1,COUNTRY_INFO!J32<4),IF(COUNTRY_INFO!E32>MAX('MDA2'!J32,'T1'!L32,MAX(T3_R1!K32,T3_R2!K32)),MAX('MDA2'!J32,'T1'!L32,MAX(T3_R1!K32,T3_R2!K32)),COUNTRY_INFO!E32),0)","v":0},{"$f":"IF(AND(COUNTRY_INFO!J32>1,COUNTRY_INFO!J32<4), IF(T32/COUNTRY_INFO!E32*100<>0, IF(T32/COUNTRY_INFO!E32*100>100,100,T32/COUNTRY_INFO!E32*100), \"-\"),0)","v":"-"},{"$f":"IF(AND(COUNTRY_INFO!J32>1,COUNTRY_INFO!J32<4),IF(COUNTRY_INFO!F32>MAX('MDA1'!K32,'MDA2'!K32,'T1'!M32,MAX(T3_R1!L32,T3_R2!L32)),MAX('MDA1'!K32,'MDA2'!K32,'T1'!M32,MAX(T3_R1!L32,T3_R2!L32)),COUNTRY_INFO!F32),0)","v":214190},{"$f":"IF(AND(COUNTRY_INFO!J32>1,COUNTRY_INFO!J32<4), IF(V32/COUNTRY_INFO!F32*100<>0, IF(V32/COUNTRY_INFO!F32*100>100,100,V32/COUNTRY_INFO!F32*100), \"-\"),0)","v":97.23577826302099},214190,{"$f":"IF(AND(COUNTRY_INFO!J32>1,COUNTRY_INFO!J32<4), IF(S32/P32*100<>0, IF(X32/P32*100>100,100,X32/P32*100), \"-\"),0)","v":88.699959002306642},{"$f":"COUNTRY_INFO!O32","v":205302.90000000002},null,null,{"$f":"MAX('T1'!L32,'T2'!J32)+MAX('T1'!M32,'T2'!K32)+MAX('T1'!N32,'T2'!L32)","v":0},{"$f":"IF(COUNTRY_INFO!K32=1,IF(COUNTRY_INFO!F32*0.33>MAX('T1'!M32,'T2'!K32),MAX('T1'!M32,'T2'!K32),COUNTRY_INFO!F32*0.33),IF(COUNTRY_INFO!K32=2,IF(COUNTRY_INFO!F32*0.5>MAX('T1'!M32,'T2'!K32),MAX('T1'!M32,'T2'!K32),COUNTRY_INFO!F32*0.5),IF(COUNTRY_INFO!K32=3,IF(COUNTRY_INFO!F32>MAX('T1'!M32,'T2'!K32),MAX('T1'!M32,'T2'!K32),COUNTRY_INFO!F32),0)))","v":0},{"$f":"IF(AND(COUNTRY_INFO!K32>0,COUNTRY_INFO!K32<4),IF(Z32>0,IF(COUNTRY_INFO!K32=1, AD32/(COUNTRY_INFO!F32*0.33)*100, IF(COUNTRY_INFO!K32=2, AD32/(COUNTRY_INFO!F32*0.5)*100, IF(COUNTRY_INFO!K32=3, AD32/COUNTRY_INFO!F32*100))),\"-\"),0)","v":0},{"$f":"IF(COUNTRY_INFO!K32=2,IF(COUNTRY_INFO!G32*0.2>MAX('T1'!N32,'T2'!L32),MAX('T1'!N32,'T2'!L32),COUNTRY_INFO!G32*0.2),IF(COUNTRY_INFO!K32=3,IF(COUNTRY_INFO!G32>MAX('T1'!N32,'T2'!L32),MAX('T1'!N32,'T2'!L32),COUNTRY_INFO!G32),0))","v":0},{"$f":"IF(AND(COUNTRY_INFO!K32>0,COUNTRY_INFO!K32<4),IF(Z32>0,IF(COUNTRY_INFO!K32=1, 0, IF(COUNTRY_INFO!K32=2, AF32/(COUNTRY_INFO!G32*0.2)*100, IF(COUNTRY_INFO!K32=3, AF32/COUNTRY_INFO!G32*100))),\"-\"),0)","v":0},0,{"$f":"IF(AND(COUNTRY_INFO!K32>0,COUNTRY_INFO!K32<4), IF(AC32/Z32*100<>0, IF(AH32/Z32*100>100,100,AH32/Z32*100), \"-\"),0)","v":"-"},null,{"$f":"IF(AND(D32<>0, D32<>\"Unknown\",D32<>\"Stopped\",D32<>\"Not required\"),D32/COUNTRY_INFO!D32, 0)","v":0},{"$f":"IF(AND(J32<>0,J32<>\"Unknown\",J32<>\"Stopped\",J32<>\"Not required\"),J32/COUNTRY_INFO!D32, 0)","v":0},{"$f":"IF(AND(P32<>0,P32<>\"Unknown\",P32<>\"Not required\"),P32/(COUNTRY_INFO!E32+COUNTRY_INFO!F32), 0)","v":1},{"$f":"IF(AND(Z32<>0,Z32<>\"Unknown\",Z32<>\"Not required\"),IF(COUNTRY_INFO!K32=1,1,IF(COUNTRY_INFO!K32=2,0.5*COUNTRY_INFO!F32/(0.5*COUNTRY_INFO!F32+0.2*COUNTRY_INFO!G32),IF(COUNTRY_INFO!K32=3,COUNTRY_INFO!F32/(COUNTRY_INFO!F32+COUNTRY_INFO!G32)))),0)","v":0.53647318182061721},{"$f":"IF(AND(Z32<>0,Z32<>\"Unknown\",Z32<>\"Not required\"),IF(COUNTRY_INFO!K32=1,0,IF(COUNTRY_INFO!K32=2,0.2*COUNTRY_INFO!G32/(0.5*COUNTRY_INFO!F32+0.2*COUNTRY_INFO!G32),IF(COUNTRY_INFO!K32=3,COUNTRY_INFO!G32/(COUNTRY_INFO!F32+COUNTRY_INFO!G32)))),0)","v":0.46352681817938274},{"$f":"MAX(COUNTRY_INFO!D32*AK32*PROFILE!$G$7,COUNTRY_INFO!D32*AL32*PROFILE!$G$7)","v":0},{"$f":"MAX(COUNTRY_INFO!D32*AK32*PROFILE!$G$8,COUNTRY_INFO!D32*AL32*PROFILE!$G$8,COUNTRY_INFO!D32*AM32*PROFILE!$G$8)","v":79641.598756859821},{"$f":"MAX(COUNTRY_INFO!D32*AK32*PROFILE!$G$9,COUNTRY_INFO!D32*AL32*PROFILE!$G$9,COUNTRY_INFO!D32*AM32*PROFILE!$G$9,IF(AND(DISTRICT!Z32<>\"Unknown\",Z32<>\"Not required\"),COUNTRY_INFO!O32*DISTRICT!AN32,0))","v":156208.69475471639},{"$f":"MAX(COUNTRY_INFO!D32*AK32*PROFILE!$G$10,COUNTRY_INFO!D32*AL32*PROFILE!$G$10,IF(AND(DISTRICT!Z32<>\"Unknown\",Z32<>\"Not required\"),COUNTRY_INFO!O32*DISTRICT!AO32,0))","v":95163.400000000009},331013.69351157622,0,{"$f":"MAX('MDA2'!J32,'T1'!L32,'T2'!J32,T3_R1!K32,T3_R2!K32)","v":0},{"$f":"MAX('MDA1'!K32,'MDA2'!K32,'MDA3'!I32,'MDA3'!L32,'T1'!M32,'T2'!K32,T3_R1!L32,T3_R2!L32)","v":214190},{"$f":"MAX('MDA1'!L32,'MDA2'!L32,'MDA3'!J32,'MDA3'!M32,'T1'!N32,'T2'!L32,T3_R1!M32,T3_R2!M32)","v":0},214190,{"$f":"MAX('MDA2'!J32,T32)","v":0},{"$f":"MAX('MDA1'!K32,'MDA2'!K32,'MDA3'!I32,'MDA3'!L32,V32,AD32)","v":214190},{"$f":"MAX('MDA1'!L32,'MDA2'!L32,'MDA3'!J32,'MDA3'!M32,AF32)","v":0},214190,64.707292839687113]
[{"$f":"IF(COUNTRY_INFO!A33=0,\" \",COUNTRY_INFO!A33)","v":"Tanzania"},{"$f":"IF(COUNTRY_INFO!B33=0,\" \",COUNTRY_INFO!B33)","v":"Geita"},{"$f":"IF(COUNTRY_INFO!C33=0,\" \",COUNTRY_INFO!C33)","v":"Geita Town Council"},{"$f":"COUNTRY_INFO!L33","v":0},null,null,{"$f":"MAX('MDA1'!M33,'MDA2'!M33)","v":0},{"$f":"IF(AND(COUNTRY_INFO!H33>0,COUNTRY_INFO!H33<4),IF(D33>MAX('MDA1'!M33,'MDA2'!M33),MAX('MDA1'!M33,'MDA2'!M33),D33),0)","v":0},{"$f":"IF(AND(COUNTRY_INFO!H33>0,COUNTRY_INFO!H33<4), IF(G33/D33*100<>0, IF(G33/D33*100>100,100,G33/D33*100), \"-\"),0)","v":0},{"$f":"COUNTRY_INFO!M33","v":0},null,null,{"$f":"MAX('MDA1'!M33,MAX('MDA3'!I33,'MDA3'!L33)+MAX('MDA3'!J33,'MDA3'!M33))","v":0},{"$f":"IF(AND(COUNTRY_INFO!I33>0,COUNTRY_INFO!I33<4),IF(J33>MAX('MDA1'!M33,MAX('MDA3'!I33,'MDA3'!L33)+MAX('MDA3'!J33,'MDA3'!M33)),MAX('MDA1'!M33,MAX('MDA3'!I33,'MDA3'!L33)+MAX('MDA3'!J33,'MDA3'!M33)),J33),0)","v":0},{"$f":"IF(AND(COUNTRY_INFO!I33>0,COUNTRY_INFO!I33<4), IF(M33/J33*100<>0, IF(M33/J33*100>100,100,M33/J33*100), \"-\"),0)","v":0},{"$f":"COUNTRY_INFO!N33","v":75676},null,null,{"$f":"SUM(MAX('MDA2'!J33, 'T1'!L33, MAX(T3_R1!K33, T3_R2!K33)), MAX('MDA1'!K33, 'MDA2'!K33, 'T1'!M33, MAX(T3_R1!L33, T3_R2!L33)), MAX('MDA1'!L33, 'MDA2'!L33, 'T1'!N33, MAX(T3_R1!M33, T3_R2!M33)))","v":65091},{"$f":"IF(AND(COUNTRY_INFO!J33>1,COUNTRY_INFO!J33<4),IF(COUNTRY_INFO!E33>MAX('MDA2'!J33,'T1'!L33,MAX(T3_R1!K33,T3_R2!K33)),MAX('MDA2'!J33,'T1'!L33,MAX(T3_R1!K33,T3_R2!K33)),COUNTRY_INFO!E33),0)","v":0},{"$f":"IF(AND(COUNTRY_INFO!J33>1,COUNTRY_INFO!J33<4), IF(T33/COUNTRY_INFO!E33*100<>0, IF(T33/COUNTRY_INFO!E33*100>100,100,T33/COUNTRY_INFO!E33*100), \"-\"),0)","v":"-"},{"$f":"IF(AND(COUNTRY_INFO!J33>1,COUNTRY_INFO!J33<4),IF(COUNTRY_INFO!F33>MAX('MDA1'!K33,'MDA2'!K33,'T1'!M33,MAX(T3_R1!L33,T3_R2!L33)),MAX('MDA1'!K33,'MDA2'!K33,'T1'!M33,MAX(T3_R1!L33,T3_R2!L33)),COUNTRY_INFO!F33),0)","v":65091},{"$f":"IF(AND(COUNTRY_INFO!J33>1,COUNTRY_INFO!J33<4), IF(V33/COUNTRY_INFO!F33*100<>0, IF(V33/COUNTRY_INFO!F33*100>100,100,V33/COUNTRY_INFO!F33*100), \"-\"),0)","v":93.799175721243913},65091,{"$f":"IF(AND(COUNTRY_INFO!J33>1,COUNTRY_INFO!J33<4), IF(S33/P33*100<>0, IF(X33/P33*100>100,100,X33/P33*100), \"-\"),0)","v":86.012738516834929},{"$f":"COUNTRY_INFO!O33","v":64520.2},null,null,{"$f":"MAX('T1'!L33,'T2'!J33)+MAX('T1'!M33,'T2'!K33)+MAX('T1'!N33,'T2'!L33)","v":0},{"$f":"IF(COUNTRY_INFO!K33=1,IF(COUNTRY_INFO!F33*0.33>MAX('T1'!M33,'T2'!K33),MAX('T1'!M33,'T2'!K33),COUNTRY_INFO!F33*0.33),IF(COUNTRY_INFO!K33=2,IF(COUNTRY_INFO!F33*0.5>MAX('T1'!M33,'T2'!K33),MAX('T1'!M33,'T2'!K33),COUNTRY_INFO!F33*0.5),IF(COUNTRY_INFO!K33=3,IF(COUNTRY_INFO!F33>MAX('T1'!M33,'T2'!K33),MAX('T1'!M33,'T2'!K33),COUNTRY_INFO!F33),0)))","v":0},{"$f":"IF(AND(COUNTRY_INFO!K33>0,COUNTRY_INFO!K33<4),IF(Z33>0,IF(COUNTRY_INFO!K33=1, AD33/(COUNTRY_INFO!F33*0.33)*100, IF(COUNTRY_INFO!K33=2, AD33/(COUNTRY_INFO!F33*0.5)*100, IF(COUNTRY_INFO!K33=3, AD33/COUNTRY_INFO!F33*100))),\"-\"),0)","v":0},{"$f":"IF(COUNTRY_INFO!K33=2,IF(COUNTRY_INFO!G33*0.2>MAX('T1'!N33,'T2'!L33),MAX('T1'!N33,'T2'!L33),COUNTRY_INFO!G33*0.2),IF(COUNTRY_INFO!K33=3,IF(COUNTRY_INFO!G33>MAX('T1'!N33,'T2'!L33),MAX('T1'!N33,'T2'!L33),COUNTRY_INFO!G33),0))","v":0},{"$f":"IF(AND(COUNTRY_INFO!K33>0,COUNTRY_INFO!K33<4),IF(Z33>0,IF(COUNTRY_INFO!K33=1, 0, IF(COUNTRY_INFO!K33=2, AF33/(COUNTRY_INFO!G33*0.2)*100, IF(COUNTRY_INFO!K33=3, AF33/COUNTRY_INFO!G33*100))),\"-\"),0)","v":0},0,{"$f":"IF(AND(COUNTRY_INFO!K33>0,COUNTRY_INFO!K33<4), IF(AC33/Z33*100<>0, IF(AH33/Z33*100>100,100,AH33/Z33*100), \"-\"),0)","v":"-"},null,{"$f":"IF(AND(D33<>0, D33<>\"Unknown\",D33<>\"Stopped\",D33<>\"Not required\"),D33/COUNTRY_INFO!D33, 0)","v":0},{"$f":"IF(AND(J33<>0,J33<>\"Unknown\",J33<>\"Stopped\",J33<>\"Not required\"),J33/COUNTRY_INFO!D33, 0)","v":0},{"$f":"IF(AND(P33<>0,P33<>\"Unknown\",P33<>\"Not required\"),P33/(COUNTRY_INFO!E33+COUNTRY_INFO!F33), 0)","v":1},{"$f":"IF(AND(Z33<>0,Z33<>\"Unknown\",Z33<>\"Not required\"),IF(COUNTRY_INFO!K33=1,1,IF(COUNTRY_INFO!K33=2,0.5*COUNTRY_INFO!F33/(0.5*COUNTRY_INFO!F33+0.2*COUNTRY_INFO!G33),IF(COUNTRY_INFO!K33=3,COUNTRY_INFO!F33/(COUNTRY_INFO!F33+COUNTRY_INFO!G33)))),0)","v":0.53776956674033871},{"$f":"IF(AND(Z33<>0,Z33<>\"Unknown\",Z33<>\"Not required\"),IF(COUNTRY_INFO!K33=1,0,IF(COUNTRY_INFO!K33=2,0.2*COUNTRY_INFO!G33/(0.5*COUNTRY_INFO!F33+0.2*COUNTRY_INFO!G33),IF(COUNTRY_INFO!K33=3,COUNTRY_INFO!G33/(COUNTRY_INFO!F33+COUNTRY_INFO!G33)))),0)","v":0.46223043325966134},{"$f":"MAX(COUNTRY_INFO!D33*AK33*PROFILE!$G$7,COUNTRY_INFO!D33*AL33*PROFILE!$G$7)","v":0},{"$f":"MAX(COUNTRY_INFO!D33*AK33*PROFILE!$G$8,COUNTRY_INFO!D33*AL33*PROFILE!$G$8,COUNTRY_INFO!D33*AM33*PROFILE!$G$8)","v":24958.795511675871},{"$f":"MAX(COUNTRY_INFO!D33*AK33*PROFILE!$G$9,COUNTRY_INFO!D33*AL33*PROFILE!$G$9,COUNTRY_INFO!D33*AM33*PROFILE!$G$9,IF(AND(DISTRICT!Z33<>\"Unknown\",Z33<>\"Not required\"),COUNTRY_INFO!O33*DISTRICT!AN33,0))","v":48954.075889805579},{"$f":"MAX(COUNTRY_INFO!D33*AK33*PROFILE!$G$10,COUNTRY_INFO!D33*AL33*PROFILE!$G$10,IF(AND(DISTRICT!Z33<>\"Unknown\",Z33<>\"Not required\"),COUNTRY_INFO!O33*DISTRICT!AO33,0))","v":29823.200000000001},103736.07140148144,0,{"$f":"MAX('MDA2'!J33,'T1'!L33,'T2'!J33,T3_R1!K33,T3_R2!K33)","v":0},{"$f":"MAX('MDA1'!K33,'MDA2'!K33,'MDA3'!I33,'MDA3'!L33,'T1'!M33,'T2'!K33,T3_R1!L33,T3_R2!L33)","v":65091},{"$f":"MAX('MDA1'!L33,'MDA2'!L33,'MDA3'!J33,'MDA3'!M33,'T1'!N33,'T2'!L33,T3_R1!M33,T3_R2!M33)","v":0},65091,{"$f":"MAX('MDA2'!J33,T33)","v":0},{"$f":"MAX('MDA1'!K33,'MDA2'!K33,'MDA3'!I33,'MDA3'!L33,V33,AD33)","v":65091},{"$f":"MAX('MDA1'!L33,'MDA2'!L33,'MDA3'!J33,'MDA3'!M33,AF33)","v":0},65091,62.746737099849767]
[{"$f":"IF(COUNTRY_INFO!A34=0,\" \",COUNTRY_INFO!A34)","v":"Tanzania"},{"$f":"IF(COUNTRY_INFO!B34=0,\" \",COUNTRY_INFO!B34)","v":"Geita"},{"$f":"IF(COUNTRY_INFO!C34=0,\" \",COUNTRY_INFO!C34)","v":"Mbogwe District Council"},{"$f":"COUNTRY_INFO!L34","v":0},null,null,{"$f":"MAX('MDA1'!M34,'MDA2'!M34)","v":0},{"$f":"IF(AND(COUNTRY_INFO!H34>0,COUNTRY_INFO!H34<4),IF(D34>MAX('MDA1'!M34,'MDA2'!M34),MAX('MDA1'!M34,'MDA2'!M34),D34),0)","v":0},{"$f":"IF(AND(COUNTRY_INFO!H34>0,COUNTRY_INFO!H34<4), IF(G34/D34*100<>0, IF(G34/D34*100>100,100,G34/D34*100), \"-\"),0)","v":0},{"$f":"COUNTRY_INFO!M34","v":0},null,null,{"$f":"MAX('MDA1'!M34,MAX('MDA3'!I34,'MDA3'!L34)+MAX('MDA3'!J34,'MDA3'!M34))","v":0},{"$f":"IF(AND(COUNTRY_INFO!I34>0,COUNTRY_INFO!I34<4),IF(J34>MAX('MDA1'!M34,MAX('MDA3'!I34,'MDA3'!L34)+MAX('MDA3'!J34,'MDA3'!M34)),MAX('MDA1'!M34,MAX('MDA3'!I34,'MDA3'!L34)+MAX('MDA3'!J34,'MDA3'!M34)),J34),0)","v":0},{"$f":"IF(AND(COUNTRY_INFO!I34>0,COUNTRY_INFO!I34<4), IF(M34/J34*100<>0, IF(M34/J34*100>100,100,M34/J34*100), \"-\"),0)","v":0},{"$f":"COUNTRY_INFO!N34","v":78504},null,null,{"$f":"SUM(MAX('MDA2'!J34, 'T1'!L34, MAX(T3_R1!K34, T3_R2!K34)), MAX('MDA1'!K34, 'MDA2'!K34, 'T1'!M34, MAX(T3_R1!L34, T3_R2!L34)), MAX('MDA1'!L34, 'MDA2'!L34, 'T1'!N34, MAX(T3_R1!M34, T3_R2!M34)))","v":68027},{"$f":"IF(AND(COUNTRY_INFO!J34>1,COUNTRY_INFO!J34<4),IF(COUNTRY_INFO!E34>MAX('MDA2'!J34,'T1'!L34,MAX(T3_R1!K34,T3_R2!K34)),MAX('MDA2'!J34,'T1'!L34,MAX(T3_R1!K34,T3_R2!K34)),COUNTRY_INFO!E34),0)","v":0},{"$f":"IF(AND(COUNTRY_INFO!J34>1,COUNTRY_INFO!J34<4), IF(T34/COUNTRY_INFO!E34*100<>0, IF(T34/COUNTRY_INFO!E34*100>100,100,T34/COUNTRY_INFO!E34*100), \"-\"),0)","v":"-"},{"$f":"IF(AND(COUNTRY_INFO!J34>1,COUNTRY_INFO!J34<4),IF(COUNTRY_INFO!F34>MAX('MDA1'!K34,'MDA2'!K34,'T1'!M34,MAX(T3_R1!L34,T3_R2!L34)),MAX('MDA1'!K34,'MDA2'!K34,'T1'!M34,MAX(T3_R1!L34,T3_R2!L34)),COUNTRY_INFO!F34),0)","v":68027},{"$f":"IF(AND(COUNTRY_INFO!J34>1,COUNTRY_INFO!J34<4), IF(V34/COUNTRY_INFO!F34*100<>0, IF(V34/COUNTRY_INFO!F34*100>100,100,V34/COUNTRY_INFO!F34*100), \"-\"),0)","v":89.969713401489201},68027,{"$f":"IF(AND(COUNTRY_INFO!J34>1,COUNTRY_INFO!J34<4), IF(S34/P34*100<>0, IF(X34/P34*100>100,100,X34/P34*100), \"-\"),0)","v":86.654183226332421},{"$f":"COUNTRY_INFO!O34","v":67346.7},null,null,{"$f":"MAX('T1'!L34,'T2'!J34)+MAX('T1'!M34,'T2'!K34)+MAX('T1'!N34,'T2'!L34)","v":0},{"$f":"IF(COUNTRY_INFO!K34=1,IF(COUNTRY_INFO!F34*0.33>MAX('T1'!M34,'T2'!K34),MAX('T1'!M34,'T2'!K34),COUNTRY_INFO!F34*0.33),IF(COUNTRY_INFO!K34=2,IF(COUNTRY_INFO!F34*0.5>MAX('T1'!M34,'T2'!K34),MAX('T1'!M34,'T2'!K34),COUNTRY_INFO!F34*0.5),IF(COUNTRY_INFO!K34=3,IF(COUNTRY_INFO!F34>MAX('T1'!M34,'T2'!K34),MAX('T1'!M34,'T2'!K34),COUNTRY_INFO!F34),0)))","v":0},{"$f":"IF(AND(COUNTRY_INFO!K34>0,COUNTRY_INFO!K34<4),IF(Z34>0,IF(COUNTRY_INFO!K34=1, AD34/(COUNTRY_INFO!F34*0.33)*100, IF(COUNTRY_INFO!K34=2, AD34/(COUNTRY_INFO!F34*0.5)*100, IF(COUNTRY_INFO!K34=3, AD34/COUNTRY_INFO!F34*100))),\"-\"),0)","v":0},{"$f":"IF(COUNTRY_INFO!K34=2,IF(COUNTRY_INFO!G34*0.2>MAX('T1'!N34,'T2'!L34),MAX('T1'!N34,'T2'!L34),COUNTRY_INFO!G34*0.2),IF(COUNTRY_INFO!K34=3,IF(COUNTRY_INFO!G34>MAX('T1'!N34,'T2'!L34),MAX('T1'!N34,'T2'!L34),COUNTRY_INFO!G34),0))","v":0},{"$f":"IF(AND(COUNTRY_INFO!K34>0,COUNTRY_INFO!K34<4),IF(Z34>0,IF(COUNTRY_INFO!K34=1, 0, IF(COUNTRY_INFO!K34=2, AF34/(COUNTRY_INFO!G34*0.2)*100, IF(COUNTRY_INFO!K34=3, AF34/COUNTRY_INFO!G34*100))),\"-\"),0)","v":0},0,{"$f":"IF(AND(COUNTRY_INFO!K34>0,COUNTRY_INFO!K34<4), IF(AC34/Z34*100<>0, IF(AH34/Z34*100>100,100,AH34/Z34*100), \"-\"),0)","v":"-"},null,{"$f":"IF(AND(D34<>0, D34<>\"Unknown\",D34<>\"Stopped\",D34<>\"Not required\"),D34/COUNTRY_INFO!D34, 0)","v":0},{"$f":"IF(AND(J34<>0,J34<>\"Unknown\",J34<>\"Stopped\",J34<>\"Not required\"),J34/COUNTRY_INFO!D34, 0)","v":0},{"$f":"IF(AND(P34<>0,P34<>\"Unknown\",P34<>\"Not required\"),P34/(COUNTRY_INFO!E34+COUNTRY_INFO!F34), 0)","v":1},{"$f":"IF(AND(Z34<>0,Z34<>\"Unknown\",Z34<>\"Not required\"),IF(COUNTRY_INFO!K34=1,1,IF(COUNTRY_INFO!K34=2,0.5*COUNTRY_INFO!F34/(0.5*COUNTRY_INFO!F34+0.2*COUNTRY_INFO!G34),IF(COUNTRY_INFO!K34=3,COUNTRY_INFO!F34/(COUNTRY_INFO!F34+COUNTRY_INFO!G34)))),0)","v":0.56135638420293799},{"$f":"IF(AND(Z34<>0,Z34<>\"Unknown\",Z34<>\"Not required\"),IF(COUNTRY_INFO!K34=1,0,IF(COUNTRY_INFO!K34=2,0.2*COUNTRY_INFO!G34/(0.5*COUNTRY_INFO!F34+0.2*COUNTRY_INFO!G34),IF(COUNTRY_INFO!K34=3,COUNTRY_INFO!G34/(COUNTRY_INFO!F34+COUNTRY_INFO!G34)))),0)","v":0.43864361579706213},{"$f":"MAX(COUNTRY_INFO!D34*AK34*PROFILE!$G$7,COUNTRY_INFO!D34*AL34*PROFILE!$G$7)","v":0},{"$f":"MAX(COUNTRY_INFO!D34*AK34*PROFILE!$G$8,COUNTRY_INFO!D34*AL34*PROFILE!$G$8,COUNTRY_INFO!D34*AM34*PROFILE!$G$8)","v":25116.236933236945},{"$f":"MAX(COUNTRY_INFO!D34*AK34*PROFILE!$G$9,COUNTRY_INFO!D34*AL34*PROFILE!$G$9,COUNTRY_INFO!D34*AM34*PROFILE!$G$9,IF(AND(DISTRICT!Z34<>\"Unknown\",Z34<>\"Not required\"),COUNTRY_INFO!O34*DISTRICT!AN34,0))","v":49262.880827755973},{"$f":"MAX(COUNTRY_INFO!D34*AK34*PROFILE!$G$10,COUNTRY_INFO!D34*AL34*PROFILE!$G$10,IF(AND(DISTRICT!Z34<>\"Unknown\",Z34<>\"Not required\"),COUNTRY_INFO!O34*DISTRICT!AO34,0))","v":29541.200000000004},103920.31776099291,0,{"$f":"MAX('MDA2'!J34,'T1'!L34,'T2'!J34,T3_R1!K34,T3_R2!K34)","v":0},{"$f":"MAX('MDA1'!K34,'MDA2'!K34,'MDA3'!I34,'MDA3'!L34,'T1'!M34,'T2'!K34,T3_R1!L34,T3_R2!L34)","v":68027},{"$f":"MAX('MDA1'!L34,'MDA2'!L34,'MDA3'!J34,'MDA3'!M34,'T1'!N34,'T2'!L34,T3_R1!M34,T3_R2!M34)","v":0},68027,{"$f":"MAX('MDA2'!J34,T34)","v":0},{"$f":"MAX('MDA1'!K34,'MDA2'!K34,'MDA3'!I34,'MDA3'!L34,V34,AD34)","v":68027},{"$f":"MAX('MDA1'!L34,'MDA2'!L34,'MDA3'!J34,'MDA3'!M34,AF34)","v":0},68027,65.460731323450901]
[{"$f":"IF(COUNTRY_INFO!A35=0,\" \",COUNTRY_INFO!A35)","v":"Tanzania"},{"$f":"IF(COUNTRY_INFO!B35=0,\" \",COUNTRY_INFO!B35)","v":"Geita"},{"$f":"IF(COUNTRY_INFO!C35=0,\" \",COUNTRY_INFO!C35)","v":"Nyang'hwale District Council"},{"$f":"COUNTRY_INFO!L35","v":0},null,null,{"$f":"MAX('MDA1'!M35,'MDA2'!M35)","v":0},{"$f":"IF(AND(COUNTRY_INFO!H35>0,COUNTRY_INFO!H35<4),IF(D35>MAX('MDA1'!M35,'MDA2'!M35),MAX('MDA1'!M35,'MDA2'!M35),D35),0)","v":0},{"$f":"IF(AND(COUNTRY_INFO!H35>0,COUNTRY_INFO!H35<4), IF(G35/D35*100<>0, IF(G35/D35*100>100,100,G35/D35*100), \"-\"),0)","v":0},{"$f":"COUNTRY_INFO!M35","v":0},null,null,{"$f":"MAX('MDA1'!M35,MAX('MDA3'!I35,'MDA3'!L35)+MAX('MDA3'!J35,'MDA3'!M35))","v":0},{"$f":"IF(AND(COUNTRY_INFO!I35>0,COUNTRY_INFO!I35<4),IF(J35>MAX('MDA1'!M35,MAX('MDA3'!I35,'MDA3'!L35)+MAX('MDA3'!J35,'MDA3'!M35)),MAX('MDA1'!M35,MAX('MDA3'!I35,'MDA3'!L35)+MAX('MDA3'!J35,'MDA3'!M35)),J35),0)","v":0},{"$f":"IF(AND(COUNTRY_INFO!I35>0,COUNTRY_INFO!I35<4), IF(M35/J35*100<>0, IF(M35/J35*100>100,100,M35/J35*100), \"-\"),0)","v":0},{"$f":"COUNTRY_INFO!N35","v":59780},null,null,{"$f":"SUM(MAX('MDA2'!J35, 'T1'!L35, MAX(T3_R1!K35, T3_R2!K35)), MAX('MDA1'!K35, 'MDA2'!K35, 'T1'!M35, MAX(T3_R1!L35, T3_R2!L35)), MAX('MDA1'!L35, 'MDA2'!L35, 'T1'!N35, MAX(T3_R1!M35, T3_R2!M35)))","v":47813},{"$f":"IF(AND(COUNTRY_INFO!J35>1,COUNTRY_INFO!J35<4),IF(COUNTRY_INFO!E35>MAX('MDA2'!J35,'T1'!L35,MAX(T3_R1!K35,T3_R2!K35)),MAX('MDA2'!J35,'T1'!L35,MAX(T3_R1!K35,T3_R2!K35)),COUNTRY_INFO!E35),0)","v":0},{"$f":"IF(AND(COUNTRY_INFO!J35>1,COUNTRY_INFO!J35<4), IF(T35/COUNTRY_INFO!E35*100<>0, IF(T35/COUNTRY_INFO!E35*100>100,100,T35/COUNTRY_INFO!E35*100), \"-\"),0)","v":"-"},{"$f":"IF(AND(COUNTRY_INFO!J35>1,COUNTRY_INFO!J35<4),IF(COUNTRY_INFO!F35>MAX('MDA1'!K35,'MDA2'!K35,'T1'!M35,MAX(T3_R1!L35,T3_R2!L35)),MAX('MDA1'!K35,'MDA2'!K35,'T1'!M35,MAX(T3_R1!L35,T3_R2!L35)),COUNTRY_INFO!F35),0)","v":47813},{"$f":"IF(AND(COUNTRY_INFO!J35>1,COUNTRY_INFO!J35<4), IF(V35/COUNTRY_INFO!F35*100<>0, IF(V35/COUNTRY_INFO!F35*100>100,100,V35/COUNTRY_INFO!F35*100), \"-\"),0)","v":94.677333122116394},47813,{"$f":"IF(AND(COUNTRY_INFO!J35>1,COUNTRY_INFO!J35<4), IF(S35/P35*100<>0, IF(X35/P35*100>100,100,X35/P35*100), \"-\"),0)","v":79.981599197055871},{"$f":"COUNTRY_INFO!O35","v":47897.5},null,null,{"$f":"MAX('T1'!L35,'T2'!J35)+MAX('T1'!M35,'T2'!K35)+MAX('T1'!N35,'T2'!L35)","v":0},{"$f":"IF(COUNTRY_INFO!K35=1,IF(COUNTRY_INFO!F35*0.33>MAX('T1'!M35,'T2'!K35),MAX('T1'!M35,'T2'!K35),COUNTRY_INFO!F35*0.33),IF(COUNTRY_INFO!K35=2,IF(COUNTRY_INFO!F35*0.5>MAX('T1'!M35,'T2'!K35),MAX('T1'!M35,'T2'!K35),COUNTRY_INFO!F35*0.5),IF(COUNTRY_INFO!K35=3,IF(COUNTRY_INFO!F35>MAX('T1'!M35,'T2'!K35),MAX('T1'!M35,'T2'!K35),COUNTRY_INFO!F35),0)))","v":0},{"$f":"IF(AND(COUNTRY_INFO!K35>0,COUNTRY_INFO!K35<4),IF(Z35>0,IF(COUNTRY_INFO!K35=1, AD35/(COUNTRY_INFO!F35*0.33)*100, IF(COUNTRY_INFO!K35=2, AD35/(COUNTRY_INFO!F35*0.5)*100, IF(COUNTRY_INFO!K35=3, AD35/COUNTRY_INFO!F35*100))),\"-\"),0)","v":0},{"$f":"IF(COUNTRY_INFO!K35=2,IF(COUNTRY_INFO!G35*0.2>MAX('T1'!N35,'T2'!L35),MAX('T1'!N35,'T2'!L35),COUNTRY_INFO!G35*0.2),IF(COUNTRY_INFO!K35=3,IF(COUNTRY_INFO!G35>MAX('T1'!N35,'T2'!L35),MAX('T1'!N35,'T2'!L35),COUNTRY_INFO!G35),0))","v":0},{"$f":"IF(AND(COUNTRY_INFO!K35>0,COUNTRY_INFO!K35<4),IF(Z35>0,IF(COUNTRY_INFO!K35=1, 0, IF(COUNTRY_INFO!K35=2, AF35/(COUNTRY_INFO!G35*0.2)*100, IF(COUNTRY_INFO!K35=3, AF35/COUNTRY_INFO!G35*100))),\"-\"),0)","v":0},0,{"$f":"IF(AND(COUNTRY_INFO!K35>0,COUNTRY_INFO!K35<4), IF(AC35/Z35*100<>0, IF(AH35/Z35*100>100,100,AH35/Z35*100), \"-\"),0)","v":"-"},null,{"$f":"IF(AND(D35<>0, D35<>\"Unknown\",D35<>\"Stopped\",D35<>\"Not required\"),D35/COUNTRY_INFO!D35, 0)","v":0},{"$f":"IF(AND(J35<>0,J35<>\"Unknown\",J35<>\"Stopped\",J35<>\"Not required\"),J35/COUNTRY_INFO!D35, 0)","v":0},{"$f":"IF(AND(P35<>0,P35<>\"Unknown\",P35<>\"Not required\"),P35/(COUNTRY_INFO!E35+COUNTRY_INFO!F35), 0)","v":1},{"$f":"IF(AND(Z35<>0,Z35<>\"Unknown\",Z35<>\"Not required\"),IF(COUNTRY_INFO!K35=1,1,IF(COUNTRY_INFO!K35=2,0.5*COUNTRY_INFO!F35/(0.5*COUNTRY_INFO!F35+0.2*COUNTRY_INFO!G35),IF(COUNTRY_INFO!K35=3,COUNTRY_INFO!F35/(COUNTRY_INFO!F35+COUNTRY_INFO!G35)))),0)","v":0.5271778276528003},{"$f":"IF(AND(Z35<>0,Z35<>\"Unknown\",Z35<>\"Not required\"),IF(COUNTRY_INFO!K35=1,0,IF(COUNTRY_INFO!K35=2,0.2*COUNTRY_INFO!G35/(0.5*COUNTRY_INFO!F35+0.2*COUNTRY_INFO!G35),IF(COUNTRY_INFO!K35=3,COUNTRY_INFO!G35/(COUNTRY_INFO!F35+COUNTRY_INFO!G35)))),0)","v":0.47282217234719975},{"$f":"MAX(COUNTRY_INFO!D35*AK35*PROFILE!$G$7,COUNTRY_INFO!D35*AL35*PROFILE!$G$7)","v":0},{"$f":"MAX(COUNTRY_INFO!D35*AK35*PROFILE!$G$8,COUNTRY_INFO!D35*AL35*PROFILE!$G$8,COUNTRY_INFO!D35*AM35*PROFILE!$G$8)","v":19209.963012262895},{"$f":"MAX(COUNTRY_INFO!D35*AK35*PROFILE!$G$9,COUNTRY_INFO!D35*AL35*PROFILE!$G$9,COUNTRY_INFO!D35*AM35*PROFILE!$G$9,IF(AND(DISTRICT!Z35<>\"Unknown\",Z35<>\"Not required\"),COUNTRY_INFO!O35*DISTRICT!AN35,0))","v":37678.34015478626},{"$f":"MAX(COUNTRY_INFO!D35*AK35*PROFILE!$G$10,COUNTRY_INFO!D35*AL35*PROFILE!$G$10,IF(AND(DISTRICT!Z35<>\"Unknown\",Z35<>\"Not required\"),COUNTRY_INFO!O35*DISTRICT!AO35,0))","v":22647},79535.303167049162,0,{"$f":"MAX('MDA2'!J35,'T1'!L35,'T2'!J35,T3_R1!K35,T3_R2!K35)","v":0},{"$f":"MAX('MDA1'!K35,'MDA2'!K35,'MDA3'!I35,'MDA3'!L35,'T1'!M35,'T2'!K35,T3_R1!L35,T3_R2!L35)","v":47813},{"$f":"MAX('MDA1'!L35,'MDA2'!L35,'MDA3'!J35,'MDA3'!M35,'T1'!N35,'T2'!L35,T3_R1!M35,T3_R2!M35)","v":0},47813,{"$f":"MAX('MDA2'!J35,T35)","v":0},{"$f":"MAX('MDA1'!K35,'MDA2'!K35,'MDA3'!I35,'MDA3'!L35,V35,AD35)","v":47813},{"$f":"MAX('MDA1'!L35,'MDA2'!L35,'MDA3'!J35,'MDA3'!M35,AF35)","v":0},47813,60.115443200835806]
[{"$f":"IF(COUNTRY_INFO!A36=0,\" \",COUNTRY_INFO!A36)","v":"Tanzania"},{"$f":"IF(COUNTRY_INFO!B36=0,\" \",COUNTRY_INFO!B36)","v":"Iringa"},{"$f":"IF(COUNTRY_INFO!C36=0,\" \",COUNTRY_INFO!C36)","v":"Iringa District Council"},{"$f":"COUNTRY_INFO!L36","v":"Stopped"},null,null,{"$f":"MAX('MDA1'!M36,'MDA2'!M36)","v":0},{"$f":"IF(AND(COUNTRY_INFO!H36>0,COUNTRY_INFO!H36<4),IF(D36>MAX('MDA1'!M36,'MDA2'!M36),MAX('MDA1'!M36,'MDA2'!M36),D36),0)","v":0},{"$f":"IF(AND(COUNTRY_INFO!H36>0,COUNTRY_INFO!H36<4), IF(G36/D36*100<>0, IF(G36/D36*100>100,100,G36/D36*100), \"-\"),0)","v":0},{"$f":"COUNTRY_INFO!M36","v":0},null,null,{"$f":"MAX('MDA1'!M36,MAX('MDA3'!I36,'MDA3'!L36)+MAX('MDA3'!J36,'MDA3'!M36))","v":0},{"$f":"IF(AND(COUNTRY_INFO!I36>0,COUNTRY_INFO!I36<4),IF(J36>MAX('MDA1'!M36,MAX('MDA3'!I36,'MDA3'!L36)+MAX('MDA3'!J36,'MDA3'!M36)),MAX('MDA1'!M36,MAX('MDA3'!I36,'MDA3'!L36)+MAX('MDA3'!J36,'MDA3'!M36)),J36),0)","v":0},{"$f":"IF(AND(COUNTRY_INFO!I36>0,COUNTRY_INFO!I36<4), IF(M36/J36*100<>0, IF(M36/J36*100>100,100,M36/J36*100), \"-\"),0)","v":0},{"$f":"COUNTRY_INFO!N36","v":91400},null,null,{"$f":"SUM(MAX('MDA2'!J36, 'T1'!L36, MAX(T3_R1!K36, T3_R2!K36)), MAX('MDA1'!K36, 'MDA2'!K36, 'T1'!M36, MAX(T3_R1!L36, T3_R2!L36)), MAX('MDA1'!L36, 'MDA2'!L36, 'T1'!N36, MAX(T3_R1!M36, T3_R2!M36)))","v":65032},{"$f":"IF(AND(COUNTRY_INFO!J36>1,COUNTRY_INFO!J36<4),IF(COUNTRY_INFO!E36>MAX('MDA2'!J36,'T1'!L36,MAX(T3_R1!K36,T3_R2!K36)),MAX('MDA2'!J36,'T1'!L36,MAX(T3_R1!K36,T3_R2!K36)),COUNTRY_INFO!E36),0)","v":0},{"$f":"IF(AND(COUNTRY_INFO!J36>1,COUNTRY_INFO!J36<4), IF(T36/COUNTRY_INFO!E36*100<>0, IF(T36/COUNTRY_INFO!E36*100>100,100,T36/COUNTRY_INFO!E36*100), \"-\"),0)","v":"-"},{"$f":"IF(AND(COUNTRY_INFO!J36>1,COUNTRY_INFO!J36<4),IF(COUNTRY_INFO!F36>MAX('MDA1'!K36,'MDA2'!K36,'T1'!M36,MAX(T3_R1!L36,T3_R2!L36)),MAX('MDA1'!K36,'MDA2'!K36,'T1'!M36,MAX(T3_R1!L36,T3_R2!L36)),COUNTRY_INFO!F36),0)","v":65032},{"$f":"IF(AND(COUNTRY_INFO!J36>1,COUNTRY_INFO!J36<4), IF(V36/COUNTRY_INFO!F36*100<>0, IF(V36/COUNTRY_INFO!F36*100>100,100,V36/COUNTRY_INFO!F36*100), \"-\"),0)","v":93.459609387350355},65032,{"$f":"IF(AND(COUNTRY_INFO!J36>1,COUNTRY_INFO!J36<4), IF(S36/P36*100<>0, IF(X36/P36*100>100,100,X36/P36*100), \"-\"),0)","v":71.150984682713343},{"$f":"COUNTRY_INFO!O36","v":70764.700000000012},null,null,{"$f":"MAX('T1'!L36,'T2'!J36)+MAX('T1'!M36,'T2'!K36)+MAX('T1'!N36,'T2'!L36)","v":65032},{"$f":"IF(COUNTRY_INFO!K36=1,IF(COUNTRY_INFO!F36*0.33>MAX('T1'!M36,'T2'!K36),MAX('T1'!M36,'T2'!K36),COUNTRY_INFO!F36*0.33),IF(COUNTRY_INFO!K36=2,IF(COUNTRY_INFO!F36*0.5>MAX('T1'!M36,'T2'!K36),MAX('T1'!M36,'T2'!K36),COUNTRY_INFO!F36*0.5),IF(COUNTRY_INFO!K36=3,IF(COUNTRY_INFO!F36>MAX('T1'!M36,'T2'!K36),MAX('T1'!M36,'T2'!K36),COUNTRY_INFO!F36),0)))","v":34791.5},{"$f":"IF(AND(COUNTRY_INFO!K36>0,COUNTRY_INFO!K36<4),IF(Z36>0,IF(COUNTRY_INFO!K36=1, AD36/(COUNTRY_INFO!F36*0.33)*100, IF(COUNTRY_INFO!K36=2, AD36/(COUNTRY_INFO!F36*0.5)*100, IF(COUNTRY_INFO!K36=3, AD36/COUNTRY_INFO!F36*100))),\"-\"),0)","v":100},{"$f":"IF(COUNTRY_INFO!K36=2,IF(COUNTRY_INFO!G36*0.2>MAX('T1'!N36,'T2'!L36),MAX('T1'!N36,'T2'!L36),COUNTRY_INFO!G36*0.2),IF(COUNTRY_INFO!K36=3,IF(COUNTRY_INFO!G36>MAX('T1'!N36,'T2'!L36),MAX('T1'!N36,'T2'!L36),COUNTRY_INFO!G36),0))","v":0},{"$f":"IF(AND(COUNTRY_INFO!K36>0,COUNTRY_INFO!K36<4),IF(Z36>0,IF(COUNTRY_INFO!K36=1, 0, IF(COUNTRY_INFO!K36=2, AF36/(COUNTRY_INFO!G36*0.2)*100, IF(COUNTRY_INFO!K36=3, AF36/COUNTRY_INFO!G36*100))),\"-\"),0)","v":0},34791.5,{"$f":"IF(AND(COUNTRY_INFO!K36>0,COUNTRY_INFO!K36<4), IF(AC36/Z36*100<>0, IF(AH36/Z36*100>100,100,AH36/Z36*100), \"-\"),0)","v":49.165049805906044},null,{"$f":"IF(AND(D36<>0, D36<>\"Unknown\",D36<>\"Stopped\",D36<>\"Not required\"),D36/COUNTRY_INFO!D36, 0)","v":0},{"$f":"IF(AND(J36<>0,J36<>\"Unknown\",J36<>\"Stopped\",J36<>\"Not required\"),J36/COUNTRY_INFO!D36, 0)","v":0},{"$f":"IF(AND(P36<>0,P36<>\"Unknown\",P36<>\"Not required\"),P36/(COUNTRY_INFO!E36+COUNTRY_INFO!F36), 0)","v":1},{"$f":"IF(AND(Z36<>0,Z36<>\"Unknown\",Z36<>\"Not required\"),IF(COUNTRY_INFO!K36=1,1,IF(COUNTRY_INFO!K36=2,0.5*COUNTRY_INFO!F36/(0.5*COUNTRY_INFO!F36+0.2*COUNTRY_INFO!G36),IF(COUNTRY_INFO!K36=3,COUNTRY_INFO!F36/(COUNTRY_INFO!F36+COUNTRY_INFO!G36)))),0)","v":0.49165049805906041},{"$f":"IF(AND(Z36<>0,Z36<>\"Unknown\",Z36<>\"Not required\"),IF(COUNTRY_INFO!K36=1,0,IF(COUNTRY_INFO!K36=2,0.2*COUNTRY_INFO!G36/(0.5*COUNTRY_INFO!F36+0.2*COUNTRY_INFO!G36),IF(COUNTRY_INFO!K36=3,COUNTRY_INFO!G36/(COUNTRY_INFO!F36+COUNTRY_INFO!G36)))),0)","v":0.50834950194093942},{"$f":"MAX(COUNTRY_INFO!D36*AK36*PROFILE!$G$7,COUNTRY_INFO!D36*AL36*PROFILE!$G$7)","v":0},{"$f":"MAX(COUNTRY_INFO!D36*AK36*PROFILE!$G$8,COUNTRY_INFO!D36*AL36*PROFILE!$G$8,COUNTRY_INFO!D36*AM36*PROFILE!$G$8)","v":30118.832624249382},{"$f":"MAX(COUNTRY_INFO!D36*AK36*PROFILE!$G$9,COUNTRY_INFO!D36*AL36*PROFILE!$G$9,COUNTRY_INFO!D36*AM36*PROFILE!$G$9,IF(AND(DISTRICT!Z36<>\"Unknown\",Z36<>\"Not required\"),COUNTRY_INFO!O36*DISTRICT!AN36,0))","v":59074.950844887724},{"$f":"MAX(COUNTRY_INFO!D36*AK36*PROFILE!$G$10,COUNTRY_INFO!D36*AL36*PROFILE!$G$10,IF(AND(DISTRICT!Z36<>\"Unknown\",Z36<>\"Not required\"),COUNTRY_INFO!O36*DISTRICT!AO36,0))","v":35973.200000000004},125166.98346913711,"Y",{"$f":"MAX('MDA2'!J36,'T1'!L36,'T2'!J36,T3_R1!K36,T3_R2!K36)","v":0},{"$f":"MAX('MDA1'!K36,'MDA2'!K36,'MDA3'!I36,'MDA3'!L36,'T1'!M36,'T2'!K36,T3_R1!L36,T3_R2!L36)","v":65032},{"$f":"MAX('MDA1'!L36,'MDA2'!L36,'MDA3'!J36,'MDA3'!M36,'T1'!N36,'T2'!L36,T3_R1!M36,T3_R2!M36)","v":0},65032,{"$f":"MAX('MDA2'!J36,T36)","v":0},{"$f":"MAX('MDA1'!K36,'MDA2'!K36,'MDA3'!I36,'MDA3'!L36,V36,AD36)","v":65032},{"$f":"MAX('MDA1'!L36,'MDA2'!L36,'MDA3'!J36,'MDA3'!M36,AF36)","v":0},65032,51.956193396667729]
[{"$f":"IF(COUNTRY_INFO!A37=0,\" \",COUNTRY_INFO!A37)","v":"Tanzania"},{"$f":"IF(COUNTRY_INFO!B37=0,\" \",COUNTRY_INFO!B37)","v":"Iringa"},{"$f":"IF(COUNTRY_INFO!C37=0,\" \",COUNTRY_INFO!C37)","v":"Iringa Municipal Council"},{"$f":"COUNTRY_INFO!L37","v":"Stopped"},null,null,{"$f":"MAX('MDA1'!M37,'MDA2'!M37)","v":0},{"$f":"IF(AND(COUNTRY_INFO!H37>0,COUNTRY_INFO!H37<4),IF(D37>MAX('MDA1'!M37,'MDA2'!M37),MAX('MDA1'!M37,'MDA2'!M37),D37),0)","v":0},{"$f":"IF(AND(COUNTRY_INFO!H37>0,COUNTRY_INFO!H37<4), IF(G37/D37*100<>0, IF(G37/D37*100>100,100,G37/D37*100), \"-\"),0)","v":0},{"$f":"COUNTRY_INFO!M37","v":0},null,null,{"$f":"MAX('MDA1'!M37,MAX('MDA3'!I37,'MDA3'!L37)+MAX('MDA3'!J37,'MDA3'!M37))","v":0},{"$f":"IF(AND(COUNTRY_INFO!I37>0,COUNTRY_INFO!I37<4),IF(J37>MAX('MDA1'!M37,MAX('MDA3'!I37,'MDA3'!L37)+MAX('MDA3'!J37,'MDA3'!M37)),MAX('MDA1'!M37,MAX('MDA3'!I37,'MDA3'!L37)+MAX('MDA3'!J37,'MDA3'!M37)),J37),0)","v":0},{"$f":"IF(AND(COUNTRY_INFO!I37>0,COUNTRY_INFO!I37<4), IF(M37/J37*100<>0, IF(M37/J37*100>100,100,M37/J37*100), \"-\"),0)","v":0},{"$f":"COUNTRY_INFO!N37","v":46006},null,null,{"$f":"SUM(MAX('MDA2'!J37, 'T1'!L37, MAX(T3_R1!K37, T3_R2!K37)), MAX('MDA1'!K37, 'MDA2'!K37, 'T1'!M37, MAX(T3_R1!L37, T3_R2!L37)), MAX('MDA1'!L37, 'MDA2'!L37, 'T1'!N37, MAX(T3_R1!M37, T3_R2!M37)))","v":30000},{"$f":"IF(AND(COUNTRY_INFO!J37>1,COUNTRY_INFO!J37<4),IF(COUNTRY_INFO!E37>MAX('MDA2'!J37,'T1'!L37,MAX(T3_R1!K37,T3_R2!K37)),MAX('MDA2'!J37,'T1'!L37,MAX(T3_R1!K37,T3_R2!K37)),COUNTRY_INFO!E37),0)","v":0},{"$f":"IF(AND(COUNTRY_INFO!J37>1,COUNTRY_INFO!J37<4), IF(T37/COUNTRY_INFO!E37*100<>0, IF(T37/COUNTRY_INFO!E37*100>100,100,T37/COUNTRY_INFO!E37*100), \"-\"),0)","v":"-"},{"$f":"IF(AND(COUNTRY_INFO!J37>1,COUNTRY_INFO!J37<4),IF(COUNTRY_INFO!F37>MAX('MDA1'!K37,'MDA2'!K37,'T1'!M37,MAX(T3_R1!L37,T3_R2!L37)),MAX('MDA1'!K37,'MDA2'!K37,'T1'!M37,MAX(T3_R1!L37,T3_R2!L37)),COUNTRY_INFO!F37),0)","v":30000},{"$f":"IF(AND(COUNTRY_INFO!J37>1,COUNTRY_INFO!J37<4), IF(V37/COUNTRY_INFO!F37*100<>0, IF(V37/COUNTRY_INFO!F37*100>100,100,V37/COUNTRY_INFO!F37*100), \"-\"),0)","v":91.522011043656008},30000,{"$f":"IF(AND(COUNTRY_INFO!J37>1,COUNTRY_INFO!J37<4), IF(S37/P37*100<>0, IF(X37/P37*100>100,100,X37/P37*100), \"-\"),0)","v":65.208885797504678},{"$f":"COUNTRY_INFO!O37","v":39510.9},null,null,{"$f":"MAX('T1'!L37,'T2'!J37)+MAX('T1'!M37,'T2'!K37)+MAX('T1'!N37,'T2'!L37)","v":30000},{"$f":"IF(COUNTRY_INFO!K37=1,IF(COUNTRY_INFO!F37*0.33>MAX('T1'!M37,'T2'!K37),MAX('T1'!M37,'T2'!K37),COUNTRY_INFO!F37*0.33),IF(COUNTRY_INFO!K37=2,IF(COUNTRY_INFO!F37*0.5>MAX('T1'!M37,'T2'!K37),MAX('T1'!M37,'T2'!K37),COUNTRY_INFO!F37*0.5),IF(COUNTRY_INFO!K37=3,IF(COUNTRY_INFO!F37>MAX('T1'!M37,'T2'!K37),MAX('T1'!M37,'T2'!K37),COUNTRY_INFO!F37),0)))","v":16389.5},{"$f":"IF(AND(COUNTRY_INFO!K37>0,COUNTRY_INFO!K37<4),IF(Z37>0,IF(COUNTRY_INFO!K37=1, AD37/(COUNTRY_INFO!F37*0.33)*100, IF(COUNTRY_INFO!K37=2, AD37/(COUNTRY_INFO!F37*0.5)*100, IF(COUNTRY_INFO!K37=3, AD37/COUNTRY_INFO!F37*100))),\"-\"),0)","v":100},{"$f":"IF(COUNTRY_INFO!K37=2,IF(COUNTRY_INFO!G37*0.2>MAX('T1'!N37,'T2'!L37),MAX('T1'!N37,'T2'!L37),COUNTRY_INFO!G37*0.2),IF(COUNTRY_INFO!K37=3,IF(COUNTRY_INFO!G37>MAX('T1'!N37,'T2'!L37),MAX('T1'!N37,'T2'!L37),COUNTRY_INFO!G37),0))","v":0},{"$f":"IF(AND(COUNTRY_INFO!K37>0,COUNTRY_INFO!K37<4),IF(Z37>0,IF(COUNTRY_INFO!K37=1, 0, IF(COUNTRY_INFO!K37=2, AF37/(COUNTRY_INFO!G37*0.2)*100, IF(COUNTRY_INFO!K37=3, AF37/COUNTRY_INFO!G37*100))),\"-\"),0)","v":0},16389.5,{"$f":"IF(AND(COUNTRY_INFO!K37>0,COUNTRY_INFO!K37<4), IF(AC37/Z37*100<>0, IF(AH37/Z37*100>100,100,AH37/Z37*100), \"-\"),0)","v":41.480958419069168},null,{"$f":"IF(AND(D37<>0, D37<>\"Unknown\",D37<>\"Stopped\",D37<>\"Not required\"),D37/COUNTRY_INFO!D37, 0)","v":0},{"$f":"IF(AND(J37<>0,J37<>\"Unknown\",J37<>\"Stopped\",J37<>\"Not required\"),J37/COUNTRY_INFO!D37, 0)","v":0},{"$f":"IF(AND(P37<>0,P37<>\"Unknown\",P37<>\"Not required\"),P37/(COUNTRY_INFO!E37+COUNTRY_INFO!F37), 0)","v":1},{"$f":"IF(AND(Z37<>0,Z37<>\"Unknown\",Z37<>\"Not required\"),IF(COUNTRY_INFO!K37=1,1,IF(COUNTRY_INFO!K37=2,0.5*COUNTRY_INFO!F37/(0.5*COUNTRY_INFO!F37+0.2*COUNTRY_INFO!G37),IF(COUNTRY_INFO!K37=3,COUNTRY_INFO!F37/(COUNTRY_INFO!F37+COUNTRY_INFO!G37)))),0)","v":0.41480958419069169},{"$f":"IF(AND(Z37<>0,Z37<>\"Unknown\",Z37<>\"Not required\"),IF(COUNTRY_INFO!K37=1,0,IF(COUNTRY_INFO!K37=2,0.2*COUNTRY_INFO!G37/(0.5*COUNTRY_INFO!F37+0.2*COUNTRY_INFO!G37),IF(COUNTRY_INFO!K37=3,COUNTRY_INFO!G37/(COUNTRY_INFO!F37+COUNTRY_INFO!G37)))),0)","v":0.58519041580930831},{"$f":"MAX(COUNTRY_INFO!D37*AK37*PROFILE!$G$7,COUNTRY_INFO!D37*AL37*PROFILE!$G$7)","v":0},{"$f":"MAX(COUNTRY_INFO!D37*AK37*PROFILE!$G$8,COUNTRY_INFO!D37*AL37*PROFILE!$G$8,COUNTRY_INFO!D37*AM37*PROFILE!$G$8)","v":17943.991863716114},{"$f":"MAX(COUNTRY_INFO!D37*AK37*PROFILE!$G$9,COUNTRY_INFO!D37*AL37*PROFILE!$G$9,COUNTRY_INFO!D37*AM37*PROFILE!$G$9,IF(AND(DISTRICT!Z37<>\"Unknown\",Z37<>\"Not required\"),COUNTRY_INFO!O37*DISTRICT!AN37,0))","v":35195.269701675992},{"$f":"MAX(COUNTRY_INFO!D37*AK37*PROFILE!$G$10,COUNTRY_INFO!D37*AL37*PROFILE!$G$10,IF(AND(DISTRICT!Z37<>\"Unknown\",Z37<>\"Not required\"),COUNTRY_INFO!O37*DISTRICT!AO37,0))","v":23121.4},76260.661565392104,"Y",{"$f":"MAX('MDA2'!J37,'T1'!L37,'T2'!J37,T3_R1!K37,T3_R2!K37)","v":0},{"$f":"MAX('MDA1'!K37,'MDA2'!K37,'MDA3'!I37,'MDA3'!L37,'T1'!M37,'T2'!K37,T3_R1!L37,T3_R2!L37)","v":30000},{"$f":"MAX('MDA1'!L37,'MDA2'!L37,'MDA3'!J37,'MDA3'!M37,'T1'!N37,'T2'!L37,T3_R1!M37,T3_R2!M37)","v":0},30000,{"$f":"MAX('MDA2'!J37,T37)","v":0},{"$f":"MAX('MDA1'!K37,'MDA2'!K37,'MDA3'!I37,'MDA3'!L37,V37,AD37)","v":30000},{"$f":"MAX('MDA1'!L37,'MDA2'!L37,'MDA3'!J37,'MDA3'!M37,AF37)","v":0},30000,39.338761799588582]
[{"$f":"IF(COUNTRY_INFO!A38=0,\" \",COUNTRY_INFO!A38)","v":"Tanzania"},{"$f":"IF(COUNTRY_INFO!B38=0,\" \",COUNTRY_INFO!B38)","v":"Iringa"},{"$f":"IF(COUNTRY_INFO!C38=0,\" \",COUNTRY_INFO!C38)","v":"Kilolo District Council"},{"$f":"COUNTRY_INFO!L38","v":"Stopped"},null,null,{"$f":"MAX('MDA1'!M38,'MDA2'!M38)","v":0},{"$f":"IF(AND(COUNTRY_INFO!H38>0,COUNTRY_INFO!H38<4),IF(D38>MAX('MDA1'!M38,'MDA2'!M38),MAX('MDA1'!M38,'MDA2'!M38),D38),0)","v":0},{"$f":"IF(AND(COUNTRY_INFO!H38>0,COUNTRY_INFO!H38<4), IF(G38/D38*100<>0, IF(G38/D38*100>100,100,G38/D38*100), \"-\"),0)","v":0},{"$f":"COUNTRY_INFO!M38","v":0},null,null,{"$f":"MAX('MDA1'!M38,MAX('MDA3'!I38,'MDA3'!L38)+MAX('MDA3'!J38,'MDA3'!M38))","v":0},{"$f":"IF(AND(COUNTRY_INFO!I38>0,COUNTRY_INFO!I38<4),IF(J38>MAX('MDA1'!M38,MAX('MDA3'!I38,'MDA3'!L38)+MAX('MDA3'!J38,'MDA3'!M38)),MAX('MDA1'!M38,MAX('MDA3'!I38,'MDA3'!L38)+MAX('MDA3'!J38,'MDA3'!M38)),J38),0)","v":0},{"$f":"IF(AND(COUNTRY_INFO!I38>0,COUNTRY_INFO!I38<4), IF(M38/J38*100<>0, IF(M38/J38*100>100,100,M38/J38*100), \"-\"),0)","v":0},{"$f":"COUNTRY_INFO!N38","v":78759},null,null,{"$f":"SUM(MAX('MDA2'!J38, 'T1'!L38, MAX(T3_R1!K38, T3_R2!K38)), MAX('MDA1'!K38, 'MDA2'!K38, 'T1'!M38, MAX(T3_R1!L38, T3_R2!L38)), MAX('MDA1'!L38, 'MDA2'!L38, 'T1'!N38, MAX(T3_R1!M38, T3_R2!M38)))","v":44550},{"$f":"IF(AND(COUNTRY_INFO!J38>1,COUNTRY_INFO!J38<4),IF(COUNTRY_INFO!E38>MAX('MDA2'!J38,'T1'!L38,MAX(T3_R1!K38,T3_R2!K38)),MAX('MDA2'!J38,'T1'!L38,MAX(T3_R1!K38,T3_R2!K38)),COUNTRY_INFO!E38),0)","v":0},{"$f":"IF(AND(COUNTRY_INFO!J38>1,COUNTRY_INFO!J38<4), IF(T38/COUNTRY_INFO!E38*100<>0, IF(T38/COUNTRY_INFO!E38*100>100,100,T38/COUNTRY_INFO!E38*100), \"-\"),0)","v":"-"},{"$f":"IF(AND(COUNTRY_INFO!J38>1,COUNTRY_INFO!J38<4),IF(COUNTRY_INFO!F38>MAX('MDA1'!K38,'MDA2'!K38,'T1'!M38,MAX(T3_R1!L38,T3_R2!L38)),MAX('MDA1'!K38,'MDA2'!K38,'T1'!M38,MAX(T3_R1!L38,T3_R2!L38)),COUNTRY_INFO!F38),0)","v":44550},{"$f":"IF(AND(COUNTRY_INFO!J38>1,COUNTRY_INFO!J38<4), IF(V38/COUNTRY_INFO!F38*100<>0, IF(V38/COUNTRY_INFO!F38*100>100,100,V38/COUNTRY_INFO!F38*100), \"-\"),0)","v":91.455904089341431},44550,{"$f":"IF(AND(COUNTRY_INFO!J38>1,COUNTRY_INFO!J38<4), IF(S38/P38*100<>0, IF(X38/P38*100>100,100,X38/P38*100), \"-\"),0)","v":56.564964004113818},{"$f":"COUNTRY_INFO!O38","v":55189.8},null,null,{"$f":"MAX('T1'!L38,'T2'!J38)+MAX('T1'!M38,'T2'!K38)+MAX('T1'!N38,'T2'!L38)","v":44550},{"$f":"IF(COUNTRY_INFO!K38=1,IF(COUNTRY_INFO!F38*0.33>MAX('T1'!M38,'T2'!K38),MAX('T1'!M38,'T2'!K38),COUNTRY_INFO!F38*0.33),IF(COUNTRY_INFO!K38=2,IF(COUNTRY_INFO!F38*0.5>MAX('T1'!M38,'T2'!K38),MAX('T1'!M38,'T2'!K38),COUNTRY_INFO!F38*0.5),IF(COUNTRY_INFO!K38=3,IF(COUNTRY_INFO!F38>MAX('T1'!M38,'T2'!K38),MAX('T1'!M38,'T2'!K38),COUNTRY_INFO!F38),0)))","v":24356},{"$f":"IF(AND(COUNTRY_INFO!K38>0,COUNTRY_INFO!K38<4),IF(Z38>0,IF(COUNTRY_INFO!K38=1, AD38/(COUNTRY_INFO!F38*0.33)*100, IF(COUNTRY_INFO!K38=2, AD38/(COUNTRY_INFO!F38*0.5)*100, IF(COUNTRY_INFO!K38=3, AD38/COUNTRY_INFO!F38*100))),\"-\"),0)","v":100},{"$f":"IF(COUNTRY_INFO!K38=2,IF(COUNTRY_INFO!G38*0.2>MAX('T1'!N38,'T2'!L38),MAX('T1'!N38,'T2'!L38),COUNTRY_INFO!G38*0.2),IF(COUNTRY_INFO!K38=3,IF(COUNTRY_INFO!G38>MAX('T1'!N38,'T2'!L38),MAX('T1'!N38,'T2'!L38),COUNTRY_INFO!G38),0))","v":0},{"$f":"IF(AND(COUNTRY_INFO!K38>0,COUNTRY_INFO!K38<4),IF(Z38>0,IF(COUNTRY_INFO!K38=1, 0, IF(COUNTRY_INFO!K38=2, AF38/(COUNTRY_INFO!G38*0.2)*100, IF(COUNTRY_INFO!K38=3, AF38/COUNTRY_INFO!G38*100))),\"-\"),0)","v":0},24356,{"$f":"IF(AND(COUNTRY_INFO!K38>0,COUNTRY_INFO!K38<4), IF(AC38/Z38*100<>0, IF(AH38/Z38*100>100,100,AH38/Z38*100), \"-\"),0)","v":44.1313431105023},null,{"$f":"IF(AND(D38<>0, D38<>\"Unknown\",D38<>\"Stopped\",D38<>\"Not required\"),D38/COUNTRY_INFO!D38, 0)","v":0},{"$f":"IF(AND(J38<>0,J38<>\"Unknown\",J38<>\"Stopped\",J38<>\"Not required\"),J38/COUNTRY_INFO!D38, 0)","v":0},{"$f":"IF(AND(P38<>0,P38<>\"Unknown\",P38<>\"Not required\"),P38/(COUNTRY_INFO!E38+COUNTRY_INFO!F38), 0)","v":1},{"$f":"IF(AND(Z38<>0,Z38<>\"Unknown\",Z38<>\"Not required\"),IF(COUNTRY_INFO!K38=1,1,IF(COUNTRY_INFO!K38=2,0.5*COUNTRY_INFO!F38/(0.5*COUNTRY_INFO!F38+0.2*COUNTRY_INFO!G38),IF(COUNTRY_INFO!K38=3,COUNTRY_INFO!F38/(COUNTRY_INFO!F38+COUNTRY_INFO!G38)))),0)","v":0.44131343110502302},{"$f":"IF(AND(Z38<>0,Z38<>\"Unknown\",Z38<>\"Not required\"),IF(COUNTRY_INFO!K38=1,0,IF(COUNTRY_INFO!K38=2,0.2*COUNTRY_INFO!G38/(0.5*COUNTRY_INFO!F38+0.2*COUNTRY_INFO!G38),IF(COUNTRY_INFO!K38=3,COUNTRY_INFO!G38/(COUNTRY_INFO!F38+COUNTRY_INFO!G38)))),0)","v":0.55868656889497703},{"$f":"MAX(COUNTRY_INFO!D38*AK38*PROFILE!$G$7,COUNTRY_INFO!D38*AL38*PROFILE!$G$7)","v":0},{"$f":"MAX(COUNTRY_INFO!D38*AK38*PROFILE!$G$8,COUNTRY_INFO!D38*AL38*PROFILE!$G$8,COUNTRY_INFO!D38*AM38*PROFILE!$G$8)","v":25862.140649772402},{"$f":"MAX(COUNTRY_INFO!D38*AK38*PROFILE!$G$9,COUNTRY_INFO!D38*AL38*PROFILE!$G$9,COUNTRY_INFO!D38*AM38*PROFILE!$G$9,IF(AND(DISTRICT!Z38<>\"Unknown\",Z38<>\"Not required\"),COUNTRY_INFO!O38*DISTRICT!AN38,0))","v":50725.893220669037},{"$f":"MAX(COUNTRY_INFO!D38*AK38*PROFILE!$G$10,COUNTRY_INFO!D38*AL38*PROFILE!$G$10,IF(AND(DISTRICT!Z38<>\"Unknown\",Z38<>\"Not required\"),COUNTRY_INFO!O38*DISTRICT!AO38,0))","v":30833.800000000007},107421.83387044143,"Y",{"$f":"MAX('MDA2'!J38,'T1'!L38,'T2'!J38,T3_R1!K38,T3_R2!K38)","v":0},{"$f":"MAX('MDA1'!K38,'MDA2'!K38,'MDA3'!I38,'MDA3'!L38,'T1'!M38,'T2'!K38,T3_R1!L38,T3_R2!L38)","v":44550},{"$f":"MAX('MDA1'!L38,'MDA2'!L38,'MDA3'!J38,'MDA3'!M38,'T1'!N38,'T2'!L38,T3_R1!M38,T3_R2!M38)","v":0},44550,{"$f":"MAX('MDA2'!J38,T38)","v":0},{"$f":"MAX('MDA1'!K38,'MDA2'!K38,'MDA3'!I38,'MDA3'!L38,V38,AD38)","v":44550},{"$f":"MAX('MDA1'!L38,'MDA2'!L38,'MDA3'!J38,'MDA3'!M38,AF38)","v":0},44550,41.472015878755663]
[{"$f":"IF(COUNTRY_INFO!A39=0,\" \",COUNTRY_INFO!A39)","v":"Tanzania"},{"$f":"IF(COUNTRY_INFO!B39=0,\" \",COUNTRY_INFO!B39)","v":"Iringa"},{"$f":"IF(COUNTRY_INFO!C39=0,\" \",COUNTRY_INFO!C39)","v":"Mafinga Town Council"},{"$f":"COUNTRY_INFO!L39","v":"Stopped"},null,null,{"$f":"MAX('MDA1'!M39,'MDA2'!M39)","v":0},{"$f":"IF(AND(COUNTRY_INFO!H39>0,COUNTRY_INFO!H39<4),IF(D39>MAX('MDA1'!M39,'MDA2'!M39),MAX('MDA1'!M39,'MDA2'!M39),D39),0)","v":0},{"$f":"IF(AND(COUNTRY_INFO!H39>0,COUNTRY_INFO!H39<4), IF(G39/D39*100<>0, IF(G39/D39*100>100,100,G39/D39*100), \"-\"),0)","v":0},{"$f":"COUNTRY_INFO!M39","v":0},null,null,{"$f":"MAX('MDA1'!M39,MAX('MDA3'!I39,'MDA3'!L39)+MAX('MDA3'!J39,'MDA3'!M39))","v":0},{"$f":"IF(AND(COUNTRY_INFO!I39>0,COUNTRY_INFO!I39<4),IF(J39>MAX('MDA1'!M39,MAX('MDA3'!I39,'MDA3'!L39)+MAX('MDA3'!J39,'MDA3'!M39)),MAX('MDA1'!M39,MAX('MDA3'!I39,'MDA3'!L39)+MAX('MDA3'!J39,'MDA3'!M39)),J39),0)","v":0},{"$f":"IF(AND(COUNTRY_INFO!I39>0,COUNTRY_INFO!I39<4), IF(M39/J39*100<>0, IF(M39/J39*100>100,100,M39/J39*100), \"-\"),0)","v":0},{"$f":"COUNTRY_INFO!N39","v":25186.583410082632},null,null,{"$f":"SUM(MAX('MDA2'!J39, 'T1'!L39, MAX(T3_R1!K39, T3_R2!K39)), MAX('MDA1'!K39, 'MDA2'!K39, 'T1'!M39, MAX(T3_R1!L39, T3_R2!L39)), MAX('MDA1'!L39, 'MDA2'!L39, 'T1'!N39, MAX(T3_R1!M39, T3_R2!M39)))","v":17086},{"$f":"IF(AND(COUNTRY_INFO!J39>1,COUNTRY_INFO!J39<4),IF(COUNTRY_INFO!E39>MAX('MDA2'!J39,'T1'!L39,MAX(T3_R1!K39,T3_R2!K39)),MAX('MDA2'!J39,'T1'!L39,MAX(T3_R1!K39,T3_R2!K39)),COUNTRY_INFO!E39),0)","v":0},{"$f":"IF(AND(COUNTRY_INFO!J39>1,COUNTRY_INFO!J39<4), IF(T39/COUNTRY_INFO!E39*100<>0, IF(T39/COUNTRY_INFO!E39*100>100,100,T39/COUNTRY_INFO!E39*100), \"-\"),0)","v":"-"},{"$f":"IF(AND(COUNTRY_INFO!J39>1,COUNTRY_INFO!J39<4),IF(COUNTRY_INFO!F39>MAX('MDA1'!K39,'MDA2'!K39,'T1'!M39,MAX(T3_R1!L39,T3_R2!L39)),MAX('MDA1'!K39,'MDA2'!K39,'T1'!M39,MAX(T3_R1!L39,T3_R2!L39)),COUNTRY_INFO!F39),0)","v":17086},{"$f":"IF(AND(COUNTRY_INFO!J39>1,COUNTRY_INFO!J39<4), IF(V39/COUNTRY_INFO!F39*100<>0, IF(V39/COUNTRY_INFO!F39*100>100,100,V39/COUNTRY_INFO!F39*100), \"-\"),0)","v":94.72750457393137},17086,{"$f":"IF(AND(COUNTRY_INFO!J39>1,COUNTRY_INFO!J39<4), IF(S39/P39*100<>0, IF(X39/P39*100>100,100,X39/P39*100), \"-\"),0)","v":67.837704391299752},{"$f":"COUNTRY_INFO!O39","v":15065.783317983474},null,null,{"$f":"MAX('T1'!L39,'T2'!J39)+MAX('T1'!M39,'T2'!K39)+MAX('T1'!N39,'T2'!L39)","v":17086},{"$f":"IF(COUNTRY_INFO!K39=1,IF(COUNTRY_INFO!F39*0.33>MAX('T1'!M39,'T2'!K39),MAX('T1'!M39,'T2'!K39),COUNTRY_INFO!F39*0.33),IF(COUNTRY_INFO!K39=2,IF(COUNTRY_INFO!F39*0.5>MAX('T1'!M39,'T2'!K39),MAX('T1'!M39,'T2'!K39),COUNTRY_INFO!F39*0.5),IF(COUNTRY_INFO!K39=3,IF(COUNTRY_INFO!F39>MAX('T1'!M39,'T2'!K39),MAX('T1'!M39,'T2'!K39),COUNTRY_INFO!F39),0)))","v":9018.5},{"$f":"IF(AND(COUNTRY_INFO!K39>0,COUNTRY_INFO!K39<4),IF(Z39>0,IF(COUNTRY_INFO!K39=1, AD39/(COUNTRY_INFO!F39*0.33)*100, IF(COUNTRY_INFO!K39=2, AD39/(COUNTRY_INFO!F39*0.5)*100, IF(COUNTRY_INFO!K39=3, AD39/COUNTRY_INFO!F39*100))),\"-\"),0)","v":100},{"$f":"IF(COUNTRY_INFO!K39=2,IF(COUNTRY_INFO!G39*0.2>MAX('T1'!N39,'T2'!L39),MAX('T1'!N39,'T2'!L39),COUNTRY_INFO!G39*0.2),IF(COUNTRY_INFO!K39=3,IF(COUNTRY_INFO!G39>MAX('T1'!N39,'T2'!L39),MAX('T1'!N39,'T2'!L39),COUNTRY_INFO!G39),0))","v":0},{"$f":"IF(AND(COUNTRY_INFO!K39>0,COUNTRY_INFO!K39<4),IF(Z39>0,IF(COUNTRY_INFO!K39=1, 0, IF(COUNTRY_INFO!K39=2, AF39/(COUNTRY_INFO!G39*0.2)*100, IF(COUNTRY_INFO!K39=3, AF39/COUNTRY_INFO!G39*100))),\"-\"),0)","v":0},9018.5,{"$f":"IF(AND(COUNTRY_INFO!K39>0,COUNTRY_INFO!K39<4), IF(AC39/Z39*100<>0, IF(AH39/Z39*100>100,100,AH39/Z39*100), \"-\"),0)","v":59.860810484609495},null,{"$f":"IF(AND(D39<>0, D39<>\"Unknown\",D39<>\"Stopped\",D39<>\"Not required\"),D39/COUNTRY_INFO!D39, 0)","v":0},{"$f":"IF(AND(J39<>0,J39<>\"Unknown\",J39<>\"Stopped\",J39<>\"Not required\"),J39/COUNTRY_INFO!D39, 0)","v":0},{"$f":"IF(AND(P39<>0,P39<>\"Unknown\",P39<>\"Not required\"),P39/(COUNTRY_INFO!E39+COUNTRY_INFO!F39), 0)","v":1},{"$f":"IF(AND(Z39<>0,Z39<>\"Unknown\",Z39<>\"Not required\"),IF(COUNTRY_INFO!K39=1,1,IF(COUNTRY_INFO!K39=2,0.5*COUNTRY_INFO!F39/(0.5*COUNTRY_INFO!F39+0.2*COUNTRY_INFO!G39),IF(COUNTRY_INFO!K39=3,COUNTRY_INFO!F39/(COUNTRY_INFO!F39+COUNTRY_INFO!G39)))),0)","v":0.59860810484609495},{"$f":"IF(AND(Z39<>0,Z39<>\"Unknown\",Z39<>\"Not required\"),IF(COUNTRY_INFO!K39=1,0,IF(COUNTRY_INFO!K39=2,0.2*COUNTRY_INFO!G39/(0.5*COUNTRY_INFO!F39+0.2*COUNTRY_INFO!G39),IF(COUNTRY_INFO!K39=3,COUNTRY_INFO!G39/(COUNTRY_INFO!F39+COUNTRY_INFO!G39)))),0)","v":0.40139189515390505},{"$f":"MAX(COUNTRY_INFO!D39*AK39*PROFILE!$G$7,COUNTRY_INFO!D39*AL39*PROFILE!$G$7)","v":0},{"$f":"MAX(COUNTRY_INFO!D39*AK39*PROFILE!$G$8,COUNTRY_INFO!D39*AL39*PROFILE!$G$8,COUNTRY_INFO!D39*AM39*PROFILE!$G$8)","v":6153.6501461066755},{"$f":"MAX(COUNTRY_INFO!D39*AK39*PROFILE!$G$9,COUNTRY_INFO!D39*AL39*PROFILE!$G$9,COUNTRY_INFO!D39*AM39*PROFILE!$G$9,IF(AND(DISTRICT!Z39<>\"Unknown\",Z39<>\"Not required\"),COUNTRY_INFO!O39*DISTRICT!AN39,0))","v":12069.743354037042},{"$f":"MAX(COUNTRY_INFO!D39*AK39*PROFILE!$G$10,COUNTRY_INFO!D39*AL39*PROFILE!$G$10,IF(AND(DISTRICT!Z39<>\"Unknown\",Z39<>\"Not required\"),COUNTRY_INFO!O39*DISTRICT!AO39,0))","v":6047.2833179834743},24270.676818127191,"Y",{"$f":"MAX('MDA2'!J39,'T1'!L39,'T2'!J39,T3_R1!K39,T3_R2!K39)","v":0},{"$f":"MAX('MDA1'!K39,'MDA2'!K39,'MDA3'!I39,'MDA3'!L39,'T1'!M39,'T2'!K39,T3_R1!L39,T3_R2!L39)","v":17086},{"$f":"MAX('MDA1'!L39,'MDA2'!L39,'MDA3'!J39,'MDA3'!M39,'T1'!N39,'T2'!L39,T3_R1!M39,T3_R2!M39)","v":0},17086,{"$f":"MAX('MDA2'!J39,T39)","v":0},{"$f":"MAX('MDA1'!K39,'MDA2'!K39,'MDA3'!I39,'MDA3'!L39,V39,AD39)","v":17086},{"$f":"MAX('MDA1'!L39,'MDA2'!L39,'MDA3'!J39,'MDA3'!M39,AF39)","v":0},17086,70.397707192239793]
[{"$f":"IF(COUNTRY_INFO!A40=0,\" \",COUNTRY_INFO!A40)","v":"Tanzania"},{"$f":"IF(COUNTRY_INFO!B40=0,\" \",COUNTRY_INFO!B40)","v":"Iringa"},{"$f":"IF(COUNTRY_INFO!C40=0,\" \",COUNTRY_INFO!C40)","v":"Mufindi District Council"},{"$f":"COUNTRY_INFO!L40","v":"Stopped"},null,null,{"$f":"MAX('MDA1'!M40,'MDA2'!M40)","v":0},{"$f":"IF(AND(COUNTRY_INFO!H40>0,COUNTRY_INFO!H40<4),IF(D40>MAX('MDA1'!M40,'MDA2'!M40),MAX('MDA1'!M40,'MDA2'!M40),D40),0)","v":0},{"$f":"IF(AND(COUNTRY_INFO!H40>0,COUNTRY_INFO!H40<4), IF(G40/D40*100<>0, IF(G40/D40*100>100,100,G40/D40*100), \"-\"),0)","v":0},{"$f":"COUNTRY_INFO!M40","v":283863},null,null,{"$f":"MAX('MDA1'!M40,MAX('MDA3'!I40,'MDA3'!L40)+MAX('MDA3'!J40,'MDA3'!M40))","v":234999},{"$f":"IF(AND(COUNTRY_INFO!I40>0,COUNTRY_INFO!I40<4),IF(J40>MAX('MDA1'!M40,MAX('MDA3'!I40,'MDA3'!L40)+MAX('MDA3'!J40,'MDA3'!M40)),MAX('MDA1'!M40,MAX('MDA3'!I40,'MDA3'!L40)+MAX('MDA3'!J40,'MDA3'!M40)),J40),0)","v":234999},{"$f":"IF(AND(COUNTRY_INFO!I40>0,COUNTRY_INFO!I40<4), IF(M40/J40*100<>0, IF(M40/J40*100>100,100,M40/J40*100), \"-\"),0)","v":82.786062290612023},{"$f":"COUNTRY_INFO!N40","v":96467},null,null,{"$f":"SUM(MAX('MDA2'!J40, 'T1'!L40, MAX(T3_R1!K40, T3_R2!K40)), MAX('MDA1'!K40, 'MDA2'!K40, 'T1'!M40, MAX(T3_R1!L40, T3_R2!L40)), MAX('MDA1'!L40, 'MDA2'!L40, 'T1'!N40, MAX(T3_R1!M40, T3_R2!M40)))","v":64170},{"$f":"IF(AND(COUNTRY_INFO!J40>1,COUNTRY_INFO!J40<4),IF(COUNTRY_INFO!E40>MAX('MDA2'!J40,'T1'!L40,MAX(T3_R1!K40,T3_R2!K40)),MAX('MDA2'!J40,'T1'!L40,MAX(T3_R1!K40,T3_R2!K40)),COUNTRY_INFO!E40),0)","v":0},{"$f":"IF(AND(COUNTRY_INFO!J40>1,COUNTRY_INFO!J40<4), IF(T40/COUNTRY_INFO!E40*100<>0, IF(T40/COUNTRY_INFO!E40*100>100,100,T40/COUNTRY_INFO!E40*100), \"-\"),0)","v":"-"},{"$f":"IF(AND(COUNTRY_INFO!J40>1,COUNTRY_INFO!J40<4),IF(COUNTRY_INFO!F40>MAX('MDA1'!K40,'MDA2'!K40,'T1'!M40,MAX(T3_R1!L40,T3_R2!L40)),MAX('MDA1'!K40,'MDA2'!K40,'T1'!M40,MAX(T3_R1!L40,T3_R2!L40)),COUNTRY_INFO!F40),0)","v":64170},{"$f":"IF(AND(COUNTRY_INFO!J40>1,COUNTRY_INFO!J40<4), IF(V40/COUNTRY_INFO!F40*100<>0, IF(V40/COUNTRY_INFO!F40*100>100,100,V40/COUNTRY_INFO!F40*100), \"-\"),0)","v":94.41485448606656},64170,{"$f":"IF(AND(COUNTRY_INFO!J40>1,COUNTRY_INFO!J40<4), IF(S40/P40*100<>0, IF(X40/P40*100>100,100,X40/P40*100), \"-\"),0)","v":66.520157152186755},{"$f":"COUNTRY_INFO!O40","v":71462.200000000012},null,null,{"$f":"MAX('T1'!L40,'T2'!J40)+MAX('T1'!M40,'T2'!K40)+MAX('T1'!N40,'T2'!L40)","v":64170},{"$f":"IF(COUNTRY_INFO!K40=1,IF(COUNTRY_INFO!F40*0.33>MAX('T1'!M40,'T2'!K40),MAX('T1'!M40,'T2'!K40),COUNTRY_INFO!F40*0.33),IF(COUNTRY_INFO!K40=2,IF(COUNTRY_INFO!F40*0.5>MAX('T1'!M40,'T2'!K40),MAX('T1'!M40,'T2'!K40),COUNTRY_INFO!F40*0.5),IF(COUNTRY_INFO!K40=3,IF(COUNTRY_INFO!F40>MAX('T1'!M40,'T2'!K40),MAX('T1'!M40,'T2'!K40),COUNTRY_INFO!F40),0)))","v":33983},{"$f":"IF(AND(COUNTRY_INFO!K40>0,COUNTRY_INFO!K40<4),IF(Z40>0,IF(COUNTRY_INFO!K40=1, AD40/(COUNTRY_INFO!F40*0.33)*100, IF(COUNTRY_INFO!K40=2, AD40/(COUNTRY_INFO!F40*0.5)*100, IF(COUNTRY_INFO!K40=3, AD40/COUNTRY_INFO!F40*100))),\"-\"),0)","v":100},{"$f":"IF(COUNTRY_INFO!K40=2,IF(COUNTRY_INFO!G40*0.2>MAX('T1'!N40,'T2'!L40),MAX('T1'!N40,'T2'!L40),COUNTRY_INFO!G40*0.2),IF(COUNTRY_INFO!K40=3,IF(COUNTRY_INFO!G40>MAX('T1'!N40,'T2'!L40),MAX('T1'!N40,'T2'!L40),COUNTRY_INFO!G40),0))","v":0},{"$f":"IF(AND(COUNTRY_INFO!K40>0,COUNTRY_INFO!K40<4),IF(Z40>0,IF(COUNTRY_INFO!K40=1, 0, IF(COUNTRY_INFO!K40=2, AF40/(COUNTRY_INFO!G40*0.2)*100, IF(COUNTRY_INFO!K40=3, AF40/COUNTRY_INFO!G40*100))),\"-\"),0)","v":0},33983,{"$f":"IF(AND(COUNTRY_INFO!K40>0,COUNTRY_INFO!K40<4), IF(AC40/Z40*100<>0, IF(AH40/Z40*100>100,100,AH40/Z40*100), \"-\"),0)","v":47.55381166546789},null,{"$f":"IF(AND(D40<>0, D40<>\"Unknown\",D40<>\"Stopped\",D40<>\"Not required\"),D40/COUNTRY_INFO!D40, 0)","v":0},{"$f":"IF(AND(J40<>0,J40<>\"Unknown\",J40<>\"Stopped\",J40<>\"Not required\"),J40/COUNTRY_INFO!D40, 0)","v":1},{"$f":"IF(AND(P40<>0,P40<>\"Unknown\",P40<>\"Not required\"),P40/(COUNTRY_INFO!E40+COUNTRY_INFO!F40), 0)","v":1},{"$f":"IF(AND(Z40<>0,Z40<>\"Unknown\",Z40<>\"Not required\"),IF(COUNTRY_INFO!K40=1,1,IF(COUNTRY_INFO!K40=2,0.5*COUNTRY_INFO!F40/(0.5*COUNTRY_INFO!F40+0.2*COUNTRY_INFO!G40),IF(COUNTRY_INFO!K40=3,COUNTRY_INFO!F40/(COUNTRY_INFO!F40+COUNTRY_INFO!G40)))),0)","v":0.47553811665467888},{"$f":"IF(AND(Z40<>0,Z40<>\"Unknown\",Z40<>\"Not required\"),IF(COUNTRY_INFO!K40=1,0,IF(COUNTRY_INFO!K40=2,0.2*COUNTRY_INFO!G40/(0.5*COUNTRY_INFO!F40+0.2*COUNTRY_INFO!G40),IF(COUNTRY_INFO!K40=3,COUNTRY_INFO!G40/(COUNTRY_INFO!F40+COUNTRY_INFO!G40)))),0)","v":0.52446188334532096},{"$f":"MAX(COUNTRY_INFO!D40*AK40*PROFILE!$G$7,COUNTRY_INFO!D40*AL40*PROFILE!$G$7)","v":0},{"$f":"MAX(COUNTRY_INFO!D40*AK40*PROFILE!$G$8,COUNTRY_INFO!D40*AL40*PROFILE!$G$8,COUNTRY_INFO!D40*AM40*PROFILE!$G$8)","v":31517.485365719636},{"$f":"MAX(COUNTRY_INFO!D40*AK40*PROFILE!$G$9,COUNTRY_INFO!D40*AL40*PROFILE!$G$9,COUNTRY_INFO!D40*AM40*PROFILE!$G$9,IF(AND(DISTRICT!Z40<>\"Unknown\",Z40<>\"Not required\"),COUNTRY_INFO!O40*DISTRICT!AN40,0))","v":61818.262412843345},{"$f":"MAX(COUNTRY_INFO!D40*AK40*PROFILE!$G$10,COUNTRY_INFO!D40*AL40*PROFILE!$G$10,IF(AND(DISTRICT!Z40<>\"Unknown\",Z40<>\"Not required\"),COUNTRY_INFO!O40*DISTRICT!AO40,0))","v":190527.26316961201},283863.01094817498,"Y",{"$f":"MAX('MDA2'!J40,'T1'!L40,'T2'!J40,T3_R1!K40,T3_R2!K40)","v":0},{"$f":"MAX('MDA1'!K40,'MDA2'!K40,'MDA3'!I40,'MDA3'!L40,'T1'!M40,'T2'!K40,T3_R1!L40,T3_R2!L40)","v":64170},{"$f":"MAX('MDA1'!L40,'MDA2'!L40,'MDA3'!J40,'MDA3'!M40,'T1'!N40,'T2'!L40,T3_R1!M40,T3_R2!M40)","v":190114.19099999999},254284.19099999999,{"$f":"MAX('MDA2'!J40,T40)","v":0},{"$f":"MAX('MDA1'!K40,'MDA2'!K40,'MDA3'!I40,'MDA3'!L40,V40,AD40)","v":64170},{"$f":"MAX('MDA1'!L40,'MDA2'!L40,'MDA3'!J40,'MDA3'!M40,AF40)","v":190114.19099999999},254284.19099999999,89.57989635586047]
[{"$f":"IF(COUNTRY_INFO!A41=0,\" \",COUNTRY_INFO!A41)","v":"Tanzania"},{"$f":"IF(COUNTRY_INFO!B41=0,\" \",COUNTRY_INFO!B41)","v":"Kagera"},{"$f":"IF(COUNTRY_INFO!C41=0,\" \",COUNTRY_INFO!C41)","v":"Biharamulo District Council"},{"$f":"COUNTRY_INFO!L41","v":0},null,null,{"$f":"MAX('MDA1'!M41,'MDA2'!M41)","v":0},{"$f":"IF(AND(COUNTRY_INFO!H41>0,COUNTRY_INFO!H41<4),IF(D41>MAX('MDA1'!M41,'MDA2'!M41),MAX('MDA1'!M41,'MDA2'!M41),D41),0)","v":0},{"$f":"IF(AND(COUNTRY_INFO!H41>0,COUNTRY_INFO!H41<4), IF(G41/D41*100<>0, IF(G41/D41*100>100,100,G41/D41*100), \"-\"),0)","v":0},{"$f":"COUNTRY_INFO!M41","v":0},null,null,{"$f":"MAX('MDA1'!M41,MAX('MDA3'!I41,'MDA3'!L41)+MAX('MDA3'!J41,'MDA3'!M41))","v":0},{"$f":"IF(AND(COUNTRY_INFO!I41>0,COUNTRY_INFO!I41<4),IF(J41>MAX('MDA1'!M41,MAX('MDA3'!I41,'MDA3'!L41)+MAX('MDA3'!J41,'MDA3'!M41)),MAX('MDA1'!M41,MAX('MDA3'!I41,'MDA3'!L41)+MAX('MDA3'!J41,'MDA3'!M41)),J41),0)","v":0},{"$f":"IF(AND(COUNTRY_INFO!I41>0,COUNTRY_INFO!I41<4), IF(M41/J41*100<>0, IF(M41/J41*100>100,100,M41/J41*100), \"-\"),0)","v":0},{"$f":"COUNTRY_INFO!N41","v":131503},null,null,{"$f":"SUM(MAX('MDA2'!J41, 'T1'!L41, MAX(T3_R1!K41, T3_R2!K41)), MAX('MDA1'!K41, 'MDA2'!K41, 'T1'!M41, MAX(T3_R1!L41, T3_R2!L41)), MAX('MDA1'!L41, 'MDA2'!L41, 'T1'!N41, MAX(T3_R1!M41, T3_R2!M41)))","v":63993},{"$f":"IF(AND(COUNTRY_INFO!J41>1,COUNTRY_INFO!J41<4),IF(COUNTRY_INFO!E41>MAX('MDA2'!J41,'T1'!L41,MAX(T3_R1!K41,T3_R2!K41)),MAX('MDA2'!J41,'T1'!L41,MAX(T3_R1!K41,T3_R2!K41)),COUNTRY_INFO!E41),0)","v":0},{"$f":"IF(AND(COUNTRY_INFO!J41>1,COUNTRY_INFO!J41<4), IF(T41/COUNTRY_INFO!E41*100<>0, IF(T41/COUNTRY_INFO!E41*100>100,100,T41/COUNTRY_INFO!E41*100), \"-\"),0)","v":"-"},{"$f":"IF(AND(COUNTRY_INFO!J41>1,COUNTRY_INFO!J41<4),IF(COUNTRY_INFO!F41>MAX('MDA1'!K41,'MDA2'!K41,'T1'!M41,MAX(T3_R1!L41,T3_R2!L41)),MAX('MDA1'!K41,'MDA2'!K41,'T1'!M41,MAX(T3_R1!L41,T3_R2!L41)),COUNTRY_INFO!F41),0)","v":63993},{"$f":"IF(AND(COUNTRY_INFO!J41>1,COUNTRY_INFO!J41<4), IF(V41/COUNTRY_INFO!F41*100<>0, IF(V41/COUNTRY_INFO!F41*100>100,100,V41/COUNTRY_INFO!F41*100), \"-\"),0)","v":78.913099774333176},63993,{"$f":"IF(AND(COUNTRY_INFO!J41>1,COUNTRY_INFO!J41<4), IF(S41/P41*100<>0, IF(X41/P41*100>100,100,X41/P41*100), \"-\"),0)","v":48.662768149776056},{"$f":"COUNTRY_INFO!O41","v":92402.1},null,null,{"$f":"MAX('T1'!L41,'T2'!J41)+MAX('T1'!M41,'T2'!K41)+MAX('T1'!N41,'T2'!L41)","v":63993},{"$f":"IF(COUNTRY_INFO!K41=1,IF(COUNTRY_INFO!F41*0.33>MAX('T1'!M41,'T2'!K41),MAX('T1'!M41,'T2'!K41),COUNTRY_INFO!F41*0.33),IF(COUNTRY_INFO!K41=2,IF(COUNTRY_INFO!F41*0.5>MAX('T1'!M41,'T2'!K41),MAX('T1'!M41,'T2'!K41),COUNTRY_INFO!F41*0.5),IF(COUNTRY_INFO!K41=3,IF(COUNTRY_INFO!F41>MAX('T1'!M41,'T2'!K41),MAX('T1'!M41,'T2'!K41),COUNTRY_INFO!F41),0)))","v":40546.5},{"$f":"IF(AND(COUNTRY_INFO!K41>0,COUNTRY_INFO!K41<4),IF(Z41>0,IF(COUNTRY_INFO!K41=1, AD41/(COUNTRY_INFO!F41*0.33)*100, IF(COUNTRY_INFO!K41=2, AD41/(COUNTRY_INFO!F41*0.5)*100, IF(COUNTRY_INFO!K41=3, AD41/COUNTRY_INFO!F41*100))),\"-\"),0)","v":100},{"$f":"IF(COUNTRY_INFO!K41=2,IF(COUNTRY_INFO!G41*0.2>MAX('T1'!N41,'T2'!L41),MAX('T1'!N41,'T2'!L41),COUNTRY_INFO!G41*0.2),IF(COUNTRY_INFO!K41=3,IF(COUNTRY_INFO!G41>MAX('T1'!N41,'T2'!L41),MAX('T1'!N41,'T2'!L41),COUNTRY_INFO!G41),0))","v":0},{"$f":"IF(AND(COUNTRY_INFO!K41>0,COUNTRY_INFO!K41<4),IF(Z41>0,IF(COUNTRY_INFO!K41=1, 0, IF(COUNTRY_INFO!K41=2, AF41/(COUNTRY_INFO!G41*0.2)*100, IF(COUNTRY_INFO!K41=3, AF41/COUNTRY_INFO!G41*100))),\"-\"),0)","v":0},40546.5,{"$f":"IF(AND(COUNTRY_INFO!K41>0,COUNTRY_INFO!K41<4), IF(AC41/Z41*100<>0, IF(AH41/Z41*100>100,100,AH41/Z41*100), \"-\"),0)","v":43.880496222488446},null,{"$f":"IF(AND(D41<>0, D41<>\"Unknown\",D41<>\"Stopped\",D41<>\"Not required\"),D41/COUNTRY_INFO!D41, 0)","v":0},{"$f":"IF(AND(J41<>0,J41<>\"Unknown\",J41<>\"Stopped\",J41<>\"Not required\"),J41/COUNTRY_INFO!D41, 0)","v":0},{"$f":"IF(AND(P41<>0,P41<>\"Unknown\",P41<>\"Not required\"),P41/(COUNTRY_INFO!E41+COUNTRY_INFO!F41), 0)","v":1},{"$f":"IF(AND(Z41<>0,Z41<>\"Unknown\",Z41<>\"Not required\"),IF(COUNTRY_INFO!K41=1,1,IF(COUNTRY_INFO!K41=2,0.5*COUNTRY_INFO!F41/(0.5*COUNTRY_INFO!F41+0.2*COUNTRY_INFO!G41),IF(COUNTRY_INFO!K41=3,COUNTRY_INFO!F41/(COUNTRY_INFO!F41+COUNTRY_INFO!G41)))),0)","v":0.43880496222488447},{"$f":"IF(AND(Z41<>0,Z41<>\"Unknown\",Z41<>\"Not required\"),IF(COUNTRY_INFO!K41=1,0,IF(COUNTRY_INFO!K41=2,0.2*COUNTRY_INFO!G41/(0.5*COUNTRY_INFO!F41+0.2*COUNTRY_INFO!G41),IF(COUNTRY_INFO!K41=3,COUNTRY_INFO!G41/(COUNTRY_INFO!F41+COUNTRY_INFO!G41)))),0)","v":0.56119503777511548},{"$f":"MAX(COUNTRY_INFO!D41*AK41*PROFILE!$G$7,COUNTRY_INFO!D41*AL41*PROFILE!$G$7)","v":0},{"$f":"MAX(COUNTRY_INFO!D41*AK41*PROFILE!$G$8,COUNTRY_INFO!D41*AL41*PROFILE!$G$8,COUNTRY_INFO!D41*AM41*PROFILE!$G$8)","v":43388.657375921779},{"$f":"MAX(COUNTRY_INFO!D41*AK41*PROFILE!$G$9,COUNTRY_INFO!D41*AL41*PROFILE!$G$9,COUNTRY_INFO!D41*AM41*PROFILE!$G$9,IF(AND(DISTRICT!Z41<>\"Unknown\",Z41<>\"Not required\"),COUNTRY_INFO!O41*DISTRICT!AN41,0))","v":85102.328954296041},{"$f":"MAX(COUNTRY_INFO!D41*AK41*PROFILE!$G$10,COUNTRY_INFO!D41*AL41*PROFILE!$G$10,IF(AND(DISTRICT!Z41<>\"Unknown\",Z41<>\"Not required\"),COUNTRY_INFO!O41*DISTRICT!AO41,0))","v":51855.6},180346.58633021783,{"$f":"IF(COUNTIFS(AK41:AN41,\">0\")=0,0, IF(COUNTIFS(AK41:AN41,\">0\")<=IF(AND(OR(D41>=0,D41=\"Not required\",D41=\"Unknown\",D41=\"Stopped\"),D41>0,H41>0),1,0)+IF(AND(OR(J41>=0,J41=\"Not required\",J41=\"Unknown\",J41=\"Stopped\"),J41>0,N41>0),1,0)+IF(AND(OR(P41>=0,P41=\"Not required\",P41=\"Unknown\"),P41>0,X41>0),1,0)+IF(AND(OR(Z41>=0,Z41=\"Not required\",Z41=\"Unknown\"),Z41>0,AH41>0),1,0),\"Y\",0))","v":"Y"},{"$f":"MAX('MDA2'!J41,'T1'!L41,'T2'!J41,T3_R1!K41,T3_R2!K41)","v":0},{"$f":"MAX('MDA1'!K41,'MDA2'!K41,'MDA3'!I41,'MDA3'!L41,'T1'!M41,'T2'!K41,T3_R1!L41,T3_R2!L41)","v":63993},{"$f":"MAX('MDA1'!L41,'MDA2'!L41,'MDA3'!J41,'MDA3'!M41,'T1'!N41,'T2'!L41,T3_R1!M41,T3_R2!M41)","v":0},63993,{"$f":"MAX('MDA2'!J41,T41)","v":0},{"$f":"MAX('MDA1'!K41,'MDA2'!K41,'MDA3'!I41,'MDA3'!L41,V41,AD41)","v":63993},{"$f":"MAX('MDA1'!L41,'MDA2'!L41,'MDA3'!J41,'MDA3'!M41,AF41)","v":0},{"$f":"IF(AT41<SUM(AZ41:BB41), AT41,SUM(AZ41:BB41))","v":63993},{"$f":"IF(AT41<>0,BC41/AT41*100,0)","v":35.483344210811765}]
[{"$f":"IF(COUNTRY_INFO!A42=0,\" \",COUNTRY_INFO!A42)","v":"Tanzania"},{"$f":"IF(COUNTRY_INFO!B42=0,\" \",COUNTRY_INFO!B42)","v":"Kagera"},{"$f":"IF(COUNTRY_INFO!C42=0,\" \",COUNTRY_INFO!C42)","v":"Bukoba District Council"},{"$f":"COUNTRY_INFO!L42","v":0},null,null,{"$f":"MAX('MDA1'!M42,'MDA2'!M42)","v":0},{"$f":"IF(AND(COUNTRY_INFO!H42>0,COUNTRY_INFO!H42<4),IF(D42>MAX('MDA1'!M42,'MDA2'!M42),MAX('MDA1'!M42,'MDA2'!M42),D42),0)","v":0},{"$f":"IF(AND(COUNTRY_INFO!H42>0,COUNTRY_INFO!H42<4), IF(G42/D42*100<>0, IF(G42/D42*100>100,100,G42/D42*100), \"-\"),0)","v":0},{"$f":"COUNTRY_INFO!M42","v":0},null,null,{"$f":"MAX('MDA1'!M42,MAX('MDA3'!I42,'MDA3'!L42)+MAX('MDA3'!J42,'MDA3'!M42))","v":0},{"$f":"IF(AND(COUNTRY_INFO!I42>0,COUNTRY_INFO!I42<4),IF(J42>MAX('MDA1'!M42,MAX('MDA3'!I42,'MDA3'!L42)+MAX('MDA3'!J42,'MDA3'!M42)),MAX('MDA1'!M42,MAX('MDA3'!I42,'MDA3'!L42)+MAX('MDA3'!J42,'MDA3'!M42)),J42),0)","v":0},{"$f":"IF(AND(COUNTRY_INFO!I42>0,COUNTRY_INFO!I42<4), IF(M42/J42*100<>0, IF(M42/J42*100>100,100,M42/J42*100), \"-\"),0)","v":0},{"$f":"COUNTRY_INFO!N42","v":119584},null,null,{"$f":"SUM(MAX('MDA2'!J42, 'T1'!L42, MAX(T3_R1!K42, T3_R2!K42)), MAX('MDA1'!K42, 'MDA2'!K42, 'T1'!M42, MAX(T3_R1!L42, T3_R2!L42)), MAX('MDA1'!L42, 'MDA2'!L42, 'T1'!N42, MAX(T3_R1!M42, T3_R2!M42)))","v":76533},{"$f":"IF(AND(COUNTRY_INFO!J42>1,COUNTRY_INFO!J42<4),IF(COUNTRY_INFO!E42>MAX('MDA2'!J42,'T1'!L42,MAX(T3_R1!K42,T3_R2!K42)),MAX('MDA2'!J42,'T1'!L42,MAX(T3_R1!K42,T3_R2!K42)),COUNTRY_INFO!E42),0)","v":0},{"$f":"IF(AND(COUNTRY_INFO!J42>1,COUNTRY_INFO!J42<4), IF(T42/COUNTRY_INFO!E42*100<>0, IF(T42/COUNTRY_INFO!E42*100>100,100,T42/COUNTRY_INFO!E42*100), \"-\"),0)","v":"-"},{"$f":"IF(AND(COUNTRY_INFO!J42>1,COUNTRY_INFO!J42<4),IF(COUNTRY_INFO!F42>MAX('MDA1'!K42,'MDA2'!K42,'T1'!M42,MAX(T3_R1!L42,T3_R2!L42)),MAX('MDA1'!K42,'MDA2'!K42,'T1'!M42,MAX(T3_R1!L42,T3_R2!L42)),COUNTRY_INFO!F42),0)","v":76533},{"$f":"IF(AND(COUNTRY_INFO!J42>1,COUNTRY_INFO!J42<4), IF(V42/COUNTRY_INFO!F42*100<>0, IF(V42/COUNTRY_INFO!F42*100>100,100,V42/COUNTRY_INFO!F42*100), \"-\"),0)","v":94.357045986931325},76533,{"$f":"IF(AND(COUNTRY_INFO!J42>1,COUNTRY_INFO!J42<4), IF(S42/P42*100<>0, IF(X42/P42*100>100,100,X42/P42*100), \"-\"),0)","v":63.999364463473377},{"$f":"COUNTRY_INFO!O42","v":86630.8},null,null,{"$f":"MAX('T1'!L42,'T2'!J42)+MAX('T1'!M42,'T2'!K42)+MAX('T1'!N42,'T2'!L42)","v":76533},{"$f":"IF(COUNTRY_INFO!K42=1,IF(COUNTRY_INFO!F42*0.33>MAX('T1'!M42,'T2'!K42),MAX('T1'!M42,'T2'!K42),COUNTRY_INFO!F42*0.33),IF(COUNTRY_INFO!K42=2,IF(COUNTRY_INFO!F42*0.5>MAX('T1'!M42,'T2'!K42),MAX('T1'!M42,'T2'!K42),COUNTRY_INFO!F42*0.5),IF(COUNTRY_INFO!K42=3,IF(COUNTRY_INFO!F42>MAX('T1'!M42,'T2'!K42),MAX('T1'!M42,'T2'!K42),COUNTRY_INFO!F42),0)))","v":40555},{"$f":"IF(AND(COUNTRY_INFO!K42>0,COUNTRY_INFO!K42<4),IF(Z42>0,IF(COUNTRY_INFO!K42=1, AD42/(COUNTRY_INFO!F42*0.33)*100, IF(COUNTRY_INFO!K42=2, AD42/(COUNTRY_INFO!F42*0.5)*100, IF(COUNTRY_INFO!K42=3, AD42/COUNTRY_INFO!F42*100))),\"-\"),0)","v":100},{"$f":"IF(COUNTRY_INFO!K42=2,IF(COUNTRY_INFO!G42*0.2>MAX('T1'!N42,'T2'!L42),MAX('T1'!N42,'T2'!L42),COUNTRY_INFO!G42*0.2),IF(COUNTRY_INFO!K42=3,IF(COUNTRY_INFO!G42>MAX('T1'!N42,'T2'!L42),MAX('T1'!N42,'T2'!L42),COUNTRY_INFO!G42),0))","v":0},{"$f":"IF(AND(COUNTRY_INFO!K42>0,COUNTRY_INFO!K42<4),IF(Z42>0,IF(COUNTRY_INFO!K42=1, 0, IF(COUNTRY_INFO!K42=2, AF42/(COUNTRY_INFO!G42*0.2)*100, IF(COUNTRY_INFO!K42=3, AF42/COUNTRY_INFO!G42*100))),\"-\"),0)","v":0},40555,{"$f":"IF(AND(COUNTRY_INFO!K42>0,COUNTRY_INFO!K42<4), IF(AC42/Z42*100<>0, IF(AH42/Z42*100>100,100,AH42/Z42*100), \"-\"),0)","v":46.813604399359114},null,{"$f":"IF(AND(D42<>0, D42<>\"Unknown\",D42<>\"Stopped\",D42<>\"Not required\"),D42/COUNTRY_INFO!D42, 0)","v":0},{"$f":"IF(AND(J42<>0,J42<>\"Unknown\",J42<>\"Stopped\",J42<>\"Not required\"),J42/COUNTRY_INFO!D42, 0)","v":0},{"$f":"IF(AND(P42<>0,P42<>\"Unknown\",P42<>\"Not required\"),P42/(COUNTRY_INFO!E42+COUNTRY_INFO!F42), 0)","v":1},{"$f":"IF(AND(Z42<>0,Z42<>\"Unknown\",Z42<>\"Not required\"),IF(COUNTRY_INFO!K42=1,1,IF(COUNTRY_INFO!K42=2,0.5*COUNTRY_INFO!F42/(0.5*COUNTRY_INFO!F42+0.2*COUNTRY_INFO!G42),IF(COUNTRY_INFO!K42=3,COUNTRY_INFO!F42/(COUNTRY_INFO!F42+COUNTRY_INFO!G42)))),0)","v":0.46813604399359116},{"$f":"IF(AND(Z42<>0,Z42<>\"Unknown\",Z42<>\"Not required\"),IF(COUNTRY_INFO!K42=1,0,IF(COUNTRY_INFO!K42=2,0.2*COUNTRY_INFO!G42/(0.5*COUNTRY_INFO!F42+0.2*COUNTRY_INFO!G42),IF(COUNTRY_INFO!K42=3,COUNTRY_INFO!G42/(COUNTRY_INFO!F42+COUNTRY_INFO!G42)))),0)","v":0.53186395600640879},{"$f":"MAX(COUNTRY_INFO!D42*AK42*PROFILE!$G$7,COUNTRY_INFO!D42*AL42*PROFILE!$G$7)","v":0},{"$f":"MAX(COUNTRY_INFO!D42*AK42*PROFILE!$G$8,COUNTRY_INFO!D42*AL42*PROFILE!$G$8,COUNTRY_INFO!D42*AM42*PROFILE!$G$8)","v":38856.609459645464},{"$f":"MAX(COUNTRY_INFO!D42*AK42*PROFILE!$G$9,COUNTRY_INFO!D42*AL42*PROFILE!$G$9,COUNTRY_INFO!D42*AM42*PROFILE!$G$9,IF(AND(DISTRICT!Z42<>\"Unknown\",Z42<>\"Not required\"),COUNTRY_INFO!O42*DISTRICT!AN42,0))","v":76213.189351151421},{"$f":"MAX(COUNTRY_INFO!D42*AK42*PROFILE!$G$10,COUNTRY_INFO!D42*AL42*PROFILE!$G$10,IF(AND(DISTRICT!Z42<>\"Unknown\",Z42<>\"Not required\"),COUNTRY_INFO!O42*DISTRICT!AO42,0))","v":46075.8},161145.59881079689,"Y",{"$f":"MAX('MDA2'!J42,'T1'!L42,'T2'!J42,T3_R1!K42,T3_R2!K42)","v":0},{"$f":"MAX('MDA1'!K42,'MDA2'!K42,'MDA3'!I42,'MDA3'!L42,'T1'!M42,'T2'!K42,T3_R1!L42,T3_R2!L42)","v":76533},{"$f":"MAX('MDA1'!L42,'MDA2'!L42,'MDA3'!J42,'MDA3'!M42,'T1'!N42,'T2'!L42,T3_R1!M42,T3_R2!M42)","v":0},76533,{"$f":"MAX('MDA2'!J42,T42)","v":0},{"$f":"MAX('MDA1'!K42,'MDA2'!K42,'MDA3'!I42,'MDA3'!L42,V42,AD42)","v":76533},{"$f":"MAX('MDA1'!L42,'MDA2'!L42,'MDA3'!J42,'MDA3'!M42,AF42)","v":0},76533,47.493074936448231]
[{"$f":"IF(COUNTRY_INFO!A43=0,\" \",COUNTRY_INFO!A43)","v":"Tanzania"},{"$f":"IF(COUNTRY_INFO!B43=0,\" \",COUNTRY_INFO!B43)","v":"Kagera"},{"$f":"IF(COUNTRY_INFO!C43=0,\" \",COUNTRY_INFO!C43)","v":"Bukoba Municipal Council"},{"$f":"COUNTRY_INFO!L43","v":0},null,null,{"$f":"MAX('MDA1'!M43,'MDA2'!M43)","v":0},{"$f":"IF(AND(COUNTRY_INFO!H43>0,COUNTRY_INFO!H43<4),IF(D43>MAX('MDA1'!M43,'MDA2'!M43),MAX('MDA1'!M43,'MDA2'!M43),D43),0)","v":0},{"$f":"IF(AND(COUNTRY_INFO!H43>0,COUNTRY_INFO!H43<4), IF(G43/D43*100<>0, IF(G43/D43*100>100,100,G43/D43*100), \"-\"),0)","v":0},{"$f":"COUNTRY_INFO!M43","v":0},null,null,{"$f":"MAX('MDA1'!M43,MAX('MDA3'!I43,'MDA3'!L43)+MAX('MDA3'!J43,'MDA3'!M43))","v":0},{"$f":"IF(AND(COUNTRY_INFO!I43>0,COUNTRY_INFO!I43<4),IF(J43>MAX('MDA1'!M43,MAX('MDA3'!I43,'MDA3'!L43)+MAX('MDA3'!J43,'MDA3'!M43)),MAX('MDA1'!M43,MAX('MDA3'!I43,'MDA3'!L43)+MAX('MDA3'!J43,'MDA3'!M43)),J43),0)","v":0},{"$f":"IF(AND(COUNTRY_INFO!I43>0,COUNTRY_INFO!I43<4), IF(M43/J43*100<>0, IF(M43/J43*100>100,100,M43/J43*100), \"-\"),0)","v":0},{"$f":"COUNTRY_INFO!N43","v":45409},null,null,{"$f":"SUM(MAX('MDA2'!J43, 'T1'!L43, MAX(T3_R1!K43, T3_R2!K43)), MAX('MDA1'!K43, 'MDA2'!K43, 'T1'!M43, MAX(T3_R1!L43, T3_R2!L43)), MAX('MDA1'!L43, 'MDA2'!L43, 'T1'!N43, MAX(T3_R1!M43, T3_R2!M43)))","v":26787},{"$f":"IF(AND(COUNTRY_INFO!J43>1,COUNTRY_INFO!J43<4),IF(COUNTRY_INFO!E43>MAX('MDA2'!J43,'T1'!L43,MAX(T3_R1!K43,T3_R2!K43)),MAX('MDA2'!J43,'T1'!L43,MAX(T3_R1!K43,T3_R2!K43)),COUNTRY_INFO!E43),0)","v":0},{"$f":"IF(AND(COUNTRY_INFO!J43>1,COUNTRY_INFO!J43<4), IF(T43/COUNTRY_INFO!E43*100<>0, IF(T43/COUNTRY_INFO!E43*100>100,100,T43/COUNTRY_INFO!E43*100), \"-\"),0)","v":"-"},{"$f":"IF(AND(COUNTRY_INFO!J43>1,COUNTRY_INFO!J43<4),IF(COUNTRY_INFO!F43>MAX('MDA1'!K43,'MDA2'!K43,'T1'!M43,MAX(T3_R1!L43,T3_R2!L43)),MAX('MDA1'!K43,'MDA2'!K43,'T1'!M43,MAX(T3_R1!L43,T3_R2!L43)),COUNTRY_INFO!F43),0)","v":26787},{"$f":"IF(AND(COUNTRY_INFO!J43>1,COUNTRY_INFO!J43<4), IF(V43/COUNTRY_INFO!F43*100<>0, IF(V43/COUNTRY_INFO!F43*100>100,100,V43/COUNTRY_INFO!F43*100), \"-\"),0)","v":90.310508748862134},26787,{"$f":"IF(AND(COUNTRY_INFO!J43>1,COUNTRY_INFO!J43<4), IF(S43/P43*100<>0, IF(X43/P43*100>100,100,X43/P43*100), \"-\"),0)","v":58.990508489506489},{"$f":"COUNTRY_INFO!O43","v":36866.699999999997},null,null,{"$f":"MAX('T1'!L43,'T2'!J43)+MAX('T1'!M43,'T2'!K43)+MAX('T1'!N43,'T2'!L43)","v":26787},{"$f":"IF(COUNTRY_INFO!K43=1,IF(COUNTRY_INFO!F43*0.33>MAX('T1'!M43,'T2'!K43),MAX('T1'!M43,'T2'!K43),COUNTRY_INFO!F43*0.33),IF(COUNTRY_INFO!K43=2,IF(COUNTRY_INFO!F43*0.5>MAX('T1'!M43,'T2'!K43),MAX('T1'!M43,'T2'!K43),COUNTRY_INFO!F43*0.5),IF(COUNTRY_INFO!K43=3,IF(COUNTRY_INFO!F43>MAX('T1'!M43,'T2'!K43),MAX('T1'!M43,'T2'!K43),COUNTRY_INFO!F43),0)))","v":14830.5},{"$f":"IF(AND(COUNTRY_INFO!K43>0,COUNTRY_INFO!K43<4),IF(Z43>0,IF(COUNTRY_INFO!K43=1, AD43/(COUNTRY_INFO!F43*0.33)*100, IF(COUNTRY_INFO!K43=2, AD43/(COUNTRY_INFO!F43*0.5)*100, IF(COUNTRY_INFO!K43=3, AD43/COUNTRY_INFO!F43*100))),\"-\"),0)","v":100},{"$f":"IF(COUNTRY_INFO!K43=2,IF(COUNTRY_INFO!G43*0.2>MAX('T1'!N43,'T2'!L43),MAX('T1'!N43,'T2'!L43),COUNTRY_INFO!G43*0.2),IF(COUNTRY_INFO!K43=3,IF(COUNTRY_INFO!G43>MAX('T1'!N43,'T2'!L43),MAX('T1'!N43,'T2'!L43),COUNTRY_INFO!G43),0))","v":0},{"$f":"IF(AND(COUNTRY_INFO!K43>0,COUNTRY_INFO!K43<4),IF(Z43>0,IF(COUNTRY_INFO!K43=1, 0, IF(COUNTRY_INFO!K43=2, AF43/(COUNTRY_INFO!G43*0.2)*100, IF(COUNTRY_INFO!K43=3, AF43/COUNTRY_INFO!G43*100))),\"-\"),0)","v":0},14830.5,{"$f":"IF(AND(COUNTRY_INFO!K43>0,COUNTRY_INFO!K43<4), IF(AC43/Z43*100<>0, IF(AH43/Z43*100>100,100,AH43/Z43*100), \"-\"),0)","v":40.227359649765241},null,{"$f":"IF(AND(D43<>0, D43<>\"Unknown\",D43<>\"Stopped\",D43<>\"Not required\"),D43/COUNTRY_INFO!D43, 0)","v":0},{"$f":"IF(AND(J43<>0,J43<>\"Unknown\",J43<>\"Stopped\",J43<>\"Not required\"),J43/COUNTRY_INFO!D43, 0)","v":0},{"$f":"IF(AND(P43<>0,P43<>\"Unknown\",P43<>\"Not required\"),P43/(COUNTRY_INFO!E43+COUNTRY_INFO!F43), 0)","v":1},{"$f":"IF(AND(Z43<>0,Z43<>\"Unknown\",Z43<>\"Not required\"),IF(COUNTRY_INFO!K43=1,1,IF(COUNTRY_INFO!K43=2,0.5*COUNTRY_INFO!F43/(0.5*COUNTRY_INFO!F43+0.2*COUNTRY_INFO!G43),IF(COUNTRY_INFO!K43=3,COUNTRY_INFO!F43/(COUNTRY_INFO!F43+COUNTRY_INFO!G43)))),0)","v":0.40227359649765237},{"$f":"IF(AND(Z43<>0,Z43<>\"Unknown\",Z43<>\"Not required\"),IF(COUNTRY_INFO!K43=1,0,IF(COUNTRY_INFO!K43=2,0.2*COUNTRY_INFO!G43/(0.5*COUNTRY_INFO!F43+0.2*COUNTRY_INFO!G43),IF(COUNTRY_INFO!K43=3,COUNTRY_INFO!G43/(COUNTRY_INFO!F43+COUNTRY_INFO!G43)))),0)","v":0.59772640350234774},{"$f":"MAX(COUNTRY_INFO!D43*AK43*PROFILE!$G$7,COUNTRY_INFO!D43*AL43*PROFILE!$G$7)","v":0},{"$f":"MAX(COUNTRY_INFO!D43*AK43*PROFILE!$G$8,COUNTRY_INFO!D43*AL43*PROFILE!$G$8,COUNTRY_INFO!D43*AM43*PROFILE!$G$8)","v":17275.254429257486},{"$f":"MAX(COUNTRY_INFO!D43*AK43*PROFILE!$G$9,COUNTRY_INFO!D43*AL43*PROFILE!$G$9,COUNTRY_INFO!D43*AM43*PROFILE!$G$9,IF(AND(DISTRICT!Z43<>\"Unknown\",Z43<>\"Not required\"),COUNTRY_INFO!O43*DISTRICT!AN43,0))","v":33883.610927857088},{"$f":"MAX(COUNTRY_INFO!D43*AK43*PROFILE!$G$10,COUNTRY_INFO!D43*AL43*PROFILE!$G$10,IF(AND(DISTRICT!Z43<>\"Unknown\",Z43<>\"Not required\"),COUNTRY_INFO!O43*DISTRICT!AO43,0))","v":22036.2},73195.065357114567,"Y",{"$f":"MAX('MDA2'!J43,'T1'!L43,'T2'!J43,T3_R1!K43,T3_R2!K43)","v":0},{"$f":"MAX('MDA1'!K43,'MDA2'!K43,'MDA3'!I43,'MDA3'!L43,'T1'!M43,'T2'!K43,T3_R1!L43,T3_R2!L43)","v":26787},{"$f":"MAX('MDA1'!L43,'MDA2'!L43,'MDA3'!J43,'MDA3'!M43,'T1'!N43,'T2'!L43,T3_R1!M43,T3_R2!M43)","v":0},26787,{"$f":"MAX('MDA2'!J43,T43)","v":0},{"$f":"MAX('MDA1'!K43,'MDA2'!K43,'MDA3'!I43,'MDA3'!L43,V43,AD43)","v":26787},{"$f":"MAX('MDA1'!L43,'MDA2'!L43,'MDA3'!J43,'MDA3'!M43,AF43)","v":0},26787,36.596729396042953]
[{"$f":"IF(COUNTRY_INFO!A44=0,\" \",COUNTRY_INFO!A44)","v":"Tanzania"},{"$f":"IF(COUNTRY_INFO!B44=0,\" \",COUNTRY_INFO!B44)","v":"Kagera"},{"$f":"IF(COUNTRY_INFO!C44=0,\" \",COUNTRY_INFO!C44)","v":"Karagwe District Council"},{"$f":"COUNTRY_INFO!L44","v":0},null,null,{"$f":"MAX('MDA1'!M44,'MDA2'!M44)","v":0},{"$f":"IF(AND(COUNTRY_INFO!H44>0,COUNTRY_INFO!H44<4),IF(D44>MAX('MDA1'!M44,'MDA2'!M44),MAX('MDA1'!M44,'MDA2'!M44),D44),0)","v":0},{"$f":"IF(AND(COUNTRY_INFO!H44>0,COUNTRY_INFO!H44<4), IF(G44/D44*100<>0, IF(G44/D44*100>100,100,G44/D44*100), \"-\"),0)","v":0},{"$f":"COUNTRY_INFO!M44","v":0},null,null,{"$f":"MAX('MDA1'!M44,MAX('MDA3'!I44,'MDA3'!L44)+MAX('MDA3'!J44,'MDA3'!M44))","v":0},{"$f":"IF(AND(COUNTRY_INFO!I44>0,COUNTRY_INFO!I44<4),IF(J44>MAX('MDA1'!M44,MAX('MDA3'!I44,'MDA3'!L44)+MAX('MDA3'!J44,'MDA3'!M44)),MAX('MDA1'!M44,MAX('MDA3'!I44,'MDA3'!L44)+MAX('MDA3'!J44,'MDA3'!M44)),J44),0)","v":0},{"$f":"IF(AND(COUNTRY_INFO!I44>0,COUNTRY_INFO!I44<4), IF(M44/J44*100<>0, IF(M44/J44*100>100,100,M44/J44*100), \"-\"),0)","v":0},{"$f":"COUNTRY_INFO!N44","v":133280},null,null,{"$f":"SUM(MAX('MDA2'!J44, 'T1'!L44, MAX(T3_R1!K44, T3_R2!K44)), MAX('MDA1'!K44, 'MDA2'!K44, 'T1'!M44, MAX(T3_R1!L44, T3_R2!L44)), MAX('MDA1'!L44, 'MDA2'!L44, 'T1'!N44, MAX(T3_R1!M44, T3_R2!M44)))","v":69478},{"$f":"IF(AND(COUNTRY_INFO!J44>1,COUNTRY_INFO!J44<4),IF(COUNTRY_INFO!E44>MAX('MDA2'!J44,'T1'!L44,MAX(T3_R1!K44,T3_R2!K44)),MAX('MDA2'!J44,'T1'!L44,MAX(T3_R1!K44,T3_R2!K44)),COUNTRY_INFO!E44),0)","v":0},{"$f":"IF(AND(COUNTRY_INFO!J44>1,COUNTRY_INFO!J44<4), IF(T44/COUNTRY_INFO!E44*100<>0, IF(T44/COUNTRY_INFO!E44*100>100,100,T44/COUNTRY_INFO!E44*100), \"-\"),0)","v":"-"},{"$f":"IF(AND(COUNTRY_INFO!J44>1,COUNTRY_INFO!J44<4),IF(COUNTRY_INFO!F44>MAX('MDA1'!K44,'MDA2'!K44,'T1'!M44,MAX(T3_R1!L44,T3_R2!L44)),MAX('MDA1'!K44,'MDA2'!K44,'T1'!M44,MAX(T3_R1!L44,T3_R2!L44)),COUNTRY_INFO!F44),0)","v":69478},{"$f":"IF(AND(COUNTRY_INFO!J44>1,COUNTRY_INFO!J44<4), IF(V44/COUNTRY_INFO!F44*100<>0, IF(V44/COUNTRY_INFO!F44*100>100,100,V44/COUNTRY_INFO!F44*100), \"-\"),0)","v":85.209350241605136},69478,{"$f":"IF(AND(COUNTRY_INFO!J44>1,COUNTRY_INFO!J44<4), IF(S44/P44*100<>0, IF(X44/P44*100>100,100,X44/P44*100), \"-\"),0)","v":52.129351740696286},{"$f":"COUNTRY_INFO!O44","v":94331.200000000012},null,null,{"$f":"MAX('T1'!L44,'T2'!J44)+MAX('T1'!M44,'T2'!K44)+MAX('T1'!N44,'T2'!L44)","v":69478},{"$f":"IF(COUNTRY_INFO!K44=1,IF(COUNTRY_INFO!F44*0.33>MAX('T1'!M44,'T2'!K44),MAX('T1'!M44,'T2'!K44),COUNTRY_INFO!F44*0.33),IF(COUNTRY_INFO!K44=2,IF(COUNTRY_INFO!F44*0.5>MAX('T1'!M44,'T2'!K44),MAX('T1'!M44,'T2'!K44),COUNTRY_INFO!F44*0.5),IF(COUNTRY_INFO!K44=3,IF(COUNTRY_INFO!F44>MAX('T1'!M44,'T2'!K44),MAX('T1'!M44,'T2'!K44),COUNTRY_INFO!F44),0)))","v":40769},{"$f":"IF(AND(COUNTRY_INFO!K44>0,COUNTRY_INFO!K44<4),IF(Z44>0,IF(COUNTRY_INFO!K44=1, AD44/(COUNTRY_INFO!F44*0.33)*100, IF(COUNTRY_INFO!K44=2, AD44/(COUNTRY_INFO!F44*0.5)*100, IF(COUNTRY_INFO!K44=3, AD44/COUNTRY_INFO!F44*100))),\"-\"),0)","v":100},{"$f":"IF(COUNTRY_INFO!K44=2,IF(COUNTRY_INFO!G44*0.2>MAX('T1'!N44,'T2'!L44),MAX('T1'!N44,'T2'!L44),COUNTRY_INFO!G44*0.2),IF(COUNTRY_INFO!K44=3,IF(COUNTRY_INFO!G44>MAX('T1'!N44,'T2'!L44),MAX('T1'!N44,'T2'!L44),COUNTRY_INFO!G44),0))","v":0},{"$f":"IF(AND(COUNTRY_INFO!K44>0,COUNTRY_INFO!K44<4),IF(Z44>0,IF(COUNTRY_INFO!K44=1, 0, IF(COUNTRY_INFO!K44=2, AF44/(COUNTRY_INFO!G44*0.2)*100, IF(COUNTRY_INFO!K44=3, AF44/COUNTRY_INFO!G44*100))),\"-\"),0)","v":0},40769,{"$f":"IF(AND(COUNTRY_INFO!K44>0,COUNTRY_INFO!K44<4), IF(AC44/Z44*100<>0, IF(AH44/Z44*100>100,100,AH44/Z44*100), \"-\"),0)","v":43.218998592194311},null,{"$f":"IF(AND(D44<>0, D44<>\"Unknown\",D44<>\"Stopped\",D44<>\"Not required\"),D44/COUNTRY_INFO!D44, 0)","v":0},{"$f":"IF(AND(J44<>0,J44<>\"Unknown\",J44<>\"Stopped\",J44<>\"Not required\"),J44/COUNTRY_INFO!D44, 0)","v":0},{"$f":"IF(AND(P44<>0,P44<>\"Unknown\",P44<>\"Not required\"),P44/(COUNTRY_INFO!E44+COUNTRY_INFO!F44), 0)","v":1},{"$f":"IF(AND(Z44<>0,Z44<>\"Unknown\",Z44<>\"Not required\"),IF(COUNTRY_INFO!K44=1,1,IF(COUNTRY_INFO!K44=2,0.5*COUNTRY_INFO!F44/(0.5*COUNTRY_INFO!F44+0.2*COUNTRY_INFO!G44),IF(COUNTRY_INFO!K44=3,COUNTRY_INFO!F44/(COUNTRY_INFO!F44+COUNTRY_INFO!G44)))),0)","v":0.43218998592194308},{"$f":"IF(AND(Z44<>0,Z44<>\"Unknown\",Z44<>\"Not required\"),IF(COUNTRY_INFO!K44=1,0,IF(COUNTRY_INFO!K44=2,0.2*COUNTRY_INFO!G44/(0.5*COUNTRY_INFO!F44+0.2*COUNTRY_INFO!G44),IF(COUNTRY_INFO!K44=3,COUNTRY_INFO!G44/(COUNTRY_INFO!F44+COUNTRY_INFO!G44)))),0)","v":0.56781001407805687},{"$f":"MAX(COUNTRY_INFO!D44*AK44*PROFILE!$G$7,COUNTRY_INFO!D44*AL44*PROFILE!$G$7)","v":0},{"$f":"MAX(COUNTRY_INFO!D44*AK44*PROFILE!$G$8,COUNTRY_INFO!D44*AL44*PROFILE!$G$8,COUNTRY_INFO!D44*AM44*PROFILE!$G$8)","v":44533.383085579502},{"$f":"MAX(COUNTRY_INFO!D44*AK44*PROFILE!$G$9,COUNTRY_INFO!D44*AL44*PROFILE!$G$9,COUNTRY_INFO!D44*AM44*PROFILE!$G$9,IF(AND(DISTRICT!Z44<>\"Unknown\",Z44<>\"Not required\"),COUNTRY_INFO!O44*DISTRICT!AN44,0))","v":87347.589116685689},{"$f":"MAX(COUNTRY_INFO!D44*AK44*PROFILE!$G$10,COUNTRY_INFO!D44*AL44*PROFILE!$G$10,IF(AND(DISTRICT!Z44<>\"Unknown\",Z44<>\"Not required\"),COUNTRY_INFO!O44*DISTRICT!AO44,0))","v":53562.200000000004},185443.17220226521,"Y",{"$f":"MAX('MDA2'!J44,'T1'!L44,'T2'!J44,T3_R1!K44,T3_R2!K44)","v":0},{"$f":"MAX('MDA1'!K44,'MDA2'!K44,'MDA3'!I44,'MDA3'!L44,'T1'!M44,'T2'!K44,T3_R1!L44,T3_R2!L44)","v":69478},{"$f":"MAX('MDA1'!L44,'MDA2'!L44,'MDA3'!J44,'MDA3'!M44,'T1'!N44,'T2'!L44,T3_R1!M44,T3_R2!M44)","v":0},69478,{"$f":"MAX('MDA2'!J44,T44)","v":0},{"$f":"MAX('MDA1'!K44,'MDA2'!K44,'MDA3'!I44,'MDA3'!L44,V44,AD44)","v":69478},{"$f":"MAX('MDA1'!L44,'MDA2'!L44,'MDA3'!J44,'MDA3'!M44,AF44)","v":0},69478,37.465925099803329]
[{"$f":"IF(COUNTRY_INFO!A45=0,\" \",COUNTRY_INFO!A45)","v":"Tanzania"},{"$f":"IF(COUNTRY_INFO!B45=0,\" \",COUNTRY_INFO!B45)","v":"Kagera"},{"$f":"IF(COUNTRY_INFO!C45=0,\" \",COUNTRY_INFO!C45)","v":"Kyerwa District Council"},{"$f":"COUNTRY_INFO!L45","v":0},null,null,{"$f":"MAX('MDA1'!M45,'MDA2'!M45)","v":0},{"$f":"IF(AND(COUNTRY_INFO!H45>0,COUNTRY_INFO!H45<4),IF(D45>MAX('MDA1'!M45,'MDA2'!M45),MAX('MDA1'!M45,'MDA2'!M45),D45),0)","v":0},{"$f":"IF(AND(COUNTRY_INFO!H45>0,COUNTRY_INFO!H45<4), IF(G45/D45*100<>0, IF(G45/D45*100>100,100,G45/D45*100), \"-\"),0)","v":0},{"$f":"COUNTRY_INFO!M45","v":0},null,null,{"$f":"MAX('MDA1'!M45,MAX('MDA3'!I45,'MDA3'!L45)+MAX('MDA3'!J45,'MDA3'!M45))","v":0},{"$f":"IF(AND(COUNTRY_INFO!I45>0,COUNTRY_INFO!I45<4),IF(J45>MAX('MDA1'!M45,MAX('MDA3'!I45,'MDA3'!L45)+MAX('MDA3'!J45,'MDA3'!M45)),MAX('MDA1'!M45,MAX('MDA3'!I45,'MDA3'!L45)+MAX('MDA3'!J45,'MDA3'!M45)),J45),0)","v":0},{"$f":"IF(AND(COUNTRY_INFO!I45>0,COUNTRY_INFO!I45<4), IF(M45/J45*100<>0, IF(M45/J45*100>100,100,M45/J45*100), \"-\"),0)","v":0},{"$f":"COUNTRY_INFO!N45","v":133108},null,null,{"$f":"SUM(MAX('MDA2'!J45, 'T1'!L45, MAX(T3_R1!K45, T3_R2!K45)), MAX('MDA1'!K45, 'MDA2'!K45, 'T1'!M45, MAX(T3_R1!L45, T3_R2!L45)), MAX('MDA1'!L45, 'MDA2'!L45, 'T1'!N45, MAX(T3_R1!M45, T3_R2!M45)))","v":88871},{"$f":"IF(AND(COUNTRY_INFO!J45>1,COUNTRY_INFO!J45<4),IF(COUNTRY_INFO!E45>MAX('MDA2'!J45,'T1'!L45,MAX(T3_R1!K45,T3_R2!K45)),MAX('MDA2'!J45,'T1'!L45,MAX(T3_R1!K45,T3_R2!K45)),COUNTRY_INFO!E45),0)","v":0},{"$f":"IF(AND(COUNTRY_INFO!J45>1,COUNTRY_INFO!J45<4), IF(T45/COUNTRY_INFO!E45*100<>0, IF(T45/COUNTRY_INFO!E45*100>100,100,T45/COUNTRY_INFO!E45*100), \"-\"),0)","v":"-"},{"$f":"IF(AND(COUNTRY_INFO!J45>1,COUNTRY_INFO!J45<4),IF(COUNTRY_INFO!F45>MAX('MDA1'!K45,'MDA2'!K45,'T1'!M45,MAX(T3_R1!L45,T3_R2!L45)),MAX('MDA1'!K45,'MDA2'!K45,'T1'!M45,MAX(T3_R1!L45,T3_R2!L45)),COUNTRY_INFO!F45),0)","v":88871},{"$f":"IF(AND(COUNTRY_INFO!J45>1,COUNTRY_INFO!J45<4), IF(V45/COUNTRY_INFO!F45*100<>0, IF(V45/COUNTRY_INFO!F45*100>100,100,V45/COUNTRY_INFO!F45*100), \"-\"),0)","v":97.059947795506915},88871,{"$f":"IF(AND(COUNTRY_INFO!J45>1,COUNTRY_INFO!J45<4), IF(S45/P45*100<>0, IF(X45/P45*100>100,100,X45/P45*100), \"-\"),0)","v":66.766084683114471},{"$f":"COUNTRY_INFO!O45","v":96721.700000000012},null,null,{"$f":"MAX('T1'!L45,'T2'!J45)+MAX('T1'!M45,'T2'!K45)+MAX('T1'!N45,'T2'!L45)","v":88871},{"$f":"IF(COUNTRY_INFO!K45=1,IF(COUNTRY_INFO!F45*0.33>MAX('T1'!M45,'T2'!K45),MAX('T1'!M45,'T2'!K45),COUNTRY_INFO!F45*0.33),IF(COUNTRY_INFO!K45=2,IF(COUNTRY_INFO!F45*0.5>MAX('T1'!M45,'T2'!K45),MAX('T1'!M45,'T2'!K45),COUNTRY_INFO!F45*0.5),IF(COUNTRY_INFO!K45=3,IF(COUNTRY_INFO!F45>MAX('T1'!M45,'T2'!K45),MAX('T1'!M45,'T2'!K45),COUNTRY_INFO!F45),0)))","v":45781.5},{"$f":"IF(AND(COUNTRY_INFO!K45>0,COUNTRY_INFO!K45<4),IF(Z45>0,IF(COUNTRY_INFO!K45=1, AD45/(COUNTRY_INFO!F45*0.33)*100, IF(COUNTRY_INFO!K45=2, AD45/(COUNTRY_INFO!F45*0.5)*100, IF(COUNTRY_INFO!K45=3, AD45/COUNTRY_INFO!F45*100))),\"-\"),0)","v":100},{"$f":"IF(COUNTRY_INFO!K45=2,IF(COUNTRY_INFO!G45*0.2>MAX('T1'!N45,'T2'!L45),MAX('T1'!N45,'T2'!L45),COUNTRY_INFO!G45*0.2),IF(COUNTRY_INFO!K45=3,IF(COUNTRY_INFO!G45>MAX('T1'!N45,'T2'!L45),MAX('T1'!N45,'T2'!L45),COUNTRY_INFO!G45),0))","v":0},{"$f":"IF(AND(COUNTRY_INFO!K45>0,COUNTRY_INFO!K45<4),IF(Z45>0,IF(COUNTRY_INFO!K45=1, 0, IF(COUNTRY_INFO!K45=2, AF45/(COUNTRY_INFO!G45*0.2)*100, IF(COUNTRY_INFO!K45=3, AF45/COUNTRY_INFO!G45*100))),\"-\"),0)","v":0},45781.5,{"$f":"IF(AND(COUNTRY_INFO!K45>0,COUNTRY_INFO!K45<4), IF(AC45/Z45*100<>0, IF(AH45/Z45*100>100,100,AH45/Z45*100), \"-\"),0)","v":47.333225119078755},null,{"$f":"IF(AND(D45<>0, D45<>\"Unknown\",D45<>\"Stopped\",D45<>\"Not required\"),D45/COUNTRY_INFO!D45, 0)","v":0},{"$f":"IF(AND(J45<>0,J45<>\"Unknown\",J45<>\"Stopped\",J45<>\"Not required\"),J45/COUNTRY_INFO!D45, 0)","v":0},{"$f":"IF(AND(P45<>0,P45<>\"Unknown\",P45<>\"Not required\"),P45/(COUNTRY_INFO!E45+COUNTRY_INFO!F45), 0)","v":1},{"$f":"IF(AND(Z45<>0,Z45<>\"Unknown\",Z45<>\"Not required\"),IF(COUNTRY_INFO!K45=1,1,IF(COUNTRY_INFO!K45=2,0.5*COUNTRY_INFO!F45/(0.5*COUNTRY_INFO!F45+0.2*COUNTRY_INFO!G45),IF(COUNTRY_INFO!K45=3,COUNTRY_INFO!F45/(COUNTRY_INFO!F45+COUNTRY_INFO!G45)))),0)","v":0.47333225119078753},{"$f":"IF(AND(Z45<>0,Z45<>\"Unknown\",Z45<>\"Not required\"),IF(COUNTRY_INFO!K45=1,0,IF(COUNTRY_INFO!K45=2,0.2*COUNTRY_INFO!G45/(0.5*COUNTRY_INFO!F45+0.2*COUNTRY_INFO!G45),IF(COUNTRY_INFO!K45=3,COUNTRY_INFO!G45/(COUNTRY_INFO!F45+COUNTRY_INFO!G45)))),0)","v":0.52666774880921241},{"$f":"MAX(COUNTRY_INFO!D45*AK45*PROFILE!$G$7,COUNTRY_INFO!D45*AL45*PROFILE!$G$7)","v":0},{"$f":"MAX(COUNTRY_INFO!D45*AK45*PROFILE!$G$8,COUNTRY_INFO!D45*AL45*PROFILE!$G$8,COUNTRY_INFO!D45*AM45*PROFILE!$G$8)","v":43058.674368249354},{"$f":"MAX(COUNTRY_INFO!D45*AK45*PROFILE!$G$9,COUNTRY_INFO!D45*AL45*PROFILE!$G$9,COUNTRY_INFO!D45*AM45*PROFILE!$G$9,IF(AND(DISTRICT!Z45<>\"Unknown\",Z45<>\"Not required\"),COUNTRY_INFO!O45*DISTRICT!AN45,0))","v":84455.101679550935},{"$f":"MAX(COUNTRY_INFO!D45*AK45*PROFILE!$G$10,COUNTRY_INFO!D45*AL45*PROFILE!$G$10,IF(AND(DISTRICT!Z45<>\"Unknown\",Z45<>\"Not required\"),COUNTRY_INFO!O45*DISTRICT!AO45,0))","v":50940.200000000004},178453.9760478003,"Y",{"$f":"MAX('MDA2'!J45,'T1'!L45,'T2'!J45,T3_R1!K45,T3_R2!K45)","v":0},{"$f":"MAX('MDA1'!K45,'MDA2'!K45,'MDA3'!I45,'MDA3'!L45,'T1'!M45,'T2'!K45,T3_R1!L45,T3_R2!L45)","v":88871},{"$f":"MAX('MDA1'!L45,'MDA2'!L45,'MDA3'!J45,'MDA3'!M45,'T1'!N45,'T2'!L45,T3_R1!M45,T3_R2!M45)","v":0},88871,{"$f":"MAX('MDA2'!J45,T45)","v":0},{"$f":"MAX('MDA1'!K45,'MDA2'!K45,'MDA3'!I45,'MDA3'!L45,V45,AD45)","v":88871},{"$f":"MAX('MDA1'!L45,'MDA2'!L45,'MDA3'!J45,'MDA3'!M45,AF45)","v":0},88871,49.800515498850636]
[{"$f":"IF(COUNTRY_INFO!A46=0,\" \",COUNTRY_INFO!A46)","v":"Tanzania"},{"$f":"IF(COUNTRY_INFO!B46=0,\" \",COUNTRY_INFO!B46)","v":"Kagera"},{"$f":"IF(COUNTRY_INFO!C46=0,\" \",COUNTRY_INFO!C46)","v":"Missenyi District Council"},{"$f":"COUNTRY_INFO!L46","v":0},null,null,{"$f":"MAX('MDA1'!M46,'MDA2'!M46)","v":0},{"$f":"IF(AND(COUNTRY_INFO!H46>0,COUNTRY_INFO!H46<4),IF(D46>MAX('MDA1'!M46,'MDA2'!M46),MAX('MDA1'!M46,'MDA2'!M46),D46),0)","v":0},{"$f":"IF(AND(COUNTRY_INFO!H46>0,COUNTRY_INFO!H46<4), IF(G46/D46*100<>0, IF(G46/D46*100>100,100,G46/D46*100), \"-\"),0)","v":0},{"$f":"COUNTRY_INFO!M46","v":0},null,null,{"$f":"MAX('MDA1'!M46,MAX('MDA3'!I46,'MDA3'!L46)+MAX('MDA3'!J46,'MDA3'!M46))","v":0},{"$f":"IF(AND(COUNTRY_INFO!I46>0,COUNTRY_INFO!I46<4),IF(J46>MAX('MDA1'!M46,MAX('MDA3'!I46,'MDA3'!L46)+MAX('MDA3'!J46,'MDA3'!M46)),MAX('MDA1'!M46,MAX('MDA3'!I46,'MDA3'!L46)+MAX('MDA3'!J46,'MDA3'!M46)),J46),0)","v":0},{"$f":"IF(AND(COUNTRY_INFO!I46>0,COUNTRY_INFO!I46<4), IF(M46/J46*100<>0, IF(M46/J46*100>100,100,M46/J46*100), \"-\"),0)","v":0},{"$f":"COUNTRY_INFO!N46","v":80748},null,null,{"$f":"SUM(MAX('MDA2'!J46, 'T1'!L46, MAX(T3_R1!K46, T3_R2!K46)), MAX('MDA1'!K46, 'MDA2'!K46, 'T1'!M46, MAX(T3_R1!L46, T3_R2!L46)), MAX('MDA1'!L46, 'MDA2'!L46, 'T1'!N46, MAX(T3_R1!M46, T3_R2!M46)))","v":47864},{"$f":"IF(AND(COUNTRY_INFO!J46>1,COUNTRY_INFO!J46<4),IF(COUNTRY_INFO!E46>MAX('MDA2'!J46,'T1'!L46,MAX(T3_R1!K46,T3_R2!K46)),MAX('MDA2'!J46,'T1'!L46,MAX(T3_R1!K46,T3_R2!K46)),COUNTRY_INFO!E46),0)","v":0},{"$f":"IF(AND(COUNTRY_INFO!J46>1,COUNTRY_INFO!J46<4), IF(T46/COUNTRY_INFO!E46*100<>0, IF(T46/COUNTRY_INFO!E46*100>100,100,T46/COUNTRY_INFO!E46*100), \"-\"),0)","v":"-"},{"$f":"IF(AND(COUNTRY_INFO!J46>1,COUNTRY_INFO!J46<4),IF(COUNTRY_INFO!F46>MAX('MDA1'!K46,'MDA2'!K46,'T1'!M46,MAX(T3_R1!L46,T3_R2!L46)),MAX('MDA1'!K46,'MDA2'!K46,'T1'!M46,MAX(T3_R1!L46,T3_R2!L46)),COUNTRY_INFO!F46),0)","v":47864},{"$f":"IF(AND(COUNTRY_INFO!J46>1,COUNTRY_INFO!J46<4), IF(V46/COUNTRY_INFO!F46*100<>0, IF(V46/COUNTRY_INFO!F46*100>100,100,V46/COUNTRY_INFO!F46*100), \"-\"),0)","v":97.343908887533047},47864,{"$f":"IF(AND(COUNTRY_INFO!J46>1,COUNTRY_INFO!J46<4), IF(S46/P46*100<>0, IF(X46/P46*100>100,100,X46/P46*100), \"-\"),0)","v":59.275771536137121},{"$f":"COUNTRY_INFO!O46","v":57392.6},null,null,{"$f":"MAX('T1'!L46,'T2'!J46)+MAX('T1'!M46,'T2'!K46)+MAX('T1'!N46,'T2'!L46)","v":47864},{"$f":"IF(COUNTRY_INFO!K46=1,IF(COUNTRY_INFO!F46*0.33>MAX('T1'!M46,'T2'!K46),MAX('T1'!M46,'T2'!K46),COUNTRY_INFO!F46*0.33),IF(COUNTRY_INFO!K46=2,IF(COUNTRY_INFO!F46*0.5>MAX('T1'!M46,'T2'!K46),MAX('T1'!M46,'T2'!K46),COUNTRY_INFO!F46*0.5),IF(COUNTRY_INFO!K46=3,IF(COUNTRY_INFO!F46>MAX('T1'!M46,'T2'!K46),MAX('T1'!M46,'T2'!K46),COUNTRY_INFO!F46),0)))","v":24585},{"$f":"IF(AND(COUNTRY_INFO!K46>0,COUNTRY_INFO!K46<4),IF(Z46>0,IF(COUNTRY_INFO!K46=1, AD46/(COUNTRY_INFO!F46*0.33)*100, IF(COUNTRY_INFO!K46=2, AD46/(COUNTRY_INFO!F46*0.5)*100, IF(COUNTRY_INFO!K46=3, AD46/COUNTRY_INFO!F46*100))),\"-\"),0)","v":100},{"$f":"IF(COUNTRY_INFO!K46=2,IF(COUNTRY_INFO!G46*0.2>MAX('T1'!N46,'T2'!L46),MAX('T1'!N46,'T2'!L46),COUNTRY_INFO!G46*0.2),IF(COUNTRY_INFO!K46=3,IF(COUNTRY_INFO!G46>MAX('T1'!N46,'T2'!L46),MAX('T1'!N46,'T2'!L46),COUNTRY_INFO!G46),0))","v":0},{"$f":"IF(AND(COUNTRY_INFO!K46>0,COUNTRY_INFO!K46<4),IF(Z46>0,IF(COUNTRY_INFO!K46=1, 0, IF(COUNTRY_INFO!K46=2, AF46/(COUNTRY_INFO!G46*0.2)*100, IF(COUNTRY_INFO!K46=3, AF46/COUNTRY_INFO!G46*100))),\"-\"),0)","v":0},24585,{"$f":"IF(AND(COUNTRY_INFO!K46>0,COUNTRY_INFO!K46<4), IF(AC46/Z46*100<>0, IF(AH46/Z46*100>100,100,AH46/Z46*100), \"-\"),0)","v":42.836532932817121},null,{"$f":"IF(AND(D46<>0, D46<>\"Unknown\",D46<>\"Stopped\",D46<>\"Not required\"),D46/COUNTRY_INFO!D46, 0)","v":0},{"$f":"IF(AND(J46<>0,J46<>\"Unknown\",J46<>\"Stopped\",J46<>\"Not required\"),J46/COUNTRY_INFO!D46, 0)","v":0},{"$f":"IF(AND(P46<>0,P46<>\"Unknown\",P46<>\"Not required\"),P46/(COUNTRY_INFO!E46+COUNTRY_INFO!F46), 0)","v":1},{"$f":"IF(AND(Z46<>0,Z46<>\"Unknown\",Z46<>\"Not required\"),IF(COUNTRY_INFO!K46=1,1,IF(COUNTRY_INFO!K46=2,0.5*COUNTRY_INFO!F46/(0.5*COUNTRY_INFO!F46+0.2*COUNTRY_INFO!G46),IF(COUNTRY_INFO!K46=3,COUNTRY_INFO!F46/(COUNTRY_INFO!F46+COUNTRY_INFO!G46)))),0)","v":0.42836532932817123},{"$f":"IF(AND(Z46<>0,Z46<>\"Unknown\",Z46<>\"Not required\"),IF(COUNTRY_INFO!K46=1,0,IF(COUNTRY_INFO!K46=2,0.2*COUNTRY_INFO!G46/(0.5*COUNTRY_INFO!F46+0.2*COUNTRY_INFO!G46),IF(COUNTRY_INFO!K46=3,COUNTRY_INFO!G46/(COUNTRY_INFO!F46+COUNTRY_INFO!G46)))),0)","v":0.57163467067182872},{"$f":"MAX(COUNTRY_INFO!D46*AK46*PROFILE!$G$7,COUNTRY_INFO!D46*AL46*PROFILE!$G$7)","v":0},{"$f":"MAX(COUNTRY_INFO!D46*AK46*PROFILE!$G$8,COUNTRY_INFO!D46*AL46*PROFILE!$G$8,COUNTRY_INFO!D46*AM46*PROFILE!$G$8)","v":27178.741761811318},{"$f":"MAX(COUNTRY_INFO!D46*AK46*PROFILE!$G$9,COUNTRY_INFO!D46*AL46*PROFILE!$G$9,COUNTRY_INFO!D46*AM46*PROFILE!$G$9,IF(AND(DISTRICT!Z46<>\"Unknown\",Z46<>\"Not required\"),COUNTRY_INFO!O46*DISTRICT!AN46,0))","v":53308.269069904396},{"$f":"MAX(COUNTRY_INFO!D46*AK46*PROFILE!$G$10,COUNTRY_INFO!D46*AL46*PROFILE!$G$10,IF(AND(DISTRICT!Z46<>\"Unknown\",Z46<>\"Not required\"),COUNTRY_INFO!O46*DISTRICT!AO46,0))","v":32807.599999999999},113294.61083171572,"Y",{"$f":"MAX('MDA2'!J46,'T1'!L46,'T2'!J46,T3_R1!K46,T3_R2!K46)","v":0},{"$f":"MAX('MDA1'!K46,'MDA2'!K46,'MDA3'!I46,'MDA3'!L46,'T1'!M46,'T2'!K46,T3_R1!L46,T3_R2!L46)","v":47864},{"$f":"MAX('MDA1'!L46,'MDA2'!L46,'MDA3'!J46,'MDA3'!M46,'T1'!N46,'T2'!L46,T3_R1!M46,T3_R2!M46)","v":0},47864,{"$f":"MAX('MDA2'!J46,T46)","v":0},{"$f":"MAX('MDA1'!K46,'MDA2'!K46,'MDA3'!I46,'MDA3'!L46,V46,AD46)","v":47864},{"$f":"MAX('MDA1'!L46,'MDA2'!L46,'MDA3'!J46,'MDA3'!M46,AF46)","v":0},47864,42.247375800686306]
[{"$f":"IF(COUNTRY_INFO!A47=0,\" \",COUNTRY_INFO!A47)","v":"Tanzania"},{"$f":"IF(COUNTRY_INFO!B47=0,\" \",COUNTRY_INFO!B47)","v":"Kagera"},{"$f":"IF(COUNTRY_INFO!C47=0,\" \",COUNTRY_INFO!C47)","v":"Muleba District Council"},{"$f":"COUNTRY_INFO!L47","v":0},null,null,{"$f":"MAX('MDA1'!M47,'MDA2'!M47)","v":0},{"$f":"IF(AND(COUNTRY_INFO!H47>0,COUNTRY_INFO!H47<4),IF(D47>MAX('MDA1'!M47,'MDA2'!M47),MAX('MDA1'!M47,'MDA2'!M47),D47),0)","v":0},{"$f":"IF(AND(COUNTRY_INFO!H47>0,COUNTRY_INFO!H47<4), IF(G47/D47*100<>0, IF(G47/D47*100>100,100,G47/D47*100), \"-\"),0)","v":0},{"$f":"COUNTRY_INFO!M47","v":0},null,null,{"$f":"MAX('MDA1'!M47,MAX('MDA3'!I47,'MDA3'!L47)+MAX('MDA3'!J47,'MDA3'!M47))","v":0},{"$f":"IF(AND(COUNTRY_INFO!I47>0,COUNTRY_INFO!I47<4),IF(J47>MAX('MDA1'!M47,MAX('MDA3'!I47,'MDA3'!L47)+MAX('MDA3'!J47,'MDA3'!M47)),MAX('MDA1'!M47,MAX('MDA3'!I47,'MDA3'!L47)+MAX('MDA3'!J47,'MDA3'!M47)),J47),0)","v":0},{"$f":"IF(AND(COUNTRY_INFO!I47>0,COUNTRY_INFO!I47<4), IF(M47/J47*100<>0, IF(M47/J47*100>100,100,M47/J47*100), \"-\"),0)","v":0},{"$f":"COUNTRY_INFO!N47","v":218791},null,null,{"$f":"SUM(MAX('MDA2'!J47, 'T1'!L47, MAX(T3_R1!K47, T3_R2!K47)), MAX('MDA1'!K47, 'MDA2'!K47, 'T1'!M47, MAX(T3_R1!L47, T3_R2!L47)), MAX('MDA1'!L47, 'MDA2'!L47, 'T1'!N47, MAX(T3_R1!M47, T3_R2!M47)))","v":131815},{"$f":"IF(AND(COUNTRY_INFO!J47>1,COUNTRY_INFO!J47<4),IF(COUNTRY_INFO!E47>MAX('MDA2'!J47,'T1'!L47,MAX(T3_R1!K47,T3_R2!K47)),MAX('MDA2'!J47,'T1'!L47,MAX(T3_R1!K47,T3_R2!K47)),COUNTRY_INFO!E47),0)","v":0},{"$f":"IF(AND(COUNTRY_INFO!J47>1,COUNTRY_INFO!J47<4), IF(T47/COUNTRY_INFO!E47*100<>0, IF(T47/COUNTRY_INFO!E47*100>100,100,T47/COUNTRY_INFO!E47*100), \"-\"),0)","v":"-"},{"$f":"IF(AND(COUNTRY_INFO!J47>1,COUNTRY_INFO!J47<4),IF(COUNTRY_INFO!F47>MAX('MDA1'!K47,'MDA2'!K47,'T1'!M47,MAX(T3_R1!L47,T3_R2!L47)),MAX('MDA1'!K47,'MDA2'!K47,'T1'!M47,MAX(T3_R1!L47,T3_R2!L47)),COUNTRY_INFO!F47),0)","v":131815},{"$f":"IF(AND(COUNTRY_INFO!J47>1,COUNTRY_INFO!J47<4), IF(V47/COUNTRY_INFO!F47*100<>0, IF(V47/COUNTRY_INFO!F47*100>100,100,V47/COUNTRY_INFO!F47*100), \"-\"),0)","v":97.936727294341424},131815,{"$f":"IF(AND(COUNTRY_INFO!J47>1,COUNTRY_INFO!J47<4), IF(S47/P47*100<>0, IF(X47/P47*100>100,100,X47/P47*100), \"-\"),0)","v":60.246993706322471},{"$f":"COUNTRY_INFO!O47","v":154080},null,null,{"$f":"MAX('T1'!L47,'T2'!J47)+MAX('T1'!M47,'T2'!K47)+MAX('T1'!N47,'T2'!L47)","v":131815},{"$f":"IF(COUNTRY_INFO!K47=1,IF(COUNTRY_INFO!F47*0.33>MAX('T1'!M47,'T2'!K47),MAX('T1'!M47,'T2'!K47),COUNTRY_INFO!F47*0.33),IF(COUNTRY_INFO!K47=2,IF(COUNTRY_INFO!F47*0.5>MAX('T1'!M47,'T2'!K47),MAX('T1'!M47,'T2'!K47),COUNTRY_INFO!F47*0.5),IF(COUNTRY_INFO!K47=3,IF(COUNTRY_INFO!F47>MAX('T1'!M47,'T2'!K47),MAX('T1'!M47,'T2'!K47),COUNTRY_INFO!F47),0)))","v":67296},{"$f":"IF(AND(COUNTRY_INFO!K47>0,COUNTRY_INFO!K47<4),IF(Z47>0,IF(COUNTRY_INFO!K47=1, AD47/(COUNTRY_INFO!F47*0.33)*100, IF(COUNTRY_INFO!K47=2, AD47/(COUNTRY_INFO!F47*0.5)*100, IF(COUNTRY_INFO!K47=3, AD47/COUNTRY_INFO!F47*100))),\"-\"),0)","v":100},{"$f":"IF(COUNTRY_INFO!K47=2,IF(COUNTRY_INFO!G47*0.2>MAX('T1'!N47,'T2'!L47),MAX('T1'!N47,'T2'!L47),COUNTRY_INFO!G47*0.2),IF(COUNTRY_INFO!K47=3,IF(COUNTRY_INFO!G47>MAX('T1'!N47,'T2'!L47),MAX('T1'!N47,'T2'!L47),COUNTRY_INFO!G47),0))","v":0},{"$f":"IF(AND(COUNTRY_INFO!K47>0,COUNTRY_INFO!K47<4),IF(Z47>0,IF(COUNTRY_INFO!K47=1, 0, IF(COUNTRY_INFO!K47=2, AF47/(COUNTRY_INFO!G47*0.2)*100, IF(COUNTRY_INFO!K47=3, AF47/COUNTRY_INFO!G47*100))),\"-\"),0)","v":0},67296,{"$f":"IF(AND(COUNTRY_INFO!K47>0,COUNTRY_INFO!K47<4), IF(AC47/Z47*100<>0, IF(AH47/Z47*100>100,100,AH47/Z47*100), \"-\"),0)","v":43.676012461059187},null,{"$f":"IF(AND(D47<>0, D47<>\"Unknown\",D47<>\"Stopped\",D47<>\"Not required\"),D47/COUNTRY_INFO!D47, 0)","v":0},{"$f":"IF(AND(J47<>0,J47<>\"Unknown\",J47<>\"Stopped\",J47<>\"Not required\"),J47/COUNTRY_INFO!D47, 0)","v":0},{"$f":"IF(AND(P47<>0,P47<>\"Unknown\",P47<>\"Not required\"),P47/(COUNTRY_INFO!E47+COUNTRY_INFO!F47), 0)","v":1},{"$f":"IF(AND(Z47<>0,Z47<>\"Unknown\",Z47<>\"Not required\"),IF(COUNTRY_INFO!K47=1,1,IF(COUNTRY_INFO!K47=2,0.5*COUNTRY_INFO!F47/(0.5*COUNTRY_INFO!F47+0.2*COUNTRY_INFO!G47),IF(COUNTRY_INFO!K47=3,COUNTRY_INFO!F47/(COUNTRY_INFO!F47+COUNTRY_INFO!G47)))),0)","v":0.43676012461059188},{"$f":"IF(AND(Z47<>0,Z47<>\"Unknown\",Z47<>\"Not required\"),IF(COUNTRY_INFO!K47=1,0,IF(COUNTRY_INFO!K47=2,0.2*COUNTRY_INFO!G47/(0.5*COUNTRY_INFO!F47+0.2*COUNTRY_INFO!G47),IF(COUNTRY_INFO!K47=3,COUNTRY_INFO!G47/(COUNTRY_INFO!F47+COUNTRY_INFO!G47)))),0)","v":0.56323987538940812},{"$f":"MAX(COUNTRY_INFO!D47*AK47*PROFILE!$G$7,COUNTRY_INFO!D47*AL47*PROFILE!$G$7)","v":0},{"$f":"MAX(COUNTRY_INFO!D47*AK47*PROFILE!$G$8,COUNTRY_INFO!D47*AL47*PROFILE!$G$8,COUNTRY_INFO!D47*AM47*PROFILE!$G$8)","v":72470.908116042701},{"$f":"MAX(COUNTRY_INFO!D47*AK47*PROFILE!$G$9,COUNTRY_INFO!D47*AL47*PROFILE!$G$9,COUNTRY_INFO!D47*AM47*PROFILE!$G$9,IF(AND(DISTRICT!Z47<>\"Unknown\",Z47<>\"Not required\"),COUNTRY_INFO!O47*DISTRICT!AN47,0))","v":142144.13247851742},{"$f":"MAX(COUNTRY_INFO!D47*AK47*PROFILE!$G$10,COUNTRY_INFO!D47*AL47*PROFILE!$G$10,IF(AND(DISTRICT!Z47<>\"Unknown\",Z47<>\"Not required\"),COUNTRY_INFO!O47*DISTRICT!AO47,0))","v":86784},301399.04059456009,"Y",{"$f":"MAX('MDA2'!J47,'T1'!L47,'T2'!J47,T3_R1!K47,T3_R2!K47)","v":0},{"$f":"MAX('MDA1'!K47,'MDA2'!K47,'MDA3'!I47,'MDA3'!L47,'T1'!M47,'T2'!K47,T3_R1!L47,T3_R2!L47)","v":131815},{"$f":"MAX('MDA1'!L47,'MDA2'!L47,'MDA3'!J47,'MDA3'!M47,'T1'!N47,'T2'!L47,T3_R1!M47,T3_R2!M47)","v":0},131815,{"$f":"MAX('MDA2'!J47,T47)","v":0},{"$f":"MAX('MDA1'!K47,'MDA2'!K47,'MDA3'!I47,'MDA3'!L47,V47,AD47)","v":131815},{"$f":"MAX('MDA1'!L47,'MDA2'!L47,'MDA3'!J47,'MDA3'!M47,AF47)","v":0},131815,43.734379426017028]
[{"$f":"IF(COUNTRY_INFO!A48=0,\" \",COUNTRY_INFO!A48)","v":"Tanzania"},{"$f":"IF(COUNTRY_INFO!B48=0,\" \",COUNTRY_INFO!B48)","v":"Kagera"},{"$f":"IF(COUNTRY_INFO!C48=0,\" \",COUNTRY_INFO!C48)","v":"Ngara District Council"},{"$f":"COUNTRY_INFO!L48","v":0},null,null,{"$f":"MAX('MDA1'!M48,'MDA2'!M48)","v":0},{"$f":"IF(AND(COUNTRY_INFO!H48>0,COUNTRY_INFO!H48<4),IF(D48>MAX('MDA1'!M48,'MDA2'!M48),MAX('MDA1'!M48,'MDA2'!M48),D48),0)","v":0},{"$f":"IF(AND(COUNTRY_INFO!H48>0,COUNTRY_INFO!H48<4), IF(G48/D48*100<>0, IF(G48/D48*100>100,100,G48/D48*100), \"-\"),0)","v":0},{"$f":"COUNTRY_INFO!M48","v":0},null,null,{"$f":"MAX('MDA1'!M48,MAX('MDA3'!I48,'MDA3'!L48)+MAX('MDA3'!J48,'MDA3'!M48))","v":0},{"$f":"IF(AND(COUNTRY_INFO!I48>0,COUNTRY_INFO!I48<4),IF(J48>MAX('MDA1'!M48,MAX('MDA3'!I48,'MDA3'!L48)+MAX('MDA3'!J48,'MDA3'!M48)),MAX('MDA1'!M48,MAX('MDA3'!I48,'MDA3'!L48)+MAX('MDA3'!J48,'MDA3'!M48)),J48),0)","v":0},{"$f":"IF(AND(COUNTRY_INFO!I48>0,COUNTRY_INFO!I48<4), IF(M48/J48*100<>0, IF(M48/J48*100>100,100,M48/J48*100), \"-\"),0)","v":0},{"$f":"COUNTRY_INFO!N48","v":128007},null,null,{"$f":"SUM(MAX('MDA2'!J48, 'T1'!L48, MAX(T3_R1!K48, T3_R2!K48)), MAX('MDA1'!K48, 'MDA2'!K48, 'T1'!M48, MAX(T3_R1!L48, T3_R2!L48)), MAX('MDA1'!L48, 'MDA2'!L48, 'T1'!N48, MAX(T3_R1!M48, T3_R2!M48)))","v":74703},{"$f":"IF(AND(COUNTRY_INFO!J48>1,COUNTRY_INFO!J48<4),IF(COUNTRY_INFO!E48>MAX('MDA2'!J48,'T1'!L48,MAX(T3_R1!K48,T3_R2!K48)),MAX('MDA2'!J48,'T1'!L48,MAX(T3_R1!K48,T3_R2!K48)),COUNTRY_INFO!E48),0)","v":0},{"$f":"IF(AND(COUNTRY_INFO!J48>1,COUNTRY_INFO!J48<4), IF(T48/COUNTRY_INFO!E48*100<>0, IF(T48/COUNTRY_INFO!E48*100>100,100,T48/COUNTRY_INFO!E48*100), \"-\"),0)","v":"-"},{"$f":"IF(AND(COUNTRY_INFO!J48>1,COUNTRY_INFO!J48<4),IF(COUNTRY_INFO!F48>MAX('MDA1'!K48,'MDA2'!K48,'T1'!M48,MAX(T3_R1!L48,T3_R2!L48)),MAX('MDA1'!K48,'MDA2'!K48,'T1'!M48,MAX(T3_R1!L48,T3_R2!L48)),COUNTRY_INFO!F48),0)","v":74703},{"$f":"IF(AND(COUNTRY_INFO!J48>1,COUNTRY_INFO!J48<4), IF(V48/COUNTRY_INFO!F48*100<>0, IF(V48/COUNTRY_INFO!F48*100>100,100,V48/COUNTRY_INFO!F48*100), \"-\"),0)","v":95.612496960233457},74703,{"$f":"IF(AND(COUNTRY_INFO!J48>1,COUNTRY_INFO!J48<4), IF(S48/P48*100<>0, IF(X48/P48*100>100,100,X48/P48*100), \"-\"),0)","v":58.358527268040028},{"$f":"COUNTRY_INFO!O48","v":90791.700000000012},null,null,{"$f":"MAX('T1'!L48,'T2'!J48)+MAX('T1'!M48,'T2'!K48)+MAX('T1'!N48,'T2'!L48)","v":74703},{"$f":"IF(COUNTRY_INFO!K48=1,IF(COUNTRY_INFO!F48*0.33>MAX('T1'!M48,'T2'!K48),MAX('T1'!M48,'T2'!K48),COUNTRY_INFO!F48*0.33),IF(COUNTRY_INFO!K48=2,IF(COUNTRY_INFO!F48*0.5>MAX('T1'!M48,'T2'!K48),MAX('T1'!M48,'T2'!K48),COUNTRY_INFO!F48*0.5),IF(COUNTRY_INFO!K48=3,IF(COUNTRY_INFO!F48>MAX('T1'!M48,'T2'!K48),MAX('T1'!M48,'T2'!K48),COUNTRY_INFO!F48),0)))","v":39065.5},{"$f":"IF(AND(COUNTRY_INFO!K48>0,COUNTRY_INFO!K48<4),IF(Z48>0,IF(COUNTRY_INFO!K48=1, AD48/(COUNTRY_INFO!F48*0.33)*100, IF(COUNTRY_INFO!K48=2, AD48/(COUNTRY_INFO!F48*0.5)*100, IF(COUNTRY_INFO!K48=3, AD48/COUNTRY_INFO!F48*100))),\"-\"),0)","v":100},{"$f":"IF(COUNTRY_INFO!K48=2,IF(COUNTRY_INFO!G48*0.2>MAX('T1'!N48,'T2'!L48),MAX('T1'!N48,'T2'!L48),COUNTRY_INFO!G48*0.2),IF(COUNTRY_INFO!K48=3,IF(COUNTRY_INFO!G48>MAX('T1'!N48,'T2'!L48),MAX('T1'!N48,'T2'!L48),COUNTRY_INFO!G48),0))","v":0},{"$f":"IF(AND(COUNTRY_INFO!K48>0,COUNTRY_INFO!K48<4),IF(Z48>0,IF(COUNTRY_INFO!K48=1, 0, IF(COUNTRY_INFO!K48=2, AF48/(COUNTRY_INFO!G48*0.2)*100, IF(COUNTRY_INFO!K48=3, AF48/COUNTRY_INFO!G48*100))),\"-\"),0)","v":0},39065.5,{"$f":"IF(AND(COUNTRY_INFO!K48>0,COUNTRY_INFO!K48<4), IF(AC48/Z48*100<>0, IF(AH48/Z48*100>100,100,AH48/Z48*100), \"-\"),0)","v":43.027611554800707},null,{"$f":"IF(AND(D48<>0, D48<>\"Unknown\",D48<>\"Stopped\",D48<>\"Not required\"),D48/COUNTRY_INFO!D48, 0)","v":0},{"$f":"IF(AND(J48<>0,J48<>\"Unknown\",J48<>\"Stopped\",J48<>\"Not required\"),J48/COUNTRY_INFO!D48, 0)","v":0},{"$f":"IF(AND(P48<>0,P48<>\"Unknown\",P48<>\"Not required\"),P48/(COUNTRY_INFO!E48+COUNTRY_INFO!F48), 0)","v":1},{"$f":"IF(AND(Z48<>0,Z48<>\"Unknown\",Z48<>\"Not required\"),IF(COUNTRY_INFO!K48=1,1,IF(COUNTRY_INFO!K48=2,0.5*COUNTRY_INFO!F48/(0.5*COUNTRY_INFO!F48+0.2*COUNTRY_INFO!G48),IF(COUNTRY_INFO!K48=3,COUNTRY_INFO!F48/(COUNTRY_INFO!F48+COUNTRY_INFO!G48)))),0)","v":0.4302761155480071},{"$f":"IF(AND(Z48<>0,Z48<>\"Unknown\",Z48<>\"Not required\"),IF(COUNTRY_INFO!K48=1,0,IF(COUNTRY_INFO!K48=2,0.2*COUNTRY_INFO!G48/(0.5*COUNTRY_INFO!F48+0.2*COUNTRY_INFO!G48),IF(COUNTRY_INFO!K48=3,COUNTRY_INFO!G48/(COUNTRY_INFO!F48+COUNTRY_INFO!G48)))),0)","v":0.56972388445199285},{"$f":"MAX(COUNTRY_INFO!D48*AK48*PROFILE!$G$7,COUNTRY_INFO!D48*AL48*PROFILE!$G$7)","v":0},{"$f":"MAX(COUNTRY_INFO!D48*AK48*PROFILE!$G$8,COUNTRY_INFO!D48*AL48*PROFILE!$G$8,COUNTRY_INFO!D48*AM48*PROFILE!$G$8)","v":42928.657510246521},{"$f":"MAX(COUNTRY_INFO!D48*AK48*PROFILE!$G$9,COUNTRY_INFO!D48*AL48*PROFILE!$G$9,COUNTRY_INFO!D48*AM48*PROFILE!$G$9,IF(AND(DISTRICT!Z48<>\"Unknown\",Z48<>\"Not required\"),COUNTRY_INFO!O48*DISTRICT!AN48,0))","v":84200.08716450163},{"$f":"MAX(COUNTRY_INFO!D48*AK48*PROFILE!$G$10,COUNTRY_INFO!D48*AL48*PROFILE!$G$10,IF(AND(DISTRICT!Z48<>\"Unknown\",Z48<>\"Not required\"),COUNTRY_INFO!O48*DISTRICT!AO48,0))","v":51726.200000000004},178854.94467474817,"Y",{"$f":"MAX('MDA2'!J48,'T1'!L48,'T2'!J48,T3_R1!K48,T3_R2!K48)","v":0},{"$f":"MAX('MDA1'!K48,'MDA2'!K48,'MDA3'!I48,'MDA3'!L48,'T1'!M48,'T2'!K48,T3_R1!L48,T3_R2!L48)","v":74703},{"$f":"MAX('MDA1'!L48,'MDA2'!L48,'MDA3'!J48,'MDA3'!M48,'T1'!N48,'T2'!L48,T3_R1!M48,T3_R2!M48)","v":0},74703,{"$f":"MAX('MDA2'!J48,T48)","v":0},{"$f":"MAX('MDA1'!K48,'MDA2'!K48,'MDA3'!I48,'MDA3'!L48,V48,AD48)","v":74703},{"$f":"MAX('MDA1'!L48,'MDA2'!L48,'MDA3'!J48,'MDA3'!M48,AF48)","v":0},74703,41.767366362640473]
[{"$f":"IF(COUNTRY_INFO!A49=0,\" \",COUNTRY_INFO!A49)","v":"Tanzania"},{"$f":"IF(COUNTRY_INFO!B49=0,\" \",COUNTRY_INFO!B49)","v":"Katavi"},{"$f":"IF(COUNTRY_INFO!C49=0,\" \",COUNTRY_INFO!C49)","v":"Mlele District Council"},{"$f":"COUNTRY_INFO!L49","v":"Stopped"},null,null,{"$f":"MAX('MDA1'!M49,'MDA2'!M49)","v":0},{"$f":"IF(AND(COUNTRY_INFO!H49>0,COUNTRY_INFO!H49<4),IF(D49>MAX('MDA1'!M49,'MDA2'!M49),MAX('MDA1'!M49,'MDA2'!M49),D49),0)","v":0},{"$f":"IF(AND(COUNTRY_INFO!H49>0,COUNTRY_INFO!H49<4), IF(G49/D49*100<>0, IF(G49/D49*100>100,100,G49/D49*100), \"-\"),0)","v":0},{"$f":"COUNTRY_INFO!M49","v":0},null,null,{"$f":"MAX('MDA1'!M49,MAX('MDA3'!I49,'MDA3'!L49)+MAX('MDA3'!J49,'MDA3'!M49))","v":0},{"$f":"IF(AND(COUNTRY_INFO!I49>0,COUNTRY_INFO!I49<4),IF(J49>MAX('MDA1'!M49,MAX('MDA3'!I49,'MDA3'!L49)+MAX('MDA3'!J49,'MDA3'!M49)),MAX('MDA1'!M49,MAX('MDA3'!I49,'MDA3'!L49)+MAX('MDA3'!J49,'MDA3'!M49)),J49),0)","v":0},{"$f":"IF(AND(COUNTRY_INFO!I49>0,COUNTRY_INFO!I49<4), IF(M49/J49*100<>0, IF(M49/J49*100>100,100,M49/J49*100), \"-\"),0)","v":0},{"$f":"COUNTRY_INFO!N49","v":17471},null,null,{"$f":"SUM(MAX('MDA2'!J49, 'T1'!L49, MAX(T3_R1!K49, T3_R2!K49)), MAX('MDA1'!K49, 'MDA2'!K49, 'T1'!M49, MAX(T3_R1!L49, T3_R2!L49)), MAX('MDA1'!L49, 'MDA2'!L49, 'T1'!N49, MAX(T3_R1!M49, T3_R2!M49)))","v":12063},{"$f":"IF(AND(COUNTRY_INFO!J49>1,COUNTRY_INFO!J49<4),IF(COUNTRY_INFO!E49>MAX('MDA2'!J49,'T1'!L49,MAX(T3_R1!K49,T3_R2!K49)),MAX('MDA2'!J49,'T1'!L49,MAX(T3_R1!K49,T3_R2!K49)),COUNTRY_INFO!E49),0)","v":0},{"$f":"IF(AND(COUNTRY_INFO!J49>1,COUNTRY_INFO!J49<4), IF(T49/COUNTRY_INFO!E49*100<>0, IF(T49/COUNTRY_INFO!E49*100>100,100,T49/COUNTRY_INFO!E49*100), \"-\"),0)","v":"-"},{"$f":"IF(AND(COUNTRY_INFO!J49>1,COUNTRY_INFO!J49<4),IF(COUNTRY_INFO!F49>MAX('MDA1'!K49,'MDA2'!K49,'T1'!M49,MAX(T3_R1!L49,T3_R2!L49)),MAX('MDA1'!K49,'MDA2'!K49,'T1'!M49,MAX(T3_R1!L49,T3_R2!L49)),COUNTRY_INFO!F49),0)","v":12063},{"$f":"IF(AND(COUNTRY_INFO!J49>1,COUNTRY_INFO!J49<4), IF(V49/COUNTRY_INFO!F49*100<>0, IF(V49/COUNTRY_INFO!F49*100>100,100,V49/COUNTRY_INFO!F49*100), \"-\"),0)","v":92.528956048170599},12063,{"$f":"IF(AND(COUNTRY_INFO!J49>1,COUNTRY_INFO!J49<4), IF(S49/P49*100<>0, IF(X49/P49*100>100,100,X49/P49*100), \"-\"),0)","v":69.045847404269935},{"$f":"COUNTRY_INFO!O49","v":13475.5},null,null,{"$f":"MAX('T1'!L49,'T2'!J49)+MAX('T1'!M49,'T2'!K49)+MAX('T1'!N49,'T2'!L49)","v":0},{"$f":"IF(COUNTRY_INFO!K49=1,IF(COUNTRY_INFO!F49*0.33>MAX('T1'!M49,'T2'!K49),MAX('T1'!M49,'T2'!K49),COUNTRY_INFO!F49*0.33),IF(COUNTRY_INFO!K49=2,IF(COUNTRY_INFO!F49*0.5>MAX('T1'!M49,'T2'!K49),MAX('T1'!M49,'T2'!K49),COUNTRY_INFO!F49*0.5),IF(COUNTRY_INFO!K49=3,IF(COUNTRY_INFO!F49>MAX('T1'!M49,'T2'!K49),MAX('T1'!M49,'T2'!K49),COUNTRY_INFO!F49),0)))","v":0},{"$f":"IF(AND(COUNTRY_INFO!K49>0,COUNTRY_INFO!K49<4),IF(Z49>0,IF(COUNTRY_INFO!K49=1, AD49/(COUNTRY_INFO!F49*0.33)*100, IF(COUNTRY_INFO!K49=2, AD49/(COUNTRY_INFO!F49*0.5)*100, IF(COUNTRY_INFO!K49=3, AD49/COUNTRY_INFO!F49*100))),\"-\"),0)","v":0},{"$f":"IF(COUNTRY_INFO!K49=2,IF(COUNTRY_INFO!G49*0.2>MAX('T1'!N49,'T2'!L49),MAX('T1'!N49,'T2'!L49),COUNTRY_INFO!G49*0.2),IF(COUNTRY_INFO!K49=3,IF(COUNTRY_INFO!G49>MAX('T1'!N49,'T2'!L49),MAX('T1'!N49,'T2'!L49),COUNTRY_INFO!G49),0))","v":0},{"$f":"IF(AND(COUNTRY_INFO!K49>0,COUNTRY_INFO!K49<4),IF(Z49>0,IF(COUNTRY_INFO!K49=1, 0, IF(COUNTRY_INFO!K49=2, AF49/(COUNTRY_INFO!G49*0.2)*100, IF(COUNTRY_INFO!K49=3, AF49/COUNTRY_INFO!G49*100))),\"-\"),0)","v":0},0,{"$f":"IF(AND(COUNTRY_INFO!K49>0,COUNTRY_INFO!K49<4), IF(AC49/Z49*100<>0, IF(AH49/Z49*100>100,100,AH49/Z49*100), \"-\"),0)","v":"-"},null,{"$f":"IF(AND(D49<>0, D49<>\"Unknown\",D49<>\"Stopped\",D49<>\"Not required\"),D49/COUNTRY_INFO!D49, 0)","v":0},{"$f":"IF(AND(J49<>0,J49<>\"Unknown\",J49<>\"Stopped\",J49<>\"Not required\"),J49/COUNTRY_INFO!D49, 0)","v":0},{"$f":"IF(AND(P49<>0,P49<>\"Unknown\",P49<>\"Not required\"),P49/(COUNTRY_INFO!E49+COUNTRY_INFO!F49), 0)","v":1},{"$f":"IF(AND(Z49<>0,Z49<>\"Unknown\",Z49<>\"Not required\"),IF(COUNTRY_INFO!K49=1,1,IF(COUNTRY_INFO!K49=2,0.5*COUNTRY_INFO!F49/(0.5*COUNTRY_INFO!F49+0.2*COUNTRY_INFO!G49),IF(COUNTRY_INFO!K49=3,COUNTRY_INFO!F49/(COUNTRY_INFO!F49+COUNTRY_INFO!G49)))),0)","v":0.48372973173537159},{"$f":"IF(AND(Z49<>0,Z49<>\"Unknown\",Z49<>\"Not required\"),IF(COUNTRY_INFO!K49=1,0,IF(COUNTRY_INFO!K49=2,0.2*COUNTRY_INFO!G49/(0.5*COUNTRY_INFO!F49+0.2*COUNTRY_INFO!G49),IF(COUNTRY_INFO!K49=3,COUNTRY_INFO!G49/(COUNTRY_INFO!F49+COUNTRY_INFO!G49)))),0)","v":0.51627026826462841},{"$f":"MAX(COUNTRY_INFO!D49*AK49*PROFILE!$G$7,COUNTRY_INFO!D49*AL49*PROFILE!$G$7)","v":0},{"$f":"MAX(COUNTRY_INFO!D49*AK49*PROFILE!$G$8,COUNTRY_INFO!D49*AL49*PROFILE!$G$8,COUNTRY_INFO!D49*AM49*PROFILE!$G$8)","v":5802.0161672040567},{"$f":"MAX(COUNTRY_INFO!D49*AK49*PROFILE!$G$9,COUNTRY_INFO!D49*AL49*PROFILE!$G$9,COUNTRY_INFO!D49*AM49*PROFILE!$G$9,IF(AND(DISTRICT!Z49<>\"Unknown\",Z49<>\"Not required\"),COUNTRY_INFO!O49*DISTRICT!AN49,0))","v":11380.049955948969},{"$f":"MAX(COUNTRY_INFO!D49*AK49*PROFILE!$G$10,COUNTRY_INFO!D49*AL49*PROFILE!$G$10,IF(AND(DISTRICT!Z49<>\"Unknown\",Z49<>\"Not required\"),COUNTRY_INFO!O49*DISTRICT!AO49,0))","v":6957},24139.066123153025,0,{"$f":"MAX('MDA2'!J49,'T1'!L49,'T2'!J49,T3_R1!K49,T3_R2!K49)","v":0},{"$f":"MAX('MDA1'!K49,'MDA2'!K49,'MDA3'!I49,'MDA3'!L49,'T1'!M49,'T2'!K49,T3_R1!L49,T3_R2!L49)","v":12063},{"$f":"MAX('MDA1'!L49,'MDA2'!L49,'MDA3'!J49,'MDA3'!M49,'T1'!N49,'T2'!L49,T3_R1!M49,T3_R2!M49)","v":0},12063,{"$f":"MAX('MDA2'!J49,T49)","v":0},{"$f":"MAX('MDA1'!K49,'MDA2'!K49,'MDA3'!I49,'MDA3'!L49,V49,AD49)","v":12063},{"$f":"MAX('MDA1'!L49,'MDA2'!L49,'MDA3'!J49,'MDA3'!M49,AF49)","v":0},12063,49.972935731882991]
[{"$f":"IF(COUNTRY_INFO!A50=0,\" \",COUNTRY_INFO!A50)","v":"Tanzania"},{"$f":"IF(COUNTRY_INFO!B50=0,\" \",COUNTRY_INFO!B50)","v":"Katavi"},{"$f":"IF(COUNTRY_INFO!C50=0,\" \",COUNTRY_INFO!C50)","v":"Mpanda District Council"},{"$f":"COUNTRY_INFO!L50","v":"Stopped"},null,null,{"$f":"MAX('MDA1'!M50,'MDA2'!M50)","v":0},{"$f":"IF(AND(COUNTRY_INFO!H50>0,COUNTRY_INFO!H50<4),IF(D50>MAX('MDA1'!M50,'MDA2'!M50),MAX('MDA1'!M50,'MDA2'!M50),D50),0)","v":0},{"$f":"IF(AND(COUNTRY_INFO!H50>0,COUNTRY_INFO!H50<4), IF(G50/D50*100<>0, IF(G50/D50*100>100,100,G50/D50*100), \"-\"),0)","v":0},{"$f":"COUNTRY_INFO!M50","v":0},null,null,{"$f":"MAX('MDA1'!M50,MAX('MDA3'!I50,'MDA3'!L50)+MAX('MDA3'!J50,'MDA3'!M50))","v":0},{"$f":"IF(AND(COUNTRY_INFO!I50>0,COUNTRY_INFO!I50<4),IF(J50>MAX('MDA1'!M50,MAX('MDA3'!I50,'MDA3'!L50)+MAX('MDA3'!J50,'MDA3'!M50)),MAX('MDA1'!M50,MAX('MDA3'!I50,'MDA3'!L50)+MAX('MDA3'!J50,'MDA3'!M50)),J50),0)","v":0},{"$f":"IF(AND(COUNTRY_INFO!I50>0,COUNTRY_INFO!I50<4), IF(M50/J50*100<>0, IF(M50/J50*100>100,100,M50/J50*100), \"-\"),0)","v":0},{"$f":"COUNTRY_INFO!N50","v":86733.223329799177},null,null,{"$f":"SUM(MAX('MDA2'!J50, 'T1'!L50, MAX(T3_R1!K50, T3_R2!K50)), MAX('MDA1'!K50, 'MDA2'!K50, 'T1'!M50, MAX(T3_R1!L50, T3_R2!L50)), MAX('MDA1'!L50, 'MDA2'!L50, 'T1'!N50, MAX(T3_R1!M50, T3_R2!M50)))","v":65032},{"$f":"IF(AND(COUNTRY_INFO!J50>1,COUNTRY_INFO!J50<4),IF(COUNTRY_INFO!E50>MAX('MDA2'!J50,'T1'!L50,MAX(T3_R1!K50,T3_R2!K50)),MAX('MDA2'!J50,'T1'!L50,MAX(T3_R1!K50,T3_R2!K50)),COUNTRY_INFO!E50),0)","v":0},{"$f":"IF(AND(COUNTRY_INFO!J50>1,COUNTRY_INFO!J50<4), IF(T50/COUNTRY_INFO!E50*100<>0, IF(T50/COUNTRY_INFO!E50*100>100,100,T50/COUNTRY_INFO!E50*100), \"-\"),0)","v":"-"},{"$f":"IF(AND(COUNTRY_INFO!J50>1,COUNTRY_INFO!J50<4),IF(COUNTRY_INFO!F50>MAX('MDA1'!K50,'MDA2'!K50,'T1'!M50,MAX(T3_R1!L50,T3_R2!L50)),MAX('MDA1'!K50,'MDA2'!K50,'T1'!M50,MAX(T3_R1!L50,T3_R2!L50)),COUNTRY_INFO!F50),0)","v":65032},{"$f":"IF(AND(COUNTRY_INFO!J50>1,COUNTRY_INFO!J50<4), IF(V50/COUNTRY_INFO!F50*100<>0, IF(V50/COUNTRY_INFO!F50*100>100,100,V50/COUNTRY_INFO!F50*100), \"-\"),0)","v":93.459609387350355},65032,{"$f":"IF(AND(COUNTRY_INFO!J50>1,COUNTRY_INFO!J50<4), IF(S50/P50*100<>0, IF(X50/P50*100>100,100,X50/P50*100), \"-\"),0)","v":74.979341829276592},{"$f":"COUNTRY_INFO!O50","v":44034.255334040165},null,null,{"$f":"MAX('T1'!L50,'T2'!J50)+MAX('T1'!M50,'T2'!K50)+MAX('T1'!N50,'T2'!L50)","v":0},{"$f":"IF(COUNTRY_INFO!K50=1,IF(COUNTRY_INFO!F50*0.33>MAX('T1'!M50,'T2'!K50),MAX('T1'!M50,'T2'!K50),COUNTRY_INFO!F50*0.33),IF(COUNTRY_INFO!K50=2,IF(COUNTRY_INFO!F50*0.5>MAX('T1'!M50,'T2'!K50),MAX('T1'!M50,'T2'!K50),COUNTRY_INFO!F50*0.5),IF(COUNTRY_INFO!K50=3,IF(COUNTRY_INFO!F50>MAX('T1'!M50,'T2'!K50),MAX('T1'!M50,'T2'!K50),COUNTRY_INFO!F50),0)))","v":0},{"$f":"IF(AND(COUNTRY_INFO!K50>0,COUNTRY_INFO!K50<4),IF(Z50>0,IF(COUNTRY_INFO!K50=1, AD50/(COUNTRY_INFO!F50*0.33)*100, IF(COUNTRY_INFO!K50=2, AD50/(COUNTRY_INFO!F50*0.5)*100, IF(COUNTRY_INFO!K50=3, AD50/COUNTRY_INFO!F50*100))),\"-\"),0)","v":0},{"$f":"IF(COUNTRY_INFO!K50=2,IF(COUNTRY_INFO!G50*0.2>MAX('T1'!N50,'T2'!L50),MAX('T1'!N50,'T2'!L50),COUNTRY_INFO!G50*0.2),IF(COUNTRY_INFO!K50=3,IF(COUNTRY_INFO!G50>MAX('T1'!N50,'T2'!L50),MAX('T1'!N50,'T2'!L50),COUNTRY_INFO!G50),0))","v":0},{"$f":"IF(AND(COUNTRY_INFO!K50>0,COUNTRY_INFO!K50<4),IF(Z50>0,IF(COUNTRY_INFO!K50=1, 0, IF(COUNTRY_INFO!K50=2, AF50/(COUNTRY_INFO!G50*0.2)*100, IF(COUNTRY_INFO!K50=3, AF50/COUNTRY_INFO!G50*100))),\"-\"),0)","v":0},0,{"$f":"IF(AND(COUNTRY_INFO!K50>0,COUNTRY_INFO!K50<4), IF(AC50/Z50*100<>0, IF(AH50/Z50*100>100,100,AH50/Z50*100), \"-\"),0)","v":"-"},null,{"$f":"IF(AND(D50<>0, D50<>\"Unknown\",D50<>\"Stopped\",D50<>\"Not required\"),D50/COUNTRY_INFO!D50, 0)","v":0},{"$f":"IF(AND(J50<>0,J50<>\"Unknown\",J50<>\"Stopped\",J50<>\"Not required\"),J50/COUNTRY_INFO!D50, 0)","v":0},{"$f":"IF(AND(P50<>0,P50<>\"Unknown\",P50<>\"Not required\"),P50/(COUNTRY_INFO!E50+COUNTRY_INFO!F50), 0)","v":1},{"$f":"IF(AND(Z50<>0,Z50<>\"Unknown\",Z50<>\"Not required\"),IF(COUNTRY_INFO!K50=1,1,IF(COUNTRY_INFO!K50=2,0.5*COUNTRY_INFO!F50/(0.5*COUNTRY_INFO!F50+0.2*COUNTRY_INFO!G50),IF(COUNTRY_INFO!K50=3,COUNTRY_INFO!F50/(COUNTRY_INFO!F50+COUNTRY_INFO!G50)))),0)","v":0.79010079166945368},{"$f":"IF(AND(Z50<>0,Z50<>\"Unknown\",Z50<>\"Not required\"),IF(COUNTRY_INFO!K50=1,0,IF(COUNTRY_INFO!K50=2,0.2*COUNTRY_INFO!G50/(0.5*COUNTRY_INFO!F50+0.2*COUNTRY_INFO!G50),IF(COUNTRY_INFO!K50=3,COUNTRY_INFO!G50/(COUNTRY_INFO!F50+COUNTRY_INFO!G50)))),0)","v":0.20989920833054626},{"$f":"MAX(COUNTRY_INFO!D50*AK50*PROFILE!$G$7,COUNTRY_INFO!D50*AL50*PROFILE!$G$7)","v":0},{"$f":"MAX(COUNTRY_INFO!D50*AK50*PROFILE!$G$8,COUNTRY_INFO!D50*AL50*PROFILE!$G$8,COUNTRY_INFO!D50*AM50*PROFILE!$G$8)","v":14761.18806225654},{"$f":"MAX(COUNTRY_INFO!D50*AK50*PROFILE!$G$9,COUNTRY_INFO!D50*AL50*PROFILE!$G$9,COUNTRY_INFO!D50*AM50*PROFILE!$G$9,IF(AND(DISTRICT!Z50<>\"Unknown\",Z50<>\"Not required\"),COUNTRY_INFO!O50*DISTRICT!AN50,0))","v":34791.5},{"$f":"MAX(COUNTRY_INFO!D50*AK50*PROFILE!$G$10,COUNTRY_INFO!D50*AL50*PROFILE!$G$10,IF(AND(DISTRICT!Z50<>\"Unknown\",Z50<>\"Not required\"),COUNTRY_INFO!O50*DISTRICT!AO50,0))","v":9242.7553340401646},58795.443396296701,0,{"$f":"MAX('MDA2'!J50,'T1'!L50,'T2'!J50,T3_R1!K50,T3_R2!K50)","v":0},{"$f":"MAX('MDA1'!K50,'MDA2'!K50,'MDA3'!I50,'MDA3'!L50,'T1'!M50,'T2'!K50,T3_R1!L50,T3_R2!L50)","v":65032},{"$f":"MAX('MDA1'!L50,'MDA2'!L50,'MDA3'!J50,'MDA3'!M50,'T1'!N50,'T2'!L50,T3_R1!M50,T3_R2!M50)","v":0},65032,{"$f":"MAX('MDA2'!J50,T50)","v":0},{"$f":"MAX('MDA1'!K50,'MDA2'!K50,'MDA3'!I50,'MDA3'!L50,V50,AD50)","v":65032},{"$f":"MAX('MDA1'!L50,'MDA2'!L50,'MDA3'!J50,'MDA3'!M50,AF50)","v":0},58795.443396296701,100]
[{"$f":"IF(COUNTRY_INFO!A51=0,\" \",COUNTRY_INFO!A51)","v":"Tanzania"},{"$f":"IF(COUNTRY_INFO!B51=0,\" \",COUNTRY_INFO!B51)","v":"Katavi"},{"$f":"IF(COUNTRY_INFO!C51=0,\" \",COUNTRY_INFO!C51)","v":"Mpanda Municipal Council"},{"$f":"COUNTRY_INFO!L51","v":"Stopped"},null,null,{"$f":"MAX('MDA1'!M51,'MDA2'!M51)","v":0},{"$f":"IF(AND(COUNTRY_INFO!H51>0,COUNTRY_INFO!H51<4),IF(D51>MAX('MDA1'!M51,'MDA2'!M51),MAX('MDA1'!M51,'MDA2'!M51),D51),0)","v":0},{"$f":"IF(AND(COUNTRY_INFO!H51>0,COUNTRY_INFO!H51<4), IF(G51/D51*100<>0, IF(G51/D51*100>100,100,G51/D51*100), \"-\"),0)","v":0},{"$f":"COUNTRY_INFO!M51","v":0},null,null,{"$f":"MAX('MDA1'!M51,MAX('MDA3'!I51,'MDA3'!L51)+MAX('MDA3'!J51,'MDA3'!M51))","v":0},{"$f":"IF(AND(COUNTRY_INFO!I51>0,COUNTRY_INFO!I51<4),IF(J51>MAX('MDA1'!M51,MAX('MDA3'!I51,'MDA3'!L51)+MAX('MDA3'!J51,'MDA3'!M51)),MAX('MDA1'!M51,MAX('MDA3'!I51,'MDA3'!L51)+MAX('MDA3'!J51,'MDA3'!M51)),J51),0)","v":0},{"$f":"IF(AND(COUNTRY_INFO!I51>0,COUNTRY_INFO!I51<4), IF(M51/J51*100<>0, IF(M51/J51*100>100,100,M51/J51*100), \"-\"),0)","v":0},{"$f":"COUNTRY_INFO!N51","v":67463},null,null,{"$f":"SUM(MAX('MDA2'!J51, 'T1'!L51, MAX(T3_R1!K51, T3_R2!K51)), MAX('MDA1'!K51, 'MDA2'!K51, 'T1'!M51, MAX(T3_R1!L51, T3_R2!L51)), MAX('MDA1'!L51, 'MDA2'!L51, 'T1'!N51, MAX(T3_R1!M51, T3_R2!M51)))","v":40248},{"$f":"IF(AND(COUNTRY_INFO!J51>1,COUNTRY_INFO!J51<4),IF(COUNTRY_INFO!E51>MAX('MDA2'!J51,'T1'!L51,MAX(T3_R1!K51,T3_R2!K51)),MAX('MDA2'!J51,'T1'!L51,MAX(T3_R1!K51,T3_R2!K51)),COUNTRY_INFO!E51),0)","v":0},{"$f":"IF(AND(COUNTRY_INFO!J51>1,COUNTRY_INFO!J51<4), IF(T51/COUNTRY_INFO!E51*100<>0, IF(T51/COUNTRY_INFO!E51*100>100,100,T51/COUNTRY_INFO!E51*100), \"-\"),0)","v":"-"},{"$f":"IF(AND(COUNTRY_INFO!J51>1,COUNTRY_INFO!J51<4),IF(COUNTRY_INFO!F51>MAX('MDA1'!K51,'MDA2'!K51,'T1'!M51,MAX(T3_R1!L51,T3_R2!L51)),MAX('MDA1'!K51,'MDA2'!K51,'T1'!M51,MAX(T3_R1!L51,T3_R2!L51)),COUNTRY_INFO!F51),0)","v":40248},{"$f":"IF(AND(COUNTRY_INFO!J51>1,COUNTRY_INFO!J51<4), IF(V51/COUNTRY_INFO!F51*100<>0, IF(V51/COUNTRY_INFO!F51*100>100,100,V51/COUNTRY_INFO!F51*100), \"-\"),0)","v":81.356754462210176},40248,{"$f":"IF(AND(COUNTRY_INFO!J51>1,COUNTRY_INFO!J51<4), IF(S51/P51*100<>0, IF(X51/P51*100>100,100,X51/P51*100), \"-\"),0)","v":59.659368839215567},{"$f":"COUNTRY_INFO!O51","v":54523.3},null,null,{"$f":"MAX('T1'!L51,'T2'!J51)+MAX('T1'!M51,'T2'!K51)+MAX('T1'!N51,'T2'!L51)","v":0},{"$f":"IF(COUNTRY_INFO!K51=1,IF(COUNTRY_INFO!F51*0.33>MAX('T1'!M51,'T2'!K51),MAX('T1'!M51,'T2'!K51),COUNTRY_INFO!F51*0.33),IF(COUNTRY_INFO!K51=2,IF(COUNTRY_INFO!F51*0.5>MAX('T1'!M51,'T2'!K51),MAX('T1'!M51,'T2'!K51),COUNTRY_INFO!F51*0.5),IF(COUNTRY_INFO!K51=3,IF(COUNTRY_INFO!F51>MAX('T1'!M51,'T2'!K51),MAX('T1'!M51,'T2'!K51),COUNTRY_INFO!F51),0)))","v":0},{"$f":"IF(AND(COUNTRY_INFO!K51>0,COUNTRY_INFO!K51<4),IF(Z51>0,IF(COUNTRY_INFO!K51=1, AD51/(COUNTRY_INFO!F51*0.33)*100, IF(COUNTRY_INFO!K51=2, AD51/(COUNTRY_INFO!F51*0.5)*100, IF(COUNTRY_INFO!K51=3, AD51/COUNTRY_INFO!F51*100))),\"-\"),0)","v":0},{"$f":"IF(COUNTRY_INFO!K51=2,IF(COUNTRY_INFO!G51*0.2>MAX('T1'!N51,'T2'!L51),MAX('T1'!N51,'T2'!L51),COUNTRY_INFO!G51*0.2),IF(COUNTRY_INFO!K51=3,IF(COUNTRY_INFO!G51>MAX('T1'!N51,'T2'!L51),MAX('T1'!N51,'T2'!L51),COUNTRY_INFO!G51),0))","v":0},{"$f":"IF(AND(COUNTRY_INFO!K51>0,COUNTRY_INFO!K51<4),IF(Z51>0,IF(COUNTRY_INFO!K51=1, 0, IF(COUNTRY_INFO!K51=2, AF51/(COUNTRY_INFO!G51*0.2)*100, IF(COUNTRY_INFO!K51=3, AF51/COUNTRY_INFO!G51*100))),\"-\"),0)","v":0},0,{"$f":"IF(AND(COUNTRY_INFO!K51>0,COUNTRY_INFO!K51<4), IF(AC51/Z51*100<>0, IF(AH51/Z51*100>100,100,AH51/Z51*100), \"-\"),0)","v":"-"},null,{"$f":"IF(AND(D51<>0, D51<>\"Unknown\",D51<>\"Stopped\",D51<>\"Not required\"),D51/COUNTRY_INFO!D51, 0)","v":0},{"$f":"IF(AND(J51<>0,J51<>\"Unknown\",J51<>\"Stopped\",J51<>\"Not required\"),J51/COUNTRY_INFO!D51, 0)","v":0},{"$f":"IF(AND(P51<>0,P51<>\"Unknown\",P51<>\"Not required\"),P51/(COUNTRY_INFO!E51+COUNTRY_INFO!F51), 0)","v":1},{"$f":"IF(AND(Z51<>0,Z51<>\"Unknown\",Z51<>\"Not required\"),IF(COUNTRY_INFO!K51=1,1,IF(COUNTRY_INFO!K51=2,0.5*COUNTRY_INFO!F51/(0.5*COUNTRY_INFO!F51+0.2*COUNTRY_INFO!G51),IF(COUNTRY_INFO!K51=3,COUNTRY_INFO!F51/(COUNTRY_INFO!F51+COUNTRY_INFO!G51)))),0)","v":0.45366843166132642},{"$f":"IF(AND(Z51<>0,Z51<>\"Unknown\",Z51<>\"Not required\"),IF(COUNTRY_INFO!K51=1,0,IF(COUNTRY_INFO!K51=2,0.2*COUNTRY_INFO!G51/(0.5*COUNTRY_INFO!F51+0.2*COUNTRY_INFO!G51),IF(COUNTRY_INFO!K51=3,COUNTRY_INFO!G51/(COUNTRY_INFO!F51+COUNTRY_INFO!G51)))),0)","v":0.54633156833867358},{"$f":"MAX(COUNTRY_INFO!D51*AK51*PROFILE!$G$7,COUNTRY_INFO!D51*AL51*PROFILE!$G$7)","v":0},{"$f":"MAX(COUNTRY_INFO!D51*AK51*PROFILE!$G$8,COUNTRY_INFO!D51*AL51*PROFILE!$G$8,COUNTRY_INFO!D51*AM51*PROFILE!$G$8)","v":24027.248595669251},{"$f":"MAX(COUNTRY_INFO!D51*AK51*PROFILE!$G$9,COUNTRY_INFO!D51*AL51*PROFILE!$G$9,COUNTRY_INFO!D51*AM51*PROFILE!$G$9,IF(AND(DISTRICT!Z51<>\"Unknown\",Z51<>\"Not required\"),COUNTRY_INFO!O51*DISTRICT!AN51,0))","v":47126.943711100517},{"$f":"MAX(COUNTRY_INFO!D51*AK51*PROFILE!$G$10,COUNTRY_INFO!D51*AL51*PROFILE!$G$10,IF(AND(DISTRICT!Z51<>\"Unknown\",Z51<>\"Not required\"),COUNTRY_INFO!O51*DISTRICT!AO51,0))","v":29787.800000000003},100941.99230676977,0,{"$f":"MAX('MDA2'!J51,'T1'!L51,'T2'!J51,T3_R1!K51,T3_R2!K51)","v":0},{"$f":"MAX('MDA1'!K51,'MDA2'!K51,'MDA3'!I51,'MDA3'!L51,'T1'!M51,'T2'!K51,T3_R1!L51,T3_R2!L51)","v":40248},{"$f":"MAX('MDA1'!L51,'MDA2'!L51,'MDA3'!J51,'MDA3'!M51,'T1'!N51,'T2'!L51,T3_R1!M51,T3_R2!M51)","v":0},40248,{"$f":"MAX('MDA2'!J51,T51)","v":0},{"$f":"MAX('MDA1'!K51,'MDA2'!K51,'MDA3'!I51,'MDA3'!L51,V51,AD51)","v":40248},{"$f":"MAX('MDA1'!L51,'MDA2'!L51,'MDA3'!J51,'MDA3'!M51,AF51)","v":0},40248,39.872405012260423]
[{"$f":"IF(COUNTRY_INFO!A52=0,\" \",COUNTRY_INFO!A52)","v":"Tanzania"},{"$f":"IF(COUNTRY_INFO!B52=0,\" \",COUNTRY_INFO!B52)","v":"Katavi"},{"$f":"IF(COUNTRY_INFO!C52=0,\" \",COUNTRY_INFO!C52)","v":"Mpimbwe District Council"},{"$f":"COUNTRY_INFO!L52","v":"Stopped"},null,null,{"$f":"MAX('MDA1'!M52,'MDA2'!M52)","v":0},{"$f":"IF(AND(COUNTRY_INFO!H52>0,COUNTRY_INFO!H52<4),IF(D52>MAX('MDA1'!M52,'MDA2'!M52),MAX('MDA1'!M52,'MDA2'!M52),D52),0)","v":0},{"$f":"IF(AND(COUNTRY_INFO!H52>0,COUNTRY_INFO!H52<4), IF(G52/D52*100<>0, IF(G52/D52*100>100,100,G52/D52*100), \"-\"),0)","v":0},{"$f":"COUNTRY_INFO!M52","v":0},null,null,{"$f":"MAX('MDA1'!M52,MAX('MDA3'!I52,'MDA3'!L52)+MAX('MDA3'!J52,'MDA3'!M52))","v":0},{"$f":"IF(AND(COUNTRY_INFO!I52>0,COUNTRY_INFO!I52<4),IF(J52>MAX('MDA1'!M52,MAX('MDA3'!I52,'MDA3'!L52)+MAX('MDA3'!J52,'MDA3'!M52)),MAX('MDA1'!M52,MAX('MDA3'!I52,'MDA3'!L52)+MAX('MDA3'!J52,'MDA3'!M52)),J52),0)","v":0},{"$f":"IF(AND(COUNTRY_INFO!I52>0,COUNTRY_INFO!I52<4), IF(M52/J52*100<>0, IF(M52/J52*100>100,100,M52/J52*100), \"-\"),0)","v":0},{"$f":"COUNTRY_INFO!N52","v":41853},null,null,{"$f":"SUM(MAX('MDA2'!J52, 'T1'!L52, MAX(T3_R1!K52, T3_R2!K52)), MAX('MDA1'!K52, 'MDA2'!K52, 'T1'!M52, MAX(T3_R1!L52, T3_R2!L52)), MAX('MDA1'!L52, 'MDA2'!L52, 'T1'!N52, MAX(T3_R1!M52, T3_R2!M52)))","v":24996},{"$f":"IF(AND(COUNTRY_INFO!J52>1,COUNTRY_INFO!J52<4),IF(COUNTRY_INFO!E52>MAX('MDA2'!J52,'T1'!L52,MAX(T3_R1!K52,T3_R2!K52)),MAX('MDA2'!J52,'T1'!L52,MAX(T3_R1!K52,T3_R2!K52)),COUNTRY_INFO!E52),0)","v":0},{"$f":"IF(AND(COUNTRY_INFO!J52>1,COUNTRY_INFO!J52<4), IF(T52/COUNTRY_INFO!E52*100<>0, IF(T52/COUNTRY_INFO!E52*100>100,100,T52/COUNTRY_INFO!E52*100), \"-\"),0)","v":"-"},{"$f":"IF(AND(COUNTRY_INFO!J52>1,COUNTRY_INFO!J52<4),IF(COUNTRY_INFO!F52>MAX('MDA1'!K52,'MDA2'!K52,'T1'!M52,MAX(T3_R1!L52,T3_R2!L52)),MAX('MDA1'!K52,'MDA2'!K52,'T1'!M52,MAX(T3_R1!L52,T3_R2!L52)),COUNTRY_INFO!F52),0)","v":24996},{"$f":"IF(AND(COUNTRY_INFO!J52>1,COUNTRY_INFO!J52<4), IF(V52/COUNTRY_INFO!F52*100<>0, IF(V52/COUNTRY_INFO!F52*100>100,100,V52/COUNTRY_INFO!F52*100), \"-\"),0)","v":97.241781754522478},24996,{"$f":"IF(AND(COUNTRY_INFO!J52>1,COUNTRY_INFO!J52<4), IF(S52/P52*100<>0, IF(X52/P52*100>100,100,X52/P52*100), \"-\"),0)","v":59.723317324922945},{"$f":"COUNTRY_INFO!O52","v":29518.3},null,null,{"$f":"MAX('T1'!L52,'T2'!J52)+MAX('T1'!M52,'T2'!K52)+MAX('T1'!N52,'T2'!L52)","v":0},{"$f":"IF(COUNTRY_INFO!K52=1,IF(COUNTRY_INFO!F52*0.33>MAX('T1'!M52,'T2'!K52),MAX('T1'!M52,'T2'!K52),COUNTRY_INFO!F52*0.33),IF(COUNTRY_INFO!K52=2,IF(COUNTRY_INFO!F52*0.5>MAX('T1'!M52,'T2'!K52),MAX('T1'!M52,'T2'!K52),COUNTRY_INFO!F52*0.5),IF(COUNTRY_INFO!K52=3,IF(COUNTRY_INFO!F52>MAX('T1'!M52,'T2'!K52),MAX('T1'!M52,'T2'!K52),COUNTRY_INFO!F52),0)))","v":0},{"$f":"IF(AND(COUNTRY_INFO!K52>0,COUNTRY_INFO!K52<4),IF(Z52>0,IF(COUNTRY_INFO!K52=1, AD52/(COUNTRY_INFO!F52*0.33)*100, IF(COUNTRY_INFO!K52=2, AD52/(COUNTRY_INFO!F52*0.5)*100, IF(COUNTRY_INFO!K52=3, AD52/COUNTRY_INFO!F52*100))),\"-\"),0)","v":0},{"$f":"IF(COUNTRY_INFO!K52=2,IF(COUNTRY_INFO!G52*0.2>MAX('T1'!N52,'T2'!L52),MAX('T1'!N52,'T2'!L52),COUNTRY_INFO!G52*0.2),IF(COUNTRY_INFO!K52=3,IF(COUNTRY_INFO!G52>MAX('T1'!N52,'T2'!L52),MAX('T1'!N52,'T2'!L52),COUNTRY_INFO!G52),0))","v":0},{"$f":"IF(AND(COUNTRY_INFO!K52>0,COUNTRY_INFO!K52<4),IF(Z52>0,IF(COUNTRY_INFO!K52=1, 0, IF(COUNTRY_INFO!K52=2, AF52/(COUNTRY_INFO!G52*0.2)*100, IF(COUNTRY_INFO!K52=3, AF52/COUNTRY_INFO!G52*100))),\"-\"),0)","v":0},0,{"$f":"IF(AND(COUNTRY_INFO!K52>0,COUNTRY_INFO!K52<4), IF(AC52/Z52*100<>0, IF(AH52/Z52*100>100,100,AH52/Z52*100), \"-\"),0)","v":"-"},null,{"$f":"IF(AND(D52<>0, D52<>\"Unknown\",D52<>\"Stopped\",D52<>\"Not required\"),D52/COUNTRY_INFO!D52, 0)","v":0},{"$f":"IF(AND(J52<>0,J52<>\"Unknown\",J52<>\"Stopped\",J52<>\"Not required\"),J52/COUNTRY_INFO!D52, 0)","v":0},{"$f":"IF(AND(P52<>0,P52<>\"Unknown\",P52<>\"Not required\"),P52/(COUNTRY_INFO!E52+COUNTRY_INFO!F52), 0)","v":1},{"$f":"IF(AND(Z52<>0,Z52<>\"Unknown\",Z52<>\"Not required\"),IF(COUNTRY_INFO!K52=1,1,IF(COUNTRY_INFO!K52=2,0.5*COUNTRY_INFO!F52/(0.5*COUNTRY_INFO!F52+0.2*COUNTRY_INFO!G52),IF(COUNTRY_INFO!K52=3,COUNTRY_INFO!F52/(COUNTRY_INFO!F52+COUNTRY_INFO!G52)))),0)","v":0.43540786562911821},{"$f":"IF(AND(Z52<>0,Z52<>\"Unknown\",Z52<>\"Not required\"),IF(COUNTRY_INFO!K52=1,0,IF(COUNTRY_INFO!K52=2,0.2*COUNTRY_INFO!G52/(0.5*COUNTRY_INFO!F52+0.2*COUNTRY_INFO!G52),IF(COUNTRY_INFO!K52=3,COUNTRY_INFO!G52/(COUNTRY_INFO!F52+COUNTRY_INFO!G52)))),0)","v":0.56459213437088174},{"$f":"MAX(COUNTRY_INFO!D52*AK52*PROFILE!$G$7,COUNTRY_INFO!D52*AL52*PROFILE!$G$7)","v":0},{"$f":"MAX(COUNTRY_INFO!D52*AK52*PROFILE!$G$8,COUNTRY_INFO!D52*AL52*PROFILE!$G$8,COUNTRY_INFO!D52*AM52*PROFILE!$G$8)","v":13899.035284808218},{"$f":"MAX(COUNTRY_INFO!D52*AK52*PROFILE!$G$9,COUNTRY_INFO!D52*AL52*PROFILE!$G$9,COUNTRY_INFO!D52*AM52*PROFILE!$G$9,IF(AND(DISTRICT!Z52<>\"Unknown\",Z52<>\"Not required\"),COUNTRY_INFO!O52*DISTRICT!AN52,0))","v":27261.508986252367},{"$f":"MAX(COUNTRY_INFO!D52*AK52*PROFILE!$G$10,COUNTRY_INFO!D52*AL52*PROFILE!$G$10,IF(AND(DISTRICT!Z52<>\"Unknown\",Z52<>\"Not required\"),COUNTRY_INFO!O52*DISTRICT!AO52,0))","v":16665.8},57826.344271060589,0,{"$f":"MAX('MDA2'!J52,'T1'!L52,'T2'!J52,T3_R1!K52,T3_R2!K52)","v":0},{"$f":"MAX('MDA1'!K52,'MDA2'!K52,'MDA3'!I52,'MDA3'!L52,'T1'!M52,'T2'!K52,T3_R1!L52,T3_R2!L52)","v":24996},{"$f":"MAX('MDA1'!L52,'MDA2'!L52,'MDA3'!J52,'MDA3'!M52,'T1'!N52,'T2'!L52,T3_R1!M52,T3_R2!M52)","v":0},24996,{"$f":"MAX('MDA2'!J52,T52)","v":0},{"$f":"MAX('MDA1'!K52,'MDA2'!K52,'MDA3'!I52,'MDA3'!L52,V52,AD52)","v":24996},{"$f":"MAX('MDA1'!L52,'MDA2'!L52,'MDA3'!J52,'MDA3'!M52,AF52)","v":0},24996,43.225973066586093]
[{"$f":"IF(COUNTRY_INFO!A53=0,\" \",COUNTRY_INFO!A53)","v":"Tanzania"},{"$f":"IF(COUNTRY_INFO!B53=0,\" \",COUNTRY_INFO!B53)","v":"Katavi"},{"$f":"IF(COUNTRY_INFO!C53=0,\" \",COUNTRY_INFO!C53)","v":"Nsimbo District Council"},{"$f":"COUNTRY_INFO!L53","v":"Stopped"},null,null,{"$f":"MAX('MDA1'!M53,'MDA2'!M53)","v":0},{"$f":"IF(AND(COUNTRY_INFO!H53>0,COUNTRY_INFO!H53<4),IF(D53>MAX('MDA1'!M53,'MDA2'!M53),MAX('MDA1'!M53,'MDA2'!M53),D53),0)","v":0},{"$f":"IF(AND(COUNTRY_INFO!H53>0,COUNTRY_INFO!H53<4), IF(G53/D53*100<>0, IF(G53/D53*100>100,100,G53/D53*100), \"-\"),0)","v":0},{"$f":"COUNTRY_INFO!M53","v":0},null,null,{"$f":"MAX('MDA1'!M53,MAX('MDA3'!I53,'MDA3'!L53)+MAX('MDA3'!J53,'MDA3'!M53))","v":0},{"$f":"IF(AND(COUNTRY_INFO!I53>0,COUNTRY_INFO!I53<4),IF(J53>MAX('MDA1'!M53,MAX('MDA3'!I53,'MDA3'!L53)+MAX('MDA3'!J53,'MDA3'!M53)),MAX('MDA1'!M53,MAX('MDA3'!I53,'MDA3'!L53)+MAX('MDA3'!J53,'MDA3'!M53)),J53),0)","v":0},{"$f":"IF(AND(COUNTRY_INFO!I53>0,COUNTRY_INFO!I53<4), IF(M53/J53*100<>0, IF(M53/J53*100>100,100,M53/J53*100), \"-\"),0)","v":0},{"$f":"COUNTRY_INFO!N53","v":51800},null,null,{"$f":"SUM(MAX('MDA2'!J53, 'T1'!L53, MAX(T3_R1!K53, T3_R2!K53)), MAX('MDA1'!K53, 'MDA2'!K53, 'T1'!M53, MAX(T3_R1!L53, T3_R2!L53)), MAX('MDA1'!L53, 'MDA2'!L53, 'T1'!N53, MAX(T3_R1!M53, T3_R2!M53)))","v":33728},{"$f":"IF(AND(COUNTRY_INFO!J53>1,COUNTRY_INFO!J53<4),IF(COUNTRY_INFO!E53>MAX('MDA2'!J53,'T1'!L53,MAX(T3_R1!K53,T3_R2!K53)),MAX('MDA2'!J53,'T1'!L53,MAX(T3_R1!K53,T3_R2!K53)),COUNTRY_INFO!E53),0)","v":0},{"$f":"IF(AND(COUNTRY_INFO!J53>1,COUNTRY_INFO!J53<4), IF(T53/COUNTRY_INFO!E53*100<>0, IF(T53/COUNTRY_INFO!E53*100>100,100,T53/COUNTRY_INFO!E53*100), \"-\"),0)","v":"-"},{"$f":"IF(AND(COUNTRY_INFO!J53>1,COUNTRY_INFO!J53<4),IF(COUNTRY_INFO!F53>MAX('MDA1'!K53,'MDA2'!K53,'T1'!M53,MAX(T3_R1!L53,T3_R2!L53)),MAX('MDA1'!K53,'MDA2'!K53,'T1'!M53,MAX(T3_R1!L53,T3_R2!L53)),COUNTRY_INFO!F53),0)","v":33728},{"$f":"IF(AND(COUNTRY_INFO!J53>1,COUNTRY_INFO!J53<4), IF(V53/COUNTRY_INFO!F53*100<>0, IF(V53/COUNTRY_INFO!F53*100>100,100,V53/COUNTRY_INFO!F53*100), \"-\"),0)","v":96.863871338311313},33728,{"$f":"IF(AND(COUNTRY_INFO!J53>1,COUNTRY_INFO!J53<4), IF(S53/P53*100<>0, IF(X53/P53*100>100,100,X53/P53*100), \"-\"),0)","v":65.111969111969117},{"$f":"COUNTRY_INFO!O53","v":38104.400000000001},null,null,{"$f":"MAX('T1'!L53,'T2'!J53)+MAX('T1'!M53,'T2'!K53)+MAX('T1'!N53,'T2'!L53)","v":0},{"$f":"IF(COUNTRY_INFO!K53=1,IF(COUNTRY_INFO!F53*0.33>MAX('T1'!M53,'T2'!K53),MAX('T1'!M53,'T2'!K53),COUNTRY_INFO!F53*0.33),IF(COUNTRY_INFO!K53=2,IF(COUNTRY_INFO!F53*0.5>MAX('T1'!M53,'T2'!K53),MAX('T1'!M53,'T2'!K53),COUNTRY_INFO!F53*0.5),IF(COUNTRY_INFO!K53=3,IF(COUNTRY_INFO!F53>MAX('T1'!M53,'T2'!K53),MAX('T1'!M53,'T2'!K53),COUNTRY_INFO!F53),0)))","v":0},{"$f":"IF(AND(COUNTRY_INFO!K53>0,COUNTRY_INFO!K53<4),IF(Z53>0,IF(COUNTRY_INFO!K53=1, AD53/(COUNTRY_INFO!F53*0.33)*100, IF(COUNTRY_INFO!K53=2, AD53/(COUNTRY_INFO!F53*0.5)*100, IF(COUNTRY_INFO!K53=3, AD53/COUNTRY_INFO!F53*100))),\"-\"),0)","v":0},{"$f":"IF(COUNTRY_INFO!K53=2,IF(COUNTRY_INFO!G53*0.2>MAX('T1'!N53,'T2'!L53),MAX('T1'!N53,'T2'!L53),COUNTRY_INFO!G53*0.2),IF(COUNTRY_INFO!K53=3,IF(COUNTRY_INFO!G53>MAX('T1'!N53,'T2'!L53),MAX('T1'!N53,'T2'!L53),COUNTRY_INFO!G53),0))","v":0},{"$f":"IF(AND(COUNTRY_INFO!K53>0,COUNTRY_INFO!K53<4),IF(Z53>0,IF(COUNTRY_INFO!K53=1, 0, IF(COUNTRY_INFO!K53=2, AF53/(COUNTRY_INFO!G53*0.2)*100, IF(COUNTRY_INFO!K53=3, AF53/COUNTRY_INFO!G53*100))),\"-\"),0)","v":0},0,{"$f":"IF(AND(COUNTRY_INFO!K53>0,COUNTRY_INFO!K53<4), IF(AC53/Z53*100<>0, IF(AH53/Z53*100>100,100,AH53/Z53*100), \"-\"),0)","v":"-"},null,{"$f":"IF(AND(D53<>0, D53<>\"Unknown\",D53<>\"Stopped\",D53<>\"Not required\"),D53/COUNTRY_INFO!D53, 0)","v":0},{"$f":"IF(AND(J53<>0,J53<>\"Unknown\",J53<>\"Stopped\",J53<>\"Not required\"),J53/COUNTRY_INFO!D53, 0)","v":0},{"$f":"IF(AND(P53<>0,P53<>\"Unknown\",P53<>\"Not required\"),P53/(COUNTRY_INFO!E53+COUNTRY_INFO!F53), 0)","v":1},{"$f":"IF(AND(Z53<>0,Z53<>\"Unknown\",Z53<>\"Not required\"),IF(COUNTRY_INFO!K53=1,1,IF(COUNTRY_INFO!K53=2,0.5*COUNTRY_INFO!F53/(0.5*COUNTRY_INFO!F53+0.2*COUNTRY_INFO!G53),IF(COUNTRY_INFO!K53=3,COUNTRY_INFO!F53/(COUNTRY_INFO!F53+COUNTRY_INFO!G53)))),0)","v":0.45690261492111145},{"$f":"IF(AND(Z53<>0,Z53<>\"Unknown\",Z53<>\"Not required\"),IF(COUNTRY_INFO!K53=1,0,IF(COUNTRY_INFO!K53=2,0.2*COUNTRY_INFO!G53/(0.5*COUNTRY_INFO!F53+0.2*COUNTRY_INFO!G53),IF(COUNTRY_INFO!K53=3,COUNTRY_INFO!G53/(COUNTRY_INFO!F53+COUNTRY_INFO!G53)))),0)","v":0.54309738507888849},{"$f":"MAX(COUNTRY_INFO!D53*AK53*PROFILE!$G$7,COUNTRY_INFO!D53*AL53*PROFILE!$G$7)","v":0},{"$f":"MAX(COUNTRY_INFO!D53*AK53*PROFILE!$G$8,COUNTRY_INFO!D53*AL53*PROFILE!$G$8,COUNTRY_INFO!D53*AM53*PROFILE!$G$8)","v":17239.946691559024},{"$f":"MAX(COUNTRY_INFO!D53*AK53*PROFILE!$G$9,COUNTRY_INFO!D53*AL53*PROFILE!$G$9,COUNTRY_INFO!D53*AM53*PROFILE!$G$9,IF(AND(DISTRICT!Z53<>\"Unknown\",Z53<>\"Not required\"),COUNTRY_INFO!O53*DISTRICT!AN53,0))","v":33814.358480559327},{"$f":"MAX(COUNTRY_INFO!D53*AK53*PROFILE!$G$10,COUNTRY_INFO!D53*AL53*PROFILE!$G$10,IF(AND(DISTRICT!Z53<>\"Unknown\",Z53<>\"Not required\"),COUNTRY_INFO!O53*DISTRICT!AO53,0))","v":20694.399999999998},71748.705172118352,0,{"$f":"MAX('MDA2'!J53,'T1'!L53,'T2'!J53,T3_R1!K53,T3_R2!K53)","v":0},{"$f":"MAX('MDA1'!K53,'MDA2'!K53,'MDA3'!I53,'MDA3'!L53,'T1'!M53,'T2'!K53,T3_R1!L53,T3_R2!L53)","v":33728},{"$f":"MAX('MDA1'!L53,'MDA2'!L53,'MDA3'!J53,'MDA3'!M53,'T1'!N53,'T2'!L53,T3_R1!M53,T3_R2!M53)","v":0},33728,{"$f":"MAX('MDA2'!J53,T53)","v":0},{"$f":"MAX('MDA1'!K53,'MDA2'!K53,'MDA3'!I53,'MDA3'!L53,V53,AD53)","v":33728},{"$f":"MAX('MDA1'!L53,'MDA2'!L53,'MDA3'!J53,'MDA3'!M53,AF53)","v":0},33728,47.008513838806877]
[{"$f":"IF(COUNTRY_INFO!A54=0,\" \",COUNTRY_INFO!A54)","v":"Tanzania"},{"$f":"IF(COUNTRY_INFO!B54=0,\" \",COUNTRY_INFO!B54)","v":"Kigoma"},{"$f":"IF(COUNTRY_INFO!C54=0,\" \",COUNTRY_INFO!C54)","v":"Buhigwe District Council"},{"$f":"COUNTRY_INFO!L54","v":0},null,null,{"$f":"MAX('MDA1'!M54,'MDA2'!M54)","v":0},{"$f":"IF(AND(COUNTRY_INFO!H54>0,COUNTRY_INFO!H54<4),IF(D54>MAX('MDA1'!M54,'MDA2'!M54),MAX('MDA1'!M54,'MDA2'!M54),D54),0)","v":0},{"$f":"IF(AND(COUNTRY_INFO!H54>0,COUNTRY_INFO!H54<4), IF(G54/D54*100<>0, IF(G54/D54*100>100,100,G54/D54*100), \"-\"),0)","v":0},{"$f":"COUNTRY_INFO!M54","v":0},null,null,{"$f":"MAX('MDA1'!M54,MAX('MDA3'!I54,'MDA3'!L54)+MAX('MDA3'!J54,'MDA3'!M54))","v":0},{"$f":"IF(AND(COUNTRY_INFO!I54>0,COUNTRY_INFO!I54<4),IF(J54>MAX('MDA1'!M54,MAX('MDA3'!I54,'MDA3'!L54)+MAX('MDA3'!J54,'MDA3'!M54)),MAX('MDA1'!M54,MAX('MDA3'!I54,'MDA3'!L54)+MAX('MDA3'!J54,'MDA3'!M54)),J54),0)","v":0},{"$f":"IF(AND(COUNTRY_INFO!I54>0,COUNTRY_INFO!I54<4), IF(M54/J54*100<>0, IF(M54/J54*100>100,100,M54/J54*100), \"-\"),0)","v":0},{"$f":"COUNTRY_INFO!N54","v":100612},null,null,{"$f":"SUM(MAX('MDA2'!J54, 'T1'!L54, MAX(T3_R1!K54, T3_R2!K54)), MAX('MDA1'!K54, 'MDA2'!K54, 'T1'!M54, MAX(T3_R1!L54, T3_R2!L54)), MAX('MDA1'!L54, 'MDA2'!L54, 'T1'!N54, MAX(T3_R1!M54, T3_R2!M54)))","v":62956},{"$f":"IF(AND(COUNTRY_INFO!J54>1,COUNTRY_INFO!J54<4),IF(COUNTRY_INFO!E54>MAX('MDA2'!J54,'T1'!L54,MAX(T3_R1!K54,T3_R2!K54)),MAX('MDA2'!J54,'T1'!L54,MAX(T3_R1!K54,T3_R2!K54)),COUNTRY_INFO!E54),0)","v":0},{"$f":"IF(AND(COUNTRY_INFO!J54>1,COUNTRY_INFO!J54<4), IF(T54/COUNTRY_INFO!E54*100<>0, IF(T54/COUNTRY_INFO!E54*100>100,100,T54/COUNTRY_INFO!E54*100), \"-\"),0)","v":"-"},{"$f":"IF(AND(COUNTRY_INFO!J54>1,COUNTRY_INFO!J54<4),IF(COUNTRY_INFO!F54>MAX('MDA1'!K54,'MDA2'!K54,'T1'!M54,MAX(T3_R1!L54,T3_R2!L54)),MAX('MDA1'!K54,'MDA2'!K54,'T1'!M54,MAX(T3_R1!L54,T3_R2!L54)),COUNTRY_INFO!F54),0)","v":62956},{"$f":"IF(AND(COUNTRY_INFO!J54>1,COUNTRY_INFO!J54<4), IF(V54/COUNTRY_INFO!F54*100<>0, IF(V54/COUNTRY_INFO!F54*100>100,100,V54/COUNTRY_INFO!F54*100), \"-\"),0)","v":93.978205702343629},62956,{"$f":"IF(AND(COUNTRY_INFO!J54>1,COUNTRY_INFO!J54<4), IF(S54/P54*100<>0, IF(X54/P54*100>100,100,X54/P54*100), \"-\"),0)","v":62.573052916153138},{"$f":"COUNTRY_INFO!O54","v":74823.200000000012},null,null,{"$f":"MAX('T1'!L54,'T2'!J54)+MAX('T1'!M54,'T2'!K54)+MAX('T1'!N54,'T2'!L54)","v":62956},{"$f":"IF(COUNTRY_INFO!K54=1,IF(COUNTRY_INFO!F54*0.33>MAX('T1'!M54,'T2'!K54),MAX('T1'!M54,'T2'!K54),COUNTRY_INFO!F54*0.33),IF(COUNTRY_INFO!K54=2,IF(COUNTRY_INFO!F54*0.5>MAX('T1'!M54,'T2'!K54),MAX('T1'!M54,'T2'!K54),COUNTRY_INFO!F54*0.5),IF(COUNTRY_INFO!K54=3,IF(COUNTRY_INFO!F54>MAX('T1'!M54,'T2'!K54),MAX('T1'!M54,'T2'!K54),COUNTRY_INFO!F54),0)))","v":33495},{"$f":"IF(AND(COUNTRY_INFO!K54>0,COUNTRY_INFO!K54<4),IF(Z54>0,IF(COUNTRY_INFO!K54=1, AD54/(COUNTRY_INFO!F54*0.33)*100, IF(COUNTRY_INFO!K54=2, AD54/(COUNTRY_INFO!F54*0.5)*100, IF(COUNTRY_INFO!K54=3, AD54/COUNTRY_INFO!F54*100))),\"-\"),0)","v":100},{"$f":"IF(COUNTRY_INFO!K54=2,IF(COUNTRY_INFO!G54*0.2>MAX('T1'!N54,'T2'!L54),MAX('T1'!N54,'T2'!L54),COUNTRY_INFO!G54*0.2),IF(COUNTRY_INFO!K54=3,IF(COUNTRY_INFO!G54>MAX('T1'!N54,'T2'!L54),MAX('T1'!N54,'T2'!L54),COUNTRY_INFO!G54),0))","v":0},{"$f":"IF(AND(COUNTRY_INFO!K54>0,COUNTRY_INFO!K54<4),IF(Z54>0,IF(COUNTRY_INFO!K54=1, 0, IF(COUNTRY_INFO!K54=2, AF54/(COUNTRY_INFO!G54*0.2)*100, IF(COUNTRY_INFO!K54=3, AF54/COUNTRY_INFO!G54*100))),\"-\"),0)","v":0},33495,{"$f":"IF(AND(COUNTRY_INFO!K54>0,COUNTRY_INFO!K54<4), IF(AC54/Z54*100<>0, IF(AH54/Z54*100>100,100,AH54/Z54*100), \"-\"),0)","v":44.765527269616904},null,{"$f":"IF(AND(D54<>0, D54<>\"Unknown\",D54<>\"Stopped\",D54<>\"Not required\"),D54/COUNTRY_INFO!D54, 0)","v":0},{"$f":"IF(AND(J54<>0,J54<>\"Unknown\",J54<>\"Stopped\",J54<>\"Not required\"),J54/COUNTRY_INFO!D54, 0)","v":0},{"$f":"IF(AND(P54<>0,P54<>\"Unknown\",P54<>\"Not required\"),P54/(COUNTRY_INFO!E54+COUNTRY_INFO!F54), 0)","v":1},{"$f":"IF(AND(Z54<>0,Z54<>\"Unknown\",Z54<>\"Not required\"),IF(COUNTRY_INFO!K54=1,1,IF(COUNTRY_INFO!K54=2,0.5*COUNTRY_INFO!F54/(0.5*COUNTRY_INFO!F54+0.2*COUNTRY_INFO!G54),IF(COUNTRY_INFO!K54=3,COUNTRY_INFO!F54/(COUNTRY_INFO!F54+COUNTRY_INFO!G54)))),0)","v":0.44765527269616906},{"$f":"IF(AND(Z54<>0,Z54<>\"Unknown\",Z54<>\"Not required\"),IF(COUNTRY_INFO!K54=1,0,IF(COUNTRY_INFO!K54=2,0.2*COUNTRY_INFO!G54/(0.5*COUNTRY_INFO!F54+0.2*COUNTRY_INFO!G54),IF(COUNTRY_INFO!K54=3,COUNTRY_INFO!G54/(COUNTRY_INFO!F54+COUNTRY_INFO!G54)))),0)","v":0.55234472730383088},{"$f":"MAX(COUNTRY_INFO!D54*AK54*PROFILE!$G$7,COUNTRY_INFO!D54*AL54*PROFILE!$G$7)","v":0},{"$f":"MAX(COUNTRY_INFO!D54*AK54*PROFILE!$G$8,COUNTRY_INFO!D54*AL54*PROFILE!$G$8,COUNTRY_INFO!D54*AM54*PROFILE!$G$8)","v":34114.491607125463},{"$f":"MAX(COUNTRY_INFO!D54*AK54*PROFILE!$G$9,COUNTRY_INFO!D54*AL54*PROFILE!$G$9,COUNTRY_INFO!D54*AM54*PROFILE!$G$9,IF(AND(DISTRICT!Z54<>\"Unknown\",Z54<>\"Not required\"),COUNTRY_INFO!O54*DISTRICT!AN54,0))","v":66912.019464084282},{"$f":"MAX(COUNTRY_INFO!D54*AK54*PROFILE!$G$10,COUNTRY_INFO!D54*AL54*PROFILE!$G$10,IF(AND(DISTRICT!Z54<>\"Unknown\",Z54<>\"Not required\"),COUNTRY_INFO!O54*DISTRICT!AO54,0))","v":41328.200000000004},142354.71107120975,"Y",{"$f":"MAX('MDA2'!J54,'T1'!L54,'T2'!J54,T3_R1!K54,T3_R2!K54)","v":0},{"$f":"MAX('MDA1'!K54,'MDA2'!K54,'MDA3'!I54,'MDA3'!L54,'T1'!M54,'T2'!K54,T3_R1!L54,T3_R2!L54)","v":62956},{"$f":"MAX('MDA1'!L54,'MDA2'!L54,'MDA3'!J54,'MDA3'!M54,'T1'!N54,'T2'!L54,T3_R1!M54,T3_R2!M54)","v":0},62956,{"$f":"MAX('MDA2'!J54,T54)","v":0},{"$f":"MAX('MDA1'!K54,'MDA2'!K54,'MDA3'!I54,'MDA3'!L54,V54,AD54)","v":62956},{"$f":"MAX('MDA1'!L54,'MDA2'!L54,'MDA3'!J54,'MDA3'!M54,AF54)","v":0},62956,44.224739403606861]
[{"$f":"IF(COUNTRY_INFO!A55=0,\" \",COUNTRY_INFO!A55)","v":"Tanzania"},{"$f":"IF(COUNTRY_INFO!B55=0,\" \",COUNTRY_INFO!B55)","v":"Kigoma"},{"$f":"IF(COUNTRY_INFO!C55=0,\" \",COUNTRY_INFO!C55)","v":"Kakonko District Council"},{"$f":"COUNTRY_INFO!L55","v":0},null,null,{"$f":"MAX('MDA1'!M55,'MDA2'!M55)","v":0},{"$f":"IF(AND(COUNTRY_INFO!H55>0,COUNTRY_INFO!H55<4),IF(D55>MAX('MDA1'!M55,'MDA2'!M55),MAX('MDA1'!M55,'MDA2'!M55),D55),0)","v":0},{"$f":"IF(AND(COUNTRY_INFO!H55>0,COUNTRY_INFO!H55<4), IF(G55/D55*100<>0, IF(G55/D55*100>100,100,G55/D55*100), \"-\"),0)","v":0},{"$f":"COUNTRY_INFO!M55","v":0},null,null,{"$f":"MAX('MDA1'!M55,MAX('MDA3'!I55,'MDA3'!L55)+MAX('MDA3'!J55,'MDA3'!M55))","v":0},{"$f":"IF(AND(COUNTRY_INFO!I55>0,COUNTRY_INFO!I55<4),IF(J55>MAX('MDA1'!M55,MAX('MDA3'!I55,'MDA3'!L55)+MAX('MDA3'!J55,'MDA3'!M55)),MAX('MDA1'!M55,MAX('MDA3'!I55,'MDA3'!L55)+MAX('MDA3'!J55,'MDA3'!M55)),J55),0)","v":0},{"$f":"IF(AND(COUNTRY_INFO!I55>0,COUNTRY_INFO!I55<4), IF(M55/J55*100<>0, IF(M55/J55*100>100,100,M55/J55*100), \"-\"),0)","v":0},{"$f":"COUNTRY_INFO!N55","v":68198},null,null,{"$f":"SUM(MAX('MDA2'!J55, 'T1'!L55, MAX(T3_R1!K55, T3_R2!K55)), MAX('MDA1'!K55, 'MDA2'!K55, 'T1'!M55, MAX(T3_R1!L55, T3_R2!L55)), MAX('MDA1'!L55, 'MDA2'!L55, 'T1'!N55, MAX(T3_R1!M55, T3_R2!M55)))","v":35273},{"$f":"IF(AND(COUNTRY_INFO!J55>1,COUNTRY_INFO!J55<4),IF(COUNTRY_INFO!E55>MAX('MDA2'!J55,'T1'!L55,MAX(T3_R1!K55,T3_R2!K55)),MAX('MDA2'!J55,'T1'!L55,MAX(T3_R1!K55,T3_R2!K55)),COUNTRY_INFO!E55),0)","v":0},{"$f":"IF(AND(COUNTRY_INFO!J55>1,COUNTRY_INFO!J55<4), IF(T55/COUNTRY_INFO!E55*100<>0, IF(T55/COUNTRY_INFO!E55*100>100,100,T55/COUNTRY_INFO!E55*100), \"-\"),0)","v":"-"},{"$f":"IF(AND(COUNTRY_INFO!J55>1,COUNTRY_INFO!J55<4),IF(COUNTRY_INFO!F55>MAX('MDA1'!K55,'MDA2'!K55,'T1'!M55,MAX(T3_R1!L55,T3_R2!L55)),MAX('MDA1'!K55,'MDA2'!K55,'T1'!M55,MAX(T3_R1!L55,T3_R2!L55)),COUNTRY_INFO!F55),0)","v":35273},{"$f":"IF(AND(COUNTRY_INFO!J55>1,COUNTRY_INFO!J55<4), IF(V55/COUNTRY_INFO!F55*100<>0, IF(V55/COUNTRY_INFO!F55*100>100,100,V55/COUNTRY_INFO!F55*100), \"-\"),0)","v":83.809727469289811},35273,{"$f":"IF(AND(COUNTRY_INFO!J55>1,COUNTRY_INFO!J55<4), IF(S55/P55*100<>0, IF(X55/P55*100>100,100,X55/P55*100), \"-\"),0)","v":51.721458107275872},{"$f":"COUNTRY_INFO!O55","v":47886.3},null,null,{"$f":"MAX('T1'!L55,'T2'!J55)+MAX('T1'!M55,'T2'!K55)+MAX('T1'!N55,'T2'!L55)","v":35273},{"$f":"IF(COUNTRY_INFO!K55=1,IF(COUNTRY_INFO!F55*0.33>MAX('T1'!M55,'T2'!K55),MAX('T1'!M55,'T2'!K55),COUNTRY_INFO!F55*0.33),IF(COUNTRY_INFO!K55=2,IF(COUNTRY_INFO!F55*0.5>MAX('T1'!M55,'T2'!K55),MAX('T1'!M55,'T2'!K55),COUNTRY_INFO!F55*0.5),IF(COUNTRY_INFO!K55=3,IF(COUNTRY_INFO!F55>MAX('T1'!M55,'T2'!K55),MAX('T1'!M55,'T2'!K55),COUNTRY_INFO!F55),0)))","v":21043.5},{"$f":"IF(AND(COUNTRY_INFO!K55>0,COUNTRY_INFO!K55<4),IF(Z55>0,IF(COUNTRY_INFO!K55=1, AD55/(COUNTRY_INFO!F55*0.33)*100, IF(COUNTRY_INFO!K55=2, AD55/(COUNTRY_INFO!F55*0.5)*100, IF(COUNTRY_INFO!K55=3, AD55/COUNTRY_INFO!F55*100))),\"-\"),0)","v":100},{"$f":"IF(COUNTRY_INFO!K55=2,IF(COUNTRY_INFO!G55*0.2>MAX('T1'!N55,'T2'!L55),MAX('T1'!N55,'T2'!L55),COUNTRY_INFO!G55*0.2),IF(COUNTRY_INFO!K55=3,IF(COUNTRY_INFO!G55>MAX('T1'!N55,'T2'!L55),MAX('T1'!N55,'T2'!L55),COUNTRY_INFO!G55),0))","v":0},{"$f":"IF(AND(COUNTRY_INFO!K55>0,COUNTRY_INFO!K55<4),IF(Z55>0,IF(COUNTRY_INFO!K55=1, 0, IF(COUNTRY_INFO!K55=2, AF55/(COUNTRY_INFO!G55*0.2)*100, IF(COUNTRY_INFO!K55=3, AF55/COUNTRY_INFO!G55*100))),\"-\"),0)","v":0},21043.5,{"$f":"IF(AND(COUNTRY_INFO!K55>0,COUNTRY_INFO!K55<4), IF(AC55/Z55*100<>0, IF(AH55/Z55*100>100,100,AH55/Z55*100), \"-\"),0)","v":43.944719053257401},null,{"$f":"IF(AND(D55<>0, D55<>\"Unknown\",D55<>\"Stopped\",D55<>\"Not required\"),D55/COUNTRY_INFO!D55, 0)","v":0},{"$f":"IF(AND(J55<>0,J55<>\"Unknown\",J55<>\"Stopped\",J55<>\"Not required\"),J55/COUNTRY_INFO!D55, 0)","v":0},{"$f":"IF(AND(P55<>0,P55<>\"Unknown\",P55<>\"Not required\"),P55/(COUNTRY_INFO!E55+COUNTRY_INFO!F55), 0)","v":1},{"$f":"IF(AND(Z55<>0,Z55<>\"Unknown\",Z55<>\"Not required\"),IF(COUNTRY_INFO!K55=1,1,IF(COUNTRY_INFO!K55=2,0.5*COUNTRY_INFO!F55/(0.5*COUNTRY_INFO!F55+0.2*COUNTRY_INFO!G55),IF(COUNTRY_INFO!K55=3,COUNTRY_INFO!F55/(COUNTRY_INFO!F55+COUNTRY_INFO!G55)))),0)","v":0.43944719053257403},{"$f":"IF(AND(Z55<>0,Z55<>\"Unknown\",Z55<>\"Not required\"),IF(COUNTRY_INFO!K55=1,0,IF(COUNTRY_INFO!K55=2,0.2*COUNTRY_INFO!G55/(0.5*COUNTRY_INFO!F55+0.2*COUNTRY_INFO!G55),IF(COUNTRY_INFO!K55=3,COUNTRY_INFO!G55/(COUNTRY_INFO!F55+COUNTRY_INFO!G55)))),0)","v":0.56055280946742603},{"$f":"MAX(COUNTRY_INFO!D55*AK55*PROFILE!$G$7,COUNTRY_INFO!D55*AL55*PROFILE!$G$7)","v":0},{"$f":"MAX(COUNTRY_INFO!D55*AK55*PROFILE!$G$8,COUNTRY_INFO!D55*AL55*PROFILE!$G$8,COUNTRY_INFO!D55*AM55*PROFILE!$G$8)","v":22473.93019818026},{"$f":"MAX(COUNTRY_INFO!D55*AK55*PROFILE!$G$9,COUNTRY_INFO!D55*AL55*PROFILE!$G$9,COUNTRY_INFO!D55*AM55*PROFILE!$G$9,IF(AND(DISTRICT!Z55<>\"Unknown\",Z55<>\"Not required\"),COUNTRY_INFO!O55*DISTRICT!AN55,0))","v":44080.271579982058},{"$f":"MAX(COUNTRY_INFO!D55*AK55*PROFILE!$G$10,COUNTRY_INFO!D55*AL55*PROFILE!$G$10,IF(AND(DISTRICT!Z55<>\"Unknown\",Z55<>\"Not required\"),COUNTRY_INFO!O55*DISTRICT!AO55,0))","v":26842.800000000003},93397.001778162317,"Y",{"$f":"MAX('MDA2'!J55,'T1'!L55,'T2'!J55,T3_R1!K55,T3_R2!K55)","v":0},{"$f":"MAX('MDA1'!K55,'MDA2'!K55,'MDA3'!I55,'MDA3'!L55,'T1'!M55,'T2'!K55,T3_R1!L55,T3_R2!L55)","v":35273},{"$f":"MAX('MDA1'!L55,'MDA2'!L55,'MDA3'!J55,'MDA3'!M55,'T1'!N55,'T2'!L55,T3_R1!M55,T3_R2!M55)","v":0},35273,{"$f":"MAX('MDA2'!J55,T55)","v":0},{"$f":"MAX('MDA1'!K55,'MDA2'!K55,'MDA3'!I55,'MDA3'!L55,V55,AD55)","v":35273},{"$f":"MAX('MDA1'!L55,'MDA2'!L55,'MDA3'!J55,'MDA3'!M55,AF55)","v":0},35273,37.766736970615881]
[{"$f":"IF(COUNTRY_INFO!A56=0,\" \",COUNTRY_INFO!A56)","v":"Tanzania"},{"$f":"IF(COUNTRY_INFO!B56=0,\" \",COUNTRY_INFO!B56)","v":"Kigoma"},{"$f":"IF(COUNTRY_INFO!C56=0,\" \",COUNTRY_INFO!C56)","v":"Kasulu District Council"},{"$f":"COUNTRY_INFO!L56","v":0},null,null,{"$f":"MAX('MDA1'!M56,'MDA2'!M56)","v":0},{"$f":"IF(AND(COUNTRY_INFO!H56>0,COUNTRY_INFO!H56<4),IF(D56>MAX('MDA1'!M56,'MDA2'!M56),MAX('MDA1'!M56,'MDA2'!M56),D56),0)","v":0},{"$f":"IF(AND(COUNTRY_INFO!H56>0,COUNTRY_INFO!H56<4), IF(G56/D56*100<>0, IF(G56/D56*100>100,100,G56/D56*100), \"-\"),0)","v":0},{"$f":"COUNTRY_INFO!M56","v":0},null,null,{"$f":"MAX('MDA1'!M56,MAX('MDA3'!I56,'MDA3'!L56)+MAX('MDA3'!J56,'MDA3'!M56))","v":0},{"$f":"IF(AND(COUNTRY_INFO!I56>0,COUNTRY_INFO!I56<4),IF(J56>MAX('MDA1'!M56,MAX('MDA3'!I56,'MDA3'!L56)+MAX('MDA3'!J56,'MDA3'!M56)),MAX('MDA1'!M56,MAX('MDA3'!I56,'MDA3'!L56)+MAX('MDA3'!J56,'MDA3'!M56)),J56),0)","v":0},{"$f":"IF(AND(COUNTRY_INFO!I56>0,COUNTRY_INFO!I56<4), IF(M56/J56*100<>0, IF(M56/J56*100>100,100,M56/J56*100), \"-\"),0)","v":0},{"$f":"COUNTRY_INFO!N56","v":174012},null,null,{"$f":"SUM(MAX('MDA2'!J56, 'T1'!L56, MAX(T3_R1!K56, T3_R2!K56)), MAX('MDA1'!K56, 'MDA2'!K56, 'T1'!M56, MAX(T3_R1!L56, T3_R2!L56)), MAX('MDA1'!L56, 'MDA2'!L56, 'T1'!N56, MAX(T3_R1!M56, T3_R2!M56)))","v":73036},{"$f":"IF(AND(COUNTRY_INFO!J56>1,COUNTRY_INFO!J56<4),IF(COUNTRY_INFO!E56>MAX('MDA2'!J56,'T1'!L56,MAX(T3_R1!K56,T3_R2!K56)),MAX('MDA2'!J56,'T1'!L56,MAX(T3_R1!K56,T3_R2!K56)),COUNTRY_INFO!E56),0)","v":0},{"$f":"IF(AND(COUNTRY_INFO!J56>1,COUNTRY_INFO!J56<4), IF(T56/COUNTRY_INFO!E56*100<>0, IF(T56/COUNTRY_INFO!E56*100>100,100,T56/COUNTRY_INFO!E56*100), \"-\"),0)","v":"-"},{"$f":"IF(AND(COUNTRY_INFO!J56>1,COUNTRY_INFO!J56<4),IF(COUNTRY_INFO!F56>MAX('MDA1'!K56,'MDA2'!K56,'T1'!M56,MAX(T3_R1!L56,T3_R2!L56)),MAX('MDA1'!K56,'MDA2'!K56,'T1'!M56,MAX(T3_R1!L56,T3_R2!L56)),COUNTRY_INFO!F56),0)","v":73036},{"$f":"IF(AND(COUNTRY_INFO!J56>1,COUNTRY_INFO!J56<4), IF(V56/COUNTRY_INFO!F56*100<>0, IF(V56/COUNTRY_INFO!F56*100>100,100,V56/COUNTRY_INFO!F56*100), \"-\"),0)","v":67.840124838610791},73036,{"$f":"IF(AND(COUNTRY_INFO!J56>1,COUNTRY_INFO!J56<4), IF(S56/P56*100<>0, IF(X56/P56*100>100,100,X56/P56*100), \"-\"),0)","v":41.97181803553778},{"$f":"COUNTRY_INFO!O56","v":121901.5},null,null,{"$f":"MAX('T1'!L56,'T2'!J56)+MAX('T1'!M56,'T2'!K56)+MAX('T1'!N56,'T2'!L56)","v":73036},{"$f":"IF(COUNTRY_INFO!K56=1,IF(COUNTRY_INFO!F56*0.33>MAX('T1'!M56,'T2'!K56),MAX('T1'!M56,'T2'!K56),COUNTRY_INFO!F56*0.33),IF(COUNTRY_INFO!K56=2,IF(COUNTRY_INFO!F56*0.5>MAX('T1'!M56,'T2'!K56),MAX('T1'!M56,'T2'!K56),COUNTRY_INFO!F56*0.5),IF(COUNTRY_INFO!K56=3,IF(COUNTRY_INFO!F56>MAX('T1'!M56,'T2'!K56),MAX('T1'!M56,'T2'!K56),COUNTRY_INFO!F56),0)))","v":53829.5},{"$f":"IF(AND(COUNTRY_INFO!K56>0,COUNTRY_INFO!K56<4),IF(Z56>0,IF(COUNTRY_INFO!K56=1, AD56/(COUNTRY_INFO!F56*0.33)*100, IF(COUNTRY_INFO!K56=2, AD56/(COUNTRY_INFO!F56*0.5)*100, IF(COUNTRY_INFO!K56=3, AD56/COUNTRY_INFO!F56*100))),\"-\"),0)","v":100},{"$f":"IF(COUNTRY_INFO!K56=2,IF(COUNTRY_INFO!G56*0.2>MAX('T1'!N56,'T2'!L56),MAX('T1'!N56,'T2'!L56),COUNTRY_INFO!G56*0.2),IF(COUNTRY_INFO!K56=3,IF(COUNTRY_INFO!G56>MAX('T1'!N56,'T2'!L56),MAX('T1'!N56,'T2'!L56),COUNTRY_INFO!G56),0))","v":0},{"$f":"IF(AND(COUNTRY_INFO!K56>0,COUNTRY_INFO!K56<4),IF(Z56>0,IF(COUNTRY_INFO!K56=1, 0, IF(COUNTRY_INFO!K56=2, AF56/(COUNTRY_INFO!G56*0.2)*100, IF(COUNTRY_INFO!K56=3, AF56/COUNTRY_INFO!G56*100))),\"-\"),0)","v":0},53829.5,{"$f":"IF(AND(COUNTRY_INFO!K56>0,COUNTRY_INFO!K56<4), IF(AC56/Z56*100<>0, IF(AH56/Z56*100>100,100,AH56/Z56*100), \"-\"),0)","v":44.158193295406541},null,{"$f":"IF(AND(D56<>0, D56<>\"Unknown\",D56<>\"Stopped\",D56<>\"Not required\"),D56/COUNTRY_INFO!D56, 0)","v":0},{"$f":"IF(AND(J56<>0,J56<>\"Unknown\",J56<>\"Stopped\",J56<>\"Not required\"),J56/COUNTRY_INFO!D56, 0)","v":0},{"$f":"IF(AND(P56<>0,P56<>\"Unknown\",P56<>\"Not required\"),P56/(COUNTRY_INFO!E56+COUNTRY_INFO!F56), 0)","v":1},{"$f":"IF(AND(Z56<>0,Z56<>\"Unknown\",Z56<>\"Not required\"),IF(COUNTRY_INFO!K56=1,1,IF(COUNTRY_INFO!K56=2,0.5*COUNTRY_INFO!F56/(0.5*COUNTRY_INFO!F56+0.2*COUNTRY_INFO!G56),IF(COUNTRY_INFO!K56=3,COUNTRY_INFO!F56/(COUNTRY_INFO!F56+COUNTRY_INFO!G56)))),0)","v":0.44158193295406539},{"$f":"IF(AND(Z56<>0,Z56<>\"Unknown\",Z56<>\"Not required\"),IF(COUNTRY_INFO!K56=1,0,IF(COUNTRY_INFO!K56=2,0.2*COUNTRY_INFO!G56/(0.5*COUNTRY_INFO!F56+0.2*COUNTRY_INFO!G56),IF(COUNTRY_INFO!K56=3,COUNTRY_INFO!G56/(COUNTRY_INFO!F56+COUNTRY_INFO!G56)))),0)","v":0.55841806704593466},{"$f":"MAX(COUNTRY_INFO!D56*AK56*PROFILE!$G$7,COUNTRY_INFO!D56*AL56*PROFILE!$G$7)","v":0},{"$f":"MAX(COUNTRY_INFO!D56*AK56*PROFILE!$G$8,COUNTRY_INFO!D56*AL56*PROFILE!$G$8,COUNTRY_INFO!D56*AM56*PROFILE!$G$8)","v":57111.04294161599},{"$f":"MAX(COUNTRY_INFO!D56*AK56*PROFILE!$G$9,COUNTRY_INFO!D56*AL56*PROFILE!$G$9,COUNTRY_INFO!D56*AM56*PROFILE!$G$9,IF(AND(DISTRICT!Z56<>\"Unknown\",Z56<>\"Not required\"),COUNTRY_INFO!O56*DISTRICT!AN56,0))","v":112017.35792906811},{"$f":"MAX(COUNTRY_INFO!D56*AK56*PROFILE!$G$10,COUNTRY_INFO!D56*AL56*PROFILE!$G$10,IF(AND(DISTRICT!Z56<>\"Unknown\",Z56<>\"Not required\"),COUNTRY_INFO!O56*DISTRICT!AO56,0))","v":68072},237200.4008706841,"Y",{"$f":"MAX('MDA2'!J56,'T1'!L56,'T2'!J56,T3_R1!K56,T3_R2!K56)","v":0},{"$f":"MAX('MDA1'!K56,'MDA2'!K56,'MDA3'!I56,'MDA3'!L56,'T1'!M56,'T2'!K56,T3_R1!L56,T3_R2!L56)","v":73036},{"$f":"MAX('MDA1'!L56,'MDA2'!L56,'MDA3'!J56,'MDA3'!M56,'T1'!N56,'T2'!L56,T3_R1!M56,T3_R2!M56)","v":0},73036,{"$f":"MAX('MDA2'!J56,T56)","v":0},{"$f":"MAX('MDA1'!K56,'MDA2'!K56,'MDA3'!I56,'MDA3'!L56,V56,AD56)","v":73036},{"$f":"MAX('MDA1'!L56,'MDA2'!L56,'MDA3'!J56,'MDA3'!M56,AF56)","v":0},73036,30.790841723668695]
[{"$f":"IF(COUNTRY_INFO!A57=0,\" \",COUNTRY_INFO!A57)","v":"Tanzania"},{"$f":"IF(COUNTRY_INFO!B57=0,\" \",COUNTRY_INFO!B57)","v":"Kigoma"},{"$f":"IF(COUNTRY_INFO!C57=0,\" \",COUNTRY_INFO!C57)","v":"Kasulu Town Council"},{"$f":"COUNTRY_INFO!L57","v":0},null,null,{"$f":"MAX('MDA1'!M57,'MDA2'!M57)","v":0},{"$f":"IF(AND(COUNTRY_INFO!H57>0,COUNTRY_INFO!H57<4),IF(D57>MAX('MDA1'!M57,'MDA2'!M57),MAX('MDA1'!M57,'MDA2'!M57),D57),0)","v":0},{"$f":"IF(AND(COUNTRY_INFO!H57>0,COUNTRY_INFO!H57<4), IF(G57/D57*100<>0, IF(G57/D57*100>100,100,G57/D57*100), \"-\"),0)","v":0},{"$f":"COUNTRY_INFO!M57","v":0},null,null,{"$f":"MAX('MDA1'!M57,MAX('MDA3'!I57,'MDA3'!L57)+MAX('MDA3'!J57,'MDA3'!M57))","v":0},{"$f":"IF(AND(COUNTRY_INFO!I57>0,COUNTRY_INFO!I57<4),IF(J57>MAX('MDA1'!M57,MAX('MDA3'!I57,'MDA3'!L57)+MAX('MDA3'!J57,'MDA3'!M57)),MAX('MDA1'!M57,MAX('MDA3'!I57,'MDA3'!L57)+MAX('MDA3'!J57,'MDA3'!M57)),J57),0)","v":0},{"$f":"IF(AND(COUNTRY_INFO!I57>0,COUNTRY_INFO!I57<4), IF(M57/J57*100<>0, IF(M57/J57*100>100,100,M57/J57*100), \"-\"),0)","v":0},{"$f":"COUNTRY_INFO!N57","v":82735},null,null,{"$f":"SUM(MAX('MDA2'!J57, 'T1'!L57, MAX(T3_R1!K57, T3_R2!K57)), MAX('MDA1'!K57, 'MDA2'!K57, 'T1'!M57, MAX(T3_R1!L57, T3_R2!L57)), MAX('MDA1'!L57, 'MDA2'!L57, 'T1'!N57, MAX(T3_R1!M57, T3_R2!M57)))","v":58336},{"$f":"IF(AND(COUNTRY_INFO!J57>1,COUNTRY_INFO!J57<4),IF(COUNTRY_INFO!E57>MAX('MDA2'!J57,'T1'!L57,MAX(T3_R1!K57,T3_R2!K57)),MAX('MDA2'!J57,'T1'!L57,MAX(T3_R1!K57,T3_R2!K57)),COUNTRY_INFO!E57),0)","v":0},{"$f":"IF(AND(COUNTRY_INFO!J57>1,COUNTRY_INFO!J57<4), IF(T57/COUNTRY_INFO!E57*100<>0, IF(T57/COUNTRY_INFO!E57*100>100,100,T57/COUNTRY_INFO!E57*100), \"-\"),0)","v":"-"},{"$f":"IF(AND(COUNTRY_INFO!J57>1,COUNTRY_INFO!J57<4),IF(COUNTRY_INFO!F57>MAX('MDA1'!K57,'MDA2'!K57,'T1'!M57,MAX(T3_R1!L57,T3_R2!L57)),MAX('MDA1'!K57,'MDA2'!K57,'T1'!M57,MAX(T3_R1!L57,T3_R2!L57)),COUNTRY_INFO!F57),0)","v":58336},{"$f":"IF(AND(COUNTRY_INFO!J57>1,COUNTRY_INFO!J57<4), IF(V57/COUNTRY_INFO!F57*100<>0, IF(V57/COUNTRY_INFO!F57*100>100,100,V57/COUNTRY_INFO!F57*100), \"-\"),0)","v":95.959994736149497},58336,{"$f":"IF(AND(COUNTRY_INFO!J57>1,COUNTRY_INFO!J57<4), IF(S57/P57*100<>0, IF(X57/P57*100>100,100,X57/P57*100), \"-\"),0)","v":70.509457907777843},{"$f":"COUNTRY_INFO!O57","v":64162},null,null,{"$f":"MAX('T1'!L57,'T2'!J57)+MAX('T1'!M57,'T2'!K57)+MAX('T1'!N57,'T2'!L57)","v":58336},{"$f":"IF(COUNTRY_INFO!K57=1,IF(COUNTRY_INFO!F57*0.33>MAX('T1'!M57,'T2'!K57),MAX('T1'!M57,'T2'!K57),COUNTRY_INFO!F57*0.33),IF(COUNTRY_INFO!K57=2,IF(COUNTRY_INFO!F57*0.5>MAX('T1'!M57,'T2'!K57),MAX('T1'!M57,'T2'!K57),COUNTRY_INFO!F57*0.5),IF(COUNTRY_INFO!K57=3,IF(COUNTRY_INFO!F57>MAX('T1'!M57,'T2'!K57),MAX('T1'!M57,'T2'!K57),COUNTRY_INFO!F57),0)))","v":30396},{"$f":"IF(AND(COUNTRY_INFO!K57>0,COUNTRY_INFO!K57<4),IF(Z57>0,IF(COUNTRY_INFO!K57=1, AD57/(COUNTRY_INFO!F57*0.33)*100, IF(COUNTRY_INFO!K57=2, AD57/(COUNTRY_INFO!F57*0.5)*100, IF(COUNTRY_INFO!K57=3, AD57/COUNTRY_INFO!F57*100))),\"-\"),0)","v":100},{"$f":"IF(COUNTRY_INFO!K57=2,IF(COUNTRY_INFO!G57*0.2>MAX('T1'!N57,'T2'!L57),MAX('T1'!N57,'T2'!L57),COUNTRY_INFO!G57*0.2),IF(COUNTRY_INFO!K57=3,IF(COUNTRY_INFO!G57>MAX('T1'!N57,'T2'!L57),MAX('T1'!N57,'T2'!L57),COUNTRY_INFO!G57),0))","v":0},{"$f":"IF(AND(COUNTRY_INFO!K57>0,COUNTRY_INFO!K57<4),IF(Z57>0,IF(COUNTRY_INFO!K57=1, 0, IF(COUNTRY_INFO!K57=2, AF57/(COUNTRY_INFO!G57*0.2)*100, IF(COUNTRY_INFO!K57=3, AF57/COUNTRY_INFO!G57*100))),\"-\"),0)","v":0},30396,{"$f":"IF(AND(COUNTRY_INFO!K57>0,COUNTRY_INFO!K57<4), IF(AC57/Z57*100<>0, IF(AH57/Z57*100>100,100,AH57/Z57*100), \"-\"),0)","v":47.373834980206354},null,{"$f":"IF(AND(D57<>0, D57<>\"Unknown\",D57<>\"Stopped\",D57<>\"Not required\"),D57/COUNTRY_INFO!D57, 0)","v":0},{"$f":"IF(AND(J57<>0,J57<>\"Unknown\",J57<>\"Stopped\",J57<>\"Not required\"),J57/COUNTRY_INFO!D57, 0)","v":0},{"$f":"IF(AND(P57<>0,P57<>\"Unknown\",P57<>\"Not required\"),P57/(COUNTRY_INFO!E57+COUNTRY_INFO!F57), 0)","v":1},{"$f":"IF(AND(Z57<>0,Z57<>\"Unknown\",Z57<>\"Not required\"),IF(COUNTRY_INFO!K57=1,1,IF(COUNTRY_INFO!K57=2,0.5*COUNTRY_INFO!F57/(0.5*COUNTRY_INFO!F57+0.2*COUNTRY_INFO!G57),IF(COUNTRY_INFO!K57=3,COUNTRY_INFO!F57/(COUNTRY_INFO!F57+COUNTRY_INFO!G57)))),0)","v":0.47373834980206353},{"$f":"IF(AND(Z57<>0,Z57<>\"Unknown\",Z57<>\"Not required\"),IF(COUNTRY_INFO!K57=1,0,IF(COUNTRY_INFO!K57=2,0.2*COUNTRY_INFO!G57/(0.5*COUNTRY_INFO!F57+0.2*COUNTRY_INFO!G57),IF(COUNTRY_INFO!K57=3,COUNTRY_INFO!G57/(COUNTRY_INFO!F57+COUNTRY_INFO!G57)))),0)","v":0.52626165019793647},{"$f":"MAX(COUNTRY_INFO!D57*AK57*PROFILE!$G$7,COUNTRY_INFO!D57*AL57*PROFILE!$G$7)","v":0},{"$f":"MAX(COUNTRY_INFO!D57*AK57*PROFILE!$G$8,COUNTRY_INFO!D57*AL57*PROFILE!$G$8,COUNTRY_INFO!D57*AM57*PROFILE!$G$8)","v":27931.418346270068},{"$f":"MAX(COUNTRY_INFO!D57*AK57*PROFILE!$G$9,COUNTRY_INFO!D57*AL57*PROFILE!$G$9,COUNTRY_INFO!D57*AM57*PROFILE!$G$9,IF(AND(DISTRICT!Z57<>\"Unknown\",Z57<>\"Not required\"),COUNTRY_INFO!O57*DISTRICT!AN57,0))","v":54784.565737299112},{"$f":"MAX(COUNTRY_INFO!D57*AK57*PROFILE!$G$10,COUNTRY_INFO!D57*AL57*PROFILE!$G$10,IF(AND(DISTRICT!Z57<>\"Unknown\",Z57<>\"Not required\"),COUNTRY_INFO!O57*DISTRICT!AO57,0))","v":33766},116481.98408356917,"Y",{"$f":"MAX('MDA2'!J57,'T1'!L57,'T2'!J57,T3_R1!K57,T3_R2!K57)","v":0},{"$f":"MAX('MDA1'!K57,'MDA2'!K57,'MDA3'!I57,'MDA3'!L57,'T1'!M57,'T2'!K57,T3_R1!L57,T3_R2!L57)","v":58336},{"$f":"MAX('MDA1'!L57,'MDA2'!L57,'MDA3'!J57,'MDA3'!M57,'T1'!N57,'T2'!L57,T3_R1!M57,T3_R2!M57)","v":0},58336,{"$f":"MAX('MDA2'!J57,T57)","v":0},{"$f":"MAX('MDA1'!K57,'MDA2'!K57,'MDA3'!I57,'MDA3'!L57,V57,AD57)","v":58336},{"$f":"MAX('MDA1'!L57,'MDA2'!L57,'MDA3'!J57,'MDA3'!M57,AF57)","v":0},58336,50.081564508849063]
[{"$f":"IF(COUNTRY_INFO!A58=0,\" \",COUNTRY_INFO!A58)","v":"Tanzania"},{"$f":"IF(COUNTRY_INFO!B58=0,\" \",COUNTRY_INFO!B58)","v":"Kigoma"},{"$f":"IF(COUNTRY_INFO!C58=0,\" \",COUNTRY_INFO!C58)","v":"Kibondo District Council"},{"$f":"COUNTRY_INFO!L58","v":0},null,null,{"$f":"MAX('MDA1'!M58,'MDA2'!M58)","v":0},{"$f":"IF(AND(COUNTRY_INFO!H58>0,COUNTRY_INFO!H58<4),IF(D58>MAX('MDA1'!M58,'MDA2'!M58),MAX('MDA1'!M58,'MDA2'!M58),D58),0)","v":0},{"$f":"IF(AND(COUNTRY_INFO!H58>0,COUNTRY_INFO!H58<4), IF(G58/D58*100<>0, IF(G58/D58*100>100,100,G58/D58*100), \"-\"),0)","v":0},{"$f":"COUNTRY_INFO!M58","v":0},null,null,{"$f":"MAX('MDA1'!M58,MAX('MDA3'!I58,'MDA3'!L58)+MAX('MDA3'!J58,'MDA3'!M58))","v":0},{"$f":"IF(AND(COUNTRY_INFO!I58>0,COUNTRY_INFO!I58<4),IF(J58>MAX('MDA1'!M58,MAX('MDA3'!I58,'MDA3'!L58)+MAX('MDA3'!J58,'MDA3'!M58)),MAX('MDA1'!M58,MAX('MDA3'!I58,'MDA3'!L58)+MAX('MDA3'!J58,'MDA3'!M58)),J58),0)","v":0},{"$f":"IF(AND(COUNTRY_INFO!I58>0,COUNTRY_INFO!I58<4), IF(M58/J58*100<>0, IF(M58/J58*100>100,100,M58/J58*100), \"-\"),0)","v":0},{"$f":"COUNTRY_INFO!N58","v":105362},null,null,{"$f":"SUM(MAX('MDA2'!J58, 'T1'!L58, MAX(T3_R1!K58, T3_R2!K58)), MAX('MDA1'!K58, 'MDA2'!K58, 'T1'!M58, MAX(T3_R1!L58, T3_R2!L58)), MAX('MDA1'!L58, 'MDA2'!L58, 'T1'!N58, MAX(T3_R1!M58, T3_R2!M58)))","v":55576},{"$f":"IF(AND(COUNTRY_INFO!J58>1,COUNTRY_INFO!J58<4),IF(COUNTRY_INFO!E58>MAX('MDA2'!J58,'T1'!L58,MAX(T3_R1!K58,T3_R2!K58)),MAX('MDA2'!J58,'T1'!L58,MAX(T3_R1!K58,T3_R2!K58)),COUNTRY_INFO!E58),0)","v":0},{"$f":"IF(AND(COUNTRY_INFO!J58>1,COUNTRY_INFO!J58<4), IF(T58/COUNTRY_INFO!E58*100<>0, IF(T58/COUNTRY_INFO!E58*100>100,100,T58/COUNTRY_INFO!E58*100), \"-\"),0)","v":"-"},{"$f":"IF(AND(COUNTRY_INFO!J58>1,COUNTRY_INFO!J58<4),IF(COUNTRY_INFO!F58>MAX('MDA1'!K58,'MDA2'!K58,'T1'!M58,MAX(T3_R1!L58,T3_R2!L58)),MAX('MDA1'!K58,'MDA2'!K58,'T1'!M58,MAX(T3_R1!L58,T3_R2!L58)),COUNTRY_INFO!F58),0)","v":55576},{"$f":"IF(AND(COUNTRY_INFO!J58>1,COUNTRY_INFO!J58<4), IF(V58/COUNTRY_INFO!F58*100<>0, IF(V58/COUNTRY_INFO!F58*100>100,100,V58/COUNTRY_INFO!F58*100), \"-\"),0)","v":85.981713260207002},55576,{"$f":"IF(AND(COUNTRY_INFO!J58>1,COUNTRY_INFO!J58<4), IF(S58/P58*100<>0, IF(X58/P58*100>100,100,X58/P58*100), \"-\"),0)","v":52.747669937928286},{"$f":"COUNTRY_INFO!O58","v":74385.3},null,null,{"$f":"MAX('T1'!L58,'T2'!J58)+MAX('T1'!M58,'T2'!K58)+MAX('T1'!N58,'T2'!L58)","v":55576},{"$f":"IF(COUNTRY_INFO!K58=1,IF(COUNTRY_INFO!F58*0.33>MAX('T1'!M58,'T2'!K58),MAX('T1'!M58,'T2'!K58),COUNTRY_INFO!F58*0.33),IF(COUNTRY_INFO!K58=2,IF(COUNTRY_INFO!F58*0.5>MAX('T1'!M58,'T2'!K58),MAX('T1'!M58,'T2'!K58),COUNTRY_INFO!F58*0.5),IF(COUNTRY_INFO!K58=3,IF(COUNTRY_INFO!F58>MAX('T1'!M58,'T2'!K58),MAX('T1'!M58,'T2'!K58),COUNTRY_INFO!F58),0)))","v":32318.5},{"$f":"IF(AND(COUNTRY_INFO!K58>0,COUNTRY_INFO!K58<4),IF(Z58>0,IF(COUNTRY_INFO!K58=1, AD58/(COUNTRY_INFO!F58*0.33)*100, IF(COUNTRY_INFO!K58=2, AD58/(COUNTRY_INFO!F58*0.5)*100, IF(COUNTRY_INFO!K58=3, AD58/COUNTRY_INFO!F58*100))),\"-\"),0)","v":100},{"$f":"IF(COUNTRY_INFO!K58=2,IF(COUNTRY_INFO!G58*0.2>MAX('T1'!N58,'T2'!L58),MAX('T1'!N58,'T2'!L58),COUNTRY_INFO!G58*0.2),IF(COUNTRY_INFO!K58=3,IF(COUNTRY_INFO!G58>MAX('T1'!N58,'T2'!L58),MAX('T1'!N58,'T2'!L58),COUNTRY_INFO!G58),0))","v":0},{"$f":"IF(AND(COUNTRY_INFO!K58>0,COUNTRY_INFO!K58<4),IF(Z58>0,IF(COUNTRY_INFO!K58=1, 0, IF(COUNTRY_INFO!K58=2, AF58/(COUNTRY_INFO!G58*0.2)*100, IF(COUNTRY_INFO!K58=3, AF58/COUNTRY_INFO!G58*100))),\"-\"),0)","v":0},32318.5,{"$f":"IF(AND(COUNTRY_INFO!K58>0,COUNTRY_INFO!K58<4), IF(AC58/Z58*100<>0, IF(AH58/Z58*100>100,100,AH58/Z58*100), \"-\"),0)","v":43.447428456966634},null,{"$f":"IF(AND(D58<>0, D58<>\"Unknown\",D58<>\"Stopped\",D58<>\"Not required\"),D58/COUNTRY_INFO!D58, 0)","v":0},{"$f":"IF(AND(J58<>0,J58<>\"Unknown\",J58<>\"Stopped\",J58<>\"Not required\"),J58/COUNTRY_INFO!D58, 0)","v":0},{"$f":"IF(AND(P58<>0,P58<>\"Unknown\",P58<>\"Not required\"),P58/(COUNTRY_INFO!E58+COUNTRY_INFO!F58), 0)","v":1},{"$f":"IF(AND(Z58<>0,Z58<>\"Unknown\",Z58<>\"Not required\"),IF(COUNTRY_INFO!K58=1,1,IF(COUNTRY_INFO!K58=2,0.5*COUNTRY_INFO!F58/(0.5*COUNTRY_INFO!F58+0.2*COUNTRY_INFO!G58),IF(COUNTRY_INFO!K58=3,COUNTRY_INFO!F58/(COUNTRY_INFO!F58+COUNTRY_INFO!G58)))),0)","v":0.4344742845696663},{"$f":"IF(AND(Z58<>0,Z58<>\"Unknown\",Z58<>\"Not required\"),IF(COUNTRY_INFO!K58=1,0,IF(COUNTRY_INFO!K58=2,0.2*COUNTRY_INFO!G58/(0.5*COUNTRY_INFO!F58+0.2*COUNTRY_INFO!G58),IF(COUNTRY_INFO!K58=3,COUNTRY_INFO!G58/(COUNTRY_INFO!F58+COUNTRY_INFO!G58)))),0)","v":0.5655257154303337},{"$f":"MAX(COUNTRY_INFO!D58*AK58*PROFILE!$G$7,COUNTRY_INFO!D58*AL58*PROFILE!$G$7)","v":0},{"$f":"MAX(COUNTRY_INFO!D58*AK58*PROFILE!$G$8,COUNTRY_INFO!D58*AL58*PROFILE!$G$8,COUNTRY_INFO!D58*AM58*PROFILE!$G$8)","v":35051.923146081826},{"$f":"MAX(COUNTRY_INFO!D58*AK58*PROFILE!$G$9,COUNTRY_INFO!D58*AL58*PROFILE!$G$9,COUNTRY_INFO!D58*AM58*PROFILE!$G$9,IF(AND(DISTRICT!Z58<>\"Unknown\",Z58<>\"Not required\"),COUNTRY_INFO!O58*DISTRICT!AN58,0))","v":68750.693717338974},{"$f":"MAX(COUNTRY_INFO!D58*AK58*PROFILE!$G$10,COUNTRY_INFO!D58*AL58*PROFILE!$G$10,IF(AND(DISTRICT!Z58<>\"Unknown\",Z58<>\"Not required\"),COUNTRY_INFO!O58*DISTRICT!AO58,0))","v":42066.8},145869.4168634208,"Y",{"$f":"MAX('MDA2'!J58,'T1'!L58,'T2'!J58,T3_R1!K58,T3_R2!K58)","v":0},{"$f":"MAX('MDA1'!K58,'MDA2'!K58,'MDA3'!I58,'MDA3'!L58,'T1'!M58,'T2'!K58,T3_R1!L58,T3_R2!L58)","v":55576},{"$f":"MAX('MDA1'!L58,'MDA2'!L58,'MDA3'!J58,'MDA3'!M58,'T1'!N58,'T2'!L58,T3_R1!M58,T3_R2!M58)","v":0},55576,{"$f":"MAX('MDA2'!J58,T58)","v":0},{"$f":"MAX('MDA1'!K58,'MDA2'!K58,'MDA3'!I58,'MDA3'!L58,V58,AD58)","v":55576},{"$f":"MAX('MDA1'!L58,'MDA2'!L58,'MDA3'!J58,'MDA3'!M58,AF58)","v":0},55576,38.09983010491942]
[{"$f":"IF(COUNTRY_INFO!A59=0,\" \",COUNTRY_INFO!A59)","v":"Tanzania"},{"$f":"IF(COUNTRY_INFO!B59=0,\" \",COUNTRY_INFO!B59)","v":"Kigoma"},{"$f":"IF(COUNTRY_INFO!C59=0,\" \",COUNTRY_INFO!C59)","v":"Kigoma District Council"},{"$f":"COUNTRY_INFO!L59","v":0},null,null,{"$f":"MAX('MDA1'!M59,'MDA2'!M59)","v":0},{"$f":"IF(AND(COUNTRY_INFO!H59>0,COUNTRY_INFO!H59<4),IF(D59>MAX('MDA1'!M59,'MDA2'!M59),MAX('MDA1'!M59,'MDA2'!M59),D59),0)","v":0},{"$f":"IF(AND(COUNTRY_INFO!H59>0,COUNTRY_INFO!H59<4), IF(G59/D59*100<>0, IF(G59/D59*100>100,100,G59/D59*100), \"-\"),0)","v":0},{"$f":"COUNTRY_INFO!M59","v":0},null,null,{"$f":"MAX('MDA1'!M59,MAX('MDA3'!I59,'MDA3'!L59)+MAX('MDA3'!J59,'MDA3'!M59))","v":0},{"$f":"IF(AND(COUNTRY_INFO!I59>0,COUNTRY_INFO!I59<4),IF(J59>MAX('MDA1'!M59,MAX('MDA3'!I59,'MDA3'!L59)+MAX('MDA3'!J59,'MDA3'!M59)),MAX('MDA1'!M59,MAX('MDA3'!I59,'MDA3'!L59)+MAX('MDA3'!J59,'MDA3'!M59)),J59),0)","v":0},{"$f":"IF(AND(COUNTRY_INFO!I59>0,COUNTRY_INFO!I59<4), IF(M59/J59*100<>0, IF(M59/J59*100>100,100,M59/J59*100), \"-\"),0)","v":0},{"$f":"COUNTRY_INFO!N59","v":84564},null,null,{"$f":"SUM(MAX('MDA2'!J59, 'T1'!L59, MAX(T3_R1!K59, T3_R2!K59)), MAX('MDA1'!K59, 'MDA2'!K59, 'T1'!M59, MAX(T3_R1!L59, T3_R2!L59)), MAX('MDA1'!L59, 'MDA2'!L59, 'T1'!N59, MAX(T3_R1!M59, T3_R2!M59)))","v":53071},{"$f":"IF(AND(COUNTRY_INFO!J59>1,COUNTRY_INFO!J59<4),IF(COUNTRY_INFO!E59>MAX('MDA2'!J59,'T1'!L59,MAX(T3_R1!K59,T3_R2!K59)),MAX('MDA2'!J59,'T1'!L59,MAX(T3_R1!K59,T3_R2!K59)),COUNTRY_INFO!E59),0)","v":0},{"$f":"IF(AND(COUNTRY_INFO!J59>1,COUNTRY_INFO!J59<4), IF(T59/COUNTRY_INFO!E59*100<>0, IF(T59/COUNTRY_INFO!E59*100>100,100,T59/COUNTRY_INFO!E59*100), \"-\"),0)","v":"-"},{"$f":"IF(AND(COUNTRY_INFO!J59>1,COUNTRY_INFO!J59<4),IF(COUNTRY_INFO!F59>MAX('MDA1'!K59,'MDA2'!K59,'T1'!M59,MAX(T3_R1!L59,T3_R2!L59)),MAX('MDA1'!K59,'MDA2'!K59,'T1'!M59,MAX(T3_R1!L59,T3_R2!L59)),COUNTRY_INFO!F59),0)","v":53071},{"$f":"IF(AND(COUNTRY_INFO!J59>1,COUNTRY_INFO!J59<4), IF(V59/COUNTRY_INFO!F59*100<>0, IF(V59/COUNTRY_INFO!F59*100>100,100,V59/COUNTRY_INFO!F59*100), \"-\"),0)","v":82.065595571293812},53071,{"$f":"IF(AND(COUNTRY_INFO!J59>1,COUNTRY_INFO!J59<4), IF(S59/P59*100<>0, IF(X59/P59*100>100,100,X59/P59*100), \"-\"),0)","v":62.758384182394401},{"$f":"COUNTRY_INFO!O59","v":66537.3},null,null,{"$f":"MAX('T1'!L59,'T2'!J59)+MAX('T1'!M59,'T2'!K59)+MAX('T1'!N59,'T2'!L59)","v":53071},{"$f":"IF(COUNTRY_INFO!K59=1,IF(COUNTRY_INFO!F59*0.33>MAX('T1'!M59,'T2'!K59),MAX('T1'!M59,'T2'!K59),COUNTRY_INFO!F59*0.33),IF(COUNTRY_INFO!K59=2,IF(COUNTRY_INFO!F59*0.5>MAX('T1'!M59,'T2'!K59),MAX('T1'!M59,'T2'!K59),COUNTRY_INFO!F59*0.5),IF(COUNTRY_INFO!K59=3,IF(COUNTRY_INFO!F59>MAX('T1'!M59,'T2'!K59),MAX('T1'!M59,'T2'!K59),COUNTRY_INFO!F59),0)))","v":32334.5},{"$f":"IF(AND(COUNTRY_INFO!K59>0,COUNTRY_INFO!K59<4),IF(Z59>0,IF(COUNTRY_INFO!K59=1, AD59/(COUNTRY_INFO!F59*0.33)*100, IF(COUNTRY_INFO!K59=2, AD59/(COUNTRY_INFO!F59*0.5)*100, IF(COUNTRY_INFO!K59=3, AD59/COUNTRY_INFO!F59*100))),\"-\"),0)","v":100},{"$f":"IF(COUNTRY_INFO!K59=2,IF(COUNTRY_INFO!G59*0.2>MAX('T1'!N59,'T2'!L59),MAX('T1'!N59,'T2'!L59),COUNTRY_INFO!G59*0.2),IF(COUNTRY_INFO!K59=3,IF(COUNTRY_INFO!G59>MAX('T1'!N59,'T2'!L59),MAX('T1'!N59,'T2'!L59),COUNTRY_INFO!G59),0))","v":0},{"$f":"IF(AND(COUNTRY_INFO!K59>0,COUNTRY_INFO!K59<4),IF(Z59>0,IF(COUNTRY_INFO!K59=1, 0, IF(COUNTRY_INFO!K59=2, AF59/(COUNTRY_INFO!G59*0.2)*100, IF(COUNTRY_INFO!K59=3, AF59/COUNTRY_INFO!G59*100))),\"-\"),0)","v":0},32334.5,{"$f":"IF(AND(COUNTRY_INFO!K59>0,COUNTRY_INFO!K59<4), IF(AC59/Z59*100<>0, IF(AH59/Z59*100>100,100,AH59/Z59*100), \"-\"),0)","v":48.596050636259655},null,{"$f":"IF(AND(D59<>0, D59<>\"Unknown\",D59<>\"Stopped\",D59<>\"Not required\"),D59/COUNTRY_INFO!D59, 0)","v":0},{"$f":"IF(AND(J59<>0,J59<>\"Unknown\",J59<>\"Stopped\",J59<>\"Not required\"),J59/COUNTRY_INFO!D59, 0)","v":0},{"$f":"IF(AND(P59<>0,P59<>\"Unknown\",P59<>\"Not required\"),P59/(COUNTRY_INFO!E59+COUNTRY_INFO!F59), 0)","v":1},{"$f":"IF(AND(Z59<>0,Z59<>\"Unknown\",Z59<>\"Not required\"),IF(COUNTRY_INFO!K59=1,1,IF(COUNTRY_INFO!K59=2,0.5*COUNTRY_INFO!F59/(0.5*COUNTRY_INFO!F59+0.2*COUNTRY_INFO!G59),IF(COUNTRY_INFO!K59=3,COUNTRY_INFO!F59/(COUNTRY_INFO!F59+COUNTRY_INFO!G59)))),0)","v":0.48596050636259658},{"$f":"IF(AND(Z59<>0,Z59<>\"Unknown\",Z59<>\"Not required\"),IF(COUNTRY_INFO!K59=1,0,IF(COUNTRY_INFO!K59=2,0.2*COUNTRY_INFO!G59/(0.5*COUNTRY_INFO!F59+0.2*COUNTRY_INFO!G59),IF(COUNTRY_INFO!K59=3,COUNTRY_INFO!G59/(COUNTRY_INFO!F59+COUNTRY_INFO!G59)))),0)","v":0.51403949363740342},{"$f":"MAX(COUNTRY_INFO!D59*AK59*PROFILE!$G$7,COUNTRY_INFO!D59*AL59*PROFILE!$G$7)","v":0},{"$f":"MAX(COUNTRY_INFO!D59*AK59*PROFILE!$G$8,COUNTRY_INFO!D59*AL59*PROFILE!$G$8,COUNTRY_INFO!D59*AM59*PROFILE!$G$8)","v":28376.9842311252},{"$f":"MAX(COUNTRY_INFO!D59*AK59*PROFILE!$G$9,COUNTRY_INFO!D59*AL59*PROFILE!$G$9,COUNTRY_INFO!D59*AM59*PROFILE!$G$9,IF(AND(DISTRICT!Z59<>\"Unknown\",Z59<>\"Not required\"),COUNTRY_INFO!O59*DISTRICT!AN59,0))","v":55658.496778198205},{"$f":"MAX(COUNTRY_INFO!D59*AK59*PROFILE!$G$10,COUNTRY_INFO!D59*AL59*PROFILE!$G$10,IF(AND(DISTRICT!Z59<>\"Unknown\",Z59<>\"Not required\"),COUNTRY_INFO!O59*DISTRICT!AO59,0))","v":34202.800000000003},118238.28100932341,"Y",{"$f":"MAX('MDA2'!J59,'T1'!L59,'T2'!J59,T3_R1!K59,T3_R2!K59)","v":0},{"$f":"MAX('MDA1'!K59,'MDA2'!K59,'MDA3'!I59,'MDA3'!L59,'T1'!M59,'T2'!K59,T3_R1!L59,T3_R2!L59)","v":53071},{"$f":"MAX('MDA1'!L59,'MDA2'!L59,'MDA3'!J59,'MDA3'!M59,'T1'!N59,'T2'!L59,T3_R1!M59,T3_R2!M59)","v":0},53071,{"$f":"MAX('MDA2'!J59,T59)","v":0},{"$f":"MAX('MDA1'!K59,'MDA2'!K59,'MDA3'!I59,'MDA3'!L59,V59,AD59)","v":53071},{"$f":"MAX('MDA1'!L59,'MDA2'!L59,'MDA3'!J59,'MDA3'!M59,AF59)","v":0},53071,44.884786506508163]
[{"$f":"IF(COUNTRY_INFO!A60=0,\" \",COUNTRY_INFO!A60)","v":"Tanzania"},{"$f":"IF(COUNTRY_INFO!B60=0,\" \",COUNTRY_INFO!B60)","v":"Kigoma"},{"$f":"IF(COUNTRY_INFO!C60=0,\" \",COUNTRY_INFO!C60)","v":"Kigoma-Ujiji Municipal Council"},{"$f":"COUNTRY_INFO!L60","v":0},null,null,{"$f":"MAX('MDA1'!M60,'MDA2'!M60)","v":0},{"$f":"IF(AND(COUNTRY_INFO!H60>0,COUNTRY_INFO!H60<4),IF(D60>MAX('MDA1'!M60,'MDA2'!M60),MAX('MDA1'!M60,'MDA2'!M60),D60),0)","v":0},{"$f":"IF(AND(COUNTRY_INFO!H60>0,COUNTRY_INFO!H60<4), IF(G60/D60*100<>0, IF(G60/D60*100>100,100,G60/D60*100), \"-\"),0)","v":0},{"$f":"COUNTRY_INFO!M60","v":0},null,null,{"$f":"MAX('MDA1'!M60,MAX('MDA3'!I60,'MDA3'!L60)+MAX('MDA3'!J60,'MDA3'!M60))","v":0},{"$f":"IF(AND(COUNTRY_INFO!I60>0,COUNTRY_INFO!I60<4),IF(J60>MAX('MDA1'!M60,MAX('MDA3'!I60,'MDA3'!L60)+MAX('MDA3'!J60,'MDA3'!M60)),MAX('MDA1'!M60,MAX('MDA3'!I60,'MDA3'!L60)+MAX('MDA3'!J60,'MDA3'!M60)),J60),0)","v":0},{"$f":"IF(AND(COUNTRY_INFO!I60>0,COUNTRY_INFO!I60<4), IF(M60/J60*100<>0, IF(M60/J60*100>100,100,M60/J60*100), \"-\"),0)","v":0},{"$f":"COUNTRY_INFO!N60","v":82539},null,null,{"$f":"SUM(MAX('MDA2'!J60, 'T1'!L60, MAX(T3_R1!K60, T3_R2!K60)), MAX('MDA1'!K60, 'MDA2'!K60, 'T1'!M60, MAX(T3_R1!L60, T3_R2!L60)), MAX('MDA1'!L60, 'MDA2'!L60, 'T1'!N60, MAX(T3_R1!M60, T3_R2!M60)))","v":43073},{"$f":"IF(AND(COUNTRY_INFO!J60>1,COUNTRY_INFO!J60<4),IF(COUNTRY_INFO!E60>MAX('MDA2'!J60,'T1'!L60,MAX(T3_R1!K60,T3_R2!K60)),MAX('MDA2'!J60,'T1'!L60,MAX(T3_R1!K60,T3_R2!K60)),COUNTRY_INFO!E60),0)","v":0},{"$f":"IF(AND(COUNTRY_INFO!J60>1,COUNTRY_INFO!J60<4), IF(T60/COUNTRY_INFO!E60*100<>0, IF(T60/COUNTRY_INFO!E60*100>100,100,T60/COUNTRY_INFO!E60*100), \"-\"),0)","v":"-"},{"$f":"IF(AND(COUNTRY_INFO!J60>1,COUNTRY_INFO!J60<4),IF(COUNTRY_INFO!F60>MAX('MDA1'!K60,'MDA2'!K60,'T1'!M60,MAX(T3_R1!L60,T3_R2!L60)),MAX('MDA1'!K60,'MDA2'!K60,'T1'!M60,MAX(T3_R1!L60,T3_R2!L60)),COUNTRY_INFO!F60),0)","v":43073},{"$f":"IF(AND(COUNTRY_INFO!J60>1,COUNTRY_INFO!J60<4), IF(V60/COUNTRY_INFO!F60*100<>0, IF(V60/COUNTRY_INFO!F60*100>100,100,V60/COUNTRY_INFO!F60*100), \"-\"),0)","v":87.970508343034538},43073,{"$f":"IF(AND(COUNTRY_INFO!J60>1,COUNTRY_INFO!J60<4), IF(S60/P60*100<>0, IF(X60/P60*100>100,100,X60/P60*100), \"-\"),0)","v":52.185027683882765},{"$f":"COUNTRY_INFO!O60","v":60029.700000000004},null,null,{"$f":"MAX('T1'!L60,'T2'!J60)+MAX('T1'!M60,'T2'!K60)+MAX('T1'!N60,'T2'!L60)","v":43073},{"$f":"IF(COUNTRY_INFO!K60=1,IF(COUNTRY_INFO!F60*0.33>MAX('T1'!M60,'T2'!K60),MAX('T1'!M60,'T2'!K60),COUNTRY_INFO!F60*0.33),IF(COUNTRY_INFO!K60=2,IF(COUNTRY_INFO!F60*0.5>MAX('T1'!M60,'T2'!K60),MAX('T1'!M60,'T2'!K60),COUNTRY_INFO!F60*0.5),IF(COUNTRY_INFO!K60=3,IF(COUNTRY_INFO!F60>MAX('T1'!M60,'T2'!K60),MAX('T1'!M60,'T2'!K60),COUNTRY_INFO!F60),0)))","v":24481.5},{"$f":"IF(AND(COUNTRY_INFO!K60>0,COUNTRY_INFO!K60<4),IF(Z60>0,IF(COUNTRY_INFO!K60=1, AD60/(COUNTRY_INFO!F60*0.33)*100, IF(COUNTRY_INFO!K60=2, AD60/(COUNTRY_INFO!F60*0.5)*100, IF(COUNTRY_INFO!K60=3, AD60/COUNTRY_INFO!F60*100))),\"-\"),0)","v":100},{"$f":"IF(COUNTRY_INFO!K60=2,IF(COUNTRY_INFO!G60*0.2>MAX('T1'!N60,'T2'!L60),MAX('T1'!N60,'T2'!L60),COUNTRY_INFO!G60*0.2),IF(COUNTRY_INFO!K60=3,IF(COUNTRY_INFO!G60>MAX('T1'!N60,'T2'!L60),MAX('T1'!N60,'T2'!L60),COUNTRY_INFO!G60),0))","v":0},{"$f":"IF(AND(COUNTRY_INFO!K60>0,COUNTRY_INFO!K60<4),IF(Z60>0,IF(COUNTRY_INFO!K60=1, 0, IF(COUNTRY_INFO!K60=2, AF60/(COUNTRY_INFO!G60*0.2)*100, IF(COUNTRY_INFO!K60=3, AF60/COUNTRY_INFO!G60*100))),\"-\"),0)","v":0},24481.5,{"$f":"IF(AND(COUNTRY_INFO!K60>0,COUNTRY_INFO!K60<4), IF(AC60/Z60*100<>0, IF(AH60/Z60*100>100,100,AH60/Z60*100), \"-\"),0)","v":40.782312755186176},null,{"$f":"IF(AND(D60<>0, D60<>\"Unknown\",D60<>\"Stopped\",D60<>\"Not required\"),D60/COUNTRY_INFO!D60, 0)","v":0},{"$f":"IF(AND(J60<>0,J60<>\"Unknown\",J60<>\"Stopped\",J60<>\"Not required\"),J60/COUNTRY_INFO!D60, 0)","v":0},{"$f":"IF(AND(P60<>0,P60<>\"Unknown\",P60<>\"Not required\"),P60/(COUNTRY_INFO!E60+COUNTRY_INFO!F60), 0)","v":1},{"$f":"IF(AND(Z60<>0,Z60<>\"Unknown\",Z60<>\"Not required\"),IF(COUNTRY_INFO!K60=1,1,IF(COUNTRY_INFO!K60=2,0.5*COUNTRY_INFO!F60/(0.5*COUNTRY_INFO!F60+0.2*COUNTRY_INFO!G60),IF(COUNTRY_INFO!K60=3,COUNTRY_INFO!F60/(COUNTRY_INFO!F60+COUNTRY_INFO!G60)))),0)","v":0.40782312755186179},{"$f":"IF(AND(Z60<>0,Z60<>\"Unknown\",Z60<>\"Not required\"),IF(COUNTRY_INFO!K60=1,0,IF(COUNTRY_INFO!K60=2,0.2*COUNTRY_INFO!G60/(0.5*COUNTRY_INFO!F60+0.2*COUNTRY_INFO!G60),IF(COUNTRY_INFO!K60=3,COUNTRY_INFO!G60/(COUNTRY_INFO!F60+COUNTRY_INFO!G60)))),0)","v":0.59217687244813821},{"$f":"MAX(COUNTRY_INFO!D60*AK60*PROFILE!$G$7,COUNTRY_INFO!D60*AL60*PROFILE!$G$7)","v":0},{"$f":"MAX(COUNTRY_INFO!D60*AK60*PROFILE!$G$8,COUNTRY_INFO!D60*AL60*PROFILE!$G$8,COUNTRY_INFO!D60*AM60*PROFILE!$G$8)","v":28899.050214327006},{"$f":"MAX(COUNTRY_INFO!D60*AK60*PROFILE!$G$9,COUNTRY_INFO!D60*AL60*PROFILE!$G$9,COUNTRY_INFO!D60*AM60*PROFILE!$G$9,IF(AND(DISTRICT!Z60<>\"Unknown\",Z60<>\"Not required\"),COUNTRY_INFO!O60*DISTRICT!AN60,0))","v":56682.474788242449},{"$f":"MAX(COUNTRY_INFO!D60*AK60*PROFILE!$G$10,COUNTRY_INFO!D60*AL60*PROFILE!$G$10,IF(AND(DISTRICT!Z60<>\"Unknown\",Z60<>\"Not required\"),COUNTRY_INFO!O60*DISTRICT!AO60,0))","v":35548.200000000004},121129.72500256947,"Y",{"$f":"MAX('MDA2'!J60,'T1'!L60,'T2'!J60,T3_R1!K60,T3_R2!K60)","v":0},{"$f":"MAX('MDA1'!K60,'MDA2'!K60,'MDA3'!I60,'MDA3'!L60,'T1'!M60,'T2'!K60,T3_R1!L60,T3_R2!L60)","v":43073},{"$f":"MAX('MDA1'!L60,'MDA2'!L60,'MDA3'!J60,'MDA3'!M60,'T1'!N60,'T2'!L60,T3_R1!M60,T3_R2!M60)","v":0},43073,{"$f":"MAX('MDA2'!J60,T60)","v":0},{"$f":"MAX('MDA1'!K60,'MDA2'!K60,'MDA3'!I60,'MDA3'!L60,V60,AD60)","v":43073},{"$f":"MAX('MDA1'!L60,'MDA2'!L60,'MDA3'!J60,'MDA3'!M60,AF60)","v":0},43073,35.559397166208633]
[{"$f":"IF(COUNTRY_INFO!A61=0,\" \",COUNTRY_INFO!A61)","v":"Tanzania"},{"$f":"IF(COUNTRY_INFO!B61=0,\" \",COUNTRY_INFO!B61)","v":"Kigoma"},{"$f":"IF(COUNTRY_INFO!C61=0,\" \",COUNTRY_INFO!C61)","v":"Uvinza District Council"},{"$f":"COUNTRY_INFO!L61","v":0},null,null,{"$f":"MAX('MDA1'!M61,'MDA2'!M61)","v":0},{"$f":"IF(AND(COUNTRY_INFO!H61>0,COUNTRY_INFO!H61<4),IF(D61>MAX('MDA1'!M61,'MDA2'!M61),MAX('MDA1'!M61,'MDA2'!M61),D61),0)","v":0},{"$f":"IF(AND(COUNTRY_INFO!H61>0,COUNTRY_INFO!H61<4), IF(G61/D61*100<>0, IF(G61/D61*100>100,100,G61/D61*100), \"-\"),0)","v":0},{"$f":"COUNTRY_INFO!M61","v":0},null,null,{"$f":"MAX('MDA1'!M61,MAX('MDA3'!I61,'MDA3'!L61)+MAX('MDA3'!J61,'MDA3'!M61))","v":0},{"$f":"IF(AND(COUNTRY_INFO!I61>0,COUNTRY_INFO!I61<4),IF(J61>MAX('MDA1'!M61,MAX('MDA3'!I61,'MDA3'!L61)+MAX('MDA3'!J61,'MDA3'!M61)),MAX('MDA1'!M61,MAX('MDA3'!I61,'MDA3'!L61)+MAX('MDA3'!J61,'MDA3'!M61)),J61),0)","v":0},{"$f":"IF(AND(COUNTRY_INFO!I61>0,COUNTRY_INFO!I61<4), IF(M61/J61*100<>0, IF(M61/J61*100>100,100,M61/J61*100), \"-\"),0)","v":0},{"$f":"COUNTRY_INFO!N61","v":151269},null,null,{"$f":"SUM(MAX('MDA2'!J61, 'T1'!L61, MAX(T3_R1!K61, T3_R2!K61)), MAX('MDA1'!K61, 'MDA2'!K61, 'T1'!M61, MAX(T3_R1!L61, T3_R2!L61)), MAX('MDA1'!L61, 'MDA2'!L61, 'T1'!N61, MAX(T3_R1!M61, T3_R2!M61)))","v":71047},{"$f":"IF(AND(COUNTRY_INFO!J61>1,COUNTRY_INFO!J61<4),IF(COUNTRY_INFO!E61>MAX('MDA2'!J61,'T1'!L61,MAX(T3_R1!K61,T3_R2!K61)),MAX('MDA2'!J61,'T1'!L61,MAX(T3_R1!K61,T3_R2!K61)),COUNTRY_INFO!E61),0)","v":0},{"$f":"IF(AND(COUNTRY_INFO!J61>1,COUNTRY_INFO!J61<4), IF(T61/COUNTRY_INFO!E61*100<>0, IF(T61/COUNTRY_INFO!E61*100>100,100,T61/COUNTRY_INFO!E61*100), \"-\"),0)","v":"-"},{"$f":"IF(AND(COUNTRY_INFO!J61>1,COUNTRY_INFO!J61<4),IF(COUNTRY_INFO!F61>MAX('MDA1'!K61,'MDA2'!K61,'T1'!M61,MAX(T3_R1!L61,T3_R2!L61)),MAX('MDA1'!K61,'MDA2'!K61,'T1'!M61,MAX(T3_R1!L61,T3_R2!L61)),COUNTRY_INFO!F61),0)","v":71047},{"$f":"IF(AND(COUNTRY_INFO!J61>1,COUNTRY_INFO!J61<4), IF(V61/COUNTRY_INFO!F61*100<>0, IF(V61/COUNTRY_INFO!F61*100>100,100,V61/COUNTRY_INFO!F61*100), \"-\"),0)","v":77.660574526693196},71047,{"$f":"IF(AND(COUNTRY_INFO!J61>1,COUNTRY_INFO!J61<4), IF(S61/P61*100<>0, IF(X61/P61*100>100,100,X61/P61*100), \"-\"),0)","v":46.967323113129588},{"$f":"COUNTRY_INFO!O61","v":108178},null,null,{"$f":"MAX('T1'!L61,'T2'!J61)+MAX('T1'!M61,'T2'!K61)+MAX('T1'!N61,'T2'!L61)","v":71047},{"$f":"IF(COUNTRY_INFO!K61=1,IF(COUNTRY_INFO!F61*0.33>MAX('T1'!M61,'T2'!K61),MAX('T1'!M61,'T2'!K61),COUNTRY_INFO!F61*0.33),IF(COUNTRY_INFO!K61=2,IF(COUNTRY_INFO!F61*0.5>MAX('T1'!M61,'T2'!K61),MAX('T1'!M61,'T2'!K61),COUNTRY_INFO!F61*0.5),IF(COUNTRY_INFO!K61=3,IF(COUNTRY_INFO!F61>MAX('T1'!M61,'T2'!K61),MAX('T1'!M61,'T2'!K61),COUNTRY_INFO!F61),0)))","v":45742},{"$f":"IF(AND(COUNTRY_INFO!K61>0,COUNTRY_INFO!K61<4),IF(Z61>0,IF(COUNTRY_INFO!K61=1, AD61/(COUNTRY_INFO!F61*0.33)*100, IF(COUNTRY_INFO!K61=2, AD61/(COUNTRY_INFO!F61*0.5)*100, IF(COUNTRY_INFO!K61=3, AD61/COUNTRY_INFO!F61*100))),\"-\"),0)","v":100},{"$f":"IF(COUNTRY_INFO!K61=2,IF(COUNTRY_INFO!G61*0.2>MAX('T1'!N61,'T2'!L61),MAX('T1'!N61,'T2'!L61),COUNTRY_INFO!G61*0.2),IF(COUNTRY_INFO!K61=3,IF(COUNTRY_INFO!G61>MAX('T1'!N61,'T2'!L61),MAX('T1'!N61,'T2'!L61),COUNTRY_INFO!G61),0))","v":0},{"$f":"IF(AND(COUNTRY_INFO!K61>0,COUNTRY_INFO!K61<4),IF(Z61>0,IF(COUNTRY_INFO!K61=1, 0, IF(COUNTRY_INFO!K61=2, AF61/(COUNTRY_INFO!G61*0.2)*100, IF(COUNTRY_INFO!K61=3, AF61/COUNTRY_INFO!G61*100))),\"-\"),0)","v":0},45742,{"$f":"IF(AND(COUNTRY_INFO!K61>0,COUNTRY_INFO!K61<4), IF(AC61/Z61*100<>0, IF(AH61/Z61*100>100,100,AH61/Z61*100), \"-\"),0)","v":42.284013385346377},null,{"$f":"IF(AND(D61<>0, D61<>\"Unknown\",D61<>\"Stopped\",D61<>\"Not required\"),D61/COUNTRY_INFO!D61, 0)","v":0},{"$f":"IF(AND(J61<>0,J61<>\"Unknown\",J61<>\"Stopped\",J61<>\"Not required\"),J61/COUNTRY_INFO!D61, 0)","v":0},{"$f":"IF(AND(P61<>0,P61<>\"Unknown\",P61<>\"Not required\"),P61/(COUNTRY_INFO!E61+COUNTRY_INFO!F61), 0)","v":1},{"$f":"IF(AND(Z61<>0,Z61<>\"Unknown\",Z61<>\"Not required\"),IF(COUNTRY_INFO!K61=1,1,IF(COUNTRY_INFO!K61=2,0.5*COUNTRY_INFO!F61/(0.5*COUNTRY_INFO!F61+0.2*COUNTRY_INFO!G61),IF(COUNTRY_INFO!K61=3,COUNTRY_INFO!F61/(COUNTRY_INFO!F61+COUNTRY_INFO!G61)))),0)","v":0.42284013385346375},{"$f":"IF(AND(Z61<>0,Z61<>\"Unknown\",Z61<>\"Not required\"),IF(COUNTRY_INFO!K61=1,0,IF(COUNTRY_INFO!K61=2,0.2*COUNTRY_INFO!G61/(0.5*COUNTRY_INFO!F61+0.2*COUNTRY_INFO!G61),IF(COUNTRY_INFO!K61=3,COUNTRY_INFO!G61/(COUNTRY_INFO!F61+COUNTRY_INFO!G61)))),0)","v":0.57715986614653625},{"$f":"MAX(COUNTRY_INFO!D61*AK61*PROFILE!$G$7,COUNTRY_INFO!D61*AL61*PROFILE!$G$7)","v":0},{"$f":"MAX(COUNTRY_INFO!D61*AK61*PROFILE!$G$8,COUNTRY_INFO!D61*AL61*PROFILE!$G$8,COUNTRY_INFO!D61*AM61*PROFILE!$G$8)","v":51457.030593129079},{"$f":"MAX(COUNTRY_INFO!D61*AK61*PROFILE!$G$9,COUNTRY_INFO!D61*AL61*PROFILE!$G$9,COUNTRY_INFO!D61*AM61*PROFILE!$G$9,IF(AND(DISTRICT!Z61<>\"Unknown\",Z61<>\"Not required\"),COUNTRY_INFO!O61*DISTRICT!AN61,0))","v":100927.60203679182},{"$f":"MAX(COUNTRY_INFO!D61*AK61*PROFILE!$G$10,COUNTRY_INFO!D61*AL61*PROFILE!$G$10,IF(AND(DISTRICT!Z61<>\"Unknown\",Z61<>\"Not required\"),COUNTRY_INFO!O61*DISTRICT!AO61,0))","v":62436},214820.6326299209,"Y",{"$f":"MAX('MDA2'!J61,'T1'!L61,'T2'!J61,T3_R1!K61,T3_R2!K61)","v":0},{"$f":"MAX('MDA1'!K61,'MDA2'!K61,'MDA3'!I61,'MDA3'!L61,'T1'!M61,'T2'!K61,T3_R1!L61,T3_R2!L61)","v":71047},{"$f":"MAX('MDA1'!L61,'MDA2'!L61,'MDA3'!J61,'MDA3'!M61,'T1'!N61,'T2'!L61,T3_R1!M61,T3_R2!M61)","v":0},71047,{"$f":"MAX('MDA2'!J61,T61)","v":0},{"$f":"MAX('MDA1'!K61,'MDA2'!K61,'MDA3'!I61,'MDA3'!L61,V61,AD61)","v":71047},{"$f":"MAX('MDA1'!L61,'MDA2'!L61,'MDA3'!J61,'MDA3'!M61,AF61)","v":0},71047,33.07270774236811]
[{"$f":"IF(COUNTRY_INFO!A62=0,\" \",COUNTRY_INFO!A62)","v":"Tanzania"},{"$f":"IF(COUNTRY_INFO!B62=0,\" \",COUNTRY_INFO!B62)","v":"Kilimanjaro"},{"$f":"IF(COUNTRY_INFO!C62=0,\" \",COUNTRY_INFO!C62)","v":"Hai District Council"},{"$f":"COUNTRY_INFO!L62","v":0},null,null,{"$f":"MAX('MDA1'!M62,'MDA2'!M62)","v":0},{"$f":"IF(AND(COUNTRY_INFO!H62>0,COUNTRY_INFO!H62<4),IF(D62>MAX('MDA1'!M62,'MDA2'!M62),MAX('MDA1'!M62,'MDA2'!M62),D62),0)","v":0},{"$f":"IF(AND(COUNTRY_INFO!H62>0,COUNTRY_INFO!H62<4), IF(G62/D62*100<>0, IF(G62/D62*100>100,100,G62/D62*100), \"-\"),0)","v":0},{"$f":"COUNTRY_INFO!M62","v":0},null,null,{"$f":"MAX('MDA1'!M62,MAX('MDA3'!I62,'MDA3'!L62)+MAX('MDA3'!J62,'MDA3'!M62))","v":0},{"$f":"IF(AND(COUNTRY_INFO!I62>0,COUNTRY_INFO!I62<4),IF(J62>MAX('MDA1'!M62,MAX('MDA3'!I62,'MDA3'!L62)+MAX('MDA3'!J62,'MDA3'!M62)),MAX('MDA1'!M62,MAX('MDA3'!I62,'MDA3'!L62)+MAX('MDA3'!J62,'MDA3'!M62)),J62),0)","v":0},{"$f":"IF(AND(COUNTRY_INFO!I62>0,COUNTRY_INFO!I62<4), IF(M62/J62*100<>0, IF(M62/J62*100>100,100,M62/J62*100), \"-\"),0)","v":0},{"$f":"COUNTRY_INFO!N62","v":71734},null,null,{"$f":"SUM(MAX('MDA2'!J62, 'T1'!L62, MAX(T3_R1!K62, T3_R2!K62)), MAX('MDA1'!K62, 'MDA2'!K62, 'T1'!M62, MAX(T3_R1!L62, T3_R2!L62)), MAX('MDA1'!L62, 'MDA2'!L62, 'T1'!N62, MAX(T3_R1!M62, T3_R2!M62)))","v":40055},{"$f":"IF(AND(COUNTRY_INFO!J62>1,COUNTRY_INFO!J62<4),IF(COUNTRY_INFO!E62>MAX('MDA2'!J62,'T1'!L62,MAX(T3_R1!K62,T3_R2!K62)),MAX('MDA2'!J62,'T1'!L62,MAX(T3_R1!K62,T3_R2!K62)),COUNTRY_INFO!E62),0)","v":0},{"$f":"IF(AND(COUNTRY_INFO!J62>1,COUNTRY_INFO!J62<4), IF(T62/COUNTRY_INFO!E62*100<>0, IF(T62/COUNTRY_INFO!E62*100>100,100,T62/COUNTRY_INFO!E62*100), \"-\"),0)","v":"-"},{"$f":"IF(AND(COUNTRY_INFO!J62>1,COUNTRY_INFO!J62<4),IF(COUNTRY_INFO!F62>MAX('MDA1'!K62,'MDA2'!K62,'T1'!M62,MAX(T3_R1!L62,T3_R2!L62)),MAX('MDA1'!K62,'MDA2'!K62,'T1'!M62,MAX(T3_R1!L62,T3_R2!L62)),COUNTRY_INFO!F62),0)","v":40055},{"$f":"IF(AND(COUNTRY_INFO!J62>1,COUNTRY_INFO!J62<4), IF(V62/COUNTRY_INFO!F62*100<>0, IF(V62/COUNTRY_INFO!F62*100>100,100,V62/COUNTRY_INFO!F62*100), \"-\"),0)","v":96.504119886281501},40055,{"$f":"IF(AND(COUNTRY_INFO!J62>1,COUNTRY_INFO!J62<4), IF(S62/P62*100<>0, IF(X62/P62*100>100,100,X62/P62*100), \"-\"),0)","v":55.838235704129147},{"$f":"COUNTRY_INFO!O62","v":53270},null,null,{"$f":"MAX('T1'!L62,'T2'!J62)+MAX('T1'!M62,'T2'!K62)+MAX('T1'!N62,'T2'!L62)","v":0},{"$f":"IF(COUNTRY_INFO!K62=1,IF(COUNTRY_INFO!F62*0.33>MAX('T1'!M62,'T2'!K62),MAX('T1'!M62,'T2'!K62),COUNTRY_INFO!F62*0.33),IF(COUNTRY_INFO!K62=2,IF(COUNTRY_INFO!F62*0.5>MAX('T1'!M62,'T2'!K62),MAX('T1'!M62,'T2'!K62),COUNTRY_INFO!F62*0.5),IF(COUNTRY_INFO!K62=3,IF(COUNTRY_INFO!F62>MAX('T1'!M62,'T2'!K62),MAX('T1'!M62,'T2'!K62),COUNTRY_INFO!F62),0)))","v":0},{"$f":"IF(AND(COUNTRY_INFO!K62>0,COUNTRY_INFO!K62<4),IF(Z62>0,IF(COUNTRY_INFO!K62=1, AD62/(COUNTRY_INFO!F62*0.33)*100, IF(COUNTRY_INFO!K62=2, AD62/(COUNTRY_INFO!F62*0.5)*100, IF(COUNTRY_INFO!K62=3, AD62/COUNTRY_INFO!F62*100))),\"-\"),0)","v":0},{"$f":"IF(COUNTRY_INFO!K62=2,IF(COUNTRY_INFO!G62*0.2>MAX('T1'!N62,'T2'!L62),MAX('T1'!N62,'T2'!L62),COUNTRY_INFO!G62*0.2),IF(COUNTRY_INFO!K62=3,IF(COUNTRY_INFO!G62>MAX('T1'!N62,'T2'!L62),MAX('T1'!N62,'T2'!L62),COUNTRY_INFO!G62),0))","v":0},{"$f":"IF(AND(COUNTRY_INFO!K62>0,COUNTRY_INFO!K62<4),IF(Z62>0,IF(COUNTRY_INFO!K62=1, 0, IF(COUNTRY_INFO!K62=2, AF62/(COUNTRY_INFO!G62*0.2)*100, IF(COUNTRY_INFO!K62=3, AF62/COUNTRY_INFO!G62*100))),\"-\"),0)","v":0},0,{"$f":"IF(AND(COUNTRY_INFO!K62>0,COUNTRY_INFO!K62<4), IF(AC62/Z62*100<>0, IF(AH62/Z62*100>100,100,AH62/Z62*100), \"-\"),0)","v":"-"},null,{"$f":"IF(AND(D62<>0, D62<>\"Unknown\",D62<>\"Stopped\",D62<>\"Not required\"),D62/COUNTRY_INFO!D62, 0)","v":0},{"$f":"IF(AND(J62<>0,J62<>\"Unknown\",J62<>\"Stopped\",J62<>\"Not required\"),J62/COUNTRY_INFO!D62, 0)","v":0},{"$f":"IF(AND(P62<>0,P62<>\"Unknown\",P62<>\"Not required\"),P62/(COUNTRY_INFO!E62+COUNTRY_INFO!F62), 0)","v":1},{"$f":"IF(AND(Z62<>0,Z62<>\"Unknown\",Z62<>\"Not required\"),IF(COUNTRY_INFO!K62=1,1,IF(COUNTRY_INFO!K62=2,0.5*COUNTRY_INFO!F62/(0.5*COUNTRY_INFO!F62+0.2*COUNTRY_INFO!G62),IF(COUNTRY_INFO!K62=3,COUNTRY_INFO!F62/(COUNTRY_INFO!F62+COUNTRY_INFO!G62)))),0)","v":0.38958137788623992},{"$f":"IF(AND(Z62<>0,Z62<>\"Unknown\",Z62<>\"Not required\"),IF(COUNTRY_INFO!K62=1,0,IF(COUNTRY_INFO!K62=2,0.2*COUNTRY_INFO!G62/(0.5*COUNTRY_INFO!F62+0.2*COUNTRY_INFO!G62),IF(COUNTRY_INFO!K62=3,COUNTRY_INFO!G62/(COUNTRY_INFO!F62+COUNTRY_INFO!G62)))),0)","v":0.61041862211376008},{"$f":"MAX(COUNTRY_INFO!D62*AK62*PROFILE!$G$7,COUNTRY_INFO!D62*AL62*PROFILE!$G$7)","v":0},{"$f":"MAX(COUNTRY_INFO!D62*AK62*PROFILE!$G$8,COUNTRY_INFO!D62*AL62*PROFILE!$G$8,COUNTRY_INFO!D62*AM62*PROFILE!$G$8)","v":26016.584244547754},{"$f":"MAX(COUNTRY_INFO!D62*AK62*PROFILE!$G$9,COUNTRY_INFO!D62*AL62*PROFILE!$G$9,COUNTRY_INFO!D62*AM62*PROFILE!$G$9,IF(AND(DISTRICT!Z62<>\"Unknown\",Z62<>\"Not required\"),COUNTRY_INFO!O62*DISTRICT!AN62,0))","v":51028.818233848862},{"$f":"MAX(COUNTRY_INFO!D62*AK62*PROFILE!$G$10,COUNTRY_INFO!D62*AL62*PROFILE!$G$10,IF(AND(DISTRICT!Z62<>\"Unknown\",Z62<>\"Not required\"),COUNTRY_INFO!O62*DISTRICT!AO62,0))","v":32517},109562.40247839662,0,{"$f":"MAX('MDA2'!J62,'T1'!L62,'T2'!J62,T3_R1!K62,T3_R2!K62)","v":0},{"$f":"MAX('MDA1'!K62,'MDA2'!K62,'MDA3'!I62,'MDA3'!L62,'T1'!M62,'T2'!K62,T3_R1!L62,T3_R2!L62)","v":40055},{"$f":"MAX('MDA1'!L62,'MDA2'!L62,'MDA3'!J62,'MDA3'!M62,'T1'!N62,'T2'!L62,T3_R1!M62,T3_R2!M62)","v":0},40055,{"$f":"MAX('MDA2'!J62,T62)","v":0},{"$f":"MAX('MDA1'!K62,'MDA2'!K62,'MDA3'!I62,'MDA3'!L62,V62,AD62)","v":40055},{"$f":"MAX('MDA1'!L62,'MDA2'!L62,'MDA3'!J62,'MDA3'!M62,AF62)","v":0},40055,36.559074184137209]
[{"$f":"IF(COUNTRY_INFO!A63=0,\" \",COUNTRY_INFO!A63)","v":"Tanzania"},{"$f":"IF(COUNTRY_INFO!B63=0,\" \",COUNTRY_INFO!B63)","v":"Kilimanjaro"},{"$f":"IF(COUNTRY_INFO!C63=0,\" \",COUNTRY_INFO!C63)","v":"Moshi District Council"},{"$f":"COUNTRY_INFO!L63","v":0},null,null,{"$f":"MAX('MDA1'!M63,'MDA2'!M63)","v":0},{"$f":"IF(AND(COUNTRY_INFO!H63>0,COUNTRY_INFO!H63<4),IF(D63>MAX('MDA1'!M63,'MDA2'!M63),MAX('MDA1'!M63,'MDA2'!M63),D63),0)","v":0},{"$f":"IF(AND(COUNTRY_INFO!H63>0,COUNTRY_INFO!H63<4), IF(G63/D63*100<>0, IF(G63/D63*100>100,100,G63/D63*100), \"-\"),0)","v":0},{"$f":"COUNTRY_INFO!M63","v":0},null,null,{"$f":"MAX('MDA1'!M63,MAX('MDA3'!I63,'MDA3'!L63)+MAX('MDA3'!J63,'MDA3'!M63))","v":0},{"$f":"IF(AND(COUNTRY_INFO!I63>0,COUNTRY_INFO!I63<4),IF(J63>MAX('MDA1'!M63,MAX('MDA3'!I63,'MDA3'!L63)+MAX('MDA3'!J63,'MDA3'!M63)),MAX('MDA1'!M63,MAX('MDA3'!I63,'MDA3'!L63)+MAX('MDA3'!J63,'MDA3'!M63)),J63),0)","v":0},{"$f":"IF(AND(COUNTRY_INFO!I63>0,COUNTRY_INFO!I63<4), IF(M63/J63*100<>0, IF(M63/J63*100>100,100,M63/J63*100), \"-\"),0)","v":0},{"$f":"COUNTRY_INFO!N63","v":161107},null,null,{"$f":"SUM(MAX('MDA2'!J63, 'T1'!L63, MAX(T3_R1!K63, T3_R2!K63)), MAX('MDA1'!K63, 'MDA2'!K63, 'T1'!M63, MAX(T3_R1!L63, T3_R2!L63)), MAX('MDA1'!L63, 'MDA2'!L63, 'T1'!N63, MAX(T3_R1!M63, T3_R2!M63)))","v":82463},{"$f":"IF(AND(COUNTRY_INFO!J63>1,COUNTRY_INFO!J63<4),IF(COUNTRY_INFO!E63>MAX('MDA2'!J63,'T1'!L63,MAX(T3_R1!K63,T3_R2!K63)),MAX('MDA2'!J63,'T1'!L63,MAX(T3_R1!K63,T3_R2!K63)),COUNTRY_INFO!E63),0)","v":0},{"$f":"IF(AND(COUNTRY_INFO!J63>1,COUNTRY_INFO!J63<4), IF(T63/COUNTRY_INFO!E63*100<>0, IF(T63/COUNTRY_INFO!E63*100>100,100,T63/COUNTRY_INFO!E63*100), \"-\"),0)","v":"-"},{"$f":"IF(AND(COUNTRY_INFO!J63>1,COUNTRY_INFO!J63<4),IF(COUNTRY_INFO!F63>MAX('MDA1'!K63,'MDA2'!K63,'T1'!M63,MAX(T3_R1!L63,T3_R2!L63)),MAX('MDA1'!K63,'MDA2'!K63,'T1'!M63,MAX(T3_R1!L63,T3_R2!L63)),COUNTRY_INFO!F63),0)","v":82463},{"$f":"IF(AND(COUNTRY_INFO!J63>1,COUNTRY_INFO!J63<4), IF(V63/COUNTRY_INFO!F63*100<>0, IF(V63/COUNTRY_INFO!F63*100>100,100,V63/COUNTRY_INFO!F63*100), \"-\"),0)","v":87.637094031627271},82463,{"$f":"IF(AND(COUNTRY_INFO!J63>1,COUNTRY_INFO!J63<4), IF(S63/P63*100<>0, IF(X63/P63*100>100,100,X63/P63*100), \"-\"),0)","v":51.185237140533935},{"$f":"COUNTRY_INFO!O63","v":118720.2},null,null,{"$f":"MAX('T1'!L63,'T2'!J63)+MAX('T1'!M63,'T2'!K63)+MAX('T1'!N63,'T2'!L63)","v":0},{"$f":"IF(COUNTRY_INFO!K63=1,IF(COUNTRY_INFO!F63*0.33>MAX('T1'!M63,'T2'!K63),MAX('T1'!M63,'T2'!K63),COUNTRY_INFO!F63*0.33),IF(COUNTRY_INFO!K63=2,IF(COUNTRY_INFO!F63*0.5>MAX('T1'!M63,'T2'!K63),MAX('T1'!M63,'T2'!K63),COUNTRY_INFO!F63*0.5),IF(COUNTRY_INFO!K63=3,IF(COUNTRY_INFO!F63>MAX('T1'!M63,'T2'!K63),MAX('T1'!M63,'T2'!K63),COUNTRY_INFO!F63),0)))","v":0},{"$f":"IF(AND(COUNTRY_INFO!K63>0,COUNTRY_INFO!K63<4),IF(Z63>0,IF(COUNTRY_INFO!K63=1, AD63/(COUNTRY_INFO!F63*0.33)*100, IF(COUNTRY_INFO!K63=2, AD63/(COUNTRY_INFO!F63*0.5)*100, IF(COUNTRY_INFO!K63=3, AD63/COUNTRY_INFO!F63*100))),\"-\"),0)","v":0},{"$f":"IF(COUNTRY_INFO!K63=2,IF(COUNTRY_INFO!G63*0.2>MAX('T1'!N63,'T2'!L63),MAX('T1'!N63,'T2'!L63),COUNTRY_INFO!G63*0.2),IF(COUNTRY_INFO!K63=3,IF(COUNTRY_INFO!G63>MAX('T1'!N63,'T2'!L63),MAX('T1'!N63,'T2'!L63),COUNTRY_INFO!G63),0))","v":0},{"$f":"IF(AND(COUNTRY_INFO!K63>0,COUNTRY_INFO!K63<4),IF(Z63>0,IF(COUNTRY_INFO!K63=1, 0, IF(COUNTRY_INFO!K63=2, AF63/(COUNTRY_INFO!G63*0.2)*100, IF(COUNTRY_INFO!K63=3, AF63/COUNTRY_INFO!G63*100))),\"-\"),0)","v":0},0,{"$f":"IF(AND(COUNTRY_INFO!K63>0,COUNTRY_INFO!K63<4), IF(AC63/Z63*100<>0, IF(AH63/Z63*100>100,100,AH63/Z63*100), \"-\"),0)","v":"-"},null,{"$f":"IF(AND(D63<>0, D63<>\"Unknown\",D63<>\"Stopped\",D63<>\"Not required\"),D63/COUNTRY_INFO!D63, 0)","v":0},{"$f":"IF(AND(J63<>0,J63<>\"Unknown\",J63<>\"Stopped\",J63<>\"Not required\"),J63/COUNTRY_INFO!D63, 0)","v":0},{"$f":"IF(AND(P63<>0,P63<>\"Unknown\",P63<>\"Not required\"),P63/(COUNTRY_INFO!E63+COUNTRY_INFO!F63), 0)","v":1},{"$f":"IF(AND(Z63<>0,Z63<>\"Unknown\",Z63<>\"Not required\"),IF(COUNTRY_INFO!K63=1,1,IF(COUNTRY_INFO!K63=2,0.5*COUNTRY_INFO!F63/(0.5*COUNTRY_INFO!F63+0.2*COUNTRY_INFO!G63),IF(COUNTRY_INFO!K63=3,COUNTRY_INFO!F63/(COUNTRY_INFO!F63+COUNTRY_INFO!G63)))),0)","v":0.3962931329293583},{"$f":"IF(AND(Z63<>0,Z63<>\"Unknown\",Z63<>\"Not required\"),IF(COUNTRY_INFO!K63=1,0,IF(COUNTRY_INFO!K63=2,0.2*COUNTRY_INFO!G63/(0.5*COUNTRY_INFO!F63+0.2*COUNTRY_INFO!G63),IF(COUNTRY_INFO!K63=3,COUNTRY_INFO!G63/(COUNTRY_INFO!F63+COUNTRY_INFO!G63)))),0)","v":0.6037068670706417},{"$f":"MAX(COUNTRY_INFO!D63*AK63*PROFILE!$G$7,COUNTRY_INFO!D63*AL63*PROFILE!$G$7)","v":0},{"$f":"MAX(COUNTRY_INFO!D63*AK63*PROFILE!$G$8,COUNTRY_INFO!D63*AL63*PROFILE!$G$8,COUNTRY_INFO!D63*AM63*PROFILE!$G$8)","v":57676.85498976495},{"$f":"MAX(COUNTRY_INFO!D63*AK63*PROFILE!$G$9,COUNTRY_INFO!D63*AL63*PROFILE!$G$9,COUNTRY_INFO!D63*AM63*PROFILE!$G$9,IF(AND(DISTRICT!Z63<>\"Unknown\",Z63<>\"Not required\"),COUNTRY_INFO!O63*DISTRICT!AN63,0))","v":113127.13928576429},{"$f":"MAX(COUNTRY_INFO!D63*AK63*PROFILE!$G$10,COUNTRY_INFO!D63*AL63*PROFILE!$G$10,IF(AND(DISTRICT!Z63<>\"Unknown\",Z63<>\"Not required\"),COUNTRY_INFO!O63*DISTRICT!AO63,0))","v":71672.2},242476.19427552924,0,{"$f":"MAX('MDA2'!J63,'T1'!L63,'T2'!J63,T3_R1!K63,T3_R2!K63)","v":0},{"$f":"MAX('MDA1'!K63,'MDA2'!K63,'MDA3'!I63,'MDA3'!L63,'T1'!M63,'T2'!K63,T3_R1!L63,T3_R2!L63)","v":82463},{"$f":"MAX('MDA1'!L63,'MDA2'!L63,'MDA3'!J63,'MDA3'!M63,'T1'!N63,'T2'!L63,T3_R1!M63,T3_R2!M63)","v":0},82463,{"$f":"MAX('MDA2'!J63,T63)","v":0},{"$f":"MAX('MDA1'!K63,'MDA2'!K63,'MDA3'!I63,'MDA3'!L63,V63,AD63)","v":82463},{"$f":"MAX('MDA1'!L63,'MDA2'!L63,'MDA3'!J63,'MDA3'!M63,AF63)","v":0},82463,34.008699388565994]
[{"$f":"IF(COUNTRY_INFO!A64=0,\" \",COUNTRY_INFO!A64)","v":"Tanzania"},{"$f":"IF(COUNTRY_INFO!B64=0,\" \",COUNTRY_INFO!B64)","v":"Kilimanjaro"},{"$f":"IF(COUNTRY_INFO!C64=0,\" \",COUNTRY_INFO!C64)","v":"Moshi Municipal Council"},{"$f":"COUNTRY_INFO!L64","v":0},null,null,{"$f":"MAX('MDA1'!M64,'MDA2'!M64)","v":0},{"$f":"IF(AND(COUNTRY_INFO!H64>0,COUNTRY_INFO!H64<4),IF(D64>MAX('MDA1'!M64,'MDA2'!M64),MAX('MDA1'!M64,'MDA2'!M64),D64),0)","v":0},{"$f":"IF(AND(COUNTRY_INFO!H64>0,COUNTRY_INFO!H64<4), IF(G64/D64*100<>0, IF(G64/D64*100>100,100,G64/D64*100), \"-\"),0)","v":0},{"$f":"COUNTRY_INFO!M64","v":0},null,null,{"$f":"MAX('MDA1'!M64,MAX('MDA3'!I64,'MDA3'!L64)+MAX('MDA3'!J64,'MDA3'!M64))","v":0},{"$f":"IF(AND(COUNTRY_INFO!I64>0,COUNTRY_INFO!I64<4),IF(J64>MAX('MDA1'!M64,MAX('MDA3'!I64,'MDA3'!L64)+MAX('MDA3'!J64,'MDA3'!M64)),MAX('MDA1'!M64,MAX('MDA3'!I64,'MDA3'!L64)+MAX('MDA3'!J64,'MDA3'!M64)),J64),0)","v":0},{"$f":"IF(AND(COUNTRY_INFO!I64>0,COUNTRY_INFO!I64<4), IF(M64/J64*100<>0, IF(M64/J64*100>100,100,M64/J64*100), \"-\"),0)","v":0},{"$f":"COUNTRY_INFO!N64","v":55361},null,null,{"$f":"SUM(MAX('MDA2'!J64, 'T1'!L64, MAX(T3_R1!K64, T3_R2!K64)), MAX('MDA1'!K64, 'MDA2'!K64, 'T1'!M64, MAX(T3_R1!L64, T3_R2!L64)), MAX('MDA1'!L64, 'MDA2'!L64, 'T1'!N64, MAX(T3_R1!M64, T3_R2!M64)))","v":31475},{"$f":"IF(AND(COUNTRY_INFO!J64>1,COUNTRY_INFO!J64<4),IF(COUNTRY_INFO!E64>MAX('MDA2'!J64,'T1'!L64,MAX(T3_R1!K64,T3_R2!K64)),MAX('MDA2'!J64,'T1'!L64,MAX(T3_R1!K64,T3_R2!K64)),COUNTRY_INFO!E64),0)","v":0},{"$f":"IF(AND(COUNTRY_INFO!J64>1,COUNTRY_INFO!J64<4), IF(T64/COUNTRY_INFO!E64*100<>0, IF(T64/COUNTRY_INFO!E64*100>100,100,T64/COUNTRY_INFO!E64*100), \"-\"),0)","v":"-"},{"$f":"IF(AND(COUNTRY_INFO!J64>1,COUNTRY_INFO!J64<4),IF(COUNTRY_INFO!F64>MAX('MDA1'!K64,'MDA2'!K64,'T1'!M64,MAX(T3_R1!L64,T3_R2!L64)),MAX('MDA1'!K64,'MDA2'!K64,'T1'!M64,MAX(T3_R1!L64,T3_R2!L64)),COUNTRY_INFO!F64),0)","v":31475},{"$f":"IF(AND(COUNTRY_INFO!J64>1,COUNTRY_INFO!J64<4), IF(V64/COUNTRY_INFO!F64*100<>0, IF(V64/COUNTRY_INFO!F64*100>100,100,V64/COUNTRY_INFO!F64*100), \"-\"),0)","v":99.620193068523506},31475,{"$f":"IF(AND(COUNTRY_INFO!J64>1,COUNTRY_INFO!J64<4), IF(S64/P64*100<>0, IF(X64/P64*100>100,100,X64/P64*100), \"-\"),0)","v":56.85410306894746},{"$f":"COUNTRY_INFO!O64","v":45747.9},null,null,{"$f":"MAX('T1'!L64,'T2'!J64)+MAX('T1'!M64,'T2'!K64)+MAX('T1'!N64,'T2'!L64)","v":0},{"$f":"IF(COUNTRY_INFO!K64=1,IF(COUNTRY_INFO!F64*0.33>MAX('T1'!M64,'T2'!K64),MAX('T1'!M64,'T2'!K64),COUNTRY_INFO!F64*0.33),IF(COUNTRY_INFO!K64=2,IF(COUNTRY_INFO!F64*0.5>MAX('T1'!M64,'T2'!K64),MAX('T1'!M64,'T2'!K64),COUNTRY_INFO!F64*0.5),IF(COUNTRY_INFO!K64=3,IF(COUNTRY_INFO!F64>MAX('T1'!M64,'T2'!K64),MAX('T1'!M64,'T2'!K64),COUNTRY_INFO!F64),0)))","v":0},{"$f":"IF(AND(COUNTRY_INFO!K64>0,COUNTRY_INFO!K64<4),IF(Z64>0,IF(COUNTRY_INFO!K64=1, AD64/(COUNTRY_INFO!F64*0.33)*100, IF(COUNTRY_INFO!K64=2, AD64/(COUNTRY_INFO!F64*0.5)*100, IF(COUNTRY_INFO!K64=3, AD64/COUNTRY_INFO!F64*100))),\"-\"),0)","v":0},{"$f":"IF(COUNTRY_INFO!K64=2,IF(COUNTRY_INFO!G64*0.2>MAX('T1'!N64,'T2'!L64),MAX('T1'!N64,'T2'!L64),COUNTRY_INFO!G64*0.2),IF(COUNTRY_INFO!K64=3,IF(COUNTRY_INFO!G64>MAX('T1'!N64,'T2'!L64),MAX('T1'!N64,'T2'!L64),COUNTRY_INFO!G64),0))","v":0},{"$f":"IF(AND(COUNTRY_INFO!K64>0,COUNTRY_INFO!K64<4),IF(Z64>0,IF(COUNTRY_INFO!K64=1, 0, IF(COUNTRY_INFO!K64=2, AF64/(COUNTRY_INFO!G64*0.2)*100, IF(COUNTRY_INFO!K64=3, AF64/COUNTRY_INFO!G64*100))),\"-\"),0)","v":0},0,{"$f":"IF(AND(COUNTRY_INFO!K64>0,COUNTRY_INFO!K64<4), IF(AC64/Z64*100<>0, IF(AH64/Z64*100>100,100,AH64/Z64*100), \"-\"),0)","v":"-"},null,{"$f":"IF(AND(D64<>0, D64<>\"Unknown\",D64<>\"Stopped\",D64<>\"Not required\"),D64/COUNTRY_INFO!D64, 0)","v":0},{"$f":"IF(AND(J64<>0,J64<>\"Unknown\",J64<>\"Stopped\",J64<>\"Not required\"),J64/COUNTRY_INFO!D64, 0)","v":0},{"$f":"IF(AND(P64<>0,P64<>\"Unknown\",P64<>\"Not required\"),P64/(COUNTRY_INFO!E64+COUNTRY_INFO!F64), 0)","v":1},{"$f":"IF(AND(Z64<>0,Z64<>\"Unknown\",Z64<>\"Not required\"),IF(COUNTRY_INFO!K64=1,1,IF(COUNTRY_INFO!K64=2,0.5*COUNTRY_INFO!F64/(0.5*COUNTRY_INFO!F64+0.2*COUNTRY_INFO!G64),IF(COUNTRY_INFO!K64=3,COUNTRY_INFO!F64/(COUNTRY_INFO!F64+COUNTRY_INFO!G64)))),0)","v":0.34531639703680389},{"$f":"IF(AND(Z64<>0,Z64<>\"Unknown\",Z64<>\"Not required\"),IF(COUNTRY_INFO!K64=1,0,IF(COUNTRY_INFO!K64=2,0.2*COUNTRY_INFO!G64/(0.5*COUNTRY_INFO!F64+0.2*COUNTRY_INFO!G64),IF(COUNTRY_INFO!K64=3,COUNTRY_INFO!G64/(COUNTRY_INFO!F64+COUNTRY_INFO!G64)))),0)","v":0.65468360296319617},{"$f":"MAX(COUNTRY_INFO!D64*AK64*PROFILE!$G$7,COUNTRY_INFO!D64*AL64*PROFILE!$G$7)","v":0},{"$f":"MAX(COUNTRY_INFO!D64*AK64*PROFILE!$G$8,COUNTRY_INFO!D64*AL64*PROFILE!$G$8,COUNTRY_INFO!D64*AM64*PROFILE!$G$8)","v":22773.823907373808},{"$f":"MAX(COUNTRY_INFO!D64*AK64*PROFILE!$G$9,COUNTRY_INFO!D64*AL64*PROFILE!$G$9,COUNTRY_INFO!D64*AM64*PROFILE!$G$9,IF(AND(DISTRICT!Z64<>\"Unknown\",Z64<>\"Not required\"),COUNTRY_INFO!O64*DISTRICT!AN64,0))","v":44668.481832030018},{"$f":"MAX(COUNTRY_INFO!D64*AK64*PROFILE!$G$10,COUNTRY_INFO!D64*AL64*PROFILE!$G$10,IF(AND(DISTRICT!Z64<>\"Unknown\",Z64<>\"Not required\"),COUNTRY_INFO!O64*DISTRICT!AO64,0))","v":29950.400000000001},97392.705739403813,0,{"$f":"MAX('MDA2'!J64,'T1'!L64,'T2'!J64,T3_R1!K64,T3_R2!K64)","v":0},{"$f":"MAX('MDA1'!K64,'MDA2'!K64,'MDA3'!I64,'MDA3'!L64,'T1'!M64,'T2'!K64,T3_R1!L64,T3_R2!L64)","v":31475},{"$f":"MAX('MDA1'!L64,'MDA2'!L64,'MDA3'!J64,'MDA3'!M64,'T1'!N64,'T2'!L64,T3_R1!M64,T3_R2!M64)","v":0},31475,{"$f":"MAX('MDA2'!J64,T64)","v":0},{"$f":"MAX('MDA1'!K64,'MDA2'!K64,'MDA3'!I64,'MDA3'!L64,V64,AD64)","v":31475},{"$f":"MAX('MDA1'!L64,'MDA2'!L64,'MDA3'!J64,'MDA3'!M64,AF64)","v":0},31475,32.317615329651559]
[{"$f":"IF(COUNTRY_INFO!A65=0,\" \",COUNTRY_INFO!A65)","v":"Tanzania"},{"$f":"IF(COUNTRY_INFO!B65=0,\" \",COUNTRY_INFO!B65)","v":"Kilimanjaro"},{"$f":"IF(COUNTRY_INFO!C65=0,\" \",COUNTRY_INFO!C65)","v":"Mwanga District Council"},{"$f":"COUNTRY_INFO!L65","v":0},null,null,{"$f":"MAX('MDA1'!M65,'MDA2'!M65)","v":0},{"$f":"IF(AND(COUNTRY_INFO!H65>0,COUNTRY_INFO!H65<4),IF(D65>MAX('MDA1'!M65,'MDA2'!M65),MAX('MDA1'!M65,'MDA2'!M65),D65),0)","v":0},{"$f":"IF(AND(COUNTRY_INFO!H65>0,COUNTRY_INFO!H65<4), IF(G65/D65*100<>0, IF(G65/D65*100>100,100,G65/D65*100), \"-\"),0)","v":0},{"$f":"COUNTRY_INFO!M65","v":0},null,null,{"$f":"MAX('MDA1'!M65,MAX('MDA3'!I65,'MDA3'!L65)+MAX('MDA3'!J65,'MDA3'!M65))","v":0},{"$f":"IF(AND(COUNTRY_INFO!I65>0,COUNTRY_INFO!I65<4),IF(J65>MAX('MDA1'!M65,MAX('MDA3'!I65,'MDA3'!L65)+MAX('MDA3'!J65,'MDA3'!M65)),MAX('MDA1'!M65,MAX('MDA3'!I65,'MDA3'!L65)+MAX('MDA3'!J65,'MDA3'!M65)),J65),0)","v":0},{"$f":"IF(AND(COUNTRY_INFO!I65>0,COUNTRY_INFO!I65<4), IF(M65/J65*100<>0, IF(M65/J65*100>100,100,M65/J65*100), \"-\"),0)","v":0},{"$f":"COUNTRY_INFO!N65","v":47806},null,null,{"$f":"SUM(MAX('MDA2'!J65, 'T1'!L65, MAX(T3_R1!K65, T3_R2!K65)), MAX('MDA1'!K65, 'MDA2'!K65, 'T1'!M65, MAX(T3_R1!L65, T3_R2!L65)), MAX('MDA1'!L65, 'MDA2'!L65, 'T1'!N65, MAX(T3_R1!M65, T3_R2!M65)))","v":26067},{"$f":"IF(AND(COUNTRY_INFO!J65>1,COUNTRY_INFO!J65<4),IF(COUNTRY_INFO!E65>MAX('MDA2'!J65,'T1'!L65,MAX(T3_R1!K65,T3_R2!K65)),MAX('MDA2'!J65,'T1'!L65,MAX(T3_R1!K65,T3_R2!K65)),COUNTRY_INFO!E65),0)","v":0},{"$f":"IF(AND(COUNTRY_INFO!J65>1,COUNTRY_INFO!J65<4), IF(T65/COUNTRY_INFO!E65*100<>0, IF(T65/COUNTRY_INFO!E65*100>100,100,T65/COUNTRY_INFO!E65*100), \"-\"),0)","v":"-"},{"$f":"IF(AND(COUNTRY_INFO!J65>1,COUNTRY_INFO!J65<4),IF(COUNTRY_INFO!F65>MAX('MDA1'!K65,'MDA2'!K65,'T1'!M65,MAX(T3_R1!L65,T3_R2!L65)),MAX('MDA1'!K65,'MDA2'!K65,'T1'!M65,MAX(T3_R1!L65,T3_R2!L65)),COUNTRY_INFO!F65),0)","v":26067},{"$f":"IF(AND(COUNTRY_INFO!J65>1,COUNTRY_INFO!J65<4), IF(V65/COUNTRY_INFO!F65*100<>0, IF(V65/COUNTRY_INFO!F65*100>100,100,V65/COUNTRY_INFO!F65*100), \"-\"),0)","v":90.091242137277945},26067,{"$f":"IF(AND(COUNTRY_INFO!J65>1,COUNTRY_INFO!J65<4), IF(S65/P65*100<>0, IF(X65/P65*100>100,100,X65/P65*100), \"-\"),0)","v":54.526628456679084},{"$f":"COUNTRY_INFO!O65","v":34164.199999999997},null,null,{"$f":"MAX('T1'!L65,'T2'!J65)+MAX('T1'!M65,'T2'!K65)+MAX('T1'!N65,'T2'!L65)","v":0},{"$f":"IF(COUNTRY_INFO!K65=1,IF(COUNTRY_INFO!F65*0.33>MAX('T1'!M65,'T2'!K65),MAX('T1'!M65,'T2'!K65),COUNTRY_INFO!F65*0.33),IF(COUNTRY_INFO!K65=2,IF(COUNTRY_INFO!F65*0.5>MAX('T1'!M65,'T2'!K65),MAX('T1'!M65,'T2'!K65),COUNTRY_INFO!F65*0.5),IF(COUNTRY_INFO!K65=3,IF(COUNTRY_INFO!F65>MAX('T1'!M65,'T2'!K65),MAX('T1'!M65,'T2'!K65),COUNTRY_INFO!F65),0)))","v":0},{"$f":"IF(AND(COUNTRY_INFO!K65>0,COUNTRY_INFO!K65<4),IF(Z65>0,IF(COUNTRY_INFO!K65=1, AD65/(COUNTRY_INFO!F65*0.33)*100, IF(COUNTRY_INFO!K65=2, AD65/(COUNTRY_INFO!F65*0.5)*100, IF(COUNTRY_INFO!K65=3, AD65/COUNTRY_INFO!F65*100))),\"-\"),0)","v":0},{"$f":"IF(COUNTRY_INFO!K65=2,IF(COUNTRY_INFO!G65*0.2>MAX('T1'!N65,'T2'!L65),MAX('T1'!N65,'T2'!L65),COUNTRY_INFO!G65*0.2),IF(COUNTRY_INFO!K65=3,IF(COUNTRY_INFO!G65>MAX('T1'!N65,'T2'!L65),MAX('T1'!N65,'T2'!L65),COUNTRY_INFO!G65),0))","v":0},{"$f":"IF(AND(COUNTRY_INFO!K65>0,COUNTRY_INFO!K65<4),IF(Z65>0,IF(COUNTRY_INFO!K65=1, 0, IF(COUNTRY_INFO!K65=2, AF65/(COUNTRY_INFO!G65*0.2)*100, IF(COUNTRY_INFO!K65=3, AF65/COUNTRY_INFO!G65*100))),\"-\"),0)","v":0},0,{"$f":"IF(AND(COUNTRY_INFO!K65>0,COUNTRY_INFO!K65<4), IF(AC65/Z65*100<>0, IF(AH65/Z65*100>100,100,AH65/Z65*100), \"-\"),0)","v":"-"},null,{"$f":"IF(AND(D65<>0, D65<>\"Unknown\",D65<>\"Stopped\",D65<>\"Not required\"),D65/COUNTRY_INFO!D65, 0)","v":0},{"$f":"IF(AND(J65<>0,J65<>\"Unknown\",J65<>\"Stopped\",J65<>\"Not required\"),J65/COUNTRY_INFO!D65, 0)","v":0},{"$f":"IF(AND(P65<>0,P65<>\"Unknown\",P65<>\"Not required\"),P65/(COUNTRY_INFO!E65+COUNTRY_INFO!F65), 0)","v":1},{"$f":"IF(AND(Z65<>0,Z65<>\"Unknown\",Z65<>\"Not required\"),IF(COUNTRY_INFO!K65=1,1,IF(COUNTRY_INFO!K65=2,0.5*COUNTRY_INFO!F65/(0.5*COUNTRY_INFO!F65+0.2*COUNTRY_INFO!G65),IF(COUNTRY_INFO!K65=3,COUNTRY_INFO!F65/(COUNTRY_INFO!F65+COUNTRY_INFO!G65)))),0)","v":0.42345496162649793},{"$f":"IF(AND(Z65<>0,Z65<>\"Unknown\",Z65<>\"Not required\"),IF(COUNTRY_INFO!K65=1,0,IF(COUNTRY_INFO!K65=2,0.2*COUNTRY_INFO!G65/(0.5*COUNTRY_INFO!F65+0.2*COUNTRY_INFO!G65),IF(COUNTRY_INFO!K65=3,COUNTRY_INFO!G65/(COUNTRY_INFO!F65+COUNTRY_INFO!G65)))),0)","v":0.57654503837350213},{"$f":"MAX(COUNTRY_INFO!D65*AK65*PROFILE!$G$7,COUNTRY_INFO!D65*AL65*PROFILE!$G$7)","v":0},{"$f":"MAX(COUNTRY_INFO!D65*AK65*PROFILE!$G$8,COUNTRY_INFO!D65*AL65*PROFILE!$G$8,COUNTRY_INFO!D65*AM65*PROFILE!$G$8)","v":16242.891708753366},{"$f":"MAX(COUNTRY_INFO!D65*AK65*PROFILE!$G$9,COUNTRY_INFO!D65*AL65*PROFILE!$G$9,COUNTRY_INFO!D65*AM65*PROFILE!$G$9,IF(AND(DISTRICT!Z65<>\"Unknown\",Z65<>\"Not required\"),COUNTRY_INFO!O65*DISTRICT!AN65,0))","v":31858.739056867853},{"$f":"MAX(COUNTRY_INFO!D65*AK65*PROFILE!$G$10,COUNTRY_INFO!D65*AL65*PROFILE!$G$10,IF(AND(DISTRICT!Z65<>\"Unknown\",Z65<>\"Not required\"),COUNTRY_INFO!O65*DISTRICT!AO65,0))","v":19697.2},67798.830765621213,0,{"$f":"MAX('MDA2'!J65,'T1'!L65,'T2'!J65,T3_R1!K65,T3_R2!K65)","v":0},{"$f":"MAX('MDA1'!K65,'MDA2'!K65,'MDA3'!I65,'MDA3'!L65,'T1'!M65,'T2'!K65,T3_R1!L65,T3_R2!L65)","v":26067},{"$f":"MAX('MDA1'!L65,'MDA2'!L65,'MDA3'!J65,'MDA3'!M65,'T1'!N65,'T2'!L65,T3_R1!M65,T3_R2!M65)","v":0},26067,{"$f":"MAX('MDA2'!J65,T65)","v":0},{"$f":"MAX('MDA1'!K65,'MDA2'!K65,'MDA3'!I65,'MDA3'!L65,V65,AD65)","v":26067},{"$f":"MAX('MDA1'!L65,'MDA2'!L65,'MDA3'!J65,'MDA3'!M65,AF65)","v":0},26067,38.447565696395174]
[{"$f":"IF(COUNTRY_INFO!A66=0,\" \",COUNTRY_INFO!A66)","v":"Tanzania"},{"$f":"IF(COUNTRY_INFO!B66=0,\" \",COUNTRY_INFO!B66)","v":"Kilimanjaro"},{"$f":"IF(COUNTRY_INFO!C66=0,\" \",COUNTRY_INFO!C66)","v":"Rombo District Council"},{"$f":"COUNTRY_INFO!L66","v":0},null,null,{"$f":"MAX('MDA1'!M66,'MDA2'!M66)","v":0},{"$f":"IF(AND(COUNTRY_INFO!H66>0,COUNTRY_INFO!H66<4),IF(D66>MAX('MDA1'!M66,'MDA2'!M66),MAX('MDA1'!M66,'MDA2'!M66),D66),0)","v":0},{"$f":"IF(AND(COUNTRY_INFO!H66>0,COUNTRY_INFO!H66<4), IF(G66/D66*100<>0, IF(G66/D66*100>100,100,G66/D66*100), \"-\"),0)","v":0},{"$f":"COUNTRY_INFO!M66","v":0},null,null,{"$f":"MAX('MDA1'!M66,MAX('MDA3'!I66,'MDA3'!L66)+MAX('MDA3'!J66,'MDA3'!M66))","v":0},{"$f":"IF(AND(COUNTRY_INFO!I66>0,COUNTRY_INFO!I66<4),IF(J66>MAX('MDA1'!M66,MAX('MDA3'!I66,'MDA3'!L66)+MAX('MDA3'!J66,'MDA3'!M66)),MAX('MDA1'!M66,MAX('MDA3'!I66,'MDA3'!L66)+MAX('MDA3'!J66,'MDA3'!M66)),J66),0)","v":0},{"$f":"IF(AND(COUNTRY_INFO!I66>0,COUNTRY_INFO!I66<4), IF(M66/J66*100<>0, IF(M66/J66*100>100,100,M66/J66*100), \"-\"),0)","v":0},{"$f":"COUNTRY_INFO!N66","v":98998},null,null,{"$f":"SUM(MAX('MDA2'!J66, 'T1'!L66, MAX(T3_R1!K66, T3_R2!K66)), MAX('MDA1'!K66, 'MDA2'!K66, 'T1'!M66, MAX(T3_R1!L66, T3_R2!L66)), MAX('MDA1'!L66, 'MDA2'!L66, 'T1'!N66, MAX(T3_R1!M66, T3_R2!M66)))","v":52976},{"$f":"IF(AND(COUNTRY_INFO!J66>1,COUNTRY_INFO!J66<4),IF(COUNTRY_INFO!E66>MAX('MDA2'!J66,'T1'!L66,MAX(T3_R1!K66,T3_R2!K66)),MAX('MDA2'!J66,'T1'!L66,MAX(T3_R1!K66,T3_R2!K66)),COUNTRY_INFO!E66),0)","v":0},{"$f":"IF(AND(COUNTRY_INFO!J66>1,COUNTRY_INFO!J66<4), IF(T66/COUNTRY_INFO!E66*100<>0, IF(T66/COUNTRY_INFO!E66*100>100,100,T66/COUNTRY_INFO!E66*100), \"-\"),0)","v":"-"},{"$f":"IF(AND(COUNTRY_INFO!J66>1,COUNTRY_INFO!J66<4),IF(COUNTRY_INFO!F66>MAX('MDA1'!K66,'MDA2'!K66,'T1'!M66,MAX(T3_R1!L66,T3_R2!L66)),MAX('MDA1'!K66,'MDA2'!K66,'T1'!M66,MAX(T3_R1!L66,T3_R2!L66)),COUNTRY_INFO!F66),0)","v":52976},{"$f":"IF(AND(COUNTRY_INFO!J66>1,COUNTRY_INFO!J66<4), IF(V66/COUNTRY_INFO!F66*100<>0, IF(V66/COUNTRY_INFO!F66*100>100,100,V66/COUNTRY_INFO!F66*100), \"-\"),0)","v":86.096439193252181},52976,{"$f":"IF(AND(COUNTRY_INFO!J66>1,COUNTRY_INFO!J66<4), IF(S66/P66*100<>0, IF(X66/P66*100>100,100,X66/P66*100), \"-\"),0)","v":53.512192165498298},{"$f":"COUNTRY_INFO!O66","v":69055.100000000006},null,null,{"$f":"MAX('T1'!L66,'T2'!J66)+MAX('T1'!M66,'T2'!K66)+MAX('T1'!N66,'T2'!L66)","v":0},{"$f":"IF(COUNTRY_INFO!K66=1,IF(COUNTRY_INFO!F66*0.33>MAX('T1'!M66,'T2'!K66),MAX('T1'!M66,'T2'!K66),COUNTRY_INFO!F66*0.33),IF(COUNTRY_INFO!K66=2,IF(COUNTRY_INFO!F66*0.5>MAX('T1'!M66,'T2'!K66),MAX('T1'!M66,'T2'!K66),COUNTRY_INFO!F66*0.5),IF(COUNTRY_INFO!K66=3,IF(COUNTRY_INFO!F66>MAX('T1'!M66,'T2'!K66),MAX('T1'!M66,'T2'!K66),COUNTRY_INFO!F66),0)))","v":0},{"$f":"IF(AND(COUNTRY_INFO!K66>0,COUNTRY_INFO!K66<4),IF(Z66>0,IF(COUNTRY_INFO!K66=1, AD66/(COUNTRY_INFO!F66*0.33)*100, IF(COUNTRY_INFO!K66=2, AD66/(COUNTRY_INFO!F66*0.5)*100, IF(COUNTRY_INFO!K66=3, AD66/COUNTRY_INFO!F66*100))),\"-\"),0)","v":0},{"$f":"IF(COUNTRY_INFO!K66=2,IF(COUNTRY_INFO!G66*0.2>MAX('T1'!N66,'T2'!L66),MAX('T1'!N66,'T2'!L66),COUNTRY_INFO!G66*0.2),IF(COUNTRY_INFO!K66=3,IF(COUNTRY_INFO!G66>MAX('T1'!N66,'T2'!L66),MAX('T1'!N66,'T2'!L66),COUNTRY_INFO!G66),0))","v":0},{"$f":"IF(AND(COUNTRY_INFO!K66>0,COUNTRY_INFO!K66<4),IF(Z66>0,IF(COUNTRY_INFO!K66=1, 0, IF(COUNTRY_INFO!K66=2, AF66/(COUNTRY_INFO!G66*0.2)*100, IF(COUNTRY_INFO!K66=3, AF66/COUNTRY_INFO!G66*100))),\"-\"),0)","v":0},0,{"$f":"IF(AND(COUNTRY_INFO!K66>0,COUNTRY_INFO!K66<4), IF(AC66/Z66*100<>0, IF(AH66/Z66*100>100,100,AH66/Z66*100), \"-\"),0)","v":"-"},null,{"$f":"IF(AND(D66<>0, D66<>\"Unknown\",D66<>\"Stopped\",D66<>\"Not required\"),D66/COUNTRY_INFO!D66, 0)","v":0},{"$f":"IF(AND(J66<>0,J66<>\"Unknown\",J66<>\"Stopped\",J66<>\"Not required\"),J66/COUNTRY_INFO!D66, 0)","v":0},{"$f":"IF(AND(P66<>0,P66<>\"Unknown\",P66<>\"Not required\"),P66/(COUNTRY_INFO!E66+COUNTRY_INFO!F66), 0)","v":1},{"$f":"IF(AND(Z66<>0,Z66<>\"Unknown\",Z66<>\"Not required\"),IF(COUNTRY_INFO!K66=1,1,IF(COUNTRY_INFO!K66=2,0.5*COUNTRY_INFO!F66/(0.5*COUNTRY_INFO!F66+0.2*COUNTRY_INFO!G66),IF(COUNTRY_INFO!K66=3,COUNTRY_INFO!F66/(COUNTRY_INFO!F66+COUNTRY_INFO!G66)))),0)","v":0.44552104044451457},{"$f":"IF(AND(Z66<>0,Z66<>\"Unknown\",Z66<>\"Not required\"),IF(COUNTRY_INFO!K66=1,0,IF(COUNTRY_INFO!K66=2,0.2*COUNTRY_INFO!G66/(0.5*COUNTRY_INFO!F66+0.2*COUNTRY_INFO!G66),IF(COUNTRY_INFO!K66=3,COUNTRY_INFO!G66/(COUNTRY_INFO!F66+COUNTRY_INFO!G66)))),0)","v":0.55447895955548532},{"$f":"MAX(COUNTRY_INFO!D66*AK66*PROFILE!$G$7,COUNTRY_INFO!D66*AL66*PROFILE!$G$7)","v":0},{"$f":"MAX(COUNTRY_INFO!D66*AK66*PROFILE!$G$8,COUNTRY_INFO!D66*AL66*PROFILE!$G$8,COUNTRY_INFO!D66*AM66*PROFILE!$G$8)","v":32248.3999483265},{"$f":"MAX(COUNTRY_INFO!D66*AK66*PROFILE!$G$9,COUNTRY_INFO!D66*AL66*PROFILE!$G$9,COUNTRY_INFO!D66*AM66*PROFILE!$G$9,IF(AND(DISTRICT!Z66<>\"Unknown\",Z66<>\"Not required\"),COUNTRY_INFO!O66*DISTRICT!AN66,0))","v":63251.87518190359},{"$f":"MAX(COUNTRY_INFO!D66*AK66*PROFILE!$G$10,COUNTRY_INFO!D66*AL66*PROFILE!$G$10,IF(AND(DISTRICT!Z66<>\"Unknown\",Z66<>\"Not required\"),COUNTRY_INFO!O66*DISTRICT!AO66,0))","v":38289.599999999999},133789.8751302301,0,{"$f":"MAX('MDA2'!J66,'T1'!L66,'T2'!J66,T3_R1!K66,T3_R2!K66)","v":0},{"$f":"MAX('MDA1'!K66,'MDA2'!K66,'MDA3'!I66,'MDA3'!L66,'T1'!M66,'T2'!K66,T3_R1!L66,T3_R2!L66)","v":52976},{"$f":"MAX('MDA1'!L66,'MDA2'!L66,'MDA3'!J66,'MDA3'!M66,'T1'!N66,'T2'!L66,T3_R1!M66,T3_R2!M66)","v":0},52976,{"$f":"MAX('MDA2'!J66,T66)","v":0},{"$f":"MAX('MDA1'!K66,'MDA2'!K66,'MDA3'!I66,'MDA3'!L66,V66,AD66)","v":52976},{"$f":"MAX('MDA1'!L66,'MDA2'!L66,'MDA3'!J66,'MDA3'!M66,AF66)","v":0},52976,39.596419346705829]
[{"$f":"IF(COUNTRY_INFO!A67=0,\" \",COUNTRY_INFO!A67)","v":"Tanzania"},{"$f":"IF(COUNTRY_INFO!B67=0,\" \",COUNTRY_INFO!B67)","v":"Kilimanjaro"},{"$f":"IF(COUNTRY_INFO!C67=0,\" \",COUNTRY_INFO!C67)","v":"Same District Council"},{"$f":"COUNTRY_INFO!L67","v":0},null,null,{"$f":"MAX('MDA1'!M67,'MDA2'!M67)","v":0},{"$f":"IF(AND(COUNTRY_INFO!H67>0,COUNTRY_INFO!H67<4),IF(D67>MAX('MDA1'!M67,'MDA2'!M67),MAX('MDA1'!M67,'MDA2'!M67),D67),0)","v":0},{"$f":"IF(AND(COUNTRY_INFO!H67>0,COUNTRY_INFO!H67<4), IF(G67/D67*100<>0, IF(G67/D67*100>100,100,G67/D67*100), \"-\"),0)","v":0},{"$f":"COUNTRY_INFO!M67","v":0},null,null,{"$f":"MAX('MDA1'!M67,MAX('MDA3'!I67,'MDA3'!L67)+MAX('MDA3'!J67,'MDA3'!M67))","v":0},{"$f":"IF(AND(COUNTRY_INFO!I67>0,COUNTRY_INFO!I67<4),IF(J67>MAX('MDA1'!M67,MAX('MDA3'!I67,'MDA3'!L67)+MAX('MDA3'!J67,'MDA3'!M67)),MAX('MDA1'!M67,MAX('MDA3'!I67,'MDA3'!L67)+MAX('MDA3'!J67,'MDA3'!M67)),J67),0)","v":0},{"$f":"IF(AND(COUNTRY_INFO!I67>0,COUNTRY_INFO!I67<4), IF(M67/J67*100<>0, IF(M67/J67*100>100,100,M67/J67*100), \"-\"),0)","v":0},{"$f":"COUNTRY_INFO!N67","v":100390},null,null,{"$f":"SUM(MAX('MDA2'!J67, 'T1'!L67, MAX(T3_R1!K67, T3_R2!K67)), MAX('MDA1'!K67, 'MDA2'!K67, 'T1'!M67, MAX(T3_R1!L67, T3_R2!L67)), MAX('MDA1'!L67, 'MDA2'!L67, 'T1'!N67, MAX(T3_R1!M67, T3_R2!M67)))","v":55445},{"$f":"IF(AND(COUNTRY_INFO!J67>1,COUNTRY_INFO!J67<4),IF(COUNTRY_INFO!E67>MAX('MDA2'!J67,'T1'!L67,MAX(T3_R1!K67,T3_R2!K67)),MAX('MDA2'!J67,'T1'!L67,MAX(T3_R1!K67,T3_R2!K67)),COUNTRY_INFO!E67),0)","v":0},{"$f":"IF(AND(COUNTRY_INFO!J67>1,COUNTRY_INFO!J67<4), IF(T67/COUNTRY_INFO!E67*100<>0, IF(T67/COUNTRY_INFO!E67*100>100,100,T67/COUNTRY_INFO!E67*100), \"-\"),0)","v":"-"},{"$f":"IF(AND(COUNTRY_INFO!J67>1,COUNTRY_INFO!J67<4),IF(COUNTRY_INFO!F67>MAX('MDA1'!K67,'MDA2'!K67,'T1'!M67,MAX(T3_R1!L67,T3_R2!L67)),MAX('MDA1'!K67,'MDA2'!K67,'T1'!M67,MAX(T3_R1!L67,T3_R2!L67)),COUNTRY_INFO!F67),0)","v":55445},{"$f":"IF(AND(COUNTRY_INFO!J67>1,COUNTRY_INFO!J67<4), IF(V67/COUNTRY_INFO!F67*100<>0, IF(V67/COUNTRY_INFO!F67*100>100,100,V67/COUNTRY_INFO!F67*100), \"-\"),0)","v":89.930741407555189},55445,{"$f":"IF(AND(COUNTRY_INFO!J67>1,COUNTRY_INFO!J67<4), IF(S67/P67*100<>0, IF(X67/P67*100>100,100,X67/P67*100), \"-\"),0)","v":55.229604542285095},{"$f":"COUNTRY_INFO!O67","v":70806.3},null,null,{"$f":"MAX('T1'!L67,'T2'!J67)+MAX('T1'!M67,'T2'!K67)+MAX('T1'!N67,'T2'!L67)","v":0},{"$f":"IF(COUNTRY_INFO!K67=1,IF(COUNTRY_INFO!F67*0.33>MAX('T1'!M67,'T2'!K67),MAX('T1'!M67,'T2'!K67),COUNTRY_INFO!F67*0.33),IF(COUNTRY_INFO!K67=2,IF(COUNTRY_INFO!F67*0.5>MAX('T1'!M67,'T2'!K67),MAX('T1'!M67,'T2'!K67),COUNTRY_INFO!F67*0.5),IF(COUNTRY_INFO!K67=3,IF(COUNTRY_INFO!F67>MAX('T1'!M67,'T2'!K67),MAX('T1'!M67,'T2'!K67),COUNTRY_INFO!F67),0)))","v":0},{"$f":"IF(AND(COUNTRY_INFO!K67>0,COUNTRY_INFO!K67<4),IF(Z67>0,IF(COUNTRY_INFO!K67=1, AD67/(COUNTRY_INFO!F67*0.33)*100, IF(COUNTRY_INFO!K67=2, AD67/(COUNTRY_INFO!F67*0.5)*100, IF(COUNTRY_INFO!K67=3, AD67/COUNTRY_INFO!F67*100))),\"-\"),0)","v":0},{"$f":"IF(COUNTRY_INFO!K67=2,IF(COUNTRY_INFO!G67*0.2>MAX('T1'!N67,'T2'!L67),MAX('T1'!N67,'T2'!L67),COUNTRY_INFO!G67*0.2),IF(COUNTRY_INFO!K67=3,IF(COUNTRY_INFO!G67>MAX('T1'!N67,'T2'!L67),MAX('T1'!N67,'T2'!L67),COUNTRY_INFO!G67),0))","v":0},{"$f":"IF(AND(COUNTRY_INFO!K67>0,COUNTRY_INFO!K67<4),IF(Z67>0,IF(COUNTRY_INFO!K67=1, 0, IF(COUNTRY_INFO!K67=2, AF67/(COUNTRY_INFO!G67*0.2)*100, IF(COUNTRY_INFO!K67=3, AF67/COUNTRY_INFO!G67*100))),\"-\"),0)","v":0},0,{"$f":"IF(AND(COUNTRY_INFO!K67>0,COUNTRY_INFO!K67<4), IF(AC67/Z67*100<>0, IF(AH67/Z67*100>100,100,AH67/Z67*100), \"-\"),0)","v":"-"},null,{"$f":"IF(AND(D67<>0, D67<>\"Unknown\",D67<>\"Stopped\",D67<>\"Not required\"),D67/COUNTRY_INFO!D67, 0)","v":0},{"$f":"IF(AND(J67<>0,J67<>\"Unknown\",J67<>\"Stopped\",J67<>\"Not required\"),J67/COUNTRY_INFO!D67, 0)","v":0},{"$f":"IF(AND(P67<>0,P67<>\"Unknown\",P67<>\"Not required\"),P67/(COUNTRY_INFO!E67+COUNTRY_INFO!F67), 0)","v":1},{"$f":"IF(AND(Z67<>0,Z67<>\"Unknown\",Z67<>\"Not required\"),IF(COUNTRY_INFO!K67=1,1,IF(COUNTRY_INFO!K67=2,0.5*COUNTRY_INFO!F67/(0.5*COUNTRY_INFO!F67+0.2*COUNTRY_INFO!G67),IF(COUNTRY_INFO!K67=3,COUNTRY_INFO!F67/(COUNTRY_INFO!F67+COUNTRY_INFO!G67)))),0)","v":0.43536380237351757},{"$f":"IF(AND(Z67<>0,Z67<>\"Unknown\",Z67<>\"Not required\"),IF(COUNTRY_INFO!K67=1,0,IF(COUNTRY_INFO!K67=2,0.2*COUNTRY_INFO!G67/(0.5*COUNTRY_INFO!F67+0.2*COUNTRY_INFO!G67),IF(COUNTRY_INFO!K67=3,COUNTRY_INFO!G67/(COUNTRY_INFO!F67+COUNTRY_INFO!G67)))),0)","v":0.56463619762648243},{"$f":"MAX(COUNTRY_INFO!D67*AK67*PROFILE!$G$7,COUNTRY_INFO!D67*AL67*PROFILE!$G$7)","v":0},{"$f":"MAX(COUNTRY_INFO!D67*AK67*PROFILE!$G$8,COUNTRY_INFO!D67*AL67*PROFILE!$G$8,COUNTRY_INFO!D67*AM67*PROFILE!$G$8)","v":33341.274357653456},{"$f":"MAX(COUNTRY_INFO!D67*AK67*PROFILE!$G$9,COUNTRY_INFO!D67*AL67*PROFILE!$G$9,COUNTRY_INFO!D67*AM67*PROFILE!$G$9,IF(AND(DISTRICT!Z67<>\"Unknown\",Z67<>\"Not required\"),COUNTRY_INFO!O67*DISTRICT!AN67,0))","v":65395.434423261628},{"$f":"MAX(COUNTRY_INFO!D67*AK67*PROFILE!$G$10,COUNTRY_INFO!D67*AL67*PROFILE!$G$10,IF(AND(DISTRICT!Z67<>\"Unknown\",Z67<>\"Not required\"),COUNTRY_INFO!O67*DISTRICT!AO67,0))","v":39979.800000000003},138716.50878091509,0,{"$f":"MAX('MDA2'!J67,'T1'!L67,'T2'!J67,T3_R1!K67,T3_R2!K67)","v":0},{"$f":"MAX('MDA1'!K67,'MDA2'!K67,'MDA3'!I67,'MDA3'!L67,'T1'!M67,'T2'!K67,T3_R1!L67,T3_R2!L67)","v":55445},{"$f":"MAX('MDA1'!L67,'MDA2'!L67,'MDA3'!J67,'MDA3'!M67,'T1'!N67,'T2'!L67,T3_R1!M67,T3_R2!M67)","v":0},55445,{"$f":"MAX('MDA2'!J67,T67)","v":0},{"$f":"MAX('MDA1'!K67,'MDA2'!K67,'MDA3'!I67,'MDA3'!L67,V67,AD67)","v":55445},{"$f":"MAX('MDA1'!L67,'MDA2'!L67,'MDA3'!J67,'MDA3'!M67,AF67)","v":0},55445,39.970008247229075]
[{"$f":"IF(COUNTRY_INFO!A68=0,\" \",COUNTRY_INFO!A68)","v":"Tanzania"},{"$f":"IF(COUNTRY_INFO!B68=0,\" \",COUNTRY_INFO!B68)","v":"Kilimanjaro"},{"$f":"IF(COUNTRY_INFO!C68=0,\" \",COUNTRY_INFO!C68)","v":"Siha District Council"},{"$f":"COUNTRY_INFO!L68","v":0},null,null,{"$f":"MAX('MDA1'!M68,'MDA2'!M68)","v":0},{"$f":"IF(AND(COUNTRY_INFO!H68>0,COUNTRY_INFO!H68<4),IF(D68>MAX('MDA1'!M68,'MDA2'!M68),MAX('MDA1'!M68,'MDA2'!M68),D68),0)","v":0},{"$f":"IF(AND(COUNTRY_INFO!H68>0,COUNTRY_INFO!H68<4), IF(G68/D68*100<>0, IF(G68/D68*100>100,100,G68/D68*100), \"-\"),0)","v":0},{"$f":"COUNTRY_INFO!M68","v":0},null,null,{"$f":"MAX('MDA1'!M68,MAX('MDA3'!I68,'MDA3'!L68)+MAX('MDA3'!J68,'MDA3'!M68))","v":0},{"$f":"IF(AND(COUNTRY_INFO!I68>0,COUNTRY_INFO!I68<4),IF(J68>MAX('MDA1'!M68,MAX('MDA3'!I68,'MDA3'!L68)+MAX('MDA3'!J68,'MDA3'!M68)),MAX('MDA1'!M68,MAX('MDA3'!I68,'MDA3'!L68)+MAX('MDA3'!J68,'MDA3'!M68)),J68),0)","v":0},{"$f":"IF(AND(COUNTRY_INFO!I68>0,COUNTRY_INFO!I68<4), IF(M68/J68*100<>0, IF(M68/J68*100>100,100,M68/J68*100), \"-\"),0)","v":0},{"$f":"COUNTRY_INFO!N68","v":41840},null,null,{"$f":"SUM(MAX('MDA2'!J68, 'T1'!L68, MAX(T3_R1!K68, T3_R2!K68)), MAX('MDA1'!K68, 'MDA2'!K68, 'T1'!M68, MAX(T3_R1!L68, T3_R2!L68)), MAX('MDA1'!L68, 'MDA2'!L68, 'T1'!N68, MAX(T3_R1!M68, T3_R2!M68)))","v":22340},{"$f":"IF(AND(COUNTRY_INFO!J68>1,COUNTRY_INFO!J68<4),IF(COUNTRY_INFO!E68>MAX('MDA2'!J68,'T1'!L68,MAX(T3_R1!K68,T3_R2!K68)),MAX('MDA2'!J68,'T1'!L68,MAX(T3_R1!K68,T3_R2!K68)),COUNTRY_INFO!E68),0)","v":0},{"$f":"IF(AND(COUNTRY_INFO!J68>1,COUNTRY_INFO!J68<4), IF(T68/COUNTRY_INFO!E68*100<>0, IF(T68/COUNTRY_INFO!E68*100>100,100,T68/COUNTRY_INFO!E68*100), \"-\"),0)","v":"-"},{"$f":"IF(AND(COUNTRY_INFO!J68>1,COUNTRY_INFO!J68<4),IF(COUNTRY_INFO!F68>MAX('MDA1'!K68,'MDA2'!K68,'T1'!M68,MAX(T3_R1!L68,T3_R2!L68)),MAX('MDA1'!K68,'MDA2'!K68,'T1'!M68,MAX(T3_R1!L68,T3_R2!L68)),COUNTRY_INFO!F68),0)","v":22340},{"$f":"IF(AND(COUNTRY_INFO!J68>1,COUNTRY_INFO!J68<4), IF(V68/COUNTRY_INFO!F68*100<>0, IF(V68/COUNTRY_INFO!F68*100>100,100,V68/COUNTRY_INFO!F68*100), \"-\"),0)","v":88.862370723945901},22340,{"$f":"IF(AND(COUNTRY_INFO!J68>1,COUNTRY_INFO!J68<4), IF(S68/P68*100<>0, IF(X68/P68*100>100,100,X68/P68*100), \"-\"),0)","v":53.393881453154876},{"$f":"COUNTRY_INFO!O68","v":30092.799999999999},null,null,{"$f":"MAX('T1'!L68,'T2'!J68)+MAX('T1'!M68,'T2'!K68)+MAX('T1'!N68,'T2'!L68)","v":0},{"$f":"IF(COUNTRY_INFO!K68=1,IF(COUNTRY_INFO!F68*0.33>MAX('T1'!M68,'T2'!K68),MAX('T1'!M68,'T2'!K68),COUNTRY_INFO!F68*0.33),IF(COUNTRY_INFO!K68=2,IF(COUNTRY_INFO!F68*0.5>MAX('T1'!M68,'T2'!K68),MAX('T1'!M68,'T2'!K68),COUNTRY_INFO!F68*0.5),IF(COUNTRY_INFO!K68=3,IF(COUNTRY_INFO!F68>MAX('T1'!M68,'T2'!K68),MAX('T1'!M68,'T2'!K68),COUNTRY_INFO!F68),0)))","v":0},{"$f":"IF(AND(COUNTRY_INFO!K68>0,COUNTRY_INFO!K68<4),IF(Z68>0,IF(COUNTRY_INFO!K68=1, AD68/(COUNTRY_INFO!F68*0.33)*100, IF(COUNTRY_INFO!K68=2, AD68/(COUNTRY_INFO!F68*0.5)*100, IF(COUNTRY_INFO!K68=3, AD68/COUNTRY_INFO!F68*100))),\"-\"),0)","v":0},{"$f":"IF(COUNTRY_INFO!K68=2,IF(COUNTRY_INFO!G68*0.2>MAX('T1'!N68,'T2'!L68),MAX('T1'!N68,'T2'!L68),COUNTRY_INFO!G68*0.2),IF(COUNTRY_INFO!K68=3,IF(COUNTRY_INFO!G68>MAX('T1'!N68,'T2'!L68),MAX('T1'!N68,'T2'!L68),COUNTRY_INFO!G68),0))","v":0},{"$f":"IF(AND(COUNTRY_INFO!K68>0,COUNTRY_INFO!K68<4),IF(Z68>0,IF(COUNTRY_INFO!K68=1, 0, IF(COUNTRY_INFO!K68=2, AF68/(COUNTRY_INFO!G68*0.2)*100, IF(COUNTRY_INFO!K68=3, AF68/COUNTRY_INFO!G68*100))),\"-\"),0)","v":0},0,{"$f":"IF(AND(COUNTRY_INFO!K68>0,COUNTRY_INFO!K68<4), IF(AC68/Z68*100<>0, IF(AH68/Z68*100>100,100,AH68/Z68*100), \"-\"),0)","v":"-"},null,{"$f":"IF(AND(D68<>0, D68<>\"Unknown\",D68<>\"Stopped\",D68<>\"Not required\"),D68/COUNTRY_INFO!D68, 0)","v":0},{"$f":"IF(AND(J68<>0,J68<>\"Unknown\",J68<>\"Stopped\",J68<>\"Not required\"),J68/COUNTRY_INFO!D68, 0)","v":0},{"$f":"IF(AND(P68<>0,P68<>\"Unknown\",P68<>\"Not required\"),P68/(COUNTRY_INFO!E68+COUNTRY_INFO!F68), 0)","v":1},{"$f":"IF(AND(Z68<>0,Z68<>\"Unknown\",Z68<>\"Not required\"),IF(COUNTRY_INFO!K68=1,1,IF(COUNTRY_INFO!K68=2,0.5*COUNTRY_INFO!F68/(0.5*COUNTRY_INFO!F68+0.2*COUNTRY_INFO!G68),IF(COUNTRY_INFO!K68=3,COUNTRY_INFO!F68/(COUNTRY_INFO!F68+COUNTRY_INFO!G68)))),0)","v":0.41770789025946409},{"$f":"IF(AND(Z68<>0,Z68<>\"Unknown\",Z68<>\"Not required\"),IF(COUNTRY_INFO!K68=1,0,IF(COUNTRY_INFO!K68=2,0.2*COUNTRY_INFO!G68/(0.5*COUNTRY_INFO!F68+0.2*COUNTRY_INFO!G68),IF(COUNTRY_INFO!K68=3,COUNTRY_INFO!G68/(COUNTRY_INFO!F68+COUNTRY_INFO!G68)))),0)","v":0.58229210974053591},{"$f":"MAX(COUNTRY_INFO!D68*AK68*PROFILE!$G$7,COUNTRY_INFO!D68*AL68*PROFILE!$G$7)","v":0},{"$f":"MAX(COUNTRY_INFO!D68*AK68*PROFILE!$G$8,COUNTRY_INFO!D68*AL68*PROFILE!$G$8,COUNTRY_INFO!D68*AM68*PROFILE!$G$8)","v":14373.358100681911},{"$f":"MAX(COUNTRY_INFO!D68*AK68*PROFILE!$G$9,COUNTRY_INFO!D68*AL68*PROFILE!$G$9,COUNTRY_INFO!D68*AM68*PROFILE!$G$9,IF(AND(DISTRICT!Z68<>\"Unknown\",Z68<>\"Not required\"),COUNTRY_INFO!O68*DISTRICT!AN68,0))","v":28191.843749950585},{"$f":"MAX(COUNTRY_INFO!D68*AK68*PROFILE!$G$10,COUNTRY_INFO!D68*AL68*PROFILE!$G$10,IF(AND(DISTRICT!Z68<>\"Unknown\",Z68<>\"Not required\"),COUNTRY_INFO!O68*DISTRICT!AO68,0))","v":17522.8},60088.0018506325,0,{"$f":"MAX('MDA2'!J68,'T1'!L68,'T2'!J68,T3_R1!K68,T3_R2!K68)","v":0},{"$f":"MAX('MDA1'!K68,'MDA2'!K68,'MDA3'!I68,'MDA3'!L68,'T1'!M68,'T2'!K68,T3_R1!L68,T3_R2!L68)","v":22340},{"$f":"MAX('MDA1'!L68,'MDA2'!L68,'MDA3'!J68,'MDA3'!M68,'T1'!N68,'T2'!L68,T3_R1!M68,T3_R2!M68)","v":0},22340,{"$f":"MAX('MDA2'!J68,T68)","v":0},{"$f":"MAX('MDA1'!K68,'MDA2'!K68,'MDA3'!I68,'MDA3'!L68,V68,AD68)","v":22340},{"$f":"MAX('MDA1'!L68,'MDA2'!L68,'MDA3'!J68,'MDA3'!M68,AF68)","v":0},22340,37.178803275124785]
[{"$f":"IF(COUNTRY_INFO!A69=0,\" \",COUNTRY_INFO!A69)","v":"Tanzania"},{"$f":"IF(COUNTRY_INFO!B69=0,\" \",COUNTRY_INFO!B69)","v":"Lindi"},{"$f":"IF(COUNTRY_INFO!C69=0,\" \",COUNTRY_INFO!C69)","v":"Kilwa District Council"},{"$f":"COUNTRY_INFO!L69","v":201279},null,null,{"$f":"MAX('MDA1'!M69,'MDA2'!M69)","v":162385},{"$f":"IF(AND(COUNTRY_INFO!H69>0,COUNTRY_INFO!H69<4),IF(D69>MAX('MDA1'!M69,'MDA2'!M69),MAX('MDA1'!M69,'MDA2'!M69),D69),0)","v":162385},{"$f":"IF(AND(COUNTRY_INFO!H69>0,COUNTRY_INFO!H69<4), IF(G69/D69*100<>0, IF(G69/D69*100>100,100,G69/D69*100), \"-\"),0)","v":80.676573313659148},{"$f":"COUNTRY_INFO!M69","v":0},null,null,{"$f":"MAX('MDA1'!M69,MAX('MDA3'!I69,'MDA3'!L69)+MAX('MDA3'!J69,'MDA3'!M69))","v":162385},{"$f":"IF(AND(COUNTRY_INFO!I69>0,COUNTRY_INFO!I69<4),IF(J69>MAX('MDA1'!M69,MAX('MDA3'!I69,'MDA3'!L69)+MAX('MDA3'!J69,'MDA3'!M69)),MAX('MDA1'!M69,MAX('MDA3'!I69,'MDA3'!L69)+MAX('MDA3'!J69,'MDA3'!M69)),J69),0)","v":0},{"$f":"IF(AND(COUNTRY_INFO!I69>0,COUNTRY_INFO!I69<4), IF(M69/J69*100<>0, IF(M69/J69*100>100,100,M69/J69*100), \"-\"),0)","v":0},{"$f":"COUNTRY_INFO!N69","v":66573},null,null,{"$f":"SUM(MAX('MDA2'!J69, 'T1'!L69, MAX(T3_R1!K69, T3_R2!K69)), MAX('MDA1'!K69, 'MDA2'!K69, 'T1'!M69, MAX(T3_R1!L69, T3_R2!L69)), MAX('MDA1'!L69, 'MDA2'!L69, 'T1'!N69, MAX(T3_R1!M69, T3_R2!M69)))","v":178125.465},{"$f":"IF(AND(COUNTRY_INFO!J69>1,COUNTRY_INFO!J69<4),IF(COUNTRY_INFO!E69>MAX('MDA2'!J69,'T1'!L69,MAX(T3_R1!K69,T3_R2!K69)),MAX('MDA2'!J69,'T1'!L69,MAX(T3_R1!K69,T3_R2!K69)),COUNTRY_INFO!E69),0)","v":0},{"$f":"IF(AND(COUNTRY_INFO!J69>1,COUNTRY_INFO!J69<4), IF(T69/COUNTRY_INFO!E69*100<>0, IF(T69/COUNTRY_INFO!E69*100>100,100,T69/COUNTRY_INFO!E69*100), \"-\"),0)","v":"-"},{"$f":"IF(AND(COUNTRY_INFO!J69>1,COUNTRY_INFO!J69<4),IF(COUNTRY_INFO!F69>MAX('MDA1'!K69,'MDA2'!K69,'T1'!M69,MAX(T3_R1!L69,T3_R2!L69)),MAX('MDA1'!K69,'MDA2'!K69,'T1'!M69,MAX(T3_R1!L69,T3_R2!L69)),COUNTRY_INFO!F69),0)","v":46756},{"$f":"IF(AND(COUNTRY_INFO!J69>1,COUNTRY_INFO!J69<4), IF(V69/COUNTRY_INFO!F69*100<>0, IF(V69/COUNTRY_INFO!F69*100>100,100,V69/COUNTRY_INFO!F69*100), \"-\"),0)","v":95.181483215601645},46756,{"$f":"IF(AND(COUNTRY_INFO!J69>1,COUNTRY_INFO!J69<4), IF(S69/P69*100<>0, IF(X69/P69*100>100,100,X69/P69*100), \"-\"),0)","v":70.23267691106004},{"$f":"COUNTRY_INFO!O69","v":51502.7},null,null,{"$f":"MAX('T1'!L69,'T2'!J69)+MAX('T1'!M69,'T2'!K69)+MAX('T1'!N69,'T2'!L69)","v":0},{"$f":"IF(COUNTRY_INFO!K69=1,IF(COUNTRY_INFO!F69*0.33>MAX('T1'!M69,'T2'!K69),MAX('T1'!M69,'T2'!K69),COUNTRY_INFO!F69*0.33),IF(COUNTRY_INFO!K69=2,IF(COUNTRY_INFO!F69*0.5>MAX('T1'!M69,'T2'!K69),MAX('T1'!M69,'T2'!K69),COUNTRY_INFO!F69*0.5),IF(COUNTRY_INFO!K69=3,IF(COUNTRY_INFO!F69>MAX('T1'!M69,'T2'!K69),MAX('T1'!M69,'T2'!K69),COUNTRY_INFO!F69),0)))","v":0},{"$f":"IF(AND(COUNTRY_INFO!K69>0,COUNTRY_INFO!K69<4),IF(Z69>0,IF(COUNTRY_INFO!K69=1, AD69/(COUNTRY_INFO!F69*0.33)*100, IF(COUNTRY_INFO!K69=2, AD69/(COUNTRY_INFO!F69*0.5)*100, IF(COUNTRY_INFO!K69=3, AD69/COUNTRY_INFO!F69*100))),\"-\"),0)","v":0},{"$f":"IF(COUNTRY_INFO!K69=2,IF(COUNTRY_INFO!G69*0.2>MAX('T1'!N69,'T2'!L69),MAX('T1'!N69,'T2'!L69),COUNTRY_INFO!G69*0.2),IF(COUNTRY_INFO!K69=3,IF(COUNTRY_INFO!G69>MAX('T1'!N69,'T2'!L69),MAX('T1'!N69,'T2'!L69),COUNTRY_INFO!G69),0))","v":0},{"$f":"IF(AND(COUNTRY_INFO!K69>0,COUNTRY_INFO!K69<4),IF(Z69>0,IF(COUNTRY_INFO!K69=1, 0, IF(COUNTRY_INFO!K69=2, AF69/(COUNTRY_INFO!G69*0.2)*100, IF(COUNTRY_INFO!K69=3, AF69/COUNTRY_INFO!G69*100))),\"-\"),0)","v":0},0,{"$f":"IF(AND(COUNTRY_INFO!K69>0,COUNTRY_INFO!K69<4), IF(AC69/Z69*100<>0, IF(AH69/Z69*100>100,100,AH69/Z69*100), \"-\"),0)","v":"-"},null,{"$f":"IF(AND(D69<>0, D69<>\"Unknown\",D69<>\"Stopped\",D69<>\"Not required\"),D69/COUNTRY_INFO!D69, 0)","v":1},{"$f":"IF(AND(J69<>0,J69<>\"Unknown\",J69<>\"Stopped\",J69<>\"Not required\"),J69/COUNTRY_INFO!D69, 0)","v":0},{"$f":"IF(AND(P69<>0,P69<>\"Unknown\",P69<>\"Not required\"),P69/(COUNTRY_INFO!E69+COUNTRY_INFO!F69), 0)","v":1},{"$f":"IF(AND(Z69<>0,Z69<>\"Unknown\",Z69<>\"Not required\"),IF(COUNTRY_INFO!K69=1,1,IF(COUNTRY_INFO!K69=2,0.5*COUNTRY_INFO!F69/(0.5*COUNTRY_INFO!F69+0.2*COUNTRY_INFO!G69),IF(COUNTRY_INFO!K69=3,COUNTRY_INFO!F69/(COUNTRY_INFO!F69+COUNTRY_INFO!G69)))),0)","v":0.47689732771291604},{"$f":"IF(AND(Z69<>0,Z69<>\"Unknown\",Z69<>\"Not required\"),IF(COUNTRY_INFO!K69=1,0,IF(COUNTRY_INFO!K69=2,0.2*COUNTRY_INFO!G69/(0.5*COUNTRY_INFO!F69+0.2*COUNTRY_INFO!G69),IF(COUNTRY_INFO!K69=3,COUNTRY_INFO!G69/(COUNTRY_INFO!F69+COUNTRY_INFO!G69)))),0)","v":0.52310267228708407},{"$f":"MAX(COUNTRY_INFO!D69*AK69*PROFILE!$G$7,COUNTRY_INFO!D69*AL69*PROFILE!$G$7)","v":0},{"$f":"MAX(COUNTRY_INFO!D69*AK69*PROFILE!$G$8,COUNTRY_INFO!D69*AL69*PROFILE!$G$8,COUNTRY_INFO!D69*AM69*PROFILE!$G$8)","v":22348.132503801771},{"$f":"MAX(COUNTRY_INFO!D69*AK69*PROFILE!$G$9,COUNTRY_INFO!D69*AL69*PROFILE!$G$9,COUNTRY_INFO!D69*AM69*PROFILE!$G$9,IF(AND(DISTRICT!Z69<>\"Unknown\",Z69<>\"Not required\"),COUNTRY_INFO!O69*DISTRICT!AN69,0))","v":43833.532514609855},{"$f":"MAX(COUNTRY_INFO!D69*AK69*PROFILE!$G$10,COUNTRY_INFO!D69*AL69*PROFILE!$G$10,IF(AND(DISTRICT!Z69<>\"Unknown\",Z69<>\"Not required\"),COUNTRY_INFO!O69*DISTRICT!AO69,0))","v":135097.34274462095},201279.00776303257,0,{"$f":"MAX('MDA2'!J69,'T1'!L69,'T2'!J69,T3_R1!K69,T3_R2!K69)","v":0},{"$f":"MAX('MDA1'!K69,'MDA2'!K69,'MDA3'!I69,'MDA3'!L69,'T1'!M69,'T2'!K69,T3_R1!L69,T3_R2!L69)","v":46756},{"$f":"MAX('MDA1'!L69,'MDA2'!L69,'MDA3'!J69,'MDA3'!M69,'T1'!N69,'T2'!L69,T3_R1!M69,T3_R2!M69)","v":131369.465},178125.465,{"$f":"MAX('MDA2'!J69,T69)","v":0},{"$f":"MAX('MDA1'!K69,'MDA2'!K69,'MDA3'!I69,'MDA3'!L69,V69,AD69)","v":46756},{"$f":"MAX('MDA1'!L69,'MDA2'!L69,'MDA3'!J69,'MDA3'!M69,AF69)","v":131369.465},178125.465,88.496792079633352]
[{"$f":"IF(COUNTRY_INFO!A70=0,\" \",COUNTRY_INFO!A70)","v":"Tanzania"},{"$f":"IF(COUNTRY_INFO!B70=0,\" \",COUNTRY_INFO!B70)","v":"Lindi"},{"$f":"IF(COUNTRY_INFO!C70=0,\" \",COUNTRY_INFO!C70)","v":"Lindi District Council"},{"$f":"COUNTRY_INFO!L70","v":204865},null,null,{"$f":"MAX('MDA1'!M70,'MDA2'!M70)","v":154449},{"$f":"IF(AND(COUNTRY_INFO!H70>0,COUNTRY_INFO!H70<4),IF(D70>MAX('MDA1'!M70,'MDA2'!M70),MAX('MDA1'!M70,'MDA2'!M70),D70),0)","v":154449},{"$f":"IF(AND(COUNTRY_INFO!H70>0,COUNTRY_INFO!H70<4), IF(G70/D70*100<>0, IF(G70/D70*100>100,100,G70/D70*100), \"-\"),0)","v":75.390623093256536},{"$f":"COUNTRY_INFO!M70","v":0},null,null,{"$f":"MAX('MDA1'!M70,MAX('MDA3'!I70,'MDA3'!L70)+MAX('MDA3'!J70,'MDA3'!M70))","v":154449},{"$f":"IF(AND(COUNTRY_INFO!I70>0,COUNTRY_INFO!I70<4),IF(J70>MAX('MDA1'!M70,MAX('MDA3'!I70,'MDA3'!L70)+MAX('MDA3'!J70,'MDA3'!M70)),MAX('MDA1'!M70,MAX('MDA3'!I70,'MDA3'!L70)+MAX('MDA3'!J70,'MDA3'!M70)),J70),0)","v":0},{"$f":"IF(AND(COUNTRY_INFO!I70>0,COUNTRY_INFO!I70<4), IF(M70/J70*100<>0, IF(M70/J70*100>100,100,M70/J70*100), \"-\"),0)","v":0},{"$f":"COUNTRY_INFO!N70","v":63530},null,null,{"$f":"SUM(MAX('MDA2'!J70, 'T1'!L70, MAX(T3_R1!K70, T3_R2!K70)), MAX('MDA1'!K70, 'MDA2'!K70, 'T1'!M70, MAX(T3_R1!L70, T3_R2!L70)), MAX('MDA1'!L70, 'MDA2'!L70, 'T1'!N70, MAX(T3_R1!M70, T3_R2!M70)))","v":160591.24099999998},{"$f":"IF(AND(COUNTRY_INFO!J70>1,COUNTRY_INFO!J70<4),IF(COUNTRY_INFO!E70>MAX('MDA2'!J70,'T1'!L70,MAX(T3_R1!K70,T3_R2!K70)),MAX('MDA2'!J70,'T1'!L70,MAX(T3_R1!K70,T3_R2!K70)),COUNTRY_INFO!E70),0)","v":0},{"$f":"IF(AND(COUNTRY_INFO!J70>1,COUNTRY_INFO!J70<4), IF(T70/COUNTRY_INFO!E70*100<>0, IF(T70/COUNTRY_INFO!E70*100>100,100,T70/COUNTRY_INFO!E70*100), \"-\"),0)","v":"-"},{"$f":"IF(AND(COUNTRY_INFO!J70>1,COUNTRY_INFO!J70<4),IF(COUNTRY_INFO!F70>MAX('MDA1'!K70,'MDA2'!K70,'T1'!M70,MAX(T3_R1!L70,T3_R2!L70)),MAX('MDA1'!K70,'MDA2'!K70,'T1'!M70,MAX(T3_R1!L70,T3_R2!L70)),COUNTRY_INFO!F70),0)","v":35642},{"$f":"IF(AND(COUNTRY_INFO!J70>1,COUNTRY_INFO!J70<4), IF(V70/COUNTRY_INFO!F70*100<>0, IF(V70/COUNTRY_INFO!F70*100>100,100,V70/COUNTRY_INFO!F70*100), \"-\"),0)","v":96.062313020510473},35642,{"$f":"IF(AND(COUNTRY_INFO!J70>1,COUNTRY_INFO!J70<4), IF(S70/P70*100<>0, IF(X70/P70*100>100,100,X70/P70*100), \"-\"),0)","v":56.102628679364074},{"$f":"COUNTRY_INFO!O70","v":46818.5},null,null,{"$f":"MAX('T1'!L70,'T2'!J70)+MAX('T1'!M70,'T2'!K70)+MAX('T1'!N70,'T2'!L70)","v":0},{"$f":"IF(COUNTRY_INFO!K70=1,IF(COUNTRY_INFO!F70*0.33>MAX('T1'!M70,'T2'!K70),MAX('T1'!M70,'T2'!K70),COUNTRY_INFO!F70*0.33),IF(COUNTRY_INFO!K70=2,IF(COUNTRY_INFO!F70*0.5>MAX('T1'!M70,'T2'!K70),MAX('T1'!M70,'T2'!K70),COUNTRY_INFO!F70*0.5),IF(COUNTRY_INFO!K70=3,IF(COUNTRY_INFO!F70>MAX('T1'!M70,'T2'!K70),MAX('T1'!M70,'T2'!K70),COUNTRY_INFO!F70),0)))","v":0},{"$f":"IF(AND(COUNTRY_INFO!K70>0,COUNTRY_INFO!K70<4),IF(Z70>0,IF(COUNTRY_INFO!K70=1, AD70/(COUNTRY_INFO!F70*0.33)*100, IF(COUNTRY_INFO!K70=2, AD70/(COUNTRY_INFO!F70*0.5)*100, IF(COUNTRY_INFO!K70=3, AD70/COUNTRY_INFO!F70*100))),\"-\"),0)","v":0},{"$f":"IF(COUNTRY_INFO!K70=2,IF(COUNTRY_INFO!G70*0.2>MAX('T1'!N70,'T2'!L70),MAX('T1'!N70,'T2'!L70),COUNTRY_INFO!G70*0.2),IF(COUNTRY_INFO!K70=3,IF(COUNTRY_INFO!G70>MAX('T1'!N70,'T2'!L70),MAX('T1'!N70,'T2'!L70),COUNTRY_INFO!G70),0))","v":0},{"$f":"IF(AND(COUNTRY_INFO!K70>0,COUNTRY_INFO!K70<4),IF(Z70>0,IF(COUNTRY_INFO!K70=1, 0, IF(COUNTRY_INFO!K70=2, AF70/(COUNTRY_INFO!G70*0.2)*100, IF(COUNTRY_INFO!K70=3, AF70/COUNTRY_INFO!G70*100))),\"-\"),0)","v":0},0,{"$f":"IF(AND(COUNTRY_INFO!K70>0,COUNTRY_INFO!K70<4), IF(AC70/Z70*100<>0, IF(AH70/Z70*100>100,100,AH70/Z70*100), \"-\"),0)","v":"-"},null,{"$f":"IF(AND(D70<>0, D70<>\"Unknown\",D70<>\"Stopped\",D70<>\"Not required\"),D70/COUNTRY_INFO!D70, 0)","v":1},{"$f":"IF(AND(J70<>0,J70<>\"Unknown\",J70<>\"Stopped\",J70<>\"Not required\"),J70/COUNTRY_INFO!D70, 0)","v":0},{"$f":"IF(AND(P70<>0,P70<>\"Unknown\",P70<>\"Not required\"),P70/(COUNTRY_INFO!E70+COUNTRY_INFO!F70), 0)","v":1},{"$f":"IF(AND(Z70<>0,Z70<>\"Unknown\",Z70<>\"Not required\"),IF(COUNTRY_INFO!K70=1,1,IF(COUNTRY_INFO!K70=2,0.5*COUNTRY_INFO!F70/(0.5*COUNTRY_INFO!F70+0.2*COUNTRY_INFO!G70),IF(COUNTRY_INFO!K70=3,COUNTRY_INFO!F70/(COUNTRY_INFO!F70+COUNTRY_INFO!G70)))),0)","v":0.39624293815478923},{"$f":"IF(AND(Z70<>0,Z70<>\"Unknown\",Z70<>\"Not required\"),IF(COUNTRY_INFO!K70=1,0,IF(COUNTRY_INFO!K70=2,0.2*COUNTRY_INFO!G70/(0.5*COUNTRY_INFO!F70+0.2*COUNTRY_INFO!G70),IF(COUNTRY_INFO!K70=3,COUNTRY_INFO!G70/(COUNTRY_INFO!F70+COUNTRY_INFO!G70)))),0)","v":0.60375706184521072},{"$f":"MAX(COUNTRY_INFO!D70*AK70*PROFILE!$G$7,COUNTRY_INFO!D70*AL70*PROFILE!$G$7)","v":0},{"$f":"MAX(COUNTRY_INFO!D70*AK70*PROFILE!$G$8,COUNTRY_INFO!D70*AL70*PROFILE!$G$8,COUNTRY_INFO!D70*AM70*PROFILE!$G$8)","v":22746.288313193876},{"$f":"MAX(COUNTRY_INFO!D70*AK70*PROFILE!$G$9,COUNTRY_INFO!D70*AL70*PROFILE!$G$9,COUNTRY_INFO!D70*AM70*PROFILE!$G$9,IF(AND(DISTRICT!Z70<>\"Unknown\",Z70<>\"Not required\"),COUNTRY_INFO!O70*DISTRICT!AN70,0))","v":44614.47363413743},{"$f":"MAX(COUNTRY_INFO!D70*AK70*PROFILE!$G$10,COUNTRY_INFO!D70*AL70*PROFILE!$G$10,IF(AND(DISTRICT!Z70<>\"Unknown\",Z70<>\"Not required\"),COUNTRY_INFO!O70*DISTRICT!AO70,0))","v":137504.24595400796},204865.00790133927,0,{"$f":"MAX('MDA2'!J70,'T1'!L70,'T2'!J70,T3_R1!K70,T3_R2!K70)","v":0},{"$f":"MAX('MDA1'!K70,'MDA2'!K70,'MDA3'!I70,'MDA3'!L70,'T1'!M70,'T2'!K70,T3_R1!L70,T3_R2!L70)","v":35642},{"$f":"MAX('MDA1'!L70,'MDA2'!L70,'MDA3'!J70,'MDA3'!M70,'T1'!N70,'T2'!L70,T3_R1!M70,T3_R2!M70)","v":124949.24099999999},160591.24099999998,{"$f":"MAX('MDA2'!J70,T70)","v":0},{"$f":"MAX('MDA1'!K70,'MDA2'!K70,'MDA3'!I70,'MDA3'!L70,V70,AD70)","v":35642},{"$f":"MAX('MDA1'!L70,'MDA2'!L70,'MDA3'!J70,'MDA3'!M70,AF70)","v":124949.24099999999},160591.24099999998,78.38880960936919]
[{"$f":"IF(COUNTRY_INFO!A71=0,\" \",COUNTRY_INFO!A71)","v":"Tanzania"},{"$f":"IF(COUNTRY_INFO!B71=0,\" \",COUNTRY_INFO!B71)","v":"Lindi"},{"$f":"IF(COUNTRY_INFO!C71=0,\" \",COUNTRY_INFO!C71)","v":"Lindi Municipal Council"},{"$f":"COUNTRY_INFO!L71","v":98765},null,null,{"$f":"MAX('MDA1'!M71,'MDA2'!M71)","v":65679},{"$f":"IF(AND(COUNTRY_INFO!H71>0,COUNTRY_INFO!H71<4),IF(D71>MAX('MDA1'!M71,'MDA2'!M71),MAX('MDA1'!M71,'MDA2'!M71),D71),0)","v":65679},{"$f":"IF(AND(COUNTRY_INFO!H71>0,COUNTRY_INFO!H71<4), IF(G71/D71*100<>0, IF(G71/D71*100>100,100,G71/D71*100), \"-\"),0)","v":66.500278438718169},{"$f":"COUNTRY_INFO!M71","v":0},null,null,{"$f":"MAX('MDA1'!M71,MAX('MDA3'!I71,'MDA3'!L71)+MAX('MDA3'!J71,'MDA3'!M71))","v":65679},{"$f":"IF(AND(COUNTRY_INFO!I71>0,COUNTRY_INFO!I71<4),IF(J71>MAX('MDA1'!M71,MAX('MDA3'!I71,'MDA3'!L71)+MAX('MDA3'!J71,'MDA3'!M71)),MAX('MDA1'!M71,MAX('MDA3'!I71,'MDA3'!L71)+MAX('MDA3'!J71,'MDA3'!M71)),J71),0)","v":0},{"$f":"IF(AND(COUNTRY_INFO!I71>0,COUNTRY_INFO!I71<4), IF(M71/J71*100<>0, IF(M71/J71*100>100,100,M71/J71*100), \"-\"),0)","v":0},{"$f":"COUNTRY_INFO!N71","v":40342},null,null,{"$f":"SUM(MAX('MDA2'!J71, 'T1'!L71, MAX(T3_R1!K71, T3_R2!K71)), MAX('MDA1'!K71, 'MDA2'!K71, 'T1'!M71, MAX(T3_R1!L71, T3_R2!L71)), MAX('MDA1'!L71, 'MDA2'!L71, 'T1'!N71, MAX(T3_R1!M71, T3_R2!M71)))","v":67866.311000000002},{"$f":"IF(AND(COUNTRY_INFO!J71>1,COUNTRY_INFO!J71<4),IF(COUNTRY_INFO!E71>MAX('MDA2'!J71,'T1'!L71,MAX(T3_R1!K71,T3_R2!K71)),MAX('MDA2'!J71,'T1'!L71,MAX(T3_R1!K71,T3_R2!K71)),COUNTRY_INFO!E71),0)","v":0},{"$f":"IF(AND(COUNTRY_INFO!J71>1,COUNTRY_INFO!J71<4), IF(T71/COUNTRY_INFO!E71*100<>0, IF(T71/COUNTRY_INFO!E71*100>100,100,T71/COUNTRY_INFO!E71*100), \"-\"),0)","v":"-"},{"$f":"IF(AND(COUNTRY_INFO!J71>1,COUNTRY_INFO!J71<4),IF(COUNTRY_INFO!F71>MAX('MDA1'!K71,'MDA2'!K71,'T1'!M71,MAX(T3_R1!L71,T3_R2!L71)),MAX('MDA1'!K71,'MDA2'!K71,'T1'!M71,MAX(T3_R1!L71,T3_R2!L71)),COUNTRY_INFO!F71),0)","v":14732},{"$f":"IF(AND(COUNTRY_INFO!J71>1,COUNTRY_INFO!J71<4), IF(V71/COUNTRY_INFO!F71*100<>0, IF(V71/COUNTRY_INFO!F71*100>100,100,V71/COUNTRY_INFO!F71*100), \"-\"),0)","v":96.984858459512836},14732,{"$f":"IF(AND(COUNTRY_INFO!J71>1,COUNTRY_INFO!J71<4), IF(S71/P71*100<>0, IF(X71/P71*100>100,100,X71/P71*100), \"-\"),0)","v":36.517773040503691},{"$f":"COUNTRY_INFO!O71","v":19279.599999999999},null,null,{"$f":"MAX('T1'!L71,'T2'!J71)+MAX('T1'!M71,'T2'!K71)+MAX('T1'!N71,'T2'!L71)","v":0},{"$f":"IF(COUNTRY_INFO!K71=1,IF(COUNTRY_INFO!F71*0.33>MAX('T1'!M71,'T2'!K71),MAX('T1'!M71,'T2'!K71),COUNTRY_INFO!F71*0.33),IF(COUNTRY_INFO!K71=2,IF(COUNTRY_INFO!F71*0.5>MAX('T1'!M71,'T2'!K71),MAX('T1'!M71,'T2'!K71),COUNTRY_INFO!F71*0.5),IF(COUNTRY_INFO!K71=3,IF(COUNTRY_INFO!F71>MAX('T1'!M71,'T2'!K71),MAX('T1'!M71,'T2'!K71),COUNTRY_INFO!F71),0)))","v":0},{"$f":"IF(AND(COUNTRY_INFO!K71>0,COUNTRY_INFO!K71<4),IF(Z71>0,IF(COUNTRY_INFO!K71=1, AD71/(COUNTRY_INFO!F71*0.33)*100, IF(COUNTRY_INFO!K71=2, AD71/(COUNTRY_INFO!F71*0.5)*100, IF(COUNTRY_INFO!K71=3, AD71/COUNTRY_INFO!F71*100))),\"-\"),0)","v":0},{"$f":"IF(COUNTRY_INFO!K71=2,IF(COUNTRY_INFO!G71*0.2>MAX('T1'!N71,'T2'!L71),MAX('T1'!N71,'T2'!L71),COUNTRY_INFO!G71*0.2),IF(COUNTRY_INFO!K71=3,IF(COUNTRY_INFO!G71>MAX('T1'!N71,'T2'!L71),MAX('T1'!N71,'T2'!L71),COUNTRY_INFO!G71),0))","v":0},{"$f":"IF(AND(COUNTRY_INFO!K71>0,COUNTRY_INFO!K71<4),IF(Z71>0,IF(COUNTRY_INFO!K71=1, 0, IF(COUNTRY_INFO!K71=2, AF71/(COUNTRY_INFO!G71*0.2)*100, IF(COUNTRY_INFO!K71=3, AF71/COUNTRY_INFO!G71*100))),\"-\"),0)","v":0},0,{"$f":"IF(AND(COUNTRY_INFO!K71>0,COUNTRY_INFO!K71<4), IF(AC71/Z71*100<>0, IF(AH71/Z71*100>100,100,AH71/Z71*100), \"-\"),0)","v":"-"},null,{"$f":"IF(AND(D71<>0, D71<>\"Unknown\",D71<>\"Stopped\",D71<>\"Not required\"),D71/COUNTRY_INFO!D71, 0)","v":1},{"$f":"IF(AND(J71<>0,J71<>\"Unknown\",J71<>\"Stopped\",J71<>\"Not required\"),J71/COUNTRY_INFO!D71, 0)","v":0},{"$f":"IF(AND(P71<>0,P71<>\"Unknown\",P71<>\"Not required\"),P71/(COUNTRY_INFO!E71+COUNTRY_INFO!F71), 0)","v":1},{"$f":"IF(AND(Z71<>0,Z71<>\"Unknown\",Z71<>\"Not required\"),IF(COUNTRY_INFO!K71=1,1,IF(COUNTRY_INFO!K71=2,0.5*COUNTRY_INFO!F71/(0.5*COUNTRY_INFO!F71+0.2*COUNTRY_INFO!G71),IF(COUNTRY_INFO!K71=3,COUNTRY_INFO!F71/(COUNTRY_INFO!F71+COUNTRY_INFO!G71)))),0)","v":0.39393970829270319},{"$f":"IF(AND(Z71<>0,Z71<>\"Unknown\",Z71<>\"Not required\"),IF(COUNTRY_INFO!K71=1,0,IF(COUNTRY_INFO!K71=2,0.2*COUNTRY_INFO!G71/(0.5*COUNTRY_INFO!F71+0.2*COUNTRY_INFO!G71),IF(COUNTRY_INFO!K71=3,COUNTRY_INFO!G71/(COUNTRY_INFO!F71+COUNTRY_INFO!G71)))),0)","v":0.60606029170729692},{"$f":"MAX(COUNTRY_INFO!D71*AK71*PROFILE!$G$7,COUNTRY_INFO!D71*AL71*PROFILE!$G$7)","v":0},{"$f":"MAX(COUNTRY_INFO!D71*AK71*PROFILE!$G$8,COUNTRY_INFO!D71*AL71*PROFILE!$G$8,COUNTRY_INFO!D71*AM71*PROFILE!$G$8)","v":10965.939351536832},{"$f":"MAX(COUNTRY_INFO!D71*AK71*PROFILE!$G$9,COUNTRY_INFO!D71*AL71*PROFILE!$G$9,COUNTRY_INFO!D71*AM71*PROFILE!$G$9,IF(AND(DISTRICT!Z71<>\"Unknown\",Z71<>\"Not required\"),COUNTRY_INFO!O71*DISTRICT!AN71,0))","v":21508.547035733693},{"$f":"MAX(COUNTRY_INFO!D71*AK71*PROFILE!$G$10,COUNTRY_INFO!D71*AL71*PROFILE!$G$10,IF(AND(DISTRICT!Z71<>\"Unknown\",Z71<>\"Not required\"),COUNTRY_INFO!O71*DISTRICT!AO71,0))","v":66290.517421949073},98765.003809219605,0,{"$f":"MAX('MDA2'!J71,'T1'!L71,'T2'!J71,T3_R1!K71,T3_R2!K71)","v":0},{"$f":"MAX('MDA1'!K71,'MDA2'!K71,'MDA3'!I71,'MDA3'!L71,'T1'!M71,'T2'!K71,T3_R1!L71,T3_R2!L71)","v":14732},{"$f":"MAX('MDA1'!L71,'MDA2'!L71,'MDA3'!J71,'MDA3'!M71,'T1'!N71,'T2'!L71,T3_R1!M71,T3_R2!M71)","v":53134.311000000002},67866.311000000002,{"$f":"MAX('MDA2'!J71,T71)","v":0},{"$f":"MAX('MDA1'!K71,'MDA2'!K71,'MDA3'!I71,'MDA3'!L71,V71,AD71)","v":14732},{"$f":"MAX('MDA1'!L71,'MDA2'!L71,'MDA3'!J71,'MDA3'!M71,AF71)","v":53134.311000000002},67866.311000000002,68.714937865131489]
[{"$f":"IF(COUNTRY_INFO!A72=0,\" \",COUNTRY_INFO!A72)","v":"Tanzania"},{"$f":"IF(COUNTRY_INFO!B72=0,\" \",COUNTRY_INFO!B72)","v":"Lindi"},{"$f":"IF(COUNTRY_INFO!C72=0,\" \",COUNTRY_INFO!C72)","v":"Liwale District Council"},{"$f":"COUNTRY_INFO!L72","v":"Stopped"},null,null,{"$f":"MAX('MDA1'!M72,'MDA2'!M72)","v":0},{"$f":"IF(AND(COUNTRY_INFO!H72>0,COUNTRY_INFO!H72<4),IF(D72>MAX('MDA1'!M72,'MDA2'!M72),MAX('MDA1'!M72,'MDA2'!M72),D72),0)","v":0},{"$f":"IF(AND(COUNTRY_INFO!H72>0,COUNTRY_INFO!H72<4), IF(G72/D72*100<>0, IF(G72/D72*100>100,100,G72/D72*100), \"-\"),0)","v":0},{"$f":"COUNTRY_INFO!M72","v":0},null,null,{"$f":"MAX('MDA1'!M72,MAX('MDA3'!I72,'MDA3'!L72)+MAX('MDA3'!J72,'MDA3'!M72))","v":0},{"$f":"IF(AND(COUNTRY_INFO!I72>0,COUNTRY_INFO!I72<4),IF(J72>MAX('MDA1'!M72,MAX('MDA3'!I72,'MDA3'!L72)+MAX('MDA3'!J72,'MDA3'!M72)),MAX('MDA1'!M72,MAX('MDA3'!I72,'MDA3'!L72)+MAX('MDA3'!J72,'MDA3'!M72)),J72),0)","v":0},{"$f":"IF(AND(COUNTRY_INFO!I72>0,COUNTRY_INFO!I72<4), IF(M72/J72*100<>0, IF(M72/J72*100>100,100,M72/J72*100), \"-\"),0)","v":0},{"$f":"COUNTRY_INFO!N72","v":31748},null,null,{"$f":"SUM(MAX('MDA2'!J72, 'T1'!L72, MAX(T3_R1!K72, T3_R2!K72)), MAX('MDA1'!K72, 'MDA2'!K72, 'T1'!M72, MAX(T3_R1!L72, T3_R2!L72)), MAX('MDA1'!L72, 'MDA2'!L72, 'T1'!N72, MAX(T3_R1!M72, T3_R2!M72)))","v":21058},{"$f":"IF(AND(COUNTRY_INFO!J72>1,COUNTRY_INFO!J72<4),IF(COUNTRY_INFO!E72>MAX('MDA2'!J72,'T1'!L72,MAX(T3_R1!K72,T3_R2!K72)),MAX('MDA2'!J72,'T1'!L72,MAX(T3_R1!K72,T3_R2!K72)),COUNTRY_INFO!E72),0)","v":0},{"$f":"IF(AND(COUNTRY_INFO!J72>1,COUNTRY_INFO!J72<4), IF(T72/COUNTRY_INFO!E72*100<>0, IF(T72/COUNTRY_INFO!E72*100>100,100,T72/COUNTRY_INFO!E72*100), \"-\"),0)","v":"-"},{"$f":"IF(AND(COUNTRY_INFO!J72>1,COUNTRY_INFO!J72<4),IF(COUNTRY_INFO!F72>MAX('MDA1'!K72,'MDA2'!K72,'T1'!M72,MAX(T3_R1!L72,T3_R2!L72)),MAX('MDA1'!K72,'MDA2'!K72,'T1'!M72,MAX(T3_R1!L72,T3_R2!L72)),COUNTRY_INFO!F72),0)","v":21058},{"$f":"IF(AND(COUNTRY_INFO!J72>1,COUNTRY_INFO!J72<4), IF(V72/COUNTRY_INFO!F72*100<>0, IF(V72/COUNTRY_INFO!F72*100>100,100,V72/COUNTRY_INFO!F72*100), \"-\"),0)","v":86.565814355011099},21058,{"$f":"IF(AND(COUNTRY_INFO!J72>1,COUNTRY_INFO!J72<4), IF(S72/P72*100<>0, IF(X72/P72*100>100,100,X72/P72*100), \"-\"),0)","v":66.328587627567089},{"$f":"COUNTRY_INFO!O72","v":25098.800000000003},null,null,{"$f":"MAX('T1'!L72,'T2'!J72)+MAX('T1'!M72,'T2'!K72)+MAX('T1'!N72,'T2'!L72)","v":0},{"$f":"IF(COUNTRY_INFO!K72=1,IF(COUNTRY_INFO!F72*0.33>MAX('T1'!M72,'T2'!K72),MAX('T1'!M72,'T2'!K72),COUNTRY_INFO!F72*0.33),IF(COUNTRY_INFO!K72=2,IF(COUNTRY_INFO!F72*0.5>MAX('T1'!M72,'T2'!K72),MAX('T1'!M72,'T2'!K72),COUNTRY_INFO!F72*0.5),IF(COUNTRY_INFO!K72=3,IF(COUNTRY_INFO!F72>MAX('T1'!M72,'T2'!K72),MAX('T1'!M72,'T2'!K72),COUNTRY_INFO!F72),0)))","v":0},{"$f":"IF(AND(COUNTRY_INFO!K72>0,COUNTRY_INFO!K72<4),IF(Z72>0,IF(COUNTRY_INFO!K72=1, AD72/(COUNTRY_INFO!F72*0.33)*100, IF(COUNTRY_INFO!K72=2, AD72/(COUNTRY_INFO!F72*0.5)*100, IF(COUNTRY_INFO!K72=3, AD72/COUNTRY_INFO!F72*100))),\"-\"),0)","v":0},{"$f":"IF(COUNTRY_INFO!K72=2,IF(COUNTRY_INFO!G72*0.2>MAX('T1'!N72,'T2'!L72),MAX('T1'!N72,'T2'!L72),COUNTRY_INFO!G72*0.2),IF(COUNTRY_INFO!K72=3,IF(COUNTRY_INFO!G72>MAX('T1'!N72,'T2'!L72),MAX('T1'!N72,'T2'!L72),COUNTRY_INFO!G72),0))","v":0},{"$f":"IF(AND(COUNTRY_INFO!K72>0,COUNTRY_INFO!K72<4),IF(Z72>0,IF(COUNTRY_INFO!K72=1, 0, IF(COUNTRY_INFO!K72=2, AF72/(COUNTRY_INFO!G72*0.2)*100, IF(COUNTRY_INFO!K72=3, AF72/COUNTRY_INFO!G72*100))),\"-\"),0)","v":0},0,{"$f":"IF(AND(COUNTRY_INFO!K72>0,COUNTRY_INFO!K72<4), IF(AC72/Z72*100<>0, IF(AH72/Z72*100>100,100,AH72/Z72*100), \"-\"),0)","v":"-"},null,{"$f":"IF(AND(D72<>0, D72<>\"Unknown\",D72<>\"Stopped\",D72<>\"Not required\"),D72/COUNTRY_INFO!D72, 0)","v":0},{"$f":"IF(AND(J72<>0,J72<>\"Unknown\",J72<>\"Stopped\",J72<>\"Not required\"),J72/COUNTRY_INFO!D72, 0)","v":0},{"$f":"IF(AND(P72<>0,P72<>\"Unknown\",P72<>\"Not required\"),P72/(COUNTRY_INFO!E72+COUNTRY_INFO!F72), 0)","v":1},{"$f":"IF(AND(Z72<>0,Z72<>\"Unknown\",Z72<>\"Not required\"),IF(COUNTRY_INFO!K72=1,1,IF(COUNTRY_INFO!K72=2,0.5*COUNTRY_INFO!F72/(0.5*COUNTRY_INFO!F72+0.2*COUNTRY_INFO!G72),IF(COUNTRY_INFO!K72=3,COUNTRY_INFO!F72/(COUNTRY_INFO!F72+COUNTRY_INFO!G72)))),0)","v":0.48460484166573697},{"$f":"IF(AND(Z72<>0,Z72<>\"Unknown\",Z72<>\"Not required\"),IF(COUNTRY_INFO!K72=1,0,IF(COUNTRY_INFO!K72=2,0.2*COUNTRY_INFO!G72/(0.5*COUNTRY_INFO!F72+0.2*COUNTRY_INFO!G72),IF(COUNTRY_INFO!K72=3,COUNTRY_INFO!G72/(COUNTRY_INFO!F72+COUNTRY_INFO!G72)))),0)","v":0.51539515833426297},{"$f":"MAX(COUNTRY_INFO!D72*AK72*PROFILE!$G$7,COUNTRY_INFO!D72*AL72*PROFILE!$G$7)","v":0},{"$f":"MAX(COUNTRY_INFO!D72*AK72*PROFILE!$G$8,COUNTRY_INFO!D72*AL72*PROFILE!$G$8,COUNTRY_INFO!D72*AM72*PROFILE!$G$8)","v":10706.349758017943},{"$f":"MAX(COUNTRY_INFO!D72*AK72*PROFILE!$G$9,COUNTRY_INFO!D72*AL72*PROFILE!$G$9,COUNTRY_INFO!D72*AM72*PROFILE!$G$9,IF(AND(DISTRICT!Z72<>\"Unknown\",Z72<>\"Not required\"),COUNTRY_INFO!O72*DISTRICT!AN72,0))","v":20999.389105601102},{"$f":"MAX(COUNTRY_INFO!D72*AK72*PROFILE!$G$10,COUNTRY_INFO!D72*AL72*PROFILE!$G$10,IF(AND(DISTRICT!Z72<>\"Unknown\",Z72<>\"Not required\"),COUNTRY_INFO!O72*DISTRICT!AO72,0))","v":12935.800000000001},44641.538863619047,0,{"$f":"MAX('MDA2'!J72,'T1'!L72,'T2'!J72,T3_R1!K72,T3_R2!K72)","v":0},{"$f":"MAX('MDA1'!K72,'MDA2'!K72,'MDA3'!I72,'MDA3'!L72,'T1'!M72,'T2'!K72,T3_R1!L72,T3_R2!L72)","v":21058},{"$f":"MAX('MDA1'!L72,'MDA2'!L72,'MDA3'!J72,'MDA3'!M72,'T1'!N72,'T2'!L72,T3_R1!M72,T3_R2!M72)","v":0},21058,{"$f":"MAX('MDA2'!J72,T72)","v":0},{"$f":"MAX('MDA1'!K72,'MDA2'!K72,'MDA3'!I72,'MDA3'!L72,V72,AD72)","v":21058},{"$f":"MAX('MDA1'!L72,'MDA2'!L72,'MDA3'!J72,'MDA3'!M72,AF72)","v":0},21058,47.171312943159698]
[{"$f":"IF(COUNTRY_INFO!A73=0,\" \",COUNTRY_INFO!A73)","v":"Tanzania"},{"$f":"IF(COUNTRY_INFO!B73=0,\" \",COUNTRY_INFO!B73)","v":"Lindi"},{"$f":"IF(COUNTRY_INFO!C73=0,\" \",COUNTRY_INFO!C73)","v":"Nachingwea District Council"},{"$f":"COUNTRY_INFO!L73","v":195988},null,null,{"$f":"MAX('MDA1'!M73,'MDA2'!M73)","v":137841},{"$f":"IF(AND(COUNTRY_INFO!H73>0,COUNTRY_INFO!H73<4),IF(D73>MAX('MDA1'!M73,'MDA2'!M73),MAX('MDA1'!M73,'MDA2'!M73),D73),0)","v":137841},{"$f":"IF(AND(COUNTRY_INFO!H73>0,COUNTRY_INFO!H73<4), IF(G73/D73*100<>0, IF(G73/D73*100>100,100,G73/D73*100), \"-\"),0)","v":70.331346817152081},{"$f":"COUNTRY_INFO!M73","v":0},null,null,{"$f":"MAX('MDA1'!M73,MAX('MDA3'!I73,'MDA3'!L73)+MAX('MDA3'!J73,'MDA3'!M73))","v":137841},{"$f":"IF(AND(COUNTRY_INFO!I73>0,COUNTRY_INFO!I73<4),IF(J73>MAX('MDA1'!M73,MAX('MDA3'!I73,'MDA3'!L73)+MAX('MDA3'!J73,'MDA3'!M73)),MAX('MDA1'!M73,MAX('MDA3'!I73,'MDA3'!L73)+MAX('MDA3'!J73,'MDA3'!M73)),J73),0)","v":0},{"$f":"IF(AND(COUNTRY_INFO!I73>0,COUNTRY_INFO!I73<4), IF(M73/J73*100<>0, IF(M73/J73*100>100,100,M73/J73*100), \"-\"),0)","v":0},{"$f":"COUNTRY_INFO!N73","v":66023},null,null,{"$f":"SUM(MAX('MDA2'!J73, 'T1'!L73, MAX(T3_R1!K73, T3_R2!K73)), MAX('MDA1'!K73, 'MDA2'!K73, 'T1'!M73, MAX(T3_R1!L73, T3_R2!L73)), MAX('MDA1'!L73, 'MDA2'!L73, 'T1'!N73, MAX(T3_R1!M73, T3_R2!M73)))","v":140620.36900000001},{"$f":"IF(AND(COUNTRY_INFO!J73>1,COUNTRY_INFO!J73<4),IF(COUNTRY_INFO!E73>MAX('MDA2'!J73,'T1'!L73,MAX(T3_R1!K73,T3_R2!K73)),MAX('MDA2'!J73,'T1'!L73,MAX(T3_R1!K73,T3_R2!K73)),COUNTRY_INFO!E73),0)","v":0},{"$f":"IF(AND(COUNTRY_INFO!J73>1,COUNTRY_INFO!J73<4), IF(T73/COUNTRY_INFO!E73*100<>0, IF(T73/COUNTRY_INFO!E73*100>100,100,T73/COUNTRY_INFO!E73*100), \"-\"),0)","v":"-"},{"$f":"IF(AND(COUNTRY_INFO!J73>1,COUNTRY_INFO!J73<4),IF(COUNTRY_INFO!F73>MAX('MDA1'!K73,'MDA2'!K73,'T1'!M73,MAX(T3_R1!L73,T3_R2!L73)),MAX('MDA1'!K73,'MDA2'!K73,'T1'!M73,MAX(T3_R1!L73,T3_R2!L73)),COUNTRY_INFO!F73),0)","v":29107},{"$f":"IF(AND(COUNTRY_INFO!J73>1,COUNTRY_INFO!J73<4), IF(V73/COUNTRY_INFO!F73*100<>0, IF(V73/COUNTRY_INFO!F73*100>100,100,V73/COUNTRY_INFO!F73*100), \"-\"),0)","v":85.452997475192291},29107,{"$f":"IF(AND(COUNTRY_INFO!J73>1,COUNTRY_INFO!J73<4), IF(S73/P73*100<>0, IF(X73/P73*100>100,100,X73/P73*100), \"-\"),0)","v":44.086151795586389},{"$f":"COUNTRY_INFO!O73","v":164027},null,null,{"$f":"MAX('T1'!L73,'T2'!J73)+MAX('T1'!M73,'T2'!K73)+MAX('T1'!N73,'T2'!L73)","v":29107},{"$f":"IF(COUNTRY_INFO!K73=1,IF(COUNTRY_INFO!F73*0.33>MAX('T1'!M73,'T2'!K73),MAX('T1'!M73,'T2'!K73),COUNTRY_INFO!F73*0.33),IF(COUNTRY_INFO!K73=2,IF(COUNTRY_INFO!F73*0.5>MAX('T1'!M73,'T2'!K73),MAX('T1'!M73,'T2'!K73),COUNTRY_INFO!F73*0.5),IF(COUNTRY_INFO!K73=3,IF(COUNTRY_INFO!F73>MAX('T1'!M73,'T2'!K73),MAX('T1'!M73,'T2'!K73),COUNTRY_INFO!F73),0)))","v":29107},{"$f":"IF(AND(COUNTRY_INFO!K73>0,COUNTRY_INFO!K73<4),IF(Z73>0,IF(COUNTRY_INFO!K73=1, AD73/(COUNTRY_INFO!F73*0.33)*100, IF(COUNTRY_INFO!K73=2, AD73/(COUNTRY_INFO!F73*0.5)*100, IF(COUNTRY_INFO!K73=3, AD73/COUNTRY_INFO!F73*100))),\"-\"),0)","v":85.452997475192291},{"$f":"IF(COUNTRY_INFO!K73=2,IF(COUNTRY_INFO!G73*0.2>MAX('T1'!N73,'T2'!L73),MAX('T1'!N73,'T2'!L73),COUNTRY_INFO!G73*0.2),IF(COUNTRY_INFO!K73=3,IF(COUNTRY_INFO!G73>MAX('T1'!N73,'T2'!L73),MAX('T1'!N73,'T2'!L73),COUNTRY_INFO!G73),0))","v":0},{"$f":"IF(AND(COUNTRY_INFO!K73>0,COUNTRY_INFO!K73<4),IF(Z73>0,IF(COUNTRY_INFO!K73=1, 0, IF(COUNTRY_INFO!K73=2, AF73/(COUNTRY_INFO!G73*0.2)*100, IF(COUNTRY_INFO!K73=3, AF73/COUNTRY_INFO!G73*100))),\"-\"),0)","v":0},29107,{"$f":"IF(AND(COUNTRY_INFO!K73>0,COUNTRY_INFO!K73<4), IF(AC73/Z73*100<>0, IF(AH73/Z73*100>100,100,AH73/Z73*100), \"-\"),0)","v":17.745249257744153},null,{"$f":"IF(AND(D73<>0, D73<>\"Unknown\",D73<>\"Stopped\",D73<>\"Not required\"),D73/COUNTRY_INFO!D73, 0)","v":1},{"$f":"IF(AND(J73<>0,J73<>\"Unknown\",J73<>\"Stopped\",J73<>\"Not required\"),J73/COUNTRY_INFO!D73, 0)","v":0},{"$f":"IF(AND(P73<>0,P73<>\"Unknown\",P73<>\"Not required\"),P73/(COUNTRY_INFO!E73+COUNTRY_INFO!F73), 0)","v":1},{"$f":"IF(AND(Z73<>0,Z73<>\"Unknown\",Z73<>\"Not required\"),IF(COUNTRY_INFO!K73=1,1,IF(COUNTRY_INFO!K73=2,0.5*COUNTRY_INFO!F73/(0.5*COUNTRY_INFO!F73+0.2*COUNTRY_INFO!G73),IF(COUNTRY_INFO!K73=3,COUNTRY_INFO!F73/(COUNTRY_INFO!F73+COUNTRY_INFO!G73)))),0)","v":0.20766093387064324},{"$f":"IF(AND(Z73<>0,Z73<>\"Unknown\",Z73<>\"Not required\"),IF(COUNTRY_INFO!K73=1,0,IF(COUNTRY_INFO!K73=2,0.2*COUNTRY_INFO!G73/(0.5*COUNTRY_INFO!F73+0.2*COUNTRY_INFO!G73),IF(COUNTRY_INFO!K73=3,COUNTRY_INFO!G73/(COUNTRY_INFO!F73+COUNTRY_INFO!G73)))),0)","v":0.79233906612935678},{"$f":"MAX(COUNTRY_INFO!D73*AK73*PROFILE!$G$7,COUNTRY_INFO!D73*AL73*PROFILE!$G$7)","v":0},{"$f":"MAX(COUNTRY_INFO!D73*AK73*PROFILE!$G$8,COUNTRY_INFO!D73*AL73*PROFILE!$G$8,COUNTRY_INFO!D73*AM73*PROFILE!$G$8)","v":21760.669484422626},{"$f":"MAX(COUNTRY_INFO!D73*AK73*PROFILE!$G$9,COUNTRY_INFO!D73*AL73*PROFILE!$G$9,COUNTRY_INFO!D73*AM73*PROFILE!$G$9,IF(AND(DISTRICT!Z73<>\"Unknown\",Z73<>\"Not required\"),COUNTRY_INFO!O73*DISTRICT!AN73,0))","v":42681.285034570697},{"$f":"MAX(COUNTRY_INFO!D73*AK73*PROFILE!$G$10,COUNTRY_INFO!D73*AL73*PROFILE!$G$10,IF(AND(DISTRICT!Z73<>\"Unknown\",Z73<>\"Not required\"),COUNTRY_INFO!O73*DISTRICT!AO73,0))","v":131546.05303997322},195988.00755896655,{"$f":"IF(COUNTIFS(AK73:AN73,\">0\")=0,0, IF(COUNTIFS(AK73:AN73,\">0\")<=IF(AND(OR(D73>=0,D73=\"Not required\",D73=\"Unknown\",D73=\"Stopped\"),D73>0,H73>0),1,0)+IF(AND(OR(J73>=0,J73=\"Not required\",J73=\"Unknown\",J73=\"Stopped\"),J73>0,N73>0),1,0)+IF(AND(OR(P73>=0,P73=\"Not required\",P73=\"Unknown\"),P73>0,X73>0),1,0)+IF(AND(OR(Z73>=0,Z73=\"Not required\",Z73=\"Unknown\"),Z73>0,AH73>0),1,0),\"Y\",0))","v":"Y"},{"$f":"MAX('MDA2'!J73,'T1'!L73,'T2'!J73,T3_R1!K73,T3_R2!K73)","v":0},{"$f":"MAX('MDA1'!K73,'MDA2'!K73,'MDA3'!I73,'MDA3'!L73,'T1'!M73,'T2'!K73,T3_R1!L73,T3_R2!L73)","v":29107},{"$f":"MAX('MDA1'!L73,'MDA2'!L73,'MDA3'!J73,'MDA3'!M73,'T1'!N73,'T2'!L73,T3_R1!M73,T3_R2!M73)","v":111513.36900000001},140620.36900000001,{"$f":"MAX('MDA2'!J73,T73)","v":0},{"$f":"MAX('MDA1'!K73,'MDA2'!K73,'MDA3'!I73,'MDA3'!L73,V73,AD73)","v":29107},{"$f":"MAX('MDA1'!L73,'MDA2'!L73,'MDA3'!J73,'MDA3'!M73,AF73)","v":111513.36900000001},{"$f":"IF(AT73<SUM(AZ73:BB73), AT73,SUM(AZ73:BB73))","v":140620.36900000001},{"$f":"IF(AT73<>0,BC73/AT73*100,0)","v":71.74947628246683}]
[{"$f":"IF(COUNTRY_INFO!A74=0,\" \",COUNTRY_INFO!A74)","v":"Tanzania"},{"$f":"IF(COUNTRY_INFO!B74=0,\" \",COUNTRY_INFO!B74)","v":"Lindi"},{"$f":"IF(COUNTRY_INFO!C74=0,\" \",COUNTRY_INFO!C74)","v":"Ruangwa District Council"},{"$f":"COUNTRY_INFO!L74","v":138320},null,null,{"$f":"MAX('MDA1'!M74,'MDA2'!M74)","v":105104},{"$f":"IF(AND(COUNTRY_INFO!H74>0,COUNTRY_INFO!H74<4),IF(D74>MAX('MDA1'!M74,'MDA2'!M74),MAX('MDA1'!M74,'MDA2'!M74),D74),0)","v":105104},{"$f":"IF(AND(COUNTRY_INFO!H74>0,COUNTRY_INFO!H74<4), IF(G74/D74*100<>0, IF(G74/D74*100>100,100,G74/D74*100), \"-\"),0)","v":75.986119144013884},{"$f":"COUNTRY_INFO!M74","v":0},null,null,{"$f":"MAX('MDA1'!M74,MAX('MDA3'!I74,'MDA3'!L74)+MAX('MDA3'!J74,'MDA3'!M74))","v":105104},{"$f":"IF(AND(COUNTRY_INFO!I74>0,COUNTRY_INFO!I74<4),IF(J74>MAX('MDA1'!M74,MAX('MDA3'!I74,'MDA3'!L74)+MAX('MDA3'!J74,'MDA3'!M74)),MAX('MDA1'!M74,MAX('MDA3'!I74,'MDA3'!L74)+MAX('MDA3'!J74,'MDA3'!M74)),J74),0)","v":0},{"$f":"IF(AND(COUNTRY_INFO!I74>0,COUNTRY_INFO!I74<4), IF(M74/J74*100<>0, IF(M74/J74*100>100,100,M74/J74*100), \"-\"),0)","v":0},{"$f":"COUNTRY_INFO!N74","v":42303},null,null,{"$f":"SUM(MAX('MDA2'!J74, 'T1'!L74, MAX(T3_R1!K74, T3_R2!K74)), MAX('MDA1'!K74, 'MDA2'!K74, 'T1'!M74, MAX(T3_R1!L74, T3_R2!L74)), MAX('MDA1'!L74, 'MDA2'!L74, 'T1'!N74, MAX(T3_R1!M74, T3_R2!M74)))","v":109511.136},{"$f":"IF(AND(COUNTRY_INFO!J74>1,COUNTRY_INFO!J74<4),IF(COUNTRY_INFO!E74>MAX('MDA2'!J74,'T1'!L74,MAX(T3_R1!K74,T3_R2!K74)),MAX('MDA2'!J74,'T1'!L74,MAX(T3_R1!K74,T3_R2!K74)),COUNTRY_INFO!E74),0)","v":0},{"$f":"IF(AND(COUNTRY_INFO!J74>1,COUNTRY_INFO!J74<4), IF(T74/COUNTRY_INFO!E74*100<>0, IF(T74/COUNTRY_INFO!E74*100>100,100,T74/COUNTRY_INFO!E74*100), \"-\"),0)","v":"-"},{"$f":"IF(AND(COUNTRY_INFO!J74>1,COUNTRY_INFO!J74<4),IF(COUNTRY_INFO!F74>MAX('MDA1'!K74,'MDA2'!K74,'T1'!M74,MAX(T3_R1!L74,T3_R2!L74)),MAX('MDA1'!K74,'MDA2'!K74,'T1'!M74,MAX(T3_R1!L74,T3_R2!L74)),COUNTRY_INFO!F74),0)","v":24482},{"$f":"IF(AND(COUNTRY_INFO!J74>1,COUNTRY_INFO!J74<4), IF(V74/COUNTRY_INFO!F74*100<>0, IF(V74/COUNTRY_INFO!F74*100>100,100,V74/COUNTRY_INFO!F74*100), \"-\"),0)","v":86.735633812796706},{"$f":"SUM(T74,V74)","v":24482},{"$f":"IF(AND(COUNTRY_INFO!J74>1,COUNTRY_INFO!J74<4), IF(S74/P74*100<>0, IF(X74/P74*100>100,100,X74/P74*100), \"-\"),0)","v":57.872964092381153},{"$f":"COUNTRY_INFO!O74","v":124243},null,null,{"$f":"MAX('T1'!L74,'T2'!J74)+MAX('T1'!M74,'T2'!K74)+MAX('T1'!N74,'T2'!L74)","v":24482},{"$f":"IF(COUNTRY_INFO!K74=1,IF(COUNTRY_INFO!F74*0.33>MAX('T1'!M74,'T2'!K74),MAX('T1'!M74,'T2'!K74),COUNTRY_INFO!F74*0.33),IF(COUNTRY_INFO!K74=2,IF(COUNTRY_INFO!F74*0.5>MAX('T1'!M74,'T2'!K74),MAX('T1'!M74,'T2'!K74),COUNTRY_INFO!F74*0.5),IF(COUNTRY_INFO!K74=3,IF(COUNTRY_INFO!F74>MAX('T1'!M74,'T2'!K74),MAX('T1'!M74,'T2'!K74),COUNTRY_INFO!F74),0)))","v":24482},{"$f":"IF(AND(COUNTRY_INFO!K74>0,COUNTRY_INFO!K74<4),IF(Z74>0,IF(COUNTRY_INFO!K74=1, AD74/(COUNTRY_INFO!F74*0.33)*100, IF(COUNTRY_INFO!K74=2, AD74/(COUNTRY_INFO!F74*0.5)*100, IF(COUNTRY_INFO!K74=3, AD74/COUNTRY_INFO!F74*100))),\"-\"),0)","v":86.735633812796706},{"$f":"IF(COUNTRY_INFO!K74=2,IF(COUNTRY_INFO!G74*0.2>MAX('T1'!N74,'T2'!L74),MAX('T1'!N74,'T2'!L74),COUNTRY_INFO!G74*0.2),IF(COUNTRY_INFO!K74=3,IF(COUNTRY_INFO!G74>MAX('T1'!N74,'T2'!L74),MAX('T1'!N74,'T2'!L74),COUNTRY_INFO!G74),0))","v":0},{"$f":"IF(AND(COUNTRY_INFO!K74>0,COUNTRY_INFO!K74<4),IF(Z74>0,IF(COUNTRY_INFO!K74=1, 0, IF(COUNTRY_INFO!K74=2, AF74/(COUNTRY_INFO!G74*0.2)*100, IF(COUNTRY_INFO!K74=3, AF74/COUNTRY_INFO!G74*100))),\"-\"),0)","v":0},{"$f":"SUM(AD74,AF74)","v":24482},{"$f":"IF(AND(COUNTRY_INFO!K74>0,COUNTRY_INFO!K74<4), IF(AC74/Z74*100<>0, IF(AH74/Z74*100>100,100,AH74/Z74*100), \"-\"),0)","v":19.704933074700385},null,{"$f":"IF(AND(D74<>0, D74<>\"Unknown\",D74<>\"Stopped\",D74<>\"Not required\"),D74/COUNTRY_INFO!D74, 0)","v":1},{"$f":"IF(AND(J74<>0,J74<>\"Unknown\",J74<>\"Stopped\",J74<>\"Not required\"),J74/COUNTRY_INFO!D74, 0)","v":0},{"$f":"IF(AND(P74<>0,P74<>\"Unknown\",P74<>\"Not required\"),P74/(COUNTRY_INFO!E74+COUNTRY_INFO!F74), 0)","v":1},{"$f":"IF(AND(Z74<>0,Z74<>\"Unknown\",Z74<>\"Not required\"),IF(COUNTRY_INFO!K74=1,1,IF(COUNTRY_INFO!K74=2,0.5*COUNTRY_INFO!F74/(0.5*COUNTRY_INFO!F74+0.2*COUNTRY_INFO!G74),IF(COUNTRY_INFO!K74=3,COUNTRY_INFO!F74/(COUNTRY_INFO!F74+COUNTRY_INFO!G74)))),0)","v":0.22718382524568789},{"$f":"IF(AND(Z74<>0,Z74<>\"Unknown\",Z74<>\"Not required\"),IF(COUNTRY_INFO!K74=1,0,IF(COUNTRY_INFO!K74=2,0.2*COUNTRY_INFO!G74/(0.5*COUNTRY_INFO!F74+0.2*COUNTRY_INFO!G74),IF(COUNTRY_INFO!K74=3,COUNTRY_INFO!G74/(COUNTRY_INFO!F74+COUNTRY_INFO!G74)))),0)","v":0.77281617475431208},{"$f":"MAX(COUNTRY_INFO!D74*AK74*PROFILE!$G$7,COUNTRY_INFO!D74*AL74*PROFILE!$G$7)","v":0},{"$f":"MAX(COUNTRY_INFO!D74*AK74*PROFILE!$G$8,COUNTRY_INFO!D74*AL74*PROFILE!$G$8,COUNTRY_INFO!D74*AM74*PROFILE!$G$8)","v":15357.755592614536},{"$f":"MAX(COUNTRY_INFO!D74*AK74*PROFILE!$G$9,COUNTRY_INFO!D74*AL74*PROFILE!$G$9,COUNTRY_INFO!D74*AM74*PROFILE!$G$9,IF(AND(DISTRICT!Z74<>\"Unknown\",Z74<>\"Not required\"),COUNTRY_INFO!O74*DISTRICT!AN74,0))","v":30122.636824610789},{"$f":"MAX(COUNTRY_INFO!D74*AK74*PROFILE!$G$10,COUNTRY_INFO!D74*AL74*PROFILE!$G$10,IF(AND(DISTRICT!Z74<>\"Unknown\",Z74<>\"Not required\"),COUNTRY_INFO!O74*DISTRICT!AO74,0))","v":96017},{"$f":"SUM(AP74:AS74)","v":141497.39241722532},"Y",{"$f":"MAX('MDA2'!J74,'T1'!L74,'T2'!J74,T3_R1!K74,T3_R2!K74)","v":0},{"$f":"MAX('MDA1'!K74,'MDA2'!K74,'MDA3'!I74,'MDA3'!L74,'T1'!M74,'T2'!K74,T3_R1!L74,T3_R2!L74)","v":24482},{"$f":"MAX('MDA1'!L74,'MDA2'!L74,'MDA3'!J74,'MDA3'!M74,'T1'!N74,'T2'!L74,T3_R1!M74,T3_R2!M74)","v":85029.135999999999},{"$f":"SUM(AV74:AX74)","v":109511.136},{"$f":"MAX('MDA2'!J74,T74)","v":0},{"$f":"MAX('MDA1'!K74,'MDA2'!K74,'MDA3'!I74,'MDA3'!L74,V74,AD74)","v":24482},{"$f":"MAX('MDA1'!L74,'MDA2'!L74,'MDA3'!J74,'MDA3'!M74,AF74)","v":85029.135999999999},109511.136,77.39445521164852]
[{"$f":"IF(COUNTRY_INFO!A75=0,\" \",COUNTRY_INFO!A75)","v":"Tanzania"},{"$f":"IF(COUNTRY_INFO!B75=0,\" \",COUNTRY_INFO!B75)","v":"Manyara"},{"$f":"IF(COUNTRY_INFO!C75=0,\" \",COUNTRY_INFO!C75)","v":"Babati District Council"},{"$f":"COUNTRY_INFO!L75","v":"Stopped"},null,null,{"$f":"MAX('MDA1'!M75,'MDA2'!M75)","v":0},{"$f":"IF(AND(COUNTRY_INFO!H75>0,COUNTRY_INFO!H75<4),IF(D75>MAX('MDA1'!M75,'MDA2'!M75),MAX('MDA1'!M75,'MDA2'!M75),D75),0)","v":0},{"$f":"IF(AND(COUNTRY_INFO!H75>0,COUNTRY_INFO!H75<4), IF(G75/D75*100<>0, IF(G75/D75*100>100,100,G75/D75*100), \"-\"),0)","v":0},{"$f":"COUNTRY_INFO!M75","v":0},null,null,{"$f":"MAX('MDA1'!M75,MAX('MDA3'!I75,'MDA3'!L75)+MAX('MDA3'!J75,'MDA3'!M75))","v":0},{"$f":"IF(AND(COUNTRY_INFO!I75>0,COUNTRY_INFO!I75<4),IF(J75>MAX('MDA1'!M75,MAX('MDA3'!I75,'MDA3'!L75)+MAX('MDA3'!J75,'MDA3'!M75)),MAX('MDA1'!M75,MAX('MDA3'!I75,'MDA3'!L75)+MAX('MDA3'!J75,'MDA3'!M75)),J75),0)","v":0},{"$f":"IF(AND(COUNTRY_INFO!I75>0,COUNTRY_INFO!I75<4), IF(M75/J75*100<>0, IF(M75/J75*100>100,100,M75/J75*100), \"-\"),0)","v":0},{"$f":"COUNTRY_INFO!N75","v":125953},null,null,{"$f":"SUM(MAX('MDA2'!J75, 'T1'!L75, MAX(T3_R1!K75, T3_R2!K75)), MAX('MDA1'!K75, 'MDA2'!K75, 'T1'!M75, MAX(T3_R1!L75, T3_R2!L75)), MAX('MDA1'!L75, 'MDA2'!L75, 'T1'!N75, MAX(T3_R1!M75, T3_R2!M75)))","v":83510},{"$f":"IF(AND(COUNTRY_INFO!J75>1,COUNTRY_INFO!J75<4),IF(COUNTRY_INFO!E75>MAX('MDA2'!J75,'T1'!L75,MAX(T3_R1!K75,T3_R2!K75)),MAX('MDA2'!J75,'T1'!L75,MAX(T3_R1!K75,T3_R2!K75)),COUNTRY_INFO!E75),0)","v":0},{"$f":"IF(AND(COUNTRY_INFO!J75>1,COUNTRY_INFO!J75<4), IF(T75/COUNTRY_INFO!E75*100<>0, IF(T75/COUNTRY_INFO!E75*100>100,100,T75/COUNTRY_INFO!E75*100), \"-\"),0)","v":"-"},{"$f":"IF(AND(COUNTRY_INFO!J75>1,COUNTRY_INFO!J75<4),IF(COUNTRY_INFO!F75>MAX('MDA1'!K75,'MDA2'!K75,'T1'!M75,MAX(T3_R1!L75,T3_R2!L75)),MAX('MDA1'!K75,'MDA2'!K75,'T1'!M75,MAX(T3_R1!L75,T3_R2!L75)),COUNTRY_INFO!F75),0)","v":83510},{"$f":"IF(AND(COUNTRY_INFO!J75>1,COUNTRY_INFO!J75<4), IF(V75/COUNTRY_INFO!F75*100<>0, IF(V75/COUNTRY_INFO!F75*100>100,100,V75/COUNTRY_INFO!F75*100), \"-\"),0)","v":98.937291930764033},83510,{"$f":"IF(AND(COUNTRY_INFO!J75>1,COUNTRY_INFO!J75<4), IF(S75/P75*100<>0, IF(X75/P75*100>100,100,X75/P75*100), \"-\"),0)","v":66.302509666304104},{"$f":"COUNTRY_INFO!O75","v":92488.700000000012},null,null,{"$f":"MAX('T1'!L75,'T2'!J75)+MAX('T1'!M75,'T2'!K75)+MAX('T1'!N75,'T2'!L75)","v":0},{"$f":"IF(COUNTRY_INFO!K75=1,IF(COUNTRY_INFO!F75*0.33>MAX('T1'!M75,'T2'!K75),MAX('T1'!M75,'T2'!K75),COUNTRY_INFO!F75*0.33),IF(COUNTRY_INFO!K75=2,IF(COUNTRY_INFO!F75*0.5>MAX('T1'!M75,'T2'!K75),MAX('T1'!M75,'T2'!K75),COUNTRY_INFO!F75*0.5),IF(COUNTRY_INFO!K75=3,IF(COUNTRY_INFO!F75>MAX('T1'!M75,'T2'!K75),MAX('T1'!M75,'T2'!K75),COUNTRY_INFO!F75),0)))","v":0},{"$f":"IF(AND(COUNTRY_INFO!K75>0,COUNTRY_INFO!K75<4),IF(Z75>0,IF(COUNTRY_INFO!K75=1, AD75/(COUNTRY_INFO!F75*0.33)*100, IF(COUNTRY_INFO!K75=2, AD75/(COUNTRY_INFO!F75*0.5)*100, IF(COUNTRY_INFO!K75=3, AD75/COUNTRY_INFO!F75*100))),\"-\"),0)","v":0},{"$f":"IF(COUNTRY_INFO!K75=2,IF(COUNTRY_INFO!G75*0.2>MAX('T1'!N75,'T2'!L75),MAX('T1'!N75,'T2'!L75),COUNTRY_INFO!G75*0.2),IF(COUNTRY_INFO!K75=3,IF(COUNTRY_INFO!G75>MAX('T1'!N75,'T2'!L75),MAX('T1'!N75,'T2'!L75),COUNTRY_INFO!G75),0))","v":0},{"$f":"IF(AND(COUNTRY_INFO!K75>0,COUNTRY_INFO!K75<4),IF(Z75>0,IF(COUNTRY_INFO!K75=1, 0, IF(COUNTRY_INFO!K75=2, AF75/(COUNTRY_INFO!G75*0.2)*100, IF(COUNTRY_INFO!K75=3, AF75/COUNTRY_INFO!G75*100))),\"-\"),0)","v":0},0,{"$f":"IF(AND(COUNTRY_INFO!K75>0,COUNTRY_INFO!K75<4), IF(AC75/Z75*100<>0, IF(AH75/Z75*100>100,100,AH75/Z75*100), \"-\"),0)","v":"-"},null,{"$f":"IF(AND(D75<>0, D75<>\"Unknown\",D75<>\"Stopped\",D75<>\"Not required\"),D75/COUNTRY_INFO!D75, 0)","v":0},{"$f":"IF(AND(J75<>0,J75<>\"Unknown\",J75<>\"Stopped\",J75<>\"Not required\"),J75/COUNTRY_INFO!D75, 0)","v":0},{"$f":"IF(AND(P75<>0,P75<>\"Unknown\",P75<>\"Not required\"),P75/(COUNTRY_INFO!E75+COUNTRY_INFO!F75), 0)","v":1},{"$f":"IF(AND(Z75<>0,Z75<>\"Unknown\",Z75<>\"Not required\"),IF(COUNTRY_INFO!K75=1,1,IF(COUNTRY_INFO!K75=2,0.5*COUNTRY_INFO!F75/(0.5*COUNTRY_INFO!F75+0.2*COUNTRY_INFO!G75),IF(COUNTRY_INFO!K75=3,COUNTRY_INFO!F75/(COUNTRY_INFO!F75+COUNTRY_INFO!G75)))),0)","v":0.45630979784557457},{"$f":"IF(AND(Z75<>0,Z75<>\"Unknown\",Z75<>\"Not required\"),IF(COUNTRY_INFO!K75=1,0,IF(COUNTRY_INFO!K75=2,0.2*COUNTRY_INFO!G75/(0.5*COUNTRY_INFO!F75+0.2*COUNTRY_INFO!G75),IF(COUNTRY_INFO!K75=3,COUNTRY_INFO!G75/(COUNTRY_INFO!F75+COUNTRY_INFO!G75)))),0)","v":0.54369020215442532},{"$f":"MAX(COUNTRY_INFO!D75*AK75*PROFILE!$G$7,COUNTRY_INFO!D75*AL75*PROFILE!$G$7)","v":0},{"$f":"MAX(COUNTRY_INFO!D75*AK75*PROFILE!$G$8,COUNTRY_INFO!D75*AL75*PROFILE!$G$8,COUNTRY_INFO!D75*AM75*PROFILE!$G$8)","v":41900.62498398844},{"$f":"MAX(COUNTRY_INFO!D75*AK75*PROFILE!$G$9,COUNTRY_INFO!D75*AL75*PROFILE!$G$9,COUNTRY_INFO!D75*AM75*PROFILE!$G$9,IF(AND(DISTRICT!Z75<>\"Unknown\",Z75<>\"Not required\"),COUNTRY_INFO!O75*DISTRICT!AN75,0))","v":82183.708518180982},{"$f":"MAX(COUNTRY_INFO!D75*AK75*PROFILE!$G$10,COUNTRY_INFO!D75*AL75*PROFILE!$G$10,IF(AND(DISTRICT!Z75<>\"Unknown\",Z75<>\"Not required\"),COUNTRY_INFO!O75*DISTRICT!AO75,0))","v":50285.200000000004},174369.53350216942,0,{"$f":"MAX('MDA2'!J75,'T1'!L75,'T2'!J75,T3_R1!K75,T3_R2!K75)","v":0},{"$f":"MAX('MDA1'!K75,'MDA2'!K75,'MDA3'!I75,'MDA3'!L75,'T1'!M75,'T2'!K75,T3_R1!L75,T3_R2!L75)","v":83510},{"$f":"MAX('MDA1'!L75,'MDA2'!L75,'MDA3'!J75,'MDA3'!M75,'T1'!N75,'T2'!L75,T3_R1!M75,T3_R2!M75)","v":0},83510,{"$f":"MAX('MDA2'!J75,T75)","v":0},{"$f":"MAX('MDA1'!K75,'MDA2'!K75,'MDA3'!I75,'MDA3'!L75,V75,AD75)","v":83510},{"$f":"MAX('MDA1'!L75,'MDA2'!L75,'MDA3'!J75,'MDA3'!M75,AF75)","v":0},83510,47.892540814167525]
[{"$f":"IF(COUNTRY_INFO!A76=0,\" \",COUNTRY_INFO!A76)","v":"Tanzania"},{"$f":"IF(COUNTRY_INFO!B76=0,\" \",COUNTRY_INFO!B76)","v":"Manyara"},{"$f":"IF(COUNTRY_INFO!C76=0,\" \",COUNTRY_INFO!C76)","v":"Babati Town Council"},{"$f":"COUNTRY_INFO!L76","v":"Stopped"},null,null,{"$f":"MAX('MDA1'!M76,'MDA2'!M76)","v":0},{"$f":"IF(AND(COUNTRY_INFO!H76>0,COUNTRY_INFO!H76<4),IF(D76>MAX('MDA1'!M76,'MDA2'!M76),MAX('MDA1'!M76,'MDA2'!M76),D76),0)","v":0},{"$f":"IF(AND(COUNTRY_INFO!H76>0,COUNTRY_INFO!H76<4), IF(G76/D76*100<>0, IF(G76/D76*100>100,100,G76/D76*100), \"-\"),0)","v":0},{"$f":"COUNTRY_INFO!M76","v":0},null,null,{"$f":"MAX('MDA1'!M76,MAX('MDA3'!I76,'MDA3'!L76)+MAX('MDA3'!J76,'MDA3'!M76))","v":0},{"$f":"IF(AND(COUNTRY_INFO!I76>0,COUNTRY_INFO!I76<4),IF(J76>MAX('MDA1'!M76,MAX('MDA3'!I76,'MDA3'!L76)+MAX('MDA3'!J76,'MDA3'!M76)),MAX('MDA1'!M76,MAX('MDA3'!I76,'MDA3'!L76)+MAX('MDA3'!J76,'MDA3'!M76)),J76),0)","v":0},{"$f":"IF(AND(COUNTRY_INFO!I76>0,COUNTRY_INFO!I76<4), IF(M76/J76*100<>0, IF(M76/J76*100>100,100,M76/J76*100), \"-\"),0)","v":0},{"$f":"COUNTRY_INFO!N76","v":33911},null,null,{"$f":"SUM(MAX('MDA2'!J76, 'T1'!L76, MAX(T3_R1!K76, T3_R2!K76)), MAX('MDA1'!K76, 'MDA2'!K76, 'T1'!M76, MAX(T3_R1!L76, T3_R2!L76)), MAX('MDA1'!L76, 'MDA2'!L76, 'T1'!N76, MAX(T3_R1!M76, T3_R2!M76)))","v":20053},{"$f":"IF(AND(COUNTRY_INFO!J76>1,COUNTRY_INFO!J76<4),IF(COUNTRY_INFO!E76>MAX('MDA2'!J76,'T1'!L76,MAX(T3_R1!K76,T3_R2!K76)),MAX('MDA2'!J76,'T1'!L76,MAX(T3_R1!K76,T3_R2!K76)),COUNTRY_INFO!E76),0)","v":0},{"$f":"IF(AND(COUNTRY_INFO!J76>1,COUNTRY_INFO!J76<4), IF(T76/COUNTRY_INFO!E76*100<>0, IF(T76/COUNTRY_INFO!E76*100>100,100,T76/COUNTRY_INFO!E76*100), \"-\"),0)","v":"-"},{"$f":"IF(AND(COUNTRY_INFO!J76>1,COUNTRY_INFO!J76<4),IF(COUNTRY_INFO!F76>MAX('MDA1'!K76,'MDA2'!K76,'T1'!M76,MAX(T3_R1!L76,T3_R2!L76)),MAX('MDA1'!K76,'MDA2'!K76,'T1'!M76,MAX(T3_R1!L76,T3_R2!L76)),COUNTRY_INFO!F76),0)","v":20053},{"$f":"IF(AND(COUNTRY_INFO!J76>1,COUNTRY_INFO!J76<4), IF(V76/COUNTRY_INFO!F76*100<>0, IF(V76/COUNTRY_INFO!F76*100>100,100,V76/COUNTRY_INFO!F76*100), \"-\"),0)","v":91.562029131089901},20053,{"$f":"IF(AND(COUNTRY_INFO!J76>1,COUNTRY_INFO!J76<4), IF(S76/P76*100<>0, IF(X76/P76*100>100,100,X76/P76*100), \"-\"),0)","v":59.13420424051192},{"$f":"COUNTRY_INFO!O76","v":26663.7},null,null,{"$f":"MAX('T1'!L76,'T2'!J76)+MAX('T1'!M76,'T2'!K76)+MAX('T1'!N76,'T2'!L76)","v":0},{"$f":"IF(COUNTRY_INFO!K76=1,IF(COUNTRY_INFO!F76*0.33>MAX('T1'!M76,'T2'!K76),MAX('T1'!M76,'T2'!K76),COUNTRY_INFO!F76*0.33),IF(COUNTRY_INFO!K76=2,IF(COUNTRY_INFO!F76*0.5>MAX('T1'!M76,'T2'!K76),MAX('T1'!M76,'T2'!K76),COUNTRY_INFO!F76*0.5),IF(COUNTRY_INFO!K76=3,IF(COUNTRY_INFO!F76>MAX('T1'!M76,'T2'!K76),MAX('T1'!M76,'T2'!K76),COUNTRY_INFO!F76),0)))","v":0},{"$f":"IF(AND(COUNTRY_INFO!K76>0,COUNTRY_INFO!K76<4),IF(Z76>0,IF(COUNTRY_INFO!K76=1, AD76/(COUNTRY_INFO!F76*0.33)*100, IF(COUNTRY_INFO!K76=2, AD76/(COUNTRY_INFO!F76*0.5)*100, IF(COUNTRY_INFO!K76=3, AD76/COUNTRY_INFO!F76*100))),\"-\"),0)","v":0},{"$f":"IF(COUNTRY_INFO!K76=2,IF(COUNTRY_INFO!G76*0.2>MAX('T1'!N76,'T2'!L76),MAX('T1'!N76,'T2'!L76),COUNTRY_INFO!G76*0.2),IF(COUNTRY_INFO!K76=3,IF(COUNTRY_INFO!G76>MAX('T1'!N76,'T2'!L76),MAX('T1'!N76,'T2'!L76),COUNTRY_INFO!G76),0))","v":0},{"$f":"IF(AND(COUNTRY_INFO!K76>0,COUNTRY_INFO!K76<4),IF(Z76>0,IF(COUNTRY_INFO!K76=1, 0, IF(COUNTRY_INFO!K76=2, AF76/(COUNTRY_INFO!G76*0.2)*100, IF(COUNTRY_INFO!K76=3, AF76/COUNTRY_INFO!G76*100))),\"-\"),0)","v":0},0,{"$f":"IF(AND(COUNTRY_INFO!K76>0,COUNTRY_INFO!K76<4), IF(AC76/Z76*100<>0, IF(AH76/Z76*100>100,100,AH76/Z76*100), \"-\"),0)","v":"-"},null,{"$f":"IF(AND(D76<>0, D76<>\"Unknown\",D76<>\"Stopped\",D76<>\"Not required\"),D76/COUNTRY_INFO!D76, 0)","v":0},{"$f":"IF(AND(J76<>0,J76<>\"Unknown\",J76<>\"Stopped\",J76<>\"Not required\"),J76/COUNTRY_INFO!D76, 0)","v":0},{"$f":"IF(AND(P76<>0,P76<>\"Unknown\",P76<>\"Not required\"),P76/(COUNTRY_INFO!E76+COUNTRY_INFO!F76), 0)","v":1},{"$f":"IF(AND(Z76<>0,Z76<>\"Unknown\",Z76<>\"Not required\"),IF(COUNTRY_INFO!K76=1,1,IF(COUNTRY_INFO!K76=2,0.5*COUNTRY_INFO!F76/(0.5*COUNTRY_INFO!F76+0.2*COUNTRY_INFO!G76),IF(COUNTRY_INFO!K76=3,COUNTRY_INFO!F76/(COUNTRY_INFO!F76+COUNTRY_INFO!G76)))),0)","v":0.41068943920011103},{"$f":"IF(AND(Z76<>0,Z76<>\"Unknown\",Z76<>\"Not required\"),IF(COUNTRY_INFO!K76=1,0,IF(COUNTRY_INFO!K76=2,0.2*COUNTRY_INFO!G76/(0.5*COUNTRY_INFO!F76+0.2*COUNTRY_INFO!G76),IF(COUNTRY_INFO!K76=3,COUNTRY_INFO!G76/(COUNTRY_INFO!F76+COUNTRY_INFO!G76)))),0)","v":0.58931056079988897},{"$f":"MAX(COUNTRY_INFO!D76*AK76*PROFILE!$G$7,COUNTRY_INFO!D76*AL76*PROFILE!$G$7)","v":0},{"$f":"MAX(COUNTRY_INFO!D76*AK76*PROFILE!$G$8,COUNTRY_INFO!D76*AL76*PROFILE!$G$8,COUNTRY_INFO!D76*AM76*PROFILE!$G$8)","v":12488.391236195092},{"$f":"MAX(COUNTRY_INFO!D76*AK76*PROFILE!$G$9,COUNTRY_INFO!D76*AL76*PROFILE!$G$9,COUNTRY_INFO!D76*AM76*PROFILE!$G$9,IF(AND(DISTRICT!Z76<>\"Unknown\",Z76<>\"Not required\"),COUNTRY_INFO!O76*DISTRICT!AN76,0))","v":24494.677719214484},{"$f":"MAX(COUNTRY_INFO!D76*AK76*PROFILE!$G$10,COUNTRY_INFO!D76*AL76*PROFILE!$G$10,IF(AND(DISTRICT!Z76<>\"Unknown\",Z76<>\"Not required\"),COUNTRY_INFO!O76*DISTRICT!AO76,0))","v":15713.2},52696.26895540957,0,{"$f":"MAX('MDA2'!J76,'T1'!L76,'T2'!J76,T3_R1!K76,T3_R2!K76)","v":0},{"$f":"MAX('MDA1'!K76,'MDA2'!K76,'MDA3'!I76,'MDA3'!L76,'T1'!M76,'T2'!K76,T3_R1!L76,T3_R2!L76)","v":20053},{"$f":"MAX('MDA1'!L76,'MDA2'!L76,'MDA3'!J76,'MDA3'!M76,'T1'!N76,'T2'!L76,T3_R1!M76,T3_R2!M76)","v":0},20053,{"$f":"MAX('MDA2'!J76,T76)","v":0},{"$f":"MAX('MDA1'!K76,'MDA2'!K76,'MDA3'!I76,'MDA3'!L76,V76,AD76)","v":20053},{"$f":"MAX('MDA1'!L76,'MDA2'!L76,'MDA3'!J76,'MDA3'!M76,AF76)","v":0},20053,38.053927531318031]
[{"$f":"IF(COUNTRY_INFO!A77=0,\" \",COUNTRY_INFO!A77)","v":"Tanzania"},{"$f":"IF(COUNTRY_INFO!B77=0,\" \",COUNTRY_INFO!B77)","v":"Manyara"},{"$f":"IF(COUNTRY_INFO!C77=0,\" \",COUNTRY_INFO!C77)","v":"Hanang District Council"},{"$f":"COUNTRY_INFO!L77","v":"Stopped"},null,null,{"$f":"MAX('MDA1'!M77,'MDA2'!M77)","v":0},{"$f":"IF(AND(COUNTRY_INFO!H77>0,COUNTRY_INFO!H77<4),IF(D77>MAX('MDA1'!M77,'MDA2'!M77),MAX('MDA1'!M77,'MDA2'!M77),D77),0)","v":0},{"$f":"IF(AND(COUNTRY_INFO!H77>0,COUNTRY_INFO!H77<4), IF(G77/D77*100<>0, IF(G77/D77*100>100,100,G77/D77*100), \"-\"),0)","v":0},{"$f":"COUNTRY_INFO!M77","v":0},null,null,{"$f":"MAX('MDA1'!M77,MAX('MDA3'!I77,'MDA3'!L77)+MAX('MDA3'!J77,'MDA3'!M77))","v":0},{"$f":"IF(AND(COUNTRY_INFO!I77>0,COUNTRY_INFO!I77<4),IF(J77>MAX('MDA1'!M77,MAX('MDA3'!I77,'MDA3'!L77)+MAX('MDA3'!J77,'MDA3'!M77)),MAX('MDA1'!M77,MAX('MDA3'!I77,'MDA3'!L77)+MAX('MDA3'!J77,'MDA3'!M77)),J77),0)","v":0},{"$f":"IF(AND(COUNTRY_INFO!I77>0,COUNTRY_INFO!I77<4), IF(M77/J77*100<>0, IF(M77/J77*100>100,100,M77/J77*100), \"-\"),0)","v":0},{"$f":"COUNTRY_INFO!N77","v":112140},null,null,{"$f":"SUM(MAX('MDA2'!J77, 'T1'!L77, MAX(T3_R1!K77, T3_R2!K77)), MAX('MDA1'!K77, 'MDA2'!K77, 'T1'!M77, MAX(T3_R1!L77, T3_R2!L77)), MAX('MDA1'!L77, 'MDA2'!L77, 'T1'!N77, MAX(T3_R1!M77, T3_R2!M77)))","v":60433},{"$f":"IF(AND(COUNTRY_INFO!J77>1,COUNTRY_INFO!J77<4),IF(COUNTRY_INFO!E77>MAX('MDA2'!J77,'T1'!L77,MAX(T3_R1!K77,T3_R2!K77)),MAX('MDA2'!J77,'T1'!L77,MAX(T3_R1!K77,T3_R2!K77)),COUNTRY_INFO!E77),0)","v":0},{"$f":"IF(AND(COUNTRY_INFO!J77>1,COUNTRY_INFO!J77<4), IF(T77/COUNTRY_INFO!E77*100<>0, IF(T77/COUNTRY_INFO!E77*100>100,100,T77/COUNTRY_INFO!E77*100), \"-\"),0)","v":"-"},{"$f":"IF(AND(COUNTRY_INFO!J77>1,COUNTRY_INFO!J77<4),IF(COUNTRY_INFO!F77>MAX('MDA1'!K77,'MDA2'!K77,'T1'!M77,MAX(T3_R1!L77,T3_R2!L77)),MAX('MDA1'!K77,'MDA2'!K77,'T1'!M77,MAX(T3_R1!L77,T3_R2!L77)),COUNTRY_INFO!F77),0)","v":60433},{"$f":"IF(AND(COUNTRY_INFO!J77>1,COUNTRY_INFO!J77<4), IF(V77/COUNTRY_INFO!F77*100<>0, IF(V77/COUNTRY_INFO!F77*100>100,100,V77/COUNTRY_INFO!F77*100), \"-\"),0)","v":87.418090292343521},60433,{"$f":"IF(AND(COUNTRY_INFO!J77>1,COUNTRY_INFO!J77<4), IF(S77/P77*100<>0, IF(X77/P77*100>100,100,X77/P77*100), \"-\"),0)","v":53.89067237381844},{"$f":"COUNTRY_INFO!O77","v":78818.5},null,null,{"$f":"MAX('T1'!L77,'T2'!J77)+MAX('T1'!M77,'T2'!K77)+MAX('T1'!N77,'T2'!L77)","v":0},{"$f":"IF(COUNTRY_INFO!K77=1,IF(COUNTRY_INFO!F77*0.33>MAX('T1'!M77,'T2'!K77),MAX('T1'!M77,'T2'!K77),COUNTRY_INFO!F77*0.33),IF(COUNTRY_INFO!K77=2,IF(COUNTRY_INFO!F77*0.5>MAX('T1'!M77,'T2'!K77),MAX('T1'!M77,'T2'!K77),COUNTRY_INFO!F77*0.5),IF(COUNTRY_INFO!K77=3,IF(COUNTRY_INFO!F77>MAX('T1'!M77,'T2'!K77),MAX('T1'!M77,'T2'!K77),COUNTRY_INFO!F77),0)))","v":0},{"$f":"IF(AND(COUNTRY_INFO!K77>0,COUNTRY_INFO!K77<4),IF(Z77>0,IF(COUNTRY_INFO!K77=1, AD77/(COUNTRY_INFO!F77*0.33)*100, IF(COUNTRY_INFO!K77=2, AD77/(COUNTRY_INFO!F77*0.5)*100, IF(COUNTRY_INFO!K77=3, AD77/COUNTRY_INFO!F77*100))),\"-\"),0)","v":0},{"$f":"IF(COUNTRY_INFO!K77=2,IF(COUNTRY_INFO!G77*0.2>MAX('T1'!N77,'T2'!L77),MAX('T1'!N77,'T2'!L77),COUNTRY_INFO!G77*0.2),IF(COUNTRY_INFO!K77=3,IF(COUNTRY_INFO!G77>MAX('T1'!N77,'T2'!L77),MAX('T1'!N77,'T2'!L77),COUNTRY_INFO!G77),0))","v":0},{"$f":"IF(AND(COUNTRY_INFO!K77>0,COUNTRY_INFO!K77<4),IF(Z77>0,IF(COUNTRY_INFO!K77=1, 0, IF(COUNTRY_INFO!K77=2, AF77/(COUNTRY_INFO!G77*0.2)*100, IF(COUNTRY_INFO!K77=3, AF77/COUNTRY_INFO!G77*100))),\"-\"),0)","v":0},0,{"$f":"IF(AND(COUNTRY_INFO!K77>0,COUNTRY_INFO!K77<4), IF(AC77/Z77*100<>0, IF(AH77/Z77*100>100,100,AH77/Z77*100), \"-\"),0)","v":"-"},null,{"$f":"IF(AND(D77<>0, D77<>\"Unknown\",D77<>\"Stopped\",D77<>\"Not required\"),D77/COUNTRY_INFO!D77, 0)","v":0},{"$f":"IF(AND(J77<>0,J77<>\"Unknown\",J77<>\"Stopped\",J77<>\"Not required\"),J77/COUNTRY_INFO!D77, 0)","v":0},{"$f":"IF(AND(P77<>0,P77<>\"Unknown\",P77<>\"Not required\"),P77/(COUNTRY_INFO!E77+COUNTRY_INFO!F77), 0)","v":1},{"$f":"IF(AND(Z77<>0,Z77<>\"Unknown\",Z77<>\"Not required\"),IF(COUNTRY_INFO!K77=1,1,IF(COUNTRY_INFO!K77=2,0.5*COUNTRY_INFO!F77/(0.5*COUNTRY_INFO!F77+0.2*COUNTRY_INFO!G77),IF(COUNTRY_INFO!K77=3,COUNTRY_INFO!F77/(COUNTRY_INFO!F77+COUNTRY_INFO!G77)))),0)","v":0.43854551913573592},{"$f":"IF(AND(Z77<>0,Z77<>\"Unknown\",Z77<>\"Not required\"),IF(COUNTRY_INFO!K77=1,0,IF(COUNTRY_INFO!K77=2,0.2*COUNTRY_INFO!G77/(0.5*COUNTRY_INFO!F77+0.2*COUNTRY_INFO!G77),IF(COUNTRY_INFO!K77=3,COUNTRY_INFO!G77/(COUNTRY_INFO!F77+COUNTRY_INFO!G77)))),0)","v":0.56145448086426408},{"$f":"MAX(COUNTRY_INFO!D77*AK77*PROFILE!$G$7,COUNTRY_INFO!D77*AL77*PROFILE!$G$7)","v":0},{"$f":"MAX(COUNTRY_INFO!D77*AK77*PROFILE!$G$8,COUNTRY_INFO!D77*AL77*PROFILE!$G$8,COUNTRY_INFO!D77*AM77*PROFILE!$G$8)","v":37018.16442564813},{"$f":"MAX(COUNTRY_INFO!D77*AK77*PROFILE!$G$9,COUNTRY_INFO!D77*AL77*PROFILE!$G$9,COUNTRY_INFO!D77*AM77*PROFILE!$G$9,IF(AND(DISTRICT!Z77<>\"Unknown\",Z77<>\"Not required\"),COUNTRY_INFO!O77*DISTRICT!AN77,0))","v":72607.271041854823},{"$f":"MAX(COUNTRY_INFO!D77*AK77*PROFILE!$G$10,COUNTRY_INFO!D77*AL77*PROFILE!$G$10,IF(AND(DISTRICT!Z77<>\"Unknown\",Z77<>\"Not required\"),COUNTRY_INFO!O77*DISTRICT!AO77,0))","v":44253},153878.43546750295,0,{"$f":"MAX('MDA2'!J77,'T1'!L77,'T2'!J77,T3_R1!K77,T3_R2!K77)","v":0},{"$f":"MAX('MDA1'!K77,'MDA2'!K77,'MDA3'!I77,'MDA3'!L77,'T1'!M77,'T2'!K77,T3_R1!L77,T3_R2!L77)","v":60433},{"$f":"MAX('MDA1'!L77,'MDA2'!L77,'MDA3'!J77,'MDA3'!M77,'T1'!N77,'T2'!L77,T3_R1!M77,T3_R2!M77)","v":0},60433,{"$f":"MAX('MDA2'!J77,T77)","v":0},{"$f":"MAX('MDA1'!K77,'MDA2'!K77,'MDA3'!I77,'MDA3'!L77,V77,AD77)","v":60433},{"$f":"MAX('MDA1'!L77,'MDA2'!L77,'MDA3'!J77,'MDA3'!M77,AF77)","v":0},60433,39.273209281337301]
[{"$f":"IF(COUNTRY_INFO!A78=0,\" \",COUNTRY_INFO!A78)","v":"Tanzania"},{"$f":"IF(COUNTRY_INFO!B78=0,\" \",COUNTRY_INFO!B78)","v":"Manyara"},{"$f":"IF(COUNTRY_INFO!C78=0,\" \",COUNTRY_INFO!C78)","v":"Kiteto District Council"},{"$f":"COUNTRY_INFO!L78","v":"Stopped"},null,null,{"$f":"MAX('MDA1'!M78,'MDA2'!M78)","v":0},{"$f":"IF(AND(COUNTRY_INFO!H78>0,COUNTRY_INFO!H78<4),IF(D78>MAX('MDA1'!M78,'MDA2'!M78),MAX('MDA1'!M78,'MDA2'!M78),D78),0)","v":0},{"$f":"IF(AND(COUNTRY_INFO!H78>0,COUNTRY_INFO!H78<4), IF(G78/D78*100<>0, IF(G78/D78*100>100,100,G78/D78*100), \"-\"),0)","v":0},{"$f":"COUNTRY_INFO!M78","v":0},null,null,{"$f":"MAX('MDA1'!M78,MAX('MDA3'!I78,'MDA3'!L78)+MAX('MDA3'!J78,'MDA3'!M78))","v":0},{"$f":"IF(AND(COUNTRY_INFO!I78>0,COUNTRY_INFO!I78<4),IF(J78>MAX('MDA1'!M78,MAX('MDA3'!I78,'MDA3'!L78)+MAX('MDA3'!J78,'MDA3'!M78)),MAX('MDA1'!M78,MAX('MDA3'!I78,'MDA3'!L78)+MAX('MDA3'!J78,'MDA3'!M78)),J78),0)","v":0},{"$f":"IF(AND(COUNTRY_INFO!I78>0,COUNTRY_INFO!I78<4), IF(M78/J78*100<>0, IF(M78/J78*100>100,100,M78/J78*100), \"-\"),0)","v":0},{"$f":"COUNTRY_INFO!N78","v":96392},null,null,{"$f":"SUM(MAX('MDA2'!J78, 'T1'!L78, MAX(T3_R1!K78, T3_R2!K78)), MAX('MDA1'!K78, 'MDA2'!K78, 'T1'!M78, MAX(T3_R1!L78, T3_R2!L78)), MAX('MDA1'!L78, 'MDA2'!L78, 'T1'!N78, MAX(T3_R1!M78, T3_R2!M78)))","v":52185},{"$f":"IF(AND(COUNTRY_INFO!J78>1,COUNTRY_INFO!J78<4),IF(COUNTRY_INFO!E78>MAX('MDA2'!J78,'T1'!L78,MAX(T3_R1!K78,T3_R2!K78)),MAX('MDA2'!J78,'T1'!L78,MAX(T3_R1!K78,T3_R2!K78)),COUNTRY_INFO!E78),0)","v":0},{"$f":"IF(AND(COUNTRY_INFO!J78>1,COUNTRY_INFO!J78<4), IF(T78/COUNTRY_INFO!E78*100<>0, IF(T78/COUNTRY_INFO!E78*100>100,100,T78/COUNTRY_INFO!E78*100), \"-\"),0)","v":"-"},{"$f":"IF(AND(COUNTRY_INFO!J78>1,COUNTRY_INFO!J78<4),IF(COUNTRY_INFO!F78>MAX('MDA1'!K78,'MDA2'!K78,'T1'!M78,MAX(T3_R1!L78,T3_R2!L78)),MAX('MDA1'!K78,'MDA2'!K78,'T1'!M78,MAX(T3_R1!L78,T3_R2!L78)),COUNTRY_INFO!F78),0)","v":52185},{"$f":"IF(AND(COUNTRY_INFO!J78>1,COUNTRY_INFO!J78<4), IF(V78/COUNTRY_INFO!F78*100<>0, IF(V78/COUNTRY_INFO!F78*100>100,100,V78/COUNTRY_INFO!F78*100), \"-\"),0)","v":89.567993409196234},52185,{"$f":"IF(AND(COUNTRY_INFO!J78>1,COUNTRY_INFO!J78<4), IF(S78/P78*100<>0, IF(X78/P78*100>100,100,X78/P78*100), \"-\"),0)","v":54.138310233214369},{"$f":"COUNTRY_INFO!O78","v":68966.700000000012},null,null,{"$f":"MAX('T1'!L78,'T2'!J78)+MAX('T1'!M78,'T2'!K78)+MAX('T1'!N78,'T2'!L78)","v":0},{"$f":"IF(COUNTRY_INFO!K78=1,IF(COUNTRY_INFO!F78*0.33>MAX('T1'!M78,'T2'!K78),MAX('T1'!M78,'T2'!K78),COUNTRY_INFO!F78*0.33),IF(COUNTRY_INFO!K78=2,IF(COUNTRY_INFO!F78*0.5>MAX('T1'!M78,'T2'!K78),MAX('T1'!M78,'T2'!K78),COUNTRY_INFO!F78*0.5),IF(COUNTRY_INFO!K78=3,IF(COUNTRY_INFO!F78>MAX('T1'!M78,'T2'!K78),MAX('T1'!M78,'T2'!K78),COUNTRY_INFO!F78),0)))","v":0},{"$f":"IF(AND(COUNTRY_INFO!K78>0,COUNTRY_INFO!K78<4),IF(Z78>0,IF(COUNTRY_INFO!K78=1, AD78/(COUNTRY_INFO!F78*0.33)*100, IF(COUNTRY_INFO!K78=2, AD78/(COUNTRY_INFO!F78*0.5)*100, IF(COUNTRY_INFO!K78=3, AD78/COUNTRY_INFO!F78*100))),\"-\"),0)","v":0},{"$f":"IF(COUNTRY_INFO!K78=2,IF(COUNTRY_INFO!G78*0.2>MAX('T1'!N78,'T2'!L78),MAX('T1'!N78,'T2'!L78),COUNTRY_INFO!G78*0.2),IF(COUNTRY_INFO!K78=3,IF(COUNTRY_INFO!G78>MAX('T1'!N78,'T2'!L78),MAX('T1'!N78,'T2'!L78),COUNTRY_INFO!G78),0))","v":0},{"$f":"IF(AND(COUNTRY_INFO!K78>0,COUNTRY_INFO!K78<4),IF(Z78>0,IF(COUNTRY_INFO!K78=1, 0, IF(COUNTRY_INFO!K78=2, AF78/(COUNTRY_INFO!G78*0.2)*100, IF(COUNTRY_INFO!K78=3, AF78/COUNTRY_INFO!G78*100))),\"-\"),0)","v":0},0,{"$f":"IF(AND(COUNTRY_INFO!K78>0,COUNTRY_INFO!K78<4), IF(AC78/Z78*100<>0, IF(AH78/Z78*100>100,100,AH78/Z78*100), \"-\"),0)","v":"-"},null,{"$f":"IF(AND(D78<>0, D78<>\"Unknown\",D78<>\"Stopped\",D78<>\"Not required\"),D78/COUNTRY_INFO!D78, 0)","v":0},{"$f":"IF(AND(J78<>0,J78<>\"Unknown\",J78<>\"Stopped\",J78<>\"Not required\"),J78/COUNTRY_INFO!D78, 0)","v":0},{"$f":"IF(AND(P78<>0,P78<>\"Unknown\",P78<>\"Not required\"),P78/(COUNTRY_INFO!E78+COUNTRY_INFO!F78), 0)","v":1},{"$f":"IF(AND(Z78<>0,Z78<>\"Unknown\",Z78<>\"Not required\"),IF(COUNTRY_INFO!K78=1,1,IF(COUNTRY_INFO!K78=2,0.5*COUNTRY_INFO!F78/(0.5*COUNTRY_INFO!F78+0.2*COUNTRY_INFO!G78),IF(COUNTRY_INFO!K78=3,COUNTRY_INFO!F78/(COUNTRY_INFO!F78+COUNTRY_INFO!G78)))),0)","v":0.42239950584847463},{"$f":"IF(AND(Z78<>0,Z78<>\"Unknown\",Z78<>\"Not required\"),IF(COUNTRY_INFO!K78=1,0,IF(COUNTRY_INFO!K78=2,0.2*COUNTRY_INFO!G78/(0.5*COUNTRY_INFO!F78+0.2*COUNTRY_INFO!G78),IF(COUNTRY_INFO!K78=3,COUNTRY_INFO!G78/(COUNTRY_INFO!F78+COUNTRY_INFO!G78)))),0)","v":0.57760049415152526},{"$f":"MAX(COUNTRY_INFO!D78*AK78*PROFILE!$G$7,COUNTRY_INFO!D78*AL78*PROFILE!$G$7)","v":0},{"$f":"MAX(COUNTRY_INFO!D78*AK78*PROFILE!$G$8,COUNTRY_INFO!D78*AL78*PROFILE!$G$8,COUNTRY_INFO!D78*AM78*PROFILE!$G$8)","v":32817.098792639481},{"$f":"MAX(COUNTRY_INFO!D78*AK78*PROFILE!$G$9,COUNTRY_INFO!D78*AL78*PROFILE!$G$9,COUNTRY_INFO!D78*AM78*PROFILE!$G$9,IF(AND(DISTRICT!Z78<>\"Unknown\",Z78<>\"Not required\"),COUNTRY_INFO!O78*DISTRICT!AN78,0))","v":64367.318688378837},{"$f":"MAX(COUNTRY_INFO!D78*AK78*PROFILE!$G$10,COUNTRY_INFO!D78*AL78*PROFILE!$G$10,IF(AND(DISTRICT!Z78<>\"Unknown\",Z78<>\"Not required\"),COUNTRY_INFO!O78*DISTRICT!AO78,0))","v":39835.200000000004},137019.61748101833,0,{"$f":"MAX('MDA2'!J78,'T1'!L78,'T2'!J78,T3_R1!K78,T3_R2!K78)","v":0},{"$f":"MAX('MDA1'!K78,'MDA2'!K78,'MDA3'!I78,'MDA3'!L78,'T1'!M78,'T2'!K78,T3_R1!L78,T3_R2!L78)","v":52185},{"$f":"MAX('MDA1'!L78,'MDA2'!L78,'MDA3'!J78,'MDA3'!M78,'T1'!N78,'T2'!L78,T3_R1!M78,T3_R2!M78)","v":0},52185,{"$f":"MAX('MDA2'!J78,T78)","v":0},{"$f":"MAX('MDA1'!K78,'MDA2'!K78,'MDA3'!I78,'MDA3'!L78,V78,AD78)","v":52185},{"$f":"MAX('MDA1'!L78,'MDA2'!L78,'MDA3'!J78,'MDA3'!M78,AF78)","v":0},52185,38.085787246654164]
[{"$f":"IF(COUNTRY_INFO!A79=0,\" \",COUNTRY_INFO!A79)","v":"Tanzania"},{"$f":"IF(COUNTRY_INFO!B79=0,\" \",COUNTRY_INFO!B79)","v":"Manyara"},{"$f":"IF(COUNTRY_INFO!C79=0,\" \",COUNTRY_INFO!C79)","v":"Mbulu District Council"},{"$f":"COUNTRY_INFO!L79","v":"Stopped"},null,null,{"$f":"MAX('MDA1'!M79,'MDA2'!M79)","v":0},{"$f":"IF(AND(COUNTRY_INFO!H79>0,COUNTRY_INFO!H79<4),IF(D79>MAX('MDA1'!M79,'MDA2'!M79),MAX('MDA1'!M79,'MDA2'!M79),D79),0)","v":0},{"$f":"IF(AND(COUNTRY_INFO!H79>0,COUNTRY_INFO!H79<4), IF(G79/D79*100<>0, IF(G79/D79*100>100,100,G79/D79*100), \"-\"),0)","v":0},{"$f":"COUNTRY_INFO!M79","v":0},null,null,{"$f":"MAX('MDA1'!M79,MAX('MDA3'!I79,'MDA3'!L79)+MAX('MDA3'!J79,'MDA3'!M79))","v":0},{"$f":"IF(AND(COUNTRY_INFO!I79>0,COUNTRY_INFO!I79<4),IF(J79>MAX('MDA1'!M79,MAX('MDA3'!I79,'MDA3'!L79)+MAX('MDA3'!J79,'MDA3'!M79)),MAX('MDA1'!M79,MAX('MDA3'!I79,'MDA3'!L79)+MAX('MDA3'!J79,'MDA3'!M79)),J79),0)","v":0},{"$f":"IF(AND(COUNTRY_INFO!I79>0,COUNTRY_INFO!I79<4), IF(M79/J79*100<>0, IF(M79/J79*100>100,100,M79/J79*100), \"-\"),0)","v":0},{"$f":"COUNTRY_INFO!N79","v":77586},null,null,{"$f":"SUM(MAX('MDA2'!J79, 'T1'!L79, MAX(T3_R1!K79, T3_R2!K79)), MAX('MDA1'!K79, 'MDA2'!K79, 'T1'!M79, MAX(T3_R1!L79, T3_R2!L79)), MAX('MDA1'!L79, 'MDA2'!L79, 'T1'!N79, MAX(T3_R1!M79, T3_R2!M79)))","v":41109},{"$f":"IF(AND(COUNTRY_INFO!J79>1,COUNTRY_INFO!J79<4),IF(COUNTRY_INFO!E79>MAX('MDA2'!J79,'T1'!L79,MAX(T3_R1!K79,T3_R2!K79)),MAX('MDA2'!J79,'T1'!L79,MAX(T3_R1!K79,T3_R2!K79)),COUNTRY_INFO!E79),0)","v":0},{"$f":"IF(AND(COUNTRY_INFO!J79>1,COUNTRY_INFO!J79<4), IF(T79/COUNTRY_INFO!E79*100<>0, IF(T79/COUNTRY_INFO!E79*100>100,100,T79/COUNTRY_INFO!E79*100), \"-\"),0)","v":"-"},{"$f":"IF(AND(COUNTRY_INFO!J79>1,COUNTRY_INFO!J79<4),IF(COUNTRY_INFO!F79>MAX('MDA1'!K79,'MDA2'!K79,'T1'!M79,MAX(T3_R1!L79,T3_R2!L79)),MAX('MDA1'!K79,'MDA2'!K79,'T1'!M79,MAX(T3_R1!L79,T3_R2!L79)),COUNTRY_INFO!F79),0)","v":41109},{"$f":"IF(AND(COUNTRY_INFO!J79>1,COUNTRY_INFO!J79<4), IF(V79/COUNTRY_INFO!F79*100<>0, IF(V79/COUNTRY_INFO!F79*100>100,100,V79/COUNTRY_INFO!F79*100), \"-\"),0)","v":86.025488103459097},41109,{"$f":"IF(AND(COUNTRY_INFO!J79>1,COUNTRY_INFO!J79<4), IF(S79/P79*100<>0, IF(X79/P79*100>100,100,X79/P79*100), \"-\"),0)","v":52.985074626865668},{"$f":"COUNTRY_INFO!O79","v":54576.3},null,null,{"$f":"MAX('T1'!L79,'T2'!J79)+MAX('T1'!M79,'T2'!K79)+MAX('T1'!N79,'T2'!L79)","v":0},{"$f":"IF(COUNTRY_INFO!K79=1,IF(COUNTRY_INFO!F79*0.33>MAX('T1'!M79,'T2'!K79),MAX('T1'!M79,'T2'!K79),COUNTRY_INFO!F79*0.33),IF(COUNTRY_INFO!K79=2,IF(COUNTRY_INFO!F79*0.5>MAX('T1'!M79,'T2'!K79),MAX('T1'!M79,'T2'!K79),COUNTRY_INFO!F79*0.5),IF(COUNTRY_INFO!K79=3,IF(COUNTRY_INFO!F79>MAX('T1'!M79,'T2'!K79),MAX('T1'!M79,'T2'!K79),COUNTRY_INFO!F79),0)))","v":0},{"$f":"IF(AND(COUNTRY_INFO!K79>0,COUNTRY_INFO!K79<4),IF(Z79>0,IF(COUNTRY_INFO!K79=1, AD79/(COUNTRY_INFO!F79*0.33)*100, IF(COUNTRY_INFO!K79=2, AD79/(COUNTRY_INFO!F79*0.5)*100, IF(COUNTRY_INFO!K79=3, AD79/COUNTRY_INFO!F79*100))),\"-\"),0)","v":0},{"$f":"IF(COUNTRY_INFO!K79=2,IF(COUNTRY_INFO!G79*0.2>MAX('T1'!N79,'T2'!L79),MAX('T1'!N79,'T2'!L79),COUNTRY_INFO!G79*0.2),IF(COUNTRY_INFO!K79=3,IF(COUNTRY_INFO!G79>MAX('T1'!N79,'T2'!L79),MAX('T1'!N79,'T2'!L79),COUNTRY_INFO!G79),0))","v":0},{"$f":"IF(AND(COUNTRY_INFO!K79>0,COUNTRY_INFO!K79<4),IF(Z79>0,IF(COUNTRY_INFO!K79=1, 0, IF(COUNTRY_INFO!K79=2, AF79/(COUNTRY_INFO!G79*0.2)*100, IF(COUNTRY_INFO!K79=3, AF79/COUNTRY_INFO!G79*100))),\"-\"),0)","v":0},0,{"$f":"IF(AND(COUNTRY_INFO!K79>0,COUNTRY_INFO!K79<4), IF(AC79/Z79*100<>0, IF(AH79/Z79*100>100,100,AH79/Z79*100), \"-\"),0)","v":"-"},null,{"$f":"IF(AND(D79<>0, D79<>\"Unknown\",D79<>\"Stopped\",D79<>\"Not required\"),D79/COUNTRY_INFO!D79, 0)","v":0},{"$f":"IF(AND(J79<>0,J79<>\"Unknown\",J79<>\"Stopped\",J79<>\"Not required\"),J79/COUNTRY_INFO!D79, 0)","v":0},{"$f":"IF(AND(P79<>0,P79<>\"Unknown\",P79<>\"Not required\"),P79/(COUNTRY_INFO!E79+COUNTRY_INFO!F79), 0)","v":1},{"$f":"IF(AND(Z79<>0,Z79<>\"Unknown\",Z79<>\"Not required\"),IF(COUNTRY_INFO!K79=1,1,IF(COUNTRY_INFO!K79=2,0.5*COUNTRY_INFO!F79/(0.5*COUNTRY_INFO!F79+0.2*COUNTRY_INFO!G79),IF(COUNTRY_INFO!K79=3,COUNTRY_INFO!F79/(COUNTRY_INFO!F79+COUNTRY_INFO!G79)))),0)","v":0.43779992414289715},{"$f":"IF(AND(Z79<>0,Z79<>\"Unknown\",Z79<>\"Not required\"),IF(COUNTRY_INFO!K79=1,0,IF(COUNTRY_INFO!K79=2,0.2*COUNTRY_INFO!G79/(0.5*COUNTRY_INFO!F79+0.2*COUNTRY_INFO!G79),IF(COUNTRY_INFO!K79=3,COUNTRY_INFO!G79/(COUNTRY_INFO!F79+COUNTRY_INFO!G79)))),0)","v":0.56220007585710285},{"$f":"MAX(COUNTRY_INFO!D79*AK79*PROFILE!$G$7,COUNTRY_INFO!D79*AL79*PROFILE!$G$7)","v":0},{"$f":"MAX(COUNTRY_INFO!D79*AK79*PROFILE!$G$8,COUNTRY_INFO!D79*AL79*PROFILE!$G$8,COUNTRY_INFO!D79*AM79*PROFILE!$G$8)","v":25648.073611147756},{"$f":"MAX(COUNTRY_INFO!D79*AK79*PROFILE!$G$9,COUNTRY_INFO!D79*AL79*PROFILE!$G$9,COUNTRY_INFO!D79*AM79*PROFILE!$G$9,IF(AND(DISTRICT!Z79<>\"Unknown\",Z79<>\"Not required\"),COUNTRY_INFO!O79*DISTRICT!AN79,0))","v":50306.02303705243},{"$f":"MAX(COUNTRY_INFO!D79*AK79*PROFILE!$G$10,COUNTRY_INFO!D79*AL79*PROFILE!$G$10,IF(AND(DISTRICT!Z79<>\"Unknown\",Z79<>\"Not required\"),COUNTRY_INFO!O79*DISTRICT!AO79,0))","v":30682.800000000003},106636.89664820019,0,{"$f":"MAX('MDA2'!J79,'T1'!L79,'T2'!J79,T3_R1!K79,T3_R2!K79)","v":0},{"$f":"MAX('MDA1'!K79,'MDA2'!K79,'MDA3'!I79,'MDA3'!L79,'T1'!M79,'T2'!K79,T3_R1!L79,T3_R2!L79)","v":41109},{"$f":"MAX('MDA1'!L79,'MDA2'!L79,'MDA3'!J79,'MDA3'!M79,'T1'!N79,'T2'!L79,T3_R1!M79,T3_R2!M79)","v":0},41109,{"$f":"MAX('MDA2'!J79,T79)","v":0},{"$f":"MAX('MDA1'!K79,'MDA2'!K79,'MDA3'!I79,'MDA3'!L79,V79,AD79)","v":41109},{"$f":"MAX('MDA1'!L79,'MDA2'!L79,'MDA3'!J79,'MDA3'!M79,AF79)","v":0},41109,38.550446695406379]
[{"$f":"IF(COUNTRY_INFO!A80=0,\" \",COUNTRY_INFO!A80)","v":"Tanzania"},{"$f":"IF(COUNTRY_INFO!B80=0,\" \",COUNTRY_INFO!B80)","v":"Manyara"},{"$f":"IF(COUNTRY_INFO!C80=0,\" \",COUNTRY_INFO!C80)","v":"Mbulu Town Council"},{"$f":"COUNTRY_INFO!L80","v":"Stopped"},null,null,{"$f":"MAX('MDA1'!M80,'MDA2'!M80)","v":0},{"$f":"IF(AND(COUNTRY_INFO!H80>0,COUNTRY_INFO!H80<4),IF(D80>MAX('MDA1'!M80,'MDA2'!M80),MAX('MDA1'!M80,'MDA2'!M80),D80),0)","v":0},{"$f":"IF(AND(COUNTRY_INFO!H80>0,COUNTRY_INFO!H80<4), IF(G80/D80*100<>0, IF(G80/D80*100>100,100,G80/D80*100), \"-\"),0)","v":0},{"$f":"COUNTRY_INFO!M80","v":0},null,null,{"$f":"MAX('MDA1'!M80,MAX('MDA3'!I80,'MDA3'!L80)+MAX('MDA3'!J80,'MDA3'!M80))","v":0},{"$f":"IF(AND(COUNTRY_INFO!I80>0,COUNTRY_INFO!I80<4),IF(J80>MAX('MDA1'!M80,MAX('MDA3'!I80,'MDA3'!L80)+MAX('MDA3'!J80,'MDA3'!M80)),MAX('MDA1'!M80,MAX('MDA3'!I80,'MDA3'!L80)+MAX('MDA3'!J80,'MDA3'!M80)),J80),0)","v":0},{"$f":"IF(AND(COUNTRY_INFO!I80>0,COUNTRY_INFO!I80<4), IF(M80/J80*100<>0, IF(M80/J80*100>100,100,M80/J80*100), \"-\"),0)","v":0},{"$f":"COUNTRY_INFO!N80","v":52364},null,null,{"$f":"SUM(MAX('MDA2'!J80, 'T1'!L80, MAX(T3_R1!K80, T3_R2!K80)), MAX('MDA1'!K80, 'MDA2'!K80, 'T1'!M80, MAX(T3_R1!L80, T3_R2!L80)), MAX('MDA1'!L80, 'MDA2'!L80, 'T1'!N80, MAX(T3_R1!M80, T3_R2!M80)))","v":28615},{"$f":"IF(AND(COUNTRY_INFO!J80>1,COUNTRY_INFO!J80<4),IF(COUNTRY_INFO!E80>MAX('MDA2'!J80,'T1'!L80,MAX(T3_R1!K80,T3_R2!K80)),MAX('MDA2'!J80,'T1'!L80,MAX(T3_R1!K80,T3_R2!K80)),COUNTRY_INFO!E80),0)","v":0},{"$f":"IF(AND(COUNTRY_INFO!J80>1,COUNTRY_INFO!J80<4), IF(T80/COUNTRY_INFO!E80*100<>0, IF(T80/COUNTRY_INFO!E80*100>100,100,T80/COUNTRY_INFO!E80*100), \"-\"),0)","v":"-"},{"$f":"IF(AND(COUNTRY_INFO!J80>1,COUNTRY_INFO!J80<4),IF(COUNTRY_INFO!F80>MAX('MDA1'!K80,'MDA2'!K80,'T1'!M80,MAX(T3_R1!L80,T3_R2!L80)),MAX('MDA1'!K80,'MDA2'!K80,'T1'!M80,MAX(T3_R1!L80,T3_R2!L80)),COUNTRY_INFO!F80),0)","v":28615},{"$f":"IF(AND(COUNTRY_INFO!J80>1,COUNTRY_INFO!J80<4), IF(V80/COUNTRY_INFO!F80*100<>0, IF(V80/COUNTRY_INFO!F80*100>100,100,V80/COUNTRY_INFO!F80*100), \"-\"),0)","v":88.723179957832073},28615,{"$f":"IF(AND(COUNTRY_INFO!J80>1,COUNTRY_INFO!J80<4), IF(S80/P80*100<>0, IF(X80/P80*100>100,100,X80/P80*100), \"-\"),0)","v":54.646321900542361},{"$f":"COUNTRY_INFO!O80","v":36834.600000000006},null,null,{"$f":"MAX('T1'!L80,'T2'!J80)+MAX('T1'!M80,'T2'!K80)+MAX('T1'!N80,'T2'!L80)","v":0},{"$f":"IF(COUNTRY_INFO!K80=1,IF(COUNTRY_INFO!F80*0.33>MAX('T1'!M80,'T2'!K80),MAX('T1'!M80,'T2'!K80),COUNTRY_INFO!F80*0.33),IF(COUNTRY_INFO!K80=2,IF(COUNTRY_INFO!F80*0.5>MAX('T1'!M80,'T2'!K80),MAX('T1'!M80,'T2'!K80),COUNTRY_INFO!F80*0.5),IF(COUNTRY_INFO!K80=3,IF(COUNTRY_INFO!F80>MAX('T1'!M80,'T2'!K80),MAX('T1'!M80,'T2'!K80),COUNTRY_INFO!F80),0)))","v":0},{"$f":"IF(AND(COUNTRY_INFO!K80>0,COUNTRY_INFO!K80<4),IF(Z80>0,IF(COUNTRY_INFO!K80=1, AD80/(COUNTRY_INFO!F80*0.33)*100, IF(COUNTRY_INFO!K80=2, AD80/(COUNTRY_INFO!F80*0.5)*100, IF(COUNTRY_INFO!K80=3, AD80/COUNTRY_INFO!F80*100))),\"-\"),0)","v":0},{"$f":"IF(COUNTRY_INFO!K80=2,IF(COUNTRY_INFO!G80*0.2>MAX('T1'!N80,'T2'!L80),MAX('T1'!N80,'T2'!L80),COUNTRY_INFO!G80*0.2),IF(COUNTRY_INFO!K80=3,IF(COUNTRY_INFO!G80>MAX('T1'!N80,'T2'!L80),MAX('T1'!N80,'T2'!L80),COUNTRY_INFO!G80),0))","v":0},{"$f":"IF(AND(COUNTRY_INFO!K80>0,COUNTRY_INFO!K80<4),IF(Z80>0,IF(COUNTRY_INFO!K80=1, 0, IF(COUNTRY_INFO!K80=2, AF80/(COUNTRY_INFO!G80*0.2)*100, IF(COUNTRY_INFO!K80=3, AF80/COUNTRY_INFO!G80*100))),\"-\"),0)","v":0},0,{"$f":"IF(AND(COUNTRY_INFO!K80>0,COUNTRY_INFO!K80<4), IF(AC80/Z80*100<>0, IF(AH80/Z80*100>100,100,AH80/Z80*100), \"-\"),0)","v":"-"},null,{"$f":"IF(AND(D80<>0, D80<>\"Unknown\",D80<>\"Stopped\",D80<>\"Not required\"),D80/COUNTRY_INFO!D80, 0)","v":0},{"$f":"IF(AND(J80<>0,J80<>\"Unknown\",J80<>\"Stopped\",J80<>\"Not required\"),J80/COUNTRY_INFO!D80, 0)","v":0},{"$f":"IF(AND(P80<>0,P80<>\"Unknown\",P80<>\"Not required\"),P80/(COUNTRY_INFO!E80+COUNTRY_INFO!F80), 0)","v":1},{"$f":"IF(AND(Z80<>0,Z80<>\"Unknown\",Z80<>\"Not required\"),IF(COUNTRY_INFO!K80=1,1,IF(COUNTRY_INFO!K80=2,0.5*COUNTRY_INFO!F80/(0.5*COUNTRY_INFO!F80+0.2*COUNTRY_INFO!G80),IF(COUNTRY_INFO!K80=3,COUNTRY_INFO!F80/(COUNTRY_INFO!F80+COUNTRY_INFO!G80)))),0)","v":0.43779489936092686},{"$f":"IF(AND(Z80<>0,Z80<>\"Unknown\",Z80<>\"Not required\"),IF(COUNTRY_INFO!K80=1,0,IF(COUNTRY_INFO!K80=2,0.2*COUNTRY_INFO!G80/(0.5*COUNTRY_INFO!F80+0.2*COUNTRY_INFO!G80),IF(COUNTRY_INFO!K80=3,COUNTRY_INFO!G80/(COUNTRY_INFO!F80+COUNTRY_INFO!G80)))),0)","v":0.56220510063907303},{"$f":"MAX(COUNTRY_INFO!D80*AK80*PROFILE!$G$7,COUNTRY_INFO!D80*AL80*PROFILE!$G$7)","v":0},{"$f":"MAX(COUNTRY_INFO!D80*AK80*PROFILE!$G$8,COUNTRY_INFO!D80*AL80*PROFILE!$G$8,COUNTRY_INFO!D80*AM80*PROFILE!$G$8)","v":17310.451136334257},{"$f":"MAX(COUNTRY_INFO!D80*AK80*PROFILE!$G$9,COUNTRY_INFO!D80*AL80*PROFILE!$G$9,COUNTRY_INFO!D80*AM80*PROFILE!$G$9,IF(AND(DISTRICT!Z80<>\"Unknown\",Z80<>\"Not required\"),COUNTRY_INFO!O80*DISTRICT!AN80,0))","v":33952.645600163349},{"$f":"MAX(COUNTRY_INFO!D80*AK80*PROFILE!$G$10,COUNTRY_INFO!D80*AL80*PROFILE!$G$10,IF(AND(DISTRICT!Z80<>\"Unknown\",Z80<>\"Not required\"),COUNTRY_INFO!O80*DISTRICT!AO80,0))","v":20708.600000000002},71971.696736497615,0,{"$f":"MAX('MDA2'!J80,'T1'!L80,'T2'!J80,T3_R1!K80,T3_R2!K80)","v":0},{"$f":"MAX('MDA1'!K80,'MDA2'!K80,'MDA3'!I80,'MDA3'!L80,'T1'!M80,'T2'!K80,T3_R1!L80,T3_R2!L80)","v":28615},{"$f":"MAX('MDA1'!L80,'MDA2'!L80,'MDA3'!J80,'MDA3'!M80,'T1'!N80,'T2'!L80,T3_R1!M80,T3_R2!M80)","v":0},28615,{"$f":"MAX('MDA2'!J80,T80)","v":0},{"$f":"MAX('MDA1'!K80,'MDA2'!K80,'MDA3'!I80,'MDA3'!L80,V80,AD80)","v":28615},{"$f":"MAX('MDA1'!L80,'MDA2'!L80,'MDA3'!J80,'MDA3'!M80,AF80)","v":0},28615,39.758684729589021]
[{"$f":"IF(COUNTRY_INFO!A81=0,\" \",COUNTRY_INFO!A81)","v":"Tanzania"},{"$f":"IF(COUNTRY_INFO!B81=0,\" \",COUNTRY_INFO!B81)","v":"Manyara"},{"$f":"IF(COUNTRY_INFO!C81=0,\" \",COUNTRY_INFO!C81)","v":"Simanjiro District Council"},{"$f":"COUNTRY_INFO!L81","v":"Stopped"},null,null,{"$f":"MAX('MDA1'!M81,'MDA2'!M81)","v":0},{"$f":"IF(AND(COUNTRY_INFO!H81>0,COUNTRY_INFO!H81<4),IF(D81>MAX('MDA1'!M81,'MDA2'!M81),MAX('MDA1'!M81,'MDA2'!M81),D81),0)","v":0},{"$f":"IF(AND(COUNTRY_INFO!H81>0,COUNTRY_INFO!H81<4), IF(G81/D81*100<>0, IF(G81/D81*100>100,100,G81/D81*100), \"-\"),0)","v":0},{"$f":"COUNTRY_INFO!M81","v":0},null,null,{"$f":"MAX('MDA1'!M81,MAX('MDA3'!I81,'MDA3'!L81)+MAX('MDA3'!J81,'MDA3'!M81))","v":0},{"$f":"IF(AND(COUNTRY_INFO!I81>0,COUNTRY_INFO!I81<4),IF(J81>MAX('MDA1'!M81,MAX('MDA3'!I81,'MDA3'!L81)+MAX('MDA3'!J81,'MDA3'!M81)),MAX('MDA1'!M81,MAX('MDA3'!I81,'MDA3'!L81)+MAX('MDA3'!J81,'MDA3'!M81)),J81),0)","v":0},{"$f":"IF(AND(COUNTRY_INFO!I81>0,COUNTRY_INFO!I81<4), IF(M81/J81*100<>0, IF(M81/J81*100>100,100,M81/J81*100), \"-\"),0)","v":0},{"$f":"COUNTRY_INFO!N81","v":71229},null,null,{"$f":"SUM(MAX('MDA2'!J81, 'T1'!L81, MAX(T3_R1!K81, T3_R2!K81)), MAX('MDA1'!K81, 'MDA2'!K81, 'T1'!M81, MAX(T3_R1!L81, T3_R2!L81)), MAX('MDA1'!L81, 'MDA2'!L81, 'T1'!N81, MAX(T3_R1!M81, T3_R2!M81)))","v":36094},{"$f":"IF(AND(COUNTRY_INFO!J81>1,COUNTRY_INFO!J81<4),IF(COUNTRY_INFO!E81>MAX('MDA2'!J81,'T1'!L81,MAX(T3_R1!K81,T3_R2!K81)),MAX('MDA2'!J81,'T1'!L81,MAX(T3_R1!K81,T3_R2!K81)),COUNTRY_INFO!E81),0)","v":0},{"$f":"IF(AND(COUNTRY_INFO!J81>1,COUNTRY_INFO!J81<4), IF(T81/COUNTRY_INFO!E81*100<>0, IF(T81/COUNTRY_INFO!E81*100>100,100,T81/COUNTRY_INFO!E81*100), \"-\"),0)","v":"-"},{"$f":"IF(AND(COUNTRY_INFO!J81>1,COUNTRY_INFO!J81<4),IF(COUNTRY_INFO!F81>MAX('MDA1'!K81,'MDA2'!K81,'T1'!M81,MAX(T3_R1!L81,T3_R2!L81)),MAX('MDA1'!K81,'MDA2'!K81,'T1'!M81,MAX(T3_R1!L81,T3_R2!L81)),COUNTRY_INFO!F81),0)","v":36094},{"$f":"IF(AND(COUNTRY_INFO!J81>1,COUNTRY_INFO!J81<4), IF(V81/COUNTRY_INFO!F81*100<>0, IF(V81/COUNTRY_INFO!F81*100>100,100,V81/COUNTRY_INFO!F81*100), \"-\"),0)","v":83.200405698215846},36094,{"$f":"IF(AND(COUNTRY_INFO!J81>1,COUNTRY_INFO!J81<4), IF(S81/P81*100<>0, IF(X81/P81*100>100,100,X81/P81*100), \"-\"),0)","v":50.673180867343362},{"$f":"COUNTRY_INFO!O81","v":50618.600000000006},null,null,{"$f":"MAX('T1'!L81,'T2'!J81)+MAX('T1'!M81,'T2'!K81)+MAX('T1'!N81,'T2'!L81)","v":0},{"$f":"IF(COUNTRY_INFO!K81=1,IF(COUNTRY_INFO!F81*0.33>MAX('T1'!M81,'T2'!K81),MAX('T1'!M81,'T2'!K81),COUNTRY_INFO!F81*0.33),IF(COUNTRY_INFO!K81=2,IF(COUNTRY_INFO!F81*0.5>MAX('T1'!M81,'T2'!K81),MAX('T1'!M81,'T2'!K81),COUNTRY_INFO!F81*0.5),IF(COUNTRY_INFO!K81=3,IF(COUNTRY_INFO!F81>MAX('T1'!M81,'T2'!K81),MAX('T1'!M81,'T2'!K81),COUNTRY_INFO!F81),0)))","v":0},{"$f":"IF(AND(COUNTRY_INFO!K81>0,COUNTRY_INFO!K81<4),IF(Z81>0,IF(COUNTRY_INFO!K81=1, AD81/(COUNTRY_INFO!F81*0.33)*100, IF(COUNTRY_INFO!K81=2, AD81/(COUNTRY_INFO!F81*0.5)*100, IF(COUNTRY_INFO!K81=3, AD81/COUNTRY_INFO!F81*100))),\"-\"),0)","v":0},{"$f":"IF(COUNTRY_INFO!K81=2,IF(COUNTRY_INFO!G81*0.2>MAX('T1'!N81,'T2'!L81),MAX('T1'!N81,'T2'!L81),COUNTRY_INFO!G81*0.2),IF(COUNTRY_INFO!K81=3,IF(COUNTRY_INFO!G81>MAX('T1'!N81,'T2'!L81),MAX('T1'!N81,'T2'!L81),COUNTRY_INFO!G81),0))","v":0},{"$f":"IF(AND(COUNTRY_INFO!K81>0,COUNTRY_INFO!K81<4),IF(Z81>0,IF(COUNTRY_INFO!K81=1, 0, IF(COUNTRY_INFO!K81=2, AF81/(COUNTRY_INFO!G81*0.2)*100, IF(COUNTRY_INFO!K81=3, AF81/COUNTRY_INFO!G81*100))),\"-\"),0)","v":0},0,{"$f":"IF(AND(COUNTRY_INFO!K81>0,COUNTRY_INFO!K81<4), IF(AC81/Z81*100<>0, IF(AH81/Z81*100>100,100,AH81/Z81*100), \"-\"),0)","v":"-"},null,{"$f":"IF(AND(D81<>0, D81<>\"Unknown\",D81<>\"Stopped\",D81<>\"Not required\"),D81/COUNTRY_INFO!D81, 0)","v":0},{"$f":"IF(AND(J81<>0,J81<>\"Unknown\",J81<>\"Stopped\",J81<>\"Not required\"),J81/COUNTRY_INFO!D81, 0)","v":0},{"$f":"IF(AND(P81<>0,P81<>\"Unknown\",P81<>\"Not required\"),P81/(COUNTRY_INFO!E81+COUNTRY_INFO!F81), 0)","v":1},{"$f":"IF(AND(Z81<>0,Z81<>\"Unknown\",Z81<>\"Not required\"),IF(COUNTRY_INFO!K81=1,1,IF(COUNTRY_INFO!K81=2,0.5*COUNTRY_INFO!F81/(0.5*COUNTRY_INFO!F81+0.2*COUNTRY_INFO!G81),IF(COUNTRY_INFO!K81=3,COUNTRY_INFO!F81/(COUNTRY_INFO!F81+COUNTRY_INFO!G81)))),0)","v":0.42851837071748322},{"$f":"IF(AND(Z81<>0,Z81<>\"Unknown\",Z81<>\"Not required\"),IF(COUNTRY_INFO!K81=1,0,IF(COUNTRY_INFO!K81=2,0.2*COUNTRY_INFO!G81/(0.5*COUNTRY_INFO!F81+0.2*COUNTRY_INFO!G81),IF(COUNTRY_INFO!K81=3,COUNTRY_INFO!G81/(COUNTRY_INFO!F81+COUNTRY_INFO!G81)))),0)","v":0.57148162928251667},{"$f":"MAX(COUNTRY_INFO!D81*AK81*PROFILE!$G$7,COUNTRY_INFO!D81*AL81*PROFILE!$G$7)","v":0},{"$f":"MAX(COUNTRY_INFO!D81*AK81*PROFILE!$G$8,COUNTRY_INFO!D81*AL81*PROFILE!$G$8,COUNTRY_INFO!D81*AM81*PROFILE!$G$8)","v":23967.847213063345},{"$f":"MAX(COUNTRY_INFO!D81*AK81*PROFILE!$G$9,COUNTRY_INFO!D81*AL81*PROFILE!$G$9,COUNTRY_INFO!D81*AM81*PROFILE!$G$9,IF(AND(DISTRICT!Z81<>\"Unknown\",Z81<>\"Not required\"),COUNTRY_INFO!O81*DISTRICT!AN81,0))","v":47010.434090646741},{"$f":"MAX(COUNTRY_INFO!D81*AK81*PROFILE!$G$10,COUNTRY_INFO!D81*AL81*PROFILE!$G$10,IF(AND(DISTRICT!Z81<>\"Unknown\",Z81<>\"Not required\"),COUNTRY_INFO!O81*DISTRICT!AO81,0))","v":28927.600000000002},99905.881303710092,0,{"$f":"MAX('MDA2'!J81,'T1'!L81,'T2'!J81,T3_R1!K81,T3_R2!K81)","v":0},{"$f":"MAX('MDA1'!K81,'MDA2'!K81,'MDA3'!I81,'MDA3'!L81,'T1'!M81,'T2'!K81,T3_R1!L81,T3_R2!L81)","v":36094},{"$f":"MAX('MDA1'!L81,'MDA2'!L81,'MDA3'!J81,'MDA3'!M81,'T1'!N81,'T2'!L81,T3_R1!M81,T3_R2!M81)","v":0},36094,{"$f":"MAX('MDA2'!J81,T81)","v":0},{"$f":"MAX('MDA1'!K81,'MDA2'!K81,'MDA3'!I81,'MDA3'!L81,V81,AD81)","v":36094},{"$f":"MAX('MDA1'!L81,'MDA2'!L81,'MDA3'!J81,'MDA3'!M81,AF81)","v":0},36094,36.1280032056127]
[{"$f":"IF(COUNTRY_INFO!A82=0,\" \",COUNTRY_INFO!A82)","v":"Tanzania"},{"$f":"IF(COUNTRY_INFO!B82=0,\" \",COUNTRY_INFO!B82)","v":"Mara"},{"$f":"IF(COUNTRY_INFO!C82=0,\" \",COUNTRY_INFO!C82)","v":"Bunda District Council"},{"$f":"COUNTRY_INFO!L82","v":0},null,null,{"$f":"MAX('MDA1'!M82,'MDA2'!M82)","v":0},{"$f":"IF(AND(COUNTRY_INFO!H82>0,COUNTRY_INFO!H82<4),IF(D82>MAX('MDA1'!M82,'MDA2'!M82),MAX('MDA1'!M82,'MDA2'!M82),D82),0)","v":0},{"$f":"IF(AND(COUNTRY_INFO!H82>0,COUNTRY_INFO!H82<4), IF(G82/D82*100<>0, IF(G82/D82*100>100,100,G82/D82*100), \"-\"),0)","v":0},{"$f":"COUNTRY_INFO!M82","v":0},null,null,{"$f":"MAX('MDA1'!M82,MAX('MDA3'!I82,'MDA3'!L82)+MAX('MDA3'!J82,'MDA3'!M82))","v":0},{"$f":"IF(AND(COUNTRY_INFO!I82>0,COUNTRY_INFO!I82<4),IF(J82>MAX('MDA1'!M82,MAX('MDA3'!I82,'MDA3'!L82)+MAX('MDA3'!J82,'MDA3'!M82)),MAX('MDA1'!M82,MAX('MDA3'!I82,'MDA3'!L82)+MAX('MDA3'!J82,'MDA3'!M82)),J82),0)","v":0},{"$f":"IF(AND(COUNTRY_INFO!I82>0,COUNTRY_INFO!I82<4), IF(M82/J82*100<>0, IF(M82/J82*100>100,100,M82/J82*100), \"-\"),0)","v":0},{"$f":"COUNTRY_INFO!N82","v":87190},null,null,{"$f":"SUM(MAX('MDA2'!J82, 'T1'!L82, MAX(T3_R1!K82, T3_R2!K82)), MAX('MDA1'!K82, 'MDA2'!K82, 'T1'!M82, MAX(T3_R1!L82, T3_R2!L82)), MAX('MDA1'!L82, 'MDA2'!L82, 'T1'!N82, MAX(T3_R1!M82, T3_R2!M82)))","v":56664},{"$f":"IF(AND(COUNTRY_INFO!J82>1,COUNTRY_INFO!J82<4),IF(COUNTRY_INFO!E82>MAX('MDA2'!J82,'T1'!L82,MAX(T3_R1!K82,T3_R2!K82)),MAX('MDA2'!J82,'T1'!L82,MAX(T3_R1!K82,T3_R2!K82)),COUNTRY_INFO!E82),0)","v":0},{"$f":"IF(AND(COUNTRY_INFO!J82>1,COUNTRY_INFO!J82<4), IF(T82/COUNTRY_INFO!E82*100<>0, IF(T82/COUNTRY_INFO!E82*100>100,100,T82/COUNTRY_INFO!E82*100), \"-\"),0)","v":"-"},{"$f":"IF(AND(COUNTRY_INFO!J82>1,COUNTRY_INFO!J82<4),IF(COUNTRY_INFO!F82>MAX('MDA1'!K82,'MDA2'!K82,'T1'!M82,MAX(T3_R1!L82,T3_R2!L82)),MAX('MDA1'!K82,'MDA2'!K82,'T1'!M82,MAX(T3_R1!L82,T3_R2!L82)),COUNTRY_INFO!F82),0)","v":56664},{"$f":"IF(AND(COUNTRY_INFO!J82>1,COUNTRY_INFO!J82<4), IF(V82/COUNTRY_INFO!F82*100<>0, IF(V82/COUNTRY_INFO!F82*100>100,100,V82/COUNTRY_INFO!F82*100), \"-\"),0)","v":82.089617106349692},56664,{"$f":"IF(AND(COUNTRY_INFO!J82>1,COUNTRY_INFO!J82<4), IF(S82/P82*100<>0, IF(X82/P82*100>100,100,X82/P82*100), \"-\"),0)","v":64.989104255075119},{"$f":"COUNTRY_INFO!O82","v":68356.899999999994},null,null,{"$f":"MAX('T1'!L82,'T2'!J82)+MAX('T1'!M82,'T2'!K82)+MAX('T1'!N82,'T2'!L82)","v":56664},{"$f":"IF(COUNTRY_INFO!K82=1,IF(COUNTRY_INFO!F82*0.33>MAX('T1'!M82,'T2'!K82),MAX('T1'!M82,'T2'!K82),COUNTRY_INFO!F82*0.33),IF(COUNTRY_INFO!K82=2,IF(COUNTRY_INFO!F82*0.5>MAX('T1'!M82,'T2'!K82),MAX('T1'!M82,'T2'!K82),COUNTRY_INFO!F82*0.5),IF(COUNTRY_INFO!K82=3,IF(COUNTRY_INFO!F82>MAX('T1'!M82,'T2'!K82),MAX('T1'!M82,'T2'!K82),COUNTRY_INFO!F82),0)))","v":34513.5},{"$f":"IF(AND(COUNTRY_INFO!K82>0,COUNTRY_INFO!K82<4),IF(Z82>0,IF(COUNTRY_INFO!K82=1, AD82/(COUNTRY_INFO!F82*0.33)*100, IF(COUNTRY_INFO!K82=2, AD82/(COUNTRY_INFO!F82*0.5)*100, IF(COUNTRY_INFO!K82=3, AD82/COUNTRY_INFO!F82*100))),\"-\"),0)","v":100},{"$f":"IF(COUNTRY_INFO!K82=2,IF(COUNTRY_INFO!G82*0.2>MAX('T1'!N82,'T2'!L82),MAX('T1'!N82,'T2'!L82),COUNTRY_INFO!G82*0.2),IF(COUNTRY_INFO!K82=3,IF(COUNTRY_INFO!G82>MAX('T1'!N82,'T2'!L82),MAX('T1'!N82,'T2'!L82),COUNTRY_INFO!G82),0))","v":0},{"$f":"IF(AND(COUNTRY_INFO!K82>0,COUNTRY_INFO!K82<4),IF(Z82>0,IF(COUNTRY_INFO!K82=1, 0, IF(COUNTRY_INFO!K82=2, AF82/(COUNTRY_INFO!G82*0.2)*100, IF(COUNTRY_INFO!K82=3, AF82/COUNTRY_INFO!G82*100))),\"-\"),0)","v":0},34513.5,{"$f":"IF(AND(COUNTRY_INFO!K82>0,COUNTRY_INFO!K82<4), IF(AC82/Z82*100<>0, IF(AH82/Z82*100>100,100,AH82/Z82*100), \"-\"),0)","v":50.490148031873893},null,{"$f":"IF(AND(D82<>0, D82<>\"Unknown\",D82<>\"Stopped\",D82<>\"Not required\"),D82/COUNTRY_INFO!D82, 0)","v":0},{"$f":"IF(AND(J82<>0,J82<>\"Unknown\",J82<>\"Stopped\",J82<>\"Not required\"),J82/COUNTRY_INFO!D82, 0)","v":0},{"$f":"IF(AND(P82<>0,P82<>\"Unknown\",P82<>\"Not required\"),P82/(COUNTRY_INFO!E82+COUNTRY_INFO!F82), 0)","v":1},{"$f":"IF(AND(Z82<>0,Z82<>\"Unknown\",Z82<>\"Not required\"),IF(COUNTRY_INFO!K82=1,1,IF(COUNTRY_INFO!K82=2,0.5*COUNTRY_INFO!F82/(0.5*COUNTRY_INFO!F82+0.2*COUNTRY_INFO!G82),IF(COUNTRY_INFO!K82=3,COUNTRY_INFO!F82/(COUNTRY_INFO!F82+COUNTRY_INFO!G82)))),0)","v":0.50490148031873894},{"$f":"IF(AND(Z82<>0,Z82<>\"Unknown\",Z82<>\"Not required\"),IF(COUNTRY_INFO!K82=1,0,IF(COUNTRY_INFO!K82=2,0.2*COUNTRY_INFO!G82/(0.5*COUNTRY_INFO!F82+0.2*COUNTRY_INFO!G82),IF(COUNTRY_INFO!K82=3,COUNTRY_INFO!G82/(COUNTRY_INFO!F82+COUNTRY_INFO!G82)))),0)","v":0.49509851968126123},{"$f":"MAX(COUNTRY_INFO!D82*AK82*PROFILE!$G$7,COUNTRY_INFO!D82*AL82*PROFILE!$G$7)","v":0},{"$f":"MAX(COUNTRY_INFO!D82*AK82*PROFILE!$G$8,COUNTRY_INFO!D82*AL82*PROFILE!$G$8,COUNTRY_INFO!D82*AM82*PROFILE!$G$8)","v":28469.028616508931},{"$f":"MAX(COUNTRY_INFO!D82*AK82*PROFILE!$G$9,COUNTRY_INFO!D82*AL82*PROFILE!$G$9,COUNTRY_INFO!D82*AM82*PROFILE!$G$9,IF(AND(DISTRICT!Z82<>\"Unknown\",Z82<>\"Not required\"),COUNTRY_INFO!O82*DISTRICT!AN82,0))","v":55839.032246153685},{"$f":"MAX(COUNTRY_INFO!D82*AK82*PROFILE!$G$10,COUNTRY_INFO!D82*AL82*PROFILE!$G$10,IF(AND(DISTRICT!Z82<>\"Unknown\",Z82<>\"Not required\"),COUNTRY_INFO!O82*DISTRICT!AO82,0))","v":33843.4},118151.46086266261,"Y",{"$f":"MAX('MDA2'!J82,'T1'!L82,'T2'!J82,T3_R1!K82,T3_R2!K82)","v":0},{"$f":"MAX('MDA1'!K82,'MDA2'!K82,'MDA3'!I82,'MDA3'!L82,'T1'!M82,'T2'!K82,T3_R1!L82,T3_R2!L82)","v":56664},{"$f":"MAX('MDA1'!L82,'MDA2'!L82,'MDA3'!J82,'MDA3'!M82,'T1'!N82,'T2'!L82,T3_R1!M82,T3_R2!M82)","v":0},56664,{"$f":"MAX('MDA2'!J82,T82)","v":0},{"$f":"MAX('MDA1'!K82,'MDA2'!K82,'MDA3'!I82,'MDA3'!L82,V82,AD82)","v":56664},{"$f":"MAX('MDA1'!L82,'MDA2'!L82,'MDA3'!J82,'MDA3'!M82,AF82)","v":0},56664,47.958780692407466]
[{"$f":"IF(COUNTRY_INFO!A83=0,\" \",COUNTRY_INFO!A83)","v":"Tanzania"},{"$f":"IF(COUNTRY_INFO!B83=0,\" \",COUNTRY_INFO!B83)","v":"Mara"},{"$f":"IF(COUNTRY_INFO!C83=0,\" \",COUNTRY_INFO!C83)","v":"Bunda Town Council"},{"$f":"COUNTRY_INFO!L83","v":0},null,null,{"$f":"MAX('MDA1'!M83,'MDA2'!M83)","v":0},{"$f":"IF(AND(COUNTRY_INFO!H83>0,COUNTRY_INFO!H83<4),IF(D83>MAX('MDA1'!M83,'MDA2'!M83),MAX('MDA1'!M83,'MDA2'!M83),D83),0)","v":0},{"$f":"IF(AND(COUNTRY_INFO!H83>0,COUNTRY_INFO!H83<4), IF(G83/D83*100<>0, IF(G83/D83*100>100,100,G83/D83*100), \"-\"),0)","v":0},{"$f":"COUNTRY_INFO!M83","v":0},null,null,{"$f":"MAX('MDA1'!M83,MAX('MDA3'!I83,'MDA3'!L83)+MAX('MDA3'!J83,'MDA3'!M83))","v":0},{"$f":"IF(AND(COUNTRY_INFO!I83>0,COUNTRY_INFO!I83<4),IF(J83>MAX('MDA1'!M83,MAX('MDA3'!I83,'MDA3'!L83)+MAX('MDA3'!J83,'MDA3'!M83)),MAX('MDA1'!M83,MAX('MDA3'!I83,'MDA3'!L83)+MAX('MDA3'!J83,'MDA3'!M83)),J83),0)","v":0},{"$f":"IF(AND(COUNTRY_INFO!I83>0,COUNTRY_INFO!I83<4), IF(M83/J83*100<>0, IF(M83/J83*100>100,100,M83/J83*100), \"-\"),0)","v":0},{"$f":"COUNTRY_INFO!N83","v":65923.766591102685},null,null,{"$f":"SUM(MAX('MDA2'!J83, 'T1'!L83, MAX(T3_R1!K83, T3_R2!K83)), MAX('MDA1'!K83, 'MDA2'!K83, 'T1'!M83, MAX(T3_R1!L83, T3_R2!L83)), MAX('MDA1'!L83, 'MDA2'!L83, 'T1'!N83, MAX(T3_R1!M83, T3_R2!M83)))","v":34978},{"$f":"IF(AND(COUNTRY_INFO!J83>1,COUNTRY_INFO!J83<4),IF(COUNTRY_INFO!E83>MAX('MDA2'!J83,'T1'!L83,MAX(T3_R1!K83,T3_R2!K83)),MAX('MDA2'!J83,'T1'!L83,MAX(T3_R1!K83,T3_R2!K83)),COUNTRY_INFO!E83),0)","v":0},{"$f":"IF(AND(COUNTRY_INFO!J83>1,COUNTRY_INFO!J83<4), IF(T83/COUNTRY_INFO!E83*100<>0, IF(T83/COUNTRY_INFO!E83*100>100,100,T83/COUNTRY_INFO!E83*100), \"-\"),0)","v":"-"},{"$f":"IF(AND(COUNTRY_INFO!J83>1,COUNTRY_INFO!J83<4),IF(COUNTRY_INFO!F83>MAX('MDA1'!K83,'MDA2'!K83,'T1'!M83,MAX(T3_R1!L83,T3_R2!L83)),MAX('MDA1'!K83,'MDA2'!K83,'T1'!M83,MAX(T3_R1!L83,T3_R2!L83)),COUNTRY_INFO!F83),0)","v":34978},{"$f":"IF(AND(COUNTRY_INFO!J83>1,COUNTRY_INFO!J83<4), IF(V83/COUNTRY_INFO!F83*100<>0, IF(V83/COUNTRY_INFO!F83*100>100,100,V83/COUNTRY_INFO!F83*100), \"-\"),0)","v":71.566240409207154},34978,{"$f":"IF(AND(COUNTRY_INFO!J83>1,COUNTRY_INFO!J83<4), IF(S83/P83*100<>0, IF(X83/P83*100>100,100,X83/P83*100), \"-\"),0)","v":53.058254721629872},{"$f":"COUNTRY_INFO!O83","v":37684.94668177946},null,null,{"$f":"MAX('T1'!L83,'T2'!J83)+MAX('T1'!M83,'T2'!K83)+MAX('T1'!N83,'T2'!L83)","v":34978},{"$f":"IF(COUNTRY_INFO!K83=1,IF(COUNTRY_INFO!F83*0.33>MAX('T1'!M83,'T2'!K83),MAX('T1'!M83,'T2'!K83),COUNTRY_INFO!F83*0.33),IF(COUNTRY_INFO!K83=2,IF(COUNTRY_INFO!F83*0.5>MAX('T1'!M83,'T2'!K83),MAX('T1'!M83,'T2'!K83),COUNTRY_INFO!F83*0.5),IF(COUNTRY_INFO!K83=3,IF(COUNTRY_INFO!F83>MAX('T1'!M83,'T2'!K83),MAX('T1'!M83,'T2'!K83),COUNTRY_INFO!F83),0)))","v":24437.5},{"$f":"IF(AND(COUNTRY_INFO!K83>0,COUNTRY_INFO!K83<4),IF(Z83>0,IF(COUNTRY_INFO!K83=1, AD83/(COUNTRY_INFO!F83*0.33)*100, IF(COUNTRY_INFO!K83=2, AD83/(COUNTRY_INFO!F83*0.5)*100, IF(COUNTRY_INFO!K83=3, AD83/COUNTRY_INFO!F83*100))),\"-\"),0)","v":100},{"$f":"IF(COUNTRY_INFO!K83=2,IF(COUNTRY_INFO!G83*0.2>MAX('T1'!N83,'T2'!L83),MAX('T1'!N83,'T2'!L83),COUNTRY_INFO!G83*0.2),IF(COUNTRY_INFO!K83=3,IF(COUNTRY_INFO!G83>MAX('T1'!N83,'T2'!L83),MAX('T1'!N83,'T2'!L83),COUNTRY_INFO!G83),0))","v":0},{"$f":"IF(AND(COUNTRY_INFO!K83>0,COUNTRY_INFO!K83<4),IF(Z83>0,IF(COUNTRY_INFO!K83=1, 0, IF(COUNTRY_INFO!K83=2, AF83/(COUNTRY_INFO!G83*0.2)*100, IF(COUNTRY_INFO!K83=3, AF83/COUNTRY_INFO!G83*100))),\"-\"),0)","v":0},24437.5,{"$f":"IF(AND(COUNTRY_INFO!K83>0,COUNTRY_INFO!K83<4), IF(AC83/Z83*100<>0, IF(AH83/Z83*100>100,100,AH83/Z83*100), \"-\"),0)","v":64.846847751586296},null,{"$f":"IF(AND(D83<>0, D83<>\"Unknown\",D83<>\"Stopped\",D83<>\"Not required\"),D83/COUNTRY_INFO!D83, 0)","v":0},{"$f":"IF(AND(J83<>0,J83<>\"Unknown\",J83<>\"Stopped\",J83<>\"Not required\"),J83/COUNTRY_INFO!D83, 0)","v":0},{"$f":"IF(AND(P83<>0,P83<>\"Unknown\",P83<>\"Not required\"),P83/(COUNTRY_INFO!E83+COUNTRY_INFO!F83), 0)","v":1},{"$f":"IF(AND(Z83<>0,Z83<>\"Unknown\",Z83<>\"Not required\"),IF(COUNTRY_INFO!K83=1,1,IF(COUNTRY_INFO!K83=2,0.5*COUNTRY_INFO!F83/(0.5*COUNTRY_INFO!F83+0.2*COUNTRY_INFO!G83),IF(COUNTRY_INFO!K83=3,COUNTRY_INFO!F83/(COUNTRY_INFO!F83+COUNTRY_INFO!G83)))),0)","v":0.64846847751586301},{"$f":"IF(AND(Z83<>0,Z83<>\"Unknown\",Z83<>\"Not required\"),IF(COUNTRY_INFO!K83=1,0,IF(COUNTRY_INFO!K83=2,0.2*COUNTRY_INFO!G83/(0.5*COUNTRY_INFO!F83+0.2*COUNTRY_INFO!G83),IF(COUNTRY_INFO!K83=3,COUNTRY_INFO!G83/(COUNTRY_INFO!F83+COUNTRY_INFO!G83)))),0)","v":0.3515315224841371},{"$f":"MAX(COUNTRY_INFO!D83*AK83*PROFILE!$G$7,COUNTRY_INFO!D83*AL83*PROFILE!$G$7)","v":0},{"$f":"MAX(COUNTRY_INFO!D83*AK83*PROFILE!$G$8,COUNTRY_INFO!D83*AL83*PROFILE!$G$8,COUNTRY_INFO!D83*AM83*PROFILE!$G$8)","v":14673.917993605623},{"$f":"MAX(COUNTRY_INFO!D83*AK83*PROFILE!$G$9,COUNTRY_INFO!D83*AL83*PROFILE!$G$9,COUNTRY_INFO!D83*AM83*PROFILE!$G$9,IF(AND(DISTRICT!Z83<>\"Unknown\",Z83<>\"Not required\"),COUNTRY_INFO!O83*DISTRICT!AN83,0))","v":28781.360651947558},{"$f":"MAX(COUNTRY_INFO!D83*AK83*PROFILE!$G$10,COUNTRY_INFO!D83*AL83*PROFILE!$G$10,IF(AND(DISTRICT!Z83<>\"Unknown\",Z83<>\"Not required\"),COUNTRY_INFO!O83*DISTRICT!AO83,0))","v":13247.446681779464},56702.72532733265,"Y",{"$f":"MAX('MDA2'!J83,'T1'!L83,'T2'!J83,T3_R1!K83,T3_R2!K83)","v":0},{"$f":"MAX('MDA1'!K83,'MDA2'!K83,'MDA3'!I83,'MDA3'!L83,'T1'!M83,'T2'!K83,T3_R1!L83,T3_R2!L83)","v":34978},{"$f":"MAX('MDA1'!L83,'MDA2'!L83,'MDA3'!J83,'MDA3'!M83,'T1'!N83,'T2'!L83,T3_R1!M83,T3_R2!M83)","v":0},34978,{"$f":"MAX('MDA2'!J83,T83)","v":0},{"$f":"MAX('MDA1'!K83,'MDA2'!K83,'MDA3'!I83,'MDA3'!L83,V83,AD83)","v":34978},{"$f":"MAX('MDA1'!L83,'MDA2'!L83,'MDA3'!J83,'MDA3'!M83,AF83)","v":0},34978,61.686629342909924]
[{"$f":"IF(COUNTRY_INFO!A84=0,\" \",COUNTRY_INFO!A84)","v":"Tanzania"},{"$f":"IF(COUNTRY_INFO!B84=0,\" \",COUNTRY_INFO!B84)","v":"Mara"},{"$f":"IF(COUNTRY_INFO!C84=0,\" \",COUNTRY_INFO!C84)","v":"Butiama District Council"},{"$f":"COUNTRY_INFO!L84","v":0},null,null,{"$f":"MAX('MDA1'!M84,'MDA2'!M84)","v":0},{"$f":"IF(AND(COUNTRY_INFO!H84>0,COUNTRY_INFO!H84<4),IF(D84>MAX('MDA1'!M84,'MDA2'!M84),MAX('MDA1'!M84,'MDA2'!M84),D84),0)","v":0},{"$f":"IF(AND(COUNTRY_INFO!H84>0,COUNTRY_INFO!H84<4), IF(G84/D84*100<>0, IF(G84/D84*100>100,100,G84/D84*100), \"-\"),0)","v":0},{"$f":"COUNTRY_INFO!M84","v":0},null,null,{"$f":"MAX('MDA1'!M84,MAX('MDA3'!I84,'MDA3'!L84)+MAX('MDA3'!J84,'MDA3'!M84))","v":0},{"$f":"IF(AND(COUNTRY_INFO!I84>0,COUNTRY_INFO!I84<4),IF(J84>MAX('MDA1'!M84,MAX('MDA3'!I84,'MDA3'!L84)+MAX('MDA3'!J84,'MDA3'!M84)),MAX('MDA1'!M84,MAX('MDA3'!I84,'MDA3'!L84)+MAX('MDA3'!J84,'MDA3'!M84)),J84),0)","v":0},{"$f":"IF(AND(COUNTRY_INFO!I84>0,COUNTRY_INFO!I84<4), IF(M84/J84*100<>0, IF(M84/J84*100>100,100,M84/J84*100), \"-\"),0)","v":0},{"$f":"COUNTRY_INFO!N84","v":94700},null,null,{"$f":"SUM(MAX('MDA2'!J84, 'T1'!L84, MAX(T3_R1!K84, T3_R2!K84)), MAX('MDA1'!K84, 'MDA2'!K84, 'T1'!M84, MAX(T3_R1!L84, T3_R2!L84)), MAX('MDA1'!L84, 'MDA2'!L84, 'T1'!N84, MAX(T3_R1!M84, T3_R2!M84)))","v":56761},{"$f":"IF(AND(COUNTRY_INFO!J84>1,COUNTRY_INFO!J84<4),IF(COUNTRY_INFO!E84>MAX('MDA2'!J84,'T1'!L84,MAX(T3_R1!K84,T3_R2!K84)),MAX('MDA2'!J84,'T1'!L84,MAX(T3_R1!K84,T3_R2!K84)),COUNTRY_INFO!E84),0)","v":0},{"$f":"IF(AND(COUNTRY_INFO!J84>1,COUNTRY_INFO!J84<4), IF(T84/COUNTRY_INFO!E84*100<>0, IF(T84/COUNTRY_INFO!E84*100>100,100,T84/COUNTRY_INFO!E84*100), \"-\"),0)","v":"-"},{"$f":"IF(AND(COUNTRY_INFO!J84>1,COUNTRY_INFO!J84<4),IF(COUNTRY_INFO!F84>MAX('MDA1'!K84,'MDA2'!K84,'T1'!M84,MAX(T3_R1!L84,T3_R2!L84)),MAX('MDA1'!K84,'MDA2'!K84,'T1'!M84,MAX(T3_R1!L84,T3_R2!L84)),COUNTRY_INFO!F84),0)","v":56761},{"$f":"IF(AND(COUNTRY_INFO!J84>1,COUNTRY_INFO!J84<4), IF(V84/COUNTRY_INFO!F84*100<>0, IF(V84/COUNTRY_INFO!F84*100>100,100,V84/COUNTRY_INFO!F84*100), \"-\"),0)","v":96.966021490681115},56761,{"$f":"IF(AND(COUNTRY_INFO!J84>1,COUNTRY_INFO!J84<4), IF(S84/P84*100<>0, IF(X84/P84*100>100,100,X84/P84*100), \"-\"),0)","v":59.937697993664209},{"$f":"COUNTRY_INFO!O84","v":66395.5},null,null,{"$f":"MAX('T1'!L84,'T2'!J84)+MAX('T1'!M84,'T2'!K84)+MAX('T1'!N84,'T2'!L84)","v":56761},{"$f":"IF(COUNTRY_INFO!K84=1,IF(COUNTRY_INFO!F84*0.33>MAX('T1'!M84,'T2'!K84),MAX('T1'!M84,'T2'!K84),COUNTRY_INFO!F84*0.33),IF(COUNTRY_INFO!K84=2,IF(COUNTRY_INFO!F84*0.5>MAX('T1'!M84,'T2'!K84),MAX('T1'!M84,'T2'!K84),COUNTRY_INFO!F84*0.5),IF(COUNTRY_INFO!K84=3,IF(COUNTRY_INFO!F84>MAX('T1'!M84,'T2'!K84),MAX('T1'!M84,'T2'!K84),COUNTRY_INFO!F84),0)))","v":29268.5},{"$f":"IF(AND(COUNTRY_INFO!K84>0,COUNTRY_INFO!K84<4),IF(Z84>0,IF(COUNTRY_INFO!K84=1, AD84/(COUNTRY_INFO!F84*0.33)*100, IF(COUNTRY_INFO!K84=2, AD84/(COUNTRY_INFO!F84*0.5)*100, IF(COUNTRY_INFO!K84=3, AD84/COUNTRY_INFO!F84*100))),\"-\"),0)","v":100},{"$f":"IF(COUNTRY_INFO!K84=2,IF(COUNTRY_INFO!G84*0.2>MAX('T1'!N84,'T2'!L84),MAX('T1'!N84,'T2'!L84),COUNTRY_INFO!G84*0.2),IF(COUNTRY_INFO!K84=3,IF(COUNTRY_INFO!G84>MAX('T1'!N84,'T2'!L84),MAX('T1'!N84,'T2'!L84),COUNTRY_INFO!G84),0))","v":0},{"$f":"IF(AND(COUNTRY_INFO!K84>0,COUNTRY_INFO!K84<4),IF(Z84>0,IF(COUNTRY_INFO!K84=1, 0, IF(COUNTRY_INFO!K84=2, AF84/(COUNTRY_INFO!G84*0.2)*100, IF(COUNTRY_INFO!K84=3, AF84/COUNTRY_INFO!G84*100))),\"-\"),0)","v":0},29268.5,{"$f":"IF(AND(COUNTRY_INFO!K84>0,COUNTRY_INFO!K84<4), IF(AC84/Z84*100<>0, IF(AH84/Z84*100>100,100,AH84/Z84*100), \"-\"),0)","v":44.082053753642938},null,{"$f":"IF(AND(D84<>0, D84<>\"Unknown\",D84<>\"Stopped\",D84<>\"Not required\"),D84/COUNTRY_INFO!D84, 0)","v":0},{"$f":"IF(AND(J84<>0,J84<>\"Unknown\",J84<>\"Stopped\",J84<>\"Not required\"),J84/COUNTRY_INFO!D84, 0)","v":0},{"$f":"IF(AND(P84<>0,P84<>\"Unknown\",P84<>\"Not required\"),P84/(COUNTRY_INFO!E84+COUNTRY_INFO!F84), 0)","v":1},{"$f":"IF(AND(Z84<>0,Z84<>\"Unknown\",Z84<>\"Not required\"),IF(COUNTRY_INFO!K84=1,1,IF(COUNTRY_INFO!K84=2,0.5*COUNTRY_INFO!F84/(0.5*COUNTRY_INFO!F84+0.2*COUNTRY_INFO!G84),IF(COUNTRY_INFO!K84=3,COUNTRY_INFO!F84/(COUNTRY_INFO!F84+COUNTRY_INFO!G84)))),0)","v":0.44082053753642941},{"$f":"IF(AND(Z84<>0,Z84<>\"Unknown\",Z84<>\"Not required\"),IF(COUNTRY_INFO!K84=1,0,IF(COUNTRY_INFO!K84=2,0.2*COUNTRY_INFO!G84/(0.5*COUNTRY_INFO!F84+0.2*COUNTRY_INFO!G84),IF(COUNTRY_INFO!K84=3,COUNTRY_INFO!G84/(COUNTRY_INFO!F84+COUNTRY_INFO!G84)))),0)","v":0.55917946246357053},{"$f":"MAX(COUNTRY_INFO!D84*AK84*PROFILE!$G$7,COUNTRY_INFO!D84*AL84*PROFILE!$G$7)","v":0},{"$f":"MAX(COUNTRY_INFO!D84*AK84*PROFILE!$G$8,COUNTRY_INFO!D84*AL84*PROFILE!$G$8,COUNTRY_INFO!D84*AM84*PROFILE!$G$8)","v":31125.769332385742},{"$f":"MAX(COUNTRY_INFO!D84*AK84*PROFILE!$G$9,COUNTRY_INFO!D84*AL84*PROFILE!$G$9,COUNTRY_INFO!D84*AM84*PROFILE!$G$9,IF(AND(DISTRICT!Z84<>\"Unknown\",Z84<>\"Not required\"),COUNTRY_INFO!O84*DISTRICT!AN84,0))","v":61049.95224282291},{"$f":"MAX(COUNTRY_INFO!D84*AK84*PROFILE!$G$10,COUNTRY_INFO!D84*AL84*PROFILE!$G$10,IF(AND(DISTRICT!Z84<>\"Unknown\",Z84<>\"Not required\"),COUNTRY_INFO!O84*DISTRICT!AO84,0))","v":37127},129302.72157520865,"Y",{"$f":"MAX('MDA2'!J84,'T1'!L84,'T2'!J84,T3_R1!K84,T3_R2!K84)","v":0},{"$f":"MAX('MDA1'!K84,'MDA2'!K84,'MDA3'!I84,'MDA3'!L84,'T1'!M84,'T2'!K84,T3_R1!L84,T3_R2!L84)","v":56761},{"$f":"MAX('MDA1'!L84,'MDA2'!L84,'MDA3'!J84,'MDA3'!M84,'T1'!N84,'T2'!L84,T3_R1!M84,T3_R2!M84)","v":0},56761,{"$f":"MAX('MDA2'!J84,T84)","v":0},{"$f":"MAX('MDA1'!K84,'MDA2'!K84,'MDA3'!I84,'MDA3'!L84,V84,AD84)","v":56761},{"$f":"MAX('MDA1'!L84,'MDA2'!L84,'MDA3'!J84,'MDA3'!M84,AF84)","v":0},56761,43.89776124471215]
[{"$f":"IF(COUNTRY_INFO!A85=0,\" \",COUNTRY_INFO!A85)","v":"Tanzania"},{"$f":"IF(COUNTRY_INFO!B85=0,\" \",COUNTRY_INFO!B85)","v":"Mara"},{"$f":"IF(COUNTRY_INFO!C85=0,\" \",COUNTRY_INFO!C85)","v":"Musoma District Council"},{"$f":"COUNTRY_INFO!L85","v":0},null,null,{"$f":"MAX('MDA1'!M85,'MDA2'!M85)","v":0},{"$f":"IF(AND(COUNTRY_INFO!H85>0,COUNTRY_INFO!H85<4),IF(D85>MAX('MDA1'!M85,'MDA2'!M85),MAX('MDA1'!M85,'MDA2'!M85),D85),0)","v":0},{"$f":"IF(AND(COUNTRY_INFO!H85>0,COUNTRY_INFO!H85<4), IF(G85/D85*100<>0, IF(G85/D85*100>100,100,G85/D85*100), \"-\"),0)","v":0},{"$f":"COUNTRY_INFO!M85","v":0},null,null,{"$f":"MAX('MDA1'!M85,MAX('MDA3'!I85,'MDA3'!L85)+MAX('MDA3'!J85,'MDA3'!M85))","v":0},{"$f":"IF(AND(COUNTRY_INFO!I85>0,COUNTRY_INFO!I85<4),IF(J85>MAX('MDA1'!M85,MAX('MDA3'!I85,'MDA3'!L85)+MAX('MDA3'!J85,'MDA3'!M85)),MAX('MDA1'!M85,MAX('MDA3'!I85,'MDA3'!L85)+MAX('MDA3'!J85,'MDA3'!M85)),J85),0)","v":0},{"$f":"IF(AND(COUNTRY_INFO!I85>0,COUNTRY_INFO!I85<4), IF(M85/J85*100<>0, IF(M85/J85*100>100,100,M85/J85*100), \"-\"),0)","v":0},{"$f":"COUNTRY_INFO!N85","v":97179.138029542402},null,null,{"$f":"SUM(MAX('MDA2'!J85, 'T1'!L85, MAX(T3_R1!K85, T3_R2!K85)), MAX('MDA1'!K85, 'MDA2'!K85, 'T1'!M85, MAX(T3_R1!L85, T3_R2!L85)), MAX('MDA1'!L85, 'MDA2'!L85, 'T1'!N85, MAX(T3_R1!M85, T3_R2!M85)))","v":59395},{"$f":"IF(AND(COUNTRY_INFO!J85>1,COUNTRY_INFO!J85<4),IF(COUNTRY_INFO!E85>MAX('MDA2'!J85,'T1'!L85,MAX(T3_R1!K85,T3_R2!K85)),MAX('MDA2'!J85,'T1'!L85,MAX(T3_R1!K85,T3_R2!K85)),COUNTRY_INFO!E85),0)","v":0},{"$f":"IF(AND(COUNTRY_INFO!J85>1,COUNTRY_INFO!J85<4), IF(T85/COUNTRY_INFO!E85*100<>0, IF(T85/COUNTRY_INFO!E85*100>100,100,T85/COUNTRY_INFO!E85*100), \"-\"),0)","v":"-"},{"$f":"IF(AND(COUNTRY_INFO!J85>1,COUNTRY_INFO!J85<4),IF(COUNTRY_INFO!F85>MAX('MDA1'!K85,'MDA2'!K85,'T1'!M85,MAX(T3_R1!L85,T3_R2!L85)),MAX('MDA1'!K85,'MDA2'!K85,'T1'!M85,MAX(T3_R1!L85,T3_R2!L85)),COUNTRY_INFO!F85),0)","v":59395},{"$f":"IF(AND(COUNTRY_INFO!J85>1,COUNTRY_INFO!J85<4), IF(V85/COUNTRY_INFO!F85*100<>0, IF(V85/COUNTRY_INFO!F85*100>100,100,V85/COUNTRY_INFO!F85*100), \"-\"),0)","v":84.251812133849668},59395,{"$f":"IF(AND(COUNTRY_INFO!J85>1,COUNTRY_INFO!J85<4), IF(S85/P85*100<>0, IF(X85/P85*100>100,100,X85/P85*100), \"-\"),0)","v":61.119085026195599},{"$f":"COUNTRY_INFO!O85","v":57180.272394091517},null,null,{"$f":"MAX('T1'!L85,'T2'!J85)+MAX('T1'!M85,'T2'!K85)+MAX('T1'!N85,'T2'!L85)","v":59395},{"$f":"IF(COUNTRY_INFO!K85=1,IF(COUNTRY_INFO!F85*0.33>MAX('T1'!M85,'T2'!K85),MAX('T1'!M85,'T2'!K85),COUNTRY_INFO!F85*0.33),IF(COUNTRY_INFO!K85=2,IF(COUNTRY_INFO!F85*0.5>MAX('T1'!M85,'T2'!K85),MAX('T1'!M85,'T2'!K85),COUNTRY_INFO!F85*0.5),IF(COUNTRY_INFO!K85=3,IF(COUNTRY_INFO!F85>MAX('T1'!M85,'T2'!K85),MAX('T1'!M85,'T2'!K85),COUNTRY_INFO!F85),0)))","v":35248.5},{"$f":"IF(AND(COUNTRY_INFO!K85>0,COUNTRY_INFO!K85<4),IF(Z85>0,IF(COUNTRY_INFO!K85=1, AD85/(COUNTRY_INFO!F85*0.33)*100, IF(COUNTRY_INFO!K85=2, AD85/(COUNTRY_INFO!F85*0.5)*100, IF(COUNTRY_INFO!K85=3, AD85/COUNTRY_INFO!F85*100))),\"-\"),0)","v":100},{"$f":"IF(COUNTRY_INFO!K85=2,IF(COUNTRY_INFO!G85*0.2>MAX('T1'!N85,'T2'!L85),MAX('T1'!N85,'T2'!L85),COUNTRY_INFO!G85*0.2),IF(COUNTRY_INFO!K85=3,IF(COUNTRY_INFO!G85>MAX('T1'!N85,'T2'!L85),MAX('T1'!N85,'T2'!L85),COUNTRY_INFO!G85),0))","v":0},{"$f":"IF(AND(COUNTRY_INFO!K85>0,COUNTRY_INFO!K85<4),IF(Z85>0,IF(COUNTRY_INFO!K85=1, 0, IF(COUNTRY_INFO!K85=2, AF85/(COUNTRY_INFO!G85*0.2)*100, IF(COUNTRY_INFO!K85=3, AF85/COUNTRY_INFO!G85*100))),\"-\"),0)","v":0},35248.5,{"$f":"IF(AND(COUNTRY_INFO!K85>0,COUNTRY_INFO!K85<4), IF(AC85/Z85*100<>0, IF(AH85/Z85*100>100,100,AH85/Z85*100), \"-\"),0)","v":61.644512214045086},null,{"$f":"IF(AND(D85<>0, D85<>\"Unknown\",D85<>\"Stopped\",D85<>\"Not required\"),D85/COUNTRY_INFO!D85, 0)","v":0},{"$f":"IF(AND(J85<>0,J85<>\"Unknown\",J85<>\"Stopped\",J85<>\"Not required\"),J85/COUNTRY_INFO!D85, 0)","v":0},{"$f":"IF(AND(P85<>0,P85<>\"Unknown\",P85<>\"Not required\"),P85/(COUNTRY_INFO!E85+COUNTRY_INFO!F85), 0)","v":1},{"$f":"IF(AND(Z85<>0,Z85<>\"Unknown\",Z85<>\"Not required\"),IF(COUNTRY_INFO!K85=1,1,IF(COUNTRY_INFO!K85=2,0.5*COUNTRY_INFO!F85/(0.5*COUNTRY_INFO!F85+0.2*COUNTRY_INFO!G85),IF(COUNTRY_INFO!K85=3,COUNTRY_INFO!F85/(COUNTRY_INFO!F85+COUNTRY_INFO!G85)))),0)","v":0.61644512214045089},{"$f":"IF(AND(Z85<>0,Z85<>\"Unknown\",Z85<>\"Not required\"),IF(COUNTRY_INFO!K85=1,0,IF(COUNTRY_INFO!K85=2,0.2*COUNTRY_INFO!G85/(0.5*COUNTRY_INFO!F85+0.2*COUNTRY_INFO!G85),IF(COUNTRY_INFO!K85=3,COUNTRY_INFO!G85/(COUNTRY_INFO!F85+COUNTRY_INFO!G85)))),0)","v":0.38355487785954911},{"$f":"MAX(COUNTRY_INFO!D85*AK85*PROFILE!$G$7,COUNTRY_INFO!D85*AL85*PROFILE!$G$7)","v":0},{"$f":"MAX(COUNTRY_INFO!D85*AK85*PROFILE!$G$8,COUNTRY_INFO!D85*AL85*PROFILE!$G$8,COUNTRY_INFO!D85*AM85*PROFILE!$G$8)","v":22965.351729794718},{"$f":"MAX(COUNTRY_INFO!D85*AK85*PROFILE!$G$9,COUNTRY_INFO!D85*AL85*PROFILE!$G$9,COUNTRY_INFO!D85*AM85*PROFILE!$G$9,IF(AND(DISTRICT!Z85<>\"Unknown\",Z85<>\"Not required\"),COUNTRY_INFO!O85*DISTRICT!AN85,0))","v":45044.143692371646},{"$f":"MAX(COUNTRY_INFO!D85*AK85*PROFILE!$G$10,COUNTRY_INFO!D85*AL85*PROFILE!$G$10,IF(AND(DISTRICT!Z85<>\"Unknown\",Z85<>\"Not required\"),COUNTRY_INFO!O85*DISTRICT!AO85,0))","v":21931.77239409152},89941.267816257881,"Y",{"$f":"MAX('MDA2'!J85,'T1'!L85,'T2'!J85,T3_R1!K85,T3_R2!K85)","v":0},{"$f":"MAX('MDA1'!K85,'MDA2'!K85,'MDA3'!I85,'MDA3'!L85,'T1'!M85,'T2'!K85,T3_R1!L85,T3_R2!L85)","v":59395},{"$f":"MAX('MDA1'!L85,'MDA2'!L85,'MDA3'!J85,'MDA3'!M85,'T1'!N85,'T2'!L85,T3_R1!M85,T3_R2!M85)","v":0},59395,{"$f":"MAX('MDA2'!J85,T85)","v":0},{"$f":"MAX('MDA1'!K85,'MDA2'!K85,'MDA3'!I85,'MDA3'!L85,V85,AD85)","v":59395},{"$f":"MAX('MDA1'!L85,'MDA2'!L85,'MDA3'!J85,'MDA3'!M85,AF85)","v":0},59395,66.037539209852781]
[{"$f":"IF(COUNTRY_INFO!A86=0,\" \",COUNTRY_INFO!A86)","v":"Tanzania"},{"$f":"IF(COUNTRY_INFO!B86=0,\" \",COUNTRY_INFO!B86)","v":"Mara"},{"$f":"IF(COUNTRY_INFO!C86=0,\" \",COUNTRY_INFO!C86)","v":"Musoma Municipal Council"},{"$f":"COUNTRY_INFO!L86","v":0},null,null,{"$f":"MAX('MDA1'!M86,'MDA2'!M86)","v":0},{"$f":"IF(AND(COUNTRY_INFO!H86>0,COUNTRY_INFO!H86<4),IF(D86>MAX('MDA1'!M86,'MDA2'!M86),MAX('MDA1'!M86,'MDA2'!M86),D86),0)","v":0},{"$f":"IF(AND(COUNTRY_INFO!H86>0,COUNTRY_INFO!H86<4), IF(G86/D86*100<>0, IF(G86/D86*100>100,100,G86/D86*100), \"-\"),0)","v":0},{"$f":"COUNTRY_INFO!M86","v":0},null,null,{"$f":"MAX('MDA1'!M86,MAX('MDA3'!I86,'MDA3'!L86)+MAX('MDA3'!J86,'MDA3'!M86))","v":0},{"$f":"IF(AND(COUNTRY_INFO!I86>0,COUNTRY_INFO!I86<4),IF(J86>MAX('MDA1'!M86,MAX('MDA3'!I86,'MDA3'!L86)+MAX('MDA3'!J86,'MDA3'!M86)),MAX('MDA1'!M86,MAX('MDA3'!I86,'MDA3'!L86)+MAX('MDA3'!J86,'MDA3'!M86)),J86),0)","v":0},{"$f":"IF(AND(COUNTRY_INFO!I86>0,COUNTRY_INFO!I86<4), IF(M86/J86*100<>0, IF(M86/J86*100>100,100,M86/J86*100), \"-\"),0)","v":0},{"$f":"COUNTRY_INFO!N86","v":63091},null,null,{"$f":"SUM(MAX('MDA2'!J86, 'T1'!L86, MAX(T3_R1!K86, T3_R2!K86)), MAX('MDA1'!K86, 'MDA2'!K86, 'T1'!M86, MAX(T3_R1!L86, T3_R2!L86)), MAX('MDA1'!L86, 'MDA2'!L86, 'T1'!N86, MAX(T3_R1!M86, T3_R2!M86)))","v":38114},{"$f":"IF(AND(COUNTRY_INFO!J86>1,COUNTRY_INFO!J86<4),IF(COUNTRY_INFO!E86>MAX('MDA2'!J86,'T1'!L86,MAX(T3_R1!K86,T3_R2!K86)),MAX('MDA2'!J86,'T1'!L86,MAX(T3_R1!K86,T3_R2!K86)),COUNTRY_INFO!E86),0)","v":0},{"$f":"IF(AND(COUNTRY_INFO!J86>1,COUNTRY_INFO!J86<4), IF(T86/COUNTRY_INFO!E86*100<>0, IF(T86/COUNTRY_INFO!E86*100>100,100,T86/COUNTRY_INFO!E86*100), \"-\"),0)","v":"-"},{"$f":"IF(AND(COUNTRY_INFO!J86>1,COUNTRY_INFO!J86<4),IF(COUNTRY_INFO!F86>MAX('MDA1'!K86,'MDA2'!K86,'T1'!M86,MAX(T3_R1!L86,T3_R2!L86)),MAX('MDA1'!K86,'MDA2'!K86,'T1'!M86,MAX(T3_R1!L86,T3_R2!L86)),COUNTRY_INFO!F86),0)","v":38114},{"$f":"IF(AND(COUNTRY_INFO!J86>1,COUNTRY_INFO!J86<4), IF(V86/COUNTRY_INFO!F86*100<>0, IF(V86/COUNTRY_INFO!F86*100>100,100,V86/COUNTRY_INFO!F86*100), \"-\"),0)","v":88.645455391199178},38114,{"$f":"IF(AND(COUNTRY_INFO!J86>1,COUNTRY_INFO!J86<4), IF(S86/P86*100<>0, IF(X86/P86*100>100,100,X86/P86*100), \"-\"),0)","v":60.411152145313906},{"$f":"COUNTRY_INFO!O86","v":40035.4},null,null,{"$f":"MAX('T1'!L86,'T2'!J86)+MAX('T1'!M86,'T2'!K86)+MAX('T1'!N86,'T2'!L86)","v":38114},{"$f":"IF(COUNTRY_INFO!K86=1,IF(COUNTRY_INFO!F86*0.33>MAX('T1'!M86,'T2'!K86),MAX('T1'!M86,'T2'!K86),COUNTRY_INFO!F86*0.33),IF(COUNTRY_INFO!K86=2,IF(COUNTRY_INFO!F86*0.5>MAX('T1'!M86,'T2'!K86),MAX('T1'!M86,'T2'!K86),COUNTRY_INFO!F86*0.5),IF(COUNTRY_INFO!K86=3,IF(COUNTRY_INFO!F86>MAX('T1'!M86,'T2'!K86),MAX('T1'!M86,'T2'!K86),COUNTRY_INFO!F86),0)))","v":21498},{"$f":"IF(AND(COUNTRY_INFO!K86>0,COUNTRY_INFO!K86<4),IF(Z86>0,IF(COUNTRY_INFO!K86=1, AD86/(COUNTRY_INFO!F86*0.33)*100, IF(COUNTRY_INFO!K86=2, AD86/(COUNTRY_INFO!F86*0.5)*100, IF(COUNTRY_INFO!K86=3, AD86/COUNTRY_INFO!F86*100))),\"-\"),0)","v":100},{"$f":"IF(COUNTRY_INFO!K86=2,IF(COUNTRY_INFO!G86*0.2>MAX('T1'!N86,'T2'!L86),MAX('T1'!N86,'T2'!L86),COUNTRY_INFO!G86*0.2),IF(COUNTRY_INFO!K86=3,IF(COUNTRY_INFO!G86>MAX('T1'!N86,'T2'!L86),MAX('T1'!N86,'T2'!L86),COUNTRY_INFO!G86),0))","v":0},{"$f":"IF(AND(COUNTRY_INFO!K86>0,COUNTRY_INFO!K86<4),IF(Z86>0,IF(COUNTRY_INFO!K86=1, 0, IF(COUNTRY_INFO!K86=2, AF86/(COUNTRY_INFO!G86*0.2)*100, IF(COUNTRY_INFO!K86=3, AF86/COUNTRY_INFO!G86*100))),\"-\"),0)","v":0},21498,{"$f":"IF(AND(COUNTRY_INFO!K86>0,COUNTRY_INFO!K86<4), IF(AC86/Z86*100<>0, IF(AH86/Z86*100>100,100,AH86/Z86*100), \"-\"),0)","v":53.697477732206998},null,{"$f":"IF(AND(D86<>0, D86<>\"Unknown\",D86<>\"Stopped\",D86<>\"Not required\"),D86/COUNTRY_INFO!D86, 0)","v":0},{"$f":"IF(AND(J86<>0,J86<>\"Unknown\",J86<>\"Stopped\",J86<>\"Not required\"),J86/COUNTRY_INFO!D86, 0)","v":0},{"$f":"IF(AND(P86<>0,P86<>\"Unknown\",P86<>\"Not required\"),P86/(COUNTRY_INFO!E86+COUNTRY_INFO!F86), 0)","v":1},{"$f":"IF(AND(Z86<>0,Z86<>\"Unknown\",Z86<>\"Not required\"),IF(COUNTRY_INFO!K86=1,1,IF(COUNTRY_INFO!K86=2,0.5*COUNTRY_INFO!F86/(0.5*COUNTRY_INFO!F86+0.2*COUNTRY_INFO!G86),IF(COUNTRY_INFO!K86=3,COUNTRY_INFO!F86/(COUNTRY_INFO!F86+COUNTRY_INFO!G86)))),0)","v":0.53697477732207},{"$f":"IF(AND(Z86<>0,Z86<>\"Unknown\",Z86<>\"Not required\"),IF(COUNTRY_INFO!K86=1,0,IF(COUNTRY_INFO!K86=2,0.2*COUNTRY_INFO!G86/(0.5*COUNTRY_INFO!F86+0.2*COUNTRY_INFO!G86),IF(COUNTRY_INFO!K86=3,COUNTRY_INFO!G86/(COUNTRY_INFO!F86+COUNTRY_INFO!G86)))),0)","v":0.46302522267793006},{"$f":"MAX(COUNTRY_INFO!D86*AK86*PROFILE!$G$7,COUNTRY_INFO!D86*AL86*PROFILE!$G$7)","v":0},{"$f":"MAX(COUNTRY_INFO!D86*AK86*PROFILE!$G$8,COUNTRY_INFO!D86*AL86*PROFILE!$G$8,COUNTRY_INFO!D86*AM86*PROFILE!$G$8)","v":17296.128186135822},{"$f":"MAX(COUNTRY_INFO!D86*AK86*PROFILE!$G$9,COUNTRY_INFO!D86*AL86*PROFILE!$G$9,COUNTRY_INFO!D86*AM86*PROFILE!$G$9,IF(AND(DISTRICT!Z86<>\"Unknown\",Z86<>\"Not required\"),COUNTRY_INFO!O86*DISTRICT!AN86,0))","v":33924.552626259538},{"$f":"MAX(COUNTRY_INFO!D86*AK86*PROFILE!$G$10,COUNTRY_INFO!D86*AL86*PROFILE!$G$10,IF(AND(DISTRICT!Z86<>\"Unknown\",Z86<>\"Not required\"),COUNTRY_INFO!O86*DISTRICT!AO86,0))","v":18537.400000000001},69758.080812395361,"Y",{"$f":"MAX('MDA2'!J86,'T1'!L86,'T2'!J86,T3_R1!K86,T3_R2!K86)","v":0},{"$f":"MAX('MDA1'!K86,'MDA2'!K86,'MDA3'!I86,'MDA3'!L86,'T1'!M86,'T2'!K86,T3_R1!L86,T3_R2!L86)","v":38114},{"$f":"MAX('MDA1'!L86,'MDA2'!L86,'MDA3'!J86,'MDA3'!M86,'T1'!N86,'T2'!L86,T3_R1!M86,T3_R2!M86)","v":0},38114,{"$f":"MAX('MDA2'!J86,T86)","v":0},{"$f":"MAX('MDA1'!K86,'MDA2'!K86,'MDA3'!I86,'MDA3'!L86,V86,AD86)","v":38114},{"$f":"MAX('MDA1'!L86,'MDA2'!L86,'MDA3'!J86,'MDA3'!M86,AF86)","v":0},38114,54.637397640715335]
[{"$f":"IF(COUNTRY_INFO!A87=0,\" \",COUNTRY_INFO!A87)","v":"Tanzania"},{"$f":"IF(COUNTRY_INFO!B87=0,\" \",COUNTRY_INFO!B87)","v":"Mara"},{"$f":"IF(COUNTRY_INFO!C87=0,\" \",COUNTRY_INFO!C87)","v":"Rorya District Council"},{"$f":"COUNTRY_INFO!L87","v":0},null,null,{"$f":"MAX('MDA1'!M87,'MDA2'!M87)","v":0},{"$f":"IF(AND(COUNTRY_INFO!H87>0,COUNTRY_INFO!H87<4),IF(D87>MAX('MDA1'!M87,'MDA2'!M87),MAX('MDA1'!M87,'MDA2'!M87),D87),0)","v":0},{"$f":"IF(AND(COUNTRY_INFO!H87>0,COUNTRY_INFO!H87<4), IF(G87/D87*100<>0, IF(G87/D87*100>100,100,G87/D87*100), \"-\"),0)","v":0},{"$f":"COUNTRY_INFO!M87","v":0},null,null,{"$f":"MAX('MDA1'!M87,MAX('MDA3'!I87,'MDA3'!L87)+MAX('MDA3'!J87,'MDA3'!M87))","v":0},{"$f":"IF(AND(COUNTRY_INFO!I87>0,COUNTRY_INFO!I87<4),IF(J87>MAX('MDA1'!M87,MAX('MDA3'!I87,'MDA3'!L87)+MAX('MDA3'!J87,'MDA3'!M87)),MAX('MDA1'!M87,MAX('MDA3'!I87,'MDA3'!L87)+MAX('MDA3'!J87,'MDA3'!M87)),J87),0)","v":0},{"$f":"IF(AND(COUNTRY_INFO!I87>0,COUNTRY_INFO!I87<4), IF(M87/J87*100<>0, IF(M87/J87*100>100,100,M87/J87*100), \"-\"),0)","v":0},{"$f":"COUNTRY_INFO!N87","v":140055},null,null,{"$f":"SUM(MAX('MDA2'!J87, 'T1'!L87, MAX(T3_R1!K87, T3_R2!K87)), MAX('MDA1'!K87, 'MDA2'!K87, 'T1'!M87, MAX(T3_R1!L87, T3_R2!L87)), MAX('MDA1'!L87, 'MDA2'!L87, 'T1'!N87, MAX(T3_R1!M87, T3_R2!M87)))","v":86090},{"$f":"IF(AND(COUNTRY_INFO!J87>1,COUNTRY_INFO!J87<4),IF(COUNTRY_INFO!E87>MAX('MDA2'!J87,'T1'!L87,MAX(T3_R1!K87,T3_R2!K87)),MAX('MDA2'!J87,'T1'!L87,MAX(T3_R1!K87,T3_R2!K87)),COUNTRY_INFO!E87),0)","v":0},{"$f":"IF(AND(COUNTRY_INFO!J87>1,COUNTRY_INFO!J87<4), IF(T87/COUNTRY_INFO!E87*100<>0, IF(T87/COUNTRY_INFO!E87*100>100,100,T87/COUNTRY_INFO!E87*100), \"-\"),0)","v":"-"},{"$f":"IF(AND(COUNTRY_INFO!J87>1,COUNTRY_INFO!J87<4),IF(COUNTRY_INFO!F87>MAX('MDA1'!K87,'MDA2'!K87,'T1'!M87,MAX(T3_R1!L87,T3_R2!L87)),MAX('MDA1'!K87,'MDA2'!K87,'T1'!M87,MAX(T3_R1!L87,T3_R2!L87)),COUNTRY_INFO!F87),0)","v":86090},{"$f":"IF(AND(COUNTRY_INFO!J87>1,COUNTRY_INFO!J87<4), IF(V87/COUNTRY_INFO!F87*100<>0, IF(V87/COUNTRY_INFO!F87*100>100,100,V87/COUNTRY_INFO!F87*100), \"-\"),0)","v":85.768368617683691},86090,{"$f":"IF(AND(COUNTRY_INFO!J87>1,COUNTRY_INFO!J87<4), IF(S87/P87*100<>0, IF(X87/P87*100>100,100,X87/P87*100), \"-\"),0)","v":61.46870872157367},{"$f":"COUNTRY_INFO!O87","v":83696.100000000006},null,null,{"$f":"MAX('T1'!L87,'T2'!J87)+MAX('T1'!M87,'T2'!K87)+MAX('T1'!N87,'T2'!L87)","v":86090},{"$f":"IF(COUNTRY_INFO!K87=1,IF(COUNTRY_INFO!F87*0.33>MAX('T1'!M87,'T2'!K87),MAX('T1'!M87,'T2'!K87),COUNTRY_INFO!F87*0.33),IF(COUNTRY_INFO!K87=2,IF(COUNTRY_INFO!F87*0.5>MAX('T1'!M87,'T2'!K87),MAX('T1'!M87,'T2'!K87),COUNTRY_INFO!F87*0.5),IF(COUNTRY_INFO!K87=3,IF(COUNTRY_INFO!F87>MAX('T1'!M87,'T2'!K87),MAX('T1'!M87,'T2'!K87),COUNTRY_INFO!F87),0)))","v":50187.5},{"$f":"IF(AND(COUNTRY_INFO!K87>0,COUNTRY_INFO!K87<4),IF(Z87>0,IF(COUNTRY_INFO!K87=1, AD87/(COUNTRY_INFO!F87*0.33)*100, IF(COUNTRY_INFO!K87=2, AD87/(COUNTRY_INFO!F87*0.5)*100, IF(COUNTRY_INFO!K87=3, AD87/COUNTRY_INFO!F87*100))),\"-\"),0)","v":100},{"$f":"IF(COUNTRY_INFO!K87=2,IF(COUNTRY_INFO!G87*0.2>MAX('T1'!N87,'T2'!L87),MAX('T1'!N87,'T2'!L87),COUNTRY_INFO!G87*0.2),IF(COUNTRY_INFO!K87=3,IF(COUNTRY_INFO!G87>MAX('T1'!N87,'T2'!L87),MAX('T1'!N87,'T2'!L87),COUNTRY_INFO!G87),0))","v":0},{"$f":"IF(AND(COUNTRY_INFO!K87>0,COUNTRY_INFO!K87<4),IF(Z87>0,IF(COUNTRY_INFO!K87=1, 0, IF(COUNTRY_INFO!K87=2, AF87/(COUNTRY_INFO!G87*0.2)*100, IF(COUNTRY_INFO!K87=3, AF87/COUNTRY_INFO!G87*100))),\"-\"),0)","v":0},50187.5,{"$f":"IF(AND(COUNTRY_INFO!K87>0,COUNTRY_INFO!K87<4), IF(AC87/Z87*100<>0, IF(AH87/Z87*100>100,100,AH87/Z87*100), \"-\"),0)","v":59.963964868136024},null,{"$f":"IF(AND(D87<>0, D87<>\"Unknown\",D87<>\"Stopped\",D87<>\"Not required\"),D87/COUNTRY_INFO!D87, 0)","v":0},{"$f":"IF(AND(J87<>0,J87<>\"Unknown\",J87<>\"Stopped\",J87<>\"Not required\"),J87/COUNTRY_INFO!D87, 0)","v":0},{"$f":"IF(AND(P87<>0,P87<>\"Unknown\",P87<>\"Not required\"),P87/(COUNTRY_INFO!E87+COUNTRY_INFO!F87), 0)","v":1},{"$f":"IF(AND(Z87<>0,Z87<>\"Unknown\",Z87<>\"Not required\"),IF(COUNTRY_INFO!K87=1,1,IF(COUNTRY_INFO!K87=2,0.5*COUNTRY_INFO!F87/(0.5*COUNTRY_INFO!F87+0.2*COUNTRY_INFO!G87),IF(COUNTRY_INFO!K87=3,COUNTRY_INFO!F87/(COUNTRY_INFO!F87+COUNTRY_INFO!G87)))),0)","v":0.59963964868136022},{"$f":"IF(AND(Z87<>0,Z87<>\"Unknown\",Z87<>\"Not required\"),IF(COUNTRY_INFO!K87=1,0,IF(COUNTRY_INFO!K87=2,0.2*COUNTRY_INFO!G87/(0.5*COUNTRY_INFO!F87+0.2*COUNTRY_INFO!G87),IF(COUNTRY_INFO!K87=3,COUNTRY_INFO!G87/(COUNTRY_INFO!F87+COUNTRY_INFO!G87)))),0)","v":0.40036035131863967},{"$f":"MAX(COUNTRY_INFO!D87*AK87*PROFILE!$G$7,COUNTRY_INFO!D87*AL87*PROFILE!$G$7)","v":0},{"$f":"MAX(COUNTRY_INFO!D87*AK87*PROFILE!$G$8,COUNTRY_INFO!D87*AL87*PROFILE!$G$8,COUNTRY_INFO!D87*AM87*PROFILE!$G$8)","v":34152.797171609644},{"$f":"MAX(COUNTRY_INFO!D87*AK87*PROFILE!$G$9,COUNTRY_INFO!D87*AL87*PROFILE!$G$9,COUNTRY_INFO!D87*AM87*PROFILE!$G$9,IF(AND(DISTRICT!Z87<>\"Unknown\",Z87<>\"Not required\"),COUNTRY_INFO!O87*DISTRICT!AN87,0))","v":66987.15183615261},{"$f":"MAX(COUNTRY_INFO!D87*AK87*PROFILE!$G$10,COUNTRY_INFO!D87*AL87*PROFILE!$G$10,IF(AND(DISTRICT!Z87<>\"Unknown\",Z87<>\"Not required\"),COUNTRY_INFO!O87*DISTRICT!AO87,0))","v":33508.6},134648.54900776225,"Y",{"$f":"MAX('MDA2'!J87,'T1'!L87,'T2'!J87,T3_R1!K87,T3_R2!K87)","v":0},{"$f":"MAX('MDA1'!K87,'MDA2'!K87,'MDA3'!I87,'MDA3'!L87,'T1'!M87,'T2'!K87,T3_R1!L87,T3_R2!L87)","v":86090},{"$f":"MAX('MDA1'!L87,'MDA2'!L87,'MDA3'!J87,'MDA3'!M87,'T1'!N87,'T2'!L87,T3_R1!M87,T3_R2!M87)","v":0},86090,{"$f":"MAX('MDA2'!J87,T87)","v":0},{"$f":"MAX('MDA1'!K87,'MDA2'!K87,'MDA3'!I87,'MDA3'!L87,V87,AD87)","v":86090},{"$f":"MAX('MDA1'!L87,'MDA2'!L87,'MDA3'!J87,'MDA3'!M87,AF87)","v":0},86090,63.936819694237521]
[{"$f":"IF(COUNTRY_INFO!A88=0,\" \",COUNTRY_INFO!A88)","v":"Tanzania"},{"$f":"IF(COUNTRY_INFO!B88=0,\" \",COUNTRY_INFO!B88)","v":"Mara"},{"$f":"IF(COUNTRY_INFO!C88=0,\" \",COUNTRY_INFO!C88)","v":"Serengeti District Council"},{"$f":"COUNTRY_INFO!L88","v":0},null,null,{"$f":"MAX('MDA1'!M88,'MDA2'!M88)","v":0},{"$f":"IF(AND(COUNTRY_INFO!H88>0,COUNTRY_INFO!H88<4),IF(D88>MAX('MDA1'!M88,'MDA2'!M88),MAX('MDA1'!M88,'MDA2'!M88),D88),0)","v":0},{"$f":"IF(AND(COUNTRY_INFO!H88>0,COUNTRY_INFO!H88<4), IF(G88/D88*100<>0, IF(G88/D88*100>100,100,G88/D88*100), \"-\"),0)","v":0},{"$f":"COUNTRY_INFO!M88","v":0},null,null,{"$f":"MAX('MDA1'!M88,MAX('MDA3'!I88,'MDA3'!L88)+MAX('MDA3'!J88,'MDA3'!M88))","v":0},{"$f":"IF(AND(COUNTRY_INFO!I88>0,COUNTRY_INFO!I88<4),IF(J88>MAX('MDA1'!M88,MAX('MDA3'!I88,'MDA3'!L88)+MAX('MDA3'!J88,'MDA3'!M88)),MAX('MDA1'!M88,MAX('MDA3'!I88,'MDA3'!L88)+MAX('MDA3'!J88,'MDA3'!M88)),J88),0)","v":0},{"$f":"IF(AND(COUNTRY_INFO!I88>0,COUNTRY_INFO!I88<4), IF(M88/J88*100<>0, IF(M88/J88*100>100,100,M88/J88*100), \"-\"),0)","v":0},{"$f":"COUNTRY_INFO!N88","v":99507},null,null,{"$f":"SUM(MAX('MDA2'!J88, 'T1'!L88, MAX(T3_R1!K88, T3_R2!K88)), MAX('MDA1'!K88, 'MDA2'!K88, 'T1'!M88, MAX(T3_R1!L88, T3_R2!L88)), MAX('MDA1'!L88, 'MDA2'!L88, 'T1'!N88, MAX(T3_R1!M88, T3_R2!M88)))","v":64909},{"$f":"IF(AND(COUNTRY_INFO!J88>1,COUNTRY_INFO!J88<4),IF(COUNTRY_INFO!E88>MAX('MDA2'!J88,'T1'!L88,MAX(T3_R1!K88,T3_R2!K88)),MAX('MDA2'!J88,'T1'!L88,MAX(T3_R1!K88,T3_R2!K88)),COUNTRY_INFO!E88),0)","v":0},{"$f":"IF(AND(COUNTRY_INFO!J88>1,COUNTRY_INFO!J88<4), IF(T88/COUNTRY_INFO!E88*100<>0, IF(T88/COUNTRY_INFO!E88*100>100,100,T88/COUNTRY_INFO!E88*100), \"-\"),0)","v":"-"},{"$f":"IF(AND(COUNTRY_INFO!J88>1,COUNTRY_INFO!J88<4),IF(COUNTRY_INFO!F88>MAX('MDA1'!K88,'MDA2'!K88,'T1'!M88,MAX(T3_R1!L88,T3_R2!L88)),MAX('MDA1'!K88,'MDA2'!K88,'T1'!M88,MAX(T3_R1!L88,T3_R2!L88)),COUNTRY_INFO!F88),0)","v":64909},{"$f":"IF(AND(COUNTRY_INFO!J88>1,COUNTRY_INFO!J88<4), IF(V88/COUNTRY_INFO!F88*100<>0, IF(V88/COUNTRY_INFO!F88*100>100,100,V88/COUNTRY_INFO!F88*100), \"-\"),0)","v":78.426610603644093},64909,{"$f":"IF(AND(COUNTRY_INFO!J88>1,COUNTRY_INFO!J88<4), IF(S88/P88*100<>0, IF(X88/P88*100>100,100,X88/P88*100), \"-\"),0)","v":65.230586792888943},{"$f":"COUNTRY_INFO!O88","v":79330.8},null,null,{"$f":"MAX('T1'!L88,'T2'!J88)+MAX('T1'!M88,'T2'!K88)+MAX('T1'!N88,'T2'!L88)","v":64909},{"$f":"IF(COUNTRY_INFO!K88=1,IF(COUNTRY_INFO!F88*0.33>MAX('T1'!M88,'T2'!K88),MAX('T1'!M88,'T2'!K88),COUNTRY_INFO!F88*0.33),IF(COUNTRY_INFO!K88=2,IF(COUNTRY_INFO!F88*0.5>MAX('T1'!M88,'T2'!K88),MAX('T1'!M88,'T2'!K88),COUNTRY_INFO!F88*0.5),IF(COUNTRY_INFO!K88=3,IF(COUNTRY_INFO!F88>MAX('T1'!M88,'T2'!K88),MAX('T1'!M88,'T2'!K88),COUNTRY_INFO!F88),0)))","v":41382},{"$f":"IF(AND(COUNTRY_INFO!K88>0,COUNTRY_INFO!K88<4),IF(Z88>0,IF(COUNTRY_INFO!K88=1, AD88/(COUNTRY_INFO!F88*0.33)*100, IF(COUNTRY_INFO!K88=2, AD88/(COUNTRY_INFO!F88*0.5)*100, IF(COUNTRY_INFO!K88=3, AD88/COUNTRY_INFO!F88*100))),\"-\"),0)","v":100},{"$f":"IF(COUNTRY_INFO!K88=2,IF(COUNTRY_INFO!G88*0.2>MAX('T1'!N88,'T2'!L88),MAX('T1'!N88,'T2'!L88),COUNTRY_INFO!G88*0.2),IF(COUNTRY_INFO!K88=3,IF(COUNTRY_INFO!G88>MAX('T1'!N88,'T2'!L88),MAX('T1'!N88,'T2'!L88),COUNTRY_INFO!G88),0))","v":0},{"$f":"IF(AND(COUNTRY_INFO!K88>0,COUNTRY_INFO!K88<4),IF(Z88>0,IF(COUNTRY_INFO!K88=1, 0, IF(COUNTRY_INFO!K88=2, AF88/(COUNTRY_INFO!G88*0.2)*100, IF(COUNTRY_INFO!K88=3, AF88/COUNTRY_INFO!G88*100))),\"-\"),0)","v":0},41382,{"$f":"IF(AND(COUNTRY_INFO!K88>0,COUNTRY_INFO!K88<4), IF(AC88/Z88*100<>0, IF(AH88/Z88*100>100,100,AH88/Z88*100), \"-\"),0)","v":52.163850610355624},null,{"$f":"IF(AND(D88<>0, D88<>\"Unknown\",D88<>\"Stopped\",D88<>\"Not required\"),D88/COUNTRY_INFO!D88, 0)","v":0},{"$f":"IF(AND(J88<>0,J88<>\"Unknown\",J88<>\"Stopped\",J88<>\"Not required\"),J88/COUNTRY_INFO!D88, 0)","v":0},{"$f":"IF(AND(P88<>0,P88<>\"Unknown\",P88<>\"Not required\"),P88/(COUNTRY_INFO!E88+COUNTRY_INFO!F88), 0)","v":1},{"$f":"IF(AND(Z88<>0,Z88<>\"Unknown\",Z88<>\"Not required\"),IF(COUNTRY_INFO!K88=1,1,IF(COUNTRY_INFO!K88=2,0.5*COUNTRY_INFO!F88/(0.5*COUNTRY_INFO!F88+0.2*COUNTRY_INFO!G88),IF(COUNTRY_INFO!K88=3,COUNTRY_INFO!F88/(COUNTRY_INFO!F88+COUNTRY_INFO!G88)))),0)","v":0.52163850610355622},{"$f":"IF(AND(Z88<>0,Z88<>\"Unknown\",Z88<>\"Not required\"),IF(COUNTRY_INFO!K88=1,0,IF(COUNTRY_INFO!K88=2,0.2*COUNTRY_INFO!G88/(0.5*COUNTRY_INFO!F88+0.2*COUNTRY_INFO!G88),IF(COUNTRY_INFO!K88=3,COUNTRY_INFO!G88/(COUNTRY_INFO!F88+COUNTRY_INFO!G88)))),0)","v":0.47836149389644378},{"$f":"MAX(COUNTRY_INFO!D88*AK88*PROFILE!$G$7,COUNTRY_INFO!D88*AL88*PROFILE!$G$7)","v":0},{"$f":"MAX(COUNTRY_INFO!D88*AK88*PROFILE!$G$8,COUNTRY_INFO!D88*AL88*PROFILE!$G$8,COUNTRY_INFO!D88*AM88*PROFILE!$G$8)","v":32115.718355403031},{"$f":"MAX(COUNTRY_INFO!D88*AK88*PROFILE!$G$9,COUNTRY_INFO!D88*AL88*PROFILE!$G$9,COUNTRY_INFO!D88*AM88*PROFILE!$G$9,IF(AND(DISTRICT!Z88<>\"Unknown\",Z88<>\"Not required\"),COUNTRY_INFO!O88*DISTRICT!AN88,0))","v":62991.634067058236},{"$f":"MAX(COUNTRY_INFO!D88*AK88*PROFILE!$G$10,COUNTRY_INFO!D88*AL88*PROFILE!$G$10,IF(AND(DISTRICT!Z88<>\"Unknown\",Z88<>\"Not required\"),COUNTRY_INFO!O88*DISTRICT!AO88,0))","v":37948.800000000003},133056.15242246125,"Y",{"$f":"MAX('MDA2'!J88,'T1'!L88,'T2'!J88,T3_R1!K88,T3_R2!K88)","v":0},{"$f":"MAX('MDA1'!K88,'MDA2'!K88,'MDA3'!I88,'MDA3'!L88,'T1'!M88,'T2'!K88,T3_R1!L88,T3_R2!L88)","v":64909},{"$f":"MAX('MDA1'!L88,'MDA2'!L88,'MDA3'!J88,'MDA3'!M88,'T1'!N88,'T2'!L88,T3_R1!M88,T3_R2!M88)","v":0},64909,{"$f":"MAX('MDA2'!J88,T88)","v":0},{"$f":"MAX('MDA1'!K88,'MDA2'!K88,'MDA3'!I88,'MDA3'!L88,V88,AD88)","v":64909},{"$f":"MAX('MDA1'!L88,'MDA2'!L88,'MDA3'!J88,'MDA3'!M88,AF88)","v":0},64909,48.783163212107652]
[{"$f":"IF(COUNTRY_INFO!A89=0,\" \",COUNTRY_INFO!A89)","v":"Tanzania"},{"$f":"IF(COUNTRY_INFO!B89=0,\" \",COUNTRY_INFO!B89)","v":"Mara"},{"$f":"IF(COUNTRY_INFO!C89=0,\" \",COUNTRY_INFO!C89)","v":"Tarime District Council"},{"$f":"COUNTRY_INFO!L89","v":0},null,null,{"$f":"MAX('MDA1'!M89,'MDA2'!M89)","v":0},{"$f":"IF(AND(COUNTRY_INFO!H89>0,COUNTRY_INFO!H89<4),IF(D89>MAX('MDA1'!M89,'MDA2'!M89),MAX('MDA1'!M89,'MDA2'!M89),D89),0)","v":0},{"$f":"IF(AND(COUNTRY_INFO!H89>0,COUNTRY_INFO!H89<4), IF(G89/D89*100<>0, IF(G89/D89*100>100,100,G89/D89*100), \"-\"),0)","v":0},{"$f":"COUNTRY_INFO!M89","v":0},null,null,{"$f":"MAX('MDA1'!M89,MAX('MDA3'!I89,'MDA3'!L89)+MAX('MDA3'!J89,'MDA3'!M89))","v":0},{"$f":"IF(AND(COUNTRY_INFO!I89>0,COUNTRY_INFO!I89<4),IF(J89>MAX('MDA1'!M89,MAX('MDA3'!I89,'MDA3'!L89)+MAX('MDA3'!J89,'MDA3'!M89)),MAX('MDA1'!M89,MAX('MDA3'!I89,'MDA3'!L89)+MAX('MDA3'!J89,'MDA3'!M89)),J89),0)","v":0},{"$f":"IF(AND(COUNTRY_INFO!I89>0,COUNTRY_INFO!I89<4), IF(M89/J89*100<>0, IF(M89/J89*100>100,100,M89/J89*100), \"-\"),0)","v":0},{"$f":"COUNTRY_INFO!N89","v":141923},null,null,{"$f":"SUM(MAX('MDA2'!J89, 'T1'!L89, MAX(T3_R1!K89, T3_R2!K89)), MAX('MDA1'!K89, 'MDA2'!K89, 'T1'!M89, MAX(T3_R1!L89, T3_R2!L89)), MAX('MDA1'!L89, 'MDA2'!L89, 'T1'!N89, MAX(T3_R1!M89, T3_R2!M89)))","v":75603},{"$f":"IF(AND(COUNTRY_INFO!J89>1,COUNTRY_INFO!J89<4),IF(COUNTRY_INFO!E89>MAX('MDA2'!J89,'T1'!L89,MAX(T3_R1!K89,T3_R2!K89)),MAX('MDA2'!J89,'T1'!L89,MAX(T3_R1!K89,T3_R2!K89)),COUNTRY_INFO!E89),0)","v":0},{"$f":"IF(AND(COUNTRY_INFO!J89>1,COUNTRY_INFO!J89<4), IF(T89/COUNTRY_INFO!E89*100<>0, IF(T89/COUNTRY_INFO!E89*100>100,100,T89/COUNTRY_INFO!E89*100), \"-\"),0)","v":"-"},{"$f":"IF(AND(COUNTRY_INFO!J89>1,COUNTRY_INFO!J89<4),IF(COUNTRY_INFO!F89>MAX('MDA1'!K89,'MDA2'!K89,'T1'!M89,MAX(T3_R1!L89,T3_R2!L89)),MAX('MDA1'!K89,'MDA2'!K89,'T1'!M89,MAX(T3_R1!L89,T3_R2!L89)),COUNTRY_INFO!F89),0)","v":75603},{"$f":"IF(AND(COUNTRY_INFO!J89>1,COUNTRY_INFO!J89<4), IF(V89/COUNTRY_INFO!F89*100<>0, IF(V89/COUNTRY_INFO!F89*100>100,100,V89/COUNTRY_INFO!F89*100), \"-\"),0)","v":73.558800922367411},75603,{"$f":"IF(AND(COUNTRY_INFO!J89>1,COUNTRY_INFO!J89<4), IF(S89/P89*100<>0, IF(X89/P89*100>100,100,X89/P89*100), \"-\"),0)","v":53.270435376929747},{"$f":"COUNTRY_INFO!O89","v":83693.100000000006},null,null,{"$f":"MAX('T1'!L89,'T2'!J89)+MAX('T1'!M89,'T2'!K89)+MAX('T1'!N89,'T2'!L89)","v":75603},{"$f":"IF(COUNTRY_INFO!K89=1,IF(COUNTRY_INFO!F89*0.33>MAX('T1'!M89,'T2'!K89),MAX('T1'!M89,'T2'!K89),COUNTRY_INFO!F89*0.33),IF(COUNTRY_INFO!K89=2,IF(COUNTRY_INFO!F89*0.5>MAX('T1'!M89,'T2'!K89),MAX('T1'!M89,'T2'!K89),COUNTRY_INFO!F89*0.5),IF(COUNTRY_INFO!K89=3,IF(COUNTRY_INFO!F89>MAX('T1'!M89,'T2'!K89),MAX('T1'!M89,'T2'!K89),COUNTRY_INFO!F89),0)))","v":51389.5},{"$f":"IF(AND(COUNTRY_INFO!K89>0,COUNTRY_INFO!K89<4),IF(Z89>0,IF(COUNTRY_INFO!K89=1, AD89/(COUNTRY_INFO!F89*0.33)*100, IF(COUNTRY_INFO!K89=2, AD89/(COUNTRY_INFO!F89*0.5)*100, IF(COUNTRY_INFO!K89=3, AD89/COUNTRY_INFO!F89*100))),\"-\"),0)","v":100},{"$f":"IF(COUNTRY_INFO!K89=2,IF(COUNTRY_INFO!G89*0.2>MAX('T1'!N89,'T2'!L89),MAX('T1'!N89,'T2'!L89),COUNTRY_INFO!G89*0.2),IF(COUNTRY_INFO!K89=3,IF(COUNTRY_INFO!G89>MAX('T1'!N89,'T2'!L89),MAX('T1'!N89,'T2'!L89),COUNTRY_INFO!G89),0))","v":0},{"$f":"IF(AND(COUNTRY_INFO!K89>0,COUNTRY_INFO!K89<4),IF(Z89>0,IF(COUNTRY_INFO!K89=1, 0, IF(COUNTRY_INFO!K89=2, AF89/(COUNTRY_INFO!G89*0.2)*100, IF(COUNTRY_INFO!K89=3, AF89/COUNTRY_INFO!G89*100))),\"-\"),0)","v":0},51389.5,{"$f":"IF(AND(COUNTRY_INFO!K89>0,COUNTRY_INFO!K89<4), IF(AC89/Z89*100<>0, IF(AH89/Z89*100>100,100,AH89/Z89*100), \"-\"),0)","v":61.402313930300103},null,{"$f":"IF(AND(D89<>0, D89<>\"Unknown\",D89<>\"Stopped\",D89<>\"Not required\"),D89/COUNTRY_INFO!D89, 0)","v":0},{"$f":"IF(AND(J89<>0,J89<>\"Unknown\",J89<>\"Stopped\",J89<>\"Not required\"),J89/COUNTRY_INFO!D89, 0)","v":0},{"$f":"IF(AND(P89<>0,P89<>\"Unknown\",P89<>\"Not required\"),P89/(COUNTRY_INFO!E89+COUNTRY_INFO!F89), 0)","v":1},{"$f":"IF(AND(Z89<>0,Z89<>\"Unknown\",Z89<>\"Not required\"),IF(COUNTRY_INFO!K89=1,1,IF(COUNTRY_INFO!K89=2,0.5*COUNTRY_INFO!F89/(0.5*COUNTRY_INFO!F89+0.2*COUNTRY_INFO!G89),IF(COUNTRY_INFO!K89=3,COUNTRY_INFO!F89/(COUNTRY_INFO!F89+COUNTRY_INFO!G89)))),0)","v":0.61402313930300101},{"$f":"IF(AND(Z89<>0,Z89<>\"Unknown\",Z89<>\"Not required\"),IF(COUNTRY_INFO!K89=1,0,IF(COUNTRY_INFO!K89=2,0.2*COUNTRY_INFO!G89/(0.5*COUNTRY_INFO!F89+0.2*COUNTRY_INFO!G89),IF(COUNTRY_INFO!K89=3,COUNTRY_INFO!G89/(COUNTRY_INFO!F89+COUNTRY_INFO!G89)))),0)","v":0.38597686069699894},{"$f":"MAX(COUNTRY_INFO!D89*AK89*PROFILE!$G$7,COUNTRY_INFO!D89*AL89*PROFILE!$G$7)","v":0},{"$f":"MAX(COUNTRY_INFO!D89*AK89*PROFILE!$G$8,COUNTRY_INFO!D89*AL89*PROFILE!$G$8,COUNTRY_INFO!D89*AM89*PROFILE!$G$8)","v":33691.242877230674},{"$f":"MAX(COUNTRY_INFO!D89*AK89*PROFILE!$G$9,COUNTRY_INFO!D89*AL89*PROFILE!$G$9,COUNTRY_INFO!D89*AM89*PROFILE!$G$9,IF(AND(DISTRICT!Z89<>\"Unknown\",Z89<>\"Not required\"),COUNTRY_INFO!O89*DISTRICT!AN89,0))","v":66081.86119647717},{"$f":"MAX(COUNTRY_INFO!D89*AK89*PROFILE!$G$10,COUNTRY_INFO!D89*AL89*PROFILE!$G$10,IF(AND(DISTRICT!Z89<>\"Unknown\",Z89<>\"Not required\"),COUNTRY_INFO!O89*DISTRICT!AO89,0))","v":32303.600000000002},132076.70407370784,"Y",{"$f":"MAX('MDA2'!J89,'T1'!L89,'T2'!J89,T3_R1!K89,T3_R2!K89)","v":0},{"$f":"MAX('MDA1'!K89,'MDA2'!K89,'MDA3'!I89,'MDA3'!L89,'T1'!M89,'T2'!K89,T3_R1!L89,T3_R2!L89)","v":75603},{"$f":"MAX('MDA1'!L89,'MDA2'!L89,'MDA3'!J89,'MDA3'!M89,'T1'!N89,'T2'!L89,T3_R1!M89,T3_R2!M89)","v":0},75603,{"$f":"MAX('MDA2'!J89,T89)","v":0},{"$f":"MAX('MDA1'!K89,'MDA2'!K89,'MDA3'!I89,'MDA3'!L89,V89,AD89)","v":75603},{"$f":"MAX('MDA1'!L89,'MDA2'!L89,'MDA3'!J89,'MDA3'!M89,AF89)","v":0},75603,57.241737314862398]
[{"$f":"IF(COUNTRY_INFO!A90=0,\" \",COUNTRY_INFO!A90)","v":"Tanzania"},{"$f":"IF(COUNTRY_INFO!B90=0,\" \",COUNTRY_INFO!B90)","v":"Mara"},{"$f":"IF(COUNTRY_INFO!C90=0,\" \",COUNTRY_INFO!C90)","v":"Tarime Town Council"},{"$f":"COUNTRY_INFO!L90","v":0},null,null,{"$f":"MAX('MDA1'!M90,'MDA2'!M90)","v":0},{"$f":"IF(AND(COUNTRY_INFO!H90>0,COUNTRY_INFO!H90<4),IF(D90>MAX('MDA1'!M90,'MDA2'!M90),MAX('MDA1'!M90,'MDA2'!M90),D90),0)","v":0},{"$f":"IF(AND(COUNTRY_INFO!H90>0,COUNTRY_INFO!H90<4), IF(G90/D90*100<>0, IF(G90/D90*100>100,100,G90/D90*100), \"-\"),0)","v":0},{"$f":"COUNTRY_INFO!M90","v":0},null,null,{"$f":"MAX('MDA1'!M90,MAX('MDA3'!I90,'MDA3'!L90)+MAX('MDA3'!J90,'MDA3'!M90))","v":0},{"$f":"IF(AND(COUNTRY_INFO!I90>0,COUNTRY_INFO!I90<4),IF(J90>MAX('MDA1'!M90,MAX('MDA3'!I90,'MDA3'!L90)+MAX('MDA3'!J90,'MDA3'!M90)),MAX('MDA1'!M90,MAX('MDA3'!I90,'MDA3'!L90)+MAX('MDA3'!J90,'MDA3'!M90)),J90),0)","v":0},{"$f":"IF(AND(COUNTRY_INFO!I90>0,COUNTRY_INFO!I90<4), IF(M90/J90*100<>0, IF(M90/J90*100>100,100,M90/J90*100), \"-\"),0)","v":0},{"$f":"COUNTRY_INFO!N90","v":44925.370390743235},null,null,{"$f":"SUM(MAX('MDA2'!J90, 'T1'!L90, MAX(T3_R1!K90, T3_R2!K90)), MAX('MDA1'!K90, 'MDA2'!K90, 'T1'!M90, MAX(T3_R1!L90, T3_R2!L90)), MAX('MDA1'!L90, 'MDA2'!L90, 'T1'!N90, MAX(T3_R1!M90, T3_R2!M90)))","v":30266},{"$f":"IF(AND(COUNTRY_INFO!J90>1,COUNTRY_INFO!J90<4),IF(COUNTRY_INFO!E90>MAX('MDA2'!J90,'T1'!L90,MAX(T3_R1!K90,T3_R2!K90)),MAX('MDA2'!J90,'T1'!L90,MAX(T3_R1!K90,T3_R2!K90)),COUNTRY_INFO!E90),0)","v":0},{"$f":"IF(AND(COUNTRY_INFO!J90>1,COUNTRY_INFO!J90<4), IF(T90/COUNTRY_INFO!E90*100<>0, IF(T90/COUNTRY_INFO!E90*100>100,100,T90/COUNTRY_INFO!E90*100), \"-\"),0)","v":"-"},{"$f":"IF(AND(COUNTRY_INFO!J90>1,COUNTRY_INFO!J90<4),IF(COUNTRY_INFO!F90>MAX('MDA1'!K90,'MDA2'!K90,'T1'!M90,MAX(T3_R1!L90,T3_R2!L90)),MAX('MDA1'!K90,'MDA2'!K90,'T1'!M90,MAX(T3_R1!L90,T3_R2!L90)),COUNTRY_INFO!F90),0)","v":30266},{"$f":"IF(AND(COUNTRY_INFO!J90>1,COUNTRY_INFO!J90<4), IF(V90/COUNTRY_INFO!F90*100<>0, IF(V90/COUNTRY_INFO!F90*100>100,100,V90/COUNTRY_INFO!F90*100), \"-\"),0)","v":91.022826381161465},30266,{"$f":"IF(AND(COUNTRY_INFO!J90>1,COUNTRY_INFO!J90<4), IF(S90/P90*100<>0, IF(X90/P90*100>100,100,X90/P90*100), \"-\"),0)","v":67.369505775374165},{"$f":"COUNTRY_INFO!O90","v":25740.225921851354},null,null,{"$f":"MAX('T1'!L90,'T2'!J90)+MAX('T1'!M90,'T2'!K90)+MAX('T1'!N90,'T2'!L90)","v":30266},{"$f":"IF(COUNTRY_INFO!K90=1,IF(COUNTRY_INFO!F90*0.33>MAX('T1'!M90,'T2'!K90),MAX('T1'!M90,'T2'!K90),COUNTRY_INFO!F90*0.33),IF(COUNTRY_INFO!K90=2,IF(COUNTRY_INFO!F90*0.5>MAX('T1'!M90,'T2'!K90),MAX('T1'!M90,'T2'!K90),COUNTRY_INFO!F90*0.5),IF(COUNTRY_INFO!K90=3,IF(COUNTRY_INFO!F90>MAX('T1'!M90,'T2'!K90),MAX('T1'!M90,'T2'!K90),COUNTRY_INFO!F90),0)))","v":16625.5},{"$f":"IF(AND(COUNTRY_INFO!K90>0,COUNTRY_INFO!K90<4),IF(Z90>0,IF(COUNTRY_INFO!K90=1, AD90/(COUNTRY_INFO!F90*0.33)*100, IF(COUNTRY_INFO!K90=2, AD90/(COUNTRY_INFO!F90*0.5)*100, IF(COUNTRY_INFO!K90=3, AD90/COUNTRY_INFO!F90*100))),\"-\"),0)","v":100},{"$f":"IF(COUNTRY_INFO!K90=2,IF(COUNTRY_INFO!G90*0.2>MAX('T1'!N90,'T2'!L90),MAX('T1'!N90,'T2'!L90),COUNTRY_INFO!G90*0.2),IF(COUNTRY_INFO!K90=3,IF(COUNTRY_INFO!G90>MAX('T1'!N90,'T2'!L90),MAX('T1'!N90,'T2'!L90),COUNTRY_INFO!G90),0))","v":0},{"$f":"IF(AND(COUNTRY_INFO!K90>0,COUNTRY_INFO!K90<4),IF(Z90>0,IF(COUNTRY_INFO!K90=1, 0, IF(COUNTRY_INFO!K90=2, AF90/(COUNTRY_INFO!G90*0.2)*100, IF(COUNTRY_INFO!K90=3, AF90/COUNTRY_INFO!G90*100))),\"-\"),0)","v":0},16625.5,{"$f":"IF(AND(COUNTRY_INFO!K90>0,COUNTRY_INFO!K90<4), IF(AC90/Z90*100<>0, IF(AH90/Z90*100>100,100,AH90/Z90*100), \"-\"),0)","v":64.589565182822682},null,{"$f":"IF(AND(D90<>0, D90<>\"Unknown\",D90<>\"Stopped\",D90<>\"Not required\"),D90/COUNTRY_INFO!D90, 0)","v":0},{"$f":"IF(AND(J90<>0,J90<>\"Unknown\",J90<>\"Stopped\",J90<>\"Not required\"),J90/COUNTRY_INFO!D90, 0)","v":0},{"$f":"IF(AND(P90<>0,P90<>\"Unknown\",P90<>\"Not required\"),P90/(COUNTRY_INFO!E90+COUNTRY_INFO!F90), 0)","v":1},{"$f":"IF(AND(Z90<>0,Z90<>\"Unknown\",Z90<>\"Not required\"),IF(COUNTRY_INFO!K90=1,1,IF(COUNTRY_INFO!K90=2,0.5*COUNTRY_INFO!F90/(0.5*COUNTRY_INFO!F90+0.2*COUNTRY_INFO!G90),IF(COUNTRY_INFO!K90=3,COUNTRY_INFO!F90/(COUNTRY_INFO!F90+COUNTRY_INFO!G90)))),0)","v":0.64589565182822684},{"$f":"IF(AND(Z90<>0,Z90<>\"Unknown\",Z90<>\"Not required\"),IF(COUNTRY_INFO!K90=1,0,IF(COUNTRY_INFO!K90=2,0.2*COUNTRY_INFO!G90/(0.5*COUNTRY_INFO!F90+0.2*COUNTRY_INFO!G90),IF(COUNTRY_INFO!K90=3,COUNTRY_INFO!G90/(COUNTRY_INFO!F90+COUNTRY_INFO!G90)))),0)","v":0.35410434817177322},{"$f":"MAX(COUNTRY_INFO!D90*AK90*PROFILE!$G$7,COUNTRY_INFO!D90*AL90*PROFILE!$G$7)","v":0},{"$f":"MAX(COUNTRY_INFO!D90*AK90*PROFILE!$G$8,COUNTRY_INFO!D90*AL90*PROFILE!$G$8,COUNTRY_INFO!D90*AM90*PROFILE!$G$8)","v":10048.160232620177},{"$f":"MAX(COUNTRY_INFO!D90*AK90*PROFILE!$G$9,COUNTRY_INFO!D90*AL90*PROFILE!$G$9,COUNTRY_INFO!D90*AM90*PROFILE!$G$9,IF(AND(DISTRICT!Z90<>\"Unknown\",Z90<>\"Not required\"),COUNTRY_INFO!O90*DISTRICT!AN90,0))","v":19708.418955974925},{"$f":"MAX(COUNTRY_INFO!D90*AK90*PROFILE!$G$10,COUNTRY_INFO!D90*AL90*PROFILE!$G$10,IF(AND(DISTRICT!Z90<>\"Unknown\",Z90<>\"Not required\"),COUNTRY_INFO!O90*DISTRICT!AO90,0))","v":9114.7259218513536},38871.305110446454,"Y",{"$f":"MAX('MDA2'!J90,'T1'!L90,'T2'!J90,T3_R1!K90,T3_R2!K90)","v":0},{"$f":"MAX('MDA1'!K90,'MDA2'!K90,'MDA3'!I90,'MDA3'!L90,'T1'!M90,'T2'!K90,T3_R1!L90,T3_R2!L90)","v":30266},{"$f":"MAX('MDA1'!L90,'MDA2'!L90,'MDA3'!J90,'MDA3'!M90,'T1'!N90,'T2'!L90,T3_R1!M90,T3_R2!M90)","v":0},30266,{"$f":"MAX('MDA2'!J90,T90)","v":0},{"$f":"MAX('MDA1'!K90,'MDA2'!K90,'MDA3'!I90,'MDA3'!L90,V90,AD90)","v":30266},{"$f":"MAX('MDA1'!L90,'MDA2'!L90,'MDA3'!J90,'MDA3'!M90,AF90)","v":0},30266,77.862062809581801]
[{"$f":"IF(COUNTRY_INFO!A91=0,\" \",COUNTRY_INFO!A91)","v":"Tanzania"},{"$f":"IF(COUNTRY_INFO!B91=0,\" \",COUNTRY_INFO!B91)","v":"Mbeya"},{"$f":"IF(COUNTRY_INFO!C91=0,\" \",COUNTRY_INFO!C91)","v":"Busokelo District Council"},{"$f":"COUNTRY_INFO!L91","v":"Stopped"},null,null,{"$f":"MAX('MDA1'!M91,'MDA2'!M91)","v":0},{"$f":"IF(AND(COUNTRY_INFO!H91>0,COUNTRY_INFO!H91<4),IF(D91>MAX('MDA1'!M91,'MDA2'!M91),MAX('MDA1'!M91,'MDA2'!M91),D91),0)","v":0},{"$f":"IF(AND(COUNTRY_INFO!H91>0,COUNTRY_INFO!H91<4), IF(G91/D91*100<>0, IF(G91/D91*100>100,100,G91/D91*100), \"-\"),0)","v":0},{"$f":"COUNTRY_INFO!M91","v":119578},null,null,{"$f":"MAX('MDA1'!M91,MAX('MDA3'!I91,'MDA3'!L91)+MAX('MDA3'!J91,'MDA3'!M91))","v":97511},{"$f":"IF(AND(COUNTRY_INFO!I91>0,COUNTRY_INFO!I91<4),IF(J91>MAX('MDA1'!M91,MAX('MDA3'!I91,'MDA3'!L91)+MAX('MDA3'!J91,'MDA3'!M91)),MAX('MDA1'!M91,MAX('MDA3'!I91,'MDA3'!L91)+MAX('MDA3'!J91,'MDA3'!M91)),J91),0)","v":97511},{"$f":"IF(AND(COUNTRY_INFO!I91>0,COUNTRY_INFO!I91<4), IF(M91/J91*100<>0, IF(M91/J91*100>100,100,M91/J91*100), \"-\"),0)","v":81.545936543511345},{"$f":"COUNTRY_INFO!N91","v":37435},null,null,{"$f":"SUM(MAX('MDA2'!J91, 'T1'!L91, MAX(T3_R1!K91, T3_R2!K91)), MAX('MDA1'!K91, 'MDA2'!K91, 'T1'!M91, MAX(T3_R1!L91, T3_R2!L91)), MAX('MDA1'!L91, 'MDA2'!L91, 'T1'!N91, MAX(T3_R1!M91, T3_R2!M91)))","v":21999},{"$f":"IF(AND(COUNTRY_INFO!J91>1,COUNTRY_INFO!J91<4),IF(COUNTRY_INFO!E91>MAX('MDA2'!J91,'T1'!L91,MAX(T3_R1!K91,T3_R2!K91)),MAX('MDA2'!J91,'T1'!L91,MAX(T3_R1!K91,T3_R2!K91)),COUNTRY_INFO!E91),0)","v":0},{"$f":"IF(AND(COUNTRY_INFO!J91>1,COUNTRY_INFO!J91<4), IF(T91/COUNTRY_INFO!E91*100<>0, IF(T91/COUNTRY_INFO!E91*100>100,100,T91/COUNTRY_INFO!E91*100), \"-\"),0)","v":"-"},{"$f":"IF(AND(COUNTRY_INFO!J91>1,COUNTRY_INFO!J91<4),IF(COUNTRY_INFO!F91>MAX('MDA1'!K91,'MDA2'!K91,'T1'!M91,MAX(T3_R1!L91,T3_R2!L91)),MAX('MDA1'!K91,'MDA2'!K91,'T1'!M91,MAX(T3_R1!L91,T3_R2!L91)),COUNTRY_INFO!F91),0)","v":21999},{"$f":"IF(AND(COUNTRY_INFO!J91>1,COUNTRY_INFO!J91<4), IF(V91/COUNTRY_INFO!F91*100<>0, IF(V91/COUNTRY_INFO!F91*100>100,100,V91/COUNTRY_INFO!F91*100), \"-\"),0)","v":99.954564041982835},21999,{"$f":"IF(AND(COUNTRY_INFO!J91>1,COUNTRY_INFO!J91<4), IF(S91/P91*100<>0, IF(X91/P91*100>100,100,X91/P91*100), \"-\"),0)","v":58.76586082543075},{"$f":"COUNTRY_INFO!O91","v":27433.100000000002},null,null,{"$f":"MAX('T1'!L91,'T2'!J91)+MAX('T1'!M91,'T2'!K91)+MAX('T1'!N91,'T2'!L91)","v":21999},{"$f":"IF(COUNTRY_INFO!K91=1,IF(COUNTRY_INFO!F91*0.33>MAX('T1'!M91,'T2'!K91),MAX('T1'!M91,'T2'!K91),COUNTRY_INFO!F91*0.33),IF(COUNTRY_INFO!K91=2,IF(COUNTRY_INFO!F91*0.5>MAX('T1'!M91,'T2'!K91),MAX('T1'!M91,'T2'!K91),COUNTRY_INFO!F91*0.5),IF(COUNTRY_INFO!K91=3,IF(COUNTRY_INFO!F91>MAX('T1'!M91,'T2'!K91),MAX('T1'!M91,'T2'!K91),COUNTRY_INFO!F91),0)))","v":11004.5},{"$f":"IF(AND(COUNTRY_INFO!K91>0,COUNTRY_INFO!K91<4),IF(Z91>0,IF(COUNTRY_INFO!K91=1, AD91/(COUNTRY_INFO!F91*0.33)*100, IF(COUNTRY_INFO!K91=2, AD91/(COUNTRY_INFO!F91*0.5)*100, IF(COUNTRY_INFO!K91=3, AD91/COUNTRY_INFO!F91*100))),\"-\"),0)","v":100},{"$f":"IF(COUNTRY_INFO!K91=2,IF(COUNTRY_INFO!G91*0.2>MAX('T1'!N91,'T2'!L91),MAX('T1'!N91,'T2'!L91),COUNTRY_INFO!G91*0.2),IF(COUNTRY_INFO!K91=3,IF(COUNTRY_INFO!G91>MAX('T1'!N91,'T2'!L91),MAX('T1'!N91,'T2'!L91),COUNTRY_INFO!G91),0))","v":0},{"$f":"IF(AND(COUNTRY_INFO!K91>0,COUNTRY_INFO!K91<4),IF(Z91>0,IF(COUNTRY_INFO!K91=1, 0, IF(COUNTRY_INFO!K91=2, AF91/(COUNTRY_INFO!G91*0.2)*100, IF(COUNTRY_INFO!K91=3, AF91/COUNTRY_INFO!G91*100))),\"-\"),0)","v":0},11004.5,{"$f":"IF(AND(COUNTRY_INFO!K91>0,COUNTRY_INFO!K91<4), IF(AC91/Z91*100<>0, IF(AH91/Z91*100>100,100,AH91/Z91*100), \"-\"),0)","v":40.113949936390711},null,{"$f":"IF(AND(D91<>0, D91<>\"Unknown\",D91<>\"Stopped\",D91<>\"Not required\"),D91/COUNTRY_INFO!D91, 0)","v":0},{"$f":"IF(AND(J91<>0,J91<>\"Unknown\",J91<>\"Stopped\",J91<>\"Not required\"),J91/COUNTRY_INFO!D91, 0)","v":1},{"$f":"IF(AND(P91<>0,P91<>\"Unknown\",P91<>\"Not required\"),P91/(COUNTRY_INFO!E91+COUNTRY_INFO!F91), 0)","v":1},{"$f":"IF(AND(Z91<>0,Z91<>\"Unknown\",Z91<>\"Not required\"),IF(COUNTRY_INFO!K91=1,1,IF(COUNTRY_INFO!K91=2,0.5*COUNTRY_INFO!F91/(0.5*COUNTRY_INFO!F91+0.2*COUNTRY_INFO!G91),IF(COUNTRY_INFO!K91=3,COUNTRY_INFO!F91/(COUNTRY_INFO!F91+COUNTRY_INFO!G91)))),0)","v":0.40113949936390708},{"$f":"IF(AND(Z91<>0,Z91<>\"Unknown\",Z91<>\"Not required\"),IF(COUNTRY_INFO!K91=1,0,IF(COUNTRY_INFO!K91=2,0.2*COUNTRY_INFO!G91/(0.5*COUNTRY_INFO!F91+0.2*COUNTRY_INFO!G91),IF(COUNTRY_INFO!K91=3,COUNTRY_INFO!G91/(COUNTRY_INFO!F91+COUNTRY_INFO!G91)))),0)","v":0.59886050063609297},{"$f":"MAX(COUNTRY_INFO!D91*AK91*PROFILE!$G$7,COUNTRY_INFO!D91*AL91*PROFILE!$G$7)","v":0},{"$f":"MAX(COUNTRY_INFO!D91*AK91*PROFILE!$G$8,COUNTRY_INFO!D91*AL91*PROFILE!$G$8,COUNTRY_INFO!D91*AM91*PROFILE!$G$8)","v":13276.819680839075},{"$f":"MAX(COUNTRY_INFO!D91*AK91*PROFILE!$G$9,COUNTRY_INFO!D91*AL91*PROFILE!$G$9,COUNTRY_INFO!D91*AM91*PROFILE!$G$9,IF(AND(DISTRICT!Z91<>\"Unknown\",Z91<>\"Not required\"),COUNTRY_INFO!O91*DISTRICT!AN91,0))","v":26041.097933872967},{"$f":"MAX(COUNTRY_INFO!D91*AK91*PROFILE!$G$10,COUNTRY_INFO!D91*AL91*PROFILE!$G$10,IF(AND(DISTRICT!Z91<>\"Unknown\",Z91<>\"Not required\"),COUNTRY_INFO!O91*DISTRICT!AO91,0))","v":80260.086997234102},119578.00461194615,"Y",{"$f":"MAX('MDA2'!J91,'T1'!L91,'T2'!J91,T3_R1!K91,T3_R2!K91)","v":0},{"$f":"MAX('MDA1'!K91,'MDA2'!K91,'MDA3'!I91,'MDA3'!L91,'T1'!M91,'T2'!K91,T3_R1!L91,T3_R2!L91)","v":21999},{"$f":"MAX('MDA1'!L91,'MDA2'!L91,'MDA3'!J91,'MDA3'!M91,'T1'!N91,'T2'!L91,T3_R1!M91,T3_R2!M91)","v":78886.399000000005},100885.399,{"$f":"MAX('MDA2'!J91,T91)","v":0},{"$f":"MAX('MDA1'!K91,'MDA2'!K91,'MDA3'!I91,'MDA3'!L91,V91,AD91)","v":21999},{"$f":"MAX('MDA1'!L91,'MDA2'!L91,'MDA3'!J91,'MDA3'!M91,AF91)","v":78886.399000000005},100885.399,84.36785621853511]
[{"$f":"IF(COUNTRY_INFO!A92=0,\" \",COUNTRY_INFO!A92)","v":"Tanzania"},{"$f":"IF(COUNTRY_INFO!B92=0,\" \",COUNTRY_INFO!B92)","v":"Mbeya"},{"$f":"IF(COUNTRY_INFO!C92=0,\" \",COUNTRY_INFO!C92)","v":"Chunya District Council"},{"$f":"COUNTRY_INFO!L92","v":"Stopped"},null,null,{"$f":"MAX('MDA1'!M92,'MDA2'!M92)","v":0},{"$f":"IF(AND(COUNTRY_INFO!H92>0,COUNTRY_INFO!H92<4),IF(D92>MAX('MDA1'!M92,'MDA2'!M92),MAX('MDA1'!M92,'MDA2'!M92),D92),0)","v":0},{"$f":"IF(AND(COUNTRY_INFO!H92>0,COUNTRY_INFO!H92<4), IF(G92/D92*100<>0, IF(G92/D92*100>100,100,G92/D92*100), \"-\"),0)","v":0},{"$f":"COUNTRY_INFO!M92","v":0},null,null,{"$f":"MAX('MDA1'!M92,MAX('MDA3'!I92,'MDA3'!L92)+MAX('MDA3'!J92,'MDA3'!M92))","v":0},{"$f":"IF(AND(COUNTRY_INFO!I92>0,COUNTRY_INFO!I92<4),IF(J92>MAX('MDA1'!M92,MAX('MDA3'!I92,'MDA3'!L92)+MAX('MDA3'!J92,'MDA3'!M92)),MAX('MDA1'!M92,MAX('MDA3'!I92,'MDA3'!L92)+MAX('MDA3'!J92,'MDA3'!M92)),J92),0)","v":0},{"$f":"IF(AND(COUNTRY_INFO!I92>0,COUNTRY_INFO!I92<4), IF(M92/J92*100<>0, IF(M92/J92*100>100,100,M92/J92*100), \"-\"),0)","v":0},{"$f":"COUNTRY_INFO!N92","v":58197},null,null,{"$f":"SUM(MAX('MDA2'!J92, 'T1'!L92, MAX(T3_R1!K92, T3_R2!K92)), MAX('MDA1'!K92, 'MDA2'!K92, 'T1'!M92, MAX(T3_R1!L92, T3_R2!L92)), MAX('MDA1'!L92, 'MDA2'!L92, 'T1'!N92, MAX(T3_R1!M92, T3_R2!M92)))","v":38511},{"$f":"IF(AND(COUNTRY_INFO!J92>1,COUNTRY_INFO!J92<4),IF(COUNTRY_INFO!E92>MAX('MDA2'!J92,'T1'!L92,MAX(T3_R1!K92,T3_R2!K92)),MAX('MDA2'!J92,'T1'!L92,MAX(T3_R1!K92,T3_R2!K92)),COUNTRY_INFO!E92),0)","v":0},{"$f":"IF(AND(COUNTRY_INFO!J92>1,COUNTRY_INFO!J92<4), IF(T92/COUNTRY_INFO!E92*100<>0, IF(T92/COUNTRY_INFO!E92*100>100,100,T92/COUNTRY_INFO!E92*100), \"-\"),0)","v":"-"},{"$f":"IF(AND(COUNTRY_INFO!J92>1,COUNTRY_INFO!J92<4),IF(COUNTRY_INFO!F92>MAX('MDA1'!K92,'MDA2'!K92,'T1'!M92,MAX(T3_R1!L92,T3_R2!L92)),MAX('MDA1'!K92,'MDA2'!K92,'T1'!M92,MAX(T3_R1!L92,T3_R2!L92)),COUNTRY_INFO!F92),0)","v":38511},{"$f":"IF(AND(COUNTRY_INFO!J92>1,COUNTRY_INFO!J92<4), IF(V92/COUNTRY_INFO!F92*100<>0, IF(V92/COUNTRY_INFO!F92*100>100,100,V92/COUNTRY_INFO!F92*100), \"-\"),0)","v":100},38511,{"$f":"IF(AND(COUNTRY_INFO!J92>1,COUNTRY_INFO!J92<4), IF(S92/P92*100<>0, IF(X92/P92*100>100,100,X92/P92*100), \"-\"),0)","v":66.173514098664882},{"$f":"COUNTRY_INFO!O92","v":44408.7},null,null,{"$f":"MAX('T1'!L92,'T2'!J92)+MAX('T1'!M92,'T2'!K92)+MAX('T1'!N92,'T2'!L92)","v":38511},{"$f":"IF(COUNTRY_INFO!K92=1,IF(COUNTRY_INFO!F92*0.33>MAX('T1'!M92,'T2'!K92),MAX('T1'!M92,'T2'!K92),COUNTRY_INFO!F92*0.33),IF(COUNTRY_INFO!K92=2,IF(COUNTRY_INFO!F92*0.5>MAX('T1'!M92,'T2'!K92),MAX('T1'!M92,'T2'!K92),COUNTRY_INFO!F92*0.5),IF(COUNTRY_INFO!K92=3,IF(COUNTRY_INFO!F92>MAX('T1'!M92,'T2'!K92),MAX('T1'!M92,'T2'!K92),COUNTRY_INFO!F92),0)))","v":19255.5},{"$f":"IF(AND(COUNTRY_INFO!K92>0,COUNTRY_INFO!K92<4),IF(Z92>0,IF(COUNTRY_INFO!K92=1, AD92/(COUNTRY_INFO!F92*0.33)*100, IF(COUNTRY_INFO!K92=2, AD92/(COUNTRY_INFO!F92*0.5)*100, IF(COUNTRY_INFO!K92=3, AD92/COUNTRY_INFO!F92*100))),\"-\"),0)","v":100},{"$f":"IF(COUNTRY_INFO!K92=2,IF(COUNTRY_INFO!G92*0.2>MAX('T1'!N92,'T2'!L92),MAX('T1'!N92,'T2'!L92),COUNTRY_INFO!G92*0.2),IF(COUNTRY_INFO!K92=3,IF(COUNTRY_INFO!G92>MAX('T1'!N92,'T2'!L92),MAX('T1'!N92,'T2'!L92),COUNTRY_INFO!G92),0))","v":0},{"$f":"IF(AND(COUNTRY_INFO!K92>0,COUNTRY_INFO!K92<4),IF(Z92>0,IF(COUNTRY_INFO!K92=1, 0, IF(COUNTRY_INFO!K92=2, AF92/(COUNTRY_INFO!G92*0.2)*100, IF(COUNTRY_INFO!K92=3, AF92/COUNTRY_INFO!G92*100))),\"-\"),0)","v":0},19255.5,{"$f":"IF(AND(COUNTRY_INFO!K92>0,COUNTRY_INFO!K92<4), IF(AC92/Z92*100<>0, IF(AH92/Z92*100>100,100,AH92/Z92*100), \"-\"),0)","v":43.359747076586345},null,{"$f":"IF(AND(D92<>0, D92<>\"Unknown\",D92<>\"Stopped\",D92<>\"Not required\"),D92/COUNTRY_INFO!D92, 0)","v":0},{"$f":"IF(AND(J92<>0,J92<>\"Unknown\",J92<>\"Stopped\",J92<>\"Not required\"),J92/COUNTRY_INFO!D92, 0)","v":0},{"$f":"IF(AND(P92<>0,P92<>\"Unknown\",P92<>\"Not required\"),P92/(COUNTRY_INFO!E92+COUNTRY_INFO!F92), 0)","v":1},{"$f":"IF(AND(Z92<>0,Z92<>\"Unknown\",Z92<>\"Not required\"),IF(COUNTRY_INFO!K92=1,1,IF(COUNTRY_INFO!K92=2,0.5*COUNTRY_INFO!F92/(0.5*COUNTRY_INFO!F92+0.2*COUNTRY_INFO!G92),IF(COUNTRY_INFO!K92=3,COUNTRY_INFO!F92/(COUNTRY_INFO!F92+COUNTRY_INFO!G92)))),0)","v":0.43359747076586347},{"$f":"IF(AND(Z92<>0,Z92<>\"Unknown\",Z92<>\"Not required\"),IF(COUNTRY_INFO!K92=1,0,IF(COUNTRY_INFO!K92=2,0.2*COUNTRY_INFO!G92/(0.5*COUNTRY_INFO!F92+0.2*COUNTRY_INFO!G92),IF(COUNTRY_INFO!K92=3,COUNTRY_INFO!G92/(COUNTRY_INFO!F92+COUNTRY_INFO!G92)))),0)","v":0.56640252923413659},{"$f":"MAX(COUNTRY_INFO!D92*AK92*PROFILE!$G$7,COUNTRY_INFO!D92*AL92*PROFILE!$G$7)","v":0},{"$f":"MAX(COUNTRY_INFO!D92*AK92*PROFILE!$G$8,COUNTRY_INFO!D92*AL92*PROFILE!$G$8,COUNTRY_INFO!D92*AM92*PROFILE!$G$8)","v":20425.526258560931},{"$f":"MAX(COUNTRY_INFO!D92*AK92*PROFILE!$G$9,COUNTRY_INFO!D92*AL92*PROFILE!$G$9,COUNTRY_INFO!D92*AM92*PROFILE!$G$9,IF(AND(DISTRICT!Z92<>\"Unknown\",Z92<>\"Not required\"),COUNTRY_INFO!O92*DISTRICT!AN92,0))","v":40062.540761754441},{"$f":"MAX(COUNTRY_INFO!D92*AK92*PROFILE!$G$10,COUNTRY_INFO!D92*AL92*PROFILE!$G$10,IF(AND(DISTRICT!Z92<>\"Unknown\",Z92<>\"Not required\"),COUNTRY_INFO!O92*DISTRICT!AO92,0))","v":25153.200000000001},85641.267020315368,"Y",{"$f":"MAX('MDA2'!J92,'T1'!L92,'T2'!J92,T3_R1!K92,T3_R2!K92)","v":0},{"$f":"MAX('MDA1'!K92,'MDA2'!K92,'MDA3'!I92,'MDA3'!L92,'T1'!M92,'T2'!K92,T3_R1!L92,T3_R2!L92)","v":38511},{"$f":"MAX('MDA1'!L92,'MDA2'!L92,'MDA3'!J92,'MDA3'!M92,'T1'!N92,'T2'!L92,T3_R1!M92,T3_R2!M92)","v":0},38511,{"$f":"MAX('MDA2'!J92,T92)","v":0},{"$f":"MAX('MDA1'!K92,'MDA2'!K92,'MDA3'!I92,'MDA3'!L92,V92,AD92)","v":38511},{"$f":"MAX('MDA1'!L92,'MDA2'!L92,'MDA3'!J92,'MDA3'!M92,AF92)","v":0},38511,44.96780738994044]
[{"$f":"IF(COUNTRY_INFO!A93=0,\" \",COUNTRY_INFO!A93)","v":"Tanzania"},{"$f":"IF(COUNTRY_INFO!B93=0,\" \",COUNTRY_INFO!B93)","v":"Mbeya"},{"$f":"IF(COUNTRY_INFO!C93=0,\" \",COUNTRY_INFO!C93)","v":"Kyela District Council"},{"$f":"COUNTRY_INFO!L93","v":"Stopped"},null,null,{"$f":"MAX('MDA1'!M93,'MDA2'!M93)","v":0},{"$f":"IF(AND(COUNTRY_INFO!H93>0,COUNTRY_INFO!H93<4),IF(D93>MAX('MDA1'!M93,'MDA2'!M93),MAX('MDA1'!M93,'MDA2'!M93),D93),0)","v":0},{"$f":"IF(AND(COUNTRY_INFO!H93>0,COUNTRY_INFO!H93<4), IF(G93/D93*100<>0, IF(G93/D93*100>100,100,G93/D93*100), \"-\"),0)","v":0},{"$f":"COUNTRY_INFO!M93","v":259882},null,null,{"$f":"MAX('MDA1'!M93,MAX('MDA3'!I93,'MDA3'!L93)+MAX('MDA3'!J93,'MDA3'!M93))","v":222360},{"$f":"IF(AND(COUNTRY_INFO!I93>0,COUNTRY_INFO!I93<4),IF(J93>MAX('MDA1'!M93,MAX('MDA3'!I93,'MDA3'!L93)+MAX('MDA3'!J93,'MDA3'!M93)),MAX('MDA1'!M93,MAX('MDA3'!I93,'MDA3'!L93)+MAX('MDA3'!J93,'MDA3'!M93)),J93),0)","v":222360},{"$f":"IF(AND(COUNTRY_INFO!I93>0,COUNTRY_INFO!I93<4), IF(M93/J93*100<>0, IF(M93/J93*100>100,100,M93/J93*100), \"-\"),0)","v":85.561908866331635},{"$f":"COUNTRY_INFO!N93","v":83998},null,null,{"$f":"SUM(MAX('MDA2'!J93, 'T1'!L93, MAX(T3_R1!K93, T3_R2!K93)), MAX('MDA1'!K93, 'MDA2'!K93, 'T1'!M93, MAX(T3_R1!L93, T3_R2!L93)), MAX('MDA1'!L93, 'MDA2'!L93, 'T1'!N93, MAX(T3_R1!M93, T3_R2!M93)))","v":54764},{"$f":"IF(AND(COUNTRY_INFO!J93>1,COUNTRY_INFO!J93<4),IF(COUNTRY_INFO!E93>MAX('MDA2'!J93,'T1'!L93,MAX(T3_R1!K93,T3_R2!K93)),MAX('MDA2'!J93,'T1'!L93,MAX(T3_R1!K93,T3_R2!K93)),COUNTRY_INFO!E93),0)","v":0},{"$f":"IF(AND(COUNTRY_INFO!J93>1,COUNTRY_INFO!J93<4), IF(T93/COUNTRY_INFO!E93*100<>0, IF(T93/COUNTRY_INFO!E93*100>100,100,T93/COUNTRY_INFO!E93*100), \"-\"),0)","v":"-"},{"$f":"IF(AND(COUNTRY_INFO!J93>1,COUNTRY_INFO!J93<4),IF(COUNTRY_INFO!F93>MAX('MDA1'!K93,'MDA2'!K93,'T1'!M93,MAX(T3_R1!L93,T3_R2!L93)),MAX('MDA1'!K93,'MDA2'!K93,'T1'!M93,MAX(T3_R1!L93,T3_R2!L93)),COUNTRY_INFO!F93),0)","v":54764},{"$f":"IF(AND(COUNTRY_INFO!J93>1,COUNTRY_INFO!J93<4), IF(V93/COUNTRY_INFO!F93*100<>0, IF(V93/COUNTRY_INFO!F93*100>100,100,V93/COUNTRY_INFO!F93*100), \"-\"),0)","v":97.999355785404958},54764,{"$f":"IF(AND(COUNTRY_INFO!J93>1,COUNTRY_INFO!J93<4), IF(S93/P93*100<>0, IF(X93/P93*100>100,100,X93/P93*100), \"-\"),0)","v":65.196790399771416},{"$f":"COUNTRY_INFO!O93","v":231766},null,null,{"$f":"MAX('T1'!L93,'T2'!J93)+MAX('T1'!M93,'T2'!K93)+MAX('T1'!N93,'T2'!L93)","v":54764},{"$f":"IF(COUNTRY_INFO!K93=1,IF(COUNTRY_INFO!F93*0.33>MAX('T1'!M93,'T2'!K93),MAX('T1'!M93,'T2'!K93),COUNTRY_INFO!F93*0.33),IF(COUNTRY_INFO!K93=2,IF(COUNTRY_INFO!F93*0.5>MAX('T1'!M93,'T2'!K93),MAX('T1'!M93,'T2'!K93),COUNTRY_INFO!F93*0.5),IF(COUNTRY_INFO!K93=3,IF(COUNTRY_INFO!F93>MAX('T1'!M93,'T2'!K93),MAX('T1'!M93,'T2'!K93),COUNTRY_INFO!F93),0)))","v":54764},{"$f":"IF(AND(COUNTRY_INFO!K93>0,COUNTRY_INFO!K93<4),IF(Z93>0,IF(COUNTRY_INFO!K93=1, AD93/(COUNTRY_INFO!F93*0.33)*100, IF(COUNTRY_INFO!K93=2, AD93/(COUNTRY_INFO!F93*0.5)*100, IF(COUNTRY_INFO!K93=3, AD93/COUNTRY_INFO!F93*100))),\"-\"),0)","v":97.999355785404958},{"$f":"IF(COUNTRY_INFO!K93=2,IF(COUNTRY_INFO!G93*0.2>MAX('T1'!N93,'T2'!L93),MAX('T1'!N93,'T2'!L93),COUNTRY_INFO!G93*0.2),IF(COUNTRY_INFO!K93=3,IF(COUNTRY_INFO!G93>MAX('T1'!N93,'T2'!L93),MAX('T1'!N93,'T2'!L93),COUNTRY_INFO!G93),0))","v":0},{"$f":"IF(AND(COUNTRY_INFO!K93>0,COUNTRY_INFO!K93<4),IF(Z93>0,IF(COUNTRY_INFO!K93=1, 0, IF(COUNTRY_INFO!K93=2, AF93/(COUNTRY_INFO!G93*0.2)*100, IF(COUNTRY_INFO!K93=3, AF93/COUNTRY_INFO!G93*100))),\"-\"),0)","v":0},54764,{"$f":"IF(AND(COUNTRY_INFO!K93>0,COUNTRY_INFO!K93<4), IF(AC93/Z93*100<>0, IF(AH93/Z93*100>100,100,AH93/Z93*100), \"-\"),0)","v":23.62900511723031},null,{"$f":"IF(AND(D93<>0, D93<>\"Unknown\",D93<>\"Stopped\",D93<>\"Not required\"),D93/COUNTRY_INFO!D93, 0)","v":0},{"$f":"IF(AND(J93<>0,J93<>\"Unknown\",J93<>\"Stopped\",J93<>\"Not required\"),J93/COUNTRY_INFO!D93, 0)","v":1},{"$f":"IF(AND(P93<>0,P93<>\"Unknown\",P93<>\"Not required\"),P93/(COUNTRY_INFO!E93+COUNTRY_INFO!F93), 0)","v":1},{"$f":"IF(AND(Z93<>0,Z93<>\"Unknown\",Z93<>\"Not required\"),IF(COUNTRY_INFO!K93=1,1,IF(COUNTRY_INFO!K93=2,0.5*COUNTRY_INFO!F93/(0.5*COUNTRY_INFO!F93+0.2*COUNTRY_INFO!G93),IF(COUNTRY_INFO!K93=3,COUNTRY_INFO!F93/(COUNTRY_INFO!F93+COUNTRY_INFO!G93)))),0)","v":0.24111388210522683},{"$f":"IF(AND(Z93<>0,Z93<>\"Unknown\",Z93<>\"Not required\"),IF(COUNTRY_INFO!K93=1,0,IF(COUNTRY_INFO!K93=2,0.2*COUNTRY_INFO!G93/(0.5*COUNTRY_INFO!F93+0.2*COUNTRY_INFO!G93),IF(COUNTRY_INFO!K93=3,COUNTRY_INFO!G93/(COUNTRY_INFO!F93+COUNTRY_INFO!G93)))),0)","v":0.75888611789477323},{"$f":"MAX(COUNTRY_INFO!D93*AK93*PROFILE!$G$7,COUNTRY_INFO!D93*AL93*PROFILE!$G$7)","v":0},{"$f":"MAX(COUNTRY_INFO!D93*AK93*PROFILE!$G$8,COUNTRY_INFO!D93*AL93*PROFILE!$G$8,COUNTRY_INFO!D93*AM93*PROFILE!$G$8)","v":28854.860026893079},{"$f":"MAX(COUNTRY_INFO!D93*AK93*PROFILE!$G$9,COUNTRY_INFO!D93*AL93*PROFILE!$G$9,COUNTRY_INFO!D93*AM93*PROFILE!$G$9,IF(AND(DISTRICT!Z93<>\"Unknown\",Z93<>\"Not required\"),COUNTRY_INFO!O93*DISTRICT!AN93,0))","v":56595.800341624497},{"$f":"MAX(COUNTRY_INFO!D93*AK93*PROFILE!$G$10,COUNTRY_INFO!D93*AL93*PROFILE!$G$10,IF(AND(DISTRICT!Z93<>\"Unknown\",Z93<>\"Not required\"),COUNTRY_INFO!O93*DISTRICT!AO93,0))","v":175884},261334.66036851757,"Y",{"$f":"MAX('MDA2'!J93,'T1'!L93,'T2'!J93,T3_R1!K93,T3_R2!K93)","v":0},{"$f":"MAX('MDA1'!K93,'MDA2'!K93,'MDA3'!I93,'MDA3'!L93,'T1'!M93,'T2'!K93,T3_R1!L93,T3_R2!L93)","v":54764},{"$f":"MAX('MDA1'!L93,'MDA2'!L93,'MDA3'!J93,'MDA3'!M93,'T1'!N93,'T2'!L93,T3_R1!M93,T3_R2!M93)","v":179889.24},234653.24,{"$f":"MAX('MDA2'!J93,T93)","v":0},{"$f":"MAX('MDA1'!K93,'MDA2'!K93,'MDA3'!I93,'MDA3'!L93,V93,AD93)","v":54764},{"$f":"MAX('MDA1'!L93,'MDA2'!L93,'MDA3'!J93,'MDA3'!M93,AF93)","v":179889.24},234653.24,89.790324662295802]
[{"$f":"IF(COUNTRY_INFO!A94=0,\" \",COUNTRY_INFO!A94)","v":"Tanzania"},{"$f":"IF(COUNTRY_INFO!B94=0,\" \",COUNTRY_INFO!B94)","v":"Mbeya"},{"$f":"IF(COUNTRY_INFO!C94=0,\" \",COUNTRY_INFO!C94)","v":"Mbarali District Council"},{"$f":"COUNTRY_INFO!L94","v":"Stopped"},null,null,{"$f":"MAX('MDA1'!M94,'MDA2'!M94)","v":0},{"$f":"IF(AND(COUNTRY_INFO!H94>0,COUNTRY_INFO!H94<4),IF(D94>MAX('MDA1'!M94,'MDA2'!M94),MAX('MDA1'!M94,'MDA2'!M94),D94),0)","v":0},{"$f":"IF(AND(COUNTRY_INFO!H94>0,COUNTRY_INFO!H94<4), IF(G94/D94*100<>0, IF(G94/D94*100>100,100,G94/D94*100), \"-\"),0)","v":0},{"$f":"COUNTRY_INFO!M94","v":0},null,null,{"$f":"MAX('MDA1'!M94,MAX('MDA3'!I94,'MDA3'!L94)+MAX('MDA3'!J94,'MDA3'!M94))","v":0},{"$f":"IF(AND(COUNTRY_INFO!I94>0,COUNTRY_INFO!I94<4),IF(J94>MAX('MDA1'!M94,MAX('MDA3'!I94,'MDA3'!L94)+MAX('MDA3'!J94,'MDA3'!M94)),MAX('MDA1'!M94,MAX('MDA3'!I94,'MDA3'!L94)+MAX('MDA3'!J94,'MDA3'!M94)),J94),0)","v":0},{"$f":"IF(AND(COUNTRY_INFO!I94>0,COUNTRY_INFO!I94<4), IF(M94/J94*100<>0, IF(M94/J94*100>100,100,M94/J94*100), \"-\"),0)","v":0},{"$f":"COUNTRY_INFO!N94","v":111704},null,null,{"$f":"SUM(MAX('MDA2'!J94, 'T1'!L94, MAX(T3_R1!K94, T3_R2!K94)), MAX('MDA1'!K94, 'MDA2'!K94, 'T1'!M94, MAX(T3_R1!L94, T3_R2!L94)), MAX('MDA1'!L94, 'MDA2'!L94, 'T1'!N94, MAX(T3_R1!M94, T3_R2!M94)))","v":47034},{"$f":"IF(AND(COUNTRY_INFO!J94>1,COUNTRY_INFO!J94<4),IF(COUNTRY_INFO!E94>MAX('MDA2'!J94,'T1'!L94,MAX(T3_R1!K94,T3_R2!K94)),MAX('MDA2'!J94,'T1'!L94,MAX(T3_R1!K94,T3_R2!K94)),COUNTRY_INFO!E94),0)","v":0},{"$f":"IF(AND(COUNTRY_INFO!J94>1,COUNTRY_INFO!J94<4), IF(T94/COUNTRY_INFO!E94*100<>0, IF(T94/COUNTRY_INFO!E94*100>100,100,T94/COUNTRY_INFO!E94*100), \"-\"),0)","v":"-"},{"$f":"IF(AND(COUNTRY_INFO!J94>1,COUNTRY_INFO!J94<4),IF(COUNTRY_INFO!F94>MAX('MDA1'!K94,'MDA2'!K94,'T1'!M94,MAX(T3_R1!L94,T3_R2!L94)),MAX('MDA1'!K94,'MDA2'!K94,'T1'!M94,MAX(T3_R1!L94,T3_R2!L94)),COUNTRY_INFO!F94),0)","v":47034},{"$f":"IF(AND(COUNTRY_INFO!J94>1,COUNTRY_INFO!J94<4), IF(V94/COUNTRY_INFO!F94*100<>0, IF(V94/COUNTRY_INFO!F94*100>100,100,V94/COUNTRY_INFO!F94*100), \"-\"),0)","v":71.03009801108476},47034,{"$f":"IF(AND(COUNTRY_INFO!J94>1,COUNTRY_INFO!J94<4), IF(S94/P94*100<>0, IF(X94/P94*100>100,100,X94/P94*100), \"-\"),0)","v":42.105922795960751},{"$f":"COUNTRY_INFO!O94","v":81289.3},null,null,{"$f":"MAX('T1'!L94,'T2'!J94)+MAX('T1'!M94,'T2'!K94)+MAX('T1'!N94,'T2'!L94)","v":47034},{"$f":"IF(COUNTRY_INFO!K94=1,IF(COUNTRY_INFO!F94*0.33>MAX('T1'!M94,'T2'!K94),MAX('T1'!M94,'T2'!K94),COUNTRY_INFO!F94*0.33),IF(COUNTRY_INFO!K94=2,IF(COUNTRY_INFO!F94*0.5>MAX('T1'!M94,'T2'!K94),MAX('T1'!M94,'T2'!K94),COUNTRY_INFO!F94*0.5),IF(COUNTRY_INFO!K94=3,IF(COUNTRY_INFO!F94>MAX('T1'!M94,'T2'!K94),MAX('T1'!M94,'T2'!K94),COUNTRY_INFO!F94),0)))","v":33108.5},{"$f":"IF(AND(COUNTRY_INFO!K94>0,COUNTRY_INFO!K94<4),IF(Z94>0,IF(COUNTRY_INFO!K94=1, AD94/(COUNTRY_INFO!F94*0.33)*100, IF(COUNTRY_INFO!K94=2, AD94/(COUNTRY_INFO!F94*0.5)*100, IF(COUNTRY_INFO!K94=3, AD94/COUNTRY_INFO!F94*100))),\"-\"),0)","v":100},{"$f":"IF(COUNTRY_INFO!K94=2,IF(COUNTRY_INFO!G94*0.2>MAX('T1'!N94,'T2'!L94),MAX('T1'!N94,'T2'!L94),COUNTRY_INFO!G94*0.2),IF(COUNTRY_INFO!K94=3,IF(COUNTRY_INFO!G94>MAX('T1'!N94,'T2'!L94),MAX('T1'!N94,'T2'!L94),COUNTRY_INFO!G94),0))","v":0},{"$f":"IF(AND(COUNTRY_INFO!K94>0,COUNTRY_INFO!K94<4),IF(Z94>0,IF(COUNTRY_INFO!K94=1, 0, IF(COUNTRY_INFO!K94=2, AF94/(COUNTRY_INFO!G94*0.2)*100, IF(COUNTRY_INFO!K94=3, AF94/COUNTRY_INFO!G94*100))),\"-\"),0)","v":0},33108.5,{"$f":"IF(AND(COUNTRY_INFO!K94>0,COUNTRY_INFO!K94<4), IF(AC94/Z94*100<>0, IF(AH94/Z94*100>100,100,AH94/Z94*100), \"-\"),0)","v":40.72922266522162},null,{"$f":"IF(AND(D94<>0, D94<>\"Unknown\",D94<>\"Stopped\",D94<>\"Not required\"),D94/COUNTRY_INFO!D94, 0)","v":0},{"$f":"IF(AND(J94<>0,J94<>\"Unknown\",J94<>\"Stopped\",J94<>\"Not required\"),J94/COUNTRY_INFO!D94, 0)","v":0},{"$f":"IF(AND(P94<>0,P94<>\"Unknown\",P94<>\"Not required\"),P94/(COUNTRY_INFO!E94+COUNTRY_INFO!F94), 0)","v":1},{"$f":"IF(AND(Z94<>0,Z94<>\"Unknown\",Z94<>\"Not required\"),IF(COUNTRY_INFO!K94=1,1,IF(COUNTRY_INFO!K94=2,0.5*COUNTRY_INFO!F94/(0.5*COUNTRY_INFO!F94+0.2*COUNTRY_INFO!G94),IF(COUNTRY_INFO!K94=3,COUNTRY_INFO!F94/(COUNTRY_INFO!F94+COUNTRY_INFO!G94)))),0)","v":0.4072922266522162},{"$f":"IF(AND(Z94<>0,Z94<>\"Unknown\",Z94<>\"Not required\"),IF(COUNTRY_INFO!K94=1,0,IF(COUNTRY_INFO!K94=2,0.2*COUNTRY_INFO!G94/(0.5*COUNTRY_INFO!F94+0.2*COUNTRY_INFO!G94),IF(COUNTRY_INFO!K94=3,COUNTRY_INFO!G94/(COUNTRY_INFO!F94+COUNTRY_INFO!G94)))),0)","v":0.5927077733477838},{"$f":"MAX(COUNTRY_INFO!D94*AK94*PROFILE!$G$7,COUNTRY_INFO!D94*AL94*PROFILE!$G$7)","v":0},{"$f":"MAX(COUNTRY_INFO!D94*AK94*PROFILE!$G$8,COUNTRY_INFO!D94*AL94*PROFILE!$G$8,COUNTRY_INFO!D94*AM94*PROFILE!$G$8)","v":39150.28545402419},{"$f":"MAX(COUNTRY_INFO!D94*AK94*PROFILE!$G$9,COUNTRY_INFO!D94*AL94*PROFILE!$G$9,COUNTRY_INFO!D94*AM94*PROFILE!$G$9,IF(AND(DISTRICT!Z94<>\"Unknown\",Z94<>\"Not required\"),COUNTRY_INFO!O94*DISTRICT!AN94,0))","v":76789.204203675254},{"$f":"MAX(COUNTRY_INFO!D94*AK94*PROFILE!$G$10,COUNTRY_INFO!D94*AL94*PROFILE!$G$10,IF(AND(DISTRICT!Z94<>\"Unknown\",Z94<>\"Not required\"),COUNTRY_INFO!O94*DISTRICT!AO94,0))","v":48180.800000000003},164120.28965769947,"Y",{"$f":"MAX('MDA2'!J94,'T1'!L94,'T2'!J94,T3_R1!K94,T3_R2!K94)","v":0},{"$f":"MAX('MDA1'!K94,'MDA2'!K94,'MDA3'!I94,'MDA3'!L94,'T1'!M94,'T2'!K94,T3_R1!L94,T3_R2!L94)","v":47034},{"$f":"MAX('MDA1'!L94,'MDA2'!L94,'MDA3'!J94,'MDA3'!M94,'T1'!N94,'T2'!L94,T3_R1!M94,T3_R2!M94)","v":0},47034,{"$f":"MAX('MDA2'!J94,T94)","v":0},{"$f":"MAX('MDA1'!K94,'MDA2'!K94,'MDA3'!I94,'MDA3'!L94,V94,AD94)","v":47034},{"$f":"MAX('MDA1'!L94,'MDA2'!L94,'MDA3'!J94,'MDA3'!M94,AF94)","v":0},47034,28.65824822640597]
[{"$f":"IF(COUNTRY_INFO!A95=0,\" \",COUNTRY_INFO!A95)","v":"Tanzania"},{"$f":"IF(COUNTRY_INFO!B95=0,\" \",COUNTRY_INFO!B95)","v":"Mbeya"},{"$f":"IF(COUNTRY_INFO!C95=0,\" \",COUNTRY_INFO!C95)","v":"Mbeya City Council"},{"$f":"COUNTRY_INFO!L95","v":"Stopped"},null,null,{"$f":"MAX('MDA1'!M95,'MDA2'!M95)","v":0},{"$f":"IF(AND(COUNTRY_INFO!H95>0,COUNTRY_INFO!H95<4),IF(D95>MAX('MDA1'!M95,'MDA2'!M95),MAX('MDA1'!M95,'MDA2'!M95),D95),0)","v":0},{"$f":"IF(AND(COUNTRY_INFO!H95>0,COUNTRY_INFO!H95<4), IF(G95/D95*100<>0, IF(G95/D95*100>100,100,G95/D95*100), \"-\"),0)","v":0},{"$f":"COUNTRY_INFO!M95","v":0},null,null,{"$f":"MAX('MDA1'!M95,MAX('MDA3'!I95,'MDA3'!L95)+MAX('MDA3'!J95,'MDA3'!M95))","v":0},{"$f":"IF(AND(COUNTRY_INFO!I95>0,COUNTRY_INFO!I95<4),IF(J95>MAX('MDA1'!M95,MAX('MDA3'!I95,'MDA3'!L95)+MAX('MDA3'!J95,'MDA3'!M95)),MAX('MDA1'!M95,MAX('MDA3'!I95,'MDA3'!L95)+MAX('MDA3'!J95,'MDA3'!M95)),J95),0)","v":0},{"$f":"IF(AND(COUNTRY_INFO!I95>0,COUNTRY_INFO!I95<4), IF(M95/J95*100<>0, IF(M95/J95*100>100,100,M95/J95*100), \"-\"),0)","v":0},{"$f":"COUNTRY_INFO!N95","v":132427},null,null,{"$f":"SUM(MAX('MDA2'!J95, 'T1'!L95, MAX(T3_R1!K95, T3_R2!K95)), MAX('MDA1'!K95, 'MDA2'!K95, 'T1'!M95, MAX(T3_R1!L95, T3_R2!L95)), MAX('MDA1'!L95, 'MDA2'!L95, 'T1'!N95, MAX(T3_R1!M95, T3_R2!M95)))","v":65838},{"$f":"IF(AND(COUNTRY_INFO!J95>1,COUNTRY_INFO!J95<4),IF(COUNTRY_INFO!E95>MAX('MDA2'!J95,'T1'!L95,MAX(T3_R1!K95,T3_R2!K95)),MAX('MDA2'!J95,'T1'!L95,MAX(T3_R1!K95,T3_R2!K95)),COUNTRY_INFO!E95),0)","v":0},{"$f":"IF(AND(COUNTRY_INFO!J95>1,COUNTRY_INFO!J95<4), IF(T95/COUNTRY_INFO!E95*100<>0, IF(T95/COUNTRY_INFO!E95*100>100,100,T95/COUNTRY_INFO!E95*100), \"-\"),0)","v":"-"},{"$f":"IF(AND(COUNTRY_INFO!J95>1,COUNTRY_INFO!J95<4),IF(COUNTRY_INFO!F95>MAX('MDA1'!K95,'MDA2'!K95,'T1'!M95,MAX(T3_R1!L95,T3_R2!L95)),MAX('MDA1'!K95,'MDA2'!K95,'T1'!M95,MAX(T3_R1!L95,T3_R2!L95)),COUNTRY_INFO!F95),0)","v":65838},{"$f":"IF(AND(COUNTRY_INFO!J95>1,COUNTRY_INFO!J95<4), IF(V95/COUNTRY_INFO!F95*100<>0, IF(V95/COUNTRY_INFO!F95*100>100,100,V95/COUNTRY_INFO!F95*100), \"-\"),0)","v":88.83701474814805},65838,{"$f":"IF(AND(COUNTRY_INFO!J95>1,COUNTRY_INFO!J95<4), IF(S95/P95*100<>0, IF(X95/P95*100>100,100,X95/P95*100), \"-\"),0)","v":49.716447552236325},{"$f":"COUNTRY_INFO!O95","v":100982.5},null,null,{"$f":"MAX('T1'!L95,'T2'!J95)+MAX('T1'!M95,'T2'!K95)+MAX('T1'!N95,'T2'!L95)","v":65838},{"$f":"IF(COUNTRY_INFO!K95=1,IF(COUNTRY_INFO!F95*0.33>MAX('T1'!M95,'T2'!K95),MAX('T1'!M95,'T2'!K95),COUNTRY_INFO!F95*0.33),IF(COUNTRY_INFO!K95=2,IF(COUNTRY_INFO!F95*0.5>MAX('T1'!M95,'T2'!K95),MAX('T1'!M95,'T2'!K95),COUNTRY_INFO!F95*0.5),IF(COUNTRY_INFO!K95=3,IF(COUNTRY_INFO!F95>MAX('T1'!M95,'T2'!K95),MAX('T1'!M95,'T2'!K95),COUNTRY_INFO!F95),0)))","v":37055.5},{"$f":"IF(AND(COUNTRY_INFO!K95>0,COUNTRY_INFO!K95<4),IF(Z95>0,IF(COUNTRY_INFO!K95=1, AD95/(COUNTRY_INFO!F95*0.33)*100, IF(COUNTRY_INFO!K95=2, AD95/(COUNTRY_INFO!F95*0.5)*100, IF(COUNTRY_INFO!K95=3, AD95/COUNTRY_INFO!F95*100))),\"-\"),0)","v":100},{"$f":"IF(COUNTRY_INFO!K95=2,IF(COUNTRY_INFO!G95*0.2>MAX('T1'!N95,'T2'!L95),MAX('T1'!N95,'T2'!L95),COUNTRY_INFO!G95*0.2),IF(COUNTRY_INFO!K95=3,IF(COUNTRY_INFO!G95>MAX('T1'!N95,'T2'!L95),MAX('T1'!N95,'T2'!L95),COUNTRY_INFO!G95),0))","v":0},{"$f":"IF(AND(COUNTRY_INFO!K95>0,COUNTRY_INFO!K95<4),IF(Z95>0,IF(COUNTRY_INFO!K95=1, 0, IF(COUNTRY_INFO!K95=2, AF95/(COUNTRY_INFO!G95*0.2)*100, IF(COUNTRY_INFO!K95=3, AF95/COUNTRY_INFO!G95*100))),\"-\"),0)","v":0},37055.5,{"$f":"IF(AND(COUNTRY_INFO!K95>0,COUNTRY_INFO!K95<4), IF(AC95/Z95*100<>0, IF(AH95/Z95*100>100,100,AH95/Z95*100), \"-\"),0)","v":36.694971901071966},null,{"$f":"IF(AND(D95<>0, D95<>\"Unknown\",D95<>\"Stopped\",D95<>\"Not required\"),D95/COUNTRY_INFO!D95, 0)","v":0},{"$f":"IF(AND(J95<>0,J95<>\"Unknown\",J95<>\"Stopped\",J95<>\"Not required\"),J95/COUNTRY_INFO!D95, 0)","v":0},{"$f":"IF(AND(P95<>0,P95<>\"Unknown\",P95<>\"Not required\"),P95/(COUNTRY_INFO!E95+COUNTRY_INFO!F95), 0)","v":1},{"$f":"IF(AND(Z95<>0,Z95<>\"Unknown\",Z95<>\"Not required\"),IF(COUNTRY_INFO!K95=1,1,IF(COUNTRY_INFO!K95=2,0.5*COUNTRY_INFO!F95/(0.5*COUNTRY_INFO!F95+0.2*COUNTRY_INFO!G95),IF(COUNTRY_INFO!K95=3,COUNTRY_INFO!F95/(COUNTRY_INFO!F95+COUNTRY_INFO!G95)))),0)","v":0.36694971901071965},{"$f":"IF(AND(Z95<>0,Z95<>\"Unknown\",Z95<>\"Not required\"),IF(COUNTRY_INFO!K95=1,0,IF(COUNTRY_INFO!K95=2,0.2*COUNTRY_INFO!G95/(0.5*COUNTRY_INFO!F95+0.2*COUNTRY_INFO!G95),IF(COUNTRY_INFO!K95=3,COUNTRY_INFO!G95/(COUNTRY_INFO!F95+COUNTRY_INFO!G95)))),0)","v":0.63305028098928029},{"$f":"MAX(COUNTRY_INFO!D95*AK95*PROFILE!$G$7,COUNTRY_INFO!D95*AL95*PROFILE!$G$7)","v":0},{"$f":"MAX(COUNTRY_INFO!D95*AK95*PROFILE!$G$8,COUNTRY_INFO!D95*AL95*PROFILE!$G$8,COUNTRY_INFO!D95*AM95*PROFILE!$G$8)","v":50192.724903907692},{"$f":"MAX(COUNTRY_INFO!D95*AK95*PROFILE!$G$9,COUNTRY_INFO!D95*AL95*PROFILE!$G$9,COUNTRY_INFO!D95*AM95*PROFILE!$G$9,IF(AND(DISTRICT!Z95<>\"Unknown\",Z95<>\"Not required\"),COUNTRY_INFO!O95*DISTRICT!AN95,0))","v":98447.798208554086},{"$f":"MAX(COUNTRY_INFO!D95*AK95*PROFILE!$G$10,COUNTRY_INFO!D95*AL95*PROFILE!$G$10,IF(AND(DISTRICT!Z95<>\"Unknown\",Z95<>\"Not required\"),COUNTRY_INFO!O95*DISTRICT!AO95,0))","v":63927},212567.52311246179,"Y",{"$f":"MAX('MDA2'!J95,'T1'!L95,'T2'!J95,T3_R1!K95,T3_R2!K95)","v":0},{"$f":"MAX('MDA1'!K95,'MDA2'!K95,'MDA3'!I95,'MDA3'!L95,'T1'!M95,'T2'!K95,T3_R1!L95,T3_R2!L95)","v":65838},{"$f":"MAX('MDA1'!L95,'MDA2'!L95,'MDA3'!J95,'MDA3'!M95,'T1'!N95,'T2'!L95,T3_R1!M95,T3_R2!M95)","v":0},65838,{"$f":"MAX('MDA2'!J95,T95)","v":0},{"$f":"MAX('MDA1'!K95,'MDA2'!K95,'MDA3'!I95,'MDA3'!L95,V95,AD95)","v":65838},{"$f":"MAX('MDA1'!L95,'MDA2'!L95,'MDA3'!J95,'MDA3'!M95,AF95)","v":0},65838,30.972746464739814]
[{"$f":"IF(COUNTRY_INFO!A96=0,\" \",COUNTRY_INFO!A96)","v":"Tanzania"},{"$f":"IF(COUNTRY_INFO!B96=0,\" \",COUNTRY_INFO!B96)","v":"Mbeya"},{"$f":"IF(COUNTRY_INFO!C96=0,\" \",COUNTRY_INFO!C96)","v":"Mbeya District Council"},{"$f":"COUNTRY_INFO!L96","v":"Stopped"},null,null,{"$f":"MAX('MDA1'!M96,'MDA2'!M96)","v":0},{"$f":"IF(AND(COUNTRY_INFO!H96>0,COUNTRY_INFO!H96<4),IF(D96>MAX('MDA1'!M96,'MDA2'!M96),MAX('MDA1'!M96,'MDA2'!M96),D96),0)","v":0},{"$f":"IF(AND(COUNTRY_INFO!H96>0,COUNTRY_INFO!H96<4), IF(G96/D96*100<>0, IF(G96/D96*100>100,100,G96/D96*100), \"-\"),0)","v":0},{"$f":"COUNTRY_INFO!M96","v":0},null,null,{"$f":"MAX('MDA1'!M96,MAX('MDA3'!I96,'MDA3'!L96)+MAX('MDA3'!J96,'MDA3'!M96))","v":0},{"$f":"IF(AND(COUNTRY_INFO!I96>0,COUNTRY_INFO!I96<4),IF(J96>MAX('MDA1'!M96,MAX('MDA3'!I96,'MDA3'!L96)+MAX('MDA3'!J96,'MDA3'!M96)),MAX('MDA1'!M96,MAX('MDA3'!I96,'MDA3'!L96)+MAX('MDA3'!J96,'MDA3'!M96)),J96),0)","v":0},{"$f":"IF(AND(COUNTRY_INFO!I96>0,COUNTRY_INFO!I96<4), IF(M96/J96*100<>0, IF(M96/J96*100>100,100,M96/J96*100), \"-\"),0)","v":0},{"$f":"COUNTRY_INFO!N96","v":114926},null,null,{"$f":"SUM(MAX('MDA2'!J96, 'T1'!L96, MAX(T3_R1!K96, T3_R2!K96)), MAX('MDA1'!K96, 'MDA2'!K96, 'T1'!M96, MAX(T3_R1!L96, T3_R2!L96)), MAX('MDA1'!L96, 'MDA2'!L96, 'T1'!N96, MAX(T3_R1!M96, T3_R2!M96)))","v":71325},{"$f":"IF(AND(COUNTRY_INFO!J96>1,COUNTRY_INFO!J96<4),IF(COUNTRY_INFO!E96>MAX('MDA2'!J96,'T1'!L96,MAX(T3_R1!K96,T3_R2!K96)),MAX('MDA2'!J96,'T1'!L96,MAX(T3_R1!K96,T3_R2!K96)),COUNTRY_INFO!E96),0)","v":0},{"$f":"IF(AND(COUNTRY_INFO!J96>1,COUNTRY_INFO!J96<4), IF(T96/COUNTRY_INFO!E96*100<>0, IF(T96/COUNTRY_INFO!E96*100>100,100,T96/COUNTRY_INFO!E96*100), \"-\"),0)","v":"-"},{"$f":"IF(AND(COUNTRY_INFO!J96>1,COUNTRY_INFO!J96<4),IF(COUNTRY_INFO!F96>MAX('MDA1'!K96,'MDA2'!K96,'T1'!M96,MAX(T3_R1!L96,T3_R2!L96)),MAX('MDA1'!K96,'MDA2'!K96,'T1'!M96,MAX(T3_R1!L96,T3_R2!L96)),COUNTRY_INFO!F96),0)","v":71325},{"$f":"IF(AND(COUNTRY_INFO!J96>1,COUNTRY_INFO!J96<4), IF(V96/COUNTRY_INFO!F96*100<>0, IF(V96/COUNTRY_INFO!F96*100>100,100,V96/COUNTRY_INFO!F96*100), \"-\"),0)","v":95.640688693413438},71325,{"$f":"IF(AND(COUNTRY_INFO!J96>1,COUNTRY_INFO!J96<4), IF(S96/P96*100<>0, IF(X96/P96*100>100,100,X96/P96*100), \"-\"),0)","v":62.06167446878861},{"$f":"COUNTRY_INFO!O96","v":85951.200000000012},null,null,{"$f":"MAX('T1'!L96,'T2'!J96)+MAX('T1'!M96,'T2'!K96)+MAX('T1'!N96,'T2'!L96)","v":71325},{"$f":"IF(COUNTRY_INFO!K96=1,IF(COUNTRY_INFO!F96*0.33>MAX('T1'!M96,'T2'!K96),MAX('T1'!M96,'T2'!K96),COUNTRY_INFO!F96*0.33),IF(COUNTRY_INFO!K96=2,IF(COUNTRY_INFO!F96*0.5>MAX('T1'!M96,'T2'!K96),MAX('T1'!M96,'T2'!K96),COUNTRY_INFO!F96*0.5),IF(COUNTRY_INFO!K96=3,IF(COUNTRY_INFO!F96>MAX('T1'!M96,'T2'!K96),MAX('T1'!M96,'T2'!K96),COUNTRY_INFO!F96),0)))","v":37288},{"$f":"IF(AND(COUNTRY_INFO!K96>0,COUNTRY_INFO!K96<4),IF(Z96>0,IF(COUNTRY_INFO!K96=1, AD96/(COUNTRY_INFO!F96*0.33)*100, IF(COUNTRY_INFO!K96=2, AD96/(COUNTRY_INFO!F96*0.5)*100, IF(COUNTRY_INFO!K96=3, AD96/COUNTRY_INFO!F96*100))),\"-\"),0)","v":100},{"$f":"IF(COUNTRY_INFO!K96=2,IF(COUNTRY_INFO!G96*0.2>MAX('T1'!N96,'T2'!L96),MAX('T1'!N96,'T2'!L96),COUNTRY_INFO!G96*0.2),IF(COUNTRY_INFO!K96=3,IF(COUNTRY_INFO!G96>MAX('T1'!N96,'T2'!L96),MAX('T1'!N96,'T2'!L96),COUNTRY_INFO!G96),0))","v":0},{"$f":"IF(AND(COUNTRY_INFO!K96>0,COUNTRY_INFO!K96<4),IF(Z96>0,IF(COUNTRY_INFO!K96=1, 0, IF(COUNTRY_INFO!K96=2, AF96/(COUNTRY_INFO!G96*0.2)*100, IF(COUNTRY_INFO!K96=3, AF96/COUNTRY_INFO!G96*100))),\"-\"),0)","v":0},37288,{"$f":"IF(AND(COUNTRY_INFO!K96>0,COUNTRY_INFO!K96<4), IF(AC96/Z96*100<>0, IF(AH96/Z96*100>100,100,AH96/Z96*100), \"-\"),0)","v":43.38275672707303},null,{"$f":"IF(AND(D96<>0, D96<>\"Unknown\",D96<>\"Stopped\",D96<>\"Not required\"),D96/COUNTRY_INFO!D96, 0)","v":0},{"$f":"IF(AND(J96<>0,J96<>\"Unknown\",J96<>\"Stopped\",J96<>\"Not required\"),J96/COUNTRY_INFO!D96, 0)","v":0},{"$f":"IF(AND(P96<>0,P96<>\"Unknown\",P96<>\"Not required\"),P96/(COUNTRY_INFO!E96+COUNTRY_INFO!F96), 0)","v":1},{"$f":"IF(AND(Z96<>0,Z96<>\"Unknown\",Z96<>\"Not required\"),IF(COUNTRY_INFO!K96=1,1,IF(COUNTRY_INFO!K96=2,0.5*COUNTRY_INFO!F96/(0.5*COUNTRY_INFO!F96+0.2*COUNTRY_INFO!G96),IF(COUNTRY_INFO!K96=3,COUNTRY_INFO!F96/(COUNTRY_INFO!F96+COUNTRY_INFO!G96)))),0)","v":0.4338275672707303},{"$f":"IF(AND(Z96<>0,Z96<>\"Unknown\",Z96<>\"Not required\"),IF(COUNTRY_INFO!K96=1,0,IF(COUNTRY_INFO!K96=2,0.2*COUNTRY_INFO!G96/(0.5*COUNTRY_INFO!F96+0.2*COUNTRY_INFO!G96),IF(COUNTRY_INFO!K96=3,COUNTRY_INFO!G96/(COUNTRY_INFO!F96+COUNTRY_INFO!G96)))),0)","v":0.56617243272926965},{"$f":"MAX(COUNTRY_INFO!D96*AK96*PROFILE!$G$7,COUNTRY_INFO!D96*AL96*PROFILE!$G$7)","v":0},{"$f":"MAX(COUNTRY_INFO!D96*AK96*PROFILE!$G$8,COUNTRY_INFO!D96*AL96*PROFILE!$G$8,COUNTRY_INFO!D96*AM96*PROFILE!$G$8)","v":39775.831976644135},{"$f":"MAX(COUNTRY_INFO!D96*AK96*PROFILE!$G$9,COUNTRY_INFO!D96*AL96*PROFILE!$G$9,COUNTRY_INFO!D96*AM96*PROFILE!$G$9,IF(AND(DISTRICT!Z96<>\"Unknown\",Z96<>\"Not required\"),COUNTRY_INFO!O96*DISTRICT!AN96,0))","v":78016.14850579972},{"$f":"MAX(COUNTRY_INFO!D96*AK96*PROFILE!$G$10,COUNTRY_INFO!D96*AL96*PROFILE!$G$10,IF(AND(DISTRICT!Z96<>\"Unknown\",Z96<>\"Not required\"),COUNTRY_INFO!O96*DISTRICT!AO96,0))","v":48663.200000000004},166455.18048244386,"Y",{"$f":"MAX('MDA2'!J96,'T1'!L96,'T2'!J96,T3_R1!K96,T3_R2!K96)","v":0},{"$f":"MAX('MDA1'!K96,'MDA2'!K96,'MDA3'!I96,'MDA3'!L96,'T1'!M96,'T2'!K96,T3_R1!L96,T3_R2!L96)","v":71325},{"$f":"MAX('MDA1'!L96,'MDA2'!L96,'MDA3'!J96,'MDA3'!M96,'T1'!N96,'T2'!L96,T3_R1!M96,T3_R2!M96)","v":0},71325,{"$f":"MAX('MDA2'!J96,T96)","v":0},{"$f":"MAX('MDA1'!K96,'MDA2'!K96,'MDA3'!I96,'MDA3'!L96,V96,AD96)","v":71325},{"$f":"MAX('MDA1'!L96,'MDA2'!L96,'MDA3'!J96,'MDA3'!M96,AF96)","v":0},71325,42.849372301466275]
[{"$f":"IF(COUNTRY_INFO!A97=0,\" \",COUNTRY_INFO!A97)","v":"Tanzania"},{"$f":"IF(COUNTRY_INFO!B97=0,\" \",COUNTRY_INFO!B97)","v":"Mbeya"},{"$f":"IF(COUNTRY_INFO!C97=0,\" \",COUNTRY_INFO!C97)","v":"Rungwe District Council"},{"$f":"COUNTRY_INFO!L97","v":"Stopped"},null,null,{"$f":"MAX('MDA1'!M97,'MDA2'!M97)","v":0},{"$f":"IF(AND(COUNTRY_INFO!H97>0,COUNTRY_INFO!H97<4),IF(D97>MAX('MDA1'!M97,'MDA2'!M97),MAX('MDA1'!M97,'MDA2'!M97),D97),0)","v":0},{"$f":"IF(AND(COUNTRY_INFO!H97>0,COUNTRY_INFO!H97<4), IF(G97/D97*100<>0, IF(G97/D97*100>100,100,G97/D97*100), \"-\"),0)","v":0},{"$f":"COUNTRY_INFO!M97","v":293112},null,null,{"$f":"MAX('MDA1'!M97,MAX('MDA3'!I97,'MDA3'!L97)+MAX('MDA3'!J97,'MDA3'!M97))","v":234256},{"$f":"IF(AND(COUNTRY_INFO!I97>0,COUNTRY_INFO!I97<4),IF(J97>MAX('MDA1'!M97,MAX('MDA3'!I97,'MDA3'!L97)+MAX('MDA3'!J97,'MDA3'!M97)),MAX('MDA1'!M97,MAX('MDA3'!I97,'MDA3'!L97)+MAX('MDA3'!J97,'MDA3'!M97)),J97),0)","v":234256},{"$f":"IF(AND(COUNTRY_INFO!I97>0,COUNTRY_INFO!I97<4), IF(M97/J97*100<>0, IF(M97/J97*100>100,100,M97/J97*100), \"-\"),0)","v":79.92030350173313},{"$f":"COUNTRY_INFO!N97","v":100432},null,null,{"$f":"SUM(MAX('MDA2'!J97, 'T1'!L97, MAX(T3_R1!K97, T3_R2!K97)), MAX('MDA1'!K97, 'MDA2'!K97, 'T1'!M97, MAX(T3_R1!L97, T3_R2!L97)), MAX('MDA1'!L97, 'MDA2'!L97, 'T1'!N97, MAX(T3_R1!M97, T3_R2!M97)))","v":51845},{"$f":"IF(AND(COUNTRY_INFO!J97>1,COUNTRY_INFO!J97<4),IF(COUNTRY_INFO!E97>MAX('MDA2'!J97,'T1'!L97,MAX(T3_R1!K97,T3_R2!K97)),MAX('MDA2'!J97,'T1'!L97,MAX(T3_R1!K97,T3_R2!K97)),COUNTRY_INFO!E97),0)","v":0},{"$f":"IF(AND(COUNTRY_INFO!J97>1,COUNTRY_INFO!J97<4), IF(T97/COUNTRY_INFO!E97*100<>0, IF(T97/COUNTRY_INFO!E97*100>100,100,T97/COUNTRY_INFO!E97*100), \"-\"),0)","v":"-"},{"$f":"IF(AND(COUNTRY_INFO!J97>1,COUNTRY_INFO!J97<4),IF(COUNTRY_INFO!F97>MAX('MDA1'!K97,'MDA2'!K97,'T1'!M97,MAX(T3_R1!L97,T3_R2!L97)),MAX('MDA1'!K97,'MDA2'!K97,'T1'!M97,MAX(T3_R1!L97,T3_R2!L97)),COUNTRY_INFO!F97),0)","v":51845},{"$f":"IF(AND(COUNTRY_INFO!J97>1,COUNTRY_INFO!J97<4), IF(V97/COUNTRY_INFO!F97*100<>0, IF(V97/COUNTRY_INFO!F97*100>100,100,V97/COUNTRY_INFO!F97*100), \"-\"),0)","v":93.473361579374384},51845,{"$f":"IF(AND(COUNTRY_INFO!J97>1,COUNTRY_INFO!J97<4), IF(S97/P97*100<>0, IF(X97/P97*100>100,100,X97/P97*100), \"-\"),0)","v":51.621992990281981},{"$f":"COUNTRY_INFO!O97","v":66268.5},null,null,{"$f":"MAX('T1'!L97,'T2'!J97)+MAX('T1'!M97,'T2'!K97)+MAX('T1'!N97,'T2'!L97)","v":51845},{"$f":"IF(COUNTRY_INFO!K97=1,IF(COUNTRY_INFO!F97*0.33>MAX('T1'!M97,'T2'!K97),MAX('T1'!M97,'T2'!K97),COUNTRY_INFO!F97*0.33),IF(COUNTRY_INFO!K97=2,IF(COUNTRY_INFO!F97*0.5>MAX('T1'!M97,'T2'!K97),MAX('T1'!M97,'T2'!K97),COUNTRY_INFO!F97*0.5),IF(COUNTRY_INFO!K97=3,IF(COUNTRY_INFO!F97>MAX('T1'!M97,'T2'!K97),MAX('T1'!M97,'T2'!K97),COUNTRY_INFO!F97),0)))","v":27732.5},{"$f":"IF(AND(COUNTRY_INFO!K97>0,COUNTRY_INFO!K97<4),IF(Z97>0,IF(COUNTRY_INFO!K97=1, AD97/(COUNTRY_INFO!F97*0.33)*100, IF(COUNTRY_INFO!K97=2, AD97/(COUNTRY_INFO!F97*0.5)*100, IF(COUNTRY_INFO!K97=3, AD97/COUNTRY_INFO!F97*100))),\"-\"),0)","v":100},{"$f":"IF(COUNTRY_INFO!K97=2,IF(COUNTRY_INFO!G97*0.2>MAX('T1'!N97,'T2'!L97),MAX('T1'!N97,'T2'!L97),COUNTRY_INFO!G97*0.2),IF(COUNTRY_INFO!K97=3,IF(COUNTRY_INFO!G97>MAX('T1'!N97,'T2'!L97),MAX('T1'!N97,'T2'!L97),COUNTRY_INFO!G97),0))","v":0},{"$f":"IF(AND(COUNTRY_INFO!K97>0,COUNTRY_INFO!K97<4),IF(Z97>0,IF(COUNTRY_INFO!K97=1, 0, IF(COUNTRY_INFO!K97=2, AF97/(COUNTRY_INFO!G97*0.2)*100, IF(COUNTRY_INFO!K97=3, AF97/COUNTRY_INFO!G97*100))),\"-\"),0)","v":0},27732.5,{"$f":"IF(AND(COUNTRY_INFO!K97>0,COUNTRY_INFO!K97<4), IF(AC97/Z97*100<>0, IF(AH97/Z97*100>100,100,AH97/Z97*100), \"-\"),0)","v":41.848691308842056},null,{"$f":"IF(AND(D97<>0, D97<>\"Unknown\",D97<>\"Stopped\",D97<>\"Not required\"),D97/COUNTRY_INFO!D97, 0)","v":0},{"$f":"IF(AND(J97<>0,J97<>\"Unknown\",J97<>\"Stopped\",J97<>\"Not required\"),J97/COUNTRY_INFO!D97, 0)","v":1},{"$f":"IF(AND(P97<>0,P97<>\"Unknown\",P97<>\"Not required\"),P97/(COUNTRY_INFO!E97+COUNTRY_INFO!F97), 0)","v":1},{"$f":"IF(AND(Z97<>0,Z97<>\"Unknown\",Z97<>\"Not required\"),IF(COUNTRY_INFO!K97=1,1,IF(COUNTRY_INFO!K97=2,0.5*COUNTRY_INFO!F97/(0.5*COUNTRY_INFO!F97+0.2*COUNTRY_INFO!G97),IF(COUNTRY_INFO!K97=3,COUNTRY_INFO!F97/(COUNTRY_INFO!F97+COUNTRY_INFO!G97)))),0)","v":0.41848691308842056},{"$f":"IF(AND(Z97<>0,Z97<>\"Unknown\",Z97<>\"Not required\"),IF(COUNTRY_INFO!K97=1,0,IF(COUNTRY_INFO!K97=2,0.2*COUNTRY_INFO!G97/(0.5*COUNTRY_INFO!F97+0.2*COUNTRY_INFO!G97),IF(COUNTRY_INFO!K97=3,COUNTRY_INFO!G97/(COUNTRY_INFO!F97+COUNTRY_INFO!G97)))),0)","v":0.58151308691157944},{"$f":"MAX(COUNTRY_INFO!D97*AK97*PROFILE!$G$7,COUNTRY_INFO!D97*AL97*PROFILE!$G$7)","v":0},{"$f":"MAX(COUNTRY_INFO!D97*AK97*PROFILE!$G$8,COUNTRY_INFO!D97*AL97*PROFILE!$G$8,COUNTRY_INFO!D97*AM97*PROFILE!$G$8)","v":32544.407585760786},{"$f":"MAX(COUNTRY_INFO!D97*AK97*PROFILE!$G$9,COUNTRY_INFO!D97*AL97*PROFILE!$G$9,COUNTRY_INFO!D97*AM97*PROFILE!$G$9,IF(AND(DISTRICT!Z97<>\"Unknown\",Z97<>\"Not required\"),COUNTRY_INFO!O97*DISTRICT!AN97,0))","v":63832.463309248968},{"$f":"MAX(COUNTRY_INFO!D97*AK97*PROFILE!$G$10,COUNTRY_INFO!D97*AL97*PROFILE!$G$10,IF(AND(DISTRICT!Z97<>\"Unknown\",Z97<>\"Not required\"),COUNTRY_INFO!O97*DISTRICT!AO97,0))","v":196735.14040988544},293112.01130489516,"Y",{"$f":"MAX('MDA2'!J97,'T1'!L97,'T2'!J97,T3_R1!K97,T3_R2!K97)","v":0},{"$f":"MAX('MDA1'!K97,'MDA2'!K97,'MDA3'!I97,'MDA3'!L97,'T1'!M97,'T2'!K97,T3_R1!L97,T3_R2!L97)","v":51845},{"$f":"MAX('MDA1'!L97,'MDA2'!L97,'MDA3'!J97,'MDA3'!M97,'T1'!N97,'T2'!L97,T3_R1!M97,T3_R2!M97)","v":189513.10399999999},241358.10399999999,{"$f":"MAX('MDA2'!J97,T97)","v":0},{"$f":"MAX('MDA1'!K97,'MDA2'!K97,'MDA3'!I97,'MDA3'!L97,V97,AD97)","v":51845},{"$f":"MAX('MDA1'!L97,'MDA2'!L97,'MDA3'!J97,'MDA3'!M97,AF97)","v":189513.10399999999},241358.10399999999,82.3433004077541]
[{"$f":"IF(COUNTRY_INFO!A98=0,\" \",COUNTRY_INFO!A98)","v":"Tanzania"},{"$f":"IF(COUNTRY_INFO!B98=0,\" \",COUNTRY_INFO!B98)","v":"Morogoro"},{"$f":"IF(COUNTRY_INFO!C98=0,\" \",COUNTRY_INFO!C98)","v":"Gairo District Council"},{"$f":"COUNTRY_INFO!L98","v":"Stopped"},null,null,{"$f":"MAX('MDA1'!M98,'MDA2'!M98)","v":0},null,{"$f":"IF(AND(COUNTRY_INFO!H98>0,COUNTRY_INFO!H98<4), IF(G98/D98*100<>0, IF(G98/D98*100>100,100,G98/D98*100), \"-\"),0)","v":0},{"$f":"COUNTRY_INFO!M98","v":223834},null,null,{"$f":"MAX('MDA1'!M98,MAX('MDA3'!I98,'MDA3'!L98)+MAX('MDA3'!J98,'MDA3'!M98))","v":193493},{"$f":"IF(AND(COUNTRY_INFO!I98>0,COUNTRY_INFO!I98<4),IF(J98>MAX('MDA1'!M98,MAX('MDA3'!I98,'MDA3'!L98)+MAX('MDA3'!J98,'MDA3'!M98)),MAX('MDA1'!M98,MAX('MDA3'!I98,'MDA3'!L98)+MAX('MDA3'!J98,'MDA3'!M98)),J98),0)","v":193493},{"$f":"IF(AND(COUNTRY_INFO!I98>0,COUNTRY_INFO!I98<4), IF(M98/J98*100<>0, IF(M98/J98*100>100,100,M98/J98*100), \"-\"),0)","v":86.444865391316782},{"$f":"COUNTRY_INFO!N98","v":76515},null,null,{"$f":"SUM(MAX('MDA2'!J98, 'T1'!L98, MAX(T3_R1!K98, T3_R2!K98)), MAX('MDA1'!K98, 'MDA2'!K98, 'T1'!M98, MAX(T3_R1!L98, T3_R2!L98)), MAX('MDA1'!L98, 'MDA2'!L98, 'T1'!N98, MAX(T3_R1!M98, T3_R2!M98)))","v":38084},{"$f":"IF(AND(COUNTRY_INFO!J98>1,COUNTRY_INFO!J98<4),IF(COUNTRY_INFO!E98>MAX('MDA2'!J98,'T1'!L98,MAX(T3_R1!K98,T3_R2!K98)),MAX('MDA2'!J98,'T1'!L98,MAX(T3_R1!K98,T3_R2!K98)),COUNTRY_INFO!E98),0)","v":0},{"$f":"IF(AND(COUNTRY_INFO!J98>1,COUNTRY_INFO!J98<4), IF(T98/COUNTRY_INFO!E98*100<>0, IF(T98/COUNTRY_INFO!E98*100>100,100,T98/COUNTRY_INFO!E98*100), \"-\"),0)","v":"-"},{"$f":"IF(AND(COUNTRY_INFO!J98>1,COUNTRY_INFO!J98<4),IF(COUNTRY_INFO!F98>MAX('MDA1'!K98,'MDA2'!K98,'T1'!M98,MAX(T3_R1!L98,T3_R2!L98)),MAX('MDA1'!K98,'MDA2'!K98,'T1'!M98,MAX(T3_R1!L98,T3_R2!L98)),COUNTRY_INFO!F98),0)","v":38084},{"$f":"IF(AND(COUNTRY_INFO!J98>1,COUNTRY_INFO!J98<4), IF(V98/COUNTRY_INFO!F98*100<>0, IF(V98/COUNTRY_INFO!F98*100>100,100,V98/COUNTRY_INFO!F98*100), \"-\"),0)","v":79.94122586062133},38084,{"$f":"IF(AND(COUNTRY_INFO!J98>1,COUNTRY_INFO!J98<4), IF(S98/P98*100<>0, IF(X98/P98*100>100,100,X98/P98*100), \"-\"),0)","v":49.773247075736784},{"$f":"COUNTRY_INFO!O98","v":53283.8},null,null,{"$f":"MAX('T1'!L98,'T2'!J98)+MAX('T1'!M98,'T2'!K98)+MAX('T1'!N98,'T2'!L98)","v":38084},{"$f":"IF(COUNTRY_INFO!K98=1,IF(COUNTRY_INFO!F98*0.33>MAX('T1'!M98,'T2'!K98),MAX('T1'!M98,'T2'!K98),COUNTRY_INFO!F98*0.33),IF(COUNTRY_INFO!K98=2,IF(COUNTRY_INFO!F98*0.5>MAX('T1'!M98,'T2'!K98),MAX('T1'!M98,'T2'!K98),COUNTRY_INFO!F98*0.5),IF(COUNTRY_INFO!K98=3,IF(COUNTRY_INFO!F98>MAX('T1'!M98,'T2'!K98),MAX('T1'!M98,'T2'!K98),COUNTRY_INFO!F98),0)))","v":23820},{"$f":"IF(AND(COUNTRY_INFO!K98>0,COUNTRY_INFO!K98<4),IF(Z98>0,IF(COUNTRY_INFO!K98=1, AD98/(COUNTRY_INFO!F98*0.33)*100, IF(COUNTRY_INFO!K98=2, AD98/(COUNTRY_INFO!F98*0.5)*100, IF(COUNTRY_INFO!K98=3, AD98/COUNTRY_INFO!F98*100))),\"-\"),0)","v":100},{"$f":"IF(COUNTRY_INFO!K98=2,IF(COUNTRY_INFO!G98*0.2>MAX('T1'!N98,'T2'!L98),MAX('T1'!N98,'T2'!L98),COUNTRY_INFO!G98*0.2),IF(COUNTRY_INFO!K98=3,IF(COUNTRY_INFO!G98>MAX('T1'!N98,'T2'!L98),MAX('T1'!N98,'T2'!L98),COUNTRY_INFO!G98),0))","v":0},{"$f":"IF(AND(COUNTRY_INFO!K98>0,COUNTRY_INFO!K98<4),IF(Z98>0,IF(COUNTRY_INFO!K98=1, 0, IF(COUNTRY_INFO!K98=2, AF98/(COUNTRY_INFO!G98*0.2)*100, IF(COUNTRY_INFO!K98=3, AF98/COUNTRY_INFO!G98*100))),\"-\"),0)","v":0},23820,{"$f":"IF(AND(COUNTRY_INFO!K98>0,COUNTRY_INFO!K98<4), IF(AC98/Z98*100<>0, IF(AH98/Z98*100>100,100,AH98/Z98*100), \"-\"),0)","v":44.704018857513915},null,{"$f":"IF(AND(D98<>0, D98<>\"Unknown\",D98<>\"Stopped\",D98<>\"Not required\"),D98/COUNTRY_INFO!D98, 0)","v":0},{"$f":"IF(AND(J98<>0,J98<>\"Unknown\",J98<>\"Stopped\",J98<>\"Not required\"),J98/COUNTRY_INFO!D98, 0)","v":1},{"$f":"IF(AND(P98<>0,P98<>\"Unknown\",P98<>\"Not required\"),P98/(COUNTRY_INFO!E98+COUNTRY_INFO!F98), 0)","v":1},{"$f":"IF(AND(Z98<>0,Z98<>\"Unknown\",Z98<>\"Not required\"),IF(COUNTRY_INFO!K98=1,1,IF(COUNTRY_INFO!K98=2,0.5*COUNTRY_INFO!F98/(0.5*COUNTRY_INFO!F98+0.2*COUNTRY_INFO!G98),IF(COUNTRY_INFO!K98=3,COUNTRY_INFO!F98/(COUNTRY_INFO!F98+COUNTRY_INFO!G98)))),0)","v":0.44704018857513916},{"$f":"IF(AND(Z98<>0,Z98<>\"Unknown\",Z98<>\"Not required\"),IF(COUNTRY_INFO!K98=1,0,IF(COUNTRY_INFO!K98=2,0.2*COUNTRY_INFO!G98/(0.5*COUNTRY_INFO!F98+0.2*COUNTRY_INFO!G98),IF(COUNTRY_INFO!K98=3,COUNTRY_INFO!G98/(COUNTRY_INFO!F98+COUNTRY_INFO!G98)))),0)","v":0.55295981142486084},{"$f":"MAX(COUNTRY_INFO!D98*AK98*PROFILE!$G$7,COUNTRY_INFO!D98*AL98*PROFILE!$G$7)","v":0},{"$f":"MAX(COUNTRY_INFO!D98*AK98*PROFILE!$G$8,COUNTRY_INFO!D98*AL98*PROFILE!$G$8,COUNTRY_INFO!D98*AM98*PROFILE!$G$8)","v":24852.428176093708},{"$f":"MAX(COUNTRY_INFO!D98*AK98*PROFILE!$G$9,COUNTRY_INFO!D98*AL98*PROFILE!$G$9,COUNTRY_INFO!D98*AM98*PROFILE!$G$9,IF(AND(DISTRICT!Z98<>\"Unknown\",Z98<>\"Not required\"),COUNTRY_INFO!O98*DISTRICT!AN98,0))","v":48745.447447946288},{"$f":"MAX(COUNTRY_INFO!D98*AK98*PROFILE!$G$10,COUNTRY_INFO!D98*AL98*PROFILE!$G$10,IF(AND(DISTRICT!Z98<>\"Unknown\",Z98<>\"Not required\"),COUNTRY_INFO!O98*DISTRICT!AO98,0))","v":150236.13300890545},223834.00863294545,"Y",{"$f":"MAX('MDA2'!J98,'T1'!L98,'T2'!J98,T3_R1!K98,T3_R2!K98)","v":0},{"$f":"MAX('MDA1'!K98,'MDA2'!K98,'MDA3'!I98,'MDA3'!L98,'T1'!M98,'T2'!K98,T3_R1!L98,T3_R2!L98)","v":38084},{"$f":"MAX('MDA1'!L98,'MDA2'!L98,'MDA3'!J98,'MDA3'!M98,'T1'!N98,'T2'!L98,T3_R1!M98,T3_R2!M98)","v":156535.837},194619.837,{"$f":"MAX('MDA2'!J98,T98)","v":0},{"$f":"MAX('MDA1'!K98,'MDA2'!K98,'MDA3'!I98,'MDA3'!L98,V98,AD98)","v":38084},{"$f":"MAX('MDA1'!L98,'MDA2'!L98,'MDA3'!J98,'MDA3'!M98,AF98)","v":156535.837},194619.837,86.948287344104017]
[{"$f":"IF(COUNTRY_INFO!A99=0,\" \",COUNTRY_INFO!A99)","v":"Tanzania"},{"$f":"IF(COUNTRY_INFO!B99=0,\" \",COUNTRY_INFO!B99)","v":"Morogoro"},{"$f":"IF(COUNTRY_INFO!C99=0,\" \",COUNTRY_INFO!C99)","v":"Ifakara Town Council"},{"$f":"COUNTRY_INFO!L99","v":"Stopped"},null,null,{"$f":"MAX('MDA1'!M99,'MDA2'!M99)","v":114968},{"$f":"IF(AND(COUNTRY_INFO!H99>0,COUNTRY_INFO!H99<4),IF(D99>MAX('MDA1'!M99,'MDA2'!M99),MAX('MDA1'!M99,'MDA2'!M99),D99),0)","v":0},{"$f":"IF(AND(COUNTRY_INFO!H99>0,COUNTRY_INFO!H99<4), IF(G99/D99*100<>0, IF(G99/D99*100>100,100,G99/D99*100), \"-\"),0)","v":0},{"$f":"COUNTRY_INFO!M99","v":146982},null,null,{"$f":"MAX('MDA1'!M99,MAX('MDA3'!I99,'MDA3'!L99)+MAX('MDA3'!J99,'MDA3'!M99))","v":114968},{"$f":"IF(AND(COUNTRY_INFO!I99>0,COUNTRY_INFO!I99<4),IF(J99>MAX('MDA1'!M99,MAX('MDA3'!I99,'MDA3'!L99)+MAX('MDA3'!J99,'MDA3'!M99)),MAX('MDA1'!M99,MAX('MDA3'!I99,'MDA3'!L99)+MAX('MDA3'!J99,'MDA3'!M99)),J99),0)","v":114968},{"$f":"IF(AND(COUNTRY_INFO!I99>0,COUNTRY_INFO!I99<4), IF(M99/J99*100<>0, IF(M99/J99*100>100,100,M99/J99*100), \"-\"),0)","v":78.219101658706506},{"$f":"COUNTRY_INFO!N99","v":41677},null,null,{"$f":"SUM(MAX('MDA2'!J99, 'T1'!L99, MAX(T3_R1!K99, T3_R2!K99)), MAX('MDA1'!K99, 'MDA2'!K99, 'T1'!M99, MAX(T3_R1!L99, T3_R2!L99)), MAX('MDA1'!L99, 'MDA2'!L99, 'T1'!N99, MAX(T3_R1!M99, T3_R2!M99)))","v":114968},{"$f":"IF(AND(COUNTRY_INFO!J99>1,COUNTRY_INFO!J99<4),IF(COUNTRY_INFO!E99>MAX('MDA2'!J99,'T1'!L99,MAX(T3_R1!K99,T3_R2!K99)),MAX('MDA2'!J99,'T1'!L99,MAX(T3_R1!K99,T3_R2!K99)),COUNTRY_INFO!E99),0)","v":0},{"$f":"IF(AND(COUNTRY_INFO!J99>1,COUNTRY_INFO!J99<4), IF(T99/COUNTRY_INFO!E99*100<>0, IF(T99/COUNTRY_INFO!E99*100>100,100,T99/COUNTRY_INFO!E99*100), \"-\"),0)","v":"-"},{"$f":"IF(AND(COUNTRY_INFO!J99>1,COUNTRY_INFO!J99<4),IF(COUNTRY_INFO!F99>MAX('MDA1'!K99,'MDA2'!K99,'T1'!M99,MAX(T3_R1!L99,T3_R2!L99)),MAX('MDA1'!K99,'MDA2'!K99,'T1'!M99,MAX(T3_R1!L99,T3_R2!L99)),COUNTRY_INFO!F99),0)","v":21958.887999999999},{"$f":"IF(AND(COUNTRY_INFO!J99>1,COUNTRY_INFO!J99<4), IF(V99/COUNTRY_INFO!F99*100<>0, IF(V99/COUNTRY_INFO!F99*100>100,100,V99/COUNTRY_INFO!F99*100), \"-\"),0)","v":79.156800403734536},21958.887999999999,{"$f":"IF(AND(COUNTRY_INFO!J99>1,COUNTRY_INFO!J99<4), IF(S99/P99*100<>0, IF(X99/P99*100>100,100,X99/P99*100), \"-\"),0)","v":52.688264510401417},{"$f":"COUNTRY_INFO!O99","v":34931.5},null,null,{"$f":"MAX('T1'!L99,'T2'!J99)+MAX('T1'!M99,'T2'!K99)+MAX('T1'!N99,'T2'!L99)","v":25193},{"$f":"IF(COUNTRY_INFO!K99=1,IF(COUNTRY_INFO!F99*0.33>MAX('T1'!M99,'T2'!K99),MAX('T1'!M99,'T2'!K99),COUNTRY_INFO!F99*0.33),IF(COUNTRY_INFO!K99=2,IF(COUNTRY_INFO!F99*0.5>MAX('T1'!M99,'T2'!K99),MAX('T1'!M99,'T2'!K99),COUNTRY_INFO!F99*0.5),IF(COUNTRY_INFO!K99=3,IF(COUNTRY_INFO!F99>MAX('T1'!M99,'T2'!K99),MAX('T1'!M99,'T2'!K99),COUNTRY_INFO!F99),0)))","v":13870.5},{"$f":"IF(AND(COUNTRY_INFO!K99>0,COUNTRY_INFO!K99<4),IF(Z99>0,IF(COUNTRY_INFO!K99=1, AD99/(COUNTRY_INFO!F99*0.33)*100, IF(COUNTRY_INFO!K99=2, AD99/(COUNTRY_INFO!F99*0.5)*100, IF(COUNTRY_INFO!K99=3, AD99/COUNTRY_INFO!F99*100))),\"-\"),0)","v":100},{"$f":"IF(COUNTRY_INFO!K99=2,IF(COUNTRY_INFO!G99*0.2>MAX('T1'!N99,'T2'!L99),MAX('T1'!N99,'T2'!L99),COUNTRY_INFO!G99*0.2),IF(COUNTRY_INFO!K99=3,IF(COUNTRY_INFO!G99>MAX('T1'!N99,'T2'!L99),MAX('T1'!N99,'T2'!L99),COUNTRY_INFO!G99),0))","v":0},{"$f":"IF(AND(COUNTRY_INFO!K99>0,COUNTRY_INFO!K99<4),IF(Z99>0,IF(COUNTRY_INFO!K99=1, 0, IF(COUNTRY_INFO!K99=2, AF99/(COUNTRY_INFO!G99*0.2)*100, IF(COUNTRY_INFO!K99=3, AF99/COUNTRY_INFO!G99*100))),\"-\"),0)","v":0},13870.5,{"$f":"IF(AND(COUNTRY_INFO!K99>0,COUNTRY_INFO!K99<4), IF(AC99/Z99*100<>0, IF(AH99/Z99*100>100,100,AH99/Z99*100), \"-\"),0)","v":39.707713668179153},null,{"$f":"IF(AND(D99<>0, D99<>\"Unknown\",D99<>\"Stopped\",D99<>\"Not required\"),D99/COUNTRY_INFO!D99, 0)","v":0},{"$f":"IF(AND(J99<>0,J99<>\"Unknown\",J99<>\"Stopped\",J99<>\"Not required\"),J99/COUNTRY_INFO!D99, 0)","v":1},{"$f":"IF(AND(P99<>0,P99<>\"Unknown\",P99<>\"Not required\"),P99/(COUNTRY_INFO!E99+COUNTRY_INFO!F99), 0)","v":1},{"$f":"IF(AND(Z99<>0,Z99<>\"Unknown\",Z99<>\"Not required\"),IF(COUNTRY_INFO!K99=1,1,IF(COUNTRY_INFO!K99=2,0.5*COUNTRY_INFO!F99/(0.5*COUNTRY_INFO!F99+0.2*COUNTRY_INFO!G99),IF(COUNTRY_INFO!K99=3,COUNTRY_INFO!F99/(COUNTRY_INFO!F99+COUNTRY_INFO!G99)))),0)","v":0.39707713668179151},{"$f":"IF(AND(Z99<>0,Z99<>\"Unknown\",Z99<>\"Not required\"),IF(COUNTRY_INFO!K99=1,0,IF(COUNTRY_INFO!K99=2,0.2*COUNTRY_INFO!G99/(0.5*COUNTRY_INFO!F99+0.2*COUNTRY_INFO!G99),IF(COUNTRY_INFO!K99=3,COUNTRY_INFO!G99/(COUNTRY_INFO!F99+COUNTRY_INFO!G99)))),0)","v":0.60292286331820855},{"$f":"MAX(COUNTRY_INFO!D99*AK99*PROFILE!$G$7,COUNTRY_INFO!D99*AL99*PROFILE!$G$7)","v":0},{"$f":"MAX(COUNTRY_INFO!D99*AK99*PROFILE!$G$8,COUNTRY_INFO!D99*AL99*PROFILE!$G$8,COUNTRY_INFO!D99*AM99*PROFILE!$G$8)","v":16319.50283772173},{"$f":"MAX(COUNTRY_INFO!D99*AK99*PROFILE!$G$9,COUNTRY_INFO!D99*AL99*PROFILE!$G$9,COUNTRY_INFO!D99*AM99*PROFILE!$G$9,IF(AND(DISTRICT!Z99<>\"Unknown\",Z99<>\"Not required\"),COUNTRY_INFO!O99*DISTRICT!AN99,0))","v":32009.003801004503},{"$f":"MAX(COUNTRY_INFO!D99*AK99*PROFILE!$G$10,COUNTRY_INFO!D99*AL99*PROFILE!$G$10,IF(AND(DISTRICT!Z99<>\"Unknown\",Z99<>\"Not required\"),COUNTRY_INFO!O99*DISTRICT!AO99,0))","v":98653.49903015155},146982.0056688778,"Y",{"$f":"MAX('MDA2'!J99,'T1'!L99,'T2'!J99,T3_R1!K99,T3_R2!K99)","v":0},{"$f":"MAX('MDA1'!K99,'MDA2'!K99,'MDA3'!I99,'MDA3'!L99,'T1'!M99,'T2'!K99,T3_R1!L99,T3_R2!L99)","v":25193},{"$f":"MAX('MDA1'!L99,'MDA2'!L99,'MDA3'!J99,'MDA3'!M99,'T1'!N99,'T2'!L99,T3_R1!M99,T3_R2!M99)","v":93009.111999999994},118202.11199999999,{"$f":"MAX('MDA2'!J99,T99)","v":0},{"$f":"MAX('MDA1'!K99,'MDA2'!K99,'MDA3'!I99,'MDA3'!L99,V99,AD99)","v":21958.887999999999},{"$f":"MAX('MDA1'!L99,'MDA2'!L99,'MDA3'!J99,'MDA3'!M99,AF99)","v":93009.111999999994},114968,78.219098641911856]
[{"$f":"IF(COUNTRY_INFO!A100=0,\" \",COUNTRY_INFO!A100)","v":"Tanzania"},{"$f":"IF(COUNTRY_INFO!B100=0,\" \",COUNTRY_INFO!B100)","v":"Morogoro"},{"$f":"IF(COUNTRY_INFO!C100=0,\" \",COUNTRY_INFO!C100)","v":"Kilombero District Council"},{"$f":"COUNTRY_INFO!L100","v":"Stopped"},null,null,{"$f":"MAX('MDA1'!M100,'MDA2'!M100)","v":378412},{"$f":"IF(AND(COUNTRY_INFO!H100>0,COUNTRY_INFO!H100<4),IF(D100>MAX('MDA1'!M100,'MDA2'!M100),MAX('MDA1'!M100,'MDA2'!M100),D100),0)","v":0},{"$f":"IF(AND(COUNTRY_INFO!H100>0,COUNTRY_INFO!H100<4), IF(G100/D100*100<>0, IF(G100/D100*100>100,100,G100/D100*100), \"-\"),0)","v":0},{"$f":"COUNTRY_INFO!M100","v":461479},null,null,{"$f":"MAX('MDA1'!M100,MAX('MDA3'!I100,'MDA3'!L100)+MAX('MDA3'!J100,'MDA3'!M100))","v":378412},{"$f":"IF(AND(COUNTRY_INFO!I100>0,COUNTRY_INFO!I100<4),IF(J100>MAX('MDA1'!M100,MAX('MDA3'!I100,'MDA3'!L100)+MAX('MDA3'!J100,'MDA3'!M100)),MAX('MDA1'!M100,MAX('MDA3'!I100,'MDA3'!L100)+MAX('MDA3'!J100,'MDA3'!M100)),J100),0)","v":378412},{"$f":"IF(AND(COUNTRY_INFO!I100>0,COUNTRY_INFO!I100<4), IF(M100/J100*100<>0, IF(M100/J100*100>100,100,M100/J100*100), \"-\"),0)","v":81.999830978224367},{"$f":"COUNTRY_INFO!N100","v":221328},null,null,{"$f":"SUM(MAX('MDA2'!J100, 'T1'!L100, MAX(T3_R1!K100, T3_R2!K100)), MAX('MDA1'!K100, 'MDA2'!K100, 'T1'!M100, MAX(T3_R1!L100, T3_R2!L100)), MAX('MDA1'!L100, 'MDA2'!L100, 'T1'!N100, MAX(T3_R1!M100, T3_R2!M100)))","v":378412},{"$f":"IF(AND(COUNTRY_INFO!J100>1,COUNTRY_INFO!J100<4),IF(COUNTRY_INFO!E100>MAX('MDA2'!J100,'T1'!L100,MAX(T3_R1!K100,T3_R2!K100)),MAX('MDA2'!J100,'T1'!L100,MAX(T3_R1!K100,T3_R2!K100)),COUNTRY_INFO!E100),0)","v":0},{"$f":"IF(AND(COUNTRY_INFO!J100>1,COUNTRY_INFO!J100<4), IF(T100/COUNTRY_INFO!E100*100<>0, IF(T100/COUNTRY_INFO!E100*100>100,100,T100/COUNTRY_INFO!E100*100), \"-\"),0)","v":"-"},{"$f":"IF(AND(COUNTRY_INFO!J100>1,COUNTRY_INFO!J100<4),IF(COUNTRY_INFO!F100>MAX('MDA1'!K100,'MDA2'!K100,'T1'!M100,MAX(T3_R1!L100,T3_R2!L100)),MAX('MDA1'!K100,'MDA2'!K100,'T1'!M100,MAX(T3_R1!L100,T3_R2!L100)),COUNTRY_INFO!F100),0)","v":72276.691999999995},{"$f":"IF(AND(COUNTRY_INFO!J100>1,COUNTRY_INFO!J100<4), IF(V100/COUNTRY_INFO!F100*100<>0, IF(V100/COUNTRY_INFO!F100*100>100,100,V100/COUNTRY_INFO!F100*100), \"-\"),0)","v":89.294423167206133},72276.691999999995,{"$f":"IF(AND(COUNTRY_INFO!J100>1,COUNTRY_INFO!J100<4), IF(S100/P100*100<>0, IF(X100/P100*100>100,100,X100/P100*100), \"-\"),0)","v":32.655918817320895},{"$f":"COUNTRY_INFO!O100","v":88501.200000000012},null,null,{"$f":"MAX('T1'!L100,'T2'!J100)+MAX('T1'!M100,'T2'!K100)+MAX('T1'!N100,'T2'!L100)","v":65585},{"$f":"IF(COUNTRY_INFO!K100=1,IF(COUNTRY_INFO!F100*0.33>MAX('T1'!M100,'T2'!K100),MAX('T1'!M100,'T2'!K100),COUNTRY_INFO!F100*0.33),IF(COUNTRY_INFO!K100=2,IF(COUNTRY_INFO!F100*0.5>MAX('T1'!M100,'T2'!K100),MAX('T1'!M100,'T2'!K100),COUNTRY_INFO!F100*0.5),IF(COUNTRY_INFO!K100=3,IF(COUNTRY_INFO!F100>MAX('T1'!M100,'T2'!K100),MAX('T1'!M100,'T2'!K100),COUNTRY_INFO!F100),0)))","v":40471},{"$f":"IF(AND(COUNTRY_INFO!K100>0,COUNTRY_INFO!K100<4),IF(Z100>0,IF(COUNTRY_INFO!K100=1, AD100/(COUNTRY_INFO!F100*0.33)*100, IF(COUNTRY_INFO!K100=2, AD100/(COUNTRY_INFO!F100*0.5)*100, IF(COUNTRY_INFO!K100=3, AD100/COUNTRY_INFO!F100*100))),\"-\"),0)","v":100},{"$f":"IF(COUNTRY_INFO!K100=2,IF(COUNTRY_INFO!G100*0.2>MAX('T1'!N100,'T2'!L100),MAX('T1'!N100,'T2'!L100),COUNTRY_INFO!G100*0.2),IF(COUNTRY_INFO!K100=3,IF(COUNTRY_INFO!G100>MAX('T1'!N100,'T2'!L100),MAX('T1'!N100,'T2'!L100),COUNTRY_INFO!G100),0))","v":0},{"$f":"IF(AND(COUNTRY_INFO!K100>0,COUNTRY_INFO!K100<4),IF(Z100>0,IF(COUNTRY_INFO!K100=1, 0, IF(COUNTRY_INFO!K100=2, AF100/(COUNTRY_INFO!G100*0.2)*100, IF(COUNTRY_INFO!K100=3, AF100/COUNTRY_INFO!G100*100))),\"-\"),0)","v":0},40471,{"$f":"IF(AND(COUNTRY_INFO!K100>0,COUNTRY_INFO!K100<4), IF(AC100/Z100*100<>0, IF(AH100/Z100*100>100,100,AH100/Z100*100), \"-\"),0)","v":45.729323444201881},null,{"$f":"IF(AND(D100<>0, D100<>\"Unknown\",D100<>\"Stopped\",D100<>\"Not required\"),D100/COUNTRY_INFO!D100, 0)","v":0},{"$f":"IF(AND(J100<>0,J100<>\"Unknown\",J100<>\"Stopped\",J100<>\"Not required\"),J100/COUNTRY_INFO!D100, 0)","v":1},{"$f":"IF(AND(P100<>0,P100<>\"Unknown\",P100<>\"Not required\"),P100/(COUNTRY_INFO!E100+COUNTRY_INFO!F100), 0)","v":1},{"$f":"IF(AND(Z100<>0,Z100<>\"Unknown\",Z100<>\"Not required\"),IF(COUNTRY_INFO!K100=1,1,IF(COUNTRY_INFO!K100=2,0.5*COUNTRY_INFO!F100/(0.5*COUNTRY_INFO!F100+0.2*COUNTRY_INFO!G100),IF(COUNTRY_INFO!K100=3,COUNTRY_INFO!F100/(COUNTRY_INFO!F100+COUNTRY_INFO!G100)))),0)","v":0.4572932344420188},{"$f":"IF(AND(Z100<>0,Z100<>\"Unknown\",Z100<>\"Not required\"),IF(COUNTRY_INFO!K100=1,0,IF(COUNTRY_INFO!K100=2,0.2*COUNTRY_INFO!G100/(0.5*COUNTRY_INFO!F100+0.2*COUNTRY_INFO!G100),IF(COUNTRY_INFO!K100=3,COUNTRY_INFO!G100/(COUNTRY_INFO!F100+COUNTRY_INFO!G100)))),0)","v":0.54270676555798114},{"$f":"MAX(COUNTRY_INFO!D100*AK100*PROFILE!$G$7,COUNTRY_INFO!D100*AL100*PROFILE!$G$7)","v":0},{"$f":"MAX(COUNTRY_INFO!D100*AK100*PROFILE!$G$8,COUNTRY_INFO!D100*AL100*PROFILE!$G$8,COUNTRY_INFO!D100*AM100*PROFILE!$G$8)","v":51238.300268393315},{"$f":"MAX(COUNTRY_INFO!D100*AK100*PROFILE!$G$9,COUNTRY_INFO!D100*AL100*PROFILE!$G$9,COUNTRY_INFO!D100*AM100*PROFILE!$G$9,IF(AND(DISTRICT!Z100<>\"Unknown\",Z100<>\"Not required\"),COUNTRY_INFO!O100*DISTRICT!AN100,0))","v":100498.58530353211},{"$f":"MAX(COUNTRY_INFO!D100*AK100*PROFILE!$G$10,COUNTRY_INFO!D100*AL100*PROFILE!$G$10,IF(AND(DISTRICT!Z100<>\"Unknown\",Z100<>\"Not required\"),COUNTRY_INFO!O100*DISTRICT!AO100,0))","v":309742.13222663529},461479.01779856073,"Y",{"$f":"MAX('MDA2'!J100,'T1'!L100,'T2'!J100,T3_R1!K100,T3_R2!K100)","v":0},{"$f":"MAX('MDA1'!K100,'MDA2'!K100,'MDA3'!I100,'MDA3'!L100,'T1'!M100,'T2'!K100,T3_R1!L100,T3_R2!L100)","v":72276.691999999995},{"$f":"MAX('MDA1'!L100,'MDA2'!L100,'MDA3'!J100,'MDA3'!M100,'T1'!N100,'T2'!L100,T3_R1!M100,T3_R2!M100)","v":306135.30800000002},378412,{"$f":"MAX('MDA2'!J100,T100)","v":0},{"$f":"MAX('MDA1'!K100,'MDA2'!K100,'MDA3'!I100,'MDA3'!L100,V100,AD100)","v":72276.691999999995},{"$f":"MAX('MDA1'!L100,'MDA2'!L100,'MDA3'!J100,'MDA3'!M100,AF100)","v":306135.30800000002},378412,81.999827815612591]
[{"$f":"IF(COUNTRY_INFO!A101=0,\" \",COUNTRY_INFO!A101)","v":"Tanzania"},{"$f":"IF(COUNTRY_INFO!B101=0,\" \",COUNTRY_INFO!B101)","v":"Morogoro"},{"$f":"IF(COUNTRY_INFO!C101=0,\" \",COUNTRY_INFO!C101)","v":"Kilosa District Council"},{"$f":"COUNTRY_INFO!L101","v":514045},null,null,{"$f":"MAX('MDA1'!M101,'MDA2'!M101)","v":424582},{"$f":"IF(AND(COUNTRY_INFO!H101>0,COUNTRY_INFO!H101<4),IF(D101>MAX('MDA1'!M101,'MDA2'!M101),MAX('MDA1'!M101,'MDA2'!M101),D101),0)","v":424582},{"$f":"IF(AND(COUNTRY_INFO!H101>0,COUNTRY_INFO!H101<4), IF(G101/D101*100<>0, IF(G101/D101*100>100,100,G101/D101*100), \"-\"),0)","v":82.596270754505923},{"$f":"COUNTRY_INFO!M101","v":514045},null,null,{"$f":"MAX('MDA1'!M101,MAX('MDA3'!I101,'MDA3'!L101)+MAX('MDA3'!J101,'MDA3'!M101))","v":424582},{"$f":"IF(AND(COUNTRY_INFO!I101>0,COUNTRY_INFO!I101<4),IF(J101>MAX('MDA1'!M101,MAX('MDA3'!I101,'MDA3'!L101)+MAX('MDA3'!J101,'MDA3'!M101)),MAX('MDA1'!M101,MAX('MDA3'!I101,'MDA3'!L101)+MAX('MDA3'!J101,'MDA3'!M101)),J101),0)","v":424582},{"$f":"IF(AND(COUNTRY_INFO!I101>0,COUNTRY_INFO!I101<4), IF(M101/J101*100<>0, IF(M101/J101*100>100,100,M101/J101*100), \"-\"),0)","v":82.596270754505923},{"$f":"COUNTRY_INFO!N101","v":159195},null,null,{"$f":"SUM(MAX('MDA2'!J101, 'T1'!L101, MAX(T3_R1!K101, T3_R2!K101)), MAX('MDA1'!K101, 'MDA2'!K101, 'T1'!M101, MAX(T3_R1!L101, T3_R2!L101)), MAX('MDA1'!L101, 'MDA2'!L101, 'T1'!N101, MAX(T3_R1!M101, T3_R2!M101)))","v":424582},{"$f":"IF(AND(COUNTRY_INFO!J101>1,COUNTRY_INFO!J101<4),IF(COUNTRY_INFO!E101>MAX('MDA2'!J101,'T1'!L101,MAX(T3_R1!K101,T3_R2!K101)),MAX('MDA2'!J101,'T1'!L101,MAX(T3_R1!K101,T3_R2!K101)),COUNTRY_INFO!E101),0)","v":0},{"$f":"IF(AND(COUNTRY_INFO!J101>1,COUNTRY_INFO!J101<4), IF(T101/COUNTRY_INFO!E101*100<>0, IF(T101/COUNTRY_INFO!E101*100>100,100,T101/COUNTRY_INFO!E101*100), \"-\"),0)","v":"-"},{"$f":"IF(AND(COUNTRY_INFO!J101>1,COUNTRY_INFO!J101<4),IF(COUNTRY_INFO!F101>MAX('MDA1'!K101,'MDA2'!K101,'T1'!M101,MAX(T3_R1!L101,T3_R2!L101)),MAX('MDA1'!K101,'MDA2'!K101,'T1'!M101,MAX(T3_R1!L101,T3_R2!L101)),COUNTRY_INFO!F101),0)","v":81095.161999999997},{"$f":"IF(AND(COUNTRY_INFO!J101>1,COUNTRY_INFO!J101<4), IF(V101/COUNTRY_INFO!F101*100<>0, IF(V101/COUNTRY_INFO!F101*100>100,100,V101/COUNTRY_INFO!F101*100), \"-\"),0)","v":87.30893920308344},81095.161999999997,{"$f":"IF(AND(COUNTRY_INFO!J101>1,COUNTRY_INFO!J101<4), IF(S101/P101*100<>0, IF(X101/P101*100>100,100,X101/P101*100), \"-\"),0)","v":50.940772009171141},{"$f":"COUNTRY_INFO!O101","v":117411.5},null,null,{"$f":"MAX('T1'!L101,'T2'!J101)+MAX('T1'!M101,'T2'!K101)+MAX('T1'!N101,'T2'!L101)","v":73219},{"$f":"IF(COUNTRY_INFO!K101=1,IF(COUNTRY_INFO!F101*0.33>MAX('T1'!M101,'T2'!K101),MAX('T1'!M101,'T2'!K101),COUNTRY_INFO!F101*0.33),IF(COUNTRY_INFO!K101=2,IF(COUNTRY_INFO!F101*0.5>MAX('T1'!M101,'T2'!K101),MAX('T1'!M101,'T2'!K101),COUNTRY_INFO!F101*0.5),IF(COUNTRY_INFO!K101=3,IF(COUNTRY_INFO!F101>MAX('T1'!M101,'T2'!K101),MAX('T1'!M101,'T2'!K101),COUNTRY_INFO!F101),0)))","v":46441.5},{"$f":"IF(AND(COUNTRY_INFO!K101>0,COUNTRY_INFO!K101<4),IF(Z101>0,IF(COUNTRY_INFO!K101=1, AD101/(COUNTRY_INFO!F101*0.33)*100, IF(COUNTRY_INFO!K101=2, AD101/(COUNTRY_INFO!F101*0.5)*100, IF(COUNTRY_INFO!K101=3, AD101/COUNTRY_INFO!F101*100))),\"-\"),0)","v":100},{"$f":"IF(COUNTRY_INFO!K101=2,IF(COUNTRY_INFO!G101*0.2>MAX('T1'!N101,'T2'!L101),MAX('T1'!N101,'T2'!L101),COUNTRY_INFO!G101*0.2),IF(COUNTRY_INFO!K101=3,IF(COUNTRY_INFO!G101>MAX('T1'!N101,'T2'!L101),MAX('T1'!N101,'T2'!L101),COUNTRY_INFO!G101),0))","v":0},{"$f":"IF(AND(COUNTRY_INFO!K101>0,COUNTRY_INFO!K101<4),IF(Z101>0,IF(COUNTRY_INFO!K101=1, 0, IF(COUNTRY_INFO!K101=2, AF101/(COUNTRY_INFO!G101*0.2)*100, IF(COUNTRY_INFO!K101=3, AF101/COUNTRY_INFO!G101*100))),\"-\"),0)","v":0},46441.5,{"$f":"IF(AND(COUNTRY_INFO!K101>0,COUNTRY_INFO!K101<4), IF(AC101/Z101*100<>0, IF(AH101/Z101*100>100,100,AH101/Z101*100), \"-\"),0)","v":39.554472943451024},null,{"$f":"IF(AND(D101<>0, D101<>\"Unknown\",D101<>\"Stopped\",D101<>\"Not required\"),D101/COUNTRY_INFO!D101, 0)","v":1},{"$f":"IF(AND(J101<>0,J101<>\"Unknown\",J101<>\"Stopped\",J101<>\"Not required\"),J101/COUNTRY_INFO!D101, 0)","v":1},{"$f":"IF(AND(P101<>0,P101<>\"Unknown\",P101<>\"Not required\"),P101/(COUNTRY_INFO!E101+COUNTRY_INFO!F101), 0)","v":1},{"$f":"IF(AND(Z101<>0,Z101<>\"Unknown\",Z101<>\"Not required\"),IF(COUNTRY_INFO!K101=1,1,IF(COUNTRY_INFO!K101=2,0.5*COUNTRY_INFO!F101/(0.5*COUNTRY_INFO!F101+0.2*COUNTRY_INFO!G101),IF(COUNTRY_INFO!K101=3,COUNTRY_INFO!F101/(COUNTRY_INFO!F101+COUNTRY_INFO!G101)))),0)","v":0.39554472943451024},{"$f":"IF(AND(Z101<>0,Z101<>\"Unknown\",Z101<>\"Not required\"),IF(COUNTRY_INFO!K101=1,0,IF(COUNTRY_INFO!K101=2,0.2*COUNTRY_INFO!G101/(0.5*COUNTRY_INFO!F101+0.2*COUNTRY_INFO!G101),IF(COUNTRY_INFO!K101=3,COUNTRY_INFO!G101/(COUNTRY_INFO!F101+COUNTRY_INFO!G101)))),0)","v":0.60445527056548976},{"$f":"MAX(COUNTRY_INFO!D101*AK101*PROFILE!$G$7,COUNTRY_INFO!D101*AL101*PROFILE!$G$7)","v":-1.9825953395423764E-2},{"$f":"MAX(COUNTRY_INFO!D101*AK101*PROFILE!$G$8,COUNTRY_INFO!D101*AL101*PROFILE!$G$8,COUNTRY_INFO!D101*AM101*PROFILE!$G$8)","v":57074.73592832229},{"$f":"MAX(COUNTRY_INFO!D101*AK101*PROFILE!$G$9,COUNTRY_INFO!D101*AL101*PROFILE!$G$9,COUNTRY_INFO!D101*AM101*PROFILE!$G$9,IF(AND(DISTRICT!Z101<>\"Unknown\",Z101<>\"Not required\"),COUNTRY_INFO!O101*DISTRICT!AN101,0))","v":111946.14550684682},{"$f":"MAX(COUNTRY_INFO!D101*AK101*PROFILE!$G$10,COUNTRY_INFO!D101*AL101*PROFILE!$G$10,IF(AND(DISTRICT!Z101<>\"Unknown\",Z101<>\"Not required\"),COUNTRY_INFO!O101*DISTRICT!AO101,0))","v":345024.13839078427},514045,"Y",{"$f":"MAX('MDA2'!J101,'T1'!L101,'T2'!J101,T3_R1!K101,T3_R2!K101)","v":0},{"$f":"MAX('MDA1'!K101,'MDA2'!K101,'MDA3'!I101,'MDA3'!L101,'T1'!M101,'T2'!K101,T3_R1!L101,T3_R2!L101)","v":81095.161999999997},{"$f":"MAX('MDA1'!L101,'MDA2'!L101,'MDA3'!J101,'MDA3'!M101,'T1'!N101,'T2'!L101,T3_R1!M101,T3_R2!M101)","v":343486.83799999999},424582,{"$f":"MAX('MDA2'!J101,T101)","v":0},{"$f":"MAX('MDA1'!K101,'MDA2'!K101,'MDA3'!I101,'MDA3'!L101,V101,AD101)","v":81095.161999999997},{"$f":"MAX('MDA1'!L101,'MDA2'!L101,'MDA3'!J101,'MDA3'!M101,AF101)","v":343486.83799999999},424582,82.596270754505923]
[{"$f":"IF(COUNTRY_INFO!A102=0,\" \",COUNTRY_INFO!A102)","v":"Tanzania"},{"$f":"IF(COUNTRY_INFO!B102=0,\" \",COUNTRY_INFO!B102)","v":"Morogoro"},{"$f":"IF(COUNTRY_INFO!C102=0,\" \",COUNTRY_INFO!C102)","v":"Malinyi District Council"},{"$f":"COUNTRY_INFO!L102","v":"Stopped"},null,null,{"$f":"MAX('MDA1'!M102,'MDA2'!M102)","v":147666},{"$f":"IF(AND(COUNTRY_INFO!H102>0,COUNTRY_INFO!H102<4),IF(D102>MAX('MDA1'!M102,'MDA2'!M102),MAX('MDA1'!M102,'MDA2'!M102),D102),0)","v":0},{"$f":"IF(AND(COUNTRY_INFO!H102>0,COUNTRY_INFO!H102<4), IF(G102/D102*100<>0, IF(G102/D102*100>100,100,G102/D102*100), \"-\"),0)","v":0},{"$f":"COUNTRY_INFO!M102","v":170856},null,null,{"$f":"MAX('MDA1'!M102,MAX('MDA3'!I102,'MDA3'!L102)+MAX('MDA3'!J102,'MDA3'!M102))","v":147666},{"$f":"IF(AND(COUNTRY_INFO!I102>0,COUNTRY_INFO!I102<4),IF(J102>MAX('MDA1'!M102,MAX('MDA3'!I102,'MDA3'!L102)+MAX('MDA3'!J102,'MDA3'!M102)),MAX('MDA1'!M102,MAX('MDA3'!I102,'MDA3'!L102)+MAX('MDA3'!J102,'MDA3'!M102)),J102),0)","v":147666},{"$f":"IF(AND(COUNTRY_INFO!I102>0,COUNTRY_INFO!I102<4), IF(M102/J102*100<>0, IF(M102/J102*100>100,100,M102/J102*100), \"-\"),0)","v":86.427166736901256},{"$f":"COUNTRY_INFO!N102","v":47691},null,null,{"$f":"SUM(MAX('MDA2'!J102, 'T1'!L102, MAX(T3_R1!K102, T3_R2!K102)), MAX('MDA1'!K102, 'MDA2'!K102, 'T1'!M102, MAX(T3_R1!L102, T3_R2!L102)), MAX('MDA1'!L102, 'MDA2'!L102, 'T1'!N102, MAX(T3_R1!M102, T3_R2!M102)))","v":147666},{"$f":"IF(AND(COUNTRY_INFO!J102>1,COUNTRY_INFO!J102<4),IF(COUNTRY_INFO!E102>MAX('MDA2'!J102,'T1'!L102,MAX(T3_R1!K102,T3_R2!K102)),MAX('MDA2'!J102,'T1'!L102,MAX(T3_R1!K102,T3_R2!K102)),COUNTRY_INFO!E102),0)","v":0},{"$f":"IF(AND(COUNTRY_INFO!J102>1,COUNTRY_INFO!J102<4), IF(T102/COUNTRY_INFO!E102*100<>0, IF(T102/COUNTRY_INFO!E102*100>100,100,T102/COUNTRY_INFO!E102*100), \"-\"),0)","v":"-"},{"$f":"IF(AND(COUNTRY_INFO!J102>1,COUNTRY_INFO!J102<4),IF(COUNTRY_INFO!F102>MAX('MDA1'!K102,'MDA2'!K102,'T1'!M102,MAX(T3_R1!L102,T3_R2!L102)),MAX('MDA1'!K102,'MDA2'!K102,'T1'!M102,MAX(T3_R1!L102,T3_R2!L102)),COUNTRY_INFO!F102),0)","v":28204.206000000002},{"$f":"IF(AND(COUNTRY_INFO!J102>1,COUNTRY_INFO!J102<4), IF(V102/COUNTRY_INFO!F102*100<>0, IF(V102/COUNTRY_INFO!F102*100>100,100,V102/COUNTRY_INFO!F102*100), \"-\"),0)","v":87.992406327020873},28204.206000000002,{"$f":"IF(AND(COUNTRY_INFO!J102>1,COUNTRY_INFO!J102<4), IF(S102/P102*100<>0, IF(X102/P102*100>100,100,X102/P102*100), \"-\"),0)","v":59.139472856513805},{"$f":"COUNTRY_INFO!O102","v":40659.5},null,null,{"$f":"MAX('T1'!L102,'T2'!J102)+MAX('T1'!M102,'T2'!K102)+MAX('T1'!N102,'T2'!L102)","v":27488},{"$f":"IF(COUNTRY_INFO!K102=1,IF(COUNTRY_INFO!F102*0.33>MAX('T1'!M102,'T2'!K102),MAX('T1'!M102,'T2'!K102),COUNTRY_INFO!F102*0.33),IF(COUNTRY_INFO!K102=2,IF(COUNTRY_INFO!F102*0.5>MAX('T1'!M102,'T2'!K102),MAX('T1'!M102,'T2'!K102),COUNTRY_INFO!F102*0.5),IF(COUNTRY_INFO!K102=3,IF(COUNTRY_INFO!F102>MAX('T1'!M102,'T2'!K102),MAX('T1'!M102,'T2'!K102),COUNTRY_INFO!F102),0)))","v":16026.5},{"$f":"IF(AND(COUNTRY_INFO!K102>0,COUNTRY_INFO!K102<4),IF(Z102>0,IF(COUNTRY_INFO!K102=1, AD102/(COUNTRY_INFO!F102*0.33)*100, IF(COUNTRY_INFO!K102=2, AD102/(COUNTRY_INFO!F102*0.5)*100, IF(COUNTRY_INFO!K102=3, AD102/COUNTRY_INFO!F102*100))),\"-\"),0)","v":100},{"$f":"IF(COUNTRY_INFO!K102=2,IF(COUNTRY_INFO!G102*0.2>MAX('T1'!N102,'T2'!L102),MAX('T1'!N102,'T2'!L102),COUNTRY_INFO!G102*0.2),IF(COUNTRY_INFO!K102=3,IF(COUNTRY_INFO!G102>MAX('T1'!N102,'T2'!L102),MAX('T1'!N102,'T2'!L102),COUNTRY_INFO!G102),0))","v":0},{"$f":"IF(AND(COUNTRY_INFO!K102>0,COUNTRY_INFO!K102<4),IF(Z102>0,IF(COUNTRY_INFO!K102=1, 0, IF(COUNTRY_INFO!K102=2, AF102/(COUNTRY_INFO!G102*0.2)*100, IF(COUNTRY_INFO!K102=3, AF102/COUNTRY_INFO!G102*100))),\"-\"),0)","v":0},16026.5,{"$f":"IF(AND(COUNTRY_INFO!K102>0,COUNTRY_INFO!K102<4), IF(AC102/Z102*100<>0, IF(AH102/Z102*100>100,100,AH102/Z102*100), \"-\"),0)","v":39.416372557458892},null,{"$f":"IF(AND(D102<>0, D102<>\"Unknown\",D102<>\"Stopped\",D102<>\"Not required\"),D102/COUNTRY_INFO!D102, 0)","v":0},{"$f":"IF(AND(J102<>0,J102<>\"Unknown\",J102<>\"Stopped\",J102<>\"Not required\"),J102/COUNTRY_INFO!D102, 0)","v":1},{"$f":"IF(AND(P102<>0,P102<>\"Unknown\",P102<>\"Not required\"),P102/(COUNTRY_INFO!E102+COUNTRY_INFO!F102), 0)","v":1},{"$f":"IF(AND(Z102<>0,Z102<>\"Unknown\",Z102<>\"Not required\"),IF(COUNTRY_INFO!K102=1,1,IF(COUNTRY_INFO!K102=2,0.5*COUNTRY_INFO!F102/(0.5*COUNTRY_INFO!F102+0.2*COUNTRY_INFO!G102),IF(COUNTRY_INFO!K102=3,COUNTRY_INFO!F102/(COUNTRY_INFO!F102+COUNTRY_INFO!G102)))),0)","v":0.39416372557458895},{"$f":"IF(AND(Z102<>0,Z102<>\"Unknown\",Z102<>\"Not required\"),IF(COUNTRY_INFO!K102=1,0,IF(COUNTRY_INFO!K102=2,0.2*COUNTRY_INFO!G102/(0.5*COUNTRY_INFO!F102+0.2*COUNTRY_INFO!G102),IF(COUNTRY_INFO!K102=3,COUNTRY_INFO!G102/(COUNTRY_INFO!F102+COUNTRY_INFO!G102)))),0)","v":0.60583627442541099},{"$f":"MAX(COUNTRY_INFO!D102*AK102*PROFILE!$G$7,COUNTRY_INFO!D102*AL102*PROFILE!$G$7)","v":0},{"$f":"MAX(COUNTRY_INFO!D102*AK102*PROFILE!$G$8,COUNTRY_INFO!D102*AL102*PROFILE!$G$8,COUNTRY_INFO!D102*AM102*PROFILE!$G$8)","v":18970.247900027105},{"$f":"MAX(COUNTRY_INFO!D102*AK102*PROFILE!$G$9,COUNTRY_INFO!D102*AL102*PROFILE!$G$9,COUNTRY_INFO!D102*AM102*PROFILE!$G$9,IF(AND(DISTRICT!Z102<>\"Unknown\",Z102<>\"Not required\"),COUNTRY_INFO!O102*DISTRICT!AN102,0))","v":37208.163948132598},{"$f":"MAX(COUNTRY_INFO!D102*AK102*PROFILE!$G$10,COUNTRY_INFO!D102*AL102*PROFILE!$G$10,IF(AND(DISTRICT!Z102<>\"Unknown\",Z102<>\"Not required\"),COUNTRY_INFO!O102*DISTRICT!AO102,0))","v":114677.59474150286},170856.00658966257,"Y",{"$f":"MAX('MDA2'!J102,'T1'!L102,'T2'!J102,T3_R1!K102,T3_R2!K102)","v":0},{"$f":"MAX('MDA1'!K102,'MDA2'!K102,'MDA3'!I102,'MDA3'!L102,'T1'!M102,'T2'!K102,T3_R1!L102,T3_R2!L102)","v":28204.206000000002},{"$f":"MAX('MDA1'!L102,'MDA2'!L102,'MDA3'!J102,'MDA3'!M102,'T1'!N102,'T2'!L102,T3_R1!M102,T3_R2!M102)","v":119461.79399999999},147666,{"$f":"MAX('MDA2'!J102,T102)","v":0},{"$f":"MAX('MDA1'!K102,'MDA2'!K102,'MDA3'!I102,'MDA3'!L102,V102,AD102)","v":28204.206000000002},{"$f":"MAX('MDA1'!L102,'MDA2'!L102,'MDA3'!J102,'MDA3'!M102,AF102)","v":119461.79399999999},147666,86.427163403533712]
[{"$f":"IF(COUNTRY_INFO!A103=0,\" \",COUNTRY_INFO!A103)","v":"Tanzania"},{"$f":"IF(COUNTRY_INFO!B103=0,\" \",COUNTRY_INFO!B103)","v":"Morogoro"},{"$f":"IF(COUNTRY_INFO!C103=0,\" \",COUNTRY_INFO!C103)","v":"Morogoro District Council"},{"$f":"COUNTRY_INFO!L103","v":331960},null,null,{"$f":"MAX('MDA1'!M103,'MDA2'!M103)","v":257315},{"$f":"IF(AND(COUNTRY_INFO!H103>0,COUNTRY_INFO!H103<4),IF(D103>MAX('MDA1'!M103,'MDA2'!M103),MAX('MDA1'!M103,'MDA2'!M103),D103),0)","v":257315},{"$f":"IF(AND(COUNTRY_INFO!H103>0,COUNTRY_INFO!H103<4), IF(G103/D103*100<>0, IF(G103/D103*100>100,100,G103/D103*100), \"-\"),0)","v":77.513857091215812},{"$f":"COUNTRY_INFO!M103","v":331960},null,null,{"$f":"MAX('MDA1'!M103,MAX('MDA3'!I103,'MDA3'!L103)+MAX('MDA3'!J103,'MDA3'!M103))","v":257315},{"$f":"IF(AND(COUNTRY_INFO!I103>0,COUNTRY_INFO!I103<4),IF(J103>MAX('MDA1'!M103,MAX('MDA3'!I103,'MDA3'!L103)+MAX('MDA3'!J103,'MDA3'!M103)),MAX('MDA1'!M103,MAX('MDA3'!I103,'MDA3'!L103)+MAX('MDA3'!J103,'MDA3'!M103)),J103),0)","v":257315},{"$f":"IF(AND(COUNTRY_INFO!I103>0,COUNTRY_INFO!I103<4), IF(M103/J103*100<>0, IF(M103/J103*100>100,100,M103/J103*100), \"-\"),0)","v":77.513857091215812},{"$f":"COUNTRY_INFO!N103","v":105067},null,null,{"$f":"SUM(MAX('MDA2'!J103, 'T1'!L103, MAX(T3_R1!K103, T3_R2!K103)), MAX('MDA1'!K103, 'MDA2'!K103, 'T1'!M103, MAX(T3_R1!L103, T3_R2!L103)), MAX('MDA1'!L103, 'MDA2'!L103, 'T1'!N103, MAX(T3_R1!M103, T3_R2!M103)))","v":257315},{"$f":"IF(AND(COUNTRY_INFO!J103>1,COUNTRY_INFO!J103<4),IF(COUNTRY_INFO!E103>MAX('MDA2'!J103,'T1'!L103,MAX(T3_R1!K103,T3_R2!K103)),MAX('MDA2'!J103,'T1'!L103,MAX(T3_R1!K103,T3_R2!K103)),COUNTRY_INFO!E103),0)","v":0},{"$f":"IF(AND(COUNTRY_INFO!J103>1,COUNTRY_INFO!J103<4), IF(T103/COUNTRY_INFO!E103*100<>0, IF(T103/COUNTRY_INFO!E103*100>100,100,T103/COUNTRY_INFO!E103*100), \"-\"),0)","v":"-"},{"$f":"IF(AND(COUNTRY_INFO!J103>1,COUNTRY_INFO!J103<4),IF(COUNTRY_INFO!F103>MAX('MDA1'!K103,'MDA2'!K103,'T1'!M103,MAX(T3_R1!L103,T3_R2!L103)),MAX('MDA1'!K103,'MDA2'!K103,'T1'!M103,MAX(T3_R1!L103,T3_R2!L103)),COUNTRY_INFO!F103),0)","v":49147.165000000001},{"$f":"IF(AND(COUNTRY_INFO!J103>1,COUNTRY_INFO!J103<4), IF(V103/COUNTRY_INFO!F103*100<>0, IF(V103/COUNTRY_INFO!F103*100>100,100,V103/COUNTRY_INFO!F103*100), \"-\"),0)","v":78.958879570721678},49147.165000000001,{"$f":"IF(AND(COUNTRY_INFO!J103>1,COUNTRY_INFO!J103<4), IF(S103/P103*100<>0, IF(X103/P103*100>100,100,X103/P103*100), \"-\"),0)","v":46.77697564411281},{"$f":"COUNTRY_INFO!O103","v":76500.600000000006},null,null,{"$f":"MAX('T1'!L103,'T2'!J103)+MAX('T1'!M103,'T2'!K103)+MAX('T1'!N103,'T2'!L103)","v":53590},{"$f":"IF(COUNTRY_INFO!K103=1,IF(COUNTRY_INFO!F103*0.33>MAX('T1'!M103,'T2'!K103),MAX('T1'!M103,'T2'!K103),COUNTRY_INFO!F103*0.33),IF(COUNTRY_INFO!K103=2,IF(COUNTRY_INFO!F103*0.5>MAX('T1'!M103,'T2'!K103),MAX('T1'!M103,'T2'!K103),COUNTRY_INFO!F103*0.5),IF(COUNTRY_INFO!K103=3,IF(COUNTRY_INFO!F103>MAX('T1'!M103,'T2'!K103),MAX('T1'!M103,'T2'!K103),COUNTRY_INFO!F103),0)))","v":31122},{"$f":"IF(AND(COUNTRY_INFO!K103>0,COUNTRY_INFO!K103<4),IF(Z103>0,IF(COUNTRY_INFO!K103=1, AD103/(COUNTRY_INFO!F103*0.33)*100, IF(COUNTRY_INFO!K103=2, AD103/(COUNTRY_INFO!F103*0.5)*100, IF(COUNTRY_INFO!K103=3, AD103/COUNTRY_INFO!F103*100))),\"-\"),0)","v":100},{"$f":"IF(COUNTRY_INFO!K103=2,IF(COUNTRY_INFO!G103*0.2>MAX('T1'!N103,'T2'!L103),MAX('T1'!N103,'T2'!L103),COUNTRY_INFO!G103*0.2),IF(COUNTRY_INFO!K103=3,IF(COUNTRY_INFO!G103>MAX('T1'!N103,'T2'!L103),MAX('T1'!N103,'T2'!L103),COUNTRY_INFO!G103),0))","v":0},{"$f":"IF(AND(COUNTRY_INFO!K103>0,COUNTRY_INFO!K103<4),IF(Z103>0,IF(COUNTRY_INFO!K103=1, 0, IF(COUNTRY_INFO!K103=2, AF103/(COUNTRY_INFO!G103*0.2)*100, IF(COUNTRY_INFO!K103=3, AF103/COUNTRY_INFO!G103*100))),\"-\"),0)","v":0},31122,{"$f":"IF(AND(COUNTRY_INFO!K103>0,COUNTRY_INFO!K103<4), IF(AC103/Z103*100<>0, IF(AH103/Z103*100>100,100,AH103/Z103*100), \"-\"),0)","v":40.682033866401049},null,{"$f":"IF(AND(D103<>0, D103<>\"Unknown\",D103<>\"Stopped\",D103<>\"Not required\"),D103/COUNTRY_INFO!D103, 0)","v":1},{"$f":"IF(AND(J103<>0,J103<>\"Unknown\",J103<>\"Stopped\",J103<>\"Not required\"),J103/COUNTRY_INFO!D103, 0)","v":1},{"$f":"IF(AND(P103<>0,P103<>\"Unknown\",P103<>\"Not required\"),P103/(COUNTRY_INFO!E103+COUNTRY_INFO!F103), 0)","v":1},{"$f":"IF(AND(Z103<>0,Z103<>\"Unknown\",Z103<>\"Not required\"),IF(COUNTRY_INFO!K103=1,1,IF(COUNTRY_INFO!K103=2,0.5*COUNTRY_INFO!F103/(0.5*COUNTRY_INFO!F103+0.2*COUNTRY_INFO!G103),IF(COUNTRY_INFO!K103=3,COUNTRY_INFO!F103/(COUNTRY_INFO!F103+COUNTRY_INFO!G103)))),0)","v":0.40682033866401046},{"$f":"IF(AND(Z103<>0,Z103<>\"Unknown\",Z103<>\"Not required\"),IF(COUNTRY_INFO!K103=1,0,IF(COUNTRY_INFO!K103=2,0.2*COUNTRY_INFO!G103/(0.5*COUNTRY_INFO!F103+0.2*COUNTRY_INFO!G103),IF(COUNTRY_INFO!K103=3,COUNTRY_INFO!G103/(COUNTRY_INFO!F103+COUNTRY_INFO!G103)))),0)","v":0.59317966133598954},{"$f":"MAX(COUNTRY_INFO!D103*AK103*PROFILE!$G$7,COUNTRY_INFO!D103*AL103*PROFILE!$G$7)","v":-1.2803204951210248E-2},{"$f":"MAX(COUNTRY_INFO!D103*AK103*PROFILE!$G$8,COUNTRY_INFO!D103*AL103*PROFILE!$G$8,COUNTRY_INFO!D103*AM103*PROFILE!$G$8)","v":36857.725177301341},{"$f":"MAX(COUNTRY_INFO!D103*AK103*PROFILE!$G$9,COUNTRY_INFO!D103*AL103*PROFILE!$G$9,COUNTRY_INFO!D103*AM103*PROFILE!$G$9,IF(AND(DISTRICT!Z103<>\"Unknown\",Z103<>\"Not required\"),COUNTRY_INFO!O103*DISTRICT!AN103,0))","v":72292.586179133868},{"$f":"MAX(COUNTRY_INFO!D103*AK103*PROFILE!$G$10,COUNTRY_INFO!D103*AL103*PROFILE!$G$10,IF(AND(DISTRICT!Z103<>\"Unknown\",Z103<>\"Not required\"),COUNTRY_INFO!O103*DISTRICT!AO103,0))","v":222809.70144676973},331960,"Y",{"$f":"MAX('MDA2'!J103,'T1'!L103,'T2'!J103,T3_R1!K103,T3_R2!K103)","v":0},{"$f":"MAX('MDA1'!K103,'MDA2'!K103,'MDA3'!I103,'MDA3'!L103,'T1'!M103,'T2'!K103,T3_R1!L103,T3_R2!L103)","v":53590},{"$f":"MAX('MDA1'!L103,'MDA2'!L103,'MDA3'!J103,'MDA3'!M103,'T1'!N103,'T2'!L103,T3_R1!M103,T3_R2!M103)","v":208167.83499999999},261757.83499999999,{"$f":"MAX('MDA2'!J103,T103)","v":0},{"$f":"MAX('MDA1'!K103,'MDA2'!K103,'MDA3'!I103,'MDA3'!L103,V103,AD103)","v":49147.165000000001},{"$f":"MAX('MDA1'!L103,'MDA2'!L103,'MDA3'!J103,'MDA3'!M103,AF103)","v":208167.83499999999},257315,77.513857091215812]
[{"$f":"IF(COUNTRY_INFO!A104=0,\" \",COUNTRY_INFO!A104)","v":"Tanzania"},{"$f":"IF(COUNTRY_INFO!B104=0,\" \",COUNTRY_INFO!B104)","v":"Morogoro"},{"$f":"IF(COUNTRY_INFO!C104=0,\" \",COUNTRY_INFO!C104)","v":"Morogoro Municipal Council"},{"$f":"COUNTRY_INFO!L104","v":366308},null,null,{"$f":"MAX('MDA1'!M104,'MDA2'!M104)","v":319841},{"$f":"IF(AND(COUNTRY_INFO!H104>0,COUNTRY_INFO!H104<4),IF(D104>MAX('MDA1'!M104,'MDA2'!M104),MAX('MDA1'!M104,'MDA2'!M104),D104),0)","v":319841},{"$f":"IF(AND(COUNTRY_INFO!H104>0,COUNTRY_INFO!H104<4), IF(G104/D104*100<>0, IF(G104/D104*100>100,100,G104/D104*100), \"-\"),0)","v":87.314773360123183},{"$f":"COUNTRY_INFO!M104","v":0},null,null,{"$f":"MAX('MDA1'!M104,MAX('MDA3'!I104,'MDA3'!L104)+MAX('MDA3'!J104,'MDA3'!M104))","v":319841},{"$f":"IF(AND(COUNTRY_INFO!I104>0,COUNTRY_INFO!I104<4),IF(J104>MAX('MDA1'!M104,MAX('MDA3'!I104,'MDA3'!L104)+MAX('MDA3'!J104,'MDA3'!M104)),MAX('MDA1'!M104,MAX('MDA3'!I104,'MDA3'!L104)+MAX('MDA3'!J104,'MDA3'!M104)),J104),0)","v":0},{"$f":"IF(AND(COUNTRY_INFO!I104>0,COUNTRY_INFO!I104<4), IF(M104/J104*100<>0, IF(M104/J104*100>100,100,M104/J104*100), \"-\"),0)","v":0},{"$f":"COUNTRY_INFO!N104","v":102801},null,null,{"$f":"SUM(MAX('MDA2'!J104, 'T1'!L104, MAX(T3_R1!K104, T3_R2!K104)), MAX('MDA1'!K104, 'MDA2'!K104, 'T1'!M104, MAX(T3_R1!L104, T3_R2!L104)), MAX('MDA1'!L104, 'MDA2'!L104, 'T1'!N104, MAX(T3_R1!M104, T3_R2!M104)))","v":319841},{"$f":"IF(AND(COUNTRY_INFO!J104>1,COUNTRY_INFO!J104<4),IF(COUNTRY_INFO!E104>MAX('MDA2'!J104,'T1'!L104,MAX(T3_R1!K104,T3_R2!K104)),MAX('MDA2'!J104,'T1'!L104,MAX(T3_R1!K104,T3_R2!K104)),COUNTRY_INFO!E104),0)","v":0},{"$f":"IF(AND(COUNTRY_INFO!J104>1,COUNTRY_INFO!J104<4), IF(T104/COUNTRY_INFO!E104*100<>0, IF(T104/COUNTRY_INFO!E104*100>100,100,T104/COUNTRY_INFO!E104*100), \"-\"),0)","v":"-"},{"$f":"IF(AND(COUNTRY_INFO!J104>1,COUNTRY_INFO!J104<4),IF(COUNTRY_INFO!F104>MAX('MDA1'!K104,'MDA2'!K104,'T1'!M104,MAX(T3_R1!L104,T3_R2!L104)),MAX('MDA1'!K104,'MDA2'!K104,'T1'!M104,MAX(T3_R1!L104,T3_R2!L104)),COUNTRY_INFO!F104),0)","v":61089.631000000001},{"$f":"IF(AND(COUNTRY_INFO!J104>1,COUNTRY_INFO!J104<4), IF(V104/COUNTRY_INFO!F104*100<>0, IF(V104/COUNTRY_INFO!F104*100>100,100,V104/COUNTRY_INFO!F104*100), \"-\"),0)","v":81.598630887185109},61089.631000000001,{"$f":"IF(AND(COUNTRY_INFO!J104>1,COUNTRY_INFO!J104<4), IF(S104/P104*100<>0, IF(X104/P104*100>100,100,X104/P104*100), \"-\"),0)","v":59.425133023997823},{"$f":"COUNTRY_INFO!O104","v":90134.399999999994},null,null,{"$f":"MAX('T1'!L104,'T2'!J104)+MAX('T1'!M104,'T2'!K104)+MAX('T1'!N104,'T2'!L104)","v":67660},{"$f":"IF(COUNTRY_INFO!K104=1,IF(COUNTRY_INFO!F104*0.33>MAX('T1'!M104,'T2'!K104),MAX('T1'!M104,'T2'!K104),COUNTRY_INFO!F104*0.33),IF(COUNTRY_INFO!K104=2,IF(COUNTRY_INFO!F104*0.5>MAX('T1'!M104,'T2'!K104),MAX('T1'!M104,'T2'!K104),COUNTRY_INFO!F104*0.5),IF(COUNTRY_INFO!K104=3,IF(COUNTRY_INFO!F104>MAX('T1'!M104,'T2'!K104),MAX('T1'!M104,'T2'!K104),COUNTRY_INFO!F104),0)))","v":37433},{"$f":"IF(AND(COUNTRY_INFO!K104>0,COUNTRY_INFO!K104<4),IF(Z104>0,IF(COUNTRY_INFO!K104=1, AD104/(COUNTRY_INFO!F104*0.33)*100, IF(COUNTRY_INFO!K104=2, AD104/(COUNTRY_INFO!F104*0.5)*100, IF(COUNTRY_INFO!K104=3, AD104/COUNTRY_INFO!F104*100))),\"-\"),0)","v":100},{"$f":"IF(COUNTRY_INFO!K104=2,IF(COUNTRY_INFO!G104*0.2>MAX('T1'!N104,'T2'!L104),MAX('T1'!N104,'T2'!L104),COUNTRY_INFO!G104*0.2),IF(COUNTRY_INFO!K104=3,IF(COUNTRY_INFO!G104>MAX('T1'!N104,'T2'!L104),MAX('T1'!N104,'T2'!L104),COUNTRY_INFO!G104),0))","v":0},{"$f":"IF(AND(COUNTRY_INFO!K104>0,COUNTRY_INFO!K104<4),IF(Z104>0,IF(COUNTRY_INFO!K104=1, 0, IF(COUNTRY_INFO!K104=2, AF104/(COUNTRY_INFO!G104*0.2)*100, IF(COUNTRY_INFO!K104=3, AF104/COUNTRY_INFO!G104*100))),\"-\"),0)","v":0},37433,{"$f":"IF(AND(COUNTRY_INFO!K104>0,COUNTRY_INFO!K104<4), IF(AC104/Z104*100<>0, IF(AH104/Z104*100>100,100,AH104/Z104*100), \"-\"),0)","v":41.530203784570602},null,{"$f":"IF(AND(D104<>0, D104<>\"Unknown\",D104<>\"Stopped\",D104<>\"Not required\"),D104/COUNTRY_INFO!D104, 0)","v":1},{"$f":"IF(AND(J104<>0,J104<>\"Unknown\",J104<>\"Stopped\",J104<>\"Not required\"),J104/COUNTRY_INFO!D104, 0)","v":0},{"$f":"IF(AND(P104<>0,P104<>\"Unknown\",P104<>\"Not required\"),P104/(COUNTRY_INFO!E104+COUNTRY_INFO!F104), 0)","v":1},{"$f":"IF(AND(Z104<>0,Z104<>\"Unknown\",Z104<>\"Not required\"),IF(COUNTRY_INFO!K104=1,1,IF(COUNTRY_INFO!K104=2,0.5*COUNTRY_INFO!F104/(0.5*COUNTRY_INFO!F104+0.2*COUNTRY_INFO!G104),IF(COUNTRY_INFO!K104=3,COUNTRY_INFO!F104/(COUNTRY_INFO!F104+COUNTRY_INFO!G104)))),0)","v":0.41530203784570602},{"$f":"IF(AND(Z104<>0,Z104<>\"Unknown\",Z104<>\"Not required\"),IF(COUNTRY_INFO!K104=1,0,IF(COUNTRY_INFO!K104=2,0.2*COUNTRY_INFO!G104/(0.5*COUNTRY_INFO!F104+0.2*COUNTRY_INFO!G104),IF(COUNTRY_INFO!K104=3,COUNTRY_INFO!G104/(COUNTRY_INFO!F104+COUNTRY_INFO!G104)))),0)","v":0.58469796215429404},{"$f":"MAX(COUNTRY_INFO!D104*AK104*PROFILE!$G$7,COUNTRY_INFO!D104*AL104*PROFILE!$G$7)","v":0},{"$f":"MAX(COUNTRY_INFO!D104*AK104*PROFILE!$G$8,COUNTRY_INFO!D104*AL104*PROFILE!$G$8,COUNTRY_INFO!D104*AM104*PROFILE!$G$8)","v":40671.404971222131},{"$f":"MAX(COUNTRY_INFO!D104*AK104*PROFILE!$G$9,COUNTRY_INFO!D104*AL104*PROFILE!$G$9,COUNTRY_INFO!D104*AM104*PROFILE!$G$9,IF(AND(DISTRICT!Z104<>\"Unknown\",Z104<>\"Not required\"),COUNTRY_INFO!O104*DISTRICT!AN104,0))","v":79772.721587258013},{"$f":"MAX(COUNTRY_INFO!D104*AK104*PROFILE!$G$10,COUNTRY_INFO!D104*AL104*PROFILE!$G$10,IF(AND(DISTRICT!Z104<>\"Unknown\",Z104<>\"Not required\"),COUNTRY_INFO!O104*DISTRICT!AO104,0))","v":245863.88756947624},366308.01412795635,"Y",{"$f":"MAX('MDA2'!J104,'T1'!L104,'T2'!J104,T3_R1!K104,T3_R2!K104)","v":0},{"$f":"MAX('MDA1'!K104,'MDA2'!K104,'MDA3'!I104,'MDA3'!L104,'T1'!M104,'T2'!K104,T3_R1!L104,T3_R2!L104)","v":67660},{"$f":"MAX('MDA1'!L104,'MDA2'!L104,'MDA3'!J104,'MDA3'!M104,'T1'!N104,'T2'!L104,T3_R1!M104,T3_R2!M104)","v":258751.36900000001},326411.36900000001,{"$f":"MAX('MDA2'!J104,T104)","v":0},{"$f":"MAX('MDA1'!K104,'MDA2'!K104,'MDA3'!I104,'MDA3'!L104,V104,AD104)","v":61089.631000000001},{"$f":"MAX('MDA1'!L104,'MDA2'!L104,'MDA3'!J104,'MDA3'!M104,AF104)","v":258751.36900000001},319841,87.314769992521974]
[{"$f":"IF(COUNTRY_INFO!A105=0,\" \",COUNTRY_INFO!A105)","v":"Tanzania"},{"$f":"IF(COUNTRY_INFO!B105=0,\" \",COUNTRY_INFO!B105)","v":"Morogoro"},{"$f":"IF(COUNTRY_INFO!C105=0,\" \",COUNTRY_INFO!C105)","v":"Mvomero District Council"},{"$f":"COUNTRY_INFO!L105","v":363335},null,null,{"$f":"MAX('MDA1'!M105,'MDA2'!M105)","v":294745},{"$f":"IF(AND(COUNTRY_INFO!H105>0,COUNTRY_INFO!H105<4),IF(D105>MAX('MDA1'!M105,'MDA2'!M105),MAX('MDA1'!M105,'MDA2'!M105),D105),0)","v":294745},{"$f":"IF(AND(COUNTRY_INFO!H105>0,COUNTRY_INFO!H105<4), IF(G105/D105*100<>0, IF(G105/D105*100>100,100,G105/D105*100), \"-\"),0)","v":81.122104944472724},{"$f":"COUNTRY_INFO!M105","v":363335},null,null,{"$f":"MAX('MDA1'!M105,MAX('MDA3'!I105,'MDA3'!L105)+MAX('MDA3'!J105,'MDA3'!M105))","v":294745},{"$f":"IF(AND(COUNTRY_INFO!I105>0,COUNTRY_INFO!I105<4),IF(J105>MAX('MDA1'!M105,MAX('MDA3'!I105,'MDA3'!L105)+MAX('MDA3'!J105,'MDA3'!M105)),MAX('MDA1'!M105,MAX('MDA3'!I105,'MDA3'!L105)+MAX('MDA3'!J105,'MDA3'!M105)),J105),0)","v":294745},{"$f":"IF(AND(COUNTRY_INFO!I105>0,COUNTRY_INFO!I105<4), IF(M105/J105*100<>0, IF(M105/J105*100>100,100,M105/J105*100), \"-\"),0)","v":81.122104944472724},{"$f":"COUNTRY_INFO!N105","v":115036},null,null,{"$f":"SUM(MAX('MDA2'!J105, 'T1'!L105, MAX(T3_R1!K105, T3_R2!K105)), MAX('MDA1'!K105, 'MDA2'!K105, 'T1'!M105, MAX(T3_R1!L105, T3_R2!L105)), MAX('MDA1'!L105, 'MDA2'!L105, 'T1'!N105, MAX(T3_R1!M105, T3_R2!M105)))","v":308064.70500000002},{"$f":"IF(AND(COUNTRY_INFO!J105>1,COUNTRY_INFO!J105<4),IF(COUNTRY_INFO!E105>MAX('MDA2'!J105,'T1'!L105,MAX(T3_R1!K105,T3_R2!K105)),MAX('MDA2'!J105,'T1'!L105,MAX(T3_R1!K105,T3_R2!K105)),COUNTRY_INFO!E105),0)","v":0},{"$f":"IF(AND(COUNTRY_INFO!J105>1,COUNTRY_INFO!J105<4), IF(T105/COUNTRY_INFO!E105*100<>0, IF(T105/COUNTRY_INFO!E105*100>100,100,T105/COUNTRY_INFO!E105*100), \"-\"),0)","v":"-"},{"$f":"IF(AND(COUNTRY_INFO!J105>1,COUNTRY_INFO!J105<4),IF(COUNTRY_INFO!F105>MAX('MDA1'!K105,'MDA2'!K105,'T1'!M105,MAX(T3_R1!L105,T3_R2!L105)),MAX('MDA1'!K105,'MDA2'!K105,'T1'!M105,MAX(T3_R1!L105,T3_R2!L105)),COUNTRY_INFO!F105),0)","v":69616},{"$f":"IF(AND(COUNTRY_INFO!J105>1,COUNTRY_INFO!J105<4), IF(V105/COUNTRY_INFO!F105*100<>0, IF(V105/COUNTRY_INFO!F105*100>100,100,V105/COUNTRY_INFO!F105*100), \"-\"),0)","v":91.137119367423352},69616,{"$f":"IF(AND(COUNTRY_INFO!J105>1,COUNTRY_INFO!J105<4), IF(S105/P105*100<>0, IF(X105/P105*100>100,100,X105/P105*100), \"-\"),0)","v":60.516707813206303},{"$f":"COUNTRY_INFO!O105","v":87852.800000000003},null,null,{"$f":"MAX('T1'!L105,'T2'!J105)+MAX('T1'!M105,'T2'!K105)+MAX('T1'!N105,'T2'!L105)","v":69616},{"$f":"IF(COUNTRY_INFO!K105=1,IF(COUNTRY_INFO!F105*0.33>MAX('T1'!M105,'T2'!K105),MAX('T1'!M105,'T2'!K105),COUNTRY_INFO!F105*0.33),IF(COUNTRY_INFO!K105=2,IF(COUNTRY_INFO!F105*0.5>MAX('T1'!M105,'T2'!K105),MAX('T1'!M105,'T2'!K105),COUNTRY_INFO!F105*0.5),IF(COUNTRY_INFO!K105=3,IF(COUNTRY_INFO!F105>MAX('T1'!M105,'T2'!K105),MAX('T1'!M105,'T2'!K105),COUNTRY_INFO!F105),0)))","v":38193},{"$f":"IF(AND(COUNTRY_INFO!K105>0,COUNTRY_INFO!K105<4),IF(Z105>0,IF(COUNTRY_INFO!K105=1, AD105/(COUNTRY_INFO!F105*0.33)*100, IF(COUNTRY_INFO!K105=2, AD105/(COUNTRY_INFO!F105*0.5)*100, IF(COUNTRY_INFO!K105=3, AD105/COUNTRY_INFO!F105*100))),\"-\"),0)","v":100},{"$f":"IF(COUNTRY_INFO!K105=2,IF(COUNTRY_INFO!G105*0.2>MAX('T1'!N105,'T2'!L105),MAX('T1'!N105,'T2'!L105),COUNTRY_INFO!G105*0.2),IF(COUNTRY_INFO!K105=3,IF(COUNTRY_INFO!G105>MAX('T1'!N105,'T2'!L105),MAX('T1'!N105,'T2'!L105),COUNTRY_INFO!G105),0))","v":0},{"$f":"IF(AND(COUNTRY_INFO!K105>0,COUNTRY_INFO!K105<4),IF(Z105>0,IF(COUNTRY_INFO!K105=1, 0, IF(COUNTRY_INFO!K105=2, AF105/(COUNTRY_INFO!G105*0.2)*100, IF(COUNTRY_INFO!K105=3, AF105/COUNTRY_INFO!G105*100))),\"-\"),0)","v":0},38193,{"$f":"IF(AND(COUNTRY_INFO!K105>0,COUNTRY_INFO!K105<4), IF(AC105/Z105*100<>0, IF(AH105/Z105*100>100,100,AH105/Z105*100), \"-\"),0)","v":43.473856268667589},null,{"$f":"IF(AND(D105<>0, D105<>\"Unknown\",D105<>\"Stopped\",D105<>\"Not required\"),D105/COUNTRY_INFO!D105, 0)","v":1},{"$f":"IF(AND(J105<>0,J105<>\"Unknown\",J105<>\"Stopped\",J105<>\"Not required\"),J105/COUNTRY_INFO!D105, 0)","v":1},{"$f":"IF(AND(P105<>0,P105<>\"Unknown\",P105<>\"Not required\"),P105/(COUNTRY_INFO!E105+COUNTRY_INFO!F105), 0)","v":1},{"$f":"IF(AND(Z105<>0,Z105<>\"Unknown\",Z105<>\"Not required\"),IF(COUNTRY_INFO!K105=1,1,IF(COUNTRY_INFO!K105=2,0.5*COUNTRY_INFO!F105/(0.5*COUNTRY_INFO!F105+0.2*COUNTRY_INFO!G105),IF(COUNTRY_INFO!K105=3,COUNTRY_INFO!F105/(COUNTRY_INFO!F105+COUNTRY_INFO!G105)))),0)","v":0.43473856268667588},{"$f":"IF(AND(Z105<>0,Z105<>\"Unknown\",Z105<>\"Not required\"),IF(COUNTRY_INFO!K105=1,0,IF(COUNTRY_INFO!K105=2,0.2*COUNTRY_INFO!G105/(0.5*COUNTRY_INFO!F105+0.2*COUNTRY_INFO!G105),IF(COUNTRY_INFO!K105=3,COUNTRY_INFO!G105/(COUNTRY_INFO!F105+COUNTRY_INFO!G105)))),0)","v":0.56526143731332412},{"$f":"MAX(COUNTRY_INFO!D105*AK105*PROFILE!$G$7,COUNTRY_INFO!D105*AL105*PROFILE!$G$7)","v":-1.4013292176611566E-2},{"$f":"MAX(COUNTRY_INFO!D105*AK105*PROFILE!$G$8,COUNTRY_INFO!D105*AL105*PROFILE!$G$8,COUNTRY_INFO!D105*AM105*PROFILE!$G$8)","v":40341.310932928012},{"$f":"MAX(COUNTRY_INFO!D105*AK105*PROFILE!$G$9,COUNTRY_INFO!D105*AL105*PROFILE!$G$9,COUNTRY_INFO!D105*AM105*PROFILE!$G$9,IF(AND(DISTRICT!Z105<>\"Unknown\",Z105<>\"Not required\"),COUNTRY_INFO!O105*DISTRICT!AN105,0))","v":79125.276537521408},{"$f":"MAX(COUNTRY_INFO!D105*AK105*PROFILE!$G$10,COUNTRY_INFO!D105*AL105*PROFILE!$G$10,IF(AND(DISTRICT!Z105<>\"Unknown\",Z105<>\"Not required\"),COUNTRY_INFO!O105*DISTRICT!AO105,0))","v":243868.42654284276},363335,{"$f":"IF(COUNTIFS(AK105:AN105,\">0\")=0,0, IF(COUNTIFS(AK105:AN105,\">0\")<=IF(AND(OR(D105>=0,D105=\"Not required\",D105=\"Unknown\",D105=\"Stopped\"),D105>0,H105>0),1,0)+IF(AND(OR(J105>=0,J105=\"Not required\",J105=\"Unknown\",J105=\"Stopped\"),J105>0,N105>0),1,0)+IF(AND(OR(P105>=0,P105=\"Not required\",P105=\"Unknown\"),P105>0,X105>0),1,0)+IF(AND(OR(Z105>=0,Z105=\"Not required\",Z105=\"Unknown\"),Z105>0,AH105>0),1,0),\"Y\",0))","v":"Y"},{"$f":"MAX('MDA2'!J105,'T1'!L105,'T2'!J105,T3_R1!K105,T3_R2!K105)","v":0},{"$f":"MAX('MDA1'!K105,'MDA2'!K105,'MDA3'!I105,'MDA3'!L105,'T1'!M105,'T2'!K105,T3_R1!L105,T3_R2!L105)","v":69616},{"$f":"MAX('MDA1'!L105,'MDA2'!L105,'MDA3'!J105,'MDA3'!M105,'T1'!N105,'T2'!L105,T3_R1!M105,T3_R2!M105)","v":238448.70500000002},308064.70500000002,{"$f":"MAX('MDA2'!J105,T105)","v":0},{"$f":"MAX('MDA1'!K105,'MDA2'!K105,'MDA3'!I105,'MDA3'!L105,V105,AD105)","v":69616},{"$f":"MAX('MDA1'!L105,'MDA2'!L105,'MDA3'!J105,'MDA3'!M105,AF105)","v":238448.70500000002},{"$f":"IF(AT105<SUM(AZ105:BB105), AT105,SUM(AZ105:BB105))","v":308064.70500000002},{"$f":"IF(AT105<>0,BC105/AT105*100,0)","v":84.788061981367065}]
[{"$f":"IF(COUNTRY_INFO!A106=0,\" \",COUNTRY_INFO!A106)","v":"Tanzania"},{"$f":"IF(COUNTRY_INFO!B106=0,\" \",COUNTRY_INFO!B106)","v":"Morogoro"},{"$f":"IF(COUNTRY_INFO!C106=0,\" \",COUNTRY_INFO!C106)","v":"Ulanga District Council"},{"$f":"COUNTRY_INFO!L106","v":"Stopped"},null,null,{"$f":"MAX('MDA1'!M106,'MDA2'!M106)","v":177200},{"$f":"IF(AND(COUNTRY_INFO!H106>0,COUNTRY_INFO!H106<4),IF(D106>MAX('MDA1'!M106,'MDA2'!M106),MAX('MDA1'!M106,'MDA2'!M106),D106),0)","v":0},{"$f":"IF(AND(COUNTRY_INFO!H106>0,COUNTRY_INFO!H106<4), IF(G106/D106*100<>0, IF(G106/D106*100>100,100,G106/D106*100), \"-\"),0)","v":0},{"$f":"COUNTRY_INFO!M106","v":199151},null,null,{"$f":"MAX('MDA1'!M106,MAX('MDA3'!I106,'MDA3'!L106)+MAX('MDA3'!J106,'MDA3'!M106))","v":177200},{"$f":"IF(AND(COUNTRY_INFO!I106>0,COUNTRY_INFO!I106<4),IF(J106>MAX('MDA1'!M106,MAX('MDA3'!I106,'MDA3'!L106)+MAX('MDA3'!J106,'MDA3'!M106)),MAX('MDA1'!M106,MAX('MDA3'!I106,'MDA3'!L106)+MAX('MDA3'!J106,'MDA3'!M106)),J106),0)","v":177200},{"$f":"IF(AND(COUNTRY_INFO!I106>0,COUNTRY_INFO!I106<4), IF(M106/J106*100<>0, IF(M106/J106*100>100,100,M106/J106*100), \"-\"),0)","v":88.977710380565497},{"$f":"COUNTRY_INFO!N106","v":59606},null,null,{"$f":"SUM(MAX('MDA2'!J106, 'T1'!L106, MAX(T3_R1!K106, T3_R2!K106)), MAX('MDA1'!K106, 'MDA2'!K106, 'T1'!M106, MAX(T3_R1!L106, T3_R2!L106)), MAX('MDA1'!L106, 'MDA2'!L106, 'T1'!N106, MAX(T3_R1!M106, T3_R2!M106)))","v":177200},{"$f":"IF(AND(COUNTRY_INFO!J106>1,COUNTRY_INFO!J106<4),IF(COUNTRY_INFO!E106>MAX('MDA2'!J106,'T1'!L106,MAX(T3_R1!K106,T3_R2!K106)),MAX('MDA2'!J106,'T1'!L106,MAX(T3_R1!K106,T3_R2!K106)),COUNTRY_INFO!E106),0)","v":0},{"$f":"IF(AND(COUNTRY_INFO!J106>1,COUNTRY_INFO!J106<4), IF(T106/COUNTRY_INFO!E106*100<>0, IF(T106/COUNTRY_INFO!E106*100>100,100,T106/COUNTRY_INFO!E106*100), \"-\"),0)","v":"-"},{"$f":"IF(AND(COUNTRY_INFO!J106>1,COUNTRY_INFO!J106<4),IF(COUNTRY_INFO!F106>MAX('MDA1'!K106,'MDA2'!K106,'T1'!M106,MAX(T3_R1!L106,T3_R2!L106)),MAX('MDA1'!K106,'MDA2'!K106,'T1'!M106,MAX(T3_R1!L106,T3_R2!L106)),COUNTRY_INFO!F106),0)","v":33845.199999999997},{"$f":"IF(AND(COUNTRY_INFO!J106>1,COUNTRY_INFO!J106<4), IF(V106/COUNTRY_INFO!F106*100<>0, IF(V106/COUNTRY_INFO!F106*100>100,100,V106/COUNTRY_INFO!F106*100), \"-\"),0)","v":99.794191360754823},33845.199999999997,{"$f":"IF(AND(COUNTRY_INFO!J106>1,COUNTRY_INFO!J106<4), IF(S106/P106*100<>0, IF(X106/P106*100>100,100,X106/P106*100), \"-\"),0)","v":56.781532060530814},{"$f":"COUNTRY_INFO!O106","v":44866.5},null,null,{"$f":"MAX('T1'!L106,'T2'!J106)+MAX('T1'!M106,'T2'!K106)+MAX('T1'!N106,'T2'!L106)","v":32939},{"$f":"IF(COUNTRY_INFO!K106=1,IF(COUNTRY_INFO!F106*0.33>MAX('T1'!M106,'T2'!K106),MAX('T1'!M106,'T2'!K106),COUNTRY_INFO!F106*0.33),IF(COUNTRY_INFO!K106=2,IF(COUNTRY_INFO!F106*0.5>MAX('T1'!M106,'T2'!K106),MAX('T1'!M106,'T2'!K106),COUNTRY_INFO!F106*0.5),IF(COUNTRY_INFO!K106=3,IF(COUNTRY_INFO!F106>MAX('T1'!M106,'T2'!K106),MAX('T1'!M106,'T2'!K106),COUNTRY_INFO!F106),0)))","v":16957.5},{"$f":"IF(AND(COUNTRY_INFO!K106>0,COUNTRY_INFO!K106<4),IF(Z106>0,IF(COUNTRY_INFO!K106=1, AD106/(COUNTRY_INFO!F106*0.33)*100, IF(COUNTRY_INFO!K106=2, AD106/(COUNTRY_INFO!F106*0.5)*100, IF(COUNTRY_INFO!K106=3, AD106/COUNTRY_INFO!F106*100))),\"-\"),0)","v":100},{"$f":"IF(COUNTRY_INFO!K106=2,IF(COUNTRY_INFO!G106*0.2>MAX('T1'!N106,'T2'!L106),MAX('T1'!N106,'T2'!L106),COUNTRY_INFO!G106*0.2),IF(COUNTRY_INFO!K106=3,IF(COUNTRY_INFO!G106>MAX('T1'!N106,'T2'!L106),MAX('T1'!N106,'T2'!L106),COUNTRY_INFO!G106),0))","v":0},{"$f":"IF(AND(COUNTRY_INFO!K106>0,COUNTRY_INFO!K106<4),IF(Z106>0,IF(COUNTRY_INFO!K106=1, 0, IF(COUNTRY_INFO!K106=2, AF106/(COUNTRY_INFO!G106*0.2)*100, IF(COUNTRY_INFO!K106=3, AF106/COUNTRY_INFO!G106*100))),\"-\"),0)","v":0},16957.5,{"$f":"IF(AND(COUNTRY_INFO!K106>0,COUNTRY_INFO!K106<4), IF(AC106/Z106*100<>0, IF(AH106/Z106*100>100,100,AH106/Z106*100), \"-\"),0)","v":37.795459864263982},null,{"$f":"IF(AND(D106<>0, D106<>\"Unknown\",D106<>\"Stopped\",D106<>\"Not required\"),D106/COUNTRY_INFO!D106, 0)","v":0},{"$f":"IF(AND(J106<>0,J106<>\"Unknown\",J106<>\"Stopped\",J106<>\"Not required\"),J106/COUNTRY_INFO!D106, 0)","v":1},{"$f":"IF(AND(P106<>0,P106<>\"Unknown\",P106<>\"Not required\"),P106/(COUNTRY_INFO!E106+COUNTRY_INFO!F106), 0)","v":1},{"$f":"IF(AND(Z106<>0,Z106<>\"Unknown\",Z106<>\"Not required\"),IF(COUNTRY_INFO!K106=1,1,IF(COUNTRY_INFO!K106=2,0.5*COUNTRY_INFO!F106/(0.5*COUNTRY_INFO!F106+0.2*COUNTRY_INFO!G106),IF(COUNTRY_INFO!K106=3,COUNTRY_INFO!F106/(COUNTRY_INFO!F106+COUNTRY_INFO!G106)))),0)","v":0.37795459864263981},{"$f":"IF(AND(Z106<>0,Z106<>\"Unknown\",Z106<>\"Not required\"),IF(COUNTRY_INFO!K106=1,0,IF(COUNTRY_INFO!K106=2,0.2*COUNTRY_INFO!G106/(0.5*COUNTRY_INFO!F106+0.2*COUNTRY_INFO!G106),IF(COUNTRY_INFO!K106=3,COUNTRY_INFO!G106/(COUNTRY_INFO!F106+COUNTRY_INFO!G106)))),0)","v":0.62204540135736019},{"$f":"MAX(COUNTRY_INFO!D106*AK106*PROFILE!$G$7,COUNTRY_INFO!D106*AL106*PROFILE!$G$7)","v":0},{"$f":"MAX(COUNTRY_INFO!D106*AK106*PROFILE!$G$8,COUNTRY_INFO!D106*AL106*PROFILE!$G$8,COUNTRY_INFO!D106*AM106*PROFILE!$G$8)","v":22111.859340838473},{"$f":"MAX(COUNTRY_INFO!D106*AK106*PROFILE!$G$9,COUNTRY_INFO!D106*AL106*PROFILE!$G$9,COUNTRY_INFO!D106*AM106*PROFILE!$G$9,IF(AND(DISTRICT!Z106<>\"Unknown\",Z106<>\"Not required\"),COUNTRY_INFO!O106*DISTRICT!AN106,0))","v":43370.107332692765},{"$f":"MAX(COUNTRY_INFO!D106*AK106*PROFILE!$G$10,COUNTRY_INFO!D106*AL106*PROFILE!$G$10,IF(AND(DISTRICT!Z106<>\"Unknown\",Z106<>\"Not required\"),COUNTRY_INFO!O106*DISTRICT!AO106,0))","v":133669.04100742753},199151.00768095878,"Y",{"$f":"MAX('MDA2'!J106,'T1'!L106,'T2'!J106,T3_R1!K106,T3_R2!K106)","v":0},{"$f":"MAX('MDA1'!K106,'MDA2'!K106,'MDA3'!I106,'MDA3'!L106,'T1'!M106,'T2'!K106,T3_R1!L106,T3_R2!L106)","v":33845.199999999997},{"$f":"MAX('MDA1'!L106,'MDA2'!L106,'MDA3'!J106,'MDA3'!M106,'T1'!N106,'T2'!L106,T3_R1!M106,T3_R2!M106)","v":143354.79999999999},177200,{"$f":"MAX('MDA2'!J106,T106)","v":0},{"$f":"MAX('MDA1'!K106,'MDA2'!K106,'MDA3'!I106,'MDA3'!L106,V106,AD106)","v":33845.199999999997},{"$f":"MAX('MDA1'!L106,'MDA2'!L106,'MDA3'!J106,'MDA3'!M106,AF106)","v":143354.79999999999},177200,88.977706948827276]
[{"$f":"IF(COUNTRY_INFO!A107=0,\" \",COUNTRY_INFO!A107)","v":"Tanzania"},{"$f":"IF(COUNTRY_INFO!B107=0,\" \",COUNTRY_INFO!B107)","v":"Mtwara"},{"$f":"IF(COUNTRY_INFO!C107=0,\" \",COUNTRY_INFO!C107)","v":"Masasi District Council"},{"$f":"COUNTRY_INFO!L107","v":277688},null,null,{"$f":"MAX('MDA1'!M107,'MDA2'!M107)","v":249075},{"$f":"IF(AND(COUNTRY_INFO!H107>0,COUNTRY_INFO!H107<4),IF(D107>MAX('MDA1'!M107,'MDA2'!M107),MAX('MDA1'!M107,'MDA2'!M107),D107),0)","v":249075},{"$f":"IF(AND(COUNTRY_INFO!H107>0,COUNTRY_INFO!H107<4), IF(G107/D107*100<>0, IF(G107/D107*100>100,100,G107/D107*100), \"-\"),0)","v":89.695989743885221},{"$f":"COUNTRY_INFO!M107","v":0},null,null,{"$f":"MAX('MDA1'!M107,MAX('MDA3'!I107,'MDA3'!L107)+MAX('MDA3'!J107,'MDA3'!M107))","v":249075},{"$f":"IF(AND(COUNTRY_INFO!I107>0,COUNTRY_INFO!I107<4),IF(J107>MAX('MDA1'!M107,MAX('MDA3'!I107,'MDA3'!L107)+MAX('MDA3'!J107,'MDA3'!M107)),MAX('MDA1'!M107,MAX('MDA3'!I107,'MDA3'!L107)+MAX('MDA3'!J107,'MDA3'!M107)),J107),0)","v":0},{"$f":"IF(AND(COUNTRY_INFO!I107>0,COUNTRY_INFO!I107<4), IF(M107/J107*100<>0, IF(M107/J107*100>100,100,M107/J107*100), \"-\"),0)","v":0},{"$f":"COUNTRY_INFO!N107","v":84794},null,null,{"$f":"SUM(MAX('MDA2'!J107, 'T1'!L107, MAX(T3_R1!K107, T3_R2!K107)), MAX('MDA1'!K107, 'MDA2'!K107, 'T1'!M107, MAX(T3_R1!L107, T3_R2!L107)), MAX('MDA1'!L107, 'MDA2'!L107, 'T1'!N107, MAX(T3_R1!M107, T3_R2!M107)))","v":254250.67499999999},{"$f":"IF(AND(COUNTRY_INFO!J107>1,COUNTRY_INFO!J107<4),IF(COUNTRY_INFO!E107>MAX('MDA2'!J107,'T1'!L107,MAX(T3_R1!K107,T3_R2!K107)),MAX('MDA2'!J107,'T1'!L107,MAX(T3_R1!K107,T3_R2!K107)),COUNTRY_INFO!E107),0)","v":0},{"$f":"IF(AND(COUNTRY_INFO!J107>1,COUNTRY_INFO!J107<4), IF(T107/COUNTRY_INFO!E107*100<>0, IF(T107/COUNTRY_INFO!E107*100>100,100,T107/COUNTRY_INFO!E107*100), \"-\"),0)","v":"-"},{"$f":"IF(AND(COUNTRY_INFO!J107>1,COUNTRY_INFO!J107<4),IF(COUNTRY_INFO!F107>MAX('MDA1'!K107,'MDA2'!K107,'T1'!M107,MAX(T3_R1!L107,T3_R2!L107)),MAX('MDA1'!K107,'MDA2'!K107,'T1'!M107,MAX(T3_R1!L107,T3_R2!L107)),COUNTRY_INFO!F107),0)","v":52749},{"$f":"IF(AND(COUNTRY_INFO!J107>1,COUNTRY_INFO!J107<4), IF(V107/COUNTRY_INFO!F107*100<>0, IF(V107/COUNTRY_INFO!F107*100>100,100,V107/COUNTRY_INFO!F107*100), \"-\"),0)","v":92.363859219050966},52749,{"$f":"IF(AND(COUNTRY_INFO!J107>1,COUNTRY_INFO!J107<4), IF(S107/P107*100<>0, IF(X107/P107*100>100,100,X107/P107*100), \"-\"),0)","v":62.208410972474468},{"$f":"COUNTRY_INFO!O107","v":250004},null,null,{"$f":"MAX('T1'!L107,'T2'!J107)+MAX('T1'!M107,'T2'!K107)+MAX('T1'!N107,'T2'!L107)","v":52749},{"$f":"IF(COUNTRY_INFO!K107=1,IF(COUNTRY_INFO!F107*0.33>MAX('T1'!M107,'T2'!K107),MAX('T1'!M107,'T2'!K107),COUNTRY_INFO!F107*0.33),IF(COUNTRY_INFO!K107=2,IF(COUNTRY_INFO!F107*0.5>MAX('T1'!M107,'T2'!K107),MAX('T1'!M107,'T2'!K107),COUNTRY_INFO!F107*0.5),IF(COUNTRY_INFO!K107=3,IF(COUNTRY_INFO!F107>MAX('T1'!M107,'T2'!K107),MAX('T1'!M107,'T2'!K107),COUNTRY_INFO!F107),0)))","v":52749},{"$f":"IF(AND(COUNTRY_INFO!K107>0,COUNTRY_INFO!K107<4),IF(Z107>0,IF(COUNTRY_INFO!K107=1, AD107/(COUNTRY_INFO!F107*0.33)*100, IF(COUNTRY_INFO!K107=2, AD107/(COUNTRY_INFO!F107*0.5)*100, IF(COUNTRY_INFO!K107=3, AD107/COUNTRY_INFO!F107*100))),\"-\"),0)","v":92.363859219050966},{"$f":"IF(COUNTRY_INFO!K107=2,IF(COUNTRY_INFO!G107*0.2>MAX('T1'!N107,'T2'!L107),MAX('T1'!N107,'T2'!L107),COUNTRY_INFO!G107*0.2),IF(COUNTRY_INFO!K107=3,IF(COUNTRY_INFO!G107>MAX('T1'!N107,'T2'!L107),MAX('T1'!N107,'T2'!L107),COUNTRY_INFO!G107),0))","v":0},{"$f":"IF(AND(COUNTRY_INFO!K107>0,COUNTRY_INFO!K107<4),IF(Z107>0,IF(COUNTRY_INFO!K107=1, 0, IF(COUNTRY_INFO!K107=2, AF107/(COUNTRY_INFO!G107*0.2)*100, IF(COUNTRY_INFO!K107=3, AF107/COUNTRY_INFO!G107*100))),\"-\"),0)","v":0},52749,{"$f":"IF(AND(COUNTRY_INFO!K107>0,COUNTRY_INFO!K107<4), IF(AC107/Z107*100<>0, IF(AH107/Z107*100>100,100,AH107/Z107*100), \"-\"),0)","v":21.099262411801412},null,{"$f":"IF(AND(D107<>0, D107<>\"Unknown\",D107<>\"Stopped\",D107<>\"Not required\"),D107/COUNTRY_INFO!D107, 0)","v":1},{"$f":"IF(AND(J107<>0,J107<>\"Unknown\",J107<>\"Stopped\",J107<>\"Not required\"),J107/COUNTRY_INFO!D107, 0)","v":0},{"$f":"IF(AND(P107<>0,P107<>\"Unknown\",P107<>\"Not required\"),P107/(COUNTRY_INFO!E107+COUNTRY_INFO!F107), 0)","v":1},{"$f":"IF(AND(Z107<>0,Z107<>\"Unknown\",Z107<>\"Not required\"),IF(COUNTRY_INFO!K107=1,1,IF(COUNTRY_INFO!K107=2,0.5*COUNTRY_INFO!F107/(0.5*COUNTRY_INFO!F107+0.2*COUNTRY_INFO!G107),IF(COUNTRY_INFO!K107=3,COUNTRY_INFO!F107/(COUNTRY_INFO!F107+COUNTRY_INFO!G107)))),0)","v":0.2284363450184797},{"$f":"IF(AND(Z107<>0,Z107<>\"Unknown\",Z107<>\"Not required\"),IF(COUNTRY_INFO!K107=1,0,IF(COUNTRY_INFO!K107=2,0.2*COUNTRY_INFO!G107/(0.5*COUNTRY_INFO!F107+0.2*COUNTRY_INFO!G107),IF(COUNTRY_INFO!K107=3,COUNTRY_INFO!G107/(COUNTRY_INFO!F107+COUNTRY_INFO!G107)))),0)","v":0.77156365498152024},{"$f":"MAX(COUNTRY_INFO!D107*AK107*PROFILE!$G$7,COUNTRY_INFO!D107*AL107*PROFILE!$G$7)","v":0},{"$f":"MAX(COUNTRY_INFO!D107*AK107*PROFILE!$G$8,COUNTRY_INFO!D107*AL107*PROFILE!$G$8,COUNTRY_INFO!D107*AM107*PROFILE!$G$8)","v":30831.871276763628},{"$f":"MAX(COUNTRY_INFO!D107*AK107*PROFILE!$G$9,COUNTRY_INFO!D107*AL107*PROFILE!$G$9,COUNTRY_INFO!D107*AM107*PROFILE!$G$9,IF(AND(DISTRICT!Z107<>\"Unknown\",Z107<>\"Not required\"),COUNTRY_INFO!O107*DISTRICT!AN107,0))","v":60473.501840316079},{"$f":"MAX(COUNTRY_INFO!D107*AK107*PROFILE!$G$10,COUNTRY_INFO!D107*AL107*PROFILE!$G$10,IF(AND(DISTRICT!Z107<>\"Unknown\",Z107<>\"Not required\"),COUNTRY_INFO!O107*DISTRICT!AO107,0))","v":192894},284199.37311707973,"Y",{"$f":"MAX('MDA2'!J107,'T1'!L107,'T2'!J107,T3_R1!K107,T3_R2!K107)","v":0},{"$f":"MAX('MDA1'!K107,'MDA2'!K107,'MDA3'!I107,'MDA3'!L107,'T1'!M107,'T2'!K107,T3_R1!L107,T3_R2!L107)","v":52749},{"$f":"MAX('MDA1'!L107,'MDA2'!L107,'MDA3'!J107,'MDA3'!M107,'T1'!N107,'T2'!L107,T3_R1!M107,T3_R2!M107)","v":201501.67499999999},254250.67499999999,{"$f":"MAX('MDA2'!J107,T107)","v":0},{"$f":"MAX('MDA1'!K107,'MDA2'!K107,'MDA3'!I107,'MDA3'!L107,V107,AD107)","v":52749},{"$f":"MAX('MDA1'!L107,'MDA2'!L107,'MDA3'!J107,'MDA3'!M107,AF107)","v":201501.67499999999},254250.67499999999,89.462081570200382]
[{"$f":"IF(COUNTRY_INFO!A108=0,\" \",COUNTRY_INFO!A108)","v":"Tanzania"},{"$f":"IF(COUNTRY_INFO!B108=0,\" \",COUNTRY_INFO!B108)","v":"Mtwara"},{"$f":"IF(COUNTRY_INFO!C108=0,\" \",COUNTRY_INFO!C108)","v":"Masasi Town Council"},{"$f":"COUNTRY_INFO!L108","v":"Stopped"},null,null,{"$f":"MAX('MDA1'!M108,'MDA2'!M108)","v":0},{"$f":"IF(AND(COUNTRY_INFO!H108>0,COUNTRY_INFO!H108<4),IF(D108>MAX('MDA1'!M108,'MDA2'!M108),MAX('MDA1'!M108,'MDA2'!M108),D108),0)","v":0},{"$f":"IF(AND(COUNTRY_INFO!H108>0,COUNTRY_INFO!H108<4), IF(G108/D108*100<>0, IF(G108/D108*100>100,100,G108/D108*100), \"-\"),0)","v":0},{"$f":"COUNTRY_INFO!M108","v":0},null,null,{"$f":"MAX('MDA1'!M108,MAX('MDA3'!I108,'MDA3'!L108)+MAX('MDA3'!J108,'MDA3'!M108))","v":0},{"$f":"IF(AND(COUNTRY_INFO!I108>0,COUNTRY_INFO!I108<4),IF(J108>MAX('MDA1'!M108,MAX('MDA3'!I108,'MDA3'!L108)+MAX('MDA3'!J108,'MDA3'!M108)),MAX('MDA1'!M108,MAX('MDA3'!I108,'MDA3'!L108)+MAX('MDA3'!J108,'MDA3'!M108)),J108),0)","v":0},{"$f":"IF(AND(COUNTRY_INFO!I108>0,COUNTRY_INFO!I108<4), IF(M108/J108*100<>0, IF(M108/J108*100>100,100,M108/J108*100), \"-\"),0)","v":0},{"$f":"COUNTRY_INFO!N108","v":33071},null,null,{"$f":"SUM(MAX('MDA2'!J108, 'T1'!L108, MAX(T3_R1!K108, T3_R2!K108)), MAX('MDA1'!K108, 'MDA2'!K108, 'T1'!M108, MAX(T3_R1!L108, T3_R2!L108)), MAX('MDA1'!L108, 'MDA2'!L108, 'T1'!N108, MAX(T3_R1!M108, T3_R2!M108)))","v":21249},{"$f":"IF(AND(COUNTRY_INFO!J108>1,COUNTRY_INFO!J108<4),IF(COUNTRY_INFO!E108>MAX('MDA2'!J108,'T1'!L108,MAX(T3_R1!K108,T3_R2!K108)),MAX('MDA2'!J108,'T1'!L108,MAX(T3_R1!K108,T3_R2!K108)),COUNTRY_INFO!E108),0)","v":0},{"$f":"IF(AND(COUNTRY_INFO!J108>1,COUNTRY_INFO!J108<4), IF(T108/COUNTRY_INFO!E108*100<>0, IF(T108/COUNTRY_INFO!E108*100>100,100,T108/COUNTRY_INFO!E108*100), \"-\"),0)","v":"-"},{"$f":"IF(AND(COUNTRY_INFO!J108>1,COUNTRY_INFO!J108<4),IF(COUNTRY_INFO!F108>MAX('MDA1'!K108,'MDA2'!K108,'T1'!M108,MAX(T3_R1!L108,T3_R2!L108)),MAX('MDA1'!K108,'MDA2'!K108,'T1'!M108,MAX(T3_R1!L108,T3_R2!L108)),COUNTRY_INFO!F108),0)","v":21249},{"$f":"IF(AND(COUNTRY_INFO!J108>1,COUNTRY_INFO!J108<4), IF(V108/COUNTRY_INFO!F108*100<>0, IF(V108/COUNTRY_INFO!F108*100>100,100,V108/COUNTRY_INFO!F108*100), \"-\"),0)","v":92.843098702320091},21249,{"$f":"IF(AND(COUNTRY_INFO!J108>1,COUNTRY_INFO!J108<4), IF(S108/P108*100<>0, IF(X108/P108*100>100,100,X108/P108*100), \"-\"),0)","v":64.252668501103685},{"$f":"COUNTRY_INFO!O108","v":100132},null,null,{"$f":"MAX('T1'!L108,'T2'!J108)+MAX('T1'!M108,'T2'!K108)+MAX('T1'!N108,'T2'!L108)","v":21249},{"$f":"IF(COUNTRY_INFO!K108=1,IF(COUNTRY_INFO!F108*0.33>MAX('T1'!M108,'T2'!K108),MAX('T1'!M108,'T2'!K108),COUNTRY_INFO!F108*0.33),IF(COUNTRY_INFO!K108=2,IF(COUNTRY_INFO!F108*0.5>MAX('T1'!M108,'T2'!K108),MAX('T1'!M108,'T2'!K108),COUNTRY_INFO!F108*0.5),IF(COUNTRY_INFO!K108=3,IF(COUNTRY_INFO!F108>MAX('T1'!M108,'T2'!K108),MAX('T1'!M108,'T2'!K108),COUNTRY_INFO!F108),0)))","v":21249},{"$f":"IF(AND(COUNTRY_INFO!K108>0,COUNTRY_INFO!K108<4),IF(Z108>0,IF(COUNTRY_INFO!K108=1, AD108/(COUNTRY_INFO!F108*0.33)*100, IF(COUNTRY_INFO!K108=2, AD108/(COUNTRY_INFO!F108*0.5)*100, IF(COUNTRY_INFO!K108=3, AD108/COUNTRY_INFO!F108*100))),\"-\"),0)","v":92.843098702320091},{"$f":"IF(COUNTRY_INFO!K108=2,IF(COUNTRY_INFO!G108*0.2>MAX('T1'!N108,'T2'!L108),MAX('T1'!N108,'T2'!L108),COUNTRY_INFO!G108*0.2),IF(COUNTRY_INFO!K108=3,IF(COUNTRY_INFO!G108>MAX('T1'!N108,'T2'!L108),MAX('T1'!N108,'T2'!L108),COUNTRY_INFO!G108),0))","v":0},{"$f":"IF(AND(COUNTRY_INFO!K108>0,COUNTRY_INFO!K108<4),IF(Z108>0,IF(COUNTRY_INFO!K108=1, 0, IF(COUNTRY_INFO!K108=2, AF108/(COUNTRY_INFO!G108*0.2)*100, IF(COUNTRY_INFO!K108=3, AF108/COUNTRY_INFO!G108*100))),\"-\"),0)","v":0},21249,{"$f":"IF(AND(COUNTRY_INFO!K108>0,COUNTRY_INFO!K108<4), IF(AC108/Z108*100<>0, IF(AH108/Z108*100>100,100,AH108/Z108*100), \"-\"),0)","v":21.220988295450006},null,{"$f":"IF(AND(D108<>0, D108<>\"Unknown\",D108<>\"Stopped\",D108<>\"Not required\"),D108/COUNTRY_INFO!D108, 0)","v":0},{"$f":"IF(AND(J108<>0,J108<>\"Unknown\",J108<>\"Stopped\",J108<>\"Not required\"),J108/COUNTRY_INFO!D108, 0)","v":0},{"$f":"IF(AND(P108<>0,P108<>\"Unknown\",P108<>\"Not required\"),P108/(COUNTRY_INFO!E108+COUNTRY_INFO!F108), 0)","v":1},{"$f":"IF(AND(Z108<>0,Z108<>\"Unknown\",Z108<>\"Not required\"),IF(COUNTRY_INFO!K108=1,1,IF(COUNTRY_INFO!K108=2,0.5*COUNTRY_INFO!F108/(0.5*COUNTRY_INFO!F108+0.2*COUNTRY_INFO!G108),IF(COUNTRY_INFO!K108=3,COUNTRY_INFO!F108/(COUNTRY_INFO!F108+COUNTRY_INFO!G108)))),0)","v":0.22856828985738825},{"$f":"IF(AND(Z108<>0,Z108<>\"Unknown\",Z108<>\"Not required\"),IF(COUNTRY_INFO!K108=1,0,IF(COUNTRY_INFO!K108=2,0.2*COUNTRY_INFO!G108/(0.5*COUNTRY_INFO!F108+0.2*COUNTRY_INFO!G108),IF(COUNTRY_INFO!K108=3,COUNTRY_INFO!G108/(COUNTRY_INFO!F108+COUNTRY_INFO!G108)))),0)","v":0.7714317101426118},{"$f":"MAX(COUNTRY_INFO!D108*AK108*PROFILE!$G$7,COUNTRY_INFO!D108*AL108*PROFILE!$G$7)","v":0},{"$f":"MAX(COUNTRY_INFO!D108*AK108*PROFILE!$G$8,COUNTRY_INFO!D108*AL108*PROFILE!$G$8,COUNTRY_INFO!D108*AM108*PROFILE!$G$8)","v":12248.454062715913},{"$f":"MAX(COUNTRY_INFO!D108*AK108*PROFILE!$G$9,COUNTRY_INFO!D108*AL108*PROFILE!$G$9,COUNTRY_INFO!D108*AM108*PROFILE!$G$9,IF(AND(DISTRICT!Z108<>\"Unknown\",Z108<>\"Not required\"),COUNTRY_INFO!O108*DISTRICT!AN108,0))","v":24024.065962577817},{"$f":"MAX(COUNTRY_INFO!D108*AK108*PROFILE!$G$10,COUNTRY_INFO!D108*AL108*PROFILE!$G$10,IF(AND(DISTRICT!Z108<>\"Unknown\",Z108<>\"Not required\"),COUNTRY_INFO!O108*DISTRICT!AO108,0))","v":77245},113517.52002529372,"Y",{"$f":"MAX('MDA2'!J108,'T1'!L108,'T2'!J108,T3_R1!K108,T3_R2!K108)","v":0},{"$f":"MAX('MDA1'!K108,'MDA2'!K108,'MDA3'!I108,'MDA3'!L108,'T1'!M108,'T2'!K108,T3_R1!L108,T3_R2!L108)","v":21249},{"$f":"MAX('MDA1'!L108,'MDA2'!L108,'MDA3'!J108,'MDA3'!M108,'T1'!N108,'T2'!L108,T3_R1!M108,T3_R2!M108)","v":0},21249,{"$f":"MAX('MDA2'!J108,T108)","v":0},{"$f":"MAX('MDA1'!K108,'MDA2'!K108,'MDA3'!I108,'MDA3'!L108,V108,AD108)","v":21249},{"$f":"MAX('MDA1'!L108,'MDA2'!L108,'MDA3'!J108,'MDA3'!M108,AF108)","v":0},21249,18.718696457837826]
[{"$f":"IF(COUNTRY_INFO!A109=0,\" \",COUNTRY_INFO!A109)","v":"Tanzania"},{"$f":"IF(COUNTRY_INFO!B109=0,\" \",COUNTRY_INFO!B109)","v":"Mtwara"},{"$f":"IF(COUNTRY_INFO!C109=0,\" \",COUNTRY_INFO!C109)","v":"Mtwara District Council"},{"$f":"COUNTRY_INFO!L109","v":"Stopped"},null,null,{"$f":"MAX('MDA1'!M109,'MDA2'!M109)","v":0},{"$f":"IF(AND(COUNTRY_INFO!H109>0,COUNTRY_INFO!H109<4),IF(D109>MAX('MDA1'!M109,'MDA2'!M109),MAX('MDA1'!M109,'MDA2'!M109),D109),0)","v":0},{"$f":"IF(AND(COUNTRY_INFO!H109>0,COUNTRY_INFO!H109<4), IF(G109/D109*100<>0, IF(G109/D109*100>100,100,G109/D109*100), \"-\"),0)","v":0},{"$f":"COUNTRY_INFO!M109","v":0},null,null,{"$f":"MAX('MDA1'!M109,MAX('MDA3'!I109,'MDA3'!L109)+MAX('MDA3'!J109,'MDA3'!M109))","v":0},{"$f":"IF(AND(COUNTRY_INFO!I109>0,COUNTRY_INFO!I109<4),IF(J109>MAX('MDA1'!M109,MAX('MDA3'!I109,'MDA3'!L109)+MAX('MDA3'!J109,'MDA3'!M109)),MAX('MDA1'!M109,MAX('MDA3'!I109,'MDA3'!L109)+MAX('MDA3'!J109,'MDA3'!M109)),J109),0)","v":0},{"$f":"IF(AND(COUNTRY_INFO!I109>0,COUNTRY_INFO!I109<4), IF(M109/J109*100<>0, IF(M109/J109*100>100,100,M109/J109*100), \"-\"),0)","v":0},{"$f":"COUNTRY_INFO!N109","v":42041},null,null,{"$f":"SUM(MAX('MDA2'!J109, 'T1'!L109, MAX(T3_R1!K109, T3_R2!K109)), MAX('MDA1'!K109, 'MDA2'!K109, 'T1'!M109, MAX(T3_R1!L109, T3_R2!L109)), MAX('MDA1'!L109, 'MDA2'!L109, 'T1'!N109, MAX(T3_R1!M109, T3_R2!M109)))","v":30331},{"$f":"IF(AND(COUNTRY_INFO!J109>1,COUNTRY_INFO!J109<4),IF(COUNTRY_INFO!E109>MAX('MDA2'!J109,'T1'!L109,MAX(T3_R1!K109,T3_R2!K109)),MAX('MDA2'!J109,'T1'!L109,MAX(T3_R1!K109,T3_R2!K109)),COUNTRY_INFO!E109),0)","v":0},{"$f":"IF(AND(COUNTRY_INFO!J109>1,COUNTRY_INFO!J109<4), IF(T109/COUNTRY_INFO!E109*100<>0, IF(T109/COUNTRY_INFO!E109*100>100,100,T109/COUNTRY_INFO!E109*100), \"-\"),0)","v":"-"},{"$f":"IF(AND(COUNTRY_INFO!J109>1,COUNTRY_INFO!J109<4),IF(COUNTRY_INFO!F109>MAX('MDA1'!K109,'MDA2'!K109,'T1'!M109,MAX(T3_R1!L109,T3_R2!L109)),MAX('MDA1'!K109,'MDA2'!K109,'T1'!M109,MAX(T3_R1!L109,T3_R2!L109)),COUNTRY_INFO!F109),0)","v":30331},{"$f":"IF(AND(COUNTRY_INFO!J109>1,COUNTRY_INFO!J109<4), IF(V109/COUNTRY_INFO!F109*100<>0, IF(V109/COUNTRY_INFO!F109*100>100,100,V109/COUNTRY_INFO!F109*100), \"-\"),0)","v":93.973850539100255},30331,{"$f":"IF(AND(COUNTRY_INFO!J109>1,COUNTRY_INFO!J109<4), IF(S109/P109*100<>0, IF(X109/P109*100>100,100,X109/P109*100), \"-\"),0)","v":72.146238196046724},{"$f":"COUNTRY_INFO!O109","v":122358},null,null,{"$f":"MAX('T1'!L109,'T2'!J109)+MAX('T1'!M109,'T2'!K109)+MAX('T1'!N109,'T2'!L109)","v":30331},{"$f":"IF(COUNTRY_INFO!K109=1,IF(COUNTRY_INFO!F109*0.33>MAX('T1'!M109,'T2'!K109),MAX('T1'!M109,'T2'!K109),COUNTRY_INFO!F109*0.33),IF(COUNTRY_INFO!K109=2,IF(COUNTRY_INFO!F109*0.5>MAX('T1'!M109,'T2'!K109),MAX('T1'!M109,'T2'!K109),COUNTRY_INFO!F109*0.5),IF(COUNTRY_INFO!K109=3,IF(COUNTRY_INFO!F109>MAX('T1'!M109,'T2'!K109),MAX('T1'!M109,'T2'!K109),COUNTRY_INFO!F109),0)))","v":30331},{"$f":"IF(AND(COUNTRY_INFO!K109>0,COUNTRY_INFO!K109<4),IF(Z109>0,IF(COUNTRY_INFO!K109=1, AD109/(COUNTRY_INFO!F109*0.33)*100, IF(COUNTRY_INFO!K109=2, AD109/(COUNTRY_INFO!F109*0.5)*100, IF(COUNTRY_INFO!K109=3, AD109/COUNTRY_INFO!F109*100))),\"-\"),0)","v":93.973850539100255},{"$f":"IF(COUNTRY_INFO!K109=2,IF(COUNTRY_INFO!G109*0.2>MAX('T1'!N109,'T2'!L109),MAX('T1'!N109,'T2'!L109),COUNTRY_INFO!G109*0.2),IF(COUNTRY_INFO!K109=3,IF(COUNTRY_INFO!G109>MAX('T1'!N109,'T2'!L109),MAX('T1'!N109,'T2'!L109),COUNTRY_INFO!G109),0))","v":0},{"$f":"IF(AND(COUNTRY_INFO!K109>0,COUNTRY_INFO!K109<4),IF(Z109>0,IF(COUNTRY_INFO!K109=1, 0, IF(COUNTRY_INFO!K109=2, AF109/(COUNTRY_INFO!G109*0.2)*100, IF(COUNTRY_INFO!K109=3, AF109/COUNTRY_INFO!G109*100))),\"-\"),0)","v":0},30331,{"$f":"IF(AND(COUNTRY_INFO!K109>0,COUNTRY_INFO!K109<4), IF(AC109/Z109*100<>0, IF(AH109/Z109*100>100,100,AH109/Z109*100), \"-\"),0)","v":24.7887346965462},null,{"$f":"IF(AND(D109<>0, D109<>\"Unknown\",D109<>\"Stopped\",D109<>\"Not required\"),D109/COUNTRY_INFO!D109, 0)","v":0},{"$f":"IF(AND(J109<>0,J109<>\"Unknown\",J109<>\"Stopped\",J109<>\"Not required\"),J109/COUNTRY_INFO!D109, 0)","v":0},{"$f":"IF(AND(P109<>0,P109<>\"Unknown\",P109<>\"Not required\"),P109/(COUNTRY_INFO!E109+COUNTRY_INFO!F109), 0)","v":1},{"$f":"IF(AND(Z109<>0,Z109<>\"Unknown\",Z109<>\"Not required\"),IF(COUNTRY_INFO!K109=1,1,IF(COUNTRY_INFO!K109=2,0.5*COUNTRY_INFO!F109/(0.5*COUNTRY_INFO!F109+0.2*COUNTRY_INFO!G109),IF(COUNTRY_INFO!K109=3,COUNTRY_INFO!F109/(COUNTRY_INFO!F109+COUNTRY_INFO!G109)))),0)","v":0.26378332434332041},{"$f":"IF(AND(Z109<>0,Z109<>\"Unknown\",Z109<>\"Not required\"),IF(COUNTRY_INFO!K109=1,0,IF(COUNTRY_INFO!K109=2,0.2*COUNTRY_INFO!G109/(0.5*COUNTRY_INFO!F109+0.2*COUNTRY_INFO!G109),IF(COUNTRY_INFO!K109=3,COUNTRY_INFO!G109/(COUNTRY_INFO!F109+COUNTRY_INFO!G109)))),0)","v":0.73621667565667959},{"$f":"MAX(COUNTRY_INFO!D109*AK109*PROFILE!$G$7,COUNTRY_INFO!D109*AL109*PROFILE!$G$7)","v":0},{"$f":"MAX(COUNTRY_INFO!D109*AK109*PROFILE!$G$8,COUNTRY_INFO!D109*AL109*PROFILE!$G$8,COUNTRY_INFO!D109*AM109*PROFILE!$G$8)","v":14669.698829981277},{"$f":"MAX(COUNTRY_INFO!D109*AK109*PROFILE!$G$9,COUNTRY_INFO!D109*AL109*PROFILE!$G$9,COUNTRY_INFO!D109*AM109*PROFILE!$G$9,IF(AND(DISTRICT!Z109<>\"Unknown\",Z109<>\"Not required\"),COUNTRY_INFO!O109*DISTRICT!AN109,0))","v":32276},{"$f":"MAX(COUNTRY_INFO!D109*AK109*PROFILE!$G$10,COUNTRY_INFO!D109*AL109*PROFILE!$G$10,IF(AND(DISTRICT!Z109<>\"Unknown\",Z109<>\"Not required\"),COUNTRY_INFO!O109*DISTRICT!AO109,0))","v":90082},137027.69882998127,"Y",{"$f":"MAX('MDA2'!J109,'T1'!L109,'T2'!J109,T3_R1!K109,T3_R2!K109)","v":0},{"$f":"MAX('MDA1'!K109,'MDA2'!K109,'MDA3'!I109,'MDA3'!L109,'T1'!M109,'T2'!K109,T3_R1!L109,T3_R2!L109)","v":30331},{"$f":"MAX('MDA1'!L109,'MDA2'!L109,'MDA3'!J109,'MDA3'!M109,'T1'!N109,'T2'!L109,T3_R1!M109,T3_R2!M109)","v":0},30331,{"$f":"MAX('MDA2'!J109,T109)","v":0},{"$f":"MAX('MDA1'!K109,'MDA2'!K109,'MDA3'!I109,'MDA3'!L109,V109,AD109)","v":30331},{"$f":"MAX('MDA1'!L109,'MDA2'!L109,'MDA3'!J109,'MDA3'!M109,AF109)","v":0},30331,22.134940788601835]
[{"$f":"IF(COUNTRY_INFO!A110=0,\" \",COUNTRY_INFO!A110)","v":"Tanzania"},{"$f":"IF(COUNTRY_INFO!B110=0,\" \",COUNTRY_INFO!B110)","v":"Mtwara"},{"$f":"IF(COUNTRY_INFO!C110=0,\" \",COUNTRY_INFO!C110)","v":"Mtwara-Mikindani Municipal Council"},{"$f":"COUNTRY_INFO!L110","v":142811},null,null,{"$f":"MAX('MDA1'!M110,'MDA2'!M110)","v":120206},{"$f":"IF(AND(COUNTRY_INFO!H110>0,COUNTRY_INFO!H110<4),IF(D110>MAX('MDA1'!M110,'MDA2'!M110),MAX('MDA1'!M110,'MDA2'!M110),D110),0)","v":120206},{"$f":"IF(AND(COUNTRY_INFO!H110>0,COUNTRY_INFO!H110<4), IF(G110/D110*100<>0, IF(G110/D110*100>100,100,G110/D110*100), \"-\"),0)","v":84.171387358116661},{"$f":"COUNTRY_INFO!M110","v":0},null,null,{"$f":"MAX('MDA1'!M110,MAX('MDA3'!I110,'MDA3'!L110)+MAX('MDA3'!J110,'MDA3'!M110))","v":120206},{"$f":"IF(AND(COUNTRY_INFO!I110>0,COUNTRY_INFO!I110<4),IF(J110>MAX('MDA1'!M110,MAX('MDA3'!I110,'MDA3'!L110)+MAX('MDA3'!J110,'MDA3'!M110)),MAX('MDA1'!M110,MAX('MDA3'!I110,'MDA3'!L110)+MAX('MDA3'!J110,'MDA3'!M110)),J110),0)","v":0},{"$f":"IF(AND(COUNTRY_INFO!I110>0,COUNTRY_INFO!I110<4), IF(M110/J110*100<>0, IF(M110/J110*100>100,100,M110/J110*100), \"-\"),0)","v":0},{"$f":"COUNTRY_INFO!N110","v":59454},null,null,{"$f":"SUM(MAX('MDA2'!J110, 'T1'!L110, MAX(T3_R1!K110, T3_R2!K110)), MAX('MDA1'!K110, 'MDA2'!K110, 'T1'!M110, MAX(T3_R1!L110, T3_R2!L110)), MAX('MDA1'!L110, 'MDA2'!L110, 'T1'!N110, MAX(T3_R1!M110, T3_R2!M110)))","v":120206},{"$f":"IF(AND(COUNTRY_INFO!J110>1,COUNTRY_INFO!J110<4),IF(COUNTRY_INFO!E110>MAX('MDA2'!J110,'T1'!L110,MAX(T3_R1!K110,T3_R2!K110)),MAX('MDA2'!J110,'T1'!L110,MAX(T3_R1!K110,T3_R2!K110)),COUNTRY_INFO!E110),0)","v":0},{"$f":"IF(AND(COUNTRY_INFO!J110>1,COUNTRY_INFO!J110<4), IF(T110/COUNTRY_INFO!E110*100<>0, IF(T110/COUNTRY_INFO!E110*100>100,100,T110/COUNTRY_INFO!E110*100), \"-\"),0)","v":"-"},{"$f":"IF(AND(COUNTRY_INFO!J110>1,COUNTRY_INFO!J110<4),IF(COUNTRY_INFO!F110>MAX('MDA1'!K110,'MDA2'!K110,'T1'!M110,MAX(T3_R1!L110,T3_R2!L110)),MAX('MDA1'!K110,'MDA2'!K110,'T1'!M110,MAX(T3_R1!L110,T3_R2!L110)),COUNTRY_INFO!F110),0)","v":22959.346000000001},{"$f":"IF(AND(COUNTRY_INFO!J110>1,COUNTRY_INFO!J110<4), IF(V110/COUNTRY_INFO!F110*100<>0, IF(V110/COUNTRY_INFO!F110*100>100,100,V110/COUNTRY_INFO!F110*100), \"-\"),0)","v":98.792366609294319},22959.346000000001,{"$f":"IF(AND(COUNTRY_INFO!J110>1,COUNTRY_INFO!J110<4), IF(S110/P110*100<>0, IF(X110/P110*100>100,100,X110/P110*100), \"-\"),0)","v":38.616991287381843},{"$f":"COUNTRY_INFO!O110","v":28291.4},null,null,{"$f":"MAX('T1'!L110,'T2'!J110)+MAX('T1'!M110,'T2'!K110)+MAX('T1'!N110,'T2'!L110)","v":21915},{"$f":"IF(COUNTRY_INFO!K110=1,IF(COUNTRY_INFO!F110*0.33>MAX('T1'!M110,'T2'!K110),MAX('T1'!M110,'T2'!K110),COUNTRY_INFO!F110*0.33),IF(COUNTRY_INFO!K110=2,IF(COUNTRY_INFO!F110*0.5>MAX('T1'!M110,'T2'!K110),MAX('T1'!M110,'T2'!K110),COUNTRY_INFO!F110*0.5),IF(COUNTRY_INFO!K110=3,IF(COUNTRY_INFO!F110>MAX('T1'!M110,'T2'!K110),MAX('T1'!M110,'T2'!K110),COUNTRY_INFO!F110),0)))","v":11620},{"$f":"IF(AND(COUNTRY_INFO!K110>0,COUNTRY_INFO!K110<4),IF(Z110>0,IF(COUNTRY_INFO!K110=1, AD110/(COUNTRY_INFO!F110*0.33)*100, IF(COUNTRY_INFO!K110=2, AD110/(COUNTRY_INFO!F110*0.5)*100, IF(COUNTRY_INFO!K110=3, AD110/COUNTRY_INFO!F110*100))),\"-\"),0)","v":100},{"$f":"IF(COUNTRY_INFO!K110=2,IF(COUNTRY_INFO!G110*0.2>MAX('T1'!N110,'T2'!L110),MAX('T1'!N110,'T2'!L110),COUNTRY_INFO!G110*0.2),IF(COUNTRY_INFO!K110=3,IF(COUNTRY_INFO!G110>MAX('T1'!N110,'T2'!L110),MAX('T1'!N110,'T2'!L110),COUNTRY_INFO!G110),0))","v":0},{"$f":"IF(AND(COUNTRY_INFO!K110>0,COUNTRY_INFO!K110<4),IF(Z110>0,IF(COUNTRY_INFO!K110=1, 0, IF(COUNTRY_INFO!K110=2, AF110/(COUNTRY_INFO!G110*0.2)*100, IF(COUNTRY_INFO!K110=3, AF110/COUNTRY_INFO!G110*100))),\"-\"),0)","v":0},11620,{"$f":"IF(AND(COUNTRY_INFO!K110>0,COUNTRY_INFO!K110<4), IF(AC110/Z110*100<>0, IF(AH110/Z110*100>100,100,AH110/Z110*100), \"-\"),0)","v":41.072552082965139},null,{"$f":"IF(AND(D110<>0, D110<>\"Unknown\",D110<>\"Stopped\",D110<>\"Not required\"),D110/COUNTRY_INFO!D110, 0)","v":1},{"$f":"IF(AND(J110<>0,J110<>\"Unknown\",J110<>\"Stopped\",J110<>\"Not required\"),J110/COUNTRY_INFO!D110, 0)","v":0},{"$f":"IF(AND(P110<>0,P110<>\"Unknown\",P110<>\"Not required\"),P110/(COUNTRY_INFO!E110+COUNTRY_INFO!F110), 0)","v":1},{"$f":"IF(AND(Z110<>0,Z110<>\"Unknown\",Z110<>\"Not required\"),IF(COUNTRY_INFO!K110=1,1,IF(COUNTRY_INFO!K110=2,0.5*COUNTRY_INFO!F110/(0.5*COUNTRY_INFO!F110+0.2*COUNTRY_INFO!G110),IF(COUNTRY_INFO!K110=3,COUNTRY_INFO!F110/(COUNTRY_INFO!F110+COUNTRY_INFO!G110)))),0)","v":0.41072552082965141},{"$f":"IF(AND(Z110<>0,Z110<>\"Unknown\",Z110<>\"Not required\"),IF(COUNTRY_INFO!K110=1,0,IF(COUNTRY_INFO!K110=2,0.2*COUNTRY_INFO!G110/(0.5*COUNTRY_INFO!F110+0.2*COUNTRY_INFO!G110),IF(COUNTRY_INFO!K110=3,COUNTRY_INFO!G110/(COUNTRY_INFO!F110+COUNTRY_INFO!G110)))),0)","v":0.58927447917034859},{"$f":"MAX(COUNTRY_INFO!D110*AK110*PROFILE!$G$7,COUNTRY_INFO!D110*AL110*PROFILE!$G$7)","v":0},{"$f":"MAX(COUNTRY_INFO!D110*AK110*PROFILE!$G$8,COUNTRY_INFO!D110*AL110*PROFILE!$G$8,COUNTRY_INFO!D110*AM110*PROFILE!$G$8)","v":15856.394114639057},{"$f":"MAX(COUNTRY_INFO!D110*AK110*PROFILE!$G$9,COUNTRY_INFO!D110*AL110*PROFILE!$G$9,COUNTRY_INFO!D110*AM110*PROFILE!$G$9,IF(AND(DISTRICT!Z110<>\"Unknown\",Z110<>\"Not required\"),COUNTRY_INFO!O110*DISTRICT!AN110,0))","v":31100.664311448028},{"$f":"MAX(COUNTRY_INFO!D110*AK110*PROFILE!$G$10,COUNTRY_INFO!D110*AL110*PROFILE!$G$10,IF(AND(DISTRICT!Z110<>\"Unknown\",Z110<>\"Not required\"),COUNTRY_INFO!O110*DISTRICT!AO110,0))","v":95853.947081921418},142811.0055080085,"Y",{"$f":"MAX('MDA2'!J110,'T1'!L110,'T2'!J110,T3_R1!K110,T3_R2!K110)","v":0},{"$f":"MAX('MDA1'!K110,'MDA2'!K110,'MDA3'!I110,'MDA3'!L110,'T1'!M110,'T2'!K110,T3_R1!L110,T3_R2!L110)","v":22959.346000000001},{"$f":"MAX('MDA1'!L110,'MDA2'!L110,'MDA3'!J110,'MDA3'!M110,'T1'!N110,'T2'!L110,T3_R1!M110,T3_R2!M110)","v":97246.653999999995},120206,{"$f":"MAX('MDA2'!J110,T110)","v":0},{"$f":"MAX('MDA1'!K110,'MDA2'!K110,'MDA3'!I110,'MDA3'!L110,V110,AD110)","v":22959.346000000001},{"$f":"MAX('MDA1'!L110,'MDA2'!L110,'MDA3'!J110,'MDA3'!M110,AF110)","v":97246.653999999995},120206,84.171384111751195]
[{"$f":"IF(COUNTRY_INFO!A111=0,\" \",COUNTRY_INFO!A111)","v":"Tanzania"},{"$f":"IF(COUNTRY_INFO!B111=0,\" \",COUNTRY_INFO!B111)","v":"Mtwara"},{"$f":"IF(COUNTRY_INFO!C111=0,\" \",COUNTRY_INFO!C111)","v":"Nanyamba District Council"},{"$f":"COUNTRY_INFO!L111","v":"Stopped"},null,null,{"$f":"MAX('MDA1'!M111,'MDA2'!M111)","v":0},{"$f":"IF(AND(COUNTRY_INFO!H111>0,COUNTRY_INFO!H111<4),IF(D111>MAX('MDA1'!M111,'MDA2'!M111),MAX('MDA1'!M111,'MDA2'!M111),D111),0)","v":0},{"$f":"IF(AND(COUNTRY_INFO!H111>0,COUNTRY_INFO!H111<4), IF(G111/D111*100<>0, IF(G111/D111*100>100,100,G111/D111*100), \"-\"),0)","v":0},{"$f":"COUNTRY_INFO!M111","v":0},null,null,{"$f":"MAX('MDA1'!M111,MAX('MDA3'!I111,'MDA3'!L111)+MAX('MDA3'!J111,'MDA3'!M111))","v":0},{"$f":"IF(AND(COUNTRY_INFO!I111>0,COUNTRY_INFO!I111<4),IF(J111>MAX('MDA1'!M111,MAX('MDA3'!I111,'MDA3'!L111)+MAX('MDA3'!J111,'MDA3'!M111)),MAX('MDA1'!M111,MAX('MDA3'!I111,'MDA3'!L111)+MAX('MDA3'!J111,'MDA3'!M111)),J111),0)","v":0},{"$f":"IF(AND(COUNTRY_INFO!I111>0,COUNTRY_INFO!I111<4), IF(M111/J111*100<>0, IF(M111/J111*100>100,100,M111/J111*100), \"-\"),0)","v":0},{"$f":"COUNTRY_INFO!N111","v":35891},null,null,{"$f":"SUM(MAX('MDA2'!J111, 'T1'!L111, MAX(T3_R1!K111, T3_R2!K111)), MAX('MDA1'!K111, 'MDA2'!K111, 'T1'!M111, MAX(T3_R1!L111, T3_R2!L111)), MAX('MDA1'!L111, 'MDA2'!L111, 'T1'!N111, MAX(T3_R1!M111, T3_R2!M111)))","v":25499},{"$f":"IF(AND(COUNTRY_INFO!J111>1,COUNTRY_INFO!J111<4),IF(COUNTRY_INFO!E111>MAX('MDA2'!J111,'T1'!L111,MAX(T3_R1!K111,T3_R2!K111)),MAX('MDA2'!J111,'T1'!L111,MAX(T3_R1!K111,T3_R2!K111)),COUNTRY_INFO!E111),0)","v":0},{"$f":"IF(AND(COUNTRY_INFO!J111>1,COUNTRY_INFO!J111<4), IF(T111/COUNTRY_INFO!E111*100<>0, IF(T111/COUNTRY_INFO!E111*100>100,100,T111/COUNTRY_INFO!E111*100), \"-\"),0)","v":"-"},{"$f":"IF(AND(COUNTRY_INFO!J111>1,COUNTRY_INFO!J111<4),IF(COUNTRY_INFO!F111>MAX('MDA1'!K111,'MDA2'!K111,'T1'!M111,MAX(T3_R1!L111,T3_R2!L111)),MAX('MDA1'!K111,'MDA2'!K111,'T1'!M111,MAX(T3_R1!L111,T3_R2!L111)),COUNTRY_INFO!F111),0)","v":25499},{"$f":"IF(AND(COUNTRY_INFO!J111>1,COUNTRY_INFO!J111<4), IF(V111/COUNTRY_INFO!F111*100<>0, IF(V111/COUNTRY_INFO!F111*100>100,100,V111/COUNTRY_INFO!F111*100), \"-\"),0)","v":93.174260971242745},25499,{"$f":"IF(AND(COUNTRY_INFO!J111>1,COUNTRY_INFO!J111<4), IF(S111/P111*100<>0, IF(X111/P111*100>100,100,X111/P111*100), \"-\"),0)","v":71.045666044412243},{"$f":"COUNTRY_INFO!O111","v":104273},null,null,{"$f":"MAX('T1'!L111,'T2'!J111)+MAX('T1'!M111,'T2'!K111)+MAX('T1'!N111,'T2'!L111)","v":25499},{"$f":"IF(COUNTRY_INFO!K111=1,IF(COUNTRY_INFO!F111*0.33>MAX('T1'!M111,'T2'!K111),MAX('T1'!M111,'T2'!K111),COUNTRY_INFO!F111*0.33),IF(COUNTRY_INFO!K111=2,IF(COUNTRY_INFO!F111*0.5>MAX('T1'!M111,'T2'!K111),MAX('T1'!M111,'T2'!K111),COUNTRY_INFO!F111*0.5),IF(COUNTRY_INFO!K111=3,IF(COUNTRY_INFO!F111>MAX('T1'!M111,'T2'!K111),MAX('T1'!M111,'T2'!K111),COUNTRY_INFO!F111),0)))","v":25499},{"$f":"IF(AND(COUNTRY_INFO!K111>0,COUNTRY_INFO!K111<4),IF(Z111>0,IF(COUNTRY_INFO!K111=1, AD111/(COUNTRY_INFO!F111*0.33)*100, IF(COUNTRY_INFO!K111=2, AD111/(COUNTRY_INFO!F111*0.5)*100, IF(COUNTRY_INFO!K111=3, AD111/COUNTRY_INFO!F111*100))),\"-\"),0)","v":93.174260971242745},{"$f":"IF(COUNTRY_INFO!K111=2,IF(COUNTRY_INFO!G111*0.2>MAX('T1'!N111,'T2'!L111),MAX('T1'!N111,'T2'!L111),COUNTRY_INFO!G111*0.2),IF(COUNTRY_INFO!K111=3,IF(COUNTRY_INFO!G111>MAX('T1'!N111,'T2'!L111),MAX('T1'!N111,'T2'!L111),COUNTRY_INFO!G111),0))","v":0},{"$f":"IF(AND(COUNTRY_INFO!K111>0,COUNTRY_INFO!K111<4),IF(Z111>0,IF(COUNTRY_INFO!K111=1, 0, IF(COUNTRY_INFO!K111=2, AF111/(COUNTRY_INFO!G111*0.2)*100, IF(COUNTRY_INFO!K111=3, AF111/COUNTRY_INFO!G111*100))),\"-\"),0)","v":0},25499,{"$f":"IF(AND(COUNTRY_INFO!K111>0,COUNTRY_INFO!K111<4), IF(AC111/Z111*100<>0, IF(AH111/Z111*100>100,100,AH111/Z111*100), \"-\"),0)","v":24.454077277914703},null,{"$f":"IF(AND(D111<>0, D111<>\"Unknown\",D111<>\"Stopped\",D111<>\"Not required\"),D111/COUNTRY_INFO!D111, 0)","v":0},{"$f":"IF(AND(J111<>0,J111<>\"Unknown\",J111<>\"Stopped\",J111<>\"Not required\"),J111/COUNTRY_INFO!D111, 0)","v":0},{"$f":"IF(AND(P111<>0,P111<>\"Unknown\",P111<>\"Not required\"),P111/(COUNTRY_INFO!E111+COUNTRY_INFO!F111), 0)","v":1},{"$f":"IF(AND(Z111<>0,Z111<>\"Unknown\",Z111<>\"Not required\"),IF(COUNTRY_INFO!K111=1,1,IF(COUNTRY_INFO!K111=2,0.5*COUNTRY_INFO!F111/(0.5*COUNTRY_INFO!F111+0.2*COUNTRY_INFO!G111),IF(COUNTRY_INFO!K111=3,COUNTRY_INFO!F111/(COUNTRY_INFO!F111+COUNTRY_INFO!G111)))),0)","v":0.26245528564441417},{"$f":"IF(AND(Z111<>0,Z111<>\"Unknown\",Z111<>\"Not required\"),IF(COUNTRY_INFO!K111=1,0,IF(COUNTRY_INFO!K111=2,0.2*COUNTRY_INFO!G111/(0.5*COUNTRY_INFO!F111+0.2*COUNTRY_INFO!G111),IF(COUNTRY_INFO!K111=3,COUNTRY_INFO!G111/(COUNTRY_INFO!F111+COUNTRY_INFO!G111)))),0)","v":0.73754471435558577},{"$f":"MAX(COUNTRY_INFO!D111*AK111*PROFILE!$G$7,COUNTRY_INFO!D111*AL111*PROFILE!$G$7)","v":0},{"$f":"MAX(COUNTRY_INFO!D111*AK111*PROFILE!$G$8,COUNTRY_INFO!D111*AL111*PROFILE!$G$8,COUNTRY_INFO!D111*AM111*PROFILE!$G$8)","v":12523.921035136942},{"$f":"MAX(COUNTRY_INFO!D111*AK111*PROFILE!$G$9,COUNTRY_INFO!D111*AL111*PROFILE!$G$9,COUNTRY_INFO!D111*AM111*PROFILE!$G$9,IF(AND(DISTRICT!Z111<>\"Unknown\",Z111<>\"Not required\"),COUNTRY_INFO!O111*DISTRICT!AN111,0))","v":27367},{"$f":"MAX(COUNTRY_INFO!D111*AK111*PROFILE!$G$10,COUNTRY_INFO!D111*AL111*PROFILE!$G$10,IF(AND(DISTRICT!Z111<>\"Unknown\",Z111<>\"Not required\"),COUNTRY_INFO!O111*DISTRICT!AO111,0))","v":76906},116796.92103513694,"Y",{"$f":"MAX('MDA2'!J111,'T1'!L111,'T2'!J111,T3_R1!K111,T3_R2!K111)","v":0},{"$f":"MAX('MDA1'!K111,'MDA2'!K111,'MDA3'!I111,'MDA3'!L111,'T1'!M111,'T2'!K111,T3_R1!L111,T3_R2!L111)","v":25499},{"$f":"MAX('MDA1'!L111,'MDA2'!L111,'MDA3'!J111,'MDA3'!M111,'T1'!N111,'T2'!L111,T3_R1!M111,T3_R2!M111)","v":0},25499,{"$f":"MAX('MDA2'!J111,T111)","v":0},{"$f":"MAX('MDA1'!K111,'MDA2'!K111,'MDA3'!I111,'MDA3'!L111,V111,AD111)","v":25499},{"$f":"MAX('MDA1'!L111,'MDA2'!L111,'MDA3'!J111,'MDA3'!M111,AF111)","v":0},25499,21.831911127459374]
[{"$f":"IF(COUNTRY_INFO!A112=0,\" \",COUNTRY_INFO!A112)","v":"Tanzania"},{"$f":"IF(COUNTRY_INFO!B112=0,\" \",COUNTRY_INFO!B112)","v":"Mtwara"},{"$f":"IF(COUNTRY_INFO!C112=0,\" \",COUNTRY_INFO!C112)","v":"Nanyumbu District Council"},{"$f":"COUNTRY_INFO!L112","v":"Stopped"},null,null,{"$f":"MAX('MDA1'!M112,'MDA2'!M112)","v":0},{"$f":"IF(AND(COUNTRY_INFO!H112>0,COUNTRY_INFO!H112<4),IF(D112>MAX('MDA1'!M112,'MDA2'!M112),MAX('MDA1'!M112,'MDA2'!M112),D112),0)","v":0},{"$f":"IF(AND(COUNTRY_INFO!H112>0,COUNTRY_INFO!H112<4), IF(G112/D112*100<>0, IF(G112/D112*100>100,100,G112/D112*100), \"-\"),0)","v":0},{"$f":"COUNTRY_INFO!M112","v":0},null,null,{"$f":"MAX('MDA1'!M112,MAX('MDA3'!I112,'MDA3'!L112)+MAX('MDA3'!J112,'MDA3'!M112))","v":0},{"$f":"IF(AND(COUNTRY_INFO!I112>0,COUNTRY_INFO!I112<4),IF(J112>MAX('MDA1'!M112,MAX('MDA3'!I112,'MDA3'!L112)+MAX('MDA3'!J112,'MDA3'!M112)),MAX('MDA1'!M112,MAX('MDA3'!I112,'MDA3'!L112)+MAX('MDA3'!J112,'MDA3'!M112)),J112),0)","v":0},{"$f":"IF(AND(COUNTRY_INFO!I112>0,COUNTRY_INFO!I112<4), IF(M112/J112*100<>0, IF(M112/J112*100>100,100,M112/J112*100), \"-\"),0)","v":0},{"$f":"COUNTRY_INFO!N112","v":52044},null,null,{"$f":"SUM(MAX('MDA2'!J112, 'T1'!L112, MAX(T3_R1!K112, T3_R2!K112)), MAX('MDA1'!K112, 'MDA2'!K112, 'T1'!M112, MAX(T3_R1!L112, T3_R2!L112)), MAX('MDA1'!L112, 'MDA2'!L112, 'T1'!N112, MAX(T3_R1!M112, T3_R2!M112)))","v":32638},{"$f":"IF(AND(COUNTRY_INFO!J112>1,COUNTRY_INFO!J112<4),IF(COUNTRY_INFO!E112>MAX('MDA2'!J112,'T1'!L112,MAX(T3_R1!K112,T3_R2!K112)),MAX('MDA2'!J112,'T1'!L112,MAX(T3_R1!K112,T3_R2!K112)),COUNTRY_INFO!E112),0)","v":0},{"$f":"IF(AND(COUNTRY_INFO!J112>1,COUNTRY_INFO!J112<4), IF(T112/COUNTRY_INFO!E112*100<>0, IF(T112/COUNTRY_INFO!E112*100>100,100,T112/COUNTRY_INFO!E112*100), \"-\"),0)","v":"-"},{"$f":"IF(AND(COUNTRY_INFO!J112>1,COUNTRY_INFO!J112<4),IF(COUNTRY_INFO!F112>MAX('MDA1'!K112,'MDA2'!K112,'T1'!M112,MAX(T3_R1!L112,T3_R2!L112)),MAX('MDA1'!K112,'MDA2'!K112,'T1'!M112,MAX(T3_R1!L112,T3_R2!L112)),COUNTRY_INFO!F112),0)","v":32638},{"$f":"IF(AND(COUNTRY_INFO!J112>1,COUNTRY_INFO!J112<4), IF(V112/COUNTRY_INFO!F112*100<>0, IF(V112/COUNTRY_INFO!F112*100>100,100,V112/COUNTRY_INFO!F112*100), \"-\"),0)","v":94.149887497836488},32638,{"$f":"IF(AND(COUNTRY_INFO!J112>1,COUNTRY_INFO!J112<4), IF(S112/P112*100<>0, IF(X112/P112*100>100,100,X112/P112*100), \"-\"),0)","v":62.712320344324034},{"$f":"COUNTRY_INFO!O112","v":144672},null,null,{"$f":"MAX('T1'!L112,'T2'!J112)+MAX('T1'!M112,'T2'!K112)+MAX('T1'!N112,'T2'!L112)","v":32638},{"$f":"IF(COUNTRY_INFO!K112=1,IF(COUNTRY_INFO!F112*0.33>MAX('T1'!M112,'T2'!K112),MAX('T1'!M112,'T2'!K112),COUNTRY_INFO!F112*0.33),IF(COUNTRY_INFO!K112=2,IF(COUNTRY_INFO!F112*0.5>MAX('T1'!M112,'T2'!K112),MAX('T1'!M112,'T2'!K112),COUNTRY_INFO!F112*0.5),IF(COUNTRY_INFO!K112=3,IF(COUNTRY_INFO!F112>MAX('T1'!M112,'T2'!K112),MAX('T1'!M112,'T2'!K112),COUNTRY_INFO!F112),0)))","v":32638},{"$f":"IF(AND(COUNTRY_INFO!K112>0,COUNTRY_INFO!K112<4),IF(Z112>0,IF(COUNTRY_INFO!K112=1, AD112/(COUNTRY_INFO!F112*0.33)*100, IF(COUNTRY_INFO!K112=2, AD112/(COUNTRY_INFO!F112*0.5)*100, IF(COUNTRY_INFO!K112=3, AD112/COUNTRY_INFO!F112*100))),\"-\"),0)","v":94.149887497836488},{"$f":"IF(COUNTRY_INFO!K112=2,IF(COUNTRY_INFO!G112*0.2>MAX('T1'!N112,'T2'!L112),MAX('T1'!N112,'T2'!L112),COUNTRY_INFO!G112*0.2),IF(COUNTRY_INFO!K112=3,IF(COUNTRY_INFO!G112>MAX('T1'!N112,'T2'!L112),MAX('T1'!N112,'T2'!L112),COUNTRY_INFO!G112),0))","v":0},{"$f":"IF(AND(COUNTRY_INFO!K112>0,COUNTRY_INFO!K112<4),IF(Z112>0,IF(COUNTRY_INFO!K112=1, 0, IF(COUNTRY_INFO!K112=2, AF112/(COUNTRY_INFO!G112*0.2)*100, IF(COUNTRY_INFO!K112=3, AF112/COUNTRY_INFO!G112*100))),\"-\"),0)","v":0},32638,{"$f":"IF(AND(COUNTRY_INFO!K112>0,COUNTRY_INFO!K112<4), IF(AC112/Z112*100<>0, IF(AH112/Z112*100>100,100,AH112/Z112*100), \"-\"),0)","v":22.559997788099977},null,{"$f":"IF(AND(D112<>0, D112<>\"Unknown\",D112<>\"Stopped\",D112<>\"Not required\"),D112/COUNTRY_INFO!D112, 0)","v":0},{"$f":"IF(AND(J112<>0,J112<>\"Unknown\",J112<>\"Stopped\",J112<>\"Not required\"),J112/COUNTRY_INFO!D112, 0)","v":0},{"$f":"IF(AND(P112<>0,P112<>\"Unknown\",P112<>\"Not required\"),P112/(COUNTRY_INFO!E112+COUNTRY_INFO!F112), 0)","v":1},{"$f":"IF(AND(Z112<>0,Z112<>\"Unknown\",Z112<>\"Not required\"),IF(COUNTRY_INFO!K112=1,1,IF(COUNTRY_INFO!K112=2,0.5*COUNTRY_INFO!F112/(0.5*COUNTRY_INFO!F112+0.2*COUNTRY_INFO!G112),IF(COUNTRY_INFO!K112=3,COUNTRY_INFO!F112/(COUNTRY_INFO!F112+COUNTRY_INFO!G112)))),0)","v":0.23961789427117894},{"$f":"IF(AND(Z112<>0,Z112<>\"Unknown\",Z112<>\"Not required\"),IF(COUNTRY_INFO!K112=1,0,IF(COUNTRY_INFO!K112=2,0.2*COUNTRY_INFO!G112/(0.5*COUNTRY_INFO!F112+0.2*COUNTRY_INFO!G112),IF(COUNTRY_INFO!K112=3,COUNTRY_INFO!G112/(COUNTRY_INFO!F112+COUNTRY_INFO!G112)))),0)","v":0.76038210572882103},{"$f":"MAX(COUNTRY_INFO!D112*AK112*PROFILE!$G$7,COUNTRY_INFO!D112*AL112*PROFILE!$G$7)","v":0},{"$f":"MAX(COUNTRY_INFO!D112*AK112*PROFILE!$G$8,COUNTRY_INFO!D112*AL112*PROFILE!$G$8,COUNTRY_INFO!D112*AM112*PROFILE!$G$8)","v":17992.512245396079},{"$f":"MAX(COUNTRY_INFO!D112*AK112*PROFILE!$G$9,COUNTRY_INFO!D112*AL112*PROFILE!$G$9,COUNTRY_INFO!D112*AM112*PROFILE!$G$9,IF(AND(DISTRICT!Z112<>\"Unknown\",Z112<>\"Not required\"),COUNTRY_INFO!O112*DISTRICT!AN112,0))","v":35290.437372962537},{"$f":"MAX(COUNTRY_INFO!D112*AK112*PROFILE!$G$10,COUNTRY_INFO!D112*AL112*PROFILE!$G$10,IF(AND(DISTRICT!Z112<>\"Unknown\",Z112<>\"Not required\"),COUNTRY_INFO!O112*DISTRICT!AO112,0))","v":110006},163288.94961835863,"Y",{"$f":"MAX('MDA2'!J112,'T1'!L112,'T2'!J112,T3_R1!K112,T3_R2!K112)","v":0},{"$f":"MAX('MDA1'!K112,'MDA2'!K112,'MDA3'!I112,'MDA3'!L112,'T1'!M112,'T2'!K112,T3_R1!L112,T3_R2!L112)","v":32638},{"$f":"MAX('MDA1'!L112,'MDA2'!L112,'MDA3'!J112,'MDA3'!M112,'T1'!N112,'T2'!L112,T3_R1!M112,T3_R2!M112)","v":0},32638,{"$f":"MAX('MDA2'!J112,T112)","v":0},{"$f":"MAX('MDA1'!K112,'MDA2'!K112,'MDA3'!I112,'MDA3'!L112,V112,AD112)","v":32638},{"$f":"MAX('MDA1'!L112,'MDA2'!L112,'MDA3'!J112,'MDA3'!M112,AF112)","v":0},32638,19.987880426864169]
[{"$f":"IF(COUNTRY_INFO!A113=0,\" \",COUNTRY_INFO!A113)","v":"Tanzania"},{"$f":"IF(COUNTRY_INFO!B113=0,\" \",COUNTRY_INFO!B113)","v":"Mtwara"},{"$f":"IF(COUNTRY_INFO!C113=0,\" \",COUNTRY_INFO!C113)","v":"Newala District Council"},{"$f":"COUNTRY_INFO!L113","v":"Stopped"},null,null,{"$f":"MAX('MDA1'!M113,'MDA2'!M113)","v":0},{"$f":"IF(AND(COUNTRY_INFO!H113>0,COUNTRY_INFO!H113<4),IF(D113>MAX('MDA1'!M113,'MDA2'!M113),MAX('MDA1'!M113,'MDA2'!M113),D113),0)","v":0},{"$f":"IF(AND(COUNTRY_INFO!H113>0,COUNTRY_INFO!H113<4), IF(G113/D113*100<>0, IF(G113/D113*100>100,100,G113/D113*100), \"-\"),0)","v":0},{"$f":"COUNTRY_INFO!M113","v":0},null,null,{"$f":"MAX('MDA1'!M113,MAX('MDA3'!I113,'MDA3'!L113)+MAX('MDA3'!J113,'MDA3'!M113))","v":0},{"$f":"IF(AND(COUNTRY_INFO!I113>0,COUNTRY_INFO!I113<4),IF(J113>MAX('MDA1'!M113,MAX('MDA3'!I113,'MDA3'!L113)+MAX('MDA3'!J113,'MDA3'!M113)),MAX('MDA1'!M113,MAX('MDA3'!I113,'MDA3'!L113)+MAX('MDA3'!J113,'MDA3'!M113)),J113),0)","v":0},{"$f":"IF(AND(COUNTRY_INFO!I113>0,COUNTRY_INFO!I113<4), IF(M113/J113*100<>0, IF(M113/J113*100>100,100,M113/J113*100), \"-\"),0)","v":0},{"$f":"COUNTRY_INFO!N113","v":37750},null,null,{"$f":"SUM(MAX('MDA2'!J113, 'T1'!L113, MAX(T3_R1!K113, T3_R2!K113)), MAX('MDA1'!K113, 'MDA2'!K113, 'T1'!M113, MAX(T3_R1!L113, T3_R2!L113)), MAX('MDA1'!L113, 'MDA2'!L113, 'T1'!N113, MAX(T3_R1!M113, T3_R2!M113)))","v":23592},{"$f":"IF(AND(COUNTRY_INFO!J113>1,COUNTRY_INFO!J113<4),IF(COUNTRY_INFO!E113>MAX('MDA2'!J113,'T1'!L113,MAX(T3_R1!K113,T3_R2!K113)),MAX('MDA2'!J113,'T1'!L113,MAX(T3_R1!K113,T3_R2!K113)),COUNTRY_INFO!E113),0)","v":0},{"$f":"IF(AND(COUNTRY_INFO!J113>1,COUNTRY_INFO!J113<4), IF(T113/COUNTRY_INFO!E113*100<>0, IF(T113/COUNTRY_INFO!E113*100>100,100,T113/COUNTRY_INFO!E113*100), \"-\"),0)","v":"-"},{"$f":"IF(AND(COUNTRY_INFO!J113>1,COUNTRY_INFO!J113<4),IF(COUNTRY_INFO!F113>MAX('MDA1'!K113,'MDA2'!K113,'T1'!M113,MAX(T3_R1!L113,T3_R2!L113)),MAX('MDA1'!K113,'MDA2'!K113,'T1'!M113,MAX(T3_R1!L113,T3_R2!L113)),COUNTRY_INFO!F113),0)","v":23592},{"$f":"IF(AND(COUNTRY_INFO!J113>1,COUNTRY_INFO!J113<4), IF(V113/COUNTRY_INFO!F113*100<>0, IF(V113/COUNTRY_INFO!F113*100>100,100,V113/COUNTRY_INFO!F113*100), \"-\"),0)","v":96.121251629726203},23592,{"$f":"IF(AND(COUNTRY_INFO!J113>1,COUNTRY_INFO!J113<4), IF(S113/P113*100<>0, IF(X113/P113*100>100,100,X113/P113*100), \"-\"),0)","v":62.495364238410602},{"$f":"COUNTRY_INFO!O113","v":29695},null,null,{"$f":"MAX('T1'!L113,'T2'!J113)+MAX('T1'!M113,'T2'!K113)+MAX('T1'!N113,'T2'!L113)","v":0},{"$f":"IF(COUNTRY_INFO!K113=1,IF(COUNTRY_INFO!F113*0.33>MAX('T1'!M113,'T2'!K113),MAX('T1'!M113,'T2'!K113),COUNTRY_INFO!F113*0.33),IF(COUNTRY_INFO!K113=2,IF(COUNTRY_INFO!F113*0.5>MAX('T1'!M113,'T2'!K113),MAX('T1'!M113,'T2'!K113),COUNTRY_INFO!F113*0.5),IF(COUNTRY_INFO!K113=3,IF(COUNTRY_INFO!F113>MAX('T1'!M113,'T2'!K113),MAX('T1'!M113,'T2'!K113),COUNTRY_INFO!F113),0)))","v":0},{"$f":"IF(AND(COUNTRY_INFO!K113>0,COUNTRY_INFO!K113<4),IF(Z113>0,IF(COUNTRY_INFO!K113=1, AD113/(COUNTRY_INFO!F113*0.33)*100, IF(COUNTRY_INFO!K113=2, AD113/(COUNTRY_INFO!F113*0.5)*100, IF(COUNTRY_INFO!K113=3, AD113/COUNTRY_INFO!F113*100))),\"-\"),0)","v":0},{"$f":"IF(COUNTRY_INFO!K113=2,IF(COUNTRY_INFO!G113*0.2>MAX('T1'!N113,'T2'!L113),MAX('T1'!N113,'T2'!L113),COUNTRY_INFO!G113*0.2),IF(COUNTRY_INFO!K113=3,IF(COUNTRY_INFO!G113>MAX('T1'!N113,'T2'!L113),MAX('T1'!N113,'T2'!L113),COUNTRY_INFO!G113),0))","v":0},{"$f":"IF(AND(COUNTRY_INFO!K113>0,COUNTRY_INFO!K113<4),IF(Z113>0,IF(COUNTRY_INFO!K113=1, 0, IF(COUNTRY_INFO!K113=2, AF113/(COUNTRY_INFO!G113*0.2)*100, IF(COUNTRY_INFO!K113=3, AF113/COUNTRY_INFO!G113*100))),\"-\"),0)","v":0},0,{"$f":"IF(AND(COUNTRY_INFO!K113>0,COUNTRY_INFO!K113<4), IF(AC113/Z113*100<>0, IF(AH113/Z113*100>100,100,AH113/Z113*100), \"-\"),0)","v":"-"},null,{"$f":"IF(AND(D113<>0, D113<>\"Unknown\",D113<>\"Stopped\",D113<>\"Not required\"),D113/COUNTRY_INFO!D113, 0)","v":0},{"$f":"IF(AND(J113<>0,J113<>\"Unknown\",J113<>\"Stopped\",J113<>\"Not required\"),J113/COUNTRY_INFO!D113, 0)","v":0},{"$f":"IF(AND(P113<>0,P113<>\"Unknown\",P113<>\"Not required\"),P113/(COUNTRY_INFO!E113+COUNTRY_INFO!F113), 0)","v":1},{"$f":"IF(AND(Z113<>0,Z113<>\"Unknown\",Z113<>\"Not required\"),IF(COUNTRY_INFO!K113=1,1,IF(COUNTRY_INFO!K113=2,0.5*COUNTRY_INFO!F113/(0.5*COUNTRY_INFO!F113+0.2*COUNTRY_INFO!G113),IF(COUNTRY_INFO!K113=3,COUNTRY_INFO!F113/(COUNTRY_INFO!F113+COUNTRY_INFO!G113)))),0)","v":0.4132682269742381},{"$f":"IF(AND(Z113<>0,Z113<>\"Unknown\",Z113<>\"Not required\"),IF(COUNTRY_INFO!K113=1,0,IF(COUNTRY_INFO!K113=2,0.2*COUNTRY_INFO!G113/(0.5*COUNTRY_INFO!F113+0.2*COUNTRY_INFO!G113),IF(COUNTRY_INFO!K113=3,COUNTRY_INFO!G113/(COUNTRY_INFO!F113+COUNTRY_INFO!G113)))),0)","v":0.58673177302576196},{"$f":"MAX(COUNTRY_INFO!D113*AK113*PROFILE!$G$7,COUNTRY_INFO!D113*AL113*PROFILE!$G$7)","v":0},{"$f":"MAX(COUNTRY_INFO!D113*AK113*PROFILE!$G$8,COUNTRY_INFO!D113*AL113*PROFILE!$G$8,COUNTRY_INFO!D113*AM113*PROFILE!$G$8)","v":13863.838577731449},{"$f":"MAX(COUNTRY_INFO!D113*AK113*PROFILE!$G$9,COUNTRY_INFO!D113*AL113*PROFILE!$G$9,COUNTRY_INFO!D113*AM113*PROFILE!$G$9,IF(AND(DISTRICT!Z113<>\"Unknown\",Z113<>\"Not required\"),COUNTRY_INFO!O113*DISTRICT!AN113,0))","v":27192.47431394611},{"$f":"MAX(COUNTRY_INFO!D113*AK113*PROFILE!$G$10,COUNTRY_INFO!D113*AL113*PROFILE!$G$10,IF(AND(DISTRICT!Z113<>\"Unknown\",Z113<>\"Not required\"),COUNTRY_INFO!O113*DISTRICT!AO113,0))","v":17423},58479.31289167756,0,{"$f":"MAX('MDA2'!J113,'T1'!L113,'T2'!J113,T3_R1!K113,T3_R2!K113)","v":0},{"$f":"MAX('MDA1'!K113,'MDA2'!K113,'MDA3'!I113,'MDA3'!L113,'T1'!M113,'T2'!K113,T3_R1!L113,T3_R2!L113)","v":23592},{"$f":"MAX('MDA1'!L113,'MDA2'!L113,'MDA3'!J113,'MDA3'!M113,'T1'!N113,'T2'!L113,T3_R1!M113,T3_R2!M113)","v":0},23592,{"$f":"MAX('MDA2'!J113,T113)","v":0},{"$f":"MAX('MDA1'!K113,'MDA2'!K113,'MDA3'!I113,'MDA3'!L113,V113,AD113)","v":23592},{"$f":"MAX('MDA1'!L113,'MDA2'!L113,'MDA3'!J113,'MDA3'!M113,AF113)","v":0},23592,40.342471266206474]
[{"$f":"IF(COUNTRY_INFO!A114=0,\" \",COUNTRY_INFO!A114)","v":"Tanzania"},{"$f":"IF(COUNTRY_INFO!B114=0,\" \",COUNTRY_INFO!B114)","v":"Mtwara"},{"$f":"IF(COUNTRY_INFO!C114=0,\" \",COUNTRY_INFO!C114)","v":"Newala Town Council"},{"$f":"COUNTRY_INFO!L114","v":"Stopped"},null,null,{"$f":"MAX('MDA1'!M114,'MDA2'!M114)","v":0},{"$f":"IF(AND(COUNTRY_INFO!H114>0,COUNTRY_INFO!H114<4),IF(D114>MAX('MDA1'!M114,'MDA2'!M114),MAX('MDA1'!M114,'MDA2'!M114),D114),0)","v":0},{"$f":"IF(AND(COUNTRY_INFO!H114>0,COUNTRY_INFO!H114<4), IF(G114/D114*100<>0, IF(G114/D114*100>100,100,G114/D114*100), \"-\"),0)","v":0},{"$f":"COUNTRY_INFO!M114","v":0},null,null,{"$f":"MAX('MDA1'!M114,MAX('MDA3'!I114,'MDA3'!L114)+MAX('MDA3'!J114,'MDA3'!M114))","v":0},{"$f":"IF(AND(COUNTRY_INFO!I114>0,COUNTRY_INFO!I114<4),IF(J114>MAX('MDA1'!M114,MAX('MDA3'!I114,'MDA3'!L114)+MAX('MDA3'!J114,'MDA3'!M114)),MAX('MDA1'!M114,MAX('MDA3'!I114,'MDA3'!L114)+MAX('MDA3'!J114,'MDA3'!M114)),J114),0)","v":0},{"$f":"IF(AND(COUNTRY_INFO!I114>0,COUNTRY_INFO!I114<4), IF(M114/J114*100<>0, IF(M114/J114*100>100,100,M114/J114*100), \"-\"),0)","v":0},{"$f":"COUNTRY_INFO!N114","v":28985},null,null,{"$f":"SUM(MAX('MDA2'!J114, 'T1'!L114, MAX(T3_R1!K114, T3_R2!K114)), MAX('MDA1'!K114, 'MDA2'!K114, 'T1'!M114, MAX(T3_R1!L114, T3_R2!L114)), MAX('MDA1'!L114, 'MDA2'!L114, 'T1'!N114, MAX(T3_R1!M114, T3_R2!M114)))","v":19105},{"$f":"IF(AND(COUNTRY_INFO!J114>1,COUNTRY_INFO!J114<4),IF(COUNTRY_INFO!E114>MAX('MDA2'!J114,'T1'!L114,MAX(T3_R1!K114,T3_R2!K114)),MAX('MDA2'!J114,'T1'!L114,MAX(T3_R1!K114,T3_R2!K114)),COUNTRY_INFO!E114),0)","v":0},{"$f":"IF(AND(COUNTRY_INFO!J114>1,COUNTRY_INFO!J114<4), IF(T114/COUNTRY_INFO!E114*100<>0, IF(T114/COUNTRY_INFO!E114*100>100,100,T114/COUNTRY_INFO!E114*100), \"-\"),0)","v":"-"},{"$f":"IF(AND(COUNTRY_INFO!J114>1,COUNTRY_INFO!J114<4),IF(COUNTRY_INFO!F114>MAX('MDA1'!K114,'MDA2'!K114,'T1'!M114,MAX(T3_R1!L114,T3_R2!L114)),MAX('MDA1'!K114,'MDA2'!K114,'T1'!M114,MAX(T3_R1!L114,T3_R2!L114)),COUNTRY_INFO!F114),0)","v":19105},{"$f":"IF(AND(COUNTRY_INFO!J114>1,COUNTRY_INFO!J114<4), IF(V114/COUNTRY_INFO!F114*100<>0, IF(V114/COUNTRY_INFO!F114*100>100,100,V114/COUNTRY_INFO!F114*100), \"-\"),0)","v":91.380877218156598},19105,{"$f":"IF(AND(COUNTRY_INFO!J114>1,COUNTRY_INFO!J114<4), IF(S114/P114*100<>0, IF(X114/P114*100>100,100,X114/P114*100), \"-\"),0)","v":65.913403484560988},{"$f":"COUNTRY_INFO!O114","v":23831.1},null,null,{"$f":"MAX('T1'!L114,'T2'!J114)+MAX('T1'!M114,'T2'!K114)+MAX('T1'!N114,'T2'!L114)","v":0},{"$f":"IF(COUNTRY_INFO!K114=1,IF(COUNTRY_INFO!F114*0.33>MAX('T1'!M114,'T2'!K114),MAX('T1'!M114,'T2'!K114),COUNTRY_INFO!F114*0.33),IF(COUNTRY_INFO!K114=2,IF(COUNTRY_INFO!F114*0.5>MAX('T1'!M114,'T2'!K114),MAX('T1'!M114,'T2'!K114),COUNTRY_INFO!F114*0.5),IF(COUNTRY_INFO!K114=3,IF(COUNTRY_INFO!F114>MAX('T1'!M114,'T2'!K114),MAX('T1'!M114,'T2'!K114),COUNTRY_INFO!F114),0)))","v":0},{"$f":"IF(AND(COUNTRY_INFO!K114>0,COUNTRY_INFO!K114<4),IF(Z114>0,IF(COUNTRY_INFO!K114=1, AD114/(COUNTRY_INFO!F114*0.33)*100, IF(COUNTRY_INFO!K114=2, AD114/(COUNTRY_INFO!F114*0.5)*100, IF(COUNTRY_INFO!K114=3, AD114/COUNTRY_INFO!F114*100))),\"-\"),0)","v":0},{"$f":"IF(COUNTRY_INFO!K114=2,IF(COUNTRY_INFO!G114*0.2>MAX('T1'!N114,'T2'!L114),MAX('T1'!N114,'T2'!L114),COUNTRY_INFO!G114*0.2),IF(COUNTRY_INFO!K114=3,IF(COUNTRY_INFO!G114>MAX('T1'!N114,'T2'!L114),MAX('T1'!N114,'T2'!L114),COUNTRY_INFO!G114),0))","v":0},{"$f":"IF(AND(COUNTRY_INFO!K114>0,COUNTRY_INFO!K114<4),IF(Z114>0,IF(COUNTRY_INFO!K114=1, 0, IF(COUNTRY_INFO!K114=2, AF114/(COUNTRY_INFO!G114*0.2)*100, IF(COUNTRY_INFO!K114=3, AF114/COUNTRY_INFO!G114*100))),\"-\"),0)","v":0},0,{"$f":"IF(AND(COUNTRY_INFO!K114>0,COUNTRY_INFO!K114<4), IF(AC114/Z114*100<>0, IF(AH114/Z114*100>100,100,AH114/Z114*100), \"-\"),0)","v":"-"},null,{"$f":"IF(AND(D114<>0, D114<>\"Unknown\",D114<>\"Stopped\",D114<>\"Not required\"),D114/COUNTRY_INFO!D114, 0)","v":0},{"$f":"IF(AND(J114<>0,J114<>\"Unknown\",J114<>\"Stopped\",J114<>\"Not required\"),J114/COUNTRY_INFO!D114, 0)","v":0},{"$f":"IF(AND(P114<>0,P114<>\"Unknown\",P114<>\"Not required\"),P114/(COUNTRY_INFO!E114+COUNTRY_INFO!F114), 0)","v":1},{"$f":"IF(AND(Z114<>0,Z114<>\"Unknown\",Z114<>\"Not required\"),IF(COUNTRY_INFO!K114=1,1,IF(COUNTRY_INFO!K114=2,0.5*COUNTRY_INFO!F114/(0.5*COUNTRY_INFO!F114+0.2*COUNTRY_INFO!G114),IF(COUNTRY_INFO!K114=3,COUNTRY_INFO!F114/(COUNTRY_INFO!F114+COUNTRY_INFO!G114)))),0)","v":0.43864949582688173},{"$f":"IF(AND(Z114<>0,Z114<>\"Unknown\",Z114<>\"Not required\"),IF(COUNTRY_INFO!K114=1,0,IF(COUNTRY_INFO!K114=2,0.2*COUNTRY_INFO!G114/(0.5*COUNTRY_INFO!F114+0.2*COUNTRY_INFO!G114),IF(COUNTRY_INFO!K114=3,COUNTRY_INFO!G114/(COUNTRY_INFO!F114+COUNTRY_INFO!G114)))),0)","v":0.56135050417311838},{"$f":"MAX(COUNTRY_INFO!D114*AK114*PROFILE!$G$7,COUNTRY_INFO!D114*AL114*PROFILE!$G$7)","v":0},{"$f":"MAX(COUNTRY_INFO!D114*AK114*PROFILE!$G$8,COUNTRY_INFO!D114*AL114*PROFILE!$G$8,COUNTRY_INFO!D114*AM114*PROFILE!$G$8)","v":10644.838793599865},{"$f":"MAX(COUNTRY_INFO!D114*AK114*PROFILE!$G$9,COUNTRY_INFO!D114*AL114*PROFILE!$G$9,COUNTRY_INFO!D114*AM114*PROFILE!$G$9,IF(AND(DISTRICT!Z114<>\"Unknown\",Z114<>\"Not required\"),COUNTRY_INFO!O114*DISTRICT!AN114,0))","v":20878.741760308778},{"$f":"MAX(COUNTRY_INFO!D114*AK114*PROFILE!$G$10,COUNTRY_INFO!D114*AL114*PROFILE!$G$10,IF(AND(DISTRICT!Z114<>\"Unknown\",Z114<>\"Not required\"),COUNTRY_INFO!O114*DISTRICT!AO114,0))","v":13377.6},44901.180553908642,0,{"$f":"MAX('MDA2'!J114,'T1'!L114,'T2'!J114,T3_R1!K114,T3_R2!K114)","v":0},{"$f":"MAX('MDA1'!K114,'MDA2'!K114,'MDA3'!I114,'MDA3'!L114,'T1'!M114,'T2'!K114,T3_R1!L114,T3_R2!L114)","v":19105},{"$f":"MAX('MDA1'!L114,'MDA2'!L114,'MDA3'!J114,'MDA3'!M114,'T1'!N114,'T2'!L114,T3_R1!M114,T3_R2!M114)","v":0},19105,{"$f":"MAX('MDA2'!J114,T114)","v":0},{"$f":"MAX('MDA1'!K114,'MDA2'!K114,'MDA3'!I114,'MDA3'!L114,V114,AD114)","v":19105},{"$f":"MAX('MDA1'!L114,'MDA2'!L114,'MDA3'!J114,'MDA3'!M114,AF114)","v":0},19105,42.548992619609223]
[{"$f":"IF(COUNTRY_INFO!A115=0,\" \",COUNTRY_INFO!A115)","v":"Tanzania"},{"$f":"IF(COUNTRY_INFO!B115=0,\" \",COUNTRY_INFO!B115)","v":"Mtwara"},{"$f":"IF(COUNTRY_INFO!C115=0,\" \",COUNTRY_INFO!C115)","v":"Tandahimba District Council"},{"$f":"COUNTRY_INFO!L115","v":"Stopped"},null,null,{"$f":"MAX('MDA1'!M115,'MDA2'!M115)","v":0},{"$f":"IF(AND(COUNTRY_INFO!H115>0,COUNTRY_INFO!H115<4),IF(D115>MAX('MDA1'!M115,'MDA2'!M115),MAX('MDA1'!M115,'MDA2'!M115),D115),0)","v":0},{"$f":"IF(AND(COUNTRY_INFO!H115>0,COUNTRY_INFO!H115<4), IF(G115/D115*100<>0, IF(G115/D115*100>100,100,G115/D115*100), \"-\"),0)","v":0},{"$f":"COUNTRY_INFO!M115","v":0},null,null,{"$f":"MAX('MDA1'!M115,MAX('MDA3'!I115,'MDA3'!L115)+MAX('MDA3'!J115,'MDA3'!M115))","v":0},{"$f":"IF(AND(COUNTRY_INFO!I115>0,COUNTRY_INFO!I115<4),IF(J115>MAX('MDA1'!M115,MAX('MDA3'!I115,'MDA3'!L115)+MAX('MDA3'!J115,'MDA3'!M115)),MAX('MDA1'!M115,MAX('MDA3'!I115,'MDA3'!L115)+MAX('MDA3'!J115,'MDA3'!M115)),J115),0)","v":0},{"$f":"IF(AND(COUNTRY_INFO!I115>0,COUNTRY_INFO!I115<4), IF(M115/J115*100<>0, IF(M115/J115*100>100,100,M115/J115*100), \"-\"),0)","v":0},{"$f":"COUNTRY_INFO!N115","v":74735},null,null,{"$f":"SUM(MAX('MDA2'!J115, 'T1'!L115, MAX(T3_R1!K115, T3_R2!K115)), MAX('MDA1'!K115, 'MDA2'!K115, 'T1'!M115, MAX(T3_R1!L115, T3_R2!L115)), MAX('MDA1'!L115, 'MDA2'!L115, 'T1'!N115, MAX(T3_R1!M115, T3_R2!M115)))","v":51155},{"$f":"IF(AND(COUNTRY_INFO!J115>1,COUNTRY_INFO!J115<4),IF(COUNTRY_INFO!E115>MAX('MDA2'!J115,'T1'!L115,MAX(T3_R1!K115,T3_R2!K115)),MAX('MDA2'!J115,'T1'!L115,MAX(T3_R1!K115,T3_R2!K115)),COUNTRY_INFO!E115),0)","v":0},{"$f":"IF(AND(COUNTRY_INFO!J115>1,COUNTRY_INFO!J115<4), IF(T115/COUNTRY_INFO!E115*100<>0, IF(T115/COUNTRY_INFO!E115*100>100,100,T115/COUNTRY_INFO!E115*100), \"-\"),0)","v":"-"},{"$f":"IF(AND(COUNTRY_INFO!J115>1,COUNTRY_INFO!J115<4),IF(COUNTRY_INFO!F115>MAX('MDA1'!K115,'MDA2'!K115,'T1'!M115,MAX(T3_R1!L115,T3_R2!L115)),MAX('MDA1'!K115,'MDA2'!K115,'T1'!M115,MAX(T3_R1!L115,T3_R2!L115)),COUNTRY_INFO!F115),0)","v":51155},{"$f":"IF(AND(COUNTRY_INFO!J115>1,COUNTRY_INFO!J115<4), IF(V115/COUNTRY_INFO!F115*100<>0, IF(V115/COUNTRY_INFO!F115*100>100,100,V115/COUNTRY_INFO!F115*100), \"-\"),0)","v":91.688772583882994},51155,{"$f":"IF(AND(COUNTRY_INFO!J115>1,COUNTRY_INFO!J115<4), IF(S115/P115*100<>0, IF(X115/P115*100>100,100,X115/P115*100), \"-\"),0)","v":68.448518097277045},{"$f":"COUNTRY_INFO!O115","v":61827.8},null,null,{"$f":"MAX('T1'!L115,'T2'!J115)+MAX('T1'!M115,'T2'!K115)+MAX('T1'!N115,'T2'!L115)","v":0},{"$f":"IF(COUNTRY_INFO!K115=1,IF(COUNTRY_INFO!F115*0.33>MAX('T1'!M115,'T2'!K115),MAX('T1'!M115,'T2'!K115),COUNTRY_INFO!F115*0.33),IF(COUNTRY_INFO!K115=2,IF(COUNTRY_INFO!F115*0.5>MAX('T1'!M115,'T2'!K115),MAX('T1'!M115,'T2'!K115),COUNTRY_INFO!F115*0.5),IF(COUNTRY_INFO!K115=3,IF(COUNTRY_INFO!F115>MAX('T1'!M115,'T2'!K115),MAX('T1'!M115,'T2'!K115),COUNTRY_INFO!F115),0)))","v":0},{"$f":"IF(AND(COUNTRY_INFO!K115>0,COUNTRY_INFO!K115<4),IF(Z115>0,IF(COUNTRY_INFO!K115=1, AD115/(COUNTRY_INFO!F115*0.33)*100, IF(COUNTRY_INFO!K115=2, AD115/(COUNTRY_INFO!F115*0.5)*100, IF(COUNTRY_INFO!K115=3, AD115/COUNTRY_INFO!F115*100))),\"-\"),0)","v":0},{"$f":"IF(COUNTRY_INFO!K115=2,IF(COUNTRY_INFO!G115*0.2>MAX('T1'!N115,'T2'!L115),MAX('T1'!N115,'T2'!L115),COUNTRY_INFO!G115*0.2),IF(COUNTRY_INFO!K115=3,IF(COUNTRY_INFO!G115>MAX('T1'!N115,'T2'!L115),MAX('T1'!N115,'T2'!L115),COUNTRY_INFO!G115),0))","v":0},{"$f":"IF(AND(COUNTRY_INFO!K115>0,COUNTRY_INFO!K115<4),IF(Z115>0,IF(COUNTRY_INFO!K115=1, 0, IF(COUNTRY_INFO!K115=2, AF115/(COUNTRY_INFO!G115*0.2)*100, IF(COUNTRY_INFO!K115=3, AF115/COUNTRY_INFO!G115*100))),\"-\"),0)","v":0},0,{"$f":"IF(AND(COUNTRY_INFO!K115>0,COUNTRY_INFO!K115<4), IF(AC115/Z115*100<>0, IF(AH115/Z115*100>100,100,AH115/Z115*100), \"-\"),0)","v":"-"},null,{"$f":"IF(AND(D115<>0, D115<>\"Unknown\",D115<>\"Stopped\",D115<>\"Not required\"),D115/COUNTRY_INFO!D115, 0)","v":0},{"$f":"IF(AND(J115<>0,J115<>\"Unknown\",J115<>\"Stopped\",J115<>\"Not required\"),J115/COUNTRY_INFO!D115, 0)","v":0},{"$f":"IF(AND(P115<>0,P115<>\"Unknown\",P115<>\"Not required\"),P115/(COUNTRY_INFO!E115+COUNTRY_INFO!F115), 0)","v":1},{"$f":"IF(AND(Z115<>0,Z115<>\"Unknown\",Z115<>\"Not required\"),IF(COUNTRY_INFO!K115=1,1,IF(COUNTRY_INFO!K115=2,0.5*COUNTRY_INFO!F115/(0.5*COUNTRY_INFO!F115+0.2*COUNTRY_INFO!G115),IF(COUNTRY_INFO!K115=3,COUNTRY_INFO!F115/(COUNTRY_INFO!F115+COUNTRY_INFO!G115)))),0)","v":0.45118862388763631},{"$f":"IF(AND(Z115<>0,Z115<>\"Unknown\",Z115<>\"Not required\"),IF(COUNTRY_INFO!K115=1,0,IF(COUNTRY_INFO!K115=2,0.2*COUNTRY_INFO!G115/(0.5*COUNTRY_INFO!F115+0.2*COUNTRY_INFO!G115),IF(COUNTRY_INFO!K115=3,COUNTRY_INFO!G115/(COUNTRY_INFO!F115+COUNTRY_INFO!G115)))),0)","v":0.54881137611236375},{"$f":"MAX(COUNTRY_INFO!D115*AK115*PROFILE!$G$7,COUNTRY_INFO!D115*AL115*PROFILE!$G$7)","v":0},{"$f":"MAX(COUNTRY_INFO!D115*AK115*PROFILE!$G$8,COUNTRY_INFO!D115*AL115*PROFILE!$G$8,COUNTRY_INFO!D115*AM115*PROFILE!$G$8)","v":27135.217758107552},{"$f":"MAX(COUNTRY_INFO!D115*AK115*PROFILE!$G$9,COUNTRY_INFO!D115*AL115*PROFILE!$G$9,COUNTRY_INFO!D115*AM115*PROFILE!$G$9,IF(AND(DISTRICT!Z115<>\"Unknown\",Z115<>\"Not required\"),COUNTRY_INFO!O115*DISTRICT!AN115,0))","v":53222.90127323546},{"$f":"MAX(COUNTRY_INFO!D115*AK115*PROFILE!$G$10,COUNTRY_INFO!D115*AL115*PROFILE!$G$10,IF(AND(DISTRICT!Z115<>\"Unknown\",Z115<>\"Not required\"),COUNTRY_INFO!O115*DISTRICT!AO115,0))","v":33931.800000000003},114289.91903134302,0,{"$f":"MAX('MDA2'!J115,'T1'!L115,'T2'!J115,T3_R1!K115,T3_R2!K115)","v":0},{"$f":"MAX('MDA1'!K115,'MDA2'!K115,'MDA3'!I115,'MDA3'!L115,'T1'!M115,'T2'!K115,T3_R1!L115,T3_R2!L115)","v":51155},{"$f":"MAX('MDA1'!L115,'MDA2'!L115,'MDA3'!J115,'MDA3'!M115,'T1'!N115,'T2'!L115,T3_R1!M115,T3_R2!M115)","v":0},51155,{"$f":"MAX('MDA2'!J115,T115)","v":0},{"$f":"MAX('MDA1'!K115,'MDA2'!K115,'MDA3'!I115,'MDA3'!L115,V115,AD115)","v":51155},{"$f":"MAX('MDA1'!L115,'MDA2'!L115,'MDA3'!J115,'MDA3'!M115,AF115)","v":0},51155,44.758978248966287]
[{"$f":"IF(COUNTRY_INFO!A116=0,\" \",COUNTRY_INFO!A116)","v":"Tanzania"},{"$f":"IF(COUNTRY_INFO!B116=0,\" \",COUNTRY_INFO!B116)","v":"Mwanza"},{"$f":"IF(COUNTRY_INFO!C116=0,\" \",COUNTRY_INFO!C116)","v":"Buchosa District Council"},{"$f":"COUNTRY_INFO!L116","v":0},null,null,{"$f":"MAX('MDA1'!M116,'MDA2'!M116)","v":0},{"$f":"IF(AND(COUNTRY_INFO!H116>0,COUNTRY_INFO!H116<4),IF(D116>MAX('MDA1'!M116,'MDA2'!M116),MAX('MDA1'!M116,'MDA2'!M116),D116),0)","v":0},{"$f":"IF(AND(COUNTRY_INFO!H116>0,COUNTRY_INFO!H116<4), IF(G116/D116*100<>0, IF(G116/D116*100>100,100,G116/D116*100), \"-\"),0)","v":0},{"$f":"COUNTRY_INFO!M116","v":0},null,null,{"$f":"MAX('MDA1'!M116,MAX('MDA3'!I116,'MDA3'!L116)+MAX('MDA3'!J116,'MDA3'!M116))","v":0},{"$f":"IF(AND(COUNTRY_INFO!I116>0,COUNTRY_INFO!I116<4),IF(J116>MAX('MDA1'!M116,MAX('MDA3'!I116,'MDA3'!L116)+MAX('MDA3'!J116,'MDA3'!M116)),MAX('MDA1'!M116,MAX('MDA3'!I116,'MDA3'!L116)+MAX('MDA3'!J116,'MDA3'!M116)),J116),0)","v":0},{"$f":"IF(AND(COUNTRY_INFO!I116>0,COUNTRY_INFO!I116<4), IF(M116/J116*100<>0, IF(M116/J116*100>100,100,M116/J116*100), \"-\"),0)","v":0},{"$f":"COUNTRY_INFO!N116","v":130658},null,null,{"$f":"SUM(MAX('MDA2'!J116, 'T1'!L116, MAX(T3_R1!K116, T3_R2!K116)), MAX('MDA1'!K116, 'MDA2'!K116, 'T1'!M116, MAX(T3_R1!L116, T3_R2!L116)), MAX('MDA1'!L116, 'MDA2'!L116, 'T1'!N116, MAX(T3_R1!M116, T3_R2!M116)))","v":88813},{"$f":"IF(AND(COUNTRY_INFO!J116>1,COUNTRY_INFO!J116<4),IF(COUNTRY_INFO!E116>MAX('MDA2'!J116,'T1'!L116,MAX(T3_R1!K116,T3_R2!K116)),MAX('MDA2'!J116,'T1'!L116,MAX(T3_R1!K116,T3_R2!K116)),COUNTRY_INFO!E116),0)","v":0},{"$f":"IF(AND(COUNTRY_INFO!J116>1,COUNTRY_INFO!J116<4), IF(T116/COUNTRY_INFO!E116*100<>0, IF(T116/COUNTRY_INFO!E116*100>100,100,T116/COUNTRY_INFO!E116*100), \"-\"),0)","v":"-"},{"$f":"IF(AND(COUNTRY_INFO!J116>1,COUNTRY_INFO!J116<4),IF(COUNTRY_INFO!F116>MAX('MDA1'!K116,'MDA2'!K116,'T1'!M116,MAX(T3_R1!L116,T3_R2!L116)),MAX('MDA1'!K116,'MDA2'!K116,'T1'!M116,MAX(T3_R1!L116,T3_R2!L116)),COUNTRY_INFO!F116),0)","v":88813},{"$f":"IF(AND(COUNTRY_INFO!J116>1,COUNTRY_INFO!J116<4), IF(V116/COUNTRY_INFO!F116*100<>0, IF(V116/COUNTRY_INFO!F116*100>100,100,V116/COUNTRY_INFO!F116*100), \"-\"),0)","v":83.912509448223744},88813,{"$f":"IF(AND(COUNTRY_INFO!J116>1,COUNTRY_INFO!J116<4), IF(S116/P116*100<>0, IF(X116/P116*100>100,100,X116/P116*100), \"-\"),0)","v":67.973641108849066},{"$f":"COUNTRY_INFO!O116","v":105062.6},null,null,{"$f":"MAX('T1'!L116,'T2'!J116)+MAX('T1'!M116,'T2'!K116)+MAX('T1'!N116,'T2'!L116)","v":88813},{"$f":"IF(COUNTRY_INFO!K116=1,IF(COUNTRY_INFO!F116*0.33>MAX('T1'!M116,'T2'!K116),MAX('T1'!M116,'T2'!K116),COUNTRY_INFO!F116*0.33),IF(COUNTRY_INFO!K116=2,IF(COUNTRY_INFO!F116*0.5>MAX('T1'!M116,'T2'!K116),MAX('T1'!M116,'T2'!K116),COUNTRY_INFO!F116*0.5),IF(COUNTRY_INFO!K116=3,IF(COUNTRY_INFO!F116>MAX('T1'!M116,'T2'!K116),MAX('T1'!M116,'T2'!K116),COUNTRY_INFO!F116),0)))","v":52920},{"$f":"IF(AND(COUNTRY_INFO!K116>0,COUNTRY_INFO!K116<4),IF(Z116>0,IF(COUNTRY_INFO!K116=1, AD116/(COUNTRY_INFO!F116*0.33)*100, IF(COUNTRY_INFO!K116=2, AD116/(COUNTRY_INFO!F116*0.5)*100, IF(COUNTRY_INFO!K116=3, AD116/COUNTRY_INFO!F116*100))),\"-\"),0)","v":100},{"$f":"IF(COUNTRY_INFO!K116=2,IF(COUNTRY_INFO!G116*0.2>MAX('T1'!N116,'T2'!L116),MAX('T1'!N116,'T2'!L116),COUNTRY_INFO!G116*0.2),IF(COUNTRY_INFO!K116=3,IF(COUNTRY_INFO!G116>MAX('T1'!N116,'T2'!L116),MAX('T1'!N116,'T2'!L116),COUNTRY_INFO!G116),0))","v":0},{"$f":"IF(AND(COUNTRY_INFO!K116>0,COUNTRY_INFO!K116<4),IF(Z116>0,IF(COUNTRY_INFO!K116=1, 0, IF(COUNTRY_INFO!K116=2, AF116/(COUNTRY_INFO!G116*0.2)*100, IF(COUNTRY_INFO!K116=3, AF116/COUNTRY_INFO!G116*100))),\"-\"),0)","v":0},52920,{"$f":"IF(AND(COUNTRY_INFO!K116>0,COUNTRY_INFO!K116<4), IF(AC116/Z116*100<>0, IF(AH116/Z116*100>100,100,AH116/Z116*100), \"-\"),0)","v":50.369969903657442},null,{"$f":"IF(AND(D116<>0, D116<>\"Unknown\",D116<>\"Stopped\",D116<>\"Not required\"),D116/COUNTRY_INFO!D116, 0)","v":0},{"$f":"IF(AND(J116<>0,J116<>\"Unknown\",J116<>\"Stopped\",J116<>\"Not required\"),J116/COUNTRY_INFO!D116, 0)","v":0},{"$f":"IF(AND(P116<>0,P116<>\"Unknown\",P116<>\"Not required\"),P116/(COUNTRY_INFO!E116+COUNTRY_INFO!F116), 0)","v":1},{"$f":"IF(AND(Z116<>0,Z116<>\"Unknown\",Z116<>\"Not required\"),IF(COUNTRY_INFO!K116=1,1,IF(COUNTRY_INFO!K116=2,0.5*COUNTRY_INFO!F116/(0.5*COUNTRY_INFO!F116+0.2*COUNTRY_INFO!G116),IF(COUNTRY_INFO!K116=3,COUNTRY_INFO!F116/(COUNTRY_INFO!F116+COUNTRY_INFO!G116)))),0)","v":0.50369969903657441},{"$f":"IF(AND(Z116<>0,Z116<>\"Unknown\",Z116<>\"Not required\"),IF(COUNTRY_INFO!K116=1,0,IF(COUNTRY_INFO!K116=2,0.2*COUNTRY_INFO!G116/(0.5*COUNTRY_INFO!F116+0.2*COUNTRY_INFO!G116),IF(COUNTRY_INFO!K116=3,COUNTRY_INFO!G116/(COUNTRY_INFO!F116+COUNTRY_INFO!G116)))),0)","v":0.49630030096342564},{"$f":"MAX(COUNTRY_INFO!D116*AK116*PROFILE!$G$7,COUNTRY_INFO!D116*AL116*PROFILE!$G$7)","v":0},{"$f":"MAX(COUNTRY_INFO!D116*AK116*PROFILE!$G$8,COUNTRY_INFO!D116*AL116*PROFILE!$G$8,COUNTRY_INFO!D116*AM116*PROFILE!$G$8)","v":43454.16544272082},{"$f":"MAX(COUNTRY_INFO!D116*AK116*PROFILE!$G$9,COUNTRY_INFO!D116*AL116*PROFILE!$G$9,COUNTRY_INFO!D116*AM116*PROFILE!$G$9,IF(AND(DISTRICT!Z116<>\"Unknown\",Z116<>\"Not required\"),COUNTRY_INFO!O116*DISTRICT!AN116,0))","v":85230.816199282446},{"$f":"MAX(COUNTRY_INFO!D116*AK116*PROFILE!$G$10,COUNTRY_INFO!D116*AL116*PROFILE!$G$10,IF(AND(DISTRICT!Z116<>\"Unknown\",Z116<>\"Not required\"),COUNTRY_INFO!O116*DISTRICT!AO116,0))","v":52142.600000000006},180827.58164200326,"Y",{"$f":"MAX('MDA2'!J116,'T1'!L116,'T2'!J116,T3_R1!K116,T3_R2!K116)","v":0},{"$f":"MAX('MDA1'!K116,'MDA2'!K116,'MDA3'!I116,'MDA3'!L116,'T1'!M116,'T2'!K116,T3_R1!L116,T3_R2!L116)","v":88813},{"$f":"MAX('MDA1'!L116,'MDA2'!L116,'MDA3'!J116,'MDA3'!M116,'T1'!N116,'T2'!L116,T3_R1!M116,T3_R2!M116)","v":0},88813,{"$f":"MAX('MDA2'!J116,T116)","v":0},{"$f":"MAX('MDA1'!K116,'MDA2'!K116,'MDA3'!I116,'MDA3'!L116,V116,AD116)","v":88813},{"$f":"MAX('MDA1'!L116,'MDA2'!L116,'MDA3'!J116,'MDA3'!M116,AF116)","v":0},88813,49.114741895862529]
[{"$f":"IF(COUNTRY_INFO!A117=0,\" \",COUNTRY_INFO!A117)","v":"Tanzania"},{"$f":"IF(COUNTRY_INFO!B117=0,\" \",COUNTRY_INFO!B117)","v":"Mwanza"},{"$f":"IF(COUNTRY_INFO!C117=0,\" \",COUNTRY_INFO!C117)","v":"Ilemela Municipal Council"},{"$f":"COUNTRY_INFO!L117","v":0},null,null,{"$f":"MAX('MDA1'!M117,'MDA2'!M117)","v":0},{"$f":"IF(AND(COUNTRY_INFO!H117>0,COUNTRY_INFO!H117<4),IF(D117>MAX('MDA1'!M117,'MDA2'!M117),MAX('MDA1'!M117,'MDA2'!M117),D117),0)","v":0},{"$f":"IF(AND(COUNTRY_INFO!H117>0,COUNTRY_INFO!H117<4), IF(G117/D117*100<>0, IF(G117/D117*100>100,100,G117/D117*100), \"-\"),0)","v":0},{"$f":"COUNTRY_INFO!M117","v":0},null,null,{"$f":"MAX('MDA1'!M117,MAX('MDA3'!I117,'MDA3'!L117)+MAX('MDA3'!J117,'MDA3'!M117))","v":0},{"$f":"IF(AND(COUNTRY_INFO!I117>0,COUNTRY_INFO!I117<4),IF(J117>MAX('MDA1'!M117,MAX('MDA3'!I117,'MDA3'!L117)+MAX('MDA3'!J117,'MDA3'!M117)),MAX('MDA1'!M117,MAX('MDA3'!I117,'MDA3'!L117)+MAX('MDA3'!J117,'MDA3'!M117)),J117),0)","v":0},{"$f":"IF(AND(COUNTRY_INFO!I117>0,COUNTRY_INFO!I117<4), IF(M117/J117*100<>0, IF(M117/J117*100>100,100,M117/J117*100), \"-\"),0)","v":0},{"$f":"COUNTRY_INFO!N117","v":123076},null,null,{"$f":"SUM(MAX('MDA2'!J117, 'T1'!L117, MAX(T3_R1!K117, T3_R2!K117)), MAX('MDA1'!K117, 'MDA2'!K117, 'T1'!M117, MAX(T3_R1!L117, T3_R2!L117)), MAX('MDA1'!L117, 'MDA2'!L117, 'T1'!N117, MAX(T3_R1!M117, T3_R2!M117)))","v":84417},{"$f":"IF(AND(COUNTRY_INFO!J117>1,COUNTRY_INFO!J117<4),IF(COUNTRY_INFO!E117>MAX('MDA2'!J117,'T1'!L117,MAX(T3_R1!K117,T3_R2!K117)),MAX('MDA2'!J117,'T1'!L117,MAX(T3_R1!K117,T3_R2!K117)),COUNTRY_INFO!E117),0)","v":0},{"$f":"IF(AND(COUNTRY_INFO!J117>1,COUNTRY_INFO!J117<4), IF(T117/COUNTRY_INFO!E117*100<>0, IF(T117/COUNTRY_INFO!E117*100>100,100,T117/COUNTRY_INFO!E117*100), \"-\"),0)","v":"-"},{"$f":"IF(AND(COUNTRY_INFO!J117>1,COUNTRY_INFO!J117<4),IF(COUNTRY_INFO!F117>MAX('MDA1'!K117,'MDA2'!K117,'T1'!M117,MAX(T3_R1!L117,T3_R2!L117)),MAX('MDA1'!K117,'MDA2'!K117,'T1'!M117,MAX(T3_R1!L117,T3_R2!L117)),COUNTRY_INFO!F117),0)","v":84417},{"$f":"IF(AND(COUNTRY_INFO!J117>1,COUNTRY_INFO!J117<4), IF(V117/COUNTRY_INFO!F117*100<>0, IF(V117/COUNTRY_INFO!F117*100>100,100,V117/COUNTRY_INFO!F117*100), \"-\"),0)","v":89.101041765618575},84417,{"$f":"IF(AND(COUNTRY_INFO!J117>1,COUNTRY_INFO!J117<4), IF(S117/P117*100<>0, IF(X117/P117*100>100,100,X117/P117*100), \"-\"),0)","v":68.589326919951901},{"$f":"COUNTRY_INFO!O117","v":104668.5},null,null,{"$f":"MAX('T1'!L117,'T2'!J117)+MAX('T1'!M117,'T2'!K117)+MAX('T1'!N117,'T2'!L117)","v":84417},{"$f":"IF(COUNTRY_INFO!K117=1,IF(COUNTRY_INFO!F117*0.33>MAX('T1'!M117,'T2'!K117),MAX('T1'!M117,'T2'!K117),COUNTRY_INFO!F117*0.33),IF(COUNTRY_INFO!K117=2,IF(COUNTRY_INFO!F117*0.5>MAX('T1'!M117,'T2'!K117),MAX('T1'!M117,'T2'!K117),COUNTRY_INFO!F117*0.5),IF(COUNTRY_INFO!K117=3,IF(COUNTRY_INFO!F117>MAX('T1'!M117,'T2'!K117),MAX('T1'!M117,'T2'!K117),COUNTRY_INFO!F117),0)))","v":47371.5},{"$f":"IF(AND(COUNTRY_INFO!K117>0,COUNTRY_INFO!K117<4),IF(Z117>0,IF(COUNTRY_INFO!K117=1, AD117/(COUNTRY_INFO!F117*0.33)*100, IF(COUNTRY_INFO!K117=2, AD117/(COUNTRY_INFO!F117*0.5)*100, IF(COUNTRY_INFO!K117=3, AD117/COUNTRY_INFO!F117*100))),\"-\"),0)","v":100},{"$f":"IF(COUNTRY_INFO!K117=2,IF(COUNTRY_INFO!G117*0.2>MAX('T1'!N117,'T2'!L117),MAX('T1'!N117,'T2'!L117),COUNTRY_INFO!G117*0.2),IF(COUNTRY_INFO!K117=3,IF(COUNTRY_INFO!G117>MAX('T1'!N117,'T2'!L117),MAX('T1'!N117,'T2'!L117),COUNTRY_INFO!G117),0))","v":0},{"$f":"IF(AND(COUNTRY_INFO!K117>0,COUNTRY_INFO!K117<4),IF(Z117>0,IF(COUNTRY_INFO!K117=1, 0, IF(COUNTRY_INFO!K117=2, AF117/(COUNTRY_INFO!G117*0.2)*100, IF(COUNTRY_INFO!K117=3, AF117/COUNTRY_INFO!G117*100))),\"-\"),0)","v":0},47371.5,{"$f":"IF(AND(COUNTRY_INFO!K117>0,COUNTRY_INFO!K117<4), IF(AC117/Z117*100<>0, IF(AH117/Z117*100>100,100,AH117/Z117*100), \"-\"),0)","v":45.258602158242454},null,{"$f":"IF(AND(D117<>0, D117<>\"Unknown\",D117<>\"Stopped\",D117<>\"Not required\"),D117/COUNTRY_INFO!D117, 0)","v":0},{"$f":"IF(AND(J117<>0,J117<>\"Unknown\",J117<>\"Stopped\",J117<>\"Not required\"),J117/COUNTRY_INFO!D117, 0)","v":0},{"$f":"IF(AND(P117<>0,P117<>\"Unknown\",P117<>\"Not required\"),P117/(COUNTRY_INFO!E117+COUNTRY_INFO!F117), 0)","v":1},{"$f":"IF(AND(Z117<>0,Z117<>\"Unknown\",Z117<>\"Not required\"),IF(COUNTRY_INFO!K117=1,1,IF(COUNTRY_INFO!K117=2,0.5*COUNTRY_INFO!F117/(0.5*COUNTRY_INFO!F117+0.2*COUNTRY_INFO!G117),IF(COUNTRY_INFO!K117=3,COUNTRY_INFO!F117/(COUNTRY_INFO!F117+COUNTRY_INFO!G117)))),0)","v":0.4525860215824245},{"$f":"IF(AND(Z117<>0,Z117<>\"Unknown\",Z117<>\"Not required\"),IF(COUNTRY_INFO!K117=1,0,IF(COUNTRY_INFO!K117=2,0.2*COUNTRY_INFO!G117/(0.5*COUNTRY_INFO!F117+0.2*COUNTRY_INFO!G117),IF(COUNTRY_INFO!K117=3,COUNTRY_INFO!G117/(COUNTRY_INFO!F117+COUNTRY_INFO!G117)))),0)","v":0.54741397841757544},{"$f":"MAX(COUNTRY_INFO!D117*AK117*PROFILE!$G$7,COUNTRY_INFO!D117*AL117*PROFILE!$G$7)","v":0},{"$f":"MAX(COUNTRY_INFO!D117*AK117*PROFILE!$G$8,COUNTRY_INFO!D117*AL117*PROFILE!$G$8,COUNTRY_INFO!D117*AM117*PROFILE!$G$8)","v":45473.812451321588},{"$f":"MAX(COUNTRY_INFO!D117*AK117*PROFILE!$G$9,COUNTRY_INFO!D117*AL117*PROFILE!$G$9,COUNTRY_INFO!D117*AM117*PROFILE!$G$9,IF(AND(DISTRICT!Z117<>\"Unknown\",Z117<>\"Not required\"),COUNTRY_INFO!O117*DISTRICT!AN117,0))","v":89192.143294710957},{"$f":"MAX(COUNTRY_INFO!D117*AK117*PROFILE!$G$10,COUNTRY_INFO!D117*AL117*PROFILE!$G$10,IF(AND(DISTRICT!Z117<>\"Unknown\",Z117<>\"Not required\"),COUNTRY_INFO!O117*DISTRICT!AO117,0))","v":57296.999999999993},191962.95574603253,"Y",{"$f":"MAX('MDA2'!J117,'T1'!L117,'T2'!J117,T3_R1!K117,T3_R2!K117)","v":0},{"$f":"MAX('MDA1'!K117,'MDA2'!K117,'MDA3'!I117,'MDA3'!L117,'T1'!M117,'T2'!K117,T3_R1!L117,T3_R2!L117)","v":84417},{"$f":"MAX('MDA1'!L117,'MDA2'!L117,'MDA3'!J117,'MDA3'!M117,'T1'!N117,'T2'!L117,T3_R1!M117,T3_R2!M117)","v":0},84417,{"$f":"MAX('MDA2'!J117,T117)","v":0},{"$f":"MAX('MDA1'!K117,'MDA2'!K117,'MDA3'!I117,'MDA3'!L117,V117,AD117)","v":84417},{"$f":"MAX('MDA1'!L117,'MDA2'!L117,'MDA3'!J117,'MDA3'!M117,AF117)","v":0},84417,43.975672114407274]
[{"$f":"IF(COUNTRY_INFO!A118=0,\" \",COUNTRY_INFO!A118)","v":"Tanzania"},{"$f":"IF(COUNTRY_INFO!B118=0,\" \",COUNTRY_INFO!B118)","v":"Mwanza"},{"$f":"IF(COUNTRY_INFO!C118=0,\" \",COUNTRY_INFO!C118)","v":"Kwimba District Council"},{"$f":"COUNTRY_INFO!L118","v":0},null,null,{"$f":"MAX('MDA1'!M118,'MDA2'!M118)","v":0},{"$f":"IF(AND(COUNTRY_INFO!H118>0,COUNTRY_INFO!H118<4),IF(D118>MAX('MDA1'!M118,'MDA2'!M118),MAX('MDA1'!M118,'MDA2'!M118),D118),0)","v":0},{"$f":"IF(AND(COUNTRY_INFO!H118>0,COUNTRY_INFO!H118<4), IF(G118/D118*100<>0, IF(G118/D118*100>100,100,G118/D118*100), \"-\"),0)","v":0},{"$f":"COUNTRY_INFO!M118","v":0},null,null,{"$f":"MAX('MDA1'!M118,MAX('MDA3'!I118,'MDA3'!L118)+MAX('MDA3'!J118,'MDA3'!M118))","v":0},{"$f":"IF(AND(COUNTRY_INFO!I118>0,COUNTRY_INFO!I118<4),IF(J118>MAX('MDA1'!M118,MAX('MDA3'!I118,'MDA3'!L118)+MAX('MDA3'!J118,'MDA3'!M118)),MAX('MDA1'!M118,MAX('MDA3'!I118,'MDA3'!L118)+MAX('MDA3'!J118,'MDA3'!M118)),J118),0)","v":0},{"$f":"IF(AND(COUNTRY_INFO!I118>0,COUNTRY_INFO!I118<4), IF(M118/J118*100<>0, IF(M118/J118*100>100,100,M118/J118*100), \"-\"),0)","v":0},{"$f":"COUNTRY_INFO!N118","v":164585},null,null,{"$f":"SUM(MAX('MDA2'!J118, 'T1'!L118, MAX(T3_R1!K118, T3_R2!K118)), MAX('MDA1'!K118, 'MDA2'!K118, 'T1'!M118, MAX(T3_R1!L118, T3_R2!L118)), MAX('MDA1'!L118, 'MDA2'!L118, 'T1'!N118, MAX(T3_R1!M118, T3_R2!M118)))","v":102908},{"$f":"IF(AND(COUNTRY_INFO!J118>1,COUNTRY_INFO!J118<4),IF(COUNTRY_INFO!E118>MAX('MDA2'!J118,'T1'!L118,MAX(T3_R1!K118,T3_R2!K118)),MAX('MDA2'!J118,'T1'!L118,MAX(T3_R1!K118,T3_R2!K118)),COUNTRY_INFO!E118),0)","v":0},{"$f":"IF(AND(COUNTRY_INFO!J118>1,COUNTRY_INFO!J118<4), IF(T118/COUNTRY_INFO!E118*100<>0, IF(T118/COUNTRY_INFO!E118*100>100,100,T118/COUNTRY_INFO!E118*100), \"-\"),0)","v":"-"},{"$f":"IF(AND(COUNTRY_INFO!J118>1,COUNTRY_INFO!J118<4),IF(COUNTRY_INFO!F118>MAX('MDA1'!K118,'MDA2'!K118,'T1'!M118,MAX(T3_R1!L118,T3_R2!L118)),MAX('MDA1'!K118,'MDA2'!K118,'T1'!M118,MAX(T3_R1!L118,T3_R2!L118)),COUNTRY_INFO!F118),0)","v":102908},{"$f":"IF(AND(COUNTRY_INFO!J118>1,COUNTRY_INFO!J118<4), IF(V118/COUNTRY_INFO!F118*100<>0, IF(V118/COUNTRY_INFO!F118*100>100,100,V118/COUNTRY_INFO!F118*100), \"-\"),0)","v":90.010408557758751},102908,{"$f":"IF(AND(COUNTRY_INFO!J118>1,COUNTRY_INFO!J118<4), IF(S118/P118*100<>0, IF(X118/P118*100>100,100,X118/P118*100), \"-\"),0)","v":62.525746574718234},{"$f":"COUNTRY_INFO!O118","v":435137},null,null,{"$f":"MAX('T1'!L118,'T2'!J118)+MAX('T1'!M118,'T2'!K118)+MAX('T1'!N118,'T2'!L118)","v":102908},{"$f":"IF(COUNTRY_INFO!K118=1,IF(COUNTRY_INFO!F118*0.33>MAX('T1'!M118,'T2'!K118),MAX('T1'!M118,'T2'!K118),COUNTRY_INFO!F118*0.33),IF(COUNTRY_INFO!K118=2,IF(COUNTRY_INFO!F118*0.5>MAX('T1'!M118,'T2'!K118),MAX('T1'!M118,'T2'!K118),COUNTRY_INFO!F118*0.5),IF(COUNTRY_INFO!K118=3,IF(COUNTRY_INFO!F118>MAX('T1'!M118,'T2'!K118),MAX('T1'!M118,'T2'!K118),COUNTRY_INFO!F118),0)))","v":102908},{"$f":"IF(AND(COUNTRY_INFO!K118>0,COUNTRY_INFO!K118<4),IF(Z118>0,IF(COUNTRY_INFO!K118=1, AD118/(COUNTRY_INFO!F118*0.33)*100, IF(COUNTRY_INFO!K118=2, AD118/(COUNTRY_INFO!F118*0.5)*100, IF(COUNTRY_INFO!K118=3, AD118/COUNTRY_INFO!F118*100))),\"-\"),0)","v":90.010408557758751},{"$f":"IF(COUNTRY_INFO!K118=2,IF(COUNTRY_INFO!G118*0.2>MAX('T1'!N118,'T2'!L118),MAX('T1'!N118,'T2'!L118),COUNTRY_INFO!G118*0.2),IF(COUNTRY_INFO!K118=3,IF(COUNTRY_INFO!G118>MAX('T1'!N118,'T2'!L118),MAX('T1'!N118,'T2'!L118),COUNTRY_INFO!G118),0))","v":0},{"$f":"IF(AND(COUNTRY_INFO!K118>0,COUNTRY_INFO!K118<4),IF(Z118>0,IF(COUNTRY_INFO!K118=1, 0, IF(COUNTRY_INFO!K118=2, AF118/(COUNTRY_INFO!G118*0.2)*100, IF(COUNTRY_INFO!K118=3, AF118/COUNTRY_INFO!G118*100))),\"-\"),0)","v":0},102908,{"$f":"IF(AND(COUNTRY_INFO!K118>0,COUNTRY_INFO!K118<4), IF(AC118/Z118*100<>0, IF(AH118/Z118*100>100,100,AH118/Z118*100), \"-\"),0)","v":23.649563241002259},null,{"$f":"IF(AND(D118<>0, D118<>\"Unknown\",D118<>\"Stopped\",D118<>\"Not required\"),D118/COUNTRY_INFO!D118, 0)","v":0},{"$f":"IF(AND(J118<>0,J118<>\"Unknown\",J118<>\"Stopped\",J118<>\"Not required\"),J118/COUNTRY_INFO!D118, 0)","v":0},{"$f":"IF(AND(P118<>0,P118<>\"Unknown\",P118<>\"Not required\"),P118/(COUNTRY_INFO!E118+COUNTRY_INFO!F118), 0)","v":1},{"$f":"IF(AND(Z118<>0,Z118<>\"Unknown\",Z118<>\"Not required\"),IF(COUNTRY_INFO!K118=1,1,IF(COUNTRY_INFO!K118=2,0.5*COUNTRY_INFO!F118/(0.5*COUNTRY_INFO!F118+0.2*COUNTRY_INFO!G118),IF(COUNTRY_INFO!K118=3,COUNTRY_INFO!F118/(COUNTRY_INFO!F118+COUNTRY_INFO!G118)))),0)","v":0.26274253855682234},{"$f":"IF(AND(Z118<>0,Z118<>\"Unknown\",Z118<>\"Not required\"),IF(COUNTRY_INFO!K118=1,0,IF(COUNTRY_INFO!K118=2,0.2*COUNTRY_INFO!G118/(0.5*COUNTRY_INFO!F118+0.2*COUNTRY_INFO!G118),IF(COUNTRY_INFO!K118=3,COUNTRY_INFO!G118/(COUNTRY_INFO!F118+COUNTRY_INFO!G118)))),0)","v":0.73725746144317772},{"$f":"MAX(COUNTRY_INFO!D118*AK118*PROFILE!$G$7,COUNTRY_INFO!D118*AL118*PROFILE!$G$7)","v":0},{"$f":"MAX(COUNTRY_INFO!D118*AK118*PROFILE!$G$8,COUNTRY_INFO!D118*AL118*PROFILE!$G$8,COUNTRY_INFO!D118*AM118*PROFILE!$G$8)","v":53893.486555566422},{"$f":"MAX(COUNTRY_INFO!D118*AK118*PROFILE!$G$9,COUNTRY_INFO!D118*AL118*PROFILE!$G$9,COUNTRY_INFO!D118*AM118*PROFILE!$G$9,IF(AND(DISTRICT!Z118<>\"Unknown\",Z118<>\"Not required\"),COUNTRY_INFO!O118*DISTRICT!AN118,0))","v":114329},{"$f":"MAX(COUNTRY_INFO!D118*AK118*PROFILE!$G$10,COUNTRY_INFO!D118*AL118*PROFILE!$G$10,IF(AND(DISTRICT!Z118<>\"Unknown\",Z118<>\"Not required\"),COUNTRY_INFO!O118*DISTRICT!AO118,0))","v":320808},489030.48655556643,"Y",{"$f":"MAX('MDA2'!J118,'T1'!L118,'T2'!J118,T3_R1!K118,T3_R2!K118)","v":0},{"$f":"MAX('MDA1'!K118,'MDA2'!K118,'MDA3'!I118,'MDA3'!L118,'T1'!M118,'T2'!K118,T3_R1!L118,T3_R2!L118)","v":102908},{"$f":"MAX('MDA1'!L118,'MDA2'!L118,'MDA3'!J118,'MDA3'!M118,'T1'!N118,'T2'!L118,T3_R1!M118,T3_R2!M118)","v":0},102908,{"$f":"MAX('MDA2'!J118,T118)","v":0},{"$f":"MAX('MDA1'!K118,'MDA2'!K118,'MDA3'!I118,'MDA3'!L118,V118,AD118)","v":102908},{"$f":"MAX('MDA1'!L118,'MDA2'!L118,'MDA3'!J118,'MDA3'!M118,AF118)","v":0},102908,21.043268840930843]
[{"$f":"IF(COUNTRY_INFO!A119=0,\" \",COUNTRY_INFO!A119)","v":"Tanzania"},{"$f":"IF(COUNTRY_INFO!B119=0,\" \",COUNTRY_INFO!B119)","v":"Mwanza"},{"$f":"IF(COUNTRY_INFO!C119=0,\" \",COUNTRY_INFO!C119)","v":"Magu District Council"},{"$f":"COUNTRY_INFO!L119","v":0},null,null,{"$f":"MAX('MDA1'!M119,'MDA2'!M119)","v":0},{"$f":"IF(AND(COUNTRY_INFO!H119>0,COUNTRY_INFO!H119<4),IF(D119>MAX('MDA1'!M119,'MDA2'!M119),MAX('MDA1'!M119,'MDA2'!M119),D119),0)","v":0},{"$f":"IF(AND(COUNTRY_INFO!H119>0,COUNTRY_INFO!H119<4), IF(G119/D119*100<>0, IF(G119/D119*100>100,100,G119/D119*100), \"-\"),0)","v":0},{"$f":"COUNTRY_INFO!M119","v":0},null,null,{"$f":"MAX('MDA1'!M119,MAX('MDA3'!I119,'MDA3'!L119)+MAX('MDA3'!J119,'MDA3'!M119))","v":0},{"$f":"IF(AND(COUNTRY_INFO!I119>0,COUNTRY_INFO!I119<4),IF(J119>MAX('MDA1'!M119,MAX('MDA3'!I119,'MDA3'!L119)+MAX('MDA3'!J119,'MDA3'!M119)),MAX('MDA1'!M119,MAX('MDA3'!I119,'MDA3'!L119)+MAX('MDA3'!J119,'MDA3'!M119)),J119),0)","v":0},{"$f":"IF(AND(COUNTRY_INFO!I119>0,COUNTRY_INFO!I119<4), IF(M119/J119*100<>0, IF(M119/J119*100>100,100,M119/J119*100), \"-\"),0)","v":0},{"$f":"COUNTRY_INFO!N119","v":120343},null,null,{"$f":"SUM(MAX('MDA2'!J119, 'T1'!L119, MAX(T3_R1!K119, T3_R2!K119)), MAX('MDA1'!K119, 'MDA2'!K119, 'T1'!M119, MAX(T3_R1!L119, T3_R2!L119)), MAX('MDA1'!L119, 'MDA2'!L119, 'T1'!N119, MAX(T3_R1!M119, T3_R2!M119)))","v":82076},{"$f":"IF(AND(COUNTRY_INFO!J119>1,COUNTRY_INFO!J119<4),IF(COUNTRY_INFO!E119>MAX('MDA2'!J119,'T1'!L119,MAX(T3_R1!K119,T3_R2!K119)),MAX('MDA2'!J119,'T1'!L119,MAX(T3_R1!K119,T3_R2!K119)),COUNTRY_INFO!E119),0)","v":0},{"$f":"IF(AND(COUNTRY_INFO!J119>1,COUNTRY_INFO!J119<4), IF(T119/COUNTRY_INFO!E119*100<>0, IF(T119/COUNTRY_INFO!E119*100>100,100,T119/COUNTRY_INFO!E119*100), \"-\"),0)","v":"-"},{"$f":"IF(AND(COUNTRY_INFO!J119>1,COUNTRY_INFO!J119<4),IF(COUNTRY_INFO!F119>MAX('MDA1'!K119,'MDA2'!K119,'T1'!M119,MAX(T3_R1!L119,T3_R2!L119)),MAX('MDA1'!K119,'MDA2'!K119,'T1'!M119,MAX(T3_R1!L119,T3_R2!L119)),COUNTRY_INFO!F119),0)","v":82076},{"$f":"IF(AND(COUNTRY_INFO!J119>1,COUNTRY_INFO!J119<4), IF(V119/COUNTRY_INFO!F119*100<>0, IF(V119/COUNTRY_INFO!F119*100>100,100,V119/COUNTRY_INFO!F119*100), \"-\"),0)","v":86.630146818234593},82076,{"$f":"IF(AND(COUNTRY_INFO!J119>1,COUNTRY_INFO!J119<4), IF(S119/P119*100<>0, IF(X119/P119*100>100,100,X119/P119*100), \"-\"),0)","v":68.201723407260914},{"$f":"COUNTRY_INFO!O119","v":332328},null,null,{"$f":"MAX('T1'!L119,'T2'!J119)+MAX('T1'!M119,'T2'!K119)+MAX('T1'!N119,'T2'!L119)","v":82076},{"$f":"IF(COUNTRY_INFO!K119=1,IF(COUNTRY_INFO!F119*0.33>MAX('T1'!M119,'T2'!K119),MAX('T1'!M119,'T2'!K119),COUNTRY_INFO!F119*0.33),IF(COUNTRY_INFO!K119=2,IF(COUNTRY_INFO!F119*0.5>MAX('T1'!M119,'T2'!K119),MAX('T1'!M119,'T2'!K119),COUNTRY_INFO!F119*0.5),IF(COUNTRY_INFO!K119=3,IF(COUNTRY_INFO!F119>MAX('T1'!M119,'T2'!K119),MAX('T1'!M119,'T2'!K119),COUNTRY_INFO!F119),0)))","v":82076},{"$f":"IF(AND(COUNTRY_INFO!K119>0,COUNTRY_INFO!K119<4),IF(Z119>0,IF(COUNTRY_INFO!K119=1, AD119/(COUNTRY_INFO!F119*0.33)*100, IF(COUNTRY_INFO!K119=2, AD119/(COUNTRY_INFO!F119*0.5)*100, IF(COUNTRY_INFO!K119=3, AD119/COUNTRY_INFO!F119*100))),\"-\"),0)","v":86.630146818234593},{"$f":"IF(COUNTRY_INFO!K119=2,IF(COUNTRY_INFO!G119*0.2>MAX('T1'!N119,'T2'!L119),MAX('T1'!N119,'T2'!L119),COUNTRY_INFO!G119*0.2),IF(COUNTRY_INFO!K119=3,IF(COUNTRY_INFO!G119>MAX('T1'!N119,'T2'!L119),MAX('T1'!N119,'T2'!L119),COUNTRY_INFO!G119),0))","v":0},{"$f":"IF(AND(COUNTRY_INFO!K119>0,COUNTRY_INFO!K119<4),IF(Z119>0,IF(COUNTRY_INFO!K119=1, 0, IF(COUNTRY_INFO!K119=2, AF119/(COUNTRY_INFO!G119*0.2)*100, IF(COUNTRY_INFO!K119=3, AF119/COUNTRY_INFO!G119*100))),\"-\"),0)","v":0},82076,{"$f":"IF(AND(COUNTRY_INFO!K119>0,COUNTRY_INFO!K119<4), IF(AC119/Z119*100<>0, IF(AH119/Z119*100>100,100,AH119/Z119*100), \"-\"),0)","v":24.697287017645216},null,{"$f":"IF(AND(D119<>0, D119<>\"Unknown\",D119<>\"Stopped\",D119<>\"Not required\"),D119/COUNTRY_INFO!D119, 0)","v":0},{"$f":"IF(AND(J119<>0,J119<>\"Unknown\",J119<>\"Stopped\",J119<>\"Not required\"),J119/COUNTRY_INFO!D119, 0)","v":0},{"$f":"IF(AND(P119<>0,P119<>\"Unknown\",P119<>\"Not required\"),P119/(COUNTRY_INFO!E119+COUNTRY_INFO!F119), 0)","v":1},{"$f":"IF(AND(Z119<>0,Z119<>\"Unknown\",Z119<>\"Not required\"),IF(COUNTRY_INFO!K119=1,1,IF(COUNTRY_INFO!K119=2,0.5*COUNTRY_INFO!F119/(0.5*COUNTRY_INFO!F119+0.2*COUNTRY_INFO!G119),IF(COUNTRY_INFO!K119=3,COUNTRY_INFO!F119/(COUNTRY_INFO!F119+COUNTRY_INFO!G119)))),0)","v":0.28508882790496137},{"$f":"IF(AND(Z119<>0,Z119<>\"Unknown\",Z119<>\"Not required\"),IF(COUNTRY_INFO!K119=1,0,IF(COUNTRY_INFO!K119=2,0.2*COUNTRY_INFO!G119/(0.5*COUNTRY_INFO!F119+0.2*COUNTRY_INFO!G119),IF(COUNTRY_INFO!K119=3,COUNTRY_INFO!G119/(COUNTRY_INFO!F119+COUNTRY_INFO!G119)))),0)","v":0.71491117209503863},{"$f":"MAX(COUNTRY_INFO!D119*AK119*PROFILE!$G$7,COUNTRY_INFO!D119*AL119*PROFILE!$G$7)","v":0},{"$f":"MAX(COUNTRY_INFO!D119*AK119*PROFILE!$G$8,COUNTRY_INFO!D119*AL119*PROFILE!$G$8,COUNTRY_INFO!D119*AM119*PROFILE!$G$8)","v":39740.968361432446},{"$f":"MAX(COUNTRY_INFO!D119*AK119*PROFILE!$G$9,COUNTRY_INFO!D119*AL119*PROFILE!$G$9,COUNTRY_INFO!D119*AM119*PROFILE!$G$9,IF(AND(DISTRICT!Z119<>\"Unknown\",Z119<>\"Not required\"),COUNTRY_INFO!O119*DISTRICT!AN119,0))","v":94743},{"$f":"MAX(COUNTRY_INFO!D119*AK119*PROFILE!$G$10,COUNTRY_INFO!D119*AL119*PROFILE!$G$10,IF(AND(DISTRICT!Z119<>\"Unknown\",Z119<>\"Not required\"),COUNTRY_INFO!O119*DISTRICT!AO119,0))","v":237585},372068.96836143243,"Y",{"$f":"MAX('MDA2'!J119,'T1'!L119,'T2'!J119,T3_R1!K119,T3_R2!K119)","v":0},{"$f":"MAX('MDA1'!K119,'MDA2'!K119,'MDA3'!I119,'MDA3'!L119,'T1'!M119,'T2'!K119,T3_R1!L119,T3_R2!L119)","v":82076},{"$f":"MAX('MDA1'!L119,'MDA2'!L119,'MDA3'!J119,'MDA3'!M119,'T1'!N119,'T2'!L119,T3_R1!M119,T3_R2!M119)","v":0},82076,{"$f":"MAX('MDA2'!J119,T119)","v":0},{"$f":"MAX('MDA1'!K119,'MDA2'!K119,'MDA3'!I119,'MDA3'!L119,V119,AD119)","v":82076},{"$f":"MAX('MDA1'!L119,'MDA2'!L119,'MDA3'!J119,'MDA3'!M119,AF119)","v":0},82076,22.059351082531116]
[{"$f":"IF(COUNTRY_INFO!A120=0,\" \",COUNTRY_INFO!A120)","v":"Tanzania"},{"$f":"IF(COUNTRY_INFO!B120=0,\" \",COUNTRY_INFO!B120)","v":"Mwanza"},{"$f":"IF(COUNTRY_INFO!C120=0,\" \",COUNTRY_INFO!C120)","v":"Misungwi District Council"},{"$f":"COUNTRY_INFO!L120","v":0},null,null,{"$f":"MAX('MDA1'!M120,'MDA2'!M120)","v":0},{"$f":"IF(AND(COUNTRY_INFO!H120>0,COUNTRY_INFO!H120<4),IF(D120>MAX('MDA1'!M120,'MDA2'!M120),MAX('MDA1'!M120,'MDA2'!M120),D120),0)","v":0},{"$f":"IF(AND(COUNTRY_INFO!H120>0,COUNTRY_INFO!H120<4), IF(G120/D120*100<>0, IF(G120/D120*100>100,100,G120/D120*100), \"-\"),0)","v":0},{"$f":"COUNTRY_INFO!M120","v":0},null,null,{"$f":"MAX('MDA1'!M120,MAX('MDA3'!I120,'MDA3'!L120)+MAX('MDA3'!J120,'MDA3'!M120))","v":0},{"$f":"IF(AND(COUNTRY_INFO!I120>0,COUNTRY_INFO!I120<4),IF(J120>MAX('MDA1'!M120,MAX('MDA3'!I120,'MDA3'!L120)+MAX('MDA3'!J120,'MDA3'!M120)),MAX('MDA1'!M120,MAX('MDA3'!I120,'MDA3'!L120)+MAX('MDA3'!J120,'MDA3'!M120)),J120),0)","v":0},{"$f":"IF(AND(COUNTRY_INFO!I120>0,COUNTRY_INFO!I120<4), IF(M120/J120*100<>0, IF(M120/J120*100>100,100,M120/J120*100), \"-\"),0)","v":0},{"$f":"COUNTRY_INFO!N120","v":139560},null,null,{"$f":"SUM(MAX('MDA2'!J120, 'T1'!L120, MAX(T3_R1!K120, T3_R2!K120)), MAX('MDA1'!K120, 'MDA2'!K120, 'T1'!M120, MAX(T3_R1!L120, T3_R2!L120)), MAX('MDA1'!L120, 'MDA2'!L120, 'T1'!N120, MAX(T3_R1!M120, T3_R2!M120)))","v":96155},{"$f":"IF(AND(COUNTRY_INFO!J120>1,COUNTRY_INFO!J120<4),IF(COUNTRY_INFO!E120>MAX('MDA2'!J120,'T1'!L120,MAX(T3_R1!K120,T3_R2!K120)),MAX('MDA2'!J120,'T1'!L120,MAX(T3_R1!K120,T3_R2!K120)),COUNTRY_INFO!E120),0)","v":0},{"$f":"IF(AND(COUNTRY_INFO!J120>1,COUNTRY_INFO!J120<4), IF(T120/COUNTRY_INFO!E120*100<>0, IF(T120/COUNTRY_INFO!E120*100>100,100,T120/COUNTRY_INFO!E120*100), \"-\"),0)","v":"-"},{"$f":"IF(AND(COUNTRY_INFO!J120>1,COUNTRY_INFO!J120<4),IF(COUNTRY_INFO!F120>MAX('MDA1'!K120,'MDA2'!K120,'T1'!M120,MAX(T3_R1!L120,T3_R2!L120)),MAX('MDA1'!K120,'MDA2'!K120,'T1'!M120,MAX(T3_R1!L120,T3_R2!L120)),COUNTRY_INFO!F120),0)","v":96155},{"$f":"IF(AND(COUNTRY_INFO!J120>1,COUNTRY_INFO!J120<4), IF(V120/COUNTRY_INFO!F120*100<>0, IF(V120/COUNTRY_INFO!F120*100>100,100,V120/COUNTRY_INFO!F120*100), \"-\"),0)","v":94.337123627694325},96155,{"$f":"IF(AND(COUNTRY_INFO!J120>1,COUNTRY_INFO!J120<4), IF(S120/P120*100<>0, IF(X120/P120*100>100,100,X120/P120*100), \"-\"),0)","v":68.898681570650623},{"$f":"COUNTRY_INFO!O120","v":382204},null,null,{"$f":"MAX('T1'!L120,'T2'!J120)+MAX('T1'!M120,'T2'!K120)+MAX('T1'!N120,'T2'!L120)","v":96155},{"$f":"IF(COUNTRY_INFO!K120=1,IF(COUNTRY_INFO!F120*0.33>MAX('T1'!M120,'T2'!K120),MAX('T1'!M120,'T2'!K120),COUNTRY_INFO!F120*0.33),IF(COUNTRY_INFO!K120=2,IF(COUNTRY_INFO!F120*0.5>MAX('T1'!M120,'T2'!K120),MAX('T1'!M120,'T2'!K120),COUNTRY_INFO!F120*0.5),IF(COUNTRY_INFO!K120=3,IF(COUNTRY_INFO!F120>MAX('T1'!M120,'T2'!K120),MAX('T1'!M120,'T2'!K120),COUNTRY_INFO!F120),0)))","v":96155},{"$f":"IF(AND(COUNTRY_INFO!K120>0,COUNTRY_INFO!K120<4),IF(Z120>0,IF(COUNTRY_INFO!K120=1, AD120/(COUNTRY_INFO!F120*0.33)*100, IF(COUNTRY_INFO!K120=2, AD120/(COUNTRY_INFO!F120*0.5)*100, IF(COUNTRY_INFO!K120=3, AD120/COUNTRY_INFO!F120*100))),\"-\"),0)","v":94.337123627694325},{"$f":"IF(COUNTRY_INFO!K120=2,IF(COUNTRY_INFO!G120*0.2>MAX('T1'!N120,'T2'!L120),MAX('T1'!N120,'T2'!L120),COUNTRY_INFO!G120*0.2),IF(COUNTRY_INFO!K120=3,IF(COUNTRY_INFO!G120>MAX('T1'!N120,'T2'!L120),MAX('T1'!N120,'T2'!L120),COUNTRY_INFO!G120),0))","v":0},{"$f":"IF(AND(COUNTRY_INFO!K120>0,COUNTRY_INFO!K120<4),IF(Z120>0,IF(COUNTRY_INFO!K120=1, 0, IF(COUNTRY_INFO!K120=2, AF120/(COUNTRY_INFO!G120*0.2)*100, IF(COUNTRY_INFO!K120=3, AF120/COUNTRY_INFO!G120*100))),\"-\"),0)","v":0},96155,{"$f":"IF(AND(COUNTRY_INFO!K120>0,COUNTRY_INFO!K120<4), IF(AC120/Z120*100<>0, IF(AH120/Z120*100>100,100,AH120/Z120*100), \"-\"),0)","v":25.15803078983998},null,{"$f":"IF(AND(D120<>0, D120<>\"Unknown\",D120<>\"Stopped\",D120<>\"Not required\"),D120/COUNTRY_INFO!D120, 0)","v":0},{"$f":"IF(AND(J120<>0,J120<>\"Unknown\",J120<>\"Stopped\",J120<>\"Not required\"),J120/COUNTRY_INFO!D120, 0)","v":0},{"$f":"IF(AND(P120<>0,P120<>\"Unknown\",P120<>\"Not required\"),P120/(COUNTRY_INFO!E120+COUNTRY_INFO!F120), 0)","v":1},{"$f":"IF(AND(Z120<>0,Z120<>\"Unknown\",Z120<>\"Not required\"),IF(COUNTRY_INFO!K120=1,1,IF(COUNTRY_INFO!K120=2,0.5*COUNTRY_INFO!F120/(0.5*COUNTRY_INFO!F120+0.2*COUNTRY_INFO!G120),IF(COUNTRY_INFO!K120=3,COUNTRY_INFO!F120/(COUNTRY_INFO!F120+COUNTRY_INFO!G120)))),0)","v":0.26668219066257809},{"$f":"IF(AND(Z120<>0,Z120<>\"Unknown\",Z120<>\"Not required\"),IF(COUNTRY_INFO!K120=1,0,IF(COUNTRY_INFO!K120=2,0.2*COUNTRY_INFO!G120/(0.5*COUNTRY_INFO!F120+0.2*COUNTRY_INFO!G120),IF(COUNTRY_INFO!K120=3,COUNTRY_INFO!G120/(COUNTRY_INFO!F120+COUNTRY_INFO!G120)))),0)","v":0.73331780933742186},{"$f":"MAX(COUNTRY_INFO!D120*AK120*PROFILE!$G$7,COUNTRY_INFO!D120*AL120*PROFILE!$G$7)","v":0},{"$f":"MAX(COUNTRY_INFO!D120*AK120*PROFILE!$G$8,COUNTRY_INFO!D120*AL120*PROFILE!$G$8,COUNTRY_INFO!D120*AM120*PROFILE!$G$8)","v":46614.763119841737},{"$f":"MAX(COUNTRY_INFO!D120*AK120*PROFILE!$G$9,COUNTRY_INFO!D120*AL120*PROFILE!$G$9,COUNTRY_INFO!D120*AM120*PROFILE!$G$9,IF(AND(DISTRICT!Z120<>\"Unknown\",Z120<>\"Not required\"),COUNTRY_INFO!O120*DISTRICT!AN120,0))","v":101927},{"$f":"MAX(COUNTRY_INFO!D120*AK120*PROFILE!$G$10,COUNTRY_INFO!D120*AL120*PROFILE!$G$10,IF(AND(DISTRICT!Z120<>\"Unknown\",Z120<>\"Not required\"),COUNTRY_INFO!O120*DISTRICT!AO120,0))","v":280277},428818.76311984175,"Y",{"$f":"MAX('MDA2'!J120,'T1'!L120,'T2'!J120,T3_R1!K120,T3_R2!K120)","v":0},{"$f":"MAX('MDA1'!K120,'MDA2'!K120,'MDA3'!I120,'MDA3'!L120,'T1'!M120,'T2'!K120,T3_R1!L120,T3_R2!L120)","v":96155},{"$f":"MAX('MDA1'!L120,'MDA2'!L120,'MDA3'!J120,'MDA3'!M120,'T1'!N120,'T2'!L120,T3_R1!M120,T3_R2!M120)","v":0},96155,{"$f":"MAX('MDA2'!J120,T120)","v":0},{"$f":"MAX('MDA1'!K120,'MDA2'!K120,'MDA3'!I120,'MDA3'!L120,V120,AD120)","v":96155},{"$f":"MAX('MDA1'!L120,'MDA2'!L120,'MDA3'!J120,'MDA3'!M120,AF120)","v":0},96155,22.423225910272869]
[{"$f":"IF(COUNTRY_INFO!A121=0,\" \",COUNTRY_INFO!A121)","v":"Tanzania"},{"$f":"IF(COUNTRY_INFO!B121=0,\" \",COUNTRY_INFO!B121)","v":"Mwanza"},{"$f":"IF(COUNTRY_INFO!C121=0,\" \",COUNTRY_INFO!C121)","v":"Mwanza-Nyamagana City Council"},{"$f":"COUNTRY_INFO!L121","v":0},null,null,{"$f":"MAX('MDA1'!M121,'MDA2'!M121)","v":0},{"$f":"IF(AND(COUNTRY_INFO!H121>0,COUNTRY_INFO!H121<4),IF(D121>MAX('MDA1'!M121,'MDA2'!M121),MAX('MDA1'!M121,'MDA2'!M121),D121),0)","v":0},{"$f":"IF(AND(COUNTRY_INFO!H121>0,COUNTRY_INFO!H121<4), IF(G121/D121*100<>0, IF(G121/D121*100>100,100,G121/D121*100), \"-\"),0)","v":0},{"$f":"COUNTRY_INFO!M121","v":0},null,null,{"$f":"MAX('MDA1'!M121,MAX('MDA3'!I121,'MDA3'!L121)+MAX('MDA3'!J121,'MDA3'!M121))","v":0},{"$f":"IF(AND(COUNTRY_INFO!I121>0,COUNTRY_INFO!I121<4),IF(J121>MAX('MDA1'!M121,MAX('MDA3'!I121,'MDA3'!L121)+MAX('MDA3'!J121,'MDA3'!M121)),MAX('MDA1'!M121,MAX('MDA3'!I121,'MDA3'!L121)+MAX('MDA3'!J121,'MDA3'!M121)),J121),0)","v":0},{"$f":"IF(AND(COUNTRY_INFO!I121>0,COUNTRY_INFO!I121<4), IF(M121/J121*100<>0, IF(M121/J121*100>100,100,M121/J121*100), \"-\"),0)","v":0},{"$f":"COUNTRY_INFO!N121","v":129691},null,null,{"$f":"SUM(MAX('MDA2'!J121, 'T1'!L121, MAX(T3_R1!K121, T3_R2!K121)), MAX('MDA1'!K121, 'MDA2'!K121, 'T1'!M121, MAX(T3_R1!L121, T3_R2!L121)), MAX('MDA1'!L121, 'MDA2'!L121, 'T1'!N121, MAX(T3_R1!M121, T3_R2!M121)))","v":105393},{"$f":"IF(AND(COUNTRY_INFO!J121>1,COUNTRY_INFO!J121<4),IF(COUNTRY_INFO!E121>MAX('MDA2'!J121,'T1'!L121,MAX(T3_R1!K121,T3_R2!K121)),MAX('MDA2'!J121,'T1'!L121,MAX(T3_R1!K121,T3_R2!K121)),COUNTRY_INFO!E121),0)","v":0},{"$f":"IF(AND(COUNTRY_INFO!J121>1,COUNTRY_INFO!J121<4), IF(T121/COUNTRY_INFO!E121*100<>0, IF(T121/COUNTRY_INFO!E121*100>100,100,T121/COUNTRY_INFO!E121*100), \"-\"),0)","v":"-"},{"$f":"IF(AND(COUNTRY_INFO!J121>1,COUNTRY_INFO!J121<4),IF(COUNTRY_INFO!F121>MAX('MDA1'!K121,'MDA2'!K121,'T1'!M121,MAX(T3_R1!L121,T3_R2!L121)),MAX('MDA1'!K121,'MDA2'!K121,'T1'!M121,MAX(T3_R1!L121,T3_R2!L121)),COUNTRY_INFO!F121),0)","v":105393},{"$f":"IF(AND(COUNTRY_INFO!J121>1,COUNTRY_INFO!J121<4), IF(V121/COUNTRY_INFO!F121*100<>0, IF(V121/COUNTRY_INFO!F121*100>100,100,V121/COUNTRY_INFO!F121*100), \"-\"),0)","v":92.835184581641371},105393,{"$f":"IF(AND(COUNTRY_INFO!J121>1,COUNTRY_INFO!J121<4), IF(S121/P121*100<>0, IF(X121/P121*100>100,100,X121/P121*100), \"-\"),0)","v":81.264698398501054},{"$f":"COUNTRY_INFO!O121","v":117621.5},null,null,{"$f":"MAX('T1'!L121,'T2'!J121)+MAX('T1'!M121,'T2'!K121)+MAX('T1'!N121,'T2'!L121)","v":105393},{"$f":"IF(COUNTRY_INFO!K121=1,IF(COUNTRY_INFO!F121*0.33>MAX('T1'!M121,'T2'!K121),MAX('T1'!M121,'T2'!K121),COUNTRY_INFO!F121*0.33),IF(COUNTRY_INFO!K121=2,IF(COUNTRY_INFO!F121*0.5>MAX('T1'!M121,'T2'!K121),MAX('T1'!M121,'T2'!K121),COUNTRY_INFO!F121*0.5),IF(COUNTRY_INFO!K121=3,IF(COUNTRY_INFO!F121>MAX('T1'!M121,'T2'!K121),MAX('T1'!M121,'T2'!K121),COUNTRY_INFO!F121),0)))","v":56763.5},{"$f":"IF(AND(COUNTRY_INFO!K121>0,COUNTRY_INFO!K121<4),IF(Z121>0,IF(COUNTRY_INFO!K121=1, AD121/(COUNTRY_INFO!F121*0.33)*100, IF(COUNTRY_INFO!K121=2, AD121/(COUNTRY_INFO!F121*0.5)*100, IF(COUNTRY_INFO!K121=3, AD121/COUNTRY_INFO!F121*100))),\"-\"),0)","v":100},{"$f":"IF(COUNTRY_INFO!K121=2,IF(COUNTRY_INFO!G121*0.2>MAX('T1'!N121,'T2'!L121),MAX('T1'!N121,'T2'!L121),COUNTRY_INFO!G121*0.2),IF(COUNTRY_INFO!K121=3,IF(COUNTRY_INFO!G121>MAX('T1'!N121,'T2'!L121),MAX('T1'!N121,'T2'!L121),COUNTRY_INFO!G121),0))","v":0},{"$f":"IF(AND(COUNTRY_INFO!K121>0,COUNTRY_INFO!K121<4),IF(Z121>0,IF(COUNTRY_INFO!K121=1, 0, IF(COUNTRY_INFO!K121=2, AF121/(COUNTRY_INFO!G121*0.2)*100, IF(COUNTRY_INFO!K121=3, AF121/COUNTRY_INFO!G121*100))),\"-\"),0)","v":0},56763.5,{"$f":"IF(AND(COUNTRY_INFO!K121>0,COUNTRY_INFO!K121<4), IF(AC121/Z121*100<>0, IF(AH121/Z121*100>100,100,AH121/Z121*100), \"-\"),0)","v":48.259459367547599},null,{"$f":"IF(AND(D121<>0, D121<>\"Unknown\",D121<>\"Stopped\",D121<>\"Not required\"),D121/COUNTRY_INFO!D121, 0)","v":0},{"$f":"IF(AND(J121<>0,J121<>\"Unknown\",J121<>\"Stopped\",J121<>\"Not required\"),J121/COUNTRY_INFO!D121, 0)","v":0},{"$f":"IF(AND(P121<>0,P121<>\"Unknown\",P121<>\"Not required\"),P121/(COUNTRY_INFO!E121+COUNTRY_INFO!F121), 0)","v":1},{"$f":"IF(AND(Z121<>0,Z121<>\"Unknown\",Z121<>\"Not required\"),IF(COUNTRY_INFO!K121=1,1,IF(COUNTRY_INFO!K121=2,0.5*COUNTRY_INFO!F121/(0.5*COUNTRY_INFO!F121+0.2*COUNTRY_INFO!G121),IF(COUNTRY_INFO!K121=3,COUNTRY_INFO!F121/(COUNTRY_INFO!F121+COUNTRY_INFO!G121)))),0)","v":0.48259459367547602},{"$f":"IF(AND(Z121<>0,Z121<>\"Unknown\",Z121<>\"Not required\"),IF(COUNTRY_INFO!K121=1,0,IF(COUNTRY_INFO!K121=2,0.2*COUNTRY_INFO!G121/(0.5*COUNTRY_INFO!F121+0.2*COUNTRY_INFO!G121),IF(COUNTRY_INFO!K121=3,COUNTRY_INFO!G121/(COUNTRY_INFO!F121+COUNTRY_INFO!G121)))),0)","v":0.51740540632452403},{"$f":"MAX(COUNTRY_INFO!D121*AK121*PROFILE!$G$7,COUNTRY_INFO!D121*AL121*PROFILE!$G$7)","v":0},{"$f":"MAX(COUNTRY_INFO!D121*AK121*PROFILE!$G$8,COUNTRY_INFO!D121*AL121*PROFILE!$G$8,COUNTRY_INFO!D121*AM121*PROFILE!$G$8)","v":48185.180233071493},{"$f":"MAX(COUNTRY_INFO!D121*AK121*PROFILE!$G$9,COUNTRY_INFO!D121*AL121*PROFILE!$G$9,COUNTRY_INFO!D121*AM121*PROFILE!$G$9,IF(AND(DISTRICT!Z121<>\"Unknown\",Z121<>\"Not required\"),COUNTRY_INFO!O121*DISTRICT!AN121,0))","v":94510.208587199348},{"$f":"MAX(COUNTRY_INFO!D121*AK121*PROFILE!$G$10,COUNTRY_INFO!D121*AL121*PROFILE!$G$10,IF(AND(DISTRICT!Z121<>\"Unknown\",Z121<>\"Not required\"),COUNTRY_INFO!O121*DISTRICT!AO121,0))","v":60858},203553.38882027083,"Y",{"$f":"MAX('MDA2'!J121,'T1'!L121,'T2'!J121,T3_R1!K121,T3_R2!K121)","v":0},{"$f":"MAX('MDA1'!K121,'MDA2'!K121,'MDA3'!I121,'MDA3'!L121,'T1'!M121,'T2'!K121,T3_R1!L121,T3_R2!L121)","v":105393},{"$f":"MAX('MDA1'!L121,'MDA2'!L121,'MDA3'!J121,'MDA3'!M121,'T1'!N121,'T2'!L121,T3_R1!M121,T3_R2!M121)","v":0},105393,{"$f":"MAX('MDA2'!J121,T121)","v":0},{"$f":"MAX('MDA1'!K121,'MDA2'!K121,'MDA3'!I121,'MDA3'!L121,V121,AD121)","v":105393},{"$f":"MAX('MDA1'!L121,'MDA2'!L121,'MDA3'!J121,'MDA3'!M121,AF121)","v":0},105393,51.776588250789388]
[{"$f":"IF(COUNTRY_INFO!A122=0,\" \",COUNTRY_INFO!A122)","v":"Tanzania"},{"$f":"IF(COUNTRY_INFO!B122=0,\" \",COUNTRY_INFO!B122)","v":"Mwanza"},{"$f":"IF(COUNTRY_INFO!C122=0,\" \",COUNTRY_INFO!C122)","v":"Sengerema District Council"},{"$f":"COUNTRY_INFO!L122","v":0},null,null,{"$f":"MAX('MDA1'!M122,'MDA2'!M122)","v":0},{"$f":"IF(AND(COUNTRY_INFO!H122>0,COUNTRY_INFO!H122<4),IF(D122>MAX('MDA1'!M122,'MDA2'!M122),MAX('MDA1'!M122,'MDA2'!M122),D122),0)","v":0},{"$f":"IF(AND(COUNTRY_INFO!H122>0,COUNTRY_INFO!H122<4), IF(G122/D122*100<>0, IF(G122/D122*100>100,100,G122/D122*100), \"-\"),0)","v":0},{"$f":"COUNTRY_INFO!M122","v":0},null,null,{"$f":"MAX('MDA1'!M122,MAX('MDA3'!I122,'MDA3'!L122)+MAX('MDA3'!J122,'MDA3'!M122))","v":0},{"$f":"IF(AND(COUNTRY_INFO!I122>0,COUNTRY_INFO!I122<4),IF(J122>MAX('MDA1'!M122,MAX('MDA3'!I122,'MDA3'!L122)+MAX('MDA3'!J122,'MDA3'!M122)),MAX('MDA1'!M122,MAX('MDA3'!I122,'MDA3'!L122)+MAX('MDA3'!J122,'MDA3'!M122)),J122),0)","v":0},{"$f":"IF(AND(COUNTRY_INFO!I122>0,COUNTRY_INFO!I122<4), IF(M122/J122*100<>0, IF(M122/J122*100>100,100,M122/J122*100), \"-\"),0)","v":0},{"$f":"COUNTRY_INFO!N122","v":133647},null,null,{"$f":"SUM(MAX('MDA2'!J122, 'T1'!L122, MAX(T3_R1!K122, T3_R2!K122)), MAX('MDA1'!K122, 'MDA2'!K122, 'T1'!M122, MAX(T3_R1!L122, T3_R2!L122)), MAX('MDA1'!L122, 'MDA2'!L122, 'T1'!N122, MAX(T3_R1!M122, T3_R2!M122)))","v":94511},{"$f":"IF(AND(COUNTRY_INFO!J122>1,COUNTRY_INFO!J122<4),IF(COUNTRY_INFO!E122>MAX('MDA2'!J122,'T1'!L122,MAX(T3_R1!K122,T3_R2!K122)),MAX('MDA2'!J122,'T1'!L122,MAX(T3_R1!K122,T3_R2!K122)),COUNTRY_INFO!E122),0)","v":0},{"$f":"IF(AND(COUNTRY_INFO!J122>1,COUNTRY_INFO!J122<4), IF(T122/COUNTRY_INFO!E122*100<>0, IF(T122/COUNTRY_INFO!E122*100>100,100,T122/COUNTRY_INFO!E122*100), \"-\"),0)","v":"-"},{"$f":"IF(AND(COUNTRY_INFO!J122>1,COUNTRY_INFO!J122<4),IF(COUNTRY_INFO!F122>MAX('MDA1'!K122,'MDA2'!K122,'T1'!M122,MAX(T3_R1!L122,T3_R2!L122)),MAX('MDA1'!K122,'MDA2'!K122,'T1'!M122,MAX(T3_R1!L122,T3_R2!L122)),COUNTRY_INFO!F122),0)","v":94511},{"$f":"IF(AND(COUNTRY_INFO!J122>1,COUNTRY_INFO!J122<4), IF(V122/COUNTRY_INFO!F122*100<>0, IF(V122/COUNTRY_INFO!F122*100>100,100,V122/COUNTRY_INFO!F122*100), \"-\"),0)","v":83.746998307532806},94511,{"$f":"IF(AND(COUNTRY_INFO!J122>1,COUNTRY_INFO!J122<4), IF(S122/P122*100<>0, IF(X122/P122*100>100,100,X122/P122*100), \"-\"),0)","v":70.716888519757276},{"$f":"COUNTRY_INFO!O122","v":109762.3},null,null,{"$f":"MAX('T1'!L122,'T2'!J122)+MAX('T1'!M122,'T2'!K122)+MAX('T1'!N122,'T2'!L122)","v":94511},{"$f":"IF(COUNTRY_INFO!K122=1,IF(COUNTRY_INFO!F122*0.33>MAX('T1'!M122,'T2'!K122),MAX('T1'!M122,'T2'!K122),COUNTRY_INFO!F122*0.33),IF(COUNTRY_INFO!K122=2,IF(COUNTRY_INFO!F122*0.5>MAX('T1'!M122,'T2'!K122),MAX('T1'!M122,'T2'!K122),COUNTRY_INFO!F122*0.5),IF(COUNTRY_INFO!K122=3,IF(COUNTRY_INFO!F122>MAX('T1'!M122,'T2'!K122),MAX('T1'!M122,'T2'!K122),COUNTRY_INFO!F122),0)))","v":56426.5},{"$f":"IF(AND(COUNTRY_INFO!K122>0,COUNTRY_INFO!K122<4),IF(Z122>0,IF(COUNTRY_INFO!K122=1, AD122/(COUNTRY_INFO!F122*0.33)*100, IF(COUNTRY_INFO!K122=2, AD122/(COUNTRY_INFO!F122*0.5)*100, IF(COUNTRY_INFO!K122=3, AD122/COUNTRY_INFO!F122*100))),\"-\"),0)","v":100},{"$f":"IF(COUNTRY_INFO!K122=2,IF(COUNTRY_INFO!G122*0.2>MAX('T1'!N122,'T2'!L122),MAX('T1'!N122,'T2'!L122),COUNTRY_INFO!G122*0.2),IF(COUNTRY_INFO!K122=3,IF(COUNTRY_INFO!G122>MAX('T1'!N122,'T2'!L122),MAX('T1'!N122,'T2'!L122),COUNTRY_INFO!G122),0))","v":0},{"$f":"IF(AND(COUNTRY_INFO!K122>0,COUNTRY_INFO!K122<4),IF(Z122>0,IF(COUNTRY_INFO!K122=1, 0, IF(COUNTRY_INFO!K122=2, AF122/(COUNTRY_INFO!G122*0.2)*100, IF(COUNTRY_INFO!K122=3, AF122/COUNTRY_INFO!G122*100))),\"-\"),0)","v":0},56426.5,{"$f":"IF(AND(COUNTRY_INFO!K122>0,COUNTRY_INFO!K122<4), IF(AC122/Z122*100<>0, IF(AH122/Z122*100>100,100,AH122/Z122*100), \"-\"),0)","v":51.407905993223537},null,{"$f":"IF(AND(D122<>0, D122<>\"Unknown\",D122<>\"Stopped\",D122<>\"Not required\"),D122/COUNTRY_INFO!D122, 0)","v":0},{"$f":"IF(AND(J122<>0,J122<>\"Unknown\",J122<>\"Stopped\",J122<>\"Not required\"),J122/COUNTRY_INFO!D122, 0)","v":0},{"$f":"IF(AND(P122<>0,P122<>\"Unknown\",P122<>\"Not required\"),P122/(COUNTRY_INFO!E122+COUNTRY_INFO!F122), 0)","v":1},{"$f":"IF(AND(Z122<>0,Z122<>\"Unknown\",Z122<>\"Not required\"),IF(COUNTRY_INFO!K122=1,1,IF(COUNTRY_INFO!K122=2,0.5*COUNTRY_INFO!F122/(0.5*COUNTRY_INFO!F122+0.2*COUNTRY_INFO!G122),IF(COUNTRY_INFO!K122=3,COUNTRY_INFO!F122/(COUNTRY_INFO!F122+COUNTRY_INFO!G122)))),0)","v":0.51407905993223535},{"$f":"IF(AND(Z122<>0,Z122<>\"Unknown\",Z122<>\"Not required\"),IF(COUNTRY_INFO!K122=1,0,IF(COUNTRY_INFO!K122=2,0.2*COUNTRY_INFO!G122/(0.5*COUNTRY_INFO!F122+0.2*COUNTRY_INFO!G122),IF(COUNTRY_INFO!K122=3,COUNTRY_INFO!G122/(COUNTRY_INFO!F122+COUNTRY_INFO!G122)))),0)","v":0.48592094006776465},{"$f":"MAX(COUNTRY_INFO!D122*AK122*PROFILE!$G$7,COUNTRY_INFO!D122*AL122*PROFILE!$G$7)","v":0},{"$f":"MAX(COUNTRY_INFO!D122*AK122*PROFILE!$G$8,COUNTRY_INFO!D122*AL122*PROFILE!$G$8,COUNTRY_INFO!D122*AM122*PROFILE!$G$8)","v":44448.444659984139},{"$f":"MAX(COUNTRY_INFO!D122*AK122*PROFILE!$G$9,COUNTRY_INFO!D122*AL122*PROFILE!$G$9,COUNTRY_INFO!D122*AM122*PROFILE!$G$9,IF(AND(DISTRICT!Z122<>\"Unknown\",Z122<>\"Not required\"),COUNTRY_INFO!O122*DISTRICT!AN122,0))","v":87180.991248186358},{"$f":"MAX(COUNTRY_INFO!D122*AK122*PROFILE!$G$10,COUNTRY_INFO!D122*AL122*PROFILE!$G$10,IF(AND(DISTRICT!Z122<>\"Unknown\",Z122<>\"Not required\"),COUNTRY_INFO!O122*DISTRICT!AO122,0))","v":53335.8},184965.23590817052,"Y",{"$f":"MAX('MDA2'!J122,'T1'!L122,'T2'!J122,T3_R1!K122,T3_R2!K122)","v":0},{"$f":"MAX('MDA1'!K122,'MDA2'!K122,'MDA3'!I122,'MDA3'!L122,'T1'!M122,'T2'!K122,T3_R1!L122,T3_R2!L122)","v":94511},{"$f":"MAX('MDA1'!L122,'MDA2'!L122,'MDA3'!J122,'MDA3'!M122,'T1'!N122,'T2'!L122,T3_R1!M122,T3_R2!M122)","v":0},94511,{"$f":"MAX('MDA2'!J122,T122)","v":0},{"$f":"MAX('MDA1'!K122,'MDA2'!K122,'MDA3'!I122,'MDA3'!L122,V122,AD122)","v":94511},{"$f":"MAX('MDA1'!L122,'MDA2'!L122,'MDA3'!J122,'MDA3'!M122,AF122)","v":0},94511,51.096628799436537]
[{"$f":"IF(COUNTRY_INFO!A123=0,\" \",COUNTRY_INFO!A123)","v":"Tanzania"},{"$f":"IF(COUNTRY_INFO!B123=0,\" \",COUNTRY_INFO!B123)","v":"Mwanza"},{"$f":"IF(COUNTRY_INFO!C123=0,\" \",COUNTRY_INFO!C123)","v":"Ukerewe District Council"},{"$f":"COUNTRY_INFO!L123","v":0},null,null,{"$f":"MAX('MDA1'!M123,'MDA2'!M123)","v":0},{"$f":"IF(AND(COUNTRY_INFO!H123>0,COUNTRY_INFO!H123<4),IF(D123>MAX('MDA1'!M123,'MDA2'!M123),MAX('MDA1'!M123,'MDA2'!M123),D123),0)","v":0},{"$f":"IF(AND(COUNTRY_INFO!H123>0,COUNTRY_INFO!H123<4), IF(G123/D123*100<>0, IF(G123/D123*100>100,100,G123/D123*100), \"-\"),0)","v":0},{"$f":"COUNTRY_INFO!M123","v":0},null,null,{"$f":"MAX('MDA1'!M123,MAX('MDA3'!I123,'MDA3'!L123)+MAX('MDA3'!J123,'MDA3'!M123))","v":0},{"$f":"IF(AND(COUNTRY_INFO!I123>0,COUNTRY_INFO!I123<4),IF(J123>MAX('MDA1'!M123,MAX('MDA3'!I123,'MDA3'!L123)+MAX('MDA3'!J123,'MDA3'!M123)),MAX('MDA1'!M123,MAX('MDA3'!I123,'MDA3'!L123)+MAX('MDA3'!J123,'MDA3'!M123)),J123),0)","v":0},{"$f":"IF(AND(COUNTRY_INFO!I123>0,COUNTRY_INFO!I123<4), IF(M123/J123*100<>0, IF(M123/J123*100>100,100,M123/J123*100), \"-\"),0)","v":0},{"$f":"COUNTRY_INFO!N123","v":134325},null,null,{"$f":"SUM(MAX('MDA2'!J123, 'T1'!L123, MAX(T3_R1!K123, T3_R2!K123)), MAX('MDA1'!K123, 'MDA2'!K123, 'T1'!M123, MAX(T3_R1!L123, T3_R2!L123)), MAX('MDA1'!L123, 'MDA2'!L123, 'T1'!N123, MAX(T3_R1!M123, T3_R2!M123)))","v":92123},{"$f":"IF(AND(COUNTRY_INFO!J123>1,COUNTRY_INFO!J123<4),IF(COUNTRY_INFO!E123>MAX('MDA2'!J123,'T1'!L123,MAX(T3_R1!K123,T3_R2!K123)),MAX('MDA2'!J123,'T1'!L123,MAX(T3_R1!K123,T3_R2!K123)),COUNTRY_INFO!E123),0)","v":0},{"$f":"IF(AND(COUNTRY_INFO!J123>1,COUNTRY_INFO!J123<4), IF(T123/COUNTRY_INFO!E123*100<>0, IF(T123/COUNTRY_INFO!E123*100>100,100,T123/COUNTRY_INFO!E123*100), \"-\"),0)","v":"-"},{"$f":"IF(AND(COUNTRY_INFO!J123>1,COUNTRY_INFO!J123<4),IF(COUNTRY_INFO!F123>MAX('MDA1'!K123,'MDA2'!K123,'T1'!M123,MAX(T3_R1!L123,T3_R2!L123)),MAX('MDA1'!K123,'MDA2'!K123,'T1'!M123,MAX(T3_R1!L123,T3_R2!L123)),COUNTRY_INFO!F123),0)","v":92123},{"$f":"IF(AND(COUNTRY_INFO!J123>1,COUNTRY_INFO!J123<4), IF(V123/COUNTRY_INFO!F123*100<>0, IF(V123/COUNTRY_INFO!F123*100>100,100,V123/COUNTRY_INFO!F123*100), \"-\"),0)","v":82.37403317387222},92123,{"$f":"IF(AND(COUNTRY_INFO!J123>1,COUNTRY_INFO!J123<4), IF(S123/P123*100<>0, IF(X123/P123*100>100,100,X123/P123*100), \"-\"),0)","v":68.582170109808303},{"$f":"COUNTRY_INFO!O123","v":111477.3},null,null,{"$f":"MAX('T1'!L123,'T2'!J123)+MAX('T1'!M123,'T2'!K123)+MAX('T1'!N123,'T2'!L123)","v":92123},{"$f":"IF(COUNTRY_INFO!K123=1,IF(COUNTRY_INFO!F123*0.33>MAX('T1'!M123,'T2'!K123),MAX('T1'!M123,'T2'!K123),COUNTRY_INFO!F123*0.33),IF(COUNTRY_INFO!K123=2,IF(COUNTRY_INFO!F123*0.5>MAX('T1'!M123,'T2'!K123),MAX('T1'!M123,'T2'!K123),COUNTRY_INFO!F123*0.5),IF(COUNTRY_INFO!K123=3,IF(COUNTRY_INFO!F123>MAX('T1'!M123,'T2'!K123),MAX('T1'!M123,'T2'!K123),COUNTRY_INFO!F123),0)))","v":55917.5},{"$f":"IF(AND(COUNTRY_INFO!K123>0,COUNTRY_INFO!K123<4),IF(Z123>0,IF(COUNTRY_INFO!K123=1, AD123/(COUNTRY_INFO!F123*0.33)*100, IF(COUNTRY_INFO!K123=2, AD123/(COUNTRY_INFO!F123*0.5)*100, IF(COUNTRY_INFO!K123=3, AD123/COUNTRY_INFO!F123*100))),\"-\"),0)","v":100},{"$f":"IF(COUNTRY_INFO!K123=2,IF(COUNTRY_INFO!G123*0.2>MAX('T1'!N123,'T2'!L123),MAX('T1'!N123,'T2'!L123),COUNTRY_INFO!G123*0.2),IF(COUNTRY_INFO!K123=3,IF(COUNTRY_INFO!G123>MAX('T1'!N123,'T2'!L123),MAX('T1'!N123,'T2'!L123),COUNTRY_INFO!G123),0))","v":0},{"$f":"IF(AND(COUNTRY_INFO!K123>0,COUNTRY_INFO!K123<4),IF(Z123>0,IF(COUNTRY_INFO!K123=1, 0, IF(COUNTRY_INFO!K123=2, AF123/(COUNTRY_INFO!G123*0.2)*100, IF(COUNTRY_INFO!K123=3, AF123/COUNTRY_INFO!G123*100))),\"-\"),0)","v":0},55917.5,{"$f":"IF(AND(COUNTRY_INFO!K123>0,COUNTRY_INFO!K123<4), IF(AC123/Z123*100<>0, IF(AH123/Z123*100>100,100,AH123/Z123*100), \"-\"),0)","v":50.160436250250051},null,{"$f":"IF(AND(D123<>0, D123<>\"Unknown\",D123<>\"Stopped\",D123<>\"Not required\"),D123/COUNTRY_INFO!D123, 0)","v":0},{"$f":"IF(AND(J123<>0,J123<>\"Unknown\",J123<>\"Stopped\",J123<>\"Not required\"),J123/COUNTRY_INFO!D123, 0)","v":0},{"$f":"IF(AND(P123<>0,P123<>\"Unknown\",P123<>\"Not required\"),P123/(COUNTRY_INFO!E123+COUNTRY_INFO!F123), 0)","v":1},{"$f":"IF(AND(Z123<>0,Z123<>\"Unknown\",Z123<>\"Not required\"),IF(COUNTRY_INFO!K123=1,1,IF(COUNTRY_INFO!K123=2,0.5*COUNTRY_INFO!F123/(0.5*COUNTRY_INFO!F123+0.2*COUNTRY_INFO!G123),IF(COUNTRY_INFO!K123=3,COUNTRY_INFO!F123/(COUNTRY_INFO!F123+COUNTRY_INFO!G123)))),0)","v":0.50160436250250051},{"$f":"IF(AND(Z123<>0,Z123<>\"Unknown\",Z123<>\"Not required\"),IF(COUNTRY_INFO!K123=1,0,IF(COUNTRY_INFO!K123=2,0.2*COUNTRY_INFO!G123/(0.5*COUNTRY_INFO!F123+0.2*COUNTRY_INFO!G123),IF(COUNTRY_INFO!K123=3,COUNTRY_INFO!G123/(COUNTRY_INFO!F123+COUNTRY_INFO!G123)))),0)","v":0.49839563749749949},{"$f":"MAX(COUNTRY_INFO!D123*AK123*PROFILE!$G$7,COUNTRY_INFO!D123*AL123*PROFILE!$G$7)","v":0},{"$f":"MAX(COUNTRY_INFO!D123*AK123*PROFILE!$G$8,COUNTRY_INFO!D123*AL123*PROFILE!$G$8,COUNTRY_INFO!D123*AM123*PROFILE!$G$8)","v":45758.383934721467},{"$f":"MAX(COUNTRY_INFO!D123*AK123*PROFILE!$G$9,COUNTRY_INFO!D123*AL123*PROFILE!$G$9,COUNTRY_INFO!D123*AM123*PROFILE!$G$9,IF(AND(DISTRICT!Z123<>\"Unknown\",Z123<>\"Not required\"),COUNTRY_INFO!O123*DISTRICT!AN123,0))","v":89750.300597931579},{"$f":"MAX(COUNTRY_INFO!D123*AK123*PROFILE!$G$10,COUNTRY_INFO!D123*AL123*PROFILE!$G$10,IF(AND(DISTRICT!Z123<>\"Unknown\",Z123<>\"Not required\"),COUNTRY_INFO!O123*DISTRICT!AO123,0))","v":55559.8},191068.48453265306,"Y",{"$f":"MAX('MDA2'!J123,'T1'!L123,'T2'!J123,T3_R1!K123,T3_R2!K123)","v":0},{"$f":"MAX('MDA1'!K123,'MDA2'!K123,'MDA3'!I123,'MDA3'!L123,'T1'!M123,'T2'!K123,T3_R1!L123,T3_R2!L123)","v":92123},{"$f":"MAX('MDA1'!L123,'MDA2'!L123,'MDA3'!J123,'MDA3'!M123,'T1'!N123,'T2'!L123,T3_R1!M123,T3_R2!M123)","v":0},92123,{"$f":"MAX('MDA2'!J123,T123)","v":0},{"$f":"MAX('MDA1'!K123,'MDA2'!K123,'MDA3'!I123,'MDA3'!L123,V123,AD123)","v":92123},{"$f":"MAX('MDA1'!L123,'MDA2'!L123,'MDA3'!J123,'MDA3'!M123,AF123)","v":0},92123,48.214649435949461]
[{"$f":"IF(COUNTRY_INFO!A124=0,\" \",COUNTRY_INFO!A124)","v":"Tanzania"},{"$f":"IF(COUNTRY_INFO!B124=0,\" \",COUNTRY_INFO!B124)","v":"Njombe"},{"$f":"IF(COUNTRY_INFO!C124=0,\" \",COUNTRY_INFO!C124)","v":"Ludewa District Council"},{"$f":"COUNTRY_INFO!L124","v":"Stopped"},null,null,{"$f":"MAX('MDA1'!M124,'MDA2'!M124)","v":0},{"$f":"IF(AND(COUNTRY_INFO!H124>0,COUNTRY_INFO!H124<4),IF(D124>MAX('MDA1'!M124,'MDA2'!M124),MAX('MDA1'!M124,'MDA2'!M124),D124),0)","v":0},{"$f":"IF(AND(COUNTRY_INFO!H124>0,COUNTRY_INFO!H124<4), IF(G124/D124*100<>0, IF(G124/D124*100>100,100,G124/D124*100), \"-\"),0)","v":0},{"$f":"COUNTRY_INFO!M124","v":139742},null,null,{"$f":"MAX('MDA1'!M124,MAX('MDA3'!I124,'MDA3'!L124)+MAX('MDA3'!J124,'MDA3'!M124))","v":116308},{"$f":"IF(AND(COUNTRY_INFO!I124>0,COUNTRY_INFO!I124<4),IF(J124>MAX('MDA1'!M124,MAX('MDA3'!I124,'MDA3'!L124)+MAX('MDA3'!J124,'MDA3'!M124)),MAX('MDA1'!M124,MAX('MDA3'!I124,'MDA3'!L124)+MAX('MDA3'!J124,'MDA3'!M124)),J124),0)","v":116308},{"$f":"IF(AND(COUNTRY_INFO!I124>0,COUNTRY_INFO!I124<4), IF(M124/J124*100<>0, IF(M124/J124*100>100,100,M124/J124*100), \"-\"),0)","v":83.230524824319104},{"$f":"COUNTRY_INFO!N124","v":47918},null,null,{"$f":"SUM(MAX('MDA2'!J124, 'T1'!L124, MAX(T3_R1!K124, T3_R2!K124)), MAX('MDA1'!K124, 'MDA2'!K124, 'T1'!M124, MAX(T3_R1!L124, T3_R2!L124)), MAX('MDA1'!L124, 'MDA2'!L124, 'T1'!N124, MAX(T3_R1!M124, T3_R2!M124)))","v":36104},{"$f":"IF(AND(COUNTRY_INFO!J124>1,COUNTRY_INFO!J124<4),IF(COUNTRY_INFO!E124>MAX('MDA2'!J124,'T1'!L124,MAX(T3_R1!K124,T3_R2!K124)),MAX('MDA2'!J124,'T1'!L124,MAX(T3_R1!K124,T3_R2!K124)),COUNTRY_INFO!E124),0)","v":0},{"$f":"IF(AND(COUNTRY_INFO!J124>1,COUNTRY_INFO!J124<4), IF(T124/COUNTRY_INFO!E124*100<>0, IF(T124/COUNTRY_INFO!E124*100>100,100,T124/COUNTRY_INFO!E124*100), \"-\"),0)","v":"-"},{"$f":"IF(AND(COUNTRY_INFO!J124>1,COUNTRY_INFO!J124<4),IF(COUNTRY_INFO!F124>MAX('MDA1'!K124,'MDA2'!K124,'T1'!M124,MAX(T3_R1!L124,T3_R2!L124)),MAX('MDA1'!K124,'MDA2'!K124,'T1'!M124,MAX(T3_R1!L124,T3_R2!L124)),COUNTRY_INFO!F124),0)","v":36104},{"$f":"IF(AND(COUNTRY_INFO!J124>1,COUNTRY_INFO!J124<4), IF(V124/COUNTRY_INFO!F124*100<>0, IF(V124/COUNTRY_INFO!F124*100>100,100,V124/COUNTRY_INFO!F124*100), \"-\"),0)","v":98.367980819006618},36104,{"$f":"IF(AND(COUNTRY_INFO!J124>1,COUNTRY_INFO!J124<4), IF(S124/P124*100<>0, IF(X124/P124*100>100,100,X124/P124*100), \"-\"),0)","v":75.345381693726793},{"$f":"COUNTRY_INFO!O124","v":36716.300000000003},null,null,{"$f":"MAX('T1'!L124,'T2'!J124)+MAX('T1'!M124,'T2'!K124)+MAX('T1'!N124,'T2'!L124)","v":36104},{"$f":"IF(COUNTRY_INFO!K124=1,IF(COUNTRY_INFO!F124*0.33>MAX('T1'!M124,'T2'!K124),MAX('T1'!M124,'T2'!K124),COUNTRY_INFO!F124*0.33),IF(COUNTRY_INFO!K124=2,IF(COUNTRY_INFO!F124*0.5>MAX('T1'!M124,'T2'!K124),MAX('T1'!M124,'T2'!K124),COUNTRY_INFO!F124*0.5),IF(COUNTRY_INFO!K124=3,IF(COUNTRY_INFO!F124>MAX('T1'!M124,'T2'!K124),MAX('T1'!M124,'T2'!K124),COUNTRY_INFO!F124),0)))","v":18351.5},{"$f":"IF(AND(COUNTRY_INFO!K124>0,COUNTRY_INFO!K124<4),IF(Z124>0,IF(COUNTRY_INFO!K124=1, AD124/(COUNTRY_INFO!F124*0.33)*100, IF(COUNTRY_INFO!K124=2, AD124/(COUNTRY_INFO!F124*0.5)*100, IF(COUNTRY_INFO!K124=3, AD124/COUNTRY_INFO!F124*100))),\"-\"),0)","v":100},{"$f":"IF(COUNTRY_INFO!K124=2,IF(COUNTRY_INFO!G124*0.2>MAX('T1'!N124,'T2'!L124),MAX('T1'!N124,'T2'!L124),COUNTRY_INFO!G124*0.2),IF(COUNTRY_INFO!K124=3,IF(COUNTRY_INFO!G124>MAX('T1'!N124,'T2'!L124),MAX('T1'!N124,'T2'!L124),COUNTRY_INFO!G124),0))","v":0},{"$f":"IF(AND(COUNTRY_INFO!K124>0,COUNTRY_INFO!K124<4),IF(Z124>0,IF(COUNTRY_INFO!K124=1, 0, IF(COUNTRY_INFO!K124=2, AF124/(COUNTRY_INFO!G124*0.2)*100, IF(COUNTRY_INFO!K124=3, AF124/COUNTRY_INFO!G124*100))),\"-\"),0)","v":0},18351.5,{"$f":"IF(AND(COUNTRY_INFO!K124>0,COUNTRY_INFO!K124<4), IF(AC124/Z124*100<>0, IF(AH124/Z124*100>100,100,AH124/Z124*100), \"-\"),0)","v":49.981888153218051},null,{"$f":"IF(AND(D124<>0, D124<>\"Unknown\",D124<>\"Stopped\",D124<>\"Not required\"),D124/COUNTRY_INFO!D124, 0)","v":0},{"$f":"IF(AND(J124<>0,J124<>\"Unknown\",J124<>\"Stopped\",J124<>\"Not required\"),J124/COUNTRY_INFO!D124, 0)","v":1},{"$f":"IF(AND(P124<>0,P124<>\"Unknown\",P124<>\"Not required\"),P124/(COUNTRY_INFO!E124+COUNTRY_INFO!F124), 0)","v":1},{"$f":"IF(AND(Z124<>0,Z124<>\"Unknown\",Z124<>\"Not required\"),IF(COUNTRY_INFO!K124=1,1,IF(COUNTRY_INFO!K124=2,0.5*COUNTRY_INFO!F124/(0.5*COUNTRY_INFO!F124+0.2*COUNTRY_INFO!G124),IF(COUNTRY_INFO!K124=3,COUNTRY_INFO!F124/(COUNTRY_INFO!F124+COUNTRY_INFO!G124)))),0)","v":0.49981888153218051},{"$f":"IF(AND(Z124<>0,Z124<>\"Unknown\",Z124<>\"Not required\"),IF(COUNTRY_INFO!K124=1,0,IF(COUNTRY_INFO!K124=2,0.2*COUNTRY_INFO!G124/(0.5*COUNTRY_INFO!F124+0.2*COUNTRY_INFO!G124),IF(COUNTRY_INFO!K124=3,COUNTRY_INFO!G124/(COUNTRY_INFO!F124+COUNTRY_INFO!G124)))),0)","v":0.50018111846781943},{"$f":"MAX(COUNTRY_INFO!D124*AK124*PROFILE!$G$7,COUNTRY_INFO!D124*AL124*PROFILE!$G$7)","v":0},{"$f":"MAX(COUNTRY_INFO!D124*AK124*PROFILE!$G$8,COUNTRY_INFO!D124*AL124*PROFILE!$G$8,COUNTRY_INFO!D124*AM124*PROFILE!$G$8)","v":15515.64113666238},{"$f":"MAX(COUNTRY_INFO!D124*AK124*PROFILE!$G$9,COUNTRY_INFO!D124*AL124*PROFILE!$G$9,COUNTRY_INFO!D124*AM124*PROFILE!$G$9,IF(AND(DISTRICT!Z124<>\"Unknown\",Z124<>\"Not required\"),COUNTRY_INFO!O124*DISTRICT!AN124,0))","v":30432.312862527189},{"$f":"MAX(COUNTRY_INFO!D124*AK124*PROFILE!$G$10,COUNTRY_INFO!D124*AL124*PROFILE!$G$10,IF(AND(DISTRICT!Z124<>\"Unknown\",Z124<>\"Not required\"),COUNTRY_INFO!O124*DISTRICT!AO124,0))","v":93794.05139045215},139742.00538964174,"Y",{"$f":"MAX('MDA2'!J124,'T1'!L124,'T2'!J124,T3_R1!K124,T3_R2!K124)","v":0},{"$f":"MAX('MDA1'!K124,'MDA2'!K124,'MDA3'!I124,'MDA3'!L124,'T1'!M124,'T2'!K124,T3_R1!L124,T3_R2!L124)","v":36104},{"$f":"MAX('MDA1'!L124,'MDA2'!L124,'MDA3'!J124,'MDA3'!M124,'T1'!N124,'T2'!L124,T3_R1!M124,T3_R2!M124)","v":94093.171999999991},130197.17199999999,{"$f":"MAX('MDA2'!J124,T124)","v":0},{"$f":"MAX('MDA1'!K124,'MDA2'!K124,'MDA3'!I124,'MDA3'!L124,V124,AD124)","v":36104},{"$f":"MAX('MDA1'!L124,'MDA2'!L124,'MDA3'!J124,'MDA3'!M124,AF124)","v":94093.171999999991},130197.17199999999,93.169674813934478]
[{"$f":"IF(COUNTRY_INFO!A125=0,\" \",COUNTRY_INFO!A125)","v":"Tanzania"},{"$f":"IF(COUNTRY_INFO!B125=0,\" \",COUNTRY_INFO!B125)","v":"Njombe"},{"$f":"IF(COUNTRY_INFO!C125=0,\" \",COUNTRY_INFO!C125)","v":"Makambako Town Council"},{"$f":"COUNTRY_INFO!L125","v":"Stopped"},null,null,{"$f":"MAX('MDA1'!M125,'MDA2'!M125)","v":0},{"$f":"IF(AND(COUNTRY_INFO!H125>0,COUNTRY_INFO!H125<4),IF(D125>MAX('MDA1'!M125,'MDA2'!M125),MAX('MDA1'!M125,'MDA2'!M125),D125),0)","v":0},{"$f":"IF(AND(COUNTRY_INFO!H125>0,COUNTRY_INFO!H125<4), IF(G125/D125*100<>0, IF(G125/D125*100>100,100,G125/D125*100), \"-\"),0)","v":0},{"$f":"COUNTRY_INFO!M125","v":0},null,null,{"$f":"MAX('MDA1'!M125,MAX('MDA3'!I125,'MDA3'!L125)+MAX('MDA3'!J125,'MDA3'!M125))","v":0},{"$f":"IF(AND(COUNTRY_INFO!I125>0,COUNTRY_INFO!I125<4),IF(J125>MAX('MDA1'!M125,MAX('MDA3'!I125,'MDA3'!L125)+MAX('MDA3'!J125,'MDA3'!M125)),MAX('MDA1'!M125,MAX('MDA3'!I125,'MDA3'!L125)+MAX('MDA3'!J125,'MDA3'!M125)),J125),0)","v":0},{"$f":"IF(AND(COUNTRY_INFO!I125>0,COUNTRY_INFO!I125<4), IF(M125/J125*100<>0, IF(M125/J125*100>100,100,M125/J125*100), \"-\"),0)","v":0},{"$f":"COUNTRY_INFO!N125","v":31761},null,null,{"$f":"SUM(MAX('MDA2'!J125, 'T1'!L125, MAX(T3_R1!K125, T3_R2!K125)), MAX('MDA1'!K125, 'MDA2'!K125, 'T1'!M125, MAX(T3_R1!L125, T3_R2!L125)), MAX('MDA1'!L125, 'MDA2'!L125, 'T1'!N125, MAX(T3_R1!M125, T3_R2!M125)))","v":24201},{"$f":"IF(AND(COUNTRY_INFO!J125>1,COUNTRY_INFO!J125<4),IF(COUNTRY_INFO!E125>MAX('MDA2'!J125,'T1'!L125,MAX(T3_R1!K125,T3_R2!K125)),MAX('MDA2'!J125,'T1'!L125,MAX(T3_R1!K125,T3_R2!K125)),COUNTRY_INFO!E125),0)","v":0},{"$f":"IF(AND(COUNTRY_INFO!J125>1,COUNTRY_INFO!J125<4), IF(T125/COUNTRY_INFO!E125*100<>0, IF(T125/COUNTRY_INFO!E125*100>100,100,T125/COUNTRY_INFO!E125*100), \"-\"),0)","v":"-"},{"$f":"IF(AND(COUNTRY_INFO!J125>1,COUNTRY_INFO!J125<4),IF(COUNTRY_INFO!F125>MAX('MDA1'!K125,'MDA2'!K125,'T1'!M125,MAX(T3_R1!L125,T3_R2!L125)),MAX('MDA1'!K125,'MDA2'!K125,'T1'!M125,MAX(T3_R1!L125,T3_R2!L125)),COUNTRY_INFO!F125),0)","v":24201},{"$f":"IF(AND(COUNTRY_INFO!J125>1,COUNTRY_INFO!J125<4), IF(V125/COUNTRY_INFO!F125*100<>0, IF(V125/COUNTRY_INFO!F125*100>100,100,V125/COUNTRY_INFO!F125*100), \"-\"),0)","v":90.275290957923005},24201,{"$f":"IF(AND(COUNTRY_INFO!J125>1,COUNTRY_INFO!J125<4), IF(S125/P125*100<>0, IF(X125/P125*100>100,100,X125/P125*100), \"-\"),0)","v":76.197223009351092},{"$f":"COUNTRY_INFO!O125","v":26736.2},null,null,{"$f":"MAX('T1'!L125,'T2'!J125)+MAX('T1'!M125,'T2'!K125)+MAX('T1'!N125,'T2'!L125)","v":24201},{"$f":"IF(COUNTRY_INFO!K125=1,IF(COUNTRY_INFO!F125*0.33>MAX('T1'!M125,'T2'!K125),MAX('T1'!M125,'T2'!K125),COUNTRY_INFO!F125*0.33),IF(COUNTRY_INFO!K125=2,IF(COUNTRY_INFO!F125*0.5>MAX('T1'!M125,'T2'!K125),MAX('T1'!M125,'T2'!K125),COUNTRY_INFO!F125*0.5),IF(COUNTRY_INFO!K125=3,IF(COUNTRY_INFO!F125>MAX('T1'!M125,'T2'!K125),MAX('T1'!M125,'T2'!K125),COUNTRY_INFO!F125),0)))","v":13404},{"$f":"IF(AND(COUNTRY_INFO!K125>0,COUNTRY_INFO!K125<4),IF(Z125>0,IF(COUNTRY_INFO!K125=1, AD125/(COUNTRY_INFO!F125*0.33)*100, IF(COUNTRY_INFO!K125=2, AD125/(COUNTRY_INFO!F125*0.5)*100, IF(COUNTRY_INFO!K125=3, AD125/COUNTRY_INFO!F125*100))),\"-\"),0)","v":100},{"$f":"IF(COUNTRY_INFO!K125=2,IF(COUNTRY_INFO!G125*0.2>MAX('T1'!N125,'T2'!L125),MAX('T1'!N125,'T2'!L125),COUNTRY_INFO!G125*0.2),IF(COUNTRY_INFO!K125=3,IF(COUNTRY_INFO!G125>MAX('T1'!N125,'T2'!L125),MAX('T1'!N125,'T2'!L125),COUNTRY_INFO!G125),0))","v":0},{"$f":"IF(AND(COUNTRY_INFO!K125>0,COUNTRY_INFO!K125<4),IF(Z125>0,IF(COUNTRY_INFO!K125=1, 0, IF(COUNTRY_INFO!K125=2, AF125/(COUNTRY_INFO!G125*0.2)*100, IF(COUNTRY_INFO!K125=3, AF125/COUNTRY_INFO!G125*100))),\"-\"),0)","v":0},13404,{"$f":"IF(AND(COUNTRY_INFO!K125>0,COUNTRY_INFO!K125<4), IF(AC125/Z125*100<>0, IF(AH125/Z125*100>100,100,AH125/Z125*100), \"-\"),0)","v":50.134274878254949},null,{"$f":"IF(AND(D125<>0, D125<>\"Unknown\",D125<>\"Stopped\",D125<>\"Not required\"),D125/COUNTRY_INFO!D125, 0)","v":0},{"$f":"IF(AND(J125<>0,J125<>\"Unknown\",J125<>\"Stopped\",J125<>\"Not required\"),J125/COUNTRY_INFO!D125, 0)","v":0},{"$f":"IF(AND(P125<>0,P125<>\"Unknown\",P125<>\"Not required\"),P125/(COUNTRY_INFO!E125+COUNTRY_INFO!F125), 0)","v":1},{"$f":"IF(AND(Z125<>0,Z125<>\"Unknown\",Z125<>\"Not required\"),IF(COUNTRY_INFO!K125=1,1,IF(COUNTRY_INFO!K125=2,0.5*COUNTRY_INFO!F125/(0.5*COUNTRY_INFO!F125+0.2*COUNTRY_INFO!G125),IF(COUNTRY_INFO!K125=3,COUNTRY_INFO!F125/(COUNTRY_INFO!F125+COUNTRY_INFO!G125)))),0)","v":0.50134274878254947},{"$f":"IF(AND(Z125<>0,Z125<>\"Unknown\",Z125<>\"Not required\"),IF(COUNTRY_INFO!K125=1,0,IF(COUNTRY_INFO!K125=2,0.2*COUNTRY_INFO!G125/(0.5*COUNTRY_INFO!F125+0.2*COUNTRY_INFO!G125),IF(COUNTRY_INFO!K125=3,COUNTRY_INFO!G125/(COUNTRY_INFO!F125+COUNTRY_INFO!G125)))),0)","v":0.49865725121745053},{"$f":"MAX(COUNTRY_INFO!D125*AK125*PROFILE!$G$7,COUNTRY_INFO!D125*AL125*PROFILE!$G$7)","v":0},{"$f":"MAX(COUNTRY_INFO!D125*AK125*PROFILE!$G$8,COUNTRY_INFO!D125*AL125*PROFILE!$G$8,COUNTRY_INFO!D125*AM125*PROFILE!$G$8)","v":10927.855848296036},{"$f":"MAX(COUNTRY_INFO!D125*AK125*PROFILE!$G$9,COUNTRY_INFO!D125*AL125*PROFILE!$G$9,COUNTRY_INFO!D125*AM125*PROFILE!$G$9,IF(AND(DISTRICT!Z125<>\"Unknown\",Z125<>\"Not required\"),COUNTRY_INFO!O125*DISTRICT!AN125,0))","v":21433.850213648373},{"$f":"MAX(COUNTRY_INFO!D125*AK125*PROFILE!$G$10,COUNTRY_INFO!D125*AL125*PROFILE!$G$10,IF(AND(DISTRICT!Z125<>\"Unknown\",Z125<>\"Not required\"),COUNTRY_INFO!O125*DISTRICT!AO125,0))","v":13332.2},45693.906061944406,"Y",{"$f":"MAX('MDA2'!J125,'T1'!L125,'T2'!J125,T3_R1!K125,T3_R2!K125)","v":0},{"$f":"MAX('MDA1'!K125,'MDA2'!K125,'MDA3'!I125,'MDA3'!L125,'T1'!M125,'T2'!K125,T3_R1!L125,T3_R2!L125)","v":24201},{"$f":"MAX('MDA1'!L125,'MDA2'!L125,'MDA3'!J125,'MDA3'!M125,'T1'!N125,'T2'!L125,T3_R1!M125,T3_R2!M125)","v":0},24201,{"$f":"MAX('MDA2'!J125,T125)","v":0},{"$f":"MAX('MDA1'!K125,'MDA2'!K125,'MDA3'!I125,'MDA3'!L125,V125,AD125)","v":24201},{"$f":"MAX('MDA1'!L125,'MDA2'!L125,'MDA3'!J125,'MDA3'!M125,AF125)","v":0},24201,52.963298797857639]
[{"$f":"IF(COUNTRY_INFO!A126=0,\" \",COUNTRY_INFO!A126)","v":"Tanzania"},{"$f":"IF(COUNTRY_INFO!B126=0,\" \",COUNTRY_INFO!B126)","v":"Njombe"},{"$f":"IF(COUNTRY_INFO!C126=0,\" \",COUNTRY_INFO!C126)","v":"Makete District Council"},{"$f":"COUNTRY_INFO!L126","v":"Stopped"},null,null,{"$f":"MAX('MDA1'!M126,'MDA2'!M126)","v":0},{"$f":"IF(AND(COUNTRY_INFO!H126>0,COUNTRY_INFO!H126<4),IF(D126>MAX('MDA1'!M126,'MDA2'!M126),MAX('MDA1'!M126,'MDA2'!M126),D126),0)","v":0},{"$f":"IF(AND(COUNTRY_INFO!H126>0,COUNTRY_INFO!H126<4), IF(G126/D126*100<>0, IF(G126/D126*100>100,100,G126/D126*100), \"-\"),0)","v":0},{"$f":"COUNTRY_INFO!M126","v":0},null,null,{"$f":"MAX('MDA1'!M126,MAX('MDA3'!I126,'MDA3'!L126)+MAX('MDA3'!J126,'MDA3'!M126))","v":0},{"$f":"IF(AND(COUNTRY_INFO!I126>0,COUNTRY_INFO!I126<4),IF(J126>MAX('MDA1'!M126,MAX('MDA3'!I126,'MDA3'!L126)+MAX('MDA3'!J126,'MDA3'!M126)),MAX('MDA1'!M126,MAX('MDA3'!I126,'MDA3'!L126)+MAX('MDA3'!J126,'MDA3'!M126)),J126),0)","v":0},{"$f":"IF(AND(COUNTRY_INFO!I126>0,COUNTRY_INFO!I126<4), IF(M126/J126*100<>0, IF(M126/J126*100>100,100,M126/J126*100), \"-\"),0)","v":0},{"$f":"COUNTRY_INFO!N126","v":32886},null,null,{"$f":"SUM(MAX('MDA2'!J126, 'T1'!L126, MAX(T3_R1!K126, T3_R2!K126)), MAX('MDA1'!K126, 'MDA2'!K126, 'T1'!M126, MAX(T3_R1!L126, T3_R2!L126)), MAX('MDA1'!L126, 'MDA2'!L126, 'T1'!N126, MAX(T3_R1!M126, T3_R2!M126)))","v":21809},{"$f":"IF(AND(COUNTRY_INFO!J126>1,COUNTRY_INFO!J126<4),IF(COUNTRY_INFO!E126>MAX('MDA2'!J126,'T1'!L126,MAX(T3_R1!K126,T3_R2!K126)),MAX('MDA2'!J126,'T1'!L126,MAX(T3_R1!K126,T3_R2!K126)),COUNTRY_INFO!E126),0)","v":0},{"$f":"IF(AND(COUNTRY_INFO!J126>1,COUNTRY_INFO!J126<4), IF(T126/COUNTRY_INFO!E126*100<>0, IF(T126/COUNTRY_INFO!E126*100>100,100,T126/COUNTRY_INFO!E126*100), \"-\"),0)","v":"-"},{"$f":"IF(AND(COUNTRY_INFO!J126>1,COUNTRY_INFO!J126<4),IF(COUNTRY_INFO!F126>MAX('MDA1'!K126,'MDA2'!K126,'T1'!M126,MAX(T3_R1!L126,T3_R2!L126)),MAX('MDA1'!K126,'MDA2'!K126,'T1'!M126,MAX(T3_R1!L126,T3_R2!L126)),COUNTRY_INFO!F126),0)","v":21809},{"$f":"IF(AND(COUNTRY_INFO!J126>1,COUNTRY_INFO!J126<4), IF(V126/COUNTRY_INFO!F126*100<>0, IF(V126/COUNTRY_INFO!F126*100>100,100,V126/COUNTRY_INFO!F126*100), \"-\"),0)","v":95.741691909214637},21809,{"$f":"IF(AND(COUNTRY_INFO!J126>1,COUNTRY_INFO!J126<4), IF(S126/P126*100<>0, IF(X126/P126*100>100,100,X126/P126*100), \"-\"),0)","v":66.316973788238158},{"$f":"COUNTRY_INFO!O126","v":25218.1},null,null,{"$f":"MAX('T1'!L126,'T2'!J126)+MAX('T1'!M126,'T2'!K126)+MAX('T1'!N126,'T2'!L126)","v":21809},{"$f":"IF(COUNTRY_INFO!K126=1,IF(COUNTRY_INFO!F126*0.33>MAX('T1'!M126,'T2'!K126),MAX('T1'!M126,'T2'!K126),COUNTRY_INFO!F126*0.33),IF(COUNTRY_INFO!K126=2,IF(COUNTRY_INFO!F126*0.5>MAX('T1'!M126,'T2'!K126),MAX('T1'!M126,'T2'!K126),COUNTRY_INFO!F126*0.5),IF(COUNTRY_INFO!K126=3,IF(COUNTRY_INFO!F126>MAX('T1'!M126,'T2'!K126),MAX('T1'!M126,'T2'!K126),COUNTRY_INFO!F126),0)))","v":11389.5},{"$f":"IF(AND(COUNTRY_INFO!K126>0,COUNTRY_INFO!K126<4),IF(Z126>0,IF(COUNTRY_INFO!K126=1, AD126/(COUNTRY_INFO!F126*0.33)*100, IF(COUNTRY_INFO!K126=2, AD126/(COUNTRY_INFO!F126*0.5)*100, IF(COUNTRY_INFO!K126=3, AD126/COUNTRY_INFO!F126*100))),\"-\"),0)","v":100},{"$f":"IF(COUNTRY_INFO!K126=2,IF(COUNTRY_INFO!G126*0.2>MAX('T1'!N126,'T2'!L126),MAX('T1'!N126,'T2'!L126),COUNTRY_INFO!G126*0.2),IF(COUNTRY_INFO!K126=3,IF(COUNTRY_INFO!G126>MAX('T1'!N126,'T2'!L126),MAX('T1'!N126,'T2'!L126),COUNTRY_INFO!G126),0))","v":0},{"$f":"IF(AND(COUNTRY_INFO!K126>0,COUNTRY_INFO!K126<4),IF(Z126>0,IF(COUNTRY_INFO!K126=1, 0, IF(COUNTRY_INFO!K126=2, AF126/(COUNTRY_INFO!G126*0.2)*100, IF(COUNTRY_INFO!K126=3, AF126/COUNTRY_INFO!G126*100))),\"-\"),0)","v":0},11389.5,{"$f":"IF(AND(COUNTRY_INFO!K126>0,COUNTRY_INFO!K126<4), IF(AC126/Z126*100<>0, IF(AH126/Z126*100>100,100,AH126/Z126*100), \"-\"),0)","v":45.163989356850834},null,{"$f":"IF(AND(D126<>0, D126<>\"Unknown\",D126<>\"Stopped\",D126<>\"Not required\"),D126/COUNTRY_INFO!D126, 0)","v":0},{"$f":"IF(AND(J126<>0,J126<>\"Unknown\",J126<>\"Stopped\",J126<>\"Not required\"),J126/COUNTRY_INFO!D126, 0)","v":0},{"$f":"IF(AND(P126<>0,P126<>\"Unknown\",P126<>\"Not required\"),P126/(COUNTRY_INFO!E126+COUNTRY_INFO!F126), 0)","v":1},{"$f":"IF(AND(Z126<>0,Z126<>\"Unknown\",Z126<>\"Not required\"),IF(COUNTRY_INFO!K126=1,1,IF(COUNTRY_INFO!K126=2,0.5*COUNTRY_INFO!F126/(0.5*COUNTRY_INFO!F126+0.2*COUNTRY_INFO!G126),IF(COUNTRY_INFO!K126=3,COUNTRY_INFO!F126/(COUNTRY_INFO!F126+COUNTRY_INFO!G126)))),0)","v":0.45163989356850837},{"$f":"IF(AND(Z126<>0,Z126<>\"Unknown\",Z126<>\"Not required\"),IF(COUNTRY_INFO!K126=1,0,IF(COUNTRY_INFO!K126=2,0.2*COUNTRY_INFO!G126/(0.5*COUNTRY_INFO!F126+0.2*COUNTRY_INFO!G126),IF(COUNTRY_INFO!K126=3,COUNTRY_INFO!G126/(COUNTRY_INFO!F126+COUNTRY_INFO!G126)))),0)","v":0.54836010643149169},{"$f":"MAX(COUNTRY_INFO!D126*AK126*PROFILE!$G$7,COUNTRY_INFO!D126*AL126*PROFILE!$G$7)","v":0},{"$f":"MAX(COUNTRY_INFO!D126*AK126*PROFILE!$G$8,COUNTRY_INFO!D126*AL126*PROFILE!$G$8,COUNTRY_INFO!D126*AM126*PROFILE!$G$8)","v":11328.3433007437},{"$f":"MAX(COUNTRY_INFO!D126*AK126*PROFILE!$G$9,COUNTRY_INFO!D126*AL126*PROFILE!$G$9,COUNTRY_INFO!D126*AM126*PROFILE!$G$9,IF(AND(DISTRICT!Z126<>\"Unknown\",Z126<>\"Not required\"),COUNTRY_INFO!O126*DISTRICT!AN126,0))","v":22219.364607997497},{"$f":"MAX(COUNTRY_INFO!D126*AK126*PROFILE!$G$10,COUNTRY_INFO!D126*AL126*PROFILE!$G$10,IF(AND(DISTRICT!Z126<>\"Unknown\",Z126<>\"Not required\"),COUNTRY_INFO!O126*DISTRICT!AO126,0))","v":13828.6},47376.307908741197,"Y",{"$f":"MAX('MDA2'!J126,'T1'!L126,'T2'!J126,T3_R1!K126,T3_R2!K126)","v":0},{"$f":"MAX('MDA1'!K126,'MDA2'!K126,'MDA3'!I126,'MDA3'!L126,'T1'!M126,'T2'!K126,T3_R1!L126,T3_R2!L126)","v":21809},{"$f":"MAX('MDA1'!L126,'MDA2'!L126,'MDA3'!J126,'MDA3'!M126,'T1'!N126,'T2'!L126,T3_R1!M126,T3_R2!M126)","v":0},21809,{"$f":"MAX('MDA2'!J126,T126)","v":0},{"$f":"MAX('MDA1'!K126,'MDA2'!K126,'MDA3'!I126,'MDA3'!L126,V126,AD126)","v":21809},{"$f":"MAX('MDA1'!L126,'MDA2'!L126,'MDA3'!J126,'MDA3'!M126,AF126)","v":0},21809,46.033557621268571]
[{"$f":"IF(COUNTRY_INFO!A127=0,\" \",COUNTRY_INFO!A127)","v":"Tanzania"},{"$f":"IF(COUNTRY_INFO!B127=0,\" \",COUNTRY_INFO!B127)","v":"Njombe"},{"$f":"IF(COUNTRY_INFO!C127=0,\" \",COUNTRY_INFO!C127)","v":"Njombe District Council"},{"$f":"COUNTRY_INFO!L127","v":"Stopped"},null,null,{"$f":"MAX('MDA1'!M127,'MDA2'!M127)","v":0},{"$f":"IF(AND(COUNTRY_INFO!H127>0,COUNTRY_INFO!H127<4),IF(D127>MAX('MDA1'!M127,'MDA2'!M127),MAX('MDA1'!M127,'MDA2'!M127),D127),0)","v":0},{"$f":"IF(AND(COUNTRY_INFO!H127>0,COUNTRY_INFO!H127<4), IF(G127/D127*100<>0, IF(G127/D127*100>100,100,G127/D127*100), \"-\"),0)","v":0},{"$f":"COUNTRY_INFO!M127","v":92911},null,null,{"$f":"MAX('MDA1'!M127,MAX('MDA3'!I127,'MDA3'!L127)+MAX('MDA3'!J127,'MDA3'!M127))","v":80299},{"$f":"IF(AND(COUNTRY_INFO!I127>0,COUNTRY_INFO!I127<4),IF(J127>MAX('MDA1'!M127,MAX('MDA3'!I127,'MDA3'!L127)+MAX('MDA3'!J127,'MDA3'!M127)),MAX('MDA1'!M127,MAX('MDA3'!I127,'MDA3'!L127)+MAX('MDA3'!J127,'MDA3'!M127)),J127),0)","v":80299},{"$f":"IF(AND(COUNTRY_INFO!I127>0,COUNTRY_INFO!I127<4), IF(M127/J127*100<>0, IF(M127/J127*100>100,100,M127/J127*100), \"-\"),0)","v":86.425719236688863},{"$f":"COUNTRY_INFO!N127","v":33167},null,null,{"$f":"SUM(MAX('MDA2'!J127, 'T1'!L127, MAX(T3_R1!K127, T3_R2!K127)), MAX('MDA1'!K127, 'MDA2'!K127, 'T1'!M127, MAX(T3_R1!L127, T3_R2!L127)), MAX('MDA1'!L127, 'MDA2'!L127, 'T1'!N127, MAX(T3_R1!M127, T3_R2!M127)))","v":21269},{"$f":"IF(AND(COUNTRY_INFO!J127>1,COUNTRY_INFO!J127<4),IF(COUNTRY_INFO!E127>MAX('MDA2'!J127,'T1'!L127,MAX(T3_R1!K127,T3_R2!K127)),MAX('MDA2'!J127,'T1'!L127,MAX(T3_R1!K127,T3_R2!K127)),COUNTRY_INFO!E127),0)","v":0},{"$f":"IF(AND(COUNTRY_INFO!J127>1,COUNTRY_INFO!J127<4), IF(T127/COUNTRY_INFO!E127*100<>0, IF(T127/COUNTRY_INFO!E127*100>100,100,T127/COUNTRY_INFO!E127*100), \"-\"),0)","v":"-"},{"$f":"IF(AND(COUNTRY_INFO!J127>1,COUNTRY_INFO!J127<4),IF(COUNTRY_INFO!F127>MAX('MDA1'!K127,'MDA2'!K127,'T1'!M127,MAX(T3_R1!L127,T3_R2!L127)),MAX('MDA1'!K127,'MDA2'!K127,'T1'!M127,MAX(T3_R1!L127,T3_R2!L127)),COUNTRY_INFO!F127),0)","v":21269},{"$f":"IF(AND(COUNTRY_INFO!J127>1,COUNTRY_INFO!J127<4), IF(V127/COUNTRY_INFO!F127*100<>0, IF(V127/COUNTRY_INFO!F127*100>100,100,V127/COUNTRY_INFO!F127*100), \"-\"),0)","v":95.440879515369076},21269,{"$f":"IF(AND(COUNTRY_INFO!J127>1,COUNTRY_INFO!J127<4), IF(S127/P127*100<>0, IF(X127/P127*100>100,100,X127/P127*100), \"-\"),0)","v":64.126993698555793},{"$f":"COUNTRY_INFO!O127","v":23091.300000000003},null,null,{"$f":"MAX('T1'!L127,'T2'!J127)+MAX('T1'!M127,'T2'!K127)+MAX('T1'!N127,'T2'!L127)","v":21269},{"$f":"IF(COUNTRY_INFO!K127=1,IF(COUNTRY_INFO!F127*0.33>MAX('T1'!M127,'T2'!K127),MAX('T1'!M127,'T2'!K127),COUNTRY_INFO!F127*0.33),IF(COUNTRY_INFO!K127=2,IF(COUNTRY_INFO!F127*0.5>MAX('T1'!M127,'T2'!K127),MAX('T1'!M127,'T2'!K127),COUNTRY_INFO!F127*0.5),IF(COUNTRY_INFO!K127=3,IF(COUNTRY_INFO!F127>MAX('T1'!M127,'T2'!K127),MAX('T1'!M127,'T2'!K127),COUNTRY_INFO!F127),0)))","v":11142.5},{"$f":"IF(AND(COUNTRY_INFO!K127>0,COUNTRY_INFO!K127<4),IF(Z127>0,IF(COUNTRY_INFO!K127=1, AD127/(COUNTRY_INFO!F127*0.33)*100, IF(COUNTRY_INFO!K127=2, AD127/(COUNTRY_INFO!F127*0.5)*100, IF(COUNTRY_INFO!K127=3, AD127/COUNTRY_INFO!F127*100))),\"-\"),0)","v":100},{"$f":"IF(COUNTRY_INFO!K127=2,IF(COUNTRY_INFO!G127*0.2>MAX('T1'!N127,'T2'!L127),MAX('T1'!N127,'T2'!L127),COUNTRY_INFO!G127*0.2),IF(COUNTRY_INFO!K127=3,IF(COUNTRY_INFO!G127>MAX('T1'!N127,'T2'!L127),MAX('T1'!N127,'T2'!L127),COUNTRY_INFO!G127),0))","v":0},{"$f":"IF(AND(COUNTRY_INFO!K127>0,COUNTRY_INFO!K127<4),IF(Z127>0,IF(COUNTRY_INFO!K127=1, 0, IF(COUNTRY_INFO!K127=2, AF127/(COUNTRY_INFO!G127*0.2)*100, IF(COUNTRY_INFO!K127=3, AF127/COUNTRY_INFO!G127*100))),\"-\"),0)","v":0},11142.5,{"$f":"IF(AND(COUNTRY_INFO!K127>0,COUNTRY_INFO!K127<4), IF(AC127/Z127*100<>0, IF(AH127/Z127*100>100,100,AH127/Z127*100), \"-\"),0)","v":48.254104359650597},null,{"$f":"IF(AND(D127<>0, D127<>\"Unknown\",D127<>\"Stopped\",D127<>\"Not required\"),D127/COUNTRY_INFO!D127, 0)","v":0},{"$f":"IF(AND(J127<>0,J127<>\"Unknown\",J127<>\"Stopped\",J127<>\"Not required\"),J127/COUNTRY_INFO!D127, 0)","v":1},{"$f":"IF(AND(P127<>0,P127<>\"Unknown\",P127<>\"Not required\"),P127/(COUNTRY_INFO!E127+COUNTRY_INFO!F127), 0)","v":1},{"$f":"IF(AND(Z127<>0,Z127<>\"Unknown\",Z127<>\"Not required\"),IF(COUNTRY_INFO!K127=1,1,IF(COUNTRY_INFO!K127=2,0.5*COUNTRY_INFO!F127/(0.5*COUNTRY_INFO!F127+0.2*COUNTRY_INFO!G127),IF(COUNTRY_INFO!K127=3,COUNTRY_INFO!F127/(COUNTRY_INFO!F127+COUNTRY_INFO!G127)))),0)","v":0.48254104359650596},{"$f":"IF(AND(Z127<>0,Z127<>\"Unknown\",Z127<>\"Not required\"),IF(COUNTRY_INFO!K127=1,0,IF(COUNTRY_INFO!K127=2,0.2*COUNTRY_INFO!G127/(0.5*COUNTRY_INFO!F127+0.2*COUNTRY_INFO!G127),IF(COUNTRY_INFO!K127=3,COUNTRY_INFO!G127/(COUNTRY_INFO!F127+COUNTRY_INFO!G127)))),0)","v":0.51745895640349393},{"$f":"MAX(COUNTRY_INFO!D127*AK127*PROFILE!$G$7,COUNTRY_INFO!D127*AL127*PROFILE!$G$7)","v":0},{"$f":"MAX(COUNTRY_INFO!D127*AK127*PROFILE!$G$8,COUNTRY_INFO!D127*AL127*PROFILE!$G$8,COUNTRY_INFO!D127*AM127*PROFILE!$G$8)","v":10315.966092144368},{"$f":"MAX(COUNTRY_INFO!D127*AK127*PROFILE!$G$9,COUNTRY_INFO!D127*AL127*PROFILE!$G$9,COUNTRY_INFO!D127*AM127*PROFILE!$G$9,IF(AND(DISTRICT!Z127<>\"Unknown\",Z127<>\"Not required\"),COUNTRY_INFO!O127*DISTRICT!AN127,0))","v":20233.692235478695},{"$f":"MAX(COUNTRY_INFO!D127*AK127*PROFILE!$G$10,COUNTRY_INFO!D127*AL127*PROFILE!$G$10,IF(AND(DISTRICT!Z127<>\"Unknown\",Z127<>\"Not required\"),COUNTRY_INFO!O127*DISTRICT!AO127,0))","v":62361.345255816435},92911.003583439495,"Y",{"$f":"MAX('MDA2'!J127,'T1'!L127,'T2'!J127,T3_R1!K127,T3_R2!K127)","v":0},{"$f":"MAX('MDA1'!K127,'MDA2'!K127,'MDA3'!I127,'MDA3'!L127,'T1'!M127,'T2'!K127,T3_R1!L127,T3_R2!L127)","v":21269},{"$f":"MAX('MDA1'!L127,'MDA2'!L127,'MDA3'!J127,'MDA3'!M127,'T1'!N127,'T2'!L127,T3_R1!M127,T3_R2!M127)","v":64961.891000000003},86230.891000000003,{"$f":"MAX('MDA2'!J127,T127)","v":0},{"$f":"MAX('MDA1'!K127,'MDA2'!K127,'MDA3'!I127,'MDA3'!L127,V127,AD127)","v":21269},{"$f":"MAX('MDA1'!L127,'MDA2'!L127,'MDA3'!J127,'MDA3'!M127,AF127)","v":64961.891000000003},86230.891000000003,92.810202962192363]
[{"$f":"IF(COUNTRY_INFO!A128=0,\" \",COUNTRY_INFO!A128)","v":"Tanzania"},{"$f":"IF(COUNTRY_INFO!B128=0,\" \",COUNTRY_INFO!B128)","v":"Njombe"},{"$f":"IF(COUNTRY_INFO!C128=0,\" \",COUNTRY_INFO!C128)","v":"Njombe Town Council"},{"$f":"COUNTRY_INFO!L128","v":"Stopped"},null,null,{"$f":"MAX('MDA1'!M128,'MDA2'!M128)","v":0},{"$f":"IF(AND(COUNTRY_INFO!H128>0,COUNTRY_INFO!H128<4),IF(D128>MAX('MDA1'!M128,'MDA2'!M128),MAX('MDA1'!M128,'MDA2'!M128),D128),0)","v":0},{"$f":"IF(AND(COUNTRY_INFO!H128>0,COUNTRY_INFO!H128<4), IF(G128/D128*100<>0, IF(G128/D128*100>100,100,G128/D128*100), \"-\"),0)","v":0},{"$f":"COUNTRY_INFO!M128","v":0},null,null,{"$f":"MAX('MDA1'!M128,MAX('MDA3'!I128,'MDA3'!L128)+MAX('MDA3'!J128,'MDA3'!M128))","v":0},{"$f":"IF(AND(COUNTRY_INFO!I128>0,COUNTRY_INFO!I128<4),IF(J128>MAX('MDA1'!M128,MAX('MDA3'!I128,'MDA3'!L128)+MAX('MDA3'!J128,'MDA3'!M128)),MAX('MDA1'!M128,MAX('MDA3'!I128,'MDA3'!L128)+MAX('MDA3'!J128,'MDA3'!M128)),J128),0)","v":0},{"$f":"IF(AND(COUNTRY_INFO!I128>0,COUNTRY_INFO!I128<4), IF(M128/J128*100<>0, IF(M128/J128*100>100,100,M128/J128*100), \"-\"),0)","v":0},{"$f":"COUNTRY_INFO!N128","v":43530},null,null,{"$f":"SUM(MAX('MDA2'!J128, 'T1'!L128, MAX(T3_R1!K128, T3_R2!K128)), MAX('MDA1'!K128, 'MDA2'!K128, 'T1'!M128, MAX(T3_R1!L128, T3_R2!L128)), MAX('MDA1'!L128, 'MDA2'!L128, 'T1'!N128, MAX(T3_R1!M128, T3_R2!M128)))","v":35113},{"$f":"IF(AND(COUNTRY_INFO!J128>1,COUNTRY_INFO!J128<4),IF(COUNTRY_INFO!E128>MAX('MDA2'!J128,'T1'!L128,MAX(T3_R1!K128,T3_R2!K128)),MAX('MDA2'!J128,'T1'!L128,MAX(T3_R1!K128,T3_R2!K128)),COUNTRY_INFO!E128),0)","v":0},{"$f":"IF(AND(COUNTRY_INFO!J128>1,COUNTRY_INFO!J128<4), IF(T128/COUNTRY_INFO!E128*100<>0, IF(T128/COUNTRY_INFO!E128*100>100,100,T128/COUNTRY_INFO!E128*100), \"-\"),0)","v":"-"},{"$f":"IF(AND(COUNTRY_INFO!J128>1,COUNTRY_INFO!J128<4),IF(COUNTRY_INFO!F128>MAX('MDA1'!K128,'MDA2'!K128,'T1'!M128,MAX(T3_R1!L128,T3_R2!L128)),MAX('MDA1'!K128,'MDA2'!K128,'T1'!M128,MAX(T3_R1!L128,T3_R2!L128)),COUNTRY_INFO!F128),0)","v":35113},{"$f":"IF(AND(COUNTRY_INFO!J128>1,COUNTRY_INFO!J128<4), IF(V128/COUNTRY_INFO!F128*100<>0, IF(V128/COUNTRY_INFO!F128*100>100,100,V128/COUNTRY_INFO!F128*100), \"-\"),0)","v":98.488163356894418},35113,{"$f":"IF(AND(COUNTRY_INFO!J128>1,COUNTRY_INFO!J128<4), IF(S128/P128*100<>0, IF(X128/P128*100>100,100,X128/P128*100), \"-\"),0)","v":80.663909947162864},{"$f":"COUNTRY_INFO!O128","v":36440},null,null,{"$f":"MAX('T1'!L128,'T2'!J128)+MAX('T1'!M128,'T2'!K128)+MAX('T1'!N128,'T2'!L128)","v":35113},{"$f":"IF(COUNTRY_INFO!K128=1,IF(COUNTRY_INFO!F128*0.33>MAX('T1'!M128,'T2'!K128),MAX('T1'!M128,'T2'!K128),COUNTRY_INFO!F128*0.33),IF(COUNTRY_INFO!K128=2,IF(COUNTRY_INFO!F128*0.5>MAX('T1'!M128,'T2'!K128),MAX('T1'!M128,'T2'!K128),COUNTRY_INFO!F128*0.5),IF(COUNTRY_INFO!K128=3,IF(COUNTRY_INFO!F128>MAX('T1'!M128,'T2'!K128),MAX('T1'!M128,'T2'!K128),COUNTRY_INFO!F128),0)))","v":17826},{"$f":"IF(AND(COUNTRY_INFO!K128>0,COUNTRY_INFO!K128<4),IF(Z128>0,IF(COUNTRY_INFO!K128=1, AD128/(COUNTRY_INFO!F128*0.33)*100, IF(COUNTRY_INFO!K128=2, AD128/(COUNTRY_INFO!F128*0.5)*100, IF(COUNTRY_INFO!K128=3, AD128/COUNTRY_INFO!F128*100))),\"-\"),0)","v":100},{"$f":"IF(COUNTRY_INFO!K128=2,IF(COUNTRY_INFO!G128*0.2>MAX('T1'!N128,'T2'!L128),MAX('T1'!N128,'T2'!L128),COUNTRY_INFO!G128*0.2),IF(COUNTRY_INFO!K128=3,IF(COUNTRY_INFO!G128>MAX('T1'!N128,'T2'!L128),MAX('T1'!N128,'T2'!L128),COUNTRY_INFO!G128),0))","v":0},{"$f":"IF(AND(COUNTRY_INFO!K128>0,COUNTRY_INFO!K128<4),IF(Z128>0,IF(COUNTRY_INFO!K128=1, 0, IF(COUNTRY_INFO!K128=2, AF128/(COUNTRY_INFO!G128*0.2)*100, IF(COUNTRY_INFO!K128=3, AF128/COUNTRY_INFO!G128*100))),\"-\"),0)","v":0},17826,{"$f":"IF(AND(COUNTRY_INFO!K128>0,COUNTRY_INFO!K128<4), IF(AC128/Z128*100<>0, IF(AH128/Z128*100>100,100,AH128/Z128*100), \"-\"),0)","v":48.918770581778261},null,{"$f":"IF(AND(D128<>0, D128<>\"Unknown\",D128<>\"Stopped\",D128<>\"Not required\"),D128/COUNTRY_INFO!D128, 0)","v":0},{"$f":"IF(AND(J128<>0,J128<>\"Unknown\",J128<>\"Stopped\",J128<>\"Not required\"),J128/COUNTRY_INFO!D128, 0)","v":0},{"$f":"IF(AND(P128<>0,P128<>\"Unknown\",P128<>\"Not required\"),P128/(COUNTRY_INFO!E128+COUNTRY_INFO!F128), 0)","v":1},{"$f":"IF(AND(Z128<>0,Z128<>\"Unknown\",Z128<>\"Not required\"),IF(COUNTRY_INFO!K128=1,1,IF(COUNTRY_INFO!K128=2,0.5*COUNTRY_INFO!F128/(0.5*COUNTRY_INFO!F128+0.2*COUNTRY_INFO!G128),IF(COUNTRY_INFO!K128=3,COUNTRY_INFO!F128/(COUNTRY_INFO!F128+COUNTRY_INFO!G128)))),0)","v":0.48918770581778265},{"$f":"IF(AND(Z128<>0,Z128<>\"Unknown\",Z128<>\"Not required\"),IF(COUNTRY_INFO!K128=1,0,IF(COUNTRY_INFO!K128=2,0.2*COUNTRY_INFO!G128/(0.5*COUNTRY_INFO!F128+0.2*COUNTRY_INFO!G128),IF(COUNTRY_INFO!K128=3,COUNTRY_INFO!G128/(COUNTRY_INFO!F128+COUNTRY_INFO!G128)))),0)","v":0.5108122941822173},{"$f":"MAX(COUNTRY_INFO!D128*AK128*PROFILE!$G$7,COUNTRY_INFO!D128*AL128*PROFILE!$G$7)","v":0},{"$f":"MAX(COUNTRY_INFO!D128*AK128*PROFILE!$G$8,COUNTRY_INFO!D128*AL128*PROFILE!$G$8,COUNTRY_INFO!D128*AM128*PROFILE!$G$8)","v":15166.782923302093},{"$f":"MAX(COUNTRY_INFO!D128*AK128*PROFILE!$G$9,COUNTRY_INFO!D128*AL128*PROFILE!$G$9,COUNTRY_INFO!D128*AM128*PROFILE!$G$9,IF(AND(DISTRICT!Z128<>\"Unknown\",Z128<>\"Not required\"),COUNTRY_INFO!O128*DISTRICT!AN128,0))","v":29748.063839226674},{"$f":"MAX(COUNTRY_INFO!D128*AK128*PROFILE!$G$10,COUNTRY_INFO!D128*AL128*PROFILE!$G$10,IF(AND(DISTRICT!Z128<>\"Unknown\",Z128<>\"Not required\"),COUNTRY_INFO!O128*DISTRICT!AO128,0))","v":18614},63528.846762528767,"Y",{"$f":"MAX('MDA2'!J128,'T1'!L128,'T2'!J128,T3_R1!K128,T3_R2!K128)","v":0},{"$f":"MAX('MDA1'!K128,'MDA2'!K128,'MDA3'!I128,'MDA3'!L128,'T1'!M128,'T2'!K128,T3_R1!L128,T3_R2!L128)","v":35113},{"$f":"MAX('MDA1'!L128,'MDA2'!L128,'MDA3'!J128,'MDA3'!M128,'T1'!N128,'T2'!L128,T3_R1!M128,T3_R2!M128)","v":0},35113,{"$f":"MAX('MDA2'!J128,T128)","v":0},{"$f":"MAX('MDA1'!K128,'MDA2'!K128,'MDA3'!I128,'MDA3'!L128,V128,AD128)","v":35113},{"$f":"MAX('MDA1'!L128,'MDA2'!L128,'MDA3'!J128,'MDA3'!M128,AF128)","v":0},35113,55.270954518114614]
[{"$f":"IF(COUNTRY_INFO!A129=0,\" \",COUNTRY_INFO!A129)","v":"Tanzania"},{"$f":"IF(COUNTRY_INFO!B129=0,\" \",COUNTRY_INFO!B129)","v":"Njombe"},{"$f":"IF(COUNTRY_INFO!C129=0,\" \",COUNTRY_INFO!C129)","v":"Wanging'ombe District Council"},{"$f":"COUNTRY_INFO!L129","v":"Stopped"},null,null,{"$f":"MAX('MDA1'!M129,'MDA2'!M129)","v":0},{"$f":"IF(AND(COUNTRY_INFO!H129>0,COUNTRY_INFO!H129<4),IF(D129>MAX('MDA1'!M129,'MDA2'!M129),MAX('MDA1'!M129,'MDA2'!M129),D129),0)","v":0},{"$f":"IF(AND(COUNTRY_INFO!H129>0,COUNTRY_INFO!H129<4), IF(G129/D129*100<>0, IF(G129/D129*100>100,100,G129/D129*100), \"-\"),0)","v":0},{"$f":"COUNTRY_INFO!M129","v":0},null,null,{"$f":"MAX('MDA1'!M129,MAX('MDA3'!I129,'MDA3'!L129)+MAX('MDA3'!J129,'MDA3'!M129))","v":0},{"$f":"IF(AND(COUNTRY_INFO!I129>0,COUNTRY_INFO!I129<4),IF(J129>MAX('MDA1'!M129,MAX('MDA3'!I129,'MDA3'!L129)+MAX('MDA3'!J129,'MDA3'!M129)),MAX('MDA1'!M129,MAX('MDA3'!I129,'MDA3'!L129)+MAX('MDA3'!J129,'MDA3'!M129)),J129),0)","v":0},{"$f":"IF(AND(COUNTRY_INFO!I129>0,COUNTRY_INFO!I129<4), IF(M129/J129*100<>0, IF(M129/J129*100>100,100,M129/J129*100), \"-\"),0)","v":0},{"$f":"COUNTRY_INFO!N129","v":56778},null,null,{"$f":"SUM(MAX('MDA2'!J129, 'T1'!L129, MAX(T3_R1!K129, T3_R2!K129)), MAX('MDA1'!K129, 'MDA2'!K129, 'T1'!M129, MAX(T3_R1!L129, T3_R2!L129)), MAX('MDA1'!L129, 'MDA2'!L129, 'T1'!N129, MAX(T3_R1!M129, T3_R2!M129)))","v":39548},{"$f":"IF(AND(COUNTRY_INFO!J129>1,COUNTRY_INFO!J129<4),IF(COUNTRY_INFO!E129>MAX('MDA2'!J129,'T1'!L129,MAX(T3_R1!K129,T3_R2!K129)),MAX('MDA2'!J129,'T1'!L129,MAX(T3_R1!K129,T3_R2!K129)),COUNTRY_INFO!E129),0)","v":0},{"$f":"IF(AND(COUNTRY_INFO!J129>1,COUNTRY_INFO!J129<4), IF(T129/COUNTRY_INFO!E129*100<>0, IF(T129/COUNTRY_INFO!E129*100>100,100,T129/COUNTRY_INFO!E129*100), \"-\"),0)","v":"-"},{"$f":"IF(AND(COUNTRY_INFO!J129>1,COUNTRY_INFO!J129<4),IF(COUNTRY_INFO!F129>MAX('MDA1'!K129,'MDA2'!K129,'T1'!M129,MAX(T3_R1!L129,T3_R2!L129)),MAX('MDA1'!K129,'MDA2'!K129,'T1'!M129,MAX(T3_R1!L129,T3_R2!L129)),COUNTRY_INFO!F129),0)","v":39548},{"$f":"IF(AND(COUNTRY_INFO!J129>1,COUNTRY_INFO!J129<4), IF(V129/COUNTRY_INFO!F129*100<>0, IF(V129/COUNTRY_INFO!F129*100>100,100,V129/COUNTRY_INFO!F129*100), \"-\"),0)","v":93.626893939393938},39548,{"$f":"IF(AND(COUNTRY_INFO!J129>1,COUNTRY_INFO!J129<4), IF(S129/P129*100<>0, IF(X129/P129*100>100,100,X129/P129*100), \"-\"),0)","v":69.653739124308714},{"$f":"COUNTRY_INFO!O129","v":43712.4},null,null,{"$f":"MAX('T1'!L129,'T2'!J129)+MAX('T1'!M129,'T2'!K129)+MAX('T1'!N129,'T2'!L129)","v":39548},{"$f":"IF(COUNTRY_INFO!K129=1,IF(COUNTRY_INFO!F129*0.33>MAX('T1'!M129,'T2'!K129),MAX('T1'!M129,'T2'!K129),COUNTRY_INFO!F129*0.33),IF(COUNTRY_INFO!K129=2,IF(COUNTRY_INFO!F129*0.5>MAX('T1'!M129,'T2'!K129),MAX('T1'!M129,'T2'!K129),COUNTRY_INFO!F129*0.5),IF(COUNTRY_INFO!K129=3,IF(COUNTRY_INFO!F129>MAX('T1'!M129,'T2'!K129),MAX('T1'!M129,'T2'!K129),COUNTRY_INFO!F129),0)))","v":21120},{"$f":"IF(AND(COUNTRY_INFO!K129>0,COUNTRY_INFO!K129<4),IF(Z129>0,IF(COUNTRY_INFO!K129=1, AD129/(COUNTRY_INFO!F129*0.33)*100, IF(COUNTRY_INFO!K129=2, AD129/(COUNTRY_INFO!F129*0.5)*100, IF(COUNTRY_INFO!K129=3, AD129/COUNTRY_INFO!F129*100))),\"-\"),0)","v":100},{"$f":"IF(COUNTRY_INFO!K129=2,IF(COUNTRY_INFO!G129*0.2>MAX('T1'!N129,'T2'!L129),MAX('T1'!N129,'T2'!L129),COUNTRY_INFO!G129*0.2),IF(COUNTRY_INFO!K129=3,IF(COUNTRY_INFO!G129>MAX('T1'!N129,'T2'!L129),MAX('T1'!N129,'T2'!L129),COUNTRY_INFO!G129),0))","v":0},{"$f":"IF(AND(COUNTRY_INFO!K129>0,COUNTRY_INFO!K129<4),IF(Z129>0,IF(COUNTRY_INFO!K129=1, 0, IF(COUNTRY_INFO!K129=2, AF129/(COUNTRY_INFO!G129*0.2)*100, IF(COUNTRY_INFO!K129=3, AF129/COUNTRY_INFO!G129*100))),\"-\"),0)","v":0},21120,{"$f":"IF(AND(COUNTRY_INFO!K129>0,COUNTRY_INFO!K129<4), IF(AC129/Z129*100<>0, IF(AH129/Z129*100>100,100,AH129/Z129*100), \"-\"),0)","v":48.315809701594972},null,{"$f":"IF(AND(D129<>0, D129<>\"Unknown\",D129<>\"Stopped\",D129<>\"Not required\"),D129/COUNTRY_INFO!D129, 0)","v":0},{"$f":"IF(AND(J129<>0,J129<>\"Unknown\",J129<>\"Stopped\",J129<>\"Not required\"),J129/COUNTRY_INFO!D129, 0)","v":0},{"$f":"IF(AND(P129<>0,P129<>\"Unknown\",P129<>\"Not required\"),P129/(COUNTRY_INFO!E129+COUNTRY_INFO!F129), 0)","v":1},{"$f":"IF(AND(Z129<>0,Z129<>\"Unknown\",Z129<>\"Not required\"),IF(COUNTRY_INFO!K129=1,1,IF(COUNTRY_INFO!K129=2,0.5*COUNTRY_INFO!F129/(0.5*COUNTRY_INFO!F129+0.2*COUNTRY_INFO!G129),IF(COUNTRY_INFO!K129=3,COUNTRY_INFO!F129/(COUNTRY_INFO!F129+COUNTRY_INFO!G129)))),0)","v":0.48315809701594969},{"$f":"IF(AND(Z129<>0,Z129<>\"Unknown\",Z129<>\"Not required\"),IF(COUNTRY_INFO!K129=1,0,IF(COUNTRY_INFO!K129=2,0.2*COUNTRY_INFO!G129/(0.5*COUNTRY_INFO!F129+0.2*COUNTRY_INFO!G129),IF(COUNTRY_INFO!K129=3,COUNTRY_INFO!G129/(COUNTRY_INFO!F129+COUNTRY_INFO!G129)))),0)","v":0.51684190298405031},{"$f":"MAX(COUNTRY_INFO!D129*AK129*PROFILE!$G$7,COUNTRY_INFO!D129*AL129*PROFILE!$G$7)","v":0},{"$f":"MAX(COUNTRY_INFO!D129*AK129*PROFILE!$G$8,COUNTRY_INFO!D129*AL129*PROFILE!$G$8,COUNTRY_INFO!D129*AM129*PROFILE!$G$8)","v":18846.337726217404},{"$f":"MAX(COUNTRY_INFO!D129*AK129*PROFILE!$G$9,COUNTRY_INFO!D129*AL129*PROFILE!$G$9,COUNTRY_INFO!D129*AM129*PROFILE!$G$9,IF(AND(DISTRICT!Z129<>\"Unknown\",Z129<>\"Not required\"),COUNTRY_INFO!O129*DISTRICT!AN129,0))","v":36965.12705761593},{"$f":"MAX(COUNTRY_INFO!D129*AK129*PROFILE!$G$10,COUNTRY_INFO!D129*AL129*PROFILE!$G$10,IF(AND(DISTRICT!Z129<>\"Unknown\",Z129<>\"Not required\"),COUNTRY_INFO!O129*DISTRICT!AO129,0))","v":22592.400000000001},78403.864783833327,"Y",{"$f":"MAX('MDA2'!J129,'T1'!L129,'T2'!J129,T3_R1!K129,T3_R2!K129)","v":0},{"$f":"MAX('MDA1'!K129,'MDA2'!K129,'MDA3'!I129,'MDA3'!L129,'T1'!M129,'T2'!K129,T3_R1!L129,T3_R2!L129)","v":39548},{"$f":"MAX('MDA1'!L129,'MDA2'!L129,'MDA3'!J129,'MDA3'!M129,'T1'!N129,'T2'!L129,T3_R1!M129,T3_R2!M129)","v":0},39548,{"$f":"MAX('MDA2'!J129,T129)","v":0},{"$f":"MAX('MDA1'!K129,'MDA2'!K129,'MDA3'!I129,'MDA3'!L129,V129,AD129)","v":39548},{"$f":"MAX('MDA1'!L129,'MDA2'!L129,'MDA3'!J129,'MDA3'!M129,AF129)","v":0},39548,50.441391006728395]
[{"$f":"IF(COUNTRY_INFO!A130=0,\" \",COUNTRY_INFO!A130)","v":"Tanzania"},{"$f":"IF(COUNTRY_INFO!B130=0,\" \",COUNTRY_INFO!B130)","v":"Pwani"},{"$f":"IF(COUNTRY_INFO!C130=0,\" \",COUNTRY_INFO!C130)","v":"Bagamoyo District Council"},{"$f":"COUNTRY_INFO!L130","v":"Stopped"},null,null,{"$f":"MAX('MDA1'!M130,'MDA2'!M130)","v":0},{"$f":"IF(AND(COUNTRY_INFO!H130>0,COUNTRY_INFO!H130<4),IF(D130>MAX('MDA1'!M130,'MDA2'!M130),MAX('MDA1'!M130,'MDA2'!M130),D130),0)","v":0},{"$f":"IF(AND(COUNTRY_INFO!H130>0,COUNTRY_INFO!H130<4), IF(G130/D130*100<>0, IF(G130/D130*100>100,100,G130/D130*100), \"-\"),0)","v":0},{"$f":"COUNTRY_INFO!M130","v":0},null,null,{"$f":"MAX('MDA1'!M130,MAX('MDA3'!I130,'MDA3'!L130)+MAX('MDA3'!J130,'MDA3'!M130))","v":0},{"$f":"IF(AND(COUNTRY_INFO!I130>0,COUNTRY_INFO!I130<4),IF(J130>MAX('MDA1'!M130,MAX('MDA3'!I130,'MDA3'!L130)+MAX('MDA3'!J130,'MDA3'!M130)),MAX('MDA1'!M130,MAX('MDA3'!I130,'MDA3'!L130)+MAX('MDA3'!J130,'MDA3'!M130)),J130),0)","v":0},{"$f":"IF(AND(COUNTRY_INFO!I130>0,COUNTRY_INFO!I130<4), IF(M130/J130*100<>0, IF(M130/J130*100>100,100,M130/J130*100), \"-\"),0)","v":0},{"$f":"COUNTRY_INFO!N130","v":33662},null,null,{"$f":"SUM(MAX('MDA2'!J130, 'T1'!L130, MAX(T3_R1!K130, T3_R2!K130)), MAX('MDA1'!K130, 'MDA2'!K130, 'T1'!M130, MAX(T3_R1!L130, T3_R2!L130)), MAX('MDA1'!L130, 'MDA2'!L130, 'T1'!N130, MAX(T3_R1!M130, T3_R2!M130)))","v":24717},{"$f":"IF(AND(COUNTRY_INFO!J130>1,COUNTRY_INFO!J130<4),IF(COUNTRY_INFO!E130>MAX('MDA2'!J130,'T1'!L130,MAX(T3_R1!K130,T3_R2!K130)),MAX('MDA2'!J130,'T1'!L130,MAX(T3_R1!K130,T3_R2!K130)),COUNTRY_INFO!E130),0)","v":0},{"$f":"IF(AND(COUNTRY_INFO!J130>1,COUNTRY_INFO!J130<4), IF(T130/COUNTRY_INFO!E130*100<>0, IF(T130/COUNTRY_INFO!E130*100>100,100,T130/COUNTRY_INFO!E130*100), \"-\"),0)","v":"-"},{"$f":"IF(AND(COUNTRY_INFO!J130>1,COUNTRY_INFO!J130<4),IF(COUNTRY_INFO!F130>MAX('MDA1'!K130,'MDA2'!K130,'T1'!M130,MAX(T3_R1!L130,T3_R2!L130)),MAX('MDA1'!K130,'MDA2'!K130,'T1'!M130,MAX(T3_R1!L130,T3_R2!L130)),COUNTRY_INFO!F130),0)","v":24717},{"$f":"IF(AND(COUNTRY_INFO!J130>1,COUNTRY_INFO!J130<4), IF(V130/COUNTRY_INFO!F130*100<>0, IF(V130/COUNTRY_INFO!F130*100>100,100,V130/COUNTRY_INFO!F130*100), \"-\"),0)","v":90.297008000584526},24717,{"$f":"IF(AND(COUNTRY_INFO!J130>1,COUNTRY_INFO!J130<4), IF(S130/P130*100<>0, IF(X130/P130*100>100,100,X130/P130*100), \"-\"),0)","v":73.427009684510722},{"$f":"COUNTRY_INFO!O130","v":29210.300000000003},null,null,{"$f":"MAX('T1'!L130,'T2'!J130)+MAX('T1'!M130,'T2'!K130)+MAX('T1'!N130,'T2'!L130)","v":0},{"$f":"IF(COUNTRY_INFO!K130=1,IF(COUNTRY_INFO!F130*0.33>MAX('T1'!M130,'T2'!K130),MAX('T1'!M130,'T2'!K130),COUNTRY_INFO!F130*0.33),IF(COUNTRY_INFO!K130=2,IF(COUNTRY_INFO!F130*0.5>MAX('T1'!M130,'T2'!K130),MAX('T1'!M130,'T2'!K130),COUNTRY_INFO!F130*0.5),IF(COUNTRY_INFO!K130=3,IF(COUNTRY_INFO!F130>MAX('T1'!M130,'T2'!K130),MAX('T1'!M130,'T2'!K130),COUNTRY_INFO!F130),0)))","v":0},{"$f":"IF(AND(COUNTRY_INFO!K130>0,COUNTRY_INFO!K130<4),IF(Z130>0,IF(COUNTRY_INFO!K130=1, AD130/(COUNTRY_INFO!F130*0.33)*100, IF(COUNTRY_INFO!K130=2, AD130/(COUNTRY_INFO!F130*0.5)*100, IF(COUNTRY_INFO!K130=3, AD130/COUNTRY_INFO!F130*100))),\"-\"),0)","v":0},{"$f":"IF(COUNTRY_INFO!K130=2,IF(COUNTRY_INFO!G130*0.2>MAX('T1'!N130,'T2'!L130),MAX('T1'!N130,'T2'!L130),COUNTRY_INFO!G130*0.2),IF(COUNTRY_INFO!K130=3,IF(COUNTRY_INFO!G130>MAX('T1'!N130,'T2'!L130),MAX('T1'!N130,'T2'!L130),COUNTRY_INFO!G130),0))","v":0},{"$f":"IF(AND(COUNTRY_INFO!K130>0,COUNTRY_INFO!K130<4),IF(Z130>0,IF(COUNTRY_INFO!K130=1, 0, IF(COUNTRY_INFO!K130=2, AF130/(COUNTRY_INFO!G130*0.2)*100, IF(COUNTRY_INFO!K130=3, AF130/COUNTRY_INFO!G130*100))),\"-\"),0)","v":0},0,{"$f":"IF(AND(COUNTRY_INFO!K130>0,COUNTRY_INFO!K130<4), IF(AC130/Z130*100<>0, IF(AH130/Z130*100>100,100,AH130/Z130*100), \"-\"),0)","v":"-"},null,{"$f":"IF(AND(D130<>0, D130<>\"Unknown\",D130<>\"Stopped\",D130<>\"Not required\"),D130/COUNTRY_INFO!D130, 0)","v":0},{"$f":"IF(AND(J130<>0,J130<>\"Unknown\",J130<>\"Stopped\",J130<>\"Not required\"),J130/COUNTRY_INFO!D130, 0)","v":0},{"$f":"IF(AND(P130<>0,P130<>\"Unknown\",P130<>\"Not required\"),P130/(COUNTRY_INFO!E130+COUNTRY_INFO!F130), 0)","v":1},{"$f":"IF(AND(Z130<>0,Z130<>\"Unknown\",Z130<>\"Not required\"),IF(COUNTRY_INFO!K130=1,1,IF(COUNTRY_INFO!K130=2,0.5*COUNTRY_INFO!F130/(0.5*COUNTRY_INFO!F130+0.2*COUNTRY_INFO!G130),IF(COUNTRY_INFO!K130=3,COUNTRY_INFO!F130/(COUNTRY_INFO!F130+COUNTRY_INFO!G130)))),0)","v":0.4685504770577501},{"$f":"IF(AND(Z130<>0,Z130<>\"Unknown\",Z130<>\"Not required\"),IF(COUNTRY_INFO!K130=1,0,IF(COUNTRY_INFO!K130=2,0.2*COUNTRY_INFO!G130/(0.5*COUNTRY_INFO!F130+0.2*COUNTRY_INFO!G130),IF(COUNTRY_INFO!K130=3,COUNTRY_INFO!G130/(COUNTRY_INFO!F130+COUNTRY_INFO!G130)))),0)","v":0.53144952294224979},{"$f":"MAX(COUNTRY_INFO!D130*AK130*PROFILE!$G$7,COUNTRY_INFO!D130*AL130*PROFILE!$G$7)","v":0},{"$f":"MAX(COUNTRY_INFO!D130*AK130*PROFILE!$G$8,COUNTRY_INFO!D130*AL130*PROFILE!$G$8,COUNTRY_INFO!D130*AM130*PROFILE!$G$8)","v":12355.598612649928},{"$f":"MAX(COUNTRY_INFO!D130*AK130*PROFILE!$G$9,COUNTRY_INFO!D130*AL130*PROFILE!$G$9,COUNTRY_INFO!D130*AM130*PROFILE!$G$9,IF(AND(DISTRICT!Z130<>\"Unknown\",Z130<>\"Not required\"),COUNTRY_INFO!O130*DISTRICT!AN130,0))","v":24234.218829377623},{"$f":"MAX(COUNTRY_INFO!D130*AK130*PROFILE!$G$10,COUNTRY_INFO!D130*AL130*PROFILE!$G$10,IF(AND(DISTRICT!Z130<>\"Unknown\",Z130<>\"Not required\"),COUNTRY_INFO!O130*DISTRICT!AO130,0))","v":15523.800000000001},52113.617442027557,0,{"$f":"MAX('MDA2'!J130,'T1'!L130,'T2'!J130,T3_R1!K130,T3_R2!K130)","v":0},{"$f":"MAX('MDA1'!K130,'MDA2'!K130,'MDA3'!I130,'MDA3'!L130,'T1'!M130,'T2'!K130,T3_R1!L130,T3_R2!L130)","v":24717},{"$f":"MAX('MDA1'!L130,'MDA2'!L130,'MDA3'!J130,'MDA3'!M130,'T1'!N130,'T2'!L130,T3_R1!M130,T3_R2!M130)","v":0},24717,{"$f":"MAX('MDA2'!J130,T130)","v":0},{"$f":"MAX('MDA1'!K130,'MDA2'!K130,'MDA3'!I130,'MDA3'!L130,V130,AD130)","v":24717},{"$f":"MAX('MDA1'!L130,'MDA2'!L130,'MDA3'!J130,'MDA3'!M130,AF130)","v":0},24717,47.429062140036208]
[{"$f":"IF(COUNTRY_INFO!A131=0,\" \",COUNTRY_INFO!A131)","v":"Tanzania"},{"$f":"IF(COUNTRY_INFO!B131=0,\" \",COUNTRY_INFO!B131)","v":"Pwani"},{"$f":"IF(COUNTRY_INFO!C131=0,\" \",COUNTRY_INFO!C131)","v":"Chalinze District Council"},{"$f":"COUNTRY_INFO!L131","v":"Stopped"},null,null,{"$f":"MAX('MDA1'!M131,'MDA2'!M131)","v":0},{"$f":"IF(AND(COUNTRY_INFO!H131>0,COUNTRY_INFO!H131<4),IF(D131>MAX('MDA1'!M131,'MDA2'!M131),MAX('MDA1'!M131,'MDA2'!M131),D131),0)","v":0},{"$f":"IF(AND(COUNTRY_INFO!H131>0,COUNTRY_INFO!H131<4), IF(G131/D131*100<>0, IF(G131/D131*100>100,100,G131/D131*100), \"-\"),0)","v":0},{"$f":"COUNTRY_INFO!M131","v":0},null,null,{"$f":"MAX('MDA1'!M131,MAX('MDA3'!I131,'MDA3'!L131)+MAX('MDA3'!J131,'MDA3'!M131))","v":0},{"$f":"IF(AND(COUNTRY_INFO!I131>0,COUNTRY_INFO!I131<4),IF(J131>MAX('MDA1'!M131,MAX('MDA3'!I131,'MDA3'!L131)+MAX('MDA3'!J131,'MDA3'!M131)),MAX('MDA1'!M131,MAX('MDA3'!I131,'MDA3'!L131)+MAX('MDA3'!J131,'MDA3'!M131)),J131),0)","v":0},{"$f":"IF(AND(COUNTRY_INFO!I131>0,COUNTRY_INFO!I131<4), IF(M131/J131*100<>0, IF(M131/J131*100>100,100,M131/J131*100), \"-\"),0)","v":0},{"$f":"COUNTRY_INFO!N131","v":73792},null,null,{"$f":"SUM(MAX('MDA2'!J131, 'T1'!L131, MAX(T3_R1!K131, T3_R2!K131)), MAX('MDA1'!K131, 'MDA2'!K131, 'T1'!M131, MAX(T3_R1!L131, T3_R2!L131)), MAX('MDA1'!L131, 'MDA2'!L131, 'T1'!N131, MAX(T3_R1!M131, T3_R2!M131)))","v":48999},{"$f":"IF(AND(COUNTRY_INFO!J131>1,COUNTRY_INFO!J131<4),IF(COUNTRY_INFO!E131>MAX('MDA2'!J131,'T1'!L131,MAX(T3_R1!K131,T3_R2!K131)),MAX('MDA2'!J131,'T1'!L131,MAX(T3_R1!K131,T3_R2!K131)),COUNTRY_INFO!E131),0)","v":0},{"$f":"IF(AND(COUNTRY_INFO!J131>1,COUNTRY_INFO!J131<4), IF(T131/COUNTRY_INFO!E131*100<>0, IF(T131/COUNTRY_INFO!E131*100>100,100,T131/COUNTRY_INFO!E131*100), \"-\"),0)","v":"-"},{"$f":"IF(AND(COUNTRY_INFO!J131>1,COUNTRY_INFO!J131<4),IF(COUNTRY_INFO!F131>MAX('MDA1'!K131,'MDA2'!K131,'T1'!M131,MAX(T3_R1!L131,T3_R2!L131)),MAX('MDA1'!K131,'MDA2'!K131,'T1'!M131,MAX(T3_R1!L131,T3_R2!L131)),COUNTRY_INFO!F131),0)","v":48999},{"$f":"IF(AND(COUNTRY_INFO!J131>1,COUNTRY_INFO!J131<4), IF(V131/COUNTRY_INFO!F131*100<>0, IF(V131/COUNTRY_INFO!F131*100>100,100,V131/COUNTRY_INFO!F131*100), \"-\"),0)","v":95.897837361777079},48999,{"$f":"IF(AND(COUNTRY_INFO!J131>1,COUNTRY_INFO!J131<4), IF(S131/P131*100<>0, IF(X131/P131*100>100,100,X131/P131*100), \"-\"),0)","v":66.401506938421505},{"$f":"COUNTRY_INFO!O131","v":59576.9},null,null,{"$f":"MAX('T1'!L131,'T2'!J131)+MAX('T1'!M131,'T2'!K131)+MAX('T1'!N131,'T2'!L131)","v":0},{"$f":"IF(COUNTRY_INFO!K131=1,IF(COUNTRY_INFO!F131*0.33>MAX('T1'!M131,'T2'!K131),MAX('T1'!M131,'T2'!K131),COUNTRY_INFO!F131*0.33),IF(COUNTRY_INFO!K131=2,IF(COUNTRY_INFO!F131*0.5>MAX('T1'!M131,'T2'!K131),MAX('T1'!M131,'T2'!K131),COUNTRY_INFO!F131*0.5),IF(COUNTRY_INFO!K131=3,IF(COUNTRY_INFO!F131>MAX('T1'!M131,'T2'!K131),MAX('T1'!M131,'T2'!K131),COUNTRY_INFO!F131),0)))","v":0},{"$f":"IF(AND(COUNTRY_INFO!K131>0,COUNTRY_INFO!K131<4),IF(Z131>0,IF(COUNTRY_INFO!K131=1, AD131/(COUNTRY_INFO!F131*0.33)*100, IF(COUNTRY_INFO!K131=2, AD131/(COUNTRY_INFO!F131*0.5)*100, IF(COUNTRY_INFO!K131=3, AD131/COUNTRY_INFO!F131*100))),\"-\"),0)","v":0},{"$f":"IF(COUNTRY_INFO!K131=2,IF(COUNTRY_INFO!G131*0.2>MAX('T1'!N131,'T2'!L131),MAX('T1'!N131,'T2'!L131),COUNTRY_INFO!G131*0.2),IF(COUNTRY_INFO!K131=3,IF(COUNTRY_INFO!G131>MAX('T1'!N131,'T2'!L131),MAX('T1'!N131,'T2'!L131),COUNTRY_INFO!G131),0))","v":0},{"$f":"IF(AND(COUNTRY_INFO!K131>0,COUNTRY_INFO!K131<4),IF(Z131>0,IF(COUNTRY_INFO!K131=1, 0, IF(COUNTRY_INFO!K131=2, AF131/(COUNTRY_INFO!G131*0.2)*100, IF(COUNTRY_INFO!K131=3, AF131/COUNTRY_INFO!G131*100))),\"-\"),0)","v":0},0,{"$f":"IF(AND(COUNTRY_INFO!K131>0,COUNTRY_INFO!K131<4), IF(AC131/Z131*100<>0, IF(AH131/Z131*100>100,100,AH131/Z131*100), \"-\"),0)","v":"-"},null,{"$f":"IF(AND(D131<>0, D131<>\"Unknown\",D131<>\"Stopped\",D131<>\"Not required\"),D131/COUNTRY_INFO!D131, 0)","v":0},{"$f":"IF(AND(J131<>0,J131<>\"Unknown\",J131<>\"Stopped\",J131<>\"Not required\"),J131/COUNTRY_INFO!D131, 0)","v":0},{"$f":"IF(AND(P131<>0,P131<>\"Unknown\",P131<>\"Not required\"),P131/(COUNTRY_INFO!E131+COUNTRY_INFO!F131), 0)","v":1},{"$f":"IF(AND(Z131<>0,Z131<>\"Unknown\",Z131<>\"Not required\"),IF(COUNTRY_INFO!K131=1,1,IF(COUNTRY_INFO!K131=2,0.5*COUNTRY_INFO!F131/(0.5*COUNTRY_INFO!F131+0.2*COUNTRY_INFO!G131),IF(COUNTRY_INFO!K131=3,COUNTRY_INFO!F131/(COUNTRY_INFO!F131+COUNTRY_INFO!G131)))),0)","v":0.42881553085172275},{"$f":"IF(AND(Z131<>0,Z131<>\"Unknown\",Z131<>\"Not required\"),IF(COUNTRY_INFO!K131=1,0,IF(COUNTRY_INFO!K131=2,0.2*COUNTRY_INFO!G131/(0.5*COUNTRY_INFO!F131+0.2*COUNTRY_INFO!G131),IF(COUNTRY_INFO!K131=3,COUNTRY_INFO!G131/(COUNTRY_INFO!F131+COUNTRY_INFO!G131)))),0)","v":0.57118446914827725},{"$f":"MAX(COUNTRY_INFO!D131*AK131*PROFILE!$G$7,COUNTRY_INFO!D131*AL131*PROFILE!$G$7)","v":0},{"$f":"MAX(COUNTRY_INFO!D131*AK131*PROFILE!$G$8,COUNTRY_INFO!D131*AL131*PROFILE!$G$8,COUNTRY_INFO!D131*AM131*PROFILE!$G$8)","v":27084.698825237112},{"$f":"MAX(COUNTRY_INFO!D131*AK131*PROFILE!$G$9,COUNTRY_INFO!D131*AL131*PROFILE!$G$9,COUNTRY_INFO!D131*AM131*PROFILE!$G$9,IF(AND(DISTRICT!Z131<>\"Unknown\",Z131<>\"Not required\"),COUNTRY_INFO!O131*DISTRICT!AN131,0))","v":53123.813652101868},{"$f":"MAX(COUNTRY_INFO!D131*AK131*PROFILE!$G$10,COUNTRY_INFO!D131*AL131*PROFILE!$G$10,IF(AND(DISTRICT!Z131<>\"Unknown\",Z131<>\"Not required\"),COUNTRY_INFO!O131*DISTRICT!AO131,0))","v":34029.4},114237.91247733898,0,{"$f":"MAX('MDA2'!J131,'T1'!L131,'T2'!J131,T3_R1!K131,T3_R2!K131)","v":0},{"$f":"MAX('MDA1'!K131,'MDA2'!K131,'MDA3'!I131,'MDA3'!L131,'T1'!M131,'T2'!K131,T3_R1!L131,T3_R2!L131)","v":48999},{"$f":"MAX('MDA1'!L131,'MDA2'!L131,'MDA3'!J131,'MDA3'!M131,'T1'!N131,'T2'!L131,T3_R1!M131,T3_R2!M131)","v":0},48999,{"$f":"MAX('MDA2'!J131,T131)","v":0},{"$f":"MAX('MDA1'!K131,'MDA2'!K131,'MDA3'!I131,'MDA3'!L131,V131,AD131)","v":48999},{"$f":"MAX('MDA1'!L131,'MDA2'!L131,'MDA3'!J131,'MDA3'!M131,AF131)","v":0},48999,42.892065284998779]
[{"$f":"IF(COUNTRY_INFO!A132=0,\" \",COUNTRY_INFO!A132)","v":"Tanzania"},{"$f":"IF(COUNTRY_INFO!B132=0,\" \",COUNTRY_INFO!B132)","v":"Pwani"},{"$f":"IF(COUNTRY_INFO!C132=0,\" \",COUNTRY_INFO!C132)","v":"Kibaha District Council"},{"$f":"COUNTRY_INFO!L132","v":80002},null,null,{"$f":"MAX('MDA1'!M132,'MDA2'!M132)","v":66655},{"$f":"IF(AND(COUNTRY_INFO!H132>0,COUNTRY_INFO!H132<4),IF(D132>MAX('MDA1'!M132,'MDA2'!M132),MAX('MDA1'!M132,'MDA2'!M132),D132),0)","v":66655},{"$f":"IF(AND(COUNTRY_INFO!H132>0,COUNTRY_INFO!H132<4), IF(G132/D132*100<>0, IF(G132/D132*100>100,100,G132/D132*100), \"-\"),0)","v":83.316667083322912},{"$f":"COUNTRY_INFO!M132","v":0},null,null,{"$f":"MAX('MDA1'!M132,MAX('MDA3'!I132,'MDA3'!L132)+MAX('MDA3'!J132,'MDA3'!M132))","v":66655},{"$f":"IF(AND(COUNTRY_INFO!I132>0,COUNTRY_INFO!I132<4),IF(J132>MAX('MDA1'!M132,MAX('MDA3'!I132,'MDA3'!L132)+MAX('MDA3'!J132,'MDA3'!M132)),MAX('MDA1'!M132,MAX('MDA3'!I132,'MDA3'!L132)+MAX('MDA3'!J132,'MDA3'!M132)),J132),0)","v":0},{"$f":"IF(AND(COUNTRY_INFO!I132>0,COUNTRY_INFO!I132<4), IF(M132/J132*100<>0, IF(M132/J132*100>100,100,M132/J132*100), \"-\"),0)","v":0},{"$f":"COUNTRY_INFO!N132","v":23712},null,null,{"$f":"SUM(MAX('MDA2'!J132, 'T1'!L132, MAX(T3_R1!K132, T3_R2!K132)), MAX('MDA1'!K132, 'MDA2'!K132, 'T1'!M132, MAX(T3_R1!L132, T3_R2!L132)), MAX('MDA1'!L132, 'MDA2'!L132, 'T1'!N132, MAX(T3_R1!M132, T3_R2!M132)))","v":69549.895000000004},{"$f":"IF(AND(COUNTRY_INFO!J132>1,COUNTRY_INFO!J132<4),IF(COUNTRY_INFO!E132>MAX('MDA2'!J132,'T1'!L132,MAX(T3_R1!K132,T3_R2!K132)),MAX('MDA2'!J132,'T1'!L132,MAX(T3_R1!K132,T3_R2!K132)),COUNTRY_INFO!E132),0)","v":0},{"$f":"IF(AND(COUNTRY_INFO!J132>1,COUNTRY_INFO!J132<4), IF(T132/COUNTRY_INFO!E132*100<>0, IF(T132/COUNTRY_INFO!E132*100>100,100,T132/COUNTRY_INFO!E132*100), \"-\"),0)","v":"-"},{"$f":"IF(AND(COUNTRY_INFO!J132>1,COUNTRY_INFO!J132<4),IF(COUNTRY_INFO!F132>MAX('MDA1'!K132,'MDA2'!K132,'T1'!M132,MAX(T3_R1!L132,T3_R2!L132)),MAX('MDA1'!K132,'MDA2'!K132,'T1'!M132,MAX(T3_R1!L132,T3_R2!L132)),COUNTRY_INFO!F132),0)","v":15626},{"$f":"IF(AND(COUNTRY_INFO!J132>1,COUNTRY_INFO!J132<4), IF(V132/COUNTRY_INFO!F132*100<>0, IF(V132/COUNTRY_INFO!F132*100>100,100,V132/COUNTRY_INFO!F132*100), \"-\"),0)","v":80.211488116626455},15626,{"$f":"IF(AND(COUNTRY_INFO!J132>1,COUNTRY_INFO!J132<4), IF(S132/P132*100<>0, IF(X132/P132*100>100,100,X132/P132*100), \"-\"),0)","v":65.899122807017534},{"$f":"COUNTRY_INFO!O132","v":20998.5},null,null,{"$f":"MAX('T1'!L132,'T2'!J132)+MAX('T1'!M132,'T2'!K132)+MAX('T1'!N132,'T2'!L132)","v":15626},{"$f":"IF(COUNTRY_INFO!K132=1,IF(COUNTRY_INFO!F132*0.33>MAX('T1'!M132,'T2'!K132),MAX('T1'!M132,'T2'!K132),COUNTRY_INFO!F132*0.33),IF(COUNTRY_INFO!K132=2,IF(COUNTRY_INFO!F132*0.5>MAX('T1'!M132,'T2'!K132),MAX('T1'!M132,'T2'!K132),COUNTRY_INFO!F132*0.5),IF(COUNTRY_INFO!K132=3,IF(COUNTRY_INFO!F132>MAX('T1'!M132,'T2'!K132),MAX('T1'!M132,'T2'!K132),COUNTRY_INFO!F132),0)))","v":9740.5},{"$f":"IF(AND(COUNTRY_INFO!K132>0,COUNTRY_INFO!K132<4),IF(Z132>0,IF(COUNTRY_INFO!K132=1, AD132/(COUNTRY_INFO!F132*0.33)*100, IF(COUNTRY_INFO!K132=2, AD132/(COUNTRY_INFO!F132*0.5)*100, IF(COUNTRY_INFO!K132=3, AD132/COUNTRY_INFO!F132*100))),\"-\"),0)","v":100},{"$f":"IF(COUNTRY_INFO!K132=2,IF(COUNTRY_INFO!G132*0.2>MAX('T1'!N132,'T2'!L132),MAX('T1'!N132,'T2'!L132),COUNTRY_INFO!G132*0.2),IF(COUNTRY_INFO!K132=3,IF(COUNTRY_INFO!G132>MAX('T1'!N132,'T2'!L132),MAX('T1'!N132,'T2'!L132),COUNTRY_INFO!G132),0))","v":0},{"$f":"IF(AND(COUNTRY_INFO!K132>0,COUNTRY_INFO!K132<4),IF(Z132>0,IF(COUNTRY_INFO!K132=1, 0, IF(COUNTRY_INFO!K132=2, AF132/(COUNTRY_INFO!G132*0.2)*100, IF(COUNTRY_INFO!K132=3, AF132/COUNTRY_INFO!G132*100))),\"-\"),0)","v":0},9740.5,{"$f":"IF(AND(COUNTRY_INFO!K132>0,COUNTRY_INFO!K132<4), IF(AC132/Z132*100<>0, IF(AH132/Z132*100>100,100,AH132/Z132*100), \"-\"),0)","v":46.38664666523799},null,{"$f":"IF(AND(D132<>0, D132<>\"Unknown\",D132<>\"Stopped\",D132<>\"Not required\"),D132/COUNTRY_INFO!D132, 0)","v":1},{"$f":"IF(AND(J132<>0,J132<>\"Unknown\",J132<>\"Stopped\",J132<>\"Not required\"),J132/COUNTRY_INFO!D132, 0)","v":0},{"$f":"IF(AND(P132<>0,P132<>\"Unknown\",P132<>\"Not required\"),P132/(COUNTRY_INFO!E132+COUNTRY_INFO!F132), 0)","v":1},{"$f":"IF(AND(Z132<>0,Z132<>\"Unknown\",Z132<>\"Not required\"),IF(COUNTRY_INFO!K132=1,1,IF(COUNTRY_INFO!K132=2,0.5*COUNTRY_INFO!F132/(0.5*COUNTRY_INFO!F132+0.2*COUNTRY_INFO!G132),IF(COUNTRY_INFO!K132=3,COUNTRY_INFO!F132/(COUNTRY_INFO!F132+COUNTRY_INFO!G132)))),0)","v":0.46386646665237991},{"$f":"IF(AND(Z132<>0,Z132<>\"Unknown\",Z132<>\"Not required\"),IF(COUNTRY_INFO!K132=1,0,IF(COUNTRY_INFO!K132=2,0.2*COUNTRY_INFO!G132/(0.5*COUNTRY_INFO!F132+0.2*COUNTRY_INFO!G132),IF(COUNTRY_INFO!K132=3,COUNTRY_INFO!G132/(COUNTRY_INFO!F132+COUNTRY_INFO!G132)))),0)","v":0.53613353334762004},{"$f":"MAX(COUNTRY_INFO!D132*AK132*PROFILE!$G$7,COUNTRY_INFO!D132*AL132*PROFILE!$G$7)","v":0},{"$f":"MAX(COUNTRY_INFO!D132*AK132*PROFILE!$G$8,COUNTRY_INFO!D132*AL132*PROFILE!$G$8,COUNTRY_INFO!D132*AM132*PROFILE!$G$8)","v":8882.6717967058139},{"$f":"MAX(COUNTRY_INFO!D132*AK132*PROFILE!$G$9,COUNTRY_INFO!D132*AL132*PROFILE!$G$9,COUNTRY_INFO!D132*AM132*PROFILE!$G$9,IF(AND(DISTRICT!Z132<>\"Unknown\",Z132<>\"Not required\"),COUNTRY_INFO!O132*DISTRICT!AN132,0))","v":17422.434870174322},{"$f":"MAX(COUNTRY_INFO!D132*AK132*PROFILE!$G$10,COUNTRY_INFO!D132*AL132*PROFILE!$G$10,IF(AND(DISTRICT!Z132<>\"Unknown\",Z132<>\"Not required\"),COUNTRY_INFO!O132*DISTRICT!AO132,0))","v":53696.896418678371},80002.003085558506,"Y",{"$f":"MAX('MDA2'!J132,'T1'!L132,'T2'!J132,T3_R1!K132,T3_R2!K132)","v":0},{"$f":"MAX('MDA1'!K132,'MDA2'!K132,'MDA3'!I132,'MDA3'!L132,'T1'!M132,'T2'!K132,T3_R1!L132,T3_R2!L132)","v":15626},{"$f":"MAX('MDA1'!L132,'MDA2'!L132,'MDA3'!J132,'MDA3'!M132,'T1'!N132,'T2'!L132,T3_R1!M132,T3_R2!M132)","v":53923.895000000004},69549.895000000004,{"$f":"MAX('MDA2'!J132,T132)","v":0},{"$f":"MAX('MDA1'!K132,'MDA2'!K132,'MDA3'!I132,'MDA3'!L132,V132,AD132)","v":15626},{"$f":"MAX('MDA1'!L132,'MDA2'!L132,'MDA3'!J132,'MDA3'!M132,AF132)","v":53923.895000000004},69549.895000000004,86.935192017154307]
[{"$f":"IF(COUNTRY_INFO!A133=0,\" \",COUNTRY_INFO!A133)","v":"Tanzania"},{"$f":"IF(COUNTRY_INFO!B133=0,\" \",COUNTRY_INFO!B133)","v":"Pwani"},{"$f":"IF(COUNTRY_INFO!C133=0,\" \",COUNTRY_INFO!C133)","v":"Kibaha Town Council"},{"$f":"COUNTRY_INFO!L133","v":"Stopped"},null,null,{"$f":"MAX('MDA1'!M133,'MDA2'!M133)","v":0},{"$f":"IF(AND(COUNTRY_INFO!H133>0,COUNTRY_INFO!H133<4),IF(D133>MAX('MDA1'!M133,'MDA2'!M133),MAX('MDA1'!M133,'MDA2'!M133),D133),0)","v":0},{"$f":"IF(AND(COUNTRY_INFO!H133>0,COUNTRY_INFO!H133<4), IF(G133/D133*100<>0, IF(G133/D133*100>100,100,G133/D133*100), \"-\"),0)","v":0},{"$f":"COUNTRY_INFO!M133","v":0},null,null,{"$f":"MAX('MDA1'!M133,MAX('MDA3'!I133,'MDA3'!L133)+MAX('MDA3'!J133,'MDA3'!M133))","v":0},{"$f":"IF(AND(COUNTRY_INFO!I133>0,COUNTRY_INFO!I133<4),IF(J133>MAX('MDA1'!M133,MAX('MDA3'!I133,'MDA3'!L133)+MAX('MDA3'!J133,'MDA3'!M133)),MAX('MDA1'!M133,MAX('MDA3'!I133,'MDA3'!L133)+MAX('MDA3'!J133,'MDA3'!M133)),J133),0)","v":0},{"$f":"IF(AND(COUNTRY_INFO!I133>0,COUNTRY_INFO!I133<4), IF(M133/J133*100<>0, IF(M133/J133*100>100,100,M133/J133*100), \"-\"),0)","v":0},{"$f":"COUNTRY_INFO!N133","v":41604},null,null,{"$f":"SUM(MAX('MDA2'!J133, 'T1'!L133, MAX(T3_R1!K133, T3_R2!K133)), MAX('MDA1'!K133, 'MDA2'!K133, 'T1'!M133, MAX(T3_R1!L133, T3_R2!L133)), MAX('MDA1'!L133, 'MDA2'!L133, 'T1'!N133, MAX(T3_R1!M133, T3_R2!M133)))","v":33981},{"$f":"IF(AND(COUNTRY_INFO!J133>1,COUNTRY_INFO!J133<4),IF(COUNTRY_INFO!E133>MAX('MDA2'!J133,'T1'!L133,MAX(T3_R1!K133,T3_R2!K133)),MAX('MDA2'!J133,'T1'!L133,MAX(T3_R1!K133,T3_R2!K133)),COUNTRY_INFO!E133),0)","v":0},{"$f":"IF(AND(COUNTRY_INFO!J133>1,COUNTRY_INFO!J133<4), IF(T133/COUNTRY_INFO!E133*100<>0, IF(T133/COUNTRY_INFO!E133*100>100,100,T133/COUNTRY_INFO!E133*100), \"-\"),0)","v":"-"},{"$f":"IF(AND(COUNTRY_INFO!J133>1,COUNTRY_INFO!J133<4),IF(COUNTRY_INFO!F133>MAX('MDA1'!K133,'MDA2'!K133,'T1'!M133,MAX(T3_R1!L133,T3_R2!L133)),MAX('MDA1'!K133,'MDA2'!K133,'T1'!M133,MAX(T3_R1!L133,T3_R2!L133)),COUNTRY_INFO!F133),0)","v":33981},{"$f":"IF(AND(COUNTRY_INFO!J133>1,COUNTRY_INFO!J133<4), IF(V133/COUNTRY_INFO!F133*100<>0, IF(V133/COUNTRY_INFO!F133*100>100,100,V133/COUNTRY_INFO!F133*100), \"-\"),0)","v":96.644008987230166},33981,{"$f":"IF(AND(COUNTRY_INFO!J133>1,COUNTRY_INFO!J133<4), IF(S133/P133*100<>0, IF(X133/P133*100>100,100,X133/P133*100), \"-\"),0)","v":81.677242572829527},{"$f":"COUNTRY_INFO!O133","v":38541.5},null,null,{"$f":"MAX('T1'!L133,'T2'!J133)+MAX('T1'!M133,'T2'!K133)+MAX('T1'!N133,'T2'!L133)","v":33981},{"$f":"IF(COUNTRY_INFO!K133=1,IF(COUNTRY_INFO!F133*0.33>MAX('T1'!M133,'T2'!K133),MAX('T1'!M133,'T2'!K133),COUNTRY_INFO!F133*0.33),IF(COUNTRY_INFO!K133=2,IF(COUNTRY_INFO!F133*0.5>MAX('T1'!M133,'T2'!K133),MAX('T1'!M133,'T2'!K133),COUNTRY_INFO!F133*0.5),IF(COUNTRY_INFO!K133=3,IF(COUNTRY_INFO!F133>MAX('T1'!M133,'T2'!K133),MAX('T1'!M133,'T2'!K133),COUNTRY_INFO!F133),0)))","v":17580.5},{"$f":"IF(AND(COUNTRY_INFO!K133>0,COUNTRY_INFO!K133<4),IF(Z133>0,IF(COUNTRY_INFO!K133=1, AD133/(COUNTRY_INFO!F133*0.33)*100, IF(COUNTRY_INFO!K133=2, AD133/(COUNTRY_INFO!F133*0.5)*100, IF(COUNTRY_INFO!K133=3, AD133/COUNTRY_INFO!F133*100))),\"-\"),0)","v":100},{"$f":"IF(COUNTRY_INFO!K133=2,IF(COUNTRY_INFO!G133*0.2>MAX('T1'!N133,'T2'!L133),MAX('T1'!N133,'T2'!L133),COUNTRY_INFO!G133*0.2),IF(COUNTRY_INFO!K133=3,IF(COUNTRY_INFO!G133>MAX('T1'!N133,'T2'!L133),MAX('T1'!N133,'T2'!L133),COUNTRY_INFO!G133),0))","v":0},{"$f":"IF(AND(COUNTRY_INFO!K133>0,COUNTRY_INFO!K133<4),IF(Z133>0,IF(COUNTRY_INFO!K133=1, 0, IF(COUNTRY_INFO!K133=2, AF133/(COUNTRY_INFO!G133*0.2)*100, IF(COUNTRY_INFO!K133=3, AF133/COUNTRY_INFO!G133*100))),\"-\"),0)","v":0},17580.5,{"$f":"IF(AND(COUNTRY_INFO!K133>0,COUNTRY_INFO!K133<4), IF(AC133/Z133*100<>0, IF(AH133/Z133*100>100,100,AH133/Z133*100), \"-\"),0)","v":45.61446752202172},null,{"$f":"IF(AND(D133<>0, D133<>\"Unknown\",D133<>\"Stopped\",D133<>\"Not required\"),D133/COUNTRY_INFO!D133, 0)","v":0},{"$f":"IF(AND(J133<>0,J133<>\"Unknown\",J133<>\"Stopped\",J133<>\"Not required\"),J133/COUNTRY_INFO!D133, 0)","v":0},{"$f":"IF(AND(P133<>0,P133<>\"Unknown\",P133<>\"Not required\"),P133/(COUNTRY_INFO!E133+COUNTRY_INFO!F133), 0)","v":1},{"$f":"IF(AND(Z133<>0,Z133<>\"Unknown\",Z133<>\"Not required\"),IF(COUNTRY_INFO!K133=1,1,IF(COUNTRY_INFO!K133=2,0.5*COUNTRY_INFO!F133/(0.5*COUNTRY_INFO!F133+0.2*COUNTRY_INFO!G133),IF(COUNTRY_INFO!K133=3,COUNTRY_INFO!F133/(COUNTRY_INFO!F133+COUNTRY_INFO!G133)))),0)","v":0.45614467522021718},{"$f":"IF(AND(Z133<>0,Z133<>\"Unknown\",Z133<>\"Not required\"),IF(COUNTRY_INFO!K133=1,0,IF(COUNTRY_INFO!K133=2,0.2*COUNTRY_INFO!G133/(0.5*COUNTRY_INFO!F133+0.2*COUNTRY_INFO!G133),IF(COUNTRY_INFO!K133=3,COUNTRY_INFO!G133/(COUNTRY_INFO!F133+COUNTRY_INFO!G133)))),0)","v":0.54385532477978282},{"$f":"MAX(COUNTRY_INFO!D133*AK133*PROFILE!$G$7,COUNTRY_INFO!D133*AL133*PROFILE!$G$7)","v":0},{"$f":"MAX(COUNTRY_INFO!D133*AK133*PROFILE!$G$8,COUNTRY_INFO!D133*AL133*PROFILE!$G$8,COUNTRY_INFO!D133*AM133*PROFILE!$G$8)","v":16255.88229149148},{"$f":"MAX(COUNTRY_INFO!D133*AK133*PROFILE!$G$9,COUNTRY_INFO!D133*AL133*PROFILE!$G$9,COUNTRY_INFO!D133*AM133*PROFILE!$G$9,IF(AND(DISTRICT!Z133<>\"Unknown\",Z133<>\"Not required\"),COUNTRY_INFO!O133*DISTRICT!AN133,0))","v":31884.218730873632},{"$f":"MAX(COUNTRY_INFO!D133*AK133*PROFILE!$G$10,COUNTRY_INFO!D133*AL133*PROFILE!$G$10,IF(AND(DISTRICT!Z133<>\"Unknown\",Z133<>\"Not required\"),COUNTRY_INFO!O133*DISTRICT!AO133,0))","v":20961},69101.10102236511,"Y",{"$f":"MAX('MDA2'!J133,'T1'!L133,'T2'!J133,T3_R1!K133,T3_R2!K133)","v":0},{"$f":"MAX('MDA1'!K133,'MDA2'!K133,'MDA3'!I133,'MDA3'!L133,'T1'!M133,'T2'!K133,T3_R1!L133,T3_R2!L133)","v":33981},{"$f":"MAX('MDA1'!L133,'MDA2'!L133,'MDA3'!J133,'MDA3'!M133,'T1'!N133,'T2'!L133,T3_R1!M133,T3_R2!M133)","v":0},33981,{"$f":"MAX('MDA2'!J133,T133)","v":0},{"$f":"MAX('MDA1'!K133,'MDA2'!K133,'MDA3'!I133,'MDA3'!L133,V133,AD133)","v":33981},{"$f":"MAX('MDA1'!L133,'MDA2'!L133,'MDA3'!J133,'MDA3'!M133,AF133)","v":0},33981,49.175772161722556]
[{"$f":"IF(COUNTRY_INFO!A134=0,\" \",COUNTRY_INFO!A134)","v":"Tanzania"},{"$f":"IF(COUNTRY_INFO!B134=0,\" \",COUNTRY_INFO!B134)","v":"Pwani"},{"$f":"IF(COUNTRY_INFO!C134=0,\" \",COUNTRY_INFO!C134)","v":"Kibiti District Council"},{"$f":"COUNTRY_INFO!L134","v":"Stopped"},null,null,{"$f":"MAX('MDA1'!M134,'MDA2'!M134)","v":0},{"$f":"IF(AND(COUNTRY_INFO!H134>0,COUNTRY_INFO!H134<4),IF(D134>MAX('MDA1'!M134,'MDA2'!M134),MAX('MDA1'!M134,'MDA2'!M134),D134),0)","v":0},{"$f":"IF(AND(COUNTRY_INFO!H134>0,COUNTRY_INFO!H134<4), IF(G134/D134*100<>0, IF(G134/D134*100>100,100,G134/D134*100), \"-\"),0)","v":0},{"$f":"COUNTRY_INFO!M134","v":0},null,null,{"$f":"MAX('MDA1'!M134,MAX('MDA3'!I134,'MDA3'!L134)+MAX('MDA3'!J134,'MDA3'!M134))","v":0},{"$f":"IF(AND(COUNTRY_INFO!I134>0,COUNTRY_INFO!I134<4),IF(J134>MAX('MDA1'!M134,MAX('MDA3'!I134,'MDA3'!L134)+MAX('MDA3'!J134,'MDA3'!M134)),MAX('MDA1'!M134,MAX('MDA3'!I134,'MDA3'!L134)+MAX('MDA3'!J134,'MDA3'!M134)),J134),0)","v":0},{"$f":"IF(AND(COUNTRY_INFO!I134>0,COUNTRY_INFO!I134<4), IF(M134/J134*100<>0, IF(M134/J134*100>100,100,M134/J134*100), \"-\"),0)","v":0},{"$f":"COUNTRY_INFO!N134","v":39352},null,null,{"$f":"SUM(MAX('MDA2'!J134, 'T1'!L134, MAX(T3_R1!K134, T3_R2!K134)), MAX('MDA1'!K134, 'MDA2'!K134, 'T1'!M134, MAX(T3_R1!L134, T3_R2!L134)), MAX('MDA1'!L134, 'MDA2'!L134, 'T1'!N134, MAX(T3_R1!M134, T3_R2!M134)))","v":31636},{"$f":"IF(AND(COUNTRY_INFO!J134>1,COUNTRY_INFO!J134<4),IF(COUNTRY_INFO!E134>MAX('MDA2'!J134,'T1'!L134,MAX(T3_R1!K134,T3_R2!K134)),MAX('MDA2'!J134,'T1'!L134,MAX(T3_R1!K134,T3_R2!K134)),COUNTRY_INFO!E134),0)","v":0},{"$f":"IF(AND(COUNTRY_INFO!J134>1,COUNTRY_INFO!J134<4), IF(T134/COUNTRY_INFO!E134*100<>0, IF(T134/COUNTRY_INFO!E134*100>100,100,T134/COUNTRY_INFO!E134*100), \"-\"),0)","v":"-"},{"$f":"IF(AND(COUNTRY_INFO!J134>1,COUNTRY_INFO!J134<4),IF(COUNTRY_INFO!F134>MAX('MDA1'!K134,'MDA2'!K134,'T1'!M134,MAX(T3_R1!L134,T3_R2!L134)),MAX('MDA1'!K134,'MDA2'!K134,'T1'!M134,MAX(T3_R1!L134,T3_R2!L134)),COUNTRY_INFO!F134),0)","v":31636},{"$f":"IF(AND(COUNTRY_INFO!J134>1,COUNTRY_INFO!J134<4), IF(V134/COUNTRY_INFO!F134*100<>0, IF(V134/COUNTRY_INFO!F134*100>100,100,V134/COUNTRY_INFO!F134*100), \"-\"),0)","v":90.670946662463109},31636,{"$f":"IF(AND(COUNTRY_INFO!J134>1,COUNTRY_INFO!J134<4), IF(S134/P134*100<>0, IF(X134/P134*100>100,100,X134/P134*100), \"-\"),0)","v":80.392356169953246},{"$f":"COUNTRY_INFO!O134","v":33260.1},null,null,{"$f":"MAX('T1'!L134,'T2'!J134)+MAX('T1'!M134,'T2'!K134)+MAX('T1'!N134,'T2'!L134)","v":0},{"$f":"IF(COUNTRY_INFO!K134=1,IF(COUNTRY_INFO!F134*0.33>MAX('T1'!M134,'T2'!K134),MAX('T1'!M134,'T2'!K134),COUNTRY_INFO!F134*0.33),IF(COUNTRY_INFO!K134=2,IF(COUNTRY_INFO!F134*0.5>MAX('T1'!M134,'T2'!K134),MAX('T1'!M134,'T2'!K134),COUNTRY_INFO!F134*0.5),IF(COUNTRY_INFO!K134=3,IF(COUNTRY_INFO!F134>MAX('T1'!M134,'T2'!K134),MAX('T1'!M134,'T2'!K134),COUNTRY_INFO!F134),0)))","v":0},{"$f":"IF(AND(COUNTRY_INFO!K134>0,COUNTRY_INFO!K134<4),IF(Z134>0,IF(COUNTRY_INFO!K134=1, AD134/(COUNTRY_INFO!F134*0.33)*100, IF(COUNTRY_INFO!K134=2, AD134/(COUNTRY_INFO!F134*0.5)*100, IF(COUNTRY_INFO!K134=3, AD134/COUNTRY_INFO!F134*100))),\"-\"),0)","v":0},{"$f":"IF(COUNTRY_INFO!K134=2,IF(COUNTRY_INFO!G134*0.2>MAX('T1'!N134,'T2'!L134),MAX('T1'!N134,'T2'!L134),COUNTRY_INFO!G134*0.2),IF(COUNTRY_INFO!K134=3,IF(COUNTRY_INFO!G134>MAX('T1'!N134,'T2'!L134),MAX('T1'!N134,'T2'!L134),COUNTRY_INFO!G134),0))","v":0},{"$f":"IF(AND(COUNTRY_INFO!K134>0,COUNTRY_INFO!K134<4),IF(Z134>0,IF(COUNTRY_INFO!K134=1, 0, IF(COUNTRY_INFO!K134=2, AF134/(COUNTRY_INFO!G134*0.2)*100, IF(COUNTRY_INFO!K134=3, AF134/COUNTRY_INFO!G134*100))),\"-\"),0)","v":0},0,{"$f":"IF(AND(COUNTRY_INFO!K134>0,COUNTRY_INFO!K134<4), IF(AC134/Z134*100<>0, IF(AH134/Z134*100>100,100,AH134/Z134*100), \"-\"),0)","v":"-"},null,{"$f":"IF(AND(D134<>0, D134<>\"Unknown\",D134<>\"Stopped\",D134<>\"Not required\"),D134/COUNTRY_INFO!D134, 0)","v":0},{"$f":"IF(AND(J134<>0,J134<>\"Unknown\",J134<>\"Stopped\",J134<>\"Not required\"),J134/COUNTRY_INFO!D134, 0)","v":0},{"$f":"IF(AND(P134<>0,P134<>\"Unknown\",P134<>\"Not required\"),P134/(COUNTRY_INFO!E134+COUNTRY_INFO!F134), 0)","v":1},{"$f":"IF(AND(Z134<>0,Z134<>\"Unknown\",Z134<>\"Not required\"),IF(COUNTRY_INFO!K134=1,1,IF(COUNTRY_INFO!K134=2,0.5*COUNTRY_INFO!F134/(0.5*COUNTRY_INFO!F134+0.2*COUNTRY_INFO!G134),IF(COUNTRY_INFO!K134=3,COUNTRY_INFO!F134/(COUNTRY_INFO!F134+COUNTRY_INFO!G134)))),0)","v":0.52451736465013632},{"$f":"IF(AND(Z134<>0,Z134<>\"Unknown\",Z134<>\"Not required\"),IF(COUNTRY_INFO!K134=1,0,IF(COUNTRY_INFO!K134=2,0.2*COUNTRY_INFO!G134/(0.5*COUNTRY_INFO!F134+0.2*COUNTRY_INFO!G134),IF(COUNTRY_INFO!K134=3,COUNTRY_INFO!G134/(COUNTRY_INFO!F134+COUNTRY_INFO!G134)))),0)","v":0.47548263534986368},{"$f":"MAX(COUNTRY_INFO!D134*AK134*PROFILE!$G$7,COUNTRY_INFO!D134*AL134*PROFILE!$G$7)","v":0},{"$f":"MAX(COUNTRY_INFO!D134*AK134*PROFILE!$G$8,COUNTRY_INFO!D134*AL134*PROFILE!$G$8,COUNTRY_INFO!D134*AM134*PROFILE!$G$8)","v":13148.801374026723},{"$f":"MAX(COUNTRY_INFO!D134*AK134*PROFILE!$G$9,COUNTRY_INFO!D134*AL134*PROFILE!$G$9,COUNTRY_INFO!D134*AM134*PROFILE!$G$9,IF(AND(DISTRICT!Z134<>\"Unknown\",Z134<>\"Not required\"),COUNTRY_INFO!O134*DISTRICT!AN134,0))","v":25790.00336867071},{"$f":"MAX(COUNTRY_INFO!D134*AK134*PROFILE!$G$10,COUNTRY_INFO!D134*AL134*PROFILE!$G$10,IF(AND(DISTRICT!Z134<>\"Unknown\",Z134<>\"Not required\"),COUNTRY_INFO!O134*DISTRICT!AO134,0))","v":15814.6},54753.404742697436,0,{"$f":"MAX('MDA2'!J134,'T1'!L134,'T2'!J134,T3_R1!K134,T3_R2!K134)","v":0},{"$f":"MAX('MDA1'!K134,'MDA2'!K134,'MDA3'!I134,'MDA3'!L134,'T1'!M134,'T2'!K134,T3_R1!L134,T3_R2!L134)","v":31636},{"$f":"MAX('MDA1'!L134,'MDA2'!L134,'MDA3'!J134,'MDA3'!M134,'T1'!N134,'T2'!L134,T3_R1!M134,T3_R2!M134)","v":0},31636,{"$f":"MAX('MDA2'!J134,T134)","v":0},{"$f":"MAX('MDA1'!K134,'MDA2'!K134,'MDA3'!I134,'MDA3'!L134,V134,AD134)","v":31636},{"$f":"MAX('MDA1'!L134,'MDA2'!L134,'MDA3'!J134,'MDA3'!M134,AF134)","v":0},31636,57.779055291021606]
[{"$f":"IF(COUNTRY_INFO!A135=0,\" \",COUNTRY_INFO!A135)","v":"Tanzania"},{"$f":"IF(COUNTRY_INFO!B135=0,\" \",COUNTRY_INFO!B135)","v":"Pwani"},{"$f":"IF(COUNTRY_INFO!C135=0,\" \",COUNTRY_INFO!C135)","v":"Kisarawe District Council"},{"$f":"COUNTRY_INFO!L135","v":"Stopped"},null,null,{"$f":"MAX('MDA1'!M135,'MDA2'!M135)","v":0},{"$f":"IF(AND(COUNTRY_INFO!H135>0,COUNTRY_INFO!H135<4),IF(D135>MAX('MDA1'!M135,'MDA2'!M135),MAX('MDA1'!M135,'MDA2'!M135),D135),0)","v":0},{"$f":"IF(AND(COUNTRY_INFO!H135>0,COUNTRY_INFO!H135<4), IF(G135/D135*100<>0, IF(G135/D135*100>100,100,G135/D135*100), \"-\"),0)","v":0},{"$f":"COUNTRY_INFO!M135","v":0},null,null,{"$f":"MAX('MDA1'!M135,MAX('MDA3'!I135,'MDA3'!L135)+MAX('MDA3'!J135,'MDA3'!M135))","v":0},{"$f":"IF(AND(COUNTRY_INFO!I135>0,COUNTRY_INFO!I135<4),IF(J135>MAX('MDA1'!M135,MAX('MDA3'!I135,'MDA3'!L135)+MAX('MDA3'!J135,'MDA3'!M135)),MAX('MDA1'!M135,MAX('MDA3'!I135,'MDA3'!L135)+MAX('MDA3'!J135,'MDA3'!M135)),J135),0)","v":0},{"$f":"IF(AND(COUNTRY_INFO!I135>0,COUNTRY_INFO!I135<4), IF(M135/J135*100<>0, IF(M135/J135*100>100,100,M135/J135*100), \"-\"),0)","v":0},{"$f":"COUNTRY_INFO!N135","v":33731},null,null,{"$f":"SUM(MAX('MDA2'!J135, 'T1'!L135, MAX(T3_R1!K135, T3_R2!K135)), MAX('MDA1'!K135, 'MDA2'!K135, 'T1'!M135, MAX(T3_R1!L135, T3_R2!L135)), MAX('MDA1'!L135, 'MDA2'!L135, 'T1'!N135, MAX(T3_R1!M135, T3_R2!M135)))","v":27366},{"$f":"IF(AND(COUNTRY_INFO!J135>1,COUNTRY_INFO!J135<4),IF(COUNTRY_INFO!E135>MAX('MDA2'!J135,'T1'!L135,MAX(T3_R1!K135,T3_R2!K135)),MAX('MDA2'!J135,'T1'!L135,MAX(T3_R1!K135,T3_R2!K135)),COUNTRY_INFO!E135),0)","v":0},{"$f":"IF(AND(COUNTRY_INFO!J135>1,COUNTRY_INFO!J135<4), IF(T135/COUNTRY_INFO!E135*100<>0, IF(T135/COUNTRY_INFO!E135*100>100,100,T135/COUNTRY_INFO!E135*100), \"-\"),0)","v":"-"},{"$f":"IF(AND(COUNTRY_INFO!J135>1,COUNTRY_INFO!J135<4),IF(COUNTRY_INFO!F135>MAX('MDA1'!K135,'MDA2'!K135,'T1'!M135,MAX(T3_R1!L135,T3_R2!L135)),MAX('MDA1'!K135,'MDA2'!K135,'T1'!M135,MAX(T3_R1!L135,T3_R2!L135)),COUNTRY_INFO!F135),0)","v":27366},{"$f":"IF(AND(COUNTRY_INFO!J135>1,COUNTRY_INFO!J135<4), IF(V135/COUNTRY_INFO!F135*100<>0, IF(V135/COUNTRY_INFO!F135*100>100,100,V135/COUNTRY_INFO!F135*100), \"-\"),0)","v":93.065805135181094},27366,{"$f":"IF(AND(COUNTRY_INFO!J135>1,COUNTRY_INFO!J135<4), IF(S135/P135*100<>0, IF(X135/P135*100>100,100,X135/P135*100), \"-\"),0)","v":81.13011769588806},{"$f":"COUNTRY_INFO!O135","v":31110.100000000002},null,null,{"$f":"MAX('T1'!L135,'T2'!J135)+MAX('T1'!M135,'T2'!K135)+MAX('T1'!N135,'T2'!L135)","v":0},{"$f":"IF(COUNTRY_INFO!K135=1,IF(COUNTRY_INFO!F135*0.33>MAX('T1'!M135,'T2'!K135),MAX('T1'!M135,'T2'!K135),COUNTRY_INFO!F135*0.33),IF(COUNTRY_INFO!K135=2,IF(COUNTRY_INFO!F135*0.5>MAX('T1'!M135,'T2'!K135),MAX('T1'!M135,'T2'!K135),COUNTRY_INFO!F135*0.5),IF(COUNTRY_INFO!K135=3,IF(COUNTRY_INFO!F135>MAX('T1'!M135,'T2'!K135),MAX('T1'!M135,'T2'!K135),COUNTRY_INFO!F135),0)))","v":0},{"$f":"IF(AND(COUNTRY_INFO!K135>0,COUNTRY_INFO!K135<4),IF(Z135>0,IF(COUNTRY_INFO!K135=1, AD135/(COUNTRY_INFO!F135*0.33)*100, IF(COUNTRY_INFO!K135=2, AD135/(COUNTRY_INFO!F135*0.5)*100, IF(COUNTRY_INFO!K135=3, AD135/COUNTRY_INFO!F135*100))),\"-\"),0)","v":0},{"$f":"IF(COUNTRY_INFO!K135=2,IF(COUNTRY_INFO!G135*0.2>MAX('T1'!N135,'T2'!L135),MAX('T1'!N135,'T2'!L135),COUNTRY_INFO!G135*0.2),IF(COUNTRY_INFO!K135=3,IF(COUNTRY_INFO!G135>MAX('T1'!N135,'T2'!L135),MAX('T1'!N135,'T2'!L135),COUNTRY_INFO!G135),0))","v":0},{"$f":"IF(AND(COUNTRY_INFO!K135>0,COUNTRY_INFO!K135<4),IF(Z135>0,IF(COUNTRY_INFO!K135=1, 0, IF(COUNTRY_INFO!K135=2, AF135/(COUNTRY_INFO!G135*0.2)*100, IF(COUNTRY_INFO!K135=3, AF135/COUNTRY_INFO!G135*100))),\"-\"),0)","v":0},0,{"$f":"IF(AND(COUNTRY_INFO!K135>0,COUNTRY_INFO!K135<4), IF(AC135/Z135*100<>0, IF(AH135/Z135*100>100,100,AH135/Z135*100), \"-\"),0)","v":"-"},null,{"$f":"IF(AND(D135<>0, D135<>\"Unknown\",D135<>\"Stopped\",D135<>\"Not required\"),D135/COUNTRY_INFO!D135, 0)","v":0},{"$f":"IF(AND(J135<>0,J135<>\"Unknown\",J135<>\"Stopped\",J135<>\"Not required\"),J135/COUNTRY_INFO!D135, 0)","v":0},{"$f":"IF(AND(P135<>0,P135<>\"Unknown\",P135<>\"Not required\"),P135/(COUNTRY_INFO!E135+COUNTRY_INFO!F135), 0)","v":1},{"$f":"IF(AND(Z135<>0,Z135<>\"Unknown\",Z135<>\"Not required\"),IF(COUNTRY_INFO!K135=1,1,IF(COUNTRY_INFO!K135=2,0.5*COUNTRY_INFO!F135/(0.5*COUNTRY_INFO!F135+0.2*COUNTRY_INFO!G135),IF(COUNTRY_INFO!K135=3,COUNTRY_INFO!F135/(COUNTRY_INFO!F135+COUNTRY_INFO!G135)))),0)","v":0.47259571650364346},{"$f":"IF(AND(Z135<>0,Z135<>\"Unknown\",Z135<>\"Not required\"),IF(COUNTRY_INFO!K135=1,0,IF(COUNTRY_INFO!K135=2,0.2*COUNTRY_INFO!G135/(0.5*COUNTRY_INFO!F135+0.2*COUNTRY_INFO!G135),IF(COUNTRY_INFO!K135=3,COUNTRY_INFO!G135/(COUNTRY_INFO!F135+COUNTRY_INFO!G135)))),0)","v":0.52740428349635649},{"$f":"MAX(COUNTRY_INFO!D135*AK135*PROFILE!$G$7,COUNTRY_INFO!D135*AL135*PROFILE!$G$7)","v":0},{"$f":"MAX(COUNTRY_INFO!D135*AK135*PROFILE!$G$8,COUNTRY_INFO!D135*AL135*PROFILE!$G$8,COUNTRY_INFO!D135*AM135*PROFILE!$G$8)","v":12853.90404280937},{"$f":"MAX(COUNTRY_INFO!D135*AK135*PROFILE!$G$9,COUNTRY_INFO!D135*AL135*PROFILE!$G$9,COUNTRY_INFO!D135*AM135*PROFILE!$G$9,IF(AND(DISTRICT!Z135<>\"Unknown\",Z135<>\"Not required\"),COUNTRY_INFO!O135*DISTRICT!AN135,0))","v":25211.592991240359},{"$f":"MAX(COUNTRY_INFO!D135*AK135*PROFILE!$G$10,COUNTRY_INFO!D135*AL135*PROFILE!$G$10,IF(AND(DISTRICT!Z135<>\"Unknown\",Z135<>\"Not required\"),COUNTRY_INFO!O135*DISTRICT!AO135,0))","v":16407.600000000002},54473.09703404973,0,{"$f":"MAX('MDA2'!J135,'T1'!L135,'T2'!J135,T3_R1!K135,T3_R2!K135)","v":0},{"$f":"MAX('MDA1'!K135,'MDA2'!K135,'MDA3'!I135,'MDA3'!L135,'T1'!M135,'T2'!K135,T3_R1!L135,T3_R2!L135)","v":27366},{"$f":"MAX('MDA1'!L135,'MDA2'!L135,'MDA3'!J135,'MDA3'!M135,'T1'!N135,'T2'!L135,T3_R1!M135,T3_R2!M135)","v":0},27366,{"$f":"MAX('MDA2'!J135,T135)","v":0},{"$f":"MAX('MDA1'!K135,'MDA2'!K135,'MDA3'!I135,'MDA3'!L135,V135,AD135)","v":27366},{"$f":"MAX('MDA1'!L135,'MDA2'!L135,'MDA3'!J135,'MDA3'!M135,AF135)","v":0},27366,50.237642965102971]
[{"$f":"IF(COUNTRY_INFO!A136=0,\" \",COUNTRY_INFO!A136)","v":"Tanzania"},{"$f":"IF(COUNTRY_INFO!B136=0,\" \",COUNTRY_INFO!B136)","v":"Pwani"},{"$f":"IF(COUNTRY_INFO!C136=0,\" \",COUNTRY_INFO!C136)","v":"Mafia District Council"},{"$f":"COUNTRY_INFO!L136","v":52915},null,null,{"$f":"MAX('MDA1'!M136,'MDA2'!M136)","v":43143},{"$f":"IF(AND(COUNTRY_INFO!H136>0,COUNTRY_INFO!H136<4),IF(D136>MAX('MDA1'!M136,'MDA2'!M136),MAX('MDA1'!M136,'MDA2'!M136),D136),0)","v":43143},{"$f":"IF(AND(COUNTRY_INFO!H136>0,COUNTRY_INFO!H136<4), IF(G136/D136*100<>0, IF(G136/D136*100>100,100,G136/D136*100), \"-\"),0)","v":81.532646697533778},{"$f":"COUNTRY_INFO!M136","v":0},null,null,{"$f":"MAX('MDA1'!M136,MAX('MDA3'!I136,'MDA3'!L136)+MAX('MDA3'!J136,'MDA3'!M136))","v":43143},{"$f":"IF(AND(COUNTRY_INFO!I136>0,COUNTRY_INFO!I136<4),IF(J136>MAX('MDA1'!M136,MAX('MDA3'!I136,'MDA3'!L136)+MAX('MDA3'!J136,'MDA3'!M136)),MAX('MDA1'!M136,MAX('MDA3'!I136,'MDA3'!L136)+MAX('MDA3'!J136,'MDA3'!M136)),J136),0)","v":0},{"$f":"IF(AND(COUNTRY_INFO!I136>0,COUNTRY_INFO!I136<4), IF(M136/J136*100<>0, IF(M136/J136*100>100,100,M136/J136*100), \"-\"),0)","v":0},{"$f":"COUNTRY_INFO!N136","v":15917},null,null,{"$f":"SUM(MAX('MDA2'!J136, 'T1'!L136, MAX(T3_R1!K136, T3_R2!K136)), MAX('MDA1'!K136, 'MDA2'!K136, 'T1'!M136, MAX(T3_R1!L136, T3_R2!L136)), MAX('MDA1'!L136, 'MDA2'!L136, 'T1'!N136, MAX(T3_R1!M136, T3_R2!M136)))","v":45001.686999999998},{"$f":"IF(AND(COUNTRY_INFO!J136>1,COUNTRY_INFO!J136<4),IF(COUNTRY_INFO!E136>MAX('MDA2'!J136,'T1'!L136,MAX(T3_R1!K136,T3_R2!K136)),MAX('MDA2'!J136,'T1'!L136,MAX(T3_R1!K136,T3_R2!K136)),COUNTRY_INFO!E136),0)","v":0},{"$f":"IF(AND(COUNTRY_INFO!J136>1,COUNTRY_INFO!J136<4), IF(T136/COUNTRY_INFO!E136*100<>0, IF(T136/COUNTRY_INFO!E136*100>100,100,T136/COUNTRY_INFO!E136*100), \"-\"),0)","v":"-"},{"$f":"IF(AND(COUNTRY_INFO!J136>1,COUNTRY_INFO!J136<4),IF(COUNTRY_INFO!F136>MAX('MDA1'!K136,'MDA2'!K136,'T1'!M136,MAX(T3_R1!L136,T3_R2!L136)),MAX('MDA1'!K136,'MDA2'!K136,'T1'!M136,MAX(T3_R1!L136,T3_R2!L136)),COUNTRY_INFO!F136),0)","v":10099},{"$f":"IF(AND(COUNTRY_INFO!J136>1,COUNTRY_INFO!J136<4), IF(V136/COUNTRY_INFO!F136*100<>0, IF(V136/COUNTRY_INFO!F136*100>100,100,V136/COUNTRY_INFO!F136*100), \"-\"),0)","v":89.64935641367066},10099,{"$f":"IF(AND(COUNTRY_INFO!J136>1,COUNTRY_INFO!J136<4), IF(S136/P136*100<>0, IF(X136/P136*100>100,100,X136/P136*100), \"-\"),0)","v":63.447885908148514},{"$f":"COUNTRY_INFO!O136","v":13032.1},null,null,{"$f":"MAX('T1'!L136,'T2'!J136)+MAX('T1'!M136,'T2'!K136)+MAX('T1'!N136,'T2'!L136)","v":10099},{"$f":"IF(COUNTRY_INFO!K136=1,IF(COUNTRY_INFO!F136*0.33>MAX('T1'!M136,'T2'!K136),MAX('T1'!M136,'T2'!K136),COUNTRY_INFO!F136*0.33),IF(COUNTRY_INFO!K136=2,IF(COUNTRY_INFO!F136*0.5>MAX('T1'!M136,'T2'!K136),MAX('T1'!M136,'T2'!K136),COUNTRY_INFO!F136*0.5),IF(COUNTRY_INFO!K136=3,IF(COUNTRY_INFO!F136>MAX('T1'!M136,'T2'!K136),MAX('T1'!M136,'T2'!K136),COUNTRY_INFO!F136),0)))","v":5632.5},{"$f":"IF(AND(COUNTRY_INFO!K136>0,COUNTRY_INFO!K136<4),IF(Z136>0,IF(COUNTRY_INFO!K136=1, AD136/(COUNTRY_INFO!F136*0.33)*100, IF(COUNTRY_INFO!K136=2, AD136/(COUNTRY_INFO!F136*0.5)*100, IF(COUNTRY_INFO!K136=3, AD136/COUNTRY_INFO!F136*100))),\"-\"),0)","v":100},{"$f":"IF(COUNTRY_INFO!K136=2,IF(COUNTRY_INFO!G136*0.2>MAX('T1'!N136,'T2'!L136),MAX('T1'!N136,'T2'!L136),COUNTRY_INFO!G136*0.2),IF(COUNTRY_INFO!K136=3,IF(COUNTRY_INFO!G136>MAX('T1'!N136,'T2'!L136),MAX('T1'!N136,'T2'!L136),COUNTRY_INFO!G136),0))","v":0},{"$f":"IF(AND(COUNTRY_INFO!K136>0,COUNTRY_INFO!K136<4),IF(Z136>0,IF(COUNTRY_INFO!K136=1, 0, IF(COUNTRY_INFO!K136=2, AF136/(COUNTRY_INFO!G136*0.2)*100, IF(COUNTRY_INFO!K136=3, AF136/COUNTRY_INFO!G136*100))),\"-\"),0)","v":0},5632.5,{"$f":"IF(AND(COUNTRY_INFO!K136>0,COUNTRY_INFO!K136<4), IF(AC136/Z136*100<>0, IF(AH136/Z136*100>100,100,AH136/Z136*100), \"-\"),0)","v":43.220202423247208},null,{"$f":"IF(AND(D136<>0, D136<>\"Unknown\",D136<>\"Stopped\",D136<>\"Not required\"),D136/COUNTRY_INFO!D136, 0)","v":1},{"$f":"IF(AND(J136<>0,J136<>\"Unknown\",J136<>\"Stopped\",J136<>\"Not required\"),J136/COUNTRY_INFO!D136, 0)","v":0},{"$f":"IF(AND(P136<>0,P136<>\"Unknown\",P136<>\"Not required\"),P136/(COUNTRY_INFO!E136+COUNTRY_INFO!F136), 0)","v":1},{"$f":"IF(AND(Z136<>0,Z136<>\"Unknown\",Z136<>\"Not required\"),IF(COUNTRY_INFO!K136=1,1,IF(COUNTRY_INFO!K136=2,0.5*COUNTRY_INFO!F136/(0.5*COUNTRY_INFO!F136+0.2*COUNTRY_INFO!G136),IF(COUNTRY_INFO!K136=3,COUNTRY_INFO!F136/(COUNTRY_INFO!F136+COUNTRY_INFO!G136)))),0)","v":0.43220202423247212},{"$f":"IF(AND(Z136<>0,Z136<>\"Unknown\",Z136<>\"Not required\"),IF(COUNTRY_INFO!K136=1,0,IF(COUNTRY_INFO!K136=2,0.2*COUNTRY_INFO!G136/(0.5*COUNTRY_INFO!F136+0.2*COUNTRY_INFO!G136),IF(COUNTRY_INFO!K136=3,COUNTRY_INFO!G136/(COUNTRY_INFO!F136+COUNTRY_INFO!G136)))),0)","v":0.56779797576752788},{"$f":"MAX(COUNTRY_INFO!D136*AK136*PROFILE!$G$7,COUNTRY_INFO!D136*AL136*PROFILE!$G$7)","v":0},{"$f":"MAX(COUNTRY_INFO!D136*AK136*PROFILE!$G$8,COUNTRY_INFO!D136*AL136*PROFILE!$G$8,COUNTRY_INFO!D136*AM136*PROFILE!$G$8)","v":5875.1853468999288},{"$f":"MAX(COUNTRY_INFO!D136*AK136*PROFILE!$G$9,COUNTRY_INFO!D136*AL136*PROFILE!$G$9,COUNTRY_INFO!D136*AM136*PROFILE!$G$9,IF(AND(DISTRICT!Z136<>\"Unknown\",Z136<>\"Not required\"),COUNTRY_INFO!O136*DISTRICT!AN136,0))","v":11523.563675349043},{"$f":"MAX(COUNTRY_INFO!D136*AK136*PROFILE!$G$10,COUNTRY_INFO!D136*AL136*PROFILE!$G$10,IF(AND(DISTRICT!Z136<>\"Unknown\",Z136<>\"Not required\"),COUNTRY_INFO!O136*DISTRICT!AO136,0))","v":35516.253018604111},52915.002040853084,"Y",{"$f":"MAX('MDA2'!J136,'T1'!L136,'T2'!J136,T3_R1!K136,T3_R2!K136)","v":0},{"$f":"MAX('MDA1'!K136,'MDA2'!K136,'MDA3'!I136,'MDA3'!L136,'T1'!M136,'T2'!K136,T3_R1!L136,T3_R2!L136)","v":10099},{"$f":"MAX('MDA1'!L136,'MDA2'!L136,'MDA3'!J136,'MDA3'!M136,'T1'!N136,'T2'!L136,T3_R1!M136,T3_R2!M136)","v":34902.686999999998},45001.686999999998,{"$f":"MAX('MDA2'!J136,T136)","v":0},{"$f":"MAX('MDA1'!K136,'MDA2'!K136,'MDA3'!I136,'MDA3'!L136,V136,AD136)","v":10099},{"$f":"MAX('MDA1'!L136,'MDA2'!L136,'MDA3'!J136,'MDA3'!M136,AF136)","v":34902.686999999998},45001.686999999998,85.045233420299965]
[{"$f":"IF(COUNTRY_INFO!A137=0,\" \",COUNTRY_INFO!A137)","v":"Tanzania"},{"$f":"IF(COUNTRY_INFO!B137=0,\" \",COUNTRY_INFO!B137)","v":"Pwani"},{"$f":"IF(COUNTRY_INFO!C137=0,\" \",COUNTRY_INFO!C137)","v":"Mkuranga District Council"},{"$f":"COUNTRY_INFO!L137","v":"Stopped"},null,null,{"$f":"MAX('MDA1'!M137,'MDA2'!M137)","v":0},{"$f":"IF(AND(COUNTRY_INFO!H137>0,COUNTRY_INFO!H137<4),IF(D137>MAX('MDA1'!M137,'MDA2'!M137),MAX('MDA1'!M137,'MDA2'!M137),D137),0)","v":0},{"$f":"IF(AND(COUNTRY_INFO!H137>0,COUNTRY_INFO!H137<4), IF(G137/D137*100<>0, IF(G137/D137*100>100,100,G137/D137*100), \"-\"),0)","v":0},{"$f":"COUNTRY_INFO!M137","v":0},null,null,{"$f":"MAX('MDA1'!M137,MAX('MDA3'!I137,'MDA3'!L137)+MAX('MDA3'!J137,'MDA3'!M137))","v":0},{"$f":"IF(AND(COUNTRY_INFO!I137>0,COUNTRY_INFO!I137<4),IF(J137>MAX('MDA1'!M137,MAX('MDA3'!I137,'MDA3'!L137)+MAX('MDA3'!J137,'MDA3'!M137)),MAX('MDA1'!M137,MAX('MDA3'!I137,'MDA3'!L137)+MAX('MDA3'!J137,'MDA3'!M137)),J137),0)","v":0},{"$f":"IF(AND(COUNTRY_INFO!I137>0,COUNTRY_INFO!I137<4), IF(M137/J137*100<>0, IF(M137/J137*100>100,100,M137/J137*100), \"-\"),0)","v":0},{"$f":"COUNTRY_INFO!N137","v":81256},null,null,{"$f":"SUM(MAX('MDA2'!J137, 'T1'!L137, MAX(T3_R1!K137, T3_R2!K137)), MAX('MDA1'!K137, 'MDA2'!K137, 'T1'!M137, MAX(T3_R1!L137, T3_R2!L137)), MAX('MDA1'!L137, 'MDA2'!L137, 'T1'!N137, MAX(T3_R1!M137, T3_R2!M137)))","v":64242},{"$f":"IF(AND(COUNTRY_INFO!J137>1,COUNTRY_INFO!J137<4),IF(COUNTRY_INFO!E137>MAX('MDA2'!J137,'T1'!L137,MAX(T3_R1!K137,T3_R2!K137)),MAX('MDA2'!J137,'T1'!L137,MAX(T3_R1!K137,T3_R2!K137)),COUNTRY_INFO!E137),0)","v":0},{"$f":"IF(AND(COUNTRY_INFO!J137>1,COUNTRY_INFO!J137<4), IF(T137/COUNTRY_INFO!E137*100<>0, IF(T137/COUNTRY_INFO!E137*100>100,100,T137/COUNTRY_INFO!E137*100), \"-\"),0)","v":"-"},{"$f":"IF(AND(COUNTRY_INFO!J137>1,COUNTRY_INFO!J137<4),IF(COUNTRY_INFO!F137>MAX('MDA1'!K137,'MDA2'!K137,'T1'!M137,MAX(T3_R1!L137,T3_R2!L137)),MAX('MDA1'!K137,'MDA2'!K137,'T1'!M137,MAX(T3_R1!L137,T3_R2!L137)),COUNTRY_INFO!F137),0)","v":64242},{"$f":"IF(AND(COUNTRY_INFO!J137>1,COUNTRY_INFO!J137<4), IF(V137/COUNTRY_INFO!F137*100<>0, IF(V137/COUNTRY_INFO!F137*100>100,100,V137/COUNTRY_INFO!F137*100), \"-\"),0)","v":86.382767013137197},64242,{"$f":"IF(AND(COUNTRY_INFO!J137>1,COUNTRY_INFO!J137<4), IF(S137/P137*100<>0, IF(X137/P137*100>100,100,X137/P137*100), \"-\"),0)","v":79.061238554691343},{"$f":"COUNTRY_INFO!O137","v":71735.899999999994},null,null,{"$f":"MAX('T1'!L137,'T2'!J137)+MAX('T1'!M137,'T2'!K137)+MAX('T1'!N137,'T2'!L137)","v":0},{"$f":"IF(COUNTRY_INFO!K137=1,IF(COUNTRY_INFO!F137*0.33>MAX('T1'!M137,'T2'!K137),MAX('T1'!M137,'T2'!K137),COUNTRY_INFO!F137*0.33),IF(COUNTRY_INFO!K137=2,IF(COUNTRY_INFO!F137*0.5>MAX('T1'!M137,'T2'!K137),MAX('T1'!M137,'T2'!K137),COUNTRY_INFO!F137*0.5),IF(COUNTRY_INFO!K137=3,IF(COUNTRY_INFO!F137>MAX('T1'!M137,'T2'!K137),MAX('T1'!M137,'T2'!K137),COUNTRY_INFO!F137),0)))","v":0},{"$f":"IF(AND(COUNTRY_INFO!K137>0,COUNTRY_INFO!K137<4),IF(Z137>0,IF(COUNTRY_INFO!K137=1, AD137/(COUNTRY_INFO!F137*0.33)*100, IF(COUNTRY_INFO!K137=2, AD137/(COUNTRY_INFO!F137*0.5)*100, IF(COUNTRY_INFO!K137=3, AD137/COUNTRY_INFO!F137*100))),\"-\"),0)","v":0},{"$f":"IF(COUNTRY_INFO!K137=2,IF(COUNTRY_INFO!G137*0.2>MAX('T1'!N137,'T2'!L137),MAX('T1'!N137,'T2'!L137),COUNTRY_INFO!G137*0.2),IF(COUNTRY_INFO!K137=3,IF(COUNTRY_INFO!G137>MAX('T1'!N137,'T2'!L137),MAX('T1'!N137,'T2'!L137),COUNTRY_INFO!G137),0))","v":0},{"$f":"IF(AND(COUNTRY_INFO!K137>0,COUNTRY_INFO!K137<4),IF(Z137>0,IF(COUNTRY_INFO!K137=1, 0, IF(COUNTRY_INFO!K137=2, AF137/(COUNTRY_INFO!G137*0.2)*100, IF(COUNTRY_INFO!K137=3, AF137/COUNTRY_INFO!G137*100))),\"-\"),0)","v":0},0,{"$f":"IF(AND(COUNTRY_INFO!K137>0,COUNTRY_INFO!K137<4), IF(AC137/Z137*100<>0, IF(AH137/Z137*100>100,100,AH137/Z137*100), \"-\"),0)","v":"-"},null,{"$f":"IF(AND(D137<>0, D137<>\"Unknown\",D137<>\"Stopped\",D137<>\"Not required\"),D137/COUNTRY_INFO!D137, 0)","v":0},{"$f":"IF(AND(J137<>0,J137<>\"Unknown\",J137<>\"Stopped\",J137<>\"Not required\"),J137/COUNTRY_INFO!D137, 0)","v":0},{"$f":"IF(AND(P137<>0,P137<>\"Unknown\",P137<>\"Not required\"),P137/(COUNTRY_INFO!E137+COUNTRY_INFO!F137), 0)","v":1},{"$f":"IF(AND(Z137<>0,Z137<>\"Unknown\",Z137<>\"Not required\"),IF(COUNTRY_INFO!K137=1,1,IF(COUNTRY_INFO!K137=2,0.5*COUNTRY_INFO!F137/(0.5*COUNTRY_INFO!F137+0.2*COUNTRY_INFO!G137),IF(COUNTRY_INFO!K137=3,COUNTRY_INFO!F137/(COUNTRY_INFO!F137+COUNTRY_INFO!G137)))),0)","v":0.51835273552015104},{"$f":"IF(AND(Z137<>0,Z137<>\"Unknown\",Z137<>\"Not required\"),IF(COUNTRY_INFO!K137=1,0,IF(COUNTRY_INFO!K137=2,0.2*COUNTRY_INFO!G137/(0.5*COUNTRY_INFO!F137+0.2*COUNTRY_INFO!G137),IF(COUNTRY_INFO!K137=3,COUNTRY_INFO!G137/(COUNTRY_INFO!F137+COUNTRY_INFO!G137)))),0)","v":0.48164726447984907},{"$f":"MAX(COUNTRY_INFO!D137*AK137*PROFILE!$G$7,COUNTRY_INFO!D137*AL137*PROFILE!$G$7)","v":0},{"$f":"MAX(COUNTRY_INFO!D137*AK137*PROFILE!$G$8,COUNTRY_INFO!D137*AL137*PROFILE!$G$8,COUNTRY_INFO!D137*AM137*PROFILE!$G$8)","v":28203.221308175216},{"$f":"MAX(COUNTRY_INFO!D137*AK137*PROFILE!$G$9,COUNTRY_INFO!D137*AL137*PROFILE!$G$9,COUNTRY_INFO!D137*AM137*PROFILE!$G$9,IF(AND(DISTRICT!Z137<>\"Unknown\",Z137<>\"Not required\"),COUNTRY_INFO!O137*DISTRICT!AN137,0))","v":55317.67891649696},{"$f":"MAX(COUNTRY_INFO!D137*AK137*PROFILE!$G$10,COUNTRY_INFO!D137*AL137*PROFILE!$G$10,IF(AND(DISTRICT!Z137<>\"Unknown\",Z137<>\"Not required\"),COUNTRY_INFO!O137*DISTRICT!AO137,0))","v":34551.4},118072.30022467219,{"$f":"IF(COUNTIFS(AK137:AN137,\">0\")=0,0, IF(COUNTIFS(AK137:AN137,\">0\")<=IF(AND(OR(D137>=0,D137=\"Not required\",D137=\"Unknown\",D137=\"Stopped\"),D137>0,H137>0),1,0)+IF(AND(OR(J137>=0,J137=\"Not required\",J137=\"Unknown\",J137=\"Stopped\"),J137>0,N137>0),1,0)+IF(AND(OR(P137>=0,P137=\"Not required\",P137=\"Unknown\"),P137>0,X137>0),1,0)+IF(AND(OR(Z137>=0,Z137=\"Not required\",Z137=\"Unknown\"),Z137>0,AH137>0),1,0),\"Y\",0))","v":0},{"$f":"MAX('MDA2'!J137,'T1'!L137,'T2'!J137,T3_R1!K137,T3_R2!K137)","v":0},{"$f":"MAX('MDA1'!K137,'MDA2'!K137,'MDA3'!I137,'MDA3'!L137,'T1'!M137,'T2'!K137,T3_R1!L137,T3_R2!L137)","v":64242},{"$f":"MAX('MDA1'!L137,'MDA2'!L137,'MDA3'!J137,'MDA3'!M137,'T1'!N137,'T2'!L137,T3_R1!M137,T3_R2!M137)","v":0},64242,{"$f":"MAX('MDA2'!J137,T137)","v":0},{"$f":"MAX('MDA1'!K137,'MDA2'!K137,'MDA3'!I137,'MDA3'!L137,V137,AD137)","v":64242},{"$f":"MAX('MDA1'!L137,'MDA2'!L137,'MDA3'!J137,'MDA3'!M137,AF137)","v":0},{"$f":"IF(AT137<SUM(AZ137:BB137), AT137,SUM(AZ137:BB137))","v":64242},{"$f":"IF(AT137<>0,BC137/AT137*100,0)","v":54.40903571604688}]
[{"$f":"IF(COUNTRY_INFO!A138=0,\" \",COUNTRY_INFO!A138)","v":"Tanzania"},{"$f":"IF(COUNTRY_INFO!B138=0,\" \",COUNTRY_INFO!B138)","v":"Pwani"},{"$f":"IF(COUNTRY_INFO!C138=0,\" \",COUNTRY_INFO!C138)","v":"Rufiji District Council"},{"$f":"COUNTRY_INFO!L138","v":"Stopped"},null,null,{"$f":"MAX('MDA1'!M138,'MDA2'!M138)","v":0},{"$f":"IF(AND(COUNTRY_INFO!H138>0,COUNTRY_INFO!H138<4),IF(D138>MAX('MDA1'!M138,'MDA2'!M138),MAX('MDA1'!M138,'MDA2'!M138),D138),0)","v":0},{"$f":"IF(AND(COUNTRY_INFO!H138>0,COUNTRY_INFO!H138<4), IF(G138/D138*100<>0, IF(G138/D138*100>100,100,G138/D138*100), \"-\"),0)","v":0},{"$f":"COUNTRY_INFO!M138","v":0},null,null,{"$f":"MAX('MDA1'!M138,MAX('MDA3'!I138,'MDA3'!L138)+MAX('MDA3'!J138,'MDA3'!M138))","v":0},{"$f":"IF(AND(COUNTRY_INFO!I138>0,COUNTRY_INFO!I138<4),IF(J138>MAX('MDA1'!M138,MAX('MDA3'!I138,'MDA3'!L138)+MAX('MDA3'!J138,'MDA3'!M138)),MAX('MDA1'!M138,MAX('MDA3'!I138,'MDA3'!L138)+MAX('MDA3'!J138,'MDA3'!M138)),J138),0)","v":0},{"$f":"IF(AND(COUNTRY_INFO!I138>0,COUNTRY_INFO!I138<4), IF(M138/J138*100<>0, IF(M138/J138*100>100,100,M138/J138*100), \"-\"),0)","v":0},{"$f":"COUNTRY_INFO!N138","v":42917},null,null,{"$f":"SUM(MAX('MDA2'!J138, 'T1'!L138, MAX(T3_R1!K138, T3_R2!K138)), MAX('MDA1'!K138, 'MDA2'!K138, 'T1'!M138, MAX(T3_R1!L138, T3_R2!L138)), MAX('MDA1'!L138, 'MDA2'!L138, 'T1'!N138, MAX(T3_R1!M138, T3_R2!M138)))","v":24755},{"$f":"IF(AND(COUNTRY_INFO!J138>1,COUNTRY_INFO!J138<4),IF(COUNTRY_INFO!E138>MAX('MDA2'!J138,'T1'!L138,MAX(T3_R1!K138,T3_R2!K138)),MAX('MDA2'!J138,'T1'!L138,MAX(T3_R1!K138,T3_R2!K138)),COUNTRY_INFO!E138),0)","v":0},{"$f":"IF(AND(COUNTRY_INFO!J138>1,COUNTRY_INFO!J138<4), IF(T138/COUNTRY_INFO!E138*100<>0, IF(T138/COUNTRY_INFO!E138*100>100,100,T138/COUNTRY_INFO!E138*100), \"-\"),0)","v":"-"},{"$f":"IF(AND(COUNTRY_INFO!J138>1,COUNTRY_INFO!J138<4),IF(COUNTRY_INFO!F138>MAX('MDA1'!K138,'MDA2'!K138,'T1'!M138,MAX(T3_R1!L138,T3_R2!L138)),MAX('MDA1'!K138,'MDA2'!K138,'T1'!M138,MAX(T3_R1!L138,T3_R2!L138)),COUNTRY_INFO!F138),0)","v":24755},{"$f":"IF(AND(COUNTRY_INFO!J138>1,COUNTRY_INFO!J138<4), IF(V138/COUNTRY_INFO!F138*100<>0, IF(V138/COUNTRY_INFO!F138*100>100,100,V138/COUNTRY_INFO!F138*100), \"-\"),0)","v":94.283211456429001},{"$f":"SUM(T138,V138)","v":24755},{"$f":"IF(AND(COUNTRY_INFO!J138>1,COUNTRY_INFO!J138<4), IF(S138/P138*100<>0, IF(X138/P138*100>100,100,X138/P138*100), \"-\"),0)","v":57.681105389472698},{"$f":"COUNTRY_INFO!O138","v":30375.4},null,null,{"$f":"MAX('T1'!L138,'T2'!J138)+MAX('T1'!M138,'T2'!K138)+MAX('T1'!N138,'T2'!L138)","v":0},{"$f":"IF(COUNTRY_INFO!K138=1,IF(COUNTRY_INFO!F138*0.33>MAX('T1'!M138,'T2'!K138),MAX('T1'!M138,'T2'!K138),COUNTRY_INFO!F138*0.33),IF(COUNTRY_INFO!K138=2,IF(COUNTRY_INFO!F138*0.5>MAX('T1'!M138,'T2'!K138),MAX('T1'!M138,'T2'!K138),COUNTRY_INFO!F138*0.5),IF(COUNTRY_INFO!K138=3,IF(COUNTRY_INFO!F138>MAX('T1'!M138,'T2'!K138),MAX('T1'!M138,'T2'!K138),COUNTRY_INFO!F138),0)))","v":0},{"$f":"IF(AND(COUNTRY_INFO!K138>0,COUNTRY_INFO!K138<4),IF(Z138>0,IF(COUNTRY_INFO!K138=1, AD138/(COUNTRY_INFO!F138*0.33)*100, IF(COUNTRY_INFO!K138=2, AD138/(COUNTRY_INFO!F138*0.5)*100, IF(COUNTRY_INFO!K138=3, AD138/COUNTRY_INFO!F138*100))),\"-\"),0)","v":0},{"$f":"IF(COUNTRY_INFO!K138=2,IF(COUNTRY_INFO!G138*0.2>MAX('T1'!N138,'T2'!L138),MAX('T1'!N138,'T2'!L138),COUNTRY_INFO!G138*0.2),IF(COUNTRY_INFO!K138=3,IF(COUNTRY_INFO!G138>MAX('T1'!N138,'T2'!L138),MAX('T1'!N138,'T2'!L138),COUNTRY_INFO!G138),0))","v":0},{"$f":"IF(AND(COUNTRY_INFO!K138>0,COUNTRY_INFO!K138<4),IF(Z138>0,IF(COUNTRY_INFO!K138=1, 0, IF(COUNTRY_INFO!K138=2, AF138/(COUNTRY_INFO!G138*0.2)*100, IF(COUNTRY_INFO!K138=3, AF138/COUNTRY_INFO!G138*100))),\"-\"),0)","v":0},{"$f":"SUM(AD138,AF138)","v":0},{"$f":"IF(AND(COUNTRY_INFO!K138>0,COUNTRY_INFO!K138<4), IF(AC138/Z138*100<>0, IF(AH138/Z138*100>100,100,AH138/Z138*100), \"-\"),0)","v":"-"},null,{"$f":"IF(AND(D138<>0, D138<>\"Unknown\",D138<>\"Stopped\",D138<>\"Not required\"),D138/COUNTRY_INFO!D138, 0)","v":0},{"$f":"IF(AND(J138<>0,J138<>\"Unknown\",J138<>\"Stopped\",J138<>\"Not required\"),J138/COUNTRY_INFO!D138, 0)","v":0},{"$f":"IF(AND(P138<>0,P138<>\"Unknown\",P138<>\"Not required\"),P138/(COUNTRY_INFO!E138+COUNTRY_INFO!F138), 0)","v":1},{"$f":"IF(AND(Z138<>0,Z138<>\"Unknown\",Z138<>\"Not required\"),IF(COUNTRY_INFO!K138=1,1,IF(COUNTRY_INFO!K138=2,0.5*COUNTRY_INFO!F138/(0.5*COUNTRY_INFO!F138+0.2*COUNTRY_INFO!G138),IF(COUNTRY_INFO!K138=3,COUNTRY_INFO!F138/(COUNTRY_INFO!F138+COUNTRY_INFO!G138)))),0)","v":0.43219183944902784},{"$f":"IF(AND(Z138<>0,Z138<>\"Unknown\",Z138<>\"Not required\"),IF(COUNTRY_INFO!K138=1,0,IF(COUNTRY_INFO!K138=2,0.2*COUNTRY_INFO!G138/(0.5*COUNTRY_INFO!F138+0.2*COUNTRY_INFO!G138),IF(COUNTRY_INFO!K138=3,COUNTRY_INFO!G138/(COUNTRY_INFO!F138+COUNTRY_INFO!G138)))),0)","v":0.56780816055097216},{"$f":"MAX(COUNTRY_INFO!D138*AK138*PROFILE!$G$7,COUNTRY_INFO!D138*AL138*PROFILE!$G$7)","v":0},{"$f":"MAX(COUNTRY_INFO!D138*AK138*PROFILE!$G$8,COUNTRY_INFO!D138*AL138*PROFILE!$G$8,COUNTRY_INFO!D138*AM138*PROFILE!$G$8)","v":14340.048914173927},{"$f":"MAX(COUNTRY_INFO!D138*AK138*PROFILE!$G$9,COUNTRY_INFO!D138*AL138*PROFILE!$G$9,COUNTRY_INFO!D138*AM138*PROFILE!$G$9,IF(AND(DISTRICT!Z138<>\"Unknown\",Z138<>\"Not required\"),COUNTRY_INFO!O138*DISTRICT!AN138,0))","v":28126.511252499866},{"$f":"MAX(COUNTRY_INFO!D138*AK138*PROFILE!$G$10,COUNTRY_INFO!D138*AL138*PROFILE!$G$10,IF(AND(DISTRICT!Z138<>\"Unknown\",Z138<>\"Not required\"),COUNTRY_INFO!O138*DISTRICT!AO138,0))","v":17247.400000000001},{"$f":"SUM(AP138:AS138)","v":59713.960166673794},0,{"$f":"MAX('MDA2'!J138,'T1'!L138,'T2'!J138,T3_R1!K138,T3_R2!K138)","v":0},{"$f":"MAX('MDA1'!K138,'MDA2'!K138,'MDA3'!I138,'MDA3'!L138,'T1'!M138,'T2'!K138,T3_R1!L138,T3_R2!L138)","v":24755},{"$f":"MAX('MDA1'!L138,'MDA2'!L138,'MDA3'!J138,'MDA3'!M138,'T1'!N138,'T2'!L138,T3_R1!M138,T3_R2!M138)","v":0},{"$f":"SUM(AV138:AX138)","v":24755},{"$f":"MAX('MDA2'!J138,T138)","v":0},{"$f":"MAX('MDA1'!K138,'MDA2'!K138,'MDA3'!I138,'MDA3'!L138,V138,AD138)","v":24755},{"$f":"MAX('MDA1'!L138,'MDA2'!L138,'MDA3'!J138,'MDA3'!M138,AF138)","v":0},24755,41.455967634542681]
[{"$f":"IF(COUNTRY_INFO!A139=0,\" \",COUNTRY_INFO!A139)","v":"Tanzania"},{"$f":"IF(COUNTRY_INFO!B139=0,\" \",COUNTRY_INFO!B139)","v":"Rukwa"},{"$f":"IF(COUNTRY_INFO!C139=0,\" \",COUNTRY_INFO!C139)","v":"Kalambo District Council"},{"$f":"COUNTRY_INFO!L139","v":"Stopped"},null,null,{"$f":"MAX('MDA1'!M139,'MDA2'!M139)","v":0},{"$f":"IF(AND(COUNTRY_INFO!H139>0,COUNTRY_INFO!H139<4),IF(D139>MAX('MDA1'!M139,'MDA2'!M139),MAX('MDA1'!M139,'MDA2'!M139),D139),0)","v":0},{"$f":"IF(AND(COUNTRY_INFO!H139>0,COUNTRY_INFO!H139<4), IF(G139/D139*100<>0, IF(G139/D139*100>100,100,G139/D139*100), \"-\"),0)","v":0},{"$f":"COUNTRY_INFO!M139","v":0},null,null,{"$f":"MAX('MDA1'!M139,MAX('MDA3'!I139,'MDA3'!L139)+MAX('MDA3'!J139,'MDA3'!M139))","v":0},{"$f":"IF(AND(COUNTRY_INFO!I139>0,COUNTRY_INFO!I139<4),IF(J139>MAX('MDA1'!M139,MAX('MDA3'!I139,'MDA3'!L139)+MAX('MDA3'!J139,'MDA3'!M139)),MAX('MDA1'!M139,MAX('MDA3'!I139,'MDA3'!L139)+MAX('MDA3'!J139,'MDA3'!M139)),J139),0)","v":0},{"$f":"IF(AND(COUNTRY_INFO!I139>0,COUNTRY_INFO!I139<4), IF(M139/J139*100<>0, IF(M139/J139*100>100,100,M139/J139*100), \"-\"),0)","v":0},{"$f":"COUNTRY_INFO!N139","v":85767},null,null,{"$f":"SUM(MAX('MDA2'!J139, 'T1'!L139, MAX(T3_R1!K139, T3_R2!K139)), MAX('MDA1'!K139, 'MDA2'!K139, 'T1'!M139, MAX(T3_R1!L139, T3_R2!L139)), MAX('MDA1'!L139, 'MDA2'!L139, 'T1'!N139, MAX(T3_R1!M139, T3_R2!M139)))","v":49366},{"$f":"IF(AND(COUNTRY_INFO!J139>1,COUNTRY_INFO!J139<4),IF(COUNTRY_INFO!E139>MAX('MDA2'!J139,'T1'!L139,MAX(T3_R1!K139,T3_R2!K139)),MAX('MDA2'!J139,'T1'!L139,MAX(T3_R1!K139,T3_R2!K139)),COUNTRY_INFO!E139),0)","v":0},{"$f":"IF(AND(COUNTRY_INFO!J139>1,COUNTRY_INFO!J139<4), IF(T139/COUNTRY_INFO!E139*100<>0, IF(T139/COUNTRY_INFO!E139*100>100,100,T139/COUNTRY_INFO!E139*100), \"-\"),0)","v":"-"},{"$f":"IF(AND(COUNTRY_INFO!J139>1,COUNTRY_INFO!J139<4),IF(COUNTRY_INFO!F139>MAX('MDA1'!K139,'MDA2'!K139,'T1'!M139,MAX(T3_R1!L139,T3_R2!L139)),MAX('MDA1'!K139,'MDA2'!K139,'T1'!M139,MAX(T3_R1!L139,T3_R2!L139)),COUNTRY_INFO!F139),0)","v":49366},{"$f":"IF(AND(COUNTRY_INFO!J139>1,COUNTRY_INFO!J139<4), IF(V139/COUNTRY_INFO!F139*100<>0, IF(V139/COUNTRY_INFO!F139*100>100,100,V139/COUNTRY_INFO!F139*100), \"-\"),0)","v":92.445692883895134},49366,{"$f":"IF(AND(COUNTRY_INFO!J139>1,COUNTRY_INFO!J139<4), IF(S139/P139*100<>0, IF(X139/P139*100>100,100,X139/P139*100), \"-\"),0)","v":57.558268331642701},{"$f":"COUNTRY_INFO!O139","v":59728.200000000004},null,null,{"$f":"MAX('T1'!L139,'T2'!J139)+MAX('T1'!M139,'T2'!K139)+MAX('T1'!N139,'T2'!L139)","v":0},{"$f":"IF(COUNTRY_INFO!K139=1,IF(COUNTRY_INFO!F139*0.33>MAX('T1'!M139,'T2'!K139),MAX('T1'!M139,'T2'!K139),COUNTRY_INFO!F139*0.33),IF(COUNTRY_INFO!K139=2,IF(COUNTRY_INFO!F139*0.5>MAX('T1'!M139,'T2'!K139),MAX('T1'!M139,'T2'!K139),COUNTRY_INFO!F139*0.5),IF(COUNTRY_INFO!K139=3,IF(COUNTRY_INFO!F139>MAX('T1'!M139,'T2'!K139),MAX('T1'!M139,'T2'!K139),COUNTRY_INFO!F139),0)))","v":0},{"$f":"IF(AND(COUNTRY_INFO!K139>0,COUNTRY_INFO!K139<4),IF(Z139>0,IF(COUNTRY_INFO!K139=1, AD139/(COUNTRY_INFO!F139*0.33)*100, IF(COUNTRY_INFO!K139=2, AD139/(COUNTRY_INFO!F139*0.5)*100, IF(COUNTRY_INFO!K139=3, AD139/COUNTRY_INFO!F139*100))),\"-\"),0)","v":0},{"$f":"IF(COUNTRY_INFO!K139=2,IF(COUNTRY_INFO!G139*0.2>MAX('T1'!N139,'T2'!L139),MAX('T1'!N139,'T2'!L139),COUNTRY_INFO!G139*0.2),IF(COUNTRY_INFO!K139=3,IF(COUNTRY_INFO!G139>MAX('T1'!N139,'T2'!L139),MAX('T1'!N139,'T2'!L139),COUNTRY_INFO!G139),0))","v":0},{"$f":"IF(AND(COUNTRY_INFO!K139>0,COUNTRY_INFO!K139<4),IF(Z139>0,IF(COUNTRY_INFO!K139=1, 0, IF(COUNTRY_INFO!K139=2, AF139/(COUNTRY_INFO!G139*0.2)*100, IF(COUNTRY_INFO!K139=3, AF139/COUNTRY_INFO!G139*100))),\"-\"),0)","v":0},0,{"$f":"IF(AND(COUNTRY_INFO!K139>0,COUNTRY_INFO!K139<4), IF(AC139/Z139*100<>0, IF(AH139/Z139*100>100,100,AH139/Z139*100), \"-\"),0)","v":"-"},null,{"$f":"IF(AND(D139<>0, D139<>\"Unknown\",D139<>\"Stopped\",D139<>\"Not required\"),D139/COUNTRY_INFO!D139, 0)","v":0},{"$f":"IF(AND(J139<>0,J139<>\"Unknown\",J139<>\"Stopped\",J139<>\"Not required\"),J139/COUNTRY_INFO!D139, 0)","v":0},{"$f":"IF(AND(P139<>0,P139<>\"Unknown\",P139<>\"Not required\"),P139/(COUNTRY_INFO!E139+COUNTRY_INFO!F139), 0)","v":1},{"$f":"IF(AND(Z139<>0,Z139<>\"Unknown\",Z139<>\"Not required\"),IF(COUNTRY_INFO!K139=1,1,IF(COUNTRY_INFO!K139=2,0.5*COUNTRY_INFO!F139/(0.5*COUNTRY_INFO!F139+0.2*COUNTRY_INFO!G139),IF(COUNTRY_INFO!K139=3,COUNTRY_INFO!F139/(COUNTRY_INFO!F139+COUNTRY_INFO!G139)))),0)","v":0.44702502335580174},{"$f":"IF(AND(Z139<>0,Z139<>\"Unknown\",Z139<>\"Not required\"),IF(COUNTRY_INFO!K139=1,0,IF(COUNTRY_INFO!K139=2,0.2*COUNTRY_INFO!G139/(0.5*COUNTRY_INFO!F139+0.2*COUNTRY_INFO!G139),IF(COUNTRY_INFO!K139=3,COUNTRY_INFO!G139/(COUNTRY_INFO!F139+COUNTRY_INFO!G139)))),0)","v":0.55297497664419826},{"$f":"MAX(COUNTRY_INFO!D139*AK139*PROFILE!$G$7,COUNTRY_INFO!D139*AL139*PROFILE!$G$7)","v":0},{"$f":"MAX(COUNTRY_INFO!D139*AK139*PROFILE!$G$8,COUNTRY_INFO!D139*AL139*PROFILE!$G$8,COUNTRY_INFO!D139*AM139*PROFILE!$G$8)","v":27858.471227817583},{"$f":"MAX(COUNTRY_INFO!D139*AK139*PROFILE!$G$9,COUNTRY_INFO!D139*AL139*PROFILE!$G$9,COUNTRY_INFO!D139*AM139*PROFILE!$G$9,IF(AND(DISTRICT!Z139<>\"Unknown\",Z139<>\"Not required\"),COUNTRY_INFO!O139*DISTRICT!AN139,0))","v":54641.487567882039},{"$f":"MAX(COUNTRY_INFO!D139*AK139*PROFILE!$G$10,COUNTRY_INFO!D139*AL139*PROFILE!$G$10,IF(AND(DISTRICT!Z139<>\"Unknown\",Z139<>\"Not required\"),COUNTRY_INFO!O139*DISTRICT!AO139,0))","v":33028.200000000004},115528.15879569962,0,{"$f":"MAX('MDA2'!J139,'T1'!L139,'T2'!J139,T3_R1!K139,T3_R2!K139)","v":0},{"$f":"MAX('MDA1'!K139,'MDA2'!K139,'MDA3'!I139,'MDA3'!L139,'T1'!M139,'T2'!K139,T3_R1!L139,T3_R2!L139)","v":49366},{"$f":"MAX('MDA1'!L139,'MDA2'!L139,'MDA3'!J139,'MDA3'!M139,'T1'!N139,'T2'!L139,T3_R1!M139,T3_R2!M139)","v":0},49366,{"$f":"MAX('MDA2'!J139,T139)","v":0},{"$f":"MAX('MDA1'!K139,'MDA2'!K139,'MDA3'!I139,'MDA3'!L139,V139,AD139)","v":49366},{"$f":"MAX('MDA1'!L139,'MDA2'!L139,'MDA3'!J139,'MDA3'!M139,AF139)","v":0},49366,42.730707833143086]
[{"$f":"IF(COUNTRY_INFO!A140=0,\" \",COUNTRY_INFO!A140)","v":"Tanzania"},{"$f":"IF(COUNTRY_INFO!B140=0,\" \",COUNTRY_INFO!B140)","v":"Rukwa"},{"$f":"IF(COUNTRY_INFO!C140=0,\" \",COUNTRY_INFO!C140)","v":"Nkasi District Council"},{"$f":"COUNTRY_INFO!L140","v":"Stopped"},null,null,{"$f":"MAX('MDA1'!M140,'MDA2'!M140)","v":0},{"$f":"IF(AND(COUNTRY_INFO!H140>0,COUNTRY_INFO!H140<4),IF(D140>MAX('MDA1'!M140,'MDA2'!M140),MAX('MDA1'!M140,'MDA2'!M140),D140),0)","v":0},{"$f":"IF(AND(COUNTRY_INFO!H140>0,COUNTRY_INFO!H140<4), IF(G140/D140*100<>0, IF(G140/D140*100>100,100,G140/D140*100), \"-\"),0)","v":0},{"$f":"COUNTRY_INFO!M140","v":0},null,null,{"$f":"MAX('MDA1'!M140,MAX('MDA3'!I140,'MDA3'!L140)+MAX('MDA3'!J140,'MDA3'!M140))","v":0},{"$f":"IF(AND(COUNTRY_INFO!I140>0,COUNTRY_INFO!I140<4),IF(J140>MAX('MDA1'!M140,MAX('MDA3'!I140,'MDA3'!L140)+MAX('MDA3'!J140,'MDA3'!M140)),MAX('MDA1'!M140,MAX('MDA3'!I140,'MDA3'!L140)+MAX('MDA3'!J140,'MDA3'!M140)),J140),0)","v":0},{"$f":"IF(AND(COUNTRY_INFO!I140>0,COUNTRY_INFO!I140<4), IF(M140/J140*100<>0, IF(M140/J140*100>100,100,M140/J140*100), \"-\"),0)","v":0},{"$f":"COUNTRY_INFO!N140","v":114973},null,null,{"$f":"SUM(MAX('MDA2'!J140, 'T1'!L140, MAX(T3_R1!K140, T3_R2!K140)), MAX('MDA1'!K140, 'MDA2'!K140, 'T1'!M140, MAX(T3_R1!L140, T3_R2!L140)), MAX('MDA1'!L140, 'MDA2'!L140, 'T1'!N140, MAX(T3_R1!M140, T3_R2!M140)))","v":83198},{"$f":"IF(AND(COUNTRY_INFO!J140>1,COUNTRY_INFO!J140<4),IF(COUNTRY_INFO!E140>MAX('MDA2'!J140,'T1'!L140,MAX(T3_R1!K140,T3_R2!K140)),MAX('MDA2'!J140,'T1'!L140,MAX(T3_R1!K140,T3_R2!K140)),COUNTRY_INFO!E140),0)","v":0},{"$f":"IF(AND(COUNTRY_INFO!J140>1,COUNTRY_INFO!J140<4), IF(T140/COUNTRY_INFO!E140*100<>0, IF(T140/COUNTRY_INFO!E140*100>100,100,T140/COUNTRY_INFO!E140*100), \"-\"),0)","v":"-"},{"$f":"IF(AND(COUNTRY_INFO!J140>1,COUNTRY_INFO!J140<4),IF(COUNTRY_INFO!F140>MAX('MDA1'!K140,'MDA2'!K140,'T1'!M140,MAX(T3_R1!L140,T3_R2!L140)),MAX('MDA1'!K140,'MDA2'!K140,'T1'!M140,MAX(T3_R1!L140,T3_R2!L140)),COUNTRY_INFO!F140),0)","v":83198},{"$f":"IF(AND(COUNTRY_INFO!J140>1,COUNTRY_INFO!J140<4), IF(V140/COUNTRY_INFO!F140*100<>0, IF(V140/COUNTRY_INFO!F140*100>100,100,V140/COUNTRY_INFO!F140*100), \"-\"),0)","v":95.999538452662549},83198,{"$f":"IF(AND(COUNTRY_INFO!J140>1,COUNTRY_INFO!J140<4), IF(S140/P140*100<>0, IF(X140/P140*100>100,100,X140/P140*100), \"-\"),0)","v":72.363076548407008},{"$f":"COUNTRY_INFO!O140","v":88277.5},null,null,{"$f":"MAX('T1'!L140,'T2'!J140)+MAX('T1'!M140,'T2'!K140)+MAX('T1'!N140,'T2'!L140)","v":0},{"$f":"IF(COUNTRY_INFO!K140=1,IF(COUNTRY_INFO!F140*0.33>MAX('T1'!M140,'T2'!K140),MAX('T1'!M140,'T2'!K140),COUNTRY_INFO!F140*0.33),IF(COUNTRY_INFO!K140=2,IF(COUNTRY_INFO!F140*0.5>MAX('T1'!M140,'T2'!K140),MAX('T1'!M140,'T2'!K140),COUNTRY_INFO!F140*0.5),IF(COUNTRY_INFO!K140=3,IF(COUNTRY_INFO!F140>MAX('T1'!M140,'T2'!K140),MAX('T1'!M140,'T2'!K140),COUNTRY_INFO!F140),0)))","v":0},{"$f":"IF(AND(COUNTRY_INFO!K140>0,COUNTRY_INFO!K140<4),IF(Z140>0,IF(COUNTRY_INFO!K140=1, AD140/(COUNTRY_INFO!F140*0.33)*100, IF(COUNTRY_INFO!K140=2, AD140/(COUNTRY_INFO!F140*0.5)*100, IF(COUNTRY_INFO!K140=3, AD140/COUNTRY_INFO!F140*100))),\"-\"),0)","v":0},{"$f":"IF(COUNTRY_INFO!K140=2,IF(COUNTRY_INFO!G140*0.2>MAX('T1'!N140,'T2'!L140),MAX('T1'!N140,'T2'!L140),COUNTRY_INFO!G140*0.2),IF(COUNTRY_INFO!K140=3,IF(COUNTRY_INFO!G140>MAX('T1'!N140,'T2'!L140),MAX('T1'!N140,'T2'!L140),COUNTRY_INFO!G140),0))","v":0},{"$f":"IF(AND(COUNTRY_INFO!K140>0,COUNTRY_INFO!K140<4),IF(Z140>0,IF(COUNTRY_INFO!K140=1, 0, IF(COUNTRY_INFO!K140=2, AF140/(COUNTRY_INFO!G140*0.2)*100, IF(COUNTRY_INFO!K140=3, AF140/COUNTRY_INFO!G140*100))),\"-\"),0)","v":0},0,{"$f":"IF(AND(COUNTRY_INFO!K140>0,COUNTRY_INFO!K140<4), IF(AC140/Z140*100<>0, IF(AH140/Z140*100>100,100,AH140/Z140*100), \"-\"),0)","v":"-"},null,{"$f":"IF(AND(D140<>0, D140<>\"Unknown\",D140<>\"Stopped\",D140<>\"Not required\"),D140/COUNTRY_INFO!D140, 0)","v":0},{"$f":"IF(AND(J140<>0,J140<>\"Unknown\",J140<>\"Stopped\",J140<>\"Not required\"),J140/COUNTRY_INFO!D140, 0)","v":0},{"$f":"IF(AND(P140<>0,P140<>\"Unknown\",P140<>\"Not required\"),P140/(COUNTRY_INFO!E140+COUNTRY_INFO!F140), 0)","v":1},{"$f":"IF(AND(Z140<>0,Z140<>\"Unknown\",Z140<>\"Not required\"),IF(COUNTRY_INFO!K140=1,1,IF(COUNTRY_INFO!K140=2,0.5*COUNTRY_INFO!F140/(0.5*COUNTRY_INFO!F140+0.2*COUNTRY_INFO!G140),IF(COUNTRY_INFO!K140=3,COUNTRY_INFO!F140/(COUNTRY_INFO!F140+COUNTRY_INFO!G140)))),0)","v":0.49086686868114754},{"$f":"IF(AND(Z140<>0,Z140<>\"Unknown\",Z140<>\"Not required\"),IF(COUNTRY_INFO!K140=1,0,IF(COUNTRY_INFO!K140=2,0.2*COUNTRY_INFO!G140/(0.5*COUNTRY_INFO!F140+0.2*COUNTRY_INFO!G140),IF(COUNTRY_INFO!K140=3,COUNTRY_INFO!G140/(COUNTRY_INFO!F140+COUNTRY_INFO!G140)))),0)","v":0.50913313131885252},{"$f":"MAX(COUNTRY_INFO!D140*AK140*PROFILE!$G$7,COUNTRY_INFO!D140*AL140*PROFILE!$G$7)","v":0},{"$f":"MAX(COUNTRY_INFO!D140*AK140*PROFILE!$G$8,COUNTRY_INFO!D140*AL140*PROFILE!$G$8,COUNTRY_INFO!D140*AM140*PROFILE!$G$8)","v":37716.880127963945},{"$f":"MAX(COUNTRY_INFO!D140*AK140*PROFILE!$G$9,COUNTRY_INFO!D140*AL140*PROFILE!$G$9,COUNTRY_INFO!D140*AM140*PROFILE!$G$9,IF(AND(DISTRICT!Z140<>\"Unknown\",Z140<>\"Not required\"),COUNTRY_INFO!O140*DISTRICT!AN140,0))","v":73977.729063379375},{"$f":"MAX(COUNTRY_INFO!D140*AK140*PROFILE!$G$10,COUNTRY_INFO!D140*AL140*PROFILE!$G$10,IF(AND(DISTRICT!Z140<>\"Unknown\",Z140<>\"Not required\"),COUNTRY_INFO!O140*DISTRICT!AO140,0))","v":44945},156639.6091913433,0,{"$f":"MAX('MDA2'!J140,'T1'!L140,'T2'!J140,T3_R1!K140,T3_R2!K140)","v":0},{"$f":"MAX('MDA1'!K140,'MDA2'!K140,'MDA3'!I140,'MDA3'!L140,'T1'!M140,'T2'!K140,T3_R1!L140,T3_R2!L140)","v":83198},{"$f":"MAX('MDA1'!L140,'MDA2'!L140,'MDA3'!J140,'MDA3'!M140,'T1'!N140,'T2'!L140,T3_R1!M140,T3_R2!M140)","v":0},83198,{"$f":"MAX('MDA2'!J140,T140)","v":0},{"$f":"MAX('MDA1'!K140,'MDA2'!K140,'MDA3'!I140,'MDA3'!L140,V140,AD140)","v":83198},{"$f":"MAX('MDA1'!L140,'MDA2'!L140,'MDA3'!J140,'MDA3'!M140,AF140)","v":0},83198,53.114279606232543]
[{"$f":"IF(COUNTRY_INFO!A141=0,\" \",COUNTRY_INFO!A141)","v":"Tanzania"},{"$f":"IF(COUNTRY_INFO!B141=0,\" \",COUNTRY_INFO!B141)","v":"Rukwa"},{"$f":"IF(COUNTRY_INFO!C141=0,\" \",COUNTRY_INFO!C141)","v":"Sumbawanga District Council"},{"$f":"COUNTRY_INFO!L141","v":"Stopped"},null,null,{"$f":"MAX('MDA1'!M141,'MDA2'!M141)","v":0},{"$f":"IF(AND(COUNTRY_INFO!H141>0,COUNTRY_INFO!H141<4),IF(D141>MAX('MDA1'!M141,'MDA2'!M141),MAX('MDA1'!M141,'MDA2'!M141),D141),0)","v":0},{"$f":"IF(AND(COUNTRY_INFO!H141>0,COUNTRY_INFO!H141<4), IF(G141/D141*100<>0, IF(G141/D141*100>100,100,G141/D141*100), \"-\"),0)","v":0},{"$f":"COUNTRY_INFO!M141","v":0},null,null,{"$f":"MAX('MDA1'!M141,MAX('MDA3'!I141,'MDA3'!L141)+MAX('MDA3'!J141,'MDA3'!M141))","v":0},{"$f":"IF(AND(COUNTRY_INFO!I141>0,COUNTRY_INFO!I141<4),IF(J141>MAX('MDA1'!M141,MAX('MDA3'!I141,'MDA3'!L141)+MAX('MDA3'!J141,'MDA3'!M141)),MAX('MDA1'!M141,MAX('MDA3'!I141,'MDA3'!L141)+MAX('MDA3'!J141,'MDA3'!M141)),J141),0)","v":0},{"$f":"IF(AND(COUNTRY_INFO!I141>0,COUNTRY_INFO!I141<4), IF(M141/J141*100<>0, IF(M141/J141*100>100,100,M141/J141*100), \"-\"),0)","v":0},{"$f":"COUNTRY_INFO!N141","v":125322},null,null,{"$f":"SUM(MAX('MDA2'!J141, 'T1'!L141, MAX(T3_R1!K141, T3_R2!K141)), MAX('MDA1'!K141, 'MDA2'!K141, 'T1'!M141, MAX(T3_R1!L141, T3_R2!L141)), MAX('MDA1'!L141, 'MDA2'!L141, 'T1'!N141, MAX(T3_R1!M141, T3_R2!M141)))","v":74914},{"$f":"IF(AND(COUNTRY_INFO!J141>1,COUNTRY_INFO!J141<4),IF(COUNTRY_INFO!E141>MAX('MDA2'!J141,'T1'!L141,MAX(T3_R1!K141,T3_R2!K141)),MAX('MDA2'!J141,'T1'!L141,MAX(T3_R1!K141,T3_R2!K141)),COUNTRY_INFO!E141),0)","v":0},{"$f":"IF(AND(COUNTRY_INFO!J141>1,COUNTRY_INFO!J141<4), IF(T141/COUNTRY_INFO!E141*100<>0, IF(T141/COUNTRY_INFO!E141*100>100,100,T141/COUNTRY_INFO!E141*100), \"-\"),0)","v":"-"},{"$f":"IF(AND(COUNTRY_INFO!J141>1,COUNTRY_INFO!J141<4),IF(COUNTRY_INFO!F141>MAX('MDA1'!K141,'MDA2'!K141,'T1'!M141,MAX(T3_R1!L141,T3_R2!L141)),MAX('MDA1'!K141,'MDA2'!K141,'T1'!M141,MAX(T3_R1!L141,T3_R2!L141)),COUNTRY_INFO!F141),0)","v":74914},{"$f":"IF(AND(COUNTRY_INFO!J141>1,COUNTRY_INFO!J141<4), IF(V141/COUNTRY_INFO!F141*100<>0, IF(V141/COUNTRY_INFO!F141*100>100,100,V141/COUNTRY_INFO!F141*100), \"-\"),0)","v":96.46531631877825},74914,{"$f":"IF(AND(COUNTRY_INFO!J141>1,COUNTRY_INFO!J141<4), IF(S141/P141*100<>0, IF(X141/P141*100>100,100,X141/P141*100), \"-\"),0)","v":59.777213897001324},{"$f":"COUNTRY_INFO!O141","v":87659.5},null,null,{"$f":"MAX('T1'!L141,'T2'!J141)+MAX('T1'!M141,'T2'!K141)+MAX('T1'!N141,'T2'!L141)","v":0},{"$f":"IF(COUNTRY_INFO!K141=1,IF(COUNTRY_INFO!F141*0.33>MAX('T1'!M141,'T2'!K141),MAX('T1'!M141,'T2'!K141),COUNTRY_INFO!F141*0.33),IF(COUNTRY_INFO!K141=2,IF(COUNTRY_INFO!F141*0.5>MAX('T1'!M141,'T2'!K141),MAX('T1'!M141,'T2'!K141),COUNTRY_INFO!F141*0.5),IF(COUNTRY_INFO!K141=3,IF(COUNTRY_INFO!F141>MAX('T1'!M141,'T2'!K141),MAX('T1'!M141,'T2'!K141),COUNTRY_INFO!F141),0)))","v":0},{"$f":"IF(AND(COUNTRY_INFO!K141>0,COUNTRY_INFO!K141<4),IF(Z141>0,IF(COUNTRY_INFO!K141=1, AD141/(COUNTRY_INFO!F141*0.33)*100, IF(COUNTRY_INFO!K141=2, AD141/(COUNTRY_INFO!F141*0.5)*100, IF(COUNTRY_INFO!K141=3, AD141/COUNTRY_INFO!F141*100))),\"-\"),0)","v":0},{"$f":"IF(COUNTRY_INFO!K141=2,IF(COUNTRY_INFO!G141*0.2>MAX('T1'!N141,'T2'!L141),MAX('T1'!N141,'T2'!L141),COUNTRY_INFO!G141*0.2),IF(COUNTRY_INFO!K141=3,IF(COUNTRY_INFO!G141>MAX('T1'!N141,'T2'!L141),MAX('T1'!N141,'T2'!L141),COUNTRY_INFO!G141),0))","v":0},{"$f":"IF(AND(COUNTRY_INFO!K141>0,COUNTRY_INFO!K141<4),IF(Z141>0,IF(COUNTRY_INFO!K141=1, 0, IF(COUNTRY_INFO!K141=2, AF141/(COUNTRY_INFO!G141*0.2)*100, IF(COUNTRY_INFO!K141=3, AF141/COUNTRY_INFO!G141*100))),\"-\"),0)","v":0},0,{"$f":"IF(AND(COUNTRY_INFO!K141>0,COUNTRY_INFO!K141<4), IF(AC141/Z141*100<>0, IF(AH141/Z141*100>100,100,AH141/Z141*100), \"-\"),0)","v":"-"},null,{"$f":"IF(AND(D141<>0, D141<>\"Unknown\",D141<>\"Stopped\",D141<>\"Not required\"),D141/COUNTRY_INFO!D141, 0)","v":0},{"$f":"IF(AND(J141<>0,J141<>\"Unknown\",J141<>\"Stopped\",J141<>\"Not required\"),J141/COUNTRY_INFO!D141, 0)","v":0},{"$f":"IF(AND(P141<>0,P141<>\"Unknown\",P141<>\"Not required\"),P141/(COUNTRY_INFO!E141+COUNTRY_INFO!F141), 0)","v":1},{"$f":"IF(AND(Z141<>0,Z141<>\"Unknown\",Z141<>\"Not required\"),IF(COUNTRY_INFO!K141=1,1,IF(COUNTRY_INFO!K141=2,0.5*COUNTRY_INFO!F141/(0.5*COUNTRY_INFO!F141+0.2*COUNTRY_INFO!G141),IF(COUNTRY_INFO!K141=3,COUNTRY_INFO!F141/(COUNTRY_INFO!F141+COUNTRY_INFO!G141)))),0)","v":0.44295826464901122},{"$f":"IF(AND(Z141<>0,Z141<>\"Unknown\",Z141<>\"Not required\"),IF(COUNTRY_INFO!K141=1,0,IF(COUNTRY_INFO!K141=2,0.2*COUNTRY_INFO!G141/(0.5*COUNTRY_INFO!F141+0.2*COUNTRY_INFO!G141),IF(COUNTRY_INFO!K141=3,COUNTRY_INFO!G141/(COUNTRY_INFO!F141+COUNTRY_INFO!G141)))),0)","v":0.55704173535098878},{"$f":"MAX(COUNTRY_INFO!D141*AK141*PROFILE!$G$7,COUNTRY_INFO!D141*AL141*PROFILE!$G$7)","v":0},{"$f":"MAX(COUNTRY_INFO!D141*AK141*PROFILE!$G$8,COUNTRY_INFO!D141*AL141*PROFILE!$G$8,COUNTRY_INFO!D141*AM141*PROFILE!$G$8)","v":41022.705858259673},{"$f":"MAX(COUNTRY_INFO!D141*AK141*PROFILE!$G$9,COUNTRY_INFO!D141*AL141*PROFILE!$G$9,COUNTRY_INFO!D141*AM141*PROFILE!$G$9,IF(AND(DISTRICT!Z141<>\"Unknown\",Z141<>\"Not required\"),COUNTRY_INFO!O141*DISTRICT!AN141,0))","v":80461.761660371572},{"$f":"MAX(COUNTRY_INFO!D141*AK141*PROFILE!$G$10,COUNTRY_INFO!D141*AL141*PROFILE!$G$10,IF(AND(DISTRICT!Z141<>\"Unknown\",Z141<>\"Not required\"),COUNTRY_INFO!O141*DISTRICT!AO141,0))","v":48830},170314.46751863125,0,{"$f":"MAX('MDA2'!J141,'T1'!L141,'T2'!J141,T3_R1!K141,T3_R2!K141)","v":0},{"$f":"MAX('MDA1'!K141,'MDA2'!K141,'MDA3'!I141,'MDA3'!L141,'T1'!M141,'T2'!K141,T3_R1!L141,T3_R2!L141)","v":74914},{"$f":"MAX('MDA1'!L141,'MDA2'!L141,'MDA3'!J141,'MDA3'!M141,'T1'!N141,'T2'!L141,T3_R1!M141,T3_R2!M141)","v":0},74914,{"$f":"MAX('MDA2'!J141,T141)","v":0},{"$f":"MAX('MDA1'!K141,'MDA2'!K141,'MDA3'!I141,'MDA3'!L141,V141,AD141)","v":74914},{"$f":"MAX('MDA1'!L141,'MDA2'!L141,'MDA3'!J141,'MDA3'!M141,AF141)","v":0},74914,43.985693694403807]
[{"$f":"IF(COUNTRY_INFO!A142=0,\" \",COUNTRY_INFO!A142)","v":"Tanzania"},{"$f":"IF(COUNTRY_INFO!B142=0,\" \",COUNTRY_INFO!B142)","v":"Rukwa"},{"$f":"IF(COUNTRY_INFO!C142=0,\" \",COUNTRY_INFO!C142)","v":"Sumbawanga Municipal Council"},{"$f":"COUNTRY_INFO!L142","v":"Stopped"},null,null,{"$f":"MAX('MDA1'!M142,'MDA2'!M142)","v":0},{"$f":"IF(AND(COUNTRY_INFO!H142>0,COUNTRY_INFO!H142<4),IF(D142>MAX('MDA1'!M142,'MDA2'!M142),MAX('MDA1'!M142,'MDA2'!M142),D142),0)","v":0},{"$f":"IF(AND(COUNTRY_INFO!H142>0,COUNTRY_INFO!H142<4), IF(G142/D142*100<>0, IF(G142/D142*100>100,100,G142/D142*100), \"-\"),0)","v":0},{"$f":"COUNTRY_INFO!M142","v":0},null,null,{"$f":"MAX('MDA1'!M142,MAX('MDA3'!I142,'MDA3'!L142)+MAX('MDA3'!J142,'MDA3'!M142))","v":0},{"$f":"IF(AND(COUNTRY_INFO!I142>0,COUNTRY_INFO!I142<4),IF(J142>MAX('MDA1'!M142,MAX('MDA3'!I142,'MDA3'!L142)+MAX('MDA3'!J142,'MDA3'!M142)),MAX('MDA1'!M142,MAX('MDA3'!I142,'MDA3'!L142)+MAX('MDA3'!J142,'MDA3'!M142)),J142),0)","v":0},{"$f":"IF(AND(COUNTRY_INFO!I142>0,COUNTRY_INFO!I142<4), IF(M142/J142*100<>0, IF(M142/J142*100>100,100,M142/J142*100), \"-\"),0)","v":0},{"$f":"COUNTRY_INFO!N142","v":118470.30961471799},null,null,{"$f":"SUM(MAX('MDA2'!J142, 'T1'!L142, MAX(T3_R1!K142, T3_R2!K142)), MAX('MDA1'!K142, 'MDA2'!K142, 'T1'!M142, MAX(T3_R1!L142, T3_R2!L142)), MAX('MDA1'!L142, 'MDA2'!L142, 'T1'!N142, MAX(T3_R1!M142, T3_R2!M142)))","v":74913},{"$f":"IF(AND(COUNTRY_INFO!J142>1,COUNTRY_INFO!J142<4),IF(COUNTRY_INFO!E142>MAX('MDA2'!J142,'T1'!L142,MAX(T3_R1!K142,T3_R2!K142)),MAX('MDA2'!J142,'T1'!L142,MAX(T3_R1!K142,T3_R2!K142)),COUNTRY_INFO!E142),0)","v":0},{"$f":"IF(AND(COUNTRY_INFO!J142>1,COUNTRY_INFO!J142<4), IF(T142/COUNTRY_INFO!E142*100<>0, IF(T142/COUNTRY_INFO!E142*100>100,100,T142/COUNTRY_INFO!E142*100), \"-\"),0)","v":"-"},{"$f":"IF(AND(COUNTRY_INFO!J142>1,COUNTRY_INFO!J142<4),IF(COUNTRY_INFO!F142>MAX('MDA1'!K142,'MDA2'!K142,'T1'!M142,MAX(T3_R1!L142,T3_R2!L142)),MAX('MDA1'!K142,'MDA2'!K142,'T1'!M142,MAX(T3_R1!L142,T3_R2!L142)),COUNTRY_INFO!F142),0)","v":74913},{"$f":"IF(AND(COUNTRY_INFO!J142>1,COUNTRY_INFO!J142<4), IF(V142/COUNTRY_INFO!F142*100<>0, IF(V142/COUNTRY_INFO!F142*100>100,100,V142/COUNTRY_INFO!F142*100), \"-\"),0)","v":87.334600184198564},74913,{"$f":"IF(AND(COUNTRY_INFO!J142>1,COUNTRY_INFO!J142<4), IF(S142/P142*100<>0, IF(X142/P142*100>100,100,X142/P142*100), \"-\"),0)","v":63.233564800858169},{"$f":"COUNTRY_INFO!O142","v":69881.838077056396},null,null,{"$f":"MAX('T1'!L142,'T2'!J142)+MAX('T1'!M142,'T2'!K142)+MAX('T1'!N142,'T2'!L142)","v":0},{"$f":"IF(COUNTRY_INFO!K142=1,IF(COUNTRY_INFO!F142*0.33>MAX('T1'!M142,'T2'!K142),MAX('T1'!M142,'T2'!K142),COUNTRY_INFO!F142*0.33),IF(COUNTRY_INFO!K142=2,IF(COUNTRY_INFO!F142*0.5>MAX('T1'!M142,'T2'!K142),MAX('T1'!M142,'T2'!K142),COUNTRY_INFO!F142*0.5),IF(COUNTRY_INFO!K142=3,IF(COUNTRY_INFO!F142>MAX('T1'!M142,'T2'!K142),MAX('T1'!M142,'T2'!K142),COUNTRY_INFO!F142),0)))","v":0},{"$f":"IF(AND(COUNTRY_INFO!K142>0,COUNTRY_INFO!K142<4),IF(Z142>0,IF(COUNTRY_INFO!K142=1, AD142/(COUNTRY_INFO!F142*0.33)*100, IF(COUNTRY_INFO!K142=2, AD142/(COUNTRY_INFO!F142*0.5)*100, IF(COUNTRY_INFO!K142=3, AD142/COUNTRY_INFO!F142*100))),\"-\"),0)","v":0},{"$f":"IF(COUNTRY_INFO!K142=2,IF(COUNTRY_INFO!G142*0.2>MAX('T1'!N142,'T2'!L142),MAX('T1'!N142,'T2'!L142),COUNTRY_INFO!G142*0.2),IF(COUNTRY_INFO!K142=3,IF(COUNTRY_INFO!G142>MAX('T1'!N142,'T2'!L142),MAX('T1'!N142,'T2'!L142),COUNTRY_INFO!G142),0))","v":0},{"$f":"IF(AND(COUNTRY_INFO!K142>0,COUNTRY_INFO!K142<4),IF(Z142>0,IF(COUNTRY_INFO!K142=1, 0, IF(COUNTRY_INFO!K142=2, AF142/(COUNTRY_INFO!G142*0.2)*100, IF(COUNTRY_INFO!K142=3, AF142/COUNTRY_INFO!G142*100))),\"-\"),0)","v":0},0,{"$f":"IF(AND(COUNTRY_INFO!K142>0,COUNTRY_INFO!K142<4), IF(AC142/Z142*100<>0, IF(AH142/Z142*100>100,100,AH142/Z142*100), \"-\"),0)","v":"-"},null,{"$f":"IF(AND(D142<>0, D142<>\"Unknown\",D142<>\"Stopped\",D142<>\"Not required\"),D142/COUNTRY_INFO!D142, 0)","v":0},{"$f":"IF(AND(J142<>0,J142<>\"Unknown\",J142<>\"Stopped\",J142<>\"Not required\"),J142/COUNTRY_INFO!D142, 0)","v":0},{"$f":"IF(AND(P142<>0,P142<>\"Unknown\",P142<>\"Not required\"),P142/(COUNTRY_INFO!E142+COUNTRY_INFO!F142), 0)","v":1},{"$f":"IF(AND(Z142<>0,Z142<>\"Unknown\",Z142<>\"Not required\"),IF(COUNTRY_INFO!K142=1,1,IF(COUNTRY_INFO!K142=2,0.5*COUNTRY_INFO!F142/(0.5*COUNTRY_INFO!F142+0.2*COUNTRY_INFO!G142),IF(COUNTRY_INFO!K142=3,COUNTRY_INFO!F142/(COUNTRY_INFO!F142+COUNTRY_INFO!G142)))),0)","v":0.61372884829829844},{"$f":"IF(AND(Z142<>0,Z142<>\"Unknown\",Z142<>\"Not required\"),IF(COUNTRY_INFO!K142=1,0,IF(COUNTRY_INFO!K142=2,0.2*COUNTRY_INFO!G142/(0.5*COUNTRY_INFO!F142+0.2*COUNTRY_INFO!G142),IF(COUNTRY_INFO!K142=3,COUNTRY_INFO!G142/(COUNTRY_INFO!F142+COUNTRY_INFO!G142)))),0)","v":0.38627115170170168},{"$f":"MAX(COUNTRY_INFO!D142*AK142*PROFILE!$G$7,COUNTRY_INFO!D142*AL142*PROFILE!$G$7)","v":0},{"$f":"MAX(COUNTRY_INFO!D142*AK142*PROFILE!$G$8,COUNTRY_INFO!D142*AL142*PROFILE!$G$8,COUNTRY_INFO!D142*AM142*PROFILE!$G$8)","v":28139.267670079887},{"$f":"MAX(COUNTRY_INFO!D142*AK142*PROFILE!$G$9,COUNTRY_INFO!D142*AL142*PROFILE!$G$9,COUNTRY_INFO!D142*AM142*PROFILE!$G$9,IF(AND(DISTRICT!Z142<>\"Unknown\",Z142<>\"Not required\"),COUNTRY_INFO!O142*DISTRICT!AN142,0))","v":55192.240521391584},{"$f":"MAX(COUNTRY_INFO!D142*AK142*PROFILE!$G$10,COUNTRY_INFO!D142*AL142*PROFILE!$G$10,IF(AND(DISTRICT!Z142<>\"Unknown\",Z142<>\"Not required\"),COUNTRY_INFO!O142*DISTRICT!AO142,0))","v":26993.338077056404},110324.84626852788,0,{"$f":"MAX('MDA2'!J142,'T1'!L142,'T2'!J142,T3_R1!K142,T3_R2!K142)","v":0},{"$f":"MAX('MDA1'!K142,'MDA2'!K142,'MDA3'!I142,'MDA3'!L142,'T1'!M142,'T2'!K142,T3_R1!L142,T3_R2!L142)","v":74913},{"$f":"MAX('MDA1'!L142,'MDA2'!L142,'MDA3'!J142,'MDA3'!M142,'T1'!N142,'T2'!L142,T3_R1!M142,T3_R2!M142)","v":0},74913,{"$f":"MAX('MDA2'!J142,T142)","v":0},{"$f":"MAX('MDA1'!K142,'MDA2'!K142,'MDA3'!I142,'MDA3'!L142,V142,AD142)","v":74913},{"$f":"MAX('MDA1'!L142,'MDA2'!L142,'MDA3'!J142,'MDA3'!M142,AF142)","v":0},74913,67.902202027695253]
[{"$f":"IF(COUNTRY_INFO!A143=0,\" \",COUNTRY_INFO!A143)","v":"Tanzania"},{"$f":"IF(COUNTRY_INFO!B143=0,\" \",COUNTRY_INFO!B143)","v":"Ruvuma"},{"$f":"IF(COUNTRY_INFO!C143=0,\" \",COUNTRY_INFO!C143)","v":"Madaba District Council"},{"$f":"COUNTRY_INFO!L143","v":"Stopped"},null,null,{"$f":"MAX('MDA1'!M143,'MDA2'!M143)","v":0},{"$f":"IF(AND(COUNTRY_INFO!H143>0,COUNTRY_INFO!H143<4),IF(D143>MAX('MDA1'!M143,'MDA2'!M143),MAX('MDA1'!M143,'MDA2'!M143),D143),0)","v":0},{"$f":"IF(AND(COUNTRY_INFO!H143>0,COUNTRY_INFO!H143<4), IF(G143/D143*100<>0, IF(G143/D143*100>100,100,G143/D143*100), \"-\"),0)","v":0},{"$f":"COUNTRY_INFO!M143","v":54119},null,null,{"$f":"MAX('MDA1'!M143,MAX('MDA3'!I143,'MDA3'!L143)+MAX('MDA3'!J143,'MDA3'!M143))","v":37736},{"$f":"IF(AND(COUNTRY_INFO!I143>0,COUNTRY_INFO!I143<4),IF(J143>MAX('MDA1'!M143,MAX('MDA3'!I143,'MDA3'!L143)+MAX('MDA3'!J143,'MDA3'!M143)),MAX('MDA1'!M143,MAX('MDA3'!I143,'MDA3'!L143)+MAX('MDA3'!J143,'MDA3'!M143)),J143),0)","v":37736},{"$f":"IF(AND(COUNTRY_INFO!I143>0,COUNTRY_INFO!I143<4), IF(M143/J143*100<>0, IF(M143/J143*100>100,100,M143/J143*100), \"-\"),0)","v":69.727822021840751},{"$f":"COUNTRY_INFO!N143","v":17294},null,null,{"$f":"SUM(MAX('MDA2'!J143, 'T1'!L143, MAX(T3_R1!K143, T3_R2!K143)), MAX('MDA1'!K143, 'MDA2'!K143, 'T1'!M143, MAX(T3_R1!L143, T3_R2!L143)), MAX('MDA1'!L143, 'MDA2'!L143, 'T1'!N143, MAX(T3_R1!M143, T3_R2!M143)))","v":10572},{"$f":"IF(AND(COUNTRY_INFO!J143>1,COUNTRY_INFO!J143<4),IF(COUNTRY_INFO!E143>MAX('MDA2'!J143,'T1'!L143,MAX(T3_R1!K143,T3_R2!K143)),MAX('MDA2'!J143,'T1'!L143,MAX(T3_R1!K143,T3_R2!K143)),COUNTRY_INFO!E143),0)","v":0},{"$f":"IF(AND(COUNTRY_INFO!J143>1,COUNTRY_INFO!J143<4), IF(T143/COUNTRY_INFO!E143*100<>0, IF(T143/COUNTRY_INFO!E143*100>100,100,T143/COUNTRY_INFO!E143*100), \"-\"),0)","v":"-"},{"$f":"IF(AND(COUNTRY_INFO!J143>1,COUNTRY_INFO!J143<4),IF(COUNTRY_INFO!F143>MAX('MDA1'!K143,'MDA2'!K143,'T1'!M143,MAX(T3_R1!L143,T3_R2!L143)),MAX('MDA1'!K143,'MDA2'!K143,'T1'!M143,MAX(T3_R1!L143,T3_R2!L143)),COUNTRY_INFO!F143),0)","v":10572},{"$f":"IF(AND(COUNTRY_INFO!J143>1,COUNTRY_INFO!J143<4), IF(V143/COUNTRY_INFO!F143*100<>0, IF(V143/COUNTRY_INFO!F143*100>100,100,V143/COUNTRY_INFO!F143*100), \"-\"),0)","v":96.451053735972991},10572,{"$f":"IF(AND(COUNTRY_INFO!J143>1,COUNTRY_INFO!J143<4), IF(S143/P143*100<>0, IF(X143/P143*100>100,100,X143/P143*100), \"-\"),0)","v":61.131028102231987},{"$f":"COUNTRY_INFO!O143","v":12845.5},null,null,{"$f":"MAX('T1'!L143,'T2'!J143)+MAX('T1'!M143,'T2'!K143)+MAX('T1'!N143,'T2'!L143)","v":10572},{"$f":"IF(COUNTRY_INFO!K143=1,IF(COUNTRY_INFO!F143*0.33>MAX('T1'!M143,'T2'!K143),MAX('T1'!M143,'T2'!K143),COUNTRY_INFO!F143*0.33),IF(COUNTRY_INFO!K143=2,IF(COUNTRY_INFO!F143*0.5>MAX('T1'!M143,'T2'!K143),MAX('T1'!M143,'T2'!K143),COUNTRY_INFO!F143*0.5),IF(COUNTRY_INFO!K143=3,IF(COUNTRY_INFO!F143>MAX('T1'!M143,'T2'!K143),MAX('T1'!M143,'T2'!K143),COUNTRY_INFO!F143),0)))","v":5480.5},{"$f":"IF(AND(COUNTRY_INFO!K143>0,COUNTRY_INFO!K143<4),IF(Z143>0,IF(COUNTRY_INFO!K143=1, AD143/(COUNTRY_INFO!F143*0.33)*100, IF(COUNTRY_INFO!K143=2, AD143/(COUNTRY_INFO!F143*0.5)*100, IF(COUNTRY_INFO!K143=3, AD143/COUNTRY_INFO!F143*100))),\"-\"),0)","v":100},{"$f":"IF(COUNTRY_INFO!K143=2,IF(COUNTRY_INFO!G143*0.2>MAX('T1'!N143,'T2'!L143),MAX('T1'!N143,'T2'!L143),COUNTRY_INFO!G143*0.2),IF(COUNTRY_INFO!K143=3,IF(COUNTRY_INFO!G143>MAX('T1'!N143,'T2'!L143),MAX('T1'!N143,'T2'!L143),COUNTRY_INFO!G143),0))","v":0},{"$f":"IF(AND(COUNTRY_INFO!K143>0,COUNTRY_INFO!K143<4),IF(Z143>0,IF(COUNTRY_INFO!K143=1, 0, IF(COUNTRY_INFO!K143=2, AF143/(COUNTRY_INFO!G143*0.2)*100, IF(COUNTRY_INFO!K143=3, AF143/COUNTRY_INFO!G143*100))),\"-\"),0)","v":0},5480.5,{"$f":"IF(AND(COUNTRY_INFO!K143>0,COUNTRY_INFO!K143<4), IF(AC143/Z143*100<>0, IF(AH143/Z143*100>100,100,AH143/Z143*100), \"-\"),0)","v":42.66474640924838},null,{"$f":"IF(AND(D143<>0, D143<>\"Unknown\",D143<>\"Stopped\",D143<>\"Not required\"),D143/COUNTRY_INFO!D143, 0)","v":0},{"$f":"IF(AND(J143<>0,J143<>\"Unknown\",J143<>\"Stopped\",J143<>\"Not required\"),J143/COUNTRY_INFO!D143, 0)","v":1},{"$f":"IF(AND(P143<>0,P143<>\"Unknown\",P143<>\"Not required\"),P143/(COUNTRY_INFO!E143+COUNTRY_INFO!F143), 0)","v":1},{"$f":"IF(AND(Z143<>0,Z143<>\"Unknown\",Z143<>\"Not required\"),IF(COUNTRY_INFO!K143=1,1,IF(COUNTRY_INFO!K143=2,0.5*COUNTRY_INFO!F143/(0.5*COUNTRY_INFO!F143+0.2*COUNTRY_INFO!G143),IF(COUNTRY_INFO!K143=3,COUNTRY_INFO!F143/(COUNTRY_INFO!F143+COUNTRY_INFO!G143)))),0)","v":0.42664746409248377},{"$f":"IF(AND(Z143<>0,Z143<>\"Unknown\",Z143<>\"Not required\"),IF(COUNTRY_INFO!K143=1,0,IF(COUNTRY_INFO!K143=2,0.2*COUNTRY_INFO!G143/(0.5*COUNTRY_INFO!F143+0.2*COUNTRY_INFO!G143),IF(COUNTRY_INFO!K143=3,COUNTRY_INFO!G143/(COUNTRY_INFO!F143+COUNTRY_INFO!G143)))),0)","v":0.57335253590751623},{"$f":"MAX(COUNTRY_INFO!D143*AK143*PROFILE!$G$7,COUNTRY_INFO!D143*AL143*PROFILE!$G$7)","v":0},{"$f":"MAX(COUNTRY_INFO!D143*AK143*PROFILE!$G$8,COUNTRY_INFO!D143*AL143*PROFILE!$G$8,COUNTRY_INFO!D143*AM143*PROFILE!$G$8)","v":6008.8662154186386},{"$f":"MAX(COUNTRY_INFO!D143*AK143*PROFILE!$G$9,COUNTRY_INFO!D143*AL143*PROFILE!$G$9,COUNTRY_INFO!D143*AM143*PROFILE!$G$9,IF(AND(DISTRICT!Z143<>\"Unknown\",Z143<>\"Not required\"),COUNTRY_INFO!O143*DISTRICT!AN143,0))","v":11785.764765117923},{"$f":"MAX(COUNTRY_INFO!D143*AK143*PROFILE!$G$10,COUNTRY_INFO!D143*AL143*PROFILE!$G$10,IF(AND(DISTRICT!Z143<>\"Unknown\",Z143<>\"Not required\"),COUNTRY_INFO!O143*DISTRICT!AO143,0))","v":36324.371106753017},54119.002087289577,"Y",{"$f":"MAX('MDA2'!J143,'T1'!L143,'T2'!J143,T3_R1!K143,T3_R2!K143)","v":0},{"$f":"MAX('MDA1'!K143,'MDA2'!K143,'MDA3'!I143,'MDA3'!L143,'T1'!M143,'T2'!K143,T3_R1!L143,T3_R2!L143)","v":10572},{"$f":"MAX('MDA1'!L143,'MDA2'!L143,'MDA3'!J143,'MDA3'!M143,'T1'!N143,'T2'!L143,T3_R1!M143,T3_R2!M143)","v":30528.423999999999},41100.423999999999,{"$f":"MAX('MDA2'!J143,T143)","v":0},{"$f":"MAX('MDA1'!K143,'MDA2'!K143,'MDA3'!I143,'MDA3'!L143,V143,AD143)","v":10572},{"$f":"MAX('MDA1'!L143,'MDA2'!L143,'MDA3'!J143,'MDA3'!M143,AF143)","v":30528.423999999999},41100.423999999999,75.944534109679878]
[{"$f":"IF(COUNTRY_INFO!A144=0,\" \",COUNTRY_INFO!A144)","v":"Tanzania"},{"$f":"IF(COUNTRY_INFO!B144=0,\" \",COUNTRY_INFO!B144)","v":"Ruvuma"},{"$f":"IF(COUNTRY_INFO!C144=0,\" \",COUNTRY_INFO!C144)","v":"Mbinga District Council"},{"$f":"COUNTRY_INFO!L144","v":"Stopped"},null,null,{"$f":"MAX('MDA1'!M144,'MDA2'!M144)","v":0},{"$f":"IF(AND(COUNTRY_INFO!H144>0,COUNTRY_INFO!H144<4),IF(D144>MAX('MDA1'!M144,'MDA2'!M144),MAX('MDA1'!M144,'MDA2'!M144),D144),0)","v":0},{"$f":"IF(AND(COUNTRY_INFO!H144>0,COUNTRY_INFO!H144<4), IF(G144/D144*100<>0, IF(G144/D144*100>100,100,G144/D144*100), \"-\"),0)","v":0},{"$f":"COUNTRY_INFO!M144","v":254185},null,null,{"$f":"MAX('MDA1'!M144,MAX('MDA3'!I144,'MDA3'!L144)+MAX('MDA3'!J144,'MDA3'!M144))","v":192342},{"$f":"IF(AND(COUNTRY_INFO!I144>0,COUNTRY_INFO!I144<4),IF(J144>MAX('MDA1'!M144,MAX('MDA3'!I144,'MDA3'!L144)+MAX('MDA3'!J144,'MDA3'!M144)),MAX('MDA1'!M144,MAX('MDA3'!I144,'MDA3'!L144)+MAX('MDA3'!J144,'MDA3'!M144)),J144),0)","v":192342},{"$f":"IF(AND(COUNTRY_INFO!I144>0,COUNTRY_INFO!I144<4), IF(M144/J144*100<>0, IF(M144/J144*100>100,100,M144/J144*100), \"-\"),0)","v":75.670082813698684},{"$f":"COUNTRY_INFO!N144","v":82142},null,null,{"$f":"SUM(MAX('MDA2'!J144, 'T1'!L144, MAX(T3_R1!K144, T3_R2!K144)), MAX('MDA1'!K144, 'MDA2'!K144, 'T1'!M144, MAX(T3_R1!L144, T3_R2!L144)), MAX('MDA1'!L144, 'MDA2'!L144, 'T1'!N144, MAX(T3_R1!M144, T3_R2!M144)))","v":41821},{"$f":"IF(AND(COUNTRY_INFO!J144>1,COUNTRY_INFO!J144<4),IF(COUNTRY_INFO!E144>MAX('MDA2'!J144,'T1'!L144,MAX(T3_R1!K144,T3_R2!K144)),MAX('MDA2'!J144,'T1'!L144,MAX(T3_R1!K144,T3_R2!K144)),COUNTRY_INFO!E144),0)","v":0},{"$f":"IF(AND(COUNTRY_INFO!J144>1,COUNTRY_INFO!J144<4), IF(T144/COUNTRY_INFO!E144*100<>0, IF(T144/COUNTRY_INFO!E144*100>100,100,T144/COUNTRY_INFO!E144*100), \"-\"),0)","v":"-"},{"$f":"IF(AND(COUNTRY_INFO!J144>1,COUNTRY_INFO!J144<4),IF(COUNTRY_INFO!F144>MAX('MDA1'!K144,'MDA2'!K144,'T1'!M144,MAX(T3_R1!L144,T3_R2!L144)),MAX('MDA1'!K144,'MDA2'!K144,'T1'!M144,MAX(T3_R1!L144,T3_R2!L144)),COUNTRY_INFO!F144),0)","v":41821},{"$f":"IF(AND(COUNTRY_INFO!J144>1,COUNTRY_INFO!J144<4), IF(V144/COUNTRY_INFO!F144*100<>0, IF(V144/COUNTRY_INFO!F144*100>100,100,V144/COUNTRY_INFO!F144*100), \"-\"),0)","v":84.73851640224504},41821,{"$f":"IF(AND(COUNTRY_INFO!J144>1,COUNTRY_INFO!J144<4), IF(S144/P144*100<>0, IF(X144/P144*100>100,100,X144/P144*100), \"-\"),0)","v":50.913053005770493},{"$f":"COUNTRY_INFO!O144","v":59085.1},null,null,{"$f":"MAX('T1'!L144,'T2'!J144)+MAX('T1'!M144,'T2'!K144)+MAX('T1'!N144,'T2'!L144)","v":41821},{"$f":"IF(COUNTRY_INFO!K144=1,IF(COUNTRY_INFO!F144*0.33>MAX('T1'!M144,'T2'!K144),MAX('T1'!M144,'T2'!K144),COUNTRY_INFO!F144*0.33),IF(COUNTRY_INFO!K144=2,IF(COUNTRY_INFO!F144*0.5>MAX('T1'!M144,'T2'!K144),MAX('T1'!M144,'T2'!K144),COUNTRY_INFO!F144*0.5),IF(COUNTRY_INFO!K144=3,IF(COUNTRY_INFO!F144>MAX('T1'!M144,'T2'!K144),MAX('T1'!M144,'T2'!K144),COUNTRY_INFO!F144),0)))","v":24676.5},{"$f":"IF(AND(COUNTRY_INFO!K144>0,COUNTRY_INFO!K144<4),IF(Z144>0,IF(COUNTRY_INFO!K144=1, AD144/(COUNTRY_INFO!F144*0.33)*100, IF(COUNTRY_INFO!K144=2, AD144/(COUNTRY_INFO!F144*0.5)*100, IF(COUNTRY_INFO!K144=3, AD144/COUNTRY_INFO!F144*100))),\"-\"),0)","v":100},{"$f":"IF(COUNTRY_INFO!K144=2,IF(COUNTRY_INFO!G144*0.2>MAX('T1'!N144,'T2'!L144),MAX('T1'!N144,'T2'!L144),COUNTRY_INFO!G144*0.2),IF(COUNTRY_INFO!K144=3,IF(COUNTRY_INFO!G144>MAX('T1'!N144,'T2'!L144),MAX('T1'!N144,'T2'!L144),COUNTRY_INFO!G144),0))","v":0},{"$f":"IF(AND(COUNTRY_INFO!K144>0,COUNTRY_INFO!K144<4),IF(Z144>0,IF(COUNTRY_INFO!K144=1, 0, IF(COUNTRY_INFO!K144=2, AF144/(COUNTRY_INFO!G144*0.2)*100, IF(COUNTRY_INFO!K144=3, AF144/COUNTRY_INFO!G144*100))),\"-\"),0)","v":0},24676.5,{"$f":"IF(AND(COUNTRY_INFO!K144>0,COUNTRY_INFO!K144<4), IF(AC144/Z144*100<>0, IF(AH144/Z144*100>100,100,AH144/Z144*100), \"-\"),0)","v":41.764336524775281},null,{"$f":"IF(AND(D144<>0, D144<>\"Unknown\",D144<>\"Stopped\",D144<>\"Not required\"),D144/COUNTRY_INFO!D144, 0)","v":0},{"$f":"IF(AND(J144<>0,J144<>\"Unknown\",J144<>\"Stopped\",J144<>\"Not required\"),J144/COUNTRY_INFO!D144, 0)","v":1},{"$f":"IF(AND(P144<>0,P144<>\"Unknown\",P144<>\"Not required\"),P144/(COUNTRY_INFO!E144+COUNTRY_INFO!F144), 0)","v":1},{"$f":"IF(AND(Z144<>0,Z144<>\"Unknown\",Z144<>\"Not required\"),IF(COUNTRY_INFO!K144=1,1,IF(COUNTRY_INFO!K144=2,0.5*COUNTRY_INFO!F144/(0.5*COUNTRY_INFO!F144+0.2*COUNTRY_INFO!G144),IF(COUNTRY_INFO!K144=3,COUNTRY_INFO!F144/(COUNTRY_INFO!F144+COUNTRY_INFO!G144)))),0)","v":0.41764336524775281},{"$f":"IF(AND(Z144<>0,Z144<>\"Unknown\",Z144<>\"Not required\"),IF(COUNTRY_INFO!K144=1,0,IF(COUNTRY_INFO!K144=2,0.2*COUNTRY_INFO!G144/(0.5*COUNTRY_INFO!F144+0.2*COUNTRY_INFO!G144),IF(COUNTRY_INFO!K144=3,COUNTRY_INFO!G144/(COUNTRY_INFO!F144+COUNTRY_INFO!G144)))),0)","v":0.58235663475224719},{"$f":"MAX(COUNTRY_INFO!D144*AK144*PROFILE!$G$7,COUNTRY_INFO!D144*AL144*PROFILE!$G$7)","v":0},{"$f":"MAX(COUNTRY_INFO!D144*AK144*PROFILE!$G$8,COUNTRY_INFO!D144*AL144*PROFILE!$G$8,COUNTRY_INFO!D144*AM144*PROFILE!$G$8)","v":28222.318575106463},{"$f":"MAX(COUNTRY_INFO!D144*AK144*PROFILE!$G$9,COUNTRY_INFO!D144*AL144*PROFILE!$G$9,COUNTRY_INFO!D144*AM144*PROFILE!$G$9,IF(AND(DISTRICT!Z144<>\"Unknown\",Z144<>\"Not required\"),COUNTRY_INFO!O144*DISTRICT!AN144,0))","v":55355.136215035374},{"$f":"MAX(COUNTRY_INFO!D144*AK144*PROFILE!$G$10,COUNTRY_INFO!D144*AL144*PROFILE!$G$10,IF(AND(DISTRICT!Z144<>\"Unknown\",Z144<>\"Not required\"),COUNTRY_INFO!O144*DISTRICT!AO144,0))","v":170607.55501339669},254185.00980353853,"Y",{"$f":"MAX('MDA2'!J144,'T1'!L144,'T2'!J144,T3_R1!K144,T3_R2!K144)","v":0},{"$f":"MAX('MDA1'!K144,'MDA2'!K144,'MDA3'!I144,'MDA3'!L144,'T1'!M144,'T2'!K144,T3_R1!L144,T3_R2!L144)","v":41821},{"$f":"MAX('MDA1'!L144,'MDA2'!L144,'MDA3'!J144,'MDA3'!M144,'T1'!N144,'T2'!L144,T3_R1!M144,T3_R2!M144)","v":155604.67800000001},197425.67800000001,{"$f":"MAX('MDA2'!J144,T144)","v":0},{"$f":"MAX('MDA1'!K144,'MDA2'!K144,'MDA3'!I144,'MDA3'!L144,V144,AD144)","v":41821},{"$f":"MAX('MDA1'!L144,'MDA2'!L144,'MDA3'!J144,'MDA3'!M144,AF144)","v":155604.67800000001},197425.67800000001,77.670071162965812]
[{"$f":"IF(COUNTRY_INFO!A145=0,\" \",COUNTRY_INFO!A145)","v":"Tanzania"},{"$f":"IF(COUNTRY_INFO!B145=0,\" \",COUNTRY_INFO!B145)","v":"Ruvuma"},{"$f":"IF(COUNTRY_INFO!C145=0,\" \",COUNTRY_INFO!C145)","v":"Mbinga Town Council"},{"$f":"COUNTRY_INFO!L145","v":"Stopped"},null,null,{"$f":"MAX('MDA1'!M145,'MDA2'!M145)","v":0},{"$f":"IF(AND(COUNTRY_INFO!H145>0,COUNTRY_INFO!H145<4),IF(D145>MAX('MDA1'!M145,'MDA2'!M145),MAX('MDA1'!M145,'MDA2'!M145),D145),0)","v":0},{"$f":"IF(AND(COUNTRY_INFO!H145>0,COUNTRY_INFO!H145<4), IF(G145/D145*100<>0, IF(G145/D145*100>100,100,G145/D145*100), \"-\"),0)","v":0},{"$f":"COUNTRY_INFO!M145","v":146468},null,null,{"$f":"MAX('MDA1'!M145,MAX('MDA3'!I145,'MDA3'!L145)+MAX('MDA3'!J145,'MDA3'!M145))","v":88208},{"$f":"IF(AND(COUNTRY_INFO!I145>0,COUNTRY_INFO!I145<4),IF(J145>MAX('MDA1'!M145,MAX('MDA3'!I145,'MDA3'!L145)+MAX('MDA3'!J145,'MDA3'!M145)),MAX('MDA1'!M145,MAX('MDA3'!I145,'MDA3'!L145)+MAX('MDA3'!J145,'MDA3'!M145)),J145),0)","v":88208},{"$f":"IF(AND(COUNTRY_INFO!I145>0,COUNTRY_INFO!I145<4), IF(M145/J145*100<>0, IF(M145/J145*100>100,100,M145/J145*100), \"-\"),0)","v":60.223393505748703},{"$f":"COUNTRY_INFO!N145","v":47333},null,null,{"$f":"SUM(MAX('MDA2'!J145, 'T1'!L145, MAX(T3_R1!K145, T3_R2!K145)), MAX('MDA1'!K145, 'MDA2'!K145, 'T1'!M145, MAX(T3_R1!L145, T3_R2!L145)), MAX('MDA1'!L145, 'MDA2'!L145, 'T1'!N145, MAX(T3_R1!M145, T3_R2!M145)))","v":22828},{"$f":"IF(AND(COUNTRY_INFO!J145>1,COUNTRY_INFO!J145<4),IF(COUNTRY_INFO!E145>MAX('MDA2'!J145,'T1'!L145,MAX(T3_R1!K145,T3_R2!K145)),MAX('MDA2'!J145,'T1'!L145,MAX(T3_R1!K145,T3_R2!K145)),COUNTRY_INFO!E145),0)","v":0},{"$f":"IF(AND(COUNTRY_INFO!J145>1,COUNTRY_INFO!J145<4), IF(T145/COUNTRY_INFO!E145*100<>0, IF(T145/COUNTRY_INFO!E145*100>100,100,T145/COUNTRY_INFO!E145*100), \"-\"),0)","v":"-"},{"$f":"IF(AND(COUNTRY_INFO!J145>1,COUNTRY_INFO!J145<4),IF(COUNTRY_INFO!F145>MAX('MDA1'!K145,'MDA2'!K145,'T1'!M145,MAX(T3_R1!L145,T3_R2!L145)),MAX('MDA1'!K145,'MDA2'!K145,'T1'!M145,MAX(T3_R1!L145,T3_R2!L145)),COUNTRY_INFO!F145),0)","v":22828},{"$f":"IF(AND(COUNTRY_INFO!J145>1,COUNTRY_INFO!J145<4), IF(V145/COUNTRY_INFO!F145*100<>0, IF(V145/COUNTRY_INFO!F145*100>100,100,V145/COUNTRY_INFO!F145*100), \"-\"),0)","v":80.272874323088828},22828,{"$f":"IF(AND(COUNTRY_INFO!J145>1,COUNTRY_INFO!J145<4), IF(S145/P145*100<>0, IF(X145/P145*100>100,100,X145/P145*100), \"-\"),0)","v":48.228508651469376},{"$f":"COUNTRY_INFO!O145","v":34046},null,null,{"$f":"MAX('T1'!L145,'T2'!J145)+MAX('T1'!M145,'T2'!K145)+MAX('T1'!N145,'T2'!L145)","v":22828},{"$f":"IF(COUNTRY_INFO!K145=1,IF(COUNTRY_INFO!F145*0.33>MAX('T1'!M145,'T2'!K145),MAX('T1'!M145,'T2'!K145),COUNTRY_INFO!F145*0.33),IF(COUNTRY_INFO!K145=2,IF(COUNTRY_INFO!F145*0.5>MAX('T1'!M145,'T2'!K145),MAX('T1'!M145,'T2'!K145),COUNTRY_INFO!F145*0.5),IF(COUNTRY_INFO!K145=3,IF(COUNTRY_INFO!F145>MAX('T1'!M145,'T2'!K145),MAX('T1'!M145,'T2'!K145),COUNTRY_INFO!F145),0)))","v":14219},{"$f":"IF(AND(COUNTRY_INFO!K145>0,COUNTRY_INFO!K145<4),IF(Z145>0,IF(COUNTRY_INFO!K145=1, AD145/(COUNTRY_INFO!F145*0.33)*100, IF(COUNTRY_INFO!K145=2, AD145/(COUNTRY_INFO!F145*0.5)*100, IF(COUNTRY_INFO!K145=3, AD145/COUNTRY_INFO!F145*100))),\"-\"),0)","v":100},{"$f":"IF(COUNTRY_INFO!K145=2,IF(COUNTRY_INFO!G145*0.2>MAX('T1'!N145,'T2'!L145),MAX('T1'!N145,'T2'!L145),COUNTRY_INFO!G145*0.2),IF(COUNTRY_INFO!K145=3,IF(COUNTRY_INFO!G145>MAX('T1'!N145,'T2'!L145),MAX('T1'!N145,'T2'!L145),COUNTRY_INFO!G145),0))","v":0},{"$f":"IF(AND(COUNTRY_INFO!K145>0,COUNTRY_INFO!K145<4),IF(Z145>0,IF(COUNTRY_INFO!K145=1, 0, IF(COUNTRY_INFO!K145=2, AF145/(COUNTRY_INFO!G145*0.2)*100, IF(COUNTRY_INFO!K145=3, AF145/COUNTRY_INFO!G145*100))),\"-\"),0)","v":0},14219,{"$f":"IF(AND(COUNTRY_INFO!K145>0,COUNTRY_INFO!K145<4), IF(AC145/Z145*100<>0, IF(AH145/Z145*100>100,100,AH145/Z145*100), \"-\"),0)","v":41.764083886506491},null,{"$f":"IF(AND(D145<>0, D145<>\"Unknown\",D145<>\"Stopped\",D145<>\"Not required\"),D145/COUNTRY_INFO!D145, 0)","v":0},{"$f":"IF(AND(J145<>0,J145<>\"Unknown\",J145<>\"Stopped\",J145<>\"Not required\"),J145/COUNTRY_INFO!D145, 0)","v":1},{"$f":"IF(AND(P145<>0,P145<>\"Unknown\",P145<>\"Not required\"),P145/(COUNTRY_INFO!E145+COUNTRY_INFO!F145), 0)","v":1},{"$f":"IF(AND(Z145<>0,Z145<>\"Unknown\",Z145<>\"Not required\"),IF(COUNTRY_INFO!K145=1,1,IF(COUNTRY_INFO!K145=2,0.5*COUNTRY_INFO!F145/(0.5*COUNTRY_INFO!F145+0.2*COUNTRY_INFO!G145),IF(COUNTRY_INFO!K145=3,COUNTRY_INFO!F145/(COUNTRY_INFO!F145+COUNTRY_INFO!G145)))),0)","v":0.41764083886506492},{"$f":"IF(AND(Z145<>0,Z145<>\"Unknown\",Z145<>\"Not required\"),IF(COUNTRY_INFO!K145=1,0,IF(COUNTRY_INFO!K145=2,0.2*COUNTRY_INFO!G145/(0.5*COUNTRY_INFO!F145+0.2*COUNTRY_INFO!G145),IF(COUNTRY_INFO!K145=3,COUNTRY_INFO!G145/(COUNTRY_INFO!F145+COUNTRY_INFO!G145)))),0)","v":0.58235916113493513},{"$f":"MAX(COUNTRY_INFO!D145*AK145*PROFILE!$G$7,COUNTRY_INFO!D145*AL145*PROFILE!$G$7)","v":0},{"$f":"MAX(COUNTRY_INFO!D145*AK145*PROFILE!$G$8,COUNTRY_INFO!D145*AL145*PROFILE!$G$8,COUNTRY_INFO!D145*AM145*PROFILE!$G$8)","v":16262.433098171383},{"$f":"MAX(COUNTRY_INFO!D145*AK145*PROFILE!$G$9,COUNTRY_INFO!D145*AL145*PROFILE!$G$9,COUNTRY_INFO!D145*AM145*PROFILE!$G$9,IF(AND(DISTRICT!Z145<>\"Unknown\",Z145<>\"Not required\"),COUNTRY_INFO!O145*DISTRICT!AN145,0))","v":31897.067455372271},{"$f":"MAX(COUNTRY_INFO!D145*AK145*PROFILE!$G$10,COUNTRY_INFO!D145*AL145*PROFILE!$G$10,IF(AND(DISTRICT!Z145<>\"Unknown\",Z145<>\"Not required\"),COUNTRY_INFO!O145*DISTRICT!AO145,0))","v":98308.505095509914},146468.00564905355,"Y",{"$f":"MAX('MDA2'!J145,'T1'!L145,'T2'!J145,T3_R1!K145,T3_R2!K145)","v":0},{"$f":"MAX('MDA1'!K145,'MDA2'!K145,'MDA3'!I145,'MDA3'!L145,'T1'!M145,'T2'!K145,T3_R1!L145,T3_R2!L145)","v":22828},{"$f":"MAX('MDA1'!L145,'MDA2'!L145,'MDA3'!J145,'MDA3'!M145,'T1'!N145,'T2'!L145,T3_R1!M145,T3_R2!M145)","v":71360.271999999997},94188.271999999997,{"$f":"MAX('MDA2'!J145,T145)","v":0},{"$f":"MAX('MDA1'!K145,'MDA2'!K145,'MDA3'!I145,'MDA3'!L145,V145,AD145)","v":22828},{"$f":"MAX('MDA1'!L145,'MDA2'!L145,'MDA3'!J145,'MDA3'!M145,AF145)","v":71360.271999999997},94188.271999999997,64.306379801252262]
[{"$f":"IF(COUNTRY_INFO!A146=0,\" \",COUNTRY_INFO!A146)","v":"Tanzania"},{"$f":"IF(COUNTRY_INFO!B146=0,\" \",COUNTRY_INFO!B146)","v":"Ruvuma"},{"$f":"IF(COUNTRY_INFO!C146=0,\" \",COUNTRY_INFO!C146)","v":"Namtumbo District Council"},{"$f":"COUNTRY_INFO!L146","v":"Stopped"},null,null,{"$f":"MAX('MDA1'!M146,'MDA2'!M146)","v":0},{"$f":"IF(AND(COUNTRY_INFO!H146>0,COUNTRY_INFO!H146<4),IF(D146>MAX('MDA1'!M146,'MDA2'!M146),MAX('MDA1'!M146,'MDA2'!M146),D146),0)","v":0},{"$f":"IF(AND(COUNTRY_INFO!H146>0,COUNTRY_INFO!H146<4), IF(G146/D146*100<>0, IF(G146/D146*100>100,100,G146/D146*100), \"-\"),0)","v":0},{"$f":"COUNTRY_INFO!M146","v":228417},null,null,{"$f":"MAX('MDA1'!M146,MAX('MDA3'!I146,'MDA3'!L146)+MAX('MDA3'!J146,'MDA3'!M146))","v":163663},{"$f":"IF(AND(COUNTRY_INFO!I146>0,COUNTRY_INFO!I146<4),IF(J146>MAX('MDA1'!M146,MAX('MDA3'!I146,'MDA3'!L146)+MAX('MDA3'!J146,'MDA3'!M146)),MAX('MDA1'!M146,MAX('MDA3'!I146,'MDA3'!L146)+MAX('MDA3'!J146,'MDA3'!M146)),J146),0)","v":163663},{"$f":"IF(AND(COUNTRY_INFO!I146>0,COUNTRY_INFO!I146<4), IF(M146/J146*100<>0, IF(M146/J146*100>100,100,M146/J146*100), \"-\"),0)","v":71.650971687746534},{"$f":"COUNTRY_INFO!N146","v":74696},null,null,{"$f":"SUM(MAX('MDA2'!J146, 'T1'!L146, MAX(T3_R1!K146, T3_R2!K146)), MAX('MDA1'!K146, 'MDA2'!K146, 'T1'!M146, MAX(T3_R1!L146, T3_R2!L146)), MAX('MDA1'!L146, 'MDA2'!L146, 'T1'!N146, MAX(T3_R1!M146, T3_R2!M146)))","v":55005},{"$f":"IF(AND(COUNTRY_INFO!J146>1,COUNTRY_INFO!J146<4),IF(COUNTRY_INFO!E146>MAX('MDA2'!J146,'T1'!L146,MAX(T3_R1!K146,T3_R2!K146)),MAX('MDA2'!J146,'T1'!L146,MAX(T3_R1!K146,T3_R2!K146)),COUNTRY_INFO!E146),0)","v":0},{"$f":"IF(AND(COUNTRY_INFO!J146>1,COUNTRY_INFO!J146<4), IF(T146/COUNTRY_INFO!E146*100<>0, IF(T146/COUNTRY_INFO!E146*100>100,100,T146/COUNTRY_INFO!E146*100), \"-\"),0)","v":"-"},{"$f":"IF(AND(COUNTRY_INFO!J146>1,COUNTRY_INFO!J146<4),IF(COUNTRY_INFO!F146>MAX('MDA1'!K146,'MDA2'!K146,'T1'!M146,MAX(T3_R1!L146,T3_R2!L146)),MAX('MDA1'!K146,'MDA2'!K146,'T1'!M146,MAX(T3_R1!L146,T3_R2!L146)),COUNTRY_INFO!F146),0)","v":55005},{"$f":"IF(AND(COUNTRY_INFO!J146>1,COUNTRY_INFO!J146<4), IF(V146/COUNTRY_INFO!F146*100<>0, IF(V146/COUNTRY_INFO!F146*100>100,100,V146/COUNTRY_INFO!F146*100), \"-\"),0)","v":91.170523105482999},55005,{"$f":"IF(AND(COUNTRY_INFO!J146>1,COUNTRY_INFO!J146<4), IF(S146/P146*100<>0, IF(X146/P146*100>100,100,X146/P146*100), \"-\"),0)","v":73.638481310913576},{"$f":"COUNTRY_INFO!O146","v":60910.2},null,null,{"$f":"MAX('T1'!L146,'T2'!J146)+MAX('T1'!M146,'T2'!K146)+MAX('T1'!N146,'T2'!L146)","v":55005},{"$f":"IF(COUNTRY_INFO!K146=1,IF(COUNTRY_INFO!F146*0.33>MAX('T1'!M146,'T2'!K146),MAX('T1'!M146,'T2'!K146),COUNTRY_INFO!F146*0.33),IF(COUNTRY_INFO!K146=2,IF(COUNTRY_INFO!F146*0.5>MAX('T1'!M146,'T2'!K146),MAX('T1'!M146,'T2'!K146),COUNTRY_INFO!F146*0.5),IF(COUNTRY_INFO!K146=3,IF(COUNTRY_INFO!F146>MAX('T1'!M146,'T2'!K146),MAX('T1'!M146,'T2'!K146),COUNTRY_INFO!F146),0)))","v":30166},{"$f":"IF(AND(COUNTRY_INFO!K146>0,COUNTRY_INFO!K146<4),IF(Z146>0,IF(COUNTRY_INFO!K146=1, AD146/(COUNTRY_INFO!F146*0.33)*100, IF(COUNTRY_INFO!K146=2, AD146/(COUNTRY_INFO!F146*0.5)*100, IF(COUNTRY_INFO!K146=3, AD146/COUNTRY_INFO!F146*100))),\"-\"),0)","v":100},{"$f":"IF(COUNTRY_INFO!K146=2,IF(COUNTRY_INFO!G146*0.2>MAX('T1'!N146,'T2'!L146),MAX('T1'!N146,'T2'!L146),COUNTRY_INFO!G146*0.2),IF(COUNTRY_INFO!K146=3,IF(COUNTRY_INFO!G146>MAX('T1'!N146,'T2'!L146),MAX('T1'!N146,'T2'!L146),COUNTRY_INFO!G146),0))","v":0},{"$f":"IF(AND(COUNTRY_INFO!K146>0,COUNTRY_INFO!K146<4),IF(Z146>0,IF(COUNTRY_INFO!K146=1, 0, IF(COUNTRY_INFO!K146=2, AF146/(COUNTRY_INFO!G146*0.2)*100, IF(COUNTRY_INFO!K146=3, AF146/COUNTRY_INFO!G146*100))),\"-\"),0)","v":0},30166,{"$f":"IF(AND(COUNTRY_INFO!K146>0,COUNTRY_INFO!K146<4), IF(AC146/Z146*100<>0, IF(AH146/Z146*100>100,100,AH146/Z146*100), \"-\"),0)","v":49.525366851528972},null,{"$f":"IF(AND(D146<>0, D146<>\"Unknown\",D146<>\"Stopped\",D146<>\"Not required\"),D146/COUNTRY_INFO!D146, 0)","v":0},{"$f":"IF(AND(J146<>0,J146<>\"Unknown\",J146<>\"Stopped\",J146<>\"Not required\"),J146/COUNTRY_INFO!D146, 0)","v":1},{"$f":"IF(AND(P146<>0,P146<>\"Unknown\",P146<>\"Not required\"),P146/(COUNTRY_INFO!E146+COUNTRY_INFO!F146), 0)","v":1},{"$f":"IF(AND(Z146<>0,Z146<>\"Unknown\",Z146<>\"Not required\"),IF(COUNTRY_INFO!K146=1,1,IF(COUNTRY_INFO!K146=2,0.5*COUNTRY_INFO!F146/(0.5*COUNTRY_INFO!F146+0.2*COUNTRY_INFO!G146),IF(COUNTRY_INFO!K146=3,COUNTRY_INFO!F146/(COUNTRY_INFO!F146+COUNTRY_INFO!G146)))),0)","v":0.49525366851528974},{"$f":"IF(AND(Z146<>0,Z146<>\"Unknown\",Z146<>\"Not required\"),IF(COUNTRY_INFO!K146=1,0,IF(COUNTRY_INFO!K146=2,0.2*COUNTRY_INFO!G146/(0.5*COUNTRY_INFO!F146+0.2*COUNTRY_INFO!G146),IF(COUNTRY_INFO!K146=3,COUNTRY_INFO!G146/(COUNTRY_INFO!F146+COUNTRY_INFO!G146)))),0)","v":0.50474633148471026},{"$f":"MAX(COUNTRY_INFO!D146*AK146*PROFILE!$G$7,COUNTRY_INFO!D146*AL146*PROFILE!$G$7)","v":0},{"$f":"MAX(COUNTRY_INFO!D146*AK146*PROFILE!$G$8,COUNTRY_INFO!D146*AL146*PROFILE!$G$8,COUNTRY_INFO!D146*AM146*PROFILE!$G$8)","v":25361.281515314015},{"$f":"MAX(COUNTRY_INFO!D146*AK146*PROFILE!$G$9,COUNTRY_INFO!D146*AL146*PROFILE!$G$9,COUNTRY_INFO!D146*AM146*PROFILE!$G$9,IF(AND(DISTRICT!Z146<>\"Unknown\",Z146<>\"Not required\"),COUNTRY_INFO!O146*DISTRICT!AN146,0))","v":49743.510234001747},{"$f":"MAX(COUNTRY_INFO!D146*AK146*PROFILE!$G$10,COUNTRY_INFO!D146*AL146*PROFILE!$G$10,IF(AND(DISTRICT!Z146<>\"Unknown\",Z146<>\"Not required\"),COUNTRY_INFO!O146*DISTRICT!AO146,0))","v":153312.21706038923},228417.00880970497,"Y",{"$f":"MAX('MDA2'!J146,'T1'!L146,'T2'!J146,T3_R1!K146,T3_R2!K146)","v":0},{"$f":"MAX('MDA1'!K146,'MDA2'!K146,'MDA3'!I146,'MDA3'!L146,'T1'!M146,'T2'!K146,T3_R1!L146,T3_R2!L146)","v":55005},{"$f":"MAX('MDA1'!L146,'MDA2'!L146,'MDA3'!J146,'MDA3'!M146,'T1'!N146,'T2'!L146,T3_R1!M146,T3_R2!M146)","v":132403.367},187408.367,{"$f":"MAX('MDA2'!J146,T146)","v":0},{"$f":"MAX('MDA1'!K146,'MDA2'!K146,'MDA3'!I146,'MDA3'!L146,V146,AD146)","v":55005},{"$f":"MAX('MDA1'!L146,'MDA2'!L146,'MDA3'!J146,'MDA3'!M146,AF146)","v":132403.367},187408.367,82.046590127677661]
[{"$f":"IF(COUNTRY_INFO!A147=0,\" \",COUNTRY_INFO!A147)","v":"Tanzania"},{"$f":"IF(COUNTRY_INFO!B147=0,\" \",COUNTRY_INFO!B147)","v":"Ruvuma"},{"$f":"IF(COUNTRY_INFO!C147=0,\" \",COUNTRY_INFO!C147)","v":"Nyasa District Council"},{"$f":"COUNTRY_INFO!L147","v":"Stopped"},null,null,{"$f":"MAX('MDA1'!M147,'MDA2'!M147)","v":0},{"$f":"IF(AND(COUNTRY_INFO!H147>0,COUNTRY_INFO!H147<4),IF(D147>MAX('MDA1'!M147,'MDA2'!M147),MAX('MDA1'!M147,'MDA2'!M147),D147),0)","v":0},{"$f":"IF(AND(COUNTRY_INFO!H147>0,COUNTRY_INFO!H147<4), IF(G147/D147*100<>0, IF(G147/D147*100>100,100,G147/D147*100), \"-\"),0)","v":0},{"$f":"COUNTRY_INFO!M147","v":165571},null,null,{"$f":"MAX('MDA1'!M147,MAX('MDA3'!I147,'MDA3'!L147)+MAX('MDA3'!J147,'MDA3'!M147))","v":143894},{"$f":"IF(AND(COUNTRY_INFO!I147>0,COUNTRY_INFO!I147<4),IF(J147>MAX('MDA1'!M147,MAX('MDA3'!I147,'MDA3'!L147)+MAX('MDA3'!J147,'MDA3'!M147)),MAX('MDA1'!M147,MAX('MDA3'!I147,'MDA3'!L147)+MAX('MDA3'!J147,'MDA3'!M147)),J147),0)","v":143894},{"$f":"IF(AND(COUNTRY_INFO!I147>0,COUNTRY_INFO!I147<4), IF(M147/J147*100<>0, IF(M147/J147*100>100,100,M147/J147*100), \"-\"),0)","v":86.907731426397135},{"$f":"COUNTRY_INFO!N147","v":54108},null,null,{"$f":"SUM(MAX('MDA2'!J147, 'T1'!L147, MAX(T3_R1!K147, T3_R2!K147)), MAX('MDA1'!K147, 'MDA2'!K147, 'T1'!M147, MAX(T3_R1!L147, T3_R2!L147)), MAX('MDA1'!L147, 'MDA2'!L147, 'T1'!N147, MAX(T3_R1!M147, T3_R2!M147)))","v":37305},{"$f":"IF(AND(COUNTRY_INFO!J147>1,COUNTRY_INFO!J147<4),IF(COUNTRY_INFO!E147>MAX('MDA2'!J147,'T1'!L147,MAX(T3_R1!K147,T3_R2!K147)),MAX('MDA2'!J147,'T1'!L147,MAX(T3_R1!K147,T3_R2!K147)),COUNTRY_INFO!E147),0)","v":0},{"$f":"IF(AND(COUNTRY_INFO!J147>1,COUNTRY_INFO!J147<4), IF(T147/COUNTRY_INFO!E147*100<>0, IF(T147/COUNTRY_INFO!E147*100>100,100,T147/COUNTRY_INFO!E147*100), \"-\"),0)","v":"-"},{"$f":"IF(AND(COUNTRY_INFO!J147>1,COUNTRY_INFO!J147<4),IF(COUNTRY_INFO!F147>MAX('MDA1'!K147,'MDA2'!K147,'T1'!M147,MAX(T3_R1!L147,T3_R2!L147)),MAX('MDA1'!K147,'MDA2'!K147,'T1'!M147,MAX(T3_R1!L147,T3_R2!L147)),COUNTRY_INFO!F147),0)","v":37305},{"$f":"IF(AND(COUNTRY_INFO!J147>1,COUNTRY_INFO!J147<4), IF(V147/COUNTRY_INFO!F147*100<>0, IF(V147/COUNTRY_INFO!F147*100>100,100,V147/COUNTRY_INFO!F147*100), \"-\"),0)","v":85.414997137950778},37305,{"$f":"IF(AND(COUNTRY_INFO!J147>1,COUNTRY_INFO!J147<4), IF(S147/P147*100<>0, IF(X147/P147*100>100,100,X147/P147*100), \"-\"),0)","v":68.945442448436452},{"$f":"COUNTRY_INFO!O147","v":44130.100000000006},null,null,{"$f":"MAX('T1'!L147,'T2'!J147)+MAX('T1'!M147,'T2'!K147)+MAX('T1'!N147,'T2'!L147)","v":37305},{"$f":"IF(COUNTRY_INFO!K147=1,IF(COUNTRY_INFO!F147*0.33>MAX('T1'!M147,'T2'!K147),MAX('T1'!M147,'T2'!K147),COUNTRY_INFO!F147*0.33),IF(COUNTRY_INFO!K147=2,IF(COUNTRY_INFO!F147*0.5>MAX('T1'!M147,'T2'!K147),MAX('T1'!M147,'T2'!K147),COUNTRY_INFO!F147*0.5),IF(COUNTRY_INFO!K147=3,IF(COUNTRY_INFO!F147>MAX('T1'!M147,'T2'!K147),MAX('T1'!M147,'T2'!K147),COUNTRY_INFO!F147),0)))","v":21837.5},{"$f":"IF(AND(COUNTRY_INFO!K147>0,COUNTRY_INFO!K147<4),IF(Z147>0,IF(COUNTRY_INFO!K147=1, AD147/(COUNTRY_INFO!F147*0.33)*100, IF(COUNTRY_INFO!K147=2, AD147/(COUNTRY_INFO!F147*0.5)*100, IF(COUNTRY_INFO!K147=3, AD147/COUNTRY_INFO!F147*100))),\"-\"),0)","v":100},{"$f":"IF(COUNTRY_INFO!K147=2,IF(COUNTRY_INFO!G147*0.2>MAX('T1'!N147,'T2'!L147),MAX('T1'!N147,'T2'!L147),COUNTRY_INFO!G147*0.2),IF(COUNTRY_INFO!K147=3,IF(COUNTRY_INFO!G147>MAX('T1'!N147,'T2'!L147),MAX('T1'!N147,'T2'!L147),COUNTRY_INFO!G147),0))","v":0},{"$f":"IF(AND(COUNTRY_INFO!K147>0,COUNTRY_INFO!K147<4),IF(Z147>0,IF(COUNTRY_INFO!K147=1, 0, IF(COUNTRY_INFO!K147=2, AF147/(COUNTRY_INFO!G147*0.2)*100, IF(COUNTRY_INFO!K147=3, AF147/COUNTRY_INFO!G147*100))),\"-\"),0)","v":0},21837.5,{"$f":"IF(AND(COUNTRY_INFO!K147>0,COUNTRY_INFO!K147<4), IF(AC147/Z147*100<>0, IF(AH147/Z147*100>100,100,AH147/Z147*100), \"-\"),0)","v":49.484365546418424},null,{"$f":"IF(AND(D147<>0, D147<>\"Unknown\",D147<>\"Stopped\",D147<>\"Not required\"),D147/COUNTRY_INFO!D147, 0)","v":0},{"$f":"IF(AND(J147<>0,J147<>\"Unknown\",J147<>\"Stopped\",J147<>\"Not required\"),J147/COUNTRY_INFO!D147, 0)","v":1},{"$f":"IF(AND(P147<>0,P147<>\"Unknown\",P147<>\"Not required\"),P147/(COUNTRY_INFO!E147+COUNTRY_INFO!F147), 0)","v":1},{"$f":"IF(AND(Z147<>0,Z147<>\"Unknown\",Z147<>\"Not required\"),IF(COUNTRY_INFO!K147=1,1,IF(COUNTRY_INFO!K147=2,0.5*COUNTRY_INFO!F147/(0.5*COUNTRY_INFO!F147+0.2*COUNTRY_INFO!G147),IF(COUNTRY_INFO!K147=3,COUNTRY_INFO!F147/(COUNTRY_INFO!F147+COUNTRY_INFO!G147)))),0)","v":0.49484365546418424},{"$f":"IF(AND(Z147<>0,Z147<>\"Unknown\",Z147<>\"Not required\"),IF(COUNTRY_INFO!K147=1,0,IF(COUNTRY_INFO!K147=2,0.2*COUNTRY_INFO!G147/(0.5*COUNTRY_INFO!F147+0.2*COUNTRY_INFO!G147),IF(COUNTRY_INFO!K147=3,COUNTRY_INFO!G147/(COUNTRY_INFO!F147+COUNTRY_INFO!G147)))),0)","v":0.5051563445358157},{"$f":"MAX(COUNTRY_INFO!D147*AK147*PROFILE!$G$7,COUNTRY_INFO!D147*AL147*PROFILE!$G$7)","v":0},{"$f":"MAX(COUNTRY_INFO!D147*AK147*PROFILE!$G$8,COUNTRY_INFO!D147*AL147*PROFILE!$G$8,COUNTRY_INFO!D147*AM147*PROFILE!$G$8)","v":18383.451064378118},{"$f":"MAX(COUNTRY_INFO!D147*AK147*PROFILE!$G$9,COUNTRY_INFO!D147*AL147*PROFILE!$G$9,COUNTRY_INFO!D147*AM147*PROFILE!$G$9,IF(AND(DISTRICT!Z147<>\"Unknown\",Z147<>\"Not required\"),COUNTRY_INFO!O147*DISTRICT!AN147,0))","v":36057.223118042457},{"$f":"MAX(COUNTRY_INFO!D147*AK147*PROFILE!$G$10,COUNTRY_INFO!D147*AL147*PROFILE!$G$10,IF(AND(DISTRICT!Z147<>\"Unknown\",Z147<>\"Not required\"),COUNTRY_INFO!O147*DISTRICT!AO147,0))","v":111130.33220340738},165571.00638582796,"Y",{"$f":"MAX('MDA2'!J147,'T1'!L147,'T2'!J147,T3_R1!K147,T3_R2!K147)","v":0},{"$f":"MAX('MDA1'!K147,'MDA2'!K147,'MDA3'!I147,'MDA3'!L147,'T1'!M147,'T2'!K147,T3_R1!L147,T3_R2!L147)","v":37305},{"$f":"MAX('MDA1'!L147,'MDA2'!L147,'MDA3'!J147,'MDA3'!M147,'T1'!N147,'T2'!L147,T3_R1!M147,T3_R2!M147)","v":116410.246},153715.24599999998,{"$f":"MAX('MDA2'!J147,T147)","v":0},{"$f":"MAX('MDA1'!K147,'MDA2'!K147,'MDA3'!I147,'MDA3'!L147,V147,AD147)","v":37305},{"$f":"MAX('MDA1'!L147,'MDA2'!L147,'MDA3'!J147,'MDA3'!M147,AF147)","v":116410.246},153715.24599999998,92.839470723394257]
[{"$f":"IF(COUNTRY_INFO!A148=0,\" \",COUNTRY_INFO!A148)","v":"Tanzania"},{"$f":"IF(COUNTRY_INFO!B148=0,\" \",COUNTRY_INFO!B148)","v":"Ruvuma"},{"$f":"IF(COUNTRY_INFO!C148=0,\" \",COUNTRY_INFO!C148)","v":"Songea District Council"},{"$f":"COUNTRY_INFO!L148","v":"Stopped"},null,null,{"$f":"MAX('MDA1'!M148,'MDA2'!M148)","v":0},{"$f":"IF(AND(COUNTRY_INFO!H148>0,COUNTRY_INFO!H148<4),IF(D148>MAX('MDA1'!M148,'MDA2'!M148),MAX('MDA1'!M148,'MDA2'!M148),D148),0)","v":0},{"$f":"IF(AND(COUNTRY_INFO!H148>0,COUNTRY_INFO!H148<4), IF(G148/D148*100<>0, IF(G148/D148*100>100,100,G148/D148*100), \"-\"),0)","v":0},{"$f":"COUNTRY_INFO!M148","v":142786},null,null,{"$f":"MAX('MDA1'!M148,MAX('MDA3'!I148,'MDA3'!L148)+MAX('MDA3'!J148,'MDA3'!M148))","v":113716},{"$f":"IF(AND(COUNTRY_INFO!I148>0,COUNTRY_INFO!I148<4),IF(J148>MAX('MDA1'!M148,MAX('MDA3'!I148,'MDA3'!L148)+MAX('MDA3'!J148,'MDA3'!M148)),MAX('MDA1'!M148,MAX('MDA3'!I148,'MDA3'!L148)+MAX('MDA3'!J148,'MDA3'!M148)),J148),0)","v":113716},{"$f":"IF(AND(COUNTRY_INFO!I148>0,COUNTRY_INFO!I148<4), IF(M148/J148*100<>0, IF(M148/J148*100>100,100,M148/J148*100), \"-\"),0)","v":79.640861148852125},{"$f":"COUNTRY_INFO!N148","v":45627},null,null,{"$f":"SUM(MAX('MDA2'!J148, 'T1'!L148, MAX(T3_R1!K148, T3_R2!K148)), MAX('MDA1'!K148, 'MDA2'!K148, 'T1'!M148, MAX(T3_R1!L148, T3_R2!L148)), MAX('MDA1'!L148, 'MDA2'!L148, 'T1'!N148, MAX(T3_R1!M148, T3_R2!M148)))","v":27649},{"$f":"IF(AND(COUNTRY_INFO!J148>1,COUNTRY_INFO!J148<4),IF(COUNTRY_INFO!E148>MAX('MDA2'!J148,'T1'!L148,MAX(T3_R1!K148,T3_R2!K148)),MAX('MDA2'!J148,'T1'!L148,MAX(T3_R1!K148,T3_R2!K148)),COUNTRY_INFO!E148),0)","v":0},{"$f":"IF(AND(COUNTRY_INFO!J148>1,COUNTRY_INFO!J148<4), IF(T148/COUNTRY_INFO!E148*100<>0, IF(T148/COUNTRY_INFO!E148*100>100,100,T148/COUNTRY_INFO!E148*100), \"-\"),0)","v":"-"},{"$f":"IF(AND(COUNTRY_INFO!J148>1,COUNTRY_INFO!J148<4),IF(COUNTRY_INFO!F148>MAX('MDA1'!K148,'MDA2'!K148,'T1'!M148,MAX(T3_R1!L148,T3_R2!L148)),MAX('MDA1'!K148,'MDA2'!K148,'T1'!M148,MAX(T3_R1!L148,T3_R2!L148)),COUNTRY_INFO!F148),0)","v":27649},{"$f":"IF(AND(COUNTRY_INFO!J148>1,COUNTRY_INFO!J148<4), IF(V148/COUNTRY_INFO!F148*100<>0, IF(V148/COUNTRY_INFO!F148*100>100,100,V148/COUNTRY_INFO!F148*100), \"-\"),0)","v":100},27649,{"$f":"IF(AND(COUNTRY_INFO!J148>1,COUNTRY_INFO!J148<4), IF(S148/P148*100<>0, IF(X148/P148*100>100,100,X148/P148*100), \"-\"),0)","v":60.597891599272359},{"$f":"COUNTRY_INFO!O148","v":33256.300000000003},null,null,{"$f":"MAX('T1'!L148,'T2'!J148)+MAX('T1'!M148,'T2'!K148)+MAX('T1'!N148,'T2'!L148)","v":27649},{"$f":"IF(COUNTRY_INFO!K148=1,IF(COUNTRY_INFO!F148*0.33>MAX('T1'!M148,'T2'!K148),MAX('T1'!M148,'T2'!K148),COUNTRY_INFO!F148*0.33),IF(COUNTRY_INFO!K148=2,IF(COUNTRY_INFO!F148*0.5>MAX('T1'!M148,'T2'!K148),MAX('T1'!M148,'T2'!K148),COUNTRY_INFO!F148*0.5),IF(COUNTRY_INFO!K148=3,IF(COUNTRY_INFO!F148>MAX('T1'!M148,'T2'!K148),MAX('T1'!M148,'T2'!K148),COUNTRY_INFO!F148),0)))","v":13824.5},{"$f":"IF(AND(COUNTRY_INFO!K148>0,COUNTRY_INFO!K148<4),IF(Z148>0,IF(COUNTRY_INFO!K148=1, AD148/(COUNTRY_INFO!F148*0.33)*100, IF(COUNTRY_INFO!K148=2, AD148/(COUNTRY_INFO!F148*0.5)*100, IF(COUNTRY_INFO!K148=3, AD148/COUNTRY_INFO!F148*100))),\"-\"),0)","v":100},{"$f":"IF(COUNTRY_INFO!K148=2,IF(COUNTRY_INFO!G148*0.2>MAX('T1'!N148,'T2'!L148),MAX('T1'!N148,'T2'!L148),COUNTRY_INFO!G148*0.2),IF(COUNTRY_INFO!K148=3,IF(COUNTRY_INFO!G148>MAX('T1'!N148,'T2'!L148),MAX('T1'!N148,'T2'!L148),COUNTRY_INFO!G148),0))","v":0},{"$f":"IF(AND(COUNTRY_INFO!K148>0,COUNTRY_INFO!K148<4),IF(Z148>0,IF(COUNTRY_INFO!K148=1, 0, IF(COUNTRY_INFO!K148=2, AF148/(COUNTRY_INFO!G148*0.2)*100, IF(COUNTRY_INFO!K148=3, AF148/COUNTRY_INFO!G148*100))),\"-\"),0)","v":0},13824.5,{"$f":"IF(AND(COUNTRY_INFO!K148>0,COUNTRY_INFO!K148<4), IF(AC148/Z148*100<>0, IF(AH148/Z148*100>100,100,AH148/Z148*100), \"-\"),0)","v":41.569567269960878},null,{"$f":"IF(AND(D148<>0, D148<>\"Unknown\",D148<>\"Stopped\",D148<>\"Not required\"),D148/COUNTRY_INFO!D148, 0)","v":0},{"$f":"IF(AND(J148<>0,J148<>\"Unknown\",J148<>\"Stopped\",J148<>\"Not required\"),J148/COUNTRY_INFO!D148, 0)","v":1},{"$f":"IF(AND(P148<>0,P148<>\"Unknown\",P148<>\"Not required\"),P148/(COUNTRY_INFO!E148+COUNTRY_INFO!F148), 0)","v":1},{"$f":"IF(AND(Z148<>0,Z148<>\"Unknown\",Z148<>\"Not required\"),IF(COUNTRY_INFO!K148=1,1,IF(COUNTRY_INFO!K148=2,0.5*COUNTRY_INFO!F148/(0.5*COUNTRY_INFO!F148+0.2*COUNTRY_INFO!G148),IF(COUNTRY_INFO!K148=3,COUNTRY_INFO!F148/(COUNTRY_INFO!F148+COUNTRY_INFO!G148)))),0)","v":0.41569567269960878},{"$f":"IF(AND(Z148<>0,Z148<>\"Unknown\",Z148<>\"Not required\"),IF(COUNTRY_INFO!K148=1,0,IF(COUNTRY_INFO!K148=2,0.2*COUNTRY_INFO!G148/(0.5*COUNTRY_INFO!F148+0.2*COUNTRY_INFO!G148),IF(COUNTRY_INFO!K148=3,COUNTRY_INFO!G148/(COUNTRY_INFO!F148+COUNTRY_INFO!G148)))),0)","v":0.58430432730039117},{"$f":"MAX(COUNTRY_INFO!D148*AK148*PROFILE!$G$7,COUNTRY_INFO!D148*AL148*PROFILE!$G$7)","v":0},{"$f":"MAX(COUNTRY_INFO!D148*AK148*PROFILE!$G$8,COUNTRY_INFO!D148*AL148*PROFILE!$G$8,COUNTRY_INFO!D148*AM148*PROFILE!$G$8)","v":15853.618349096725},{"$f":"MAX(COUNTRY_INFO!D148*AK148*PROFILE!$G$9,COUNTRY_INFO!D148*AL148*PROFILE!$G$9,COUNTRY_INFO!D148*AM148*PROFILE!$G$9,IF(AND(DISTRICT!Z148<>\"Unknown\",Z148<>\"Not required\"),COUNTRY_INFO!O148*DISTRICT!AN148,0))","v":31095.219936660469},{"$f":"MAX(COUNTRY_INFO!D148*AK148*PROFILE!$G$10,COUNTRY_INFO!D148*AL148*PROFILE!$G$10,IF(AND(DISTRICT!Z148<>\"Unknown\",Z148<>\"Not required\"),COUNTRY_INFO!O148*DISTRICT!AO148,0))","v":95837.167221287091},142786.00550704429,"Y",{"$f":"MAX('MDA2'!J148,'T1'!L148,'T2'!J148,T3_R1!K148,T3_R2!K148)","v":0},{"$f":"MAX('MDA1'!K148,'MDA2'!K148,'MDA3'!I148,'MDA3'!L148,'T1'!M148,'T2'!K148,T3_R1!L148,T3_R2!L148)","v":27649},{"$f":"MAX('MDA1'!L148,'MDA2'!L148,'MDA3'!J148,'MDA3'!M148,'T1'!N148,'T2'!L148,T3_R1!M148,T3_R2!M148)","v":91996.244000000006},119645.24400000001,{"$f":"MAX('MDA2'!J148,T148)","v":0},{"$f":"MAX('MDA1'!K148,'MDA2'!K148,'MDA3'!I148,'MDA3'!L148,V148,AD148)","v":27649},{"$f":"MAX('MDA1'!L148,'MDA2'!L148,'MDA3'!J148,'MDA3'!M148,AF148)","v":91996.244000000006},119645.24400000001,83.7933966813697]
[{"$f":"IF(COUNTRY_INFO!A149=0,\" \",COUNTRY_INFO!A149)","v":"Tanzania"},{"$f":"IF(COUNTRY_INFO!B149=0,\" \",COUNTRY_INFO!B149)","v":"Ruvuma"},{"$f":"IF(COUNTRY_INFO!C149=0,\" \",COUNTRY_INFO!C149)","v":"Songea Municipal Council"},{"$f":"COUNTRY_INFO!L149","v":"Stopped"},null,null,{"$f":"MAX('MDA1'!M149,'MDA2'!M149)","v":0},{"$f":"IF(AND(COUNTRY_INFO!H149>0,COUNTRY_INFO!H149<4),IF(D149>MAX('MDA1'!M149,'MDA2'!M149),MAX('MDA1'!M149,'MDA2'!M149),D149),0)","v":0},{"$f":"IF(AND(COUNTRY_INFO!H149>0,COUNTRY_INFO!H149<4), IF(G149/D149*100<>0, IF(G149/D149*100>100,100,G149/D149*100), \"-\"),0)","v":0},{"$f":"COUNTRY_INFO!M149","v":230309},null,null,{"$f":"MAX('MDA1'!M149,MAX('MDA3'!I149,'MDA3'!L149)+MAX('MDA3'!J149,'MDA3'!M149))","v":149084},{"$f":"IF(AND(COUNTRY_INFO!I149>0,COUNTRY_INFO!I149<4),IF(J149>MAX('MDA1'!M149,MAX('MDA3'!I149,'MDA3'!L149)+MAX('MDA3'!J149,'MDA3'!M149)),MAX('MDA1'!M149,MAX('MDA3'!I149,'MDA3'!L149)+MAX('MDA3'!J149,'MDA3'!M149)),J149),0)","v":149084},{"$f":"IF(AND(COUNTRY_INFO!I149>0,COUNTRY_INFO!I149<4), IF(M149/J149*100<>0, IF(M149/J149*100>100,100,M149/J149*100), \"-\"),0)","v":64.732164179428509},{"$f":"COUNTRY_INFO!N149","v":71251},null,null,{"$f":"SUM(MAX('MDA2'!J149, 'T1'!L149, MAX(T3_R1!K149, T3_R2!K149)), MAX('MDA1'!K149, 'MDA2'!K149, 'T1'!M149, MAX(T3_R1!L149, T3_R2!L149)), MAX('MDA1'!L149, 'MDA2'!L149, 'T1'!N149, MAX(T3_R1!M149, T3_R2!M149)))","v":43341},{"$f":"IF(AND(COUNTRY_INFO!J149>1,COUNTRY_INFO!J149<4),IF(COUNTRY_INFO!E149>MAX('MDA2'!J149,'T1'!L149,MAX(T3_R1!K149,T3_R2!K149)),MAX('MDA2'!J149,'T1'!L149,MAX(T3_R1!K149,T3_R2!K149)),COUNTRY_INFO!E149),0)","v":0},{"$f":"IF(AND(COUNTRY_INFO!J149>1,COUNTRY_INFO!J149<4), IF(T149/COUNTRY_INFO!E149*100<>0, IF(T149/COUNTRY_INFO!E149*100>100,100,T149/COUNTRY_INFO!E149*100), \"-\"),0)","v":"-"},{"$f":"IF(AND(COUNTRY_INFO!J149>1,COUNTRY_INFO!J149<4),IF(COUNTRY_INFO!F149>MAX('MDA1'!K149,'MDA2'!K149,'T1'!M149,MAX(T3_R1!L149,T3_R2!L149)),MAX('MDA1'!K149,'MDA2'!K149,'T1'!M149,MAX(T3_R1!L149,T3_R2!L149)),COUNTRY_INFO!F149),0)","v":43341},{"$f":"IF(AND(COUNTRY_INFO!J149>1,COUNTRY_INFO!J149<4), IF(V149/COUNTRY_INFO!F149*100<>0, IF(V149/COUNTRY_INFO!F149*100>100,100,V149/COUNTRY_INFO!F149*100), \"-\"),0)","v":80.197250337694058},43341,{"$f":"IF(AND(COUNTRY_INFO!J149>1,COUNTRY_INFO!J149<4), IF(S149/P149*100<>0, IF(X149/P149*100>100,100,X149/P149*100), \"-\"),0)","v":60.828619949193694},{"$f":"COUNTRY_INFO!O149","v":58833.100000000006},null,null,{"$f":"MAX('T1'!L149,'T2'!J149)+MAX('T1'!M149,'T2'!K149)+MAX('T1'!N149,'T2'!L149)","v":43341},{"$f":"IF(COUNTRY_INFO!K149=1,IF(COUNTRY_INFO!F149*0.33>MAX('T1'!M149,'T2'!K149),MAX('T1'!M149,'T2'!K149),COUNTRY_INFO!F149*0.33),IF(COUNTRY_INFO!K149=2,IF(COUNTRY_INFO!F149*0.5>MAX('T1'!M149,'T2'!K149),MAX('T1'!M149,'T2'!K149),COUNTRY_INFO!F149*0.5),IF(COUNTRY_INFO!K149=3,IF(COUNTRY_INFO!F149>MAX('T1'!M149,'T2'!K149),MAX('T1'!M149,'T2'!K149),COUNTRY_INFO!F149),0)))","v":27021.5},{"$f":"IF(AND(COUNTRY_INFO!K149>0,COUNTRY_INFO!K149<4),IF(Z149>0,IF(COUNTRY_INFO!K149=1, AD149/(COUNTRY_INFO!F149*0.33)*100, IF(COUNTRY_INFO!K149=2, AD149/(COUNTRY_INFO!F149*0.5)*100, IF(COUNTRY_INFO!K149=3, AD149/COUNTRY_INFO!F149*100))),\"-\"),0)","v":100},{"$f":"IF(COUNTRY_INFO!K149=2,IF(COUNTRY_INFO!G149*0.2>MAX('T1'!N149,'T2'!L149),MAX('T1'!N149,'T2'!L149),COUNTRY_INFO!G149*0.2),IF(COUNTRY_INFO!K149=3,IF(COUNTRY_INFO!G149>MAX('T1'!N149,'T2'!L149),MAX('T1'!N149,'T2'!L149),COUNTRY_INFO!G149),0))","v":0},{"$f":"IF(AND(COUNTRY_INFO!K149>0,COUNTRY_INFO!K149<4),IF(Z149>0,IF(COUNTRY_INFO!K149=1, 0, IF(COUNTRY_INFO!K149=2, AF149/(COUNTRY_INFO!G149*0.2)*100, IF(COUNTRY_INFO!K149=3, AF149/COUNTRY_INFO!G149*100))),\"-\"),0)","v":0},27021.5,{"$f":"IF(AND(COUNTRY_INFO!K149>0,COUNTRY_INFO!K149<4), IF(AC149/Z149*100<>0, IF(AH149/Z149*100>100,100,AH149/Z149*100), \"-\"),0)","v":45.929077339116922},null,{"$f":"IF(AND(D149<>0, D149<>\"Unknown\",D149<>\"Stopped\",D149<>\"Not required\"),D149/COUNTRY_INFO!D149, 0)","v":0},{"$f":"IF(AND(J149<>0,J149<>\"Unknown\",J149<>\"Stopped\",J149<>\"Not required\"),J149/COUNTRY_INFO!D149, 0)","v":1},{"$f":"IF(AND(P149<>0,P149<>\"Unknown\",P149<>\"Not required\"),P149/(COUNTRY_INFO!E149+COUNTRY_INFO!F149), 0)","v":1},{"$f":"IF(AND(Z149<>0,Z149<>\"Unknown\",Z149<>\"Not required\"),IF(COUNTRY_INFO!K149=1,1,IF(COUNTRY_INFO!K149=2,0.5*COUNTRY_INFO!F149/(0.5*COUNTRY_INFO!F149+0.2*COUNTRY_INFO!G149),IF(COUNTRY_INFO!K149=3,COUNTRY_INFO!F149/(COUNTRY_INFO!F149+COUNTRY_INFO!G149)))),0)","v":0.45929077339116919},{"$f":"IF(AND(Z149<>0,Z149<>\"Unknown\",Z149<>\"Not required\"),IF(COUNTRY_INFO!K149=1,0,IF(COUNTRY_INFO!K149=2,0.2*COUNTRY_INFO!G149/(0.5*COUNTRY_INFO!F149+0.2*COUNTRY_INFO!G149),IF(COUNTRY_INFO!K149=3,COUNTRY_INFO!G149/(COUNTRY_INFO!F149+COUNTRY_INFO!G149)))),0)","v":0.5407092266088307},{"$f":"MAX(COUNTRY_INFO!D149*AK149*PROFILE!$G$7,COUNTRY_INFO!D149*AL149*PROFILE!$G$7)","v":0},{"$f":"MAX(COUNTRY_INFO!D149*AK149*PROFILE!$G$8,COUNTRY_INFO!D149*AL149*PROFILE!$G$8,COUNTRY_INFO!D149*AM149*PROFILE!$G$8)","v":25571.351451557701},{"$f":"MAX(COUNTRY_INFO!D149*AK149*PROFILE!$G$9,COUNTRY_INFO!D149*AL149*PROFILE!$G$9,COUNTRY_INFO!D149*AM149*PROFILE!$G$9,IF(AND(DISTRICT!Z149<>\"Unknown\",Z149<>\"Not required\"),COUNTRY_INFO!O149*DISTRICT!AN149,0))","v":50155.540517924273},{"$f":"MAX(COUNTRY_INFO!D149*AK149*PROFILE!$G$10,COUNTRY_INFO!D149*AL149*PROFILE!$G$10,IF(AND(DISTRICT!Z149<>\"Unknown\",Z149<>\"Not required\"),COUNTRY_INFO!O149*DISTRICT!AO149,0))","v":154582.11691319465},230309.00888267663,"Y",{"$f":"MAX('MDA2'!J149,'T1'!L149,'T2'!J149,T3_R1!K149,T3_R2!K149)","v":0},{"$f":"MAX('MDA1'!K149,'MDA2'!K149,'MDA3'!I149,'MDA3'!L149,'T1'!M149,'T2'!K149,T3_R1!L149,T3_R2!L149)","v":43341},{"$f":"MAX('MDA1'!L149,'MDA2'!L149,'MDA3'!J149,'MDA3'!M149,'T1'!N149,'T2'!L149,T3_R1!M149,T3_R2!M149)","v":120608.95600000001},163949.95600000001,{"$f":"MAX('MDA2'!J149,T149)","v":0},{"$f":"MAX('MDA1'!K149,'MDA2'!K149,'MDA3'!I149,'MDA3'!L149,V149,AD149)","v":43341},{"$f":"MAX('MDA1'!L149,'MDA2'!L149,'MDA3'!J149,'MDA3'!M149,AF149)","v":120608.95600000001},163949.95600000001,71.186948697920428]
[{"$f":"IF(COUNTRY_INFO!A150=0,\" \",COUNTRY_INFO!A150)","v":"Tanzania"},{"$f":"IF(COUNTRY_INFO!B150=0,\" \",COUNTRY_INFO!B150)","v":"Ruvuma"},{"$f":"IF(COUNTRY_INFO!C150=0,\" \",COUNTRY_INFO!C150)","v":"Tunduru District Council"},{"$f":"COUNTRY_INFO!L150","v":"Stopped"},null,null,{"$f":"MAX('MDA1'!M150,'MDA2'!M150)","v":0},{"$f":"IF(AND(COUNTRY_INFO!H150>0,COUNTRY_INFO!H150<4),IF(D150>MAX('MDA1'!M150,'MDA2'!M150),MAX('MDA1'!M150,'MDA2'!M150),D150),0)","v":0},{"$f":"IF(AND(COUNTRY_INFO!H150>0,COUNTRY_INFO!H150<4), IF(G150/D150*100<>0, IF(G150/D150*100>100,100,G150/D150*100), \"-\"),0)","v":0},{"$f":"COUNTRY_INFO!M150","v":349982},null,null,{"$f":"MAX('MDA1'!M150,MAX('MDA3'!I150,'MDA3'!L150)+MAX('MDA3'!J150,'MDA3'!M150))","v":295633},{"$f":"IF(AND(COUNTRY_INFO!I150>0,COUNTRY_INFO!I150<4),IF(J150>MAX('MDA1'!M150,MAX('MDA3'!I150,'MDA3'!L150)+MAX('MDA3'!J150,'MDA3'!M150)),MAX('MDA1'!M150,MAX('MDA3'!I150,'MDA3'!L150)+MAX('MDA3'!J150,'MDA3'!M150)),J150),0)","v":295633},{"$f":"IF(AND(COUNTRY_INFO!I150>0,COUNTRY_INFO!I150<4), IF(M150/J150*100<>0, IF(M150/J150*100>100,100,M150/J150*100), \"-\"),0)","v":84.470915647090422},{"$f":"COUNTRY_INFO!N150","v":122890},null,null,{"$f":"SUM(MAX('MDA2'!J150, 'T1'!L150, MAX(T3_R1!K150, T3_R2!K150)), MAX('MDA1'!K150, 'MDA2'!K150, 'T1'!M150, MAX(T3_R1!L150, T3_R2!L150)), MAX('MDA1'!L150, 'MDA2'!L150, 'T1'!N150, MAX(T3_R1!M150, T3_R2!M150)))","v":65815},{"$f":"IF(AND(COUNTRY_INFO!J150>1,COUNTRY_INFO!J150<4),IF(COUNTRY_INFO!E150>MAX('MDA2'!J150,'T1'!L150,MAX(T3_R1!K150,T3_R2!K150)),MAX('MDA2'!J150,'T1'!L150,MAX(T3_R1!K150,T3_R2!K150)),COUNTRY_INFO!E150),0)","v":0},{"$f":"IF(AND(COUNTRY_INFO!J150>1,COUNTRY_INFO!J150<4), IF(T150/COUNTRY_INFO!E150*100<>0, IF(T150/COUNTRY_INFO!E150*100>100,100,T150/COUNTRY_INFO!E150*100), \"-\"),0)","v":"-"},{"$f":"IF(AND(COUNTRY_INFO!J150>1,COUNTRY_INFO!J150<4),IF(COUNTRY_INFO!F150>MAX('MDA1'!K150,'MDA2'!K150,'T1'!M150,MAX(T3_R1!L150,T3_R2!L150)),MAX('MDA1'!K150,'MDA2'!K150,'T1'!M150,MAX(T3_R1!L150,T3_R2!L150)),COUNTRY_INFO!F150),0)","v":65815},{"$f":"IF(AND(COUNTRY_INFO!J150>1,COUNTRY_INFO!J150<4), IF(V150/COUNTRY_INFO!F150*100<>0, IF(V150/COUNTRY_INFO!F150*100>100,100,V150/COUNTRY_INFO!F150*100), \"-\"),0)","v":97.922959039442944},65815,{"$f":"IF(AND(COUNTRY_INFO!J150>1,COUNTRY_INFO!J150<4), IF(S150/P150*100<>0, IF(X150/P150*100>100,100,X150/P150*100), \"-\"),0)","v":53.55602571405322},{"$f":"COUNTRY_INFO!O150","v":294303},null,null,{"$f":"MAX('T1'!L150,'T2'!J150)+MAX('T1'!M150,'T2'!K150)+MAX('T1'!N150,'T2'!L150)","v":65815},{"$f":"IF(COUNTRY_INFO!K150=1,IF(COUNTRY_INFO!F150*0.33>MAX('T1'!M150,'T2'!K150),MAX('T1'!M150,'T2'!K150),COUNTRY_INFO!F150*0.33),IF(COUNTRY_INFO!K150=2,IF(COUNTRY_INFO!F150*0.5>MAX('T1'!M150,'T2'!K150),MAX('T1'!M150,'T2'!K150),COUNTRY_INFO!F150*0.5),IF(COUNTRY_INFO!K150=3,IF(COUNTRY_INFO!F150>MAX('T1'!M150,'T2'!K150),MAX('T1'!M150,'T2'!K150),COUNTRY_INFO!F150),0)))","v":65815},{"$f":"IF(AND(COUNTRY_INFO!K150>0,COUNTRY_INFO!K150<4),IF(Z150>0,IF(COUNTRY_INFO!K150=1, AD150/(COUNTRY_INFO!F150*0.33)*100, IF(COUNTRY_INFO!K150=2, AD150/(COUNTRY_INFO!F150*0.5)*100, IF(COUNTRY_INFO!K150=3, AD150/COUNTRY_INFO!F150*100))),\"-\"),0)","v":97.922959039442944},{"$f":"IF(COUNTRY_INFO!K150=2,IF(COUNTRY_INFO!G150*0.2>MAX('T1'!N150,'T2'!L150),MAX('T1'!N150,'T2'!L150),COUNTRY_INFO!G150*0.2),IF(COUNTRY_INFO!K150=3,IF(COUNTRY_INFO!G150>MAX('T1'!N150,'T2'!L150),MAX('T1'!N150,'T2'!L150),COUNTRY_INFO!G150),0))","v":0},{"$f":"IF(AND(COUNTRY_INFO!K150>0,COUNTRY_INFO!K150<4),IF(Z150>0,IF(COUNTRY_INFO!K150=1, 0, IF(COUNTRY_INFO!K150=2, AF150/(COUNTRY_INFO!G150*0.2)*100, IF(COUNTRY_INFO!K150=3, AF150/COUNTRY_INFO!G150*100))),\"-\"),0)","v":0},65815,{"$f":"IF(AND(COUNTRY_INFO!K150>0,COUNTRY_INFO!K150<4), IF(AC150/Z150*100<>0, IF(AH150/Z150*100>100,100,AH150/Z150*100), \"-\"),0)","v":22.363006833093785},null,{"$f":"IF(AND(D150<>0, D150<>\"Unknown\",D150<>\"Stopped\",D150<>\"Not required\"),D150/COUNTRY_INFO!D150, 0)","v":0},{"$f":"IF(AND(J150<>0,J150<>\"Unknown\",J150<>\"Stopped\",J150<>\"Not required\"),J150/COUNTRY_INFO!D150, 0)","v":1},{"$f":"IF(AND(P150<>0,P150<>\"Unknown\",P150<>\"Not required\"),P150/(COUNTRY_INFO!E150+COUNTRY_INFO!F150), 0)","v":1},{"$f":"IF(AND(Z150<>0,Z150<>\"Unknown\",Z150<>\"Not required\"),IF(COUNTRY_INFO!K150=1,1,IF(COUNTRY_INFO!K150=2,0.5*COUNTRY_INFO!F150/(0.5*COUNTRY_INFO!F150+0.2*COUNTRY_INFO!G150),IF(COUNTRY_INFO!K150=3,COUNTRY_INFO!F150/(COUNTRY_INFO!F150+COUNTRY_INFO!G150)))),0)","v":0.22837347903351307},{"$f":"IF(AND(Z150<>0,Z150<>\"Unknown\",Z150<>\"Not required\"),IF(COUNTRY_INFO!K150=1,0,IF(COUNTRY_INFO!K150=2,0.2*COUNTRY_INFO!G150/(0.5*COUNTRY_INFO!F150+0.2*COUNTRY_INFO!G150),IF(COUNTRY_INFO!K150=3,COUNTRY_INFO!G150/(COUNTRY_INFO!F150+COUNTRY_INFO!G150)))),0)","v":0.77162652096648687},{"$f":"MAX(COUNTRY_INFO!D150*AK150*PROFILE!$G$7,COUNTRY_INFO!D150*AL150*PROFILE!$G$7)","v":0},{"$f":"MAX(COUNTRY_INFO!D150*AK150*PROFILE!$G$8,COUNTRY_INFO!D150*AL150*PROFILE!$G$8,COUNTRY_INFO!D150*AM150*PROFILE!$G$8)","v":38858.71904145764},{"$f":"MAX(COUNTRY_INFO!D150*AK150*PROFILE!$G$9,COUNTRY_INFO!D150*AL150*PROFILE!$G$9,COUNTRY_INFO!D150*AM150*PROFILE!$G$9,IF(AND(DISTRICT!Z150<>\"Unknown\",Z150<>\"Not required\"),COUNTRY_INFO!O150*DISTRICT!AN150,0))","v":76217.327075989975},{"$f":"MAX(COUNTRY_INFO!D150*AK150*PROFILE!$G$10,COUNTRY_INFO!D150*AL150*PROFILE!$G$10,IF(AND(DISTRICT!Z150<>\"Unknown\",Z150<>\"Not required\"),COUNTRY_INFO!O150*DISTRICT!AO150,0))","v":234905.96738083917},349982.01349828677,"Y",{"$f":"MAX('MDA2'!J150,'T1'!L150,'T2'!J150,T3_R1!K150,T3_R2!K150)","v":0},{"$f":"MAX('MDA1'!K150,'MDA2'!K150,'MDA3'!I150,'MDA3'!L150,'T1'!M150,'T2'!K150,T3_R1!L150,T3_R2!L150)","v":65815},{"$f":"MAX('MDA1'!L150,'MDA2'!L150,'MDA3'!J150,'MDA3'!M150,'T1'!N150,'T2'!L150,T3_R1!M150,T3_R2!M150)","v":239167.09700000001},304982.09700000001,{"$f":"MAX('MDA2'!J150,T150)","v":0},{"$f":"MAX('MDA1'!K150,'MDA2'!K150,'MDA3'!I150,'MDA3'!L150,V150,AD150)","v":65815},{"$f":"MAX('MDA1'!L150,'MDA2'!L150,'MDA3'!J150,'MDA3'!M150,AF150)","v":239167.09700000001},304982.09700000001,87.14222023912464]
[{"$f":"IF(COUNTRY_INFO!A151=0,\" \",COUNTRY_INFO!A151)","v":"Tanzania"},{"$f":"IF(COUNTRY_INFO!B151=0,\" \",COUNTRY_INFO!B151)","v":"Shinyanga"},{"$f":"IF(COUNTRY_INFO!C151=0,\" \",COUNTRY_INFO!C151)","v":"Kahama Town Council"},{"$f":"COUNTRY_INFO!L151","v":0},null,null,{"$f":"MAX('MDA1'!M151,'MDA2'!M151)","v":0},{"$f":"IF(AND(COUNTRY_INFO!H151>0,COUNTRY_INFO!H151<4),IF(D151>MAX('MDA1'!M151,'MDA2'!M151),MAX('MDA1'!M151,'MDA2'!M151),D151),0)","v":0},{"$f":"IF(AND(COUNTRY_INFO!H151>0,COUNTRY_INFO!H151<4), IF(G151/D151*100<>0, IF(G151/D151*100>100,100,G151/D151*100), \"-\"),0)","v":0},{"$f":"COUNTRY_INFO!M151","v":0},null,null,{"$f":"MAX('MDA1'!M151,MAX('MDA3'!I151,'MDA3'!L151)+MAX('MDA3'!J151,'MDA3'!M151))","v":0},{"$f":"IF(AND(COUNTRY_INFO!I151>0,COUNTRY_INFO!I151<4),IF(J151>MAX('MDA1'!M151,MAX('MDA3'!I151,'MDA3'!L151)+MAX('MDA3'!J151,'MDA3'!M151)),MAX('MDA1'!M151,MAX('MDA3'!I151,'MDA3'!L151)+MAX('MDA3'!J151,'MDA3'!M151)),J151),0)","v":0},{"$f":"IF(AND(COUNTRY_INFO!I151>0,COUNTRY_INFO!I151<4), IF(M151/J151*100<>0, IF(M151/J151*100>100,100,M151/J151*100), \"-\"),0)","v":0},{"$f":"COUNTRY_INFO!N151","v":122472.24447967767},null,null,{"$f":"SUM(MAX('MDA2'!J151, 'T1'!L151, MAX(T3_R1!K151, T3_R2!K151)), MAX('MDA1'!K151, 'MDA2'!K151, 'T1'!M151, MAX(T3_R1!L151, T3_R2!L151)), MAX('MDA1'!L151, 'MDA2'!L151, 'T1'!N151, MAX(T3_R1!M151, T3_R2!M151)))","v":71671},{"$f":"IF(AND(COUNTRY_INFO!J151>1,COUNTRY_INFO!J151<4),IF(COUNTRY_INFO!E151>MAX('MDA2'!J151,'T1'!L151,MAX(T3_R1!K151,T3_R2!K151)),MAX('MDA2'!J151,'T1'!L151,MAX(T3_R1!K151,T3_R2!K151)),COUNTRY_INFO!E151),0)","v":0},{"$f":"IF(AND(COUNTRY_INFO!J151>1,COUNTRY_INFO!J151<4), IF(T151/COUNTRY_INFO!E151*100<>0, IF(T151/COUNTRY_INFO!E151*100>100,100,T151/COUNTRY_INFO!E151*100), \"-\"),0)","v":"-"},{"$f":"IF(AND(COUNTRY_INFO!J151>1,COUNTRY_INFO!J151<4),IF(COUNTRY_INFO!F151>MAX('MDA1'!K151,'MDA2'!K151,'T1'!M151,MAX(T3_R1!L151,T3_R2!L151)),MAX('MDA1'!K151,'MDA2'!K151,'T1'!M151,MAX(T3_R1!L151,T3_R2!L151)),COUNTRY_INFO!F151),0)","v":71671},{"$f":"IF(AND(COUNTRY_INFO!J151>1,COUNTRY_INFO!J151<4), IF(V151/COUNTRY_INFO!F151*100<>0, IF(V151/COUNTRY_INFO!F151*100>100,100,V151/COUNTRY_INFO!F151*100), \"-\"),0)","v":82.306667585383224},71671,{"$f":"IF(AND(COUNTRY_INFO!J151>1,COUNTRY_INFO!J151<4), IF(S151/P151*100<>0, IF(X151/P151*100>100,100,X151/P151*100), \"-\"),0)","v":58.520198028944158},{"$f":"COUNTRY_INFO!O151","v":73919.351104064466},null,null,{"$f":"MAX('T1'!L151,'T2'!J151)+MAX('T1'!M151,'T2'!K151)+MAX('T1'!N151,'T2'!L151)","v":71671},{"$f":"IF(COUNTRY_INFO!K151=1,IF(COUNTRY_INFO!F151*0.33>MAX('T1'!M151,'T2'!K151),MAX('T1'!M151,'T2'!K151),COUNTRY_INFO!F151*0.33),IF(COUNTRY_INFO!K151=2,IF(COUNTRY_INFO!F151*0.5>MAX('T1'!M151,'T2'!K151),MAX('T1'!M151,'T2'!K151),COUNTRY_INFO!F151*0.5),IF(COUNTRY_INFO!K151=3,IF(COUNTRY_INFO!F151>MAX('T1'!M151,'T2'!K151),MAX('T1'!M151,'T2'!K151),COUNTRY_INFO!F151),0)))","v":43539},{"$f":"IF(AND(COUNTRY_INFO!K151>0,COUNTRY_INFO!K151<4),IF(Z151>0,IF(COUNTRY_INFO!K151=1, AD151/(COUNTRY_INFO!F151*0.33)*100, IF(COUNTRY_INFO!K151=2, AD151/(COUNTRY_INFO!F151*0.5)*100, IF(COUNTRY_INFO!K151=3, AD151/COUNTRY_INFO!F151*100))),\"-\"),0)","v":100},{"$f":"IF(COUNTRY_INFO!K151=2,IF(COUNTRY_INFO!G151*0.2>MAX('T1'!N151,'T2'!L151),MAX('T1'!N151,'T2'!L151),COUNTRY_INFO!G151*0.2),IF(COUNTRY_INFO!K151=3,IF(COUNTRY_INFO!G151>MAX('T1'!N151,'T2'!L151),MAX('T1'!N151,'T2'!L151),COUNTRY_INFO!G151),0))","v":0},{"$f":"IF(AND(COUNTRY_INFO!K151>0,COUNTRY_INFO!K151<4),IF(Z151>0,IF(COUNTRY_INFO!K151=1, 0, IF(COUNTRY_INFO!K151=2, AF151/(COUNTRY_INFO!G151*0.2)*100, IF(COUNTRY_INFO!K151=3, AF151/COUNTRY_INFO!G151*100))),\"-\"),0)","v":0},43539,{"$f":"IF(AND(COUNTRY_INFO!K151>0,COUNTRY_INFO!K151<4), IF(AC151/Z151*100<>0, IF(AH151/Z151*100>100,100,AH151/Z151*100), \"-\"),0)","v":58.900679388683109},null,{"$f":"IF(AND(D151<>0, D151<>\"Unknown\",D151<>\"Stopped\",D151<>\"Not required\"),D151/COUNTRY_INFO!D151, 0)","v":0},{"$f":"IF(AND(J151<>0,J151<>\"Unknown\",J151<>\"Stopped\",J151<>\"Not required\"),J151/COUNTRY_INFO!D151, 0)","v":0},{"$f":"IF(AND(P151<>0,P151<>\"Unknown\",P151<>\"Not required\"),P151/(COUNTRY_INFO!E151+COUNTRY_INFO!F151), 0)","v":1},{"$f":"IF(AND(Z151<>0,Z151<>\"Unknown\",Z151<>\"Not required\"),IF(COUNTRY_INFO!K151=1,1,IF(COUNTRY_INFO!K151=2,0.5*COUNTRY_INFO!F151/(0.5*COUNTRY_INFO!F151+0.2*COUNTRY_INFO!G151),IF(COUNTRY_INFO!K151=3,COUNTRY_INFO!F151/(COUNTRY_INFO!F151+COUNTRY_INFO!G151)))),0)","v":0.58900679388683108},{"$f":"IF(AND(Z151<>0,Z151<>\"Unknown\",Z151<>\"Not required\"),IF(COUNTRY_INFO!K151=1,0,IF(COUNTRY_INFO!K151=2,0.2*COUNTRY_INFO!G151/(0.5*COUNTRY_INFO!F151+0.2*COUNTRY_INFO!G151),IF(COUNTRY_INFO!K151=3,COUNTRY_INFO!G151/(COUNTRY_INFO!F151+COUNTRY_INFO!G151)))),0)","v":0.41099320611316892},{"$f":"MAX(COUNTRY_INFO!D151*AK151*PROFILE!$G$7,COUNTRY_INFO!D151*AL151*PROFILE!$G$7)","v":0},{"$f":"MAX(COUNTRY_INFO!D151*AK151*PROFILE!$G$8,COUNTRY_INFO!D151*AL151*PROFILE!$G$8,COUNTRY_INFO!D151*AM151*PROFILE!$G$8)","v":30463.915796472098},{"$f":"MAX(COUNTRY_INFO!D151*AK151*PROFILE!$G$9,COUNTRY_INFO!D151*AL151*PROFILE!$G$9,COUNTRY_INFO!D151*AM151*PROFILE!$G$9,IF(AND(DISTRICT!Z151<>\"Unknown\",Z151<>\"Not required\"),COUNTRY_INFO!O151*DISTRICT!AN151,0))","v":59751.795518477156},{"$f":"MAX(COUNTRY_INFO!D151*AK151*PROFILE!$G$10,COUNTRY_INFO!D151*AL151*PROFILE!$G$10,IF(AND(DISTRICT!Z151<>\"Unknown\",Z151<>\"Not required\"),COUNTRY_INFO!O151*DISTRICT!AO151,0))","v":30380.351104064466},120596.06241901372,"Y",{"$f":"MAX('MDA2'!J151,'T1'!L151,'T2'!J151,T3_R1!K151,T3_R2!K151)","v":0},{"$f":"MAX('MDA1'!K151,'MDA2'!K151,'MDA3'!I151,'MDA3'!L151,'T1'!M151,'T2'!K151,T3_R1!L151,T3_R2!L151)","v":71671},{"$f":"MAX('MDA1'!L151,'MDA2'!L151,'MDA3'!J151,'MDA3'!M151,'T1'!N151,'T2'!L151,T3_R1!M151,T3_R2!M151)","v":0},71671,{"$f":"MAX('MDA2'!J151,T151)","v":0},{"$f":"MAX('MDA1'!K151,'MDA2'!K151,'MDA3'!I151,'MDA3'!L151,V151,AD151)","v":71671},{"$f":"MAX('MDA1'!L151,'MDA2'!L151,'MDA3'!J151,'MDA3'!M151,AF151)","v":0},71671,59.430630289550834]
[{"$f":"IF(COUNTRY_INFO!A152=0,\" \",COUNTRY_INFO!A152)","v":"Tanzania"},{"$f":"IF(COUNTRY_INFO!B152=0,\" \",COUNTRY_INFO!B152)","v":"Shinyanga"},{"$f":"IF(COUNTRY_INFO!C152=0,\" \",COUNTRY_INFO!C152)","v":"Kishapu District Council"},{"$f":"COUNTRY_INFO!L152","v":0},null,null,{"$f":"MAX('MDA1'!M152,'MDA2'!M152)","v":0},{"$f":"IF(AND(COUNTRY_INFO!H152>0,COUNTRY_INFO!H152<4),IF(D152>MAX('MDA1'!M152,'MDA2'!M152),MAX('MDA1'!M152,'MDA2'!M152),D152),0)","v":0},{"$f":"IF(AND(COUNTRY_INFO!H152>0,COUNTRY_INFO!H152<4), IF(G152/D152*100<>0, IF(G152/D152*100>100,100,G152/D152*100), \"-\"),0)","v":0},{"$f":"COUNTRY_INFO!M152","v":0},null,null,{"$f":"MAX('MDA1'!M152,MAX('MDA3'!I152,'MDA3'!L152)+MAX('MDA3'!J152,'MDA3'!M152))","v":0},{"$f":"IF(AND(COUNTRY_INFO!I152>0,COUNTRY_INFO!I152<4),IF(J152>MAX('MDA1'!M152,MAX('MDA3'!I152,'MDA3'!L152)+MAX('MDA3'!J152,'MDA3'!M152)),MAX('MDA1'!M152,MAX('MDA3'!I152,'MDA3'!L152)+MAX('MDA3'!J152,'MDA3'!M152)),J152),0)","v":0},{"$f":"IF(AND(COUNTRY_INFO!I152>0,COUNTRY_INFO!I152<4), IF(M152/J152*100<>0, IF(M152/J152*100>100,100,M152/J152*100), \"-\"),0)","v":0},{"$f":"COUNTRY_INFO!N152","v":101637},null,null,{"$f":"SUM(MAX('MDA2'!J152, 'T1'!L152, MAX(T3_R1!K152, T3_R2!K152)), MAX('MDA1'!K152, 'MDA2'!K152, 'T1'!M152, MAX(T3_R1!L152, T3_R2!L152)), MAX('MDA1'!L152, 'MDA2'!L152, 'T1'!N152, MAX(T3_R1!M152, T3_R2!M152)))","v":80601},{"$f":"IF(AND(COUNTRY_INFO!J152>1,COUNTRY_INFO!J152<4),IF(COUNTRY_INFO!E152>MAX('MDA2'!J152,'T1'!L152,MAX(T3_R1!K152,T3_R2!K152)),MAX('MDA2'!J152,'T1'!L152,MAX(T3_R1!K152,T3_R2!K152)),COUNTRY_INFO!E152),0)","v":0},{"$f":"IF(AND(COUNTRY_INFO!J152>1,COUNTRY_INFO!J152<4), IF(T152/COUNTRY_INFO!E152*100<>0, IF(T152/COUNTRY_INFO!E152*100>100,100,T152/COUNTRY_INFO!E152*100), \"-\"),0)","v":"-"},{"$f":"IF(AND(COUNTRY_INFO!J152>1,COUNTRY_INFO!J152<4),IF(COUNTRY_INFO!F152>MAX('MDA1'!K152,'MDA2'!K152,'T1'!M152,MAX(T3_R1!L152,T3_R2!L152)),MAX('MDA1'!K152,'MDA2'!K152,'T1'!M152,MAX(T3_R1!L152,T3_R2!L152)),COUNTRY_INFO!F152),0)","v":80601},{"$f":"IF(AND(COUNTRY_INFO!J152>1,COUNTRY_INFO!J152<4), IF(V152/COUNTRY_INFO!F152*100<>0, IF(V152/COUNTRY_INFO!F152*100>100,100,V152/COUNTRY_INFO!F152*100), \"-\"),0)","v":91.58892310489415},80601,{"$f":"IF(AND(COUNTRY_INFO!J152>1,COUNTRY_INFO!J152<4), IF(S152/P152*100<>0, IF(X152/P152*100>100,100,X152/P152*100), \"-\"),0)","v":79.302812951976151},{"$f":"COUNTRY_INFO!O152","v":85522.9},null,null,{"$f":"MAX('T1'!L152,'T2'!J152)+MAX('T1'!M152,'T2'!K152)+MAX('T1'!N152,'T2'!L152)","v":80601},{"$f":"IF(COUNTRY_INFO!K152=1,IF(COUNTRY_INFO!F152*0.33>MAX('T1'!M152,'T2'!K152),MAX('T1'!M152,'T2'!K152),COUNTRY_INFO!F152*0.33),IF(COUNTRY_INFO!K152=2,IF(COUNTRY_INFO!F152*0.5>MAX('T1'!M152,'T2'!K152),MAX('T1'!M152,'T2'!K152),COUNTRY_INFO!F152*0.5),IF(COUNTRY_INFO!K152=3,IF(COUNTRY_INFO!F152>MAX('T1'!M152,'T2'!K152),MAX('T1'!M152,'T2'!K152),COUNTRY_INFO!F152),0)))","v":44001.5},{"$f":"IF(AND(COUNTRY_INFO!K152>0,COUNTRY_INFO!K152<4),IF(Z152>0,IF(COUNTRY_INFO!K152=1, AD152/(COUNTRY_INFO!F152*0.33)*100, IF(COUNTRY_INFO!K152=2, AD152/(COUNTRY_INFO!F152*0.5)*100, IF(COUNTRY_INFO!K152=3, AD152/COUNTRY_INFO!F152*100))),\"-\"),0)","v":100},{"$f":"IF(COUNTRY_INFO!K152=2,IF(COUNTRY_INFO!G152*0.2>MAX('T1'!N152,'T2'!L152),MAX('T1'!N152,'T2'!L152),COUNTRY_INFO!G152*0.2),IF(COUNTRY_INFO!K152=3,IF(COUNTRY_INFO!G152>MAX('T1'!N152,'T2'!L152),MAX('T1'!N152,'T2'!L152),COUNTRY_INFO!G152),0))","v":0},{"$f":"IF(AND(COUNTRY_INFO!K152>0,COUNTRY_INFO!K152<4),IF(Z152>0,IF(COUNTRY_INFO!K152=1, 0, IF(COUNTRY_INFO!K152=2, AF152/(COUNTRY_INFO!G152*0.2)*100, IF(COUNTRY_INFO!K152=3, AF152/COUNTRY_INFO!G152*100))),\"-\"),0)","v":0},44001.5,{"$f":"IF(AND(COUNTRY_INFO!K152>0,COUNTRY_INFO!K152<4), IF(AC152/Z152*100<>0, IF(AH152/Z152*100>100,100,AH152/Z152*100), \"-\"),0)","v":51.449962524657145},null,{"$f":"IF(AND(D152<>0, D152<>\"Unknown\",D152<>\"Stopped\",D152<>\"Not required\"),D152/COUNTRY_INFO!D152, 0)","v":0},{"$f":"IF(AND(J152<>0,J152<>\"Unknown\",J152<>\"Stopped\",J152<>\"Not required\"),J152/COUNTRY_INFO!D152, 0)","v":0},{"$f":"IF(AND(P152<>0,P152<>\"Unknown\",P152<>\"Not required\"),P152/(COUNTRY_INFO!E152+COUNTRY_INFO!F152), 0)","v":1},{"$f":"IF(AND(Z152<>0,Z152<>\"Unknown\",Z152<>\"Not required\"),IF(COUNTRY_INFO!K152=1,1,IF(COUNTRY_INFO!K152=2,0.5*COUNTRY_INFO!F152/(0.5*COUNTRY_INFO!F152+0.2*COUNTRY_INFO!G152),IF(COUNTRY_INFO!K152=3,COUNTRY_INFO!F152/(COUNTRY_INFO!F152+COUNTRY_INFO!G152)))),0)","v":0.51449962524657145},{"$f":"IF(AND(Z152<>0,Z152<>\"Unknown\",Z152<>\"Not required\"),IF(COUNTRY_INFO!K152=1,0,IF(COUNTRY_INFO!K152=2,0.2*COUNTRY_INFO!G152/(0.5*COUNTRY_INFO!F152+0.2*COUNTRY_INFO!G152),IF(COUNTRY_INFO!K152=3,COUNTRY_INFO!G152/(COUNTRY_INFO!F152+COUNTRY_INFO!G152)))),0)","v":0.48550037475342867},{"$f":"MAX(COUNTRY_INFO!D152*AK152*PROFILE!$G$7,COUNTRY_INFO!D152*AL152*PROFILE!$G$7)","v":0},{"$f":"MAX(COUNTRY_INFO!D152*AK152*PROFILE!$G$8,COUNTRY_INFO!D152*AL152*PROFILE!$G$8,COUNTRY_INFO!D152*AM152*PROFILE!$G$8)","v":34335.553574916783},{"$f":"MAX(COUNTRY_INFO!D152*AK152*PROFILE!$G$9,COUNTRY_INFO!D152*AL152*PROFILE!$G$9,COUNTRY_INFO!D152*AM152*PROFILE!$G$9,IF(AND(DISTRICT!Z152<>\"Unknown\",Z152<>\"Not required\"),COUNTRY_INFO!O152*DISTRICT!AN152,0))","v":67345.609472165539},{"$f":"MAX(COUNTRY_INFO!D152*AK152*PROFILE!$G$10,COUNTRY_INFO!D152*AL152*PROFILE!$G$10,IF(AND(DISTRICT!Z152<>\"Unknown\",Z152<>\"Not required\"),COUNTRY_INFO!O152*DISTRICT!AO152,0))","v":41521.4},143202.56304708231,"Y",{"$f":"MAX('MDA2'!J152,'T1'!L152,'T2'!J152,T3_R1!K152,T3_R2!K152)","v":0},{"$f":"MAX('MDA1'!K152,'MDA2'!K152,'MDA3'!I152,'MDA3'!L152,'T1'!M152,'T2'!K152,T3_R1!L152,T3_R2!L152)","v":80601},{"$f":"MAX('MDA1'!L152,'MDA2'!L152,'MDA3'!J152,'MDA3'!M152,'T1'!N152,'T2'!L152,T3_R1!M152,T3_R2!M152)","v":0},80601,{"$f":"MAX('MDA2'!J152,T152)","v":0},{"$f":"MAX('MDA1'!K152,'MDA2'!K152,'MDA3'!I152,'MDA3'!L152,V152,AD152)","v":80601},{"$f":"MAX('MDA1'!L152,'MDA2'!L152,'MDA3'!J152,'MDA3'!M152,AF152)","v":0},80601,56.28460712222023]
[{"$f":"IF(COUNTRY_INFO!A153=0,\" \",COUNTRY_INFO!A153)","v":"Tanzania"},{"$f":"IF(COUNTRY_INFO!B153=0,\" \",COUNTRY_INFO!B153)","v":"Shinyanga"},{"$f":"IF(COUNTRY_INFO!C153=0,\" \",COUNTRY_INFO!C153)","v":"Msalala District Council"},{"$f":"COUNTRY_INFO!L153","v":0},null,null,{"$f":"MAX('MDA1'!M153,'MDA2'!M153)","v":0},{"$f":"IF(AND(COUNTRY_INFO!H153>0,COUNTRY_INFO!H153<4),IF(D153>MAX('MDA1'!M153,'MDA2'!M153),MAX('MDA1'!M153,'MDA2'!M153),D153),0)","v":0},{"$f":"IF(AND(COUNTRY_INFO!H153>0,COUNTRY_INFO!H153<4), IF(G153/D153*100<>0, IF(G153/D153*100>100,100,G153/D153*100), \"-\"),0)","v":0},{"$f":"COUNTRY_INFO!M153","v":0},null,null,{"$f":"MAX('MDA1'!M153,MAX('MDA3'!I153,'MDA3'!L153)+MAX('MDA3'!J153,'MDA3'!M153))","v":0},{"$f":"IF(AND(COUNTRY_INFO!I153>0,COUNTRY_INFO!I153<4),IF(J153>MAX('MDA1'!M153,MAX('MDA3'!I153,'MDA3'!L153)+MAX('MDA3'!J153,'MDA3'!M153)),MAX('MDA1'!M153,MAX('MDA3'!I153,'MDA3'!L153)+MAX('MDA3'!J153,'MDA3'!M153)),J153),0)","v":0},{"$f":"IF(AND(COUNTRY_INFO!I153>0,COUNTRY_INFO!I153<4), IF(M153/J153*100<>0, IF(M153/J153*100>100,100,M153/J153*100), \"-\"),0)","v":0},{"$f":"COUNTRY_INFO!N153","v":95693},null,null,{"$f":"SUM(MAX('MDA2'!J153, 'T1'!L153, MAX(T3_R1!K153, T3_R2!K153)), MAX('MDA1'!K153, 'MDA2'!K153, 'T1'!M153, MAX(T3_R1!L153, T3_R2!L153)), MAX('MDA1'!L153, 'MDA2'!L153, 'T1'!N153, MAX(T3_R1!M153, T3_R2!M153)))","v":61969},{"$f":"IF(AND(COUNTRY_INFO!J153>1,COUNTRY_INFO!J153<4),IF(COUNTRY_INFO!E153>MAX('MDA2'!J153,'T1'!L153,MAX(T3_R1!K153,T3_R2!K153)),MAX('MDA2'!J153,'T1'!L153,MAX(T3_R1!K153,T3_R2!K153)),COUNTRY_INFO!E153),0)","v":0},{"$f":"IF(AND(COUNTRY_INFO!J153>1,COUNTRY_INFO!J153<4), IF(T153/COUNTRY_INFO!E153*100<>0, IF(T153/COUNTRY_INFO!E153*100>100,100,T153/COUNTRY_INFO!E153*100), \"-\"),0)","v":"-"},{"$f":"IF(AND(COUNTRY_INFO!J153>1,COUNTRY_INFO!J153<4),IF(COUNTRY_INFO!F153>MAX('MDA1'!K153,'MDA2'!K153,'T1'!M153,MAX(T3_R1!L153,T3_R2!L153)),MAX('MDA1'!K153,'MDA2'!K153,'T1'!M153,MAX(T3_R1!L153,T3_R2!L153)),COUNTRY_INFO!F153),0)","v":61969},{"$f":"IF(AND(COUNTRY_INFO!J153>1,COUNTRY_INFO!J153<4), IF(V153/COUNTRY_INFO!F153*100<>0, IF(V153/COUNTRY_INFO!F153*100>100,100,V153/COUNTRY_INFO!F153*100), \"-\"),0)","v":93.70926522403181},61969,{"$f":"IF(AND(COUNTRY_INFO!J153>1,COUNTRY_INFO!J153<4), IF(S153/P153*100<>0, IF(X153/P153*100>100,100,X153/P153*100), \"-\"),0)","v":64.758132778782155},{"$f":"COUNTRY_INFO!O153","v":70730.700000000012},null,null,{"$f":"MAX('T1'!L153,'T2'!J153)+MAX('T1'!M153,'T2'!K153)+MAX('T1'!N153,'T2'!L153)","v":61969},{"$f":"IF(COUNTRY_INFO!K153=1,IF(COUNTRY_INFO!F153*0.33>MAX('T1'!M153,'T2'!K153),MAX('T1'!M153,'T2'!K153),COUNTRY_INFO!F153*0.33),IF(COUNTRY_INFO!K153=2,IF(COUNTRY_INFO!F153*0.5>MAX('T1'!M153,'T2'!K153),MAX('T1'!M153,'T2'!K153),COUNTRY_INFO!F153*0.5),IF(COUNTRY_INFO!K153=3,IF(COUNTRY_INFO!F153>MAX('T1'!M153,'T2'!K153),MAX('T1'!M153,'T2'!K153),COUNTRY_INFO!F153),0)))","v":33064.5},{"$f":"IF(AND(COUNTRY_INFO!K153>0,COUNTRY_INFO!K153<4),IF(Z153>0,IF(COUNTRY_INFO!K153=1, AD153/(COUNTRY_INFO!F153*0.33)*100, IF(COUNTRY_INFO!K153=2, AD153/(COUNTRY_INFO!F153*0.5)*100, IF(COUNTRY_INFO!K153=3, AD153/COUNTRY_INFO!F153*100))),\"-\"),0)","v":100},{"$f":"IF(COUNTRY_INFO!K153=2,IF(COUNTRY_INFO!G153*0.2>MAX('T1'!N153,'T2'!L153),MAX('T1'!N153,'T2'!L153),COUNTRY_INFO!G153*0.2),IF(COUNTRY_INFO!K153=3,IF(COUNTRY_INFO!G153>MAX('T1'!N153,'T2'!L153),MAX('T1'!N153,'T2'!L153),COUNTRY_INFO!G153),0))","v":0},{"$f":"IF(AND(COUNTRY_INFO!K153>0,COUNTRY_INFO!K153<4),IF(Z153>0,IF(COUNTRY_INFO!K153=1, 0, IF(COUNTRY_INFO!K153=2, AF153/(COUNTRY_INFO!G153*0.2)*100, IF(COUNTRY_INFO!K153=3, AF153/COUNTRY_INFO!G153*100))),\"-\"),0)","v":0},33064.5,{"$f":"IF(AND(COUNTRY_INFO!K153>0,COUNTRY_INFO!K153<4), IF(AC153/Z153*100<>0, IF(AH153/Z153*100>100,100,AH153/Z153*100), \"-\"),0)","v":46.747027811120198},null,{"$f":"IF(AND(D153<>0, D153<>\"Unknown\",D153<>\"Stopped\",D153<>\"Not required\"),D153/COUNTRY_INFO!D153, 0)","v":0},{"$f":"IF(AND(J153<>0,J153<>\"Unknown\",J153<>\"Stopped\",J153<>\"Not required\"),J153/COUNTRY_INFO!D153, 0)","v":0},{"$f":"IF(AND(P153<>0,P153<>\"Unknown\",P153<>\"Not required\"),P153/(COUNTRY_INFO!E153+COUNTRY_INFO!F153), 0)","v":1},{"$f":"IF(AND(Z153<>0,Z153<>\"Unknown\",Z153<>\"Not required\"),IF(COUNTRY_INFO!K153=1,1,IF(COUNTRY_INFO!K153=2,0.5*COUNTRY_INFO!F153/(0.5*COUNTRY_INFO!F153+0.2*COUNTRY_INFO!G153),IF(COUNTRY_INFO!K153=3,COUNTRY_INFO!F153/(COUNTRY_INFO!F153+COUNTRY_INFO!G153)))),0)","v":0.46747027811120201},{"$f":"IF(AND(Z153<>0,Z153<>\"Unknown\",Z153<>\"Not required\"),IF(COUNTRY_INFO!K153=1,0,IF(COUNTRY_INFO!K153=2,0.2*COUNTRY_INFO!G153/(0.5*COUNTRY_INFO!F153+0.2*COUNTRY_INFO!G153),IF(COUNTRY_INFO!K153=3,COUNTRY_INFO!G153/(COUNTRY_INFO!F153+COUNTRY_INFO!G153)))),0)","v":0.53252972188879788},{"$f":"MAX(COUNTRY_INFO!D153*AK153*PROFILE!$G$7,COUNTRY_INFO!D153*AL153*PROFILE!$G$7)","v":0},{"$f":"MAX(COUNTRY_INFO!D153*AK153*PROFILE!$G$8,COUNTRY_INFO!D153*AL153*PROFILE!$G$8,COUNTRY_INFO!D153*AM153*PROFILE!$G$8)","v":31535.361295812254},{"$f":"MAX(COUNTRY_INFO!D153*AK153*PROFILE!$G$9,COUNTRY_INFO!D153*AL153*PROFILE!$G$9,COUNTRY_INFO!D153*AM153*PROFILE!$G$9,IF(AND(DISTRICT!Z153<>\"Unknown\",Z153<>\"Not required\"),COUNTRY_INFO!O153*DISTRICT!AN153,0))","v":61853.324186475234},{"$f":"MAX(COUNTRY_INFO!D153*AK153*PROFILE!$G$10,COUNTRY_INFO!D153*AL153*PROFILE!$G$10,IF(AND(DISTRICT!Z153<>\"Unknown\",Z153<>\"Not required\"),COUNTRY_INFO!O153*DISTRICT!AO153,0))","v":37666.200000000004},131054.8854822875,"Y",{"$f":"MAX('MDA2'!J153,'T1'!L153,'T2'!J153,T3_R1!K153,T3_R2!K153)","v":0},{"$f":"MAX('MDA1'!K153,'MDA2'!K153,'MDA3'!I153,'MDA3'!L153,'T1'!M153,'T2'!K153,T3_R1!L153,T3_R2!L153)","v":61969},{"$f":"MAX('MDA1'!L153,'MDA2'!L153,'MDA3'!J153,'MDA3'!M153,'T1'!N153,'T2'!L153,T3_R1!M153,T3_R2!M153)","v":0},61969,{"$f":"MAX('MDA2'!J153,T153)","v":0},{"$f":"MAX('MDA1'!K153,'MDA2'!K153,'MDA3'!I153,'MDA3'!L153,V153,AD153)","v":61969},{"$f":"MAX('MDA1'!L153,'MDA2'!L153,'MDA3'!J153,'MDA3'!M153,AF153)","v":0},61969,47.284769104144011]
[{"$f":"IF(COUNTRY_INFO!A154=0,\" \",COUNTRY_INFO!A154)","v":"Tanzania"},{"$f":"IF(COUNTRY_INFO!B154=0,\" \",COUNTRY_INFO!B154)","v":"Shinyanga"},{"$f":"IF(COUNTRY_INFO!C154=0,\" \",COUNTRY_INFO!C154)","v":"Shinyanga District Council"},{"$f":"COUNTRY_INFO!L154","v":0},null,null,{"$f":"MAX('MDA1'!M154,'MDA2'!M154)","v":0},{"$f":"IF(AND(COUNTRY_INFO!H154>0,COUNTRY_INFO!H154<4),IF(D154>MAX('MDA1'!M154,'MDA2'!M154),MAX('MDA1'!M154,'MDA2'!M154),D154),0)","v":0},{"$f":"IF(AND(COUNTRY_INFO!H154>0,COUNTRY_INFO!H154<4), IF(G154/D154*100<>0, IF(G154/D154*100>100,100,G154/D154*100), \"-\"),0)","v":0},{"$f":"COUNTRY_INFO!M154","v":0},null,null,{"$f":"MAX('MDA1'!M154,MAX('MDA3'!I154,'MDA3'!L154)+MAX('MDA3'!J154,'MDA3'!M154))","v":0},{"$f":"IF(AND(COUNTRY_INFO!I154>0,COUNTRY_INFO!I154<4),IF(J154>MAX('MDA1'!M154,MAX('MDA3'!I154,'MDA3'!L154)+MAX('MDA3'!J154,'MDA3'!M154)),MAX('MDA1'!M154,MAX('MDA3'!I154,'MDA3'!L154)+MAX('MDA3'!J154,'MDA3'!M154)),J154),0)","v":0},{"$f":"IF(AND(COUNTRY_INFO!I154>0,COUNTRY_INFO!I154<4), IF(M154/J154*100<>0, IF(M154/J154*100>100,100,M154/J154*100), \"-\"),0)","v":0},{"$f":"COUNTRY_INFO!N154","v":126525},null,null,{"$f":"SUM(MAX('MDA2'!J154, 'T1'!L154, MAX(T3_R1!K154, T3_R2!K154)), MAX('MDA1'!K154, 'MDA2'!K154, 'T1'!M154, MAX(T3_R1!L154, T3_R2!L154)), MAX('MDA1'!L154, 'MDA2'!L154, 'T1'!N154, MAX(T3_R1!M154, T3_R2!M154)))","v":86303},{"$f":"IF(AND(COUNTRY_INFO!J154>1,COUNTRY_INFO!J154<4),IF(COUNTRY_INFO!E154>MAX('MDA2'!J154,'T1'!L154,MAX(T3_R1!K154,T3_R2!K154)),MAX('MDA2'!J154,'T1'!L154,MAX(T3_R1!K154,T3_R2!K154)),COUNTRY_INFO!E154),0)","v":0},{"$f":"IF(AND(COUNTRY_INFO!J154>1,COUNTRY_INFO!J154<4), IF(T154/COUNTRY_INFO!E154*100<>0, IF(T154/COUNTRY_INFO!E154*100>100,100,T154/COUNTRY_INFO!E154*100), \"-\"),0)","v":"-"},{"$f":"IF(AND(COUNTRY_INFO!J154>1,COUNTRY_INFO!J154<4),IF(COUNTRY_INFO!F154>MAX('MDA1'!K154,'MDA2'!K154,'T1'!M154,MAX(T3_R1!L154,T3_R2!L154)),MAX('MDA1'!K154,'MDA2'!K154,'T1'!M154,MAX(T3_R1!L154,T3_R2!L154)),COUNTRY_INFO!F154),0)","v":86303},{"$f":"IF(AND(COUNTRY_INFO!J154>1,COUNTRY_INFO!J154<4), IF(V154/COUNTRY_INFO!F154*100<>0, IF(V154/COUNTRY_INFO!F154*100>100,100,V154/COUNTRY_INFO!F154*100), \"-\"),0)","v":95.952992450774374},86303,{"$f":"IF(AND(COUNTRY_INFO!J154>1,COUNTRY_INFO!J154<4), IF(S154/P154*100<>0, IF(X154/P154*100>100,100,X154/P154*100), \"-\"),0)","v":68.210235131396956},{"$f":"COUNTRY_INFO!O154","v":95432.3},null,null,{"$f":"MAX('T1'!L154,'T2'!J154)+MAX('T1'!M154,'T2'!K154)+MAX('T1'!N154,'T2'!L154)","v":86303},{"$f":"IF(COUNTRY_INFO!K154=1,IF(COUNTRY_INFO!F154*0.33>MAX('T1'!M154,'T2'!K154),MAX('T1'!M154,'T2'!K154),COUNTRY_INFO!F154*0.33),IF(COUNTRY_INFO!K154=2,IF(COUNTRY_INFO!F154*0.5>MAX('T1'!M154,'T2'!K154),MAX('T1'!M154,'T2'!K154),COUNTRY_INFO!F154*0.5),IF(COUNTRY_INFO!K154=3,IF(COUNTRY_INFO!F154>MAX('T1'!M154,'T2'!K154),MAX('T1'!M154,'T2'!K154),COUNTRY_INFO!F154),0)))","v":44971.5},{"$f":"IF(AND(COUNTRY_INFO!K154>0,COUNTRY_INFO!K154<4),IF(Z154>0,IF(COUNTRY_INFO!K154=1, AD154/(COUNTRY_INFO!F154*0.33)*100, IF(COUNTRY_INFO!K154=2, AD154/(COUNTRY_INFO!F154*0.5)*100, IF(COUNTRY_INFO!K154=3, AD154/COUNTRY_INFO!F154*100))),\"-\"),0)","v":100},{"$f":"IF(COUNTRY_INFO!K154=2,IF(COUNTRY_INFO!G154*0.2>MAX('T1'!N154,'T2'!L154),MAX('T1'!N154,'T2'!L154),COUNTRY_INFO!G154*0.2),IF(COUNTRY_INFO!K154=3,IF(COUNTRY_INFO!G154>MAX('T1'!N154,'T2'!L154),MAX('T1'!N154,'T2'!L154),COUNTRY_INFO!G154),0))","v":0},{"$f":"IF(AND(COUNTRY_INFO!K154>0,COUNTRY_INFO!K154<4),IF(Z154>0,IF(COUNTRY_INFO!K154=1, 0, IF(COUNTRY_INFO!K154=2, AF154/(COUNTRY_INFO!G154*0.2)*100, IF(COUNTRY_INFO!K154=3, AF154/COUNTRY_INFO!G154*100))),\"-\"),0)","v":0},44971.5,{"$f":"IF(AND(COUNTRY_INFO!K154>0,COUNTRY_INFO!K154<4), IF(AC154/Z154*100<>0, IF(AH154/Z154*100>100,100,AH154/Z154*100), \"-\"),0)","v":47.123982131835866},null,{"$f":"IF(AND(D154<>0, D154<>\"Unknown\",D154<>\"Stopped\",D154<>\"Not required\"),D154/COUNTRY_INFO!D154, 0)","v":0},{"$f":"IF(AND(J154<>0,J154<>\"Unknown\",J154<>\"Stopped\",J154<>\"Not required\"),J154/COUNTRY_INFO!D154, 0)","v":0},{"$f":"IF(AND(P154<>0,P154<>\"Unknown\",P154<>\"Not required\"),P154/(COUNTRY_INFO!E154+COUNTRY_INFO!F154), 0)","v":1},{"$f":"IF(AND(Z154<>0,Z154<>\"Unknown\",Z154<>\"Not required\"),IF(COUNTRY_INFO!K154=1,1,IF(COUNTRY_INFO!K154=2,0.5*COUNTRY_INFO!F154/(0.5*COUNTRY_INFO!F154+0.2*COUNTRY_INFO!G154),IF(COUNTRY_INFO!K154=3,COUNTRY_INFO!F154/(COUNTRY_INFO!F154+COUNTRY_INFO!G154)))),0)","v":0.47123982131835868},{"$f":"IF(AND(Z154<>0,Z154<>\"Unknown\",Z154<>\"Not required\"),IF(COUNTRY_INFO!K154=1,0,IF(COUNTRY_INFO!K154=2,0.2*COUNTRY_INFO!G154/(0.5*COUNTRY_INFO!F154+0.2*COUNTRY_INFO!G154),IF(COUNTRY_INFO!K154=3,COUNTRY_INFO!G154/(COUNTRY_INFO!F154+COUNTRY_INFO!G154)))),0)","v":0.52876017868164138},{"$f":"MAX(COUNTRY_INFO!D154*AK154*PROFILE!$G$7,COUNTRY_INFO!D154*AL154*PROFILE!$G$7)","v":0},{"$f":"MAX(COUNTRY_INFO!D154*AK154*PROFILE!$G$8,COUNTRY_INFO!D154*AL154*PROFILE!$G$8,COUNTRY_INFO!D154*AM154*PROFILE!$G$8)","v":42061.619385443693},{"$f":"MAX(COUNTRY_INFO!D154*AK154*PROFILE!$G$9,COUNTRY_INFO!D154*AL154*PROFILE!$G$9,COUNTRY_INFO!D154*AM154*PROFILE!$G$9,IF(AND(DISTRICT!Z154<>\"Unknown\",Z154<>\"Not required\"),COUNTRY_INFO!O154*DISTRICT!AN154,0))","v":82499.482255859461},{"$f":"MAX(COUNTRY_INFO!D154*AK154*PROFILE!$G$10,COUNTRY_INFO!D154*AL154*PROFILE!$G$10,IF(AND(DISTRICT!Z154<>\"Unknown\",Z154<>\"Not required\"),COUNTRY_INFO!O154*DISTRICT!AO154,0))","v":50460.800000000003},175021.90164130315,"Y",{"$f":"MAX('MDA2'!J154,'T1'!L154,'T2'!J154,T3_R1!K154,T3_R2!K154)","v":0},{"$f":"MAX('MDA1'!K154,'MDA2'!K154,'MDA3'!I154,'MDA3'!L154,'T1'!M154,'T2'!K154,T3_R1!L154,T3_R2!L154)","v":86303},{"$f":"MAX('MDA1'!L154,'MDA2'!L154,'MDA3'!J154,'MDA3'!M154,'T1'!N154,'T2'!L154,T3_R1!M154,T3_R2!M154)","v":0},86303,{"$f":"MAX('MDA2'!J154,T154)","v":0},{"$f":"MAX('MDA1'!K154,'MDA2'!K154,'MDA3'!I154,'MDA3'!L154,V154,AD154)","v":86303},{"$f":"MAX('MDA1'!L154,'MDA2'!L154,'MDA3'!J154,'MDA3'!M154,AF154)","v":0},86303,49.309828764672439]
[{"$f":"IF(COUNTRY_INFO!A155=0,\" \",COUNTRY_INFO!A155)","v":"Tanzania"},{"$f":"IF(COUNTRY_INFO!B155=0,\" \",COUNTRY_INFO!B155)","v":"Shinyanga"},{"$f":"IF(COUNTRY_INFO!C155=0,\" \",COUNTRY_INFO!C155)","v":"Shinyanga Municipal Council"},{"$f":"COUNTRY_INFO!L155","v":0},null,null,{"$f":"MAX('MDA1'!M155,'MDA2'!M155)","v":0},{"$f":"IF(AND(COUNTRY_INFO!H155>0,COUNTRY_INFO!H155<4),IF(D155>MAX('MDA1'!M155,'MDA2'!M155),MAX('MDA1'!M155,'MDA2'!M155),D155),0)","v":0},{"$f":"IF(AND(COUNTRY_INFO!H155>0,COUNTRY_INFO!H155<4), IF(G155/D155*100<>0, IF(G155/D155*100>100,100,G155/D155*100), \"-\"),0)","v":0},{"$f":"COUNTRY_INFO!M155","v":0},null,null,{"$f":"MAX('MDA1'!M155,MAX('MDA3'!I155,'MDA3'!L155)+MAX('MDA3'!J155,'MDA3'!M155))","v":0},{"$f":"IF(AND(COUNTRY_INFO!I155>0,COUNTRY_INFO!I155<4),IF(J155>MAX('MDA1'!M155,MAX('MDA3'!I155,'MDA3'!L155)+MAX('MDA3'!J155,'MDA3'!M155)),MAX('MDA1'!M155,MAX('MDA3'!I155,'MDA3'!L155)+MAX('MDA3'!J155,'MDA3'!M155)),J155),0)","v":0},{"$f":"IF(AND(COUNTRY_INFO!I155>0,COUNTRY_INFO!I155<4), IF(M155/J155*100<>0, IF(M155/J155*100>100,100,M155/J155*100), \"-\"),0)","v":0},{"$f":"COUNTRY_INFO!N155","v":55983},null,null,{"$f":"SUM(MAX('MDA2'!J155, 'T1'!L155, MAX(T3_R1!K155, T3_R2!K155)), MAX('MDA1'!K155, 'MDA2'!K155, 'T1'!M155, MAX(T3_R1!L155, T3_R2!L155)), MAX('MDA1'!L155, 'MDA2'!L155, 'T1'!N155, MAX(T3_R1!M155, T3_R2!M155)))","v":37607},{"$f":"IF(AND(COUNTRY_INFO!J155>1,COUNTRY_INFO!J155<4),IF(COUNTRY_INFO!E155>MAX('MDA2'!J155,'T1'!L155,MAX(T3_R1!K155,T3_R2!K155)),MAX('MDA2'!J155,'T1'!L155,MAX(T3_R1!K155,T3_R2!K155)),COUNTRY_INFO!E155),0)","v":0},{"$f":"IF(AND(COUNTRY_INFO!J155>1,COUNTRY_INFO!J155<4), IF(T155/COUNTRY_INFO!E155*100<>0, IF(T155/COUNTRY_INFO!E155*100>100,100,T155/COUNTRY_INFO!E155*100), \"-\"),0)","v":"-"},{"$f":"IF(AND(COUNTRY_INFO!J155>1,COUNTRY_INFO!J155<4),IF(COUNTRY_INFO!F155>MAX('MDA1'!K155,'MDA2'!K155,'T1'!M155,MAX(T3_R1!L155,T3_R2!L155)),MAX('MDA1'!K155,'MDA2'!K155,'T1'!M155,MAX(T3_R1!L155,T3_R2!L155)),COUNTRY_INFO!F155),0)","v":37607},{"$f":"IF(AND(COUNTRY_INFO!J155>1,COUNTRY_INFO!J155<4), IF(V155/COUNTRY_INFO!F155*100<>0, IF(V155/COUNTRY_INFO!F155*100>100,100,V155/COUNTRY_INFO!F155*100), \"-\"),0)","v":89.149914659586571},37607,{"$f":"IF(AND(COUNTRY_INFO!J155>1,COUNTRY_INFO!J155<4), IF(S155/P155*100<>0, IF(X155/P155*100>100,100,X155/P155*100), \"-\"),0)","v":67.175749781183569},{"$f":"COUNTRY_INFO!O155","v":46460.2},null,null,{"$f":"MAX('T1'!L155,'T2'!J155)+MAX('T1'!M155,'T2'!K155)+MAX('T1'!N155,'T2'!L155)","v":37607},{"$f":"IF(COUNTRY_INFO!K155=1,IF(COUNTRY_INFO!F155*0.33>MAX('T1'!M155,'T2'!K155),MAX('T1'!M155,'T2'!K155),COUNTRY_INFO!F155*0.33),IF(COUNTRY_INFO!K155=2,IF(COUNTRY_INFO!F155*0.5>MAX('T1'!M155,'T2'!K155),MAX('T1'!M155,'T2'!K155),COUNTRY_INFO!F155*0.5),IF(COUNTRY_INFO!K155=3,IF(COUNTRY_INFO!F155>MAX('T1'!M155,'T2'!K155),MAX('T1'!M155,'T2'!K155),COUNTRY_INFO!F155),0)))","v":21092},{"$f":"IF(AND(COUNTRY_INFO!K155>0,COUNTRY_INFO!K155<4),IF(Z155>0,IF(COUNTRY_INFO!K155=1, AD155/(COUNTRY_INFO!F155*0.33)*100, IF(COUNTRY_INFO!K155=2, AD155/(COUNTRY_INFO!F155*0.5)*100, IF(COUNTRY_INFO!K155=3, AD155/COUNTRY_INFO!F155*100))),\"-\"),0)","v":100},{"$f":"IF(COUNTRY_INFO!K155=2,IF(COUNTRY_INFO!G155*0.2>MAX('T1'!N155,'T2'!L155),MAX('T1'!N155,'T2'!L155),COUNTRY_INFO!G155*0.2),IF(COUNTRY_INFO!K155=3,IF(COUNTRY_INFO!G155>MAX('T1'!N155,'T2'!L155),MAX('T1'!N155,'T2'!L155),COUNTRY_INFO!G155),0))","v":0},{"$f":"IF(AND(COUNTRY_INFO!K155>0,COUNTRY_INFO!K155<4),IF(Z155>0,IF(COUNTRY_INFO!K155=1, 0, IF(COUNTRY_INFO!K155=2, AF155/(COUNTRY_INFO!G155*0.2)*100, IF(COUNTRY_INFO!K155=3, AF155/COUNTRY_INFO!G155*100))),\"-\"),0)","v":0},21092,{"$f":"IF(AND(COUNTRY_INFO!K155>0,COUNTRY_INFO!K155<4), IF(AC155/Z155*100<>0, IF(AH155/Z155*100>100,100,AH155/Z155*100), \"-\"),0)","v":45.397996564801701},null,{"$f":"IF(AND(D155<>0, D155<>\"Unknown\",D155<>\"Stopped\",D155<>\"Not required\"),D155/COUNTRY_INFO!D155, 0)","v":0},{"$f":"IF(AND(J155<>0,J155<>\"Unknown\",J155<>\"Stopped\",J155<>\"Not required\"),J155/COUNTRY_INFO!D155, 0)","v":0},{"$f":"IF(AND(P155<>0,P155<>\"Unknown\",P155<>\"Not required\"),P155/(COUNTRY_INFO!E155+COUNTRY_INFO!F155), 0)","v":1},{"$f":"IF(AND(Z155<>0,Z155<>\"Unknown\",Z155<>\"Not required\"),IF(COUNTRY_INFO!K155=1,1,IF(COUNTRY_INFO!K155=2,0.5*COUNTRY_INFO!F155/(0.5*COUNTRY_INFO!F155+0.2*COUNTRY_INFO!G155),IF(COUNTRY_INFO!K155=3,COUNTRY_INFO!F155/(COUNTRY_INFO!F155+COUNTRY_INFO!G155)))),0)","v":0.45397996564801701},{"$f":"IF(AND(Z155<>0,Z155<>\"Unknown\",Z155<>\"Not required\"),IF(COUNTRY_INFO!K155=1,0,IF(COUNTRY_INFO!K155=2,0.2*COUNTRY_INFO!G155/(0.5*COUNTRY_INFO!F155+0.2*COUNTRY_INFO!G155),IF(COUNTRY_INFO!K155=3,COUNTRY_INFO!G155/(COUNTRY_INFO!F155+COUNTRY_INFO!G155)))),0)","v":0.54602003435198299},{"$f":"MAX(COUNTRY_INFO!D155*AK155*PROFILE!$G$7,COUNTRY_INFO!D155*AL155*PROFILE!$G$7)","v":0},{"$f":"MAX(COUNTRY_INFO!D155*AK155*PROFILE!$G$8,COUNTRY_INFO!D155*AL155*PROFILE!$G$8,COUNTRY_INFO!D155*AM155*PROFILE!$G$8)","v":20299.062380452284},{"$f":"MAX(COUNTRY_INFO!D155*AK155*PROFILE!$G$9,COUNTRY_INFO!D155*AL155*PROFILE!$G$9,COUNTRY_INFO!D155*AM155*PROFILE!$G$9,IF(AND(DISTRICT!Z155<>\"Unknown\",Z155<>\"Not required\"),COUNTRY_INFO!O155*DISTRICT!AN155,0))","v":39814.495046433214},{"$f":"MAX(COUNTRY_INFO!D155*AK155*PROFILE!$G$10,COUNTRY_INFO!D155*AL155*PROFILE!$G$10,IF(AND(DISTRICT!Z155<>\"Unknown\",Z155<>\"Not required\"),COUNTRY_INFO!O155*DISTRICT!AO155,0))","v":25368.199999999997},85481.757426885495,"Y",{"$f":"MAX('MDA2'!J155,'T1'!L155,'T2'!J155,T3_R1!K155,T3_R2!K155)","v":0},{"$f":"MAX('MDA1'!K155,'MDA2'!K155,'MDA3'!I155,'MDA3'!L155,'T1'!M155,'T2'!K155,T3_R1!L155,T3_R2!L155)","v":37607},{"$f":"MAX('MDA1'!L155,'MDA2'!L155,'MDA3'!J155,'MDA3'!M155,'T1'!N155,'T2'!L155,T3_R1!M155,T3_R2!M155)","v":0},37607,{"$f":"MAX('MDA2'!J155,T155)","v":0},{"$f":"MAX('MDA1'!K155,'MDA2'!K155,'MDA3'!I155,'MDA3'!L155,V155,AD155)","v":37607},{"$f":"MAX('MDA1'!L155,'MDA2'!L155,'MDA3'!J155,'MDA3'!M155,AF155)","v":0},37607,43.994182071146732]
[{"$f":"IF(COUNTRY_INFO!A156=0,\" \",COUNTRY_INFO!A156)","v":"Tanzania"},{"$f":"IF(COUNTRY_INFO!B156=0,\" \",COUNTRY_INFO!B156)","v":"Shinyanga"},{"$f":"IF(COUNTRY_INFO!C156=0,\" \",COUNTRY_INFO!C156)","v":"Ushetu District Council"},{"$f":"COUNTRY_INFO!L156","v":0},null,null,{"$f":"MAX('MDA1'!M156,'MDA2'!M156)","v":0},{"$f":"IF(AND(COUNTRY_INFO!H156>0,COUNTRY_INFO!H156<4),IF(D156>MAX('MDA1'!M156,'MDA2'!M156),MAX('MDA1'!M156,'MDA2'!M156),D156),0)","v":0},{"$f":"IF(AND(COUNTRY_INFO!H156>0,COUNTRY_INFO!H156<4), IF(G156/D156*100<>0, IF(G156/D156*100>100,100,G156/D156*100), \"-\"),0)","v":0},{"$f":"COUNTRY_INFO!M156","v":0},null,null,{"$f":"MAX('MDA1'!M156,MAX('MDA3'!I156,'MDA3'!L156)+MAX('MDA3'!J156,'MDA3'!M156))","v":0},{"$f":"IF(AND(COUNTRY_INFO!I156>0,COUNTRY_INFO!I156<4),IF(J156>MAX('MDA1'!M156,MAX('MDA3'!I156,'MDA3'!L156)+MAX('MDA3'!J156,'MDA3'!M156)),MAX('MDA1'!M156,MAX('MDA3'!I156,'MDA3'!L156)+MAX('MDA3'!J156,'MDA3'!M156)),J156),0)","v":0},{"$f":"IF(AND(COUNTRY_INFO!I156>0,COUNTRY_INFO!I156<4), IF(M156/J156*100<>0, IF(M156/J156*100>100,100,M156/J156*100), \"-\"),0)","v":0},{"$f":"COUNTRY_INFO!N156","v":104222},null,null,{"$f":"SUM(MAX('MDA2'!J156, 'T1'!L156, MAX(T3_R1!K156, T3_R2!K156)), MAX('MDA1'!K156, 'MDA2'!K156, 'T1'!M156, MAX(T3_R1!L156, T3_R2!L156)), MAX('MDA1'!L156, 'MDA2'!L156, 'T1'!N156, MAX(T3_R1!M156, T3_R2!M156)))","v":81893},{"$f":"IF(AND(COUNTRY_INFO!J156>1,COUNTRY_INFO!J156<4),IF(COUNTRY_INFO!E156>MAX('MDA2'!J156,'T1'!L156,MAX(T3_R1!K156,T3_R2!K156)),MAX('MDA2'!J156,'T1'!L156,MAX(T3_R1!K156,T3_R2!K156)),COUNTRY_INFO!E156),0)","v":0},{"$f":"IF(AND(COUNTRY_INFO!J156>1,COUNTRY_INFO!J156<4), IF(T156/COUNTRY_INFO!E156*100<>0, IF(T156/COUNTRY_INFO!E156*100>100,100,T156/COUNTRY_INFO!E156*100), \"-\"),0)","v":"-"},{"$f":"IF(AND(COUNTRY_INFO!J156>1,COUNTRY_INFO!J156<4),IF(COUNTRY_INFO!F156>MAX('MDA1'!K156,'MDA2'!K156,'T1'!M156,MAX(T3_R1!L156,T3_R2!L156)),MAX('MDA1'!K156,'MDA2'!K156,'T1'!M156,MAX(T3_R1!L156,T3_R2!L156)),COUNTRY_INFO!F156),0)","v":81893},{"$f":"IF(AND(COUNTRY_INFO!J156>1,COUNTRY_INFO!J156<4), IF(V156/COUNTRY_INFO!F156*100<>0, IF(V156/COUNTRY_INFO!F156*100>100,100,V156/COUNTRY_INFO!F156*100), \"-\"),0)","v":98.581935934321237},81893,{"$f":"IF(AND(COUNTRY_INFO!J156>1,COUNTRY_INFO!J156<4), IF(S156/P156*100<>0, IF(X156/P156*100>100,100,X156/P156*100), \"-\"),0)","v":78.575540672794602},{"$f":"COUNTRY_INFO!O156","v":82559.100000000006},null,null,{"$f":"MAX('T1'!L156,'T2'!J156)+MAX('T1'!M156,'T2'!K156)+MAX('T1'!N156,'T2'!L156)","v":81893},{"$f":"IF(COUNTRY_INFO!K156=1,IF(COUNTRY_INFO!F156*0.33>MAX('T1'!M156,'T2'!K156),MAX('T1'!M156,'T2'!K156),COUNTRY_INFO!F156*0.33),IF(COUNTRY_INFO!K156=2,IF(COUNTRY_INFO!F156*0.5>MAX('T1'!M156,'T2'!K156),MAX('T1'!M156,'T2'!K156),COUNTRY_INFO!F156*0.5),IF(COUNTRY_INFO!K156=3,IF(COUNTRY_INFO!F156>MAX('T1'!M156,'T2'!K156),MAX('T1'!M156,'T2'!K156),COUNTRY_INFO!F156),0)))","v":41535.5},{"$f":"IF(AND(COUNTRY_INFO!K156>0,COUNTRY_INFO!K156<4),IF(Z156>0,IF(COUNTRY_INFO!K156=1, AD156/(COUNTRY_INFO!F156*0.33)*100, IF(COUNTRY_INFO!K156=2, AD156/(COUNTRY_INFO!F156*0.5)*100, IF(COUNTRY_INFO!K156=3, AD156/COUNTRY_INFO!F156*100))),\"-\"),0)","v":100},{"$f":"IF(COUNTRY_INFO!K156=2,IF(COUNTRY_INFO!G156*0.2>MAX('T1'!N156,'T2'!L156),MAX('T1'!N156,'T2'!L156),COUNTRY_INFO!G156*0.2),IF(COUNTRY_INFO!K156=3,IF(COUNTRY_INFO!G156>MAX('T1'!N156,'T2'!L156),MAX('T1'!N156,'T2'!L156),COUNTRY_INFO!G156),0))","v":0},{"$f":"IF(AND(COUNTRY_INFO!K156>0,COUNTRY_INFO!K156<4),IF(Z156>0,IF(COUNTRY_INFO!K156=1, 0, IF(COUNTRY_INFO!K156=2, AF156/(COUNTRY_INFO!G156*0.2)*100, IF(COUNTRY_INFO!K156=3, AF156/COUNTRY_INFO!G156*100))),\"-\"),0)","v":0},41535.5,{"$f":"IF(AND(COUNTRY_INFO!K156>0,COUNTRY_INFO!K156<4), IF(AC156/Z156*100<>0, IF(AH156/Z156*100>100,100,AH156/Z156*100), \"-\"),0)","v":50.310020336946501},null,{"$f":"IF(AND(D156<>0, D156<>\"Unknown\",D156<>\"Stopped\",D156<>\"Not required\"),D156/COUNTRY_INFO!D156, 0)","v":0},{"$f":"IF(AND(J156<>0,J156<>\"Unknown\",J156<>\"Stopped\",J156<>\"Not required\"),J156/COUNTRY_INFO!D156, 0)","v":0},{"$f":"IF(AND(P156<>0,P156<>\"Unknown\",P156<>\"Not required\"),P156/(COUNTRY_INFO!E156+COUNTRY_INFO!F156), 0)","v":1},{"$f":"IF(AND(Z156<>0,Z156<>\"Unknown\",Z156<>\"Not required\"),IF(COUNTRY_INFO!K156=1,1,IF(COUNTRY_INFO!K156=2,0.5*COUNTRY_INFO!F156/(0.5*COUNTRY_INFO!F156+0.2*COUNTRY_INFO!G156),IF(COUNTRY_INFO!K156=3,COUNTRY_INFO!F156/(COUNTRY_INFO!F156+COUNTRY_INFO!G156)))),0)","v":0.50310020336946504},{"$f":"IF(AND(Z156<>0,Z156<>\"Unknown\",Z156<>\"Not required\"),IF(COUNTRY_INFO!K156=1,0,IF(COUNTRY_INFO!K156=2,0.2*COUNTRY_INFO!G156/(0.5*COUNTRY_INFO!F156+0.2*COUNTRY_INFO!G156),IF(COUNTRY_INFO!K156=3,COUNTRY_INFO!G156/(COUNTRY_INFO!F156+COUNTRY_INFO!G156)))),0)","v":0.49689979663053502},{"$f":"MAX(COUNTRY_INFO!D156*AK156*PROFILE!$G$7,COUNTRY_INFO!D156*AL156*PROFILE!$G$7)","v":0},{"$f":"MAX(COUNTRY_INFO!D156*AK156*PROFILE!$G$8,COUNTRY_INFO!D156*AL156*PROFILE!$G$8,COUNTRY_INFO!D156*AM156*PROFILE!$G$8)","v":34346.212514599341},{"$f":"MAX(COUNTRY_INFO!D156*AK156*PROFILE!$G$9,COUNTRY_INFO!D156*AL156*PROFILE!$G$9,COUNTRY_INFO!D156*AM156*PROFILE!$G$9,IF(AND(DISTRICT!Z156<>\"Unknown\",Z156<>\"Not required\"),COUNTRY_INFO!O156*DISTRICT!AN156,0))","v":67366.51587134978},{"$f":"MAX(COUNTRY_INFO!D156*AK156*PROFILE!$G$10,COUNTRY_INFO!D156*AL156*PROFILE!$G$10,IF(AND(DISTRICT!Z156<>\"Unknown\",Z156<>\"Not required\"),COUNTRY_INFO!O156*DISTRICT!AO156,0))","v":41023.600000000006},142736.32838594913,"Y",{"$f":"MAX('MDA2'!J156,'T1'!L156,'T2'!J156,T3_R1!K156,T3_R2!K156)","v":0},{"$f":"MAX('MDA1'!K156,'MDA2'!K156,'MDA3'!I156,'MDA3'!L156,'T1'!M156,'T2'!K156,T3_R1!L156,T3_R2!L156)","v":81893},{"$f":"MAX('MDA1'!L156,'MDA2'!L156,'MDA3'!J156,'MDA3'!M156,'T1'!N156,'T2'!L156,T3_R1!M156,T3_R2!M156)","v":0},81893,{"$f":"MAX('MDA2'!J156,T156)","v":0},{"$f":"MAX('MDA1'!K156,'MDA2'!K156,'MDA3'!I156,'MDA3'!L156,V156,AD156)","v":81893},{"$f":"MAX('MDA1'!L156,'MDA2'!L156,'MDA3'!J156,'MDA3'!M156,AF156)","v":0},81893,57.373620945725193]
[{"$f":"IF(COUNTRY_INFO!A157=0,\" \",COUNTRY_INFO!A157)","v":"Tanzania"},{"$f":"IF(COUNTRY_INFO!B157=0,\" \",COUNTRY_INFO!B157)","v":"Simiyu"},{"$f":"IF(COUNTRY_INFO!C157=0,\" \",COUNTRY_INFO!C157)","v":"Bariadi District Council"},{"$f":"COUNTRY_INFO!L157","v":0},null,null,{"$f":"MAX('MDA1'!M157,'MDA2'!M157)","v":0},{"$f":"IF(AND(COUNTRY_INFO!H157>0,COUNTRY_INFO!H157<4),IF(D157>MAX('MDA1'!M157,'MDA2'!M157),MAX('MDA1'!M157,'MDA2'!M157),D157),0)","v":0},{"$f":"IF(AND(COUNTRY_INFO!H157>0,COUNTRY_INFO!H157<4), IF(G157/D157*100<>0, IF(G157/D157*100>100,100,G157/D157*100), \"-\"),0)","v":0},{"$f":"COUNTRY_INFO!M157","v":0},null,null,{"$f":"MAX('MDA1'!M157,MAX('MDA3'!I157,'MDA3'!L157)+MAX('MDA3'!J157,'MDA3'!M157))","v":0},{"$f":"IF(AND(COUNTRY_INFO!I157>0,COUNTRY_INFO!I157<4),IF(J157>MAX('MDA1'!M157,MAX('MDA3'!I157,'MDA3'!L157)+MAX('MDA3'!J157,'MDA3'!M157)),MAX('MDA1'!M157,MAX('MDA3'!I157,'MDA3'!L157)+MAX('MDA3'!J157,'MDA3'!M157)),J157),0)","v":0},{"$f":"IF(AND(COUNTRY_INFO!I157>0,COUNTRY_INFO!I157<4), IF(M157/J157*100<>0, IF(M157/J157*100>100,100,M157/J157*100), \"-\"),0)","v":0},{"$f":"COUNTRY_INFO!N157","v":102346},null,null,{"$f":"SUM(MAX('MDA2'!J157, 'T1'!L157, MAX(T3_R1!K157, T3_R2!K157)), MAX('MDA1'!K157, 'MDA2'!K157, 'T1'!M157, MAX(T3_R1!L157, T3_R2!L157)), MAX('MDA1'!L157, 'MDA2'!L157, 'T1'!N157, MAX(T3_R1!M157, T3_R2!M157)))","v":80657},{"$f":"IF(AND(COUNTRY_INFO!J157>1,COUNTRY_INFO!J157<4),IF(COUNTRY_INFO!E157>MAX('MDA2'!J157,'T1'!L157,MAX(T3_R1!K157,T3_R2!K157)),MAX('MDA2'!J157,'T1'!L157,MAX(T3_R1!K157,T3_R2!K157)),COUNTRY_INFO!E157),0)","v":0},{"$f":"IF(AND(COUNTRY_INFO!J157>1,COUNTRY_INFO!J157<4), IF(T157/COUNTRY_INFO!E157*100<>0, IF(T157/COUNTRY_INFO!E157*100>100,100,T157/COUNTRY_INFO!E157*100), \"-\"),0)","v":"-"},{"$f":"IF(AND(COUNTRY_INFO!J157>1,COUNTRY_INFO!J157<4),IF(COUNTRY_INFO!F157>MAX('MDA1'!K157,'MDA2'!K157,'T1'!M157,MAX(T3_R1!L157,T3_R2!L157)),MAX('MDA1'!K157,'MDA2'!K157,'T1'!M157,MAX(T3_R1!L157,T3_R2!L157)),COUNTRY_INFO!F157),0)","v":80657},{"$f":"IF(AND(COUNTRY_INFO!J157>1,COUNTRY_INFO!J157<4), IF(V157/COUNTRY_INFO!F157*100<>0, IF(V157/COUNTRY_INFO!F157*100>100,100,V157/COUNTRY_INFO!F157*100), \"-\"),0)","v":89.525384598308435},80657,{"$f":"IF(AND(COUNTRY_INFO!J157>1,COUNTRY_INFO!J157<4), IF(S157/P157*100<>0, IF(X157/P157*100>100,100,X157/P157*100), \"-\"),0)","v":78.80816055341684},{"$f":"COUNTRY_INFO!O157","v":285243},null,null,{"$f":"MAX('T1'!L157,'T2'!J157)+MAX('T1'!M157,'T2'!K157)+MAX('T1'!N157,'T2'!L157)","v":80657},{"$f":"IF(COUNTRY_INFO!K157=1,IF(COUNTRY_INFO!F157*0.33>MAX('T1'!M157,'T2'!K157),MAX('T1'!M157,'T2'!K157),COUNTRY_INFO!F157*0.33),IF(COUNTRY_INFO!K157=2,IF(COUNTRY_INFO!F157*0.5>MAX('T1'!M157,'T2'!K157),MAX('T1'!M157,'T2'!K157),COUNTRY_INFO!F157*0.5),IF(COUNTRY_INFO!K157=3,IF(COUNTRY_INFO!F157>MAX('T1'!M157,'T2'!K157),MAX('T1'!M157,'T2'!K157),COUNTRY_INFO!F157),0)))","v":80657},{"$f":"IF(AND(COUNTRY_INFO!K157>0,COUNTRY_INFO!K157<4),IF(Z157>0,IF(COUNTRY_INFO!K157=1, AD157/(COUNTRY_INFO!F157*0.33)*100, IF(COUNTRY_INFO!K157=2, AD157/(COUNTRY_INFO!F157*0.5)*100, IF(COUNTRY_INFO!K157=3, AD157/COUNTRY_INFO!F157*100))),\"-\"),0)","v":89.525384598308435},{"$f":"IF(COUNTRY_INFO!K157=2,IF(COUNTRY_INFO!G157*0.2>MAX('T1'!N157,'T2'!L157),MAX('T1'!N157,'T2'!L157),COUNTRY_INFO!G157*0.2),IF(COUNTRY_INFO!K157=3,IF(COUNTRY_INFO!G157>MAX('T1'!N157,'T2'!L157),MAX('T1'!N157,'T2'!L157),COUNTRY_INFO!G157),0))","v":0},{"$f":"IF(AND(COUNTRY_INFO!K157>0,COUNTRY_INFO!K157<4),IF(Z157>0,IF(COUNTRY_INFO!K157=1, 0, IF(COUNTRY_INFO!K157=2, AF157/(COUNTRY_INFO!G157*0.2)*100, IF(COUNTRY_INFO!K157=3, AF157/COUNTRY_INFO!G157*100))),\"-\"),0)","v":0},80657,{"$f":"IF(AND(COUNTRY_INFO!K157>0,COUNTRY_INFO!K157<4), IF(AC157/Z157*100<>0, IF(AH157/Z157*100>100,100,AH157/Z157*100), \"-\"),0)","v":28.276592238898061},null,{"$f":"IF(AND(D157<>0, D157<>\"Unknown\",D157<>\"Stopped\",D157<>\"Not required\"),D157/COUNTRY_INFO!D157, 0)","v":0},{"$f":"IF(AND(J157<>0,J157<>\"Unknown\",J157<>\"Stopped\",J157<>\"Not required\"),J157/COUNTRY_INFO!D157, 0)","v":0},{"$f":"IF(AND(P157<>0,P157<>\"Unknown\",P157<>\"Not required\"),P157/(COUNTRY_INFO!E157+COUNTRY_INFO!F157), 0)","v":1},{"$f":"IF(AND(Z157<>0,Z157<>\"Unknown\",Z157<>\"Not required\"),IF(COUNTRY_INFO!K157=1,1,IF(COUNTRY_INFO!K157=2,0.5*COUNTRY_INFO!F157/(0.5*COUNTRY_INFO!F157+0.2*COUNTRY_INFO!G157),IF(COUNTRY_INFO!K157=3,COUNTRY_INFO!F157/(COUNTRY_INFO!F157+COUNTRY_INFO!G157)))),0)","v":0.31584999456603668},{"$f":"IF(AND(Z157<>0,Z157<>\"Unknown\",Z157<>\"Not required\"),IF(COUNTRY_INFO!K157=1,0,IF(COUNTRY_INFO!K157=2,0.2*COUNTRY_INFO!G157/(0.5*COUNTRY_INFO!F157+0.2*COUNTRY_INFO!G157),IF(COUNTRY_INFO!K157=3,COUNTRY_INFO!G157/(COUNTRY_INFO!F157+COUNTRY_INFO!G157)))),0)","v":0.68415000543396332},{"$f":"MAX(COUNTRY_INFO!D157*AK157*PROFILE!$G$7,COUNTRY_INFO!D157*AL157*PROFILE!$G$7)","v":0},{"$f":"MAX(COUNTRY_INFO!D157*AK157*PROFILE!$G$8,COUNTRY_INFO!D157*AL157*PROFILE!$G$8,COUNTRY_INFO!D157*AM157*PROFILE!$G$8)","v":33031.054800642429},{"$f":"MAX(COUNTRY_INFO!D157*AK157*PROFILE!$G$9,COUNTRY_INFO!D157*AL157*PROFILE!$G$9,COUNTRY_INFO!D157*AM157*PROFILE!$G$9,IF(AND(DISTRICT!Z157<>\"Unknown\",Z157<>\"Not required\"),COUNTRY_INFO!O157*DISTRICT!AN157,0))","v":90094},{"$f":"MAX(COUNTRY_INFO!D157*AK157*PROFILE!$G$10,COUNTRY_INFO!D157*AL157*PROFILE!$G$10,IF(AND(DISTRICT!Z157<>\"Unknown\",Z157<>\"Not required\"),COUNTRY_INFO!O157*DISTRICT!AO157,0))","v":195149},318274.05480064242,"Y",{"$f":"MAX('MDA2'!J157,'T1'!L157,'T2'!J157,T3_R1!K157,T3_R2!K157)","v":0},{"$f":"MAX('MDA1'!K157,'MDA2'!K157,'MDA3'!I157,'MDA3'!L157,'T1'!M157,'T2'!K157,T3_R1!L157,T3_R2!L157)","v":80657},{"$f":"MAX('MDA1'!L157,'MDA2'!L157,'MDA3'!J157,'MDA3'!M157,'T1'!N157,'T2'!L157,T3_R1!M157,T3_R2!M157)","v":0},80657,{"$f":"MAX('MDA2'!J157,T157)","v":0},{"$f":"MAX('MDA1'!K157,'MDA2'!K157,'MDA3'!I157,'MDA3'!L157,V157,AD157)","v":80657},{"$f":"MAX('MDA1'!L157,'MDA2'!L157,'MDA3'!J157,'MDA3'!M157,AF157)","v":0},80657,25.341996554045597]
[{"$f":"IF(COUNTRY_INFO!A158=0,\" \",COUNTRY_INFO!A158)","v":"Tanzania"},{"$f":"IF(COUNTRY_INFO!B158=0,\" \",COUNTRY_INFO!B158)","v":"Simiyu"},{"$f":"IF(COUNTRY_INFO!C158=0,\" \",COUNTRY_INFO!C158)","v":"Bariadi Town Council"},{"$f":"COUNTRY_INFO!L158","v":0},null,null,{"$f":"MAX('MDA1'!M158,'MDA2'!M158)","v":0},{"$f":"IF(AND(COUNTRY_INFO!H158>0,COUNTRY_INFO!H158<4),IF(D158>MAX('MDA1'!M158,'MDA2'!M158),MAX('MDA1'!M158,'MDA2'!M158),D158),0)","v":0},{"$f":"IF(AND(COUNTRY_INFO!H158>0,COUNTRY_INFO!H158<4), IF(G158/D158*100<>0, IF(G158/D158*100>100,100,G158/D158*100), \"-\"),0)","v":0},{"$f":"COUNTRY_INFO!M158","v":0},null,null,{"$f":"MAX('MDA1'!M158,MAX('MDA3'!I158,'MDA3'!L158)+MAX('MDA3'!J158,'MDA3'!M158))","v":0},{"$f":"IF(AND(COUNTRY_INFO!I158>0,COUNTRY_INFO!I158<4),IF(J158>MAX('MDA1'!M158,MAX('MDA3'!I158,'MDA3'!L158)+MAX('MDA3'!J158,'MDA3'!M158)),MAX('MDA1'!M158,MAX('MDA3'!I158,'MDA3'!L158)+MAX('MDA3'!J158,'MDA3'!M158)),J158),0)","v":0},{"$f":"IF(AND(COUNTRY_INFO!I158>0,COUNTRY_INFO!I158<4), IF(M158/J158*100<>0, IF(M158/J158*100>100,100,M158/J158*100), \"-\"),0)","v":0},{"$f":"COUNTRY_INFO!N158","v":59586},null,null,{"$f":"SUM(MAX('MDA2'!J158, 'T1'!L158, MAX(T3_R1!K158, T3_R2!K158)), MAX('MDA1'!K158, 'MDA2'!K158, 'T1'!M158, MAX(T3_R1!L158, T3_R2!L158)), MAX('MDA1'!L158, 'MDA2'!L158, 'T1'!N158, MAX(T3_R1!M158, T3_R2!M158)))","v":41529},{"$f":"IF(AND(COUNTRY_INFO!J158>1,COUNTRY_INFO!J158<4),IF(COUNTRY_INFO!E158>MAX('MDA2'!J158,'T1'!L158,MAX(T3_R1!K158,T3_R2!K158)),MAX('MDA2'!J158,'T1'!L158,MAX(T3_R1!K158,T3_R2!K158)),COUNTRY_INFO!E158),0)","v":0},{"$f":"IF(AND(COUNTRY_INFO!J158>1,COUNTRY_INFO!J158<4), IF(T158/COUNTRY_INFO!E158*100<>0, IF(T158/COUNTRY_INFO!E158*100>100,100,T158/COUNTRY_INFO!E158*100), \"-\"),0)","v":"-"},{"$f":"IF(AND(COUNTRY_INFO!J158>1,COUNTRY_INFO!J158<4),IF(COUNTRY_INFO!F158>MAX('MDA1'!K158,'MDA2'!K158,'T1'!M158,MAX(T3_R1!L158,T3_R2!L158)),MAX('MDA1'!K158,'MDA2'!K158,'T1'!M158,MAX(T3_R1!L158,T3_R2!L158)),COUNTRY_INFO!F158),0)","v":41529},{"$f":"IF(AND(COUNTRY_INFO!J158>1,COUNTRY_INFO!J158<4), IF(V158/COUNTRY_INFO!F158*100<>0, IF(V158/COUNTRY_INFO!F158*100>100,100,V158/COUNTRY_INFO!F158*100), \"-\"),0)","v":78.296035142625513},41529,{"$f":"IF(AND(COUNTRY_INFO!J158>1,COUNTRY_INFO!J158<4), IF(S158/P158*100<>0, IF(X158/P158*100>100,100,X158/P158*100), \"-\"),0)","v":69.695901721880986},{"$f":"COUNTRY_INFO!O158","v":166657},null,null,{"$f":"MAX('T1'!L158,'T2'!J158)+MAX('T1'!M158,'T2'!K158)+MAX('T1'!N158,'T2'!L158)","v":41529},{"$f":"IF(COUNTRY_INFO!K158=1,IF(COUNTRY_INFO!F158*0.33>MAX('T1'!M158,'T2'!K158),MAX('T1'!M158,'T2'!K158),COUNTRY_INFO!F158*0.33),IF(COUNTRY_INFO!K158=2,IF(COUNTRY_INFO!F158*0.5>MAX('T1'!M158,'T2'!K158),MAX('T1'!M158,'T2'!K158),COUNTRY_INFO!F158*0.5),IF(COUNTRY_INFO!K158=3,IF(COUNTRY_INFO!F158>MAX('T1'!M158,'T2'!K158),MAX('T1'!M158,'T2'!K158),COUNTRY_INFO!F158),0)))","v":41529},{"$f":"IF(AND(COUNTRY_INFO!K158>0,COUNTRY_INFO!K158<4),IF(Z158>0,IF(COUNTRY_INFO!K158=1, AD158/(COUNTRY_INFO!F158*0.33)*100, IF(COUNTRY_INFO!K158=2, AD158/(COUNTRY_INFO!F158*0.5)*100, IF(COUNTRY_INFO!K158=3, AD158/COUNTRY_INFO!F158*100))),\"-\"),0)","v":78.296035142625513},{"$f":"IF(COUNTRY_INFO!K158=2,IF(COUNTRY_INFO!G158*0.2>MAX('T1'!N158,'T2'!L158),MAX('T1'!N158,'T2'!L158),COUNTRY_INFO!G158*0.2),IF(COUNTRY_INFO!K158=3,IF(COUNTRY_INFO!G158>MAX('T1'!N158,'T2'!L158),MAX('T1'!N158,'T2'!L158),COUNTRY_INFO!G158),0))","v":0},{"$f":"IF(AND(COUNTRY_INFO!K158>0,COUNTRY_INFO!K158<4),IF(Z158>0,IF(COUNTRY_INFO!K158=1, 0, IF(COUNTRY_INFO!K158=2, AF158/(COUNTRY_INFO!G158*0.2)*100, IF(COUNTRY_INFO!K158=3, AF158/COUNTRY_INFO!G158*100))),\"-\"),0)","v":0},41529,{"$f":"IF(AND(COUNTRY_INFO!K158>0,COUNTRY_INFO!K158<4), IF(AC158/Z158*100<>0, IF(AH158/Z158*100>100,100,AH158/Z158*100), \"-\"),0)","v":24.918845293026994},null,{"$f":"IF(AND(D158<>0, D158<>\"Unknown\",D158<>\"Stopped\",D158<>\"Not required\"),D158/COUNTRY_INFO!D158, 0)","v":0},{"$f":"IF(AND(J158<>0,J158<>\"Unknown\",J158<>\"Stopped\",J158<>\"Not required\"),J158/COUNTRY_INFO!D158, 0)","v":0},{"$f":"IF(AND(P158<>0,P158<>\"Unknown\",P158<>\"Not required\"),P158/(COUNTRY_INFO!E158+COUNTRY_INFO!F158), 0)","v":1},{"$f":"IF(AND(Z158<>0,Z158<>\"Unknown\",Z158<>\"Not required\"),IF(COUNTRY_INFO!K158=1,1,IF(COUNTRY_INFO!K158=2,0.5*COUNTRY_INFO!F158/(0.5*COUNTRY_INFO!F158+0.2*COUNTRY_INFO!G158),IF(COUNTRY_INFO!K158=3,COUNTRY_INFO!F158/(COUNTRY_INFO!F158+COUNTRY_INFO!G158)))),0)","v":0.31826445933864161},{"$f":"IF(AND(Z158<>0,Z158<>\"Unknown\",Z158<>\"Not required\"),IF(COUNTRY_INFO!K158=1,0,IF(COUNTRY_INFO!K158=2,0.2*COUNTRY_INFO!G158/(0.5*COUNTRY_INFO!F158+0.2*COUNTRY_INFO!G158),IF(COUNTRY_INFO!K158=3,COUNTRY_INFO!G158/(COUNTRY_INFO!F158+COUNTRY_INFO!G158)))),0)","v":0.68173554066135833},{"$f":"MAX(COUNTRY_INFO!D158*AK158*PROFILE!$G$7,COUNTRY_INFO!D158*AL158*PROFILE!$G$7)","v":0},{"$f":"MAX(COUNTRY_INFO!D158*AK158*PROFILE!$G$8,COUNTRY_INFO!D158*AL158*PROFILE!$G$8,COUNTRY_INFO!D158*AM158*PROFILE!$G$8)","v":19230.725738519541},{"$f":"MAX(COUNTRY_INFO!D158*AK158*PROFILE!$G$9,COUNTRY_INFO!D158*AL158*PROFILE!$G$9,COUNTRY_INFO!D158*AM158*PROFILE!$G$9,IF(AND(DISTRICT!Z158<>\"Unknown\",Z158<>\"Not required\"),COUNTRY_INFO!O158*DISTRICT!AN158,0))","v":53040.999999999993},{"$f":"MAX(COUNTRY_INFO!D158*AK158*PROFILE!$G$10,COUNTRY_INFO!D158*AL158*PROFILE!$G$10,IF(AND(DISTRICT!Z158<>\"Unknown\",Z158<>\"Not required\"),COUNTRY_INFO!O158*DISTRICT!AO158,0))","v":113616},185887.72573851954,"Y",{"$f":"MAX('MDA2'!J158,'T1'!L158,'T2'!J158,T3_R1!K158,T3_R2!K158)","v":0},{"$f":"MAX('MDA1'!K158,'MDA2'!K158,'MDA3'!I158,'MDA3'!L158,'T1'!M158,'T2'!K158,T3_R1!L158,T3_R2!L158)","v":41529},{"$f":"MAX('MDA1'!L158,'MDA2'!L158,'MDA3'!J158,'MDA3'!M158,'T1'!N158,'T2'!L158,T3_R1!M158,T3_R2!M158)","v":0},41529,{"$f":"MAX('MDA2'!J158,T158)","v":0},{"$f":"MAX('MDA1'!K158,'MDA2'!K158,'MDA3'!I158,'MDA3'!L158,V158,AD158)","v":41529},{"$f":"MAX('MDA1'!L158,'MDA2'!L158,'MDA3'!J158,'MDA3'!M158,AF158)","v":0},41529,22.340904884928818]
[{"$f":"IF(COUNTRY_INFO!A159=0,\" \",COUNTRY_INFO!A159)","v":"Tanzania"},{"$f":"IF(COUNTRY_INFO!B159=0,\" \",COUNTRY_INFO!B159)","v":"Simiyu"},{"$f":"IF(COUNTRY_INFO!C159=0,\" \",COUNTRY_INFO!C159)","v":"Busega District Council"},{"$f":"COUNTRY_INFO!L159","v":0},null,null,{"$f":"MAX('MDA1'!M159,'MDA2'!M159)","v":0},{"$f":"IF(AND(COUNTRY_INFO!H159>0,COUNTRY_INFO!H159<4),IF(D159>MAX('MDA1'!M159,'MDA2'!M159),MAX('MDA1'!M159,'MDA2'!M159),D159),0)","v":0},{"$f":"IF(AND(COUNTRY_INFO!H159>0,COUNTRY_INFO!H159<4), IF(G159/D159*100<>0, IF(G159/D159*100>100,100,G159/D159*100), \"-\"),0)","v":0},{"$f":"COUNTRY_INFO!M159","v":0},null,null,{"$f":"MAX('MDA1'!M159,MAX('MDA3'!I159,'MDA3'!L159)+MAX('MDA3'!J159,'MDA3'!M159))","v":0},{"$f":"IF(AND(COUNTRY_INFO!I159>0,COUNTRY_INFO!I159<4),IF(J159>MAX('MDA1'!M159,MAX('MDA3'!I159,'MDA3'!L159)+MAX('MDA3'!J159,'MDA3'!M159)),MAX('MDA1'!M159,MAX('MDA3'!I159,'MDA3'!L159)+MAX('MDA3'!J159,'MDA3'!M159)),J159),0)","v":0},{"$f":"IF(AND(COUNTRY_INFO!I159>0,COUNTRY_INFO!I159<4), IF(M159/J159*100<>0, IF(M159/J159*100>100,100,M159/J159*100), \"-\"),0)","v":0},{"$f":"COUNTRY_INFO!N159","v":113193.27459668089},null,null,{"$f":"SUM(MAX('MDA2'!J159, 'T1'!L159, MAX(T3_R1!K159, T3_R2!K159)), MAX('MDA1'!K159, 'MDA2'!K159, 'T1'!M159, MAX(T3_R1!L159, T3_R2!L159)), MAX('MDA1'!L159, 'MDA2'!L159, 'T1'!N159, MAX(T3_R1!M159, T3_R2!M159)))","v":72373},{"$f":"IF(AND(COUNTRY_INFO!J159>1,COUNTRY_INFO!J159<4),IF(COUNTRY_INFO!E159>MAX('MDA2'!J159,'T1'!L159,MAX(T3_R1!K159,T3_R2!K159)),MAX('MDA2'!J159,'T1'!L159,MAX(T3_R1!K159,T3_R2!K159)),COUNTRY_INFO!E159),0)","v":0},{"$f":"IF(AND(COUNTRY_INFO!J159>1,COUNTRY_INFO!J159<4), IF(T159/COUNTRY_INFO!E159*100<>0, IF(T159/COUNTRY_INFO!E159*100>100,100,T159/COUNTRY_INFO!E159*100), \"-\"),0)","v":"-"},{"$f":"IF(AND(COUNTRY_INFO!J159>1,COUNTRY_INFO!J159<4),IF(COUNTRY_INFO!F159>MAX('MDA1'!K159,'MDA2'!K159,'T1'!M159,MAX(T3_R1!L159,T3_R2!L159)),MAX('MDA1'!K159,'MDA2'!K159,'T1'!M159,MAX(T3_R1!L159,T3_R2!L159)),COUNTRY_INFO!F159),0)","v":72373},{"$f":"IF(AND(COUNTRY_INFO!J159>1,COUNTRY_INFO!J159<4), IF(V159/COUNTRY_INFO!F159*100<>0, IF(V159/COUNTRY_INFO!F159*100>100,100,V159/COUNTRY_INFO!F159*100), \"-\"),0)","v":86.197327362378218},72373,{"$f":"IF(AND(COUNTRY_INFO!J159>1,COUNTRY_INFO!J159<4), IF(S159/P159*100<>0, IF(X159/P159*100>100,100,X159/P159*100), \"-\"),0)","v":63.937544220601737},{"$f":"COUNTRY_INFO!O159","v":64662.145080663824},null,null,{"$f":"MAX('T1'!L159,'T2'!J159)+MAX('T1'!M159,'T2'!K159)+MAX('T1'!N159,'T2'!L159)","v":72373},{"$f":"IF(COUNTRY_INFO!K159=1,IF(COUNTRY_INFO!F159*0.33>MAX('T1'!M159,'T2'!K159),MAX('T1'!M159,'T2'!K159),COUNTRY_INFO!F159*0.33),IF(COUNTRY_INFO!K159=2,IF(COUNTRY_INFO!F159*0.5>MAX('T1'!M159,'T2'!K159),MAX('T1'!M159,'T2'!K159),COUNTRY_INFO!F159*0.5),IF(COUNTRY_INFO!K159=3,IF(COUNTRY_INFO!F159>MAX('T1'!M159,'T2'!K159),MAX('T1'!M159,'T2'!K159),COUNTRY_INFO!F159),0)))","v":41981},{"$f":"IF(AND(COUNTRY_INFO!K159>0,COUNTRY_INFO!K159<4),IF(Z159>0,IF(COUNTRY_INFO!K159=1, AD159/(COUNTRY_INFO!F159*0.33)*100, IF(COUNTRY_INFO!K159=2, AD159/(COUNTRY_INFO!F159*0.5)*100, IF(COUNTRY_INFO!K159=3, AD159/COUNTRY_INFO!F159*100))),\"-\"),0)","v":100},{"$f":"IF(COUNTRY_INFO!K159=2,IF(COUNTRY_INFO!G159*0.2>MAX('T1'!N159,'T2'!L159),MAX('T1'!N159,'T2'!L159),COUNTRY_INFO!G159*0.2),IF(COUNTRY_INFO!K159=3,IF(COUNTRY_INFO!G159>MAX('T1'!N159,'T2'!L159),MAX('T1'!N159,'T2'!L159),COUNTRY_INFO!G159),0))","v":0},{"$f":"IF(AND(COUNTRY_INFO!K159>0,COUNTRY_INFO!K159<4),IF(Z159>0,IF(COUNTRY_INFO!K159=1, 0, IF(COUNTRY_INFO!K159=2, AF159/(COUNTRY_INFO!G159*0.2)*100, IF(COUNTRY_INFO!K159=3, AF159/COUNTRY_INFO!G159*100))),\"-\"),0)","v":0},41981,{"$f":"IF(AND(COUNTRY_INFO!K159>0,COUNTRY_INFO!K159<4), IF(AC159/Z159*100<>0, IF(AH159/Z159*100>100,100,AH159/Z159*100), \"-\"),0)","v":64.923611716917421},null,{"$f":"IF(AND(D159<>0, D159<>\"Unknown\",D159<>\"Stopped\",D159<>\"Not required\"),D159/COUNTRY_INFO!D159, 0)","v":0},{"$f":"IF(AND(J159<>0,J159<>\"Unknown\",J159<>\"Stopped\",J159<>\"Not required\"),J159/COUNTRY_INFO!D159, 0)","v":0},{"$f":"IF(AND(P159<>0,P159<>\"Unknown\",P159<>\"Not required\"),P159/(COUNTRY_INFO!E159+COUNTRY_INFO!F159), 0)","v":1},{"$f":"IF(AND(Z159<>0,Z159<>\"Unknown\",Z159<>\"Not required\"),IF(COUNTRY_INFO!K159=1,1,IF(COUNTRY_INFO!K159=2,0.5*COUNTRY_INFO!F159/(0.5*COUNTRY_INFO!F159+0.2*COUNTRY_INFO!G159),IF(COUNTRY_INFO!K159=3,COUNTRY_INFO!F159/(COUNTRY_INFO!F159+COUNTRY_INFO!G159)))),0)","v":0.64923611716917418},{"$f":"IF(AND(Z159<>0,Z159<>\"Unknown\",Z159<>\"Not required\"),IF(COUNTRY_INFO!K159=1,0,IF(COUNTRY_INFO!K159=2,0.2*COUNTRY_INFO!G159/(0.5*COUNTRY_INFO!F159+0.2*COUNTRY_INFO!G159),IF(COUNTRY_INFO!K159=3,COUNTRY_INFO!G159/(COUNTRY_INFO!F159+COUNTRY_INFO!G159)))),0)","v":0.35076388283082577},{"$f":"MAX(COUNTRY_INFO!D159*AK159*PROFILE!$G$7,COUNTRY_INFO!D159*AL159*PROFILE!$G$7)","v":0},{"$f":"MAX(COUNTRY_INFO!D159*AK159*PROFILE!$G$8,COUNTRY_INFO!D159*AL159*PROFILE!$G$8,COUNTRY_INFO!D159*AM159*PROFILE!$G$8)","v":25159.427845075628},{"$f":"MAX(COUNTRY_INFO!D159*AK159*PROFILE!$G$9,COUNTRY_INFO!D159*AL159*PROFILE!$G$9,COUNTRY_INFO!D159*AM159*PROFILE!$G$9,IF(AND(DISTRICT!Z159<>\"Unknown\",Z159<>\"Not required\"),COUNTRY_INFO!O159*DISTRICT!AN159,0))","v":49347.595299450404},{"$f":"MAX(COUNTRY_INFO!D159*AK159*PROFILE!$G$10,COUNTRY_INFO!D159*AL159*PROFILE!$G$10,IF(AND(DISTRICT!Z159<>\"Unknown\",Z159<>\"Not required\"),COUNTRY_INFO!O159*DISTRICT!AO159,0))","v":22681.145080663824},97188.168225189846,"Y",{"$f":"MAX('MDA2'!J159,'T1'!L159,'T2'!J159,T3_R1!K159,T3_R2!K159)","v":0},{"$f":"MAX('MDA1'!K159,'MDA2'!K159,'MDA3'!I159,'MDA3'!L159,'T1'!M159,'T2'!K159,T3_R1!L159,T3_R2!L159)","v":72373},{"$f":"MAX('MDA1'!L159,'MDA2'!L159,'MDA3'!J159,'MDA3'!M159,'T1'!N159,'T2'!L159,T3_R1!M159,T3_R2!M159)","v":0},72373,{"$f":"MAX('MDA2'!J159,T159)","v":0},{"$f":"MAX('MDA1'!K159,'MDA2'!K159,'MDA3'!I159,'MDA3'!L159,V159,AD159)","v":72373},{"$f":"MAX('MDA1'!L159,'MDA2'!L159,'MDA3'!J159,'MDA3'!M159,AF159)","v":0},72373,74.466883491731366]
[{"$f":"IF(COUNTRY_INFO!A160=0,\" \",COUNTRY_INFO!A160)","v":"Tanzania"},{"$f":"IF(COUNTRY_INFO!B160=0,\" \",COUNTRY_INFO!B160)","v":"Simiyu"},{"$f":"IF(COUNTRY_INFO!C160=0,\" \",COUNTRY_INFO!C160)","v":"Itilima District Council"},{"$f":"COUNTRY_INFO!L160","v":0},null,null,{"$f":"MAX('MDA1'!M160,'MDA2'!M160)","v":0},{"$f":"IF(AND(COUNTRY_INFO!H160>0,COUNTRY_INFO!H160<4),IF(D160>MAX('MDA1'!M160,'MDA2'!M160),MAX('MDA1'!M160,'MDA2'!M160),D160),0)","v":0},{"$f":"IF(AND(COUNTRY_INFO!H160>0,COUNTRY_INFO!H160<4), IF(G160/D160*100<>0, IF(G160/D160*100>100,100,G160/D160*100), \"-\"),0)","v":0},{"$f":"COUNTRY_INFO!M160","v":0},null,null,{"$f":"MAX('MDA1'!M160,MAX('MDA3'!I160,'MDA3'!L160)+MAX('MDA3'!J160,'MDA3'!M160))","v":0},{"$f":"IF(AND(COUNTRY_INFO!I160>0,COUNTRY_INFO!I160<4),IF(J160>MAX('MDA1'!M160,MAX('MDA3'!I160,'MDA3'!L160)+MAX('MDA3'!J160,'MDA3'!M160)),MAX('MDA1'!M160,MAX('MDA3'!I160,'MDA3'!L160)+MAX('MDA3'!J160,'MDA3'!M160)),J160),0)","v":0},{"$f":"IF(AND(COUNTRY_INFO!I160>0,COUNTRY_INFO!I160<4), IF(M160/J160*100<>0, IF(M160/J160*100>100,100,M160/J160*100), \"-\"),0)","v":0},{"$f":"COUNTRY_INFO!N160","v":122761},null,null,{"$f":"SUM(MAX('MDA2'!J160, 'T1'!L160, MAX(T3_R1!K160, T3_R2!K160)), MAX('MDA1'!K160, 'MDA2'!K160, 'T1'!M160, MAX(T3_R1!L160, T3_R2!L160)), MAX('MDA1'!L160, 'MDA2'!L160, 'T1'!N160, MAX(T3_R1!M160, T3_R2!M160)))","v":81727},{"$f":"IF(AND(COUNTRY_INFO!J160>1,COUNTRY_INFO!J160<4),IF(COUNTRY_INFO!E160>MAX('MDA2'!J160,'T1'!L160,MAX(T3_R1!K160,T3_R2!K160)),MAX('MDA2'!J160,'T1'!L160,MAX(T3_R1!K160,T3_R2!K160)),COUNTRY_INFO!E160),0)","v":0},{"$f":"IF(AND(COUNTRY_INFO!J160>1,COUNTRY_INFO!J160<4), IF(T160/COUNTRY_INFO!E160*100<>0, IF(T160/COUNTRY_INFO!E160*100>100,100,T160/COUNTRY_INFO!E160*100), \"-\"),0)","v":"-"},{"$f":"IF(AND(COUNTRY_INFO!J160>1,COUNTRY_INFO!J160<4),IF(COUNTRY_INFO!F160>MAX('MDA1'!K160,'MDA2'!K160,'T1'!M160,MAX(T3_R1!L160,T3_R2!L160)),MAX('MDA1'!K160,'MDA2'!K160,'T1'!M160,MAX(T3_R1!L160,T3_R2!L160)),COUNTRY_INFO!F160),0)","v":81727},{"$f":"IF(AND(COUNTRY_INFO!J160>1,COUNTRY_INFO!J160<4), IF(V160/COUNTRY_INFO!F160*100<>0, IF(V160/COUNTRY_INFO!F160*100>100,100,V160/COUNTRY_INFO!F160*100), \"-\"),0)","v":81.794889758499551},81727,{"$f":"IF(AND(COUNTRY_INFO!J160>1,COUNTRY_INFO!J160<4), IF(S160/P160*100<>0, IF(X160/P160*100>100,100,X160/P160*100), \"-\"),0)","v":66.574074828324953},{"$f":"COUNTRY_INFO!O160","v":326520},null,null,{"$f":"MAX('T1'!L160,'T2'!J160)+MAX('T1'!M160,'T2'!K160)+MAX('T1'!N160,'T2'!L160)","v":81727},{"$f":"IF(COUNTRY_INFO!K160=1,IF(COUNTRY_INFO!F160*0.33>MAX('T1'!M160,'T2'!K160),MAX('T1'!M160,'T2'!K160),COUNTRY_INFO!F160*0.33),IF(COUNTRY_INFO!K160=2,IF(COUNTRY_INFO!F160*0.5>MAX('T1'!M160,'T2'!K160),MAX('T1'!M160,'T2'!K160),COUNTRY_INFO!F160*0.5),IF(COUNTRY_INFO!K160=3,IF(COUNTRY_INFO!F160>MAX('T1'!M160,'T2'!K160),MAX('T1'!M160,'T2'!K160),COUNTRY_INFO!F160),0)))","v":81727},{"$f":"IF(AND(COUNTRY_INFO!K160>0,COUNTRY_INFO!K160<4),IF(Z160>0,IF(COUNTRY_INFO!K160=1, AD160/(COUNTRY_INFO!F160*0.33)*100, IF(COUNTRY_INFO!K160=2, AD160/(COUNTRY_INFO!F160*0.5)*100, IF(COUNTRY_INFO!K160=3, AD160/COUNTRY_INFO!F160*100))),\"-\"),0)","v":81.794889758499551},{"$f":"IF(COUNTRY_INFO!K160=2,IF(COUNTRY_INFO!G160*0.2>MAX('T1'!N160,'T2'!L160),MAX('T1'!N160,'T2'!L160),COUNTRY_INFO!G160*0.2),IF(COUNTRY_INFO!K160=3,IF(COUNTRY_INFO!G160>MAX('T1'!N160,'T2'!L160),MAX('T1'!N160,'T2'!L160),COUNTRY_INFO!G160),0))","v":0},{"$f":"IF(AND(COUNTRY_INFO!K160>0,COUNTRY_INFO!K160<4),IF(Z160>0,IF(COUNTRY_INFO!K160=1, 0, IF(COUNTRY_INFO!K160=2, AF160/(COUNTRY_INFO!G160*0.2)*100, IF(COUNTRY_INFO!K160=3, AF160/COUNTRY_INFO!G160*100))),\"-\"),0)","v":0},81727,{"$f":"IF(AND(COUNTRY_INFO!K160>0,COUNTRY_INFO!K160<4), IF(AC160/Z160*100<>0, IF(AH160/Z160*100>100,100,AH160/Z160*100), \"-\"),0)","v":25.029707215484503},null,{"$f":"IF(AND(D160<>0, D160<>\"Unknown\",D160<>\"Stopped\",D160<>\"Not required\"),D160/COUNTRY_INFO!D160, 0)","v":0},{"$f":"IF(AND(J160<>0,J160<>\"Unknown\",J160<>\"Stopped\",J160<>\"Not required\"),J160/COUNTRY_INFO!D160, 0)","v":0},{"$f":"IF(AND(P160<>0,P160<>\"Unknown\",P160<>\"Not required\"),P160/(COUNTRY_INFO!E160+COUNTRY_INFO!F160), 0)","v":1},{"$f":"IF(AND(Z160<>0,Z160<>\"Unknown\",Z160<>\"Not required\"),IF(COUNTRY_INFO!K160=1,1,IF(COUNTRY_INFO!K160=2,0.5*COUNTRY_INFO!F160/(0.5*COUNTRY_INFO!F160+0.2*COUNTRY_INFO!G160),IF(COUNTRY_INFO!K160=3,COUNTRY_INFO!F160/(COUNTRY_INFO!F160+COUNTRY_INFO!G160)))),0)","v":0.30600575768712485},{"$f":"IF(AND(Z160<>0,Z160<>\"Unknown\",Z160<>\"Not required\"),IF(COUNTRY_INFO!K160=1,0,IF(COUNTRY_INFO!K160=2,0.2*COUNTRY_INFO!G160/(0.5*COUNTRY_INFO!F160+0.2*COUNTRY_INFO!G160),IF(COUNTRY_INFO!K160=3,COUNTRY_INFO!G160/(COUNTRY_INFO!F160+COUNTRY_INFO!G160)))),0)","v":0.69399424231287521},{"$f":"MAX(COUNTRY_INFO!D160*AK160*PROFILE!$G$7,COUNTRY_INFO!D160*AL160*PROFILE!$G$7)","v":0},{"$f":"MAX(COUNTRY_INFO!D160*AK160*PROFILE!$G$8,COUNTRY_INFO!D160*AL160*PROFILE!$G$8,COUNTRY_INFO!D160*AM160*PROFILE!$G$8)","v":38790.10211725119},{"$f":"MAX(COUNTRY_INFO!D160*AK160*PROFILE!$G$9,COUNTRY_INFO!D160*AL160*PROFILE!$G$9,COUNTRY_INFO!D160*AM160*PROFILE!$G$9,IF(AND(DISTRICT!Z160<>\"Unknown\",Z160<>\"Not required\"),COUNTRY_INFO!O160*DISTRICT!AN160,0))","v":99917},{"$f":"MAX(COUNTRY_INFO!D160*AK160*PROFILE!$G$10,COUNTRY_INFO!D160*AL160*PROFILE!$G$10,IF(AND(DISTRICT!Z160<>\"Unknown\",Z160<>\"Not required\"),COUNTRY_INFO!O160*DISTRICT!AO160,0))","v":226603},365310.1021172512,"Y",{"$f":"MAX('MDA2'!J160,'T1'!L160,'T2'!J160,T3_R1!K160,T3_R2!K160)","v":0},{"$f":"MAX('MDA1'!K160,'MDA2'!K160,'MDA3'!I160,'MDA3'!L160,'T1'!M160,'T2'!K160,T3_R1!L160,T3_R2!L160)","v":81727},{"$f":"MAX('MDA1'!L160,'MDA2'!L160,'MDA3'!J160,'MDA3'!M160,'T1'!N160,'T2'!L160,T3_R1!M160,T3_R2!M160)","v":0},81727,{"$f":"MAX('MDA2'!J160,T160)","v":0},{"$f":"MAX('MDA1'!K160,'MDA2'!K160,'MDA3'!I160,'MDA3'!L160,V160,AD160)","v":81727},{"$f":"MAX('MDA1'!L160,'MDA2'!L160,'MDA3'!J160,'MDA3'!M160,AF160)","v":0},81727,22.371951809251804]
[{"$f":"IF(COUNTRY_INFO!A161=0,\" \",COUNTRY_INFO!A161)","v":"Tanzania"},{"$f":"IF(COUNTRY_INFO!B161=0,\" \",COUNTRY_INFO!B161)","v":"Simiyu"},{"$f":"IF(COUNTRY_INFO!C161=0,\" \",COUNTRY_INFO!C161)","v":"Maswa District Council"},{"$f":"COUNTRY_INFO!L161","v":0},null,null,{"$f":"MAX('MDA1'!M161,'MDA2'!M161)","v":0},{"$f":"IF(AND(COUNTRY_INFO!H161>0,COUNTRY_INFO!H161<4),IF(D161>MAX('MDA1'!M161,'MDA2'!M161),MAX('MDA1'!M161,'MDA2'!M161),D161),0)","v":0},{"$f":"IF(AND(COUNTRY_INFO!H161>0,COUNTRY_INFO!H161<4), IF(G161/D161*100<>0, IF(G161/D161*100>100,100,G161/D161*100), \"-\"),0)","v":0},{"$f":"COUNTRY_INFO!M161","v":0},null,null,{"$f":"MAX('MDA1'!M161,MAX('MDA3'!I161,'MDA3'!L161)+MAX('MDA3'!J161,'MDA3'!M161))","v":0},{"$f":"IF(AND(COUNTRY_INFO!I161>0,COUNTRY_INFO!I161<4),IF(J161>MAX('MDA1'!M161,MAX('MDA3'!I161,'MDA3'!L161)+MAX('MDA3'!J161,'MDA3'!M161)),MAX('MDA1'!M161,MAX('MDA3'!I161,'MDA3'!L161)+MAX('MDA3'!J161,'MDA3'!M161)),J161),0)","v":0},{"$f":"IF(AND(COUNTRY_INFO!I161>0,COUNTRY_INFO!I161<4), IF(M161/J161*100<>0, IF(M161/J161*100>100,100,M161/J161*100), \"-\"),0)","v":0},{"$f":"COUNTRY_INFO!N161","v":128760},null,null,{"$f":"SUM(MAX('MDA2'!J161, 'T1'!L161, MAX(T3_R1!K161, T3_R2!K161)), MAX('MDA1'!K161, 'MDA2'!K161, 'T1'!M161, MAX(T3_R1!L161, T3_R2!L161)), MAX('MDA1'!L161, 'MDA2'!L161, 'T1'!N161, MAX(T3_R1!M161, T3_R2!M161)))","v":77165},{"$f":"IF(AND(COUNTRY_INFO!J161>1,COUNTRY_INFO!J161<4),IF(COUNTRY_INFO!E161>MAX('MDA2'!J161,'T1'!L161,MAX(T3_R1!K161,T3_R2!K161)),MAX('MDA2'!J161,'T1'!L161,MAX(T3_R1!K161,T3_R2!K161)),COUNTRY_INFO!E161),0)","v":0},{"$f":"IF(AND(COUNTRY_INFO!J161>1,COUNTRY_INFO!J161<4), IF(T161/COUNTRY_INFO!E161*100<>0, IF(T161/COUNTRY_INFO!E161*100>100,100,T161/COUNTRY_INFO!E161*100), \"-\"),0)","v":"-"},{"$f":"IF(AND(COUNTRY_INFO!J161>1,COUNTRY_INFO!J161<4),IF(COUNTRY_INFO!F161>MAX('MDA1'!K161,'MDA2'!K161,'T1'!M161,MAX(T3_R1!L161,T3_R2!L161)),MAX('MDA1'!K161,'MDA2'!K161,'T1'!M161,MAX(T3_R1!L161,T3_R2!L161)),COUNTRY_INFO!F161),0)","v":77165},{"$f":"IF(AND(COUNTRY_INFO!J161>1,COUNTRY_INFO!J161<4), IF(V161/COUNTRY_INFO!F161*100<>0, IF(V161/COUNTRY_INFO!F161*100>100,100,V161/COUNTRY_INFO!F161*100), \"-\"),0)","v":97.243925798971674},77165,{"$f":"IF(AND(COUNTRY_INFO!J161>1,COUNTRY_INFO!J161<4), IF(S161/P161*100<>0, IF(X161/P161*100>100,100,X161/P161*100), \"-\"),0)","v":59.929325877601734},{"$f":"COUNTRY_INFO!O161","v":333596},null,null,{"$f":"MAX('T1'!L161,'T2'!J161)+MAX('T1'!M161,'T2'!K161)+MAX('T1'!N161,'T2'!L161)","v":77165},{"$f":"IF(COUNTRY_INFO!K161=1,IF(COUNTRY_INFO!F161*0.33>MAX('T1'!M161,'T2'!K161),MAX('T1'!M161,'T2'!K161),COUNTRY_INFO!F161*0.33),IF(COUNTRY_INFO!K161=2,IF(COUNTRY_INFO!F161*0.5>MAX('T1'!M161,'T2'!K161),MAX('T1'!M161,'T2'!K161),COUNTRY_INFO!F161*0.5),IF(COUNTRY_INFO!K161=3,IF(COUNTRY_INFO!F161>MAX('T1'!M161,'T2'!K161),MAX('T1'!M161,'T2'!K161),COUNTRY_INFO!F161),0)))","v":77165},{"$f":"IF(AND(COUNTRY_INFO!K161>0,COUNTRY_INFO!K161<4),IF(Z161>0,IF(COUNTRY_INFO!K161=1, AD161/(COUNTRY_INFO!F161*0.33)*100, IF(COUNTRY_INFO!K161=2, AD161/(COUNTRY_INFO!F161*0.5)*100, IF(COUNTRY_INFO!K161=3, AD161/COUNTRY_INFO!F161*100))),\"-\"),0)","v":97.243925798971674},{"$f":"IF(COUNTRY_INFO!K161=2,IF(COUNTRY_INFO!G161*0.2>MAX('T1'!N161,'T2'!L161),MAX('T1'!N161,'T2'!L161),COUNTRY_INFO!G161*0.2),IF(COUNTRY_INFO!K161=3,IF(COUNTRY_INFO!G161>MAX('T1'!N161,'T2'!L161),MAX('T1'!N161,'T2'!L161),COUNTRY_INFO!G161),0))","v":0},{"$f":"IF(AND(COUNTRY_INFO!K161>0,COUNTRY_INFO!K161<4),IF(Z161>0,IF(COUNTRY_INFO!K161=1, 0, IF(COUNTRY_INFO!K161=2, AF161/(COUNTRY_INFO!G161*0.2)*100, IF(COUNTRY_INFO!K161=3, AF161/COUNTRY_INFO!G161*100))),\"-\"),0)","v":0},77165,{"$f":"IF(AND(COUNTRY_INFO!K161>0,COUNTRY_INFO!K161<4), IF(AC161/Z161*100<>0, IF(AH161/Z161*100>100,100,AH161/Z161*100), \"-\"),0)","v":23.131272557224907},null,{"$f":"IF(AND(D161<>0, D161<>\"Unknown\",D161<>\"Stopped\",D161<>\"Not required\"),D161/COUNTRY_INFO!D161, 0)","v":0},{"$f":"IF(AND(J161<>0,J161<>\"Unknown\",J161<>\"Stopped\",J161<>\"Not required\"),J161/COUNTRY_INFO!D161, 0)","v":0},{"$f":"IF(AND(P161<>0,P161<>\"Unknown\",P161<>\"Not required\"),P161/(COUNTRY_INFO!E161+COUNTRY_INFO!F161), 0)","v":1},{"$f":"IF(AND(Z161<>0,Z161<>\"Unknown\",Z161<>\"Not required\"),IF(COUNTRY_INFO!K161=1,1,IF(COUNTRY_INFO!K161=2,0.5*COUNTRY_INFO!F161/(0.5*COUNTRY_INFO!F161+0.2*COUNTRY_INFO!G161),IF(COUNTRY_INFO!K161=3,COUNTRY_INFO!F161/(COUNTRY_INFO!F161+COUNTRY_INFO!G161)))),0)","v":0.23786855957505484},{"$f":"IF(AND(Z161<>0,Z161<>\"Unknown\",Z161<>\"Not required\"),IF(COUNTRY_INFO!K161=1,0,IF(COUNTRY_INFO!K161=2,0.2*COUNTRY_INFO!G161/(0.5*COUNTRY_INFO!F161+0.2*COUNTRY_INFO!G161),IF(COUNTRY_INFO!K161=3,COUNTRY_INFO!G161/(COUNTRY_INFO!F161+COUNTRY_INFO!G161)))),0)","v":0.76213144042494518},{"$f":"MAX(COUNTRY_INFO!D161*AK161*PROFILE!$G$7,COUNTRY_INFO!D161*AL161*PROFILE!$G$7)","v":0},{"$f":"MAX(COUNTRY_INFO!D161*AK161*PROFILE!$G$8,COUNTRY_INFO!D161*AL161*PROFILE!$G$8,COUNTRY_INFO!D161*AM161*PROFILE!$G$8)","v":42525.172231013137},{"$f":"MAX(COUNTRY_INFO!D161*AK161*PROFILE!$G$9,COUNTRY_INFO!D161*AL161*PROFILE!$G$9,COUNTRY_INFO!D161*AM161*PROFILE!$G$9,IF(AND(DISTRICT!Z161<>\"Unknown\",Z161<>\"Not required\"),COUNTRY_INFO!O161*DISTRICT!AN161,0))","v":83408.692845381942},{"$f":"MAX(COUNTRY_INFO!D161*AK161*PROFILE!$G$10,COUNTRY_INFO!D161*AL161*PROFILE!$G$10,IF(AND(DISTRICT!Z161<>\"Unknown\",Z161<>\"Not required\"),COUNTRY_INFO!O161*DISTRICT!AO161,0))","v":254244},380177.8650763951,"Y",{"$f":"MAX('MDA2'!J161,'T1'!L161,'T2'!J161,T3_R1!K161,T3_R2!K161)","v":0},{"$f":"MAX('MDA1'!K161,'MDA2'!K161,'MDA3'!I161,'MDA3'!L161,'T1'!M161,'T2'!K161,T3_R1!L161,T3_R2!L161)","v":77165},{"$f":"MAX('MDA1'!L161,'MDA2'!L161,'MDA3'!J161,'MDA3'!M161,'T1'!N161,'T2'!L161,T3_R1!M161,T3_R2!M161)","v":0},77165,{"$f":"MAX('MDA2'!J161,T161)","v":0},{"$f":"MAX('MDA1'!K161,'MDA2'!K161,'MDA3'!I161,'MDA3'!L161,V161,AD161)","v":77165},{"$f":"MAX('MDA1'!L161,'MDA2'!L161,'MDA3'!J161,'MDA3'!M161,AF161)","v":0},77165,20.297078575180599]
[{"$f":"IF(COUNTRY_INFO!A162=0,\" \",COUNTRY_INFO!A162)","v":"Tanzania"},{"$f":"IF(COUNTRY_INFO!B162=0,\" \",COUNTRY_INFO!B162)","v":"Simiyu"},{"$f":"IF(COUNTRY_INFO!C162=0,\" \",COUNTRY_INFO!C162)","v":"Meatu District Council"},{"$f":"COUNTRY_INFO!L162","v":0},null,null,{"$f":"MAX('MDA1'!M162,'MDA2'!M162)","v":0},{"$f":"IF(AND(COUNTRY_INFO!H162>0,COUNTRY_INFO!H162<4),IF(D162>MAX('MDA1'!M162,'MDA2'!M162),MAX('MDA1'!M162,'MDA2'!M162),D162),0)","v":0},{"$f":"IF(AND(COUNTRY_INFO!H162>0,COUNTRY_INFO!H162<4), IF(G162/D162*100<>0, IF(G162/D162*100>100,100,G162/D162*100), \"-\"),0)","v":0},{"$f":"COUNTRY_INFO!M162","v":0},null,null,{"$f":"MAX('MDA1'!M162,MAX('MDA3'!I162,'MDA3'!L162)+MAX('MDA3'!J162,'MDA3'!M162))","v":0},{"$f":"IF(AND(COUNTRY_INFO!I162>0,COUNTRY_INFO!I162<4),IF(J162>MAX('MDA1'!M162,MAX('MDA3'!I162,'MDA3'!L162)+MAX('MDA3'!J162,'MDA3'!M162)),MAX('MDA1'!M162,MAX('MDA3'!I162,'MDA3'!L162)+MAX('MDA3'!J162,'MDA3'!M162)),J162),0)","v":0},{"$f":"IF(AND(COUNTRY_INFO!I162>0,COUNTRY_INFO!I162<4), IF(M162/J162*100<>0, IF(M162/J162*100>100,100,M162/J162*100), \"-\"),0)","v":0},{"$f":"COUNTRY_INFO!N162","v":112696},null,null,{"$f":"SUM(MAX('MDA2'!J162, 'T1'!L162, MAX(T3_R1!K162, T3_R2!K162)), MAX('MDA1'!K162, 'MDA2'!K162, 'T1'!M162, MAX(T3_R1!L162, T3_R2!L162)), MAX('MDA1'!L162, 'MDA2'!L162, 'T1'!N162, MAX(T3_R1!M162, T3_R2!M162)))","v":65159},{"$f":"IF(AND(COUNTRY_INFO!J162>1,COUNTRY_INFO!J162<4),IF(COUNTRY_INFO!E162>MAX('MDA2'!J162,'T1'!L162,MAX(T3_R1!K162,T3_R2!K162)),MAX('MDA2'!J162,'T1'!L162,MAX(T3_R1!K162,T3_R2!K162)),COUNTRY_INFO!E162),0)","v":0},{"$f":"IF(AND(COUNTRY_INFO!J162>1,COUNTRY_INFO!J162<4), IF(T162/COUNTRY_INFO!E162*100<>0, IF(T162/COUNTRY_INFO!E162*100>100,100,T162/COUNTRY_INFO!E162*100), \"-\"),0)","v":"-"},{"$f":"IF(AND(COUNTRY_INFO!J162>1,COUNTRY_INFO!J162<4),IF(COUNTRY_INFO!F162>MAX('MDA1'!K162,'MDA2'!K162,'T1'!M162,MAX(T3_R1!L162,T3_R2!L162)),MAX('MDA1'!K162,'MDA2'!K162,'T1'!M162,MAX(T3_R1!L162,T3_R2!L162)),COUNTRY_INFO!F162),0)","v":65159},{"$f":"IF(AND(COUNTRY_INFO!J162>1,COUNTRY_INFO!J162<4), IF(V162/COUNTRY_INFO!F162*100<>0, IF(V162/COUNTRY_INFO!F162*100>100,100,V162/COUNTRY_INFO!F162*100), \"-\"),0)","v":93.513110119261171},65159,{"$f":"IF(AND(COUNTRY_INFO!J162>1,COUNTRY_INFO!J162<4), IF(S162/P162*100<>0, IF(X162/P162*100>100,100,X162/P162*100), \"-\"),0)","v":57.818378646979482},{"$f":"COUNTRY_INFO!O162","v":78994.100000000006},null,null,{"$f":"MAX('T1'!L162,'T2'!J162)+MAX('T1'!M162,'T2'!K162)+MAX('T1'!N162,'T2'!L162)","v":65159},{"$f":"IF(COUNTRY_INFO!K162=1,IF(COUNTRY_INFO!F162*0.33>MAX('T1'!M162,'T2'!K162),MAX('T1'!M162,'T2'!K162),COUNTRY_INFO!F162*0.33),IF(COUNTRY_INFO!K162=2,IF(COUNTRY_INFO!F162*0.5>MAX('T1'!M162,'T2'!K162),MAX('T1'!M162,'T2'!K162),COUNTRY_INFO!F162*0.5),IF(COUNTRY_INFO!K162=3,IF(COUNTRY_INFO!F162>MAX('T1'!M162,'T2'!K162),MAX('T1'!M162,'T2'!K162),COUNTRY_INFO!F162),0)))","v":34839.5},{"$f":"IF(AND(COUNTRY_INFO!K162>0,COUNTRY_INFO!K162<4),IF(Z162>0,IF(COUNTRY_INFO!K162=1, AD162/(COUNTRY_INFO!F162*0.33)*100, IF(COUNTRY_INFO!K162=2, AD162/(COUNTRY_INFO!F162*0.5)*100, IF(COUNTRY_INFO!K162=3, AD162/COUNTRY_INFO!F162*100))),\"-\"),0)","v":100},{"$f":"IF(COUNTRY_INFO!K162=2,IF(COUNTRY_INFO!G162*0.2>MAX('T1'!N162,'T2'!L162),MAX('T1'!N162,'T2'!L162),COUNTRY_INFO!G162*0.2),IF(COUNTRY_INFO!K162=3,IF(COUNTRY_INFO!G162>MAX('T1'!N162,'T2'!L162),MAX('T1'!N162,'T2'!L162),COUNTRY_INFO!G162),0))","v":0},{"$f":"IF(AND(COUNTRY_INFO!K162>0,COUNTRY_INFO!K162<4),IF(Z162>0,IF(COUNTRY_INFO!K162=1, 0, IF(COUNTRY_INFO!K162=2, AF162/(COUNTRY_INFO!G162*0.2)*100, IF(COUNTRY_INFO!K162=3, AF162/COUNTRY_INFO!G162*100))),\"-\"),0)","v":0},34839.5,{"$f":"IF(AND(COUNTRY_INFO!K162>0,COUNTRY_INFO!K162<4), IF(AC162/Z162*100<>0, IF(AH162/Z162*100>100,100,AH162/Z162*100), \"-\"),0)","v":44.103926748959729},null,{"$f":"IF(AND(D162<>0, D162<>\"Unknown\",D162<>\"Stopped\",D162<>\"Not required\"),D162/COUNTRY_INFO!D162, 0)","v":0},{"$f":"IF(AND(J162<>0,J162<>\"Unknown\",J162<>\"Stopped\",J162<>\"Not required\"),J162/COUNTRY_INFO!D162, 0)","v":0},{"$f":"IF(AND(P162<>0,P162<>\"Unknown\",P162<>\"Not required\"),P162/(COUNTRY_INFO!E162+COUNTRY_INFO!F162), 0)","v":1},{"$f":"IF(AND(Z162<>0,Z162<>\"Unknown\",Z162<>\"Not required\"),IF(COUNTRY_INFO!K162=1,1,IF(COUNTRY_INFO!K162=2,0.5*COUNTRY_INFO!F162/(0.5*COUNTRY_INFO!F162+0.2*COUNTRY_INFO!G162),IF(COUNTRY_INFO!K162=3,COUNTRY_INFO!F162/(COUNTRY_INFO!F162+COUNTRY_INFO!G162)))),0)","v":0.44103926748959726},{"$f":"IF(AND(Z162<>0,Z162<>\"Unknown\",Z162<>\"Not required\"),IF(COUNTRY_INFO!K162=1,0,IF(COUNTRY_INFO!K162=2,0.2*COUNTRY_INFO!G162/(0.5*COUNTRY_INFO!F162+0.2*COUNTRY_INFO!G162),IF(COUNTRY_INFO!K162=3,COUNTRY_INFO!G162/(COUNTRY_INFO!F162+COUNTRY_INFO!G162)))),0)","v":0.55896073251040268},{"$f":"MAX(COUNTRY_INFO!D162*AK162*PROFILE!$G$7,COUNTRY_INFO!D162*AL162*PROFILE!$G$7)","v":0},{"$f":"MAX(COUNTRY_INFO!D162*AK162*PROFILE!$G$8,COUNTRY_INFO!D162*AL162*PROFILE!$G$8,COUNTRY_INFO!D162*AM162*PROFILE!$G$8)","v":37025.270385436495},{"$f":"MAX(COUNTRY_INFO!D162*AK162*PROFILE!$G$9,COUNTRY_INFO!D162*AL162*PROFILE!$G$9,COUNTRY_INFO!D162*AM162*PROFILE!$G$9,IF(AND(DISTRICT!Z162<>\"Unknown\",Z162<>\"Not required\"),COUNTRY_INFO!O162*DISTRICT!AN162,0))","v":72621.208641310979},{"$f":"MAX(COUNTRY_INFO!D162*AK162*PROFILE!$G$10,COUNTRY_INFO!D162*AL162*PROFILE!$G$10,IF(AND(DISTRICT!Z162<>\"Unknown\",Z162<>\"Not required\"),COUNTRY_INFO!O162*DISTRICT!AO162,0))","v":44154.600000000006},153801.07902674749,"Y",{"$f":"MAX('MDA2'!J162,'T1'!L162,'T2'!J162,T3_R1!K162,T3_R2!K162)","v":0},{"$f":"MAX('MDA1'!K162,'MDA2'!K162,'MDA3'!I162,'MDA3'!L162,'T1'!M162,'T2'!K162,T3_R1!L162,T3_R2!L162)","v":65159},{"$f":"MAX('MDA1'!L162,'MDA2'!L162,'MDA3'!J162,'MDA3'!M162,'T1'!N162,'T2'!L162,T3_R1!M162,T3_R2!M162)","v":0},65159,{"$f":"MAX('MDA2'!J162,T162)","v":0},{"$f":"MAX('MDA1'!K162,'MDA2'!K162,'MDA3'!I162,'MDA3'!L162,V162,AD162)","v":65159},{"$f":"MAX('MDA1'!L162,'MDA2'!L162,'MDA3'!J162,'MDA3'!M162,AF162)","v":0},65159,42.365762589135166]
[{"$f":"IF(COUNTRY_INFO!A163=0,\" \",COUNTRY_INFO!A163)","v":"Tanzania"},{"$f":"IF(COUNTRY_INFO!B163=0,\" \",COUNTRY_INFO!B163)","v":"Singida"},{"$f":"IF(COUNTRY_INFO!C163=0,\" \",COUNTRY_INFO!C163)","v":"Ikungi District Council"},{"$f":"COUNTRY_INFO!L163","v":"Stopped"},null,null,{"$f":"MAX('MDA1'!M163,'MDA2'!M163)","v":0},{"$f":"IF(AND(COUNTRY_INFO!H163>0,COUNTRY_INFO!H163<4),IF(D163>MAX('MDA1'!M163,'MDA2'!M163),MAX('MDA1'!M163,'MDA2'!M163),D163),0)","v":0},{"$f":"IF(AND(COUNTRY_INFO!H163>0,COUNTRY_INFO!H163<4), IF(G163/D163*100<>0, IF(G163/D163*100>100,100,G163/D163*100), \"-\"),0)","v":0},{"$f":"COUNTRY_INFO!M163","v":0},null,null,{"$f":"MAX('MDA1'!M163,MAX('MDA3'!I163,'MDA3'!L163)+MAX('MDA3'!J163,'MDA3'!M163))","v":0},{"$f":"IF(AND(COUNTRY_INFO!I163>0,COUNTRY_INFO!I163<4),IF(J163>MAX('MDA1'!M163,MAX('MDA3'!I163,'MDA3'!L163)+MAX('MDA3'!J163,'MDA3'!M163)),MAX('MDA1'!M163,MAX('MDA3'!I163,'MDA3'!L163)+MAX('MDA3'!J163,'MDA3'!M163)),J163),0)","v":0},{"$f":"IF(AND(COUNTRY_INFO!I163>0,COUNTRY_INFO!I163<4), IF(M163/J163*100<>0, IF(M163/J163*100>100,100,M163/J163*100), \"-\"),0)","v":0},{"$f":"COUNTRY_INFO!N163","v":103446},null,null,{"$f":"SUM(MAX('MDA2'!J163, 'T1'!L163, MAX(T3_R1!K163, T3_R2!K163)), MAX('MDA1'!K163, 'MDA2'!K163, 'T1'!M163, MAX(T3_R1!L163, T3_R2!L163)), MAX('MDA1'!L163, 'MDA2'!L163, 'T1'!N163, MAX(T3_R1!M163, T3_R2!M163)))","v":72267},{"$f":"IF(AND(COUNTRY_INFO!J163>1,COUNTRY_INFO!J163<4),IF(COUNTRY_INFO!E163>MAX('MDA2'!J163,'T1'!L163,MAX(T3_R1!K163,T3_R2!K163)),MAX('MDA2'!J163,'T1'!L163,MAX(T3_R1!K163,T3_R2!K163)),COUNTRY_INFO!E163),0)","v":0},{"$f":"IF(AND(COUNTRY_INFO!J163>1,COUNTRY_INFO!J163<4), IF(T163/COUNTRY_INFO!E163*100<>0, IF(T163/COUNTRY_INFO!E163*100>100,100,T163/COUNTRY_INFO!E163*100), \"-\"),0)","v":"-"},{"$f":"IF(AND(COUNTRY_INFO!J163>1,COUNTRY_INFO!J163<4),IF(COUNTRY_INFO!F163>MAX('MDA1'!K163,'MDA2'!K163,'T1'!M163,MAX(T3_R1!L163,T3_R2!L163)),MAX('MDA1'!K163,'MDA2'!K163,'T1'!M163,MAX(T3_R1!L163,T3_R2!L163)),COUNTRY_INFO!F163),0)","v":72267},{"$f":"IF(AND(COUNTRY_INFO!J163>1,COUNTRY_INFO!J163<4), IF(V163/COUNTRY_INFO!F163*100<>0, IF(V163/COUNTRY_INFO!F163*100>100,100,V163/COUNTRY_INFO!F163*100), \"-\"),0)","v":97.626445477142553},72267,{"$f":"IF(AND(COUNTRY_INFO!J163>1,COUNTRY_INFO!J163<4), IF(S163/P163*100<>0, IF(X163/P163*100>100,100,X163/P163*100), \"-\"),0)","v":69.859636912012064},{"$f":"COUNTRY_INFO!O163","v":78895},null,null,{"$f":"MAX('T1'!L163,'T2'!J163)+MAX('T1'!M163,'T2'!K163)+MAX('T1'!N163,'T2'!L163)","v":0},{"$f":"IF(COUNTRY_INFO!K163=1,IF(COUNTRY_INFO!F163*0.33>MAX('T1'!M163,'T2'!K163),MAX('T1'!M163,'T2'!K163),COUNTRY_INFO!F163*0.33),IF(COUNTRY_INFO!K163=2,IF(COUNTRY_INFO!F163*0.5>MAX('T1'!M163,'T2'!K163),MAX('T1'!M163,'T2'!K163),COUNTRY_INFO!F163*0.5),IF(COUNTRY_INFO!K163=3,IF(COUNTRY_INFO!F163>MAX('T1'!M163,'T2'!K163),MAX('T1'!M163,'T2'!K163),COUNTRY_INFO!F163),0)))","v":0},{"$f":"IF(AND(COUNTRY_INFO!K163>0,COUNTRY_INFO!K163<4),IF(Z163>0,IF(COUNTRY_INFO!K163=1, AD163/(COUNTRY_INFO!F163*0.33)*100, IF(COUNTRY_INFO!K163=2, AD163/(COUNTRY_INFO!F163*0.5)*100, IF(COUNTRY_INFO!K163=3, AD163/COUNTRY_INFO!F163*100))),\"-\"),0)","v":0},{"$f":"IF(COUNTRY_INFO!K163=2,IF(COUNTRY_INFO!G163*0.2>MAX('T1'!N163,'T2'!L163),MAX('T1'!N163,'T2'!L163),COUNTRY_INFO!G163*0.2),IF(COUNTRY_INFO!K163=3,IF(COUNTRY_INFO!G163>MAX('T1'!N163,'T2'!L163),MAX('T1'!N163,'T2'!L163),COUNTRY_INFO!G163),0))","v":0},{"$f":"IF(AND(COUNTRY_INFO!K163>0,COUNTRY_INFO!K163<4),IF(Z163>0,IF(COUNTRY_INFO!K163=1, 0, IF(COUNTRY_INFO!K163=2, AF163/(COUNTRY_INFO!G163*0.2)*100, IF(COUNTRY_INFO!K163=3, AF163/COUNTRY_INFO!G163*100))),\"-\"),0)","v":0},0,{"$f":"IF(AND(COUNTRY_INFO!K163>0,COUNTRY_INFO!K163<4), IF(AC163/Z163*100<>0, IF(AH163/Z163*100>100,100,AH163/Z163*100), \"-\"),0)","v":"-"},null,{"$f":"IF(AND(D163<>0, D163<>\"Unknown\",D163<>\"Stopped\",D163<>\"Not required\"),D163/COUNTRY_INFO!D163, 0)","v":0},{"$f":"IF(AND(J163<>0,J163<>\"Unknown\",J163<>\"Stopped\",J163<>\"Not required\"),J163/COUNTRY_INFO!D163, 0)","v":0},{"$f":"IF(AND(P163<>0,P163<>\"Unknown\",P163<>\"Not required\"),P163/(COUNTRY_INFO!E163+COUNTRY_INFO!F163), 0)","v":1},{"$f":"IF(AND(Z163<>0,Z163<>\"Unknown\",Z163<>\"Not required\"),IF(COUNTRY_INFO!K163=1,1,IF(COUNTRY_INFO!K163=2,0.5*COUNTRY_INFO!F163/(0.5*COUNTRY_INFO!F163+0.2*COUNTRY_INFO!G163),IF(COUNTRY_INFO!K163=3,COUNTRY_INFO!F163/(COUNTRY_INFO!F163+COUNTRY_INFO!G163)))),0)","v":0.46912985613790481},{"$f":"IF(AND(Z163<>0,Z163<>\"Unknown\",Z163<>\"Not required\"),IF(COUNTRY_INFO!K163=1,0,IF(COUNTRY_INFO!K163=2,0.2*COUNTRY_INFO!G163/(0.5*COUNTRY_INFO!F163+0.2*COUNTRY_INFO!G163),IF(COUNTRY_INFO!K163=3,COUNTRY_INFO!G163/(COUNTRY_INFO!F163+COUNTRY_INFO!G163)))),0)","v":0.53087014386209519},{"$f":"MAX(COUNTRY_INFO!D163*AK163*PROFILE!$G$7,COUNTRY_INFO!D163*AL163*PROFILE!$G$7)","v":0},{"$f":"MAX(COUNTRY_INFO!D163*AK163*PROFILE!$G$8,COUNTRY_INFO!D163*AL163*PROFILE!$G$8,COUNTRY_INFO!D163*AM163*PROFILE!$G$8)","v":34737.15133358138},{"$f":"MAX(COUNTRY_INFO!D163*AK163*PROFILE!$G$9,COUNTRY_INFO!D163*AL163*PROFILE!$G$9,COUNTRY_INFO!D163*AM163*PROFILE!$G$9,IF(AND(DISTRICT!Z163<>\"Unknown\",Z163<>\"Not required\"),COUNTRY_INFO!O163*DISTRICT!AN163,0))","v":68133.301616429701},{"$f":"MAX(COUNTRY_INFO!D163*AK163*PROFILE!$G$10,COUNTRY_INFO!D163*AL163*PROFILE!$G$10,IF(AND(DISTRICT!Z163<>\"Unknown\",Z163<>\"Not required\"),COUNTRY_INFO!O163*DISTRICT!AO163,0))","v":41883},144753.45295001107,0,{"$f":"MAX('MDA2'!J163,'T1'!L163,'T2'!J163,T3_R1!K163,T3_R2!K163)","v":0},{"$f":"MAX('MDA1'!K163,'MDA2'!K163,'MDA3'!I163,'MDA3'!L163,'T1'!M163,'T2'!K163,T3_R1!L163,T3_R2!L163)","v":72267},{"$f":"MAX('MDA1'!L163,'MDA2'!L163,'MDA3'!J163,'MDA3'!M163,'T1'!N163,'T2'!L163,T3_R1!M163,T3_R2!M163)","v":0},72267,{"$f":"MAX('MDA2'!J163,T163)","v":0},{"$f":"MAX('MDA1'!K163,'MDA2'!K163,'MDA3'!I163,'MDA3'!L163,V163,AD163)","v":72267},{"$f":"MAX('MDA1'!L163,'MDA2'!L163,'MDA3'!J163,'MDA3'!M163,AF163)","v":0},72267,49.924197680421877]
[{"$f":"IF(COUNTRY_INFO!A164=0,\" \",COUNTRY_INFO!A164)","v":"Tanzania"},{"$f":"IF(COUNTRY_INFO!B164=0,\" \",COUNTRY_INFO!B164)","v":"Singida"},{"$f":"IF(COUNTRY_INFO!C164=0,\" \",COUNTRY_INFO!C164)","v":"Iramba District Council"},{"$f":"COUNTRY_INFO!L164","v":"Stopped"},null,null,{"$f":"MAX('MDA1'!M164,'MDA2'!M164)","v":0},{"$f":"IF(AND(COUNTRY_INFO!H164>0,COUNTRY_INFO!H164<4),IF(D164>MAX('MDA1'!M164,'MDA2'!M164),MAX('MDA1'!M164,'MDA2'!M164),D164),0)","v":0},{"$f":"IF(AND(COUNTRY_INFO!H164>0,COUNTRY_INFO!H164<4), IF(G164/D164*100<>0, IF(G164/D164*100>100,100,G164/D164*100), \"-\"),0)","v":0},{"$f":"COUNTRY_INFO!M164","v":0},null,null,{"$f":"MAX('MDA1'!M164,MAX('MDA3'!I164,'MDA3'!L164)+MAX('MDA3'!J164,'MDA3'!M164))","v":0},{"$f":"IF(AND(COUNTRY_INFO!I164>0,COUNTRY_INFO!I164<4),IF(J164>MAX('MDA1'!M164,MAX('MDA3'!I164,'MDA3'!L164)+MAX('MDA3'!J164,'MDA3'!M164)),MAX('MDA1'!M164,MAX('MDA3'!I164,'MDA3'!L164)+MAX('MDA3'!J164,'MDA3'!M164)),J164),0)","v":0},{"$f":"IF(AND(COUNTRY_INFO!I164>0,COUNTRY_INFO!I164<4), IF(M164/J164*100<>0, IF(M164/J164*100>100,100,M164/J164*100), \"-\"),0)","v":0},{"$f":"COUNTRY_INFO!N164","v":88677},null,null,{"$f":"SUM(MAX('MDA2'!J164, 'T1'!L164, MAX(T3_R1!K164, T3_R2!K164)), MAX('MDA1'!K164, 'MDA2'!K164, 'T1'!M164, MAX(T3_R1!L164, T3_R2!L164)), MAX('MDA1'!L164, 'MDA2'!L164, 'T1'!N164, MAX(T3_R1!M164, T3_R2!M164)))","v":58281},{"$f":"IF(AND(COUNTRY_INFO!J164>1,COUNTRY_INFO!J164<4),IF(COUNTRY_INFO!E164>MAX('MDA2'!J164,'T1'!L164,MAX(T3_R1!K164,T3_R2!K164)),MAX('MDA2'!J164,'T1'!L164,MAX(T3_R1!K164,T3_R2!K164)),COUNTRY_INFO!E164),0)","v":0},{"$f":"IF(AND(COUNTRY_INFO!J164>1,COUNTRY_INFO!J164<4), IF(T164/COUNTRY_INFO!E164*100<>0, IF(T164/COUNTRY_INFO!E164*100>100,100,T164/COUNTRY_INFO!E164*100), \"-\"),0)","v":"-"},{"$f":"IF(AND(COUNTRY_INFO!J164>1,COUNTRY_INFO!J164<4),IF(COUNTRY_INFO!F164>MAX('MDA1'!K164,'MDA2'!K164,'T1'!M164,MAX(T3_R1!L164,T3_R2!L164)),MAX('MDA1'!K164,'MDA2'!K164,'T1'!M164,MAX(T3_R1!L164,T3_R2!L164)),COUNTRY_INFO!F164),0)","v":58281},{"$f":"IF(AND(COUNTRY_INFO!J164>1,COUNTRY_INFO!J164<4), IF(V164/COUNTRY_INFO!F164*100<>0, IF(V164/COUNTRY_INFO!F164*100>100,100,V164/COUNTRY_INFO!F164*100), \"-\"),0)","v":99.929700627550503},58281,{"$f":"IF(AND(COUNTRY_INFO!J164>1,COUNTRY_INFO!J164<4), IF(S164/P164*100<>0, IF(X164/P164*100>100,100,X164/P164*100), \"-\"),0)","v":65.722791704726134},{"$f":"COUNTRY_INFO!O164","v":65590},null,null,{"$f":"MAX('T1'!L164,'T2'!J164)+MAX('T1'!M164,'T2'!K164)+MAX('T1'!N164,'T2'!L164)","v":0},{"$f":"IF(COUNTRY_INFO!K164=1,IF(COUNTRY_INFO!F164*0.33>MAX('T1'!M164,'T2'!K164),MAX('T1'!M164,'T2'!K164),COUNTRY_INFO!F164*0.33),IF(COUNTRY_INFO!K164=2,IF(COUNTRY_INFO!F164*0.5>MAX('T1'!M164,'T2'!K164),MAX('T1'!M164,'T2'!K164),COUNTRY_INFO!F164*0.5),IF(COUNTRY_INFO!K164=3,IF(COUNTRY_INFO!F164>MAX('T1'!M164,'T2'!K164),MAX('T1'!M164,'T2'!K164),COUNTRY_INFO!F164),0)))","v":0},{"$f":"IF(AND(COUNTRY_INFO!K164>0,COUNTRY_INFO!K164<4),IF(Z164>0,IF(COUNTRY_INFO!K164=1, AD164/(COUNTRY_INFO!F164*0.33)*100, IF(COUNTRY_INFO!K164=2, AD164/(COUNTRY_INFO!F164*0.5)*100, IF(COUNTRY_INFO!K164=3, AD164/COUNTRY_INFO!F164*100))),\"-\"),0)","v":0},{"$f":"IF(COUNTRY_INFO!K164=2,IF(COUNTRY_INFO!G164*0.2>MAX('T1'!N164,'T2'!L164),MAX('T1'!N164,'T2'!L164),COUNTRY_INFO!G164*0.2),IF(COUNTRY_INFO!K164=3,IF(COUNTRY_INFO!G164>MAX('T1'!N164,'T2'!L164),MAX('T1'!N164,'T2'!L164),COUNTRY_INFO!G164),0))","v":0},{"$f":"IF(AND(COUNTRY_INFO!K164>0,COUNTRY_INFO!K164<4),IF(Z164>0,IF(COUNTRY_INFO!K164=1, 0, IF(COUNTRY_INFO!K164=2, AF164/(COUNTRY_INFO!G164*0.2)*100, IF(COUNTRY_INFO!K164=3, AF164/COUNTRY_INFO!G164*100))),\"-\"),0)","v":0},0,{"$f":"IF(AND(COUNTRY_INFO!K164>0,COUNTRY_INFO!K164<4), IF(AC164/Z164*100<>0, IF(AH164/Z164*100>100,100,AH164/Z164*100), \"-\"),0)","v":"-"},null,{"$f":"IF(AND(D164<>0, D164<>\"Unknown\",D164<>\"Stopped\",D164<>\"Not required\"),D164/COUNTRY_INFO!D164, 0)","v":0},{"$f":"IF(AND(J164<>0,J164<>\"Unknown\",J164<>\"Stopped\",J164<>\"Not required\"),J164/COUNTRY_INFO!D164, 0)","v":0},{"$f":"IF(AND(P164<>0,P164<>\"Unknown\",P164<>\"Not required\"),P164/(COUNTRY_INFO!E164+COUNTRY_INFO!F164), 0)","v":1},{"$f":"IF(AND(Z164<>0,Z164<>\"Unknown\",Z164<>\"Not required\"),IF(COUNTRY_INFO!K164=1,1,IF(COUNTRY_INFO!K164=2,0.5*COUNTRY_INFO!F164/(0.5*COUNTRY_INFO!F164+0.2*COUNTRY_INFO!G164),IF(COUNTRY_INFO!K164=3,COUNTRY_INFO!F164/(COUNTRY_INFO!F164+COUNTRY_INFO!G164)))),0)","v":0.44459521268486052},{"$f":"IF(AND(Z164<>0,Z164<>\"Unknown\",Z164<>\"Not required\"),IF(COUNTRY_INFO!K164=1,0,IF(COUNTRY_INFO!K164=2,0.2*COUNTRY_INFO!G164/(0.5*COUNTRY_INFO!F164+0.2*COUNTRY_INFO!G164),IF(COUNTRY_INFO!K164=3,COUNTRY_INFO!G164/(COUNTRY_INFO!F164+COUNTRY_INFO!G164)))),0)","v":0.55540478731513954},{"$f":"MAX(COUNTRY_INFO!D164*AK164*PROFILE!$G$7,COUNTRY_INFO!D164*AL164*PROFILE!$G$7)","v":0},{"$f":"MAX(COUNTRY_INFO!D164*AK164*PROFILE!$G$8,COUNTRY_INFO!D164*AL164*PROFILE!$G$8,COUNTRY_INFO!D164*AM164*PROFILE!$G$8)","v":30069.535028217568},{"$f":"MAX(COUNTRY_INFO!D164*AK164*PROFILE!$G$9,COUNTRY_INFO!D164*AL164*PROFILE!$G$9,COUNTRY_INFO!D164*AM164*PROFILE!$G$9,IF(AND(DISTRICT!Z164<>\"Unknown\",Z164<>\"Not required\"),COUNTRY_INFO!O164*DISTRICT!AN164,0))","v":58978.258748660657},{"$f":"MAX(COUNTRY_INFO!D164*AK164*PROFILE!$G$10,COUNTRY_INFO!D164*AL164*PROFILE!$G$10,IF(AND(DISTRICT!Z164<>\"Unknown\",Z164<>\"Not required\"),COUNTRY_INFO!O164*DISTRICT!AO164,0))","v":36429},125476.79377687823,0,{"$f":"MAX('MDA2'!J164,'T1'!L164,'T2'!J164,T3_R1!K164,T3_R2!K164)","v":0},{"$f":"MAX('MDA1'!K164,'MDA2'!K164,'MDA3'!I164,'MDA3'!L164,'T1'!M164,'T2'!K164,T3_R1!L164,T3_R2!L164)","v":58281},{"$f":"MAX('MDA1'!L164,'MDA2'!L164,'MDA3'!J164,'MDA3'!M164,'T1'!N164,'T2'!L164,T3_R1!M164,T3_R2!M164)","v":0},58281,{"$f":"MAX('MDA2'!J164,T164)","v":0},{"$f":"MAX('MDA1'!K164,'MDA2'!K164,'MDA3'!I164,'MDA3'!L164,V164,AD164)","v":58281},{"$f":"MAX('MDA1'!L164,'MDA2'!L164,'MDA3'!J164,'MDA3'!M164,AF164)","v":0},58281,46.44763246312683]
[{"$f":"IF(COUNTRY_INFO!A165=0,\" \",COUNTRY_INFO!A165)","v":"Tanzania"},{"$f":"IF(COUNTRY_INFO!B165=0,\" \",COUNTRY_INFO!B165)","v":"Singida"},{"$f":"IF(COUNTRY_INFO!C165=0,\" \",COUNTRY_INFO!C165)","v":"Itigi District Council"},{"$f":"COUNTRY_INFO!L165","v":"Stopped"},null,null,{"$f":"MAX('MDA1'!M165,'MDA2'!M165)","v":0},{"$f":"IF(AND(COUNTRY_INFO!H165>0,COUNTRY_INFO!H165<4),IF(D165>MAX('MDA1'!M165,'MDA2'!M165),MAX('MDA1'!M165,'MDA2'!M165),D165),0)","v":0},{"$f":"IF(AND(COUNTRY_INFO!H165>0,COUNTRY_INFO!H165<4), IF(G165/D165*100<>0, IF(G165/D165*100>100,100,G165/D165*100), \"-\"),0)","v":0},{"$f":"COUNTRY_INFO!M165","v":0},null,null,{"$f":"MAX('MDA1'!M165,MAX('MDA3'!I165,'MDA3'!L165)+MAX('MDA3'!J165,'MDA3'!M165))","v":0},{"$f":"IF(AND(COUNTRY_INFO!I165>0,COUNTRY_INFO!I165<4),IF(J165>MAX('MDA1'!M165,MAX('MDA3'!I165,'MDA3'!L165)+MAX('MDA3'!J165,'MDA3'!M165)),MAX('MDA1'!M165,MAX('MDA3'!I165,'MDA3'!L165)+MAX('MDA3'!J165,'MDA3'!M165)),J165),0)","v":0},{"$f":"IF(AND(COUNTRY_INFO!I165>0,COUNTRY_INFO!I165<4), IF(M165/J165*100<>0, IF(M165/J165*100>100,100,M165/J165*100), \"-\"),0)","v":0},{"$f":"COUNTRY_INFO!N165","v":42177},null,null,{"$f":"SUM(MAX('MDA2'!J165, 'T1'!L165, MAX(T3_R1!K165, T3_R2!K165)), MAX('MDA1'!K165, 'MDA2'!K165, 'T1'!M165, MAX(T3_R1!L165, T3_R2!L165)), MAX('MDA1'!L165, 'MDA2'!L165, 'T1'!N165, MAX(T3_R1!M165, T3_R2!M165)))","v":31662},{"$f":"IF(AND(COUNTRY_INFO!J165>1,COUNTRY_INFO!J165<4),IF(COUNTRY_INFO!E165>MAX('MDA2'!J165,'T1'!L165,MAX(T3_R1!K165,T3_R2!K165)),MAX('MDA2'!J165,'T1'!L165,MAX(T3_R1!K165,T3_R2!K165)),COUNTRY_INFO!E165),0)","v":0},{"$f":"IF(AND(COUNTRY_INFO!J165>1,COUNTRY_INFO!J165<4), IF(T165/COUNTRY_INFO!E165*100<>0, IF(T165/COUNTRY_INFO!E165*100>100,100,T165/COUNTRY_INFO!E165*100), \"-\"),0)","v":"-"},{"$f":"IF(AND(COUNTRY_INFO!J165>1,COUNTRY_INFO!J165<4),IF(COUNTRY_INFO!F165>MAX('MDA1'!K165,'MDA2'!K165,'T1'!M165,MAX(T3_R1!L165,T3_R2!L165)),MAX('MDA1'!K165,'MDA2'!K165,'T1'!M165,MAX(T3_R1!L165,T3_R2!L165)),COUNTRY_INFO!F165),0)","v":31662},{"$f":"IF(AND(COUNTRY_INFO!J165>1,COUNTRY_INFO!J165<4), IF(V165/COUNTRY_INFO!F165*100<>0, IF(V165/COUNTRY_INFO!F165*100>100,100,V165/COUNTRY_INFO!F165*100), \"-\"),0)","v":89.941198193335794},31662,{"$f":"IF(AND(COUNTRY_INFO!J165>1,COUNTRY_INFO!J165<4), IF(S165/P165*100<>0, IF(X165/P165*100>100,100,X165/P165*100), \"-\"),0)","v":75.069350593925606},{"$f":"COUNTRY_INFO!O165","v":34970.100000000006},null,null,{"$f":"MAX('T1'!L165,'T2'!J165)+MAX('T1'!M165,'T2'!K165)+MAX('T1'!N165,'T2'!L165)","v":0},{"$f":"IF(COUNTRY_INFO!K165=1,IF(COUNTRY_INFO!F165*0.33>MAX('T1'!M165,'T2'!K165),MAX('T1'!M165,'T2'!K165),COUNTRY_INFO!F165*0.33),IF(COUNTRY_INFO!K165=2,IF(COUNTRY_INFO!F165*0.5>MAX('T1'!M165,'T2'!K165),MAX('T1'!M165,'T2'!K165),COUNTRY_INFO!F165*0.5),IF(COUNTRY_INFO!K165=3,IF(COUNTRY_INFO!F165>MAX('T1'!M165,'T2'!K165),MAX('T1'!M165,'T2'!K165),COUNTRY_INFO!F165),0)))","v":0},{"$f":"IF(AND(COUNTRY_INFO!K165>0,COUNTRY_INFO!K165<4),IF(Z165>0,IF(COUNTRY_INFO!K165=1, AD165/(COUNTRY_INFO!F165*0.33)*100, IF(COUNTRY_INFO!K165=2, AD165/(COUNTRY_INFO!F165*0.5)*100, IF(COUNTRY_INFO!K165=3, AD165/COUNTRY_INFO!F165*100))),\"-\"),0)","v":0},{"$f":"IF(COUNTRY_INFO!K165=2,IF(COUNTRY_INFO!G165*0.2>MAX('T1'!N165,'T2'!L165),MAX('T1'!N165,'T2'!L165),COUNTRY_INFO!G165*0.2),IF(COUNTRY_INFO!K165=3,IF(COUNTRY_INFO!G165>MAX('T1'!N165,'T2'!L165),MAX('T1'!N165,'T2'!L165),COUNTRY_INFO!G165),0))","v":0},{"$f":"IF(AND(COUNTRY_INFO!K165>0,COUNTRY_INFO!K165<4),IF(Z165>0,IF(COUNTRY_INFO!K165=1, 0, IF(COUNTRY_INFO!K165=2, AF165/(COUNTRY_INFO!G165*0.2)*100, IF(COUNTRY_INFO!K165=3, AF165/COUNTRY_INFO!G165*100))),\"-\"),0)","v":0},0,{"$f":"IF(AND(COUNTRY_INFO!K165>0,COUNTRY_INFO!K165<4), IF(AC165/Z165*100<>0, IF(AH165/Z165*100>100,100,AH165/Z165*100), \"-\"),0)","v":"-"},null,{"$f":"IF(AND(D165<>0, D165<>\"Unknown\",D165<>\"Stopped\",D165<>\"Not required\"),D165/COUNTRY_INFO!D165, 0)","v":0},{"$f":"IF(AND(J165<>0,J165<>\"Unknown\",J165<>\"Stopped\",J165<>\"Not required\"),J165/COUNTRY_INFO!D165, 0)","v":0},{"$f":"IF(AND(P165<>0,P165<>\"Unknown\",P165<>\"Not required\"),P165/(COUNTRY_INFO!E165+COUNTRY_INFO!F165), 0)","v":1},{"$f":"IF(AND(Z165<>0,Z165<>\"Unknown\",Z165<>\"Not required\"),IF(COUNTRY_INFO!K165=1,1,IF(COUNTRY_INFO!K165=2,0.5*COUNTRY_INFO!F165/(0.5*COUNTRY_INFO!F165+0.2*COUNTRY_INFO!G165),IF(COUNTRY_INFO!K165=3,COUNTRY_INFO!F165/(COUNTRY_INFO!F165+COUNTRY_INFO!G165)))),0)","v":0.50332998761799352},{"$f":"IF(AND(Z165<>0,Z165<>\"Unknown\",Z165<>\"Not required\"),IF(COUNTRY_INFO!K165=1,0,IF(COUNTRY_INFO!K165=2,0.2*COUNTRY_INFO!G165/(0.5*COUNTRY_INFO!F165+0.2*COUNTRY_INFO!G165),IF(COUNTRY_INFO!K165=3,COUNTRY_INFO!G165/(COUNTRY_INFO!F165+COUNTRY_INFO!G165)))),0)","v":0.49667001238200631},{"$f":"MAX(COUNTRY_INFO!D165*AK165*PROFILE!$G$7,COUNTRY_INFO!D165*AL165*PROFILE!$G$7)","v":0},{"$f":"MAX(COUNTRY_INFO!D165*AK165*PROFILE!$G$8,COUNTRY_INFO!D165*AL165*PROFILE!$G$8,COUNTRY_INFO!D165*AM165*PROFILE!$G$8)","v":14325.170810867028},{"$f":"MAX(COUNTRY_INFO!D165*AK165*PROFILE!$G$9,COUNTRY_INFO!D165*AL165*PROFILE!$G$9,COUNTRY_INFO!D165*AM165*PROFILE!$G$9,IF(AND(DISTRICT!Z165<>\"Unknown\",Z165<>\"Not required\"),COUNTRY_INFO!O165*DISTRICT!AN165,0))","v":28097.329403638545},{"$f":"MAX(COUNTRY_INFO!D165*AK165*PROFILE!$G$10,COUNTRY_INFO!D165*AL165*PROFILE!$G$10,IF(AND(DISTRICT!Z165<>\"Unknown\",Z165<>\"Not required\"),COUNTRY_INFO!O165*DISTRICT!AO165,0))","v":17368.600000000002},59791.100214505583,0,{"$f":"MAX('MDA2'!J165,'T1'!L165,'T2'!J165,T3_R1!K165,T3_R2!K165)","v":0},{"$f":"MAX('MDA1'!K165,'MDA2'!K165,'MDA3'!I165,'MDA3'!L165,'T1'!M165,'T2'!K165,T3_R1!L165,T3_R2!L165)","v":31662},{"$f":"MAX('MDA1'!L165,'MDA2'!L165,'MDA3'!J165,'MDA3'!M165,'T1'!N165,'T2'!L165,T3_R1!M165,T3_R2!M165)","v":0},31662,{"$f":"MAX('MDA2'!J165,T165)","v":0},{"$f":"MAX('MDA1'!K165,'MDA2'!K165,'MDA3'!I165,'MDA3'!L165,V165,AD165)","v":31662},{"$f":"MAX('MDA1'!L165,'MDA2'!L165,'MDA3'!J165,'MDA3'!M165,AF165)","v":0},31662,52.954369273035482]
[{"$f":"IF(COUNTRY_INFO!A166=0,\" \",COUNTRY_INFO!A166)","v":"Tanzania"},{"$f":"IF(COUNTRY_INFO!B166=0,\" \",COUNTRY_INFO!B166)","v":"Singida"},{"$f":"IF(COUNTRY_INFO!C166=0,\" \",COUNTRY_INFO!C166)","v":"Manyoni District Council"},{"$f":"COUNTRY_INFO!L166","v":"Stopped"},null,null,{"$f":"MAX('MDA1'!M166,'MDA2'!M166)","v":0},{"$f":"IF(AND(COUNTRY_INFO!H166>0,COUNTRY_INFO!H166<4),IF(D166>MAX('MDA1'!M166,'MDA2'!M166),MAX('MDA1'!M166,'MDA2'!M166),D166),0)","v":0},{"$f":"IF(AND(COUNTRY_INFO!H166>0,COUNTRY_INFO!H166<4), IF(G166/D166*100<>0, IF(G166/D166*100>100,100,G166/D166*100), \"-\"),0)","v":0},{"$f":"COUNTRY_INFO!M166","v":0},null,null,{"$f":"MAX('MDA1'!M166,MAX('MDA3'!I166,'MDA3'!L166)+MAX('MDA3'!J166,'MDA3'!M166))","v":0},{"$f":"IF(AND(COUNTRY_INFO!I166>0,COUNTRY_INFO!I166<4),IF(J166>MAX('MDA1'!M166,MAX('MDA3'!I166,'MDA3'!L166)+MAX('MDA3'!J166,'MDA3'!M166)),MAX('MDA1'!M166,MAX('MDA3'!I166,'MDA3'!L166)+MAX('MDA3'!J166,'MDA3'!M166)),J166),0)","v":0},{"$f":"IF(AND(COUNTRY_INFO!I166>0,COUNTRY_INFO!I166<4), IF(M166/J166*100<>0, IF(M166/J166*100>100,100,M166/J166*100), \"-\"),0)","v":0},{"$f":"COUNTRY_INFO!N166","v":69018},null,null,{"$f":"SUM(MAX('MDA2'!J166, 'T1'!L166, MAX(T3_R1!K166, T3_R2!K166)), MAX('MDA1'!K166, 'MDA2'!K166, 'T1'!M166, MAX(T3_R1!L166, T3_R2!L166)), MAX('MDA1'!L166, 'MDA2'!L166, 'T1'!N166, MAX(T3_R1!M166, T3_R2!M166)))","v":42102},{"$f":"IF(AND(COUNTRY_INFO!J166>1,COUNTRY_INFO!J166<4),IF(COUNTRY_INFO!E166>MAX('MDA2'!J166,'T1'!L166,MAX(T3_R1!K166,T3_R2!K166)),MAX('MDA2'!J166,'T1'!L166,MAX(T3_R1!K166,T3_R2!K166)),COUNTRY_INFO!E166),0)","v":0},{"$f":"IF(AND(COUNTRY_INFO!J166>1,COUNTRY_INFO!J166<4), IF(T166/COUNTRY_INFO!E166*100<>0, IF(T166/COUNTRY_INFO!E166*100>100,100,T166/COUNTRY_INFO!E166*100), \"-\"),0)","v":"-"},{"$f":"IF(AND(COUNTRY_INFO!J166>1,COUNTRY_INFO!J166<4),IF(COUNTRY_INFO!F166>MAX('MDA1'!K166,'MDA2'!K166,'T1'!M166,MAX(T3_R1!L166,T3_R2!L166)),MAX('MDA1'!K166,'MDA2'!K166,'T1'!M166,MAX(T3_R1!L166,T3_R2!L166)),COUNTRY_INFO!F166),0)","v":42102},{"$f":"IF(AND(COUNTRY_INFO!J166>1,COUNTRY_INFO!J166<4), IF(V166/COUNTRY_INFO!F166*100<>0, IF(V166/COUNTRY_INFO!F166*100>100,100,V166/COUNTRY_INFO!F166*100), \"-\"),0)","v":97.709392188261504},42102,{"$f":"IF(AND(COUNTRY_INFO!J166>1,COUNTRY_INFO!J166<4), IF(S166/P166*100<>0, IF(X166/P166*100>100,100,X166/P166*100), \"-\"),0)","v":61.001477875336874},{"$f":"COUNTRY_INFO!O166","v":49965.9},null,null,{"$f":"MAX('T1'!L166,'T2'!J166)+MAX('T1'!M166,'T2'!K166)+MAX('T1'!N166,'T2'!L166)","v":0},{"$f":"IF(COUNTRY_INFO!K166=1,IF(COUNTRY_INFO!F166*0.33>MAX('T1'!M166,'T2'!K166),MAX('T1'!M166,'T2'!K166),COUNTRY_INFO!F166*0.33),IF(COUNTRY_INFO!K166=2,IF(COUNTRY_INFO!F166*0.5>MAX('T1'!M166,'T2'!K166),MAX('T1'!M166,'T2'!K166),COUNTRY_INFO!F166*0.5),IF(COUNTRY_INFO!K166=3,IF(COUNTRY_INFO!F166>MAX('T1'!M166,'T2'!K166),MAX('T1'!M166,'T2'!K166),COUNTRY_INFO!F166),0)))","v":0},{"$f":"IF(AND(COUNTRY_INFO!K166>0,COUNTRY_INFO!K166<4),IF(Z166>0,IF(COUNTRY_INFO!K166=1, AD166/(COUNTRY_INFO!F166*0.33)*100, IF(COUNTRY_INFO!K166=2, AD166/(COUNTRY_INFO!F166*0.5)*100, IF(COUNTRY_INFO!K166=3, AD166/COUNTRY_INFO!F166*100))),\"-\"),0)","v":0},{"$f":"IF(COUNTRY_INFO!K166=2,IF(COUNTRY_INFO!G166*0.2>MAX('T1'!N166,'T2'!L166),MAX('T1'!N166,'T2'!L166),COUNTRY_INFO!G166*0.2),IF(COUNTRY_INFO!K166=3,IF(COUNTRY_INFO!G166>MAX('T1'!N166,'T2'!L166),MAX('T1'!N166,'T2'!L166),COUNTRY_INFO!G166),0))","v":0},{"$f":"IF(AND(COUNTRY_INFO!K166>0,COUNTRY_INFO!K166<4),IF(Z166>0,IF(COUNTRY_INFO!K166=1, 0, IF(COUNTRY_INFO!K166=2, AF166/(COUNTRY_INFO!G166*0.2)*100, IF(COUNTRY_INFO!K166=3, AF166/COUNTRY_INFO!G166*100))),\"-\"),0)","v":0},0,{"$f":"IF(AND(COUNTRY_INFO!K166>0,COUNTRY_INFO!K166<4), IF(AC166/Z166*100<>0, IF(AH166/Z166*100>100,100,AH166/Z166*100), \"-\"),0)","v":"-"},null,{"$f":"IF(AND(D166<>0, D166<>\"Unknown\",D166<>\"Stopped\",D166<>\"Not required\"),D166/COUNTRY_INFO!D166, 0)","v":0},{"$f":"IF(AND(J166<>0,J166<>\"Unknown\",J166<>\"Stopped\",J166<>\"Not required\"),J166/COUNTRY_INFO!D166, 0)","v":0},{"$f":"IF(AND(P166<>0,P166<>\"Unknown\",P166<>\"Not required\"),P166/(COUNTRY_INFO!E166+COUNTRY_INFO!F166), 0)","v":1},{"$f":"IF(AND(Z166<>0,Z166<>\"Unknown\",Z166<>\"Not required\"),IF(COUNTRY_INFO!K166=1,1,IF(COUNTRY_INFO!K166=2,0.5*COUNTRY_INFO!F166/(0.5*COUNTRY_INFO!F166+0.2*COUNTRY_INFO!G166),IF(COUNTRY_INFO!K166=3,COUNTRY_INFO!F166/(COUNTRY_INFO!F166+COUNTRY_INFO!G166)))),0)","v":0.43118406753405819},{"$f":"IF(AND(Z166<>0,Z166<>\"Unknown\",Z166<>\"Not required\"),IF(COUNTRY_INFO!K166=1,0,IF(COUNTRY_INFO!K166=2,0.2*COUNTRY_INFO!G166/(0.5*COUNTRY_INFO!F166+0.2*COUNTRY_INFO!G166),IF(COUNTRY_INFO!K166=3,COUNTRY_INFO!G166/(COUNTRY_INFO!F166+COUNTRY_INFO!G166)))),0)","v":0.56881593246594175},{"$f":"MAX(COUNTRY_INFO!D166*AK166*PROFILE!$G$7,COUNTRY_INFO!D166*AL166*PROFILE!$G$7)","v":0},{"$f":"MAX(COUNTRY_INFO!D166*AK166*PROFILE!$G$8,COUNTRY_INFO!D166*AL166*PROFILE!$G$8,COUNTRY_INFO!D166*AM166*PROFILE!$G$8)","v":23441.34000499381},{"$f":"MAX(COUNTRY_INFO!D166*AK166*PROFILE!$G$9,COUNTRY_INFO!D166*AL166*PROFILE!$G$9,COUNTRY_INFO!D166*AM166*PROFILE!$G$9,IF(AND(DISTRICT!Z166<>\"Unknown\",Z166<>\"Not required\"),COUNTRY_INFO!O166*DISTRICT!AN166,0))","v":45977.745080942397},{"$f":"MAX(COUNTRY_INFO!D166*AK166*PROFILE!$G$10,COUNTRY_INFO!D166*AL166*PROFILE!$G$10,IF(AND(DISTRICT!Z166<>\"Unknown\",Z166<>\"Not required\"),COUNTRY_INFO!O166*DISTRICT!AO166,0))","v":28421.4},97840.485085936205,0,{"$f":"MAX('MDA2'!J166,'T1'!L166,'T2'!J166,T3_R1!K166,T3_R2!K166)","v":0},{"$f":"MAX('MDA1'!K166,'MDA2'!K166,'MDA3'!I166,'MDA3'!L166,'T1'!M166,'T2'!K166,T3_R1!L166,T3_R2!L166)","v":42102},{"$f":"MAX('MDA1'!L166,'MDA2'!L166,'MDA3'!J166,'MDA3'!M166,'T1'!N166,'T2'!L166,T3_R1!M166,T3_R2!M166)","v":0},42102,{"$f":"MAX('MDA2'!J166,T166)","v":0},{"$f":"MAX('MDA1'!K166,'MDA2'!K166,'MDA3'!I166,'MDA3'!L166,V166,AD166)","v":42102},{"$f":"MAX('MDA1'!L166,'MDA2'!L166,'MDA3'!J166,'MDA3'!M166,AF166)","v":0},42102,43.031266620377615]
[{"$f":"IF(COUNTRY_INFO!A167=0,\" \",COUNTRY_INFO!A167)","v":"Tanzania"},{"$f":"IF(COUNTRY_INFO!B167=0,\" \",COUNTRY_INFO!B167)","v":"Singida"},{"$f":"IF(COUNTRY_INFO!C167=0,\" \",COUNTRY_INFO!C167)","v":"Mkalama District Council"},{"$f":"COUNTRY_INFO!L167","v":"Stopped"},null,null,{"$f":"MAX('MDA1'!M167,'MDA2'!M167)","v":0},{"$f":"IF(AND(COUNTRY_INFO!H167>0,COUNTRY_INFO!H167<4),IF(D167>MAX('MDA1'!M167,'MDA2'!M167),MAX('MDA1'!M167,'MDA2'!M167),D167),0)","v":0},{"$f":"IF(AND(COUNTRY_INFO!H167>0,COUNTRY_INFO!H167<4), IF(G167/D167*100<>0, IF(G167/D167*100>100,100,G167/D167*100), \"-\"),0)","v":0},{"$f":"COUNTRY_INFO!M167","v":0},null,null,{"$f":"MAX('MDA1'!M167,MAX('MDA3'!I167,'MDA3'!L167)+MAX('MDA3'!J167,'MDA3'!M167))","v":0},{"$f":"IF(AND(COUNTRY_INFO!I167>0,COUNTRY_INFO!I167<4),IF(J167>MAX('MDA1'!M167,MAX('MDA3'!I167,'MDA3'!L167)+MAX('MDA3'!J167,'MDA3'!M167)),MAX('MDA1'!M167,MAX('MDA3'!I167,'MDA3'!L167)+MAX('MDA3'!J167,'MDA3'!M167)),J167),0)","v":0},{"$f":"IF(AND(COUNTRY_INFO!I167>0,COUNTRY_INFO!I167<4), IF(M167/J167*100<>0, IF(M167/J167*100>100,100,M167/J167*100), \"-\"),0)","v":0},{"$f":"COUNTRY_INFO!N167","v":73382},null,null,{"$f":"SUM(MAX('MDA2'!J167, 'T1'!L167, MAX(T3_R1!K167, T3_R2!K167)), MAX('MDA1'!K167, 'MDA2'!K167, 'T1'!M167, MAX(T3_R1!L167, T3_R2!L167)), MAX('MDA1'!L167, 'MDA2'!L167, 'T1'!N167, MAX(T3_R1!M167, T3_R2!M167)))","v":51797},{"$f":"IF(AND(COUNTRY_INFO!J167>1,COUNTRY_INFO!J167<4),IF(COUNTRY_INFO!E167>MAX('MDA2'!J167,'T1'!L167,MAX(T3_R1!K167,T3_R2!K167)),MAX('MDA2'!J167,'T1'!L167,MAX(T3_R1!K167,T3_R2!K167)),COUNTRY_INFO!E167),0)","v":0},{"$f":"IF(AND(COUNTRY_INFO!J167>1,COUNTRY_INFO!J167<4), IF(T167/COUNTRY_INFO!E167*100<>0, IF(T167/COUNTRY_INFO!E167*100>100,100,T167/COUNTRY_INFO!E167*100), \"-\"),0)","v":"-"},{"$f":"IF(AND(COUNTRY_INFO!J167>1,COUNTRY_INFO!J167<4),IF(COUNTRY_INFO!F167>MAX('MDA1'!K167,'MDA2'!K167,'T1'!M167,MAX(T3_R1!L167,T3_R2!L167)),MAX('MDA1'!K167,'MDA2'!K167,'T1'!M167,MAX(T3_R1!L167,T3_R2!L167)),COUNTRY_INFO!F167),0)","v":51797},{"$f":"IF(AND(COUNTRY_INFO!J167>1,COUNTRY_INFO!J167<4), IF(V167/COUNTRY_INFO!F167*100<>0, IF(V167/COUNTRY_INFO!F167*100>100,100,V167/COUNTRY_INFO!F167*100), \"-\"),0)","v":88.183118253941231},51797,{"$f":"IF(AND(COUNTRY_INFO!J167>1,COUNTRY_INFO!J167<4), IF(S167/P167*100<>0, IF(X167/P167*100>100,100,X167/P167*100), \"-\"),0)","v":70.585429669401208},{"$f":"COUNTRY_INFO!O167","v":57957},null,null,{"$f":"MAX('T1'!L167,'T2'!J167)+MAX('T1'!M167,'T2'!K167)+MAX('T1'!N167,'T2'!L167)","v":0},{"$f":"IF(COUNTRY_INFO!K167=1,IF(COUNTRY_INFO!F167*0.33>MAX('T1'!M167,'T2'!K167),MAX('T1'!M167,'T2'!K167),COUNTRY_INFO!F167*0.33),IF(COUNTRY_INFO!K167=2,IF(COUNTRY_INFO!F167*0.5>MAX('T1'!M167,'T2'!K167),MAX('T1'!M167,'T2'!K167),COUNTRY_INFO!F167*0.5),IF(COUNTRY_INFO!K167=3,IF(COUNTRY_INFO!F167>MAX('T1'!M167,'T2'!K167),MAX('T1'!M167,'T2'!K167),COUNTRY_INFO!F167),0)))","v":0},{"$f":"IF(AND(COUNTRY_INFO!K167>0,COUNTRY_INFO!K167<4),IF(Z167>0,IF(COUNTRY_INFO!K167=1, AD167/(COUNTRY_INFO!F167*0.33)*100, IF(COUNTRY_INFO!K167=2, AD167/(COUNTRY_INFO!F167*0.5)*100, IF(COUNTRY_INFO!K167=3, AD167/COUNTRY_INFO!F167*100))),\"-\"),0)","v":0},{"$f":"IF(COUNTRY_INFO!K167=2,IF(COUNTRY_INFO!G167*0.2>MAX('T1'!N167,'T2'!L167),MAX('T1'!N167,'T2'!L167),COUNTRY_INFO!G167*0.2),IF(COUNTRY_INFO!K167=3,IF(COUNTRY_INFO!G167>MAX('T1'!N167,'T2'!L167),MAX('T1'!N167,'T2'!L167),COUNTRY_INFO!G167),0))","v":0},{"$f":"IF(AND(COUNTRY_INFO!K167>0,COUNTRY_INFO!K167<4),IF(Z167>0,IF(COUNTRY_INFO!K167=1, 0, IF(COUNTRY_INFO!K167=2, AF167/(COUNTRY_INFO!G167*0.2)*100, IF(COUNTRY_INFO!K167=3, AF167/COUNTRY_INFO!G167*100))),\"-\"),0)","v":0},0,{"$f":"IF(AND(COUNTRY_INFO!K167>0,COUNTRY_INFO!K167<4), IF(AC167/Z167*100<>0, IF(AH167/Z167*100>100,100,AH167/Z167*100), \"-\"),0)","v":"-"},null,{"$f":"IF(AND(D167<>0, D167<>\"Unknown\",D167<>\"Stopped\",D167<>\"Not required\"),D167/COUNTRY_INFO!D167, 0)","v":0},{"$f":"IF(AND(J167<>0,J167<>\"Unknown\",J167<>\"Stopped\",J167<>\"Not required\"),J167/COUNTRY_INFO!D167, 0)","v":0},{"$f":"IF(AND(P167<>0,P167<>\"Unknown\",P167<>\"Not required\"),P167/(COUNTRY_INFO!E167+COUNTRY_INFO!F167), 0)","v":1},{"$f":"IF(AND(Z167<>0,Z167<>\"Unknown\",Z167<>\"Not required\"),IF(COUNTRY_INFO!K167=1,1,IF(COUNTRY_INFO!K167=2,0.5*COUNTRY_INFO!F167/(0.5*COUNTRY_INFO!F167+0.2*COUNTRY_INFO!G167),IF(COUNTRY_INFO!K167=3,COUNTRY_INFO!F167/(COUNTRY_INFO!F167+COUNTRY_INFO!G167)))),0)","v":0.50673775385199371},{"$f":"IF(AND(Z167<>0,Z167<>\"Unknown\",Z167<>\"Not required\"),IF(COUNTRY_INFO!K167=1,0,IF(COUNTRY_INFO!K167=2,0.2*COUNTRY_INFO!G167/(0.5*COUNTRY_INFO!F167+0.2*COUNTRY_INFO!G167),IF(COUNTRY_INFO!K167=3,COUNTRY_INFO!G167/(COUNTRY_INFO!F167+COUNTRY_INFO!G167)))),0)","v":0.49326224614800629},{"$f":"MAX(COUNTRY_INFO!D167*AK167*PROFILE!$G$7,COUNTRY_INFO!D167*AL167*PROFILE!$G$7)","v":0},{"$f":"MAX(COUNTRY_INFO!D167*AK167*PROFILE!$G$8,COUNTRY_INFO!D167*AL167*PROFILE!$G$8,COUNTRY_INFO!D167*AM167*PROFILE!$G$8)","v":24018.366145933789},{"$f":"MAX(COUNTRY_INFO!D167*AK167*PROFILE!$G$9,COUNTRY_INFO!D167*AL167*PROFILE!$G$9,COUNTRY_INFO!D167*AM167*PROFILE!$G$9,IF(AND(DISTRICT!Z167<>\"Unknown\",Z167<>\"Not required\"),COUNTRY_INFO!O167*DISTRICT!AN167,0))","v":47109.521711780326},{"$f":"MAX(COUNTRY_INFO!D167*AK167*PROFILE!$G$10,COUNTRY_INFO!D167*AL167*PROFILE!$G$10,IF(AND(DISTRICT!Z167<>\"Unknown\",Z167<>\"Not required\"),COUNTRY_INFO!O167*DISTRICT!AO167,0))","v":28588},99715.887857714115,0,{"$f":"MAX('MDA2'!J167,'T1'!L167,'T2'!J167,T3_R1!K167,T3_R2!K167)","v":0},{"$f":"MAX('MDA1'!K167,'MDA2'!K167,'MDA3'!I167,'MDA3'!L167,'T1'!M167,'T2'!K167,T3_R1!L167,T3_R2!L167)","v":51797},{"$f":"MAX('MDA1'!L167,'MDA2'!L167,'MDA3'!J167,'MDA3'!M167,'T1'!N167,'T2'!L167,T3_R1!M167,T3_R2!M167)","v":0},51797,{"$f":"MAX('MDA2'!J167,T167)","v":0},{"$f":"MAX('MDA1'!K167,'MDA2'!K167,'MDA3'!I167,'MDA3'!L167,V167,AD167)","v":51797},{"$f":"MAX('MDA1'!L167,'MDA2'!L167,'MDA3'!J167,'MDA3'!M167,AF167)","v":0},51797,51.944580861486997]
[{"$f":"IF(COUNTRY_INFO!A168=0,\" \",COUNTRY_INFO!A168)","v":"Tanzania"},{"$f":"IF(COUNTRY_INFO!B168=0,\" \",COUNTRY_INFO!B168)","v":"Singida"},{"$f":"IF(COUNTRY_INFO!C168=0,\" \",COUNTRY_INFO!C168)","v":"Singida District Council"},{"$f":"COUNTRY_INFO!L168","v":"Stopped"},null,null,{"$f":"MAX('MDA1'!M168,'MDA2'!M168)","v":0},{"$f":"IF(AND(COUNTRY_INFO!H168>0,COUNTRY_INFO!H168<4),IF(D168>MAX('MDA1'!M168,'MDA2'!M168),MAX('MDA1'!M168,'MDA2'!M168),D168),0)","v":0},{"$f":"IF(AND(COUNTRY_INFO!H168>0,COUNTRY_INFO!H168<4), IF(G168/D168*100<>0, IF(G168/D168*100>100,100,G168/D168*100), \"-\"),0)","v":0},{"$f":"COUNTRY_INFO!M168","v":0},null,null,{"$f":"MAX('MDA1'!M168,MAX('MDA3'!I168,'MDA3'!L168)+MAX('MDA3'!J168,'MDA3'!M168))","v":0},{"$f":"IF(AND(COUNTRY_INFO!I168>0,COUNTRY_INFO!I168<4),IF(J168>MAX('MDA1'!M168,MAX('MDA3'!I168,'MDA3'!L168)+MAX('MDA3'!J168,'MDA3'!M168)),MAX('MDA1'!M168,MAX('MDA3'!I168,'MDA3'!L168)+MAX('MDA3'!J168,'MDA3'!M168)),J168),0)","v":0},{"$f":"IF(AND(COUNTRY_INFO!I168>0,COUNTRY_INFO!I168<4), IF(M168/J168*100<>0, IF(M168/J168*100>100,100,M168/J168*100), \"-\"),0)","v":0},{"$f":"COUNTRY_INFO!N168","v":88468},null,null,{"$f":"SUM(MAX('MDA2'!J168, 'T1'!L168, MAX(T3_R1!K168, T3_R2!K168)), MAX('MDA1'!K168, 'MDA2'!K168, 'T1'!M168, MAX(T3_R1!L168, T3_R2!L168)), MAX('MDA1'!L168, 'MDA2'!L168, 'T1'!N168, MAX(T3_R1!M168, T3_R2!M168)))","v":68228},{"$f":"IF(AND(COUNTRY_INFO!J168>1,COUNTRY_INFO!J168<4),IF(COUNTRY_INFO!E168>MAX('MDA2'!J168,'T1'!L168,MAX(T3_R1!K168,T3_R2!K168)),MAX('MDA2'!J168,'T1'!L168,MAX(T3_R1!K168,T3_R2!K168)),COUNTRY_INFO!E168),0)","v":0},{"$f":"IF(AND(COUNTRY_INFO!J168>1,COUNTRY_INFO!J168<4), IF(T168/COUNTRY_INFO!E168*100<>0, IF(T168/COUNTRY_INFO!E168*100>100,100,T168/COUNTRY_INFO!E168*100), \"-\"),0)","v":"-"},{"$f":"IF(AND(COUNTRY_INFO!J168>1,COUNTRY_INFO!J168<4),IF(COUNTRY_INFO!F168>MAX('MDA1'!K168,'MDA2'!K168,'T1'!M168,MAX(T3_R1!L168,T3_R2!L168)),MAX('MDA1'!K168,'MDA2'!K168,'T1'!M168,MAX(T3_R1!L168,T3_R2!L168)),COUNTRY_INFO!F168),0)","v":68228},{"$f":"IF(AND(COUNTRY_INFO!J168>1,COUNTRY_INFO!J168<4), IF(V168/COUNTRY_INFO!F168*100<>0, IF(V168/COUNTRY_INFO!F168*100>100,100,V168/COUNTRY_INFO!F168*100), \"-\"),0)","v":95.377088138673372},68228,{"$f":"IF(AND(COUNTRY_INFO!J168>1,COUNTRY_INFO!J168<4), IF(S168/P168*100<>0, IF(X168/P168*100>100,100,X168/P168*100), \"-\"),0)","v":77.12167111271873},{"$f":"COUNTRY_INFO!O168","v":69771.5},null,null,{"$f":"MAX('T1'!L168,'T2'!J168)+MAX('T1'!M168,'T2'!K168)+MAX('T1'!N168,'T2'!L168)","v":0},{"$f":"IF(COUNTRY_INFO!K168=1,IF(COUNTRY_INFO!F168*0.33>MAX('T1'!M168,'T2'!K168),MAX('T1'!M168,'T2'!K168),COUNTRY_INFO!F168*0.33),IF(COUNTRY_INFO!K168=2,IF(COUNTRY_INFO!F168*0.5>MAX('T1'!M168,'T2'!K168),MAX('T1'!M168,'T2'!K168),COUNTRY_INFO!F168*0.5),IF(COUNTRY_INFO!K168=3,IF(COUNTRY_INFO!F168>MAX('T1'!M168,'T2'!K168),MAX('T1'!M168,'T2'!K168),COUNTRY_INFO!F168),0)))","v":0},{"$f":"IF(AND(COUNTRY_INFO!K168>0,COUNTRY_INFO!K168<4),IF(Z168>0,IF(COUNTRY_INFO!K168=1, AD168/(COUNTRY_INFO!F168*0.33)*100, IF(COUNTRY_INFO!K168=2, AD168/(COUNTRY_INFO!F168*0.5)*100, IF(COUNTRY_INFO!K168=3, AD168/COUNTRY_INFO!F168*100))),\"-\"),0)","v":0},{"$f":"IF(COUNTRY_INFO!K168=2,IF(COUNTRY_INFO!G168*0.2>MAX('T1'!N168,'T2'!L168),MAX('T1'!N168,'T2'!L168),COUNTRY_INFO!G168*0.2),IF(COUNTRY_INFO!K168=3,IF(COUNTRY_INFO!G168>MAX('T1'!N168,'T2'!L168),MAX('T1'!N168,'T2'!L168),COUNTRY_INFO!G168),0))","v":0},{"$f":"IF(AND(COUNTRY_INFO!K168>0,COUNTRY_INFO!K168<4),IF(Z168>0,IF(COUNTRY_INFO!K168=1, 0, IF(COUNTRY_INFO!K168=2, AF168/(COUNTRY_INFO!G168*0.2)*100, IF(COUNTRY_INFO!K168=3, AF168/COUNTRY_INFO!G168*100))),\"-\"),0)","v":0},0,{"$f":"IF(AND(COUNTRY_INFO!K168>0,COUNTRY_INFO!K168<4), IF(AC168/Z168*100<>0, IF(AH168/Z168*100>100,100,AH168/Z168*100), \"-\"),0)","v":"-"},null,{"$f":"IF(AND(D168<>0, D168<>\"Unknown\",D168<>\"Stopped\",D168<>\"Not required\"),D168/COUNTRY_INFO!D168, 0)","v":0},{"$f":"IF(AND(J168<>0,J168<>\"Unknown\",J168<>\"Stopped\",J168<>\"Not required\"),J168/COUNTRY_INFO!D168, 0)","v":0},{"$f":"IF(AND(P168<>0,P168<>\"Unknown\",P168<>\"Not required\"),P168/(COUNTRY_INFO!E168+COUNTRY_INFO!F168), 0)","v":1},{"$f":"IF(AND(Z168<>0,Z168<>\"Unknown\",Z168<>\"Not required\"),IF(COUNTRY_INFO!K168=1,1,IF(COUNTRY_INFO!K168=2,0.5*COUNTRY_INFO!F168/(0.5*COUNTRY_INFO!F168+0.2*COUNTRY_INFO!G168),IF(COUNTRY_INFO!K168=3,COUNTRY_INFO!F168/(COUNTRY_INFO!F168+COUNTRY_INFO!G168)))),0)","v":0.51263768157485501},{"$f":"IF(AND(Z168<>0,Z168<>\"Unknown\",Z168<>\"Not required\"),IF(COUNTRY_INFO!K168=1,0,IF(COUNTRY_INFO!K168=2,0.2*COUNTRY_INFO!G168/(0.5*COUNTRY_INFO!F168+0.2*COUNTRY_INFO!G168),IF(COUNTRY_INFO!K168=3,COUNTRY_INFO!G168/(COUNTRY_INFO!F168+COUNTRY_INFO!G168)))),0)","v":0.48736231842514494},{"$f":"MAX(COUNTRY_INFO!D168*AK168*PROFILE!$G$7,COUNTRY_INFO!D168*AL168*PROFILE!$G$7)","v":0},{"$f":"MAX(COUNTRY_INFO!D168*AK168*PROFILE!$G$8,COUNTRY_INFO!D168*AL168*PROFILE!$G$8,COUNTRY_INFO!D168*AM168*PROFILE!$G$8)","v":28700.083340252648},{"$f":"MAX(COUNTRY_INFO!D168*AK168*PROFILE!$G$9,COUNTRY_INFO!D168*AL168*PROFILE!$G$9,COUNTRY_INFO!D168*AM168*PROFILE!$G$9,IF(AND(DISTRICT!Z168<>\"Unknown\",Z168<>\"Not required\"),COUNTRY_INFO!O168*DISTRICT!AN168,0))","v":56292.222003470168},{"$f":"MAX(COUNTRY_INFO!D168*AK168*PROFILE!$G$10,COUNTRY_INFO!D168*AL168*PROFILE!$G$10,IF(AND(DISTRICT!Z168<>\"Unknown\",Z168<>\"Not required\"),COUNTRY_INFO!O168*DISTRICT!AO168,0))","v":34004},118996.30534372281,0,{"$f":"MAX('MDA2'!J168,'T1'!L168,'T2'!J168,T3_R1!K168,T3_R2!K168)","v":0},{"$f":"MAX('MDA1'!K168,'MDA2'!K168,'MDA3'!I168,'MDA3'!L168,'T1'!M168,'T2'!K168,T3_R1!L168,T3_R2!L168)","v":68228},{"$f":"MAX('MDA1'!L168,'MDA2'!L168,'MDA3'!J168,'MDA3'!M168,'T1'!N168,'T2'!L168,T3_R1!M168,T3_R2!M168)","v":0},68228,{"$f":"MAX('MDA2'!J168,T168)","v":0},{"$f":"MAX('MDA1'!K168,'MDA2'!K168,'MDA3'!I168,'MDA3'!L168,V168,AD168)","v":68228},{"$f":"MAX('MDA1'!L168,'MDA2'!L168,'MDA3'!J168,'MDA3'!M168,AF168)","v":0},68228,57.336233930055471]
[{"$f":"IF(COUNTRY_INFO!A169=0,\" \",COUNTRY_INFO!A169)","v":"Tanzania"},{"$f":"IF(COUNTRY_INFO!B169=0,\" \",COUNTRY_INFO!B169)","v":"Singida"},{"$f":"IF(COUNTRY_INFO!C169=0,\" \",COUNTRY_INFO!C169)","v":"Singida Municipal Council"},{"$f":"COUNTRY_INFO!L169","v":"Stopped"},null,null,{"$f":"MAX('MDA1'!M169,'MDA2'!M169)","v":0},{"$f":"IF(AND(COUNTRY_INFO!H169>0,COUNTRY_INFO!H169<4),IF(D169>MAX('MDA1'!M169,'MDA2'!M169),MAX('MDA1'!M169,'MDA2'!M169),D169),0)","v":0},{"$f":"IF(AND(COUNTRY_INFO!H169>0,COUNTRY_INFO!H169<4), IF(G169/D169*100<>0, IF(G169/D169*100>100,100,G169/D169*100), \"-\"),0)","v":0},{"$f":"COUNTRY_INFO!M169","v":0},null,null,{"$f":"MAX('MDA1'!M169,MAX('MDA3'!I169,'MDA3'!L169)+MAX('MDA3'!J169,'MDA3'!M169))","v":0},{"$f":"IF(AND(COUNTRY_INFO!I169>0,COUNTRY_INFO!I169<4),IF(J169>MAX('MDA1'!M169,MAX('MDA3'!I169,'MDA3'!L169)+MAX('MDA3'!J169,'MDA3'!M169)),MAX('MDA1'!M169,MAX('MDA3'!I169,'MDA3'!L169)+MAX('MDA3'!J169,'MDA3'!M169)),J169),0)","v":0},{"$f":"IF(AND(COUNTRY_INFO!I169>0,COUNTRY_INFO!I169<4), IF(M169/J169*100<>0, IF(M169/J169*100>100,100,M169/J169*100), \"-\"),0)","v":0},{"$f":"COUNTRY_INFO!N169","v":52849},null,null,{"$f":"SUM(MAX('MDA2'!J169, 'T1'!L169, MAX(T3_R1!K169, T3_R2!K169)), MAX('MDA1'!K169, 'MDA2'!K169, 'T1'!M169, MAX(T3_R1!L169, T3_R2!L169)), MAX('MDA1'!L169, 'MDA2'!L169, 'T1'!N169, MAX(T3_R1!M169, T3_R2!M169)))","v":42718},{"$f":"IF(AND(COUNTRY_INFO!J169>1,COUNTRY_INFO!J169<4),IF(COUNTRY_INFO!E169>MAX('MDA2'!J169,'T1'!L169,MAX(T3_R1!K169,T3_R2!K169)),MAX('MDA2'!J169,'T1'!L169,MAX(T3_R1!K169,T3_R2!K169)),COUNTRY_INFO!E169),0)","v":0},{"$f":"IF(AND(COUNTRY_INFO!J169>1,COUNTRY_INFO!J169<4), IF(T169/COUNTRY_INFO!E169*100<>0, IF(T169/COUNTRY_INFO!E169*100>100,100,T169/COUNTRY_INFO!E169*100), \"-\"),0)","v":"-"},{"$f":"IF(AND(COUNTRY_INFO!J169>1,COUNTRY_INFO!J169<4),IF(COUNTRY_INFO!F169>MAX('MDA1'!K169,'MDA2'!K169,'T1'!M169,MAX(T3_R1!L169,T3_R2!L169)),MAX('MDA1'!K169,'MDA2'!K169,'T1'!M169,MAX(T3_R1!L169,T3_R2!L169)),COUNTRY_INFO!F169),0)","v":42718},{"$f":"IF(AND(COUNTRY_INFO!J169>1,COUNTRY_INFO!J169<4), IF(V169/COUNTRY_INFO!F169*100<>0, IF(V169/COUNTRY_INFO!F169*100>100,100,V169/COUNTRY_INFO!F169*100), \"-\"),0)","v":95.838287752675384},42718,{"$f":"IF(AND(COUNTRY_INFO!J169>1,COUNTRY_INFO!J169<4), IF(S169/P169*100<>0, IF(X169/P169*100>100,100,X169/P169*100), \"-\"),0)","v":80.830290071713748},{"$f":"COUNTRY_INFO!O169","v":46189.100000000006},null,null,{"$f":"MAX('T1'!L169,'T2'!J169)+MAX('T1'!M169,'T2'!K169)+MAX('T1'!N169,'T2'!L169)","v":0},{"$f":"IF(COUNTRY_INFO!K169=1,IF(COUNTRY_INFO!F169*0.33>MAX('T1'!M169,'T2'!K169),MAX('T1'!M169,'T2'!K169),COUNTRY_INFO!F169*0.33),IF(COUNTRY_INFO!K169=2,IF(COUNTRY_INFO!F169*0.5>MAX('T1'!M169,'T2'!K169),MAX('T1'!M169,'T2'!K169),COUNTRY_INFO!F169*0.5),IF(COUNTRY_INFO!K169=3,IF(COUNTRY_INFO!F169>MAX('T1'!M169,'T2'!K169),MAX('T1'!M169,'T2'!K169),COUNTRY_INFO!F169),0)))","v":0},{"$f":"IF(AND(COUNTRY_INFO!K169>0,COUNTRY_INFO!K169<4),IF(Z169>0,IF(COUNTRY_INFO!K169=1, AD169/(COUNTRY_INFO!F169*0.33)*100, IF(COUNTRY_INFO!K169=2, AD169/(COUNTRY_INFO!F169*0.5)*100, IF(COUNTRY_INFO!K169=3, AD169/COUNTRY_INFO!F169*100))),\"-\"),0)","v":0},{"$f":"IF(COUNTRY_INFO!K169=2,IF(COUNTRY_INFO!G169*0.2>MAX('T1'!N169,'T2'!L169),MAX('T1'!N169,'T2'!L169),COUNTRY_INFO!G169*0.2),IF(COUNTRY_INFO!K169=3,IF(COUNTRY_INFO!G169>MAX('T1'!N169,'T2'!L169),MAX('T1'!N169,'T2'!L169),COUNTRY_INFO!G169),0))","v":0},{"$f":"IF(AND(COUNTRY_INFO!K169>0,COUNTRY_INFO!K169<4),IF(Z169>0,IF(COUNTRY_INFO!K169=1, 0, IF(COUNTRY_INFO!K169=2, AF169/(COUNTRY_INFO!G169*0.2)*100, IF(COUNTRY_INFO!K169=3, AF169/COUNTRY_INFO!G169*100))),\"-\"),0)","v":0},0,{"$f":"IF(AND(COUNTRY_INFO!K169>0,COUNTRY_INFO!K169<4), IF(AC169/Z169*100<>0, IF(AH169/Z169*100>100,100,AH169/Z169*100), \"-\"),0)","v":"-"},null,{"$f":"IF(AND(D169<>0, D169<>\"Unknown\",D169<>\"Stopped\",D169<>\"Not required\"),D169/COUNTRY_INFO!D169, 0)","v":0},{"$f":"IF(AND(J169<>0,J169<>\"Unknown\",J169<>\"Stopped\",J169<>\"Not required\"),J169/COUNTRY_INFO!D169, 0)","v":0},{"$f":"IF(AND(P169<>0,P169<>\"Unknown\",P169<>\"Not required\"),P169/(COUNTRY_INFO!E169+COUNTRY_INFO!F169), 0)","v":1},{"$f":"IF(AND(Z169<>0,Z169<>\"Unknown\",Z169<>\"Not required\"),IF(COUNTRY_INFO!K169=1,1,IF(COUNTRY_INFO!K169=2,0.5*COUNTRY_INFO!F169/(0.5*COUNTRY_INFO!F169+0.2*COUNTRY_INFO!G169),IF(COUNTRY_INFO!K169=3,COUNTRY_INFO!F169/(COUNTRY_INFO!F169+COUNTRY_INFO!G169)))),0)","v":0.4825056127960925},{"$f":"IF(AND(Z169<>0,Z169<>\"Unknown\",Z169<>\"Not required\"),IF(COUNTRY_INFO!K169=1,0,IF(COUNTRY_INFO!K169=2,0.2*COUNTRY_INFO!G169/(0.5*COUNTRY_INFO!F169+0.2*COUNTRY_INFO!G169),IF(COUNTRY_INFO!K169=3,COUNTRY_INFO!G169/(COUNTRY_INFO!F169+COUNTRY_INFO!G169)))),0)","v":0.51749438720390739},{"$f":"MAX(COUNTRY_INFO!D169*AK169*PROFILE!$G$7,COUNTRY_INFO!D169*AL169*PROFILE!$G$7)","v":0},{"$f":"MAX(COUNTRY_INFO!D169*AK169*PROFILE!$G$8,COUNTRY_INFO!D169*AL169*PROFILE!$G$8,COUNTRY_INFO!D169*AM169*PROFILE!$G$8)","v":19137.460016297184},{"$f":"MAX(COUNTRY_INFO!D169*AK169*PROFILE!$G$9,COUNTRY_INFO!D169*AL169*PROFILE!$G$9,COUNTRY_INFO!D169*AM169*PROFILE!$G$9,IF(AND(DISTRICT!Z169<>\"Unknown\",Z169<>\"Not required\"),COUNTRY_INFO!O169*DISTRICT!AN169,0))","v":37536.133085335197},{"$f":"MAX(COUNTRY_INFO!D169*AK169*PROFILE!$G$10,COUNTRY_INFO!D169*AL169*PROFILE!$G$10,IF(AND(DISTRICT!Z169<>\"Unknown\",Z169<>\"Not required\"),COUNTRY_INFO!O169*DISTRICT!AO169,0))","v":23902.600000000002},80576.19310163238,{"$f":"IF(COUNTIFS(AK169:AN169,\">0\")=0,0, IF(COUNTIFS(AK169:AN169,\">0\")<=IF(AND(OR(D169>=0,D169=\"Not required\",D169=\"Unknown\",D169=\"Stopped\"),D169>0,H169>0),1,0)+IF(AND(OR(J169>=0,J169=\"Not required\",J169=\"Unknown\",J169=\"Stopped\"),J169>0,N169>0),1,0)+IF(AND(OR(P169>=0,P169=\"Not required\",P169=\"Unknown\"),P169>0,X169>0),1,0)+IF(AND(OR(Z169>=0,Z169=\"Not required\",Z169=\"Unknown\"),Z169>0,AH169>0),1,0),\"Y\",0))","v":0},{"$f":"MAX('MDA2'!J169,'T1'!L169,'T2'!J169,T3_R1!K169,T3_R2!K169)","v":0},{"$f":"MAX('MDA1'!K169,'MDA2'!K169,'MDA3'!I169,'MDA3'!L169,'T1'!M169,'T2'!K169,T3_R1!L169,T3_R2!L169)","v":42718},{"$f":"MAX('MDA1'!L169,'MDA2'!L169,'MDA3'!J169,'MDA3'!M169,'T1'!N169,'T2'!L169,T3_R1!M169,T3_R2!M169)","v":0},42718,{"$f":"MAX('MDA2'!J169,T169)","v":0},{"$f":"MAX('MDA1'!K169,'MDA2'!K169,'MDA3'!I169,'MDA3'!L169,V169,AD169)","v":42718},{"$f":"MAX('MDA1'!L169,'MDA2'!L169,'MDA3'!J169,'MDA3'!M169,AF169)","v":0},{"$f":"IF(AT169<SUM(AZ169:BB169), AT169,SUM(AZ169:BB169))","v":42718},{"$f":"IF(AT169<>0,BC169/AT169*100,0)","v":53.015659285514914}]
[{"$f":"IF(COUNTRY_INFO!A170=0,\" \",COUNTRY_INFO!A170)","v":"Tanzania"},{"$f":"IF(COUNTRY_INFO!B170=0,\" \",COUNTRY_INFO!B170)","v":"Songwe"},{"$f":"IF(COUNTRY_INFO!C170=0,\" \",COUNTRY_INFO!C170)","v":"Ileje District Council"},{"$f":"COUNTRY_INFO!L170","v":"Stopped"},null,null,{"$f":"MAX('MDA1'!M170,'MDA2'!M170)","v":0},{"$f":"IF(AND(COUNTRY_INFO!H170>0,COUNTRY_INFO!H170<4),IF(D170>MAX('MDA1'!M170,'MDA2'!M170),MAX('MDA1'!M170,'MDA2'!M170),D170),0)","v":0},{"$f":"IF(AND(COUNTRY_INFO!H170>0,COUNTRY_INFO!H170<4), IF(G170/D170*100<>0, IF(G170/D170*100>100,100,G170/D170*100), \"-\"),0)","v":0},{"$f":"COUNTRY_INFO!M170","v":151587},null,null,{"$f":"MAX('MDA1'!M170,MAX('MDA3'!I170,'MDA3'!L170)+MAX('MDA3'!J170,'MDA3'!M170))","v":123925},{"$f":"IF(AND(COUNTRY_INFO!I170>0,COUNTRY_INFO!I170<4),IF(J170>MAX('MDA1'!M170,MAX('MDA3'!I170,'MDA3'!L170)+MAX('MDA3'!J170,'MDA3'!M170)),MAX('MDA1'!M170,MAX('MDA3'!I170,'MDA3'!L170)+MAX('MDA3'!J170,'MDA3'!M170)),J170),0)","v":123925},{"$f":"IF(AND(COUNTRY_INFO!I170>0,COUNTRY_INFO!I170<4), IF(M170/J170*100<>0, IF(M170/J170*100>100,100,M170/J170*100), \"-\"),0)","v":81.751733328055835},{"$f":"COUNTRY_INFO!N170","v":49116},null,null,{"$f":"SUM(MAX('MDA2'!J170, 'T1'!L170, MAX(T3_R1!K170, T3_R2!K170)), MAX('MDA1'!K170, 'MDA2'!K170, 'T1'!M170, MAX(T3_R1!L170, T3_R2!L170)), MAX('MDA1'!L170, 'MDA2'!L170, 'T1'!N170, MAX(T3_R1!M170, T3_R2!M170)))","v":23300},{"$f":"IF(AND(COUNTRY_INFO!J170>1,COUNTRY_INFO!J170<4),IF(COUNTRY_INFO!E170>MAX('MDA2'!J170,'T1'!L170,MAX(T3_R1!K170,T3_R2!K170)),MAX('MDA2'!J170,'T1'!L170,MAX(T3_R1!K170,T3_R2!K170)),COUNTRY_INFO!E170),0)","v":0},{"$f":"IF(AND(COUNTRY_INFO!J170>1,COUNTRY_INFO!J170<4), IF(T170/COUNTRY_INFO!E170*100<>0, IF(T170/COUNTRY_INFO!E170*100>100,100,T170/COUNTRY_INFO!E170*100), \"-\"),0)","v":"-"},{"$f":"IF(AND(COUNTRY_INFO!J170>1,COUNTRY_INFO!J170<4),IF(COUNTRY_INFO!F170>MAX('MDA1'!K170,'MDA2'!K170,'T1'!M170,MAX(T3_R1!L170,T3_R2!L170)),MAX('MDA1'!K170,'MDA2'!K170,'T1'!M170,MAX(T3_R1!L170,T3_R2!L170)),COUNTRY_INFO!F170),0)","v":23300},{"$f":"IF(AND(COUNTRY_INFO!J170>1,COUNTRY_INFO!J170<4), IF(V170/COUNTRY_INFO!F170*100<>0, IF(V170/COUNTRY_INFO!F170*100>100,100,V170/COUNTRY_INFO!F170*100), \"-\"),0)","v":80.148601699287951},23300,{"$f":"IF(AND(COUNTRY_INFO!J170>1,COUNTRY_INFO!J170<4), IF(S170/P170*100<>0, IF(X170/P170*100>100,100,X170/P170*100), \"-\"),0)","v":47.438716507858949},{"$f":"COUNTRY_INFO!O170","v":35029.699999999997},null,null,{"$f":"MAX('T1'!L170,'T2'!J170)+MAX('T1'!M170,'T2'!K170)+MAX('T1'!N170,'T2'!L170)","v":23300},{"$f":"IF(COUNTRY_INFO!K170=1,IF(COUNTRY_INFO!F170*0.33>MAX('T1'!M170,'T2'!K170),MAX('T1'!M170,'T2'!K170),COUNTRY_INFO!F170*0.33),IF(COUNTRY_INFO!K170=2,IF(COUNTRY_INFO!F170*0.5>MAX('T1'!M170,'T2'!K170),MAX('T1'!M170,'T2'!K170),COUNTRY_INFO!F170*0.5),IF(COUNTRY_INFO!K170=3,IF(COUNTRY_INFO!F170>MAX('T1'!M170,'T2'!K170),MAX('T1'!M170,'T2'!K170),COUNTRY_INFO!F170),0)))","v":14535.5},{"$f":"IF(AND(COUNTRY_INFO!K170>0,COUNTRY_INFO!K170<4),IF(Z170>0,IF(COUNTRY_INFO!K170=1, AD170/(COUNTRY_INFO!F170*0.33)*100, IF(COUNTRY_INFO!K170=2, AD170/(COUNTRY_INFO!F170*0.5)*100, IF(COUNTRY_INFO!K170=3, AD170/COUNTRY_INFO!F170*100))),\"-\"),0)","v":100},{"$f":"IF(COUNTRY_INFO!K170=2,IF(COUNTRY_INFO!G170*0.2>MAX('T1'!N170,'T2'!L170),MAX('T1'!N170,'T2'!L170),COUNTRY_INFO!G170*0.2),IF(COUNTRY_INFO!K170=3,IF(COUNTRY_INFO!G170>MAX('T1'!N170,'T2'!L170),MAX('T1'!N170,'T2'!L170),COUNTRY_INFO!G170),0))","v":0},{"$f":"IF(AND(COUNTRY_INFO!K170>0,COUNTRY_INFO!K170<4),IF(Z170>0,IF(COUNTRY_INFO!K170=1, 0, IF(COUNTRY_INFO!K170=2, AF170/(COUNTRY_INFO!G170*0.2)*100, IF(COUNTRY_INFO!K170=3, AF170/COUNTRY_INFO!G170*100))),\"-\"),0)","v":0},14535.5,{"$f":"IF(AND(COUNTRY_INFO!K170>0,COUNTRY_INFO!K170<4), IF(AC170/Z170*100<>0, IF(AH170/Z170*100>100,100,AH170/Z170*100), \"-\"),0)","v":41.494788707867897},null,{"$f":"IF(AND(D170<>0, D170<>\"Unknown\",D170<>\"Stopped\",D170<>\"Not required\"),D170/COUNTRY_INFO!D170, 0)","v":0},{"$f":"IF(AND(J170<>0,J170<>\"Unknown\",J170<>\"Stopped\",J170<>\"Not required\"),J170/COUNTRY_INFO!D170, 0)","v":1},{"$f":"IF(AND(P170<>0,P170<>\"Unknown\",P170<>\"Not required\"),P170/(COUNTRY_INFO!E170+COUNTRY_INFO!F170), 0)","v":1},{"$f":"IF(AND(Z170<>0,Z170<>\"Unknown\",Z170<>\"Not required\"),IF(COUNTRY_INFO!K170=1,1,IF(COUNTRY_INFO!K170=2,0.5*COUNTRY_INFO!F170/(0.5*COUNTRY_INFO!F170+0.2*COUNTRY_INFO!G170),IF(COUNTRY_INFO!K170=3,COUNTRY_INFO!F170/(COUNTRY_INFO!F170+COUNTRY_INFO!G170)))),0)","v":0.41494788707867897},{"$f":"IF(AND(Z170<>0,Z170<>\"Unknown\",Z170<>\"Not required\"),IF(COUNTRY_INFO!K170=1,0,IF(COUNTRY_INFO!K170=2,0.2*COUNTRY_INFO!G170/(0.5*COUNTRY_INFO!F170+0.2*COUNTRY_INFO!G170),IF(COUNTRY_INFO!K170=3,COUNTRY_INFO!G170/(COUNTRY_INFO!F170+COUNTRY_INFO!G170)))),0)","v":0.58505211292132109},{"$f":"MAX(COUNTRY_INFO!D170*AK170*PROFILE!$G$7,COUNTRY_INFO!D170*AL170*PROFILE!$G$7)","v":0},{"$f":"MAX(COUNTRY_INFO!D170*AK170*PROFILE!$G$8,COUNTRY_INFO!D170*AL170*PROFILE!$G$8,COUNTRY_INFO!D170*AM170*PROFILE!$G$8)","v":16830.798850619285},{"$f":"MAX(COUNTRY_INFO!D170*AK170*PROFILE!$G$9,COUNTRY_INFO!D170*AL170*PROFILE!$G$9,COUNTRY_INFO!D170*AM170*PROFILE!$G$9,IF(AND(DISTRICT!Z170<>\"Unknown\",Z170<>\"Not required\"),COUNTRY_INFO!O170*DISTRICT!AN170,0))","v":33011.857636873014},{"$f":"MAX(COUNTRY_INFO!D170*AK170*PROFILE!$G$10,COUNTRY_INFO!D170*AL170*PROFILE!$G$10,IF(AND(DISTRICT!Z170<>\"Unknown\",Z170<>\"Not required\"),COUNTRY_INFO!O170*DISTRICT!AO170,0))","v":101744.34935899351},151587.00584648582,"Y",{"$f":"MAX('MDA2'!J170,'T1'!L170,'T2'!J170,T3_R1!K170,T3_R2!K170)","v":0},{"$f":"MAX('MDA1'!K170,'MDA2'!K170,'MDA3'!I170,'MDA3'!L170,'T1'!M170,'T2'!K170,T3_R1!L170,T3_R2!L170)","v":23669.674999999999},{"$f":"MAX('MDA1'!L170,'MDA2'!L170,'MDA3'!J170,'MDA3'!M170,'T1'!N170,'T2'!L170,T3_R1!M170,T3_R2!M170)","v":100255.325},123925,{"$f":"MAX('MDA2'!J170,T170)","v":0},{"$f":"MAX('MDA1'!K170,'MDA2'!K170,'MDA3'!I170,'MDA3'!L170,V170,AD170)","v":23669.674999999999},{"$f":"MAX('MDA1'!L170,'MDA2'!L170,'MDA3'!J170,'MDA3'!M170,AF170)","v":100255.325},123925,81.751730175012824]
[{"$f":"IF(COUNTRY_INFO!A171=0,\" \",COUNTRY_INFO!A171)","v":"Tanzania"},{"$f":"IF(COUNTRY_INFO!B171=0,\" \",COUNTRY_INFO!B171)","v":"Songwe"},{"$f":"IF(COUNTRY_INFO!C171=0,\" \",COUNTRY_INFO!C171)","v":"Mbozi District Council"},{"$f":"COUNTRY_INFO!L171","v":"Stopped"},null,null,{"$f":"MAX('MDA1'!M171,'MDA2'!M171)","v":0},{"$f":"IF(AND(COUNTRY_INFO!H171>0,COUNTRY_INFO!H171<4),IF(D171>MAX('MDA1'!M171,'MDA2'!M171),MAX('MDA1'!M171,'MDA2'!M171),D171),0)","v":0},{"$f":"IF(AND(COUNTRY_INFO!H171>0,COUNTRY_INFO!H171<4), IF(G171/D171*100<>0, IF(G171/D171*100>100,100,G171/D171*100), \"-\"),0)","v":0},{"$f":"COUNTRY_INFO!M171","v":0},null,null,{"$f":"MAX('MDA1'!M171,MAX('MDA3'!I171,'MDA3'!L171)+MAX('MDA3'!J171,'MDA3'!M171))","v":0},{"$f":"IF(AND(COUNTRY_INFO!I171>0,COUNTRY_INFO!I171<4),IF(J171>MAX('MDA1'!M171,MAX('MDA3'!I171,'MDA3'!L171)+MAX('MDA3'!J171,'MDA3'!M171)),MAX('MDA1'!M171,MAX('MDA3'!I171,'MDA3'!L171)+MAX('MDA3'!J171,'MDA3'!M171)),J171),0)","v":0},{"$f":"IF(AND(COUNTRY_INFO!I171>0,COUNTRY_INFO!I171<4), IF(M171/J171*100<>0, IF(M171/J171*100>100,100,M171/J171*100), \"-\"),0)","v":0},{"$f":"COUNTRY_INFO!N171","v":175614},null,null,{"$f":"SUM(MAX('MDA2'!J171, 'T1'!L171, MAX(T3_R1!K171, T3_R2!K171)), MAX('MDA1'!K171, 'MDA2'!K171, 'T1'!M171, MAX(T3_R1!L171, T3_R2!L171)), MAX('MDA1'!L171, 'MDA2'!L171, 'T1'!N171, MAX(T3_R1!M171, T3_R2!M171)))","v":104342},{"$f":"IF(AND(COUNTRY_INFO!J171>1,COUNTRY_INFO!J171<4),IF(COUNTRY_INFO!E171>MAX('MDA2'!J171,'T1'!L171,MAX(T3_R1!K171,T3_R2!K171)),MAX('MDA2'!J171,'T1'!L171,MAX(T3_R1!K171,T3_R2!K171)),COUNTRY_INFO!E171),0)","v":0},{"$f":"IF(AND(COUNTRY_INFO!J171>1,COUNTRY_INFO!J171<4), IF(T171/COUNTRY_INFO!E171*100<>0, IF(T171/COUNTRY_INFO!E171*100>100,100,T171/COUNTRY_INFO!E171*100), \"-\"),0)","v":"-"},{"$f":"IF(AND(COUNTRY_INFO!J171>1,COUNTRY_INFO!J171<4),IF(COUNTRY_INFO!F171>MAX('MDA1'!K171,'MDA2'!K171,'T1'!M171,MAX(T3_R1!L171,T3_R2!L171)),MAX('MDA1'!K171,'MDA2'!K171,'T1'!M171,MAX(T3_R1!L171,T3_R2!L171)),COUNTRY_INFO!F171),0)","v":104342},{"$f":"IF(AND(COUNTRY_INFO!J171>1,COUNTRY_INFO!J171<4), IF(V171/COUNTRY_INFO!F171*100<>0, IF(V171/COUNTRY_INFO!F171*100>100,100,V171/COUNTRY_INFO!F171*100), \"-\"),0)","v":96.562893314577622},104342,{"$f":"IF(AND(COUNTRY_INFO!J171>1,COUNTRY_INFO!J171<4), IF(S171/P171*100<>0, IF(X171/P171*100>100,100,X171/P171*100), \"-\"),0)","v":59.415536346760511},{"$f":"COUNTRY_INFO!O171","v":456148},null,null,{"$f":"MAX('T1'!L171,'T2'!J171)+MAX('T1'!M171,'T2'!K171)+MAX('T1'!N171,'T2'!L171)","v":104342},{"$f":"IF(COUNTRY_INFO!K171=1,IF(COUNTRY_INFO!F171*0.33>MAX('T1'!M171,'T2'!K171),MAX('T1'!M171,'T2'!K171),COUNTRY_INFO!F171*0.33),IF(COUNTRY_INFO!K171=2,IF(COUNTRY_INFO!F171*0.5>MAX('T1'!M171,'T2'!K171),MAX('T1'!M171,'T2'!K171),COUNTRY_INFO!F171*0.5),IF(COUNTRY_INFO!K171=3,IF(COUNTRY_INFO!F171>MAX('T1'!M171,'T2'!K171),MAX('T1'!M171,'T2'!K171),COUNTRY_INFO!F171),0)))","v":104342},{"$f":"IF(AND(COUNTRY_INFO!K171>0,COUNTRY_INFO!K171<4),IF(Z171>0,IF(COUNTRY_INFO!K171=1, AD171/(COUNTRY_INFO!F171*0.33)*100, IF(COUNTRY_INFO!K171=2, AD171/(COUNTRY_INFO!F171*0.5)*100, IF(COUNTRY_INFO!K171=3, AD171/COUNTRY_INFO!F171*100))),\"-\"),0)","v":96.562893314577622},{"$f":"IF(COUNTRY_INFO!K171=2,IF(COUNTRY_INFO!G171*0.2>MAX('T1'!N171,'T2'!L171),MAX('T1'!N171,'T2'!L171),COUNTRY_INFO!G171*0.2),IF(COUNTRY_INFO!K171=3,IF(COUNTRY_INFO!G171>MAX('T1'!N171,'T2'!L171),MAX('T1'!N171,'T2'!L171),COUNTRY_INFO!G171),0))","v":0},{"$f":"IF(AND(COUNTRY_INFO!K171>0,COUNTRY_INFO!K171<4),IF(Z171>0,IF(COUNTRY_INFO!K171=1, 0, IF(COUNTRY_INFO!K171=2, AF171/(COUNTRY_INFO!G171*0.2)*100, IF(COUNTRY_INFO!K171=3, AF171/COUNTRY_INFO!G171*100))),\"-\"),0)","v":0},104342,{"$f":"IF(AND(COUNTRY_INFO!K171>0,COUNTRY_INFO!K171<4), IF(AC171/Z171*100<>0, IF(AH171/Z171*100>100,100,AH171/Z171*100), \"-\"),0)","v":22.874593333742556},null,{"$f":"IF(AND(D171<>0, D171<>\"Unknown\",D171<>\"Stopped\",D171<>\"Not required\"),D171/COUNTRY_INFO!D171, 0)","v":0},{"$f":"IF(AND(J171<>0,J171<>\"Unknown\",J171<>\"Stopped\",J171<>\"Not required\"),J171/COUNTRY_INFO!D171, 0)","v":0},{"$f":"IF(AND(P171<>0,P171<>\"Unknown\",P171<>\"Not required\"),P171/(COUNTRY_INFO!E171+COUNTRY_INFO!F171), 0)","v":1},{"$f":"IF(AND(Z171<>0,Z171<>\"Unknown\",Z171<>\"Not required\"),IF(COUNTRY_INFO!K171=1,1,IF(COUNTRY_INFO!K171=2,0.5*COUNTRY_INFO!F171/(0.5*COUNTRY_INFO!F171+0.2*COUNTRY_INFO!G171),IF(COUNTRY_INFO!K171=3,COUNTRY_INFO!F171/(COUNTRY_INFO!F171+COUNTRY_INFO!G171)))),0)","v":0.23688802756999922},{"$f":"IF(AND(Z171<>0,Z171<>\"Unknown\",Z171<>\"Not required\"),IF(COUNTRY_INFO!K171=1,0,IF(COUNTRY_INFO!K171=2,0.2*COUNTRY_INFO!G171/(0.5*COUNTRY_INFO!F171+0.2*COUNTRY_INFO!G171),IF(COUNTRY_INFO!K171=3,COUNTRY_INFO!G171/(COUNTRY_INFO!F171+COUNTRY_INFO!G171)))),0)","v":0.76311197243000084},{"$f":"MAX(COUNTRY_INFO!D171*AK171*PROFILE!$G$7,COUNTRY_INFO!D171*AL171*PROFILE!$G$7)","v":0},{"$f":"MAX(COUNTRY_INFO!D171*AK171*PROFILE!$G$8,COUNTRY_INFO!D171*AL171*PROFILE!$G$8,COUNTRY_INFO!D171*AM171*PROFILE!$G$8)","v":58147.402764501072},{"$f":"MAX(COUNTRY_INFO!D171*AK171*PROFILE!$G$9,COUNTRY_INFO!D171*AL171*PROFILE!$G$9,COUNTRY_INFO!D171*AM171*PROFILE!$G$9,IF(AND(DISTRICT!Z171<>\"Unknown\",Z171<>\"Not required\"),COUNTRY_INFO!O171*DISTRICT!AN171,0))","v":114050.06969975142},{"$f":"MAX(COUNTRY_INFO!D171*AK171*PROFILE!$G$10,COUNTRY_INFO!D171*AL171*PROFILE!$G$10,IF(AND(DISTRICT!Z171<>\"Unknown\",Z171<>\"Not required\"),COUNTRY_INFO!O171*DISTRICT!AO171,0))","v":348092},520289.4724642525,"Y",{"$f":"MAX('MDA2'!J171,'T1'!L171,'T2'!J171,T3_R1!K171,T3_R2!K171)","v":0},{"$f":"MAX('MDA1'!K171,'MDA2'!K171,'MDA3'!I171,'MDA3'!L171,'T1'!M171,'T2'!K171,T3_R1!L171,T3_R2!L171)","v":104342},{"$f":"MAX('MDA1'!L171,'MDA2'!L171,'MDA3'!J171,'MDA3'!M171,'T1'!N171,'T2'!L171,T3_R1!M171,T3_R2!M171)","v":0},104342,{"$f":"MAX('MDA2'!J171,T171)","v":0},{"$f":"MAX('MDA1'!K171,'MDA2'!K171,'MDA3'!I171,'MDA3'!L171,V171,AD171)","v":104342},{"$f":"MAX('MDA1'!L171,'MDA2'!L171,'MDA3'!J171,'MDA3'!M171,AF171)","v":0},104342,20.054605276905544]
[{"$f":"IF(COUNTRY_INFO!A172=0,\" \",COUNTRY_INFO!A172)","v":"Tanzania"},{"$f":"IF(COUNTRY_INFO!B172=0,\" \",COUNTRY_INFO!B172)","v":"Songwe"},{"$f":"IF(COUNTRY_INFO!C172=0,\" \",COUNTRY_INFO!C172)","v":"Momba District Council"},{"$f":"COUNTRY_INFO!L172","v":"Stopped"},null,null,{"$f":"MAX('MDA1'!M172,'MDA2'!M172)","v":0},{"$f":"IF(AND(COUNTRY_INFO!H172>0,COUNTRY_INFO!H172<4),IF(D172>MAX('MDA1'!M172,'MDA2'!M172),MAX('MDA1'!M172,'MDA2'!M172),D172),0)","v":0},{"$f":"IF(AND(COUNTRY_INFO!H172>0,COUNTRY_INFO!H172<4), IF(G172/D172*100<>0, IF(G172/D172*100>100,100,G172/D172*100), \"-\"),0)","v":0},{"$f":"COUNTRY_INFO!M172","v":0},null,null,{"$f":"MAX('MDA1'!M172,MAX('MDA3'!I172,'MDA3'!L172)+MAX('MDA3'!J172,'MDA3'!M172))","v":0},{"$f":"IF(AND(COUNTRY_INFO!I172>0,COUNTRY_INFO!I172<4),IF(J172>MAX('MDA1'!M172,MAX('MDA3'!I172,'MDA3'!L172)+MAX('MDA3'!J172,'MDA3'!M172)),MAX('MDA1'!M172,MAX('MDA3'!I172,'MDA3'!L172)+MAX('MDA3'!J172,'MDA3'!M172)),J172),0)","v":0},{"$f":"IF(AND(COUNTRY_INFO!I172>0,COUNTRY_INFO!I172<4), IF(M172/J172*100<>0, IF(M172/J172*100>100,100,M172/J172*100), \"-\"),0)","v":0},{"$f":"COUNTRY_INFO!N172","v":76851},null,null,{"$f":"SUM(MAX('MDA2'!J172, 'T1'!L172, MAX(T3_R1!K172, T3_R2!K172)), MAX('MDA1'!K172, 'MDA2'!K172, 'T1'!M172, MAX(T3_R1!L172, T3_R2!L172)), MAX('MDA1'!L172, 'MDA2'!L172, 'T1'!N172, MAX(T3_R1!M172, T3_R2!M172)))","v":39448},{"$f":"IF(AND(COUNTRY_INFO!J172>1,COUNTRY_INFO!J172<4),IF(COUNTRY_INFO!E172>MAX('MDA2'!J172,'T1'!L172,MAX(T3_R1!K172,T3_R2!K172)),MAX('MDA2'!J172,'T1'!L172,MAX(T3_R1!K172,T3_R2!K172)),COUNTRY_INFO!E172),0)","v":0},{"$f":"IF(AND(COUNTRY_INFO!J172>1,COUNTRY_INFO!J172<4), IF(T172/COUNTRY_INFO!E172*100<>0, IF(T172/COUNTRY_INFO!E172*100>100,100,T172/COUNTRY_INFO!E172*100), \"-\"),0)","v":"-"},{"$f":"IF(AND(COUNTRY_INFO!J172>1,COUNTRY_INFO!J172<4),IF(COUNTRY_INFO!F172>MAX('MDA1'!K172,'MDA2'!K172,'T1'!M172,MAX(T3_R1!L172,T3_R2!L172)),MAX('MDA1'!K172,'MDA2'!K172,'T1'!M172,MAX(T3_R1!L172,T3_R2!L172)),COUNTRY_INFO!F172),0)","v":39448},{"$f":"IF(AND(COUNTRY_INFO!J172>1,COUNTRY_INFO!J172<4), IF(V172/COUNTRY_INFO!F172*100<>0, IF(V172/COUNTRY_INFO!F172*100>100,100,V172/COUNTRY_INFO!F172*100), \"-\"),0)","v":83.824904377390567},39448,{"$f":"IF(AND(COUNTRY_INFO!J172>1,COUNTRY_INFO!J172<4), IF(S172/P172*100<>0, IF(X172/P172*100>100,100,X172/P172*100), \"-\"),0)","v":51.330496675384843},{"$f":"COUNTRY_INFO!O172","v":201143},null,null,{"$f":"MAX('T1'!L172,'T2'!J172)+MAX('T1'!M172,'T2'!K172)+MAX('T1'!N172,'T2'!L172)","v":39448},{"$f":"IF(COUNTRY_INFO!K172=1,IF(COUNTRY_INFO!F172*0.33>MAX('T1'!M172,'T2'!K172),MAX('T1'!M172,'T2'!K172),COUNTRY_INFO!F172*0.33),IF(COUNTRY_INFO!K172=2,IF(COUNTRY_INFO!F172*0.5>MAX('T1'!M172,'T2'!K172),MAX('T1'!M172,'T2'!K172),COUNTRY_INFO!F172*0.5),IF(COUNTRY_INFO!K172=3,IF(COUNTRY_INFO!F172>MAX('T1'!M172,'T2'!K172),MAX('T1'!M172,'T2'!K172),COUNTRY_INFO!F172),0)))","v":39448},{"$f":"IF(AND(COUNTRY_INFO!K172>0,COUNTRY_INFO!K172<4),IF(Z172>0,IF(COUNTRY_INFO!K172=1, AD172/(COUNTRY_INFO!F172*0.33)*100, IF(COUNTRY_INFO!K172=2, AD172/(COUNTRY_INFO!F172*0.5)*100, IF(COUNTRY_INFO!K172=3, AD172/COUNTRY_INFO!F172*100))),\"-\"),0)","v":83.824904377390567},{"$f":"IF(COUNTRY_INFO!K172=2,IF(COUNTRY_INFO!G172*0.2>MAX('T1'!N172,'T2'!L172),MAX('T1'!N172,'T2'!L172),COUNTRY_INFO!G172*0.2),IF(COUNTRY_INFO!K172=3,IF(COUNTRY_INFO!G172>MAX('T1'!N172,'T2'!L172),MAX('T1'!N172,'T2'!L172),COUNTRY_INFO!G172),0))","v":0},{"$f":"IF(AND(COUNTRY_INFO!K172>0,COUNTRY_INFO!K172<4),IF(Z172>0,IF(COUNTRY_INFO!K172=1, 0, IF(COUNTRY_INFO!K172=2, AF172/(COUNTRY_INFO!G172*0.2)*100, IF(COUNTRY_INFO!K172=3, AF172/COUNTRY_INFO!G172*100))),\"-\"),0)","v":0},39448,{"$f":"IF(AND(COUNTRY_INFO!K172>0,COUNTRY_INFO!K172<4), IF(AC172/Z172*100<>0, IF(AH172/Z172*100>100,100,AH172/Z172*100), \"-\"),0)","v":19.611917889262863},null,{"$f":"IF(AND(D172<>0, D172<>\"Unknown\",D172<>\"Stopped\",D172<>\"Not required\"),D172/COUNTRY_INFO!D172, 0)","v":0},{"$f":"IF(AND(J172<>0,J172<>\"Unknown\",J172<>\"Stopped\",J172<>\"Not required\"),J172/COUNTRY_INFO!D172, 0)","v":0},{"$f":"IF(AND(P172<>0,P172<>\"Unknown\",P172<>\"Not required\"),P172/(COUNTRY_INFO!E172+COUNTRY_INFO!F172), 0)","v":1},{"$f":"IF(AND(Z172<>0,Z172<>\"Unknown\",Z172<>\"Not required\"),IF(COUNTRY_INFO!K172=1,1,IF(COUNTRY_INFO!K172=2,0.5*COUNTRY_INFO!F172/(0.5*COUNTRY_INFO!F172+0.2*COUNTRY_INFO!G172),IF(COUNTRY_INFO!K172=3,COUNTRY_INFO!F172/(COUNTRY_INFO!F172+COUNTRY_INFO!G172)))),0)","v":0.23396290201498438},{"$f":"IF(AND(Z172<>0,Z172<>\"Unknown\",Z172<>\"Not required\"),IF(COUNTRY_INFO!K172=1,0,IF(COUNTRY_INFO!K172=2,0.2*COUNTRY_INFO!G172/(0.5*COUNTRY_INFO!F172+0.2*COUNTRY_INFO!G172),IF(COUNTRY_INFO!K172=3,COUNTRY_INFO!G172/(COUNTRY_INFO!F172+COUNTRY_INFO!G172)))),0)","v":0.76603709798501562},{"$f":"MAX(COUNTRY_INFO!D172*AK172*PROFILE!$G$7,COUNTRY_INFO!D172*AL172*PROFILE!$G$7)","v":0},{"$f":"MAX(COUNTRY_INFO!D172*AK172*PROFILE!$G$8,COUNTRY_INFO!D172*AL172*PROFILE!$G$8,COUNTRY_INFO!D172*AM172*PROFILE!$G$8)","v":25640.745590115999},{"$f":"MAX(COUNTRY_INFO!D172*AK172*PROFILE!$G$9,COUNTRY_INFO!D172*AL172*PROFILE!$G$9,COUNTRY_INFO!D172*AM172*PROFILE!$G$9,IF(AND(DISTRICT!Z172<>\"Unknown\",Z172<>\"Not required\"),COUNTRY_INFO!O172*DISTRICT!AN172,0))","v":50291.649887613268},{"$f":"MAX(COUNTRY_INFO!D172*AK172*PROFILE!$G$10,COUNTRY_INFO!D172*AL172*PROFILE!$G$10,IF(AND(DISTRICT!Z172<>\"Unknown\",Z172<>\"Not required\"),COUNTRY_INFO!O172*DISTRICT!AO172,0))","v":154083},230015.39547772927,"Y",{"$f":"MAX('MDA2'!J172,'T1'!L172,'T2'!J172,T3_R1!K172,T3_R2!K172)","v":0},{"$f":"MAX('MDA1'!K172,'MDA2'!K172,'MDA3'!I172,'MDA3'!L172,'T1'!M172,'T2'!K172,T3_R1!L172,T3_R2!L172)","v":39448},{"$f":"MAX('MDA1'!L172,'MDA2'!L172,'MDA3'!J172,'MDA3'!M172,'T1'!N172,'T2'!L172,T3_R1!M172,T3_R2!M172)","v":0},39448,{"$f":"MAX('MDA2'!J172,T172)","v":0},{"$f":"MAX('MDA1'!K172,'MDA2'!K172,'MDA3'!I172,'MDA3'!L172,V172,AD172)","v":39448},{"$f":"MAX('MDA1'!L172,'MDA2'!L172,'MDA3'!J172,'MDA3'!M172,AF172)","v":0},39448,17.150156370215431]
[{"$f":"IF(COUNTRY_INFO!A173=0,\" \",COUNTRY_INFO!A173)","v":"Tanzania"},{"$f":"IF(COUNTRY_INFO!B173=0,\" \",COUNTRY_INFO!B173)","v":"Songwe"},{"$f":"IF(COUNTRY_INFO!C173=0,\" \",COUNTRY_INFO!C173)","v":"Songwe District Council"},{"$f":"COUNTRY_INFO!L173","v":"Stopped"},null,null,{"$f":"MAX('MDA1'!M173,'MDA2'!M173)","v":0},{"$f":"IF(AND(COUNTRY_INFO!H173>0,COUNTRY_INFO!H173<4),IF(D173>MAX('MDA1'!M173,'MDA2'!M173),MAX('MDA1'!M173,'MDA2'!M173),D173),0)","v":0},{"$f":"IF(AND(COUNTRY_INFO!H173>0,COUNTRY_INFO!H173<4), IF(G173/D173*100<>0, IF(G173/D173*100>100,100,G173/D173*100), \"-\"),0)","v":0},{"$f":"COUNTRY_INFO!M173","v":0},null,null,{"$f":"MAX('MDA1'!M173,MAX('MDA3'!I173,'MDA3'!L173)+MAX('MDA3'!J173,'MDA3'!M173))","v":0},{"$f":"IF(AND(COUNTRY_INFO!I173>0,COUNTRY_INFO!I173<4),IF(J173>MAX('MDA1'!M173,MAX('MDA3'!I173,'MDA3'!L173)+MAX('MDA3'!J173,'MDA3'!M173)),MAX('MDA1'!M173,MAX('MDA3'!I173,'MDA3'!L173)+MAX('MDA3'!J173,'MDA3'!M173)),J173),0)","v":0},{"$f":"IF(AND(COUNTRY_INFO!I173>0,COUNTRY_INFO!I173<4), IF(M173/J173*100<>0, IF(M173/J173*100>100,100,M173/J173*100), \"-\"),0)","v":0},{"$f":"COUNTRY_INFO!N173","v":49625},null,null,{"$f":"SUM(MAX('MDA2'!J173, 'T1'!L173, MAX(T3_R1!K173, T3_R2!K173)), MAX('MDA1'!K173, 'MDA2'!K173, 'T1'!M173, MAX(T3_R1!L173, T3_R2!L173)), MAX('MDA1'!L173, 'MDA2'!L173, 'T1'!N173, MAX(T3_R1!M173, T3_R2!M173)))","v":32349},{"$f":"IF(AND(COUNTRY_INFO!J173>1,COUNTRY_INFO!J173<4),IF(COUNTRY_INFO!E173>MAX('MDA2'!J173,'T1'!L173,MAX(T3_R1!K173,T3_R2!K173)),MAX('MDA2'!J173,'T1'!L173,MAX(T3_R1!K173,T3_R2!K173)),COUNTRY_INFO!E173),0)","v":0},{"$f":"IF(AND(COUNTRY_INFO!J173>1,COUNTRY_INFO!J173<4), IF(T173/COUNTRY_INFO!E173*100<>0, IF(T173/COUNTRY_INFO!E173*100>100,100,T173/COUNTRY_INFO!E173*100), \"-\"),0)","v":"-"},{"$f":"IF(AND(COUNTRY_INFO!J173>1,COUNTRY_INFO!J173<4),IF(COUNTRY_INFO!F173>MAX('MDA1'!K173,'MDA2'!K173,'T1'!M173,MAX(T3_R1!L173,T3_R2!L173)),MAX('MDA1'!K173,'MDA2'!K173,'T1'!M173,MAX(T3_R1!L173,T3_R2!L173)),COUNTRY_INFO!F173),0)","v":32349},{"$f":"IF(AND(COUNTRY_INFO!J173>1,COUNTRY_INFO!J173<4), IF(V173/COUNTRY_INFO!F173*100<>0, IF(V173/COUNTRY_INFO!F173*100>100,100,V173/COUNTRY_INFO!F173*100), \"-\"),0)","v":98.854052071873852},32349,{"$f":"IF(AND(COUNTRY_INFO!J173>1,COUNTRY_INFO!J173<4), IF(S173/P173*100<>0, IF(X173/P173*100>100,100,X173/P173*100), \"-\"),0)","v":65.186901763224185},{"$f":"COUNTRY_INFO!O173","v":37810.199999999997},null,null,{"$f":"MAX('T1'!L173,'T2'!J173)+MAX('T1'!M173,'T2'!K173)+MAX('T1'!N173,'T2'!L173)","v":32349},{"$f":"IF(COUNTRY_INFO!K173=1,IF(COUNTRY_INFO!F173*0.33>MAX('T1'!M173,'T2'!K173),MAX('T1'!M173,'T2'!K173),COUNTRY_INFO!F173*0.33),IF(COUNTRY_INFO!K173=2,IF(COUNTRY_INFO!F173*0.5>MAX('T1'!M173,'T2'!K173),MAX('T1'!M173,'T2'!K173),COUNTRY_INFO!F173*0.5),IF(COUNTRY_INFO!K173=3,IF(COUNTRY_INFO!F173>MAX('T1'!M173,'T2'!K173),MAX('T1'!M173,'T2'!K173),COUNTRY_INFO!F173),0)))","v":16362},{"$f":"IF(AND(COUNTRY_INFO!K173>0,COUNTRY_INFO!K173<4),IF(Z173>0,IF(COUNTRY_INFO!K173=1, AD173/(COUNTRY_INFO!F173*0.33)*100, IF(COUNTRY_INFO!K173=2, AD173/(COUNTRY_INFO!F173*0.5)*100, IF(COUNTRY_INFO!K173=3, AD173/COUNTRY_INFO!F173*100))),\"-\"),0)","v":100},{"$f":"IF(COUNTRY_INFO!K173=2,IF(COUNTRY_INFO!G173*0.2>MAX('T1'!N173,'T2'!L173),MAX('T1'!N173,'T2'!L173),COUNTRY_INFO!G173*0.2),IF(COUNTRY_INFO!K173=3,IF(COUNTRY_INFO!G173>MAX('T1'!N173,'T2'!L173),MAX('T1'!N173,'T2'!L173),COUNTRY_INFO!G173),0))","v":0},{"$f":"IF(AND(COUNTRY_INFO!K173>0,COUNTRY_INFO!K173<4),IF(Z173>0,IF(COUNTRY_INFO!K173=1, 0, IF(COUNTRY_INFO!K173=2, AF173/(COUNTRY_INFO!G173*0.2)*100, IF(COUNTRY_INFO!K173=3, AF173/COUNTRY_INFO!G173*100))),\"-\"),0)","v":0},16362,{"$f":"IF(AND(COUNTRY_INFO!K173>0,COUNTRY_INFO!K173<4), IF(AC173/Z173*100<>0, IF(AH173/Z173*100>100,100,AH173/Z173*100), \"-\"),0)","v":43.274037164574644},null,{"$f":"IF(AND(D173<>0, D173<>\"Unknown\",D173<>\"Stopped\",D173<>\"Not required\"),D173/COUNTRY_INFO!D173, 0)","v":0},{"$f":"IF(AND(J173<>0,J173<>\"Unknown\",J173<>\"Stopped\",J173<>\"Not required\"),J173/COUNTRY_INFO!D173, 0)","v":0},{"$f":"IF(AND(P173<>0,P173<>\"Unknown\",P173<>\"Not required\"),P173/(COUNTRY_INFO!E173+COUNTRY_INFO!F173), 0)","v":1},{"$f":"IF(AND(Z173<>0,Z173<>\"Unknown\",Z173<>\"Not required\"),IF(COUNTRY_INFO!K173=1,1,IF(COUNTRY_INFO!K173=2,0.5*COUNTRY_INFO!F173/(0.5*COUNTRY_INFO!F173+0.2*COUNTRY_INFO!G173),IF(COUNTRY_INFO!K173=3,COUNTRY_INFO!F173/(COUNTRY_INFO!F173+COUNTRY_INFO!G173)))),0)","v":0.43274037164574641},{"$f":"IF(AND(Z173<>0,Z173<>\"Unknown\",Z173<>\"Not required\"),IF(COUNTRY_INFO!K173=1,0,IF(COUNTRY_INFO!K173=2,0.2*COUNTRY_INFO!G173/(0.5*COUNTRY_INFO!F173+0.2*COUNTRY_INFO!G173),IF(COUNTRY_INFO!K173=3,COUNTRY_INFO!G173/(COUNTRY_INFO!F173+COUNTRY_INFO!G173)))),0)","v":0.5672596283542537},{"$f":"MAX(COUNTRY_INFO!D173*AK173*PROFILE!$G$7,COUNTRY_INFO!D173*AL173*PROFILE!$G$7)","v":0},{"$f":"MAX(COUNTRY_INFO!D173*AK173*PROFILE!$G$8,COUNTRY_INFO!D173*AL173*PROFILE!$G$8,COUNTRY_INFO!D173*AM173*PROFILE!$G$8)","v":17416.929502538114},{"$f":"MAX(COUNTRY_INFO!D173*AK173*PROFILE!$G$9,COUNTRY_INFO!D173*AL173*PROFILE!$G$9,COUNTRY_INFO!D173*AM173*PROFILE!$G$9,IF(AND(DISTRICT!Z173<>\"Unknown\",Z173<>\"Not required\"),COUNTRY_INFO!O173*DISTRICT!AN173,0))","v":34161.491817014139},{"$f":"MAX(COUNTRY_INFO!D173*AK173*PROFILE!$G$10,COUNTRY_INFO!D173*AL173*PROFILE!$G$10,IF(AND(DISTRICT!Z173<>\"Unknown\",Z173<>\"Not required\"),COUNTRY_INFO!O173*DISTRICT!AO173,0))","v":21448.2},73026.621319552258,"Y",{"$f":"MAX('MDA2'!J173,'T1'!L173,'T2'!J173,T3_R1!K173,T3_R2!K173)","v":0},{"$f":"MAX('MDA1'!K173,'MDA2'!K173,'MDA3'!I173,'MDA3'!L173,'T1'!M173,'T2'!K173,T3_R1!L173,T3_R2!L173)","v":32349},{"$f":"MAX('MDA1'!L173,'MDA2'!L173,'MDA3'!J173,'MDA3'!M173,'T1'!N173,'T2'!L173,T3_R1!M173,T3_R2!M173)","v":0},32349,{"$f":"MAX('MDA2'!J173,T173)","v":0},{"$f":"MAX('MDA1'!K173,'MDA2'!K173,'MDA3'!I173,'MDA3'!L173,V173,AD173)","v":32349},{"$f":"MAX('MDA1'!L173,'MDA2'!L173,'MDA3'!J173,'MDA3'!M173,AF173)","v":0},32349,44.297544396099333]
[{"$f":"IF(COUNTRY_INFO!A174=0,\" \",COUNTRY_INFO!A174)","v":"Tanzania"},{"$f":"IF(COUNTRY_INFO!B174=0,\" \",COUNTRY_INFO!B174)","v":"Songwe"},{"$f":"IF(COUNTRY_INFO!C174=0,\" \",COUNTRY_INFO!C174)","v":"Tunduma Town Council"},{"$f":"COUNTRY_INFO!L174","v":"Stopped"},null,null,{"$f":"MAX('MDA1'!M174,'MDA2'!M174)","v":0},{"$f":"IF(AND(COUNTRY_INFO!H174>0,COUNTRY_INFO!H174<4),IF(D174>MAX('MDA1'!M174,'MDA2'!M174),MAX('MDA1'!M174,'MDA2'!M174),D174),0)","v":0},{"$f":"IF(AND(COUNTRY_INFO!H174>0,COUNTRY_INFO!H174<4), IF(G174/D174*100<>0, IF(G174/D174*100>100,100,G174/D174*100), \"-\"),0)","v":0},{"$f":"COUNTRY_INFO!M174","v":0},null,null,{"$f":"MAX('MDA1'!M174,MAX('MDA3'!I174,'MDA3'!L174)+MAX('MDA3'!J174,'MDA3'!M174))","v":0},{"$f":"IF(AND(COUNTRY_INFO!I174>0,COUNTRY_INFO!I174<4),IF(J174>MAX('MDA1'!M174,MAX('MDA3'!I174,'MDA3'!L174)+MAX('MDA3'!J174,'MDA3'!M174)),MAX('MDA1'!M174,MAX('MDA3'!I174,'MDA3'!L174)+MAX('MDA3'!J174,'MDA3'!M174)),J174),0)","v":0},{"$f":"IF(AND(COUNTRY_INFO!I174>0,COUNTRY_INFO!I174<4), IF(M174/J174*100<>0, IF(M174/J174*100>100,100,M174/J174*100), \"-\"),0)","v":0},{"$f":"COUNTRY_INFO!N174","v":50524.026918922042},null,null,{"$f":"SUM(MAX('MDA2'!J174, 'T1'!L174, MAX(T3_R1!K174, T3_R2!K174)), MAX('MDA1'!K174, 'MDA2'!K174, 'T1'!M174, MAX(T3_R1!L174, T3_R2!L174)), MAX('MDA1'!L174, 'MDA2'!L174, 'T1'!N174, MAX(T3_R1!M174, T3_R2!M174)))","v":32524},{"$f":"IF(AND(COUNTRY_INFO!J174>1,COUNTRY_INFO!J174<4),IF(COUNTRY_INFO!E174>MAX('MDA2'!J174,'T1'!L174,MAX(T3_R1!K174,T3_R2!K174)),MAX('MDA2'!J174,'T1'!L174,MAX(T3_R1!K174,T3_R2!K174)),COUNTRY_INFO!E174),0)","v":0},{"$f":"IF(AND(COUNTRY_INFO!J174>1,COUNTRY_INFO!J174<4), IF(T174/COUNTRY_INFO!E174*100<>0, IF(T174/COUNTRY_INFO!E174*100>100,100,T174/COUNTRY_INFO!E174*100), \"-\"),0)","v":"-"},{"$f":"IF(AND(COUNTRY_INFO!J174>1,COUNTRY_INFO!J174<4),IF(COUNTRY_INFO!F174>MAX('MDA1'!K174,'MDA2'!K174,'T1'!M174,MAX(T3_R1!L174,T3_R2!L174)),MAX('MDA1'!K174,'MDA2'!K174,'T1'!M174,MAX(T3_R1!L174,T3_R2!L174)),COUNTRY_INFO!F174),0)","v":32524},{"$f":"IF(AND(COUNTRY_INFO!J174>1,COUNTRY_INFO!J174<4), IF(V174/COUNTRY_INFO!F174*100<>0, IF(V174/COUNTRY_INFO!F174*100>100,100,V174/COUNTRY_INFO!F174*100), \"-\"),0)","v":90.958413737170346},32524,{"$f":"IF(AND(COUNTRY_INFO!J174>1,COUNTRY_INFO!J174<4), IF(S174/P174*100<>0, IF(X174/P174*100>100,100,X174/P174*100), \"-\"),0)","v":64.373332814885458},{"$f":"COUNTRY_INFO!O174","v":99705.973081077958},null,null,{"$f":"MAX('T1'!L174,'T2'!J174)+MAX('T1'!M174,'T2'!K174)+MAX('T1'!N174,'T2'!L174)","v":32524},{"$f":"IF(COUNTRY_INFO!K174=1,IF(COUNTRY_INFO!F174*0.33>MAX('T1'!M174,'T2'!K174),MAX('T1'!M174,'T2'!K174),COUNTRY_INFO!F174*0.33),IF(COUNTRY_INFO!K174=2,IF(COUNTRY_INFO!F174*0.5>MAX('T1'!M174,'T2'!K174),MAX('T1'!M174,'T2'!K174),COUNTRY_INFO!F174*0.5),IF(COUNTRY_INFO!K174=3,IF(COUNTRY_INFO!F174>MAX('T1'!M174,'T2'!K174),MAX('T1'!M174,'T2'!K174),COUNTRY_INFO!F174),0)))","v":32524},{"$f":"IF(AND(COUNTRY_INFO!K174>0,COUNTRY_INFO!K174<4),IF(Z174>0,IF(COUNTRY_INFO!K174=1, AD174/(COUNTRY_INFO!F174*0.33)*100, IF(COUNTRY_INFO!K174=2, AD174/(COUNTRY_INFO!F174*0.5)*100, IF(COUNTRY_INFO!K174=3, AD174/COUNTRY_INFO!F174*100))),\"-\"),0)","v":90.958413737170346},{"$f":"IF(COUNTRY_INFO!K174=2,IF(COUNTRY_INFO!G174*0.2>MAX('T1'!N174,'T2'!L174),MAX('T1'!N174,'T2'!L174),COUNTRY_INFO!G174*0.2),IF(COUNTRY_INFO!K174=3,IF(COUNTRY_INFO!G174>MAX('T1'!N174,'T2'!L174),MAX('T1'!N174,'T2'!L174),COUNTRY_INFO!G174),0))","v":0},{"$f":"IF(AND(COUNTRY_INFO!K174>0,COUNTRY_INFO!K174<4),IF(Z174>0,IF(COUNTRY_INFO!K174=1, 0, IF(COUNTRY_INFO!K174=2, AF174/(COUNTRY_INFO!G174*0.2)*100, IF(COUNTRY_INFO!K174=3, AF174/COUNTRY_INFO!G174*100))),\"-\"),0)","v":0},32524,{"$f":"IF(AND(COUNTRY_INFO!K174>0,COUNTRY_INFO!K174<4), IF(AC174/Z174*100<>0, IF(AH174/Z174*100>100,100,AH174/Z174*100), \"-\"),0)","v":32.619911320209916},null,{"$f":"IF(AND(D174<>0, D174<>\"Unknown\",D174<>\"Stopped\",D174<>\"Not required\"),D174/COUNTRY_INFO!D174, 0)","v":0},{"$f":"IF(AND(J174<>0,J174<>\"Unknown\",J174<>\"Stopped\",J174<>\"Not required\"),J174/COUNTRY_INFO!D174, 0)","v":0},{"$f":"IF(AND(P174<>0,P174<>\"Unknown\",P174<>\"Not required\"),P174/(COUNTRY_INFO!E174+COUNTRY_INFO!F174), 0)","v":1},{"$f":"IF(AND(Z174<>0,Z174<>\"Unknown\",Z174<>\"Not required\"),IF(COUNTRY_INFO!K174=1,1,IF(COUNTRY_INFO!K174=2,0.5*COUNTRY_INFO!F174/(0.5*COUNTRY_INFO!F174+0.2*COUNTRY_INFO!G174),IF(COUNTRY_INFO!K174=3,COUNTRY_INFO!F174/(COUNTRY_INFO!F174+COUNTRY_INFO!G174)))),0)","v":0.35862445242797503},{"$f":"IF(AND(Z174<>0,Z174<>\"Unknown\",Z174<>\"Not required\"),IF(COUNTRY_INFO!K174=1,0,IF(COUNTRY_INFO!K174=2,0.2*COUNTRY_INFO!G174/(0.5*COUNTRY_INFO!F174+0.2*COUNTRY_INFO!G174),IF(COUNTRY_INFO!K174=3,COUNTRY_INFO!G174/(COUNTRY_INFO!F174+COUNTRY_INFO!G174)))),0)","v":0.64137554757202497},{"$f":"MAX(COUNTRY_INFO!D174*AK174*PROFILE!$G$7,COUNTRY_INFO!D174*AL174*PROFILE!$G$7)","v":0},{"$f":"MAX(COUNTRY_INFO!D174*AK174*PROFILE!$G$8,COUNTRY_INFO!D174*AL174*PROFILE!$G$8,COUNTRY_INFO!D174*AM174*PROFILE!$G$8)","v":12710.008357094879},{"$f":"MAX(COUNTRY_INFO!D174*AK174*PROFILE!$G$9,COUNTRY_INFO!D174*AL174*PROFILE!$G$9,COUNTRY_INFO!D174*AM174*PROFILE!$G$9,IF(AND(DISTRICT!Z174<>\"Unknown\",Z174<>\"Not required\"),COUNTRY_INFO!O174*DISTRICT!AN174,0))","v":35757},{"$f":"MAX(COUNTRY_INFO!D174*AK174*PROFILE!$G$10,COUNTRY_INFO!D174*AL174*PROFILE!$G$10,IF(AND(DISTRICT!Z174<>\"Unknown\",Z174<>\"Not required\"),COUNTRY_INFO!O174*DISTRICT!AO174,0))","v":63948.973081077958},112415.98143817284,"Y",{"$f":"MAX('MDA2'!J174,'T1'!L174,'T2'!J174,T3_R1!K174,T3_R2!K174)","v":0},{"$f":"MAX('MDA1'!K174,'MDA2'!K174,'MDA3'!I174,'MDA3'!L174,'T1'!M174,'T2'!K174,T3_R1!L174,T3_R2!L174)","v":32524},{"$f":"MAX('MDA1'!L174,'MDA2'!L174,'MDA3'!J174,'MDA3'!M174,'T1'!N174,'T2'!L174,T3_R1!M174,T3_R2!M174)","v":0},32524,{"$f":"MAX('MDA2'!J174,T174)","v":0},{"$f":"MAX('MDA1'!K174,'MDA2'!K174,'MDA3'!I174,'MDA3'!L174,V174,AD174)","v":32524},{"$f":"MAX('MDA1'!L174,'MDA2'!L174,'MDA3'!J174,'MDA3'!M174,AF174)","v":0},32524,28.931829428440949]
[{"$f":"IF(COUNTRY_INFO!A175=0,\" \",COUNTRY_INFO!A175)","v":"Tanzania"},{"$f":"IF(COUNTRY_INFO!B175=0,\" \",COUNTRY_INFO!B175)","v":"Tabora"},{"$f":"IF(COUNTRY_INFO!C175=0,\" \",COUNTRY_INFO!C175)","v":"Igunga District Council"},{"$f":"COUNTRY_INFO!L175","v":"Stopped"},null,null,{"$f":"MAX('MDA1'!M175,'MDA2'!M175)","v":0},{"$f":"IF(AND(COUNTRY_INFO!H175>0,COUNTRY_INFO!H175<4),IF(D175>MAX('MDA1'!M175,'MDA2'!M175),MAX('MDA1'!M175,'MDA2'!M175),D175),0)","v":0},{"$f":"IF(AND(COUNTRY_INFO!H175>0,COUNTRY_INFO!H175<4), IF(G175/D175*100<>0, IF(G175/D175*100>100,100,G175/D175*100), \"-\"),0)","v":0},{"$f":"COUNTRY_INFO!M175","v":0},null,null,{"$f":"MAX('MDA1'!M175,MAX('MDA3'!I175,'MDA3'!L175)+MAX('MDA3'!J175,'MDA3'!M175))","v":0},{"$f":"IF(AND(COUNTRY_INFO!I175>0,COUNTRY_INFO!I175<4),IF(J175>MAX('MDA1'!M175,MAX('MDA3'!I175,'MDA3'!L175)+MAX('MDA3'!J175,'MDA3'!M175)),MAX('MDA1'!M175,MAX('MDA3'!I175,'MDA3'!L175)+MAX('MDA3'!J175,'MDA3'!M175)),J175),0)","v":0},{"$f":"IF(AND(COUNTRY_INFO!I175>0,COUNTRY_INFO!I175<4), IF(M175/J175*100<>0, IF(M175/J175*100>100,100,M175/J175*100), \"-\"),0)","v":0},{"$f":"COUNTRY_INFO!N175","v":155175},null,null,{"$f":"SUM(MAX('MDA2'!J175, 'T1'!L175, MAX(T3_R1!K175, T3_R2!K175)), MAX('MDA1'!K175, 'MDA2'!K175, 'T1'!M175, MAX(T3_R1!L175, T3_R2!L175)), MAX('MDA1'!L175, 'MDA2'!L175, 'T1'!N175, MAX(T3_R1!M175, T3_R2!M175)))","v":86901},{"$f":"IF(AND(COUNTRY_INFO!J175>1,COUNTRY_INFO!J175<4),IF(COUNTRY_INFO!E175>MAX('MDA2'!J175,'T1'!L175,MAX(T3_R1!K175,T3_R2!K175)),MAX('MDA2'!J175,'T1'!L175,MAX(T3_R1!K175,T3_R2!K175)),COUNTRY_INFO!E175),0)","v":0},{"$f":"IF(AND(COUNTRY_INFO!J175>1,COUNTRY_INFO!J175<4), IF(T175/COUNTRY_INFO!E175*100<>0, IF(T175/COUNTRY_INFO!E175*100>100,100,T175/COUNTRY_INFO!E175*100), \"-\"),0)","v":"-"},{"$f":"IF(AND(COUNTRY_INFO!J175>1,COUNTRY_INFO!J175<4),IF(COUNTRY_INFO!F175>MAX('MDA1'!K175,'MDA2'!K175,'T1'!M175,MAX(T3_R1!L175,T3_R2!L175)),MAX('MDA1'!K175,'MDA2'!K175,'T1'!M175,MAX(T3_R1!L175,T3_R2!L175)),COUNTRY_INFO!F175),0)","v":86901},{"$f":"IF(AND(COUNTRY_INFO!J175>1,COUNTRY_INFO!J175<4), IF(V175/COUNTRY_INFO!F175*100<>0, IF(V175/COUNTRY_INFO!F175*100>100,100,V175/COUNTRY_INFO!F175*100), \"-\"),0)","v":92.485259998722896},86901,{"$f":"IF(AND(COUNTRY_INFO!J175>1,COUNTRY_INFO!J175<4), IF(S175/P175*100<>0, IF(X175/P175*100>100,100,X175/P175*100), \"-\"),0)","v":56.001933301111649},{"$f":"COUNTRY_INFO!O175","v":110850.20000000001},null,null,{"$f":"MAX('T1'!L175,'T2'!J175)+MAX('T1'!M175,'T2'!K175)+MAX('T1'!N175,'T2'!L175)","v":0},{"$f":"IF(COUNTRY_INFO!K175=1,IF(COUNTRY_INFO!F175*0.33>MAX('T1'!M175,'T2'!K175),MAX('T1'!M175,'T2'!K175),COUNTRY_INFO!F175*0.33),IF(COUNTRY_INFO!K175=2,IF(COUNTRY_INFO!F175*0.5>MAX('T1'!M175,'T2'!K175),MAX('T1'!M175,'T2'!K175),COUNTRY_INFO!F175*0.5),IF(COUNTRY_INFO!K175=3,IF(COUNTRY_INFO!F175>MAX('T1'!M175,'T2'!K175),MAX('T1'!M175,'T2'!K175),COUNTRY_INFO!F175),0)))","v":0},{"$f":"IF(AND(COUNTRY_INFO!K175>0,COUNTRY_INFO!K175<4),IF(Z175>0,IF(COUNTRY_INFO!K175=1, AD175/(COUNTRY_INFO!F175*0.33)*100, IF(COUNTRY_INFO!K175=2, AD175/(COUNTRY_INFO!F175*0.5)*100, IF(COUNTRY_INFO!K175=3, AD175/COUNTRY_INFO!F175*100))),\"-\"),0)","v":0},{"$f":"IF(COUNTRY_INFO!K175=2,IF(COUNTRY_INFO!G175*0.2>MAX('T1'!N175,'T2'!L175),MAX('T1'!N175,'T2'!L175),COUNTRY_INFO!G175*0.2),IF(COUNTRY_INFO!K175=3,IF(COUNTRY_INFO!G175>MAX('T1'!N175,'T2'!L175),MAX('T1'!N175,'T2'!L175),COUNTRY_INFO!G175),0))","v":0},{"$f":"IF(AND(COUNTRY_INFO!K175>0,COUNTRY_INFO!K175<4),IF(Z175>0,IF(COUNTRY_INFO!K175=1, 0, IF(COUNTRY_INFO!K175=2, AF175/(COUNTRY_INFO!G175*0.2)*100, IF(COUNTRY_INFO!K175=3, AF175/COUNTRY_INFO!G175*100))),\"-\"),0)","v":0},0,{"$f":"IF(AND(COUNTRY_INFO!K175>0,COUNTRY_INFO!K175<4), IF(AC175/Z175*100<>0, IF(AH175/Z175*100>100,100,AH175/Z175*100), \"-\"),0)","v":"-"},null,{"$f":"IF(AND(D175<>0, D175<>\"Unknown\",D175<>\"Stopped\",D175<>\"Not required\"),D175/COUNTRY_INFO!D175, 0)","v":0},{"$f":"IF(AND(J175<>0,J175<>\"Unknown\",J175<>\"Stopped\",J175<>\"Not required\"),J175/COUNTRY_INFO!D175, 0)","v":0},{"$f":"IF(AND(P175<>0,P175<>\"Unknown\",P175<>\"Not required\"),P175/(COUNTRY_INFO!E175+COUNTRY_INFO!F175), 0)","v":1},{"$f":"IF(AND(Z175<>0,Z175<>\"Unknown\",Z175<>\"Not required\"),IF(COUNTRY_INFO!K175=1,1,IF(COUNTRY_INFO!K175=2,0.5*COUNTRY_INFO!F175/(0.5*COUNTRY_INFO!F175+0.2*COUNTRY_INFO!G175),IF(COUNTRY_INFO!K175=3,COUNTRY_INFO!F175/(COUNTRY_INFO!F175+COUNTRY_INFO!G175)))),0)","v":0.42382422404289749},{"$f":"IF(AND(Z175<>0,Z175<>\"Unknown\",Z175<>\"Not required\"),IF(COUNTRY_INFO!K175=1,0,IF(COUNTRY_INFO!K175=2,0.2*COUNTRY_INFO!G175/(0.5*COUNTRY_INFO!F175+0.2*COUNTRY_INFO!G175),IF(COUNTRY_INFO!K175=3,COUNTRY_INFO!G175/(COUNTRY_INFO!F175+COUNTRY_INFO!G175)))),0)","v":0.57617577595710245},{"$f":"MAX(COUNTRY_INFO!D175*AK175*PROFILE!$G$7,COUNTRY_INFO!D175*AL175*PROFILE!$G$7)","v":0},{"$f":"MAX(COUNTRY_INFO!D175*AK175*PROFILE!$G$8,COUNTRY_INFO!D175*AL175*PROFILE!$G$8,COUNTRY_INFO!D175*AM175*PROFILE!$G$8)","v":52686.361636517075},{"$f":"MAX(COUNTRY_INFO!D175*AK175*PROFILE!$G$9,COUNTRY_INFO!D175*AL175*PROFILE!$G$9,COUNTRY_INFO!D175*AM175*PROFILE!$G$9,IF(AND(DISTRICT!Z175<>\"Unknown\",Z175<>\"Not required\"),COUNTRY_INFO!O175*DISTRICT!AN175,0))","v":103338.80674270629},{"$f":"MAX(COUNTRY_INFO!D175*AK175*PROFILE!$G$10,COUNTRY_INFO!D175*AL175*PROFILE!$G$10,IF(AND(DISTRICT!Z175<>\"Unknown\",Z175<>\"Not required\"),COUNTRY_INFO!O175*DISTRICT!AO175,0))","v":63869.200000000004},219894.36837922339,0,{"$f":"MAX('MDA2'!J175,'T1'!L175,'T2'!J175,T3_R1!K175,T3_R2!K175)","v":0},{"$f":"MAX('MDA1'!K175,'MDA2'!K175,'MDA3'!I175,'MDA3'!L175,'T1'!M175,'T2'!K175,T3_R1!L175,T3_R2!L175)","v":86901},{"$f":"MAX('MDA1'!L175,'MDA2'!L175,'MDA3'!J175,'MDA3'!M175,'T1'!N175,'T2'!L175,T3_R1!M175,T3_R2!M175)","v":0},86901,{"$f":"MAX('MDA2'!J175,T175)","v":0},{"$f":"MAX('MDA1'!K175,'MDA2'!K175,'MDA3'!I175,'MDA3'!L175,V175,AD175)","v":86901},{"$f":"MAX('MDA1'!L175,'MDA2'!L175,'MDA3'!J175,'MDA3'!M175,AF175)","v":0},86901,39.519429551798737]
[{"$f":"IF(COUNTRY_INFO!A176=0,\" \",COUNTRY_INFO!A176)","v":"Tanzania"},{"$f":"IF(COUNTRY_INFO!B176=0,\" \",COUNTRY_INFO!B176)","v":"Tabora"},{"$f":"IF(COUNTRY_INFO!C176=0,\" \",COUNTRY_INFO!C176)","v":"Kaliua District Council"},{"$f":"COUNTRY_INFO!L176","v":"Stopped"},null,null,{"$f":"MAX('MDA1'!M176,'MDA2'!M176)","v":0},{"$f":"IF(AND(COUNTRY_INFO!H176>0,COUNTRY_INFO!H176<4),IF(D176>MAX('MDA1'!M176,'MDA2'!M176),MAX('MDA1'!M176,'MDA2'!M176),D176),0)","v":0},{"$f":"IF(AND(COUNTRY_INFO!H176>0,COUNTRY_INFO!H176<4), IF(G176/D176*100<>0, IF(G176/D176*100>100,100,G176/D176*100), \"-\"),0)","v":0},{"$f":"COUNTRY_INFO!M176","v":0},null,null,{"$f":"MAX('MDA1'!M176,MAX('MDA3'!I176,'MDA3'!L176)+MAX('MDA3'!J176,'MDA3'!M176))","v":0},{"$f":"IF(AND(COUNTRY_INFO!I176>0,COUNTRY_INFO!I176<4),IF(J176>MAX('MDA1'!M176,MAX('MDA3'!I176,'MDA3'!L176)+MAX('MDA3'!J176,'MDA3'!M176)),MAX('MDA1'!M176,MAX('MDA3'!I176,'MDA3'!L176)+MAX('MDA3'!J176,'MDA3'!M176)),J176),0)","v":0},{"$f":"IF(AND(COUNTRY_INFO!I176>0,COUNTRY_INFO!I176<4), IF(M176/J176*100<>0, IF(M176/J176*100>100,100,M176/J176*100), \"-\"),0)","v":0},{"$f":"COUNTRY_INFO!N176","v":157341},null,null,{"$f":"SUM(MAX('MDA2'!J176, 'T1'!L176, MAX(T3_R1!K176, T3_R2!K176)), MAX('MDA1'!K176, 'MDA2'!K176, 'T1'!M176, MAX(T3_R1!L176, T3_R2!L176)), MAX('MDA1'!L176, 'MDA2'!L176, 'T1'!N176, MAX(T3_R1!M176, T3_R2!M176)))","v":99403},{"$f":"IF(AND(COUNTRY_INFO!J176>1,COUNTRY_INFO!J176<4),IF(COUNTRY_INFO!E176>MAX('MDA2'!J176,'T1'!L176,MAX(T3_R1!K176,T3_R2!K176)),MAX('MDA2'!J176,'T1'!L176,MAX(T3_R1!K176,T3_R2!K176)),COUNTRY_INFO!E176),0)","v":0},{"$f":"IF(AND(COUNTRY_INFO!J176>1,COUNTRY_INFO!J176<4), IF(T176/COUNTRY_INFO!E176*100<>0, IF(T176/COUNTRY_INFO!E176*100>100,100,T176/COUNTRY_INFO!E176*100), \"-\"),0)","v":"-"},{"$f":"IF(AND(COUNTRY_INFO!J176>1,COUNTRY_INFO!J176<4),IF(COUNTRY_INFO!F176>MAX('MDA1'!K176,'MDA2'!K176,'T1'!M176,MAX(T3_R1!L176,T3_R2!L176)),MAX('MDA1'!K176,'MDA2'!K176,'T1'!M176,MAX(T3_R1!L176,T3_R2!L176)),COUNTRY_INFO!F176),0)","v":99403},{"$f":"IF(AND(COUNTRY_INFO!J176>1,COUNTRY_INFO!J176<4), IF(V176/COUNTRY_INFO!F176*100<>0, IF(V176/COUNTRY_INFO!F176*100>100,100,V176/COUNTRY_INFO!F176*100), \"-\"),0)","v":96.076820475150299},99403,{"$f":"IF(AND(COUNTRY_INFO!J176>1,COUNTRY_INFO!J176<4), IF(S176/P176*100<>0, IF(X176/P176*100>100,100,X176/P176*100), \"-\"),0)","v":63.176794351122723},{"$f":"COUNTRY_INFO!O176","v":113655},null,null,{"$f":"MAX('T1'!L176,'T2'!J176)+MAX('T1'!M176,'T2'!K176)+MAX('T1'!N176,'T2'!L176)","v":99403},{"$f":"IF(COUNTRY_INFO!K176=1,IF(COUNTRY_INFO!F176*0.33>MAX('T1'!M176,'T2'!K176),MAX('T1'!M176,'T2'!K176),COUNTRY_INFO!F176*0.33),IF(COUNTRY_INFO!K176=2,IF(COUNTRY_INFO!F176*0.5>MAX('T1'!M176,'T2'!K176),MAX('T1'!M176,'T2'!K176),COUNTRY_INFO!F176*0.5),IF(COUNTRY_INFO!K176=3,IF(COUNTRY_INFO!F176>MAX('T1'!M176,'T2'!K176),MAX('T1'!M176,'T2'!K176),COUNTRY_INFO!F176),0)))","v":51731},{"$f":"IF(AND(COUNTRY_INFO!K176>0,COUNTRY_INFO!K176<4),IF(Z176>0,IF(COUNTRY_INFO!K176=1, AD176/(COUNTRY_INFO!F176*0.33)*100, IF(COUNTRY_INFO!K176=2, AD176/(COUNTRY_INFO!F176*0.5)*100, IF(COUNTRY_INFO!K176=3, AD176/COUNTRY_INFO!F176*100))),\"-\"),0)","v":100},{"$f":"IF(COUNTRY_INFO!K176=2,IF(COUNTRY_INFO!G176*0.2>MAX('T1'!N176,'T2'!L176),MAX('T1'!N176,'T2'!L176),COUNTRY_INFO!G176*0.2),IF(COUNTRY_INFO!K176=3,IF(COUNTRY_INFO!G176>MAX('T1'!N176,'T2'!L176),MAX('T1'!N176,'T2'!L176),COUNTRY_INFO!G176),0))","v":0},{"$f":"IF(AND(COUNTRY_INFO!K176>0,COUNTRY_INFO!K176<4),IF(Z176>0,IF(COUNTRY_INFO!K176=1, 0, IF(COUNTRY_INFO!K176=2, AF176/(COUNTRY_INFO!G176*0.2)*100, IF(COUNTRY_INFO!K176=3, AF176/COUNTRY_INFO!G176*100))),\"-\"),0)","v":0},51731,{"$f":"IF(AND(COUNTRY_INFO!K176>0,COUNTRY_INFO!K176<4), IF(AC176/Z176*100<>0, IF(AH176/Z176*100>100,100,AH176/Z176*100), \"-\"),0)","v":45.515815406273369},null,{"$f":"IF(AND(D176<>0, D176<>\"Unknown\",D176<>\"Stopped\",D176<>\"Not required\"),D176/COUNTRY_INFO!D176, 0)","v":0},{"$f":"IF(AND(J176<>0,J176<>\"Unknown\",J176<>\"Stopped\",J176<>\"Not required\"),J176/COUNTRY_INFO!D176, 0)","v":0},{"$f":"IF(AND(P176<>0,P176<>\"Unknown\",P176<>\"Not required\"),P176/(COUNTRY_INFO!E176+COUNTRY_INFO!F176), 0)","v":1},{"$f":"IF(AND(Z176<>0,Z176<>\"Unknown\",Z176<>\"Not required\"),IF(COUNTRY_INFO!K176=1,1,IF(COUNTRY_INFO!K176=2,0.5*COUNTRY_INFO!F176/(0.5*COUNTRY_INFO!F176+0.2*COUNTRY_INFO!G176),IF(COUNTRY_INFO!K176=3,COUNTRY_INFO!F176/(COUNTRY_INFO!F176+COUNTRY_INFO!G176)))),0)","v":0.45515815406273369},{"$f":"IF(AND(Z176<>0,Z176<>\"Unknown\",Z176<>\"Not required\"),IF(COUNTRY_INFO!K176=1,0,IF(COUNTRY_INFO!K176=2,0.2*COUNTRY_INFO!G176/(0.5*COUNTRY_INFO!F176+0.2*COUNTRY_INFO!G176),IF(COUNTRY_INFO!K176=3,COUNTRY_INFO!G176/(COUNTRY_INFO!F176+COUNTRY_INFO!G176)))),0)","v":0.54484184593726626},{"$f":"MAX(COUNTRY_INFO!D176*AK176*PROFILE!$G$7,COUNTRY_INFO!D176*AL176*PROFILE!$G$7)","v":0},{"$f":"MAX(COUNTRY_INFO!D176*AK176*PROFILE!$G$8,COUNTRY_INFO!D176*AL176*PROFILE!$G$8,COUNTRY_INFO!D176*AM176*PROFILE!$G$8)","v":51846.970136515876},{"$f":"MAX(COUNTRY_INFO!D176*AK176*PROFILE!$G$9,COUNTRY_INFO!D176*AL176*PROFILE!$G$9,COUNTRY_INFO!D176*AM176*PROFILE!$G$9,IF(AND(DISTRICT!Z176<>\"Unknown\",Z176<>\"Not required\"),COUNTRY_INFO!O176*DISTRICT!AN176,0))","v":101692.42780694822},{"$f":"MAX(COUNTRY_INFO!D176*AK176*PROFILE!$G$10,COUNTRY_INFO!D176*AL176*PROFILE!$G$10,IF(AND(DISTRICT!Z176<>\"Unknown\",Z176<>\"Not required\"),COUNTRY_INFO!O176*DISTRICT!AO176,0))","v":61923.999999999993},215463.39794346411,"Y",{"$f":"MAX('MDA2'!J176,'T1'!L176,'T2'!J176,T3_R1!K176,T3_R2!K176)","v":0},{"$f":"MAX('MDA1'!K176,'MDA2'!K176,'MDA3'!I176,'MDA3'!L176,'T1'!M176,'T2'!K176,T3_R1!L176,T3_R2!L176)","v":99403},{"$f":"MAX('MDA1'!L176,'MDA2'!L176,'MDA3'!J176,'MDA3'!M176,'T1'!N176,'T2'!L176,T3_R1!M176,T3_R2!M176)","v":0},99403,{"$f":"MAX('MDA2'!J176,T176)","v":0},{"$f":"MAX('MDA1'!K176,'MDA2'!K176,'MDA3'!I176,'MDA3'!L176,V176,AD176)","v":99403},{"$f":"MAX('MDA1'!L176,'MDA2'!L176,'MDA3'!J176,'MDA3'!M176,AF176)","v":0},99403,46.134517950042984]
[{"$f":"IF(COUNTRY_INFO!A177=0,\" \",COUNTRY_INFO!A177)","v":"Tanzania"},{"$f":"IF(COUNTRY_INFO!B177=0,\" \",COUNTRY_INFO!B177)","v":"Tabora"},{"$f":"IF(COUNTRY_INFO!C177=0,\" \",COUNTRY_INFO!C177)","v":"Nzega District Council"},{"$f":"COUNTRY_INFO!L177","v":"Stopped"},null,null,{"$f":"MAX('MDA1'!M177,'MDA2'!M177)","v":0},{"$f":"IF(AND(COUNTRY_INFO!H177>0,COUNTRY_INFO!H177<4),IF(D177>MAX('MDA1'!M177,'MDA2'!M177),MAX('MDA1'!M177,'MDA2'!M177),D177),0)","v":0},{"$f":"IF(AND(COUNTRY_INFO!H177>0,COUNTRY_INFO!H177<4), IF(G177/D177*100<>0, IF(G177/D177*100>100,100,G177/D177*100), \"-\"),0)","v":0},{"$f":"COUNTRY_INFO!M177","v":0},null,null,{"$f":"MAX('MDA1'!M177,MAX('MDA3'!I177,'MDA3'!L177)+MAX('MDA3'!J177,'MDA3'!M177))","v":0},{"$f":"IF(AND(COUNTRY_INFO!I177>0,COUNTRY_INFO!I177<4),IF(J177>MAX('MDA1'!M177,MAX('MDA3'!I177,'MDA3'!L177)+MAX('MDA3'!J177,'MDA3'!M177)),MAX('MDA1'!M177,MAX('MDA3'!I177,'MDA3'!L177)+MAX('MDA3'!J177,'MDA3'!M177)),J177),0)","v":0},{"$f":"IF(AND(COUNTRY_INFO!I177>0,COUNTRY_INFO!I177<4), IF(M177/J177*100<>0, IF(M177/J177*100>100,100,M177/J177*100), \"-\"),0)","v":0},{"$f":"COUNTRY_INFO!N177","v":171957},null,null,{"$f":"SUM(MAX('MDA2'!J177, 'T1'!L177, MAX(T3_R1!K177, T3_R2!K177)), MAX('MDA1'!K177, 'MDA2'!K177, 'T1'!M177, MAX(T3_R1!L177, T3_R2!L177)), MAX('MDA1'!L177, 'MDA2'!L177, 'T1'!N177, MAX(T3_R1!M177, T3_R2!M177)))","v":104005},{"$f":"IF(AND(COUNTRY_INFO!J177>1,COUNTRY_INFO!J177<4),IF(COUNTRY_INFO!E177>MAX('MDA2'!J177,'T1'!L177,MAX(T3_R1!K177,T3_R2!K177)),MAX('MDA2'!J177,'T1'!L177,MAX(T3_R1!K177,T3_R2!K177)),COUNTRY_INFO!E177),0)","v":0},{"$f":"IF(AND(COUNTRY_INFO!J177>1,COUNTRY_INFO!J177<4), IF(T177/COUNTRY_INFO!E177*100<>0, IF(T177/COUNTRY_INFO!E177*100>100,100,T177/COUNTRY_INFO!E177*100), \"-\"),0)","v":"-"},{"$f":"IF(AND(COUNTRY_INFO!J177>1,COUNTRY_INFO!J177<4),IF(COUNTRY_INFO!F177>MAX('MDA1'!K177,'MDA2'!K177,'T1'!M177,MAX(T3_R1!L177,T3_R2!L177)),MAX('MDA1'!K177,'MDA2'!K177,'T1'!M177,MAX(T3_R1!L177,T3_R2!L177)),COUNTRY_INFO!F177),0)","v":104005},{"$f":"IF(AND(COUNTRY_INFO!J177>1,COUNTRY_INFO!J177<4), IF(V177/COUNTRY_INFO!F177*100<>0, IF(V177/COUNTRY_INFO!F177*100>100,100,V177/COUNTRY_INFO!F177*100), \"-\"),0)","v":99.146806482364155},104005,{"$f":"IF(AND(COUNTRY_INFO!J177>1,COUNTRY_INFO!J177<4), IF(S177/P177*100<>0, IF(X177/P177*100>100,100,X177/P177*100), \"-\"),0)","v":60.48314404182441},{"$f":"COUNTRY_INFO!O177","v":122022.6},null,null,{"$f":"MAX('T1'!L177,'T2'!J177)+MAX('T1'!M177,'T2'!K177)+MAX('T1'!N177,'T2'!L177)","v":0},{"$f":"IF(COUNTRY_INFO!K177=1,IF(COUNTRY_INFO!F177*0.33>MAX('T1'!M177,'T2'!K177),MAX('T1'!M177,'T2'!K177),COUNTRY_INFO!F177*0.33),IF(COUNTRY_INFO!K177=2,IF(COUNTRY_INFO!F177*0.5>MAX('T1'!M177,'T2'!K177),MAX('T1'!M177,'T2'!K177),COUNTRY_INFO!F177*0.5),IF(COUNTRY_INFO!K177=3,IF(COUNTRY_INFO!F177>MAX('T1'!M177,'T2'!K177),MAX('T1'!M177,'T2'!K177),COUNTRY_INFO!F177),0)))","v":0},{"$f":"IF(AND(COUNTRY_INFO!K177>0,COUNTRY_INFO!K177<4),IF(Z177>0,IF(COUNTRY_INFO!K177=1, AD177/(COUNTRY_INFO!F177*0.33)*100, IF(COUNTRY_INFO!K177=2, AD177/(COUNTRY_INFO!F177*0.5)*100, IF(COUNTRY_INFO!K177=3, AD177/COUNTRY_INFO!F177*100))),\"-\"),0)","v":0},{"$f":"IF(COUNTRY_INFO!K177=2,IF(COUNTRY_INFO!G177*0.2>MAX('T1'!N177,'T2'!L177),MAX('T1'!N177,'T2'!L177),COUNTRY_INFO!G177*0.2),IF(COUNTRY_INFO!K177=3,IF(COUNTRY_INFO!G177>MAX('T1'!N177,'T2'!L177),MAX('T1'!N177,'T2'!L177),COUNTRY_INFO!G177),0))","v":0},{"$f":"IF(AND(COUNTRY_INFO!K177>0,COUNTRY_INFO!K177<4),IF(Z177>0,IF(COUNTRY_INFO!K177=1, 0, IF(COUNTRY_INFO!K177=2, AF177/(COUNTRY_INFO!G177*0.2)*100, IF(COUNTRY_INFO!K177=3, AF177/COUNTRY_INFO!G177*100))),\"-\"),0)","v":0},0,{"$f":"IF(AND(COUNTRY_INFO!K177>0,COUNTRY_INFO!K177<4), IF(AC177/Z177*100<>0, IF(AH177/Z177*100>100,100,AH177/Z177*100), \"-\"),0)","v":"-"},null,{"$f":"IF(AND(D177<>0, D177<>\"Unknown\",D177<>\"Stopped\",D177<>\"Not required\"),D177/COUNTRY_INFO!D177, 0)","v":0},{"$f":"IF(AND(J177<>0,J177<>\"Unknown\",J177<>\"Stopped\",J177<>\"Not required\"),J177/COUNTRY_INFO!D177, 0)","v":0},{"$f":"IF(AND(P177<>0,P177<>\"Unknown\",P177<>\"Not required\"),P177/(COUNTRY_INFO!E177+COUNTRY_INFO!F177), 0)","v":1},{"$f":"IF(AND(Z177<>0,Z177<>\"Unknown\",Z177<>\"Not required\"),IF(COUNTRY_INFO!K177=1,1,IF(COUNTRY_INFO!K177=2,0.5*COUNTRY_INFO!F177/(0.5*COUNTRY_INFO!F177+0.2*COUNTRY_INFO!G177),IF(COUNTRY_INFO!K177=3,COUNTRY_INFO!F177/(COUNTRY_INFO!F177+COUNTRY_INFO!G177)))),0)","v":0.4298384069836243},{"$f":"IF(AND(Z177<>0,Z177<>\"Unknown\",Z177<>\"Not required\"),IF(COUNTRY_INFO!K177=1,0,IF(COUNTRY_INFO!K177=2,0.2*COUNTRY_INFO!G177/(0.5*COUNTRY_INFO!F177+0.2*COUNTRY_INFO!G177),IF(COUNTRY_INFO!K177=3,COUNTRY_INFO!G177/(COUNTRY_INFO!F177+COUNTRY_INFO!G177)))),0)","v":0.5701615930163757},{"$f":"MAX(COUNTRY_INFO!D177*AK177*PROFILE!$G$7,COUNTRY_INFO!D177*AL177*PROFILE!$G$7)","v":0},{"$f":"MAX(COUNTRY_INFO!D177*AK177*PROFILE!$G$8,COUNTRY_INFO!D177*AL177*PROFILE!$G$8,COUNTRY_INFO!D177*AM177*PROFILE!$G$8)","v":57715.937768600983},{"$f":"MAX(COUNTRY_INFO!D177*AK177*PROFILE!$G$9,COUNTRY_INFO!D177*AL177*PROFILE!$G$9,COUNTRY_INFO!D177*AM177*PROFILE!$G$9,IF(AND(DISTRICT!Z177<>\"Unknown\",Z177<>\"Not required\"),COUNTRY_INFO!O177*DISTRICT!AN177,0))","v":113203.79608277313},{"$f":"MAX(COUNTRY_INFO!D177*AK177*PROFILE!$G$10,COUNTRY_INFO!D177*AL177*PROFILE!$G$10,IF(AND(DISTRICT!Z177<>\"Unknown\",Z177<>\"Not required\"),COUNTRY_INFO!O177*DISTRICT!AO177,0))","v":69572.600000000006},240492.33385137413,0,{"$f":"MAX('MDA2'!J177,'T1'!L177,'T2'!J177,T3_R1!K177,T3_R2!K177)","v":0},{"$f":"MAX('MDA1'!K177,'MDA2'!K177,'MDA3'!I177,'MDA3'!L177,'T1'!M177,'T2'!K177,T3_R1!L177,T3_R2!L177)","v":104005},{"$f":"MAX('MDA1'!L177,'MDA2'!L177,'MDA3'!J177,'MDA3'!M177,'T1'!N177,'T2'!L177,T3_R1!M177,T3_R2!M177)","v":0},104005,{"$f":"MAX('MDA2'!J177,T177)","v":0},{"$f":"MAX('MDA1'!K177,'MDA2'!K177,'MDA3'!I177,'MDA3'!L177,V177,AD177)","v":104005},{"$f":"MAX('MDA1'!L177,'MDA2'!L177,'MDA3'!J177,'MDA3'!M177,AF177)","v":0},104005,43.246700771873989]
[{"$f":"IF(COUNTRY_INFO!A178=0,\" \",COUNTRY_INFO!A178)","v":"Tanzania"},{"$f":"IF(COUNTRY_INFO!B178=0,\" \",COUNTRY_INFO!B178)","v":"Tabora"},{"$f":"IF(COUNTRY_INFO!C178=0,\" \",COUNTRY_INFO!C178)","v":"Nzega Town Council"},{"$f":"COUNTRY_INFO!L178","v":"Stopped"},null,null,{"$f":"MAX('MDA1'!M178,'MDA2'!M178)","v":0},{"$f":"IF(AND(COUNTRY_INFO!H178>0,COUNTRY_INFO!H178<4),IF(D178>MAX('MDA1'!M178,'MDA2'!M178),MAX('MDA1'!M178,'MDA2'!M178),D178),0)","v":0},{"$f":"IF(AND(COUNTRY_INFO!H178>0,COUNTRY_INFO!H178<4), IF(G178/D178*100<>0, IF(G178/D178*100>100,100,G178/D178*100), \"-\"),0)","v":0},{"$f":"COUNTRY_INFO!M178","v":0},null,null,{"$f":"MAX('MDA1'!M178,MAX('MDA3'!I178,'MDA3'!L178)+MAX('MDA3'!J178,'MDA3'!M178))","v":0},{"$f":"IF(AND(COUNTRY_INFO!I178>0,COUNTRY_INFO!I178<4),IF(J178>MAX('MDA1'!M178,MAX('MDA3'!I178,'MDA3'!L178)+MAX('MDA3'!J178,'MDA3'!M178)),MAX('MDA1'!M178,MAX('MDA3'!I178,'MDA3'!L178)+MAX('MDA3'!J178,'MDA3'!M178)),J178),0)","v":0},{"$f":"IF(AND(COUNTRY_INFO!I178>0,COUNTRY_INFO!I178<4), IF(M178/J178*100<>0, IF(M178/J178*100>100,100,M178/J178*100), \"-\"),0)","v":0},{"$f":"COUNTRY_INFO!N178","v":25277},null,null,{"$f":"SUM(MAX('MDA2'!J178, 'T1'!L178, MAX(T3_R1!K178, T3_R2!K178)), MAX('MDA1'!K178, 'MDA2'!K178, 'T1'!M178, MAX(T3_R1!L178, T3_R2!L178)), MAX('MDA1'!L178, 'MDA2'!L178, 'T1'!N178, MAX(T3_R1!M178, T3_R2!M178)))","v":18511},{"$f":"IF(AND(COUNTRY_INFO!J178>1,COUNTRY_INFO!J178<4),IF(COUNTRY_INFO!E178>MAX('MDA2'!J178,'T1'!L178,MAX(T3_R1!K178,T3_R2!K178)),MAX('MDA2'!J178,'T1'!L178,MAX(T3_R1!K178,T3_R2!K178)),COUNTRY_INFO!E178),0)","v":0},{"$f":"IF(AND(COUNTRY_INFO!J178>1,COUNTRY_INFO!J178<4), IF(T178/COUNTRY_INFO!E178*100<>0, IF(T178/COUNTRY_INFO!E178*100>100,100,T178/COUNTRY_INFO!E178*100), \"-\"),0)","v":"-"},{"$f":"IF(AND(COUNTRY_INFO!J178>1,COUNTRY_INFO!J178<4),IF(COUNTRY_INFO!F178>MAX('MDA1'!K178,'MDA2'!K178,'T1'!M178,MAX(T3_R1!L178,T3_R2!L178)),MAX('MDA1'!K178,'MDA2'!K178,'T1'!M178,MAX(T3_R1!L178,T3_R2!L178)),COUNTRY_INFO!F178),0)","v":18511},{"$f":"IF(AND(COUNTRY_INFO!J178>1,COUNTRY_INFO!J178<4), IF(V178/COUNTRY_INFO!F178*100<>0, IF(V178/COUNTRY_INFO!F178*100>100,100,V178/COUNTRY_INFO!F178*100), \"-\"),0)","v":87.361366746896977},18511,{"$f":"IF(AND(COUNTRY_INFO!J178>1,COUNTRY_INFO!J178<4), IF(S178/P178*100<>0, IF(X178/P178*100>100,100,X178/P178*100), \"-\"),0)","v":73.232582980575216},{"$f":"COUNTRY_INFO!O178","v":20821.099999999999},null,null,{"$f":"MAX('T1'!L178,'T2'!J178)+MAX('T1'!M178,'T2'!K178)+MAX('T1'!N178,'T2'!L178)","v":0},{"$f":"IF(COUNTRY_INFO!K178=1,IF(COUNTRY_INFO!F178*0.33>MAX('T1'!M178,'T2'!K178),MAX('T1'!M178,'T2'!K178),COUNTRY_INFO!F178*0.33),IF(COUNTRY_INFO!K178=2,IF(COUNTRY_INFO!F178*0.5>MAX('T1'!M178,'T2'!K178),MAX('T1'!M178,'T2'!K178),COUNTRY_INFO!F178*0.5),IF(COUNTRY_INFO!K178=3,IF(COUNTRY_INFO!F178>MAX('T1'!M178,'T2'!K178),MAX('T1'!M178,'T2'!K178),COUNTRY_INFO!F178),0)))","v":0},{"$f":"IF(AND(COUNTRY_INFO!K178>0,COUNTRY_INFO!K178<4),IF(Z178>0,IF(COUNTRY_INFO!K178=1, AD178/(COUNTRY_INFO!F178*0.33)*100, IF(COUNTRY_INFO!K178=2, AD178/(COUNTRY_INFO!F178*0.5)*100, IF(COUNTRY_INFO!K178=3, AD178/COUNTRY_INFO!F178*100))),\"-\"),0)","v":0},{"$f":"IF(COUNTRY_INFO!K178=2,IF(COUNTRY_INFO!G178*0.2>MAX('T1'!N178,'T2'!L178),MAX('T1'!N178,'T2'!L178),COUNTRY_INFO!G178*0.2),IF(COUNTRY_INFO!K178=3,IF(COUNTRY_INFO!G178>MAX('T1'!N178,'T2'!L178),MAX('T1'!N178,'T2'!L178),COUNTRY_INFO!G178),0))","v":0},{"$f":"IF(AND(COUNTRY_INFO!K178>0,COUNTRY_INFO!K178<4),IF(Z178>0,IF(COUNTRY_INFO!K178=1, 0, IF(COUNTRY_INFO!K178=2, AF178/(COUNTRY_INFO!G178*0.2)*100, IF(COUNTRY_INFO!K178=3, AF178/COUNTRY_INFO!G178*100))),\"-\"),0)","v":0},0,{"$f":"IF(AND(COUNTRY_INFO!K178>0,COUNTRY_INFO!K178<4), IF(AC178/Z178*100<>0, IF(AH178/Z178*100>100,100,AH178/Z178*100), \"-\"),0)","v":"-"},null,{"$f":"IF(AND(D178<>0, D178<>\"Unknown\",D178<>\"Stopped\",D178<>\"Not required\"),D178/COUNTRY_INFO!D178, 0)","v":0},{"$f":"IF(AND(J178<>0,J178<>\"Unknown\",J178<>\"Stopped\",J178<>\"Not required\"),J178/COUNTRY_INFO!D178, 0)","v":0},{"$f":"IF(AND(P178<>0,P178<>\"Unknown\",P178<>\"Not required\"),P178/(COUNTRY_INFO!E178+COUNTRY_INFO!F178), 0)","v":1},{"$f":"IF(AND(Z178<>0,Z178<>\"Unknown\",Z178<>\"Not required\"),IF(COUNTRY_INFO!K178=1,1,IF(COUNTRY_INFO!K178=2,0.5*COUNTRY_INFO!F178/(0.5*COUNTRY_INFO!F178+0.2*COUNTRY_INFO!G178),IF(COUNTRY_INFO!K178=3,COUNTRY_INFO!F178/(COUNTRY_INFO!F178+COUNTRY_INFO!G178)))),0)","v":0.50883478778738878},{"$f":"IF(AND(Z178<>0,Z178<>\"Unknown\",Z178<>\"Not required\"),IF(COUNTRY_INFO!K178=1,0,IF(COUNTRY_INFO!K178=2,0.2*COUNTRY_INFO!G178/(0.5*COUNTRY_INFO!F178+0.2*COUNTRY_INFO!G178),IF(COUNTRY_INFO!K178=3,COUNTRY_INFO!G178/(COUNTRY_INFO!F178+COUNTRY_INFO!G178)))),0)","v":0.49116521221261128},{"$f":"MAX(COUNTRY_INFO!D178*AK178*PROFILE!$G$7,COUNTRY_INFO!D178*AL178*PROFILE!$G$7)","v":0},{"$f":"MAX(COUNTRY_INFO!D178*AK178*PROFILE!$G$8,COUNTRY_INFO!D178*AL178*PROFILE!$G$8,COUNTRY_INFO!D178*AM178*PROFILE!$G$8)","v":8483.849803583551},{"$f":"MAX(COUNTRY_INFO!D178*AK178*PROFILE!$G$9,COUNTRY_INFO!D178*AL178*PROFILE!$G$9,COUNTRY_INFO!D178*AM178*PROFILE!$G$9,IF(AND(DISTRICT!Z178<>\"Unknown\",Z178<>\"Not required\"),COUNTRY_INFO!O178*DISTRICT!AN178,0))","v":16640.187100697731},{"$f":"MAX(COUNTRY_INFO!D178*AK178*PROFILE!$G$10,COUNTRY_INFO!D178*AL178*PROFILE!$G$10,IF(AND(DISTRICT!Z178<>\"Unknown\",Z178<>\"Not required\"),COUNTRY_INFO!O178*DISTRICT!AO178,0))","v":10226.6},35350.63690428128,0,{"$f":"MAX('MDA2'!J178,'T1'!L178,'T2'!J178,T3_R1!K178,T3_R2!K178)","v":0},{"$f":"MAX('MDA1'!K178,'MDA2'!K178,'MDA3'!I178,'MDA3'!L178,'T1'!M178,'T2'!K178,T3_R1!L178,T3_R2!L178)","v":18511},{"$f":"MAX('MDA1'!L178,'MDA2'!L178,'MDA3'!J178,'MDA3'!M178,'T1'!N178,'T2'!L178,T3_R1!M178,T3_R2!M178)","v":0},18511,{"$f":"MAX('MDA2'!J178,T178)","v":0},{"$f":"MAX('MDA1'!K178,'MDA2'!K178,'MDA3'!I178,'MDA3'!L178,V178,AD178)","v":18511},{"$f":"MAX('MDA1'!L178,'MDA2'!L178,'MDA3'!J178,'MDA3'!M178,AF178)","v":0},18511,52.363978759766425]
[{"$f":"IF(COUNTRY_INFO!A179=0,\" \",COUNTRY_INFO!A179)","v":"Tanzania"},{"$f":"IF(COUNTRY_INFO!B179=0,\" \",COUNTRY_INFO!B179)","v":"Tabora"},{"$f":"IF(COUNTRY_INFO!C179=0,\" \",COUNTRY_INFO!C179)","v":"Sikonge District Council"},{"$f":"COUNTRY_INFO!L179","v":"Stopped"},null,null,{"$f":"MAX('MDA1'!M179,'MDA2'!M179)","v":0},{"$f":"IF(AND(COUNTRY_INFO!H179>0,COUNTRY_INFO!H179<4),IF(D179>MAX('MDA1'!M179,'MDA2'!M179),MAX('MDA1'!M179,'MDA2'!M179),D179),0)","v":0},{"$f":"IF(AND(COUNTRY_INFO!H179>0,COUNTRY_INFO!H179<4), IF(G179/D179*100<>0, IF(G179/D179*100>100,100,G179/D179*100), \"-\"),0)","v":0},{"$f":"COUNTRY_INFO!M179","v":0},null,null,{"$f":"MAX('MDA1'!M179,MAX('MDA3'!I179,'MDA3'!L179)+MAX('MDA3'!J179,'MDA3'!M179))","v":0},{"$f":"IF(AND(COUNTRY_INFO!I179>0,COUNTRY_INFO!I179<4),IF(J179>MAX('MDA1'!M179,MAX('MDA3'!I179,'MDA3'!L179)+MAX('MDA3'!J179,'MDA3'!M179)),MAX('MDA1'!M179,MAX('MDA3'!I179,'MDA3'!L179)+MAX('MDA3'!J179,'MDA3'!M179)),J179),0)","v":0},{"$f":"IF(AND(COUNTRY_INFO!I179>0,COUNTRY_INFO!I179<4), IF(M179/J179*100<>0, IF(M179/J179*100>100,100,M179/J179*100), \"-\"),0)","v":0},{"$f":"COUNTRY_INFO!N179","v":71254},null,null,{"$f":"SUM(MAX('MDA2'!J179, 'T1'!L179, MAX(T3_R1!K179, T3_R2!K179)), MAX('MDA1'!K179, 'MDA2'!K179, 'T1'!M179, MAX(T3_R1!L179, T3_R2!L179)), MAX('MDA1'!L179, 'MDA2'!L179, 'T1'!N179, MAX(T3_R1!M179, T3_R2!M179)))","v":43133},{"$f":"IF(AND(COUNTRY_INFO!J179>1,COUNTRY_INFO!J179<4),IF(COUNTRY_INFO!E179>MAX('MDA2'!J179,'T1'!L179,MAX(T3_R1!K179,T3_R2!K179)),MAX('MDA2'!J179,'T1'!L179,MAX(T3_R1!K179,T3_R2!K179)),COUNTRY_INFO!E179),0)","v":0},{"$f":"IF(AND(COUNTRY_INFO!J179>1,COUNTRY_INFO!J179<4), IF(T179/COUNTRY_INFO!E179*100<>0, IF(T179/COUNTRY_INFO!E179*100>100,100,T179/COUNTRY_INFO!E179*100), \"-\"),0)","v":"-"},{"$f":"IF(AND(COUNTRY_INFO!J179>1,COUNTRY_INFO!J179<4),IF(COUNTRY_INFO!F179>MAX('MDA1'!K179,'MDA2'!K179,'T1'!M179,MAX(T3_R1!L179,T3_R2!L179)),MAX('MDA1'!K179,'MDA2'!K179,'T1'!M179,MAX(T3_R1!L179,T3_R2!L179)),COUNTRY_INFO!F179),0)","v":43133},{"$f":"IF(AND(COUNTRY_INFO!J179>1,COUNTRY_INFO!J179<4), IF(V179/COUNTRY_INFO!F179*100<>0, IF(V179/COUNTRY_INFO!F179*100>100,100,V179/COUNTRY_INFO!F179*100), \"-\"),0)","v":98.686709222778958},43133,{"$f":"IF(AND(COUNTRY_INFO!J179>1,COUNTRY_INFO!J179<4), IF(S179/P179*100<>0, IF(X179/P179*100>100,100,X179/P179*100), \"-\"),0)","v":60.534145451483425},{"$f":"COUNTRY_INFO!O179","v":50311.100000000006},null,null,{"$f":"MAX('T1'!L179,'T2'!J179)+MAX('T1'!M179,'T2'!K179)+MAX('T1'!N179,'T2'!L179)","v":0},{"$f":"IF(COUNTRY_INFO!K179=1,IF(COUNTRY_INFO!F179*0.33>MAX('T1'!M179,'T2'!K179),MAX('T1'!M179,'T2'!K179),COUNTRY_INFO!F179*0.33),IF(COUNTRY_INFO!K179=2,IF(COUNTRY_INFO!F179*0.5>MAX('T1'!M179,'T2'!K179),MAX('T1'!M179,'T2'!K179),COUNTRY_INFO!F179*0.5),IF(COUNTRY_INFO!K179=3,IF(COUNTRY_INFO!F179>MAX('T1'!M179,'T2'!K179),MAX('T1'!M179,'T2'!K179),COUNTRY_INFO!F179),0)))","v":0},{"$f":"IF(AND(COUNTRY_INFO!K179>0,COUNTRY_INFO!K179<4),IF(Z179>0,IF(COUNTRY_INFO!K179=1, AD179/(COUNTRY_INFO!F179*0.33)*100, IF(COUNTRY_INFO!K179=2, AD179/(COUNTRY_INFO!F179*0.5)*100, IF(COUNTRY_INFO!K179=3, AD179/COUNTRY_INFO!F179*100))),\"-\"),0)","v":0},{"$f":"IF(COUNTRY_INFO!K179=2,IF(COUNTRY_INFO!G179*0.2>MAX('T1'!N179,'T2'!L179),MAX('T1'!N179,'T2'!L179),COUNTRY_INFO!G179*0.2),IF(COUNTRY_INFO!K179=3,IF(COUNTRY_INFO!G179>MAX('T1'!N179,'T2'!L179),MAX('T1'!N179,'T2'!L179),COUNTRY_INFO!G179),0))","v":0},{"$f":"IF(AND(COUNTRY_INFO!K179>0,COUNTRY_INFO!K179<4),IF(Z179>0,IF(COUNTRY_INFO!K179=1, 0, IF(COUNTRY_INFO!K179=2, AF179/(COUNTRY_INFO!G179*0.2)*100, IF(COUNTRY_INFO!K179=3, AF179/COUNTRY_INFO!G179*100))),\"-\"),0)","v":0},0,{"$f":"IF(AND(COUNTRY_INFO!K179>0,COUNTRY_INFO!K179<4), IF(AC179/Z179*100<>0, IF(AH179/Z179*100>100,100,AH179/Z179*100), \"-\"),0)","v":"-"},null,{"$f":"IF(AND(D179<>0, D179<>\"Unknown\",D179<>\"Stopped\",D179<>\"Not required\"),D179/COUNTRY_INFO!D179, 0)","v":0},{"$f":"IF(AND(J179<>0,J179<>\"Unknown\",J179<>\"Stopped\",J179<>\"Not required\"),J179/COUNTRY_INFO!D179, 0)","v":0},{"$f":"IF(AND(P179<>0,P179<>\"Unknown\",P179<>\"Not required\"),P179/(COUNTRY_INFO!E179+COUNTRY_INFO!F179), 0)","v":1},{"$f":"IF(AND(Z179<>0,Z179<>\"Unknown\",Z179<>\"Not required\"),IF(COUNTRY_INFO!K179=1,1,IF(COUNTRY_INFO!K179=2,0.5*COUNTRY_INFO!F179/(0.5*COUNTRY_INFO!F179+0.2*COUNTRY_INFO!G179),IF(COUNTRY_INFO!K179=3,COUNTRY_INFO!F179/(COUNTRY_INFO!F179+COUNTRY_INFO!G179)))),0)","v":0.43436736624720979},{"$f":"IF(AND(Z179<>0,Z179<>\"Unknown\",Z179<>\"Not required\"),IF(COUNTRY_INFO!K179=1,0,IF(COUNTRY_INFO!K179=2,0.2*COUNTRY_INFO!G179/(0.5*COUNTRY_INFO!F179+0.2*COUNTRY_INFO!G179),IF(COUNTRY_INFO!K179=3,COUNTRY_INFO!G179/(COUNTRY_INFO!F179+COUNTRY_INFO!G179)))),0)","v":0.56563263375279016},{"$f":"MAX(COUNTRY_INFO!D179*AK179*PROFILE!$G$7,COUNTRY_INFO!D179*AL179*PROFILE!$G$7)","v":0},{"$f":"MAX(COUNTRY_INFO!D179*AK179*PROFILE!$G$8,COUNTRY_INFO!D179*AL179*PROFILE!$G$8,COUNTRY_INFO!D179*AM179*PROFILE!$G$8)","v":23709.70101762647},{"$f":"MAX(COUNTRY_INFO!D179*AK179*PROFILE!$G$9,COUNTRY_INFO!D179*AL179*PROFILE!$G$9,COUNTRY_INFO!D179*AM179*PROFILE!$G$9,IF(AND(DISTRICT!Z179<>\"Unknown\",Z179<>\"Not required\"),COUNTRY_INFO!O179*DISTRICT!AN179,0))","v":46504.107235403681},{"$f":"MAX(COUNTRY_INFO!D179*AK179*PROFILE!$G$10,COUNTRY_INFO!D179*AL179*PROFILE!$G$10,IF(AND(DISTRICT!Z179<>\"Unknown\",Z179<>\"Not required\"),COUNTRY_INFO!O179*DISTRICT!AO179,0))","v":28457.600000000006},98671.408253030153,0,{"$f":"MAX('MDA2'!J179,'T1'!L179,'T2'!J179,T3_R1!K179,T3_R2!K179)","v":0},{"$f":"MAX('MDA1'!K179,'MDA2'!K179,'MDA3'!I179,'MDA3'!L179,'T1'!M179,'T2'!K179,T3_R1!L179,T3_R2!L179)","v":43133},{"$f":"MAX('MDA1'!L179,'MDA2'!L179,'MDA3'!J179,'MDA3'!M179,'T1'!N179,'T2'!L179,T3_R1!M179,T3_R2!M179)","v":0},43133,{"$f":"MAX('MDA2'!J179,T179)","v":0},{"$f":"MAX('MDA1'!K179,'MDA2'!K179,'MDA3'!I179,'MDA3'!L179,V179,AD179)","v":43133},{"$f":"MAX('MDA1'!L179,'MDA2'!L179,'MDA3'!J179,'MDA3'!M179,AF179)","v":0},43133,43.71377764204091]
[{"$f":"IF(COUNTRY_INFO!A180=0,\" \",COUNTRY_INFO!A180)","v":"Tanzania"},{"$f":"IF(COUNTRY_INFO!B180=0,\" \",COUNTRY_INFO!B180)","v":"Tabora"},{"$f":"IF(COUNTRY_INFO!C180=0,\" \",COUNTRY_INFO!C180)","v":"Tabora Municipal Council"},{"$f":"COUNTRY_INFO!L180","v":"Stopped"},null,null,{"$f":"MAX('MDA1'!M180,'MDA2'!M180)","v":0},{"$f":"IF(AND(COUNTRY_INFO!H180>0,COUNTRY_INFO!H180<4),IF(D180>MAX('MDA1'!M180,'MDA2'!M180),MAX('MDA1'!M180,'MDA2'!M180),D180),0)","v":0},{"$f":"IF(AND(COUNTRY_INFO!H180>0,COUNTRY_INFO!H180<4), IF(G180/D180*100<>0, IF(G180/D180*100>100,100,G180/D180*100), \"-\"),0)","v":0},{"$f":"COUNTRY_INFO!M180","v":0},null,null,{"$f":"MAX('MDA1'!M180,MAX('MDA3'!I180,'MDA3'!L180)+MAX('MDA3'!J180,'MDA3'!M180))","v":0},{"$f":"IF(AND(COUNTRY_INFO!I180>0,COUNTRY_INFO!I180<4),IF(J180>MAX('MDA1'!M180,MAX('MDA3'!I180,'MDA3'!L180)+MAX('MDA3'!J180,'MDA3'!M180)),MAX('MDA1'!M180,MAX('MDA3'!I180,'MDA3'!L180)+MAX('MDA3'!J180,'MDA3'!M180)),J180),0)","v":0},{"$f":"IF(AND(COUNTRY_INFO!I180>0,COUNTRY_INFO!I180<4), IF(M180/J180*100<>0, IF(M180/J180*100>100,100,M180/J180*100), \"-\"),0)","v":0},{"$f":"COUNTRY_INFO!N180","v":83134},null,null,{"$f":"SUM(MAX('MDA2'!J180, 'T1'!L180, MAX(T3_R1!K180, T3_R2!K180)), MAX('MDA1'!K180, 'MDA2'!K180, 'T1'!M180, MAX(T3_R1!L180, T3_R2!L180)), MAX('MDA1'!L180, 'MDA2'!L180, 'T1'!N180, MAX(T3_R1!M180, T3_R2!M180)))","v":44392},{"$f":"IF(AND(COUNTRY_INFO!J180>1,COUNTRY_INFO!J180<4),IF(COUNTRY_INFO!E180>MAX('MDA2'!J180,'T1'!L180,MAX(T3_R1!K180,T3_R2!K180)),MAX('MDA2'!J180,'T1'!L180,MAX(T3_R1!K180,T3_R2!K180)),COUNTRY_INFO!E180),0)","v":0},{"$f":"IF(AND(COUNTRY_INFO!J180>1,COUNTRY_INFO!J180<4), IF(T180/COUNTRY_INFO!E180*100<>0, IF(T180/COUNTRY_INFO!E180*100>100,100,T180/COUNTRY_INFO!E180*100), \"-\"),0)","v":"-"},{"$f":"IF(AND(COUNTRY_INFO!J180>1,COUNTRY_INFO!J180<4),IF(COUNTRY_INFO!F180>MAX('MDA1'!K180,'MDA2'!K180,'T1'!M180,MAX(T3_R1!L180,T3_R2!L180)),MAX('MDA1'!K180,'MDA2'!K180,'T1'!M180,MAX(T3_R1!L180,T3_R2!L180)),COUNTRY_INFO!F180),0)","v":44392},{"$f":"IF(AND(COUNTRY_INFO!J180>1,COUNTRY_INFO!J180<4), IF(V180/COUNTRY_INFO!F180*100<>0, IF(V180/COUNTRY_INFO!F180*100>100,100,V180/COUNTRY_INFO!F180*100), \"-\"),0)","v":91.77399681627422},44392,{"$f":"IF(AND(COUNTRY_INFO!J180>1,COUNTRY_INFO!J180<4), IF(S180/P180*100<>0, IF(X180/P180*100>100,100,X180/P180*100), \"-\"),0)","v":53.398128322948487},{"$f":"COUNTRY_INFO!O180","v":61453.5},null,null,{"$f":"MAX('T1'!L180,'T2'!J180)+MAX('T1'!M180,'T2'!K180)+MAX('T1'!N180,'T2'!L180)","v":44392},{"$f":"IF(COUNTRY_INFO!K180=1,IF(COUNTRY_INFO!F180*0.33>MAX('T1'!M180,'T2'!K180),MAX('T1'!M180,'T2'!K180),COUNTRY_INFO!F180*0.33),IF(COUNTRY_INFO!K180=2,IF(COUNTRY_INFO!F180*0.5>MAX('T1'!M180,'T2'!K180),MAX('T1'!M180,'T2'!K180),COUNTRY_INFO!F180*0.5),IF(COUNTRY_INFO!K180=3,IF(COUNTRY_INFO!F180>MAX('T1'!M180,'T2'!K180),MAX('T1'!M180,'T2'!K180),COUNTRY_INFO!F180),0)))","v":24185.5},{"$f":"IF(AND(COUNTRY_INFO!K180>0,COUNTRY_INFO!K180<4),IF(Z180>0,IF(COUNTRY_INFO!K180=1, AD180/(COUNTRY_INFO!F180*0.33)*100, IF(COUNTRY_INFO!K180=2, AD180/(COUNTRY_INFO!F180*0.5)*100, IF(COUNTRY_INFO!K180=3, AD180/COUNTRY_INFO!F180*100))),\"-\"),0)","v":100},{"$f":"IF(COUNTRY_INFO!K180=2,IF(COUNTRY_INFO!G180*0.2>MAX('T1'!N180,'T2'!L180),MAX('T1'!N180,'T2'!L180),COUNTRY_INFO!G180*0.2),IF(COUNTRY_INFO!K180=3,IF(COUNTRY_INFO!G180>MAX('T1'!N180,'T2'!L180),MAX('T1'!N180,'T2'!L180),COUNTRY_INFO!G180),0))","v":0},{"$f":"IF(AND(COUNTRY_INFO!K180>0,COUNTRY_INFO!K180<4),IF(Z180>0,IF(COUNTRY_INFO!K180=1, 0, IF(COUNTRY_INFO!K180=2, AF180/(COUNTRY_INFO!G180*0.2)*100, IF(COUNTRY_INFO!K180=3, AF180/COUNTRY_INFO!G180*100))),\"-\"),0)","v":0},24185.5,{"$f":"IF(AND(COUNTRY_INFO!K180>0,COUNTRY_INFO!K180<4), IF(AC180/Z180*100<>0, IF(AH180/Z180*100>100,100,AH180/Z180*100), \"-\"),0)","v":39.355773064186742},null,{"$f":"IF(AND(D180<>0, D180<>\"Unknown\",D180<>\"Stopped\",D180<>\"Not required\"),D180/COUNTRY_INFO!D180, 0)","v":0},{"$f":"IF(AND(J180<>0,J180<>\"Unknown\",J180<>\"Stopped\",J180<>\"Not required\"),J180/COUNTRY_INFO!D180, 0)","v":0},{"$f":"IF(AND(P180<>0,P180<>\"Unknown\",P180<>\"Not required\"),P180/(COUNTRY_INFO!E180+COUNTRY_INFO!F180), 0)","v":1},{"$f":"IF(AND(Z180<>0,Z180<>\"Unknown\",Z180<>\"Not required\"),IF(COUNTRY_INFO!K180=1,1,IF(COUNTRY_INFO!K180=2,0.5*COUNTRY_INFO!F180/(0.5*COUNTRY_INFO!F180+0.2*COUNTRY_INFO!G180),IF(COUNTRY_INFO!K180=3,COUNTRY_INFO!F180/(COUNTRY_INFO!F180+COUNTRY_INFO!G180)))),0)","v":0.39355773064186744},{"$f":"IF(AND(Z180<>0,Z180<>\"Unknown\",Z180<>\"Not required\"),IF(COUNTRY_INFO!K180=1,0,IF(COUNTRY_INFO!K180=2,0.2*COUNTRY_INFO!G180/(0.5*COUNTRY_INFO!F180+0.2*COUNTRY_INFO!G180),IF(COUNTRY_INFO!K180=3,COUNTRY_INFO!G180/(COUNTRY_INFO!F180+COUNTRY_INFO!G180)))),0)","v":0.60644226935813261},{"$f":"MAX(COUNTRY_INFO!D180*AK180*PROFILE!$G$7,COUNTRY_INFO!D180*AL180*PROFILE!$G$7)","v":0},{"$f":"MAX(COUNTRY_INFO!D180*AK180*PROFILE!$G$8,COUNTRY_INFO!D180*AL180*PROFILE!$G$8,COUNTRY_INFO!D180*AM180*PROFILE!$G$8)","v":29919.865750175024},{"$f":"MAX(COUNTRY_INFO!D180*AK180*PROFILE!$G$9,COUNTRY_INFO!D180*AL180*PROFILE!$G$9,COUNTRY_INFO!D180*AM180*PROFILE!$G$9,IF(AND(DISTRICT!Z180<>\"Unknown\",Z180<>\"Not required\"),COUNTRY_INFO!O180*DISTRICT!AN180,0))","v":58684.698060115436},{"$f":"MAX(COUNTRY_INFO!D180*AK180*PROFILE!$G$10,COUNTRY_INFO!D180*AL180*PROFILE!$G$10,IF(AND(DISTRICT!Z180<>\"Unknown\",Z180<>\"Not required\"),COUNTRY_INFO!O180*DISTRICT!AO180,0))","v":37268},125872.56381029046,"Y",{"$f":"MAX('MDA2'!J180,'T1'!L180,'T2'!J180,T3_R1!K180,T3_R2!K180)","v":0},{"$f":"MAX('MDA1'!K180,'MDA2'!K180,'MDA3'!I180,'MDA3'!L180,'T1'!M180,'T2'!K180,T3_R1!L180,T3_R2!L180)","v":44392},{"$f":"MAX('MDA1'!L180,'MDA2'!L180,'MDA3'!J180,'MDA3'!M180,'T1'!N180,'T2'!L180,T3_R1!M180,T3_R2!M180)","v":0},44392,{"$f":"MAX('MDA2'!J180,T180)","v":0},{"$f":"MAX('MDA1'!K180,'MDA2'!K180,'MDA3'!I180,'MDA3'!L180,V180,AD180)","v":44392},{"$f":"MAX('MDA1'!L180,'MDA2'!L180,'MDA3'!J180,'MDA3'!M180,AF180)","v":0},44392,35.267415436858549]
[{"$f":"IF(COUNTRY_INFO!A181=0,\" \",COUNTRY_INFO!A181)","v":"Tanzania"},{"$f":"IF(COUNTRY_INFO!B181=0,\" \",COUNTRY_INFO!B181)","v":"Tabora"},{"$f":"IF(COUNTRY_INFO!C181=0,\" \",COUNTRY_INFO!C181)","v":"Urambo District Council"},{"$f":"COUNTRY_INFO!L181","v":"Stopped"},null,null,{"$f":"MAX('MDA1'!M181,'MDA2'!M181)","v":0},{"$f":"IF(AND(COUNTRY_INFO!H181>0,COUNTRY_INFO!H181<4),IF(D181>MAX('MDA1'!M181,'MDA2'!M181),MAX('MDA1'!M181,'MDA2'!M181),D181),0)","v":0},{"$f":"IF(AND(COUNTRY_INFO!H181>0,COUNTRY_INFO!H181<4), IF(G181/D181*100<>0, IF(G181/D181*100>100,100,G181/D181*100), \"-\"),0)","v":0},{"$f":"COUNTRY_INFO!M181","v":0},null,null,{"$f":"MAX('MDA1'!M181,MAX('MDA3'!I181,'MDA3'!L181)+MAX('MDA3'!J181,'MDA3'!M181))","v":0},{"$f":"IF(AND(COUNTRY_INFO!I181>0,COUNTRY_INFO!I181<4),IF(J181>MAX('MDA1'!M181,MAX('MDA3'!I181,'MDA3'!L181)+MAX('MDA3'!J181,'MDA3'!M181)),MAX('MDA1'!M181,MAX('MDA3'!I181,'MDA3'!L181)+MAX('MDA3'!J181,'MDA3'!M181)),J181),0)","v":0},{"$f":"IF(AND(COUNTRY_INFO!I181>0,COUNTRY_INFO!I181<4), IF(M181/J181*100<>0, IF(M181/J181*100>100,100,M181/J181*100), \"-\"),0)","v":0},{"$f":"COUNTRY_INFO!N181","v":76461},null,null,{"$f":"SUM(MAX('MDA2'!J181, 'T1'!L181, MAX(T3_R1!K181, T3_R2!K181)), MAX('MDA1'!K181, 'MDA2'!K181, 'T1'!M181, MAX(T3_R1!L181, T3_R2!L181)), MAX('MDA1'!L181, 'MDA2'!L181, 'T1'!N181, MAX(T3_R1!M181, T3_R2!M181)))","v":45410},{"$f":"IF(AND(COUNTRY_INFO!J181>1,COUNTRY_INFO!J181<4),IF(COUNTRY_INFO!E181>MAX('MDA2'!J181,'T1'!L181,MAX(T3_R1!K181,T3_R2!K181)),MAX('MDA2'!J181,'T1'!L181,MAX(T3_R1!K181,T3_R2!K181)),COUNTRY_INFO!E181),0)","v":0},{"$f":"IF(AND(COUNTRY_INFO!J181>1,COUNTRY_INFO!J181<4), IF(T181/COUNTRY_INFO!E181*100<>0, IF(T181/COUNTRY_INFO!E181*100>100,100,T181/COUNTRY_INFO!E181*100), \"-\"),0)","v":"-"},{"$f":"IF(AND(COUNTRY_INFO!J181>1,COUNTRY_INFO!J181<4),IF(COUNTRY_INFO!F181>MAX('MDA1'!K181,'MDA2'!K181,'T1'!M181,MAX(T3_R1!L181,T3_R2!L181)),MAX('MDA1'!K181,'MDA2'!K181,'T1'!M181,MAX(T3_R1!L181,T3_R2!L181)),COUNTRY_INFO!F181),0)","v":45410},{"$f":"IF(AND(COUNTRY_INFO!J181>1,COUNTRY_INFO!J181<4), IF(V181/COUNTRY_INFO!F181*100<>0, IF(V181/COUNTRY_INFO!F181*100>100,100,V181/COUNTRY_INFO!F181*100), \"-\"),0)","v":96.74464186799608},45410,{"$f":"IF(AND(COUNTRY_INFO!J181>1,COUNTRY_INFO!J181<4), IF(S181/P181*100<>0, IF(X181/P181*100>100,100,X181/P181*100), \"-\"),0)","v":59.389754253802593},{"$f":"COUNTRY_INFO!O181","v":53947.4},null,null,{"$f":"MAX('T1'!L181,'T2'!J181)+MAX('T1'!M181,'T2'!K181)+MAX('T1'!N181,'T2'!L181)","v":45410},{"$f":"IF(COUNTRY_INFO!K181=1,IF(COUNTRY_INFO!F181*0.33>MAX('T1'!M181,'T2'!K181),MAX('T1'!M181,'T2'!K181),COUNTRY_INFO!F181*0.33),IF(COUNTRY_INFO!K181=2,IF(COUNTRY_INFO!F181*0.5>MAX('T1'!M181,'T2'!K181),MAX('T1'!M181,'T2'!K181),COUNTRY_INFO!F181*0.5),IF(COUNTRY_INFO!K181=3,IF(COUNTRY_INFO!F181>MAX('T1'!M181,'T2'!K181),MAX('T1'!M181,'T2'!K181),COUNTRY_INFO!F181),0)))","v":23469},{"$f":"IF(AND(COUNTRY_INFO!K181>0,COUNTRY_INFO!K181<4),IF(Z181>0,IF(COUNTRY_INFO!K181=1, AD181/(COUNTRY_INFO!F181*0.33)*100, IF(COUNTRY_INFO!K181=2, AD181/(COUNTRY_INFO!F181*0.5)*100, IF(COUNTRY_INFO!K181=3, AD181/COUNTRY_INFO!F181*100))),\"-\"),0)","v":100},{"$f":"IF(COUNTRY_INFO!K181=2,IF(COUNTRY_INFO!G181*0.2>MAX('T1'!N181,'T2'!L181),MAX('T1'!N181,'T2'!L181),COUNTRY_INFO!G181*0.2),IF(COUNTRY_INFO!K181=3,IF(COUNTRY_INFO!G181>MAX('T1'!N181,'T2'!L181),MAX('T1'!N181,'T2'!L181),COUNTRY_INFO!G181),0))","v":0},{"$f":"IF(AND(COUNTRY_INFO!K181>0,COUNTRY_INFO!K181<4),IF(Z181>0,IF(COUNTRY_INFO!K181=1, 0, IF(COUNTRY_INFO!K181=2, AF181/(COUNTRY_INFO!G181*0.2)*100, IF(COUNTRY_INFO!K181=3, AF181/COUNTRY_INFO!G181*100))),\"-\"),0)","v":0},23469,{"$f":"IF(AND(COUNTRY_INFO!K181>0,COUNTRY_INFO!K181<4), IF(AC181/Z181*100<>0, IF(AH181/Z181*100>100,100,AH181/Z181*100), \"-\"),0)","v":43.503486729666299},null,{"$f":"IF(AND(D181<>0, D181<>\"Unknown\",D181<>\"Stopped\",D181<>\"Not required\"),D181/COUNTRY_INFO!D181, 0)","v":0},{"$f":"IF(AND(J181<>0,J181<>\"Unknown\",J181<>\"Stopped\",J181<>\"Not required\"),J181/COUNTRY_INFO!D181, 0)","v":0},{"$f":"IF(AND(P181<>0,P181<>\"Unknown\",P181<>\"Not required\"),P181/(COUNTRY_INFO!E181+COUNTRY_INFO!F181), 0)","v":1},{"$f":"IF(AND(Z181<>0,Z181<>\"Unknown\",Z181<>\"Not required\"),IF(COUNTRY_INFO!K181=1,1,IF(COUNTRY_INFO!K181=2,0.5*COUNTRY_INFO!F181/(0.5*COUNTRY_INFO!F181+0.2*COUNTRY_INFO!G181),IF(COUNTRY_INFO!K181=3,COUNTRY_INFO!F181/(COUNTRY_INFO!F181+COUNTRY_INFO!G181)))),0)","v":0.43503486729666302},{"$f":"IF(AND(Z181<>0,Z181<>\"Unknown\",Z181<>\"Not required\"),IF(COUNTRY_INFO!K181=1,0,IF(COUNTRY_INFO!K181=2,0.2*COUNTRY_INFO!G181/(0.5*COUNTRY_INFO!F181+0.2*COUNTRY_INFO!G181),IF(COUNTRY_INFO!K181=3,COUNTRY_INFO!G181/(COUNTRY_INFO!F181+COUNTRY_INFO!G181)))),0)","v":0.56496513270333693},{"$f":"MAX(COUNTRY_INFO!D181*AK181*PROFILE!$G$7,COUNTRY_INFO!D181*AL181*PROFILE!$G$7)","v":0},{"$f":"MAX(COUNTRY_INFO!D181*AK181*PROFILE!$G$8,COUNTRY_INFO!D181*AL181*PROFILE!$G$8,COUNTRY_INFO!D181*AM181*PROFILE!$G$8)","v":25409.690866372282},{"$f":"MAX(COUNTRY_INFO!D181*AK181*PROFILE!$G$9,COUNTRY_INFO!D181*AL181*PROFILE!$G$9,COUNTRY_INFO!D181*AM181*PROFILE!$G$9,IF(AND(DISTRICT!Z181<>\"Unknown\",Z181<>\"Not required\"),COUNTRY_INFO!O181*DISTRICT!AN181,0))","v":49838.460130296793},{"$f":"MAX(COUNTRY_INFO!D181*AK181*PROFILE!$G$10,COUNTRY_INFO!D181*AL181*PROFILE!$G$10,IF(AND(DISTRICT!Z181<>\"Unknown\",Z181<>\"Not required\"),COUNTRY_INFO!O181*DISTRICT!AO181,0))","v":30478.399999999998},105726.55099666907,"Y",{"$f":"MAX('MDA2'!J181,'T1'!L181,'T2'!J181,T3_R1!K181,T3_R2!K181)","v":0},{"$f":"MAX('MDA1'!K181,'MDA2'!K181,'MDA3'!I181,'MDA3'!L181,'T1'!M181,'T2'!K181,T3_R1!L181,T3_R2!L181)","v":45410},{"$f":"MAX('MDA1'!L181,'MDA2'!L181,'MDA3'!J181,'MDA3'!M181,'T1'!N181,'T2'!L181,T3_R1!M181,T3_R2!M181)","v":0},45410,{"$f":"MAX('MDA2'!J181,T181)","v":0},{"$f":"MAX('MDA1'!K181,'MDA2'!K181,'MDA3'!I181,'MDA3'!L181,V181,AD181)","v":45410},{"$f":"MAX('MDA1'!L181,'MDA2'!L181,'MDA3'!J181,'MDA3'!M181,AF181)","v":0},45410,42.950422171087986]
[{"$f":"IF(COUNTRY_INFO!A182=0,\" \",COUNTRY_INFO!A182)","v":"Tanzania"},{"$f":"IF(COUNTRY_INFO!B182=0,\" \",COUNTRY_INFO!B182)","v":"Tabora"},{"$f":"IF(COUNTRY_INFO!C182=0,\" \",COUNTRY_INFO!C182)","v":"Uyui District Council"},{"$f":"COUNTRY_INFO!L182","v":"Stopped"},null,null,{"$f":"MAX('MDA1'!M182,'MDA2'!M182)","v":0},{"$f":"IF(AND(COUNTRY_INFO!H182>0,COUNTRY_INFO!H182<4),IF(D182>MAX('MDA1'!M182,'MDA2'!M182),MAX('MDA1'!M182,'MDA2'!M182),D182),0)","v":0},{"$f":"IF(AND(COUNTRY_INFO!H182>0,COUNTRY_INFO!H182<4), IF(G182/D182*100<>0, IF(G182/D182*100>100,100,G182/D182*100), \"-\"),0)","v":0},{"$f":"COUNTRY_INFO!M182","v":0},null,null,{"$f":"MAX('MDA1'!M182,MAX('MDA3'!I182,'MDA3'!L182)+MAX('MDA3'!J182,'MDA3'!M182))","v":0},{"$f":"IF(AND(COUNTRY_INFO!I182>0,COUNTRY_INFO!I182<4),IF(J182>MAX('MDA1'!M182,MAX('MDA3'!I182,'MDA3'!L182)+MAX('MDA3'!J182,'MDA3'!M182)),MAX('MDA1'!M182,MAX('MDA3'!I182,'MDA3'!L182)+MAX('MDA3'!J182,'MDA3'!M182)),J182),0)","v":0},{"$f":"IF(AND(COUNTRY_INFO!I182>0,COUNTRY_INFO!I182<4), IF(M182/J182*100<>0, IF(M182/J182*100>100,100,M182/J182*100), \"-\"),0)","v":0},{"$f":"COUNTRY_INFO!N182","v":159543},null,null,{"$f":"SUM(MAX('MDA2'!J182, 'T1'!L182, MAX(T3_R1!K182, T3_R2!K182)), MAX('MDA1'!K182, 'MDA2'!K182, 'T1'!M182, MAX(T3_R1!L182, T3_R2!L182)), MAX('MDA1'!L182, 'MDA2'!L182, 'T1'!N182, MAX(T3_R1!M182, T3_R2!M182)))","v":91530},{"$f":"IF(AND(COUNTRY_INFO!J182>1,COUNTRY_INFO!J182<4),IF(COUNTRY_INFO!E182>MAX('MDA2'!J182,'T1'!L182,MAX(T3_R1!K182,T3_R2!K182)),MAX('MDA2'!J182,'T1'!L182,MAX(T3_R1!K182,T3_R2!K182)),COUNTRY_INFO!E182),0)","v":0},{"$f":"IF(AND(COUNTRY_INFO!J182>1,COUNTRY_INFO!J182<4), IF(T182/COUNTRY_INFO!E182*100<>0, IF(T182/COUNTRY_INFO!E182*100>100,100,T182/COUNTRY_INFO!E182*100), \"-\"),0)","v":"-"},{"$f":"IF(AND(COUNTRY_INFO!J182>1,COUNTRY_INFO!J182<4),IF(COUNTRY_INFO!F182>MAX('MDA1'!K182,'MDA2'!K182,'T1'!M182,MAX(T3_R1!L182,T3_R2!L182)),MAX('MDA1'!K182,'MDA2'!K182,'T1'!M182,MAX(T3_R1!L182,T3_R2!L182)),COUNTRY_INFO!F182),0)","v":91530},{"$f":"IF(AND(COUNTRY_INFO!J182>1,COUNTRY_INFO!J182<4), IF(V182/COUNTRY_INFO!F182*100<>0, IF(V182/COUNTRY_INFO!F182*100>100,100,V182/COUNTRY_INFO!F182*100), \"-\"),0)","v":92.637012296948541},91530,{"$f":"IF(AND(COUNTRY_INFO!J182>1,COUNTRY_INFO!J182<4), IF(S182/P182*100<>0, IF(X182/P182*100>100,100,X182/P182*100), \"-\"),0)","v":57.37011338635979},{"$f":"COUNTRY_INFO!O182","v":111661.3},null,null,{"$f":"MAX('T1'!L182,'T2'!J182)+MAX('T1'!M182,'T2'!K182)+MAX('T1'!N182,'T2'!L182)","v":91530},{"$f":"IF(COUNTRY_INFO!K182=1,IF(COUNTRY_INFO!F182*0.33>MAX('T1'!M182,'T2'!K182),MAX('T1'!M182,'T2'!K182),COUNTRY_INFO!F182*0.33),IF(COUNTRY_INFO!K182=2,IF(COUNTRY_INFO!F182*0.5>MAX('T1'!M182,'T2'!K182),MAX('T1'!M182,'T2'!K182),COUNTRY_INFO!F182*0.5),IF(COUNTRY_INFO!K182=3,IF(COUNTRY_INFO!F182>MAX('T1'!M182,'T2'!K182),MAX('T1'!M182,'T2'!K182),COUNTRY_INFO!F182),0)))","v":49402.5},{"$f":"IF(AND(COUNTRY_INFO!K182>0,COUNTRY_INFO!K182<4),IF(Z182>0,IF(COUNTRY_INFO!K182=1, AD182/(COUNTRY_INFO!F182*0.33)*100, IF(COUNTRY_INFO!K182=2, AD182/(COUNTRY_INFO!F182*0.5)*100, IF(COUNTRY_INFO!K182=3, AD182/COUNTRY_INFO!F182*100))),\"-\"),0)","v":100},{"$f":"IF(COUNTRY_INFO!K182=2,IF(COUNTRY_INFO!G182*0.2>MAX('T1'!N182,'T2'!L182),MAX('T1'!N182,'T2'!L182),COUNTRY_INFO!G182*0.2),IF(COUNTRY_INFO!K182=3,IF(COUNTRY_INFO!G182>MAX('T1'!N182,'T2'!L182),MAX('T1'!N182,'T2'!L182),COUNTRY_INFO!G182),0))","v":0},{"$f":"IF(AND(COUNTRY_INFO!K182>0,COUNTRY_INFO!K182<4),IF(Z182>0,IF(COUNTRY_INFO!K182=1, 0, IF(COUNTRY_INFO!K182=2, AF182/(COUNTRY_INFO!G182*0.2)*100, IF(COUNTRY_INFO!K182=3, AF182/COUNTRY_INFO!G182*100))),\"-\"),0)","v":0},49402.5,{"$f":"IF(AND(COUNTRY_INFO!K182>0,COUNTRY_INFO!K182<4), IF(AC182/Z182*100<>0, IF(AH182/Z182*100>100,100,AH182/Z182*100), \"-\"),0)","v":44.243171089715055},null,{"$f":"IF(AND(D182<>0, D182<>\"Unknown\",D182<>\"Stopped\",D182<>\"Not required\"),D182/COUNTRY_INFO!D182, 0)","v":0},{"$f":"IF(AND(J182<>0,J182<>\"Unknown\",J182<>\"Stopped\",J182<>\"Not required\"),J182/COUNTRY_INFO!D182, 0)","v":0},{"$f":"IF(AND(P182<>0,P182<>\"Unknown\",P182<>\"Not required\"),P182/(COUNTRY_INFO!E182+COUNTRY_INFO!F182), 0)","v":1},{"$f":"IF(AND(Z182<>0,Z182<>\"Unknown\",Z182<>\"Not required\"),IF(COUNTRY_INFO!K182=1,1,IF(COUNTRY_INFO!K182=2,0.5*COUNTRY_INFO!F182/(0.5*COUNTRY_INFO!F182+0.2*COUNTRY_INFO!G182),IF(COUNTRY_INFO!K182=3,COUNTRY_INFO!F182/(COUNTRY_INFO!F182+COUNTRY_INFO!G182)))),0)","v":0.44243171089715055},{"$f":"IF(AND(Z182<>0,Z182<>\"Unknown\",Z182<>\"Not required\"),IF(COUNTRY_INFO!K182=1,0,IF(COUNTRY_INFO!K182=2,0.2*COUNTRY_INFO!G182/(0.5*COUNTRY_INFO!F182+0.2*COUNTRY_INFO!G182),IF(COUNTRY_INFO!K182=3,COUNTRY_INFO!G182/(COUNTRY_INFO!F182+COUNTRY_INFO!G182)))),0)","v":0.55756828910284939},{"$f":"MAX(COUNTRY_INFO!D182*AK182*PROFILE!$G$7,COUNTRY_INFO!D182*AL182*PROFILE!$G$7)","v":0},{"$f":"MAX(COUNTRY_INFO!D182*AK182*PROFILE!$G$8,COUNTRY_INFO!D182*AL182*PROFILE!$G$8,COUNTRY_INFO!D182*AM182*PROFILE!$G$8)","v":52277.32482619903},{"$f":"MAX(COUNTRY_INFO!D182*AK182*PROFILE!$G$9,COUNTRY_INFO!D182*AL182*PROFILE!$G$9,COUNTRY_INFO!D182*AM182*PROFILE!$G$9,IF(AND(DISTRICT!Z182<>\"Unknown\",Z182<>\"Not required\"),COUNTRY_INFO!O182*DISTRICT!AN182,0))","v":102536.52367401149},{"$f":"MAX(COUNTRY_INFO!D182*AK182*PROFILE!$G$10,COUNTRY_INFO!D182*AL182*PROFILE!$G$10,IF(AND(DISTRICT!Z182<>\"Unknown\",Z182<>\"Not required\"),COUNTRY_INFO!O182*DISTRICT!AO182,0))","v":62258.799999999996},217072.64850021052,"Y",{"$f":"MAX('MDA2'!J182,'T1'!L182,'T2'!J182,T3_R1!K182,T3_R2!K182)","v":0},{"$f":"MAX('MDA1'!K182,'MDA2'!K182,'MDA3'!I182,'MDA3'!L182,'T1'!M182,'T2'!K182,T3_R1!L182,T3_R2!L182)","v":91530},{"$f":"MAX('MDA1'!L182,'MDA2'!L182,'MDA3'!J182,'MDA3'!M182,'T1'!N182,'T2'!L182,T3_R1!M182,T3_R2!M182)","v":0},91530,{"$f":"MAX('MDA2'!J182,T182)","v":0},{"$f":"MAX('MDA1'!K182,'MDA2'!K182,'MDA3'!I182,'MDA3'!L182,V182,AD182)","v":91530},{"$f":"MAX('MDA1'!L182,'MDA2'!L182,'MDA3'!J182,'MDA3'!M182,AF182)","v":0},91530,42.165607059385572]
[{"$f":"IF(COUNTRY_INFO!A183=0,\" \",COUNTRY_INFO!A183)","v":"Tanzania"},{"$f":"IF(COUNTRY_INFO!B183=0,\" \",COUNTRY_INFO!B183)","v":"Tanga"},{"$f":"IF(COUNTRY_INFO!C183=0,\" \",COUNTRY_INFO!C183)","v":"Bumbuli District Council"},{"$f":"COUNTRY_INFO!L183","v":"Stopped"},null,null,{"$f":"MAX('MDA1'!M183,'MDA2'!M183)","v":0},{"$f":"IF(AND(COUNTRY_INFO!H183>0,COUNTRY_INFO!H183<4),IF(D183>MAX('MDA1'!M183,'MDA2'!M183),MAX('MDA1'!M183,'MDA2'!M183),D183),0)","v":0},{"$f":"IF(AND(COUNTRY_INFO!H183>0,COUNTRY_INFO!H183<4), IF(G183/D183*100<>0, IF(G183/D183*100>100,100,G183/D183*100), \"-\"),0)","v":0},{"$f":"COUNTRY_INFO!M183","v":182322},null,null,{"$f":"MAX('MDA1'!M183,MAX('MDA3'!I183,'MDA3'!L183)+MAX('MDA3'!J183,'MDA3'!M183))","v":134571},{"$f":"IF(AND(COUNTRY_INFO!I183>0,COUNTRY_INFO!I183<4),IF(J183>MAX('MDA1'!M183,MAX('MDA3'!I183,'MDA3'!L183)+MAX('MDA3'!J183,'MDA3'!M183)),MAX('MDA1'!M183,MAX('MDA3'!I183,'MDA3'!L183)+MAX('MDA3'!J183,'MDA3'!M183)),J183),0)","v":134571},{"$f":"IF(AND(COUNTRY_INFO!I183>0,COUNTRY_INFO!I183<4), IF(M183/J183*100<>0, IF(M183/J183*100>100,100,M183/J183*100), \"-\"),0)","v":73.80952380952381},{"$f":"COUNTRY_INFO!N183","v":64994},null,null,{"$f":"SUM(MAX('MDA2'!J183, 'T1'!L183, MAX(T3_R1!K183, T3_R2!K183)), MAX('MDA1'!K183, 'MDA2'!K183, 'T1'!M183, MAX(T3_R1!L183, T3_R2!L183)), MAX('MDA1'!L183, 'MDA2'!L183, 'T1'!N183, MAX(T3_R1!M183, T3_R2!M183)))","v":42571},{"$f":"IF(AND(COUNTRY_INFO!J183>1,COUNTRY_INFO!J183<4),IF(COUNTRY_INFO!E183>MAX('MDA2'!J183,'T1'!L183,MAX(T3_R1!K183,T3_R2!K183)),MAX('MDA2'!J183,'T1'!L183,MAX(T3_R1!K183,T3_R2!K183)),COUNTRY_INFO!E183),0)","v":0},{"$f":"IF(AND(COUNTRY_INFO!J183>1,COUNTRY_INFO!J183<4), IF(T183/COUNTRY_INFO!E183*100<>0, IF(T183/COUNTRY_INFO!E183*100>100,100,T183/COUNTRY_INFO!E183*100), \"-\"),0)","v":"-"},{"$f":"IF(AND(COUNTRY_INFO!J183>1,COUNTRY_INFO!J183<4),IF(COUNTRY_INFO!F183>MAX('MDA1'!K183,'MDA2'!K183,'T1'!M183,MAX(T3_R1!L183,T3_R2!L183)),MAX('MDA1'!K183,'MDA2'!K183,'T1'!M183,MAX(T3_R1!L183,T3_R2!L183)),COUNTRY_INFO!F183),0)","v":42571},{"$f":"IF(AND(COUNTRY_INFO!J183>1,COUNTRY_INFO!J183<4), IF(V183/COUNTRY_INFO!F183*100<>0, IF(V183/COUNTRY_INFO!F183*100>100,100,V183/COUNTRY_INFO!F183*100), \"-\"),0)","v":96.170876067410646},42571,{"$f":"IF(AND(COUNTRY_INFO!J183>1,COUNTRY_INFO!J183<4), IF(S183/P183*100<>0, IF(X183/P183*100>100,100,X183/P183*100), \"-\"),0)","v":65.499892297750563},{"$f":"COUNTRY_INFO!O183","v":45598.600000000006},null,null,{"$f":"MAX('T1'!L183,'T2'!J183)+MAX('T1'!M183,'T2'!K183)+MAX('T1'!N183,'T2'!L183)","v":42571},{"$f":"IF(COUNTRY_INFO!K183=1,IF(COUNTRY_INFO!F183*0.33>MAX('T1'!M183,'T2'!K183),MAX('T1'!M183,'T2'!K183),COUNTRY_INFO!F183*0.33),IF(COUNTRY_INFO!K183=2,IF(COUNTRY_INFO!F183*0.5>MAX('T1'!M183,'T2'!K183),MAX('T1'!M183,'T2'!K183),COUNTRY_INFO!F183*0.5),IF(COUNTRY_INFO!K183=3,IF(COUNTRY_INFO!F183>MAX('T1'!M183,'T2'!K183),MAX('T1'!M183,'T2'!K183),COUNTRY_INFO!F183),0)))","v":22133},{"$f":"IF(AND(COUNTRY_INFO!K183>0,COUNTRY_INFO!K183<4),IF(Z183>0,IF(COUNTRY_INFO!K183=1, AD183/(COUNTRY_INFO!F183*0.33)*100, IF(COUNTRY_INFO!K183=2, AD183/(COUNTRY_INFO!F183*0.5)*100, IF(COUNTRY_INFO!K183=3, AD183/COUNTRY_INFO!F183*100))),\"-\"),0)","v":100},{"$f":"IF(COUNTRY_INFO!K183=2,IF(COUNTRY_INFO!G183*0.2>MAX('T1'!N183,'T2'!L183),MAX('T1'!N183,'T2'!L183),COUNTRY_INFO!G183*0.2),IF(COUNTRY_INFO!K183=3,IF(COUNTRY_INFO!G183>MAX('T1'!N183,'T2'!L183),MAX('T1'!N183,'T2'!L183),COUNTRY_INFO!G183),0))","v":0},{"$f":"IF(AND(COUNTRY_INFO!K183>0,COUNTRY_INFO!K183<4),IF(Z183>0,IF(COUNTRY_INFO!K183=1, 0, IF(COUNTRY_INFO!K183=2, AF183/(COUNTRY_INFO!G183*0.2)*100, IF(COUNTRY_INFO!K183=3, AF183/COUNTRY_INFO!G183*100))),\"-\"),0)","v":0},22133,{"$f":"IF(AND(COUNTRY_INFO!K183>0,COUNTRY_INFO!K183<4), IF(AC183/Z183*100<>0, IF(AH183/Z183*100>100,100,AH183/Z183*100), \"-\"),0)","v":48.53877092717758},null,{"$f":"IF(AND(D183<>0, D183<>\"Unknown\",D183<>\"Stopped\",D183<>\"Not required\"),D183/COUNTRY_INFO!D183, 0)","v":0},{"$f":"IF(AND(J183<>0,J183<>\"Unknown\",J183<>\"Stopped\",J183<>\"Not required\"),J183/COUNTRY_INFO!D183, 0)","v":1},{"$f":"IF(AND(P183<>0,P183<>\"Unknown\",P183<>\"Not required\"),P183/(COUNTRY_INFO!E183+COUNTRY_INFO!F183), 0)","v":1},{"$f":"IF(AND(Z183<>0,Z183<>\"Unknown\",Z183<>\"Not required\"),IF(COUNTRY_INFO!K183=1,1,IF(COUNTRY_INFO!K183=2,0.5*COUNTRY_INFO!F183/(0.5*COUNTRY_INFO!F183+0.2*COUNTRY_INFO!G183),IF(COUNTRY_INFO!K183=3,COUNTRY_INFO!F183/(COUNTRY_INFO!F183+COUNTRY_INFO!G183)))),0)","v":0.48538770927177582},{"$f":"IF(AND(Z183<>0,Z183<>\"Unknown\",Z183<>\"Not required\"),IF(COUNTRY_INFO!K183=1,0,IF(COUNTRY_INFO!K183=2,0.2*COUNTRY_INFO!G183/(0.5*COUNTRY_INFO!F183+0.2*COUNTRY_INFO!G183),IF(COUNTRY_INFO!K183=3,COUNTRY_INFO!G183/(COUNTRY_INFO!F183+COUNTRY_INFO!G183)))),0)","v":0.51461229072822412},{"$f":"MAX(COUNTRY_INFO!D183*AK183*PROFILE!$G$7,COUNTRY_INFO!D183*AL183*PROFILE!$G$7)","v":0},{"$f":"MAX(COUNTRY_INFO!D183*AK183*PROFILE!$G$8,COUNTRY_INFO!D183*AL183*PROFILE!$G$8,COUNTRY_INFO!D183*AM183*PROFILE!$G$8)","v":20243.325008362255},{"$f":"MAX(COUNTRY_INFO!D183*AK183*PROFILE!$G$9,COUNTRY_INFO!D183*AL183*PROFILE!$G$9,COUNTRY_INFO!D183*AM183*PROFILE!$G$9,IF(AND(DISTRICT!Z183<>\"Unknown\",Z183<>\"Not required\"),COUNTRY_INFO!O183*DISTRICT!AN183,0))","v":39705.172000699014},{"$f":"MAX(COUNTRY_INFO!D183*AK183*PROFILE!$G$10,COUNTRY_INFO!D183*AL183*PROFILE!$G$10,IF(AND(DISTRICT!Z183<>\"Unknown\",Z183<>\"Not required\"),COUNTRY_INFO!O183*DISTRICT!AO183,0))","v":122373.5100228279},182322.00703188917,"Y",{"$f":"MAX('MDA2'!J183,'T1'!L183,'T2'!J183,T3_R1!K183,T3_R2!K183)","v":0},{"$f":"MAX('MDA1'!K183,'MDA2'!K183,'MDA3'!I183,'MDA3'!L183,'T1'!M183,'T2'!K183,T3_R1!L183,T3_R2!L183)","v":42571},{"$f":"MAX('MDA1'!L183,'MDA2'!L183,'MDA3'!J183,'MDA3'!M183,'T1'!N183,'T2'!L183,T3_R1!M183,T3_R2!M183)","v":108869},151440,{"$f":"MAX('MDA2'!J183,T183)","v":0},{"$f":"MAX('MDA1'!K183,'MDA2'!K183,'MDA3'!I183,'MDA3'!L183,V183,AD183)","v":42571},{"$f":"MAX('MDA1'!L183,'MDA2'!L183,'MDA3'!J183,'MDA3'!M183,AF183)","v":108869},151440,83.061832449832721]
[{"$f":"IF(COUNTRY_INFO!A184=0,\" \",COUNTRY_INFO!A184)","v":"Tanzania"},{"$f":"IF(COUNTRY_INFO!B184=0,\" \",COUNTRY_INFO!B184)","v":"Tanga"},{"$f":"IF(COUNTRY_INFO!C184=0,\" \",COUNTRY_INFO!C184)","v":"Handeni District Council"},{"$f":"COUNTRY_INFO!L184","v":"Stopped"},null,null,{"$f":"MAX('MDA1'!M184,'MDA2'!M184)","v":0},{"$f":"IF(AND(COUNTRY_INFO!H184>0,COUNTRY_INFO!H184<4),IF(D184>MAX('MDA1'!M184,'MDA2'!M184),MAX('MDA1'!M184,'MDA2'!M184),D184),0)","v":0},{"$f":"IF(AND(COUNTRY_INFO!H184>0,COUNTRY_INFO!H184<4), IF(G184/D184*100<>0, IF(G184/D184*100>100,100,G184/D184*100), \"-\"),0)","v":0},{"$f":"COUNTRY_INFO!M184","v":0},null,null,{"$f":"MAX('MDA1'!M184,MAX('MDA3'!I184,'MDA3'!L184)+MAX('MDA3'!J184,'MDA3'!M184))","v":0},{"$f":"IF(AND(COUNTRY_INFO!I184>0,COUNTRY_INFO!I184<4),IF(J184>MAX('MDA1'!M184,MAX('MDA3'!I184,'MDA3'!L184)+MAX('MDA3'!J184,'MDA3'!M184)),MAX('MDA1'!M184,MAX('MDA3'!I184,'MDA3'!L184)+MAX('MDA3'!J184,'MDA3'!M184)),J184),0)","v":0},{"$f":"IF(AND(COUNTRY_INFO!I184>0,COUNTRY_INFO!I184<4), IF(M184/J184*100<>0, IF(M184/J184*100>100,100,M184/J184*100), \"-\"),0)","v":0},{"$f":"COUNTRY_INFO!N184","v":105688},null,null,{"$f":"SUM(MAX('MDA2'!J184, 'T1'!L184, MAX(T3_R1!K184, T3_R2!K184)), MAX('MDA1'!K184, 'MDA2'!K184, 'T1'!M184, MAX(T3_R1!L184, T3_R2!L184)), MAX('MDA1'!L184, 'MDA2'!L184, 'T1'!N184, MAX(T3_R1!M184, T3_R2!M184)))","v":69298},{"$f":"IF(AND(COUNTRY_INFO!J184>1,COUNTRY_INFO!J184<4),IF(COUNTRY_INFO!E184>MAX('MDA2'!J184,'T1'!L184,MAX(T3_R1!K184,T3_R2!K184)),MAX('MDA2'!J184,'T1'!L184,MAX(T3_R1!K184,T3_R2!K184)),COUNTRY_INFO!E184),0)","v":0},{"$f":"IF(AND(COUNTRY_INFO!J184>1,COUNTRY_INFO!J184<4), IF(T184/COUNTRY_INFO!E184*100<>0, IF(T184/COUNTRY_INFO!E184*100>100,100,T184/COUNTRY_INFO!E184*100), \"-\"),0)","v":"-"},{"$f":"IF(AND(COUNTRY_INFO!J184>1,COUNTRY_INFO!J184<4),IF(COUNTRY_INFO!F184>MAX('MDA1'!K184,'MDA2'!K184,'T1'!M184,MAX(T3_R1!L184,T3_R2!L184)),MAX('MDA1'!K184,'MDA2'!K184,'T1'!M184,MAX(T3_R1!L184,T3_R2!L184)),COUNTRY_INFO!F184),0)","v":69298},{"$f":"IF(AND(COUNTRY_INFO!J184>1,COUNTRY_INFO!J184<4), IF(V184/COUNTRY_INFO!F184*100<>0, IF(V184/COUNTRY_INFO!F184*100>100,100,V184/COUNTRY_INFO!F184*100), \"-\"),0)","v":98.588703940816615},69298,{"$f":"IF(AND(COUNTRY_INFO!J184>1,COUNTRY_INFO!J184<4), IF(S184/P184*100<>0, IF(X184/P184*100>100,100,X184/P184*100), \"-\"),0)","v":65.568465672545599},{"$f":"COUNTRY_INFO!O184","v":77053.8},null,null,{"$f":"MAX('T1'!L184,'T2'!J184)+MAX('T1'!M184,'T2'!K184)+MAX('T1'!N184,'T2'!L184)","v":69298},{"$f":"IF(COUNTRY_INFO!K184=1,IF(COUNTRY_INFO!F184*0.33>MAX('T1'!M184,'T2'!K184),MAX('T1'!M184,'T2'!K184),COUNTRY_INFO!F184*0.33),IF(COUNTRY_INFO!K184=2,IF(COUNTRY_INFO!F184*0.5>MAX('T1'!M184,'T2'!K184),MAX('T1'!M184,'T2'!K184),COUNTRY_INFO!F184*0.5),IF(COUNTRY_INFO!K184=3,IF(COUNTRY_INFO!F184>MAX('T1'!M184,'T2'!K184),MAX('T1'!M184,'T2'!K184),COUNTRY_INFO!F184),0)))","v":35145},{"$f":"IF(AND(COUNTRY_INFO!K184>0,COUNTRY_INFO!K184<4),IF(Z184>0,IF(COUNTRY_INFO!K184=1, AD184/(COUNTRY_INFO!F184*0.33)*100, IF(COUNTRY_INFO!K184=2, AD184/(COUNTRY_INFO!F184*0.5)*100, IF(COUNTRY_INFO!K184=3, AD184/COUNTRY_INFO!F184*100))),\"-\"),0)","v":100},{"$f":"IF(COUNTRY_INFO!K184=2,IF(COUNTRY_INFO!G184*0.2>MAX('T1'!N184,'T2'!L184),MAX('T1'!N184,'T2'!L184),COUNTRY_INFO!G184*0.2),IF(COUNTRY_INFO!K184=3,IF(COUNTRY_INFO!G184>MAX('T1'!N184,'T2'!L184),MAX('T1'!N184,'T2'!L184),COUNTRY_INFO!G184),0))","v":0},{"$f":"IF(AND(COUNTRY_INFO!K184>0,COUNTRY_INFO!K184<4),IF(Z184>0,IF(COUNTRY_INFO!K184=1, 0, IF(COUNTRY_INFO!K184=2, AF184/(COUNTRY_INFO!G184*0.2)*100, IF(COUNTRY_INFO!K184=3, AF184/COUNTRY_INFO!G184*100))),\"-\"),0)","v":0},35145,{"$f":"IF(AND(COUNTRY_INFO!K184>0,COUNTRY_INFO!K184<4), IF(AC184/Z184*100<>0, IF(AH184/Z184*100>100,100,AH184/Z184*100), \"-\"),0)","v":45.610988685827301},null,{"$f":"IF(AND(D184<>0, D184<>\"Unknown\",D184<>\"Stopped\",D184<>\"Not required\"),D184/COUNTRY_INFO!D184, 0)","v":0},{"$f":"IF(AND(J184<>0,J184<>\"Unknown\",J184<>\"Stopped\",J184<>\"Not required\"),J184/COUNTRY_INFO!D184, 0)","v":0},{"$f":"IF(AND(P184<>0,P184<>\"Unknown\",P184<>\"Not required\"),P184/(COUNTRY_INFO!E184+COUNTRY_INFO!F184), 0)","v":1},{"$f":"IF(AND(Z184<>0,Z184<>\"Unknown\",Z184<>\"Not required\"),IF(COUNTRY_INFO!K184=1,1,IF(COUNTRY_INFO!K184=2,0.5*COUNTRY_INFO!F184/(0.5*COUNTRY_INFO!F184+0.2*COUNTRY_INFO!G184),IF(COUNTRY_INFO!K184=3,COUNTRY_INFO!F184/(COUNTRY_INFO!F184+COUNTRY_INFO!G184)))),0)","v":0.45610988685827303},{"$f":"IF(AND(Z184<>0,Z184<>\"Unknown\",Z184<>\"Not required\"),IF(COUNTRY_INFO!K184=1,0,IF(COUNTRY_INFO!K184=2,0.2*COUNTRY_INFO!G184/(0.5*COUNTRY_INFO!F184+0.2*COUNTRY_INFO!G184),IF(COUNTRY_INFO!K184=3,COUNTRY_INFO!G184/(COUNTRY_INFO!F184+COUNTRY_INFO!G184)))),0)","v":0.54389011314172697},{"$f":"MAX(COUNTRY_INFO!D184*AK184*PROFILE!$G$7,COUNTRY_INFO!D184*AL184*PROFILE!$G$7)","v":0},{"$f":"MAX(COUNTRY_INFO!D184*AK184*PROFILE!$G$8,COUNTRY_INFO!D184*AL184*PROFILE!$G$8,COUNTRY_INFO!D184*AM184*PROFILE!$G$8)","v":35000.404937616142},{"$f":"MAX(COUNTRY_INFO!D184*AK184*PROFILE!$G$9,COUNTRY_INFO!D184*AL184*PROFILE!$G$9,COUNTRY_INFO!D184*AM184*PROFILE!$G$9,IF(AND(DISTRICT!Z184<>\"Unknown\",Z184<>\"Not required\"),COUNTRY_INFO!O184*DISTRICT!AN184,0))","v":68649.646121281869},{"$f":"MAX(COUNTRY_INFO!D184*AK184*PROFILE!$G$10,COUNTRY_INFO!D184*AL184*PROFILE!$G$10,IF(AND(DISTRICT!Z184<>\"Unknown\",Z184<>\"Not required\"),COUNTRY_INFO!O184*DISTRICT!AO184,0))","v":41908.800000000003},145558.85105889803,"Y",{"$f":"MAX('MDA2'!J184,'T1'!L184,'T2'!J184,T3_R1!K184,T3_R2!K184)","v":0},{"$f":"MAX('MDA1'!K184,'MDA2'!K184,'MDA3'!I184,'MDA3'!L184,'T1'!M184,'T2'!K184,T3_R1!L184,T3_R2!L184)","v":69298},{"$f":"MAX('MDA1'!L184,'MDA2'!L184,'MDA3'!J184,'MDA3'!M184,'T1'!N184,'T2'!L184,T3_R1!M184,T3_R2!M184)","v":0},69298,{"$f":"MAX('MDA2'!J184,T184)","v":0},{"$f":"MAX('MDA1'!K184,'MDA2'!K184,'MDA3'!I184,'MDA3'!L184,V184,AD184)","v":69298},{"$f":"MAX('MDA1'!L184,'MDA2'!L184,'MDA3'!J184,'MDA3'!M184,AF184)","v":0},69298,47.60823508558726]
[{"$f":"IF(COUNTRY_INFO!A185=0,\" \",COUNTRY_INFO!A185)","v":"Tanzania"},{"$f":"IF(COUNTRY_INFO!B185=0,\" \",COUNTRY_INFO!B185)","v":"Tanga"},{"$f":"IF(COUNTRY_INFO!C185=0,\" \",COUNTRY_INFO!C185)","v":"Handeni Town Council"},{"$f":"COUNTRY_INFO!L185","v":"Stopped"},null,null,{"$f":"MAX('MDA1'!M185,'MDA2'!M185)","v":0},{"$f":"IF(AND(COUNTRY_INFO!H185>0,COUNTRY_INFO!H185<4),IF(D185>MAX('MDA1'!M185,'MDA2'!M185),MAX('MDA1'!M185,'MDA2'!M185),D185),0)","v":0},{"$f":"IF(AND(COUNTRY_INFO!H185>0,COUNTRY_INFO!H185<4), IF(G185/D185*100<>0, IF(G185/D185*100>100,100,G185/D185*100), \"-\"),0)","v":0},{"$f":"COUNTRY_INFO!M185","v":0},null,null,{"$f":"MAX('MDA1'!M185,MAX('MDA3'!I185,'MDA3'!L185)+MAX('MDA3'!J185,'MDA3'!M185))","v":0},{"$f":"IF(AND(COUNTRY_INFO!I185>0,COUNTRY_INFO!I185<4),IF(J185>MAX('MDA1'!M185,MAX('MDA3'!I185,'MDA3'!L185)+MAX('MDA3'!J185,'MDA3'!M185)),MAX('MDA1'!M185,MAX('MDA3'!I185,'MDA3'!L185)+MAX('MDA3'!J185,'MDA3'!M185)),J185),0)","v":0},{"$f":"IF(AND(COUNTRY_INFO!I185>0,COUNTRY_INFO!I185<4), IF(M185/J185*100<>0, IF(M185/J185*100>100,100,M185/J185*100), \"-\"),0)","v":0},{"$f":"COUNTRY_INFO!N185","v":29697},null,null,{"$f":"SUM(MAX('MDA2'!J185, 'T1'!L185, MAX(T3_R1!K185, T3_R2!K185)), MAX('MDA1'!K185, 'MDA2'!K185, 'T1'!M185, MAX(T3_R1!L185, T3_R2!L185)), MAX('MDA1'!L185, 'MDA2'!L185, 'T1'!N185, MAX(T3_R1!M185, T3_R2!M185)))","v":20619},{"$f":"IF(AND(COUNTRY_INFO!J185>1,COUNTRY_INFO!J185<4),IF(COUNTRY_INFO!E185>MAX('MDA2'!J185,'T1'!L185,MAX(T3_R1!K185,T3_R2!K185)),MAX('MDA2'!J185,'T1'!L185,MAX(T3_R1!K185,T3_R2!K185)),COUNTRY_INFO!E185),0)","v":0},{"$f":"IF(AND(COUNTRY_INFO!J185>1,COUNTRY_INFO!J185<4), IF(T185/COUNTRY_INFO!E185*100<>0, IF(T185/COUNTRY_INFO!E185*100>100,100,T185/COUNTRY_INFO!E185*100), \"-\"),0)","v":"-"},{"$f":"IF(AND(COUNTRY_INFO!J185>1,COUNTRY_INFO!J185<4),IF(COUNTRY_INFO!F185>MAX('MDA1'!K185,'MDA2'!K185,'T1'!M185,MAX(T3_R1!L185,T3_R2!L185)),MAX('MDA1'!K185,'MDA2'!K185,'T1'!M185,MAX(T3_R1!L185,T3_R2!L185)),COUNTRY_INFO!F185),0)","v":20619},{"$f":"IF(AND(COUNTRY_INFO!J185>1,COUNTRY_INFO!J185<4), IF(V185/COUNTRY_INFO!F185*100<>0, IF(V185/COUNTRY_INFO!F185*100>100,100,V185/COUNTRY_INFO!F185*100), \"-\"),0)","v":89.569939183318866},20619,{"$f":"IF(AND(COUNTRY_INFO!J185>1,COUNTRY_INFO!J185<4), IF(S185/P185*100<>0, IF(X185/P185*100>100,100,X185/P185*100), \"-\"),0)","v":69.431255682392162},{"$f":"COUNTRY_INFO!O185","v":23587},null,null,{"$f":"MAX('T1'!L185,'T2'!J185)+MAX('T1'!M185,'T2'!K185)+MAX('T1'!N185,'T2'!L185)","v":20619},{"$f":"IF(COUNTRY_INFO!K185=1,IF(COUNTRY_INFO!F185*0.33>MAX('T1'!M185,'T2'!K185),MAX('T1'!M185,'T2'!K185),COUNTRY_INFO!F185*0.33),IF(COUNTRY_INFO!K185=2,IF(COUNTRY_INFO!F185*0.5>MAX('T1'!M185,'T2'!K185),MAX('T1'!M185,'T2'!K185),COUNTRY_INFO!F185*0.5),IF(COUNTRY_INFO!K185=3,IF(COUNTRY_INFO!F185>MAX('T1'!M185,'T2'!K185),MAX('T1'!M185,'T2'!K185),COUNTRY_INFO!F185),0)))","v":11510},{"$f":"IF(AND(COUNTRY_INFO!K185>0,COUNTRY_INFO!K185<4),IF(Z185>0,IF(COUNTRY_INFO!K185=1, AD185/(COUNTRY_INFO!F185*0.33)*100, IF(COUNTRY_INFO!K185=2, AD185/(COUNTRY_INFO!F185*0.5)*100, IF(COUNTRY_INFO!K185=3, AD185/COUNTRY_INFO!F185*100))),\"-\"),0)","v":100},{"$f":"IF(COUNTRY_INFO!K185=2,IF(COUNTRY_INFO!G185*0.2>MAX('T1'!N185,'T2'!L185),MAX('T1'!N185,'T2'!L185),COUNTRY_INFO!G185*0.2),IF(COUNTRY_INFO!K185=3,IF(COUNTRY_INFO!G185>MAX('T1'!N185,'T2'!L185),MAX('T1'!N185,'T2'!L185),COUNTRY_INFO!G185),0))","v":0},{"$f":"IF(AND(COUNTRY_INFO!K185>0,COUNTRY_INFO!K185<4),IF(Z185>0,IF(COUNTRY_INFO!K185=1, 0, IF(COUNTRY_INFO!K185=2, AF185/(COUNTRY_INFO!G185*0.2)*100, IF(COUNTRY_INFO!K185=3, AF185/COUNTRY_INFO!G185*100))),\"-\"),0)","v":0},11510,{"$f":"IF(AND(COUNTRY_INFO!K185>0,COUNTRY_INFO!K185<4), IF(AC185/Z185*100<>0, IF(AH185/Z185*100>100,100,AH185/Z185*100), \"-\"),0)","v":48.798066731674226},null,{"$f":"IF(AND(D185<>0, D185<>\"Unknown\",D185<>\"Stopped\",D185<>\"Not required\"),D185/COUNTRY_INFO!D185, 0)","v":0},{"$f":"IF(AND(J185<>0,J185<>\"Unknown\",J185<>\"Stopped\",J185<>\"Not required\"),J185/COUNTRY_INFO!D185, 0)","v":0},{"$f":"IF(AND(P185<>0,P185<>\"Unknown\",P185<>\"Not required\"),P185/(COUNTRY_INFO!E185+COUNTRY_INFO!F185), 0)","v":1},{"$f":"IF(AND(Z185<>0,Z185<>\"Unknown\",Z185<>\"Not required\"),IF(COUNTRY_INFO!K185=1,1,IF(COUNTRY_INFO!K185=2,0.5*COUNTRY_INFO!F185/(0.5*COUNTRY_INFO!F185+0.2*COUNTRY_INFO!G185),IF(COUNTRY_INFO!K185=3,COUNTRY_INFO!F185/(COUNTRY_INFO!F185+COUNTRY_INFO!G185)))),0)","v":0.48798066731674228},{"$f":"IF(AND(Z185<>0,Z185<>\"Unknown\",Z185<>\"Not required\"),IF(COUNTRY_INFO!K185=1,0,IF(COUNTRY_INFO!K185=2,0.2*COUNTRY_INFO!G185/(0.5*COUNTRY_INFO!F185+0.2*COUNTRY_INFO!G185),IF(COUNTRY_INFO!K185=3,COUNTRY_INFO!G185/(COUNTRY_INFO!F185+COUNTRY_INFO!G185)))),0)","v":0.51201933268325772},{"$f":"MAX(COUNTRY_INFO!D185*AK185*PROFILE!$G$7,COUNTRY_INFO!D185*AL185*PROFILE!$G$7)","v":0},{"$f":"MAX(COUNTRY_INFO!D185*AK185*PROFILE!$G$8,COUNTRY_INFO!D185*AL185*PROFILE!$G$8,COUNTRY_INFO!D185*AM185*PROFILE!$G$8)","v":10001.86046337408},{"$f":"MAX(COUNTRY_INFO!D185*AK185*PROFILE!$G$9,COUNTRY_INFO!D185*AL185*PROFILE!$G$9,COUNTRY_INFO!D185*AM185*PROFILE!$G$9,IF(AND(DISTRICT!Z185<>\"Unknown\",Z185<>\"Not required\"),COUNTRY_INFO!O185*DISTRICT!AN185,0))","v":19617.606784518426},{"$f":"MAX(COUNTRY_INFO!D185*AK185*PROFILE!$G$10,COUNTRY_INFO!D185*AL185*PROFILE!$G$10,IF(AND(DISTRICT!Z185<>\"Unknown\",Z185<>\"Not required\"),COUNTRY_INFO!O185*DISTRICT!AO185,0))","v":12077},41696.467247892506,"Y",{"$f":"MAX('MDA2'!J185,'T1'!L185,'T2'!J185,T3_R1!K185,T3_R2!K185)","v":0},{"$f":"MAX('MDA1'!K185,'MDA2'!K185,'MDA3'!I185,'MDA3'!L185,'T1'!M185,'T2'!K185,T3_R1!L185,T3_R2!L185)","v":20619},{"$f":"MAX('MDA1'!L185,'MDA2'!L185,'MDA3'!J185,'MDA3'!M185,'T1'!N185,'T2'!L185,T3_R1!M185,T3_R2!M185)","v":0},20619,{"$f":"MAX('MDA2'!J185,T185)","v":0},{"$f":"MAX('MDA1'!K185,'MDA2'!K185,'MDA3'!I185,'MDA3'!L185,V185,AD185)","v":20619},{"$f":"MAX('MDA1'!L185,'MDA2'!L185,'MDA3'!J185,'MDA3'!M185,AF185)","v":0},20619,49.450232503911131]
[{"$f":"IF(COUNTRY_INFO!A186=0,\" \",COUNTRY_INFO!A186)","v":"Tanzania"},{"$f":"IF(COUNTRY_INFO!B186=0,\" \",COUNTRY_INFO!B186)","v":"Tanga"},{"$f":"IF(COUNTRY_INFO!C186=0,\" \",COUNTRY_INFO!C186)","v":"Kilindi District Council"},{"$f":"COUNTRY_INFO!L186","v":"Stopped"},null,null,{"$f":"MAX('MDA1'!M186,'MDA2'!M186)","v":0},{"$f":"IF(AND(COUNTRY_INFO!H186>0,COUNTRY_INFO!H186<4),IF(D186>MAX('MDA1'!M186,'MDA2'!M186),MAX('MDA1'!M186,'MDA2'!M186),D186),0)","v":0},{"$f":"IF(AND(COUNTRY_INFO!H186>0,COUNTRY_INFO!H186<4), IF(G186/D186*100<>0, IF(G186/D186*100>100,100,G186/D186*100), \"-\"),0)","v":0},{"$f":"COUNTRY_INFO!M186","v":0},null,null,{"$f":"MAX('MDA1'!M186,MAX('MDA3'!I186,'MDA3'!L186)+MAX('MDA3'!J186,'MDA3'!M186))","v":0},{"$f":"IF(AND(COUNTRY_INFO!I186>0,COUNTRY_INFO!I186<4),IF(J186>MAX('MDA1'!M186,MAX('MDA3'!I186,'MDA3'!L186)+MAX('MDA3'!J186,'MDA3'!M186)),MAX('MDA1'!M186,MAX('MDA3'!I186,'MDA3'!L186)+MAX('MDA3'!J186,'MDA3'!M186)),J186),0)","v":0},{"$f":"IF(AND(COUNTRY_INFO!I186>0,COUNTRY_INFO!I186<4), IF(M186/J186*100<>0, IF(M186/J186*100>100,100,M186/J186*100), \"-\"),0)","v":0},{"$f":"COUNTRY_INFO!N186","v":89149},null,null,{"$f":"SUM(MAX('MDA2'!J186, 'T1'!L186, MAX(T3_R1!K186, T3_R2!K186)), MAX('MDA1'!K186, 'MDA2'!K186, 'T1'!M186, MAX(T3_R1!L186, T3_R2!L186)), MAX('MDA1'!L186, 'MDA2'!L186, 'T1'!N186, MAX(T3_R1!M186, T3_R2!M186)))","v":49170},{"$f":"IF(AND(COUNTRY_INFO!J186>1,COUNTRY_INFO!J186<4),IF(COUNTRY_INFO!E186>MAX('MDA2'!J186,'T1'!L186,MAX(T3_R1!K186,T3_R2!K186)),MAX('MDA2'!J186,'T1'!L186,MAX(T3_R1!K186,T3_R2!K186)),COUNTRY_INFO!E186),0)","v":0},{"$f":"IF(AND(COUNTRY_INFO!J186>1,COUNTRY_INFO!J186<4), IF(T186/COUNTRY_INFO!E186*100<>0, IF(T186/COUNTRY_INFO!E186*100>100,100,T186/COUNTRY_INFO!E186*100), \"-\"),0)","v":"-"},{"$f":"IF(AND(COUNTRY_INFO!J186>1,COUNTRY_INFO!J186<4),IF(COUNTRY_INFO!F186>MAX('MDA1'!K186,'MDA2'!K186,'T1'!M186,MAX(T3_R1!L186,T3_R2!L186)),MAX('MDA1'!K186,'MDA2'!K186,'T1'!M186,MAX(T3_R1!L186,T3_R2!L186)),COUNTRY_INFO!F186),0)","v":49170},{"$f":"IF(AND(COUNTRY_INFO!J186>1,COUNTRY_INFO!J186<4), IF(V186/COUNTRY_INFO!F186*100<>0, IF(V186/COUNTRY_INFO!F186*100>100,100,V186/COUNTRY_INFO!F186*100), \"-\"),0)","v":90.492491166077741},49170,{"$f":"IF(AND(COUNTRY_INFO!J186>1,COUNTRY_INFO!J186<4), IF(S186/P186*100<>0, IF(X186/P186*100>100,100,X186/P186*100), \"-\"),0)","v":55.154853111083689},{"$f":"COUNTRY_INFO!O186","v":63311.4},null,null,{"$f":"MAX('T1'!L186,'T2'!J186)+MAX('T1'!M186,'T2'!K186)+MAX('T1'!N186,'T2'!L186)","v":49170},{"$f":"IF(COUNTRY_INFO!K186=1,IF(COUNTRY_INFO!F186*0.33>MAX('T1'!M186,'T2'!K186),MAX('T1'!M186,'T2'!K186),COUNTRY_INFO!F186*0.33),IF(COUNTRY_INFO!K186=2,IF(COUNTRY_INFO!F186*0.5>MAX('T1'!M186,'T2'!K186),MAX('T1'!M186,'T2'!K186),COUNTRY_INFO!F186*0.5),IF(COUNTRY_INFO!K186=3,IF(COUNTRY_INFO!F186>MAX('T1'!M186,'T2'!K186),MAX('T1'!M186,'T2'!K186),COUNTRY_INFO!F186),0)))","v":27168},{"$f":"IF(AND(COUNTRY_INFO!K186>0,COUNTRY_INFO!K186<4),IF(Z186>0,IF(COUNTRY_INFO!K186=1, AD186/(COUNTRY_INFO!F186*0.33)*100, IF(COUNTRY_INFO!K186=2, AD186/(COUNTRY_INFO!F186*0.5)*100, IF(COUNTRY_INFO!K186=3, AD186/COUNTRY_INFO!F186*100))),\"-\"),0)","v":100},{"$f":"IF(COUNTRY_INFO!K186=2,IF(COUNTRY_INFO!G186*0.2>MAX('T1'!N186,'T2'!L186),MAX('T1'!N186,'T2'!L186),COUNTRY_INFO!G186*0.2),IF(COUNTRY_INFO!K186=3,IF(COUNTRY_INFO!G186>MAX('T1'!N186,'T2'!L186),MAX('T1'!N186,'T2'!L186),COUNTRY_INFO!G186),0))","v":0},{"$f":"IF(AND(COUNTRY_INFO!K186>0,COUNTRY_INFO!K186<4),IF(Z186>0,IF(COUNTRY_INFO!K186=1, 0, IF(COUNTRY_INFO!K186=2, AF186/(COUNTRY_INFO!G186*0.2)*100, IF(COUNTRY_INFO!K186=3, AF186/COUNTRY_INFO!G186*100))),\"-\"),0)","v":0},27168,{"$f":"IF(AND(COUNTRY_INFO!K186>0,COUNTRY_INFO!K186<4), IF(AC186/Z186*100<>0, IF(AH186/Z186*100>100,100,AH186/Z186*100), \"-\"),0)","v":42.911703105601831},null,{"$f":"IF(AND(D186<>0, D186<>\"Unknown\",D186<>\"Stopped\",D186<>\"Not required\"),D186/COUNTRY_INFO!D186, 0)","v":0},{"$f":"IF(AND(J186<>0,J186<>\"Unknown\",J186<>\"Stopped\",J186<>\"Not required\"),J186/COUNTRY_INFO!D186, 0)","v":0},{"$f":"IF(AND(P186<>0,P186<>\"Unknown\",P186<>\"Not required\"),P186/(COUNTRY_INFO!E186+COUNTRY_INFO!F186), 0)","v":1},{"$f":"IF(AND(Z186<>0,Z186<>\"Unknown\",Z186<>\"Not required\"),IF(COUNTRY_INFO!K186=1,1,IF(COUNTRY_INFO!K186=2,0.5*COUNTRY_INFO!F186/(0.5*COUNTRY_INFO!F186+0.2*COUNTRY_INFO!G186),IF(COUNTRY_INFO!K186=3,COUNTRY_INFO!F186/(COUNTRY_INFO!F186+COUNTRY_INFO!G186)))),0)","v":0.42911703105601834},{"$f":"IF(AND(Z186<>0,Z186<>\"Unknown\",Z186<>\"Not required\"),IF(COUNTRY_INFO!K186=1,0,IF(COUNTRY_INFO!K186=2,0.2*COUNTRY_INFO!G186/(0.5*COUNTRY_INFO!F186+0.2*COUNTRY_INFO!G186),IF(COUNTRY_INFO!K186=3,COUNTRY_INFO!G186/(COUNTRY_INFO!F186+COUNTRY_INFO!G186)))),0)","v":0.57088296894398172},{"$f":"MAX(COUNTRY_INFO!D186*AK186*PROFILE!$G$7,COUNTRY_INFO!D186*AL186*PROFILE!$G$7)","v":0},{"$f":"MAX(COUNTRY_INFO!D186*AK186*PROFILE!$G$8,COUNTRY_INFO!D186*AL186*PROFILE!$G$8,COUNTRY_INFO!D186*AM186*PROFILE!$G$8)","v":29963.38975387879},{"$f":"MAX(COUNTRY_INFO!D186*AK186*PROFILE!$G$9,COUNTRY_INFO!D186*AL186*PROFILE!$G$9,COUNTRY_INFO!D186*AM186*PROFILE!$G$9,IF(AND(DISTRICT!Z186<>\"Unknown\",Z186<>\"Not required\"),COUNTRY_INFO!O186*DISTRICT!AN186,0))","v":58770.065856784371},{"$f":"MAX(COUNTRY_INFO!D186*AK186*PROFILE!$G$10,COUNTRY_INFO!D186*AL186*PROFILE!$G$10,IF(AND(DISTRICT!Z186<>\"Unknown\",Z186<>\"Not required\"),COUNTRY_INFO!O186*DISTRICT!AO186,0))","v":36143.4},124876.85561066316,"Y",{"$f":"MAX('MDA2'!J186,'T1'!L186,'T2'!J186,T3_R1!K186,T3_R2!K186)","v":0},{"$f":"MAX('MDA1'!K186,'MDA2'!K186,'MDA3'!I186,'MDA3'!L186,'T1'!M186,'T2'!K186,T3_R1!L186,T3_R2!L186)","v":49170},{"$f":"MAX('MDA1'!L186,'MDA2'!L186,'MDA3'!J186,'MDA3'!M186,'T1'!N186,'T2'!L186,T3_R1!M186,T3_R2!M186)","v":0},49170,{"$f":"MAX('MDA2'!J186,T186)","v":0},{"$f":"MAX('MDA1'!K186,'MDA2'!K186,'MDA3'!I186,'MDA3'!L186,V186,AD186)","v":49170},{"$f":"MAX('MDA1'!L186,'MDA2'!L186,'MDA3'!J186,'MDA3'!M186,AF186)","v":0},49170,39.374790276030467]
[{"$f":"IF(COUNTRY_INFO!A187=0,\" \",COUNTRY_INFO!A187)","v":"Tanzania"},{"$f":"IF(COUNTRY_INFO!B187=0,\" \",COUNTRY_INFO!B187)","v":"Tanga"},{"$f":"IF(COUNTRY_INFO!C187=0,\" \",COUNTRY_INFO!C187)","v":"Korogwe District Council"},{"$f":"COUNTRY_INFO!L187","v":275797},null,null,{"$f":"MAX('MDA1'!M187,'MDA2'!M187)","v":240167},{"$f":"IF(AND(COUNTRY_INFO!H187>0,COUNTRY_INFO!H187<4),IF(D187>MAX('MDA1'!M187,'MDA2'!M187),MAX('MDA1'!M187,'MDA2'!M187),D187),0)","v":240167},{"$f":"IF(AND(COUNTRY_INFO!H187>0,COUNTRY_INFO!H187<4), IF(G187/D187*100<>0, IF(G187/D187*100>100,100,G187/D187*100), \"-\"),0)","v":87.081077749214103},{"$f":"COUNTRY_INFO!M187","v":275797},null,null,{"$f":"MAX('MDA1'!M187,MAX('MDA3'!I187,'MDA3'!L187)+MAX('MDA3'!J187,'MDA3'!M187))","v":240167},{"$f":"IF(AND(COUNTRY_INFO!I187>0,COUNTRY_INFO!I187<4),IF(J187>MAX('MDA1'!M187,MAX('MDA3'!I187,'MDA3'!L187)+MAX('MDA3'!J187,'MDA3'!M187)),MAX('MDA1'!M187,MAX('MDA3'!I187,'MDA3'!L187)+MAX('MDA3'!J187,'MDA3'!M187)),J187),0)","v":240167},{"$f":"IF(AND(COUNTRY_INFO!I187>0,COUNTRY_INFO!I187<4), IF(M187/J187*100<>0, IF(M187/J187*100>100,100,M187/J187*100), \"-\"),0)","v":87.081077749214103},{"$f":"COUNTRY_INFO!N187","v":91440},null,null,{"$f":"SUM(MAX('MDA2'!J187, 'T1'!L187, MAX(T3_R1!K187, T3_R2!K187)), MAX('MDA1'!K187, 'MDA2'!K187, 'T1'!M187, MAX(T3_R1!L187, T3_R2!L187)), MAX('MDA1'!L187, 'MDA2'!L187, 'T1'!N187, MAX(T3_R1!M187, T3_R2!M187)))","v":248377.103},{"$f":"IF(AND(COUNTRY_INFO!J187>1,COUNTRY_INFO!J187<4),IF(COUNTRY_INFO!E187>MAX('MDA2'!J187,'T1'!L187,MAX(T3_R1!K187,T3_R2!K187)),MAX('MDA2'!J187,'T1'!L187,MAX(T3_R1!K187,T3_R2!K187)),COUNTRY_INFO!E187),0)","v":0},{"$f":"IF(AND(COUNTRY_INFO!J187>1,COUNTRY_INFO!J187<4), IF(T187/COUNTRY_INFO!E187*100<>0, IF(T187/COUNTRY_INFO!E187*100>100,100,T187/COUNTRY_INFO!E187*100), \"-\"),0)","v":"-"},{"$f":"IF(AND(COUNTRY_INFO!J187>1,COUNTRY_INFO!J187<4),IF(COUNTRY_INFO!F187>MAX('MDA1'!K187,'MDA2'!K187,'T1'!M187,MAX(T3_R1!L187,T3_R2!L187)),MAX('MDA1'!K187,'MDA2'!K187,'T1'!M187,MAX(T3_R1!L187,T3_R2!L187)),COUNTRY_INFO!F187),0)","v":54082},{"$f":"IF(AND(COUNTRY_INFO!J187>1,COUNTRY_INFO!J187<4), IF(V187/COUNTRY_INFO!F187*100<>0, IF(V187/COUNTRY_INFO!F187*100>100,100,V187/COUNTRY_INFO!F187*100), \"-\"),0)","v":96.813576313057183},54082,{"$f":"IF(AND(COUNTRY_INFO!J187>1,COUNTRY_INFO!J187<4), IF(S187/P187*100<>0, IF(X187/P187*100>100,100,X187/P187*100), \"-\"),0)","v":59.144794400699908},{"$f":"COUNTRY_INFO!O187","v":64802.400000000001},null,null,{"$f":"MAX('T1'!L187,'T2'!J187)+MAX('T1'!M187,'T2'!K187)+MAX('T1'!N187,'T2'!L187)","v":54082},{"$f":"IF(COUNTRY_INFO!K187=1,IF(COUNTRY_INFO!F187*0.33>MAX('T1'!M187,'T2'!K187),MAX('T1'!M187,'T2'!K187),COUNTRY_INFO!F187*0.33),IF(COUNTRY_INFO!K187=2,IF(COUNTRY_INFO!F187*0.5>MAX('T1'!M187,'T2'!K187),MAX('T1'!M187,'T2'!K187),COUNTRY_INFO!F187*0.5),IF(COUNTRY_INFO!K187=3,IF(COUNTRY_INFO!F187>MAX('T1'!M187,'T2'!K187),MAX('T1'!M187,'T2'!K187),COUNTRY_INFO!F187),0)))","v":27931},{"$f":"IF(AND(COUNTRY_INFO!K187>0,COUNTRY_INFO!K187<4),IF(Z187>0,IF(COUNTRY_INFO!K187=1, AD187/(COUNTRY_INFO!F187*0.33)*100, IF(COUNTRY_INFO!K187=2, AD187/(COUNTRY_INFO!F187*0.5)*100, IF(COUNTRY_INFO!K187=3, AD187/COUNTRY_INFO!F187*100))),\"-\"),0)","v":100},{"$f":"IF(COUNTRY_INFO!K187=2,IF(COUNTRY_INFO!G187*0.2>MAX('T1'!N187,'T2'!L187),MAX('T1'!N187,'T2'!L187),COUNTRY_INFO!G187*0.2),IF(COUNTRY_INFO!K187=3,IF(COUNTRY_INFO!G187>MAX('T1'!N187,'T2'!L187),MAX('T1'!N187,'T2'!L187),COUNTRY_INFO!G187),0))","v":0},{"$f":"IF(AND(COUNTRY_INFO!K187>0,COUNTRY_INFO!K187<4),IF(Z187>0,IF(COUNTRY_INFO!K187=1, 0, IF(COUNTRY_INFO!K187=2, AF187/(COUNTRY_INFO!G187*0.2)*100, IF(COUNTRY_INFO!K187=3, AF187/COUNTRY_INFO!G187*100))),\"-\"),0)","v":0},27931,{"$f":"IF(AND(COUNTRY_INFO!K187>0,COUNTRY_INFO!K187<4), IF(AC187/Z187*100<>0, IF(AH187/Z187*100>100,100,AH187/Z187*100), \"-\"),0)","v":43.101798698813624},null,{"$f":"IF(AND(D187<>0, D187<>\"Unknown\",D187<>\"Stopped\",D187<>\"Not required\"),D187/COUNTRY_INFO!D187, 0)","v":1},{"$f":"IF(AND(J187<>0,J187<>\"Unknown\",J187<>\"Stopped\",J187<>\"Not required\"),J187/COUNTRY_INFO!D187, 0)","v":1},{"$f":"IF(AND(P187<>0,P187<>\"Unknown\",P187<>\"Not required\"),P187/(COUNTRY_INFO!E187+COUNTRY_INFO!F187), 0)","v":1},{"$f":"IF(AND(Z187<>0,Z187<>\"Unknown\",Z187<>\"Not required\"),IF(COUNTRY_INFO!K187=1,1,IF(COUNTRY_INFO!K187=2,0.5*COUNTRY_INFO!F187/(0.5*COUNTRY_INFO!F187+0.2*COUNTRY_INFO!G187),IF(COUNTRY_INFO!K187=3,COUNTRY_INFO!F187/(COUNTRY_INFO!F187+COUNTRY_INFO!G187)))),0)","v":0.43101798698813626},{"$f":"IF(AND(Z187<>0,Z187<>\"Unknown\",Z187<>\"Not required\"),IF(COUNTRY_INFO!K187=1,0,IF(COUNTRY_INFO!K187=2,0.2*COUNTRY_INFO!G187/(0.5*COUNTRY_INFO!F187+0.2*COUNTRY_INFO!G187),IF(COUNTRY_INFO!K187=3,COUNTRY_INFO!G187/(COUNTRY_INFO!F187+COUNTRY_INFO!G187)))),0)","v":0.5689820130118638},{"$f":"MAX(COUNTRY_INFO!D187*AK187*PROFILE!$G$7,COUNTRY_INFO!D187*AL187*PROFILE!$G$7)","v":-1.0637081322836887E-2},{"$f":"MAX(COUNTRY_INFO!D187*AK187*PROFILE!$G$8,COUNTRY_INFO!D187*AL187*PROFILE!$G$8,COUNTRY_INFO!D187*AM187*PROFILE!$G$8)","v":30621.912371141636},{"$f":"MAX(COUNTRY_INFO!D187*AK187*PROFILE!$G$9,COUNTRY_INFO!D187*AL187*PROFILE!$G$9,COUNTRY_INFO!D187*AM187*PROFILE!$G$9,IF(AND(DISTRICT!Z187<>\"Unknown\",Z187<>\"Not required\"),COUNTRY_INFO!O187*DISTRICT!AN187,0))","v":60061.68933138506},{"$f":"MAX(COUNTRY_INFO!D187*AK187*PROFILE!$G$10,COUNTRY_INFO!D187*AL187*PROFILE!$G$10,IF(AND(DISTRICT!Z187<>\"Unknown\",Z187<>\"Not required\"),COUNTRY_INFO!O187*DISTRICT!AO187,0))","v":185113.40893455464},275797,"Y",{"$f":"MAX('MDA2'!J187,'T1'!L187,'T2'!J187,T3_R1!K187,T3_R2!K187)","v":0},{"$f":"MAX('MDA1'!K187,'MDA2'!K187,'MDA3'!I187,'MDA3'!L187,'T1'!M187,'T2'!K187,T3_R1!L187,T3_R2!L187)","v":54082},{"$f":"MAX('MDA1'!L187,'MDA2'!L187,'MDA3'!J187,'MDA3'!M187,'T1'!N187,'T2'!L187,T3_R1!M187,T3_R2!M187)","v":194295.103},248377.103,{"$f":"MAX('MDA2'!J187,T187)","v":0},{"$f":"MAX('MDA1'!K187,'MDA2'!K187,'MDA3'!I187,'MDA3'!L187,V187,AD187)","v":54082},{"$f":"MAX('MDA1'!L187,'MDA2'!L187,'MDA3'!J187,'MDA3'!M187,AF187)","v":194295.103},248377.103,90.05794225462931]
[{"$f":"IF(COUNTRY_INFO!A188=0,\" \",COUNTRY_INFO!A188)","v":"Tanzania"},{"$f":"IF(COUNTRY_INFO!B188=0,\" \",COUNTRY_INFO!B188)","v":"Tanga"},{"$f":"IF(COUNTRY_INFO!C188=0,\" \",COUNTRY_INFO!C188)","v":"Korogwe Town Council"},{"$f":"COUNTRY_INFO!L188","v":77835},null,null,{"$f":"MAX('MDA1'!M188,'MDA2'!M188)","v":63324},{"$f":"IF(AND(COUNTRY_INFO!H188>0,COUNTRY_INFO!H188<4),IF(D188>MAX('MDA1'!M188,'MDA2'!M188),MAX('MDA1'!M188,'MDA2'!M188),D188),0)","v":63324},{"$f":"IF(AND(COUNTRY_INFO!H188>0,COUNTRY_INFO!H188<4), IF(G188/D188*100<>0, IF(G188/D188*100>100,100,G188/D188*100), \"-\"),0)","v":81.356716130275586},{"$f":"COUNTRY_INFO!M188","v":0},null,null,{"$f":"MAX('MDA1'!M188,MAX('MDA3'!I188,'MDA3'!L188)+MAX('MDA3'!J188,'MDA3'!M188))","v":63324},{"$f":"IF(AND(COUNTRY_INFO!I188>0,COUNTRY_INFO!I188<4),IF(J188>MAX('MDA1'!M188,MAX('MDA3'!I188,'MDA3'!L188)+MAX('MDA3'!J188,'MDA3'!M188)),MAX('MDA1'!M188,MAX('MDA3'!I188,'MDA3'!L188)+MAX('MDA3'!J188,'MDA3'!M188)),J188),0)","v":0},{"$f":"IF(AND(COUNTRY_INFO!I188>0,COUNTRY_INFO!I188<4), IF(M188/J188*100<>0, IF(M188/J188*100>100,100,M188/J188*100), \"-\"),0)","v":0},{"$f":"COUNTRY_INFO!N188","v":23262},null,null,{"$f":"SUM(MAX('MDA2'!J188, 'T1'!L188, MAX(T3_R1!K188, T3_R2!K188)), MAX('MDA1'!K188, 'MDA2'!K188, 'T1'!M188, MAX(T3_R1!L188, T3_R2!L188)), MAX('MDA1'!L188, 'MDA2'!L188, 'T1'!N188, MAX(T3_R1!M188, T3_R2!M188)))","v":65672.116000000009},{"$f":"IF(AND(COUNTRY_INFO!J188>1,COUNTRY_INFO!J188<4),IF(COUNTRY_INFO!E188>MAX('MDA2'!J188,'T1'!L188,MAX(T3_R1!K188,T3_R2!K188)),MAX('MDA2'!J188,'T1'!L188,MAX(T3_R1!K188,T3_R2!K188)),COUNTRY_INFO!E188),0)","v":0},{"$f":"IF(AND(COUNTRY_INFO!J188>1,COUNTRY_INFO!J188<4), IF(T188/COUNTRY_INFO!E188*100<>0, IF(T188/COUNTRY_INFO!E188*100>100,100,T188/COUNTRY_INFO!E188*100), \"-\"),0)","v":"-"},{"$f":"IF(AND(COUNTRY_INFO!J188>1,COUNTRY_INFO!J188<4),IF(COUNTRY_INFO!F188>MAX('MDA1'!K188,'MDA2'!K188,'T1'!M188,MAX(T3_R1!L188,T3_R2!L188)),MAX('MDA1'!K188,'MDA2'!K188,'T1'!M188,MAX(T3_R1!L188,T3_R2!L188)),COUNTRY_INFO!F188),0)","v":14443},{"$f":"IF(AND(COUNTRY_INFO!J188>1,COUNTRY_INFO!J188<4), IF(V188/COUNTRY_INFO!F188*100<>0, IF(V188/COUNTRY_INFO!F188*100>100,100,V188/COUNTRY_INFO!F188*100), \"-\"),0)","v":87.676804467917208},14443,{"$f":"IF(AND(COUNTRY_INFO!J188>1,COUNTRY_INFO!J188<4), IF(S188/P188*100<>0, IF(X188/P188*100>100,100,X188/P188*100), \"-\"),0)","v":62.088384489725733},{"$f":"COUNTRY_INFO!O188","v":19151.099999999999},null,null,{"$f":"MAX('T1'!L188,'T2'!J188)+MAX('T1'!M188,'T2'!K188)+MAX('T1'!N188,'T2'!L188)","v":14443},{"$f":"IF(COUNTRY_INFO!K188=1,IF(COUNTRY_INFO!F188*0.33>MAX('T1'!M188,'T2'!K188),MAX('T1'!M188,'T2'!K188),COUNTRY_INFO!F188*0.33),IF(COUNTRY_INFO!K188=2,IF(COUNTRY_INFO!F188*0.5>MAX('T1'!M188,'T2'!K188),MAX('T1'!M188,'T2'!K188),COUNTRY_INFO!F188*0.5),IF(COUNTRY_INFO!K188=3,IF(COUNTRY_INFO!F188>MAX('T1'!M188,'T2'!K188),MAX('T1'!M188,'T2'!K188),COUNTRY_INFO!F188),0)))","v":8236.5},{"$f":"IF(AND(COUNTRY_INFO!K188>0,COUNTRY_INFO!K188<4),IF(Z188>0,IF(COUNTRY_INFO!K188=1, AD188/(COUNTRY_INFO!F188*0.33)*100, IF(COUNTRY_INFO!K188=2, AD188/(COUNTRY_INFO!F188*0.5)*100, IF(COUNTRY_INFO!K188=3, AD188/COUNTRY_INFO!F188*100))),\"-\"),0)","v":100},{"$f":"IF(COUNTRY_INFO!K188=2,IF(COUNTRY_INFO!G188*0.2>MAX('T1'!N188,'T2'!L188),MAX('T1'!N188,'T2'!L188),COUNTRY_INFO!G188*0.2),IF(COUNTRY_INFO!K188=3,IF(COUNTRY_INFO!G188>MAX('T1'!N188,'T2'!L188),MAX('T1'!N188,'T2'!L188),COUNTRY_INFO!G188),0))","v":0},{"$f":"IF(AND(COUNTRY_INFO!K188>0,COUNTRY_INFO!K188<4),IF(Z188>0,IF(COUNTRY_INFO!K188=1, 0, IF(COUNTRY_INFO!K188=2, AF188/(COUNTRY_INFO!G188*0.2)*100, IF(COUNTRY_INFO!K188=3, AF188/COUNTRY_INFO!G188*100))),\"-\"),0)","v":0},8236.5,{"$f":"IF(AND(COUNTRY_INFO!K188>0,COUNTRY_INFO!K188<4), IF(AC188/Z188*100<>0, IF(AH188/Z188*100>100,100,AH188/Z188*100), \"-\"),0)","v":43.007973432335483},null,{"$f":"IF(AND(D188<>0, D188<>\"Unknown\",D188<>\"Stopped\",D188<>\"Not required\"),D188/COUNTRY_INFO!D188, 0)","v":1},{"$f":"IF(AND(J188<>0,J188<>\"Unknown\",J188<>\"Stopped\",J188<>\"Not required\"),J188/COUNTRY_INFO!D188, 0)","v":0},{"$f":"IF(AND(P188<>0,P188<>\"Unknown\",P188<>\"Not required\"),P188/(COUNTRY_INFO!E188+COUNTRY_INFO!F188), 0)","v":1},{"$f":"IF(AND(Z188<>0,Z188<>\"Unknown\",Z188<>\"Not required\"),IF(COUNTRY_INFO!K188=1,1,IF(COUNTRY_INFO!K188=2,0.5*COUNTRY_INFO!F188/(0.5*COUNTRY_INFO!F188+0.2*COUNTRY_INFO!G188),IF(COUNTRY_INFO!K188=3,COUNTRY_INFO!F188/(COUNTRY_INFO!F188+COUNTRY_INFO!G188)))),0)","v":0.43007973432335483},{"$f":"IF(AND(Z188<>0,Z188<>\"Unknown\",Z188<>\"Not required\"),IF(COUNTRY_INFO!K188=1,0,IF(COUNTRY_INFO!K188=2,0.2*COUNTRY_INFO!G188/(0.5*COUNTRY_INFO!F188+0.2*COUNTRY_INFO!G188),IF(COUNTRY_INFO!K188=3,COUNTRY_INFO!G188/(COUNTRY_INFO!F188+COUNTRY_INFO!G188)))),0)","v":0.56992026567664522},{"$f":"MAX(COUNTRY_INFO!D188*AK188*PROFILE!$G$7,COUNTRY_INFO!D188*AL188*PROFILE!$G$7)","v":0},{"$f":"MAX(COUNTRY_INFO!D188*AK188*PROFILE!$G$8,COUNTRY_INFO!D188*AL188*PROFILE!$G$8,COUNTRY_INFO!D188*AM188*PROFILE!$G$8)","v":8642.0684394964737},{"$f":"MAX(COUNTRY_INFO!D188*AK188*PROFILE!$G$9,COUNTRY_INFO!D188*AL188*PROFILE!$G$9,COUNTRY_INFO!D188*AM188*PROFILE!$G$9,IF(AND(DISTRICT!Z188<>\"Unknown\",Z188<>\"Not required\"),COUNTRY_INFO!O188*DISTRICT!AN188,0))","v":16950.516463588639},{"$f":"MAX(COUNTRY_INFO!D188*AK188*PROFILE!$G$10,COUNTRY_INFO!D188*AL188*PROFILE!$G$10,IF(AND(DISTRICT!Z188<>\"Unknown\",Z188<>\"Not required\"),COUNTRY_INFO!O188*DISTRICT!AO188,0))","v":52242.418098895418},77835.003001980527,"Y",{"$f":"MAX('MDA2'!J188,'T1'!L188,'T2'!J188,T3_R1!K188,T3_R2!K188)","v":0},{"$f":"MAX('MDA1'!K188,'MDA2'!K188,'MDA3'!I188,'MDA3'!L188,'T1'!M188,'T2'!K188,T3_R1!L188,T3_R2!L188)","v":14443},{"$f":"MAX('MDA1'!L188,'MDA2'!L188,'MDA3'!J188,'MDA3'!M188,'T1'!N188,'T2'!L188,T3_R1!M188,T3_R2!M188)","v":51229.116000000002},65672.116000000009,{"$f":"MAX('MDA2'!J188,T188)","v":0},{"$f":"MAX('MDA1'!K188,'MDA2'!K188,'MDA3'!I188,'MDA3'!L188,V188,AD188)","v":14443},{"$f":"MAX('MDA1'!L188,'MDA2'!L188,'MDA3'!J188,'MDA3'!M188,AF188)","v":51229.116000000002},65672.116000000009,84.373499668688865]
[{"$f":"IF(COUNTRY_INFO!A189=0,\" \",COUNTRY_INFO!A189)","v":"Tanzania"},{"$f":"IF(COUNTRY_INFO!B189=0,\" \",COUNTRY_INFO!B189)","v":"Tanga"},{"$f":"IF(COUNTRY_INFO!C189=0,\" \",COUNTRY_INFO!C189)","v":"Lushoto District Council"},{"$f":"COUNTRY_INFO!L189","v":"Stopped"},null,null,{"$f":"MAX('MDA1'!M189,'MDA2'!M189)","v":0},{"$f":"IF(AND(COUNTRY_INFO!H189>0,COUNTRY_INFO!H189<4),IF(D189>MAX('MDA1'!M189,'MDA2'!M189),MAX('MDA1'!M189,'MDA2'!M189),D189),0)","v":0},{"$f":"IF(AND(COUNTRY_INFO!H189>0,COUNTRY_INFO!H189<4), IF(G189/D189*100<>0, IF(G189/D189*100>100,100,G189/D189*100), \"-\"),0)","v":0},{"$f":"COUNTRY_INFO!M189","v":378803},null,null,{"$f":"MAX('MDA1'!M189,MAX('MDA3'!I189,'MDA3'!L189)+MAX('MDA3'!J189,'MDA3'!M189))","v":303547},{"$f":"IF(AND(COUNTRY_INFO!I189>0,COUNTRY_INFO!I189<4),IF(J189>MAX('MDA1'!M189,MAX('MDA3'!I189,'MDA3'!L189)+MAX('MDA3'!J189,'MDA3'!M189)),MAX('MDA1'!M189,MAX('MDA3'!I189,'MDA3'!L189)+MAX('MDA3'!J189,'MDA3'!M189)),J189),0)","v":303547},{"$f":"IF(AND(COUNTRY_INFO!I189>0,COUNTRY_INFO!I189<4), IF(M189/J189*100<>0, IF(M189/J189*100>100,100,M189/J189*100), \"-\"),0)","v":80.133209082293433},{"$f":"COUNTRY_INFO!N189","v":135035},null,null,{"$f":"SUM(MAX('MDA2'!J189, 'T1'!L189, MAX(T3_R1!K189, T3_R2!K189)), MAX('MDA1'!K189, 'MDA2'!K189, 'T1'!M189, MAX(T3_R1!L189, T3_R2!L189)), MAX('MDA1'!L189, 'MDA2'!L189, 'T1'!N189, MAX(T3_R1!M189, T3_R2!M189)))","v":78728},{"$f":"IF(AND(COUNTRY_INFO!J189>1,COUNTRY_INFO!J189<4),IF(COUNTRY_INFO!E189>MAX('MDA2'!J189,'T1'!L189,MAX(T3_R1!K189,T3_R2!K189)),MAX('MDA2'!J189,'T1'!L189,MAX(T3_R1!K189,T3_R2!K189)),COUNTRY_INFO!E189),0)","v":0},{"$f":"IF(AND(COUNTRY_INFO!J189>1,COUNTRY_INFO!J189<4), IF(T189/COUNTRY_INFO!E189*100<>0, IF(T189/COUNTRY_INFO!E189*100>100,100,T189/COUNTRY_INFO!E189*100), \"-\"),0)","v":"-"},{"$f":"IF(AND(COUNTRY_INFO!J189>1,COUNTRY_INFO!J189<4),IF(COUNTRY_INFO!F189>MAX('MDA1'!K189,'MDA2'!K189,'T1'!M189,MAX(T3_R1!L189,T3_R2!L189)),MAX('MDA1'!K189,'MDA2'!K189,'T1'!M189,MAX(T3_R1!L189,T3_R2!L189)),COUNTRY_INFO!F189),0)","v":78728},{"$f":"IF(AND(COUNTRY_INFO!J189>1,COUNTRY_INFO!J189<4), IF(V189/COUNTRY_INFO!F189*100<>0, IF(V189/COUNTRY_INFO!F189*100>100,100,V189/COUNTRY_INFO!F189*100), \"-\"),0)","v":91.363583613786702},78728,{"$f":"IF(AND(COUNTRY_INFO!J189>1,COUNTRY_INFO!J189<4), IF(S189/P189*100<>0, IF(X189/P189*100>100,100,X189/P189*100), \"-\"),0)","v":58.301921723997488},{"$f":"COUNTRY_INFO!O189","v":91838.6},null,null,{"$f":"MAX('T1'!L189,'T2'!J189)+MAX('T1'!M189,'T2'!K189)+MAX('T1'!N189,'T2'!L189)","v":78728},{"$f":"IF(COUNTRY_INFO!K189=1,IF(COUNTRY_INFO!F189*0.33>MAX('T1'!M189,'T2'!K189),MAX('T1'!M189,'T2'!K189),COUNTRY_INFO!F189*0.33),IF(COUNTRY_INFO!K189=2,IF(COUNTRY_INFO!F189*0.5>MAX('T1'!M189,'T2'!K189),MAX('T1'!M189,'T2'!K189),COUNTRY_INFO!F189*0.5),IF(COUNTRY_INFO!K189=3,IF(COUNTRY_INFO!F189>MAX('T1'!M189,'T2'!K189),MAX('T1'!M189,'T2'!K189),COUNTRY_INFO!F189),0)))","v":43085},{"$f":"IF(AND(COUNTRY_INFO!K189>0,COUNTRY_INFO!K189<4),IF(Z189>0,IF(COUNTRY_INFO!K189=1, AD189/(COUNTRY_INFO!F189*0.33)*100, IF(COUNTRY_INFO!K189=2, AD189/(COUNTRY_INFO!F189*0.5)*100, IF(COUNTRY_INFO!K189=3, AD189/COUNTRY_INFO!F189*100))),\"-\"),0)","v":100},{"$f":"IF(COUNTRY_INFO!K189=2,IF(COUNTRY_INFO!G189*0.2>MAX('T1'!N189,'T2'!L189),MAX('T1'!N189,'T2'!L189),COUNTRY_INFO!G189*0.2),IF(COUNTRY_INFO!K189=3,IF(COUNTRY_INFO!G189>MAX('T1'!N189,'T2'!L189),MAX('T1'!N189,'T2'!L189),COUNTRY_INFO!G189),0))","v":0},{"$f":"IF(AND(COUNTRY_INFO!K189>0,COUNTRY_INFO!K189<4),IF(Z189>0,IF(COUNTRY_INFO!K189=1, 0, IF(COUNTRY_INFO!K189=2, AF189/(COUNTRY_INFO!G189*0.2)*100, IF(COUNTRY_INFO!K189=3, AF189/COUNTRY_INFO!G189*100))),\"-\"),0)","v":0},43085,{"$f":"IF(AND(COUNTRY_INFO!K189>0,COUNTRY_INFO!K189<4), IF(AC189/Z189*100<>0, IF(AH189/Z189*100>100,100,AH189/Z189*100), \"-\"),0)","v":46.913824905867465},null,{"$f":"IF(AND(D189<>0, D189<>\"Unknown\",D189<>\"Stopped\",D189<>\"Not required\"),D189/COUNTRY_INFO!D189, 0)","v":0},{"$f":"IF(AND(J189<>0,J189<>\"Unknown\",J189<>\"Stopped\",J189<>\"Not required\"),J189/COUNTRY_INFO!D189, 0)","v":1},{"$f":"IF(AND(P189<>0,P189<>\"Unknown\",P189<>\"Not required\"),P189/(COUNTRY_INFO!E189+COUNTRY_INFO!F189), 0)","v":1},{"$f":"IF(AND(Z189<>0,Z189<>\"Unknown\",Z189<>\"Not required\"),IF(COUNTRY_INFO!K189=1,1,IF(COUNTRY_INFO!K189=2,0.5*COUNTRY_INFO!F189/(0.5*COUNTRY_INFO!F189+0.2*COUNTRY_INFO!G189),IF(COUNTRY_INFO!K189=3,COUNTRY_INFO!F189/(COUNTRY_INFO!F189+COUNTRY_INFO!G189)))),0)","v":0.46913824905867463},{"$f":"IF(AND(Z189<>0,Z189<>\"Unknown\",Z189<>\"Not required\"),IF(COUNTRY_INFO!K189=1,0,IF(COUNTRY_INFO!K189=2,0.2*COUNTRY_INFO!G189/(0.5*COUNTRY_INFO!F189+0.2*COUNTRY_INFO!G189),IF(COUNTRY_INFO!K189=3,COUNTRY_INFO!G189/(COUNTRY_INFO!F189+COUNTRY_INFO!G189)))),0)","v":0.53086175094132537},{"$f":"MAX(COUNTRY_INFO!D189*AK189*PROFILE!$G$7,COUNTRY_INFO!D189*AL189*PROFILE!$G$7)","v":0},{"$f":"MAX(COUNTRY_INFO!D189*AK189*PROFILE!$G$8,COUNTRY_INFO!D189*AL189*PROFILE!$G$8,COUNTRY_INFO!D189*AM189*PROFILE!$G$8)","v":42058.732589279673},{"$f":"MAX(COUNTRY_INFO!D189*AK189*PROFILE!$G$9,COUNTRY_INFO!D189*AL189*PROFILE!$G$9,COUNTRY_INFO!D189*AM189*PROFILE!$G$9,IF(AND(DISTRICT!Z189<>\"Unknown\",Z189<>\"Not required\"),COUNTRY_INFO!O189*DISTRICT!AN189,0))","v":82493.820106080399},{"$f":"MAX(COUNTRY_INFO!D189*AK189*PROFILE!$G$10,COUNTRY_INFO!D189*AL189*PROFILE!$G$10,IF(AND(DISTRICT!Z189<>\"Unknown\",Z189<>\"Not required\"),COUNTRY_INFO!O189*DISTRICT!AO189,0))","v":254250.46191450994},378803.01460987004,"Y",{"$f":"MAX('MDA2'!J189,'T1'!L189,'T2'!J189,T3_R1!K189,T3_R2!K189)","v":0},{"$f":"MAX('MDA1'!K189,'MDA2'!K189,'MDA3'!I189,'MDA3'!L189,'T1'!M189,'T2'!K189,T3_R1!L189,T3_R2!L189)","v":78728},{"$f":"MAX('MDA1'!L189,'MDA2'!L189,'MDA3'!J189,'MDA3'!M189,'T1'!N189,'T2'!L189,T3_R1!M189,T3_R2!M189)","v":245569.52299999999},324297.52299999999,{"$f":"MAX('MDA2'!J189,T189)","v":0},{"$f":"MAX('MDA1'!K189,'MDA2'!K189,'MDA3'!I189,'MDA3'!L189,V189,AD189)","v":78728},{"$f":"MAX('MDA1'!L189,'MDA2'!L189,'MDA3'!J189,'MDA3'!M189,AF189)","v":245569.52299999999},324297.52299999999,85.61112517385709]
[{"$f":"IF(COUNTRY_INFO!A190=0,\" \",COUNTRY_INFO!A190)","v":"Tanzania"},{"$f":"IF(COUNTRY_INFO!B190=0,\" \",COUNTRY_INFO!B190)","v":"Tanga"},{"$f":"IF(COUNTRY_INFO!C190=0,\" \",COUNTRY_INFO!C190)","v":"Mkinga District Council"},{"$f":"COUNTRY_INFO!L190","v":134532},null,null,{"$f":"MAX('MDA1'!M190,'MDA2'!M190)","v":114526},{"$f":"IF(AND(COUNTRY_INFO!H190>0,COUNTRY_INFO!H190<4),IF(D190>MAX('MDA1'!M190,'MDA2'!M190),MAX('MDA1'!M190,'MDA2'!M190),D190),0)","v":114526},{"$f":"IF(AND(COUNTRY_INFO!H190>0,COUNTRY_INFO!H190<4), IF(G190/D190*100<>0, IF(G190/D190*100>100,100,G190/D190*100), \"-\"),0)","v":85.129188594535137},{"$f":"COUNTRY_INFO!M190","v":134532},null,null,{"$f":"MAX('MDA1'!M190,MAX('MDA3'!I190,'MDA3'!L190)+MAX('MDA3'!J190,'MDA3'!M190))","v":114526},{"$f":"IF(AND(COUNTRY_INFO!I190>0,COUNTRY_INFO!I190<4),IF(J190>MAX('MDA1'!M190,MAX('MDA3'!I190,'MDA3'!L190)+MAX('MDA3'!J190,'MDA3'!M190)),MAX('MDA1'!M190,MAX('MDA3'!I190,'MDA3'!L190)+MAX('MDA3'!J190,'MDA3'!M190)),J190),0)","v":114526},{"$f":"IF(AND(COUNTRY_INFO!I190>0,COUNTRY_INFO!I190<4), IF(M190/J190*100<>0, IF(M190/J190*100>100,100,M190/J190*100), \"-\"),0)","v":85.129188594535137},{"$f":"COUNTRY_INFO!N190","v":44148},null,null,{"$f":"SUM(MAX('MDA2'!J190, 'T1'!L190, MAX(T3_R1!K190, T3_R2!K190)), MAX('MDA1'!K190, 'MDA2'!K190, 'T1'!M190, MAX(T3_R1!L190, T3_R2!L190)), MAX('MDA1'!L190, 'MDA2'!L190, 'T1'!N190, MAX(T3_R1!M190, T3_R2!M190)))","v":123965},{"$f":"IF(AND(COUNTRY_INFO!J190>1,COUNTRY_INFO!J190<4),IF(COUNTRY_INFO!E190>MAX('MDA2'!J190,'T1'!L190,MAX(T3_R1!K190,T3_R2!K190)),MAX('MDA2'!J190,'T1'!L190,MAX(T3_R1!K190,T3_R2!K190)),COUNTRY_INFO!E190),0)","v":0},{"$f":"IF(AND(COUNTRY_INFO!J190>1,COUNTRY_INFO!J190<4), IF(T190/COUNTRY_INFO!E190*100<>0, IF(T190/COUNTRY_INFO!E190*100>100,100,T190/COUNTRY_INFO!E190*100), \"-\"),0)","v":"-"},{"$f":"IF(AND(COUNTRY_INFO!J190>1,COUNTRY_INFO!J190<4),IF(COUNTRY_INFO!F190>MAX('MDA1'!K190,'MDA2'!K190,'T1'!M190,MAX(T3_R1!L190,T3_R2!L190)),MAX('MDA1'!K190,'MDA2'!K190,'T1'!M190,MAX(T3_R1!L190,T3_R2!L190)),COUNTRY_INFO!F190),0)","v":31313},{"$f":"IF(AND(COUNTRY_INFO!J190>1,COUNTRY_INFO!J190<4), IF(V190/COUNTRY_INFO!F190*100<>0, IF(V190/COUNTRY_INFO!F190*100>100,100,V190/COUNTRY_INFO!F190*100), \"-\"),0)","v":96.683854633031771},31313,{"$f":"IF(AND(COUNTRY_INFO!J190>1,COUNTRY_INFO!J190<4), IF(S190/P190*100<>0, IF(X190/P190*100>100,100,X190/P190*100), \"-\"),0)","v":70.927335326628622},{"$f":"COUNTRY_INFO!O190","v":34270.300000000003},null,null,{"$f":"MAX('T1'!L190,'T2'!J190)+MAX('T1'!M190,'T2'!K190)+MAX('T1'!N190,'T2'!L190)","v":31313},{"$f":"IF(COUNTRY_INFO!K190=1,IF(COUNTRY_INFO!F190*0.33>MAX('T1'!M190,'T2'!K190),MAX('T1'!M190,'T2'!K190),COUNTRY_INFO!F190*0.33),IF(COUNTRY_INFO!K190=2,IF(COUNTRY_INFO!F190*0.5>MAX('T1'!M190,'T2'!K190),MAX('T1'!M190,'T2'!K190),COUNTRY_INFO!F190*0.5),IF(COUNTRY_INFO!K190=3,IF(COUNTRY_INFO!F190>MAX('T1'!M190,'T2'!K190),MAX('T1'!M190,'T2'!K190),COUNTRY_INFO!F190),0)))","v":16193.5},{"$f":"IF(AND(COUNTRY_INFO!K190>0,COUNTRY_INFO!K190<4),IF(Z190>0,IF(COUNTRY_INFO!K190=1, AD190/(COUNTRY_INFO!F190*0.33)*100, IF(COUNTRY_INFO!K190=2, AD190/(COUNTRY_INFO!F190*0.5)*100, IF(COUNTRY_INFO!K190=3, AD190/COUNTRY_INFO!F190*100))),\"-\"),0)","v":100},{"$f":"IF(COUNTRY_INFO!K190=2,IF(COUNTRY_INFO!G190*0.2>MAX('T1'!N190,'T2'!L190),MAX('T1'!N190,'T2'!L190),COUNTRY_INFO!G190*0.2),IF(COUNTRY_INFO!K190=3,IF(COUNTRY_INFO!G190>MAX('T1'!N190,'T2'!L190),MAX('T1'!N190,'T2'!L190),COUNTRY_INFO!G190),0))","v":0},{"$f":"IF(AND(COUNTRY_INFO!K190>0,COUNTRY_INFO!K190<4),IF(Z190>0,IF(COUNTRY_INFO!K190=1, 0, IF(COUNTRY_INFO!K190=2, AF190/(COUNTRY_INFO!G190*0.2)*100, IF(COUNTRY_INFO!K190=3, AF190/COUNTRY_INFO!G190*100))),\"-\"),0)","v":0},16193.5,{"$f":"IF(AND(COUNTRY_INFO!K190>0,COUNTRY_INFO!K190<4), IF(AC190/Z190*100<>0, IF(AH190/Z190*100>100,100,AH190/Z190*100), \"-\"),0)","v":47.252285506692381},null,{"$f":"IF(AND(D190<>0, D190<>\"Unknown\",D190<>\"Stopped\",D190<>\"Not required\"),D190/COUNTRY_INFO!D190, 0)","v":1},{"$f":"IF(AND(J190<>0,J190<>\"Unknown\",J190<>\"Stopped\",J190<>\"Not required\"),J190/COUNTRY_INFO!D190, 0)","v":1},{"$f":"IF(AND(P190<>0,P190<>\"Unknown\",P190<>\"Not required\"),P190/(COUNTRY_INFO!E190+COUNTRY_INFO!F190), 0)","v":1},{"$f":"IF(AND(Z190<>0,Z190<>\"Unknown\",Z190<>\"Not required\"),IF(COUNTRY_INFO!K190=1,1,IF(COUNTRY_INFO!K190=2,0.5*COUNTRY_INFO!F190/(0.5*COUNTRY_INFO!F190+0.2*COUNTRY_INFO!G190),IF(COUNTRY_INFO!K190=3,COUNTRY_INFO!F190/(COUNTRY_INFO!F190+COUNTRY_INFO!G190)))),0)","v":0.47252285506692382},{"$f":"IF(AND(Z190<>0,Z190<>\"Unknown\",Z190<>\"Not required\"),IF(COUNTRY_INFO!K190=1,0,IF(COUNTRY_INFO!K190=2,0.2*COUNTRY_INFO!G190/(0.5*COUNTRY_INFO!F190+0.2*COUNTRY_INFO!G190),IF(COUNTRY_INFO!K190=3,COUNTRY_INFO!G190/(COUNTRY_INFO!F190+COUNTRY_INFO!G190)))),0)","v":0.52747714493307607},{"$f":"MAX(COUNTRY_INFO!D190*AK190*PROFILE!$G$7,COUNTRY_INFO!D190*AL190*PROFILE!$G$7)","v":-5.1886997484522747E-3},{"$f":"MAX(COUNTRY_INFO!D190*AK190*PROFILE!$G$8,COUNTRY_INFO!D190*AL190*PROFILE!$G$8,COUNTRY_INFO!D190*AM190*PROFILE!$G$8)","v":14937.17159764039},{"$f":"MAX(COUNTRY_INFO!D190*AK190*PROFILE!$G$9,COUNTRY_INFO!D190*AL190*PROFILE!$G$9,COUNTRY_INFO!D190*AM190*PROFILE!$G$9,IF(AND(DISTRICT!Z190<>\"Unknown\",Z190<>\"Not required\"),COUNTRY_INFO!O190*DISTRICT!AN190,0))","v":29297.70515679973},{"$f":"MAX(COUNTRY_INFO!D190*AK190*PROFILE!$G$10,COUNTRY_INFO!D190*AL190*PROFILE!$G$10,IF(AND(DISTRICT!Z190<>\"Unknown\",Z190<>\"Not required\"),COUNTRY_INFO!O190*DISTRICT!AO190,0))","v":90297.128434259634},134532,"Y",{"$f":"MAX('MDA2'!J190,'T1'!L190,'T2'!J190,T3_R1!K190,T3_R2!K190)","v":0},{"$f":"MAX('MDA1'!K190,'MDA2'!K190,'MDA3'!I190,'MDA3'!L190,'T1'!M190,'T2'!K190,T3_R1!L190,T3_R2!L190)","v":31313},{"$f":"MAX('MDA1'!L190,'MDA2'!L190,'MDA3'!J190,'MDA3'!M190,'T1'!N190,'T2'!L190,T3_R1!M190,T3_R2!M190)","v":92652},123965,{"$f":"MAX('MDA2'!J190,T190)","v":0},{"$f":"MAX('MDA1'!K190,'MDA2'!K190,'MDA3'!I190,'MDA3'!L190,V190,AD190)","v":31313},{"$f":"MAX('MDA1'!L190,'MDA2'!L190,'MDA3'!J190,'MDA3'!M190,AF190)","v":92652},123965,92.145363184967138]
[{"$f":"IF(COUNTRY_INFO!A191=0,\" \",COUNTRY_INFO!A191)","v":"Tanzania"},{"$f":"IF(COUNTRY_INFO!B191=0,\" \",COUNTRY_INFO!B191)","v":"Tanga"},{"$f":"IF(COUNTRY_INFO!C191=0,\" \",COUNTRY_INFO!C191)","v":"Muheza District Council"},{"$f":"COUNTRY_INFO!L191","v":"Stopped"},null,null,{"$f":"MAX('MDA1'!M191,'MDA2'!M191)","v":0},{"$f":"IF(AND(COUNTRY_INFO!H191>0,COUNTRY_INFO!H191<4),IF(D191>MAX('MDA1'!M191,'MDA2'!M191),MAX('MDA1'!M191,'MDA2'!M191),D191),0)","v":0},{"$f":"IF(AND(COUNTRY_INFO!H191>0,COUNTRY_INFO!H191<4), IF(G191/D191*100<>0, IF(G191/D191*100>100,100,G191/D191*100), \"-\"),0)","v":0},{"$f":"COUNTRY_INFO!M191","v":232979},null,null,{"$f":"MAX('MDA1'!M191,MAX('MDA3'!I191,'MDA3'!L191)+MAX('MDA3'!J191,'MDA3'!M191))","v":190132},{"$f":"IF(AND(COUNTRY_INFO!I191>0,COUNTRY_INFO!I191<4),IF(J191>MAX('MDA1'!M191,MAX('MDA3'!I191,'MDA3'!L191)+MAX('MDA3'!J191,'MDA3'!M191)),MAX('MDA1'!M191,MAX('MDA3'!I191,'MDA3'!L191)+MAX('MDA3'!J191,'MDA3'!M191)),J191),0)","v":190132},{"$f":"IF(AND(COUNTRY_INFO!I191>0,COUNTRY_INFO!I191<4), IF(M191/J191*100<>0, IF(M191/J191*100>100,100,M191/J191*100), \"-\"),0)","v":81.609072062288874},{"$f":"COUNTRY_INFO!N191","v":72122},null,null,{"$f":"SUM(MAX('MDA2'!J191, 'T1'!L191, MAX(T3_R1!K191, T3_R2!K191)), MAX('MDA1'!K191, 'MDA2'!K191, 'T1'!M191, MAX(T3_R1!L191, T3_R2!L191)), MAX('MDA1'!L191, 'MDA2'!L191, 'T1'!N191, MAX(T3_R1!M191, T3_R2!M191)))","v":31541},{"$f":"IF(AND(COUNTRY_INFO!J191>1,COUNTRY_INFO!J191<4),IF(COUNTRY_INFO!E191>MAX('MDA2'!J191,'T1'!L191,MAX(T3_R1!K191,T3_R2!K191)),MAX('MDA2'!J191,'T1'!L191,MAX(T3_R1!K191,T3_R2!K191)),COUNTRY_INFO!E191),0)","v":0},{"$f":"IF(AND(COUNTRY_INFO!J191>1,COUNTRY_INFO!J191<4), IF(T191/COUNTRY_INFO!E191*100<>0, IF(T191/COUNTRY_INFO!E191*100>100,100,T191/COUNTRY_INFO!E191*100), \"-\"),0)","v":"-"},{"$f":"IF(AND(COUNTRY_INFO!J191>1,COUNTRY_INFO!J191<4),IF(COUNTRY_INFO!F191>MAX('MDA1'!K191,'MDA2'!K191,'T1'!M191,MAX(T3_R1!L191,T3_R2!L191)),MAX('MDA1'!K191,'MDA2'!K191,'T1'!M191,MAX(T3_R1!L191,T3_R2!L191)),COUNTRY_INFO!F191),0)","v":31541},{"$f":"IF(AND(COUNTRY_INFO!J191>1,COUNTRY_INFO!J191<4), IF(V191/COUNTRY_INFO!F191*100<>0, IF(V191/COUNTRY_INFO!F191*100>100,100,V191/COUNTRY_INFO!F191*100), \"-\"),0)","v":74.978011267739561},31541,{"$f":"IF(AND(COUNTRY_INFO!J191>1,COUNTRY_INFO!J191<4), IF(S191/P191*100<>0, IF(X191/P191*100>100,100,X191/P191*100), \"-\"),0)","v":43.732841573999607},{"$f":"COUNTRY_INFO!O191","v":53204.9},null,null,{"$f":"MAX('T1'!L191,'T2'!J191)+MAX('T1'!M191,'T2'!K191)+MAX('T1'!N191,'T2'!L191)","v":31541},{"$f":"IF(COUNTRY_INFO!K191=1,IF(COUNTRY_INFO!F191*0.33>MAX('T1'!M191,'T2'!K191),MAX('T1'!M191,'T2'!K191),COUNTRY_INFO!F191*0.33),IF(COUNTRY_INFO!K191=2,IF(COUNTRY_INFO!F191*0.5>MAX('T1'!M191,'T2'!K191),MAX('T1'!M191,'T2'!K191),COUNTRY_INFO!F191*0.5),IF(COUNTRY_INFO!K191=3,IF(COUNTRY_INFO!F191>MAX('T1'!M191,'T2'!K191),MAX('T1'!M191,'T2'!K191),COUNTRY_INFO!F191),0)))","v":21033.5},{"$f":"IF(AND(COUNTRY_INFO!K191>0,COUNTRY_INFO!K191<4),IF(Z191>0,IF(COUNTRY_INFO!K191=1, AD191/(COUNTRY_INFO!F191*0.33)*100, IF(COUNTRY_INFO!K191=2, AD191/(COUNTRY_INFO!F191*0.5)*100, IF(COUNTRY_INFO!K191=3, AD191/COUNTRY_INFO!F191*100))),\"-\"),0)","v":100},{"$f":"IF(COUNTRY_INFO!K191=2,IF(COUNTRY_INFO!G191*0.2>MAX('T1'!N191,'T2'!L191),MAX('T1'!N191,'T2'!L191),COUNTRY_INFO!G191*0.2),IF(COUNTRY_INFO!K191=3,IF(COUNTRY_INFO!G191>MAX('T1'!N191,'T2'!L191),MAX('T1'!N191,'T2'!L191),COUNTRY_INFO!G191),0))","v":0},{"$f":"IF(AND(COUNTRY_INFO!K191>0,COUNTRY_INFO!K191<4),IF(Z191>0,IF(COUNTRY_INFO!K191=1, 0, IF(COUNTRY_INFO!K191=2, AF191/(COUNTRY_INFO!G191*0.2)*100, IF(COUNTRY_INFO!K191=3, AF191/COUNTRY_INFO!G191*100))),\"-\"),0)","v":0},21033.5,{"$f":"IF(AND(COUNTRY_INFO!K191>0,COUNTRY_INFO!K191<4), IF(AC191/Z191*100<>0, IF(AH191/Z191*100>100,100,AH191/Z191*100), \"-\"),0)","v":39.533012936778377},null,{"$f":"IF(AND(D191<>0, D191<>\"Unknown\",D191<>\"Stopped\",D191<>\"Not required\"),D191/COUNTRY_INFO!D191, 0)","v":0},{"$f":"IF(AND(J191<>0,J191<>\"Unknown\",J191<>\"Stopped\",J191<>\"Not required\"),J191/COUNTRY_INFO!D191, 0)","v":1},{"$f":"IF(AND(P191<>0,P191<>\"Unknown\",P191<>\"Not required\"),P191/(COUNTRY_INFO!E191+COUNTRY_INFO!F191), 0)","v":1},{"$f":"IF(AND(Z191<>0,Z191<>\"Unknown\",Z191<>\"Not required\"),IF(COUNTRY_INFO!K191=1,1,IF(COUNTRY_INFO!K191=2,0.5*COUNTRY_INFO!F191/(0.5*COUNTRY_INFO!F191+0.2*COUNTRY_INFO!G191),IF(COUNTRY_INFO!K191=3,COUNTRY_INFO!F191/(COUNTRY_INFO!F191+COUNTRY_INFO!G191)))),0)","v":0.39533012936778378},{"$f":"IF(AND(Z191<>0,Z191<>\"Unknown\",Z191<>\"Not required\"),IF(COUNTRY_INFO!K191=1,0,IF(COUNTRY_INFO!K191=2,0.2*COUNTRY_INFO!G191/(0.5*COUNTRY_INFO!F191+0.2*COUNTRY_INFO!G191),IF(COUNTRY_INFO!K191=3,COUNTRY_INFO!G191/(COUNTRY_INFO!F191+COUNTRY_INFO!G191)))),0)","v":0.60466987063221622},{"$f":"MAX(COUNTRY_INFO!D191*AK191*PROFILE!$G$7,COUNTRY_INFO!D191*AL191*PROFILE!$G$7)","v":0},{"$f":"MAX(COUNTRY_INFO!D191*AK191*PROFILE!$G$8,COUNTRY_INFO!D191*AL191*PROFILE!$G$8,COUNTRY_INFO!D191*AM191*PROFILE!$G$8)","v":25867.80321147876},{"$f":"MAX(COUNTRY_INFO!D191*AK191*PROFILE!$G$9,COUNTRY_INFO!D191*AL191*PROFILE!$G$9,COUNTRY_INFO!D191*AM191*PROFILE!$G$9,IF(AND(DISTRICT!Z191<>\"Unknown\",Z191<>\"Not required\"),COUNTRY_INFO!O191*DISTRICT!AN191,0))","v":50736.999745235662},{"$f":"MAX(COUNTRY_INFO!D191*AK191*PROFILE!$G$10,COUNTRY_INFO!D191*AL191*PROFILE!$G$10,IF(AND(DISTRICT!Z191<>\"Unknown\",Z191<>\"Not required\"),COUNTRY_INFO!O191*DISTRICT!AO191,0))","v":156374.20602894013},232979.00898565457,"Y",{"$f":"MAX('MDA2'!J191,'T1'!L191,'T2'!J191,T3_R1!K191,T3_R2!K191)","v":0},{"$f":"MAX('MDA1'!K191,'MDA2'!K191,'MDA3'!I191,'MDA3'!L191,'T1'!M191,'T2'!K191,T3_R1!L191,T3_R2!L191)","v":36315.212},{"$f":"MAX('MDA1'!L191,'MDA2'!L191,'MDA3'!J191,'MDA3'!M191,'T1'!N191,'T2'!L191,T3_R1!M191,T3_R2!M191)","v":153816.788},190132,{"$f":"MAX('MDA2'!J191,T191)","v":0},{"$f":"MAX('MDA1'!K191,'MDA2'!K191,'MDA3'!I191,'MDA3'!L191,V191,AD191)","v":36315.212},{"$f":"MAX('MDA1'!L191,'MDA2'!L191,'MDA3'!J191,'MDA3'!M191,AF191)","v":153816.788},190132,81.609068914748093]
[{"$f":"IF(COUNTRY_INFO!A192=0,\" \",COUNTRY_INFO!A192)","v":"Tanzania"},{"$f":"IF(COUNTRY_INFO!B192=0,\" \",COUNTRY_INFO!B192)","v":"Tanga"},{"$f":"IF(COUNTRY_INFO!C192=0,\" \",COUNTRY_INFO!C192)","v":"Pangani District Council"},{"$f":"COUNTRY_INFO!L192","v":61560},null,null,{"$f":"MAX('MDA1'!M192,'MDA2'!M192)","v":47934},{"$f":"IF(AND(COUNTRY_INFO!H192>0,COUNTRY_INFO!H192<4),IF(D192>MAX('MDA1'!M192,'MDA2'!M192),MAX('MDA1'!M192,'MDA2'!M192),D192),0)","v":47934},{"$f":"IF(AND(COUNTRY_INFO!H192>0,COUNTRY_INFO!H192<4), IF(G192/D192*100<>0, IF(G192/D192*100>100,100,G192/D192*100), \"-\"),0)","v":77.865497076023388},{"$f":"COUNTRY_INFO!M192","v":0},null,null,{"$f":"MAX('MDA1'!M192,MAX('MDA3'!I192,'MDA3'!L192)+MAX('MDA3'!J192,'MDA3'!M192))","v":47934},{"$f":"IF(AND(COUNTRY_INFO!I192>0,COUNTRY_INFO!I192<4),IF(J192>MAX('MDA1'!M192,MAX('MDA3'!I192,'MDA3'!L192)+MAX('MDA3'!J192,'MDA3'!M192)),MAX('MDA1'!M192,MAX('MDA3'!I192,'MDA3'!L192)+MAX('MDA3'!J192,'MDA3'!M192)),J192),0)","v":0},{"$f":"IF(AND(COUNTRY_INFO!I192>0,COUNTRY_INFO!I192<4), IF(M192/J192*100<>0, IF(M192/J192*100>100,100,M192/J192*100), \"-\"),0)","v":0},{"$f":"COUNTRY_INFO!N192","v":18888},null,null,{"$f":"SUM(MAX('MDA2'!J192, 'T1'!L192, MAX(T3_R1!K192, T3_R2!K192)), MAX('MDA1'!K192, 'MDA2'!K192, 'T1'!M192, MAX(T3_R1!L192, T3_R2!L192)), MAX('MDA1'!L192, 'MDA2'!L192, 'T1'!N192, MAX(T3_R1!M192, T3_R2!M192)))","v":50412.606},{"$f":"IF(AND(COUNTRY_INFO!J192>1,COUNTRY_INFO!J192<4),IF(COUNTRY_INFO!E192>MAX('MDA2'!J192,'T1'!L192,MAX(T3_R1!K192,T3_R2!K192)),MAX('MDA2'!J192,'T1'!L192,MAX(T3_R1!K192,T3_R2!K192)),COUNTRY_INFO!E192),0)","v":0},{"$f":"IF(AND(COUNTRY_INFO!J192>1,COUNTRY_INFO!J192<4), IF(T192/COUNTRY_INFO!E192*100<>0, IF(T192/COUNTRY_INFO!E192*100>100,100,T192/COUNTRY_INFO!E192*100), \"-\"),0)","v":"-"},{"$f":"IF(AND(COUNTRY_INFO!J192>1,COUNTRY_INFO!J192<4),IF(COUNTRY_INFO!F192>MAX('MDA1'!K192,'MDA2'!K192,'T1'!M192,MAX(T3_R1!L192,T3_R2!L192)),MAX('MDA1'!K192,'MDA2'!K192,'T1'!M192,MAX(T3_R1!L192,T3_R2!L192)),COUNTRY_INFO!F192),0)","v":11634},{"$f":"IF(AND(COUNTRY_INFO!J192>1,COUNTRY_INFO!J192<4), IF(V192/COUNTRY_INFO!F192*100<>0, IF(V192/COUNTRY_INFO!F192*100>100,100,V192/COUNTRY_INFO!F192*100), \"-\"),0)","v":84.91350996277643},11634,{"$f":"IF(AND(COUNTRY_INFO!J192>1,COUNTRY_INFO!J192<4), IF(S192/P192*100<>0, IF(X192/P192*100>100,100,X192/P192*100), \"-\"),0)","v":61.594663278271923},{"$f":"COUNTRY_INFO!O192","v":15384.9},null,null,{"$f":"MAX('T1'!L192,'T2'!J192)+MAX('T1'!M192,'T2'!K192)+MAX('T1'!N192,'T2'!L192)","v":11634},{"$f":"IF(COUNTRY_INFO!K192=1,IF(COUNTRY_INFO!F192*0.33>MAX('T1'!M192,'T2'!K192),MAX('T1'!M192,'T2'!K192),COUNTRY_INFO!F192*0.33),IF(COUNTRY_INFO!K192=2,IF(COUNTRY_INFO!F192*0.5>MAX('T1'!M192,'T2'!K192),MAX('T1'!M192,'T2'!K192),COUNTRY_INFO!F192*0.5),IF(COUNTRY_INFO!K192=3,IF(COUNTRY_INFO!F192>MAX('T1'!M192,'T2'!K192),MAX('T1'!M192,'T2'!K192),COUNTRY_INFO!F192),0)))","v":6850.5},{"$f":"IF(AND(COUNTRY_INFO!K192>0,COUNTRY_INFO!K192<4),IF(Z192>0,IF(COUNTRY_INFO!K192=1, AD192/(COUNTRY_INFO!F192*0.33)*100, IF(COUNTRY_INFO!K192=2, AD192/(COUNTRY_INFO!F192*0.5)*100, IF(COUNTRY_INFO!K192=3, AD192/COUNTRY_INFO!F192*100))),\"-\"),0)","v":100},{"$f":"IF(COUNTRY_INFO!K192=2,IF(COUNTRY_INFO!G192*0.2>MAX('T1'!N192,'T2'!L192),MAX('T1'!N192,'T2'!L192),COUNTRY_INFO!G192*0.2),IF(COUNTRY_INFO!K192=3,IF(COUNTRY_INFO!G192>MAX('T1'!N192,'T2'!L192),MAX('T1'!N192,'T2'!L192),COUNTRY_INFO!G192),0))","v":0},{"$f":"IF(AND(COUNTRY_INFO!K192>0,COUNTRY_INFO!K192<4),IF(Z192>0,IF(COUNTRY_INFO!K192=1, 0, IF(COUNTRY_INFO!K192=2, AF192/(COUNTRY_INFO!G192*0.2)*100, IF(COUNTRY_INFO!K192=3, AF192/COUNTRY_INFO!G192*100))),\"-\"),0)","v":0},6850.5,{"$f":"IF(AND(COUNTRY_INFO!K192>0,COUNTRY_INFO!K192<4), IF(AC192/Z192*100<>0, IF(AH192/Z192*100>100,100,AH192/Z192*100), \"-\"),0)","v":44.527426242614517},null,{"$f":"IF(AND(D192<>0, D192<>\"Unknown\",D192<>\"Stopped\",D192<>\"Not required\"),D192/COUNTRY_INFO!D192, 0)","v":1},{"$f":"IF(AND(J192<>0,J192<>\"Unknown\",J192<>\"Stopped\",J192<>\"Not required\"),J192/COUNTRY_INFO!D192, 0)","v":0},{"$f":"IF(AND(P192<>0,P192<>\"Unknown\",P192<>\"Not required\"),P192/(COUNTRY_INFO!E192+COUNTRY_INFO!F192), 0)","v":1},{"$f":"IF(AND(Z192<>0,Z192<>\"Unknown\",Z192<>\"Not required\"),IF(COUNTRY_INFO!K192=1,1,IF(COUNTRY_INFO!K192=2,0.5*COUNTRY_INFO!F192/(0.5*COUNTRY_INFO!F192+0.2*COUNTRY_INFO!G192),IF(COUNTRY_INFO!K192=3,COUNTRY_INFO!F192/(COUNTRY_INFO!F192+COUNTRY_INFO!G192)))),0)","v":0.44527426242614515},{"$f":"IF(AND(Z192<>0,Z192<>\"Unknown\",Z192<>\"Not required\"),IF(COUNTRY_INFO!K192=1,0,IF(COUNTRY_INFO!K192=2,0.2*COUNTRY_INFO!G192/(0.5*COUNTRY_INFO!F192+0.2*COUNTRY_INFO!G192),IF(COUNTRY_INFO!K192=3,COUNTRY_INFO!G192/(COUNTRY_INFO!F192+COUNTRY_INFO!G192)))),0)","v":0.5547257375738549},{"$f":"MAX(COUNTRY_INFO!D192*AK192*PROFILE!$G$7,COUNTRY_INFO!D192*AL192*PROFILE!$G$7)","v":0},{"$f":"MAX(COUNTRY_INFO!D192*AK192*PROFILE!$G$8,COUNTRY_INFO!D192*AL192*PROFILE!$G$8,COUNTRY_INFO!D192*AM192*PROFILE!$G$8)","v":6835.0450714383369},{"$f":"MAX(COUNTRY_INFO!D192*AK192*PROFILE!$G$9,COUNTRY_INFO!D192*AL192*PROFILE!$G$9,COUNTRY_INFO!D192*AM192*PROFILE!$G$9,IF(AND(DISTRICT!Z192<>\"Unknown\",Z192<>\"Not required\"),COUNTRY_INFO!O192*DISTRICT!AN192,0))","v":13406.228476887218},{"$f":"MAX(COUNTRY_INFO!D192*AK192*PROFILE!$G$10,COUNTRY_INFO!D192*AL192*PROFILE!$G$10,IF(AND(DISTRICT!Z192<>\"Unknown\",Z192<>\"Not required\"),COUNTRY_INFO!O192*DISTRICT!AO192,0))","v":41318.728825952363},61560.002374277916,"Y",{"$f":"MAX('MDA2'!J192,'T1'!L192,'T2'!J192,T3_R1!K192,T3_R2!K192)","v":0},{"$f":"MAX('MDA1'!K192,'MDA2'!K192,'MDA3'!I192,'MDA3'!L192,'T1'!M192,'T2'!K192,T3_R1!L192,T3_R2!L192)","v":11634},{"$f":"MAX('MDA1'!L192,'MDA2'!L192,'MDA3'!J192,'MDA3'!M192,'T1'!N192,'T2'!L192,T3_R1!M192,T3_R2!M192)","v":38778.606},50412.606,{"$f":"MAX('MDA2'!J192,T192)","v":0},{"$f":"MAX('MDA1'!K192,'MDA2'!K192,'MDA3'!I192,'MDA3'!L192,V192,AD192)","v":11634},{"$f":"MAX('MDA1'!L192,'MDA2'!L192,'MDA3'!J192,'MDA3'!M192,AF192)","v":38778.606},50412.606,81.891819453639727]
[{"$f":"IF(COUNTRY_INFO!A193=0,\" \",COUNTRY_INFO!A193)","v":"Tanzania"},{"$f":"IF(COUNTRY_INFO!B193=0,\" \",COUNTRY_INFO!B193)","v":"Tanga"},{"$f":"IF(COUNTRY_INFO!C193=0,\" \",COUNTRY_INFO!C193)","v":"Tanga City Council"},{"$f":"COUNTRY_INFO!L193","v":311455},null,null,{"$f":"MAX('MDA1'!M193,'MDA2'!M193)","v":295301},{"$f":"IF(AND(COUNTRY_INFO!H193>0,COUNTRY_INFO!H193<4),IF(D193>MAX('MDA1'!M193,'MDA2'!M193),MAX('MDA1'!M193,'MDA2'!M193),D193),0)","v":295301},{"$f":"IF(AND(COUNTRY_INFO!H193>0,COUNTRY_INFO!H193<4), IF(G193/D193*100<>0, IF(G193/D193*100>100,100,G193/D193*100), \"-\"),0)","v":94.81337592910694},{"$f":"COUNTRY_INFO!M193","v":0},null,null,{"$f":"MAX('MDA1'!M193,MAX('MDA3'!I193,'MDA3'!L193)+MAX('MDA3'!J193,'MDA3'!M193))","v":295301},{"$f":"IF(AND(COUNTRY_INFO!I193>0,COUNTRY_INFO!I193<4),IF(J193>MAX('MDA1'!M193,MAX('MDA3'!I193,'MDA3'!L193)+MAX('MDA3'!J193,'MDA3'!M193)),MAX('MDA1'!M193,MAX('MDA3'!I193,'MDA3'!L193)+MAX('MDA3'!J193,'MDA3'!M193)),J193),0)","v":0},{"$f":"IF(AND(COUNTRY_INFO!I193>0,COUNTRY_INFO!I193<4), IF(M193/J193*100<>0, IF(M193/J193*100>100,100,M193/J193*100), \"-\"),0)","v":0},{"$f":"COUNTRY_INFO!N193","v":91962},null,null,{"$f":"SUM(MAX('MDA2'!J193, 'T1'!L193, MAX(T3_R1!K193, T3_R2!K193)), MAX('MDA1'!K193, 'MDA2'!K193, 'T1'!M193, MAX(T3_R1!L193, T3_R2!L193)), MAX('MDA1'!L193, 'MDA2'!L193, 'T1'!N193, MAX(T3_R1!M193, T3_R2!M193)))","v":295301},{"$f":"IF(AND(COUNTRY_INFO!J193>1,COUNTRY_INFO!J193<4),IF(COUNTRY_INFO!E193>MAX('MDA2'!J193,'T1'!L193,MAX(T3_R1!K193,T3_R2!K193)),MAX('MDA2'!J193,'T1'!L193,MAX(T3_R1!K193,T3_R2!K193)),COUNTRY_INFO!E193),0)","v":0},{"$f":"IF(AND(COUNTRY_INFO!J193>1,COUNTRY_INFO!J193<4), IF(T193/COUNTRY_INFO!E193*100<>0, IF(T193/COUNTRY_INFO!E193*100>100,100,T193/COUNTRY_INFO!E193*100), \"-\"),0)","v":"-"},{"$f":"IF(AND(COUNTRY_INFO!J193>1,COUNTRY_INFO!J193<4),IF(COUNTRY_INFO!F193>MAX('MDA1'!K193,'MDA2'!K193,'T1'!M193,MAX(T3_R1!L193,T3_R2!L193)),MAX('MDA1'!K193,'MDA2'!K193,'T1'!M193,MAX(T3_R1!L193,T3_R2!L193)),COUNTRY_INFO!F193),0)","v":56402.491000000002},{"$f":"IF(AND(COUNTRY_INFO!J193>1,COUNTRY_INFO!J193<4), IF(V193/COUNTRY_INFO!F193*100<>0, IF(V193/COUNTRY_INFO!F193*100>100,100,V193/COUNTRY_INFO!F193*100), \"-\"),0)","v":86.73836772983114},56402.491000000002,{"$f":"IF(AND(COUNTRY_INFO!J193>1,COUNTRY_INFO!J193<4), IF(S193/P193*100<>0, IF(X193/P193*100>100,100,X193/P193*100), \"-\"),0)","v":61.332388377808222},{"$f":"COUNTRY_INFO!O193","v":76411.600000000006},null,null,{"$f":"MAX('T1'!L193,'T2'!J193)+MAX('T1'!M193,'T2'!K193)+MAX('T1'!N193,'T2'!L193)","v":62760},{"$f":"IF(COUNTRY_INFO!K193=1,IF(COUNTRY_INFO!F193*0.33>MAX('T1'!M193,'T2'!K193),MAX('T1'!M193,'T2'!K193),COUNTRY_INFO!F193*0.33),IF(COUNTRY_INFO!K193=2,IF(COUNTRY_INFO!F193*0.5>MAX('T1'!M193,'T2'!K193),MAX('T1'!M193,'T2'!K193),COUNTRY_INFO!F193*0.5),IF(COUNTRY_INFO!K193=3,IF(COUNTRY_INFO!F193>MAX('T1'!M193,'T2'!K193),MAX('T1'!M193,'T2'!K193),COUNTRY_INFO!F193),0)))","v":32513},{"$f":"IF(AND(COUNTRY_INFO!K193>0,COUNTRY_INFO!K193<4),IF(Z193>0,IF(COUNTRY_INFO!K193=1, AD193/(COUNTRY_INFO!F193*0.33)*100, IF(COUNTRY_INFO!K193=2, AD193/(COUNTRY_INFO!F193*0.5)*100, IF(COUNTRY_INFO!K193=3, AD193/COUNTRY_INFO!F193*100))),\"-\"),0)","v":100},{"$f":"IF(COUNTRY_INFO!K193=2,IF(COUNTRY_INFO!G193*0.2>MAX('T1'!N193,'T2'!L193),MAX('T1'!N193,'T2'!L193),COUNTRY_INFO!G193*0.2),IF(COUNTRY_INFO!K193=3,IF(COUNTRY_INFO!G193>MAX('T1'!N193,'T2'!L193),MAX('T1'!N193,'T2'!L193),COUNTRY_INFO!G193),0))","v":0},{"$f":"IF(AND(COUNTRY_INFO!K193>0,COUNTRY_INFO!K193<4),IF(Z193>0,IF(COUNTRY_INFO!K193=1, 0, IF(COUNTRY_INFO!K193=2, AF193/(COUNTRY_INFO!G193*0.2)*100, IF(COUNTRY_INFO!K193=3, AF193/COUNTRY_INFO!G193*100))),\"-\"),0)","v":0},32513,{"$f":"IF(AND(COUNTRY_INFO!K193>0,COUNTRY_INFO!K193<4), IF(AC193/Z193*100<>0, IF(AH193/Z193*100>100,100,AH193/Z193*100), \"-\"),0)","v":42.549822278292822},null,{"$f":"IF(AND(D193<>0, D193<>\"Unknown\",D193<>\"Stopped\",D193<>\"Not required\"),D193/COUNTRY_INFO!D193, 0)","v":1},{"$f":"IF(AND(J193<>0,J193<>\"Unknown\",J193<>\"Stopped\",J193<>\"Not required\"),J193/COUNTRY_INFO!D193, 0)","v":0},{"$f":"IF(AND(P193<>0,P193<>\"Unknown\",P193<>\"Not required\"),P193/(COUNTRY_INFO!E193+COUNTRY_INFO!F193), 0)","v":1},{"$f":"IF(AND(Z193<>0,Z193<>\"Unknown\",Z193<>\"Not required\"),IF(COUNTRY_INFO!K193=1,1,IF(COUNTRY_INFO!K193=2,0.5*COUNTRY_INFO!F193/(0.5*COUNTRY_INFO!F193+0.2*COUNTRY_INFO!G193),IF(COUNTRY_INFO!K193=3,COUNTRY_INFO!F193/(COUNTRY_INFO!F193+COUNTRY_INFO!G193)))),0)","v":0.4254982227829282},{"$f":"IF(AND(Z193<>0,Z193<>\"Unknown\",Z193<>\"Not required\"),IF(COUNTRY_INFO!K193=1,0,IF(COUNTRY_INFO!K193=2,0.2*COUNTRY_INFO!G193/(0.5*COUNTRY_INFO!F193+0.2*COUNTRY_INFO!G193),IF(COUNTRY_INFO!K193=3,COUNTRY_INFO!G193/(COUNTRY_INFO!F193+COUNTRY_INFO!G193)))),0)","v":0.57450177721707174},{"$f":"MAX(COUNTRY_INFO!D193*AK193*PROFILE!$G$7,COUNTRY_INFO!D193*AL193*PROFILE!$G$7)","v":0},{"$f":"MAX(COUNTRY_INFO!D193*AK193*PROFILE!$G$8,COUNTRY_INFO!D193*AL193*PROFILE!$G$8,COUNTRY_INFO!D193*AM193*PROFILE!$G$8)","v":34581.042279480629},{"$f":"MAX(COUNTRY_INFO!D193*AK193*PROFILE!$G$9,COUNTRY_INFO!D193*AL193*PROFILE!$G$9,COUNTRY_INFO!D193*AM193*PROFILE!$G$9,IF(AND(DISTRICT!Z193<>\"Unknown\",Z193<>\"Not required\"),COUNTRY_INFO!O193*DISTRICT!AN193,0))","v":67827.109978377339},{"$f":"MAX(COUNTRY_INFO!D193*AK193*PROFILE!$G$10,COUNTRY_INFO!D193*AL193*PROFILE!$G$10,IF(AND(DISTRICT!Z193<>\"Unknown\",Z193<>\"Not required\"),COUNTRY_INFO!O193*DISTRICT!AO193,0))","v":209046.85975449954},311455.01201235747,"Y",{"$f":"MAX('MDA2'!J193,'T1'!L193,'T2'!J193,T3_R1!K193,T3_R2!K193)","v":0},{"$f":"MAX('MDA1'!K193,'MDA2'!K193,'MDA3'!I193,'MDA3'!L193,'T1'!M193,'T2'!K193,T3_R1!L193,T3_R2!L193)","v":62760},{"$f":"MAX('MDA1'!L193,'MDA2'!L193,'MDA3'!J193,'MDA3'!M193,'T1'!N193,'T2'!L193,T3_R1!M193,T3_R2!M193)","v":238898.50899999999},301658.50899999996,{"$f":"MAX('MDA2'!J193,T193)","v":0},{"$f":"MAX('MDA1'!K193,'MDA2'!K193,'MDA3'!I193,'MDA3'!L193,V193,AD193)","v":56402.491000000002},{"$f":"MAX('MDA1'!L193,'MDA2'!L193,'MDA3'!J193,'MDA3'!M193,AF193)","v":238898.50899999999},295301,94.813372272295766]

{"sheet":"SUMMARY","index":10,"n_rows":71,"n_cols":8,"rows_kept":71,"cut":false,"hidden":false,"merged":[[70,1,70,2],[36,1,36,2],[37,1,37,2],[38,1,38,2],[67,1,67,7],[63,1,63,2],[54,1,60,7],[69,1,69,2],[64,3,65,7],[49,1,49,7],[63,3,63,7],[50,3,50,4],[32,1,32,2],[33,1,33,2],[34,1,34,2],[35,1,35,2],[23,1,23,5],[31,1,31,2],[24,1,24,5],[25,1,25,5],[26,1,26,5],[27,1,27,5],[15,1,15,3],[0,1,0,5],[1,1,1,7],[5,1,11,7],[3,3,3,5]]}
[]
[null,"PC Joint Reporting Form v.3.1"]
[]
[null,"Country",null,{"$f":"IF(INTRO!$E$34<>0,INTRO!$E$34,\" \")","v":"Tanzania"},null,null,"Year",{"$f":"IF(INTRO!$E$36<>0,INTRO!$E$36,\" \")","v":2018}]
[]
[null,"National authorities are requested to complete the Joint Reporting Form (JRF) for submission to the World Health Organization any time before 15 August of the current year for reporting data on PC interventions implemented during the previous year."]
[]
[]
[]
[]
[]
[]
[]
[null,"Number of people received treatment (at least once) for the diseases"]
[]
[null,null,null,null,"PreSAC","SAC","Adults","Total"]
[null,"Lymphatic filariasis",null,null,"Not eligible",1739637.5030000003,7368414.4969999986,{"$f":"SUM(E17:G17)","v":9108051.9999999981}]
[null,"Onchocerciasis",null,null,"Not eligible",2334732,9888997,{"$f":"SUM(E18:G18)","v":12223729}]
[null,"Soil-transmitted helminthiases",null,null,0,10490951,7368415,{"$f":"SUM(E19:G19)","v":17859366}]
[null,"Schistosomiasis",null,null,"Not targeted",6497749,0,{"$f":"SUM(E20:G20)","v":6497749}]
[]
[null,"Coverage of PC interventions for the diseases (%)"]
[]
[null,null,null,null,null,null,"Geographical","National"]
[null,"Lymphatic filariasis",null,null,null,null,100,83.006265268029935]
[null,"Onchocerciasis",null,null,null,null,100,80.649273724927014]
[null,"Soil-transmitted helminthiases",null,null,null,null,100,60.443585708597269]
[null,"Schistosomiasis",null,null,null,null,63.243243243243242,26.409981698399498]
[]
[null,"Number of people treated and programme coverage (%) by PC interventions"]
[]
[null,null,null,"PreSAC","SAC","Adults","Total","Coverage (%)"]
[null,"MDA 1 (IVM+ALB)",null,"Not eligible",{"$f":"'MDA1'!$K$4","v":1739637.5030000003},{"$f":"'MDA1'!$L$4","v":7368414.4969999986},{"$f":"'MDA1'!$M$4","v":9108052},{"$f":"'MDA1'!$Q$4","v":95.363365013445872}]
[null,"MDA 2 (DEC+ALB)",null,{"$f":"'MDA2'!$J$4","v":0},{"$f":"'MDA2'!$K$4","v":0},{"$f":"'MDA2'!$L$4","v":0},{"$f":"'MDA2'!$M$4","v":0},{"$f":"'MDA2'!$Q$4","v":" "}]
[null,"MDA 3 (IVM)",null,"Not eligible",{"$f":"'MDA3'!$O$4","v":595093.24600000004},{"$f":"'MDA3'!$P$4","v":2520583.7540000002},{"$f":"'MDA3'!$Q$4","v":3115677},{"$f":"'MDA3'!$T$4","v":91.010656010656007}]
[null,"T 1 (PZQ+ALB/MBD)",null,{"$f":"IF('T1'!$L$4<>0,'T1'!$L$4,\"Not targeted\")","v":"Not targeted"},{"$f":"'T1'!$M$4","v":6089315},{"$f":"IF('T1'!$N$4<>0,'T1'!$N$4,\"Not targeted\")","v":"Not targeted"},{"$f":"'T1'!$O$4","v":6089315},{"$f":"'T1'!$S$4","v":87.781210776016977}]
[null,"T 2 (PZQ)",null,{"$f":"IF('T2'!$J$4<>0,'T2'!$J$4,\"Not targeted\")","v":"Not targeted"},{"$f":"'T2'!$K$4","v":408434},{"$f":"'T2'!$L$4","v":0},{"$f":"'T2'!$M$4","v":408434},{"$f":"'T2'!$Q$4","v":86.961909425767033}]
[null,"T 3 (ALB/MBD) - round 1",null,{"$f":"T3_R1!$K$4","v":0},{"$f":"T3_R1!$L$4","v":3632195},{"$f":"IF(T3_R1!$M$4<>0,T3_R1!$M$4,\"Not targeted\")","v":"Not targeted"},{"$f":"T3_R1!$N$4","v":3632195},{"$f":"T3_R1!$R$4","v":93.461614864127696}]
[null,"T 3 (ALB/MBD) - round 2",null,{"$f":"T3_R2!$K$4","v":0},{"$f":"T3_R2!$L$4","v":0},{"$f":"IF(T3_R2!$M$4<>0,T3_R2!$M$4,\"Not targeted\")","v":"Not targeted"},{"$f":"T3_R2!$N$4","v":0},{"$f":"T3_R2!$R$4","v":" "}]
[]
[null,"Inventory of PC medicines in the country"]
[]
[null,null,"IVM","DEC","ALB (LF)","ALB (STH)","MBD","PZQ"]
[null,"Available",8997500,null,1540000,351000,0,64000]
[null,"Distributed",33004068,null,7368415,10693661,null,16244372]
[null,"Wasted",0,null,0,0,null,0]
[null,"Received",24393000,null,5907000,10443000,null,17960000]
[null,"Remaining",{"$f":"C44-C45-C46+C47","v":386432},0,78585,100339,0,1779628]
[]
[null,"Please indicate the medicine has been used to treat PreSAC for STH and delivery channels"]
[null,"PC medicine",null,"Delivery channels",null,null,"Source"]
[]
[null,"Additional information"]
[]
[]
[]
[]
[]
[]
[]
[]
[]
[null,null,null,"       I have read and accept WHO Data Sharing Policy"]
[null,"Name and signature of NTD coordinator or Ministry of Health representative:",null,"Dr Upendo Mwingira "]
[null,null,null,"2019-05-13"]
[null,"Date:"]
[]
[null,"Please send the national report (signed and in electronic format) to the concerned WR with copy to:"]
[]
[null,"WHO headquarters",null,"PC_JointForms@who.int"]
[null,"WHO Regional Office",null,"Regional Advisor for NTD"]

{"sheet":"PROFILE","index":11,"n_rows":124,"n_cols":8,"rows_kept":124,"cut":false,"hidden":true,"merged":[[79,1,79,3],[123,1,124,7],[85,6,85,7],[87,6,87,7],[89,6,89,7],[86,6,86,7],[88,6,88,7],[9,1,9,2],[4,1,4,7],[5,1,5,2],[81,1,81,3],[19,1,19,6],[9,3,9,5],[43,1,43,3],[77,1,77,3],[80,1,80,3],[6,3,6,5],[7,3,7,5],[8,3,8,5],[78,1,78,3],[23,1,23,3],[11,1,11,6],[20,1,20,6],[0,1,0,5],[1,1,1,7],[3,3,3,5],[69,1,69,3],[73,1,73,3],[26,1,26,3],[27,1,27,3],[28,1,28,3],[59,1,59,3],[5,3,5,5],[30,1,30,3],[34,1,34,3],[42,1,42,3],[6,1,6,2],[7,1,7,2],[8,1,8,2],[12,1,12,6],[47,1,47,3],[51,1,51,3],[55,1,55,3],[65,1,65,3],[29,1,29,3],[21,1,21,6],[16,1,16,6],[18,1,18,6],[17,1,17,6],[63,1,63,3],[13,1,13,6],[14,1,14,6],[15,1,15,6]]}
[]
[null,"PC Joint Reporting Form v.3.1 - Country Profile"]
[]
[null,"Country",null,{"$f":"IF(INTRO!$E$34<>0,INTRO!$E$34,\" \")","v":"Tanzania"},null,null,"Year",{"$f":"IF(INTRO!$E$36<>0,INTRO!$E$36,\" \")","v":2018}]
[null,"!!! WARNING !!!\nBefore analysing data in the country profile please be ensure that your report in the SUMMARY tab is updated"]
[null,"Total population",null,null,null,null,1,{"$f":"COUNTRY_INFO!D4","v":51855766}]
[null,"Population — other age groups",null,null,null,null,{"$f":"IF($H$6<>0,H7/$H$6,0)","v":-3.8568517144265117E-8},{"$f":"H6-SUM(H8:H10)","v":-2}]
[null,"Population — Pre-SAC",null,{"$f":"INTRO!B48","v":"1-4 years age"},null,null,{"$f":"IF($H$6<>0,H8/$H$6,0)","v":0.11103062169328033},{"$f":"COUNTRY_INFO!E4","v":5757577.9373612683}]
[null,"Population — SAC",null,{"$f":"INTRO!B49","v":"5-14 years age"},null,null,{"$f":"IF($H$6<>0,H9/$H$6,0)","v":0.21777499150239146},{"$f":"COUNTRY_INFO!F4","v":11292889}]
[null,"Population — Adults",null,{"$f":"INTRO!B50","v":"15 years +"},null,null,0.67119442537284535,{"$f":"COUNTRY_INFO!G4","v":34805301.06263873}]
[]
[null,"Total number of people requiring PC for at least one disease (LF, ONCHO, STH, SCH)",null,null,null,null,null,{"$f":"DISTRICT!AT6","v":34121256.596823767}]
[null,"Proportion of number of people requiring PC for at least one disease out of total population",null,null,null,null,null,{"$f":"IF(H6<>0,H12/H6,0)","v":0.65800313501923324}]
[null,"Number of IUs requiring PC for at least one disease (LF, ONCHO, STH, SCH)",null,null,null,null,null,{"$f":"COUNTIF(DISTRICT!AT9:AT1000,\">0\")","v":185}]
[null,"Number of IUs received PC for at least one disease (LF, ONCHO, STH, SCH)",null,null,null,null,null,{"$f":"COUNTIF(DISTRICT!AY9:AY1000,\">0\")","v":185}]
[null,"Proportion of IUs requiring PC for at least one disease and received it",null,null,null,null,null,{"$f":"IF(H14<>0,H15/H14,0)","v":1}]
[null,"Total number of people received PC for at least one disease (LF, ONCHO, STH, SCH)",null,null,null,null,null,{"$f":"DISTRICT!AY6","v":20405698.775000002}]
[null,"Total number of people in need who received PC for at least one disease (LF, ONCHO, STH, SCH)",null,null,null,null,null,{"$f":"DISTRICT!BC6","v":20378856.675621346}]
[null,"Coverage of PC for at least one disease (LF, ONCHO, STH, SCH)",null,null,null,null,null,{"$f":"DISTRICT!BD6","v":0.59724812941145744}]
[null,"Number of IUs received treatment for all diseases requiring PC in those IUs",null,null,null,null,null,{"$f":"DISTRICT!AU6","v":117}]
[null,"Population requiring PC in IUs which received treatment for all diseases in need of PC",null,null,null,null,null,{"$f":"SUMIF(DISTRICT!AU9:AU1000,\"Y\",DISTRICT!AT9:AT1000)","v":26115930.985781513}]
[null,"Population received PC in IUs which were treated for all diseases in need of PC",null,null,null,null,null,{"$f":"SUMIF(DISTRICT!AU9:AU1000,\"Y\",DISTRICT!AY9:AY1000)","v":16485965.758000005}]
[]
[null,null,null,null,"LF","ONCHO","STH","SCH"]
[]
[null,"Diseases requiring PC in the country",null,null,{"$f":"IF(INTRO!E38=\"Endemic\",\"Yes\",\"No\")","v":"Yes"},{"$f":"IF(INTRO!E40=\"Endemic\",\"Yes\",\"No\")","v":"Yes"},{"$f":"IF(INTRO!E42=\"Endemic\",\"Yes\",\"No\")","v":"Yes"},{"$f":"IF(INTRO!E44=\"Endemic\",\"Yes\",\"No\")","v":"Yes"}]
[null,"Number of implementation units (IUs) in the country",null,null,{"$f":"IF(E26=\"Yes\",INTRO!$E$46,\"-\")","v":185},{"$f":"IF(F26=\"Yes\",INTRO!$E$46,\"-\")","v":185},{"$f":"IF(G26=\"Yes\",INTRO!$E$46,\"-\")","v":185},{"$f":"IF(H26=\"Yes\",INTRO!$E$46,\"-\")","v":185}]
[null,"Number of IUs with endemicity status known",null,null,{"$f":"IF(E26=\"Yes\",E27-E29,\"-\")","v":185},{"$f":"IF(F26=\"Yes\",F27-F29,\"-\")","v":185},{"$f":"IF(G26=\"Yes\",G27-G29,\"-\")","v":185},{"$f":"IF(H26=\"Yes\",H27-H29,\"-\")","v":185}]
[null,"Number of IUs with endemicity status unknown",null,null,{"$f":"IF(E26=\"Yes\",E27-(992-COUNTIF(COUNTRY_INFO!H$9:H$1000,\"\"))+COUNTIF(COUNTRY_INFO!H$9:H$1000,\"=4\"),\"-\")","v":0},{"$f":"IF(F26=\"Yes\",F27-(992-COUNTIF(COUNTRY_INFO!I$9:I$1000,\"\"))+COUNTIF(COUNTRY_INFO!I$9:I$1000,\"=4\"),\"-\")","v":0},{"$f":"IF(G26=\"Yes\",G27-(992-COUNTIF(COUNTRY_INFO!J$9:J$1000,\"\"))+COUNTIF(COUNTRY_INFO!J$9:J$1000,\"=4\")+COUNTIF(COUNTRY_INFO!J$9:J$1000,\"=5\"),\"-\")","v":0},{"$f":"IF(H26=\"Yes\",H27-(992-COUNTIF(COUNTRY_INFO!K$9:K$1000,\"\"))+COUNTIF(COUNTRY_INFO!K$9:K$1000,\"=4\")+COUNTIF(COUNTRY_INFO!K$9:K$1000,\"=5\"),\"-\")","v":0}]
[null,"Number of non-endemic IUs",null,null,{"$f":"IF(E26=\"Yes\",COUNTIF(COUNTRY_INFO!H$9:H$1000,\"=0\"),\"-\")","v":65},{"$f":"IF(F26=\"Yes\",COUNTIF(COUNTRY_INFO!I$9:I$1000,\"=0\"),\"-\")","v":157},{"$f":"IF(G26=\"Yes\",COUNTIF(COUNTRY_INFO!J$9:J$1000,\"=0\"),\"-\")","v":0},{"$f":"IF(H26=\"Yes\",COUNTIF(COUNTRY_INFO!K$9:K$1000,\"=0\"),\"-\")","v":0}]
[null,"Number of IUs requiring PC (total)",null,null,{"$f":"COUNTIF(COUNTRY_INFO!H$9:H$1000,\"=1\")","v":24},{"$f":"COUNTIF(COUNTRY_INFO!I$9:I$1000,\"=1\")","v":28},{"$f":"SUM(G33:G34)","v":185},{"$f":"SUM(H32:H34)","v":185}]
[null,null,null,"low prevalence",null,null,{"$f":"COUNTIF(COUNTRY_INFO!J$9:J$1000,\"=1\")","v":0},{"$f":"COUNTIF(COUNTRY_INFO!K$9:K$1000,\"=1\")","v":0}]
[null,null,null,"moderate prevalence",null,null,{"$f":"COUNTIF(COUNTRY_INFO!J$9:J$1000,\"=2\")","v":0},{"$f":"COUNTIF(COUNTRY_INFO!K$9:K$1000,\"=2\")","v":166}]
[null,null,null,"high prevalence",null,null,{"$f":"COUNTIF(COUNTRY_INFO!J$9:J$1000,\"=3\")","v":185},{"$f":"COUNTIF(COUNTRY_INFO!K$9:K$1000,\"=3\")","v":19}]
[null,"Population requiring PC in the country (total)",null,null,{"$f":"COUNTRY_INFO!L4","v":9986963},{"$f":"COUNTRY_INFO!M4","v":6528587},{"$f":"COUNTRY_INFO!N4","v":17050466.93736127},{"$f":"COUNTRY_INFO!O4","v":15895883.790992608}]
[null,null,"Pre-SAC","moderate prevalence",null,null,{"$f":"SUMIF(COUNTRY_INFO!J$9:J$1000,\"=2\",COUNTRY_INFO!E$9:E$1000)","v":0}]
[null,null,null,"high prevalence",null,null,{"$f":"SUMIF(COUNTRY_INFO!J$9:J$1000,\"=3\",COUNTRY_INFO!E$9:E$1000)","v":5757577.9373612683}]
[null,null,"SAC","low prevalence",null,null,null,{"$f":"SUMIF(COUNTRY_INFO!K$9:K$1000,\"=1\",COUNTRY_INFO!F$9:F$1000)*0.33","v":0}]
[null,null,null,"moderate prevalence",null,null,{"$f":"SUMIF(COUNTRY_INFO!J$9:J$1000,\"=2\",COUNTRY_INFO!F$9:F$1000)","v":0},{"$f":"SUMIF(COUNTRY_INFO!K$9:K$1000,\"=2\",COUNTRY_INFO!F$9:F$1000)*0.5","v":5054463}]
[null,null,null,"high prevalence",null,null,{"$f":"SUMIF(COUNTRY_INFO!J$9:J$1000,\"=3\",COUNTRY_INFO!F$9:F$1000)","v":11292889},{"$f":"SUMIF(COUNTRY_INFO!K$9:K$1000,\"=3\",COUNTRY_INFO!F$9:F$1000)","v":1183963}]
[null,null,"Adults","moderate prevalence",null,null,null,{"$f":"SUMIF(COUNTRY_INFO!K$9:K$1000,\"=2\",COUNTRY_INFO!G$9:G$1000)*0.2","v":6286960.8179115318}]
[null,null,null,"high prevalence",null,null,null,{"$f":"SUMIF(COUNTRY_INFO!K$9:K$1000,\"=3\",COUNTRY_INFO!G$9:G$1000)","v":3370496.9730810779}]
[null,"Number of IUs where PC was implemented (total)",null,null,{"$f":"COUNTIF(DISTRICT!G$9:G$1000,\">0\")","v":28},{"$f":"COUNTIF(DISTRICT!M$9:M$1000,\">0\")","v":47},{"$f":"COUNTIF(DISTRICT!S$9:S$1000,\">0\")","v":185},{"$f":"COUNTIF(DISTRICT!AC$9:AC$1000,\">0\")","v":117}]
[null,"Number of IUs in need where PC was implemented (total)",null,null,{"$f":"COUNTIF(DISTRICT!H$9:H$1000,\">0\")","v":24},{"$f":"COUNTIF(DISTRICT!N$9:N$1000,\">0\")","v":28},{"$f":"COUNTIF(DISTRICT!X$9:X$1000,\">0\")","v":185},{"$f":"COUNTIF(DISTRICT!AH$9:AH$1000,\">0\")","v":117}]
[null,null,"Pre-SAC",null,null,null,{"$f":"COUNTIF(DISTRICT!T$9:T$1000,\">0\")","v":0}]
[null,null,"SAC",null,null,null,{"$f":"COUNTIF(DISTRICT!V$9:V$1000,\">0\")","v":185},{"$f":"COUNTIF(DISTRICT!AD$9:AD$1000,\">0\")","v":117}]
[null,null,"Adults",null,null,null,null,{"$f":"COUNTIF(DISTRICT!AF$9:AF$1000,\">0\")","v":0}]
[null,"Number of individuals treated (total)",null,null,{"$f":"DISTRICT!G4","v":9108052},{"$f":"DISTRICT!M4","v":12223729},{"$f":"DISTRICT!S4","v":17859366.309000004},{"$f":"DISTRICT!AC4","v":6497749}]
[null,null,"Pre-SAC",null,{"$f":"SUMMARY!$E17","v":"Not eligible"},{"$f":"SUMMARY!$E18","v":"Not eligible"},{"$f":"SUMMARY!$E19","v":0},{"$f":"SUMMARY!$E20","v":"Not targeted"}]
[null,null,"SAC",null,{"$f":"SUMMARY!$F17","v":1739637.5030000003},{"$f":"SUMMARY!$F18","v":2334732},{"$f":"SUMMARY!$F19","v":10490951},{"$f":"SUMMARY!$F20","v":6497749}]
[null,null,"Adults",null,{"$f":"SUMMARY!$G17","v":7368414.4969999986},{"$f":"SUMMARY!$G18","v":9888997},{"$f":"SUMMARY!$G19","v":7368415},{"$f":"SUMMARY!$G20","v":0}]
[null,"Number of individuals in need treated (total)",null,null,{"$f":"DISTRICT!H4","v":8289805},{"$f":"DISTRICT!N4","v":5265258},{"$f":"DISTRICT!X4","v":10305913.596999999},{"$f":"DISTRICT!AH4","v":4198100}]
[null,null,"Pre-SAC",null,null,null,{"$f":"DISTRICT!T4","v":0}]
[null,null,"SAC",null,null,null,{"$f":"DISTRICT!V4","v":10305913.596999999},{"$f":"DISTRICT!AD4","v":4198100}]
[null,null,"Adults",null,null,null,null,{"$f":"DISTRICT!AF4","v":0}]
[null,"Geographical coverage (all ages)",null,null,{"$f":"IF(E31<>0,E44/E31,0)","v":1},{"$f":"IF(F31<>0,F44/F31,0)","v":1},{"$f":"IF(G31<>0,G44/G31,0)","v":1},{"$f":"IF(H31<>0,H44/H31,0)","v":0.63243243243243241}]
[null,null,"Pre-SAC",null,null,null,{"$f":"IF(G31<>0,G45/G31,0)","v":0}]
[null,null,"SAC",null,null,null,{"$f":"IF(G31<>0,G46/G31,0)","v":1},{"$f":"IF(H31<>0,H46/H31,0)","v":0.63243243243243241}]
[null,null,"Adults",null,null,null,null,{"$f":"IF(SUM(H33:H34)<>0,H47/SUM(H33:H34),0)","v":0}]
[null,"National coverage (total)",null,null,{"$f":"IF(E35<>0,E52/E35,0)","v":0.83006265268029933},{"$f":"IF(F35<>0,F52/F35,0)","v":0.80649273724927006},{"$f":"IF(G35<>0,G52/G35,0)","v":0.60443585708597269},{"$f":"IF(H35<>0,H52/H35,0)","v":0.26409981698399498}]
[null,null,"Pre-SAC",null,null,null,{"$f":"IF(SUM(G36:G37)<>0,G53/SUM(G36:G37),0)","v":0}]
[null,null,"SAC",null,null,null,{"$f":"IF(SUM(G39:G40)<>0,G54/SUM(G39:G40),0)","v":0.91260204514540066},{"$f":"IF(SUM(H38:H40)<>0,H54/SUM(H38:H40),0)","v":0.67294218124892402}]
[null,null,"Adults",null,null,null,null,{"$f":"IF(SUM(H41:H42)<>0,H55/SUM(H41:H42),0)","v":0}]
[null,null,null,null,"LF","ONCHO","STH","SCH"]
[]
[null,"Number of IUs achieved effective coverage (all ages)",null,null,{"$f":"COUNTIF(DISTRICT!I$9:I$1000,\">=65\")","v":24},{"$f":"COUNTIF(DISTRICT!O$9:O$1000,\">=65\")","v":26},{"$f":"COUNTIF(DISTRICT!Y$9:Y$1000,\">=75\")","v":20},{"$f":"COUNTIF(DISTRICT!AI$9:AI$1000,\">=75\")","v":0}]
[null,null,"Pre-SAC",null,null,null,{"$f":"COUNTIF(DISTRICT!U$9:U$1000,\">=75\")","v":0}]
[null,null,"SAC",null,null,null,{"$f":"COUNTIF(DISTRICT!W$9:W$1000,\">=75\")","v":180},{"$f":"COUNTIF(DISTRICT!AE$9:AE$1000,\">=75\")","v":117}]
[null,null,"Adults",null,null,null,null,{"$f":"COUNTIF(DISTRICT!AG$9:AG$1000,\">=75\")","v":0}]
[null,"Number of individuals in need treated in IUs achieved effective coverage (total)",null,null,{"$f":"SUMIF(DISTRICT!I9:I1000,\">=65\",DISTRICT!H9:H1000)","v":8289805},{"$f":"SUMIF(DISTRICT!O9:O1000,\">=65\",DISTRICT!N9:N1000)","v":5027966},{"$f":"SUMIF(DISTRICT!Y9:Y1000,\">=75\",DISTRICT!X9:X1000)","v":1347719},{"$f":"SUMIF(DISTRICT!AI9:AI1000,\">=75\",DISTRICT!AH9:AH1000)","v":0}]
[null,null,"Pre-SAC",null,null,null,{"$f":"SUMIF(DISTRICT!U9:U1000,\">=75\",DISTRICT!T9:T1000)","v":0}]
[null,null,"SAC",null,null,null,{"$f":"SUMIF(DISTRICT!W9:W1000,\">=75\",DISTRICT!V9:V1000)","v":10043721.596999999},{"$f":"SUMIF(DISTRICT!AE9:AE1000,\">=75\",DISTRICT!AD9:AD1000)","v":4198100}]
[null,null,"Adults",null,null,null,null,{"$f":"SUMIF(DISTRICT!AG9:AG1000,\">=75\",DISTRICT!AF9:AF1000)","v":0}]
[null,"Proportion of IUs requiring PC and achieved effective coverage (total)",null,null,{"$f":"IF(E44<>0,E66/E44,0)","v":1},{"$f":"IF(F44<>0,F66/F44,0)","v":0.9285714285714286},{"$f":"IF(G44<>0,G66/G44,0)","v":0.10810810810810811},{"$f":"IF(H44<>0,H66/H44,0)","v":0}]
[null,null,"Pre-SAC",null,null,null,{"$f":"IF(G45<>0,G67/G45,0)","v":0}]
[null,null,"SAC",null,null,null,{"$f":"IF(G46<>0,G68/G46,0)","v":0.97297297297297303},{"$f":"IF(H46<>0,H68/H46,0)","v":1}]
[null,null,"Adults",null,null,null,null,{"$f":"IF(H47<>0,H69/H47,0)","v":0}]
[null,"Number of implementation units where PC was stopped (i.e. under surveillance)",null,null,{"$f":"COUNTIF(COUNTRY_INFO!H$9:H$1000,\"=99\")","v":96},{"$f":"COUNTIF(COUNTRY_INFO!I$9:I$1000,\"=99\")","v":0}]
[null,"Number of individuals in IUs no longer requiring PC (stopped)",null,null,{"$f":"SUMIF(COUNTRY_INFO!H$9:H$1000,\"=99\",COUNTRY_INFO!D$9:D$1000)","v":21651696},{"$f":"SUMIF(COUNTRY_INFO!I$9:I$1000,\"=99\",COUNTRY_INFO!D$9:D$1000)","v":0}]
[null,"Number of individuals requiring PC living in IUs targeted with PC",null,null,{"$f":"SUMIF(DISTRICT!H$9:H$1000,\">0\",DISTRICT!D$9:D$1000)","v":9986963},{"$f":"SUMIF(DISTRICT!N$9:N$1000,\">0\",DISTRICT!J$9:J$1000)","v":6528587},{"$f":"SUMIF(DISTRICT!X$9:X$1000,\">0\",DISTRICT!P$9:P$1000)","v":17050466.93736127},{"$f":"SUMIF(DISTRICT!AH$9:AH$1000,\">0\",DISTRICT!Z$9:Z$1000)","v":11732639.897581508}]
[null,"Number of individuals requiring PC living in IUs not targeted with PC",null,null,{"$f":"SUMIF(DISTRICT!H$9:H$1000,\"=0\",DISTRICT!D$9:D$1000)","v":0},{"$f":"SUMIF(DISTRICT!N$9:N$1000,\"=0\",DISTRICT!J$9:J$1000)","v":0},{"$f":"SUMIF(DISTRICT!X$9:X$1000,\"=0\",DISTRICT!P$9:P$1000)","v":0},{"$f":"SUMIF(DISTRICT!AH$9:AH$1000,\"=0\",DISTRICT!Z$9:Z$1000)","v":4163243.8934110967}]
[null,null,null,null,{"$f":"E35-E52","v":1697158},{"$f":"F35-F52","v":1263329},6744553.3403612711,11697783.790992608]
[null,"Number of IUs requiring and receiving PC",null,null,{"$f":"E31-E44","v":0},{"$f":"F31-F44","v":0},0,68]
[null,null,null,null,{"$f":"E27-E31-E29","v":161},157,0,{"$f":"H27-H31-H29","v":0}]
[]
[null,null,null,null,null,null,"Requiring and receiving PC"]
[null,null,null,null,null,null,"Requiring and not receiving PC"]
[null,null,null,null,null,null,"Not requiring PC"]
[null,null,null,null,null,null,"Status unknown"]
[]
[]
[]
[]
[]
[]
[]
[]
[]
[]
[]
[]
[]
[]
[]
[]
[]
[]
[]
[]
[]
[]
[]
[]
[]
[]
[]
[]
[]
[]
[]
[]
[]
[]
[null,"Click here to access data Preventive Chemotherapy Data Portal"]

{"sheet":"DATA_POLICY","index":12,"n_rows":39,"n_cols":8,"rows_kept":39,"cut":false,"hidden":true,"merged":[[55,1,55,2],[8,1,12,7],[13,1,16,7],[26,2,36,7],[38,1,45,7],[6,1,6,7],[17,1,21,7],[22,1,25,7],[0,1,0,5],[1,1,1,7],[3,3,3,5]]}
[]
[null,"PC Joint Reporting Form v.3.1"]
[]
[null,"Country",null,{"$f":"IF(INTRO!$E$34<>0,INTRO!$E$34,\" \")","v":"Tanzania"},null,null,"Year",{"$f":"IF(INTRO!$E$36<>0,INTRO!$E$36,\" \")","v":2018}]
[]
[]
[null,"WHO Data Sharing Policy statement"]
[]
[null,"Data are the basis for all sound public health actions and the benefits of data sharing are widely recognized, including scientific and public health benefits. Whenever possible, WHO wishes to promote the sharing of health data, including but not restricted to surveillance and epidemiological data.  "]
[]
[]
[]
[]
[null,{"$f":"\"In this connection, and without prejudice to information sharing and publication pursuant to legally binding instruments, by providing data to WHO, the Ministry of Health of \" & D4 & \":\"","v":"In this connection, and without prejudice to information sharing and publication pursuant to legally binding instruments, by providing data to WHO, the Ministry of Health of Tanzania:"}]
[]
[]
[]
[null,"Confirms that all data to be supplied to WHO hereunder have been collected in accordance with applicable national laws, including data protection laws aimed at protecting the confidentiality of identifiable persons;"]
[]
[]
[]
[]
[null,{"$f":"\"Agrees that WHO shall be entitled, subject always to measures to ensure the ethical and secure use of the data, and subject always to an appropriate acknowledgement of \"&D4&\":\"","v":"Agrees that WHO shall be entitled, subject always to measures to ensure the ethical and secure use of the data, and subject always to an appropriate acknowledgement of Tanzania:"}]
[]
[]
[]
[null,null,"to publish the data, stripped of any personal identifiers and make the Data available to any interested party on request (to the extent they have not, or not yet, been published by WHO) on terms that allow non-commercial, not-for-profit use of the Data for public health purposes (provided always that publication of the Data shall remain under the control of WHO); \nto use, compile, aggregate, evaluate and analyse the Data and publish and disseminate the results thereof in conjunction with WHO’s work and in accordance with the Organization’s policies and practices."]
[]
[]
[]
[]
[]
[]
[]
[]
[]
[]
[]
[null,{"$f":"CONCATENATE(\"Except where data sharing and publication is required under legally binding instruments (IHR, WHO Nomenclature Regulations 1967, etc.), the Ministry of Health of \", D4,\" may in respect of certain data opt out of (any part of) the above,\" & \" by notifying WHO thereof in writing at the following address, provided that any such notification shall clearly identify the data in question and clearly indicate the scope of the opt-out (in reference to the  above), \" & \"and provided that specific reasons shall be given for the opt out.\")","v":"Except where data sharing and publication is required under legally binding instruments (IHR, WHO Nomenclature Regulations 1967, etc.), the Ministry of Health of Tanzania may in respect of certain data opt out of (any part of) the above, by notifying WHO thereof in writing at the following address, provided that any such notification shall clearly identify the data in question and clearly indicate the scope of the opt-out (in reference to the  above), and provided that specific reasons shall be given for the opt out."}]