{"text_format":"1","workbook":"xlsx","n_sheets":14,"sheets":["INTRO","COUNTRY_INFO","MDA1","MDA3","MDA4","T1","T2","T3_R1","T3_R2","T3_R3","DISTRICT","SUMMARY","PROFILE","DATA_POLICY"],"not_rendered":{"charts":8,"images":3,"macros":1,"external_links":0,"defined_names":15,"comments":12,"pivot_tables":0},"unopened":[],"bounds":{"document_bytes":16777216,"sheet_cells":100000,"rows_first":2000,"rows_last":500,"rows_between":2000,"halvings":0,"cell_chars":16384,"cell_head_chars":4096},"cells_cut":0,"cells_raw":0,"read":"whole","date_system":"1900"}

{"sheet":"INTRO","index":0,"n_rows":51,"n_cols":8,"rows_kept":51,"cut":false,"hidden":false,"merged":[[0,2,0,4],[7,2,7,4],[8,2,8,4],[1,1,1,4],[2,1,2,4],[3,1,3,4],[4,1,4,4],[5,1,5,4],[9,2,9,4],[11,2,11,4],[12,1,12,4],[13,1,13,4],[14,1,14,4],[22,1,22,4],[23,2,24,4],[25,1,25,4],[15,1,15,4],[16,1,16,4],[17,1,17,4],[18,1,18,4],[19,2,19,4],[45,1,45,2],[10,2,10,4],[41,1,41,2],[43,1,43,2],[46,1,46,4],[33,1,33,2],[35,1,35,2],[26,2,27,4],[37,1,37,2],[39,1,39,2],[28,1,28,4],[29,2,29,4],[30,1,30,4],[31,1,31,4],[20,1,20,4],[21,2,21,4]]}
[null,null,"The current version should be used in countries endemic for Loiasis"]
[null,"PC Joint Reporting Form v.4.1 (Loa)"]
[]
[null,"The purpose of this template Joint Reporting Form (JRF) - available as an Excel file - is to provide national health authorities and data managers with a standardized tool to address these reporting challenges, facilitate  integration and thereby further contribute to improving overall programme management. This template aims to standardize national reporting of programme implementation outcomes, improve availability and coordination of preventive chemotherapy data across the World Health Organization regions. \nNational authorities are requested to complete this form for submission to the World Health Organization within 3 months after the last round was implemented and no later than 31 March of the next implementation year."]
[]
[null,"Structure of the application (worksheets):"]
[]
[null,"INTRO","This worksheet includes guides on how to complete the joint reporting form and information about status of PC for endemic diseases in the country"]
[null,"COUNTRY_INFO","This worksheet includes information about administrative structure of the country, population by age group, status of endemicity for each disease, population requiring PC, planned interventions and interventions implemented"]
[null,"MDA1, MDA2, MDA3, MDA4, MDA5, T1, T2 and T3","These worksheets include information about endemic districts targeted for treatment with specified PC medicines, treatment plan, and number of people who received treatment by age group. Depending on co-endemicity of the diseases in a country the tool will generate respective worksheets to fill in."]
[null,"DISTRICT","This worksheet includes summary of people treated by disease at the level of implementation. If data by gender is available, it requires to enter."]
[null,"SUMMARY","This worksheet includes summary of people treated by disease and by PC intervention. Before generating the report (run macros) please select the disease for which you need the report. Follow the same rule to generate various reports.\nThis worksheet should be printed and submitted as a Joint Report (see the instruction for submission in the SUMMARY worksheet)."]
[]
[null,"Instruction for data entry"]
[]
[null,"Most of the cells in the above-mentioned worksheets include formula that are calculated automatically according to the treatment policy recommended by WHO for each disease.\nSee the link https://www.who.int/publications/i/item/9789241599993"]
[]
[null,"Please enter your data into the cells according to their colour code:"]
[]
[null,null,"White - cell is not protected. Please enter the value of the requested indicator."]
[]
[null,null,"Yellow - cell is protected and includes name of indicator. No data entry required."]
[]
[null,null,"Orange - cell is not protected and includes a drop-down menu. Please select the value from the drop-down list."]
[]
[]
[null,null,"Green - cell is not protected and includes formula. Please change the value only if your data are different from those that are calculated automatically."]
[]
[]
[null,null,"Blue - cell is protected and includes formula. No data entry required."]
[]
[null,"Country data"]
[]
[null,"COUNTRY",null,null,"South Sudan",null,"SS","SSD"]
[]
[null,"Year of reporting data",null,null,2022]
[]
[null,"Is country endemic for lymphatic filariasis (LF)?",null,null,"Endemic"]
[]
[null,"Is country endemic for onchocerciasis (ONCHO)?",null,null,"Endemic"]
[]
[null,"Is country endemic for soil-transmitted helminthiases (STH)?",null,null,"Endemic"]
[]
[null,"Is country endemic for schistosomiasis (SCH)?",null,null,"Endemic"]
[]
[null,"How many administrative units in the country?",null,null,80]
[null,"If demographical data at the second administrative level are not available by age group, please enter the proportion (%) of population by age group in the country. If data are available, please leave these cells blank."]
[null,"1-4 years age","Preschool-age children (PreSAC)",null,0.11070000000000001]
[null,"5-14 years age","School-age children (SAC)",null,0.30890000000000001]
[null,"15 years +","Adults",null,0.55289999999999995]
[null,"15-49 years","Women of reproductive age (WRA)",null,0.2258]

{"sheet":"COUNTRY_INFO","index":1,"n_rows":89,"n_cols":54,"rows_kept":89,"cut":false,"hidden":false,"merged":[[6,28,7,28],[6,27,7,27],[6,22,7,22],[6,23,7,23],[6,24,7,24],[6,25,7,25],[6,26,7,26],[6,0,7,0],[6,1,7,1],[6,2,7,2],[6,3,7,3],[6,4,7,4],[5,26,5,28],[3,0,3,2],[3,26,3,28],[5,0,5,2],[3,22,3,25],[5,22,5,25],[6,11,7,11],[5,7,5,11],[3,7,3,11],[5,3,5,6],[5,12,5,21],[6,5,7,5],[6,6,7,6],[6,7,7,7],[6,8,7,8],[6,9,7,9],[6,10,7,10],[6,12,7,12],[6,13,7,13],[6,14,6,17],[6,18,6,21]]}
["COUNTRY INFORMATION"]
["Administrative structure, population by age group, endemicity status, planned interventions and interventions implemented"]
[]
["TOTAL",null,null,{"$f":"SUBTOTAL(9,D$10:D$1010)","v":14110063.797999993},{"$f":"SUBTOTAL(9,E$10:E$1010)","v":1561983},4358600,7801455,null,null,null,null,null,{"$f":"SUBTOTAL(9,M$10:M$1010)","v":9198157.2693000045},9209211.8473000024,205731,574077,419639,1199447,357085,1152586,2485804,3995475]
[]
["Country administrative structure",null,null,"Population",null,null,null,"Endemicity",null,null,null,null,"Population requiring PC",null,null,null,null,null,null,null,null,null,"Number of treatment\nrounds planned for the year",null,null,null,"PC implemented"]
["Country","Province/State","District","Total","PreSAC","SAC","Adults","LF","Oncho","STH","SCH","Loa","LF","ONCHO","STH",null,null,null,"SCH",null,null,null,"LF","Oncho","STH","SCH","ROUND 1","ROUND 2","ROUND 3"]
[null,null,null,null,null,null,null,null,null,null,null,null,null,null,"PreSAC","SAC","WRA","TOTAL","PreSAC","SAC","Adults","TOTAL",null,null,null,null,null,null,null,null,null,null,null,"IU_ID","IU_Name","Parent_IU_ID","Parent_IU_Name",null,null,null,"mda1","mda3","mda4"]
[null,null,null,null,null,null,null,null,null,null,null,null,null,null,null,null,null,null,null,null,null,null,null,null,null,null,null,null,null,"x","x","x","x","x","x","x","x","x","x","x","x","x","x","x","x","x","x","x","x","x","x","x","x","x"]
[{"$f":"IF(INTRO!$E$34<>0,INTRO!$E$34,\"\")","v":"South Sudan"},"Central Equatoria","TEREKEKA",243214.50770000002,{"$f":"IF(INTRO!$E$48=\"\",\"\",ROUND($D10*INTRO!$E$48,0))","v":26924},{"$f":"IF(INTRO!$E$49=\"\",\"\",ROUND($D10*INTRO!$E$49,0))","v":75129},{"$f":"IF(INTRO!$E$50=\"\",\"\",ROUND($D10*INTRO!$E$50,0))","v":134473},1,1,2,2,1,{"$f":"IF(INTRO!$E$38=\"Endemic\", IF($H10>0, IF($H10=4,\"Unknown\", IF($H10=99,\"Stopped\", $D10)), 0),\"Not required\")","v":243214.50770000002},{"$f":"IF(INTRO!$E$40=\"Endemic\", IF($I10>0, IF($I10=4,\"Unknown\",IF($I10=99,\"Stopped\", $D10)), 0),\"Not required\")","v":243214.50770000002},{"$f":"IF(INTRO!$E$42=\"Endemic\", IF($J10>1, IF($J10=4, \"Unknown\", IF($J10=99, \"Surveillance\", E10)), 0),\"Not required\")","v":26924},{"$f":"IF(INTRO!$E$42=\"Endemic\", IF($J10>1, IF($J10=4, \"Unknown\", IF($J10=99, \"Surveillance\", F10)), 0),\"Not required\")","v":75129},{"$f":"IF(INTRO!$E$42=\"Endemic\", IF($J10>1, IF($J10=4, \"Unknown\", IF($J10=99, \"Surveillance\", ROUND(D10*INTRO!$E$51,0))), 0),\"Not required\")","v":54918},{"$f":"IF(INTRO!$E$42=\"Endemic\", IF($J10>1, IF($J10=4, \"Unknown\", IF($J10=99, \"Surveillance\", SUM($O10:$Q10))), 0),\"Not required\")","v":156971},1799,5807,12523,{"$f":"IF(INTRO!$E$44=\"Endemic\", IF($K10>1, IF($K10=4, \"Unknown\", IF($K10=99, \"Surveillance\", SUM($S10:$U10))), 0),\"Not required\")","v":20129},1,1,1,0,"MDA1 (IVM+ALB)",null,null,null,null,null,null,44323,"TEREKEKA",null,null,null,null,null,{"$f":"'MDA1'!K10","v":92868},{"$f":"'MDA3'!O10","v":0},{"$f":"'MDA4'!S10","v":0}]
[{"$f":"IF(INTRO!$E$34<>0,INTRO!$E$34,\"\")","v":"South Sudan"},"Central Equatoria","JUBA",620103,{"$f":"IF(INTRO!$E$48=\"\",\"\",ROUND($D11*INTRO!$E$48,0))","v":68645},{"$f":"IF(INTRO!$E$49=\"\",\"\",ROUND($D11*INTRO!$E$49,0))","v":191550},{"$f":"IF(INTRO!$E$50=\"\",\"\",ROUND($D11*INTRO!$E$50,0))","v":342855},1,1,2,3,1,{"$f":"IF(INTRO!$E$38=\"Endemic\", IF($H11>0, IF($H11=4,\"Unknown\", IF($H11=99,\"Stopped\", $D11)), 0),\"Not required\")","v":620103},{"$f":"IF(INTRO!$E$40=\"Endemic\", IF($I11>0, IF($I11=4,\"Unknown\",IF($I11=99,\"Stopped\", $D11)), 0),\"Not required\")","v":620103},{"$f":"IF(INTRO!$E$42=\"Endemic\", IF($J11>1, IF($J11=4, \"Unknown\", IF($J11=99, \"Surveillance\", E11)), 0),\"Not required\")","v":68645},{"$f":"IF(INTRO!$E$42=\"Endemic\", IF($J11>1, IF($J11=4, \"Unknown\", IF($J11=99, \"Surveillance\", F11)), 0),\"Not required\")","v":191550},{"$f":"IF(INTRO!$E$42=\"Endemic\", IF($J11>1, IF($J11=4, \"Unknown\", IF($J11=99, \"Surveillance\", ROUND(D11*INTRO!$E$51,0))), 0),\"Not required\")","v":140019},{"$f":"IF(INTRO!$E$42=\"Endemic\", IF($J11>1, IF($J11=4, \"Unknown\", IF($J11=99, \"Surveillance\", SUM($O11:$Q11))), 0),\"Not required\")","v":400214},39572,127723,275460,{"$f":"IF(INTRO!$E$44=\"Endemic\", IF($K11>1, IF($K11=4, \"Unknown\", IF($K11=99, \"Surveillance\", SUM($S11:$U11))), 0),\"Not required\")","v":442755},1,1,1,0,"MDA1 (IVM+ALB)",null,null,null,null,null,null,44319,"JUBA",null,null,null,null,null,{"$f":"'MDA1'!K11","v":366852},{"$f":"'MDA3'!O11","v":0},{"$f":"'MDA4'!S11","v":0}]
[{"$f":"IF(INTRO!$E$34<>0,INTRO!$E$34,\"\")","v":"South Sudan"},"Central Equatoria","LAINYA",150384.69680000001,{"$f":"IF(INTRO!$E$48=\"\",\"\",ROUND($D12*INTRO!$E$48,0))","v":16648},{"$f":"IF(INTRO!$E$49=\"\",\"\",ROUND($D12*INTRO!$E$49,0))","v":46454},{"$f":"IF(INTRO!$E$50=\"\",\"\",ROUND($D12*INTRO!$E$50,0))","v":83148},1,1,3,3,1,{"$f":"IF(INTRO!$E$38=\"Endemic\", IF($H12>0, IF($H12=4,\"Unknown\", IF($H12=99,\"Stopped\", $D12)), 0),\"Not required\")","v":150384.69680000001},{"$f":"IF(INTRO!$E$40=\"Endemic\", IF($I12>0, IF($I12=4,\"Unknown\",IF($I12=99,\"Stopped\", $D12)), 0),\"Not required\")","v":150384.69680000001},{"$f":"IF(INTRO!$E$42=\"Endemic\", IF($J12>1, IF($J12=4, \"Unknown\", IF($J12=99, \"Surveillance\", E12)), 0),\"Not required\")","v":16648},{"$f":"IF(INTRO!$E$42=\"Endemic\", IF($J12>1, IF($J12=4, \"Unknown\", IF($J12=99, \"Surveillance\", F12)), 0),\"Not required\")","v":46454},{"$f":"IF(INTRO!$E$42=\"Endemic\", IF($J12>1, IF($J12=4, \"Unknown\", IF($J12=99, \"Surveillance\", ROUND(D12*INTRO!$E$51,0))), 0),\"Not required\")","v":33957},{"$f":"IF(INTRO!$E$42=\"Endemic\", IF($J12>1, IF($J12=4, \"Unknown\", IF($J12=99, \"Surveillance\", SUM($O12:$Q12))), 0),\"Not required\")","v":97059},12487,40302,86923,{"$f":"IF(INTRO!$E$44=\"Endemic\", IF($K12>1, IF($K12=4, \"Unknown\", IF($K12=99, \"Surveillance\", SUM($S12:$U12))), 0),\"Not required\")","v":139712},1,1,1,0,"MDA1 (IVM+ALB)",null,null,null,null,null,null,44321,"LAINYA",null,null,null,null,null,{"$f":"'MDA1'!K12","v":23935},{"$f":"'MDA3'!O12","v":0},{"$f":"'MDA4'!S12","v":0}]
[{"$f":"IF(INTRO!$E$34<>0,INTRO!$E$34,\"\")","v":"South Sudan"},"Central Equatoria","YEI",339757.46860000002,{"$f":"IF(INTRO!$E$48=\"\",\"\",ROUND($D13*INTRO!$E$48,0))","v":37611},{"$f":"IF(INTRO!$E$49=\"\",\"\",ROUND($D13*INTRO!$E$49,0))","v":104951},{"$f":"IF(INTRO!$E$50=\"\",\"\",ROUND($D13*INTRO!$E$50,0))","v":187852},1,1,2,3,1,{"$f":"IF(INTRO!$E$38=\"Endemic\", IF($H13>0, IF($H13=4,\"Unknown\", IF($H13=99,\"Stopped\", $D13)), 0),\"Not required\")","v":339757.46860000002},{"$f":"IF(INTRO!$E$40=\"Endemic\", IF($I13>0, IF($I13=4,\"Unknown\",IF($I13=99,\"Stopped\", $D13)), 0),\"Not required\")","v":339757.46860000002},{"$f":"IF(INTRO!$E$42=\"Endemic\", IF($J13>1, IF($J13=4, \"Unknown\", IF($J13=99, \"Surveillance\", E13)), 0),\"Not required\")","v":37611},{"$f":"IF(INTRO!$E$42=\"Endemic\", IF($J13>1, IF($J13=4, \"Unknown\", IF($J13=99, \"Surveillance\", F13)), 0),\"Not required\")","v":104951},{"$f":"IF(INTRO!$E$42=\"Endemic\", IF($J13>1, IF($J13=4, \"Unknown\", IF($J13=99, \"Surveillance\", ROUND(D13*INTRO!$E$51,0))), 0),\"Not required\")","v":76717},{"$f":"IF(INTRO!$E$42=\"Endemic\", IF($J13>1, IF($J13=4, \"Unknown\", IF($J13=99, \"Surveillance\", SUM($O13:$Q13))), 0),\"Not required\")","v":219279},28210,91056,196381,{"$f":"IF(INTRO!$E$44=\"Endemic\", IF($K13>1, IF($K13=4, \"Unknown\", IF($K13=99, \"Surveillance\", SUM($S13:$U13))), 0),\"Not required\")","v":315647},1,1,1,0,"MDA1 (IVM+ALB)",null,null,null,null,null,null,44324,"YEI",null,null,null,null,null,{"$f":"'MDA1'!K13","v":40468},{"$f":"'MDA3'!O13","v":0},{"$f":"'MDA4'!S13","v":0}]
[{"$f":"IF(INTRO!$E$34<>0,INTRO!$E$34,\"\")","v":"South Sudan"},"Central Equatoria","MOROBO",174520.17180000001,{"$f":"IF(INTRO!$E$48=\"\",\"\",ROUND($D14*INTRO!$E$48,0))","v":19319},{"$f":"IF(INTRO!$E$49=\"\",\"\",ROUND($D14*INTRO!$E$49,0))","v":53909},{"$f":"IF(INTRO!$E$50=\"\",\"\",ROUND($D14*INTRO!$E$50,0))","v":96492},1,1,3,2,1,{"$f":"IF(INTRO!$E$38=\"Endemic\", IF($H14>0, IF($H14=4,\"Unknown\", IF($H14=99,\"Stopped\", $D14)), 0),\"Not required\")","v":174520.17180000001},{"$f":"IF(INTRO!$E$40=\"Endemic\", IF($I14>0, IF($I14=4,\"Unknown\",IF($I14=99,\"Stopped\", $D14)), 0),\"Not required\")","v":174520.17180000001},{"$f":"IF(INTRO!$E$42=\"Endemic\", IF($J14>1, IF($J14=4, \"Unknown\", IF($J14=99, \"Surveillance\", E14)), 0),\"Not required\")","v":19319},{"$f":"IF(INTRO!$E$42=\"Endemic\", IF($J14>1, IF($J14=4, \"Unknown\", IF($J14=99, \"Surveillance\", F14)), 0),\"Not required\")","v":53909},{"$f":"IF(INTRO!$E$42=\"Endemic\", IF($J14>1, IF($J14=4, \"Unknown\", IF($J14=99, \"Surveillance\", ROUND(D14*INTRO!$E$51,0))), 0),\"Not required\")","v":39407},{"$f":"IF(INTRO!$E$42=\"Endemic\", IF($J14>1, IF($J14=4, \"Unknown\", IF($J14=99, \"Surveillance\", SUM($O14:$Q14))), 0),\"Not required\")","v":112635},6753,21796,47007,{"$f":"IF(INTRO!$E$44=\"Endemic\", IF($K14>1, IF($K14=4, \"Unknown\", IF($K14=99, \"Surveillance\", SUM($S14:$U14))), 0),\"Not required\")","v":75556},1,1,1,0,"MDA1 (IVM+ALB)",null,null,null,null,null,null,44322,"MOROBO",null,null,null,null,null,{"$f":"'MDA1'!K14","v":23717},{"$f":"'MDA3'!O14","v":0},{"$f":"'MDA4'!S14","v":0}]
[{"$f":"IF(INTRO!$E$34<>0,INTRO!$E$34,\"\")","v":"South Sudan"},"Central Equatoria","KAJO KEJI",330474.59360000002,{"$f":"IF(INTRO!$E$48=\"\",\"\",ROUND($D15*INTRO!$E$48,0))","v":36584},{"$f":"IF(INTRO!$E$49=\"\",\"\",ROUND($D15*INTRO!$E$49,0))","v":102084},{"$f":"IF(INTRO!$E$50=\"\",\"\",ROUND($D15*INTRO!$E$50,0))","v":182719},1,1,2,2,1,{"$f":"IF(INTRO!$E$38=\"Endemic\", IF($H15>0, IF($H15=4,\"Unknown\", IF($H15=99,\"Stopped\", $D15)), 0),\"Not required\")","v":330474.59360000002},{"$f":"IF(INTRO!$E$40=\"Endemic\", IF($I15>0, IF($I15=4,\"Unknown\",IF($I15=99,\"Stopped\", $D15)), 0),\"Not required\")","v":330474.59360000002},{"$f":"IF(INTRO!$E$42=\"Endemic\", IF($J15>1, IF($J15=4, \"Unknown\", IF($J15=99, \"Surveillance\", E15)), 0),\"Not required\")","v":36584},{"$f":"IF(INTRO!$E$42=\"Endemic\", IF($J15>1, IF($J15=4, \"Unknown\", IF($J15=99, \"Surveillance\", F15)), 0),\"Not required\")","v":102084},{"$f":"IF(INTRO!$E$42=\"Endemic\", IF($J15>1, IF($J15=4, \"Unknown\", IF($J15=99, \"Surveillance\", ROUND(D15*INTRO!$E$51,0))), 0),\"Not required\")","v":74621},{"$f":"IF(INTRO!$E$42=\"Endemic\", IF($J15>1, IF($J15=4, \"Unknown\", IF($J15=99, \"Surveillance\", SUM($O15:$Q15))), 0),\"Not required\")","v":213289},27438,88567,191014,{"$f":"IF(INTRO!$E$44=\"Endemic\", IF($K15>1, IF($K15=4, \"Unknown\", IF($K15=99, \"Surveillance\", SUM($S15:$U15))), 0),\"Not required\")","v":307019},1,1,1,0,"MDA1 (IVM+ALB)",null,null,null,null,null,null,44320,"KAJO KEJI",null,null,null,null,null,{"$f":"'MDA1'!K15","v":95316},{"$f":"'MDA3'!O15","v":0},{"$f":"'MDA4'!S15","v":0}]
[{"$f":"IF(INTRO!$E$34<>0,INTRO!$E$34,\"\")","v":"South Sudan"},"Eastern Equatoria","TORIT",184739.82150000002,{"$f":"IF(INTRO!$E$48=\"\",\"\",ROUND($D16*INTRO!$E$48,0))","v":20451},{"$f":"IF(INTRO!$E$49=\"\",\"\",ROUND($D16*INTRO!$E$49,0))","v":57066},{"$f":"IF(INTRO!$E$50=\"\",\"\",ROUND($D16*INTRO!$E$50,0))","v":102143},1,1,1,2,1,{"$f":"IF(INTRO!$E$38=\"Endemic\", IF($H16>0, IF($H16=4,\"Unknown\", IF($H16=99,\"Stopped\", $D16)), 0),\"Not required\")","v":184739.82150000002},{"$f":"IF(INTRO!$E$40=\"Endemic\", IF($I16>0, IF($I16=4,\"Unknown\",IF($I16=99,\"Stopped\", $D16)), 0),\"Not required\")","v":184739.82150000002},{"$f":"IF(INTRO!$E$42=\"Endemic\", IF($J16>1, IF($J16=4, \"Unknown\", IF($J16=99, \"Surveillance\", E16)), 0),\"Not required\")","v":0},{"$f":"IF(INTRO!$E$42=\"Endemic\", IF($J16>1, IF($J16=4, \"Unknown\", IF($J16=99, \"Surveillance\", F16)), 0),\"Not required\")","v":0},{"$f":"IF(INTRO!$E$42=\"Endemic\", IF($J16>1, IF($J16=4, \"Unknown\", IF($J16=99, \"Surveillance\", ROUND(D16*INTRO!$E$51,0))), 0),\"Not required\")","v":0},{"$f":"IF(INTRO!$E$42=\"Endemic\", IF($J16>1, IF($J16=4, \"Unknown\", IF($J16=99, \"Surveillance\", SUM($O16:$Q16))), 0),\"Not required\")","v":0},14098,45504,98138,{"$f":"IF(INTRO!$E$44=\"Endemic\", IF($K16>1, IF($K16=4, \"Unknown\", IF($K16=99, \"Surveillance\", SUM($S16:$U16))), 0),\"Not required\")","v":157740},1,1,0,0,"MDA1 (IVM+ALB)",null,null,null,null,null,null,44332,"TORIT",null,null,null,null,null,{"$f":"'MDA1'!K16","v":51904},{"$f":"'MDA3'!O16","v":0},{"$f":"'MDA4'!S16","v":0}]
[{"$f":"IF(INTRO!$E$34<>0,INTRO!$E$34,\"\")","v":"South Sudan"},"Eastern Equatoria","LOPA/LAFON",196496.71530000001,{"$f":"IF(INTRO!$E$48=\"\",\"\",ROUND($D17*INTRO!$E$48,0))","v":21752},{"$f":"IF(INTRO!$E$49=\"\",\"\",ROUND($D17*INTRO!$E$49,0))","v":60698},{"$f":"IF(INTRO!$E$50=\"\",\"\",ROUND($D17*INTRO!$E$50,0))","v":108643},0,1,0,2,1,{"$f":"IF(INTRO!$E$38=\"Endemic\", IF($H17>0, IF($H17=4,\"Unknown\", IF($H17=99,\"Stopped\", $D17)), 0),\"Not required\")","v":0},{"$f":"IF(INTRO!$E$40=\"Endemic\", IF($I17>0, IF($I17=4,\"Unknown\",IF($I17=99,\"Stopped\", $D17)), 0),\"Not required\")","v":196496.71530000001},{"$f":"IF(INTRO!$E$42=\"Endemic\", IF($J17>1, IF($J17=4, \"Unknown\", IF($J17=99, \"Surveillance\", E17)), 0),\"Not required\")","v":0},{"$f":"IF(INTRO!$E$42=\"Endemic\", IF($J17>1, IF($J17=4, \"Unknown\", IF($J17=99, \"Surveillance\", F17)), 0),\"Not required\")","v":0},{"$f":"IF(INTRO!$E$42=\"Endemic\", IF($J17>1, IF($J17=4, \"Unknown\", IF($J17=99, \"Surveillance\", ROUND(D17*INTRO!$E$51,0))), 0),\"Not required\")","v":0},{"$f":"IF(INTRO!$E$42=\"Endemic\", IF($J17>1, IF($J17=4, \"Unknown\", IF($J17=99, \"Surveillance\", SUM($O17:$Q17))), 0),\"Not required\")","v":0},1323,4270,9209,{"$f":"IF(INTRO!$E$44=\"Endemic\", IF($K17>1, IF($K17=4, \"Unknown\", IF($K17=99, \"Surveillance\", SUM($S17:$U17))), 0),\"Not required\")","v":14802},0,1,0,0,"MDA3 (IVM)",null,null,null,null,null,null,44330,"LOPA/LAFON",null,null,null,null,null,{"$f":"'MDA1'!K17","v":0},{"$f":"'MDA3'!O17","v":15116},{"$f":"'MDA4'!S17","v":0}]
[{"$f":"IF(INTRO!$E$34<>0,INTRO!$E$34,\"\")","v":"South Sudan"},"Eastern Equatoria","KAPOETA NORTH",191458.5012,{"$f":"IF(INTRO!$E$48=\"\",\"\",ROUND($D18*INTRO!$E$48,0))","v":21194},{"$f":"IF(INTRO!$E$49=\"\",\"\",ROUND($D18*INTRO!$E$49,0))","v":59142},{"$f":"IF(INTRO!$E$50=\"\",\"\",ROUND($D18*INTRO!$E$50,0))","v":105857},0,4,0,1,1,{"$f":"IF(INTRO!$E$38=\"Endemic\", IF($H18>0, IF($H18=4,\"Unknown\", IF($H18=99,\"Stopped\", $D18)), 0),\"Not required\")","v":0},{"$f":"IF(INTRO!$E$40=\"Endemic\", IF($I18>0, IF($I18=4,\"Unknown\",IF($I18=99,\"Stopped\", $D18)), 0),\"Not required\")","v":"Unknown"},{"$f":"IF(INTRO!$E$42=\"Endemic\", IF($J18>1, IF($J18=4, \"Unknown\", IF($J18=99, \"Surveillance\", E18)), 0),\"Not required\")","v":0},{"$f":"IF(INTRO!$E$42=\"Endemic\", IF($J18>1, IF($J18=4, \"Unknown\", IF($J18=99, \"Surveillance\", F18)), 0),\"Not required\")","v":0},{"$f":"IF(INTRO!$E$42=\"Endemic\", IF($J18>1, IF($J18=4, \"Unknown\", IF($J18=99, \"Surveillance\", ROUND(D18*INTRO!$E$51,0))), 0),\"Not required\")","v":0},{"$f":"IF(INTRO!$E$42=\"Endemic\", IF($J18>1, IF($J18=4, \"Unknown\", IF($J18=99, \"Surveillance\", SUM($O18:$Q18))), 0),\"Not required\")","v":0},0,0,0,{"$f":"IF(INTRO!$E$44=\"Endemic\", IF($K18>1, IF($K18=4, \"Unknown\", IF($K18=99, \"Surveillance\", SUM($S18:$U18))), 0),\"Not required\")","v":0},0,0,0,0,null,null,null,null,null,null,null,44328,"KAPOETA NORTH",null,null,null,null,null,{"$f":"'MDA1'!K18","v":0},{"$f":"'MDA3'!O18","v":0},{"$f":"'MDA4'!S18","v":0}]
[{"$f":"IF(INTRO!$E$34<>0,INTRO!$E$34,\"\")","v":"South Sudan"},"Eastern Equatoria","KAPOETA EAST",303981.79880000005,{"$f":"IF(INTRO!$E$48=\"\",\"\",ROUND($D19*INTRO!$E$48,0))","v":33651},{"$f":"IF(INTRO!$E$49=\"\",\"\",ROUND($D19*INTRO!$E$49,0))","v":93900},{"$f":"IF(INTRO!$E$50=\"\",\"\",ROUND($D19*INTRO!$E$50,0))","v":168072},1,4,1,1,1,{"$f":"IF(INTRO!$E$38=\"Endemic\", IF($H19>0, IF($H19=4,\"Unknown\", IF($H19=99,\"Stopped\", $D19)), 0),\"Not required\")","v":303981.79880000005},{"$f":"IF(INTRO!$E$40=\"Endemic\", IF($I19>0, IF($I19=4,\"Unknown\",IF($I19=99,\"Stopped\", $D19)), 0),\"Not required\")","v":"Unknown"},{"$f":"IF(INTRO!$E$42=\"Endemic\", IF($J19>1, IF($J19=4, \"Unknown\", IF($J19=99, \"Surveillance\", E19)), 0),\"Not required\")","v":0},{"$f":"IF(INTRO!$E$42=\"Endemic\", IF($J19>1, IF($J19=4, \"Unknown\", IF($J19=99, \"Surveillance\", F19)), 0),\"Not required\")","v":0},{"$f":"IF(INTRO!$E$42=\"Endemic\", IF($J19>1, IF($J19=4, \"Unknown\", IF($J19=99, \"Surveillance\", ROUND(D19*INTRO!$E$51,0))), 0),\"Not required\")","v":0},{"$f":"IF(INTRO!$E$42=\"Endemic\", IF($J19>1, IF($J19=4, \"Unknown\", IF($J19=99, \"Surveillance\", SUM($O19:$Q19))), 0),\"Not required\")","v":0},0,0,0,{"$f":"IF(INTRO!$E$44=\"Endemic\", IF($K19>1, IF($K19=4, \"Unknown\", IF($K19=99, \"Surveillance\", SUM($S19:$U19))), 0),\"Not required\")","v":0},1,0,0,0,"MDA4 (ALB/2*ALB)",null,null,null,null,null,null,44327,"KAPOETA EAST",null,null,null,null,null,{"$f":"'MDA1'!K19","v":0},{"$f":"'MDA3'!O19","v":0},{"$f":"'MDA4'!S19","v":67069}]
[{"$f":"IF(INTRO!$E$34<>0,INTRO!$E$34,\"\")","v":"South Sudan"},"Eastern Equatoria","KAPOETA SOUTH",147791.8572,{"$f":"IF(INTRO!$E$48=\"\",\"\",ROUND($D20*INTRO!$E$48,0))","v":16361},{"$f":"IF(INTRO!$E$49=\"\",\"\",ROUND($D20*INTRO!$E$49,0))","v":45653},{"$f":"IF(INTRO!$E$50=\"\",\"\",ROUND($D20*INTRO!$E$50,0))","v":81714},1,4,1,1,1,{"$f":"IF(INTRO!$E$38=\"Endemic\", IF($H20>0, IF($H20=4,\"Unknown\", IF($H20=99,\"Stopped\", $D20)), 0),\"Not required\")","v":147791.8572},{"$f":"IF(INTRO!$E$40=\"Endemic\", IF($I20>0, IF($I20=4,\"Unknown\",IF($I20=99,\"Stopped\", $D20)), 0),\"Not required\")","v":"Unknown"},{"$f":"IF(INTRO!$E$42=\"Endemic\", IF($J20>1, IF($J20=4, \"Unknown\", IF($J20=99, \"Surveillance\", E20)), 0),\"Not required\")","v":0},{"$f":"IF(INTRO!$E$42=\"Endemic\", IF($J20>1, IF($J20=4, \"Unknown\", IF($J20=99, \"Surveillance\", F20)), 0),\"Not required\")","v":0},{"$f":"IF(INTRO!$E$42=\"Endemic\", IF($J20>1, IF($J20=4, \"Unknown\", IF($J20=99, \"Surveillance\", ROUND(D20*INTRO!$E$51,0))), 0),\"Not required\")","v":0},{"$f":"IF(INTRO!$E$42=\"Endemic\", IF($J20>1, IF($J20=4, \"Unknown\", IF($J20=99, \"Surveillance\", SUM($O20:$Q20))), 0),\"Not required\")","v":0},0,0,0,{"$f":"IF(INTRO!$E$44=\"Endemic\", IF($K20>1, IF($K20=4, \"Unknown\", IF($K20=99, \"Surveillance\", SUM($S20:$U20))), 0),\"Not required\")","v":0},1,0,0,0,"MDA1 (IVM+ALB)",null,null,null,null,null,null,44329,"KAPOETA SOUTH",null,null,null,null,null,{"$f":"'MDA1'!K20","v":46892},{"$f":"'MDA3'!O20","v":0},{"$f":"'MDA4'!S20","v":0}]
[{"$f":"IF(INTRO!$E$34<>0,INTRO!$E$34,\"\")","v":"South Sudan"},"Eastern Equatoria","BUDI",184739.82150000002,{"$f":"IF(INTRO!$E$48=\"\",\"\",ROUND($D21*INTRO!$E$48,0))","v":20451},{"$f":"IF(INTRO!$E$49=\"\",\"\",ROUND($D21*INTRO!$E$49,0))","v":57066},{"$f":"IF(INTRO!$E$50=\"\",\"\",ROUND($D21*INTRO!$E$50,0))","v":102143},1,4,1,1,1,{"$f":"IF(INTRO!$E$38=\"Endemic\", IF($H21>0, IF($H21=4,\"Unknown\", IF($H21=99,\"Stopped\", $D21)), 0),\"Not required\")","v":184739.82150000002},{"$f":"IF(INTRO!$E$40=\"Endemic\", IF($I21>0, IF($I21=4,\"Unknown\",IF($I21=99,\"Stopped\", $D21)), 0),\"Not required\")","v":"Unknown"},{"$f":"IF(INTRO!$E$42=\"Endemic\", IF($J21>1, IF($J21=4, \"Unknown\", IF($J21=99, \"Surveillance\", E21)), 0),\"Not required\")","v":0},{"$f":"IF(INTRO!$E$42=\"Endemic\", IF($J21>1, IF($J21=4, \"Unknown\", IF($J21=99, \"Surveillance\", F21)), 0),\"Not required\")","v":0},{"$f":"IF(INTRO!$E$42=\"Endemic\", IF($J21>1, IF($J21=4, \"Unknown\", IF($J21=99, \"Surveillance\", ROUND(D21*INTRO!$E$51,0))), 0),\"Not required\")","v":0},{"$f":"IF(INTRO!$E$42=\"Endemic\", IF($J21>1, IF($J21=4, \"Unknown\", IF($J21=99, \"Surveillance\", SUM($O21:$Q21))), 0),\"Not required\")","v":0},0,0,0,{"$f":"IF(INTRO!$E$44=\"Endemic\", IF($K21>1, IF($K21=4, \"Unknown\", IF($K21=99, \"Surveillance\", SUM($S21:$U21))), 0),\"Not required\")","v":0},1,0,0,0,"MDA1 (IVM+ALB)",null,null,null,null,null,null,44325,"BUDI",null,null,null,null,null,{"$f":"'MDA1'!K21","v":28980},{"$f":"'MDA3'!O21","v":0},{"$f":"'MDA4'!S21","v":0}]
[{"$f":"IF(INTRO!$E$34<>0,INTRO!$E$34,\"\")","v":"South Sudan"},"Eastern Equatoria","IKOTOS",156189.94159999999,{"$f":"IF(INTRO!$E$48=\"\",\"\",ROUND($D22*INTRO!$E$48,0))","v":17290},{"$f":"IF(INTRO!$E$49=\"\",\"\",ROUND($D22*INTRO!$E$49,0))","v":48247},{"$f":"IF(INTRO!$E$50=\"\",\"\",ROUND($D22*INTRO!$E$50,0))","v":86357},1,1,1,1,1,{"$f":"IF(INTRO!$E$38=\"Endemic\", IF($H22>0, IF($H22=4,\"Unknown\", IF($H22=99,\"Stopped\", $D22)), 0),\"Not required\")","v":156189.94159999999},{"$f":"IF(INTRO!$E$40=\"Endemic\", IF($I22>0, IF($I22=4,\"Unknown\",IF($I22=99,\"Stopped\", $D22)), 0),\"Not required\")","v":156189.94159999999},{"$f":"IF(INTRO!$E$42=\"Endemic\", IF($J22>1, IF($J22=4, \"Unknown\", IF($J22=99, \"Surveillance\", E22)), 0),\"Not required\")","v":0},{"$f":"IF(INTRO!$E$42=\"Endemic\", IF($J22>1, IF($J22=4, \"Unknown\", IF($J22=99, \"Surveillance\", F22)), 0),\"Not required\")","v":0},{"$f":"IF(INTRO!$E$42=\"Endemic\", IF($J22>1, IF($J22=4, \"Unknown\", IF($J22=99, \"Surveillance\", ROUND(D22*INTRO!$E$51,0))), 0),\"Not required\")","v":0},{"$f":"IF(INTRO!$E$42=\"Endemic\", IF($J22>1, IF($J22=4, \"Unknown\", IF($J22=99, \"Surveillance\", SUM($O22:$Q22))), 0),\"Not required\")","v":0},0,0,0,{"$f":"IF(INTRO!$E$44=\"Endemic\", IF($K22>1, IF($K22=4, \"Unknown\", IF($K22=99, \"Surveillance\", SUM($S22:$U22))), 0),\"Not required\")","v":0},1,1,0,0,"MDA1 (IVM+ALB)",null,null,null,null,null,null,44326,"IKOTOS",null,null,null,null,null,{"$f":"'MDA1'!K22","v":46400},{"$f":"'MDA3'!O22","v":0},{"$f":"'MDA4'!S22","v":0}]
[{"$f":"IF(INTRO!$E$34<>0,INTRO!$E$34,\"\")","v":"South Sudan"},"Eastern Equatoria","MAGWI",314058.22700000001,{"$f":"IF(INTRO!$E$48=\"\",\"\",ROUND($D23*INTRO!$E$48,0))","v":34766},{"$f":"IF(INTRO!$E$49=\"\",\"\",ROUND($D23*INTRO!$E$49,0))","v":97013},{"$f":"IF(INTRO!$E$50=\"\",\"\",ROUND($D23*INTRO!$E$50,0))","v":173643},1,1,1,2,1,{"$f":"IF(INTRO!$E$38=\"Endemic\", IF($H23>0, IF($H23=4,\"Unknown\", IF($H23=99,\"Stopped\", $D23)), 0),\"Not required\")","v":314058.22700000001},{"$f":"IF(INTRO!$E$40=\"Endemic\", IF($I23>0, IF($I23=4,\"Unknown\",IF($I23=99,\"Stopped\", $D23)), 0),\"Not required\")","v":314058.22700000001},{"$f":"IF(INTRO!$E$42=\"Endemic\", IF($J23>1, IF($J23=4, \"Unknown\", IF($J23=99, \"Surveillance\", E23)), 0),\"Not required\")","v":0},{"$f":"IF(INTRO!$E$42=\"Endemic\", IF($J23>1, IF($J23=4, \"Unknown\", IF($J23=99, \"Surveillance\", F23)), 0),\"Not required\")","v":0},{"$f":"IF(INTRO!$E$42=\"Endemic\", IF($J23>1, IF($J23=4, \"Unknown\", IF($J23=99, \"Surveillance\", ROUND(D23*INTRO!$E$51,0))), 0),\"Not required\")","v":0},{"$f":"IF(INTRO!$E$42=\"Endemic\", IF($J23>1, IF($J23=4, \"Unknown\", IF($J23=99, \"Surveillance\", SUM($O23:$Q23))), 0),\"Not required\")","v":0},4532,14631,31554,{"$f":"IF(INTRO!$E$44=\"Endemic\", IF($K23>1, IF($K23=4, \"Unknown\", IF($K23=99, \"Surveillance\", SUM($S23:$U23))), 0),\"Not required\")","v":50717},1,1,0,0,"MDA1 (IVM+ALB)",null,null,null,null,null,null,44331,"MAGWI",null,null,null,null,null,{"$f":"'MDA1'!K23","v":73715},{"$f":"'MDA3'!O23","v":0},{"$f":"'MDA4'!S23","v":0}]
[{"$f":"IF(INTRO!$E$34<>0,INTRO!$E$34,\"\")","v":"South Sudan"},"Jonglei","FANGAK",177414.307,{"$f":"IF(INTRO!$E$48=\"\",\"\",ROUND($D24*INTRO!$E$48,0))","v":19640},{"$f":"IF(INTRO!$E$49=\"\",\"\",ROUND($D24*INTRO!$E$49,0))","v":54803},{"$f":"IF(INTRO!$E$50=\"\",\"\",ROUND($D24*INTRO!$E$50,0))","v":98092},1,4,0,3,1,{"$f":"IF(INTRO!$E$38=\"Endemic\", IF($H24>0, IF($H24=4,\"Unknown\", IF($H24=99,\"Stopped\", $D24)), 0),\"Not required\")","v":177414.307},{"$f":"IF(INTRO!$E$40=\"Endemic\", IF($I24>0, IF($I24=4,\"Unknown\",IF($I24=99,\"Stopped\", $D24)), 0),\"Not required\")","v":"Unknown"},{"$f":"IF(INTRO!$E$42=\"Endemic\", IF($J24>1, IF($J24=4, \"Unknown\", IF($J24=99, \"Surveillance\", E24)), 0),\"Not required\")","v":0},{"$f":"IF(INTRO!$E$42=\"Endemic\", IF($J24>1, IF($J24=4, \"Unknown\", IF($J24=99, \"Surveillance\", F24)), 0),\"Not required\")","v":0},{"$f":"IF(INTRO!$E$42=\"Endemic\", IF($J24>1, IF($J24=4, \"Unknown\", IF($J24=99, \"Surveillance\", ROUND(D24*INTRO!$E$51,0))), 0),\"Not required\")","v":0},{"$f":"IF(INTRO!$E$42=\"Endemic\", IF($J24>1, IF($J24=4, \"Unknown\", IF($J24=99, \"Surveillance\", SUM($O24:$Q24))), 0),\"Not required\")","v":0},14730,47548,102546,{"$f":"IF(INTRO!$E$44=\"Endemic\", IF($K24>1, IF($K24=4, \"Unknown\", IF($K24=99, \"Surveillance\", SUM($S24:$U24))), 0),\"Not required\")","v":164824},1,0,0,0,"MDA4 (ALB/2*ALB)",null,null,null,null,null,null,44342,"OLD PANGAK",null,null,null,null,null,{"$f":"'MDA1'!K24","v":0},{"$f":"'MDA3'!O24","v":0},{"$f":"'MDA4'!S24","v":38107}]
[{"$f":"IF(INTRO!$E$34<>0,INTRO!$E$34,\"\")","v":"South Sudan"},"Jonglei","KHORFLUS",159891.42170000001,{"$f":"IF(INTRO!$E$48=\"\",\"\",ROUND($D25*INTRO!$E$48,0))","v":17700},{"$f":"IF(INTRO!$E$49=\"\",\"\",ROUND($D25*INTRO!$E$49,0))","v":49390},{"$f":"IF(INTRO!$E$50=\"\",\"\",ROUND($D25*INTRO!$E$50,0))","v":88404},1,4,1,2,0,{"$f":"IF(INTRO!$E$38=\"Endemic\", IF($H25>0, IF($H25=4,\"Unknown\", IF($H25=99,\"Stopped\", $D25)), 0),\"Not required\")","v":159891.42170000001},{"$f":"IF(INTRO!$E$40=\"Endemic\", IF($I25>0, IF($I25=4,\"Unknown\",IF($I25=99,\"Stopped\", $D25)), 0),\"Not required\")","v":"Unknown"},{"$f":"IF(INTRO!$E$42=\"Endemic\", IF($J25>1, IF($J25=4, \"Unknown\", IF($J25=99, \"Surveillance\", E25)), 0),\"Not required\")","v":0},{"$f":"IF(INTRO!$E$42=\"Endemic\", IF($J25>1, IF($J25=4, \"Unknown\", IF($J25=99, \"Surveillance\", F25)), 0),\"Not required\")","v":0},{"$f":"IF(INTRO!$E$42=\"Endemic\", IF($J25>1, IF($J25=4, \"Unknown\", IF($J25=99, \"Surveillance\", ROUND(D25*INTRO!$E$51,0))), 0),\"Not required\")","v":0},{"$f":"IF(INTRO!$E$42=\"Endemic\", IF($J25>1, IF($J25=4, \"Unknown\", IF($J25=99, \"Surveillance\", SUM($O25:$Q25))), 0),\"Not required\")","v":0},2063,6658,14359,{"$f":"IF(INTRO!$E$44=\"Endemic\", IF($K25>1, IF($K25=4, \"Unknown\", IF($K25=99, \"Surveillance\", SUM($S25:$U25))), 0),\"Not required\")","v":23080},1,0,0,0,"MDA1 (IVM+ALB)",null,null,null,null,null,null,44338,"KHORFLUS",null,null,null,null,null,{"$f":"'MDA1'!K25","v":17897},{"$f":"'MDA3'!O25","v":0},{"$f":"'MDA4'!S25","v":0}]
[{"$f":"IF(INTRO!$E$34<>0,INTRO!$E$34,\"\")","v":"South Sudan"},"Jonglei","AYOD",225600.38500000001,{"$f":"IF(INTRO!$E$48=\"\",\"\",ROUND($D26*INTRO!$E$48,0))","v":24974},{"$f":"IF(INTRO!$E$49=\"\",\"\",ROUND($D26*INTRO!$E$49,0))","v":69688},{"$f":"IF(INTRO!$E$50=\"\",\"\",ROUND($D26*INTRO!$E$50,0))","v":124734},0,4,0,3,1,{"$f":"IF(INTRO!$E$38=\"Endemic\", IF($H26>0, IF($H26=4,\"Unknown\", IF($H26=99,\"Stopped\", $D26)), 0),\"Not required\")","v":0},{"$f":"IF(INTRO!$E$40=\"Endemic\", IF($I26>0, IF($I26=4,\"Unknown\",IF($I26=99,\"Stopped\", $D26)), 0),\"Not required\")","v":"Unknown"},{"$f":"IF(INTRO!$E$42=\"Endemic\", IF($J26>1, IF($J26=4, \"Unknown\", IF($J26=99, \"Surveillance\", E26)), 0),\"Not required\")","v":0},{"$f":"IF(INTRO!$E$42=\"Endemic\", IF($J26>1, IF($J26=4, \"Unknown\", IF($J26=99, \"Surveillance\", F26)), 0),\"Not required\")","v":0},{"$f":"IF(INTRO!$E$42=\"Endemic\", IF($J26>1, IF($J26=4, \"Unknown\", IF($J26=99, \"Surveillance\", ROUND(D26*INTRO!$E$51,0))), 0),\"Not required\")","v":0},{"$f":"IF(INTRO!$E$42=\"Endemic\", IF($J26>1, IF($J26=4, \"Unknown\", IF($J26=99, \"Surveillance\", SUM($O26:$Q26))), 0),\"Not required\")","v":0},15922,51392,110838,{"$f":"IF(INTRO!$E$44=\"Endemic\", IF($K26>1, IF($K26=4, \"Unknown\", IF($K26=99, \"Surveillance\", SUM($S26:$U26))), 0),\"Not required\")","v":178152},0,0,0,0,null,null,null,null,null,null,null,44334,"AYOD",null,null,null,null,null,{"$f":"'MDA1'!K26","v":0},{"$f":"'MDA3'!O26","v":0},{"$f":"'MDA4'!S26","v":0}]
[{"$f":"IF(INTRO!$E$34<>0,INTRO!$E$34,\"\")","v":"South Sudan"},"Jonglei","DUK",105134.12910000001,{"$f":"IF(INTRO!$E$48=\"\",\"\",ROUND($D27*INTRO!$E$48,0))","v":11638},{"$f":"IF(INTRO!$E$49=\"\",\"\",ROUND($D27*INTRO!$E$49,0))","v":32476},{"$f":"IF(INTRO!$E$50=\"\",\"\",ROUND($D27*INTRO!$E$50,0))","v":58129},0,4,0,2,0,{"$f":"IF(INTRO!$E$38=\"Endemic\", IF($H27>0, IF($H27=4,\"Unknown\", IF($H27=99,\"Stopped\", $D27)), 0),\"Not required\")","v":0},{"$f":"IF(INTRO!$E$40=\"Endemic\", IF($I27>0, IF($I27=4,\"Unknown\",IF($I27=99,\"Stopped\", $D27)), 0),\"Not required\")","v":"Unknown"},{"$f":"IF(INTRO!$E$42=\"Endemic\", IF($J27>1, IF($J27=4, \"Unknown\", IF($J27=99, \"Surveillance\", E27)), 0),\"Not required\")","v":0},{"$f":"IF(INTRO!$E$42=\"Endemic\", IF($J27>1, IF($J27=4, \"Unknown\", IF($J27=99, \"Surveillance\", F27)), 0),\"Not required\")","v":0},{"$f":"IF(INTRO!$E$42=\"Endemic\", IF($J27>1, IF($J27=4, \"Unknown\", IF($J27=99, \"Surveillance\", ROUND(D27*INTRO!$E$51,0))), 0),\"Not required\")","v":0},{"$f":"IF(INTRO!$E$42=\"Endemic\", IF($J27>1, IF($J27=4, \"Unknown\", IF($J27=99, \"Surveillance\", SUM($O27:$Q27))), 0),\"Not required\")","v":0},7489,24175,52139,{"$f":"IF(INTRO!$E$44=\"Endemic\", IF($K27>1, IF($K27=4, \"Unknown\", IF($K27=99, \"Surveillance\", SUM($S27:$U27))), 0),\"Not required\")","v":83803},0,0,0,0,null,null,null,null,null,null,null,44336,"DUK",null,null,null,null,null,{"$f":"'MDA1'!K27","v":0},{"$f":"'MDA3'!O27","v":0},{"$f":"'MDA4'!S27","v":0}]
[{"$f":"IF(INTRO!$E$34<>0,INTRO!$E$34,\"\")","v":"South Sudan"},"Jonglei","UROR",286928.8922,{"$f":"IF(INTRO!$E$48=\"\",\"\",ROUND($D28*INTRO!$E$48,0))","v":31763},{"$f":"IF(INTRO!$E$49=\"\",\"\",ROUND($D28*INTRO!$E$49,0))","v":88632},{"$f":"IF(INTRO!$E$50=\"\",\"\",ROUND($D28*INTRO!$E$50,0))","v":158643},0,4,1,3,1,{"$f":"IF(INTRO!$E$38=\"Endemic\", IF($H28>0, IF($H28=4,\"Unknown\", IF($H28=99,\"Stopped\", $D28)), 0),\"Not required\")","v":0},{"$f":"IF(INTRO!$E$40=\"Endemic\", IF($I28>0, IF($I28=4,\"Unknown\",IF($I28=99,\"Stopped\", $D28)), 0),\"Not required\")","v":"Unknown"},{"$f":"IF(INTRO!$E$42=\"Endemic\", IF($J28>1, IF($J28=4, \"Unknown\", IF($J28=99, \"Surveillance\", E28)), 0),\"Not required\")","v":0},{"$f":"IF(INTRO!$E$42=\"Endemic\", IF($J28>1, IF($J28=4, \"Unknown\", IF($J28=99, \"Surveillance\", F28)), 0),\"Not required\")","v":0},{"$f":"IF(INTRO!$E$42=\"Endemic\", IF($J28>1, IF($J28=4, \"Unknown\", IF($J28=99, \"Surveillance\", ROUND(D28*INTRO!$E$51,0))), 0),\"Not required\")","v":0},{"$f":"IF(INTRO!$E$42=\"Endemic\", IF($J28>1, IF($J28=4, \"Unknown\", IF($J28=99, \"Surveillance\", SUM($O28:$Q28))), 0),\"Not required\")","v":0},5199,16781,36192,{"$f":"IF(INTRO!$E$44=\"Endemic\", IF($K28>1, IF($K28=4, \"Unknown\", IF($K28=99, \"Surveillance\", SUM($S28:$U28))), 0),\"Not required\")","v":58172},0,0,0,0,null,null,null,null,null,null,null,44347,"WUROR",null,null,null,null,null,{"$f":"'MDA1'!K28","v":0},{"$f":"'MDA3'!O28","v":0},{"$f":"'MDA4'!S28","v":0}]
[{"$f":"IF(INTRO!$E$34<>0,INTRO!$E$34,\"\")","v":"South Sudan"},"Jonglei","NYIROL",175223.5485,{"$f":"IF(INTRO!$E$48=\"\",\"\",ROUND($D29*INTRO!$E$48,0))","v":19397},{"$f":"IF(INTRO!$E$49=\"\",\"\",ROUND($D29*INTRO!$E$49,0))","v":54127},{"$f":"IF(INTRO!$E$50=\"\",\"\",ROUND($D29*INTRO!$E$50,0))","v":96881},0,4,1,1,0,{"$f":"IF(INTRO!$E$38=\"Endemic\", IF($H29>0, IF($H29=4,\"Unknown\", IF($H29=99,\"Stopped\", $D29)), 0),\"Not required\")","v":0},{"$f":"IF(INTRO!$E$40=\"Endemic\", IF($I29>0, IF($I29=4,\"Unknown\",IF($I29=99,\"Stopped\", $D29)), 0),\"Not required\")","v":"Unknown"},{"$f":"IF(INTRO!$E$42=\"Endemic\", IF($J29>1, IF($J29=4, \"Unknown\", IF($J29=99, \"Surveillance\", E29)), 0),\"Not required\")","v":0},{"$f":"IF(INTRO!$E$42=\"Endemic\", IF($J29>1, IF($J29=4, \"Unknown\", IF($J29=99, \"Surveillance\", F29)), 0),\"Not required\")","v":0},{"$f":"IF(INTRO!$E$42=\"Endemic\", IF($J29>1, IF($J29=4, \"Unknown\", IF($J29=99, \"Surveillance\", ROUND(D29*INTRO!$E$51,0))), 0),\"Not required\")","v":0},{"$f":"IF(INTRO!$E$42=\"Endemic\", IF($J29>1, IF($J29=4, \"Unknown\", IF($J29=99, \"Surveillance\", SUM($O29:$Q29))), 0),\"Not required\")","v":0},0,0,0,{"$f":"IF(INTRO!$E$44=\"Endemic\", IF($K29>1, IF($K29=4, \"Unknown\", IF($K29=99, \"Surveillance\", SUM($S29:$U29))), 0),\"Not required\")","v":0},0,0,0,0,null,null,null,null,null,null,null,44341,"NYIROL",null,null,null,null,null,{"$f":"'MDA1'!K29","v":0},{"$f":"'MDA3'!O29","v":0},{"$f":"'MDA4'!S29","v":0}]
[{"$f":"IF(INTRO!$E$34<>0,INTRO!$E$34,\"\")","v":"South Sudan"},"Jonglei","AKOBO",225600.38500000001,{"$f":"IF(INTRO!$E$48=\"\",\"\",ROUND($D30*INTRO!$E$48,0))","v":24974},{"$f":"IF(INTRO!$E$49=\"\",\"\",ROUND($D30*INTRO!$E$49,0))","v":69688},{"$f":"IF(INTRO!$E$50=\"\",\"\",ROUND($D30*INTRO!$E$50,0))","v":124734},0,1,1,1,0,{"$f":"IF(INTRO!$E$38=\"Endemic\", IF($H30>0, IF($H30=4,\"Unknown\", IF($H30=99,\"Stopped\", $D30)), 0),\"Not required\")","v":0},{"$f":"IF(INTRO!$E$40=\"Endemic\", IF($I30>0, IF($I30=4,\"Unknown\",IF($I30=99,\"Stopped\", $D30)), 0),\"Not required\")","v":225600.38500000001},{"$f":"IF(INTRO!$E$42=\"Endemic\", IF($J30>1, IF($J30=4, \"Unknown\", IF($J30=99, \"Surveillance\", E30)), 0),\"Not required\")","v":0},{"$f":"IF(INTRO!$E$42=\"Endemic\", IF($J30>1, IF($J30=4, \"Unknown\", IF($J30=99, \"Surveillance\", F30)), 0),\"Not required\")","v":0},{"$f":"IF(INTRO!$E$42=\"Endemic\", IF($J30>1, IF($J30=4, \"Unknown\", IF($J30=99, \"Surveillance\", ROUND(D30*INTRO!$E$51,0))), 0),\"Not required\")","v":0},{"$f":"IF(INTRO!$E$42=\"Endemic\", IF($J30>1, IF($J30=4, \"Unknown\", IF($J30=99, \"Surveillance\", SUM($O30:$Q30))), 0),\"Not required\")","v":0},0,0,0,{"$f":"IF(INTRO!$E$44=\"Endemic\", IF($K30>1, IF($K30=4, \"Unknown\", IF($K30=99, \"Surveillance\", SUM($S30:$U30))), 0),\"Not required\")","v":0},0,1,0,0,"MDA3 (IVM)",null,null,null,null,null,null,44333,"AKOBO",null,null,null,null,null,{"$f":"'MDA1'!K30","v":0},{"$f":"'MDA3'!O30","v":35449},{"$f":"'MDA4'!S30","v":0}]
[{"$f":"IF(INTRO!$E$34<>0,INTRO!$E$34,\"\")","v":"South Sudan"},"Jonglei","POCHALA",107324.8876,{"$f":"IF(INTRO!$E$48=\"\",\"\",ROUND($D31*INTRO!$E$48,0))","v":11881},{"$f":"IF(INTRO!$E$49=\"\",\"\",ROUND($D31*INTRO!$E$49,0))","v":33153},{"$f":"IF(INTRO!$E$50=\"\",\"\",ROUND($D31*INTRO!$E$50,0))","v":59340},1,1,0,0,4,{"$f":"IF(INTRO!$E$38=\"Endemic\", IF($H31>0, IF($H31=4,\"Unknown\", IF($H31=99,\"Stopped\", $D31)), 0),\"Not required\")","v":107324.8876},{"$f":"IF(INTRO!$E$40=\"Endemic\", IF($I31>0, IF($I31=4,\"Unknown\",IF($I31=99,\"Stopped\", $D31)), 0),\"Not required\")","v":107324.8876},{"$f":"IF(INTRO!$E$42=\"Endemic\", IF($J31>1, IF($J31=4, \"Unknown\", IF($J31=99, \"Surveillance\", E31)), 0),\"Not required\")","v":0},{"$f":"IF(INTRO!$E$42=\"Endemic\", IF($J31>1, IF($J31=4, \"Unknown\", IF($J31=99, \"Surveillance\", F31)), 0),\"Not required\")","v":0},{"$f":"IF(INTRO!$E$42=\"Endemic\", IF($J31>1, IF($J31=4, \"Unknown\", IF($J31=99, \"Surveillance\", ROUND(D31*INTRO!$E$51,0))), 0),\"Not required\")","v":0},{"$f":"IF(INTRO!$E$42=\"Endemic\", IF($J31>1, IF($J31=4, \"Unknown\", IF($J31=99, \"Surveillance\", SUM($O31:$Q31))), 0),\"Not required\")","v":0},0,0,0,{"$f":"IF(INTRO!$E$44=\"Endemic\", IF($K31>1, IF($K31=4, \"Unknown\", IF($K31=99, \"Surveillance\", SUM($S31:$U31))), 0),\"Not required\")","v":0},1,1,0,0,"MDA1 (IVM+ALB)",null,null,null,null,null,null,44344,"POCHALA",null,null,null,null,null,{"$f":"'MDA1'!K31","v":18759},{"$f":"'MDA3'!O31","v":0},{"$f":"'MDA4'!S31","v":0}]
[{"$f":"IF(INTRO!$E$34<>0,INTRO!$E$34,\"\")","v":"South Sudan"},"Jonglei","PIBOR",238742.81420000002,{"$f":"IF(INTRO!$E$48=\"\",\"\",ROUND($D32*INTRO!$E$48,0))","v":26429},{"$f":"IF(INTRO!$E$49=\"\",\"\",ROUND($D32*INTRO!$E$49,0))","v":73748},{"$f":"IF(INTRO!$E$50=\"\",\"\",ROUND($D32*INTRO!$E$50,0))","v":132001},1,1,0,0,4,{"$f":"IF(INTRO!$E$38=\"Endemic\", IF($H32>0, IF($H32=4,\"Unknown\", IF($H32=99,\"Stopped\", $D32)), 0),\"Not required\")","v":238742.81420000002},{"$f":"IF(INTRO!$E$40=\"Endemic\", IF($I32>0, IF($I32=4,\"Unknown\",IF($I32=99,\"Stopped\", $D32)), 0),\"Not required\")","v":238742.81420000002},{"$f":"IF(INTRO!$E$42=\"Endemic\", IF($J32>1, IF($J32=4, \"Unknown\", IF($J32=99, \"Surveillance\", E32)), 0),\"Not required\")","v":0},{"$f":"IF(INTRO!$E$42=\"Endemic\", IF($J32>1, IF($J32=4, \"Unknown\", IF($J32=99, \"Surveillance\", F32)), 0),\"Not required\")","v":0},{"$f":"IF(INTRO!$E$42=\"Endemic\", IF($J32>1, IF($J32=4, \"Unknown\", IF($J32=99, \"Surveillance\", ROUND(D32*INTRO!$E$51,0))), 0),\"Not required\")","v":0},{"$f":"IF(INTRO!$E$42=\"Endemic\", IF($J32>1, IF($J32=4, \"Unknown\", IF($J32=99, \"Surveillance\", SUM($O32:$Q32))), 0),\"Not required\")","v":0},0,0,0,{"$f":"IF(INTRO!$E$44=\"Endemic\", IF($K32>1, IF($K32=4, \"Unknown\", IF($K32=99, \"Surveillance\", SUM($S32:$U32))), 0),\"Not required\")","v":0},1,1,0,0,"MDA1 (IVM+ALB)",null,null,null,null,null,null,44343,"PIBOR",null,null,null,null,null,{"$f":"'MDA1'!K32","v":36007},{"$f":"'MDA3'!O32","v":0},{"$f":"'MDA4'!S32","v":0}]
[{"$f":"IF(INTRO!$E$34<>0,INTRO!$E$34,\"\")","v":"South Sudan"},"Jonglei","TWIC EAST",137989.14120000001,{"$f":"IF(INTRO!$E$48=\"\",\"\",ROUND($D33*INTRO!$E$48,0))","v":15275},{"$f":"IF(INTRO!$E$49=\"\",\"\",ROUND($D33*INTRO!$E$49,0))","v":42625},{"$f":"IF(INTRO!$E$50=\"\",\"\",ROUND($D33*INTRO!$E$50,0))","v":76294},0,4,1,2,0,{"$f":"IF(INTRO!$E$38=\"Endemic\", IF($H33>0, IF($H33=4,\"Unknown\", IF($H33=99,\"Stopped\", $D33)), 0),\"Not required\")","v":0},{"$f":"IF(INTRO!$E$40=\"Endemic\", IF($I33>0, IF($I33=4,\"Unknown\",IF($I33=99,\"Stopped\", $D33)), 0),\"Not required\")","v":"Unknown"},{"$f":"IF(INTRO!$E$42=\"Endemic\", IF($J33>1, IF($J33=4, \"Unknown\", IF($J33=99, \"Surveillance\", E33)), 0),\"Not required\")","v":0},{"$f":"IF(INTRO!$E$42=\"Endemic\", IF($J33>1, IF($J33=4, \"Unknown\", IF($J33=99, \"Surveillance\", F33)), 0),\"Not required\")","v":0},{"$f":"IF(INTRO!$E$42=\"Endemic\", IF($J33>1, IF($J33=4, \"Unknown\", IF($J33=99, \"Surveillance\", ROUND(D33*INTRO!$E$51,0))), 0),\"Not required\")","v":0},{"$f":"IF(INTRO!$E$42=\"Endemic\", IF($J33>1, IF($J33=4, \"Unknown\", IF($J33=99, \"Surveillance\", SUM($O33:$Q33))), 0),\"Not required\")","v":0},11457,36980,79758,{"$f":"IF(INTRO!$E$44=\"Endemic\", IF($K33>1, IF($K33=4, \"Unknown\", IF($K33=99, \"Surveillance\", SUM($S33:$U33))), 0),\"Not required\")","v":128195},0,0,0,0,null,null,null,null,null,null,null,44346,"TWIC EAST",null,null,null,null,null,{"$f":"'MDA1'!K33","v":0},{"$f":"'MDA3'!O33","v":0},{"$f":"'MDA4'!S33","v":0}]
[{"$f":"IF(INTRO!$E$34<>0,INTRO!$E$34,\"\")","v":"South Sudan"},"Jonglei","BOR SOUTH",357018.31160000002,{"$f":"IF(INTRO!$E$48=\"\",\"\",ROUND($D34*INTRO!$E$48,0))","v":39522},{"$f":"IF(INTRO!$E$49=\"\",\"\",ROUND($D34*INTRO!$E$49,0))","v":110283},{"$f":"IF(INTRO!$E$50=\"\",\"\",ROUND($D34*INTRO!$E$50,0))","v":197395},0,4,0,3,1,{"$f":"IF(INTRO!$E$38=\"Endemic\", IF($H34>0, IF($H34=4,\"Unknown\", IF($H34=99,\"Stopped\", $D34)), 0),\"Not required\")","v":0},{"$f":"IF(INTRO!$E$40=\"Endemic\", IF($I34>0, IF($I34=4,\"Unknown\",IF($I34=99,\"Stopped\", $D34)), 0),\"Not required\")","v":"Unknown"},{"$f":"IF(INTRO!$E$42=\"Endemic\", IF($J34>1, IF($J34=4, \"Unknown\", IF($J34=99, \"Surveillance\", E34)), 0),\"Not required\")","v":0},{"$f":"IF(INTRO!$E$42=\"Endemic\", IF($J34>1, IF($J34=4, \"Unknown\", IF($J34=99, \"Surveillance\", F34)), 0),\"Not required\")","v":0},{"$f":"IF(INTRO!$E$42=\"Endemic\", IF($J34>1, IF($J34=4, \"Unknown\", IF($J34=99, \"Surveillance\", ROUND(D34*INTRO!$E$51,0))), 0),\"Not required\")","v":0},{"$f":"IF(INTRO!$E$42=\"Endemic\", IF($J34>1, IF($J34=4, \"Unknown\", IF($J34=99, \"Surveillance\", SUM($O34:$Q34))), 0),\"Not required\")","v":0},29642,95682,206357,{"$f":"IF(INTRO!$E$44=\"Endemic\", IF($K34>1, IF($K34=4, \"Unknown\", IF($K34=99, \"Surveillance\", SUM($S34:$U34))), 0),\"Not required\")","v":331681},0,0,0,0,null,null,null,null,null,null,null,44335,"BOR SOUTH",null,null,null,null,null,{"$f":"'MDA1'!K34","v":0},{"$f":"'MDA3'!O34","v":0},{"$f":"'MDA4'!S34","v":0}]
[{"$f":"IF(INTRO!$E$34<>0,INTRO!$E$34,\"\")","v":"South Sudan"},"Lakes","CUEBIT",214446.08240000001,{"$f":"IF(INTRO!$E$48=\"\",\"\",ROUND($D35*INTRO!$E$48,0))","v":23739},{"$f":"IF(INTRO!$E$49=\"\",\"\",ROUND($D35*INTRO!$E$49,0))","v":66242},{"$f":"IF(INTRO!$E$50=\"\",\"\",ROUND($D35*INTRO!$E$50,0))","v":118567},0,1,1,0,1,{"$f":"IF(INTRO!$E$38=\"Endemic\", IF($H35>0, IF($H35=4,\"Unknown\", IF($H35=99,\"Stopped\", $D35)), 0),\"Not required\")","v":0},{"$f":"IF(INTRO!$E$40=\"Endemic\", IF($I35>0, IF($I35=4,\"Unknown\",IF($I35=99,\"Stopped\", $D35)), 0),\"Not required\")","v":214446.08240000001},{"$f":"IF(INTRO!$E$42=\"Endemic\", IF($J35>1, IF($J35=4, \"Unknown\", IF($J35=99, \"Surveillance\", E35)), 0),\"Not required\")","v":0},{"$f":"IF(INTRO!$E$42=\"Endemic\", IF($J35>1, IF($J35=4, \"Unknown\", IF($J35=99, \"Surveillance\", F35)), 0),\"Not required\")","v":0},{"$f":"IF(INTRO!$E$42=\"Endemic\", IF($J35>1, IF($J35=4, \"Unknown\", IF($J35=99, \"Surveillance\", ROUND(D35*INTRO!$E$51,0))), 0),\"Not required\")","v":0},{"$f":"IF(INTRO!$E$42=\"Endemic\", IF($J35>1, IF($J35=4, \"Unknown\", IF($J35=99, \"Surveillance\", SUM($O35:$Q35))), 0),\"Not required\")","v":0},0,0,0,{"$f":"IF(INTRO!$E$44=\"Endemic\", IF($K35>1, IF($K35=4, \"Unknown\", IF($K35=99, \"Surveillance\", SUM($S35:$U35))), 0),\"Not required\")","v":0},0,1,0,0,"MDA3 (IVM)",null,null,null,null,null,null,44350,"CUEBIT",null,null,null,null,null,{"$f":"'MDA1'!K35","v":0},{"$f":"'MDA3'!O35","v":82073},{"$f":"'MDA4'!S35","v":0}]
[{"$f":"IF(INTRO!$E$34<>0,INTRO!$E$34,\"\")","v":"South Sudan"},"Lakes","RUMBEK NORTH",78672.10040000001,{"$f":"IF(INTRO!$E$48=\"\",\"\",ROUND($D36*INTRO!$E$48,0))","v":8709},{"$f":"IF(INTRO!$E$49=\"\",\"\",ROUND($D36*INTRO!$E$49,0))","v":24302},{"$f":"IF(INTRO!$E$50=\"\",\"\",ROUND($D36*INTRO!$E$50,0))","v":43498},1,1,1,0,1,{"$f":"IF(INTRO!$E$38=\"Endemic\", IF($H36>0, IF($H36=4,\"Unknown\", IF($H36=99,\"Stopped\", $D36)), 0),\"Not required\")","v":78672.10040000001},{"$f":"IF(INTRO!$E$40=\"Endemic\", IF($I36>0, IF($I36=4,\"Unknown\",IF($I36=99,\"Stopped\", $D36)), 0),\"Not required\")","v":78672.10040000001},{"$f":"IF(INTRO!$E$42=\"Endemic\", IF($J36>1, IF($J36=4, \"Unknown\", IF($J36=99, \"Surveillance\", E36)), 0),\"Not required\")","v":0},{"$f":"IF(INTRO!$E$42=\"Endemic\", IF($J36>1, IF($J36=4, \"Unknown\", IF($J36=99, \"Surveillance\", F36)), 0),\"Not required\")","v":0},{"$f":"IF(INTRO!$E$42=\"Endemic\", IF($J36>1, IF($J36=4, \"Unknown\", IF($J36=99, \"Surveillance\", ROUND(D36*INTRO!$E$51,0))), 0),\"Not required\")","v":0},{"$f":"IF(INTRO!$E$42=\"Endemic\", IF($J36>1, IF($J36=4, \"Unknown\", IF($J36=99, \"Surveillance\", SUM($O36:$Q36))), 0),\"Not required\")","v":0},0,0,0,{"$f":"IF(INTRO!$E$44=\"Endemic\", IF($K36>1, IF($K36=4, \"Unknown\", IF($K36=99, \"Surveillance\", SUM($S36:$U36))), 0),\"Not required\")","v":0},1,1,0,0,"MDA1 (IVM+ALB)",null,null,null,null,null,null,44353,"RUMBEK NORTH",null,null,null,null,null,{"$f":"'MDA1'!K36","v":40127},{"$f":"'MDA3'!O36","v":0},{"$f":"'MDA4'!S36","v":0}]
[{"$f":"IF(INTRO!$E$34<>0,INTRO!$E$34,\"\")","v":"South Sudan"},"Lakes","RUMBEK CENTRE",280428.75790000003,{"$f":"IF(INTRO!$E$48=\"\",\"\",ROUND($D37*INTRO!$E$48,0))","v":31043},{"$f":"IF(INTRO!$E$49=\"\",\"\",ROUND($D37*INTRO!$E$49,0))","v":86624},{"$f":"IF(INTRO!$E$50=\"\",\"\",ROUND($D37*INTRO!$E$50,0))","v":155049},1,1,1,1,1,{"$f":"IF(INTRO!$E$38=\"Endemic\", IF($H37>0, IF($H37=4,\"Unknown\", IF($H37=99,\"Stopped\", $D37)), 0),\"Not required\")","v":280428.75790000003},{"$f":"IF(INTRO!$E$40=\"Endemic\", IF($I37>0, IF($I37=4,\"Unknown\",IF($I37=99,\"Stopped\", $D37)), 0),\"Not required\")","v":280428.75790000003},{"$f":"IF(INTRO!$E$42=\"Endemic\", IF($J37>1, IF($J37=4, \"Unknown\", IF($J37=99, \"Surveillance\", E37)), 0),\"Not required\")","v":0},{"$f":"IF(INTRO!$E$42=\"Endemic\", IF($J37>1, IF($J37=4, \"Unknown\", IF($J37=99, \"Surveillance\", F37)), 0),\"Not required\")","v":0},{"$f":"IF(INTRO!$E$42=\"Endemic\", IF($J37>1, IF($J37=4, \"Unknown\", IF($J37=99, \"Surveillance\", ROUND(D37*INTRO!$E$51,0))), 0),\"Not required\")","v":0},{"$f":"IF(INTRO!$E$42=\"Endemic\", IF($J37>1, IF($J37=4, \"Unknown\", IF($J37=99, \"Surveillance\", SUM($O37:$Q37))), 0),\"Not required\")","v":0},0,0,0,{"$f":"IF(INTRO!$E$44=\"Endemic\", IF($K37>1, IF($K37=4, \"Unknown\", IF($K37=99, \"Surveillance\", SUM($S37:$U37))), 0),\"Not required\")","v":0},1,1,0,0,"MDA1 (IVM+ALB)",null,null,null,null,null,null,44351,"RUMBEK CENTRE",null,null,null,null,null,{"$f":"'MDA1'!K37","v":90346},{"$f":"'MDA3'!O37","v":0},{"$f":"'MDA4'!S37","v":0}]
[{"$f":"IF(INTRO!$E$34<>0,INTRO!$E$34,\"\")","v":"South Sudan"},"Lakes","WULU",73596.75480000001,{"$f":"IF(INTRO!$E$48=\"\",\"\",ROUND($D38*INTRO!$E$48,0))","v":8147},{"$f":"IF(INTRO!$E$49=\"\",\"\",ROUND($D38*INTRO!$E$49,0))","v":22734},{"$f":"IF(INTRO!$E$50=\"\",\"\",ROUND($D38*INTRO!$E$50,0))","v":40692},1,1,1,0,1,{"$f":"IF(INTRO!$E$38=\"Endemic\", IF($H38>0, IF($H38=4,\"Unknown\", IF($H38=99,\"Stopped\", $D38)), 0),\"Not required\")","v":73596.75480000001},{"$f":"IF(INTRO!$E$40=\"Endemic\", IF($I38>0, IF($I38=4,\"Unknown\",IF($I38=99,\"Stopped\", $D38)), 0),\"Not required\")","v":73596.75480000001},{"$f":"IF(INTRO!$E$42=\"Endemic\", IF($J38>1, IF($J38=4, \"Unknown\", IF($J38=99, \"Surveillance\", E38)), 0),\"Not required\")","v":0},{"$f":"IF(INTRO!$E$42=\"Endemic\", IF($J38>1, IF($J38=4, \"Unknown\", IF($J38=99, \"Surveillance\", F38)), 0),\"Not required\")","v":0},{"$f":"IF(INTRO!$E$42=\"Endemic\", IF($J38>1, IF($J38=4, \"Unknown\", IF($J38=99, \"Surveillance\", ROUND(D38*INTRO!$E$51,0))), 0),\"Not required\")","v":0},{"$f":"IF(INTRO!$E$42=\"Endemic\", IF($J38>1, IF($J38=4, \"Unknown\", IF($J38=99, \"Surveillance\", SUM($O38:$Q38))), 0),\"Not required\")","v":0},0,0,0,{"$f":"IF(INTRO!$E$44=\"Endemic\", IF($K38>1, IF($K38=4, \"Unknown\", IF($K38=99, \"Surveillance\", SUM($S38:$U38))), 0),\"Not required\")","v":0},1,1,0,0,"MDA1 (IVM+ALB)",null,null,null,null,null,null,44354,"WULU",null,null,null,null,null,{"$f":"'MDA1'!K38","v":27653},{"$f":"'MDA3'!O38","v":0},{"$f":"'MDA4'!S38","v":0}]
[{"$f":"IF(INTRO!$E$34<>0,INTRO!$E$34,\"\")","v":"South Sudan"},"Lakes","RUMBEK EAST",224596.77360000001,{"$f":"IF(INTRO!$E$48=\"\",\"\",ROUND($D39*INTRO!$E$48,0))","v":24863},{"$f":"IF(INTRO!$E$49=\"\",\"\",ROUND($D39*INTRO!$E$49,0))","v":69378},{"$f":"IF(INTRO!$E$50=\"\",\"\",ROUND($D39*INTRO!$E$50,0))","v":124180},0,1,1,1,1,{"$f":"IF(INTRO!$E$38=\"Endemic\", IF($H39>0, IF($H39=4,\"Unknown\", IF($H39=99,\"Stopped\", $D39)), 0),\"Not required\")","v":0},{"$f":"IF(INTRO!$E$40=\"Endemic\", IF($I39>0, IF($I39=4,\"Unknown\",IF($I39=99,\"Stopped\", $D39)), 0),\"Not required\")","v":224596.77360000001},{"$f":"IF(INTRO!$E$42=\"Endemic\", IF($J39>1, IF($J39=4, \"Unknown\", IF($J39=99, \"Surveillance\", E39)), 0),\"Not required\")","v":0},{"$f":"IF(INTRO!$E$42=\"Endemic\", IF($J39>1, IF($J39=4, \"Unknown\", IF($J39=99, \"Surveillance\", F39)), 0),\"Not required\")","v":0},{"$f":"IF(INTRO!$E$42=\"Endemic\", IF($J39>1, IF($J39=4, \"Unknown\", IF($J39=99, \"Surveillance\", ROUND(D39*INTRO!$E$51,0))), 0),\"Not required\")","v":0},{"$f":"IF(INTRO!$E$42=\"Endemic\", IF($J39>1, IF($J39=4, \"Unknown\", IF($J39=99, \"Surveillance\", SUM($O39:$Q39))), 0),\"Not required\")","v":0},0,0,0,{"$f":"IF(INTRO!$E$44=\"Endemic\", IF($K39>1, IF($K39=4, \"Unknown\", IF($K39=99, \"Surveillance\", SUM($S39:$U39))), 0),\"Not required\")","v":0},0,1,0,0,"MDA3 (IVM)",null,null,null,null,null,null,44352,"RUMBEK EAST",null,null,null,null,null,{"$f":"'MDA1'!K39","v":0},{"$f":"'MDA3'!O39","v":122904},{"$f":"'MDA4'!S39","v":0}]
[{"$f":"IF(INTRO!$E$34<>0,INTRO!$E$34,\"\")","v":"South Sudan"},"Lakes","YIROL WEST",187798.39620000002,{"$f":"IF(INTRO!$E$48=\"\",\"\",ROUND($D40*INTRO!$E$48,0))","v":20789},{"$f":"IF(INTRO!$E$49=\"\",\"\",ROUND($D40*INTRO!$E$49,0))","v":58011},{"$f":"IF(INTRO!$E$50=\"\",\"\",ROUND($D40*INTRO!$E$50,0))","v":103834},0,1,1,2,1,{"$f":"IF(INTRO!$E$38=\"Endemic\", IF($H40>0, IF($H40=4,\"Unknown\", IF($H40=99,\"Stopped\", $D40)), 0),\"Not required\")","v":0},{"$f":"IF(INTRO!$E$40=\"Endemic\", IF($I40>0, IF($I40=4,\"Unknown\",IF($I40=99,\"Stopped\", $D40)), 0),\"Not required\")","v":187798.39620000002},{"$f":"IF(INTRO!$E$42=\"Endemic\", IF($J40>1, IF($J40=4, \"Unknown\", IF($J40=99, \"Surveillance\", E40)), 0),\"Not required\")","v":0},{"$f":"IF(INTRO!$E$42=\"Endemic\", IF($J40>1, IF($J40=4, \"Unknown\", IF($J40=99, \"Surveillance\", F40)), 0),\"Not required\")","v":0},{"$f":"IF(INTRO!$E$42=\"Endemic\", IF($J40>1, IF($J40=4, \"Unknown\", IF($J40=99, \"Surveillance\", ROUND(D40*INTRO!$E$51,0))), 0),\"Not required\")","v":0},{"$f":"IF(INTRO!$E$42=\"Endemic\", IF($J40>1, IF($J40=4, \"Unknown\", IF($J40=99, \"Surveillance\", SUM($O40:$Q40))), 0),\"Not required\")","v":0},3259,10519,22687,{"$f":"IF(INTRO!$E$44=\"Endemic\", IF($K40>1, IF($K40=4, \"Unknown\", IF($K40=99, \"Surveillance\", SUM($S40:$U40))), 0),\"Not required\")","v":36465},0,1,0,0,"MDA3 (IVM)",null,null,null,null,null,null,44356,"YIROL WEST",null,null,null,null,null,{"$f":"'MDA1'!K40","v":0},{"$f":"'MDA3'!O40","v":34054},{"$f":"'MDA4'!S40","v":0}]
[{"$f":"IF(INTRO!$E$34<>0,INTRO!$E$34,\"\")","v":"South Sudan"},"Lakes","YIROL EAST",123084.55710000001,{"$f":"IF(INTRO!$E$48=\"\",\"\",ROUND($D41*INTRO!$E$48,0))","v":13625},{"$f":"IF(INTRO!$E$49=\"\",\"\",ROUND($D41*INTRO!$E$49,0))","v":38021},{"$f":"IF(INTRO!$E$50=\"\",\"\",ROUND($D41*INTRO!$E$50,0))","v":68053},0,1,1,2,1,{"$f":"IF(INTRO!$E$38=\"Endemic\", IF($H41>0, IF($H41=4,\"Unknown\", IF($H41=99,\"Stopped\", $D41)), 0),\"Not required\")","v":0},{"$f":"IF(INTRO!$E$40=\"Endemic\", IF($I41>0, IF($I41=4,\"Unknown\",IF($I41=99,\"Stopped\", $D41)), 0),\"Not required\")","v":123084.55710000001},{"$f":"IF(INTRO!$E$42=\"Endemic\", IF($J41>1, IF($J41=4, \"Unknown\", IF($J41=99, \"Surveillance\", E41)), 0),\"Not required\")","v":0},{"$f":"IF(INTRO!$E$42=\"Endemic\", IF($J41>1, IF($J41=4, \"Unknown\", IF($J41=99, \"Surveillance\", F41)), 0),\"Not required\")","v":0},{"$f":"IF(INTRO!$E$42=\"Endemic\", IF($J41>1, IF($J41=4, \"Unknown\", IF($J41=99, \"Surveillance\", ROUND(D41*INTRO!$E$51,0))), 0),\"Not required\")","v":0},{"$f":"IF(INTRO!$E$42=\"Endemic\", IF($J41>1, IF($J41=4, \"Unknown\", IF($J41=99, \"Surveillance\", SUM($O41:$Q41))), 0),\"Not required\")","v":0},5309,17135,36957,{"$f":"IF(INTRO!$E$44=\"Endemic\", IF($K41>1, IF($K41=4, \"Unknown\", IF($K41=99, \"Surveillance\", SUM($S41:$U41))), 0),\"Not required\")","v":59401},0,1,0,0,"MDA3 (IVM)",null,null,null,null,null,null,44355,"YIROL EAST",null,null,null,null,null,{"$f":"'MDA1'!K41","v":0},{"$f":"'MDA3'!O41","v":46247},{"$f":"'MDA4'!S41","v":0}]
[{"$f":"IF(INTRO!$E$34<>0,INTRO!$E$34,\"\")","v":"South Sudan"},"Lakes","AWERIAL",86286.179700000008,{"$f":"IF(INTRO!$E$48=\"\",\"\",ROUND($D42*INTRO!$E$48,0))","v":9552},{"$f":"IF(INTRO!$E$49=\"\",\"\",ROUND($D42*INTRO!$E$49,0))","v":26654},{"$f":"IF(INTRO!$E$50=\"\",\"\",ROUND($D42*INTRO!$E$50,0))","v":47708},1,1,1,3,1,{"$f":"IF(INTRO!$E$38=\"Endemic\", IF($H42>0, IF($H42=4,\"Unknown\", IF($H42=99,\"Stopped\", $D42)), 0),\"Not required\")","v":86286.179700000008},{"$f":"IF(INTRO!$E$40=\"Endemic\", IF($I42>0, IF($I42=4,\"Unknown\",IF($I42=99,\"Stopped\", $D42)), 0),\"Not required\")","v":86286.179700000008},{"$f":"IF(INTRO!$E$42=\"Endemic\", IF($J42>1, IF($J42=4, \"Unknown\", IF($J42=99, \"Surveillance\", E42)), 0),\"Not required\")","v":0},{"$f":"IF(INTRO!$E$42=\"Endemic\", IF($J42>1, IF($J42=4, \"Unknown\", IF($J42=99, \"Surveillance\", F42)), 0),\"Not required\")","v":0},{"$f":"IF(INTRO!$E$42=\"Endemic\", IF($J42>1, IF($J42=4, \"Unknown\", IF($J42=99, \"Surveillance\", ROUND(D42*INTRO!$E$51,0))), 0),\"Not required\")","v":0},{"$f":"IF(INTRO!$E$42=\"Endemic\", IF($J42>1, IF($J42=4, \"Unknown\", IF($J42=99, \"Surveillance\", SUM($O42:$Q42))), 0),\"Not required\")","v":0},5829,18820,40588,{"$f":"IF(INTRO!$E$44=\"Endemic\", IF($K42>1, IF($K42=4, \"Unknown\", IF($K42=99, \"Surveillance\", SUM($S42:$U42))), 0),\"Not required\")","v":65237},1,1,0,0,"MDA1 (IVM+ALB)",null,null,null,null,null,null,44349,"AWERIAL",null,null,null,null,null,{"$f":"'MDA1'!K42","v":39859},{"$f":"'MDA3'!O42","v":0},{"$f":"'MDA4'!S42","v":0}]
[{"$f":"IF(INTRO!$E$34<>0,INTRO!$E$34,\"\")","v":"South Sudan"},"Northern Bahr El Ghazal","AWIEL NORTH",215185.52970000001,{"$f":"IF(INTRO!$E$48=\"\",\"\",ROUND($D43*INTRO!$E$48,0))","v":23821},{"$f":"IF(INTRO!$E$49=\"\",\"\",ROUND($D43*INTRO!$E$49,0))","v":66471},{"$f":"IF(INTRO!$E$50=\"\",\"\",ROUND($D43*INTRO!$E$50,0))","v":118976},0,1,1,0,1,{"$f":"IF(INTRO!$E$38=\"Endemic\", IF($H43>0, IF($H43=4,\"Unknown\", IF($H43=99,\"Stopped\", $D43)), 0),\"Not required\")","v":0},{"$f":"IF(INTRO!$E$40=\"Endemic\", IF($I43>0, IF($I43=4,\"Unknown\",IF($I43=99,\"Stopped\", $D43)), 0),\"Not required\")","v":215185.52970000001},{"$f":"IF(INTRO!$E$42=\"Endemic\", IF($J43>1, IF($J43=4, \"Unknown\", IF($J43=99, \"Surveillance\", E43)), 0),\"Not required\")","v":0},{"$f":"IF(INTRO!$E$42=\"Endemic\", IF($J43>1, IF($J43=4, \"Unknown\", IF($J43=99, \"Surveillance\", F43)), 0),\"Not required\")","v":0},{"$f":"IF(INTRO!$E$42=\"Endemic\", IF($J43>1, IF($J43=4, \"Unknown\", IF($J43=99, \"Surveillance\", ROUND(D43*INTRO!$E$51,0))), 0),\"Not required\")","v":0},{"$f":"IF(INTRO!$E$42=\"Endemic\", IF($J43>1, IF($J43=4, \"Unknown\", IF($J43=99, \"Surveillance\", SUM($O43:$Q43))), 0),\"Not required\")","v":0},0,0,0,{"$f":"IF(INTRO!$E$44=\"Endemic\", IF($K43>1, IF($K43=4, \"Unknown\", IF($K43=99, \"Surveillance\", SUM($S43:$U43))), 0),\"Not required\")","v":0},0,1,0,0,"MDA3 (IVM)",null,null,null,null,null,null,44359,"AWIEL NORTH",null,null,null,null,null,{"$f":"'MDA1'!K43","v":0},{"$f":"'MDA3'!O43","v":82043},{"$f":"'MDA4'!S43","v":0}]
[{"$f":"IF(INTRO!$E$34<>0,INTRO!$E$34,\"\")","v":"South Sudan"},"Northern Bahr El Ghazal","AWIEL EAST",516926.70770000003,{"$f":"IF(INTRO!$E$48=\"\",\"\",ROUND($D44*INTRO!$E$48,0))","v":57224},{"$f":"IF(INTRO!$E$49=\"\",\"\",ROUND($D44*INTRO!$E$49,0))","v":159679},{"$f":"IF(INTRO!$E$50=\"\",\"\",ROUND($D44*INTRO!$E$50,0))","v":285809},1,1,1,1,1,{"$f":"IF(INTRO!$E$38=\"Endemic\", IF($H44>0, IF($H44=4,\"Unknown\", IF($H44=99,\"Stopped\", $D44)), 0),\"Not required\")","v":516926.70770000003},{"$f":"IF(INTRO!$E$40=\"Endemic\", IF($I44>0, IF($I44=4,\"Unknown\",IF($I44=99,\"Stopped\", $D44)), 0),\"Not required\")","v":516926.70770000003},{"$f":"IF(INTRO!$E$42=\"Endemic\", IF($J44>1, IF($J44=4, \"Unknown\", IF($J44=99, \"Surveillance\", E44)), 0),\"Not required\")","v":0},{"$f":"IF(INTRO!$E$42=\"Endemic\", IF($J44>1, IF($J44=4, \"Unknown\", IF($J44=99, \"Surveillance\", F44)), 0),\"Not required\")","v":0},{"$f":"IF(INTRO!$E$42=\"Endemic\", IF($J44>1, IF($J44=4, \"Unknown\", IF($J44=99, \"Surveillance\", ROUND(D44*INTRO!$E$51,0))), 0),\"Not required\")","v":0},{"$f":"IF(INTRO!$E$42=\"Endemic\", IF($J44>1, IF($J44=4, \"Unknown\", IF($J44=99, \"Surveillance\", SUM($O44:$Q44))), 0),\"Not required\")","v":0},0,0,0,{"$f":"IF(INTRO!$E$44=\"Endemic\", IF($K44>1, IF($K44=4, \"Unknown\", IF($K44=99, \"Surveillance\", SUM($S44:$U44))), 0),\"Not required\")","v":0},1,1,0,0,"MDA1 (IVM+ALB)",null,null,null,null,null,null,44358,"AWIEL EAST",null,null,null,null,null,{"$f":"'MDA1'!K44","v":165096},{"$f":"'MDA3'!O44","v":0},{"$f":"'MDA4'!S44","v":0}]
[{"$f":"IF(INTRO!$E$34<>0,INTRO!$E$34,\"\")","v":"South Sudan"},"Northern Bahr El Ghazal","AWIEL SOUTH",122619.88290000001,{"$f":"IF(INTRO!$E$48=\"\",\"\",ROUND($D45*INTRO!$E$48,0))","v":13574},{"$f":"IF(INTRO!$E$49=\"\",\"\",ROUND($D45*INTRO!$E$49,0))","v":37877},{"$f":"IF(INTRO!$E$50=\"\",\"\",ROUND($D45*INTRO!$E$50,0))","v":67797},0,1,1,1,1,{"$f":"IF(INTRO!$E$38=\"Endemic\", IF($H45>0, IF($H45=4,\"Unknown\", IF($H45=99,\"Stopped\", $D45)), 0),\"Not required\")","v":0},{"$f":"IF(INTRO!$E$40=\"Endemic\", IF($I45>0, IF($I45=4,\"Unknown\",IF($I45=99,\"Stopped\", $D45)), 0),\"Not required\")","v":122619.88290000001},{"$f":"IF(INTRO!$E$42=\"Endemic\", IF($J45>1, IF($J45=4, \"Unknown\", IF($J45=99, \"Surveillance\", E45)), 0),\"Not required\")","v":0},{"$f":"IF(INTRO!$E$42=\"Endemic\", IF($J45>1, IF($J45=4, \"Unknown\", IF($J45=99, \"Surveillance\", F45)), 0),\"Not required\")","v":0},{"$f":"IF(INTRO!$E$42=\"Endemic\", IF($J45>1, IF($J45=4, \"Unknown\", IF($J45=99, \"Surveillance\", ROUND(D45*INTRO!$E$51,0))), 0),\"Not required\")","v":0},{"$f":"IF(INTRO!$E$42=\"Endemic\", IF($J45>1, IF($J45=4, \"Unknown\", IF($J45=99, \"Surveillance\", SUM($O45:$Q45))), 0),\"Not required\")","v":0},0,0,0,{"$f":"IF(INTRO!$E$44=\"Endemic\", IF($K45>1, IF($K45=4, \"Unknown\", IF($K45=99, \"Surveillance\", SUM($S45:$U45))), 0),\"Not required\")","v":0},0,1,0,0,"MDA3 (IVM)",null,null,null,null,null,null,44360,"AWIEL SOUTH",null,null,null,null,null,{"$f":"'MDA1'!K45","v":0},{"$f":"'MDA3'!O45","v":52460},{"$f":"'MDA4'!S45","v":0}]
[{"$f":"IF(INTRO!$E$34<>0,INTRO!$E$34,\"\")","v":"South Sudan"},"Northern Bahr El Ghazal","AWIEL WEST",277698.0013,{"$f":"IF(INTRO!$E$48=\"\",\"\",ROUND($D46*INTRO!$E$48,0))","v":30741},{"$f":"IF(INTRO!$E$49=\"\",\"\",ROUND($D46*INTRO!$E$49,0))","v":85781},{"$f":"IF(INTRO!$E$50=\"\",\"\",ROUND($D46*INTRO!$E$50,0))","v":153539},1,1,1,1,1,{"$f":"IF(INTRO!$E$38=\"Endemic\", IF($H46>0, IF($H46=4,\"Unknown\", IF($H46=99,\"Stopped\", $D46)), 0),\"Not required\")","v":277698.0013},{"$f":"IF(INTRO!$E$40=\"Endemic\", IF($I46>0, IF($I46=4,\"Unknown\",IF($I46=99,\"Stopped\", $D46)), 0),\"Not required\")","v":277698.0013},{"$f":"IF(INTRO!$E$42=\"Endemic\", IF($J46>1, IF($J46=4, \"Unknown\", IF($J46=99, \"Surveillance\", E46)), 0),\"Not required\")","v":0},{"$f":"IF(INTRO!$E$42=\"Endemic\", IF($J46>1, IF($J46=4, \"Unknown\", IF($J46=99, \"Surveillance\", F46)), 0),\"Not required\")","v":0},{"$f":"IF(INTRO!$E$42=\"Endemic\", IF($J46>1, IF($J46=4, \"Unknown\", IF($J46=99, \"Surveillance\", ROUND(D46*INTRO!$E$51,0))), 0),\"Not required\")","v":0},{"$f":"IF(INTRO!$E$42=\"Endemic\", IF($J46>1, IF($J46=4, \"Unknown\", IF($J46=99, \"Surveillance\", SUM($O46:$Q46))), 0),\"Not required\")","v":0},0,0,0,{"$f":"IF(INTRO!$E$44=\"Endemic\", IF($K46>1, IF($K46=4, \"Unknown\", IF($K46=99, \"Surveillance\", SUM($S46:$U46))), 0),\"Not required\")","v":0},1,1,0,0,"MDA1 (IVM+ALB)",null,null,null,null,null,null,44361,"AWIEL WEST",null,null,null,null,null,{"$f":"'MDA1'!K46","v":89690},{"$f":"'MDA3'!O46","v":0},{"$f":"'MDA4'!S46","v":0}]
[{"$f":"IF(INTRO!$E$34<>0,INTRO!$E$34,\"\")","v":"South Sudan"},"Northern Bahr El Ghazal","AWIEL CENTRE",69725.530700000003,{"$f":"IF(INTRO!$E$48=\"\",\"\",ROUND($D47*INTRO!$E$48,0))","v":7719},{"$f":"IF(INTRO!$E$49=\"\",\"\",ROUND($D47*INTRO!$E$49,0))","v":21538},{"$f":"IF(INTRO!$E$50=\"\",\"\",ROUND($D47*INTRO!$E$50,0))","v":38551},1,1,1,1,1,{"$f":"IF(INTRO!$E$38=\"Endemic\", IF($H47>0, IF($H47=4,\"Unknown\", IF($H47=99,\"Stopped\", $D47)), 0),\"Not required\")","v":69725.530700000003},{"$f":"IF(INTRO!$E$40=\"Endemic\", IF($I47>0, IF($I47=4,\"Unknown\",IF($I47=99,\"Stopped\", $D47)), 0),\"Not required\")","v":69725.530700000003},{"$f":"IF(INTRO!$E$42=\"Endemic\", IF($J47>1, IF($J47=4, \"Unknown\", IF($J47=99, \"Surveillance\", E47)), 0),\"Not required\")","v":0},{"$f":"IF(INTRO!$E$42=\"Endemic\", IF($J47>1, IF($J47=4, \"Unknown\", IF($J47=99, \"Surveillance\", F47)), 0),\"Not required\")","v":0},{"$f":"IF(INTRO!$E$42=\"Endemic\", IF($J47>1, IF($J47=4, \"Unknown\", IF($J47=99, \"Surveillance\", ROUND(D47*INTRO!$E$51,0))), 0),\"Not required\")","v":0},{"$f":"IF(INTRO!$E$42=\"Endemic\", IF($J47>1, IF($J47=4, \"Unknown\", IF($J47=99, \"Surveillance\", SUM($O47:$Q47))), 0),\"Not required\")","v":0},0,0,0,{"$f":"IF(INTRO!$E$44=\"Endemic\", IF($K47>1, IF($K47=4, \"Unknown\", IF($K47=99, \"Surveillance\", SUM($S47:$U47))), 0),\"Not required\")","v":0},1,1,0,0,"MDA1 (IVM+ALB)",null,null,null,null,null,null,44357,"AWIEL CENTRE",null,null,null,null,null,{"$f":"'MDA1'!K47","v":33491},{"$f":"'MDA3'!O47","v":0},{"$f":"'MDA4'!S47","v":0}]
[{"$f":"IF(INTRO!$E$34<>0,INTRO!$E$34,\"\")","v":"South Sudan"},"Unity","PARIANG",148225.7653,{"$f":"IF(INTRO!$E$48=\"\",\"\",ROUND($D48*INTRO!$E$48,0))","v":16409},{"$f":"IF(INTRO!$E$49=\"\",\"\",ROUND($D48*INTRO!$E$49,0))","v":45787},{"$f":"IF(INTRO!$E$50=\"\",\"\",ROUND($D48*INTRO!$E$50,0))","v":81954},0,4,0,2,1,{"$f":"IF(INTRO!$E$38=\"Endemic\", IF($H48>0, IF($H48=4,\"Unknown\", IF($H48=99,\"Stopped\", $D48)), 0),\"Not required\")","v":0},{"$f":"IF(INTRO!$E$40=\"Endemic\", IF($I48>0, IF($I48=4,\"Unknown\",IF($I48=99,\"Stopped\", $D48)), 0),\"Not required\")","v":"Unknown"},{"$f":"IF(INTRO!$E$42=\"Endemic\", IF($J48>1, IF($J48=4, \"Unknown\", IF($J48=99, \"Surveillance\", E48)), 0),\"Not required\")","v":0},{"$f":"IF(INTRO!$E$42=\"Endemic\", IF($J48>1, IF($J48=4, \"Unknown\", IF($J48=99, \"Surveillance\", F48)), 0),\"Not required\")","v":0},{"$f":"IF(INTRO!$E$42=\"Endemic\", IF($J48>1, IF($J48=4, \"Unknown\", IF($J48=99, \"Surveillance\", ROUND(D48*INTRO!$E$51,0))), 0),\"Not required\")","v":0},{"$f":"IF(INTRO!$E$42=\"Endemic\", IF($J48>1, IF($J48=4, \"Unknown\", IF($J48=99, \"Surveillance\", SUM($O48:$Q48))), 0),\"Not required\")","v":0},512,1654,3567,{"$f":"IF(INTRO!$E$44=\"Endemic\", IF($K48>1, IF($K48=4, \"Unknown\", IF($K48=99, \"Surveillance\", SUM($S48:$U48))), 0),\"Not required\")","v":5733},0,0,0,0,null,null,null,null,null,null,null,44370,"PARIANG",null,null,null,null,null,{"$f":"'MDA1'!K48","v":0},{"$f":"'MDA3'!O48","v":0},{"$f":"'MDA4'!S48","v":0}]
[{"$f":"IF(INTRO!$E$34<>0,INTRO!$E$34,\"\")","v":"South Sudan"},"Unity","ABIEMNHOM",30486.022400000002,{"$f":"IF(INTRO!$E$48=\"\",\"\",ROUND($D49*INTRO!$E$48,0))","v":3375},{"$f":"IF(INTRO!$E$49=\"\",\"\",ROUND($D49*INTRO!$E$49,0))","v":9417},{"$f":"IF(INTRO!$E$50=\"\",\"\",ROUND($D49*INTRO!$E$50,0))","v":16856},0,4,0,3,1,{"$f":"IF(INTRO!$E$38=\"Endemic\", IF($H49>0, IF($H49=4,\"Unknown\", IF($H49=99,\"Stopped\", $D49)), 0),\"Not required\")","v":0},{"$f":"IF(INTRO!$E$40=\"Endemic\", IF($I49>0, IF($I49=4,\"Unknown\",IF($I49=99,\"Stopped\", $D49)), 0),\"Not required\")","v":"Unknown"},{"$f":"IF(INTRO!$E$42=\"Endemic\", IF($J49>1, IF($J49=4, \"Unknown\", IF($J49=99, \"Surveillance\", E49)), 0),\"Not required\")","v":0},{"$f":"IF(INTRO!$E$42=\"Endemic\", IF($J49>1, IF($J49=4, \"Unknown\", IF($J49=99, \"Surveillance\", F49)), 0),\"Not required\")","v":0},{"$f":"IF(INTRO!$E$42=\"Endemic\", IF($J49>1, IF($J49=4, \"Unknown\", IF($J49=99, \"Surveillance\", ROUND(D49*INTRO!$E$51,0))), 0),\"Not required\")","v":0},{"$f":"IF(INTRO!$E$42=\"Endemic\", IF($J49>1, IF($J49=4, \"Unknown\", IF($J49=99, \"Surveillance\", SUM($O49:$Q49))), 0),\"Not required\")","v":0},1620,5228,11276,{"$f":"IF(INTRO!$E$44=\"Endemic\", IF($K49>1, IF($K49=4, \"Unknown\", IF($K49=99, \"Surveillance\", SUM($S49:$U49))), 0),\"Not required\")","v":18124},0,0,0,0,null,null,null,null,null,null,null,44362,"ABIEMNHOM",null,null,null,null,null,{"$f":"'MDA1'!K49","v":0},{"$f":"'MDA3'!O49","v":0},{"$f":"'MDA4'!S49","v":0}]
[{"$f":"IF(INTRO!$E$34<>0,INTRO!$E$34,\"\")","v":"South Sudan"},"Unity","MAYOM",216556.21249999999,{"$f":"IF(INTRO!$E$48=\"\",\"\",ROUND($D50*INTRO!$E$48,0))","v":23973},{"$f":"IF(INTRO!$E$49=\"\",\"\",ROUND($D50*INTRO!$E$49,0))","v":66894},{"$f":"IF(INTRO!$E$50=\"\",\"\",ROUND($D50*INTRO!$E$50,0))","v":119734},0,4,1,3,1,{"$f":"IF(INTRO!$E$38=\"Endemic\", IF($H50>0, IF($H50=4,\"Unknown\", IF($H50=99,\"Stopped\", $D50)), 0),\"Not required\")","v":0},{"$f":"IF(INTRO!$E$40=\"Endemic\", IF($I50>0, IF($I50=4,\"Unknown\",IF($I50=99,\"Stopped\", $D50)), 0),\"Not required\")","v":"Unknown"},{"$f":"IF(INTRO!$E$42=\"Endemic\", IF($J50>1, IF($J50=4, \"Unknown\", IF($J50=99, \"Surveillance\", E50)), 0),\"Not required\")","v":0},{"$f":"IF(INTRO!$E$42=\"Endemic\", IF($J50>1, IF($J50=4, \"Unknown\", IF($J50=99, \"Surveillance\", F50)), 0),\"Not required\")","v":0},{"$f":"IF(INTRO!$E$42=\"Endemic\", IF($J50>1, IF($J50=4, \"Unknown\", IF($J50=99, \"Surveillance\", ROUND(D50*INTRO!$E$51,0))), 0),\"Not required\")","v":0},{"$f":"IF(INTRO!$E$42=\"Endemic\", IF($J50>1, IF($J50=4, \"Unknown\", IF($J50=99, \"Surveillance\", SUM($O50:$Q50))), 0),\"Not required\")","v":0},5993,19345,41722,{"$f":"IF(INTRO!$E$44=\"Endemic\", IF($K50>1, IF($K50=4, \"Unknown\", IF($K50=99, \"Surveillance\", SUM($S50:$U50))), 0),\"Not required\")","v":67060},0,0,0,0,null,null,null,null,null,null,null,44367,"MAYOM",null,null,null,null,null,{"$f":"'MDA1'!K50","v":0},{"$f":"'MDA3'!O50","v":0},{"$f":"'MDA4'!S50","v":0}]
[{"$f":"IF(INTRO!$E$34<>0,INTRO!$E$34,\"\")","v":"South Sudan"},"Unity","RUBKONA",179763.13960000002,{"$f":"IF(INTRO!$E$48=\"\",\"\",ROUND($D51*INTRO!$E$48,0))","v":19900},{"$f":"IF(INTRO!$E$49=\"\",\"\",ROUND($D51*INTRO!$E$49,0))","v":55529},{"$f":"IF(INTRO!$E$50=\"\",\"\",ROUND($D51*INTRO!$E$50,0))","v":99391},1,4,1,2,1,{"$f":"IF(INTRO!$E$38=\"Endemic\", IF($H51>0, IF($H51=4,\"Unknown\", IF($H51=99,\"Stopped\", $D51)), 0),\"Not required\")","v":179763.13960000002},{"$f":"IF(INTRO!$E$40=\"Endemic\", IF($I51>0, IF($I51=4,\"Unknown\",IF($I51=99,\"Stopped\", $D51)), 0),\"Not required\")","v":"Unknown"},{"$f":"IF(INTRO!$E$42=\"Endemic\", IF($J51>1, IF($J51=4, \"Unknown\", IF($J51=99, \"Surveillance\", E51)), 0),\"Not required\")","v":0},{"$f":"IF(INTRO!$E$42=\"Endemic\", IF($J51>1, IF($J51=4, \"Unknown\", IF($J51=99, \"Surveillance\", F51)), 0),\"Not required\")","v":0},{"$f":"IF(INTRO!$E$42=\"Endemic\", IF($J51>1, IF($J51=4, \"Unknown\", IF($J51=99, \"Surveillance\", ROUND(D51*INTRO!$E$51,0))), 0),\"Not required\")","v":0},{"$f":"IF(INTRO!$E$42=\"Endemic\", IF($J51>1, IF($J51=4, \"Unknown\", IF($J51=99, \"Surveillance\", SUM($O51:$Q51))), 0),\"Not required\")","v":0},14502,46802,100939,{"$f":"IF(INTRO!$E$44=\"Endemic\", IF($K51>1, IF($K51=4, \"Unknown\", IF($K51=99, \"Surveillance\", SUM($S51:$U51))), 0),\"Not required\")","v":162243},1,0,0,0,"MDA4 (ALB/2*ALB)",null,null,null,null,null,null,44369,"RUBKONA",null,null,null,null,null,{"$f":"'MDA1'!K51","v":0},{"$f":"'MDA3'!O51","v":0},{"$f":"'MDA4'!S51","v":68618}]
[{"$f":"IF(INTRO!$E$34<>0,INTRO!$E$34,\"\")","v":"South Sudan"},"Unity","GUIT",58869.341000000008,{"$f":"IF(INTRO!$E$48=\"\",\"\",ROUND($D52*INTRO!$E$48,0))","v":6517},{"$f":"IF(INTRO!$E$49=\"\",\"\",ROUND($D52*INTRO!$E$49,0))","v":18185},{"$f":"IF(INTRO!$E$50=\"\",\"\",ROUND($D52*INTRO!$E$50,0))","v":32549},0,4,1,2,1,{"$f":"IF(INTRO!$E$38=\"Endemic\", IF($H52>0, IF($H52=4,\"Unknown\", IF($H52=99,\"Stopped\", $D52)), 0),\"Not required\")","v":0},{"$f":"IF(INTRO!$E$40=\"Endemic\", IF($I52>0, IF($I52=4,\"Unknown\",IF($I52=99,\"Stopped\", $D52)), 0),\"Not required\")","v":"Unknown"},{"$f":"IF(INTRO!$E$42=\"Endemic\", IF($J52>1, IF($J52=4, \"Unknown\", IF($J52=99, \"Surveillance\", E52)), 0),\"Not required\")","v":0},{"$f":"IF(INTRO!$E$42=\"Endemic\", IF($J52>1, IF($J52=4, \"Unknown\", IF($J52=99, \"Surveillance\", F52)), 0),\"Not required\")","v":0},{"$f":"IF(INTRO!$E$42=\"Endemic\", IF($J52>1, IF($J52=4, \"Unknown\", IF($J52=99, \"Surveillance\", ROUND(D52*INTRO!$E$51,0))), 0),\"Not required\")","v":0},{"$f":"IF(INTRO!$E$42=\"Endemic\", IF($J52>1, IF($J52=4, \"Unknown\", IF($J52=99, \"Surveillance\", SUM($O52:$Q52))), 0),\"Not required\")","v":0},4426,14284,30807,{"$f":"IF(INTRO!$E$44=\"Endemic\", IF($K52>1, IF($K52=4, \"Unknown\", IF($K52=99, \"Surveillance\", SUM($S52:$U52))), 0),\"Not required\")","v":49517},0,0,0,0,null,null,null,null,null,null,null,44363,"GUIT",null,null,null,null,null,{"$f":"'MDA1'!K52","v":0},{"$f":"'MDA3'!O52","v":0},{"$f":"'MDA4'!S52","v":0}]
[{"$f":"IF(INTRO!$E$34<>0,INTRO!$E$34,\"\")","v":"South Sudan"},"Unity","KOCH",134559.25150000001,{"$f":"IF(INTRO!$E$48=\"\",\"\",ROUND($D53*INTRO!$E$48,0))","v":14896},{"$f":"IF(INTRO!$E$49=\"\",\"\",ROUND($D53*INTRO!$E$49,0))","v":41565},{"$f":"IF(INTRO!$E$50=\"\",\"\",ROUND($D53*INTRO!$E$50,0))","v":74398},0,4,0,2,1,{"$f":"IF(INTRO!$E$38=\"Endemic\", IF($H53>0, IF($H53=4,\"Unknown\", IF($H53=99,\"Stopped\", $D53)), 0),\"Not required\")","v":0},{"$f":"IF(INTRO!$E$40=\"Endemic\", IF($I53>0, IF($I53=4,\"Unknown\",IF($I53=99,\"Stopped\", $D53)), 0),\"Not required\")","v":"Unknown"},{"$f":"IF(INTRO!$E$42=\"Endemic\", IF($J53>1, IF($J53=4, \"Unknown\", IF($J53=99, \"Surveillance\", E53)), 0),\"Not required\")","v":0},{"$f":"IF(INTRO!$E$42=\"Endemic\", IF($J53>1, IF($J53=4, \"Unknown\", IF($J53=99, \"Surveillance\", F53)), 0),\"Not required\")","v":0},{"$f":"IF(INTRO!$E$42=\"Endemic\", IF($J53>1, IF($J53=4, \"Unknown\", IF($J53=99, \"Surveillance\", ROUND(D53*INTRO!$E$51,0))), 0),\"Not required\")","v":0},{"$f":"IF(INTRO!$E$42=\"Endemic\", IF($J53>1, IF($J53=4, \"Unknown\", IF($J53=99, \"Surveillance\", SUM($O53:$Q53))), 0),\"Not required\")","v":0},9108,29403,63414,{"$f":"IF(INTRO!$E$44=\"Endemic\", IF($K53>1, IF($K53=4, \"Unknown\", IF($K53=99, \"Surveillance\", SUM($S53:$U53))), 0),\"Not required\")","v":101925},0,0,0,0,null,null,null,null,null,null,null,44364,"KOCH",null,null,null,null,null,{"$f":"'MDA1'!K53","v":0},{"$f":"'MDA3'!O53","v":0},{"$f":"'MDA4'!S53","v":0}]
[{"$f":"IF(INTRO!$E$34<>0,INTRO!$E$34,\"\")","v":"South Sudan"},"Unity","LEER",95663.474800000011,{"$f":"IF(INTRO!$E$48=\"\",\"\",ROUND($D54*INTRO!$E$48,0))","v":10590},{"$f":"IF(INTRO!$E$49=\"\",\"\",ROUND($D54*INTRO!$E$49,0))","v":29550},{"$f":"IF(INTRO!$E$50=\"\",\"\",ROUND($D54*INTRO!$E$50,0))","v":52892},1,4,1,3,1,{"$f":"IF(INTRO!$E$38=\"Endemic\", IF($H54>0, IF($H54=4,\"Unknown\", IF($H54=99,\"Stopped\", $D54)), 0),\"Not required\")","v":95663.474800000011},{"$f":"IF(INTRO!$E$40=\"Endemic\", IF($I54>0, IF($I54=4,\"Unknown\",IF($I54=99,\"Stopped\", $D54)), 0),\"Not required\")","v":"Unknown"},{"$f":"IF(INTRO!$E$42=\"Endemic\", IF($J54>1, IF($J54=4, \"Unknown\", IF($J54=99, \"Surveillance\", E54)), 0),\"Not required\")","v":0},{"$f":"IF(INTRO!$E$42=\"Endemic\", IF($J54>1, IF($J54=4, \"Unknown\", IF($J54=99, \"Surveillance\", F54)), 0),\"Not required\")","v":0},{"$f":"IF(INTRO!$E$42=\"Endemic\", IF($J54>1, IF($J54=4, \"Unknown\", IF($J54=99, \"Surveillance\", ROUND(D54*INTRO!$E$51,0))), 0),\"Not required\")","v":0},{"$f":"IF(INTRO!$E$42=\"Endemic\", IF($J54>1, IF($J54=4, \"Unknown\", IF($J54=99, \"Surveillance\", SUM($O54:$Q54))), 0),\"Not required\")","v":0},7339,23688,51088,{"$f":"IF(INTRO!$E$44=\"Endemic\", IF($K54>1, IF($K54=4, \"Unknown\", IF($K54=99, \"Surveillance\", SUM($S54:$U54))), 0),\"Not required\")","v":82115},1,0,0,0,"MDA4 (ALB/2*ALB)",null,null,null,null,null,null,44365,"LEER",null,null,null,null,null,{"$f":"'MDA1'!K54","v":0},{"$f":"'MDA3'!O54","v":0},{"$f":"'MDA4'!S54","v":27333}]
[{"$f":"IF(INTRO!$E$34<>0,INTRO!$E$34,\"\")","v":"South Sudan"},"Unity","MAYENDIT",96714.826700000005,{"$f":"IF(INTRO!$E$48=\"\",\"\",ROUND($D55*INTRO!$E$48,0))","v":10706},{"$f":"IF(INTRO!$E$49=\"\",\"\",ROUND($D55*INTRO!$E$49,0))","v":29875},{"$f":"IF(INTRO!$E$50=\"\",\"\",ROUND($D55*INTRO!$E$50,0))","v":53474},0,4,1,3,1,{"$f":"IF(INTRO!$E$38=\"Endemic\", IF($H55>0, IF($H55=4,\"Unknown\", IF($H55=99,\"Stopped\", $D55)), 0),\"Not required\")","v":0},{"$f":"IF(INTRO!$E$40=\"Endemic\", IF($I55>0, IF($I55=4,\"Unknown\",IF($I55=99,\"Stopped\", $D55)), 0),\"Not required\")","v":"Unknown"},{"$f":"IF(INTRO!$E$42=\"Endemic\", IF($J55>1, IF($J55=4, \"Unknown\", IF($J55=99, \"Surveillance\", E55)), 0),\"Not required\")","v":0},{"$f":"IF(INTRO!$E$42=\"Endemic\", IF($J55>1, IF($J55=4, \"Unknown\", IF($J55=99, \"Surveillance\", F55)), 0),\"Not required\")","v":0},{"$f":"IF(INTRO!$E$42=\"Endemic\", IF($J55>1, IF($J55=4, \"Unknown\", IF($J55=99, \"Surveillance\", ROUND(D55*INTRO!$E$51,0))), 0),\"Not required\")","v":0},{"$f":"IF(INTRO!$E$42=\"Endemic\", IF($J55>1, IF($J55=4, \"Unknown\", IF($J55=99, \"Surveillance\", SUM($O55:$Q55))), 0),\"Not required\")","v":0},8030,25919,55900,{"$f":"IF(INTRO!$E$44=\"Endemic\", IF($K55>1, IF($K55=4, \"Unknown\", IF($K55=99, \"Surveillance\", SUM($S55:$U55))), 0),\"Not required\")","v":89849},0,0,0,0,null,null,null,null,null,null,null,44366,"MAYENDIT",null,null,null,null,null,{"$f":"'MDA1'!K55","v":0},{"$f":"'MDA3'!O55","v":0},{"$f":"'MDA4'!S55","v":0}]
[{"$f":"IF(INTRO!$E$34<>0,INTRO!$E$34,\"\")","v":"South Sudan"},"Unity","PAYNIJAR",91458.067200000005,{"$f":"IF(INTRO!$E$48=\"\",\"\",ROUND($D56*INTRO!$E$48,0))","v":10124},{"$f":"IF(INTRO!$E$49=\"\",\"\",ROUND($D56*INTRO!$E$49,0))","v":28251},{"$f":"IF(INTRO!$E$50=\"\",\"\",ROUND($D56*INTRO!$E$50,0))","v":50567},0,4,1,2,1,{"$f":"IF(INTRO!$E$38=\"Endemic\", IF($H56>0, IF($H56=4,\"Unknown\", IF($H56=99,\"Stopped\", $D56)), 0),\"Not required\")","v":0},{"$f":"IF(INTRO!$E$40=\"Endemic\", IF($I56>0, IF($I56=4,\"Unknown\",IF($I56=99,\"Stopped\", $D56)), 0),\"Not required\")","v":"Unknown"},{"$f":"IF(INTRO!$E$42=\"Endemic\", IF($J56>1, IF($J56=4, \"Unknown\", IF($J56=99, \"Surveillance\", E56)), 0),\"Not required\")","v":0},{"$f":"IF(INTRO!$E$42=\"Endemic\", IF($J56>1, IF($J56=4, \"Unknown\", IF($J56=99, \"Surveillance\", F56)), 0),\"Not required\")","v":0},{"$f":"IF(INTRO!$E$42=\"Endemic\", IF($J56>1, IF($J56=4, \"Unknown\", IF($J56=99, \"Surveillance\", ROUND(D56*INTRO!$E$51,0))), 0),\"Not required\")","v":0},{"$f":"IF(INTRO!$E$42=\"Endemic\", IF($J56>1, IF($J56=4, \"Unknown\", IF($J56=99, \"Surveillance\", SUM($O56:$Q56))), 0),\"Not required\")","v":0},6717,21677,46753,{"$f":"IF(INTRO!$E$44=\"Endemic\", IF($K56>1, IF($K56=4, \"Unknown\", IF($K56=99, \"Surveillance\", SUM($S56:$U56))), 0),\"Not required\")","v":75147},0,0,0,0,null,null,null,null,null,null,null,44368,"PAYNIJAR",null,null,null,null,null,{"$f":"'MDA1'!K56","v":0},{"$f":"'MDA3'!O56","v":0},{"$f":"'MDA4'!S56","v":0}]
[{"$f":"IF(INTRO!$E$34<>0,INTRO!$E$34,\"\")","v":"South Sudan"},"Upper Nile","RENK",235276.85390000002,{"$f":"IF(INTRO!$E$48=\"\",\"\",ROUND($D57*INTRO!$E$48,0))","v":26045},{"$f":"IF(INTRO!$E$49=\"\",\"\",ROUND($D57*INTRO!$E$49,0))","v":72677},{"$f":"IF(INTRO!$E$50=\"\",\"\",ROUND($D57*INTRO!$E$50,0))","v":130085},1,4,0,2,0,{"$f":"IF(INTRO!$E$38=\"Endemic\", IF($H57>0, IF($H57=4,\"Unknown\", IF($H57=99,\"Stopped\", $D57)), 0),\"Not required\")","v":235276.85390000002},{"$f":"IF(INTRO!$E$40=\"Endemic\", IF($I57>0, IF($I57=4,\"Unknown\",IF($I57=99,\"Stopped\", $D57)), 0),\"Not required\")","v":"Unknown"},{"$f":"IF(INTRO!$E$42=\"Endemic\", IF($J57>1, IF($J57=4, \"Unknown\", IF($J57=99, \"Surveillance\", E57)), 0),\"Not required\")","v":0},{"$f":"IF(INTRO!$E$42=\"Endemic\", IF($J57>1, IF($J57=4, \"Unknown\", IF($J57=99, \"Surveillance\", F57)), 0),\"Not required\")","v":0},{"$f":"IF(INTRO!$E$42=\"Endemic\", IF($J57>1, IF($J57=4, \"Unknown\", IF($J57=99, \"Surveillance\", ROUND(D57*INTRO!$E$51,0))), 0),\"Not required\")","v":0},{"$f":"IF(INTRO!$E$42=\"Endemic\", IF($J57>1, IF($J57=4, \"Unknown\", IF($J57=99, \"Surveillance\", SUM($O57:$Q57))), 0),\"Not required\")","v":0},14392,46455,100191,{"$f":"IF(INTRO!$E$44=\"Endemic\", IF($K57>1, IF($K57=4, \"Unknown\", IF($K57=99, \"Surveillance\", SUM($S57:$U57))), 0),\"Not required\")","v":161038},1,0,0,0,"MDA1 (IVM+ALB)",null,null,null,null,null,null,44381,"RENK",null,null,null,null,null,{"$f":"'MDA1'!K57","v":30779},{"$f":"'MDA3'!O57","v":0},{"$f":"'MDA4'!S57","v":0}]
[{"$f":"IF(INTRO!$E$34<>0,INTRO!$E$34,\"\")","v":"South Sudan"},"Upper Nile","MANYO",64166.414700000008,{"$f":"IF(INTRO!$E$48=\"\",\"\",ROUND($D58*INTRO!$E$48,0))","v":7103},{"$f":"IF(INTRO!$E$49=\"\",\"\",ROUND($D58*INTRO!$E$49,0))","v":19821},{"$f":"IF(INTRO!$E$50=\"\",\"\",ROUND($D58*INTRO!$E$50,0))","v":35478},1,4,0,0,0,{"$f":"IF(INTRO!$E$38=\"Endemic\", IF($H58>0, IF($H58=4,\"Unknown\", IF($H58=99,\"Stopped\", $D58)), 0),\"Not required\")","v":64166.414700000008},{"$f":"IF(INTRO!$E$40=\"Endemic\", IF($I58>0, IF($I58=4,\"Unknown\",IF($I58=99,\"Stopped\", $D58)), 0),\"Not required\")","v":"Unknown"},{"$f":"IF(INTRO!$E$42=\"Endemic\", IF($J58>1, IF($J58=4, \"Unknown\", IF($J58=99, \"Surveillance\", E58)), 0),\"Not required\")","v":0},{"$f":"IF(INTRO!$E$42=\"Endemic\", IF($J58>1, IF($J58=4, \"Unknown\", IF($J58=99, \"Surveillance\", F58)), 0),\"Not required\")","v":0},{"$f":"IF(INTRO!$E$42=\"Endemic\", IF($J58>1, IF($J58=4, \"Unknown\", IF($J58=99, \"Surveillance\", ROUND(D58*INTRO!$E$51,0))), 0),\"Not required\")","v":0},{"$f":"IF(INTRO!$E$42=\"Endemic\", IF($J58>1, IF($J58=4, \"Unknown\", IF($J58=99, \"Surveillance\", SUM($O58:$Q58))), 0),\"Not required\")","v":0},0,0,0,{"$f":"IF(INTRO!$E$44=\"Endemic\", IF($K58>1, IF($K58=4, \"Unknown\", IF($K58=99, \"Surveillance\", SUM($S58:$U58))), 0),\"Not required\")","v":0},1,0,0,0,"MDA1 (IVM+ALB)",null,null,null,null,null,null,44378,"MANYO",null,null,null,null,null,{"$f":"'MDA1'!K58","v":13564},{"$f":"'MDA3'!O58","v":0},{"$f":"'MDA4'!S58","v":0}]
[{"$f":"IF(INTRO!$E$34<>0,INTRO!$E$34,\"\")","v":"South Sudan"},"Upper Nile","FASHODA",62520.9588,{"$f":"IF(INTRO!$E$48=\"\",\"\",ROUND($D59*INTRO!$E$48,0))","v":6921},{"$f":"IF(INTRO!$E$49=\"\",\"\",ROUND($D59*INTRO!$E$49,0))","v":19313},{"$f":"IF(INTRO!$E$50=\"\",\"\",ROUND($D59*INTRO!$E$50,0))","v":34568},1,4,0,1,0,{"$f":"IF(INTRO!$E$38=\"Endemic\", IF($H59>0, IF($H59=4,\"Unknown\", IF($H59=99,\"Stopped\", $D59)), 0),\"Not required\")","v":62520.9588},{"$f":"IF(INTRO!$E$40=\"Endemic\", IF($I59>0, IF($I59=4,\"Unknown\",IF($I59=99,\"Stopped\", $D59)), 0),\"Not required\")","v":"Unknown"},{"$f":"IF(INTRO!$E$42=\"Endemic\", IF($J59>1, IF($J59=4, \"Unknown\", IF($J59=99, \"Surveillance\", E59)), 0),\"Not required\")","v":0},{"$f":"IF(INTRO!$E$42=\"Endemic\", IF($J59>1, IF($J59=4, \"Unknown\", IF($J59=99, \"Surveillance\", F59)), 0),\"Not required\")","v":0},{"$f":"IF(INTRO!$E$42=\"Endemic\", IF($J59>1, IF($J59=4, \"Unknown\", IF($J59=99, \"Surveillance\", ROUND(D59*INTRO!$E$51,0))), 0),\"Not required\")","v":0},{"$f":"IF(INTRO!$E$42=\"Endemic\", IF($J59>1, IF($J59=4, \"Unknown\", IF($J59=99, \"Surveillance\", SUM($O59:$Q59))), 0),\"Not required\")","v":0},0,0,0,{"$f":"IF(INTRO!$E$44=\"Endemic\", IF($K59>1, IF($K59=4, \"Unknown\", IF($K59=99, \"Surveillance\", SUM($S59:$U59))), 0),\"Not required\")","v":0},1,0,0,0,"MDA1 (IVM+ALB)",null,null,null,null,null,null,44372,"FASHODA",null,null,null,null,null,{"$f":"'MDA1'!K59","v":15740},{"$f":"'MDA3'!O59","v":0},{"$f":"'MDA4'!S59","v":0}]
[{"$f":"IF(INTRO!$E$34<>0,INTRO!$E$34,\"\")","v":"South Sudan"},"Upper Nile","MELUT",83909.76370000001,{"$f":"IF(INTRO!$E$48=\"\",\"\",ROUND($D60*INTRO!$E$48,0))","v":9289},{"$f":"IF(INTRO!$E$49=\"\",\"\",ROUND($D60*INTRO!$E$49,0))","v":25920},{"$f":"IF(INTRO!$E$50=\"\",\"\",ROUND($D60*INTRO!$E$50,0))","v":46394},1,4,0,0,0,{"$f":"IF(INTRO!$E$38=\"Endemic\", IF($H60>0, IF($H60=4,\"Unknown\", IF($H60=99,\"Stopped\", $D60)), 0),\"Not required\")","v":83909.76370000001},{"$f":"IF(INTRO!$E$40=\"Endemic\", IF($I60>0, IF($I60=4,\"Unknown\",IF($I60=99,\"Stopped\", $D60)), 0),\"Not required\")","v":"Unknown"},{"$f":"IF(INTRO!$E$42=\"Endemic\", IF($J60>1, IF($J60=4, \"Unknown\", IF($J60=99, \"Surveillance\", E60)), 0),\"Not required\")","v":0},{"$f":"IF(INTRO!$E$42=\"Endemic\", IF($J60>1, IF($J60=4, \"Unknown\", IF($J60=99, \"Surveillance\", F60)), 0),\"Not required\")","v":0},{"$f":"IF(INTRO!$E$42=\"Endemic\", IF($J60>1, IF($J60=4, \"Unknown\", IF($J60=99, \"Surveillance\", ROUND(D60*INTRO!$E$51,0))), 0),\"Not required\")","v":0},{"$f":"IF(INTRO!$E$42=\"Endemic\", IF($J60>1, IF($J60=4, \"Unknown\", IF($J60=99, \"Surveillance\", SUM($O60:$Q60))), 0),\"Not required\")","v":0},0,0,0,{"$f":"IF(INTRO!$E$44=\"Endemic\", IF($K60>1, IF($K60=4, \"Unknown\", IF($K60=99, \"Surveillance\", SUM($S60:$U60))), 0),\"Not required\")","v":0},1,0,0,0,"MDA1 (IVM+ALB)",null,null,null,null,null,null,44379,"MELUT",null,null,null,null,null,{"$f":"'MDA1'!K60","v":9565},{"$f":"'MDA3'!O60","v":0},{"$f":"'MDA4'!S60","v":0}]
[{"$f":"IF(INTRO!$E$34<>0,INTRO!$E$34,\"\")","v":"South Sudan"},"Upper Nile","MABAN",77329.001000000004,{"$f":"IF(INTRO!$E$48=\"\",\"\",ROUND($D61*INTRO!$E$48,0))","v":8560},{"$f":"IF(INTRO!$E$49=\"\",\"\",ROUND($D61*INTRO!$E$49,0))","v":23887},{"$f":"IF(INTRO!$E$50=\"\",\"\",ROUND($D61*INTRO!$E$50,0))","v":42755},1,1,0,0,0,{"$f":"IF(INTRO!$E$38=\"Endemic\", IF($H61>0, IF($H61=4,\"Unknown\", IF($H61=99,\"Stopped\", $D61)), 0),\"Not required\")","v":77329.001000000004},{"$f":"IF(INTRO!$E$40=\"Endemic\", IF($I61>0, IF($I61=4,\"Unknown\",IF($I61=99,\"Stopped\", $D61)), 0),\"Not required\")","v":77329.001000000004},{"$f":"IF(INTRO!$E$42=\"Endemic\", IF($J61>1, IF($J61=4, \"Unknown\", IF($J61=99, \"Surveillance\", E61)), 0),\"Not required\")","v":0},{"$f":"IF(INTRO!$E$42=\"Endemic\", IF($J61>1, IF($J61=4, \"Unknown\", IF($J61=99, \"Surveillance\", F61)), 0),\"Not required\")","v":0},{"$f":"IF(INTRO!$E$42=\"Endemic\", IF($J61>1, IF($J61=4, \"Unknown\", IF($J61=99, \"Surveillance\", ROUND(D61*INTRO!$E$51,0))), 0),\"Not required\")","v":0},{"$f":"IF(INTRO!$E$42=\"Endemic\", IF($J61>1, IF($J61=4, \"Unknown\", IF($J61=99, \"Surveillance\", SUM($O61:$Q61))), 0),\"Not required\")","v":0},0,0,0,{"$f":"IF(INTRO!$E$44=\"Endemic\", IF($K61>1, IF($K61=4, \"Unknown\", IF($K61=99, \"Surveillance\", SUM($S61:$U61))), 0),\"Not required\")","v":0},1,1,0,0,"MDA1 (IVM+ALB)",null,null,null,null,null,null,44375,"MABAN",null,null,null,null,null,{"$f":"'MDA1'!K61","v":30551},{"$f":"'MDA3'!O61","v":0},{"$f":"'MDA4'!S61","v":0}]
[{"$f":"IF(INTRO!$E$34<>0,INTRO!$E$34,\"\")","v":"South Sudan"},"Upper Nile","MAIWUT",134913.59210000001,{"$f":"IF(INTRO!$E$48=\"\",\"\",ROUND($D62*INTRO!$E$48,0))","v":14935},{"$f":"IF(INTRO!$E$49=\"\",\"\",ROUND($D62*INTRO!$E$49,0))","v":41675},{"$f":"IF(INTRO!$E$50=\"\",\"\",ROUND($D62*INTRO!$E$50,0))","v":74594},0,1,1,0,0,{"$f":"IF(INTRO!$E$38=\"Endemic\", IF($H62>0, IF($H62=4,\"Unknown\", IF($H62=99,\"Stopped\", $D62)), 0),\"Not required\")","v":0},{"$f":"IF(INTRO!$E$40=\"Endemic\", IF($I62>0, IF($I62=4,\"Unknown\",IF($I62=99,\"Stopped\", $D62)), 0),\"Not required\")","v":134913.59210000001},{"$f":"IF(INTRO!$E$42=\"Endemic\", IF($J62>1, IF($J62=4, \"Unknown\", IF($J62=99, \"Surveillance\", E62)), 0),\"Not required\")","v":0},{"$f":"IF(INTRO!$E$42=\"Endemic\", IF($J62>1, IF($J62=4, \"Unknown\", IF($J62=99, \"Surveillance\", F62)), 0),\"Not required\")","v":0},{"$f":"IF(INTRO!$E$42=\"Endemic\", IF($J62>1, IF($J62=4, \"Unknown\", IF($J62=99, \"Surveillance\", ROUND(D62*INTRO!$E$51,0))), 0),\"Not required\")","v":0},{"$f":"IF(INTRO!$E$42=\"Endemic\", IF($J62>1, IF($J62=4, \"Unknown\", IF($J62=99, \"Surveillance\", SUM($O62:$Q62))), 0),\"Not required\")","v":0},0,0,0,{"$f":"IF(INTRO!$E$44=\"Endemic\", IF($K62>1, IF($K62=4, \"Unknown\", IF($K62=99, \"Surveillance\", SUM($S62:$U62))), 0),\"Not required\")","v":0},0,1,0,0,"MDA3 (IVM)",null,null,null,null,null,null,44376,"MAIWUT",null,null,null,null,null,{"$f":"'MDA1'!K62","v":0},{"$f":"'MDA3'!O62","v":37545},{"$f":"'MDA4'!S62","v":0}]
[{"$f":"IF(INTRO!$E$34<>0,INTRO!$E$34,\"\")","v":"South Sudan"},"Upper Nile","LUAKPINY/NASIR",358673.31560000003,{"$f":"IF(INTRO!$E$48=\"\",\"\",ROUND($D63*INTRO!$E$48,0))","v":39705},{"$f":"IF(INTRO!$E$49=\"\",\"\",ROUND($D63*INTRO!$E$49,0))","v":110794},{"$f":"IF(INTRO!$E$50=\"\",\"\",ROUND($D63*INTRO!$E$50,0))","v":198310},1,4,1,0,0,{"$f":"IF(INTRO!$E$38=\"Endemic\", IF($H63>0, IF($H63=4,\"Unknown\", IF($H63=99,\"Stopped\", $D63)), 0),\"Not required\")","v":358673.31560000003},{"$f":"IF(INTRO!$E$40=\"Endemic\", IF($I63>0, IF($I63=4,\"Unknown\",IF($I63=99,\"Stopped\", $D63)), 0),\"Not required\")","v":"Unknown"},{"$f":"IF(INTRO!$E$42=\"Endemic\", IF($J63>1, IF($J63=4, \"Unknown\", IF($J63=99, \"Surveillance\", E63)), 0),\"Not required\")","v":0},{"$f":"IF(INTRO!$E$42=\"Endemic\", IF($J63>1, IF($J63=4, \"Unknown\", IF($J63=99, \"Surveillance\", F63)), 0),\"Not required\")","v":0},{"$f":"IF(INTRO!$E$42=\"Endemic\", IF($J63>1, IF($J63=4, \"Unknown\", IF($J63=99, \"Surveillance\", ROUND(D63*INTRO!$E$51,0))), 0),\"Not required\")","v":0},{"$f":"IF(INTRO!$E$42=\"Endemic\", IF($J63>1, IF($J63=4, \"Unknown\", IF($J63=99, \"Surveillance\", SUM($O63:$Q63))), 0),\"Not required\")","v":0},0,0,0,{"$f":"IF(INTRO!$E$44=\"Endemic\", IF($K63>1, IF($K63=4, \"Unknown\", IF($K63=99, \"Surveillance\", SUM($S63:$U63))), 0),\"Not required\")","v":0},1,0,0,0,"MDA1 (IVM+ALB)",null,null,null,null,null,null,44374,"LUAKPINY/NASIR",null,null,null,null,null,{"$f":"'MDA1'!K63","v":48107},{"$f":"'MDA3'!O63","v":0},{"$f":"'MDA4'!S63","v":0}]
[{"$f":"IF(INTRO!$E$34<>0,INTRO!$E$34,\"\")","v":"South Sudan"},"Upper Nile","LONGOCHUK",108589.48040000001,{"$f":"IF(INTRO!$E$48=\"\",\"\",ROUND($D64*INTRO!$E$48,0))","v":12021},{"$f":"IF(INTRO!$E$49=\"\",\"\",ROUND($D64*INTRO!$E$49,0))","v":33543},{"$f":"IF(INTRO!$E$50=\"\",\"\",ROUND($D64*INTRO!$E$50,0))","v":60039},0,1,1,1,0,{"$f":"IF(INTRO!$E$38=\"Endemic\", IF($H64>0, IF($H64=4,\"Unknown\", IF($H64=99,\"Stopped\", $D64)), 0),\"Not required\")","v":0},{"$f":"IF(INTRO!$E$40=\"Endemic\", IF($I64>0, IF($I64=4,\"Unknown\",IF($I64=99,\"Stopped\", $D64)), 0),\"Not required\")","v":108589.48040000001},{"$f":"IF(INTRO!$E$42=\"Endemic\", IF($J64>1, IF($J64=4, \"Unknown\", IF($J64=99, \"Surveillance\", E64)), 0),\"Not required\")","v":0},{"$f":"IF(INTRO!$E$42=\"Endemic\", IF($J64>1, IF($J64=4, \"Unknown\", IF($J64=99, \"Surveillance\", F64)), 0),\"Not required\")","v":0},{"$f":"IF(INTRO!$E$42=\"Endemic\", IF($J64>1, IF($J64=4, \"Unknown\", IF($J64=99, \"Surveillance\", ROUND(D64*INTRO!$E$51,0))), 0),\"Not required\")","v":0},{"$f":"IF(INTRO!$E$42=\"Endemic\", IF($J64>1, IF($J64=4, \"Unknown\", IF($J64=99, \"Surveillance\", SUM($O64:$Q64))), 0),\"Not required\")","v":0},0,0,0,{"$f":"IF(INTRO!$E$44=\"Endemic\", IF($K64>1, IF($K64=4, \"Unknown\", IF($K64=99, \"Surveillance\", SUM($S64:$U64))), 0),\"Not required\")","v":0},0,1,0,0,"MDA3 (IVM)",null,null,null,null,null,null,44373,"LONGOCHUK",null,null,null,null,null,{"$f":"'MDA1'!K64","v":0},{"$f":"'MDA3'!O64","v":32275},{"$f":"'MDA4'!S64","v":0}]
[{"$f":"IF(INTRO!$E$34<>0,INTRO!$E$34,\"\")","v":"South Sudan"},"Upper Nile","ULANG",144785.2666,{"$f":"IF(INTRO!$E$48=\"\",\"\",ROUND($D65*INTRO!$E$48,0))","v":16028},{"$f":"IF(INTRO!$E$49=\"\",\"\",ROUND($D65*INTRO!$E$49,0))","v":44724},{"$f":"IF(INTRO!$E$50=\"\",\"\",ROUND($D65*INTRO!$E$50,0))","v":80052},1,4,1,0,0,{"$f":"IF(INTRO!$E$38=\"Endemic\", IF($H65>0, IF($H65=4,\"Unknown\", IF($H65=99,\"Stopped\", $D65)), 0),\"Not required\")","v":144785.2666},{"$f":"IF(INTRO!$E$40=\"Endemic\", IF($I65>0, IF($I65=4,\"Unknown\",IF($I65=99,\"Stopped\", $D65)), 0),\"Not required\")","v":"Unknown"},{"$f":"IF(INTRO!$E$42=\"Endemic\", IF($J65>1, IF($J65=4, \"Unknown\", IF($J65=99, \"Surveillance\", E65)), 0),\"Not required\")","v":0},{"$f":"IF(INTRO!$E$42=\"Endemic\", IF($J65>1, IF($J65=4, \"Unknown\", IF($J65=99, \"Surveillance\", F65)), 0),\"Not required\")","v":0},{"$f":"IF(INTRO!$E$42=\"Endemic\", IF($J65>1, IF($J65=4, \"Unknown\", IF($J65=99, \"Surveillance\", ROUND(D65*INTRO!$E$51,0))), 0),\"Not required\")","v":0},{"$f":"IF(INTRO!$E$42=\"Endemic\", IF($J65>1, IF($J65=4, \"Unknown\", IF($J65=99, \"Surveillance\", SUM($O65:$Q65))), 0),\"Not required\")","v":0},0,0,0,{"$f":"IF(INTRO!$E$44=\"Endemic\", IF($K65>1, IF($K65=4, \"Unknown\", IF($K65=99, \"Surveillance\", SUM($S65:$U65))), 0),\"Not required\")","v":0},1,0,0,0,"MDA1 (IVM+ALB)",null,null,null,null,null,null,44382,"ULANG",null,null,null,null,null,{"$f":"'MDA1'!K65","v":15447},{"$f":"'MDA3'!O65","v":0},{"$f":"'MDA4'!S65","v":0}]
[{"$f":"IF(INTRO!$E$34<>0,INTRO!$E$34,\"\")","v":"South Sudan"},"Upper Nile","BALIET",65400.241400000006,{"$f":"IF(INTRO!$E$48=\"\",\"\",ROUND($D66*INTRO!$E$48,0))","v":7240},{"$f":"IF(INTRO!$E$49=\"\",\"\",ROUND($D66*INTRO!$E$49,0))","v":20202},{"$f":"IF(INTRO!$E$50=\"\",\"\",ROUND($D66*INTRO!$E$50,0))","v":36160},1,4,1,1,0,{"$f":"IF(INTRO!$E$38=\"Endemic\", IF($H66>0, IF($H66=4,\"Unknown\", IF($H66=99,\"Stopped\", $D66)), 0),\"Not required\")","v":65400.241400000006},{"$f":"IF(INTRO!$E$40=\"Endemic\", IF($I66>0, IF($I66=4,\"Unknown\",IF($I66=99,\"Stopped\", $D66)), 0),\"Not required\")","v":"Unknown"},{"$f":"IF(INTRO!$E$42=\"Endemic\", IF($J66>1, IF($J66=4, \"Unknown\", IF($J66=99, \"Surveillance\", E66)), 0),\"Not required\")","v":0},{"$f":"IF(INTRO!$E$42=\"Endemic\", IF($J66>1, IF($J66=4, \"Unknown\", IF($J66=99, \"Surveillance\", F66)), 0),\"Not required\")","v":0},{"$f":"IF(INTRO!$E$42=\"Endemic\", IF($J66>1, IF($J66=4, \"Unknown\", IF($J66=99, \"Surveillance\", ROUND(D66*INTRO!$E$51,0))), 0),\"Not required\")","v":0},{"$f":"IF(INTRO!$E$42=\"Endemic\", IF($J66>1, IF($J66=4, \"Unknown\", IF($J66=99, \"Surveillance\", SUM($O66:$Q66))), 0),\"Not required\")","v":0},0,0,0,{"$f":"IF(INTRO!$E$44=\"Endemic\", IF($K66>1, IF($K66=4, \"Unknown\", IF($K66=99, \"Surveillance\", SUM($S66:$U66))), 0),\"Not required\")","v":0},1,0,0,0,"MDA1 (IVM+ALB)",null,null,null,null,null,null,44371,"BALIET",null,null,null,null,null,{"$f":"'MDA1'!K66","v":7079},{"$f":"'MDA3'!O66","v":0},{"$f":"'MDA4'!S66","v":0}]
[{"$f":"IF(INTRO!$E$34<>0,INTRO!$E$34,\"\")","v":"South Sudan"},"Upper Nile","MALAKAL",215533.50490000003,{"$f":"IF(INTRO!$E$48=\"\",\"\",ROUND($D67*INTRO!$E$48,0))","v":23860},{"$f":"IF(INTRO!$E$49=\"\",\"\",ROUND($D67*INTRO!$E$49,0))","v":66578},{"$f":"IF(INTRO!$E$50=\"\",\"\",ROUND($D67*INTRO!$E$50,0))","v":119168},1,4,0,1,0,{"$f":"IF(INTRO!$E$38=\"Endemic\", IF($H67>0, IF($H67=4,\"Unknown\", IF($H67=99,\"Stopped\", $D67)), 0),\"Not required\")","v":215533.50490000003},{"$f":"IF(INTRO!$E$40=\"Endemic\", IF($I67>0, IF($I67=4,\"Unknown\",IF($I67=99,\"Stopped\", $D67)), 0),\"Not required\")","v":"Unknown"},{"$f":"IF(INTRO!$E$42=\"Endemic\", IF($J67>1, IF($J67=4, \"Unknown\", IF($J67=99, \"Surveillance\", E67)), 0),\"Not required\")","v":0},{"$f":"IF(INTRO!$E$42=\"Endemic\", IF($J67>1, IF($J67=4, \"Unknown\", IF($J67=99, \"Surveillance\", F67)), 0),\"Not required\")","v":0},{"$f":"IF(INTRO!$E$42=\"Endemic\", IF($J67>1, IF($J67=4, \"Unknown\", IF($J67=99, \"Surveillance\", ROUND(D67*INTRO!$E$51,0))), 0),\"Not required\")","v":0},{"$f":"IF(INTRO!$E$42=\"Endemic\", IF($J67>1, IF($J67=4, \"Unknown\", IF($J67=99, \"Surveillance\", SUM($O67:$Q67))), 0),\"Not required\")","v":0},0,0,0,{"$f":"IF(INTRO!$E$44=\"Endemic\", IF($K67>1, IF($K67=4, \"Unknown\", IF($K67=99, \"Surveillance\", SUM($S67:$U67))), 0),\"Not required\")","v":0},1,0,0,0,"MDA1 (IVM+ALB)",null,null,null,null,null,null,44377,"MALAKAL",null,null,null,null,null,{"$f":"'MDA1'!K67","v":20554},{"$f":"'MDA3'!O67","v":0},{"$f":"'MDA4'!S67","v":0}]
[{"$f":"IF(INTRO!$E$34<>0,INTRO!$E$34,\"\")","v":"South Sudan"},"Upper Nile","PANYKANG",77329.001000000004,{"$f":"IF(INTRO!$E$48=\"\",\"\",ROUND($D68*INTRO!$E$48,0))","v":8560},{"$f":"IF(INTRO!$E$49=\"\",\"\",ROUND($D68*INTRO!$E$49,0))","v":23887},{"$f":"IF(INTRO!$E$50=\"\",\"\",ROUND($D68*INTRO!$E$50,0))","v":42755},1,4,1,1,0,{"$f":"IF(INTRO!$E$38=\"Endemic\", IF($H68>0, IF($H68=4,\"Unknown\", IF($H68=99,\"Stopped\", $D68)), 0),\"Not required\")","v":77329.001000000004},{"$f":"IF(INTRO!$E$40=\"Endemic\", IF($I68>0, IF($I68=4,\"Unknown\",IF($I68=99,\"Stopped\", $D68)), 0),\"Not required\")","v":"Unknown"},{"$f":"IF(INTRO!$E$42=\"Endemic\", IF($J68>1, IF($J68=4, \"Unknown\", IF($J68=99, \"Surveillance\", E68)), 0),\"Not required\")","v":0},{"$f":"IF(INTRO!$E$42=\"Endemic\", IF($J68>1, IF($J68=4, \"Unknown\", IF($J68=99, \"Surveillance\", F68)), 0),\"Not required\")","v":0},{"$f":"IF(INTRO!$E$42=\"Endemic\", IF($J68>1, IF($J68=4, \"Unknown\", IF($J68=99, \"Surveillance\", ROUND(D68*INTRO!$E$51,0))), 0),\"Not required\")","v":0},{"$f":"IF(INTRO!$E$42=\"Endemic\", IF($J68>1, IF($J68=4, \"Unknown\", IF($J68=99, \"Surveillance\", SUM($O68:$Q68))), 0),\"Not required\")","v":0},0,0,0,{"$f":"IF(INTRO!$E$44=\"Endemic\", IF($K68>1, IF($K68=4, \"Unknown\", IF($K68=99, \"Surveillance\", SUM($S68:$U68))), 0),\"Not required\")","v":0},1,0,0,0,"MDA1 (IVM+ALB)",null,null,null,null,null,null,44380,"PANYKANG",null,null,null,null,null,{"$f":"'MDA1'!K68","v":17877},{"$f":"'MDA3'!O68","v":0},{"$f":"'MDA4'!S68","v":0}]
[{"$f":"IF(INTRO!$E$34<>0,INTRO!$E$34,\"\")","v":"South Sudan"},"Warrap","ABYEI",87788.414100000009,{"$f":"IF(INTRO!$E$48=\"\",\"\",ROUND($D69*INTRO!$E$48,0))","v":9718},{"$f":"IF(INTRO!$E$49=\"\",\"\",ROUND($D69*INTRO!$E$49,0))","v":27118},{"$f":"IF(INTRO!$E$50=\"\",\"\",ROUND($D69*INTRO!$E$50,0))","v":48538},0,4,0,1,4,{"$f":"IF(INTRO!$E$38=\"Endemic\", IF($H69>0, IF($H69=4,\"Unknown\", IF($H69=99,\"Stopped\", $D69)), 0),\"Not required\")","v":0},{"$f":"IF(INTRO!$E$40=\"Endemic\", IF($I69>0, IF($I69=4,\"Unknown\",IF($I69=99,\"Stopped\", $D69)), 0),\"Not required\")","v":"Unknown"},{"$f":"IF(INTRO!$E$42=\"Endemic\", IF($J69>1, IF($J69=4, \"Unknown\", IF($J69=99, \"Surveillance\", E69)), 0),\"Not required\")","v":0},{"$f":"IF(INTRO!$E$42=\"Endemic\", IF($J69>1, IF($J69=4, \"Unknown\", IF($J69=99, \"Surveillance\", F69)), 0),\"Not required\")","v":0},{"$f":"IF(INTRO!$E$42=\"Endemic\", IF($J69>1, IF($J69=4, \"Unknown\", IF($J69=99, \"Surveillance\", ROUND(D69*INTRO!$E$51,0))), 0),\"Not required\")","v":0},{"$f":"IF(INTRO!$E$42=\"Endemic\", IF($J69>1, IF($J69=4, \"Unknown\", IF($J69=99, \"Surveillance\", SUM($O69:$Q69))), 0),\"Not required\")","v":0},0,0,0,{"$f":"IF(INTRO!$E$44=\"Endemic\", IF($K69>1, IF($K69=4, \"Unknown\", IF($K69=99, \"Surveillance\", SUM($S69:$U69))), 0),\"Not required\")","v":0},0,0,0,0,null,null,null,null,null,null,null,44383,"ABYEI",null,null,null,null,null,{"$f":"'MDA1'!K69","v":0},{"$f":"'MDA3'!O69","v":0},{"$f":"'MDA4'!S69","v":0}]
[{"$f":"IF(INTRO!$E$34<>0,INTRO!$E$34,\"\")","v":"South Sudan"},"Warrap","TWIC",343023.97970000003,{"$f":"IF(INTRO!$E$48=\"\",\"\",ROUND($D70*INTRO!$E$48,0))","v":37973},{"$f":"IF(INTRO!$E$49=\"\",\"\",ROUND($D70*INTRO!$E$49,0))","v":105960},{"$f":"IF(INTRO!$E$50=\"\",\"\",ROUND($D70*INTRO!$E$50,0))","v":189658},1,1,0,1,1,{"$f":"IF(INTRO!$E$38=\"Endemic\", IF($H70>0, IF($H70=4,\"Unknown\", IF($H70=99,\"Stopped\", $D70)), 0),\"Not required\")","v":343023.97970000003},{"$f":"IF(INTRO!$E$40=\"Endemic\", IF($I70>0, IF($I70=4,\"Unknown\",IF($I70=99,\"Stopped\", $D70)), 0),\"Not required\")","v":343023.97970000003},{"$f":"IF(INTRO!$E$42=\"Endemic\", IF($J70>1, IF($J70=4, \"Unknown\", IF($J70=99, \"Surveillance\", E70)), 0),\"Not required\")","v":0},{"$f":"IF(INTRO!$E$42=\"Endemic\", IF($J70>1, IF($J70=4, \"Unknown\", IF($J70=99, \"Surveillance\", F70)), 0),\"Not required\")","v":0},{"$f":"IF(INTRO!$E$42=\"Endemic\", IF($J70>1, IF($J70=4, \"Unknown\", IF($J70=99, \"Surveillance\", ROUND(D70*INTRO!$E$51,0))), 0),\"Not required\")","v":0},{"$f":"IF(INTRO!$E$42=\"Endemic\", IF($J70>1, IF($J70=4, \"Unknown\", IF($J70=99, \"Surveillance\", SUM($O70:$Q70))), 0),\"Not required\")","v":0},0,0,0,{"$f":"IF(INTRO!$E$44=\"Endemic\", IF($K70>1, IF($K70=4, \"Unknown\", IF($K70=99, \"Surveillance\", SUM($S70:$U70))), 0),\"Not required\")","v":0},1,1,0,0,"MDA1 (IVM+ALB)",null,null,null,null,null,null,44389,"TWIC",null,null,null,null,null,{"$f":"'MDA1'!K70","v":64416},{"$f":"'MDA3'!O70","v":0},{"$f":"'MDA4'!S70","v":0}]
[{"$f":"IF(INTRO!$E$34<>0,INTRO!$E$34,\"\")","v":"South Sudan"},"Warrap","GOGRIAL WEST",408052.90610000002,{"$f":"IF(INTRO!$E$48=\"\",\"\",ROUND($D71*INTRO!$E$48,0))","v":45171},{"$f":"IF(INTRO!$E$49=\"\",\"\",ROUND($D71*INTRO!$E$49,0))","v":126048},{"$f":"IF(INTRO!$E$50=\"\",\"\",ROUND($D71*INTRO!$E$50,0))","v":225612},1,1,0,1,1,{"$f":"IF(INTRO!$E$38=\"Endemic\", IF($H71>0, IF($H71=4,\"Unknown\", IF($H71=99,\"Stopped\", $D71)), 0),\"Not required\")","v":408052.90610000002},{"$f":"IF(INTRO!$E$40=\"Endemic\", IF($I71>0, IF($I71=4,\"Unknown\",IF($I71=99,\"Stopped\", $D71)), 0),\"Not required\")","v":408052.90610000002},{"$f":"IF(INTRO!$E$42=\"Endemic\", IF($J71>1, IF($J71=4, \"Unknown\", IF($J71=99, \"Surveillance\", E71)), 0),\"Not required\")","v":0},{"$f":"IF(INTRO!$E$42=\"Endemic\", IF($J71>1, IF($J71=4, \"Unknown\", IF($J71=99, \"Surveillance\", F71)), 0),\"Not required\")","v":0},{"$f":"IF(INTRO!$E$42=\"Endemic\", IF($J71>1, IF($J71=4, \"Unknown\", IF($J71=99, \"Surveillance\", ROUND(D71*INTRO!$E$51,0))), 0),\"Not required\")","v":0},{"$f":"IF(INTRO!$E$42=\"Endemic\", IF($J71>1, IF($J71=4, \"Unknown\", IF($J71=99, \"Surveillance\", SUM($O71:$Q71))), 0),\"Not required\")","v":0},0,0,0,{"$f":"IF(INTRO!$E$44=\"Endemic\", IF($K71>1, IF($K71=4, \"Unknown\", IF($K71=99, \"Surveillance\", SUM($S71:$U71))), 0),\"Not required\")","v":0},1,1,0,0,"MDA1 (IVM+ALB)",null,null,null,null,null,null,44385,"GOGRIAL WEST",null,null,null,null,null,{"$f":"'MDA1'!K71","v":166857},{"$f":"'MDA3'!O71","v":0},{"$f":"'MDA4'!S71","v":0}]
[{"$f":"IF(INTRO!$E$34<>0,INTRO!$E$34,\"\")","v":"South Sudan"},"Warrap","GOGRIAL EAST",172325.1697,{"$f":"IF(INTRO!$E$48=\"\",\"\",ROUND($D72*INTRO!$E$48,0))","v":19076},{"$f":"IF(INTRO!$E$49=\"\",\"\",ROUND($D72*INTRO!$E$49,0))","v":53231},{"$f":"IF(INTRO!$E$50=\"\",\"\",ROUND($D72*INTRO!$E$50,0))","v":95279},1,1,0,1,1,{"$f":"IF(INTRO!$E$38=\"Endemic\", IF($H72>0, IF($H72=4,\"Unknown\", IF($H72=99,\"Stopped\", $D72)), 0),\"Not required\")","v":172325.1697},{"$f":"IF(INTRO!$E$40=\"Endemic\", IF($I72>0, IF($I72=4,\"Unknown\",IF($I72=99,\"Stopped\", $D72)), 0),\"Not required\")","v":172325.1697},{"$f":"IF(INTRO!$E$42=\"Endemic\", IF($J72>1, IF($J72=4, \"Unknown\", IF($J72=99, \"Surveillance\", E72)), 0),\"Not required\")","v":0},{"$f":"IF(INTRO!$E$42=\"Endemic\", IF($J72>1, IF($J72=4, \"Unknown\", IF($J72=99, \"Surveillance\", F72)), 0),\"Not required\")","v":0},{"$f":"IF(INTRO!$E$42=\"Endemic\", IF($J72>1, IF($J72=4, \"Unknown\", IF($J72=99, \"Surveillance\", ROUND(D72*INTRO!$E$51,0))), 0),\"Not required\")","v":0},{"$f":"IF(INTRO!$E$42=\"Endemic\", IF($J72>1, IF($J72=4, \"Unknown\", IF($J72=99, \"Surveillance\", SUM($O72:$Q72))), 0),\"Not required\")","v":0},0,0,0,{"$f":"IF(INTRO!$E$44=\"Endemic\", IF($K72>1, IF($K72=4, \"Unknown\", IF($K72=99, \"Surveillance\", SUM($S72:$U72))), 0),\"Not required\")","v":0},1,1,0,0,"MDA1 (IVM+ALB)",null,null,null,null,null,null,44384,"GOGRIAL EAST",null,null,null,null,null,{"$f":"'MDA1'!K72","v":73159},{"$f":"'MDA3'!O72","v":0},{"$f":"'MDA4'!S72","v":0}]
[{"$f":"IF(INTRO!$E$34<>0,INTRO!$E$34,\"\")","v":"South Sudan"},"Warrap","TONJ NORTH",276370.81540000002,{"$f":"IF(INTRO!$E$48=\"\",\"\",ROUND($D73*INTRO!$E$48,0))","v":30594},{"$f":"IF(INTRO!$E$49=\"\",\"\",ROUND($D73*INTRO!$E$49,0))","v":85371},{"$f":"IF(INTRO!$E$50=\"\",\"\",ROUND($D73*INTRO!$E$50,0))","v":152805},0,1,0,3,1,{"$f":"IF(INTRO!$E$38=\"Endemic\", IF($H73>0, IF($H73=4,\"Unknown\", IF($H73=99,\"Stopped\", $D73)), 0),\"Not required\")","v":0},{"$f":"IF(INTRO!$E$40=\"Endemic\", IF($I73>0, IF($I73=4,\"Unknown\",IF($I73=99,\"Stopped\", $D73)), 0),\"Not required\")","v":276370.81540000002},{"$f":"IF(INTRO!$E$42=\"Endemic\", IF($J73>1, IF($J73=4, \"Unknown\", IF($J73=99, \"Surveillance\", E73)), 0),\"Not required\")","v":0},{"$f":"IF(INTRO!$E$42=\"Endemic\", IF($J73>1, IF($J73=4, \"Unknown\", IF($J73=99, \"Surveillance\", F73)), 0),\"Not required\")","v":0},{"$f":"IF(INTRO!$E$42=\"Endemic\", IF($J73>1, IF($J73=4, \"Unknown\", IF($J73=99, \"Surveillance\", ROUND(D73*INTRO!$E$51,0))), 0),\"Not required\")","v":0},{"$f":"IF(INTRO!$E$42=\"Endemic\", IF($J73>1, IF($J73=4, \"Unknown\", IF($J73=99, \"Surveillance\", SUM($O73:$Q73))), 0),\"Not required\")","v":0},10009,32305,69675,{"$f":"IF(INTRO!$E$44=\"Endemic\", IF($K73>1, IF($K73=4, \"Unknown\", IF($K73=99, \"Surveillance\", SUM($S73:$U73))), 0),\"Not required\")","v":111989},0,1,0,0,"MDA3 (IVM)",null,null,null,null,null,null,44387,"TONJ NORTH",null,null,null,null,null,{"$f":"'MDA1'!K73","v":0},{"$f":"'MDA3'!O73","v":122935},{"$f":"'MDA4'!S73","v":0}]
[{"$f":"IF(INTRO!$E$34<>0,INTRO!$E$34,\"\")","v":"South Sudan"},"Warrap","TONJ EAST",193459.35860000001,{"$f":"IF(INTRO!$E$48=\"\",\"\",ROUND($D74*INTRO!$E$48,0))","v":21416},{"$f":"IF(INTRO!$E$49=\"\",\"\",ROUND($D74*INTRO!$E$49,0))","v":59760},{"$f":"IF(INTRO!$E$50=\"\",\"\",ROUND($D74*INTRO!$E$50,0))","v":106964},0,1,1,2,1,{"$f":"IF(INTRO!$E$38=\"Endemic\", IF($H74>0, IF($H74=4,\"Unknown\", IF($H74=99,\"Stopped\", $D74)), 0),\"Not required\")","v":0},{"$f":"IF(INTRO!$E$40=\"Endemic\", IF($I74>0, IF($I74=4,\"Unknown\",IF($I74=99,\"Stopped\", $D74)), 0),\"Not required\")","v":193459.35860000001},{"$f":"IF(INTRO!$E$42=\"Endemic\", IF($J74>1, IF($J74=4, \"Unknown\", IF($J74=99, \"Surveillance\", E74)), 0),\"Not required\")","v":0},{"$f":"IF(INTRO!$E$42=\"Endemic\", IF($J74>1, IF($J74=4, \"Unknown\", IF($J74=99, \"Surveillance\", F74)), 0),\"Not required\")","v":0},{"$f":"IF(INTRO!$E$42=\"Endemic\", IF($J74>1, IF($J74=4, \"Unknown\", IF($J74=99, \"Surveillance\", ROUND(D74*INTRO!$E$51,0))), 0),\"Not required\")","v":0},{"$f":"IF(INTRO!$E$42=\"Endemic\", IF($J74>1, IF($J74=4, \"Unknown\", IF($J74=99, \"Surveillance\", SUM($O74:$Q74))), 0),\"Not required\")","v":0},465,1502,3239,{"$f":"IF(INTRO!$E$44=\"Endemic\", IF($K74>1, IF($K74=4, \"Unknown\", IF($K74=99, \"Surveillance\", SUM($S74:$U74))), 0),\"Not required\")","v":5206},0,1,0,0,"MDA3 (IVM)",null,null,null,null,null,null,44386,"TONJ EAST",null,null,null,null,null,{"$f":"'MDA1'!K74","v":0},{"$f":"'MDA3'!O74","v":90194},{"$f":"'MDA4'!S74","v":0}]
[{"$f":"IF(INTRO!$E$34<>0,INTRO!$E$34,\"\")","v":"South Sudan"},"Warrap","TONJ SOUTH",144687.66380000001,{"$f":"IF(INTRO!$E$48=\"\",\"\",ROUND($D75*INTRO!$E$48,0))","v":16017},{"$f":"IF(INTRO!$E$49=\"\",\"\",ROUND($D75*INTRO!$E$49,0))","v":44694},{"$f":"IF(INTRO!$E$50=\"\",\"\",ROUND($D75*INTRO!$E$50,0))","v":79998},1,1,0,3,1,{"$f":"IF(INTRO!$E$38=\"Endemic\", IF($H75>0, IF($H75=4,\"Unknown\", IF($H75=99,\"Stopped\", $D75)), 0),\"Not required\")","v":144687.66380000001},{"$f":"IF(INTRO!$E$40=\"Endemic\", IF($I75>0, IF($I75=4,\"Unknown\",IF($I75=99,\"Stopped\", $D75)), 0),\"Not required\")","v":144687.66380000001},{"$f":"IF(INTRO!$E$42=\"Endemic\", IF($J75>1, IF($J75=4, \"Unknown\", IF($J75=99, \"Surveillance\", E75)), 0),\"Not required\")","v":0},{"$f":"IF(INTRO!$E$42=\"Endemic\", IF($J75>1, IF($J75=4, \"Unknown\", IF($J75=99, \"Surveillance\", F75)), 0),\"Not required\")","v":0},{"$f":"IF(INTRO!$E$42=\"Endemic\", IF($J75>1, IF($J75=4, \"Unknown\", IF($J75=99, \"Surveillance\", ROUND(D75*INTRO!$E$51,0))), 0),\"Not required\")","v":0},{"$f":"IF(INTRO!$E$42=\"Endemic\", IF($J75>1, IF($J75=4, \"Unknown\", IF($J75=99, \"Surveillance\", SUM($O75:$Q75))), 0),\"Not required\")","v":0},1676,5410,11668,{"$f":"IF(INTRO!$E$44=\"Endemic\", IF($K75>1, IF($K75=4, \"Unknown\", IF($K75=99, \"Surveillance\", SUM($S75:$U75))), 0),\"Not required\")","v":18754},1,1,0,0,"MDA1 (IVM+ALB)",null,null,null,null,null,null,44388,"TONJ SOUTH",null,null,null,null,null,{"$f":"'MDA1'!K75","v":42262},{"$f":"'MDA3'!O75","v":0},{"$f":"'MDA4'!S75","v":0}]
[{"$f":"IF(INTRO!$E$34<>0,INTRO!$E$34,\"\")","v":"South Sudan"},"Wesstern Equatoria","TAMBURA",82150.791500000007,{"$f":"IF(INTRO!$E$48=\"\",\"\",ROUND($D76*INTRO!$E$48,0))","v":9094},{"$f":"IF(INTRO!$E$49=\"\",\"\",ROUND($D76*INTRO!$E$49,0))","v":25376},{"$f":"IF(INTRO!$E$50=\"\",\"\",ROUND($D76*INTRO!$E$50,0))","v":45421},1,1,1,2,0,{"$f":"IF(INTRO!$E$38=\"Endemic\", IF($H76>0, IF($H76=4,\"Unknown\", IF($H76=99,\"Stopped\", $D76)), 0),\"Not required\")","v":82150.791500000007},{"$f":"IF(INTRO!$E$40=\"Endemic\", IF($I76>0, IF($I76=4,\"Unknown\",IF($I76=99,\"Stopped\", $D76)), 0),\"Not required\")","v":82150.791500000007},{"$f":"IF(INTRO!$E$42=\"Endemic\", IF($J76>1, IF($J76=4, \"Unknown\", IF($J76=99, \"Surveillance\", E76)), 0),\"Not required\")","v":0},{"$f":"IF(INTRO!$E$42=\"Endemic\", IF($J76>1, IF($J76=4, \"Unknown\", IF($J76=99, \"Surveillance\", F76)), 0),\"Not required\")","v":0},{"$f":"IF(INTRO!$E$42=\"Endemic\", IF($J76>1, IF($J76=4, \"Unknown\", IF($J76=99, \"Surveillance\", ROUND(D76*INTRO!$E$51,0))), 0),\"Not required\")","v":0},{"$f":"IF(INTRO!$E$42=\"Endemic\", IF($J76>1, IF($J76=4, \"Unknown\", IF($J76=99, \"Surveillance\", SUM($O76:$Q76))), 0),\"Not required\")","v":0},6268,20233,43638,{"$f":"IF(INTRO!$E$44=\"Endemic\", IF($K76>1, IF($K76=4, \"Unknown\", IF($K76=99, \"Surveillance\", SUM($S76:$U76))), 0),\"Not required\")","v":70139},1,1,0,0,"MDA1 (IVM+ALB)",null,null,null,null,null,null,44399,"TAMBURA",null,null,null,null,null,{"$f":"'MDA1'!K76","v":22312},{"$f":"'MDA3'!O76","v":0},{"$f":"'MDA4'!S76","v":0}]
[{"$f":"IF(INTRO!$E$34<>0,INTRO!$E$34,\"\")","v":"South Sudan"},"Wesstern Equatoria","NAGERO",14768.788900000001,{"$f":"IF(INTRO!$E$48=\"\",\"\",ROUND($D77*INTRO!$E$48,0))","v":1635},{"$f":"IF(INTRO!$E$49=\"\",\"\",ROUND($D77*INTRO!$E$49,0))","v":4562},{"$f":"IF(INTRO!$E$50=\"\",\"\",ROUND($D77*INTRO!$E$50,0))","v":8166},1,1,1,1,1,{"$f":"IF(INTRO!$E$38=\"Endemic\", IF($H77>0, IF($H77=4,\"Unknown\", IF($H77=99,\"Stopped\", $D77)), 0),\"Not required\")","v":14768.788900000001},{"$f":"IF(INTRO!$E$40=\"Endemic\", IF($I77>0, IF($I77=4,\"Unknown\",IF($I77=99,\"Stopped\", $D77)), 0),\"Not required\")","v":14768.788900000001},{"$f":"IF(INTRO!$E$42=\"Endemic\", IF($J77>1, IF($J77=4, \"Unknown\", IF($J77=99, \"Surveillance\", E77)), 0),\"Not required\")","v":0},{"$f":"IF(INTRO!$E$42=\"Endemic\", IF($J77>1, IF($J77=4, \"Unknown\", IF($J77=99, \"Surveillance\", F77)), 0),\"Not required\")","v":0},{"$f":"IF(INTRO!$E$42=\"Endemic\", IF($J77>1, IF($J77=4, \"Unknown\", IF($J77=99, \"Surveillance\", ROUND(D77*INTRO!$E$51,0))), 0),\"Not required\")","v":0},{"$f":"IF(INTRO!$E$42=\"Endemic\", IF($J77>1, IF($J77=4, \"Unknown\", IF($J77=99, \"Surveillance\", SUM($O77:$Q77))), 0),\"Not required\")","v":0},0,0,0,{"$f":"IF(INTRO!$E$44=\"Endemic\", IF($K77>1, IF($K77=4, \"Unknown\", IF($K77=99, \"Surveillance\", SUM($S77:$U77))), 0),\"Not required\")","v":0},1,1,0,0,"MDA1 (IVM+ALB)",null,null,null,null,null,null,44396,"NAGERO",null,null,null,null,null,{"$f":"'MDA1'!K77","v":4496},{"$f":"'MDA3'!O77","v":0},{"$f":"'MDA4'!S77","v":0}]
[{"$f":"IF(INTRO!$E$34<>0,INTRO!$E$34,\"\")","v":"South Sudan"},"Wesstern Equatoria","NZARA",97842.563399999999,{"$f":"IF(INTRO!$E$48=\"\",\"\",ROUND($D78*INTRO!$E$48,0))","v":10831},{"$f":"IF(INTRO!$E$49=\"\",\"\",ROUND($D78*INTRO!$E$49,0))","v":30224},{"$f":"IF(INTRO!$E$50=\"\",\"\",ROUND($D78*INTRO!$E$50,0))","v":54097},1,1,0,0,1,{"$f":"IF(INTRO!$E$38=\"Endemic\", IF($H78>0, IF($H78=4,\"Unknown\", IF($H78=99,\"Stopped\", $D78)), 0),\"Not required\")","v":97842.563399999999},{"$f":"IF(INTRO!$E$40=\"Endemic\", IF($I78>0, IF($I78=4,\"Unknown\",IF($I78=99,\"Stopped\", $D78)), 0),\"Not required\")","v":97842.563399999999},{"$f":"IF(INTRO!$E$42=\"Endemic\", IF($J78>1, IF($J78=4, \"Unknown\", IF($J78=99, \"Surveillance\", E78)), 0),\"Not required\")","v":0},{"$f":"IF(INTRO!$E$42=\"Endemic\", IF($J78>1, IF($J78=4, \"Unknown\", IF($J78=99, \"Surveillance\", F78)), 0),\"Not required\")","v":0},{"$f":"IF(INTRO!$E$42=\"Endemic\", IF($J78>1, IF($J78=4, \"Unknown\", IF($J78=99, \"Surveillance\", ROUND(D78*INTRO!$E$51,0))), 0),\"Not required\")","v":0},{"$f":"IF(INTRO!$E$42=\"Endemic\", IF($J78>1, IF($J78=4, \"Unknown\", IF($J78=99, \"Surveillance\", SUM($O78:$Q78))), 0),\"Not required\")","v":0},0,0,0,{"$f":"IF(INTRO!$E$44=\"Endemic\", IF($K78>1, IF($K78=4, \"Unknown\", IF($K78=99, \"Surveillance\", SUM($S78:$U78))), 0),\"Not required\")","v":0},1,1,0,0,"MDA1 (IVM+ALB)",null,null,null,null,null,null,44397,"NZARA",null,null,null,null,null,{"$f":"'MDA1'!K78","v":36720},{"$f":"'MDA3'!O78","v":0},{"$f":"'MDA4'!S78","v":0}]
[{"$f":"IF(INTRO!$E$34<>0,INTRO!$E$34,\"\")","v":"South Sudan"},"Wesstern Equatoria","EZO",120918.19930000001,{"$f":"IF(INTRO!$E$48=\"\",\"\",ROUND($D79*INTRO!$E$48,0))","v":13386},{"$f":"IF(INTRO!$E$49=\"\",\"\",ROUND($D79*INTRO!$E$49,0))","v":37352},{"$f":"IF(INTRO!$E$50=\"\",\"\",ROUND($D79*INTRO!$E$50,0))","v":66856},1,1,1,2,1,{"$f":"IF(INTRO!$E$38=\"Endemic\", IF($H79>0, IF($H79=4,\"Unknown\", IF($H79=99,\"Stopped\", $D79)), 0),\"Not required\")","v":120918.19930000001},{"$f":"IF(INTRO!$E$40=\"Endemic\", IF($I79>0, IF($I79=4,\"Unknown\",IF($I79=99,\"Stopped\", $D79)), 0),\"Not required\")","v":120918.19930000001},{"$f":"IF(INTRO!$E$42=\"Endemic\", IF($J79>1, IF($J79=4, \"Unknown\", IF($J79=99, \"Surveillance\", E79)), 0),\"Not required\")","v":0},{"$f":"IF(INTRO!$E$42=\"Endemic\", IF($J79>1, IF($J79=4, \"Unknown\", IF($J79=99, \"Surveillance\", F79)), 0),\"Not required\")","v":0},{"$f":"IF(INTRO!$E$42=\"Endemic\", IF($J79>1, IF($J79=4, \"Unknown\", IF($J79=99, \"Surveillance\", ROUND(D79*INTRO!$E$51,0))), 0),\"Not required\")","v":0},{"$f":"IF(INTRO!$E$42=\"Endemic\", IF($J79>1, IF($J79=4, \"Unknown\", IF($J79=99, \"Surveillance\", SUM($O79:$Q79))), 0),\"Not required\")","v":0},10039,32406,69891,{"$f":"IF(INTRO!$E$44=\"Endemic\", IF($K79>1, IF($K79=4, \"Unknown\", IF($K79=99, \"Surveillance\", SUM($S79:$U79))), 0),\"Not required\")","v":112336},1,1,0,0,"MDA1 (IVM+ALB)",null,null,null,null,null,null,44390,"EZO",null,null,null,null,null,{"$f":"'MDA1'!K79","v":46656},{"$f":"'MDA3'!O79","v":0},{"$f":"'MDA4'!S79","v":0}]
[{"$f":"IF(INTRO!$E$34<>0,INTRO!$E$34,\"\")","v":"South Sudan"},"Wesstern Equatoria","YAMBIO",227067.60970000003,{"$f":"IF(INTRO!$E$48=\"\",\"\",ROUND($D80*INTRO!$E$48,0))","v":25136},{"$f":"IF(INTRO!$E$49=\"\",\"\",ROUND($D80*INTRO!$E$49,0))","v":70141},{"$f":"IF(INTRO!$E$50=\"\",\"\",ROUND($D80*INTRO!$E$50,0))","v":125546},1,1,1,1,1,{"$f":"IF(INTRO!$E$38=\"Endemic\", IF($H80>0, IF($H80=4,\"Unknown\", IF($H80=99,\"Stopped\", $D80)), 0),\"Not required\")","v":227067.60970000003},{"$f":"IF(INTRO!$E$40=\"Endemic\", IF($I80>0, IF($I80=4,\"Unknown\",IF($I80=99,\"Stopped\", $D80)), 0),\"Not required\")","v":227067.60970000003},{"$f":"IF(INTRO!$E$42=\"Endemic\", IF($J80>1, IF($J80=4, \"Unknown\", IF($J80=99, \"Surveillance\", E80)), 0),\"Not required\")","v":0},{"$f":"IF(INTRO!$E$42=\"Endemic\", IF($J80>1, IF($J80=4, \"Unknown\", IF($J80=99, \"Surveillance\", F80)), 0),\"Not required\")","v":0},{"$f":"IF(INTRO!$E$42=\"Endemic\", IF($J80>1, IF($J80=4, \"Unknown\", IF($J80=99, \"Surveillance\", ROUND(D80*INTRO!$E$51,0))), 0),\"Not required\")","v":0},{"$f":"IF(INTRO!$E$42=\"Endemic\", IF($J80>1, IF($J80=4, \"Unknown\", IF($J80=99, \"Surveillance\", SUM($O80:$Q80))), 0),\"Not required\")","v":0},0,0,0,{"$f":"IF(INTRO!$E$44=\"Endemic\", IF($K80>1, IF($K80=4, \"Unknown\", IF($K80=99, \"Surveillance\", SUM($S80:$U80))), 0),\"Not required\")","v":0},1,1,0,0,"MDA1 (IVM+ALB)",null,null,null,null,null,null,44400,"YAMBIO",null,null,null,null,null,{"$f":"'MDA1'!K80","v":82980},{"$f":"'MDA3'!O80","v":0},{"$f":"'MDA4'!S80","v":0}]
[{"$f":"IF(INTRO!$E$34<>0,INTRO!$E$34,\"\")","v":"South Sudan"},"Wesstern Equatoria","IBBA",62767.087599999999,{"$f":"IF(INTRO!$E$48=\"\",\"\",ROUND($D81*INTRO!$E$48,0))","v":6948},{"$f":"IF(INTRO!$E$49=\"\",\"\",ROUND($D81*INTRO!$E$49,0))","v":19389},{"$f":"IF(INTRO!$E$50=\"\",\"\",ROUND($D81*INTRO!$E$50,0))","v":34704},1,1,1,3,1,{"$f":"IF(INTRO!$E$38=\"Endemic\", IF($H81>0, IF($H81=4,\"Unknown\", IF($H81=99,\"Stopped\", $D81)), 0),\"Not required\")","v":62767.087599999999},{"$f":"IF(INTRO!$E$40=\"Endemic\", IF($I81>0, IF($I81=4,\"Unknown\",IF($I81=99,\"Stopped\", $D81)), 0),\"Not required\")","v":62767.087599999999},{"$f":"IF(INTRO!$E$42=\"Endemic\", IF($J81>1, IF($J81=4, \"Unknown\", IF($J81=99, \"Surveillance\", E81)), 0),\"Not required\")","v":0},{"$f":"IF(INTRO!$E$42=\"Endemic\", IF($J81>1, IF($J81=4, \"Unknown\", IF($J81=99, \"Surveillance\", F81)), 0),\"Not required\")","v":0},{"$f":"IF(INTRO!$E$42=\"Endemic\", IF($J81>1, IF($J81=4, \"Unknown\", IF($J81=99, \"Surveillance\", ROUND(D81*INTRO!$E$51,0))), 0),\"Not required\")","v":0},{"$f":"IF(INTRO!$E$42=\"Endemic\", IF($J81>1, IF($J81=4, \"Unknown\", IF($J81=99, \"Surveillance\", SUM($O81:$Q81))), 0),\"Not required\")","v":0},3425,11053,23838,{"$f":"IF(INTRO!$E$44=\"Endemic\", IF($K81>1, IF($K81=4, \"Unknown\", IF($K81=99, \"Surveillance\", SUM($S81:$U81))), 0),\"Not required\")","v":38316},1,1,0,0,"MDA1 (IVM+ALB)",null,null,null,null,null,null,44391,"IBBA",null,null,null,null,null,{"$f":"'MDA1'!K81","v":24269},{"$f":"'MDA3'!O81","v":0},{"$f":"'MDA4'!S81","v":0}]
[{"$f":"IF(INTRO!$E$34<>0,INTRO!$E$34,\"\")","v":"South Sudan"},"Wesstern Equatoria","MARIDI",122764.16530000001,{"$f":"IF(INTRO!$E$48=\"\",\"\",ROUND($D82*INTRO!$E$48,0))","v":13590},{"$f":"IF(INTRO!$E$49=\"\",\"\",ROUND($D82*INTRO!$E$49,0))","v":37922},{"$f":"IF(INTRO!$E$50=\"\",\"\",ROUND($D82*INTRO!$E$50,0))","v":67876},1,1,1,3,1,{"$f":"IF(INTRO!$E$38=\"Endemic\", IF($H82>0, IF($H82=4,\"Unknown\", IF($H82=99,\"Stopped\", $D82)), 0),\"Not required\")","v":122764.16530000001},{"$f":"IF(INTRO!$E$40=\"Endemic\", IF($I82>0, IF($I82=4,\"Unknown\",IF($I82=99,\"Stopped\", $D82)), 0),\"Not required\")","v":122764.16530000001},{"$f":"IF(INTRO!$E$42=\"Endemic\", IF($J82>1, IF($J82=4, \"Unknown\", IF($J82=99, \"Surveillance\", E82)), 0),\"Not required\")","v":0},{"$f":"IF(INTRO!$E$42=\"Endemic\", IF($J82>1, IF($J82=4, \"Unknown\", IF($J82=99, \"Surveillance\", F82)), 0),\"Not required\")","v":0},{"$f":"IF(INTRO!$E$42=\"Endemic\", IF($J82>1, IF($J82=4, \"Unknown\", IF($J82=99, \"Surveillance\", ROUND(D82*INTRO!$E$51,0))), 0),\"Not required\")","v":0},{"$f":"IF(INTRO!$E$42=\"Endemic\", IF($J82>1, IF($J82=4, \"Unknown\", IF($J82=99, \"Surveillance\", SUM($O82:$Q82))), 0),\"Not required\")","v":0},9245,29841,64359,{"$f":"IF(INTRO!$E$44=\"Endemic\", IF($K82>1, IF($K82=4, \"Unknown\", IF($K82=99, \"Surveillance\", SUM($S82:$U82))), 0),\"Not required\")","v":103445},1,1,0,0,"MDA1 (IVM+ALB)",null,null,null,null,null,null,44392,"MARIDI",null,null,null,null,null,{"$f":"'MDA1'!K82","v":47385},{"$f":"'MDA3'!O82","v":0},{"$f":"'MDA4'!S82","v":0}]
[{"$f":"IF(INTRO!$E$34<>0,INTRO!$E$34,\"\")","v":"South Sudan"},"Wesstern Equatoria","MVOLO",71996.917600000001,{"$f":"IF(INTRO!$E$48=\"\",\"\",ROUND($D83*INTRO!$E$48,0))","v":7970},{"$f":"IF(INTRO!$E$49=\"\",\"\",ROUND($D83*INTRO!$E$49,0))","v":22240},{"$f":"IF(INTRO!$E$50=\"\",\"\",ROUND($D83*INTRO!$E$50,0))","v":39807},1,1,1,1,1,{"$f":"IF(INTRO!$E$38=\"Endemic\", IF($H83>0, IF($H83=4,\"Unknown\", IF($H83=99,\"Stopped\", $D83)), 0),\"Not required\")","v":71996.917600000001},{"$f":"IF(INTRO!$E$40=\"Endemic\", IF($I83>0, IF($I83=4,\"Unknown\",IF($I83=99,\"Stopped\", $D83)), 0),\"Not required\")","v":71996.917600000001},{"$f":"IF(INTRO!$E$42=\"Endemic\", IF($J83>1, IF($J83=4, \"Unknown\", IF($J83=99, \"Surveillance\", E83)), 0),\"Not required\")","v":0},{"$f":"IF(INTRO!$E$42=\"Endemic\", IF($J83>1, IF($J83=4, \"Unknown\", IF($J83=99, \"Surveillance\", F83)), 0),\"Not required\")","v":0},{"$f":"IF(INTRO!$E$42=\"Endemic\", IF($J83>1, IF($J83=4, \"Unknown\", IF($J83=99, \"Surveillance\", ROUND(D83*INTRO!$E$51,0))), 0),\"Not required\")","v":0},{"$f":"IF(INTRO!$E$42=\"Endemic\", IF($J83>1, IF($J83=4, \"Unknown\", IF($J83=99, \"Surveillance\", SUM($O83:$Q83))), 0),\"Not required\")","v":0},0,0,0,{"$f":"IF(INTRO!$E$44=\"Endemic\", IF($K83>1, IF($K83=4, \"Unknown\", IF($K83=99, \"Surveillance\", SUM($S83:$U83))), 0),\"Not required\")","v":0},1,1,0,0,"MDA1 (IVM+ALB)",null,null,null,null,null,null,44395,"MVOLO",null,null,null,null,null,{"$f":"'MDA1'!K83","v":28282},{"$f":"'MDA3'!O83","v":0},{"$f":"'MDA4'!S83","v":0}]
[{"$f":"IF(INTRO!$E$34<>0,INTRO!$E$34,\"\")","v":"South Sudan"},"Wesstern Equatoria","MUNDRI WEST",50767.247700000007,{"$f":"IF(INTRO!$E$48=\"\",\"\",ROUND($D84*INTRO!$E$48,0))","v":5620},{"$f":"IF(INTRO!$E$49=\"\",\"\",ROUND($D84*INTRO!$E$49,0))","v":15682},{"$f":"IF(INTRO!$E$50=\"\",\"\",ROUND($D84*INTRO!$E$50,0))","v":28069},1,1,1,2,1,{"$f":"IF(INTRO!$E$38=\"Endemic\", IF($H84>0, IF($H84=4,\"Unknown\", IF($H84=99,\"Stopped\", $D84)), 0),\"Not required\")","v":50767.247700000007},{"$f":"IF(INTRO!$E$40=\"Endemic\", IF($I84>0, IF($I84=4,\"Unknown\",IF($I84=99,\"Stopped\", $D84)), 0),\"Not required\")","v":50767.247700000007},{"$f":"IF(INTRO!$E$42=\"Endemic\", IF($J84>1, IF($J84=4, \"Unknown\", IF($J84=99, \"Surveillance\", E84)), 0),\"Not required\")","v":0},{"$f":"IF(INTRO!$E$42=\"Endemic\", IF($J84>1, IF($J84=4, \"Unknown\", IF($J84=99, \"Surveillance\", F84)), 0),\"Not required\")","v":0},{"$f":"IF(INTRO!$E$42=\"Endemic\", IF($J84>1, IF($J84=4, \"Unknown\", IF($J84=99, \"Surveillance\", ROUND(D84*INTRO!$E$51,0))), 0),\"Not required\")","v":0},{"$f":"IF(INTRO!$E$42=\"Endemic\", IF($J84>1, IF($J84=4, \"Unknown\", IF($J84=99, \"Surveillance\", SUM($O84:$Q84))), 0),\"Not required\")","v":0},2006,6477,13967,{"$f":"IF(INTRO!$E$44=\"Endemic\", IF($K84>1, IF($K84=4, \"Unknown\", IF($K84=99, \"Surveillance\", SUM($S84:$U84))), 0),\"Not required\")","v":22450},1,1,0,0,"MDA1 (IVM+ALB)",null,null,null,null,null,null,44394,"MUNDRI WEST",null,null,null,null,null,{"$f":"'MDA1'!K84","v":24125},{"$f":"'MDA3'!O84","v":0},{"$f":"'MDA4'!S84","v":0}]
[{"$f":"IF(INTRO!$E$34<>0,INTRO!$E$34,\"\")","v":"South Sudan"},"Wesstern Equatoria","MUNDRI EAST",71996.917600000001,{"$f":"IF(INTRO!$E$48=\"\",\"\",ROUND($D85*INTRO!$E$48,0))","v":7970},{"$f":"IF(INTRO!$E$49=\"\",\"\",ROUND($D85*INTRO!$E$49,0))","v":22240},{"$f":"IF(INTRO!$E$50=\"\",\"\",ROUND($D85*INTRO!$E$50,0))","v":39807},1,1,1,2,1,{"$f":"IF(INTRO!$E$38=\"Endemic\", IF($H85>0, IF($H85=4,\"Unknown\", IF($H85=99,\"Stopped\", $D85)), 0),\"Not required\")","v":71996.917600000001},{"$f":"IF(INTRO!$E$40=\"Endemic\", IF($I85>0, IF($I85=4,\"Unknown\",IF($I85=99,\"Stopped\", $D85)), 0),\"Not required\")","v":71996.917600000001},{"$f":"IF(INTRO!$E$42=\"Endemic\", IF($J85>1, IF($J85=4, \"Unknown\", IF($J85=99, \"Surveillance\", E85)), 0),\"Not required\")","v":0},{"$f":"IF(INTRO!$E$42=\"Endemic\", IF($J85>1, IF($J85=4, \"Unknown\", IF($J85=99, \"Surveillance\", F85)), 0),\"Not required\")","v":0},{"$f":"IF(INTRO!$E$42=\"Endemic\", IF($J85>1, IF($J85=4, \"Unknown\", IF($J85=99, \"Surveillance\", ROUND(D85*INTRO!$E$51,0))), 0),\"Not required\")","v":0},{"$f":"IF(INTRO!$E$42=\"Endemic\", IF($J85>1, IF($J85=4, \"Unknown\", IF($J85=99, \"Surveillance\", SUM($O85:$Q85))), 0),\"Not required\")","v":0},4202,13558,29242,{"$f":"IF(INTRO!$E$44=\"Endemic\", IF($K85>1, IF($K85=4, \"Unknown\", IF($K85=99, \"Surveillance\", SUM($S85:$U85))), 0),\"Not required\")","v":47002},1,1,0,0,"MDA1 (IVM+ALB)",null,null,null,null,null,null,44393,"MUNDRI EAST",null,null,null,null,null,{"$f":"'MDA1'!K85","v":30456},{"$f":"'MDA3'!O85","v":0},{"$f":"'MDA4'!S85","v":0}]
[{"$f":"IF(INTRO!$E$34<>0,INTRO!$E$34,\"\")","v":"South Sudan"},"Western Bahr El Ghazal","RAGA",91072.960500000016,{"$f":"IF(INTRO!$E$48=\"\",\"\",ROUND($D86*INTRO!$E$48,0))","v":10082},{"$f":"IF(INTRO!$E$49=\"\",\"\",ROUND($D86*INTRO!$E$49,0))","v":28132},{"$f":"IF(INTRO!$E$50=\"\",\"\",ROUND($D86*INTRO!$E$50,0))","v":50354},0,1,1,1,1,{"$f":"IF(INTRO!$E$38=\"Endemic\", IF($H86>0, IF($H86=4,\"Unknown\", IF($H86=99,\"Stopped\", $D86)), 0),\"Not required\")","v":0},{"$f":"IF(INTRO!$E$40=\"Endemic\", IF($I86>0, IF($I86=4,\"Unknown\",IF($I86=99,\"Stopped\", $D86)), 0),\"Not required\")","v":91072.960500000016},{"$f":"IF(INTRO!$E$42=\"Endemic\", IF($J86>1, IF($J86=4, \"Unknown\", IF($J86=99, \"Surveillance\", E86)), 0),\"Not required\")","v":0},{"$f":"IF(INTRO!$E$42=\"Endemic\", IF($J86>1, IF($J86=4, \"Unknown\", IF($J86=99, \"Surveillance\", F86)), 0),\"Not required\")","v":0},{"$f":"IF(INTRO!$E$42=\"Endemic\", IF($J86>1, IF($J86=4, \"Unknown\", IF($J86=99, \"Surveillance\", ROUND(D86*INTRO!$E$51,0))), 0),\"Not required\")","v":0},{"$f":"IF(INTRO!$E$42=\"Endemic\", IF($J86>1, IF($J86=4, \"Unknown\", IF($J86=99, \"Surveillance\", SUM($O86:$Q86))), 0),\"Not required\")","v":0},0,0,0,{"$f":"IF(INTRO!$E$44=\"Endemic\", IF($K86>1, IF($K86=4, \"Unknown\", IF($K86=99, \"Surveillance\", SUM($S86:$U86))), 0),\"Not required\")","v":0},0,1,0,0,"MDA3 (IVM)",null,null,null,null,null,null,44402,"RAGA",null,null,null,null,null,{"$f":"'MDA1'!K86","v":0},{"$f":"'MDA3'!O86","v":16417},{"$f":"'MDA4'!S86","v":0}]
[{"$f":"IF(INTRO!$E$34<>0,INTRO!$E$34,\"\")","v":"South Sudan"},"Western Bahr El Ghazal","JUR RIVER",213990.95629999999,{"$f":"IF(INTRO!$E$48=\"\",\"\",ROUND($D87*INTRO!$E$48,0))","v":23689},{"$f":"IF(INTRO!$E$49=\"\",\"\",ROUND($D87*INTRO!$E$49,0))","v":66102},{"$f":"IF(INTRO!$E$50=\"\",\"\",ROUND($D87*INTRO!$E$50,0))","v":118316},1,1,0,1,1,{"$f":"IF(INTRO!$E$38=\"Endemic\", IF($H87>0, IF($H87=4,\"Unknown\", IF($H87=99,\"Stopped\", $D87)), 0),\"Not required\")","v":213990.95629999999},{"$f":"IF(INTRO!$E$40=\"Endemic\", IF($I87>0, IF($I87=4,\"Unknown\",IF($I87=99,\"Stopped\", $D87)), 0),\"Not required\")","v":213990.95629999999},{"$f":"IF(INTRO!$E$42=\"Endemic\", IF($J87>1, IF($J87=4, \"Unknown\", IF($J87=99, \"Surveillance\", E87)), 0),\"Not required\")","v":0},{"$f":"IF(INTRO!$E$42=\"Endemic\", IF($J87>1, IF($J87=4, \"Unknown\", IF($J87=99, \"Surveillance\", F87)), 0),\"Not required\")","v":0},{"$f":"IF(INTRO!$E$42=\"Endemic\", IF($J87>1, IF($J87=4, \"Unknown\", IF($J87=99, \"Surveillance\", ROUND(D87*INTRO!$E$51,0))), 0),\"Not required\")","v":0},{"$f":"IF(INTRO!$E$42=\"Endemic\", IF($J87>1, IF($J87=4, \"Unknown\", IF($J87=99, \"Surveillance\", SUM($O87:$Q87))), 0),\"Not required\")","v":0},0,0,0,{"$f":"IF(INTRO!$E$44=\"Endemic\", IF($K87>1, IF($K87=4, \"Unknown\", IF($K87=99, \"Surveillance\", SUM($S87:$U87))), 0),\"Not required\")","v":0},1,1,0,0,"MDA1 (IVM+ALB)",null,null,null,null,null,null,44401,"JUR RIVER",null,null,null,null,null,{"$f":"'MDA1'!K87","v":138871},{"$f":"'MDA3'!O87","v":0},{"$f":"'MDA4'!S87","v":0}]
[{"$f":"IF(INTRO!$E$34<>0,INTRO!$E$34,\"\")","v":"South Sudan"},"Western Bahr El Ghazal","WAU",253661.19,{"$f":"IF(INTRO!$E$48=\"\",\"\",ROUND($D88*INTRO!$E$48,0))","v":28080},{"$f":"IF(INTRO!$E$49=\"\",\"\",ROUND($D88*INTRO!$E$49,0))","v":78356},{"$f":"IF(INTRO!$E$50=\"\",\"\",ROUND($D88*INTRO!$E$50,0))","v":140249},0,1,0,0,1,{"$f":"IF(INTRO!$E$38=\"Endemic\", IF($H88>0, IF($H88=4,\"Unknown\", IF($H88=99,\"Stopped\", $D88)), 0),\"Not required\")","v":0},{"$f":"IF(INTRO!$E$40=\"Endemic\", IF($I88>0, IF($I88=4,\"Unknown\",IF($I88=99,\"Stopped\", $D88)), 0),\"Not required\")","v":253661.19},{"$f":"IF(INTRO!$E$42=\"Endemic\", IF($J88>1, IF($J88=4, \"Unknown\", IF($J88=99, \"Surveillance\", E88)), 0),\"Not required\")","v":0},{"$f":"IF(INTRO!$E$42=\"Endemic\", IF($J88>1, IF($J88=4, \"Unknown\", IF($J88=99, \"Surveillance\", F88)), 0),\"Not required\")","v":0},{"$f":"IF(INTRO!$E$42=\"Endemic\", IF($J88>1, IF($J88=4, \"Unknown\", IF($J88=99, \"Surveillance\", ROUND(D88*INTRO!$E$51,0))), 0),\"Not required\")","v":0},{"$f":"IF(INTRO!$E$42=\"Endemic\", IF($J88>1, IF($J88=4, \"Unknown\", IF($J88=99, \"Surveillance\", SUM($O88:$Q88))), 0),\"Not required\")","v":0},0,0,0,{"$f":"IF(INTRO!$E$44=\"Endemic\", IF($K88>1, IF($K88=4, \"Unknown\", IF($K88=99, \"Surveillance\", SUM($S88:$U88))), 0),\"Not required\")","v":0},0,1,0,0,"MDA3 (IVM)",null,null,null,null,null,null,44403,"WAU",null,null,null,null,null,{"$f":"'MDA1'!K88","v":0},{"$f":"'MDA3'!O88","v":90647},{"$f":"'MDA4'!S88","v":0}]
[{"$f":"IF(INTRO!$E$34<>0,INTRO!$E$34,\"\")","v":"South Sudan"},"Upper Nile","MABAN Refugee",116022,{"$f":"IF(INTRO!$E$48=\"\",\"\",ROUND($D89*INTRO!$E$48,0))","v":12844},{"$f":"IF(INTRO!$E$49=\"\",\"\",ROUND($D89*INTRO!$E$49,0))","v":35839},{"$f":"IF(INTRO!$E$50=\"\",\"\",ROUND($D89*INTRO!$E$50,0))","v":64149},1,1,0,0,0,{"$f":"IF(INTRO!$E$38=\"Endemic\", IF($H89>0, IF($H89=4,\"Unknown\", IF($H89=99,\"Stopped\", $D89)), 0),\"Not required\")","v":116022},{"$f":"IF(INTRO!$E$40=\"Endemic\", IF($I89>0, IF($I89=4,\"Unknown\",IF($I89=99,\"Stopped\", $D89)), 0),\"Not required\")","v":116022},{"$f":"IF(INTRO!$E$42=\"Endemic\", IF($J89>1, IF($J89=4, \"Unknown\", IF($J89=99, \"Surveillance\", E89)), 0),\"Not required\")","v":0},{"$f":"IF(INTRO!$E$42=\"Endemic\", IF($J89>1, IF($J89=4, \"Unknown\", IF($J89=99, \"Surveillance\", F89)), 0),\"Not required\")","v":0},{"$f":"IF(INTRO!$E$42=\"Endemic\", IF($J89>1, IF($J89=4, \"Unknown\", IF($J89=99, \"Surveillance\", ROUND(D89*INTRO!$E$51,0))), 0),\"Not required\")","v":0},{"$f":"IF(INTRO!$E$42=\"Endemic\", IF($J89>1, IF($J89=4, \"Unknown\", IF($J89=99, \"Surveillance\", SUM($O89:$Q89))), 0),\"Not required\")","v":0},{"$f":"IF(INTRO!$E$44=\"Endemic\", IF($K89>1, IF($K89=4, \"Unknown\", IF($K89=99, \"Surveillance\", ROUND(E89*0.75,0))), 0),\"Not required\")","v":0},{"$f":"IF(INTRO!$E$44=\"Endemic\", IF($K89>1, IF($K89=4, \"Unknown\", IF($K89=99, \"Surveillance\", F89)), 0),\"Not required\")","v":0},{"$f":"IF(INTRO!$E$44=\"Endemic\", IF($K89>1, IF($K89=4, \"Unknown\", IF($K89=99, \"Surveillance\", G89)), 0),\"Not required\")","v":0},{"$f":"IF(INTRO!$E$44=\"Endemic\", IF($K89>1, IF($K89=4, \"Unknown\", IF($K89=99, \"Surveillance\", SUM($S89:$U89))), 0),\"Not required\")","v":0},1,1,0,0,"MDA1 (IVM+ALB)",null,null,null,null,null,null,44404,"MABAN Refugee",44375,"MABAN",null,null,null,{"$f":"'MDA1'!K89","v":32741},{"$f":"'MDA3'!O89","v":0},{"$f":"'MDA4'!S89","v":0}]

{"sheet":"MDA1","index":2,"n_rows":89,"n_cols":17,"rows_kept":89,"cut":false,"hidden":false,"merged":[[7,0,7,16],[5,13,5,16],[3,0,3,2],[5,0,5,2],[5,5,5,8],[5,9,5,12],[5,3,6,3],[5,4,6,4]]}
["MDA 1 - Ivermectin (IVM) and Albendazole (ALB)"]
["Administrative structure, population requiring PC by age group, population treated by age group and coverage"]
[]
["TOTAL",null,null,null,null,null,{"$f":"SUBTOTAL(9,G$10:G$1010)","v":2607530},4667216,7274746,null,{"$f":"SUBTOTAL(9,K$10:K$1010)","v":2525222},2686202,5211424,null,{"$f":"IF(G4<>0, IF(K4/G4*100=0, \"-\", K4/G4*100), \" \")","v":96.843449548039715},{"$f":"IF(H4<>0, IF(L4/H4*100=0, \"-\", L4/H4*100), \" \")","v":57.554696418593011},{"$f":"IF(I4<>0, IF(M4/I4*100=0, \"-\", M4/I4*100), \" \")","v":71.637195305513075}]
[]
["Country administrative structure",null,null,"PC implemented","Date","Population targeted for MDA 1",null,null,null,"Population treated",null,null,null,"Programme coverage (%)"]
["Country","Province/State","District",null,null,"PreSAC","SAC","Adults","Total","PreSAC","SAC","Adults","Total","PreSAC","SAC","Adults","Total"]
[]
[]
[{"$f":"IF(COUNTRY_INFO!A10=0,\" \",COUNTRY_INFO!A10)","v":"South Sudan"},{"$f":"IF(COUNTRY_INFO!B10=0,\" \",COUNTRY_INFO!B10)","v":"Central Equatoria"},{"$f":"IF(COUNTRY_INFO!C10=0,\" \",COUNTRY_INFO!C10)","v":"TEREKEKA"},{"$f":"IF(COUNTRY_INFO!$AA10=\"MDA1 (IVM+ALB)\", COUNTRY_INFO!$AA10, \" \")","v":"MDA1 (IVM+ALB)"},"February 2022",null,75129,134473,{"$f":"SUM(F10:H10)","v":209602},null,92868,104032,{"$f":"SUM(J10:L10)","v":196900},null,{"$f":"IF(G10<>0, IF(K10/G10*100=0, \"-\", K10/G10*100), \" \")","v":123.61138841193149},{"$f":"IF(H10<>0, IF(L10/H10*100=0, \"-\", L10/H10*100), \" \")","v":77.362741963070661},93.939943321151517]
[{"$f":"IF(COUNTRY_INFO!A11=0,\" \",COUNTRY_INFO!A11)","v":"South Sudan"},{"$f":"IF(COUNTRY_INFO!B11=0,\" \",COUNTRY_INFO!B11)","v":"Central Equatoria"},{"$f":"IF(COUNTRY_INFO!C11=0,\" \",COUNTRY_INFO!C11)","v":"JUBA"},{"$f":"IF(COUNTRY_INFO!$AA11=\"MDA1 (IVM+ALB)\", COUNTRY_INFO!$AA11, \" \")","v":"MDA1 (IVM+ALB)"},"February 2022",null,191550,342855,{"$f":"SUM(F11:H11)","v":534405},null,366852,387071,{"$f":"SUM(J11:L11)","v":753923},null,{"$f":"IF(G11<>0, IF(K11/G11*100=0, \"-\", K11/G11*100), \" \")","v":191.51761942051684},{"$f":"IF(H11<>0, IF(L11/H11*100=0, \"-\", L11/H11*100), \" \")","v":112.89641393592042},{"$f":"IF(I11<>0, IF(M11/I11*100=0, \"-\", M11/I11*100), \" \")","v":141.07708573085955}]
[{"$f":"IF(COUNTRY_INFO!A12=0,\" \",COUNTRY_INFO!A12)","v":"South Sudan"},{"$f":"IF(COUNTRY_INFO!B12=0,\" \",COUNTRY_INFO!B12)","v":"Central Equatoria"},{"$f":"IF(COUNTRY_INFO!C12=0,\" \",COUNTRY_INFO!C12)","v":"LAINYA"},{"$f":"IF(COUNTRY_INFO!$AA12=\"MDA1 (IVM+ALB)\", COUNTRY_INFO!$AA12, \" \")","v":"MDA1 (IVM+ALB)"},"July 2022",null,46454,83148,129602,null,23935,23316,47251,null,51.524088345460029,28.041564439313031,36.458542306445892]
[{"$f":"IF(COUNTRY_INFO!A13=0,\" \",COUNTRY_INFO!A13)","v":"South Sudan"},{"$f":"IF(COUNTRY_INFO!B13=0,\" \",COUNTRY_INFO!B13)","v":"Central Equatoria"},{"$f":"IF(COUNTRY_INFO!C13=0,\" \",COUNTRY_INFO!C13)","v":"YEI"},{"$f":"IF(COUNTRY_INFO!$AA13=\"MDA1 (IVM+ALB)\", COUNTRY_INFO!$AA13, \" \")","v":"MDA1 (IVM+ALB)"},"July 2022",null,104951,187852,292803,null,40468,41408,81876,null,38.558946556011854,22.042884824223325,27.962828249710558]
[{"$f":"IF(COUNTRY_INFO!A14=0,\" \",COUNTRY_INFO!A14)","v":"South Sudan"},{"$f":"IF(COUNTRY_INFO!B14=0,\" \",COUNTRY_INFO!B14)","v":"Central Equatoria"},{"$f":"IF(COUNTRY_INFO!C14=0,\" \",COUNTRY_INFO!C14)","v":"MOROBO"},{"$f":"IF(COUNTRY_INFO!$AA14=\"MDA1 (IVM+ALB)\", COUNTRY_INFO!$AA14, \" \")","v":"MDA1 (IVM+ALB)"},"July 2022",null,53909,96492,150401,null,23717,21265,44982,null,43.994509265614276,22.038096422501347,29.908045824163406]
[{"$f":"IF(COUNTRY_INFO!A15=0,\" \",COUNTRY_INFO!A15)","v":"South Sudan"},{"$f":"IF(COUNTRY_INFO!B15=0,\" \",COUNTRY_INFO!B15)","v":"Central Equatoria"},{"$f":"IF(COUNTRY_INFO!C15=0,\" \",COUNTRY_INFO!C15)","v":"KAJO KEJI"},{"$f":"IF(COUNTRY_INFO!$AA15=\"MDA1 (IVM+ALB)\", COUNTRY_INFO!$AA15, \" \")","v":"MDA1 (IVM+ALB)"},"June 2022",null,102084,182719,284803,null,95316,110367,205683,null,93.370165745856355,60.402585390681864,72.219393756385998]
[{"$f":"IF(COUNTRY_INFO!A16=0,\" \",COUNTRY_INFO!A16)","v":"South Sudan"},{"$f":"IF(COUNTRY_INFO!B16=0,\" \",COUNTRY_INFO!B16)","v":"Eastern Equatoria"},{"$f":"IF(COUNTRY_INFO!C16=0,\" \",COUNTRY_INFO!C16)","v":"TORIT"},{"$f":"IF(COUNTRY_INFO!$AA16=\"MDA1 (IVM+ALB)\", COUNTRY_INFO!$AA16, \" \")","v":"MDA1 (IVM+ALB)"},"July 2022",null,57066,102143,159209,null,51904,56308,108212,null,90.954333578663309,55.126636186522816,67.968519367623685]
[{"$f":"IF(COUNTRY_INFO!A17=0,\" \",COUNTRY_INFO!A17)","v":"South Sudan"},{"$f":"IF(COUNTRY_INFO!B17=0,\" \",COUNTRY_INFO!B17)","v":"Eastern Equatoria"},{"$f":"IF(COUNTRY_INFO!C17=0,\" \",COUNTRY_INFO!C17)","v":"LOPA/LAFON"},{"$f":"IF(COUNTRY_INFO!$AA17=\"MDA1 (IVM+ALB)\", COUNTRY_INFO!$AA17, \" \")","v":" "},null,null,null,null,0,null,null,null,0,null," "," "," "]
[{"$f":"IF(COUNTRY_INFO!A18=0,\" \",COUNTRY_INFO!A18)","v":"South Sudan"},{"$f":"IF(COUNTRY_INFO!B18=0,\" \",COUNTRY_INFO!B18)","v":"Eastern Equatoria"},{"$f":"IF(COUNTRY_INFO!C18=0,\" \",COUNTRY_INFO!C18)","v":"KAPOETA NORTH"},{"$f":"IF(COUNTRY_INFO!$AA18=\"MDA1 (IVM+ALB)\", COUNTRY_INFO!$AA18, \" \")","v":" "},null,null,null,null,0,null,null,null,0,null," "," "," "]
[{"$f":"IF(COUNTRY_INFO!A19=0,\" \",COUNTRY_INFO!A19)","v":"South Sudan"},{"$f":"IF(COUNTRY_INFO!B19=0,\" \",COUNTRY_INFO!B19)","v":"Eastern Equatoria"},{"$f":"IF(COUNTRY_INFO!C19=0,\" \",COUNTRY_INFO!C19)","v":"KAPOETA EAST"},{"$f":"IF(COUNTRY_INFO!$AA19=\"MDA1 (IVM+ALB)\", COUNTRY_INFO!$AA19, \" \")","v":" "},null,null,null,null,0,null,null,null,0,null," "," "," "]
[{"$f":"IF(COUNTRY_INFO!A20=0,\" \",COUNTRY_INFO!A20)","v":"South Sudan"},{"$f":"IF(COUNTRY_INFO!B20=0,\" \",COUNTRY_INFO!B20)","v":"Eastern Equatoria"},{"$f":"IF(COUNTRY_INFO!C20=0,\" \",COUNTRY_INFO!C20)","v":"KAPOETA SOUTH"},{"$f":"IF(COUNTRY_INFO!$AA20=\"MDA1 (IVM+ALB)\", COUNTRY_INFO!$AA20, \" \")","v":"MDA1 (IVM+ALB)"},"August 2022",null,45653,81714,127367,null,46892,50867,97759,null,102.71395089041246,62.250042832317597,76.753790228238088]
[{"$f":"IF(COUNTRY_INFO!A21=0,\" \",COUNTRY_INFO!A21)","v":"South Sudan"},{"$f":"IF(COUNTRY_INFO!B21=0,\" \",COUNTRY_INFO!B21)","v":"Eastern Equatoria"},{"$f":"IF(COUNTRY_INFO!C21=0,\" \",COUNTRY_INFO!C21)","v":"BUDI"},{"$f":"IF(COUNTRY_INFO!$AA21=\"MDA1 (IVM+ALB)\", COUNTRY_INFO!$AA21, \" \")","v":"MDA1 (IVM+ALB)"},"August 2022",null,57066,102143,159209,null,28980,38068,67048,null,50.783303543265689,37.269318504449643,42.113197118253368]
[{"$f":"IF(COUNTRY_INFO!A22=0,\" \",COUNTRY_INFO!A22)","v":"South Sudan"},{"$f":"IF(COUNTRY_INFO!B22=0,\" \",COUNTRY_INFO!B22)","v":"Eastern Equatoria"},{"$f":"IF(COUNTRY_INFO!C22=0,\" \",COUNTRY_INFO!C22)","v":"IKOTOS"},{"$f":"IF(COUNTRY_INFO!$AA22=\"MDA1 (IVM+ALB)\", COUNTRY_INFO!$AA22, \" \")","v":"MDA1 (IVM+ALB)"},"August 2022",null,48247,86357,134604,null,46400,53636,100036,null,96.171782701515113,62.109614738816774,74.31874238507028]
[{"$f":"IF(COUNTRY_INFO!A23=0,\" \",COUNTRY_INFO!A23)","v":"South Sudan"},{"$f":"IF(COUNTRY_INFO!B23=0,\" \",COUNTRY_INFO!B23)","v":"Eastern Equatoria"},{"$f":"IF(COUNTRY_INFO!C23=0,\" \",COUNTRY_INFO!C23)","v":"MAGWI"},{"$f":"IF(COUNTRY_INFO!$AA23=\"MDA1 (IVM+ALB)\", COUNTRY_INFO!$AA23, \" \")","v":"MDA1 (IVM+ALB)"},"July 2022",null,97013,173643,270656,null,73715,72584,146299,null,75.984661849442858,41.800706046313415,54.053484866398669]
[{"$f":"IF(COUNTRY_INFO!A24=0,\" \",COUNTRY_INFO!A24)","v":"South Sudan"},{"$f":"IF(COUNTRY_INFO!B24=0,\" \",COUNTRY_INFO!B24)","v":"Jonglei"},{"$f":"IF(COUNTRY_INFO!C24=0,\" \",COUNTRY_INFO!C24)","v":"FANGAK"},{"$f":"IF(COUNTRY_INFO!$AA24=\"MDA1 (IVM+ALB)\", COUNTRY_INFO!$AA24, \" \")","v":" "},null,null,null,null,0,null,null,null,0,null," "," "," "]
[{"$f":"IF(COUNTRY_INFO!A25=0,\" \",COUNTRY_INFO!A25)","v":"South Sudan"},{"$f":"IF(COUNTRY_INFO!B25=0,\" \",COUNTRY_INFO!B25)","v":"Jonglei"},{"$f":"IF(COUNTRY_INFO!C25=0,\" \",COUNTRY_INFO!C25)","v":"KHORFLUS"},{"$f":"IF(COUNTRY_INFO!$AA25=\"MDA1 (IVM+ALB)\", COUNTRY_INFO!$AA25, \" \")","v":"MDA1 (IVM+ALB)"},"June 2022",null,49390,88404,137794,null,17897,16309,34206,null,36.236080178173715,18.448260259716758,24.824012656574308]
[{"$f":"IF(COUNTRY_INFO!A26=0,\" \",COUNTRY_INFO!A26)","v":"South Sudan"},{"$f":"IF(COUNTRY_INFO!B26=0,\" \",COUNTRY_INFO!B26)","v":"Jonglei"},{"$f":"IF(COUNTRY_INFO!C26=0,\" \",COUNTRY_INFO!C26)","v":"AYOD"},{"$f":"IF(COUNTRY_INFO!$AA26=\"MDA1 (IVM+ALB)\", COUNTRY_INFO!$AA26, \" \")","v":" "},null,null,null,null,0,null,null,null,0,null," "," "," "]
[{"$f":"IF(COUNTRY_INFO!A27=0,\" \",COUNTRY_INFO!A27)","v":"South Sudan"},{"$f":"IF(COUNTRY_INFO!B27=0,\" \",COUNTRY_INFO!B27)","v":"Jonglei"},{"$f":"IF(COUNTRY_INFO!C27=0,\" \",COUNTRY_INFO!C27)","v":"DUK"},{"$f":"IF(COUNTRY_INFO!$AA27=\"MDA1 (IVM+ALB)\", COUNTRY_INFO!$AA27, \" \")","v":" "},null,null,null,null,0,null,null,null,0,null," "," "," "]
[{"$f":"IF(COUNTRY_INFO!A28=0,\" \",COUNTRY_INFO!A28)","v":"South Sudan"},{"$f":"IF(COUNTRY_INFO!B28=0,\" \",COUNTRY_INFO!B28)","v":"Jonglei"},{"$f":"IF(COUNTRY_INFO!C28=0,\" \",COUNTRY_INFO!C28)","v":"UROR"},{"$f":"IF(COUNTRY_INFO!$AA28=\"MDA1 (IVM+ALB)\", COUNTRY_INFO!$AA28, \" \")","v":" "},null,null,null,null,0,null,null,null,0,null," "," "," "]
[{"$f":"IF(COUNTRY_INFO!A29=0,\" \",COUNTRY_INFO!A29)","v":"South Sudan"},{"$f":"IF(COUNTRY_INFO!B29=0,\" \",COUNTRY_INFO!B29)","v":"Jonglei"},{"$f":"IF(COUNTRY_INFO!C29=0,\" \",COUNTRY_INFO!C29)","v":"NYIROL"},{"$f":"IF(COUNTRY_INFO!$AA29=\"MDA1 (IVM+ALB)\", COUNTRY_INFO!$AA29, \" \")","v":" "},null,null,null,null,0,null,null,null,0,null," "," "," "]
[{"$f":"IF(COUNTRY_INFO!A30=0,\" \",COUNTRY_INFO!A30)","v":"South Sudan"},{"$f":"IF(COUNTRY_INFO!B30=0,\" \",COUNTRY_INFO!B30)","v":"Jonglei"},{"$f":"IF(COUNTRY_INFO!C30=0,\" \",COUNTRY_INFO!C30)","v":"AKOBO"},{"$f":"IF(COUNTRY_INFO!$AA30=\"MDA1 (IVM+ALB)\", COUNTRY_INFO!$AA30, \" \")","v":" "},null,null,null,null,0,null,null,null,0,null," "," "," "]
[{"$f":"IF(COUNTRY_INFO!A31=0,\" \",COUNTRY_INFO!A31)","v":"South Sudan"},{"$f":"IF(COUNTRY_INFO!B31=0,\" \",COUNTRY_INFO!B31)","v":"Jonglei"},{"$f":"IF(COUNTRY_INFO!C31=0,\" \",COUNTRY_INFO!C31)","v":"POCHALA"},{"$f":"IF(COUNTRY_INFO!$AA31=\"MDA1 (IVM+ALB)\", COUNTRY_INFO!$AA31, \" \")","v":"MDA1 (IVM+ALB)"},"June 2022",null,33153,59340,92493,null,18759,19148,37907,null,56.58311465025789,32.268284462419956,40.98364200534094]
[{"$f":"IF(COUNTRY_INFO!A32=0,\" \",COUNTRY_INFO!A32)","v":"South Sudan"},{"$f":"IF(COUNTRY_INFO!B32=0,\" \",COUNTRY_INFO!B32)","v":"Jonglei"},{"$f":"IF(COUNTRY_INFO!C32=0,\" \",COUNTRY_INFO!C32)","v":"PIBOR"},{"$f":"IF(COUNTRY_INFO!$AA32=\"MDA1 (IVM+ALB)\", COUNTRY_INFO!$AA32, \" \")","v":"MDA1 (IVM+ALB)"},"June 2022",null,73748,132001,205749,null,36007,38156,74163,null,48.824374898302324,28.905841622411955,36.045375676187973]
[{"$f":"IF(COUNTRY_INFO!A33=0,\" \",COUNTRY_INFO!A33)","v":"South Sudan"},{"$f":"IF(COUNTRY_INFO!B33=0,\" \",COUNTRY_INFO!B33)","v":"Jonglei"},{"$f":"IF(COUNTRY_INFO!C33=0,\" \",COUNTRY_INFO!C33)","v":"TWIC EAST"},{"$f":"IF(COUNTRY_INFO!$AA33=\"MDA1 (IVM+ALB)\", COUNTRY_INFO!$AA33, \" \")","v":" "},null,null,null,null,0,null,null,null,0,null," "," "," "]
[{"$f":"IF(COUNTRY_INFO!A34=0,\" \",COUNTRY_INFO!A34)","v":"South Sudan"},{"$f":"IF(COUNTRY_INFO!B34=0,\" \",COUNTRY_INFO!B34)","v":"Jonglei"},{"$f":"IF(COUNTRY_INFO!C34=0,\" \",COUNTRY_INFO!C34)","v":"BOR SOUTH"},{"$f":"IF(COUNTRY_INFO!$AA34=\"MDA1 (IVM+ALB)\", COUNTRY_INFO!$AA34, \" \")","v":" "},null,null,null,null,0,null,null,null,0,null," "," "," "]
[{"$f":"IF(COUNTRY_INFO!A35=0,\" \",COUNTRY_INFO!A35)","v":"South Sudan"},{"$f":"IF(COUNTRY_INFO!B35=0,\" \",COUNTRY_INFO!B35)","v":"Lakes"},{"$f":"IF(COUNTRY_INFO!C35=0,\" \",COUNTRY_INFO!C35)","v":"CUEBIT"},{"$f":"IF(COUNTRY_INFO!$AA35=\"MDA1 (IVM+ALB)\", COUNTRY_INFO!$AA35, \" \")","v":" "},null,null,null,null,0,null,null,null,0,null," "," "," "]
[{"$f":"IF(COUNTRY_INFO!A36=0,\" \",COUNTRY_INFO!A36)","v":"South Sudan"},{"$f":"IF(COUNTRY_INFO!B36=0,\" \",COUNTRY_INFO!B36)","v":"Lakes"},{"$f":"IF(COUNTRY_INFO!C36=0,\" \",COUNTRY_INFO!C36)","v":"RUMBEK NORTH"},{"$f":"IF(COUNTRY_INFO!$AA36=\"MDA1 (IVM+ALB)\", COUNTRY_INFO!$AA36, \" \")","v":"MDA1 (IVM+ALB)"},"May 2022",null,24302,43498,67800,null,40127,41383,81510,null,165.11809727594436,95.137707480803712,120.22123893805311]
[{"$f":"IF(COUNTRY_INFO!A37=0,\" \",COUNTRY_INFO!A37)","v":"South Sudan"},{"$f":"IF(COUNTRY_INFO!B37=0,\" \",COUNTRY_INFO!B37)","v":"Lakes"},{"$f":"IF(COUNTRY_INFO!C37=0,\" \",COUNTRY_INFO!C37)","v":"RUMBEK CENTRE"},{"$f":"IF(COUNTRY_INFO!$AA37=\"MDA1 (IVM+ALB)\", COUNTRY_INFO!$AA37, \" \")","v":"MDA1 (IVM+ALB)"},"May 2022",null,86624,155049,241673,null,90346,92023,182369,null,104.29673069818988,59.3509148720727,75.461056882647213]
[{"$f":"IF(COUNTRY_INFO!A38=0,\" \",COUNTRY_INFO!A38)","v":"South Sudan"},{"$f":"IF(COUNTRY_INFO!B38=0,\" \",COUNTRY_INFO!B38)","v":"Lakes"},{"$f":"IF(COUNTRY_INFO!C38=0,\" \",COUNTRY_INFO!C38)","v":"WULU"},{"$f":"IF(COUNTRY_INFO!$AA38=\"MDA1 (IVM+ALB)\", COUNTRY_INFO!$AA38, \" \")","v":"MDA1 (IVM+ALB)"},"May 2022",null,22734,40692,63426,null,27653,29292,56945,null,121.63719539016451,71.98466529047478,89.781792955570268]
[{"$f":"IF(COUNTRY_INFO!A39=0,\" \",COUNTRY_INFO!A39)","v":"South Sudan"},{"$f":"IF(COUNTRY_INFO!B39=0,\" \",COUNTRY_INFO!B39)","v":"Lakes"},{"$f":"IF(COUNTRY_INFO!C39=0,\" \",COUNTRY_INFO!C39)","v":"RUMBEK EAST"},{"$f":"IF(COUNTRY_INFO!$AA39=\"MDA1 (IVM+ALB)\", COUNTRY_INFO!$AA39, \" \")","v":" "},null,null,null,null,0,null,null,null,0,null," "," "," "]
[{"$f":"IF(COUNTRY_INFO!A40=0,\" \",COUNTRY_INFO!A40)","v":"South Sudan"},{"$f":"IF(COUNTRY_INFO!B40=0,\" \",COUNTRY_INFO!B40)","v":"Lakes"},{"$f":"IF(COUNTRY_INFO!C40=0,\" \",COUNTRY_INFO!C40)","v":"YIROL WEST"},{"$f":"IF(COUNTRY_INFO!$AA40=\"MDA1 (IVM+ALB)\", COUNTRY_INFO!$AA40, \" \")","v":" "},null,null,null,null,0,null,null,null,0,null," "," "," "]
[{"$f":"IF(COUNTRY_INFO!A41=0,\" \",COUNTRY_INFO!A41)","v":"South Sudan"},{"$f":"IF(COUNTRY_INFO!B41=0,\" \",COUNTRY_INFO!B41)","v":"Lakes"},{"$f":"IF(COUNTRY_INFO!C41=0,\" \",COUNTRY_INFO!C41)","v":"YIROL EAST"},{"$f":"IF(COUNTRY_INFO!$AA41=\"MDA1 (IVM+ALB)\", COUNTRY_INFO!$AA41, \" \")","v":" "},null,null,null,null,0,null,null,null,0,null," "," "," "]
[{"$f":"IF(COUNTRY_INFO!A42=0,\" \",COUNTRY_INFO!A42)","v":"South Sudan"},{"$f":"IF(COUNTRY_INFO!B42=0,\" \",COUNTRY_INFO!B42)","v":"Lakes"},{"$f":"IF(COUNTRY_INFO!C42=0,\" \",COUNTRY_INFO!C42)","v":"AWERIAL"},{"$f":"IF(COUNTRY_INFO!$AA42=\"MDA1 (IVM+ALB)\", COUNTRY_INFO!$AA42, \" \")","v":"MDA1 (IVM+ALB)"},"July 2022",null,26654,47708,74362,null,39859,40928,80787,null,149.54228258422751,85.788546994214812,108.64016567601733]
[{"$f":"IF(COUNTRY_INFO!A43=0,\" \",COUNTRY_INFO!A43)","v":"South Sudan"},{"$f":"IF(COUNTRY_INFO!B43=0,\" \",COUNTRY_INFO!B43)","v":"Northern Bahr El Ghazal"},{"$f":"IF(COUNTRY_INFO!C43=0,\" \",COUNTRY_INFO!C43)","v":"AWIEL NORTH"},{"$f":"IF(COUNTRY_INFO!$AA43=\"MDA1 (IVM+ALB)\", COUNTRY_INFO!$AA43, \" \")","v":" "},null,null,null,null,0,null,null,null,0,null," "," "," "]
[{"$f":"IF(COUNTRY_INFO!A44=0,\" \",COUNTRY_INFO!A44)","v":"South Sudan"},{"$f":"IF(COUNTRY_INFO!B44=0,\" \",COUNTRY_INFO!B44)","v":"Northern Bahr El Ghazal"},{"$f":"IF(COUNTRY_INFO!C44=0,\" \",COUNTRY_INFO!C44)","v":"AWIEL EAST"},{"$f":"IF(COUNTRY_INFO!$AA44=\"MDA1 (IVM+ALB)\", COUNTRY_INFO!$AA44, \" \")","v":"MDA1 (IVM+ALB)"},"May 2022",null,159679,285809,445488,null,165096,172394,337490,null,103.39243106482381,60.317904614620254,75.757371691268901]
[{"$f":"IF(COUNTRY_INFO!A45=0,\" \",COUNTRY_INFO!A45)","v":"South Sudan"},{"$f":"IF(COUNTRY_INFO!B45=0,\" \",COUNTRY_INFO!B45)","v":"Northern Bahr El Ghazal"},{"$f":"IF(COUNTRY_INFO!C45=0,\" \",COUNTRY_INFO!C45)","v":"AWIEL SOUTH"},{"$f":"IF(COUNTRY_INFO!$AA45=\"MDA1 (IVM+ALB)\", COUNTRY_INFO!$AA45, \" \")","v":" "},null,null,null,null,0,null,null,null,0,null," "," "," "]
[{"$f":"IF(COUNTRY_INFO!A46=0,\" \",COUNTRY_INFO!A46)","v":"South Sudan"},{"$f":"IF(COUNTRY_INFO!B46=0,\" \",COUNTRY_INFO!B46)","v":"Northern Bahr El Ghazal"},{"$f":"IF(COUNTRY_INFO!C46=0,\" \",COUNTRY_INFO!C46)","v":"AWIEL WEST"},{"$f":"IF(COUNTRY_INFO!$AA46=\"MDA1 (IVM+ALB)\", COUNTRY_INFO!$AA46, \" \")","v":"MDA1 (IVM+ALB)"},"May 2022",null,85781,153539,239320,null,89690,104161,193851,null,104.55695317144821,67.84009274516572,81.000752131037942]
[{"$f":"IF(COUNTRY_INFO!A47=0,\" \",COUNTRY_INFO!A47)","v":"South Sudan"},{"$f":"IF(COUNTRY_INFO!B47=0,\" \",COUNTRY_INFO!B47)","v":"Northern Bahr El Ghazal"},{"$f":"IF(COUNTRY_INFO!C47=0,\" \",COUNTRY_INFO!C47)","v":"AWIEL CENTRE"},{"$f":"IF(COUNTRY_INFO!$AA47=\"MDA1 (IVM+ALB)\", COUNTRY_INFO!$AA47, \" \")","v":"MDA1 (IVM+ALB)"},"June 2022",null,21538,38551,60089,null,33491,32836,66327,null,155.49726065558548,85.175481829265138,110.38126778611725]
[{"$f":"IF(COUNTRY_INFO!A48=0,\" \",COUNTRY_INFO!A48)","v":"South Sudan"},{"$f":"IF(COUNTRY_INFO!B48=0,\" \",COUNTRY_INFO!B48)","v":"Unity"},{"$f":"IF(COUNTRY_INFO!C48=0,\" \",COUNTRY_INFO!C48)","v":"PARIANG"},{"$f":"IF(COUNTRY_INFO!$AA48=\"MDA1 (IVM+ALB)\", COUNTRY_INFO!$AA48, \" \")","v":" "},null,null,null,null,0,null,null,null,0,null," "," "," "]
[{"$f":"IF(COUNTRY_INFO!A49=0,\" \",COUNTRY_INFO!A49)","v":"South Sudan"},{"$f":"IF(COUNTRY_INFO!B49=0,\" \",COUNTRY_INFO!B49)","v":"Unity"},{"$f":"IF(COUNTRY_INFO!C49=0,\" \",COUNTRY_INFO!C49)","v":"ABIEMNHOM"},{"$f":"IF(COUNTRY_INFO!$AA49=\"MDA1 (IVM+ALB)\", COUNTRY_INFO!$AA49, \" \")","v":" "},null,null,null,null,0,null,null,null,0,null," "," "," "]
[{"$f":"IF(COUNTRY_INFO!A50=0,\" \",COUNTRY_INFO!A50)","v":"South Sudan"},{"$f":"IF(COUNTRY_INFO!B50=0,\" \",COUNTRY_INFO!B50)","v":"Unity"},{"$f":"IF(COUNTRY_INFO!C50=0,\" \",COUNTRY_INFO!C50)","v":"MAYOM"},{"$f":"IF(COUNTRY_INFO!$AA50=\"MDA1 (IVM+ALB)\", COUNTRY_INFO!$AA50, \" \")","v":" "},null,null,null,null,0,null,null,null,0,null," "," "," "]
[{"$f":"IF(COUNTRY_INFO!A51=0,\" \",COUNTRY_INFO!A51)","v":"South Sudan"},{"$f":"IF(COUNTRY_INFO!B51=0,\" \",COUNTRY_INFO!B51)","v":"Unity"},{"$f":"IF(COUNTRY_INFO!C51=0,\" \",COUNTRY_INFO!C51)","v":"RUBKONA"},{"$f":"IF(COUNTRY_INFO!$AA51=\"MDA1 (IVM+ALB)\", COUNTRY_INFO!$AA51, \" \")","v":" "},null,null,null,null,0,null,null,null,0,null," "," "," "]
[{"$f":"IF(COUNTRY_INFO!A52=0,\" \",COUNTRY_INFO!A52)","v":"South Sudan"},{"$f":"IF(COUNTRY_INFO!B52=0,\" \",COUNTRY_INFO!B52)","v":"Unity"},{"$f":"IF(COUNTRY_INFO!C52=0,\" \",COUNTRY_INFO!C52)","v":"GUIT"},{"$f":"IF(COUNTRY_INFO!$AA52=\"MDA1 (IVM+ALB)\", COUNTRY_INFO!$AA52, \" \")","v":" "},null,null,null,null,0,null,null,null,0,null," "," "," "]
[{"$f":"IF(COUNTRY_INFO!A53=0,\" \",COUNTRY_INFO!A53)","v":"South Sudan"},{"$f":"IF(COUNTRY_INFO!B53=0,\" \",COUNTRY_INFO!B53)","v":"Unity"},{"$f":"IF(COUNTRY_INFO!C53=0,\" \",COUNTRY_INFO!C53)","v":"KOCH"},{"$f":"IF(COUNTRY_INFO!$AA53=\"MDA1 (IVM+ALB)\", COUNTRY_INFO!$AA53, \" \")","v":" "},null,null,null,null,0,null,null,null,0,null," "," "," "]
[{"$f":"IF(COUNTRY_INFO!A54=0,\" \",COUNTRY_INFO!A54)","v":"South Sudan"},{"$f":"IF(COUNTRY_INFO!B54=0,\" \",COUNTRY_INFO!B54)","v":"Unity"},{"$f":"IF(COUNTRY_INFO!C54=0,\" \",COUNTRY_INFO!C54)","v":"LEER"},{"$f":"IF(COUNTRY_INFO!$AA54=\"MDA1 (IVM+ALB)\", COUNTRY_INFO!$AA54, \" \")","v":" "},null,null,null,null,0,null,null,null,0,null," "," "," "]
[{"$f":"IF(COUNTRY_INFO!A55=0,\" \",COUNTRY_INFO!A55)","v":"South Sudan"},{"$f":"IF(COUNTRY_INFO!B55=0,\" \",COUNTRY_INFO!B55)","v":"Unity"},{"$f":"IF(COUNTRY_INFO!C55=0,\" \",COUNTRY_INFO!C55)","v":"MAYENDIT"},{"$f":"IF(COUNTRY_INFO!$AA55=\"MDA1 (IVM+ALB)\", COUNTRY_INFO!$AA55, \" \")","v":" "},null,null,null,null,0,null,null,null,0,null," "," "," "]
[{"$f":"IF(COUNTRY_INFO!A56=0,\" \",COUNTRY_INFO!A56)","v":"South Sudan"},{"$f":"IF(COUNTRY_INFO!B56=0,\" \",COUNTRY_INFO!B56)","v":"Unity"},{"$f":"IF(COUNTRY_INFO!C56=0,\" \",COUNTRY_INFO!C56)","v":"PAYNIJAR"},{"$f":"IF(COUNTRY_INFO!$AA56=\"MDA1 (IVM+ALB)\", COUNTRY_INFO!$AA56, \" \")","v":" "},null,null,null,null,0,null,null,null,0,null," "," "," "]
[{"$f":"IF(COUNTRY_INFO!A57=0,\" \",COUNTRY_INFO!A57)","v":"South Sudan"},{"$f":"IF(COUNTRY_INFO!B57=0,\" \",COUNTRY_INFO!B57)","v":"Upper Nile"},{"$f":"IF(COUNTRY_INFO!C57=0,\" \",COUNTRY_INFO!C57)","v":"RENK"},{"$f":"IF(COUNTRY_INFO!$AA57=\"MDA1 (IVM+ALB)\", COUNTRY_INFO!$AA57, \" \")","v":"MDA1 (IVM+ALB)"},"May 2022",null,72677,130085,202762,null,30779,36666,67445,null,42.350399713802169,28.186185955336896,33.263136090588965]
[{"$f":"IF(COUNTRY_INFO!A58=0,\" \",COUNTRY_INFO!A58)","v":"South Sudan"},{"$f":"IF(COUNTRY_INFO!B58=0,\" \",COUNTRY_INFO!B58)","v":"Upper Nile"},{"$f":"IF(COUNTRY_INFO!C58=0,\" \",COUNTRY_INFO!C58)","v":"MANYO"},{"$f":"IF(COUNTRY_INFO!$AA58=\"MDA1 (IVM+ALB)\", COUNTRY_INFO!$AA58, \" \")","v":"MDA1 (IVM+ALB)"},"June 2022",null,19821,35478,55299,null,13564,14470,28034,null,68.432470611977195,40.785839111562098,50.695310945948393]
[{"$f":"IF(COUNTRY_INFO!A59=0,\" \",COUNTRY_INFO!A59)","v":"South Sudan"},{"$f":"IF(COUNTRY_INFO!B59=0,\" \",COUNTRY_INFO!B59)","v":"Upper Nile"},{"$f":"IF(COUNTRY_INFO!C59=0,\" \",COUNTRY_INFO!C59)","v":"FASHODA"},{"$f":"IF(COUNTRY_INFO!$AA59=\"MDA1 (IVM+ALB)\", COUNTRY_INFO!$AA59, \" \")","v":"MDA1 (IVM+ALB)"},"May 2022",null,19313,34568,53881,null,15740,16579,32319,null,81.499508103350067,47.96054154130988,59.982182958742413]
[{"$f":"IF(COUNTRY_INFO!A60=0,\" \",COUNTRY_INFO!A60)","v":"South Sudan"},{"$f":"IF(COUNTRY_INFO!B60=0,\" \",COUNTRY_INFO!B60)","v":"Upper Nile"},{"$f":"IF(COUNTRY_INFO!C60=0,\" \",COUNTRY_INFO!C60)","v":"MELUT"},{"$f":"IF(COUNTRY_INFO!$AA60=\"MDA1 (IVM+ALB)\", COUNTRY_INFO!$AA60, \" \")","v":"MDA1 (IVM+ALB)"},"May 2022",null,25920,46394,72314,null,9565,9435,19000,null,36.902006172839506,20.336681467431134,26.274303730951132]
[{"$f":"IF(COUNTRY_INFO!A61=0,\" \",COUNTRY_INFO!A61)","v":"South Sudan"},{"$f":"IF(COUNTRY_INFO!B61=0,\" \",COUNTRY_INFO!B61)","v":"Upper Nile"},{"$f":"IF(COUNTRY_INFO!C61=0,\" \",COUNTRY_INFO!C61)","v":"MABAN"},{"$f":"IF(COUNTRY_INFO!$AA61=\"MDA1 (IVM+ALB)\", COUNTRY_INFO!$AA61, \" \")","v":"MDA1 (IVM+ALB)"},"March 2022",null,23887,42755,66642,null,30551,30461,61012,null,127.89801984342948,71.245468366272945,91.551874193451582]
[{"$f":"IF(COUNTRY_INFO!A62=0,\" \",COUNTRY_INFO!A62)","v":"South Sudan"},{"$f":"IF(COUNTRY_INFO!B62=0,\" \",COUNTRY_INFO!B62)","v":"Upper Nile"},{"$f":"IF(COUNTRY_INFO!C62=0,\" \",COUNTRY_INFO!C62)","v":"MAIWUT"},{"$f":"IF(COUNTRY_INFO!$AA62=\"MDA1 (IVM+ALB)\", COUNTRY_INFO!$AA62, \" \")","v":" "},null,null,null,null,0,null,null,null,0,null," "," "," "]
[{"$f":"IF(COUNTRY_INFO!A63=0,\" \",COUNTRY_INFO!A63)","v":"South Sudan"},{"$f":"IF(COUNTRY_INFO!B63=0,\" \",COUNTRY_INFO!B63)","v":"Upper Nile"},{"$f":"IF(COUNTRY_INFO!C63=0,\" \",COUNTRY_INFO!C63)","v":"LUAKPINY/NASIR"},{"$f":"IF(COUNTRY_INFO!$AA63=\"MDA1 (IVM+ALB)\", COUNTRY_INFO!$AA63, \" \")","v":"MDA1 (IVM+ALB)"},"March 2022",null,110794,198310,309104,null,48107,49896,98003,null,43.420221311623372,25.160607130250618,31.705510119571407]
[{"$f":"IF(COUNTRY_INFO!A64=0,\" \",COUNTRY_INFO!A64)","v":"South Sudan"},{"$f":"IF(COUNTRY_INFO!B64=0,\" \",COUNTRY_INFO!B64)","v":"Upper Nile"},{"$f":"IF(COUNTRY_INFO!C64=0,\" \",COUNTRY_INFO!C64)","v":"LONGOCHUK"},{"$f":"IF(COUNTRY_INFO!$AA64=\"MDA1 (IVM+ALB)\", COUNTRY_INFO!$AA64, \" \")","v":" "},null,null,null,null,0,null,null,null,0,null," "," "," "]
[{"$f":"IF(COUNTRY_INFO!A65=0,\" \",COUNTRY_INFO!A65)","v":"South Sudan"},{"$f":"IF(COUNTRY_INFO!B65=0,\" \",COUNTRY_INFO!B65)","v":"Upper Nile"},{"$f":"IF(COUNTRY_INFO!C65=0,\" \",COUNTRY_INFO!C65)","v":"ULANG"},{"$f":"IF(COUNTRY_INFO!$AA65=\"MDA1 (IVM+ALB)\", COUNTRY_INFO!$AA65, \" \")","v":"MDA1 (IVM+ALB)"},"June 2022",null,44724,80052,124776,null,15447,17486,32933,null,34.538502817279316,21.843301853795033,26.393697505930628]
[{"$f":"IF(COUNTRY_INFO!A66=0,\" \",COUNTRY_INFO!A66)","v":"South Sudan"},{"$f":"IF(COUNTRY_INFO!B66=0,\" \",COUNTRY_INFO!B66)","v":"Upper Nile"},{"$f":"IF(COUNTRY_INFO!C66=0,\" \",COUNTRY_INFO!C66)","v":"BALIET"},{"$f":"IF(COUNTRY_INFO!$AA66=\"MDA1 (IVM+ALB)\", COUNTRY_INFO!$AA66, \" \")","v":"MDA1 (IVM+ALB)"},"June 2022",null,20202,36160,56362,null,7079,7423,14502,null,35.04108504108504,20.528207964601769,25.730101841666368]
[{"$f":"IF(COUNTRY_INFO!A67=0,\" \",COUNTRY_INFO!A67)","v":"South Sudan"},{"$f":"IF(COUNTRY_INFO!B67=0,\" \",COUNTRY_INFO!B67)","v":"Upper Nile"},{"$f":"IF(COUNTRY_INFO!C67=0,\" \",COUNTRY_INFO!C67)","v":"MALAKAL"},{"$f":"IF(COUNTRY_INFO!$AA67=\"MDA1 (IVM+ALB)\", COUNTRY_INFO!$AA67, \" \")","v":"MDA1 (IVM+ALB)"},"May 2022",null,66578,119168,185746,null,20554,20103,40657,null,30.872059839586651,16.869461600429645,21.888492888137563]
[{"$f":"IF(COUNTRY_INFO!A68=0,\" \",COUNTRY_INFO!A68)","v":"South Sudan"},{"$f":"IF(COUNTRY_INFO!B68=0,\" \",COUNTRY_INFO!B68)","v":"Upper Nile"},{"$f":"IF(COUNTRY_INFO!C68=0,\" \",COUNTRY_INFO!C68)","v":"PANYKANG"},{"$f":"IF(COUNTRY_INFO!$AA68=\"MDA1 (IVM+ALB)\", COUNTRY_INFO!$AA68, \" \")","v":"MDA1 (IVM+ALB)"},"June 2022",null,23887,42755,66642,null,17877,17862,35739,null,74.839871059572147,41.777569874868433,53.628342486720079]
[{"$f":"IF(COUNTRY_INFO!A69=0,\" \",COUNTRY_INFO!A69)","v":"South Sudan"},{"$f":"IF(COUNTRY_INFO!B69=0,\" \",COUNTRY_INFO!B69)","v":"Warrap"},{"$f":"IF(COUNTRY_INFO!C69=0,\" \",COUNTRY_INFO!C69)","v":"ABYEI"},{"$f":"IF(COUNTRY_INFO!$AA69=\"MDA1 (IVM+ALB)\", COUNTRY_INFO!$AA69, \" \")","v":" "},null,null,null,null,0,null,null,null,0,null," "," "," "]
[{"$f":"IF(COUNTRY_INFO!A70=0,\" \",COUNTRY_INFO!A70)","v":"South Sudan"},{"$f":"IF(COUNTRY_INFO!B70=0,\" \",COUNTRY_INFO!B70)","v":"Warrap"},{"$f":"IF(COUNTRY_INFO!C70=0,\" \",COUNTRY_INFO!C70)","v":"TWIC"},{"$f":"IF(COUNTRY_INFO!$AA70=\"MDA1 (IVM+ALB)\", COUNTRY_INFO!$AA70, \" \")","v":"MDA1 (IVM+ALB)"},"May 2022",null,105960,189658,295618,null,64416,67735,132151,null,60.792751981879952,35.714285714285715,44.703299528445498]
[{"$f":"IF(COUNTRY_INFO!A71=0,\" \",COUNTRY_INFO!A71)","v":"South Sudan"},{"$f":"IF(COUNTRY_INFO!B71=0,\" \",COUNTRY_INFO!B71)","v":"Warrap"},{"$f":"IF(COUNTRY_INFO!C71=0,\" \",COUNTRY_INFO!C71)","v":"GOGRIAL WEST"},{"$f":"IF(COUNTRY_INFO!$AA71=\"MDA1 (IVM+ALB)\", COUNTRY_INFO!$AA71, \" \")","v":"MDA1 (IVM+ALB)"},"May 2022",null,126048,225612,351660,null,166857,176190,343047,null,132.375761614623,78.094250305834805,97.550759256099639]
[{"$f":"IF(COUNTRY_INFO!A72=0,\" \",COUNTRY_INFO!A72)","v":"South Sudan"},{"$f":"IF(COUNTRY_INFO!B72=0,\" \",COUNTRY_INFO!B72)","v":"Warrap"},{"$f":"IF(COUNTRY_INFO!C72=0,\" \",COUNTRY_INFO!C72)","v":"GOGRIAL EAST"},{"$f":"IF(COUNTRY_INFO!$AA72=\"MDA1 (IVM+ALB)\", COUNTRY_INFO!$AA72, \" \")","v":"MDA1 (IVM+ALB)"},"May 2022",null,53231,95279,148510,null,73159,72971,146130,null,137.43683192124888,76.586656031234597,98.397414315534306]
[{"$f":"IF(COUNTRY_INFO!A73=0,\" \",COUNTRY_INFO!A73)","v":"South Sudan"},{"$f":"IF(COUNTRY_INFO!B73=0,\" \",COUNTRY_INFO!B73)","v":"Warrap"},{"$f":"IF(COUNTRY_INFO!C73=0,\" \",COUNTRY_INFO!C73)","v":"TONJ NORTH"},{"$f":"IF(COUNTRY_INFO!$AA73=\"MDA1 (IVM+ALB)\", COUNTRY_INFO!$AA73, \" \")","v":" "},null,null,null,null,0,null,null,null,0,null," "," "," "]
[{"$f":"IF(COUNTRY_INFO!A74=0,\" \",COUNTRY_INFO!A74)","v":"South Sudan"},{"$f":"IF(COUNTRY_INFO!B74=0,\" \",COUNTRY_INFO!B74)","v":"Warrap"},{"$f":"IF(COUNTRY_INFO!C74=0,\" \",COUNTRY_INFO!C74)","v":"TONJ EAST"},{"$f":"IF(COUNTRY_INFO!$AA74=\"MDA1 (IVM+ALB)\", COUNTRY_INFO!$AA74, \" \")","v":" "},null,null,null,null,0,null,null,null,0,null," "," "," "]
[{"$f":"IF(COUNTRY_INFO!A75=0,\" \",COUNTRY_INFO!A75)","v":"South Sudan"},{"$f":"IF(COUNTRY_INFO!B75=0,\" \",COUNTRY_INFO!B75)","v":"Warrap"},{"$f":"IF(COUNTRY_INFO!C75=0,\" \",COUNTRY_INFO!C75)","v":"TONJ SOUTH"},{"$f":"IF(COUNTRY_INFO!$AA75=\"MDA1 (IVM+ALB)\", COUNTRY_INFO!$AA75, \" \")","v":"MDA1 (IVM+ALB)"},"June 2022",null,44694,79998,{"$f":"SUM(F75:H75)","v":124692},null,42262,41896,{"$f":"SUM(J75:L75)","v":84158},null,{"$f":"IF(G75<>0, IF(K75/G75*100=0, \"-\", K75/G75*100), \" \")","v":94.55855372085739},{"$f":"IF(H75<>0, IF(L75/H75*100=0, \"-\", L75/H75*100), \" \")","v":52.371309282732071},{"$f":"IF(I75<>0, IF(M75/I75*100=0, \"-\", M75/I75*100), \" \")","v":67.492702017771791}]
[{"$f":"IF(COUNTRY_INFO!A76=0,\" \",COUNTRY_INFO!A76)","v":"South Sudan"},{"$f":"IF(COUNTRY_INFO!B76=0,\" \",COUNTRY_INFO!B76)","v":"Wesstern Equatoria"},{"$f":"IF(COUNTRY_INFO!C76=0,\" \",COUNTRY_INFO!C76)","v":"TAMBURA"},{"$f":"IF(COUNTRY_INFO!$AA76=\"MDA1 (IVM+ALB)\", COUNTRY_INFO!$AA76, \" \")","v":"MDA1 (IVM+ALB)"},"July 2022",null,25376,45421,70797,null,22312,23493,45805,null,87.925598991172762,51.722771405297109,64.699069169597578]
[{"$f":"IF(COUNTRY_INFO!A77=0,\" \",COUNTRY_INFO!A77)","v":"South Sudan"},{"$f":"IF(COUNTRY_INFO!B77=0,\" \",COUNTRY_INFO!B77)","v":"Wesstern Equatoria"},{"$f":"IF(COUNTRY_INFO!C77=0,\" \",COUNTRY_INFO!C77)","v":"NAGERO"},{"$f":"IF(COUNTRY_INFO!$AA77=\"MDA1 (IVM+ALB)\", COUNTRY_INFO!$AA77, \" \")","v":"MDA1 (IVM+ALB)"},"July 2022",null,4562,8166,12728,null,4496,4993,9489,null,98.55326611135466,61.143766838109237,74.552168447517289]
[{"$f":"IF(COUNTRY_INFO!A78=0,\" \",COUNTRY_INFO!A78)","v":"South Sudan"},{"$f":"IF(COUNTRY_INFO!B78=0,\" \",COUNTRY_INFO!B78)","v":"Wesstern Equatoria"},{"$f":"IF(COUNTRY_INFO!C78=0,\" \",COUNTRY_INFO!C78)","v":"NZARA"},{"$f":"IF(COUNTRY_INFO!$AA78=\"MDA1 (IVM+ALB)\", COUNTRY_INFO!$AA78, \" \")","v":"MDA1 (IVM+ALB)"},"June 2022",null,30224,54097,84321,null,36720,39229,75949,null,121.49285336156697,72.516036009390533,90.071275245786936]
[{"$f":"IF(COUNTRY_INFO!A79=0,\" \",COUNTRY_INFO!A79)","v":"South Sudan"},{"$f":"IF(COUNTRY_INFO!B79=0,\" \",COUNTRY_INFO!B79)","v":"Wesstern Equatoria"},{"$f":"IF(COUNTRY_INFO!C79=0,\" \",COUNTRY_INFO!C79)","v":"EZO"},{"$f":"IF(COUNTRY_INFO!$AA79=\"MDA1 (IVM+ALB)\", COUNTRY_INFO!$AA79, \" \")","v":"MDA1 (IVM+ALB)"},"July 2022",null,37352,66856,104208,null,46656,50644,97300,null,124.90897408438637,75.750867536197191,93.370950406878549]
[{"$f":"IF(COUNTRY_INFO!A80=0,\" \",COUNTRY_INFO!A80)","v":"South Sudan"},{"$f":"IF(COUNTRY_INFO!B80=0,\" \",COUNTRY_INFO!B80)","v":"Wesstern Equatoria"},{"$f":"IF(COUNTRY_INFO!C80=0,\" \",COUNTRY_INFO!C80)","v":"YAMBIO"},{"$f":"IF(COUNTRY_INFO!$AA80=\"MDA1 (IVM+ALB)\", COUNTRY_INFO!$AA80, \" \")","v":"MDA1 (IVM+ALB)"},"June 2022",null,70141,125546,195687,null,82980,88147,171127,null,118.30455796181975,70.210918707087444,87.449345127678384]
[{"$f":"IF(COUNTRY_INFO!A81=0,\" \",COUNTRY_INFO!A81)","v":"South Sudan"},{"$f":"IF(COUNTRY_INFO!B81=0,\" \",COUNTRY_INFO!B81)","v":"Wesstern Equatoria"},{"$f":"IF(COUNTRY_INFO!C81=0,\" \",COUNTRY_INFO!C81)","v":"IBBA"},{"$f":"IF(COUNTRY_INFO!$AA81=\"MDA1 (IVM+ALB)\", COUNTRY_INFO!$AA81, \" \")","v":"MDA1 (IVM+ALB)"},"October 2022",null,19389,34704,54093,null,24269,25641,49910,null,125.16891020681831,73.884854771784234,92.267021610929319]
[{"$f":"IF(COUNTRY_INFO!A82=0,\" \",COUNTRY_INFO!A82)","v":"South Sudan"},{"$f":"IF(COUNTRY_INFO!B82=0,\" \",COUNTRY_INFO!B82)","v":"Wesstern Equatoria"},{"$f":"IF(COUNTRY_INFO!C82=0,\" \",COUNTRY_INFO!C82)","v":"MARIDI"},{"$f":"IF(COUNTRY_INFO!$AA82=\"MDA1 (IVM+ALB)\", COUNTRY_INFO!$AA82, \" \")","v":"MDA1 (IVM+ALB)"},"October 2022",null,37922,67876,105798,null,47385,50010,97395,null,124.95385264490268,73.678472508692323,92.057505812964322]
[{"$f":"IF(COUNTRY_INFO!A83=0,\" \",COUNTRY_INFO!A83)","v":"South Sudan"},{"$f":"IF(COUNTRY_INFO!B83=0,\" \",COUNTRY_INFO!B83)","v":"Wesstern Equatoria"},{"$f":"IF(COUNTRY_INFO!C83=0,\" \",COUNTRY_INFO!C83)","v":"MVOLO"},{"$f":"IF(COUNTRY_INFO!$AA83=\"MDA1 (IVM+ALB)\", COUNTRY_INFO!$AA83, \" \")","v":"MDA1 (IVM+ALB)"},"June 2022",null,22240,39807,62047,null,28282,29001,57283,null,127.16726618705036,72.854020649634492,92.321949489902806]
[{"$f":"IF(COUNTRY_INFO!A84=0,\" \",COUNTRY_INFO!A84)","v":"South Sudan"},{"$f":"IF(COUNTRY_INFO!B84=0,\" \",COUNTRY_INFO!B84)","v":"Wesstern Equatoria"},{"$f":"IF(COUNTRY_INFO!C84=0,\" \",COUNTRY_INFO!C84)","v":"MUNDRI WEST"},{"$f":"IF(COUNTRY_INFO!$AA84=\"MDA1 (IVM+ALB)\", COUNTRY_INFO!$AA84, \" \")","v":"MDA1 (IVM+ALB)"},"June 2022",null,15682,28069,43751,null,24125,23980,48105,null,153.83879607192961,85.432327478713162,109.95177253091357]
[{"$f":"IF(COUNTRY_INFO!A85=0,\" \",COUNTRY_INFO!A85)","v":"South Sudan"},{"$f":"IF(COUNTRY_INFO!B85=0,\" \",COUNTRY_INFO!B85)","v":"Wesstern Equatoria"},{"$f":"IF(COUNTRY_INFO!C85=0,\" \",COUNTRY_INFO!C85)","v":"MUNDRI EAST"},{"$f":"IF(COUNTRY_INFO!$AA85=\"MDA1 (IVM+ALB)\", COUNTRY_INFO!$AA85, \" \")","v":"MDA1 (IVM+ALB)"},"June 2022",null,22240,39807,62047,null,30456,30269,60725,null,136.94244604316549,76.039390057025145,97.869357100262704]
[{"$f":"IF(COUNTRY_INFO!A86=0,\" \",COUNTRY_INFO!A86)","v":"South Sudan"},{"$f":"IF(COUNTRY_INFO!B86=0,\" \",COUNTRY_INFO!B86)","v":"Western Bahr El Ghazal"},{"$f":"IF(COUNTRY_INFO!C86=0,\" \",COUNTRY_INFO!C86)","v":"RAGA"},{"$f":"IF(COUNTRY_INFO!$AA86=\"MDA1 (IVM+ALB)\", COUNTRY_INFO!$AA86, \" \")","v":" "},null,null,null,null,0,null,null,null,0,null," "," "," "]
[{"$f":"IF(COUNTRY_INFO!A87=0,\" \",COUNTRY_INFO!A87)","v":"South Sudan"},{"$f":"IF(COUNTRY_INFO!B87=0,\" \",COUNTRY_INFO!B87)","v":"Western Bahr El Ghazal"},{"$f":"IF(COUNTRY_INFO!C87=0,\" \",COUNTRY_INFO!C87)","v":"JUR RIVER"},{"$f":"IF(COUNTRY_INFO!$AA87=\"MDA1 (IVM+ALB)\", COUNTRY_INFO!$AA87, \" \")","v":"MDA1 (IVM+ALB)"},"June 2022",null,66102,118316,184418,null,138871,157357,296228,null,210.08592780853829,132.99722776293993,160.62857204828163]
[{"$f":"IF(COUNTRY_INFO!A88=0,\" \",COUNTRY_INFO!A88)","v":"South Sudan"},{"$f":"IF(COUNTRY_INFO!B88=0,\" \",COUNTRY_INFO!B88)","v":"Western Bahr El Ghazal"},{"$f":"IF(COUNTRY_INFO!C88=0,\" \",COUNTRY_INFO!C88)","v":"WAU"},{"$f":"IF(COUNTRY_INFO!$AA88=\"MDA1 (IVM+ALB)\", COUNTRY_INFO!$AA88, \" \")","v":" "},null,null,null,null,0,null,null,null,0,null," "," "," "]
[{"$f":"IF(COUNTRY_INFO!A89=0,\" \",COUNTRY_INFO!A89)","v":"South Sudan"},{"$f":"IF(COUNTRY_INFO!B89=0,\" \",COUNTRY_INFO!B89)","v":"Upper Nile"},{"$f":"IF(COUNTRY_INFO!C89=0,\" \",COUNTRY_INFO!C89)","v":"MABAN Refugee"},{"$f":"IF(COUNTRY_INFO!$AA89=\"MDA1 (IVM+ALB)\", COUNTRY_INFO!$AA89, \" \")","v":"MDA1 (IVM+ALB)"},"March 2022",null,35839,64149,99988,null,32741,38713,71454,null,91.355785596696336,60.348563500600164,71.462575509061082]

{"sheet":"MDA3","index":3,"n_rows":89,"n_cols":20,"rows_kept":89,"cut":false,"hidden":false,"merged":[[5,5,5,7],[5,17,5,19],[3,0,3,2],[5,0,5,2],[5,3,6,3],[5,4,6,4],[5,8,5,10],[5,11,5,13],[5,14,5,16]]}
["MDA 3 - Ivermectin (IVM) "]
["Administrative structure, population requiring PC by age group, population treated by age group and coverage"]
[]
["TOTAL",null,null,null,null,{"$f":"SUBTOTAL(9,F$10:F$1010)","v":770119},1378439,2148558,860359,917975,1778334,0,0,0,860359,917975,1778334,{"$f":"IF(F4<>0, IF(O4/F4*100=0, \"-\", O4/F4*100), \" \")","v":111.71766960690491},{"$f":"IF(G4<>0, IF(P4/G4*100=0, \"-\", P4/G4*100), \" \")","v":66.595257388974048},{"$f":"IF(H4<>0, IF(Q4/H4*100=0, \"-\", Q4/H4*100), \" \")","v":82.768722091747122}]
[]
["Country administrative structure",null,null,"PC implemented","Date","Population targeted for MDA 3",null,null,"Population treated - 1st round",null,null,"Population treated - 2nd round",null,null,"Population treated",null,null,"Programme coverage (%)"]
["Country","Province/State","District",null,null,"SAC","Adults","Total","SAC","Adults","Total","SAC","Adults","Total","SAC","Adults","Total","SAC","Adults","Total"]
[]
[]
[{"$f":"IF(COUNTRY_INFO!A10=0,\" \",COUNTRY_INFO!A10)","v":"South Sudan"},{"$f":"IF(COUNTRY_INFO!B10=0,\" \",COUNTRY_INFO!B10)","v":"Central Equatoria"},{"$f":"IF(COUNTRY_INFO!C10=0,\" \",COUNTRY_INFO!C10)","v":"TEREKEKA"},{"$f":"IF(COUNTRY_INFO!$AA10=\"MDA3 (IVM)\", COUNTRY_INFO!$AA10, \" \")","v":" "},null,null,null,{"$f":"SUM(F10:G10)","v":0},null,null,{"$f":"SUM(I10:J10)","v":0},null,null,{"$f":"SUM(L10:M10)","v":0},{"$f":"MAX(I10,L10)","v":0},0,{"$f":"SUM(O10:P10)","v":0},{"$f":"IF(F10<>0, IF(MAX(I10,L10)/F10*100=0, \"-\", MAX(I10,L10)/F10*100), \" \")","v":" "}," ",{"$f":"IF(H10<>0, IF((MAX(I10,L10)+MAX(J10,M10))/H10*100=0, \"-\",(MAX(I10,L10)+MAX(J10,M10))/H10*100), \" \")","v":" "}]
[{"$f":"IF(COUNTRY_INFO!A11=0,\" \",COUNTRY_INFO!A11)","v":"South Sudan"},{"$f":"IF(COUNTRY_INFO!B11=0,\" \",COUNTRY_INFO!B11)","v":"Central Equatoria"},{"$f":"IF(COUNTRY_INFO!C11=0,\" \",COUNTRY_INFO!C11)","v":"JUBA"},{"$f":"IF(COUNTRY_INFO!$AA11=\"MDA3 (IVM)\", COUNTRY_INFO!$AA11, \" \")","v":" "},null,null,null,{"$f":"SUM(F11:G11)","v":0},null,null,{"$f":"SUM(I11:J11)","v":0},null,null,{"$f":"SUM(L11:M11)","v":0},{"$f":"MAX(I11,L11)","v":0},{"$f":"MAX(J11,M11)","v":0},{"$f":"SUM(O11:P11)","v":0},{"$f":"IF(F11<>0, IF(MAX(I11,L11)/F11*100=0, \"-\", MAX(I11,L11)/F11*100), \" \")","v":" "},{"$f":"IF(G11<>0, IF(MAX(J11,M11)/G11*100=0, \"-\", MAX(J11,M11)/G11*100), \" \")","v":" "},{"$f":"IF(H11<>0, IF((MAX(I11,L11)+MAX(J11,M11))/H11*100=0, \"-\",(MAX(I11,L11)+MAX(J11,M11))/H11*100), \" \")","v":" "}]
[{"$f":"IF(COUNTRY_INFO!A12=0,\" \",COUNTRY_INFO!A12)","v":"South Sudan"},{"$f":"IF(COUNTRY_INFO!B12=0,\" \",COUNTRY_INFO!B12)","v":"Central Equatoria"},{"$f":"IF(COUNTRY_INFO!C12=0,\" \",COUNTRY_INFO!C12)","v":"LAINYA"},{"$f":"IF(COUNTRY_INFO!$AA12=\"MDA3 (IVM)\", COUNTRY_INFO!$AA12, \" \")","v":" "},null,null,null,0,null,null,0,null,null,0,0,0,0," "," "," "]
[{"$f":"IF(COUNTRY_INFO!A13=0,\" \",COUNTRY_INFO!A13)","v":"South Sudan"},{"$f":"IF(COUNTRY_INFO!B13=0,\" \",COUNTRY_INFO!B13)","v":"Central Equatoria"},{"$f":"IF(COUNTRY_INFO!C13=0,\" \",COUNTRY_INFO!C13)","v":"YEI"},{"$f":"IF(COUNTRY_INFO!$AA13=\"MDA3 (IVM)\", COUNTRY_INFO!$AA13, \" \")","v":" "},null,null,null,0,null,null,0,null,null,0,0,0,0," "," "," "]
[{"$f":"IF(COUNTRY_INFO!A14=0,\" \",COUNTRY_INFO!A14)","v":"South Sudan"},{"$f":"IF(COUNTRY_INFO!B14=0,\" \",COUNTRY_INFO!B14)","v":"Central Equatoria"},{"$f":"IF(COUNTRY_INFO!C14=0,\" \",COUNTRY_INFO!C14)","v":"MOROBO"},{"$f":"IF(COUNTRY_INFO!$AA14=\"MDA3 (IVM)\", COUNTRY_INFO!$AA14, \" \")","v":" "},null,null,null,0,null,null,0,null,null,0,0,0,0," "," "," "]
[{"$f":"IF(COUNTRY_INFO!A15=0,\" \",COUNTRY_INFO!A15)","v":"South Sudan"},{"$f":"IF(COUNTRY_INFO!B15=0,\" \",COUNTRY_INFO!B15)","v":"Central Equatoria"},{"$f":"IF(COUNTRY_INFO!C15=0,\" \",COUNTRY_INFO!C15)","v":"KAJO KEJI"},{"$f":"IF(COUNTRY_INFO!$AA15=\"MDA3 (IVM)\", COUNTRY_INFO!$AA15, \" \")","v":" "},null,null,null,0,null,null,0,null,null,0,0,0,0," "," "," "]
[{"$f":"IF(COUNTRY_INFO!A16=0,\" \",COUNTRY_INFO!A16)","v":"South Sudan"},{"$f":"IF(COUNTRY_INFO!B16=0,\" \",COUNTRY_INFO!B16)","v":"Eastern Equatoria"},{"$f":"IF(COUNTRY_INFO!C16=0,\" \",COUNTRY_INFO!C16)","v":"TORIT"},{"$f":"IF(COUNTRY_INFO!$AA16=\"MDA3 (IVM)\", COUNTRY_INFO!$AA16, \" \")","v":" "},null,null,null,0,null,null,0,null,null,0,0,0,0," "," "," "]
[{"$f":"IF(COUNTRY_INFO!A17=0,\" \",COUNTRY_INFO!A17)","v":"South Sudan"},{"$f":"IF(COUNTRY_INFO!B17=0,\" \",COUNTRY_INFO!B17)","v":"Eastern Equatoria"},{"$f":"IF(COUNTRY_INFO!C17=0,\" \",COUNTRY_INFO!C17)","v":"LOPA/LAFON"},{"$f":"IF(COUNTRY_INFO!$AA17=\"MDA3 (IVM)\", COUNTRY_INFO!$AA17, \" \")","v":"MDA3 (IVM)"},"June 2022",58929.999999999993,105479,164409,15116,16076,31192,null,null,0,15116,16076,31192,25.650772102494489,15.240948435233554,18.972197385787883]
[{"$f":"IF(COUNTRY_INFO!A18=0,\" \",COUNTRY_INFO!A18)","v":"South Sudan"},{"$f":"IF(COUNTRY_INFO!B18=0,\" \",COUNTRY_INFO!B18)","v":"Eastern Equatoria"},{"$f":"IF(COUNTRY_INFO!C18=0,\" \",COUNTRY_INFO!C18)","v":"KAPOETA NORTH"},{"$f":"IF(COUNTRY_INFO!$AA18=\"MDA3 (IVM)\", COUNTRY_INFO!$AA18, \" \")","v":" "},null,null,null,0,null,null,0,null,null,0,0,0,0," "," "," "]
[{"$f":"IF(COUNTRY_INFO!A19=0,\" \",COUNTRY_INFO!A19)","v":"South Sudan"},{"$f":"IF(COUNTRY_INFO!B19=0,\" \",COUNTRY_INFO!B19)","v":"Eastern Equatoria"},{"$f":"IF(COUNTRY_INFO!C19=0,\" \",COUNTRY_INFO!C19)","v":"KAPOETA EAST"},{"$f":"IF(COUNTRY_INFO!$AA19=\"MDA3 (IVM)\", COUNTRY_INFO!$AA19, \" \")","v":" "},null,null,null,0,null,null,0,null,null,0,0,0,0," "," "," "]
[{"$f":"IF(COUNTRY_INFO!A20=0,\" \",COUNTRY_INFO!A20)","v":"South Sudan"},{"$f":"IF(COUNTRY_INFO!B20=0,\" \",COUNTRY_INFO!B20)","v":"Eastern Equatoria"},{"$f":"IF(COUNTRY_INFO!C20=0,\" \",COUNTRY_INFO!C20)","v":"KAPOETA SOUTH"},{"$f":"IF(COUNTRY_INFO!$AA20=\"MDA3 (IVM)\", COUNTRY_INFO!$AA20, \" \")","v":" "},null,null,null,0,null,null,0,null,null,0,0,0,0," "," "," "]
[{"$f":"IF(COUNTRY_INFO!A21=0,\" \",COUNTRY_INFO!A21)","v":"South Sudan"},{"$f":"IF(COUNTRY_INFO!B21=0,\" \",COUNTRY_INFO!B21)","v":"Eastern Equatoria"},{"$f":"IF(COUNTRY_INFO!C21=0,\" \",COUNTRY_INFO!C21)","v":"BUDI"},{"$f":"IF(COUNTRY_INFO!$AA21=\"MDA3 (IVM)\", COUNTRY_INFO!$AA21, \" \")","v":" "},null,null,null,0,null,null,0,null,null,0,0,0,0," "," "," "]
[{"$f":"IF(COUNTRY_INFO!A22=0,\" \",COUNTRY_INFO!A22)","v":"South Sudan"},{"$f":"IF(COUNTRY_INFO!B22=0,\" \",COUNTRY_INFO!B22)","v":"Eastern Equatoria"},{"$f":"IF(COUNTRY_INFO!C22=0,\" \",COUNTRY_INFO!C22)","v":"IKOTOS"},{"$f":"IF(COUNTRY_INFO!$AA22=\"MDA3 (IVM)\", COUNTRY_INFO!$AA22, \" \")","v":" "},null,null,null,0,null,null,0,null,null,0,0,0,0," "," "," "]
[{"$f":"IF(COUNTRY_INFO!A23=0,\" \",COUNTRY_INFO!A23)","v":"South Sudan"},{"$f":"IF(COUNTRY_INFO!B23=0,\" \",COUNTRY_INFO!B23)","v":"Eastern Equatoria"},{"$f":"IF(COUNTRY_INFO!C23=0,\" \",COUNTRY_INFO!C23)","v":"MAGWI"},{"$f":"IF(COUNTRY_INFO!$AA23=\"MDA3 (IVM)\", COUNTRY_INFO!$AA23, \" \")","v":" "},null,null,null,0,null,null,0,null,null,0,0,0,0," "," "," "]
[{"$f":"IF(COUNTRY_INFO!A24=0,\" \",COUNTRY_INFO!A24)","v":"South Sudan"},{"$f":"IF(COUNTRY_INFO!B24=0,\" \",COUNTRY_INFO!B24)","v":"Jonglei"},{"$f":"IF(COUNTRY_INFO!C24=0,\" \",COUNTRY_INFO!C24)","v":"FANGAK"},{"$f":"IF(COUNTRY_INFO!$AA24=\"MDA3 (IVM)\", COUNTRY_INFO!$AA24, \" \")","v":" "},null,null,null,0,null,null,0,null,null,0,0,0,0," "," "," "]
[{"$f":"IF(COUNTRY_INFO!A25=0,\" \",COUNTRY_INFO!A25)","v":"South Sudan"},{"$f":"IF(COUNTRY_INFO!B25=0,\" \",COUNTRY_INFO!B25)","v":"Jonglei"},{"$f":"IF(COUNTRY_INFO!C25=0,\" \",COUNTRY_INFO!C25)","v":"KHORFLUS"},{"$f":"IF(COUNTRY_INFO!$AA25=\"MDA3 (IVM)\", COUNTRY_INFO!$AA25, \" \")","v":" "},null,null,null,0,null,null,0,null,null,0,0,0,0," "," "," "]
[{"$f":"IF(COUNTRY_INFO!A26=0,\" \",COUNTRY_INFO!A26)","v":"South Sudan"},{"$f":"IF(COUNTRY_INFO!B26=0,\" \",COUNTRY_INFO!B26)","v":"Jonglei"},{"$f":"IF(COUNTRY_INFO!C26=0,\" \",COUNTRY_INFO!C26)","v":"AYOD"},{"$f":"IF(COUNTRY_INFO!$AA26=\"MDA3 (IVM)\", COUNTRY_INFO!$AA26, \" \")","v":" "},null,null,null,0,null,null,0,null,null,0,0,0,0," "," "," "]
[{"$f":"IF(COUNTRY_INFO!A27=0,\" \",COUNTRY_INFO!A27)","v":"South Sudan"},{"$f":"IF(COUNTRY_INFO!B27=0,\" \",COUNTRY_INFO!B27)","v":"Jonglei"},{"$f":"IF(COUNTRY_INFO!C27=0,\" \",COUNTRY_INFO!C27)","v":"DUK"},{"$f":"IF(COUNTRY_INFO!$AA27=\"MDA3 (IVM)\", COUNTRY_INFO!$AA27, \" \")","v":" "},null,null,null,0,null,null,0,null,null,0,0,0,0," "," "," "]
[{"$f":"IF(COUNTRY_INFO!A28=0,\" \",COUNTRY_INFO!A28)","v":"South Sudan"},{"$f":"IF(COUNTRY_INFO!B28=0,\" \",COUNTRY_INFO!B28)","v":"Jonglei"},{"$f":"IF(COUNTRY_INFO!C28=0,\" \",COUNTRY_INFO!C28)","v":"UROR"},{"$f":"IF(COUNTRY_INFO!$AA28=\"MDA3 (IVM)\", COUNTRY_INFO!$AA28, \" \")","v":" "},null,null,null,0,null,null,0,null,null,0,0,0,0," "," "," "]
[{"$f":"IF(COUNTRY_INFO!A29=0,\" \",COUNTRY_INFO!A29)","v":"South Sudan"},{"$f":"IF(COUNTRY_INFO!B29=0,\" \",COUNTRY_INFO!B29)","v":"Jonglei"},{"$f":"IF(COUNTRY_INFO!C29=0,\" \",COUNTRY_INFO!C29)","v":"NYIROL"},{"$f":"IF(COUNTRY_INFO!$AA29=\"MDA3 (IVM)\", COUNTRY_INFO!$AA29, \" \")","v":" "},null,null,null,0,null,null,0,null,null,0,0,0,0," "," "," "]
[{"$f":"IF(COUNTRY_INFO!A30=0,\" \",COUNTRY_INFO!A30)","v":"South Sudan"},{"$f":"IF(COUNTRY_INFO!B30=0,\" \",COUNTRY_INFO!B30)","v":"Jonglei"},{"$f":"IF(COUNTRY_INFO!C30=0,\" \",COUNTRY_INFO!C30)","v":"AKOBO"},{"$f":"IF(COUNTRY_INFO!$AA30=\"MDA3 (IVM)\", COUNTRY_INFO!$AA30, \" \")","v":"MDA3 (IVM)"},"June 2022",67658,121102,188760,35449,37414,72863,null,null,0,35449,37414,72863,52.394395341275235,30.894617760235171,38.600868828141557]
[{"$f":"IF(COUNTRY_INFO!A31=0,\" \",COUNTRY_INFO!A31)","v":"South Sudan"},{"$f":"IF(COUNTRY_INFO!B31=0,\" \",COUNTRY_INFO!B31)","v":"Jonglei"},{"$f":"IF(COUNTRY_INFO!C31=0,\" \",COUNTRY_INFO!C31)","v":"POCHALA"},{"$f":"IF(COUNTRY_INFO!$AA31=\"MDA3 (IVM)\", COUNTRY_INFO!$AA31, \" \")","v":" "},null,null,null,0,null,null,0,null,null,0,0,0,0," "," "," "]
[{"$f":"IF(COUNTRY_INFO!A32=0,\" \",COUNTRY_INFO!A32)","v":"South Sudan"},{"$f":"IF(COUNTRY_INFO!B32=0,\" \",COUNTRY_INFO!B32)","v":"Jonglei"},{"$f":"IF(COUNTRY_INFO!C32=0,\" \",COUNTRY_INFO!C32)","v":"PIBOR"},{"$f":"IF(COUNTRY_INFO!$AA32=\"MDA3 (IVM)\", COUNTRY_INFO!$AA32, \" \")","v":" "},null,null,null,0,null,null,0,null,null,0,0,0,0," "," "," "]
[{"$f":"IF(COUNTRY_INFO!A33=0,\" \",COUNTRY_INFO!A33)","v":"South Sudan"},{"$f":"IF(COUNTRY_INFO!B33=0,\" \",COUNTRY_INFO!B33)","v":"Jonglei"},{"$f":"IF(COUNTRY_INFO!C33=0,\" \",COUNTRY_INFO!C33)","v":"TWIC EAST"},{"$f":"IF(COUNTRY_INFO!$AA33=\"MDA3 (IVM)\", COUNTRY_INFO!$AA33, \" \")","v":" "},null,null,null,0,null,null,0,null,null,0,0,0,0," "," "," "]
[{"$f":"IF(COUNTRY_INFO!A34=0,\" \",COUNTRY_INFO!A34)","v":"South Sudan"},{"$f":"IF(COUNTRY_INFO!B34=0,\" \",COUNTRY_INFO!B34)","v":"Jonglei"},{"$f":"IF(COUNTRY_INFO!C34=0,\" \",COUNTRY_INFO!C34)","v":"BOR SOUTH"},{"$f":"IF(COUNTRY_INFO!$AA34=\"MDA3 (IVM)\", COUNTRY_INFO!$AA34, \" \")","v":" "},null,null,null,0,null,null,0,null,null,0,0,0,0," "," "," "]
[{"$f":"IF(COUNTRY_INFO!A35=0,\" \",COUNTRY_INFO!A35)","v":"South Sudan"},{"$f":"IF(COUNTRY_INFO!B35=0,\" \",COUNTRY_INFO!B35)","v":"Lakes"},{"$f":"IF(COUNTRY_INFO!C35=0,\" \",COUNTRY_INFO!C35)","v":"CUEBIT"},{"$f":"IF(COUNTRY_INFO!$AA35=\"MDA3 (IVM)\", COUNTRY_INFO!$AA35, \" \")","v":"MDA3 (IVM)"},"May 2022",64313,115113.99999999999,179427,82073,82076,164149,null,null,0,82073,82076,164149,127.61494565639917,71.299755025453038,91.485116509778351]
[{"$f":"IF(COUNTRY_INFO!A36=0,\" \",COUNTRY_INFO!A36)","v":"South Sudan"},{"$f":"IF(COUNTRY_INFO!B36=0,\" \",COUNTRY_INFO!B36)","v":"Lakes"},{"$f":"IF(COUNTRY_INFO!C36=0,\" \",COUNTRY_INFO!C36)","v":"RUMBEK NORTH"},{"$f":"IF(COUNTRY_INFO!$AA36=\"MDA3 (IVM)\", COUNTRY_INFO!$AA36, \" \")","v":" "},null,null,null,0,null,null,0,null,null,0,0,0,0," "," "," "]
[{"$f":"IF(COUNTRY_INFO!A37=0,\" \",COUNTRY_INFO!A37)","v":"South Sudan"},{"$f":"IF(COUNTRY_INFO!B37=0,\" \",COUNTRY_INFO!B37)","v":"Lakes"},{"$f":"IF(COUNTRY_INFO!C37=0,\" \",COUNTRY_INFO!C37)","v":"RUMBEK CENTRE"},{"$f":"IF(COUNTRY_INFO!$AA37=\"MDA3 (IVM)\", COUNTRY_INFO!$AA37, \" \")","v":" "},null,null,null,0,null,null,0,null,null,0,0,0,0," "," "," "]
[{"$f":"IF(COUNTRY_INFO!A38=0,\" \",COUNTRY_INFO!A38)","v":"South Sudan"},{"$f":"IF(COUNTRY_INFO!B38=0,\" \",COUNTRY_INFO!B38)","v":"Lakes"},{"$f":"IF(COUNTRY_INFO!C38=0,\" \",COUNTRY_INFO!C38)","v":"WULU"},{"$f":"IF(COUNTRY_INFO!$AA38=\"MDA3 (IVM)\", COUNTRY_INFO!$AA38, \" \")","v":" "},null,null,null,0,null,null,0,null,null,0,0,0,0," "," "," "]
[{"$f":"IF(COUNTRY_INFO!A39=0,\" \",COUNTRY_INFO!A39)","v":"South Sudan"},{"$f":"IF(COUNTRY_INFO!B39=0,\" \",COUNTRY_INFO!B39)","v":"Lakes"},{"$f":"IF(COUNTRY_INFO!C39=0,\" \",COUNTRY_INFO!C39)","v":"RUMBEK EAST"},{"$f":"IF(COUNTRY_INFO!$AA39=\"MDA3 (IVM)\", COUNTRY_INFO!$AA39, \" \")","v":"MDA3 (IVM)"},"June 2022",67357,120562.99999999999,187920,122904,126275,249179,null,null,0,122904,126275,249179,182.4665587837938,104.73777195325266,132.59844614729673]
[{"$f":"IF(COUNTRY_INFO!A40=0,\" \",COUNTRY_INFO!A40)","v":"South Sudan"},{"$f":"IF(COUNTRY_INFO!B40=0,\" \",COUNTRY_INFO!B40)","v":"Lakes"},{"$f":"IF(COUNTRY_INFO!C40=0,\" \",COUNTRY_INFO!C40)","v":"YIROL WEST"},{"$f":"IF(COUNTRY_INFO!$AA40=\"MDA3 (IVM)\", COUNTRY_INFO!$AA40, \" \")","v":"MDA3 (IVM)"},"July 2022",56321,100810,157131,34054,34539,68593,null,null,0,34054,34539,68593,60.464125281866444,34.261481995833748,43.65338475539518]
[{"$f":"IF(COUNTRY_INFO!A41=0,\" \",COUNTRY_INFO!A41)","v":"South Sudan"},{"$f":"IF(COUNTRY_INFO!B41=0,\" \",COUNTRY_INFO!B41)","v":"Lakes"},{"$f":"IF(COUNTRY_INFO!C41=0,\" \",COUNTRY_INFO!C41)","v":"YIROL EAST"},{"$f":"IF(COUNTRY_INFO!$AA41=\"MDA3 (IVM)\", COUNTRY_INFO!$AA41, \" \")","v":"MDA3 (IVM)"},"July 2022",36914,66072,102986,46247,51604,97851,null,null,0,46247,51604,97851,125.2830904263965,78.102675868749245,95.013885382479174]
[{"$f":"IF(COUNTRY_INFO!A42=0,\" \",COUNTRY_INFO!A42)","v":"South Sudan"},{"$f":"IF(COUNTRY_INFO!B42=0,\" \",COUNTRY_INFO!B42)","v":"Lakes"},{"$f":"IF(COUNTRY_INFO!C42=0,\" \",COUNTRY_INFO!C42)","v":"AWERIAL"},{"$f":"IF(COUNTRY_INFO!$AA42=\"MDA3 (IVM)\", COUNTRY_INFO!$AA42, \" \")","v":" "},null,null,null,0,null,null,0,null,null,0,0,0,0," "," "," "]
[{"$f":"IF(COUNTRY_INFO!A43=0,\" \",COUNTRY_INFO!A43)","v":"South Sudan"},{"$f":"IF(COUNTRY_INFO!B43=0,\" \",COUNTRY_INFO!B43)","v":"Northern Bahr El Ghazal"},{"$f":"IF(COUNTRY_INFO!C43=0,\" \",COUNTRY_INFO!C43)","v":"AWIEL NORTH"},{"$f":"IF(COUNTRY_INFO!$AA43=\"MDA3 (IVM)\", COUNTRY_INFO!$AA43, \" \")","v":"MDA3 (IVM)"},"May 2022",64534.999999999993,115511,180046,82043,90514,172557,null,null,0,82043,90514,172557,127.12946463159527,78.359636744552461,95.840507425880048]
[{"$f":"IF(COUNTRY_INFO!A44=0,\" \",COUNTRY_INFO!A44)","v":"South Sudan"},{"$f":"IF(COUNTRY_INFO!B44=0,\" \",COUNTRY_INFO!B44)","v":"Northern Bahr El Ghazal"},{"$f":"IF(COUNTRY_INFO!C44=0,\" \",COUNTRY_INFO!C44)","v":"AWIEL EAST"},{"$f":"IF(COUNTRY_INFO!$AA44=\"MDA3 (IVM)\", COUNTRY_INFO!$AA44, \" \")","v":" "},null,null,null,0,null,null,0,null,null,0,0,0,0," "," "," "]
[{"$f":"IF(COUNTRY_INFO!A45=0,\" \",COUNTRY_INFO!A45)","v":"South Sudan"},{"$f":"IF(COUNTRY_INFO!B45=0,\" \",COUNTRY_INFO!B45)","v":"Northern Bahr El Ghazal"},{"$f":"IF(COUNTRY_INFO!C45=0,\" \",COUNTRY_INFO!C45)","v":"AWIEL SOUTH"},{"$f":"IF(COUNTRY_INFO!$AA45=\"MDA3 (IVM)\", COUNTRY_INFO!$AA45, \" \")","v":"MDA3 (IVM)"},"June 2022",36774,65822,102596,52460,56252,108712,null,null,0,52460,56252,108712,142.65513678142165,85.460788186320684,105.96124605247768]
[{"$f":"IF(COUNTRY_INFO!A46=0,\" \",COUNTRY_INFO!A46)","v":"South Sudan"},{"$f":"IF(COUNTRY_INFO!B46=0,\" \",COUNTRY_INFO!B46)","v":"Northern Bahr El Ghazal"},{"$f":"IF(COUNTRY_INFO!C46=0,\" \",COUNTRY_INFO!C46)","v":"AWIEL WEST"},{"$f":"IF(COUNTRY_INFO!$AA46=\"MDA3 (IVM)\", COUNTRY_INFO!$AA46, \" \")","v":" "},null,null,null,0,null,null,0,null,null,0,0,0,0," "," "," "]
[{"$f":"IF(COUNTRY_INFO!A47=0,\" \",COUNTRY_INFO!A47)","v":"South Sudan"},{"$f":"IF(COUNTRY_INFO!B47=0,\" \",COUNTRY_INFO!B47)","v":"Northern Bahr El Ghazal"},{"$f":"IF(COUNTRY_INFO!C47=0,\" \",COUNTRY_INFO!C47)","v":"AWIEL CENTRE"},{"$f":"IF(COUNTRY_INFO!$AA47=\"MDA3 (IVM)\", COUNTRY_INFO!$AA47, \" \")","v":" "},null,null,null,0,null,null,0,null,null,0,0,0,0," "," "," "]
[{"$f":"IF(COUNTRY_INFO!A48=0,\" \",COUNTRY_INFO!A48)","v":"South Sudan"},{"$f":"IF(COUNTRY_INFO!B48=0,\" \",COUNTRY_INFO!B48)","v":"Unity"},{"$f":"IF(COUNTRY_INFO!C48=0,\" \",COUNTRY_INFO!C48)","v":"PARIANG"},{"$f":"IF(COUNTRY_INFO!$AA48=\"MDA3 (IVM)\", COUNTRY_INFO!$AA48, \" \")","v":" "},null,null,null,0,null,null,0,null,null,0,0,0,0," "," "," "]
[{"$f":"IF(COUNTRY_INFO!A49=0,\" \",COUNTRY_INFO!A49)","v":"South Sudan"},{"$f":"IF(COUNTRY_INFO!B49=0,\" \",COUNTRY_INFO!B49)","v":"Unity"},{"$f":"IF(COUNTRY_INFO!C49=0,\" \",COUNTRY_INFO!C49)","v":"ABIEMNHOM"},{"$f":"IF(COUNTRY_INFO!$AA49=\"MDA3 (IVM)\", COUNTRY_INFO!$AA49, \" \")","v":" "},null,null,null,0,null,null,0,null,null,0,0,0,0," "," "," "]
[{"$f":"IF(COUNTRY_INFO!A50=0,\" \",COUNTRY_INFO!A50)","v":"South Sudan"},{"$f":"IF(COUNTRY_INFO!B50=0,\" \",COUNTRY_INFO!B50)","v":"Unity"},{"$f":"IF(COUNTRY_INFO!C50=0,\" \",COUNTRY_INFO!C50)","v":"MAYOM"},{"$f":"IF(COUNTRY_INFO!$AA50=\"MDA3 (IVM)\", COUNTRY_INFO!$AA50, \" \")","v":" "},null,null,null,0,null,null,0,null,null,0,0,0,0," "," "," "]
[{"$f":"IF(COUNTRY_INFO!A51=0,\" \",COUNTRY_INFO!A51)","v":"South Sudan"},{"$f":"IF(COUNTRY_INFO!B51=0,\" \",COUNTRY_INFO!B51)","v":"Unity"},{"$f":"IF(COUNTRY_INFO!C51=0,\" \",COUNTRY_INFO!C51)","v":"RUBKONA"},{"$f":"IF(COUNTRY_INFO!$AA51=\"MDA3 (IVM)\", COUNTRY_INFO!$AA51, \" \")","v":" "},null,null,null,0,null,null,0,null,null,0,0,0,0," "," "," "]
[{"$f":"IF(COUNTRY_INFO!A52=0,\" \",COUNTRY_INFO!A52)","v":"South Sudan"},{"$f":"IF(COUNTRY_INFO!B52=0,\" \",COUNTRY_INFO!B52)","v":"Unity"},{"$f":"IF(COUNTRY_INFO!C52=0,\" \",COUNTRY_INFO!C52)","v":"GUIT"},{"$f":"IF(COUNTRY_INFO!$AA52=\"MDA3 (IVM)\", COUNTRY_INFO!$AA52, \" \")","v":" "},null,null,null,0,null,null,0,null,null,0,0,0,0," "," "," "]
[{"$f":"IF(COUNTRY_INFO!A53=0,\" \",COUNTRY_INFO!A53)","v":"South Sudan"},{"$f":"IF(COUNTRY_INFO!B53=0,\" \",COUNTRY_INFO!B53)","v":"Unity"},{"$f":"IF(COUNTRY_INFO!C53=0,\" \",COUNTRY_INFO!C53)","v":"KOCH"},{"$f":"IF(COUNTRY_INFO!$AA53=\"MDA3 (IVM)\", COUNTRY_INFO!$AA53, \" \")","v":" "},null,null,null,0,null,null,0,null,null,0,0,0,0," "," "," "]
[{"$f":"IF(COUNTRY_INFO!A54=0,\" \",COUNTRY_INFO!A54)","v":"South Sudan"},{"$f":"IF(COUNTRY_INFO!B54=0,\" \",COUNTRY_INFO!B54)","v":"Unity"},{"$f":"IF(COUNTRY_INFO!C54=0,\" \",COUNTRY_INFO!C54)","v":"LEER"},{"$f":"IF(COUNTRY_INFO!$AA54=\"MDA3 (IVM)\", COUNTRY_INFO!$AA54, \" \")","v":" "},null,null,null,0,null,null,0,null,null,0,0,0,0," "," "," "]
[{"$f":"IF(COUNTRY_INFO!A55=0,\" \",COUNTRY_INFO!A55)","v":"South Sudan"},{"$f":"IF(COUNTRY_INFO!B55=0,\" \",COUNTRY_INFO!B55)","v":"Unity"},{"$f":"IF(COUNTRY_INFO!C55=0,\" \",COUNTRY_INFO!C55)","v":"MAYENDIT"},{"$f":"IF(COUNTRY_INFO!$AA55=\"MDA3 (IVM)\", COUNTRY_INFO!$AA55, \" \")","v":" "},null,null,null,0,null,null,0,null,null,0,0,0,0," "," "," "]
[{"$f":"IF(COUNTRY_INFO!A56=0,\" \",COUNTRY_INFO!A56)","v":"South Sudan"},{"$f":"IF(COUNTRY_INFO!B56=0,\" \",COUNTRY_INFO!B56)","v":"Unity"},{"$f":"IF(COUNTRY_INFO!C56=0,\" \",COUNTRY_INFO!C56)","v":"PAYNIJAR"},{"$f":"IF(COUNTRY_INFO!$AA56=\"MDA3 (IVM)\", COUNTRY_INFO!$AA56, \" \")","v":" "},null,null,null,0,null,null,0,null,null,0,0,0,0," "," "," "]
[{"$f":"IF(COUNTRY_INFO!A57=0,\" \",COUNTRY_INFO!A57)","v":"South Sudan"},{"$f":"IF(COUNTRY_INFO!B57=0,\" \",COUNTRY_INFO!B57)","v":"Upper Nile"},{"$f":"IF(COUNTRY_INFO!C57=0,\" \",COUNTRY_INFO!C57)","v":"RENK"},{"$f":"IF(COUNTRY_INFO!$AA57=\"MDA3 (IVM)\", COUNTRY_INFO!$AA57, \" \")","v":" "},null,null,null,0,null,null,0,null,null,0,0,0,0," "," "," "]
[{"$f":"IF(COUNTRY_INFO!A58=0,\" \",COUNTRY_INFO!A58)","v":"South Sudan"},{"$f":"IF(COUNTRY_INFO!B58=0,\" \",COUNTRY_INFO!B58)","v":"Upper Nile"},{"$f":"IF(COUNTRY_INFO!C58=0,\" \",COUNTRY_INFO!C58)","v":"MANYO"},{"$f":"IF(COUNTRY_INFO!$AA58=\"MDA3 (IVM)\", COUNTRY_INFO!$AA58, \" \")","v":" "},null,null,null,0,null,null,0,null,null,0,0,0,0," "," "," "]
[{"$f":"IF(COUNTRY_INFO!A59=0,\" \",COUNTRY_INFO!A59)","v":"South Sudan"},{"$f":"IF(COUNTRY_INFO!B59=0,\" \",COUNTRY_INFO!B59)","v":"Upper Nile"},{"$f":"IF(COUNTRY_INFO!C59=0,\" \",COUNTRY_INFO!C59)","v":"FASHODA"},{"$f":"IF(COUNTRY_INFO!$AA59=\"MDA3 (IVM)\", COUNTRY_INFO!$AA59, \" \")","v":" "},null,null,null,0,null,null,0,null,null,0,0,0,0," "," "," "]
[{"$f":"IF(COUNTRY_INFO!A60=0,\" \",COUNTRY_INFO!A60)","v":"South Sudan"},{"$f":"IF(COUNTRY_INFO!B60=0,\" \",COUNTRY_INFO!B60)","v":"Upper Nile"},{"$f":"IF(COUNTRY_INFO!C60=0,\" \",COUNTRY_INFO!C60)","v":"MELUT"},{"$f":"IF(COUNTRY_INFO!$AA60=\"MDA3 (IVM)\", COUNTRY_INFO!$AA60, \" \")","v":" "},null,null,null,0,null,null,0,null,null,0,0,0,0," "," "," "]
[{"$f":"IF(COUNTRY_INFO!A61=0,\" \",COUNTRY_INFO!A61)","v":"South Sudan"},{"$f":"IF(COUNTRY_INFO!B61=0,\" \",COUNTRY_INFO!B61)","v":"Upper Nile"},{"$f":"IF(COUNTRY_INFO!C61=0,\" \",COUNTRY_INFO!C61)","v":"MABAN"},{"$f":"IF(COUNTRY_INFO!$AA61=\"MDA3 (IVM)\", COUNTRY_INFO!$AA61, \" \")","v":" "},null,null,null,0,null,null,0,null,null,0,0,0,0," "," "," "]
[{"$f":"IF(COUNTRY_INFO!A62=0,\" \",COUNTRY_INFO!A62)","v":"South Sudan"},{"$f":"IF(COUNTRY_INFO!B62=0,\" \",COUNTRY_INFO!B62)","v":"Upper Nile"},{"$f":"IF(COUNTRY_INFO!C62=0,\" \",COUNTRY_INFO!C62)","v":"MAIWUT"},{"$f":"IF(COUNTRY_INFO!$AA62=\"MDA3 (IVM)\", COUNTRY_INFO!$AA62, \" \")","v":"MDA3 (IVM)"},"April 2022",40461,72421,112882,37545,41456,79001,null,null,0,37545,41456,79001,92.793059983687996,57.243064856878533,69.985471554366512]
[{"$f":"IF(COUNTRY_INFO!A63=0,\" \",COUNTRY_INFO!A63)","v":"South Sudan"},{"$f":"IF(COUNTRY_INFO!B63=0,\" \",COUNTRY_INFO!B63)","v":"Upper Nile"},{"$f":"IF(COUNTRY_INFO!C63=0,\" \",COUNTRY_INFO!C63)","v":"LUAKPINY/NASIR"},{"$f":"IF(COUNTRY_INFO!$AA63=\"MDA3 (IVM)\", COUNTRY_INFO!$AA63, \" \")","v":" "},null,null,null,0,null,null,0,null,null,0,0,0,0," "," "," "]
[{"$f":"IF(COUNTRY_INFO!A64=0,\" \",COUNTRY_INFO!A64)","v":"South Sudan"},{"$f":"IF(COUNTRY_INFO!B64=0,\" \",COUNTRY_INFO!B64)","v":"Upper Nile"},{"$f":"IF(COUNTRY_INFO!C64=0,\" \",COUNTRY_INFO!C64)","v":"LONGOCHUK"},{"$f":"IF(COUNTRY_INFO!$AA64=\"MDA3 (IVM)\", COUNTRY_INFO!$AA64, \" \")","v":"MDA3 (IVM)"},"April 2022",32566,58291,90857,32275,32746,65021,null,null,0,32275,32746,65021,99.106430019038257,56.17676828326843,71.564106232871438]
[{"$f":"IF(COUNTRY_INFO!A65=0,\" \",COUNTRY_INFO!A65)","v":"South Sudan"},{"$f":"IF(COUNTRY_INFO!B65=0,\" \",COUNTRY_INFO!B65)","v":"Upper Nile"},{"$f":"IF(COUNTRY_INFO!C65=0,\" \",COUNTRY_INFO!C65)","v":"ULANG"},{"$f":"IF(COUNTRY_INFO!$AA65=\"MDA3 (IVM)\", COUNTRY_INFO!$AA65, \" \")","v":" "},null,null,null,0,null,null,0,null,null,0,0,0,0," "," "," "]
[{"$f":"IF(COUNTRY_INFO!A66=0,\" \",COUNTRY_INFO!A66)","v":"South Sudan"},{"$f":"IF(COUNTRY_INFO!B66=0,\" \",COUNTRY_INFO!B66)","v":"Upper Nile"},{"$f":"IF(COUNTRY_INFO!C66=0,\" \",COUNTRY_INFO!C66)","v":"BALIET"},{"$f":"IF(COUNTRY_INFO!$AA66=\"MDA3 (IVM)\", COUNTRY_INFO!$AA66, \" \")","v":" "},null,null,null,0,null,null,0,null,null,0,0,0,0," "," "," "]
[{"$f":"IF(COUNTRY_INFO!A67=0,\" \",COUNTRY_INFO!A67)","v":"South Sudan"},{"$f":"IF(COUNTRY_INFO!B67=0,\" \",COUNTRY_INFO!B67)","v":"Upper Nile"},{"$f":"IF(COUNTRY_INFO!C67=0,\" \",COUNTRY_INFO!C67)","v":"MALAKAL"},{"$f":"IF(COUNTRY_INFO!$AA67=\"MDA3 (IVM)\", COUNTRY_INFO!$AA67, \" \")","v":" "},null,null,null,0,null,null,0,null,null,0,0,0,0," "," "," "]
[{"$f":"IF(COUNTRY_INFO!A68=0,\" \",COUNTRY_INFO!A68)","v":"South Sudan"},{"$f":"IF(COUNTRY_INFO!B68=0,\" \",COUNTRY_INFO!B68)","v":"Upper Nile"},{"$f":"IF(COUNTRY_INFO!C68=0,\" \",COUNTRY_INFO!C68)","v":"PANYKANG"},{"$f":"IF(COUNTRY_INFO!$AA68=\"MDA3 (IVM)\", COUNTRY_INFO!$AA68, \" \")","v":" "},null,null,null,0,null,null,0,null,null,0,0,0,0," "," "," "]
[{"$f":"IF(COUNTRY_INFO!A69=0,\" \",COUNTRY_INFO!A69)","v":"South Sudan"},{"$f":"IF(COUNTRY_INFO!B69=0,\" \",COUNTRY_INFO!B69)","v":"Warrap"},{"$f":"IF(COUNTRY_INFO!C69=0,\" \",COUNTRY_INFO!C69)","v":"ABYEI"},{"$f":"IF(COUNTRY_INFO!$AA69=\"MDA3 (IVM)\", COUNTRY_INFO!$AA69, \" \")","v":" "},null,null,null,0,null,null,0,null,null,0,0,0,0," "," "," "]
[{"$f":"IF(COUNTRY_INFO!A70=0,\" \",COUNTRY_INFO!A70)","v":"South Sudan"},{"$f":"IF(COUNTRY_INFO!B70=0,\" \",COUNTRY_INFO!B70)","v":"Warrap"},{"$f":"IF(COUNTRY_INFO!C70=0,\" \",COUNTRY_INFO!C70)","v":"TWIC"},{"$f":"IF(COUNTRY_INFO!$AA70=\"MDA3 (IVM)\", COUNTRY_INFO!$AA70, \" \")","v":" "},null,null,null,0,null,null,0,null,null,0,0,0,0," "," "," "]
[{"$f":"IF(COUNTRY_INFO!A71=0,\" \",COUNTRY_INFO!A71)","v":"South Sudan"},{"$f":"IF(COUNTRY_INFO!B71=0,\" \",COUNTRY_INFO!B71)","v":"Warrap"},{"$f":"IF(COUNTRY_INFO!C71=0,\" \",COUNTRY_INFO!C71)","v":"GOGRIAL WEST"},{"$f":"IF(COUNTRY_INFO!$AA71=\"MDA3 (IVM)\", COUNTRY_INFO!$AA71, \" \")","v":" "},null,null,null,0,null,null,0,null,null,0,0,0,0," "," "," "]
[{"$f":"IF(COUNTRY_INFO!A72=0,\" \",COUNTRY_INFO!A72)","v":"South Sudan"},{"$f":"IF(COUNTRY_INFO!B72=0,\" \",COUNTRY_INFO!B72)","v":"Warrap"},{"$f":"IF(COUNTRY_INFO!C72=0,\" \",COUNTRY_INFO!C72)","v":"GOGRIAL EAST"},{"$f":"IF(COUNTRY_INFO!$AA72=\"MDA3 (IVM)\", COUNTRY_INFO!$AA72, \" \")","v":" "},null,null,null,0,null,null,0,null,null,0,0,0,0," "," "," "]
[{"$f":"IF(COUNTRY_INFO!A73=0,\" \",COUNTRY_INFO!A73)","v":"South Sudan"},{"$f":"IF(COUNTRY_INFO!B73=0,\" \",COUNTRY_INFO!B73)","v":"Warrap"},{"$f":"IF(COUNTRY_INFO!C73=0,\" \",COUNTRY_INFO!C73)","v":"TONJ NORTH"},{"$f":"IF(COUNTRY_INFO!$AA73=\"MDA3 (IVM)\", COUNTRY_INFO!$AA73, \" \")","v":"MDA3 (IVM)"},"June 2022",82884,148355,231239,122935,130818,253753,null,null,0,122935,130818,253753,148.32175088074899,88.179030029321552,109.7362469133667]
[{"$f":"IF(COUNTRY_INFO!A74=0,\" \",COUNTRY_INFO!A74)","v":"South Sudan"},{"$f":"IF(COUNTRY_INFO!B74=0,\" \",COUNTRY_INFO!B74)","v":"Warrap"},{"$f":"IF(COUNTRY_INFO!C74=0,\" \",COUNTRY_INFO!C74)","v":"TONJ EAST"},{"$f":"IF(COUNTRY_INFO!$AA74=\"MDA3 (IVM)\", COUNTRY_INFO!$AA74, \" \")","v":"MDA3 (IVM)"},"June 2022",58019,103848,161867,90194,95446,185640,null,null,0,90194,95446,185640,155.45597131974009,91.909329019335956,114.68674899763387]
[{"$f":"IF(COUNTRY_INFO!A75=0,\" \",COUNTRY_INFO!A75)","v":"South Sudan"},{"$f":"IF(COUNTRY_INFO!B75=0,\" \",COUNTRY_INFO!B75)","v":"Warrap"},{"$f":"IF(COUNTRY_INFO!C75=0,\" \",COUNTRY_INFO!C75)","v":"TONJ SOUTH"},{"$f":"IF(COUNTRY_INFO!$AA75=\"MDA3 (IVM)\", COUNTRY_INFO!$AA75, \" \")","v":" "},null,null,null,{"$f":"SUM(F75:G75)","v":0},null,null,{"$f":"SUM(I75:J75)","v":0},null,null,{"$f":"SUM(L75:M75)","v":0},{"$f":"MAX(I75,L75)","v":0},{"$f":"MAX(J75,M75)","v":0},{"$f":"SUM(O75:P75)","v":0},{"$f":"IF(F75<>0, IF(MAX(I75,L75)/F75*100=0, \"-\", MAX(I75,L75)/F75*100), \" \")","v":" "},{"$f":"IF(G75<>0, IF(MAX(J75,M75)/G75*100=0, \"-\", MAX(J75,M75)/G75*100), \" \")","v":" "},{"$f":"IF(H75<>0, IF((MAX(I75,L75)+MAX(J75,M75))/H75*100=0, \"-\",(MAX(I75,L75)+MAX(J75,M75))/H75*100), \" \")","v":" "}]
[{"$f":"IF(COUNTRY_INFO!A76=0,\" \",COUNTRY_INFO!A76)","v":"South Sudan"},{"$f":"IF(COUNTRY_INFO!B76=0,\" \",COUNTRY_INFO!B76)","v":"Wesstern Equatoria"},{"$f":"IF(COUNTRY_INFO!C76=0,\" \",COUNTRY_INFO!C76)","v":"TAMBURA"},{"$f":"IF(COUNTRY_INFO!$AA76=\"MDA3 (IVM)\", COUNTRY_INFO!$AA76, \" \")","v":" "},null,null,null,0,null,null,0,null,null,0,0,0,0," "," "," "]
[{"$f":"IF(COUNTRY_INFO!A77=0,\" \",COUNTRY_INFO!A77)","v":"South Sudan"},{"$f":"IF(COUNTRY_INFO!B77=0,\" \",COUNTRY_INFO!B77)","v":"Wesstern Equatoria"},{"$f":"IF(COUNTRY_INFO!C77=0,\" \",COUNTRY_INFO!C77)","v":"NAGERO"},{"$f":"IF(COUNTRY_INFO!$AA77=\"MDA3 (IVM)\", COUNTRY_INFO!$AA77, \" \")","v":" "},null,null,null,0,null,null,0,null,null,0,0,0,0," "," "," "]
[{"$f":"IF(COUNTRY_INFO!A78=0,\" \",COUNTRY_INFO!A78)","v":"South Sudan"},{"$f":"IF(COUNTRY_INFO!B78=0,\" \",COUNTRY_INFO!B78)","v":"Wesstern Equatoria"},{"$f":"IF(COUNTRY_INFO!C78=0,\" \",COUNTRY_INFO!C78)","v":"NZARA"},{"$f":"IF(COUNTRY_INFO!$AA78=\"MDA3 (IVM)\", COUNTRY_INFO!$AA78, \" \")","v":" "},null,null,null,0,null,null,0,null,null,0,0,0,0," "," "," "]
[{"$f":"IF(COUNTRY_INFO!A79=0,\" \",COUNTRY_INFO!A79)","v":"South Sudan"},{"$f":"IF(COUNTRY_INFO!B79=0,\" \",COUNTRY_INFO!B79)","v":"Wesstern Equatoria"},{"$f":"IF(COUNTRY_INFO!C79=0,\" \",COUNTRY_INFO!C79)","v":"EZO"},{"$f":"IF(COUNTRY_INFO!$AA79=\"MDA3 (IVM)\", COUNTRY_INFO!$AA79, \" \")","v":" "},null,null,null,0,null,null,0,null,null,0,0,0,0," "," "," "]
[{"$f":"IF(COUNTRY_INFO!A80=0,\" \",COUNTRY_INFO!A80)","v":"South Sudan"},{"$f":"IF(COUNTRY_INFO!B80=0,\" \",COUNTRY_INFO!B80)","v":"Wesstern Equatoria"},{"$f":"IF(COUNTRY_INFO!C80=0,\" \",COUNTRY_INFO!C80)","v":"YAMBIO"},{"$f":"IF(COUNTRY_INFO!$AA80=\"MDA3 (IVM)\", COUNTRY_INFO!$AA80, \" \")","v":" "},null,null,null,0,null,null,0,null,null,0,0,0,0," "," "," "]
[{"$f":"IF(COUNTRY_INFO!A81=0,\" \",COUNTRY_INFO!A81)","v":"South Sudan"},{"$f":"IF(COUNTRY_INFO!B81=0,\" \",COUNTRY_INFO!B81)","v":"Wesstern Equatoria"},{"$f":"IF(COUNTRY_INFO!C81=0,\" \",COUNTRY_INFO!C81)","v":"IBBA"},{"$f":"IF(COUNTRY_INFO!$AA81=\"MDA3 (IVM)\", COUNTRY_INFO!$AA81, \" \")","v":" "},null,null,null,0,null,null,0,null,null,0,0,0,0," "," "," "]
[{"$f":"IF(COUNTRY_INFO!A82=0,\" \",COUNTRY_INFO!A82)","v":"South Sudan"},{"$f":"IF(COUNTRY_INFO!B82=0,\" \",COUNTRY_INFO!B82)","v":"Wesstern Equatoria"},{"$f":"IF(COUNTRY_INFO!C82=0,\" \",COUNTRY_INFO!C82)","v":"MARIDI"},{"$f":"IF(COUNTRY_INFO!$AA82=\"MDA3 (IVM)\", COUNTRY_INFO!$AA82, \" \")","v":" "},null,null,null,0,null,null,0,null,null,0,0,0,0," "," "," "]
[{"$f":"IF(COUNTRY_INFO!A83=0,\" \",COUNTRY_INFO!A83)","v":"South Sudan"},{"$f":"IF(COUNTRY_INFO!B83=0,\" \",COUNTRY_INFO!B83)","v":"Wesstern Equatoria"},{"$f":"IF(COUNTRY_INFO!C83=0,\" \",COUNTRY_INFO!C83)","v":"MVOLO"},{"$f":"IF(COUNTRY_INFO!$AA83=\"MDA3 (IVM)\", COUNTRY_INFO!$AA83, \" \")","v":" "},null,null,null,0,null,null,0,null,null,0,0,0,0," "," "," "]
[{"$f":"IF(COUNTRY_INFO!A84=0,\" \",COUNTRY_INFO!A84)","v":"South Sudan"},{"$f":"IF(COUNTRY_INFO!B84=0,\" \",COUNTRY_INFO!B84)","v":"Wesstern Equatoria"},{"$f":"IF(COUNTRY_INFO!C84=0,\" \",COUNTRY_INFO!C84)","v":"MUNDRI WEST"},{"$f":"IF(COUNTRY_INFO!$AA84=\"MDA3 (IVM)\", COUNTRY_INFO!$AA84, \" \")","v":" "},null,null,null,0,null,null,0,null,null,0,0,0,0," "," "," "]
[{"$f":"IF(COUNTRY_INFO!A85=0,\" \",COUNTRY_INFO!A85)","v":"South Sudan"},{"$f":"IF(COUNTRY_INFO!B85=0,\" \",COUNTRY_INFO!B85)","v":"Wesstern Equatoria"},{"$f":"IF(COUNTRY_INFO!C85=0,\" \",COUNTRY_INFO!C85)","v":"MUNDRI EAST"},{"$f":"IF(COUNTRY_INFO!$AA85=\"MDA3 (IVM)\", COUNTRY_INFO!$AA85, \" \")","v":" "},null,null,null,0,null,null,0,null,null,0,0,0,0," "," "," "]
[{"$f":"IF(COUNTRY_INFO!A86=0,\" \",COUNTRY_INFO!A86)","v":"South Sudan"},{"$f":"IF(COUNTRY_INFO!B86=0,\" \",COUNTRY_INFO!B86)","v":"Western Bahr El Ghazal"},{"$f":"IF(COUNTRY_INFO!C86=0,\" \",COUNTRY_INFO!C86)","v":"RAGA"},{"$f":"IF(COUNTRY_INFO!$AA86=\"MDA3 (IVM)\", COUNTRY_INFO!$AA86, \" \")","v":"MDA3 (IVM)"},"June 2022",27313,48887,76200,16417,15808,32225,null,null,0,16417,15808,32225,60.106908798008277,32.335794792071511,42.290026246719158]
[{"$f":"IF(COUNTRY_INFO!A87=0,\" \",COUNTRY_INFO!A87)","v":"South Sudan"},{"$f":"IF(COUNTRY_INFO!B87=0,\" \",COUNTRY_INFO!B87)","v":"Western Bahr El Ghazal"},{"$f":"IF(COUNTRY_INFO!C87=0,\" \",COUNTRY_INFO!C87)","v":"JUR RIVER"},{"$f":"IF(COUNTRY_INFO!$AA87=\"MDA3 (IVM)\", COUNTRY_INFO!$AA87, \" \")","v":" "},null,null,null,0,null,null,0,null,null,0,0,0,0," "," "," "]
[{"$f":"IF(COUNTRY_INFO!A88=0,\" \",COUNTRY_INFO!A88)","v":"South Sudan"},{"$f":"IF(COUNTRY_INFO!B88=0,\" \",COUNTRY_INFO!B88)","v":"Western Bahr El Ghazal"},{"$f":"IF(COUNTRY_INFO!C88=0,\" \",COUNTRY_INFO!C88)","v":"WAU"},{"$f":"IF(COUNTRY_INFO!$AA88=\"MDA3 (IVM)\", COUNTRY_INFO!$AA88, \" \")","v":"MDA3 (IVM)"},"June 2022",76074,136164,212238,90647,106951,197598,null,null,0,90647,106951,197598,119.15634776664828,78.545724273669975,93.102083510021771]
[{"$f":"IF(COUNTRY_INFO!A89=0,\" \",COUNTRY_INFO!A89)","v":"South Sudan"},{"$f":"IF(COUNTRY_INFO!B89=0,\" \",COUNTRY_INFO!B89)","v":"Upper Nile"},{"$f":"IF(COUNTRY_INFO!C89=0,\" \",COUNTRY_INFO!C89)","v":"MABAN Refugee"},{"$f":"IF(COUNTRY_INFO!$AA89=\"MDA3 (IVM)\", COUNTRY_INFO!$AA89, \" \")","v":" "},null,null,null,0,null,null,0,null,null,0,0,0,0," "," "," "]

{"sheet":"MDA4","index":4,"n_rows":89,"n_cols":29,"rows_kept":89,"cut":false,"hidden":false,"merged":[[5,17,5,20],[5,21,5,24],[5,13,5,16],[3,0,3,2],[5,0,5,2],[5,3,6,3],[5,4,6,4],[5,9,5,12],[5,5,5,8]]}
["MDA 4 - Albendazole (ALB) or 2 x Albendazole (ALB)"]
["Administrative structure, population requiring PC by age group, population treated by age group and coverage"]
[]
["TOTAL",null,null,null,null,{"$f":"SUBTOTAL(9,F$10:F$1010)","v":0},226973,406259,633232,0,201127,232966,434093,0,0,0,0,0,201127,232966,434093,{"$f":"IF(F4<>0, IF(R4/F4*100=0, \"-\", R4/F4*100), \" \")","v":" "},{"$f":"IF(G4<>0, IF(S4/G4*100=0, \"-\", S4/G4*100), \" \")","v":88.612742484788939},{"$f":"IF(H4<>0, IF(T4/H4*100=0, \"-\", T4/H4*100), \" \")","v":57.344206528347677},{"$f":"IF(I4<>0, IF(U4/I4*100=0, \"-\", U4/I4*100), \" \")","v":68.551968314930392}]
[]
["Country administrative structure",null,null,"PC implemented","Date","Population targeted for MDA 4",null,null,null,"Population treated - 1st round",null,null,null,"Population treated - 2nd round",null,null,null,"Population treated",null,null,null,"Programme coverage (%)"]
["Country","Province/State","District",null,null,"PreSAC","SAC","Adults","Total","PreSAC","SAC","Adults","Total","PreSAC","SAC","Adults","Total","PreSAC","SAC","Adults","Total","PreSAC","SAC","Adults","Total"]
[]
[]
[{"$f":"IF(COUNTRY_INFO!A10=0,\" \",COUNTRY_INFO!A10)","v":"South Sudan"},{"$f":"IF(COUNTRY_INFO!B10=0,\" \",COUNTRY_INFO!B10)","v":"Central Equatoria"},{"$f":"IF(COUNTRY_INFO!C10=0,\" \",COUNTRY_INFO!C10)","v":"TEREKEKA"},{"$f":"IF(COUNTRY_INFO!$AA10=\"MDA4 (ALB/2*ALB)\", COUNTRY_INFO!$AA10, \" \")","v":" "},null,null,null,null,{"$f":"SUM(G10:H10)","v":0},null,null,null,{"$f":"SUM(J10:L10)","v":0},null,null,null,{"$f":"SUM(N10:P10)","v":0},{"$f":"MAX(J10,N10)","v":0},{"$f":"MAX(K10,O10)","v":0},{"$f":"MAX(L10,P10)","v":0},{"$f":"SUM(R10:T10)","v":0},{"$f":"IF(F10<>0, IF(R10/F10*100=0, \"-\", R10/F10*100), \" \")","v":" "},{"$f":"IF(G10<>0, IF(S10/G10*100=0, \"-\", S10/G10*100), \" \")","v":" "},{"$f":"IF(H10<>0, IF(T10/H10*100=0, \"-\", T10/H10*100), \" \")","v":" "},{"$f":"IF(I10<>0, IF(U10/I10*100=0, \"-\",U10/I10*100), \" \")","v":" "}]
[{"$f":"IF(COUNTRY_INFO!A11=0,\" \",COUNTRY_INFO!A11)","v":"South Sudan"},{"$f":"IF(COUNTRY_INFO!B11=0,\" \",COUNTRY_INFO!B11)","v":"Central Equatoria"},{"$f":"IF(COUNTRY_INFO!C11=0,\" \",COUNTRY_INFO!C11)","v":"JUBA"},{"$f":"IF(COUNTRY_INFO!$AA11=\"MDA4 (ALB/2*ALB)\", COUNTRY_INFO!$AA11, \" \")","v":" "},null,null,null,null,{"$f":"SUM(G11:H11)","v":0},null,null,null,0,null,null,null,0,0,0,0,0," "," "," "," "]
[{"$f":"IF(COUNTRY_INFO!A12=0,\" \",COUNTRY_INFO!A12)","v":"South Sudan"},{"$f":"IF(COUNTRY_INFO!B12=0,\" \",COUNTRY_INFO!B12)","v":"Central Equatoria"},{"$f":"IF(COUNTRY_INFO!C12=0,\" \",COUNTRY_INFO!C12)","v":"LAINYA"},{"$f":"IF(COUNTRY_INFO!$AA12=\"MDA4 (ALB/2*ALB)\", COUNTRY_INFO!$AA12, \" \")","v":" "},null,null,null,null,0,null,null,null,0,null,null,null,0,0,0,0,0," "," "," "," "]
[{"$f":"IF(COUNTRY_INFO!A13=0,\" \",COUNTRY_INFO!A13)","v":"South Sudan"},{"$f":"IF(COUNTRY_INFO!B13=0,\" \",COUNTRY_INFO!B13)","v":"Central Equatoria"},{"$f":"IF(COUNTRY_INFO!C13=0,\" \",COUNTRY_INFO!C13)","v":"YEI"},{"$f":"IF(COUNTRY_INFO!$AA13=\"MDA4 (ALB/2*ALB)\", COUNTRY_INFO!$AA13, \" \")","v":" "},null,null,null,null,0,null,null,null,0,null,null,null,0,0,0,0,0," "," "," "," "]
[{"$f":"IF(COUNTRY_INFO!A14=0,\" \",COUNTRY_INFO!A14)","v":"South Sudan"},{"$f":"IF(COUNTRY_INFO!B14=0,\" \",COUNTRY_INFO!B14)","v":"Central Equatoria"},{"$f":"IF(COUNTRY_INFO!C14=0,\" \",COUNTRY_INFO!C14)","v":"MOROBO"},{"$f":"IF(COUNTRY_INFO!$AA14=\"MDA4 (ALB/2*ALB)\", COUNTRY_INFO!$AA14, \" \")","v":" "},null,null,null,null,0,null,null,null,0,null,null,null,0,0,0,0,0," "," "," "," "]
[{"$f":"IF(COUNTRY_INFO!A15=0,\" \",COUNTRY_INFO!A15)","v":"South Sudan"},{"$f":"IF(COUNTRY_INFO!B15=0,\" \",COUNTRY_INFO!B15)","v":"Central Equatoria"},{"$f":"IF(COUNTRY_INFO!C15=0,\" \",COUNTRY_INFO!C15)","v":"KAJO KEJI"},{"$f":"IF(COUNTRY_INFO!$AA15=\"MDA4 (ALB/2*ALB)\", COUNTRY_INFO!$AA15, \" \")","v":" "},null,null,null,null,0,null,null,null,0,null,null,null,0,0,0,0,0," "," "," "," "]
[{"$f":"IF(COUNTRY_INFO!A16=0,\" \",COUNTRY_INFO!A16)","v":"South Sudan"},{"$f":"IF(COUNTRY_INFO!B16=0,\" \",COUNTRY_INFO!B16)","v":"Eastern Equatoria"},{"$f":"IF(COUNTRY_INFO!C16=0,\" \",COUNTRY_INFO!C16)","v":"TORIT"},{"$f":"IF(COUNTRY_INFO!$AA16=\"MDA4 (ALB/2*ALB)\", COUNTRY_INFO!$AA16, \" \")","v":" "},null,null,null,null,0,null,null,null,0,null,null,null,0,0,0,0,0," "," "," "," "]
[{"$f":"IF(COUNTRY_INFO!A17=0,\" \",COUNTRY_INFO!A17)","v":"South Sudan"},{"$f":"IF(COUNTRY_INFO!B17=0,\" \",COUNTRY_INFO!B17)","v":"Eastern Equatoria"},{"$f":"IF(COUNTRY_INFO!C17=0,\" \",COUNTRY_INFO!C17)","v":"LOPA/LAFON"},{"$f":"IF(COUNTRY_INFO!$AA17=\"MDA4 (ALB/2*ALB)\", COUNTRY_INFO!$AA17, \" \")","v":" "},null,null,null,null,0,null,null,null,0,null,null,null,0,0,0,0,0," "," "," "," "]
[{"$f":"IF(COUNTRY_INFO!A18=0,\" \",COUNTRY_INFO!A18)","v":"South Sudan"},{"$f":"IF(COUNTRY_INFO!B18=0,\" \",COUNTRY_INFO!B18)","v":"Eastern Equatoria"},{"$f":"IF(COUNTRY_INFO!C18=0,\" \",COUNTRY_INFO!C18)","v":"KAPOETA NORTH"},{"$f":"IF(COUNTRY_INFO!$AA18=\"MDA4 (ALB/2*ALB)\", COUNTRY_INFO!$AA18, \" \")","v":" "},null,null,null,null,0,null,null,null,0,null,null,null,0,0,0,0,0," "," "," "," "]
[{"$f":"IF(COUNTRY_INFO!A19=0,\" \",COUNTRY_INFO!A19)","v":"South Sudan"},{"$f":"IF(COUNTRY_INFO!B19=0,\" \",COUNTRY_INFO!B19)","v":"Eastern Equatoria"},{"$f":"IF(COUNTRY_INFO!C19=0,\" \",COUNTRY_INFO!C19)","v":"KAPOETA EAST"},{"$f":"IF(COUNTRY_INFO!$AA19=\"MDA4 (ALB/2*ALB)\", COUNTRY_INFO!$AA19, \" \")","v":"MDA4 (ALB/2*ALB)"},"July 2022",null,91165,163176,254341,null,67069,69113,136182,null,null,null,0,0,67069,69113,136182," ",73.56880381725442,42.354880619698974,53.543077993717091,null,null,91165,163176]
[{"$f":"IF(COUNTRY_INFO!A20=0,\" \",COUNTRY_INFO!A20)","v":"South Sudan"},{"$f":"IF(COUNTRY_INFO!B20=0,\" \",COUNTRY_INFO!B20)","v":"Eastern Equatoria"},{"$f":"IF(COUNTRY_INFO!C20=0,\" \",COUNTRY_INFO!C20)","v":"KAPOETA SOUTH"},{"$f":"IF(COUNTRY_INFO!$AA20=\"MDA4 (ALB/2*ALB)\", COUNTRY_INFO!$AA20, \" \")","v":" "},null,null,null,null,0,null,null,null,0,null,null,null,0,0,0,0,0," "," "," "," "]
[{"$f":"IF(COUNTRY_INFO!A21=0,\" \",COUNTRY_INFO!A21)","v":"South Sudan"},{"$f":"IF(COUNTRY_INFO!B21=0,\" \",COUNTRY_INFO!B21)","v":"Eastern Equatoria"},{"$f":"IF(COUNTRY_INFO!C21=0,\" \",COUNTRY_INFO!C21)","v":"BUDI"},{"$f":"IF(COUNTRY_INFO!$AA21=\"MDA4 (ALB/2*ALB)\", COUNTRY_INFO!$AA21, \" \")","v":" "},null,null,null,null,0,null,null,null,0,null,null,null,0,0,0,0,0," "," "," "," "]
[{"$f":"IF(COUNTRY_INFO!A22=0,\" \",COUNTRY_INFO!A22)","v":"South Sudan"},{"$f":"IF(COUNTRY_INFO!B22=0,\" \",COUNTRY_INFO!B22)","v":"Eastern Equatoria"},{"$f":"IF(COUNTRY_INFO!C22=0,\" \",COUNTRY_INFO!C22)","v":"IKOTOS"},{"$f":"IF(COUNTRY_INFO!$AA22=\"MDA4 (ALB/2*ALB)\", COUNTRY_INFO!$AA22, \" \")","v":" "},null,null,null,null,0,null,null,null,0,null,null,null,0,0,0,0,0," "," "," "," "]
[{"$f":"IF(COUNTRY_INFO!A23=0,\" \",COUNTRY_INFO!A23)","v":"South Sudan"},{"$f":"IF(COUNTRY_INFO!B23=0,\" \",COUNTRY_INFO!B23)","v":"Eastern Equatoria"},{"$f":"IF(COUNTRY_INFO!C23=0,\" \",COUNTRY_INFO!C23)","v":"MAGWI"},{"$f":"IF(COUNTRY_INFO!$AA23=\"MDA4 (ALB/2*ALB)\", COUNTRY_INFO!$AA23, \" \")","v":" "},null,null,null,null,0,null,null,null,0,null,null,null,0,0,0,0,0," "," "," "," "]
[{"$f":"IF(COUNTRY_INFO!A24=0,\" \",COUNTRY_INFO!A24)","v":"South Sudan"},{"$f":"IF(COUNTRY_INFO!B24=0,\" \",COUNTRY_INFO!B24)","v":"Jonglei"},{"$f":"IF(COUNTRY_INFO!C24=0,\" \",COUNTRY_INFO!C24)","v":"FANGAK"},{"$f":"IF(COUNTRY_INFO!$AA24=\"MDA4 (ALB/2*ALB)\", COUNTRY_INFO!$AA24, \" \")","v":"MDA4 (ALB/2*ALB)"},"December 2022",null,53207,95235,148442,null,38107,52591,90698,null,null,null,0,0,38107,52591,90698," ",71.620275527656148,55.222344726203602,61.099958232845154,null,null,53207,95235]
[{"$f":"IF(COUNTRY_INFO!A25=0,\" \",COUNTRY_INFO!A25)","v":"South Sudan"},{"$f":"IF(COUNTRY_INFO!B25=0,\" \",COUNTRY_INFO!B25)","v":"Jonglei"},{"$f":"IF(COUNTRY_INFO!C25=0,\" \",COUNTRY_INFO!C25)","v":"KHORFLUS"},{"$f":"IF(COUNTRY_INFO!$AA25=\"MDA4 (ALB/2*ALB)\", COUNTRY_INFO!$AA25, \" \")","v":" "},null,null,null,null,0,null,null,null,0,null,null,null,0,0,0,0,0," "," "," "," "]
[{"$f":"IF(COUNTRY_INFO!A26=0,\" \",COUNTRY_INFO!A26)","v":"South Sudan"},{"$f":"IF(COUNTRY_INFO!B26=0,\" \",COUNTRY_INFO!B26)","v":"Jonglei"},{"$f":"IF(COUNTRY_INFO!C26=0,\" \",COUNTRY_INFO!C26)","v":"AYOD"},{"$f":"IF(COUNTRY_INFO!$AA26=\"MDA4 (ALB/2*ALB)\", COUNTRY_INFO!$AA26, \" \")","v":" "},null,null,null,null,0,null,null,null,0,null,null,null,0,0,0,0,0," "," "," "," "]
[{"$f":"IF(COUNTRY_INFO!A27=0,\" \",COUNTRY_INFO!A27)","v":"South Sudan"},{"$f":"IF(COUNTRY_INFO!B27=0,\" \",COUNTRY_INFO!B27)","v":"Jonglei"},{"$f":"IF(COUNTRY_INFO!C27=0,\" \",COUNTRY_INFO!C27)","v":"DUK"},{"$f":"IF(COUNTRY_INFO!$AA27=\"MDA4 (ALB/2*ALB)\", COUNTRY_INFO!$AA27, \" \")","v":" "},null,null,null,null,0,null,null,null,0,null,null,null,0,0,0,0,0," "," "," "," "]
[{"$f":"IF(COUNTRY_INFO!A28=0,\" \",COUNTRY_INFO!A28)","v":"South Sudan"},{"$f":"IF(COUNTRY_INFO!B28=0,\" \",COUNTRY_INFO!B28)","v":"Jonglei"},{"$f":"IF(COUNTRY_INFO!C28=0,\" \",COUNTRY_INFO!C28)","v":"UROR"},{"$f":"IF(COUNTRY_INFO!$AA28=\"MDA4 (ALB/2*ALB)\", COUNTRY_INFO!$AA28, \" \")","v":" "},null,null,null,null,0,null,null,null,0,null,null,null,0,0,0,0,0," "," "," "," "]
[{"$f":"IF(COUNTRY_INFO!A29=0,\" \",COUNTRY_INFO!A29)","v":"South Sudan"},{"$f":"IF(COUNTRY_INFO!B29=0,\" \",COUNTRY_INFO!B29)","v":"Jonglei"},{"$f":"IF(COUNTRY_INFO!C29=0,\" \",COUNTRY_INFO!C29)","v":"NYIROL"},{"$f":"IF(COUNTRY_INFO!$AA29=\"MDA4 (ALB/2*ALB)\", COUNTRY_INFO!$AA29, \" \")","v":" "},null,null,null,null,0,null,null,null,0,null,null,null,0,0,0,0,0," "," "," "," "]
[{"$f":"IF(COUNTRY_INFO!A30=0,\" \",COUNTRY_INFO!A30)","v":"South Sudan"},{"$f":"IF(COUNTRY_INFO!B30=0,\" \",COUNTRY_INFO!B30)","v":"Jonglei"},{"$f":"IF(COUNTRY_INFO!C30=0,\" \",COUNTRY_INFO!C30)","v":"AKOBO"},{"$f":"IF(COUNTRY_INFO!$AA30=\"MDA4 (ALB/2*ALB)\", COUNTRY_INFO!$AA30, \" \")","v":" "},null,null,null,null,0,null,null,null,0,null,null,null,0,0,0,0,0," "," "," "," "]
[{"$f":"IF(COUNTRY_INFO!A31=0,\" \",COUNTRY_INFO!A31)","v":"South Sudan"},{"$f":"IF(COUNTRY_INFO!B31=0,\" \",COUNTRY_INFO!B31)","v":"Jonglei"},{"$f":"IF(COUNTRY_INFO!C31=0,\" \",COUNTRY_INFO!C31)","v":"POCHALA"},{"$f":"IF(COUNTRY_INFO!$AA31=\"MDA4 (ALB/2*ALB)\", COUNTRY_INFO!$AA31, \" \")","v":" "},null,null,null,null,0,null,null,null,0,null,null,null,0,0,0,0,0," "," "," "," "]
[{"$f":"IF(COUNTRY_INFO!A32=0,\" \",COUNTRY_INFO!A32)","v":"South Sudan"},{"$f":"IF(COUNTRY_INFO!B32=0,\" \",COUNTRY_INFO!B32)","v":"Jonglei"},{"$f":"IF(COUNTRY_INFO!C32=0,\" \",COUNTRY_INFO!C32)","v":"PIBOR"},{"$f":"IF(COUNTRY_INFO!$AA32=\"MDA4 (ALB/2*ALB)\", COUNTRY_INFO!$AA32, \" \")","v":" "},null,null,null,null,0,null,null,null,0,null,null,null,0,0,0,0,0," "," "," "," "]
[{"$f":"IF(COUNTRY_INFO!A33=0,\" \",COUNTRY_INFO!A33)","v":"South Sudan"},{"$f":"IF(COUNTRY_INFO!B33=0,\" \",COUNTRY_INFO!B33)","v":"Jonglei"},{"$f":"IF(COUNTRY_INFO!C33=0,\" \",COUNTRY_INFO!C33)","v":"TWIC EAST"},{"$f":"IF(COUNTRY_INFO!$AA33=\"MDA4 (ALB/2*ALB)\", COUNTRY_INFO!$AA33, \" \")","v":" "},null,null,null,null,0,null,null,null,0,null,null,null,0,0,0,0,0," "," "," "," "]
[{"$f":"IF(COUNTRY_INFO!A34=0,\" \",COUNTRY_INFO!A34)","v":"South Sudan"},{"$f":"IF(COUNTRY_INFO!B34=0,\" \",COUNTRY_INFO!B34)","v":"Jonglei"},{"$f":"IF(COUNTRY_INFO!C34=0,\" \",COUNTRY_INFO!C34)","v":"BOR SOUTH"},{"$f":"IF(COUNTRY_INFO!$AA34=\"MDA4 (ALB/2*ALB)\", COUNTRY_INFO!$AA34, \" \")","v":" "},null,null,null,null,0,null,null,null,0,null,null,null,0,0,0,0,0," "," "," "," "]
[{"$f":"IF(COUNTRY_INFO!A35=0,\" \",COUNTRY_INFO!A35)","v":"South Sudan"},{"$f":"IF(COUNTRY_INFO!B35=0,\" \",COUNTRY_INFO!B35)","v":"Lakes"},{"$f":"IF(COUNTRY_INFO!C35=0,\" \",COUNTRY_INFO!C35)","v":"CUEBIT"},{"$f":"IF(COUNTRY_INFO!$AA35=\"MDA4 (ALB/2*ALB)\", COUNTRY_INFO!$AA35, \" \")","v":" "},null,null,null,null,0,null,null,null,0,null,null,null,0,0,0,0,0," "," "," "," "]
[{"$f":"IF(COUNTRY_INFO!A36=0,\" \",COUNTRY_INFO!A36)","v":"South Sudan"},{"$f":"IF(COUNTRY_INFO!B36=0,\" \",COUNTRY_INFO!B36)","v":"Lakes"},{"$f":"IF(COUNTRY_INFO!C36=0,\" \",COUNTRY_INFO!C36)","v":"RUMBEK NORTH"},{"$f":"IF(COUNTRY_INFO!$AA36=\"MDA4 (ALB/2*ALB)\", COUNTRY_INFO!$AA36, \" \")","v":" "},null,null,null,null,0,null,null,null,0,null,null,null,0,0,0,0,0," "," "," "," "]
[{"$f":"IF(COUNTRY_INFO!A37=0,\" \",COUNTRY_INFO!A37)","v":"South Sudan"},{"$f":"IF(COUNTRY_INFO!B37=0,\" \",COUNTRY_INFO!B37)","v":"Lakes"},{"$f":"IF(COUNTRY_INFO!C37=0,\" \",COUNTRY_INFO!C37)","v":"RUMBEK CENTRE"},{"$f":"IF(COUNTRY_INFO!$AA37=\"MDA4 (ALB/2*ALB)\", COUNTRY_INFO!$AA37, \" \")","v":" "},null,null,null,null,0,null,null,null,0,null,null,null,0,0,0,0,0," "," "," "," "]
[{"$f":"IF(COUNTRY_INFO!A38=0,\" \",COUNTRY_INFO!A38)","v":"South Sudan"},{"$f":"IF(COUNTRY_INFO!B38=0,\" \",COUNTRY_INFO!B38)","v":"Lakes"},{"$f":"IF(COUNTRY_INFO!C38=0,\" \",COUNTRY_INFO!C38)","v":"WULU"},{"$f":"IF(COUNTRY_INFO!$AA38=\"MDA4 (ALB/2*ALB)\", COUNTRY_INFO!$AA38, \" \")","v":" "},null,null,null,null,0,null,null,null,0,null,null,null,0,0,0,0,0," "," "," "," "]
[{"$f":"IF(COUNTRY_INFO!A39=0,\" \",COUNTRY_INFO!A39)","v":"South Sudan"},{"$f":"IF(COUNTRY_INFO!B39=0,\" \",COUNTRY_INFO!B39)","v":"Lakes"},{"$f":"IF(COUNTRY_INFO!C39=0,\" \",COUNTRY_INFO!C39)","v":"RUMBEK EAST"},{"$f":"IF(COUNTRY_INFO!$AA39=\"MDA4 (ALB/2*ALB)\", COUNTRY_INFO!$AA39, \" \")","v":" "},null,null,null,null,0,null,null,null,0,null,null,null,0,0,0,0,0," "," "," "," "]
[{"$f":"IF(COUNTRY_INFO!A40=0,\" \",COUNTRY_INFO!A40)","v":"South Sudan"},{"$f":"IF(COUNTRY_INFO!B40=0,\" \",COUNTRY_INFO!B40)","v":"Lakes"},{"$f":"IF(COUNTRY_INFO!C40=0,\" \",COUNTRY_INFO!C40)","v":"YIROL WEST"},{"$f":"IF(COUNTRY_INFO!$AA40=\"MDA4 (ALB/2*ALB)\", COUNTRY_INFO!$AA40, \" \")","v":" "},null,null,null,null,0,null,null,null,0,null,null,null,0,0,0,0,0," "," "," "," "]
[{"$f":"IF(COUNTRY_INFO!A41=0,\" \",COUNTRY_INFO!A41)","v":"South Sudan"},{"$f":"IF(COUNTRY_INFO!B41=0,\" \",COUNTRY_INFO!B41)","v":"Lakes"},{"$f":"IF(COUNTRY_INFO!C41=0,\" \",COUNTRY_INFO!C41)","v":"YIROL EAST"},{"$f":"IF(COUNTRY_INFO!$AA41=\"MDA4 (ALB/2*ALB)\", COUNTRY_INFO!$AA41, \" \")","v":" "},null,null,null,null,0,null,null,null,0,null,null,null,0,0,0,0,0," "," "," "," "]
[{"$f":"IF(COUNTRY_INFO!A42=0,\" \",COUNTRY_INFO!A42)","v":"South Sudan"},{"$f":"IF(COUNTRY_INFO!B42=0,\" \",COUNTRY_INFO!B42)","v":"Lakes"},{"$f":"IF(COUNTRY_INFO!C42=0,\" \",COUNTRY_INFO!C42)","v":"AWERIAL"},{"$f":"IF(COUNTRY_INFO!$AA42=\"MDA4 (ALB/2*ALB)\", COUNTRY_INFO!$AA42, \" \")","v":" "},null,null,null,null,0,null,null,null,{"$f":"SUM(J42:L42)","v":0},null,null,null,{"$f":"SUM(N42:P42)","v":0},{"$f":"MAX(J42,N42)","v":0},{"$f":"MAX(K42,O42)","v":0},{"$f":"MAX(L42,P42)","v":0},{"$f":"SUM(R42:T42)","v":0},{"$f":"IF(F42<>0, IF(R42/F42*100=0, \"-\", R42/F42*100), \" \")","v":" "},{"$f":"IF(G42<>0, IF(S42/G42*100=0, \"-\", S42/G42*100), \" \")","v":" "},{"$f":"IF(H42<>0, IF(T42/H42*100=0, \"-\", T42/H42*100), \" \")","v":" "},{"$f":"IF(I42<>0, IF(U42/I42*100=0, \"-\",U42/I42*100), \" \")","v":" "}]
[{"$f":"IF(COUNTRY_INFO!A43=0,\" \",COUNTRY_INFO!A43)","v":"South Sudan"},{"$f":"IF(COUNTRY_INFO!B43=0,\" \",COUNTRY_INFO!B43)","v":"Northern Bahr El Ghazal"},{"$f":"IF(COUNTRY_INFO!C43=0,\" \",COUNTRY_INFO!C43)","v":"AWIEL NORTH"},{"$f":"IF(COUNTRY_INFO!$AA43=\"MDA4 (ALB/2*ALB)\", COUNTRY_INFO!$AA43, \" \")","v":" "},null,null,null,null,0,null,null,null,0,null,null,null,0,0,0,0,0," "," "," "," "]
[{"$f":"IF(COUNTRY_INFO!A44=0,\" \",COUNTRY_INFO!A44)","v":"South Sudan"},{"$f":"IF(COUNTRY_INFO!B44=0,\" \",COUNTRY_INFO!B44)","v":"Northern Bahr El Ghazal"},{"$f":"IF(COUNTRY_INFO!C44=0,\" \",COUNTRY_INFO!C44)","v":"AWIEL EAST"},{"$f":"IF(COUNTRY_INFO!$AA44=\"MDA4 (ALB/2*ALB)\", COUNTRY_INFO!$AA44, \" \")","v":" "},null,null,null,null,0,null,null,null,0,null,null,null,0,0,0,0,0," "," "," "," "]
[{"$f":"IF(COUNTRY_INFO!A45=0,\" \",COUNTRY_INFO!A45)","v":"South Sudan"},{"$f":"IF(COUNTRY_INFO!B45=0,\" \",COUNTRY_INFO!B45)","v":"Northern Bahr El Ghazal"},{"$f":"IF(COUNTRY_INFO!C45=0,\" \",COUNTRY_INFO!C45)","v":"AWIEL SOUTH"},{"$f":"IF(COUNTRY_INFO!$AA45=\"MDA4 (ALB/2*ALB)\", COUNTRY_INFO!$AA45, \" \")","v":" "},null,null,null,null,0,null,null,null,0,null,null,null,0,0,0,0,0," "," "," "," "]
[{"$f":"IF(COUNTRY_INFO!A46=0,\" \",COUNTRY_INFO!A46)","v":"South Sudan"},{"$f":"IF(COUNTRY_INFO!B46=0,\" \",COUNTRY_INFO!B46)","v":"Northern Bahr El Ghazal"},{"$f":"IF(COUNTRY_INFO!C46=0,\" \",COUNTRY_INFO!C46)","v":"AWIEL WEST"},{"$f":"IF(COUNTRY_INFO!$AA46=\"MDA4 (ALB/2*ALB)\", COUNTRY_INFO!$AA46, \" \")","v":" "},null,null,null,null,0,null,null,null,0,null,null,null,0,0,0,0,0," "," "," "," "]
[{"$f":"IF(COUNTRY_INFO!A47=0,\" \",COUNTRY_INFO!A47)","v":"South Sudan"},{"$f":"IF(COUNTRY_INFO!B47=0,\" \",COUNTRY_INFO!B47)","v":"Northern Bahr El Ghazal"},{"$f":"IF(COUNTRY_INFO!C47=0,\" \",COUNTRY_INFO!C47)","v":"AWIEL CENTRE"},{"$f":"IF(COUNTRY_INFO!$AA47=\"MDA4 (ALB/2*ALB)\", COUNTRY_INFO!$AA47, \" \")","v":" "},null,null,null,null,0,null,null,null,0,null,null,null,0,0,0,0,0," "," "," "," "]
[{"$f":"IF(COUNTRY_INFO!A48=0,\" \",COUNTRY_INFO!A48)","v":"South Sudan"},{"$f":"IF(COUNTRY_INFO!B48=0,\" \",COUNTRY_INFO!B48)","v":"Unity"},{"$f":"IF(COUNTRY_INFO!C48=0,\" \",COUNTRY_INFO!C48)","v":"PARIANG"},{"$f":"IF(COUNTRY_INFO!$AA48=\"MDA4 (ALB/2*ALB)\", COUNTRY_INFO!$AA48, \" \")","v":" "},null,null,null,null,0,null,null,null,0,null,null,null,0,0,0,0,0," "," "," "," "]
[{"$f":"IF(COUNTRY_INFO!A49=0,\" \",COUNTRY_INFO!A49)","v":"South Sudan"},{"$f":"IF(COUNTRY_INFO!B49=0,\" \",COUNTRY_INFO!B49)","v":"Unity"},{"$f":"IF(COUNTRY_INFO!C49=0,\" \",COUNTRY_INFO!C49)","v":"ABIEMNHOM"},{"$f":"IF(COUNTRY_INFO!$AA49=\"MDA4 (ALB/2*ALB)\", COUNTRY_INFO!$AA49, \" \")","v":" "},null,null,null,null,0,null,null,null,0,null,null,null,0,0,0,0,0," "," "," "," "]
[{"$f":"IF(COUNTRY_INFO!A50=0,\" \",COUNTRY_INFO!A50)","v":"South Sudan"},{"$f":"IF(COUNTRY_INFO!B50=0,\" \",COUNTRY_INFO!B50)","v":"Unity"},{"$f":"IF(COUNTRY_INFO!C50=0,\" \",COUNTRY_INFO!C50)","v":"MAYOM"},{"$f":"IF(COUNTRY_INFO!$AA50=\"MDA4 (ALB/2*ALB)\", COUNTRY_INFO!$AA50, \" \")","v":" "},null,null,null,null,0,null,null,null,0,null,null,null,0,0,0,0,0," "," "," "," "]
[{"$f":"IF(COUNTRY_INFO!A51=0,\" \",COUNTRY_INFO!A51)","v":"South Sudan"},{"$f":"IF(COUNTRY_INFO!B51=0,\" \",COUNTRY_INFO!B51)","v":"Unity"},{"$f":"IF(COUNTRY_INFO!C51=0,\" \",COUNTRY_INFO!C51)","v":"RUBKONA"},{"$f":"IF(COUNTRY_INFO!$AA51=\"MDA4 (ALB/2*ALB)\", COUNTRY_INFO!$AA51, \" \")","v":"MDA4 (ALB/2*ALB)"},"October 2022",null,53911,96496,150407,null,68618,72412,141030,null,null,null,0,0,68618,72412,141030," ",127.28014690879412,75.041452495440225,93.765582718889419,null,null,53911,96496]
[{"$f":"IF(COUNTRY_INFO!A52=0,\" \",COUNTRY_INFO!A52)","v":"South Sudan"},{"$f":"IF(COUNTRY_INFO!B52=0,\" \",COUNTRY_INFO!B52)","v":"Unity"},{"$f":"IF(COUNTRY_INFO!C52=0,\" \",COUNTRY_INFO!C52)","v":"GUIT"},{"$f":"IF(COUNTRY_INFO!$AA52=\"MDA4 (ALB/2*ALB)\", COUNTRY_INFO!$AA52, \" \")","v":" "},null,null,null,null,0,null,null,null,0,null,null,null,0,0,0,0,0," "," "," "," "]
[{"$f":"IF(COUNTRY_INFO!A53=0,\" \",COUNTRY_INFO!A53)","v":"South Sudan"},{"$f":"IF(COUNTRY_INFO!B53=0,\" \",COUNTRY_INFO!B53)","v":"Unity"},{"$f":"IF(COUNTRY_INFO!C53=0,\" \",COUNTRY_INFO!C53)","v":"KOCH"},{"$f":"IF(COUNTRY_INFO!$AA53=\"MDA4 (ALB/2*ALB)\", COUNTRY_INFO!$AA53, \" \")","v":" "},null,null,null,null,0,null,null,null,0,null,null,null,0,0,0,0,0," "," "," "," "]
[{"$f":"IF(COUNTRY_INFO!A54=0,\" \",COUNTRY_INFO!A54)","v":"South Sudan"},{"$f":"IF(COUNTRY_INFO!B54=0,\" \",COUNTRY_INFO!B54)","v":"Unity"},{"$f":"IF(COUNTRY_INFO!C54=0,\" \",COUNTRY_INFO!C54)","v":"LEER"},{"$f":"IF(COUNTRY_INFO!$AA54=\"MDA4 (ALB/2*ALB)\", COUNTRY_INFO!$AA54, \" \")","v":"MDA4 (ALB/2*ALB)"},"September 2022",null,28690,51352,80042,null,27333,38850,66183,null,null,null,0,0,27333,38850,66183," ",95.2701289647961,75.654307524536534,82.685340196396893,null,null,28690,51352]
[{"$f":"IF(COUNTRY_INFO!A55=0,\" \",COUNTRY_INFO!A55)","v":"South Sudan"},{"$f":"IF(COUNTRY_INFO!B55=0,\" \",COUNTRY_INFO!B55)","v":"Unity"},{"$f":"IF(COUNTRY_INFO!C55=0,\" \",COUNTRY_INFO!C55)","v":"MAYENDIT"},{"$f":"IF(COUNTRY_INFO!$AA55=\"MDA4 (ALB/2*ALB)\", COUNTRY_INFO!$AA55, \" \")","v":" "},null,null,null,null,0,null,null,null,0,null,null,null,0,0,0,0,0," "," "," "," "]
[{"$f":"IF(COUNTRY_INFO!A56=0,\" \",COUNTRY_INFO!A56)","v":"South Sudan"},{"$f":"IF(COUNTRY_INFO!B56=0,\" \",COUNTRY_INFO!B56)","v":"Unity"},{"$f":"IF(COUNTRY_INFO!C56=0,\" \",COUNTRY_INFO!C56)","v":"PAYNIJAR"},{"$f":"IF(COUNTRY_INFO!$AA56=\"MDA4 (ALB/2*ALB)\", COUNTRY_INFO!$AA56, \" \")","v":" "},null,null,null,null,0,null,null,null,0,null,null,null,0,0,0,0,0," "," "," "," "]
[{"$f":"IF(COUNTRY_INFO!A57=0,\" \",COUNTRY_INFO!A57)","v":"South Sudan"},{"$f":"IF(COUNTRY_INFO!B57=0,\" \",COUNTRY_INFO!B57)","v":"Upper Nile"},{"$f":"IF(COUNTRY_INFO!C57=0,\" \",COUNTRY_INFO!C57)","v":"RENK"},{"$f":"IF(COUNTRY_INFO!$AA57=\"MDA4 (ALB/2*ALB)\", COUNTRY_INFO!$AA57, \" \")","v":" "},null,null,null,null,0,null,null,null,0,null,null,null,0,0,0,0,0," "," "," "," "]
[{"$f":"IF(COUNTRY_INFO!A58=0,\" \",COUNTRY_INFO!A58)","v":"South Sudan"},{"$f":"IF(COUNTRY_INFO!B58=0,\" \",COUNTRY_INFO!B58)","v":"Upper Nile"},{"$f":"IF(COUNTRY_INFO!C58=0,\" \",COUNTRY_INFO!C58)","v":"MANYO"},{"$f":"IF(COUNTRY_INFO!$AA58=\"MDA4 (ALB/2*ALB)\", COUNTRY_INFO!$AA58, \" \")","v":" "},null,null,null,null,0,null,null,null,0,null,null,null,0,0,0,0,0," "," "," "," "]
[{"$f":"IF(COUNTRY_INFO!A59=0,\" \",COUNTRY_INFO!A59)","v":"South Sudan"},{"$f":"IF(COUNTRY_INFO!B59=0,\" \",COUNTRY_INFO!B59)","v":"Upper Nile"},{"$f":"IF(COUNTRY_INFO!C59=0,\" \",COUNTRY_INFO!C59)","v":"FASHODA"},{"$f":"IF(COUNTRY_INFO!$AA59=\"MDA4 (ALB/2*ALB)\", COUNTRY_INFO!$AA59, \" \")","v":" "},null,null,null,null,0,null,null,null,0,null,null,null,0,0,0,0,0," "," "," "," "]
[{"$f":"IF(COUNTRY_INFO!A60=0,\" \",COUNTRY_INFO!A60)","v":"South Sudan"},{"$f":"IF(COUNTRY_INFO!B60=0,\" \",COUNTRY_INFO!B60)","v":"Upper Nile"},{"$f":"IF(COUNTRY_INFO!C60=0,\" \",COUNTRY_INFO!C60)","v":"MELUT"},{"$f":"IF(COUNTRY_INFO!$AA60=\"MDA4 (ALB/2*ALB)\", COUNTRY_INFO!$AA60, \" \")","v":" "},null,null,null,null,0,null,null,null,0,null,null,null,0,0,0,0,0," "," "," "," "]
[{"$f":"IF(COUNTRY_INFO!A61=0,\" \",COUNTRY_INFO!A61)","v":"South Sudan"},{"$f":"IF(COUNTRY_INFO!B61=0,\" \",COUNTRY_INFO!B61)","v":"Upper Nile"},{"$f":"IF(COUNTRY_INFO!C61=0,\" \",COUNTRY_INFO!C61)","v":"MABAN"},{"$f":"IF(COUNTRY_INFO!$AA61=\"MDA4 (ALB/2*ALB)\", COUNTRY_INFO!$AA61, \" \")","v":" "},null,null,null,null,0,null,null,null,0,null,null,null,0,0,0,0,0," "," "," "," "]
[{"$f":"IF(COUNTRY_INFO!A62=0,\" \",COUNTRY_INFO!A62)","v":"South Sudan"},{"$f":"IF(COUNTRY_INFO!B62=0,\" \",COUNTRY_INFO!B62)","v":"Upper Nile"},{"$f":"IF(COUNTRY_INFO!C62=0,\" \",COUNTRY_INFO!C62)","v":"MAIWUT"},{"$f":"IF(COUNTRY_INFO!$AA62=\"MDA4 (ALB/2*ALB)\", COUNTRY_INFO!$AA62, \" \")","v":" "},null,null,null,null,0,null,null,null,0,null,null,null,0,0,0,0,0," "," "," "," "]
[{"$f":"IF(COUNTRY_INFO!A63=0,\" \",COUNTRY_INFO!A63)","v":"South Sudan"},{"$f":"IF(COUNTRY_INFO!B63=0,\" \",COUNTRY_INFO!B63)","v":"Upper Nile"},{"$f":"IF(COUNTRY_INFO!C63=0,\" \",COUNTRY_INFO!C63)","v":"LUAKPINY/NASIR"},{"$f":"IF(COUNTRY_INFO!$AA63=\"MDA4 (ALB/2*ALB)\", COUNTRY_INFO!$AA63, \" \")","v":" "},null,null,null,null,0,null,null,null,0,null,null,null,0,0,0,0,0," "," "," "," "]
[{"$f":"IF(COUNTRY_INFO!A64=0,\" \",COUNTRY_INFO!A64)","v":"South Sudan"},{"$f":"IF(COUNTRY_INFO!B64=0,\" \",COUNTRY_INFO!B64)","v":"Upper Nile"},{"$f":"IF(COUNTRY_INFO!C64=0,\" \",COUNTRY_INFO!C64)","v":"LONGOCHUK"},{"$f":"IF(COUNTRY_INFO!$AA64=\"MDA4 (ALB/2*ALB)\", COUNTRY_INFO!$AA64, \" \")","v":" "},null,null,null,null,0,null,null,null,0,null,null,null,0,0,0,0,0," "," "," "," "]
[{"$f":"IF(COUNTRY_INFO!A65=0,\" \",COUNTRY_INFO!A65)","v":"South Sudan"},{"$f":"IF(COUNTRY_INFO!B65=0,\" \",COUNTRY_INFO!B65)","v":"Upper Nile"},{"$f":"IF(COUNTRY_INFO!C65=0,\" \",COUNTRY_INFO!C65)","v":"ULANG"},{"$f":"IF(COUNTRY_INFO!$AA65=\"MDA4 (ALB/2*ALB)\", COUNTRY_INFO!$AA65, \" \")","v":" "},null,null,null,null,0,null,null,null,0,null,null,null,0,0,0,0,0," "," "," "," "]
[{"$f":"IF(COUNTRY_INFO!A66=0,\" \",COUNTRY_INFO!A66)","v":"South Sudan"},{"$f":"IF(COUNTRY_INFO!B66=0,\" \",COUNTRY_INFO!B66)","v":"Upper Nile"},{"$f":"IF(COUNTRY_INFO!C66=0,\" \",COUNTRY_INFO!C66)","v":"BALIET"},{"$f":"IF(COUNTRY_INFO!$AA66=\"MDA4 (ALB/2*ALB)\", COUNTRY_INFO!$AA66, \" \")","v":" "},null,null,null,null,0,null,null,null,0,null,null,null,0,0,0,0,0," "," "," "," "]
[{"$f":"IF(COUNTRY_INFO!A67=0,\" \",COUNTRY_INFO!A67)","v":"South Sudan"},{"$f":"IF(COUNTRY_INFO!B67=0,\" \",COUNTRY_INFO!B67)","v":"Upper Nile"},{"$f":"IF(COUNTRY_INFO!C67=0,\" \",COUNTRY_INFO!C67)","v":"MALAKAL"},{"$f":"IF(COUNTRY_INFO!$AA67=\"MDA4 (ALB/2*ALB)\", COUNTRY_INFO!$AA67, \" \")","v":" "},null,null,null,null,0,null,null,null,0,null,null,null,0,0,0,0,0," "," "," "," "]
[{"$f":"IF(COUNTRY_INFO!A68=0,\" \",COUNTRY_INFO!A68)","v":"South Sudan"},{"$f":"IF(COUNTRY_INFO!B68=0,\" \",COUNTRY_INFO!B68)","v":"Upper Nile"},{"$f":"IF(COUNTRY_INFO!C68=0,\" \",COUNTRY_INFO!C68)","v":"PANYKANG"},{"$f":"IF(COUNTRY_INFO!$AA68=\"MDA4 (ALB/2*ALB)\", COUNTRY_INFO!$AA68, \" \")","v":" "},null,null,null,null,0,null,null,null,0,null,null,null,0,0,0,0,0," "," "," "," "]
[{"$f":"IF(COUNTRY_INFO!A69=0,\" \",COUNTRY_INFO!A69)","v":"South Sudan"},{"$f":"IF(COUNTRY_INFO!B69=0,\" \",COUNTRY_INFO!B69)","v":"Warrap"},{"$f":"IF(COUNTRY_INFO!C69=0,\" \",COUNTRY_INFO!C69)","v":"ABYEI"},{"$f":"IF(COUNTRY_INFO!$AA69=\"MDA4 (ALB/2*ALB)\", COUNTRY_INFO!$AA69, \" \")","v":" "},null,null,null,null,0,null,null,null,0,null,null,null,0,0,0,0,0," "," "," "," "]
[{"$f":"IF(COUNTRY_INFO!A70=0,\" \",COUNTRY_INFO!A70)","v":"South Sudan"},{"$f":"IF(COUNTRY_INFO!B70=0,\" \",COUNTRY_INFO!B70)","v":"Warrap"},{"$f":"IF(COUNTRY_INFO!C70=0,\" \",COUNTRY_INFO!C70)","v":"TWIC"},{"$f":"IF(COUNTRY_INFO!$AA70=\"MDA4 (ALB/2*ALB)\", COUNTRY_INFO!$AA70, \" \")","v":" "},null,null,null,null,0,null,null,null,0,null,null,null,0,0,0,0,0," "," "," "," "]
[{"$f":"IF(COUNTRY_INFO!A71=0,\" \",COUNTRY_INFO!A71)","v":"South Sudan"},{"$f":"IF(COUNTRY_INFO!B71=0,\" \",COUNTRY_INFO!B71)","v":"Warrap"},{"$f":"IF(COUNTRY_INFO!C71=0,\" \",COUNTRY_INFO!C71)","v":"GOGRIAL WEST"},{"$f":"IF(COUNTRY_INFO!$AA71=\"MDA4 (ALB/2*ALB)\", COUNTRY_INFO!$AA71, \" \")","v":" "},null,null,null,null,0,null,null,null,0,null,null,null,0,0,0,0,0," "," "," "," "]
[{"$f":"IF(COUNTRY_INFO!A72=0,\" \",COUNTRY_INFO!A72)","v":"South Sudan"},{"$f":"IF(COUNTRY_INFO!B72=0,\" \",COUNTRY_INFO!B72)","v":"Warrap"},{"$f":"IF(COUNTRY_INFO!C72=0,\" \",COUNTRY_INFO!C72)","v":"GOGRIAL EAST"},{"$f":"IF(COUNTRY_INFO!$AA72=\"MDA4 (ALB/2*ALB)\", COUNTRY_INFO!$AA72, \" \")","v":" "},null,null,null,null,0,null,null,null,0,null,null,null,0,0,0,0,0," "," "," "," "]
[{"$f":"IF(COUNTRY_INFO!A73=0,\" \",COUNTRY_INFO!A73)","v":"South Sudan"},{"$f":"IF(COUNTRY_INFO!B73=0,\" \",COUNTRY_INFO!B73)","v":"Warrap"},{"$f":"IF(COUNTRY_INFO!C73=0,\" \",COUNTRY_INFO!C73)","v":"TONJ NORTH"},{"$f":"IF(COUNTRY_INFO!$AA73=\"MDA4 (ALB/2*ALB)\", COUNTRY_INFO!$AA73, \" \")","v":" "},null,null,null,null,0,null,null,null,0,null,null,null,0,0,0,0,0," "," "," "," "]
[{"$f":"IF(COUNTRY_INFO!A74=0,\" \",COUNTRY_INFO!A74)","v":"South Sudan"},{"$f":"IF(COUNTRY_INFO!B74=0,\" \",COUNTRY_INFO!B74)","v":"Warrap"},{"$f":"IF(COUNTRY_INFO!C74=0,\" \",COUNTRY_INFO!C74)","v":"TONJ EAST"},{"$f":"IF(COUNTRY_INFO!$AA74=\"MDA4 (ALB/2*ALB)\", COUNTRY_INFO!$AA74, \" \")","v":" "},null,null,null,null,0,null,null,null,{"$f":"SUM(J74:L74)","v":0},null,null,null,{"$f":"SUM(N74:P74)","v":0},{"$f":"MAX(J74,N74)","v":0},{"$f":"MAX(K74,O74)","v":0},{"$f":"MAX(L74,P74)","v":0},{"$f":"SUM(R74:T74)","v":0},{"$f":"IF(F74<>0, IF(R74/F74*100=0, \"-\", R74/F74*100), \" \")","v":" "},{"$f":"IF(G74<>0, IF(S74/G74*100=0, \"-\", S74/G74*100), \" \")","v":" "},{"$f":"IF(H74<>0, IF(T74/H74*100=0, \"-\", T74/H74*100), \" \")","v":" "},{"$f":"IF(I74<>0, IF(U74/I74*100=0, \"-\",U74/I74*100), \" \")","v":" "}]
[{"$f":"IF(COUNTRY_INFO!A75=0,\" \",COUNTRY_INFO!A75)","v":"South Sudan"},{"$f":"IF(COUNTRY_INFO!B75=0,\" \",COUNTRY_INFO!B75)","v":"Warrap"},{"$f":"IF(COUNTRY_INFO!C75=0,\" \",COUNTRY_INFO!C75)","v":"TONJ SOUTH"},{"$f":"IF(COUNTRY_INFO!$AA75=\"MDA4 (ALB/2*ALB)\", COUNTRY_INFO!$AA75, \" \")","v":" "},null,null,null,null,{"$f":"SUM(G75:H75)","v":0},null,null,null,0,null,null,null,0,0,0,0,0," "," "," "," "]
[{"$f":"IF(COUNTRY_INFO!A76=0,\" \",COUNTRY_INFO!A76)","v":"South Sudan"},{"$f":"IF(COUNTRY_INFO!B76=0,\" \",COUNTRY_INFO!B76)","v":"Wesstern Equatoria"},{"$f":"IF(COUNTRY_INFO!C76=0,\" \",COUNTRY_INFO!C76)","v":"TAMBURA"},{"$f":"IF(COUNTRY_INFO!$AA76=\"MDA4 (ALB/2*ALB)\", COUNTRY_INFO!$AA76, \" \")","v":" "},null,null,null,null,0,null,null,null,0,null,null,null,0,0,0,0,0," "," "," "," "]
[{"$f":"IF(COUNTRY_INFO!A77=0,\" \",COUNTRY_INFO!A77)","v":"South Sudan"},{"$f":"IF(COUNTRY_INFO!B77=0,\" \",COUNTRY_INFO!B77)","v":"Wesstern Equatoria"},{"$f":"IF(COUNTRY_INFO!C77=0,\" \",COUNTRY_INFO!C77)","v":"NAGERO"},{"$f":"IF(COUNTRY_INFO!$AA77=\"MDA4 (ALB/2*ALB)\", COUNTRY_INFO!$AA77, \" \")","v":" "},null,null,null,null,0,null,null,null,0,null,null,null,0,0,0,0,0," "," "," "," "]
[{"$f":"IF(COUNTRY_INFO!A78=0,\" \",COUNTRY_INFO!A78)","v":"South Sudan"},{"$f":"IF(COUNTRY_INFO!B78=0,\" \",COUNTRY_INFO!B78)","v":"Wesstern Equatoria"},{"$f":"IF(COUNTRY_INFO!C78=0,\" \",COUNTRY_INFO!C78)","v":"NZARA"},{"$f":"IF(COUNTRY_INFO!$AA78=\"MDA4 (ALB/2*ALB)\", COUNTRY_INFO!$AA78, \" \")","v":" "},null,null,null,null,0,null,null,null,0,null,null,null,0,0,0,0,0," "," "," "," "]
[{"$f":"IF(COUNTRY_INFO!A79=0,\" \",COUNTRY_INFO!A79)","v":"South Sudan"},{"$f":"IF(COUNTRY_INFO!B79=0,\" \",COUNTRY_INFO!B79)","v":"Wesstern Equatoria"},{"$f":"IF(COUNTRY_INFO!C79=0,\" \",COUNTRY_INFO!C79)","v":"EZO"},{"$f":"IF(COUNTRY_INFO!$AA79=\"MDA4 (ALB/2*ALB)\", COUNTRY_INFO!$AA79, \" \")","v":" "},null,null,null,null,0,null,null,null,0,null,null,null,0,0,0,0,0," "," "," "," "]
[{"$f":"IF(COUNTRY_INFO!A80=0,\" \",COUNTRY_INFO!A80)","v":"South Sudan"},{"$f":"IF(COUNTRY_INFO!B80=0,\" \",COUNTRY_INFO!B80)","v":"Wesstern Equatoria"},{"$f":"IF(COUNTRY_INFO!C80=0,\" \",COUNTRY_INFO!C80)","v":"YAMBIO"},{"$f":"IF(COUNTRY_INFO!$AA80=\"MDA4 (ALB/2*ALB)\", COUNTRY_INFO!$AA80, \" \")","v":" "},null,null,null,null,0,null,null,null,0,null,null,null,0,0,0,0,0," "," "," "," "]
[{"$f":"IF(COUNTRY_INFO!A81=0,\" \",COUNTRY_INFO!A81)","v":"South Sudan"},{"$f":"IF(COUNTRY_INFO!B81=0,\" \",COUNTRY_INFO!B81)","v":"Wesstern Equatoria"},{"$f":"IF(COUNTRY_INFO!C81=0,\" \",COUNTRY_INFO!C81)","v":"IBBA"},{"$f":"IF(COUNTRY_INFO!$AA81=\"MDA4 (ALB/2*ALB)\", COUNTRY_INFO!$AA81, \" \")","v":" "},null,null,null,null,0,null,null,null,0,null,null,null,0,0,0,0,0," "," "," "," "]
[{"$f":"IF(COUNTRY_INFO!A82=0,\" \",COUNTRY_INFO!A82)","v":"South Sudan"},{"$f":"IF(COUNTRY_INFO!B82=0,\" \",COUNTRY_INFO!B82)","v":"Wesstern Equatoria"},{"$f":"IF(COUNTRY_INFO!C82=0,\" \",COUNTRY_INFO!C82)","v":"MARIDI"},{"$f":"IF(COUNTRY_INFO!$AA82=\"MDA4 (ALB/2*ALB)\", COUNTRY_INFO!$AA82, \" \")","v":" "},null,null,null,null,0,null,null,null,0,null,null,null,0,0,0,0,0," "," "," "," "]
[{"$f":"IF(COUNTRY_INFO!A83=0,\" \",COUNTRY_INFO!A83)","v":"South Sudan"},{"$f":"IF(COUNTRY_INFO!B83=0,\" \",COUNTRY_INFO!B83)","v":"Wesstern Equatoria"},{"$f":"IF(COUNTRY_INFO!C83=0,\" \",COUNTRY_INFO!C83)","v":"MVOLO"},{"$f":"IF(COUNTRY_INFO!$AA83=\"MDA4 (ALB/2*ALB)\", COUNTRY_INFO!$AA83, \" \")","v":" "},null,null,null,null,0,null,null,null,0,null,null,null,0,0,0,0,0," "," "," "," "]
[{"$f":"IF(COUNTRY_INFO!A84=0,\" \",COUNTRY_INFO!A84)","v":"South Sudan"},{"$f":"IF(COUNTRY_INFO!B84=0,\" \",COUNTRY_INFO!B84)","v":"Wesstern Equatoria"},{"$f":"IF(COUNTRY_INFO!C84=0,\" \",COUNTRY_INFO!C84)","v":"MUNDRI WEST"},{"$f":"IF(COUNTRY_INFO!$AA84=\"MDA4 (ALB/2*ALB)\", COUNTRY_INFO!$AA84, \" \")","v":" "},null,null,null,null,0,null,null,null,0,null,null,null,0,0,0,0,0," "," "," "," "]
[{"$f":"IF(COUNTRY_INFO!A85=0,\" \",COUNTRY_INFO!A85)","v":"South Sudan"},{"$f":"IF(COUNTRY_INFO!B85=0,\" \",COUNTRY_INFO!B85)","v":"Wesstern Equatoria"},{"$f":"IF(COUNTRY_INFO!C85=0,\" \",COUNTRY_INFO!C85)","v":"MUNDRI EAST"},{"$f":"IF(COUNTRY_INFO!$AA85=\"MDA4 (ALB/2*ALB)\", COUNTRY_INFO!$AA85, \" \")","v":" "},null,null,null,null,0,null,null,null,0,null,null,null,0,0,0,0,0," "," "," "," "]
[{"$f":"IF(COUNTRY_INFO!A86=0,\" \",COUNTRY_INFO!A86)","v":"South Sudan"},{"$f":"IF(COUNTRY_INFO!B86=0,\" \",COUNTRY_INFO!B86)","v":"Western Bahr El Ghazal"},{"$f":"IF(COUNTRY_INFO!C86=0,\" \",COUNTRY_INFO!C86)","v":"RAGA"},{"$f":"IF(COUNTRY_INFO!$AA86=\"MDA4 (ALB/2*ALB)\", COUNTRY_INFO!$AA86, \" \")","v":" "},null,null,null,null,0,null,null,null,0,null,null,null,0,0,0,0,0," "," "," "," "]
[{"$f":"IF(COUNTRY_INFO!A87=0,\" \",COUNTRY_INFO!A87)","v":"South Sudan"},{"$f":"IF(COUNTRY_INFO!B87=0,\" \",COUNTRY_INFO!B87)","v":"Western Bahr El Ghazal"},{"$f":"IF(COUNTRY_INFO!C87=0,\" \",COUNTRY_INFO!C87)","v":"JUR RIVER"},{"$f":"IF(COUNTRY_INFO!$AA87=\"MDA4 (ALB/2*ALB)\", COUNTRY_INFO!$AA87, \" \")","v":" "},null,null,null,null,0,null,null,null,0,null,null,null,0,0,0,0,0," "," "," "," "]
[{"$f":"IF(COUNTRY_INFO!A88=0,\" \",COUNTRY_INFO!A88)","v":"South Sudan"},{"$f":"IF(COUNTRY_INFO!B88=0,\" \",COUNTRY_INFO!B88)","v":"Western Bahr El Ghazal"},{"$f":"IF(COUNTRY_INFO!C88=0,\" \",COUNTRY_INFO!C88)","v":"WAU"},{"$f":"IF(COUNTRY_INFO!$AA88=\"MDA4 (ALB/2*ALB)\", COUNTRY_INFO!$AA88, \" \")","v":" "},null,null,null,null,0,null,null,null,0,null,null,null,0,0,0,0,0," "," "," "," "]
[{"$f":"IF(COUNTRY_INFO!A89=0,\" \",COUNTRY_INFO!A89)","v":"South Sudan"},{"$f":"IF(COUNTRY_INFO!B89=0,\" \",COUNTRY_INFO!B89)","v":"Upper Nile"},{"$f":"IF(COUNTRY_INFO!C89=0,\" \",COUNTRY_INFO!C89)","v":"MABAN Refugee"},{"$f":"IF(COUNTRY_INFO!$AA89=\"MDA4 (ALB/2*ALB)\", COUNTRY_INFO!$AA89, \" \")","v":" "},null,null,null,null,0,null,null,null,0,null,null,null,0,0,0,0,0," "," "," "," "]

{"sheet":"T1","index":5,"n_rows":89,"n_cols":18,"rows_kept":89,"cut":false,"hidden":false,"merged":[[5,6,5,9],[5,10,5,13],[5,14,5,17],[3,0,3,2],[5,0,5,2],[5,3,6,3],[5,5,6,5],[5,4,6,4]]}
["T 1 - Praziquantel (PZQ) and Albendazole (ALB) or Mebendazole (MBD)"]
["Administrative structure, population requiring PC by age group, population treated by age group and coverage"]
[]
["TOTAL",null,null,null,null,null,{"$f":"SUBTOTAL(9,G$10:G$1010)","v":0},0,0,0,0,0,0,0,{"$f":"IF(G4<>0, IF(K4/G4*100=0, \"-\", K4/G4*100), \" \")","v":" "},{"$f":"IF(H4<>0, IF(L4/H4*100=0, \"-\", L4/H4*100), \" \")","v":" "},{"$f":"IF(I4<>0, IF(M4/I4*100=0, \"-\", M4/I4*100), \" \")","v":" "},{"$f":"IF(J4<>0, IF(N4/J4*100=0, \"-\", N4/J4*100), \" \")","v":" "}]
[]
["Country administrative structure",null,null,"PC implemented","Medicine","Date","Population targeted for T1",null,null,null,"Population treated",null,null,null,"Programme coverage (%)"]
["Country","Province/State","District",null,null,null,"PreSAC","SAC","Adults","Total","PreSAC","SAC","Adults","Total","PreSAC","SAC","Adults","Total"]
[]
[]
[{"$f":"IF(COUNTRY_INFO!A10=0,\" \",COUNTRY_INFO!A10)","v":"South Sudan"},{"$f":"IF(COUNTRY_INFO!B10=0,\" \",COUNTRY_INFO!B10)","v":"Central Equatoria"},{"$f":"IF(COUNTRY_INFO!C10=0,\" \",COUNTRY_INFO!C10)","v":"TEREKEKA"},{"$f":"IF(OR(COUNTRY_INFO!$AA10=\"T1 (PZQ+ALB/MBD)\",COUNTRY_INFO!$AB10=\"T1 (PZQ+ALB/MBD)\"), \"T1 (PZQ+ALB/MBD)\", \" \")","v":" "},null,null,null,null,null,{"$f":"SUM(G10:I10)","v":0},null,null,null,{"$f":"SUM(K10:M10)","v":0},{"$f":"IF(G10<>0, IF(K10/G10*100=0, \"-\", K10/G10*100), \" \")","v":" "},{"$f":"IF(H10<>0, IF(L10/H10*100=0, \"-\", L10/H10*100), \" \")","v":" "},{"$f":"IF(I10<>0, IF(M10/I10*100=0, \"-\", M10/I10*100), \" \")","v":" "}," "]
[{"$f":"IF(COUNTRY_INFO!A11=0,\" \",COUNTRY_INFO!A11)","v":"South Sudan"},{"$f":"IF(COUNTRY_INFO!B11=0,\" \",COUNTRY_INFO!B11)","v":"Central Equatoria"},{"$f":"IF(COUNTRY_INFO!C11=0,\" \",COUNTRY_INFO!C11)","v":"JUBA"},{"$f":"IF(OR(COUNTRY_INFO!$AA11=\"T1 (PZQ+ALB/MBD)\",COUNTRY_INFO!$AB11=\"T1 (PZQ+ALB/MBD)\"), \"T1 (PZQ+ALB/MBD)\", \" \")","v":" "},null,null,null,null,null,{"$f":"SUM(G11:I11)","v":0},null,null,null,{"$f":"SUM(K11:M11)","v":0},{"$f":"IF(G11<>0, IF(K11/G11*100=0, \"-\", K11/G11*100), \" \")","v":" "},{"$f":"IF(H11<>0, IF(L11/H11*100=0, \"-\", L11/H11*100), \" \")","v":" "},{"$f":"IF(I11<>0, IF(M11/I11*100=0, \"-\", M11/I11*100), \" \")","v":" "},{"$f":"IF(J11<>0, IF(N11/J11*100=0, \"-\", N11/J11*100), \" \")","v":" "}]
[{"$f":"IF(COUNTRY_INFO!A12=0,\" \",COUNTRY_INFO!A12)","v":"South Sudan"},{"$f":"IF(COUNTRY_INFO!B12=0,\" \",COUNTRY_INFO!B12)","v":"Central Equatoria"},{"$f":"IF(COUNTRY_INFO!C12=0,\" \",COUNTRY_INFO!C12)","v":"LAINYA"},{"$f":"IF(OR(COUNTRY_INFO!$AA12=\"T1 (PZQ+ALB/MBD)\",COUNTRY_INFO!$AB12=\"T1 (PZQ+ALB/MBD)\"), \"T1 (PZQ+ALB/MBD)\", \" \")","v":" "},null,null,null,null,null,0,null,null,null,0," "," "," "," "]
[{"$f":"IF(COUNTRY_INFO!A13=0,\" \",COUNTRY_INFO!A13)","v":"South Sudan"},{"$f":"IF(COUNTRY_INFO!B13=0,\" \",COUNTRY_INFO!B13)","v":"Central Equatoria"},{"$f":"IF(COUNTRY_INFO!C13=0,\" \",COUNTRY_INFO!C13)","v":"YEI"},{"$f":"IF(OR(COUNTRY_INFO!$AA13=\"T1 (PZQ+ALB/MBD)\",COUNTRY_INFO!$AB13=\"T1 (PZQ+ALB/MBD)\"), \"T1 (PZQ+ALB/MBD)\", \" \")","v":" "},null,null,null,null,null,0,null,null,null,0," "," "," "," "]
[{"$f":"IF(COUNTRY_INFO!A14=0,\" \",COUNTRY_INFO!A14)","v":"South Sudan"},{"$f":"IF(COUNTRY_INFO!B14=0,\" \",COUNTRY_INFO!B14)","v":"Central Equatoria"},{"$f":"IF(COUNTRY_INFO!C14=0,\" \",COUNTRY_INFO!C14)","v":"MOROBO"},{"$f":"IF(OR(COUNTRY_INFO!$AA14=\"T1 (PZQ+ALB/MBD)\",COUNTRY_INFO!$AB14=\"T1 (PZQ+ALB/MBD)\"), \"T1 (PZQ+ALB/MBD)\", \" \")","v":" "},null,null,null,null,null,0,null,null,null,0," "," "," "," "]
[{"$f":"IF(COUNTRY_INFO!A15=0,\" \",COUNTRY_INFO!A15)","v":"South Sudan"},{"$f":"IF(COUNTRY_INFO!B15=0,\" \",COUNTRY_INFO!B15)","v":"Central Equatoria"},{"$f":"IF(COUNTRY_INFO!C15=0,\" \",COUNTRY_INFO!C15)","v":"KAJO KEJI"},{"$f":"IF(OR(COUNTRY_INFO!$AA15=\"T1 (PZQ+ALB/MBD)\",COUNTRY_INFO!$AB15=\"T1 (PZQ+ALB/MBD)\"), \"T1 (PZQ+ALB/MBD)\", \" \")","v":" "},null,null,null,null,null,0,null,null,null,0," "," "," "," "]
[{"$f":"IF(COUNTRY_INFO!A16=0,\" \",COUNTRY_INFO!A16)","v":"South Sudan"},{"$f":"IF(COUNTRY_INFO!B16=0,\" \",COUNTRY_INFO!B16)","v":"Eastern Equatoria"},{"$f":"IF(COUNTRY_INFO!C16=0,\" \",COUNTRY_INFO!C16)","v":"TORIT"},{"$f":"IF(OR(COUNTRY_INFO!$AA16=\"T1 (PZQ+ALB/MBD)\",COUNTRY_INFO!$AB16=\"T1 (PZQ+ALB/MBD)\"), \"T1 (PZQ+ALB/MBD)\", \" \")","v":" "},null,null,null,null,null,0,null,null,null,0," "," "," "," "]
[{"$f":"IF(COUNTRY_INFO!A17=0,\" \",COUNTRY_INFO!A17)","v":"South Sudan"},{"$f":"IF(COUNTRY_INFO!B17=0,\" \",COUNTRY_INFO!B17)","v":"Eastern Equatoria"},{"$f":"IF(COUNTRY_INFO!C17=0,\" \",COUNTRY_INFO!C17)","v":"LOPA/LAFON"},{"$f":"IF(OR(COUNTRY_INFO!$AA17=\"T1 (PZQ+ALB/MBD)\",COUNTRY_INFO!$AB17=\"T1 (PZQ+ALB/MBD)\"), \"T1 (PZQ+ALB/MBD)\", \" \")","v":" "},null,null,null,null,null,0,null,null,null,0," "," "," "," "]
[{"$f":"IF(COUNTRY_INFO!A18=0,\" \",COUNTRY_INFO!A18)","v":"South Sudan"},{"$f":"IF(COUNTRY_INFO!B18=0,\" \",COUNTRY_INFO!B18)","v":"Eastern Equatoria"},{"$f":"IF(COUNTRY_INFO!C18=0,\" \",COUNTRY_INFO!C18)","v":"KAPOETA NORTH"},{"$f":"IF(OR(COUNTRY_INFO!$AA18=\"T1 (PZQ+ALB/MBD)\",COUNTRY_INFO!$AB18=\"T1 (PZQ+ALB/MBD)\"), \"T1 (PZQ+ALB/MBD)\", \" \")","v":" "},null,null,null,null,null,0,null,null,null,0," "," "," "," "]
[{"$f":"IF(COUNTRY_INFO!A19=0,\" \",COUNTRY_INFO!A19)","v":"South Sudan"},{"$f":"IF(COUNTRY_INFO!B19=0,\" \",COUNTRY_INFO!B19)","v":"Eastern Equatoria"},{"$f":"IF(COUNTRY_INFO!C19=0,\" \",COUNTRY_INFO!C19)","v":"KAPOETA EAST"},{"$f":"IF(OR(COUNTRY_INFO!$AA19=\"T1 (PZQ+ALB/MBD)\",COUNTRY_INFO!$AB19=\"T1 (PZQ+ALB/MBD)\"), \"T1 (PZQ+ALB/MBD)\", \" \")","v":" "},null,null,null,null,null,0,null,null,null,0," "," "," "," "]
[{"$f":"IF(COUNTRY_INFO!A20=0,\" \",COUNTRY_INFO!A20)","v":"South Sudan"},{"$f":"IF(COUNTRY_INFO!B20=0,\" \",COUNTRY_INFO!B20)","v":"Eastern Equatoria"},{"$f":"IF(COUNTRY_INFO!C20=0,\" \",COUNTRY_INFO!C20)","v":"KAPOETA SOUTH"},{"$f":"IF(OR(COUNTRY_INFO!$AA20=\"T1 (PZQ+ALB/MBD)\",COUNTRY_INFO!$AB20=\"T1 (PZQ+ALB/MBD)\"), \"T1 (PZQ+ALB/MBD)\", \" \")","v":" "},null,null,null,null,null,0,null,null,null,0," "," "," "," "]
[{"$f":"IF(COUNTRY_INFO!A21=0,\" \",COUNTRY_INFO!A21)","v":"South Sudan"},{"$f":"IF(COUNTRY_INFO!B21=0,\" \",COUNTRY_INFO!B21)","v":"Eastern Equatoria"},{"$f":"IF(COUNTRY_INFO!C21=0,\" \",COUNTRY_INFO!C21)","v":"BUDI"},{"$f":"IF(OR(COUNTRY_INFO!$AA21=\"T1 (PZQ+ALB/MBD)\",COUNTRY_INFO!$AB21=\"T1 (PZQ+ALB/MBD)\"), \"T1 (PZQ+ALB/MBD)\", \" \")","v":" "},null,null,null,null,null,0,null,null,null,0," "," "," "," "]
[{"$f":"IF(COUNTRY_INFO!A22=0,\" \",COUNTRY_INFO!A22)","v":"South Sudan"},{"$f":"IF(COUNTRY_INFO!B22=0,\" \",COUNTRY_INFO!B22)","v":"Eastern Equatoria"},{"$f":"IF(COUNTRY_INFO!C22=0,\" \",COUNTRY_INFO!C22)","v":"IKOTOS"},{"$f":"IF(OR(COUNTRY_INFO!$AA22=\"T1 (PZQ+ALB/MBD)\",COUNTRY_INFO!$AB22=\"T1 (PZQ+ALB/MBD)\"), \"T1 (PZQ+ALB/MBD)\", \" \")","v":" "},null,null,null,null,null,0,null,null,null,0," "," "," "," "]
[{"$f":"IF(COUNTRY_INFO!A23=0,\" \",COUNTRY_INFO!A23)","v":"South Sudan"},{"$f":"IF(COUNTRY_INFO!B23=0,\" \",COUNTRY_INFO!B23)","v":"Eastern Equatoria"},{"$f":"IF(COUNTRY_INFO!C23=0,\" \",COUNTRY_INFO!C23)","v":"MAGWI"},{"$f":"IF(OR(COUNTRY_INFO!$AA23=\"T1 (PZQ+ALB/MBD)\",COUNTRY_INFO!$AB23=\"T1 (PZQ+ALB/MBD)\"), \"T1 (PZQ+ALB/MBD)\", \" \")","v":" "},null,null,null,null,null,0,null,null,null,0," "," "," "," "]
[{"$f":"IF(COUNTRY_INFO!A24=0,\" \",COUNTRY_INFO!A24)","v":"South Sudan"},{"$f":"IF(COUNTRY_INFO!B24=0,\" \",COUNTRY_INFO!B24)","v":"Jonglei"},{"$f":"IF(COUNTRY_INFO!C24=0,\" \",COUNTRY_INFO!C24)","v":"FANGAK"},{"$f":"IF(OR(COUNTRY_INFO!$AA24=\"T1 (PZQ+ALB/MBD)\",COUNTRY_INFO!$AB24=\"T1 (PZQ+ALB/MBD)\"), \"T1 (PZQ+ALB/MBD)\", \" \")","v":" "},null,null,null,null,null,0,null,null,null,0," "," "," "," "]
[{"$f":"IF(COUNTRY_INFO!A25=0,\" \",COUNTRY_INFO!A25)","v":"South Sudan"},{"$f":"IF(COUNTRY_INFO!B25=0,\" \",COUNTRY_INFO!B25)","v":"Jonglei"},{"$f":"IF(COUNTRY_INFO!C25=0,\" \",COUNTRY_INFO!C25)","v":"KHORFLUS"},{"$f":"IF(OR(COUNTRY_INFO!$AA25=\"T1 (PZQ+ALB/MBD)\",COUNTRY_INFO!$AB25=\"T1 (PZQ+ALB/MBD)\"), \"T1 (PZQ+ALB/MBD)\", \" \")","v":" "},null,null,null,null,null,0,null,null,null,0," "," "," "," "]
[{"$f":"IF(COUNTRY_INFO!A26=0,\" \",COUNTRY_INFO!A26)","v":"South Sudan"},{"$f":"IF(COUNTRY_INFO!B26=0,\" \",COUNTRY_INFO!B26)","v":"Jonglei"},{"$f":"IF(COUNTRY_INFO!C26=0,\" \",COUNTRY_INFO!C26)","v":"AYOD"},{"$f":"IF(OR(COUNTRY_INFO!$AA26=\"T1 (PZQ+ALB/MBD)\",COUNTRY_INFO!$AB26=\"T1 (PZQ+ALB/MBD)\"), \"T1 (PZQ+ALB/MBD)\", \" \")","v":" "},null,null,null,null,null,0,null,null,null,0," "," "," "," "]
[{"$f":"IF(COUNTRY_INFO!A27=0,\" \",COUNTRY_INFO!A27)","v":"South Sudan"},{"$f":"IF(COUNTRY_INFO!B27=0,\" \",COUNTRY_INFO!B27)","v":"Jonglei"},{"$f":"IF(COUNTRY_INFO!C27=0,\" \",COUNTRY_INFO!C27)","v":"DUK"},{"$f":"IF(OR(COUNTRY_INFO!$AA27=\"T1 (PZQ+ALB/MBD)\",COUNTRY_INFO!$AB27=\"T1 (PZQ+ALB/MBD)\"), \"T1 (PZQ+ALB/MBD)\", \" \")","v":" "},null,null,null,null,null,0,null,null,null,0," "," "," "," "]
[{"$f":"IF(COUNTRY_INFO!A28=0,\" \",COUNTRY_INFO!A28)","v":"South Sudan"},{"$f":"IF(COUNTRY_INFO!B28=0,\" \",COUNTRY_INFO!B28)","v":"Jonglei"},{"$f":"IF(COUNTRY_INFO!C28=0,\" \",COUNTRY_INFO!C28)","v":"UROR"},{"$f":"IF(OR(COUNTRY_INFO!$AA28=\"T1 (PZQ+ALB/MBD)\",COUNTRY_INFO!$AB28=\"T1 (PZQ+ALB/MBD)\"), \"T1 (PZQ+ALB/MBD)\", \" \")","v":" "},null,null,null,null,null,0,null,null,null,0," "," "," "," "]
[{"$f":"IF(COUNTRY_INFO!A29=0,\" \",COUNTRY_INFO!A29)","v":"South Sudan"},{"$f":"IF(COUNTRY_INFO!B29=0,\" \",COUNTRY_INFO!B29)","v":"Jonglei"},{"$f":"IF(COUNTRY_INFO!C29=0,\" \",COUNTRY_INFO!C29)","v":"NYIROL"},{"$f":"IF(OR(COUNTRY_INFO!$AA29=\"T1 (PZQ+ALB/MBD)\",COUNTRY_INFO!$AB29=\"T1 (PZQ+ALB/MBD)\"), \"T1 (PZQ+ALB/MBD)\", \" \")","v":" "},null,null,null,null,null,0,null,null,null,0," "," "," "," "]
[{"$f":"IF(COUNTRY_INFO!A30=0,\" \",COUNTRY_INFO!A30)","v":"South Sudan"},{"$f":"IF(COUNTRY_INFO!B30=0,\" \",COUNTRY_INFO!B30)","v":"Jonglei"},{"$f":"IF(COUNTRY_INFO!C30=0,\" \",COUNTRY_INFO!C30)","v":"AKOBO"},{"$f":"IF(OR(COUNTRY_INFO!$AA30=\"T1 (PZQ+ALB/MBD)\",COUNTRY_INFO!$AB30=\"T1 (PZQ+ALB/MBD)\"), \"T1 (PZQ+ALB/MBD)\", \" \")","v":" "},null,null,null,null,null,0,null,null,null,0," "," "," "," "]
[{"$f":"IF(COUNTRY_INFO!A31=0,\" \",COUNTRY_INFO!A31)","v":"South Sudan"},{"$f":"IF(COUNTRY_INFO!B31=0,\" \",COUNTRY_INFO!B31)","v":"Jonglei"},{"$f":"IF(COUNTRY_INFO!C31=0,\" \",COUNTRY_INFO!C31)","v":"POCHALA"},{"$f":"IF(OR(COUNTRY_INFO!$AA31=\"T1 (PZQ+ALB/MBD)\",COUNTRY_INFO!$AB31=\"T1 (PZQ+ALB/MBD)\"), \"T1 (PZQ+ALB/MBD)\", \" \")","v":" "},null,null,null,null,null,0,null,null,null,0," "," "," "," "]
[{"$f":"IF(COUNTRY_INFO!A32=0,\" \",COUNTRY_INFO!A32)","v":"South Sudan"},{"$f":"IF(COUNTRY_INFO!B32=0,\" \",COUNTRY_INFO!B32)","v":"Jonglei"},{"$f":"IF(COUNTRY_INFO!C32=0,\" \",COUNTRY_INFO!C32)","v":"PIBOR"},{"$f":"IF(OR(COUNTRY_INFO!$AA32=\"T1 (PZQ+ALB/MBD)\",COUNTRY_INFO!$AB32=\"T1 (PZQ+ALB/MBD)\"), \"T1 (PZQ+ALB/MBD)\", \" \")","v":" "},null,null,null,null,null,0,null,null,null,0," "," "," "," "]
[{"$f":"IF(COUNTRY_INFO!A33=0,\" \",COUNTRY_INFO!A33)","v":"South Sudan"},{"$f":"IF(COUNTRY_INFO!B33=0,\" \",COUNTRY_INFO!B33)","v":"Jonglei"},{"$f":"IF(COUNTRY_INFO!C33=0,\" \",COUNTRY_INFO!C33)","v":"TWIC EAST"},{"$f":"IF(OR(COUNTRY_INFO!$AA33=\"T1 (PZQ+ALB/MBD)\",COUNTRY_INFO!$AB33=\"T1 (PZQ+ALB/MBD)\"), \"T1 (PZQ+ALB/MBD)\", \" \")","v":" "},null,null,null,null,null,0,null,null,null,0," "," "," "," "]
[{"$f":"IF(COUNTRY_INFO!A34=0,\" \",COUNTRY_INFO!A34)","v":"South Sudan"},{"$f":"IF(COUNTRY_INFO!B34=0,\" \",COUNTRY_INFO!B34)","v":"Jonglei"},{"$f":"IF(COUNTRY_INFO!C34=0,\" \",COUNTRY_INFO!C34)","v":"BOR SOUTH"},{"$f":"IF(OR(COUNTRY_INFO!$AA34=\"T1 (PZQ+ALB/MBD)\",COUNTRY_INFO!$AB34=\"T1 (PZQ+ALB/MBD)\"), \"T1 (PZQ+ALB/MBD)\", \" \")","v":" "},null,null,null,null,null,0,null,null,null,0," "," "," "," "]
[{"$f":"IF(COUNTRY_INFO!A35=0,\" \",COUNTRY_INFO!A35)","v":"South Sudan"},{"$f":"IF(COUNTRY_INFO!B35=0,\" \",COUNTRY_INFO!B35)","v":"Lakes"},{"$f":"IF(COUNTRY_INFO!C35=0,\" \",COUNTRY_INFO!C35)","v":"CUEBIT"},{"$f":"IF(OR(COUNTRY_INFO!$AA35=\"T1 (PZQ+ALB/MBD)\",COUNTRY_INFO!$AB35=\"T1 (PZQ+ALB/MBD)\"), \"T1 (PZQ+ALB/MBD)\", \" \")","v":" "},null,null,null,null,null,0,null,null,null,0," "," "," "," "]
[{"$f":"IF(COUNTRY_INFO!A36=0,\" \",COUNTRY_INFO!A36)","v":"South Sudan"},{"$f":"IF(COUNTRY_INFO!B36=0,\" \",COUNTRY_INFO!B36)","v":"Lakes"},{"$f":"IF(COUNTRY_INFO!C36=0,\" \",COUNTRY_INFO!C36)","v":"RUMBEK NORTH"},{"$f":"IF(OR(COUNTRY_INFO!$AA36=\"T1 (PZQ+ALB/MBD)\",COUNTRY_INFO!$AB36=\"T1 (PZQ+ALB/MBD)\"), \"T1 (PZQ+ALB/MBD)\", \" \")","v":" "},null,null,null,null,null,0,null,null,null,0," "," "," "," "]
[{"$f":"IF(COUNTRY_INFO!A37=0,\" \",COUNTRY_INFO!A37)","v":"South Sudan"},{"$f":"IF(COUNTRY_INFO!B37=0,\" \",COUNTRY_INFO!B37)","v":"Lakes"},{"$f":"IF(COUNTRY_INFO!C37=0,\" \",COUNTRY_INFO!C37)","v":"RUMBEK CENTRE"},{"$f":"IF(OR(COUNTRY_INFO!$AA37=\"T1 (PZQ+ALB/MBD)\",COUNTRY_INFO!$AB37=\"T1 (PZQ+ALB/MBD)\"), \"T1 (PZQ+ALB/MBD)\", \" \")","v":" "},null,null,null,null,null,0,null,null,null,0," "," "," "," "]
[{"$f":"IF(COUNTRY_INFO!A38=0,\" \",COUNTRY_INFO!A38)","v":"South Sudan"},{"$f":"IF(COUNTRY_INFO!B38=0,\" \",COUNTRY_INFO!B38)","v":"Lakes"},{"$f":"IF(COUNTRY_INFO!C38=0,\" \",COUNTRY_INFO!C38)","v":"WULU"},{"$f":"IF(OR(COUNTRY_INFO!$AA38=\"T1 (PZQ+ALB/MBD)\",COUNTRY_INFO!$AB38=\"T1 (PZQ+ALB/MBD)\"), \"T1 (PZQ+ALB/MBD)\", \" \")","v":" "},null,null,null,null,null,0,null,null,null,0," "," "," "," "]
[{"$f":"IF(COUNTRY_INFO!A39=0,\" \",COUNTRY_INFO!A39)","v":"South Sudan"},{"$f":"IF(COUNTRY_INFO!B39=0,\" \",COUNTRY_INFO!B39)","v":"Lakes"},{"$f":"IF(COUNTRY_INFO!C39=0,\" \",COUNTRY_INFO!C39)","v":"RUMBEK EAST"},{"$f":"IF(OR(COUNTRY_INFO!$AA39=\"T1 (PZQ+ALB/MBD)\",COUNTRY_INFO!$AB39=\"T1 (PZQ+ALB/MBD)\"), \"T1 (PZQ+ALB/MBD)\", \" \")","v":" "},null,null,null,null,null,0,null,null,null,0," "," "," "," "]
[{"$f":"IF(COUNTRY_INFO!A40=0,\" \",COUNTRY_INFO!A40)","v":"South Sudan"},{"$f":"IF(COUNTRY_INFO!B40=0,\" \",COUNTRY_INFO!B40)","v":"Lakes"},{"$f":"IF(COUNTRY_INFO!C40=0,\" \",COUNTRY_INFO!C40)","v":"YIROL WEST"},{"$f":"IF(OR(COUNTRY_INFO!$AA40=\"T1 (PZQ+ALB/MBD)\",COUNTRY_INFO!$AB40=\"T1 (PZQ+ALB/MBD)\"), \"T1 (PZQ+ALB/MBD)\", \" \")","v":" "},null,null,null,null,null,0,null,null,null,0," "," "," "," "]
[{"$f":"IF(COUNTRY_INFO!A41=0,\" \",COUNTRY_INFO!A41)","v":"South Sudan"},{"$f":"IF(COUNTRY_INFO!B41=0,\" \",COUNTRY_INFO!B41)","v":"Lakes"},{"$f":"IF(COUNTRY_INFO!C41=0,\" \",COUNTRY_INFO!C41)","v":"YIROL EAST"},{"$f":"IF(OR(COUNTRY_INFO!$AA41=\"T1 (PZQ+ALB/MBD)\",COUNTRY_INFO!$AB41=\"T1 (PZQ+ALB/MBD)\"), \"T1 (PZQ+ALB/MBD)\", \" \")","v":" "},null,null,null,null,null,0,null,null,null,0," "," "," "," "]
[{"$f":"IF(COUNTRY_INFO!A42=0,\" \",COUNTRY_INFO!A42)","v":"South Sudan"},{"$f":"IF(COUNTRY_INFO!B42=0,\" \",COUNTRY_INFO!B42)","v":"Lakes"},{"$f":"IF(COUNTRY_INFO!C42=0,\" \",COUNTRY_INFO!C42)","v":"AWERIAL"},{"$f":"IF(OR(COUNTRY_INFO!$AA42=\"T1 (PZQ+ALB/MBD)\",COUNTRY_INFO!$AB42=\"T1 (PZQ+ALB/MBD)\"), \"T1 (PZQ+ALB/MBD)\", \" \")","v":" "},null,null,null,null,null,0,null,null,null,0," "," "," "," "]
[{"$f":"IF(COUNTRY_INFO!A43=0,\" \",COUNTRY_INFO!A43)","v":"South Sudan"},{"$f":"IF(COUNTRY_INFO!B43=0,\" \",COUNTRY_INFO!B43)","v":"Northern Bahr El Ghazal"},{"$f":"IF(COUNTRY_INFO!C43=0,\" \",COUNTRY_INFO!C43)","v":"AWIEL NORTH"},{"$f":"IF(OR(COUNTRY_INFO!$AA43=\"T1 (PZQ+ALB/MBD)\",COUNTRY_INFO!$AB43=\"T1 (PZQ+ALB/MBD)\"), \"T1 (PZQ+ALB/MBD)\", \" \")","v":" "},null,null,null,null,null,0,null,null,null,0," "," "," "," "]
[{"$f":"IF(COUNTRY_INFO!A44=0,\" \",COUNTRY_INFO!A44)","v":"South Sudan"},{"$f":"IF(COUNTRY_INFO!B44=0,\" \",COUNTRY_INFO!B44)","v":"Northern Bahr El Ghazal"},{"$f":"IF(COUNTRY_INFO!C44=0,\" \",COUNTRY_INFO!C44)","v":"AWIEL EAST"},{"$f":"IF(OR(COUNTRY_INFO!$AA44=\"T1 (PZQ+ALB/MBD)\",COUNTRY_INFO!$AB44=\"T1 (PZQ+ALB/MBD)\"), \"T1 (PZQ+ALB/MBD)\", \" \")","v":" "},null,null,null,null,null,0,null,null,null,0," "," "," "," "]
[{"$f":"IF(COUNTRY_INFO!A45=0,\" \",COUNTRY_INFO!A45)","v":"South Sudan"},{"$f":"IF(COUNTRY_INFO!B45=0,\" \",COUNTRY_INFO!B45)","v":"Northern Bahr El Ghazal"},{"$f":"IF(COUNTRY_INFO!C45=0,\" \",COUNTRY_INFO!C45)","v":"AWIEL SOUTH"},{"$f":"IF(OR(COUNTRY_INFO!$AA45=\"T1 (PZQ+ALB/MBD)\",COUNTRY_INFO!$AB45=\"T1 (PZQ+ALB/MBD)\"), \"T1 (PZQ+ALB/MBD)\", \" \")","v":" "},null,null,null,null,null,0,null,null,null,0," "," "," "," "]
[{"$f":"IF(COUNTRY_INFO!A46=0,\" \",COUNTRY_INFO!A46)","v":"South Sudan"},{"$f":"IF(COUNTRY_INFO!B46=0,\" \",COUNTRY_INFO!B46)","v":"Northern Bahr El Ghazal"},{"$f":"IF(COUNTRY_INFO!C46=0,\" \",COUNTRY_INFO!C46)","v":"AWIEL WEST"},{"$f":"IF(OR(COUNTRY_INFO!$AA46=\"T1 (PZQ+ALB/MBD)\",COUNTRY_INFO!$AB46=\"T1 (PZQ+ALB/MBD)\"), \"T1 (PZQ+ALB/MBD)\", \" \")","v":" "},null,null,null,null,null,0,null,null,null,0," "," "," "," "]
[{"$f":"IF(COUNTRY_INFO!A47=0,\" \",COUNTRY_INFO!A47)","v":"South Sudan"},{"$f":"IF(COUNTRY_INFO!B47=0,\" \",COUNTRY_INFO!B47)","v":"Northern Bahr El Ghazal"},{"$f":"IF(COUNTRY_INFO!C47=0,\" \",COUNTRY_INFO!C47)","v":"AWIEL CENTRE"},{"$f":"IF(OR(COUNTRY_INFO!$AA47=\"T1 (PZQ+ALB/MBD)\",COUNTRY_INFO!$AB47=\"T1 (PZQ+ALB/MBD)\"), \"T1 (PZQ+ALB/MBD)\", \" \")","v":" "},null,null,null,null,null,0,null,null,null,0," "," "," "," "]
[{"$f":"IF(COUNTRY_INFO!A48=0,\" \",COUNTRY_INFO!A48)","v":"South Sudan"},{"$f":"IF(COUNTRY_INFO!B48=0,\" \",COUNTRY_INFO!B48)","v":"Unity"},{"$f":"IF(COUNTRY_INFO!C48=0,\" \",COUNTRY_INFO!C48)","v":"PARIANG"},{"$f":"IF(OR(COUNTRY_INFO!$AA48=\"T1 (PZQ+ALB/MBD)\",COUNTRY_INFO!$AB48=\"T1 (PZQ+ALB/MBD)\"), \"T1 (PZQ+ALB/MBD)\", \" \")","v":" "},null,null,null,null,null,0,null,null,null,0," "," "," "," "]
[{"$f":"IF(COUNTRY_INFO!A49=0,\" \",COUNTRY_INFO!A49)","v":"South Sudan"},{"$f":"IF(COUNTRY_INFO!B49=0,\" \",COUNTRY_INFO!B49)","v":"Unity"},{"$f":"IF(COUNTRY_INFO!C49=0,\" \",COUNTRY_INFO!C49)","v":"ABIEMNHOM"},{"$f":"IF(OR(COUNTRY_INFO!$AA49=\"T1 (PZQ+ALB/MBD)\",COUNTRY_INFO!$AB49=\"T1 (PZQ+ALB/MBD)\"), \"T1 (PZQ+ALB/MBD)\", \" \")","v":" "},null,null,null,null,null,0,null,null,null,0," "," "," "," "]
[{"$f":"IF(COUNTRY_INFO!A50=0,\" \",COUNTRY_INFO!A50)","v":"South Sudan"},{"$f":"IF(COUNTRY_INFO!B50=0,\" \",COUNTRY_INFO!B50)","v":"Unity"},{"$f":"IF(COUNTRY_INFO!C50=0,\" \",COUNTRY_INFO!C50)","v":"MAYOM"},{"$f":"IF(OR(COUNTRY_INFO!$AA50=\"T1 (PZQ+ALB/MBD)\",COUNTRY_INFO!$AB50=\"T1 (PZQ+ALB/MBD)\"), \"T1 (PZQ+ALB/MBD)\", \" \")","v":" "},null,null,null,null,null,0,null,null,null,0," "," "," "," "]
[{"$f":"IF(COUNTRY_INFO!A51=0,\" \",COUNTRY_INFO!A51)","v":"South Sudan"},{"$f":"IF(COUNTRY_INFO!B51=0,\" \",COUNTRY_INFO!B51)","v":"Unity"},{"$f":"IF(COUNTRY_INFO!C51=0,\" \",COUNTRY_INFO!C51)","v":"RUBKONA"},{"$f":"IF(OR(COUNTRY_INFO!$AA51=\"T1 (PZQ+ALB/MBD)\",COUNTRY_INFO!$AB51=\"T1 (PZQ+ALB/MBD)\"), \"T1 (PZQ+ALB/MBD)\", \" \")","v":" "},null,null,null,null,null,0,null,null,null,0," "," "," "," "]
[{"$f":"IF(COUNTRY_INFO!A52=0,\" \",COUNTRY_INFO!A52)","v":"South Sudan"},{"$f":"IF(COUNTRY_INFO!B52=0,\" \",COUNTRY_INFO!B52)","v":"Unity"},{"$f":"IF(COUNTRY_INFO!C52=0,\" \",COUNTRY_INFO!C52)","v":"GUIT"},{"$f":"IF(OR(COUNTRY_INFO!$AA52=\"T1 (PZQ+ALB/MBD)\",COUNTRY_INFO!$AB52=\"T1 (PZQ+ALB/MBD)\"), \"T1 (PZQ+ALB/MBD)\", \" \")","v":" "},null,null,null,null,null,0,null,null,null,0," "," "," "," "]
[{"$f":"IF(COUNTRY_INFO!A53=0,\" \",COUNTRY_INFO!A53)","v":"South Sudan"},{"$f":"IF(COUNTRY_INFO!B53=0,\" \",COUNTRY_INFO!B53)","v":"Unity"},{"$f":"IF(COUNTRY_INFO!C53=0,\" \",COUNTRY_INFO!C53)","v":"KOCH"},{"$f":"IF(OR(COUNTRY_INFO!$AA53=\"T1 (PZQ+ALB/MBD)\",COUNTRY_INFO!$AB53=\"T1 (PZQ+ALB/MBD)\"), \"T1 (PZQ+ALB/MBD)\", \" \")","v":" "},null,null,null,null,null,0,null,null,null,0," "," "," "," "]
[{"$f":"IF(COUNTRY_INFO!A54=0,\" \",COUNTRY_INFO!A54)","v":"South Sudan"},{"$f":"IF(COUNTRY_INFO!B54=0,\" \",COUNTRY_INFO!B54)","v":"Unity"},{"$f":"IF(COUNTRY_INFO!C54=0,\" \",COUNTRY_INFO!C54)","v":"LEER"},{"$f":"IF(OR(COUNTRY_INFO!$AA54=\"T1 (PZQ+ALB/MBD)\",COUNTRY_INFO!$AB54=\"T1 (PZQ+ALB/MBD)\"), \"T1 (PZQ+ALB/MBD)\", \" \")","v":" "},null,null,null,null,null,0,null,null,null,0," "," "," "," "]
[{"$f":"IF(COUNTRY_INFO!A55=0,\" \",COUNTRY_INFO!A55)","v":"South Sudan"},{"$f":"IF(COUNTRY_INFO!B55=0,\" \",COUNTRY_INFO!B55)","v":"Unity"},{"$f":"IF(COUNTRY_INFO!C55=0,\" \",COUNTRY_INFO!C55)","v":"MAYENDIT"},{"$f":"IF(OR(COUNTRY_INFO!$AA55=\"T1 (PZQ+ALB/MBD)\",COUNTRY_INFO!$AB55=\"T1 (PZQ+ALB/MBD)\"), \"T1 (PZQ+ALB/MBD)\", \" \")","v":" "},null,null,null,null,null,0,null,null,null,0," "," "," "," "]
[{"$f":"IF(COUNTRY_INFO!A56=0,\" \",COUNTRY_INFO!A56)","v":"South Sudan"},{"$f":"IF(COUNTRY_INFO!B56=0,\" \",COUNTRY_INFO!B56)","v":"Unity"},{"$f":"IF(COUNTRY_INFO!C56=0,\" \",COUNTRY_INFO!C56)","v":"PAYNIJAR"},{"$f":"IF(OR(COUNTRY_INFO!$AA56=\"T1 (PZQ+ALB/MBD)\",COUNTRY_INFO!$AB56=\"T1 (PZQ+ALB/MBD)\"), \"T1 (PZQ+ALB/MBD)\", \" \")","v":" "},null,null,null,null,null,0,null,null,null,0," "," "," "," "]
[{"$f":"IF(COUNTRY_INFO!A57=0,\" \",COUNTRY_INFO!A57)","v":"South Sudan"},{"$f":"IF(COUNTRY_INFO!B57=0,\" \",COUNTRY_INFO!B57)","v":"Upper Nile"},{"$f":"IF(COUNTRY_INFO!C57=0,\" \",COUNTRY_INFO!C57)","v":"RENK"},{"$f":"IF(OR(COUNTRY_INFO!$AA57=\"T1 (PZQ+ALB/MBD)\",COUNTRY_INFO!$AB57=\"T1 (PZQ+ALB/MBD)\"), \"T1 (PZQ+ALB/MBD)\", \" \")","v":" "},null,null,null,null,null,0,null,null,null,0," "," "," "," "]
[{"$f":"IF(COUNTRY_INFO!A58=0,\" \",COUNTRY_INFO!A58)","v":"South Sudan"},{"$f":"IF(COUNTRY_INFO!B58=0,\" \",COUNTRY_INFO!B58)","v":"Upper Nile"},{"$f":"IF(COUNTRY_INFO!C58=0,\" \",COUNTRY_INFO!C58)","v":"MANYO"},{"$f":"IF(OR(COUNTRY_INFO!$AA58=\"T1 (PZQ+ALB/MBD)\",COUNTRY_INFO!$AB58=\"T1 (PZQ+ALB/MBD)\"), \"T1 (PZQ+ALB/MBD)\", \" \")","v":" "},null,null,null,null,null,0,null,null,null,0," "," "," "," "]
[{"$f":"IF(COUNTRY_INFO!A59=0,\" \",COUNTRY_INFO!A59)","v":"South Sudan"},{"$f":"IF(COUNTRY_INFO!B59=0,\" \",COUNTRY_INFO!B59)","v":"Upper Nile"},{"$f":"IF(COUNTRY_INFO!C59=0,\" \",COUNTRY_INFO!C59)","v":"FASHODA"},{"$f":"IF(OR(COUNTRY_INFO!$AA59=\"T1 (PZQ+ALB/MBD)\",COUNTRY_INFO!$AB59=\"T1 (PZQ+ALB/MBD)\"), \"T1 (PZQ+ALB/MBD)\", \" \")","v":" "},null,null,null,null,null,0,null,null,null,0," "," "," "," "]
[{"$f":"IF(COUNTRY_INFO!A60=0,\" \",COUNTRY_INFO!A60)","v":"South Sudan"},{"$f":"IF(COUNTRY_INFO!B60=0,\" \",COUNTRY_INFO!B60)","v":"Upper Nile"},{"$f":"IF(COUNTRY_INFO!C60=0,\" \",COUNTRY_INFO!C60)","v":"MELUT"},{"$f":"IF(OR(COUNTRY_INFO!$AA60=\"T1 (PZQ+ALB/MBD)\",COUNTRY_INFO!$AB60=\"T1 (PZQ+ALB/MBD)\"), \"T1 (PZQ+ALB/MBD)\", \" \")","v":" "},null,null,null,null,null,0,null,null,null,0," "," "," "," "]
[{"$f":"IF(COUNTRY_INFO!A61=0,\" \",COUNTRY_INFO!A61)","v":"South Sudan"},{"$f":"IF(COUNTRY_INFO!B61=0,\" \",COUNTRY_INFO!B61)","v":"Upper Nile"},{"$f":"IF(COUNTRY_INFO!C61=0,\" \",COUNTRY_INFO!C61)","v":"MABAN"},{"$f":"IF(OR(COUNTRY_INFO!$AA61=\"T1 (PZQ+ALB/MBD)\",COUNTRY_INFO!$AB61=\"T1 (PZQ+ALB/MBD)\"), \"T1 (PZQ+ALB/MBD)\", \" \")","v":" "},null,null,null,null,null,0,null,null,null,0," "," "," "," "]
[{"$f":"IF(COUNTRY_INFO!A62=0,\" \",COUNTRY_INFO!A62)","v":"South Sudan"},{"$f":"IF(COUNTRY_INFO!B62=0,\" \",COUNTRY_INFO!B62)","v":"Upper Nile"},{"$f":"IF(COUNTRY_INFO!C62=0,\" \",COUNTRY_INFO!C62)","v":"MAIWUT"},{"$f":"IF(OR(COUNTRY_INFO!$AA62=\"T1 (PZQ+ALB/MBD)\",COUNTRY_INFO!$AB62=\"T1 (PZQ+ALB/MBD)\"), \"T1 (PZQ+ALB/MBD)\", \" \")","v":" "},null,null,null,null,null,0,null,null,null,0," "," "," "," "]
[{"$f":"IF(COUNTRY_INFO!A63=0,\" \",COUNTRY_INFO!A63)","v":"South Sudan"},{"$f":"IF(COUNTRY_INFO!B63=0,\" \",COUNTRY_INFO!B63)","v":"Upper Nile"},{"$f":"IF(COUNTRY_INFO!C63=0,\" \",COUNTRY_INFO!C63)","v":"LUAKPINY/NASIR"},{"$f":"IF(OR(COUNTRY_INFO!$AA63=\"T1 (PZQ+ALB/MBD)\",COUNTRY_INFO!$AB63=\"T1 (PZQ+ALB/MBD)\"), \"T1 (PZQ+ALB/MBD)\", \" \")","v":" "},null,null,null,null,null,0,null,null,null,0," "," "," "," "]
[{"$f":"IF(COUNTRY_INFO!A64=0,\" \",COUNTRY_INFO!A64)","v":"South Sudan"},{"$f":"IF(COUNTRY_INFO!B64=0,\" \",COUNTRY_INFO!B64)","v":"Upper Nile"},{"$f":"IF(COUNTRY_INFO!C64=0,\" \",COUNTRY_INFO!C64)","v":"LONGOCHUK"},{"$f":"IF(OR(COUNTRY_INFO!$AA64=\"T1 (PZQ+ALB/MBD)\",COUNTRY_INFO!$AB64=\"T1 (PZQ+ALB/MBD)\"), \"T1 (PZQ+ALB/MBD)\", \" \")","v":" "},null,null,null,null,null,0,null,null,null,0," "," "," "," "]
[{"$f":"IF(COUNTRY_INFO!A65=0,\" \",COUNTRY_INFO!A65)","v":"South Sudan"},{"$f":"IF(COUNTRY_INFO!B65=0,\" \",COUNTRY_INFO!B65)","v":"Upper Nile"},{"$f":"IF(COUNTRY_INFO!C65=0,\" \",COUNTRY_INFO!C65)","v":"ULANG"},{"$f":"IF(OR(COUNTRY_INFO!$AA65=\"T1 (PZQ+ALB/MBD)\",COUNTRY_INFO!$AB65=\"T1 (PZQ+ALB/MBD)\"), \"T1 (PZQ+ALB/MBD)\", \" \")","v":" "},null,null,null,null,null,0,null,null,null,0," "," "," "," "]
[{"$f":"IF(COUNTRY_INFO!A66=0,\" \",COUNTRY_INFO!A66)","v":"South Sudan"},{"$f":"IF(COUNTRY_INFO!B66=0,\" \",COUNTRY_INFO!B66)","v":"Upper Nile"},{"$f":"IF(COUNTRY_INFO!C66=0,\" \",COUNTRY_INFO!C66)","v":"BALIET"},{"$f":"IF(OR(COUNTRY_INFO!$AA66=\"T1 (PZQ+ALB/MBD)\",COUNTRY_INFO!$AB66=\"T1 (PZQ+ALB/MBD)\"), \"T1 (PZQ+ALB/MBD)\", \" \")","v":" "},null,null,null,null,null,0,null,null,null,0," "," "," "," "]
[{"$f":"IF(COUNTRY_INFO!A67=0,\" \",COUNTRY_INFO!A67)","v":"South Sudan"},{"$f":"IF(COUNTRY_INFO!B67=0,\" \",COUNTRY_INFO!B67)","v":"Upper Nile"},{"$f":"IF(COUNTRY_INFO!C67=0,\" \",COUNTRY_INFO!C67)","v":"MALAKAL"},{"$f":"IF(OR(COUNTRY_INFO!$AA67=\"T1 (PZQ+ALB/MBD)\",COUNTRY_INFO!$AB67=\"T1 (PZQ+ALB/MBD)\"), \"T1 (PZQ+ALB/MBD)\", \" \")","v":" "},null,null,null,null,null,0,null,null,null,0," "," "," "," "]
[{"$f":"IF(COUNTRY_INFO!A68=0,\" \",COUNTRY_INFO!A68)","v":"South Sudan"},{"$f":"IF(COUNTRY_INFO!B68=0,\" \",COUNTRY_INFO!B68)","v":"Upper Nile"},{"$f":"IF(COUNTRY_INFO!C68=0,\" \",COUNTRY_INFO!C68)","v":"PANYKANG"},{"$f":"IF(OR(COUNTRY_INFO!$AA68=\"T1 (PZQ+ALB/MBD)\",COUNTRY_INFO!$AB68=\"T1 (PZQ+ALB/MBD)\"), \"T1 (PZQ+ALB/MBD)\", \" \")","v":" "},null,null,null,null,null,0,null,null,null,0," "," "," "," "]
[{"$f":"IF(COUNTRY_INFO!A69=0,\" \",COUNTRY_INFO!A69)","v":"South Sudan"},{"$f":"IF(COUNTRY_INFO!B69=0,\" \",COUNTRY_INFO!B69)","v":"Warrap"},{"$f":"IF(COUNTRY_INFO!C69=0,\" \",COUNTRY_INFO!C69)","v":"ABYEI"},{"$f":"IF(OR(COUNTRY_INFO!$AA69=\"T1 (PZQ+ALB/MBD)\",COUNTRY_INFO!$AB69=\"T1 (PZQ+ALB/MBD)\"), \"T1 (PZQ+ALB/MBD)\", \" \")","v":" "},null,null,null,null,null,0,null,null,null,0," "," "," "," "]
[{"$f":"IF(COUNTRY_INFO!A70=0,\" \",COUNTRY_INFO!A70)","v":"South Sudan"},{"$f":"IF(COUNTRY_INFO!B70=0,\" \",COUNTRY_INFO!B70)","v":"Warrap"},{"$f":"IF(COUNTRY_INFO!C70=0,\" \",COUNTRY_INFO!C70)","v":"TWIC"},{"$f":"IF(OR(COUNTRY_INFO!$AA70=\"T1 (PZQ+ALB/MBD)\",COUNTRY_INFO!$AB70=\"T1 (PZQ+ALB/MBD)\"), \"T1 (PZQ+ALB/MBD)\", \" \")","v":" "},null,null,null,null,null,0,null,null,null,0," "," "," "," "]
[{"$f":"IF(COUNTRY_INFO!A71=0,\" \",COUNTRY_INFO!A71)","v":"South Sudan"},{"$f":"IF(COUNTRY_INFO!B71=0,\" \",COUNTRY_INFO!B71)","v":"Warrap"},{"$f":"IF(COUNTRY_INFO!C71=0,\" \",COUNTRY_INFO!C71)","v":"GOGRIAL WEST"},{"$f":"IF(OR(COUNTRY_INFO!$AA71=\"T1 (PZQ+ALB/MBD)\",COUNTRY_INFO!$AB71=\"T1 (PZQ+ALB/MBD)\"), \"T1 (PZQ+ALB/MBD)\", \" \")","v":" "},null,null,null,null,null,0,null,null,null,0," "," "," "," "]
[{"$f":"IF(COUNTRY_INFO!A72=0,\" \",COUNTRY_INFO!A72)","v":"South Sudan"},{"$f":"IF(COUNTRY_INFO!B72=0,\" \",COUNTRY_INFO!B72)","v":"Warrap"},{"$f":"IF(COUNTRY_INFO!C72=0,\" \",COUNTRY_INFO!C72)","v":"GOGRIAL EAST"},{"$f":"IF(OR(COUNTRY_INFO!$AA72=\"T1 (PZQ+ALB/MBD)\",COUNTRY_INFO!$AB72=\"T1 (PZQ+ALB/MBD)\"), \"T1 (PZQ+ALB/MBD)\", \" \")","v":" "},null,null,null,null,null,0,null,null,null,0," "," "," "," "]
[{"$f":"IF(COUNTRY_INFO!A73=0,\" \",COUNTRY_INFO!A73)","v":"South Sudan"},{"$f":"IF(COUNTRY_INFO!B73=0,\" \",COUNTRY_INFO!B73)","v":"Warrap"},{"$f":"IF(COUNTRY_INFO!C73=0,\" \",COUNTRY_INFO!C73)","v":"TONJ NORTH"},{"$f":"IF(OR(COUNTRY_INFO!$AA73=\"T1 (PZQ+ALB/MBD)\",COUNTRY_INFO!$AB73=\"T1 (PZQ+ALB/MBD)\"), \"T1 (PZQ+ALB/MBD)\", \" \")","v":" "},null,null,null,null,null,0,null,null,null,0," "," "," "," "]
[{"$f":"IF(COUNTRY_INFO!A74=0,\" \",COUNTRY_INFO!A74)","v":"South Sudan"},{"$f":"IF(COUNTRY_INFO!B74=0,\" \",COUNTRY_INFO!B74)","v":"Warrap"},{"$f":"IF(COUNTRY_INFO!C74=0,\" \",COUNTRY_INFO!C74)","v":"TONJ EAST"},{"$f":"IF(OR(COUNTRY_INFO!$AA74=\"T1 (PZQ+ALB/MBD)\",COUNTRY_INFO!$AB74=\"T1 (PZQ+ALB/MBD)\"), \"T1 (PZQ+ALB/MBD)\", \" \")","v":" "},null,null,null,null,null,0,null,null,null,0," "," "," "," "]
[{"$f":"IF(COUNTRY_INFO!A75=0,\" \",COUNTRY_INFO!A75)","v":"South Sudan"},{"$f":"IF(COUNTRY_INFO!B75=0,\" \",COUNTRY_INFO!B75)","v":"Warrap"},{"$f":"IF(COUNTRY_INFO!C75=0,\" \",COUNTRY_INFO!C75)","v":"TONJ SOUTH"},{"$f":"IF(OR(COUNTRY_INFO!$AA75=\"T1 (PZQ+ALB/MBD)\",COUNTRY_INFO!$AB75=\"T1 (PZQ+ALB/MBD)\"), \"T1 (PZQ+ALB/MBD)\", \" \")","v":" "},null,null,null,null,null,{"$f":"SUM(G75:I75)","v":0},null,null,null,{"$f":"SUM(K75:M75)","v":0},{"$f":"IF(G75<>0, IF(K75/G75*100=0, \"-\", K75/G75*100), \" \")","v":" "},{"$f":"IF(H75<>0, IF(L75/H75*100=0, \"-\", L75/H75*100), \" \")","v":" "},{"$f":"IF(I75<>0, IF(M75/I75*100=0, \"-\", M75/I75*100), \" \")","v":" "},{"$f":"IF(J75<>0, IF(N75/J75*100=0, \"-\", N75/J75*100), \" \")","v":" "}]
[{"$f":"IF(COUNTRY_INFO!A76=0,\" \",COUNTRY_INFO!A76)","v":"South Sudan"},{"$f":"IF(COUNTRY_INFO!B76=0,\" \",COUNTRY_INFO!B76)","v":"Wesstern Equatoria"},{"$f":"IF(COUNTRY_INFO!C76=0,\" \",COUNTRY_INFO!C76)","v":"TAMBURA"},{"$f":"IF(OR(COUNTRY_INFO!$AA76=\"T1 (PZQ+ALB/MBD)\",COUNTRY_INFO!$AB76=\"T1 (PZQ+ALB/MBD)\"), \"T1 (PZQ+ALB/MBD)\", \" \")","v":" "},null,null,null,null,null,0,null,null,null,0," "," "," "," "]
[{"$f":"IF(COUNTRY_INFO!A77=0,\" \",COUNTRY_INFO!A77)","v":"South Sudan"},{"$f":"IF(COUNTRY_INFO!B77=0,\" \",COUNTRY_INFO!B77)","v":"Wesstern Equatoria"},{"$f":"IF(COUNTRY_INFO!C77=0,\" \",COUNTRY_INFO!C77)","v":"NAGERO"},{"$f":"IF(OR(COUNTRY_INFO!$AA77=\"T1 (PZQ+ALB/MBD)\",COUNTRY_INFO!$AB77=\"T1 (PZQ+ALB/MBD)\"), \"T1 (PZQ+ALB/MBD)\", \" \")","v":" "},null,null,null,null,null,0,null,null,null,0," "," "," "," "]
[{"$f":"IF(COUNTRY_INFO!A78=0,\" \",COUNTRY_INFO!A78)","v":"South Sudan"},{"$f":"IF(COUNTRY_INFO!B78=0,\" \",COUNTRY_INFO!B78)","v":"Wesstern Equatoria"},{"$f":"IF(COUNTRY_INFO!C78=0,\" \",COUNTRY_INFO!C78)","v":"NZARA"},{"$f":"IF(OR(COUNTRY_INFO!$AA78=\"T1 (PZQ+ALB/MBD)\",COUNTRY_INFO!$AB78=\"T1 (PZQ+ALB/MBD)\"), \"T1 (PZQ+ALB/MBD)\", \" \")","v":" "},null,null,null,null,null,0,null,null,null,0," "," "," "," "]
[{"$f":"IF(COUNTRY_INFO!A79=0,\" \",COUNTRY_INFO!A79)","v":"South Sudan"},{"$f":"IF(COUNTRY_INFO!B79=0,\" \",COUNTRY_INFO!B79)","v":"Wesstern Equatoria"},{"$f":"IF(COUNTRY_INFO!C79=0,\" \",COUNTRY_INFO!C79)","v":"EZO"},{"$f":"IF(OR(COUNTRY_INFO!$AA79=\"T1 (PZQ+ALB/MBD)\",COUNTRY_INFO!$AB79=\"T1 (PZQ+ALB/MBD)\"), \"T1 (PZQ+ALB/MBD)\", \" \")","v":" "},null,null,null,null,null,0,null,null,null,0," "," "," "," "]
[{"$f":"IF(COUNTRY_INFO!A80=0,\" \",COUNTRY_INFO!A80)","v":"South Sudan"},{"$f":"IF(COUNTRY_INFO!B80=0,\" \",COUNTRY_INFO!B80)","v":"Wesstern Equatoria"},{"$f":"IF(COUNTRY_INFO!C80=0,\" \",COUNTRY_INFO!C80)","v":"YAMBIO"},{"$f":"IF(OR(COUNTRY_INFO!$AA80=\"T1 (PZQ+ALB/MBD)\",COUNTRY_INFO!$AB80=\"T1 (PZQ+ALB/MBD)\"), \"T1 (PZQ+ALB/MBD)\", \" \")","v":" "},null,null,null,null,null,0,null,null,null,0," "," "," "," "]
[{"$f":"IF(COUNTRY_INFO!A81=0,\" \",COUNTRY_INFO!A81)","v":"South Sudan"},{"$f":"IF(COUNTRY_INFO!B81=0,\" \",COUNTRY_INFO!B81)","v":"Wesstern Equatoria"},{"$f":"IF(COUNTRY_INFO!C81=0,\" \",COUNTRY_INFO!C81)","v":"IBBA"},{"$f":"IF(OR(COUNTRY_INFO!$AA81=\"T1 (PZQ+ALB/MBD)\",COUNTRY_INFO!$AB81=\"T1 (PZQ+ALB/MBD)\"), \"T1 (PZQ+ALB/MBD)\", \" \")","v":" "},null,null,null,null,null,0,null,null,null,0," "," "," "," "]
[{"$f":"IF(COUNTRY_INFO!A82=0,\" \",COUNTRY_INFO!A82)","v":"South Sudan"},{"$f":"IF(COUNTRY_INFO!B82=0,\" \",COUNTRY_INFO!B82)","v":"Wesstern Equatoria"},{"$f":"IF(COUNTRY_INFO!C82=0,\" \",COUNTRY_INFO!C82)","v":"MARIDI"},{"$f":"IF(OR(COUNTRY_INFO!$AA82=\"T1 (PZQ+ALB/MBD)\",COUNTRY_INFO!$AB82=\"T1 (PZQ+ALB/MBD)\"), \"T1 (PZQ+ALB/MBD)\", \" \")","v":" "},null,null,null,null,null,0,null,null,null,0," "," "," "," "]
[{"$f":"IF(COUNTRY_INFO!A83=0,\" \",COUNTRY_INFO!A83)","v":"South Sudan"},{"$f":"IF(COUNTRY_INFO!B83=0,\" \",COUNTRY_INFO!B83)","v":"Wesstern Equatoria"},{"$f":"IF(COUNTRY_INFO!C83=0,\" \",COUNTRY_INFO!C83)","v":"MVOLO"},{"$f":"IF(OR(COUNTRY_INFO!$AA83=\"T1 (PZQ+ALB/MBD)\",COUNTRY_INFO!$AB83=\"T1 (PZQ+ALB/MBD)\"), \"T1 (PZQ+ALB/MBD)\", \" \")","v":" "},null,null,null,null,null,0,null,null,null,0," "," "," "," "]
[{"$f":"IF(COUNTRY_INFO!A84=0,\" \",COUNTRY_INFO!A84)","v":"South Sudan"},{"$f":"IF(COUNTRY_INFO!B84=0,\" \",COUNTRY_INFO!B84)","v":"Wesstern Equatoria"},{"$f":"IF(COUNTRY_INFO!C84=0,\" \",COUNTRY_INFO!C84)","v":"MUNDRI WEST"},{"$f":"IF(OR(COUNTRY_INFO!$AA84=\"T1 (PZQ+ALB/MBD)\",COUNTRY_INFO!$AB84=\"T1 (PZQ+ALB/MBD)\"), \"T1 (PZQ+ALB/MBD)\", \" \")","v":" "},null,null,null,null,null,0,null,null,null,0," "," "," "," "]
[{"$f":"IF(COUNTRY_INFO!A85=0,\" \",COUNTRY_INFO!A85)","v":"South Sudan"},{"$f":"IF(COUNTRY_INFO!B85=0,\" \",COUNTRY_INFO!B85)","v":"Wesstern Equatoria"},{"$f":"IF(COUNTRY_INFO!C85=0,\" \",COUNTRY_INFO!C85)","v":"MUNDRI EAST"},{"$f":"IF(OR(COUNTRY_INFO!$AA85=\"T1 (PZQ+ALB/MBD)\",COUNTRY_INFO!$AB85=\"T1 (PZQ+ALB/MBD)\"), \"T1 (PZQ+ALB/MBD)\", \" \")","v":" "},null,null,null,null,null,0,null,null,null,0," "," "," "," "]
[{"$f":"IF(COUNTRY_INFO!A86=0,\" \",COUNTRY_INFO!A86)","v":"South Sudan"},{"$f":"IF(COUNTRY_INFO!B86=0,\" \",COUNTRY_INFO!B86)","v":"Western Bahr El Ghazal"},{"$f":"IF(COUNTRY_INFO!C86=0,\" \",COUNTRY_INFO!C86)","v":"RAGA"},{"$f":"IF(OR(COUNTRY_INFO!$AA86=\"T1 (PZQ+ALB/MBD)\",COUNTRY_INFO!$AB86=\"T1 (PZQ+ALB/MBD)\"), \"T1 (PZQ+ALB/MBD)\", \" \")","v":" "},null,null,null,null,null,0,null,null,null,0," "," "," "," "]
[{"$f":"IF(COUNTRY_INFO!A87=0,\" \",COUNTRY_INFO!A87)","v":"South Sudan"},{"$f":"IF(COUNTRY_INFO!B87=0,\" \",COUNTRY_INFO!B87)","v":"Western Bahr El Ghazal"},{"$f":"IF(COUNTRY_INFO!C87=0,\" \",COUNTRY_INFO!C87)","v":"JUR RIVER"},{"$f":"IF(OR(COUNTRY_INFO!$AA87=\"T1 (PZQ+ALB/MBD)\",COUNTRY_INFO!$AB87=\"T1 (PZQ+ALB/MBD)\"), \"T1 (PZQ+ALB/MBD)\", \" \")","v":" "},null,null,null,null,null,0,null,null,null,0," "," "," "," "]
[{"$f":"IF(COUNTRY_INFO!A88=0,\" \",COUNTRY_INFO!A88)","v":"South Sudan"},{"$f":"IF(COUNTRY_INFO!B88=0,\" \",COUNTRY_INFO!B88)","v":"Western Bahr El Ghazal"},{"$f":"IF(COUNTRY_INFO!C88=0,\" \",COUNTRY_INFO!C88)","v":"WAU"},{"$f":"IF(OR(COUNTRY_INFO!$AA88=\"T1 (PZQ+ALB/MBD)\",COUNTRY_INFO!$AB88=\"T1 (PZQ+ALB/MBD)\"), \"T1 (PZQ+ALB/MBD)\", \" \")","v":" "},null,null,null,null,null,0,null,null,null,0," "," "," "," "]
[{"$f":"IF(COUNTRY_INFO!A89=0,\" \",COUNTRY_INFO!A89)","v":"South Sudan"},{"$f":"IF(COUNTRY_INFO!B89=0,\" \",COUNTRY_INFO!B89)","v":"Upper Nile"},{"$f":"IF(COUNTRY_INFO!C89=0,\" \",COUNTRY_INFO!C89)","v":"MABAN Refugee"},{"$f":"IF(OR(COUNTRY_INFO!$AA89=\"T1 (PZQ+ALB/MBD)\",COUNTRY_INFO!$AB89=\"T1 (PZQ+ALB/MBD)\"), \"T1 (PZQ+ALB/MBD)\", \" \")","v":" "},null,null,null,null,null,0,null,null,null,0," "," "," "," "]

{"sheet":"T2","index":6,"n_rows":89,"n_cols":25,"rows_kept":89,"cut":false,"hidden":false,"merged":[[5,5,5,8],[5,9,5,12],[5,21,5,24],[3,0,3,2],[5,0,5,2],[5,3,6,3],[5,4,6,4],[5,17,5,20],[5,13,5,16]]}
["T 2 - Praziquantel (PZQ) "]
["Administrative structure, population requiring PC by age group, population treated by age group and coverage"]
[]
["TOTAL",null,null,null,null,{"$f":"SUBTOTAL(9,F$10:F$1010)","v":0},{"$f":"SUBTOTAL(9,G$10:G$1010)","v":0},0,0,{"$f":"SUBTOTAL(9,J$10:J$1010)","v":0},0,0,0,0,0,0,0,0,0,0,0,{"$f":"IF(F4<>0, IF(R4/F4*100=0, \"-\", R4/F4*100), \" \")","v":" "},{"$f":"IF(G4<>0, IF(S4/G4*100=0, \"-\", S4/G4*100), \" \")","v":" "},{"$f":"IF(H4<>0, IF(T4/H4*100=0, \"-\", T4/H4*100), \" \")","v":" "},{"$f":"IF(I4<>0, IF(U4/I4*100=0, \"-\", U4/I4*100), \" \")","v":" "}]
[]
["Country administrative structure",null,null,"PC implemented","Date","Population targeted for T2",null,null,null,"Population treated",null,null,null,"Population treated in HOT SPOTS",null,null,null,"Total population treated",null,null,null,"Programme coverage (%)"]
["Country","Province/State","District",null,null,"PreSAC","SAC","Adults","Total","PreSAC","SAC","Adults","Total","PreSAC","SAC","Adults","Total","PreSAC","SAC","Adults","Total","PreSAC","SAC","Adults","Total"]
[]
[]
[{"$f":"IF(COUNTRY_INFO!A10=0,\" \",COUNTRY_INFO!A10)","v":"South Sudan"},{"$f":"IF(COUNTRY_INFO!B10=0,\" \",COUNTRY_INFO!B10)","v":"Central Equatoria"},{"$f":"IF(COUNTRY_INFO!C10=0,\" \",COUNTRY_INFO!C10)","v":"TEREKEKA"},{"$f":"IF(OR(COUNTRY_INFO!$AA10=\"T2 (PZQ)\",COUNTRY_INFO!$AB10=\"T2 (PZQ)\"), \"T2 (PZQ)\", \" \")","v":" "},null,null,null,null,{"$f":"SUM(F10:H10)","v":0},null,null,null,{"$f":"SUM(J10:L10)","v":0},null,null,null,{"$f":"SUM(N10:P10)","v":0},{"$f":"MAX(J10,N10)","v":0},{"$f":"MAX(K10,O10)","v":0},{"$f":"MAX(L10,P10)","v":0},{"$f":"SUM(R10:T10)","v":0},{"$f":"IF(F10<>0, IF(R10/F10*100=0, \"-\", R10/F10*100), \" \")","v":" "},{"$f":"IF(G10<>0, IF(S10/G10*100=0, \"-\", S10/G10*100), \" \")","v":" "},{"$f":"IF(H10<>0, IF(T10/H10*100=0, \"-\",T10/H10*100), \" \")","v":" "},{"$f":"IF(I10<>0, IF(U10/I10*100=0, \"-\", U10/I10*100), \" \")","v":" "}]
[{"$f":"IF(COUNTRY_INFO!A11=0,\" \",COUNTRY_INFO!A11)","v":"South Sudan"},{"$f":"IF(COUNTRY_INFO!B11=0,\" \",COUNTRY_INFO!B11)","v":"Central Equatoria"},{"$f":"IF(COUNTRY_INFO!C11=0,\" \",COUNTRY_INFO!C11)","v":"JUBA"},{"$f":"IF(OR(COUNTRY_INFO!$AA11=\"T2 (PZQ)\",COUNTRY_INFO!$AB11=\"T2 (PZQ)\"), \"T2 (PZQ)\", \" \")","v":" "},null,null,null,null,{"$f":"SUM(F11:H11)","v":0},null,null,null,{"$f":"SUM(J11:L11)","v":0},null,null,null,{"$f":"SUM(N11:P11)","v":0},{"$f":"MAX(J11,N11)","v":0},{"$f":"MAX(K11,O11)","v":0},{"$f":"MAX(L11,P11)","v":0},{"$f":"SUM(R11:T11)","v":0},{"$f":"IF(F11<>0, IF(R11/F11*100=0, \"-\", R11/F11*100), \" \")","v":" "},{"$f":"IF(G11<>0, IF(S11/G11*100=0, \"-\", S11/G11*100), \" \")","v":" "},{"$f":"IF(H11<>0, IF(T11/H11*100=0, \"-\",T11/H11*100), \" \")","v":" "},{"$f":"IF(I11<>0, IF(U11/I11*100=0, \"-\", U11/I11*100), \" \")","v":" "}]
[{"$f":"IF(COUNTRY_INFO!A12=0,\" \",COUNTRY_INFO!A12)","v":"South Sudan"},{"$f":"IF(COUNTRY_INFO!B12=0,\" \",COUNTRY_INFO!B12)","v":"Central Equatoria"},{"$f":"IF(COUNTRY_INFO!C12=0,\" \",COUNTRY_INFO!C12)","v":"LAINYA"},{"$f":"IF(OR(COUNTRY_INFO!$AA12=\"T2 (PZQ)\",COUNTRY_INFO!$AB12=\"T2 (PZQ)\"), \"T2 (PZQ)\", \" \")","v":" "},null,null,null,null,0,null,null,null,0,null,null,null,0,0,0,0,0," "," "," "," "]
[{"$f":"IF(COUNTRY_INFO!A13=0,\" \",COUNTRY_INFO!A13)","v":"South Sudan"},{"$f":"IF(COUNTRY_INFO!B13=0,\" \",COUNTRY_INFO!B13)","v":"Central Equatoria"},{"$f":"IF(COUNTRY_INFO!C13=0,\" \",COUNTRY_INFO!C13)","v":"YEI"},{"$f":"IF(OR(COUNTRY_INFO!$AA13=\"T2 (PZQ)\",COUNTRY_INFO!$AB13=\"T2 (PZQ)\"), \"T2 (PZQ)\", \" \")","v":" "},null,null,null,null,0,null,null,null,0,null,null,null,0,0,0,0,0," "," "," "," "]
[{"$f":"IF(COUNTRY_INFO!A14=0,\" \",COUNTRY_INFO!A14)","v":"South Sudan"},{"$f":"IF(COUNTRY_INFO!B14=0,\" \",COUNTRY_INFO!B14)","v":"Central Equatoria"},{"$f":"IF(COUNTRY_INFO!C14=0,\" \",COUNTRY_INFO!C14)","v":"MOROBO"},{"$f":"IF(OR(COUNTRY_INFO!$AA14=\"T2 (PZQ)\",COUNTRY_INFO!$AB14=\"T2 (PZQ)\"), \"T2 (PZQ)\", \" \")","v":" "},null,null,null,null,0,null,null,null,0,null,null,null,0,0,0,0,0," "," "," "," "]
[{"$f":"IF(COUNTRY_INFO!A15=0,\" \",COUNTRY_INFO!A15)","v":"South Sudan"},{"$f":"IF(COUNTRY_INFO!B15=0,\" \",COUNTRY_INFO!B15)","v":"Central Equatoria"},{"$f":"IF(COUNTRY_INFO!C15=0,\" \",COUNTRY_INFO!C15)","v":"KAJO KEJI"},{"$f":"IF(OR(COUNTRY_INFO!$AA15=\"T2 (PZQ)\",COUNTRY_INFO!$AB15=\"T2 (PZQ)\"), \"T2 (PZQ)\", \" \")","v":" "},null,null,null,null,0,null,null,null,0,null,null,null,0,0,0,0,0," "," "," "," "]
[{"$f":"IF(COUNTRY_INFO!A16=0,\" \",COUNTRY_INFO!A16)","v":"South Sudan"},{"$f":"IF(COUNTRY_INFO!B16=0,\" \",COUNTRY_INFO!B16)","v":"Eastern Equatoria"},{"$f":"IF(COUNTRY_INFO!C16=0,\" \",COUNTRY_INFO!C16)","v":"TORIT"},{"$f":"IF(OR(COUNTRY_INFO!$AA16=\"T2 (PZQ)\",COUNTRY_INFO!$AB16=\"T2 (PZQ)\"), \"T2 (PZQ)\", \" \")","v":" "},null,null,null,null,0,null,null,null,0,null,null,null,0,0,0,0,0," "," "," "," "]
[{"$f":"IF(COUNTRY_INFO!A17=0,\" \",COUNTRY_INFO!A17)","v":"South Sudan"},{"$f":"IF(COUNTRY_INFO!B17=0,\" \",COUNTRY_INFO!B17)","v":"Eastern Equatoria"},{"$f":"IF(COUNTRY_INFO!C17=0,\" \",COUNTRY_INFO!C17)","v":"LOPA/LAFON"},{"$f":"IF(OR(COUNTRY_INFO!$AA17=\"T2 (PZQ)\",COUNTRY_INFO!$AB17=\"T2 (PZQ)\"), \"T2 (PZQ)\", \" \")","v":" "},null,null,null,null,0,null,null,null,0,null,null,null,0,0,0,0,0," "," "," "," "]
[{"$f":"IF(COUNTRY_INFO!A18=0,\" \",COUNTRY_INFO!A18)","v":"South Sudan"},{"$f":"IF(COUNTRY_INFO!B18=0,\" \",COUNTRY_INFO!B18)","v":"Eastern Equatoria"},{"$f":"IF(COUNTRY_INFO!C18=0,\" \",COUNTRY_INFO!C18)","v":"KAPOETA NORTH"},{"$f":"IF(OR(COUNTRY_INFO!$AA18=\"T2 (PZQ)\",COUNTRY_INFO!$AB18=\"T2 (PZQ)\"), \"T2 (PZQ)\", \" \")","v":" "},null,null,null,null,0,null,null,null,0,null,null,null,0,0,0,0,0," "," "," "," "]
[{"$f":"IF(COUNTRY_INFO!A19=0,\" \",COUNTRY_INFO!A19)","v":"South Sudan"},{"$f":"IF(COUNTRY_INFO!B19=0,\" \",COUNTRY_INFO!B19)","v":"Eastern Equatoria"},{"$f":"IF(COUNTRY_INFO!C19=0,\" \",COUNTRY_INFO!C19)","v":"KAPOETA EAST"},{"$f":"IF(OR(COUNTRY_INFO!$AA19=\"T2 (PZQ)\",COUNTRY_INFO!$AB19=\"T2 (PZQ)\"), \"T2 (PZQ)\", \" \")","v":" "},null,null,null,null,0,null,null,null,0,null,null,null,0,0,0,0,0," "," "," "," "]
[{"$f":"IF(COUNTRY_INFO!A20=0,\" \",COUNTRY_INFO!A20)","v":"South Sudan"},{"$f":"IF(COUNTRY_INFO!B20=0,\" \",COUNTRY_INFO!B20)","v":"Eastern Equatoria"},{"$f":"IF(COUNTRY_INFO!C20=0,\" \",COUNTRY_INFO!C20)","v":"KAPOETA SOUTH"},{"$f":"IF(OR(COUNTRY_INFO!$AA20=\"T2 (PZQ)\",COUNTRY_INFO!$AB20=\"T2 (PZQ)\"), \"T2 (PZQ)\", \" \")","v":" "},null,null,null,null,0,null,null,null,0,null,null,null,0,0,0,0,0," "," "," "," "]
[{"$f":"IF(COUNTRY_INFO!A21=0,\" \",COUNTRY_INFO!A21)","v":"South Sudan"},{"$f":"IF(COUNTRY_INFO!B21=0,\" \",COUNTRY_INFO!B21)","v":"Eastern Equatoria"},{"$f":"IF(COUNTRY_INFO!C21=0,\" \",COUNTRY_INFO!C21)","v":"BUDI"},{"$f":"IF(OR(COUNTRY_INFO!$AA21=\"T2 (PZQ)\",COUNTRY_INFO!$AB21=\"T2 (PZQ)\"), \"T2 (PZQ)\", \" \")","v":" "},null,null,null,null,0,null,null,null,0,null,null,null,0,0,0,0,0," "," "," "," "]
[{"$f":"IF(COUNTRY_INFO!A22=0,\" \",COUNTRY_INFO!A22)","v":"South Sudan"},{"$f":"IF(COUNTRY_INFO!B22=0,\" \",COUNTRY_INFO!B22)","v":"Eastern Equatoria"},{"$f":"IF(COUNTRY_INFO!C22=0,\" \",COUNTRY_INFO!C22)","v":"IKOTOS"},{"$f":"IF(OR(COUNTRY_INFO!$AA22=\"T2 (PZQ)\",COUNTRY_INFO!$AB22=\"T2 (PZQ)\"), \"T2 (PZQ)\", \" \")","v":" "},null,null,null,null,0,null,null,null,0,null,null,null,0,0,0,0,0," "," "," "," "]
[{"$f":"IF(COUNTRY_INFO!A23=0,\" \",COUNTRY_INFO!A23)","v":"South Sudan"},{"$f":"IF(COUNTRY_INFO!B23=0,\" \",COUNTRY_INFO!B23)","v":"Eastern Equatoria"},{"$f":"IF(COUNTRY_INFO!C23=0,\" \",COUNTRY_INFO!C23)","v":"MAGWI"},{"$f":"IF(OR(COUNTRY_INFO!$AA23=\"T2 (PZQ)\",COUNTRY_INFO!$AB23=\"T2 (PZQ)\"), \"T2 (PZQ)\", \" \")","v":" "},null,null,null,null,0,null,null,null,0,null,null,null,0,0,0,0,0," "," "," "," "]
[{"$f":"IF(COUNTRY_INFO!A24=0,\" \",COUNTRY_INFO!A24)","v":"South Sudan"},{"$f":"IF(COUNTRY_INFO!B24=0,\" \",COUNTRY_INFO!B24)","v":"Jonglei"},{"$f":"IF(COUNTRY_INFO!C24=0,\" \",COUNTRY_INFO!C24)","v":"FANGAK"},{"$f":"IF(OR(COUNTRY_INFO!$AA24=\"T2 (PZQ)\",COUNTRY_INFO!$AB24=\"T2 (PZQ)\"), \"T2 (PZQ)\", \" \")","v":" "},null,null,null,null,0,null,null,null,0,null,null,null,0,0,0,0,0," "," "," "," "]
[{"$f":"IF(COUNTRY_INFO!A25=0,\" \",COUNTRY_INFO!A25)","v":"South Sudan"},{"$f":"IF(COUNTRY_INFO!B25=0,\" \",COUNTRY_INFO!B25)","v":"Jonglei"},{"$f":"IF(COUNTRY_INFO!C25=0,\" \",COUNTRY_INFO!C25)","v":"KHORFLUS"},{"$f":"IF(OR(COUNTRY_INFO!$AA25=\"T2 (PZQ)\",COUNTRY_INFO!$AB25=\"T2 (PZQ)\"), \"T2 (PZQ)\", \" \")","v":" "},null,null,null,null,0,null,null,null,0,null,null,null,0,0,0,0,0," "," "," "," "]
[{"$f":"IF(COUNTRY_INFO!A26=0,\" \",COUNTRY_INFO!A26)","v":"South Sudan"},{"$f":"IF(COUNTRY_INFO!B26=0,\" \",COUNTRY_INFO!B26)","v":"Jonglei"},{"$f":"IF(COUNTRY_INFO!C26=0,\" \",COUNTRY_INFO!C26)","v":"AYOD"},{"$f":"IF(OR(COUNTRY_INFO!$AA26=\"T2 (PZQ)\",COUNTRY_INFO!$AB26=\"T2 (PZQ)\"), \"T2 (PZQ)\", \" \")","v":" "},null,null,null,null,0,null,null,null,0,null,null,null,0,0,0,0,0," "," "," "," "]
[{"$f":"IF(COUNTRY_INFO!A27=0,\" \",COUNTRY_INFO!A27)","v":"South Sudan"},{"$f":"IF(COUNTRY_INFO!B27=0,\" \",COUNTRY_INFO!B27)","v":"Jonglei"},{"$f":"IF(COUNTRY_INFO!C27=0,\" \",COUNTRY_INFO!C27)","v":"DUK"},{"$f":"IF(OR(COUNTRY_INFO!$AA27=\"T2 (PZQ)\",COUNTRY_INFO!$AB27=\"T2 (PZQ)\"), \"T2 (PZQ)\", \" \")","v":" "},null,null,null,null,0,null,null,null,0,null,null,null,0,0,0,0,0," "," "," "," "]
[{"$f":"IF(COUNTRY_INFO!A28=0,\" \",COUNTRY_INFO!A28)","v":"South Sudan"},{"$f":"IF(COUNTRY_INFO!B28=0,\" \",COUNTRY_INFO!B28)","v":"Jonglei"},{"$f":"IF(COUNTRY_INFO!C28=0,\" \",COUNTRY_INFO!C28)","v":"UROR"},{"$f":"IF(OR(COUNTRY_INFO!$AA28=\"T2 (PZQ)\",COUNTRY_INFO!$AB28=\"T2 (PZQ)\"), \"T2 (PZQ)\", \" \")","v":" "},null,null,null,null,0,null,null,null,0,null,null,null,0,0,0,0,0," "," "," "," "]
[{"$f":"IF(COUNTRY_INFO!A29=0,\" \",COUNTRY_INFO!A29)","v":"South Sudan"},{"$f":"IF(COUNTRY_INFO!B29=0,\" \",COUNTRY_INFO!B29)","v":"Jonglei"},{"$f":"IF(COUNTRY_INFO!C29=0,\" \",COUNTRY_INFO!C29)","v":"NYIROL"},{"$f":"IF(OR(COUNTRY_INFO!$AA29=\"T2 (PZQ)\",COUNTRY_INFO!$AB29=\"T2 (PZQ)\"), \"T2 (PZQ)\", \" \")","v":" "},null,null,null,null,0,null,null,null,0,null,null,null,0,0,0,0,0," "," "," "," "]
[{"$f":"IF(COUNTRY_INFO!A30=0,\" \",COUNTRY_INFO!A30)","v":"South Sudan"},{"$f":"IF(COUNTRY_INFO!B30=0,\" \",COUNTRY_INFO!B30)","v":"Jonglei"},{"$f":"IF(COUNTRY_INFO!C30=0,\" \",COUNTRY_INFO!C30)","v":"AKOBO"},{"$f":"IF(OR(COUNTRY_INFO!$AA30=\"T2 (PZQ)\",COUNTRY_INFO!$AB30=\"T2 (PZQ)\"), \"T2 (PZQ)\", \" \")","v":" "},null,null,null,null,0,null,null,null,0,null,null,null,0,0,0,0,0," "," "," "," "]
[{"$f":"IF(COUNTRY_INFO!A31=0,\" \",COUNTRY_INFO!A31)","v":"South Sudan"},{"$f":"IF(COUNTRY_INFO!B31=0,\" \",COUNTRY_INFO!B31)","v":"Jonglei"},{"$f":"IF(COUNTRY_INFO!C31=0,\" \",COUNTRY_INFO!C31)","v":"POCHALA"},{"$f":"IF(OR(COUNTRY_INFO!$AA31=\"T2 (PZQ)\",COUNTRY_INFO!$AB31=\"T2 (PZQ)\"), \"T2 (PZQ)\", \" \")","v":" "},null,null,null,null,0,null,null,null,0,null,null,null,0,0,0,0,0," "," "," "," "]
[{"$f":"IF(COUNTRY_INFO!A32=0,\" \",COUNTRY_INFO!A32)","v":"South Sudan"},{"$f":"IF(COUNTRY_INFO!B32=0,\" \",COUNTRY_INFO!B32)","v":"Jonglei"},{"$f":"IF(COUNTRY_INFO!C32=0,\" \",COUNTRY_INFO!C32)","v":"PIBOR"},{"$f":"IF(OR(COUNTRY_INFO!$AA32=\"T2 (PZQ)\",COUNTRY_INFO!$AB32=\"T2 (PZQ)\"), \"T2 (PZQ)\", \" \")","v":" "},null,null,null,null,0,null,null,null,0,null,null,null,0,0,0,0,0," "," "," "," "]
[{"$f":"IF(COUNTRY_INFO!A33=0,\" \",COUNTRY_INFO!A33)","v":"South Sudan"},{"$f":"IF(COUNTRY_INFO!B33=0,\" \",COUNTRY_INFO!B33)","v":"Jonglei"},{"$f":"IF(COUNTRY_INFO!C33=0,\" \",COUNTRY_INFO!C33)","v":"TWIC EAST"},{"$f":"IF(OR(COUNTRY_INFO!$AA33=\"T2 (PZQ)\",COUNTRY_INFO!$AB33=\"T2 (PZQ)\"), \"T2 (PZQ)\", \" \")","v":" "},null,null,null,null,0,null,null,null,0,null,null,null,0,0,0,0,0," "," "," "," "]
[{"$f":"IF(COUNTRY_INFO!A34=0,\" \",COUNTRY_INFO!A34)","v":"South Sudan"},{"$f":"IF(COUNTRY_INFO!B34=0,\" \",COUNTRY_INFO!B34)","v":"Jonglei"},{"$f":"IF(COUNTRY_INFO!C34=0,\" \",COUNTRY_INFO!C34)","v":"BOR SOUTH"},{"$f":"IF(OR(COUNTRY_INFO!$AA34=\"T2 (PZQ)\",COUNTRY_INFO!$AB34=\"T2 (PZQ)\"), \"T2 (PZQ)\", \" \")","v":" "},null,null,null,null,0,null,null,null,0,null,null,null,0,0,0,0,0," "," "," "," "]
[{"$f":"IF(COUNTRY_INFO!A35=0,\" \",COUNTRY_INFO!A35)","v":"South Sudan"},{"$f":"IF(COUNTRY_INFO!B35=0,\" \",COUNTRY_INFO!B35)","v":"Lakes"},{"$f":"IF(COUNTRY_INFO!C35=0,\" \",COUNTRY_INFO!C35)","v":"CUEBIT"},{"$f":"IF(OR(COUNTRY_INFO!$AA35=\"T2 (PZQ)\",COUNTRY_INFO!$AB35=\"T2 (PZQ)\"), \"T2 (PZQ)\", \" \")","v":" "},null,null,null,null,0,null,null,null,0,null,null,null,0,0,0,0,0," "," "," "," "]
[{"$f":"IF(COUNTRY_INFO!A36=0,\" \",COUNTRY_INFO!A36)","v":"South Sudan"},{"$f":"IF(COUNTRY_INFO!B36=0,\" \",COUNTRY_INFO!B36)","v":"Lakes"},{"$f":"IF(COUNTRY_INFO!C36=0,\" \",COUNTRY_INFO!C36)","v":"RUMBEK NORTH"},{"$f":"IF(OR(COUNTRY_INFO!$AA36=\"T2 (PZQ)\",COUNTRY_INFO!$AB36=\"T2 (PZQ)\"), \"T2 (PZQ)\", \" \")","v":" "},null,null,null,null,0,null,null,null,0,null,null,null,0,0,0,0,0," "," "," "," "]
[{"$f":"IF(COUNTRY_INFO!A37=0,\" \",COUNTRY_INFO!A37)","v":"South Sudan"},{"$f":"IF(COUNTRY_INFO!B37=0,\" \",COUNTRY_INFO!B37)","v":"Lakes"},{"$f":"IF(COUNTRY_INFO!C37=0,\" \",COUNTRY_INFO!C37)","v":"RUMBEK CENTRE"},{"$f":"IF(OR(COUNTRY_INFO!$AA37=\"T2 (PZQ)\",COUNTRY_INFO!$AB37=\"T2 (PZQ)\"), \"T2 (PZQ)\", \" \")","v":" "},null,null,null,null,0,null,null,null,0,null,null,null,0,0,0,0,0," "," "," "," "]
[{"$f":"IF(COUNTRY_INFO!A38=0,\" \",COUNTRY_INFO!A38)","v":"South Sudan"},{"$f":"IF(COUNTRY_INFO!B38=0,\" \",COUNTRY_INFO!B38)","v":"Lakes"},{"$f":"IF(COUNTRY_INFO!C38=0,\" \",COUNTRY_INFO!C38)","v":"WULU"},{"$f":"IF(OR(COUNTRY_INFO!$AA38=\"T2 (PZQ)\",COUNTRY_INFO!$AB38=\"T2 (PZQ)\"), \"T2 (PZQ)\", \" \")","v":" "},null,null,null,null,0,null,null,null,0,null,null,null,0,0,0,0,0," "," "," "," "]
[{"$f":"IF(COUNTRY_INFO!A39=0,\" \",COUNTRY_INFO!A39)","v":"South Sudan"},{"$f":"IF(COUNTRY_INFO!B39=0,\" \",COUNTRY_INFO!B39)","v":"Lakes"},{"$f":"IF(COUNTRY_INFO!C39=0,\" \",COUNTRY_INFO!C39)","v":"RUMBEK EAST"},{"$f":"IF(OR(COUNTRY_INFO!$AA39=\"T2 (PZQ)\",COUNTRY_INFO!$AB39=\"T2 (PZQ)\"), \"T2 (PZQ)\", \" \")","v":" "},null,null,null,null,0,null,null,null,0,null,null,null,0,0,0,0,0," "," "," "," "]
[{"$f":"IF(COUNTRY_INFO!A40=0,\" \",COUNTRY_INFO!A40)","v":"South Sudan"},{"$f":"IF(COUNTRY_INFO!B40=0,\" \",COUNTRY_INFO!B40)","v":"Lakes"},{"$f":"IF(COUNTRY_INFO!C40=0,\" \",COUNTRY_INFO!C40)","v":"YIROL WEST"},{"$f":"IF(OR(COUNTRY_INFO!$AA40=\"T2 (PZQ)\",COUNTRY_INFO!$AB40=\"T2 (PZQ)\"), \"T2 (PZQ)\", \" \")","v":" "},null,null,null,null,0,null,null,null,0,null,null,null,0,0,0,0,0," "," "," "," "]
[{"$f":"IF(COUNTRY_INFO!A41=0,\" \",COUNTRY_INFO!A41)","v":"South Sudan"},{"$f":"IF(COUNTRY_INFO!B41=0,\" \",COUNTRY_INFO!B41)","v":"Lakes"},{"$f":"IF(COUNTRY_INFO!C41=0,\" \",COUNTRY_INFO!C41)","v":"YIROL EAST"},{"$f":"IF(OR(COUNTRY_INFO!$AA41=\"T2 (PZQ)\",COUNTRY_INFO!$AB41=\"T2 (PZQ)\"), \"T2 (PZQ)\", \" \")","v":" "},null,null,null,null,0,null,null,null,0,null,null,null,0,0,0,0,0," "," "," "," "]
[{"$f":"IF(COUNTRY_INFO!A42=0,\" \",COUNTRY_INFO!A42)","v":"South Sudan"},{"$f":"IF(COUNTRY_INFO!B42=0,\" \",COUNTRY_INFO!B42)","v":"Lakes"},{"$f":"IF(COUNTRY_INFO!C42=0,\" \",COUNTRY_INFO!C42)","v":"AWERIAL"},{"$f":"IF(OR(COUNTRY_INFO!$AA42=\"T2 (PZQ)\",COUNTRY_INFO!$AB42=\"T2 (PZQ)\"), \"T2 (PZQ)\", \" \")","v":" "},null,null,null,null,0,null,null,null,0,null,null,null,0,0,0,0,0," "," "," "," "]
[{"$f":"IF(COUNTRY_INFO!A43=0,\" \",COUNTRY_INFO!A43)","v":"South Sudan"},{"$f":"IF(COUNTRY_INFO!B43=0,\" \",COUNTRY_INFO!B43)","v":"Northern Bahr El Ghazal"},{"$f":"IF(COUNTRY_INFO!C43=0,\" \",COUNTRY_INFO!C43)","v":"AWIEL NORTH"},{"$f":"IF(OR(COUNTRY_INFO!$AA43=\"T2 (PZQ)\",COUNTRY_INFO!$AB43=\"T2 (PZQ)\"), \"T2 (PZQ)\", \" \")","v":" "},null,null,null,null,0,null,null,null,0,null,null,null,0,0,0,0,0," "," "," "," "]
[{"$f":"IF(COUNTRY_INFO!A44=0,\" \",COUNTRY_INFO!A44)","v":"South Sudan"},{"$f":"IF(COUNTRY_INFO!B44=0,\" \",COUNTRY_INFO!B44)","v":"Northern Bahr El Ghazal"},{"$f":"IF(COUNTRY_INFO!C44=0,\" \",COUNTRY_INFO!C44)","v":"AWIEL EAST"},{"$f":"IF(OR(COUNTRY_INFO!$AA44=\"T2 (PZQ)\",COUNTRY_INFO!$AB44=\"T2 (PZQ)\"), \"T2 (PZQ)\", \" \")","v":" "},null,null,null,null,0,null,null,null,0,null,null,null,0,0,0,0,0," "," "," "," "]
[{"$f":"IF(COUNTRY_INFO!A45=0,\" \",COUNTRY_INFO!A45)","v":"South Sudan"},{"$f":"IF(COUNTRY_INFO!B45=0,\" \",COUNTRY_INFO!B45)","v":"Northern Bahr El Ghazal"},{"$f":"IF(COUNTRY_INFO!C45=0,\" \",COUNTRY_INFO!C45)","v":"AWIEL SOUTH"},{"$f":"IF(OR(COUNTRY_INFO!$AA45=\"T2 (PZQ)\",COUNTRY_INFO!$AB45=\"T2 (PZQ)\"), \"T2 (PZQ)\", \" \")","v":" "},null,null,null,null,0,null,null,null,0,null,null,null,0,0,0,0,0," "," "," "," "]
[{"$f":"IF(COUNTRY_INFO!A46=0,\" \",COUNTRY_INFO!A46)","v":"South Sudan"},{"$f":"IF(COUNTRY_INFO!B46=0,\" \",COUNTRY_INFO!B46)","v":"Northern Bahr El Ghazal"},{"$f":"IF(COUNTRY_INFO!C46=0,\" \",COUNTRY_INFO!C46)","v":"AWIEL WEST"},{"$f":"IF(OR(COUNTRY_INFO!$AA46=\"T2 (PZQ)\",COUNTRY_INFO!$AB46=\"T2 (PZQ)\"), \"T2 (PZQ)\", \" \")","v":" "},null,null,null,null,0,null,null,null,0,null,null,null,0,0,0,0,0," "," "," "," "]
[{"$f":"IF(COUNTRY_INFO!A47=0,\" \",COUNTRY_INFO!A47)","v":"South Sudan"},{"$f":"IF(COUNTRY_INFO!B47=0,\" \",COUNTRY_INFO!B47)","v":"Northern Bahr El Ghazal"},{"$f":"IF(COUNTRY_INFO!C47=0,\" \",COUNTRY_INFO!C47)","v":"AWIEL CENTRE"},{"$f":"IF(OR(COUNTRY_INFO!$AA47=\"T2 (PZQ)\",COUNTRY_INFO!$AB47=\"T2 (PZQ)\"), \"T2 (PZQ)\", \" \")","v":" "},null,null,null,null,0,null,null,null,0,null,null,null,0,0,0,0,0," "," "," "," "]
[{"$f":"IF(COUNTRY_INFO!A48=0,\" \",COUNTRY_INFO!A48)","v":"South Sudan"},{"$f":"IF(COUNTRY_INFO!B48=0,\" \",COUNTRY_INFO!B48)","v":"Unity"},{"$f":"IF(COUNTRY_INFO!C48=0,\" \",COUNTRY_INFO!C48)","v":"PARIANG"},{"$f":"IF(OR(COUNTRY_INFO!$AA48=\"T2 (PZQ)\",COUNTRY_INFO!$AB48=\"T2 (PZQ)\"), \"T2 (PZQ)\", \" \")","v":" "},null,null,null,null,0,null,null,null,0,null,null,null,0,0,0,0,0," "," "," "," "]
[{"$f":"IF(COUNTRY_INFO!A49=0,\" \",COUNTRY_INFO!A49)","v":"South Sudan"},{"$f":"IF(COUNTRY_INFO!B49=0,\" \",COUNTRY_INFO!B49)","v":"Unity"},{"$f":"IF(COUNTRY_INFO!C49=0,\" \",COUNTRY_INFO!C49)","v":"ABIEMNHOM"},{"$f":"IF(OR(COUNTRY_INFO!$AA49=\"T2 (PZQ)\",COUNTRY_INFO!$AB49=\"T2 (PZQ)\"), \"T2 (PZQ)\", \" \")","v":" "},null,null,null,null,0,null,null,null,0,null,null,null,0,0,0,0,0," "," "," "," "]
[{"$f":"IF(COUNTRY_INFO!A50=0,\" \",COUNTRY_INFO!A50)","v":"South Sudan"},{"$f":"IF(COUNTRY_INFO!B50=0,\" \",COUNTRY_INFO!B50)","v":"Unity"},{"$f":"IF(COUNTRY_INFO!C50=0,\" \",COUNTRY_INFO!C50)","v":"MAYOM"},{"$f":"IF(OR(COUNTRY_INFO!$AA50=\"T2 (PZQ)\",COUNTRY_INFO!$AB50=\"T2 (PZQ)\"), \"T2 (PZQ)\", \" \")","v":" "},null,null,null,null,0,null,null,null,0,null,null,null,0,0,0,0,0," "," "," "," "]
[{"$f":"IF(COUNTRY_INFO!A51=0,\" \",COUNTRY_INFO!A51)","v":"South Sudan"},{"$f":"IF(COUNTRY_INFO!B51=0,\" \",COUNTRY_INFO!B51)","v":"Unity"},{"$f":"IF(COUNTRY_INFO!C51=0,\" \",COUNTRY_INFO!C51)","v":"RUBKONA"},{"$f":"IF(OR(COUNTRY_INFO!$AA51=\"T2 (PZQ)\",COUNTRY_INFO!$AB51=\"T2 (PZQ)\"), \"T2 (PZQ)\", \" \")","v":" "},null,null,null,null,0,null,null,null,0,null,null,null,0,0,0,0,0," "," "," "," "]
[{"$f":"IF(COUNTRY_INFO!A52=0,\" \",COUNTRY_INFO!A52)","v":"South Sudan"},{"$f":"IF(COUNTRY_INFO!B52=0,\" \",COUNTRY_INFO!B52)","v":"Unity"},{"$f":"IF(COUNTRY_INFO!C52=0,\" \",COUNTRY_INFO!C52)","v":"GUIT"},{"$f":"IF(OR(COUNTRY_INFO!$AA52=\"T2 (PZQ)\",COUNTRY_INFO!$AB52=\"T2 (PZQ)\"), \"T2 (PZQ)\", \" \")","v":" "},null,null,null,null,0,null,null,null,0,null,null,null,0,0,0,0,0," "," "," "," "]
[{"$f":"IF(COUNTRY_INFO!A53=0,\" \",COUNTRY_INFO!A53)","v":"South Sudan"},{"$f":"IF(COUNTRY_INFO!B53=0,\" \",COUNTRY_INFO!B53)","v":"Unity"},{"$f":"IF(COUNTRY_INFO!C53=0,\" \",COUNTRY_INFO!C53)","v":"KOCH"},{"$f":"IF(OR(COUNTRY_INFO!$AA53=\"T2 (PZQ)\",COUNTRY_INFO!$AB53=\"T2 (PZQ)\"), \"T2 (PZQ)\", \" \")","v":" "},null,null,null,null,0,null,null,null,0,null,null,null,0,0,0,0,0," "," "," "," "]
[{"$f":"IF(COUNTRY_INFO!A54=0,\" \",COUNTRY_INFO!A54)","v":"South Sudan"},{"$f":"IF(COUNTRY_INFO!B54=0,\" \",COUNTRY_INFO!B54)","v":"Unity"},{"$f":"IF(COUNTRY_INFO!C54=0,\" \",COUNTRY_INFO!C54)","v":"LEER"},{"$f":"IF(OR(COUNTRY_INFO!$AA54=\"T2 (PZQ)\",COUNTRY_INFO!$AB54=\"T2 (PZQ)\"), \"T2 (PZQ)\", \" \")","v":" "},null,null,null,null,0,null,null,null,0,null,null,null,0,0,0,0,0," "," "," "," "]
[{"$f":"IF(COUNTRY_INFO!A55=0,\" \",COUNTRY_INFO!A55)","v":"South Sudan"},{"$f":"IF(COUNTRY_INFO!B55=0,\" \",COUNTRY_INFO!B55)","v":"Unity"},{"$f":"IF(COUNTRY_INFO!C55=0,\" \",COUNTRY_INFO!C55)","v":"MAYENDIT"},{"$f":"IF(OR(COUNTRY_INFO!$AA55=\"T2 (PZQ)\",COUNTRY_INFO!$AB55=\"T2 (PZQ)\"), \"T2 (PZQ)\", \" \")","v":" "},null,null,null,null,0,null,null,null,0,null,null,null,0,0,0,0,0," "," "," "," "]
[{"$f":"IF(COUNTRY_INFO!A56=0,\" \",COUNTRY_INFO!A56)","v":"South Sudan"},{"$f":"IF(COUNTRY_INFO!B56=0,\" \",COUNTRY_INFO!B56)","v":"Unity"},{"$f":"IF(COUNTRY_INFO!C56=0,\" \",COUNTRY_INFO!C56)","v":"PAYNIJAR"},{"$f":"IF(OR(COUNTRY_INFO!$AA56=\"T2 (PZQ)\",COUNTRY_INFO!$AB56=\"T2 (PZQ)\"), \"T2 (PZQ)\", \" \")","v":" "},null,null,null,null,0,null,null,null,0,null,null,null,0,0,0,0,0," "," "," "," "]
[{"$f":"IF(COUNTRY_INFO!A57=0,\" \",COUNTRY_INFO!A57)","v":"South Sudan"},{"$f":"IF(COUNTRY_INFO!B57=0,\" \",COUNTRY_INFO!B57)","v":"Upper Nile"},{"$f":"IF(COUNTRY_INFO!C57=0,\" \",COUNTRY_INFO!C57)","v":"RENK"},{"$f":"IF(OR(COUNTRY_INFO!$AA57=\"T2 (PZQ)\",COUNTRY_INFO!$AB57=\"T2 (PZQ)\"), \"T2 (PZQ)\", \" \")","v":" "},null,null,null,null,0,null,null,null,0,null,null,null,0,0,0,0,0," "," "," "," "]
[{"$f":"IF(COUNTRY_INFO!A58=0,\" \",COUNTRY_INFO!A58)","v":"South Sudan"},{"$f":"IF(COUNTRY_INFO!B58=0,\" \",COUNTRY_INFO!B58)","v":"Upper Nile"},{"$f":"IF(COUNTRY_INFO!C58=0,\" \",COUNTRY_INFO!C58)","v":"MANYO"},{"$f":"IF(OR(COUNTRY_INFO!$AA58=\"T2 (PZQ)\",COUNTRY_INFO!$AB58=\"T2 (PZQ)\"), \"T2 (PZQ)\", \" \")","v":" "},null,null,null,null,0,null,null,null,0,null,null,null,0,0,0,0,0," "," "," "," "]
[{"$f":"IF(COUNTRY_INFO!A59=0,\" \",COUNTRY_INFO!A59)","v":"South Sudan"},{"$f":"IF(COUNTRY_INFO!B59=0,\" \",COUNTRY_INFO!B59)","v":"Upper Nile"},{"$f":"IF(COUNTRY_INFO!C59=0,\" \",COUNTRY_INFO!C59)","v":"FASHODA"},{"$f":"IF(OR(COUNTRY_INFO!$AA59=\"T2 (PZQ)\",COUNTRY_INFO!$AB59=\"T2 (PZQ)\"), \"T2 (PZQ)\", \" \")","v":" "},null,null,null,null,0,null,null,null,0,null,null,null,0,0,0,0,0," "," "," "," "]
[{"$f":"IF(COUNTRY_INFO!A60=0,\" \",COUNTRY_INFO!A60)","v":"South Sudan"},{"$f":"IF(COUNTRY_INFO!B60=0,\" \",COUNTRY_INFO!B60)","v":"Upper Nile"},{"$f":"IF(COUNTRY_INFO!C60=0,\" \",COUNTRY_INFO!C60)","v":"MELUT"},{"$f":"IF(OR(COUNTRY_INFO!$AA60=\"T2 (PZQ)\",COUNTRY_INFO!$AB60=\"T2 (PZQ)\"), \"T2 (PZQ)\", \" \")","v":" "},null,null,null,null,0,null,null,null,0,null,null,null,0,0,0,0,0," "," "," "," "]
[{"$f":"IF(COUNTRY_INFO!A61=0,\" \",COUNTRY_INFO!A61)","v":"South Sudan"},{"$f":"IF(COUNTRY_INFO!B61=0,\" \",COUNTRY_INFO!B61)","v":"Upper Nile"},{"$f":"IF(COUNTRY_INFO!C61=0,\" \",COUNTRY_INFO!C61)","v":"MABAN"},{"$f":"IF(OR(COUNTRY_INFO!$AA61=\"T2 (PZQ)\",COUNTRY_INFO!$AB61=\"T2 (PZQ)\"), \"T2 (PZQ)\", \" \")","v":" "},null,null,null,null,0,null,null,null,0,null,null,null,0,0,0,0,0," "," "," "," "]
[{"$f":"IF(COUNTRY_INFO!A62=0,\" \",COUNTRY_INFO!A62)","v":"South Sudan"},{"$f":"IF(COUNTRY_INFO!B62=0,\" \",COUNTRY_INFO!B62)","v":"Upper Nile"},{"$f":"IF(COUNTRY_INFO!C62=0,\" \",COUNTRY_INFO!C62)","v":"MAIWUT"},{"$f":"IF(OR(COUNTRY_INFO!$AA62=\"T2 (PZQ)\",COUNTRY_INFO!$AB62=\"T2 (PZQ)\"), \"T2 (PZQ)\", \" \")","v":" "},null,null,null,null,0,null,null,null,0,null,null,null,0,0,0,0,0," "," "," "," "]
[{"$f":"IF(COUNTRY_INFO!A63=0,\" \",COUNTRY_INFO!A63)","v":"South Sudan"},{"$f":"IF(COUNTRY_INFO!B63=0,\" \",COUNTRY_INFO!B63)","v":"Upper Nile"},{"$f":"IF(COUNTRY_INFO!C63=0,\" \",COUNTRY_INFO!C63)","v":"LUAKPINY/NASIR"},{"$f":"IF(OR(COUNTRY_INFO!$AA63=\"T2 (PZQ)\",COUNTRY_INFO!$AB63=\"T2 (PZQ)\"), \"T2 (PZQ)\", \" \")","v":" "},null,null,null,null,0,null,null,null,0,null,null,null,0,0,0,0,0," "," "," "," "]
[{"$f":"IF(COUNTRY_INFO!A64=0,\" \",COUNTRY_INFO!A64)","v":"South Sudan"},{"$f":"IF(COUNTRY_INFO!B64=0,\" \",COUNTRY_INFO!B64)","v":"Upper Nile"},{"$f":"IF(COUNTRY_INFO!C64=0,\" \",COUNTRY_INFO!C64)","v":"LONGOCHUK"},{"$f":"IF(OR(COUNTRY_INFO!$AA64=\"T2 (PZQ)\",COUNTRY_INFO!$AB64=\"T2 (PZQ)\"), \"T2 (PZQ)\", \" \")","v":" "},null,null,null,null,0,null,null,null,0,null,null,null,0,0,0,0,0," "," "," "," "]
[{"$f":"IF(COUNTRY_INFO!A65=0,\" \",COUNTRY_INFO!A65)","v":"South Sudan"},{"$f":"IF(COUNTRY_INFO!B65=0,\" \",COUNTRY_INFO!B65)","v":"Upper Nile"},{"$f":"IF(COUNTRY_INFO!C65=0,\" \",COUNTRY_INFO!C65)","v":"ULANG"},{"$f":"IF(OR(COUNTRY_INFO!$AA65=\"T2 (PZQ)\",COUNTRY_INFO!$AB65=\"T2 (PZQ)\"), \"T2 (PZQ)\", \" \")","v":" "},null,null,null,null,0,null,null,null,0,null,null,null,0,0,0,0,0," "," "," "," "]
[{"$f":"IF(COUNTRY_INFO!A66=0,\" \",COUNTRY_INFO!A66)","v":"South Sudan"},{"$f":"IF(COUNTRY_INFO!B66=0,\" \",COUNTRY_INFO!B66)","v":"Upper Nile"},{"$f":"IF(COUNTRY_INFO!C66=0,\" \",COUNTRY_INFO!C66)","v":"BALIET"},{"$f":"IF(OR(COUNTRY_INFO!$AA66=\"T2 (PZQ)\",COUNTRY_INFO!$AB66=\"T2 (PZQ)\"), \"T2 (PZQ)\", \" \")","v":" "},null,null,null,null,0,null,null,null,0,null,null,null,0,0,0,0,0," "," "," "," "]
[{"$f":"IF(COUNTRY_INFO!A67=0,\" \",COUNTRY_INFO!A67)","v":"South Sudan"},{"$f":"IF(COUNTRY_INFO!B67=0,\" \",COUNTRY_INFO!B67)","v":"Upper Nile"},{"$f":"IF(COUNTRY_INFO!C67=0,\" \",COUNTRY_INFO!C67)","v":"MALAKAL"},{"$f":"IF(OR(COUNTRY_INFO!$AA67=\"T2 (PZQ)\",COUNTRY_INFO!$AB67=\"T2 (PZQ)\"), \"T2 (PZQ)\", \" \")","v":" "},null,null,null,null,0,null,null,null,0,null,null,null,0,0,0,0,0," "," "," "," "]
[{"$f":"IF(COUNTRY_INFO!A68=0,\" \",COUNTRY_INFO!A68)","v":"South Sudan"},{"$f":"IF(COUNTRY_INFO!B68=0,\" \",COUNTRY_INFO!B68)","v":"Upper Nile"},{"$f":"IF(COUNTRY_INFO!C68=0,\" \",COUNTRY_INFO!C68)","v":"PANYKANG"},{"$f":"IF(OR(COUNTRY_INFO!$AA68=\"T2 (PZQ)\",COUNTRY_INFO!$AB68=\"T2 (PZQ)\"), \"T2 (PZQ)\", \" \")","v":" "},null,null,null,null,0,null,null,null,0,null,null,null,0,0,0,0,0," "," "," "," "]
[{"$f":"IF(COUNTRY_INFO!A69=0,\" \",COUNTRY_INFO!A69)","v":"South Sudan"},{"$f":"IF(COUNTRY_INFO!B69=0,\" \",COUNTRY_INFO!B69)","v":"Warrap"},{"$f":"IF(COUNTRY_INFO!C69=0,\" \",COUNTRY_INFO!C69)","v":"ABYEI"},{"$f":"IF(OR(COUNTRY_INFO!$AA69=\"T2 (PZQ)\",COUNTRY_INFO!$AB69=\"T2 (PZQ)\"), \"T2 (PZQ)\", \" \")","v":" "},null,null,null,null,0,null,null,null,0,null,null,null,0,0,0,0,0," "," "," "," "]
[{"$f":"IF(COUNTRY_INFO!A70=0,\" \",COUNTRY_INFO!A70)","v":"South Sudan"},{"$f":"IF(COUNTRY_INFO!B70=0,\" \",COUNTRY_INFO!B70)","v":"Warrap"},{"$f":"IF(COUNTRY_INFO!C70=0,\" \",COUNTRY_INFO!C70)","v":"TWIC"},{"$f":"IF(OR(COUNTRY_INFO!$AA70=\"T2 (PZQ)\",COUNTRY_INFO!$AB70=\"T2 (PZQ)\"), \"T2 (PZQ)\", \" \")","v":" "},null,null,null,null,0,null,null,null,0,null,null,null,0,0,0,0,0," "," "," "," "]
[{"$f":"IF(COUNTRY_INFO!A71=0,\" \",COUNTRY_INFO!A71)","v":"South Sudan"},{"$f":"IF(COUNTRY_INFO!B71=0,\" \",COUNTRY_INFO!B71)","v":"Warrap"},{"$f":"IF(COUNTRY_INFO!C71=0,\" \",COUNTRY_INFO!C71)","v":"GOGRIAL WEST"},{"$f":"IF(OR(COUNTRY_INFO!$AA71=\"T2 (PZQ)\",COUNTRY_INFO!$AB71=\"T2 (PZQ)\"), \"T2 (PZQ)\", \" \")","v":" "},null,null,null,null,0,null,null,null,0,null,null,null,0,0,0,0,0," "," "," "," "]
[{"$f":"IF(COUNTRY_INFO!A72=0,\" \",COUNTRY_INFO!A72)","v":"South Sudan"},{"$f":"IF(COUNTRY_INFO!B72=0,\" \",COUNTRY_INFO!B72)","v":"Warrap"},{"$f":"IF(COUNTRY_INFO!C72=0,\" \",COUNTRY_INFO!C72)","v":"GOGRIAL EAST"},{"$f":"IF(OR(COUNTRY_INFO!$AA72=\"T2 (PZQ)\",COUNTRY_INFO!$AB72=\"T2 (PZQ)\"), \"T2 (PZQ)\", \" \")","v":" "},null,null,null,null,0,null,null,null,0,null,null,null,0,0,0,0,0," "," "," "," "]
[{"$f":"IF(COUNTRY_INFO!A73=0,\" \",COUNTRY_INFO!A73)","v":"South Sudan"},{"$f":"IF(COUNTRY_INFO!B73=0,\" \",COUNTRY_INFO!B73)","v":"Warrap"},{"$f":"IF(COUNTRY_INFO!C73=0,\" \",COUNTRY_INFO!C73)","v":"TONJ NORTH"},{"$f":"IF(OR(COUNTRY_INFO!$AA73=\"T2 (PZQ)\",COUNTRY_INFO!$AB73=\"T2 (PZQ)\"), \"T2 (PZQ)\", \" \")","v":" "},null,null,null,null,0,null,null,null,0,null,null,null,0,0,0,0,0," "," "," "," "]
[{"$f":"IF(COUNTRY_INFO!A74=0,\" \",COUNTRY_INFO!A74)","v":"South Sudan"},{"$f":"IF(COUNTRY_INFO!B74=0,\" \",COUNTRY_INFO!B74)","v":"Warrap"},{"$f":"IF(COUNTRY_INFO!C74=0,\" \",COUNTRY_INFO!C74)","v":"TONJ EAST"},{"$f":"IF(OR(COUNTRY_INFO!$AA74=\"T2 (PZQ)\",COUNTRY_INFO!$AB74=\"T2 (PZQ)\"), \"T2 (PZQ)\", \" \")","v":" "},null,null,null,null,0,null,null,null,0,null,null,null,0,0,0,0,0," "," "," "," "]
[{"$f":"IF(COUNTRY_INFO!A75=0,\" \",COUNTRY_INFO!A75)","v":"South Sudan"},{"$f":"IF(COUNTRY_INFO!B75=0,\" \",COUNTRY_INFO!B75)","v":"Warrap"},{"$f":"IF(COUNTRY_INFO!C75=0,\" \",COUNTRY_INFO!C75)","v":"TONJ SOUTH"},{"$f":"IF(OR(COUNTRY_INFO!$AA75=\"T2 (PZQ)\",COUNTRY_INFO!$AB75=\"T2 (PZQ)\"), \"T2 (PZQ)\", \" \")","v":" "},null,null,null,null,{"$f":"SUM(F75:H75)","v":0},null,null,null,{"$f":"SUM(J75:L75)","v":0},null,null,null,{"$f":"SUM(N75:P75)","v":0},{"$f":"MAX(J75,N75)","v":0},{"$f":"MAX(K75,O75)","v":0},{"$f":"MAX(L75,P75)","v":0},{"$f":"SUM(R75:T75)","v":0},{"$f":"IF(F75<>0, IF(R75/F75*100=0, \"-\", R75/F75*100), \" \")","v":" "},{"$f":"IF(G75<>0, IF(S75/G75*100=0, \"-\", S75/G75*100), \" \")","v":" "},{"$f":"IF(H75<>0, IF(T75/H75*100=0, \"-\",T75/H75*100), \" \")","v":" "},{"$f":"IF(I75<>0, IF(U75/I75*100=0, \"-\", U75/I75*100), \" \")","v":" "}]
[{"$f":"IF(COUNTRY_INFO!A76=0,\" \",COUNTRY_INFO!A76)","v":"South Sudan"},{"$f":"IF(COUNTRY_INFO!B76=0,\" \",COUNTRY_INFO!B76)","v":"Wesstern Equatoria"},{"$f":"IF(COUNTRY_INFO!C76=0,\" \",COUNTRY_INFO!C76)","v":"TAMBURA"},{"$f":"IF(OR(COUNTRY_INFO!$AA76=\"T2 (PZQ)\",COUNTRY_INFO!$AB76=\"T2 (PZQ)\"), \"T2 (PZQ)\", \" \")","v":" "},null,null,null,null,0,null,null,null,0,null,null,null,0,0,0,0,0," "," "," "," "]
[{"$f":"IF(COUNTRY_INFO!A77=0,\" \",COUNTRY_INFO!A77)","v":"South Sudan"},{"$f":"IF(COUNTRY_INFO!B77=0,\" \",COUNTRY_INFO!B77)","v":"Wesstern Equatoria"},{"$f":"IF(COUNTRY_INFO!C77=0,\" \",COUNTRY_INFO!C77)","v":"NAGERO"},{"$f":"IF(OR(COUNTRY_INFO!$AA77=\"T2 (PZQ)\",COUNTRY_INFO!$AB77=\"T2 (PZQ)\"), \"T2 (PZQ)\", \" \")","v":" "},null,null,null,null,0,null,null,null,0,null,null,null,0,0,0,0,0," "," "," "," "]
[{"$f":"IF(COUNTRY_INFO!A78=0,\" \",COUNTRY_INFO!A78)","v":"South Sudan"},{"$f":"IF(COUNTRY_INFO!B78=0,\" \",COUNTRY_INFO!B78)","v":"Wesstern Equatoria"},{"$f":"IF(COUNTRY_INFO!C78=0,\" \",COUNTRY_INFO!C78)","v":"NZARA"},{"$f":"IF(OR(COUNTRY_INFO!$AA78=\"T2 (PZQ)\",COUNTRY_INFO!$AB78=\"T2 (PZQ)\"), \"T2 (PZQ)\", \" \")","v":" "},null,null,null,null,0,null,null,null,0,null,null,null,0,0,0,0,0," "," "," "," "]
[{"$f":"IF(COUNTRY_INFO!A79=0,\" \",COUNTRY_INFO!A79)","v":"South Sudan"},{"$f":"IF(COUNTRY_INFO!B79=0,\" \",COUNTRY_INFO!B79)","v":"Wesstern Equatoria"},{"$f":"IF(COUNTRY_INFO!C79=0,\" \",COUNTRY_INFO!C79)","v":"EZO"},{"$f":"IF(OR(COUNTRY_INFO!$AA79=\"T2 (PZQ)\",COUNTRY_INFO!$AB79=\"T2 (PZQ)\"), \"T2 (PZQ)\", \" \")","v":" "},null,null,null,null,0,null,null,null,0,null,null,null,0,0,0,0,0," "," "," "," "]
[{"$f":"IF(COUNTRY_INFO!A80=0,\" \",COUNTRY_INFO!A80)","v":"South Sudan"},{"$f":"IF(COUNTRY_INFO!B80=0,\" \",COUNTRY_INFO!B80)","v":"Wesstern Equatoria"},{"$f":"IF(COUNTRY_INFO!C80=0,\" \",COUNTRY_INFO!C80)","v":"YAMBIO"},{"$f":"IF(OR(COUNTRY_INFO!$AA80=\"T2 (PZQ)\",COUNTRY_INFO!$AB80=\"T2 (PZQ)\"), \"T2 (PZQ)\", \" \")","v":" "},null,null,null,null,0,null,null,null,0,null,null,null,0,0,0,0,0," "," "," "," "]
[{"$f":"IF(COUNTRY_INFO!A81=0,\" \",COUNTRY_INFO!A81)","v":"South Sudan"},{"$f":"IF(COUNTRY_INFO!B81=0,\" \",COUNTRY_INFO!B81)","v":"Wesstern Equatoria"},{"$f":"IF(COUNTRY_INFO!C81=0,\" \",COUNTRY_INFO!C81)","v":"IBBA"},{"$f":"IF(OR(COUNTRY_INFO!$AA81=\"T2 (PZQ)\",COUNTRY_INFO!$AB81=\"T2 (PZQ)\"), \"T2 (PZQ)\", \" \")","v":" "},null,null,null,null,0,null,null,null,0,null,null,null,0,0,0,0,0," "," "," "," "]
[{"$f":"IF(COUNTRY_INFO!A82=0,\" \",COUNTRY_INFO!A82)","v":"South Sudan"},{"$f":"IF(COUNTRY_INFO!B82=0,\" \",COUNTRY_INFO!B82)","v":"Wesstern Equatoria"},{"$f":"IF(COUNTRY_INFO!C82=0,\" \",COUNTRY_INFO!C82)","v":"MARIDI"},{"$f":"IF(OR(COUNTRY_INFO!$AA82=\"T2 (PZQ)\",COUNTRY_INFO!$AB82=\"T2 (PZQ)\"), \"T2 (PZQ)\", \" \")","v":" "},null,null,null,null,0,null,null,null,0,null,null,null,0,0,0,0,0," "," "," "," "]
[{"$f":"IF(COUNTRY_INFO!A83=0,\" \",COUNTRY_INFO!A83)","v":"South Sudan"},{"$f":"IF(COUNTRY_INFO!B83=0,\" \",COUNTRY_INFO!B83)","v":"Wesstern Equatoria"},{"$f":"IF(COUNTRY_INFO!C83=0,\" \",COUNTRY_INFO!C83)","v":"MVOLO"},{"$f":"IF(OR(COUNTRY_INFO!$AA83=\"T2 (PZQ)\",COUNTRY_INFO!$AB83=\"T2 (PZQ)\"), \"T2 (PZQ)\", \" \")","v":" "},null,null,null,null,0,null,null,null,0,null,null,null,0,0,0,0,0," "," "," "," "]
[{"$f":"IF(COUNTRY_INFO!A84=0,\" \",COUNTRY_INFO!A84)","v":"South Sudan"},{"$f":"IF(COUNTRY_INFO!B84=0,\" \",COUNTRY_INFO!B84)","v":"Wesstern Equatoria"},{"$f":"IF(COUNTRY_INFO!C84=0,\" \",COUNTRY_INFO!C84)","v":"MUNDRI WEST"},{"$f":"IF(OR(COUNTRY_INFO!$AA84=\"T2 (PZQ)\",COUNTRY_INFO!$AB84=\"T2 (PZQ)\"), \"T2 (PZQ)\", \" \")","v":" "},null,null,null,null,0,null,null,null,0,null,null,null,0,0,0,0,0," "," "," "," "]
[{"$f":"IF(COUNTRY_INFO!A85=0,\" \",COUNTRY_INFO!A85)","v":"South Sudan"},{"$f":"IF(COUNTRY_INFO!B85=0,\" \",COUNTRY_INFO!B85)","v":"Wesstern Equatoria"},{"$f":"IF(COUNTRY_INFO!C85=0,\" \",COUNTRY_INFO!C85)","v":"MUNDRI EAST"},{"$f":"IF(OR(COUNTRY_INFO!$AA85=\"T2 (PZQ)\",COUNTRY_INFO!$AB85=\"T2 (PZQ)\"), \"T2 (PZQ)\", \" \")","v":" "},null,null,null,null,0,null,null,null,0,null,null,null,0,0,0,0,0," "," "," "," "]
[{"$f":"IF(COUNTRY_INFO!A86=0,\" \",COUNTRY_INFO!A86)","v":"South Sudan"},{"$f":"IF(COUNTRY_INFO!B86=0,\" \",COUNTRY_INFO!B86)","v":"Western Bahr El Ghazal"},{"$f":"IF(COUNTRY_INFO!C86=0,\" \",COUNTRY_INFO!C86)","v":"RAGA"},{"$f":"IF(OR(COUNTRY_INFO!$AA86=\"T2 (PZQ)\",COUNTRY_INFO!$AB86=\"T2 (PZQ)\"), \"T2 (PZQ)\", \" \")","v":" "},null,null,null,null,0,null,null,null,0,null,null,null,0,0,0,0,0," "," "," "," "]
[{"$f":"IF(COUNTRY_INFO!A87=0,\" \",COUNTRY_INFO!A87)","v":"South Sudan"},{"$f":"IF(COUNTRY_INFO!B87=0,\" \",COUNTRY_INFO!B87)","v":"Western Bahr El Ghazal"},{"$f":"IF(COUNTRY_INFO!C87=0,\" \",COUNTRY_INFO!C87)","v":"JUR RIVER"},{"$f":"IF(OR(COUNTRY_INFO!$AA87=\"T2 (PZQ)\",COUNTRY_INFO!$AB87=\"T2 (PZQ)\"), \"T2 (PZQ)\", \" \")","v":" "},null,null,null,null,0,null,null,null,0,null,null,null,0,0,0,0,0," "," "," "," "]
[{"$f":"IF(COUNTRY_INFO!A88=0,\" \",COUNTRY_INFO!A88)","v":"South Sudan"},{"$f":"IF(COUNTRY_INFO!B88=0,\" \",COUNTRY_INFO!B88)","v":"Western Bahr El Ghazal"},{"$f":"IF(COUNTRY_INFO!C88=0,\" \",COUNTRY_INFO!C88)","v":"WAU"},{"$f":"IF(OR(COUNTRY_INFO!$AA88=\"T2 (PZQ)\",COUNTRY_INFO!$AB88=\"T2 (PZQ)\"), \"T2 (PZQ)\", \" \")","v":" "},null,null,null,null,0,null,null,null,0,null,null,null,0,0,0,0,0," "," "," "," "]
[{"$f":"IF(COUNTRY_INFO!A89=0,\" \",COUNTRY_INFO!A89)","v":"South Sudan"},{"$f":"IF(COUNTRY_INFO!B89=0,\" \",COUNTRY_INFO!B89)","v":"Upper Nile"},{"$f":"IF(COUNTRY_INFO!C89=0,\" \",COUNTRY_INFO!C89)","v":"MABAN Refugee"},{"$f":"IF(OR(COUNTRY_INFO!$AA89=\"T2 (PZQ)\",COUNTRY_INFO!$AB89=\"T2 (PZQ)\"), \"T2 (PZQ)\", \" \")","v":" "},null,null,null,null,0,null,null,null,0,null,null,null,0,0,0,0,0," "," "," "," "]

{"sheet":"T3_R1","index":7,"n_rows":89,"n_cols":17,"rows_kept":89,"cut":false,"hidden":false,"merged":[[0,5,0,7],[1,11,1,12],[1,9,1,10],[5,5,5,8],[5,9,5,12],[5,13,5,16],[3,0,3,2],[5,0,5,2],[5,3,6,3],[5,4,6,4]]}
["T 3 - Albendazole (ALB) or Mebendazole (MBD) - Round 1",null,null,null,null,"Select medicine used for treatment \nof STH for each age group"]
["Administrative structure, population requiring PC by age group, population treated by age group and coverage",null,null,null,null,null,null,null,null,"Select the category of Adults"]
[]
["TOTAL",null,null,null,null,{"$f":"SUBTOTAL(9,F$10:F$1010)","v":0},0,0,0,0,0,0,0,{"$f":"IF(F4<>0, IF(J4/F4*100=0, \"-\", J4/F4*100), \" \")","v":" "},{"$f":"IF(G4<>0, IF(K4/G4*100=0, \"-\", K4/G4*100), \" \")","v":" "},{"$f":"IF(H4<>0, IF(L4/H4*100=0, \"-\", L4/H4*100), \" \")","v":" "},{"$f":"IF(I4<>0, IF(M4/I4*100=0, \"-\", M4/I4*100), \" \")","v":" "}]
[]
["Country administrative structure",null,null,"PC implemented","Date","Population targeted for T3",null,null,null,"Population treated",null,null,null,"Programme coverage (%)"]
["Country","Province/State","District",null,null,"PreSAC","SAC","Adults","Total","PreSAC","SAC","Adults","Total","PreSAC","SAC","Adults","Total"]
[]
[]
[{"$f":"IF(COUNTRY_INFO!A10=0,\" \",COUNTRY_INFO!A10)","v":"South Sudan"},{"$f":"IF(COUNTRY_INFO!B10=0,\" \",COUNTRY_INFO!B10)","v":"Central Equatoria"},{"$f":"IF(COUNTRY_INFO!C10=0,\" \",COUNTRY_INFO!C10)","v":"TEREKEKA"},{"$f":"IF(OR(COUNTRY_INFO!$AA10=\"T3 (ALB/MBD)\",COUNTRY_INFO!$AB10=\"T3 (ALB/MBD)\"), \"T3 (ALB/MBD)\", \" \")","v":" "},null,null,null,null,{"$f":"SUM(F10:H10)","v":0},null,null,null,{"$f":"SUM(J10:L10)","v":0},{"$f":"IF(F10<>0, IF(J10/F10*100=0, \"-\", J10/F10*100), \" \")","v":" "}," "," "," "]
[{"$f":"IF(COUNTRY_INFO!A11=0,\" \",COUNTRY_INFO!A11)","v":"South Sudan"},{"$f":"IF(COUNTRY_INFO!B11=0,\" \",COUNTRY_INFO!B11)","v":"Central Equatoria"},{"$f":"IF(COUNTRY_INFO!C11=0,\" \",COUNTRY_INFO!C11)","v":"JUBA"},{"$f":"IF(OR(COUNTRY_INFO!$AA11=\"T3 (ALB/MBD)\",COUNTRY_INFO!$AB11=\"T3 (ALB/MBD)\"), \"T3 (ALB/MBD)\", \" \")","v":" "},null,null,null,null,{"$f":"SUM(F11:H11)","v":0},null,null,null,{"$f":"SUM(J11:L11)","v":0},{"$f":"IF(F11<>0, IF(J11/F11*100=0, \"-\", J11/F11*100), \" \")","v":" "},{"$f":"IF(G11<>0, IF(K11/G11*100=0, \"-\", K11/G11*100), \" \")","v":" "},{"$f":"IF(H11<>0, IF(L11/H11*100=0, \"-\", L11/H11*100), \" \")","v":" "},{"$f":"IF(I11<>0, IF(M11/I11*100=0, \"-\", M11/I11*100), \" \")","v":" "}]
[{"$f":"IF(COUNTRY_INFO!A12=0,\" \",COUNTRY_INFO!A12)","v":"South Sudan"},{"$f":"IF(COUNTRY_INFO!B12=0,\" \",COUNTRY_INFO!B12)","v":"Central Equatoria"},{"$f":"IF(COUNTRY_INFO!C12=0,\" \",COUNTRY_INFO!C12)","v":"LAINYA"},{"$f":"IF(OR(COUNTRY_INFO!$AA12=\"T3 (ALB/MBD)\",COUNTRY_INFO!$AB12=\"T3 (ALB/MBD)\"), \"T3 (ALB/MBD)\", \" \")","v":" "},null,null,null,null,0,null,null,null,0," "," "," "," "]
[{"$f":"IF(COUNTRY_INFO!A13=0,\" \",COUNTRY_INFO!A13)","v":"South Sudan"},{"$f":"IF(COUNTRY_INFO!B13=0,\" \",COUNTRY_INFO!B13)","v":"Central Equatoria"},{"$f":"IF(COUNTRY_INFO!C13=0,\" \",COUNTRY_INFO!C13)","v":"YEI"},{"$f":"IF(OR(COUNTRY_INFO!$AA13=\"T3 (ALB/MBD)\",COUNTRY_INFO!$AB13=\"T3 (ALB/MBD)\"), \"T3 (ALB/MBD)\", \" \")","v":" "},null,null,null,null,0,null,null,null,0," "," "," "," "]
[{"$f":"IF(COUNTRY_INFO!A14=0,\" \",COUNTRY_INFO!A14)","v":"South Sudan"},{"$f":"IF(COUNTRY_INFO!B14=0,\" \",COUNTRY_INFO!B14)","v":"Central Equatoria"},{"$f":"IF(COUNTRY_INFO!C14=0,\" \",COUNTRY_INFO!C14)","v":"MOROBO"},{"$f":"IF(OR(COUNTRY_INFO!$AA14=\"T3 (ALB/MBD)\",COUNTRY_INFO!$AB14=\"T3 (ALB/MBD)\"), \"T3 (ALB/MBD)\", \" \")","v":" "},null,null,null,null,0,null,null,null,0," "," "," "," "]
[{"$f":"IF(COUNTRY_INFO!A15=0,\" \",COUNTRY_INFO!A15)","v":"South Sudan"},{"$f":"IF(COUNTRY_INFO!B15=0,\" \",COUNTRY_INFO!B15)","v":"Central Equatoria"},{"$f":"IF(COUNTRY_INFO!C15=0,\" \",COUNTRY_INFO!C15)","v":"KAJO KEJI"},{"$f":"IF(OR(COUNTRY_INFO!$AA15=\"T3 (ALB/MBD)\",COUNTRY_INFO!$AB15=\"T3 (ALB/MBD)\"), \"T3 (ALB/MBD)\", \" \")","v":" "},null,null,null,null,0,null,null,null,0," "," "," "," "]
[{"$f":"IF(COUNTRY_INFO!A16=0,\" \",COUNTRY_INFO!A16)","v":"South Sudan"},{"$f":"IF(COUNTRY_INFO!B16=0,\" \",COUNTRY_INFO!B16)","v":"Eastern Equatoria"},{"$f":"IF(COUNTRY_INFO!C16=0,\" \",COUNTRY_INFO!C16)","v":"TORIT"},{"$f":"IF(OR(COUNTRY_INFO!$AA16=\"T3 (ALB/MBD)\",COUNTRY_INFO!$AB16=\"T3 (ALB/MBD)\"), \"T3 (ALB/MBD)\", \" \")","v":" "},null,null,null,null,0,null,null,null,0," "," "," "," "]
[{"$f":"IF(COUNTRY_INFO!A17=0,\" \",COUNTRY_INFO!A17)","v":"South Sudan"},{"$f":"IF(COUNTRY_INFO!B17=0,\" \",COUNTRY_INFO!B17)","v":"Eastern Equatoria"},{"$f":"IF(COUNTRY_INFO!C17=0,\" \",COUNTRY_INFO!C17)","v":"LOPA/LAFON"},{"$f":"IF(OR(COUNTRY_INFO!$AA17=\"T3 (ALB/MBD)\",COUNTRY_INFO!$AB17=\"T3 (ALB/MBD)\"), \"T3 (ALB/MBD)\", \" \")","v":" "},null,null,null,null,0,null,null,null,0," "," "," "," "]
[{"$f":"IF(COUNTRY_INFO!A18=0,\" \",COUNTRY_INFO!A18)","v":"South Sudan"},{"$f":"IF(COUNTRY_INFO!B18=0,\" \",COUNTRY_INFO!B18)","v":"Eastern Equatoria"},{"$f":"IF(COUNTRY_INFO!C18=0,\" \",COUNTRY_INFO!C18)","v":"KAPOETA NORTH"},{"$f":"IF(OR(COUNTRY_INFO!$AA18=\"T3 (ALB/MBD)\",COUNTRY_INFO!$AB18=\"T3 (ALB/MBD)\"), \"T3 (ALB/MBD)\", \" \")","v":" "},null,null,null,null,0,null,null,null,0," "," "," "," "]
[{"$f":"IF(COUNTRY_INFO!A19=0,\" \",COUNTRY_INFO!A19)","v":"South Sudan"},{"$f":"IF(COUNTRY_INFO!B19=0,\" \",COUNTRY_INFO!B19)","v":"Eastern Equatoria"},{"$f":"IF(COUNTRY_INFO!C19=0,\" \",COUNTRY_INFO!C19)","v":"KAPOETA EAST"},{"$f":"IF(OR(COUNTRY_INFO!$AA19=\"T3 (ALB/MBD)\",COUNTRY_INFO!$AB19=\"T3 (ALB/MBD)\"), \"T3 (ALB/MBD)\", \" \")","v":" "},null,null,null,null,0,null,null,null,0," "," "," "," "]
[{"$f":"IF(COUNTRY_INFO!A20=0,\" \",COUNTRY_INFO!A20)","v":"South Sudan"},{"$f":"IF(COUNTRY_INFO!B20=0,\" \",COUNTRY_INFO!B20)","v":"Eastern Equatoria"},{"$f":"IF(COUNTRY_INFO!C20=0,\" \",COUNTRY_INFO!C20)","v":"KAPOETA SOUTH"},{"$f":"IF(OR(COUNTRY_INFO!$AA20=\"T3 (ALB/MBD)\",COUNTRY_INFO!$AB20=\"T3 (ALB/MBD)\"), \"T3 (ALB/MBD)\", \" \")","v":" "},null,null,null,null,0,null,null,null,0," "," "," "," "]
[{"$f":"IF(COUNTRY_INFO!A21=0,\" \",COUNTRY_INFO!A21)","v":"South Sudan"},{"$f":"IF(COUNTRY_INFO!B21=0,\" \",COUNTRY_INFO!B21)","v":"Eastern Equatoria"},{"$f":"IF(COUNTRY_INFO!C21=0,\" \",COUNTRY_INFO!C21)","v":"BUDI"},{"$f":"IF(OR(COUNTRY_INFO!$AA21=\"T3 (ALB/MBD)\",COUNTRY_INFO!$AB21=\"T3 (ALB/MBD)\"), \"T3 (ALB/MBD)\", \" \")","v":" "},null,null,null,null,0,null,null,null,0," "," "," "," "]
[{"$f":"IF(COUNTRY_INFO!A22=0,\" \",COUNTRY_INFO!A22)","v":"South Sudan"},{"$f":"IF(COUNTRY_INFO!B22=0,\" \",COUNTRY_INFO!B22)","v":"Eastern Equatoria"},{"$f":"IF(COUNTRY_INFO!C22=0,\" \",COUNTRY_INFO!C22)","v":"IKOTOS"},{"$f":"IF(OR(COUNTRY_INFO!$AA22=\"T3 (ALB/MBD)\",COUNTRY_INFO!$AB22=\"T3 (ALB/MBD)\"), \"T3 (ALB/MBD)\", \" \")","v":" "},null,null,null,null,0,null,null,null,0," "," "," "," "]
[{"$f":"IF(COUNTRY_INFO!A23=0,\" \",COUNTRY_INFO!A23)","v":"South Sudan"},{"$f":"IF(COUNTRY_INFO!B23=0,\" \",COUNTRY_INFO!B23)","v":"Eastern Equatoria"},{"$f":"IF(COUNTRY_INFO!C23=0,\" \",COUNTRY_INFO!C23)","v":"MAGWI"},{"$f":"IF(OR(COUNTRY_INFO!$AA23=\"T3 (ALB/MBD)\",COUNTRY_INFO!$AB23=\"T3 (ALB/MBD)\"), \"T3 (ALB/MBD)\", \" \")","v":" "},null,null,null,null,0,null,null,null,0," "," "," "," "]
[{"$f":"IF(COUNTRY_INFO!A24=0,\" \",COUNTRY_INFO!A24)","v":"South Sudan"},{"$f":"IF(COUNTRY_INFO!B24=0,\" \",COUNTRY_INFO!B24)","v":"Jonglei"},{"$f":"IF(COUNTRY_INFO!C24=0,\" \",COUNTRY_INFO!C24)","v":"FANGAK"},{"$f":"IF(OR(COUNTRY_INFO!$AA24=\"T3 (ALB/MBD)\",COUNTRY_INFO!$AB24=\"T3 (ALB/MBD)\"), \"T3 (ALB/MBD)\", \" \")","v":" "},null,null,null,null,0,null,null,null,0," "," "," "," "]
[{"$f":"IF(COUNTRY_INFO!A25=0,\" \",COUNTRY_INFO!A25)","v":"South Sudan"},{"$f":"IF(COUNTRY_INFO!B25=0,\" \",COUNTRY_INFO!B25)","v":"Jonglei"},{"$f":"IF(COUNTRY_INFO!C25=0,\" \",COUNTRY_INFO!C25)","v":"KHORFLUS"},{"$f":"IF(OR(COUNTRY_INFO!$AA25=\"T3 (ALB/MBD)\",COUNTRY_INFO!$AB25=\"T3 (ALB/MBD)\"), \"T3 (ALB/MBD)\", \" \")","v":" "},null,null,null,null,0,null,null,null,0," "," "," "," "]
[{"$f":"IF(COUNTRY_INFO!A26=0,\" \",COUNTRY_INFO!A26)","v":"South Sudan"},{"$f":"IF(COUNTRY_INFO!B26=0,\" \",COUNTRY_INFO!B26)","v":"Jonglei"},{"$f":"IF(COUNTRY_INFO!C26=0,\" \",COUNTRY_INFO!C26)","v":"AYOD"},{"$f":"IF(OR(COUNTRY_INFO!$AA26=\"T3 (ALB/MBD)\",COUNTRY_INFO!$AB26=\"T3 (ALB/MBD)\"), \"T3 (ALB/MBD)\", \" \")","v":" "},null,null,null,null,0,null,null,null,0," "," "," "," "]
[{"$f":"IF(COUNTRY_INFO!A27=0,\" \",COUNTRY_INFO!A27)","v":"South Sudan"},{"$f":"IF(COUNTRY_INFO!B27=0,\" \",COUNTRY_INFO!B27)","v":"Jonglei"},{"$f":"IF(COUNTRY_INFO!C27=0,\" \",COUNTRY_INFO!C27)","v":"DUK"},{"$f":"IF(OR(COUNTRY_INFO!$AA27=\"T3 (ALB/MBD)\",COUNTRY_INFO!$AB27=\"T3 (ALB/MBD)\"), \"T3 (ALB/MBD)\", \" \")","v":" "},null,null,null,null,0,null,null,null,0," "," "," "," "]
[{"$f":"IF(COUNTRY_INFO!A28=0,\" \",COUNTRY_INFO!A28)","v":"South Sudan"},{"$f":"IF(COUNTRY_INFO!B28=0,\" \",COUNTRY_INFO!B28)","v":"Jonglei"},{"$f":"IF(COUNTRY_INFO!C28=0,\" \",COUNTRY_INFO!C28)","v":"UROR"},{"$f":"IF(OR(COUNTRY_INFO!$AA28=\"T3 (ALB/MBD)\",COUNTRY_INFO!$AB28=\"T3 (ALB/MBD)\"), \"T3 (ALB/MBD)\", \" \")","v":" "},null,null,null,null,0,null,null,null,0," "," "," "," "]
[{"$f":"IF(COUNTRY_INFO!A29=0,\" \",COUNTRY_INFO!A29)","v":"South Sudan"},{"$f":"IF(COUNTRY_INFO!B29=0,\" \",COUNTRY_INFO!B29)","v":"Jonglei"},{"$f":"IF(COUNTRY_INFO!C29=0,\" \",COUNTRY_INFO!C29)","v":"NYIROL"},{"$f":"IF(OR(COUNTRY_INFO!$AA29=\"T3 (ALB/MBD)\",COUNTRY_INFO!$AB29=\"T3 (ALB/MBD)\"), \"T3 (ALB/MBD)\", \" \")","v":" "},null,null,null,null,0,null,null,null,0," "," "," "," "]
[{"$f":"IF(COUNTRY_INFO!A30=0,\" \",COUNTRY_INFO!A30)","v":"South Sudan"},{"$f":"IF(COUNTRY_INFO!B30=0,\" \",COUNTRY_INFO!B30)","v":"Jonglei"},{"$f":"IF(COUNTRY_INFO!C30=0,\" \",COUNTRY_INFO!C30)","v":"AKOBO"},{"$f":"IF(OR(COUNTRY_INFO!$AA30=\"T3 (ALB/MBD)\",COUNTRY_INFO!$AB30=\"T3 (ALB/MBD)\"), \"T3 (ALB/MBD)\", \" \")","v":" "},null,null,null,null,0,null,null,null,0," "," "," "," "]
[{"$f":"IF(COUNTRY_INFO!A31=0,\" \",COUNTRY_INFO!A31)","v":"South Sudan"},{"$f":"IF(COUNTRY_INFO!B31=0,\" \",COUNTRY_INFO!B31)","v":"Jonglei"},{"$f":"IF(COUNTRY_INFO!C31=0,\" \",COUNTRY_INFO!C31)","v":"POCHALA"},{"$f":"IF(OR(COUNTRY_INFO!$AA31=\"T3 (ALB/MBD)\",COUNTRY_INFO!$AB31=\"T3 (ALB/MBD)\"), \"T3 (ALB/MBD)\", \" \")","v":" "},null,null,null,null,0,null,null,null,0," "," "," "," "]
[{"$f":"IF(COUNTRY_INFO!A32=0,\" \",COUNTRY_INFO!A32)","v":"South Sudan"},{"$f":"IF(COUNTRY_INFO!B32=0,\" \",COUNTRY_INFO!B32)","v":"Jonglei"},{"$f":"IF(COUNTRY_INFO!C32=0,\" \",COUNTRY_INFO!C32)","v":"PIBOR"},{"$f":"IF(OR(COUNTRY_INFO!$AA32=\"T3 (ALB/MBD)\",COUNTRY_INFO!$AB32=\"T3 (ALB/MBD)\"), \"T3 (ALB/MBD)\", \" \")","v":" "},null,null,null,null,0,null,null,null,0," "," "," "," "]
[{"$f":"IF(COUNTRY_INFO!A33=0,\" \",COUNTRY_INFO!A33)","v":"South Sudan"},{"$f":"IF(COUNTRY_INFO!B33=0,\" \",COUNTRY_INFO!B33)","v":"Jonglei"},{"$f":"IF(COUNTRY_INFO!C33=0,\" \",COUNTRY_INFO!C33)","v":"TWIC EAST"},{"$f":"IF(OR(COUNTRY_INFO!$AA33=\"T3 (ALB/MBD)\",COUNTRY_INFO!$AB33=\"T3 (ALB/MBD)\"), \"T3 (ALB/MBD)\", \" \")","v":" "},null,null,null,null,0,null,null,null,0," "," "," "," "]
[{"$f":"IF(COUNTRY_INFO!A34=0,\" \",COUNTRY_INFO!A34)","v":"South Sudan"},{"$f":"IF(COUNTRY_INFO!B34=0,\" \",COUNTRY_INFO!B34)","v":"Jonglei"},{"$f":"IF(COUNTRY_INFO!C34=0,\" \",COUNTRY_INFO!C34)","v":"BOR SOUTH"},{"$f":"IF(OR(COUNTRY_INFO!$AA34=\"T3 (ALB/MBD)\",COUNTRY_INFO!$AB34=\"T3 (ALB/MBD)\"), \"T3 (ALB/MBD)\", \" \")","v":" "},null,null,null,null,0,null,null,null,0," "," "," "," "]
[{"$f":"IF(COUNTRY_INFO!A35=0,\" \",COUNTRY_INFO!A35)","v":"South Sudan"},{"$f":"IF(COUNTRY_INFO!B35=0,\" \",COUNTRY_INFO!B35)","v":"Lakes"},{"$f":"IF(COUNTRY_INFO!C35=0,\" \",COUNTRY_INFO!C35)","v":"CUEBIT"},{"$f":"IF(OR(COUNTRY_INFO!$AA35=\"T3 (ALB/MBD)\",COUNTRY_INFO!$AB35=\"T3 (ALB/MBD)\"), \"T3 (ALB/MBD)\", \" \")","v":" "},null,null,null,null,0,null,null,null,0," "," "," "," "]
[{"$f":"IF(COUNTRY_INFO!A36=0,\" \",COUNTRY_INFO!A36)","v":"South Sudan"},{"$f":"IF(COUNTRY_INFO!B36=0,\" \",COUNTRY_INFO!B36)","v":"Lakes"},{"$f":"IF(COUNTRY_INFO!C36=0,\" \",COUNTRY_INFO!C36)","v":"RUMBEK NORTH"},{"$f":"IF(OR(COUNTRY_INFO!$AA36=\"T3 (ALB/MBD)\",COUNTRY_INFO!$AB36=\"T3 (ALB/MBD)\"), \"T3 (ALB/MBD)\", \" \")","v":" "},null,null,null,null,0,null,null,null,0," "," "," "," "]
[{"$f":"IF(COUNTRY_INFO!A37=0,\" \",COUNTRY_INFO!A37)","v":"South Sudan"},{"$f":"IF(COUNTRY_INFO!B37=0,\" \",COUNTRY_INFO!B37)","v":"Lakes"},{"$f":"IF(COUNTRY_INFO!C37=0,\" \",COUNTRY_INFO!C37)","v":"RUMBEK CENTRE"},{"$f":"IF(OR(COUNTRY_INFO!$AA37=\"T3 (ALB/MBD)\",COUNTRY_INFO!$AB37=\"T3 (ALB/MBD)\"), \"T3 (ALB/MBD)\", \" \")","v":" "},null,null,null,null,0,null,null,null,0," "," "," "," "]
[{"$f":"IF(COUNTRY_INFO!A38=0,\" \",COUNTRY_INFO!A38)","v":"South Sudan"},{"$f":"IF(COUNTRY_INFO!B38=0,\" \",COUNTRY_INFO!B38)","v":"Lakes"},{"$f":"IF(COUNTRY_INFO!C38=0,\" \",COUNTRY_INFO!C38)","v":"WULU"},{"$f":"IF(OR(COUNTRY_INFO!$AA38=\"T3 (ALB/MBD)\",COUNTRY_INFO!$AB38=\"T3 (ALB/MBD)\"), \"T3 (ALB/MBD)\", \" \")","v":" "},null,null,null,null,0,null,null,null,0," "," "," "," "]
[{"$f":"IF(COUNTRY_INFO!A39=0,\" \",COUNTRY_INFO!A39)","v":"South Sudan"},{"$f":"IF(COUNTRY_INFO!B39=0,\" \",COUNTRY_INFO!B39)","v":"Lakes"},{"$f":"IF(COUNTRY_INFO!C39=0,\" \",COUNTRY_INFO!C39)","v":"RUMBEK EAST"},{"$f":"IF(OR(COUNTRY_INFO!$AA39=\"T3 (ALB/MBD)\",COUNTRY_INFO!$AB39=\"T3 (ALB/MBD)\"), \"T3 (ALB/MBD)\", \" \")","v":" "},null,null,null,null,0,null,null,null,0," "," "," "," "]
[{"$f":"IF(COUNTRY_INFO!A40=0,\" \",COUNTRY_INFO!A40)","v":"South Sudan"},{"$f":"IF(COUNTRY_INFO!B40=0,\" \",COUNTRY_INFO!B40)","v":"Lakes"},{"$f":"IF(COUNTRY_INFO!C40=0,\" \",COUNTRY_INFO!C40)","v":"YIROL WEST"},{"$f":"IF(OR(COUNTRY_INFO!$AA40=\"T3 (ALB/MBD)\",COUNTRY_INFO!$AB40=\"T3 (ALB/MBD)\"), \"T3 (ALB/MBD)\", \" \")","v":" "},null,null,null,null,0,null,null,null,0," "," "," "," "]
[{"$f":"IF(COUNTRY_INFO!A41=0,\" \",COUNTRY_INFO!A41)","v":"South Sudan"},{"$f":"IF(COUNTRY_INFO!B41=0,\" \",COUNTRY_INFO!B41)","v":"Lakes"},{"$f":"IF(COUNTRY_INFO!C41=0,\" \",COUNTRY_INFO!C41)","v":"YIROL EAST"},{"$f":"IF(OR(COUNTRY_INFO!$AA41=\"T3 (ALB/MBD)\",COUNTRY_INFO!$AB41=\"T3 (ALB/MBD)\"), \"T3 (ALB/MBD)\", \" \")","v":" "},null,null,null,null,0,null,null,null,0," "," "," "," "]
[{"$f":"IF(COUNTRY_INFO!A42=0,\" \",COUNTRY_INFO!A42)","v":"South Sudan"},{"$f":"IF(COUNTRY_INFO!B42=0,\" \",COUNTRY_INFO!B42)","v":"Lakes"},{"$f":"IF(COUNTRY_INFO!C42=0,\" \",COUNTRY_INFO!C42)","v":"AWERIAL"},{"$f":"IF(OR(COUNTRY_INFO!$AA42=\"T3 (ALB/MBD)\",COUNTRY_INFO!$AB42=\"T3 (ALB/MBD)\"), \"T3 (ALB/MBD)\", \" \")","v":" "},null,null,null,null,0,null,null,null,0," "," "," "," "]
[{"$f":"IF(COUNTRY_INFO!A43=0,\" \",COUNTRY_INFO!A43)","v":"South Sudan"},{"$f":"IF(COUNTRY_INFO!B43=0,\" \",COUNTRY_INFO!B43)","v":"Northern Bahr El Ghazal"},{"$f":"IF(COUNTRY_INFO!C43=0,\" \",COUNTRY_INFO!C43)","v":"AWIEL NORTH"},{"$f":"IF(OR(COUNTRY_INFO!$AA43=\"T3 (ALB/MBD)\",COUNTRY_INFO!$AB43=\"T3 (ALB/MBD)\"), \"T3 (ALB/MBD)\", \" \")","v":" "},null,null,null,null,0,null,null,null,0," "," "," "," "]
[{"$f":"IF(COUNTRY_INFO!A44=0,\" \",COUNTRY_INFO!A44)","v":"South Sudan"},{"$f":"IF(COUNTRY_INFO!B44=0,\" \",COUNTRY_INFO!B44)","v":"Northern Bahr El Ghazal"},{"$f":"IF(COUNTRY_INFO!C44=0,\" \",COUNTRY_INFO!C44)","v":"AWIEL EAST"},{"$f":"IF(OR(COUNTRY_INFO!$AA44=\"T3 (ALB/MBD)\",COUNTRY_INFO!$AB44=\"T3 (ALB/MBD)\"), \"T3 (ALB/MBD)\", \" \")","v":" "},null,null,null,null,0,null,null,null,0," "," "," "," "]
[{"$f":"IF(COUNTRY_INFO!A45=0,\" \",COUNTRY_INFO!A45)","v":"South Sudan"},{"$f":"IF(COUNTRY_INFO!B45=0,\" \",COUNTRY_INFO!B45)","v":"Northern Bahr El Ghazal"},{"$f":"IF(COUNTRY_INFO!C45=0,\" \",COUNTRY_INFO!C45)","v":"AWIEL SOUTH"},{"$f":"IF(OR(COUNTRY_INFO!$AA45=\"T3 (ALB/MBD)\",COUNTRY_INFO!$AB45=\"T3 (ALB/MBD)\"), \"T3 (ALB/MBD)\", \" \")","v":" "},null,null,null,null,0,null,null,null,0," "," "," "," "]
[{"$f":"IF(COUNTRY_INFO!A46=0,\" \",COUNTRY_INFO!A46)","v":"South Sudan"},{"$f":"IF(COUNTRY_INFO!B46=0,\" \",COUNTRY_INFO!B46)","v":"Northern Bahr El Ghazal"},{"$f":"IF(COUNTRY_INFO!C46=0,\" \",COUNTRY_INFO!C46)","v":"AWIEL WEST"},{"$f":"IF(OR(COUNTRY_INFO!$AA46=\"T3 (ALB/MBD)\",COUNTRY_INFO!$AB46=\"T3 (ALB/MBD)\"), \"T3 (ALB/MBD)\", \" \")","v":" "},null,null,null,null,0,null,null,null,0," "," "," "," "]
[{"$f":"IF(COUNTRY_INFO!A47=0,\" \",COUNTRY_INFO!A47)","v":"South Sudan"},{"$f":"IF(COUNTRY_INFO!B47=0,\" \",COUNTRY_INFO!B47)","v":"Northern Bahr El Ghazal"},{"$f":"IF(COUNTRY_INFO!C47=0,\" \",COUNTRY_INFO!C47)","v":"AWIEL CENTRE"},{"$f":"IF(OR(COUNTRY_INFO!$AA47=\"T3 (ALB/MBD)\",COUNTRY_INFO!$AB47=\"T3 (ALB/MBD)\"), \"T3 (ALB/MBD)\", \" \")","v":" "},null,null,null,null,0,null,null,null,0," "," "," "," "]
[{"$f":"IF(COUNTRY_INFO!A48=0,\" \",COUNTRY_INFO!A48)","v":"South Sudan"},{"$f":"IF(COUNTRY_INFO!B48=0,\" \",COUNTRY_INFO!B48)","v":"Unity"},{"$f":"IF(COUNTRY_INFO!C48=0,\" \",COUNTRY_INFO!C48)","v":"PARIANG"},{"$f":"IF(OR(COUNTRY_INFO!$AA48=\"T3 (ALB/MBD)\",COUNTRY_INFO!$AB48=\"T3 (ALB/MBD)\"), \"T3 (ALB/MBD)\", \" \")","v":" "},null,null,null,null,0,null,null,null,0," "," "," "," "]
[{"$f":"IF(COUNTRY_INFO!A49=0,\" \",COUNTRY_INFO!A49)","v":"South Sudan"},{"$f":"IF(COUNTRY_INFO!B49=0,\" \",COUNTRY_INFO!B49)","v":"Unity"},{"$f":"IF(COUNTRY_INFO!C49=0,\" \",COUNTRY_INFO!C49)","v":"ABIEMNHOM"},{"$f":"IF(OR(COUNTRY_INFO!$AA49=\"T3 (ALB/MBD)\",COUNTRY_INFO!$AB49=\"T3 (ALB/MBD)\"), \"T3 (ALB/MBD)\", \" \")","v":" "},null,null,null,null,0,null,null,null,0," "," "," "," "]
[{"$f":"IF(COUNTRY_INFO!A50=0,\" \",COUNTRY_INFO!A50)","v":"South Sudan"},{"$f":"IF(COUNTRY_INFO!B50=0,\" \",COUNTRY_INFO!B50)","v":"Unity"},{"$f":"IF(COUNTRY_INFO!C50=0,\" \",COUNTRY_INFO!C50)","v":"MAYOM"},{"$f":"IF(OR(COUNTRY_INFO!$AA50=\"T3 (ALB/MBD)\",COUNTRY_INFO!$AB50=\"T3 (ALB/MBD)\"), \"T3 (ALB/MBD)\", \" \")","v":" "},null,null,null,null,0,null,null,null,0," "," "," "," "]
[{"$f":"IF(COUNTRY_INFO!A51=0,\" \",COUNTRY_INFO!A51)","v":"South Sudan"},{"$f":"IF(COUNTRY_INFO!B51=0,\" \",COUNTRY_INFO!B51)","v":"Unity"},{"$f":"IF(COUNTRY_INFO!C51=0,\" \",COUNTRY_INFO!C51)","v":"RUBKONA"},{"$f":"IF(OR(COUNTRY_INFO!$AA51=\"T3 (ALB/MBD)\",COUNTRY_INFO!$AB51=\"T3 (ALB/MBD)\"), \"T3 (ALB/MBD)\", \" \")","v":" "},null,null,null,null,0,null,null,null,0," "," "," "," "]
[{"$f":"IF(COUNTRY_INFO!A52=0,\" \",COUNTRY_INFO!A52)","v":"South Sudan"},{"$f":"IF(COUNTRY_INFO!B52=0,\" \",COUNTRY_INFO!B52)","v":"Unity"},{"$f":"IF(COUNTRY_INFO!C52=0,\" \",COUNTRY_INFO!C52)","v":"GUIT"},{"$f":"IF(OR(COUNTRY_INFO!$AA52=\"T3 (ALB/MBD)\",COUNTRY_INFO!$AB52=\"T3 (ALB/MBD)\"), \"T3 (ALB/MBD)\", \" \")","v":" "},null,null,null,null,0,null,null,null,0," "," "," "," "]
[{"$f":"IF(COUNTRY_INFO!A53=0,\" \",COUNTRY_INFO!A53)","v":"South Sudan"},{"$f":"IF(COUNTRY_INFO!B53=0,\" \",COUNTRY_INFO!B53)","v":"Unity"},{"$f":"IF(COUNTRY_INFO!C53=0,\" \",COUNTRY_INFO!C53)","v":"KOCH"},{"$f":"IF(OR(COUNTRY_INFO!$AA53=\"T3 (ALB/MBD)\",COUNTRY_INFO!$AB53=\"T3 (ALB/MBD)\"), \"T3 (ALB/MBD)\", \" \")","v":" "},null,null,null,null,0,null,null,null,0," "," "," "," "]
[{"$f":"IF(COUNTRY_INFO!A54=0,\" \",COUNTRY_INFO!A54)","v":"South Sudan"},{"$f":"IF(COUNTRY_INFO!B54=0,\" \",COUNTRY_INFO!B54)","v":"Unity"},{"$f":"IF(COUNTRY_INFO!C54=0,\" \",COUNTRY_INFO!C54)","v":"LEER"},{"$f":"IF(OR(COUNTRY_INFO!$AA54=\"T3 (ALB/MBD)\",COUNTRY_INFO!$AB54=\"T3 (ALB/MBD)\"), \"T3 (ALB/MBD)\", \" \")","v":" "},null,null,null,null,0,null,null,null,0," "," "," "," "]
[{"$f":"IF(COUNTRY_INFO!A55=0,\" \",COUNTRY_INFO!A55)","v":"South Sudan"},{"$f":"IF(COUNTRY_INFO!B55=0,\" \",COUNTRY_INFO!B55)","v":"Unity"},{"$f":"IF(COUNTRY_INFO!C55=0,\" \",COUNTRY_INFO!C55)","v":"MAYENDIT"},{"$f":"IF(OR(COUNTRY_INFO!$AA55=\"T3 (ALB/MBD)\",COUNTRY_INFO!$AB55=\"T3 (ALB/MBD)\"), \"T3 (ALB/MBD)\", \" \")","v":" "},null,null,null,null,0,null,null,null,0," "," "," "," "]
[{"$f":"IF(COUNTRY_INFO!A56=0,\" \",COUNTRY_INFO!A56)","v":"South Sudan"},{"$f":"IF(COUNTRY_INFO!B56=0,\" \",COUNTRY_INFO!B56)","v":"Unity"},{"$f":"IF(COUNTRY_INFO!C56=0,\" \",COUNTRY_INFO!C56)","v":"PAYNIJAR"},{"$f":"IF(OR(COUNTRY_INFO!$AA56=\"T3 (ALB/MBD)\",COUNTRY_INFO!$AB56=\"T3 (ALB/MBD)\"), \"T3 (ALB/MBD)\", \" \")","v":" "},null,null,null,null,0,null,null,null,0," "," "," "," "]
[{"$f":"IF(COUNTRY_INFO!A57=0,\" \",COUNTRY_INFO!A57)","v":"South Sudan"},{"$f":"IF(COUNTRY_INFO!B57=0,\" \",COUNTRY_INFO!B57)","v":"Upper Nile"},{"$f":"IF(COUNTRY_INFO!C57=0,\" \",COUNTRY_INFO!C57)","v":"RENK"},{"$f":"IF(OR(COUNTRY_INFO!$AA57=\"T3 (ALB/MBD)\",COUNTRY_INFO!$AB57=\"T3 (ALB/MBD)\"), \"T3 (ALB/MBD)\", \" \")","v":" "},null,null,null,null,0,null,null,null,0," "," "," "," "]
[{"$f":"IF(COUNTRY_INFO!A58=0,\" \",COUNTRY_INFO!A58)","v":"South Sudan"},{"$f":"IF(COUNTRY_INFO!B58=0,\" \",COUNTRY_INFO!B58)","v":"Upper Nile"},{"$f":"IF(COUNTRY_INFO!C58=0,\" \",COUNTRY_INFO!C58)","v":"MANYO"},{"$f":"IF(OR(COUNTRY_INFO!$AA58=\"T3 (ALB/MBD)\",COUNTRY_INFO!$AB58=\"T3 (ALB/MBD)\"), \"T3 (ALB/MBD)\", \" \")","v":" "},null,null,null,null,0,null,null,null,0," "," "," "," "]
[{"$f":"IF(COUNTRY_INFO!A59=0,\" \",COUNTRY_INFO!A59)","v":"South Sudan"},{"$f":"IF(COUNTRY_INFO!B59=0,\" \",COUNTRY_INFO!B59)","v":"Upper Nile"},{"$f":"IF(COUNTRY_INFO!C59=0,\" \",COUNTRY_INFO!C59)","v":"FASHODA"},{"$f":"IF(OR(COUNTRY_INFO!$AA59=\"T3 (ALB/MBD)\",COUNTRY_INFO!$AB59=\"T3 (ALB/MBD)\"), \"T3 (ALB/MBD)\", \" \")","v":" "},null,null,null,null,0,null,null,null,0," "," "," "," "]
[{"$f":"IF(COUNTRY_INFO!A60=0,\" \",COUNTRY_INFO!A60)","v":"South Sudan"},{"$f":"IF(COUNTRY_INFO!B60=0,\" \",COUNTRY_INFO!B60)","v":"Upper Nile"},{"$f":"IF(COUNTRY_INFO!C60=0,\" \",COUNTRY_INFO!C60)","v":"MELUT"},{"$f":"IF(OR(COUNTRY_INFO!$AA60=\"T3 (ALB/MBD)\",COUNTRY_INFO!$AB60=\"T3 (ALB/MBD)\"), \"T3 (ALB/MBD)\", \" \")","v":" "},null,null,null,null,0,null,null,null,0," "," "," "," "]
[{"$f":"IF(COUNTRY_INFO!A61=0,\" \",COUNTRY_INFO!A61)","v":"South Sudan"},{"$f":"IF(COUNTRY_INFO!B61=0,\" \",COUNTRY_INFO!B61)","v":"Upper Nile"},{"$f":"IF(COUNTRY_INFO!C61=0,\" \",COUNTRY_INFO!C61)","v":"MABAN"},{"$f":"IF(OR(COUNTRY_INFO!$AA61=\"T3 (ALB/MBD)\",COUNTRY_INFO!$AB61=\"T3 (ALB/MBD)\"), \"T3 (ALB/MBD)\", \" \")","v":" "},null,null,null,null,0,null,null,null,0," "," "," "," "]
[{"$f":"IF(COUNTRY_INFO!A62=0,\" \",COUNTRY_INFO!A62)","v":"South Sudan"},{"$f":"IF(COUNTRY_INFO!B62=0,\" \",COUNTRY_INFO!B62)","v":"Upper Nile"},{"$f":"IF(COUNTRY_INFO!C62=0,\" \",COUNTRY_INFO!C62)","v":"MAIWUT"},{"$f":"IF(OR(COUNTRY_INFO!$AA62=\"T3 (ALB/MBD)\",COUNTRY_INFO!$AB62=\"T3 (ALB/MBD)\"), \"T3 (ALB/MBD)\", \" \")","v":" "},null,null,null,null,0,null,null,null,0," "," "," "," "]
[{"$f":"IF(COUNTRY_INFO!A63=0,\" \",COUNTRY_INFO!A63)","v":"South Sudan"},{"$f":"IF(COUNTRY_INFO!B63=0,\" \",COUNTRY_INFO!B63)","v":"Upper Nile"},{"$f":"IF(COUNTRY_INFO!C63=0,\" \",COUNTRY_INFO!C63)","v":"LUAKPINY/NASIR"},{"$f":"IF(OR(COUNTRY_INFO!$AA63=\"T3 (ALB/MBD)\",COUNTRY_INFO!$AB63=\"T3 (ALB/MBD)\"), \"T3 (ALB/MBD)\", \" \")","v":" "},null,null,null,null,0,null,null,null,0," "," "," "," "]
[{"$f":"IF(COUNTRY_INFO!A64=0,\" \",COUNTRY_INFO!A64)","v":"South Sudan"},{"$f":"IF(COUNTRY_INFO!B64=0,\" \",COUNTRY_INFO!B64)","v":"Upper Nile"},{"$f":"IF(COUNTRY_INFO!C64=0,\" \",COUNTRY_INFO!C64)","v":"LONGOCHUK"},{"$f":"IF(OR(COUNTRY_INFO!$AA64=\"T3 (ALB/MBD)\",COUNTRY_INFO!$AB64=\"T3 (ALB/MBD)\"), \"T3 (ALB/MBD)\", \" \")","v":" "},null,null,null,null,0,null,null,null,0," "," "," "," "]
[{"$f":"IF(COUNTRY_INFO!A65=0,\" \",COUNTRY_INFO!A65)","v":"South Sudan"},{"$f":"IF(COUNTRY_INFO!B65=0,\" \",COUNTRY_INFO!B65)","v":"Upper Nile"},{"$f":"IF(COUNTRY_INFO!C65=0,\" \",COUNTRY_INFO!C65)","v":"ULANG"},{"$f":"IF(OR(COUNTRY_INFO!$AA65=\"T3 (ALB/MBD)\",COUNTRY_INFO!$AB65=\"T3 (ALB/MBD)\"), \"T3 (ALB/MBD)\", \" \")","v":" "},null,null,null,null,0,null,null,null,0," "," "," "," "]
[{"$f":"IF(COUNTRY_INFO!A66=0,\" \",COUNTRY_INFO!A66)","v":"South Sudan"},{"$f":"IF(COUNTRY_INFO!B66=0,\" \",COUNTRY_INFO!B66)","v":"Upper Nile"},{"$f":"IF(COUNTRY_INFO!C66=0,\" \",COUNTRY_INFO!C66)","v":"BALIET"},{"$f":"IF(OR(COUNTRY_INFO!$AA66=\"T3 (ALB/MBD)\",COUNTRY_INFO!$AB66=\"T3 (ALB/MBD)\"), \"T3 (ALB/MBD)\", \" \")","v":" "},null,null,null,null,0,null,null,null,0," "," "," "," "]
[{"$f":"IF(COUNTRY_INFO!A67=0,\" \",COUNTRY_INFO!A67)","v":"South Sudan"},{"$f":"IF(COUNTRY_INFO!B67=0,\" \",COUNTRY_INFO!B67)","v":"Upper Nile"},{"$f":"IF(COUNTRY_INFO!C67=0,\" \",COUNTRY_INFO!C67)","v":"MALAKAL"},{"$f":"IF(OR(COUNTRY_INFO!$AA67=\"T3 (ALB/MBD)\",COUNTRY_INFO!$AB67=\"T3 (ALB/MBD)\"), \"T3 (ALB/MBD)\", \" \")","v":" "},null,null,null,null,0,null,null,null,0," "," "," "," "]
[{"$f":"IF(COUNTRY_INFO!A68=0,\" \",COUNTRY_INFO!A68)","v":"South Sudan"},{"$f":"IF(COUNTRY_INFO!B68=0,\" \",COUNTRY_INFO!B68)","v":"Upper Nile"},{"$f":"IF(COUNTRY_INFO!C68=0,\" \",COUNTRY_INFO!C68)","v":"PANYKANG"},{"$f":"IF(OR(COUNTRY_INFO!$AA68=\"T3 (ALB/MBD)\",COUNTRY_INFO!$AB68=\"T3 (ALB/MBD)\"), \"T3 (ALB/MBD)\", \" \")","v":" "},null,null,null,null,0,null,null,null,0," "," "," "," "]
[{"$f":"IF(COUNTRY_INFO!A69=0,\" \",COUNTRY_INFO!A69)","v":"South Sudan"},{"$f":"IF(COUNTRY_INFO!B69=0,\" \",COUNTRY_INFO!B69)","v":"Warrap"},{"$f":"IF(COUNTRY_INFO!C69=0,\" \",COUNTRY_INFO!C69)","v":"ABYEI"},{"$f":"IF(OR(COUNTRY_INFO!$AA69=\"T3 (ALB/MBD)\",COUNTRY_INFO!$AB69=\"T3 (ALB/MBD)\"), \"T3 (ALB/MBD)\", \" \")","v":" "},null,null,null,null,0,null,null,null,0," "," "," "," "]
[{"$f":"IF(COUNTRY_INFO!A70=0,\" \",COUNTRY_INFO!A70)","v":"South Sudan"},{"$f":"IF(COUNTRY_INFO!B70=0,\" \",COUNTRY_INFO!B70)","v":"Warrap"},{"$f":"IF(COUNTRY_INFO!C70=0,\" \",COUNTRY_INFO!C70)","v":"TWIC"},{"$f":"IF(OR(COUNTRY_INFO!$AA70=\"T3 (ALB/MBD)\",COUNTRY_INFO!$AB70=\"T3 (ALB/MBD)\"), \"T3 (ALB/MBD)\", \" \")","v":" "},null,null,null,null,0,null,null,null,0," "," "," "," "]
[{"$f":"IF(COUNTRY_INFO!A71=0,\" \",COUNTRY_INFO!A71)","v":"South Sudan"},{"$f":"IF(COUNTRY_INFO!B71=0,\" \",COUNTRY_INFO!B71)","v":"Warrap"},{"$f":"IF(COUNTRY_INFO!C71=0,\" \",COUNTRY_INFO!C71)","v":"GOGRIAL WEST"},{"$f":"IF(OR(COUNTRY_INFO!$AA71=\"T3 (ALB/MBD)\",COUNTRY_INFO!$AB71=\"T3 (ALB/MBD)\"), \"T3 (ALB/MBD)\", \" \")","v":" "},null,null,null,null,0,null,null,null,0," "," "," "," "]
[{"$f":"IF(COUNTRY_INFO!A72=0,\" \",COUNTRY_INFO!A72)","v":"South Sudan"},{"$f":"IF(COUNTRY_INFO!B72=0,\" \",COUNTRY_INFO!B72)","v":"Warrap"},{"$f":"IF(COUNTRY_INFO!C72=0,\" \",COUNTRY_INFO!C72)","v":"GOGRIAL EAST"},{"$f":"IF(OR(COUNTRY_INFO!$AA72=\"T3 (ALB/MBD)\",COUNTRY_INFO!$AB72=\"T3 (ALB/MBD)\"), \"T3 (ALB/MBD)\", \" \")","v":" "},null,null,null,null,0,null,null,null,0," "," "," "," "]
[{"$f":"IF(COUNTRY_INFO!A73=0,\" \",COUNTRY_INFO!A73)","v":"South Sudan"},{"$f":"IF(COUNTRY_INFO!B73=0,\" \",COUNTRY_INFO!B73)","v":"Warrap"},{"$f":"IF(COUNTRY_INFO!C73=0,\" \",COUNTRY_INFO!C73)","v":"TONJ NORTH"},{"$f":"IF(OR(COUNTRY_INFO!$AA73=\"T3 (ALB/MBD)\",COUNTRY_INFO!$AB73=\"T3 (ALB/MBD)\"), \"T3 (ALB/MBD)\", \" \")","v":" "},null,null,null,null,0,null,null,null,0," "," "," "," "]
[{"$f":"IF(COUNTRY_INFO!A74=0,\" \",COUNTRY_INFO!A74)","v":"South Sudan"},{"$f":"IF(COUNTRY_INFO!B74=0,\" \",COUNTRY_INFO!B74)","v":"Warrap"},{"$f":"IF(COUNTRY_INFO!C74=0,\" \",COUNTRY_INFO!C74)","v":"TONJ EAST"},{"$f":"IF(OR(COUNTRY_INFO!$AA74=\"T3 (ALB/MBD)\",COUNTRY_INFO!$AB74=\"T3 (ALB/MBD)\"), \"T3 (ALB/MBD)\", \" \")","v":" "},null,null,null,null,0,null,null,null,0," "," "," "," "]
[{"$f":"IF(COUNTRY_INFO!A75=0,\" \",COUNTRY_INFO!A75)","v":"South Sudan"},{"$f":"IF(COUNTRY_INFO!B75=0,\" \",COUNTRY_INFO!B75)","v":"Warrap"},{"$f":"IF(COUNTRY_INFO!C75=0,\" \",COUNTRY_INFO!C75)","v":"TONJ SOUTH"},{"$f":"IF(OR(COUNTRY_INFO!$AA75=\"T3 (ALB/MBD)\",COUNTRY_INFO!$AB75=\"T3 (ALB/MBD)\"), \"T3 (ALB/MBD)\", \" \")","v":" "},null,null,null,null,{"$f":"SUM(F75:H75)","v":0},null,null,null,{"$f":"SUM(J75:L75)","v":0},{"$f":"IF(F75<>0, IF(J75/F75*100=0, \"-\", J75/F75*100), \" \")","v":" "},{"$f":"IF(G75<>0, IF(K75/G75*100=0, \"-\", K75/G75*100), \" \")","v":" "},{"$f":"IF(H75<>0, IF(L75/H75*100=0, \"-\", L75/H75*100), \" \")","v":" "},{"$f":"IF(I75<>0, IF(M75/I75*100=0, \"-\", M75/I75*100), \" \")","v":" "}]
[{"$f":"IF(COUNTRY_INFO!A76=0,\" \",COUNTRY_INFO!A76)","v":"South Sudan"},{"$f":"IF(COUNTRY_INFO!B76=0,\" \",COUNTRY_INFO!B76)","v":"Wesstern Equatoria"},{"$f":"IF(COUNTRY_INFO!C76=0,\" \",COUNTRY_INFO!C76)","v":"TAMBURA"},{"$f":"IF(OR(COUNTRY_INFO!$AA76=\"T3 (ALB/MBD)\",COUNTRY_INFO!$AB76=\"T3 (ALB/MBD)\"), \"T3 (ALB/MBD)\", \" \")","v":" "},null,null,null,null,0,null,null,null,0," "," "," "," "]
[{"$f":"IF(COUNTRY_INFO!A77=0,\" \",COUNTRY_INFO!A77)","v":"South Sudan"},{"$f":"IF(COUNTRY_INFO!B77=0,\" \",COUNTRY_INFO!B77)","v":"Wesstern Equatoria"},{"$f":"IF(COUNTRY_INFO!C77=0,\" \",COUNTRY_INFO!C77)","v":"NAGERO"},{"$f":"IF(OR(COUNTRY_INFO!$AA77=\"T3 (ALB/MBD)\",COUNTRY_INFO!$AB77=\"T3 (ALB/MBD)\"), \"T3 (ALB/MBD)\", \" \")","v":" "},null,null,null,null,0,null,null,null,0," "," "," "," "]
[{"$f":"IF(COUNTRY_INFO!A78=0,\" \",COUNTRY_INFO!A78)","v":"South Sudan"},{"$f":"IF(COUNTRY_INFO!B78=0,\" \",COUNTRY_INFO!B78)","v":"Wesstern Equatoria"},{"$f":"IF(COUNTRY_INFO!C78=0,\" \",COUNTRY_INFO!C78)","v":"NZARA"},{"$f":"IF(OR(COUNTRY_INFO!$AA78=\"T3 (ALB/MBD)\",COUNTRY_INFO!$AB78=\"T3 (ALB/MBD)\"), \"T3 (ALB/MBD)\", \" \")","v":" "},null,null,null,null,0,null,null,null,0," "," "," "," "]
[{"$f":"IF(COUNTRY_INFO!A79=0,\" \",COUNTRY_INFO!A79)","v":"South Sudan"},{"$f":"IF(COUNTRY_INFO!B79=0,\" \",COUNTRY_INFO!B79)","v":"Wesstern Equatoria"},{"$f":"IF(COUNTRY_INFO!C79=0,\" \",COUNTRY_INFO!C79)","v":"EZO"},{"$f":"IF(OR(COUNTRY_INFO!$AA79=\"T3 (ALB/MBD)\",COUNTRY_INFO!$AB79=\"T3 (ALB/MBD)\"), \"T3 (ALB/MBD)\", \" \")","v":" "},null,null,null,null,0,null,null,null,0," "," "," "," "]
[{"$f":"IF(COUNTRY_INFO!A80=0,\" \",COUNTRY_INFO!A80)","v":"South Sudan"},{"$f":"IF(COUNTRY_INFO!B80=0,\" \",COUNTRY_INFO!B80)","v":"Wesstern Equatoria"},{"$f":"IF(COUNTRY_INFO!C80=0,\" \",COUNTRY_INFO!C80)","v":"YAMBIO"},{"$f":"IF(OR(COUNTRY_INFO!$AA80=\"T3 (ALB/MBD)\",COUNTRY_INFO!$AB80=\"T3 (ALB/MBD)\"), \"T3 (ALB/MBD)\", \" \")","v":" "},null,null,null,null,0,null,null,null,0," "," "," "," "]
[{"$f":"IF(COUNTRY_INFO!A81=0,\" \",COUNTRY_INFO!A81)","v":"South Sudan"},{"$f":"IF(COUNTRY_INFO!B81=0,\" \",COUNTRY_INFO!B81)","v":"Wesstern Equatoria"},{"$f":"IF(COUNTRY_INFO!C81=0,\" \",COUNTRY_INFO!C81)","v":"IBBA"},{"$f":"IF(OR(COUNTRY_INFO!$AA81=\"T3 (ALB/MBD)\",COUNTRY_INFO!$AB81=\"T3 (ALB/MBD)\"), \"T3 (ALB/MBD)\", \" \")","v":" "},null,null,null,null,0,null,null,null,0," "," "," "," "]
[{"$f":"IF(COUNTRY_INFO!A82=0,\" \",COUNTRY_INFO!A82)","v":"South Sudan"},{"$f":"IF(COUNTRY_INFO!B82=0,\" \",COUNTRY_INFO!B82)","v":"Wesstern Equatoria"},{"$f":"IF(COUNTRY_INFO!C82=0,\" \",COUNTRY_INFO!C82)","v":"MARIDI"},{"$f":"IF(OR(COUNTRY_INFO!$AA82=\"T3 (ALB/MBD)\",COUNTRY_INFO!$AB82=\"T3 (ALB/MBD)\"), \"T3 (ALB/MBD)\", \" \")","v":" "},null,null,null,null,0,null,null,null,0," "," "," "," "]
[{"$f":"IF(COUNTRY_INFO!A83=0,\" \",COUNTRY_INFO!A83)","v":"South Sudan"},{"$f":"IF(COUNTRY_INFO!B83=0,\" \",COUNTRY_INFO!B83)","v":"Wesstern Equatoria"},{"$f":"IF(COUNTRY_INFO!C83=0,\" \",COUNTRY_INFO!C83)","v":"MVOLO"},{"$f":"IF(OR(COUNTRY_INFO!$AA83=\"T3 (ALB/MBD)\",COUNTRY_INFO!$AB83=\"T3 (ALB/MBD)\"), \"T3 (ALB/MBD)\", \" \")","v":" "},null,null,null,null,0,null,null,null,0," "," "," "," "]
[{"$f":"IF(COUNTRY_INFO!A84=0,\" \",COUNTRY_INFO!A84)","v":"South Sudan"},{"$f":"IF(COUNTRY_INFO!B84=0,\" \",COUNTRY_INFO!B84)","v":"Wesstern Equatoria"},{"$f":"IF(COUNTRY_INFO!C84=0,\" \",COUNTRY_INFO!C84)","v":"MUNDRI WEST"},{"$f":"IF(OR(COUNTRY_INFO!$AA84=\"T3 (ALB/MBD)\",COUNTRY_INFO!$AB84=\"T3 (ALB/MBD)\"), \"T3 (ALB/MBD)\", \" \")","v":" "},null,null,null,null,0,null,null,null,0," "," "," "," "]
[{"$f":"IF(COUNTRY_INFO!A85=0,\" \",COUNTRY_INFO!A85)","v":"South Sudan"},{"$f":"IF(COUNTRY_INFO!B85=0,\" \",COUNTRY_INFO!B85)","v":"Wesstern Equatoria"},{"$f":"IF(COUNTRY_INFO!C85=0,\" \",COUNTRY_INFO!C85)","v":"MUNDRI EAST"},{"$f":"IF(OR(COUNTRY_INFO!$AA85=\"T3 (ALB/MBD)\",COUNTRY_INFO!$AB85=\"T3 (ALB/MBD)\"), \"T3 (ALB/MBD)\", \" \")","v":" "},null,null,null,null,0,null,null,null,0," "," "," "," "]
[{"$f":"IF(COUNTRY_INFO!A86=0,\" \",COUNTRY_INFO!A86)","v":"South Sudan"},{"$f":"IF(COUNTRY_INFO!B86=0,\" \",COUNTRY_INFO!B86)","v":"Western Bahr El Ghazal"},{"$f":"IF(COUNTRY_INFO!C86=0,\" \",COUNTRY_INFO!C86)","v":"RAGA"},{"$f":"IF(OR(COUNTRY_INFO!$AA86=\"T3 (ALB/MBD)\",COUNTRY_INFO!$AB86=\"T3 (ALB/MBD)\"), \"T3 (ALB/MBD)\", \" \")","v":" "},null,null,null,null,0,null,null,null,0," "," "," "," "]
[{"$f":"IF(COUNTRY_INFO!A87=0,\" \",COUNTRY_INFO!A87)","v":"South Sudan"},{"$f":"IF(COUNTRY_INFO!B87=0,\" \",COUNTRY_INFO!B87)","v":"Western Bahr El Ghazal"},{"$f":"IF(COUNTRY_INFO!C87=0,\" \",COUNTRY_INFO!C87)","v":"JUR RIVER"},{"$f":"IF(OR(COUNTRY_INFO!$AA87=\"T3 (ALB/MBD)\",COUNTRY_INFO!$AB87=\"T3 (ALB/MBD)\"), \"T3 (ALB/MBD)\", \" \")","v":" "},null,null,null,null,0,null,null,null,0," "," "," "," "]
[{"$f":"IF(COUNTRY_INFO!A88=0,\" \",COUNTRY_INFO!A88)","v":"South Sudan"},{"$f":"IF(COUNTRY_INFO!B88=0,\" \",COUNTRY_INFO!B88)","v":"Western Bahr El Ghazal"},{"$f":"IF(COUNTRY_INFO!C88=0,\" \",COUNTRY_INFO!C88)","v":"WAU"},{"$f":"IF(OR(COUNTRY_INFO!$AA88=\"T3 (ALB/MBD)\",COUNTRY_INFO!$AB88=\"T3 (ALB/MBD)\"), \"T3 (ALB/MBD)\", \" \")","v":" "},null,null,null,null,0,null,null,null,0," "," "," "," "]
[{"$f":"IF(COUNTRY_INFO!A89=0,\" \",COUNTRY_INFO!A89)","v":"South Sudan"},{"$f":"IF(COUNTRY_INFO!B89=0,\" \",COUNTRY_INFO!B89)","v":"Upper Nile"},{"$f":"IF(COUNTRY_INFO!C89=0,\" \",COUNTRY_INFO!C89)","v":"MABAN Refugee"},{"$f":"IF(OR(COUNTRY_INFO!$AA89=\"T3 (ALB/MBD)\",COUNTRY_INFO!$AB89=\"T3 (ALB/MBD)\"), \"T3 (ALB/MBD)\", \" \")","v":" "},null,null,null,null,0,null,null,null,0," "," "," "," "]

{"sheet":"T3_R2","index":8,"n_rows":89,"n_cols":17,"rows_kept":89,"cut":false,"hidden":false,"merged":[[5,13,5,16],[0,5,0,7],[1,9,1,10],[1,11,1,12],[3,0,3,2],[5,0,5,2],[5,3,6,3],[5,4,6,4],[5,5,5,8],[5,9,5,12]]}
["T 3 - Albendazole (ALB) or Mebendazole (MBD) - Round 2",null,null,null,null,"Select medicine used for treatment \nof STH for each age group"]
["Administrative structure, population requiring PC by age group, population treated by age group and coverage",null,null,null,null,null,null,null,null,"Select the category of Adults"]
[]
["TOTAL",null,null,null,null,{"$f":"SUBTOTAL(9,F$10:F$1010)","v":0},0,0,0,0,0,0,0,{"$f":"IF(F4<>0, IF(J4/F4*100=0, \"-\", J4/F4*100), \" \")","v":" "},{"$f":"IF(G4<>0, IF(K4/G4*100=0, \"-\", K4/G4*100), \" \")","v":" "},{"$f":"IF(H4<>0, IF(L4/H4*100=0, \"-\", L4/H4*100), \" \")","v":" "},{"$f":"IF(I4<>0, IF(M4/I4*100=0, \"-\", M4/I4*100), \" \")","v":" "}]
[]
["Country administrative structure",null,null,"PC implemented","Date","Population targeted for T3",null,null,null,"Population treated",null,null,null,"Programme coverage (%)"]
["Country","Province/State","District",null,null,"PreSAC","SAC","Adults","Total","PreSAC","SAC","Adults","Total","PreSAC","SAC","Adults","Total"]
[]
[]
[{"$f":"IF(COUNTRY_INFO!A10=0,\" \",COUNTRY_INFO!A10)","v":"South Sudan"},{"$f":"IF(COUNTRY_INFO!B10=0,\" \",COUNTRY_INFO!B10)","v":"Central Equatoria"},{"$f":"IF(COUNTRY_INFO!C10=0,\" \",COUNTRY_INFO!C10)","v":"TEREKEKA"},{"$f":"IF(AND(COUNTRY_INFO!$AA10=\"T3 (ALB/MBD)\",COUNTRY_INFO!$AB10=\"T3 (ALB/MBD)\"), \"T3 (ALB/MBD)\", \" \")","v":" "},null,null,null,null,{"$f":"SUM(F10:H10)","v":0},null,null,null,{"$f":"SUM(J10:L10)","v":0},{"$f":"IF(F10<>0, IF(J10/F10*100=0, \"-\", J10/F10*100), \" \")","v":" "}," "," "," "]
[{"$f":"IF(COUNTRY_INFO!A11=0,\" \",COUNTRY_INFO!A11)","v":"South Sudan"},{"$f":"IF(COUNTRY_INFO!B11=0,\" \",COUNTRY_INFO!B11)","v":"Central Equatoria"},{"$f":"IF(COUNTRY_INFO!C11=0,\" \",COUNTRY_INFO!C11)","v":"JUBA"},{"$f":"IF(AND(COUNTRY_INFO!$AA11=\"T3 (ALB/MBD)\",COUNTRY_INFO!$AB11=\"T3 (ALB/MBD)\"), \"T3 (ALB/MBD)\", \" \")","v":" "},null,null,null,null,{"$f":"SUM(F11:H11)","v":0},null,null,null,{"$f":"SUM(J11:L11)","v":0},{"$f":"IF(F11<>0, IF(J11/F11*100=0, \"-\", J11/F11*100), \" \")","v":" "},{"$f":"IF(G11<>0, IF(K11/G11*100=0, \"-\", K11/G11*100), \" \")","v":" "},{"$f":"IF(H11<>0, IF(L11/H11*100=0, \"-\", L11/H11*100), \" \")","v":" "},{"$f":"IF(I11<>0, IF(M11/I11*100=0, \"-\", M11/I11*100), \" \")","v":" "}]
[{"$f":"IF(COUNTRY_INFO!A12=0,\" \",COUNTRY_INFO!A12)","v":"South Sudan"},{"$f":"IF(COUNTRY_INFO!B12=0,\" \",COUNTRY_INFO!B12)","v":"Central Equatoria"},{"$f":"IF(COUNTRY_INFO!C12=0,\" \",COUNTRY_INFO!C12)","v":"LAINYA"},{"$f":"IF(AND(COUNTRY_INFO!$AA12=\"T3 (ALB/MBD)\",COUNTRY_INFO!$AB12=\"T3 (ALB/MBD)\"), \"T3 (ALB/MBD)\", \" \")","v":" "},null,null,null,null,0,null,null,null,0," "," "," "," "]
[{"$f":"IF(COUNTRY_INFO!A13=0,\" \",COUNTRY_INFO!A13)","v":"South Sudan"},{"$f":"IF(COUNTRY_INFO!B13=0,\" \",COUNTRY_INFO!B13)","v":"Central Equatoria"},{"$f":"IF(COUNTRY_INFO!C13=0,\" \",COUNTRY_INFO!C13)","v":"YEI"},{"$f":"IF(AND(COUNTRY_INFO!$AA13=\"T3 (ALB/MBD)\",COUNTRY_INFO!$AB13=\"T3 (ALB/MBD)\"), \"T3 (ALB/MBD)\", \" \")","v":" "},null,null,null,null,0,null,null,null,0," "," "," "," "]
[{"$f":"IF(COUNTRY_INFO!A14=0,\" \",COUNTRY_INFO!A14)","v":"South Sudan"},{"$f":"IF(COUNTRY_INFO!B14=0,\" \",COUNTRY_INFO!B14)","v":"Central Equatoria"},{"$f":"IF(COUNTRY_INFO!C14=0,\" \",COUNTRY_INFO!C14)","v":"MOROBO"},{"$f":"IF(AND(COUNTRY_INFO!$AA14=\"T3 (ALB/MBD)\",COUNTRY_INFO!$AB14=\"T3 (ALB/MBD)\"), \"T3 (ALB/MBD)\", \" \")","v":" "},null,null,null,null,0,null,null,null,0," "," "," "," "]
[{"$f":"IF(COUNTRY_INFO!A15=0,\" \",COUNTRY_INFO!A15)","v":"South Sudan"},{"$f":"IF(COUNTRY_INFO!B15=0,\" \",COUNTRY_INFO!B15)","v":"Central Equatoria"},{"$f":"IF(COUNTRY_INFO!C15=0,\" \",COUNTRY_INFO!C15)","v":"KAJO KEJI"},{"$f":"IF(AND(COUNTRY_INFO!$AA15=\"T3 (ALB/MBD)\",COUNTRY_INFO!$AB15=\"T3 (ALB/MBD)\"), \"T3 (ALB/MBD)\", \" \")","v":" "},null,null,null,null,0,null,null,null,0," "," "," "," "]
[{"$f":"IF(COUNTRY_INFO!A16=0,\" \",COUNTRY_INFO!A16)","v":"South Sudan"},{"$f":"IF(COUNTRY_INFO!B16=0,\" \",COUNTRY_INFO!B16)","v":"Eastern Equatoria"},{"$f":"IF(COUNTRY_INFO!C16=0,\" \",COUNTRY_INFO!C16)","v":"TORIT"},{"$f":"IF(AND(COUNTRY_INFO!$AA16=\"T3 (ALB/MBD)\",COUNTRY_INFO!$AB16=\"T3 (ALB/MBD)\"), \"T3 (ALB/MBD)\", \" \")","v":" "},null,null,null,null,0,null,null,null,0," "," "," "," "]
[{"$f":"IF(COUNTRY_INFO!A17=0,\" \",COUNTRY_INFO!A17)","v":"South Sudan"},{"$f":"IF(COUNTRY_INFO!B17=0,\" \",COUNTRY_INFO!B17)","v":"Eastern Equatoria"},{"$f":"IF(COUNTRY_INFO!C17=0,\" \",COUNTRY_INFO!C17)","v":"LOPA/LAFON"},{"$f":"IF(AND(COUNTRY_INFO!$AA17=\"T3 (ALB/MBD)\",COUNTRY_INFO!$AB17=\"T3 (ALB/MBD)\"), \"T3 (ALB/MBD)\", \" \")","v":" "},null,null,null,null,0,null,null,null,0," "," "," "," "]
[{"$f":"IF(COUNTRY_INFO!A18=0,\" \",COUNTRY_INFO!A18)","v":"South Sudan"},{"$f":"IF(COUNTRY_INFO!B18=0,\" \",COUNTRY_INFO!B18)","v":"Eastern Equatoria"},{"$f":"IF(COUNTRY_INFO!C18=0,\" \",COUNTRY_INFO!C18)","v":"KAPOETA NORTH"},{"$f":"IF(AND(COUNTRY_INFO!$AA18=\"T3 (ALB/MBD)\",COUNTRY_INFO!$AB18=\"T3 (ALB/MBD)\"), \"T3 (ALB/MBD)\", \" \")","v":" "},null,null,null,null,0,null,null,null,0," "," "," "," "]
[{"$f":"IF(COUNTRY_INFO!A19=0,\" \",COUNTRY_INFO!A19)","v":"South Sudan"},{"$f":"IF(COUNTRY_INFO!B19=0,\" \",COUNTRY_INFO!B19)","v":"Eastern Equatoria"},{"$f":"IF(COUNTRY_INFO!C19=0,\" \",COUNTRY_INFO!C19)","v":"KAPOETA EAST"},{"$f":"IF(AND(COUNTRY_INFO!$AA19=\"T3 (ALB/MBD)\",COUNTRY_INFO!$AB19=\"T3 (ALB/MBD)\"), \"T3 (ALB/MBD)\", \" \")","v":" "},null,null,null,null,0,null,null,null,0," "," "," "," "]
[{"$f":"IF(COUNTRY_INFO!A20=0,\" \",COUNTRY_INFO!A20)","v":"South Sudan"},{"$f":"IF(COUNTRY_INFO!B20=0,\" \",COUNTRY_INFO!B20)","v":"Eastern Equatoria"},{"$f":"IF(COUNTRY_INFO!C20=0,\" \",COUNTRY_INFO!C20)","v":"KAPOETA SOUTH"},{"$f":"IF(AND(COUNTRY_INFO!$AA20=\"T3 (ALB/MBD)\",COUNTRY_INFO!$AB20=\"T3 (ALB/MBD)\"), \"T3 (ALB/MBD)\", \" \")","v":" "},null,null,null,null,0,null,null,null,0," "," "," "," "]
[{"$f":"IF(COUNTRY_INFO!A21=0,\" \",COUNTRY_INFO!A21)","v":"South Sudan"},{"$f":"IF(COUNTRY_INFO!B21=0,\" \",COUNTRY_INFO!B21)","v":"Eastern Equatoria"},{"$f":"IF(COUNTRY_INFO!C21=0,\" \",COUNTRY_INFO!C21)","v":"BUDI"},{"$f":"IF(AND(COUNTRY_INFO!$AA21=\"T3 (ALB/MBD)\",COUNTRY_INFO!$AB21=\"T3 (ALB/MBD)\"), \"T3 (ALB/MBD)\", \" \")","v":" "},null,null,null,null,0,null,null,null,0," "," "," "," "]
[{"$f":"IF(COUNTRY_INFO!A22=0,\" \",COUNTRY_INFO!A22)","v":"South Sudan"},{"$f":"IF(COUNTRY_INFO!B22=0,\" \",COUNTRY_INFO!B22)","v":"Eastern Equatoria"},{"$f":"IF(COUNTRY_INFO!C22=0,\" \",COUNTRY_INFO!C22)","v":"IKOTOS"},{"$f":"IF(AND(COUNTRY_INFO!$AA22=\"T3 (ALB/MBD)\",COUNTRY_INFO!$AB22=\"T3 (ALB/MBD)\"), \"T3 (ALB/MBD)\", \" \")","v":" "},null,null,null,null,0,null,null,null,0," "," "," "," "]
[{"$f":"IF(COUNTRY_INFO!A23=0,\" \",COUNTRY_INFO!A23)","v":"South Sudan"},{"$f":"IF(COUNTRY_INFO!B23=0,\" \",COUNTRY_INFO!B23)","v":"Eastern Equatoria"},{"$f":"IF(COUNTRY_INFO!C23=0,\" \",COUNTRY_INFO!C23)","v":"MAGWI"},{"$f":"IF(AND(COUNTRY_INFO!$AA23=\"T3 (ALB/MBD)\",COUNTRY_INFO!$AB23=\"T3 (ALB/MBD)\"), \"T3 (ALB/MBD)\", \" \")","v":" "},null,null,null,null,0,null,null,null,0," "," "," "," "]
[{"$f":"IF(COUNTRY_INFO!A24=0,\" \",COUNTRY_INFO!A24)","v":"South Sudan"},{"$f":"IF(COUNTRY_INFO!B24=0,\" \",COUNTRY_INFO!B24)","v":"Jonglei"},{"$f":"IF(COUNTRY_INFO!C24=0,\" \",COUNTRY_INFO!C24)","v":"FANGAK"},{"$f":"IF(AND(COUNTRY_INFO!$AA24=\"T3 (ALB/MBD)\",COUNTRY_INFO!$AB24=\"T3 (ALB/MBD)\"), \"T3 (ALB/MBD)\", \" \")","v":" "},null,null,null,null,0,null,null,null,0," "," "," "," "]
[{"$f":"IF(COUNTRY_INFO!A25=0,\" \",COUNTRY_INFO!A25)","v":"South Sudan"},{"$f":"IF(COUNTRY_INFO!B25=0,\" \",COUNTRY_INFO!B25)","v":"Jonglei"},{"$f":"IF(COUNTRY_INFO!C25=0,\" \",COUNTRY_INFO!C25)","v":"KHORFLUS"},{"$f":"IF(AND(COUNTRY_INFO!$AA25=\"T3 (ALB/MBD)\",COUNTRY_INFO!$AB25=\"T3 (ALB/MBD)\"), \"T3 (ALB/MBD)\", \" \")","v":" "},null,null,null,null,0,null,null,null,0," "," "," "," "]
[{"$f":"IF(COUNTRY_INFO!A26=0,\" \",COUNTRY_INFO!A26)","v":"South Sudan"},{"$f":"IF(COUNTRY_INFO!B26=0,\" \",COUNTRY_INFO!B26)","v":"Jonglei"},{"$f":"IF(COUNTRY_INFO!C26=0,\" \",COUNTRY_INFO!C26)","v":"AYOD"},{"$f":"IF(AND(COUNTRY_INFO!$AA26=\"T3 (ALB/MBD)\",COUNTRY_INFO!$AB26=\"T3 (ALB/MBD)\"), \"T3 (ALB/MBD)\", \" \")","v":" "},null,null,null,null,0,null,null,null,0," "," "," "," "]
[{"$f":"IF(COUNTRY_INFO!A27=0,\" \",COUNTRY_INFO!A27)","v":"South Sudan"},{"$f":"IF(COUNTRY_INFO!B27=0,\" \",COUNTRY_INFO!B27)","v":"Jonglei"},{"$f":"IF(COUNTRY_INFO!C27=0,\" \",COUNTRY_INFO!C27)","v":"DUK"},{"$f":"IF(AND(COUNTRY_INFO!$AA27=\"T3 (ALB/MBD)\",COUNTRY_INFO!$AB27=\"T3 (ALB/MBD)\"), \"T3 (ALB/MBD)\", \" \")","v":" "},null,null,null,null,0,null,null,null,0," "," "," "," "]
[{"$f":"IF(COUNTRY_INFO!A28=0,\" \",COUNTRY_INFO!A28)","v":"South Sudan"},{"$f":"IF(COUNTRY_INFO!B28=0,\" \",COUNTRY_INFO!B28)","v":"Jonglei"},{"$f":"IF(COUNTRY_INFO!C28=0,\" \",COUNTRY_INFO!C28)","v":"UROR"},{"$f":"IF(AND(COUNTRY_INFO!$AA28=\"T3 (ALB/MBD)\",COUNTRY_INFO!$AB28=\"T3 (ALB/MBD)\"), \"T3 (ALB/MBD)\", \" \")","v":" "},null,null,null,null,0,null,null,null,0," "," "," "," "]
[{"$f":"IF(COUNTRY_INFO!A29=0,\" \",COUNTRY_INFO!A29)","v":"South Sudan"},{"$f":"IF(COUNTRY_INFO!B29=0,\" \",COUNTRY_INFO!B29)","v":"Jonglei"},{"$f":"IF(COUNTRY_INFO!C29=0,\" \",COUNTRY_INFO!C29)","v":"NYIROL"},{"$f":"IF(AND(COUNTRY_INFO!$AA29=\"T3 (ALB/MBD)\",COUNTRY_INFO!$AB29=\"T3 (ALB/MBD)\"), \"T3 (ALB/MBD)\", \" \")","v":" "},null,null,null,null,0,null,null,null,0," "," "," "," "]
[{"$f":"IF(COUNTRY_INFO!A30=0,\" \",COUNTRY_INFO!A30)","v":"South Sudan"},{"$f":"IF(COUNTRY_INFO!B30=0,\" \",COUNTRY_INFO!B30)","v":"Jonglei"},{"$f":"IF(COUNTRY_INFO!C30=0,\" \",COUNTRY_INFO!C30)","v":"AKOBO"},{"$f":"IF(AND(COUNTRY_INFO!$AA30=\"T3 (ALB/MBD)\",COUNTRY_INFO!$AB30=\"T3 (ALB/MBD)\"), \"T3 (ALB/MBD)\", \" \")","v":" "},null,null,null,null,0,null,null,null,0," "," "," "," "]
[{"$f":"IF(COUNTRY_INFO!A31=0,\" \",COUNTRY_INFO!A31)","v":"South Sudan"},{"$f":"IF(COUNTRY_INFO!B31=0,\" \",COUNTRY_INFO!B31)","v":"Jonglei"},{"$f":"IF(COUNTRY_INFO!C31=0,\" \",COUNTRY_INFO!C31)","v":"POCHALA"},{"$f":"IF(AND(COUNTRY_INFO!$AA31=\"T3 (ALB/MBD)\",COUNTRY_INFO!$AB31=\"T3 (ALB/MBD)\"), \"T3 (ALB/MBD)\", \" \")","v":" "},null,null,null,null,0,null,null,null,0," "," "," "," "]
[{"$f":"IF(COUNTRY_INFO!A32=0,\" \",COUNTRY_INFO!A32)","v":"South Sudan"},{"$f":"IF(COUNTRY_INFO!B32=0,\" \",COUNTRY_INFO!B32)","v":"Jonglei"},{"$f":"IF(COUNTRY_INFO!C32=0,\" \",COUNTRY_INFO!C32)","v":"PIBOR"},{"$f":"IF(AND(COUNTRY_INFO!$AA32=\"T3 (ALB/MBD)\",COUNTRY_INFO!$AB32=\"T3 (ALB/MBD)\"), \"T3 (ALB/MBD)\", \" \")","v":" "},null,null,null,null,0,null,null,null,0," "," "," "," "]
[{"$f":"IF(COUNTRY_INFO!A33=0,\" \",COUNTRY_INFO!A33)","v":"South Sudan"},{"$f":"IF(COUNTRY_INFO!B33=0,\" \",COUNTRY_INFO!B33)","v":"Jonglei"},{"$f":"IF(COUNTRY_INFO!C33=0,\" \",COUNTRY_INFO!C33)","v":"TWIC EAST"},{"$f":"IF(AND(COUNTRY_INFO!$AA33=\"T3 (ALB/MBD)\",COUNTRY_INFO!$AB33=\"T3 (ALB/MBD)\"), \"T3 (ALB/MBD)\", \" \")","v":" "},null,null,null,null,0,null,null,null,0," "," "," "," "]
[{"$f":"IF(COUNTRY_INFO!A34=0,\" \",COUNTRY_INFO!A34)","v":"South Sudan"},{"$f":"IF(COUNTRY_INFO!B34=0,\" \",COUNTRY_INFO!B34)","v":"Jonglei"},{"$f":"IF(COUNTRY_INFO!C34=0,\" \",COUNTRY_INFO!C34)","v":"BOR SOUTH"},{"$f":"IF(AND(COUNTRY_INFO!$AA34=\"T3 (ALB/MBD)\",COUNTRY_INFO!$AB34=\"T3 (ALB/MBD)\"), \"T3 (ALB/MBD)\", \" \")","v":" "},null,null,null,null,0,null,null,null,0," "," "," "," "]
[{"$f":"IF(COUNTRY_INFO!A35=0,\" \",COUNTRY_INFO!A35)","v":"South Sudan"},{"$f":"IF(COUNTRY_INFO!B35=0,\" \",COUNTRY_INFO!B35)","v":"Lakes"},{"$f":"IF(COUNTRY_INFO!C35=0,\" \",COUNTRY_INFO!C35)","v":"CUEBIT"},{"$f":"IF(AND(COUNTRY_INFO!$AA35=\"T3 (ALB/MBD)\",COUNTRY_INFO!$AB35=\"T3 (ALB/MBD)\"), \"T3 (ALB/MBD)\", \" \")","v":" "},null,null,null,null,0,null,null,null,0," "," "," "," "]
[{"$f":"IF(COUNTRY_INFO!A36=0,\" \",COUNTRY_INFO!A36)","v":"South Sudan"},{"$f":"IF(COUNTRY_INFO!B36=0,\" \",COUNTRY_INFO!B36)","v":"Lakes"},{"$f":"IF(COUNTRY_INFO!C36=0,\" \",COUNTRY_INFO!C36)","v":"RUMBEK NORTH"},{"$f":"IF(AND(COUNTRY_INFO!$AA36=\"T3 (ALB/MBD)\",COUNTRY_INFO!$AB36=\"T3 (ALB/MBD)\"), \"T3 (ALB/MBD)\", \" \")","v":" "},null,null,null,null,0,null,null,null,0," "," "," "," "]
[{"$f":"IF(COUNTRY_INFO!A37=0,\" \",COUNTRY_INFO!A37)","v":"South Sudan"},{"$f":"IF(COUNTRY_INFO!B37=0,\" \",COUNTRY_INFO!B37)","v":"Lakes"},{"$f":"IF(COUNTRY_INFO!C37=0,\" \",COUNTRY_INFO!C37)","v":"RUMBEK CENTRE"},{"$f":"IF(AND(COUNTRY_INFO!$AA37=\"T3 (ALB/MBD)\",COUNTRY_INFO!$AB37=\"T3 (ALB/MBD)\"), \"T3 (ALB/MBD)\", \" \")","v":" "},null,null,null,null,0,null,null,null,0," "," "," "," "]
[{"$f":"IF(COUNTRY_INFO!A38=0,\" \",COUNTRY_INFO!A38)","v":"South Sudan"},{"$f":"IF(COUNTRY_INFO!B38=0,\" \",COUNTRY_INFO!B38)","v":"Lakes"},{"$f":"IF(COUNTRY_INFO!C38=0,\" \",COUNTRY_INFO!C38)","v":"WULU"},{"$f":"IF(AND(COUNTRY_INFO!$AA38=\"T3 (ALB/MBD)\",COUNTRY_INFO!$AB38=\"T3 (ALB/MBD)\"), \"T3 (ALB/MBD)\", \" \")","v":" "},null,null,null,null,0,null,null,null,0," "," "," "," "]
[{"$f":"IF(COUNTRY_INFO!A39=0,\" \",COUNTRY_INFO!A39)","v":"South Sudan"},{"$f":"IF(COUNTRY_INFO!B39=0,\" \",COUNTRY_INFO!B39)","v":"Lakes"},{"$f":"IF(COUNTRY_INFO!C39=0,\" \",COUNTRY_INFO!C39)","v":"RUMBEK EAST"},{"$f":"IF(AND(COUNTRY_INFO!$AA39=\"T3 (ALB/MBD)\",COUNTRY_INFO!$AB39=\"T3 (ALB/MBD)\"), \"T3 (ALB/MBD)\", \" \")","v":" "},null,null,null,null,0,null,null,null,0," "," "," "," "]
[{"$f":"IF(COUNTRY_INFO!A40=0,\" \",COUNTRY_INFO!A40)","v":"South Sudan"},{"$f":"IF(COUNTRY_INFO!B40=0,\" \",COUNTRY_INFO!B40)","v":"Lakes"},{"$f":"IF(COUNTRY_INFO!C40=0,\" \",COUNTRY_INFO!C40)","v":"YIROL WEST"},{"$f":"IF(AND(COUNTRY_INFO!$AA40=\"T3 (ALB/MBD)\",COUNTRY_INFO!$AB40=\"T3 (ALB/MBD)\"), \"T3 (ALB/MBD)\", \" \")","v":" "},null,null,null,null,0,null,null,null,0," "," "," "," "]
[{"$f":"IF(COUNTRY_INFO!A41=0,\" \",COUNTRY_INFO!A41)","v":"South Sudan"},{"$f":"IF(COUNTRY_INFO!B41=0,\" \",COUNTRY_INFO!B41)","v":"Lakes"},{"$f":"IF(COUNTRY_INFO!C41=0,\" \",COUNTRY_INFO!C41)","v":"YIROL EAST"},{"$f":"IF(AND(COUNTRY_INFO!$AA41=\"T3 (ALB/MBD)\",COUNTRY_INFO!$AB41=\"T3 (ALB/MBD)\"), \"T3 (ALB/MBD)\", \" \")","v":" "},null,null,null,null,0,null,null,null,0," "," "," "," "]
[{"$f":"IF(COUNTRY_INFO!A42=0,\" \",COUNTRY_INFO!A42)","v":"South Sudan"},{"$f":"IF(COUNTRY_INFO!B42=0,\" \",COUNTRY_INFO!B42)","v":"Lakes"},{"$f":"IF(COUNTRY_INFO!C42=0,\" \",COUNTRY_INFO!C42)","v":"AWERIAL"},{"$f":"IF(AND(COUNTRY_INFO!$AA42=\"T3 (ALB/MBD)\",COUNTRY_INFO!$AB42=\"T3 (ALB/MBD)\"), \"T3 (ALB/MBD)\", \" \")","v":" "},null,null,null,null,0,null,null,null,0," "," "," "," "]
[{"$f":"IF(COUNTRY_INFO!A43=0,\" \",COUNTRY_INFO!A43)","v":"South Sudan"},{"$f":"IF(COUNTRY_INFO!B43=0,\" \",COUNTRY_INFO!B43)","v":"Northern Bahr El Ghazal"},{"$f":"IF(COUNTRY_INFO!C43=0,\" \",COUNTRY_INFO!C43)","v":"AWIEL NORTH"},{"$f":"IF(AND(COUNTRY_INFO!$AA43=\"T3 (ALB/MBD)\",COUNTRY_INFO!$AB43=\"T3 (ALB/MBD)\"), \"T3 (ALB/MBD)\", \" \")","v":" "},null,null,null,null,0,null,null,null,0," "," "," "," "]
[{"$f":"IF(COUNTRY_INFO!A44=0,\" \",COUNTRY_INFO!A44)","v":"South Sudan"},{"$f":"IF(COUNTRY_INFO!B44=0,\" \",COUNTRY_INFO!B44)","v":"Northern Bahr El Ghazal"},{"$f":"IF(COUNTRY_INFO!C44=0,\" \",COUNTRY_INFO!C44)","v":"AWIEL EAST"},{"$f":"IF(AND(COUNTRY_INFO!$AA44=\"T3 (ALB/MBD)\",COUNTRY_INFO!$AB44=\"T3 (ALB/MBD)\"), \"T3 (ALB/MBD)\", \" \")","v":" "},null,null,null,null,0,null,null,null,0," "," "," "," "]
[{"$f":"IF(COUNTRY_INFO!A45=0,\" \",COUNTRY_INFO!A45)","v":"South Sudan"},{"$f":"IF(COUNTRY_INFO!B45=0,\" \",COUNTRY_INFO!B45)","v":"Northern Bahr El Ghazal"},{"$f":"IF(COUNTRY_INFO!C45=0,\" \",COUNTRY_INFO!C45)","v":"AWIEL SOUTH"},{"$f":"IF(AND(COUNTRY_INFO!$AA45=\"T3 (ALB/MBD)\",COUNTRY_INFO!$AB45=\"T3 (ALB/MBD)\"), \"T3 (ALB/MBD)\", \" \")","v":" "},null,null,null,null,0,null,null,null,0," "," "," "," "]
[{"$f":"IF(COUNTRY_INFO!A46=0,\" \",COUNTRY_INFO!A46)","v":"South Sudan"},{"$f":"IF(COUNTRY_INFO!B46=0,\" \",COUNTRY_INFO!B46)","v":"Northern Bahr El Ghazal"},{"$f":"IF(COUNTRY_INFO!C46=0,\" \",COUNTRY_INFO!C46)","v":"AWIEL WEST"},{"$f":"IF(AND(COUNTRY_INFO!$AA46=\"T3 (ALB/MBD)\",COUNTRY_INFO!$AB46=\"T3 (ALB/MBD)\"), \"T3 (ALB/MBD)\", \" \")","v":" "},null,null,null,null,0,null,null,null,0," "," "," "," "]
[{"$f":"IF(COUNTRY_INFO!A47=0,\" \",COUNTRY_INFO!A47)","v":"South Sudan"},{"$f":"IF(COUNTRY_INFO!B47=0,\" \",COUNTRY_INFO!B47)","v":"Northern Bahr El Ghazal"},{"$f":"IF(COUNTRY_INFO!C47=0,\" \",COUNTRY_INFO!C47)","v":"AWIEL CENTRE"},{"$f":"IF(AND(COUNTRY_INFO!$AA47=\"T3 (ALB/MBD)\",COUNTRY_INFO!$AB47=\"T3 (ALB/MBD)\"), \"T3 (ALB/MBD)\", \" \")","v":" "},null,null,null,null,0,null,null,null,0," "," "," "," "]
[{"$f":"IF(COUNTRY_INFO!A48=0,\" \",COUNTRY_INFO!A48)","v":"South Sudan"},{"$f":"IF(COUNTRY_INFO!B48=0,\" \",COUNTRY_INFO!B48)","v":"Unity"},{"$f":"IF(COUNTRY_INFO!C48=0,\" \",COUNTRY_INFO!C48)","v":"PARIANG"},{"$f":"IF(AND(COUNTRY_INFO!$AA48=\"T3 (ALB/MBD)\",COUNTRY_INFO!$AB48=\"T3 (ALB/MBD)\"), \"T3 (ALB/MBD)\", \" \")","v":" "},null,null,null,null,0,null,null,null,0," "," "," "," "]
[{"$f":"IF(COUNTRY_INFO!A49=0,\" \",COUNTRY_INFO!A49)","v":"South Sudan"},{"$f":"IF(COUNTRY_INFO!B49=0,\" \",COUNTRY_INFO!B49)","v":"Unity"},{"$f":"IF(COUNTRY_INFO!C49=0,\" \",COUNTRY_INFO!C49)","v":"ABIEMNHOM"},{"$f":"IF(AND(COUNTRY_INFO!$AA49=\"T3 (ALB/MBD)\",COUNTRY_INFO!$AB49=\"T3 (ALB/MBD)\"), \"T3 (ALB/MBD)\", \" \")","v":" "},null,null,null,null,0,null,null,null,0," "," "," "," "]
[{"$f":"IF(COUNTRY_INFO!A50=0,\" \",COUNTRY_INFO!A50)","v":"South Sudan"},{"$f":"IF(COUNTRY_INFO!B50=0,\" \",COUNTRY_INFO!B50)","v":"Unity"},{"$f":"IF(COUNTRY_INFO!C50=0,\" \",COUNTRY_INFO!C50)","v":"MAYOM"},{"$f":"IF(AND(COUNTRY_INFO!$AA50=\"T3 (ALB/MBD)\",COUNTRY_INFO!$AB50=\"T3 (ALB/MBD)\"), \"T3 (ALB/MBD)\", \" \")","v":" "},null,null,null,null,0,null,null,null,0," "," "," "," "]
[{"$f":"IF(COUNTRY_INFO!A51=0,\" \",COUNTRY_INFO!A51)","v":"South Sudan"},{"$f":"IF(COUNTRY_INFO!B51=0,\" \",COUNTRY_INFO!B51)","v":"Unity"},{"$f":"IF(COUNTRY_INFO!C51=0,\" \",COUNTRY_INFO!C51)","v":"RUBKONA"},{"$f":"IF(AND(COUNTRY_INFO!$AA51=\"T3 (ALB/MBD)\",COUNTRY_INFO!$AB51=\"T3 (ALB/MBD)\"), \"T3 (ALB/MBD)\", \" \")","v":" "},null,null,null,null,0,null,null,null,0," "," "," "," "]
[{"$f":"IF(COUNTRY_INFO!A52=0,\" \",COUNTRY_INFO!A52)","v":"South Sudan"},{"$f":"IF(COUNTRY_INFO!B52=0,\" \",COUNTRY_INFO!B52)","v":"Unity"},{"$f":"IF(COUNTRY_INFO!C52=0,\" \",COUNTRY_INFO!C52)","v":"GUIT"},{"$f":"IF(AND(COUNTRY_INFO!$AA52=\"T3 (ALB/MBD)\",COUNTRY_INFO!$AB52=\"T3 (ALB/MBD)\"), \"T3 (ALB/MBD)\", \" \")","v":" "},null,null,null,null,0,null,null,null,0," "," "," "," "]
[{"$f":"IF(COUNTRY_INFO!A53=0,\" \",COUNTRY_INFO!A53)","v":"South Sudan"},{"$f":"IF(COUNTRY_INFO!B53=0,\" \",COUNTRY_INFO!B53)","v":"Unity"},{"$f":"IF(COUNTRY_INFO!C53=0,\" \",COUNTRY_INFO!C53)","v":"KOCH"},{"$f":"IF(AND(COUNTRY_INFO!$AA53=\"T3 (ALB/MBD)\",COUNTRY_INFO!$AB53=\"T3 (ALB/MBD)\"), \"T3 (ALB/MBD)\", \" \")","v":" "},null,null,null,null,0,null,null,null,0," "," "," "," "]
[{"$f":"IF(COUNTRY_INFO!A54=0,\" \",COUNTRY_INFO!A54)","v":"South Sudan"},{"$f":"IF(COUNTRY_INFO!B54=0,\" \",COUNTRY_INFO!B54)","v":"Unity"},{"$f":"IF(COUNTRY_INFO!C54=0,\" \",COUNTRY_INFO!C54)","v":"LEER"},{"$f":"IF(AND(COUNTRY_INFO!$AA54=\"T3 (ALB/MBD)\",COUNTRY_INFO!$AB54=\"T3 (ALB/MBD)\"), \"T3 (ALB/MBD)\", \" \")","v":" "},null,null,null,null,0,null,null,null,0," "," "," "," "]
[{"$f":"IF(COUNTRY_INFO!A55=0,\" \",COUNTRY_INFO!A55)","v":"South Sudan"},{"$f":"IF(COUNTRY_INFO!B55=0,\" \",COUNTRY_INFO!B55)","v":"Unity"},{"$f":"IF(COUNTRY_INFO!C55=0,\" \",COUNTRY_INFO!C55)","v":"MAYENDIT"},{"$f":"IF(AND(COUNTRY_INFO!$AA55=\"T3 (ALB/MBD)\",COUNTRY_INFO!$AB55=\"T3 (ALB/MBD)\"), \"T3 (ALB/MBD)\", \" \")","v":" "},null,null,null,null,0,null,null,null,0," "," "," "," "]
[{"$f":"IF(COUNTRY_INFO!A56=0,\" \",COUNTRY_INFO!A56)","v":"South Sudan"},{"$f":"IF(COUNTRY_INFO!B56=0,\" \",COUNTRY_INFO!B56)","v":"Unity"},{"$f":"IF(COUNTRY_INFO!C56=0,\" \",COUNTRY_INFO!C56)","v":"PAYNIJAR"},{"$f":"IF(AND(COUNTRY_INFO!$AA56=\"T3 (ALB/MBD)\",COUNTRY_INFO!$AB56=\"T3 (ALB/MBD)\"), \"T3 (ALB/MBD)\", \" \")","v":" "},null,null,null,null,0,null,null,null,0," "," "," "," "]
[{"$f":"IF(COUNTRY_INFO!A57=0,\" \",COUNTRY_INFO!A57)","v":"South Sudan"},{"$f":"IF(COUNTRY_INFO!B57=0,\" \",COUNTRY_INFO!B57)","v":"Upper Nile"},{"$f":"IF(COUNTRY_INFO!C57=0,\" \",COUNTRY_INFO!C57)","v":"RENK"},{"$f":"IF(AND(COUNTRY_INFO!$AA57=\"T3 (ALB/MBD)\",COUNTRY_INFO!$AB57=\"T3 (ALB/MBD)\"), \"T3 (ALB/MBD)\", \" \")","v":" "},null,null,null,null,0,null,null,null,0," "," "," "," "]
[{"$f":"IF(COUNTRY_INFO!A58=0,\" \",COUNTRY_INFO!A58)","v":"South Sudan"},{"$f":"IF(COUNTRY_INFO!B58=0,\" \",COUNTRY_INFO!B58)","v":"Upper Nile"},{"$f":"IF(COUNTRY_INFO!C58=0,\" \",COUNTRY_INFO!C58)","v":"MANYO"},{"$f":"IF(AND(COUNTRY_INFO!$AA58=\"T3 (ALB/MBD)\",COUNTRY_INFO!$AB58=\"T3 (ALB/MBD)\"), \"T3 (ALB/MBD)\", \" \")","v":" "},null,null,null,null,0,null,null,null,0," "," "," "," "]
[{"$f":"IF(COUNTRY_INFO!A59=0,\" \",COUNTRY_INFO!A59)","v":"South Sudan"},{"$f":"IF(COUNTRY_INFO!B59=0,\" \",COUNTRY_INFO!B59)","v":"Upper Nile"},{"$f":"IF(COUNTRY_INFO!C59=0,\" \",COUNTRY_INFO!C59)","v":"FASHODA"},{"$f":"IF(AND(COUNTRY_INFO!$AA59=\"T3 (ALB/MBD)\",COUNTRY_INFO!$AB59=\"T3 (ALB/MBD)\"), \"T3 (ALB/MBD)\", \" \")","v":" "},null,null,null,null,0,null,null,null,0," "," "," "," "]
[{"$f":"IF(COUNTRY_INFO!A60=0,\" \",COUNTRY_INFO!A60)","v":"South Sudan"},{"$f":"IF(COUNTRY_INFO!B60=0,\" \",COUNTRY_INFO!B60)","v":"Upper Nile"},{"$f":"IF(COUNTRY_INFO!C60=0,\" \",COUNTRY_INFO!C60)","v":"MELUT"},{"$f":"IF(AND(COUNTRY_INFO!$AA60=\"T3 (ALB/MBD)\",COUNTRY_INFO!$AB60=\"T3 (ALB/MBD)\"), \"T3 (ALB/MBD)\", \" \")","v":" "},null,null,null,null,0,null,null,null,0," "," "," "," "]
[{"$f":"IF(COUNTRY_INFO!A61=0,\" \",COUNTRY_INFO!A61)","v":"South Sudan"},{"$f":"IF(COUNTRY_INFO!B61=0,\" \",COUNTRY_INFO!B61)","v":"Upper Nile"},{"$f":"IF(COUNTRY_INFO!C61=0,\" \",COUNTRY_INFO!C61)","v":"MABAN"},{"$f":"IF(AND(COUNTRY_INFO!$AA61=\"T3 (ALB/MBD)\",COUNTRY_INFO!$AB61=\"T3 (ALB/MBD)\"), \"T3 (ALB/MBD)\", \" \")","v":" "},null,null,null,null,0,null,null,null,0," "," "," "," "]
[{"$f":"IF(COUNTRY_INFO!A62=0,\" \",COUNTRY_INFO!A62)","v":"South Sudan"},{"$f":"IF(COUNTRY_INFO!B62=0,\" \",COUNTRY_INFO!B62)","v":"Upper Nile"},{"$f":"IF(COUNTRY_INFO!C62=0,\" \",COUNTRY_INFO!C62)","v":"MAIWUT"},{"$f":"IF(AND(COUNTRY_INFO!$AA62=\"T3 (ALB/MBD)\",COUNTRY_INFO!$AB62=\"T3 (ALB/MBD)\"), \"T3 (ALB/MBD)\", \" \")","v":" "},null,null,null,null,0,null,null,null,0," "," "," "," "]
[{"$f":"IF(COUNTRY_INFO!A63=0,\" \",COUNTRY_INFO!A63)","v":"South Sudan"},{"$f":"IF(COUNTRY_INFO!B63=0,\" \",COUNTRY_INFO!B63)","v":"Upper Nile"},{"$f":"IF(COUNTRY_INFO!C63=0,\" \",COUNTRY_INFO!C63)","v":"LUAKPINY/NASIR"},{"$f":"IF(AND(COUNTRY_INFO!$AA63=\"T3 (ALB/MBD)\",COUNTRY_INFO!$AB63=\"T3 (ALB/MBD)\"), \"T3 (ALB/MBD)\", \" \")","v":" "},null,null,null,null,0,null,null,null,0," "," "," "," "]
[{"$f":"IF(COUNTRY_INFO!A64=0,\" \",COUNTRY_INFO!A64)","v":"South Sudan"},{"$f":"IF(COUNTRY_INFO!B64=0,\" \",COUNTRY_INFO!B64)","v":"Upper Nile"},{"$f":"IF(COUNTRY_INFO!C64=0,\" \",COUNTRY_INFO!C64)","v":"LONGOCHUK"},{"$f":"IF(AND(COUNTRY_INFO!$AA64=\"T3 (ALB/MBD)\",COUNTRY_INFO!$AB64=\"T3 (ALB/MBD)\"), \"T3 (ALB/MBD)\", \" \")","v":" "},null,null,null,null,0,null,null,null,0," "," "," "," "]
[{"$f":"IF(COUNTRY_INFO!A65=0,\" \",COUNTRY_INFO!A65)","v":"South Sudan"},{"$f":"IF(COUNTRY_INFO!B65=0,\" \",COUNTRY_INFO!B65)","v":"Upper Nile"},{"$f":"IF(COUNTRY_INFO!C65=0,\" \",COUNTRY_INFO!C65)","v":"ULANG"},{"$f":"IF(AND(COUNTRY_INFO!$AA65=\"T3 (ALB/MBD)\",COUNTRY_INFO!$AB65=\"T3 (ALB/MBD)\"), \"T3 (ALB/MBD)\", \" \")","v":" "},null,null,null,null,0,null,null,null,0," "," "," "," "]
[{"$f":"IF(COUNTRY_INFO!A66=0,\" \",COUNTRY_INFO!A66)","v":"South Sudan"},{"$f":"IF(COUNTRY_INFO!B66=0,\" \",COUNTRY_INFO!B66)","v":"Upper Nile"},{"$f":"IF(COUNTRY_INFO!C66=0,\" \",COUNTRY_INFO!C66)","v":"BALIET"},{"$f":"IF(AND(COUNTRY_INFO!$AA66=\"T3 (ALB/MBD)\",COUNTRY_INFO!$AB66=\"T3 (ALB/MBD)\"), \"T3 (ALB/MBD)\", \" \")","v":" "},null,null,null,null,0,null,null,null,0," "," "," "," "]
[{"$f":"IF(COUNTRY_INFO!A67=0,\" \",COUNTRY_INFO!A67)","v":"South Sudan"},{"$f":"IF(COUNTRY_INFO!B67=0,\" \",COUNTRY_INFO!B67)","v":"Upper Nile"},{"$f":"IF(COUNTRY_INFO!C67=0,\" \",COUNTRY_INFO!C67)","v":"MALAKAL"},{"$f":"IF(AND(COUNTRY_INFO!$AA67=\"T3 (ALB/MBD)\",COUNTRY_INFO!$AB67=\"T3 (ALB/MBD)\"), \"T3 (ALB/MBD)\", \" \")","v":" "},null,null,null,null,0,null,null,null,0," "," "," "," "]
[{"$f":"IF(COUNTRY_INFO!A68=0,\" \",COUNTRY_INFO!A68)","v":"South Sudan"},{"$f":"IF(COUNTRY_INFO!B68=0,\" \",COUNTRY_INFO!B68)","v":"Upper Nile"},{"$f":"IF(COUNTRY_INFO!C68=0,\" \",COUNTRY_INFO!C68)","v":"PANYKANG"},{"$f":"IF(AND(COUNTRY_INFO!$AA68=\"T3 (ALB/MBD)\",COUNTRY_INFO!$AB68=\"T3 (ALB/MBD)\"), \"T3 (ALB/MBD)\", \" \")","v":" "},null,null,null,null,0,null,null,null,0," "," "," "," "]
[{"$f":"IF(COUNTRY_INFO!A69=0,\" \",COUNTRY_INFO!A69)","v":"South Sudan"},{"$f":"IF(COUNTRY_INFO!B69=0,\" \",COUNTRY_INFO!B69)","v":"Warrap"},{"$f":"IF(COUNTRY_INFO!C69=0,\" \",COUNTRY_INFO!C69)","v":"ABYEI"},{"$f":"IF(AND(COUNTRY_INFO!$AA69=\"T3 (ALB/MBD)\",COUNTRY_INFO!$AB69=\"T3 (ALB/MBD)\"), \"T3 (ALB/MBD)\", \" \")","v":" "},null,null,null,null,0,null,null,null,0," "," "," "," "]
[{"$f":"IF(COUNTRY_INFO!A70=0,\" \",COUNTRY_INFO!A70)","v":"South Sudan"},{"$f":"IF(COUNTRY_INFO!B70=0,\" \",COUNTRY_INFO!B70)","v":"Warrap"},{"$f":"IF(COUNTRY_INFO!C70=0,\" \",COUNTRY_INFO!C70)","v":"TWIC"},{"$f":"IF(AND(COUNTRY_INFO!$AA70=\"T3 (ALB/MBD)\",COUNTRY_INFO!$AB70=\"T3 (ALB/MBD)\"), \"T3 (ALB/MBD)\", \" \")","v":" "},null,null,null,null,0,null,null,null,0," "," "," "," "]
[{"$f":"IF(COUNTRY_INFO!A71=0,\" \",COUNTRY_INFO!A71)","v":"South Sudan"},{"$f":"IF(COUNTRY_INFO!B71=0,\" \",COUNTRY_INFO!B71)","v":"Warrap"},{"$f":"IF(COUNTRY_INFO!C71=0,\" \",COUNTRY_INFO!C71)","v":"GOGRIAL WEST"},{"$f":"IF(AND(COUNTRY_INFO!$AA71=\"T3 (ALB/MBD)\",COUNTRY_INFO!$AB71=\"T3 (ALB/MBD)\"), \"T3 (ALB/MBD)\", \" \")","v":" "},null,null,null,null,0,null,null,null,0," "," "," "," "]
[{"$f":"IF(COUNTRY_INFO!A72=0,\" \",COUNTRY_INFO!A72)","v":"South Sudan"},{"$f":"IF(COUNTRY_INFO!B72=0,\" \",COUNTRY_INFO!B72)","v":"Warrap"},{"$f":"IF(COUNTRY_INFO!C72=0,\" \",COUNTRY_INFO!C72)","v":"GOGRIAL EAST"},{"$f":"IF(AND(COUNTRY_INFO!$AA72=\"T3 (ALB/MBD)\",COUNTRY_INFO!$AB72=\"T3 (ALB/MBD)\"), \"T3 (ALB/MBD)\", \" \")","v":" "},null,null,null,null,0,null,null,null,0," "," "," "," "]
[{"$f":"IF(COUNTRY_INFO!A73=0,\" \",COUNTRY_INFO!A73)","v":"South Sudan"},{"$f":"IF(COUNTRY_INFO!B73=0,\" \",COUNTRY_INFO!B73)","v":"Warrap"},{"$f":"IF(COUNTRY_INFO!C73=0,\" \",COUNTRY_INFO!C73)","v":"TONJ NORTH"},{"$f":"IF(AND(COUNTRY_INFO!$AA73=\"T3 (ALB/MBD)\",COUNTRY_INFO!$AB73=\"T3 (ALB/MBD)\"), \"T3 (ALB/MBD)\", \" \")","v":" "},null,null,null,null,0,null,null,null,0," "," "," "," "]
[{"$f":"IF(COUNTRY_INFO!A74=0,\" \",COUNTRY_INFO!A74)","v":"South Sudan"},{"$f":"IF(COUNTRY_INFO!B74=0,\" \",COUNTRY_INFO!B74)","v":"Warrap"},{"$f":"IF(COUNTRY_INFO!C74=0,\" \",COUNTRY_INFO!C74)","v":"TONJ EAST"},{"$f":"IF(AND(COUNTRY_INFO!$AA74=\"T3 (ALB/MBD)\",COUNTRY_INFO!$AB74=\"T3 (ALB/MBD)\"), \"T3 (ALB/MBD)\", \" \")","v":" "},null,null,null,null,0,null,null,null,0," "," "," "," "]
[{"$f":"IF(COUNTRY_INFO!A75=0,\" \",COUNTRY_INFO!A75)","v":"South Sudan"},{"$f":"IF(COUNTRY_INFO!B75=0,\" \",COUNTRY_INFO!B75)","v":"Warrap"},{"$f":"IF(COUNTRY_INFO!C75=0,\" \",COUNTRY_INFO!C75)","v":"TONJ SOUTH"},{"$f":"IF(AND(COUNTRY_INFO!$AA75=\"T3 (ALB/MBD)\",COUNTRY_INFO!$AB75=\"T3 (ALB/MBD)\"), \"T3 (ALB/MBD)\", \" \")","v":" "},null,null,null,null,{"$f":"SUM(F75:H75)","v":0},null,null,null,{"$f":"SUM(J75:L75)","v":0},{"$f":"IF(F75<>0, IF(J75/F75*100=0, \"-\", J75/F75*100), \" \")","v":" "},{"$f":"IF(G75<>0, IF(K75/G75*100=0, \"-\", K75/G75*100), \" \")","v":" "},{"$f":"IF(H75<>0, IF(L75/H75*100=0, \"-\", L75/H75*100), \" \")","v":" "},{"$f":"IF(I75<>0, IF(M75/I75*100=0, \"-\", M75/I75*100), \" \")","v":" "}]
[{"$f":"IF(COUNTRY_INFO!A76=0,\" \",COUNTRY_INFO!A76)","v":"South Sudan"},{"$f":"IF(COUNTRY_INFO!B76=0,\" \",COUNTRY_INFO!B76)","v":"Wesstern Equatoria"},{"$f":"IF(COUNTRY_INFO!C76=0,\" \",COUNTRY_INFO!C76)","v":"TAMBURA"},{"$f":"IF(AND(COUNTRY_INFO!$AA76=\"T3 (ALB/MBD)\",COUNTRY_INFO!$AB76=\"T3 (ALB/MBD)\"), \"T3 (ALB/MBD)\", \" \")","v":" "},null,null,null,null,0,null,null,null,0," "," "," "," "]
[{"$f":"IF(COUNTRY_INFO!A77=0,\" \",COUNTRY_INFO!A77)","v":"South Sudan"},{"$f":"IF(COUNTRY_INFO!B77=0,\" \",COUNTRY_INFO!B77)","v":"Wesstern Equatoria"},{"$f":"IF(COUNTRY_INFO!C77=0,\" \",COUNTRY_INFO!C77)","v":"NAGERO"},{"$f":"IF(AND(COUNTRY_INFO!$AA77=\"T3 (ALB/MBD)\",COUNTRY_INFO!$AB77=\"T3 (ALB/MBD)\"), \"T3 (ALB/MBD)\", \" \")","v":" "},null,null,null,null,0,null,null,null,0," "," "," "," "]
[{"$f":"IF(COUNTRY_INFO!A78=0,\" \",COUNTRY_INFO!A78)","v":"South Sudan"},{"$f":"IF(COUNTRY_INFO!B78=0,\" \",COUNTRY_INFO!B78)","v":"Wesstern Equatoria"},{"$f":"IF(COUNTRY_INFO!C78=0,\" \",COUNTRY_INFO!C78)","v":"NZARA"},{"$f":"IF(AND(COUNTRY_INFO!$AA78=\"T3 (ALB/MBD)\",COUNTRY_INFO!$AB78=\"T3 (ALB/MBD)\"), \"T3 (ALB/MBD)\", \" \")","v":" "},null,null,null,null,0,null,null,null,0," "," "," "," "]
[{"$f":"IF(COUNTRY_INFO!A79=0,\" \",COUNTRY_INFO!A79)","v":"South Sudan"},{"$f":"IF(COUNTRY_INFO!B79=0,\" \",COUNTRY_INFO!B79)","v":"Wesstern Equatoria"},{"$f":"IF(COUNTRY_INFO!C79=0,\" \",COUNTRY_INFO!C79)","v":"EZO"},{"$f":"IF(AND(COUNTRY_INFO!$AA79=\"T3 (ALB/MBD)\",COUNTRY_INFO!$AB79=\"T3 (ALB/MBD)\"), \"T3 (ALB/MBD)\", \" \")","v":" "},null,null,null,null,0,null,null,null,0," "," "," "," "]
[{"$f":"IF(COUNTRY_INFO!A80=0,\" \",COUNTRY_INFO!A80)","v":"South Sudan"},{"$f":"IF(COUNTRY_INFO!B80=0,\" \",COUNTRY_INFO!B80)","v":"Wesstern Equatoria"},{"$f":"IF(COUNTRY_INFO!C80=0,\" \",COUNTRY_INFO!C80)","v":"YAMBIO"},{"$f":"IF(AND(COUNTRY_INFO!$AA80=\"T3 (ALB/MBD)\",COUNTRY_INFO!$AB80=\"T3 (ALB/MBD)\"), \"T3 (ALB/MBD)\", \" \")","v":" "},null,null,null,null,0,null,null,null,0," "," "," "," "]
[{"$f":"IF(COUNTRY_INFO!A81=0,\" \",COUNTRY_INFO!A81)","v":"South Sudan"},{"$f":"IF(COUNTRY_INFO!B81=0,\" \",COUNTRY_INFO!B81)","v":"Wesstern Equatoria"},{"$f":"IF(COUNTRY_INFO!C81=0,\" \",COUNTRY_INFO!C81)","v":"IBBA"},{"$f":"IF(AND(COUNTRY_INFO!$AA81=\"T3 (ALB/MBD)\",COUNTRY_INFO!$AB81=\"T3 (ALB/MBD)\"), \"T3 (ALB/MBD)\", \" \")","v":" "},null,null,null,null,0,null,null,null,0," "," "," "," "]
[{"$f":"IF(COUNTRY_INFO!A82=0,\" \",COUNTRY_INFO!A82)","v":"South Sudan"},{"$f":"IF(COUNTRY_INFO!B82=0,\" \",COUNTRY_INFO!B82)","v":"Wesstern Equatoria"},{"$f":"IF(COUNTRY_INFO!C82=0,\" \",COUNTRY_INFO!C82)","v":"MARIDI"},{"$f":"IF(AND(COUNTRY_INFO!$AA82=\"T3 (ALB/MBD)\",COUNTRY_INFO!$AB82=\"T3 (ALB/MBD)\"), \"T3 (ALB/MBD)\", \" \")","v":" "},null,null,null,null,0,null,null,null,0," "," "," "," "]
[{"$f":"IF(COUNTRY_INFO!A83=0,\" \",COUNTRY_INFO!A83)","v":"South Sudan"},{"$f":"IF(COUNTRY_INFO!B83=0,\" \",COUNTRY_INFO!B83)","v":"Wesstern Equatoria"},{"$f":"IF(COUNTRY_INFO!C83=0,\" \",COUNTRY_INFO!C83)","v":"MVOLO"},{"$f":"IF(AND(COUNTRY_INFO!$AA83=\"T3 (ALB/MBD)\",COUNTRY_INFO!$AB83=\"T3 (ALB/MBD)\"), \"T3 (ALB/MBD)\", \" \")","v":" "},null,null,null,null,0,null,null,null,0," "," "," "," "]
[{"$f":"IF(COUNTRY_INFO!A84=0,\" \",COUNTRY_INFO!A84)","v":"South Sudan"},{"$f":"IF(COUNTRY_INFO!B84=0,\" \",COUNTRY_INFO!B84)","v":"Wesstern Equatoria"},{"$f":"IF(COUNTRY_INFO!C84=0,\" \",COUNTRY_INFO!C84)","v":"MUNDRI WEST"},{"$f":"IF(AND(COUNTRY_INFO!$AA84=\"T3 (ALB/MBD)\",COUNTRY_INFO!$AB84=\"T3 (ALB/MBD)\"), \"T3 (ALB/MBD)\", \" \")","v":" "},null,null,null,null,0,null,null,null,0," "," "," "," "]
[{"$f":"IF(COUNTRY_INFO!A85=0,\" \",COUNTRY_INFO!A85)","v":"South Sudan"},{"$f":"IF(COUNTRY_INFO!B85=0,\" \",COUNTRY_INFO!B85)","v":"Wesstern Equatoria"},{"$f":"IF(COUNTRY_INFO!C85=0,\" \",COUNTRY_INFO!C85)","v":"MUNDRI EAST"},{"$f":"IF(AND(COUNTRY_INFO!$AA85=\"T3 (ALB/MBD)\",COUNTRY_INFO!$AB85=\"T3 (ALB/MBD)\"), \"T3 (ALB/MBD)\", \" \")","v":" "},null,null,null,null,0,null,null,null,0," "," "," "," "]
[{"$f":"IF(COUNTRY_INFO!A86=0,\" \",COUNTRY_INFO!A86)","v":"South Sudan"},{"$f":"IF(COUNTRY_INFO!B86=0,\" \",COUNTRY_INFO!B86)","v":"Western Bahr El Ghazal"},{"$f":"IF(COUNTRY_INFO!C86=0,\" \",COUNTRY_INFO!C86)","v":"RAGA"},{"$f":"IF(AND(COUNTRY_INFO!$AA86=\"T3 (ALB/MBD)\",COUNTRY_INFO!$AB86=\"T3 (ALB/MBD)\"), \"T3 (ALB/MBD)\", \" \")","v":" "},null,null,null,null,0,null,null,null,0," "," "," "," "]
[{"$f":"IF(COUNTRY_INFO!A87=0,\" \",COUNTRY_INFO!A87)","v":"South Sudan"},{"$f":"IF(COUNTRY_INFO!B87=0,\" \",COUNTRY_INFO!B87)","v":"Western Bahr El Ghazal"},{"$f":"IF(COUNTRY_INFO!C87=0,\" \",COUNTRY_INFO!C87)","v":"JUR RIVER"},{"$f":"IF(AND(COUNTRY_INFO!$AA87=\"T3 (ALB/MBD)\",COUNTRY_INFO!$AB87=\"T3 (ALB/MBD)\"), \"T3 (ALB/MBD)\", \" \")","v":" "},null,null,null,null,0,null,null,null,0," "," "," "," "]
[{"$f":"IF(COUNTRY_INFO!A88=0,\" \",COUNTRY_INFO!A88)","v":"South Sudan"},{"$f":"IF(COUNTRY_INFO!B88=0,\" \",COUNTRY_INFO!B88)","v":"Western Bahr El Ghazal"},{"$f":"IF(COUNTRY_INFO!C88=0,\" \",COUNTRY_INFO!C88)","v":"WAU"},{"$f":"IF(AND(COUNTRY_INFO!$AA88=\"T3 (ALB/MBD)\",COUNTRY_INFO!$AB88=\"T3 (ALB/MBD)\"), \"T3 (ALB/MBD)\", \" \")","v":" "},null,null,null,null,0,null,null,null,0," "," "," "," "]
[{"$f":"IF(COUNTRY_INFO!A89=0,\" \",COUNTRY_INFO!A89)","v":"South Sudan"},{"$f":"IF(COUNTRY_INFO!B89=0,\" \",COUNTRY_INFO!B89)","v":"Upper Nile"},{"$f":"IF(COUNTRY_INFO!C89=0,\" \",COUNTRY_INFO!C89)","v":"MABAN Refugee"},{"$f":"IF(AND(COUNTRY_INFO!$AA89=\"T3 (ALB/MBD)\",COUNTRY_INFO!$AB89=\"T3 (ALB/MBD)\"), \"T3 (ALB/MBD)\", \" \")","v":" "},null,null,null,null,0,null,null,null,0," "," "," "," "]

{"sheet":"T3_R3","index":9,"n_rows":89,"n_cols":17,"rows_kept":89,"cut":false,"hidden":false,"merged":[[5,13,5,16],[0,5,0,7],[1,9,1,10],[1,11,1,12],[3,0,3,2],[5,0,5,2],[5,3,6,3],[5,4,6,4],[5,5,5,8],[5,9,5,12]]}
["T 3 - Albendazole (ALB) or Mebendazole (MBD) - Round 3",null,null,null,null,"Select medicine used for treatment \nof STH for each age group"]
["Administrative structure, population requiring PC by age group, population treated by age group and coverage",null,null,null,null,null,null,null,null,"Select the category of Adults"]
[]
["TOTAL",null,null,null,null,{"$f":"SUBTOTAL(9,F$10:F$1010)","v":0},0,0,0,0,0,0,0,{"$f":"IF(F4<>0, IF(J4/F4*100=0, \"-\", J4/F4*100), \" \")","v":" "},{"$f":"IF(G4<>0, IF(K4/G4*100=0, \"-\", K4/G4*100), \" \")","v":" "},{"$f":"IF(H4<>0, IF(L4/H4*100=0, \"-\", L4/H4*100), \" \")","v":" "},{"$f":"IF(I4<>0, IF(M4/I4*100=0, \"-\", M4/I4*100), \" \")","v":" "}]
[]
["Country administrative structure",null,null,"PC implemented","Date","Population targeted for T3",null,null,null,"Population treated",null,null,null,"Programme coverage (%)"]
["Country","Province/State","District",null,null,"PreSAC","SAC","Adults","Total","PreSAC","SAC","Adults","Total","PreSAC","SAC","Adults","Total"]
[]
[]
[{"$f":"IF(COUNTRY_INFO!A10=0,\" \",COUNTRY_INFO!A10)","v":"South Sudan"},{"$f":"IF(COUNTRY_INFO!B10=0,\" \",COUNTRY_INFO!B10)","v":"Central Equatoria"},{"$f":"IF(COUNTRY_INFO!C10=0,\" \",COUNTRY_INFO!C10)","v":"TEREKEKA"},{"$f":"IF(COUNTRY_INFO!$AC10=\"T3 (ALB/MBD)\", \"T3 (ALB/MBD)\", \" \")","v":" "},null,null,null,null,{"$f":"SUM(F10:H10)","v":0},null,null,null,{"$f":"SUM(J10:L10)","v":0},{"$f":"IF(F10<>0, IF(J10/F10*100=0, \"-\", J10/F10*100), \" \")","v":" "}," "," "," "]
[{"$f":"IF(COUNTRY_INFO!A11=0,\" \",COUNTRY_INFO!A11)","v":"South Sudan"},{"$f":"IF(COUNTRY_INFO!B11=0,\" \",COUNTRY_INFO!B11)","v":"Central Equatoria"},{"$f":"IF(COUNTRY_INFO!C11=0,\" \",COUNTRY_INFO!C11)","v":"JUBA"},{"$f":"IF(COUNTRY_INFO!$AC11=\"T3 (ALB/MBD)\", \"T3 (ALB/MBD)\", \" \")","v":" "},null,null,null,null,{"$f":"SUM(F11:H11)","v":0},null,null,null,{"$f":"SUM(J11:L11)","v":0},{"$f":"IF(F11<>0, IF(J11/F11*100=0, \"-\", J11/F11*100), \" \")","v":" "},{"$f":"IF(G11<>0, IF(K11/G11*100=0, \"-\", K11/G11*100), \" \")","v":" "},{"$f":"IF(H11<>0, IF(L11/H11*100=0, \"-\", L11/H11*100), \" \")","v":" "},{"$f":"IF(I11<>0, IF(M11/I11*100=0, \"-\", M11/I11*100), \" \")","v":" "}]
[{"$f":"IF(COUNTRY_INFO!A12=0,\" \",COUNTRY_INFO!A12)","v":"South Sudan"},{"$f":"IF(COUNTRY_INFO!B12=0,\" \",COUNTRY_INFO!B12)","v":"Central Equatoria"},{"$f":"IF(COUNTRY_INFO!C12=0,\" \",COUNTRY_INFO!C12)","v":"LAINYA"},{"$f":"IF(COUNTRY_INFO!$AC12=\"T3 (ALB/MBD)\", \"T3 (ALB/MBD)\", \" \")","v":" "},null,null,null,null,0,null,null,null,0," "," "," "," "]
[{"$f":"IF(COUNTRY_INFO!A13=0,\" \",COUNTRY_INFO!A13)","v":"South Sudan"},{"$f":"IF(COUNTRY_INFO!B13=0,\" \",COUNTRY_INFO!B13)","v":"Central Equatoria"},{"$f":"IF(COUNTRY_INFO!C13=0,\" \",COUNTRY_INFO!C13)","v":"YEI"},{"$f":"IF(COUNTRY_INFO!$AC13=\"T3 (ALB/MBD)\", \"T3 (ALB/MBD)\", \" \")","v":" "},null,null,null,null,0,null,null,null,0," "," "," "," "]
[{"$f":"IF(COUNTRY_INFO!A14=0,\" \",COUNTRY_INFO!A14)","v":"South Sudan"},{"$f":"IF(COUNTRY_INFO!B14=0,\" \",COUNTRY_INFO!B14)","v":"Central Equatoria"},{"$f":"IF(COUNTRY_INFO!C14=0,\" \",COUNTRY_INFO!C14)","v":"MOROBO"},{"$f":"IF(COUNTRY_INFO!$AC14=\"T3 (ALB/MBD)\", \"T3 (ALB/MBD)\", \" \")","v":" "},null,null,null,null,0,null,null,null,0," "," "," "," "]
[{"$f":"IF(COUNTRY_INFO!A15=0,\" \",COUNTRY_INFO!A15)","v":"South Sudan"},{"$f":"IF(COUNTRY_INFO!B15=0,\" \",COUNTRY_INFO!B15)","v":"Central Equatoria"},{"$f":"IF(COUNTRY_INFO!C15=0,\" \",COUNTRY_INFO!C15)","v":"KAJO KEJI"},{"$f":"IF(COUNTRY_INFO!$AC15=\"T3 (ALB/MBD)\", \"T3 (ALB/MBD)\", \" \")","v":" "},null,null,null,null,0,null,null,null,0," "," "," "," "]
[{"$f":"IF(COUNTRY_INFO!A16=0,\" \",COUNTRY_INFO!A16)","v":"South Sudan"},{"$f":"IF(COUNTRY_INFO!B16=0,\" \",COUNTRY_INFO!B16)","v":"Eastern Equatoria"},{"$f":"IF(COUNTRY_INFO!C16=0,\" \",COUNTRY_INFO!C16)","v":"TORIT"},{"$f":"IF(COUNTRY_INFO!$AC16=\"T3 (ALB/MBD)\", \"T3 (ALB/MBD)\", \" \")","v":" "},null,null,null,null,0,null,null,null,0," "," "," "," "]
[{"$f":"IF(COUNTRY_INFO!A17=0,\" \",COUNTRY_INFO!A17)","v":"South Sudan"},{"$f":"IF(COUNTRY_INFO!B17=0,\" \",COUNTRY_INFO!B17)","v":"Eastern Equatoria"},{"$f":"IF(COUNTRY_INFO!C17=0,\" \",COUNTRY_INFO!C17)","v":"LOPA/LAFON"},{"$f":"IF(COUNTRY_INFO!$AC17=\"T3 (ALB/MBD)\", \"T3 (ALB/MBD)\", \" \")","v":" "},null,null,null,null,0,null,null,null,0," "," "," "," "]
[{"$f":"IF(COUNTRY_INFO!A18=0,\" \",COUNTRY_INFO!A18)","v":"South Sudan"},{"$f":"IF(COUNTRY_INFO!B18=0,\" \",COUNTRY_INFO!B18)","v":"Eastern Equatoria"},{"$f":"IF(COUNTRY_INFO!C18=0,\" \",COUNTRY_INFO!C18)","v":"KAPOETA NORTH"},{"$f":"IF(COUNTRY_INFO!$AC18=\"T3 (ALB/MBD)\", \"T3 (ALB/MBD)\", \" \")","v":" "},null,null,null,null,0,null,null,null,0," "," "," "," "]
[{"$f":"IF(COUNTRY_INFO!A19=0,\" \",COUNTRY_INFO!A19)","v":"South Sudan"},{"$f":"IF(COUNTRY_INFO!B19=0,\" \",COUNTRY_INFO!B19)","v":"Eastern Equatoria"},{"$f":"IF(COUNTRY_INFO!C19=0,\" \",COUNTRY_INFO!C19)","v":"KAPOETA EAST"},{"$f":"IF(COUNTRY_INFO!$AC19=\"T3 (ALB/MBD)\", \"T3 (ALB/MBD)\", \" \")","v":" "},null,null,null,null,0,null,null,null,0," "," "," "," "]
[{"$f":"IF(COUNTRY_INFO!A20=0,\" \",COUNTRY_INFO!A20)","v":"South Sudan"},{"$f":"IF(COUNTRY_INFO!B20=0,\" \",COUNTRY_INFO!B20)","v":"Eastern Equatoria"},{"$f":"IF(COUNTRY_INFO!C20=0,\" \",COUNTRY_INFO!C20)","v":"KAPOETA SOUTH"},{"$f":"IF(COUNTRY_INFO!$AC20=\"T3 (ALB/MBD)\", \"T3 (ALB/MBD)\", \" \")","v":" "},null,null,null,null,0,null,null,null,0," "," "," "," "]
[{"$f":"IF(COUNTRY_INFO!A21=0,\" \",COUNTRY_INFO!A21)","v":"South Sudan"},{"$f":"IF(COUNTRY_INFO!B21=0,\" \",COUNTRY_INFO!B21)","v":"Eastern Equatoria"},{"$f":"IF(COUNTRY_INFO!C21=0,\" \",COUNTRY_INFO!C21)","v":"BUDI"},{"$f":"IF(COUNTRY_INFO!$AC21=\"T3 (ALB/MBD)\", \"T3 (ALB/MBD)\", \" \")","v":" "},null,null,null,null,0,null,null,null,0," "," "," "," "]
[{"$f":"IF(COUNTRY_INFO!A22=0,\" \",COUNTRY_INFO!A22)","v":"South Sudan"},{"$f":"IF(COUNTRY_INFO!B22=0,\" \",COUNTRY_INFO!B22)","v":"Eastern Equatoria"},{"$f":"IF(COUNTRY_INFO!C22=0,\" \",COUNTRY_INFO!C22)","v":"IKOTOS"},{"$f":"IF(COUNTRY_INFO!$AC22=\"T3 (ALB/MBD)\", \"T3 (ALB/MBD)\", \" \")","v":" "},null,null,null,null,0,null,null,null,0," "," "," "," "]
[{"$f":"IF(COUNTRY_INFO!A23=0,\" \",COUNTRY_INFO!A23)","v":"South Sudan"},{"$f":"IF(COUNTRY_INFO!B23=0,\" \",COUNTRY_INFO!B23)","v":"Eastern Equatoria"},{"$f":"IF(COUNTRY_INFO!C23=0,\" \",COUNTRY_INFO!C23)","v":"MAGWI"},{"$f":"IF(COUNTRY_INFO!$AC23=\"T3 (ALB/MBD)\", \"T3 (ALB/MBD)\", \" \")","v":" "},null,null,null,null,0,null,null,null,0," "," "," "," "]
[{"$f":"IF(COUNTRY_INFO!A24=0,\" \",COUNTRY_INFO!A24)","v":"South Sudan"},{"$f":"IF(COUNTRY_INFO!B24=0,\" \",COUNTRY_INFO!B24)","v":"Jonglei"},{"$f":"IF(COUNTRY_INFO!C24=0,\" \",COUNTRY_INFO!C24)","v":"FANGAK"},{"$f":"IF(COUNTRY_INFO!$AC24=\"T3 (ALB/MBD)\", \"T3 (ALB/MBD)\", \" \")","v":" "},null,null,null,null,0,null,null,null,0," "," "," "," "]
[{"$f":"IF(COUNTRY_INFO!A25=0,\" \",COUNTRY_INFO!A25)","v":"South Sudan"},{"$f":"IF(COUNTRY_INFO!B25=0,\" \",COUNTRY_INFO!B25)","v":"Jonglei"},{"$f":"IF(COUNTRY_INFO!C25=0,\" \",COUNTRY_INFO!C25)","v":"KHORFLUS"},{"$f":"IF(COUNTRY_INFO!$AC25=\"T3 (ALB/MBD)\", \"T3 (ALB/MBD)\", \" \")","v":" "},null,null,null,null,0,null,null,null,0," "," "," "," "]
[{"$f":"IF(COUNTRY_INFO!A26=0,\" \",COUNTRY_INFO!A26)","v":"South Sudan"},{"$f":"IF(COUNTRY_INFO!B26=0,\" \",COUNTRY_INFO!B26)","v":"Jonglei"},{"$f":"IF(COUNTRY_INFO!C26=0,\" \",COUNTRY_INFO!C26)","v":"AYOD"},{"$f":"IF(COUNTRY_INFO!$AC26=\"T3 (ALB/MBD)\", \"T3 (ALB/MBD)\", \" \")","v":" "},null,null,null,null,0,null,null,null,0," "," "," "," "]
[{"$f":"IF(COUNTRY_INFO!A27=0,\" \",COUNTRY_INFO!A27)","v":"South Sudan"},{"$f":"IF(COUNTRY_INFO!B27=0,\" \",COUNTRY_INFO!B27)","v":"Jonglei"},{"$f":"IF(COUNTRY_INFO!C27=0,\" \",COUNTRY_INFO!C27)","v":"DUK"},{"$f":"IF(COUNTRY_INFO!$AC27=\"T3 (ALB/MBD)\", \"T3 (ALB/MBD)\", \" \")","v":" "},null,null,null,null,0,null,null,null,0," "," "," "," "]
[{"$f":"IF(COUNTRY_INFO!A28=0,\" \",COUNTRY_INFO!A28)","v":"South Sudan"},{"$f":"IF(COUNTRY_INFO!B28=0,\" \",COUNTRY_INFO!B28)","v":"Jonglei"},{"$f":"IF(COUNTRY_INFO!C28=0,\" \",COUNTRY_INFO!C28)","v":"UROR"},{"$f":"IF(COUNTRY_INFO!$AC28=\"T3 (ALB/MBD)\", \"T3 (ALB/MBD)\", \" \")","v":" "},null,null,null,null,0,null,null,null,0," "," "," "," "]
[{"$f":"IF(COUNTRY_INFO!A29=0,\" \",COUNTRY_INFO!A29)","v":"South Sudan"},{"$f":"IF(COUNTRY_INFO!B29=0,\" \",COUNTRY_INFO!B29)","v":"Jonglei"},{"$f":"IF(COUNTRY_INFO!C29=0,\" \",COUNTRY_INFO!C29)","v":"NYIROL"},{"$f":"IF(COUNTRY_INFO!$AC29=\"T3 (ALB/MBD)\", \"T3 (ALB/MBD)\", \" \")","v":" "},null,null,null,null,0,null,null,null,0," "," "," "," "]
[{"$f":"IF(COUNTRY_INFO!A30=0,\" \",COUNTRY_INFO!A30)","v":"South Sudan"},{"$f":"IF(COUNTRY_INFO!B30=0,\" \",COUNTRY_INFO!B30)","v":"Jonglei"},{"$f":"IF(COUNTRY_INFO!C30=0,\" \",COUNTRY_INFO!C30)","v":"AKOBO"},{"$f":"IF(COUNTRY_INFO!$AC30=\"T3 (ALB/MBD)\", \"T3 (ALB/MBD)\", \" \")","v":" "},null,null,null,null,0,null,null,null,0," "," "," "," "]
[{"$f":"IF(COUNTRY_INFO!A31=0,\" \",COUNTRY_INFO!A31)","v":"South Sudan"},{"$f":"IF(COUNTRY_INFO!B31=0,\" \",COUNTRY_INFO!B31)","v":"Jonglei"},{"$f":"IF(COUNTRY_INFO!C31=0,\" \",COUNTRY_INFO!C31)","v":"POCHALA"},{"$f":"IF(COUNTRY_INFO!$AC31=\"T3 (ALB/MBD)\", \"T3 (ALB/MBD)\", \" \")","v":" "},null,null,null,null,0,null,null,null,0," "," "," "," "]
[{"$f":"IF(COUNTRY_INFO!A32=0,\" \",COUNTRY_INFO!A32)","v":"South Sudan"},{"$f":"IF(COUNTRY_INFO!B32=0,\" \",COUNTRY_INFO!B32)","v":"Jonglei"},{"$f":"IF(COUNTRY_INFO!C32=0,\" \",COUNTRY_INFO!C32)","v":"PIBOR"},{"$f":"IF(COUNTRY_INFO!$AC32=\"T3 (ALB/MBD)\", \"T3 (ALB/MBD)\", \" \")","v":" "},null,null,null,null,0,null,null,null,0," "," "," "," "]
[{"$f":"IF(COUNTRY_INFO!A33=0,\" \",COUNTRY_INFO!A33)","v":"South Sudan"},{"$f":"IF(COUNTRY_INFO!B33=0,\" \",COUNTRY_INFO!B33)","v":"Jonglei"},{"$f":"IF(COUNTRY_INFO!C33=0,\" \",COUNTRY_INFO!C33)","v":"TWIC EAST"},{"$f":"IF(COUNTRY_INFO!$AC33=\"T3 (ALB/MBD)\", \"T3 (ALB/MBD)\", \" \")","v":" "},null,null,null,null,0,null,null,null,0," "," "," "," "]
[{"$f":"IF(COUNTRY_INFO!A34=0,\" \",COUNTRY_INFO!A34)","v":"South Sudan"},{"$f":"IF(COUNTRY_INFO!B34=0,\" \",COUNTRY_INFO!B34)","v":"Jonglei"},{"$f":"IF(COUNTRY_INFO!C34=0,\" \",COUNTRY_INFO!C34)","v":"BOR SOUTH"},{"$f":"IF(COUNTRY_INFO!$AC34=\"T3 (ALB/MBD)\", \"T3 (ALB/MBD)\", \" \")","v":" "},null,null,null,null,0,null,null,null,0," "," "," "," "]
[{"$f":"IF(COUNTRY_INFO!A35=0,\" \",COUNTRY_INFO!A35)","v":"South Sudan"},{"$f":"IF(COUNTRY_INFO!B35=0,\" \",COUNTRY_INFO!B35)","v":"Lakes"},{"$f":"IF(COUNTRY_INFO!C35=0,\" \",COUNTRY_INFO!C35)","v":"CUEBIT"},{"$f":"IF(COUNTRY_INFO!$AC35=\"T3 (ALB/MBD)\", \"T3 (ALB/MBD)\", \" \")","v":" "},null,null,null,null,0,null,null,null,0," "," "," "," "]
[{"$f":"IF(COUNTRY_INFO!A36=0,\" \",COUNTRY_INFO!A36)","v":"South Sudan"},{"$f":"IF(COUNTRY_INFO!B36=0,\" \",COUNTRY_INFO!B36)","v":"Lakes"},{"$f":"IF(COUNTRY_INFO!C36=0,\" \",COUNTRY_INFO!C36)","v":"RUMBEK NORTH"},{"$f":"IF(COUNTRY_INFO!$AC36=\"T3 (ALB/MBD)\", \"T3 (ALB/MBD)\", \" \")","v":" "},null,null,null,null,0,null,null,null,0," "," "," "," "]
[{"$f":"IF(COUNTRY_INFO!A37=0,\" \",COUNTRY_INFO!A37)","v":"South Sudan"},{"$f":"IF(COUNTRY_INFO!B37=0,\" \",COUNTRY_INFO!B37)","v":"Lakes"},{"$f":"IF(COUNTRY_INFO!C37=0,\" \",COUNTRY_INFO!C37)","v":"RUMBEK CENTRE"},{"$f":"IF(COUNTRY_INFO!$AC37=\"T3 (ALB/MBD)\", \"T3 (ALB/MBD)\", \" \")","v":" "},null,null,null,null,0,null,null,null,0," "," "," "," "]
[{"$f":"IF(COUNTRY_INFO!A38=0,\" \",COUNTRY_INFO!A38)","v":"South Sudan"},{"$f":"IF(COUNTRY_INFO!B38=0,\" \",COUNTRY_INFO!B38)","v":"Lakes"},{"$f":"IF(COUNTRY_INFO!C38=0,\" \",COUNTRY_INFO!C38)","v":"WULU"},{"$f":"IF(COUNTRY_INFO!$AC38=\"T3 (ALB/MBD)\", \"T3 (ALB/MBD)\", \" \")","v":" "},null,null,null,null,0,null,null,null,0," "," "," "," "]
[{"$f":"IF(COUNTRY_INFO!A39=0,\" \",COUNTRY_INFO!A39)","v":"South Sudan"},{"$f":"IF(COUNTRY_INFO!B39=0,\" \",COUNTRY_INFO!B39)","v":"Lakes"},{"$f":"IF(COUNTRY_INFO!C39=0,\" \",COUNTRY_INFO!C39)","v":"RUMBEK EAST"},{"$f":"IF(COUNTRY_INFO!$AC39=\"T3 (ALB/MBD)\", \"T3 (ALB/MBD)\", \" \")","v":" "},null,null,null,null,0,null,null,null,0," "," "," "," "]
[{"$f":"IF(COUNTRY_INFO!A40=0,\" \",COUNTRY_INFO!A40)","v":"South Sudan"},{"$f":"IF(COUNTRY_INFO!B40=0,\" \",COUNTRY_INFO!B40)","v":"Lakes"},{"$f":"IF(COUNTRY_INFO!C40=0,\" \",COUNTRY_INFO!C40)","v":"YIROL WEST"},{"$f":"IF(COUNTRY_INFO!$AC40=\"T3 (ALB/MBD)\", \"T3 (ALB/MBD)\", \" \")","v":" "},null,null,null,null,0,null,null,null,0," "," "," "," "]
[{"$f":"IF(COUNTRY_INFO!A41=0,\" \",COUNTRY_INFO!A41)","v":"South Sudan"},{"$f":"IF(COUNTRY_INFO!B41=0,\" \",COUNTRY_INFO!B41)","v":"Lakes"},{"$f":"IF(COUNTRY_INFO!C41=0,\" \",COUNTRY_INFO!C41)","v":"YIROL EAST"},{"$f":"IF(COUNTRY_INFO!$AC41=\"T3 (ALB/MBD)\", \"T3 (ALB/MBD)\", \" \")","v":" "},null,null,null,null,0,null,null,null,0," "," "," "," "]
[{"$f":"IF(COUNTRY_INFO!A42=0,\" \",COUNTRY_INFO!A42)","v":"South Sudan"},{"$f":"IF(COUNTRY_INFO!B42=0,\" \",COUNTRY_INFO!B42)","v":"Lakes"},{"$f":"IF(COUNTRY_INFO!C42=0,\" \",COUNTRY_INFO!C42)","v":"AWERIAL"},{"$f":"IF(COUNTRY_INFO!$AC42=\"T3 (ALB/MBD)\", \"T3 (ALB/MBD)\", \" \")","v":" "},null,null,null,null,0,null,null,null,0," "," "," "," "]
[{"$f":"IF(COUNTRY_INFO!A43=0,\" \",COUNTRY_INFO!A43)","v":"South Sudan"},{"$f":"IF(COUNTRY_INFO!B43=0,\" \",COUNTRY_INFO!B43)","v":"Northern Bahr El Ghazal"},{"$f":"IF(COUNTRY_INFO!C43=0,\" \",COUNTRY_INFO!C43)","v":"AWIEL NORTH"},{"$f":"IF(COUNTRY_INFO!$AC43=\"T3 (ALB/MBD)\", \"T3 (ALB/MBD)\", \" \")","v":" "},null,null,null,null,0,null,null,null,0," "," "," "," "]
[{"$f":"IF(COUNTRY_INFO!A44=0,\" \",COUNTRY_INFO!A44)","v":"South Sudan"},{"$f":"IF(COUNTRY_INFO!B44=0,\" \",COUNTRY_INFO!B44)","v":"Northern Bahr El Ghazal"},{"$f":"IF(COUNTRY_INFO!C44=0,\" \",COUNTRY_INFO!C44)","v":"AWIEL EAST"},{"$f":"IF(COUNTRY_INFO!$AC44=\"T3 (ALB/MBD)\", \"T3 (ALB/MBD)\", \" \")","v":" "},null,null,null,null,0,null,null,null,0," "," "," "," "]
[{"$f":"IF(COUNTRY_INFO!A45=0,\" \",COUNTRY_INFO!A45)","v":"South Sudan"},{"$f":"IF(COUNTRY_INFO!B45=0,\" \",COUNTRY_INFO!B45)","v":"Northern Bahr El Ghazal"},{"$f":"IF(COUNTRY_INFO!C45=0,\" \",COUNTRY_INFO!C45)","v":"AWIEL SOUTH"},{"$f":"IF(COUNTRY_INFO!$AC45=\"T3 (ALB/MBD)\", \"T3 (ALB/MBD)\", \" \")","v":" "},null,null,null,null,0,null,null,null,0," "," "," "," "]
[{"$f":"IF(COUNTRY_INFO!A46=0,\" \",COUNTRY_INFO!A46)","v":"South Sudan"},{"$f":"IF(COUNTRY_INFO!B46=0,\" \",COUNTRY_INFO!B46)","v":"Northern Bahr El Ghazal"},{"$f":"IF(COUNTRY_INFO!C46=0,\" \",COUNTRY_INFO!C46)","v":"AWIEL WEST"},{"$f":"IF(COUNTRY_INFO!$AC46=\"T3 (ALB/MBD)\", \"T3 (ALB/MBD)\", \" \")","v":" "},null,null,null,null,0,null,null,null,0," "," "," "," "]
[{"$f":"IF(COUNTRY_INFO!A47=0,\" \",COUNTRY_INFO!A47)","v":"South Sudan"},{"$f":"IF(COUNTRY_INFO!B47=0,\" \",COUNTRY_INFO!B47)","v":"Northern Bahr El Ghazal"},{"$f":"IF(COUNTRY_INFO!C47=0,\" \",COUNTRY_INFO!C47)","v":"AWIEL CENTRE"},{"$f":"IF(COUNTRY_INFO!$AC47=\"T3 (ALB/MBD)\", \"T3 (ALB/MBD)\", \" \")","v":" "},null,null,null,null,0,null,null,null,0," "," "," "," "]
[{"$f":"IF(COUNTRY_INFO!A48=0,\" \",COUNTRY_INFO!A48)","v":"South Sudan"},{"$f":"IF(COUNTRY_INFO!B48=0,\" \",COUNTRY_INFO!B48)","v":"Unity"},{"$f":"IF(COUNTRY_INFO!C48=0,\" \",COUNTRY_INFO!C48)","v":"PARIANG"},{"$f":"IF(COUNTRY_INFO!$AC48=\"T3 (ALB/MBD)\", \"T3 (ALB/MBD)\", \" \")","v":" "},null,null,null,null,0,null,null,null,0," "," "," "," "]
[{"$f":"IF(COUNTRY_INFO!A49=0,\" \",COUNTRY_INFO!A49)","v":"South Sudan"},{"$f":"IF(COUNTRY_INFO!B49=0,\" \",COUNTRY_INFO!B49)","v":"Unity"},{"$f":"IF(COUNTRY_INFO!C49=0,\" \",COUNTRY_INFO!C49)","v":"ABIEMNHOM"},{"$f":"IF(COUNTRY_INFO!$AC49=\"T3 (ALB/MBD)\", \"T3 (ALB/MBD)\", \" \")","v":" "},null,null,null,null,0,null,null,null,0," "," "," "," "]
[{"$f":"IF(COUNTRY_INFO!A50=0,\" \",COUNTRY_INFO!A50)","v":"South Sudan"},{"$f":"IF(COUNTRY_INFO!B50=0,\" \",COUNTRY_INFO!B50)","v":"Unity"},{"$f":"IF(COUNTRY_INFO!C50=0,\" \",COUNTRY_INFO!C50)","v":"MAYOM"},{"$f":"IF(COUNTRY_INFO!$AC50=\"T3 (ALB/MBD)\", \"T3 (ALB/MBD)\", \" \")","v":" "},null,null,null,null,0,null,null,null,0," "," "," "," "]
[{"$f":"IF(COUNTRY_INFO!A51=0,\" \",COUNTRY_INFO!A51)","v":"South Sudan"},{"$f":"IF(COUNTRY_INFO!B51=0,\" \",COUNTRY_INFO!B51)","v":"Unity"},{"$f":"IF(COUNTRY_INFO!C51=0,\" \",COUNTRY_INFO!C51)","v":"RUBKONA"},{"$f":"IF(COUNTRY_INFO!$AC51=\"T3 (ALB/MBD)\", \"T3 (ALB/MBD)\", \" \")","v":" "},null,null,null,null,0,null,null,null,0," "," "," "," "]
[{"$f":"IF(COUNTRY_INFO!A52=0,\" \",COUNTRY_INFO!A52)","v":"South Sudan"},{"$f":"IF(COUNTRY_INFO!B52=0,\" \",COUNTRY_INFO!B52)","v":"Unity"},{"$f":"IF(COUNTRY_INFO!C52=0,\" \",COUNTRY_INFO!C52)","v":"GUIT"},{"$f":"IF(COUNTRY_INFO!$AC52=\"T3 (ALB/MBD)\", \"T3 (ALB/MBD)\", \" \")","v":" "},null,null,null,null,0,null,null,null,0," "," "," "," "]
[{"$f":"IF(COUNTRY_INFO!A53=0,\" \",COUNTRY_INFO!A53)","v":"South Sudan"},{"$f":"IF(COUNTRY_INFO!B53=0,\" \",COUNTRY_INFO!B53)","v":"Unity"},{"$f":"IF(COUNTRY_INFO!C53=0,\" \",COUNTRY_INFO!C53)","v":"KOCH"},{"$f":"IF(COUNTRY_INFO!$AC53=\"T3 (ALB/MBD)\", \"T3 (ALB/MBD)\", \" \")","v":" "},null,null,null,null,0,null,null,null,0," "," "," "," "]
[{"$f":"IF(COUNTRY_INFO!A54=0,\" \",COUNTRY_INFO!A54)","v":"South Sudan"},{"$f":"IF(COUNTRY_INFO!B54=0,\" \",COUNTRY_INFO!B54)","v":"Unity"},{"$f":"IF(COUNTRY_INFO!C54=0,\" \",COUNTRY_INFO!C54)","v":"LEER"},{"$f":"IF(COUNTRY_INFO!$AC54=\"T3 (ALB/MBD)\", \"T3 (ALB/MBD)\", \" \")","v":" "},null,null,null,null,0,null,null,null,0," "," "," "," "]
[{"$f":"IF(COUNTRY_INFO!A55=0,\" \",COUNTRY_INFO!A55)","v":"South Sudan"},{"$f":"IF(COUNTRY_INFO!B55=0,\" \",COUNTRY_INFO!B55)","v":"Unity"},{"$f":"IF(COUNTRY_INFO!C55=0,\" \",COUNTRY_INFO!C55)","v":"MAYENDIT"},{"$f":"IF(COUNTRY_INFO!$AC55=\"T3 (ALB/MBD)\", \"T3 (ALB/MBD)\", \" \")","v":" "},null,null,null,null,0,null,null,null,0," "," "," "," "]
[{"$f":"IF(COUNTRY_INFO!A56=0,\" \",COUNTRY_INFO!A56)","v":"South Sudan"},{"$f":"IF(COUNTRY_INFO!B56=0,\" \",COUNTRY_INFO!B56)","v":"Unity"},{"$f":"IF(COUNTRY_INFO!C56=0,\" \",COUNTRY_INFO!C56)","v":"PAYNIJAR"},{"$f":"IF(COUNTRY_INFO!$AC56=\"T3 (ALB/MBD)\", \"T3 (ALB/MBD)\", \" \")","v":" "},null,null,null,null,0,null,null,null,0," "," "," "," "]
[{"$f":"IF(COUNTRY_INFO!A57=0,\" \",COUNTRY_INFO!A57)","v":"South Sudan"},{"$f":"IF(COUNTRY_INFO!B57=0,\" \",COUNTRY_INFO!B57)","v":"Upper Nile"},{"$f":"IF(COUNTRY_INFO!C57=0,\" \",COUNTRY_INFO!C57)","v":"RENK"},{"$f":"IF(COUNTRY_INFO!$AC57=\"T3 (ALB/MBD)\", \"T3 (ALB/MBD)\", \" \")","v":" "},null,null,null,null,0,null,null,null,0," "," "," "," "]
[{"$f":"IF(COUNTRY_INFO!A58=0,\" \",COUNTRY_INFO!A58)","v":"South Sudan"},{"$f":"IF(COUNTRY_INFO!B58=0,\" \",COUNTRY_INFO!B58)","v":"Upper Nile"},{"$f":"IF(COUNTRY_INFO!C58=0,\" \",COUNTRY_INFO!C58)","v":"MANYO"},{"$f":"IF(COUNTRY_INFO!$AC58=\"T3 (ALB/MBD)\", \"T3 (ALB/MBD)\", \" \")","v":" "},null,null,null,null,0,null,null,null,0," "," "," "," "]
[{"$f":"IF(COUNTRY_INFO!A59=0,\" \",COUNTRY_INFO!A59)","v":"South Sudan"},{"$f":"IF(COUNTRY_INFO!B59=0,\" \",COUNTRY_INFO!B59)","v":"Upper Nile"},{"$f":"IF(COUNTRY_INFO!C59=0,\" \",COUNTRY_INFO!C59)","v":"FASHODA"},{"$f":"IF(COUNTRY_INFO!$AC59=\"T3 (ALB/MBD)\", \"T3 (ALB/MBD)\", \" \")","v":" "},null,null,null,null,0,null,null,null,0," "," "," "," "]
[{"$f":"IF(COUNTRY_INFO!A60=0,\" \",COUNTRY_INFO!A60)","v":"South Sudan"},{"$f":"IF(COUNTRY_INFO!B60=0,\" \",COUNTRY_INFO!B60)","v":"Upper Nile"},{"$f":"IF(COUNTRY_INFO!C60=0,\" \",COUNTRY_INFO!C60)","v":"MELUT"},{"$f":"IF(COUNTRY_INFO!$AC60=\"T3 (ALB/MBD)\", \"T3 (ALB/MBD)\", \" \")","v":" "},null,null,null,null,0,null,null,null,0," "," "," "," "]
[{"$f":"IF(COUNTRY_INFO!A61=0,\" \",COUNTRY_INFO!A61)","v":"South Sudan"},{"$f":"IF(COUNTRY_INFO!B61=0,\" \",COUNTRY_INFO!B61)","v":"Upper Nile"},{"$f":"IF(COUNTRY_INFO!C61=0,\" \",COUNTRY_INFO!C61)","v":"MABAN"},{"$f":"IF(COUNTRY_INFO!$AC61=\"T3 (ALB/MBD)\", \"T3 (ALB/MBD)\", \" \")","v":" "},null,null,null,null,0,null,null,null,0," "," "," "," "]
[{"$f":"IF(COUNTRY_INFO!A62=0,\" \",COUNTRY_INFO!A62)","v":"South Sudan"},{"$f":"IF(COUNTRY_INFO!B62=0,\" \",COUNTRY_INFO!B62)","v":"Upper Nile"},{"$f":"IF(COUNTRY_INFO!C62=0,\" \",COUNTRY_INFO!C62)","v":"MAIWUT"},{"$f":"IF(COUNTRY_INFO!$AC62=\"T3 (ALB/MBD)\", \"T3 (ALB/MBD)\", \" \")","v":" "},null,null,null,null,0,null,null,null,0," "," "," "," "]
[{"$f":"IF(COUNTRY_INFO!A63=0,\" \",COUNTRY_INFO!A63)","v":"South Sudan"},{"$f":"IF(COUNTRY_INFO!B63=0,\" \",COUNTRY_INFO!B63)","v":"Upper Nile"},{"$f":"IF(COUNTRY_INFO!C63=0,\" \",COUNTRY_INFO!C63)","v":"LUAKPINY/NASIR"},{"$f":"IF(COUNTRY_INFO!$AC63=\"T3 (ALB/MBD)\", \"T3 (ALB/MBD)\", \" \")","v":" "},null,null,null,null,0,null,null,null,0," "," "," "," "]
[{"$f":"IF(COUNTRY_INFO!A64=0,\" \",COUNTRY_INFO!A64)","v":"South Sudan"},{"$f":"IF(COUNTRY_INFO!B64=0,\" \",COUNTRY_INFO!B64)","v":"Upper Nile"},{"$f":"IF(COUNTRY_INFO!C64=0,\" \",COUNTRY_INFO!C64)","v":"LONGOCHUK"},{"$f":"IF(COUNTRY_INFO!$AC64=\"T3 (ALB/MBD)\", \"T3 (ALB/MBD)\", \" \")","v":" "},null,null,null,null,0,null,null,null,0," "," "," "," "]
[{"$f":"IF(COUNTRY_INFO!A65=0,\" \",COUNTRY_INFO!A65)","v":"South Sudan"},{"$f":"IF(COUNTRY_INFO!B65=0,\" \",COUNTRY_INFO!B65)","v":"Upper Nile"},{"$f":"IF(COUNTRY_INFO!C65=0,\" \",COUNTRY_INFO!C65)","v":"ULANG"},{"$f":"IF(COUNTRY_INFO!$AC65=\"T3 (ALB/MBD)\", \"T3 (ALB/MBD)\", \" \")","v":" "},null,null,null,null,0,null,null,null,0," "," "," "," "]
[{"$f":"IF(COUNTRY_INFO!A66=0,\" \",COUNTRY_INFO!A66)","v":"South Sudan"},{"$f":"IF(COUNTRY_INFO!B66=0,\" \",COUNTRY_INFO!B66)","v":"Upper Nile"},{"$f":"IF(COUNTRY_INFO!C66=0,\" \",COUNTRY_INFO!C66)","v":"BALIET"},{"$f":"IF(COUNTRY_INFO!$AC66=\"T3 (ALB/MBD)\", \"T3 (ALB/MBD)\", \" \")","v":" "},null,null,null,null,0,null,null,null,0," "," "," "," "]
[{"$f":"IF(COUNTRY_INFO!A67=0,\" \",COUNTRY_INFO!A67)","v":"South Sudan"},{"$f":"IF(COUNTRY_INFO!B67=0,\" \",COUNTRY_INFO!B67)","v":"Upper Nile"},{"$f":"IF(COUNTRY_INFO!C67=0,\" \",COUNTRY_INFO!C67)","v":"MALAKAL"},{"$f":"IF(COUNTRY_INFO!$AC67=\"T3 (ALB/MBD)\", \"T3 (ALB/MBD)\", \" \")","v":" "},null,null,null,null,0,null,null,null,0," "," "," "," "]
[{"$f":"IF(COUNTRY_INFO!A68=0,\" \",COUNTRY_INFO!A68)","v":"South Sudan"},{"$f":"IF(COUNTRY_INFO!B68=0,\" \",COUNTRY_INFO!B68)","v":"Upper Nile"},{"$f":"IF(COUNTRY_INFO!C68=0,\" \",COUNTRY_INFO!C68)","v":"PANYKANG"},{"$f":"IF(COUNTRY_INFO!$AC68=\"T3 (ALB/MBD)\", \"T3 (ALB/MBD)\", \" \")","v":" "},null,null,null,null,0,null,null,null,0," "," "," "," "]
[{"$f":"IF(COUNTRY_INFO!A69=0,\" \",COUNTRY_INFO!A69)","v":"South Sudan"},{"$f":"IF(COUNTRY_INFO!B69=0,\" \",COUNTRY_INFO!B69)","v":"Warrap"},{"$f":"IF(COUNTRY_INFO!C69=0,\" \",COUNTRY_INFO!C69)","v":"ABYEI"},{"$f":"IF(COUNTRY_INFO!$AC69=\"T3 (ALB/MBD)\", \"T3 (ALB/MBD)\", \" \")","v":" "},null,null,null,null,0,null,null,null,0," "," "," "," "]
[{"$f":"IF(COUNTRY_INFO!A70=0,\" \",COUNTRY_INFO!A70)","v":"South Sudan"},{"$f":"IF(COUNTRY_INFO!B70=0,\" \",COUNTRY_INFO!B70)","v":"Warrap"},{"$f":"IF(COUNTRY_INFO!C70=0,\" \",COUNTRY_INFO!C70)","v":"TWIC"},{"$f":"IF(COUNTRY_INFO!$AC70=\"T3 (ALB/MBD)\", \"T3 (ALB/MBD)\", \" \")","v":" "},null,null,null,null,0,null,null,null,0," "," "," "," "]
[{"$f":"IF(COUNTRY_INFO!A71=0,\" \",COUNTRY_INFO!A71)","v":"South Sudan"},{"$f":"IF(COUNTRY_INFO!B71=0,\" \",COUNTRY_INFO!B71)","v":"Warrap"},{"$f":"IF(COUNTRY_INFO!C71=0,\" \",COUNTRY_INFO!C71)","v":"GOGRIAL WEST"},{"$f":"IF(COUNTRY_INFO!$AC71=\"T3 (ALB/MBD)\", \"T3 (ALB/MBD)\", \" \")","v":" "},null,null,null,null,0,null,null,null,0," "," "," "," "]
[{"$f":"IF(COUNTRY_INFO!A72=0,\" \",COUNTRY_INFO!A72)","v":"South Sudan"},{"$f":"IF(COUNTRY_INFO!B72=0,\" \",COUNTRY_INFO!B72)","v":"Warrap"},{"$f":"IF(COUNTRY_INFO!C72=0,\" \",COUNTRY_INFO!C72)","v":"GOGRIAL EAST"},{"$f":"IF(COUNTRY_INFO!$AC72=\"T3 (ALB/MBD)\", \"T3 (ALB/MBD)\", \" \")","v":" "},null,null,null,null,0,null,null,null,0," "," "," "," "]
[{"$f":"IF(COUNTRY_INFO!A73=0,\" \",COUNTRY_INFO!A73)","v":"South Sudan"},{"$f":"IF(COUNTRY_INFO!B73=0,\" \",COUNTRY_INFO!B73)","v":"Warrap"},{"$f":"IF(COUNTRY_INFO!C73=0,\" \",COUNTRY_INFO!C73)","v":"TONJ NORTH"},{"$f":"IF(COUNTRY_INFO!$AC73=\"T3 (ALB/MBD)\", \"T3 (ALB/MBD)\", \" \")","v":" "},null,null,null,null,0,null,null,null,0," "," "," "," "]
[{"$f":"IF(COUNTRY_INFO!A74=0,\" \",COUNTRY_INFO!A74)","v":"South Sudan"},{"$f":"IF(COUNTRY_INFO!B74=0,\" \",COUNTRY_INFO!B74)","v":"Warrap"},{"$f":"IF(COUNTRY_INFO!C74=0,\" \",COUNTRY_INFO!C74)","v":"TONJ EAST"},{"$f":"IF(COUNTRY_INFO!$AC74=\"T3 (ALB/MBD)\", \"T3 (ALB/MBD)\", \" \")","v":" "},null,null,null,null,0,null,null,null,0," "," "," "," "]
[{"$f":"IF(COUNTRY_INFO!A75=0,\" \",COUNTRY_INFO!A75)","v":"South Sudan"},{"$f":"IF(COUNTRY_INFO!B75=0,\" \",COUNTRY_INFO!B75)","v":"Warrap"},{"$f":"IF(COUNTRY_INFO!C75=0,\" \",COUNTRY_INFO!C75)","v":"TONJ SOUTH"},{"$f":"IF(COUNTRY_INFO!$AC75=\"T3 (ALB/MBD)\", \"T3 (ALB/MBD)\", \" \")","v":" "},null,null,null,null,{"$f":"SUM(F75:H75)","v":0},null,null,null,{"$f":"SUM(J75:L75)","v":0},{"$f":"IF(F75<>0, IF(J75/F75*100=0, \"-\", J75/F75*100), \" \")","v":" "},{"$f":"IF(G75<>0, IF(K75/G75*100=0, \"-\", K75/G75*100), \" \")","v":" "},{"$f":"IF(H75<>0, IF(L75/H75*100=0, \"-\", L75/H75*100), \" \")","v":" "},{"$f":"IF(I75<>0, IF(M75/I75*100=0, \"-\", M75/I75*100), \" \")","v":" "}]
[{"$f":"IF(COUNTRY_INFO!A76=0,\" \",COUNTRY_INFO!A76)","v":"South Sudan"},{"$f":"IF(COUNTRY_INFO!B76=0,\" \",COUNTRY_INFO!B76)","v":"Wesstern Equatoria"},{"$f":"IF(COUNTRY_INFO!C76=0,\" \",COUNTRY_INFO!C76)","v":"TAMBURA"},{"$f":"IF(COUNTRY_INFO!$AC76=\"T3 (ALB/MBD)\", \"T3 (ALB/MBD)\", \" \")","v":" "},null,null,null,null,0,null,null,null,0," "," "," "," "]
[{"$f":"IF(COUNTRY_INFO!A77=0,\" \",COUNTRY_INFO!A77)","v":"South Sudan"},{"$f":"IF(COUNTRY_INFO!B77=0,\" \",COUNTRY_INFO!B77)","v":"Wesstern Equatoria"},{"$f":"IF(COUNTRY_INFO!C77=0,\" \",COUNTRY_INFO!C77)","v":"NAGERO"},{"$f":"IF(COUNTRY_INFO!$AC77=\"T3 (ALB/MBD)\", \"T3 (ALB/MBD)\", \" \")","v":" "},null,null,null,null,0,null,null,null,0," "," "," "," "]
[{"$f":"IF(COUNTRY_INFO!A78=0,\" \",COUNTRY_INFO!A78)","v":"South Sudan"},{"$f":"IF(COUNTRY_INFO!B78=0,\" \",COUNTRY_INFO!B78)","v":"Wesstern Equatoria"},{"$f":"IF(COUNTRY_INFO!C78=0,\" \",COUNTRY_INFO!C78)","v":"NZARA"},{"$f":"IF(COUNTRY_INFO!$AC78=\"T3 (ALB/MBD)\", \"T3 (ALB/MBD)\", \" \")","v":" "},null,null,null,null,0,null,null,null,0," "," "," "," "]
[{"$f":"IF(COUNTRY_INFO!A79=0,\" \",COUNTRY_INFO!A79)","v":"South Sudan"},{"$f":"IF(COUNTRY_INFO!B79=0,\" \",COUNTRY_INFO!B79)","v":"Wesstern Equatoria"},{"$f":"IF(COUNTRY_INFO!C79=0,\" \",COUNTRY_INFO!C79)","v":"EZO"},{"$f":"IF(COUNTRY_INFO!$AC79=\"T3 (ALB/MBD)\", \"T3 (ALB/MBD)\", \" \")","v":" "},null,null,null,null,0,null,null,null,0," "," "," "," "]
[{"$f":"IF(COUNTRY_INFO!A80=0,\" \",COUNTRY_INFO!A80)","v":"South Sudan"},{"$f":"IF(COUNTRY_INFO!B80=0,\" \",COUNTRY_INFO!B80)","v":"Wesstern Equatoria"},{"$f":"IF(COUNTRY_INFO!C80=0,\" \",COUNTRY_INFO!C80)","v":"YAMBIO"},{"$f":"IF(COUNTRY_INFO!$AC80=\"T3 (ALB/MBD)\", \"T3 (ALB/MBD)\", \" \")","v":" "},null,null,null,null,0,null,null,null,0," "," "," "," "]
[{"$f":"IF(COUNTRY_INFO!A81=0,\" \",COUNTRY_INFO!A81)","v":"South Sudan"},{"$f":"IF(COUNTRY_INFO!B81=0,\" \",COUNTRY_INFO!B81)","v":"Wesstern Equatoria"},{"$f":"IF(COUNTRY_INFO!C81=0,\" \",COUNTRY_INFO!C81)","v":"IBBA"},{"$f":"IF(COUNTRY_INFO!$AC81=\"T3 (ALB/MBD)\", \"T3 (ALB/MBD)\", \" \")","v":" "},null,null,null,null,0,null,null,null,0," "," "," "," "]
[{"$f":"IF(COUNTRY_INFO!A82=0,\" \",COUNTRY_INFO!A82)","v":"South Sudan"},{"$f":"IF(COUNTRY_INFO!B82=0,\" \",COUNTRY_INFO!B82)","v":"Wesstern Equatoria"},{"$f":"IF(COUNTRY_INFO!C82=0,\" \",COUNTRY_INFO!C82)","v":"MARIDI"},{"$f":"IF(COUNTRY_INFO!$AC82=\"T3 (ALB/MBD)\", \"T3 (ALB/MBD)\", \" \")","v":" "},null,null,null,null,0,null,null,null,0," "," "," "," "]
[{"$f":"IF(COUNTRY_INFO!A83=0,\" \",COUNTRY_INFO!A83)","v":"South Sudan"},{"$f":"IF(COUNTRY_INFO!B83=0,\" \",COUNTRY_INFO!B83)","v":"Wesstern Equatoria"},{"$f":"IF(COUNTRY_INFO!C83=0,\" \",COUNTRY_INFO!C83)","v":"MVOLO"},{"$f":"IF(COUNTRY_INFO!$AC83=\"T3 (ALB/MBD)\", \"T3 (ALB/MBD)\", \" \")","v":" "},null,null,null,null,0,null,null,null,0," "," "," "," "]
[{"$f":"IF(COUNTRY_INFO!A84=0,\" \",COUNTRY_INFO!A84)","v":"South Sudan"},{"$f":"IF(COUNTRY_INFO!B84=0,\" \",COUNTRY_INFO!B84)","v":"Wesstern Equatoria"},{"$f":"IF(COUNTRY_INFO!C84=0,\" \",COUNTRY_INFO!C84)","v":"MUNDRI WEST"},{"$f":"IF(COUNTRY_INFO!$AC84=\"T3 (ALB/MBD)\", \"T3 (ALB/MBD)\", \" \")","v":" "},null,null,null,null,0,null,null,null,0," "," "," "," "]
[{"$f":"IF(COUNTRY_INFO!A85=0,\" \",COUNTRY_INFO!A85)","v":"South Sudan"},{"$f":"IF(COUNTRY_INFO!B85=0,\" \",COUNTRY_INFO!B85)","v":"Wesstern Equatoria"},{"$f":"IF(COUNTRY_INFO!C85=0,\" \",COUNTRY_INFO!C85)","v":"MUNDRI EAST"},{"$f":"IF(COUNTRY_INFO!$AC85=\"T3 (ALB/MBD)\", \"T3 (ALB/MBD)\", \" \")","v":" "},null,null,null,null,0,null,null,null,0," "," "," "," "]
[{"$f":"IF(COUNTRY_INFO!A86=0,\" \",COUNTRY_INFO!A86)","v":"South Sudan"},{"$f":"IF(COUNTRY_INFO!B86=0,\" \",COUNTRY_INFO!B86)","v":"Western Bahr El Ghazal"},{"$f":"IF(COUNTRY_INFO!C86=0,\" \",COUNTRY_INFO!C86)","v":"RAGA"},{"$f":"IF(COUNTRY_INFO!$AC86=\"T3 (ALB/MBD)\", \"T3 (ALB/MBD)\", \" \")","v":" "},null,null,null,null,0,null,null,null,0," "," "," "," "]
[{"$f":"IF(COUNTRY_INFO!A87=0,\" \",COUNTRY_INFO!A87)","v":"South Sudan"},{"$f":"IF(COUNTRY_INFO!B87=0,\" \",COUNTRY_INFO!B87)","v":"Western Bahr El Ghazal"},{"$f":"IF(COUNTRY_INFO!C87=0,\" \",COUNTRY_INFO!C87)","v":"JUR RIVER"},{"$f":"IF(COUNTRY_INFO!$AC87=\"T3 (ALB/MBD)\", \"T3 (ALB/MBD)\", \" \")","v":" "},null,null,null,null,0,null,null,null,0," "," "," "," "]
[{"$f":"IF(COUNTRY_INFO!A88=0,\" \",COUNTRY_INFO!A88)","v":"South Sudan"},{"$f":"IF(COUNTRY_INFO!B88=0,\" \",COUNTRY_INFO!B88)","v":"Western Bahr El Ghazal"},{"$f":"IF(COUNTRY_INFO!C88=0,\" \",COUNTRY_INFO!C88)","v":"WAU"},{"$f":"IF(COUNTRY_INFO!$AC88=\"T3 (ALB/MBD)\", \"T3 (ALB/MBD)\", \" \")","v":" "},null,null,null,null,0,null,null,null,0," "," "," "," "]
[{"$f":"IF(COUNTRY_INFO!A89=0,\" \",COUNTRY_INFO!A89)","v":"South Sudan"},{"$f":"IF(COUNTRY_INFO!B89=0,\" \",COUNTRY_INFO!B89)","v":"Upper Nile"},{"$f":"IF(COUNTRY_INFO!C89=0,\" \",COUNTRY_INFO!C89)","v":"MABAN Refugee"},{"$f":"IF(COUNTRY_INFO!$AC89=\"T3 (ALB/MBD)\", \"T3 (ALB/MBD)\", \" \")","v":" "},null,null,null,null,0,null,null,null,0," "," "," "," "]

{"sheet":"DISTRICT","index":10,"n_rows":89,"n_cols":65,"rows_kept":89,"cut":false,"hidden":false,"merged":[[3,0,3,2],[5,0,5,2],[5,4,5,8],[5,10,5,14],[5,16,5,29],[5,31,5,44],[5,3,6,3],[5,9,6,9],[5,15,6,15],[5,30,6,30]]}
["Number of individuals treated"]
["Administrative structure, population treated by age group and gender"]
[]
["TOTAL",null,null,{"$f":"SUBTOTAL(9,D$10:D$1010)","v":9198157.2693000045},{"$f":"SUBTOTAL(9,E$10:E$1010)","v":0},0,5645517,5426622.0566999996,{"$f":"IF(D4>0, IF(H4/D4*100<>0, H4/D4*100, \"-\"),0)","v":58.996839234441303},{"$f":"SUBTOTAL(9,J$10:J$1010)","v":9209211.8473000024},0,0,6989758,6178635.8302999996,{"$f":"IF(J4>0, IF(N4/J4*100<>0, N4/J4*100, \"-\"),0)","v":67.091906807545968},{"$f":"SUBTOTAL(9,P$10:P$1010)","v":1199447},0,0,0,0,{"$f":"IF(COUNTRY_INFO!O4>0, IF(T4/COUNTRY_INFO!O4*100<>0, T4/COUNTRY_INFO!O4*100, \"-\"),0)","v":"-"},2726349,{"$f":"SUBTOTAL(9,W$10:W$1010)","v":450115},{"$f":"IF(COUNTRY_INFO!P4>0, IF(W4/COUNTRY_INFO!P4*100<>0,W4/COUNTRY_INFO!P4*100, \"-\"),0)","v":78.406729410863008},{"$f":"SUBTOTAL(9,Y$10:Y$1010)","v":2919168},{"$f":"SUBTOTAL(9,Z$10:Z$1010)","v":355547},{"$f":"IF(COUNTRY_INFO!Q4>0, IF(Z4/COUNTRY_INFO!Q4*100<>0, Z4/COUNTRY_INFO!Q4*100, \"-\"),0)","v":84.726872383167446},{"$f":"SUBTOTAL(9,AB$10:AB$1010)","v":5645517},{"$f":"SUBTOTAL(9,AC$10:AC$1010)","v":805662},{"$f":"IF(P4>0, IF(AC4/P4*100<>0, AC4/P4*100, \"-\"),0)","v":67.169453923349678},{"$f":"SUBTOTAL(9,AE$10:AE$1010)","v":3995475},0,0,0,0,{"$f":"IF(COUNTRY_INFO!S4>0, IF(AI4/COUNTRY_INFO!S4*100<>0, AI4/COUNTRY_INFO!S4*100, \"-\"),0)","v":"-"},{"$f":"SUBTOTAL(9,AK$10:AK$1010)","v":0},0,{"$f":"IF(COUNTRY_INFO!T4>0, IF(AL4/COUNTRY_INFO!T4*100<>0, AL4/COUNTRY_INFO!T4*100, \"-\"),0)","v":"-"},{"$f":"SUBTOTAL(9,AN$10:AN$1010)","v":0},{"$f":"SUBTOTAL(9,AO$10:AO$1010)","v":0},{"$f":"IF(COUNTRY_INFO!U4>0, IF(AO4/COUNTRY_INFO!U4*100<>0, AO4/COUNTRY_INFO!U4*100, \"-\"),0)","v":"-"},{"$f":"SUBTOTAL(9,AQ$10:AQ$1010)","v":0},{"$f":"SUBTOTAL(9,AR$10:AR$1010)","v":0},{"$f":"IF(AE4>0, IF(AR4/AE4*100<>0, AR4/AE4*100, \"-\"),0)","v":"-"}]
[null,null,null,null,null,null,null,null,null,null,null,null,null,null,null,1199447,0,0,0,0,null,null,null,null,null,355547,null,5645517]
["Country administrative structure",null,null,"Population requiring PC for LF","Population treated for lymphatic filariasis",null,null,null,null,"Population requiring PC for ONCHO","Population treated for onchocerciasis",null,null,null,null,"Population requiring PC for STH","Population treated for STH",null,null,null,null,null,null,null,null,null,null,null,null,null,"Population requiring PC for SCH","Population treated for schistosomiasis",null,null,null,null,null,null,null,null,null,null,null,null,null,null,null,null,null,null,{"$f":"SUBTOTAL(9,AY10:AY1010)","v":323565.6596265742},{"$f":"SUBTOTAL(9,AZ10:AZ1010)","v":1408617.8627618472},3977055.2229376291,7244175.6752863023,12953414.420612348,{"$f":"COUNTIF(BD10:BD1010,\"Y\")","v":39},{"$f":"SUBTOTAL(9,BE10:BE1010)","v":0},3586708,3837143,7423851,0,2926508.8809403381,3751790.5676809023,6678299.4486212404,{"$f":"IF(BC6<>0,BL6/BC6,0)","v":0.51556286487632785}]
["Country","Province/State","District",null,"Male","Female","Total treated","Total in need treated","(%)",null,"Male","Female","Total treated","Total in need treated","(%)",null,"Male","Female","Total PreSAC treated","PreSAC in need treated ","PreSAC (%)","Total SAC treated","SAC in need treated","SAC (%)","Total adults treated","Adults in need treated","Adults (%)","Total treated","Total in need treated ","(%)",null,"Male","Female","Total PreSAC treated","PreSAC in need treated","PreSAC (%)","Total SAC treated","SAC in need treated","SAC (%)","Total adults treated","Adults in need treated","Adults (%)","Total treated","Total in need treated ","(%)",null,"LF","ONCHO","STH","SCH","<1","PreSAC","SAC","Adults","Total","Dis","PreSAC","SAC","Adults","Total","PreSAC","SAC","Adults","Total","Coverage"]
[]
[]
[{"$f":"IF(COUNTRY_INFO!A10=0,\" \",COUNTRY_INFO!A10)","v":"South Sudan"},{"$f":"IF(COUNTRY_INFO!B10=0,\" \",COUNTRY_INFO!B10)","v":"Central Equatoria"},{"$f":"IF(COUNTRY_INFO!C10=0,\" \",COUNTRY_INFO!C10)","v":"TEREKEKA"},{"$f":"COUNTRY_INFO!M10","v":243214.50770000002},null,null,{"$f":"'MDA1'!M10+'MDA4'!U10","v":196900},{"$f":"IF(AND(COUNTRY_INFO!H10>0,COUNTRY_INFO!H10<4),IF(D10>G10,G10,D10),0)","v":196900},{"$f":"IF(AND(COUNTRY_INFO!H10>0,COUNTRY_INFO!H10<4), IF(G10/D10*100<>0, IF(G10/D10*100>100,100,G10/D10*100), \"-\"),0)","v":80.957341674235977},{"$f":"COUNTRY_INFO!N10","v":243214.50770000002},null,null,{"$f":"MAX('MDA1'!M10,MAX('MDA3'!I10,'MDA3'!L10)+MAX('MDA3'!J10,'MDA3'!M10))","v":196900},{"$f":"IF(AND(COUNTRY_INFO!I10>0,COUNTRY_INFO!I10<4),IF(J10>M10,M10,J10),0)","v":196900},{"$f":"IF(AND(COUNTRY_INFO!I10>0,COUNTRY_INFO!I10<4), IF(M10/J10*100<>0, IF(M10/J10*100>100,100,M10/J10*100), \"-\"),0)","v":80.957341674235977},{"$f":"COUNTRY_INFO!R10","v":156971},null,null,{"$f":"MAX('MDA4'!R10,'T1'!K10, MAX(T3_R1!J10,T3_R2!J10,T3_R3!J10))","v":0},{"$f":"IF(AND(COUNTRY_INFO!J10>1,COUNTRY_INFO!J10<99,COUNTRY_INFO!J10<>4,COUNTRY_INFO!J10<>5),IF(COUNTRY_INFO!O10>S10,S10,COUNTRY_INFO!O10),0)","v":0},{"$f":"IF(AND(COUNTRY_INFO!J10>1,COUNTRY_INFO!J10<99,COUNTRY_INFO!J10<>4,COUNTRY_INFO!J10<>5), IF(T10/COUNTRY_INFO!O10*100<>0, IF(T10/COUNTRY_INFO!O10*100>100,100,T10/COUNTRY_INFO!O10*100), \"-\"),0)","v":"-"},{"$f":"MAX('MDA1'!K10,'MDA4'!S10, 'T1'!L10, MAX(T3_R1!K10,T3_R2!K10,T3_R3!K10))","v":92868},{"$f":"IF(AND(COUNTRY_INFO!J10>1,COUNTRY_INFO!J10<99,COUNTRY_INFO!J10<>4,COUNTRY_INFO!J10<>5),IF(COUNTRY_INFO!P10>V10,V10,COUNTRY_INFO!P10),0)","v":75129},{"$f":"IF(AND(COUNTRY_INFO!J10>1,COUNTRY_INFO!J10<99,COUNTRY_INFO!J10<>4,COUNTRY_INFO!J10<>5), IF(W10/COUNTRY_INFO!P10*100<>0, IF(W10/COUNTRY_INFO!P10*100>100,100,W10/COUNTRY_INFO!P10*100), \"-\"),0)","v":100},{"$f":"MAX('MDA1'!L10,'MDA4'!T10, 'T1'!M10, MAX(T3_R1!L10,T3_R2!L10,T3_R3!L10))","v":104032},{"$f":"IF(AND(COUNTRY_INFO!J10>1,COUNTRY_INFO!J10<99,COUNTRY_INFO!J10<>4,COUNTRY_INFO!J10<>5),IF(COUNTRY_INFO!Q10>Y10,Y10,COUNTRY_INFO!Q10),0)","v":54918},{"$f":"IF(AND(COUNTRY_INFO!J10>1,COUNTRY_INFO!J10<99,COUNTRY_INFO!J10<>4,COUNTRY_INFO!J10<>5), IF(Z10/COUNTRY_INFO!Q10*100<>0, IF(Z10/COUNTRY_INFO!Q10*100>100,100,Z10/COUNTRY_INFO!Q10*100), \"-\"),0)","v":100},{"$f":"SUM(S10,V10,Y10)","v":196900},{"$f":"SUM(T10,W10,Z10)","v":130047},{"$f":"IF(AND(COUNTRY_INFO!J10>1,COUNTRY_INFO!J10<99,COUNTRY_INFO!J10<>4,COUNTRY_INFO!J10<>5), IF(AC10/P10*100<>0, IF(AC10/P10*100>100,100,AC10/P10*100), \"-\"),0)","v":82.847787170878689},{"$f":"COUNTRY_INFO!V10","v":20129},null,null,{"$f":"MAX('T1'!K10,'T2'!R10)","v":0},{"$f":"IF(AND(COUNTRY_INFO!K10>1,COUNTRY_INFO!K10<99,COUNTRY_INFO!K10<>4,COUNTRY_INFO!K10<>5),IF(COUNTRY_INFO!S10>AH10,AH10,COUNTRY_INFO!S10),0)","v":0},{"$f":"IF(AND(COUNTRY_INFO!K10>1,COUNTRY_INFO!K10<99,COUNTRY_INFO!K10<>4,COUNTRY_INFO!K10<>5), IF(AI10/COUNTRY_INFO!S10*100<>0, IF(AI10/COUNTRY_INFO!S10*100>100,100,AI10/COUNTRY_INFO!S10*100), \"-\"),0)","v":"-"},{"$f":"MAX('T1'!L10,'T2'!S10)","v":0},{"$f":"IF(AND(COUNTRY_INFO!K10>1,COUNTRY_INFO!K10<99,COUNTRY_INFO!K10<>4,COUNTRY_INFO!K10<>5),IF(COUNTRY_INFO!T10>AK10,AK10,COUNTRY_INFO!T10),0)","v":0},{"$f":"IF(AND(COUNTRY_INFO!K10>1,COUNTRY_INFO!K10<99,COUNTRY_INFO!K10<>4,COUNTRY_INFO!K10<>5), IF(AL10/COUNTRY_INFO!T10*100<>0, IF(AL10/COUNTRY_INFO!T10*100>100,100,AL10/COUNTRY_INFO!T10*100), \"-\"),0)","v":"-"},{"$f":"MAX('T1'!M10,'T2'!T10)","v":0},{"$f":"IF(AND(COUNTRY_INFO!K10>1,COUNTRY_INFO!K10<99,COUNTRY_INFO!K10<>4,COUNTRY_INFO!K10<>5),IF(COUNTRY_INFO!U10>AN10,AN10,COUNTRY_INFO!U10),0)","v":0},{"$f":"IF(AND(COUNTRY_INFO!K10>1,COUNTRY_INFO!K10<99,COUNTRY_INFO!K10<>4,COUNTRY_INFO!K10<>5), IF(AO10/COUNTRY_INFO!U10*100<>0, IF(AO10/COUNTRY_INFO!U10*100>100,100,AO10/COUNTRY_INFO!U10*100), \"-\"),0)","v":"-"},{"$f":"SUM(AH10,AK10,AN10)","v":0},{"$f":"SUM(AI10,AL10,AO10)","v":0},{"$f":"IF(AND(COUNTRY_INFO!K10>1,COUNTRY_INFO!K10<99,COUNTRY_INFO!K10<>4,COUNTRY_INFO!K10<>5), IF(AH10/AE10*100<>0, IF(AR10/AE10*100>100,100,AR10/AE10*100), \"-\"),0)","v":"-"},null,{"$f":"IF(AND(D10<>0, D10<>\"Unknown\",D10<>\"Stopped\",D10<>\"Not required\"),D10/COUNTRY_INFO!D10, 0)","v":1},{"$f":"IF(AND(J10<>0,J10<>\"Unknown\",J10<>\"Stopped\",J10<>\"Not required\"),J10/COUNTRY_INFO!D10, 0)","v":1},{"$f":"IF(AND(P10<>0,P10<>\"Unknown\",P10<>\"Surveillance\",P10<>\"Not required\"),P10/COUNTRY_INFO!R10, 0)","v":1},{"$f":"IF(AND(AE10<>0,AE10<>\"Unknown\",AE10<>\"Surveillance\",AE10<>\"Not required\"),AE10/COUNTRY_INFO!V10, 0)","v":1},{"$f":"IF(AU10>0,D10*PROFILE!$G$7,IF(AV10>0,J10*PROFILE!$G$7,0))","v":6688.3824755522901},{"$f":"_xlfn.IFS(OR(AU10>0,AW10>0),COUNTRY_INFO!E10, AV10>0,J10*PROFILE!$G$8,AX10>0,COUNTRY_INFO!S10,COUNTIFS(AU10:AX10,\">0\")=0,0)","v":26924},{"$f":"_xlfn.IFS(OR(AU10>0,AW10>0),COUNTRY_INFO!F10, AV10>0,J10*PROFILE!$G$9,AX10>0,COUNTRY_INFO!T10,COUNTIFS(AU10:AX10,\">0\")=0,0)","v":75129},{"$f":"_xlfn.IFS(AU10>0,COUNTRY_INFO!G10, AND(AV10>0,AW10=0,AX10=0),J10*PROFILE!$G$10,AND(AV10>0,AW10>0,AX10=0), MAX(J10*PROFILE!$G$10,COUNTRY_INFO!Q10),AND(AV10>0,AW10=0,AX10>0), MAX(J10*PROFILE!$G$10,COUNTRY_INFO!U10),AND(AV10=0,AW10>0,AX10>0), MAX(COUNTRY_INFO!Q10,COUNTRY_INFO!U10),AND(AV10=0,AW10>0,AX10=0),COUNTRY_INFO!Q10,AND(AV10=0,AW10=0,AX10>0),COUNTRY_INFO!U10,AND(AV10>0,AW10>0,AX10>0), MAX(J10*PROFILE!$G$10,COUNTRY_INFO!Q10,COUNTRY_INFO!U10),COUNTIFS(AU10:AX10,\">0\")=0,0)","v":134473},{"$f":"SUM(AY10:BB10)","v":243214.38247555229},{"$f":"IF(COUNTIFS(AU10:AX10,\">0\")=0,0, IF(COUNTIFS(AU10:AX10,\">0\")<=IF(AND(OR(D10>=0,D10=\"Not required\",D10=\"Unknown\",D10=\"Stopped\"),D10>0,H10>0),1,0)+IF(AND(OR(J10>=0,J10=\"Not required\",J10=\"Unknown\",J10=\"Stopped\"),J10>0,N10>0),1,0)+IF(AND(OR(P10>=0,P10=\"Not required\",P10=\"Surveillance\",P10=\"Unknown\"),P10>0,AC10>0),1,0)+IF(AND(OR(AE10>=0,AE10=\"Not required\",AE10=\"Surveillance\",AE10=\"Unknown\"),AE10>0,AR10>0),1,0),\"Y\",0))","v":0},{"$f":"MAX('MDA4'!R10,S10,AH10)","v":0},{"$f":"MAX('MDA1'!K10,'MDA4'!S10,'MDA3'!I10,'MDA3'!L10,V10,AK10)","v":92868},{"$f":"MAX('MDA1'!L10,'MDA4'!T10,'MDA3'!J10,'MDA3'!M10,Y10,AN10)","v":104032},{"$f":"SUM(BE10:BG10)","v":196900},{"$f":"_xlfn.IFS(AND(AU10=0,AW10=0,AX10=0),0,AND(AU10=0,AW10=0,AX10>0),AI10,AND(AU10=0,AW10>0,AX10=0),T10,AND(AU10=0,AW10>0,AX10>0),MAX(T10,AI10),AND(AU10>0,AW10=0,AX10=0),MIN('MDA4'!R10,AZ10),AND(AU10>0,AW10=0,AX10>0),MIN(MAX('MDA4'!R10,AI10),AZ10),AND(AU10>0,AW10>0,AX10=0),MIN(MAX('MDA4'!R10,T10),AZ10),AND(AU10>0,AW10>0,AX10>0),MIN(MAX('MDA4'!R10,AI10,T10),AZ10))","v":0},{"$f":"_xlfn.IFS(AND(AU10=0,AV10=0,AW10=0,AX10=0),0,AND(AU10=0,AV10=0,AW10=0,AX10>0),AL10,AND(AU10=0,AV10=0,AW10>0,AX10=0),W10,AND(AU10=0,AV10=0,AW10>0,AX10>0),MAX(W10,AL10),AND(AU10=0,AV10>0,AW10=0,AX10=0),MIN(J10*PROFILE!$G$9,MAX('MDA3'!I10,'MDA3'!L10)),AND(AU10=0,AV10>0,AW10=0,AX10>0),MIN(J10*PROFILE!$G$9,MAX('MDA3'!I10,'MDA3'!L10,AL10)),AND(AU10=0,AV10>0,AW10>0,AX10=0),MIN(J10*PROFILE!$G$9,MAX('MDA3'!I10,'MDA3'!L10,W10)),AND(AU10=0,AV10>0,AW10>0,AX10>0),MIN(J10*PROFILE!$G$9,MAX('MDA3'!I10,'MDA3'!L10,W10,AL10)),AND(AU10>0,AV10=0,AW10=0,AX10=0), MIN(BA10,MAX('MDA1'!K10,'MDA4'!S10)),AND(AU10>0,AV10=0,AW10=0,AX10>0), MIN(BA10,MAX('MDA1'!K10,'MDA4'!S10,AL10)),AND(AU10>0,AV10=0,AW10>0,AX10=0),MIN(BA10,MAX('MDA1'!K10,'MDA4'!S10,W10)),AND(AU10>0,AV10=0,AW10>0,AX10>0),MIN(BA10,MAX('MDA1'!K10,'MDA4'!S10,W10,AL10)),AND(AU10>0,AV10>0,AW10=0,AX10=0),MIN(BA10, MAX('MDA1'!K10,'MDA4'!S10,MAX('MDA3'!I10,'MDA3'!L10))), AND(AU10>0,AV10>0,AW10=0,AX10>0),MIN(BA10, MAX('MDA1'!K10,'MDA4'!S10,MAX( 'MDA3'!I10,'MDA3'!L10),AL10)), AND(AU10>0,AV10>0,AW10>0,AX10=0), MIN(BA10, MAX('MDA1'!K10,'MDA4'!S10,MAX( 'MDA3'!I10,'MDA3'!L10),W10)), AND(AU10>0,AV10>0,AW10>0,AX10>0), MIN(BA10, MAX('MDA1'!K10,'MDA4'!S10,MAX( 'MDA3'!I10,'MDA3'!L10),W10,AL10)))","v":75129},{"$f":"_xlfn.IFS(AND(AU10=0,AV10=0,AW10=0,AX10=0),0,AND(AU10=0,AV10=0,AW10=0,AX10>0),AO10,AND(AU10=0,AV10=0,AW10>0,AX10=0),Z10,AND(AU10=0,AV10=0,AW10>0,AX10>0),MAX(Z10,AO10),AND(AU10=0,AV10>0,AW10=0,AX10=0),MIN(J10*PROFILE!$G$10,MAX('MDA3'!J10,'MDA3'!J10)),AND(AU10=0,AV10>0,AW10=0,AX10>0),MIN(J10*PROFILE!$G$10,MAX('MDA3'!J10,'MDA3'!M10,AO10)),AND(AU10=0,AV10>0,AW10>0,AX10=0),MIN(J10*PROFILE!$G$10,MAX('MDA3'!J10,'MDA3'!M10,Z10)),AND(AU10=0,AV10>0,AW10>0,AX10>0),MIN(J10*PROFILE!$G$10,MAX('MDA3'!J10,'MDA3'!M10,Z10,AO10)),AND(AU10>0,AV10=0,AW10=0,AX10=0), MIN(BB10,MAX('MDA1'!L10,'MDA4'!T10)),AND(AU10>0,AV10=0,AW10=0,AX10>0), MIN(BB10,MAX('MDA1'!L10,'MDA4'!T10,AO10)),AND(AU10>0,AV10=0,AW10>0,AX10=0),MIN(BB10,MAX('MDA1'!L10,'MDA4'!T10,Z10)),AND(AU10>0,AV10=0,AW10>0,AX10>0),MIN(BB10,MAX('MDA1'!L10,'MDA4'!T10,Z10,AO10)),AND(AU10>0,AV10>0,AW10=0,AX10=0),MIN(BB10, MAX('MDA1'!L10,'MDA4'!T10,MAX( 'MDA3'!J10,'MDA3'!M10))), AND(AU10>0,AV10>0,AW10=0,AX10>0),MIN(BB10, MAX('MDA1'!L10,'MDA4'!T10,MAX( 'MDA3'!J10,'MDA3'!M10),AO10)), AND(AU10>0,AV10>0,AW10>0,AX10=0), MIN(BB10, MAX('MDA1'!L10,'MDA4'!T10,MAX( 'MDA3'!J10,'MDA3'!M10),Z10)), AND(AU10>0,AV10>0,AW10>0,AX10>0), MIN(BB10, MAX('MDA1'!L10,'MDA4'!T10,MAX( 'MDA3'!J10,'MDA3'!M10),Z10,AO10)))","v":104032},{"$f":"SUM(BI10:BK10)","v":179161},{"$f":"IF(BC10<>0,BL10/BC10*100,0)","v":73.663817976722285}]
[{"$f":"IF(COUNTRY_INFO!A11=0,\" \",COUNTRY_INFO!A11)","v":"South Sudan"},{"$f":"IF(COUNTRY_INFO!B11=0,\" \",COUNTRY_INFO!B11)","v":"Central Equatoria"},{"$f":"IF(COUNTRY_INFO!C11=0,\" \",COUNTRY_INFO!C11)","v":"JUBA"},{"$f":"COUNTRY_INFO!M11","v":620103},null,null,{"$f":"'MDA1'!M11+'MDA4'!U11","v":753923},{"$f":"IF(AND(COUNTRY_INFO!H11>0,COUNTRY_INFO!H11<4),IF(D11>G11,G11,D11),0)","v":620103},{"$f":"IF(AND(COUNTRY_INFO!H11>0,COUNTRY_INFO!H11<4), IF(G11/D11*100<>0, IF(G11/D11*100>100,100,G11/D11*100), \"-\"),0)","v":100},{"$f":"COUNTRY_INFO!N11","v":620103},null,null,{"$f":"MAX('MDA1'!M11,MAX('MDA3'!I11,'MDA3'!L11)+MAX('MDA3'!J11,'MDA3'!M11))","v":753923},{"$f":"IF(AND(COUNTRY_INFO!I11>0,COUNTRY_INFO!I11<4),IF(J11>M11,M11,J11),0)","v":620103},{"$f":"IF(AND(COUNTRY_INFO!I11>0,COUNTRY_INFO!I11<4), IF(M11/J11*100<>0, IF(M11/J11*100>100,100,M11/J11*100), \"-\"),0)","v":100},{"$f":"COUNTRY_INFO!R11","v":400214},null,null,{"$f":"MAX('MDA4'!R11,'T1'!K11, MAX(T3_R1!J11,T3_R2!J11,T3_R3!J11))","v":0},{"$f":"IF(AND(COUNTRY_INFO!J11>1,COUNTRY_INFO!J11<99,COUNTRY_INFO!J11<>4,COUNTRY_INFO!J11<>5),IF(COUNTRY_INFO!O11>S11,S11,COUNTRY_INFO!O11),0)","v":0},{"$f":"IF(AND(COUNTRY_INFO!J11>1,COUNTRY_INFO!J11<99,COUNTRY_INFO!J11<>4,COUNTRY_INFO!J11<>5), IF(T11/COUNTRY_INFO!O11*100<>0, IF(T11/COUNTRY_INFO!O11*100>100,100,T11/COUNTRY_INFO!O11*100), \"-\"),0)","v":"-"},{"$f":"MAX('MDA1'!K11,'MDA4'!S11, 'T1'!L11, MAX(T3_R1!K11,T3_R2!K11,T3_R3!K11))","v":366852},{"$f":"IF(AND(COUNTRY_INFO!J11>1,COUNTRY_INFO!J11<99,COUNTRY_INFO!J11<>4,COUNTRY_INFO!J11<>5),IF(COUNTRY_INFO!P11>V11,V11,COUNTRY_INFO!P11),0)","v":191550},{"$f":"IF(AND(COUNTRY_INFO!J11>1,COUNTRY_INFO!J11<99,COUNTRY_INFO!J11<>4,COUNTRY_INFO!J11<>5), IF(W11/COUNTRY_INFO!P11*100<>0, IF(W11/COUNTRY_INFO!P11*100>100,100,W11/COUNTRY_INFO!P11*100), \"-\"),0)","v":100},{"$f":"MAX('MDA1'!L11,'MDA4'!T11, 'T1'!M11, MAX(T3_R1!L11,T3_R2!L11,T3_R3!L11))","v":387071},{"$f":"IF(AND(COUNTRY_INFO!J11>1,COUNTRY_INFO!J11<99,COUNTRY_INFO!J11<>4,COUNTRY_INFO!J11<>5),IF(COUNTRY_INFO!Q11>Y11,Y11,COUNTRY_INFO!Q11),0)","v":140019},{"$f":"IF(AND(COUNTRY_INFO!J11>1,COUNTRY_INFO!J11<99,COUNTRY_INFO!J11<>4,COUNTRY_INFO!J11<>5), IF(Z11/COUNTRY_INFO!Q11*100<>0, IF(Z11/COUNTRY_INFO!Q11*100>100,100,Z11/COUNTRY_INFO!Q11*100), \"-\"),0)","v":100},{"$f":"SUM(S11,V11,Y11)","v":753923},{"$f":"SUM(T11,W11,Z11)","v":331569},{"$f":"IF(AND(COUNTRY_INFO!J11>1,COUNTRY_INFO!J11<99,COUNTRY_INFO!J11<>4,COUNTRY_INFO!J11<>5), IF(AC11/P11*100<>0, IF(AC11/P11*100>100,100,AC11/P11*100), \"-\"),0)","v":82.847926359397732},{"$f":"COUNTRY_INFO!V11","v":442755},null,null,{"$f":"MAX('T1'!K11,'T2'!R11)","v":0},{"$f":"IF(AND(COUNTRY_INFO!K11>1,COUNTRY_INFO!K11<99,COUNTRY_INFO!K11<>4,COUNTRY_INFO!K11<>5),IF(COUNTRY_INFO!S11>AH11,AH11,COUNTRY_INFO!S11),0)","v":0},{"$f":"IF(AND(COUNTRY_INFO!K11>1,COUNTRY_INFO!K11<99,COUNTRY_INFO!K11<>4,COUNTRY_INFO!K11<>5), IF(AI11/COUNTRY_INFO!S11*100<>0, IF(AI11/COUNTRY_INFO!S11*100>100,100,AI11/COUNTRY_INFO!S11*100), \"-\"),0)","v":"-"},{"$f":"MAX('T1'!L11,'T2'!S11)","v":0},{"$f":"IF(AND(COUNTRY_INFO!K11>1,COUNTRY_INFO!K11<99,COUNTRY_INFO!K11<>4,COUNTRY_INFO!K11<>5),IF(COUNTRY_INFO!T11>AK11,AK11,COUNTRY_INFO!T11),0)","v":0},{"$f":"IF(AND(COUNTRY_INFO!K11>1,COUNTRY_INFO!K11<99,COUNTRY_INFO!K11<>4,COUNTRY_INFO!K11<>5), IF(AL11/COUNTRY_INFO!T11*100<>0, IF(AL11/COUNTRY_INFO!T11*100>100,100,AL11/COUNTRY_INFO!T11*100), \"-\"),0)","v":"-"},{"$f":"MAX('T1'!M11,'T2'!T11)","v":0},{"$f":"IF(AND(COUNTRY_INFO!K11>1,COUNTRY_INFO!K11<99,COUNTRY_INFO!K11<>4,COUNTRY_INFO!K11<>5),IF(COUNTRY_INFO!U11>AN11,AN11,COUNTRY_INFO!U11),0)","v":0},{"$f":"IF(AND(COUNTRY_INFO!K11>1,COUNTRY_INFO!K11<99,COUNTRY_INFO!K11<>4,COUNTRY_INFO!K11<>5), IF(AO11/COUNTRY_INFO!U11*100<>0, IF(AO11/COUNTRY_INFO!U11*100>100,100,AO11/COUNTRY_INFO!U11*100), \"-\"),0)","v":"-"},{"$f":"SUM(AH11,AK11,AN11)","v":0},{"$f":"SUM(AI11,AL11,AO11)","v":0},{"$f":"IF(AND(COUNTRY_INFO!K11>1,COUNTRY_INFO!K11<99,COUNTRY_INFO!K11<>4,COUNTRY_INFO!K11<>5), IF(AH11/AE11*100<>0, IF(AR11/AE11*100>100,100,AR11/AE11*100), \"-\"),0)","v":"-"},null,{"$f":"IF(AND(D11<>0, D11<>\"Unknown\",D11<>\"Stopped\",D11<>\"Not required\"),D11/COUNTRY_INFO!D11, 0)","v":1},{"$f":"IF(AND(J11<>0,J11<>\"Unknown\",J11<>\"Stopped\",J11<>\"Not required\"),J11/COUNTRY_INFO!D11, 0)","v":1},{"$f":"IF(AND(P11<>0,P11<>\"Unknown\",P11<>\"Surveillance\",P11<>\"Not required\"),P11/COUNTRY_INFO!R11, 0)","v":1},{"$f":"IF(AND(AE11<>0,AE11<>\"Unknown\",AE11<>\"Surveillance\",AE11<>\"Not required\"),AE11/COUNTRY_INFO!V11, 0)","v":1},{"$f":"IF(AU11>0,D11*PROFILE!$G$7,IF(AV11>0,J11*PROFILE!$G$7,0))","v":17052.790466567225},{"$f":"_xlfn.IFS(OR(AU11>0,AW11>0),COUNTRY_INFO!E11, AV11>0,J11*PROFILE!$G$8,AX11>0,COUNTRY_INFO!S11,COUNTIFS(AU11:AX11,\">0\")=0,0)","v":68645},{"$f":"_xlfn.IFS(OR(AU11>0,AW11>0),COUNTRY_INFO!F11, AV11>0,J11*PROFILE!$G$9,AX11>0,COUNTRY_INFO!T11,COUNTIFS(AU11:AX11,\">0\")=0,0)","v":191550},{"$f":"_xlfn.IFS(AU11>0,COUNTRY_INFO!G11, AND(AV11>0,AW11=0,AX11=0),J11*PROFILE!$G$10,AND(AV11>0,AW11>0,AX11=0), MAX(J11*PROFILE!$G$10,COUNTRY_INFO!Q11),AND(AV11>0,AW11=0,AX11>0), MAX(J11*PROFILE!$G$10,COUNTRY_INFO!U11),AND(AV11=0,AW11>0,AX11>0), MAX(COUNTRY_INFO!Q11,COUNTRY_INFO!U11),AND(AV11=0,AW11>0,AX11=0),COUNTRY_INFO!Q11,AND(AV11=0,AW11=0,AX11>0),COUNTRY_INFO!U11,AND(AV11>0,AW11>0,AX11>0), MAX(J11*PROFILE!$G$10,COUNTRY_INFO!Q11,COUNTRY_INFO!U11),COUNTIFS(AU11:AX11,\">0\")=0,0)","v":342855},{"$f":"SUM(AY11:BB11)","v":620102.79046656727},{"$f":"IF(COUNTIFS(AU11:AX11,\">0\")=0,0, IF(COUNTIFS(AU11:AX11,\">0\")<=IF(AND(OR(D11>=0,D11=\"Not required\",D11=\"Unknown\",D11=\"Stopped\"),D11>0,H11>0),1,0)+IF(AND(OR(J11>=0,J11=\"Not required\",J11=\"Unknown\",J11=\"Stopped\"),J11>0,N11>0),1,0)+IF(AND(OR(P11>=0,P11=\"Not required\",P11=\"Surveillance\",P11=\"Unknown\"),P11>0,AC11>0),1,0)+IF(AND(OR(AE11>=0,AE11=\"Not required\",AE11=\"Surveillance\",AE11=\"Unknown\"),AE11>0,AR11>0),1,0),\"Y\",0))","v":0},{"$f":"MAX('MDA4'!R11,S11,AH11)","v":0},{"$f":"MAX('MDA1'!K11,'MDA4'!S11,'MDA3'!I11,'MDA3'!L11,V11,AK11)","v":366852},{"$f":"MAX('MDA1'!L11,'MDA4'!T11,'MDA3'!J11,'MDA3'!M11,Y11,AN11)","v":387071},{"$f":"SUM(BE11:BG11)","v":753923},{"$f":"_xlfn.IFS(AND(AU11=0,AW11=0,AX11=0),0,AND(AU11=0,AW11=0,AX11>0),AI11,AND(AU11=0,AW11>0,AX11=0),T11,AND(AU11=0,AW11>0,AX11>0),MAX(T11,AI11),AND(AU11>0,AW11=0,AX11=0),MIN('MDA4'!R11,AZ11),AND(AU11>0,AW11=0,AX11>0),MIN(MAX('MDA4'!R11,AI11),AZ11),AND(AU11>0,AW11>0,AX11=0),MIN(MAX('MDA4'!R11,T11),AZ11),AND(AU11>0,AW11>0,AX11>0),MIN(MAX('MDA4'!R11,AI11,T11),AZ11))","v":0},{"$f":"_xlfn.IFS(AND(AU11=0,AV11=0,AW11=0,AX11=0),0,AND(AU11=0,AV11=0,AW11=0,AX11>0),AL11,AND(AU11=0,AV11=0,AW11>0,AX11=0),W11,AND(AU11=0,AV11=0,AW11>0,AX11>0),MAX(W11,AL11),AND(AU11=0,AV11>0,AW11=0,AX11=0),MIN(J11*PROFILE!$G$9,MAX('MDA3'!I11,'MDA3'!L11)),AND(AU11=0,AV11>0,AW11=0,AX11>0),MIN(J11*PROFILE!$G$9,MAX('MDA3'!I11,'MDA3'!L11,AL11)),AND(AU11=0,AV11>0,AW11>0,AX11=0),MIN(J11*PROFILE!$G$9,MAX('MDA3'!I11,'MDA3'!L11,W11)),AND(AU11=0,AV11>0,AW11>0,AX11>0),MIN(J11*PROFILE!$G$9,MAX('MDA3'!I11,'MDA3'!L11,W11,AL11)),AND(AU11>0,AV11=0,AW11=0,AX11=0), MIN(BA11,MAX('MDA1'!K11,'MDA4'!S11)),AND(AU11>0,AV11=0,AW11=0,AX11>0), MIN(BA11,MAX('MDA1'!K11,'MDA4'!S11,AL11)),AND(AU11>0,AV11=0,AW11>0,AX11=0),MIN(BA11,MAX('MDA1'!K11,'MDA4'!S11,W11)),AND(AU11>0,AV11=0,AW11>0,AX11>0),MIN(BA11,MAX('MDA1'!K11,'MDA4'!S11,W11,AL11)),AND(AU11>0,AV11>0,AW11=0,AX11=0),MIN(BA11, MAX('MDA1'!K11,'MDA4'!S11,MAX('MDA3'!I11,'MDA3'!L11))), AND(AU11>0,AV11>0,AW11=0,AX11>0),MIN(BA11, MAX('MDA1'!K11,'MDA4'!S11,MAX( 'MDA3'!I11,'MDA3'!L11),AL11)), AND(AU11>0,AV11>0,AW11>0,AX11=0), MIN(BA11, MAX('MDA1'!K11,'MDA4'!S11,MAX( 'MDA3'!I11,'MDA3'!L11),W11)), AND(AU11>0,AV11>0,AW11>0,AX11>0), MIN(BA11, MAX('MDA1'!K11,'MDA4'!S11,MAX( 'MDA3'!I11,'MDA3'!L11),W11,AL11)))","v":191550},{"$f":"_xlfn.IFS(AND(AU11=0,AV11=0,AW11=0,AX11=0),0,AND(AU11=0,AV11=0,AW11=0,AX11>0),AO11,AND(AU11=0,AV11=0,AW11>0,AX11=0),Z11,AND(AU11=0,AV11=0,AW11>0,AX11>0),MAX(Z11,AO11),AND(AU11=0,AV11>0,AW11=0,AX11=0),MIN(J11*PROFILE!$G$10,MAX('MDA3'!J11,'MDA3'!J11)),AND(AU11=0,AV11>0,AW11=0,AX11>0),MIN(J11*PROFILE!$G$10,MAX('MDA3'!J11,'MDA3'!M11,AO11)),AND(AU11=0,AV11>0,AW11>0,AX11=0),MIN(J11*PROFILE!$G$10,MAX('MDA3'!J11,'MDA3'!M11,Z11)),AND(AU11=0,AV11>0,AW11>0,AX11>0),MIN(J11*PROFILE!$G$10,MAX('MDA3'!J11,'MDA3'!M11,Z11,AO11)),AND(AU11>0,AV11=0,AW11=0,AX11=0), MIN(BB11,MAX('MDA1'!L11,'MDA4'!T11)),AND(AU11>0,AV11=0,AW11=0,AX11>0), MIN(BB11,MAX('MDA1'!L11,'MDA4'!T11,AO11)),AND(AU11>0,AV11=0,AW11>0,AX11=0),MIN(BB11,MAX('MDA1'!L11,'MDA4'!T11,Z11)),AND(AU11>0,AV11=0,AW11>0,AX11>0),MIN(BB11,MAX('MDA1'!L11,'MDA4'!T11,Z11,AO11)),AND(AU11>0,AV11>0,AW11=0,AX11=0),MIN(BB11, MAX('MDA1'!L11,'MDA4'!T11,MAX( 'MDA3'!J11,'MDA3'!M11))), AND(AU11>0,AV11>0,AW11=0,AX11>0),MIN(BB11, MAX('MDA1'!L11,'MDA4'!T11,MAX( 'MDA3'!J11,'MDA3'!M11),AO11)), AND(AU11>0,AV11>0,AW11>0,AX11=0), MIN(BB11, MAX('MDA1'!L11,'MDA4'!T11,MAX( 'MDA3'!J11,'MDA3'!M11),Z11)), AND(AU11>0,AV11>0,AW11>0,AX11>0), MIN(BB11, MAX('MDA1'!L11,'MDA4'!T11,MAX( 'MDA3'!J11,'MDA3'!M11),Z11,AO11)))","v":342855},{"$f":"SUM(BI11:BK11)","v":534405},{"$f":"IF(BC11<>0,BL11/BC11*100,0)","v":86.180066952756661}]
[{"$f":"IF(COUNTRY_INFO!A12=0,\" \",COUNTRY_INFO!A12)","v":"South Sudan"},{"$f":"IF(COUNTRY_INFO!B12=0,\" \",COUNTRY_INFO!B12)","v":"Central Equatoria"},{"$f":"IF(COUNTRY_INFO!C12=0,\" \",COUNTRY_INFO!C12)","v":"LAINYA"},{"$f":"COUNTRY_INFO!M12","v":150384.69680000001},null,null,{"$f":"'MDA1'!M12+'MDA4'!U12","v":47251},{"$f":"IF(AND(COUNTRY_INFO!H12>0,COUNTRY_INFO!H12<4),IF(D12>G12,G12,D12),0)","v":47251},{"$f":"IF(AND(COUNTRY_INFO!H12>0,COUNTRY_INFO!H12<4), IF(G12/D12*100<>0, IF(G12/D12*100>100,100,G12/D12*100), \"-\"),0)","v":31.420085291550752},{"$f":"COUNTRY_INFO!N12","v":150384.69680000001},null,null,{"$f":"MAX('MDA1'!M12,MAX('MDA3'!I12,'MDA3'!L12)+MAX('MDA3'!J12,'MDA3'!M12))","v":47251},{"$f":"IF(AND(COUNTRY_INFO!I12>0,COUNTRY_INFO!I12<4),IF(J12>M12,M12,J12),0)","v":47251},{"$f":"IF(AND(COUNTRY_INFO!I12>0,COUNTRY_INFO!I12<4), IF(M12/J12*100<>0, IF(M12/J12*100>100,100,M12/J12*100), \"-\"),0)","v":31.420085291550752},{"$f":"COUNTRY_INFO!R12","v":97059},null,null,{"$f":"MAX('MDA4'!R12,'T1'!K12, MAX(T3_R1!J12,T3_R2!J12,T3_R3!J12))","v":0},{"$f":"IF(AND(COUNTRY_INFO!J12>1,COUNTRY_INFO!J12<99,COUNTRY_INFO!J12<>4,COUNTRY_INFO!J12<>5),IF(COUNTRY_INFO!O12>S12,S12,COUNTRY_INFO!O12),0)","v":0},{"$f":"IF(AND(COUNTRY_INFO!J12>1,COUNTRY_INFO!J12<99,COUNTRY_INFO!J12<>4,COUNTRY_INFO!J12<>5), IF(T12/COUNTRY_INFO!O12*100<>0, IF(T12/COUNTRY_INFO!O12*100>100,100,T12/COUNTRY_INFO!O12*100), \"-\"),0)","v":"-"},{"$f":"MAX('MDA1'!K12,'MDA4'!S12, 'T1'!L12, MAX(T3_R1!K12,T3_R2!K12,T3_R3!K12))","v":23935},{"$f":"IF(AND(COUNTRY_INFO!J12>1,COUNTRY_INFO!J12<99,COUNTRY_INFO!J12<>4,COUNTRY_INFO!J12<>5),IF(COUNTRY_INFO!P12>V12,V12,COUNTRY_INFO!P12),0)","v":23935},{"$f":"IF(AND(COUNTRY_INFO!J12>1,COUNTRY_INFO!J12<99,COUNTRY_INFO!J12<>4,COUNTRY_INFO!J12<>5), IF(W12/COUNTRY_INFO!P12*100<>0, IF(W12/COUNTRY_INFO!P12*100>100,100,W12/COUNTRY_INFO!P12*100), \"-\"),0)","v":51.524088345460029},{"$f":"MAX('MDA1'!L12,'MDA4'!T12, 'T1'!M12, MAX(T3_R1!L12,T3_R2!L12,T3_R3!L12))","v":23316},{"$f":"IF(AND(COUNTRY_INFO!J12>1,COUNTRY_INFO!J12<99,COUNTRY_INFO!J12<>4,COUNTRY_INFO!J12<>5),IF(COUNTRY_INFO!Q12>Y12,Y12,COUNTRY_INFO!Q12),0)","v":23316},{"$f":"IF(AND(COUNTRY_INFO!J12>1,COUNTRY_INFO!J12<99,COUNTRY_INFO!J12<>4,COUNTRY_INFO!J12<>5), IF(Z12/COUNTRY_INFO!Q12*100<>0, IF(Z12/COUNTRY_INFO!Q12*100>100,100,Z12/COUNTRY_INFO!Q12*100), \"-\"),0)","v":68.663309479636013},47251,47251,{"$f":"IF(AND(COUNTRY_INFO!J12>1,COUNTRY_INFO!J12<99,COUNTRY_INFO!J12<>4,COUNTRY_INFO!J12<>5), IF(AC12/P12*100<>0, IF(AC12/P12*100>100,100,AC12/P12*100), \"-\"),0)","v":48.682759970739447},{"$f":"COUNTRY_INFO!V12","v":139712},null,null,{"$f":"MAX('T1'!K12,'T2'!R12)","v":0},{"$f":"IF(AND(COUNTRY_INFO!K12>1,COUNTRY_INFO!K12<99,COUNTRY_INFO!K12<>4,COUNTRY_INFO!K12<>5),IF(COUNTRY_INFO!S12>AH12,AH12,COUNTRY_INFO!S12),0)","v":0},{"$f":"IF(AND(COUNTRY_INFO!K12>1,COUNTRY_INFO!K12<99,COUNTRY_INFO!K12<>4,COUNTRY_INFO!K12<>5), IF(AI12/COUNTRY_INFO!S12*100<>0, IF(AI12/COUNTRY_INFO!S12*100>100,100,AI12/COUNTRY_INFO!S12*100), \"-\"),0)","v":"-"},{"$f":"MAX('T1'!L12,'T2'!S12)","v":0},{"$f":"IF(AND(COUNTRY_INFO!K12>1,COUNTRY_INFO!K12<99,COUNTRY_INFO!K12<>4,COUNTRY_INFO!K12<>5),IF(COUNTRY_INFO!T12>AK12,AK12,COUNTRY_INFO!T12),0)","v":0},{"$f":"IF(AND(COUNTRY_INFO!K12>1,COUNTRY_INFO!K12<99,COUNTRY_INFO!K12<>4,COUNTRY_INFO!K12<>5), IF(AL12/COUNTRY_INFO!T12*100<>0, IF(AL12/COUNTRY_INFO!T12*100>100,100,AL12/COUNTRY_INFO!T12*100), \"-\"),0)","v":"-"},{"$f":"MAX('T1'!M12,'T2'!T12)","v":0},{"$f":"IF(AND(COUNTRY_INFO!K12>1,COUNTRY_INFO!K12<99,COUNTRY_INFO!K12<>4,COUNTRY_INFO!K12<>5),IF(COUNTRY_INFO!U12>AN12,AN12,COUNTRY_INFO!U12),0)","v":0},{"$f":"IF(AND(COUNTRY_INFO!K12>1,COUNTRY_INFO!K12<99,COUNTRY_INFO!K12<>4,COUNTRY_INFO!K12<>5), IF(AO12/COUNTRY_INFO!U12*100<>0, IF(AO12/COUNTRY_INFO!U12*100>100,100,AO12/COUNTRY_INFO!U12*100), \"-\"),0)","v":"-"},0,0,{"$f":"IF(AND(COUNTRY_INFO!K12>1,COUNTRY_INFO!K12<99,COUNTRY_INFO!K12<>4,COUNTRY_INFO!K12<>5), IF(AH12/AE12*100<>0, IF(AR12/AE12*100>100,100,AR12/AE12*100), \"-\"),0)","v":"-"},null,{"$f":"IF(AND(D12<>0, D12<>\"Unknown\",D12<>\"Stopped\",D12<>\"Not required\"),D12/COUNTRY_INFO!D12, 0)","v":1},{"$f":"IF(AND(J12<>0,J12<>\"Unknown\",J12<>\"Stopped\",J12<>\"Not required\"),J12/COUNTRY_INFO!D12, 0)","v":1},{"$f":"IF(AND(P12<>0,P12<>\"Unknown\",P12<>\"Surveillance\",P12<>\"Not required\"),P12/COUNTRY_INFO!R12, 0)","v":1},{"$f":"IF(AND(AE12<>0,AE12<>\"Unknown\",AE12<>\"Surveillance\",AE12<>\"Not required\"),AE12/COUNTRY_INFO!V12, 0)","v":1},{"$f":"IF(AU12>0,D12*PROFILE!$G$7,IF(AV12>0,J12*PROFILE!$G$7,0))","v":4135.5689682337334},{"$f":"_xlfn.IFS(OR(AU12>0,AW12>0),COUNTRY_INFO!E12, AV12>0,J12*PROFILE!$G$8,AX12>0,COUNTRY_INFO!S12,COUNTIFS(AU12:AX12,\">0\")=0,0)","v":16648},{"$f":"_xlfn.IFS(OR(AU12>0,AW12>0),COUNTRY_INFO!F12, AV12>0,J12*PROFILE!$G$9,AX12>0,COUNTRY_INFO!T12,COUNTIFS(AU12:AX12,\">0\")=0,0)","v":46454},{"$f":"_xlfn.IFS(AU12>0,COUNTRY_INFO!G12, AND(AV12>0,AW12=0,AX12=0),J12*PROFILE!$G$10,AND(AV12>0,AW12>0,AX12=0), MAX(J12*PROFILE!$G$10,COUNTRY_INFO!Q12),AND(AV12>0,AW12=0,AX12>0), MAX(J12*PROFILE!$G$10,COUNTRY_INFO!U12),AND(AV12=0,AW12>0,AX12>0), MAX(COUNTRY_INFO!Q12,COUNTRY_INFO!U12),AND(AV12=0,AW12>0,AX12=0),COUNTRY_INFO!Q12,AND(AV12=0,AW12=0,AX12>0),COUNTRY_INFO!U12,AND(AV12>0,AW12>0,AX12>0), MAX(J12*PROFILE!$G$10,COUNTRY_INFO!Q12,COUNTRY_INFO!U12),COUNTIFS(AU12:AX12,\">0\")=0,0)","v":83148},150385.56896823374,0,{"$f":"MAX('MDA4'!R12,S12,AH12)","v":0},{"$f":"MAX('MDA1'!K12,'MDA4'!S12,'MDA3'!I12,'MDA3'!L12,V12,AK12)","v":23935},{"$f":"MAX('MDA1'!L12,'MDA4'!T12,'MDA3'!J12,'MDA3'!M12,Y12,AN12)","v":23316},47251,{"$f":"_xlfn.IFS(AND(AU12=0,AW12=0,AX12=0),0,AND(AU12=0,AW12=0,AX12>0),AI12,AND(AU12=0,AW12>0,AX12=0),T12,AND(AU12=0,AW12>0,AX12>0),MAX(T12,AI12),AND(AU12>0,AW12=0,AX12=0),MIN('MDA4'!R12,AZ12),AND(AU12>0,AW12=0,AX12>0),MIN(MAX('MDA4'!R12,AI12),AZ12),AND(AU12>0,AW12>0,AX12=0),MIN(MAX('MDA4'!R12,T12),AZ12),AND(AU12>0,AW12>0,AX12>0),MIN(MAX('MDA4'!R12,AI12,T12),AZ12))","v":0},{"$f":"_xlfn.IFS(AND(AU12=0,AV12=0,AW12=0,AX12=0),0,AND(AU12=0,AV12=0,AW12=0,AX12>0),AL12,AND(AU12=0,AV12=0,AW12>0,AX12=0),W12,AND(AU12=0,AV12=0,AW12>0,AX12>0),MAX(W12,AL12),AND(AU12=0,AV12>0,AW12=0,AX12=0),MIN(J12*PROFILE!$G$9,MAX('MDA3'!I12,'MDA3'!L12)),AND(AU12=0,AV12>0,AW12=0,AX12>0),MIN(J12*PROFILE!$G$9,MAX('MDA3'!I12,'MDA3'!L12,AL12)),AND(AU12=0,AV12>0,AW12>0,AX12=0),MIN(J12*PROFILE!$G$9,MAX('MDA3'!I12,'MDA3'!L12,W12)),AND(AU12=0,AV12>0,AW12>0,AX12>0),MIN(J12*PROFILE!$G$9,MAX('MDA3'!I12,'MDA3'!L12,W12,AL12)),AND(AU12>0,AV12=0,AW12=0,AX12=0), MIN(BA12,MAX('MDA1'!K12,'MDA4'!S12)),AND(AU12>0,AV12=0,AW12=0,AX12>0), MIN(BA12,MAX('MDA1'!K12,'MDA4'!S12,AL12)),AND(AU12>0,AV12=0,AW12>0,AX12=0),MIN(BA12,MAX('MDA1'!K12,'MDA4'!S12,W12)),AND(AU12>0,AV12=0,AW12>0,AX12>0),MIN(BA12,MAX('MDA1'!K12,'MDA4'!S12,W12,AL12)),AND(AU12>0,AV12>0,AW12=0,AX12=0),MIN(BA12, MAX('MDA1'!K12,'MDA4'!S12,MAX('MDA3'!I12,'MDA3'!L12))), AND(AU12>0,AV12>0,AW12=0,AX12>0),MIN(BA12, MAX('MDA1'!K12,'MDA4'!S12,MAX( 'MDA3'!I12,'MDA3'!L12),AL12)), AND(AU12>0,AV12>0,AW12>0,AX12=0), MIN(BA12, MAX('MDA1'!K12,'MDA4'!S12,MAX( 'MDA3'!I12,'MDA3'!L12),W12)), AND(AU12>0,AV12>0,AW12>0,AX12>0), MIN(BA12, MAX('MDA1'!K12,'MDA4'!S12,MAX( 'MDA3'!I12,'MDA3'!L12),W12,AL12)))","v":23935},{"$f":"_xlfn.IFS(AND(AU12=0,AV12=0,AW12=0,AX12=0),0,AND(AU12=0,AV12=0,AW12=0,AX12>0),AO12,AND(AU12=0,AV12=0,AW12>0,AX12=0),Z12,AND(AU12=0,AV12=0,AW12>0,AX12>0),MAX(Z12,AO12),AND(AU12=0,AV12>0,AW12=0,AX12=0),MIN(J12*PROFILE!$G$10,MAX('MDA3'!J12,'MDA3'!J12)),AND(AU12=0,AV12>0,AW12=0,AX12>0),MIN(J12*PROFILE!$G$10,MAX('MDA3'!J12,'MDA3'!M12,AO12)),AND(AU12=0,AV12>0,AW12>0,AX12=0),MIN(J12*PROFILE!$G$10,MAX('MDA3'!J12,'MDA3'!M12,Z12)),AND(AU12=0,AV12>0,AW12>0,AX12>0),MIN(J12*PROFILE!$G$10,MAX('MDA3'!J12,'MDA3'!M12,Z12,AO12)),AND(AU12>0,AV12=0,AW12=0,AX12=0), MIN(BB12,MAX('MDA1'!L12,'MDA4'!T12)),AND(AU12>0,AV12=0,AW12=0,AX12>0), MIN(BB12,MAX('MDA1'!L12,'MDA4'!T12,AO12)),AND(AU12>0,AV12=0,AW12>0,AX12=0),MIN(BB12,MAX('MDA1'!L12,'MDA4'!T12,Z12)),AND(AU12>0,AV12=0,AW12>0,AX12>0),MIN(BB12,MAX('MDA1'!L12,'MDA4'!T12,Z12,AO12)),AND(AU12>0,AV12>0,AW12=0,AX12=0),MIN(BB12, MAX('MDA1'!L12,'MDA4'!T12,MAX( 'MDA3'!J12,'MDA3'!M12))), AND(AU12>0,AV12>0,AW12=0,AX12>0),MIN(BB12, MAX('MDA1'!L12,'MDA4'!T12,MAX( 'MDA3'!J12,'MDA3'!M12),AO12)), AND(AU12>0,AV12>0,AW12>0,AX12=0), MIN(BB12, MAX('MDA1'!L12,'MDA4'!T12,MAX( 'MDA3'!J12,'MDA3'!M12),Z12)), AND(AU12>0,AV12>0,AW12>0,AX12>0), MIN(BB12, MAX('MDA1'!L12,'MDA4'!T12,MAX( 'MDA3'!J12,'MDA3'!M12),Z12,AO12)))","v":23316},47251,31.419903069277165]
[{"$f":"IF(COUNTRY_INFO!A13=0,\" \",COUNTRY_INFO!A13)","v":"South Sudan"},{"$f":"IF(COUNTRY_INFO!B13=0,\" \",COUNTRY_INFO!B13)","v":"Central Equatoria"},{"$f":"IF(COUNTRY_INFO!C13=0,\" \",COUNTRY_INFO!C13)","v":"YEI"},{"$f":"COUNTRY_INFO!M13","v":339757.46860000002},null,null,{"$f":"'MDA1'!M13+'MDA4'!U13","v":81876},{"$f":"IF(AND(COUNTRY_INFO!H13>0,COUNTRY_INFO!H13<4),IF(D13>G13,G13,D13),0)","v":81876},{"$f":"IF(AND(COUNTRY_INFO!H13>0,COUNTRY_INFO!H13<4), IF(G13/D13*100<>0, IF(G13/D13*100>100,100,G13/D13*100), \"-\"),0)","v":24.098366501662827},{"$f":"COUNTRY_INFO!N13","v":339757.46860000002},null,null,{"$f":"MAX('MDA1'!M13,MAX('MDA3'!I13,'MDA3'!L13)+MAX('MDA3'!J13,'MDA3'!M13))","v":81876},{"$f":"IF(AND(COUNTRY_INFO!I13>0,COUNTRY_INFO!I13<4),IF(J13>M13,M13,J13),0)","v":81876},{"$f":"IF(AND(COUNTRY_INFO!I13>0,COUNTRY_INFO!I13<4), IF(M13/J13*100<>0, IF(M13/J13*100>100,100,M13/J13*100), \"-\"),0)","v":24.098366501662827},{"$f":"COUNTRY_INFO!R13","v":219279},null,null,{"$f":"MAX('MDA4'!R13,'T1'!K13, MAX(T3_R1!J13,T3_R2!J13,T3_R3!J13))","v":0},{"$f":"IF(AND(COUNTRY_INFO!J13>1,COUNTRY_INFO!J13<99,COUNTRY_INFO!J13<>4,COUNTRY_INFO!J13<>5),IF(COUNTRY_INFO!O13>S13,S13,COUNTRY_INFO!O13),0)","v":0},{"$f":"IF(AND(COUNTRY_INFO!J13>1,COUNTRY_INFO!J13<99,COUNTRY_INFO!J13<>4,COUNTRY_INFO!J13<>5), IF(T13/COUNTRY_INFO!O13*100<>0, IF(T13/COUNTRY_INFO!O13*100>100,100,T13/COUNTRY_INFO!O13*100), \"-\"),0)","v":"-"},{"$f":"MAX('MDA1'!K13,'MDA4'!S13, 'T1'!L13, MAX(T3_R1!K13,T3_R2!K13,T3_R3!K13))","v":40468},{"$f":"IF(AND(COUNTRY_INFO!J13>1,COUNTRY_INFO!J13<99,COUNTRY_INFO!J13<>4,COUNTRY_INFO!J13<>5),IF(COUNTRY_INFO!P13>V13,V13,COUNTRY_INFO!P13),0)","v":40468},{"$f":"IF(AND(COUNTRY_INFO!J13>1,COUNTRY_INFO!J13<99,COUNTRY_INFO!J13<>4,COUNTRY_INFO!J13<>5), IF(W13/COUNTRY_INFO!P13*100<>0, IF(W13/COUNTRY_INFO!P13*100>100,100,W13/COUNTRY_INFO!P13*100), \"-\"),0)","v":38.558946556011854},{"$f":"MAX('MDA1'!L13,'MDA4'!T13, 'T1'!M13, MAX(T3_R1!L13,T3_R2!L13,T3_R3!L13))","v":41408},{"$f":"IF(AND(COUNTRY_INFO!J13>1,COUNTRY_INFO!J13<99,COUNTRY_INFO!J13<>4,COUNTRY_INFO!J13<>5),IF(COUNTRY_INFO!Q13>Y13,Y13,COUNTRY_INFO!Q13),0)","v":41408},{"$f":"IF(AND(COUNTRY_INFO!J13>1,COUNTRY_INFO!J13<99,COUNTRY_INFO!J13<>4,COUNTRY_INFO!J13<>5), IF(Z13/COUNTRY_INFO!Q13*100<>0, IF(Z13/COUNTRY_INFO!Q13*100>100,100,Z13/COUNTRY_INFO!Q13*100), \"-\"),0)","v":53.974999022380956},81876,81876,{"$f":"IF(AND(COUNTRY_INFO!J13>1,COUNTRY_INFO!J13<99,COUNTRY_INFO!J13<>4,COUNTRY_INFO!J13<>5), IF(AC13/P13*100<>0, IF(AC13/P13*100>100,100,AC13/P13*100), \"-\"),0)","v":37.33873284719467},{"$f":"COUNTRY_INFO!V13","v":315647},null,null,{"$f":"MAX('T1'!K13,'T2'!R13)","v":0},{"$f":"IF(AND(COUNTRY_INFO!K13>1,COUNTRY_INFO!K13<99,COUNTRY_INFO!K13<>4,COUNTRY_INFO!K13<>5),IF(COUNTRY_INFO!S13>AH13,AH13,COUNTRY_INFO!S13),0)","v":0},{"$f":"IF(AND(COUNTRY_INFO!K13>1,COUNTRY_INFO!K13<99,COUNTRY_INFO!K13<>4,COUNTRY_INFO!K13<>5), IF(AI13/COUNTRY_INFO!S13*100<>0, IF(AI13/COUNTRY_INFO!S13*100>100,100,AI13/COUNTRY_INFO!S13*100), \"-\"),0)","v":"-"},{"$f":"MAX('T1'!L13,'T2'!S13)","v":0},{"$f":"IF(AND(COUNTRY_INFO!K13>1,COUNTRY_INFO!K13<99,COUNTRY_INFO!K13<>4,COUNTRY_INFO!K13<>5),IF(COUNTRY_INFO!T13>AK13,AK13,COUNTRY_INFO!T13),0)","v":0},{"$f":"IF(AND(COUNTRY_INFO!K13>1,COUNTRY_INFO!K13<99,COUNTRY_INFO!K13<>4,COUNTRY_INFO!K13<>5), IF(AL13/COUNTRY_INFO!T13*100<>0, IF(AL13/COUNTRY_INFO!T13*100>100,100,AL13/COUNTRY_INFO!T13*100), \"-\"),0)","v":"-"},{"$f":"MAX('T1'!M13,'T2'!T13)","v":0},{"$f":"IF(AND(COUNTRY_INFO!K13>1,COUNTRY_INFO!K13<99,COUNTRY_INFO!K13<>4,COUNTRY_INFO!K13<>5),IF(COUNTRY_INFO!U13>AN13,AN13,COUNTRY_INFO!U13),0)","v":0},{"$f":"IF(AND(COUNTRY_INFO!K13>1,COUNTRY_INFO!K13<99,COUNTRY_INFO!K13<>4,COUNTRY_INFO!K13<>5), IF(AO13/COUNTRY_INFO!U13*100<>0, IF(AO13/COUNTRY_INFO!U13*100>100,100,AO13/COUNTRY_INFO!U13*100), \"-\"),0)","v":"-"},0,0,{"$f":"IF(AND(COUNTRY_INFO!K13>1,COUNTRY_INFO!K13<99,COUNTRY_INFO!K13<>4,COUNTRY_INFO!K13<>5), IF(AH13/AE13*100<>0, IF(AR13/AE13*100>100,100,AR13/AE13*100), \"-\"),0)","v":"-"},null,{"$f":"IF(AND(D13<>0, D13<>\"Unknown\",D13<>\"Stopped\",D13<>\"Not required\"),D13/COUNTRY_INFO!D13, 0)","v":1},{"$f":"IF(AND(J13<>0,J13<>\"Unknown\",J13<>\"Stopped\",J13<>\"Not required\"),J13/COUNTRY_INFO!D13, 0)","v":1},{"$f":"IF(AND(P13<>0,P13<>\"Unknown\",P13<>\"Surveillance\",P13<>\"Not required\"),P13/COUNTRY_INFO!R13, 0)","v":1},{"$f":"IF(AND(AE13<>0,AE13<>\"Unknown\",AE13<>\"Surveillance\",AE13<>\"Not required\"),AE13/COUNTRY_INFO!V13, 0)","v":1},{"$f":"IF(AU13>0,D13*PROFILE!$G$7,IF(AV13>0,J13*PROFILE!$G$7,0))","v":9343.307356176465},{"$f":"_xlfn.IFS(OR(AU13>0,AW13>0),COUNTRY_INFO!E13, AV13>0,J13*PROFILE!$G$8,AX13>0,COUNTRY_INFO!S13,COUNTIFS(AU13:AX13,\">0\")=0,0)","v":37611},{"$f":"_xlfn.IFS(OR(AU13>0,AW13>0),COUNTRY_INFO!F13, AV13>0,J13*PROFILE!$G$9,AX13>0,COUNTRY_INFO!T13,COUNTIFS(AU13:AX13,\">0\")=0,0)","v":104951},{"$f":"_xlfn.IFS(AU13>0,COUNTRY_INFO!G13, AND(AV13>0,AW13=0,AX13=0),J13*PROFILE!$G$10,AND(AV13>0,AW13>0,AX13=0), MAX(J13*PROFILE!$G$10,COUNTRY_INFO!Q13),AND(AV13>0,AW13=0,AX13>0), MAX(J13*PROFILE!$G$10,COUNTRY_INFO!U13),AND(AV13=0,AW13>0,AX13>0), MAX(COUNTRY_INFO!Q13,COUNTRY_INFO!U13),AND(AV13=0,AW13>0,AX13=0),COUNTRY_INFO!Q13,AND(AV13=0,AW13=0,AX13>0),COUNTRY_INFO!U13,AND(AV13>0,AW13>0,AX13>0), MAX(J13*PROFILE!$G$10,COUNTRY_INFO!Q13,COUNTRY_INFO!U13),COUNTIFS(AU13:AX13,\">0\")=0,0)","v":187852},339757.30735617643,0,{"$f":"MAX('MDA4'!R13,S13,AH13)","v":0},{"$f":"MAX('MDA1'!K13,'MDA4'!S13,'MDA3'!I13,'MDA3'!L13,V13,AK13)","v":40468},{"$f":"MAX('MDA1'!L13,'MDA4'!T13,'MDA3'!J13,'MDA3'!M13,Y13,AN13)","v":41408},81876,{"$f":"_xlfn.IFS(AND(AU13=0,AW13=0,AX13=0),0,AND(AU13=0,AW13=0,AX13>0),AI13,AND(AU13=0,AW13>0,AX13=0),T13,AND(AU13=0,AW13>0,AX13>0),MAX(T13,AI13),AND(AU13>0,AW13=0,AX13=0),MIN('MDA4'!R13,AZ13),AND(AU13>0,AW13=0,AX13>0),MIN(MAX('MDA4'!R13,AI13),AZ13),AND(AU13>0,AW13>0,AX13=0),MIN(MAX('MDA4'!R13,T13),AZ13),AND(AU13>0,AW13>0,AX13>0),MIN(MAX('MDA4'!R13,AI13,T13),AZ13))","v":0},{"$f":"_xlfn.IFS(AND(AU13=0,AV13=0,AW13=0,AX13=0),0,AND(AU13=0,AV13=0,AW13=0,AX13>0),AL13,AND(AU13=0,AV13=0,AW13>0,AX13=0),W13,AND(AU13=0,AV13=0,AW13>0,AX13>0),MAX(W13,AL13),AND(AU13=0,AV13>0,AW13=0,AX13=0),MIN(J13*PROFILE!$G$9,MAX('MDA3'!I13,'MDA3'!L13)),AND(AU13=0,AV13>0,AW13=0,AX13>0),MIN(J13*PROFILE!$G$9,MAX('MDA3'!I13,'MDA3'!L13,AL13)),AND(AU13=0,AV13>0,AW13>0,AX13=0),MIN(J13*PROFILE!$G$9,MAX('MDA3'!I13,'MDA3'!L13,W13)),AND(AU13=0,AV13>0,AW13>0,AX13>0),MIN(J13*PROFILE!$G$9,MAX('MDA3'!I13,'MDA3'!L13,W13,AL13)),AND(AU13>0,AV13=0,AW13=0,AX13=0), MIN(BA13,MAX('MDA1'!K13,'MDA4'!S13)),AND(AU13>0,AV13=0,AW13=0,AX13>0), MIN(BA13,MAX('MDA1'!K13,'MDA4'!S13,AL13)),AND(AU13>0,AV13=0,AW13>0,AX13=0),MIN(BA13,MAX('MDA1'!K13,'MDA4'!S13,W13)),AND(AU13>0,AV13=0,AW13>0,AX13>0),MIN(BA13,MAX('MDA1'!K13,'MDA4'!S13,W13,AL13)),AND(AU13>0,AV13>0,AW13=0,AX13=0),MIN(BA13, MAX('MDA1'!K13,'MDA4'!S13,MAX('MDA3'!I13,'MDA3'!L13))), AND(AU13>0,AV13>0,AW13=0,AX13>0),MIN(BA13, MAX('MDA1'!K13,'MDA4'!S13,MAX( 'MDA3'!I13,'MDA3'!L13),AL13)), AND(AU13>0,AV13>0,AW13>0,AX13=0), MIN(BA13, MAX('MDA1'!K13,'MDA4'!S13,MAX( 'MDA3'!I13,'MDA3'!L13),W13)), AND(AU13>0,AV13>0,AW13>0,AX13>0), MIN(BA13, MAX('MDA1'!K13,'MDA4'!S13,MAX( 'MDA3'!I13,'MDA3'!L13),W13,AL13)))","v":40468},{"$f":"_xlfn.IFS(AND(AU13=0,AV13=0,AW13=0,AX13=0),0,AND(AU13=0,AV13=0,AW13=0,AX13>0),AO13,AND(AU13=0,AV13=0,AW13>0,AX13=0),Z13,AND(AU13=0,AV13=0,AW13>0,AX13>0),MAX(Z13,AO13),AND(AU13=0,AV13>0,AW13=0,AX13=0),MIN(J13*PROFILE!$G$10,MAX('MDA3'!J13,'MDA3'!J13)),AND(AU13=0,AV13>0,AW13=0,AX13>0),MIN(J13*PROFILE!$G$10,MAX('MDA3'!J13,'MDA3'!M13,AO13)),AND(AU13=0,AV13>0,AW13>0,AX13=0),MIN(J13*PROFILE!$G$10,MAX('MDA3'!J13,'MDA3'!M13,Z13)),AND(AU13=0,AV13>0,AW13>0,AX13>0),MIN(J13*PROFILE!$G$10,MAX('MDA3'!J13,'MDA3'!M13,Z13,AO13)),AND(AU13>0,AV13=0,AW13=0,AX13=0), MIN(BB13,MAX('MDA1'!L13,'MDA4'!T13)),AND(AU13>0,AV13=0,AW13=0,AX13>0), MIN(BB13,MAX('MDA1'!L13,'MDA4'!T13,AO13)),AND(AU13>0,AV13=0,AW13>0,AX13=0),MIN(BB13,MAX('MDA1'!L13,'MDA4'!T13,Z13)),AND(AU13>0,AV13=0,AW13>0,AX13>0),MIN(BB13,MAX('MDA1'!L13,'MDA4'!T13,Z13,AO13)),AND(AU13>0,AV13>0,AW13=0,AX13=0),MIN(BB13, MAX('MDA1'!L13,'MDA4'!T13,MAX( 'MDA3'!J13,'MDA3'!M13))), AND(AU13>0,AV13>0,AW13=0,AX13>0),MIN(BB13, MAX('MDA1'!L13,'MDA4'!T13,MAX( 'MDA3'!J13,'MDA3'!M13),AO13)), AND(AU13>0,AV13>0,AW13>0,AX13=0), MIN(BB13, MAX('MDA1'!L13,'MDA4'!T13,MAX( 'MDA3'!J13,'MDA3'!M13),Z13)), AND(AU13>0,AV13>0,AW13>0,AX13>0), MIN(BB13, MAX('MDA1'!L13,'MDA4'!T13,MAX( 'MDA3'!J13,'MDA3'!M13),Z13,AO13)))","v":41408},81876,24.098377938393316]
[{"$f":"IF(COUNTRY_INFO!A14=0,\" \",COUNTRY_INFO!A14)","v":"South Sudan"},{"$f":"IF(COUNTRY_INFO!B14=0,\" \",COUNTRY_INFO!B14)","v":"Central Equatoria"},{"$f":"IF(COUNTRY_INFO!C14=0,\" \",COUNTRY_INFO!C14)","v":"MOROBO"},{"$f":"COUNTRY_INFO!M14","v":174520.17180000001},null,null,{"$f":"'MDA1'!M14+'MDA4'!U14","v":44982},{"$f":"IF(AND(COUNTRY_INFO!H14>0,COUNTRY_INFO!H14<4),IF(D14>G14,G14,D14),0)","v":44982},{"$f":"IF(AND(COUNTRY_INFO!H14>0,COUNTRY_INFO!H14<4), IF(G14/D14*100<>0, IF(G14/D14*100>100,100,G14/D14*100), \"-\"),0)","v":25.774670936921456},{"$f":"COUNTRY_INFO!N14","v":174520.17180000001},null,null,{"$f":"MAX('MDA1'!M14,MAX('MDA3'!I14,'MDA3'!L14)+MAX('MDA3'!J14,'MDA3'!M14))","v":44982},{"$f":"IF(AND(COUNTRY_INFO!I14>0,COUNTRY_INFO!I14<4),IF(J14>M14,M14,J14),0)","v":44982},{"$f":"IF(AND(COUNTRY_INFO!I14>0,COUNTRY_INFO!I14<4), IF(M14/J14*100<>0, IF(M14/J14*100>100,100,M14/J14*100), \"-\"),0)","v":25.774670936921456},{"$f":"COUNTRY_INFO!R14","v":112635},null,null,{"$f":"MAX('MDA4'!R14,'T1'!K14, MAX(T3_R1!J14,T3_R2!J14,T3_R3!J14))","v":0},{"$f":"IF(AND(COUNTRY_INFO!J14>1,COUNTRY_INFO!J14<99,COUNTRY_INFO!J14<>4,COUNTRY_INFO!J14<>5),IF(COUNTRY_INFO!O14>S14,S14,COUNTRY_INFO!O14),0)","v":0},{"$f":"IF(AND(COUNTRY_INFO!J14>1,COUNTRY_INFO!J14<99,COUNTRY_INFO!J14<>4,COUNTRY_INFO!J14<>5), IF(T14/COUNTRY_INFO!O14*100<>0, IF(T14/COUNTRY_INFO!O14*100>100,100,T14/COUNTRY_INFO!O14*100), \"-\"),0)","v":"-"},{"$f":"MAX('MDA1'!K14,'MDA4'!S14, 'T1'!L14, MAX(T3_R1!K14,T3_R2!K14,T3_R3!K14))","v":23717},{"$f":"IF(AND(COUNTRY_INFO!J14>1,COUNTRY_INFO!J14<99,COUNTRY_INFO!J14<>4,COUNTRY_INFO!J14<>5),IF(COUNTRY_INFO!P14>V14,V14,COUNTRY_INFO!P14),0)","v":23717},{"$f":"IF(AND(COUNTRY_INFO!J14>1,COUNTRY_INFO!J14<99,COUNTRY_INFO!J14<>4,COUNTRY_INFO!J14<>5), IF(W14/COUNTRY_INFO!P14*100<>0, IF(W14/COUNTRY_INFO!P14*100>100,100,W14/COUNTRY_INFO!P14*100), \"-\"),0)","v":43.994509265614276},{"$f":"MAX('MDA1'!L14,'MDA4'!T14, 'T1'!M14, MAX(T3_R1!L14,T3_R2!L14,T3_R3!L14))","v":21265},{"$f":"IF(AND(COUNTRY_INFO!J14>1,COUNTRY_INFO!J14<99,COUNTRY_INFO!J14<>4,COUNTRY_INFO!J14<>5),IF(COUNTRY_INFO!Q14>Y14,Y14,COUNTRY_INFO!Q14),0)","v":21265},{"$f":"IF(AND(COUNTRY_INFO!J14>1,COUNTRY_INFO!J14<99,COUNTRY_INFO!J14<>4,COUNTRY_INFO!J14<>5), IF(Z14/COUNTRY_INFO!Q14*100<>0, IF(Z14/COUNTRY_INFO!Q14*100>100,100,Z14/COUNTRY_INFO!Q14*100), \"-\"),0)","v":53.962493973151979},44982,44982,{"$f":"IF(AND(COUNTRY_INFO!J14>1,COUNTRY_INFO!J14<99,COUNTRY_INFO!J14<>4,COUNTRY_INFO!J14<>5), IF(AC14/P14*100<>0, IF(AC14/P14*100>100,100,AC14/P14*100), \"-\"),0)","v":39.936076707950455},{"$f":"COUNTRY_INFO!V14","v":75556},null,null,{"$f":"MAX('T1'!K14,'T2'!R14)","v":0},{"$f":"IF(AND(COUNTRY_INFO!K14>1,COUNTRY_INFO!K14<99,COUNTRY_INFO!K14<>4,COUNTRY_INFO!K14<>5),IF(COUNTRY_INFO!S14>AH14,AH14,COUNTRY_INFO!S14),0)","v":0},{"$f":"IF(AND(COUNTRY_INFO!K14>1,COUNTRY_INFO!K14<99,COUNTRY_INFO!K14<>4,COUNTRY_INFO!K14<>5), IF(AI14/COUNTRY_INFO!S14*100<>0, IF(AI14/COUNTRY_INFO!S14*100>100,100,AI14/COUNTRY_INFO!S14*100), \"-\"),0)","v":"-"},{"$f":"MAX('T1'!L14,'T2'!S14)","v":0},{"$f":"IF(AND(COUNTRY_INFO!K14>1,COUNTRY_INFO!K14<99,COUNTRY_INFO!K14<>4,COUNTRY_INFO!K14<>5),IF(COUNTRY_INFO!T14>AK14,AK14,COUNTRY_INFO!T14),0)","v":0},{"$f":"IF(AND(COUNTRY_INFO!K14>1,COUNTRY_INFO!K14<99,COUNTRY_INFO!K14<>4,COUNTRY_INFO!K14<>5), IF(AL14/COUNTRY_INFO!T14*100<>0, IF(AL14/COUNTRY_INFO!T14*100>100,100,AL14/COUNTRY_INFO!T14*100), \"-\"),0)","v":"-"},{"$f":"MAX('T1'!M14,'T2'!T14)","v":0},{"$f":"IF(AND(COUNTRY_INFO!K14>1,COUNTRY_INFO!K14<99,COUNTRY_INFO!K14<>4,COUNTRY_INFO!K14<>5),IF(COUNTRY_INFO!U14>AN14,AN14,COUNTRY_INFO!U14),0)","v":0},{"$f":"IF(AND(COUNTRY_INFO!K14>1,COUNTRY_INFO!K14<99,COUNTRY_INFO!K14<>4,COUNTRY_INFO!K14<>5), IF(AO14/COUNTRY_INFO!U14*100<>0, IF(AO14/COUNTRY_INFO!U14*100>100,100,AO14/COUNTRY_INFO!U14*100), \"-\"),0)","v":"-"},0,0,{"$f":"IF(AND(COUNTRY_INFO!K14>1,COUNTRY_INFO!K14<99,COUNTRY_INFO!K14<>4,COUNTRY_INFO!K14<>5), IF(AH14/AE14*100<>0, IF(AR14/AE14*100>100,100,AR14/AE14*100), \"-\"),0)","v":"-"},null,{"$f":"IF(AND(D14<>0, D14<>\"Unknown\",D14<>\"Stopped\",D14<>\"Not required\"),D14/COUNTRY_INFO!D14, 0)","v":1},{"$f":"IF(AND(J14<>0,J14<>\"Unknown\",J14<>\"Stopped\",J14<>\"Not required\"),J14/COUNTRY_INFO!D14, 0)","v":1},{"$f":"IF(AND(P14<>0,P14<>\"Unknown\",P14<>\"Surveillance\",P14<>\"Not required\"),P14/COUNTRY_INFO!R14, 0)","v":1},{"$f":"IF(AND(AE14<>0,AE14<>\"Unknown\",AE14<>\"Surveillance\",AE14<>\"Not required\"),AE14/COUNTRY_INFO!V14, 0)","v":1},{"$f":"IF(AU14>0,D14*PROFILE!$G$7,IF(AV14>0,J14*PROFILE!$G$7,0))","v":4799.2928947202554},{"$f":"_xlfn.IFS(OR(AU14>0,AW14>0),COUNTRY_INFO!E14, AV14>0,J14*PROFILE!$G$8,AX14>0,COUNTRY_INFO!S14,COUNTIFS(AU14:AX14,\">0\")=0,0)","v":19319},{"$f":"_xlfn.IFS(OR(AU14>0,AW14>0),COUNTRY_INFO!F14, AV14>0,J14*PROFILE!$G$9,AX14>0,COUNTRY_INFO!T14,COUNTIFS(AU14:AX14,\">0\")=0,0)","v":53909},{"$f":"_xlfn.IFS(AU14>0,COUNTRY_INFO!G14, AND(AV14>0,AW14=0,AX14=0),J14*PROFILE!$G$10,AND(AV14>0,AW14>0,AX14=0), MAX(J14*PROFILE!$G$10,COUNTRY_INFO!Q14),AND(AV14>0,AW14=0,AX14>0), MAX(J14*PROFILE!$G$10,COUNTRY_INFO!U14),AND(AV14=0,AW14>0,AX14>0), MAX(COUNTRY_INFO!Q14,COUNTRY_INFO!U14),AND(AV14=0,AW14>0,AX14=0),COUNTRY_INFO!Q14,AND(AV14=0,AW14=0,AX14>0),COUNTRY_INFO!U14,AND(AV14>0,AW14>0,AX14>0), MAX(J14*PROFILE!$G$10,COUNTRY_INFO!Q14,COUNTRY_INFO!U14),COUNTIFS(AU14:AX14,\">0\")=0,0)","v":96492},174519.29289472027,0,{"$f":"MAX('MDA4'!R14,S14,AH14)","v":0},{"$f":"MAX('MDA1'!K14,'MDA4'!S14,'MDA3'!I14,'MDA3'!L14,V14,AK14)","v":23717},{"$f":"MAX('MDA1'!L14,'MDA4'!T14,'MDA3'!J14,'MDA3'!M14,Y14,AN14)","v":21265},44982,{"$f":"_xlfn.IFS(AND(AU14=0,AW14=0,AX14=0),0,AND(AU14=0,AW14=0,AX14>0),AI14,AND(AU14=0,AW14>0,AX14=0),T14,AND(AU14=0,AW14>0,AX14>0),MAX(T14,AI14),AND(AU14>0,AW14=0,AX14=0),MIN('MDA4'!R14,AZ14),AND(AU14>0,AW14=0,AX14>0),MIN(MAX('MDA4'!R14,AI14),AZ14),AND(AU14>0,AW14>0,AX14=0),MIN(MAX('MDA4'!R14,T14),AZ14),AND(AU14>0,AW14>0,AX14>0),MIN(MAX('MDA4'!R14,AI14,T14),AZ14))","v":0},{"$f":"_xlfn.IFS(AND(AU14=0,AV14=0,AW14=0,AX14=0),0,AND(AU14=0,AV14=0,AW14=0,AX14>0),AL14,AND(AU14=0,AV14=0,AW14>0,AX14=0),W14,AND(AU14=0,AV14=0,AW14>0,AX14>0),MAX(W14,AL14),AND(AU14=0,AV14>0,AW14=0,AX14=0),MIN(J14*PROFILE!$G$9,MAX('MDA3'!I14,'MDA3'!L14)),AND(AU14=0,AV14>0,AW14=0,AX14>0),MIN(J14*PROFILE!$G$9,MAX('MDA3'!I14,'MDA3'!L14,AL14)),AND(AU14=0,AV14>0,AW14>0,AX14=0),MIN(J14*PROFILE!$G$9,MAX('MDA3'!I14,'MDA3'!L14,W14)),AND(AU14=0,AV14>0,AW14>0,AX14>0),MIN(J14*PROFILE!$G$9,MAX('MDA3'!I14,'MDA3'!L14,W14,AL14)),AND(AU14>0,AV14=0,AW14=0,AX14=0), MIN(BA14,MAX('MDA1'!K14,'MDA4'!S14)),AND(AU14>0,AV14=0,AW14=0,AX14>0), MIN(BA14,MAX('MDA1'!K14,'MDA4'!S14,AL14)),AND(AU14>0,AV14=0,AW14>0,AX14=0),MIN(BA14,MAX('MDA1'!K14,'MDA4'!S14,W14)),AND(AU14>0,AV14=0,AW14>0,AX14>0),MIN(BA14,MAX('MDA1'!K14,'MDA4'!S14,W14,AL14)),AND(AU14>0,AV14>0,AW14=0,AX14=0),MIN(BA14, MAX('MDA1'!K14,'MDA4'!S14,MAX('MDA3'!I14,'MDA3'!L14))), AND(AU14>0,AV14>0,AW14=0,AX14>0),MIN(BA14, MAX('MDA1'!K14,'MDA4'!S14,MAX( 'MDA3'!I14,'MDA3'!L14),AL14)), AND(AU14>0,AV14>0,AW14>0,AX14=0), MIN(BA14, MAX('MDA1'!K14,'MDA4'!S14,MAX( 'MDA3'!I14,'MDA3'!L14),W14)), AND(AU14>0,AV14>0,AW14>0,AX14>0), MIN(BA14, MAX('MDA1'!K14,'MDA4'!S14,MAX( 'MDA3'!I14,'MDA3'!L14),W14,AL14)))","v":23717},{"$f":"_xlfn.IFS(AND(AU14=0,AV14=0,AW14=0,AX14=0),0,AND(AU14=0,AV14=0,AW14=0,AX14>0),AO14,AND(AU14=0,AV14=0,AW14>0,AX14=0),Z14,AND(AU14=0,AV14=0,AW14>0,AX14>0),MAX(Z14,AO14),AND(AU14=0,AV14>0,AW14=0,AX14=0),MIN(J14*PROFILE!$G$10,MAX('MDA3'!J14,'MDA3'!J14)),AND(AU14=0,AV14>0,AW14=0,AX14>0),MIN(J14*PROFILE!$G$10,MAX('MDA3'!J14,'MDA3'!M14,AO14)),AND(AU14=0,AV14>0,AW14>0,AX14=0),MIN(J14*PROFILE!$G$10,MAX('MDA3'!J14,'MDA3'!M14,Z14)),AND(AU14=0,AV14>0,AW14>0,AX14>0),MIN(J14*PROFILE!$G$10,MAX('MDA3'!J14,'MDA3'!M14,Z14,AO14)),AND(AU14>0,AV14=0,AW14=0,AX14=0), MIN(BB14,MAX('MDA1'!L14,'MDA4'!T14)),AND(AU14>0,AV14=0,AW14=0,AX14>0), MIN(BB14,MAX('MDA1'!L14,'MDA4'!T14,AO14)),AND(AU14>0,AV14=0,AW14>0,AX14=0),MIN(BB14,MAX('MDA1'!L14,'MDA4'!T14,Z14)),AND(AU14>0,AV14=0,AW14>0,AX14>0),MIN(BB14,MAX('MDA1'!L14,'MDA4'!T14,Z14,AO14)),AND(AU14>0,AV14>0,AW14=0,AX14=0),MIN(BB14, MAX('MDA1'!L14,'MDA4'!T14,MAX( 'MDA3'!J14,'MDA3'!M14))), AND(AU14>0,AV14>0,AW14=0,AX14>0),MIN(BB14, MAX('MDA1'!L14,'MDA4'!T14,MAX( 'MDA3'!J14,'MDA3'!M14),AO14)), AND(AU14>0,AV14>0,AW14>0,AX14=0), MIN(BB14, MAX('MDA1'!L14,'MDA4'!T14,MAX( 'MDA3'!J14,'MDA3'!M14),Z14)), AND(AU14>0,AV14>0,AW14>0,AX14>0), MIN(BB14, MAX('MDA1'!L14,'MDA4'!T14,MAX( 'MDA3'!J14,'MDA3'!M14),Z14,AO14)))","v":21265},44982,25.774800742022052]
[{"$f":"IF(COUNTRY_INFO!A15=0,\" \",COUNTRY_INFO!A15)","v":"South Sudan"},{"$f":"IF(COUNTRY_INFO!B15=0,\" \",COUNTRY_INFO!B15)","v":"Central Equatoria"},{"$f":"IF(COUNTRY_INFO!C15=0,\" \",COUNTRY_INFO!C15)","v":"KAJO KEJI"},{"$f":"COUNTRY_INFO!M15","v":330474.59360000002},null,null,{"$f":"'MDA1'!M15+'MDA4'!U15","v":205683},{"$f":"IF(AND(COUNTRY_INFO!H15>0,COUNTRY_INFO!H15<4),IF(D15>G15,G15,D15),0)","v":205683},{"$f":"IF(AND(COUNTRY_INFO!H15>0,COUNTRY_INFO!H15<4), IF(G15/D15*100<>0, IF(G15/D15*100>100,100,G15/D15*100), \"-\"),0)","v":62.238672498060374},{"$f":"COUNTRY_INFO!N15","v":330474.59360000002},null,null,{"$f":"MAX('MDA1'!M15,MAX('MDA3'!I15,'MDA3'!L15)+MAX('MDA3'!J15,'MDA3'!M15))","v":205683},{"$f":"IF(AND(COUNTRY_INFO!I15>0,COUNTRY_INFO!I15<4),IF(J15>M15,M15,J15),0)","v":205683},{"$f":"IF(AND(COUNTRY_INFO!I15>0,COUNTRY_INFO!I15<4), IF(M15/J15*100<>0, IF(M15/J15*100>100,100,M15/J15*100), \"-\"),0)","v":62.238672498060374},{"$f":"COUNTRY_INFO!R15","v":213289},null,null,{"$f":"MAX('MDA4'!R15,'T1'!K15, MAX(T3_R1!J15,T3_R2!J15,T3_R3!J15))","v":0},{"$f":"IF(AND(COUNTRY_INFO!J15>1,COUNTRY_INFO!J15<99,COUNTRY_INFO!J15<>4,COUNTRY_INFO!J15<>5),IF(COUNTRY_INFO!O15>S15,S15,COUNTRY_INFO!O15),0)","v":0},{"$f":"IF(AND(COUNTRY_INFO!J15>1,COUNTRY_INFO!J15<99,COUNTRY_INFO!J15<>4,COUNTRY_INFO!J15<>5), IF(T15/COUNTRY_INFO!O15*100<>0, IF(T15/COUNTRY_INFO!O15*100>100,100,T15/COUNTRY_INFO!O15*100), \"-\"),0)","v":"-"},{"$f":"MAX('MDA1'!K15,'MDA4'!S15, 'T1'!L15, MAX(T3_R1!K15,T3_R2!K15,T3_R3!K15))","v":95316},{"$f":"IF(AND(COUNTRY_INFO!J15>1,COUNTRY_INFO!J15<99,COUNTRY_INFO!J15<>4,COUNTRY_INFO!J15<>5),IF(COUNTRY_INFO!P15>V15,V15,COUNTRY_INFO!P15),0)","v":95316},{"$f":"IF(AND(COUNTRY_INFO!J15>1,COUNTRY_INFO!J15<99,COUNTRY_INFO!J15<>4,COUNTRY_INFO!J15<>5), IF(W15/COUNTRY_INFO!P15*100<>0, IF(W15/COUNTRY_INFO!P15*100>100,100,W15/COUNTRY_INFO!P15*100), \"-\"),0)","v":93.370165745856355},{"$f":"MAX('MDA1'!L15,'MDA4'!T15, 'T1'!M15, MAX(T3_R1!L15,T3_R2!L15,T3_R3!L15))","v":110367},{"$f":"IF(AND(COUNTRY_INFO!J15>1,COUNTRY_INFO!J15<99,COUNTRY_INFO!J15<>4,COUNTRY_INFO!J15<>5),IF(COUNTRY_INFO!Q15>Y15,Y15,COUNTRY_INFO!Q15),0)","v":74621},{"$f":"IF(AND(COUNTRY_INFO!J15>1,COUNTRY_INFO!J15<99,COUNTRY_INFO!J15<>4,COUNTRY_INFO!J15<>5), IF(Z15/COUNTRY_INFO!Q15*100<>0, IF(Z15/COUNTRY_INFO!Q15*100>100,100,Z15/COUNTRY_INFO!Q15*100), \"-\"),0)","v":100},205683,169937,{"$f":"IF(AND(COUNTRY_INFO!J15>1,COUNTRY_INFO!J15<99,COUNTRY_INFO!J15<>4,COUNTRY_INFO!J15<>5), IF(AC15/P15*100<>0, IF(AC15/P15*100>100,100,AC15/P15*100), \"-\"),0)","v":79.674526112457741},{"$f":"COUNTRY_INFO!V15","v":307019},null,null,{"$f":"MAX('T1'!K15,'T2'!R15)","v":0},{"$f":"IF(AND(COUNTRY_INFO!K15>1,COUNTRY_INFO!K15<99,COUNTRY_INFO!K15<>4,COUNTRY_INFO!K15<>5),IF(COUNTRY_INFO!S15>AH15,AH15,COUNTRY_INFO!S15),0)","v":0},{"$f":"IF(AND(COUNTRY_INFO!K15>1,COUNTRY_INFO!K15<99,COUNTRY_INFO!K15<>4,COUNTRY_INFO!K15<>5), IF(AI15/COUNTRY_INFO!S15*100<>0, IF(AI15/COUNTRY_INFO!S15*100>100,100,AI15/COUNTRY_INFO!S15*100), \"-\"),0)","v":"-"},{"$f":"MAX('T1'!L15,'T2'!S15)","v":0},{"$f":"IF(AND(COUNTRY_INFO!K15>1,COUNTRY_INFO!K15<99,COUNTRY_INFO!K15<>4,COUNTRY_INFO!K15<>5),IF(COUNTRY_INFO!T15>AK15,AK15,COUNTRY_INFO!T15),0)","v":0},{"$f":"IF(AND(COUNTRY_INFO!K15>1,COUNTRY_INFO!K15<99,COUNTRY_INFO!K15<>4,COUNTRY_INFO!K15<>5), IF(AL15/COUNTRY_INFO!T15*100<>0, IF(AL15/COUNTRY_INFO!T15*100>100,100,AL15/COUNTRY_INFO!T15*100), \"-\"),0)","v":"-"},{"$f":"MAX('T1'!M15,'T2'!T15)","v":0},{"$f":"IF(AND(COUNTRY_INFO!K15>1,COUNTRY_INFO!K15<99,COUNTRY_INFO!K15<>4,COUNTRY_INFO!K15<>5),IF(COUNTRY_INFO!U15>AN15,AN15,COUNTRY_INFO!U15),0)","v":0},{"$f":"IF(AND(COUNTRY_INFO!K15>1,COUNTRY_INFO!K15<99,COUNTRY_INFO!K15<>4,COUNTRY_INFO!K15<>5), IF(AO15/COUNTRY_INFO!U15*100<>0, IF(AO15/COUNTRY_INFO!U15*100>100,100,AO15/COUNTRY_INFO!U15*100), \"-\"),0)","v":"-"},0,0,{"$f":"IF(AND(COUNTRY_INFO!K15>1,COUNTRY_INFO!K15<99,COUNTRY_INFO!K15<>4,COUNTRY_INFO!K15<>5), IF(AH15/AE15*100<>0, IF(AR15/AE15*100>100,100,AR15/AE15*100), \"-\"),0)","v":"-"},null,{"$f":"IF(AND(D15<>0, D15<>\"Unknown\",D15<>\"Stopped\",D15<>\"Not required\"),D15/COUNTRY_INFO!D15, 0)","v":1},{"$f":"IF(AND(J15<>0,J15<>\"Unknown\",J15<>\"Stopped\",J15<>\"Not required\"),J15/COUNTRY_INFO!D15, 0)","v":1},{"$f":"IF(AND(P15<>0,P15<>\"Unknown\",P15<>\"Surveillance\",P15<>\"Not required\"),P15/COUNTRY_INFO!R15, 0)","v":1},{"$f":"IF(AND(AE15<>0,AE15<>\"Unknown\",AE15<>\"Surveillance\",AE15<>\"Not required\"),AE15/COUNTRY_INFO!V15, 0)","v":1},{"$f":"IF(AU15>0,D15*PROFILE!$G$7,IF(AV15>0,J15*PROFILE!$G$7,0))","v":9088.0289229124173},{"$f":"_xlfn.IFS(OR(AU15>0,AW15>0),COUNTRY_INFO!E15, AV15>0,J15*PROFILE!$G$8,AX15>0,COUNTRY_INFO!S15,COUNTIFS(AU15:AX15,\">0\")=0,0)","v":36584},{"$f":"_xlfn.IFS(OR(AU15>0,AW15>0),COUNTRY_INFO!F15, AV15>0,J15*PROFILE!$G$9,AX15>0,COUNTRY_INFO!T15,COUNTIFS(AU15:AX15,\">0\")=0,0)","v":102084},{"$f":"_xlfn.IFS(AU15>0,COUNTRY_INFO!G15, AND(AV15>0,AW15=0,AX15=0),J15*PROFILE!$G$10,AND(AV15>0,AW15>0,AX15=0), MAX(J15*PROFILE!$G$10,COUNTRY_INFO!Q15),AND(AV15>0,AW15=0,AX15>0), MAX(J15*PROFILE!$G$10,COUNTRY_INFO!U15),AND(AV15=0,AW15>0,AX15>0), MAX(COUNTRY_INFO!Q15,COUNTRY_INFO!U15),AND(AV15=0,AW15>0,AX15=0),COUNTRY_INFO!Q15,AND(AV15=0,AW15=0,AX15>0),COUNTRY_INFO!U15,AND(AV15>0,AW15>0,AX15>0), MAX(J15*PROFILE!$G$10,COUNTRY_INFO!Q15,COUNTRY_INFO!U15),COUNTIFS(AU15:AX15,\">0\")=0,0)","v":182719},330475.02892291243,0,{"$f":"MAX('MDA4'!R15,S15,AH15)","v":0},{"$f":"MAX('MDA1'!K15,'MDA4'!S15,'MDA3'!I15,'MDA3'!L15,V15,AK15)","v":95316},{"$f":"MAX('MDA1'!L15,'MDA4'!T15,'MDA3'!J15,'MDA3'!M15,Y15,AN15)","v":110367},205683,{"$f":"_xlfn.IFS(AND(AU15=0,AW15=0,AX15=0),0,AND(AU15=0,AW15=0,AX15>0),AI15,AND(AU15=0,AW15>0,AX15=0),T15,AND(AU15=0,AW15>0,AX15>0),MAX(T15,AI15),AND(AU15>0,AW15=0,AX15=0),MIN('MDA4'!R15,AZ15),AND(AU15>0,AW15=0,AX15>0),MIN(MAX('MDA4'!R15,AI15),AZ15),AND(AU15>0,AW15>0,AX15=0),MIN(MAX('MDA4'!R15,T15),AZ15),AND(AU15>0,AW15>0,AX15>0),MIN(MAX('MDA4'!R15,AI15,T15),AZ15))","v":0},{"$f":"_xlfn.IFS(AND(AU15=0,AV15=0,AW15=0,AX15=0),0,AND(AU15=0,AV15=0,AW15=0,AX15>0),AL15,AND(AU15=0,AV15=0,AW15>0,AX15=0),W15,AND(AU15=0,AV15=0,AW15>0,AX15>0),MAX(W15,AL15),AND(AU15=0,AV15>0,AW15=0,AX15=0),MIN(J15*PROFILE!$G$9,MAX('MDA3'!I15,'MDA3'!L15)),AND(AU15=0,AV15>0,AW15=0,AX15>0),MIN(J15*PROFILE!$G$9,MAX('MDA3'!I15,'MDA3'!L15,AL15)),AND(AU15=0,AV15>0,AW15>0,AX15=0),MIN(J15*PROFILE!$G$9,MAX('MDA3'!I15,'MDA3'!L15,W15)),AND(AU15=0,AV15>0,AW15>0,AX15>0),MIN(J15*PROFILE!$G$9,MAX('MDA3'!I15,'MDA3'!L15,W15,AL15)),AND(AU15>0,AV15=0,AW15=0,AX15=0), MIN(BA15,MAX('MDA1'!K15,'MDA4'!S15)),AND(AU15>0,AV15=0,AW15=0,AX15>0), MIN(BA15,MAX('MDA1'!K15,'MDA4'!S15,AL15)),AND(AU15>0,AV15=0,AW15>0,AX15=0),MIN(BA15,MAX('MDA1'!K15,'MDA4'!S15,W15)),AND(AU15>0,AV15=0,AW15>0,AX15>0),MIN(BA15,MAX('MDA1'!K15,'MDA4'!S15,W15,AL15)),AND(AU15>0,AV15>0,AW15=0,AX15=0),MIN(BA15, MAX('MDA1'!K15,'MDA4'!S15,MAX('MDA3'!I15,'MDA3'!L15))), AND(AU15>0,AV15>0,AW15=0,AX15>0),MIN(BA15, MAX('MDA1'!K15,'MDA4'!S15,MAX( 'MDA3'!I15,'MDA3'!L15),AL15)), AND(AU15>0,AV15>0,AW15>0,AX15=0), MIN(BA15, MAX('MDA1'!K15,'MDA4'!S15,MAX( 'MDA3'!I15,'MDA3'!L15),W15)), AND(AU15>0,AV15>0,AW15>0,AX15>0), MIN(BA15, MAX('MDA1'!K15,'MDA4'!S15,MAX( 'MDA3'!I15,'MDA3'!L15),W15,AL15)))","v":95316},{"$f":"_xlfn.IFS(AND(AU15=0,AV15=0,AW15=0,AX15=0),0,AND(AU15=0,AV15=0,AW15=0,AX15>0),AO15,AND(AU15=0,AV15=0,AW15>0,AX15=0),Z15,AND(AU15=0,AV15=0,AW15>0,AX15>0),MAX(Z15,AO15),AND(AU15=0,AV15>0,AW15=0,AX15=0),MIN(J15*PROFILE!$G$10,MAX('MDA3'!J15,'MDA3'!J15)),AND(AU15=0,AV15>0,AW15=0,AX15>0),MIN(J15*PROFILE!$G$10,MAX('MDA3'!J15,'MDA3'!M15,AO15)),AND(AU15=0,AV15>0,AW15>0,AX15=0),MIN(J15*PROFILE!$G$10,MAX('MDA3'!J15,'MDA3'!M15,Z15)),AND(AU15=0,AV15>0,AW15>0,AX15>0),MIN(J15*PROFILE!$G$10,MAX('MDA3'!J15,'MDA3'!M15,Z15,AO15)),AND(AU15>0,AV15=0,AW15=0,AX15=0), MIN(BB15,MAX('MDA1'!L15,'MDA4'!T15)),AND(AU15>0,AV15=0,AW15=0,AX15>0), MIN(BB15,MAX('MDA1'!L15,'MDA4'!T15,AO15)),AND(AU15>0,AV15=0,AW15>0,AX15=0),MIN(BB15,MAX('MDA1'!L15,'MDA4'!T15,Z15)),AND(AU15>0,AV15=0,AW15>0,AX15>0),MIN(BB15,MAX('MDA1'!L15,'MDA4'!T15,Z15,AO15)),AND(AU15>0,AV15>0,AW15=0,AX15=0),MIN(BB15, MAX('MDA1'!L15,'MDA4'!T15,MAX( 'MDA3'!J15,'MDA3'!M15))), AND(AU15>0,AV15>0,AW15=0,AX15>0),MIN(BB15, MAX('MDA1'!L15,'MDA4'!T15,MAX( 'MDA3'!J15,'MDA3'!M15),AO15)), AND(AU15>0,AV15>0,AW15>0,AX15=0), MIN(BB15, MAX('MDA1'!L15,'MDA4'!T15,MAX( 'MDA3'!J15,'MDA3'!M15),Z15)), AND(AU15>0,AV15>0,AW15>0,AX15>0), MIN(BB15, MAX('MDA1'!L15,'MDA4'!T15,MAX( 'MDA3'!J15,'MDA3'!M15),Z15,AO15)))","v":110367},205683,62.238590513287527]
[{"$f":"IF(COUNTRY_INFO!A16=0,\" \",COUNTRY_INFO!A16)","v":"South Sudan"},{"$f":"IF(COUNTRY_INFO!B16=0,\" \",COUNTRY_INFO!B16)","v":"Eastern Equatoria"},{"$f":"IF(COUNTRY_INFO!C16=0,\" \",COUNTRY_INFO!C16)","v":"TORIT"},{"$f":"COUNTRY_INFO!M16","v":184739.82150000002},null,null,{"$f":"'MDA1'!M16+'MDA4'!U16","v":108212},{"$f":"IF(AND(COUNTRY_INFO!H16>0,COUNTRY_INFO!H16<4),IF(D16>G16,G16,D16),0)","v":108212},{"$f":"IF(AND(COUNTRY_INFO!H16>0,COUNTRY_INFO!H16<4), IF(G16/D16*100<>0, IF(G16/D16*100>100,100,G16/D16*100), \"-\"),0)","v":58.575351606042339},{"$f":"COUNTRY_INFO!N16","v":184739.82150000002},null,null,{"$f":"MAX('MDA1'!M16,MAX('MDA3'!I16,'MDA3'!L16)+MAX('MDA3'!J16,'MDA3'!M16))","v":108212},{"$f":"IF(AND(COUNTRY_INFO!I16>0,COUNTRY_INFO!I16<4),IF(J16>M16,M16,J16),0)","v":108212},{"$f":"IF(AND(COUNTRY_INFO!I16>0,COUNTRY_INFO!I16<4), IF(M16/J16*100<>0, IF(M16/J16*100>100,100,M16/J16*100), \"-\"),0)","v":58.575351606042339},{"$f":"COUNTRY_INFO!R16","v":0},null,null,{"$f":"MAX('MDA4'!R16,'T1'!K16, MAX(T3_R1!J16,T3_R2!J16,T3_R3!J16))","v":0},{"$f":"IF(AND(COUNTRY_INFO!J16>1,COUNTRY_INFO!J16<99,COUNTRY_INFO!J16<>4,COUNTRY_INFO!J16<>5),IF(COUNTRY_INFO!O16>S16,S16,COUNTRY_INFO!O16),0)","v":0},{"$f":"IF(AND(COUNTRY_INFO!J16>1,COUNTRY_INFO!J16<99,COUNTRY_INFO!J16<>4,COUNTRY_INFO!J16<>5), IF(T16/COUNTRY_INFO!O16*100<>0, IF(T16/COUNTRY_INFO!O16*100>100,100,T16/COUNTRY_INFO!O16*100), \"-\"),0)","v":0},{"$f":"MAX('MDA1'!K16,'MDA4'!S16, 'T1'!L16, MAX(T3_R1!K16,T3_R2!K16,T3_R3!K16))","v":51904},{"$f":"IF(AND(COUNTRY_INFO!J16>1,COUNTRY_INFO!J16<99,COUNTRY_INFO!J16<>4,COUNTRY_INFO!J16<>5),IF(COUNTRY_INFO!P16>V16,V16,COUNTRY_INFO!P16),0)","v":0},{"$f":"IF(AND(COUNTRY_INFO!J16>1,COUNTRY_INFO!J16<99,COUNTRY_INFO!J16<>4,COUNTRY_INFO!J16<>5), IF(W16/COUNTRY_INFO!P16*100<>0, IF(W16/COUNTRY_INFO!P16*100>100,100,W16/COUNTRY_INFO!P16*100), \"-\"),0)","v":0},{"$f":"MAX('MDA1'!L16,'MDA4'!T16, 'T1'!M16, MAX(T3_R1!L16,T3_R2!L16,T3_R3!L16))","v":56308},{"$f":"IF(AND(COUNTRY_INFO!J16>1,COUNTRY_INFO!J16<99,COUNTRY_INFO!J16<>4,COUNTRY_INFO!J16<>5),IF(COUNTRY_INFO!Q16>Y16,Y16,COUNTRY_INFO!Q16),0)","v":0},{"$f":"IF(AND(COUNTRY_INFO!J16>1,COUNTRY_INFO!J16<99,COUNTRY_INFO!J16<>4,COUNTRY_INFO!J16<>5), IF(Z16/COUNTRY_INFO!Q16*100<>0, IF(Z16/COUNTRY_INFO!Q16*100>100,100,Z16/COUNTRY_INFO!Q16*100), \"-\"),0)","v":0},108212,0,{"$f":"IF(AND(COUNTRY_INFO!J16>1,COUNTRY_INFO!J16<99,COUNTRY_INFO!J16<>4,COUNTRY_INFO!J16<>5), IF(AC16/P16*100<>0, IF(AC16/P16*100>100,100,AC16/P16*100), \"-\"),0)","v":0},{"$f":"COUNTRY_INFO!V16","v":157740},null,null,{"$f":"MAX('T1'!K16,'T2'!R16)","v":0},{"$f":"IF(AND(COUNTRY_INFO!K16>1,COUNTRY_INFO!K16<99,COUNTRY_INFO!K16<>4,COUNTRY_INFO!K16<>5),IF(COUNTRY_INFO!S16>AH16,AH16,COUNTRY_INFO!S16),0)","v":0},{"$f":"IF(AND(COUNTRY_INFO!K16>1,COUNTRY_INFO!K16<99,COUNTRY_INFO!K16<>4,COUNTRY_INFO!K16<>5), IF(AI16/COUNTRY_INFO!S16*100<>0, IF(AI16/COUNTRY_INFO!S16*100>100,100,AI16/COUNTRY_INFO!S16*100), \"-\"),0)","v":"-"},{"$f":"MAX('T1'!L16,'T2'!S16)","v":0},{"$f":"IF(AND(COUNTRY_INFO!K16>1,COUNTRY_INFO!K16<99,COUNTRY_INFO!K16<>4,COUNTRY_INFO!K16<>5),IF(COUNTRY_INFO!T16>AK16,AK16,COUNTRY_INFO!T16),0)","v":0},{"$f":"IF(AND(COUNTRY_INFO!K16>1,COUNTRY_INFO!K16<99,COUNTRY_INFO!K16<>4,COUNTRY_INFO!K16<>5), IF(AL16/COUNTRY_INFO!T16*100<>0, IF(AL16/COUNTRY_INFO!T16*100>100,100,AL16/COUNTRY_INFO!T16*100), \"-\"),0)","v":"-"},{"$f":"MAX('T1'!M16,'T2'!T16)","v":0},{"$f":"IF(AND(COUNTRY_INFO!K16>1,COUNTRY_INFO!K16<99,COUNTRY_INFO!K16<>4,COUNTRY_INFO!K16<>5),IF(COUNTRY_INFO!U16>AN16,AN16,COUNTRY_INFO!U16),0)","v":0},{"$f":"IF(AND(COUNTRY_INFO!K16>1,COUNTRY_INFO!K16<99,COUNTRY_INFO!K16<>4,COUNTRY_INFO!K16<>5), IF(AO16/COUNTRY_INFO!U16*100<>0, IF(AO16/COUNTRY_INFO!U16*100>100,100,AO16/COUNTRY_INFO!U16*100), \"-\"),0)","v":"-"},0,0,{"$f":"IF(AND(COUNTRY_INFO!K16>1,COUNTRY_INFO!K16<99,COUNTRY_INFO!K16<>4,COUNTRY_INFO!K16<>5), IF(AH16/AE16*100<>0, IF(AR16/AE16*100>100,100,AR16/AE16*100), \"-\"),0)","v":"-"},null,{"$f":"IF(AND(D16<>0, D16<>\"Unknown\",D16<>\"Stopped\",D16<>\"Not required\"),D16/COUNTRY_INFO!D16, 0)","v":1},{"$f":"IF(AND(J16<>0,J16<>\"Unknown\",J16<>\"Stopped\",J16<>\"Not required\"),J16/COUNTRY_INFO!D16, 0)","v":1},{"$f":"IF(AND(P16<>0,P16<>\"Unknown\",P16<>\"Surveillance\",P16<>\"Not required\"),P16/COUNTRY_INFO!R16, 0)","v":0},{"$f":"IF(AND(AE16<>0,AE16<>\"Unknown\",AE16<>\"Surveillance\",AE16<>\"Not required\"),AE16/COUNTRY_INFO!V16, 0)","v":1},{"$f":"IF(AU16>0,D16*PROFILE!$G$7,IF(AV16>0,J16*PROFILE!$G$7,0))","v":5080.3325687354063},{"$f":"_xlfn.IFS(OR(AU16>0,AW16>0),COUNTRY_INFO!E16, AV16>0,J16*PROFILE!$G$8,AX16>0,COUNTRY_INFO!S16,COUNTIFS(AU16:AX16,\">0\")=0,0)","v":20451},{"$f":"_xlfn.IFS(OR(AU16>0,AW16>0),COUNTRY_INFO!F16, AV16>0,J16*PROFILE!$G$9,AX16>0,COUNTRY_INFO!T16,COUNTIFS(AU16:AX16,\">0\")=0,0)","v":57066},{"$f":"_xlfn.IFS(AU16>0,COUNTRY_INFO!G16, AND(AV16>0,AW16=0,AX16=0),J16*PROFILE!$G$10,AND(AV16>0,AW16>0,AX16=0), MAX(J16*PROFILE!$G$10,COUNTRY_INFO!Q16),AND(AV16>0,AW16=0,AX16>0), MAX(J16*PROFILE!$G$10,COUNTRY_INFO!U16),AND(AV16=0,AW16>0,AX16>0), MAX(COUNTRY_INFO!Q16,COUNTRY_INFO!U16),AND(AV16=0,AW16>0,AX16=0),COUNTRY_INFO!Q16,AND(AV16=0,AW16=0,AX16>0),COUNTRY_INFO!U16,AND(AV16>0,AW16>0,AX16>0), MAX(J16*PROFILE!$G$10,COUNTRY_INFO!Q16,COUNTRY_INFO!U16),COUNTIFS(AU16:AX16,\">0\")=0,0)","v":102143},184740.33256873541,0,{"$f":"MAX('MDA4'!R16,S16,AH16)","v":0},{"$f":"MAX('MDA1'!K16,'MDA4'!S16,'MDA3'!I16,'MDA3'!L16,V16,AK16)","v":51904},{"$f":"MAX('MDA1'!L16,'MDA4'!T16,'MDA3'!J16,'MDA3'!M16,Y16,AN16)","v":56308},108212,{"$f":"_xlfn.IFS(AND(AU16=0,AW16=0,AX16=0),0,AND(AU16=0,AW16=0,AX16>0),AI16,AND(AU16=0,AW16>0,AX16=0),T16,AND(AU16=0,AW16>0,AX16>0),MAX(T16,AI16),AND(AU16>0,AW16=0,AX16=0),MIN('MDA4'!R16,AZ16),AND(AU16>0,AW16=0,AX16>0),MIN(MAX('MDA4'!R16,AI16),AZ16),AND(AU16>0,AW16>0,AX16=0),MIN(MAX('MDA4'!R16,T16),AZ16),AND(AU16>0,AW16>0,AX16>0),MIN(MAX('MDA4'!R16,AI16,T16),AZ16))","v":0},{"$f":"_xlfn.IFS(AND(AU16=0,AV16=0,AW16=0,AX16=0),0,AND(AU16=0,AV16=0,AW16=0,AX16>0),AL16,AND(AU16=0,AV16=0,AW16>0,AX16=0),W16,AND(AU16=0,AV16=0,AW16>0,AX16>0),MAX(W16,AL16),AND(AU16=0,AV16>0,AW16=0,AX16=0),MIN(J16*PROFILE!$G$9,MAX('MDA3'!I16,'MDA3'!L16)),AND(AU16=0,AV16>0,AW16=0,AX16>0),MIN(J16*PROFILE!$G$9,MAX('MDA3'!I16,'MDA3'!L16,AL16)),AND(AU16=0,AV16>0,AW16>0,AX16=0),MIN(J16*PROFILE!$G$9,MAX('MDA3'!I16,'MDA3'!L16,W16)),AND(AU16=0,AV16>0,AW16>0,AX16>0),MIN(J16*PROFILE!$G$9,MAX('MDA3'!I16,'MDA3'!L16,W16,AL16)),AND(AU16>0,AV16=0,AW16=0,AX16=0), MIN(BA16,MAX('MDA1'!K16,'MDA4'!S16)),AND(AU16>0,AV16=0,AW16=0,AX16>0), MIN(BA16,MAX('MDA1'!K16,'MDA4'!S16,AL16)),AND(AU16>0,AV16=0,AW16>0,AX16=0),MIN(BA16,MAX('MDA1'!K16,'MDA4'!S16,W16)),AND(AU16>0,AV16=0,AW16>0,AX16>0),MIN(BA16,MAX('MDA1'!K16,'MDA4'!S16,W16,AL16)),AND(AU16>0,AV16>0,AW16=0,AX16=0),MIN(BA16, MAX('MDA1'!K16,'MDA4'!S16,MAX('MDA3'!I16,'MDA3'!L16))), AND(AU16>0,AV16>0,AW16=0,AX16>0),MIN(BA16, MAX('MDA1'!K16,'MDA4'!S16,MAX( 'MDA3'!I16,'MDA3'!L16),AL16)), AND(AU16>0,AV16>0,AW16>0,AX16=0), MIN(BA16, MAX('MDA1'!K16,'MDA4'!S16,MAX( 'MDA3'!I16,'MDA3'!L16),W16)), AND(AU16>0,AV16>0,AW16>0,AX16>0), MIN(BA16, MAX('MDA1'!K16,'MDA4'!S16,MAX( 'MDA3'!I16,'MDA3'!L16),W16,AL16)))","v":51904},{"$f":"_xlfn.IFS(AND(AU16=0,AV16=0,AW16=0,AX16=0),0,AND(AU16=0,AV16=0,AW16=0,AX16>0),AO16,AND(AU16=0,AV16=0,AW16>0,AX16=0),Z16,AND(AU16=0,AV16=0,AW16>0,AX16>0),MAX(Z16,AO16),AND(AU16=0,AV16>0,AW16=0,AX16=0),MIN(J16*PROFILE!$G$10,MAX('MDA3'!J16,'MDA3'!J16)),AND(AU16=0,AV16>0,AW16=0,AX16>0),MIN(J16*PROFILE!$G$10,MAX('MDA3'!J16,'MDA3'!M16,AO16)),AND(AU16=0,AV16>0,AW16>0,AX16=0),MIN(J16*PROFILE!$G$10,MAX('MDA3'!J16,'MDA3'!M16,Z16)),AND(AU16=0,AV16>0,AW16>0,AX16>0),MIN(J16*PROFILE!$G$10,MAX('MDA3'!J16,'MDA3'!M16,Z16,AO16)),AND(AU16>0,AV16=0,AW16=0,AX16=0), MIN(BB16,MAX('MDA1'!L16,'MDA4'!T16)),AND(AU16>0,AV16=0,AW16=0,AX16>0), MIN(BB16,MAX('MDA1'!L16,'MDA4'!T16,AO16)),AND(AU16>0,AV16=0,AW16>0,AX16=0),MIN(BB16,MAX('MDA1'!L16,'MDA4'!T16,Z16)),AND(AU16>0,AV16=0,AW16>0,AX16>0),MIN(BB16,MAX('MDA1'!L16,'MDA4'!T16,Z16,AO16)),AND(AU16>0,AV16>0,AW16=0,AX16=0),MIN(BB16, MAX('MDA1'!L16,'MDA4'!T16,MAX( 'MDA3'!J16,'MDA3'!M16))), AND(AU16>0,AV16>0,AW16=0,AX16>0),MIN(BB16, MAX('MDA1'!L16,'MDA4'!T16,MAX( 'MDA3'!J16,'MDA3'!M16),AO16)), AND(AU16>0,AV16>0,AW16>0,AX16=0), MIN(BB16, MAX('MDA1'!L16,'MDA4'!T16,MAX( 'MDA3'!J16,'MDA3'!M16),Z16)), AND(AU16>0,AV16>0,AW16>0,AX16>0), MIN(BB16, MAX('MDA1'!L16,'MDA4'!T16,MAX( 'MDA3'!J16,'MDA3'!M16),Z16,AO16)))","v":56308},108212,58.575189562213282]
[{"$f":"IF(COUNTRY_INFO!A17=0,\" \",COUNTRY_INFO!A17)","v":"South Sudan"},{"$f":"IF(COUNTRY_INFO!B17=0,\" \",COUNTRY_INFO!B17)","v":"Eastern Equatoria"},{"$f":"IF(COUNTRY_INFO!C17=0,\" \",COUNTRY_INFO!C17)","v":"LOPA/LAFON"},{"$f":"COUNTRY_INFO!M17","v":0},null,null,{"$f":"'MDA1'!M17+'MDA4'!U17","v":0},{"$f":"IF(AND(COUNTRY_INFO!H17>0,COUNTRY_INFO!H17<4),IF(D17>G17,G17,D17),0)","v":0},{"$f":"IF(AND(COUNTRY_INFO!H17>0,COUNTRY_INFO!H17<4), IF(G17/D17*100<>0, IF(G17/D17*100>100,100,G17/D17*100), \"-\"),0)","v":0},{"$f":"COUNTRY_INFO!N17","v":196496.71530000001},null,null,{"$f":"MAX('MDA1'!M17,MAX('MDA3'!I17,'MDA3'!L17)+MAX('MDA3'!J17,'MDA3'!M17))","v":31192},{"$f":"IF(AND(COUNTRY_INFO!I17>0,COUNTRY_INFO!I17<4),IF(J17>M17,M17,J17),0)","v":31192},{"$f":"IF(AND(COUNTRY_INFO!I17>0,COUNTRY_INFO!I17<4), IF(M17/J17*100<>0, IF(M17/J17*100>100,100,M17/J17*100), \"-\"),0)","v":15.874056699817007},{"$f":"COUNTRY_INFO!R17","v":0},null,null,{"$f":"MAX('MDA4'!R17,'T1'!K17, MAX(T3_R1!J17,T3_R2!J17,T3_R3!J17))","v":0},{"$f":"IF(AND(COUNTRY_INFO!J17>1,COUNTRY_INFO!J17<99,COUNTRY_INFO!J17<>4,COUNTRY_INFO!J17<>5),IF(COUNTRY_INFO!O17>S17,S17,COUNTRY_INFO!O17),0)","v":0},{"$f":"IF(AND(COUNTRY_INFO!J17>1,COUNTRY_INFO!J17<99,COUNTRY_INFO!J17<>4,COUNTRY_INFO!J17<>5), IF(T17/COUNTRY_INFO!O17*100<>0, IF(T17/COUNTRY_INFO!O17*100>100,100,T17/COUNTRY_INFO!O17*100), \"-\"),0)","v":0},{"$f":"MAX('MDA1'!K17,'MDA4'!S17, 'T1'!L17, MAX(T3_R1!K17,T3_R2!K17,T3_R3!K17))","v":0},{"$f":"IF(AND(COUNTRY_INFO!J17>1,COUNTRY_INFO!J17<99,COUNTRY_INFO!J17<>4,COUNTRY_INFO!J17<>5),IF(COUNTRY_INFO!P17>V17,V17,COUNTRY_INFO!P17),0)","v":0},{"$f":"IF(AND(COUNTRY_INFO!J17>1,COUNTRY_INFO!J17<99,COUNTRY_INFO!J17<>4,COUNTRY_INFO!J17<>5), IF(W17/COUNTRY_INFO!P17*100<>0, IF(W17/COUNTRY_INFO!P17*100>100,100,W17/COUNTRY_INFO!P17*100), \"-\"),0)","v":0},{"$f":"MAX('MDA1'!L17,'MDA4'!T17, 'T1'!M17, MAX(T3_R1!L17,T3_R2!L17,T3_R3!L17))","v":0},{"$f":"IF(AND(COUNTRY_INFO!J17>1,COUNTRY_INFO!J17<99,COUNTRY_INFO!J17<>4,COUNTRY_INFO!J17<>5),IF(COUNTRY_INFO!Q17>Y17,Y17,COUNTRY_INFO!Q17),0)","v":0},{"$f":"IF(AND(COUNTRY_INFO!J17>1,COUNTRY_INFO!J17<99,COUNTRY_INFO!J17<>4,COUNTRY_INFO!J17<>5), IF(Z17/COUNTRY_INFO!Q17*100<>0, IF(Z17/COUNTRY_INFO!Q17*100>100,100,Z17/COUNTRY_INFO!Q17*100), \"-\"),0)","v":0},0,0,{"$f":"IF(AND(COUNTRY_INFO!J17>1,COUNTRY_INFO!J17<99,COUNTRY_INFO!J17<>4,COUNTRY_INFO!J17<>5), IF(AC17/P17*100<>0, IF(AC17/P17*100>100,100,AC17/P17*100), \"-\"),0)","v":0},{"$f":"COUNTRY_INFO!V17","v":14802},null,null,{"$f":"MAX('T1'!K17,'T2'!R17)","v":0},{"$f":"IF(AND(COUNTRY_INFO!K17>1,COUNTRY_INFO!K17<99,COUNTRY_INFO!K17<>4,COUNTRY_INFO!K17<>5),IF(COUNTRY_INFO!S17>AH17,AH17,COUNTRY_INFO!S17),0)","v":0},{"$f":"IF(AND(COUNTRY_INFO!K17>1,COUNTRY_INFO!K17<99,COUNTRY_INFO!K17<>4,COUNTRY_INFO!K17<>5), IF(AI17/COUNTRY_INFO!S17*100<>0, IF(AI17/COUNTRY_INFO!S17*100>100,100,AI17/COUNTRY_INFO!S17*100), \"-\"),0)","v":"-"},{"$f":"MAX('T1'!L17,'T2'!S17)","v":0},{"$f":"IF(AND(COUNTRY_INFO!K17>1,COUNTRY_INFO!K17<99,COUNTRY_INFO!K17<>4,COUNTRY_INFO!K17<>5),IF(COUNTRY_INFO!T17>AK17,AK17,COUNTRY_INFO!T17),0)","v":0},{"$f":"IF(AND(COUNTRY_INFO!K17>1,COUNTRY_INFO!K17<99,COUNTRY_INFO!K17<>4,COUNTRY_INFO!K17<>5), IF(AL17/COUNTRY_INFO!T17*100<>0, IF(AL17/COUNTRY_INFO!T17*100>100,100,AL17/COUNTRY_INFO!T17*100), \"-\"),0)","v":"-"},{"$f":"MAX('T1'!M17,'T2'!T17)","v":0},{"$f":"IF(AND(COUNTRY_INFO!K17>1,COUNTRY_INFO!K17<99,COUNTRY_INFO!K17<>4,COUNTRY_INFO!K17<>5),IF(COUNTRY_INFO!U17>AN17,AN17,COUNTRY_INFO!U17),0)","v":0},{"$f":"IF(AND(COUNTRY_INFO!K17>1,COUNTRY_INFO!K17<99,COUNTRY_INFO!K17<>4,COUNTRY_INFO!K17<>5), IF(AO17/COUNTRY_INFO!U17*100<>0, IF(AO17/COUNTRY_INFO!U17*100>100,100,AO17/COUNTRY_INFO!U17*100), \"-\"),0)","v":"-"},0,0,{"$f":"IF(AND(COUNTRY_INFO!K17>1,COUNTRY_INFO!K17<99,COUNTRY_INFO!K17<>4,COUNTRY_INFO!K17<>5), IF(AH17/AE17*100<>0, IF(AR17/AE17*100>100,100,AR17/AE17*100), \"-\"),0)","v":"-"},null,{"$f":"IF(AND(D17<>0, D17<>\"Unknown\",D17<>\"Stopped\",D17<>\"Not required\"),D17/COUNTRY_INFO!D17, 0)","v":0},{"$f":"IF(AND(J17<>0,J17<>\"Unknown\",J17<>\"Stopped\",J17<>\"Not required\"),J17/COUNTRY_INFO!D17, 0)","v":1},{"$f":"IF(AND(P17<>0,P17<>\"Unknown\",P17<>\"Surveillance\",P17<>\"Not required\"),P17/COUNTRY_INFO!R17, 0)","v":0},{"$f":"IF(AND(AE17<>0,AE17<>\"Unknown\",AE17<>\"Surveillance\",AE17<>\"Not required\"),AE17/COUNTRY_INFO!V17, 0)","v":1},{"$f":"IF(AU17>0,D17*PROFILE!$G$7,IF(AV17>0,J17*PROFILE!$G$7,0))","v":5403.6463512990822},{"$f":"_xlfn.IFS(OR(AU17>0,AW17>0),COUNTRY_INFO!E17, AV17>0,J17*PROFILE!$G$8,AX17>0,COUNTRY_INFO!S17,COUNTIFS(AU17:AX17,\">0\")=0,0)","v":21752.171588192563},{"$f":"_xlfn.IFS(OR(AU17>0,AW17>0),COUNTRY_INFO!F17, AV17>0,J17*PROFILE!$G$9,AX17>0,COUNTRY_INFO!T17,COUNTIFS(AU17:AX17,\">0\")=0,0)","v":60697.853359669156},{"$f":"_xlfn.IFS(AU17>0,COUNTRY_INFO!G17, AND(AV17>0,AW17=0,AX17=0),J17*PROFILE!$G$10,AND(AV17>0,AW17>0,AX17=0), MAX(J17*PROFILE!$G$10,COUNTRY_INFO!Q17),AND(AV17>0,AW17=0,AX17>0), MAX(J17*PROFILE!$G$10,COUNTRY_INFO!U17),AND(AV17=0,AW17>0,AX17>0), MAX(COUNTRY_INFO!Q17,COUNTRY_INFO!U17),AND(AV17=0,AW17>0,AX17=0),COUNTRY_INFO!Q17,AND(AV17=0,AW17=0,AX17>0),COUNTRY_INFO!U17,AND(AV17>0,AW17>0,AX17>0), MAX(J17*PROFILE!$G$10,COUNTRY_INFO!Q17,COUNTRY_INFO!U17),COUNTIFS(AU17:AX17,\">0\")=0,0)","v":108643.0440008392},196496.71530000001,0,{"$f":"MAX('MDA4'!R17,S17,AH17)","v":0},{"$f":"MAX('MDA1'!K17,'MDA4'!S17,'MDA3'!I17,'MDA3'!L17,V17,AK17)","v":15116},{"$f":"MAX('MDA1'!L17,'MDA4'!T17,'MDA3'!J17,'MDA3'!M17,Y17,AN17)","v":16076},31192,{"$f":"_xlfn.IFS(AND(AU17=0,AW17=0,AX17=0),0,AND(AU17=0,AW17=0,AX17>0),AI17,AND(AU17=0,AW17>0,AX17=0),T17,AND(AU17=0,AW17>0,AX17>0),MAX(T17,AI17),AND(AU17>0,AW17=0,AX17=0),MIN('MDA4'!R17,AZ17),AND(AU17>0,AW17=0,AX17>0),MIN(MAX('MDA4'!R17,AI17),AZ17),AND(AU17>0,AW17>0,AX17=0),MIN(MAX('MDA4'!R17,T17),AZ17),AND(AU17>0,AW17>0,AX17>0),MIN(MAX('MDA4'!R17,AI17,T17),AZ17))","v":0},{"$f":"_xlfn.IFS(AND(AU17=0,AV17=0,AW17=0,AX17=0),0,AND(AU17=0,AV17=0,AW17=0,AX17>0),AL17,AND(AU17=0,AV17=0,AW17>0,AX17=0),W17,AND(AU17=0,AV17=0,AW17>0,AX17>0),MAX(W17,AL17),AND(AU17=0,AV17>0,AW17=0,AX17=0),MIN(J17*PROFILE!$G$9,MAX('MDA3'!I17,'MDA3'!L17)),AND(AU17=0,AV17>0,AW17=0,AX17>0),MIN(J17*PROFILE!$G$9,MAX('MDA3'!I17,'MDA3'!L17,AL17)),AND(AU17=0,AV17>0,AW17>0,AX17=0),MIN(J17*PROFILE!$G$9,MAX('MDA3'!I17,'MDA3'!L17,W17)),AND(AU17=0,AV17>0,AW17>0,AX17>0),MIN(J17*PROFILE!$G$9,MAX('MDA3'!I17,'MDA3'!L17,W17,AL17)),AND(AU17>0,AV17=0,AW17=0,AX17=0), MIN(BA17,MAX('MDA1'!K17,'MDA4'!S17)),AND(AU17>0,AV17=0,AW17=0,AX17>0), MIN(BA17,MAX('MDA1'!K17,'MDA4'!S17,AL17)),AND(AU17>0,AV17=0,AW17>0,AX17=0),MIN(BA17,MAX('MDA1'!K17,'MDA4'!S17,W17)),AND(AU17>0,AV17=0,AW17>0,AX17>0),MIN(BA17,MAX('MDA1'!K17,'MDA4'!S17,W17,AL17)),AND(AU17>0,AV17>0,AW17=0,AX17=0),MIN(BA17, MAX('MDA1'!K17,'MDA4'!S17,MAX('MDA3'!I17,'MDA3'!L17))), AND(AU17>0,AV17>0,AW17=0,AX17>0),MIN(BA17, MAX('MDA1'!K17,'MDA4'!S17,MAX( 'MDA3'!I17,'MDA3'!L17),AL17)), AND(AU17>0,AV17>0,AW17>0,AX17=0), MIN(BA17, MAX('MDA1'!K17,'MDA4'!S17,MAX( 'MDA3'!I17,'MDA3'!L17),W17)), AND(AU17>0,AV17>0,AW17>0,AX17>0), MIN(BA17, MAX('MDA1'!K17,'MDA4'!S17,MAX( 'MDA3'!I17,'MDA3'!L17),W17,AL17)))","v":15116},{"$f":"_xlfn.IFS(AND(AU17=0,AV17=0,AW17=0,AX17=0),0,AND(AU17=0,AV17=0,AW17=0,AX17>0),AO17,AND(AU17=0,AV17=0,AW17>0,AX17=0),Z17,AND(AU17=0,AV17=0,AW17>0,AX17>0),MAX(Z17,AO17),AND(AU17=0,AV17>0,AW17=0,AX17=0),MIN(J17*PROFILE!$G$10,MAX('MDA3'!J17,'MDA3'!J17)),AND(AU17=0,AV17>0,AW17=0,AX17>0),MIN(J17*PROFILE!$G$10,MAX('MDA3'!J17,'MDA3'!M17,AO17)),AND(AU17=0,AV17>0,AW17>0,AX17=0),MIN(J17*PROFILE!$G$10,MAX('MDA3'!J17,'MDA3'!M17,Z17)),AND(AU17=0,AV17>0,AW17>0,AX17>0),MIN(J17*PROFILE!$G$10,MAX('MDA3'!J17,'MDA3'!M17,Z17,AO17)),AND(AU17>0,AV17=0,AW17=0,AX17=0), MIN(BB17,MAX('MDA1'!L17,'MDA4'!T17)),AND(AU17>0,AV17=0,AW17=0,AX17>0), MIN(BB17,MAX('MDA1'!L17,'MDA4'!T17,AO17)),AND(AU17>0,AV17=0,AW17>0,AX17=0),MIN(BB17,MAX('MDA1'!L17,'MDA4'!T17,Z17)),AND(AU17>0,AV17=0,AW17>0,AX17>0),MIN(BB17,MAX('MDA1'!L17,'MDA4'!T17,Z17,AO17)),AND(AU17>0,AV17>0,AW17=0,AX17=0),MIN(BB17, MAX('MDA1'!L17,'MDA4'!T17,MAX( 'MDA3'!J17,'MDA3'!M17))), AND(AU17>0,AV17>0,AW17=0,AX17>0),MIN(BB17, MAX('MDA1'!L17,'MDA4'!T17,MAX( 'MDA3'!J17,'MDA3'!M17),AO17)), AND(AU17>0,AV17>0,AW17>0,AX17=0), MIN(BB17, MAX('MDA1'!L17,'MDA4'!T17,MAX( 'MDA3'!J17,'MDA3'!M17),Z17)), AND(AU17>0,AV17>0,AW17>0,AX17>0), MIN(BB17, MAX('MDA1'!L17,'MDA4'!T17,MAX( 'MDA3'!J17,'MDA3'!M17),Z17,AO17)))","v":16076},31192,15.874056699817007]
[{"$f":"IF(COUNTRY_INFO!A18=0,\" \",COUNTRY_INFO!A18)","v":"South Sudan"},{"$f":"IF(COUNTRY_INFO!B18=0,\" \",COUNTRY_INFO!B18)","v":"Eastern Equatoria"},{"$f":"IF(COUNTRY_INFO!C18=0,\" \",COUNTRY_INFO!C18)","v":"KAPOETA NORTH"},{"$f":"COUNTRY_INFO!M18","v":0},null,null,{"$f":"'MDA1'!M18+'MDA4'!U18","v":0},{"$f":"IF(AND(COUNTRY_INFO!H18>0,COUNTRY_INFO!H18<4),IF(D18>G18,G18,D18),0)","v":0},{"$f":"IF(AND(COUNTRY_INFO!H18>0,COUNTRY_INFO!H18<4), IF(G18/D18*100<>0, IF(G18/D18*100>100,100,G18/D18*100), \"-\"),0)","v":0},{"$f":"COUNTRY_INFO!N18","v":"Unknown"},null,null,{"$f":"MAX('MDA1'!M18,MAX('MDA3'!I18,'MDA3'!L18)+MAX('MDA3'!J18,'MDA3'!M18))","v":0},{"$f":"IF(AND(COUNTRY_INFO!I18>0,COUNTRY_INFO!I18<4),IF(J18>M18,M18,J18),0)","v":0},{"$f":"IF(AND(COUNTRY_INFO!I18>0,COUNTRY_INFO!I18<4), IF(M18/J18*100<>0, IF(M18/J18*100>100,100,M18/J18*100), \"-\"),0)","v":0},{"$f":"COUNTRY_INFO!R18","v":0},null,null,{"$f":"MAX('MDA4'!R18,'T1'!K18, MAX(T3_R1!J18,T3_R2!J18,T3_R3!J18))","v":0},{"$f":"IF(AND(COUNTRY_INFO!J18>1,COUNTRY_INFO!J18<99,COUNTRY_INFO!J18<>4,COUNTRY_INFO!J18<>5),IF(COUNTRY_INFO!O18>S18,S18,COUNTRY_INFO!O18),0)","v":0},{"$f":"IF(AND(COUNTRY_INFO!J18>1,COUNTRY_INFO!J18<99,COUNTRY_INFO!J18<>4,COUNTRY_INFO!J18<>5), IF(T18/COUNTRY_INFO!O18*100<>0, IF(T18/COUNTRY_INFO!O18*100>100,100,T18/COUNTRY_INFO!O18*100), \"-\"),0)","v":0},{"$f":"MAX('MDA1'!K18,'MDA4'!S18, 'T1'!L18, MAX(T3_R1!K18,T3_R2!K18,T3_R3!K18))","v":0},{"$f":"IF(AND(COUNTRY_INFO!J18>1,COUNTRY_INFO!J18<99,COUNTRY_INFO!J18<>4,COUNTRY_INFO!J18<>5),IF(COUNTRY_INFO!P18>V18,V18,COUNTRY_INFO!P18),0)","v":0},{"$f":"IF(AND(COUNTRY_INFO!J18>1,COUNTRY_INFO!J18<99,COUNTRY_INFO!J18<>4,COUNTRY_INFO!J18<>5), IF(W18/COUNTRY_INFO!P18*100<>0, IF(W18/COUNTRY_INFO!P18*100>100,100,W18/COUNTRY_INFO!P18*100), \"-\"),0)","v":0},{"$f":"MAX('MDA1'!L18,'MDA4'!T18, 'T1'!M18, MAX(T3_R1!L18,T3_R2!L18,T3_R3!L18))","v":0},{"$f":"IF(AND(COUNTRY_INFO!J18>1,COUNTRY_INFO!J18<99,COUNTRY_INFO!J18<>4,COUNTRY_INFO!J18<>5),IF(COUNTRY_INFO!Q18>Y18,Y18,COUNTRY_INFO!Q18),0)","v":0},{"$f":"IF(AND(COUNTRY_INFO!J18>1,COUNTRY_INFO!J18<99,COUNTRY_INFO!J18<>4,COUNTRY_INFO!J18<>5), IF(Z18/COUNTRY_INFO!Q18*100<>0, IF(Z18/COUNTRY_INFO!Q18*100>100,100,Z18/COUNTRY_INFO!Q18*100), \"-\"),0)","v":0},0,0,{"$f":"IF(AND(COUNTRY_INFO!J18>1,COUNTRY_INFO!J18<99,COUNTRY_INFO!J18<>4,COUNTRY_INFO!J18<>5), IF(AC18/P18*100<>0, IF(AC18/P18*100>100,100,AC18/P18*100), \"-\"),0)","v":0},{"$f":"COUNTRY_INFO!V18","v":0},null,null,{"$f":"MAX('T1'!K18,'T2'!R18)","v":0},{"$f":"IF(AND(COUNTRY_INFO!K18>1,COUNTRY_INFO!K18<99,COUNTRY_INFO!K18<>4,COUNTRY_INFO!K18<>5),IF(COUNTRY_INFO!S18>AH18,AH18,COUNTRY_INFO!S18),0)","v":0},{"$f":"IF(AND(COUNTRY_INFO!K18>1,COUNTRY_INFO!K18<99,COUNTRY_INFO!K18<>4,COUNTRY_INFO!K18<>5), IF(AI18/COUNTRY_INFO!S18*100<>0, IF(AI18/COUNTRY_INFO!S18*100>100,100,AI18/COUNTRY_INFO!S18*100), \"-\"),0)","v":0},{"$f":"MAX('T1'!L18,'T2'!S18)","v":0},{"$f":"IF(AND(COUNTRY_INFO!K18>1,COUNTRY_INFO!K18<99,COUNTRY_INFO!K18<>4,COUNTRY_INFO!K18<>5),IF(COUNTRY_INFO!T18>AK18,AK18,COUNTRY_INFO!T18),0)","v":0},{"$f":"IF(AND(COUNTRY_INFO!K18>1,COUNTRY_INFO!K18<99,COUNTRY_INFO!K18<>4,COUNTRY_INFO!K18<>5), IF(AL18/COUNTRY_INFO!T18*100<>0, IF(AL18/COUNTRY_INFO!T18*100>100,100,AL18/COUNTRY_INFO!T18*100), \"-\"),0)","v":0},{"$f":"MAX('T1'!M18,'T2'!T18)","v":0},{"$f":"IF(AND(COUNTRY_INFO!K18>1,COUNTRY_INFO!K18<99,COUNTRY_INFO!K18<>4,COUNTRY_INFO!K18<>5),IF(COUNTRY_INFO!U18>AN18,AN18,COUNTRY_INFO!U18),0)","v":0},{"$f":"IF(AND(COUNTRY_INFO!K18>1,COUNTRY_INFO!K18<99,COUNTRY_INFO!K18<>4,COUNTRY_INFO!K18<>5), IF(AO18/COUNTRY_INFO!U18*100<>0, IF(AO18/COUNTRY_INFO!U18*100>100,100,AO18/COUNTRY_INFO!U18*100), \"-\"),0)","v":0},0,0,{"$f":"IF(AND(COUNTRY_INFO!K18>1,COUNTRY_INFO!K18<99,COUNTRY_INFO!K18<>4,COUNTRY_INFO!K18<>5), IF(AH18/AE18*100<>0, IF(AR18/AE18*100>100,100,AR18/AE18*100), \"-\"),0)","v":0},null,{"$f":"IF(AND(D18<>0, D18<>\"Unknown\",D18<>\"Stopped\",D18<>\"Not required\"),D18/COUNTRY_INFO!D18, 0)","v":0},{"$f":"IF(AND(J18<>0,J18<>\"Unknown\",J18<>\"Stopped\",J18<>\"Not required\"),J18/COUNTRY_INFO!D18, 0)","v":0},{"$f":"IF(AND(P18<>0,P18<>\"Unknown\",P18<>\"Surveillance\",P18<>\"Not required\"),P18/COUNTRY_INFO!R18, 0)","v":0},{"$f":"IF(AND(AE18<>0,AE18<>\"Unknown\",AE18<>\"Surveillance\",AE18<>\"Not required\"),AE18/COUNTRY_INFO!V18, 0)","v":0},{"$f":"IF(AU18>0,D18*PROFILE!$G$7,IF(AV18>0,J18*PROFILE!$G$7,0))","v":0},{"$f":"_xlfn.IFS(OR(AU18>0,AW18>0),COUNTRY_INFO!E18, AV18>0,J18*PROFILE!$G$8,AX18>0,COUNTRY_INFO!S18,COUNTIFS(AU18:AX18,\">0\")=0,0)","v":0},{"$f":"_xlfn.IFS(OR(AU18>0,AW18>0),COUNTRY_INFO!F18, AV18>0,J18*PROFILE!$G$9,AX18>0,COUNTRY_INFO!T18,COUNTIFS(AU18:AX18,\">0\")=0,0)","v":0},{"$f":"_xlfn.IFS(AU18>0,COUNTRY_INFO!G18, AND(AV18>0,AW18=0,AX18=0),J18*PROFILE!$G$10,AND(AV18>0,AW18>0,AX18=0), MAX(J18*PROFILE!$G$10,COUNTRY_INFO!Q18),AND(AV18>0,AW18=0,AX18>0), MAX(J18*PROFILE!$G$10,COUNTRY_INFO!U18),AND(AV18=0,AW18>0,AX18>0), MAX(COUNTRY_INFO!Q18,COUNTRY_INFO!U18),AND(AV18=0,AW18>0,AX18=0),COUNTRY_INFO!Q18,AND(AV18=0,AW18=0,AX18>0),COUNTRY_INFO!U18,AND(AV18>0,AW18>0,AX18>0), MAX(J18*PROFILE!$G$10,COUNTRY_INFO!Q18,COUNTRY_INFO!U18),COUNTIFS(AU18:AX18,\">0\")=0,0)","v":0},0,0,{"$f":"MAX('MDA4'!R18,S18,AH18)","v":0},{"$f":"MAX('MDA1'!K18,'MDA4'!S18,'MDA3'!I18,'MDA3'!L18,V18,AK18)","v":0},{"$f":"MAX('MDA1'!L18,'MDA4'!T18,'MDA3'!J18,'MDA3'!M18,Y18,AN18)","v":0},0,{"$f":"_xlfn.IFS(AND(AU18=0,AW18=0,AX18=0),0,AND(AU18=0,AW18=0,AX18>0),AI18,AND(AU18=0,AW18>0,AX18=0),T18,AND(AU18=0,AW18>0,AX18>0),MAX(T18,AI18),AND(AU18>0,AW18=0,AX18=0),MIN('MDA4'!R18,AZ18),AND(AU18>0,AW18=0,AX18>0),MIN(MAX('MDA4'!R18,AI18),AZ18),AND(AU18>0,AW18>0,AX18=0),MIN(MAX('MDA4'!R18,T18),AZ18),AND(AU18>0,AW18>0,AX18>0),MIN(MAX('MDA4'!R18,AI18,T18),AZ18))","v":0},{"$f":"_xlfn.IFS(AND(AU18=0,AV18=0,AW18=0,AX18=0),0,AND(AU18=0,AV18=0,AW18=0,AX18>0),AL18,AND(AU18=0,AV18=0,AW18>0,AX18=0),W18,AND(AU18=0,AV18=0,AW18>0,AX18>0),MAX(W18,AL18),AND(AU18=0,AV18>0,AW18=0,AX18=0),MIN(J18*PROFILE!$G$9,MAX('MDA3'!I18,'MDA3'!L18)),AND(AU18=0,AV18>0,AW18=0,AX18>0),MIN(J18*PROFILE!$G$9,MAX('MDA3'!I18,'MDA3'!L18,AL18)),AND(AU18=0,AV18>0,AW18>0,AX18=0),MIN(J18*PROFILE!$G$9,MAX('MDA3'!I18,'MDA3'!L18,W18)),AND(AU18=0,AV18>0,AW18>0,AX18>0),MIN(J18*PROFILE!$G$9,MAX('MDA3'!I18,'MDA3'!L18,W18,AL18)),AND(AU18>0,AV18=0,AW18=0,AX18=0), MIN(BA18,MAX('MDA1'!K18,'MDA4'!S18)),AND(AU18>0,AV18=0,AW18=0,AX18>0), MIN(BA18,MAX('MDA1'!K18,'MDA4'!S18,AL18)),AND(AU18>0,AV18=0,AW18>0,AX18=0),MIN(BA18,MAX('MDA1'!K18,'MDA4'!S18,W18)),AND(AU18>0,AV18=0,AW18>0,AX18>0),MIN(BA18,MAX('MDA1'!K18,'MDA4'!S18,W18,AL18)),AND(AU18>0,AV18>0,AW18=0,AX18=0),MIN(BA18, MAX('MDA1'!K18,'MDA4'!S18,MAX('MDA3'!I18,'MDA3'!L18))), AND(AU18>0,AV18>0,AW18=0,AX18>0),MIN(BA18, MAX('MDA1'!K18,'MDA4'!S18,MAX( 'MDA3'!I18,'MDA3'!L18),AL18)), AND(AU18>0,AV18>0,AW18>0,AX18=0), MIN(BA18, MAX('MDA1'!K18,'MDA4'!S18,MAX( 'MDA3'!I18,'MDA3'!L18),W18)), AND(AU18>0,AV18>0,AW18>0,AX18>0), MIN(BA18, MAX('MDA1'!K18,'MDA4'!S18,MAX( 'MDA3'!I18,'MDA3'!L18),W18,AL18)))","v":0},{"$f":"_xlfn.IFS(AND(AU18=0,AV18=0,AW18=0,AX18=0),0,AND(AU18=0,AV18=0,AW18=0,AX18>0),AO18,AND(AU18=0,AV18=0,AW18>0,AX18=0),Z18,AND(AU18=0,AV18=0,AW18>0,AX18>0),MAX(Z18,AO18),AND(AU18=0,AV18>0,AW18=0,AX18=0),MIN(J18*PROFILE!$G$10,MAX('MDA3'!J18,'MDA3'!J18)),AND(AU18=0,AV18>0,AW18=0,AX18>0),MIN(J18*PROFILE!$G$10,MAX('MDA3'!J18,'MDA3'!M18,AO18)),AND(AU18=0,AV18>0,AW18>0,AX18=0),MIN(J18*PROFILE!$G$10,MAX('MDA3'!J18,'MDA3'!M18,Z18)),AND(AU18=0,AV18>0,AW18>0,AX18>0),MIN(J18*PROFILE!$G$10,MAX('MDA3'!J18,'MDA3'!M18,Z18,AO18)),AND(AU18>0,AV18=0,AW18=0,AX18=0), MIN(BB18,MAX('MDA1'!L18,'MDA4'!T18)),AND(AU18>0,AV18=0,AW18=0,AX18>0), MIN(BB18,MAX('MDA1'!L18,'MDA4'!T18,AO18)),AND(AU18>0,AV18=0,AW18>0,AX18=0),MIN(BB18,MAX('MDA1'!L18,'MDA4'!T18,Z18)),AND(AU18>0,AV18=0,AW18>0,AX18>0),MIN(BB18,MAX('MDA1'!L18,'MDA4'!T18,Z18,AO18)),AND(AU18>0,AV18>0,AW18=0,AX18=0),MIN(BB18, MAX('MDA1'!L18,'MDA4'!T18,MAX( 'MDA3'!J18,'MDA3'!M18))), AND(AU18>0,AV18>0,AW18=0,AX18>0),MIN(BB18, MAX('MDA1'!L18,'MDA4'!T18,MAX( 'MDA3'!J18,'MDA3'!M18),AO18)), AND(AU18>0,AV18>0,AW18>0,AX18=0), MIN(BB18, MAX('MDA1'!L18,'MDA4'!T18,MAX( 'MDA3'!J18,'MDA3'!M18),Z18)), AND(AU18>0,AV18>0,AW18>0,AX18>0), MIN(BB18, MAX('MDA1'!L18,'MDA4'!T18,MAX( 'MDA3'!J18,'MDA3'!M18),Z18,AO18)))","v":0},0,0]
[{"$f":"IF(COUNTRY_INFO!A19=0,\" \",COUNTRY_INFO!A19)","v":"South Sudan"},{"$f":"IF(COUNTRY_INFO!B19=0,\" \",COUNTRY_INFO!B19)","v":"Eastern Equatoria"},{"$f":"IF(COUNTRY_INFO!C19=0,\" \",COUNTRY_INFO!C19)","v":"KAPOETA EAST"},{"$f":"COUNTRY_INFO!M19","v":303981.79880000005},null,null,{"$f":"'MDA1'!M19+'MDA4'!U19","v":136182},{"$f":"IF(AND(COUNTRY_INFO!H19>0,COUNTRY_INFO!H19<4),IF(D19>G19,G19,D19),0)","v":136182},{"$f":"IF(AND(COUNTRY_INFO!H19>0,COUNTRY_INFO!H19<4), IF(G19/D19*100<>0, IF(G19/D19*100>100,100,G19/D19*100), \"-\"),0)","v":44.79939277206487},{"$f":"COUNTRY_INFO!N19","v":"Unknown"},null,null,{"$f":"MAX('MDA1'!M19,MAX('MDA3'!I19,'MDA3'!L19)+MAX('MDA3'!J19,'MDA3'!M19))","v":0},{"$f":"IF(AND(COUNTRY_INFO!I19>0,COUNTRY_INFO!I19<4),IF(J19>M19,M19,J19),0)","v":0},{"$f":"IF(AND(COUNTRY_INFO!I19>0,COUNTRY_INFO!I19<4), IF(M19/J19*100<>0, IF(M19/J19*100>100,100,M19/J19*100), \"-\"),0)","v":0},{"$f":"COUNTRY_INFO!R19","v":0},null,null,{"$f":"MAX('MDA4'!R19,'T1'!K19, MAX(T3_R1!J19,T3_R2!J19,T3_R3!J19))","v":0},{"$f":"IF(AND(COUNTRY_INFO!J19>1,COUNTRY_INFO!J19<99,COUNTRY_INFO!J19<>4,COUNTRY_INFO!J19<>5),IF(COUNTRY_INFO!O19>S19,S19,COUNTRY_INFO!O19),0)","v":0},{"$f":"IF(AND(COUNTRY_INFO!J19>1,COUNTRY_INFO!J19<99,COUNTRY_INFO!J19<>4,COUNTRY_INFO!J19<>5), IF(T19/COUNTRY_INFO!O19*100<>0, IF(T19/COUNTRY_INFO!O19*100>100,100,T19/COUNTRY_INFO!O19*100), \"-\"),0)","v":0},{"$f":"MAX('MDA1'!K19,'MDA4'!S19, 'T1'!L19, MAX(T3_R1!K19,T3_R2!K19,T3_R3!K19))","v":67069},{"$f":"IF(AND(COUNTRY_INFO!J19>1,COUNTRY_INFO!J19<99,COUNTRY_INFO!J19<>4,COUNTRY_INFO!J19<>5),IF(COUNTRY_INFO!P19>V19,V19,COUNTRY_INFO!P19),0)","v":0},{"$f":"IF(AND(COUNTRY_INFO!J19>1,COUNTRY_INFO!J19<99,COUNTRY_INFO!J19<>4,COUNTRY_INFO!J19<>5), IF(W19/COUNTRY_INFO!P19*100<>0, IF(W19/COUNTRY_INFO!P19*100>100,100,W19/COUNTRY_INFO!P19*100), \"-\"),0)","v":0},{"$f":"MAX('MDA1'!L19,'MDA4'!T19, 'T1'!M19, MAX(T3_R1!L19,T3_R2!L19,T3_R3!L19))","v":69113},{"$f":"IF(AND(COUNTRY_INFO!J19>1,COUNTRY_INFO!J19<99,COUNTRY_INFO!J19<>4,COUNTRY_INFO!J19<>5),IF(COUNTRY_INFO!Q19>Y19,Y19,COUNTRY_INFO!Q19),0)","v":0},{"$f":"IF(AND(COUNTRY_INFO!J19>1,COUNTRY_INFO!J19<99,COUNTRY_INFO!J19<>4,COUNTRY_INFO!J19<>5), IF(Z19/COUNTRY_INFO!Q19*100<>0, IF(Z19/COUNTRY_INFO!Q19*100>100,100,Z19/COUNTRY_INFO!Q19*100), \"-\"),0)","v":0},136182,0,{"$f":"IF(AND(COUNTRY_INFO!J19>1,COUNTRY_INFO!J19<99,COUNTRY_INFO!J19<>4,COUNTRY_INFO!J19<>5), IF(AC19/P19*100<>0, IF(AC19/P19*100>100,100,AC19/P19*100), \"-\"),0)","v":0},{"$f":"COUNTRY_INFO!V19","v":0},null,null,{"$f":"MAX('T1'!K19,'T2'!R19)","v":0},{"$f":"IF(AND(COUNTRY_INFO!K19>1,COUNTRY_INFO!K19<99,COUNTRY_INFO!K19<>4,COUNTRY_INFO!K19<>5),IF(COUNTRY_INFO!S19>AH19,AH19,COUNTRY_INFO!S19),0)","v":0},{"$f":"IF(AND(COUNTRY_INFO!K19>1,COUNTRY_INFO!K19<99,COUNTRY_INFO!K19<>4,COUNTRY_INFO!K19<>5), IF(AI19/COUNTRY_INFO!S19*100<>0, IF(AI19/COUNTRY_INFO!S19*100>100,100,AI19/COUNTRY_INFO!S19*100), \"-\"),0)","v":0},{"$f":"MAX('T1'!L19,'T2'!S19)","v":0},{"$f":"IF(AND(COUNTRY_INFO!K19>1,COUNTRY_INFO!K19<99,COUNTRY_INFO!K19<>4,COUNTRY_INFO!K19<>5),IF(COUNTRY_INFO!T19>AK19,AK19,COUNTRY_INFO!T19),0)","v":0},{"$f":"IF(AND(COUNTRY_INFO!K19>1,COUNTRY_INFO!K19<99,COUNTRY_INFO!K19<>4,COUNTRY_INFO!K19<>5), IF(AL19/COUNTRY_INFO!T19*100<>0, IF(AL19/COUNTRY_INFO!T19*100>100,100,AL19/COUNTRY_INFO!T19*100), \"-\"),0)","v":0},{"$f":"MAX('T1'!M19,'T2'!T19)","v":0},{"$f":"IF(AND(COUNTRY_INFO!K19>1,COUNTRY_INFO!K19<99,COUNTRY_INFO!K19<>4,COUNTRY_INFO!K19<>5),IF(COUNTRY_INFO!U19>AN19,AN19,COUNTRY_INFO!U19),0)","v":0},{"$f":"IF(AND(COUNTRY_INFO!K19>1,COUNTRY_INFO!K19<99,COUNTRY_INFO!K19<>4,COUNTRY_INFO!K19<>5), IF(AO19/COUNTRY_INFO!U19*100<>0, IF(AO19/COUNTRY_INFO!U19*100>100,100,AO19/COUNTRY_INFO!U19*100), \"-\"),0)","v":0},0,0,{"$f":"IF(AND(COUNTRY_INFO!K19>1,COUNTRY_INFO!K19<99,COUNTRY_INFO!K19<>4,COUNTRY_INFO!K19<>5), IF(AH19/AE19*100<>0, IF(AR19/AE19*100>100,100,AR19/AE19*100), \"-\"),0)","v":0},null,{"$f":"IF(AND(D19<>0, D19<>\"Unknown\",D19<>\"Stopped\",D19<>\"Not required\"),D19/COUNTRY_INFO!D19, 0)","v":1},{"$f":"IF(AND(J19<>0,J19<>\"Unknown\",J19<>\"Stopped\",J19<>\"Not required\"),J19/COUNTRY_INFO!D19, 0)","v":0},{"$f":"IF(AND(P19<>0,P19<>\"Unknown\",P19<>\"Surveillance\",P19<>\"Not required\"),P19/COUNTRY_INFO!R19, 0)","v":0},{"$f":"IF(AND(AE19<>0,AE19<>\"Unknown\",AE19<>\"Surveillance\",AE19<>\"Not required\"),AE19/COUNTRY_INFO!V19, 0)","v":0},{"$f":"IF(AU19>0,D19*PROFILE!$G$7,IF(AV19>0,J19*PROFILE!$G$7,0))","v":8359.478861715872},{"$f":"_xlfn.IFS(OR(AU19>0,AW19>0),COUNTRY_INFO!E19, AV19>0,J19*PROFILE!$G$8,AX19>0,COUNTRY_INFO!S19,COUNTIFS(AU19:AX19,\">0\")=0,0)","v":33651},{"$f":"_xlfn.IFS(OR(AU19>0,AW19>0),COUNTRY_INFO!F19, AV19>0,J19*PROFILE!$G$9,AX19>0,COUNTRY_INFO!T19,COUNTIFS(AU19:AX19,\">0\")=0,0)","v":93900},{"$f":"_xlfn.IFS(AU19>0,COUNTRY_INFO!G19, AND(AV19>0,AW19=0,AX19=0),J19*PROFILE!$G$10,AND(AV19>0,AW19>0,AX19=0), MAX(J19*PROFILE!$G$10,COUNTRY_INFO!Q19),AND(AV19>0,AW19=0,AX19>0), MAX(J19*PROFILE!$G$10,COUNTRY_INFO!U19),AND(AV19=0,AW19>0,AX19>0), MAX(COUNTRY_INFO!Q19,COUNTRY_INFO!U19),AND(AV19=0,AW19>0,AX19=0),COUNTRY_INFO!Q19,AND(AV19=0,AW19=0,AX19>0),COUNTRY_INFO!U19,AND(AV19>0,AW19>0,AX19>0), MAX(J19*PROFILE!$G$10,COUNTRY_INFO!Q19,COUNTRY_INFO!U19),COUNTIFS(AU19:AX19,\">0\")=0,0)","v":168072},303982.47886171588,"Y",{"$f":"MAX('MDA4'!R19,S19,AH19)","v":0},{"$f":"MAX('MDA1'!K19,'MDA4'!S19,'MDA3'!I19,'MDA3'!L19,V19,AK19)","v":67069},{"$f":"MAX('MDA1'!L19,'MDA4'!T19,'MDA3'!J19,'MDA3'!M19,Y19,AN19)","v":69113},136182,{"$f":"_xlfn.IFS(AND(AU19=0,AW19=0,AX19=0),0,AND(AU19=0,AW19=0,AX19>0),AI19,AND(AU19=0,AW19>0,AX19=0),T19,AND(AU19=0,AW19>0,AX19>0),MAX(T19,AI19),AND(AU19>0,AW19=0,AX19=0),MIN('MDA4'!R19,AZ19),AND(AU19>0,AW19=0,AX19>0),MIN(MAX('MDA4'!R19,AI19),AZ19),AND(AU19>0,AW19>0,AX19=0),MIN(MAX('MDA4'!R19,T19),AZ19),AND(AU19>0,AW19>0,AX19>0),MIN(MAX('MDA4'!R19,AI19,T19),AZ19))","v":0},{"$f":"_xlfn.IFS(AND(AU19=0,AV19=0,AW19=0,AX19=0),0,AND(AU19=0,AV19=0,AW19=0,AX19>0),AL19,AND(AU19=0,AV19=0,AW19>0,AX19=0),W19,AND(AU19=0,AV19=0,AW19>0,AX19>0),MAX(W19,AL19),AND(AU19=0,AV19>0,AW19=0,AX19=0),MIN(J19*PROFILE!$G$9,MAX('MDA3'!I19,'MDA3'!L19)),AND(AU19=0,AV19>0,AW19=0,AX19>0),MIN(J19*PROFILE!$G$9,MAX('MDA3'!I19,'MDA3'!L19,AL19)),AND(AU19=0,AV19>0,AW19>0,AX19=0),MIN(J19*PROFILE!$G$9,MAX('MDA3'!I19,'MDA3'!L19,W19)),AND(AU19=0,AV19>0,AW19>0,AX19>0),MIN(J19*PROFILE!$G$9,MAX('MDA3'!I19,'MDA3'!L19,W19,AL19)),AND(AU19>0,AV19=0,AW19=0,AX19=0), MIN(BA19,MAX('MDA1'!K19,'MDA4'!S19)),AND(AU19>0,AV19=0,AW19=0,AX19>0), MIN(BA19,MAX('MDA1'!K19,'MDA4'!S19,AL19)),AND(AU19>0,AV19=0,AW19>0,AX19=0),MIN(BA19,MAX('MDA1'!K19,'MDA4'!S19,W19)),AND(AU19>0,AV19=0,AW19>0,AX19>0),MIN(BA19,MAX('MDA1'!K19,'MDA4'!S19,W19,AL19)),AND(AU19>0,AV19>0,AW19=0,AX19=0),MIN(BA19, MAX('MDA1'!K19,'MDA4'!S19,MAX('MDA3'!I19,'MDA3'!L19))), AND(AU19>0,AV19>0,AW19=0,AX19>0),MIN(BA19, MAX('MDA1'!K19,'MDA4'!S19,MAX( 'MDA3'!I19,'MDA3'!L19),AL19)), AND(AU19>0,AV19>0,AW19>0,AX19=0), MIN(BA19, MAX('MDA1'!K19,'MDA4'!S19,MAX( 'MDA3'!I19,'MDA3'!L19),W19)), AND(AU19>0,AV19>0,AW19>0,AX19>0), MIN(BA19, MAX('MDA1'!K19,'MDA4'!S19,MAX( 'MDA3'!I19,'MDA3'!L19),W19,AL19)))","v":67069},{"$f":"_xlfn.IFS(AND(AU19=0,AV19=0,AW19=0,AX19=0),0,AND(AU19=0,AV19=0,AW19=0,AX19>0),AO19,AND(AU19=0,AV19=0,AW19>0,AX19=0),Z19,AND(AU19=0,AV19=0,AW19>0,AX19>0),MAX(Z19,AO19),AND(AU19=0,AV19>0,AW19=0,AX19=0),MIN(J19*PROFILE!$G$10,MAX('MDA3'!J19,'MDA3'!J19)),AND(AU19=0,AV19>0,AW19=0,AX19>0),MIN(J19*PROFILE!$G$10,MAX('MDA3'!J19,'MDA3'!M19,AO19)),AND(AU19=0,AV19>0,AW19>0,AX19=0),MIN(J19*PROFILE!$G$10,MAX('MDA3'!J19,'MDA3'!M19,Z19)),AND(AU19=0,AV19>0,AW19>0,AX19>0),MIN(J19*PROFILE!$G$10,MAX('MDA3'!J19,'MDA3'!M19,Z19,AO19)),AND(AU19>0,AV19=0,AW19=0,AX19=0), MIN(BB19,MAX('MDA1'!L19,'MDA4'!T19)),AND(AU19>0,AV19=0,AW19=0,AX19>0), MIN(BB19,MAX('MDA1'!L19,'MDA4'!T19,AO19)),AND(AU19>0,AV19=0,AW19>0,AX19=0),MIN(BB19,MAX('MDA1'!L19,'MDA4'!T19,Z19)),AND(AU19>0,AV19=0,AW19>0,AX19>0),MIN(BB19,MAX('MDA1'!L19,'MDA4'!T19,Z19,AO19)),AND(AU19>0,AV19>0,AW19=0,AX19=0),MIN(BB19, MAX('MDA1'!L19,'MDA4'!T19,MAX( 'MDA3'!J19,'MDA3'!M19))), AND(AU19>0,AV19>0,AW19=0,AX19>0),MIN(BB19, MAX('MDA1'!L19,'MDA4'!T19,MAX( 'MDA3'!J19,'MDA3'!M19),AO19)), AND(AU19>0,AV19>0,AW19>0,AX19=0), MIN(BB19, MAX('MDA1'!L19,'MDA4'!T19,MAX( 'MDA3'!J19,'MDA3'!M19),Z19)), AND(AU19>0,AV19>0,AW19>0,AX19>0), MIN(BB19, MAX('MDA1'!L19,'MDA4'!T19,MAX( 'MDA3'!J19,'MDA3'!M19),Z19,AO19)))","v":69113},136182,44.799292548025541]
[{"$f":"IF(COUNTRY_INFO!A20=0,\" \",COUNTRY_INFO!A20)","v":"South Sudan"},{"$f":"IF(COUNTRY_INFO!B20=0,\" \",COUNTRY_INFO!B20)","v":"Eastern Equatoria"},{"$f":"IF(COUNTRY_INFO!C20=0,\" \",COUNTRY_INFO!C20)","v":"KAPOETA SOUTH"},{"$f":"COUNTRY_INFO!M20","v":147791.8572},null,null,{"$f":"'MDA1'!M20+'MDA4'!U20","v":97759},{"$f":"IF(AND(COUNTRY_INFO!H20>0,COUNTRY_INFO!H20<4),IF(D20>G20,G20,D20),0)","v":97759},{"$f":"IF(AND(COUNTRY_INFO!H20>0,COUNTRY_INFO!H20<4), IF(G20/D20*100<>0, IF(G20/D20*100>100,100,G20/D20*100), \"-\"),0)","v":66.146404715455461},{"$f":"COUNTRY_INFO!N20","v":"Unknown"},null,null,{"$f":"MAX('MDA1'!M20,MAX('MDA3'!I20,'MDA3'!L20)+MAX('MDA3'!J20,'MDA3'!M20))","v":97759},{"$f":"IF(AND(COUNTRY_INFO!I20>0,COUNTRY_INFO!I20<4),IF(J20>M20,M20,J20),0)","v":0},{"$f":"IF(AND(COUNTRY_INFO!I20>0,COUNTRY_INFO!I20<4), IF(M20/J20*100<>0, IF(M20/J20*100>100,100,M20/J20*100), \"-\"),0)","v":0},{"$f":"COUNTRY_INFO!R20","v":0},null,null,{"$f":"MAX('MDA4'!R20,'T1'!K20, MAX(T3_R1!J20,T3_R2!J20,T3_R3!J20))","v":0},{"$f":"IF(AND(COUNTRY_INFO!J20>1,COUNTRY_INFO!J20<99,COUNTRY_INFO!J20<>4,COUNTRY_INFO!J20<>5),IF(COUNTRY_INFO!O20>S20,S20,COUNTRY_INFO!O20),0)","v":0},{"$f":"IF(AND(COUNTRY_INFO!J20>1,COUNTRY_INFO!J20<99,COUNTRY_INFO!J20<>4,COUNTRY_INFO!J20<>5), IF(T20/COUNTRY_INFO!O20*100<>0, IF(T20/COUNTRY_INFO!O20*100>100,100,T20/COUNTRY_INFO!O20*100), \"-\"),0)","v":0},{"$f":"MAX('MDA1'!K20,'MDA4'!S20, 'T1'!L20, MAX(T3_R1!K20,T3_R2!K20,T3_R3!K20))","v":46892},{"$f":"IF(AND(COUNTRY_INFO!J20>1,COUNTRY_INFO!J20<99,COUNTRY_INFO!J20<>4,COUNTRY_INFO!J20<>5),IF(COUNTRY_INFO!P20>V20,V20,COUNTRY_INFO!P20),0)","v":0},{"$f":"IF(AND(COUNTRY_INFO!J20>1,COUNTRY_INFO!J20<99,COUNTRY_INFO!J20<>4,COUNTRY_INFO!J20<>5), IF(W20/COUNTRY_INFO!P20*100<>0, IF(W20/COUNTRY_INFO!P20*100>100,100,W20/COUNTRY_INFO!P20*100), \"-\"),0)","v":0},{"$f":"MAX('MDA1'!L20,'MDA4'!T20, 'T1'!M20, MAX(T3_R1!L20,T3_R2!L20,T3_R3!L20))","v":50867},{"$f":"IF(AND(COUNTRY_INFO!J20>1,COUNTRY_INFO!J20<99,COUNTRY_INFO!J20<>4,COUNTRY_INFO!J20<>5),IF(COUNTRY_INFO!Q20>Y20,Y20,COUNTRY_INFO!Q20),0)","v":0},{"$f":"IF(AND(COUNTRY_INFO!J20>1,COUNTRY_INFO!J20<99,COUNTRY_INFO!J20<>4,COUNTRY_INFO!J20<>5), IF(Z20/COUNTRY_INFO!Q20*100<>0, IF(Z20/COUNTRY_INFO!Q20*100>100,100,Z20/COUNTRY_INFO!Q20*100), \"-\"),0)","v":0},97759,0,{"$f":"IF(AND(COUNTRY_INFO!J20>1,COUNTRY_INFO!J20<99,COUNTRY_INFO!J20<>4,COUNTRY_INFO!J20<>5), IF(AC20/P20*100<>0, IF(AC20/P20*100>100,100,AC20/P20*100), \"-\"),0)","v":0},{"$f":"COUNTRY_INFO!V20","v":0},null,null,{"$f":"MAX('T1'!K20,'T2'!R20)","v":0},{"$f":"IF(AND(COUNTRY_INFO!K20>1,COUNTRY_INFO!K20<99,COUNTRY_INFO!K20<>4,COUNTRY_INFO!K20<>5),IF(COUNTRY_INFO!S20>AH20,AH20,COUNTRY_INFO!S20),0)","v":0},{"$f":"IF(AND(COUNTRY_INFO!K20>1,COUNTRY_INFO!K20<99,COUNTRY_INFO!K20<>4,COUNTRY_INFO!K20<>5), IF(AI20/COUNTRY_INFO!S20*100<>0, IF(AI20/COUNTRY_INFO!S20*100>100,100,AI20/COUNTRY_INFO!S20*100), \"-\"),0)","v":0},{"$f":"MAX('T1'!L20,'T2'!S20)","v":0},{"$f":"IF(AND(COUNTRY_INFO!K20>1,COUNTRY_INFO!K20<99,COUNTRY_INFO!K20<>4,COUNTRY_INFO!K20<>5),IF(COUNTRY_INFO!T20>AK20,AK20,COUNTRY_INFO!T20),0)","v":0},{"$f":"IF(AND(COUNTRY_INFO!K20>1,COUNTRY_INFO!K20<99,COUNTRY_INFO!K20<>4,COUNTRY_INFO!K20<>5), IF(AL20/COUNTRY_INFO!T20*100<>0, IF(AL20/COUNTRY_INFO!T20*100>100,100,AL20/COUNTRY_INFO!T20*100), \"-\"),0)","v":0},{"$f":"MAX('T1'!M20,'T2'!T20)","v":0},{"$f":"IF(AND(COUNTRY_INFO!K20>1,COUNTRY_INFO!K20<99,COUNTRY_INFO!K20<>4,COUNTRY_INFO!K20<>5),IF(COUNTRY_INFO!U20>AN20,AN20,COUNTRY_INFO!U20),0)","v":0},{"$f":"IF(AND(COUNTRY_INFO!K20>1,COUNTRY_INFO!K20<99,COUNTRY_INFO!K20<>4,COUNTRY_INFO!K20<>5), IF(AO20/COUNTRY_INFO!U20*100<>0, IF(AO20/COUNTRY_INFO!U20*100>100,100,AO20/COUNTRY_INFO!U20*100), \"-\"),0)","v":0},0,0,{"$f":"IF(AND(COUNTRY_INFO!K20>1,COUNTRY_INFO!K20<99,COUNTRY_INFO!K20<>4,COUNTRY_INFO!K20<>5), IF(AH20/AE20*100<>0, IF(AR20/AE20*100>100,100,AR20/AE20*100), \"-\"),0)","v":0},null,{"$f":"IF(AND(D20<>0, D20<>\"Unknown\",D20<>\"Stopped\",D20<>\"Not required\"),D20/COUNTRY_INFO!D20, 0)","v":1},{"$f":"IF(AND(J20<>0,J20<>\"Unknown\",J20<>\"Stopped\",J20<>\"Not required\"),J20/COUNTRY_INFO!D20, 0)","v":0},{"$f":"IF(AND(P20<>0,P20<>\"Unknown\",P20<>\"Surveillance\",P20<>\"Not required\"),P20/COUNTRY_INFO!R20, 0)","v":0},{"$f":"IF(AND(AE20<>0,AE20<>\"Unknown\",AE20<>\"Surveillance\",AE20<>\"Not required\"),AE20/COUNTRY_INFO!V20, 0)","v":0},{"$f":"IF(AU20>0,D20*PROFILE!$G$7,IF(AV20>0,J20*PROFILE!$G$7,0))","v":4064.2660549883244},{"$f":"_xlfn.IFS(OR(AU20>0,AW20>0),COUNTRY_INFO!E20, AV20>0,J20*PROFILE!$G$8,AX20>0,COUNTRY_INFO!S20,COUNTIFS(AU20:AX20,\">0\")=0,0)","v":16361},{"$f":"_xlfn.IFS(OR(AU20>0,AW20>0),COUNTRY_INFO!F20, AV20>0,J20*PROFILE!$G$9,AX20>0,COUNTRY_INFO!T20,COUNTIFS(AU20:AX20,\">0\")=0,0)","v":45653},{"$f":"_xlfn.IFS(AU20>0,COUNTRY_INFO!G20, AND(AV20>0,AW20=0,AX20=0),J20*PROFILE!$G$10,AND(AV20>0,AW20>0,AX20=0), MAX(J20*PROFILE!$G$10,COUNTRY_INFO!Q20),AND(AV20>0,AW20=0,AX20>0), MAX(J20*PROFILE!$G$10,COUNTRY_INFO!U20),AND(AV20=0,AW20>0,AX20>0), MAX(COUNTRY_INFO!Q20,COUNTRY_INFO!U20),AND(AV20=0,AW20>0,AX20=0),COUNTRY_INFO!Q20,AND(AV20=0,AW20=0,AX20>0),COUNTRY_INFO!U20,AND(AV20>0,AW20>0,AX20>0), MAX(J20*PROFILE!$G$10,COUNTRY_INFO!Q20,COUNTRY_INFO!U20),COUNTIFS(AU20:AX20,\">0\")=0,0)","v":81714},147792.26605498831,"Y",{"$f":"MAX('MDA4'!R20,S20,AH20)","v":0},{"$f":"MAX('MDA1'!K20,'MDA4'!S20,'MDA3'!I20,'MDA3'!L20,V20,AK20)","v":46892},{"$f":"MAX('MDA1'!L20,'MDA4'!T20,'MDA3'!J20,'MDA3'!M20,Y20,AN20)","v":50867},97759,{"$f":"_xlfn.IFS(AND(AU20=0,AW20=0,AX20=0),0,AND(AU20=0,AW20=0,AX20>0),AI20,AND(AU20=0,AW20>0,AX20=0),T20,AND(AU20=0,AW20>0,AX20>0),MAX(T20,AI20),AND(AU20>0,AW20=0,AX20=0),MIN('MDA4'!R20,AZ20),AND(AU20>0,AW20=0,AX20>0),MIN(MAX('MDA4'!R20,AI20),AZ20),AND(AU20>0,AW20>0,AX20=0),MIN(MAX('MDA4'!R20,T20),AZ20),AND(AU20>0,AW20>0,AX20>0),MIN(MAX('MDA4'!R20,AI20,T20),AZ20))","v":0},{"$f":"_xlfn.IFS(AND(AU20=0,AV20=0,AW20=0,AX20=0),0,AND(AU20=0,AV20=0,AW20=0,AX20>0),AL20,AND(AU20=0,AV20=0,AW20>0,AX20=0),W20,AND(AU20=0,AV20=0,AW20>0,AX20>0),MAX(W20,AL20),AND(AU20=0,AV20>0,AW20=0,AX20=0),MIN(J20*PROFILE!$G$9,MAX('MDA3'!I20,'MDA3'!L20)),AND(AU20=0,AV20>0,AW20=0,AX20>0),MIN(J20*PROFILE!$G$9,MAX('MDA3'!I20,'MDA3'!L20,AL20)),AND(AU20=0,AV20>0,AW20>0,AX20=0),MIN(J20*PROFILE!$G$9,MAX('MDA3'!I20,'MDA3'!L20,W20)),AND(AU20=0,AV20>0,AW20>0,AX20>0),MIN(J20*PROFILE!$G$9,MAX('MDA3'!I20,'MDA3'!L20,W20,AL20)),AND(AU20>0,AV20=0,AW20=0,AX20=0), MIN(BA20,MAX('MDA1'!K20,'MDA4'!S20)),AND(AU20>0,AV20=0,AW20=0,AX20>0), MIN(BA20,MAX('MDA1'!K20,'MDA4'!S20,AL20)),AND(AU20>0,AV20=0,AW20>0,AX20=0),MIN(BA20,MAX('MDA1'!K20,'MDA4'!S20,W20)),AND(AU20>0,AV20=0,AW20>0,AX20>0),MIN(BA20,MAX('MDA1'!K20,'MDA4'!S20,W20,AL20)),AND(AU20>0,AV20>0,AW20=0,AX20=0),MIN(BA20, MAX('MDA1'!K20,'MDA4'!S20,MAX('MDA3'!I20,'MDA3'!L20))), AND(AU20>0,AV20>0,AW20=0,AX20>0),MIN(BA20, MAX('MDA1'!K20,'MDA4'!S20,MAX( 'MDA3'!I20,'MDA3'!L20),AL20)), AND(AU20>0,AV20>0,AW20>0,AX20=0), MIN(BA20, MAX('MDA1'!K20,'MDA4'!S20,MAX( 'MDA3'!I20,'MDA3'!L20),W20)), AND(AU20>0,AV20>0,AW20>0,AX20>0), MIN(BA20, MAX('MDA1'!K20,'MDA4'!S20,MAX( 'MDA3'!I20,'MDA3'!L20),W20,AL20)))","v":45653},{"$f":"_xlfn.IFS(AND(AU20=0,AV20=0,AW20=0,AX20=0),0,AND(AU20=0,AV20=0,AW20=0,AX20>0),AO20,AND(AU20=0,AV20=0,AW20>0,AX20=0),Z20,AND(AU20=0,AV20=0,AW20>0,AX20>0),MAX(Z20,AO20),AND(AU20=0,AV20>0,AW20=0,AX20=0),MIN(J20*PROFILE!$G$10,MAX('MDA3'!J20,'MDA3'!J20)),AND(AU20=0,AV20>0,AW20=0,AX20>0),MIN(J20*PROFILE!$G$10,MAX('MDA3'!J20,'MDA3'!M20,AO20)),AND(AU20=0,AV20>0,AW20>0,AX20=0),MIN(J20*PROFILE!$G$10,MAX('MDA3'!J20,'MDA3'!M20,Z20)),AND(AU20=0,AV20>0,AW20>0,AX20>0),MIN(J20*PROFILE!$G$10,MAX('MDA3'!J20,'MDA3'!M20,Z20,AO20)),AND(AU20>0,AV20=0,AW20=0,AX20=0), MIN(BB20,MAX('MDA1'!L20,'MDA4'!T20)),AND(AU20>0,AV20=0,AW20=0,AX20>0), MIN(BB20,MAX('MDA1'!L20,'MDA4'!T20,AO20)),AND(AU20>0,AV20=0,AW20>0,AX20=0),MIN(BB20,MAX('MDA1'!L20,'MDA4'!T20,Z20)),AND(AU20>0,AV20=0,AW20>0,AX20>0),MIN(BB20,MAX('MDA1'!L20,'MDA4'!T20,Z20,AO20)),AND(AU20>0,AV20>0,AW20=0,AX20=0),MIN(BB20, MAX('MDA1'!L20,'MDA4'!T20,MAX( 'MDA3'!J20,'MDA3'!M20))), AND(AU20>0,AV20>0,AW20=0,AX20>0),MIN(BB20, MAX('MDA1'!L20,'MDA4'!T20,MAX( 'MDA3'!J20,'MDA3'!M20),AO20)), AND(AU20>0,AV20>0,AW20>0,AX20=0), MIN(BB20, MAX('MDA1'!L20,'MDA4'!T20,MAX( 'MDA3'!J20,'MDA3'!M20),Z20)), AND(AU20>0,AV20>0,AW20>0,AX20>0), MIN(BB20, MAX('MDA1'!L20,'MDA4'!T20,MAX( 'MDA3'!J20,'MDA3'!M20),Z20,AO20)))","v":50867},96520,65.307882865865452]
[{"$f":"IF(COUNTRY_INFO!A21=0,\" \",COUNTRY_INFO!A21)","v":"South Sudan"},{"$f":"IF(COUNTRY_INFO!B21=0,\" \",COUNTRY_INFO!B21)","v":"Eastern Equatoria"},{"$f":"IF(COUNTRY_INFO!C21=0,\" \",COUNTRY_INFO!C21)","v":"BUDI"},{"$f":"COUNTRY_INFO!M21","v":184739.82150000002},null,null,{"$f":"'MDA1'!M21+'MDA4'!U21","v":67048},{"$f":"IF(AND(COUNTRY_INFO!H21>0,COUNTRY_INFO!H21<4),IF(D21>G21,G21,D21),0)","v":67048},{"$f":"IF(AND(COUNTRY_INFO!H21>0,COUNTRY_INFO!H21<4), IF(G21/D21*100<>0, IF(G21/D21*100>100,100,G21/D21*100), \"-\"),0)","v":36.293203845062713},{"$f":"COUNTRY_INFO!N21","v":"Unknown"},null,null,{"$f":"MAX('MDA1'!M21,MAX('MDA3'!I21,'MDA3'!L21)+MAX('MDA3'!J21,'MDA3'!M21))","v":67048},{"$f":"IF(AND(COUNTRY_INFO!I21>0,COUNTRY_INFO!I21<4),IF(J21>M21,M21,J21),0)","v":0},{"$f":"IF(AND(COUNTRY_INFO!I21>0,COUNTRY_INFO!I21<4), IF(M21/J21*100<>0, IF(M21/J21*100>100,100,M21/J21*100), \"-\"),0)","v":0},{"$f":"COUNTRY_INFO!R21","v":0},null,null,{"$f":"MAX('MDA4'!R21,'T1'!K21, MAX(T3_R1!J21,T3_R2!J21,T3_R3!J21))","v":0},{"$f":"IF(AND(COUNTRY_INFO!J21>1,COUNTRY_INFO!J21<99,COUNTRY_INFO!J21<>4,COUNTRY_INFO!J21<>5),IF(COUNTRY_INFO!O21>S21,S21,COUNTRY_INFO!O21),0)","v":0},{"$f":"IF(AND(COUNTRY_INFO!J21>1,COUNTRY_INFO!J21<99,COUNTRY_INFO!J21<>4,COUNTRY_INFO!J21<>5), IF(T21/COUNTRY_INFO!O21*100<>0, IF(T21/COUNTRY_INFO!O21*100>100,100,T21/COUNTRY_INFO!O21*100), \"-\"),0)","v":0},{"$f":"MAX('MDA1'!K21,'MDA4'!S21, 'T1'!L21, MAX(T3_R1!K21,T3_R2!K21,T3_R3!K21))","v":28980},{"$f":"IF(AND(COUNTRY_INFO!J21>1,COUNTRY_INFO!J21<99,COUNTRY_INFO!J21<>4,COUNTRY_INFO!J21<>5),IF(COUNTRY_INFO!P21>V21,V21,COUNTRY_INFO!P21),0)","v":0},{"$f":"IF(AND(COUNTRY_INFO!J21>1,COUNTRY_INFO!J21<99,COUNTRY_INFO!J21<>4,COUNTRY_INFO!J21<>5), IF(W21/COUNTRY_INFO!P21*100<>0, IF(W21/COUNTRY_INFO!P21*100>100,100,W21/COUNTRY_INFO!P21*100), \"-\"),0)","v":0},{"$f":"MAX('MDA1'!L21,'MDA4'!T21, 'T1'!M21, MAX(T3_R1!L21,T3_R2!L21,T3_R3!L21))","v":38068},{"$f":"IF(AND(COUNTRY_INFO!J21>1,COUNTRY_INFO!J21<99,COUNTRY_INFO!J21<>4,COUNTRY_INFO!J21<>5),IF(COUNTRY_INFO!Q21>Y21,Y21,COUNTRY_INFO!Q21),0)","v":0},{"$f":"IF(AND(COUNTRY_INFO!J21>1,COUNTRY_INFO!J21<99,COUNTRY_INFO!J21<>4,COUNTRY_INFO!J21<>5), IF(Z21/COUNTRY_INFO!Q21*100<>0, IF(Z21/COUNTRY_INFO!Q21*100>100,100,Z21/COUNTRY_INFO!Q21*100), \"-\"),0)","v":0},67048,0,{"$f":"IF(AND(COUNTRY_INFO!J21>1,COUNTRY_INFO!J21<99,COUNTRY_INFO!J21<>4,COUNTRY_INFO!J21<>5), IF(AC21/P21*100<>0, IF(AC21/P21*100>100,100,AC21/P21*100), \"-\"),0)","v":0},{"$f":"COUNTRY_INFO!V21","v":0},null,null,{"$f":"MAX('T1'!K21,'T2'!R21)","v":0},{"$f":"IF(AND(COUNTRY_INFO!K21>1,COUNTRY_INFO!K21<99,COUNTRY_INFO!K21<>4,COUNTRY_INFO!K21<>5),IF(COUNTRY_INFO!S21>AH21,AH21,COUNTRY_INFO!S21),0)","v":0},{"$f":"IF(AND(COUNTRY_INFO!K21>1,COUNTRY_INFO!K21<99,COUNTRY_INFO!K21<>4,COUNTRY_INFO!K21<>5), IF(AI21/COUNTRY_INFO!S21*100<>0, IF(AI21/COUNTRY_INFO!S21*100>100,100,AI21/COUNTRY_INFO!S21*100), \"-\"),0)","v":0},{"$f":"MAX('T1'!L21,'T2'!S21)","v":0},{"$f":"IF(AND(COUNTRY_INFO!K21>1,COUNTRY_INFO!K21<99,COUNTRY_INFO!K21<>4,COUNTRY_INFO!K21<>5),IF(COUNTRY_INFO!T21>AK21,AK21,COUNTRY_INFO!T21),0)","v":0},{"$f":"IF(AND(COUNTRY_INFO!K21>1,COUNTRY_INFO!K21<99,COUNTRY_INFO!K21<>4,COUNTRY_INFO!K21<>5), IF(AL21/COUNTRY_INFO!T21*100<>0, IF(AL21/COUNTRY_INFO!T21*100>100,100,AL21/COUNTRY_INFO!T21*100), \"-\"),0)","v":0},{"$f":"MAX('T1'!M21,'T2'!T21)","v":0},{"$f":"IF(AND(COUNTRY_INFO!K21>1,COUNTRY_INFO!K21<99,COUNTRY_INFO!K21<>4,COUNTRY_INFO!K21<>5),IF(COUNTRY_INFO!U21>AN21,AN21,COUNTRY_INFO!U21),0)","v":0},{"$f":"IF(AND(COUNTRY_INFO!K21>1,COUNTRY_INFO!K21<99,COUNTRY_INFO!K21<>4,COUNTRY_INFO!K21<>5), IF(AO21/COUNTRY_INFO!U21*100<>0, IF(AO21/COUNTRY_INFO!U21*100>100,100,AO21/COUNTRY_INFO!U21*100), \"-\"),0)","v":0},0,0,{"$f":"IF(AND(COUNTRY_INFO!K21>1,COUNTRY_INFO!K21<99,COUNTRY_INFO!K21<>4,COUNTRY_INFO!K21<>5), IF(AH21/AE21*100<>0, IF(AR21/AE21*100>100,100,AR21/AE21*100), \"-\"),0)","v":0},null,{"$f":"IF(AND(D21<>0, D21<>\"Unknown\",D21<>\"Stopped\",D21<>\"Not required\"),D21/COUNTRY_INFO!D21, 0)","v":1},{"$f":"IF(AND(J21<>0,J21<>\"Unknown\",J21<>\"Stopped\",J21<>\"Not required\"),J21/COUNTRY_INFO!D21, 0)","v":0},{"$f":"IF(AND(P21<>0,P21<>\"Unknown\",P21<>\"Surveillance\",P21<>\"Not required\"),P21/COUNTRY_INFO!R21, 0)","v":0},{"$f":"IF(AND(AE21<>0,AE21<>\"Unknown\",AE21<>\"Surveillance\",AE21<>\"Not required\"),AE21/COUNTRY_INFO!V21, 0)","v":0},{"$f":"IF(AU21>0,D21*PROFILE!$G$7,IF(AV21>0,J21*PROFILE!$G$7,0))","v":5080.3325687354063},{"$f":"_xlfn.IFS(OR(AU21>0,AW21>0),COUNTRY_INFO!E21, AV21>0,J21*PROFILE!$G$8,AX21>0,COUNTRY_INFO!S21,COUNTIFS(AU21:AX21,\">0\")=0,0)","v":20451},{"$f":"_xlfn.IFS(OR(AU21>0,AW21>0),COUNTRY_INFO!F21, AV21>0,J21*PROFILE!$G$9,AX21>0,COUNTRY_INFO!T21,COUNTIFS(AU21:AX21,\">0\")=0,0)","v":57066},{"$f":"_xlfn.IFS(AU21>0,COUNTRY_INFO!G21, AND(AV21>0,AW21=0,AX21=0),J21*PROFILE!$G$10,AND(AV21>0,AW21>0,AX21=0), MAX(J21*PROFILE!$G$10,COUNTRY_INFO!Q21),AND(AV21>0,AW21=0,AX21>0), MAX(J21*PROFILE!$G$10,COUNTRY_INFO!U21),AND(AV21=0,AW21>0,AX21>0), MAX(COUNTRY_INFO!Q21,COUNTRY_INFO!U21),AND(AV21=0,AW21>0,AX21=0),COUNTRY_INFO!Q21,AND(AV21=0,AW21=0,AX21>0),COUNTRY_INFO!U21,AND(AV21>0,AW21>0,AX21>0), MAX(J21*PROFILE!$G$10,COUNTRY_INFO!Q21,COUNTRY_INFO!U21),COUNTIFS(AU21:AX21,\">0\")=0,0)","v":102143},184740.33256873541,"Y",{"$f":"MAX('MDA4'!R21,S21,AH21)","v":0},{"$f":"MAX('MDA1'!K21,'MDA4'!S21,'MDA3'!I21,'MDA3'!L21,V21,AK21)","v":28980},{"$f":"MAX('MDA1'!L21,'MDA4'!T21,'MDA3'!J21,'MDA3'!M21,Y21,AN21)","v":38068},67048,{"$f":"_xlfn.IFS(AND(AU21=0,AW21=0,AX21=0),0,AND(AU21=0,AW21=0,AX21>0),AI21,AND(AU21=0,AW21>0,AX21=0),T21,AND(AU21=0,AW21>0,AX21>0),MAX(T21,AI21),AND(AU21>0,AW21=0,AX21=0),MIN('MDA4'!R21,AZ21),AND(AU21>0,AW21=0,AX21>0),MIN(MAX('MDA4'!R21,AI21),AZ21),AND(AU21>0,AW21>0,AX21=0),MIN(MAX('MDA4'!R21,T21),AZ21),AND(AU21>0,AW21>0,AX21>0),MIN(MAX('MDA4'!R21,AI21,T21),AZ21))","v":0},{"$f":"_xlfn.IFS(AND(AU21=0,AV21=0,AW21=0,AX21=0),0,AND(AU21=0,AV21=0,AW21=0,AX21>0),AL21,AND(AU21=0,AV21=0,AW21>0,AX21=0),W21,AND(AU21=0,AV21=0,AW21>0,AX21>0),MAX(W21,AL21),AND(AU21=0,AV21>0,AW21=0,AX21=0),MIN(J21*PROFILE!$G$9,MAX('MDA3'!I21,'MDA3'!L21)),AND(AU21=0,AV21>0,AW21=0,AX21>0),MIN(J21*PROFILE!$G$9,MAX('MDA3'!I21,'MDA3'!L21,AL21)),AND(AU21=0,AV21>0,AW21>0,AX21=0),MIN(J21*PROFILE!$G$9,MAX('MDA3'!I21,'MDA3'!L21,W21)),AND(AU21=0,AV21>0,AW21>0,AX21>0),MIN(J21*PROFILE!$G$9,MAX('MDA3'!I21,'MDA3'!L21,W21,AL21)),AND(AU21>0,AV21=0,AW21=0,AX21=0), MIN(BA21,MAX('MDA1'!K21,'MDA4'!S21)),AND(AU21>0,AV21=0,AW21=0,AX21>0), MIN(BA21,MAX('MDA1'!K21,'MDA4'!S21,AL21)),AND(AU21>0,AV21=0,AW21>0,AX21=0),MIN(BA21,MAX('MDA1'!K21,'MDA4'!S21,W21)),AND(AU21>0,AV21=0,AW21>0,AX21>0),MIN(BA21,MAX('MDA1'!K21,'MDA4'!S21,W21,AL21)),AND(AU21>0,AV21>0,AW21=0,AX21=0),MIN(BA21, MAX('MDA1'!K21,'MDA4'!S21,MAX('MDA3'!I21,'MDA3'!L21))), AND(AU21>0,AV21>0,AW21=0,AX21>0),MIN(BA21, MAX('MDA1'!K21,'MDA4'!S21,MAX( 'MDA3'!I21,'MDA3'!L21),AL21)), AND(AU21>0,AV21>0,AW21>0,AX21=0), MIN(BA21, MAX('MDA1'!K21,'MDA4'!S21,MAX( 'MDA3'!I21,'MDA3'!L21),W21)), AND(AU21>0,AV21>0,AW21>0,AX21>0), MIN(BA21, MAX('MDA1'!K21,'MDA4'!S21,MAX( 'MDA3'!I21,'MDA3'!L21),W21,AL21)))","v":28980},{"$f":"_xlfn.IFS(AND(AU21=0,AV21=0,AW21=0,AX21=0),0,AND(AU21=0,AV21=0,AW21=0,AX21>0),AO21,AND(AU21=0,AV21=0,AW21>0,AX21=0),Z21,AND(AU21=0,AV21=0,AW21>0,AX21>0),MAX(Z21,AO21),AND(AU21=0,AV21>0,AW21=0,AX21=0),MIN(J21*PROFILE!$G$10,MAX('MDA3'!J21,'MDA3'!J21)),AND(AU21=0,AV21>0,AW21=0,AX21>0),MIN(J21*PROFILE!$G$10,MAX('MDA3'!J21,'MDA3'!M21,AO21)),AND(AU21=0,AV21>0,AW21>0,AX21=0),MIN(J21*PROFILE!$G$10,MAX('MDA3'!J21,'MDA3'!M21,Z21)),AND(AU21=0,AV21>0,AW21>0,AX21>0),MIN(J21*PROFILE!$G$10,MAX('MDA3'!J21,'MDA3'!M21,Z21,AO21)),AND(AU21>0,AV21=0,AW21=0,AX21=0), MIN(BB21,MAX('MDA1'!L21,'MDA4'!T21)),AND(AU21>0,AV21=0,AW21=0,AX21>0), MIN(BB21,MAX('MDA1'!L21,'MDA4'!T21,AO21)),AND(AU21>0,AV21=0,AW21>0,AX21=0),MIN(BB21,MAX('MDA1'!L21,'MDA4'!T21,Z21)),AND(AU21>0,AV21=0,AW21>0,AX21>0),MIN(BB21,MAX('MDA1'!L21,'MDA4'!T21,Z21,AO21)),AND(AU21>0,AV21>0,AW21=0,AX21=0),MIN(BB21, MAX('MDA1'!L21,'MDA4'!T21,MAX( 'MDA3'!J21,'MDA3'!M21))), AND(AU21>0,AV21>0,AW21=0,AX21>0),MIN(BB21, MAX('MDA1'!L21,'MDA4'!T21,MAX( 'MDA3'!J21,'MDA3'!M21),AO21)), AND(AU21>0,AV21>0,AW21>0,AX21=0), MIN(BB21, MAX('MDA1'!L21,'MDA4'!T21,MAX( 'MDA3'!J21,'MDA3'!M21),Z21)), AND(AU21>0,AV21>0,AW21>0,AX21>0), MIN(BB21, MAX('MDA1'!L21,'MDA4'!T21,MAX( 'MDA3'!J21,'MDA3'!M21),Z21,AO21)))","v":38068},67048,36.293103442938637]
[{"$f":"IF(COUNTRY_INFO!A22=0,\" \",COUNTRY_INFO!A22)","v":"South Sudan"},{"$f":"IF(COUNTRY_INFO!B22=0,\" \",COUNTRY_INFO!B22)","v":"Eastern Equatoria"},{"$f":"IF(COUNTRY_INFO!C22=0,\" \",COUNTRY_INFO!C22)","v":"IKOTOS"},{"$f":"COUNTRY_INFO!M22","v":156189.94159999999},null,null,{"$f":"'MDA1'!M22+'MDA4'!U22","v":100036},{"$f":"IF(AND(COUNTRY_INFO!H22>0,COUNTRY_INFO!H22<4),IF(D22>G22,G22,D22),0)","v":100036},{"$f":"IF(AND(COUNTRY_INFO!H22>0,COUNTRY_INFO!H22<4), IF(G22/D22*100<>0, IF(G22/D22*100>100,100,G22/D22*100), \"-\"),0)","v":64.047658239216616},{"$f":"COUNTRY_INFO!N22","v":156189.94159999999},null,null,{"$f":"MAX('MDA1'!M22,MAX('MDA3'!I22,'MDA3'!L22)+MAX('MDA3'!J22,'MDA3'!M22))","v":100036},{"$f":"IF(AND(COUNTRY_INFO!I22>0,COUNTRY_INFO!I22<4),IF(J22>M22,M22,J22),0)","v":100036},{"$f":"IF(AND(COUNTRY_INFO!I22>0,COUNTRY_INFO!I22<4), IF(M22/J22*100<>0, IF(M22/J22*100>100,100,M22/J22*100), \"-\"),0)","v":64.047658239216616},{"$f":"COUNTRY_INFO!R22","v":0},null,null,{"$f":"MAX('MDA4'!R22,'T1'!K22, MAX(T3_R1!J22,T3_R2!J22,T3_R3!J22))","v":0},{"$f":"IF(AND(COUNTRY_INFO!J22>1,COUNTRY_INFO!J22<99,COUNTRY_INFO!J22<>4,COUNTRY_INFO!J22<>5),IF(COUNTRY_INFO!O22>S22,S22,COUNTRY_INFO!O22),0)","v":0},{"$f":"IF(AND(COUNTRY_INFO!J22>1,COUNTRY_INFO!J22<99,COUNTRY_INFO!J22<>4,COUNTRY_INFO!J22<>5), IF(T22/COUNTRY_INFO!O22*100<>0, IF(T22/COUNTRY_INFO!O22*100>100,100,T22/COUNTRY_INFO!O22*100), \"-\"),0)","v":0},{"$f":"MAX('MDA1'!K22,'MDA4'!S22, 'T1'!L22, MAX(T3_R1!K22,T3_R2!K22,T3_R3!K22))","v":46400},{"$f":"IF(AND(COUNTRY_INFO!J22>1,COUNTRY_INFO!J22<99,COUNTRY_INFO!J22<>4,COUNTRY_INFO!J22<>5),IF(COUNTRY_INFO!P22>V22,V22,COUNTRY_INFO!P22),0)","v":0},{"$f":"IF(AND(COUNTRY_INFO!J22>1,COUNTRY_INFO!J22<99,COUNTRY_INFO!J22<>4,COUNTRY_INFO!J22<>5), IF(W22/COUNTRY_INFO!P22*100<>0, IF(W22/COUNTRY_INFO!P22*100>100,100,W22/COUNTRY_INFO!P22*100), \"-\"),0)","v":0},{"$f":"MAX('MDA1'!L22,'MDA4'!T22, 'T1'!M22, MAX(T3_R1!L22,T3_R2!L22,T3_R3!L22))","v":53636},{"$f":"IF(AND(COUNTRY_INFO!J22>1,COUNTRY_INFO!J22<99,COUNTRY_INFO!J22<>4,COUNTRY_INFO!J22<>5),IF(COUNTRY_INFO!Q22>Y22,Y22,COUNTRY_INFO!Q22),0)","v":0},{"$f":"IF(AND(COUNTRY_INFO!J22>1,COUNTRY_INFO!J22<99,COUNTRY_INFO!J22<>4,COUNTRY_INFO!J22<>5), IF(Z22/COUNTRY_INFO!Q22*100<>0, IF(Z22/COUNTRY_INFO!Q22*100>100,100,Z22/COUNTRY_INFO!Q22*100), \"-\"),0)","v":0},100036,0,{"$f":"IF(AND(COUNTRY_INFO!J22>1,COUNTRY_INFO!J22<99,COUNTRY_INFO!J22<>4,COUNTRY_INFO!J22<>5), IF(AC22/P22*100<>0, IF(AC22/P22*100>100,100,AC22/P22*100), \"-\"),0)","v":0},{"$f":"COUNTRY_INFO!V22","v":0},null,null,{"$f":"MAX('T1'!K22,'T2'!R22)","v":0},{"$f":"IF(AND(COUNTRY_INFO!K22>1,COUNTRY_INFO!K22<99,COUNTRY_INFO!K22<>4,COUNTRY_INFO!K22<>5),IF(COUNTRY_INFO!S22>AH22,AH22,COUNTRY_INFO!S22),0)","v":0},{"$f":"IF(AND(COUNTRY_INFO!K22>1,COUNTRY_INFO!K22<99,COUNTRY_INFO!K22<>4,COUNTRY_INFO!K22<>5), IF(AI22/COUNTRY_INFO!S22*100<>0, IF(AI22/COUNTRY_INFO!S22*100>100,100,AI22/COUNTRY_INFO!S22*100), \"-\"),0)","v":0},{"$f":"MAX('T1'!L22,'T2'!S22)","v":0},{"$f":"IF(AND(COUNTRY_INFO!K22>1,COUNTRY_INFO!K22<99,COUNTRY_INFO!K22<>4,COUNTRY_INFO!K22<>5),IF(COUNTRY_INFO!T22>AK22,AK22,COUNTRY_INFO!T22),0)","v":0},{"$f":"IF(AND(COUNTRY_INFO!K22>1,COUNTRY_INFO!K22<99,COUNTRY_INFO!K22<>4,COUNTRY_INFO!K22<>5), IF(AL22/COUNTRY_INFO!T22*100<>0, IF(AL22/COUNTRY_INFO!T22*100>100,100,AL22/COUNTRY_INFO!T22*100), \"-\"),0)","v":0},{"$f":"MAX('T1'!M22,'T2'!T22)","v":0},{"$f":"IF(AND(COUNTRY_INFO!K22>1,COUNTRY_INFO!K22<99,COUNTRY_INFO!K22<>4,COUNTRY_INFO!K22<>5),IF(COUNTRY_INFO!U22>AN22,AN22,COUNTRY_INFO!U22),0)","v":0},{"$f":"IF(AND(COUNTRY_INFO!K22>1,COUNTRY_INFO!K22<99,COUNTRY_INFO!K22<>4,COUNTRY_INFO!K22<>5), IF(AO22/COUNTRY_INFO!U22*100<>0, IF(AO22/COUNTRY_INFO!U22*100>100,100,AO22/COUNTRY_INFO!U22*100), \"-\"),0)","v":0},0,0,{"$f":"IF(AND(COUNTRY_INFO!K22>1,COUNTRY_INFO!K22<99,COUNTRY_INFO!K22<>4,COUNTRY_INFO!K22<>5), IF(AH22/AE22*100<>0, IF(AR22/AE22*100>100,100,AR22/AE22*100), \"-\"),0)","v":0},null,{"$f":"IF(AND(D22<>0, D22<>\"Unknown\",D22<>\"Stopped\",D22<>\"Not required\"),D22/COUNTRY_INFO!D22, 0)","v":1},{"$f":"IF(AND(J22<>0,J22<>\"Unknown\",J22<>\"Stopped\",J22<>\"Not required\"),J22/COUNTRY_INFO!D22, 0)","v":1},{"$f":"IF(AND(P22<>0,P22<>\"Unknown\",P22<>\"Surveillance\",P22<>\"Not required\"),P22/COUNTRY_INFO!R22, 0)","v":0},{"$f":"IF(AND(AE22<>0,AE22<>\"Unknown\",AE22<>\"Surveillance\",AE22<>\"Not required\"),AE22/COUNTRY_INFO!V22, 0)","v":0},{"$f":"IF(AU22>0,D22*PROFILE!$G$7,IF(AV22>0,J22*PROFILE!$G$7,0))","v":4295.2128067275462},{"$f":"_xlfn.IFS(OR(AU22>0,AW22>0),COUNTRY_INFO!E22, AV22>0,J22*PROFILE!$G$8,AX22>0,COUNTRY_INFO!S22,COUNTIFS(AU22:AX22,\">0\")=0,0)","v":17290},{"$f":"_xlfn.IFS(OR(AU22>0,AW22>0),COUNTRY_INFO!F22, AV22>0,J22*PROFILE!$G$9,AX22>0,COUNTRY_INFO!T22,COUNTIFS(AU22:AX22,\">0\")=0,0)","v":48247},{"$f":"_xlfn.IFS(AU22>0,COUNTRY_INFO!G22, AND(AV22>0,AW22=0,AX22=0),J22*PROFILE!$G$10,AND(AV22>0,AW22>0,AX22=0), MAX(J22*PROFILE!$G$10,COUNTRY_INFO!Q22),AND(AV22>0,AW22=0,AX22>0), MAX(J22*PROFILE!$G$10,COUNTRY_INFO!U22),AND(AV22=0,AW22>0,AX22>0), MAX(COUNTRY_INFO!Q22,COUNTRY_INFO!U22),AND(AV22=0,AW22>0,AX22=0),COUNTRY_INFO!Q22,AND(AV22=0,AW22=0,AX22>0),COUNTRY_INFO!U22,AND(AV22>0,AW22>0,AX22>0), MAX(J22*PROFILE!$G$10,COUNTRY_INFO!Q22,COUNTRY_INFO!U22),COUNTIFS(AU22:AX22,\">0\")=0,0)","v":86357},156189.21280672756,"Y",{"$f":"MAX('MDA4'!R22,S22,AH22)","v":0},{"$f":"MAX('MDA1'!K22,'MDA4'!S22,'MDA3'!I22,'MDA3'!L22,V22,AK22)","v":46400},{"$f":"MAX('MDA1'!L22,'MDA4'!T22,'MDA3'!J22,'MDA3'!M22,Y22,AN22)","v":53636},100036,{"$f":"_xlfn.IFS(AND(AU22=0,AW22=0,AX22=0),0,AND(AU22=0,AW22=0,AX22>0),AI22,AND(AU22=0,AW22>0,AX22=0),T22,AND(AU22=0,AW22>0,AX22>0),MAX(T22,AI22),AND(AU22>0,AW22=0,AX22=0),MIN('MDA4'!R22,AZ22),AND(AU22>0,AW22=0,AX22>0),MIN(MAX('MDA4'!R22,AI22),AZ22),AND(AU22>0,AW22>0,AX22=0),MIN(MAX('MDA4'!R22,T22),AZ22),AND(AU22>0,AW22>0,AX22>0),MIN(MAX('MDA4'!R22,AI22,T22),AZ22))","v":0},{"$f":"_xlfn.IFS(AND(AU22=0,AV22=0,AW22=0,AX22=0),0,AND(AU22=0,AV22=0,AW22=0,AX22>0),AL22,AND(AU22=0,AV22=0,AW22>0,AX22=0),W22,AND(AU22=0,AV22=0,AW22>0,AX22>0),MAX(W22,AL22),AND(AU22=0,AV22>0,AW22=0,AX22=0),MIN(J22*PROFILE!$G$9,MAX('MDA3'!I22,'MDA3'!L22)),AND(AU22=0,AV22>0,AW22=0,AX22>0),MIN(J22*PROFILE!$G$9,MAX('MDA3'!I22,'MDA3'!L22,AL22)),AND(AU22=0,AV22>0,AW22>0,AX22=0),MIN(J22*PROFILE!$G$9,MAX('MDA3'!I22,'MDA3'!L22,W22)),AND(AU22=0,AV22>0,AW22>0,AX22>0),MIN(J22*PROFILE!$G$9,MAX('MDA3'!I22,'MDA3'!L22,W22,AL22)),AND(AU22>0,AV22=0,AW22=0,AX22=0), MIN(BA22,MAX('MDA1'!K22,'MDA4'!S22)),AND(AU22>0,AV22=0,AW22=0,AX22>0), MIN(BA22,MAX('MDA1'!K22,'MDA4'!S22,AL22)),AND(AU22>0,AV22=0,AW22>0,AX22=0),MIN(BA22,MAX('MDA1'!K22,'MDA4'!S22,W22)),AND(AU22>0,AV22=0,AW22>0,AX22>0),MIN(BA22,MAX('MDA1'!K22,'MDA4'!S22,W22,AL22)),AND(AU22>0,AV22>0,AW22=0,AX22=0),MIN(BA22, MAX('MDA1'!K22,'MDA4'!S22,MAX('MDA3'!I22,'MDA3'!L22))), AND(AU22>0,AV22>0,AW22=0,AX22>0),MIN(BA22, MAX('MDA1'!K22,'MDA4'!S22,MAX( 'MDA3'!I22,'MDA3'!L22),AL22)), AND(AU22>0,AV22>0,AW22>0,AX22=0), MIN(BA22, MAX('MDA1'!K22,'MDA4'!S22,MAX( 'MDA3'!I22,'MDA3'!L22),W22)), AND(AU22>0,AV22>0,AW22>0,AX22>0), MIN(BA22, MAX('MDA1'!K22,'MDA4'!S22,MAX( 'MDA3'!I22,'MDA3'!L22),W22,AL22)))","v":46400},{"$f":"_xlfn.IFS(AND(AU22=0,AV22=0,AW22=0,AX22=0),0,AND(AU22=0,AV22=0,AW22=0,AX22>0),AO22,AND(AU22=0,AV22=0,AW22>0,AX22=0),Z22,AND(AU22=0,AV22=0,AW22>0,AX22>0),MAX(Z22,AO22),AND(AU22=0,AV22>0,AW22=0,AX22=0),MIN(J22*PROFILE!$G$10,MAX('MDA3'!J22,'MDA3'!J22)),AND(AU22=0,AV22>0,AW22=0,AX22>0),MIN(J22*PROFILE!$G$10,MAX('MDA3'!J22,'MDA3'!M22,AO22)),AND(AU22=0,AV22>0,AW22>0,AX22=0),MIN(J22*PROFILE!$G$10,MAX('MDA3'!J22,'MDA3'!M22,Z22)),AND(AU22=0,AV22>0,AW22>0,AX22>0),MIN(J22*PROFILE!$G$10,MAX('MDA3'!J22,'MDA3'!M22,Z22,AO22)),AND(AU22>0,AV22=0,AW22=0,AX22=0), MIN(BB22,MAX('MDA1'!L22,'MDA4'!T22)),AND(AU22>0,AV22=0,AW22=0,AX22>0), MIN(BB22,MAX('MDA1'!L22,'MDA4'!T22,AO22)),AND(AU22>0,AV22=0,AW22>0,AX22=0),MIN(BB22,MAX('MDA1'!L22,'MDA4'!T22,Z22)),AND(AU22>0,AV22=0,AW22>0,AX22>0),MIN(BB22,MAX('MDA1'!L22,'MDA4'!T22,Z22,AO22)),AND(AU22>0,AV22>0,AW22=0,AX22=0),MIN(BB22, MAX('MDA1'!L22,'MDA4'!T22,MAX( 'MDA3'!J22,'MDA3'!M22))), AND(AU22>0,AV22>0,AW22=0,AX22>0),MIN(BB22, MAX('MDA1'!L22,'MDA4'!T22,MAX( 'MDA3'!J22,'MDA3'!M22),AO22)), AND(AU22>0,AV22>0,AW22>0,AX22=0), MIN(BB22, MAX('MDA1'!L22,'MDA4'!T22,MAX( 'MDA3'!J22,'MDA3'!M22),Z22)), AND(AU22>0,AV22>0,AW22>0,AX22>0), MIN(BB22, MAX('MDA1'!L22,'MDA4'!T22,MAX( 'MDA3'!J22,'MDA3'!M22),Z22,AO22)))","v":53636},100036,64.047957091497125]
[{"$f":"IF(COUNTRY_INFO!A23=0,\" \",COUNTRY_INFO!A23)","v":"South Sudan"},{"$f":"IF(COUNTRY_INFO!B23=0,\" \",COUNTRY_INFO!B23)","v":"Eastern Equatoria"},{"$f":"IF(COUNTRY_INFO!C23=0,\" \",COUNTRY_INFO!C23)","v":"MAGWI"},{"$f":"COUNTRY_INFO!M23","v":314058.22700000001},null,null,{"$f":"'MDA1'!M23+'MDA4'!U23","v":146299},{"$f":"IF(AND(COUNTRY_INFO!H23>0,COUNTRY_INFO!H23<4),IF(D23>G23,G23,D23),0)","v":146299},{"$f":"IF(AND(COUNTRY_INFO!H23>0,COUNTRY_INFO!H23<4), IF(G23/D23*100<>0, IF(G23/D23*100>100,100,G23/D23*100), \"-\"),0)","v":46.583399962962915},{"$f":"COUNTRY_INFO!N23","v":314058.22700000001},null,null,{"$f":"MAX('MDA1'!M23,MAX('MDA3'!I23,'MDA3'!L23)+MAX('MDA3'!J23,'MDA3'!M23))","v":146299},{"$f":"IF(AND(COUNTRY_INFO!I23>0,COUNTRY_INFO!I23<4),IF(J23>M23,M23,J23),0)","v":146299},{"$f":"IF(AND(COUNTRY_INFO!I23>0,COUNTRY_INFO!I23<4), IF(M23/J23*100<>0, IF(M23/J23*100>100,100,M23/J23*100), \"-\"),0)","v":46.583399962962915},{"$f":"COUNTRY_INFO!R23","v":0},null,null,{"$f":"MAX('MDA4'!R23,'T1'!K23, MAX(T3_R1!J23,T3_R2!J23,T3_R3!J23))","v":0},{"$f":"IF(AND(COUNTRY_INFO!J23>1,COUNTRY_INFO!J23<99,COUNTRY_INFO!J23<>4,COUNTRY_INFO!J23<>5),IF(COUNTRY_INFO!O23>S23,S23,COUNTRY_INFO!O23),0)","v":0},{"$f":"IF(AND(COUNTRY_INFO!J23>1,COUNTRY_INFO!J23<99,COUNTRY_INFO!J23<>4,COUNTRY_INFO!J23<>5), IF(T23/COUNTRY_INFO!O23*100<>0, IF(T23/COUNTRY_INFO!O23*100>100,100,T23/COUNTRY_INFO!O23*100), \"-\"),0)","v":0},{"$f":"MAX('MDA1'!K23,'MDA4'!S23, 'T1'!L23, MAX(T3_R1!K23,T3_R2!K23,T3_R3!K23))","v":73715},{"$f":"IF(AND(COUNTRY_INFO!J23>1,COUNTRY_INFO!J23<99,COUNTRY_INFO!J23<>4,COUNTRY_INFO!J23<>5),IF(COUNTRY_INFO!P23>V23,V23,COUNTRY_INFO!P23),0)","v":0},{"$f":"IF(AND(COUNTRY_INFO!J23>1,COUNTRY_INFO!J23<99,COUNTRY_INFO!J23<>4,COUNTRY_INFO!J23<>5), IF(W23/COUNTRY_INFO!P23*100<>0, IF(W23/COUNTRY_INFO!P23*100>100,100,W23/COUNTRY_INFO!P23*100), \"-\"),0)","v":0},{"$f":"MAX('MDA1'!L23,'MDA4'!T23, 'T1'!M23, MAX(T3_R1!L23,T3_R2!L23,T3_R3!L23))","v":72584},{"$f":"IF(AND(COUNTRY_INFO!J23>1,COUNTRY_INFO!J23<99,COUNTRY_INFO!J23<>4,COUNTRY_INFO!J23<>5),IF(COUNTRY_INFO!Q23>Y23,Y23,COUNTRY_INFO!Q23),0)","v":0},{"$f":"IF(AND(COUNTRY_INFO!J23>1,COUNTRY_INFO!J23<99,COUNTRY_INFO!J23<>4,COUNTRY_INFO!J23<>5), IF(Z23/COUNTRY_INFO!Q23*100<>0, IF(Z23/COUNTRY_INFO!Q23*100>100,100,Z23/COUNTRY_INFO!Q23*100), \"-\"),0)","v":0},146299,0,{"$f":"IF(AND(COUNTRY_INFO!J23>1,COUNTRY_INFO!J23<99,COUNTRY_INFO!J23<>4,COUNTRY_INFO!J23<>5), IF(AC23/P23*100<>0, IF(AC23/P23*100>100,100,AC23/P23*100), \"-\"),0)","v":0},{"$f":"COUNTRY_INFO!V23","v":50717},null,null,{"$f":"MAX('T1'!K23,'T2'!R23)","v":0},{"$f":"IF(AND(COUNTRY_INFO!K23>1,COUNTRY_INFO!K23<99,COUNTRY_INFO!K23<>4,COUNTRY_INFO!K23<>5),IF(COUNTRY_INFO!S23>AH23,AH23,COUNTRY_INFO!S23),0)","v":0},{"$f":"IF(AND(COUNTRY_INFO!K23>1,COUNTRY_INFO!K23<99,COUNTRY_INFO!K23<>4,COUNTRY_INFO!K23<>5), IF(AI23/COUNTRY_INFO!S23*100<>0, IF(AI23/COUNTRY_INFO!S23*100>100,100,AI23/COUNTRY_INFO!S23*100), \"-\"),0)","v":"-"},{"$f":"MAX('T1'!L23,'T2'!S23)","v":0},{"$f":"IF(AND(COUNTRY_INFO!K23>1,COUNTRY_INFO!K23<99,COUNTRY_INFO!K23<>4,COUNTRY_INFO!K23<>5),IF(COUNTRY_INFO!T23>AK23,AK23,COUNTRY_INFO!T23),0)","v":0},{"$f":"IF(AND(COUNTRY_INFO!K23>1,COUNTRY_INFO!K23<99,COUNTRY_INFO!K23<>4,COUNTRY_INFO!K23<>5), IF(AL23/COUNTRY_INFO!T23*100<>0, IF(AL23/COUNTRY_INFO!T23*100>100,100,AL23/COUNTRY_INFO!T23*100), \"-\"),0)","v":"-"},{"$f":"MAX('T1'!M23,'T2'!T23)","v":0},{"$f":"IF(AND(COUNTRY_INFO!K23>1,COUNTRY_INFO!K23<99,COUNTRY_INFO!K23<>4,COUNTRY_INFO!K23<>5),IF(COUNTRY_INFO!U23>AN23,AN23,COUNTRY_INFO!U23),0)","v":0},{"$f":"IF(AND(COUNTRY_INFO!K23>1,COUNTRY_INFO!K23<99,COUNTRY_INFO!K23<>4,COUNTRY_INFO!K23<>5), IF(AO23/COUNTRY_INFO!U23*100<>0, IF(AO23/COUNTRY_INFO!U23*100>100,100,AO23/COUNTRY_INFO!U23*100), \"-\"),0)","v":"-"},0,0,{"$f":"IF(AND(COUNTRY_INFO!K23>1,COUNTRY_INFO!K23<99,COUNTRY_INFO!K23<>4,COUNTRY_INFO!K23<>5), IF(AH23/AE23*100<>0, IF(AR23/AE23*100>100,100,AR23/AE23*100), \"-\"),0)","v":"-"},null,{"$f":"IF(AND(D23<>0, D23<>\"Unknown\",D23<>\"Stopped\",D23<>\"Not required\"),D23/COUNTRY_INFO!D23, 0)","v":1},{"$f":"IF(AND(J23<>0,J23<>\"Unknown\",J23<>\"Stopped\",J23<>\"Not required\"),J23/COUNTRY_INFO!D23, 0)","v":1},{"$f":"IF(AND(P23<>0,P23<>\"Unknown\",P23<>\"Surveillance\",P23<>\"Not required\"),P23/COUNTRY_INFO!R23, 0)","v":0},{"$f":"IF(AND(AE23<>0,AE23<>\"Unknown\",AE23<>\"Surveillance\",AE23<>\"Not required\"),AE23/COUNTRY_INFO!V23, 0)","v":1},{"$f":"IF(AU23>0,D23*PROFILE!$G$7,IF(AV23>0,J23*PROFILE!$G$7,0))","v":8636.5799541892338},{"$f":"_xlfn.IFS(OR(AU23>0,AW23>0),COUNTRY_INFO!E23, AV23>0,J23*PROFILE!$G$8,AX23>0,COUNTRY_INFO!S23,COUNTIFS(AU23:AX23,\">0\")=0,0)","v":34766},{"$f":"_xlfn.IFS(OR(AU23>0,AW23>0),COUNTRY_INFO!F23, AV23>0,J23*PROFILE!$G$9,AX23>0,COUNTRY_INFO!T23,COUNTIFS(AU23:AX23,\">0\")=0,0)","v":97013},{"$f":"_xlfn.IFS(AU23>0,COUNTRY_INFO!G23, AND(AV23>0,AW23=0,AX23=0),J23*PROFILE!$G$10,AND(AV23>0,AW23>0,AX23=0), MAX(J23*PROFILE!$G$10,COUNTRY_INFO!Q23),AND(AV23>0,AW23=0,AX23>0), MAX(J23*PROFILE!$G$10,COUNTRY_INFO!U23),AND(AV23=0,AW23>0,AX23>0), MAX(COUNTRY_INFO!Q23,COUNTRY_INFO!U23),AND(AV23=0,AW23>0,AX23=0),COUNTRY_INFO!Q23,AND(AV23=0,AW23=0,AX23>0),COUNTRY_INFO!U23,AND(AV23>0,AW23>0,AX23>0), MAX(J23*PROFILE!$G$10,COUNTRY_INFO!Q23,COUNTRY_INFO!U23),COUNTIFS(AU23:AX23,\">0\")=0,0)","v":173643},314058.57995418925,0,{"$f":"MAX('MDA4'!R23,S23,AH23)","v":0},{"$f":"MAX('MDA1'!K23,'MDA4'!S23,'MDA3'!I23,'MDA3'!L23,V23,AK23)","v":73715},{"$f":"MAX('MDA1'!L23,'MDA4'!T23,'MDA3'!J23,'MDA3'!M23,Y23,AN23)","v":72584},146299,{"$f":"_xlfn.IFS(AND(AU23=0,AW23=0,AX23=0),0,AND(AU23=0,AW23=0,AX23>0),AI23,AND(AU23=0,AW23>0,AX23=0),T23,AND(AU23=0,AW23>0,AX23>0),MAX(T23,AI23),AND(AU23>0,AW23=0,AX23=0),MIN('MDA4'!R23,AZ23),AND(AU23>0,AW23=0,AX23>0),MIN(MAX('MDA4'!R23,AI23),AZ23),AND(AU23>0,AW23>0,AX23=0),MIN(MAX('MDA4'!R23,T23),AZ23),AND(AU23>0,AW23>0,AX23>0),MIN(MAX('MDA4'!R23,AI23,T23),AZ23))","v":0},{"$f":"_xlfn.IFS(AND(AU23=0,AV23=0,AW23=0,AX23=0),0,AND(AU23=0,AV23=0,AW23=0,AX23>0),AL23,AND(AU23=0,AV23=0,AW23>0,AX23=0),W23,AND(AU23=0,AV23=0,AW23>0,AX23>0),MAX(W23,AL23),AND(AU23=0,AV23>0,AW23=0,AX23=0),MIN(J23*PROFILE!$G$9,MAX('MDA3'!I23,'MDA3'!L23)),AND(AU23=0,AV23>0,AW23=0,AX23>0),MIN(J23*PROFILE!$G$9,MAX('MDA3'!I23,'MDA3'!L23,AL23)),AND(AU23=0,AV23>0,AW23>0,AX23=0),MIN(J23*PROFILE!$G$9,MAX('MDA3'!I23,'MDA3'!L23,W23)),AND(AU23=0,AV23>0,AW23>0,AX23>0),MIN(J23*PROFILE!$G$9,MAX('MDA3'!I23,'MDA3'!L23,W23,AL23)),AND(AU23>0,AV23=0,AW23=0,AX23=0), MIN(BA23,MAX('MDA1'!K23,'MDA4'!S23)),AND(AU23>0,AV23=0,AW23=0,AX23>0), MIN(BA23,MAX('MDA1'!K23,'MDA4'!S23,AL23)),AND(AU23>0,AV23=0,AW23>0,AX23=0),MIN(BA23,MAX('MDA1'!K23,'MDA4'!S23,W23)),AND(AU23>0,AV23=0,AW23>0,AX23>0),MIN(BA23,MAX('MDA1'!K23,'MDA4'!S23,W23,AL23)),AND(AU23>0,AV23>0,AW23=0,AX23=0),MIN(BA23, MAX('MDA1'!K23,'MDA4'!S23,MAX('MDA3'!I23,'MDA3'!L23))), AND(AU23>0,AV23>0,AW23=0,AX23>0),MIN(BA23, MAX('MDA1'!K23,'MDA4'!S23,MAX( 'MDA3'!I23,'MDA3'!L23),AL23)), AND(AU23>0,AV23>0,AW23>0,AX23=0), MIN(BA23, MAX('MDA1'!K23,'MDA4'!S23,MAX( 'MDA3'!I23,'MDA3'!L23),W23)), AND(AU23>0,AV23>0,AW23>0,AX23>0), MIN(BA23, MAX('MDA1'!K23,'MDA4'!S23,MAX( 'MDA3'!I23,'MDA3'!L23),W23,AL23)))","v":73715},{"$f":"_xlfn.IFS(AND(AU23=0,AV23=0,AW23=0,AX23=0),0,AND(AU23=0,AV23=0,AW23=0,AX23>0),AO23,AND(AU23=0,AV23=0,AW23>0,AX23=0),Z23,AND(AU23=0,AV23=0,AW23>0,AX23>0),MAX(Z23,AO23),AND(AU23=0,AV23>0,AW23=0,AX23=0),MIN(J23*PROFILE!$G$10,MAX('MDA3'!J23,'MDA3'!J23)),AND(AU23=0,AV23>0,AW23=0,AX23>0),MIN(J23*PROFILE!$G$10,MAX('MDA3'!J23,'MDA3'!M23,AO23)),AND(AU23=0,AV23>0,AW23>0,AX23=0),MIN(J23*PROFILE!$G$10,MAX('MDA3'!J23,'MDA3'!M23,Z23)),AND(AU23=0,AV23>0,AW23>0,AX23>0),MIN(J23*PROFILE!$G$10,MAX('MDA3'!J23,'MDA3'!M23,Z23,AO23)),AND(AU23>0,AV23=0,AW23=0,AX23=0), MIN(BB23,MAX('MDA1'!L23,'MDA4'!T23)),AND(AU23>0,AV23=0,AW23=0,AX23>0), MIN(BB23,MAX('MDA1'!L23,'MDA4'!T23,AO23)),AND(AU23>0,AV23=0,AW23>0,AX23=0),MIN(BB23,MAX('MDA1'!L23,'MDA4'!T23,Z23)),AND(AU23>0,AV23=0,AW23>0,AX23>0),MIN(BB23,MAX('MDA1'!L23,'MDA4'!T23,Z23,AO23)),AND(AU23>0,AV23>0,AW23=0,AX23=0),MIN(BB23, MAX('MDA1'!L23,'MDA4'!T23,MAX( 'MDA3'!J23,'MDA3'!M23))), AND(AU23>0,AV23>0,AW23=0,AX23>0),MIN(BB23, MAX('MDA1'!L23,'MDA4'!T23,MAX( 'MDA3'!J23,'MDA3'!M23),AO23)), AND(AU23>0,AV23>0,AW23>0,AX23=0), MIN(BB23, MAX('MDA1'!L23,'MDA4'!T23,MAX( 'MDA3'!J23,'MDA3'!M23),Z23)), AND(AU23>0,AV23>0,AW23>0,AX23>0), MIN(BB23, MAX('MDA1'!L23,'MDA4'!T23,MAX( 'MDA3'!J23,'MDA3'!M23),Z23,AO23)))","v":72584},146299,46.583347610289835]
[{"$f":"IF(COUNTRY_INFO!A24=0,\" \",COUNTRY_INFO!A24)","v":"South Sudan"},{"$f":"IF(COUNTRY_INFO!B24=0,\" \",COUNTRY_INFO!B24)","v":"Jonglei"},{"$f":"IF(COUNTRY_INFO!C24=0,\" \",COUNTRY_INFO!C24)","v":"FANGAK"},{"$f":"COUNTRY_INFO!M24","v":177414.307},null,null,{"$f":"'MDA1'!M24+'MDA4'!U24","v":90698},{"$f":"IF(AND(COUNTRY_INFO!H24>0,COUNTRY_INFO!H24<4),IF(D24>G24,G24,D24),0)","v":90698},{"$f":"IF(AND(COUNTRY_INFO!H24>0,COUNTRY_INFO!H24<4), IF(G24/D24*100<>0, IF(G24/D24*100>100,100,G24/D24*100), \"-\"),0)","v":51.122145408487263},{"$f":"COUNTRY_INFO!N24","v":"Unknown"},null,null,{"$f":"MAX('MDA1'!M24,MAX('MDA3'!I24,'MDA3'!L24)+MAX('MDA3'!J24,'MDA3'!M24))","v":0},{"$f":"IF(AND(COUNTRY_INFO!I24>0,COUNTRY_INFO!I24<4),IF(J24>M24,M24,J24),0)","v":0},{"$f":"IF(AND(COUNTRY_INFO!I24>0,COUNTRY_INFO!I24<4), IF(M24/J24*100<>0, IF(M24/J24*100>100,100,M24/J24*100), \"-\"),0)","v":0},{"$f":"COUNTRY_INFO!R24","v":0},null,null,{"$f":"MAX('MDA4'!R24,'T1'!K24, MAX(T3_R1!J24,T3_R2!J24,T3_R3!J24))","v":0},{"$f":"IF(AND(COUNTRY_INFO!J24>1,COUNTRY_INFO!J24<99,COUNTRY_INFO!J24<>4,COUNTRY_INFO!J24<>5),IF(COUNTRY_INFO!O24>S24,S24,COUNTRY_INFO!O24),0)","v":0},{"$f":"IF(AND(COUNTRY_INFO!J24>1,COUNTRY_INFO!J24<99,COUNTRY_INFO!J24<>4,COUNTRY_INFO!J24<>5), IF(T24/COUNTRY_INFO!O24*100<>0, IF(T24/COUNTRY_INFO!O24*100>100,100,T24/COUNTRY_INFO!O24*100), \"-\"),0)","v":0},{"$f":"MAX('MDA1'!K24,'MDA4'!S24, 'T1'!L24, MAX(T3_R1!K24,T3_R2!K24,T3_R3!K24))","v":38107},{"$f":"IF(AND(COUNTRY_INFO!J24>1,COUNTRY_INFO!J24<99,COUNTRY_INFO!J24<>4,COUNTRY_INFO!J24<>5),IF(COUNTRY_INFO!P24>V24,V24,COUNTRY_INFO!P24),0)","v":0},{"$f":"IF(AND(COUNTRY_INFO!J24>1,COUNTRY_INFO!J24<99,COUNTRY_INFO!J24<>4,COUNTRY_INFO!J24<>5), IF(W24/COUNTRY_INFO!P24*100<>0, IF(W24/COUNTRY_INFO!P24*100>100,100,W24/COUNTRY_INFO!P24*100), \"-\"),0)","v":0},{"$f":"MAX('MDA1'!L24,'MDA4'!T24, 'T1'!M24, MAX(T3_R1!L24,T3_R2!L24,T3_R3!L24))","v":52591},{"$f":"IF(AND(COUNTRY_INFO!J24>1,COUNTRY_INFO!J24<99,COUNTRY_INFO!J24<>4,COUNTRY_INFO!J24<>5),IF(COUNTRY_INFO!Q24>Y24,Y24,COUNTRY_INFO!Q24),0)","v":0},{"$f":"IF(AND(COUNTRY_INFO!J24>1,COUNTRY_INFO!J24<99,COUNTRY_INFO!J24<>4,COUNTRY_INFO!J24<>5), IF(Z24/COUNTRY_INFO!Q24*100<>0, IF(Z24/COUNTRY_INFO!Q24*100>100,100,Z24/COUNTRY_INFO!Q24*100), \"-\"),0)","v":0},90698,0,{"$f":"IF(AND(COUNTRY_INFO!J24>1,COUNTRY_INFO!J24<99,COUNTRY_INFO!J24<>4,COUNTRY_INFO!J24<>5), IF(AC24/P24*100<>0, IF(AC24/P24*100>100,100,AC24/P24*100), \"-\"),0)","v":0},{"$f":"COUNTRY_INFO!V24","v":164824},null,null,{"$f":"MAX('T1'!K24,'T2'!R24)","v":0},{"$f":"IF(AND(COUNTRY_INFO!K24>1,COUNTRY_INFO!K24<99,COUNTRY_INFO!K24<>4,COUNTRY_INFO!K24<>5),IF(COUNTRY_INFO!S24>AH24,AH24,COUNTRY_INFO!S24),0)","v":0},{"$f":"IF(AND(COUNTRY_INFO!K24>1,COUNTRY_INFO!K24<99,COUNTRY_INFO!K24<>4,COUNTRY_INFO!K24<>5), IF(AI24/COUNTRY_INFO!S24*100<>0, IF(AI24/COUNTRY_INFO!S24*100>100,100,AI24/COUNTRY_INFO!S24*100), \"-\"),0)","v":"-"},{"$f":"MAX('T1'!L24,'T2'!S24)","v":0},{"$f":"IF(AND(COUNTRY_INFO!K24>1,COUNTRY_INFO!K24<99,COUNTRY_INFO!K24<>4,COUNTRY_INFO!K24<>5),IF(COUNTRY_INFO!T24>AK24,AK24,COUNTRY_INFO!T24),0)","v":0},{"$f":"IF(AND(COUNTRY_INFO!K24>1,COUNTRY_INFO!K24<99,COUNTRY_INFO!K24<>4,COUNTRY_INFO!K24<>5), IF(AL24/COUNTRY_INFO!T24*100<>0, IF(AL24/COUNTRY_INFO!T24*100>100,100,AL24/COUNTRY_INFO!T24*100), \"-\"),0)","v":"-"},{"$f":"MAX('T1'!M24,'T2'!T24)","v":0},{"$f":"IF(AND(COUNTRY_INFO!K24>1,COUNTRY_INFO!K24<99,COUNTRY_INFO!K24<>4,COUNTRY_INFO!K24<>5),IF(COUNTRY_INFO!U24>AN24,AN24,COUNTRY_INFO!U24),0)","v":0},{"$f":"IF(AND(COUNTRY_INFO!K24>1,COUNTRY_INFO!K24<99,COUNTRY_INFO!K24<>4,COUNTRY_INFO!K24<>5), IF(AO24/COUNTRY_INFO!U24*100<>0, IF(AO24/COUNTRY_INFO!U24*100>100,100,AO24/COUNTRY_INFO!U24*100), \"-\"),0)","v":"-"},0,0,{"$f":"IF(AND(COUNTRY_INFO!K24>1,COUNTRY_INFO!K24<99,COUNTRY_INFO!K24<>4,COUNTRY_INFO!K24<>5), IF(AH24/AE24*100<>0, IF(AR24/AE24*100>100,100,AR24/AE24*100), \"-\"),0)","v":"-"},null,{"$f":"IF(AND(D24<>0, D24<>\"Unknown\",D24<>\"Stopped\",D24<>\"Not required\"),D24/COUNTRY_INFO!D24, 0)","v":1},{"$f":"IF(AND(J24<>0,J24<>\"Unknown\",J24<>\"Stopped\",J24<>\"Not required\"),J24/COUNTRY_INFO!D24, 0)","v":0},{"$f":"IF(AND(P24<>0,P24<>\"Unknown\",P24<>\"Surveillance\",P24<>\"Not required\"),P24/COUNTRY_INFO!R24, 0)","v":0},{"$f":"IF(AND(AE24<>0,AE24<>\"Unknown\",AE24<>\"Surveillance\",AE24<>\"Not required\"),AE24/COUNTRY_INFO!V24, 0)","v":1},{"$f":"IF(AU24>0,D24*PROFILE!$G$7,IF(AV24>0,J24*PROFILE!$G$7,0))","v":4878.8814165424628},{"$f":"_xlfn.IFS(OR(AU24>0,AW24>0),COUNTRY_INFO!E24, AV24>0,J24*PROFILE!$G$8,AX24>0,COUNTRY_INFO!S24,COUNTIFS(AU24:AX24,\">0\")=0,0)","v":19640},{"$f":"_xlfn.IFS(OR(AU24>0,AW24>0),COUNTRY_INFO!F24, AV24>0,J24*PROFILE!$G$9,AX24>0,COUNTRY_INFO!T24,COUNTIFS(AU24:AX24,\">0\")=0,0)","v":54803},{"$f":"_xlfn.IFS(AU24>0,COUNTRY_INFO!G24, AND(AV24>0,AW24=0,AX24=0),J24*PROFILE!$G$10,AND(AV24>0,AW24>0,AX24=0), MAX(J24*PROFILE!$G$10,COUNTRY_INFO!Q24),AND(AV24>0,AW24=0,AX24>0), MAX(J24*PROFILE!$G$10,COUNTRY_INFO!U24),AND(AV24=0,AW24>0,AX24>0), MAX(COUNTRY_INFO!Q24,COUNTRY_INFO!U24),AND(AV24=0,AW24>0,AX24=0),COUNTRY_INFO!Q24,AND(AV24=0,AW24=0,AX24>0),COUNTRY_INFO!U24,AND(AV24>0,AW24>0,AX24>0), MAX(J24*PROFILE!$G$10,COUNTRY_INFO!Q24,COUNTRY_INFO!U24),COUNTIFS(AU24:AX24,\">0\")=0,0)","v":98092},177413.88141654246,0,{"$f":"MAX('MDA4'!R24,S24,AH24)","v":0},{"$f":"MAX('MDA1'!K24,'MDA4'!S24,'MDA3'!I24,'MDA3'!L24,V24,AK24)","v":38107},{"$f":"MAX('MDA1'!L24,'MDA4'!T24,'MDA3'!J24,'MDA3'!M24,Y24,AN24)","v":52591},90698,{"$f":"_xlfn.IFS(AND(AU24=0,AW24=0,AX24=0),0,AND(AU24=0,AW24=0,AX24>0),AI24,AND(AU24=0,AW24>0,AX24=0),T24,AND(AU24=0,AW24>0,AX24>0),MAX(T24,AI24),AND(AU24>0,AW24=0,AX24=0),MIN('MDA4'!R24,AZ24),AND(AU24>0,AW24=0,AX24>0),MIN(MAX('MDA4'!R24,AI24),AZ24),AND(AU24>0,AW24>0,AX24=0),MIN(MAX('MDA4'!R24,T24),AZ24),AND(AU24>0,AW24>0,AX24>0),MIN(MAX('MDA4'!R24,AI24,T24),AZ24))","v":0},{"$f":"_xlfn.IFS(AND(AU24=0,AV24=0,AW24=0,AX24=0),0,AND(AU24=0,AV24=0,AW24=0,AX24>0),AL24,AND(AU24=0,AV24=0,AW24>0,AX24=0),W24,AND(AU24=0,AV24=0,AW24>0,AX24>0),MAX(W24,AL24),AND(AU24=0,AV24>0,AW24=0,AX24=0),MIN(J24*PROFILE!$G$9,MAX('MDA3'!I24,'MDA3'!L24)),AND(AU24=0,AV24>0,AW24=0,AX24>0),MIN(J24*PROFILE!$G$9,MAX('MDA3'!I24,'MDA3'!L24,AL24)),AND(AU24=0,AV24>0,AW24>0,AX24=0),MIN(J24*PROFILE!$G$9,MAX('MDA3'!I24,'MDA3'!L24,W24)),AND(AU24=0,AV24>0,AW24>0,AX24>0),MIN(J24*PROFILE!$G$9,MAX('MDA3'!I24,'MDA3'!L24,W24,AL24)),AND(AU24>0,AV24=0,AW24=0,AX24=0), MIN(BA24,MAX('MDA1'!K24,'MDA4'!S24)),AND(AU24>0,AV24=0,AW24=0,AX24>0), MIN(BA24,MAX('MDA1'!K24,'MDA4'!S24,AL24)),AND(AU24>0,AV24=0,AW24>0,AX24=0),MIN(BA24,MAX('MDA1'!K24,'MDA4'!S24,W24)),AND(AU24>0,AV24=0,AW24>0,AX24>0),MIN(BA24,MAX('MDA1'!K24,'MDA4'!S24,W24,AL24)),AND(AU24>0,AV24>0,AW24=0,AX24=0),MIN(BA24, MAX('MDA1'!K24,'MDA4'!S24,MAX('MDA3'!I24,'MDA3'!L24))), AND(AU24>0,AV24>0,AW24=0,AX24>0),MIN(BA24, MAX('MDA1'!K24,'MDA4'!S24,MAX( 'MDA3'!I24,'MDA3'!L24),AL24)), AND(AU24>0,AV24>0,AW24>0,AX24=0), MIN(BA24, MAX('MDA1'!K24,'MDA4'!S24,MAX( 'MDA3'!I24,'MDA3'!L24),W24)), AND(AU24>0,AV24>0,AW24>0,AX24>0), MIN(BA24, MAX('MDA1'!K24,'MDA4'!S24,MAX( 'MDA3'!I24,'MDA3'!L24),W24,AL24)))","v":38107},{"$f":"_xlfn.IFS(AND(AU24=0,AV24=0,AW24=0,AX24=0),0,AND(AU24=0,AV24=0,AW24=0,AX24>0),AO24,AND(AU24=0,AV24=0,AW24>0,AX24=0),Z24,AND(AU24=0,AV24=0,AW24>0,AX24>0),MAX(Z24,AO24),AND(AU24=0,AV24>0,AW24=0,AX24=0),MIN(J24*PROFILE!$G$10,MAX('MDA3'!J24,'MDA3'!J24)),AND(AU24=0,AV24>0,AW24=0,AX24>0),MIN(J24*PROFILE!$G$10,MAX('MDA3'!J24,'MDA3'!M24,AO24)),AND(AU24=0,AV24>0,AW24>0,AX24=0),MIN(J24*PROFILE!$G$10,MAX('MDA3'!J24,'MDA3'!M24,Z24)),AND(AU24=0,AV24>0,AW24>0,AX24>0),MIN(J24*PROFILE!$G$10,MAX('MDA3'!J24,'MDA3'!M24,Z24,AO24)),AND(AU24>0,AV24=0,AW24=0,AX24=0), MIN(BB24,MAX('MDA1'!L24,'MDA4'!T24)),AND(AU24>0,AV24=0,AW24=0,AX24>0), MIN(BB24,MAX('MDA1'!L24,'MDA4'!T24,AO24)),AND(AU24>0,AV24=0,AW24>0,AX24=0),MIN(BB24,MAX('MDA1'!L24,'MDA4'!T24,Z24)),AND(AU24>0,AV24=0,AW24>0,AX24>0),MIN(BB24,MAX('MDA1'!L24,'MDA4'!T24,Z24,AO24)),AND(AU24>0,AV24>0,AW24=0,AX24=0),MIN(BB24, MAX('MDA1'!L24,'MDA4'!T24,MAX( 'MDA3'!J24,'MDA3'!M24))), AND(AU24>0,AV24>0,AW24=0,AX24>0),MIN(BB24, MAX('MDA1'!L24,'MDA4'!T24,MAX( 'MDA3'!J24,'MDA3'!M24),AO24)), AND(AU24>0,AV24>0,AW24>0,AX24=0), MIN(BB24, MAX('MDA1'!L24,'MDA4'!T24,MAX( 'MDA3'!J24,'MDA3'!M24),Z24)), AND(AU24>0,AV24>0,AW24>0,AX24>0), MIN(BB24, MAX('MDA1'!L24,'MDA4'!T24,MAX( 'MDA3'!J24,'MDA3'!M24),Z24,AO24)))","v":52591},90698,51.122268041165306]
[{"$f":"IF(COUNTRY_INFO!A25=0,\" \",COUNTRY_INFO!A25)","v":"South Sudan"},{"$f":"IF(COUNTRY_INFO!B25=0,\" \",COUNTRY_INFO!B25)","v":"Jonglei"},{"$f":"IF(COUNTRY_INFO!C25=0,\" \",COUNTRY_INFO!C25)","v":"KHORFLUS"},{"$f":"COUNTRY_INFO!M25","v":159891.42170000001},null,null,{"$f":"'MDA1'!M25+'MDA4'!U25","v":34206},{"$f":"IF(AND(COUNTRY_INFO!H25>0,COUNTRY_INFO!H25<4),IF(D25>G25,G25,D25),0)","v":34206},{"$f":"IF(AND(COUNTRY_INFO!H25>0,COUNTRY_INFO!H25<4), IF(G25/D25*100<>0, IF(G25/D25*100>100,100,G25/D25*100), \"-\"),0)","v":21.393267779043082},{"$f":"COUNTRY_INFO!N25","v":"Unknown"},null,null,{"$f":"MAX('MDA1'!M25,MAX('MDA3'!I25,'MDA3'!L25)+MAX('MDA3'!J25,'MDA3'!M25))","v":34206},{"$f":"IF(AND(COUNTRY_INFO!I25>0,COUNTRY_INFO!I25<4),IF(J25>M25,M25,J25),0)","v":0},{"$f":"IF(AND(COUNTRY_INFO!I25>0,COUNTRY_INFO!I25<4), IF(M25/J25*100<>0, IF(M25/J25*100>100,100,M25/J25*100), \"-\"),0)","v":0},{"$f":"COUNTRY_INFO!R25","v":0},null,null,{"$f":"MAX('MDA4'!R25,'T1'!K25, MAX(T3_R1!J25,T3_R2!J25,T3_R3!J25))","v":0},{"$f":"IF(AND(COUNTRY_INFO!J25>1,COUNTRY_INFO!J25<99,COUNTRY_INFO!J25<>4,COUNTRY_INFO!J25<>5),IF(COUNTRY_INFO!O25>S25,S25,COUNTRY_INFO!O25),0)","v":0},{"$f":"IF(AND(COUNTRY_INFO!J25>1,COUNTRY_INFO!J25<99,COUNTRY_INFO!J25<>4,COUNTRY_INFO!J25<>5), IF(T25/COUNTRY_INFO!O25*100<>0, IF(T25/COUNTRY_INFO!O25*100>100,100,T25/COUNTRY_INFO!O25*100), \"-\"),0)","v":0},{"$f":"MAX('MDA1'!K25,'MDA4'!S25, 'T1'!L25, MAX(T3_R1!K25,T3_R2!K25,T3_R3!K25))","v":17897},{"$f":"IF(AND(COUNTRY_INFO!J25>1,COUNTRY_INFO!J25<99,COUNTRY_INFO!J25<>4,COUNTRY_INFO!J25<>5),IF(COUNTRY_INFO!P25>V25,V25,COUNTRY_INFO!P25),0)","v":0},{"$f":"IF(AND(COUNTRY_INFO!J25>1,COUNTRY_INFO!J25<99,COUNTRY_INFO!J25<>4,COUNTRY_INFO!J25<>5), IF(W25/COUNTRY_INFO!P25*100<>0, IF(W25/COUNTRY_INFO!P25*100>100,100,W25/COUNTRY_INFO!P25*100), \"-\"),0)","v":0},{"$f":"MAX('MDA1'!L25,'MDA4'!T25, 'T1'!M25, MAX(T3_R1!L25,T3_R2!L25,T3_R3!L25))","v":16309},{"$f":"IF(AND(COUNTRY_INFO!J25>1,COUNTRY_INFO!J25<99,COUNTRY_INFO!J25<>4,COUNTRY_INFO!J25<>5),IF(COUNTRY_INFO!Q25>Y25,Y25,COUNTRY_INFO!Q25),0)","v":0},{"$f":"IF(AND(COUNTRY_INFO!J25>1,COUNTRY_INFO!J25<99,COUNTRY_INFO!J25<>4,COUNTRY_INFO!J25<>5), IF(Z25/COUNTRY_INFO!Q25*100<>0, IF(Z25/COUNTRY_INFO!Q25*100>100,100,Z25/COUNTRY_INFO!Q25*100), \"-\"),0)","v":0},34206,0,{"$f":"IF(AND(COUNTRY_INFO!J25>1,COUNTRY_INFO!J25<99,COUNTRY_INFO!J25<>4,COUNTRY_INFO!J25<>5), IF(AC25/P25*100<>0, IF(AC25/P25*100>100,100,AC25/P25*100), \"-\"),0)","v":0},{"$f":"COUNTRY_INFO!V25","v":23080},null,null,{"$f":"MAX('T1'!K25,'T2'!R25)","v":0},{"$f":"IF(AND(COUNTRY_INFO!K25>1,COUNTRY_INFO!K25<99,COUNTRY_INFO!K25<>4,COUNTRY_INFO!K25<>5),IF(COUNTRY_INFO!S25>AH25,AH25,COUNTRY_INFO!S25),0)","v":0},{"$f":"IF(AND(COUNTRY_INFO!K25>1,COUNTRY_INFO!K25<99,COUNTRY_INFO!K25<>4,COUNTRY_INFO!K25<>5), IF(AI25/COUNTRY_INFO!S25*100<>0, IF(AI25/COUNTRY_INFO!S25*100>100,100,AI25/COUNTRY_INFO!S25*100), \"-\"),0)","v":"-"},{"$f":"MAX('T1'!L25,'T2'!S25)","v":0},{"$f":"IF(AND(COUNTRY_INFO!K25>1,COUNTRY_INFO!K25<99,COUNTRY_INFO!K25<>4,COUNTRY_INFO!K25<>5),IF(COUNTRY_INFO!T25>AK25,AK25,COUNTRY_INFO!T25),0)","v":0},{"$f":"IF(AND(COUNTRY_INFO!K25>1,COUNTRY_INFO!K25<99,COUNTRY_INFO!K25<>4,COUNTRY_INFO!K25<>5), IF(AL25/COUNTRY_INFO!T25*100<>0, IF(AL25/COUNTRY_INFO!T25*100>100,100,AL25/COUNTRY_INFO!T25*100), \"-\"),0)","v":"-"},{"$f":"MAX('T1'!M25,'T2'!T25)","v":0},{"$f":"IF(AND(COUNTRY_INFO!K25>1,COUNTRY_INFO!K25<99,COUNTRY_INFO!K25<>4,COUNTRY_INFO!K25<>5),IF(COUNTRY_INFO!U25>AN25,AN25,COUNTRY_INFO!U25),0)","v":0},{"$f":"IF(AND(COUNTRY_INFO!K25>1,COUNTRY_INFO!K25<99,COUNTRY_INFO!K25<>4,COUNTRY_INFO!K25<>5), IF(AO25/COUNTRY_INFO!U25*100<>0, IF(AO25/COUNTRY_INFO!U25*100>100,100,AO25/COUNTRY_INFO!U25*100), \"-\"),0)","v":"-"},0,0,{"$f":"IF(AND(COUNTRY_INFO!K25>1,COUNTRY_INFO!K25<99,COUNTRY_INFO!K25<>4,COUNTRY_INFO!K25<>5), IF(AH25/AE25*100<>0, IF(AR25/AE25*100>100,100,AR25/AE25*100), \"-\"),0)","v":"-"},null,{"$f":"IF(AND(D25<>0, D25<>\"Unknown\",D25<>\"Stopped\",D25<>\"Not required\"),D25/COUNTRY_INFO!D25, 0)","v":1},{"$f":"IF(AND(J25<>0,J25<>\"Unknown\",J25<>\"Stopped\",J25<>\"Not required\"),J25/COUNTRY_INFO!D25, 0)","v":0},{"$f":"IF(AND(P25<>0,P25<>\"Unknown\",P25<>\"Surveillance\",P25<>\"Not required\"),P25/COUNTRY_INFO!R25, 0)","v":0},{"$f":"IF(AND(AE25<>0,AE25<>\"Unknown\",AE25<>\"Surveillance\",AE25<>\"Not required\"),AE25/COUNTRY_INFO!V25, 0)","v":1},{"$f":"IF(AU25>0,D25*PROFILE!$G$7,IF(AV25>0,J25*PROFILE!$G$7,0))","v":4397.0032585742047},{"$f":"_xlfn.IFS(OR(AU25>0,AW25>0),COUNTRY_INFO!E25, AV25>0,J25*PROFILE!$G$8,AX25>0,COUNTRY_INFO!S25,COUNTIFS(AU25:AX25,\">0\")=0,0)","v":17700},{"$f":"_xlfn.IFS(OR(AU25>0,AW25>0),COUNTRY_INFO!F25, AV25>0,J25*PROFILE!$G$9,AX25>0,COUNTRY_INFO!T25,COUNTIFS(AU25:AX25,\">0\")=0,0)","v":49390},{"$f":"_xlfn.IFS(AU25>0,COUNTRY_INFO!G25, AND(AV25>0,AW25=0,AX25=0),J25*PROFILE!$G$10,AND(AV25>0,AW25>0,AX25=0), MAX(J25*PROFILE!$G$10,COUNTRY_INFO!Q25),AND(AV25>0,AW25=0,AX25>0), MAX(J25*PROFILE!$G$10,COUNTRY_INFO!U25),AND(AV25=0,AW25>0,AX25>0), MAX(COUNTRY_INFO!Q25,COUNTRY_INFO!U25),AND(AV25=0,AW25>0,AX25=0),COUNTRY_INFO!Q25,AND(AV25=0,AW25=0,AX25>0),COUNTRY_INFO!U25,AND(AV25>0,AW25>0,AX25>0), MAX(J25*PROFILE!$G$10,COUNTRY_INFO!Q25,COUNTRY_INFO!U25),COUNTIFS(AU25:AX25,\">0\")=0,0)","v":88404},159891.0032585742,0,{"$f":"MAX('MDA4'!R25,S25,AH25)","v":0},{"$f":"MAX('MDA1'!K25,'MDA4'!S25,'MDA3'!I25,'MDA3'!L25,V25,AK25)","v":17897},{"$f":"MAX('MDA1'!L25,'MDA4'!T25,'MDA3'!J25,'MDA3'!M25,Y25,AN25)","v":16309},34206,{"$f":"_xlfn.IFS(AND(AU25=0,AW25=0,AX25=0),0,AND(AU25=0,AW25=0,AX25>0),AI25,AND(AU25=0,AW25>0,AX25=0),T25,AND(AU25=0,AW25>0,AX25>0),MAX(T25,AI25),AND(AU25>0,AW25=0,AX25=0),MIN('MDA4'!R25,AZ25),AND(AU25>0,AW25=0,AX25>0),MIN(MAX('MDA4'!R25,AI25),AZ25),AND(AU25>0,AW25>0,AX25=0),MIN(MAX('MDA4'!R25,T25),AZ25),AND(AU25>0,AW25>0,AX25>0),MIN(MAX('MDA4'!R25,AI25,T25),AZ25))","v":0},{"$f":"_xlfn.IFS(AND(AU25=0,AV25=0,AW25=0,AX25=0),0,AND(AU25=0,AV25=0,AW25=0,AX25>0),AL25,AND(AU25=0,AV25=0,AW25>0,AX25=0),W25,AND(AU25=0,AV25=0,AW25>0,AX25>0),MAX(W25,AL25),AND(AU25=0,AV25>0,AW25=0,AX25=0),MIN(J25*PROFILE!$G$9,MAX('MDA3'!I25,'MDA3'!L25)),AND(AU25=0,AV25>0,AW25=0,AX25>0),MIN(J25*PROFILE!$G$9,MAX('MDA3'!I25,'MDA3'!L25,AL25)),AND(AU25=0,AV25>0,AW25>0,AX25=0),MIN(J25*PROFILE!$G$9,MAX('MDA3'!I25,'MDA3'!L25,W25)),AND(AU25=0,AV25>0,AW25>0,AX25>0),MIN(J25*PROFILE!$G$9,MAX('MDA3'!I25,'MDA3'!L25,W25,AL25)),AND(AU25>0,AV25=0,AW25=0,AX25=0), MIN(BA25,MAX('MDA1'!K25,'MDA4'!S25)),AND(AU25>0,AV25=0,AW25=0,AX25>0), MIN(BA25,MAX('MDA1'!K25,'MDA4'!S25,AL25)),AND(AU25>0,AV25=0,AW25>0,AX25=0),MIN(BA25,MAX('MDA1'!K25,'MDA4'!S25,W25)),AND(AU25>0,AV25=0,AW25>0,AX25>0),MIN(BA25,MAX('MDA1'!K25,'MDA4'!S25,W25,AL25)),AND(AU25>0,AV25>0,AW25=0,AX25=0),MIN(BA25, MAX('MDA1'!K25,'MDA4'!S25,MAX('MDA3'!I25,'MDA3'!L25))), AND(AU25>0,AV25>0,AW25=0,AX25>0),MIN(BA25, MAX('MDA1'!K25,'MDA4'!S25,MAX( 'MDA3'!I25,'MDA3'!L25),AL25)), AND(AU25>0,AV25>0,AW25>0,AX25=0), MIN(BA25, MAX('MDA1'!K25,'MDA4'!S25,MAX( 'MDA3'!I25,'MDA3'!L25),W25)), AND(AU25>0,AV25>0,AW25>0,AX25>0), MIN(BA25, MAX('MDA1'!K25,'MDA4'!S25,MAX( 'MDA3'!I25,'MDA3'!L25),W25,AL25)))","v":17897},{"$f":"_xlfn.IFS(AND(AU25=0,AV25=0,AW25=0,AX25=0),0,AND(AU25=0,AV25=0,AW25=0,AX25>0),AO25,AND(AU25=0,AV25=0,AW25>0,AX25=0),Z25,AND(AU25=0,AV25=0,AW25>0,AX25>0),MAX(Z25,AO25),AND(AU25=0,AV25>0,AW25=0,AX25=0),MIN(J25*PROFILE!$G$10,MAX('MDA3'!J25,'MDA3'!J25)),AND(AU25=0,AV25>0,AW25=0,AX25>0),MIN(J25*PROFILE!$G$10,MAX('MDA3'!J25,'MDA3'!M25,AO25)),AND(AU25=0,AV25>0,AW25>0,AX25=0),MIN(J25*PROFILE!$G$10,MAX('MDA3'!J25,'MDA3'!M25,Z25)),AND(AU25=0,AV25>0,AW25>0,AX25>0),MIN(J25*PROFILE!$G$10,MAX('MDA3'!J25,'MDA3'!M25,Z25,AO25)),AND(AU25>0,AV25=0,AW25=0,AX25=0), MIN(BB25,MAX('MDA1'!L25,'MDA4'!T25)),AND(AU25>0,AV25=0,AW25=0,AX25>0), MIN(BB25,MAX('MDA1'!L25,'MDA4'!T25,AO25)),AND(AU25>0,AV25=0,AW25>0,AX25=0),MIN(BB25,MAX('MDA1'!L25,'MDA4'!T25,Z25)),AND(AU25>0,AV25=0,AW25>0,AX25>0),MIN(BB25,MAX('MDA1'!L25,'MDA4'!T25,Z25,AO25)),AND(AU25>0,AV25>0,AW25=0,AX25=0),MIN(BB25, MAX('MDA1'!L25,'MDA4'!T25,MAX( 'MDA3'!J25,'MDA3'!M25))), AND(AU25>0,AV25>0,AW25=0,AX25>0),MIN(BB25, MAX('MDA1'!L25,'MDA4'!T25,MAX( 'MDA3'!J25,'MDA3'!M25),AO25)), AND(AU25>0,AV25>0,AW25>0,AX25=0), MIN(BB25, MAX('MDA1'!L25,'MDA4'!T25,MAX( 'MDA3'!J25,'MDA3'!M25),Z25)), AND(AU25>0,AV25>0,AW25>0,AX25>0), MIN(BB25, MAX('MDA1'!L25,'MDA4'!T25,MAX( 'MDA3'!J25,'MDA3'!M25),Z25,AO25)))","v":16309},34206,21.393323766117337]
[{"$f":"IF(COUNTRY_INFO!A26=0,\" \",COUNTRY_INFO!A26)","v":"South Sudan"},{"$f":"IF(COUNTRY_INFO!B26=0,\" \",COUNTRY_INFO!B26)","v":"Jonglei"},{"$f":"IF(COUNTRY_INFO!C26=0,\" \",COUNTRY_INFO!C26)","v":"AYOD"},{"$f":"COUNTRY_INFO!M26","v":0},null,null,{"$f":"'MDA1'!M26+'MDA4'!U26","v":0},{"$f":"IF(AND(COUNTRY_INFO!H26>0,COUNTRY_INFO!H26<4),IF(D26>G26,G26,D26),0)","v":0},{"$f":"IF(AND(COUNTRY_INFO!H26>0,COUNTRY_INFO!H26<4), IF(G26/D26*100<>0, IF(G26/D26*100>100,100,G26/D26*100), \"-\"),0)","v":0},{"$f":"COUNTRY_INFO!N26","v":"Unknown"},null,null,{"$f":"MAX('MDA1'!M26,MAX('MDA3'!I26,'MDA3'!L26)+MAX('MDA3'!J26,'MDA3'!M26))","v":0},{"$f":"IF(AND(COUNTRY_INFO!I26>0,COUNTRY_INFO!I26<4),IF(J26>M26,M26,J26),0)","v":0},{"$f":"IF(AND(COUNTRY_INFO!I26>0,COUNTRY_INFO!I26<4), IF(M26/J26*100<>0, IF(M26/J26*100>100,100,M26/J26*100), \"-\"),0)","v":0},{"$f":"COUNTRY_INFO!R26","v":0},null,null,{"$f":"MAX('MDA4'!R26,'T1'!K26, MAX(T3_R1!J26,T3_R2!J26,T3_R3!J26))","v":0},{"$f":"IF(AND(COUNTRY_INFO!J26>1,COUNTRY_INFO!J26<99,COUNTRY_INFO!J26<>4,COUNTRY_INFO!J26<>5),IF(COUNTRY_INFO!O26>S26,S26,COUNTRY_INFO!O26),0)","v":0},{"$f":"IF(AND(COUNTRY_INFO!J26>1,COUNTRY_INFO!J26<99,COUNTRY_INFO!J26<>4,COUNTRY_INFO!J26<>5), IF(T26/COUNTRY_INFO!O26*100<>0, IF(T26/COUNTRY_INFO!O26*100>100,100,T26/COUNTRY_INFO!O26*100), \"-\"),0)","v":0},{"$f":"MAX('MDA1'!K26,'MDA4'!S26, 'T1'!L26, MAX(T3_R1!K26,T3_R2!K26,T3_R3!K26))","v":0},{"$f":"IF(AND(COUNTRY_INFO!J26>1,COUNTRY_INFO!J26<99,COUNTRY_INFO!J26<>4,COUNTRY_INFO!J26<>5),IF(COUNTRY_INFO!P26>V26,V26,COUNTRY_INFO!P26),0)","v":0},{"$f":"IF(AND(COUNTRY_INFO!J26>1,COUNTRY_INFO!J26<99,COUNTRY_INFO!J26<>4,COUNTRY_INFO!J26<>5), IF(W26/COUNTRY_INFO!P26*100<>0, IF(W26/COUNTRY_INFO!P26*100>100,100,W26/COUNTRY_INFO!P26*100), \"-\"),0)","v":0},{"$f":"MAX('MDA1'!L26,'MDA4'!T26, 'T1'!M26, MAX(T3_R1!L26,T3_R2!L26,T3_R3!L26))","v":0},{"$f":"IF(AND(COUNTRY_INFO!J26>1,COUNTRY_INFO!J26<99,COUNTRY_INFO!J26<>4,COUNTRY_INFO!J26<>5),IF(COUNTRY_INFO!Q26>Y26,Y26,COUNTRY_INFO!Q26),0)","v":0},{"$f":"IF(AND(COUNTRY_INFO!J26>1,COUNTRY_INFO!J26<99,COUNTRY_INFO!J26<>4,COUNTRY_INFO!J26<>5), IF(Z26/COUNTRY_INFO!Q26*100<>0, IF(Z26/COUNTRY_INFO!Q26*100>100,100,Z26/COUNTRY_INFO!Q26*100), \"-\"),0)","v":0},0,0,{"$f":"IF(AND(COUNTRY_INFO!J26>1,COUNTRY_INFO!J26<99,COUNTRY_INFO!J26<>4,COUNTRY_INFO!J26<>5), IF(AC26/P26*100<>0, IF(AC26/P26*100>100,100,AC26/P26*100), \"-\"),0)","v":0},{"$f":"COUNTRY_INFO!V26","v":178152},null,null,{"$f":"MAX('T1'!K26,'T2'!R26)","v":0},{"$f":"IF(AND(COUNTRY_INFO!K26>1,COUNTRY_INFO!K26<99,COUNTRY_INFO!K26<>4,COUNTRY_INFO!K26<>5),IF(COUNTRY_INFO!S26>AH26,AH26,COUNTRY_INFO!S26),0)","v":0},{"$f":"IF(AND(COUNTRY_INFO!K26>1,COUNTRY_INFO!K26<99,COUNTRY_INFO!K26<>4,COUNTRY_INFO!K26<>5), IF(AI26/COUNTRY_INFO!S26*100<>0, IF(AI26/COUNTRY_INFO!S26*100>100,100,AI26/COUNTRY_INFO!S26*100), \"-\"),0)","v":"-"},{"$f":"MAX('T1'!L26,'T2'!S26)","v":0},{"$f":"IF(AND(COUNTRY_INFO!K26>1,COUNTRY_INFO!K26<99,COUNTRY_INFO!K26<>4,COUNTRY_INFO!K26<>5),IF(COUNTRY_INFO!T26>AK26,AK26,COUNTRY_INFO!T26),0)","v":0},{"$f":"IF(AND(COUNTRY_INFO!K26>1,COUNTRY_INFO!K26<99,COUNTRY_INFO!K26<>4,COUNTRY_INFO!K26<>5), IF(AL26/COUNTRY_INFO!T26*100<>0, IF(AL26/COUNTRY_INFO!T26*100>100,100,AL26/COUNTRY_INFO!T26*100), \"-\"),0)","v":"-"},{"$f":"MAX('T1'!M26,'T2'!T26)","v":0},{"$f":"IF(AND(COUNTRY_INFO!K26>1,COUNTRY_INFO!K26<99,COUNTRY_INFO!K26<>4,COUNTRY_INFO!K26<>5),IF(COUNTRY_INFO!U26>AN26,AN26,COUNTRY_INFO!U26),0)","v":0},{"$f":"IF(AND(COUNTRY_INFO!K26>1,COUNTRY_INFO!K26<99,COUNTRY_INFO!K26<>4,COUNTRY_INFO!K26<>5), IF(AO26/COUNTRY_INFO!U26*100<>0, IF(AO26/COUNTRY_INFO!U26*100>100,100,AO26/COUNTRY_INFO!U26*100), \"-\"),0)","v":"-"},0,0,{"$f":"IF(AND(COUNTRY_INFO!K26>1,COUNTRY_INFO!K26<99,COUNTRY_INFO!K26<>4,COUNTRY_INFO!K26<>5), IF(AH26/AE26*100<>0, IF(AR26/AE26*100>100,100,AR26/AE26*100), \"-\"),0)","v":"-"},null,{"$f":"IF(AND(D26<>0, D26<>\"Unknown\",D26<>\"Stopped\",D26<>\"Not required\"),D26/COUNTRY_INFO!D26, 0)","v":0},{"$f":"IF(AND(J26<>0,J26<>\"Unknown\",J26<>\"Stopped\",J26<>\"Not required\"),J26/COUNTRY_INFO!D26, 0)","v":0},{"$f":"IF(AND(P26<>0,P26<>\"Unknown\",P26<>\"Surveillance\",P26<>\"Not required\"),P26/COUNTRY_INFO!R26, 0)","v":0},{"$f":"IF(AND(AE26<>0,AE26<>\"Unknown\",AE26<>\"Surveillance\",AE26<>\"Not required\"),AE26/COUNTRY_INFO!V26, 0)","v":1},{"$f":"IF(AU26>0,D26*PROFILE!$G$7,IF(AV26>0,J26*PROFILE!$G$7,0))","v":0},{"$f":"_xlfn.IFS(OR(AU26>0,AW26>0),COUNTRY_INFO!E26, AV26>0,J26*PROFILE!$G$8,AX26>0,COUNTRY_INFO!S26,COUNTIFS(AU26:AX26,\">0\")=0,0)","v":15922},{"$f":"_xlfn.IFS(OR(AU26>0,AW26>0),COUNTRY_INFO!F26, AV26>0,J26*PROFILE!$G$9,AX26>0,COUNTRY_INFO!T26,COUNTIFS(AU26:AX26,\">0\")=0,0)","v":51392},{"$f":"_xlfn.IFS(AU26>0,COUNTRY_INFO!G26, AND(AV26>0,AW26=0,AX26=0),J26*PROFILE!$G$10,AND(AV26>0,AW26>0,AX26=0), MAX(J26*PROFILE!$G$10,COUNTRY_INFO!Q26),AND(AV26>0,AW26=0,AX26>0), MAX(J26*PROFILE!$G$10,COUNTRY_INFO!U26),AND(AV26=0,AW26>0,AX26>0), MAX(COUNTRY_INFO!Q26,COUNTRY_INFO!U26),AND(AV26=0,AW26>0,AX26=0),COUNTRY_INFO!Q26,AND(AV26=0,AW26=0,AX26>0),COUNTRY_INFO!U26,AND(AV26>0,AW26>0,AX26>0), MAX(J26*PROFILE!$G$10,COUNTRY_INFO!Q26,COUNTRY_INFO!U26),COUNTIFS(AU26:AX26,\">0\")=0,0)","v":110838},178152,0,{"$f":"MAX('MDA4'!R26,S26,AH26)","v":0},{"$f":"MAX('MDA1'!K26,'MDA4'!S26,'MDA3'!I26,'MDA3'!L26,V26,AK26)","v":0},{"$f":"MAX('MDA1'!L26,'MDA4'!T26,'MDA3'!J26,'MDA3'!M26,Y26,AN26)","v":0},0,{"$f":"_xlfn.IFS(AND(AU26=0,AW26=0,AX26=0),0,AND(AU26=0,AW26=0,AX26>0),AI26,AND(AU26=0,AW26>0,AX26=0),T26,AND(AU26=0,AW26>0,AX26>0),MAX(T26,AI26),AND(AU26>0,AW26=0,AX26=0),MIN('MDA4'!R26,AZ26),AND(AU26>0,AW26=0,AX26>0),MIN(MAX('MDA4'!R26,AI26),AZ26),AND(AU26>0,AW26>0,AX26=0),MIN(MAX('MDA4'!R26,T26),AZ26),AND(AU26>0,AW26>0,AX26>0),MIN(MAX('MDA4'!R26,AI26,T26),AZ26))","v":0},{"$f":"_xlfn.IFS(AND(AU26=0,AV26=0,AW26=0,AX26=0),0,AND(AU26=0,AV26=0,AW26=0,AX26>0),AL26,AND(AU26=0,AV26=0,AW26>0,AX26=0),W26,AND(AU26=0,AV26=0,AW26>0,AX26>0),MAX(W26,AL26),AND(AU26=0,AV26>0,AW26=0,AX26=0),MIN(J26*PROFILE!$G$9,MAX('MDA3'!I26,'MDA3'!L26)),AND(AU26=0,AV26>0,AW26=0,AX26>0),MIN(J26*PROFILE!$G$9,MAX('MDA3'!I26,'MDA3'!L26,AL26)),AND(AU26=0,AV26>0,AW26>0,AX26=0),MIN(J26*PROFILE!$G$9,MAX('MDA3'!I26,'MDA3'!L26,W26)),AND(AU26=0,AV26>0,AW26>0,AX26>0),MIN(J26*PROFILE!$G$9,MAX('MDA3'!I26,'MDA3'!L26,W26,AL26)),AND(AU26>0,AV26=0,AW26=0,AX26=0), MIN(BA26,MAX('MDA1'!K26,'MDA4'!S26)),AND(AU26>0,AV26=0,AW26=0,AX26>0), MIN(BA26,MAX('MDA1'!K26,'MDA4'!S26,AL26)),AND(AU26>0,AV26=0,AW26>0,AX26=0),MIN(BA26,MAX('MDA1'!K26,'MDA4'!S26,W26)),AND(AU26>0,AV26=0,AW26>0,AX26>0),MIN(BA26,MAX('MDA1'!K26,'MDA4'!S26,W26,AL26)),AND(AU26>0,AV26>0,AW26=0,AX26=0),MIN(BA26, MAX('MDA1'!K26,'MDA4'!S26,MAX('MDA3'!I26,'MDA3'!L26))), AND(AU26>0,AV26>0,AW26=0,AX26>0),MIN(BA26, MAX('MDA1'!K26,'MDA4'!S26,MAX( 'MDA3'!I26,'MDA3'!L26),AL26)), AND(AU26>0,AV26>0,AW26>0,AX26=0), MIN(BA26, MAX('MDA1'!K26,'MDA4'!S26,MAX( 'MDA3'!I26,'MDA3'!L26),W26)), AND(AU26>0,AV26>0,AW26>0,AX26>0), MIN(BA26, MAX('MDA1'!K26,'MDA4'!S26,MAX( 'MDA3'!I26,'MDA3'!L26),W26,AL26)))","v":0},{"$f":"_xlfn.IFS(AND(AU26=0,AV26=0,AW26=0,AX26=0),0,AND(AU26=0,AV26=0,AW26=0,AX26>0),AO26,AND(AU26=0,AV26=0,AW26>0,AX26=0),Z26,AND(AU26=0,AV26=0,AW26>0,AX26>0),MAX(Z26,AO26),AND(AU26=0,AV26>0,AW26=0,AX26=0),MIN(J26*PROFILE!$G$10,MAX('MDA3'!J26,'MDA3'!J26)),AND(AU26=0,AV26>0,AW26=0,AX26>0),MIN(J26*PROFILE!$G$10,MAX('MDA3'!J26,'MDA3'!M26,AO26)),AND(AU26=0,AV26>0,AW26>0,AX26=0),MIN(J26*PROFILE!$G$10,MAX('MDA3'!J26,'MDA3'!M26,Z26)),AND(AU26=0,AV26>0,AW26>0,AX26>0),MIN(J26*PROFILE!$G$10,MAX('MDA3'!J26,'MDA3'!M26,Z26,AO26)),AND(AU26>0,AV26=0,AW26=0,AX26=0), MIN(BB26,MAX('MDA1'!L26,'MDA4'!T26)),AND(AU26>0,AV26=0,AW26=0,AX26>0), MIN(BB26,MAX('MDA1'!L26,'MDA4'!T26,AO26)),AND(AU26>0,AV26=0,AW26>0,AX26=0),MIN(BB26,MAX('MDA1'!L26,'MDA4'!T26,Z26)),AND(AU26>0,AV26=0,AW26>0,AX26>0),MIN(BB26,MAX('MDA1'!L26,'MDA4'!T26,Z26,AO26)),AND(AU26>0,AV26>0,AW26=0,AX26=0),MIN(BB26, MAX('MDA1'!L26,'MDA4'!T26,MAX( 'MDA3'!J26,'MDA3'!M26))), AND(AU26>0,AV26>0,AW26=0,AX26>0),MIN(BB26, MAX('MDA1'!L26,'MDA4'!T26,MAX( 'MDA3'!J26,'MDA3'!M26),AO26)), AND(AU26>0,AV26>0,AW26>0,AX26=0), MIN(BB26, MAX('MDA1'!L26,'MDA4'!T26,MAX( 'MDA3'!J26,'MDA3'!M26),Z26)), AND(AU26>0,AV26>0,AW26>0,AX26>0), MIN(BB26, MAX('MDA1'!L26,'MDA4'!T26,MAX( 'MDA3'!J26,'MDA3'!M26),Z26,AO26)))","v":0},0,0]
[{"$f":"IF(COUNTRY_INFO!A27=0,\" \",COUNTRY_INFO!A27)","v":"South Sudan"},{"$f":"IF(COUNTRY_INFO!B27=0,\" \",COUNTRY_INFO!B27)","v":"Jonglei"},{"$f":"IF(COUNTRY_INFO!C27=0,\" \",COUNTRY_INFO!C27)","v":"DUK"},{"$f":"COUNTRY_INFO!M27","v":0},null,null,{"$f":"'MDA1'!M27+'MDA4'!U27","v":0},{"$f":"IF(AND(COUNTRY_INFO!H27>0,COUNTRY_INFO!H27<4),IF(D27>G27,G27,D27),0)","v":0},{"$f":"IF(AND(COUNTRY_INFO!H27>0,COUNTRY_INFO!H27<4), IF(G27/D27*100<>0, IF(G27/D27*100>100,100,G27/D27*100), \"-\"),0)","v":0},{"$f":"COUNTRY_INFO!N27","v":"Unknown"},null,null,{"$f":"MAX('MDA1'!M27,MAX('MDA3'!I27,'MDA3'!L27)+MAX('MDA3'!J27,'MDA3'!M27))","v":0},{"$f":"IF(AND(COUNTRY_INFO!I27>0,COUNTRY_INFO!I27<4),IF(J27>M27,M27,J27),0)","v":0},{"$f":"IF(AND(COUNTRY_INFO!I27>0,COUNTRY_INFO!I27<4), IF(M27/J27*100<>0, IF(M27/J27*100>100,100,M27/J27*100), \"-\"),0)","v":0},{"$f":"COUNTRY_INFO!R27","v":0},null,null,{"$f":"MAX('MDA4'!R27,'T1'!K27, MAX(T3_R1!J27,T3_R2!J27,T3_R3!J27))","v":0},{"$f":"IF(AND(COUNTRY_INFO!J27>1,COUNTRY_INFO!J27<99,COUNTRY_INFO!J27<>4,COUNTRY_INFO!J27<>5),IF(COUNTRY_INFO!O27>S27,S27,COUNTRY_INFO!O27),0)","v":0},{"$f":"IF(AND(COUNTRY_INFO!J27>1,COUNTRY_INFO!J27<99,COUNTRY_INFO!J27<>4,COUNTRY_INFO!J27<>5), IF(T27/COUNTRY_INFO!O27*100<>0, IF(T27/COUNTRY_INFO!O27*100>100,100,T27/COUNTRY_INFO!O27*100), \"-\"),0)","v":0},{"$f":"MAX('MDA1'!K27,'MDA4'!S27, 'T1'!L27, MAX(T3_R1!K27,T3_R2!K27,T3_R3!K27))","v":0},{"$f":"IF(AND(COUNTRY_INFO!J27>1,COUNTRY_INFO!J27<99,COUNTRY_INFO!J27<>4,COUNTRY_INFO!J27<>5),IF(COUNTRY_INFO!P27>V27,V27,COUNTRY_INFO!P27),0)","v":0},{"$f":"IF(AND(COUNTRY_INFO!J27>1,COUNTRY_INFO!J27<99,COUNTRY_INFO!J27<>4,COUNTRY_INFO!J27<>5), IF(W27/COUNTRY_INFO!P27*100<>0, IF(W27/COUNTRY_INFO!P27*100>100,100,W27/COUNTRY_INFO!P27*100), \"-\"),0)","v":0},{"$f":"MAX('MDA1'!L27,'MDA4'!T27, 'T1'!M27, MAX(T3_R1!L27,T3_R2!L27,T3_R3!L27))","v":0},{"$f":"IF(AND(COUNTRY_INFO!J27>1,COUNTRY_INFO!J27<99,COUNTRY_INFO!J27<>4,COUNTRY_INFO!J27<>5),IF(COUNTRY_INFO!Q27>Y27,Y27,COUNTRY_INFO!Q27),0)","v":0},{"$f":"IF(AND(COUNTRY_INFO!J27>1,COUNTRY_INFO!J27<99,COUNTRY_INFO!J27<>4,COUNTRY_INFO!J27<>5), IF(Z27/COUNTRY_INFO!Q27*100<>0, IF(Z27/COUNTRY_INFO!Q27*100>100,100,Z27/COUNTRY_INFO!Q27*100), \"-\"),0)","v":0},0,0,{"$f":"IF(AND(COUNTRY_INFO!J27>1,COUNTRY_INFO!J27<99,COUNTRY_INFO!J27<>4,COUNTRY_INFO!J27<>5), IF(AC27/P27*100<>0, IF(AC27/P27*100>100,100,AC27/P27*100), \"-\"),0)","v":0},{"$f":"COUNTRY_INFO!V27","v":83803},null,null,{"$f":"MAX('T1'!K27,'T2'!R27)","v":0},{"$f":"IF(AND(COUNTRY_INFO!K27>1,COUNTRY_INFO!K27<99,COUNTRY_INFO!K27<>4,COUNTRY_INFO!K27<>5),IF(COUNTRY_INFO!S27>AH27,AH27,COUNTRY_INFO!S27),0)","v":0},{"$f":"IF(AND(COUNTRY_INFO!K27>1,COUNTRY_INFO!K27<99,COUNTRY_INFO!K27<>4,COUNTRY_INFO!K27<>5), IF(AI27/COUNTRY_INFO!S27*100<>0, IF(AI27/COUNTRY_INFO!S27*100>100,100,AI27/COUNTRY_INFO!S27*100), \"-\"),0)","v":"-"},{"$f":"MAX('T1'!L27,'T2'!S27)","v":0},{"$f":"IF(AND(COUNTRY_INFO!K27>1,COUNTRY_INFO!K27<99,COUNTRY_INFO!K27<>4,COUNTRY_INFO!K27<>5),IF(COUNTRY_INFO!T27>AK27,AK27,COUNTRY_INFO!T27),0)","v":0},{"$f":"IF(AND(COUNTRY_INFO!K27>1,COUNTRY_INFO!K27<99,COUNTRY_INFO!K27<>4,COUNTRY_INFO!K27<>5), IF(AL27/COUNTRY_INFO!T27*100<>0, IF(AL27/COUNTRY_INFO!T27*100>100,100,AL27/COUNTRY_INFO!T27*100), \"-\"),0)","v":"-"},{"$f":"MAX('T1'!M27,'T2'!T27)","v":0},{"$f":"IF(AND(COUNTRY_INFO!K27>1,COUNTRY_INFO!K27<99,COUNTRY_INFO!K27<>4,COUNTRY_INFO!K27<>5),IF(COUNTRY_INFO!U27>AN27,AN27,COUNTRY_INFO!U27),0)","v":0},{"$f":"IF(AND(COUNTRY_INFO!K27>1,COUNTRY_INFO!K27<99,COUNTRY_INFO!K27<>4,COUNTRY_INFO!K27<>5), IF(AO27/COUNTRY_INFO!U27*100<>0, IF(AO27/COUNTRY_INFO!U27*100>100,100,AO27/COUNTRY_INFO!U27*100), \"-\"),0)","v":"-"},0,0,{"$f":"IF(AND(COUNTRY_INFO!K27>1,COUNTRY_INFO!K27<99,COUNTRY_INFO!K27<>4,COUNTRY_INFO!K27<>5), IF(AH27/AE27*100<>0, IF(AR27/AE27*100>100,100,AR27/AE27*100), \"-\"),0)","v":"-"},null,{"$f":"IF(AND(D27<>0, D27<>\"Unknown\",D27<>\"Stopped\",D27<>\"Not required\"),D27/COUNTRY_INFO!D27, 0)","v":0},{"$f":"IF(AND(J27<>0,J27<>\"Unknown\",J27<>\"Stopped\",J27<>\"Not required\"),J27/COUNTRY_INFO!D27, 0)","v":0},{"$f":"IF(AND(P27<>0,P27<>\"Unknown\",P27<>\"Surveillance\",P27<>\"Not required\"),P27/COUNTRY_INFO!R27, 0)","v":0},{"$f":"IF(AND(AE27<>0,AE27<>\"Unknown\",AE27<>\"Surveillance\",AE27<>\"Not required\"),AE27/COUNTRY_INFO!V27, 0)","v":1},{"$f":"IF(AU27>0,D27*PROFILE!$G$7,IF(AV27>0,J27*PROFILE!$G$7,0))","v":0},{"$f":"_xlfn.IFS(OR(AU27>0,AW27>0),COUNTRY_INFO!E27, AV27>0,J27*PROFILE!$G$8,AX27>0,COUNTRY_INFO!S27,COUNTIFS(AU27:AX27,\">0\")=0,0)","v":7489},{"$f":"_xlfn.IFS(OR(AU27>0,AW27>0),COUNTRY_INFO!F27, AV27>0,J27*PROFILE!$G$9,AX27>0,COUNTRY_INFO!T27,COUNTIFS(AU27:AX27,\">0\")=0,0)","v":24175},{"$f":"_xlfn.IFS(AU27>0,COUNTRY_INFO!G27, AND(AV27>0,AW27=0,AX27=0),J27*PROFILE!$G$10,AND(AV27>0,AW27>0,AX27=0), MAX(J27*PROFILE!$G$10,COUNTRY_INFO!Q27),AND(AV27>0,AW27=0,AX27>0), MAX(J27*PROFILE!$G$10,COUNTRY_INFO!U27),AND(AV27=0,AW27>0,AX27>0), MAX(COUNTRY_INFO!Q27,COUNTRY_INFO!U27),AND(AV27=0,AW27>0,AX27=0),COUNTRY_INFO!Q27,AND(AV27=0,AW27=0,AX27>0),COUNTRY_INFO!U27,AND(AV27>0,AW27>0,AX27>0), MAX(J27*PROFILE!$G$10,COUNTRY_INFO!Q27,COUNTRY_INFO!U27),COUNTIFS(AU27:AX27,\">0\")=0,0)","v":52139},83803,0,{"$f":"MAX('MDA4'!R27,S27,AH27)","v":0},{"$f":"MAX('MDA1'!K27,'MDA4'!S27,'MDA3'!I27,'MDA3'!L27,V27,AK27)","v":0},{"$f":"MAX('MDA1'!L27,'MDA4'!T27,'MDA3'!J27,'MDA3'!M27,Y27,AN27)","v":0},0,{"$f":"_xlfn.IFS(AND(AU27=0,AW27=0,AX27=0),0,AND(AU27=0,AW27=0,AX27>0),AI27,AND(AU27=0,AW27>0,AX27=0),T27,AND(AU27=0,AW27>0,AX27>0),MAX(T27,AI27),AND(AU27>0,AW27=0,AX27=0),MIN('MDA4'!R27,AZ27),AND(AU27>0,AW27=0,AX27>0),MIN(MAX('MDA4'!R27,AI27),AZ27),AND(AU27>0,AW27>0,AX27=0),MIN(MAX('MDA4'!R27,T27),AZ27),AND(AU27>0,AW27>0,AX27>0),MIN(MAX('MDA4'!R27,AI27,T27),AZ27))","v":0},{"$f":"_xlfn.IFS(AND(AU27=0,AV27=0,AW27=0,AX27=0),0,AND(AU27=0,AV27=0,AW27=0,AX27>0),AL27,AND(AU27=0,AV27=0,AW27>0,AX27=0),W27,AND(AU27=0,AV27=0,AW27>0,AX27>0),MAX(W27,AL27),AND(AU27=0,AV27>0,AW27=0,AX27=0),MIN(J27*PROFILE!$G$9,MAX('MDA3'!I27,'MDA3'!L27)),AND(AU27=0,AV27>0,AW27=0,AX27>0),MIN(J27*PROFILE!$G$9,MAX('MDA3'!I27,'MDA3'!L27,AL27)),AND(AU27=0,AV27>0,AW27>0,AX27=0),MIN(J27*PROFILE!$G$9,MAX('MDA3'!I27,'MDA3'!L27,W27)),AND(AU27=0,AV27>0,AW27>0,AX27>0),MIN(J27*PROFILE!$G$9,MAX('MDA3'!I27,'MDA3'!L27,W27,AL27)),AND(AU27>0,AV27=0,AW27=0,AX27=0), MIN(BA27,MAX('MDA1'!K27,'MDA4'!S27)),AND(AU27>0,AV27=0,AW27=0,AX27>0), MIN(BA27,MAX('MDA1'!K27,'MDA4'!S27,AL27)),AND(AU27>0,AV27=0,AW27>0,AX27=0),MIN(BA27,MAX('MDA1'!K27,'MDA4'!S27,W27)),AND(AU27>0,AV27=0,AW27>0,AX27>0),MIN(BA27,MAX('MDA1'!K27,'MDA4'!S27,W27,AL27)),AND(AU27>0,AV27>0,AW27=0,AX27=0),MIN(BA27, MAX('MDA1'!K27,'MDA4'!S27,MAX('MDA3'!I27,'MDA3'!L27))), AND(AU27>0,AV27>0,AW27=0,AX27>0),MIN(BA27, MAX('MDA1'!K27,'MDA4'!S27,MAX( 'MDA3'!I27,'MDA3'!L27),AL27)), AND(AU27>0,AV27>0,AW27>0,AX27=0), MIN(BA27, MAX('MDA1'!K27,'MDA4'!S27,MAX( 'MDA3'!I27,'MDA3'!L27),W27)), AND(AU27>0,AV27>0,AW27>0,AX27>0), MIN(BA27, MAX('MDA1'!K27,'MDA4'!S27,MAX( 'MDA3'!I27,'MDA3'!L27),W27,AL27)))","v":0},{"$f":"_xlfn.IFS(AND(AU27=0,AV27=0,AW27=0,AX27=0),0,AND(AU27=0,AV27=0,AW27=0,AX27>0),AO27,AND(AU27=0,AV27=0,AW27>0,AX27=0),Z27,AND(AU27=0,AV27=0,AW27>0,AX27>0),MAX(Z27,AO27),AND(AU27=0,AV27>0,AW27=0,AX27=0),MIN(J27*PROFILE!$G$10,MAX('MDA3'!J27,'MDA3'!J27)),AND(AU27=0,AV27>0,AW27=0,AX27>0),MIN(J27*PROFILE!$G$10,MAX('MDA3'!J27,'MDA3'!M27,AO27)),AND(AU27=0,AV27>0,AW27>0,AX27=0),MIN(J27*PROFILE!$G$10,MAX('MDA3'!J27,'MDA3'!M27,Z27)),AND(AU27=0,AV27>0,AW27>0,AX27>0),MIN(J27*PROFILE!$G$10,MAX('MDA3'!J27,'MDA3'!M27,Z27,AO27)),AND(AU27>0,AV27=0,AW27=0,AX27=0), MIN(BB27,MAX('MDA1'!L27,'MDA4'!T27)),AND(AU27>0,AV27=0,AW27=0,AX27>0), MIN(BB27,MAX('MDA1'!L27,'MDA4'!T27,AO27)),AND(AU27>0,AV27=0,AW27>0,AX27=0),MIN(BB27,MAX('MDA1'!L27,'MDA4'!T27,Z27)),AND(AU27>0,AV27=0,AW27>0,AX27>0),MIN(BB27,MAX('MDA1'!L27,'MDA4'!T27,Z27,AO27)),AND(AU27>0,AV27>0,AW27=0,AX27=0),MIN(BB27, MAX('MDA1'!L27,'MDA4'!T27,MAX( 'MDA3'!J27,'MDA3'!M27))), AND(AU27>0,AV27>0,AW27=0,AX27>0),MIN(BB27, MAX('MDA1'!L27,'MDA4'!T27,MAX( 'MDA3'!J27,'MDA3'!M27),AO27)), AND(AU27>0,AV27>0,AW27>0,AX27=0), MIN(BB27, MAX('MDA1'!L27,'MDA4'!T27,MAX( 'MDA3'!J27,'MDA3'!M27),Z27)), AND(AU27>0,AV27>0,AW27>0,AX27>0), MIN(BB27, MAX('MDA1'!L27,'MDA4'!T27,MAX( 'MDA3'!J27,'MDA3'!M27),Z27,AO27)))","v":0},0,0]
[{"$f":"IF(COUNTRY_INFO!A28=0,\" \",COUNTRY_INFO!A28)","v":"South Sudan"},{"$f":"IF(COUNTRY_INFO!B28=0,\" \",COUNTRY_INFO!B28)","v":"Jonglei"},{"$f":"IF(COUNTRY_INFO!C28=0,\" \",COUNTRY_INFO!C28)","v":"UROR"},{"$f":"COUNTRY_INFO!M28","v":0},null,null,{"$f":"'MDA1'!M28+'MDA4'!U28","v":0},{"$f":"IF(AND(COUNTRY_INFO!H28>0,COUNTRY_INFO!H28<4),IF(D28>G28,G28,D28),0)","v":0},{"$f":"IF(AND(COUNTRY_INFO!H28>0,COUNTRY_INFO!H28<4), IF(G28/D28*100<>0, IF(G28/D28*100>100,100,G28/D28*100), \"-\"),0)","v":0},{"$f":"COUNTRY_INFO!N28","v":"Unknown"},null,null,{"$f":"MAX('MDA1'!M28,MAX('MDA3'!I28,'MDA3'!L28)+MAX('MDA3'!J28,'MDA3'!M28))","v":0},{"$f":"IF(AND(COUNTRY_INFO!I28>0,COUNTRY_INFO!I28<4),IF(J28>M28,M28,J28),0)","v":0},{"$f":"IF(AND(COUNTRY_INFO!I28>0,COUNTRY_INFO!I28<4), IF(M28/J28*100<>0, IF(M28/J28*100>100,100,M28/J28*100), \"-\"),0)","v":0},{"$f":"COUNTRY_INFO!R28","v":0},null,null,{"$f":"MAX('MDA4'!R28,'T1'!K28, MAX(T3_R1!J28,T3_R2!J28,T3_R3!J28))","v":0},{"$f":"IF(AND(COUNTRY_INFO!J28>1,COUNTRY_INFO!J28<99,COUNTRY_INFO!J28<>4,COUNTRY_INFO!J28<>5),IF(COUNTRY_INFO!O28>S28,S28,COUNTRY_INFO!O28),0)","v":0},{"$f":"IF(AND(COUNTRY_INFO!J28>1,COUNTRY_INFO!J28<99,COUNTRY_INFO!J28<>4,COUNTRY_INFO!J28<>5), IF(T28/COUNTRY_INFO!O28*100<>0, IF(T28/COUNTRY_INFO!O28*100>100,100,T28/COUNTRY_INFO!O28*100), \"-\"),0)","v":0},{"$f":"MAX('MDA1'!K28,'MDA4'!S28, 'T1'!L28, MAX(T3_R1!K28,T3_R2!K28,T3_R3!K28))","v":0},{"$f":"IF(AND(COUNTRY_INFO!J28>1,COUNTRY_INFO!J28<99,COUNTRY_INFO!J28<>4,COUNTRY_INFO!J28<>5),IF(COUNTRY_INFO!P28>V28,V28,COUNTRY_INFO!P28),0)","v":0},{"$f":"IF(AND(COUNTRY_INFO!J28>1,COUNTRY_INFO!J28<99,COUNTRY_INFO!J28<>4,COUNTRY_INFO!J28<>5), IF(W28/COUNTRY_INFO!P28*100<>0, IF(W28/COUNTRY_INFO!P28*100>100,100,W28/COUNTRY_INFO!P28*100), \"-\"),0)","v":0},{"$f":"MAX('MDA1'!L28,'MDA4'!T28, 'T1'!M28, MAX(T3_R1!L28,T3_R2!L28,T3_R3!L28))","v":0},{"$f":"IF(AND(COUNTRY_INFO!J28>1,COUNTRY_INFO!J28<99,COUNTRY_INFO!J28<>4,COUNTRY_INFO!J28<>5),IF(COUNTRY_INFO!Q28>Y28,Y28,COUNTRY_INFO!Q28),0)","v":0},{"$f":"IF(AND(COUNTRY_INFO!J28>1,COUNTRY_INFO!J28<99,COUNTRY_INFO!J28<>4,COUNTRY_INFO!J28<>5), IF(Z28/COUNTRY_INFO!Q28*100<>0, IF(Z28/COUNTRY_INFO!Q28*100>100,100,Z28/COUNTRY_INFO!Q28*100), \"-\"),0)","v":0},0,0,{"$f":"IF(AND(COUNTRY_INFO!J28>1,COUNTRY_INFO!J28<99,COUNTRY_INFO!J28<>4,COUNTRY_INFO!J28<>5), IF(AC28/P28*100<>0, IF(AC28/P28*100>100,100,AC28/P28*100), \"-\"),0)","v":0},{"$f":"COUNTRY_INFO!V28","v":58172},null,null,{"$f":"MAX('T1'!K28,'T2'!R28)","v":0},{"$f":"IF(AND(COUNTRY_INFO!K28>1,COUNTRY_INFO!K28<99,COUNTRY_INFO!K28<>4,COUNTRY_INFO!K28<>5),IF(COUNTRY_INFO!S28>AH28,AH28,COUNTRY_INFO!S28),0)","v":0},{"$f":"IF(AND(COUNTRY_INFO!K28>1,COUNTRY_INFO!K28<99,COUNTRY_INFO!K28<>4,COUNTRY_INFO!K28<>5), IF(AI28/COUNTRY_INFO!S28*100<>0, IF(AI28/COUNTRY_INFO!S28*100>100,100,AI28/COUNTRY_INFO!S28*100), \"-\"),0)","v":"-"},{"$f":"MAX('T1'!L28,'T2'!S28)","v":0},{"$f":"IF(AND(COUNTRY_INFO!K28>1,COUNTRY_INFO!K28<99,COUNTRY_INFO!K28<>4,COUNTRY_INFO!K28<>5),IF(COUNTRY_INFO!T28>AK28,AK28,COUNTRY_INFO!T28),0)","v":0},{"$f":"IF(AND(COUNTRY_INFO!K28>1,COUNTRY_INFO!K28<99,COUNTRY_INFO!K28<>4,COUNTRY_INFO!K28<>5), IF(AL28/COUNTRY_INFO!T28*100<>0, IF(AL28/COUNTRY_INFO!T28*100>100,100,AL28/COUNTRY_INFO!T28*100), \"-\"),0)","v":"-"},{"$f":"MAX('T1'!M28,'T2'!T28)","v":0},{"$f":"IF(AND(COUNTRY_INFO!K28>1,COUNTRY_INFO!K28<99,COUNTRY_INFO!K28<>4,COUNTRY_INFO!K28<>5),IF(COUNTRY_INFO!U28>AN28,AN28,COUNTRY_INFO!U28),0)","v":0},{"$f":"IF(AND(COUNTRY_INFO!K28>1,COUNTRY_INFO!K28<99,COUNTRY_INFO!K28<>4,COUNTRY_INFO!K28<>5), IF(AO28/COUNTRY_INFO!U28*100<>0, IF(AO28/COUNTRY_INFO!U28*100>100,100,AO28/COUNTRY_INFO!U28*100), \"-\"),0)","v":"-"},0,0,{"$f":"IF(AND(COUNTRY_INFO!K28>1,COUNTRY_INFO!K28<99,COUNTRY_INFO!K28<>4,COUNTRY_INFO!K28<>5), IF(AH28/AE28*100<>0, IF(AR28/AE28*100>100,100,AR28/AE28*100), \"-\"),0)","v":"-"},null,{"$f":"IF(AND(D28<>0, D28<>\"Unknown\",D28<>\"Stopped\",D28<>\"Not required\"),D28/COUNTRY_INFO!D28, 0)","v":0},{"$f":"IF(AND(J28<>0,J28<>\"Unknown\",J28<>\"Stopped\",J28<>\"Not required\"),J28/COUNTRY_INFO!D28, 0)","v":0},{"$f":"IF(AND(P28<>0,P28<>\"Unknown\",P28<>\"Surveillance\",P28<>\"Not required\"),P28/COUNTRY_INFO!R28, 0)","v":0},{"$f":"IF(AND(AE28<>0,AE28<>\"Unknown\",AE28<>\"Surveillance\",AE28<>\"Not required\"),AE28/COUNTRY_INFO!V28, 0)","v":1},{"$f":"IF(AU28>0,D28*PROFILE!$G$7,IF(AV28>0,J28*PROFILE!$G$7,0))","v":0},{"$f":"_xlfn.IFS(OR(AU28>0,AW28>0),COUNTRY_INFO!E28, AV28>0,J28*PROFILE!$G$8,AX28>0,COUNTRY_INFO!S28,COUNTIFS(AU28:AX28,\">0\")=0,0)","v":5199},{"$f":"_xlfn.IFS(OR(AU28>0,AW28>0),COUNTRY_INFO!F28, AV28>0,J28*PROFILE!$G$9,AX28>0,COUNTRY_INFO!T28,COUNTIFS(AU28:AX28,\">0\")=0,0)","v":16781},{"$f":"_xlfn.IFS(AU28>0,COUNTRY_INFO!G28, AND(AV28>0,AW28=0,AX28=0),J28*PROFILE!$G$10,AND(AV28>0,AW28>0,AX28=0), MAX(J28*PROFILE!$G$10,COUNTRY_INFO!Q28),AND(AV28>0,AW28=0,AX28>0), MAX(J28*PROFILE!$G$10,COUNTRY_INFO!U28),AND(AV28=0,AW28>0,AX28>0), MAX(COUNTRY_INFO!Q28,COUNTRY_INFO!U28),AND(AV28=0,AW28>0,AX28=0),COUNTRY_INFO!Q28,AND(AV28=0,AW28=0,AX28>0),COUNTRY_INFO!U28,AND(AV28>0,AW28>0,AX28>0), MAX(J28*PROFILE!$G$10,COUNTRY_INFO!Q28,COUNTRY_INFO!U28),COUNTIFS(AU28:AX28,\">0\")=0,0)","v":36192},58172,0,{"$f":"MAX('MDA4'!R28,S28,AH28)","v":0},{"$f":"MAX('MDA1'!K28,'MDA4'!S28,'MDA3'!I28,'MDA3'!L28,V28,AK28)","v":0},{"$f":"MAX('MDA1'!L28,'MDA4'!T28,'MDA3'!J28,'MDA3'!M28,Y28,AN28)","v":0},0,{"$f":"_xlfn.IFS(AND(AU28=0,AW28=0,AX28=0),0,AND(AU28=0,AW28=0,AX28>0),AI28,AND(AU28=0,AW28>0,AX28=0),T28,AND(AU28=0,AW28>0,AX28>0),MAX(T28,AI28),AND(AU28>0,AW28=0,AX28=0),MIN('MDA4'!R28,AZ28),AND(AU28>0,AW28=0,AX28>0),MIN(MAX('MDA4'!R28,AI28),AZ28),AND(AU28>0,AW28>0,AX28=0),MIN(MAX('MDA4'!R28,T28),AZ28),AND(AU28>0,AW28>0,AX28>0),MIN(MAX('MDA4'!R28,AI28,T28),AZ28))","v":0},{"$f":"_xlfn.IFS(AND(AU28=0,AV28=0,AW28=0,AX28=0),0,AND(AU28=0,AV28=0,AW28=0,AX28>0),AL28,AND(AU28=0,AV28=0,AW28>0,AX28=0),W28,AND(AU28=0,AV28=0,AW28>0,AX28>0),MAX(W28,AL28),AND(AU28=0,AV28>0,AW28=0,AX28=0),MIN(J28*PROFILE!$G$9,MAX('MDA3'!I28,'MDA3'!L28)),AND(AU28=0,AV28>0,AW28=0,AX28>0),MIN(J28*PROFILE!$G$9,MAX('MDA3'!I28,'MDA3'!L28,AL28)),AND(AU28=0,AV28>0,AW28>0,AX28=0),MIN(J28*PROFILE!$G$9,MAX('MDA3'!I28,'MDA3'!L28,W28)),AND(AU28=0,AV28>0,AW28>0,AX28>0),MIN(J28*PROFILE!$G$9,MAX('MDA3'!I28,'MDA3'!L28,W28,AL28)),AND(AU28>0,AV28=0,AW28=0,AX28=0), MIN(BA28,MAX('MDA1'!K28,'MDA4'!S28)),AND(AU28>0,AV28=0,AW28=0,AX28>0), MIN(BA28,MAX('MDA1'!K28,'MDA4'!S28,AL28)),AND(AU28>0,AV28=0,AW28>0,AX28=0),MIN(BA28,MAX('MDA1'!K28,'MDA4'!S28,W28)),AND(AU28>0,AV28=0,AW28>0,AX28>0),MIN(BA28,MAX('MDA1'!K28,'MDA4'!S28,W28,AL28)),AND(AU28>0,AV28>0,AW28=0,AX28=0),MIN(BA28, MAX('MDA1'!K28,'MDA4'!S28,MAX('MDA3'!I28,'MDA3'!L28))), AND(AU28>0,AV28>0,AW28=0,AX28>0),MIN(BA28, MAX('MDA1'!K28,'MDA4'!S28,MAX( 'MDA3'!I28,'MDA3'!L28),AL28)), AND(AU28>0,AV28>0,AW28>0,AX28=0), MIN(BA28, MAX('MDA1'!K28,'MDA4'!S28,MAX( 'MDA3'!I28,'MDA3'!L28),W28)), AND(AU28>0,AV28>0,AW28>0,AX28>0), MIN(BA28, MAX('MDA1'!K28,'MDA4'!S28,MAX( 'MDA3'!I28,'MDA3'!L28),W28,AL28)))","v":0},{"$f":"_xlfn.IFS(AND(AU28=0,AV28=0,AW28=0,AX28=0),0,AND(AU28=0,AV28=0,AW28=0,AX28>0),AO28,AND(AU28=0,AV28=0,AW28>0,AX28=0),Z28,AND(AU28=0,AV28=0,AW28>0,AX28>0),MAX(Z28,AO28),AND(AU28=0,AV28>0,AW28=0,AX28=0),MIN(J28*PROFILE!$G$10,MAX('MDA3'!J28,'MDA3'!J28)),AND(AU28=0,AV28>0,AW28=0,AX28>0),MIN(J28*PROFILE!$G$10,MAX('MDA3'!J28,'MDA3'!M28,AO28)),AND(AU28=0,AV28>0,AW28>0,AX28=0),MIN(J28*PROFILE!$G$10,MAX('MDA3'!J28,'MDA3'!M28,Z28)),AND(AU28=0,AV28>0,AW28>0,AX28>0),MIN(J28*PROFILE!$G$10,MAX('MDA3'!J28,'MDA3'!M28,Z28,AO28)),AND(AU28>0,AV28=0,AW28=0,AX28=0), MIN(BB28,MAX('MDA1'!L28,'MDA4'!T28)),AND(AU28>0,AV28=0,AW28=0,AX28>0), MIN(BB28,MAX('MDA1'!L28,'MDA4'!T28,AO28)),AND(AU28>0,AV28=0,AW28>0,AX28=0),MIN(BB28,MAX('MDA1'!L28,'MDA4'!T28,Z28)),AND(AU28>0,AV28=0,AW28>0,AX28>0),MIN(BB28,MAX('MDA1'!L28,'MDA4'!T28,Z28,AO28)),AND(AU28>0,AV28>0,AW28=0,AX28=0),MIN(BB28, MAX('MDA1'!L28,'MDA4'!T28,MAX( 'MDA3'!J28,'MDA3'!M28))), AND(AU28>0,AV28>0,AW28=0,AX28>0),MIN(BB28, MAX('MDA1'!L28,'MDA4'!T28,MAX( 'MDA3'!J28,'MDA3'!M28),AO28)), AND(AU28>0,AV28>0,AW28>0,AX28=0), MIN(BB28, MAX('MDA1'!L28,'MDA4'!T28,MAX( 'MDA3'!J28,'MDA3'!M28),Z28)), AND(AU28>0,AV28>0,AW28>0,AX28>0), MIN(BB28, MAX('MDA1'!L28,'MDA4'!T28,MAX( 'MDA3'!J28,'MDA3'!M28),Z28,AO28)))","v":0},0,0]
[{"$f":"IF(COUNTRY_INFO!A29=0,\" \",COUNTRY_INFO!A29)","v":"South Sudan"},{"$f":"IF(COUNTRY_INFO!B29=0,\" \",COUNTRY_INFO!B29)","v":"Jonglei"},{"$f":"IF(COUNTRY_INFO!C29=0,\" \",COUNTRY_INFO!C29)","v":"NYIROL"},{"$f":"COUNTRY_INFO!M29","v":0},null,null,{"$f":"'MDA1'!M29+'MDA4'!U29","v":0},{"$f":"IF(AND(COUNTRY_INFO!H29>0,COUNTRY_INFO!H29<4),IF(D29>G29,G29,D29),0)","v":0},{"$f":"IF(AND(COUNTRY_INFO!H29>0,COUNTRY_INFO!H29<4), IF(G29/D29*100<>0, IF(G29/D29*100>100,100,G29/D29*100), \"-\"),0)","v":0},{"$f":"COUNTRY_INFO!N29","v":"Unknown"},null,null,{"$f":"MAX('MDA1'!M29,MAX('MDA3'!I29,'MDA3'!L29)+MAX('MDA3'!J29,'MDA3'!M29))","v":0},{"$f":"IF(AND(COUNTRY_INFO!I29>0,COUNTRY_INFO!I29<4),IF(J29>M29,M29,J29),0)","v":0},{"$f":"IF(AND(COUNTRY_INFO!I29>0,COUNTRY_INFO!I29<4), IF(M29/J29*100<>0, IF(M29/J29*100>100,100,M29/J29*100), \"-\"),0)","v":0},{"$f":"COUNTRY_INFO!R29","v":0},null,null,{"$f":"MAX('MDA4'!R29,'T1'!K29, MAX(T3_R1!J29,T3_R2!J29,T3_R3!J29))","v":0},{"$f":"IF(AND(COUNTRY_INFO!J29>1,COUNTRY_INFO!J29<99,COUNTRY_INFO!J29<>4,COUNTRY_INFO!J29<>5),IF(COUNTRY_INFO!O29>S29,S29,COUNTRY_INFO!O29),0)","v":0},{"$f":"IF(AND(COUNTRY_INFO!J29>1,COUNTRY_INFO!J29<99,COUNTRY_INFO!J29<>4,COUNTRY_INFO!J29<>5), IF(T29/COUNTRY_INFO!O29*100<>0, IF(T29/COUNTRY_INFO!O29*100>100,100,T29/COUNTRY_INFO!O29*100), \"-\"),0)","v":0},{"$f":"MAX('MDA1'!K29,'MDA4'!S29, 'T1'!L29, MAX(T3_R1!K29,T3_R2!K29,T3_R3!K29))","v":0},{"$f":"IF(AND(COUNTRY_INFO!J29>1,COUNTRY_INFO!J29<99,COUNTRY_INFO!J29<>4,COUNTRY_INFO!J29<>5),IF(COUNTRY_INFO!P29>V29,V29,COUNTRY_INFO!P29),0)","v":0},{"$f":"IF(AND(COUNTRY_INFO!J29>1,COUNTRY_INFO!J29<99,COUNTRY_INFO!J29<>4,COUNTRY_INFO!J29<>5), IF(W29/COUNTRY_INFO!P29*100<>0, IF(W29/COUNTRY_INFO!P29*100>100,100,W29/COUNTRY_INFO!P29*100), \"-\"),0)","v":0},{"$f":"MAX('MDA1'!L29,'MDA4'!T29, 'T1'!M29, MAX(T3_R1!L29,T3_R2!L29,T3_R3!L29))","v":0},{"$f":"IF(AND(COUNTRY_INFO!J29>1,COUNTRY_INFO!J29<99,COUNTRY_INFO!J29<>4,COUNTRY_INFO!J29<>5),IF(COUNTRY_INFO!Q29>Y29,Y29,COUNTRY_INFO!Q29),0)","v":0},{"$f":"IF(AND(COUNTRY_INFO!J29>1,COUNTRY_INFO!J29<99,COUNTRY_INFO!J29<>4,COUNTRY_INFO!J29<>5), IF(Z29/COUNTRY_INFO!Q29*100<>0, IF(Z29/COUNTRY_INFO!Q29*100>100,100,Z29/COUNTRY_INFO!Q29*100), \"-\"),0)","v":0},0,0,{"$f":"IF(AND(COUNTRY_INFO!J29>1,COUNTRY_INFO!J29<99,COUNTRY_INFO!J29<>4,COUNTRY_INFO!J29<>5), IF(AC29/P29*100<>0, IF(AC29/P29*100>100,100,AC29/P29*100), \"-\"),0)","v":0},{"$f":"COUNTRY_INFO!V29","v":0},null,null,{"$f":"MAX('T1'!K29,'T2'!R29)","v":0},{"$f":"IF(AND(COUNTRY_INFO!K29>1,COUNTRY_INFO!K29<99,COUNTRY_INFO!K29<>4,COUNTRY_INFO!K29<>5),IF(COUNTRY_INFO!S29>AH29,AH29,COUNTRY_INFO!S29),0)","v":0},{"$f":"IF(AND(COUNTRY_INFO!K29>1,COUNTRY_INFO!K29<99,COUNTRY_INFO!K29<>4,COUNTRY_INFO!K29<>5), IF(AI29/COUNTRY_INFO!S29*100<>0, IF(AI29/COUNTRY_INFO!S29*100>100,100,AI29/COUNTRY_INFO!S29*100), \"-\"),0)","v":0},{"$f":"MAX('T1'!L29,'T2'!S29)","v":0},{"$f":"IF(AND(COUNTRY_INFO!K29>1,COUNTRY_INFO!K29<99,COUNTRY_INFO!K29<>4,COUNTRY_INFO!K29<>5),IF(COUNTRY_INFO!T29>AK29,AK29,COUNTRY_INFO!T29),0)","v":0},{"$f":"IF(AND(COUNTRY_INFO!K29>1,COUNTRY_INFO!K29<99,COUNTRY_INFO!K29<>4,COUNTRY_INFO!K29<>5), IF(AL29/COUNTRY_INFO!T29*100<>0, IF(AL29/COUNTRY_INFO!T29*100>100,100,AL29/COUNTRY_INFO!T29*100), \"-\"),0)","v":0},{"$f":"MAX('T1'!M29,'T2'!T29)","v":0},{"$f":"IF(AND(COUNTRY_INFO!K29>1,COUNTRY_INFO!K29<99,COUNTRY_INFO!K29<>4,COUNTRY_INFO!K29<>5),IF(COUNTRY_INFO!U29>AN29,AN29,COUNTRY_INFO!U29),0)","v":0},{"$f":"IF(AND(COUNTRY_INFO!K29>1,COUNTRY_INFO!K29<99,COUNTRY_INFO!K29<>4,COUNTRY_INFO!K29<>5), IF(AO29/COUNTRY_INFO!U29*100<>0, IF(AO29/COUNTRY_INFO!U29*100>100,100,AO29/COUNTRY_INFO!U29*100), \"-\"),0)","v":0},0,0,{"$f":"IF(AND(COUNTRY_INFO!K29>1,COUNTRY_INFO!K29<99,COUNTRY_INFO!K29<>4,COUNTRY_INFO!K29<>5), IF(AH29/AE29*100<>0, IF(AR29/AE29*100>100,100,AR29/AE29*100), \"-\"),0)","v":0},null,{"$f":"IF(AND(D29<>0, D29<>\"Unknown\",D29<>\"Stopped\",D29<>\"Not required\"),D29/COUNTRY_INFO!D29, 0)","v":0},{"$f":"IF(AND(J29<>0,J29<>\"Unknown\",J29<>\"Stopped\",J29<>\"Not required\"),J29/COUNTRY_INFO!D29, 0)","v":0},{"$f":"IF(AND(P29<>0,P29<>\"Unknown\",P29<>\"Surveillance\",P29<>\"Not required\"),P29/COUNTRY_INFO!R29, 0)","v":0},{"$f":"IF(AND(AE29<>0,AE29<>\"Unknown\",AE29<>\"Surveillance\",AE29<>\"Not required\"),AE29/COUNTRY_INFO!V29, 0)","v":0},{"$f":"IF(AU29>0,D29*PROFILE!$G$7,IF(AV29>0,J29*PROFILE!$G$7,0))","v":0},{"$f":"_xlfn.IFS(OR(AU29>0,AW29>0),COUNTRY_INFO!E29, AV29>0,J29*PROFILE!$G$8,AX29>0,COUNTRY_INFO!S29,COUNTIFS(AU29:AX29,\">0\")=0,0)","v":0},{"$f":"_xlfn.IFS(OR(AU29>0,AW29>0),COUNTRY_INFO!F29, AV29>0,J29*PROFILE!$G$9,AX29>0,COUNTRY_INFO!T29,COUNTIFS(AU29:AX29,\">0\")=0,0)","v":0},{"$f":"_xlfn.IFS(AU29>0,COUNTRY_INFO!G29, AND(AV29>0,AW29=0,AX29=0),J29*PROFILE!$G$10,AND(AV29>0,AW29>0,AX29=0), MAX(J29*PROFILE!$G$10,COUNTRY_INFO!Q29),AND(AV29>0,AW29=0,AX29>0), MAX(J29*PROFILE!$G$10,COUNTRY_INFO!U29),AND(AV29=0,AW29>0,AX29>0), MAX(COUNTRY_INFO!Q29,COUNTRY_INFO!U29),AND(AV29=0,AW29>0,AX29=0),COUNTRY_INFO!Q29,AND(AV29=0,AW29=0,AX29>0),COUNTRY_INFO!U29,AND(AV29>0,AW29>0,AX29>0), MAX(J29*PROFILE!$G$10,COUNTRY_INFO!Q29,COUNTRY_INFO!U29),COUNTIFS(AU29:AX29,\">0\")=0,0)","v":0},0,0,{"$f":"MAX('MDA4'!R29,S29,AH29)","v":0},{"$f":"MAX('MDA1'!K29,'MDA4'!S29,'MDA3'!I29,'MDA3'!L29,V29,AK29)","v":0},{"$f":"MAX('MDA1'!L29,'MDA4'!T29,'MDA3'!J29,'MDA3'!M29,Y29,AN29)","v":0},0,{"$f":"_xlfn.IFS(AND(AU29=0,AW29=0,AX29=0),0,AND(AU29=0,AW29=0,AX29>0),AI29,AND(AU29=0,AW29>0,AX29=0),T29,AND(AU29=0,AW29>0,AX29>0),MAX(T29,AI29),AND(AU29>0,AW29=0,AX29=0),MIN('MDA4'!R29,AZ29),AND(AU29>0,AW29=0,AX29>0),MIN(MAX('MDA4'!R29,AI29),AZ29),AND(AU29>0,AW29>0,AX29=0),MIN(MAX('MDA4'!R29,T29),AZ29),AND(AU29>0,AW29>0,AX29>0),MIN(MAX('MDA4'!R29,AI29,T29),AZ29))","v":0},{"$f":"_xlfn.IFS(AND(AU29=0,AV29=0,AW29=0,AX29=0),0,AND(AU29=0,AV29=0,AW29=0,AX29>0),AL29,AND(AU29=0,AV29=0,AW29>0,AX29=0),W29,AND(AU29=0,AV29=0,AW29>0,AX29>0),MAX(W29,AL29),AND(AU29=0,AV29>0,AW29=0,AX29=0),MIN(J29*PROFILE!$G$9,MAX('MDA3'!I29,'MDA3'!L29)),AND(AU29=0,AV29>0,AW29=0,AX29>0),MIN(J29*PROFILE!$G$9,MAX('MDA3'!I29,'MDA3'!L29,AL29)),AND(AU29=0,AV29>0,AW29>0,AX29=0),MIN(J29*PROFILE!$G$9,MAX('MDA3'!I29,'MDA3'!L29,W29)),AND(AU29=0,AV29>0,AW29>0,AX29>0),MIN(J29*PROFILE!$G$9,MAX('MDA3'!I29,'MDA3'!L29,W29,AL29)),AND(AU29>0,AV29=0,AW29=0,AX29=0), MIN(BA29,MAX('MDA1'!K29,'MDA4'!S29)),AND(AU29>0,AV29=0,AW29=0,AX29>0), MIN(BA29,MAX('MDA1'!K29,'MDA4'!S29,AL29)),AND(AU29>0,AV29=0,AW29>0,AX29=0),MIN(BA29,MAX('MDA1'!K29,'MDA4'!S29,W29)),AND(AU29>0,AV29=0,AW29>0,AX29>0),MIN(BA29,MAX('MDA1'!K29,'MDA4'!S29,W29,AL29)),AND(AU29>0,AV29>0,AW29=0,AX29=0),MIN(BA29, MAX('MDA1'!K29,'MDA4'!S29,MAX('MDA3'!I29,'MDA3'!L29))), AND(AU29>0,AV29>0,AW29=0,AX29>0),MIN(BA29, MAX('MDA1'!K29,'MDA4'!S29,MAX( 'MDA3'!I29,'MDA3'!L29),AL29)), AND(AU29>0,AV29>0,AW29>0,AX29=0), MIN(BA29, MAX('MDA1'!K29,'MDA4'!S29,MAX( 'MDA3'!I29,'MDA3'!L29),W29)), AND(AU29>0,AV29>0,AW29>0,AX29>0), MIN(BA29, MAX('MDA1'!K29,'MDA4'!S29,MAX( 'MDA3'!I29,'MDA3'!L29),W29,AL29)))","v":0},{"$f":"_xlfn.IFS(AND(AU29=0,AV29=0,AW29=0,AX29=0),0,AND(AU29=0,AV29=0,AW29=0,AX29>0),AO29,AND(AU29=0,AV29=0,AW29>0,AX29=0),Z29,AND(AU29=0,AV29=0,AW29>0,AX29>0),MAX(Z29,AO29),AND(AU29=0,AV29>0,AW29=0,AX29=0),MIN(J29*PROFILE!$G$10,MAX('MDA3'!J29,'MDA3'!J29)),AND(AU29=0,AV29>0,AW29=0,AX29>0),MIN(J29*PROFILE!$G$10,MAX('MDA3'!J29,'MDA3'!M29,AO29)),AND(AU29=0,AV29>0,AW29>0,AX29=0),MIN(J29*PROFILE!$G$10,MAX('MDA3'!J29,'MDA3'!M29,Z29)),AND(AU29=0,AV29>0,AW29>0,AX29>0),MIN(J29*PROFILE!$G$10,MAX('MDA3'!J29,'MDA3'!M29,Z29,AO29)),AND(AU29>0,AV29=0,AW29=0,AX29=0), MIN(BB29,MAX('MDA1'!L29,'MDA4'!T29)),AND(AU29>0,AV29=0,AW29=0,AX29>0), MIN(BB29,MAX('MDA1'!L29,'MDA4'!T29,AO29)),AND(AU29>0,AV29=0,AW29>0,AX29=0),MIN(BB29,MAX('MDA1'!L29,'MDA4'!T29,Z29)),AND(AU29>0,AV29=0,AW29>0,AX29>0),MIN(BB29,MAX('MDA1'!L29,'MDA4'!T29,Z29,AO29)),AND(AU29>0,AV29>0,AW29=0,AX29=0),MIN(BB29, MAX('MDA1'!L29,'MDA4'!T29,MAX( 'MDA3'!J29,'MDA3'!M29))), AND(AU29>0,AV29>0,AW29=0,AX29>0),MIN(BB29, MAX('MDA1'!L29,'MDA4'!T29,MAX( 'MDA3'!J29,'MDA3'!M29),AO29)), AND(AU29>0,AV29>0,AW29>0,AX29=0), MIN(BB29, MAX('MDA1'!L29,'MDA4'!T29,MAX( 'MDA3'!J29,'MDA3'!M29),Z29)), AND(AU29>0,AV29>0,AW29>0,AX29>0), MIN(BB29, MAX('MDA1'!L29,'MDA4'!T29,MAX( 'MDA3'!J29,'MDA3'!M29),Z29,AO29)))","v":0},0,0]
[{"$f":"IF(COUNTRY_INFO!A30=0,\" \",COUNTRY_INFO!A30)","v":"South Sudan"},{"$f":"IF(COUNTRY_INFO!B30=0,\" \",COUNTRY_INFO!B30)","v":"Jonglei"},{"$f":"IF(COUNTRY_INFO!C30=0,\" \",COUNTRY_INFO!C30)","v":"AKOBO"},{"$f":"COUNTRY_INFO!M30","v":0},null,null,{"$f":"'MDA1'!M30+'MDA4'!U30","v":0},{"$f":"IF(AND(COUNTRY_INFO!H30>0,COUNTRY_INFO!H30<4),IF(D30>G30,G30,D30),0)","v":0},{"$f":"IF(AND(COUNTRY_INFO!H30>0,COUNTRY_INFO!H30<4), IF(G30/D30*100<>0, IF(G30/D30*100>100,100,G30/D30*100), \"-\"),0)","v":0},{"$f":"COUNTRY_INFO!N30","v":225600.38500000001},null,null,{"$f":"MAX('MDA1'!M30,MAX('MDA3'!I30,'MDA3'!L30)+MAX('MDA3'!J30,'MDA3'!M30))","v":72863},{"$f":"IF(AND(COUNTRY_INFO!I30>0,COUNTRY_INFO!I30<4),IF(J30>M30,M30,J30),0)","v":72863},{"$f":"IF(AND(COUNTRY_INFO!I30>0,COUNTRY_INFO!I30<4), IF(M30/J30*100<>0, IF(M30/J30*100>100,100,M30/J30*100), \"-\"),0)","v":32.297373960598513},{"$f":"COUNTRY_INFO!R30","v":0},null,null,{"$f":"MAX('MDA4'!R30,'T1'!K30, MAX(T3_R1!J30,T3_R2!J30,T3_R3!J30))","v":0},{"$f":"IF(AND(COUNTRY_INFO!J30>1,COUNTRY_INFO!J30<99,COUNTRY_INFO!J30<>4,COUNTRY_INFO!J30<>5),IF(COUNTRY_INFO!O30>S30,S30,COUNTRY_INFO!O30),0)","v":0},{"$f":"IF(AND(COUNTRY_INFO!J30>1,COUNTRY_INFO!J30<99,COUNTRY_INFO!J30<>4,COUNTRY_INFO!J30<>5), IF(T30/COUNTRY_INFO!O30*100<>0, IF(T30/COUNTRY_INFO!O30*100>100,100,T30/COUNTRY_INFO!O30*100), \"-\"),0)","v":0},{"$f":"MAX('MDA1'!K30,'MDA4'!S30, 'T1'!L30, MAX(T3_R1!K30,T3_R2!K30,T3_R3!K30))","v":0},{"$f":"IF(AND(COUNTRY_INFO!J30>1,COUNTRY_INFO!J30<99,COUNTRY_INFO!J30<>4,COUNTRY_INFO!J30<>5),IF(COUNTRY_INFO!P30>V30,V30,COUNTRY_INFO!P30),0)","v":0},{"$f":"IF(AND(COUNTRY_INFO!J30>1,COUNTRY_INFO!J30<99,COUNTRY_INFO!J30<>4,COUNTRY_INFO!J30<>5), IF(W30/COUNTRY_INFO!P30*100<>0, IF(W30/COUNTRY_INFO!P30*100>100,100,W30/COUNTRY_INFO!P30*100), \"-\"),0)","v":0},{"$f":"MAX('MDA1'!L30,'MDA4'!T30, 'T1'!M30, MAX(T3_R1!L30,T3_R2!L30,T3_R3!L30))","v":0},{"$f":"IF(AND(COUNTRY_INFO!J30>1,COUNTRY_INFO!J30<99,COUNTRY_INFO!J30<>4,COUNTRY_INFO!J30<>5),IF(COUNTRY_INFO!Q30>Y30,Y30,COUNTRY_INFO!Q30),0)","v":0},{"$f":"IF(AND(COUNTRY_INFO!J30>1,COUNTRY_INFO!J30<99,COUNTRY_INFO!J30<>4,COUNTRY_INFO!J30<>5), IF(Z30/COUNTRY_INFO!Q30*100<>0, IF(Z30/COUNTRY_INFO!Q30*100>100,100,Z30/COUNTRY_INFO!Q30*100), \"-\"),0)","v":0},0,0,{"$f":"IF(AND(COUNTRY_INFO!J30>1,COUNTRY_INFO!J30<99,COUNTRY_INFO!J30<>4,COUNTRY_INFO!J30<>5), IF(AC30/P30*100<>0, IF(AC30/P30*100>100,100,AC30/P30*100), \"-\"),0)","v":0},{"$f":"COUNTRY_INFO!V30","v":0},null,null,{"$f":"MAX('T1'!K30,'T2'!R30)","v":0},{"$f":"IF(AND(COUNTRY_INFO!K30>1,COUNTRY_INFO!K30<99,COUNTRY_INFO!K30<>4,COUNTRY_INFO!K30<>5),IF(COUNTRY_INFO!S30>AH30,AH30,COUNTRY_INFO!S30),0)","v":0},{"$f":"IF(AND(COUNTRY_INFO!K30>1,COUNTRY_INFO!K30<99,COUNTRY_INFO!K30<>4,COUNTRY_INFO!K30<>5), IF(AI30/COUNTRY_INFO!S30*100<>0, IF(AI30/COUNTRY_INFO!S30*100>100,100,AI30/COUNTRY_INFO!S30*100), \"-\"),0)","v":0},{"$f":"MAX('T1'!L30,'T2'!S30)","v":0},{"$f":"IF(AND(COUNTRY_INFO!K30>1,COUNTRY_INFO!K30<99,COUNTRY_INFO!K30<>4,COUNTRY_INFO!K30<>5),IF(COUNTRY_INFO!T30>AK30,AK30,COUNTRY_INFO!T30),0)","v":0},{"$f":"IF(AND(COUNTRY_INFO!K30>1,COUNTRY_INFO!K30<99,COUNTRY_INFO!K30<>4,COUNTRY_INFO!K30<>5), IF(AL30/COUNTRY_INFO!T30*100<>0, IF(AL30/COUNTRY_INFO!T30*100>100,100,AL30/COUNTRY_INFO!T30*100), \"-\"),0)","v":0},{"$f":"MAX('T1'!M30,'T2'!T30)","v":0},{"$f":"IF(AND(COUNTRY_INFO!K30>1,COUNTRY_INFO!K30<99,COUNTRY_INFO!K30<>4,COUNTRY_INFO!K30<>5),IF(COUNTRY_INFO!U30>AN30,AN30,COUNTRY_INFO!U30),0)","v":0},{"$f":"IF(AND(COUNTRY_INFO!K30>1,COUNTRY_INFO!K30<99,COUNTRY_INFO!K30<>4,COUNTRY_INFO!K30<>5), IF(AO30/COUNTRY_INFO!U30*100<>0, IF(AO30/COUNTRY_INFO!U30*100>100,100,AO30/COUNTRY_INFO!U30*100), \"-\"),0)","v":0},0,0,{"$f":"IF(AND(COUNTRY_INFO!K30>1,COUNTRY_INFO!K30<99,COUNTRY_INFO!K30<>4,COUNTRY_INFO!K30<>5), IF(AH30/AE30*100<>0, IF(AR30/AE30*100>100,100,AR30/AE30*100), \"-\"),0)","v":0},null,{"$f":"IF(AND(D30<>0, D30<>\"Unknown\",D30<>\"Stopped\",D30<>\"Not required\"),D30/COUNTRY_INFO!D30, 0)","v":0},{"$f":"IF(AND(J30<>0,J30<>\"Unknown\",J30<>\"Stopped\",J30<>\"Not required\"),J30/COUNTRY_INFO!D30, 0)","v":1},{"$f":"IF(AND(P30<>0,P30<>\"Unknown\",P30<>\"Surveillance\",P30<>\"Not required\"),P30/COUNTRY_INFO!R30, 0)","v":0},{"$f":"IF(AND(AE30<>0,AE30<>\"Unknown\",AE30<>\"Surveillance\",AE30<>\"Not required\"),AE30/COUNTRY_INFO!V30, 0)","v":0},{"$f":"IF(AU30>0,D30*PROFILE!$G$7,IF(AV30>0,J30*PROFILE!$G$7,0))","v":6203.9952952685217},{"$f":"_xlfn.IFS(OR(AU30>0,AW30>0),COUNTRY_INFO!E30, AV30>0,J30*PROFILE!$G$8,AX30>0,COUNTRY_INFO!S30,COUNTIFS(AU30:AX30,\">0\")=0,0)","v":24973.945632577725},{"$f":"_xlfn.IFS(OR(AU30>0,AW30>0),COUNTRY_INFO!F30, AV30>0,J30*PROFILE!$G$9,AX30>0,COUNTRY_INFO!T30,COUNTIFS(AU30:AX30,\">0\")=0,0)","v":69687.979596546997},{"$f":"_xlfn.IFS(AU30>0,COUNTRY_INFO!G30, AND(AV30>0,AW30=0,AX30=0),J30*PROFILE!$G$10,AND(AV30>0,AW30>0,AX30=0), MAX(J30*PROFILE!$G$10,COUNTRY_INFO!Q30),AND(AV30>0,AW30=0,AX30>0), MAX(J30*PROFILE!$G$10,COUNTRY_INFO!U30),AND(AV30=0,AW30>0,AX30>0), MAX(COUNTRY_INFO!Q30,COUNTRY_INFO!U30),AND(AV30=0,AW30>0,AX30=0),COUNTRY_INFO!Q30,AND(AV30=0,AW30=0,AX30>0),COUNTRY_INFO!U30,AND(AV30>0,AW30>0,AX30>0), MAX(J30*PROFILE!$G$10,COUNTRY_INFO!Q30,COUNTRY_INFO!U30),COUNTIFS(AU30:AX30,\">0\")=0,0)","v":124734.46447560676},225600.38500000001,"Y",{"$f":"MAX('MDA4'!R30,S30,AH30)","v":0},{"$f":"MAX('MDA1'!K30,'MDA4'!S30,'MDA3'!I30,'MDA3'!L30,V30,AK30)","v":35449},{"$f":"MAX('MDA1'!L30,'MDA4'!T30,'MDA3'!J30,'MDA3'!M30,Y30,AN30)","v":37414},72863,{"$f":"_xlfn.IFS(AND(AU30=0,AW30=0,AX30=0),0,AND(AU30=0,AW30=0,AX30>0),AI30,AND(AU30=0,AW30>0,AX30=0),T30,AND(AU30=0,AW30>0,AX30>0),MAX(T30,AI30),AND(AU30>0,AW30=0,AX30=0),MIN('MDA4'!R30,AZ30),AND(AU30>0,AW30=0,AX30>0),MIN(MAX('MDA4'!R30,AI30),AZ30),AND(AU30>0,AW30>0,AX30=0),MIN(MAX('MDA4'!R30,T30),AZ30),AND(AU30>0,AW30>0,AX30>0),MIN(MAX('MDA4'!R30,AI30,T30),AZ30))","v":0},{"$f":"_xlfn.IFS(AND(AU30=0,AV30=0,AW30=0,AX30=0),0,AND(AU30=0,AV30=0,AW30=0,AX30>0),AL30,AND(AU30=0,AV30=0,AW30>0,AX30=0),W30,AND(AU30=0,AV30=0,AW30>0,AX30>0),MAX(W30,AL30),AND(AU30=0,AV30>0,AW30=0,AX30=0),MIN(J30*PROFILE!$G$9,MAX('MDA3'!I30,'MDA3'!L30)),AND(AU30=0,AV30>0,AW30=0,AX30>0),MIN(J30*PROFILE!$G$9,MAX('MDA3'!I30,'MDA3'!L30,AL30)),AND(AU30=0,AV30>0,AW30>0,AX30=0),MIN(J30*PROFILE!$G$9,MAX('MDA3'!I30,'MDA3'!L30,W30)),AND(AU30=0,AV30>0,AW30>0,AX30>0),MIN(J30*PROFILE!$G$9,MAX('MDA3'!I30,'MDA3'!L30,W30,AL30)),AND(AU30>0,AV30=0,AW30=0,AX30=0), MIN(BA30,MAX('MDA1'!K30,'MDA4'!S30)),AND(AU30>0,AV30=0,AW30=0,AX30>0), MIN(BA30,MAX('MDA1'!K30,'MDA4'!S30,AL30)),AND(AU30>0,AV30=0,AW30>0,AX30=0),MIN(BA30,MAX('MDA1'!K30,'MDA4'!S30,W30)),AND(AU30>0,AV30=0,AW30>0,AX30>0),MIN(BA30,MAX('MDA1'!K30,'MDA4'!S30,W30,AL30)),AND(AU30>0,AV30>0,AW30=0,AX30=0),MIN(BA30, MAX('MDA1'!K30,'MDA4'!S30,MAX('MDA3'!I30,'MDA3'!L30))), AND(AU30>0,AV30>0,AW30=0,AX30>0),MIN(BA30, MAX('MDA1'!K30,'MDA4'!S30,MAX( 'MDA3'!I30,'MDA3'!L30),AL30)), AND(AU30>0,AV30>0,AW30>0,AX30=0), MIN(BA30, MAX('MDA1'!K30,'MDA4'!S30,MAX( 'MDA3'!I30,'MDA3'!L30),W30)), AND(AU30>0,AV30>0,AW30>0,AX30>0), MIN(BA30, MAX('MDA1'!K30,'MDA4'!S30,MAX( 'MDA3'!I30,'MDA3'!L30),W30,AL30)))","v":35449},{"$f":"_xlfn.IFS(AND(AU30=0,AV30=0,AW30=0,AX30=0),0,AND(AU30=0,AV30=0,AW30=0,AX30>0),AO30,AND(AU30=0,AV30=0,AW30>0,AX30=0),Z30,AND(AU30=0,AV30=0,AW30>0,AX30>0),MAX(Z30,AO30),AND(AU30=0,AV30>0,AW30=0,AX30=0),MIN(J30*PROFILE!$G$10,MAX('MDA3'!J30,'MDA3'!J30)),AND(AU30=0,AV30>0,AW30=0,AX30>0),MIN(J30*PROFILE!$G$10,MAX('MDA3'!J30,'MDA3'!M30,AO30)),AND(AU30=0,AV30>0,AW30>0,AX30=0),MIN(J30*PROFILE!$G$10,MAX('MDA3'!J30,'MDA3'!M30,Z30)),AND(AU30=0,AV30>0,AW30>0,AX30>0),MIN(J30*PROFILE!$G$10,MAX('MDA3'!J30,'MDA3'!M30,Z30,AO30)),AND(AU30>0,AV30=0,AW30=0,AX30=0), MIN(BB30,MAX('MDA1'!L30,'MDA4'!T30)),AND(AU30>0,AV30=0,AW30=0,AX30>0), MIN(BB30,MAX('MDA1'!L30,'MDA4'!T30,AO30)),AND(AU30>0,AV30=0,AW30>0,AX30=0),MIN(BB30,MAX('MDA1'!L30,'MDA4'!T30,Z30)),AND(AU30>0,AV30=0,AW30>0,AX30>0),MIN(BB30,MAX('MDA1'!L30,'MDA4'!T30,Z30,AO30)),AND(AU30>0,AV30>0,AW30=0,AX30=0),MIN(BB30, MAX('MDA1'!L30,'MDA4'!T30,MAX( 'MDA3'!J30,'MDA3'!M30))), AND(AU30>0,AV30>0,AW30=0,AX30>0),MIN(BB30, MAX('MDA1'!L30,'MDA4'!T30,MAX( 'MDA3'!J30,'MDA3'!M30),AO30)), AND(AU30>0,AV30>0,AW30>0,AX30=0), MIN(BB30, MAX('MDA1'!L30,'MDA4'!T30,MAX( 'MDA3'!J30,'MDA3'!M30),Z30)), AND(AU30>0,AV30>0,AW30>0,AX30>0), MIN(BB30, MAX('MDA1'!L30,'MDA4'!T30,MAX( 'MDA3'!J30,'MDA3'!M30),Z30,AO30)))","v":37414},72863,32.297373960598513]
[{"$f":"IF(COUNTRY_INFO!A31=0,\" \",COUNTRY_INFO!A31)","v":"South Sudan"},{"$f":"IF(COUNTRY_INFO!B31=0,\" \",COUNTRY_INFO!B31)","v":"Jonglei"},{"$f":"IF(COUNTRY_INFO!C31=0,\" \",COUNTRY_INFO!C31)","v":"POCHALA"},{"$f":"COUNTRY_INFO!M31","v":107324.8876},null,null,{"$f":"'MDA1'!M31+'MDA4'!U31","v":37907},{"$f":"IF(AND(COUNTRY_INFO!H31>0,COUNTRY_INFO!H31<4),IF(D31>G31,G31,D31),0)","v":37907},{"$f":"IF(AND(COUNTRY_INFO!H31>0,COUNTRY_INFO!H31<4), IF(G31/D31*100<>0, IF(G31/D31*100>100,100,G31/D31*100), \"-\"),0)","v":35.319859957626456},{"$f":"COUNTRY_INFO!N31","v":107324.8876},null,null,{"$f":"MAX('MDA1'!M31,MAX('MDA3'!I31,'MDA3'!L31)+MAX('MDA3'!J31,'MDA3'!M31))","v":37907},{"$f":"IF(AND(COUNTRY_INFO!I31>0,COUNTRY_INFO!I31<4),IF(J31>M31,M31,J31),0)","v":37907},{"$f":"IF(AND(COUNTRY_INFO!I31>0,COUNTRY_INFO!I31<4), IF(M31/J31*100<>0, IF(M31/J31*100>100,100,M31/J31*100), \"-\"),0)","v":35.319859957626456},{"$f":"COUNTRY_INFO!R31","v":0},null,null,{"$f":"MAX('MDA4'!R31,'T1'!K31, MAX(T3_R1!J31,T3_R2!J31,T3_R3!J31))","v":0},{"$f":"IF(AND(COUNTRY_INFO!J31>1,COUNTRY_INFO!J31<99,COUNTRY_INFO!J31<>4,COUNTRY_INFO!J31<>5),IF(COUNTRY_INFO!O31>S31,S31,COUNTRY_INFO!O31),0)","v":0},{"$f":"IF(AND(COUNTRY_INFO!J31>1,COUNTRY_INFO!J31<99,COUNTRY_INFO!J31<>4,COUNTRY_INFO!J31<>5), IF(T31/COUNTRY_INFO!O31*100<>0, IF(T31/COUNTRY_INFO!O31*100>100,100,T31/COUNTRY_INFO!O31*100), \"-\"),0)","v":0},{"$f":"MAX('MDA1'!K31,'MDA4'!S31, 'T1'!L31, MAX(T3_R1!K31,T3_R2!K31,T3_R3!K31))","v":18759},{"$f":"IF(AND(COUNTRY_INFO!J31>1,COUNTRY_INFO!J31<99,COUNTRY_INFO!J31<>4,COUNTRY_INFO!J31<>5),IF(COUNTRY_INFO!P31>V31,V31,COUNTRY_INFO!P31),0)","v":0},{"$f":"IF(AND(COUNTRY_INFO!J31>1,COUNTRY_INFO!J31<99,COUNTRY_INFO!J31<>4,COUNTRY_INFO!J31<>5), IF(W31/COUNTRY_INFO!P31*100<>0, IF(W31/COUNTRY_INFO!P31*100>100,100,W31/COUNTRY_INFO!P31*100), \"-\"),0)","v":0},{"$f":"MAX('MDA1'!L31,'MDA4'!T31, 'T1'!M31, MAX(T3_R1!L31,T3_R2!L31,T3_R3!L31))","v":19148},{"$f":"IF(AND(COUNTRY_INFO!J31>1,COUNTRY_INFO!J31<99,COUNTRY_INFO!J31<>4,COUNTRY_INFO!J31<>5),IF(COUNTRY_INFO!Q31>Y31,Y31,COUNTRY_INFO!Q31),0)","v":0},{"$f":"IF(AND(COUNTRY_INFO!J31>1,COUNTRY_INFO!J31<99,COUNTRY_INFO!J31<>4,COUNTRY_INFO!J31<>5), IF(Z31/COUNTRY_INFO!Q31*100<>0, IF(Z31/COUNTRY_INFO!Q31*100>100,100,Z31/COUNTRY_INFO!Q31*100), \"-\"),0)","v":0},37907,0,{"$f":"IF(AND(COUNTRY_INFO!J31>1,COUNTRY_INFO!J31<99,COUNTRY_INFO!J31<>4,COUNTRY_INFO!J31<>5), IF(AC31/P31*100<>0, IF(AC31/P31*100>100,100,AC31/P31*100), \"-\"),0)","v":0},{"$f":"COUNTRY_INFO!V31","v":0},null,null,{"$f":"MAX('T1'!K31,'T2'!R31)","v":0},{"$f":"IF(AND(COUNTRY_INFO!K31>1,COUNTRY_INFO!K31<99,COUNTRY_INFO!K31<>4,COUNTRY_INFO!K31<>5),IF(COUNTRY_INFO!S31>AH31,AH31,COUNTRY_INFO!S31),0)","v":0},{"$f":"IF(AND(COUNTRY_INFO!K31>1,COUNTRY_INFO!K31<99,COUNTRY_INFO!K31<>4,COUNTRY_INFO!K31<>5), IF(AI31/COUNTRY_INFO!S31*100<>0, IF(AI31/COUNTRY_INFO!S31*100>100,100,AI31/COUNTRY_INFO!S31*100), \"-\"),0)","v":0},{"$f":"MAX('T1'!L31,'T2'!S31)","v":0},{"$f":"IF(AND(COUNTRY_INFO!K31>1,COUNTRY_INFO!K31<99,COUNTRY_INFO!K31<>4,COUNTRY_INFO!K31<>5),IF(COUNTRY_INFO!T31>AK31,AK31,COUNTRY_INFO!T31),0)","v":0},{"$f":"IF(AND(COUNTRY_INFO!K31>1,COUNTRY_INFO!K31<99,COUNTRY_INFO!K31<>4,COUNTRY_INFO!K31<>5), IF(AL31/COUNTRY_INFO!T31*100<>0, IF(AL31/COUNTRY_INFO!T31*100>100,100,AL31/COUNTRY_INFO!T31*100), \"-\"),0)","v":0},{"$f":"MAX('T1'!M31,'T2'!T31)","v":0},{"$f":"IF(AND(COUNTRY_INFO!K31>1,COUNTRY_INFO!K31<99,COUNTRY_INFO!K31<>4,COUNTRY_INFO!K31<>5),IF(COUNTRY_INFO!U31>AN31,AN31,COUNTRY_INFO!U31),0)","v":0},{"$f":"IF(AND(COUNTRY_INFO!K31>1,COUNTRY_INFO!K31<99,COUNTRY_INFO!K31<>4,COUNTRY_INFO!K31<>5), IF(AO31/COUNTRY_INFO!U31*100<>0, IF(AO31/COUNTRY_INFO!U31*100>100,100,AO31/COUNTRY_INFO!U31*100), \"-\"),0)","v":0},0,0,{"$f":"IF(AND(COUNTRY_INFO!K31>1,COUNTRY_INFO!K31<99,COUNTRY_INFO!K31<>4,COUNTRY_INFO!K31<>5), IF(AH31/AE31*100<>0, IF(AR31/AE31*100>100,100,AR31/AE31*100), \"-\"),0)","v":0},null,{"$f":"IF(AND(D31<>0, D31<>\"Unknown\",D31<>\"Stopped\",D31<>\"Not required\"),D31/COUNTRY_INFO!D31, 0)","v":1},{"$f":"IF(AND(J31<>0,J31<>\"Unknown\",J31<>\"Stopped\",J31<>\"Not required\"),J31/COUNTRY_INFO!D31, 0)","v":1},{"$f":"IF(AND(P31<>0,P31<>\"Unknown\",P31<>\"Surveillance\",P31<>\"Not required\"),P31/COUNTRY_INFO!R31, 0)","v":0},{"$f":"IF(AND(AE31<>0,AE31<>\"Unknown\",AE31<>\"Surveillance\",AE31<>\"Not required\"),AE31/COUNTRY_INFO!V31, 0)","v":0},{"$f":"IF(AU31>0,D31*PROFILE!$G$7,IF(AV31>0,J31*PROFILE!$G$7,0))","v":2951.4271340256041},{"$f":"_xlfn.IFS(OR(AU31>0,AW31>0),COUNTRY_INFO!E31, AV31>0,J31*PROFILE!$G$8,AX31>0,COUNTRY_INFO!S31,COUNTIFS(AU31:AX31,\">0\")=0,0)","v":11881},{"$f":"_xlfn.IFS(OR(AU31>0,AW31>0),COUNTRY_INFO!F31, AV31>0,J31*PROFILE!$G$9,AX31>0,COUNTRY_INFO!T31,COUNTIFS(AU31:AX31,\">0\")=0,0)","v":33153},{"$f":"_xlfn.IFS(AU31>0,COUNTRY_INFO!G31, AND(AV31>0,AW31=0,AX31=0),J31*PROFILE!$G$10,AND(AV31>0,AW31>0,AX31=0), MAX(J31*PROFILE!$G$10,COUNTRY_INFO!Q31),AND(AV31>0,AW31=0,AX31>0), MAX(J31*PROFILE!$G$10,COUNTRY_INFO!U31),AND(AV31=0,AW31>0,AX31>0), MAX(COUNTRY_INFO!Q31,COUNTRY_INFO!U31),AND(AV31=0,AW31>0,AX31=0),COUNTRY_INFO!Q31,AND(AV31=0,AW31=0,AX31>0),COUNTRY_INFO!U31,AND(AV31>0,AW31>0,AX31>0), MAX(J31*PROFILE!$G$10,COUNTRY_INFO!Q31,COUNTRY_INFO!U31),COUNTIFS(AU31:AX31,\">0\")=0,0)","v":59340},107325.42713402561,"Y",{"$f":"MAX('MDA4'!R31,S31,AH31)","v":0},{"$f":"MAX('MDA1'!K31,'MDA4'!S31,'MDA3'!I31,'MDA3'!L31,V31,AK31)","v":18759},{"$f":"MAX('MDA1'!L31,'MDA4'!T31,'MDA3'!J31,'MDA3'!M31,Y31,AN31)","v":19148},37907,{"$f":"_xlfn.IFS(AND(AU31=0,AW31=0,AX31=0),0,AND(AU31=0,AW31=0,AX31>0),AI31,AND(AU31=0,AW31>0,AX31=0),T31,AND(AU31=0,AW31>0,AX31>0),MAX(T31,AI31),AND(AU31>0,AW31=0,AX31=0),MIN('MDA4'!R31,AZ31),AND(AU31>0,AW31=0,AX31>0),MIN(MAX('MDA4'!R31,AI31),AZ31),AND(AU31>0,AW31>0,AX31=0),MIN(MAX('MDA4'!R31,T31),AZ31),AND(AU31>0,AW31>0,AX31>0),MIN(MAX('MDA4'!R31,AI31,T31),AZ31))","v":0},{"$f":"_xlfn.IFS(AND(AU31=0,AV31=0,AW31=0,AX31=0),0,AND(AU31=0,AV31=0,AW31=0,AX31>0),AL31,AND(AU31=0,AV31=0,AW31>0,AX31=0),W31,AND(AU31=0,AV31=0,AW31>0,AX31>0),MAX(W31,AL31),AND(AU31=0,AV31>0,AW31=0,AX31=0),MIN(J31*PROFILE!$G$9,MAX('MDA3'!I31,'MDA3'!L31)),AND(AU31=0,AV31>0,AW31=0,AX31>0),MIN(J31*PROFILE!$G$9,MAX('MDA3'!I31,'MDA3'!L31,AL31)),AND(AU31=0,AV31>0,AW31>0,AX31=0),MIN(J31*PROFILE!$G$9,MAX('MDA3'!I31,'MDA3'!L31,W31)),AND(AU31=0,AV31>0,AW31>0,AX31>0),MIN(J31*PROFILE!$G$9,MAX('MDA3'!I31,'MDA3'!L31,W31,AL31)),AND(AU31>0,AV31=0,AW31=0,AX31=0), MIN(BA31,MAX('MDA1'!K31,'MDA4'!S31)),AND(AU31>0,AV31=0,AW31=0,AX31>0), MIN(BA31,MAX('MDA1'!K31,'MDA4'!S31,AL31)),AND(AU31>0,AV31=0,AW31>0,AX31=0),MIN(BA31,MAX('MDA1'!K31,'MDA4'!S31,W31)),AND(AU31>0,AV31=0,AW31>0,AX31>0),MIN(BA31,MAX('MDA1'!K31,'MDA4'!S31,W31,AL31)),AND(AU31>0,AV31>0,AW31=0,AX31=0),MIN(BA31, MAX('MDA1'!K31,'MDA4'!S31,MAX('MDA3'!I31,'MDA3'!L31))), AND(AU31>0,AV31>0,AW31=0,AX31>0),MIN(BA31, MAX('MDA1'!K31,'MDA4'!S31,MAX( 'MDA3'!I31,'MDA3'!L31),AL31)), AND(AU31>0,AV31>0,AW31>0,AX31=0), MIN(BA31, MAX('MDA1'!K31,'MDA4'!S31,MAX( 'MDA3'!I31,'MDA3'!L31),W31)), AND(AU31>0,AV31>0,AW31>0,AX31>0), MIN(BA31, MAX('MDA1'!K31,'MDA4'!S31,MAX( 'MDA3'!I31,'MDA3'!L31),W31,AL31)))","v":18759},{"$f":"_xlfn.IFS(AND(AU31=0,AV31=0,AW31=0,AX31=0),0,AND(AU31=0,AV31=0,AW31=0,AX31>0),AO31,AND(AU31=0,AV31=0,AW31>0,AX31=0),Z31,AND(AU31=0,AV31=0,AW31>0,AX31>0),MAX(Z31,AO31),AND(AU31=0,AV31>0,AW31=0,AX31=0),MIN(J31*PROFILE!$G$10,MAX('MDA3'!J31,'MDA3'!J31)),AND(AU31=0,AV31>0,AW31=0,AX31>0),MIN(J31*PROFILE!$G$10,MAX('MDA3'!J31,'MDA3'!M31,AO31)),AND(AU31=0,AV31>0,AW31>0,AX31=0),MIN(J31*PROFILE!$G$10,MAX('MDA3'!J31,'MDA3'!M31,Z31)),AND(AU31=0,AV31>0,AW31>0,AX31>0),MIN(J31*PROFILE!$G$10,MAX('MDA3'!J31,'MDA3'!M31,Z31,AO31)),AND(AU31>0,AV31=0,AW31=0,AX31=0), MIN(BB31,MAX('MDA1'!L31,'MDA4'!T31)),AND(AU31>0,AV31=0,AW31=0,AX31>0), MIN(BB31,MAX('MDA1'!L31,'MDA4'!T31,AO31)),AND(AU31>0,AV31=0,AW31>0,AX31=0),MIN(BB31,MAX('MDA1'!L31,'MDA4'!T31,Z31)),AND(AU31>0,AV31=0,AW31>0,AX31>0),MIN(BB31,MAX('MDA1'!L31,'MDA4'!T31,Z31,AO31)),AND(AU31>0,AV31>0,AW31=0,AX31=0),MIN(BB31, MAX('MDA1'!L31,'MDA4'!T31,MAX( 'MDA3'!J31,'MDA3'!M31))), AND(AU31>0,AV31>0,AW31=0,AX31>0),MIN(BB31, MAX('MDA1'!L31,'MDA4'!T31,MAX( 'MDA3'!J31,'MDA3'!M31),AO31)), AND(AU31>0,AV31>0,AW31>0,AX31=0), MIN(BB31, MAX('MDA1'!L31,'MDA4'!T31,MAX( 'MDA3'!J31,'MDA3'!M31),Z31)), AND(AU31>0,AV31>0,AW31>0,AX31>0), MIN(BB31, MAX('MDA1'!L31,'MDA4'!T31,MAX( 'MDA3'!J31,'MDA3'!M31),Z31,AO31)))","v":19148},37907,35.3196824016946]
[{"$f":"IF(COUNTRY_INFO!A32=0,\" \",COUNTRY_INFO!A32)","v":"South Sudan"},{"$f":"IF(COUNTRY_INFO!B32=0,\" \",COUNTRY_INFO!B32)","v":"Jonglei"},{"$f":"IF(COUNTRY_INFO!C32=0,\" \",COUNTRY_INFO!C32)","v":"PIBOR"},{"$f":"COUNTRY_INFO!M32","v":238742.81420000002},null,null,{"$f":"'MDA1'!M32+'MDA4'!U32","v":74163},{"$f":"IF(AND(COUNTRY_INFO!H32>0,COUNTRY_INFO!H32<4),IF(D32>G32,G32,D32),0)","v":74163},{"$f":"IF(AND(COUNTRY_INFO!H32>0,COUNTRY_INFO!H32<4), IF(G32/D32*100<>0, IF(G32/D32*100>100,100,G32/D32*100), \"-\"),0)","v":31.063971599946061},{"$f":"COUNTRY_INFO!N32","v":238742.81420000002},null,null,{"$f":"MAX('MDA1'!M32,MAX('MDA3'!I32,'MDA3'!L32)+MAX('MDA3'!J32,'MDA3'!M32))","v":74163},{"$f":"IF(AND(COUNTRY_INFO!I32>0,COUNTRY_INFO!I32<4),IF(J32>M32,M32,J32),0)","v":74163},{"$f":"IF(AND(COUNTRY_INFO!I32>0,COUNTRY_INFO!I32<4), IF(M32/J32*100<>0, IF(M32/J32*100>100,100,M32/J32*100), \"-\"),0)","v":31.063971599946061},{"$f":"COUNTRY_INFO!R32","v":0},null,null,{"$f":"MAX('MDA4'!R32,'T1'!K32, MAX(T3_R1!J32,T3_R2!J32,T3_R3!J32))","v":0},{"$f":"IF(AND(COUNTRY_INFO!J32>1,COUNTRY_INFO!J32<99,COUNTRY_INFO!J32<>4,COUNTRY_INFO!J32<>5),IF(COUNTRY_INFO!O32>S32,S32,COUNTRY_INFO!O32),0)","v":0},{"$f":"IF(AND(COUNTRY_INFO!J32>1,COUNTRY_INFO!J32<99,COUNTRY_INFO!J32<>4,COUNTRY_INFO!J32<>5), IF(T32/COUNTRY_INFO!O32*100<>0, IF(T32/COUNTRY_INFO!O32*100>100,100,T32/COUNTRY_INFO!O32*100), \"-\"),0)","v":0},{"$f":"MAX('MDA1'!K32,'MDA4'!S32, 'T1'!L32, MAX(T3_R1!K32,T3_R2!K32,T3_R3!K32))","v":36007},{"$f":"IF(AND(COUNTRY_INFO!J32>1,COUNTRY_INFO!J32<99,COUNTRY_INFO!J32<>4,COUNTRY_INFO!J32<>5),IF(COUNTRY_INFO!P32>V32,V32,COUNTRY_INFO!P32),0)","v":0},{"$f":"IF(AND(COUNTRY_INFO!J32>1,COUNTRY_INFO!J32<99,COUNTRY_INFO!J32<>4,COUNTRY_INFO!J32<>5), IF(W32/COUNTRY_INFO!P32*100<>0, IF(W32/COUNTRY_INFO!P32*100>100,100,W32/COUNTRY_INFO!P32*100), \"-\"),0)","v":0},{"$f":"MAX('MDA1'!L32,'MDA4'!T32, 'T1'!M32, MAX(T3_R1!L32,T3_R2!L32,T3_R3!L32))","v":38156},{"$f":"IF(AND(COUNTRY_INFO!J32>1,COUNTRY_INFO!J32<99,COUNTRY_INFO!J32<>4,COUNTRY_INFO!J32<>5),IF(COUNTRY_INFO!Q32>Y32,Y32,COUNTRY_INFO!Q32),0)","v":0},{"$f":"IF(AND(COUNTRY_INFO!J32>1,COUNTRY_INFO!J32<99,COUNTRY_INFO!J32<>4,COUNTRY_INFO!J32<>5), IF(Z32/COUNTRY_INFO!Q32*100<>0, IF(Z32/COUNTRY_INFO!Q32*100>100,100,Z32/COUNTRY_INFO!Q32*100), \"-\"),0)","v":0},74163,0,{"$f":"IF(AND(COUNTRY_INFO!J32>1,COUNTRY_INFO!J32<99,COUNTRY_INFO!J32<>4,COUNTRY_INFO!J32<>5), IF(AC32/P32*100<>0, IF(AC32/P32*100>100,100,AC32/P32*100), \"-\"),0)","v":0},{"$f":"COUNTRY_INFO!V32","v":0},null,null,{"$f":"MAX('T1'!K32,'T2'!R32)","v":0},{"$f":"IF(AND(COUNTRY_INFO!K32>1,COUNTRY_INFO!K32<99,COUNTRY_INFO!K32<>4,COUNTRY_INFO!K32<>5),IF(COUNTRY_INFO!S32>AH32,AH32,COUNTRY_INFO!S32),0)","v":0},{"$f":"IF(AND(COUNTRY_INFO!K32>1,COUNTRY_INFO!K32<99,COUNTRY_INFO!K32<>4,COUNTRY_INFO!K32<>5), IF(AI32/COUNTRY_INFO!S32*100<>0, IF(AI32/COUNTRY_INFO!S32*100>100,100,AI32/COUNTRY_INFO!S32*100), \"-\"),0)","v":0},{"$f":"MAX('T1'!L32,'T2'!S32)","v":0},{"$f":"IF(AND(COUNTRY_INFO!K32>1,COUNTRY_INFO!K32<99,COUNTRY_INFO!K32<>4,COUNTRY_INFO!K32<>5),IF(COUNTRY_INFO!T32>AK32,AK32,COUNTRY_INFO!T32),0)","v":0},{"$f":"IF(AND(COUNTRY_INFO!K32>1,COUNTRY_INFO!K32<99,COUNTRY_INFO!K32<>4,COUNTRY_INFO!K32<>5), IF(AL32/COUNTRY_INFO!T32*100<>0, IF(AL32/COUNTRY_INFO!T32*100>100,100,AL32/COUNTRY_INFO!T32*100), \"-\"),0)","v":0},{"$f":"MAX('T1'!M32,'T2'!T32)","v":0},{"$f":"IF(AND(COUNTRY_INFO!K32>1,COUNTRY_INFO!K32<99,COUNTRY_INFO!K32<>4,COUNTRY_INFO!K32<>5),IF(COUNTRY_INFO!U32>AN32,AN32,COUNTRY_INFO!U32),0)","v":0},{"$f":"IF(AND(COUNTRY_INFO!K32>1,COUNTRY_INFO!K32<99,COUNTRY_INFO!K32<>4,COUNTRY_INFO!K32<>5), IF(AO32/COUNTRY_INFO!U32*100<>0, IF(AO32/COUNTRY_INFO!U32*100>100,100,AO32/COUNTRY_INFO!U32*100), \"-\"),0)","v":0},0,0,{"$f":"IF(AND(COUNTRY_INFO!K32>1,COUNTRY_INFO!K32<99,COUNTRY_INFO!K32<>4,COUNTRY_INFO!K32<>5), IF(AH32/AE32*100<>0, IF(AR32/AE32*100>100,100,AR32/AE32*100), \"-\"),0)","v":0},null,{"$f":"IF(AND(D32<>0, D32<>\"Unknown\",D32<>\"Stopped\",D32<>\"Not required\"),D32/COUNTRY_INFO!D32, 0)","v":1},{"$f":"IF(AND(J32<>0,J32<>\"Unknown\",J32<>\"Stopped\",J32<>\"Not required\"),J32/COUNTRY_INFO!D32, 0)","v":1},{"$f":"IF(AND(P32<>0,P32<>\"Unknown\",P32<>\"Surveillance\",P32<>\"Not required\"),P32/COUNTRY_INFO!R32, 0)","v":0},{"$f":"IF(AND(AE32<>0,AE32<>\"Unknown\",AE32<>\"Surveillance\",AE32<>\"Not required\"),AE32/COUNTRY_INFO!V32, 0)","v":0},{"$f":"IF(AU32>0,D32*PROFILE!$G$7,IF(AV32>0,J32*PROFILE!$G$7,0))","v":6565.4112074142377},{"$f":"_xlfn.IFS(OR(AU32>0,AW32>0),COUNTRY_INFO!E32, AV32>0,J32*PROFILE!$G$8,AX32>0,COUNTRY_INFO!S32,COUNTIFS(AU32:AX32,\">0\")=0,0)","v":26429},{"$f":"_xlfn.IFS(OR(AU32>0,AW32>0),COUNTRY_INFO!F32, AV32>0,J32*PROFILE!$G$9,AX32>0,COUNTRY_INFO!T32,COUNTIFS(AU32:AX32,\">0\")=0,0)","v":73748},{"$f":"_xlfn.IFS(AU32>0,COUNTRY_INFO!G32, AND(AV32>0,AW32=0,AX32=0),J32*PROFILE!$G$10,AND(AV32>0,AW32>0,AX32=0), MAX(J32*PROFILE!$G$10,COUNTRY_INFO!Q32),AND(AV32>0,AW32=0,AX32>0), MAX(J32*PROFILE!$G$10,COUNTRY_INFO!U32),AND(AV32=0,AW32>0,AX32>0), MAX(COUNTRY_INFO!Q32,COUNTRY_INFO!U32),AND(AV32=0,AW32>0,AX32=0),COUNTRY_INFO!Q32,AND(AV32=0,AW32=0,AX32>0),COUNTRY_INFO!U32,AND(AV32>0,AW32>0,AX32>0), MAX(J32*PROFILE!$G$10,COUNTRY_INFO!Q32,COUNTRY_INFO!U32),COUNTIFS(AU32:AX32,\">0\")=0,0)","v":132001},238743.41120741423,"Y",{"$f":"MAX('MDA4'!R32,S32,AH32)","v":0},{"$f":"MAX('MDA1'!K32,'MDA4'!S32,'MDA3'!I32,'MDA3'!L32,V32,AK32)","v":36007},{"$f":"MAX('MDA1'!L32,'MDA4'!T32,'MDA3'!J32,'MDA3'!M32,Y32,AN32)","v":38156},74163,{"$f":"_xlfn.IFS(AND(AU32=0,AW32=0,AX32=0),0,AND(AU32=0,AW32=0,AX32>0),AI32,AND(AU32=0,AW32>0,AX32=0),T32,AND(AU32=0,AW32>0,AX32>0),MAX(T32,AI32),AND(AU32>0,AW32=0,AX32=0),MIN('MDA4'!R32,AZ32),AND(AU32>0,AW32=0,AX32>0),MIN(MAX('MDA4'!R32,AI32),AZ32),AND(AU32>0,AW32>0,AX32=0),MIN(MAX('MDA4'!R32,T32),AZ32),AND(AU32>0,AW32>0,AX32>0),MIN(MAX('MDA4'!R32,AI32,T32),AZ32))","v":0},{"$f":"_xlfn.IFS(AND(AU32=0,AV32=0,AW32=0,AX32=0),0,AND(AU32=0,AV32=0,AW32=0,AX32>0),AL32,AND(AU32=0,AV32=0,AW32>0,AX32=0),W32,AND(AU32=0,AV32=0,AW32>0,AX32>0),MAX(W32,AL32),AND(AU32=0,AV32>0,AW32=0,AX32=0),MIN(J32*PROFILE!$G$9,MAX('MDA3'!I32,'MDA3'!L32)),AND(AU32=0,AV32>0,AW32=0,AX32>0),MIN(J32*PROFILE!$G$9,MAX('MDA3'!I32,'MDA3'!L32,AL32)),AND(AU32=0,AV32>0,AW32>0,AX32=0),MIN(J32*PROFILE!$G$9,MAX('MDA3'!I32,'MDA3'!L32,W32)),AND(AU32=0,AV32>0,AW32>0,AX32>0),MIN(J32*PROFILE!$G$9,MAX('MDA3'!I32,'MDA3'!L32,W32,AL32)),AND(AU32>0,AV32=0,AW32=0,AX32=0), MIN(BA32,MAX('MDA1'!K32,'MDA4'!S32)),AND(AU32>0,AV32=0,AW32=0,AX32>0), MIN(BA32,MAX('MDA1'!K32,'MDA4'!S32,AL32)),AND(AU32>0,AV32=0,AW32>0,AX32=0),MIN(BA32,MAX('MDA1'!K32,'MDA4'!S32,W32)),AND(AU32>0,AV32=0,AW32>0,AX32>0),MIN(BA32,MAX('MDA1'!K32,'MDA4'!S32,W32,AL32)),AND(AU32>0,AV32>0,AW32=0,AX32=0),MIN(BA32, MAX('MDA1'!K32,'MDA4'!S32,MAX('MDA3'!I32,'MDA3'!L32))), AND(AU32>0,AV32>0,AW32=0,AX32>0),MIN(BA32, MAX('MDA1'!K32,'MDA4'!S32,MAX( 'MDA3'!I32,'MDA3'!L32),AL32)), AND(AU32>0,AV32>0,AW32>0,AX32=0), MIN(BA32, MAX('MDA1'!K32,'MDA4'!S32,MAX( 'MDA3'!I32,'MDA3'!L32),W32)), AND(AU32>0,AV32>0,AW32>0,AX32>0), MIN(BA32, MAX('MDA1'!K32,'MDA4'!S32,MAX( 'MDA3'!I32,'MDA3'!L32),W32,AL32)))","v":36007},{"$f":"_xlfn.IFS(AND(AU32=0,AV32=0,AW32=0,AX32=0),0,AND(AU32=0,AV32=0,AW32=0,AX32>0),AO32,AND(AU32=0,AV32=0,AW32>0,AX32=0),Z32,AND(AU32=0,AV32=0,AW32>0,AX32>0),MAX(Z32,AO32),AND(AU32=0,AV32>0,AW32=0,AX32=0),MIN(J32*PROFILE!$G$10,MAX('MDA3'!J32,'MDA3'!J32)),AND(AU32=0,AV32>0,AW32=0,AX32>0),MIN(J32*PROFILE!$G$10,MAX('MDA3'!J32,'MDA3'!M32,AO32)),AND(AU32=0,AV32>0,AW32>0,AX32=0),MIN(J32*PROFILE!$G$10,MAX('MDA3'!J32,'MDA3'!M32,Z32)),AND(AU32=0,AV32>0,AW32>0,AX32>0),MIN(J32*PROFILE!$G$10,MAX('MDA3'!J32,'MDA3'!M32,Z32,AO32)),AND(AU32>0,AV32=0,AW32=0,AX32=0), MIN(BB32,MAX('MDA1'!L32,'MDA4'!T32)),AND(AU32>0,AV32=0,AW32=0,AX32>0), MIN(BB32,MAX('MDA1'!L32,'MDA4'!T32,AO32)),AND(AU32>0,AV32=0,AW32>0,AX32=0),MIN(BB32,MAX('MDA1'!L32,'MDA4'!T32,Z32)),AND(AU32>0,AV32=0,AW32>0,AX32>0),MIN(BB32,MAX('MDA1'!L32,'MDA4'!T32,Z32,AO32)),AND(AU32>0,AV32>0,AW32=0,AX32=0),MIN(BB32, MAX('MDA1'!L32,'MDA4'!T32,MAX( 'MDA3'!J32,'MDA3'!M32))), AND(AU32>0,AV32>0,AW32=0,AX32>0),MIN(BB32, MAX('MDA1'!L32,'MDA4'!T32,MAX( 'MDA3'!J32,'MDA3'!M32),AO32)), AND(AU32>0,AV32>0,AW32>0,AX32=0), MIN(BB32, MAX('MDA1'!L32,'MDA4'!T32,MAX( 'MDA3'!J32,'MDA3'!M32),Z32)), AND(AU32>0,AV32>0,AW32>0,AX32>0), MIN(BB32, MAX('MDA1'!L32,'MDA4'!T32,MAX( 'MDA3'!J32,'MDA3'!M32),Z32,AO32)))","v":38156},74163,31.063893920644816]
[{"$f":"IF(COUNTRY_INFO!A33=0,\" \",COUNTRY_INFO!A33)","v":"South Sudan"},{"$f":"IF(COUNTRY_INFO!B33=0,\" \",COUNTRY_INFO!B33)","v":"Jonglei"},{"$f":"IF(COUNTRY_INFO!C33=0,\" \",COUNTRY_INFO!C33)","v":"TWIC EAST"},{"$f":"COUNTRY_INFO!M33","v":0},null,null,{"$f":"'MDA1'!M33+'MDA4'!U33","v":0},{"$f":"IF(AND(COUNTRY_INFO!H33>0,COUNTRY_INFO!H33<4),IF(D33>G33,G33,D33),0)","v":0},{"$f":"IF(AND(COUNTRY_INFO!H33>0,COUNTRY_INFO!H33<4), IF(G33/D33*100<>0, IF(G33/D33*100>100,100,G33/D33*100), \"-\"),0)","v":0},{"$f":"COUNTRY_INFO!N33","v":"Unknown"},null,null,{"$f":"MAX('MDA1'!M33,MAX('MDA3'!I33,'MDA3'!L33)+MAX('MDA3'!J33,'MDA3'!M33))","v":0},{"$f":"IF(AND(COUNTRY_INFO!I33>0,COUNTRY_INFO!I33<4),IF(J33>M33,M33,J33),0)","v":0},{"$f":"IF(AND(COUNTRY_INFO!I33>0,COUNTRY_INFO!I33<4), IF(M33/J33*100<>0, IF(M33/J33*100>100,100,M33/J33*100), \"-\"),0)","v":0},{"$f":"COUNTRY_INFO!R33","v":0},null,null,{"$f":"MAX('MDA4'!R33,'T1'!K33, MAX(T3_R1!J33,T3_R2!J33,T3_R3!J33))","v":0},{"$f":"IF(AND(COUNTRY_INFO!J33>1,COUNTRY_INFO!J33<99,COUNTRY_INFO!J33<>4,COUNTRY_INFO!J33<>5),IF(COUNTRY_INFO!O33>S33,S33,COUNTRY_INFO!O33),0)","v":0},{"$f":"IF(AND(COUNTRY_INFO!J33>1,COUNTRY_INFO!J33<99,COUNTRY_INFO!J33<>4,COUNTRY_INFO!J33<>5), IF(T33/COUNTRY_INFO!O33*100<>0, IF(T33/COUNTRY_INFO!O33*100>100,100,T33/COUNTRY_INFO!O33*100), \"-\"),0)","v":0},{"$f":"MAX('MDA1'!K33,'MDA4'!S33, 'T1'!L33, MAX(T3_R1!K33,T3_R2!K33,T3_R3!K33))","v":0},{"$f":"IF(AND(COUNTRY_INFO!J33>1,COUNTRY_INFO!J33<99,COUNTRY_INFO!J33<>4,COUNTRY_INFO!J33<>5),IF(COUNTRY_INFO!P33>V33,V33,COUNTRY_INFO!P33),0)","v":0},{"$f":"IF(AND(COUNTRY_INFO!J33>1,COUNTRY_INFO!J33<99,COUNTRY_INFO!J33<>4,COUNTRY_INFO!J33<>5), IF(W33/COUNTRY_INFO!P33*100<>0, IF(W33/COUNTRY_INFO!P33*100>100,100,W33/COUNTRY_INFO!P33*100), \"-\"),0)","v":0},{"$f":"MAX('MDA1'!L33,'MDA4'!T33, 'T1'!M33, MAX(T3_R1!L33,T3_R2!L33,T3_R3!L33))","v":0},{"$f":"IF(AND(COUNTRY_INFO!J33>1,COUNTRY_INFO!J33<99,COUNTRY_INFO!J33<>4,COUNTRY_INFO!J33<>5),IF(COUNTRY_INFO!Q33>Y33,Y33,COUNTRY_INFO!Q33),0)","v":0},{"$f":"IF(AND(COUNTRY_INFO!J33>1,COUNTRY_INFO!J33<99,COUNTRY_INFO!J33<>4,COUNTRY_INFO!J33<>5), IF(Z33/COUNTRY_INFO!Q33*100<>0, IF(Z33/COUNTRY_INFO!Q33*100>100,100,Z33/COUNTRY_INFO!Q33*100), \"-\"),0)","v":0},0,0,{"$f":"IF(AND(COUNTRY_INFO!J33>1,COUNTRY_INFO!J33<99,COUNTRY_INFO!J33<>4,COUNTRY_INFO!J33<>5), IF(AC33/P33*100<>0, IF(AC33/P33*100>100,100,AC33/P33*100), \"-\"),0)","v":0},{"$f":"COUNTRY_INFO!V33","v":128195},null,null,{"$f":"MAX('T1'!K33,'T2'!R33)","v":0},{"$f":"IF(AND(COUNTRY_INFO!K33>1,COUNTRY_INFO!K33<99,COUNTRY_INFO!K33<>4,COUNTRY_INFO!K33<>5),IF(COUNTRY_INFO!S33>AH33,AH33,COUNTRY_INFO!S33),0)","v":0},{"$f":"IF(AND(COUNTRY_INFO!K33>1,COUNTRY_INFO!K33<99,COUNTRY_INFO!K33<>4,COUNTRY_INFO!K33<>5), IF(AI33/COUNTRY_INFO!S33*100<>0, IF(AI33/COUNTRY_INFO!S33*100>100,100,AI33/COUNTRY_INFO!S33*100), \"-\"),0)","v":"-"},{"$f":"MAX('T1'!L33,'T2'!S33)","v":0},{"$f":"IF(AND(COUNTRY_INFO!K33>1,COUNTRY_INFO!K33<99,COUNTRY_INFO!K33<>4,COUNTRY_INFO!K33<>5),IF(COUNTRY_INFO!T33>AK33,AK33,COUNTRY_INFO!T33),0)","v":0},{"$f":"IF(AND(COUNTRY_INFO!K33>1,COUNTRY_INFO!K33<99,COUNTRY_INFO!K33<>4,COUNTRY_INFO!K33<>5), IF(AL33/COUNTRY_INFO!T33*100<>0, IF(AL33/COUNTRY_INFO!T33*100>100,100,AL33/COUNTRY_INFO!T33*100), \"-\"),0)","v":"-"},{"$f":"MAX('T1'!M33,'T2'!T33)","v":0},{"$f":"IF(AND(COUNTRY_INFO!K33>1,COUNTRY_INFO!K33<99,COUNTRY_INFO!K33<>4,COUNTRY_INFO!K33<>5),IF(COUNTRY_INFO!U33>AN33,AN33,COUNTRY_INFO!U33),0)","v":0},{"$f":"IF(AND(COUNTRY_INFO!K33>1,COUNTRY_INFO!K33<99,COUNTRY_INFO!K33<>4,COUNTRY_INFO!K33<>5), IF(AO33/COUNTRY_INFO!U33*100<>0, IF(AO33/COUNTRY_INFO!U33*100>100,100,AO33/COUNTRY_INFO!U33*100), \"-\"),0)","v":"-"},0,0,{"$f":"IF(AND(COUNTRY_INFO!K33>1,COUNTRY_INFO!K33<99,COUNTRY_INFO!K33<>4,COUNTRY_INFO!K33<>5), IF(AH33/AE33*100<>0, IF(AR33/AE33*100>100,100,AR33/AE33*100), \"-\"),0)","v":"-"},null,{"$f":"IF(AND(D33<>0, D33<>\"Unknown\",D33<>\"Stopped\",D33<>\"Not required\"),D33/COUNTRY_INFO!D33, 0)","v":0},{"$f":"IF(AND(J33<>0,J33<>\"Unknown\",J33<>\"Stopped\",J33<>\"Not required\"),J33/COUNTRY_INFO!D33, 0)","v":0},{"$f":"IF(AND(P33<>0,P33<>\"Unknown\",P33<>\"Surveillance\",P33<>\"Not required\"),P33/COUNTRY_INFO!R33, 0)","v":0},{"$f":"IF(AND(AE33<>0,AE33<>\"Unknown\",AE33<>\"Surveillance\",AE33<>\"Not required\"),AE33/COUNTRY_INFO!V33, 0)","v":1},{"$f":"IF(AU33>0,D33*PROFILE!$G$7,IF(AV33>0,J33*PROFILE!$G$7,0))","v":0},{"$f":"_xlfn.IFS(OR(AU33>0,AW33>0),COUNTRY_INFO!E33, AV33>0,J33*PROFILE!$G$8,AX33>0,COUNTRY_INFO!S33,COUNTIFS(AU33:AX33,\">0\")=0,0)","v":11457},{"$f":"_xlfn.IFS(OR(AU33>0,AW33>0),COUNTRY_INFO!F33, AV33>0,J33*PROFILE!$G$9,AX33>0,COUNTRY_INFO!T33,COUNTIFS(AU33:AX33,\">0\")=0,0)","v":36980},{"$f":"_xlfn.IFS(AU33>0,COUNTRY_INFO!G33, AND(AV33>0,AW33=0,AX33=0),J33*PROFILE!$G$10,AND(AV33>0,AW33>0,AX33=0), MAX(J33*PROFILE!$G$10,COUNTRY_INFO!Q33),AND(AV33>0,AW33=0,AX33>0), MAX(J33*PROFILE!$G$10,COUNTRY_INFO!U33),AND(AV33=0,AW33>0,AX33>0), MAX(COUNTRY_INFO!Q33,COUNTRY_INFO!U33),AND(AV33=0,AW33>0,AX33=0),COUNTRY_INFO!Q33,AND(AV33=0,AW33=0,AX33>0),COUNTRY_INFO!U33,AND(AV33>0,AW33>0,AX33>0), MAX(J33*PROFILE!$G$10,COUNTRY_INFO!Q33,COUNTRY_INFO!U33),COUNTIFS(AU33:AX33,\">0\")=0,0)","v":79758},128195,0,{"$f":"MAX('MDA4'!R33,S33,AH33)","v":0},{"$f":"MAX('MDA1'!K33,'MDA4'!S33,'MDA3'!I33,'MDA3'!L33,V33,AK33)","v":0},{"$f":"MAX('MDA1'!L33,'MDA4'!T33,'MDA3'!J33,'MDA3'!M33,Y33,AN33)","v":0},0,{"$f":"_xlfn.IFS(AND(AU33=0,AW33=0,AX33=0),0,AND(AU33=0,AW33=0,AX33>0),AI33,AND(AU33=0,AW33>0,AX33=0),T33,AND(AU33=0,AW33>0,AX33>0),MAX(T33,AI33),AND(AU33>0,AW33=0,AX33=0),MIN('MDA4'!R33,AZ33),AND(AU33>0,AW33=0,AX33>0),MIN(MAX('MDA4'!R33,AI33),AZ33),AND(AU33>0,AW33>0,AX33=0),MIN(MAX('MDA4'!R33,T33),AZ33),AND(AU33>0,AW33>0,AX33>0),MIN(MAX('MDA4'!R33,AI33,T33),AZ33))","v":0},{"$f":"_xlfn.IFS(AND(AU33=0,AV33=0,AW33=0,AX33=0),0,AND(AU33=0,AV33=0,AW33=0,AX33>0),AL33,AND(AU33=0,AV33=0,AW33>0,AX33=0),W33,AND(AU33=0,AV33=0,AW33>0,AX33>0),MAX(W33,AL33),AND(AU33=0,AV33>0,AW33=0,AX33=0),MIN(J33*PROFILE!$G$9,MAX('MDA3'!I33,'MDA3'!L33)),AND(AU33=0,AV33>0,AW33=0,AX33>0),MIN(J33*PROFILE!$G$9,MAX('MDA3'!I33,'MDA3'!L33,AL33)),AND(AU33=0,AV33>0,AW33>0,AX33=0),MIN(J33*PROFILE!$G$9,MAX('MDA3'!I33,'MDA3'!L33,W33)),AND(AU33=0,AV33>0,AW33>0,AX33>0),MIN(J33*PROFILE!$G$9,MAX('MDA3'!I33,'MDA3'!L33,W33,AL33)),AND(AU33>0,AV33=0,AW33=0,AX33=0), MIN(BA33,MAX('MDA1'!K33,'MDA4'!S33)),AND(AU33>0,AV33=0,AW33=0,AX33>0), MIN(BA33,MAX('MDA1'!K33,'MDA4'!S33,AL33)),AND(AU33>0,AV33=0,AW33>0,AX33=0),MIN(BA33,MAX('MDA1'!K33,'MDA4'!S33,W33)),AND(AU33>0,AV33=0,AW33>0,AX33>0),MIN(BA33,MAX('MDA1'!K33,'MDA4'!S33,W33,AL33)),AND(AU33>0,AV33>0,AW33=0,AX33=0),MIN(BA33, MAX('MDA1'!K33,'MDA4'!S33,MAX('MDA3'!I33,'MDA3'!L33))), AND(AU33>0,AV33>0,AW33=0,AX33>0),MIN(BA33, MAX('MDA1'!K33,'MDA4'!S33,MAX( 'MDA3'!I33,'MDA3'!L33),AL33)), AND(AU33>0,AV33>0,AW33>0,AX33=0), MIN(BA33, MAX('MDA1'!K33,'MDA4'!S33,MAX( 'MDA3'!I33,'MDA3'!L33),W33)), AND(AU33>0,AV33>0,AW33>0,AX33>0), MIN(BA33, MAX('MDA1'!K33,'MDA4'!S33,MAX( 'MDA3'!I33,'MDA3'!L33),W33,AL33)))","v":0},{"$f":"_xlfn.IFS(AND(AU33=0,AV33=0,AW33=0,AX33=0),0,AND(AU33=0,AV33=0,AW33=0,AX33>0),AO33,AND(AU33=0,AV33=0,AW33>0,AX33=0),Z33,AND(AU33=0,AV33=0,AW33>0,AX33>0),MAX(Z33,AO33),AND(AU33=0,AV33>0,AW33=0,AX33=0),MIN(J33*PROFILE!$G$10,MAX('MDA3'!J33,'MDA3'!J33)),AND(AU33=0,AV33>0,AW33=0,AX33>0),MIN(J33*PROFILE!$G$10,MAX('MDA3'!J33,'MDA3'!M33,AO33)),AND(AU33=0,AV33>0,AW33>0,AX33=0),MIN(J33*PROFILE!$G$10,MAX('MDA3'!J33,'MDA3'!M33,Z33)),AND(AU33=0,AV33>0,AW33>0,AX33>0),MIN(J33*PROFILE!$G$10,MAX('MDA3'!J33,'MDA3'!M33,Z33,AO33)),AND(AU33>0,AV33=0,AW33=0,AX33=0), MIN(BB33,MAX('MDA1'!L33,'MDA4'!T33)),AND(AU33>0,AV33=0,AW33=0,AX33>0), MIN(BB33,MAX('MDA1'!L33,'MDA4'!T33,AO33)),AND(AU33>0,AV33=0,AW33>0,AX33=0),MIN(BB33,MAX('MDA1'!L33,'MDA4'!T33,Z33)),AND(AU33>0,AV33=0,AW33>0,AX33>0),MIN(BB33,MAX('MDA1'!L33,'MDA4'!T33,Z33,AO33)),AND(AU33>0,AV33>0,AW33=0,AX33=0),MIN(BB33, MAX('MDA1'!L33,'MDA4'!T33,MAX( 'MDA3'!J33,'MDA3'!M33))), AND(AU33>0,AV33>0,AW33=0,AX33>0),MIN(BB33, MAX('MDA1'!L33,'MDA4'!T33,MAX( 'MDA3'!J33,'MDA3'!M33),AO33)), AND(AU33>0,AV33>0,AW33>0,AX33=0), MIN(BB33, MAX('MDA1'!L33,'MDA4'!T33,MAX( 'MDA3'!J33,'MDA3'!M33),Z33)), AND(AU33>0,AV33>0,AW33>0,AX33>0), MIN(BB33, MAX('MDA1'!L33,'MDA4'!T33,MAX( 'MDA3'!J33,'MDA3'!M33),Z33,AO33)))","v":0},0,0]
[{"$f":"IF(COUNTRY_INFO!A34=0,\" \",COUNTRY_INFO!A34)","v":"South Sudan"},{"$f":"IF(COUNTRY_INFO!B34=0,\" \",COUNTRY_INFO!B34)","v":"Jonglei"},{"$f":"IF(COUNTRY_INFO!C34=0,\" \",COUNTRY_INFO!C34)","v":"BOR SOUTH"},{"$f":"COUNTRY_INFO!M34","v":0},null,null,{"$f":"'MDA1'!M34+'MDA4'!U34","v":0},{"$f":"IF(AND(COUNTRY_INFO!H34>0,COUNTRY_INFO!H34<4),IF(D34>G34,G34,D34),0)","v":0},{"$f":"IF(AND(COUNTRY_INFO!H34>0,COUNTRY_INFO!H34<4), IF(G34/D34*100<>0, IF(G34/D34*100>100,100,G34/D34*100), \"-\"),0)","v":0},{"$f":"COUNTRY_INFO!N34","v":"Unknown"},null,null,{"$f":"MAX('MDA1'!M34,MAX('MDA3'!I34,'MDA3'!L34)+MAX('MDA3'!J34,'MDA3'!M34))","v":0},{"$f":"IF(AND(COUNTRY_INFO!I34>0,COUNTRY_INFO!I34<4),IF(J34>M34,M34,J34),0)","v":0},{"$f":"IF(AND(COUNTRY_INFO!I34>0,COUNTRY_INFO!I34<4), IF(M34/J34*100<>0, IF(M34/J34*100>100,100,M34/J34*100), \"-\"),0)","v":0},{"$f":"COUNTRY_INFO!R34","v":0},null,null,{"$f":"MAX('MDA4'!R34,'T1'!K34, MAX(T3_R1!J34,T3_R2!J34,T3_R3!J34))","v":0},{"$f":"IF(AND(COUNTRY_INFO!J34>1,COUNTRY_INFO!J34<99,COUNTRY_INFO!J34<>4,COUNTRY_INFO!J34<>5),IF(COUNTRY_INFO!O34>S34,S34,COUNTRY_INFO!O34),0)","v":0},{"$f":"IF(AND(COUNTRY_INFO!J34>1,COUNTRY_INFO!J34<99,COUNTRY_INFO!J34<>4,COUNTRY_INFO!J34<>5), IF(T34/COUNTRY_INFO!O34*100<>0, IF(T34/COUNTRY_INFO!O34*100>100,100,T34/COUNTRY_INFO!O34*100), \"-\"),0)","v":0},{"$f":"MAX('MDA1'!K34,'MDA4'!S34, 'T1'!L34, MAX(T3_R1!K34,T3_R2!K34,T3_R3!K34))","v":0},{"$f":"IF(AND(COUNTRY_INFO!J34>1,COUNTRY_INFO!J34<99,COUNTRY_INFO!J34<>4,COUNTRY_INFO!J34<>5),IF(COUNTRY_INFO!P34>V34,V34,COUNTRY_INFO!P34),0)","v":0},{"$f":"IF(AND(COUNTRY_INFO!J34>1,COUNTRY_INFO!J34<99,COUNTRY_INFO!J34<>4,COUNTRY_INFO!J34<>5), IF(W34/COUNTRY_INFO!P34*100<>0, IF(W34/COUNTRY_INFO!P34*100>100,100,W34/COUNTRY_INFO!P34*100), \"-\"),0)","v":0},{"$f":"MAX('MDA1'!L34,'MDA4'!T34, 'T1'!M34, MAX(T3_R1!L34,T3_R2!L34,T3_R3!L34))","v":0},{"$f":"IF(AND(COUNTRY_INFO!J34>1,COUNTRY_INFO!J34<99,COUNTRY_INFO!J34<>4,COUNTRY_INFO!J34<>5),IF(COUNTRY_INFO!Q34>Y34,Y34,COUNTRY_INFO!Q34),0)","v":0},{"$f":"IF(AND(COUNTRY_INFO!J34>1,COUNTRY_INFO!J34<99,COUNTRY_INFO!J34<>4,COUNTRY_INFO!J34<>5), IF(Z34/COUNTRY_INFO!Q34*100<>0, IF(Z34/COUNTRY_INFO!Q34*100>100,100,Z34/COUNTRY_INFO!Q34*100), \"-\"),0)","v":0},0,0,{"$f":"IF(AND(COUNTRY_INFO!J34>1,COUNTRY_INFO!J34<99,COUNTRY_INFO!J34<>4,COUNTRY_INFO!J34<>5), IF(AC34/P34*100<>0, IF(AC34/P34*100>100,100,AC34/P34*100), \"-\"),0)","v":0},{"$f":"COUNTRY_INFO!V34","v":331681},null,null,{"$f":"MAX('T1'!K34,'T2'!R34)","v":0},{"$f":"IF(AND(COUNTRY_INFO!K34>1,COUNTRY_INFO!K34<99,COUNTRY_INFO!K34<>4,COUNTRY_INFO!K34<>5),IF(COUNTRY_INFO!S34>AH34,AH34,COUNTRY_INFO!S34),0)","v":0},{"$f":"IF(AND(COUNTRY_INFO!K34>1,COUNTRY_INFO!K34<99,COUNTRY_INFO!K34<>4,COUNTRY_INFO!K34<>5), IF(AI34/COUNTRY_INFO!S34*100<>0, IF(AI34/COUNTRY_INFO!S34*100>100,100,AI34/COUNTRY_INFO!S34*100), \"-\"),0)","v":"-"},{"$f":"MAX('T1'!L34,'T2'!S34)","v":0},{"$f":"IF(AND(COUNTRY_INFO!K34>1,COUNTRY_INFO!K34<99,COUNTRY_INFO!K34<>4,COUNTRY_INFO!K34<>5),IF(COUNTRY_INFO!T34>AK34,AK34,COUNTRY_INFO!T34),0)","v":0},{"$f":"IF(AND(COUNTRY_INFO!K34>1,COUNTRY_INFO!K34<99,COUNTRY_INFO!K34<>4,COUNTRY_INFO!K34<>5), IF(AL34/COUNTRY_INFO!T34*100<>0, IF(AL34/COUNTRY_INFO!T34*100>100,100,AL34/COUNTRY_INFO!T34*100), \"-\"),0)","v":"-"},{"$f":"MAX('T1'!M34,'T2'!T34)","v":0},{"$f":"IF(AND(COUNTRY_INFO!K34>1,COUNTRY_INFO!K34<99,COUNTRY_INFO!K34<>4,COUNTRY_INFO!K34<>5),IF(COUNTRY_INFO!U34>AN34,AN34,COUNTRY_INFO!U34),0)","v":0},{"$f":"IF(AND(COUNTRY_INFO!K34>1,COUNTRY_INFO!K34<99,COUNTRY_INFO!K34<>4,COUNTRY_INFO!K34<>5), IF(AO34/COUNTRY_INFO!U34*100<>0, IF(AO34/COUNTRY_INFO!U34*100>100,100,AO34/COUNTRY_INFO!U34*100), \"-\"),0)","v":"-"},0,0,{"$f":"IF(AND(COUNTRY_INFO!K34>1,COUNTRY_INFO!K34<99,COUNTRY_INFO!K34<>4,COUNTRY_INFO!K34<>5), IF(AH34/AE34*100<>0, IF(AR34/AE34*100>100,100,AR34/AE34*100), \"-\"),0)","v":"-"},null,{"$f":"IF(AND(D34<>0, D34<>\"Unknown\",D34<>\"Stopped\",D34<>\"Not required\"),D34/COUNTRY_INFO!D34, 0)","v":0},{"$f":"IF(AND(J34<>0,J34<>\"Unknown\",J34<>\"Stopped\",J34<>\"Not required\"),J34/COUNTRY_INFO!D34, 0)","v":0},{"$f":"IF(AND(P34<>0,P34<>\"Unknown\",P34<>\"Surveillance\",P34<>\"Not required\"),P34/COUNTRY_INFO!R34, 0)","v":0},{"$f":"IF(AND(AE34<>0,AE34<>\"Unknown\",AE34<>\"Surveillance\",AE34<>\"Not required\"),AE34/COUNTRY_INFO!V34, 0)","v":1},{"$f":"IF(AU34>0,D34*PROFILE!$G$7,IF(AV34>0,J34*PROFILE!$G$7,0))","v":0},{"$f":"_xlfn.IFS(OR(AU34>0,AW34>0),COUNTRY_INFO!E34, AV34>0,J34*PROFILE!$G$8,AX34>0,COUNTRY_INFO!S34,COUNTIFS(AU34:AX34,\">0\")=0,0)","v":29642},{"$f":"_xlfn.IFS(OR(AU34>0,AW34>0),COUNTRY_INFO!F34, AV34>0,J34*PROFILE!$G$9,AX34>0,COUNTRY_INFO!T34,COUNTIFS(AU34:AX34,\">0\")=0,0)","v":95682},{"$f":"_xlfn.IFS(AU34>0,COUNTRY_INFO!G34, AND(AV34>0,AW34=0,AX34=0),J34*PROFILE!$G$10,AND(AV34>0,AW34>0,AX34=0), MAX(J34*PROFILE!$G$10,COUNTRY_INFO!Q34),AND(AV34>0,AW34=0,AX34>0), MAX(J34*PROFILE!$G$10,COUNTRY_INFO!U34),AND(AV34=0,AW34>0,AX34>0), MAX(COUNTRY_INFO!Q34,COUNTRY_INFO!U34),AND(AV34=0,AW34>0,AX34=0),COUNTRY_INFO!Q34,AND(AV34=0,AW34=0,AX34>0),COUNTRY_INFO!U34,AND(AV34>0,AW34>0,AX34>0), MAX(J34*PROFILE!$G$10,COUNTRY_INFO!Q34,COUNTRY_INFO!U34),COUNTIFS(AU34:AX34,\">0\")=0,0)","v":206357},331681,0,{"$f":"MAX('MDA4'!R34,S34,AH34)","v":0},{"$f":"MAX('MDA1'!K34,'MDA4'!S34,'MDA3'!I34,'MDA3'!L34,V34,AK34)","v":0},{"$f":"MAX('MDA1'!L34,'MDA4'!T34,'MDA3'!J34,'MDA3'!M34,Y34,AN34)","v":0},0,{"$f":"_xlfn.IFS(AND(AU34=0,AW34=0,AX34=0),0,AND(AU34=0,AW34=0,AX34>0),AI34,AND(AU34=0,AW34>0,AX34=0),T34,AND(AU34=0,AW34>0,AX34>0),MAX(T34,AI34),AND(AU34>0,AW34=0,AX34=0),MIN('MDA4'!R34,AZ34),AND(AU34>0,AW34=0,AX34>0),MIN(MAX('MDA4'!R34,AI34),AZ34),AND(AU34>0,AW34>0,AX34=0),MIN(MAX('MDA4'!R34,T34),AZ34),AND(AU34>0,AW34>0,AX34>0),MIN(MAX('MDA4'!R34,AI34,T34),AZ34))","v":0},{"$f":"_xlfn.IFS(AND(AU34=0,AV34=0,AW34=0,AX34=0),0,AND(AU34=0,AV34=0,AW34=0,AX34>0),AL34,AND(AU34=0,AV34=0,AW34>0,AX34=0),W34,AND(AU34=0,AV34=0,AW34>0,AX34>0),MAX(W34,AL34),AND(AU34=0,AV34>0,AW34=0,AX34=0),MIN(J34*PROFILE!$G$9,MAX('MDA3'!I34,'MDA3'!L34)),AND(AU34=0,AV34>0,AW34=0,AX34>0),MIN(J34*PROFILE!$G$9,MAX('MDA3'!I34,'MDA3'!L34,AL34)),AND(AU34=0,AV34>0,AW34>0,AX34=0),MIN(J34*PROFILE!$G$9,MAX('MDA3'!I34,'MDA3'!L34,W34)),AND(AU34=0,AV34>0,AW34>0,AX34>0),MIN(J34*PROFILE!$G$9,MAX('MDA3'!I34,'MDA3'!L34,W34,AL34)),AND(AU34>0,AV34=0,AW34=0,AX34=0), MIN(BA34,MAX('MDA1'!K34,'MDA4'!S34)),AND(AU34>0,AV34=0,AW34=0,AX34>0), MIN(BA34,MAX('MDA1'!K34,'MDA4'!S34,AL34)),AND(AU34>0,AV34=0,AW34>0,AX34=0),MIN(BA34,MAX('MDA1'!K34,'MDA4'!S34,W34)),AND(AU34>0,AV34=0,AW34>0,AX34>0),MIN(BA34,MAX('MDA1'!K34,'MDA4'!S34,W34,AL34)),AND(AU34>0,AV34>0,AW34=0,AX34=0),MIN(BA34, MAX('MDA1'!K34,'MDA4'!S34,MAX('MDA3'!I34,'MDA3'!L34))), AND(AU34>0,AV34>0,AW34=0,AX34>0),MIN(BA34, MAX('MDA1'!K34,'MDA4'!S34,MAX( 'MDA3'!I34,'MDA3'!L34),AL34)), AND(AU34>0,AV34>0,AW34>0,AX34=0), MIN(BA34, MAX('MDA1'!K34,'MDA4'!S34,MAX( 'MDA3'!I34,'MDA3'!L34),W34)), AND(AU34>0,AV34>0,AW34>0,AX34>0), MIN(BA34, MAX('MDA1'!K34,'MDA4'!S34,MAX( 'MDA3'!I34,'MDA3'!L34),W34,AL34)))","v":0},{"$f":"_xlfn.IFS(AND(AU34=0,AV34=0,AW34=0,AX34=0),0,AND(AU34=0,AV34=0,AW34=0,AX34>0),AO34,AND(AU34=0,AV34=0,AW34>0,AX34=0),Z34,AND(AU34=0,AV34=0,AW34>0,AX34>0),MAX(Z34,AO34),AND(AU34=0,AV34>0,AW34=0,AX34=0),MIN(J34*PROFILE!$G$10,MAX('MDA3'!J34,'MDA3'!J34)),AND(AU34=0,AV34>0,AW34=0,AX34>0),MIN(J34*PROFILE!$G$10,MAX('MDA3'!J34,'MDA3'!M34,AO34)),AND(AU34=0,AV34>0,AW34>0,AX34=0),MIN(J34*PROFILE!$G$10,MAX('MDA3'!J34,'MDA3'!M34,Z34)),AND(AU34=0,AV34>0,AW34>0,AX34>0),MIN(J34*PROFILE!$G$10,MAX('MDA3'!J34,'MDA3'!M34,Z34,AO34)),AND(AU34>0,AV34=0,AW34=0,AX34=0), MIN(BB34,MAX('MDA1'!L34,'MDA4'!T34)),AND(AU34>0,AV34=0,AW34=0,AX34>0), MIN(BB34,MAX('MDA1'!L34,'MDA4'!T34,AO34)),AND(AU34>0,AV34=0,AW34>0,AX34=0),MIN(BB34,MAX('MDA1'!L34,'MDA4'!T34,Z34)),AND(AU34>0,AV34=0,AW34>0,AX34>0),MIN(BB34,MAX('MDA1'!L34,'MDA4'!T34,Z34,AO34)),AND(AU34>0,AV34>0,AW34=0,AX34=0),MIN(BB34, MAX('MDA1'!L34,'MDA4'!T34,MAX( 'MDA3'!J34,'MDA3'!M34))), AND(AU34>0,AV34>0,AW34=0,AX34>0),MIN(BB34, MAX('MDA1'!L34,'MDA4'!T34,MAX( 'MDA3'!J34,'MDA3'!M34),AO34)), AND(AU34>0,AV34>0,AW34>0,AX34=0), MIN(BB34, MAX('MDA1'!L34,'MDA4'!T34,MAX( 'MDA3'!J34,'MDA3'!M34),Z34)), AND(AU34>0,AV34>0,AW34>0,AX34>0), MIN(BB34, MAX('MDA1'!L34,'MDA4'!T34,MAX( 'MDA3'!J34,'MDA3'!M34),Z34,AO34)))","v":0},0,0]
[{"$f":"IF(COUNTRY_INFO!A35=0,\" \",COUNTRY_INFO!A35)","v":"South Sudan"},{"$f":"IF(COUNTRY_INFO!B35=0,\" \",COUNTRY_INFO!B35)","v":"Lakes"},{"$f":"IF(COUNTRY_INFO!C35=0,\" \",COUNTRY_INFO!C35)","v":"CUEBIT"},{"$f":"COUNTRY_INFO!M35","v":0},null,null,{"$f":"'MDA1'!M35+'MDA4'!U35","v":0},{"$f":"IF(AND(COUNTRY_INFO!H35>0,COUNTRY_INFO!H35<4),IF(D35>G35,G35,D35),0)","v":0},{"$f":"IF(AND(COUNTRY_INFO!H35>0,COUNTRY_INFO!H35<4), IF(G35/D35*100<>0, IF(G35/D35*100>100,100,G35/D35*100), \"-\"),0)","v":0},{"$f":"COUNTRY_INFO!N35","v":214446.08240000001},null,null,{"$f":"MAX('MDA1'!M35,MAX('MDA3'!I35,'MDA3'!L35)+MAX('MDA3'!J35,'MDA3'!M35))","v":164149},{"$f":"IF(AND(COUNTRY_INFO!I35>0,COUNTRY_INFO!I35<4),IF(J35>M35,M35,J35),0)","v":164149},{"$f":"IF(AND(COUNTRY_INFO!I35>0,COUNTRY_INFO!I35<4), IF(M35/J35*100<>0, IF(M35/J35*100>100,100,M35/J35*100), \"-\"),0)","v":76.545581137648227},{"$f":"COUNTRY_INFO!R35","v":0},null,null,{"$f":"MAX('MDA4'!R35,'T1'!K35, MAX(T3_R1!J35,T3_R2!J35,T3_R3!J35))","v":0},{"$f":"IF(AND(COUNTRY_INFO!J35>1,COUNTRY_INFO!J35<99,COUNTRY_INFO!J35<>4,COUNTRY_INFO!J35<>5),IF(COUNTRY_INFO!O35>S35,S35,COUNTRY_INFO!O35),0)","v":0},{"$f":"IF(AND(COUNTRY_INFO!J35>1,COUNTRY_INFO!J35<99,COUNTRY_INFO!J35<>4,COUNTRY_INFO!J35<>5), IF(T35/COUNTRY_INFO!O35*100<>0, IF(T35/COUNTRY_INFO!O35*100>100,100,T35/COUNTRY_INFO!O35*100), \"-\"),0)","v":0},{"$f":"MAX('MDA1'!K35,'MDA4'!S35, 'T1'!L35, MAX(T3_R1!K35,T3_R2!K35,T3_R3!K35))","v":0},{"$f":"IF(AND(COUNTRY_INFO!J35>1,COUNTRY_INFO!J35<99,COUNTRY_INFO!J35<>4,COUNTRY_INFO!J35<>5),IF(COUNTRY_INFO!P35>V35,V35,COUNTRY_INFO!P35),0)","v":0},{"$f":"IF(AND(COUNTRY_INFO!J35>1,COUNTRY_INFO!J35<99,COUNTRY_INFO!J35<>4,COUNTRY_INFO!J35<>5), IF(W35/COUNTRY_INFO!P35*100<>0, IF(W35/COUNTRY_INFO!P35*100>100,100,W35/COUNTRY_INFO!P35*100), \"-\"),0)","v":0},{"$f":"MAX('MDA1'!L35,'MDA4'!T35, 'T1'!M35, MAX(T3_R1!L35,T3_R2!L35,T3_R3!L35))","v":0},{"$f":"IF(AND(COUNTRY_INFO!J35>1,COUNTRY_INFO!J35<99,COUNTRY_INFO!J35<>4,COUNTRY_INFO!J35<>5),IF(COUNTRY_INFO!Q35>Y35,Y35,COUNTRY_INFO!Q35),0)","v":0},{"$f":"IF(AND(COUNTRY_INFO!J35>1,COUNTRY_INFO!J35<99,COUNTRY_INFO!J35<>4,COUNTRY_INFO!J35<>5), IF(Z35/COUNTRY_INFO!Q35*100<>0, IF(Z35/COUNTRY_INFO!Q35*100>100,100,Z35/COUNTRY_INFO!Q35*100), \"-\"),0)","v":0},0,0,{"$f":"IF(AND(COUNTRY_INFO!J35>1,COUNTRY_INFO!J35<99,COUNTRY_INFO!J35<>4,COUNTRY_INFO!J35<>5), IF(AC35/P35*100<>0, IF(AC35/P35*100>100,100,AC35/P35*100), \"-\"),0)","v":0},{"$f":"COUNTRY_INFO!V35","v":0},null,null,{"$f":"MAX('T1'!K35,'T2'!R35)","v":0},{"$f":"IF(AND(COUNTRY_INFO!K35>1,COUNTRY_INFO!K35<99,COUNTRY_INFO!K35<>4,COUNTRY_INFO!K35<>5),IF(COUNTRY_INFO!S35>AH35,AH35,COUNTRY_INFO!S35),0)","v":0},{"$f":"IF(AND(COUNTRY_INFO!K35>1,COUNTRY_INFO!K35<99,COUNTRY_INFO!K35<>4,COUNTRY_INFO!K35<>5), IF(AI35/COUNTRY_INFO!S35*100<>0, IF(AI35/COUNTRY_INFO!S35*100>100,100,AI35/COUNTRY_INFO!S35*100), \"-\"),0)","v":0},{"$f":"MAX('T1'!L35,'T2'!S35)","v":0},{"$f":"IF(AND(COUNTRY_INFO!K35>1,COUNTRY_INFO!K35<99,COUNTRY_INFO!K35<>4,COUNTRY_INFO!K35<>5),IF(COUNTRY_INFO!T35>AK35,AK35,COUNTRY_INFO!T35),0)","v":0},{"$f":"IF(AND(COUNTRY_INFO!K35>1,COUNTRY_INFO!K35<99,COUNTRY_INFO!K35<>4,COUNTRY_INFO!K35<>5), IF(AL35/COUNTRY_INFO!T35*100<>0, IF(AL35/COUNTRY_INFO!T35*100>100,100,AL35/COUNTRY_INFO!T35*100), \"-\"),0)","v":0},{"$f":"MAX('T1'!M35,'T2'!T35)","v":0},{"$f":"IF(AND(COUNTRY_INFO!K35>1,COUNTRY_INFO!K35<99,COUNTRY_INFO!K35<>4,COUNTRY_INFO!K35<>5),IF(COUNTRY_INFO!U35>AN35,AN35,COUNTRY_INFO!U35),0)","v":0},{"$f":"IF(AND(COUNTRY_INFO!K35>1,COUNTRY_INFO!K35<99,COUNTRY_INFO!K35<>4,COUNTRY_INFO!K35<>5), IF(AO35/COUNTRY_INFO!U35*100<>0, IF(AO35/COUNTRY_INFO!U35*100>100,100,AO35/COUNTRY_INFO!U35*100), \"-\"),0)","v":0},0,0,{"$f":"IF(AND(COUNTRY_INFO!K35>1,COUNTRY_INFO!K35<99,COUNTRY_INFO!K35<>4,COUNTRY_INFO!K35<>5), IF(AH35/AE35*100<>0, IF(AR35/AE35*100>100,100,AR35/AE35*100), \"-\"),0)","v":0},null,{"$f":"IF(AND(D35<>0, D35<>\"Unknown\",D35<>\"Stopped\",D35<>\"Not required\"),D35/COUNTRY_INFO!D35, 0)","v":0},{"$f":"IF(AND(J35<>0,J35<>\"Unknown\",J35<>\"Stopped\",J35<>\"Not required\"),J35/COUNTRY_INFO!D35, 0)","v":1},{"$f":"IF(AND(P35<>0,P35<>\"Unknown\",P35<>\"Surveillance\",P35<>\"Not required\"),P35/COUNTRY_INFO!R35, 0)","v":0},{"$f":"IF(AND(AE35<>0,AE35<>\"Unknown\",AE35<>\"Surveillance\",AE35<>\"Not required\"),AE35/COUNTRY_INFO!V35, 0)","v":0},{"$f":"IF(AU35>0,D35*PROFILE!$G$7,IF(AV35>0,J35*PROFILE!$G$7,0))","v":5897.2527298584428},{"$f":"_xlfn.IFS(OR(AU35>0,AW35>0),COUNTRY_INFO!E35, AV35>0,J35*PROFILE!$G$8,AX35>0,COUNTRY_INFO!S35,COUNTIFS(AU35:AX35,\">0\")=0,0)","v":23739.165174637816},{"$f":"_xlfn.IFS(OR(AU35>0,AW35>0),COUNTRY_INFO!F35, AV35>0,J35*PROFILE!$G$9,AX35>0,COUNTRY_INFO!T35,COUNTIFS(AU35:AX35,\">0\")=0,0)","v":66242.414501423118},{"$f":"_xlfn.IFS(AU35>0,COUNTRY_INFO!G35, AND(AV35>0,AW35=0,AX35=0),J35*PROFILE!$G$10,AND(AV35>0,AW35>0,AX35=0), MAX(J35*PROFILE!$G$10,COUNTRY_INFO!Q35),AND(AV35>0,AW35=0,AX35>0), MAX(J35*PROFILE!$G$10,COUNTRY_INFO!U35),AND(AV35=0,AW35>0,AX35>0), MAX(COUNTRY_INFO!Q35,COUNTRY_INFO!U35),AND(AV35=0,AW35>0,AX35=0),COUNTRY_INFO!Q35,AND(AV35=0,AW35=0,AX35>0),COUNTRY_INFO!U35,AND(AV35>0,AW35>0,AX35>0), MAX(J35*PROFILE!$G$10,COUNTRY_INFO!Q35,COUNTRY_INFO!U35),COUNTIFS(AU35:AX35,\">0\")=0,0)","v":118567.24999408063},214446.08240000001,"Y",{"$f":"MAX('MDA4'!R35,S35,AH35)","v":0},{"$f":"MAX('MDA1'!K35,'MDA4'!S35,'MDA3'!I35,'MDA3'!L35,V35,AK35)","v":82073},{"$f":"MAX('MDA1'!L35,'MDA4'!T35,'MDA3'!J35,'MDA3'!M35,Y35,AN35)","v":82076},164149,{"$f":"_xlfn.IFS(AND(AU35=0,AW35=0,AX35=0),0,AND(AU35=0,AW35=0,AX35>0),AI35,AND(AU35=0,AW35>0,AX35=0),T35,AND(AU35=0,AW35>0,AX35>0),MAX(T35,AI35),AND(AU35>0,AW35=0,AX35=0),MIN('MDA4'!R35,AZ35),AND(AU35>0,AW35=0,AX35>0),MIN(MAX('MDA4'!R35,AI35),AZ35),AND(AU35>0,AW35>0,AX35=0),MIN(MAX('MDA4'!R35,T35),AZ35),AND(AU35>0,AW35>0,AX35>0),MIN(MAX('MDA4'!R35,AI35,T35),AZ35))","v":0},{"$f":"_xlfn.IFS(AND(AU35=0,AV35=0,AW35=0,AX35=0),0,AND(AU35=0,AV35=0,AW35=0,AX35>0),AL35,AND(AU35=0,AV35=0,AW35>0,AX35=0),W35,AND(AU35=0,AV35=0,AW35>0,AX35>0),MAX(W35,AL35),AND(AU35=0,AV35>0,AW35=0,AX35=0),MIN(J35*PROFILE!$G$9,MAX('MDA3'!I35,'MDA3'!L35)),AND(AU35=0,AV35>0,AW35=0,AX35>0),MIN(J35*PROFILE!$G$9,MAX('MDA3'!I35,'MDA3'!L35,AL35)),AND(AU35=0,AV35>0,AW35>0,AX35=0),MIN(J35*PROFILE!$G$9,MAX('MDA3'!I35,'MDA3'!L35,W35)),AND(AU35=0,AV35>0,AW35>0,AX35>0),MIN(J35*PROFILE!$G$9,MAX('MDA3'!I35,'MDA3'!L35,W35,AL35)),AND(AU35>0,AV35=0,AW35=0,AX35=0), MIN(BA35,MAX('MDA1'!K35,'MDA4'!S35)),AND(AU35>0,AV35=0,AW35=0,AX35>0), MIN(BA35,MAX('MDA1'!K35,'MDA4'!S35,AL35)),AND(AU35>0,AV35=0,AW35>0,AX35=0),MIN(BA35,MAX('MDA1'!K35,'MDA4'!S35,W35)),AND(AU35>0,AV35=0,AW35>0,AX35>0),MIN(BA35,MAX('MDA1'!K35,'MDA4'!S35,W35,AL35)),AND(AU35>0,AV35>0,AW35=0,AX35=0),MIN(BA35, MAX('MDA1'!K35,'MDA4'!S35,MAX('MDA3'!I35,'MDA3'!L35))), AND(AU35>0,AV35>0,AW35=0,AX35>0),MIN(BA35, MAX('MDA1'!K35,'MDA4'!S35,MAX( 'MDA3'!I35,'MDA3'!L35),AL35)), AND(AU35>0,AV35>0,AW35>0,AX35=0), MIN(BA35, MAX('MDA1'!K35,'MDA4'!S35,MAX( 'MDA3'!I35,'MDA3'!L35),W35)), AND(AU35>0,AV35>0,AW35>0,AX35>0), MIN(BA35, MAX('MDA1'!K35,'MDA4'!S35,MAX( 'MDA3'!I35,'MDA3'!L35),W35,AL35)))","v":66242.414501423118},{"$f":"_xlfn.IFS(AND(AU35=0,AV35=0,AW35=0,AX35=0),0,AND(AU35=0,AV35=0,AW35=0,AX35>0),AO35,AND(AU35=0,AV35=0,AW35>0,AX35=0),Z35,AND(AU35=0,AV35=0,AW35>0,AX35>0),MAX(Z35,AO35),AND(AU35=0,AV35>0,AW35=0,AX35=0),MIN(J35*PROFILE!$G$10,MAX('MDA3'!J35,'MDA3'!J35)),AND(AU35=0,AV35>0,AW35=0,AX35>0),MIN(J35*PROFILE!$G$10,MAX('MDA3'!J35,'MDA3'!M35,AO35)),AND(AU35=0,AV35>0,AW35>0,AX35=0),MIN(J35*PROFILE!$G$10,MAX('MDA3'!J35,'MDA3'!M35,Z35)),AND(AU35=0,AV35>0,AW35>0,AX35>0),MIN(J35*PROFILE!$G$10,MAX('MDA3'!J35,'MDA3'!M35,Z35,AO35)),AND(AU35>0,AV35=0,AW35=0,AX35=0), MIN(BB35,MAX('MDA1'!L35,'MDA4'!T35)),AND(AU35>0,AV35=0,AW35=0,AX35>0), MIN(BB35,MAX('MDA1'!L35,'MDA4'!T35,AO35)),AND(AU35>0,AV35=0,AW35>0,AX35=0),MIN(BB35,MAX('MDA1'!L35,'MDA4'!T35,Z35)),AND(AU35>0,AV35=0,AW35>0,AX35>0),MIN(BB35,MAX('MDA1'!L35,'MDA4'!T35,Z35,AO35)),AND(AU35>0,AV35>0,AW35=0,AX35=0),MIN(BB35, MAX('MDA1'!L35,'MDA4'!T35,MAX( 'MDA3'!J35,'MDA3'!M35))), AND(AU35>0,AV35>0,AW35=0,AX35>0),MIN(BB35, MAX('MDA1'!L35,'MDA4'!T35,MAX( 'MDA3'!J35,'MDA3'!M35),AO35)), AND(AU35>0,AV35>0,AW35>0,AX35=0), MIN(BB35, MAX('MDA1'!L35,'MDA4'!T35,MAX( 'MDA3'!J35,'MDA3'!M35),Z35)), AND(AU35>0,AV35>0,AW35>0,AX35>0), MIN(BB35, MAX('MDA1'!L35,'MDA4'!T35,MAX( 'MDA3'!J35,'MDA3'!M35),Z35,AO35)))","v":82076},148318.41450142313,69.163499207585957]
[{"$f":"IF(COUNTRY_INFO!A36=0,\" \",COUNTRY_INFO!A36)","v":"South Sudan"},{"$f":"IF(COUNTRY_INFO!B36=0,\" \",COUNTRY_INFO!B36)","v":"Lakes"},{"$f":"IF(COUNTRY_INFO!C36=0,\" \",COUNTRY_INFO!C36)","v":"RUMBEK NORTH"},{"$f":"COUNTRY_INFO!M36","v":78672.10040000001},null,null,{"$f":"'MDA1'!M36+'MDA4'!U36","v":81510},{"$f":"IF(AND(COUNTRY_INFO!H36>0,COUNTRY_INFO!H36<4),IF(D36>G36,G36,D36),0)","v":78672.10040000001},{"$f":"IF(AND(COUNTRY_INFO!H36>0,COUNTRY_INFO!H36<4), IF(G36/D36*100<>0, IF(G36/D36*100>100,100,G36/D36*100), \"-\"),0)","v":100},{"$f":"COUNTRY_INFO!N36","v":78672.10040000001},null,null,{"$f":"MAX('MDA1'!M36,MAX('MDA3'!I36,'MDA3'!L36)+MAX('MDA3'!J36,'MDA3'!M36))","v":81510},{"$f":"IF(AND(COUNTRY_INFO!I36>0,COUNTRY_INFO!I36<4),IF(J36>M36,M36,J36),0)","v":78672.10040000001},{"$f":"IF(AND(COUNTRY_INFO!I36>0,COUNTRY_INFO!I36<4), IF(M36/J36*100<>0, IF(M36/J36*100>100,100,M36/J36*100), \"-\"),0)","v":100},{"$f":"COUNTRY_INFO!R36","v":0},null,null,{"$f":"MAX('MDA4'!R36,'T1'!K36, MAX(T3_R1!J36,T3_R2!J36,T3_R3!J36))","v":0},{"$f":"IF(AND(COUNTRY_INFO!J36>1,COUNTRY_INFO!J36<99,COUNTRY_INFO!J36<>4,COUNTRY_INFO!J36<>5),IF(COUNTRY_INFO!O36>S36,S36,COUNTRY_INFO!O36),0)","v":0},{"$f":"IF(AND(COUNTRY_INFO!J36>1,COUNTRY_INFO!J36<99,COUNTRY_INFO!J36<>4,COUNTRY_INFO!J36<>5), IF(T36/COUNTRY_INFO!O36*100<>0, IF(T36/COUNTRY_INFO!O36*100>100,100,T36/COUNTRY_INFO!O36*100), \"-\"),0)","v":0},{"$f":"MAX('MDA1'!K36,'MDA4'!S36, 'T1'!L36, MAX(T3_R1!K36,T3_R2!K36,T3_R3!K36))","v":40127},{"$f":"IF(AND(COUNTRY_INFO!J36>1,COUNTRY_INFO!J36<99,COUNTRY_INFO!J36<>4,COUNTRY_INFO!J36<>5),IF(COUNTRY_INFO!P36>V36,V36,COUNTRY_INFO!P36),0)","v":0},{"$f":"IF(AND(COUNTRY_INFO!J36>1,COUNTRY_INFO!J36<99,COUNTRY_INFO!J36<>4,COUNTRY_INFO!J36<>5), IF(W36/COUNTRY_INFO!P36*100<>0, IF(W36/COUNTRY_INFO!P36*100>100,100,W36/COUNTRY_INFO!P36*100), \"-\"),0)","v":0},{"$f":"MAX('MDA1'!L36,'MDA4'!T36, 'T1'!M36, MAX(T3_R1!L36,T3_R2!L36,T3_R3!L36))","v":41383},{"$f":"IF(AND(COUNTRY_INFO!J36>1,COUNTRY_INFO!J36<99,COUNTRY_INFO!J36<>4,COUNTRY_INFO!J36<>5),IF(COUNTRY_INFO!Q36>Y36,Y36,COUNTRY_INFO!Q36),0)","v":0},{"$f":"IF(AND(COUNTRY_INFO!J36>1,COUNTRY_INFO!J36<99,COUNTRY_INFO!J36<>4,COUNTRY_INFO!J36<>5), IF(Z36/COUNTRY_INFO!Q36*100<>0, IF(Z36/COUNTRY_INFO!Q36*100>100,100,Z36/COUNTRY_INFO!Q36*100), \"-\"),0)","v":0},81510,0,{"$f":"IF(AND(COUNTRY_INFO!J36>1,COUNTRY_INFO!J36<99,COUNTRY_INFO!J36<>4,COUNTRY_INFO!J36<>5), IF(AC36/P36*100<>0, IF(AC36/P36*100>100,100,AC36/P36*100), \"-\"),0)","v":0},{"$f":"COUNTRY_INFO!V36","v":0},null,null,{"$f":"MAX('T1'!K36,'T2'!R36)","v":0},{"$f":"IF(AND(COUNTRY_INFO!K36>1,COUNTRY_INFO!K36<99,COUNTRY_INFO!K36<>4,COUNTRY_INFO!K36<>5),IF(COUNTRY_INFO!S36>AH36,AH36,COUNTRY_INFO!S36),0)","v":0},{"$f":"IF(AND(COUNTRY_INFO!K36>1,COUNTRY_INFO!K36<99,COUNTRY_INFO!K36<>4,COUNTRY_INFO!K36<>5), IF(AI36/COUNTRY_INFO!S36*100<>0, IF(AI36/COUNTRY_INFO!S36*100>100,100,AI36/COUNTRY_INFO!S36*100), \"-\"),0)","v":0},{"$f":"MAX('T1'!L36,'T2'!S36)","v":0},{"$f":"IF(AND(COUNTRY_INFO!K36>1,COUNTRY_INFO!K36<99,COUNTRY_INFO!K36<>4,COUNTRY_INFO!K36<>5),IF(COUNTRY_INFO!T36>AK36,AK36,COUNTRY_INFO!T36),0)","v":0},{"$f":"IF(AND(COUNTRY_INFO!K36>1,COUNTRY_INFO!K36<99,COUNTRY_INFO!K36<>4,COUNTRY_INFO!K36<>5), IF(AL36/COUNTRY_INFO!T36*100<>0, IF(AL36/COUNTRY_INFO!T36*100>100,100,AL36/COUNTRY_INFO!T36*100), \"-\"),0)","v":0},{"$f":"MAX('T1'!M36,'T2'!T36)","v":0},{"$f":"IF(AND(COUNTRY_INFO!K36>1,COUNTRY_INFO!K36<99,COUNTRY_INFO!K36<>4,COUNTRY_INFO!K36<>5),IF(COUNTRY_INFO!U36>AN36,AN36,COUNTRY_INFO!U36),0)","v":0},{"$f":"IF(AND(COUNTRY_INFO!K36>1,COUNTRY_INFO!K36<99,COUNTRY_INFO!K36<>4,COUNTRY_INFO!K36<>5), IF(AO36/COUNTRY_INFO!U36*100<>0, IF(AO36/COUNTRY_INFO!U36*100>100,100,AO36/COUNTRY_INFO!U36*100), \"-\"),0)","v":0},0,0,{"$f":"IF(AND(COUNTRY_INFO!K36>1,COUNTRY_INFO!K36<99,COUNTRY_INFO!K36<>4,COUNTRY_INFO!K36<>5), IF(AH36/AE36*100<>0, IF(AR36/AE36*100>100,100,AR36/AE36*100), \"-\"),0)","v":0},null,{"$f":"IF(AND(D36<>0, D36<>\"Unknown\",D36<>\"Stopped\",D36<>\"Not required\"),D36/COUNTRY_INFO!D36, 0)","v":1},{"$f":"IF(AND(J36<>0,J36<>\"Unknown\",J36<>\"Stopped\",J36<>\"Not required\"),J36/COUNTRY_INFO!D36, 0)","v":1},{"$f":"IF(AND(P36<>0,P36<>\"Unknown\",P36<>\"Surveillance\",P36<>\"Not required\"),P36/COUNTRY_INFO!R36, 0)","v":0},{"$f":"IF(AND(AE36<>0,AE36<>\"Unknown\",AE36<>\"Surveillance\",AE36<>\"Not required\"),AE36/COUNTRY_INFO!V36, 0)","v":0},{"$f":"IF(AU36>0,D36*PROFILE!$G$7,IF(AV36>0,J36*PROFILE!$G$7,0))","v":2163.4774282432754},{"$f":"_xlfn.IFS(OR(AU36>0,AW36>0),COUNTRY_INFO!E36, AV36>0,J36*PROFILE!$G$8,AX36>0,COUNTRY_INFO!S36,COUNTIFS(AU36:AX36,\">0\")=0,0)","v":8709},{"$f":"_xlfn.IFS(OR(AU36>0,AW36>0),COUNTRY_INFO!F36, AV36>0,J36*PROFILE!$G$9,AX36>0,COUNTRY_INFO!T36,COUNTIFS(AU36:AX36,\">0\")=0,0)","v":24302},{"$f":"_xlfn.IFS(AU36>0,COUNTRY_INFO!G36, AND(AV36>0,AW36=0,AX36=0),J36*PROFILE!$G$10,AND(AV36>0,AW36>0,AX36=0), MAX(J36*PROFILE!$G$10,COUNTRY_INFO!Q36),AND(AV36>0,AW36=0,AX36>0), MAX(J36*PROFILE!$G$10,COUNTRY_INFO!U36),AND(AV36=0,AW36>0,AX36>0), MAX(COUNTRY_INFO!Q36,COUNTRY_INFO!U36),AND(AV36=0,AW36>0,AX36=0),COUNTRY_INFO!Q36,AND(AV36=0,AW36=0,AX36>0),COUNTRY_INFO!U36,AND(AV36>0,AW36>0,AX36>0), MAX(J36*PROFILE!$G$10,COUNTRY_INFO!Q36,COUNTRY_INFO!U36),COUNTIFS(AU36:AX36,\">0\")=0,0)","v":43498},78672.477428243277,"Y",{"$f":"MAX('MDA4'!R36,S36,AH36)","v":0},{"$f":"MAX('MDA1'!K36,'MDA4'!S36,'MDA3'!I36,'MDA3'!L36,V36,AK36)","v":40127},{"$f":"MAX('MDA1'!L36,'MDA4'!T36,'MDA3'!J36,'MDA3'!M36,Y36,AN36)","v":41383},81510,{"$f":"_xlfn.IFS(AND(AU36=0,AW36=0,AX36=0),0,AND(AU36=0,AW36=0,AX36>0),AI36,AND(AU36=0,AW36>0,AX36=0),T36,AND(AU36=0,AW36>0,AX36>0),MAX(T36,AI36),AND(AU36>0,AW36=0,AX36=0),MIN('MDA4'!R36,AZ36),AND(AU36>0,AW36=0,AX36>0),MIN(MAX('MDA4'!R36,AI36),AZ36),AND(AU36>0,AW36>0,AX36=0),MIN(MAX('MDA4'!R36,T36),AZ36),AND(AU36>0,AW36>0,AX36>0),MIN(MAX('MDA4'!R36,AI36,T36),AZ36))","v":0},{"$f":"_xlfn.IFS(AND(AU36=0,AV36=0,AW36=0,AX36=0),0,AND(AU36=0,AV36=0,AW36=0,AX36>0),AL36,AND(AU36=0,AV36=0,AW36>0,AX36=0),W36,AND(AU36=0,AV36=0,AW36>0,AX36>0),MAX(W36,AL36),AND(AU36=0,AV36>0,AW36=0,AX36=0),MIN(J36*PROFILE!$G$9,MAX('MDA3'!I36,'MDA3'!L36)),AND(AU36=0,AV36>0,AW36=0,AX36>0),MIN(J36*PROFILE!$G$9,MAX('MDA3'!I36,'MDA3'!L36,AL36)),AND(AU36=0,AV36>0,AW36>0,AX36=0),MIN(J36*PROFILE!$G$9,MAX('MDA3'!I36,'MDA3'!L36,W36)),AND(AU36=0,AV36>0,AW36>0,AX36>0),MIN(J36*PROFILE!$G$9,MAX('MDA3'!I36,'MDA3'!L36,W36,AL36)),AND(AU36>0,AV36=0,AW36=0,AX36=0), MIN(BA36,MAX('MDA1'!K36,'MDA4'!S36)),AND(AU36>0,AV36=0,AW36=0,AX36>0), MIN(BA36,MAX('MDA1'!K36,'MDA4'!S36,AL36)),AND(AU36>0,AV36=0,AW36>0,AX36=0),MIN(BA36,MAX('MDA1'!K36,'MDA4'!S36,W36)),AND(AU36>0,AV36=0,AW36>0,AX36>0),MIN(BA36,MAX('MDA1'!K36,'MDA4'!S36,W36,AL36)),AND(AU36>0,AV36>0,AW36=0,AX36=0),MIN(BA36, MAX('MDA1'!K36,'MDA4'!S36,MAX('MDA3'!I36,'MDA3'!L36))), AND(AU36>0,AV36>0,AW36=0,AX36>0),MIN(BA36, MAX('MDA1'!K36,'MDA4'!S36,MAX( 'MDA3'!I36,'MDA3'!L36),AL36)), AND(AU36>0,AV36>0,AW36>0,AX36=0), MIN(BA36, MAX('MDA1'!K36,'MDA4'!S36,MAX( 'MDA3'!I36,'MDA3'!L36),W36)), AND(AU36>0,AV36>0,AW36>0,AX36>0), MIN(BA36, MAX('MDA1'!K36,'MDA4'!S36,MAX( 'MDA3'!I36,'MDA3'!L36),W36,AL36)))","v":24302},{"$f":"_xlfn.IFS(AND(AU36=0,AV36=0,AW36=0,AX36=0),0,AND(AU36=0,AV36=0,AW36=0,AX36>0),AO36,AND(AU36=0,AV36=0,AW36>0,AX36=0),Z36,AND(AU36=0,AV36=0,AW36>0,AX36>0),MAX(Z36,AO36),AND(AU36=0,AV36>0,AW36=0,AX36=0),MIN(J36*PROFILE!$G$10,MAX('MDA3'!J36,'MDA3'!J36)),AND(AU36=0,AV36>0,AW36=0,AX36>0),MIN(J36*PROFILE!$G$10,MAX('MDA3'!J36,'MDA3'!M36,AO36)),AND(AU36=0,AV36>0,AW36>0,AX36=0),MIN(J36*PROFILE!$G$10,MAX('MDA3'!J36,'MDA3'!M36,Z36)),AND(AU36=0,AV36>0,AW36>0,AX36>0),MIN(J36*PROFILE!$G$10,MAX('MDA3'!J36,'MDA3'!M36,Z36,AO36)),AND(AU36>0,AV36=0,AW36=0,AX36=0), MIN(BB36,MAX('MDA1'!L36,'MDA4'!T36)),AND(AU36>0,AV36=0,AW36=0,AX36>0), MIN(BB36,MAX('MDA1'!L36,'MDA4'!T36,AO36)),AND(AU36>0,AV36=0,AW36>0,AX36=0),MIN(BB36,MAX('MDA1'!L36,'MDA4'!T36,Z36)),AND(AU36>0,AV36=0,AW36>0,AX36>0),MIN(BB36,MAX('MDA1'!L36,'MDA4'!T36,Z36,AO36)),AND(AU36>0,AV36>0,AW36=0,AX36=0),MIN(BB36, MAX('MDA1'!L36,'MDA4'!T36,MAX( 'MDA3'!J36,'MDA3'!M36))), AND(AU36>0,AV36>0,AW36=0,AX36>0),MIN(BB36, MAX('MDA1'!L36,'MDA4'!T36,MAX( 'MDA3'!J36,'MDA3'!M36),AO36)), AND(AU36>0,AV36>0,AW36>0,AX36=0), MIN(BB36, MAX('MDA1'!L36,'MDA4'!T36,MAX( 'MDA3'!J36,'MDA3'!M36),Z36)), AND(AU36>0,AV36>0,AW36>0,AX36>0), MIN(BB36, MAX('MDA1'!L36,'MDA4'!T36,MAX( 'MDA3'!J36,'MDA3'!M36),Z36,AO36)))","v":41383},65685,83.49171418926133]
[{"$f":"IF(COUNTRY_INFO!A37=0,\" \",COUNTRY_INFO!A37)","v":"South Sudan"},{"$f":"IF(COUNTRY_INFO!B37=0,\" \",COUNTRY_INFO!B37)","v":"Lakes"},{"$f":"IF(COUNTRY_INFO!C37=0,\" \",COUNTRY_INFO!C37)","v":"RUMBEK CENTRE"},{"$f":"COUNTRY_INFO!M37","v":280428.75790000003},null,null,{"$f":"'MDA1'!M37+'MDA4'!U37","v":182369},{"$f":"IF(AND(COUNTRY_INFO!H37>0,COUNTRY_INFO!H37<4),IF(D37>G37,G37,D37),0)","v":182369},{"$f":"IF(AND(COUNTRY_INFO!H37>0,COUNTRY_INFO!H37<4), IF(G37/D37*100<>0, IF(G37/D37*100>100,100,G37/D37*100), \"-\"),0)","v":65.032203318117681},{"$f":"COUNTRY_INFO!N37","v":280428.75790000003},null,null,{"$f":"MAX('MDA1'!M37,MAX('MDA3'!I37,'MDA3'!L37)+MAX('MDA3'!J37,'MDA3'!M37))","v":182369},{"$f":"IF(AND(COUNTRY_INFO!I37>0,COUNTRY_INFO!I37<4),IF(J37>M37,M37,J37),0)","v":182369},{"$f":"IF(AND(COUNTRY_INFO!I37>0,COUNTRY_INFO!I37<4), IF(M37/J37*100<>0, IF(M37/J37*100>100,100,M37/J37*100), \"-\"),0)","v":65.032203318117681},{"$f":"COUNTRY_INFO!R37","v":0},null,null,{"$f":"MAX('MDA4'!R37,'T1'!K37, MAX(T3_R1!J37,T3_R2!J37,T3_R3!J37))","v":0},{"$f":"IF(AND(COUNTRY_INFO!J37>1,COUNTRY_INFO!J37<99,COUNTRY_INFO!J37<>4,COUNTRY_INFO!J37<>5),IF(COUNTRY_INFO!O37>S37,S37,COUNTRY_INFO!O37),0)","v":0},{"$f":"IF(AND(COUNTRY_INFO!J37>1,COUNTRY_INFO!J37<99,COUNTRY_INFO!J37<>4,COUNTRY_INFO!J37<>5), IF(T37/COUNTRY_INFO!O37*100<>0, IF(T37/COUNTRY_INFO!O37*100>100,100,T37/COUNTRY_INFO!O37*100), \"-\"),0)","v":0},{"$f":"MAX('MDA1'!K37,'MDA4'!S37, 'T1'!L37, MAX(T3_R1!K37,T3_R2!K37,T3_R3!K37))","v":90346},{"$f":"IF(AND(COUNTRY_INFO!J37>1,COUNTRY_INFO!J37<99,COUNTRY_INFO!J37<>4,COUNTRY_INFO!J37<>5),IF(COUNTRY_INFO!P37>V37,V37,COUNTRY_INFO!P37),0)","v":0},{"$f":"IF(AND(COUNTRY_INFO!J37>1,COUNTRY_INFO!J37<99,COUNTRY_INFO!J37<>4,COUNTRY_INFO!J37<>5), IF(W37/COUNTRY_INFO!P37*100<>0, IF(W37/COUNTRY_INFO!P37*100>100,100,W37/COUNTRY_INFO!P37*100), \"-\"),0)","v":0},{"$f":"MAX('MDA1'!L37,'MDA4'!T37, 'T1'!M37, MAX(T3_R1!L37,T3_R2!L37,T3_R3!L37))","v":92023},{"$f":"IF(AND(COUNTRY_INFO!J37>1,COUNTRY_INFO!J37<99,COUNTRY_INFO!J37<>4,COUNTRY_INFO!J37<>5),IF(COUNTRY_INFO!Q37>Y37,Y37,COUNTRY_INFO!Q37),0)","v":0},{"$f":"IF(AND(COUNTRY_INFO!J37>1,COUNTRY_INFO!J37<99,COUNTRY_INFO!J37<>4,COUNTRY_INFO!J37<>5), IF(Z37/COUNTRY_INFO!Q37*100<>0, IF(Z37/COUNTRY_INFO!Q37*100>100,100,Z37/COUNTRY_INFO!Q37*100), \"-\"),0)","v":0},182369,0,{"$f":"IF(AND(COUNTRY_INFO!J37>1,COUNTRY_INFO!J37<99,COUNTRY_INFO!J37<>4,COUNTRY_INFO!J37<>5), IF(AC37/P37*100<>0, IF(AC37/P37*100>100,100,AC37/P37*100), \"-\"),0)","v":0},{"$f":"COUNTRY_INFO!V37","v":0},null,null,{"$f":"MAX('T1'!K37,'T2'!R37)","v":0},{"$f":"IF(AND(COUNTRY_INFO!K37>1,COUNTRY_INFO!K37<99,COUNTRY_INFO!K37<>4,COUNTRY_INFO!K37<>5),IF(COUNTRY_INFO!S37>AH37,AH37,COUNTRY_INFO!S37),0)","v":0},{"$f":"IF(AND(COUNTRY_INFO!K37>1,COUNTRY_INFO!K37<99,COUNTRY_INFO!K37<>4,COUNTRY_INFO!K37<>5), IF(AI37/COUNTRY_INFO!S37*100<>0, IF(AI37/COUNTRY_INFO!S37*100>100,100,AI37/COUNTRY_INFO!S37*100), \"-\"),0)","v":0},{"$f":"MAX('T1'!L37,'T2'!S37)","v":0},{"$f":"IF(AND(COUNTRY_INFO!K37>1,COUNTRY_INFO!K37<99,COUNTRY_INFO!K37<>4,COUNTRY_INFO!K37<>5),IF(COUNTRY_INFO!T37>AK37,AK37,COUNTRY_INFO!T37),0)","v":0},{"$f":"IF(AND(COUNTRY_INFO!K37>1,COUNTRY_INFO!K37<99,COUNTRY_INFO!K37<>4,COUNTRY_INFO!K37<>5), IF(AL37/COUNTRY_INFO!T37*100<>0, IF(AL37/COUNTRY_INFO!T37*100>100,100,AL37/COUNTRY_INFO!T37*100), \"-\"),0)","v":0},{"$f":"MAX('T1'!M37,'T2'!T37)","v":0},{"$f":"IF(AND(COUNTRY_INFO!K37>1,COUNTRY_INFO!K37<99,COUNTRY_INFO!K37<>4,COUNTRY_INFO!K37<>5),IF(COUNTRY_INFO!U37>AN37,AN37,COUNTRY_INFO!U37),0)","v":0},{"$f":"IF(AND(COUNTRY_INFO!K37>1,COUNTRY_INFO!K37<99,COUNTRY_INFO!K37<>4,COUNTRY_INFO!K37<>5), IF(AO37/COUNTRY_INFO!U37*100<>0, IF(AO37/COUNTRY_INFO!U37*100>100,100,AO37/COUNTRY_INFO!U37*100), \"-\"),0)","v":0},0,0,{"$f":"IF(AND(COUNTRY_INFO!K37>1,COUNTRY_INFO!K37<99,COUNTRY_INFO!K37<>4,COUNTRY_INFO!K37<>5), IF(AH37/AE37*100<>0, IF(AR37/AE37*100>100,100,AR37/AE37*100), \"-\"),0)","v":0},null,{"$f":"IF(AND(D37<>0, D37<>\"Unknown\",D37<>\"Stopped\",D37<>\"Not required\"),D37/COUNTRY_INFO!D37, 0)","v":1},{"$f":"IF(AND(J37<>0,J37<>\"Unknown\",J37<>\"Stopped\",J37<>\"Not required\"),J37/COUNTRY_INFO!D37, 0)","v":1},{"$f":"IF(AND(P37<>0,P37<>\"Unknown\",P37<>\"Surveillance\",P37<>\"Not required\"),P37/COUNTRY_INFO!R37, 0)","v":0},{"$f":"IF(AND(AE37<>0,AE37<>\"Unknown\",AE37<>\"Surveillance\",AE37<>\"Not required\"),AE37/COUNTRY_INFO!V37, 0)","v":0},{"$f":"IF(AU37>0,D37*PROFILE!$G$7,IF(AV37>0,J37*PROFILE!$G$7,0))","v":7711.7718334992878},{"$f":"_xlfn.IFS(OR(AU37>0,AW37>0),COUNTRY_INFO!E37, AV37>0,J37*PROFILE!$G$8,AX37>0,COUNTRY_INFO!S37,COUNTIFS(AU37:AX37,\">0\")=0,0)","v":31043},{"$f":"_xlfn.IFS(OR(AU37>0,AW37>0),COUNTRY_INFO!F37, AV37>0,J37*PROFILE!$G$9,AX37>0,COUNTRY_INFO!T37,COUNTIFS(AU37:AX37,\">0\")=0,0)","v":86624},{"$f":"_xlfn.IFS(AU37>0,COUNTRY_INFO!G37, AND(AV37>0,AW37=0,AX37=0),J37*PROFILE!$G$10,AND(AV37>0,AW37>0,AX37=0), MAX(J37*PROFILE!$G$10,COUNTRY_INFO!Q37),AND(AV37>0,AW37=0,AX37>0), MAX(J37*PROFILE!$G$10,COUNTRY_INFO!U37),AND(AV37=0,AW37>0,AX37>0), MAX(COUNTRY_INFO!Q37,COUNTRY_INFO!U37),AND(AV37=0,AW37>0,AX37=0),COUNTRY_INFO!Q37,AND(AV37=0,AW37=0,AX37>0),COUNTRY_INFO!U37,AND(AV37>0,AW37>0,AX37>0), MAX(J37*PROFILE!$G$10,COUNTRY_INFO!Q37,COUNTRY_INFO!U37),COUNTIFS(AU37:AX37,\">0\")=0,0)","v":155049},280427.77183349931,"Y",{"$f":"MAX('MDA4'!R37,S37,AH37)","v":0},{"$f":"MAX('MDA1'!K37,'MDA4'!S37,'MDA3'!I37,'MDA3'!L37,V37,AK37)","v":90346},{"$f":"MAX('MDA1'!L37,'MDA4'!T37,'MDA3'!J37,'MDA3'!M37,Y37,AN37)","v":92023},182369,{"$f":"_xlfn.IFS(AND(AU37=0,AW37=0,AX37=0),0,AND(AU37=0,AW37=0,AX37>0),AI37,AND(AU37=0,AW37>0,AX37=0),T37,AND(AU37=0,AW37>0,AX37>0),MAX(T37,AI37),AND(AU37>0,AW37=0,AX37=0),MIN('MDA4'!R37,AZ37),AND(AU37>0,AW37=0,AX37>0),MIN(MAX('MDA4'!R37,AI37),AZ37),AND(AU37>0,AW37>0,AX37=0),MIN(MAX('MDA4'!R37,T37),AZ37),AND(AU37>0,AW37>0,AX37>0),MIN(MAX('MDA4'!R37,AI37,T37),AZ37))","v":0},{"$f":"_xlfn.IFS(AND(AU37=0,AV37=0,AW37=0,AX37=0),0,AND(AU37=0,AV37=0,AW37=0,AX37>0),AL37,AND(AU37=0,AV37=0,AW37>0,AX37=0),W37,AND(AU37=0,AV37=0,AW37>0,AX37>0),MAX(W37,AL37),AND(AU37=0,AV37>0,AW37=0,AX37=0),MIN(J37*PROFILE!$G$9,MAX('MDA3'!I37,'MDA3'!L37)),AND(AU37=0,AV37>0,AW37=0,AX37>0),MIN(J37*PROFILE!$G$9,MAX('MDA3'!I37,'MDA3'!L37,AL37)),AND(AU37=0,AV37>0,AW37>0,AX37=0),MIN(J37*PROFILE!$G$9,MAX('MDA3'!I37,'MDA3'!L37,W37)),AND(AU37=0,AV37>0,AW37>0,AX37>0),MIN(J37*PROFILE!$G$9,MAX('MDA3'!I37,'MDA3'!L37,W37,AL37)),AND(AU37>0,AV37=0,AW37=0,AX37=0), MIN(BA37,MAX('MDA1'!K37,'MDA4'!S37)),AND(AU37>0,AV37=0,AW37=0,AX37>0), MIN(BA37,MAX('MDA1'!K37,'MDA4'!S37,AL37)),AND(AU37>0,AV37=0,AW37>0,AX37=0),MIN(BA37,MAX('MDA1'!K37,'MDA4'!S37,W37)),AND(AU37>0,AV37=0,AW37>0,AX37>0),MIN(BA37,MAX('MDA1'!K37,'MDA4'!S37,W37,AL37)),AND(AU37>0,AV37>0,AW37=0,AX37=0),MIN(BA37, MAX('MDA1'!K37,'MDA4'!S37,MAX('MDA3'!I37,'MDA3'!L37))), AND(AU37>0,AV37>0,AW37=0,AX37>0),MIN(BA37, MAX('MDA1'!K37,'MDA4'!S37,MAX( 'MDA3'!I37,'MDA3'!L37),AL37)), AND(AU37>0,AV37>0,AW37>0,AX37=0), MIN(BA37, MAX('MDA1'!K37,'MDA4'!S37,MAX( 'MDA3'!I37,'MDA3'!L37),W37)), AND(AU37>0,AV37>0,AW37>0,AX37>0), MIN(BA37, MAX('MDA1'!K37,'MDA4'!S37,MAX( 'MDA3'!I37,'MDA3'!L37),W37,AL37)))","v":86624},{"$f":"_xlfn.IFS(AND(AU37=0,AV37=0,AW37=0,AX37=0),0,AND(AU37=0,AV37=0,AW37=0,AX37>0),AO37,AND(AU37=0,AV37=0,AW37>0,AX37=0),Z37,AND(AU37=0,AV37=0,AW37>0,AX37>0),MAX(Z37,AO37),AND(AU37=0,AV37>0,AW37=0,AX37=0),MIN(J37*PROFILE!$G$10,MAX('MDA3'!J37,'MDA3'!J37)),AND(AU37=0,AV37>0,AW37=0,AX37>0),MIN(J37*PROFILE!$G$10,MAX('MDA3'!J37,'MDA3'!M37,AO37)),AND(AU37=0,AV37>0,AW37>0,AX37=0),MIN(J37*PROFILE!$G$10,MAX('MDA3'!J37,'MDA3'!M37,Z37)),AND(AU37=0,AV37>0,AW37>0,AX37>0),MIN(J37*PROFILE!$G$10,MAX('MDA3'!J37,'MDA3'!M37,Z37,AO37)),AND(AU37>0,AV37=0,AW37=0,AX37=0), MIN(BB37,MAX('MDA1'!L37,'MDA4'!T37)),AND(AU37>0,AV37=0,AW37=0,AX37>0), MIN(BB37,MAX('MDA1'!L37,'MDA4'!T37,AO37)),AND(AU37>0,AV37=0,AW37>0,AX37=0),MIN(BB37,MAX('MDA1'!L37,'MDA4'!T37,Z37)),AND(AU37>0,AV37=0,AW37>0,AX37>0),MIN(BB37,MAX('MDA1'!L37,'MDA4'!T37,Z37,AO37)),AND(AU37>0,AV37>0,AW37=0,AX37=0),MIN(BB37, MAX('MDA1'!L37,'MDA4'!T37,MAX( 'MDA3'!J37,'MDA3'!M37))), AND(AU37>0,AV37>0,AW37=0,AX37>0),MIN(BB37, MAX('MDA1'!L37,'MDA4'!T37,MAX( 'MDA3'!J37,'MDA3'!M37),AO37)), AND(AU37>0,AV37>0,AW37>0,AX37=0), MIN(BB37, MAX('MDA1'!L37,'MDA4'!T37,MAX( 'MDA3'!J37,'MDA3'!M37),Z37)), AND(AU37>0,AV37>0,AW37>0,AX37>0), MIN(BB37, MAX('MDA1'!L37,'MDA4'!T37,MAX( 'MDA3'!J37,'MDA3'!M37),Z37,AO37)))","v":92023},178647,63.705174003261547]
[{"$f":"IF(COUNTRY_INFO!A38=0,\" \",COUNTRY_INFO!A38)","v":"South Sudan"},{"$f":"IF(COUNTRY_INFO!B38=0,\" \",COUNTRY_INFO!B38)","v":"Lakes"},{"$f":"IF(COUNTRY_INFO!C38=0,\" \",COUNTRY_INFO!C38)","v":"WULU"},{"$f":"COUNTRY_INFO!M38","v":73596.75480000001},null,null,{"$f":"'MDA1'!M38+'MDA4'!U38","v":56945},{"$f":"IF(AND(COUNTRY_INFO!H38>0,COUNTRY_INFO!H38<4),IF(D38>G38,G38,D38),0)","v":56945},{"$f":"IF(AND(COUNTRY_INFO!H38>0,COUNTRY_INFO!H38<4), IF(G38/D38*100<>0, IF(G38/D38*100>100,100,G38/D38*100), \"-\"),0)","v":77.374335532522693},{"$f":"COUNTRY_INFO!N38","v":73596.75480000001},null,null,{"$f":"MAX('MDA1'!M38,MAX('MDA3'!I38,'MDA3'!L38)+MAX('MDA3'!J38,'MDA3'!M38))","v":56945},{"$f":"IF(AND(COUNTRY_INFO!I38>0,COUNTRY_INFO!I38<4),IF(J38>M38,M38,J38),0)","v":56945},{"$f":"IF(AND(COUNTRY_INFO!I38>0,COUNTRY_INFO!I38<4), IF(M38/J38*100<>0, IF(M38/J38*100>100,100,M38/J38*100), \"-\"),0)","v":77.374335532522693},{"$f":"COUNTRY_INFO!R38","v":0},null,null,{"$f":"MAX('MDA4'!R38,'T1'!K38, MAX(T3_R1!J38,T3_R2!J38,T3_R3!J38))","v":0},{"$f":"IF(AND(COUNTRY_INFO!J38>1,COUNTRY_INFO!J38<99,COUNTRY_INFO!J38<>4,COUNTRY_INFO!J38<>5),IF(COUNTRY_INFO!O38>S38,S38,COUNTRY_INFO!O38),0)","v":0},{"$f":"IF(AND(COUNTRY_INFO!J38>1,COUNTRY_INFO!J38<99,COUNTRY_INFO!J38<>4,COUNTRY_INFO!J38<>5), IF(T38/COUNTRY_INFO!O38*100<>0, IF(T38/COUNTRY_INFO!O38*100>100,100,T38/COUNTRY_INFO!O38*100), \"-\"),0)","v":0},{"$f":"MAX('MDA1'!K38,'MDA4'!S38, 'T1'!L38, MAX(T3_R1!K38,T3_R2!K38,T3_R3!K38))","v":27653},{"$f":"IF(AND(COUNTRY_INFO!J38>1,COUNTRY_INFO!J38<99,COUNTRY_INFO!J38<>4,COUNTRY_INFO!J38<>5),IF(COUNTRY_INFO!P38>V38,V38,COUNTRY_INFO!P38),0)","v":0},{"$f":"IF(AND(COUNTRY_INFO!J38>1,COUNTRY_INFO!J38<99,COUNTRY_INFO!J38<>4,COUNTRY_INFO!J38<>5), IF(W38/COUNTRY_INFO!P38*100<>0, IF(W38/COUNTRY_INFO!P38*100>100,100,W38/COUNTRY_INFO!P38*100), \"-\"),0)","v":0},{"$f":"MAX('MDA1'!L38,'MDA4'!T38, 'T1'!M38, MAX(T3_R1!L38,T3_R2!L38,T3_R3!L38))","v":29292},{"$f":"IF(AND(COUNTRY_INFO!J38>1,COUNTRY_INFO!J38<99,COUNTRY_INFO!J38<>4,COUNTRY_INFO!J38<>5),IF(COUNTRY_INFO!Q38>Y38,Y38,COUNTRY_INFO!Q38),0)","v":0},{"$f":"IF(AND(COUNTRY_INFO!J38>1,COUNTRY_INFO!J38<99,COUNTRY_INFO!J38<>4,COUNTRY_INFO!J38<>5), IF(Z38/COUNTRY_INFO!Q38*100<>0, IF(Z38/COUNTRY_INFO!Q38*100>100,100,Z38/COUNTRY_INFO!Q38*100), \"-\"),0)","v":0},56945,0,{"$f":"IF(AND(COUNTRY_INFO!J38>1,COUNTRY_INFO!J38<99,COUNTRY_INFO!J38<>4,COUNTRY_INFO!J38<>5), IF(AC38/P38*100<>0, IF(AC38/P38*100>100,100,AC38/P38*100), \"-\"),0)","v":0},{"$f":"COUNTRY_INFO!V38","v":0},null,null,{"$f":"MAX('T1'!K38,'T2'!R38)","v":0},{"$f":"IF(AND(COUNTRY_INFO!K38>1,COUNTRY_INFO!K38<99,COUNTRY_INFO!K38<>4,COUNTRY_INFO!K38<>5),IF(COUNTRY_INFO!S38>AH38,AH38,COUNTRY_INFO!S38),0)","v":0},{"$f":"IF(AND(COUNTRY_INFO!K38>1,COUNTRY_INFO!K38<99,COUNTRY_INFO!K38<>4,COUNTRY_INFO!K38<>5), IF(AI38/COUNTRY_INFO!S38*100<>0, IF(AI38/COUNTRY_INFO!S38*100>100,100,AI38/COUNTRY_INFO!S38*100), \"-\"),0)","v":0},{"$f":"MAX('T1'!L38,'T2'!S38)","v":0},{"$f":"IF(AND(COUNTRY_INFO!K38>1,COUNTRY_INFO!K38<99,COUNTRY_INFO!K38<>4,COUNTRY_INFO!K38<>5),IF(COUNTRY_INFO!T38>AK38,AK38,COUNTRY_INFO!T38),0)","v":0},{"$f":"IF(AND(COUNTRY_INFO!K38>1,COUNTRY_INFO!K38<99,COUNTRY_INFO!K38<>4,COUNTRY_INFO!K38<>5), IF(AL38/COUNTRY_INFO!T38*100<>0, IF(AL38/COUNTRY_INFO!T38*100>100,100,AL38/COUNTRY_INFO!T38*100), \"-\"),0)","v":0},{"$f":"MAX('T1'!M38,'T2'!T38)","v":0},{"$f":"IF(AND(COUNTRY_INFO!K38>1,COUNTRY_INFO!K38<99,COUNTRY_INFO!K38<>4,COUNTRY_INFO!K38<>5),IF(COUNTRY_INFO!U38>AN38,AN38,COUNTRY_INFO!U38),0)","v":0},{"$f":"IF(AND(COUNTRY_INFO!K38>1,COUNTRY_INFO!K38<99,COUNTRY_INFO!K38<>4,COUNTRY_INFO!K38<>5), IF(AO38/COUNTRY_INFO!U38*100<>0, IF(AO38/COUNTRY_INFO!U38*100>100,100,AO38/COUNTRY_INFO!U38*100), \"-\"),0)","v":0},0,0,{"$f":"IF(AND(COUNTRY_INFO!K38>1,COUNTRY_INFO!K38<99,COUNTRY_INFO!K38<>4,COUNTRY_INFO!K38<>5), IF(AH38/AE38*100<>0, IF(AR38/AE38*100>100,100,AR38/AE38*100), \"-\"),0)","v":0},null,{"$f":"IF(AND(D38<>0, D38<>\"Unknown\",D38<>\"Stopped\",D38<>\"Not required\"),D38/COUNTRY_INFO!D38, 0)","v":1},{"$f":"IF(AND(J38<>0,J38<>\"Unknown\",J38<>\"Stopped\",J38<>\"Not required\"),J38/COUNTRY_INFO!D38, 0)","v":1},{"$f":"IF(AND(P38<>0,P38<>\"Unknown\",P38<>\"Surveillance\",P38<>\"Not required\"),P38/COUNTRY_INFO!R38, 0)","v":0},{"$f":"IF(AND(AE38<>0,AE38<>\"Unknown\",AE38<>\"Surveillance\",AE38<>\"Not required\"),AE38/COUNTRY_INFO!V38, 0)","v":0},{"$f":"IF(AU38>0,D38*PROFILE!$G$7,IF(AV38>0,J38*PROFILE!$G$7,0))","v":2023.9057682735383},{"$f":"_xlfn.IFS(OR(AU38>0,AW38>0),COUNTRY_INFO!E38, AV38>0,J38*PROFILE!$G$8,AX38>0,COUNTRY_INFO!S38,COUNTIFS(AU38:AX38,\">0\")=0,0)","v":8147},{"$f":"_xlfn.IFS(OR(AU38>0,AW38>0),COUNTRY_INFO!F38, AV38>0,J38*PROFILE!$G$9,AX38>0,COUNTRY_INFO!T38,COUNTIFS(AU38:AX38,\">0\")=0,0)","v":22734},{"$f":"_xlfn.IFS(AU38>0,COUNTRY_INFO!G38, AND(AV38>0,AW38=0,AX38=0),J38*PROFILE!$G$10,AND(AV38>0,AW38>0,AX38=0), MAX(J38*PROFILE!$G$10,COUNTRY_INFO!Q38),AND(AV38>0,AW38=0,AX38>0), MAX(J38*PROFILE!$G$10,COUNTRY_INFO!U38),AND(AV38=0,AW38>0,AX38>0), MAX(COUNTRY_INFO!Q38,COUNTRY_INFO!U38),AND(AV38=0,AW38>0,AX38=0),COUNTRY_INFO!Q38,AND(AV38=0,AW38=0,AX38>0),COUNTRY_INFO!U38,AND(AV38>0,AW38>0,AX38>0), MAX(J38*PROFILE!$G$10,COUNTRY_INFO!Q38,COUNTRY_INFO!U38),COUNTIFS(AU38:AX38,\">0\")=0,0)","v":40692},73596.905768273544,"Y",{"$f":"MAX('MDA4'!R38,S38,AH38)","v":0},{"$f":"MAX('MDA1'!K38,'MDA4'!S38,'MDA3'!I38,'MDA3'!L38,V38,AK38)","v":27653},{"$f":"MAX('MDA1'!L38,'MDA4'!T38,'MDA3'!J38,'MDA3'!M38,Y38,AN38)","v":29292},56945,{"$f":"_xlfn.IFS(AND(AU38=0,AW38=0,AX38=0),0,AND(AU38=0,AW38=0,AX38>0),AI38,AND(AU38=0,AW38>0,AX38=0),T38,AND(AU38=0,AW38>0,AX38>0),MAX(T38,AI38),AND(AU38>0,AW38=0,AX38=0),MIN('MDA4'!R38,AZ38),AND(AU38>0,AW38=0,AX38>0),MIN(MAX('MDA4'!R38,AI38),AZ38),AND(AU38>0,AW38>0,AX38=0),MIN(MAX('MDA4'!R38,T38),AZ38),AND(AU38>0,AW38>0,AX38>0),MIN(MAX('MDA4'!R38,AI38,T38),AZ38))","v":0},{"$f":"_xlfn.IFS(AND(AU38=0,AV38=0,AW38=0,AX38=0),0,AND(AU38=0,AV38=0,AW38=0,AX38>0),AL38,AND(AU38=0,AV38=0,AW38>0,AX38=0),W38,AND(AU38=0,AV38=0,AW38>0,AX38>0),MAX(W38,AL38),AND(AU38=0,AV38>0,AW38=0,AX38=0),MIN(J38*PROFILE!$G$9,MAX('MDA3'!I38,'MDA3'!L38)),AND(AU38=0,AV38>0,AW38=0,AX38>0),MIN(J38*PROFILE!$G$9,MAX('MDA3'!I38,'MDA3'!L38,AL38)),AND(AU38=0,AV38>0,AW38>0,AX38=0),MIN(J38*PROFILE!$G$9,MAX('MDA3'!I38,'MDA3'!L38,W38)),AND(AU38=0,AV38>0,AW38>0,AX38>0),MIN(J38*PROFILE!$G$9,MAX('MDA3'!I38,'MDA3'!L38,W38,AL38)),AND(AU38>0,AV38=0,AW38=0,AX38=0), MIN(BA38,MAX('MDA1'!K38,'MDA4'!S38)),AND(AU38>0,AV38=0,AW38=0,AX38>0), MIN(BA38,MAX('MDA1'!K38,'MDA4'!S38,AL38)),AND(AU38>0,AV38=0,AW38>0,AX38=0),MIN(BA38,MAX('MDA1'!K38,'MDA4'!S38,W38)),AND(AU38>0,AV38=0,AW38>0,AX38>0),MIN(BA38,MAX('MDA1'!K38,'MDA4'!S38,W38,AL38)),AND(AU38>0,AV38>0,AW38=0,AX38=0),MIN(BA38, MAX('MDA1'!K38,'MDA4'!S38,MAX('MDA3'!I38,'MDA3'!L38))), AND(AU38>0,AV38>0,AW38=0,AX38>0),MIN(BA38, MAX('MDA1'!K38,'MDA4'!S38,MAX( 'MDA3'!I38,'MDA3'!L38),AL38)), AND(AU38>0,AV38>0,AW38>0,AX38=0), MIN(BA38, MAX('MDA1'!K38,'MDA4'!S38,MAX( 'MDA3'!I38,'MDA3'!L38),W38)), AND(AU38>0,AV38>0,AW38>0,AX38>0), MIN(BA38, MAX('MDA1'!K38,'MDA4'!S38,MAX( 'MDA3'!I38,'MDA3'!L38),W38,AL38)))","v":22734},{"$f":"_xlfn.IFS(AND(AU38=0,AV38=0,AW38=0,AX38=0),0,AND(AU38=0,AV38=0,AW38=0,AX38>0),AO38,AND(AU38=0,AV38=0,AW38>0,AX38=0),Z38,AND(AU38=0,AV38=0,AW38>0,AX38>0),MAX(Z38,AO38),AND(AU38=0,AV38>0,AW38=0,AX38=0),MIN(J38*PROFILE!$G$10,MAX('MDA3'!J38,'MDA3'!J38)),AND(AU38=0,AV38>0,AW38=0,AX38>0),MIN(J38*PROFILE!$G$10,MAX('MDA3'!J38,'MDA3'!M38,AO38)),AND(AU38=0,AV38>0,AW38>0,AX38=0),MIN(J38*PROFILE!$G$10,MAX('MDA3'!J38,'MDA3'!M38,Z38)),AND(AU38=0,AV38>0,AW38>0,AX38>0),MIN(J38*PROFILE!$G$10,MAX('MDA3'!J38,'MDA3'!M38,Z38,AO38)),AND(AU38>0,AV38=0,AW38=0,AX38=0), MIN(BB38,MAX('MDA1'!L38,'MDA4'!T38)),AND(AU38>0,AV38=0,AW38=0,AX38>0), MIN(BB38,MAX('MDA1'!L38,'MDA4'!T38,AO38)),AND(AU38>0,AV38=0,AW38>0,AX38=0),MIN(BB38,MAX('MDA1'!L38,'MDA4'!T38,Z38)),AND(AU38>0,AV38=0,AW38>0,AX38>0),MIN(BB38,MAX('MDA1'!L38,'MDA4'!T38,Z38,AO38)),AND(AU38>0,AV38>0,AW38=0,AX38=0),MIN(BB38, MAX('MDA1'!L38,'MDA4'!T38,MAX( 'MDA3'!J38,'MDA3'!M38))), AND(AU38>0,AV38>0,AW38=0,AX38>0),MIN(BB38, MAX('MDA1'!L38,'MDA4'!T38,MAX( 'MDA3'!J38,'MDA3'!M38),AO38)), AND(AU38>0,AV38>0,AW38>0,AX38=0), MIN(BB38, MAX('MDA1'!L38,'MDA4'!T38,MAX( 'MDA3'!J38,'MDA3'!M38),Z38)), AND(AU38>0,AV38>0,AW38>0,AX38>0), MIN(BB38, MAX('MDA1'!L38,'MDA4'!T38,MAX( 'MDA3'!J38,'MDA3'!M38),Z38,AO38)))","v":29292},52026,70.690471911697657]
[{"$f":"IF(COUNTRY_INFO!A39=0,\" \",COUNTRY_INFO!A39)","v":"South Sudan"},{"$f":"IF(COUNTRY_INFO!B39=0,\" \",COUNTRY_INFO!B39)","v":"Lakes"},{"$f":"IF(COUNTRY_INFO!C39=0,\" \",COUNTRY_INFO!C39)","v":"RUMBEK EAST"},{"$f":"COUNTRY_INFO!M39","v":0},null,null,{"$f":"'MDA1'!M39+'MDA4'!U39","v":0},{"$f":"IF(AND(COUNTRY_INFO!H39>0,COUNTRY_INFO!H39<4),IF(D39>G39,G39,D39),0)","v":0},{"$f":"IF(AND(COUNTRY_INFO!H39>0,COUNTRY_INFO!H39<4), IF(G39/D39*100<>0, IF(G39/D39*100>100,100,G39/D39*100), \"-\"),0)","v":0},{"$f":"COUNTRY_INFO!N39","v":224596.77360000001},null,null,{"$f":"MAX('MDA1'!M39,MAX('MDA3'!I39,'MDA3'!L39)+MAX('MDA3'!J39,'MDA3'!M39))","v":249179},{"$f":"IF(AND(COUNTRY_INFO!I39>0,COUNTRY_INFO!I39<4),IF(J39>M39,M39,J39),0)","v":224596.77360000001},{"$f":"IF(AND(COUNTRY_INFO!I39>0,COUNTRY_INFO!I39<4), IF(M39/J39*100<>0, IF(M39/J39*100>100,100,M39/J39*100), \"-\"),0)","v":100},{"$f":"COUNTRY_INFO!R39","v":0},null,null,{"$f":"MAX('MDA4'!R39,'T1'!K39, MAX(T3_R1!J39,T3_R2!J39,T3_R3!J39))","v":0},{"$f":"IF(AND(COUNTRY_INFO!J39>1,COUNTRY_INFO!J39<99,COUNTRY_INFO!J39<>4,COUNTRY_INFO!J39<>5),IF(COUNTRY_INFO!O39>S39,S39,COUNTRY_INFO!O39),0)","v":0},{"$f":"IF(AND(COUNTRY_INFO!J39>1,COUNTRY_INFO!J39<99,COUNTRY_INFO!J39<>4,COUNTRY_INFO!J39<>5), IF(T39/COUNTRY_INFO!O39*100<>0, IF(T39/COUNTRY_INFO!O39*100>100,100,T39/COUNTRY_INFO!O39*100), \"-\"),0)","v":0},{"$f":"MAX('MDA1'!K39,'MDA4'!S39, 'T1'!L39, MAX(T3_R1!K39,T3_R2!K39,T3_R3!K39))","v":0},{"$f":"IF(AND(COUNTRY_INFO!J39>1,COUNTRY_INFO!J39<99,COUNTRY_INFO!J39<>4,COUNTRY_INFO!J39<>5),IF(COUNTRY_INFO!P39>V39,V39,COUNTRY_INFO!P39),0)","v":0},{"$f":"IF(AND(COUNTRY_INFO!J39>1,COUNTRY_INFO!J39<99,COUNTRY_INFO!J39<>4,COUNTRY_INFO!J39<>5), IF(W39/COUNTRY_INFO!P39*100<>0, IF(W39/COUNTRY_INFO!P39*100>100,100,W39/COUNTRY_INFO!P39*100), \"-\"),0)","v":0},{"$f":"MAX('MDA1'!L39,'MDA4'!T39, 'T1'!M39, MAX(T3_R1!L39,T3_R2!L39,T3_R3!L39))","v":0},{"$f":"IF(AND(COUNTRY_INFO!J39>1,COUNTRY_INFO!J39<99,COUNTRY_INFO!J39<>4,COUNTRY_INFO!J39<>5),IF(COUNTRY_INFO!Q39>Y39,Y39,COUNTRY_INFO!Q39),0)","v":0},{"$f":"IF(AND(COUNTRY_INFO!J39>1,COUNTRY_INFO!J39<99,COUNTRY_INFO!J39<>4,COUNTRY_INFO!J39<>5), IF(Z39/COUNTRY_INFO!Q39*100<>0, IF(Z39/COUNTRY_INFO!Q39*100>100,100,Z39/COUNTRY_INFO!Q39*100), \"-\"),0)","v":0},0,0,{"$f":"IF(AND(COUNTRY_INFO!J39>1,COUNTRY_INFO!J39<99,COUNTRY_INFO!J39<>4,COUNTRY_INFO!J39<>5), IF(AC39/P39*100<>0, IF(AC39/P39*100>100,100,AC39/P39*100), \"-\"),0)","v":0},{"$f":"COUNTRY_INFO!V39","v":0},null,null,{"$f":"MAX('T1'!K39,'T2'!R39)","v":0},{"$f":"IF(AND(COUNTRY_INFO!K39>1,COUNTRY_INFO!K39<99,COUNTRY_INFO!K39<>4,COUNTRY_INFO!K39<>5),IF(COUNTRY_INFO!S39>AH39,AH39,COUNTRY_INFO!S39),0)","v":0},{"$f":"IF(AND(COUNTRY_INFO!K39>1,COUNTRY_INFO!K39<99,COUNTRY_INFO!K39<>4,COUNTRY_INFO!K39<>5), IF(AI39/COUNTRY_INFO!S39*100<>0, IF(AI39/COUNTRY_INFO!S39*100>100,100,AI39/COUNTRY_INFO!S39*100), \"-\"),0)","v":0},{"$f":"MAX('T1'!L39,'T2'!S39)","v":0},{"$f":"IF(AND(COUNTRY_INFO!K39>1,COUNTRY_INFO!K39<99,COUNTRY_INFO!K39<>4,COUNTRY_INFO!K39<>5),IF(COUNTRY_INFO!T39>AK39,AK39,COUNTRY_INFO!T39),0)","v":0},{"$f":"IF(AND(COUNTRY_INFO!K39>1,COUNTRY_INFO!K39<99,COUNTRY_INFO!K39<>4,COUNTRY_INFO!K39<>5), IF(AL39/COUNTRY_INFO!T39*100<>0, IF(AL39/COUNTRY_INFO!T39*100>100,100,AL39/COUNTRY_INFO!T39*100), \"-\"),0)","v":0},{"$f":"MAX('T1'!M39,'T2'!T39)","v":0},{"$f":"IF(AND(COUNTRY_INFO!K39>1,COUNTRY_INFO!K39<99,COUNTRY_INFO!K39<>4,COUNTRY_INFO!K39<>5),IF(COUNTRY_INFO!U39>AN39,AN39,COUNTRY_INFO!U39),0)","v":0},{"$f":"IF(AND(COUNTRY_INFO!K39>1,COUNTRY_INFO!K39<99,COUNTRY_INFO!K39<>4,COUNTRY_INFO!K39<>5), IF(AO39/COUNTRY_INFO!U39*100<>0, IF(AO39/COUNTRY_INFO!U39*100>100,100,AO39/COUNTRY_INFO!U39*100), \"-\"),0)","v":0},0,0,{"$f":"IF(AND(COUNTRY_INFO!K39>1,COUNTRY_INFO!K39<99,COUNTRY_INFO!K39<>4,COUNTRY_INFO!K39<>5), IF(AH39/AE39*100<>0, IF(AR39/AE39*100>100,100,AR39/AE39*100), \"-\"),0)","v":0},null,{"$f":"IF(AND(D39<>0, D39<>\"Unknown\",D39<>\"Stopped\",D39<>\"Not required\"),D39/COUNTRY_INFO!D39, 0)","v":0},{"$f":"IF(AND(J39<>0,J39<>\"Unknown\",J39<>\"Stopped\",J39<>\"Not required\"),J39/COUNTRY_INFO!D39, 0)","v":1},{"$f":"IF(AND(P39<>0,P39<>\"Unknown\",P39<>\"Surveillance\",P39<>\"Not required\"),P39/COUNTRY_INFO!R39, 0)","v":0},{"$f":"IF(AND(AE39<>0,AE39<>\"Unknown\",AE39<>\"Surveillance\",AE39<>\"Not required\"),AE39/COUNTRY_INFO!V39, 0)","v":0},{"$f":"IF(AU39>0,D39*PROFILE!$G$7,IF(AV39>0,J39*PROFILE!$G$7,0))","v":6176.3960497979169},{"$f":"_xlfn.IFS(OR(AU39>0,AW39>0),COUNTRY_INFO!E39, AV39>0,J39*PROFILE!$G$8,AX39>0,COUNTRY_INFO!S39,COUNTIFS(AU39:AX39,\">0\")=0,0)","v":24862.845926166163},{"$f":"_xlfn.IFS(OR(AU39>0,AW39>0),COUNTRY_INFO!F39, AV39>0,J39*PROFILE!$G$9,AX39>0,COUNTRY_INFO!T39,COUNTIFS(AU39:AX39,\">0\")=0,0)","v":69377.963943133727},{"$f":"_xlfn.IFS(AU39>0,COUNTRY_INFO!G39, AND(AV39>0,AW39=0,AX39=0),J39*PROFILE!$G$10,AND(AV39>0,AW39>0,AX39=0), MAX(J39*PROFILE!$G$10,COUNTRY_INFO!Q39),AND(AV39>0,AW39=0,AX39>0), MAX(J39*PROFILE!$G$10,COUNTRY_INFO!U39),AND(AV39=0,AW39>0,AX39>0), MAX(COUNTRY_INFO!Q39,COUNTRY_INFO!U39),AND(AV39=0,AW39>0,AX39=0),COUNTRY_INFO!Q39,AND(AV39=0,AW39=0,AX39>0),COUNTRY_INFO!U39,AND(AV39>0,AW39>0,AX39>0), MAX(J39*PROFILE!$G$10,COUNTRY_INFO!Q39,COUNTRY_INFO!U39),COUNTIFS(AU39:AX39,\">0\")=0,0)","v":124179.5676809022},224596.77360000001,"Y",{"$f":"MAX('MDA4'!R39,S39,AH39)","v":0},{"$f":"MAX('MDA1'!K39,'MDA4'!S39,'MDA3'!I39,'MDA3'!L39,V39,AK39)","v":122904},{"$f":"MAX('MDA1'!L39,'MDA4'!T39,'MDA3'!J39,'MDA3'!M39,Y39,AN39)","v":126275},249179,{"$f":"_xlfn.IFS(AND(AU39=0,AW39=0,AX39=0),0,AND(AU39=0,AW39=0,AX39>0),AI39,AND(AU39=0,AW39>0,AX39=0),T39,AND(AU39=0,AW39>0,AX39>0),MAX(T39,AI39),AND(AU39>0,AW39=0,AX39=0),MIN('MDA4'!R39,AZ39),AND(AU39>0,AW39=0,AX39>0),MIN(MAX('MDA4'!R39,AI39),AZ39),AND(AU39>0,AW39>0,AX39=0),MIN(MAX('MDA4'!R39,T39),AZ39),AND(AU39>0,AW39>0,AX39>0),MIN(MAX('MDA4'!R39,AI39,T39),AZ39))","v":0},{"$f":"_xlfn.IFS(AND(AU39=0,AV39=0,AW39=0,AX39=0),0,AND(AU39=0,AV39=0,AW39=0,AX39>0),AL39,AND(AU39=0,AV39=0,AW39>0,AX39=0),W39,AND(AU39=0,AV39=0,AW39>0,AX39>0),MAX(W39,AL39),AND(AU39=0,AV39>0,AW39=0,AX39=0),MIN(J39*PROFILE!$G$9,MAX('MDA3'!I39,'MDA3'!L39)),AND(AU39=0,AV39>0,AW39=0,AX39>0),MIN(J39*PROFILE!$G$9,MAX('MDA3'!I39,'MDA3'!L39,AL39)),AND(AU39=0,AV39>0,AW39>0,AX39=0),MIN(J39*PROFILE!$G$9,MAX('MDA3'!I39,'MDA3'!L39,W39)),AND(AU39=0,AV39>0,AW39>0,AX39>0),MIN(J39*PROFILE!$G$9,MAX('MDA3'!I39,'MDA3'!L39,W39,AL39)),AND(AU39>0,AV39=0,AW39=0,AX39=0), MIN(BA39,MAX('MDA1'!K39,'MDA4'!S39)),AND(AU39>0,AV39=0,AW39=0,AX39>0), MIN(BA39,MAX('MDA1'!K39,'MDA4'!S39,AL39)),AND(AU39>0,AV39=0,AW39>0,AX39=0),MIN(BA39,MAX('MDA1'!K39,'MDA4'!S39,W39)),AND(AU39>0,AV39=0,AW39>0,AX39>0),MIN(BA39,MAX('MDA1'!K39,'MDA4'!S39,W39,AL39)),AND(AU39>0,AV39>0,AW39=0,AX39=0),MIN(BA39, MAX('MDA1'!K39,'MDA4'!S39,MAX('MDA3'!I39,'MDA3'!L39))), AND(AU39>0,AV39>0,AW39=0,AX39>0),MIN(BA39, MAX('MDA1'!K39,'MDA4'!S39,MAX( 'MDA3'!I39,'MDA3'!L39),AL39)), AND(AU39>0,AV39>0,AW39>0,AX39=0), MIN(BA39, MAX('MDA1'!K39,'MDA4'!S39,MAX( 'MDA3'!I39,'MDA3'!L39),W39)), AND(AU39>0,AV39>0,AW39>0,AX39>0), MIN(BA39, MAX('MDA1'!K39,'MDA4'!S39,MAX( 'MDA3'!I39,'MDA3'!L39),W39,AL39)))","v":69377.963943133727},{"$f":"_xlfn.IFS(AND(AU39=0,AV39=0,AW39=0,AX39=0),0,AND(AU39=0,AV39=0,AW39=0,AX39>0),AO39,AND(AU39=0,AV39=0,AW39>0,AX39=0),Z39,AND(AU39=0,AV39=0,AW39>0,AX39>0),MAX(Z39,AO39),AND(AU39=0,AV39>0,AW39=0,AX39=0),MIN(J39*PROFILE!$G$10,MAX('MDA3'!J39,'MDA3'!J39)),AND(AU39=0,AV39>0,AW39=0,AX39>0),MIN(J39*PROFILE!$G$10,MAX('MDA3'!J39,'MDA3'!M39,AO39)),AND(AU39=0,AV39>0,AW39>0,AX39=0),MIN(J39*PROFILE!$G$10,MAX('MDA3'!J39,'MDA3'!M39,Z39)),AND(AU39=0,AV39>0,AW39>0,AX39>0),MIN(J39*PROFILE!$G$10,MAX('MDA3'!J39,'MDA3'!M39,Z39,AO39)),AND(AU39>0,AV39=0,AW39=0,AX39=0), MIN(BB39,MAX('MDA1'!L39,'MDA4'!T39)),AND(AU39>0,AV39=0,AW39=0,AX39>0), MIN(BB39,MAX('MDA1'!L39,'MDA4'!T39,AO39)),AND(AU39>0,AV39=0,AW39>0,AX39=0),MIN(BB39,MAX('MDA1'!L39,'MDA4'!T39,Z39)),AND(AU39>0,AV39=0,AW39>0,AX39>0),MIN(BB39,MAX('MDA1'!L39,'MDA4'!T39,Z39,AO39)),AND(AU39>0,AV39>0,AW39=0,AX39=0),MIN(BB39, MAX('MDA1'!L39,'MDA4'!T39,MAX( 'MDA3'!J39,'MDA3'!M39))), AND(AU39>0,AV39>0,AW39=0,AX39>0),MIN(BB39, MAX('MDA1'!L39,'MDA4'!T39,MAX( 'MDA3'!J39,'MDA3'!M39),AO39)), AND(AU39>0,AV39>0,AW39>0,AX39=0), MIN(BB39, MAX('MDA1'!L39,'MDA4'!T39,MAX( 'MDA3'!J39,'MDA3'!M39),Z39)), AND(AU39>0,AV39>0,AW39>0,AX39>0), MIN(BB39, MAX('MDA1'!L39,'MDA4'!T39,MAX( 'MDA3'!J39,'MDA3'!M39),Z39,AO39)))","v":124179.5676809022},193557.53162403591,86.180014308111097]
[{"$f":"IF(COUNTRY_INFO!A40=0,\" \",COUNTRY_INFO!A40)","v":"South Sudan"},{"$f":"IF(COUNTRY_INFO!B40=0,\" \",COUNTRY_INFO!B40)","v":"Lakes"},{"$f":"IF(COUNTRY_INFO!C40=0,\" \",COUNTRY_INFO!C40)","v":"YIROL WEST"},{"$f":"COUNTRY_INFO!M40","v":0},null,null,{"$f":"'MDA1'!M40+'MDA4'!U40","v":0},{"$f":"IF(AND(COUNTRY_INFO!H40>0,COUNTRY_INFO!H40<4),IF(D40>G40,G40,D40),0)","v":0},{"$f":"IF(AND(COUNTRY_INFO!H40>0,COUNTRY_INFO!H40<4), IF(G40/D40*100<>0, IF(G40/D40*100>100,100,G40/D40*100), \"-\"),0)","v":0},{"$f":"COUNTRY_INFO!N40","v":187798.39620000002},null,null,{"$f":"MAX('MDA1'!M40,MAX('MDA3'!I40,'MDA3'!L40)+MAX('MDA3'!J40,'MDA3'!M40))","v":68593},{"$f":"IF(AND(COUNTRY_INFO!I40>0,COUNTRY_INFO!I40<4),IF(J40>M40,M40,J40),0)","v":68593},{"$f":"IF(AND(COUNTRY_INFO!I40>0,COUNTRY_INFO!I40<4), IF(M40/J40*100<>0, IF(M40/J40*100>100,100,M40/J40*100), \"-\"),0)","v":36.524806062214921},{"$f":"COUNTRY_INFO!R40","v":0},null,null,{"$f":"MAX('MDA4'!R40,'T1'!K40, MAX(T3_R1!J40,T3_R2!J40,T3_R3!J40))","v":0},{"$f":"IF(AND(COUNTRY_INFO!J40>1,COUNTRY_INFO!J40<99,COUNTRY_INFO!J40<>4,COUNTRY_INFO!J40<>5),IF(COUNTRY_INFO!O40>S40,S40,COUNTRY_INFO!O40),0)","v":0},{"$f":"IF(AND(COUNTRY_INFO!J40>1,COUNTRY_INFO!J40<99,COUNTRY_INFO!J40<>4,COUNTRY_INFO!J40<>5), IF(T40/COUNTRY_INFO!O40*100<>0, IF(T40/COUNTRY_INFO!O40*100>100,100,T40/COUNTRY_INFO!O40*100), \"-\"),0)","v":0},{"$f":"MAX('MDA1'!K40,'MDA4'!S40, 'T1'!L40, MAX(T3_R1!K40,T3_R2!K40,T3_R3!K40))","v":0},{"$f":"IF(AND(COUNTRY_INFO!J40>1,COUNTRY_INFO!J40<99,COUNTRY_INFO!J40<>4,COUNTRY_INFO!J40<>5),IF(COUNTRY_INFO!P40>V40,V40,COUNTRY_INFO!P40),0)","v":0},{"$f":"IF(AND(COUNTRY_INFO!J40>1,COUNTRY_INFO!J40<99,COUNTRY_INFO!J40<>4,COUNTRY_INFO!J40<>5), IF(W40/COUNTRY_INFO!P40*100<>0, IF(W40/COUNTRY_INFO!P40*100>100,100,W40/COUNTRY_INFO!P40*100), \"-\"),0)","v":0},{"$f":"MAX('MDA1'!L40,'MDA4'!T40, 'T1'!M40, MAX(T3_R1!L40,T3_R2!L40,T3_R3!L40))","v":0},{"$f":"IF(AND(COUNTRY_INFO!J40>1,COUNTRY_INFO!J40<99,COUNTRY_INFO!J40<>4,COUNTRY_INFO!J40<>5),IF(COUNTRY_INFO!Q40>Y40,Y40,COUNTRY_INFO!Q40),0)","v":0},{"$f":"IF(AND(COUNTRY_INFO!J40>1,COUNTRY_INFO!J40<99,COUNTRY_INFO!J40<>4,COUNTRY_INFO!J40<>5), IF(Z40/COUNTRY_INFO!Q40*100<>0, IF(Z40/COUNTRY_INFO!Q40*100>100,100,Z40/COUNTRY_INFO!Q40*100), \"-\"),0)","v":0},0,0,{"$f":"IF(AND(COUNTRY_INFO!J40>1,COUNTRY_INFO!J40<99,COUNTRY_INFO!J40<>4,COUNTRY_INFO!J40<>5), IF(AC40/P40*100<>0, IF(AC40/P40*100>100,100,AC40/P40*100), \"-\"),0)","v":0},{"$f":"COUNTRY_INFO!V40","v":36465},null,null,{"$f":"MAX('T1'!K40,'T2'!R40)","v":0},{"$f":"IF(AND(COUNTRY_INFO!K40>1,COUNTRY_INFO!K40<99,COUNTRY_INFO!K40<>4,COUNTRY_INFO!K40<>5),IF(COUNTRY_INFO!S40>AH40,AH40,COUNTRY_INFO!S40),0)","v":0},{"$f":"IF(AND(COUNTRY_INFO!K40>1,COUNTRY_INFO!K40<99,COUNTRY_INFO!K40<>4,COUNTRY_INFO!K40<>5), IF(AI40/COUNTRY_INFO!S40*100<>0, IF(AI40/COUNTRY_INFO!S40*100>100,100,AI40/COUNTRY_INFO!S40*100), \"-\"),0)","v":"-"},{"$f":"MAX('T1'!L40,'T2'!S40)","v":0},{"$f":"IF(AND(COUNTRY_INFO!K40>1,COUNTRY_INFO!K40<99,COUNTRY_INFO!K40<>4,COUNTRY_INFO!K40<>5),IF(COUNTRY_INFO!T40>AK40,AK40,COUNTRY_INFO!T40),0)","v":0},{"$f":"IF(AND(COUNTRY_INFO!K40>1,COUNTRY_INFO!K40<99,COUNTRY_INFO!K40<>4,COUNTRY_INFO!K40<>5), IF(AL40/COUNTRY_INFO!T40*100<>0, IF(AL40/COUNTRY_INFO!T40*100>100,100,AL40/COUNTRY_INFO!T40*100), \"-\"),0)","v":"-"},{"$f":"MAX('T1'!M40,'T2'!T40)","v":0},{"$f":"IF(AND(COUNTRY_INFO!K40>1,COUNTRY_INFO!K40<99,COUNTRY_INFO!K40<>4,COUNTRY_INFO!K40<>5),IF(COUNTRY_INFO!U40>AN40,AN40,COUNTRY_INFO!U40),0)","v":0},{"$f":"IF(AND(COUNTRY_INFO!K40>1,COUNTRY_INFO!K40<99,COUNTRY_INFO!K40<>4,COUNTRY_INFO!K40<>5), IF(AO40/COUNTRY_INFO!U40*100<>0, IF(AO40/COUNTRY_INFO!U40*100>100,100,AO40/COUNTRY_INFO!U40*100), \"-\"),0)","v":"-"},0,0,{"$f":"IF(AND(COUNTRY_INFO!K40>1,COUNTRY_INFO!K40<99,COUNTRY_INFO!K40<>4,COUNTRY_INFO!K40<>5), IF(AH40/AE40*100<>0, IF(AR40/AE40*100>100,100,AR40/AE40*100), \"-\"),0)","v":"-"},null,{"$f":"IF(AND(D40<>0, D40<>\"Unknown\",D40<>\"Stopped\",D40<>\"Not required\"),D40/COUNTRY_INFO!D40, 0)","v":0},{"$f":"IF(AND(J40<>0,J40<>\"Unknown\",J40<>\"Stopped\",J40<>\"Not required\"),J40/COUNTRY_INFO!D40, 0)","v":1},{"$f":"IF(AND(P40<>0,P40<>\"Unknown\",P40<>\"Surveillance\",P40<>\"Not required\"),P40/COUNTRY_INFO!R40, 0)","v":0},{"$f":"IF(AND(AE40<>0,AE40<>\"Unknown\",AE40<>\"Surveillance\",AE40<>\"Not required\"),AE40/COUNTRY_INFO!V40, 0)","v":1},{"$f":"IF(AU40>0,D40*PROFILE!$G$7,IF(AV40>0,J40*PROFILE!$G$7,0))","v":5164.4431656611487},{"$f":"_xlfn.IFS(OR(AU40>0,AW40>0),COUNTRY_INFO!E40, AV40>0,J40*PROFILE!$G$8,AX40>0,COUNTRY_INFO!S40,COUNTIFS(AU40:AX40,\">0\")=0,0)","v":20789.268318775659},{"$f":"_xlfn.IFS(OR(AU40>0,AW40>0),COUNTRY_INFO!F40, AV40>0,J40*PROFILE!$G$9,AX40>0,COUNTRY_INFO!T40,COUNTIFS(AU40:AX40,\">0\")=0,0)","v":58010.941792718353},{"$f":"_xlfn.IFS(AU40>0,COUNTRY_INFO!G40, AND(AV40>0,AW40=0,AX40=0),J40*PROFILE!$G$10,AND(AV40>0,AW40>0,AX40=0), MAX(J40*PROFILE!$G$10,COUNTRY_INFO!Q40),AND(AV40>0,AW40=0,AX40>0), MAX(J40*PROFILE!$G$10,COUNTRY_INFO!U40),AND(AV40=0,AW40>0,AX40>0), MAX(COUNTRY_INFO!Q40,COUNTRY_INFO!U40),AND(AV40=0,AW40>0,AX40=0),COUNTRY_INFO!Q40,AND(AV40=0,AW40=0,AX40>0),COUNTRY_INFO!U40,AND(AV40>0,AW40>0,AX40>0), MAX(J40*PROFILE!$G$10,COUNTRY_INFO!Q40,COUNTRY_INFO!U40),COUNTIFS(AU40:AX40,\">0\")=0,0)","v":103833.74292284485},187798.39620000002,0,{"$f":"MAX('MDA4'!R40,S40,AH40)","v":0},{"$f":"MAX('MDA1'!K40,'MDA4'!S40,'MDA3'!I40,'MDA3'!L40,V40,AK40)","v":34054},{"$f":"MAX('MDA1'!L40,'MDA4'!T40,'MDA3'!J40,'MDA3'!M40,Y40,AN40)","v":34539},68593,{"$f":"_xlfn.IFS(AND(AU40=0,AW40=0,AX40=0),0,AND(AU40=0,AW40=0,AX40>0),AI40,AND(AU40=0,AW40>0,AX40=0),T40,AND(AU40=0,AW40>0,AX40>0),MAX(T40,AI40),AND(AU40>0,AW40=0,AX40=0),MIN('MDA4'!R40,AZ40),AND(AU40>0,AW40=0,AX40>0),MIN(MAX('MDA4'!R40,AI40),AZ40),AND(AU40>0,AW40>0,AX40=0),MIN(MAX('MDA4'!R40,T40),AZ40),AND(AU40>0,AW40>0,AX40>0),MIN(MAX('MDA4'!R40,AI40,T40),AZ40))","v":0},{"$f":"_xlfn.IFS(AND(AU40=0,AV40=0,AW40=0,AX40=0),0,AND(AU40=0,AV40=0,AW40=0,AX40>0),AL40,AND(AU40=0,AV40=0,AW40>0,AX40=0),W40,AND(AU40=0,AV40=0,AW40>0,AX40>0),MAX(W40,AL40),AND(AU40=0,AV40>0,AW40=0,AX40=0),MIN(J40*PROFILE!$G$9,MAX('MDA3'!I40,'MDA3'!L40)),AND(AU40=0,AV40>0,AW40=0,AX40>0),MIN(J40*PROFILE!$G$9,MAX('MDA3'!I40,'MDA3'!L40,AL40)),AND(AU40=0,AV40>0,AW40>0,AX40=0),MIN(J40*PROFILE!$G$9,MAX('MDA3'!I40,'MDA3'!L40,W40)),AND(AU40=0,AV40>0,AW40>0,AX40>0),MIN(J40*PROFILE!$G$9,MAX('MDA3'!I40,'MDA3'!L40,W40,AL40)),AND(AU40>0,AV40=0,AW40=0,AX40=0), MIN(BA40,MAX('MDA1'!K40,'MDA4'!S40)),AND(AU40>0,AV40=0,AW40=0,AX40>0), MIN(BA40,MAX('MDA1'!K40,'MDA4'!S40,AL40)),AND(AU40>0,AV40=0,AW40>0,AX40=0),MIN(BA40,MAX('MDA1'!K40,'MDA4'!S40,W40)),AND(AU40>0,AV40=0,AW40>0,AX40>0),MIN(BA40,MAX('MDA1'!K40,'MDA4'!S40,W40,AL40)),AND(AU40>0,AV40>0,AW40=0,AX40=0),MIN(BA40, MAX('MDA1'!K40,'MDA4'!S40,MAX('MDA3'!I40,'MDA3'!L40))), AND(AU40>0,AV40>0,AW40=0,AX40>0),MIN(BA40, MAX('MDA1'!K40,'MDA4'!S40,MAX( 'MDA3'!I40,'MDA3'!L40),AL40)), AND(AU40>0,AV40>0,AW40>0,AX40=0), MIN(BA40, MAX('MDA1'!K40,'MDA4'!S40,MAX( 'MDA3'!I40,'MDA3'!L40),W40)), AND(AU40>0,AV40>0,AW40>0,AX40>0), MIN(BA40, MAX('MDA1'!K40,'MDA4'!S40,MAX( 'MDA3'!I40,'MDA3'!L40),W40,AL40)))","v":34054},{"$f":"_xlfn.IFS(AND(AU40=0,AV40=0,AW40=0,AX40=0),0,AND(AU40=0,AV40=0,AW40=0,AX40>0),AO40,AND(AU40=0,AV40=0,AW40>0,AX40=0),Z40,AND(AU40=0,AV40=0,AW40>0,AX40>0),MAX(Z40,AO40),AND(AU40=0,AV40>0,AW40=0,AX40=0),MIN(J40*PROFILE!$G$10,MAX('MDA3'!J40,'MDA3'!J40)),AND(AU40=0,AV40>0,AW40=0,AX40>0),MIN(J40*PROFILE!$G$10,MAX('MDA3'!J40,'MDA3'!M40,AO40)),AND(AU40=0,AV40>0,AW40>0,AX40=0),MIN(J40*PROFILE!$G$10,MAX('MDA3'!J40,'MDA3'!M40,Z40)),AND(AU40=0,AV40>0,AW40>0,AX40>0),MIN(J40*PROFILE!$G$10,MAX('MDA3'!J40,'MDA3'!M40,Z40,AO40)),AND(AU40>0,AV40=0,AW40=0,AX40=0), MIN(BB40,MAX('MDA1'!L40,'MDA4'!T40)),AND(AU40>0,AV40=0,AW40=0,AX40>0), MIN(BB40,MAX('MDA1'!L40,'MDA4'!T40,AO40)),AND(AU40>0,AV40=0,AW40>0,AX40=0),MIN(BB40,MAX('MDA1'!L40,'MDA4'!T40,Z40)),AND(AU40>0,AV40=0,AW40>0,AX40>0),MIN(BB40,MAX('MDA1'!L40,'MDA4'!T40,Z40,AO40)),AND(AU40>0,AV40>0,AW40=0,AX40=0),MIN(BB40, MAX('MDA1'!L40,'MDA4'!T40,MAX( 'MDA3'!J40,'MDA3'!M40))), AND(AU40>0,AV40>0,AW40=0,AX40>0),MIN(BB40, MAX('MDA1'!L40,'MDA4'!T40,MAX( 'MDA3'!J40,'MDA3'!M40),AO40)), AND(AU40>0,AV40>0,AW40>0,AX40=0), MIN(BB40, MAX('MDA1'!L40,'MDA4'!T40,MAX( 'MDA3'!J40,'MDA3'!M40),Z40)), AND(AU40>0,AV40>0,AW40>0,AX40>0), MIN(BB40, MAX('MDA1'!L40,'MDA4'!T40,MAX( 'MDA3'!J40,'MDA3'!M40),Z40,AO40)))","v":34539},68593,36.524806062214921]
[{"$f":"IF(COUNTRY_INFO!A41=0,\" \",COUNTRY_INFO!A41)","v":"South Sudan"},{"$f":"IF(COUNTRY_INFO!B41=0,\" \",COUNTRY_INFO!B41)","v":"Lakes"},{"$f":"IF(COUNTRY_INFO!C41=0,\" \",COUNTRY_INFO!C41)","v":"YIROL EAST"},{"$f":"COUNTRY_INFO!M41","v":0},null,null,{"$f":"'MDA1'!M41+'MDA4'!U41","v":0},{"$f":"IF(AND(COUNTRY_INFO!H41>0,COUNTRY_INFO!H41<4),IF(D41>G41,G41,D41),0)","v":0},{"$f":"IF(AND(COUNTRY_INFO!H41>0,COUNTRY_INFO!H41<4), IF(G41/D41*100<>0, IF(G41/D41*100>100,100,G41/D41*100), \"-\"),0)","v":0},{"$f":"COUNTRY_INFO!N41","v":123084.55710000001},null,null,{"$f":"MAX('MDA1'!M41,MAX('MDA3'!I41,'MDA3'!L41)+MAX('MDA3'!J41,'MDA3'!M41))","v":97851},{"$f":"IF(AND(COUNTRY_INFO!I41>0,COUNTRY_INFO!I41<4),IF(J41>M41,M41,J41),0)","v":97851},{"$f":"IF(AND(COUNTRY_INFO!I41>0,COUNTRY_INFO!I41<4), IF(M41/J41*100<>0, IF(M41/J41*100>100,100,M41/J41*100), \"-\"),0)","v":79.499006459844495},{"$f":"COUNTRY_INFO!R41","v":0},null,null,{"$f":"MAX('MDA4'!R41,'T1'!K41, MAX(T3_R1!J41,T3_R2!J41,T3_R3!J41))","v":0},{"$f":"IF(AND(COUNTRY_INFO!J41>1,COUNTRY_INFO!J41<99,COUNTRY_INFO!J41<>4,COUNTRY_INFO!J41<>5),IF(COUNTRY_INFO!O41>S41,S41,COUNTRY_INFO!O41),0)","v":0},{"$f":"IF(AND(COUNTRY_INFO!J41>1,COUNTRY_INFO!J41<99,COUNTRY_INFO!J41<>4,COUNTRY_INFO!J41<>5), IF(T41/COUNTRY_INFO!O41*100<>0, IF(T41/COUNTRY_INFO!O41*100>100,100,T41/COUNTRY_INFO!O41*100), \"-\"),0)","v":0},{"$f":"MAX('MDA1'!K41,'MDA4'!S41, 'T1'!L41, MAX(T3_R1!K41,T3_R2!K41,T3_R3!K41))","v":0},{"$f":"IF(AND(COUNTRY_INFO!J41>1,COUNTRY_INFO!J41<99,COUNTRY_INFO!J41<>4,COUNTRY_INFO!J41<>5),IF(COUNTRY_INFO!P41>V41,V41,COUNTRY_INFO!P41),0)","v":0},{"$f":"IF(AND(COUNTRY_INFO!J41>1,COUNTRY_INFO!J41<99,COUNTRY_INFO!J41<>4,COUNTRY_INFO!J41<>5), IF(W41/COUNTRY_INFO!P41*100<>0, IF(W41/COUNTRY_INFO!P41*100>100,100,W41/COUNTRY_INFO!P41*100), \"-\"),0)","v":0},{"$f":"MAX('MDA1'!L41,'MDA4'!T41, 'T1'!M41, MAX(T3_R1!L41,T3_R2!L41,T3_R3!L41))","v":0},{"$f":"IF(AND(COUNTRY_INFO!J41>1,COUNTRY_INFO!J41<99,COUNTRY_INFO!J41<>4,COUNTRY_INFO!J41<>5),IF(COUNTRY_INFO!Q41>Y41,Y41,COUNTRY_INFO!Q41),0)","v":0},{"$f":"IF(AND(COUNTRY_INFO!J41>1,COUNTRY_INFO!J41<99,COUNTRY_INFO!J41<>4,COUNTRY_INFO!J41<>5), IF(Z41/COUNTRY_INFO!Q41*100<>0, IF(Z41/COUNTRY_INFO!Q41*100>100,100,Z41/COUNTRY_INFO!Q41*100), \"-\"),0)","v":0},0,0,{"$f":"IF(AND(COUNTRY_INFO!J41>1,COUNTRY_INFO!J41<99,COUNTRY_INFO!J41<>4,COUNTRY_INFO!J41<>5), IF(AC41/P41*100<>0, IF(AC41/P41*100>100,100,AC41/P41*100), \"-\"),0)","v":0},{"$f":"COUNTRY_INFO!V41","v":59401},null,null,{"$f":"MAX('T1'!K41,'T2'!R41)","v":0},{"$f":"IF(AND(COUNTRY_INFO!K41>1,COUNTRY_INFO!K41<99,COUNTRY_INFO!K41<>4,COUNTRY_INFO!K41<>5),IF(COUNTRY_INFO!S41>AH41,AH41,COUNTRY_INFO!S41),0)","v":0},{"$f":"IF(AND(COUNTRY_INFO!K41>1,COUNTRY_INFO!K41<99,COUNTRY_INFO!K41<>4,COUNTRY_INFO!K41<>5), IF(AI41/COUNTRY_INFO!S41*100<>0, IF(AI41/COUNTRY_INFO!S41*100>100,100,AI41/COUNTRY_INFO!S41*100), \"-\"),0)","v":"-"},{"$f":"MAX('T1'!L41,'T2'!S41)","v":0},{"$f":"IF(AND(COUNTRY_INFO!K41>1,COUNTRY_INFO!K41<99,COUNTRY_INFO!K41<>4,COUNTRY_INFO!K41<>5),IF(COUNTRY_INFO!T41>AK41,AK41,COUNTRY_INFO!T41),0)","v":0},{"$f":"IF(AND(COUNTRY_INFO!K41>1,COUNTRY_INFO!K41<99,COUNTRY_INFO!K41<>4,COUNTRY_INFO!K41<>5), IF(AL41/COUNTRY_INFO!T41*100<>0, IF(AL41/COUNTRY_INFO!T41*100>100,100,AL41/COUNTRY_INFO!T41*100), \"-\"),0)","v":"-"},{"$f":"MAX('T1'!M41,'T2'!T41)","v":0},{"$f":"IF(AND(COUNTRY_INFO!K41>1,COUNTRY_INFO!K41<99,COUNTRY_INFO!K41<>4,COUNTRY_INFO!K41<>5),IF(COUNTRY_INFO!U41>AN41,AN41,COUNTRY_INFO!U41),0)","v":0},{"$f":"IF(AND(COUNTRY_INFO!K41>1,COUNTRY_INFO!K41<99,COUNTRY_INFO!K41<>4,COUNTRY_INFO!K41<>5), IF(AO41/COUNTRY_INFO!U41*100<>0, IF(AO41/COUNTRY_INFO!U41*100>100,100,AO41/COUNTRY_INFO!U41*100), \"-\"),0)","v":"-"},0,0,{"$f":"IF(AND(COUNTRY_INFO!K41>1,COUNTRY_INFO!K41<99,COUNTRY_INFO!K41<>4,COUNTRY_INFO!K41<>5), IF(AH41/AE41*100<>0, IF(AR41/AE41*100>100,100,AR41/AE41*100), \"-\"),0)","v":"-"},null,{"$f":"IF(AND(D41<>0, D41<>\"Unknown\",D41<>\"Stopped\",D41<>\"Not required\"),D41/COUNTRY_INFO!D41, 0)","v":0},{"$f":"IF(AND(J41<>0,J41<>\"Unknown\",J41<>\"Stopped\",J41<>\"Not required\"),J41/COUNTRY_INFO!D41, 0)","v":1},{"$f":"IF(AND(P41<>0,P41<>\"Unknown\",P41<>\"Surveillance\",P41<>\"Not required\"),P41/COUNTRY_INFO!R41, 0)","v":0},{"$f":"IF(AND(AE41<>0,AE41<>\"Unknown\",AE41<>\"Surveillance\",AE41<>\"Not required\"),AE41/COUNTRY_INFO!V41, 0)","v":1},{"$f":"IF(AU41>0,D41*PROFILE!$G$7,IF(AV41>0,J41*PROFILE!$G$7,0))","v":3384.8169770127374},{"$f":"_xlfn.IFS(OR(AU41>0,AW41>0),COUNTRY_INFO!E41, AV41>0,J41*PROFILE!$G$8,AX41>0,COUNTRY_INFO!S41,COUNTIFS(AU41:AX41,\">0\")=0,0)","v":13625.451203132072},{"$f":"_xlfn.IFS(OR(AU41>0,AW41>0),COUNTRY_INFO!F41, AV41>0,J41*PROFILE!$G$9,AX41>0,COUNTRY_INFO!T41,COUNTIFS(AU41:AX41,\">0\")=0,0)","v":38020.830965491594},{"$f":"_xlfn.IFS(AU41>0,COUNTRY_INFO!G41, AND(AV41>0,AW41=0,AX41=0),J41*PROFILE!$G$10,AND(AV41>0,AW41>0,AX41=0), MAX(J41*PROFILE!$G$10,COUNTRY_INFO!Q41),AND(AV41>0,AW41=0,AX41>0), MAX(J41*PROFILE!$G$10,COUNTRY_INFO!U41),AND(AV41=0,AW41>0,AX41>0), MAX(COUNTRY_INFO!Q41,COUNTRY_INFO!U41),AND(AV41=0,AW41>0,AX41=0),COUNTRY_INFO!Q41,AND(AV41=0,AW41=0,AX41>0),COUNTRY_INFO!U41,AND(AV41>0,AW41>0,AX41>0), MAX(J41*PROFILE!$G$10,COUNTRY_INFO!Q41,COUNTRY_INFO!U41),COUNTIFS(AU41:AX41,\">0\")=0,0)","v":68053.457954363606},123084.55710000001,0,{"$f":"MAX('MDA4'!R41,S41,AH41)","v":0},{"$f":"MAX('MDA1'!K41,'MDA4'!S41,'MDA3'!I41,'MDA3'!L41,V41,AK41)","v":46247},{"$f":"MAX('MDA1'!L41,'MDA4'!T41,'MDA3'!J41,'MDA3'!M41,Y41,AN41)","v":51604},97851,{"$f":"_xlfn.IFS(AND(AU41=0,AW41=0,AX41=0),0,AND(AU41=0,AW41=0,AX41>0),AI41,AND(AU41=0,AW41>0,AX41=0),T41,AND(AU41=0,AW41>0,AX41>0),MAX(T41,AI41),AND(AU41>0,AW41=0,AX41=0),MIN('MDA4'!R41,AZ41),AND(AU41>0,AW41=0,AX41>0),MIN(MAX('MDA4'!R41,AI41),AZ41),AND(AU41>0,AW41>0,AX41=0),MIN(MAX('MDA4'!R41,T41),AZ41),AND(AU41>0,AW41>0,AX41>0),MIN(MAX('MDA4'!R41,AI41,T41),AZ41))","v":0},{"$f":"_xlfn.IFS(AND(AU41=0,AV41=0,AW41=0,AX41=0),0,AND(AU41=0,AV41=0,AW41=0,AX41>0),AL41,AND(AU41=0,AV41=0,AW41>0,AX41=0),W41,AND(AU41=0,AV41=0,AW41>0,AX41>0),MAX(W41,AL41),AND(AU41=0,AV41>0,AW41=0,AX41=0),MIN(J41*PROFILE!$G$9,MAX('MDA3'!I41,'MDA3'!L41)),AND(AU41=0,AV41>0,AW41=0,AX41>0),MIN(J41*PROFILE!$G$9,MAX('MDA3'!I41,'MDA3'!L41,AL41)),AND(AU41=0,AV41>0,AW41>0,AX41=0),MIN(J41*PROFILE!$G$9,MAX('MDA3'!I41,'MDA3'!L41,W41)),AND(AU41=0,AV41>0,AW41>0,AX41>0),MIN(J41*PROFILE!$G$9,MAX('MDA3'!I41,'MDA3'!L41,W41,AL41)),AND(AU41>0,AV41=0,AW41=0,AX41=0), MIN(BA41,MAX('MDA1'!K41,'MDA4'!S41)),AND(AU41>0,AV41=0,AW41=0,AX41>0), MIN(BA41,MAX('MDA1'!K41,'MDA4'!S41,AL41)),AND(AU41>0,AV41=0,AW41>0,AX41=0),MIN(BA41,MAX('MDA1'!K41,'MDA4'!S41,W41)),AND(AU41>0,AV41=0,AW41>0,AX41>0),MIN(BA41,MAX('MDA1'!K41,'MDA4'!S41,W41,AL41)),AND(AU41>0,AV41>0,AW41=0,AX41=0),MIN(BA41, MAX('MDA1'!K41,'MDA4'!S41,MAX('MDA3'!I41,'MDA3'!L41))), AND(AU41>0,AV41>0,AW41=0,AX41>0),MIN(BA41, MAX('MDA1'!K41,'MDA4'!S41,MAX( 'MDA3'!I41,'MDA3'!L41),AL41)), AND(AU41>0,AV41>0,AW41>0,AX41=0), MIN(BA41, MAX('MDA1'!K41,'MDA4'!S41,MAX( 'MDA3'!I41,'MDA3'!L41),W41)), AND(AU41>0,AV41>0,AW41>0,AX41>0), MIN(BA41, MAX('MDA1'!K41,'MDA4'!S41,MAX( 'MDA3'!I41,'MDA3'!L41),W41,AL41)))","v":38020.830965491594},{"$f":"_xlfn.IFS(AND(AU41=0,AV41=0,AW41=0,AX41=0),0,AND(AU41=0,AV41=0,AW41=0,AX41>0),AO41,AND(AU41=0,AV41=0,AW41>0,AX41=0),Z41,AND(AU41=0,AV41=0,AW41>0,AX41>0),MAX(Z41,AO41),AND(AU41=0,AV41>0,AW41=0,AX41=0),MIN(J41*PROFILE!$G$10,MAX('MDA3'!J41,'MDA3'!J41)),AND(AU41=0,AV41>0,AW41=0,AX41>0),MIN(J41*PROFILE!$G$10,MAX('MDA3'!J41,'MDA3'!M41,AO41)),AND(AU41=0,AV41>0,AW41>0,AX41=0),MIN(J41*PROFILE!$G$10,MAX('MDA3'!J41,'MDA3'!M41,Z41)),AND(AU41=0,AV41>0,AW41>0,AX41>0),MIN(J41*PROFILE!$G$10,MAX('MDA3'!J41,'MDA3'!M41,Z41,AO41)),AND(AU41>0,AV41=0,AW41=0,AX41=0), MIN(BB41,MAX('MDA1'!L41,'MDA4'!T41)),AND(AU41>0,AV41=0,AW41=0,AX41>0), MIN(BB41,MAX('MDA1'!L41,'MDA4'!T41,AO41)),AND(AU41>0,AV41=0,AW41>0,AX41=0),MIN(BB41,MAX('MDA1'!L41,'MDA4'!T41,Z41)),AND(AU41>0,AV41=0,AW41>0,AX41>0),MIN(BB41,MAX('MDA1'!L41,'MDA4'!T41,Z41,AO41)),AND(AU41>0,AV41>0,AW41=0,AX41=0),MIN(BB41, MAX('MDA1'!L41,'MDA4'!T41,MAX( 'MDA3'!J41,'MDA3'!M41))), AND(AU41>0,AV41>0,AW41=0,AX41>0),MIN(BB41, MAX('MDA1'!L41,'MDA4'!T41,MAX( 'MDA3'!J41,'MDA3'!M41),AO41)), AND(AU41>0,AV41>0,AW41>0,AX41=0), MIN(BB41, MAX('MDA1'!L41,'MDA4'!T41,MAX( 'MDA3'!J41,'MDA3'!M41),Z41)), AND(AU41>0,AV41>0,AW41>0,AX41>0), MIN(BB41, MAX('MDA1'!L41,'MDA4'!T41,MAX( 'MDA3'!J41,'MDA3'!M41),Z41,AO41)))","v":51604},89624.830965491594,72.815658663560797]
[{"$f":"IF(COUNTRY_INFO!A42=0,\" \",COUNTRY_INFO!A42)","v":"South Sudan"},{"$f":"IF(COUNTRY_INFO!B42=0,\" \",COUNTRY_INFO!B42)","v":"Lakes"},{"$f":"IF(COUNTRY_INFO!C42=0,\" \",COUNTRY_INFO!C42)","v":"AWERIAL"},{"$f":"COUNTRY_INFO!M42","v":86286.179700000008},null,null,{"$f":"'MDA1'!M42+'MDA4'!U42","v":80787},{"$f":"IF(AND(COUNTRY_INFO!H42>0,COUNTRY_INFO!H42<4),IF(D42>G42,G42,D42),0)","v":80787},{"$f":"IF(AND(COUNTRY_INFO!H42>0,COUNTRY_INFO!H42<4), IF(G42/D42*100<>0, IF(G42/D42*100>100,100,G42/D42*100), \"-\"),0)","v":93.626812869546924},{"$f":"COUNTRY_INFO!N42","v":86286.179700000008},null,null,{"$f":"MAX('MDA1'!M42,MAX('MDA3'!I42,'MDA3'!L42)+MAX('MDA3'!J42,'MDA3'!M42))","v":80787},{"$f":"IF(AND(COUNTRY_INFO!I42>0,COUNTRY_INFO!I42<4),IF(J42>M42,M42,J42),0)","v":80787},{"$f":"IF(AND(COUNTRY_INFO!I42>0,COUNTRY_INFO!I42<4), IF(M42/J42*100<>0, IF(M42/J42*100>100,100,M42/J42*100), \"-\"),0)","v":93.626812869546924},{"$f":"COUNTRY_INFO!R42","v":0},null,null,{"$f":"MAX('MDA4'!R42,'T1'!K42, MAX(T3_R1!J42,T3_R2!J42,T3_R3!J42))","v":0},{"$f":"IF(AND(COUNTRY_INFO!J42>1,COUNTRY_INFO!J42<99,COUNTRY_INFO!J42<>4,COUNTRY_INFO!J42<>5),IF(COUNTRY_INFO!O42>S42,S42,COUNTRY_INFO!O42),0)","v":0},{"$f":"IF(AND(COUNTRY_INFO!J42>1,COUNTRY_INFO!J42<99,COUNTRY_INFO!J42<>4,COUNTRY_INFO!J42<>5), IF(T42/COUNTRY_INFO!O42*100<>0, IF(T42/COUNTRY_INFO!O42*100>100,100,T42/COUNTRY_INFO!O42*100), \"-\"),0)","v":0},{"$f":"MAX('MDA1'!K42,'MDA4'!S42, 'T1'!L42, MAX(T3_R1!K42,T3_R2!K42,T3_R3!K42))","v":39859},{"$f":"IF(AND(COUNTRY_INFO!J42>1,COUNTRY_INFO!J42<99,COUNTRY_INFO!J42<>4,COUNTRY_INFO!J42<>5),IF(COUNTRY_INFO!P42>V42,V42,COUNTRY_INFO!P42),0)","v":0},{"$f":"IF(AND(COUNTRY_INFO!J42>1,COUNTRY_INFO!J42<99,COUNTRY_INFO!J42<>4,COUNTRY_INFO!J42<>5), IF(W42/COUNTRY_INFO!P42*100<>0, IF(W42/COUNTRY_INFO!P42*100>100,100,W42/COUNTRY_INFO!P42*100), \"-\"),0)","v":0},{"$f":"MAX('MDA1'!L42,'MDA4'!T42, 'T1'!M42, MAX(T3_R1!L42,T3_R2!L42,T3_R3!L42))","v":40928},{"$f":"IF(AND(COUNTRY_INFO!J42>1,COUNTRY_INFO!J42<99,COUNTRY_INFO!J42<>4,COUNTRY_INFO!J42<>5),IF(COUNTRY_INFO!Q42>Y42,Y42,COUNTRY_INFO!Q42),0)","v":0},{"$f":"IF(AND(COUNTRY_INFO!J42>1,COUNTRY_INFO!J42<99,COUNTRY_INFO!J42<>4,COUNTRY_INFO!J42<>5), IF(Z42/COUNTRY_INFO!Q42*100<>0, IF(Z42/COUNTRY_INFO!Q42*100>100,100,Z42/COUNTRY_INFO!Q42*100), \"-\"),0)","v":0},80787,0,{"$f":"IF(AND(COUNTRY_INFO!J42>1,COUNTRY_INFO!J42<99,COUNTRY_INFO!J42<>4,COUNTRY_INFO!J42<>5), IF(AC42/P42*100<>0, IF(AC42/P42*100>100,100,AC42/P42*100), \"-\"),0)","v":0},{"$f":"COUNTRY_INFO!V42","v":65237},null,null,{"$f":"MAX('T1'!K42,'T2'!R42)","v":0},{"$f":"IF(AND(COUNTRY_INFO!K42>1,COUNTRY_INFO!K42<99,COUNTRY_INFO!K42<>4,COUNTRY_INFO!K42<>5),IF(COUNTRY_INFO!S42>AH42,AH42,COUNTRY_INFO!S42),0)","v":0},{"$f":"IF(AND(COUNTRY_INFO!K42>1,COUNTRY_INFO!K42<99,COUNTRY_INFO!K42<>4,COUNTRY_INFO!K42<>5), IF(AI42/COUNTRY_INFO!S42*100<>0, IF(AI42/COUNTRY_INFO!S42*100>100,100,AI42/COUNTRY_INFO!S42*100), \"-\"),0)","v":"-"},{"$f":"MAX('T1'!L42,'T2'!S42)","v":0},{"$f":"IF(AND(COUNTRY_INFO!K42>1,COUNTRY_INFO!K42<99,COUNTRY_INFO!K42<>4,COUNTRY_INFO!K42<>5),IF(COUNTRY_INFO!T42>AK42,AK42,COUNTRY_INFO!T42),0)","v":0},{"$f":"IF(AND(COUNTRY_INFO!K42>1,COUNTRY_INFO!K42<99,COUNTRY_INFO!K42<>4,COUNTRY_INFO!K42<>5), IF(AL42/COUNTRY_INFO!T42*100<>0, IF(AL42/COUNTRY_INFO!T42*100>100,100,AL42/COUNTRY_INFO!T42*100), \"-\"),0)","v":"-"},{"$f":"MAX('T1'!M42,'T2'!T42)","v":0},{"$f":"IF(AND(COUNTRY_INFO!K42>1,COUNTRY_INFO!K42<99,COUNTRY_INFO!K42<>4,COUNTRY_INFO!K42<>5),IF(COUNTRY_INFO!U42>AN42,AN42,COUNTRY_INFO!U42),0)","v":0},{"$f":"IF(AND(COUNTRY_INFO!K42>1,COUNTRY_INFO!K42<99,COUNTRY_INFO!K42<>4,COUNTRY_INFO!K42<>5), IF(AO42/COUNTRY_INFO!U42*100<>0, IF(AO42/COUNTRY_INFO!U42*100>100,100,AO42/COUNTRY_INFO!U42*100), \"-\"),0)","v":"-"},0,0,{"$f":"IF(AND(COUNTRY_INFO!K42>1,COUNTRY_INFO!K42<99,COUNTRY_INFO!K42<>4,COUNTRY_INFO!K42<>5), IF(AH42/AE42*100<>0, IF(AR42/AE42*100>100,100,AR42/AE42*100), \"-\"),0)","v":"-"},null,{"$f":"IF(AND(D42<>0, D42<>\"Unknown\",D42<>\"Stopped\",D42<>\"Not required\"),D42/COUNTRY_INFO!D42, 0)","v":1},{"$f":"IF(AND(J42<>0,J42<>\"Unknown\",J42<>\"Stopped\",J42<>\"Not required\"),J42/COUNTRY_INFO!D42, 0)","v":1},{"$f":"IF(AND(P42<>0,P42<>\"Unknown\",P42<>\"Surveillance\",P42<>\"Not required\"),P42/COUNTRY_INFO!R42, 0)","v":0},{"$f":"IF(AND(AE42<>0,AE42<>\"Unknown\",AE42<>\"Surveillance\",AE42<>\"Not required\"),AE42/COUNTRY_INFO!V42, 0)","v":1},{"$f":"IF(AU42>0,D42*PROFILE!$G$7,IF(AV42>0,J42*PROFILE!$G$7,0))","v":2372.8640928759683},{"$f":"_xlfn.IFS(OR(AU42>0,AW42>0),COUNTRY_INFO!E42, AV42>0,J42*PROFILE!$G$8,AX42>0,COUNTRY_INFO!S42,COUNTIFS(AU42:AX42,\">0\")=0,0)","v":9552},{"$f":"_xlfn.IFS(OR(AU42>0,AW42>0),COUNTRY_INFO!F42, AV42>0,J42*PROFILE!$G$9,AX42>0,COUNTRY_INFO!T42,COUNTIFS(AU42:AX42,\">0\")=0,0)","v":26654},{"$f":"_xlfn.IFS(AU42>0,COUNTRY_INFO!G42, AND(AV42>0,AW42=0,AX42=0),J42*PROFILE!$G$10,AND(AV42>0,AW42>0,AX42=0), MAX(J42*PROFILE!$G$10,COUNTRY_INFO!Q42),AND(AV42>0,AW42=0,AX42>0), MAX(J42*PROFILE!$G$10,COUNTRY_INFO!U42),AND(AV42=0,AW42>0,AX42>0), MAX(COUNTRY_INFO!Q42,COUNTRY_INFO!U42),AND(AV42=0,AW42>0,AX42=0),COUNTRY_INFO!Q42,AND(AV42=0,AW42=0,AX42>0),COUNTRY_INFO!U42,AND(AV42>0,AW42>0,AX42>0), MAX(J42*PROFILE!$G$10,COUNTRY_INFO!Q42,COUNTRY_INFO!U42),COUNTIFS(AU42:AX42,\">0\")=0,0)","v":47708},86286.864092875971,0,{"$f":"MAX('MDA4'!R42,S42,AH42)","v":0},{"$f":"MAX('MDA1'!K42,'MDA4'!S42,'MDA3'!I42,'MDA3'!L42,V42,AK42)","v":39859},{"$f":"MAX('MDA1'!L42,'MDA4'!T42,'MDA3'!J42,'MDA3'!M42,Y42,AN42)","v":40928},80787,{"$f":"_xlfn.IFS(AND(AU42=0,AW42=0,AX42=0),0,AND(AU42=0,AW42=0,AX42>0),AI42,AND(AU42=0,AW42>0,AX42=0),T42,AND(AU42=0,AW42>0,AX42>0),MAX(T42,AI42),AND(AU42>0,AW42=0,AX42=0),MIN('MDA4'!R42,AZ42),AND(AU42>0,AW42=0,AX42>0),MIN(MAX('MDA4'!R42,AI42),AZ42),AND(AU42>0,AW42>0,AX42=0),MIN(MAX('MDA4'!R42,T42),AZ42),AND(AU42>0,AW42>0,AX42>0),MIN(MAX('MDA4'!R42,AI42,T42),AZ42))","v":0},{"$f":"_xlfn.IFS(AND(AU42=0,AV42=0,AW42=0,AX42=0),0,AND(AU42=0,AV42=0,AW42=0,AX42>0),AL42,AND(AU42=0,AV42=0,AW42>0,AX42=0),W42,AND(AU42=0,AV42=0,AW42>0,AX42>0),MAX(W42,AL42),AND(AU42=0,AV42>0,AW42=0,AX42=0),MIN(J42*PROFILE!$G$9,MAX('MDA3'!I42,'MDA3'!L42)),AND(AU42=0,AV42>0,AW42=0,AX42>0),MIN(J42*PROFILE!$G$9,MAX('MDA3'!I42,'MDA3'!L42,AL42)),AND(AU42=0,AV42>0,AW42>0,AX42=0),MIN(J42*PROFILE!$G$9,MAX('MDA3'!I42,'MDA3'!L42,W42)),AND(AU42=0,AV42>0,AW42>0,AX42>0),MIN(J42*PROFILE!$G$9,MAX('MDA3'!I42,'MDA3'!L42,W42,AL42)),AND(AU42>0,AV42=0,AW42=0,AX42=0), MIN(BA42,MAX('MDA1'!K42,'MDA4'!S42)),AND(AU42>0,AV42=0,AW42=0,AX42>0), MIN(BA42,MAX('MDA1'!K42,'MDA4'!S42,AL42)),AND(AU42>0,AV42=0,AW42>0,AX42=0),MIN(BA42,MAX('MDA1'!K42,'MDA4'!S42,W42)),AND(AU42>0,AV42=0,AW42>0,AX42>0),MIN(BA42,MAX('MDA1'!K42,'MDA4'!S42,W42,AL42)),AND(AU42>0,AV42>0,AW42=0,AX42=0),MIN(BA42, MAX('MDA1'!K42,'MDA4'!S42,MAX('MDA3'!I42,'MDA3'!L42))), AND(AU42>0,AV42>0,AW42=0,AX42>0),MIN(BA42, MAX('MDA1'!K42,'MDA4'!S42,MAX( 'MDA3'!I42,'MDA3'!L42),AL42)), AND(AU42>0,AV42>0,AW42>0,AX42=0), MIN(BA42, MAX('MDA1'!K42,'MDA4'!S42,MAX( 'MDA3'!I42,'MDA3'!L42),W42)), AND(AU42>0,AV42>0,AW42>0,AX42>0), MIN(BA42, MAX('MDA1'!K42,'MDA4'!S42,MAX( 'MDA3'!I42,'MDA3'!L42),W42,AL42)))","v":26654},{"$f":"_xlfn.IFS(AND(AU42=0,AV42=0,AW42=0,AX42=0),0,AND(AU42=0,AV42=0,AW42=0,AX42>0),AO42,AND(AU42=0,AV42=0,AW42>0,AX42=0),Z42,AND(AU42=0,AV42=0,AW42>0,AX42>0),MAX(Z42,AO42),AND(AU42=0,AV42>0,AW42=0,AX42=0),MIN(J42*PROFILE!$G$10,MAX('MDA3'!J42,'MDA3'!J42)),AND(AU42=0,AV42>0,AW42=0,AX42>0),MIN(J42*PROFILE!$G$10,MAX('MDA3'!J42,'MDA3'!M42,AO42)),AND(AU42=0,AV42>0,AW42>0,AX42=0),MIN(J42*PROFILE!$G$10,MAX('MDA3'!J42,'MDA3'!M42,Z42)),AND(AU42=0,AV42>0,AW42>0,AX42>0),MIN(J42*PROFILE!$G$10,MAX('MDA3'!J42,'MDA3'!M42,Z42,AO42)),AND(AU42>0,AV42=0,AW42=0,AX42=0), MIN(BB42,MAX('MDA1'!L42,'MDA4'!T42)),AND(AU42>0,AV42=0,AW42=0,AX42>0), MIN(BB42,MAX('MDA1'!L42,'MDA4'!T42,AO42)),AND(AU42>0,AV42=0,AW42>0,AX42=0),MIN(BB42,MAX('MDA1'!L42,'MDA4'!T42,Z42)),AND(AU42>0,AV42=0,AW42>0,AX42>0),MIN(BB42,MAX('MDA1'!L42,'MDA4'!T42,Z42,AO42)),AND(AU42>0,AV42>0,AW42=0,AX42=0),MIN(BB42, MAX('MDA1'!L42,'MDA4'!T42,MAX( 'MDA3'!J42,'MDA3'!M42))), AND(AU42>0,AV42>0,AW42=0,AX42>0),MIN(BB42, MAX('MDA1'!L42,'MDA4'!T42,MAX( 'MDA3'!J42,'MDA3'!M42),AO42)), AND(AU42>0,AV42>0,AW42>0,AX42=0), MIN(BB42, MAX('MDA1'!L42,'MDA4'!T42,MAX( 'MDA3'!J42,'MDA3'!M42),Z42)), AND(AU42>0,AV42>0,AW42>0,AX42>0), MIN(BB42, MAX('MDA1'!L42,'MDA4'!T42,MAX( 'MDA3'!J42,'MDA3'!M42),Z42,AO42)))","v":40928},67582,78.322466241509531]
[{"$f":"IF(COUNTRY_INFO!A43=0,\" \",COUNTRY_INFO!A43)","v":"South Sudan"},{"$f":"IF(COUNTRY_INFO!B43=0,\" \",COUNTRY_INFO!B43)","v":"Northern Bahr El Ghazal"},{"$f":"IF(COUNTRY_INFO!C43=0,\" \",COUNTRY_INFO!C43)","v":"AWIEL NORTH"},{"$f":"COUNTRY_INFO!M43","v":0},null,null,{"$f":"'MDA1'!M43+'MDA4'!U43","v":0},{"$f":"IF(AND(COUNTRY_INFO!H43>0,COUNTRY_INFO!H43<4),IF(D43>G43,G43,D43),0)","v":0},{"$f":"IF(AND(COUNTRY_INFO!H43>0,COUNTRY_INFO!H43<4), IF(G43/D43*100<>0, IF(G43/D43*100>100,100,G43/D43*100), \"-\"),0)","v":0},{"$f":"COUNTRY_INFO!N43","v":215185.52970000001},null,null,{"$f":"MAX('MDA1'!M43,MAX('MDA3'!I43,'MDA3'!L43)+MAX('MDA3'!J43,'MDA3'!M43))","v":172557},{"$f":"IF(AND(COUNTRY_INFO!I43>0,COUNTRY_INFO!I43<4),IF(J43>M43,M43,J43),0)","v":172557},{"$f":"IF(AND(COUNTRY_INFO!I43>0,COUNTRY_INFO!I43<4), IF(M43/J43*100<>0, IF(M43/J43*100>100,100,M43/J43*100), \"-\"),0)","v":80.189871614773352},{"$f":"COUNTRY_INFO!R43","v":0},null,null,{"$f":"MAX('MDA4'!R43,'T1'!K43, MAX(T3_R1!J43,T3_R2!J43,T3_R3!J43))","v":0},{"$f":"IF(AND(COUNTRY_INFO!J43>1,COUNTRY_INFO!J43<99,COUNTRY_INFO!J43<>4,COUNTRY_INFO!J43<>5),IF(COUNTRY_INFO!O43>S43,S43,COUNTRY_INFO!O43),0)","v":0},{"$f":"IF(AND(COUNTRY_INFO!J43>1,COUNTRY_INFO!J43<99,COUNTRY_INFO!J43<>4,COUNTRY_INFO!J43<>5), IF(T43/COUNTRY_INFO!O43*100<>0, IF(T43/COUNTRY_INFO!O43*100>100,100,T43/COUNTRY_INFO!O43*100), \"-\"),0)","v":0},{"$f":"MAX('MDA1'!K43,'MDA4'!S43, 'T1'!L43, MAX(T3_R1!K43,T3_R2!K43,T3_R3!K43))","v":0},{"$f":"IF(AND(COUNTRY_INFO!J43>1,COUNTRY_INFO!J43<99,COUNTRY_INFO!J43<>4,COUNTRY_INFO!J43<>5),IF(COUNTRY_INFO!P43>V43,V43,COUNTRY_INFO!P43),0)","v":0},{"$f":"IF(AND(COUNTRY_INFO!J43>1,COUNTRY_INFO!J43<99,COUNTRY_INFO!J43<>4,COUNTRY_INFO!J43<>5), IF(W43/COUNTRY_INFO!P43*100<>0, IF(W43/COUNTRY_INFO!P43*100>100,100,W43/COUNTRY_INFO!P43*100), \"-\"),0)","v":0},{"$f":"MAX('MDA1'!L43,'MDA4'!T43, 'T1'!M43, MAX(T3_R1!L43,T3_R2!L43,T3_R3!L43))","v":0},{"$f":"IF(AND(COUNTRY_INFO!J43>1,COUNTRY_INFO!J43<99,COUNTRY_INFO!J43<>4,COUNTRY_INFO!J43<>5),IF(COUNTRY_INFO!Q43>Y43,Y43,COUNTRY_INFO!Q43),0)","v":0},{"$f":"IF(AND(COUNTRY_INFO!J43>1,COUNTRY_INFO!J43<99,COUNTRY_INFO!J43<>4,COUNTRY_INFO!J43<>5), IF(Z43/COUNTRY_INFO!Q43*100<>0, IF(Z43/COUNTRY_INFO!Q43*100>100,100,Z43/COUNTRY_INFO!Q43*100), \"-\"),0)","v":0},0,0,{"$f":"IF(AND(COUNTRY_INFO!J43>1,COUNTRY_INFO!J43<99,COUNTRY_INFO!J43<>4,COUNTRY_INFO!J43<>5), IF(AC43/P43*100<>0, IF(AC43/P43*100>100,100,AC43/P43*100), \"-\"),0)","v":0},{"$f":"COUNTRY_INFO!V43","v":0},null,null,{"$f":"MAX('T1'!K43,'T2'!R43)","v":0},{"$f":"IF(AND(COUNTRY_INFO!K43>1,COUNTRY_INFO!K43<99,COUNTRY_INFO!K43<>4,COUNTRY_INFO!K43<>5),IF(COUNTRY_INFO!S43>AH43,AH43,COUNTRY_INFO!S43),0)","v":0},{"$f":"IF(AND(COUNTRY_INFO!K43>1,COUNTRY_INFO!K43<99,COUNTRY_INFO!K43<>4,COUNTRY_INFO!K43<>5), IF(AI43/COUNTRY_INFO!S43*100<>0, IF(AI43/COUNTRY_INFO!S43*100>100,100,AI43/COUNTRY_INFO!S43*100), \"-\"),0)","v":0},{"$f":"MAX('T1'!L43,'T2'!S43)","v":0},{"$f":"IF(AND(COUNTRY_INFO!K43>1,COUNTRY_INFO!K43<99,COUNTRY_INFO!K43<>4,COUNTRY_INFO!K43<>5),IF(COUNTRY_INFO!T43>AK43,AK43,COUNTRY_INFO!T43),0)","v":0},{"$f":"IF(AND(COUNTRY_INFO!K43>1,COUNTRY_INFO!K43<99,COUNTRY_INFO!K43<>4,COUNTRY_INFO!K43<>5), IF(AL43/COUNTRY_INFO!T43*100<>0, IF(AL43/COUNTRY_INFO!T43*100>100,100,AL43/COUNTRY_INFO!T43*100), \"-\"),0)","v":0},{"$f":"MAX('T1'!M43,'T2'!T43)","v":0},{"$f":"IF(AND(COUNTRY_INFO!K43>1,COUNTRY_INFO!K43<99,COUNTRY_INFO!K43<>4,COUNTRY_INFO!K43<>5),IF(COUNTRY_INFO!U43>AN43,AN43,COUNTRY_INFO!U43),0)","v":0},{"$f":"IF(AND(COUNTRY_INFO!K43>1,COUNTRY_INFO!K43<99,COUNTRY_INFO!K43<>4,COUNTRY_INFO!K43<>5), IF(AO43/COUNTRY_INFO!U43*100<>0, IF(AO43/COUNTRY_INFO!U43*100>100,100,AO43/COUNTRY_INFO!U43*100), \"-\"),0)","v":0},0,0,{"$f":"IF(AND(COUNTRY_INFO!K43>1,COUNTRY_INFO!K43<99,COUNTRY_INFO!K43<>4,COUNTRY_INFO!K43<>5), IF(AH43/AE43*100<>0, IF(AR43/AE43*100>100,100,AR43/AE43*100), \"-\"),0)","v":0},null,{"$f":"IF(AND(D43<>0, D43<>\"Unknown\",D43<>\"Stopped\",D43<>\"Not required\"),D43/COUNTRY_INFO!D43, 0)","v":0},{"$f":"IF(AND(J43<>0,J43<>\"Unknown\",J43<>\"Stopped\",J43<>\"Not required\"),J43/COUNTRY_INFO!D43, 0)","v":1},{"$f":"IF(AND(P43<>0,P43<>\"Unknown\",P43<>\"Surveillance\",P43<>\"Not required\"),P43/COUNTRY_INFO!R43, 0)","v":0},{"$f":"IF(AND(AE43<>0,AE43<>\"Unknown\",AE43<>\"Surveillance\",AE43<>\"Not required\"),AE43/COUNTRY_INFO!V43, 0)","v":0},{"$f":"IF(AU43>0,D43*PROFILE!$G$7,IF(AV43>0,J43*PROFILE!$G$7,0))","v":5917.5874804853047},{"$f":"_xlfn.IFS(OR(AU43>0,AW43>0),COUNTRY_INFO!E43, AV43>0,J43*PROFILE!$G$8,AX43>0,COUNTRY_INFO!S43,COUNTIFS(AU43:AX43,\">0\")=0,0)","v":23821.02193507001},{"$f":"_xlfn.IFS(OR(AU43>0,AW43>0),COUNTRY_INFO!F43, AV43>0,J43*PROFILE!$G$9,AX43>0,COUNTRY_INFO!T43,COUNTIFS(AU43:AX43,\">0\")=0,0)","v":66470.829840143051},{"$f":"_xlfn.IFS(AU43>0,COUNTRY_INFO!G43, AND(AV43>0,AW43=0,AX43=0),J43*PROFILE!$G$10,AND(AV43>0,AW43>0,AX43=0), MAX(J43*PROFILE!$G$10,COUNTRY_INFO!Q43),AND(AV43>0,AW43=0,AX43>0), MAX(J43*PROFILE!$G$10,COUNTRY_INFO!U43),AND(AV43=0,AW43>0,AX43>0), MAX(COUNTRY_INFO!Q43,COUNTRY_INFO!U43),AND(AV43=0,AW43>0,AX43=0),COUNTRY_INFO!Q43,AND(AV43=0,AW43=0,AX43>0),COUNTRY_INFO!U43,AND(AV43>0,AW43>0,AX43>0), MAX(J43*PROFILE!$G$10,COUNTRY_INFO!Q43,COUNTRY_INFO!U43),COUNTIFS(AU43:AX43,\">0\")=0,0)","v":118976.09044430165},215185.52970000001,"Y",{"$f":"MAX('MDA4'!R43,S43,AH43)","v":0},{"$f":"MAX('MDA1'!K43,'MDA4'!S43,'MDA3'!I43,'MDA3'!L43,V43,AK43)","v":82043},{"$f":"MAX('MDA1'!L43,'MDA4'!T43,'MDA3'!J43,'MDA3'!M43,Y43,AN43)","v":90514},172557,{"$f":"_xlfn.IFS(AND(AU43=0,AW43=0,AX43=0),0,AND(AU43=0,AW43=0,AX43>0),AI43,AND(AU43=0,AW43>0,AX43=0),T43,AND(AU43=0,AW43>0,AX43>0),MAX(T43,AI43),AND(AU43>0,AW43=0,AX43=0),MIN('MDA4'!R43,AZ43),AND(AU43>0,AW43=0,AX43>0),MIN(MAX('MDA4'!R43,AI43),AZ43),AND(AU43>0,AW43>0,AX43=0),MIN(MAX('MDA4'!R43,T43),AZ43),AND(AU43>0,AW43>0,AX43>0),MIN(MAX('MDA4'!R43,AI43,T43),AZ43))","v":0},{"$f":"_xlfn.IFS(AND(AU43=0,AV43=0,AW43=0,AX43=0),0,AND(AU43=0,AV43=0,AW43=0,AX43>0),AL43,AND(AU43=0,AV43=0,AW43>0,AX43=0),W43,AND(AU43=0,AV43=0,AW43>0,AX43>0),MAX(W43,AL43),AND(AU43=0,AV43>0,AW43=0,AX43=0),MIN(J43*PROFILE!$G$9,MAX('MDA3'!I43,'MDA3'!L43)),AND(AU43=0,AV43>0,AW43=0,AX43>0),MIN(J43*PROFILE!$G$9,MAX('MDA3'!I43,'MDA3'!L43,AL43)),AND(AU43=0,AV43>0,AW43>0,AX43=0),MIN(J43*PROFILE!$G$9,MAX('MDA3'!I43,'MDA3'!L43,W43)),AND(AU43=0,AV43>0,AW43>0,AX43>0),MIN(J43*PROFILE!$G$9,MAX('MDA3'!I43,'MDA3'!L43,W43,AL43)),AND(AU43>0,AV43=0,AW43=0,AX43=0), MIN(BA43,MAX('MDA1'!K43,'MDA4'!S43)),AND(AU43>0,AV43=0,AW43=0,AX43>0), MIN(BA43,MAX('MDA1'!K43,'MDA4'!S43,AL43)),AND(AU43>0,AV43=0,AW43>0,AX43=0),MIN(BA43,MAX('MDA1'!K43,'MDA4'!S43,W43)),AND(AU43>0,AV43=0,AW43>0,AX43>0),MIN(BA43,MAX('MDA1'!K43,'MDA4'!S43,W43,AL43)),AND(AU43>0,AV43>0,AW43=0,AX43=0),MIN(BA43, MAX('MDA1'!K43,'MDA4'!S43,MAX('MDA3'!I43,'MDA3'!L43))), AND(AU43>0,AV43>0,AW43=0,AX43>0),MIN(BA43, MAX('MDA1'!K43,'MDA4'!S43,MAX( 'MDA3'!I43,'MDA3'!L43),AL43)), AND(AU43>0,AV43>0,AW43>0,AX43=0), MIN(BA43, MAX('MDA1'!K43,'MDA4'!S43,MAX( 'MDA3'!I43,'MDA3'!L43),W43)), AND(AU43>0,AV43>0,AW43>0,AX43>0), MIN(BA43, MAX('MDA1'!K43,'MDA4'!S43,MAX( 'MDA3'!I43,'MDA3'!L43),W43,AL43)))","v":66470.829840143051},{"$f":"_xlfn.IFS(AND(AU43=0,AV43=0,AW43=0,AX43=0),0,AND(AU43=0,AV43=0,AW43=0,AX43>0),AO43,AND(AU43=0,AV43=0,AW43>0,AX43=0),Z43,AND(AU43=0,AV43=0,AW43>0,AX43>0),MAX(Z43,AO43),AND(AU43=0,AV43>0,AW43=0,AX43=0),MIN(J43*PROFILE!$G$10,MAX('MDA3'!J43,'MDA3'!J43)),AND(AU43=0,AV43>0,AW43=0,AX43>0),MIN(J43*PROFILE!$G$10,MAX('MDA3'!J43,'MDA3'!M43,AO43)),AND(AU43=0,AV43>0,AW43>0,AX43=0),MIN(J43*PROFILE!$G$10,MAX('MDA3'!J43,'MDA3'!M43,Z43)),AND(AU43=0,AV43>0,AW43>0,AX43>0),MIN(J43*PROFILE!$G$10,MAX('MDA3'!J43,'MDA3'!M43,Z43,AO43)),AND(AU43>0,AV43=0,AW43=0,AX43=0), MIN(BB43,MAX('MDA1'!L43,'MDA4'!T43)),AND(AU43>0,AV43=0,AW43=0,AX43>0), MIN(BB43,MAX('MDA1'!L43,'MDA4'!T43,AO43)),AND(AU43>0,AV43=0,AW43>0,AX43=0),MIN(BB43,MAX('MDA1'!L43,'MDA4'!T43,Z43)),AND(AU43>0,AV43=0,AW43>0,AX43>0),MIN(BB43,MAX('MDA1'!L43,'MDA4'!T43,Z43,AO43)),AND(AU43>0,AV43>0,AW43=0,AX43=0),MIN(BB43, MAX('MDA1'!L43,'MDA4'!T43,MAX( 'MDA3'!J43,'MDA3'!M43))), AND(AU43>0,AV43>0,AW43=0,AX43>0),MIN(BB43, MAX('MDA1'!L43,'MDA4'!T43,MAX( 'MDA3'!J43,'MDA3'!M43),AO43)), AND(AU43>0,AV43>0,AW43>0,AX43=0), MIN(BB43, MAX('MDA1'!L43,'MDA4'!T43,MAX( 'MDA3'!J43,'MDA3'!M43),Z43)), AND(AU43>0,AV43>0,AW43>0,AX43>0), MIN(BB43, MAX('MDA1'!L43,'MDA4'!T43,MAX( 'MDA3'!J43,'MDA3'!M43),Z43,AO43)))","v":90514},156984.82984014304,72.95324646550479]
[{"$f":"IF(COUNTRY_INFO!A44=0,\" \",COUNTRY_INFO!A44)","v":"South Sudan"},{"$f":"IF(COUNTRY_INFO!B44=0,\" \",COUNTRY_INFO!B44)","v":"Northern Bahr El Ghazal"},{"$f":"IF(COUNTRY_INFO!C44=0,\" \",COUNTRY_INFO!C44)","v":"AWIEL EAST"},{"$f":"COUNTRY_INFO!M44","v":516926.70770000003},null,null,{"$f":"'MDA1'!M44+'MDA4'!U44","v":337490},{"$f":"IF(AND(COUNTRY_INFO!H44>0,COUNTRY_INFO!H44<4),IF(D44>G44,G44,D44),0)","v":337490},{"$f":"IF(AND(COUNTRY_INFO!H44>0,COUNTRY_INFO!H44<4), IF(G44/D44*100<>0, IF(G44/D44*100>100,100,G44/D44*100), \"-\"),0)","v":65.287785477678071},{"$f":"COUNTRY_INFO!N44","v":516926.70770000003},null,null,{"$f":"MAX('MDA1'!M44,MAX('MDA3'!I44,'MDA3'!L44)+MAX('MDA3'!J44,'MDA3'!M44))","v":337490},{"$f":"IF(AND(COUNTRY_INFO!I44>0,COUNTRY_INFO!I44<4),IF(J44>M44,M44,J44),0)","v":337490},{"$f":"IF(AND(COUNTRY_INFO!I44>0,COUNTRY_INFO!I44<4), IF(M44/J44*100<>0, IF(M44/J44*100>100,100,M44/J44*100), \"-\"),0)","v":65.287785477678071},{"$f":"COUNTRY_INFO!R44","v":0},null,null,{"$f":"MAX('MDA4'!R44,'T1'!K44, MAX(T3_R1!J44,T3_R2!J44,T3_R3!J44))","v":0},{"$f":"IF(AND(COUNTRY_INFO!J44>1,COUNTRY_INFO!J44<99,COUNTRY_INFO!J44<>4,COUNTRY_INFO!J44<>5),IF(COUNTRY_INFO!O44>S44,S44,COUNTRY_INFO!O44),0)","v":0},{"$f":"IF(AND(COUNTRY_INFO!J44>1,COUNTRY_INFO!J44<99,COUNTRY_INFO!J44<>4,COUNTRY_INFO!J44<>5), IF(T44/COUNTRY_INFO!O44*100<>0, IF(T44/COUNTRY_INFO!O44*100>100,100,T44/COUNTRY_INFO!O44*100), \"-\"),0)","v":0},{"$f":"MAX('MDA1'!K44,'MDA4'!S44, 'T1'!L44, MAX(T3_R1!K44,T3_R2!K44,T3_R3!K44))","v":165096},{"$f":"IF(AND(COUNTRY_INFO!J44>1,COUNTRY_INFO!J44<99,COUNTRY_INFO!J44<>4,COUNTRY_INFO!J44<>5),IF(COUNTRY_INFO!P44>V44,V44,COUNTRY_INFO!P44),0)","v":0},{"$f":"IF(AND(COUNTRY_INFO!J44>1,COUNTRY_INFO!J44<99,COUNTRY_INFO!J44<>4,COUNTRY_INFO!J44<>5), IF(W44/COUNTRY_INFO!P44*100<>0, IF(W44/COUNTRY_INFO!P44*100>100,100,W44/COUNTRY_INFO!P44*100), \"-\"),0)","v":0},{"$f":"MAX('MDA1'!L44,'MDA4'!T44, 'T1'!M44, MAX(T3_R1!L44,T3_R2!L44,T3_R3!L44))","v":172394},{"$f":"IF(AND(COUNTRY_INFO!J44>1,COUNTRY_INFO!J44<99,COUNTRY_INFO!J44<>4,COUNTRY_INFO!J44<>5),IF(COUNTRY_INFO!Q44>Y44,Y44,COUNTRY_INFO!Q44),0)","v":0},{"$f":"IF(AND(COUNTRY_INFO!J44>1,COUNTRY_INFO!J44<99,COUNTRY_INFO!J44<>4,COUNTRY_INFO!J44<>5), IF(Z44/COUNTRY_INFO!Q44*100<>0, IF(Z44/COUNTRY_INFO!Q44*100>100,100,Z44/COUNTRY_INFO!Q44*100), \"-\"),0)","v":0},337490,0,{"$f":"IF(AND(COUNTRY_INFO!J44>1,COUNTRY_INFO!J44<99,COUNTRY_INFO!J44<>4,COUNTRY_INFO!J44<>5), IF(AC44/P44*100<>0, IF(AC44/P44*100>100,100,AC44/P44*100), \"-\"),0)","v":0},{"$f":"COUNTRY_INFO!V44","v":0},null,null,{"$f":"MAX('T1'!K44,'T2'!R44)","v":0},{"$f":"IF(AND(COUNTRY_INFO!K44>1,COUNTRY_INFO!K44<99,COUNTRY_INFO!K44<>4,COUNTRY_INFO!K44<>5),IF(COUNTRY_INFO!S44>AH44,AH44,COUNTRY_INFO!S44),0)","v":0},{"$f":"IF(AND(COUNTRY_INFO!K44>1,COUNTRY_INFO!K44<99,COUNTRY_INFO!K44<>4,COUNTRY_INFO!K44<>5), IF(AI44/COUNTRY_INFO!S44*100<>0, IF(AI44/COUNTRY_INFO!S44*100>100,100,AI44/COUNTRY_INFO!S44*100), \"-\"),0)","v":0},{"$f":"MAX('T1'!L44,'T2'!S44)","v":0},{"$f":"IF(AND(COUNTRY_INFO!K44>1,COUNTRY_INFO!K44<99,COUNTRY_INFO!K44<>4,COUNTRY_INFO!K44<>5),IF(COUNTRY_INFO!T44>AK44,AK44,COUNTRY_INFO!T44),0)","v":0},{"$f":"IF(AND(COUNTRY_INFO!K44>1,COUNTRY_INFO!K44<99,COUNTRY_INFO!K44<>4,COUNTRY_INFO!K44<>5), IF(AL44/COUNTRY_INFO!T44*100<>0, IF(AL44/COUNTRY_INFO!T44*100>100,100,AL44/COUNTRY_INFO!T44*100), \"-\"),0)","v":0},{"$f":"MAX('T1'!M44,'T2'!T44)","v":0},{"$f":"IF(AND(COUNTRY_INFO!K44>1,COUNTRY_INFO!K44<99,COUNTRY_INFO!K44<>4,COUNTRY_INFO!K44<>5),IF(COUNTRY_INFO!U44>AN44,AN44,COUNTRY_INFO!U44),0)","v":0},{"$f":"IF(AND(COUNTRY_INFO!K44>1,COUNTRY_INFO!K44<99,COUNTRY_INFO!K44<>4,COUNTRY_INFO!K44<>5), IF(AO44/COUNTRY_INFO!U44*100<>0, IF(AO44/COUNTRY_INFO!U44*100>100,100,AO44/COUNTRY_INFO!U44*100), \"-\"),0)","v":0},0,0,{"$f":"IF(AND(COUNTRY_INFO!K44>1,COUNTRY_INFO!K44<99,COUNTRY_INFO!K44<>4,COUNTRY_INFO!K44<>5), IF(AH44/AE44*100<>0, IF(AR44/AE44*100>100,100,AR44/AE44*100), \"-\"),0)","v":0},null,{"$f":"IF(AND(D44<>0, D44<>\"Unknown\",D44<>\"Stopped\",D44<>\"Not required\"),D44/COUNTRY_INFO!D44, 0)","v":1},{"$f":"IF(AND(J44<>0,J44<>\"Unknown\",J44<>\"Stopped\",J44<>\"Not required\"),J44/COUNTRY_INFO!D44, 0)","v":1},{"$f":"IF(AND(P44<>0,P44<>\"Unknown\",P44<>\"Surveillance\",P44<>\"Not required\"),P44/COUNTRY_INFO!R44, 0)","v":0},{"$f":"IF(AND(AE44<>0,AE44<>\"Unknown\",AE44<>\"Surveillance\",AE44<>\"Not required\"),AE44/COUNTRY_INFO!V44, 0)","v":0},{"$f":"IF(AU44>0,D44*PROFILE!$G$7,IF(AV44>0,J44*PROFILE!$G$7,0))","v":14215.449422080757},{"$f":"_xlfn.IFS(OR(AU44>0,AW44>0),COUNTRY_INFO!E44, AV44>0,J44*PROFILE!$G$8,AX44>0,COUNTRY_INFO!S44,COUNTIFS(AU44:AX44,\">0\")=0,0)","v":57224},{"$f":"_xlfn.IFS(OR(AU44>0,AW44>0),COUNTRY_INFO!F44, AV44>0,J44*PROFILE!$G$9,AX44>0,COUNTRY_INFO!T44,COUNTIFS(AU44:AX44,\">0\")=0,0)","v":159679},{"$f":"_xlfn.IFS(AU44>0,COUNTRY_INFO!G44, AND(AV44>0,AW44=0,AX44=0),J44*PROFILE!$G$10,AND(AV44>0,AW44>0,AX44=0), MAX(J44*PROFILE!$G$10,COUNTRY_INFO!Q44),AND(AV44>0,AW44=0,AX44>0), MAX(J44*PROFILE!$G$10,COUNTRY_INFO!U44),AND(AV44=0,AW44>0,AX44>0), MAX(COUNTRY_INFO!Q44,COUNTRY_INFO!U44),AND(AV44=0,AW44>0,AX44=0),COUNTRY_INFO!Q44,AND(AV44=0,AW44=0,AX44>0),COUNTRY_INFO!U44,AND(AV44>0,AW44>0,AX44>0), MAX(J44*PROFILE!$G$10,COUNTRY_INFO!Q44,COUNTRY_INFO!U44),COUNTIFS(AU44:AX44,\">0\")=0,0)","v":285809},516927.44942208077,"Y",{"$f":"MAX('MDA4'!R44,S44,AH44)","v":0},{"$f":"MAX('MDA1'!K44,'MDA4'!S44,'MDA3'!I44,'MDA3'!L44,V44,AK44)","v":165096},{"$f":"MAX('MDA1'!L44,'MDA4'!T44,'MDA3'!J44,'MDA3'!M44,Y44,AN44)","v":172394},337490,{"$f":"_xlfn.IFS(AND(AU44=0,AW44=0,AX44=0),0,AND(AU44=0,AW44=0,AX44>0),AI44,AND(AU44=0,AW44>0,AX44=0),T44,AND(AU44=0,AW44>0,AX44>0),MAX(T44,AI44),AND(AU44>0,AW44=0,AX44=0),MIN('MDA4'!R44,AZ44),AND(AU44>0,AW44=0,AX44>0),MIN(MAX('MDA4'!R44,AI44),AZ44),AND(AU44>0,AW44>0,AX44=0),MIN(MAX('MDA4'!R44,T44),AZ44),AND(AU44>0,AW44>0,AX44>0),MIN(MAX('MDA4'!R44,AI44,T44),AZ44))","v":0},{"$f":"_xlfn.IFS(AND(AU44=0,AV44=0,AW44=0,AX44=0),0,AND(AU44=0,AV44=0,AW44=0,AX44>0),AL44,AND(AU44=0,AV44=0,AW44>0,AX44=0),W44,AND(AU44=0,AV44=0,AW44>0,AX44>0),MAX(W44,AL44),AND(AU44=0,AV44>0,AW44=0,AX44=0),MIN(J44*PROFILE!$G$9,MAX('MDA3'!I44,'MDA3'!L44)),AND(AU44=0,AV44>0,AW44=0,AX44>0),MIN(J44*PROFILE!$G$9,MAX('MDA3'!I44,'MDA3'!L44,AL44)),AND(AU44=0,AV44>0,AW44>0,AX44=0),MIN(J44*PROFILE!$G$9,MAX('MDA3'!I44,'MDA3'!L44,W44)),AND(AU44=0,AV44>0,AW44>0,AX44>0),MIN(J44*PROFILE!$G$9,MAX('MDA3'!I44,'MDA3'!L44,W44,AL44)),AND(AU44>0,AV44=0,AW44=0,AX44=0), MIN(BA44,MAX('MDA1'!K44,'MDA4'!S44)),AND(AU44>0,AV44=0,AW44=0,AX44>0), MIN(BA44,MAX('MDA1'!K44,'MDA4'!S44,AL44)),AND(AU44>0,AV44=0,AW44>0,AX44=0),MIN(BA44,MAX('MDA1'!K44,'MDA4'!S44,W44)),AND(AU44>0,AV44=0,AW44>0,AX44>0),MIN(BA44,MAX('MDA1'!K44,'MDA4'!S44,W44,AL44)),AND(AU44>0,AV44>0,AW44=0,AX44=0),MIN(BA44, MAX('MDA1'!K44,'MDA4'!S44,MAX('MDA3'!I44,'MDA3'!L44))), AND(AU44>0,AV44>0,AW44=0,AX44>0),MIN(BA44, MAX('MDA1'!K44,'MDA4'!S44,MAX( 'MDA3'!I44,'MDA3'!L44),AL44)), AND(AU44>0,AV44>0,AW44>0,AX44=0), MIN(BA44, MAX('MDA1'!K44,'MDA4'!S44,MAX( 'MDA3'!I44,'MDA3'!L44),W44)), AND(AU44>0,AV44>0,AW44>0,AX44>0), MIN(BA44, MAX('MDA1'!K44,'MDA4'!S44,MAX( 'MDA3'!I44,'MDA3'!L44),W44,AL44)))","v":159679},{"$f":"_xlfn.IFS(AND(AU44=0,AV44=0,AW44=0,AX44=0),0,AND(AU44=0,AV44=0,AW44=0,AX44>0),AO44,AND(AU44=0,AV44=0,AW44>0,AX44=0),Z44,AND(AU44=0,AV44=0,AW44>0,AX44>0),MAX(Z44,AO44),AND(AU44=0,AV44>0,AW44=0,AX44=0),MIN(J44*PROFILE!$G$10,MAX('MDA3'!J44,'MDA3'!J44)),AND(AU44=0,AV44>0,AW44=0,AX44>0),MIN(J44*PROFILE!$G$10,MAX('MDA3'!J44,'MDA3'!M44,AO44)),AND(AU44=0,AV44>0,AW44>0,AX44=0),MIN(J44*PROFILE!$G$10,MAX('MDA3'!J44,'MDA3'!M44,Z44)),AND(AU44=0,AV44>0,AW44>0,AX44>0),MIN(J44*PROFILE!$G$10,MAX('MDA3'!J44,'MDA3'!M44,Z44,AO44)),AND(AU44>0,AV44=0,AW44=0,AX44=0), MIN(BB44,MAX('MDA1'!L44,'MDA4'!T44)),AND(AU44>0,AV44=0,AW44=0,AX44>0), MIN(BB44,MAX('MDA1'!L44,'MDA4'!T44,AO44)),AND(AU44>0,AV44=0,AW44>0,AX44=0),MIN(BB44,MAX('MDA1'!L44,'MDA4'!T44,Z44)),AND(AU44>0,AV44=0,AW44>0,AX44>0),MIN(BB44,MAX('MDA1'!L44,'MDA4'!T44,Z44,AO44)),AND(AU44>0,AV44>0,AW44=0,AX44=0),MIN(BB44, MAX('MDA1'!L44,'MDA4'!T44,MAX( 'MDA3'!J44,'MDA3'!M44))), AND(AU44>0,AV44>0,AW44=0,AX44>0),MIN(BB44, MAX('MDA1'!L44,'MDA4'!T44,MAX( 'MDA3'!J44,'MDA3'!M44),AO44)), AND(AU44>0,AV44>0,AW44>0,AX44=0), MIN(BB44, MAX('MDA1'!L44,'MDA4'!T44,MAX( 'MDA3'!J44,'MDA3'!M44),Z44)), AND(AU44>0,AV44>0,AW44>0,AX44>0), MIN(BB44, MAX('MDA1'!L44,'MDA4'!T44,MAX( 'MDA3'!J44,'MDA3'!M44),Z44,AO44)))","v":172394},332073,64.239769114844648]
[{"$f":"IF(COUNTRY_INFO!A45=0,\" \",COUNTRY_INFO!A45)","v":"South Sudan"},{"$f":"IF(COUNTRY_INFO!B45=0,\" \",COUNTRY_INFO!B45)","v":"Northern Bahr El Ghazal"},{"$f":"IF(COUNTRY_INFO!C45=0,\" \",COUNTRY_INFO!C45)","v":"AWIEL SOUTH"},{"$f":"COUNTRY_INFO!M45","v":0},null,null,{"$f":"'MDA1'!M45+'MDA4'!U45","v":0},{"$f":"IF(AND(COUNTRY_INFO!H45>0,COUNTRY_INFO!H45<4),IF(D45>G45,G45,D45),0)","v":0},{"$f":"IF(AND(COUNTRY_INFO!H45>0,COUNTRY_INFO!H45<4), IF(G45/D45*100<>0, IF(G45/D45*100>100,100,G45/D45*100), \"-\"),0)","v":0},{"$f":"COUNTRY_INFO!N45","v":122619.88290000001},null,null,{"$f":"MAX('MDA1'!M45,MAX('MDA3'!I45,'MDA3'!L45)+MAX('MDA3'!J45,'MDA3'!M45))","v":108712},{"$f":"IF(AND(COUNTRY_INFO!I45>0,COUNTRY_INFO!I45<4),IF(J45>M45,M45,J45),0)","v":108712},{"$f":"IF(AND(COUNTRY_INFO!I45>0,COUNTRY_INFO!I45<4), IF(M45/J45*100<>0, IF(M45/J45*100>100,100,M45/J45*100), \"-\"),0)","v":88.657726160656765},{"$f":"COUNTRY_INFO!R45","v":0},null,null,{"$f":"MAX('MDA4'!R45,'T1'!K45, MAX(T3_R1!J45,T3_R2!J45,T3_R3!J45))","v":0},{"$f":"IF(AND(COUNTRY_INFO!J45>1,COUNTRY_INFO!J45<99,COUNTRY_INFO!J45<>4,COUNTRY_INFO!J45<>5),IF(COUNTRY_INFO!O45>S45,S45,COUNTRY_INFO!O45),0)","v":0},{"$f":"IF(AND(COUNTRY_INFO!J45>1,COUNTRY_INFO!J45<99,COUNTRY_INFO!J45<>4,COUNTRY_INFO!J45<>5), IF(T45/COUNTRY_INFO!O45*100<>0, IF(T45/COUNTRY_INFO!O45*100>100,100,T45/COUNTRY_INFO!O45*100), \"-\"),0)","v":0},{"$f":"MAX('MDA1'!K45,'MDA4'!S45, 'T1'!L45, MAX(T3_R1!K45,T3_R2!K45,T3_R3!K45))","v":0},{"$f":"IF(AND(COUNTRY_INFO!J45>1,COUNTRY_INFO!J45<99,COUNTRY_INFO!J45<>4,COUNTRY_INFO!J45<>5),IF(COUNTRY_INFO!P45>V45,V45,COUNTRY_INFO!P45),0)","v":0},{"$f":"IF(AND(COUNTRY_INFO!J45>1,COUNTRY_INFO!J45<99,COUNTRY_INFO!J45<>4,COUNTRY_INFO!J45<>5), IF(W45/COUNTRY_INFO!P45*100<>0, IF(W45/COUNTRY_INFO!P45*100>100,100,W45/COUNTRY_INFO!P45*100), \"-\"),0)","v":0},{"$f":"MAX('MDA1'!L45,'MDA4'!T45, 'T1'!M45, MAX(T3_R1!L45,T3_R2!L45,T3_R3!L45))","v":0},{"$f":"IF(AND(COUNTRY_INFO!J45>1,COUNTRY_INFO!J45<99,COUNTRY_INFO!J45<>4,COUNTRY_INFO!J45<>5),IF(COUNTRY_INFO!Q45>Y45,Y45,COUNTRY_INFO!Q45),0)","v":0},{"$f":"IF(AND(COUNTRY_INFO!J45>1,COUNTRY_INFO!J45<99,COUNTRY_INFO!J45<>4,COUNTRY_INFO!J45<>5), IF(Z45/COUNTRY_INFO!Q45*100<>0, IF(Z45/COUNTRY_INFO!Q45*100>100,100,Z45/COUNTRY_INFO!Q45*100), \"-\"),0)","v":0},0,0,{"$f":"IF(AND(COUNTRY_INFO!J45>1,COUNTRY_INFO!J45<99,COUNTRY_INFO!J45<>4,COUNTRY_INFO!J45<>5), IF(AC45/P45*100<>0, IF(AC45/P45*100>100,100,AC45/P45*100), \"-\"),0)","v":0},{"$f":"COUNTRY_INFO!V45","v":0},null,null,{"$f":"MAX('T1'!K45,'T2'!R45)","v":0},{"$f":"IF(AND(COUNTRY_INFO!K45>1,COUNTRY_INFO!K45<99,COUNTRY_INFO!K45<>4,COUNTRY_INFO!K45<>5),IF(COUNTRY_INFO!S45>AH45,AH45,COUNTRY_INFO!S45),0)","v":0},{"$f":"IF(AND(COUNTRY_INFO!K45>1,COUNTRY_INFO!K45<99,COUNTRY_INFO!K45<>4,COUNTRY_INFO!K45<>5), IF(AI45/COUNTRY_INFO!S45*100<>0, IF(AI45/COUNTRY_INFO!S45*100>100,100,AI45/COUNTRY_INFO!S45*100), \"-\"),0)","v":0},{"$f":"MAX('T1'!L45,'T2'!S45)","v":0},{"$f":"IF(AND(COUNTRY_INFO!K45>1,COUNTRY_INFO!K45<99,COUNTRY_INFO!K45<>4,COUNTRY_INFO!K45<>5),IF(COUNTRY_INFO!T45>AK45,AK45,COUNTRY_INFO!T45),0)","v":0},{"$f":"IF(AND(COUNTRY_INFO!K45>1,COUNTRY_INFO!K45<99,COUNTRY_INFO!K45<>4,COUNTRY_INFO!K45<>5), IF(AL45/COUNTRY_INFO!T45*100<>0, IF(AL45/COUNTRY_INFO!T45*100>100,100,AL45/COUNTRY_INFO!T45*100), \"-\"),0)","v":0},{"$f":"MAX('T1'!M45,'T2'!T45)","v":0},{"$f":"IF(AND(COUNTRY_INFO!K45>1,COUNTRY_INFO!K45<99,COUNTRY_INFO!K45<>4,COUNTRY_INFO!K45<>5),IF(COUNTRY_INFO!U45>AN45,AN45,COUNTRY_INFO!U45),0)","v":0},{"$f":"IF(AND(COUNTRY_INFO!K45>1,COUNTRY_INFO!K45<99,COUNTRY_INFO!K45<>4,COUNTRY_INFO!K45<>5), IF(AO45/COUNTRY_INFO!U45*100<>0, IF(AO45/COUNTRY_INFO!U45*100>100,100,AO45/COUNTRY_INFO!U45*100), \"-\"),0)","v":0},0,0,{"$f":"IF(AND(COUNTRY_INFO!K45>1,COUNTRY_INFO!K45<99,COUNTRY_INFO!K45<>4,COUNTRY_INFO!K45<>5), IF(AH45/AE45*100<>0, IF(AR45/AE45*100>100,100,AR45/AE45*100), \"-\"),0)","v":0},null,{"$f":"IF(AND(D45<>0, D45<>\"Unknown\",D45<>\"Stopped\",D45<>\"Not required\"),D45/COUNTRY_INFO!D45, 0)","v":0},{"$f":"IF(AND(J45<>0,J45<>\"Unknown\",J45<>\"Stopped\",J45<>\"Not required\"),J45/COUNTRY_INFO!D45, 0)","v":1},{"$f":"IF(AND(P45<>0,P45<>\"Unknown\",P45<>\"Surveillance\",P45<>\"Not required\"),P45/COUNTRY_INFO!R45, 0)","v":0},{"$f":"IF(AND(AE45<>0,AE45<>\"Unknown\",AE45<>\"Surveillance\",AE45<>\"Not required\"),AE45/COUNTRY_INFO!V45, 0)","v":0},{"$f":"IF(AU45>0,D45*PROFILE!$G$7,IF(AV45>0,J45*PROFILE!$G$7,0))","v":3372.0384680104917},{"$f":"_xlfn.IFS(OR(AU45>0,AW45>0),COUNTRY_INFO!E45, AV45>0,J45*PROFILE!$G$8,AX45>0,COUNTRY_INFO!S45,COUNTIFS(AU45:AX45,\">0\")=0,0)","v":13574.01180418042},{"$f":"_xlfn.IFS(OR(AU45>0,AW45>0),COUNTRY_INFO!F45, AV45>0,J45*PROFILE!$G$9,AX45>0,COUNTRY_INFO!T45,COUNTIFS(AU45:AX45,\">0\")=0,0)","v":37877.293062537028},{"$f":"_xlfn.IFS(AU45>0,COUNTRY_INFO!G45, AND(AV45>0,AW45=0,AX45=0),J45*PROFILE!$G$10,AND(AV45>0,AW45>0,AX45=0), MAX(J45*PROFILE!$G$10,COUNTRY_INFO!Q45),AND(AV45>0,AW45=0,AX45>0), MAX(J45*PROFILE!$G$10,COUNTRY_INFO!U45),AND(AV45=0,AW45>0,AX45>0), MAX(COUNTRY_INFO!Q45,COUNTRY_INFO!U45),AND(AV45=0,AW45>0,AX45=0),COUNTRY_INFO!Q45,AND(AV45=0,AW45=0,AX45>0),COUNTRY_INFO!U45,AND(AV45>0,AW45>0,AX45>0), MAX(J45*PROFILE!$G$10,COUNTRY_INFO!Q45,COUNTRY_INFO!U45),COUNTIFS(AU45:AX45,\">0\")=0,0)","v":67796.539565272062},122619.8829,"Y",{"$f":"MAX('MDA4'!R45,S45,AH45)","v":0},{"$f":"MAX('MDA1'!K45,'MDA4'!S45,'MDA3'!I45,'MDA3'!L45,V45,AK45)","v":52460},{"$f":"MAX('MDA1'!L45,'MDA4'!T45,'MDA3'!J45,'MDA3'!M45,Y45,AN45)","v":56252},108712,{"$f":"_xlfn.IFS(AND(AU45=0,AW45=0,AX45=0),0,AND(AU45=0,AW45=0,AX45>0),AI45,AND(AU45=0,AW45>0,AX45=0),T45,AND(AU45=0,AW45>0,AX45>0),MAX(T45,AI45),AND(AU45>0,AW45=0,AX45=0),MIN('MDA4'!R45,AZ45),AND(AU45>0,AW45=0,AX45>0),MIN(MAX('MDA4'!R45,AI45),AZ45),AND(AU45>0,AW45>0,AX45=0),MIN(MAX('MDA4'!R45,T45),AZ45),AND(AU45>0,AW45>0,AX45>0),MIN(MAX('MDA4'!R45,AI45,T45),AZ45))","v":0},{"$f":"_xlfn.IFS(AND(AU45=0,AV45=0,AW45=0,AX45=0),0,AND(AU45=0,AV45=0,AW45=0,AX45>0),AL45,AND(AU45=0,AV45=0,AW45>0,AX45=0),W45,AND(AU45=0,AV45=0,AW45>0,AX45>0),MAX(W45,AL45),AND(AU45=0,AV45>0,AW45=0,AX45=0),MIN(J45*PROFILE!$G$9,MAX('MDA3'!I45,'MDA3'!L45)),AND(AU45=0,AV45>0,AW45=0,AX45>0),MIN(J45*PROFILE!$G$9,MAX('MDA3'!I45,'MDA3'!L45,AL45)),AND(AU45=0,AV45>0,AW45>0,AX45=0),MIN(J45*PROFILE!$G$9,MAX('MDA3'!I45,'MDA3'!L45,W45)),AND(AU45=0,AV45>0,AW45>0,AX45>0),MIN(J45*PROFILE!$G$9,MAX('MDA3'!I45,'MDA3'!L45,W45,AL45)),AND(AU45>0,AV45=0,AW45=0,AX45=0), MIN(BA45,MAX('MDA1'!K45,'MDA4'!S45)),AND(AU45>0,AV45=0,AW45=0,AX45>0), MIN(BA45,MAX('MDA1'!K45,'MDA4'!S45,AL45)),AND(AU45>0,AV45=0,AW45>0,AX45=0),MIN(BA45,MAX('MDA1'!K45,'MDA4'!S45,W45)),AND(AU45>0,AV45=0,AW45>0,AX45>0),MIN(BA45,MAX('MDA1'!K45,'MDA4'!S45,W45,AL45)),AND(AU45>0,AV45>0,AW45=0,AX45=0),MIN(BA45, MAX('MDA1'!K45,'MDA4'!S45,MAX('MDA3'!I45,'MDA3'!L45))), AND(AU45>0,AV45>0,AW45=0,AX45>0),MIN(BA45, MAX('MDA1'!K45,'MDA4'!S45,MAX( 'MDA3'!I45,'MDA3'!L45),AL45)), AND(AU45>0,AV45>0,AW45>0,AX45=0), MIN(BA45, MAX('MDA1'!K45,'MDA4'!S45,MAX( 'MDA3'!I45,'MDA3'!L45),W45)), AND(AU45>0,AV45>0,AW45>0,AX45>0), MIN(BA45, MAX('MDA1'!K45,'MDA4'!S45,MAX( 'MDA3'!I45,'MDA3'!L45),W45,AL45)))","v":37877.293062537028},{"$f":"_xlfn.IFS(AND(AU45=0,AV45=0,AW45=0,AX45=0),0,AND(AU45=0,AV45=0,AW45=0,AX45>0),AO45,AND(AU45=0,AV45=0,AW45>0,AX45=0),Z45,AND(AU45=0,AV45=0,AW45>0,AX45>0),MAX(Z45,AO45),AND(AU45=0,AV45>0,AW45=0,AX45=0),MIN(J45*PROFILE!$G$10,MAX('MDA3'!J45,'MDA3'!J45)),AND(AU45=0,AV45>0,AW45=0,AX45>0),MIN(J45*PROFILE!$G$10,MAX('MDA3'!J45,'MDA3'!M45,AO45)),AND(AU45=0,AV45>0,AW45>0,AX45=0),MIN(J45*PROFILE!$G$10,MAX('MDA3'!J45,'MDA3'!M45,Z45)),AND(AU45=0,AV45>0,AW45>0,AX45>0),MIN(J45*PROFILE!$G$10,MAX('MDA3'!J45,'MDA3'!M45,Z45,AO45)),AND(AU45>0,AV45=0,AW45=0,AX45=0), MIN(BB45,MAX('MDA1'!L45,'MDA4'!T45)),AND(AU45>0,AV45=0,AW45=0,AX45>0), MIN(BB45,MAX('MDA1'!L45,'MDA4'!T45,AO45)),AND(AU45>0,AV45=0,AW45>0,AX45=0),MIN(BB45,MAX('MDA1'!L45,'MDA4'!T45,Z45)),AND(AU45>0,AV45=0,AW45>0,AX45>0),MIN(BB45,MAX('MDA1'!L45,'MDA4'!T45,Z45,AO45)),AND(AU45>0,AV45>0,AW45=0,AX45=0),MIN(BB45, MAX('MDA1'!L45,'MDA4'!T45,MAX( 'MDA3'!J45,'MDA3'!M45))), AND(AU45>0,AV45>0,AW45=0,AX45>0),MIN(BB45, MAX('MDA1'!L45,'MDA4'!T45,MAX( 'MDA3'!J45,'MDA3'!M45),AO45)), AND(AU45>0,AV45>0,AW45>0,AX45=0), MIN(BB45, MAX('MDA1'!L45,'MDA4'!T45,MAX( 'MDA3'!J45,'MDA3'!M45),Z45)), AND(AU45>0,AV45>0,AW45>0,AX45>0), MIN(BB45, MAX('MDA1'!L45,'MDA4'!T45,MAX( 'MDA3'!J45,'MDA3'!M45),Z45,AO45)))","v":56252},94129.293062537035,76.765114136752317]
[{"$f":"IF(COUNTRY_INFO!A46=0,\" \",COUNTRY_INFO!A46)","v":"South Sudan"},{"$f":"IF(COUNTRY_INFO!B46=0,\" \",COUNTRY_INFO!B46)","v":"Northern Bahr El Ghazal"},{"$f":"IF(COUNTRY_INFO!C46=0,\" \",COUNTRY_INFO!C46)","v":"AWIEL WEST"},{"$f":"COUNTRY_INFO!M46","v":277698.0013},null,null,{"$f":"'MDA1'!M46+'MDA4'!U46","v":193851},{"$f":"IF(AND(COUNTRY_INFO!H46>0,COUNTRY_INFO!H46<4),IF(D46>G46,G46,D46),0)","v":193851},{"$f":"IF(AND(COUNTRY_INFO!H46>0,COUNTRY_INFO!H46<4), IF(G46/D46*100<>0, IF(G46/D46*100>100,100,G46/D46*100), \"-\"),0)","v":69.806408073704773},{"$f":"COUNTRY_INFO!N46","v":277698.0013},null,null,{"$f":"MAX('MDA1'!M46,MAX('MDA3'!I46,'MDA3'!L46)+MAX('MDA3'!J46,'MDA3'!M46))","v":193851},{"$f":"IF(AND(COUNTRY_INFO!I46>0,COUNTRY_INFO!I46<4),IF(J46>M46,M46,J46),0)","v":193851},{"$f":"IF(AND(COUNTRY_INFO!I46>0,COUNTRY_INFO!I46<4), IF(M46/J46*100<>0, IF(M46/J46*100>100,100,M46/J46*100), \"-\"),0)","v":69.806408073704773},{"$f":"COUNTRY_INFO!R46","v":0},null,null,{"$f":"MAX('MDA4'!R46,'T1'!K46, MAX(T3_R1!J46,T3_R2!J46,T3_R3!J46))","v":0},{"$f":"IF(AND(COUNTRY_INFO!J46>1,COUNTRY_INFO!J46<99,COUNTRY_INFO!J46<>4,COUNTRY_INFO!J46<>5),IF(COUNTRY_INFO!O46>S46,S46,COUNTRY_INFO!O46),0)","v":0},{"$f":"IF(AND(COUNTRY_INFO!J46>1,COUNTRY_INFO!J46<99,COUNTRY_INFO!J46<>4,COUNTRY_INFO!J46<>5), IF(T46/COUNTRY_INFO!O46*100<>0, IF(T46/COUNTRY_INFO!O46*100>100,100,T46/COUNTRY_INFO!O46*100), \"-\"),0)","v":0},{"$f":"MAX('MDA1'!K46,'MDA4'!S46, 'T1'!L46, MAX(T3_R1!K46,T3_R2!K46,T3_R3!K46))","v":89690},{"$f":"IF(AND(COUNTRY_INFO!J46>1,COUNTRY_INFO!J46<99,COUNTRY_INFO!J46<>4,COUNTRY_INFO!J46<>5),IF(COUNTRY_INFO!P46>V46,V46,COUNTRY_INFO!P46),0)","v":0},{"$f":"IF(AND(COUNTRY_INFO!J46>1,COUNTRY_INFO!J46<99,COUNTRY_INFO!J46<>4,COUNTRY_INFO!J46<>5), IF(W46/COUNTRY_INFO!P46*100<>0, IF(W46/COUNTRY_INFO!P46*100>100,100,W46/COUNTRY_INFO!P46*100), \"-\"),0)","v":0},{"$f":"MAX('MDA1'!L46,'MDA4'!T46, 'T1'!M46, MAX(T3_R1!L46,T3_R2!L46,T3_R3!L46))","v":104161},{"$f":"IF(AND(COUNTRY_INFO!J46>1,COUNTRY_INFO!J46<99,COUNTRY_INFO!J46<>4,COUNTRY_INFO!J46<>5),IF(COUNTRY_INFO!Q46>Y46,Y46,COUNTRY_INFO!Q46),0)","v":0},{"$f":"IF(AND(COUNTRY_INFO!J46>1,COUNTRY_INFO!J46<99,COUNTRY_INFO!J46<>4,COUNTRY_INFO!J46<>5), IF(Z46/COUNTRY_INFO!Q46*100<>0, IF(Z46/COUNTRY_INFO!Q46*100>100,100,Z46/COUNTRY_INFO!Q46*100), \"-\"),0)","v":0},193851,0,{"$f":"IF(AND(COUNTRY_INFO!J46>1,COUNTRY_INFO!J46<99,COUNTRY_INFO!J46<>4,COUNTRY_INFO!J46<>5), IF(AC46/P46*100<>0, IF(AC46/P46*100>100,100,AC46/P46*100), \"-\"),0)","v":0},{"$f":"COUNTRY_INFO!V46","v":0},null,null,{"$f":"MAX('T1'!K46,'T2'!R46)","v":0},{"$f":"IF(AND(COUNTRY_INFO!K46>1,COUNTRY_INFO!K46<99,COUNTRY_INFO!K46<>4,COUNTRY_INFO!K46<>5),IF(COUNTRY_INFO!S46>AH46,AH46,COUNTRY_INFO!S46),0)","v":0},{"$f":"IF(AND(COUNTRY_INFO!K46>1,COUNTRY_INFO!K46<99,COUNTRY_INFO!K46<>4,COUNTRY_INFO!K46<>5), IF(AI46/COUNTRY_INFO!S46*100<>0, IF(AI46/COUNTRY_INFO!S46*100>100,100,AI46/COUNTRY_INFO!S46*100), \"-\"),0)","v":0},{"$f":"MAX('T1'!L46,'T2'!S46)","v":0},{"$f":"IF(AND(COUNTRY_INFO!K46>1,COUNTRY_INFO!K46<99,COUNTRY_INFO!K46<>4,COUNTRY_INFO!K46<>5),IF(COUNTRY_INFO!T46>AK46,AK46,COUNTRY_INFO!T46),0)","v":0},{"$f":"IF(AND(COUNTRY_INFO!K46>1,COUNTRY_INFO!K46<99,COUNTRY_INFO!K46<>4,COUNTRY_INFO!K46<>5), IF(AL46/COUNTRY_INFO!T46*100<>0, IF(AL46/COUNTRY_INFO!T46*100>100,100,AL46/COUNTRY_INFO!T46*100), \"-\"),0)","v":0},{"$f":"MAX('T1'!M46,'T2'!T46)","v":0},{"$f":"IF(AND(COUNTRY_INFO!K46>1,COUNTRY_INFO!K46<99,COUNTRY_INFO!K46<>4,COUNTRY_INFO!K46<>5),IF(COUNTRY_INFO!U46>AN46,AN46,COUNTRY_INFO!U46),0)","v":0},{"$f":"IF(AND(COUNTRY_INFO!K46>1,COUNTRY_INFO!K46<99,COUNTRY_INFO!K46<>4,COUNTRY_INFO!K46<>5), IF(AO46/COUNTRY_INFO!U46*100<>0, IF(AO46/COUNTRY_INFO!U46*100>100,100,AO46/COUNTRY_INFO!U46*100), \"-\"),0)","v":0},0,0,{"$f":"IF(AND(COUNTRY_INFO!K46>1,COUNTRY_INFO!K46<99,COUNTRY_INFO!K46<>4,COUNTRY_INFO!K46<>5), IF(AH46/AE46*100<>0, IF(AR46/AE46*100>100,100,AR46/AE46*100), \"-\"),0)","v":0},null,{"$f":"IF(AND(D46<>0, D46<>\"Unknown\",D46<>\"Stopped\",D46<>\"Not required\"),D46/COUNTRY_INFO!D46, 0)","v":1},{"$f":"IF(AND(J46<>0,J46<>\"Unknown\",J46<>\"Stopped\",J46<>\"Not required\"),J46/COUNTRY_INFO!D46, 0)","v":1},{"$f":"IF(AND(P46<>0,P46<>\"Unknown\",P46<>\"Surveillance\",P46<>\"Not required\"),P46/COUNTRY_INFO!R46, 0)","v":0},{"$f":"IF(AND(AE46<>0,AE46<>\"Unknown\",AE46<>\"Surveillance\",AE46<>\"Not required\"),AE46/COUNTRY_INFO!V46, 0)","v":0},{"$f":"IF(AU46>0,D46*PROFILE!$G$7,IF(AV46>0,J46*PROFILE!$G$7,0))","v":7636.6762121025267},{"$f":"_xlfn.IFS(OR(AU46>0,AW46>0),COUNTRY_INFO!E46, AV46>0,J46*PROFILE!$G$8,AX46>0,COUNTRY_INFO!S46,COUNTIFS(AU46:AX46,\">0\")=0,0)","v":30741},{"$f":"_xlfn.IFS(OR(AU46>0,AW46>0),COUNTRY_INFO!F46, AV46>0,J46*PROFILE!$G$9,AX46>0,COUNTRY_INFO!T46,COUNTIFS(AU46:AX46,\">0\")=0,0)","v":85781},{"$f":"_xlfn.IFS(AU46>0,COUNTRY_INFO!G46, AND(AV46>0,AW46=0,AX46=0),J46*PROFILE!$G$10,AND(AV46>0,AW46>0,AX46=0), MAX(J46*PROFILE!$G$10,COUNTRY_INFO!Q46),AND(AV46>0,AW46=0,AX46>0), MAX(J46*PROFILE!$G$10,COUNTRY_INFO!U46),AND(AV46=0,AW46>0,AX46>0), MAX(COUNTRY_INFO!Q46,COUNTRY_INFO!U46),AND(AV46=0,AW46>0,AX46=0),COUNTRY_INFO!Q46,AND(AV46=0,AW46=0,AX46>0),COUNTRY_INFO!U46,AND(AV46>0,AW46>0,AX46>0), MAX(J46*PROFILE!$G$10,COUNTRY_INFO!Q46,COUNTRY_INFO!U46),COUNTIFS(AU46:AX46,\">0\")=0,0)","v":153539},277697.67621210252,"Y",{"$f":"MAX('MDA4'!R46,S46,AH46)","v":0},{"$f":"MAX('MDA1'!K46,'MDA4'!S46,'MDA3'!I46,'MDA3'!L46,V46,AK46)","v":89690},{"$f":"MAX('MDA1'!L46,'MDA4'!T46,'MDA3'!J46,'MDA3'!M46,Y46,AN46)","v":104161},193851,{"$f":"_xlfn.IFS(AND(AU46=0,AW46=0,AX46=0),0,AND(AU46=0,AW46=0,AX46>0),AI46,AND(AU46=0,AW46>0,AX46=0),T46,AND(AU46=0,AW46>0,AX46>0),MAX(T46,AI46),AND(AU46>0,AW46=0,AX46=0),MIN('MDA4'!R46,AZ46),AND(AU46>0,AW46=0,AX46>0),MIN(MAX('MDA4'!R46,AI46),AZ46),AND(AU46>0,AW46>0,AX46=0),MIN(MAX('MDA4'!R46,T46),AZ46),AND(AU46>0,AW46>0,AX46>0),MIN(MAX('MDA4'!R46,AI46,T46),AZ46))","v":0},{"$f":"_xlfn.IFS(AND(AU46=0,AV46=0,AW46=0,AX46=0),0,AND(AU46=0,AV46=0,AW46=0,AX46>0),AL46,AND(AU46=0,AV46=0,AW46>0,AX46=0),W46,AND(AU46=0,AV46=0,AW46>0,AX46>0),MAX(W46,AL46),AND(AU46=0,AV46>0,AW46=0,AX46=0),MIN(J46*PROFILE!$G$9,MAX('MDA3'!I46,'MDA3'!L46)),AND(AU46=0,AV46>0,AW46=0,AX46>0),MIN(J46*PROFILE!$G$9,MAX('MDA3'!I46,'MDA3'!L46,AL46)),AND(AU46=0,AV46>0,AW46>0,AX46=0),MIN(J46*PROFILE!$G$9,MAX('MDA3'!I46,'MDA3'!L46,W46)),AND(AU46=0,AV46>0,AW46>0,AX46>0),MIN(J46*PROFILE!$G$9,MAX('MDA3'!I46,'MDA3'!L46,W46,AL46)),AND(AU46>0,AV46=0,AW46=0,AX46=0), MIN(BA46,MAX('MDA1'!K46,'MDA4'!S46)),AND(AU46>0,AV46=0,AW46=0,AX46>0), MIN(BA46,MAX('MDA1'!K46,'MDA4'!S46,AL46)),AND(AU46>0,AV46=0,AW46>0,AX46=0),MIN(BA46,MAX('MDA1'!K46,'MDA4'!S46,W46)),AND(AU46>0,AV46=0,AW46>0,AX46>0),MIN(BA46,MAX('MDA1'!K46,'MDA4'!S46,W46,AL46)),AND(AU46>0,AV46>0,AW46=0,AX46=0),MIN(BA46, MAX('MDA1'!K46,'MDA4'!S46,MAX('MDA3'!I46,'MDA3'!L46))), AND(AU46>0,AV46>0,AW46=0,AX46>0),MIN(BA46, MAX('MDA1'!K46,'MDA4'!S46,MAX( 'MDA3'!I46,'MDA3'!L46),AL46)), AND(AU46>0,AV46>0,AW46>0,AX46=0), MIN(BA46, MAX('MDA1'!K46,'MDA4'!S46,MAX( 'MDA3'!I46,'MDA3'!L46),W46)), AND(AU46>0,AV46>0,AW46>0,AX46>0), MIN(BA46, MAX('MDA1'!K46,'MDA4'!S46,MAX( 'MDA3'!I46,'MDA3'!L46),W46,AL46)))","v":85781},{"$f":"_xlfn.IFS(AND(AU46=0,AV46=0,AW46=0,AX46=0),0,AND(AU46=0,AV46=0,AW46=0,AX46>0),AO46,AND(AU46=0,AV46=0,AW46>0,AX46=0),Z46,AND(AU46=0,AV46=0,AW46>0,AX46>0),MAX(Z46,AO46),AND(AU46=0,AV46>0,AW46=0,AX46=0),MIN(J46*PROFILE!$G$10,MAX('MDA3'!J46,'MDA3'!J46)),AND(AU46=0,AV46>0,AW46=0,AX46>0),MIN(J46*PROFILE!$G$10,MAX('MDA3'!J46,'MDA3'!M46,AO46)),AND(AU46=0,AV46>0,AW46>0,AX46=0),MIN(J46*PROFILE!$G$10,MAX('MDA3'!J46,'MDA3'!M46,Z46)),AND(AU46=0,AV46>0,AW46>0,AX46>0),MIN(J46*PROFILE!$G$10,MAX('MDA3'!J46,'MDA3'!M46,Z46,AO46)),AND(AU46>0,AV46=0,AW46=0,AX46=0), MIN(BB46,MAX('MDA1'!L46,'MDA4'!T46)),AND(AU46>0,AV46=0,AW46=0,AX46>0), MIN(BB46,MAX('MDA1'!L46,'MDA4'!T46,AO46)),AND(AU46>0,AV46=0,AW46>0,AX46=0),MIN(BB46,MAX('MDA1'!L46,'MDA4'!T46,Z46)),AND(AU46>0,AV46=0,AW46>0,AX46>0),MIN(BB46,MAX('MDA1'!L46,'MDA4'!T46,Z46,AO46)),AND(AU46>0,AV46>0,AW46=0,AX46=0),MIN(BB46, MAX('MDA1'!L46,'MDA4'!T46,MAX( 'MDA3'!J46,'MDA3'!M46))), AND(AU46>0,AV46>0,AW46=0,AX46>0),MIN(BB46, MAX('MDA1'!L46,'MDA4'!T46,MAX( 'MDA3'!J46,'MDA3'!M46),AO46)), AND(AU46>0,AV46>0,AW46>0,AX46=0), MIN(BB46, MAX('MDA1'!L46,'MDA4'!T46,MAX( 'MDA3'!J46,'MDA3'!M46),Z46)), AND(AU46>0,AV46>0,AW46>0,AX46>0), MIN(BB46, MAX('MDA1'!L46,'MDA4'!T46,MAX( 'MDA3'!J46,'MDA3'!M46),Z46,AO46)))","v":104161},189942,68.398843876145492]
[{"$f":"IF(COUNTRY_INFO!A47=0,\" \",COUNTRY_INFO!A47)","v":"South Sudan"},{"$f":"IF(COUNTRY_INFO!B47=0,\" \",COUNTRY_INFO!B47)","v":"Northern Bahr El Ghazal"},{"$f":"IF(COUNTRY_INFO!C47=0,\" \",COUNTRY_INFO!C47)","v":"AWIEL CENTRE"},{"$f":"COUNTRY_INFO!M47","v":69725.530700000003},null,null,{"$f":"'MDA1'!M47+'MDA4'!U47","v":66327},{"$f":"IF(AND(COUNTRY_INFO!H47>0,COUNTRY_INFO!H47<4),IF(D47>G47,G47,D47),0)","v":66327},{"$f":"IF(AND(COUNTRY_INFO!H47>0,COUNTRY_INFO!H47<4), IF(G47/D47*100<>0, IF(G47/D47*100>100,100,G47/D47*100), \"-\"),0)","v":95.125844628386588},{"$f":"COUNTRY_INFO!N47","v":69725.530700000003},null,null,{"$f":"MAX('MDA1'!M47,MAX('MDA3'!I47,'MDA3'!L47)+MAX('MDA3'!J47,'MDA3'!M47))","v":66327},{"$f":"IF(AND(COUNTRY_INFO!I47>0,COUNTRY_INFO!I47<4),IF(J47>M47,M47,J47),0)","v":66327},{"$f":"IF(AND(COUNTRY_INFO!I47>0,COUNTRY_INFO!I47<4), IF(M47/J47*100<>0, IF(M47/J47*100>100,100,M47/J47*100), \"-\"),0)","v":95.125844628386588},{"$f":"COUNTRY_INFO!R47","v":0},null,null,{"$f":"MAX('MDA4'!R47,'T1'!K47, MAX(T3_R1!J47,T3_R2!J47,T3_R3!J47))","v":0},{"$f":"IF(AND(COUNTRY_INFO!J47>1,COUNTRY_INFO!J47<99,COUNTRY_INFO!J47<>4,COUNTRY_INFO!J47<>5),IF(COUNTRY_INFO!O47>S47,S47,COUNTRY_INFO!O47),0)","v":0},{"$f":"IF(AND(COUNTRY_INFO!J47>1,COUNTRY_INFO!J47<99,COUNTRY_INFO!J47<>4,COUNTRY_INFO!J47<>5), IF(T47/COUNTRY_INFO!O47*100<>0, IF(T47/COUNTRY_INFO!O47*100>100,100,T47/COUNTRY_INFO!O47*100), \"-\"),0)","v":0},{"$f":"MAX('MDA1'!K47,'MDA4'!S47, 'T1'!L47, MAX(T3_R1!K47,T3_R2!K47,T3_R3!K47))","v":33491},{"$f":"IF(AND(COUNTRY_INFO!J47>1,COUNTRY_INFO!J47<99,COUNTRY_INFO!J47<>4,COUNTRY_INFO!J47<>5),IF(COUNTRY_INFO!P47>V47,V47,COUNTRY_INFO!P47),0)","v":0},{"$f":"IF(AND(COUNTRY_INFO!J47>1,COUNTRY_INFO!J47<99,COUNTRY_INFO!J47<>4,COUNTRY_INFO!J47<>5), IF(W47/COUNTRY_INFO!P47*100<>0, IF(W47/COUNTRY_INFO!P47*100>100,100,W47/COUNTRY_INFO!P47*100), \"-\"),0)","v":0},{"$f":"MAX('MDA1'!L47,'MDA4'!T47, 'T1'!M47, MAX(T3_R1!L47,T3_R2!L47,T3_R3!L47))","v":32836},{"$f":"IF(AND(COUNTRY_INFO!J47>1,COUNTRY_INFO!J47<99,COUNTRY_INFO!J47<>4,COUNTRY_INFO!J47<>5),IF(COUNTRY_INFO!Q47>Y47,Y47,COUNTRY_INFO!Q47),0)","v":0},{"$f":"IF(AND(COUNTRY_INFO!J47>1,COUNTRY_INFO!J47<99,COUNTRY_INFO!J47<>4,COUNTRY_INFO!J47<>5), IF(Z47/COUNTRY_INFO!Q47*100<>0, IF(Z47/COUNTRY_INFO!Q47*100>100,100,Z47/COUNTRY_INFO!Q47*100), \"-\"),0)","v":0},66327,0,{"$f":"IF(AND(COUNTRY_INFO!J47>1,COUNTRY_INFO!J47<99,COUNTRY_INFO!J47<>4,COUNTRY_INFO!J47<>5), IF(AC47/P47*100<>0, IF(AC47/P47*100>100,100,AC47/P47*100), \"-\"),0)","v":0},{"$f":"COUNTRY_INFO!V47","v":0},null,null,{"$f":"MAX('T1'!K47,'T2'!R47)","v":0},{"$f":"IF(AND(COUNTRY_INFO!K47>1,COUNTRY_INFO!K47<99,COUNTRY_INFO!K47<>4,COUNTRY_INFO!K47<>5),IF(COUNTRY_INFO!S47>AH47,AH47,COUNTRY_INFO!S47),0)","v":0},{"$f":"IF(AND(COUNTRY_INFO!K47>1,COUNTRY_INFO!K47<99,COUNTRY_INFO!K47<>4,COUNTRY_INFO!K47<>5), IF(AI47/COUNTRY_INFO!S47*100<>0, IF(AI47/COUNTRY_INFO!S47*100>100,100,AI47/COUNTRY_INFO!S47*100), \"-\"),0)","v":0},{"$f":"MAX('T1'!L47,'T2'!S47)","v":0},{"$f":"IF(AND(COUNTRY_INFO!K47>1,COUNTRY_INFO!K47<99,COUNTRY_INFO!K47<>4,COUNTRY_INFO!K47<>5),IF(COUNTRY_INFO!T47>AK47,AK47,COUNTRY_INFO!T47),0)","v":0},{"$f":"IF(AND(COUNTRY_INFO!K47>1,COUNTRY_INFO!K47<99,COUNTRY_INFO!K47<>4,COUNTRY_INFO!K47<>5), IF(AL47/COUNTRY_INFO!T47*100<>0, IF(AL47/COUNTRY_INFO!T47*100>100,100,AL47/COUNTRY_INFO!T47*100), \"-\"),0)","v":0},{"$f":"MAX('T1'!M47,'T2'!T47)","v":0},{"$f":"IF(AND(COUNTRY_INFO!K47>1,COUNTRY_INFO!K47<99,COUNTRY_INFO!K47<>4,COUNTRY_INFO!K47<>5),IF(COUNTRY_INFO!U47>AN47,AN47,COUNTRY_INFO!U47),0)","v":0},{"$f":"IF(AND(COUNTRY_INFO!K47>1,COUNTRY_INFO!K47<99,COUNTRY_INFO!K47<>4,COUNTRY_INFO!K47<>5), IF(AO47/COUNTRY_INFO!U47*100<>0, IF(AO47/COUNTRY_INFO!U47*100>100,100,AO47/COUNTRY_INFO!U47*100), \"-\"),0)","v":0},0,0,{"$f":"IF(AND(COUNTRY_INFO!K47>1,COUNTRY_INFO!K47<99,COUNTRY_INFO!K47<>4,COUNTRY_INFO!K47<>5), IF(AH47/AE47*100<>0, IF(AR47/AE47*100>100,100,AR47/AE47*100), \"-\"),0)","v":0},null,{"$f":"IF(AND(D47<>0, D47<>\"Unknown\",D47<>\"Stopped\",D47<>\"Not required\"),D47/COUNTRY_INFO!D47, 0)","v":1},{"$f":"IF(AND(J47<>0,J47<>\"Unknown\",J47<>\"Stopped\",J47<>\"Not required\"),J47/COUNTRY_INFO!D47, 0)","v":1},{"$f":"IF(AND(P47<>0,P47<>\"Unknown\",P47<>\"Surveillance\",P47<>\"Not required\"),P47/COUNTRY_INFO!R47, 0)","v":0},{"$f":"IF(AND(AE47<>0,AE47<>\"Unknown\",AE47<>\"Surveillance\",AE47<>\"Not required\"),AE47/COUNTRY_INFO!V47, 0)","v":0},{"$f":"IF(AU47>0,D47*PROFILE!$G$7,IF(AV47>0,J47*PROFILE!$G$7,0))","v":1917.4473679329087},{"$f":"_xlfn.IFS(OR(AU47>0,AW47>0),COUNTRY_INFO!E47, AV47>0,J47*PROFILE!$G$8,AX47>0,COUNTRY_INFO!S47,COUNTIFS(AU47:AX47,\">0\")=0,0)","v":7719},{"$f":"_xlfn.IFS(OR(AU47>0,AW47>0),COUNTRY_INFO!F47, AV47>0,J47*PROFILE!$G$9,AX47>0,COUNTRY_INFO!T47,COUNTIFS(AU47:AX47,\">0\")=0,0)","v":21538},{"$f":"_xlfn.IFS(AU47>0,COUNTRY_INFO!G47, AND(AV47>0,AW47=0,AX47=0),J47*PROFILE!$G$10,AND(AV47>0,AW47>0,AX47=0), MAX(J47*PROFILE!$G$10,COUNTRY_INFO!Q47),AND(AV47>0,AW47=0,AX47>0), MAX(J47*PROFILE!$G$10,COUNTRY_INFO!U47),AND(AV47=0,AW47>0,AX47>0), MAX(COUNTRY_INFO!Q47,COUNTRY_INFO!U47),AND(AV47=0,AW47>0,AX47=0),COUNTRY_INFO!Q47,AND(AV47=0,AW47=0,AX47>0),COUNTRY_INFO!U47,AND(AV47>0,AW47>0,AX47>0), MAX(J47*PROFILE!$G$10,COUNTRY_INFO!Q47,COUNTRY_INFO!U47),COUNTIFS(AU47:AX47,\">0\")=0,0)","v":38551},69725.447367932909,"Y",{"$f":"MAX('MDA4'!R47,S47,AH47)","v":0},{"$f":"MAX('MDA1'!K47,'MDA4'!S47,'MDA3'!I47,'MDA3'!L47,V47,AK47)","v":33491},{"$f":"MAX('MDA1'!L47,'MDA4'!T47,'MDA3'!J47,'MDA3'!M47,Y47,AN47)","v":32836},66327,{"$f":"_xlfn.IFS(AND(AU47=0,AW47=0,AX47=0),0,AND(AU47=0,AW47=0,AX47>0),AI47,AND(AU47=0,AW47>0,AX47=0),T47,AND(AU47=0,AW47>0,AX47>0),MAX(T47,AI47),AND(AU47>0,AW47=0,AX47=0),MIN('MDA4'!R47,AZ47),AND(AU47>0,AW47=0,AX47>0),MIN(MAX('MDA4'!R47,AI47),AZ47),AND(AU47>0,AW47>0,AX47=0),MIN(MAX('MDA4'!R47,T47),AZ47),AND(AU47>0,AW47>0,AX47>0),MIN(MAX('MDA4'!R47,AI47,T47),AZ47))","v":0},{"$f":"_xlfn.IFS(AND(AU47=0,AV47=0,AW47=0,AX47=0),0,AND(AU47=0,AV47=0,AW47=0,AX47>0),AL47,AND(AU47=0,AV47=0,AW47>0,AX47=0),W47,AND(AU47=0,AV47=0,AW47>0,AX47>0),MAX(W47,AL47),AND(AU47=0,AV47>0,AW47=0,AX47=0),MIN(J47*PROFILE!$G$9,MAX('MDA3'!I47,'MDA3'!L47)),AND(AU47=0,AV47>0,AW47=0,AX47>0),MIN(J47*PROFILE!$G$9,MAX('MDA3'!I47,'MDA3'!L47,AL47)),AND(AU47=0,AV47>0,AW47>0,AX47=0),MIN(J47*PROFILE!$G$9,MAX('MDA3'!I47,'MDA3'!L47,W47)),AND(AU47=0,AV47>0,AW47>0,AX47>0),MIN(J47*PROFILE!$G$9,MAX('MDA3'!I47,'MDA3'!L47,W47,AL47)),AND(AU47>0,AV47=0,AW47=0,AX47=0), MIN(BA47,MAX('MDA1'!K47,'MDA4'!S47)),AND(AU47>0,AV47=0,AW47=0,AX47>0), MIN(BA47,MAX('MDA1'!K47,'MDA4'!S47,AL47)),AND(AU47>0,AV47=0,AW47>0,AX47=0),MIN(BA47,MAX('MDA1'!K47,'MDA4'!S47,W47)),AND(AU47>0,AV47=0,AW47>0,AX47>0),MIN(BA47,MAX('MDA1'!K47,'MDA4'!S47,W47,AL47)),AND(AU47>0,AV47>0,AW47=0,AX47=0),MIN(BA47, MAX('MDA1'!K47,'MDA4'!S47,MAX('MDA3'!I47,'MDA3'!L47))), AND(AU47>0,AV47>0,AW47=0,AX47>0),MIN(BA47, MAX('MDA1'!K47,'MDA4'!S47,MAX( 'MDA3'!I47,'MDA3'!L47),AL47)), AND(AU47>0,AV47>0,AW47>0,AX47=0), MIN(BA47, MAX('MDA1'!K47,'MDA4'!S47,MAX( 'MDA3'!I47,'MDA3'!L47),W47)), AND(AU47>0,AV47>0,AW47>0,AX47>0), MIN(BA47, MAX('MDA1'!K47,'MDA4'!S47,MAX( 'MDA3'!I47,'MDA3'!L47),W47,AL47)))","v":21538},{"$f":"_xlfn.IFS(AND(AU47=0,AV47=0,AW47=0,AX47=0),0,AND(AU47=0,AV47=0,AW47=0,AX47>0),AO47,AND(AU47=0,AV47=0,AW47>0,AX47=0),Z47,AND(AU47=0,AV47=0,AW47>0,AX47>0),MAX(Z47,AO47),AND(AU47=0,AV47>0,AW47=0,AX47=0),MIN(J47*PROFILE!$G$10,MAX('MDA3'!J47,'MDA3'!J47)),AND(AU47=0,AV47>0,AW47=0,AX47>0),MIN(J47*PROFILE!$G$10,MAX('MDA3'!J47,'MDA3'!M47,AO47)),AND(AU47=0,AV47>0,AW47>0,AX47=0),MIN(J47*PROFILE!$G$10,MAX('MDA3'!J47,'MDA3'!M47,Z47)),AND(AU47=0,AV47>0,AW47>0,AX47>0),MIN(J47*PROFILE!$G$10,MAX('MDA3'!J47,'MDA3'!M47,Z47,AO47)),AND(AU47>0,AV47=0,AW47=0,AX47=0), MIN(BB47,MAX('MDA1'!L47,'MDA4'!T47)),AND(AU47>0,AV47=0,AW47=0,AX47>0), MIN(BB47,MAX('MDA1'!L47,'MDA4'!T47,AO47)),AND(AU47>0,AV47=0,AW47>0,AX47=0),MIN(BB47,MAX('MDA1'!L47,'MDA4'!T47,Z47)),AND(AU47>0,AV47=0,AW47>0,AX47>0),MIN(BB47,MAX('MDA1'!L47,'MDA4'!T47,Z47,AO47)),AND(AU47>0,AV47>0,AW47=0,AX47=0),MIN(BB47, MAX('MDA1'!L47,'MDA4'!T47,MAX( 'MDA3'!J47,'MDA3'!M47))), AND(AU47>0,AV47>0,AW47=0,AX47>0),MIN(BB47, MAX('MDA1'!L47,'MDA4'!T47,MAX( 'MDA3'!J47,'MDA3'!M47),AO47)), AND(AU47>0,AV47>0,AW47>0,AX47=0), MIN(BB47, MAX('MDA1'!L47,'MDA4'!T47,MAX( 'MDA3'!J47,'MDA3'!M47),Z47)), AND(AU47>0,AV47>0,AW47>0,AX47>0), MIN(BB47, MAX('MDA1'!L47,'MDA4'!T47,MAX( 'MDA3'!J47,'MDA3'!M47),Z47,AO47)))","v":32836},54374,77.983006280439994]
[{"$f":"IF(COUNTRY_INFO!A48=0,\" \",COUNTRY_INFO!A48)","v":"South Sudan"},{"$f":"IF(COUNTRY_INFO!B48=0,\" \",COUNTRY_INFO!B48)","v":"Unity"},{"$f":"IF(COUNTRY_INFO!C48=0,\" \",COUNTRY_INFO!C48)","v":"PARIANG"},{"$f":"COUNTRY_INFO!M48","v":0},null,null,{"$f":"'MDA1'!M48+'MDA4'!U48","v":0},{"$f":"IF(AND(COUNTRY_INFO!H48>0,COUNTRY_INFO!H48<4),IF(D48>G48,G48,D48),0)","v":0},{"$f":"IF(AND(COUNTRY_INFO!H48>0,COUNTRY_INFO!H48<4), IF(G48/D48*100<>0, IF(G48/D48*100>100,100,G48/D48*100), \"-\"),0)","v":0},{"$f":"COUNTRY_INFO!N48","v":"Unknown"},null,null,{"$f":"MAX('MDA1'!M48,MAX('MDA3'!I48,'MDA3'!L48)+MAX('MDA3'!J48,'MDA3'!M48))","v":0},{"$f":"IF(AND(COUNTRY_INFO!I48>0,COUNTRY_INFO!I48<4),IF(J48>M48,M48,J48),0)","v":0},{"$f":"IF(AND(COUNTRY_INFO!I48>0,COUNTRY_INFO!I48<4), IF(M48/J48*100<>0, IF(M48/J48*100>100,100,M48/J48*100), \"-\"),0)","v":0},{"$f":"COUNTRY_INFO!R48","v":0},null,null,{"$f":"MAX('MDA4'!R48,'T1'!K48, MAX(T3_R1!J48,T3_R2!J48,T3_R3!J48))","v":0},{"$f":"IF(AND(COUNTRY_INFO!J48>1,COUNTRY_INFO!J48<99,COUNTRY_INFO!J48<>4,COUNTRY_INFO!J48<>5),IF(COUNTRY_INFO!O48>S48,S48,COUNTRY_INFO!O48),0)","v":0},{"$f":"IF(AND(COUNTRY_INFO!J48>1,COUNTRY_INFO!J48<99,COUNTRY_INFO!J48<>4,COUNTRY_INFO!J48<>5), IF(T48/COUNTRY_INFO!O48*100<>0, IF(T48/COUNTRY_INFO!O48*100>100,100,T48/COUNTRY_INFO!O48*100), \"-\"),0)","v":0},{"$f":"MAX('MDA1'!K48,'MDA4'!S48, 'T1'!L48, MAX(T3_R1!K48,T3_R2!K48,T3_R3!K48))","v":0},{"$f":"IF(AND(COUNTRY_INFO!J48>1,COUNTRY_INFO!J48<99,COUNTRY_INFO!J48<>4,COUNTRY_INFO!J48<>5),IF(COUNTRY_INFO!P48>V48,V48,COUNTRY_INFO!P48),0)","v":0},{"$f":"IF(AND(COUNTRY_INFO!J48>1,COUNTRY_INFO!J48<99,COUNTRY_INFO!J48<>4,COUNTRY_INFO!J48<>5), IF(W48/COUNTRY_INFO!P48*100<>0, IF(W48/COUNTRY_INFO!P48*100>100,100,W48/COUNTRY_INFO!P48*100), \"-\"),0)","v":0},{"$f":"MAX('MDA1'!L48,'MDA4'!T48, 'T1'!M48, MAX(T3_R1!L48,T3_R2!L48,T3_R3!L48))","v":0},{"$f":"IF(AND(COUNTRY_INFO!J48>1,COUNTRY_INFO!J48<99,COUNTRY_INFO!J48<>4,COUNTRY_INFO!J48<>5),IF(COUNTRY_INFO!Q48>Y48,Y48,COUNTRY_INFO!Q48),0)","v":0},{"$f":"IF(AND(COUNTRY_INFO!J48>1,COUNTRY_INFO!J48<99,COUNTRY_INFO!J48<>4,COUNTRY_INFO!J48<>5), IF(Z48/COUNTRY_INFO!Q48*100<>0, IF(Z48/COUNTRY_INFO!Q48*100>100,100,Z48/COUNTRY_INFO!Q48*100), \"-\"),0)","v":0},0,0,{"$f":"IF(AND(COUNTRY_INFO!J48>1,COUNTRY_INFO!J48<99,COUNTRY_INFO!J48<>4,COUNTRY_INFO!J48<>5), IF(AC48/P48*100<>0, IF(AC48/P48*100>100,100,AC48/P48*100), \"-\"),0)","v":0},{"$f":"COUNTRY_INFO!V48","v":5733},null,null,{"$f":"MAX('T1'!K48,'T2'!R48)","v":0},{"$f":"IF(AND(COUNTRY_INFO!K48>1,COUNTRY_INFO!K48<99,COUNTRY_INFO!K48<>4,COUNTRY_INFO!K48<>5),IF(COUNTRY_INFO!S48>AH48,AH48,COUNTRY_INFO!S48),0)","v":0},{"$f":"IF(AND(COUNTRY_INFO!K48>1,COUNTRY_INFO!K48<99,COUNTRY_INFO!K48<>4,COUNTRY_INFO!K48<>5), IF(AI48/COUNTRY_INFO!S48*100<>0, IF(AI48/COUNTRY_INFO!S48*100>100,100,AI48/COUNTRY_INFO!S48*100), \"-\"),0)","v":"-"},{"$f":"MAX('T1'!L48,'T2'!S48)","v":0},{"$f":"IF(AND(COUNTRY_INFO!K48>1,COUNTRY_INFO!K48<99,COUNTRY_INFO!K48<>4,COUNTRY_INFO!K48<>5),IF(COUNTRY_INFO!T48>AK48,AK48,COUNTRY_INFO!T48),0)","v":0},{"$f":"IF(AND(COUNTRY_INFO!K48>1,COUNTRY_INFO!K48<99,COUNTRY_INFO!K48<>4,COUNTRY_INFO!K48<>5), IF(AL48/COUNTRY_INFO!T48*100<>0, IF(AL48/COUNTRY_INFO!T48*100>100,100,AL48/COUNTRY_INFO!T48*100), \"-\"),0)","v":"-"},{"$f":"MAX('T1'!M48,'T2'!T48)","v":0},{"$f":"IF(AND(COUNTRY_INFO!K48>1,COUNTRY_INFO!K48<99,COUNTRY_INFO!K48<>4,COUNTRY_INFO!K48<>5),IF(COUNTRY_INFO!U48>AN48,AN48,COUNTRY_INFO!U48),0)","v":0},{"$f":"IF(AND(COUNTRY_INFO!K48>1,COUNTRY_INFO!K48<99,COUNTRY_INFO!K48<>4,COUNTRY_INFO!K48<>5), IF(AO48/COUNTRY_INFO!U48*100<>0, IF(AO48/COUNTRY_INFO!U48*100>100,100,AO48/COUNTRY_INFO!U48*100), \"-\"),0)","v":"-"},0,0,{"$f":"IF(AND(COUNTRY_INFO!K48>1,COUNTRY_INFO!K48<99,COUNTRY_INFO!K48<>4,COUNTRY_INFO!K48<>5), IF(AH48/AE48*100<>0, IF(AR48/AE48*100>100,100,AR48/AE48*100), \"-\"),0)","v":"-"},null,{"$f":"IF(AND(D48<>0, D48<>\"Unknown\",D48<>\"Stopped\",D48<>\"Not required\"),D48/COUNTRY_INFO!D48, 0)","v":0},{"$f":"IF(AND(J48<>0,J48<>\"Unknown\",J48<>\"Stopped\",J48<>\"Not required\"),J48/COUNTRY_INFO!D48, 0)","v":0},{"$f":"IF(AND(P48<>0,P48<>\"Unknown\",P48<>\"Surveillance\",P48<>\"Not required\"),P48/COUNTRY_INFO!R48, 0)","v":0},{"$f":"IF(AND(AE48<>0,AE48<>\"Unknown\",AE48<>\"Surveillance\",AE48<>\"Not required\"),AE48/COUNTRY_INFO!V48, 0)","v":1},{"$f":"IF(AU48>0,D48*PROFILE!$G$7,IF(AV48>0,J48*PROFILE!$G$7,0))","v":0},{"$f":"_xlfn.IFS(OR(AU48>0,AW48>0),COUNTRY_INFO!E48, AV48>0,J48*PROFILE!$G$8,AX48>0,COUNTRY_INFO!S48,COUNTIFS(AU48:AX48,\">0\")=0,0)","v":512},{"$f":"_xlfn.IFS(OR(AU48>0,AW48>0),COUNTRY_INFO!F48, AV48>0,J48*PROFILE!$G$9,AX48>0,COUNTRY_INFO!T48,COUNTIFS(AU48:AX48,\">0\")=0,0)","v":1654},{"$f":"_xlfn.IFS(AU48>0,COUNTRY_INFO!G48, AND(AV48>0,AW48=0,AX48=0),J48*PROFILE!$G$10,AND(AV48>0,AW48>0,AX48=0), MAX(J48*PROFILE!$G$10,COUNTRY_INFO!Q48),AND(AV48>0,AW48=0,AX48>0), MAX(J48*PROFILE!$G$10,COUNTRY_INFO!U48),AND(AV48=0,AW48>0,AX48>0), MAX(COUNTRY_INFO!Q48,COUNTRY_INFO!U48),AND(AV48=0,AW48>0,AX48=0),COUNTRY_INFO!Q48,AND(AV48=0,AW48=0,AX48>0),COUNTRY_INFO!U48,AND(AV48>0,AW48>0,AX48>0), MAX(J48*PROFILE!$G$10,COUNTRY_INFO!Q48,COUNTRY_INFO!U48),COUNTIFS(AU48:AX48,\">0\")=0,0)","v":3567},5733,0,{"$f":"MAX('MDA4'!R48,S48,AH48)","v":0},{"$f":"MAX('MDA1'!K48,'MDA4'!S48,'MDA3'!I48,'MDA3'!L48,V48,AK48)","v":0},{"$f":"MAX('MDA1'!L48,'MDA4'!T48,'MDA3'!J48,'MDA3'!M48,Y48,AN48)","v":0},0,{"$f":"_xlfn.IFS(AND(AU48=0,AW48=0,AX48=0),0,AND(AU48=0,AW48=0,AX48>0),AI48,AND(AU48=0,AW48>0,AX48=0),T48,AND(AU48=0,AW48>0,AX48>0),MAX(T48,AI48),AND(AU48>0,AW48=0,AX48=0),MIN('MDA4'!R48,AZ48),AND(AU48>0,AW48=0,AX48>0),MIN(MAX('MDA4'!R48,AI48),AZ48),AND(AU48>0,AW48>0,AX48=0),MIN(MAX('MDA4'!R48,T48),AZ48),AND(AU48>0,AW48>0,AX48>0),MIN(MAX('MDA4'!R48,AI48,T48),AZ48))","v":0},{"$f":"_xlfn.IFS(AND(AU48=0,AV48=0,AW48=0,AX48=0),0,AND(AU48=0,AV48=0,AW48=0,AX48>0),AL48,AND(AU48=0,AV48=0,AW48>0,AX48=0),W48,AND(AU48=0,AV48=0,AW48>0,AX48>0),MAX(W48,AL48),AND(AU48=0,AV48>0,AW48=0,AX48=0),MIN(J48*PROFILE!$G$9,MAX('MDA3'!I48,'MDA3'!L48)),AND(AU48=0,AV48>0,AW48=0,AX48>0),MIN(J48*PROFILE!$G$9,MAX('MDA3'!I48,'MDA3'!L48,AL48)),AND(AU48=0,AV48>0,AW48>0,AX48=0),MIN(J48*PROFILE!$G$9,MAX('MDA3'!I48,'MDA3'!L48,W48)),AND(AU48=0,AV48>0,AW48>0,AX48>0),MIN(J48*PROFILE!$G$9,MAX('MDA3'!I48,'MDA3'!L48,W48,AL48)),AND(AU48>0,AV48=0,AW48=0,AX48=0), MIN(BA48,MAX('MDA1'!K48,'MDA4'!S48)),AND(AU48>0,AV48=0,AW48=0,AX48>0), MIN(BA48,MAX('MDA1'!K48,'MDA4'!S48,AL48)),AND(AU48>0,AV48=0,AW48>0,AX48=0),MIN(BA48,MAX('MDA1'!K48,'MDA4'!S48,W48)),AND(AU48>0,AV48=0,AW48>0,AX48>0),MIN(BA48,MAX('MDA1'!K48,'MDA4'!S48,W48,AL48)),AND(AU48>0,AV48>0,AW48=0,AX48=0),MIN(BA48, MAX('MDA1'!K48,'MDA4'!S48,MAX('MDA3'!I48,'MDA3'!L48))), AND(AU48>0,AV48>0,AW48=0,AX48>0),MIN(BA48, MAX('MDA1'!K48,'MDA4'!S48,MAX( 'MDA3'!I48,'MDA3'!L48),AL48)), AND(AU48>0,AV48>0,AW48>0,AX48=0), MIN(BA48, MAX('MDA1'!K48,'MDA4'!S48,MAX( 'MDA3'!I48,'MDA3'!L48),W48)), AND(AU48>0,AV48>0,AW48>0,AX48>0), MIN(BA48, MAX('MDA1'!K48,'MDA4'!S48,MAX( 'MDA3'!I48,'MDA3'!L48),W48,AL48)))","v":0},{"$f":"_xlfn.IFS(AND(AU48=0,AV48=0,AW48=0,AX48=0),0,AND(AU48=0,AV48=0,AW48=0,AX48>0),AO48,AND(AU48=0,AV48=0,AW48>0,AX48=0),Z48,AND(AU48=0,AV48=0,AW48>0,AX48>0),MAX(Z48,AO48),AND(AU48=0,AV48>0,AW48=0,AX48=0),MIN(J48*PROFILE!$G$10,MAX('MDA3'!J48,'MDA3'!J48)),AND(AU48=0,AV48>0,AW48=0,AX48>0),MIN(J48*PROFILE!$G$10,MAX('MDA3'!J48,'MDA3'!M48,AO48)),AND(AU48=0,AV48>0,AW48>0,AX48=0),MIN(J48*PROFILE!$G$10,MAX('MDA3'!J48,'MDA3'!M48,Z48)),AND(AU48=0,AV48>0,AW48>0,AX48>0),MIN(J48*PROFILE!$G$10,MAX('MDA3'!J48,'MDA3'!M48,Z48,AO48)),AND(AU48>0,AV48=0,AW48=0,AX48=0), MIN(BB48,MAX('MDA1'!L48,'MDA4'!T48)),AND(AU48>0,AV48=0,AW48=0,AX48>0), MIN(BB48,MAX('MDA1'!L48,'MDA4'!T48,AO48)),AND(AU48>0,AV48=0,AW48>0,AX48=0),MIN(BB48,MAX('MDA1'!L48,'MDA4'!T48,Z48)),AND(AU48>0,AV48=0,AW48>0,AX48>0),MIN(BB48,MAX('MDA1'!L48,'MDA4'!T48,Z48,AO48)),AND(AU48>0,AV48>0,AW48=0,AX48=0),MIN(BB48, MAX('MDA1'!L48,'MDA4'!T48,MAX( 'MDA3'!J48,'MDA3'!M48))), AND(AU48>0,AV48>0,AW48=0,AX48>0),MIN(BB48, MAX('MDA1'!L48,'MDA4'!T48,MAX( 'MDA3'!J48,'MDA3'!M48),AO48)), AND(AU48>0,AV48>0,AW48>0,AX48=0), MIN(BB48, MAX('MDA1'!L48,'MDA4'!T48,MAX( 'MDA3'!J48,'MDA3'!M48),Z48)), AND(AU48>0,AV48>0,AW48>0,AX48>0), MIN(BB48, MAX('MDA1'!L48,'MDA4'!T48,MAX( 'MDA3'!J48,'MDA3'!M48),Z48,AO48)))","v":0},0,0]
[{"$f":"IF(COUNTRY_INFO!A49=0,\" \",COUNTRY_INFO!A49)","v":"South Sudan"},{"$f":"IF(COUNTRY_INFO!B49=0,\" \",COUNTRY_INFO!B49)","v":"Unity"},{"$f":"IF(COUNTRY_INFO!C49=0,\" \",COUNTRY_INFO!C49)","v":"ABIEMNHOM"},{"$f":"COUNTRY_INFO!M49","v":0},null,null,{"$f":"'MDA1'!M49+'MDA4'!U49","v":0},{"$f":"IF(AND(COUNTRY_INFO!H49>0,COUNTRY_INFO!H49<4),IF(D49>G49,G49,D49),0)","v":0},{"$f":"IF(AND(COUNTRY_INFO!H49>0,COUNTRY_INFO!H49<4), IF(G49/D49*100<>0, IF(G49/D49*100>100,100,G49/D49*100), \"-\"),0)","v":0},{"$f":"COUNTRY_INFO!N49","v":"Unknown"},null,null,{"$f":"MAX('MDA1'!M49,MAX('MDA3'!I49,'MDA3'!L49)+MAX('MDA3'!J49,'MDA3'!M49))","v":0},{"$f":"IF(AND(COUNTRY_INFO!I49>0,COUNTRY_INFO!I49<4),IF(J49>M49,M49,J49),0)","v":0},{"$f":"IF(AND(COUNTRY_INFO!I49>0,COUNTRY_INFO!I49<4), IF(M49/J49*100<>0, IF(M49/J49*100>100,100,M49/J49*100), \"-\"),0)","v":0},{"$f":"COUNTRY_INFO!R49","v":0},null,null,{"$f":"MAX('MDA4'!R49,'T1'!K49, MAX(T3_R1!J49,T3_R2!J49,T3_R3!J49))","v":0},{"$f":"IF(AND(COUNTRY_INFO!J49>1,COUNTRY_INFO!J49<99,COUNTRY_INFO!J49<>4,COUNTRY_INFO!J49<>5),IF(COUNTRY_INFO!O49>S49,S49,COUNTRY_INFO!O49),0)","v":0},{"$f":"IF(AND(COUNTRY_INFO!J49>1,COUNTRY_INFO!J49<99,COUNTRY_INFO!J49<>4,COUNTRY_INFO!J49<>5), IF(T49/COUNTRY_INFO!O49*100<>0, IF(T49/COUNTRY_INFO!O49*100>100,100,T49/COUNTRY_INFO!O49*100), \"-\"),0)","v":0},{"$f":"MAX('MDA1'!K49,'MDA4'!S49, 'T1'!L49, MAX(T3_R1!K49,T3_R2!K49,T3_R3!K49))","v":0},{"$f":"IF(AND(COUNTRY_INFO!J49>1,COUNTRY_INFO!J49<99,COUNTRY_INFO!J49<>4,COUNTRY_INFO!J49<>5),IF(COUNTRY_INFO!P49>V49,V49,COUNTRY_INFO!P49),0)","v":0},{"$f":"IF(AND(COUNTRY_INFO!J49>1,COUNTRY_INFO!J49<99,COUNTRY_INFO!J49<>4,COUNTRY_INFO!J49<>5), IF(W49/COUNTRY_INFO!P49*100<>0, IF(W49/COUNTRY_INFO!P49*100>100,100,W49/COUNTRY_INFO!P49*100), \"-\"),0)","v":0},{"$f":"MAX('MDA1'!L49,'MDA4'!T49, 'T1'!M49, MAX(T3_R1!L49,T3_R2!L49,T3_R3!L49))","v":0},{"$f":"IF(AND(COUNTRY_INFO!J49>1,COUNTRY_INFO!J49<99,COUNTRY_INFO!J49<>4,COUNTRY_INFO!J49<>5),IF(COUNTRY_INFO!Q49>Y49,Y49,COUNTRY_INFO!Q49),0)","v":0},{"$f":"IF(AND(COUNTRY_INFO!J49>1,COUNTRY_INFO!J49<99,COUNTRY_INFO!J49<>4,COUNTRY_INFO!J49<>5), IF(Z49/COUNTRY_INFO!Q49*100<>0, IF(Z49/COUNTRY_INFO!Q49*100>100,100,Z49/COUNTRY_INFO!Q49*100), \"-\"),0)","v":0},0,0,{"$f":"IF(AND(COUNTRY_INFO!J49>1,COUNTRY_INFO!J49<99,COUNTRY_INFO!J49<>4,COUNTRY_INFO!J49<>5), IF(AC49/P49*100<>0, IF(AC49/P49*100>100,100,AC49/P49*100), \"-\"),0)","v":0},{"$f":"COUNTRY_INFO!V49","v":18124},null,null,{"$f":"MAX('T1'!K49,'T2'!R49)","v":0},{"$f":"IF(AND(COUNTRY_INFO!K49>1,COUNTRY_INFO!K49<99,COUNTRY_INFO!K49<>4,COUNTRY_INFO!K49<>5),IF(COUNTRY_INFO!S49>AH49,AH49,COUNTRY_INFO!S49),0)","v":0},{"$f":"IF(AND(COUNTRY_INFO!K49>1,COUNTRY_INFO!K49<99,COUNTRY_INFO!K49<>4,COUNTRY_INFO!K49<>5), IF(AI49/COUNTRY_INFO!S49*100<>0, IF(AI49/COUNTRY_INFO!S49*100>100,100,AI49/COUNTRY_INFO!S49*100), \"-\"),0)","v":"-"},{"$f":"MAX('T1'!L49,'T2'!S49)","v":0},{"$f":"IF(AND(COUNTRY_INFO!K49>1,COUNTRY_INFO!K49<99,COUNTRY_INFO!K49<>4,COUNTRY_INFO!K49<>5),IF(COUNTRY_INFO!T49>AK49,AK49,COUNTRY_INFO!T49),0)","v":0},{"$f":"IF(AND(COUNTRY_INFO!K49>1,COUNTRY_INFO!K49<99,COUNTRY_INFO!K49<>4,COUNTRY_INFO!K49<>5), IF(AL49/COUNTRY_INFO!T49*100<>0, IF(AL49/COUNTRY_INFO!T49*100>100,100,AL49/COUNTRY_INFO!T49*100), \"-\"),0)","v":"-"},{"$f":"MAX('T1'!M49,'T2'!T49)","v":0},{"$f":"IF(AND(COUNTRY_INFO!K49>1,COUNTRY_INFO!K49<99,COUNTRY_INFO!K49<>4,COUNTRY_INFO!K49<>5),IF(COUNTRY_INFO!U49>AN49,AN49,COUNTRY_INFO!U49),0)","v":0},{"$f":"IF(AND(COUNTRY_INFO!K49>1,COUNTRY_INFO!K49<99,COUNTRY_INFO!K49<>4,COUNTRY_INFO!K49<>5), IF(AO49/COUNTRY_INFO!U49*100<>0, IF(AO49/COUNTRY_INFO!U49*100>100,100,AO49/COUNTRY_INFO!U49*100), \"-\"),0)","v":"-"},0,0,{"$f":"IF(AND(COUNTRY_INFO!K49>1,COUNTRY_INFO!K49<99,COUNTRY_INFO!K49<>4,COUNTRY_INFO!K49<>5), IF(AH49/AE49*100<>0, IF(AR49/AE49*100>100,100,AR49/AE49*100), \"-\"),0)","v":"-"},null,{"$f":"IF(AND(D49<>0, D49<>\"Unknown\",D49<>\"Stopped\",D49<>\"Not required\"),D49/COUNTRY_INFO!D49, 0)","v":0},{"$f":"IF(AND(J49<>0,J49<>\"Unknown\",J49<>\"Stopped\",J49<>\"Not required\"),J49/COUNTRY_INFO!D49, 0)","v":0},{"$f":"IF(AND(P49<>0,P49<>\"Unknown\",P49<>\"Surveillance\",P49<>\"Not required\"),P49/COUNTRY_INFO!R49, 0)","v":0},{"$f":"IF(AND(AE49<>0,AE49<>\"Unknown\",AE49<>\"Surveillance\",AE49<>\"Not required\"),AE49/COUNTRY_INFO!V49, 0)","v":1},{"$f":"IF(AU49>0,D49*PROFILE!$G$7,IF(AV49>0,J49*PROFILE!$G$7,0))","v":0},{"$f":"_xlfn.IFS(OR(AU49>0,AW49>0),COUNTRY_INFO!E49, AV49>0,J49*PROFILE!$G$8,AX49>0,COUNTRY_INFO!S49,COUNTIFS(AU49:AX49,\">0\")=0,0)","v":1620},{"$f":"_xlfn.IFS(OR(AU49>0,AW49>0),COUNTRY_INFO!F49, AV49>0,J49*PROFILE!$G$9,AX49>0,COUNTRY_INFO!T49,COUNTIFS(AU49:AX49,\">0\")=0,0)","v":5228},{"$f":"_xlfn.IFS(AU49>0,COUNTRY_INFO!G49, AND(AV49>0,AW49=0,AX49=0),J49*PROFILE!$G$10,AND(AV49>0,AW49>0,AX49=0), MAX(J49*PROFILE!$G$10,COUNTRY_INFO!Q49),AND(AV49>0,AW49=0,AX49>0), MAX(J49*PROFILE!$G$10,COUNTRY_INFO!U49),AND(AV49=0,AW49>0,AX49>0), MAX(COUNTRY_INFO!Q49,COUNTRY_INFO!U49),AND(AV49=0,AW49>0,AX49=0),COUNTRY_INFO!Q49,AND(AV49=0,AW49=0,AX49>0),COUNTRY_INFO!U49,AND(AV49>0,AW49>0,AX49>0), MAX(J49*PROFILE!$G$10,COUNTRY_INFO!Q49,COUNTRY_INFO!U49),COUNTIFS(AU49:AX49,\">0\")=0,0)","v":11276},18124,0,{"$f":"MAX('MDA4'!R49,S49,AH49)","v":0},{"$f":"MAX('MDA1'!K49,'MDA4'!S49,'MDA3'!I49,'MDA3'!L49,V49,AK49)","v":0},{"$f":"MAX('MDA1'!L49,'MDA4'!T49,'MDA3'!J49,'MDA3'!M49,Y49,AN49)","v":0},0,{"$f":"_xlfn.IFS(AND(AU49=0,AW49=0,AX49=0),0,AND(AU49=0,AW49=0,AX49>0),AI49,AND(AU49=0,AW49>0,AX49=0),T49,AND(AU49=0,AW49>0,AX49>0),MAX(T49,AI49),AND(AU49>0,AW49=0,AX49=0),MIN('MDA4'!R49,AZ49),AND(AU49>0,AW49=0,AX49>0),MIN(MAX('MDA4'!R49,AI49),AZ49),AND(AU49>0,AW49>0,AX49=0),MIN(MAX('MDA4'!R49,T49),AZ49),AND(AU49>0,AW49>0,AX49>0),MIN(MAX('MDA4'!R49,AI49,T49),AZ49))","v":0},{"$f":"_xlfn.IFS(AND(AU49=0,AV49=0,AW49=0,AX49=0),0,AND(AU49=0,AV49=0,AW49=0,AX49>0),AL49,AND(AU49=0,AV49=0,AW49>0,AX49=0),W49,AND(AU49=0,AV49=0,AW49>0,AX49>0),MAX(W49,AL49),AND(AU49=0,AV49>0,AW49=0,AX49=0),MIN(J49*PROFILE!$G$9,MAX('MDA3'!I49,'MDA3'!L49)),AND(AU49=0,AV49>0,AW49=0,AX49>0),MIN(J49*PROFILE!$G$9,MAX('MDA3'!I49,'MDA3'!L49,AL49)),AND(AU49=0,AV49>0,AW49>0,AX49=0),MIN(J49*PROFILE!$G$9,MAX('MDA3'!I49,'MDA3'!L49,W49)),AND(AU49=0,AV49>0,AW49>0,AX49>0),MIN(J49*PROFILE!$G$9,MAX('MDA3'!I49,'MDA3'!L49,W49,AL49)),AND(AU49>0,AV49=0,AW49=0,AX49=0), MIN(BA49,MAX('MDA1'!K49,'MDA4'!S49)),AND(AU49>0,AV49=0,AW49=0,AX49>0), MIN(BA49,MAX('MDA1'!K49,'MDA4'!S49,AL49)),AND(AU49>0,AV49=0,AW49>0,AX49=0),MIN(BA49,MAX('MDA1'!K49,'MDA4'!S49,W49)),AND(AU49>0,AV49=0,AW49>0,AX49>0),MIN(BA49,MAX('MDA1'!K49,'MDA4'!S49,W49,AL49)),AND(AU49>0,AV49>0,AW49=0,AX49=0),MIN(BA49, MAX('MDA1'!K49,'MDA4'!S49,MAX('MDA3'!I49,'MDA3'!L49))), AND(AU49>0,AV49>0,AW49=0,AX49>0),MIN(BA49, MAX('MDA1'!K49,'MDA4'!S49,MAX( 'MDA3'!I49,'MDA3'!L49),AL49)), AND(AU49>0,AV49>0,AW49>0,AX49=0), MIN(BA49, MAX('MDA1'!K49,'MDA4'!S49,MAX( 'MDA3'!I49,'MDA3'!L49),W49)), AND(AU49>0,AV49>0,AW49>0,AX49>0), MIN(BA49, MAX('MDA1'!K49,'MDA4'!S49,MAX( 'MDA3'!I49,'MDA3'!L49),W49,AL49)))","v":0},{"$f":"_xlfn.IFS(AND(AU49=0,AV49=0,AW49=0,AX49=0),0,AND(AU49=0,AV49=0,AW49=0,AX49>0),AO49,AND(AU49=0,AV49=0,AW49>0,AX49=0),Z49,AND(AU49=0,AV49=0,AW49>0,AX49>0),MAX(Z49,AO49),AND(AU49=0,AV49>0,AW49=0,AX49=0),MIN(J49*PROFILE!$G$10,MAX('MDA3'!J49,'MDA3'!J49)),AND(AU49=0,AV49>0,AW49=0,AX49>0),MIN(J49*PROFILE!$G$10,MAX('MDA3'!J49,'MDA3'!M49,AO49)),AND(AU49=0,AV49>0,AW49>0,AX49=0),MIN(J49*PROFILE!$G$10,MAX('MDA3'!J49,'MDA3'!M49,Z49)),AND(AU49=0,AV49>0,AW49>0,AX49>0),MIN(J49*PROFILE!$G$10,MAX('MDA3'!J49,'MDA3'!M49,Z49,AO49)),AND(AU49>0,AV49=0,AW49=0,AX49=0), MIN(BB49,MAX('MDA1'!L49,'MDA4'!T49)),AND(AU49>0,AV49=0,AW49=0,AX49>0), MIN(BB49,MAX('MDA1'!L49,'MDA4'!T49,AO49)),AND(AU49>0,AV49=0,AW49>0,AX49=0),MIN(BB49,MAX('MDA1'!L49,'MDA4'!T49,Z49)),AND(AU49>0,AV49=0,AW49>0,AX49>0),MIN(BB49,MAX('MDA1'!L49,'MDA4'!T49,Z49,AO49)),AND(AU49>0,AV49>0,AW49=0,AX49=0),MIN(BB49, MAX('MDA1'!L49,'MDA4'!T49,MAX( 'MDA3'!J49,'MDA3'!M49))), AND(AU49>0,AV49>0,AW49=0,AX49>0),MIN(BB49, MAX('MDA1'!L49,'MDA4'!T49,MAX( 'MDA3'!J49,'MDA3'!M49),AO49)), AND(AU49>0,AV49>0,AW49>0,AX49=0), MIN(BB49, MAX('MDA1'!L49,'MDA4'!T49,MAX( 'MDA3'!J49,'MDA3'!M49),Z49)), AND(AU49>0,AV49>0,AW49>0,AX49>0), MIN(BB49, MAX('MDA1'!L49,'MDA4'!T49,MAX( 'MDA3'!J49,'MDA3'!M49),Z49,AO49)))","v":0},0,0]
[{"$f":"IF(COUNTRY_INFO!A50=0,\" \",COUNTRY_INFO!A50)","v":"South Sudan"},{"$f":"IF(COUNTRY_INFO!B50=0,\" \",COUNTRY_INFO!B50)","v":"Unity"},{"$f":"IF(COUNTRY_INFO!C50=0,\" \",COUNTRY_INFO!C50)","v":"MAYOM"},{"$f":"COUNTRY_INFO!M50","v":0},null,null,{"$f":"'MDA1'!M50+'MDA4'!U50","v":0},{"$f":"IF(AND(COUNTRY_INFO!H50>0,COUNTRY_INFO!H50<4),IF(D50>G50,G50,D50),0)","v":0},{"$f":"IF(AND(COUNTRY_INFO!H50>0,COUNTRY_INFO!H50<4), IF(G50/D50*100<>0, IF(G50/D50*100>100,100,G50/D50*100), \"-\"),0)","v":0},{"$f":"COUNTRY_INFO!N50","v":"Unknown"},null,null,{"$f":"MAX('MDA1'!M50,MAX('MDA3'!I50,'MDA3'!L50)+MAX('MDA3'!J50,'MDA3'!M50))","v":0},{"$f":"IF(AND(COUNTRY_INFO!I50>0,COUNTRY_INFO!I50<4),IF(J50>M50,M50,J50),0)","v":0},{"$f":"IF(AND(COUNTRY_INFO!I50>0,COUNTRY_INFO!I50<4), IF(M50/J50*100<>0, IF(M50/J50*100>100,100,M50/J50*100), \"-\"),0)","v":0},{"$f":"COUNTRY_INFO!R50","v":0},null,null,{"$f":"MAX('MDA4'!R50,'T1'!K50, MAX(T3_R1!J50,T3_R2!J50,T3_R3!J50))","v":0},{"$f":"IF(AND(COUNTRY_INFO!J50>1,COUNTRY_INFO!J50<99,COUNTRY_INFO!J50<>4,COUNTRY_INFO!J50<>5),IF(COUNTRY_INFO!O50>S50,S50,COUNTRY_INFO!O50),0)","v":0},{"$f":"IF(AND(COUNTRY_INFO!J50>1,COUNTRY_INFO!J50<99,COUNTRY_INFO!J50<>4,COUNTRY_INFO!J50<>5), IF(T50/COUNTRY_INFO!O50*100<>0, IF(T50/COUNTRY_INFO!O50*100>100,100,T50/COUNTRY_INFO!O50*100), \"-\"),0)","v":0},{"$f":"MAX('MDA1'!K50,'MDA4'!S50, 'T1'!L50, MAX(T3_R1!K50,T3_R2!K50,T3_R3!K50))","v":0},{"$f":"IF(AND(COUNTRY_INFO!J50>1,COUNTRY_INFO!J50<99,COUNTRY_INFO!J50<>4,COUNTRY_INFO!J50<>5),IF(COUNTRY_INFO!P50>V50,V50,COUNTRY_INFO!P50),0)","v":0},{"$f":"IF(AND(COUNTRY_INFO!J50>1,COUNTRY_INFO!J50<99,COUNTRY_INFO!J50<>4,COUNTRY_INFO!J50<>5), IF(W50/COUNTRY_INFO!P50*100<>0, IF(W50/COUNTRY_INFO!P50*100>100,100,W50/COUNTRY_INFO!P50*100), \"-\"),0)","v":0},{"$f":"MAX('MDA1'!L50,'MDA4'!T50, 'T1'!M50, MAX(T3_R1!L50,T3_R2!L50,T3_R3!L50))","v":0},{"$f":"IF(AND(COUNTRY_INFO!J50>1,COUNTRY_INFO!J50<99,COUNTRY_INFO!J50<>4,COUNTRY_INFO!J50<>5),IF(COUNTRY_INFO!Q50>Y50,Y50,COUNTRY_INFO!Q50),0)","v":0},{"$f":"IF(AND(COUNTRY_INFO!J50>1,COUNTRY_INFO!J50<99,COUNTRY_INFO!J50<>4,COUNTRY_INFO!J50<>5), IF(Z50/COUNTRY_INFO!Q50*100<>0, IF(Z50/COUNTRY_INFO!Q50*100>100,100,Z50/COUNTRY_INFO!Q50*100), \"-\"),0)","v":0},0,0,{"$f":"IF(AND(COUNTRY_INFO!J50>1,COUNTRY_INFO!J50<99,COUNTRY_INFO!J50<>4,COUNTRY_INFO!J50<>5), IF(AC50/P50*100<>0, IF(AC50/P50*100>100,100,AC50/P50*100), \"-\"),0)","v":0},{"$f":"COUNTRY_INFO!V50","v":67060},null,null,{"$f":"MAX('T1'!K50,'T2'!R50)","v":0},{"$f":"IF(AND(COUNTRY_INFO!K50>1,COUNTRY_INFO!K50<99,COUNTRY_INFO!K50<>4,COUNTRY_INFO!K50<>5),IF(COUNTRY_INFO!S50>AH50,AH50,COUNTRY_INFO!S50),0)","v":0},{"$f":"IF(AND(COUNTRY_INFO!K50>1,COUNTRY_INFO!K50<99,COUNTRY_INFO!K50<>4,COUNTRY_INFO!K50<>5), IF(AI50/COUNTRY_INFO!S50*100<>0, IF(AI50/COUNTRY_INFO!S50*100>100,100,AI50/COUNTRY_INFO!S50*100), \"-\"),0)","v":"-"},{"$f":"MAX('T1'!L50,'T2'!S50)","v":0},{"$f":"IF(AND(COUNTRY_INFO!K50>1,COUNTRY_INFO!K50<99,COUNTRY_INFO!K50<>4,COUNTRY_INFO!K50<>5),IF(COUNTRY_INFO!T50>AK50,AK50,COUNTRY_INFO!T50),0)","v":0},{"$f":"IF(AND(COUNTRY_INFO!K50>1,COUNTRY_INFO!K50<99,COUNTRY_INFO!K50<>4,COUNTRY_INFO!K50<>5), IF(AL50/COUNTRY_INFO!T50*100<>0, IF(AL50/COUNTRY_INFO!T50*100>100,100,AL50/COUNTRY_INFO!T50*100), \"-\"),0)","v":"-"},{"$f":"MAX('T1'!M50,'T2'!T50)","v":0},{"$f":"IF(AND(COUNTRY_INFO!K50>1,COUNTRY_INFO!K50<99,COUNTRY_INFO!K50<>4,COUNTRY_INFO!K50<>5),IF(COUNTRY_INFO!U50>AN50,AN50,COUNTRY_INFO!U50),0)","v":0},{"$f":"IF(AND(COUNTRY_INFO!K50>1,COUNTRY_INFO!K50<99,COUNTRY_INFO!K50<>4,COUNTRY_INFO!K50<>5), IF(AO50/COUNTRY_INFO!U50*100<>0, IF(AO50/COUNTRY_INFO!U50*100>100,100,AO50/COUNTRY_INFO!U50*100), \"-\"),0)","v":"-"},0,0,{"$f":"IF(AND(COUNTRY_INFO!K50>1,COUNTRY_INFO!K50<99,COUNTRY_INFO!K50<>4,COUNTRY_INFO!K50<>5), IF(AH50/AE50*100<>0, IF(AR50/AE50*100>100,100,AR50/AE50*100), \"-\"),0)","v":"-"},null,{"$f":"IF(AND(D50<>0, D50<>\"Unknown\",D50<>\"Stopped\",D50<>\"Not required\"),D50/COUNTRY_INFO!D50, 0)","v":0},{"$f":"IF(AND(J50<>0,J50<>\"Unknown\",J50<>\"Stopped\",J50<>\"Not required\"),J50/COUNTRY_INFO!D50, 0)","v":0},{"$f":"IF(AND(P50<>0,P50<>\"Unknown\",P50<>\"Surveillance\",P50<>\"Not required\"),P50/COUNTRY_INFO!R50, 0)","v":0},{"$f":"IF(AND(AE50<>0,AE50<>\"Unknown\",AE50<>\"Surveillance\",AE50<>\"Not required\"),AE50/COUNTRY_INFO!V50, 0)","v":1},{"$f":"IF(AU50>0,D50*PROFILE!$G$7,IF(AV50>0,J50*PROFILE!$G$7,0))","v":0},{"$f":"_xlfn.IFS(OR(AU50>0,AW50>0),COUNTRY_INFO!E50, AV50>0,J50*PROFILE!$G$8,AX50>0,COUNTRY_INFO!S50,COUNTIFS(AU50:AX50,\">0\")=0,0)","v":5993},{"$f":"_xlfn.IFS(OR(AU50>0,AW50>0),COUNTRY_INFO!F50, AV50>0,J50*PROFILE!$G$9,AX50>0,COUNTRY_INFO!T50,COUNTIFS(AU50:AX50,\">0\")=0,0)","v":19345},{"$f":"_xlfn.IFS(AU50>0,COUNTRY_INFO!G50, AND(AV50>0,AW50=0,AX50=0),J50*PROFILE!$G$10,AND(AV50>0,AW50>0,AX50=0), MAX(J50*PROFILE!$G$10,COUNTRY_INFO!Q50),AND(AV50>0,AW50=0,AX50>0), MAX(J50*PROFILE!$G$10,COUNTRY_INFO!U50),AND(AV50=0,AW50>0,AX50>0), MAX(COUNTRY_INFO!Q50,COUNTRY_INFO!U50),AND(AV50=0,AW50>0,AX50=0),COUNTRY_INFO!Q50,AND(AV50=0,AW50=0,AX50>0),COUNTRY_INFO!U50,AND(AV50>0,AW50>0,AX50>0), MAX(J50*PROFILE!$G$10,COUNTRY_INFO!Q50,COUNTRY_INFO!U50),COUNTIFS(AU50:AX50,\">0\")=0,0)","v":41722},67060,0,{"$f":"MAX('MDA4'!R50,S50,AH50)","v":0},{"$f":"MAX('MDA1'!K50,'MDA4'!S50,'MDA3'!I50,'MDA3'!L50,V50,AK50)","v":0},{"$f":"MAX('MDA1'!L50,'MDA4'!T50,'MDA3'!J50,'MDA3'!M50,Y50,AN50)","v":0},0,{"$f":"_xlfn.IFS(AND(AU50=0,AW50=0,AX50=0),0,AND(AU50=0,AW50=0,AX50>0),AI50,AND(AU50=0,AW50>0,AX50=0),T50,AND(AU50=0,AW50>0,AX50>0),MAX(T50,AI50),AND(AU50>0,AW50=0,AX50=0),MIN('MDA4'!R50,AZ50),AND(AU50>0,AW50=0,AX50>0),MIN(MAX('MDA4'!R50,AI50),AZ50),AND(AU50>0,AW50>0,AX50=0),MIN(MAX('MDA4'!R50,T50),AZ50),AND(AU50>0,AW50>0,AX50>0),MIN(MAX('MDA4'!R50,AI50,T50),AZ50))","v":0},{"$f":"_xlfn.IFS(AND(AU50=0,AV50=0,AW50=0,AX50=0),0,AND(AU50=0,AV50=0,AW50=0,AX50>0),AL50,AND(AU50=0,AV50=0,AW50>0,AX50=0),W50,AND(AU50=0,AV50=0,AW50>0,AX50>0),MAX(W50,AL50),AND(AU50=0,AV50>0,AW50=0,AX50=0),MIN(J50*PROFILE!$G$9,MAX('MDA3'!I50,'MDA3'!L50)),AND(AU50=0,AV50>0,AW50=0,AX50>0),MIN(J50*PROFILE!$G$9,MAX('MDA3'!I50,'MDA3'!L50,AL50)),AND(AU50=0,AV50>0,AW50>0,AX50=0),MIN(J50*PROFILE!$G$9,MAX('MDA3'!I50,'MDA3'!L50,W50)),AND(AU50=0,AV50>0,AW50>0,AX50>0),MIN(J50*PROFILE!$G$9,MAX('MDA3'!I50,'MDA3'!L50,W50,AL50)),AND(AU50>0,AV50=0,AW50=0,AX50=0), MIN(BA50,MAX('MDA1'!K50,'MDA4'!S50)),AND(AU50>0,AV50=0,AW50=0,AX50>0), MIN(BA50,MAX('MDA1'!K50,'MDA4'!S50,AL50)),AND(AU50>0,AV50=0,AW50>0,AX50=0),MIN(BA50,MAX('MDA1'!K50,'MDA4'!S50,W50)),AND(AU50>0,AV50=0,AW50>0,AX50>0),MIN(BA50,MAX('MDA1'!K50,'MDA4'!S50,W50,AL50)),AND(AU50>0,AV50>0,AW50=0,AX50=0),MIN(BA50, MAX('MDA1'!K50,'MDA4'!S50,MAX('MDA3'!I50,'MDA3'!L50))), AND(AU50>0,AV50>0,AW50=0,AX50>0),MIN(BA50, MAX('MDA1'!K50,'MDA4'!S50,MAX( 'MDA3'!I50,'MDA3'!L50),AL50)), AND(AU50>0,AV50>0,AW50>0,AX50=0), MIN(BA50, MAX('MDA1'!K50,'MDA4'!S50,MAX( 'MDA3'!I50,'MDA3'!L50),W50)), AND(AU50>0,AV50>0,AW50>0,AX50>0), MIN(BA50, MAX('MDA1'!K50,'MDA4'!S50,MAX( 'MDA3'!I50,'MDA3'!L50),W50,AL50)))","v":0},{"$f":"_xlfn.IFS(AND(AU50=0,AV50=0,AW50=0,AX50=0),0,AND(AU50=0,AV50=0,AW50=0,AX50>0),AO50,AND(AU50=0,AV50=0,AW50>0,AX50=0),Z50,AND(AU50=0,AV50=0,AW50>0,AX50>0),MAX(Z50,AO50),AND(AU50=0,AV50>0,AW50=0,AX50=0),MIN(J50*PROFILE!$G$10,MAX('MDA3'!J50,'MDA3'!J50)),AND(AU50=0,AV50>0,AW50=0,AX50>0),MIN(J50*PROFILE!$G$10,MAX('MDA3'!J50,'MDA3'!M50,AO50)),AND(AU50=0,AV50>0,AW50>0,AX50=0),MIN(J50*PROFILE!$G$10,MAX('MDA3'!J50,'MDA3'!M50,Z50)),AND(AU50=0,AV50>0,AW50>0,AX50>0),MIN(J50*PROFILE!$G$10,MAX('MDA3'!J50,'MDA3'!M50,Z50,AO50)),AND(AU50>0,AV50=0,AW50=0,AX50=0), MIN(BB50,MAX('MDA1'!L50,'MDA4'!T50)),AND(AU50>0,AV50=0,AW50=0,AX50>0), MIN(BB50,MAX('MDA1'!L50,'MDA4'!T50,AO50)),AND(AU50>0,AV50=0,AW50>0,AX50=0),MIN(BB50,MAX('MDA1'!L50,'MDA4'!T50,Z50)),AND(AU50>0,AV50=0,AW50>0,AX50>0),MIN(BB50,MAX('MDA1'!L50,'MDA4'!T50,Z50,AO50)),AND(AU50>0,AV50>0,AW50=0,AX50=0),MIN(BB50, MAX('MDA1'!L50,'MDA4'!T50,MAX( 'MDA3'!J50,'MDA3'!M50))), AND(AU50>0,AV50>0,AW50=0,AX50>0),MIN(BB50, MAX('MDA1'!L50,'MDA4'!T50,MAX( 'MDA3'!J50,'MDA3'!M50),AO50)), AND(AU50>0,AV50>0,AW50>0,AX50=0), MIN(BB50, MAX('MDA1'!L50,'MDA4'!T50,MAX( 'MDA3'!J50,'MDA3'!M50),Z50)), AND(AU50>0,AV50>0,AW50>0,AX50>0), MIN(BB50, MAX('MDA1'!L50,'MDA4'!T50,MAX( 'MDA3'!J50,'MDA3'!M50),Z50,AO50)))","v":0},0,0]
[{"$f":"IF(COUNTRY_INFO!A51=0,\" \",COUNTRY_INFO!A51)","v":"South Sudan"},{"$f":"IF(COUNTRY_INFO!B51=0,\" \",COUNTRY_INFO!B51)","v":"Unity"},{"$f":"IF(COUNTRY_INFO!C51=0,\" \",COUNTRY_INFO!C51)","v":"RUBKONA"},{"$f":"COUNTRY_INFO!M51","v":179763.13960000002},null,null,{"$f":"'MDA1'!M51+'MDA4'!U51","v":141030},{"$f":"IF(AND(COUNTRY_INFO!H51>0,COUNTRY_INFO!H51<4),IF(D51>G51,G51,D51),0)","v":141030},{"$f":"IF(AND(COUNTRY_INFO!H51>0,COUNTRY_INFO!H51<4), IF(G51/D51*100<>0, IF(G51/D51*100>100,100,G51/D51*100), \"-\"),0)","v":78.453235915779459},{"$f":"COUNTRY_INFO!N51","v":"Unknown"},null,null,{"$f":"MAX('MDA1'!M51,MAX('MDA3'!I51,'MDA3'!L51)+MAX('MDA3'!J51,'MDA3'!M51))","v":0},{"$f":"IF(AND(COUNTRY_INFO!I51>0,COUNTRY_INFO!I51<4),IF(J51>M51,M51,J51),0)","v":0},{"$f":"IF(AND(COUNTRY_INFO!I51>0,COUNTRY_INFO!I51<4), IF(M51/J51*100<>0, IF(M51/J51*100>100,100,M51/J51*100), \"-\"),0)","v":0},{"$f":"COUNTRY_INFO!R51","v":0},null,null,{"$f":"MAX('MDA4'!R51,'T1'!K51, MAX(T3_R1!J51,T3_R2!J51,T3_R3!J51))","v":0},{"$f":"IF(AND(COUNTRY_INFO!J51>1,COUNTRY_INFO!J51<99,COUNTRY_INFO!J51<>4,COUNTRY_INFO!J51<>5),IF(COUNTRY_INFO!O51>S51,S51,COUNTRY_INFO!O51),0)","v":0},{"$f":"IF(AND(COUNTRY_INFO!J51>1,COUNTRY_INFO!J51<99,COUNTRY_INFO!J51<>4,COUNTRY_INFO!J51<>5), IF(T51/COUNTRY_INFO!O51*100<>0, IF(T51/COUNTRY_INFO!O51*100>100,100,T51/COUNTRY_INFO!O51*100), \"-\"),0)","v":0},{"$f":"MAX('MDA1'!K51,'MDA4'!S51, 'T1'!L51, MAX(T3_R1!K51,T3_R2!K51,T3_R3!K51))","v":68618},{"$f":"IF(AND(COUNTRY_INFO!J51>1,COUNTRY_INFO!J51<99,COUNTRY_INFO!J51<>4,COUNTRY_INFO!J51<>5),IF(COUNTRY_INFO!P51>V51,V51,COUNTRY_INFO!P51),0)","v":0},{"$f":"IF(AND(COUNTRY_INFO!J51>1,COUNTRY_INFO!J51<99,COUNTRY_INFO!J51<>4,COUNTRY_INFO!J51<>5), IF(W51/COUNTRY_INFO!P51*100<>0, IF(W51/COUNTRY_INFO!P51*100>100,100,W51/COUNTRY_INFO!P51*100), \"-\"),0)","v":0},{"$f":"MAX('MDA1'!L51,'MDA4'!T51, 'T1'!M51, MAX(T3_R1!L51,T3_R2!L51,T3_R3!L51))","v":72412},{"$f":"IF(AND(COUNTRY_INFO!J51>1,COUNTRY_INFO!J51<99,COUNTRY_INFO!J51<>4,COUNTRY_INFO!J51<>5),IF(COUNTRY_INFO!Q51>Y51,Y51,COUNTRY_INFO!Q51),0)","v":0},{"$f":"IF(AND(COUNTRY_INFO!J51>1,COUNTRY_INFO!J51<99,COUNTRY_INFO!J51<>4,COUNTRY_INFO!J51<>5), IF(Z51/COUNTRY_INFO!Q51*100<>0, IF(Z51/COUNTRY_INFO!Q51*100>100,100,Z51/COUNTRY_INFO!Q51*100), \"-\"),0)","v":0},141030,0,{"$f":"IF(AND(COUNTRY_INFO!J51>1,COUNTRY_INFO!J51<99,COUNTRY_INFO!J51<>4,COUNTRY_INFO!J51<>5), IF(AC51/P51*100<>0, IF(AC51/P51*100>100,100,AC51/P51*100), \"-\"),0)","v":0},{"$f":"COUNTRY_INFO!V51","v":162243},null,null,{"$f":"MAX('T1'!K51,'T2'!R51)","v":0},{"$f":"IF(AND(COUNTRY_INFO!K51>1,COUNTRY_INFO!K51<99,COUNTRY_INFO!K51<>4,COUNTRY_INFO!K51<>5),IF(COUNTRY_INFO!S51>AH51,AH51,COUNTRY_INFO!S51),0)","v":0},{"$f":"IF(AND(COUNTRY_INFO!K51>1,COUNTRY_INFO!K51<99,COUNTRY_INFO!K51<>4,COUNTRY_INFO!K51<>5), IF(AI51/COUNTRY_INFO!S51*100<>0, IF(AI51/COUNTRY_INFO!S51*100>100,100,AI51/COUNTRY_INFO!S51*100), \"-\"),0)","v":"-"},{"$f":"MAX('T1'!L51,'T2'!S51)","v":0},{"$f":"IF(AND(COUNTRY_INFO!K51>1,COUNTRY_INFO!K51<99,COUNTRY_INFO!K51<>4,COUNTRY_INFO!K51<>5),IF(COUNTRY_INFO!T51>AK51,AK51,COUNTRY_INFO!T51),0)","v":0},{"$f":"IF(AND(COUNTRY_INFO!K51>1,COUNTRY_INFO!K51<99,COUNTRY_INFO!K51<>4,COUNTRY_INFO!K51<>5), IF(AL51/COUNTRY_INFO!T51*100<>0, IF(AL51/COUNTRY_INFO!T51*100>100,100,AL51/COUNTRY_INFO!T51*100), \"-\"),0)","v":"-"},{"$f":"MAX('T1'!M51,'T2'!T51)","v":0},{"$f":"IF(AND(COUNTRY_INFO!K51>1,COUNTRY_INFO!K51<99,COUNTRY_INFO!K51<>4,COUNTRY_INFO!K51<>5),IF(COUNTRY_INFO!U51>AN51,AN51,COUNTRY_INFO!U51),0)","v":0},{"$f":"IF(AND(COUNTRY_INFO!K51>1,COUNTRY_INFO!K51<99,COUNTRY_INFO!K51<>4,COUNTRY_INFO!K51<>5), IF(AO51/COUNTRY_INFO!U51*100<>0, IF(AO51/COUNTRY_INFO!U51*100>100,100,AO51/COUNTRY_INFO!U51*100), \"-\"),0)","v":"-"},0,0,{"$f":"IF(AND(COUNTRY_INFO!K51>1,COUNTRY_INFO!K51<99,COUNTRY_INFO!K51<>4,COUNTRY_INFO!K51<>5), IF(AH51/AE51*100<>0, IF(AR51/AE51*100>100,100,AR51/AE51*100), \"-\"),0)","v":"-"},null,{"$f":"IF(AND(D51<>0, D51<>\"Unknown\",D51<>\"Stopped\",D51<>\"Not required\"),D51/COUNTRY_INFO!D51, 0)","v":1},{"$f":"IF(AND(J51<>0,J51<>\"Unknown\",J51<>\"Stopped\",J51<>\"Not required\"),J51/COUNTRY_INFO!D51, 0)","v":0},{"$f":"IF(AND(P51<>0,P51<>\"Unknown\",P51<>\"Surveillance\",P51<>\"Not required\"),P51/COUNTRY_INFO!R51, 0)","v":0},{"$f":"IF(AND(AE51<>0,AE51<>\"Unknown\",AE51<>\"Surveillance\",AE51<>\"Not required\"),AE51/COUNTRY_INFO!V51, 0)","v":1},{"$f":"IF(AU51>0,D51*PROFILE!$G$7,IF(AV51>0,J51*PROFILE!$G$7,0))","v":4943.4741538277895},{"$f":"_xlfn.IFS(OR(AU51>0,AW51>0),COUNTRY_INFO!E51, AV51>0,J51*PROFILE!$G$8,AX51>0,COUNTRY_INFO!S51,COUNTIFS(AU51:AX51,\">0\")=0,0)","v":19900},{"$f":"_xlfn.IFS(OR(AU51>0,AW51>0),COUNTRY_INFO!F51, AV51>0,J51*PROFILE!$G$9,AX51>0,COUNTRY_INFO!T51,COUNTIFS(AU51:AX51,\">0\")=0,0)","v":55529},{"$f":"_xlfn.IFS(AU51>0,COUNTRY_INFO!G51, AND(AV51>0,AW51=0,AX51=0),J51*PROFILE!$G$10,AND(AV51>0,AW51>0,AX51=0), MAX(J51*PROFILE!$G$10,COUNTRY_INFO!Q51),AND(AV51>0,AW51=0,AX51>0), MAX(J51*PROFILE!$G$10,COUNTRY_INFO!U51),AND(AV51=0,AW51>0,AX51>0), MAX(COUNTRY_INFO!Q51,COUNTRY_INFO!U51),AND(AV51=0,AW51>0,AX51=0),COUNTRY_INFO!Q51,AND(AV51=0,AW51=0,AX51>0),COUNTRY_INFO!U51,AND(AV51>0,AW51>0,AX51>0), MAX(J51*PROFILE!$G$10,COUNTRY_INFO!Q51,COUNTRY_INFO!U51),COUNTIFS(AU51:AX51,\">0\")=0,0)","v":99391},179763.47415382779,0,{"$f":"MAX('MDA4'!R51,S51,AH51)","v":0},{"$f":"MAX('MDA1'!K51,'MDA4'!S51,'MDA3'!I51,'MDA3'!L51,V51,AK51)","v":68618},{"$f":"MAX('MDA1'!L51,'MDA4'!T51,'MDA3'!J51,'MDA3'!M51,Y51,AN51)","v":72412},141030,{"$f":"_xlfn.IFS(AND(AU51=0,AW51=0,AX51=0),0,AND(AU51=0,AW51=0,AX51>0),AI51,AND(AU51=0,AW51>0,AX51=0),T51,AND(AU51=0,AW51>0,AX51>0),MAX(T51,AI51),AND(AU51>0,AW51=0,AX51=0),MIN('MDA4'!R51,AZ51),AND(AU51>0,AW51=0,AX51>0),MIN(MAX('MDA4'!R51,AI51),AZ51),AND(AU51>0,AW51>0,AX51=0),MIN(MAX('MDA4'!R51,T51),AZ51),AND(AU51>0,AW51>0,AX51>0),MIN(MAX('MDA4'!R51,AI51,T51),AZ51))","v":0},{"$f":"_xlfn.IFS(AND(AU51=0,AV51=0,AW51=0,AX51=0),0,AND(AU51=0,AV51=0,AW51=0,AX51>0),AL51,AND(AU51=0,AV51=0,AW51>0,AX51=0),W51,AND(AU51=0,AV51=0,AW51>0,AX51>0),MAX(W51,AL51),AND(AU51=0,AV51>0,AW51=0,AX51=0),MIN(J51*PROFILE!$G$9,MAX('MDA3'!I51,'MDA3'!L51)),AND(AU51=0,AV51>0,AW51=0,AX51>0),MIN(J51*PROFILE!$G$9,MAX('MDA3'!I51,'MDA3'!L51,AL51)),AND(AU51=0,AV51>0,AW51>0,AX51=0),MIN(J51*PROFILE!$G$9,MAX('MDA3'!I51,'MDA3'!L51,W51)),AND(AU51=0,AV51>0,AW51>0,AX51>0),MIN(J51*PROFILE!$G$9,MAX('MDA3'!I51,'MDA3'!L51,W51,AL51)),AND(AU51>0,AV51=0,AW51=0,AX51=0), MIN(BA51,MAX('MDA1'!K51,'MDA4'!S51)),AND(AU51>0,AV51=0,AW51=0,AX51>0), MIN(BA51,MAX('MDA1'!K51,'MDA4'!S51,AL51)),AND(AU51>0,AV51=0,AW51>0,AX51=0),MIN(BA51,MAX('MDA1'!K51,'MDA4'!S51,W51)),AND(AU51>0,AV51=0,AW51>0,AX51>0),MIN(BA51,MAX('MDA1'!K51,'MDA4'!S51,W51,AL51)),AND(AU51>0,AV51>0,AW51=0,AX51=0),MIN(BA51, MAX('MDA1'!K51,'MDA4'!S51,MAX('MDA3'!I51,'MDA3'!L51))), AND(AU51>0,AV51>0,AW51=0,AX51>0),MIN(BA51, MAX('MDA1'!K51,'MDA4'!S51,MAX( 'MDA3'!I51,'MDA3'!L51),AL51)), AND(AU51>0,AV51>0,AW51>0,AX51=0), MIN(BA51, MAX('MDA1'!K51,'MDA4'!S51,MAX( 'MDA3'!I51,'MDA3'!L51),W51)), AND(AU51>0,AV51>0,AW51>0,AX51>0), MIN(BA51, MAX('MDA1'!K51,'MDA4'!S51,MAX( 'MDA3'!I51,'MDA3'!L51),W51,AL51)))","v":55529},{"$f":"_xlfn.IFS(AND(AU51=0,AV51=0,AW51=0,AX51=0),0,AND(AU51=0,AV51=0,AW51=0,AX51>0),AO51,AND(AU51=0,AV51=0,AW51>0,AX51=0),Z51,AND(AU51=0,AV51=0,AW51>0,AX51>0),MAX(Z51,AO51),AND(AU51=0,AV51>0,AW51=0,AX51=0),MIN(J51*PROFILE!$G$10,MAX('MDA3'!J51,'MDA3'!J51)),AND(AU51=0,AV51>0,AW51=0,AX51>0),MIN(J51*PROFILE!$G$10,MAX('MDA3'!J51,'MDA3'!M51,AO51)),AND(AU51=0,AV51>0,AW51>0,AX51=0),MIN(J51*PROFILE!$G$10,MAX('MDA3'!J51,'MDA3'!M51,Z51)),AND(AU51=0,AV51>0,AW51>0,AX51>0),MIN(J51*PROFILE!$G$10,MAX('MDA3'!J51,'MDA3'!M51,Z51,AO51)),AND(AU51>0,AV51=0,AW51=0,AX51=0), MIN(BB51,MAX('MDA1'!L51,'MDA4'!T51)),AND(AU51>0,AV51=0,AW51=0,AX51>0), MIN(BB51,MAX('MDA1'!L51,'MDA4'!T51,AO51)),AND(AU51>0,AV51=0,AW51>0,AX51=0),MIN(BB51,MAX('MDA1'!L51,'MDA4'!T51,Z51)),AND(AU51>0,AV51=0,AW51>0,AX51>0),MIN(BB51,MAX('MDA1'!L51,'MDA4'!T51,Z51,AO51)),AND(AU51>0,AV51>0,AW51=0,AX51=0),MIN(BB51, MAX('MDA1'!L51,'MDA4'!T51,MAX( 'MDA3'!J51,'MDA3'!M51))), AND(AU51>0,AV51>0,AW51=0,AX51>0),MIN(BB51, MAX('MDA1'!L51,'MDA4'!T51,MAX( 'MDA3'!J51,'MDA3'!M51),AO51)), AND(AU51>0,AV51>0,AW51>0,AX51=0), MIN(BB51, MAX('MDA1'!L51,'MDA4'!T51,MAX( 'MDA3'!J51,'MDA3'!M51),Z51)), AND(AU51>0,AV51>0,AW51>0,AX51>0), MIN(BB51, MAX('MDA1'!L51,'MDA4'!T51,MAX( 'MDA3'!J51,'MDA3'!M51),Z51,AO51)))","v":72412},127941,71.171855462983487]
[{"$f":"IF(COUNTRY_INFO!A52=0,\" \",COUNTRY_INFO!A52)","v":"South Sudan"},{"$f":"IF(COUNTRY_INFO!B52=0,\" \",COUNTRY_INFO!B52)","v":"Unity"},{"$f":"IF(COUNTRY_INFO!C52=0,\" \",COUNTRY_INFO!C52)","v":"GUIT"},{"$f":"COUNTRY_INFO!M52","v":0},null,null,{"$f":"'MDA1'!M52+'MDA4'!U52","v":0},{"$f":"IF(AND(COUNTRY_INFO!H52>0,COUNTRY_INFO!H52<4),IF(D52>G52,G52,D52),0)","v":0},{"$f":"IF(AND(COUNTRY_INFO!H52>0,COUNTRY_INFO!H52<4), IF(G52/D52*100<>0, IF(G52/D52*100>100,100,G52/D52*100), \"-\"),0)","v":0},{"$f":"COUNTRY_INFO!N52","v":"Unknown"},null,null,{"$f":"MAX('MDA1'!M52,MAX('MDA3'!I52,'MDA3'!L52)+MAX('MDA3'!J52,'MDA3'!M52))","v":0},{"$f":"IF(AND(COUNTRY_INFO!I52>0,COUNTRY_INFO!I52<4),IF(J52>M52,M52,J52),0)","v":0},{"$f":"IF(AND(COUNTRY_INFO!I52>0,COUNTRY_INFO!I52<4), IF(M52/J52*100<>0, IF(M52/J52*100>100,100,M52/J52*100), \"-\"),0)","v":0},{"$f":"COUNTRY_INFO!R52","v":0},null,null,{"$f":"MAX('MDA4'!R52,'T1'!K52, MAX(T3_R1!J52,T3_R2!J52,T3_R3!J52))","v":0},{"$f":"IF(AND(COUNTRY_INFO!J52>1,COUNTRY_INFO!J52<99,COUNTRY_INFO!J52<>4,COUNTRY_INFO!J52<>5),IF(COUNTRY_INFO!O52>S52,S52,COUNTRY_INFO!O52),0)","v":0},{"$f":"IF(AND(COUNTRY_INFO!J52>1,COUNTRY_INFO!J52<99,COUNTRY_INFO!J52<>4,COUNTRY_INFO!J52<>5), IF(T52/COUNTRY_INFO!O52*100<>0, IF(T52/COUNTRY_INFO!O52*100>100,100,T52/COUNTRY_INFO!O52*100), \"-\"),0)","v":0},{"$f":"MAX('MDA1'!K52,'MDA4'!S52, 'T1'!L52, MAX(T3_R1!K52,T3_R2!K52,T3_R3!K52))","v":0},{"$f":"IF(AND(COUNTRY_INFO!J52>1,COUNTRY_INFO!J52<99,COUNTRY_INFO!J52<>4,COUNTRY_INFO!J52<>5),IF(COUNTRY_INFO!P52>V52,V52,COUNTRY_INFO!P52),0)","v":0},{"$f":"IF(AND(COUNTRY_INFO!J52>1,COUNTRY_INFO!J52<99,COUNTRY_INFO!J52<>4,COUNTRY_INFO!J52<>5), IF(W52/COUNTRY_INFO!P52*100<>0, IF(W52/COUNTRY_INFO!P52*100>100,100,W52/COUNTRY_INFO!P52*100), \"-\"),0)","v":0},{"$f":"MAX('MDA1'!L52,'MDA4'!T52, 'T1'!M52, MAX(T3_R1!L52,T3_R2!L52,T3_R3!L52))","v":0},{"$f":"IF(AND(COUNTRY_INFO!J52>1,COUNTRY_INFO!J52<99,COUNTRY_INFO!J52<>4,COUNTRY_INFO!J52<>5),IF(COUNTRY_INFO!Q52>Y52,Y52,COUNTRY_INFO!Q52),0)","v":0},{"$f":"IF(AND(COUNTRY_INFO!J52>1,COUNTRY_INFO!J52<99,COUNTRY_INFO!J52<>4,COUNTRY_INFO!J52<>5), IF(Z52/COUNTRY_INFO!Q52*100<>0, IF(Z52/COUNTRY_INFO!Q52*100>100,100,Z52/COUNTRY_INFO!Q52*100), \"-\"),0)","v":0},0,0,{"$f":"IF(AND(COUNTRY_INFO!J52>1,COUNTRY_INFO!J52<99,COUNTRY_INFO!J52<>4,COUNTRY_INFO!J52<>5), IF(AC52/P52*100<>0, IF(AC52/P52*100>100,100,AC52/P52*100), \"-\"),0)","v":0},{"$f":"COUNTRY_INFO!V52","v":49517},null,null,{"$f":"MAX('T1'!K52,'T2'!R52)","v":0},{"$f":"IF(AND(COUNTRY_INFO!K52>1,COUNTRY_INFO!K52<99,COUNTRY_INFO!K52<>4,COUNTRY_INFO!K52<>5),IF(COUNTRY_INFO!S52>AH52,AH52,COUNTRY_INFO!S52),0)","v":0},{"$f":"IF(AND(COUNTRY_INFO!K52>1,COUNTRY_INFO!K52<99,COUNTRY_INFO!K52<>4,COUNTRY_INFO!K52<>5), IF(AI52/COUNTRY_INFO!S52*100<>0, IF(AI52/COUNTRY_INFO!S52*100>100,100,AI52/COUNTRY_INFO!S52*100), \"-\"),0)","v":"-"},{"$f":"MAX('T1'!L52,'T2'!S52)","v":0},{"$f":"IF(AND(COUNTRY_INFO!K52>1,COUNTRY_INFO!K52<99,COUNTRY_INFO!K52<>4,COUNTRY_INFO!K52<>5),IF(COUNTRY_INFO!T52>AK52,AK52,COUNTRY_INFO!T52),0)","v":0},{"$f":"IF(AND(COUNTRY_INFO!K52>1,COUNTRY_INFO!K52<99,COUNTRY_INFO!K52<>4,COUNTRY_INFO!K52<>5), IF(AL52/COUNTRY_INFO!T52*100<>0, IF(AL52/COUNTRY_INFO!T52*100>100,100,AL52/COUNTRY_INFO!T52*100), \"-\"),0)","v":"-"},{"$f":"MAX('T1'!M52,'T2'!T52)","v":0},{"$f":"IF(AND(COUNTRY_INFO!K52>1,COUNTRY_INFO!K52<99,COUNTRY_INFO!K52<>4,COUNTRY_INFO!K52<>5),IF(COUNTRY_INFO!U52>AN52,AN52,COUNTRY_INFO!U52),0)","v":0},{"$f":"IF(AND(COUNTRY_INFO!K52>1,COUNTRY_INFO!K52<99,COUNTRY_INFO!K52<>4,COUNTRY_INFO!K52<>5), IF(AO52/COUNTRY_INFO!U52*100<>0, IF(AO52/COUNTRY_INFO!U52*100>100,100,AO52/COUNTRY_INFO!U52*100), \"-\"),0)","v":"-"},0,0,{"$f":"IF(AND(COUNTRY_INFO!K52>1,COUNTRY_INFO!K52<99,COUNTRY_INFO!K52<>4,COUNTRY_INFO!K52<>5), IF(AH52/AE52*100<>0, IF(AR52/AE52*100>100,100,AR52/AE52*100), \"-\"),0)","v":"-"},null,{"$f":"IF(AND(D52<>0, D52<>\"Unknown\",D52<>\"Stopped\",D52<>\"Not required\"),D52/COUNTRY_INFO!D52, 0)","v":0},{"$f":"IF(AND(J52<>0,J52<>\"Unknown\",J52<>\"Stopped\",J52<>\"Not required\"),J52/COUNTRY_INFO!D52, 0)","v":0},{"$f":"IF(AND(P52<>0,P52<>\"Unknown\",P52<>\"Surveillance\",P52<>\"Not required\"),P52/COUNTRY_INFO!R52, 0)","v":0},{"$f":"IF(AND(AE52<>0,AE52<>\"Unknown\",AE52<>\"Surveillance\",AE52<>\"Not required\"),AE52/COUNTRY_INFO!V52, 0)","v":1},{"$f":"IF(AU52>0,D52*PROFILE!$G$7,IF(AV52>0,J52*PROFILE!$G$7,0))","v":0},{"$f":"_xlfn.IFS(OR(AU52>0,AW52>0),COUNTRY_INFO!E52, AV52>0,J52*PROFILE!$G$8,AX52>0,COUNTRY_INFO!S52,COUNTIFS(AU52:AX52,\">0\")=0,0)","v":4426},{"$f":"_xlfn.IFS(OR(AU52>0,AW52>0),COUNTRY_INFO!F52, AV52>0,J52*PROFILE!$G$9,AX52>0,COUNTRY_INFO!T52,COUNTIFS(AU52:AX52,\">0\")=0,0)","v":14284},{"$f":"_xlfn.IFS(AU52>0,COUNTRY_INFO!G52, AND(AV52>0,AW52=0,AX52=0),J52*PROFILE!$G$10,AND(AV52>0,AW52>0,AX52=0), MAX(J52*PROFILE!$G$10,COUNTRY_INFO!Q52),AND(AV52>0,AW52=0,AX52>0), MAX(J52*PROFILE!$G$10,COUNTRY_INFO!U52),AND(AV52=0,AW52>0,AX52>0), MAX(COUNTRY_INFO!Q52,COUNTRY_INFO!U52),AND(AV52=0,AW52>0,AX52=0),COUNTRY_INFO!Q52,AND(AV52=0,AW52=0,AX52>0),COUNTRY_INFO!U52,AND(AV52>0,AW52>0,AX52>0), MAX(J52*PROFILE!$G$10,COUNTRY_INFO!Q52,COUNTRY_INFO!U52),COUNTIFS(AU52:AX52,\">0\")=0,0)","v":30807},49517,0,{"$f":"MAX('MDA4'!R52,S52,AH52)","v":0},{"$f":"MAX('MDA1'!K52,'MDA4'!S52,'MDA3'!I52,'MDA3'!L52,V52,AK52)","v":0},{"$f":"MAX('MDA1'!L52,'MDA4'!T52,'MDA3'!J52,'MDA3'!M52,Y52,AN52)","v":0},0,{"$f":"_xlfn.IFS(AND(AU52=0,AW52=0,AX52=0),0,AND(AU52=0,AW52=0,AX52>0),AI52,AND(AU52=0,AW52>0,AX52=0),T52,AND(AU52=0,AW52>0,AX52>0),MAX(T52,AI52),AND(AU52>0,AW52=0,AX52=0),MIN('MDA4'!R52,AZ52),AND(AU52>0,AW52=0,AX52>0),MIN(MAX('MDA4'!R52,AI52),AZ52),AND(AU52>0,AW52>0,AX52=0),MIN(MAX('MDA4'!R52,T52),AZ52),AND(AU52>0,AW52>0,AX52>0),MIN(MAX('MDA4'!R52,AI52,T52),AZ52))","v":0},{"$f":"_xlfn.IFS(AND(AU52=0,AV52=0,AW52=0,AX52=0),0,AND(AU52=0,AV52=0,AW52=0,AX52>0),AL52,AND(AU52=0,AV52=0,AW52>0,AX52=0),W52,AND(AU52=0,AV52=0,AW52>0,AX52>0),MAX(W52,AL52),AND(AU52=0,AV52>0,AW52=0,AX52=0),MIN(J52*PROFILE!$G$9,MAX('MDA3'!I52,'MDA3'!L52)),AND(AU52=0,AV52>0,AW52=0,AX52>0),MIN(J52*PROFILE!$G$9,MAX('MDA3'!I52,'MDA3'!L52,AL52)),AND(AU52=0,AV52>0,AW52>0,AX52=0),MIN(J52*PROFILE!$G$9,MAX('MDA3'!I52,'MDA3'!L52,W52)),AND(AU52=0,AV52>0,AW52>0,AX52>0),MIN(J52*PROFILE!$G$9,MAX('MDA3'!I52,'MDA3'!L52,W52,AL52)),AND(AU52>0,AV52=0,AW52=0,AX52=0), MIN(BA52,MAX('MDA1'!K52,'MDA4'!S52)),AND(AU52>0,AV52=0,AW52=0,AX52>0), MIN(BA52,MAX('MDA1'!K52,'MDA4'!S52,AL52)),AND(AU52>0,AV52=0,AW52>0,AX52=0),MIN(BA52,MAX('MDA1'!K52,'MDA4'!S52,W52)),AND(AU52>0,AV52=0,AW52>0,AX52>0),MIN(BA52,MAX('MDA1'!K52,'MDA4'!S52,W52,AL52)),AND(AU52>0,AV52>0,AW52=0,AX52=0),MIN(BA52, MAX('MDA1'!K52,'MDA4'!S52,MAX('MDA3'!I52,'MDA3'!L52))), AND(AU52>0,AV52>0,AW52=0,AX52>0),MIN(BA52, MAX('MDA1'!K52,'MDA4'!S52,MAX( 'MDA3'!I52,'MDA3'!L52),AL52)), AND(AU52>0,AV52>0,AW52>0,AX52=0), MIN(BA52, MAX('MDA1'!K52,'MDA4'!S52,MAX( 'MDA3'!I52,'MDA3'!L52),W52)), AND(AU52>0,AV52>0,AW52>0,AX52>0), MIN(BA52, MAX('MDA1'!K52,'MDA4'!S52,MAX( 'MDA3'!I52,'MDA3'!L52),W52,AL52)))","v":0},{"$f":"_xlfn.IFS(AND(AU52=0,AV52=0,AW52=0,AX52=0),0,AND(AU52=0,AV52=0,AW52=0,AX52>0),AO52,AND(AU52=0,AV52=0,AW52>0,AX52=0),Z52,AND(AU52=0,AV52=0,AW52>0,AX52>0),MAX(Z52,AO52),AND(AU52=0,AV52>0,AW52=0,AX52=0),MIN(J52*PROFILE!$G$10,MAX('MDA3'!J52,'MDA3'!J52)),AND(AU52=0,AV52>0,AW52=0,AX52>0),MIN(J52*PROFILE!$G$10,MAX('MDA3'!J52,'MDA3'!M52,AO52)),AND(AU52=0,AV52>0,AW52>0,AX52=0),MIN(J52*PROFILE!$G$10,MAX('MDA3'!J52,'MDA3'!M52,Z52)),AND(AU52=0,AV52>0,AW52>0,AX52>0),MIN(J52*PROFILE!$G$10,MAX('MDA3'!J52,'MDA3'!M52,Z52,AO52)),AND(AU52>0,AV52=0,AW52=0,AX52=0), MIN(BB52,MAX('MDA1'!L52,'MDA4'!T52)),AND(AU52>0,AV52=0,AW52=0,AX52>0), MIN(BB52,MAX('MDA1'!L52,'MDA4'!T52,AO52)),AND(AU52>0,AV52=0,AW52>0,AX52=0),MIN(BB52,MAX('MDA1'!L52,'MDA4'!T52,Z52)),AND(AU52>0,AV52=0,AW52>0,AX52>0),MIN(BB52,MAX('MDA1'!L52,'MDA4'!T52,Z52,AO52)),AND(AU52>0,AV52>0,AW52=0,AX52=0),MIN(BB52, MAX('MDA1'!L52,'MDA4'!T52,MAX( 'MDA3'!J52,'MDA3'!M52))), AND(AU52>0,AV52>0,AW52=0,AX52>0),MIN(BB52, MAX('MDA1'!L52,'MDA4'!T52,MAX( 'MDA3'!J52,'MDA3'!M52),AO52)), AND(AU52>0,AV52>0,AW52>0,AX52=0), MIN(BB52, MAX('MDA1'!L52,'MDA4'!T52,MAX( 'MDA3'!J52,'MDA3'!M52),Z52)), AND(AU52>0,AV52>0,AW52>0,AX52>0), MIN(BB52, MAX('MDA1'!L52,'MDA4'!T52,MAX( 'MDA3'!J52,'MDA3'!M52),Z52,AO52)))","v":0},0,0]
[{"$f":"IF(COUNTRY_INFO!A53=0,\" \",COUNTRY_INFO!A53)","v":"South Sudan"},{"$f":"IF(COUNTRY_INFO!B53=0,\" \",COUNTRY_INFO!B53)","v":"Unity"},{"$f":"IF(COUNTRY_INFO!C53=0,\" \",COUNTRY_INFO!C53)","v":"KOCH"},{"$f":"COUNTRY_INFO!M53","v":0},null,null,{"$f":"'MDA1'!M53+'MDA4'!U53","v":0},{"$f":"IF(AND(COUNTRY_INFO!H53>0,COUNTRY_INFO!H53<4),IF(D53>G53,G53,D53),0)","v":0},{"$f":"IF(AND(COUNTRY_INFO!H53>0,COUNTRY_INFO!H53<4), IF(G53/D53*100<>0, IF(G53/D53*100>100,100,G53/D53*100), \"-\"),0)","v":0},{"$f":"COUNTRY_INFO!N53","v":"Unknown"},null,null,{"$f":"MAX('MDA1'!M53,MAX('MDA3'!I53,'MDA3'!L53)+MAX('MDA3'!J53,'MDA3'!M53))","v":0},{"$f":"IF(AND(COUNTRY_INFO!I53>0,COUNTRY_INFO!I53<4),IF(J53>M53,M53,J53),0)","v":0},{"$f":"IF(AND(COUNTRY_INFO!I53>0,COUNTRY_INFO!I53<4), IF(M53/J53*100<>0, IF(M53/J53*100>100,100,M53/J53*100), \"-\"),0)","v":0},{"$f":"COUNTRY_INFO!R53","v":0},null,null,{"$f":"MAX('MDA4'!R53,'T1'!K53, MAX(T3_R1!J53,T3_R2!J53,T3_R3!J53))","v":0},{"$f":"IF(AND(COUNTRY_INFO!J53>1,COUNTRY_INFO!J53<99,COUNTRY_INFO!J53<>4,COUNTRY_INFO!J53<>5),IF(COUNTRY_INFO!O53>S53,S53,COUNTRY_INFO!O53),0)","v":0},{"$f":"IF(AND(COUNTRY_INFO!J53>1,COUNTRY_INFO!J53<99,COUNTRY_INFO!J53<>4,COUNTRY_INFO!J53<>5), IF(T53/COUNTRY_INFO!O53*100<>0, IF(T53/COUNTRY_INFO!O53*100>100,100,T53/COUNTRY_INFO!O53*100), \"-\"),0)","v":0},{"$f":"MAX('MDA1'!K53,'MDA4'!S53, 'T1'!L53, MAX(T3_R1!K53,T3_R2!K53,T3_R3!K53))","v":0},{"$f":"IF(AND(COUNTRY_INFO!J53>1,COUNTRY_INFO!J53<99,COUNTRY_INFO!J53<>4,COUNTRY_INFO!J53<>5),IF(COUNTRY_INFO!P53>V53,V53,COUNTRY_INFO!P53),0)","v":0},{"$f":"IF(AND(COUNTRY_INFO!J53>1,COUNTRY_INFO!J53<99,COUNTRY_INFO!J53<>4,COUNTRY_INFO!J53<>5), IF(W53/COUNTRY_INFO!P53*100<>0, IF(W53/COUNTRY_INFO!P53*100>100,100,W53/COUNTRY_INFO!P53*100), \"-\"),0)","v":0},{"$f":"MAX('MDA1'!L53,'MDA4'!T53, 'T1'!M53, MAX(T3_R1!L53,T3_R2!L53,T3_R3!L53))","v":0},{"$f":"IF(AND(COUNTRY_INFO!J53>1,COUNTRY_INFO!J53<99,COUNTRY_INFO!J53<>4,COUNTRY_INFO!J53<>5),IF(COUNTRY_INFO!Q53>Y53,Y53,COUNTRY_INFO!Q53),0)","v":0},{"$f":"IF(AND(COUNTRY_INFO!J53>1,COUNTRY_INFO!J53<99,COUNTRY_INFO!J53<>4,COUNTRY_INFO!J53<>5), IF(Z53/COUNTRY_INFO!Q53*100<>0, IF(Z53/COUNTRY_INFO!Q53*100>100,100,Z53/COUNTRY_INFO!Q53*100), \"-\"),0)","v":0},0,0,{"$f":"IF(AND(COUNTRY_INFO!J53>1,COUNTRY_INFO!J53<99,COUNTRY_INFO!J53<>4,COUNTRY_INFO!J53<>5), IF(AC53/P53*100<>0, IF(AC53/P53*100>100,100,AC53/P53*100), \"-\"),0)","v":0},{"$f":"COUNTRY_INFO!V53","v":101925},null,null,{"$f":"MAX('T1'!K53,'T2'!R53)","v":0},{"$f":"IF(AND(COUNTRY_INFO!K53>1,COUNTRY_INFO!K53<99,COUNTRY_INFO!K53<>4,COUNTRY_INFO!K53<>5),IF(COUNTRY_INFO!S53>AH53,AH53,COUNTRY_INFO!S53),0)","v":0},{"$f":"IF(AND(COUNTRY_INFO!K53>1,COUNTRY_INFO!K53<99,COUNTRY_INFO!K53<>4,COUNTRY_INFO!K53<>5), IF(AI53/COUNTRY_INFO!S53*100<>0, IF(AI53/COUNTRY_INFO!S53*100>100,100,AI53/COUNTRY_INFO!S53*100), \"-\"),0)","v":"-"},{"$f":"MAX('T1'!L53,'T2'!S53)","v":0},{"$f":"IF(AND(COUNTRY_INFO!K53>1,COUNTRY_INFO!K53<99,COUNTRY_INFO!K53<>4,COUNTRY_INFO!K53<>5),IF(COUNTRY_INFO!T53>AK53,AK53,COUNTRY_INFO!T53),0)","v":0},{"$f":"IF(AND(COUNTRY_INFO!K53>1,COUNTRY_INFO!K53<99,COUNTRY_INFO!K53<>4,COUNTRY_INFO!K53<>5), IF(AL53/COUNTRY_INFO!T53*100<>0, IF(AL53/COUNTRY_INFO!T53*100>100,100,AL53/COUNTRY_INFO!T53*100), \"-\"),0)","v":"-"},{"$f":"MAX('T1'!M53,'T2'!T53)","v":0},{"$f":"IF(AND(COUNTRY_INFO!K53>1,COUNTRY_INFO!K53<99,COUNTRY_INFO!K53<>4,COUNTRY_INFO!K53<>5),IF(COUNTRY_INFO!U53>AN53,AN53,COUNTRY_INFO!U53),0)","v":0},{"$f":"IF(AND(COUNTRY_INFO!K53>1,COUNTRY_INFO!K53<99,COUNTRY_INFO!K53<>4,COUNTRY_INFO!K53<>5), IF(AO53/COUNTRY_INFO!U53*100<>0, IF(AO53/COUNTRY_INFO!U53*100>100,100,AO53/COUNTRY_INFO!U53*100), \"-\"),0)","v":"-"},0,0,{"$f":"IF(AND(COUNTRY_INFO!K53>1,COUNTRY_INFO!K53<99,COUNTRY_INFO!K53<>4,COUNTRY_INFO!K53<>5), IF(AH53/AE53*100<>0, IF(AR53/AE53*100>100,100,AR53/AE53*100), \"-\"),0)","v":"-"},null,{"$f":"IF(AND(D53<>0, D53<>\"Unknown\",D53<>\"Stopped\",D53<>\"Not required\"),D53/COUNTRY_INFO!D53, 0)","v":0},{"$f":"IF(AND(J53<>0,J53<>\"Unknown\",J53<>\"Stopped\",J53<>\"Not required\"),J53/COUNTRY_INFO!D53, 0)","v":0},{"$f":"IF(AND(P53<>0,P53<>\"Unknown\",P53<>\"Surveillance\",P53<>\"Not required\"),P53/COUNTRY_INFO!R53, 0)","v":0},{"$f":"IF(AND(AE53<>0,AE53<>\"Unknown\",AE53<>\"Surveillance\",AE53<>\"Not required\"),AE53/COUNTRY_INFO!V53, 0)","v":1},{"$f":"IF(AU53>0,D53*PROFILE!$G$7,IF(AV53>0,J53*PROFILE!$G$7,0))","v":0},{"$f":"_xlfn.IFS(OR(AU53>0,AW53>0),COUNTRY_INFO!E53, AV53>0,J53*PROFILE!$G$8,AX53>0,COUNTRY_INFO!S53,COUNTIFS(AU53:AX53,\">0\")=0,0)","v":9108},{"$f":"_xlfn.IFS(OR(AU53>0,AW53>0),COUNTRY_INFO!F53, AV53>0,J53*PROFILE!$G$9,AX53>0,COUNTRY_INFO!T53,COUNTIFS(AU53:AX53,\">0\")=0,0)","v":29403},{"$f":"_xlfn.IFS(AU53>0,COUNTRY_INFO!G53, AND(AV53>0,AW53=0,AX53=0),J53*PROFILE!$G$10,AND(AV53>0,AW53>0,AX53=0), MAX(J53*PROFILE!$G$10,COUNTRY_INFO!Q53),AND(AV53>0,AW53=0,AX53>0), MAX(J53*PROFILE!$G$10,COUNTRY_INFO!U53),AND(AV53=0,AW53>0,AX53>0), MAX(COUNTRY_INFO!Q53,COUNTRY_INFO!U53),AND(AV53=0,AW53>0,AX53=0),COUNTRY_INFO!Q53,AND(AV53=0,AW53=0,AX53>0),COUNTRY_INFO!U53,AND(AV53>0,AW53>0,AX53>0), MAX(J53*PROFILE!$G$10,COUNTRY_INFO!Q53,COUNTRY_INFO!U53),COUNTIFS(AU53:AX53,\">0\")=0,0)","v":63414},101925,0,{"$f":"MAX('MDA4'!R53,S53,AH53)","v":0},{"$f":"MAX('MDA1'!K53,'MDA4'!S53,'MDA3'!I53,'MDA3'!L53,V53,AK53)","v":0},{"$f":"MAX('MDA1'!L53,'MDA4'!T53,'MDA3'!J53,'MDA3'!M53,Y53,AN53)","v":0},0,{"$f":"_xlfn.IFS(AND(AU53=0,AW53=0,AX53=0),0,AND(AU53=0,AW53=0,AX53>0),AI53,AND(AU53=0,AW53>0,AX53=0),T53,AND(AU53=0,AW53>0,AX53>0),MAX(T53,AI53),AND(AU53>0,AW53=0,AX53=0),MIN('MDA4'!R53,AZ53),AND(AU53>0,AW53=0,AX53>0),MIN(MAX('MDA4'!R53,AI53),AZ53),AND(AU53>0,AW53>0,AX53=0),MIN(MAX('MDA4'!R53,T53),AZ53),AND(AU53>0,AW53>0,AX53>0),MIN(MAX('MDA4'!R53,AI53,T53),AZ53))","v":0},{"$f":"_xlfn.IFS(AND(AU53=0,AV53=0,AW53=0,AX53=0),0,AND(AU53=0,AV53=0,AW53=0,AX53>0),AL53,AND(AU53=0,AV53=0,AW53>0,AX53=0),W53,AND(AU53=0,AV53=0,AW53>0,AX53>0),MAX(W53,AL53),AND(AU53=0,AV53>0,AW53=0,AX53=0),MIN(J53*PROFILE!$G$9,MAX('MDA3'!I53,'MDA3'!L53)),AND(AU53=0,AV53>0,AW53=0,AX53>0),MIN(J53*PROFILE!$G$9,MAX('MDA3'!I53,'MDA3'!L53,AL53)),AND(AU53=0,AV53>0,AW53>0,AX53=0),MIN(J53*PROFILE!$G$9,MAX('MDA3'!I53,'MDA3'!L53,W53)),AND(AU53=0,AV53>0,AW53>0,AX53>0),MIN(J53*PROFILE!$G$9,MAX('MDA3'!I53,'MDA3'!L53,W53,AL53)),AND(AU53>0,AV53=0,AW53=0,AX53=0), MIN(BA53,MAX('MDA1'!K53,'MDA4'!S53)),AND(AU53>0,AV53=0,AW53=0,AX53>0), MIN(BA53,MAX('MDA1'!K53,'MDA4'!S53,AL53)),AND(AU53>0,AV53=0,AW53>0,AX53=0),MIN(BA53,MAX('MDA1'!K53,'MDA4'!S53,W53)),AND(AU53>0,AV53=0,AW53>0,AX53>0),MIN(BA53,MAX('MDA1'!K53,'MDA4'!S53,W53,AL53)),AND(AU53>0,AV53>0,AW53=0,AX53=0),MIN(BA53, MAX('MDA1'!K53,'MDA4'!S53,MAX('MDA3'!I53,'MDA3'!L53))), AND(AU53>0,AV53>0,AW53=0,AX53>0),MIN(BA53, MAX('MDA1'!K53,'MDA4'!S53,MAX( 'MDA3'!I53,'MDA3'!L53),AL53)), AND(AU53>0,AV53>0,AW53>0,AX53=0), MIN(BA53, MAX('MDA1'!K53,'MDA4'!S53,MAX( 'MDA3'!I53,'MDA3'!L53),W53)), AND(AU53>0,AV53>0,AW53>0,AX53>0), MIN(BA53, MAX('MDA1'!K53,'MDA4'!S53,MAX( 'MDA3'!I53,'MDA3'!L53),W53,AL53)))","v":0},{"$f":"_xlfn.IFS(AND(AU53=0,AV53=0,AW53=0,AX53=0),0,AND(AU53=0,AV53=0,AW53=0,AX53>0),AO53,AND(AU53=0,AV53=0,AW53>0,AX53=0),Z53,AND(AU53=0,AV53=0,AW53>0,AX53>0),MAX(Z53,AO53),AND(AU53=0,AV53>0,AW53=0,AX53=0),MIN(J53*PROFILE!$G$10,MAX('MDA3'!J53,'MDA3'!J53)),AND(AU53=0,AV53>0,AW53=0,AX53>0),MIN(J53*PROFILE!$G$10,MAX('MDA3'!J53,'MDA3'!M53,AO53)),AND(AU53=0,AV53>0,AW53>0,AX53=0),MIN(J53*PROFILE!$G$10,MAX('MDA3'!J53,'MDA3'!M53,Z53)),AND(AU53=0,AV53>0,AW53>0,AX53>0),MIN(J53*PROFILE!$G$10,MAX('MDA3'!J53,'MDA3'!M53,Z53,AO53)),AND(AU53>0,AV53=0,AW53=0,AX53=0), MIN(BB53,MAX('MDA1'!L53,'MDA4'!T53)),AND(AU53>0,AV53=0,AW53=0,AX53>0), MIN(BB53,MAX('MDA1'!L53,'MDA4'!T53,AO53)),AND(AU53>0,AV53=0,AW53>0,AX53=0),MIN(BB53,MAX('MDA1'!L53,'MDA4'!T53,Z53)),AND(AU53>0,AV53=0,AW53>0,AX53>0),MIN(BB53,MAX('MDA1'!L53,'MDA4'!T53,Z53,AO53)),AND(AU53>0,AV53>0,AW53=0,AX53=0),MIN(BB53, MAX('MDA1'!L53,'MDA4'!T53,MAX( 'MDA3'!J53,'MDA3'!M53))), AND(AU53>0,AV53>0,AW53=0,AX53>0),MIN(BB53, MAX('MDA1'!L53,'MDA4'!T53,MAX( 'MDA3'!J53,'MDA3'!M53),AO53)), AND(AU53>0,AV53>0,AW53>0,AX53=0), MIN(BB53, MAX('MDA1'!L53,'MDA4'!T53,MAX( 'MDA3'!J53,'MDA3'!M53),Z53)), AND(AU53>0,AV53>0,AW53>0,AX53>0), MIN(BB53, MAX('MDA1'!L53,'MDA4'!T53,MAX( 'MDA3'!J53,'MDA3'!M53),Z53,AO53)))","v":0},0,0]
[{"$f":"IF(COUNTRY_INFO!A54=0,\" \",COUNTRY_INFO!A54)","v":"South Sudan"},{"$f":"IF(COUNTRY_INFO!B54=0,\" \",COUNTRY_INFO!B54)","v":"Unity"},{"$f":"IF(COUNTRY_INFO!C54=0,\" \",COUNTRY_INFO!C54)","v":"LEER"},{"$f":"COUNTRY_INFO!M54","v":95663.474800000011},null,null,{"$f":"'MDA1'!M54+'MDA4'!U54","v":66183},{"$f":"IF(AND(COUNTRY_INFO!H54>0,COUNTRY_INFO!H54<4),IF(D54>G54,G54,D54),0)","v":66183},{"$f":"IF(AND(COUNTRY_INFO!H54>0,COUNTRY_INFO!H54<4), IF(G54/D54*100<>0, IF(G54/D54*100>100,100,G54/D54*100), \"-\"),0)","v":69.183144495186156},{"$f":"COUNTRY_INFO!N54","v":"Unknown"},null,null,{"$f":"MAX('MDA1'!M54,MAX('MDA3'!I54,'MDA3'!L54)+MAX('MDA3'!J54,'MDA3'!M54))","v":0},{"$f":"IF(AND(COUNTRY_INFO!I54>0,COUNTRY_INFO!I54<4),IF(J54>M54,M54,J54),0)","v":0},{"$f":"IF(AND(COUNTRY_INFO!I54>0,COUNTRY_INFO!I54<4), IF(M54/J54*100<>0, IF(M54/J54*100>100,100,M54/J54*100), \"-\"),0)","v":0},{"$f":"COUNTRY_INFO!R54","v":0},null,null,{"$f":"MAX('MDA4'!R54,'T1'!K54, MAX(T3_R1!J54,T3_R2!J54,T3_R3!J54))","v":0},{"$f":"IF(AND(COUNTRY_INFO!J54>1,COUNTRY_INFO!J54<99,COUNTRY_INFO!J54<>4,COUNTRY_INFO!J54<>5),IF(COUNTRY_INFO!O54>S54,S54,COUNTRY_INFO!O54),0)","v":0},{"$f":"IF(AND(COUNTRY_INFO!J54>1,COUNTRY_INFO!J54<99,COUNTRY_INFO!J54<>4,COUNTRY_INFO!J54<>5), IF(T54/COUNTRY_INFO!O54*100<>0, IF(T54/COUNTRY_INFO!O54*100>100,100,T54/COUNTRY_INFO!O54*100), \"-\"),0)","v":0},{"$f":"MAX('MDA1'!K54,'MDA4'!S54, 'T1'!L54, MAX(T3_R1!K54,T3_R2!K54,T3_R3!K54))","v":27333},{"$f":"IF(AND(COUNTRY_INFO!J54>1,COUNTRY_INFO!J54<99,COUNTRY_INFO!J54<>4,COUNTRY_INFO!J54<>5),IF(COUNTRY_INFO!P54>V54,V54,COUNTRY_INFO!P54),0)","v":0},{"$f":"IF(AND(COUNTRY_INFO!J54>1,COUNTRY_INFO!J54<99,COUNTRY_INFO!J54<>4,COUNTRY_INFO!J54<>5), IF(W54/COUNTRY_INFO!P54*100<>0, IF(W54/COUNTRY_INFO!P54*100>100,100,W54/COUNTRY_INFO!P54*100), \"-\"),0)","v":0},{"$f":"MAX('MDA1'!L54,'MDA4'!T54, 'T1'!M54, MAX(T3_R1!L54,T3_R2!L54,T3_R3!L54))","v":38850},{"$f":"IF(AND(COUNTRY_INFO!J54>1,COUNTRY_INFO!J54<99,COUNTRY_INFO!J54<>4,COUNTRY_INFO!J54<>5),IF(COUNTRY_INFO!Q54>Y54,Y54,COUNTRY_INFO!Q54),0)","v":0},{"$f":"IF(AND(COUNTRY_INFO!J54>1,COUNTRY_INFO!J54<99,COUNTRY_INFO!J54<>4,COUNTRY_INFO!J54<>5), IF(Z54/COUNTRY_INFO!Q54*100<>0, IF(Z54/COUNTRY_INFO!Q54*100>100,100,Z54/COUNTRY_INFO!Q54*100), \"-\"),0)","v":0},66183,0,{"$f":"IF(AND(COUNTRY_INFO!J54>1,COUNTRY_INFO!J54<99,COUNTRY_INFO!J54<>4,COUNTRY_INFO!J54<>5), IF(AC54/P54*100<>0, IF(AC54/P54*100>100,100,AC54/P54*100), \"-\"),0)","v":0},{"$f":"COUNTRY_INFO!V54","v":82115},null,null,{"$f":"MAX('T1'!K54,'T2'!R54)","v":0},{"$f":"IF(AND(COUNTRY_INFO!K54>1,COUNTRY_INFO!K54<99,COUNTRY_INFO!K54<>4,COUNTRY_INFO!K54<>5),IF(COUNTRY_INFO!S54>AH54,AH54,COUNTRY_INFO!S54),0)","v":0},{"$f":"IF(AND(COUNTRY_INFO!K54>1,COUNTRY_INFO!K54<99,COUNTRY_INFO!K54<>4,COUNTRY_INFO!K54<>5), IF(AI54/COUNTRY_INFO!S54*100<>0, IF(AI54/COUNTRY_INFO!S54*100>100,100,AI54/COUNTRY_INFO!S54*100), \"-\"),0)","v":"-"},{"$f":"MAX('T1'!L54,'T2'!S54)","v":0},{"$f":"IF(AND(COUNTRY_INFO!K54>1,COUNTRY_INFO!K54<99,COUNTRY_INFO!K54<>4,COUNTRY_INFO!K54<>5),IF(COUNTRY_INFO!T54>AK54,AK54,COUNTRY_INFO!T54),0)","v":0},{"$f":"IF(AND(COUNTRY_INFO!K54>1,COUNTRY_INFO!K54<99,COUNTRY_INFO!K54<>4,COUNTRY_INFO!K54<>5), IF(AL54/COUNTRY_INFO!T54*100<>0, IF(AL54/COUNTRY_INFO!T54*100>100,100,AL54/COUNTRY_INFO!T54*100), \"-\"),0)","v":"-"},{"$f":"MAX('T1'!M54,'T2'!T54)","v":0},{"$f":"IF(AND(COUNTRY_INFO!K54>1,COUNTRY_INFO!K54<99,COUNTRY_INFO!K54<>4,COUNTRY_INFO!K54<>5),IF(COUNTRY_INFO!U54>AN54,AN54,COUNTRY_INFO!U54),0)","v":0},{"$f":"IF(AND(COUNTRY_INFO!K54>1,COUNTRY_INFO!K54<99,COUNTRY_INFO!K54<>4,COUNTRY_INFO!K54<>5), IF(AO54/COUNTRY_INFO!U54*100<>0, IF(AO54/COUNTRY_INFO!U54*100>100,100,AO54/COUNTRY_INFO!U54*100), \"-\"),0)","v":"-"},0,0,{"$f":"IF(AND(COUNTRY_INFO!K54>1,COUNTRY_INFO!K54<99,COUNTRY_INFO!K54<>4,COUNTRY_INFO!K54<>5), IF(AH54/AE54*100<>0, IF(AR54/AE54*100>100,100,AR54/AE54*100), \"-\"),0)","v":"-"},null,{"$f":"IF(AND(D54<>0, D54<>\"Unknown\",D54<>\"Stopped\",D54<>\"Not required\"),D54/COUNTRY_INFO!D54, 0)","v":1},{"$f":"IF(AND(J54<>0,J54<>\"Unknown\",J54<>\"Stopped\",J54<>\"Not required\"),J54/COUNTRY_INFO!D54, 0)","v":0},{"$f":"IF(AND(P54<>0,P54<>\"Unknown\",P54<>\"Surveillance\",P54<>\"Not required\"),P54/COUNTRY_INFO!R54, 0)","v":0},{"$f":"IF(AND(AE54<>0,AE54<>\"Unknown\",AE54<>\"Surveillance\",AE54<>\"Not required\"),AE54/COUNTRY_INFO!V54, 0)","v":1},{"$f":"IF(AU54>0,D54*PROFILE!$G$7,IF(AV54>0,J54*PROFILE!$G$7,0))","v":2630.7390724897868},{"$f":"_xlfn.IFS(OR(AU54>0,AW54>0),COUNTRY_INFO!E54, AV54>0,J54*PROFILE!$G$8,AX54>0,COUNTRY_INFO!S54,COUNTIFS(AU54:AX54,\">0\")=0,0)","v":10590},{"$f":"_xlfn.IFS(OR(AU54>0,AW54>0),COUNTRY_INFO!F54, AV54>0,J54*PROFILE!$G$9,AX54>0,COUNTRY_INFO!T54,COUNTIFS(AU54:AX54,\">0\")=0,0)","v":29550},{"$f":"_xlfn.IFS(AU54>0,COUNTRY_INFO!G54, AND(AV54>0,AW54=0,AX54=0),J54*PROFILE!$G$10,AND(AV54>0,AW54>0,AX54=0), MAX(J54*PROFILE!$G$10,COUNTRY_INFO!Q54),AND(AV54>0,AW54=0,AX54>0), MAX(J54*PROFILE!$G$10,COUNTRY_INFO!U54),AND(AV54=0,AW54>0,AX54>0), MAX(COUNTRY_INFO!Q54,COUNTRY_INFO!U54),AND(AV54=0,AW54>0,AX54=0),COUNTRY_INFO!Q54,AND(AV54=0,AW54=0,AX54>0),COUNTRY_INFO!U54,AND(AV54>0,AW54>0,AX54>0), MAX(J54*PROFILE!$G$10,COUNTRY_INFO!Q54,COUNTRY_INFO!U54),COUNTIFS(AU54:AX54,\">0\")=0,0)","v":52892},95662.739072489785,0,{"$f":"MAX('MDA4'!R54,S54,AH54)","v":0},{"$f":"MAX('MDA1'!K54,'MDA4'!S54,'MDA3'!I54,'MDA3'!L54,V54,AK54)","v":27333},{"$f":"MAX('MDA1'!L54,'MDA4'!T54,'MDA3'!J54,'MDA3'!M54,Y54,AN54)","v":38850},66183,{"$f":"_xlfn.IFS(AND(AU54=0,AW54=0,AX54=0),0,AND(AU54=0,AW54=0,AX54>0),AI54,AND(AU54=0,AW54>0,AX54=0),T54,AND(AU54=0,AW54>0,AX54>0),MAX(T54,AI54),AND(AU54>0,AW54=0,AX54=0),MIN('MDA4'!R54,AZ54),AND(AU54>0,AW54=0,AX54>0),MIN(MAX('MDA4'!R54,AI54),AZ54),AND(AU54>0,AW54>0,AX54=0),MIN(MAX('MDA4'!R54,T54),AZ54),AND(AU54>0,AW54>0,AX54>0),MIN(MAX('MDA4'!R54,AI54,T54),AZ54))","v":0},{"$f":"_xlfn.IFS(AND(AU54=0,AV54=0,AW54=0,AX54=0),0,AND(AU54=0,AV54=0,AW54=0,AX54>0),AL54,AND(AU54=0,AV54=0,AW54>0,AX54=0),W54,AND(AU54=0,AV54=0,AW54>0,AX54>0),MAX(W54,AL54),AND(AU54=0,AV54>0,AW54=0,AX54=0),MIN(J54*PROFILE!$G$9,MAX('MDA3'!I54,'MDA3'!L54)),AND(AU54=0,AV54>0,AW54=0,AX54>0),MIN(J54*PROFILE!$G$9,MAX('MDA3'!I54,'MDA3'!L54,AL54)),AND(AU54=0,AV54>0,AW54>0,AX54=0),MIN(J54*PROFILE!$G$9,MAX('MDA3'!I54,'MDA3'!L54,W54)),AND(AU54=0,AV54>0,AW54>0,AX54>0),MIN(J54*PROFILE!$G$9,MAX('MDA3'!I54,'MDA3'!L54,W54,AL54)),AND(AU54>0,AV54=0,AW54=0,AX54=0), MIN(BA54,MAX('MDA1'!K54,'MDA4'!S54)),AND(AU54>0,AV54=0,AW54=0,AX54>0), MIN(BA54,MAX('MDA1'!K54,'MDA4'!S54,AL54)),AND(AU54>0,AV54=0,AW54>0,AX54=0),MIN(BA54,MAX('MDA1'!K54,'MDA4'!S54,W54)),AND(AU54>0,AV54=0,AW54>0,AX54>0),MIN(BA54,MAX('MDA1'!K54,'MDA4'!S54,W54,AL54)),AND(AU54>0,AV54>0,AW54=0,AX54=0),MIN(BA54, MAX('MDA1'!K54,'MDA4'!S54,MAX('MDA3'!I54,'MDA3'!L54))), AND(AU54>0,AV54>0,AW54=0,AX54>0),MIN(BA54, MAX('MDA1'!K54,'MDA4'!S54,MAX( 'MDA3'!I54,'MDA3'!L54),AL54)), AND(AU54>0,AV54>0,AW54>0,AX54=0), MIN(BA54, MAX('MDA1'!K54,'MDA4'!S54,MAX( 'MDA3'!I54,'MDA3'!L54),W54)), AND(AU54>0,AV54>0,AW54>0,AX54>0), MIN(BA54, MAX('MDA1'!K54,'MDA4'!S54,MAX( 'MDA3'!I54,'MDA3'!L54),W54,AL54)))","v":27333},{"$f":"_xlfn.IFS(AND(AU54=0,AV54=0,AW54=0,AX54=0),0,AND(AU54=0,AV54=0,AW54=0,AX54>0),AO54,AND(AU54=0,AV54=0,AW54>0,AX54=0),Z54,AND(AU54=0,AV54=0,AW54>0,AX54>0),MAX(Z54,AO54),AND(AU54=0,AV54>0,AW54=0,AX54=0),MIN(J54*PROFILE!$G$10,MAX('MDA3'!J54,'MDA3'!J54)),AND(AU54=0,AV54>0,AW54=0,AX54>0),MIN(J54*PROFILE!$G$10,MAX('MDA3'!J54,'MDA3'!M54,AO54)),AND(AU54=0,AV54>0,AW54>0,AX54=0),MIN(J54*PROFILE!$G$10,MAX('MDA3'!J54,'MDA3'!M54,Z54)),AND(AU54=0,AV54>0,AW54>0,AX54>0),MIN(J54*PROFILE!$G$10,MAX('MDA3'!J54,'MDA3'!M54,Z54,AO54)),AND(AU54>0,AV54=0,AW54=0,AX54=0), MIN(BB54,MAX('MDA1'!L54,'MDA4'!T54)),AND(AU54>0,AV54=0,AW54=0,AX54>0), MIN(BB54,MAX('MDA1'!L54,'MDA4'!T54,AO54)),AND(AU54>0,AV54=0,AW54>0,AX54=0),MIN(BB54,MAX('MDA1'!L54,'MDA4'!T54,Z54)),AND(AU54>0,AV54=0,AW54>0,AX54>0),MIN(BB54,MAX('MDA1'!L54,'MDA4'!T54,Z54,AO54)),AND(AU54>0,AV54>0,AW54=0,AX54=0),MIN(BB54, MAX('MDA1'!L54,'MDA4'!T54,MAX( 'MDA3'!J54,'MDA3'!M54))), AND(AU54>0,AV54>0,AW54=0,AX54>0),MIN(BB54, MAX('MDA1'!L54,'MDA4'!T54,MAX( 'MDA3'!J54,'MDA3'!M54),AO54)), AND(AU54>0,AV54>0,AW54>0,AX54=0), MIN(BB54, MAX('MDA1'!L54,'MDA4'!T54,MAX( 'MDA3'!J54,'MDA3'!M54),Z54)), AND(AU54>0,AV54>0,AW54>0,AX54>0), MIN(BB54, MAX('MDA1'!L54,'MDA4'!T54,MAX( 'MDA3'!J54,'MDA3'!M54),Z54,AO54)))","v":38850},66183,69.183676572180204]
[{"$f":"IF(COUNTRY_INFO!A55=0,\" \",COUNTRY_INFO!A55)","v":"South Sudan"},{"$f":"IF(COUNTRY_INFO!B55=0,\" \",COUNTRY_INFO!B55)","v":"Unity"},{"$f":"IF(COUNTRY_INFO!C55=0,\" \",COUNTRY_INFO!C55)","v":"MAYENDIT"},{"$f":"COUNTRY_INFO!M55","v":0},null,null,{"$f":"'MDA1'!M55+'MDA4'!U55","v":0},{"$f":"IF(AND(COUNTRY_INFO!H55>0,COUNTRY_INFO!H55<4),IF(D55>G55,G55,D55),0)","v":0},{"$f":"IF(AND(COUNTRY_INFO!H55>0,COUNTRY_INFO!H55<4), IF(G55/D55*100<>0, IF(G55/D55*100>100,100,G55/D55*100), \"-\"),0)","v":0},{"$f":"COUNTRY_INFO!N55","v":"Unknown"},null,null,{"$f":"MAX('MDA1'!M55,MAX('MDA3'!I55,'MDA3'!L55)+MAX('MDA3'!J55,'MDA3'!M55))","v":0},{"$f":"IF(AND(COUNTRY_INFO!I55>0,COUNTRY_INFO!I55<4),IF(J55>M55,M55,J55),0)","v":0},{"$f":"IF(AND(COUNTRY_INFO!I55>0,COUNTRY_INFO!I55<4), IF(M55/J55*100<>0, IF(M55/J55*100>100,100,M55/J55*100), \"-\"),0)","v":0},{"$f":"COUNTRY_INFO!R55","v":0},null,null,{"$f":"MAX('MDA4'!R55,'T1'!K55, MAX(T3_R1!J55,T3_R2!J55,T3_R3!J55))","v":0},{"$f":"IF(AND(COUNTRY_INFO!J55>1,COUNTRY_INFO!J55<99,COUNTRY_INFO!J55<>4,COUNTRY_INFO!J55<>5),IF(COUNTRY_INFO!O55>S55,S55,COUNTRY_INFO!O55),0)","v":0},{"$f":"IF(AND(COUNTRY_INFO!J55>1,COUNTRY_INFO!J55<99,COUNTRY_INFO!J55<>4,COUNTRY_INFO!J55<>5), IF(T55/COUNTRY_INFO!O55*100<>0, IF(T55/COUNTRY_INFO!O55*100>100,100,T55/COUNTRY_INFO!O55*100), \"-\"),0)","v":0},{"$f":"MAX('MDA1'!K55,'MDA4'!S55, 'T1'!L55, MAX(T3_R1!K55,T3_R2!K55,T3_R3!K55))","v":0},{"$f":"IF(AND(COUNTRY_INFO!J55>1,COUNTRY_INFO!J55<99,COUNTRY_INFO!J55<>4,COUNTRY_INFO!J55<>5),IF(COUNTRY_INFO!P55>V55,V55,COUNTRY_INFO!P55),0)","v":0},{"$f":"IF(AND(COUNTRY_INFO!J55>1,COUNTRY_INFO!J55<99,COUNTRY_INFO!J55<>4,COUNTRY_INFO!J55<>5), IF(W55/COUNTRY_INFO!P55*100<>0, IF(W55/COUNTRY_INFO!P55*100>100,100,W55/COUNTRY_INFO!P55*100), \"-\"),0)","v":0},{"$f":"MAX('MDA1'!L55,'MDA4'!T55, 'T1'!M55, MAX(T3_R1!L55,T3_R2!L55,T3_R3!L55))","v":0},{"$f":"IF(AND(COUNTRY_INFO!J55>1,COUNTRY_INFO!J55<99,COUNTRY_INFO!J55<>4,COUNTRY_INFO!J55<>5),IF(COUNTRY_INFO!Q55>Y55,Y55,COUNTRY_INFO!Q55),0)","v":0},{"$f":"IF(AND(COUNTRY_INFO!J55>1,COUNTRY_INFO!J55<99,COUNTRY_INFO!J55<>4,COUNTRY_INFO!J55<>5), IF(Z55/COUNTRY_INFO!Q55*100<>0, IF(Z55/COUNTRY_INFO!Q55*100>100,100,Z55/COUNTRY_INFO!Q55*100), \"-\"),0)","v":0},0,0,{"$f":"IF(AND(COUNTRY_INFO!J55>1,COUNTRY_INFO!J55<99,COUNTRY_INFO!J55<>4,COUNTRY_INFO!J55<>5), IF(AC55/P55*100<>0, IF(AC55/P55*100>100,100,AC55/P55*100), \"-\"),0)","v":0},{"$f":"COUNTRY_INFO!V55","v":89849},null,null,{"$f":"MAX('T1'!K55,'T2'!R55)","v":0},{"$f":"IF(AND(COUNTRY_INFO!K55>1,COUNTRY_INFO!K55<99,COUNTRY_INFO!K55<>4,COUNTRY_INFO!K55<>5),IF(COUNTRY_INFO!S55>AH55,AH55,COUNTRY_INFO!S55),0)","v":0},{"$f":"IF(AND(COUNTRY_INFO!K55>1,COUNTRY_INFO!K55<99,COUNTRY_INFO!K55<>4,COUNTRY_INFO!K55<>5), IF(AI55/COUNTRY_INFO!S55*100<>0, IF(AI55/COUNTRY_INFO!S55*100>100,100,AI55/COUNTRY_INFO!S55*100), \"-\"),0)","v":"-"},{"$f":"MAX('T1'!L55,'T2'!S55)","v":0},{"$f":"IF(AND(COUNTRY_INFO!K55>1,COUNTRY_INFO!K55<99,COUNTRY_INFO!K55<>4,COUNTRY_INFO!K55<>5),IF(COUNTRY_INFO!T55>AK55,AK55,COUNTRY_INFO!T55),0)","v":0},{"$f":"IF(AND(COUNTRY_INFO!K55>1,COUNTRY_INFO!K55<99,COUNTRY_INFO!K55<>4,COUNTRY_INFO!K55<>5), IF(AL55/COUNTRY_INFO!T55*100<>0, IF(AL55/COUNTRY_INFO!T55*100>100,100,AL55/COUNTRY_INFO!T55*100), \"-\"),0)","v":"-"},{"$f":"MAX('T1'!M55,'T2'!T55)","v":0},{"$f":"IF(AND(COUNTRY_INFO!K55>1,COUNTRY_INFO!K55<99,COUNTRY_INFO!K55<>4,COUNTRY_INFO!K55<>5),IF(COUNTRY_INFO!U55>AN55,AN55,COUNTRY_INFO!U55),0)","v":0},{"$f":"IF(AND(COUNTRY_INFO!K55>1,COUNTRY_INFO!K55<99,COUNTRY_INFO!K55<>4,COUNTRY_INFO!K55<>5), IF(AO55/COUNTRY_INFO!U55*100<>0, IF(AO55/COUNTRY_INFO!U55*100>100,100,AO55/COUNTRY_INFO!U55*100), \"-\"),0)","v":"-"},0,0,{"$f":"IF(AND(COUNTRY_INFO!K55>1,COUNTRY_INFO!K55<99,COUNTRY_INFO!K55<>4,COUNTRY_INFO!K55<>5), IF(AH55/AE55*100<>0, IF(AR55/AE55*100>100,100,AR55/AE55*100), \"-\"),0)","v":"-"},null,{"$f":"IF(AND(D55<>0, D55<>\"Unknown\",D55<>\"Stopped\",D55<>\"Not required\"),D55/COUNTRY_INFO!D55, 0)","v":0},{"$f":"IF(AND(J55<>0,J55<>\"Unknown\",J55<>\"Stopped\",J55<>\"Not required\"),J55/COUNTRY_INFO!D55, 0)","v":0},{"$f":"IF(AND(P55<>0,P55<>\"Unknown\",P55<>\"Surveillance\",P55<>\"Not required\"),P55/COUNTRY_INFO!R55, 0)","v":0},{"$f":"IF(AND(AE55<>0,AE55<>\"Unknown\",AE55<>\"Surveillance\",AE55<>\"Not required\"),AE55/COUNTRY_INFO!V55, 0)","v":1},{"$f":"IF(AU55>0,D55*PROFILE!$G$7,IF(AV55>0,J55*PROFILE!$G$7,0))","v":0},{"$f":"_xlfn.IFS(OR(AU55>0,AW55>0),COUNTRY_INFO!E55, AV55>0,J55*PROFILE!$G$8,AX55>0,COUNTRY_INFO!S55,COUNTIFS(AU55:AX55,\">0\")=0,0)","v":8030},{"$f":"_xlfn.IFS(OR(AU55>0,AW55>0),COUNTRY_INFO!F55, AV55>0,J55*PROFILE!$G$9,AX55>0,COUNTRY_INFO!T55,COUNTIFS(AU55:AX55,\">0\")=0,0)","v":25919},{"$f":"_xlfn.IFS(AU55>0,COUNTRY_INFO!G55, AND(AV55>0,AW55=0,AX55=0),J55*PROFILE!$G$10,AND(AV55>0,AW55>0,AX55=0), MAX(J55*PROFILE!$G$10,COUNTRY_INFO!Q55),AND(AV55>0,AW55=0,AX55>0), MAX(J55*PROFILE!$G$10,COUNTRY_INFO!U55),AND(AV55=0,AW55>0,AX55>0), MAX(COUNTRY_INFO!Q55,COUNTRY_INFO!U55),AND(AV55=0,AW55>0,AX55=0),COUNTRY_INFO!Q55,AND(AV55=0,AW55=0,AX55>0),COUNTRY_INFO!U55,AND(AV55>0,AW55>0,AX55>0), MAX(J55*PROFILE!$G$10,COUNTRY_INFO!Q55,COUNTRY_INFO!U55),COUNTIFS(AU55:AX55,\">0\")=0,0)","v":55900},89849,0,{"$f":"MAX('MDA4'!R55,S55,AH55)","v":0},{"$f":"MAX('MDA1'!K55,'MDA4'!S55,'MDA3'!I55,'MDA3'!L55,V55,AK55)","v":0},{"$f":"MAX('MDA1'!L55,'MDA4'!T55,'MDA3'!J55,'MDA3'!M55,Y55,AN55)","v":0},0,{"$f":"_xlfn.IFS(AND(AU55=0,AW55=0,AX55=0),0,AND(AU55=0,AW55=0,AX55>0),AI55,AND(AU55=0,AW55>0,AX55=0),T55,AND(AU55=0,AW55>0,AX55>0),MAX(T55,AI55),AND(AU55>0,AW55=0,AX55=0),MIN('MDA4'!R55,AZ55),AND(AU55>0,AW55=0,AX55>0),MIN(MAX('MDA4'!R55,AI55),AZ55),AND(AU55>0,AW55>0,AX55=0),MIN(MAX('MDA4'!R55,T55),AZ55),AND(AU55>0,AW55>0,AX55>0),MIN(MAX('MDA4'!R55,AI55,T55),AZ55))","v":0},{"$f":"_xlfn.IFS(AND(AU55=0,AV55=0,AW55=0,AX55=0),0,AND(AU55=0,AV55=0,AW55=0,AX55>0),AL55,AND(AU55=0,AV55=0,AW55>0,AX55=0),W55,AND(AU55=0,AV55=0,AW55>0,AX55>0),MAX(W55,AL55),AND(AU55=0,AV55>0,AW55=0,AX55=0),MIN(J55*PROFILE!$G$9,MAX('MDA3'!I55,'MDA3'!L55)),AND(AU55=0,AV55>0,AW55=0,AX55>0),MIN(J55*PROFILE!$G$9,MAX('MDA3'!I55,'MDA3'!L55,AL55)),AND(AU55=0,AV55>0,AW55>0,AX55=0),MIN(J55*PROFILE!$G$9,MAX('MDA3'!I55,'MDA3'!L55,W55)),AND(AU55=0,AV55>0,AW55>0,AX55>0),MIN(J55*PROFILE!$G$9,MAX('MDA3'!I55,'MDA3'!L55,W55,AL55)),AND(AU55>0,AV55=0,AW55=0,AX55=0), MIN(BA55,MAX('MDA1'!K55,'MDA4'!S55)),AND(AU55>0,AV55=0,AW55=0,AX55>0), MIN(BA55,MAX('MDA1'!K55,'MDA4'!S55,AL55)),AND(AU55>0,AV55=0,AW55>0,AX55=0),MIN(BA55,MAX('MDA1'!K55,'MDA4'!S55,W55)),AND(AU55>0,AV55=0,AW55>0,AX55>0),MIN(BA55,MAX('MDA1'!K55,'MDA4'!S55,W55,AL55)),AND(AU55>0,AV55>0,AW55=0,AX55=0),MIN(BA55, MAX('MDA1'!K55,'MDA4'!S55,MAX('MDA3'!I55,'MDA3'!L55))), AND(AU55>0,AV55>0,AW55=0,AX55>0),MIN(BA55, MAX('MDA1'!K55,'MDA4'!S55,MAX( 'MDA3'!I55,'MDA3'!L55),AL55)), AND(AU55>0,AV55>0,AW55>0,AX55=0), MIN(BA55, MAX('MDA1'!K55,'MDA4'!S55,MAX( 'MDA3'!I55,'MDA3'!L55),W55)), AND(AU55>0,AV55>0,AW55>0,AX55>0), MIN(BA55, MAX('MDA1'!K55,'MDA4'!S55,MAX( 'MDA3'!I55,'MDA3'!L55),W55,AL55)))","v":0},{"$f":"_xlfn.IFS(AND(AU55=0,AV55=0,AW55=0,AX55=0),0,AND(AU55=0,AV55=0,AW55=0,AX55>0),AO55,AND(AU55=0,AV55=0,AW55>0,AX55=0),Z55,AND(AU55=0,AV55=0,AW55>0,AX55>0),MAX(Z55,AO55),AND(AU55=0,AV55>0,AW55=0,AX55=0),MIN(J55*PROFILE!$G$10,MAX('MDA3'!J55,'MDA3'!J55)),AND(AU55=0,AV55>0,AW55=0,AX55>0),MIN(J55*PROFILE!$G$10,MAX('MDA3'!J55,'MDA3'!M55,AO55)),AND(AU55=0,AV55>0,AW55>0,AX55=0),MIN(J55*PROFILE!$G$10,MAX('MDA3'!J55,'MDA3'!M55,Z55)),AND(AU55=0,AV55>0,AW55>0,AX55>0),MIN(J55*PROFILE!$G$10,MAX('MDA3'!J55,'MDA3'!M55,Z55,AO55)),AND(AU55>0,AV55=0,AW55=0,AX55=0), MIN(BB55,MAX('MDA1'!L55,'MDA4'!T55)),AND(AU55>0,AV55=0,AW55=0,AX55>0), MIN(BB55,MAX('MDA1'!L55,'MDA4'!T55,AO55)),AND(AU55>0,AV55=0,AW55>0,AX55=0),MIN(BB55,MAX('MDA1'!L55,'MDA4'!T55,Z55)),AND(AU55>0,AV55=0,AW55>0,AX55>0),MIN(BB55,MAX('MDA1'!L55,'MDA4'!T55,Z55,AO55)),AND(AU55>0,AV55>0,AW55=0,AX55=0),MIN(BB55, MAX('MDA1'!L55,'MDA4'!T55,MAX( 'MDA3'!J55,'MDA3'!M55))), AND(AU55>0,AV55>0,AW55=0,AX55>0),MIN(BB55, MAX('MDA1'!L55,'MDA4'!T55,MAX( 'MDA3'!J55,'MDA3'!M55),AO55)), AND(AU55>0,AV55>0,AW55>0,AX55=0), MIN(BB55, MAX('MDA1'!L55,'MDA4'!T55,MAX( 'MDA3'!J55,'MDA3'!M55),Z55)), AND(AU55>0,AV55>0,AW55>0,AX55>0), MIN(BB55, MAX('MDA1'!L55,'MDA4'!T55,MAX( 'MDA3'!J55,'MDA3'!M55),Z55,AO55)))","v":0},0,0]
[{"$f":"IF(COUNTRY_INFO!A56=0,\" \",COUNTRY_INFO!A56)","v":"South Sudan"},{"$f":"IF(COUNTRY_INFO!B56=0,\" \",COUNTRY_INFO!B56)","v":"Unity"},{"$f":"IF(COUNTRY_INFO!C56=0,\" \",COUNTRY_INFO!C56)","v":"PAYNIJAR"},{"$f":"COUNTRY_INFO!M56","v":0},null,null,{"$f":"'MDA1'!M56+'MDA4'!U56","v":0},{"$f":"IF(AND(COUNTRY_INFO!H56>0,COUNTRY_INFO!H56<4),IF(D56>G56,G56,D56),0)","v":0},{"$f":"IF(AND(COUNTRY_INFO!H56>0,COUNTRY_INFO!H56<4), IF(G56/D56*100<>0, IF(G56/D56*100>100,100,G56/D56*100), \"-\"),0)","v":0},{"$f":"COUNTRY_INFO!N56","v":"Unknown"},null,null,{"$f":"MAX('MDA1'!M56,MAX('MDA3'!I56,'MDA3'!L56)+MAX('MDA3'!J56,'MDA3'!M56))","v":0},{"$f":"IF(AND(COUNTRY_INFO!I56>0,COUNTRY_INFO!I56<4),IF(J56>M56,M56,J56),0)","v":0},{"$f":"IF(AND(COUNTRY_INFO!I56>0,COUNTRY_INFO!I56<4), IF(M56/J56*100<>0, IF(M56/J56*100>100,100,M56/J56*100), \"-\"),0)","v":0},{"$f":"COUNTRY_INFO!R56","v":0},null,null,{"$f":"MAX('MDA4'!R56,'T1'!K56, MAX(T3_R1!J56,T3_R2!J56,T3_R3!J56))","v":0},{"$f":"IF(AND(COUNTRY_INFO!J56>1,COUNTRY_INFO!J56<99,COUNTRY_INFO!J56<>4,COUNTRY_INFO!J56<>5),IF(COUNTRY_INFO!O56>S56,S56,COUNTRY_INFO!O56),0)","v":0},{"$f":"IF(AND(COUNTRY_INFO!J56>1,COUNTRY_INFO!J56<99,COUNTRY_INFO!J56<>4,COUNTRY_INFO!J56<>5), IF(T56/COUNTRY_INFO!O56*100<>0, IF(T56/COUNTRY_INFO!O56*100>100,100,T56/COUNTRY_INFO!O56*100), \"-\"),0)","v":0},{"$f":"MAX('MDA1'!K56,'MDA4'!S56, 'T1'!L56, MAX(T3_R1!K56,T3_R2!K56,T3_R3!K56))","v":0},{"$f":"IF(AND(COUNTRY_INFO!J56>1,COUNTRY_INFO!J56<99,COUNTRY_INFO!J56<>4,COUNTRY_INFO!J56<>5),IF(COUNTRY_INFO!P56>V56,V56,COUNTRY_INFO!P56),0)","v":0},{"$f":"IF(AND(COUNTRY_INFO!J56>1,COUNTRY_INFO!J56<99,COUNTRY_INFO!J56<>4,COUNTRY_INFO!J56<>5), IF(W56/COUNTRY_INFO!P56*100<>0, IF(W56/COUNTRY_INFO!P56*100>100,100,W56/COUNTRY_INFO!P56*100), \"-\"),0)","v":0},{"$f":"MAX('MDA1'!L56,'MDA4'!T56, 'T1'!M56, MAX(T3_R1!L56,T3_R2!L56,T3_R3!L56))","v":0},{"$f":"IF(AND(COUNTRY_INFO!J56>1,COUNTRY_INFO!J56<99,COUNTRY_INFO!J56<>4,COUNTRY_INFO!J56<>5),IF(COUNTRY_INFO!Q56>Y56,Y56,COUNTRY_INFO!Q56),0)","v":0},{"$f":"IF(AND(COUNTRY_INFO!J56>1,COUNTRY_INFO!J56<99,COUNTRY_INFO!J56<>4,COUNTRY_INFO!J56<>5), IF(Z56/COUNTRY_INFO!Q56*100<>0, IF(Z56/COUNTRY_INFO!Q56*100>100,100,Z56/COUNTRY_INFO!Q56*100), \"-\"),0)","v":0},0,0,{"$f":"IF(AND(COUNTRY_INFO!J56>1,COUNTRY_INFO!J56<99,COUNTRY_INFO!J56<>4,COUNTRY_INFO!J56<>5), IF(AC56/P56*100<>0, IF(AC56/P56*100>100,100,AC56/P56*100), \"-\"),0)","v":0},{"$f":"COUNTRY_INFO!V56","v":75147},null,null,{"$f":"MAX('T1'!K56,'T2'!R56)","v":0},{"$f":"IF(AND(COUNTRY_INFO!K56>1,COUNTRY_INFO!K56<99,COUNTRY_INFO!K56<>4,COUNTRY_INFO!K56<>5),IF(COUNTRY_INFO!S56>AH56,AH56,COUNTRY_INFO!S56),0)","v":0},{"$f":"IF(AND(COUNTRY_INFO!K56>1,COUNTRY_INFO!K56<99,COUNTRY_INFO!K56<>4,COUNTRY_INFO!K56<>5), IF(AI56/COUNTRY_INFO!S56*100<>0, IF(AI56/COUNTRY_INFO!S56*100>100,100,AI56/COUNTRY_INFO!S56*100), \"-\"),0)","v":"-"},{"$f":"MAX('T1'!L56,'T2'!S56)","v":0},{"$f":"IF(AND(COUNTRY_INFO!K56>1,COUNTRY_INFO!K56<99,COUNTRY_INFO!K56<>4,COUNTRY_INFO!K56<>5),IF(COUNTRY_INFO!T56>AK56,AK56,COUNTRY_INFO!T56),0)","v":0},{"$f":"IF(AND(COUNTRY_INFO!K56>1,COUNTRY_INFO!K56<99,COUNTRY_INFO!K56<>4,COUNTRY_INFO!K56<>5), IF(AL56/COUNTRY_INFO!T56*100<>0, IF(AL56/COUNTRY_INFO!T56*100>100,100,AL56/COUNTRY_INFO!T56*100), \"-\"),0)","v":"-"},{"$f":"MAX('T1'!M56,'T2'!T56)","v":0},{"$f":"IF(AND(COUNTRY_INFO!K56>1,COUNTRY_INFO!K56<99,COUNTRY_INFO!K56<>4,COUNTRY_INFO!K56<>5),IF(COUNTRY_INFO!U56>AN56,AN56,COUNTRY_INFO!U56),0)","v":0},{"$f":"IF(AND(COUNTRY_INFO!K56>1,COUNTRY_INFO!K56<99,COUNTRY_INFO!K56<>4,COUNTRY_INFO!K56<>5), IF(AO56/COUNTRY_INFO!U56*100<>0, IF(AO56/COUNTRY_INFO!U56*100>100,100,AO56/COUNTRY_INFO!U56*100), \"-\"),0)","v":"-"},0,0,{"$f":"IF(AND(COUNTRY_INFO!K56>1,COUNTRY_INFO!K56<99,COUNTRY_INFO!K56<>4,COUNTRY_INFO!K56<>5), IF(AH56/AE56*100<>0, IF(AR56/AE56*100>100,100,AR56/AE56*100), \"-\"),0)","v":"-"},null,{"$f":"IF(AND(D56<>0, D56<>\"Unknown\",D56<>\"Stopped\",D56<>\"Not required\"),D56/COUNTRY_INFO!D56, 0)","v":0},{"$f":"IF(AND(J56<>0,J56<>\"Unknown\",J56<>\"Stopped\",J56<>\"Not required\"),J56/COUNTRY_INFO!D56, 0)","v":0},{"$f":"IF(AND(P56<>0,P56<>\"Unknown\",P56<>\"Surveillance\",P56<>\"Not required\"),P56/COUNTRY_INFO!R56, 0)","v":0},{"$f":"IF(AND(AE56<>0,AE56<>\"Unknown\",AE56<>\"Surveillance\",AE56<>\"Not required\"),AE56/COUNTRY_INFO!V56, 0)","v":1},{"$f":"IF(AU56>0,D56*PROFILE!$G$7,IF(AV56>0,J56*PROFILE!$G$7,0))","v":0},{"$f":"_xlfn.IFS(OR(AU56>0,AW56>0),COUNTRY_INFO!E56, AV56>0,J56*PROFILE!$G$8,AX56>0,COUNTRY_INFO!S56,COUNTIFS(AU56:AX56,\">0\")=0,0)","v":6717},{"$f":"_xlfn.IFS(OR(AU56>0,AW56>0),COUNTRY_INFO!F56, AV56>0,J56*PROFILE!$G$9,AX56>0,COUNTRY_INFO!T56,COUNTIFS(AU56:AX56,\">0\")=0,0)","v":21677},{"$f":"_xlfn.IFS(AU56>0,COUNTRY_INFO!G56, AND(AV56>0,AW56=0,AX56=0),J56*PROFILE!$G$10,AND(AV56>0,AW56>0,AX56=0), MAX(J56*PROFILE!$G$10,COUNTRY_INFO!Q56),AND(AV56>0,AW56=0,AX56>0), MAX(J56*PROFILE!$G$10,COUNTRY_INFO!U56),AND(AV56=0,AW56>0,AX56>0), MAX(COUNTRY_INFO!Q56,COUNTRY_INFO!U56),AND(AV56=0,AW56>0,AX56=0),COUNTRY_INFO!Q56,AND(AV56=0,AW56=0,AX56>0),COUNTRY_INFO!U56,AND(AV56>0,AW56>0,AX56>0), MAX(J56*PROFILE!$G$10,COUNTRY_INFO!Q56,COUNTRY_INFO!U56),COUNTIFS(AU56:AX56,\">0\")=0,0)","v":46753},75147,0,{"$f":"MAX('MDA4'!R56,S56,AH56)","v":0},{"$f":"MAX('MDA1'!K56,'MDA4'!S56,'MDA3'!I56,'MDA3'!L56,V56,AK56)","v":0},{"$f":"MAX('MDA1'!L56,'MDA4'!T56,'MDA3'!J56,'MDA3'!M56,Y56,AN56)","v":0},0,{"$f":"_xlfn.IFS(AND(AU56=0,AW56=0,AX56=0),0,AND(AU56=0,AW56=0,AX56>0),AI56,AND(AU56=0,AW56>0,AX56=0),T56,AND(AU56=0,AW56>0,AX56>0),MAX(T56,AI56),AND(AU56>0,AW56=0,AX56=0),MIN('MDA4'!R56,AZ56),AND(AU56>0,AW56=0,AX56>0),MIN(MAX('MDA4'!R56,AI56),AZ56),AND(AU56>0,AW56>0,AX56=0),MIN(MAX('MDA4'!R56,T56),AZ56),AND(AU56>0,AW56>0,AX56>0),MIN(MAX('MDA4'!R56,AI56,T56),AZ56))","v":0},{"$f":"_xlfn.IFS(AND(AU56=0,AV56=0,AW56=0,AX56=0),0,AND(AU56=0,AV56=0,AW56=0,AX56>0),AL56,AND(AU56=0,AV56=0,AW56>0,AX56=0),W56,AND(AU56=0,AV56=0,AW56>0,AX56>0),MAX(W56,AL56),AND(AU56=0,AV56>0,AW56=0,AX56=0),MIN(J56*PROFILE!$G$9,MAX('MDA3'!I56,'MDA3'!L56)),AND(AU56=0,AV56>0,AW56=0,AX56>0),MIN(J56*PROFILE!$G$9,MAX('MDA3'!I56,'MDA3'!L56,AL56)),AND(AU56=0,AV56>0,AW56>0,AX56=0),MIN(J56*PROFILE!$G$9,MAX('MDA3'!I56,'MDA3'!L56,W56)),AND(AU56=0,AV56>0,AW56>0,AX56>0),MIN(J56*PROFILE!$G$9,MAX('MDA3'!I56,'MDA3'!L56,W56,AL56)),AND(AU56>0,AV56=0,AW56=0,AX56=0), MIN(BA56,MAX('MDA1'!K56,'MDA4'!S56)),AND(AU56>0,AV56=0,AW56=0,AX56>0), MIN(BA56,MAX('MDA1'!K56,'MDA4'!S56,AL56)),AND(AU56>0,AV56=0,AW56>0,AX56=0),MIN(BA56,MAX('MDA1'!K56,'MDA4'!S56,W56)),AND(AU56>0,AV56=0,AW56>0,AX56>0),MIN(BA56,MAX('MDA1'!K56,'MDA4'!S56,W56,AL56)),AND(AU56>0,AV56>0,AW56=0,AX56=0),MIN(BA56, MAX('MDA1'!K56,'MDA4'!S56,MAX('MDA3'!I56,'MDA3'!L56))), AND(AU56>0,AV56>0,AW56=0,AX56>0),MIN(BA56, MAX('MDA1'!K56,'MDA4'!S56,MAX( 'MDA3'!I56,'MDA3'!L56),AL56)), AND(AU56>0,AV56>0,AW56>0,AX56=0), MIN(BA56, MAX('MDA1'!K56,'MDA4'!S56,MAX( 'MDA3'!I56,'MDA3'!L56),W56)), AND(AU56>0,AV56>0,AW56>0,AX56>0), MIN(BA56, MAX('MDA1'!K56,'MDA4'!S56,MAX( 'MDA3'!I56,'MDA3'!L56),W56,AL56)))","v":0},{"$f":"_xlfn.IFS(AND(AU56=0,AV56=0,AW56=0,AX56=0),0,AND(AU56=0,AV56=0,AW56=0,AX56>0),AO56,AND(AU56=0,AV56=0,AW56>0,AX56=0),Z56,AND(AU56=0,AV56=0,AW56>0,AX56>0),MAX(Z56,AO56),AND(AU56=0,AV56>0,AW56=0,AX56=0),MIN(J56*PROFILE!$G$10,MAX('MDA3'!J56,'MDA3'!J56)),AND(AU56=0,AV56>0,AW56=0,AX56>0),MIN(J56*PROFILE!$G$10,MAX('MDA3'!J56,'MDA3'!M56,AO56)),AND(AU56=0,AV56>0,AW56>0,AX56=0),MIN(J56*PROFILE!$G$10,MAX('MDA3'!J56,'MDA3'!M56,Z56)),AND(AU56=0,AV56>0,AW56>0,AX56>0),MIN(J56*PROFILE!$G$10,MAX('MDA3'!J56,'MDA3'!M56,Z56,AO56)),AND(AU56>0,AV56=0,AW56=0,AX56=0), MIN(BB56,MAX('MDA1'!L56,'MDA4'!T56)),AND(AU56>0,AV56=0,AW56=0,AX56>0), MIN(BB56,MAX('MDA1'!L56,'MDA4'!T56,AO56)),AND(AU56>0,AV56=0,AW56>0,AX56=0),MIN(BB56,MAX('MDA1'!L56,'MDA4'!T56,Z56)),AND(AU56>0,AV56=0,AW56>0,AX56>0),MIN(BB56,MAX('MDA1'!L56,'MDA4'!T56,Z56,AO56)),AND(AU56>0,AV56>0,AW56=0,AX56=0),MIN(BB56, MAX('MDA1'!L56,'MDA4'!T56,MAX( 'MDA3'!J56,'MDA3'!M56))), AND(AU56>0,AV56>0,AW56=0,AX56>0),MIN(BB56, MAX('MDA1'!L56,'MDA4'!T56,MAX( 'MDA3'!J56,'MDA3'!M56),AO56)), AND(AU56>0,AV56>0,AW56>0,AX56=0), MIN(BB56, MAX('MDA1'!L56,'MDA4'!T56,MAX( 'MDA3'!J56,'MDA3'!M56),Z56)), AND(AU56>0,AV56>0,AW56>0,AX56>0), MIN(BB56, MAX('MDA1'!L56,'MDA4'!T56,MAX( 'MDA3'!J56,'MDA3'!M56),Z56,AO56)))","v":0},0,0]
[{"$f":"IF(COUNTRY_INFO!A57=0,\" \",COUNTRY_INFO!A57)","v":"South Sudan"},{"$f":"IF(COUNTRY_INFO!B57=0,\" \",COUNTRY_INFO!B57)","v":"Upper Nile"},{"$f":"IF(COUNTRY_INFO!C57=0,\" \",COUNTRY_INFO!C57)","v":"RENK"},{"$f":"COUNTRY_INFO!M57","v":235276.85390000002},null,null,{"$f":"'MDA1'!M57+'MDA4'!U57","v":67445},{"$f":"IF(AND(COUNTRY_INFO!H57>0,COUNTRY_INFO!H57<4),IF(D57>G57,G57,D57),0)","v":67445},{"$f":"IF(AND(COUNTRY_INFO!H57>0,COUNTRY_INFO!H57<4), IF(G57/D57*100<>0, IF(G57/D57*100>100,100,G57/D57*100), \"-\"),0)","v":28.666228267684257},{"$f":"COUNTRY_INFO!N57","v":"Unknown"},null,null,{"$f":"MAX('MDA1'!M57,MAX('MDA3'!I57,'MDA3'!L57)+MAX('MDA3'!J57,'MDA3'!M57))","v":67445},{"$f":"IF(AND(COUNTRY_INFO!I57>0,COUNTRY_INFO!I57<4),IF(J57>M57,M57,J57),0)","v":0},{"$f":"IF(AND(COUNTRY_INFO!I57>0,COUNTRY_INFO!I57<4), IF(M57/J57*100<>0, IF(M57/J57*100>100,100,M57/J57*100), \"-\"),0)","v":0},{"$f":"COUNTRY_INFO!R57","v":0},null,null,{"$f":"MAX('MDA4'!R57,'T1'!K57, MAX(T3_R1!J57,T3_R2!J57,T3_R3!J57))","v":0},{"$f":"IF(AND(COUNTRY_INFO!J57>1,COUNTRY_INFO!J57<99,COUNTRY_INFO!J57<>4,COUNTRY_INFO!J57<>5),IF(COUNTRY_INFO!O57>S57,S57,COUNTRY_INFO!O57),0)","v":0},{"$f":"IF(AND(COUNTRY_INFO!J57>1,COUNTRY_INFO!J57<99,COUNTRY_INFO!J57<>4,COUNTRY_INFO!J57<>5), IF(T57/COUNTRY_INFO!O57*100<>0, IF(T57/COUNTRY_INFO!O57*100>100,100,T57/COUNTRY_INFO!O57*100), \"-\"),0)","v":0},{"$f":"MAX('MDA1'!K57,'MDA4'!S57, 'T1'!L57, MAX(T3_R1!K57,T3_R2!K57,T3_R3!K57))","v":30779},{"$f":"IF(AND(COUNTRY_INFO!J57>1,COUNTRY_INFO!J57<99,COUNTRY_INFO!J57<>4,COUNTRY_INFO!J57<>5),IF(COUNTRY_INFO!P57>V57,V57,COUNTRY_INFO!P57),0)","v":0},{"$f":"IF(AND(COUNTRY_INFO!J57>1,COUNTRY_INFO!J57<99,COUNTRY_INFO!J57<>4,COUNTRY_INFO!J57<>5), IF(W57/COUNTRY_INFO!P57*100<>0, IF(W57/COUNTRY_INFO!P57*100>100,100,W57/COUNTRY_INFO!P57*100), \"-\"),0)","v":0},{"$f":"MAX('MDA1'!L57,'MDA4'!T57, 'T1'!M57, MAX(T3_R1!L57,T3_R2!L57,T3_R3!L57))","v":36666},{"$f":"IF(AND(COUNTRY_INFO!J57>1,COUNTRY_INFO!J57<99,COUNTRY_INFO!J57<>4,COUNTRY_INFO!J57<>5),IF(COUNTRY_INFO!Q57>Y57,Y57,COUNTRY_INFO!Q57),0)","v":0},{"$f":"IF(AND(COUNTRY_INFO!J57>1,COUNTRY_INFO!J57<99,COUNTRY_INFO!J57<>4,COUNTRY_INFO!J57<>5), IF(Z57/COUNTRY_INFO!Q57*100<>0, IF(Z57/COUNTRY_INFO!Q57*100>100,100,Z57/COUNTRY_INFO!Q57*100), \"-\"),0)","v":0},67445,0,{"$f":"IF(AND(COUNTRY_INFO!J57>1,COUNTRY_INFO!J57<99,COUNTRY_INFO!J57<>4,COUNTRY_INFO!J57<>5), IF(AC57/P57*100<>0, IF(AC57/P57*100>100,100,AC57/P57*100), \"-\"),0)","v":0},{"$f":"COUNTRY_INFO!V57","v":161038},null,null,{"$f":"MAX('T1'!K57,'T2'!R57)","v":0},{"$f":"IF(AND(COUNTRY_INFO!K57>1,COUNTRY_INFO!K57<99,COUNTRY_INFO!K57<>4,COUNTRY_INFO!K57<>5),IF(COUNTRY_INFO!S57>AH57,AH57,COUNTRY_INFO!S57),0)","v":0},{"$f":"IF(AND(COUNTRY_INFO!K57>1,COUNTRY_INFO!K57<99,COUNTRY_INFO!K57<>4,COUNTRY_INFO!K57<>5), IF(AI57/COUNTRY_INFO!S57*100<>0, IF(AI57/COUNTRY_INFO!S57*100>100,100,AI57/COUNTRY_INFO!S57*100), \"-\"),0)","v":"-"},{"$f":"MAX('T1'!L57,'T2'!S57)","v":0},{"$f":"IF(AND(COUNTRY_INFO!K57>1,COUNTRY_INFO!K57<99,COUNTRY_INFO!K57<>4,COUNTRY_INFO!K57<>5),IF(COUNTRY_INFO!T57>AK57,AK57,COUNTRY_INFO!T57),0)","v":0},{"$f":"IF(AND(COUNTRY_INFO!K57>1,COUNTRY_INFO!K57<99,COUNTRY_INFO!K57<>4,COUNTRY_INFO!K57<>5), IF(AL57/COUNTRY_INFO!T57*100<>0, IF(AL57/COUNTRY_INFO!T57*100>100,100,AL57/COUNTRY_INFO!T57*100), \"-\"),0)","v":"-"},{"$f":"MAX('T1'!M57,'T2'!T57)","v":0},{"$f":"IF(AND(COUNTRY_INFO!K57>1,COUNTRY_INFO!K57<99,COUNTRY_INFO!K57<>4,COUNTRY_INFO!K57<>5),IF(COUNTRY_INFO!U57>AN57,AN57,COUNTRY_INFO!U57),0)","v":0},{"$f":"IF(AND(COUNTRY_INFO!K57>1,COUNTRY_INFO!K57<99,COUNTRY_INFO!K57<>4,COUNTRY_INFO!K57<>5), IF(AO57/COUNTRY_INFO!U57*100<>0, IF(AO57/COUNTRY_INFO!U57*100>100,100,AO57/COUNTRY_INFO!U57*100), \"-\"),0)","v":"-"},0,0,{"$f":"IF(AND(COUNTRY_INFO!K57>1,COUNTRY_INFO!K57<99,COUNTRY_INFO!K57<>4,COUNTRY_INFO!K57<>5), IF(AH57/AE57*100<>0, IF(AR57/AE57*100>100,100,AR57/AE57*100), \"-\"),0)","v":"-"},null,{"$f":"IF(AND(D57<>0, D57<>\"Unknown\",D57<>\"Stopped\",D57<>\"Not required\"),D57/COUNTRY_INFO!D57, 0)","v":1},{"$f":"IF(AND(J57<>0,J57<>\"Unknown\",J57<>\"Stopped\",J57<>\"Not required\"),J57/COUNTRY_INFO!D57, 0)","v":0},{"$f":"IF(AND(P57<>0,P57<>\"Unknown\",P57<>\"Surveillance\",P57<>\"Not required\"),P57/COUNTRY_INFO!R57, 0)","v":0},{"$f":"IF(AND(AE57<>0,AE57<>\"Unknown\",AE57<>\"Surveillance\",AE57<>\"Not required\"),AE57/COUNTRY_INFO!V57, 0)","v":1},{"$f":"IF(AU57>0,D57*PROFILE!$G$7,IF(AV57>0,J57*PROFILE!$G$7,0))","v":6470.0975341029643},{"$f":"_xlfn.IFS(OR(AU57>0,AW57>0),COUNTRY_INFO!E57, AV57>0,J57*PROFILE!$G$8,AX57>0,COUNTRY_INFO!S57,COUNTIFS(AU57:AX57,\">0\")=0,0)","v":26045},{"$f":"_xlfn.IFS(OR(AU57>0,AW57>0),COUNTRY_INFO!F57, AV57>0,J57*PROFILE!$G$9,AX57>0,COUNTRY_INFO!T57,COUNTIFS(AU57:AX57,\">0\")=0,0)","v":72677},{"$f":"_xlfn.IFS(AU57>0,COUNTRY_INFO!G57, AND(AV57>0,AW57=0,AX57=0),J57*PROFILE!$G$10,AND(AV57>0,AW57>0,AX57=0), MAX(J57*PROFILE!$G$10,COUNTRY_INFO!Q57),AND(AV57>0,AW57=0,AX57>0), MAX(J57*PROFILE!$G$10,COUNTRY_INFO!U57),AND(AV57=0,AW57>0,AX57>0), MAX(COUNTRY_INFO!Q57,COUNTRY_INFO!U57),AND(AV57=0,AW57>0,AX57=0),COUNTRY_INFO!Q57,AND(AV57=0,AW57=0,AX57>0),COUNTRY_INFO!U57,AND(AV57>0,AW57>0,AX57>0), MAX(J57*PROFILE!$G$10,COUNTRY_INFO!Q57,COUNTRY_INFO!U57),COUNTIFS(AU57:AX57,\">0\")=0,0)","v":130085},235277.09753410297,0,{"$f":"MAX('MDA4'!R57,S57,AH57)","v":0},{"$f":"MAX('MDA1'!K57,'MDA4'!S57,'MDA3'!I57,'MDA3'!L57,V57,AK57)","v":30779},{"$f":"MAX('MDA1'!L57,'MDA4'!T57,'MDA3'!J57,'MDA3'!M57,Y57,AN57)","v":36666},67445,{"$f":"_xlfn.IFS(AND(AU57=0,AW57=0,AX57=0),0,AND(AU57=0,AW57=0,AX57>0),AI57,AND(AU57=0,AW57>0,AX57=0),T57,AND(AU57=0,AW57>0,AX57>0),MAX(T57,AI57),AND(AU57>0,AW57=0,AX57=0),MIN('MDA4'!R57,AZ57),AND(AU57>0,AW57=0,AX57>0),MIN(MAX('MDA4'!R57,AI57),AZ57),AND(AU57>0,AW57>0,AX57=0),MIN(MAX('MDA4'!R57,T57),AZ57),AND(AU57>0,AW57>0,AX57>0),MIN(MAX('MDA4'!R57,AI57,T57),AZ57))","v":0},{"$f":"_xlfn.IFS(AND(AU57=0,AV57=0,AW57=0,AX57=0),0,AND(AU57=0,AV57=0,AW57=0,AX57>0),AL57,AND(AU57=0,AV57=0,AW57>0,AX57=0),W57,AND(AU57=0,AV57=0,AW57>0,AX57>0),MAX(W57,AL57),AND(AU57=0,AV57>0,AW57=0,AX57=0),MIN(J57*PROFILE!$G$9,MAX('MDA3'!I57,'MDA3'!L57)),AND(AU57=0,AV57>0,AW57=0,AX57>0),MIN(J57*PROFILE!$G$9,MAX('MDA3'!I57,'MDA3'!L57,AL57)),AND(AU57=0,AV57>0,AW57>0,AX57=0),MIN(J57*PROFILE!$G$9,MAX('MDA3'!I57,'MDA3'!L57,W57)),AND(AU57=0,AV57>0,AW57>0,AX57>0),MIN(J57*PROFILE!$G$9,MAX('MDA3'!I57,'MDA3'!L57,W57,AL57)),AND(AU57>0,AV57=0,AW57=0,AX57=0), MIN(BA57,MAX('MDA1'!K57,'MDA4'!S57)),AND(AU57>0,AV57=0,AW57=0,AX57>0), MIN(BA57,MAX('MDA1'!K57,'MDA4'!S57,AL57)),AND(AU57>0,AV57=0,AW57>0,AX57=0),MIN(BA57,MAX('MDA1'!K57,'MDA4'!S57,W57)),AND(AU57>0,AV57=0,AW57>0,AX57>0),MIN(BA57,MAX('MDA1'!K57,'MDA4'!S57,W57,AL57)),AND(AU57>0,AV57>0,AW57=0,AX57=0),MIN(BA57, MAX('MDA1'!K57,'MDA4'!S57,MAX('MDA3'!I57,'MDA3'!L57))), AND(AU57>0,AV57>0,AW57=0,AX57>0),MIN(BA57, MAX('MDA1'!K57,'MDA4'!S57,MAX( 'MDA3'!I57,'MDA3'!L57),AL57)), AND(AU57>0,AV57>0,AW57>0,AX57=0), MIN(BA57, MAX('MDA1'!K57,'MDA4'!S57,MAX( 'MDA3'!I57,'MDA3'!L57),W57)), AND(AU57>0,AV57>0,AW57>0,AX57>0), MIN(BA57, MAX('MDA1'!K57,'MDA4'!S57,MAX( 'MDA3'!I57,'MDA3'!L57),W57,AL57)))","v":30779},{"$f":"_xlfn.IFS(AND(AU57=0,AV57=0,AW57=0,AX57=0),0,AND(AU57=0,AV57=0,AW57=0,AX57>0),AO57,AND(AU57=0,AV57=0,AW57>0,AX57=0),Z57,AND(AU57=0,AV57=0,AW57>0,AX57>0),MAX(Z57,AO57),AND(AU57=0,AV57>0,AW57=0,AX57=0),MIN(J57*PROFILE!$G$10,MAX('MDA3'!J57,'MDA3'!J57)),AND(AU57=0,AV57>0,AW57=0,AX57>0),MIN(J57*PROFILE!$G$10,MAX('MDA3'!J57,'MDA3'!M57,AO57)),AND(AU57=0,AV57>0,AW57>0,AX57=0),MIN(J57*PROFILE!$G$10,MAX('MDA3'!J57,'MDA3'!M57,Z57)),AND(AU57=0,AV57>0,AW57>0,AX57>0),MIN(J57*PROFILE!$G$10,MAX('MDA3'!J57,'MDA3'!M57,Z57,AO57)),AND(AU57>0,AV57=0,AW57=0,AX57=0), MIN(BB57,MAX('MDA1'!L57,'MDA4'!T57)),AND(AU57>0,AV57=0,AW57=0,AX57>0), MIN(BB57,MAX('MDA1'!L57,'MDA4'!T57,AO57)),AND(AU57>0,AV57=0,AW57>0,AX57=0),MIN(BB57,MAX('MDA1'!L57,'MDA4'!T57,Z57)),AND(AU57>0,AV57=0,AW57>0,AX57>0),MIN(BB57,MAX('MDA1'!L57,'MDA4'!T57,Z57,AO57)),AND(AU57>0,AV57>0,AW57=0,AX57=0),MIN(BB57, MAX('MDA1'!L57,'MDA4'!T57,MAX( 'MDA3'!J57,'MDA3'!M57))), AND(AU57>0,AV57>0,AW57=0,AX57>0),MIN(BB57, MAX('MDA1'!L57,'MDA4'!T57,MAX( 'MDA3'!J57,'MDA3'!M57),AO57)), AND(AU57>0,AV57>0,AW57>0,AX57=0), MIN(BB57, MAX('MDA1'!L57,'MDA4'!T57,MAX( 'MDA3'!J57,'MDA3'!M57),Z57)), AND(AU57>0,AV57>0,AW57>0,AX57>0), MIN(BB57, MAX('MDA1'!L57,'MDA4'!T57,MAX( 'MDA3'!J57,'MDA3'!M57),Z57,AO57)))","v":36666},67445,28.666198583236081]
[{"$f":"IF(COUNTRY_INFO!A58=0,\" \",COUNTRY_INFO!A58)","v":"South Sudan"},{"$f":"IF(COUNTRY_INFO!B58=0,\" \",COUNTRY_INFO!B58)","v":"Upper Nile"},{"$f":"IF(COUNTRY_INFO!C58=0,\" \",COUNTRY_INFO!C58)","v":"MANYO"},{"$f":"COUNTRY_INFO!M58","v":64166.414700000008},null,null,{"$f":"'MDA1'!M58+'MDA4'!U58","v":28034},{"$f":"IF(AND(COUNTRY_INFO!H58>0,COUNTRY_INFO!H58<4),IF(D58>G58,G58,D58),0)","v":28034},{"$f":"IF(AND(COUNTRY_INFO!H58>0,COUNTRY_INFO!H58<4), IF(G58/D58*100<>0, IF(G58/D58*100>100,100,G58/D58*100), \"-\"),0)","v":43.689522207323819},{"$f":"COUNTRY_INFO!N58","v":"Unknown"},null,null,{"$f":"MAX('MDA1'!M58,MAX('MDA3'!I58,'MDA3'!L58)+MAX('MDA3'!J58,'MDA3'!M58))","v":28034},{"$f":"IF(AND(COUNTRY_INFO!I58>0,COUNTRY_INFO!I58<4),IF(J58>M58,M58,J58),0)","v":0},{"$f":"IF(AND(COUNTRY_INFO!I58>0,COUNTRY_INFO!I58<4), IF(M58/J58*100<>0, IF(M58/J58*100>100,100,M58/J58*100), \"-\"),0)","v":0},{"$f":"COUNTRY_INFO!R58","v":0},null,null,{"$f":"MAX('MDA4'!R58,'T1'!K58, MAX(T3_R1!J58,T3_R2!J58,T3_R3!J58))","v":0},{"$f":"IF(AND(COUNTRY_INFO!J58>1,COUNTRY_INFO!J58<99,COUNTRY_INFO!J58<>4,COUNTRY_INFO!J58<>5),IF(COUNTRY_INFO!O58>S58,S58,COUNTRY_INFO!O58),0)","v":0},{"$f":"IF(AND(COUNTRY_INFO!J58>1,COUNTRY_INFO!J58<99,COUNTRY_INFO!J58<>4,COUNTRY_INFO!J58<>5), IF(T58/COUNTRY_INFO!O58*100<>0, IF(T58/COUNTRY_INFO!O58*100>100,100,T58/COUNTRY_INFO!O58*100), \"-\"),0)","v":0},{"$f":"MAX('MDA1'!K58,'MDA4'!S58, 'T1'!L58, MAX(T3_R1!K58,T3_R2!K58,T3_R3!K58))","v":13564},{"$f":"IF(AND(COUNTRY_INFO!J58>1,COUNTRY_INFO!J58<99,COUNTRY_INFO!J58<>4,COUNTRY_INFO!J58<>5),IF(COUNTRY_INFO!P58>V58,V58,COUNTRY_INFO!P58),0)","v":0},{"$f":"IF(AND(COUNTRY_INFO!J58>1,COUNTRY_INFO!J58<99,COUNTRY_INFO!J58<>4,COUNTRY_INFO!J58<>5), IF(W58/COUNTRY_INFO!P58*100<>0, IF(W58/COUNTRY_INFO!P58*100>100,100,W58/COUNTRY_INFO!P58*100), \"-\"),0)","v":0},{"$f":"MAX('MDA1'!L58,'MDA4'!T58, 'T1'!M58, MAX(T3_R1!L58,T3_R2!L58,T3_R3!L58))","v":14470},{"$f":"IF(AND(COUNTRY_INFO!J58>1,COUNTRY_INFO!J58<99,COUNTRY_INFO!J58<>4,COUNTRY_INFO!J58<>5),IF(COUNTRY_INFO!Q58>Y58,Y58,COUNTRY_INFO!Q58),0)","v":0},{"$f":"IF(AND(COUNTRY_INFO!J58>1,COUNTRY_INFO!J58<99,COUNTRY_INFO!J58<>4,COUNTRY_INFO!J58<>5), IF(Z58/COUNTRY_INFO!Q58*100<>0, IF(Z58/COUNTRY_INFO!Q58*100>100,100,Z58/COUNTRY_INFO!Q58*100), \"-\"),0)","v":0},28034,0,{"$f":"IF(AND(COUNTRY_INFO!J58>1,COUNTRY_INFO!J58<99,COUNTRY_INFO!J58<>4,COUNTRY_INFO!J58<>5), IF(AC58/P58*100<>0, IF(AC58/P58*100>100,100,AC58/P58*100), \"-\"),0)","v":0},{"$f":"COUNTRY_INFO!V58","v":0},null,null,{"$f":"MAX('T1'!K58,'T2'!R58)","v":0},{"$f":"IF(AND(COUNTRY_INFO!K58>1,COUNTRY_INFO!K58<99,COUNTRY_INFO!K58<>4,COUNTRY_INFO!K58<>5),IF(COUNTRY_INFO!S58>AH58,AH58,COUNTRY_INFO!S58),0)","v":0},{"$f":"IF(AND(COUNTRY_INFO!K58>1,COUNTRY_INFO!K58<99,COUNTRY_INFO!K58<>4,COUNTRY_INFO!K58<>5), IF(AI58/COUNTRY_INFO!S58*100<>0, IF(AI58/COUNTRY_INFO!S58*100>100,100,AI58/COUNTRY_INFO!S58*100), \"-\"),0)","v":0},{"$f":"MAX('T1'!L58,'T2'!S58)","v":0},{"$f":"IF(AND(COUNTRY_INFO!K58>1,COUNTRY_INFO!K58<99,COUNTRY_INFO!K58<>4,COUNTRY_INFO!K58<>5),IF(COUNTRY_INFO!T58>AK58,AK58,COUNTRY_INFO!T58),0)","v":0},{"$f":"IF(AND(COUNTRY_INFO!K58>1,COUNTRY_INFO!K58<99,COUNTRY_INFO!K58<>4,COUNTRY_INFO!K58<>5), IF(AL58/COUNTRY_INFO!T58*100<>0, IF(AL58/COUNTRY_INFO!T58*100>100,100,AL58/COUNTRY_INFO!T58*100), \"-\"),0)","v":0},{"$f":"MAX('T1'!M58,'T2'!T58)","v":0},{"$f":"IF(AND(COUNTRY_INFO!K58>1,COUNTRY_INFO!K58<99,COUNTRY_INFO!K58<>4,COUNTRY_INFO!K58<>5),IF(COUNTRY_INFO!U58>AN58,AN58,COUNTRY_INFO!U58),0)","v":0},{"$f":"IF(AND(COUNTRY_INFO!K58>1,COUNTRY_INFO!K58<99,COUNTRY_INFO!K58<>4,COUNTRY_INFO!K58<>5), IF(AO58/COUNTRY_INFO!U58*100<>0, IF(AO58/COUNTRY_INFO!U58*100>100,100,AO58/COUNTRY_INFO!U58*100), \"-\"),0)","v":0},0,0,{"$f":"IF(AND(COUNTRY_INFO!K58>1,COUNTRY_INFO!K58<99,COUNTRY_INFO!K58<>4,COUNTRY_INFO!K58<>5), IF(AH58/AE58*100<>0, IF(AR58/AE58*100>100,100,AR58/AE58*100), \"-\"),0)","v":0},null,{"$f":"IF(AND(D58<>0, D58<>\"Unknown\",D58<>\"Stopped\",D58<>\"Not required\"),D58/COUNTRY_INFO!D58, 0)","v":1},{"$f":"IF(AND(J58<>0,J58<>\"Unknown\",J58<>\"Stopped\",J58<>\"Not required\"),J58/COUNTRY_INFO!D58, 0)","v":0},{"$f":"IF(AND(P58<>0,P58<>\"Unknown\",P58<>\"Surveillance\",P58<>\"Not required\"),P58/COUNTRY_INFO!R58, 0)","v":0},{"$f":"IF(AND(AE58<>0,AE58<>\"Unknown\",AE58<>\"Surveillance\",AE58<>\"Not required\"),AE58/COUNTRY_INFO!V58, 0)","v":0},{"$f":"IF(AU58>0,D58*PROFILE!$G$7,IF(AV58>0,J58*PROFILE!$G$7,0))","v":1764.572054755354},{"$f":"_xlfn.IFS(OR(AU58>0,AW58>0),COUNTRY_INFO!E58, AV58>0,J58*PROFILE!$G$8,AX58>0,COUNTRY_INFO!S58,COUNTIFS(AU58:AX58,\">0\")=0,0)","v":7103},{"$f":"_xlfn.IFS(OR(AU58>0,AW58>0),COUNTRY_INFO!F58, AV58>0,J58*PROFILE!$G$9,AX58>0,COUNTRY_INFO!T58,COUNTIFS(AU58:AX58,\">0\")=0,0)","v":19821},{"$f":"_xlfn.IFS(AU58>0,COUNTRY_INFO!G58, AND(AV58>0,AW58=0,AX58=0),J58*PROFILE!$G$10,AND(AV58>0,AW58>0,AX58=0), MAX(J58*PROFILE!$G$10,COUNTRY_INFO!Q58),AND(AV58>0,AW58=0,AX58>0), MAX(J58*PROFILE!$G$10,COUNTRY_INFO!U58),AND(AV58=0,AW58>0,AX58>0), MAX(COUNTRY_INFO!Q58,COUNTRY_INFO!U58),AND(AV58=0,AW58>0,AX58=0),COUNTRY_INFO!Q58,AND(AV58=0,AW58=0,AX58>0),COUNTRY_INFO!U58,AND(AV58>0,AW58>0,AX58>0), MAX(J58*PROFILE!$G$10,COUNTRY_INFO!Q58,COUNTRY_INFO!U58),COUNTIFS(AU58:AX58,\">0\")=0,0)","v":35478},64166.57205475535,"Y",{"$f":"MAX('MDA4'!R58,S58,AH58)","v":0},{"$f":"MAX('MDA1'!K58,'MDA4'!S58,'MDA3'!I58,'MDA3'!L58,V58,AK58)","v":13564},{"$f":"MAX('MDA1'!L58,'MDA4'!T58,'MDA3'!J58,'MDA3'!M58,Y58,AN58)","v":14470},28034,{"$f":"_xlfn.IFS(AND(AU58=0,AW58=0,AX58=0),0,AND(AU58=0,AW58=0,AX58>0),AI58,AND(AU58=0,AW58>0,AX58=0),T58,AND(AU58=0,AW58>0,AX58>0),MAX(T58,AI58),AND(AU58>0,AW58=0,AX58=0),MIN('MDA4'!R58,AZ58),AND(AU58>0,AW58=0,AX58>0),MIN(MAX('MDA4'!R58,AI58),AZ58),AND(AU58>0,AW58>0,AX58=0),MIN(MAX('MDA4'!R58,T58),AZ58),AND(AU58>0,AW58>0,AX58>0),MIN(MAX('MDA4'!R58,AI58,T58),AZ58))","v":0},{"$f":"_xlfn.IFS(AND(AU58=0,AV58=0,AW58=0,AX58=0),0,AND(AU58=0,AV58=0,AW58=0,AX58>0),AL58,AND(AU58=0,AV58=0,AW58>0,AX58=0),W58,AND(AU58=0,AV58=0,AW58>0,AX58>0),MAX(W58,AL58),AND(AU58=0,AV58>0,AW58=0,AX58=0),MIN(J58*PROFILE!$G$9,MAX('MDA3'!I58,'MDA3'!L58)),AND(AU58=0,AV58>0,AW58=0,AX58>0),MIN(J58*PROFILE!$G$9,MAX('MDA3'!I58,'MDA3'!L58,AL58)),AND(AU58=0,AV58>0,AW58>0,AX58=0),MIN(J58*PROFILE!$G$9,MAX('MDA3'!I58,'MDA3'!L58,W58)),AND(AU58=0,AV58>0,AW58>0,AX58>0),MIN(J58*PROFILE!$G$9,MAX('MDA3'!I58,'MDA3'!L58,W58,AL58)),AND(AU58>0,AV58=0,AW58=0,AX58=0), MIN(BA58,MAX('MDA1'!K58,'MDA4'!S58)),AND(AU58>0,AV58=0,AW58=0,AX58>0), MIN(BA58,MAX('MDA1'!K58,'MDA4'!S58,AL58)),AND(AU58>0,AV58=0,AW58>0,AX58=0),MIN(BA58,MAX('MDA1'!K58,'MDA4'!S58,W58)),AND(AU58>0,AV58=0,AW58>0,AX58>0),MIN(BA58,MAX('MDA1'!K58,'MDA4'!S58,W58,AL58)),AND(AU58>0,AV58>0,AW58=0,AX58=0),MIN(BA58, MAX('MDA1'!K58,'MDA4'!S58,MAX('MDA3'!I58,'MDA3'!L58))), AND(AU58>0,AV58>0,AW58=0,AX58>0),MIN(BA58, MAX('MDA1'!K58,'MDA4'!S58,MAX( 'MDA3'!I58,'MDA3'!L58),AL58)), AND(AU58>0,AV58>0,AW58>0,AX58=0), MIN(BA58, MAX('MDA1'!K58,'MDA4'!S58,MAX( 'MDA3'!I58,'MDA3'!L58),W58)), AND(AU58>0,AV58>0,AW58>0,AX58>0), MIN(BA58, MAX('MDA1'!K58,'MDA4'!S58,MAX( 'MDA3'!I58,'MDA3'!L58),W58,AL58)))","v":13564},{"$f":"_xlfn.IFS(AND(AU58=0,AV58=0,AW58=0,AX58=0),0,AND(AU58=0,AV58=0,AW58=0,AX58>0),AO58,AND(AU58=0,AV58=0,AW58>0,AX58=0),Z58,AND(AU58=0,AV58=0,AW58>0,AX58>0),MAX(Z58,AO58),AND(AU58=0,AV58>0,AW58=0,AX58=0),MIN(J58*PROFILE!$G$10,MAX('MDA3'!J58,'MDA3'!J58)),AND(AU58=0,AV58>0,AW58=0,AX58>0),MIN(J58*PROFILE!$G$10,MAX('MDA3'!J58,'MDA3'!M58,AO58)),AND(AU58=0,AV58>0,AW58>0,AX58=0),MIN(J58*PROFILE!$G$10,MAX('MDA3'!J58,'MDA3'!M58,Z58)),AND(AU58=0,AV58>0,AW58>0,AX58>0),MIN(J58*PROFILE!$G$10,MAX('MDA3'!J58,'MDA3'!M58,Z58,AO58)),AND(AU58>0,AV58=0,AW58=0,AX58=0), MIN(BB58,MAX('MDA1'!L58,'MDA4'!T58)),AND(AU58>0,AV58=0,AW58=0,AX58>0), MIN(BB58,MAX('MDA1'!L58,'MDA4'!T58,AO58)),AND(AU58>0,AV58=0,AW58>0,AX58=0),MIN(BB58,MAX('MDA1'!L58,'MDA4'!T58,Z58)),AND(AU58>0,AV58=0,AW58>0,AX58>0),MIN(BB58,MAX('MDA1'!L58,'MDA4'!T58,Z58,AO58)),AND(AU58>0,AV58>0,AW58=0,AX58=0),MIN(BB58, MAX('MDA1'!L58,'MDA4'!T58,MAX( 'MDA3'!J58,'MDA3'!M58))), AND(AU58>0,AV58>0,AW58=0,AX58>0),MIN(BB58, MAX('MDA1'!L58,'MDA4'!T58,MAX( 'MDA3'!J58,'MDA3'!M58),AO58)), AND(AU58>0,AV58>0,AW58>0,AX58=0), MIN(BB58, MAX('MDA1'!L58,'MDA4'!T58,MAX( 'MDA3'!J58,'MDA3'!M58),Z58)), AND(AU58>0,AV58>0,AW58>0,AX58>0), MIN(BB58, MAX('MDA1'!L58,'MDA4'!T58,MAX( 'MDA3'!J58,'MDA3'!M58),Z58,AO58)))","v":14470},28034,43.689415068141258]
[{"$f":"IF(COUNTRY_INFO!A59=0,\" \",COUNTRY_INFO!A59)","v":"South Sudan"},{"$f":"IF(COUNTRY_INFO!B59=0,\" \",COUNTRY_INFO!B59)","v":"Upper Nile"},{"$f":"IF(COUNTRY_INFO!C59=0,\" \",COUNTRY_INFO!C59)","v":"FASHODA"},{"$f":"COUNTRY_INFO!M59","v":62520.9588},null,null,{"$f":"'MDA1'!M59+'MDA4'!U59","v":32319},{"$f":"IF(AND(COUNTRY_INFO!H59>0,COUNTRY_INFO!H59<4),IF(D59>G59,G59,D59),0)","v":32319},{"$f":"IF(AND(COUNTRY_INFO!H59>0,COUNTRY_INFO!H59<4), IF(G59/D59*100<>0, IF(G59/D59*100>100,100,G59/D59*100), \"-\"),0)","v":51.693065206159318},{"$f":"COUNTRY_INFO!N59","v":"Unknown"},null,null,{"$f":"MAX('MDA1'!M59,MAX('MDA3'!I59,'MDA3'!L59)+MAX('MDA3'!J59,'MDA3'!M59))","v":32319},{"$f":"IF(AND(COUNTRY_INFO!I59>0,COUNTRY_INFO!I59<4),IF(J59>M59,M59,J59),0)","v":0},{"$f":"IF(AND(COUNTRY_INFO!I59>0,COUNTRY_INFO!I59<4), IF(M59/J59*100<>0, IF(M59/J59*100>100,100,M59/J59*100), \"-\"),0)","v":0},{"$f":"COUNTRY_INFO!R59","v":0},null,null,{"$f":"MAX('MDA4'!R59,'T1'!K59, MAX(T3_R1!J59,T3_R2!J59,T3_R3!J59))","v":0},{"$f":"IF(AND(COUNTRY_INFO!J59>1,COUNTRY_INFO!J59<99,COUNTRY_INFO!J59<>4,COUNTRY_INFO!J59<>5),IF(COUNTRY_INFO!O59>S59,S59,COUNTRY_INFO!O59),0)","v":0},{"$f":"IF(AND(COUNTRY_INFO!J59>1,COUNTRY_INFO!J59<99,COUNTRY_INFO!J59<>4,COUNTRY_INFO!J59<>5), IF(T59/COUNTRY_INFO!O59*100<>0, IF(T59/COUNTRY_INFO!O59*100>100,100,T59/COUNTRY_INFO!O59*100), \"-\"),0)","v":0},{"$f":"MAX('MDA1'!K59,'MDA4'!S59, 'T1'!L59, MAX(T3_R1!K59,T3_R2!K59,T3_R3!K59))","v":15740},{"$f":"IF(AND(COUNTRY_INFO!J59>1,COUNTRY_INFO!J59<99,COUNTRY_INFO!J59<>4,COUNTRY_INFO!J59<>5),IF(COUNTRY_INFO!P59>V59,V59,COUNTRY_INFO!P59),0)","v":0},{"$f":"IF(AND(COUNTRY_INFO!J59>1,COUNTRY_INFO!J59<99,COUNTRY_INFO!J59<>4,COUNTRY_INFO!J59<>5), IF(W59/COUNTRY_INFO!P59*100<>0, IF(W59/COUNTRY_INFO!P59*100>100,100,W59/COUNTRY_INFO!P59*100), \"-\"),0)","v":0},{"$f":"MAX('MDA1'!L59,'MDA4'!T59, 'T1'!M59, MAX(T3_R1!L59,T3_R2!L59,T3_R3!L59))","v":16579},{"$f":"IF(AND(COUNTRY_INFO!J59>1,COUNTRY_INFO!J59<99,COUNTRY_INFO!J59<>4,COUNTRY_INFO!J59<>5),IF(COUNTRY_INFO!Q59>Y59,Y59,COUNTRY_INFO!Q59),0)","v":0},{"$f":"IF(AND(COUNTRY_INFO!J59>1,COUNTRY_INFO!J59<99,COUNTRY_INFO!J59<>4,COUNTRY_INFO!J59<>5), IF(Z59/COUNTRY_INFO!Q59*100<>0, IF(Z59/COUNTRY_INFO!Q59*100>100,100,Z59/COUNTRY_INFO!Q59*100), \"-\"),0)","v":0},32319,0,{"$f":"IF(AND(COUNTRY_INFO!J59>1,COUNTRY_INFO!J59<99,COUNTRY_INFO!J59<>4,COUNTRY_INFO!J59<>5), IF(AC59/P59*100<>0, IF(AC59/P59*100>100,100,AC59/P59*100), \"-\"),0)","v":0},{"$f":"COUNTRY_INFO!V59","v":0},null,null,{"$f":"MAX('T1'!K59,'T2'!R59)","v":0},{"$f":"IF(AND(COUNTRY_INFO!K59>1,COUNTRY_INFO!K59<99,COUNTRY_INFO!K59<>4,COUNTRY_INFO!K59<>5),IF(COUNTRY_INFO!S59>AH59,AH59,COUNTRY_INFO!S59),0)","v":0},{"$f":"IF(AND(COUNTRY_INFO!K59>1,COUNTRY_INFO!K59<99,COUNTRY_INFO!K59<>4,COUNTRY_INFO!K59<>5), IF(AI59/COUNTRY_INFO!S59*100<>0, IF(AI59/COUNTRY_INFO!S59*100>100,100,AI59/COUNTRY_INFO!S59*100), \"-\"),0)","v":0},{"$f":"MAX('T1'!L59,'T2'!S59)","v":0},{"$f":"IF(AND(COUNTRY_INFO!K59>1,COUNTRY_INFO!K59<99,COUNTRY_INFO!K59<>4,COUNTRY_INFO!K59<>5),IF(COUNTRY_INFO!T59>AK59,AK59,COUNTRY_INFO!T59),0)","v":0},{"$f":"IF(AND(COUNTRY_INFO!K59>1,COUNTRY_INFO!K59<99,COUNTRY_INFO!K59<>4,COUNTRY_INFO!K59<>5), IF(AL59/COUNTRY_INFO!T59*100<>0, IF(AL59/COUNTRY_INFO!T59*100>100,100,AL59/COUNTRY_INFO!T59*100), \"-\"),0)","v":0},{"$f":"MAX('T1'!M59,'T2'!T59)","v":0},{"$f":"IF(AND(COUNTRY_INFO!K59>1,COUNTRY_INFO!K59<99,COUNTRY_INFO!K59<>4,COUNTRY_INFO!K59<>5),IF(COUNTRY_INFO!U59>AN59,AN59,COUNTRY_INFO!U59),0)","v":0},{"$f":"IF(AND(COUNTRY_INFO!K59>1,COUNTRY_INFO!K59<99,COUNTRY_INFO!K59<>4,COUNTRY_INFO!K59<>5), IF(AO59/COUNTRY_INFO!U59*100<>0, IF(AO59/COUNTRY_INFO!U59*100>100,100,AO59/COUNTRY_INFO!U59*100), \"-\"),0)","v":0},0,0,{"$f":"IF(AND(COUNTRY_INFO!K59>1,COUNTRY_INFO!K59<99,COUNTRY_INFO!K59<>4,COUNTRY_INFO!K59<>5), IF(AH59/AE59*100<>0, IF(AR59/AE59*100>100,100,AR59/AE59*100), \"-\"),0)","v":0},null,{"$f":"IF(AND(D59<>0, D59<>\"Unknown\",D59<>\"Stopped\",D59<>\"Not required\"),D59/COUNTRY_INFO!D59, 0)","v":1},{"$f":"IF(AND(J59<>0,J59<>\"Unknown\",J59<>\"Stopped\",J59<>\"Not required\"),J59/COUNTRY_INFO!D59, 0)","v":0},{"$f":"IF(AND(P59<>0,P59<>\"Unknown\",P59<>\"Surveillance\",P59<>\"Not required\"),P59/COUNTRY_INFO!R59, 0)","v":0},{"$f":"IF(AND(AE59<>0,AE59<>\"Unknown\",AE59<>\"Surveillance\",AE59<>\"Not required\"),AE59/COUNTRY_INFO!V59, 0)","v":0},{"$f":"IF(AU59>0,D59*PROFILE!$G$7,IF(AV59>0,J59*PROFILE!$G$7,0))","v":1719.322129041921},{"$f":"_xlfn.IFS(OR(AU59>0,AW59>0),COUNTRY_INFO!E59, AV59>0,J59*PROFILE!$G$8,AX59>0,COUNTRY_INFO!S59,COUNTIFS(AU59:AX59,\">0\")=0,0)","v":6921},{"$f":"_xlfn.IFS(OR(AU59>0,AW59>0),COUNTRY_INFO!F59, AV59>0,J59*PROFILE!$G$9,AX59>0,COUNTRY_INFO!T59,COUNTIFS(AU59:AX59,\">0\")=0,0)","v":19313},{"$f":"_xlfn.IFS(AU59>0,COUNTRY_INFO!G59, AND(AV59>0,AW59=0,AX59=0),J59*PROFILE!$G$10,AND(AV59>0,AW59>0,AX59=0), MAX(J59*PROFILE!$G$10,COUNTRY_INFO!Q59),AND(AV59>0,AW59=0,AX59>0), MAX(J59*PROFILE!$G$10,COUNTRY_INFO!U59),AND(AV59=0,AW59>0,AX59>0), MAX(COUNTRY_INFO!Q59,COUNTRY_INFO!U59),AND(AV59=0,AW59>0,AX59=0),COUNTRY_INFO!Q59,AND(AV59=0,AW59=0,AX59>0),COUNTRY_INFO!U59,AND(AV59>0,AW59>0,AX59>0), MAX(J59*PROFILE!$G$10,COUNTRY_INFO!Q59,COUNTRY_INFO!U59),COUNTIFS(AU59:AX59,\">0\")=0,0)","v":34568},62521.322129041917,"Y",{"$f":"MAX('MDA4'!R59,S59,AH59)","v":0},{"$f":"MAX('MDA1'!K59,'MDA4'!S59,'MDA3'!I59,'MDA3'!L59,V59,AK59)","v":15740},{"$f":"MAX('MDA1'!L59,'MDA4'!T59,'MDA3'!J59,'MDA3'!M59,Y59,AN59)","v":16579},32319,{"$f":"_xlfn.IFS(AND(AU59=0,AW59=0,AX59=0),0,AND(AU59=0,AW59=0,AX59>0),AI59,AND(AU59=0,AW59>0,AX59=0),T59,AND(AU59=0,AW59>0,AX59>0),MAX(T59,AI59),AND(AU59>0,AW59=0,AX59=0),MIN('MDA4'!R59,AZ59),AND(AU59>0,AW59=0,AX59>0),MIN(MAX('MDA4'!R59,AI59),AZ59),AND(AU59>0,AW59>0,AX59=0),MIN(MAX('MDA4'!R59,T59),AZ59),AND(AU59>0,AW59>0,AX59>0),MIN(MAX('MDA4'!R59,AI59,T59),AZ59))","v":0},{"$f":"_xlfn.IFS(AND(AU59=0,AV59=0,AW59=0,AX59=0),0,AND(AU59=0,AV59=0,AW59=0,AX59>0),AL59,AND(AU59=0,AV59=0,AW59>0,AX59=0),W59,AND(AU59=0,AV59=0,AW59>0,AX59>0),MAX(W59,AL59),AND(AU59=0,AV59>0,AW59=0,AX59=0),MIN(J59*PROFILE!$G$9,MAX('MDA3'!I59,'MDA3'!L59)),AND(AU59=0,AV59>0,AW59=0,AX59>0),MIN(J59*PROFILE!$G$9,MAX('MDA3'!I59,'MDA3'!L59,AL59)),AND(AU59=0,AV59>0,AW59>0,AX59=0),MIN(J59*PROFILE!$G$9,MAX('MDA3'!I59,'MDA3'!L59,W59)),AND(AU59=0,AV59>0,AW59>0,AX59>0),MIN(J59*PROFILE!$G$9,MAX('MDA3'!I59,'MDA3'!L59,W59,AL59)),AND(AU59>0,AV59=0,AW59=0,AX59=0), MIN(BA59,MAX('MDA1'!K59,'MDA4'!S59)),AND(AU59>0,AV59=0,AW59=0,AX59>0), MIN(BA59,MAX('MDA1'!K59,'MDA4'!S59,AL59)),AND(AU59>0,AV59=0,AW59>0,AX59=0),MIN(BA59,MAX('MDA1'!K59,'MDA4'!S59,W59)),AND(AU59>0,AV59=0,AW59>0,AX59>0),MIN(BA59,MAX('MDA1'!K59,'MDA4'!S59,W59,AL59)),AND(AU59>0,AV59>0,AW59=0,AX59=0),MIN(BA59, MAX('MDA1'!K59,'MDA4'!S59,MAX('MDA3'!I59,'MDA3'!L59))), AND(AU59>0,AV59>0,AW59=0,AX59>0),MIN(BA59, MAX('MDA1'!K59,'MDA4'!S59,MAX( 'MDA3'!I59,'MDA3'!L59),AL59)), AND(AU59>0,AV59>0,AW59>0,AX59=0), MIN(BA59, MAX('MDA1'!K59,'MDA4'!S59,MAX( 'MDA3'!I59,'MDA3'!L59),W59)), AND(AU59>0,AV59>0,AW59>0,AX59>0), MIN(BA59, MAX('MDA1'!K59,'MDA4'!S59,MAX( 'MDA3'!I59,'MDA3'!L59),W59,AL59)))","v":15740},{"$f":"_xlfn.IFS(AND(AU59=0,AV59=0,AW59=0,AX59=0),0,AND(AU59=0,AV59=0,AW59=0,AX59>0),AO59,AND(AU59=0,AV59=0,AW59>0,AX59=0),Z59,AND(AU59=0,AV59=0,AW59>0,AX59>0),MAX(Z59,AO59),AND(AU59=0,AV59>0,AW59=0,AX59=0),MIN(J59*PROFILE!$G$10,MAX('MDA3'!J59,'MDA3'!J59)),AND(AU59=0,AV59>0,AW59=0,AX59>0),MIN(J59*PROFILE!$G$10,MAX('MDA3'!J59,'MDA3'!M59,AO59)),AND(AU59=0,AV59>0,AW59>0,AX59=0),MIN(J59*PROFILE!$G$10,MAX('MDA3'!J59,'MDA3'!M59,Z59)),AND(AU59=0,AV59>0,AW59>0,AX59>0),MIN(J59*PROFILE!$G$10,MAX('MDA3'!J59,'MDA3'!M59,Z59,AO59)),AND(AU59>0,AV59=0,AW59=0,AX59=0), MIN(BB59,MAX('MDA1'!L59,'MDA4'!T59)),AND(AU59>0,AV59=0,AW59=0,AX59>0), MIN(BB59,MAX('MDA1'!L59,'MDA4'!T59,AO59)),AND(AU59>0,AV59=0,AW59>0,AX59=0),MIN(BB59,MAX('MDA1'!L59,'MDA4'!T59,Z59)),AND(AU59>0,AV59=0,AW59>0,AX59>0),MIN(BB59,MAX('MDA1'!L59,'MDA4'!T59,Z59,AO59)),AND(AU59>0,AV59>0,AW59=0,AX59=0),MIN(BB59, MAX('MDA1'!L59,'MDA4'!T59,MAX( 'MDA3'!J59,'MDA3'!M59))), AND(AU59>0,AV59>0,AW59=0,AX59>0),MIN(BB59, MAX('MDA1'!L59,'MDA4'!T59,MAX( 'MDA3'!J59,'MDA3'!M59),AO59)), AND(AU59>0,AV59>0,AW59>0,AX59=0), MIN(BB59, MAX('MDA1'!L59,'MDA4'!T59,MAX( 'MDA3'!J59,'MDA3'!M59),Z59)), AND(AU59>0,AV59>0,AW59>0,AX59>0), MIN(BB59, MAX('MDA1'!L59,'MDA4'!T59,MAX( 'MDA3'!J59,'MDA3'!M59),Z59,AO59)))","v":16579},32319,51.692764803173333]
[{"$f":"IF(COUNTRY_INFO!A60=0,\" \",COUNTRY_INFO!A60)","v":"South Sudan"},{"$f":"IF(COUNTRY_INFO!B60=0,\" \",COUNTRY_INFO!B60)","v":"Upper Nile"},{"$f":"IF(COUNTRY_INFO!C60=0,\" \",COUNTRY_INFO!C60)","v":"MELUT"},{"$f":"COUNTRY_INFO!M60","v":83909.76370000001},null,null,{"$f":"'MDA1'!M60+'MDA4'!U60","v":19000},{"$f":"IF(AND(COUNTRY_INFO!H60>0,COUNTRY_INFO!H60<4),IF(D60>G60,G60,D60),0)","v":19000},{"$f":"IF(AND(COUNTRY_INFO!H60>0,COUNTRY_INFO!H60<4), IF(G60/D60*100<>0, IF(G60/D60*100>100,100,G60/D60*100), \"-\"),0)","v":22.643372072802055},{"$f":"COUNTRY_INFO!N60","v":"Unknown"},null,null,{"$f":"MAX('MDA1'!M60,MAX('MDA3'!I60,'MDA3'!L60)+MAX('MDA3'!J60,'MDA3'!M60))","v":19000},{"$f":"IF(AND(COUNTRY_INFO!I60>0,COUNTRY_INFO!I60<4),IF(J60>M60,M60,J60),0)","v":0},{"$f":"IF(AND(COUNTRY_INFO!I60>0,COUNTRY_INFO!I60<4), IF(M60/J60*100<>0, IF(M60/J60*100>100,100,M60/J60*100), \"-\"),0)","v":0},{"$f":"COUNTRY_INFO!R60","v":0},null,null,{"$f":"MAX('MDA4'!R60,'T1'!K60, MAX(T3_R1!J60,T3_R2!J60,T3_R3!J60))","v":0},{"$f":"IF(AND(COUNTRY_INFO!J60>1,COUNTRY_INFO!J60<99,COUNTRY_INFO!J60<>4,COUNTRY_INFO!J60<>5),IF(COUNTRY_INFO!O60>S60,S60,COUNTRY_INFO!O60),0)","v":0},{"$f":"IF(AND(COUNTRY_INFO!J60>1,COUNTRY_INFO!J60<99,COUNTRY_INFO!J60<>4,COUNTRY_INFO!J60<>5), IF(T60/COUNTRY_INFO!O60*100<>0, IF(T60/COUNTRY_INFO!O60*100>100,100,T60/COUNTRY_INFO!O60*100), \"-\"),0)","v":0},{"$f":"MAX('MDA1'!K60,'MDA4'!S60, 'T1'!L60, MAX(T3_R1!K60,T3_R2!K60,T3_R3!K60))","v":9565},{"$f":"IF(AND(COUNTRY_INFO!J60>1,COUNTRY_INFO!J60<99,COUNTRY_INFO!J60<>4,COUNTRY_INFO!J60<>5),IF(COUNTRY_INFO!P60>V60,V60,COUNTRY_INFO!P60),0)","v":0},{"$f":"IF(AND(COUNTRY_INFO!J60>1,COUNTRY_INFO!J60<99,COUNTRY_INFO!J60<>4,COUNTRY_INFO!J60<>5), IF(W60/COUNTRY_INFO!P60*100<>0, IF(W60/COUNTRY_INFO!P60*100>100,100,W60/COUNTRY_INFO!P60*100), \"-\"),0)","v":0},{"$f":"MAX('MDA1'!L60,'MDA4'!T60, 'T1'!M60, MAX(T3_R1!L60,T3_R2!L60,T3_R3!L60))","v":9435},{"$f":"IF(AND(COUNTRY_INFO!J60>1,COUNTRY_INFO!J60<99,COUNTRY_INFO!J60<>4,COUNTRY_INFO!J60<>5),IF(COUNTRY_INFO!Q60>Y60,Y60,COUNTRY_INFO!Q60),0)","v":0},{"$f":"IF(AND(COUNTRY_INFO!J60>1,COUNTRY_INFO!J60<99,COUNTRY_INFO!J60<>4,COUNTRY_INFO!J60<>5), IF(Z60/COUNTRY_INFO!Q60*100<>0, IF(Z60/COUNTRY_INFO!Q60*100>100,100,Z60/COUNTRY_INFO!Q60*100), \"-\"),0)","v":0},19000,0,{"$f":"IF(AND(COUNTRY_INFO!J60>1,COUNTRY_INFO!J60<99,COUNTRY_INFO!J60<>4,COUNTRY_INFO!J60<>5), IF(AC60/P60*100<>0, IF(AC60/P60*100>100,100,AC60/P60*100), \"-\"),0)","v":0},{"$f":"COUNTRY_INFO!V60","v":0},null,null,{"$f":"MAX('T1'!K60,'T2'!R60)","v":0},{"$f":"IF(AND(COUNTRY_INFO!K60>1,COUNTRY_INFO!K60<99,COUNTRY_INFO!K60<>4,COUNTRY_INFO!K60<>5),IF(COUNTRY_INFO!S60>AH60,AH60,COUNTRY_INFO!S60),0)","v":0},{"$f":"IF(AND(COUNTRY_INFO!K60>1,COUNTRY_INFO!K60<99,COUNTRY_INFO!K60<>4,COUNTRY_INFO!K60<>5), IF(AI60/COUNTRY_INFO!S60*100<>0, IF(AI60/COUNTRY_INFO!S60*100>100,100,AI60/COUNTRY_INFO!S60*100), \"-\"),0)","v":0},{"$f":"MAX('T1'!L60,'T2'!S60)","v":0},{"$f":"IF(AND(COUNTRY_INFO!K60>1,COUNTRY_INFO!K60<99,COUNTRY_INFO!K60<>4,COUNTRY_INFO!K60<>5),IF(COUNTRY_INFO!T60>AK60,AK60,COUNTRY_INFO!T60),0)","v":0},{"$f":"IF(AND(COUNTRY_INFO!K60>1,COUNTRY_INFO!K60<99,COUNTRY_INFO!K60<>4,COUNTRY_INFO!K60<>5), IF(AL60/COUNTRY_INFO!T60*100<>0, IF(AL60/COUNTRY_INFO!T60*100>100,100,AL60/COUNTRY_INFO!T60*100), \"-\"),0)","v":0},{"$f":"MAX('T1'!M60,'T2'!T60)","v":0},{"$f":"IF(AND(COUNTRY_INFO!K60>1,COUNTRY_INFO!K60<99,COUNTRY_INFO!K60<>4,COUNTRY_INFO!K60<>5),IF(COUNTRY_INFO!U60>AN60,AN60,COUNTRY_INFO!U60),0)","v":0},{"$f":"IF(AND(COUNTRY_INFO!K60>1,COUNTRY_INFO!K60<99,COUNTRY_INFO!K60<>4,COUNTRY_INFO!K60<>5), IF(AO60/COUNTRY_INFO!U60*100<>0, IF(AO60/COUNTRY_INFO!U60*100>100,100,AO60/COUNTRY_INFO!U60*100), \"-\"),0)","v":0},0,0,{"$f":"IF(AND(COUNTRY_INFO!K60>1,COUNTRY_INFO!K60<99,COUNTRY_INFO!K60<>4,COUNTRY_INFO!K60<>5), IF(AH60/AE60*100<>0, IF(AR60/AE60*100>100,100,AR60/AE60*100), \"-\"),0)","v":0},null,{"$f":"IF(AND(D60<>0, D60<>\"Unknown\",D60<>\"Stopped\",D60<>\"Not required\"),D60/COUNTRY_INFO!D60, 0)","v":1},{"$f":"IF(AND(J60<>0,J60<>\"Unknown\",J60<>\"Stopped\",J60<>\"Not required\"),J60/COUNTRY_INFO!D60, 0)","v":0},{"$f":"IF(AND(P60<>0,P60<>\"Unknown\",P60<>\"Surveillance\",P60<>\"Not required\"),P60/COUNTRY_INFO!R60, 0)","v":0},{"$f":"IF(AND(AE60<>0,AE60<>\"Unknown\",AE60<>\"Surveillance\",AE60<>\"Not required\"),AE60/COUNTRY_INFO!V60, 0)","v":0},{"$f":"IF(AU60>0,D60*PROFILE!$G$7,IF(AV60>0,J60*PROFILE!$G$7,0))","v":2307.5128139603726},{"$f":"_xlfn.IFS(OR(AU60>0,AW60>0),COUNTRY_INFO!E60, AV60>0,J60*PROFILE!$G$8,AX60>0,COUNTRY_INFO!S60,COUNTIFS(AU60:AX60,\">0\")=0,0)","v":9289},{"$f":"_xlfn.IFS(OR(AU60>0,AW60>0),COUNTRY_INFO!F60, AV60>0,J60*PROFILE!$G$9,AX60>0,COUNTRY_INFO!T60,COUNTIFS(AU60:AX60,\">0\")=0,0)","v":25920},{"$f":"_xlfn.IFS(AU60>0,COUNTRY_INFO!G60, AND(AV60>0,AW60=0,AX60=0),J60*PROFILE!$G$10,AND(AV60>0,AW60>0,AX60=0), MAX(J60*PROFILE!$G$10,COUNTRY_INFO!Q60),AND(AV60>0,AW60=0,AX60>0), MAX(J60*PROFILE!$G$10,COUNTRY_INFO!U60),AND(AV60=0,AW60>0,AX60>0), MAX(COUNTRY_INFO!Q60,COUNTRY_INFO!U60),AND(AV60=0,AW60>0,AX60=0),COUNTRY_INFO!Q60,AND(AV60=0,AW60=0,AX60>0),COUNTRY_INFO!U60,AND(AV60>0,AW60>0,AX60>0), MAX(J60*PROFILE!$G$10,COUNTRY_INFO!Q60,COUNTRY_INFO!U60),COUNTIFS(AU60:AX60,\">0\")=0,0)","v":46394},83910.512813960377,"Y",{"$f":"MAX('MDA4'!R60,S60,AH60)","v":0},{"$f":"MAX('MDA1'!K60,'MDA4'!S60,'MDA3'!I60,'MDA3'!L60,V60,AK60)","v":9565},{"$f":"MAX('MDA1'!L60,'MDA4'!T60,'MDA3'!J60,'MDA3'!M60,Y60,AN60)","v":9435},19000,{"$f":"_xlfn.IFS(AND(AU60=0,AW60=0,AX60=0),0,AND(AU60=0,AW60=0,AX60>0),AI60,AND(AU60=0,AW60>0,AX60=0),T60,AND(AU60=0,AW60>0,AX60>0),MAX(T60,AI60),AND(AU60>0,AW60=0,AX60=0),MIN('MDA4'!R60,AZ60),AND(AU60>0,AW60=0,AX60>0),MIN(MAX('MDA4'!R60,AI60),AZ60),AND(AU60>0,AW60>0,AX60=0),MIN(MAX('MDA4'!R60,T60),AZ60),AND(AU60>0,AW60>0,AX60>0),MIN(MAX('MDA4'!R60,AI60,T60),AZ60))","v":0},{"$f":"_xlfn.IFS(AND(AU60=0,AV60=0,AW60=0,AX60=0),0,AND(AU60=0,AV60=0,AW60=0,AX60>0),AL60,AND(AU60=0,AV60=0,AW60>0,AX60=0),W60,AND(AU60=0,AV60=0,AW60>0,AX60>0),MAX(W60,AL60),AND(AU60=0,AV60>0,AW60=0,AX60=0),MIN(J60*PROFILE!$G$9,MAX('MDA3'!I60,'MDA3'!L60)),AND(AU60=0,AV60>0,AW60=0,AX60>0),MIN(J60*PROFILE!$G$9,MAX('MDA3'!I60,'MDA3'!L60,AL60)),AND(AU60=0,AV60>0,AW60>0,AX60=0),MIN(J60*PROFILE!$G$9,MAX('MDA3'!I60,'MDA3'!L60,W60)),AND(AU60=0,AV60>0,AW60>0,AX60>0),MIN(J60*PROFILE!$G$9,MAX('MDA3'!I60,'MDA3'!L60,W60,AL60)),AND(AU60>0,AV60=0,AW60=0,AX60=0), MIN(BA60,MAX('MDA1'!K60,'MDA4'!S60)),AND(AU60>0,AV60=0,AW60=0,AX60>0), MIN(BA60,MAX('MDA1'!K60,'MDA4'!S60,AL60)),AND(AU60>0,AV60=0,AW60>0,AX60=0),MIN(BA60,MAX('MDA1'!K60,'MDA4'!S60,W60)),AND(AU60>0,AV60=0,AW60>0,AX60>0),MIN(BA60,MAX('MDA1'!K60,'MDA4'!S60,W60,AL60)),AND(AU60>0,AV60>0,AW60=0,AX60=0),MIN(BA60, MAX('MDA1'!K60,'MDA4'!S60,MAX('MDA3'!I60,'MDA3'!L60))), AND(AU60>0,AV60>0,AW60=0,AX60>0),MIN(BA60, MAX('MDA1'!K60,'MDA4'!S60,MAX( 'MDA3'!I60,'MDA3'!L60),AL60)), AND(AU60>0,AV60>0,AW60>0,AX60=0), MIN(BA60, MAX('MDA1'!K60,'MDA4'!S60,MAX( 'MDA3'!I60,'MDA3'!L60),W60)), AND(AU60>0,AV60>0,AW60>0,AX60>0), MIN(BA60, MAX('MDA1'!K60,'MDA4'!S60,MAX( 'MDA3'!I60,'MDA3'!L60),W60,AL60)))","v":9565},{"$f":"_xlfn.IFS(AND(AU60=0,AV60=0,AW60=0,AX60=0),0,AND(AU60=0,AV60=0,AW60=0,AX60>0),AO60,AND(AU60=0,AV60=0,AW60>0,AX60=0),Z60,AND(AU60=0,AV60=0,AW60>0,AX60>0),MAX(Z60,AO60),AND(AU60=0,AV60>0,AW60=0,AX60=0),MIN(J60*PROFILE!$G$10,MAX('MDA3'!J60,'MDA3'!J60)),AND(AU60=0,AV60>0,AW60=0,AX60>0),MIN(J60*PROFILE!$G$10,MAX('MDA3'!J60,'MDA3'!M60,AO60)),AND(AU60=0,AV60>0,AW60>0,AX60=0),MIN(J60*PROFILE!$G$10,MAX('MDA3'!J60,'MDA3'!M60,Z60)),AND(AU60=0,AV60>0,AW60>0,AX60>0),MIN(J60*PROFILE!$G$10,MAX('MDA3'!J60,'MDA3'!M60,Z60,AO60)),AND(AU60>0,AV60=0,AW60=0,AX60=0), MIN(BB60,MAX('MDA1'!L60,'MDA4'!T60)),AND(AU60>0,AV60=0,AW60=0,AX60>0), MIN(BB60,MAX('MDA1'!L60,'MDA4'!T60,AO60)),AND(AU60>0,AV60=0,AW60>0,AX60=0),MIN(BB60,MAX('MDA1'!L60,'MDA4'!T60,Z60)),AND(AU60>0,AV60=0,AW60>0,AX60>0),MIN(BB60,MAX('MDA1'!L60,'MDA4'!T60,Z60,AO60)),AND(AU60>0,AV60>0,AW60=0,AX60=0),MIN(BB60, MAX('MDA1'!L60,'MDA4'!T60,MAX( 'MDA3'!J60,'MDA3'!M60))), AND(AU60>0,AV60>0,AW60=0,AX60>0),MIN(BB60, MAX('MDA1'!L60,'MDA4'!T60,MAX( 'MDA3'!J60,'MDA3'!M60),AO60)), AND(AU60>0,AV60>0,AW60>0,AX60=0), MIN(BB60, MAX('MDA1'!L60,'MDA4'!T60,MAX( 'MDA3'!J60,'MDA3'!M60),Z60)), AND(AU60>0,AV60>0,AW60>0,AX60>0), MIN(BB60, MAX('MDA1'!L60,'MDA4'!T60,MAX( 'MDA3'!J60,'MDA3'!M60),Z60,AO60)))","v":9435},19000,22.643169923326852]
[{"$f":"IF(COUNTRY_INFO!A61=0,\" \",COUNTRY_INFO!A61)","v":"South Sudan"},{"$f":"IF(COUNTRY_INFO!B61=0,\" \",COUNTRY_INFO!B61)","v":"Upper Nile"},{"$f":"IF(COUNTRY_INFO!C61=0,\" \",COUNTRY_INFO!C61)","v":"MABAN"},{"$f":"COUNTRY_INFO!M61","v":77329.001000000004},null,null,{"$f":"'MDA1'!M61+'MDA4'!U61","v":61012},{"$f":"IF(AND(COUNTRY_INFO!H61>0,COUNTRY_INFO!H61<4),IF(D61>G61,G61,D61),0)","v":61012},{"$f":"IF(AND(COUNTRY_INFO!H61>0,COUNTRY_INFO!H61<4), IF(G61/D61*100<>0, IF(G61/D61*100>100,100,G61/D61*100), \"-\"),0)","v":78.899247644489805},{"$f":"COUNTRY_INFO!N61","v":77329.001000000004},null,null,{"$f":"MAX('MDA1'!M61,MAX('MDA3'!I61,'MDA3'!L61)+MAX('MDA3'!J61,'MDA3'!M61))","v":61012},{"$f":"IF(AND(COUNTRY_INFO!I61>0,COUNTRY_INFO!I61<4),IF(J61>M61,M61,J61),0)","v":61012},{"$f":"IF(AND(COUNTRY_INFO!I61>0,COUNTRY_INFO!I61<4), IF(M61/J61*100<>0, IF(M61/J61*100>100,100,M61/J61*100), \"-\"),0)","v":78.899247644489805},{"$f":"COUNTRY_INFO!R61","v":0},null,null,{"$f":"MAX('MDA4'!R61,'T1'!K61, MAX(T3_R1!J61,T3_R2!J61,T3_R3!J61))","v":0},{"$f":"IF(AND(COUNTRY_INFO!J61>1,COUNTRY_INFO!J61<99,COUNTRY_INFO!J61<>4,COUNTRY_INFO!J61<>5),IF(COUNTRY_INFO!O61>S61,S61,COUNTRY_INFO!O61),0)","v":0},{"$f":"IF(AND(COUNTRY_INFO!J61>1,COUNTRY_INFO!J61<99,COUNTRY_INFO!J61<>4,COUNTRY_INFO!J61<>5), IF(T61/COUNTRY_INFO!O61*100<>0, IF(T61/COUNTRY_INFO!O61*100>100,100,T61/COUNTRY_INFO!O61*100), \"-\"),0)","v":0},{"$f":"MAX('MDA1'!K61,'MDA4'!S61, 'T1'!L61, MAX(T3_R1!K61,T3_R2!K61,T3_R3!K61))","v":30551},{"$f":"IF(AND(COUNTRY_INFO!J61>1,COUNTRY_INFO!J61<99,COUNTRY_INFO!J61<>4,COUNTRY_INFO!J61<>5),IF(COUNTRY_INFO!P61>V61,V61,COUNTRY_INFO!P61),0)","v":0},{"$f":"IF(AND(COUNTRY_INFO!J61>1,COUNTRY_INFO!J61<99,COUNTRY_INFO!J61<>4,COUNTRY_INFO!J61<>5), IF(W61/COUNTRY_INFO!P61*100<>0, IF(W61/COUNTRY_INFO!P61*100>100,100,W61/COUNTRY_INFO!P61*100), \"-\"),0)","v":0},{"$f":"MAX('MDA1'!L61,'MDA4'!T61, 'T1'!M61, MAX(T3_R1!L61,T3_R2!L61,T3_R3!L61))","v":30461},{"$f":"IF(AND(COUNTRY_INFO!J61>1,COUNTRY_INFO!J61<99,COUNTRY_INFO!J61<>4,COUNTRY_INFO!J61<>5),IF(COUNTRY_INFO!Q61>Y61,Y61,COUNTRY_INFO!Q61),0)","v":0},{"$f":"IF(AND(COUNTRY_INFO!J61>1,COUNTRY_INFO!J61<99,COUNTRY_INFO!J61<>4,COUNTRY_INFO!J61<>5), IF(Z61/COUNTRY_INFO!Q61*100<>0, IF(Z61/COUNTRY_INFO!Q61*100>100,100,Z61/COUNTRY_INFO!Q61*100), \"-\"),0)","v":0},61012,0,{"$f":"IF(AND(COUNTRY_INFO!J61>1,COUNTRY_INFO!J61<99,COUNTRY_INFO!J61<>4,COUNTRY_INFO!J61<>5), IF(AC61/P61*100<>0, IF(AC61/P61*100>100,100,AC61/P61*100), \"-\"),0)","v":0},{"$f":"COUNTRY_INFO!V61","v":0},null,null,{"$f":"MAX('T1'!K61,'T2'!R61)","v":0},{"$f":"IF(AND(COUNTRY_INFO!K61>1,COUNTRY_INFO!K61<99,COUNTRY_INFO!K61<>4,COUNTRY_INFO!K61<>5),IF(COUNTRY_INFO!S61>AH61,AH61,COUNTRY_INFO!S61),0)","v":0},{"$f":"IF(AND(COUNTRY_INFO!K61>1,COUNTRY_INFO!K61<99,COUNTRY_INFO!K61<>4,COUNTRY_INFO!K61<>5), IF(AI61/COUNTRY_INFO!S61*100<>0, IF(AI61/COUNTRY_INFO!S61*100>100,100,AI61/COUNTRY_INFO!S61*100), \"-\"),0)","v":0},{"$f":"MAX('T1'!L61,'T2'!S61)","v":0},{"$f":"IF(AND(COUNTRY_INFO!K61>1,COUNTRY_INFO!K61<99,COUNTRY_INFO!K61<>4,COUNTRY_INFO!K61<>5),IF(COUNTRY_INFO!T61>AK61,AK61,COUNTRY_INFO!T61),0)","v":0},{"$f":"IF(AND(COUNTRY_INFO!K61>1,COUNTRY_INFO!K61<99,COUNTRY_INFO!K61<>4,COUNTRY_INFO!K61<>5), IF(AL61/COUNTRY_INFO!T61*100<>0, IF(AL61/COUNTRY_INFO!T61*100>100,100,AL61/COUNTRY_INFO!T61*100), \"-\"),0)","v":0},{"$f":"MAX('T1'!M61,'T2'!T61)","v":0},{"$f":"IF(AND(COUNTRY_INFO!K61>1,COUNTRY_INFO!K61<99,COUNTRY_INFO!K61<>4,COUNTRY_INFO!K61<>5),IF(COUNTRY_INFO!U61>AN61,AN61,COUNTRY_INFO!U61),0)","v":0},{"$f":"IF(AND(COUNTRY_INFO!K61>1,COUNTRY_INFO!K61<99,COUNTRY_INFO!K61<>4,COUNTRY_INFO!K61<>5), IF(AO61/COUNTRY_INFO!U61*100<>0, IF(AO61/COUNTRY_INFO!U61*100>100,100,AO61/COUNTRY_INFO!U61*100), \"-\"),0)","v":0},0,0,{"$f":"IF(AND(COUNTRY_INFO!K61>1,COUNTRY_INFO!K61<99,COUNTRY_INFO!K61<>4,COUNTRY_INFO!K61<>5), IF(AH61/AE61*100<>0, IF(AR61/AE61*100>100,100,AR61/AE61*100), \"-\"),0)","v":0},null,{"$f":"IF(AND(D61<>0, D61<>\"Unknown\",D61<>\"Stopped\",D61<>\"Not required\"),D61/COUNTRY_INFO!D61, 0)","v":1},{"$f":"IF(AND(J61<>0,J61<>\"Unknown\",J61<>\"Stopped\",J61<>\"Not required\"),J61/COUNTRY_INFO!D61, 0)","v":1},{"$f":"IF(AND(P61<>0,P61<>\"Unknown\",P61<>\"Surveillance\",P61<>\"Not required\"),P61/COUNTRY_INFO!R61, 0)","v":0},{"$f":"IF(AND(AE61<>0,AE61<>\"Unknown\",AE61<>\"Surveillance\",AE61<>\"Not required\"),AE61/COUNTRY_INFO!V61, 0)","v":0},{"$f":"IF(AU61>0,D61*PROFILE!$G$7,IF(AV61>0,J61*PROFILE!$G$7,0))","v":2126.5422857847284},{"$f":"_xlfn.IFS(OR(AU61>0,AW61>0),COUNTRY_INFO!E61, AV61>0,J61*PROFILE!$G$8,AX61>0,COUNTRY_INFO!S61,COUNTIFS(AU61:AX61,\">0\")=0,0)","v":8560},{"$f":"_xlfn.IFS(OR(AU61>0,AW61>0),COUNTRY_INFO!F61, AV61>0,J61*PROFILE!$G$9,AX61>0,COUNTRY_INFO!T61,COUNTIFS(AU61:AX61,\">0\")=0,0)","v":23887},{"$f":"_xlfn.IFS(AU61>0,COUNTRY_INFO!G61, AND(AV61>0,AW61=0,AX61=0),J61*PROFILE!$G$10,AND(AV61>0,AW61>0,AX61=0), MAX(J61*PROFILE!$G$10,COUNTRY_INFO!Q61),AND(AV61>0,AW61=0,AX61>0), MAX(J61*PROFILE!$G$10,COUNTRY_INFO!U61),AND(AV61=0,AW61>0,AX61>0), MAX(COUNTRY_INFO!Q61,COUNTRY_INFO!U61),AND(AV61=0,AW61>0,AX61=0),COUNTRY_INFO!Q61,AND(AV61=0,AW61=0,AX61>0),COUNTRY_INFO!U61,AND(AV61>0,AW61>0,AX61>0), MAX(J61*PROFILE!$G$10,COUNTRY_INFO!Q61,COUNTRY_INFO!U61),COUNTIFS(AU61:AX61,\">0\")=0,0)","v":42755},77328.54228578473,"Y",{"$f":"MAX('MDA4'!R61,S61,AH61)","v":0},{"$f":"MAX('MDA1'!K61,'MDA4'!S61,'MDA3'!I61,'MDA3'!L61,V61,AK61)","v":30551},{"$f":"MAX('MDA1'!L61,'MDA4'!T61,'MDA3'!J61,'MDA3'!M61,Y61,AN61)","v":30461},61012,{"$f":"_xlfn.IFS(AND(AU61=0,AW61=0,AX61=0),0,AND(AU61=0,AW61=0,AX61>0),AI61,AND(AU61=0,AW61>0,AX61=0),T61,AND(AU61=0,AW61>0,AX61>0),MAX(T61,AI61),AND(AU61>0,AW61=0,AX61=0),MIN('MDA4'!R61,AZ61),AND(AU61>0,AW61=0,AX61>0),MIN(MAX('MDA4'!R61,AI61),AZ61),AND(AU61>0,AW61>0,AX61=0),MIN(MAX('MDA4'!R61,T61),AZ61),AND(AU61>0,AW61>0,AX61>0),MIN(MAX('MDA4'!R61,AI61,T61),AZ61))","v":0},{"$f":"_xlfn.IFS(AND(AU61=0,AV61=0,AW61=0,AX61=0),0,AND(AU61=0,AV61=0,AW61=0,AX61>0),AL61,AND(AU61=0,AV61=0,AW61>0,AX61=0),W61,AND(AU61=0,AV61=0,AW61>0,AX61>0),MAX(W61,AL61),AND(AU61=0,AV61>0,AW61=0,AX61=0),MIN(J61*PROFILE!$G$9,MAX('MDA3'!I61,'MDA3'!L61)),AND(AU61=0,AV61>0,AW61=0,AX61>0),MIN(J61*PROFILE!$G$9,MAX('MDA3'!I61,'MDA3'!L61,AL61)),AND(AU61=0,AV61>0,AW61>0,AX61=0),MIN(J61*PROFILE!$G$9,MAX('MDA3'!I61,'MDA3'!L61,W61)),AND(AU61=0,AV61>0,AW61>0,AX61>0),MIN(J61*PROFILE!$G$9,MAX('MDA3'!I61,'MDA3'!L61,W61,AL61)),AND(AU61>0,AV61=0,AW61=0,AX61=0), MIN(BA61,MAX('MDA1'!K61,'MDA4'!S61)),AND(AU61>0,AV61=0,AW61=0,AX61>0), MIN(BA61,MAX('MDA1'!K61,'MDA4'!S61,AL61)),AND(AU61>0,AV61=0,AW61>0,AX61=0),MIN(BA61,MAX('MDA1'!K61,'MDA4'!S61,W61)),AND(AU61>0,AV61=0,AW61>0,AX61>0),MIN(BA61,MAX('MDA1'!K61,'MDA4'!S61,W61,AL61)),AND(AU61>0,AV61>0,AW61=0,AX61=0),MIN(BA61, MAX('MDA1'!K61,'MDA4'!S61,MAX('MDA3'!I61,'MDA3'!L61))), AND(AU61>0,AV61>0,AW61=0,AX61>0),MIN(BA61, MAX('MDA1'!K61,'MDA4'!S61,MAX( 'MDA3'!I61,'MDA3'!L61),AL61)), AND(AU61>0,AV61>0,AW61>0,AX61=0), MIN(BA61, MAX('MDA1'!K61,'MDA4'!S61,MAX( 'MDA3'!I61,'MDA3'!L61),W61)), AND(AU61>0,AV61>0,AW61>0,AX61>0), MIN(BA61, MAX('MDA1'!K61,'MDA4'!S61,MAX( 'MDA3'!I61,'MDA3'!L61),W61,AL61)))","v":23887},{"$f":"_xlfn.IFS(AND(AU61=0,AV61=0,AW61=0,AX61=0),0,AND(AU61=0,AV61=0,AW61=0,AX61>0),AO61,AND(AU61=0,AV61=0,AW61>0,AX61=0),Z61,AND(AU61=0,AV61=0,AW61>0,AX61>0),MAX(Z61,AO61),AND(AU61=0,AV61>0,AW61=0,AX61=0),MIN(J61*PROFILE!$G$10,MAX('MDA3'!J61,'MDA3'!J61)),AND(AU61=0,AV61>0,AW61=0,AX61>0),MIN(J61*PROFILE!$G$10,MAX('MDA3'!J61,'MDA3'!M61,AO61)),AND(AU61=0,AV61>0,AW61>0,AX61=0),MIN(J61*PROFILE!$G$10,MAX('MDA3'!J61,'MDA3'!M61,Z61)),AND(AU61=0,AV61>0,AW61>0,AX61>0),MIN(J61*PROFILE!$G$10,MAX('MDA3'!J61,'MDA3'!M61,Z61,AO61)),AND(AU61>0,AV61=0,AW61=0,AX61=0), MIN(BB61,MAX('MDA1'!L61,'MDA4'!T61)),AND(AU61>0,AV61=0,AW61=0,AX61>0), MIN(BB61,MAX('MDA1'!L61,'MDA4'!T61,AO61)),AND(AU61>0,AV61=0,AW61>0,AX61=0),MIN(BB61,MAX('MDA1'!L61,'MDA4'!T61,Z61)),AND(AU61>0,AV61=0,AW61>0,AX61>0),MIN(BB61,MAX('MDA1'!L61,'MDA4'!T61,Z61,AO61)),AND(AU61>0,AV61>0,AW61=0,AX61=0),MIN(BB61, MAX('MDA1'!L61,'MDA4'!T61,MAX( 'MDA3'!J61,'MDA3'!M61))), AND(AU61>0,AV61>0,AW61=0,AX61>0),MIN(BB61, MAX('MDA1'!L61,'MDA4'!T61,MAX( 'MDA3'!J61,'MDA3'!M61),AO61)), AND(AU61>0,AV61>0,AW61>0,AX61=0), MIN(BB61, MAX('MDA1'!L61,'MDA4'!T61,MAX( 'MDA3'!J61,'MDA3'!M61),Z61)), AND(AU61>0,AV61>0,AW61>0,AX61>0), MIN(BB61, MAX('MDA1'!L61,'MDA4'!T61,MAX( 'MDA3'!J61,'MDA3'!M61),Z61,AO61)))","v":30461},54348,70.281940398080891]
[{"$f":"IF(COUNTRY_INFO!A62=0,\" \",COUNTRY_INFO!A62)","v":"South Sudan"},{"$f":"IF(COUNTRY_INFO!B62=0,\" \",COUNTRY_INFO!B62)","v":"Upper Nile"},{"$f":"IF(COUNTRY_INFO!C62=0,\" \",COUNTRY_INFO!C62)","v":"MAIWUT"},{"$f":"COUNTRY_INFO!M62","v":0},null,null,{"$f":"'MDA1'!M62+'MDA4'!U62","v":0},{"$f":"IF(AND(COUNTRY_INFO!H62>0,COUNTRY_INFO!H62<4),IF(D62>G62,G62,D62),0)","v":0},{"$f":"IF(AND(COUNTRY_INFO!H62>0,COUNTRY_INFO!H62<4), IF(G62/D62*100<>0, IF(G62/D62*100>100,100,G62/D62*100), \"-\"),0)","v":0},{"$f":"COUNTRY_INFO!N62","v":134913.59210000001},null,null,{"$f":"MAX('MDA1'!M62,MAX('MDA3'!I62,'MDA3'!L62)+MAX('MDA3'!J62,'MDA3'!M62))","v":79001},{"$f":"IF(AND(COUNTRY_INFO!I62>0,COUNTRY_INFO!I62<4),IF(J62>M62,M62,J62),0)","v":79001},{"$f":"IF(AND(COUNTRY_INFO!I62>0,COUNTRY_INFO!I62<4), IF(M62/J62*100<>0, IF(M62/J62*100>100,100,M62/J62*100), \"-\"),0)","v":58.556738998872149},{"$f":"COUNTRY_INFO!R62","v":0},null,null,{"$f":"MAX('MDA4'!R62,'T1'!K62, MAX(T3_R1!J62,T3_R2!J62,T3_R3!J62))","v":0},{"$f":"IF(AND(COUNTRY_INFO!J62>1,COUNTRY_INFO!J62<99,COUNTRY_INFO!J62<>4,COUNTRY_INFO!J62<>5),IF(COUNTRY_INFO!O62>S62,S62,COUNTRY_INFO!O62),0)","v":0},{"$f":"IF(AND(COUNTRY_INFO!J62>1,COUNTRY_INFO!J62<99,COUNTRY_INFO!J62<>4,COUNTRY_INFO!J62<>5), IF(T62/COUNTRY_INFO!O62*100<>0, IF(T62/COUNTRY_INFO!O62*100>100,100,T62/COUNTRY_INFO!O62*100), \"-\"),0)","v":0},{"$f":"MAX('MDA1'!K62,'MDA4'!S62, 'T1'!L62, MAX(T3_R1!K62,T3_R2!K62,T3_R3!K62))","v":0},{"$f":"IF(AND(COUNTRY_INFO!J62>1,COUNTRY_INFO!J62<99,COUNTRY_INFO!J62<>4,COUNTRY_INFO!J62<>5),IF(COUNTRY_INFO!P62>V62,V62,COUNTRY_INFO!P62),0)","v":0},{"$f":"IF(AND(COUNTRY_INFO!J62>1,COUNTRY_INFO!J62<99,COUNTRY_INFO!J62<>4,COUNTRY_INFO!J62<>5), IF(W62/COUNTRY_INFO!P62*100<>0, IF(W62/COUNTRY_INFO!P62*100>100,100,W62/COUNTRY_INFO!P62*100), \"-\"),0)","v":0},{"$f":"MAX('MDA1'!L62,'MDA4'!T62, 'T1'!M62, MAX(T3_R1!L62,T3_R2!L62,T3_R3!L62))","v":0},{"$f":"IF(AND(COUNTRY_INFO!J62>1,COUNTRY_INFO!J62<99,COUNTRY_INFO!J62<>4,COUNTRY_INFO!J62<>5),IF(COUNTRY_INFO!Q62>Y62,Y62,COUNTRY_INFO!Q62),0)","v":0},{"$f":"IF(AND(COUNTRY_INFO!J62>1,COUNTRY_INFO!J62<99,COUNTRY_INFO!J62<>4,COUNTRY_INFO!J62<>5), IF(Z62/COUNTRY_INFO!Q62*100<>0, IF(Z62/COUNTRY_INFO!Q62*100>100,100,Z62/COUNTRY_INFO!Q62*100), \"-\"),0)","v":0},0,0,{"$f":"IF(AND(COUNTRY_INFO!J62>1,COUNTRY_INFO!J62<99,COUNTRY_INFO!J62<>4,COUNTRY_INFO!J62<>5), IF(AC62/P62*100<>0, IF(AC62/P62*100>100,100,AC62/P62*100), \"-\"),0)","v":0},{"$f":"COUNTRY_INFO!V62","v":0},null,null,{"$f":"MAX('T1'!K62,'T2'!R62)","v":0},{"$f":"IF(AND(COUNTRY_INFO!K62>1,COUNTRY_INFO!K62<99,COUNTRY_INFO!K62<>4,COUNTRY_INFO!K62<>5),IF(COUNTRY_INFO!S62>AH62,AH62,COUNTRY_INFO!S62),0)","v":0},{"$f":"IF(AND(COUNTRY_INFO!K62>1,COUNTRY_INFO!K62<99,COUNTRY_INFO!K62<>4,COUNTRY_INFO!K62<>5), IF(AI62/COUNTRY_INFO!S62*100<>0, IF(AI62/COUNTRY_INFO!S62*100>100,100,AI62/COUNTRY_INFO!S62*100), \"-\"),0)","v":0},{"$f":"MAX('T1'!L62,'T2'!S62)","v":0},{"$f":"IF(AND(COUNTRY_INFO!K62>1,COUNTRY_INFO!K62<99,COUNTRY_INFO!K62<>4,COUNTRY_INFO!K62<>5),IF(COUNTRY_INFO!T62>AK62,AK62,COUNTRY_INFO!T62),0)","v":0},{"$f":"IF(AND(COUNTRY_INFO!K62>1,COUNTRY_INFO!K62<99,COUNTRY_INFO!K62<>4,COUNTRY_INFO!K62<>5), IF(AL62/COUNTRY_INFO!T62*100<>0, IF(AL62/COUNTRY_INFO!T62*100>100,100,AL62/COUNTRY_INFO!T62*100), \"-\"),0)","v":0},{"$f":"MAX('T1'!M62,'T2'!T62)","v":0},{"$f":"IF(AND(COUNTRY_INFO!K62>1,COUNTRY_INFO!K62<99,COUNTRY_INFO!K62<>4,COUNTRY_INFO!K62<>5),IF(COUNTRY_INFO!U62>AN62,AN62,COUNTRY_INFO!U62),0)","v":0},{"$f":"IF(AND(COUNTRY_INFO!K62>1,COUNTRY_INFO!K62<99,COUNTRY_INFO!K62<>4,COUNTRY_INFO!K62<>5), IF(AO62/COUNTRY_INFO!U62*100<>0, IF(AO62/COUNTRY_INFO!U62*100>100,100,AO62/COUNTRY_INFO!U62*100), \"-\"),0)","v":0},0,0,{"$f":"IF(AND(COUNTRY_INFO!K62>1,COUNTRY_INFO!K62<99,COUNTRY_INFO!K62<>4,COUNTRY_INFO!K62<>5), IF(AH62/AE62*100<>0, IF(AR62/AE62*100>100,100,AR62/AE62*100), \"-\"),0)","v":0},null,{"$f":"IF(AND(D62<>0, D62<>\"Unknown\",D62<>\"Stopped\",D62<>\"Not required\"),D62/COUNTRY_INFO!D62, 0)","v":0},{"$f":"IF(AND(J62<>0,J62<>\"Unknown\",J62<>\"Stopped\",J62<>\"Not required\"),J62/COUNTRY_INFO!D62, 0)","v":1},{"$f":"IF(AND(P62<>0,P62<>\"Unknown\",P62<>\"Surveillance\",P62<>\"Not required\"),P62/COUNTRY_INFO!R62, 0)","v":0},{"$f":"IF(AND(AE62<>0,AE62<>\"Unknown\",AE62<>\"Surveillance\",AE62<>\"Not required\"),AE62/COUNTRY_INFO!V62, 0)","v":0},{"$f":"IF(AU62>0,D62*PROFILE!$G$7,IF(AV62>0,J62*PROFILE!$G$7,0))","v":3710.1146376863512},{"$f":"_xlfn.IFS(OR(AU62>0,AW62>0),COUNTRY_INFO!E62, AV62>0,J62*PROFILE!$G$8,AX62>0,COUNTRY_INFO!S62,COUNTIFS(AU62:AX62,\">0\")=0,0)","v":14934.924486946988},{"$f":"_xlfn.IFS(OR(AU62>0,AW62>0),COUNTRY_INFO!F62, AV62>0,J62*PROFILE!$G$9,AX62>0,COUNTRY_INFO!T62,COUNTIFS(AU62:AX62,\">0\")=0,0)","v":41674.820960796082},{"$f":"_xlfn.IFS(AU62>0,COUNTRY_INFO!G62, AND(AV62>0,AW62=0,AX62=0),J62*PROFILE!$G$10,AND(AV62>0,AW62>0,AX62=0), MAX(J62*PROFILE!$G$10,COUNTRY_INFO!Q62),AND(AV62>0,AW62=0,AX62>0), MAX(J62*PROFILE!$G$10,COUNTRY_INFO!U62),AND(AV62=0,AW62>0,AX62>0), MAX(COUNTRY_INFO!Q62,COUNTRY_INFO!U62),AND(AV62=0,AW62>0,AX62=0),COUNTRY_INFO!Q62,AND(AV62=0,AW62=0,AX62>0),COUNTRY_INFO!U62,AND(AV62>0,AW62>0,AX62>0), MAX(J62*PROFILE!$G$10,COUNTRY_INFO!Q62,COUNTRY_INFO!U62),COUNTIFS(AU62:AX62,\">0\")=0,0)","v":74593.732014570589},134913.59210000001,"Y",{"$f":"MAX('MDA4'!R62,S62,AH62)","v":0},{"$f":"MAX('MDA1'!K62,'MDA4'!S62,'MDA3'!I62,'MDA3'!L62,V62,AK62)","v":37545},{"$f":"MAX('MDA1'!L62,'MDA4'!T62,'MDA3'!J62,'MDA3'!M62,Y62,AN62)","v":41456},79001,{"$f":"_xlfn.IFS(AND(AU62=0,AW62=0,AX62=0),0,AND(AU62=0,AW62=0,AX62>0),AI62,AND(AU62=0,AW62>0,AX62=0),T62,AND(AU62=0,AW62>0,AX62>0),MAX(T62,AI62),AND(AU62>0,AW62=0,AX62=0),MIN('MDA4'!R62,AZ62),AND(AU62>0,AW62=0,AX62>0),MIN(MAX('MDA4'!R62,AI62),AZ62),AND(AU62>0,AW62>0,AX62=0),MIN(MAX('MDA4'!R62,T62),AZ62),AND(AU62>0,AW62>0,AX62>0),MIN(MAX('MDA4'!R62,AI62,T62),AZ62))","v":0},{"$f":"_xlfn.IFS(AND(AU62=0,AV62=0,AW62=0,AX62=0),0,AND(AU62=0,AV62=0,AW62=0,AX62>0),AL62,AND(AU62=0,AV62=0,AW62>0,AX62=0),W62,AND(AU62=0,AV62=0,AW62>0,AX62>0),MAX(W62,AL62),AND(AU62=0,AV62>0,AW62=0,AX62=0),MIN(J62*PROFILE!$G$9,MAX('MDA3'!I62,'MDA3'!L62)),AND(AU62=0,AV62>0,AW62=0,AX62>0),MIN(J62*PROFILE!$G$9,MAX('MDA3'!I62,'MDA3'!L62,AL62)),AND(AU62=0,AV62>0,AW62>0,AX62=0),MIN(J62*PROFILE!$G$9,MAX('MDA3'!I62,'MDA3'!L62,W62)),AND(AU62=0,AV62>0,AW62>0,AX62>0),MIN(J62*PROFILE!$G$9,MAX('MDA3'!I62,'MDA3'!L62,W62,AL62)),AND(AU62>0,AV62=0,AW62=0,AX62=0), MIN(BA62,MAX('MDA1'!K62,'MDA4'!S62)),AND(AU62>0,AV62=0,AW62=0,AX62>0), MIN(BA62,MAX('MDA1'!K62,'MDA4'!S62,AL62)),AND(AU62>0,AV62=0,AW62>0,AX62=0),MIN(BA62,MAX('MDA1'!K62,'MDA4'!S62,W62)),AND(AU62>0,AV62=0,AW62>0,AX62>0),MIN(BA62,MAX('MDA1'!K62,'MDA4'!S62,W62,AL62)),AND(AU62>0,AV62>0,AW62=0,AX62=0),MIN(BA62, MAX('MDA1'!K62,'MDA4'!S62,MAX('MDA3'!I62,'MDA3'!L62))), AND(AU62>0,AV62>0,AW62=0,AX62>0),MIN(BA62, MAX('MDA1'!K62,'MDA4'!S62,MAX( 'MDA3'!I62,'MDA3'!L62),AL62)), AND(AU62>0,AV62>0,AW62>0,AX62=0), MIN(BA62, MAX('MDA1'!K62,'MDA4'!S62,MAX( 'MDA3'!I62,'MDA3'!L62),W62)), AND(AU62>0,AV62>0,AW62>0,AX62>0), MIN(BA62, MAX('MDA1'!K62,'MDA4'!S62,MAX( 'MDA3'!I62,'MDA3'!L62),W62,AL62)))","v":37545},{"$f":"_xlfn.IFS(AND(AU62=0,AV62=0,AW62=0,AX62=0),0,AND(AU62=0,AV62=0,AW62=0,AX62>0),AO62,AND(AU62=0,AV62=0,AW62>0,AX62=0),Z62,AND(AU62=0,AV62=0,AW62>0,AX62>0),MAX(Z62,AO62),AND(AU62=0,AV62>0,AW62=0,AX62=0),MIN(J62*PROFILE!$G$10,MAX('MDA3'!J62,'MDA3'!J62)),AND(AU62=0,AV62>0,AW62=0,AX62>0),MIN(J62*PROFILE!$G$10,MAX('MDA3'!J62,'MDA3'!M62,AO62)),AND(AU62=0,AV62>0,AW62>0,AX62=0),MIN(J62*PROFILE!$G$10,MAX('MDA3'!J62,'MDA3'!M62,Z62)),AND(AU62=0,AV62>0,AW62>0,AX62>0),MIN(J62*PROFILE!$G$10,MAX('MDA3'!J62,'MDA3'!M62,Z62,AO62)),AND(AU62>0,AV62=0,AW62=0,AX62=0), MIN(BB62,MAX('MDA1'!L62,'MDA4'!T62)),AND(AU62>0,AV62=0,AW62=0,AX62>0), MIN(BB62,MAX('MDA1'!L62,'MDA4'!T62,AO62)),AND(AU62>0,AV62=0,AW62>0,AX62=0),MIN(BB62,MAX('MDA1'!L62,'MDA4'!T62,Z62)),AND(AU62>0,AV62=0,AW62>0,AX62>0),MIN(BB62,MAX('MDA1'!L62,'MDA4'!T62,Z62,AO62)),AND(AU62>0,AV62>0,AW62=0,AX62=0),MIN(BB62, MAX('MDA1'!L62,'MDA4'!T62,MAX( 'MDA3'!J62,'MDA3'!M62))), AND(AU62>0,AV62>0,AW62=0,AX62>0),MIN(BB62, MAX('MDA1'!L62,'MDA4'!T62,MAX( 'MDA3'!J62,'MDA3'!M62),AO62)), AND(AU62>0,AV62>0,AW62>0,AX62=0), MIN(BB62, MAX('MDA1'!L62,'MDA4'!T62,MAX( 'MDA3'!J62,'MDA3'!M62),Z62)), AND(AU62>0,AV62>0,AW62>0,AX62>0), MIN(BB62, MAX('MDA1'!L62,'MDA4'!T62,MAX( 'MDA3'!J62,'MDA3'!M62),Z62,AO62)))","v":41456},79001,58.556738998872149]
[{"$f":"IF(COUNTRY_INFO!A63=0,\" \",COUNTRY_INFO!A63)","v":"South Sudan"},{"$f":"IF(COUNTRY_INFO!B63=0,\" \",COUNTRY_INFO!B63)","v":"Upper Nile"},{"$f":"IF(COUNTRY_INFO!C63=0,\" \",COUNTRY_INFO!C63)","v":"LUAKPINY/NASIR"},{"$f":"COUNTRY_INFO!M63","v":358673.31560000003},null,null,{"$f":"'MDA1'!M63+'MDA4'!U63","v":98003},{"$f":"IF(AND(COUNTRY_INFO!H63>0,COUNTRY_INFO!H63<4),IF(D63>G63,G63,D63),0)","v":98003},{"$f":"IF(AND(COUNTRY_INFO!H63>0,COUNTRY_INFO!H63<4), IF(G63/D63*100<>0, IF(G63/D63*100>100,100,G63/D63*100), \"-\"),0)","v":27.323749980133734},{"$f":"COUNTRY_INFO!N63","v":"Unknown"},null,null,{"$f":"MAX('MDA1'!M63,MAX('MDA3'!I63,'MDA3'!L63)+MAX('MDA3'!J63,'MDA3'!M63))","v":98003},{"$f":"IF(AND(COUNTRY_INFO!I63>0,COUNTRY_INFO!I63<4),IF(J63>M63,M63,J63),0)","v":0},{"$f":"IF(AND(COUNTRY_INFO!I63>0,COUNTRY_INFO!I63<4), IF(M63/J63*100<>0, IF(M63/J63*100>100,100,M63/J63*100), \"-\"),0)","v":0},{"$f":"COUNTRY_INFO!R63","v":0},null,null,{"$f":"MAX('MDA4'!R63,'T1'!K63, MAX(T3_R1!J63,T3_R2!J63,T3_R3!J63))","v":0},{"$f":"IF(AND(COUNTRY_INFO!J63>1,COUNTRY_INFO!J63<99,COUNTRY_INFO!J63<>4,COUNTRY_INFO!J63<>5),IF(COUNTRY_INFO!O63>S63,S63,COUNTRY_INFO!O63),0)","v":0},{"$f":"IF(AND(COUNTRY_INFO!J63>1,COUNTRY_INFO!J63<99,COUNTRY_INFO!J63<>4,COUNTRY_INFO!J63<>5), IF(T63/COUNTRY_INFO!O63*100<>0, IF(T63/COUNTRY_INFO!O63*100>100,100,T63/COUNTRY_INFO!O63*100), \"-\"),0)","v":0},{"$f":"MAX('MDA1'!K63,'MDA4'!S63, 'T1'!L63, MAX(T3_R1!K63,T3_R2!K63,T3_R3!K63))","v":48107},{"$f":"IF(AND(COUNTRY_INFO!J63>1,COUNTRY_INFO!J63<99,COUNTRY_INFO!J63<>4,COUNTRY_INFO!J63<>5),IF(COUNTRY_INFO!P63>V63,V63,COUNTRY_INFO!P63),0)","v":0},{"$f":"IF(AND(COUNTRY_INFO!J63>1,COUNTRY_INFO!J63<99,COUNTRY_INFO!J63<>4,COUNTRY_INFO!J63<>5), IF(W63/COUNTRY_INFO!P63*100<>0, IF(W63/COUNTRY_INFO!P63*100>100,100,W63/COUNTRY_INFO!P63*100), \"-\"),0)","v":0},{"$f":"MAX('MDA1'!L63,'MDA4'!T63, 'T1'!M63, MAX(T3_R1!L63,T3_R2!L63,T3_R3!L63))","v":49896},{"$f":"IF(AND(COUNTRY_INFO!J63>1,COUNTRY_INFO!J63<99,COUNTRY_INFO!J63<>4,COUNTRY_INFO!J63<>5),IF(COUNTRY_INFO!Q63>Y63,Y63,COUNTRY_INFO!Q63),0)","v":0},{"$f":"IF(AND(COUNTRY_INFO!J63>1,COUNTRY_INFO!J63<99,COUNTRY_INFO!J63<>4,COUNTRY_INFO!J63<>5), IF(Z63/COUNTRY_INFO!Q63*100<>0, IF(Z63/COUNTRY_INFO!Q63*100>100,100,Z63/COUNTRY_INFO!Q63*100), \"-\"),0)","v":0},98003,0,{"$f":"IF(AND(COUNTRY_INFO!J63>1,COUNTRY_INFO!J63<99,COUNTRY_INFO!J63<>4,COUNTRY_INFO!J63<>5), IF(AC63/P63*100<>0, IF(AC63/P63*100>100,100,AC63/P63*100), \"-\"),0)","v":0},{"$f":"COUNTRY_INFO!V63","v":0},null,null,{"$f":"MAX('T1'!K63,'T2'!R63)","v":0},{"$f":"IF(AND(COUNTRY_INFO!K63>1,COUNTRY_INFO!K63<99,COUNTRY_INFO!K63<>4,COUNTRY_INFO!K63<>5),IF(COUNTRY_INFO!S63>AH63,AH63,COUNTRY_INFO!S63),0)","v":0},{"$f":"IF(AND(COUNTRY_INFO!K63>1,COUNTRY_INFO!K63<99,COUNTRY_INFO!K63<>4,COUNTRY_INFO!K63<>5), IF(AI63/COUNTRY_INFO!S63*100<>0, IF(AI63/COUNTRY_INFO!S63*100>100,100,AI63/COUNTRY_INFO!S63*100), \"-\"),0)","v":0},{"$f":"MAX('T1'!L63,'T2'!S63)","v":0},{"$f":"IF(AND(COUNTRY_INFO!K63>1,COUNTRY_INFO!K63<99,COUNTRY_INFO!K63<>4,COUNTRY_INFO!K63<>5),IF(COUNTRY_INFO!T63>AK63,AK63,COUNTRY_INFO!T63),0)","v":0},{"$f":"IF(AND(COUNTRY_INFO!K63>1,COUNTRY_INFO!K63<99,COUNTRY_INFO!K63<>4,COUNTRY_INFO!K63<>5), IF(AL63/COUNTRY_INFO!T63*100<>0, IF(AL63/COUNTRY_INFO!T63*100>100,100,AL63/COUNTRY_INFO!T63*100), \"-\"),0)","v":0},{"$f":"MAX('T1'!M63,'T2'!T63)","v":0},{"$f":"IF(AND(COUNTRY_INFO!K63>1,COUNTRY_INFO!K63<99,COUNTRY_INFO!K63<>4,COUNTRY_INFO!K63<>5),IF(COUNTRY_INFO!U63>AN63,AN63,COUNTRY_INFO!U63),0)","v":0},{"$f":"IF(AND(COUNTRY_INFO!K63>1,COUNTRY_INFO!K63<99,COUNTRY_INFO!K63<>4,COUNTRY_INFO!K63<>5), IF(AO63/COUNTRY_INFO!U63*100<>0, IF(AO63/COUNTRY_INFO!U63*100>100,100,AO63/COUNTRY_INFO!U63*100), \"-\"),0)","v":0},0,0,{"$f":"IF(AND(COUNTRY_INFO!K63>1,COUNTRY_INFO!K63<99,COUNTRY_INFO!K63<>4,COUNTRY_INFO!K63<>5), IF(AH63/AE63*100<>0, IF(AR63/AE63*100>100,100,AR63/AE63*100), \"-\"),0)","v":0},null,{"$f":"IF(AND(D63<>0, D63<>\"Unknown\",D63<>\"Stopped\",D63<>\"Not required\"),D63/COUNTRY_INFO!D63, 0)","v":1},{"$f":"IF(AND(J63<>0,J63<>\"Unknown\",J63<>\"Stopped\",J63<>\"Not required\"),J63/COUNTRY_INFO!D63, 0)","v":0},{"$f":"IF(AND(P63<>0,P63<>\"Unknown\",P63<>\"Surveillance\",P63<>\"Not required\"),P63/COUNTRY_INFO!R63, 0)","v":0},{"$f":"IF(AND(AE63<>0,AE63<>\"Unknown\",AE63<>\"Surveillance\",AE63<>\"Not required\"),AE63/COUNTRY_INFO!V63, 0)","v":0},{"$f":"IF(AU63>0,D63*PROFILE!$G$7,IF(AV63>0,J63*PROFILE!$G$7,0))","v":9863.4918664733741},{"$f":"_xlfn.IFS(OR(AU63>0,AW63>0),COUNTRY_INFO!E63, AV63>0,J63*PROFILE!$G$8,AX63>0,COUNTRY_INFO!S63,COUNTIFS(AU63:AX63,\">0\")=0,0)","v":39705},{"$f":"_xlfn.IFS(OR(AU63>0,AW63>0),COUNTRY_INFO!F63, AV63>0,J63*PROFILE!$G$9,AX63>0,COUNTRY_INFO!T63,COUNTIFS(AU63:AX63,\">0\")=0,0)","v":110794},{"$f":"_xlfn.IFS(AU63>0,COUNTRY_INFO!G63, AND(AV63>0,AW63=0,AX63=0),J63*PROFILE!$G$10,AND(AV63>0,AW63>0,AX63=0), MAX(J63*PROFILE!$G$10,COUNTRY_INFO!Q63),AND(AV63>0,AW63=0,AX63>0), MAX(J63*PROFILE!$G$10,COUNTRY_INFO!U63),AND(AV63=0,AW63>0,AX63>0), MAX(COUNTRY_INFO!Q63,COUNTRY_INFO!U63),AND(AV63=0,AW63>0,AX63=0),COUNTRY_INFO!Q63,AND(AV63=0,AW63=0,AX63>0),COUNTRY_INFO!U63,AND(AV63>0,AW63>0,AX63>0), MAX(J63*PROFILE!$G$10,COUNTRY_INFO!Q63,COUNTRY_INFO!U63),COUNTIFS(AU63:AX63,\">0\")=0,0)","v":198310},358672.49186647334,"Y",{"$f":"MAX('MDA4'!R63,S63,AH63)","v":0},{"$f":"MAX('MDA1'!K63,'MDA4'!S63,'MDA3'!I63,'MDA3'!L63,V63,AK63)","v":48107},{"$f":"MAX('MDA1'!L63,'MDA4'!T63,'MDA3'!J63,'MDA3'!M63,Y63,AN63)","v":49896},98003,{"$f":"_xlfn.IFS(AND(AU63=0,AW63=0,AX63=0),0,AND(AU63=0,AW63=0,AX63>0),AI63,AND(AU63=0,AW63>0,AX63=0),T63,AND(AU63=0,AW63>0,AX63>0),MAX(T63,AI63),AND(AU63>0,AW63=0,AX63=0),MIN('MDA4'!R63,AZ63),AND(AU63>0,AW63=0,AX63>0),MIN(MAX('MDA4'!R63,AI63),AZ63),AND(AU63>0,AW63>0,AX63=0),MIN(MAX('MDA4'!R63,T63),AZ63),AND(AU63>0,AW63>0,AX63>0),MIN(MAX('MDA4'!R63,AI63,T63),AZ63))","v":0},{"$f":"_xlfn.IFS(AND(AU63=0,AV63=0,AW63=0,AX63=0),0,AND(AU63=0,AV63=0,AW63=0,AX63>0),AL63,AND(AU63=0,AV63=0,AW63>0,AX63=0),W63,AND(AU63=0,AV63=0,AW63>0,AX63>0),MAX(W63,AL63),AND(AU63=0,AV63>0,AW63=0,AX63=0),MIN(J63*PROFILE!$G$9,MAX('MDA3'!I63,'MDA3'!L63)),AND(AU63=0,AV63>0,AW63=0,AX63>0),MIN(J63*PROFILE!$G$9,MAX('MDA3'!I63,'MDA3'!L63,AL63)),AND(AU63=0,AV63>0,AW63>0,AX63=0),MIN(J63*PROFILE!$G$9,MAX('MDA3'!I63,'MDA3'!L63,W63)),AND(AU63=0,AV63>0,AW63>0,AX63>0),MIN(J63*PROFILE!$G$9,MAX('MDA3'!I63,'MDA3'!L63,W63,AL63)),AND(AU63>0,AV63=0,AW63=0,AX63=0), MIN(BA63,MAX('MDA1'!K63,'MDA4'!S63)),AND(AU63>0,AV63=0,AW63=0,AX63>0), MIN(BA63,MAX('MDA1'!K63,'MDA4'!S63,AL63)),AND(AU63>0,AV63=0,AW63>0,AX63=0),MIN(BA63,MAX('MDA1'!K63,'MDA4'!S63,W63)),AND(AU63>0,AV63=0,AW63>0,AX63>0),MIN(BA63,MAX('MDA1'!K63,'MDA4'!S63,W63,AL63)),AND(AU63>0,AV63>0,AW63=0,AX63=0),MIN(BA63, MAX('MDA1'!K63,'MDA4'!S63,MAX('MDA3'!I63,'MDA3'!L63))), AND(AU63>0,AV63>0,AW63=0,AX63>0),MIN(BA63, MAX('MDA1'!K63,'MDA4'!S63,MAX( 'MDA3'!I63,'MDA3'!L63),AL63)), AND(AU63>0,AV63>0,AW63>0,AX63=0), MIN(BA63, MAX('MDA1'!K63,'MDA4'!S63,MAX( 'MDA3'!I63,'MDA3'!L63),W63)), AND(AU63>0,AV63>0,AW63>0,AX63>0), MIN(BA63, MAX('MDA1'!K63,'MDA4'!S63,MAX( 'MDA3'!I63,'MDA3'!L63),W63,AL63)))","v":48107},{"$f":"_xlfn.IFS(AND(AU63=0,AV63=0,AW63=0,AX63=0),0,AND(AU63=0,AV63=0,AW63=0,AX63>0),AO63,AND(AU63=0,AV63=0,AW63>0,AX63=0),Z63,AND(AU63=0,AV63=0,AW63>0,AX63>0),MAX(Z63,AO63),AND(AU63=0,AV63>0,AW63=0,AX63=0),MIN(J63*PROFILE!$G$10,MAX('MDA3'!J63,'MDA3'!J63)),AND(AU63=0,AV63>0,AW63=0,AX63>0),MIN(J63*PROFILE!$G$10,MAX('MDA3'!J63,'MDA3'!M63,AO63)),AND(AU63=0,AV63>0,AW63>0,AX63=0),MIN(J63*PROFILE!$G$10,MAX('MDA3'!J63,'MDA3'!M63,Z63)),AND(AU63=0,AV63>0,AW63>0,AX63>0),MIN(J63*PROFILE!$G$10,MAX('MDA3'!J63,'MDA3'!M63,Z63,AO63)),AND(AU63>0,AV63=0,AW63=0,AX63=0), MIN(BB63,MAX('MDA1'!L63,'MDA4'!T63)),AND(AU63>0,AV63=0,AW63=0,AX63>0), MIN(BB63,MAX('MDA1'!L63,'MDA4'!T63,AO63)),AND(AU63>0,AV63=0,AW63>0,AX63=0),MIN(BB63,MAX('MDA1'!L63,'MDA4'!T63,Z63)),AND(AU63>0,AV63=0,AW63>0,AX63>0),MIN(BB63,MAX('MDA1'!L63,'MDA4'!T63,Z63,AO63)),AND(AU63>0,AV63>0,AW63=0,AX63=0),MIN(BB63, MAX('MDA1'!L63,'MDA4'!T63,MAX( 'MDA3'!J63,'MDA3'!M63))), AND(AU63>0,AV63>0,AW63=0,AX63>0),MIN(BB63, MAX('MDA1'!L63,'MDA4'!T63,MAX( 'MDA3'!J63,'MDA3'!M63),AO63)), AND(AU63>0,AV63>0,AW63>0,AX63=0), MIN(BB63, MAX('MDA1'!L63,'MDA4'!T63,MAX( 'MDA3'!J63,'MDA3'!M63),Z63)), AND(AU63>0,AV63>0,AW63>0,AX63>0), MIN(BB63, MAX('MDA1'!L63,'MDA4'!T63,MAX( 'MDA3'!J63,'MDA3'!M63),Z63,AO63)))","v":49896},98003,27.323812732336489]
[{"$f":"IF(COUNTRY_INFO!A64=0,\" \",COUNTRY_INFO!A64)","v":"South Sudan"},{"$f":"IF(COUNTRY_INFO!B64=0,\" \",COUNTRY_INFO!B64)","v":"Upper Nile"},{"$f":"IF(COUNTRY_INFO!C64=0,\" \",COUNTRY_INFO!C64)","v":"LONGOCHUK"},{"$f":"COUNTRY_INFO!M64","v":0},null,null,{"$f":"'MDA1'!M64+'MDA4'!U64","v":0},{"$f":"IF(AND(COUNTRY_INFO!H64>0,COUNTRY_INFO!H64<4),IF(D64>G64,G64,D64),0)","v":0},{"$f":"IF(AND(COUNTRY_INFO!H64>0,COUNTRY_INFO!H64<4), IF(G64/D64*100<>0, IF(G64/D64*100>100,100,G64/D64*100), \"-\"),0)","v":0},{"$f":"COUNTRY_INFO!N64","v":108589.48040000001},null,null,{"$f":"MAX('MDA1'!M64,MAX('MDA3'!I64,'MDA3'!L64)+MAX('MDA3'!J64,'MDA3'!M64))","v":65021},{"$f":"IF(AND(COUNTRY_INFO!I64>0,COUNTRY_INFO!I64<4),IF(J64>M64,M64,J64),0)","v":65021},{"$f":"IF(AND(COUNTRY_INFO!I64>0,COUNTRY_INFO!I64<4), IF(M64/J64*100<>0, IF(M64/J64*100>100,100,M64/J64*100), \"-\"),0)","v":59.877807463935518},{"$f":"COUNTRY_INFO!R64","v":0},null,null,{"$f":"MAX('MDA4'!R64,'T1'!K64, MAX(T3_R1!J64,T3_R2!J64,T3_R3!J64))","v":0},{"$f":"IF(AND(COUNTRY_INFO!J64>1,COUNTRY_INFO!J64<99,COUNTRY_INFO!J64<>4,COUNTRY_INFO!J64<>5),IF(COUNTRY_INFO!O64>S64,S64,COUNTRY_INFO!O64),0)","v":0},{"$f":"IF(AND(COUNTRY_INFO!J64>1,COUNTRY_INFO!J64<99,COUNTRY_INFO!J64<>4,COUNTRY_INFO!J64<>5), IF(T64/COUNTRY_INFO!O64*100<>0, IF(T64/COUNTRY_INFO!O64*100>100,100,T64/COUNTRY_INFO!O64*100), \"-\"),0)","v":0},{"$f":"MAX('MDA1'!K64,'MDA4'!S64, 'T1'!L64, MAX(T3_R1!K64,T3_R2!K64,T3_R3!K64))","v":0},{"$f":"IF(AND(COUNTRY_INFO!J64>1,COUNTRY_INFO!J64<99,COUNTRY_INFO!J64<>4,COUNTRY_INFO!J64<>5),IF(COUNTRY_INFO!P64>V64,V64,COUNTRY_INFO!P64),0)","v":0},{"$f":"IF(AND(COUNTRY_INFO!J64>1,COUNTRY_INFO!J64<99,COUNTRY_INFO!J64<>4,COUNTRY_INFO!J64<>5), IF(W64/COUNTRY_INFO!P64*100<>0, IF(W64/COUNTRY_INFO!P64*100>100,100,W64/COUNTRY_INFO!P64*100), \"-\"),0)","v":0},{"$f":"MAX('MDA1'!L64,'MDA4'!T64, 'T1'!M64, MAX(T3_R1!L64,T3_R2!L64,T3_R3!L64))","v":0},{"$f":"IF(AND(COUNTRY_INFO!J64>1,COUNTRY_INFO!J64<99,COUNTRY_INFO!J64<>4,COUNTRY_INFO!J64<>5),IF(COUNTRY_INFO!Q64>Y64,Y64,COUNTRY_INFO!Q64),0)","v":0},{"$f":"IF(AND(COUNTRY_INFO!J64>1,COUNTRY_INFO!J64<99,COUNTRY_INFO!J64<>4,COUNTRY_INFO!J64<>5), IF(Z64/COUNTRY_INFO!Q64*100<>0, IF(Z64/COUNTRY_INFO!Q64*100>100,100,Z64/COUNTRY_INFO!Q64*100), \"-\"),0)","v":0},0,0,{"$f":"IF(AND(COUNTRY_INFO!J64>1,COUNTRY_INFO!J64<99,COUNTRY_INFO!J64<>4,COUNTRY_INFO!J64<>5), IF(AC64/P64*100<>0, IF(AC64/P64*100>100,100,AC64/P64*100), \"-\"),0)","v":0},{"$f":"COUNTRY_INFO!V64","v":0},null,null,{"$f":"MAX('T1'!K64,'T2'!R64)","v":0},{"$f":"IF(AND(COUNTRY_INFO!K64>1,COUNTRY_INFO!K64<99,COUNTRY_INFO!K64<>4,COUNTRY_INFO!K64<>5),IF(COUNTRY_INFO!S64>AH64,AH64,COUNTRY_INFO!S64),0)","v":0},{"$f":"IF(AND(COUNTRY_INFO!K64>1,COUNTRY_INFO!K64<99,COUNTRY_INFO!K64<>4,COUNTRY_INFO!K64<>5), IF(AI64/COUNTRY_INFO!S64*100<>0, IF(AI64/COUNTRY_INFO!S64*100>100,100,AI64/COUNTRY_INFO!S64*100), \"-\"),0)","v":0},{"$f":"MAX('T1'!L64,'T2'!S64)","v":0},{"$f":"IF(AND(COUNTRY_INFO!K64>1,COUNTRY_INFO!K64<99,COUNTRY_INFO!K64<>4,COUNTRY_INFO!K64<>5),IF(COUNTRY_INFO!T64>AK64,AK64,COUNTRY_INFO!T64),0)","v":0},{"$f":"IF(AND(COUNTRY_INFO!K64>1,COUNTRY_INFO!K64<99,COUNTRY_INFO!K64<>4,COUNTRY_INFO!K64<>5), IF(AL64/COUNTRY_INFO!T64*100<>0, IF(AL64/COUNTRY_INFO!T64*100>100,100,AL64/COUNTRY_INFO!T64*100), \"-\"),0)","v":0},{"$f":"MAX('T1'!M64,'T2'!T64)","v":0},{"$f":"IF(AND(COUNTRY_INFO!K64>1,COUNTRY_INFO!K64<99,COUNTRY_INFO!K64<>4,COUNTRY_INFO!K64<>5),IF(COUNTRY_INFO!U64>AN64,AN64,COUNTRY_INFO!U64),0)","v":0},{"$f":"IF(AND(COUNTRY_INFO!K64>1,COUNTRY_INFO!K64<99,COUNTRY_INFO!K64<>4,COUNTRY_INFO!K64<>5), IF(AO64/COUNTRY_INFO!U64*100<>0, IF(AO64/COUNTRY_INFO!U64*100>100,100,AO64/COUNTRY_INFO!U64*100), \"-\"),0)","v":0},0,0,{"$f":"IF(AND(COUNTRY_INFO!K64>1,COUNTRY_INFO!K64<99,COUNTRY_INFO!K64<>4,COUNTRY_INFO!K64<>5), IF(AH64/AE64*100<>0, IF(AR64/AE64*100>100,100,AR64/AE64*100), \"-\"),0)","v":0},null,{"$f":"IF(AND(D64<>0, D64<>\"Unknown\",D64<>\"Stopped\",D64<>\"Not required\"),D64/COUNTRY_INFO!D64, 0)","v":0},{"$f":"IF(AND(J64<>0,J64<>\"Unknown\",J64<>\"Stopped\",J64<>\"Not required\"),J64/COUNTRY_INFO!D64, 0)","v":1},{"$f":"IF(AND(P64<>0,P64<>\"Unknown\",P64<>\"Surveillance\",P64<>\"Not required\"),P64/COUNTRY_INFO!R64, 0)","v":0},{"$f":"IF(AND(AE64<>0,AE64<>\"Unknown\",AE64<>\"Surveillance\",AE64<>\"Not required\"),AE64/COUNTRY_INFO!V64, 0)","v":0},{"$f":"IF(AU64>0,D64*PROFILE!$G$7,IF(AV64>0,J64*PROFILE!$G$7,0))","v":2986.2033503056896},{"$f":"_xlfn.IFS(OR(AU64>0,AW64>0),COUNTRY_INFO!E64, AV64>0,J64*PROFILE!$G$8,AX64>0,COUNTRY_INFO!S64,COUNTIFS(AU64:AX64,\">0\")=0,0)","v":12020.847303870802},{"$f":"_xlfn.IFS(OR(AU64>0,AW64>0),COUNTRY_INFO!F64, AV64>0,J64*PROFILE!$G$9,AX64>0,COUNTRY_INFO!T64,COUNTIFS(AU64:AX64,\">0\")=0,0)","v":33543.300444787987},{"$f":"_xlfn.IFS(AU64>0,COUNTRY_INFO!G64, AND(AV64>0,AW64=0,AX64=0),J64*PROFILE!$G$10,AND(AV64>0,AW64>0,AX64=0), MAX(J64*PROFILE!$G$10,COUNTRY_INFO!Q64),AND(AV64>0,AW64=0,AX64>0), MAX(J64*PROFILE!$G$10,COUNTRY_INFO!U64),AND(AV64=0,AW64>0,AX64>0), MAX(COUNTRY_INFO!Q64,COUNTRY_INFO!U64),AND(AV64=0,AW64>0,AX64=0),COUNTRY_INFO!Q64,AND(AV64=0,AW64=0,AX64>0),COUNTRY_INFO!U64,AND(AV64>0,AW64>0,AX64>0), MAX(J64*PROFILE!$G$10,COUNTRY_INFO!Q64,COUNTRY_INFO!U64),COUNTIFS(AU64:AX64,\">0\")=0,0)","v":60039.129301035529},108589.4804,"Y",{"$f":"MAX('MDA4'!R64,S64,AH64)","v":0},{"$f":"MAX('MDA1'!K64,'MDA4'!S64,'MDA3'!I64,'MDA3'!L64,V64,AK64)","v":32275},{"$f":"MAX('MDA1'!L64,'MDA4'!T64,'MDA3'!J64,'MDA3'!M64,Y64,AN64)","v":32746},65021,{"$f":"_xlfn.IFS(AND(AU64=0,AW64=0,AX64=0),0,AND(AU64=0,AW64=0,AX64>0),AI64,AND(AU64=0,AW64>0,AX64=0),T64,AND(AU64=0,AW64>0,AX64>0),MAX(T64,AI64),AND(AU64>0,AW64=0,AX64=0),MIN('MDA4'!R64,AZ64),AND(AU64>0,AW64=0,AX64>0),MIN(MAX('MDA4'!R64,AI64),AZ64),AND(AU64>0,AW64>0,AX64=0),MIN(MAX('MDA4'!R64,T64),AZ64),AND(AU64>0,AW64>0,AX64>0),MIN(MAX('MDA4'!R64,AI64,T64),AZ64))","v":0},{"$f":"_xlfn.IFS(AND(AU64=0,AV64=0,AW64=0,AX64=0),0,AND(AU64=0,AV64=0,AW64=0,AX64>0),AL64,AND(AU64=0,AV64=0,AW64>0,AX64=0),W64,AND(AU64=0,AV64=0,AW64>0,AX64>0),MAX(W64,AL64),AND(AU64=0,AV64>0,AW64=0,AX64=0),MIN(J64*PROFILE!$G$9,MAX('MDA3'!I64,'MDA3'!L64)),AND(AU64=0,AV64>0,AW64=0,AX64>0),MIN(J64*PROFILE!$G$9,MAX('MDA3'!I64,'MDA3'!L64,AL64)),AND(AU64=0,AV64>0,AW64>0,AX64=0),MIN(J64*PROFILE!$G$9,MAX('MDA3'!I64,'MDA3'!L64,W64)),AND(AU64=0,AV64>0,AW64>0,AX64>0),MIN(J64*PROFILE!$G$9,MAX('MDA3'!I64,'MDA3'!L64,W64,AL64)),AND(AU64>0,AV64=0,AW64=0,AX64=0), MIN(BA64,MAX('MDA1'!K64,'MDA4'!S64)),AND(AU64>0,AV64=0,AW64=0,AX64>0), MIN(BA64,MAX('MDA1'!K64,'MDA4'!S64,AL64)),AND(AU64>0,AV64=0,AW64>0,AX64=0),MIN(BA64,MAX('MDA1'!K64,'MDA4'!S64,W64)),AND(AU64>0,AV64=0,AW64>0,AX64>0),MIN(BA64,MAX('MDA1'!K64,'MDA4'!S64,W64,AL64)),AND(AU64>0,AV64>0,AW64=0,AX64=0),MIN(BA64, MAX('MDA1'!K64,'MDA4'!S64,MAX('MDA3'!I64,'MDA3'!L64))), AND(AU64>0,AV64>0,AW64=0,AX64>0),MIN(BA64, MAX('MDA1'!K64,'MDA4'!S64,MAX( 'MDA3'!I64,'MDA3'!L64),AL64)), AND(AU64>0,AV64>0,AW64>0,AX64=0), MIN(BA64, MAX('MDA1'!K64,'MDA4'!S64,MAX( 'MDA3'!I64,'MDA3'!L64),W64)), AND(AU64>0,AV64>0,AW64>0,AX64>0), MIN(BA64, MAX('MDA1'!K64,'MDA4'!S64,MAX( 'MDA3'!I64,'MDA3'!L64),W64,AL64)))","v":32275},{"$f":"_xlfn.IFS(AND(AU64=0,AV64=0,AW64=0,AX64=0),0,AND(AU64=0,AV64=0,AW64=0,AX64>0),AO64,AND(AU64=0,AV64=0,AW64>0,AX64=0),Z64,AND(AU64=0,AV64=0,AW64>0,AX64>0),MAX(Z64,AO64),AND(AU64=0,AV64>0,AW64=0,AX64=0),MIN(J64*PROFILE!$G$10,MAX('MDA3'!J64,'MDA3'!J64)),AND(AU64=0,AV64>0,AW64=0,AX64>0),MIN(J64*PROFILE!$G$10,MAX('MDA3'!J64,'MDA3'!M64,AO64)),AND(AU64=0,AV64>0,AW64>0,AX64=0),MIN(J64*PROFILE!$G$10,MAX('MDA3'!J64,'MDA3'!M64,Z64)),AND(AU64=0,AV64>0,AW64>0,AX64>0),MIN(J64*PROFILE!$G$10,MAX('MDA3'!J64,'MDA3'!M64,Z64,AO64)),AND(AU64>0,AV64=0,AW64=0,AX64=0), MIN(BB64,MAX('MDA1'!L64,'MDA4'!T64)),AND(AU64>0,AV64=0,AW64=0,AX64>0), MIN(BB64,MAX('MDA1'!L64,'MDA4'!T64,AO64)),AND(AU64>0,AV64=0,AW64>0,AX64=0),MIN(BB64,MAX('MDA1'!L64,'MDA4'!T64,Z64)),AND(AU64>0,AV64=0,AW64>0,AX64>0),MIN(BB64,MAX('MDA1'!L64,'MDA4'!T64,Z64,AO64)),AND(AU64>0,AV64>0,AW64=0,AX64=0),MIN(BB64, MAX('MDA1'!L64,'MDA4'!T64,MAX( 'MDA3'!J64,'MDA3'!M64))), AND(AU64>0,AV64>0,AW64=0,AX64>0),MIN(BB64, MAX('MDA1'!L64,'MDA4'!T64,MAX( 'MDA3'!J64,'MDA3'!M64),AO64)), AND(AU64>0,AV64>0,AW64>0,AX64=0), MIN(BB64, MAX('MDA1'!L64,'MDA4'!T64,MAX( 'MDA3'!J64,'MDA3'!M64),Z64)), AND(AU64>0,AV64>0,AW64>0,AX64>0), MIN(BB64, MAX('MDA1'!L64,'MDA4'!T64,MAX( 'MDA3'!J64,'MDA3'!M64),Z64,AO64)))","v":32746},65021,59.877807463935518]
[{"$f":"IF(COUNTRY_INFO!A65=0,\" \",COUNTRY_INFO!A65)","v":"South Sudan"},{"$f":"IF(COUNTRY_INFO!B65=0,\" \",COUNTRY_INFO!B65)","v":"Upper Nile"},{"$f":"IF(COUNTRY_INFO!C65=0,\" \",COUNTRY_INFO!C65)","v":"ULANG"},{"$f":"COUNTRY_INFO!M65","v":144785.2666},null,null,{"$f":"'MDA1'!M65+'MDA4'!U65","v":32933},{"$f":"IF(AND(COUNTRY_INFO!H65>0,COUNTRY_INFO!H65<4),IF(D65>G65,G65,D65),0)","v":32933},{"$f":"IF(AND(COUNTRY_INFO!H65>0,COUNTRY_INFO!H65<4), IF(G65/D65*100<>0, IF(G65/D65*100>100,100,G65/D65*100), \"-\"),0)","v":22.74609894595449},{"$f":"COUNTRY_INFO!N65","v":"Unknown"},null,null,{"$f":"MAX('MDA1'!M65,MAX('MDA3'!I65,'MDA3'!L65)+MAX('MDA3'!J65,'MDA3'!M65))","v":32933},{"$f":"IF(AND(COUNTRY_INFO!I65>0,COUNTRY_INFO!I65<4),IF(J65>M65,M65,J65),0)","v":0},{"$f":"IF(AND(COUNTRY_INFO!I65>0,COUNTRY_INFO!I65<4), IF(M65/J65*100<>0, IF(M65/J65*100>100,100,M65/J65*100), \"-\"),0)","v":0},{"$f":"COUNTRY_INFO!R65","v":0},null,null,{"$f":"MAX('MDA4'!R65,'T1'!K65, MAX(T3_R1!J65,T3_R2!J65,T3_R3!J65))","v":0},{"$f":"IF(AND(COUNTRY_INFO!J65>1,COUNTRY_INFO!J65<99,COUNTRY_INFO!J65<>4,COUNTRY_INFO!J65<>5),IF(COUNTRY_INFO!O65>S65,S65,COUNTRY_INFO!O65),0)","v":0},{"$f":"IF(AND(COUNTRY_INFO!J65>1,COUNTRY_INFO!J65<99,COUNTRY_INFO!J65<>4,COUNTRY_INFO!J65<>5), IF(T65/COUNTRY_INFO!O65*100<>0, IF(T65/COUNTRY_INFO!O65*100>100,100,T65/COUNTRY_INFO!O65*100), \"-\"),0)","v":0},{"$f":"MAX('MDA1'!K65,'MDA4'!S65, 'T1'!L65, MAX(T3_R1!K65,T3_R2!K65,T3_R3!K65))","v":15447},{"$f":"IF(AND(COUNTRY_INFO!J65>1,COUNTRY_INFO!J65<99,COUNTRY_INFO!J65<>4,COUNTRY_INFO!J65<>5),IF(COUNTRY_INFO!P65>V65,V65,COUNTRY_INFO!P65),0)","v":0},{"$f":"IF(AND(COUNTRY_INFO!J65>1,COUNTRY_INFO!J65<99,COUNTRY_INFO!J65<>4,COUNTRY_INFO!J65<>5), IF(W65/COUNTRY_INFO!P65*100<>0, IF(W65/COUNTRY_INFO!P65*100>100,100,W65/COUNTRY_INFO!P65*100), \"-\"),0)","v":0},{"$f":"MAX('MDA1'!L65,'MDA4'!T65, 'T1'!M65, MAX(T3_R1!L65,T3_R2!L65,T3_R3!L65))","v":17486},{"$f":"IF(AND(COUNTRY_INFO!J65>1,COUNTRY_INFO!J65<99,COUNTRY_INFO!J65<>4,COUNTRY_INFO!J65<>5),IF(COUNTRY_INFO!Q65>Y65,Y65,COUNTRY_INFO!Q65),0)","v":0},{"$f":"IF(AND(COUNTRY_INFO!J65>1,COUNTRY_INFO!J65<99,COUNTRY_INFO!J65<>4,COUNTRY_INFO!J65<>5), IF(Z65/COUNTRY_INFO!Q65*100<>0, IF(Z65/COUNTRY_INFO!Q65*100>100,100,Z65/COUNTRY_INFO!Q65*100), \"-\"),0)","v":0},32933,0,{"$f":"IF(AND(COUNTRY_INFO!J65>1,COUNTRY_INFO!J65<99,COUNTRY_INFO!J65<>4,COUNTRY_INFO!J65<>5), IF(AC65/P65*100<>0, IF(AC65/P65*100>100,100,AC65/P65*100), \"-\"),0)","v":0},{"$f":"COUNTRY_INFO!V65","v":0},null,null,{"$f":"MAX('T1'!K65,'T2'!R65)","v":0},{"$f":"IF(AND(COUNTRY_INFO!K65>1,COUNTRY_INFO!K65<99,COUNTRY_INFO!K65<>4,COUNTRY_INFO!K65<>5),IF(COUNTRY_INFO!S65>AH65,AH65,COUNTRY_INFO!S65),0)","v":0},{"$f":"IF(AND(COUNTRY_INFO!K65>1,COUNTRY_INFO!K65<99,COUNTRY_INFO!K65<>4,COUNTRY_INFO!K65<>5), IF(AI65/COUNTRY_INFO!S65*100<>0, IF(AI65/COUNTRY_INFO!S65*100>100,100,AI65/COUNTRY_INFO!S65*100), \"-\"),0)","v":0},{"$f":"MAX('T1'!L65,'T2'!S65)","v":0},{"$f":"IF(AND(COUNTRY_INFO!K65>1,COUNTRY_INFO!K65<99,COUNTRY_INFO!K65<>4,COUNTRY_INFO!K65<>5),IF(COUNTRY_INFO!T65>AK65,AK65,COUNTRY_INFO!T65),0)","v":0},{"$f":"IF(AND(COUNTRY_INFO!K65>1,COUNTRY_INFO!K65<99,COUNTRY_INFO!K65<>4,COUNTRY_INFO!K65<>5), IF(AL65/COUNTRY_INFO!T65*100<>0, IF(AL65/COUNTRY_INFO!T65*100>100,100,AL65/COUNTRY_INFO!T65*100), \"-\"),0)","v":0},{"$f":"MAX('T1'!M65,'T2'!T65)","v":0},{"$f":"IF(AND(COUNTRY_INFO!K65>1,COUNTRY_INFO!K65<99,COUNTRY_INFO!K65<>4,COUNTRY_INFO!K65<>5),IF(COUNTRY_INFO!U65>AN65,AN65,COUNTRY_INFO!U65),0)","v":0},{"$f":"IF(AND(COUNTRY_INFO!K65>1,COUNTRY_INFO!K65<99,COUNTRY_INFO!K65<>4,COUNTRY_INFO!K65<>5), IF(AO65/COUNTRY_INFO!U65*100<>0, IF(AO65/COUNTRY_INFO!U65*100>100,100,AO65/COUNTRY_INFO!U65*100), \"-\"),0)","v":0},0,0,{"$f":"IF(AND(COUNTRY_INFO!K65>1,COUNTRY_INFO!K65<99,COUNTRY_INFO!K65<>4,COUNTRY_INFO!K65<>5), IF(AH65/AE65*100<>0, IF(AR65/AE65*100>100,100,AR65/AE65*100), \"-\"),0)","v":0},null,{"$f":"IF(AND(D65<>0, D65<>\"Unknown\",D65<>\"Stopped\",D65<>\"Not required\"),D65/COUNTRY_INFO!D65, 0)","v":1},{"$f":"IF(AND(J65<>0,J65<>\"Unknown\",J65<>\"Stopped\",J65<>\"Not required\"),J65/COUNTRY_INFO!D65, 0)","v":0},{"$f":"IF(AND(P65<>0,P65<>\"Unknown\",P65<>\"Surveillance\",P65<>\"Not required\"),P65/COUNTRY_INFO!R65, 0)","v":0},{"$f":"IF(AND(AE65<>0,AE65<>\"Unknown\",AE65<>\"Surveillance\",AE65<>\"Not required\"),AE65/COUNTRY_INFO!V65, 0)","v":0},{"$f":"IF(AU65>0,D65*PROFILE!$G$7,IF(AV65>0,J65*PROFILE!$G$7,0))","v":3981.5850172888604},{"$f":"_xlfn.IFS(OR(AU65>0,AW65>0),COUNTRY_INFO!E65, AV65>0,J65*PROFILE!$G$8,AX65>0,COUNTRY_INFO!S65,COUNTIFS(AU65:AX65,\">0\")=0,0)","v":16028},{"$f":"_xlfn.IFS(OR(AU65>0,AW65>0),COUNTRY_INFO!F65, AV65>0,J65*PROFILE!$G$9,AX65>0,COUNTRY_INFO!T65,COUNTIFS(AU65:AX65,\">0\")=0,0)","v":44724},{"$f":"_xlfn.IFS(AU65>0,COUNTRY_INFO!G65, AND(AV65>0,AW65=0,AX65=0),J65*PROFILE!$G$10,AND(AV65>0,AW65>0,AX65=0), MAX(J65*PROFILE!$G$10,COUNTRY_INFO!Q65),AND(AV65>0,AW65=0,AX65>0), MAX(J65*PROFILE!$G$10,COUNTRY_INFO!U65),AND(AV65=0,AW65>0,AX65>0), MAX(COUNTRY_INFO!Q65,COUNTRY_INFO!U65),AND(AV65=0,AW65>0,AX65=0),COUNTRY_INFO!Q65,AND(AV65=0,AW65=0,AX65>0),COUNTRY_INFO!U65,AND(AV65>0,AW65>0,AX65>0), MAX(J65*PROFILE!$G$10,COUNTRY_INFO!Q65,COUNTRY_INFO!U65),COUNTIFS(AU65:AX65,\">0\")=0,0)","v":80052},144785.58501728886,"Y",{"$f":"MAX('MDA4'!R65,S65,AH65)","v":0},{"$f":"MAX('MDA1'!K65,'MDA4'!S65,'MDA3'!I65,'MDA3'!L65,V65,AK65)","v":15447},{"$f":"MAX('MDA1'!L65,'MDA4'!T65,'MDA3'!J65,'MDA3'!M65,Y65,AN65)","v":17486},32933,{"$f":"_xlfn.IFS(AND(AU65=0,AW65=0,AX65=0),0,AND(AU65=0,AW65=0,AX65>0),AI65,AND(AU65=0,AW65>0,AX65=0),T65,AND(AU65=0,AW65>0,AX65>0),MAX(T65,AI65),AND(AU65>0,AW65=0,AX65=0),MIN('MDA4'!R65,AZ65),AND(AU65>0,AW65=0,AX65>0),MIN(MAX('MDA4'!R65,AI65),AZ65),AND(AU65>0,AW65>0,AX65=0),MIN(MAX('MDA4'!R65,T65),AZ65),AND(AU65>0,AW65>0,AX65>0),MIN(MAX('MDA4'!R65,AI65,T65),AZ65))","v":0},{"$f":"_xlfn.IFS(AND(AU65=0,AV65=0,AW65=0,AX65=0),0,AND(AU65=0,AV65=0,AW65=0,AX65>0),AL65,AND(AU65=0,AV65=0,AW65>0,AX65=0),W65,AND(AU65=0,AV65=0,AW65>0,AX65>0),MAX(W65,AL65),AND(AU65=0,AV65>0,AW65=0,AX65=0),MIN(J65*PROFILE!$G$9,MAX('MDA3'!I65,'MDA3'!L65)),AND(AU65=0,AV65>0,AW65=0,AX65>0),MIN(J65*PROFILE!$G$9,MAX('MDA3'!I65,'MDA3'!L65,AL65)),AND(AU65=0,AV65>0,AW65>0,AX65=0),MIN(J65*PROFILE!$G$9,MAX('MDA3'!I65,'MDA3'!L65,W65)),AND(AU65=0,AV65>0,AW65>0,AX65>0),MIN(J65*PROFILE!$G$9,MAX('MDA3'!I65,'MDA3'!L65,W65,AL65)),AND(AU65>0,AV65=0,AW65=0,AX65=0), MIN(BA65,MAX('MDA1'!K65,'MDA4'!S65)),AND(AU65>0,AV65=0,AW65=0,AX65>0), MIN(BA65,MAX('MDA1'!K65,'MDA4'!S65,AL65)),AND(AU65>0,AV65=0,AW65>0,AX65=0),MIN(BA65,MAX('MDA1'!K65,'MDA4'!S65,W65)),AND(AU65>0,AV65=0,AW65>0,AX65>0),MIN(BA65,MAX('MDA1'!K65,'MDA4'!S65,W65,AL65)),AND(AU65>0,AV65>0,AW65=0,AX65=0),MIN(BA65, MAX('MDA1'!K65,'MDA4'!S65,MAX('MDA3'!I65,'MDA3'!L65))), AND(AU65>0,AV65>0,AW65=0,AX65>0),MIN(BA65, MAX('MDA1'!K65,'MDA4'!S65,MAX( 'MDA3'!I65,'MDA3'!L65),AL65)), AND(AU65>0,AV65>0,AW65>0,AX65=0), MIN(BA65, MAX('MDA1'!K65,'MDA4'!S65,MAX( 'MDA3'!I65,'MDA3'!L65),W65)), AND(AU65>0,AV65>0,AW65>0,AX65>0), MIN(BA65, MAX('MDA1'!K65,'MDA4'!S65,MAX( 'MDA3'!I65,'MDA3'!L65),W65,AL65)))","v":15447},{"$f":"_xlfn.IFS(AND(AU65=0,AV65=0,AW65=0,AX65=0),0,AND(AU65=0,AV65=0,AW65=0,AX65>0),AO65,AND(AU65=0,AV65=0,AW65>0,AX65=0),Z65,AND(AU65=0,AV65=0,AW65>0,AX65>0),MAX(Z65,AO65),AND(AU65=0,AV65>0,AW65=0,AX65=0),MIN(J65*PROFILE!$G$10,MAX('MDA3'!J65,'MDA3'!J65)),AND(AU65=0,AV65>0,AW65=0,AX65>0),MIN(J65*PROFILE!$G$10,MAX('MDA3'!J65,'MDA3'!M65,AO65)),AND(AU65=0,AV65>0,AW65>0,AX65=0),MIN(J65*PROFILE!$G$10,MAX('MDA3'!J65,'MDA3'!M65,Z65)),AND(AU65=0,AV65>0,AW65>0,AX65>0),MIN(J65*PROFILE!$G$10,MAX('MDA3'!J65,'MDA3'!M65,Z65,AO65)),AND(AU65>0,AV65=0,AW65=0,AX65=0), MIN(BB65,MAX('MDA1'!L65,'MDA4'!T65)),AND(AU65>0,AV65=0,AW65=0,AX65>0), MIN(BB65,MAX('MDA1'!L65,'MDA4'!T65,AO65)),AND(AU65>0,AV65=0,AW65>0,AX65=0),MIN(BB65,MAX('MDA1'!L65,'MDA4'!T65,Z65)),AND(AU65>0,AV65=0,AW65>0,AX65>0),MIN(BB65,MAX('MDA1'!L65,'MDA4'!T65,Z65,AO65)),AND(AU65>0,AV65>0,AW65=0,AX65=0),MIN(BB65, MAX('MDA1'!L65,'MDA4'!T65,MAX( 'MDA3'!J65,'MDA3'!M65))), AND(AU65>0,AV65>0,AW65=0,AX65>0),MIN(BB65, MAX('MDA1'!L65,'MDA4'!T65,MAX( 'MDA3'!J65,'MDA3'!M65),AO65)), AND(AU65>0,AV65>0,AW65>0,AX65=0), MIN(BB65, MAX('MDA1'!L65,'MDA4'!T65,MAX( 'MDA3'!J65,'MDA3'!M65),Z65)), AND(AU65>0,AV65>0,AW65>0,AX65>0), MIN(BB65, MAX('MDA1'!L65,'MDA4'!T65,MAX( 'MDA3'!J65,'MDA3'!M65),Z65,AO65)))","v":17486},32933,22.74604892197484]
[{"$f":"IF(COUNTRY_INFO!A66=0,\" \",COUNTRY_INFO!A66)","v":"South Sudan"},{"$f":"IF(COUNTRY_INFO!B66=0,\" \",COUNTRY_INFO!B66)","v":"Upper Nile"},{"$f":"IF(COUNTRY_INFO!C66=0,\" \",COUNTRY_INFO!C66)","v":"BALIET"},{"$f":"COUNTRY_INFO!M66","v":65400.241400000006},null,null,{"$f":"'MDA1'!M66+'MDA4'!U66","v":14502},{"$f":"IF(AND(COUNTRY_INFO!H66>0,COUNTRY_INFO!H66<4),IF(D66>G66,G66,D66),0)","v":14502},{"$f":"IF(AND(COUNTRY_INFO!H66>0,COUNTRY_INFO!H66<4), IF(G66/D66*100<>0, IF(G66/D66*100>100,100,G66/D66*100), \"-\"),0)","v":22.174230078606406},{"$f":"COUNTRY_INFO!N66","v":"Unknown"},null,null,{"$f":"MAX('MDA1'!M66,MAX('MDA3'!I66,'MDA3'!L66)+MAX('MDA3'!J66,'MDA3'!M66))","v":14502},{"$f":"IF(AND(COUNTRY_INFO!I66>0,COUNTRY_INFO!I66<4),IF(J66>M66,M66,J66),0)","v":0},{"$f":"IF(AND(COUNTRY_INFO!I66>0,COUNTRY_INFO!I66<4), IF(M66/J66*100<>0, IF(M66/J66*100>100,100,M66/J66*100), \"-\"),0)","v":0},{"$f":"COUNTRY_INFO!R66","v":0},null,null,{"$f":"MAX('MDA4'!R66,'T1'!K66, MAX(T3_R1!J66,T3_R2!J66,T3_R3!J66))","v":0},{"$f":"IF(AND(COUNTRY_INFO!J66>1,COUNTRY_INFO!J66<99,COUNTRY_INFO!J66<>4,COUNTRY_INFO!J66<>5),IF(COUNTRY_INFO!O66>S66,S66,COUNTRY_INFO!O66),0)","v":0},{"$f":"IF(AND(COUNTRY_INFO!J66>1,COUNTRY_INFO!J66<99,COUNTRY_INFO!J66<>4,COUNTRY_INFO!J66<>5), IF(T66/COUNTRY_INFO!O66*100<>0, IF(T66/COUNTRY_INFO!O66*100>100,100,T66/COUNTRY_INFO!O66*100), \"-\"),0)","v":0},{"$f":"MAX('MDA1'!K66,'MDA4'!S66, 'T1'!L66, MAX(T3_R1!K66,T3_R2!K66,T3_R3!K66))","v":7079},{"$f":"IF(AND(COUNTRY_INFO!J66>1,COUNTRY_INFO!J66<99,COUNTRY_INFO!J66<>4,COUNTRY_INFO!J66<>5),IF(COUNTRY_INFO!P66>V66,V66,COUNTRY_INFO!P66),0)","v":0},{"$f":"IF(AND(COUNTRY_INFO!J66>1,COUNTRY_INFO!J66<99,COUNTRY_INFO!J66<>4,COUNTRY_INFO!J66<>5), IF(W66/COUNTRY_INFO!P66*100<>0, IF(W66/COUNTRY_INFO!P66*100>100,100,W66/COUNTRY_INFO!P66*100), \"-\"),0)","v":0},{"$f":"MAX('MDA1'!L66,'MDA4'!T66, 'T1'!M66, MAX(T3_R1!L66,T3_R2!L66,T3_R3!L66))","v":7423},{"$f":"IF(AND(COUNTRY_INFO!J66>1,COUNTRY_INFO!J66<99,COUNTRY_INFO!J66<>4,COUNTRY_INFO!J66<>5),IF(COUNTRY_INFO!Q66>Y66,Y66,COUNTRY_INFO!Q66),0)","v":0},{"$f":"IF(AND(COUNTRY_INFO!J66>1,COUNTRY_INFO!J66<99,COUNTRY_INFO!J66<>4,COUNTRY_INFO!J66<>5), IF(Z66/COUNTRY_INFO!Q66*100<>0, IF(Z66/COUNTRY_INFO!Q66*100>100,100,Z66/COUNTRY_INFO!Q66*100), \"-\"),0)","v":0},14502,0,{"$f":"IF(AND(COUNTRY_INFO!J66>1,COUNTRY_INFO!J66<99,COUNTRY_INFO!J66<>4,COUNTRY_INFO!J66<>5), IF(AC66/P66*100<>0, IF(AC66/P66*100>100,100,AC66/P66*100), \"-\"),0)","v":0},{"$f":"COUNTRY_INFO!V66","v":0},null,null,{"$f":"MAX('T1'!K66,'T2'!R66)","v":0},{"$f":"IF(AND(COUNTRY_INFO!K66>1,COUNTRY_INFO!K66<99,COUNTRY_INFO!K66<>4,COUNTRY_INFO!K66<>5),IF(COUNTRY_INFO!S66>AH66,AH66,COUNTRY_INFO!S66),0)","v":0},{"$f":"IF(AND(COUNTRY_INFO!K66>1,COUNTRY_INFO!K66<99,COUNTRY_INFO!K66<>4,COUNTRY_INFO!K66<>5), IF(AI66/COUNTRY_INFO!S66*100<>0, IF(AI66/COUNTRY_INFO!S66*100>100,100,AI66/COUNTRY_INFO!S66*100), \"-\"),0)","v":0},{"$f":"MAX('T1'!L66,'T2'!S66)","v":0},{"$f":"IF(AND(COUNTRY_INFO!K66>1,COUNTRY_INFO!K66<99,COUNTRY_INFO!K66<>4,COUNTRY_INFO!K66<>5),IF(COUNTRY_INFO!T66>AK66,AK66,COUNTRY_INFO!T66),0)","v":0},{"$f":"IF(AND(COUNTRY_INFO!K66>1,COUNTRY_INFO!K66<99,COUNTRY_INFO!K66<>4,COUNTRY_INFO!K66<>5), IF(AL66/COUNTRY_INFO!T66*100<>0, IF(AL66/COUNTRY_INFO!T66*100>100,100,AL66/COUNTRY_INFO!T66*100), \"-\"),0)","v":0},{"$f":"MAX('T1'!M66,'T2'!T66)","v":0},{"$f":"IF(AND(COUNTRY_INFO!K66>1,COUNTRY_INFO!K66<99,COUNTRY_INFO!K66<>4,COUNTRY_INFO!K66<>5),IF(COUNTRY_INFO!U66>AN66,AN66,COUNTRY_INFO!U66),0)","v":0},{"$f":"IF(AND(COUNTRY_INFO!K66>1,COUNTRY_INFO!K66<99,COUNTRY_INFO!K66<>4,COUNTRY_INFO!K66<>5), IF(AO66/COUNTRY_INFO!U66*100<>0, IF(AO66/COUNTRY_INFO!U66*100>100,100,AO66/COUNTRY_INFO!U66*100), \"-\"),0)","v":0},0,0,{"$f":"IF(AND(COUNTRY_INFO!K66>1,COUNTRY_INFO!K66<99,COUNTRY_INFO!K66<>4,COUNTRY_INFO!K66<>5), IF(AH66/AE66*100<>0, IF(AR66/AE66*100>100,100,AR66/AE66*100), \"-\"),0)","v":0},null,{"$f":"IF(AND(D66<>0, D66<>\"Unknown\",D66<>\"Stopped\",D66<>\"Not required\"),D66/COUNTRY_INFO!D66, 0)","v":1},{"$f":"IF(AND(J66<>0,J66<>\"Unknown\",J66<>\"Stopped\",J66<>\"Not required\"),J66/COUNTRY_INFO!D66, 0)","v":0},{"$f":"IF(AND(P66<>0,P66<>\"Unknown\",P66<>\"Surveillance\",P66<>\"Not required\"),P66/COUNTRY_INFO!R66, 0)","v":0},{"$f":"IF(AND(AE66<>0,AE66<>\"Unknown\",AE66<>\"Surveillance\",AE66<>\"Not required\"),AE66/COUNTRY_INFO!V66, 0)","v":0},{"$f":"IF(AU66>0,D66*PROFILE!$G$7,IF(AV66>0,J66*PROFILE!$G$7,0))","v":1798.5022053709067},{"$f":"_xlfn.IFS(OR(AU66>0,AW66>0),COUNTRY_INFO!E66, AV66>0,J66*PROFILE!$G$8,AX66>0,COUNTRY_INFO!S66,COUNTIFS(AU66:AX66,\">0\")=0,0)","v":7240},{"$f":"_xlfn.IFS(OR(AU66>0,AW66>0),COUNTRY_INFO!F66, AV66>0,J66*PROFILE!$G$9,AX66>0,COUNTRY_INFO!T66,COUNTIFS(AU66:AX66,\">0\")=0,0)","v":20202},{"$f":"_xlfn.IFS(AU66>0,COUNTRY_INFO!G66, AND(AV66>0,AW66=0,AX66=0),J66*PROFILE!$G$10,AND(AV66>0,AW66>0,AX66=0), MAX(J66*PROFILE!$G$10,COUNTRY_INFO!Q66),AND(AV66>0,AW66=0,AX66>0), MAX(J66*PROFILE!$G$10,COUNTRY_INFO!U66),AND(AV66=0,AW66>0,AX66>0), MAX(COUNTRY_INFO!Q66,COUNTRY_INFO!U66),AND(AV66=0,AW66>0,AX66=0),COUNTRY_INFO!Q66,AND(AV66=0,AW66=0,AX66>0),COUNTRY_INFO!U66,AND(AV66>0,AW66>0,AX66>0), MAX(J66*PROFILE!$G$10,COUNTRY_INFO!Q66,COUNTRY_INFO!U66),COUNTIFS(AU66:AX66,\">0\")=0,0)","v":36160},65400.502205370911,"Y",{"$f":"MAX('MDA4'!R66,S66,AH66)","v":0},{"$f":"MAX('MDA1'!K66,'MDA4'!S66,'MDA3'!I66,'MDA3'!L66,V66,AK66)","v":7079},{"$f":"MAX('MDA1'!L66,'MDA4'!T66,'MDA3'!J66,'MDA3'!M66,Y66,AN66)","v":7423},14502,{"$f":"_xlfn.IFS(AND(AU66=0,AW66=0,AX66=0),0,AND(AU66=0,AW66=0,AX66>0),AI66,AND(AU66=0,AW66>0,AX66=0),T66,AND(AU66=0,AW66>0,AX66>0),MAX(T66,AI66),AND(AU66>0,AW66=0,AX66=0),MIN('MDA4'!R66,AZ66),AND(AU66>0,AW66=0,AX66>0),MIN(MAX('MDA4'!R66,AI66),AZ66),AND(AU66>0,AW66>0,AX66=0),MIN(MAX('MDA4'!R66,T66),AZ66),AND(AU66>0,AW66>0,AX66>0),MIN(MAX('MDA4'!R66,AI66,T66),AZ66))","v":0},{"$f":"_xlfn.IFS(AND(AU66=0,AV66=0,AW66=0,AX66=0),0,AND(AU66=0,AV66=0,AW66=0,AX66>0),AL66,AND(AU66=0,AV66=0,AW66>0,AX66=0),W66,AND(AU66=0,AV66=0,AW66>0,AX66>0),MAX(W66,AL66),AND(AU66=0,AV66>0,AW66=0,AX66=0),MIN(J66*PROFILE!$G$9,MAX('MDA3'!I66,'MDA3'!L66)),AND(AU66=0,AV66>0,AW66=0,AX66>0),MIN(J66*PROFILE!$G$9,MAX('MDA3'!I66,'MDA3'!L66,AL66)),AND(AU66=0,AV66>0,AW66>0,AX66=0),MIN(J66*PROFILE!$G$9,MAX('MDA3'!I66,'MDA3'!L66,W66)),AND(AU66=0,AV66>0,AW66>0,AX66>0),MIN(J66*PROFILE!$G$9,MAX('MDA3'!I66,'MDA3'!L66,W66,AL66)),AND(AU66>0,AV66=0,AW66=0,AX66=0), MIN(BA66,MAX('MDA1'!K66,'MDA4'!S66)),AND(AU66>0,AV66=0,AW66=0,AX66>0), MIN(BA66,MAX('MDA1'!K66,'MDA4'!S66,AL66)),AND(AU66>0,AV66=0,AW66>0,AX66=0),MIN(BA66,MAX('MDA1'!K66,'MDA4'!S66,W66)),AND(AU66>0,AV66=0,AW66>0,AX66>0),MIN(BA66,MAX('MDA1'!K66,'MDA4'!S66,W66,AL66)),AND(AU66>0,AV66>0,AW66=0,AX66=0),MIN(BA66, MAX('MDA1'!K66,'MDA4'!S66,MAX('MDA3'!I66,'MDA3'!L66))), AND(AU66>0,AV66>0,AW66=0,AX66>0),MIN(BA66, MAX('MDA1'!K66,'MDA4'!S66,MAX( 'MDA3'!I66,'MDA3'!L66),AL66)), AND(AU66>0,AV66>0,AW66>0,AX66=0), MIN(BA66, MAX('MDA1'!K66,'MDA4'!S66,MAX( 'MDA3'!I66,'MDA3'!L66),W66)), AND(AU66>0,AV66>0,AW66>0,AX66>0), MIN(BA66, MAX('MDA1'!K66,'MDA4'!S66,MAX( 'MDA3'!I66,'MDA3'!L66),W66,AL66)))","v":7079},{"$f":"_xlfn.IFS(AND(AU66=0,AV66=0,AW66=0,AX66=0),0,AND(AU66=0,AV66=0,AW66=0,AX66>0),AO66,AND(AU66=0,AV66=0,AW66>0,AX66=0),Z66,AND(AU66=0,AV66=0,AW66>0,AX66>0),MAX(Z66,AO66),AND(AU66=0,AV66>0,AW66=0,AX66=0),MIN(J66*PROFILE!$G$10,MAX('MDA3'!J66,'MDA3'!J66)),AND(AU66=0,AV66>0,AW66=0,AX66>0),MIN(J66*PROFILE!$G$10,MAX('MDA3'!J66,'MDA3'!M66,AO66)),AND(AU66=0,AV66>0,AW66>0,AX66=0),MIN(J66*PROFILE!$G$10,MAX('MDA3'!J66,'MDA3'!M66,Z66)),AND(AU66=0,AV66>0,AW66>0,AX66>0),MIN(J66*PROFILE!$G$10,MAX('MDA3'!J66,'MDA3'!M66,Z66,AO66)),AND(AU66>0,AV66=0,AW66=0,AX66=0), MIN(BB66,MAX('MDA1'!L66,'MDA4'!T66)),AND(AU66>0,AV66=0,AW66=0,AX66>0), MIN(BB66,MAX('MDA1'!L66,'MDA4'!T66,AO66)),AND(AU66>0,AV66=0,AW66>0,AX66=0),MIN(BB66,MAX('MDA1'!L66,'MDA4'!T66,Z66)),AND(AU66>0,AV66=0,AW66>0,AX66>0),MIN(BB66,MAX('MDA1'!L66,'MDA4'!T66,Z66,AO66)),AND(AU66>0,AV66>0,AW66=0,AX66=0),MIN(BB66, MAX('MDA1'!L66,'MDA4'!T66,MAX( 'MDA3'!J66,'MDA3'!M66))), AND(AU66>0,AV66>0,AW66=0,AX66>0),MIN(BB66, MAX('MDA1'!L66,'MDA4'!T66,MAX( 'MDA3'!J66,'MDA3'!M66),AO66)), AND(AU66>0,AV66>0,AW66>0,AX66=0), MIN(BB66, MAX('MDA1'!L66,'MDA4'!T66,MAX( 'MDA3'!J66,'MDA3'!M66),Z66)), AND(AU66>0,AV66>0,AW66>0,AX66>0), MIN(BB66, MAX('MDA1'!L66,'MDA4'!T66,MAX( 'MDA3'!J66,'MDA3'!M66),Z66,AO66)))","v":7423},14502,22.174141651788489]
[{"$f":"IF(COUNTRY_INFO!A67=0,\" \",COUNTRY_INFO!A67)","v":"South Sudan"},{"$f":"IF(COUNTRY_INFO!B67=0,\" \",COUNTRY_INFO!B67)","v":"Upper Nile"},{"$f":"IF(COUNTRY_INFO!C67=0,\" \",COUNTRY_INFO!C67)","v":"MALAKAL"},{"$f":"COUNTRY_INFO!M67","v":215533.50490000003},null,null,{"$f":"'MDA1'!M67+'MDA4'!U67","v":40657},{"$f":"IF(AND(COUNTRY_INFO!H67>0,COUNTRY_INFO!H67<4),IF(D67>G67,G67,D67),0)","v":40657},{"$f":"IF(AND(COUNTRY_INFO!H67>0,COUNTRY_INFO!H67<4), IF(G67/D67*100<>0, IF(G67/D67*100>100,100,G67/D67*100), \"-\"),0)","v":18.863424514375811},{"$f":"COUNTRY_INFO!N67","v":"Unknown"},null,null,{"$f":"MAX('MDA1'!M67,MAX('MDA3'!I67,'MDA3'!L67)+MAX('MDA3'!J67,'MDA3'!M67))","v":40657},{"$f":"IF(AND(COUNTRY_INFO!I67>0,COUNTRY_INFO!I67<4),IF(J67>M67,M67,J67),0)","v":0},{"$f":"IF(AND(COUNTRY_INFO!I67>0,COUNTRY_INFO!I67<4), IF(M67/J67*100<>0, IF(M67/J67*100>100,100,M67/J67*100), \"-\"),0)","v":0},{"$f":"COUNTRY_INFO!R67","v":0},null,null,{"$f":"MAX('MDA4'!R67,'T1'!K67, MAX(T3_R1!J67,T3_R2!J67,T3_R3!J67))","v":0},{"$f":"IF(AND(COUNTRY_INFO!J67>1,COUNTRY_INFO!J67<99,COUNTRY_INFO!J67<>4,COUNTRY_INFO!J67<>5),IF(COUNTRY_INFO!O67>S67,S67,COUNTRY_INFO!O67),0)","v":0},{"$f":"IF(AND(COUNTRY_INFO!J67>1,COUNTRY_INFO!J67<99,COUNTRY_INFO!J67<>4,COUNTRY_INFO!J67<>5), IF(T67/COUNTRY_INFO!O67*100<>0, IF(T67/COUNTRY_INFO!O67*100>100,100,T67/COUNTRY_INFO!O67*100), \"-\"),0)","v":0},{"$f":"MAX('MDA1'!K67,'MDA4'!S67, 'T1'!L67, MAX(T3_R1!K67,T3_R2!K67,T3_R3!K67))","v":20554},{"$f":"IF(AND(COUNTRY_INFO!J67>1,COUNTRY_INFO!J67<99,COUNTRY_INFO!J67<>4,COUNTRY_INFO!J67<>5),IF(COUNTRY_INFO!P67>V67,V67,COUNTRY_INFO!P67),0)","v":0},{"$f":"IF(AND(COUNTRY_INFO!J67>1,COUNTRY_INFO!J67<99,COUNTRY_INFO!J67<>4,COUNTRY_INFO!J67<>5), IF(W67/COUNTRY_INFO!P67*100<>0, IF(W67/COUNTRY_INFO!P67*100>100,100,W67/COUNTRY_INFO!P67*100), \"-\"),0)","v":0},{"$f":"MAX('MDA1'!L67,'MDA4'!T67, 'T1'!M67, MAX(T3_R1!L67,T3_R2!L67,T3_R3!L67))","v":20103},{"$f":"IF(AND(COUNTRY_INFO!J67>1,COUNTRY_INFO!J67<99,COUNTRY_INFO!J67<>4,COUNTRY_INFO!J67<>5),IF(COUNTRY_INFO!Q67>Y67,Y67,COUNTRY_INFO!Q67),0)","v":0},{"$f":"IF(AND(COUNTRY_INFO!J67>1,COUNTRY_INFO!J67<99,COUNTRY_INFO!J67<>4,COUNTRY_INFO!J67<>5), IF(Z67/COUNTRY_INFO!Q67*100<>0, IF(Z67/COUNTRY_INFO!Q67*100>100,100,Z67/COUNTRY_INFO!Q67*100), \"-\"),0)","v":0},40657,0,{"$f":"IF(AND(COUNTRY_INFO!J67>1,COUNTRY_INFO!J67<99,COUNTRY_INFO!J67<>4,COUNTRY_INFO!J67<>5), IF(AC67/P67*100<>0, IF(AC67/P67*100>100,100,AC67/P67*100), \"-\"),0)","v":0},{"$f":"COUNTRY_INFO!V67","v":0},null,null,{"$f":"MAX('T1'!K67,'T2'!R67)","v":0},{"$f":"IF(AND(COUNTRY_INFO!K67>1,COUNTRY_INFO!K67<99,COUNTRY_INFO!K67<>4,COUNTRY_INFO!K67<>5),IF(COUNTRY_INFO!S67>AH67,AH67,COUNTRY_INFO!S67),0)","v":0},{"$f":"IF(AND(COUNTRY_INFO!K67>1,COUNTRY_INFO!K67<99,COUNTRY_INFO!K67<>4,COUNTRY_INFO!K67<>5), IF(AI67/COUNTRY_INFO!S67*100<>0, IF(AI67/COUNTRY_INFO!S67*100>100,100,AI67/COUNTRY_INFO!S67*100), \"-\"),0)","v":0},{"$f":"MAX('T1'!L67,'T2'!S67)","v":0},{"$f":"IF(AND(COUNTRY_INFO!K67>1,COUNTRY_INFO!K67<99,COUNTRY_INFO!K67<>4,COUNTRY_INFO!K67<>5),IF(COUNTRY_INFO!T67>AK67,AK67,COUNTRY_INFO!T67),0)","v":0},{"$f":"IF(AND(COUNTRY_INFO!K67>1,COUNTRY_INFO!K67<99,COUNTRY_INFO!K67<>4,COUNTRY_INFO!K67<>5), IF(AL67/COUNTRY_INFO!T67*100<>0, IF(AL67/COUNTRY_INFO!T67*100>100,100,AL67/COUNTRY_INFO!T67*100), \"-\"),0)","v":0},{"$f":"MAX('T1'!M67,'T2'!T67)","v":0},{"$f":"IF(AND(COUNTRY_INFO!K67>1,COUNTRY_INFO!K67<99,COUNTRY_INFO!K67<>4,COUNTRY_INFO!K67<>5),IF(COUNTRY_INFO!U67>AN67,AN67,COUNTRY_INFO!U67),0)","v":0},{"$f":"IF(AND(COUNTRY_INFO!K67>1,COUNTRY_INFO!K67<99,COUNTRY_INFO!K67<>4,COUNTRY_INFO!K67<>5), IF(AO67/COUNTRY_INFO!U67*100<>0, IF(AO67/COUNTRY_INFO!U67*100>100,100,AO67/COUNTRY_INFO!U67*100), \"-\"),0)","v":0},0,0,{"$f":"IF(AND(COUNTRY_INFO!K67>1,COUNTRY_INFO!K67<99,COUNTRY_INFO!K67<>4,COUNTRY_INFO!K67<>5), IF(AH67/AE67*100<>0, IF(AR67/AE67*100>100,100,AR67/AE67*100), \"-\"),0)","v":0},null,{"$f":"IF(AND(D67<>0, D67<>\"Unknown\",D67<>\"Stopped\",D67<>\"Not required\"),D67/COUNTRY_INFO!D67, 0)","v":1},{"$f":"IF(AND(J67<>0,J67<>\"Unknown\",J67<>\"Stopped\",J67<>\"Not required\"),J67/COUNTRY_INFO!D67, 0)","v":0},{"$f":"IF(AND(P67<>0,P67<>\"Unknown\",P67<>\"Surveillance\",P67<>\"Not required\"),P67/COUNTRY_INFO!R67, 0)","v":0},{"$f":"IF(AND(AE67<>0,AE67<>\"Unknown\",AE67<>\"Surveillance\",AE67<>\"Not required\"),AE67/COUNTRY_INFO!V67, 0)","v":0},{"$f":"IF(AU67>0,D67*PROFILE!$G$7,IF(AV67>0,J67*PROFILE!$G$7,0))","v":5927.156774897946},{"$f":"_xlfn.IFS(OR(AU67>0,AW67>0),COUNTRY_INFO!E67, AV67>0,J67*PROFILE!$G$8,AX67>0,COUNTRY_INFO!S67,COUNTIFS(AU67:AX67,\">0\")=0,0)","v":23860},{"$f":"_xlfn.IFS(OR(AU67>0,AW67>0),COUNTRY_INFO!F67, AV67>0,J67*PROFILE!$G$9,AX67>0,COUNTRY_INFO!T67,COUNTIFS(AU67:AX67,\">0\")=0,0)","v":66578},{"$f":"_xlfn.IFS(AU67>0,COUNTRY_INFO!G67, AND(AV67>0,AW67=0,AX67=0),J67*PROFILE!$G$10,AND(AV67>0,AW67>0,AX67=0), MAX(J67*PROFILE!$G$10,COUNTRY_INFO!Q67),AND(AV67>0,AW67=0,AX67>0), MAX(J67*PROFILE!$G$10,COUNTRY_INFO!U67),AND(AV67=0,AW67>0,AX67>0), MAX(COUNTRY_INFO!Q67,COUNTRY_INFO!U67),AND(AV67=0,AW67>0,AX67=0),COUNTRY_INFO!Q67,AND(AV67=0,AW67=0,AX67>0),COUNTRY_INFO!U67,AND(AV67>0,AW67>0,AX67>0), MAX(J67*PROFILE!$G$10,COUNTRY_INFO!Q67,COUNTRY_INFO!U67),COUNTIFS(AU67:AX67,\">0\")=0,0)","v":119168},215533.15677489794,"Y",{"$f":"MAX('MDA4'!R67,S67,AH67)","v":0},{"$f":"MAX('MDA1'!K67,'MDA4'!S67,'MDA3'!I67,'MDA3'!L67,V67,AK67)","v":20554},{"$f":"MAX('MDA1'!L67,'MDA4'!T67,'MDA3'!J67,'MDA3'!M67,Y67,AN67)","v":20103},40657,{"$f":"_xlfn.IFS(AND(AU67=0,AW67=0,AX67=0),0,AND(AU67=0,AW67=0,AX67>0),AI67,AND(AU67=0,AW67>0,AX67=0),T67,AND(AU67=0,AW67>0,AX67>0),MAX(T67,AI67),AND(AU67>0,AW67=0,AX67=0),MIN('MDA4'!R67,AZ67),AND(AU67>0,AW67=0,AX67>0),MIN(MAX('MDA4'!R67,AI67),AZ67),AND(AU67>0,AW67>0,AX67=0),MIN(MAX('MDA4'!R67,T67),AZ67),AND(AU67>0,AW67>0,AX67>0),MIN(MAX('MDA4'!R67,AI67,T67),AZ67))","v":0},{"$f":"_xlfn.IFS(AND(AU67=0,AV67=0,AW67=0,AX67=0),0,AND(AU67=0,AV67=0,AW67=0,AX67>0),AL67,AND(AU67=0,AV67=0,AW67>0,AX67=0),W67,AND(AU67=0,AV67=0,AW67>0,AX67>0),MAX(W67,AL67),AND(AU67=0,AV67>0,AW67=0,AX67=0),MIN(J67*PROFILE!$G$9,MAX('MDA3'!I67,'MDA3'!L67)),AND(AU67=0,AV67>0,AW67=0,AX67>0),MIN(J67*PROFILE!$G$9,MAX('MDA3'!I67,'MDA3'!L67,AL67)),AND(AU67=0,AV67>0,AW67>0,AX67=0),MIN(J67*PROFILE!$G$9,MAX('MDA3'!I67,'MDA3'!L67,W67)),AND(AU67=0,AV67>0,AW67>0,AX67>0),MIN(J67*PROFILE!$G$9,MAX('MDA3'!I67,'MDA3'!L67,W67,AL67)),AND(AU67>0,AV67=0,AW67=0,AX67=0), MIN(BA67,MAX('MDA1'!K67,'MDA4'!S67)),AND(AU67>0,AV67=0,AW67=0,AX67>0), MIN(BA67,MAX('MDA1'!K67,'MDA4'!S67,AL67)),AND(AU67>0,AV67=0,AW67>0,AX67=0),MIN(BA67,MAX('MDA1'!K67,'MDA4'!S67,W67)),AND(AU67>0,AV67=0,AW67>0,AX67>0),MIN(BA67,MAX('MDA1'!K67,'MDA4'!S67,W67,AL67)),AND(AU67>0,AV67>0,AW67=0,AX67=0),MIN(BA67, MAX('MDA1'!K67,'MDA4'!S67,MAX('MDA3'!I67,'MDA3'!L67))), AND(AU67>0,AV67>0,AW67=0,AX67>0),MIN(BA67, MAX('MDA1'!K67,'MDA4'!S67,MAX( 'MDA3'!I67,'MDA3'!L67),AL67)), AND(AU67>0,AV67>0,AW67>0,AX67=0), MIN(BA67, MAX('MDA1'!K67,'MDA4'!S67,MAX( 'MDA3'!I67,'MDA3'!L67),W67)), AND(AU67>0,AV67>0,AW67>0,AX67>0), MIN(BA67, MAX('MDA1'!K67,'MDA4'!S67,MAX( 'MDA3'!I67,'MDA3'!L67),W67,AL67)))","v":20554},{"$f":"_xlfn.IFS(AND(AU67=0,AV67=0,AW67=0,AX67=0),0,AND(AU67=0,AV67=0,AW67=0,AX67>0),AO67,AND(AU67=0,AV67=0,AW67>0,AX67=0),Z67,AND(AU67=0,AV67=0,AW67>0,AX67>0),MAX(Z67,AO67),AND(AU67=0,AV67>0,AW67=0,AX67=0),MIN(J67*PROFILE!$G$10,MAX('MDA3'!J67,'MDA3'!J67)),AND(AU67=0,AV67>0,AW67=0,AX67>0),MIN(J67*PROFILE!$G$10,MAX('MDA3'!J67,'MDA3'!M67,AO67)),AND(AU67=0,AV67>0,AW67>0,AX67=0),MIN(J67*PROFILE!$G$10,MAX('MDA3'!J67,'MDA3'!M67,Z67)),AND(AU67=0,AV67>0,AW67>0,AX67>0),MIN(J67*PROFILE!$G$10,MAX('MDA3'!J67,'MDA3'!M67,Z67,AO67)),AND(AU67>0,AV67=0,AW67=0,AX67=0), MIN(BB67,MAX('MDA1'!L67,'MDA4'!T67)),AND(AU67>0,AV67=0,AW67=0,AX67>0), MIN(BB67,MAX('MDA1'!L67,'MDA4'!T67,AO67)),AND(AU67>0,AV67=0,AW67>0,AX67=0),MIN(BB67,MAX('MDA1'!L67,'MDA4'!T67,Z67)),AND(AU67>0,AV67=0,AW67>0,AX67>0),MIN(BB67,MAX('MDA1'!L67,'MDA4'!T67,Z67,AO67)),AND(AU67>0,AV67>0,AW67=0,AX67=0),MIN(BB67, MAX('MDA1'!L67,'MDA4'!T67,MAX( 'MDA3'!J67,'MDA3'!M67))), AND(AU67>0,AV67>0,AW67=0,AX67>0),MIN(BB67, MAX('MDA1'!L67,'MDA4'!T67,MAX( 'MDA3'!J67,'MDA3'!M67),AO67)), AND(AU67>0,AV67>0,AW67>0,AX67=0), MIN(BB67, MAX('MDA1'!L67,'MDA4'!T67,MAX( 'MDA3'!J67,'MDA3'!M67),Z67)), AND(AU67>0,AV67>0,AW67>0,AX67>0), MIN(BB67, MAX('MDA1'!L67,'MDA4'!T67,MAX( 'MDA3'!J67,'MDA3'!M67),Z67,AO67)))","v":20103},40657,18.863454982224397]
[{"$f":"IF(COUNTRY_INFO!A68=0,\" \",COUNTRY_INFO!A68)","v":"South Sudan"},{"$f":"IF(COUNTRY_INFO!B68=0,\" \",COUNTRY_INFO!B68)","v":"Upper Nile"},{"$f":"IF(COUNTRY_INFO!C68=0,\" \",COUNTRY_INFO!C68)","v":"PANYKANG"},{"$f":"COUNTRY_INFO!M68","v":77329.001000000004},null,null,{"$f":"'MDA1'!M68+'MDA4'!U68","v":35739},{"$f":"IF(AND(COUNTRY_INFO!H68>0,COUNTRY_INFO!H68<4),IF(D68>G68,G68,D68),0)","v":35739},{"$f":"IF(AND(COUNTRY_INFO!H68>0,COUNTRY_INFO!H68<4), IF(G68/D68*100<>0, IF(G68/D68*100>100,100,G68/D68*100), \"-\"),0)","v":46.216813275526469},{"$f":"COUNTRY_INFO!N68","v":"Unknown"},null,null,{"$f":"MAX('MDA1'!M68,MAX('MDA3'!I68,'MDA3'!L68)+MAX('MDA3'!J68,'MDA3'!M68))","v":35739},{"$f":"IF(AND(COUNTRY_INFO!I68>0,COUNTRY_INFO!I68<4),IF(J68>M68,M68,J68),0)","v":0},{"$f":"IF(AND(COUNTRY_INFO!I68>0,COUNTRY_INFO!I68<4), IF(M68/J68*100<>0, IF(M68/J68*100>100,100,M68/J68*100), \"-\"),0)","v":0},{"$f":"COUNTRY_INFO!R68","v":0},null,null,{"$f":"MAX('MDA4'!R68,'T1'!K68, MAX(T3_R1!J68,T3_R2!J68,T3_R3!J68))","v":0},{"$f":"IF(AND(COUNTRY_INFO!J68>1,COUNTRY_INFO!J68<99,COUNTRY_INFO!J68<>4,COUNTRY_INFO!J68<>5),IF(COUNTRY_INFO!O68>S68,S68,COUNTRY_INFO!O68),0)","v":0},{"$f":"IF(AND(COUNTRY_INFO!J68>1,COUNTRY_INFO!J68<99,COUNTRY_INFO!J68<>4,COUNTRY_INFO!J68<>5), IF(T68/COUNTRY_INFO!O68*100<>0, IF(T68/COUNTRY_INFO!O68*100>100,100,T68/COUNTRY_INFO!O68*100), \"-\"),0)","v":0},{"$f":"MAX('MDA1'!K68,'MDA4'!S68, 'T1'!L68, MAX(T3_R1!K68,T3_R2!K68,T3_R3!K68))","v":17877},{"$f":"IF(AND(COUNTRY_INFO!J68>1,COUNTRY_INFO!J68<99,COUNTRY_INFO!J68<>4,COUNTRY_INFO!J68<>5),IF(COUNTRY_INFO!P68>V68,V68,COUNTRY_INFO!P68),0)","v":0},{"$f":"IF(AND(COUNTRY_INFO!J68>1,COUNTRY_INFO!J68<99,COUNTRY_INFO!J68<>4,COUNTRY_INFO!J68<>5), IF(W68/COUNTRY_INFO!P68*100<>0, IF(W68/COUNTRY_INFO!P68*100>100,100,W68/COUNTRY_INFO!P68*100), \"-\"),0)","v":0},{"$f":"MAX('MDA1'!L68,'MDA4'!T68, 'T1'!M68, MAX(T3_R1!L68,T3_R2!L68,T3_R3!L68))","v":17862},{"$f":"IF(AND(COUNTRY_INFO!J68>1,COUNTRY_INFO!J68<99,COUNTRY_INFO!J68<>4,COUNTRY_INFO!J68<>5),IF(COUNTRY_INFO!Q68>Y68,Y68,COUNTRY_INFO!Q68),0)","v":0},{"$f":"IF(AND(COUNTRY_INFO!J68>1,COUNTRY_INFO!J68<99,COUNTRY_INFO!J68<>4,COUNTRY_INFO!J68<>5), IF(Z68/COUNTRY_INFO!Q68*100<>0, IF(Z68/COUNTRY_INFO!Q68*100>100,100,Z68/COUNTRY_INFO!Q68*100), \"-\"),0)","v":0},35739,0,{"$f":"IF(AND(COUNTRY_INFO!J68>1,COUNTRY_INFO!J68<99,COUNTRY_INFO!J68<>4,COUNTRY_INFO!J68<>5), IF(AC68/P68*100<>0, IF(AC68/P68*100>100,100,AC68/P68*100), \"-\"),0)","v":0},{"$f":"COUNTRY_INFO!V68","v":0},null,null,{"$f":"MAX('T1'!K68,'T2'!R68)","v":0},{"$f":"IF(AND(COUNTRY_INFO!K68>1,COUNTRY_INFO!K68<99,COUNTRY_INFO!K68<>4,COUNTRY_INFO!K68<>5),IF(COUNTRY_INFO!S68>AH68,AH68,COUNTRY_INFO!S68),0)","v":0},{"$f":"IF(AND(COUNTRY_INFO!K68>1,COUNTRY_INFO!K68<99,COUNTRY_INFO!K68<>4,COUNTRY_INFO!K68<>5), IF(AI68/COUNTRY_INFO!S68*100<>0, IF(AI68/COUNTRY_INFO!S68*100>100,100,AI68/COUNTRY_INFO!S68*100), \"-\"),0)","v":0},{"$f":"MAX('T1'!L68,'T2'!S68)","v":0},{"$f":"IF(AND(COUNTRY_INFO!K68>1,COUNTRY_INFO!K68<99,COUNTRY_INFO!K68<>4,COUNTRY_INFO!K68<>5),IF(COUNTRY_INFO!T68>AK68,AK68,COUNTRY_INFO!T68),0)","v":0},{"$f":"IF(AND(COUNTRY_INFO!K68>1,COUNTRY_INFO!K68<99,COUNTRY_INFO!K68<>4,COUNTRY_INFO!K68<>5), IF(AL68/COUNTRY_INFO!T68*100<>0, IF(AL68/COUNTRY_INFO!T68*100>100,100,AL68/COUNTRY_INFO!T68*100), \"-\"),0)","v":0},{"$f":"MAX('T1'!M68,'T2'!T68)","v":0},{"$f":"IF(AND(COUNTRY_INFO!K68>1,COUNTRY_INFO!K68<99,COUNTRY_INFO!K68<>4,COUNTRY_INFO!K68<>5),IF(COUNTRY_INFO!U68>AN68,AN68,COUNTRY_INFO!U68),0)","v":0},{"$f":"IF(AND(COUNTRY_INFO!K68>1,COUNTRY_INFO!K68<99,COUNTRY_INFO!K68<>4,COUNTRY_INFO!K68<>5), IF(AO68/COUNTRY_INFO!U68*100<>0, IF(AO68/COUNTRY_INFO!U68*100>100,100,AO68/COUNTRY_INFO!U68*100), \"-\"),0)","v":0},0,0,{"$f":"IF(AND(COUNTRY_INFO!K68>1,COUNTRY_INFO!K68<99,COUNTRY_INFO!K68<>4,COUNTRY_INFO!K68<>5), IF(AH68/AE68*100<>0, IF(AR68/AE68*100>100,100,AR68/AE68*100), \"-\"),0)","v":0},null,{"$f":"IF(AND(D68<>0, D68<>\"Unknown\",D68<>\"Stopped\",D68<>\"Not required\"),D68/COUNTRY_INFO!D68, 0)","v":1},{"$f":"IF(AND(J68<>0,J68<>\"Unknown\",J68<>\"Stopped\",J68<>\"Not required\"),J68/COUNTRY_INFO!D68, 0)","v":0},{"$f":"IF(AND(P68<>0,P68<>\"Unknown\",P68<>\"Surveillance\",P68<>\"Not required\"),P68/COUNTRY_INFO!R68, 0)","v":0},{"$f":"IF(AND(AE68<>0,AE68<>\"Unknown\",AE68<>\"Surveillance\",AE68<>\"Not required\"),AE68/COUNTRY_INFO!V68, 0)","v":0},{"$f":"IF(AU68>0,D68*PROFILE!$G$7,IF(AV68>0,J68*PROFILE!$G$7,0))","v":2126.5422857847284},{"$f":"_xlfn.IFS(OR(AU68>0,AW68>0),COUNTRY_INFO!E68, AV68>0,J68*PROFILE!$G$8,AX68>0,COUNTRY_INFO!S68,COUNTIFS(AU68:AX68,\">0\")=0,0)","v":8560},{"$f":"_xlfn.IFS(OR(AU68>0,AW68>0),COUNTRY_INFO!F68, AV68>0,J68*PROFILE!$G$9,AX68>0,COUNTRY_INFO!T68,COUNTIFS(AU68:AX68,\">0\")=0,0)","v":23887},{"$f":"_xlfn.IFS(AU68>0,COUNTRY_INFO!G68, AND(AV68>0,AW68=0,AX68=0),J68*PROFILE!$G$10,AND(AV68>0,AW68>0,AX68=0), MAX(J68*PROFILE!$G$10,COUNTRY_INFO!Q68),AND(AV68>0,AW68=0,AX68>0), MAX(J68*PROFILE!$G$10,COUNTRY_INFO!U68),AND(AV68=0,AW68>0,AX68>0), MAX(COUNTRY_INFO!Q68,COUNTRY_INFO!U68),AND(AV68=0,AW68>0,AX68=0),COUNTRY_INFO!Q68,AND(AV68=0,AW68=0,AX68>0),COUNTRY_INFO!U68,AND(AV68>0,AW68>0,AX68>0), MAX(J68*PROFILE!$G$10,COUNTRY_INFO!Q68,COUNTRY_INFO!U68),COUNTIFS(AU68:AX68,\">0\")=0,0)","v":42755},77328.54228578473,"Y",{"$f":"MAX('MDA4'!R68,S68,AH68)","v":0},{"$f":"MAX('MDA1'!K68,'MDA4'!S68,'MDA3'!I68,'MDA3'!L68,V68,AK68)","v":17877},{"$f":"MAX('MDA1'!L68,'MDA4'!T68,'MDA3'!J68,'MDA3'!M68,Y68,AN68)","v":17862},35739,{"$f":"_xlfn.IFS(AND(AU68=0,AW68=0,AX68=0),0,AND(AU68=0,AW68=0,AX68>0),AI68,AND(AU68=0,AW68>0,AX68=0),T68,AND(AU68=0,AW68>0,AX68>0),MAX(T68,AI68),AND(AU68>0,AW68=0,AX68=0),MIN('MDA4'!R68,AZ68),AND(AU68>0,AW68=0,AX68>0),MIN(MAX('MDA4'!R68,AI68),AZ68),AND(AU68>0,AW68>0,AX68=0),MIN(MAX('MDA4'!R68,T68),AZ68),AND(AU68>0,AW68>0,AX68>0),MIN(MAX('MDA4'!R68,AI68,T68),AZ68))","v":0},{"$f":"_xlfn.IFS(AND(AU68=0,AV68=0,AW68=0,AX68=0),0,AND(AU68=0,AV68=0,AW68=0,AX68>0),AL68,AND(AU68=0,AV68=0,AW68>0,AX68=0),W68,AND(AU68=0,AV68=0,AW68>0,AX68>0),MAX(W68,AL68),AND(AU68=0,AV68>0,AW68=0,AX68=0),MIN(J68*PROFILE!$G$9,MAX('MDA3'!I68,'MDA3'!L68)),AND(AU68=0,AV68>0,AW68=0,AX68>0),MIN(J68*PROFILE!$G$9,MAX('MDA3'!I68,'MDA3'!L68,AL68)),AND(AU68=0,AV68>0,AW68>0,AX68=0),MIN(J68*PROFILE!$G$9,MAX('MDA3'!I68,'MDA3'!L68,W68)),AND(AU68=0,AV68>0,AW68>0,AX68>0),MIN(J68*PROFILE!$G$9,MAX('MDA3'!I68,'MDA3'!L68,W68,AL68)),AND(AU68>0,AV68=0,AW68=0,AX68=0), MIN(BA68,MAX('MDA1'!K68,'MDA4'!S68)),AND(AU68>0,AV68=0,AW68=0,AX68>0), MIN(BA68,MAX('MDA1'!K68,'MDA4'!S68,AL68)),AND(AU68>0,AV68=0,AW68>0,AX68=0),MIN(BA68,MAX('MDA1'!K68,'MDA4'!S68,W68)),AND(AU68>0,AV68=0,AW68>0,AX68>0),MIN(BA68,MAX('MDA1'!K68,'MDA4'!S68,W68,AL68)),AND(AU68>0,AV68>0,AW68=0,AX68=0),MIN(BA68, MAX('MDA1'!K68,'MDA4'!S68,MAX('MDA3'!I68,'MDA3'!L68))), AND(AU68>0,AV68>0,AW68=0,AX68>0),MIN(BA68, MAX('MDA1'!K68,'MDA4'!S68,MAX( 'MDA3'!I68,'MDA3'!L68),AL68)), AND(AU68>0,AV68>0,AW68>0,AX68=0), MIN(BA68, MAX('MDA1'!K68,'MDA4'!S68,MAX( 'MDA3'!I68,'MDA3'!L68),W68)), AND(AU68>0,AV68>0,AW68>0,AX68>0), MIN(BA68, MAX('MDA1'!K68,'MDA4'!S68,MAX( 'MDA3'!I68,'MDA3'!L68),W68,AL68)))","v":17877},{"$f":"_xlfn.IFS(AND(AU68=0,AV68=0,AW68=0,AX68=0),0,AND(AU68=0,AV68=0,AW68=0,AX68>0),AO68,AND(AU68=0,AV68=0,AW68>0,AX68=0),Z68,AND(AU68=0,AV68=0,AW68>0,AX68>0),MAX(Z68,AO68),AND(AU68=0,AV68>0,AW68=0,AX68=0),MIN(J68*PROFILE!$G$10,MAX('MDA3'!J68,'MDA3'!J68)),AND(AU68=0,AV68>0,AW68=0,AX68>0),MIN(J68*PROFILE!$G$10,MAX('MDA3'!J68,'MDA3'!M68,AO68)),AND(AU68=0,AV68>0,AW68>0,AX68=0),MIN(J68*PROFILE!$G$10,MAX('MDA3'!J68,'MDA3'!M68,Z68)),AND(AU68=0,AV68>0,AW68>0,AX68>0),MIN(J68*PROFILE!$G$10,MAX('MDA3'!J68,'MDA3'!M68,Z68,AO68)),AND(AU68>0,AV68=0,AW68=0,AX68=0), MIN(BB68,MAX('MDA1'!L68,'MDA4'!T68)),AND(AU68>0,AV68=0,AW68=0,AX68>0), MIN(BB68,MAX('MDA1'!L68,'MDA4'!T68,AO68)),AND(AU68>0,AV68=0,AW68>0,AX68=0),MIN(BB68,MAX('MDA1'!L68,'MDA4'!T68,Z68)),AND(AU68>0,AV68=0,AW68>0,AX68>0),MIN(BB68,MAX('MDA1'!L68,'MDA4'!T68,Z68,AO68)),AND(AU68>0,AV68>0,AW68=0,AX68=0),MIN(BB68, MAX('MDA1'!L68,'MDA4'!T68,MAX( 'MDA3'!J68,'MDA3'!M68))), AND(AU68>0,AV68>0,AW68=0,AX68>0),MIN(BB68, MAX('MDA1'!L68,'MDA4'!T68,MAX( 'MDA3'!J68,'MDA3'!M68),AO68)), AND(AU68>0,AV68>0,AW68>0,AX68=0), MIN(BB68, MAX('MDA1'!L68,'MDA4'!T68,MAX( 'MDA3'!J68,'MDA3'!M68),Z68)), AND(AU68>0,AV68>0,AW68>0,AX68>0), MIN(BB68, MAX('MDA1'!L68,'MDA4'!T68,MAX( 'MDA3'!J68,'MDA3'!M68),Z68,AO68)))","v":17862},35739,46.217087434441247]
[{"$f":"IF(COUNTRY_INFO!A69=0,\" \",COUNTRY_INFO!A69)","v":"South Sudan"},{"$f":"IF(COUNTRY_INFO!B69=0,\" \",COUNTRY_INFO!B69)","v":"Warrap"},{"$f":"IF(COUNTRY_INFO!C69=0,\" \",COUNTRY_INFO!C69)","v":"ABYEI"},{"$f":"COUNTRY_INFO!M69","v":0},null,null,{"$f":"'MDA1'!M69+'MDA4'!U69","v":0},{"$f":"IF(AND(COUNTRY_INFO!H69>0,COUNTRY_INFO!H69<4),IF(D69>G69,G69,D69),0)","v":0},{"$f":"IF(AND(COUNTRY_INFO!H69>0,COUNTRY_INFO!H69<4), IF(G69/D69*100<>0, IF(G69/D69*100>100,100,G69/D69*100), \"-\"),0)","v":0},{"$f":"COUNTRY_INFO!N69","v":"Unknown"},null,null,{"$f":"MAX('MDA1'!M69,MAX('MDA3'!I69,'MDA3'!L69)+MAX('MDA3'!J69,'MDA3'!M69))","v":0},{"$f":"IF(AND(COUNTRY_INFO!I69>0,COUNTRY_INFO!I69<4),IF(J69>M69,M69,J69),0)","v":0},{"$f":"IF(AND(COUNTRY_INFO!I69>0,COUNTRY_INFO!I69<4), IF(M69/J69*100<>0, IF(M69/J69*100>100,100,M69/J69*100), \"-\"),0)","v":0},{"$f":"COUNTRY_INFO!R69","v":0},null,null,{"$f":"MAX('MDA4'!R69,'T1'!K69, MAX(T3_R1!J69,T3_R2!J69,T3_R3!J69))","v":0},{"$f":"IF(AND(COUNTRY_INFO!J69>1,COUNTRY_INFO!J69<99,COUNTRY_INFO!J69<>4,COUNTRY_INFO!J69<>5),IF(COUNTRY_INFO!O69>S69,S69,COUNTRY_INFO!O69),0)","v":0},{"$f":"IF(AND(COUNTRY_INFO!J69>1,COUNTRY_INFO!J69<99,COUNTRY_INFO!J69<>4,COUNTRY_INFO!J69<>5), IF(T69/COUNTRY_INFO!O69*100<>0, IF(T69/COUNTRY_INFO!O69*100>100,100,T69/COUNTRY_INFO!O69*100), \"-\"),0)","v":0},{"$f":"MAX('MDA1'!K69,'MDA4'!S69, 'T1'!L69, MAX(T3_R1!K69,T3_R2!K69,T3_R3!K69))","v":0},{"$f":"IF(AND(COUNTRY_INFO!J69>1,COUNTRY_INFO!J69<99,COUNTRY_INFO!J69<>4,COUNTRY_INFO!J69<>5),IF(COUNTRY_INFO!P69>V69,V69,COUNTRY_INFO!P69),0)","v":0},{"$f":"IF(AND(COUNTRY_INFO!J69>1,COUNTRY_INFO!J69<99,COUNTRY_INFO!J69<>4,COUNTRY_INFO!J69<>5), IF(W69/COUNTRY_INFO!P69*100<>0, IF(W69/COUNTRY_INFO!P69*100>100,100,W69/COUNTRY_INFO!P69*100), \"-\"),0)","v":0},{"$f":"MAX('MDA1'!L69,'MDA4'!T69, 'T1'!M69, MAX(T3_R1!L69,T3_R2!L69,T3_R3!L69))","v":0},{"$f":"IF(AND(COUNTRY_INFO!J69>1,COUNTRY_INFO!J69<99,COUNTRY_INFO!J69<>4,COUNTRY_INFO!J69<>5),IF(COUNTRY_INFO!Q69>Y69,Y69,COUNTRY_INFO!Q69),0)","v":0},{"$f":"IF(AND(COUNTRY_INFO!J69>1,COUNTRY_INFO!J69<99,COUNTRY_INFO!J69<>4,COUNTRY_INFO!J69<>5), IF(Z69/COUNTRY_INFO!Q69*100<>0, IF(Z69/COUNTRY_INFO!Q69*100>100,100,Z69/COUNTRY_INFO!Q69*100), \"-\"),0)","v":0},0,0,{"$f":"IF(AND(COUNTRY_INFO!J69>1,COUNTRY_INFO!J69<99,COUNTRY_INFO!J69<>4,COUNTRY_INFO!J69<>5), IF(AC69/P69*100<>0, IF(AC69/P69*100>100,100,AC69/P69*100), \"-\"),0)","v":0},{"$f":"COUNTRY_INFO!V69","v":0},null,null,{"$f":"MAX('T1'!K69,'T2'!R69)","v":0},{"$f":"IF(AND(COUNTRY_INFO!K69>1,COUNTRY_INFO!K69<99,COUNTRY_INFO!K69<>4,COUNTRY_INFO!K69<>5),IF(COUNTRY_INFO!S69>AH69,AH69,COUNTRY_INFO!S69),0)","v":0},{"$f":"IF(AND(COUNTRY_INFO!K69>1,COUNTRY_INFO!K69<99,COUNTRY_INFO!K69<>4,COUNTRY_INFO!K69<>5), IF(AI69/COUNTRY_INFO!S69*100<>0, IF(AI69/COUNTRY_INFO!S69*100>100,100,AI69/COUNTRY_INFO!S69*100), \"-\"),0)","v":0},{"$f":"MAX('T1'!L69,'T2'!S69)","v":0},{"$f":"IF(AND(COUNTRY_INFO!K69>1,COUNTRY_INFO!K69<99,COUNTRY_INFO!K69<>4,COUNTRY_INFO!K69<>5),IF(COUNTRY_INFO!T69>AK69,AK69,COUNTRY_INFO!T69),0)","v":0},{"$f":"IF(AND(COUNTRY_INFO!K69>1,COUNTRY_INFO!K69<99,COUNTRY_INFO!K69<>4,COUNTRY_INFO!K69<>5), IF(AL69/COUNTRY_INFO!T69*100<>0, IF(AL69/COUNTRY_INFO!T69*100>100,100,AL69/COUNTRY_INFO!T69*100), \"-\"),0)","v":0},{"$f":"MAX('T1'!M69,'T2'!T69)","v":0},{"$f":"IF(AND(COUNTRY_INFO!K69>1,COUNTRY_INFO!K69<99,COUNTRY_INFO!K69<>4,COUNTRY_INFO!K69<>5),IF(COUNTRY_INFO!U69>AN69,AN69,COUNTRY_INFO!U69),0)","v":0},{"$f":"IF(AND(COUNTRY_INFO!K69>1,COUNTRY_INFO!K69<99,COUNTRY_INFO!K69<>4,COUNTRY_INFO!K69<>5), IF(AO69/COUNTRY_INFO!U69*100<>0, IF(AO69/COUNTRY_INFO!U69*100>100,100,AO69/COUNTRY_INFO!U69*100), \"-\"),0)","v":0},0,0,{"$f":"IF(AND(COUNTRY_INFO!K69>1,COUNTRY_INFO!K69<99,COUNTRY_INFO!K69<>4,COUNTRY_INFO!K69<>5), IF(AH69/AE69*100<>0, IF(AR69/AE69*100>100,100,AR69/AE69*100), \"-\"),0)","v":0},null,{"$f":"IF(AND(D69<>0, D69<>\"Unknown\",D69<>\"Stopped\",D69<>\"Not required\"),D69/COUNTRY_INFO!D69, 0)","v":0},{"$f":"IF(AND(J69<>0,J69<>\"Unknown\",J69<>\"Stopped\",J69<>\"Not required\"),J69/COUNTRY_INFO!D69, 0)","v":0},{"$f":"IF(AND(P69<>0,P69<>\"Unknown\",P69<>\"Surveillance\",P69<>\"Not required\"),P69/COUNTRY_INFO!R69, 0)","v":0},{"$f":"IF(AND(AE69<>0,AE69<>\"Unknown\",AE69<>\"Surveillance\",AE69<>\"Not required\"),AE69/COUNTRY_INFO!V69, 0)","v":0},{"$f":"IF(AU69>0,D69*PROFILE!$G$7,IF(AV69>0,J69*PROFILE!$G$7,0))","v":0},{"$f":"_xlfn.IFS(OR(AU69>0,AW69>0),COUNTRY_INFO!E69, AV69>0,J69*PROFILE!$G$8,AX69>0,COUNTRY_INFO!S69,COUNTIFS(AU69:AX69,\">0\")=0,0)","v":0},{"$f":"_xlfn.IFS(OR(AU69>0,AW69>0),COUNTRY_INFO!F69, AV69>0,J69*PROFILE!$G$9,AX69>0,COUNTRY_INFO!T69,COUNTIFS(AU69:AX69,\">0\")=0,0)","v":0},{"$f":"_xlfn.IFS(AU69>0,COUNTRY_INFO!G69, AND(AV69>0,AW69=0,AX69=0),J69*PROFILE!$G$10,AND(AV69>0,AW69>0,AX69=0), MAX(J69*PROFILE!$G$10,COUNTRY_INFO!Q69),AND(AV69>0,AW69=0,AX69>0), MAX(J69*PROFILE!$G$10,COUNTRY_INFO!U69),AND(AV69=0,AW69>0,AX69>0), MAX(COUNTRY_INFO!Q69,COUNTRY_INFO!U69),AND(AV69=0,AW69>0,AX69=0),COUNTRY_INFO!Q69,AND(AV69=0,AW69=0,AX69>0),COUNTRY_INFO!U69,AND(AV69>0,AW69>0,AX69>0), MAX(J69*PROFILE!$G$10,COUNTRY_INFO!Q69,COUNTRY_INFO!U69),COUNTIFS(AU69:AX69,\">0\")=0,0)","v":0},0,0,{"$f":"MAX('MDA4'!R69,S69,AH69)","v":0},{"$f":"MAX('MDA1'!K69,'MDA4'!S69,'MDA3'!I69,'MDA3'!L69,V69,AK69)","v":0},{"$f":"MAX('MDA1'!L69,'MDA4'!T69,'MDA3'!J69,'MDA3'!M69,Y69,AN69)","v":0},0,{"$f":"_xlfn.IFS(AND(AU69=0,AW69=0,AX69=0),0,AND(AU69=0,AW69=0,AX69>0),AI69,AND(AU69=0,AW69>0,AX69=0),T69,AND(AU69=0,AW69>0,AX69>0),MAX(T69,AI69),AND(AU69>0,AW69=0,AX69=0),MIN('MDA4'!R69,AZ69),AND(AU69>0,AW69=0,AX69>0),MIN(MAX('MDA4'!R69,AI69),AZ69),AND(AU69>0,AW69>0,AX69=0),MIN(MAX('MDA4'!R69,T69),AZ69),AND(AU69>0,AW69>0,AX69>0),MIN(MAX('MDA4'!R69,AI69,T69),AZ69))","v":0},{"$f":"_xlfn.IFS(AND(AU69=0,AV69=0,AW69=0,AX69=0),0,AND(AU69=0,AV69=0,AW69=0,AX69>0),AL69,AND(AU69=0,AV69=0,AW69>0,AX69=0),W69,AND(AU69=0,AV69=0,AW69>0,AX69>0),MAX(W69,AL69),AND(AU69=0,AV69>0,AW69=0,AX69=0),MIN(J69*PROFILE!$G$9,MAX('MDA3'!I69,'MDA3'!L69)),AND(AU69=0,AV69>0,AW69=0,AX69>0),MIN(J69*PROFILE!$G$9,MAX('MDA3'!I69,'MDA3'!L69,AL69)),AND(AU69=0,AV69>0,AW69>0,AX69=0),MIN(J69*PROFILE!$G$9,MAX('MDA3'!I69,'MDA3'!L69,W69)),AND(AU69=0,AV69>0,AW69>0,AX69>0),MIN(J69*PROFILE!$G$9,MAX('MDA3'!I69,'MDA3'!L69,W69,AL69)),AND(AU69>0,AV69=0,AW69=0,AX69=0), MIN(BA69,MAX('MDA1'!K69,'MDA4'!S69)),AND(AU69>0,AV69=0,AW69=0,AX69>0), MIN(BA69,MAX('MDA1'!K69,'MDA4'!S69,AL69)),AND(AU69>0,AV69=0,AW69>0,AX69=0),MIN(BA69,MAX('MDA1'!K69,'MDA4'!S69,W69)),AND(AU69>0,AV69=0,AW69>0,AX69>0),MIN(BA69,MAX('MDA1'!K69,'MDA4'!S69,W69,AL69)),AND(AU69>0,AV69>0,AW69=0,AX69=0),MIN(BA69, MAX('MDA1'!K69,'MDA4'!S69,MAX('MDA3'!I69,'MDA3'!L69))), AND(AU69>0,AV69>0,AW69=0,AX69>0),MIN(BA69, MAX('MDA1'!K69,'MDA4'!S69,MAX( 'MDA3'!I69,'MDA3'!L69),AL69)), AND(AU69>0,AV69>0,AW69>0,AX69=0), MIN(BA69, MAX('MDA1'!K69,'MDA4'!S69,MAX( 'MDA3'!I69,'MDA3'!L69),W69)), AND(AU69>0,AV69>0,AW69>0,AX69>0), MIN(BA69, MAX('MDA1'!K69,'MDA4'!S69,MAX( 'MDA3'!I69,'MDA3'!L69),W69,AL69)))","v":0},{"$f":"_xlfn.IFS(AND(AU69=0,AV69=0,AW69=0,AX69=0),0,AND(AU69=0,AV69=0,AW69=0,AX69>0),AO69,AND(AU69=0,AV69=0,AW69>0,AX69=0),Z69,AND(AU69=0,AV69=0,AW69>0,AX69>0),MAX(Z69,AO69),AND(AU69=0,AV69>0,AW69=0,AX69=0),MIN(J69*PROFILE!$G$10,MAX('MDA3'!J69,'MDA3'!J69)),AND(AU69=0,AV69>0,AW69=0,AX69>0),MIN(J69*PROFILE!$G$10,MAX('MDA3'!J69,'MDA3'!M69,AO69)),AND(AU69=0,AV69>0,AW69>0,AX69=0),MIN(J69*PROFILE!$G$10,MAX('MDA3'!J69,'MDA3'!M69,Z69)),AND(AU69=0,AV69>0,AW69>0,AX69>0),MIN(J69*PROFILE!$G$10,MAX('MDA3'!J69,'MDA3'!M69,Z69,AO69)),AND(AU69>0,AV69=0,AW69=0,AX69=0), MIN(BB69,MAX('MDA1'!L69,'MDA4'!T69)),AND(AU69>0,AV69=0,AW69=0,AX69>0), MIN(BB69,MAX('MDA1'!L69,'MDA4'!T69,AO69)),AND(AU69>0,AV69=0,AW69>0,AX69=0),MIN(BB69,MAX('MDA1'!L69,'MDA4'!T69,Z69)),AND(AU69>0,AV69=0,AW69>0,AX69>0),MIN(BB69,MAX('MDA1'!L69,'MDA4'!T69,Z69,AO69)),AND(AU69>0,AV69>0,AW69=0,AX69=0),MIN(BB69, MAX('MDA1'!L69,'MDA4'!T69,MAX( 'MDA3'!J69,'MDA3'!M69))), AND(AU69>0,AV69>0,AW69=0,AX69>0),MIN(BB69, MAX('MDA1'!L69,'MDA4'!T69,MAX( 'MDA3'!J69,'MDA3'!M69),AO69)), AND(AU69>0,AV69>0,AW69>0,AX69=0), MIN(BB69, MAX('MDA1'!L69,'MDA4'!T69,MAX( 'MDA3'!J69,'MDA3'!M69),Z69)), AND(AU69>0,AV69>0,AW69>0,AX69>0), MIN(BB69, MAX('MDA1'!L69,'MDA4'!T69,MAX( 'MDA3'!J69,'MDA3'!M69),Z69,AO69)))","v":0},0,0]
[{"$f":"IF(COUNTRY_INFO!A70=0,\" \",COUNTRY_INFO!A70)","v":"South Sudan"},{"$f":"IF(COUNTRY_INFO!B70=0,\" \",COUNTRY_INFO!B70)","v":"Warrap"},{"$f":"IF(COUNTRY_INFO!C70=0,\" \",COUNTRY_INFO!C70)","v":"TWIC"},{"$f":"COUNTRY_INFO!M70","v":343023.97970000003},null,null,{"$f":"'MDA1'!M70+'MDA4'!U70","v":132151},{"$f":"IF(AND(COUNTRY_INFO!H70>0,COUNTRY_INFO!H70<4),IF(D70>G70,G70,D70),0)","v":132151},{"$f":"IF(AND(COUNTRY_INFO!H70>0,COUNTRY_INFO!H70<4), IF(G70/D70*100<>0, IF(G70/D70*100>100,100,G70/D70*100), \"-\"),0)","v":38.525294970799379},{"$f":"COUNTRY_INFO!N70","v":343023.97970000003},null,null,{"$f":"MAX('MDA1'!M70,MAX('MDA3'!I70,'MDA3'!L70)+MAX('MDA3'!J70,'MDA3'!M70))","v":132151},{"$f":"IF(AND(COUNTRY_INFO!I70>0,COUNTRY_INFO!I70<4),IF(J70>M70,M70,J70),0)","v":132151},{"$f":"IF(AND(COUNTRY_INFO!I70>0,COUNTRY_INFO!I70<4), IF(M70/J70*100<>0, IF(M70/J70*100>100,100,M70/J70*100), \"-\"),0)","v":38.525294970799379},{"$f":"COUNTRY_INFO!R70","v":0},null,null,{"$f":"MAX('MDA4'!R70,'T1'!K70, MAX(T3_R1!J70,T3_R2!J70,T3_R3!J70))","v":0},{"$f":"IF(AND(COUNTRY_INFO!J70>1,COUNTRY_INFO!J70<99,COUNTRY_INFO!J70<>4,COUNTRY_INFO!J70<>5),IF(COUNTRY_INFO!O70>S70,S70,COUNTRY_INFO!O70),0)","v":0},{"$f":"IF(AND(COUNTRY_INFO!J70>1,COUNTRY_INFO!J70<99,COUNTRY_INFO!J70<>4,COUNTRY_INFO!J70<>5), IF(T70/COUNTRY_INFO!O70*100<>0, IF(T70/COUNTRY_INFO!O70*100>100,100,T70/COUNTRY_INFO!O70*100), \"-\"),0)","v":0},{"$f":"MAX('MDA1'!K70,'MDA4'!S70, 'T1'!L70, MAX(T3_R1!K70,T3_R2!K70,T3_R3!K70))","v":64416},{"$f":"IF(AND(COUNTRY_INFO!J70>1,COUNTRY_INFO!J70<99,COUNTRY_INFO!J70<>4,COUNTRY_INFO!J70<>5),IF(COUNTRY_INFO!P70>V70,V70,COUNTRY_INFO!P70),0)","v":0},{"$f":"IF(AND(COUNTRY_INFO!J70>1,COUNTRY_INFO!J70<99,COUNTRY_INFO!J70<>4,COUNTRY_INFO!J70<>5), IF(W70/COUNTRY_INFO!P70*100<>0, IF(W70/COUNTRY_INFO!P70*100>100,100,W70/COUNTRY_INFO!P70*100), \"-\"),0)","v":0},{"$f":"MAX('MDA1'!L70,'MDA4'!T70, 'T1'!M70, MAX(T3_R1!L70,T3_R2!L70,T3_R3!L70))","v":67735},{"$f":"IF(AND(COUNTRY_INFO!J70>1,COUNTRY_INFO!J70<99,COUNTRY_INFO!J70<>4,COUNTRY_INFO!J70<>5),IF(COUNTRY_INFO!Q70>Y70,Y70,COUNTRY_INFO!Q70),0)","v":0},{"$f":"IF(AND(COUNTRY_INFO!J70>1,COUNTRY_INFO!J70<99,COUNTRY_INFO!J70<>4,COUNTRY_INFO!J70<>5), IF(Z70/COUNTRY_INFO!Q70*100<>0, IF(Z70/COUNTRY_INFO!Q70*100>100,100,Z70/COUNTRY_INFO!Q70*100), \"-\"),0)","v":0},132151,0,{"$f":"IF(AND(COUNTRY_INFO!J70>1,COUNTRY_INFO!J70<99,COUNTRY_INFO!J70<>4,COUNTRY_INFO!J70<>5), IF(AC70/P70*100<>0, IF(AC70/P70*100>100,100,AC70/P70*100), \"-\"),0)","v":0},{"$f":"COUNTRY_INFO!V70","v":0},null,null,{"$f":"MAX('T1'!K70,'T2'!R70)","v":0},{"$f":"IF(AND(COUNTRY_INFO!K70>1,COUNTRY_INFO!K70<99,COUNTRY_INFO!K70<>4,COUNTRY_INFO!K70<>5),IF(COUNTRY_INFO!S70>AH70,AH70,COUNTRY_INFO!S70),0)","v":0},{"$f":"IF(AND(COUNTRY_INFO!K70>1,COUNTRY_INFO!K70<99,COUNTRY_INFO!K70<>4,COUNTRY_INFO!K70<>5), IF(AI70/COUNTRY_INFO!S70*100<>0, IF(AI70/COUNTRY_INFO!S70*100>100,100,AI70/COUNTRY_INFO!S70*100), \"-\"),0)","v":0},{"$f":"MAX('T1'!L70,'T2'!S70)","v":0},{"$f":"IF(AND(COUNTRY_INFO!K70>1,COUNTRY_INFO!K70<99,COUNTRY_INFO!K70<>4,COUNTRY_INFO!K70<>5),IF(COUNTRY_INFO!T70>AK70,AK70,COUNTRY_INFO!T70),0)","v":0},{"$f":"IF(AND(COUNTRY_INFO!K70>1,COUNTRY_INFO!K70<99,COUNTRY_INFO!K70<>4,COUNTRY_INFO!K70<>5), IF(AL70/COUNTRY_INFO!T70*100<>0, IF(AL70/COUNTRY_INFO!T70*100>100,100,AL70/COUNTRY_INFO!T70*100), \"-\"),0)","v":0},{"$f":"MAX('T1'!M70,'T2'!T70)","v":0},{"$f":"IF(AND(COUNTRY_INFO!K70>1,COUNTRY_INFO!K70<99,COUNTRY_INFO!K70<>4,COUNTRY_INFO!K70<>5),IF(COUNTRY_INFO!U70>AN70,AN70,COUNTRY_INFO!U70),0)","v":0},{"$f":"IF(AND(COUNTRY_INFO!K70>1,COUNTRY_INFO!K70<99,COUNTRY_INFO!K70<>4,COUNTRY_INFO!K70<>5), IF(AO70/COUNTRY_INFO!U70*100<>0, IF(AO70/COUNTRY_INFO!U70*100>100,100,AO70/COUNTRY_INFO!U70*100), \"-\"),0)","v":0},0,0,{"$f":"IF(AND(COUNTRY_INFO!K70>1,COUNTRY_INFO!K70<99,COUNTRY_INFO!K70<>4,COUNTRY_INFO!K70<>5), IF(AH70/AE70*100<>0, IF(AR70/AE70*100>100,100,AR70/AE70*100), \"-\"),0)","v":0},null,{"$f":"IF(AND(D70<>0, D70<>\"Unknown\",D70<>\"Stopped\",D70<>\"Not required\"),D70/COUNTRY_INFO!D70, 0)","v":1},{"$f":"IF(AND(J70<>0,J70<>\"Unknown\",J70<>\"Stopped\",J70<>\"Not required\"),J70/COUNTRY_INFO!D70, 0)","v":1},{"$f":"IF(AND(P70<>0,P70<>\"Unknown\",P70<>\"Surveillance\",P70<>\"Not required\"),P70/COUNTRY_INFO!R70, 0)","v":0},{"$f":"IF(AND(AE70<>0,AE70<>\"Unknown\",AE70<>\"Surveillance\",AE70<>\"Not required\"),AE70/COUNTRY_INFO!V70, 0)","v":0},{"$f":"IF(AU70>0,D70*PROFILE!$G$7,IF(AV70>0,J70*PROFILE!$G$7,0))","v":9433.1361900073207},{"$f":"_xlfn.IFS(OR(AU70>0,AW70>0),COUNTRY_INFO!E70, AV70>0,J70*PROFILE!$G$8,AX70>0,COUNTRY_INFO!S70,COUNTIFS(AU70:AX70,\">0\")=0,0)","v":37973},{"$f":"_xlfn.IFS(OR(AU70>0,AW70>0),COUNTRY_INFO!F70, AV70>0,J70*PROFILE!$G$9,AX70>0,COUNTRY_INFO!T70,COUNTIFS(AU70:AX70,\">0\")=0,0)","v":105960},{"$f":"_xlfn.IFS(AU70>0,COUNTRY_INFO!G70, AND(AV70>0,AW70=0,AX70=0),J70*PROFILE!$G$10,AND(AV70>0,AW70>0,AX70=0), MAX(J70*PROFILE!$G$10,COUNTRY_INFO!Q70),AND(AV70>0,AW70=0,AX70>0), MAX(J70*PROFILE!$G$10,COUNTRY_INFO!U70),AND(AV70=0,AW70>0,AX70>0), MAX(COUNTRY_INFO!Q70,COUNTRY_INFO!U70),AND(AV70=0,AW70>0,AX70=0),COUNTRY_INFO!Q70,AND(AV70=0,AW70=0,AX70>0),COUNTRY_INFO!U70,AND(AV70>0,AW70>0,AX70>0), MAX(J70*PROFILE!$G$10,COUNTRY_INFO!Q70,COUNTRY_INFO!U70),COUNTIFS(AU70:AX70,\">0\")=0,0)","v":189658},343024.13619000732,"Y",{"$f":"MAX('MDA4'!R70,S70,AH70)","v":0},{"$f":"MAX('MDA1'!K70,'MDA4'!S70,'MDA3'!I70,'MDA3'!L70,V70,AK70)","v":64416},{"$f":"MAX('MDA1'!L70,'MDA4'!T70,'MDA3'!J70,'MDA3'!M70,Y70,AN70)","v":67735},132151,{"$f":"_xlfn.IFS(AND(AU70=0,AW70=0,AX70=0),0,AND(AU70=0,AW70=0,AX70>0),AI70,AND(AU70=0,AW70>0,AX70=0),T70,AND(AU70=0,AW70>0,AX70>0),MAX(T70,AI70),AND(AU70>0,AW70=0,AX70=0),MIN('MDA4'!R70,AZ70),AND(AU70>0,AW70=0,AX70>0),MIN(MAX('MDA4'!R70,AI70),AZ70),AND(AU70>0,AW70>0,AX70=0),MIN(MAX('MDA4'!R70,T70),AZ70),AND(AU70>0,AW70>0,AX70>0),MIN(MAX('MDA4'!R70,AI70,T70),AZ70))","v":0},{"$f":"_xlfn.IFS(AND(AU70=0,AV70=0,AW70=0,AX70=0),0,AND(AU70=0,AV70=0,AW70=0,AX70>0),AL70,AND(AU70=0,AV70=0,AW70>0,AX70=0),W70,AND(AU70=0,AV70=0,AW70>0,AX70>0),MAX(W70,AL70),AND(AU70=0,AV70>0,AW70=0,AX70=0),MIN(J70*PROFILE!$G$9,MAX('MDA3'!I70,'MDA3'!L70)),AND(AU70=0,AV70>0,AW70=0,AX70>0),MIN(J70*PROFILE!$G$9,MAX('MDA3'!I70,'MDA3'!L70,AL70)),AND(AU70=0,AV70>0,AW70>0,AX70=0),MIN(J70*PROFILE!$G$9,MAX('MDA3'!I70,'MDA3'!L70,W70)),AND(AU70=0,AV70>0,AW70>0,AX70>0),MIN(J70*PROFILE!$G$9,MAX('MDA3'!I70,'MDA3'!L70,W70,AL70)),AND(AU70>0,AV70=0,AW70=0,AX70=0), MIN(BA70,MAX('MDA1'!K70,'MDA4'!S70)),AND(AU70>0,AV70=0,AW70=0,AX70>0), MIN(BA70,MAX('MDA1'!K70,'MDA4'!S70,AL70)),AND(AU70>0,AV70=0,AW70>0,AX70=0),MIN(BA70,MAX('MDA1'!K70,'MDA4'!S70,W70)),AND(AU70>0,AV70=0,AW70>0,AX70>0),MIN(BA70,MAX('MDA1'!K70,'MDA4'!S70,W70,AL70)),AND(AU70>0,AV70>0,AW70=0,AX70=0),MIN(BA70, MAX('MDA1'!K70,'MDA4'!S70,MAX('MDA3'!I70,'MDA3'!L70))), AND(AU70>0,AV70>0,AW70=0,AX70>0),MIN(BA70, MAX('MDA1'!K70,'MDA4'!S70,MAX( 'MDA3'!I70,'MDA3'!L70),AL70)), AND(AU70>0,AV70>0,AW70>0,AX70=0), MIN(BA70, MAX('MDA1'!K70,'MDA4'!S70,MAX( 'MDA3'!I70,'MDA3'!L70),W70)), AND(AU70>0,AV70>0,AW70>0,AX70>0), MIN(BA70, MAX('MDA1'!K70,'MDA4'!S70,MAX( 'MDA3'!I70,'MDA3'!L70),W70,AL70)))","v":64416},{"$f":"_xlfn.IFS(AND(AU70=0,AV70=0,AW70=0,AX70=0),0,AND(AU70=0,AV70=0,AW70=0,AX70>0),AO70,AND(AU70=0,AV70=0,AW70>0,AX70=0),Z70,AND(AU70=0,AV70=0,AW70>0,AX70>0),MAX(Z70,AO70),AND(AU70=0,AV70>0,AW70=0,AX70=0),MIN(J70*PROFILE!$G$10,MAX('MDA3'!J70,'MDA3'!J70)),AND(AU70=0,AV70>0,AW70=0,AX70>0),MIN(J70*PROFILE!$G$10,MAX('MDA3'!J70,'MDA3'!M70,AO70)),AND(AU70=0,AV70>0,AW70>0,AX70=0),MIN(J70*PROFILE!$G$10,MAX('MDA3'!J70,'MDA3'!M70,Z70)),AND(AU70=0,AV70>0,AW70>0,AX70>0),MIN(J70*PROFILE!$G$10,MAX('MDA3'!J70,'MDA3'!M70,Z70,AO70)),AND(AU70>0,AV70=0,AW70=0,AX70=0), MIN(BB70,MAX('MDA1'!L70,'MDA4'!T70)),AND(AU70>0,AV70=0,AW70=0,AX70>0), MIN(BB70,MAX('MDA1'!L70,'MDA4'!T70,AO70)),AND(AU70>0,AV70=0,AW70>0,AX70=0),MIN(BB70,MAX('MDA1'!L70,'MDA4'!T70,Z70)),AND(AU70>0,AV70=0,AW70>0,AX70>0),MIN(BB70,MAX('MDA1'!L70,'MDA4'!T70,Z70,AO70)),AND(AU70>0,AV70>0,AW70=0,AX70=0),MIN(BB70, MAX('MDA1'!L70,'MDA4'!T70,MAX( 'MDA3'!J70,'MDA3'!M70))), AND(AU70>0,AV70>0,AW70=0,AX70>0),MIN(BB70, MAX('MDA1'!L70,'MDA4'!T70,MAX( 'MDA3'!J70,'MDA3'!M70),AO70)), AND(AU70>0,AV70>0,AW70>0,AX70=0), MIN(BB70, MAX('MDA1'!L70,'MDA4'!T70,MAX( 'MDA3'!J70,'MDA3'!M70),Z70)), AND(AU70>0,AV70>0,AW70>0,AX70>0), MIN(BB70, MAX('MDA1'!L70,'MDA4'!T70,MAX( 'MDA3'!J70,'MDA3'!M70),Z70,AO70)))","v":67735},132151,38.525277395290679]
[{"$f":"IF(COUNTRY_INFO!A71=0,\" \",COUNTRY_INFO!A71)","v":"South Sudan"},{"$f":"IF(COUNTRY_INFO!B71=0,\" \",COUNTRY_INFO!B71)","v":"Warrap"},{"$f":"IF(COUNTRY_INFO!C71=0,\" \",COUNTRY_INFO!C71)","v":"GOGRIAL WEST"},{"$f":"COUNTRY_INFO!M71","v":408052.90610000002},null,null,{"$f":"'MDA1'!M71+'MDA4'!U71","v":343047},{"$f":"IF(AND(COUNTRY_INFO!H71>0,COUNTRY_INFO!H71<4),IF(D71>G71,G71,D71),0)","v":343047},{"$f":"IF(AND(COUNTRY_INFO!H71>0,COUNTRY_INFO!H71<4), IF(G71/D71*100<>0, IF(G71/D71*100>100,100,G71/D71*100), \"-\"),0)","v":84.069245647261909},{"$f":"COUNTRY_INFO!N71","v":408052.90610000002},null,null,{"$f":"MAX('MDA1'!M71,MAX('MDA3'!I71,'MDA3'!L71)+MAX('MDA3'!J71,'MDA3'!M71))","v":343047},{"$f":"IF(AND(COUNTRY_INFO!I71>0,COUNTRY_INFO!I71<4),IF(J71>M71,M71,J71),0)","v":343047},{"$f":"IF(AND(COUNTRY_INFO!I71>0,COUNTRY_INFO!I71<4), IF(M71/J71*100<>0, IF(M71/J71*100>100,100,M71/J71*100), \"-\"),0)","v":84.069245647261909},{"$f":"COUNTRY_INFO!R71","v":0},null,null,{"$f":"MAX('MDA4'!R71,'T1'!K71, MAX(T3_R1!J71,T3_R2!J71,T3_R3!J71))","v":0},{"$f":"IF(AND(COUNTRY_INFO!J71>1,COUNTRY_INFO!J71<99,COUNTRY_INFO!J71<>4,COUNTRY_INFO!J71<>5),IF(COUNTRY_INFO!O71>S71,S71,COUNTRY_INFO!O71),0)","v":0},{"$f":"IF(AND(COUNTRY_INFO!J71>1,COUNTRY_INFO!J71<99,COUNTRY_INFO!J71<>4,COUNTRY_INFO!J71<>5), IF(T71/COUNTRY_INFO!O71*100<>0, IF(T71/COUNTRY_INFO!O71*100>100,100,T71/COUNTRY_INFO!O71*100), \"-\"),0)","v":0},{"$f":"MAX('MDA1'!K71,'MDA4'!S71, 'T1'!L71, MAX(T3_R1!K71,T3_R2!K71,T3_R3!K71))","v":166857},{"$f":"IF(AND(COUNTRY_INFO!J71>1,COUNTRY_INFO!J71<99,COUNTRY_INFO!J71<>4,COUNTRY_INFO!J71<>5),IF(COUNTRY_INFO!P71>V71,V71,COUNTRY_INFO!P71),0)","v":0},{"$f":"IF(AND(COUNTRY_INFO!J71>1,COUNTRY_INFO!J71<99,COUNTRY_INFO!J71<>4,COUNTRY_INFO!J71<>5), IF(W71/COUNTRY_INFO!P71*100<>0, IF(W71/COUNTRY_INFO!P71*100>100,100,W71/COUNTRY_INFO!P71*100), \"-\"),0)","v":0},{"$f":"MAX('MDA1'!L71,'MDA4'!T71, 'T1'!M71, MAX(T3_R1!L71,T3_R2!L71,T3_R3!L71))","v":176190},{"$f":"IF(AND(COUNTRY_INFO!J71>1,COUNTRY_INFO!J71<99,COUNTRY_INFO!J71<>4,COUNTRY_INFO!J71<>5),IF(COUNTRY_INFO!Q71>Y71,Y71,COUNTRY_INFO!Q71),0)","v":0},{"$f":"IF(AND(COUNTRY_INFO!J71>1,COUNTRY_INFO!J71<99,COUNTRY_INFO!J71<>4,COUNTRY_INFO!J71<>5), IF(Z71/COUNTRY_INFO!Q71*100<>0, IF(Z71/COUNTRY_INFO!Q71*100>100,100,Z71/COUNTRY_INFO!Q71*100), \"-\"),0)","v":0},343047,0,{"$f":"IF(AND(COUNTRY_INFO!J71>1,COUNTRY_INFO!J71<99,COUNTRY_INFO!J71<>4,COUNTRY_INFO!J71<>5), IF(AC71/P71*100<>0, IF(AC71/P71*100>100,100,AC71/P71*100), \"-\"),0)","v":0},{"$f":"COUNTRY_INFO!V71","v":0},null,null,{"$f":"MAX('T1'!K71,'T2'!R71)","v":0},{"$f":"IF(AND(COUNTRY_INFO!K71>1,COUNTRY_INFO!K71<99,COUNTRY_INFO!K71<>4,COUNTRY_INFO!K71<>5),IF(COUNTRY_INFO!S71>AH71,AH71,COUNTRY_INFO!S71),0)","v":0},{"$f":"IF(AND(COUNTRY_INFO!K71>1,COUNTRY_INFO!K71<99,COUNTRY_INFO!K71<>4,COUNTRY_INFO!K71<>5), IF(AI71/COUNTRY_INFO!S71*100<>0, IF(AI71/COUNTRY_INFO!S71*100>100,100,AI71/COUNTRY_INFO!S71*100), \"-\"),0)","v":0},{"$f":"MAX('T1'!L71,'T2'!S71)","v":0},{"$f":"IF(AND(COUNTRY_INFO!K71>1,COUNTRY_INFO!K71<99,COUNTRY_INFO!K71<>4,COUNTRY_INFO!K71<>5),IF(COUNTRY_INFO!T71>AK71,AK71,COUNTRY_INFO!T71),0)","v":0},{"$f":"IF(AND(COUNTRY_INFO!K71>1,COUNTRY_INFO!K71<99,COUNTRY_INFO!K71<>4,COUNTRY_INFO!K71<>5), IF(AL71/COUNTRY_INFO!T71*100<>0, IF(AL71/COUNTRY_INFO!T71*100>100,100,AL71/COUNTRY_INFO!T71*100), \"-\"),0)","v":0},{"$f":"MAX('T1'!M71,'T2'!T71)","v":0},{"$f":"IF(AND(COUNTRY_INFO!K71>1,COUNTRY_INFO!K71<99,COUNTRY_INFO!K71<>4,COUNTRY_INFO!K71<>5),IF(COUNTRY_INFO!U71>AN71,AN71,COUNTRY_INFO!U71),0)","v":0},{"$f":"IF(AND(COUNTRY_INFO!K71>1,COUNTRY_INFO!K71<99,COUNTRY_INFO!K71<>4,COUNTRY_INFO!K71<>5), IF(AO71/COUNTRY_INFO!U71*100<>0, IF(AO71/COUNTRY_INFO!U71*100>100,100,AO71/COUNTRY_INFO!U71*100), \"-\"),0)","v":0},0,0,{"$f":"IF(AND(COUNTRY_INFO!K71>1,COUNTRY_INFO!K71<99,COUNTRY_INFO!K71<>4,COUNTRY_INFO!K71<>5), IF(AH71/AE71*100<>0, IF(AR71/AE71*100>100,100,AR71/AE71*100), \"-\"),0)","v":0},null,{"$f":"IF(AND(D71<>0, D71<>\"Unknown\",D71<>\"Stopped\",D71<>\"Not required\"),D71/COUNTRY_INFO!D71, 0)","v":1},{"$f":"IF(AND(J71<>0,J71<>\"Unknown\",J71<>\"Stopped\",J71<>\"Not required\"),J71/COUNTRY_INFO!D71, 0)","v":1},{"$f":"IF(AND(P71<>0,P71<>\"Unknown\",P71<>\"Surveillance\",P71<>\"Not required\"),P71/COUNTRY_INFO!R71, 0)","v":0},{"$f":"IF(AND(AE71<>0,AE71<>\"Unknown\",AE71<>\"Surveillance\",AE71<>\"Not required\"),AE71/COUNTRY_INFO!V71, 0)","v":0},{"$f":"IF(AU71>0,D71*PROFILE!$G$7,IF(AV71>0,J71*PROFILE!$G$7,0))","v":11221.427258047666},{"$f":"_xlfn.IFS(OR(AU71>0,AW71>0),COUNTRY_INFO!E71, AV71>0,J71*PROFILE!$G$8,AX71>0,COUNTRY_INFO!S71,COUNTIFS(AU71:AX71,\">0\")=0,0)","v":45171},{"$f":"_xlfn.IFS(OR(AU71>0,AW71>0),COUNTRY_INFO!F71, AV71>0,J71*PROFILE!$G$9,AX71>0,COUNTRY_INFO!T71,COUNTIFS(AU71:AX71,\">0\")=0,0)","v":126048},{"$f":"_xlfn.IFS(AU71>0,COUNTRY_INFO!G71, AND(AV71>0,AW71=0,AX71=0),J71*PROFILE!$G$10,AND(AV71>0,AW71>0,AX71=0), MAX(J71*PROFILE!$G$10,COUNTRY_INFO!Q71),AND(AV71>0,AW71=0,AX71>0), MAX(J71*PROFILE!$G$10,COUNTRY_INFO!U71),AND(AV71=0,AW71>0,AX71>0), MAX(COUNTRY_INFO!Q71,COUNTRY_INFO!U71),AND(AV71=0,AW71>0,AX71=0),COUNTRY_INFO!Q71,AND(AV71=0,AW71=0,AX71>0),COUNTRY_INFO!U71,AND(AV71>0,AW71>0,AX71>0), MAX(J71*PROFILE!$G$10,COUNTRY_INFO!Q71,COUNTRY_INFO!U71),COUNTIFS(AU71:AX71,\">0\")=0,0)","v":225612},408052.42725804768,"Y",{"$f":"MAX('MDA4'!R71,S71,AH71)","v":0},{"$f":"MAX('MDA1'!K71,'MDA4'!S71,'MDA3'!I71,'MDA3'!L71,V71,AK71)","v":166857},{"$f":"MAX('MDA1'!L71,'MDA4'!T71,'MDA3'!J71,'MDA3'!M71,Y71,AN71)","v":176190},343047,{"$f":"_xlfn.IFS(AND(AU71=0,AW71=0,AX71=0),0,AND(AU71=0,AW71=0,AX71>0),AI71,AND(AU71=0,AW71>0,AX71=0),T71,AND(AU71=0,AW71>0,AX71>0),MAX(T71,AI71),AND(AU71>0,AW71=0,AX71=0),MIN('MDA4'!R71,AZ71),AND(AU71>0,AW71=0,AX71>0),MIN(MAX('MDA4'!R71,AI71),AZ71),AND(AU71>0,AW71>0,AX71=0),MIN(MAX('MDA4'!R71,T71),AZ71),AND(AU71>0,AW71>0,AX71>0),MIN(MAX('MDA4'!R71,AI71,T71),AZ71))","v":0},{"$f":"_xlfn.IFS(AND(AU71=0,AV71=0,AW71=0,AX71=0),0,AND(AU71=0,AV71=0,AW71=0,AX71>0),AL71,AND(AU71=0,AV71=0,AW71>0,AX71=0),W71,AND(AU71=0,AV71=0,AW71>0,AX71>0),MAX(W71,AL71),AND(AU71=0,AV71>0,AW71=0,AX71=0),MIN(J71*PROFILE!$G$9,MAX('MDA3'!I71,'MDA3'!L71)),AND(AU71=0,AV71>0,AW71=0,AX71>0),MIN(J71*PROFILE!$G$9,MAX('MDA3'!I71,'MDA3'!L71,AL71)),AND(AU71=0,AV71>0,AW71>0,AX71=0),MIN(J71*PROFILE!$G$9,MAX('MDA3'!I71,'MDA3'!L71,W71)),AND(AU71=0,AV71>0,AW71>0,AX71>0),MIN(J71*PROFILE!$G$9,MAX('MDA3'!I71,'MDA3'!L71,W71,AL71)),AND(AU71>0,AV71=0,AW71=0,AX71=0), MIN(BA71,MAX('MDA1'!K71,'MDA4'!S71)),AND(AU71>0,AV71=0,AW71=0,AX71>0), MIN(BA71,MAX('MDA1'!K71,'MDA4'!S71,AL71)),AND(AU71>0,AV71=0,AW71>0,AX71=0),MIN(BA71,MAX('MDA1'!K71,'MDA4'!S71,W71)),AND(AU71>0,AV71=0,AW71>0,AX71>0),MIN(BA71,MAX('MDA1'!K71,'MDA4'!S71,W71,AL71)),AND(AU71>0,AV71>0,AW71=0,AX71=0),MIN(BA71, MAX('MDA1'!K71,'MDA4'!S71,MAX('MDA3'!I71,'MDA3'!L71))), AND(AU71>0,AV71>0,AW71=0,AX71>0),MIN(BA71, MAX('MDA1'!K71,'MDA4'!S71,MAX( 'MDA3'!I71,'MDA3'!L71),AL71)), AND(AU71>0,AV71>0,AW71>0,AX71=0), MIN(BA71, MAX('MDA1'!K71,'MDA4'!S71,MAX( 'MDA3'!I71,'MDA3'!L71),W71)), AND(AU71>0,AV71>0,AW71>0,AX71>0), MIN(BA71, MAX('MDA1'!K71,'MDA4'!S71,MAX( 'MDA3'!I71,'MDA3'!L71),W71,AL71)))","v":126048},{"$f":"_xlfn.IFS(AND(AU71=0,AV71=0,AW71=0,AX71=0),0,AND(AU71=0,AV71=0,AW71=0,AX71>0),AO71,AND(AU71=0,AV71=0,AW71>0,AX71=0),Z71,AND(AU71=0,AV71=0,AW71>0,AX71>0),MAX(Z71,AO71),AND(AU71=0,AV71>0,AW71=0,AX71=0),MIN(J71*PROFILE!$G$10,MAX('MDA3'!J71,'MDA3'!J71)),AND(AU71=0,AV71>0,AW71=0,AX71>0),MIN(J71*PROFILE!$G$10,MAX('MDA3'!J71,'MDA3'!M71,AO71)),AND(AU71=0,AV71>0,AW71>0,AX71=0),MIN(J71*PROFILE!$G$10,MAX('MDA3'!J71,'MDA3'!M71,Z71)),AND(AU71=0,AV71>0,AW71>0,AX71>0),MIN(J71*PROFILE!$G$10,MAX('MDA3'!J71,'MDA3'!M71,Z71,AO71)),AND(AU71>0,AV71=0,AW71=0,AX71=0), MIN(BB71,MAX('MDA1'!L71,'MDA4'!T71)),AND(AU71>0,AV71=0,AW71=0,AX71>0), MIN(BB71,MAX('MDA1'!L71,'MDA4'!T71,AO71)),AND(AU71>0,AV71=0,AW71>0,AX71=0),MIN(BB71,MAX('MDA1'!L71,'MDA4'!T71,Z71)),AND(AU71>0,AV71=0,AW71>0,AX71>0),MIN(BB71,MAX('MDA1'!L71,'MDA4'!T71,Z71,AO71)),AND(AU71>0,AV71>0,AW71=0,AX71=0),MIN(BB71, MAX('MDA1'!L71,'MDA4'!T71,MAX( 'MDA3'!J71,'MDA3'!M71))), AND(AU71>0,AV71>0,AW71=0,AX71>0),MIN(BB71, MAX('MDA1'!L71,'MDA4'!T71,MAX( 'MDA3'!J71,'MDA3'!M71),AO71)), AND(AU71>0,AV71>0,AW71>0,AX71=0), MIN(BB71, MAX('MDA1'!L71,'MDA4'!T71,MAX( 'MDA3'!J71,'MDA3'!M71),Z71)), AND(AU71>0,AV71>0,AW71>0,AX71>0), MIN(BB71, MAX('MDA1'!L71,'MDA4'!T71,MAX( 'MDA3'!J71,'MDA3'!M71),Z71,AO71)))","v":176190},302238,74.068423518742648]
[{"$f":"IF(COUNTRY_INFO!A72=0,\" \",COUNTRY_INFO!A72)","v":"South Sudan"},{"$f":"IF(COUNTRY_INFO!B72=0,\" \",COUNTRY_INFO!B72)","v":"Warrap"},{"$f":"IF(COUNTRY_INFO!C72=0,\" \",COUNTRY_INFO!C72)","v":"GOGRIAL EAST"},{"$f":"COUNTRY_INFO!M72","v":172325.1697},null,null,{"$f":"'MDA1'!M72+'MDA4'!U72","v":146130},{"$f":"IF(AND(COUNTRY_INFO!H72>0,COUNTRY_INFO!H72<4),IF(D72>G72,G72,D72),0)","v":146130},{"$f":"IF(AND(COUNTRY_INFO!H72>0,COUNTRY_INFO!H72<4), IF(G72/D72*100<>0, IF(G72/D72*100>100,100,G72/D72*100), \"-\"),0)","v":84.798988014575556},{"$f":"COUNTRY_INFO!N72","v":172325.1697},null,null,{"$f":"MAX('MDA1'!M72,MAX('MDA3'!I72,'MDA3'!L72)+MAX('MDA3'!J72,'MDA3'!M72))","v":146130},{"$f":"IF(AND(COUNTRY_INFO!I72>0,COUNTRY_INFO!I72<4),IF(J72>M72,M72,J72),0)","v":146130},{"$f":"IF(AND(COUNTRY_INFO!I72>0,COUNTRY_INFO!I72<4), IF(M72/J72*100<>0, IF(M72/J72*100>100,100,M72/J72*100), \"-\"),0)","v":84.798988014575556},{"$f":"COUNTRY_INFO!R72","v":0},null,null,{"$f":"MAX('MDA4'!R72,'T1'!K72, MAX(T3_R1!J72,T3_R2!J72,T3_R3!J72))","v":0},{"$f":"IF(AND(COUNTRY_INFO!J72>1,COUNTRY_INFO!J72<99,COUNTRY_INFO!J72<>4,COUNTRY_INFO!J72<>5),IF(COUNTRY_INFO!O72>S72,S72,COUNTRY_INFO!O72),0)","v":0},{"$f":"IF(AND(COUNTRY_INFO!J72>1,COUNTRY_INFO!J72<99,COUNTRY_INFO!J72<>4,COUNTRY_INFO!J72<>5), IF(T72/COUNTRY_INFO!O72*100<>0, IF(T72/COUNTRY_INFO!O72*100>100,100,T72/COUNTRY_INFO!O72*100), \"-\"),0)","v":0},{"$f":"MAX('MDA1'!K72,'MDA4'!S72, 'T1'!L72, MAX(T3_R1!K72,T3_R2!K72,T3_R3!K72))","v":73159},{"$f":"IF(AND(COUNTRY_INFO!J72>1,COUNTRY_INFO!J72<99,COUNTRY_INFO!J72<>4,COUNTRY_INFO!J72<>5),IF(COUNTRY_INFO!P72>V72,V72,COUNTRY_INFO!P72),0)","v":0},{"$f":"IF(AND(COUNTRY_INFO!J72>1,COUNTRY_INFO!J72<99,COUNTRY_INFO!J72<>4,COUNTRY_INFO!J72<>5), IF(W72/COUNTRY_INFO!P72*100<>0, IF(W72/COUNTRY_INFO!P72*100>100,100,W72/COUNTRY_INFO!P72*100), \"-\"),0)","v":0},{"$f":"MAX('MDA1'!L72,'MDA4'!T72, 'T1'!M72, MAX(T3_R1!L72,T3_R2!L72,T3_R3!L72))","v":72971},{"$f":"IF(AND(COUNTRY_INFO!J72>1,COUNTRY_INFO!J72<99,COUNTRY_INFO!J72<>4,COUNTRY_INFO!J72<>5),IF(COUNTRY_INFO!Q72>Y72,Y72,COUNTRY_INFO!Q72),0)","v":0},{"$f":"IF(AND(COUNTRY_INFO!J72>1,COUNTRY_INFO!J72<99,COUNTRY_INFO!J72<>4,COUNTRY_INFO!J72<>5), IF(Z72/COUNTRY_INFO!Q72*100<>0, IF(Z72/COUNTRY_INFO!Q72*100>100,100,Z72/COUNTRY_INFO!Q72*100), \"-\"),0)","v":0},146130,0,{"$f":"IF(AND(COUNTRY_INFO!J72>1,COUNTRY_INFO!J72<99,COUNTRY_INFO!J72<>4,COUNTRY_INFO!J72<>5), IF(AC72/P72*100<>0, IF(AC72/P72*100>100,100,AC72/P72*100), \"-\"),0)","v":0},{"$f":"COUNTRY_INFO!V72","v":0},null,null,{"$f":"MAX('T1'!K72,'T2'!R72)","v":0},{"$f":"IF(AND(COUNTRY_INFO!K72>1,COUNTRY_INFO!K72<99,COUNTRY_INFO!K72<>4,COUNTRY_INFO!K72<>5),IF(COUNTRY_INFO!S72>AH72,AH72,COUNTRY_INFO!S72),0)","v":0},{"$f":"IF(AND(COUNTRY_INFO!K72>1,COUNTRY_INFO!K72<99,COUNTRY_INFO!K72<>4,COUNTRY_INFO!K72<>5), IF(AI72/COUNTRY_INFO!S72*100<>0, IF(AI72/COUNTRY_INFO!S72*100>100,100,AI72/COUNTRY_INFO!S72*100), \"-\"),0)","v":0},{"$f":"MAX('T1'!L72,'T2'!S72)","v":0},{"$f":"IF(AND(COUNTRY_INFO!K72>1,COUNTRY_INFO!K72<99,COUNTRY_INFO!K72<>4,COUNTRY_INFO!K72<>5),IF(COUNTRY_INFO!T72>AK72,AK72,COUNTRY_INFO!T72),0)","v":0},{"$f":"IF(AND(COUNTRY_INFO!K72>1,COUNTRY_INFO!K72<99,COUNTRY_INFO!K72<>4,COUNTRY_INFO!K72<>5), IF(AL72/COUNTRY_INFO!T72*100<>0, IF(AL72/COUNTRY_INFO!T72*100>100,100,AL72/COUNTRY_INFO!T72*100), \"-\"),0)","v":0},{"$f":"MAX('T1'!M72,'T2'!T72)","v":0},{"$f":"IF(AND(COUNTRY_INFO!K72>1,COUNTRY_INFO!K72<99,COUNTRY_INFO!K72<>4,COUNTRY_INFO!K72<>5),IF(COUNTRY_INFO!U72>AN72,AN72,COUNTRY_INFO!U72),0)","v":0},{"$f":"IF(AND(COUNTRY_INFO!K72>1,COUNTRY_INFO!K72<99,COUNTRY_INFO!K72<>4,COUNTRY_INFO!K72<>5), IF(AO72/COUNTRY_INFO!U72*100<>0, IF(AO72/COUNTRY_INFO!U72*100>100,100,AO72/COUNTRY_INFO!U72*100), \"-\"),0)","v":0},0,0,{"$f":"IF(AND(COUNTRY_INFO!K72>1,COUNTRY_INFO!K72<99,COUNTRY_INFO!K72<>4,COUNTRY_INFO!K72<>5), IF(AH72/AE72*100<>0, IF(AR72/AE72*100>100,100,AR72/AE72*100), \"-\"),0)","v":0},null,{"$f":"IF(AND(D72<>0, D72<>\"Unknown\",D72<>\"Stopped\",D72<>\"Not required\"),D72/COUNTRY_INFO!D72, 0)","v":1},{"$f":"IF(AND(J72<>0,J72<>\"Unknown\",J72<>\"Stopped\",J72<>\"Not required\"),J72/COUNTRY_INFO!D72, 0)","v":1},{"$f":"IF(AND(P72<>0,P72<>\"Unknown\",P72<>\"Surveillance\",P72<>\"Not required\"),P72/COUNTRY_INFO!R72, 0)","v":0},{"$f":"IF(AND(AE72<>0,AE72<>\"Unknown\",AE72<>\"Surveillance\",AE72<>\"Not required\"),AE72/COUNTRY_INFO!V72, 0)","v":0},{"$f":"IF(AU72>0,D72*PROFILE!$G$7,IF(AV72>0,J72*PROFILE!$G$7,0))","v":4738.9304857575908},{"$f":"_xlfn.IFS(OR(AU72>0,AW72>0),COUNTRY_INFO!E72, AV72>0,J72*PROFILE!$G$8,AX72>0,COUNTRY_INFO!S72,COUNTIFS(AU72:AX72,\">0\")=0,0)","v":19076},{"$f":"_xlfn.IFS(OR(AU72>0,AW72>0),COUNTRY_INFO!F72, AV72>0,J72*PROFILE!$G$9,AX72>0,COUNTRY_INFO!T72,COUNTIFS(AU72:AX72,\">0\")=0,0)","v":53231},{"$f":"_xlfn.IFS(AU72>0,COUNTRY_INFO!G72, AND(AV72>0,AW72=0,AX72=0),J72*PROFILE!$G$10,AND(AV72>0,AW72>0,AX72=0), MAX(J72*PROFILE!$G$10,COUNTRY_INFO!Q72),AND(AV72>0,AW72=0,AX72>0), MAX(J72*PROFILE!$G$10,COUNTRY_INFO!U72),AND(AV72=0,AW72>0,AX72>0), MAX(COUNTRY_INFO!Q72,COUNTRY_INFO!U72),AND(AV72=0,AW72>0,AX72=0),COUNTRY_INFO!Q72,AND(AV72=0,AW72=0,AX72>0),COUNTRY_INFO!U72,AND(AV72>0,AW72>0,AX72>0), MAX(J72*PROFILE!$G$10,COUNTRY_INFO!Q72,COUNTRY_INFO!U72),COUNTIFS(AU72:AX72,\">0\")=0,0)","v":95279},172324.93048575759,"Y",{"$f":"MAX('MDA4'!R72,S72,AH72)","v":0},{"$f":"MAX('MDA1'!K72,'MDA4'!S72,'MDA3'!I72,'MDA3'!L72,V72,AK72)","v":73159},{"$f":"MAX('MDA1'!L72,'MDA4'!T72,'MDA3'!J72,'MDA3'!M72,Y72,AN72)","v":72971},146130,{"$f":"_xlfn.IFS(AND(AU72=0,AW72=0,AX72=0),0,AND(AU72=0,AW72=0,AX72>0),AI72,AND(AU72=0,AW72>0,AX72=0),T72,AND(AU72=0,AW72>0,AX72>0),MAX(T72,AI72),AND(AU72>0,AW72=0,AX72=0),MIN('MDA4'!R72,AZ72),AND(AU72>0,AW72=0,AX72>0),MIN(MAX('MDA4'!R72,AI72),AZ72),AND(AU72>0,AW72>0,AX72=0),MIN(MAX('MDA4'!R72,T72),AZ72),AND(AU72>0,AW72>0,AX72>0),MIN(MAX('MDA4'!R72,AI72,T72),AZ72))","v":0},{"$f":"_xlfn.IFS(AND(AU72=0,AV72=0,AW72=0,AX72=0),0,AND(AU72=0,AV72=0,AW72=0,AX72>0),AL72,AND(AU72=0,AV72=0,AW72>0,AX72=0),W72,AND(AU72=0,AV72=0,AW72>0,AX72>0),MAX(W72,AL72),AND(AU72=0,AV72>0,AW72=0,AX72=0),MIN(J72*PROFILE!$G$9,MAX('MDA3'!I72,'MDA3'!L72)),AND(AU72=0,AV72>0,AW72=0,AX72>0),MIN(J72*PROFILE!$G$9,MAX('MDA3'!I72,'MDA3'!L72,AL72)),AND(AU72=0,AV72>0,AW72>0,AX72=0),MIN(J72*PROFILE!$G$9,MAX('MDA3'!I72,'MDA3'!L72,W72)),AND(AU72=0,AV72>0,AW72>0,AX72>0),MIN(J72*PROFILE!$G$9,MAX('MDA3'!I72,'MDA3'!L72,W72,AL72)),AND(AU72>0,AV72=0,AW72=0,AX72=0), MIN(BA72,MAX('MDA1'!K72,'MDA4'!S72)),AND(AU72>0,AV72=0,AW72=0,AX72>0), MIN(BA72,MAX('MDA1'!K72,'MDA4'!S72,AL72)),AND(AU72>0,AV72=0,AW72>0,AX72=0),MIN(BA72,MAX('MDA1'!K72,'MDA4'!S72,W72)),AND(AU72>0,AV72=0,AW72>0,AX72>0),MIN(BA72,MAX('MDA1'!K72,'MDA4'!S72,W72,AL72)),AND(AU72>0,AV72>0,AW72=0,AX72=0),MIN(BA72, MAX('MDA1'!K72,'MDA4'!S72,MAX('MDA3'!I72,'MDA3'!L72))), AND(AU72>0,AV72>0,AW72=0,AX72>0),MIN(BA72, MAX('MDA1'!K72,'MDA4'!S72,MAX( 'MDA3'!I72,'MDA3'!L72),AL72)), AND(AU72>0,AV72>0,AW72>0,AX72=0), MIN(BA72, MAX('MDA1'!K72,'MDA4'!S72,MAX( 'MDA3'!I72,'MDA3'!L72),W72)), AND(AU72>0,AV72>0,AW72>0,AX72>0), MIN(BA72, MAX('MDA1'!K72,'MDA4'!S72,MAX( 'MDA3'!I72,'MDA3'!L72),W72,AL72)))","v":53231},{"$f":"_xlfn.IFS(AND(AU72=0,AV72=0,AW72=0,AX72=0),0,AND(AU72=0,AV72=0,AW72=0,AX72>0),AO72,AND(AU72=0,AV72=0,AW72>0,AX72=0),Z72,AND(AU72=0,AV72=0,AW72>0,AX72>0),MAX(Z72,AO72),AND(AU72=0,AV72>0,AW72=0,AX72=0),MIN(J72*PROFILE!$G$10,MAX('MDA3'!J72,'MDA3'!J72)),AND(AU72=0,AV72>0,AW72=0,AX72>0),MIN(J72*PROFILE!$G$10,MAX('MDA3'!J72,'MDA3'!M72,AO72)),AND(AU72=0,AV72>0,AW72>0,AX72=0),MIN(J72*PROFILE!$G$10,MAX('MDA3'!J72,'MDA3'!M72,Z72)),AND(AU72=0,AV72>0,AW72>0,AX72>0),MIN(J72*PROFILE!$G$10,MAX('MDA3'!J72,'MDA3'!M72,Z72,AO72)),AND(AU72>0,AV72=0,AW72=0,AX72=0), MIN(BB72,MAX('MDA1'!L72,'MDA4'!T72)),AND(AU72>0,AV72=0,AW72=0,AX72>0), MIN(BB72,MAX('MDA1'!L72,'MDA4'!T72,AO72)),AND(AU72>0,AV72=0,AW72>0,AX72=0),MIN(BB72,MAX('MDA1'!L72,'MDA4'!T72,Z72)),AND(AU72>0,AV72=0,AW72>0,AX72>0),MIN(BB72,MAX('MDA1'!L72,'MDA4'!T72,Z72,AO72)),AND(AU72>0,AV72>0,AW72=0,AX72=0),MIN(BB72, MAX('MDA1'!L72,'MDA4'!T72,MAX( 'MDA3'!J72,'MDA3'!M72))), AND(AU72>0,AV72>0,AW72=0,AX72>0),MIN(BB72, MAX('MDA1'!L72,'MDA4'!T72,MAX( 'MDA3'!J72,'MDA3'!M72),AO72)), AND(AU72>0,AV72>0,AW72>0,AX72=0), MIN(BB72, MAX('MDA1'!L72,'MDA4'!T72,MAX( 'MDA3'!J72,'MDA3'!M72),Z72)), AND(AU72>0,AV72>0,AW72>0,AX72>0), MIN(BB72, MAX('MDA1'!L72,'MDA4'!T72,MAX( 'MDA3'!J72,'MDA3'!M72),Z72,AO72)))","v":72971},126202,73.234905503374279]
[{"$f":"IF(COUNTRY_INFO!A73=0,\" \",COUNTRY_INFO!A73)","v":"South Sudan"},{"$f":"IF(COUNTRY_INFO!B73=0,\" \",COUNTRY_INFO!B73)","v":"Warrap"},{"$f":"IF(COUNTRY_INFO!C73=0,\" \",COUNTRY_INFO!C73)","v":"TONJ NORTH"},{"$f":"COUNTRY_INFO!M73","v":0},null,null,{"$f":"'MDA1'!M73+'MDA4'!U73","v":0},{"$f":"IF(AND(COUNTRY_INFO!H73>0,COUNTRY_INFO!H73<4),IF(D73>G73,G73,D73),0)","v":0},{"$f":"IF(AND(COUNTRY_INFO!H73>0,COUNTRY_INFO!H73<4), IF(G73/D73*100<>0, IF(G73/D73*100>100,100,G73/D73*100), \"-\"),0)","v":0},{"$f":"COUNTRY_INFO!N73","v":276370.81540000002},null,null,{"$f":"MAX('MDA1'!M73,MAX('MDA3'!I73,'MDA3'!L73)+MAX('MDA3'!J73,'MDA3'!M73))","v":253753},{"$f":"IF(AND(COUNTRY_INFO!I73>0,COUNTRY_INFO!I73<4),IF(J73>M73,M73,J73),0)","v":253753},{"$f":"IF(AND(COUNTRY_INFO!I73>0,COUNTRY_INFO!I73<4), IF(M73/J73*100<>0, IF(M73/J73*100>100,100,M73/J73*100), \"-\"),0)","v":91.816134649650124},{"$f":"COUNTRY_INFO!R73","v":0},null,null,{"$f":"MAX('MDA4'!R73,'T1'!K73, MAX(T3_R1!J73,T3_R2!J73,T3_R3!J73))","v":0},{"$f":"IF(AND(COUNTRY_INFO!J73>1,COUNTRY_INFO!J73<99,COUNTRY_INFO!J73<>4,COUNTRY_INFO!J73<>5),IF(COUNTRY_INFO!O73>S73,S73,COUNTRY_INFO!O73),0)","v":0},{"$f":"IF(AND(COUNTRY_INFO!J73>1,COUNTRY_INFO!J73<99,COUNTRY_INFO!J73<>4,COUNTRY_INFO!J73<>5), IF(T73/COUNTRY_INFO!O73*100<>0, IF(T73/COUNTRY_INFO!O73*100>100,100,T73/COUNTRY_INFO!O73*100), \"-\"),0)","v":0},{"$f":"MAX('MDA1'!K73,'MDA4'!S73, 'T1'!L73, MAX(T3_R1!K73,T3_R2!K73,T3_R3!K73))","v":0},{"$f":"IF(AND(COUNTRY_INFO!J73>1,COUNTRY_INFO!J73<99,COUNTRY_INFO!J73<>4,COUNTRY_INFO!J73<>5),IF(COUNTRY_INFO!P73>V73,V73,COUNTRY_INFO!P73),0)","v":0},{"$f":"IF(AND(COUNTRY_INFO!J73>1,COUNTRY_INFO!J73<99,COUNTRY_INFO!J73<>4,COUNTRY_INFO!J73<>5), IF(W73/COUNTRY_INFO!P73*100<>0, IF(W73/COUNTRY_INFO!P73*100>100,100,W73/COUNTRY_INFO!P73*100), \"-\"),0)","v":0},{"$f":"MAX('MDA1'!L73,'MDA4'!T73, 'T1'!M73, MAX(T3_R1!L73,T3_R2!L73,T3_R3!L73))","v":0},{"$f":"IF(AND(COUNTRY_INFO!J73>1,COUNTRY_INFO!J73<99,COUNTRY_INFO!J73<>4,COUNTRY_INFO!J73<>5),IF(COUNTRY_INFO!Q73>Y73,Y73,COUNTRY_INFO!Q73),0)","v":0},{"$f":"IF(AND(COUNTRY_INFO!J73>1,COUNTRY_INFO!J73<99,COUNTRY_INFO!J73<>4,COUNTRY_INFO!J73<>5), IF(Z73/COUNTRY_INFO!Q73*100<>0, IF(Z73/COUNTRY_INFO!Q73*100>100,100,Z73/COUNTRY_INFO!Q73*100), \"-\"),0)","v":0},0,0,{"$f":"IF(AND(COUNTRY_INFO!J73>1,COUNTRY_INFO!J73<99,COUNTRY_INFO!J73<>4,COUNTRY_INFO!J73<>5), IF(AC73/P73*100<>0, IF(AC73/P73*100>100,100,AC73/P73*100), \"-\"),0)","v":0},{"$f":"COUNTRY_INFO!V73","v":111989},null,null,{"$f":"MAX('T1'!K73,'T2'!R73)","v":0},{"$f":"IF(AND(COUNTRY_INFO!K73>1,COUNTRY_INFO!K73<99,COUNTRY_INFO!K73<>4,COUNTRY_INFO!K73<>5),IF(COUNTRY_INFO!S73>AH73,AH73,COUNTRY_INFO!S73),0)","v":0},{"$f":"IF(AND(COUNTRY_INFO!K73>1,COUNTRY_INFO!K73<99,COUNTRY_INFO!K73<>4,COUNTRY_INFO!K73<>5), IF(AI73/COUNTRY_INFO!S73*100<>0, IF(AI73/COUNTRY_INFO!S73*100>100,100,AI73/COUNTRY_INFO!S73*100), \"-\"),0)","v":"-"},{"$f":"MAX('T1'!L73,'T2'!S73)","v":0},{"$f":"IF(AND(COUNTRY_INFO!K73>1,COUNTRY_INFO!K73<99,COUNTRY_INFO!K73<>4,COUNTRY_INFO!K73<>5),IF(COUNTRY_INFO!T73>AK73,AK73,COUNTRY_INFO!T73),0)","v":0},{"$f":"IF(AND(COUNTRY_INFO!K73>1,COUNTRY_INFO!K73<99,COUNTRY_INFO!K73<>4,COUNTRY_INFO!K73<>5), IF(AL73/COUNTRY_INFO!T73*100<>0, IF(AL73/COUNTRY_INFO!T73*100>100,100,AL73/COUNTRY_INFO!T73*100), \"-\"),0)","v":"-"},{"$f":"MAX('T1'!M73,'T2'!T73)","v":0},{"$f":"IF(AND(COUNTRY_INFO!K73>1,COUNTRY_INFO!K73<99,COUNTRY_INFO!K73<>4,COUNTRY_INFO!K73<>5),IF(COUNTRY_INFO!U73>AN73,AN73,COUNTRY_INFO!U73),0)","v":0},{"$f":"IF(AND(COUNTRY_INFO!K73>1,COUNTRY_INFO!K73<99,COUNTRY_INFO!K73<>4,COUNTRY_INFO!K73<>5), IF(AO73/COUNTRY_INFO!U73*100<>0, IF(AO73/COUNTRY_INFO!U73*100>100,100,AO73/COUNTRY_INFO!U73*100), \"-\"),0)","v":"-"},0,0,{"$f":"IF(AND(COUNTRY_INFO!K73>1,COUNTRY_INFO!K73<99,COUNTRY_INFO!K73<>4,COUNTRY_INFO!K73<>5), IF(AH73/AE73*100<>0, IF(AR73/AE73*100>100,100,AR73/AE73*100), \"-\"),0)","v":"-"},null,{"$f":"IF(AND(D73<>0, D73<>\"Unknown\",D73<>\"Stopped\",D73<>\"Not required\"),D73/COUNTRY_INFO!D73, 0)","v":0},{"$f":"IF(AND(J73<>0,J73<>\"Unknown\",J73<>\"Stopped\",J73<>\"Not required\"),J73/COUNTRY_INFO!D73, 0)","v":1},{"$f":"IF(AND(P73<>0,P73<>\"Unknown\",P73<>\"Surveillance\",P73<>\"Not required\"),P73/COUNTRY_INFO!R73, 0)","v":0},{"$f":"IF(AND(AE73<>0,AE73<>\"Unknown\",AE73<>\"Surveillance\",AE73<>\"Not required\"),AE73/COUNTRY_INFO!V73, 0)","v":1},{"$f":"IF(AU73>0,D73*PROFILE!$G$7,IF(AV73>0,J73*PROFILE!$G$7,0))","v":7600.1786898152905},{"$f":"_xlfn.IFS(OR(AU73>0,AW73>0),COUNTRY_INFO!E73, AV73>0,J73*PROFILE!$G$8,AX73>0,COUNTRY_INFO!S73,COUNTIFS(AU73:AX73,\">0\")=0,0)","v":30594.228455021363},{"$f":"_xlfn.IFS(OR(AU73>0,AW73>0),COUNTRY_INFO!F73, AV73>0,J73*PROFILE!$G$9,AX73>0,COUNTRY_INFO!T73,COUNTIFS(AU73:AX73,\">0\")=0,0)","v":85370.97019881531},{"$f":"_xlfn.IFS(AU73>0,COUNTRY_INFO!G73, AND(AV73>0,AW73=0,AX73=0),J73*PROFILE!$G$10,AND(AV73>0,AW73>0,AX73=0), MAX(J73*PROFILE!$G$10,COUNTRY_INFO!Q73),AND(AV73>0,AW73=0,AX73>0), MAX(J73*PROFILE!$G$10,COUNTRY_INFO!U73),AND(AV73=0,AW73>0,AX73>0), MAX(COUNTRY_INFO!Q73,COUNTRY_INFO!U73),AND(AV73=0,AW73>0,AX73=0),COUNTRY_INFO!Q73,AND(AV73=0,AW73=0,AX73>0),COUNTRY_INFO!U73,AND(AV73>0,AW73>0,AX73>0), MAX(J73*PROFILE!$G$10,COUNTRY_INFO!Q73,COUNTRY_INFO!U73),COUNTIFS(AU73:AX73,\">0\")=0,0)","v":152805.43805634807},276370.81540000002,0,{"$f":"MAX('MDA4'!R73,S73,AH73)","v":0},{"$f":"MAX('MDA1'!K73,'MDA4'!S73,'MDA3'!I73,'MDA3'!L73,V73,AK73)","v":122935},{"$f":"MAX('MDA1'!L73,'MDA4'!T73,'MDA3'!J73,'MDA3'!M73,Y73,AN73)","v":130818},253753,{"$f":"_xlfn.IFS(AND(AU73=0,AW73=0,AX73=0),0,AND(AU73=0,AW73=0,AX73>0),AI73,AND(AU73=0,AW73>0,AX73=0),T73,AND(AU73=0,AW73>0,AX73>0),MAX(T73,AI73),AND(AU73>0,AW73=0,AX73=0),MIN('MDA4'!R73,AZ73),AND(AU73>0,AW73=0,AX73>0),MIN(MAX('MDA4'!R73,AI73),AZ73),AND(AU73>0,AW73>0,AX73=0),MIN(MAX('MDA4'!R73,T73),AZ73),AND(AU73>0,AW73>0,AX73>0),MIN(MAX('MDA4'!R73,AI73,T73),AZ73))","v":0},{"$f":"_xlfn.IFS(AND(AU73=0,AV73=0,AW73=0,AX73=0),0,AND(AU73=0,AV73=0,AW73=0,AX73>0),AL73,AND(AU73=0,AV73=0,AW73>0,AX73=0),W73,AND(AU73=0,AV73=0,AW73>0,AX73>0),MAX(W73,AL73),AND(AU73=0,AV73>0,AW73=0,AX73=0),MIN(J73*PROFILE!$G$9,MAX('MDA3'!I73,'MDA3'!L73)),AND(AU73=0,AV73>0,AW73=0,AX73>0),MIN(J73*PROFILE!$G$9,MAX('MDA3'!I73,'MDA3'!L73,AL73)),AND(AU73=0,AV73>0,AW73>0,AX73=0),MIN(J73*PROFILE!$G$9,MAX('MDA3'!I73,'MDA3'!L73,W73)),AND(AU73=0,AV73>0,AW73>0,AX73>0),MIN(J73*PROFILE!$G$9,MAX('MDA3'!I73,'MDA3'!L73,W73,AL73)),AND(AU73>0,AV73=0,AW73=0,AX73=0), MIN(BA73,MAX('MDA1'!K73,'MDA4'!S73)),AND(AU73>0,AV73=0,AW73=0,AX73>0), MIN(BA73,MAX('MDA1'!K73,'MDA4'!S73,AL73)),AND(AU73>0,AV73=0,AW73>0,AX73=0),MIN(BA73,MAX('MDA1'!K73,'MDA4'!S73,W73)),AND(AU73>0,AV73=0,AW73>0,AX73>0),MIN(BA73,MAX('MDA1'!K73,'MDA4'!S73,W73,AL73)),AND(AU73>0,AV73>0,AW73=0,AX73=0),MIN(BA73, MAX('MDA1'!K73,'MDA4'!S73,MAX('MDA3'!I73,'MDA3'!L73))), AND(AU73>0,AV73>0,AW73=0,AX73>0),MIN(BA73, MAX('MDA1'!K73,'MDA4'!S73,MAX( 'MDA3'!I73,'MDA3'!L73),AL73)), AND(AU73>0,AV73>0,AW73>0,AX73=0), MIN(BA73, MAX('MDA1'!K73,'MDA4'!S73,MAX( 'MDA3'!I73,'MDA3'!L73),W73)), AND(AU73>0,AV73>0,AW73>0,AX73>0), MIN(BA73, MAX('MDA1'!K73,'MDA4'!S73,MAX( 'MDA3'!I73,'MDA3'!L73),W73,AL73)))","v":85370.97019881531},{"$f":"_xlfn.IFS(AND(AU73=0,AV73=0,AW73=0,AX73=0),0,AND(AU73=0,AV73=0,AW73=0,AX73>0),AO73,AND(AU73=0,AV73=0,AW73>0,AX73=0),Z73,AND(AU73=0,AV73=0,AW73>0,AX73>0),MAX(Z73,AO73),AND(AU73=0,AV73>0,AW73=0,AX73=0),MIN(J73*PROFILE!$G$10,MAX('MDA3'!J73,'MDA3'!J73)),AND(AU73=0,AV73>0,AW73=0,AX73>0),MIN(J73*PROFILE!$G$10,MAX('MDA3'!J73,'MDA3'!M73,AO73)),AND(AU73=0,AV73>0,AW73>0,AX73=0),MIN(J73*PROFILE!$G$10,MAX('MDA3'!J73,'MDA3'!M73,Z73)),AND(AU73=0,AV73>0,AW73>0,AX73>0),MIN(J73*PROFILE!$G$10,MAX('MDA3'!J73,'MDA3'!M73,Z73,AO73)),AND(AU73>0,AV73=0,AW73=0,AX73=0), MIN(BB73,MAX('MDA1'!L73,'MDA4'!T73)),AND(AU73>0,AV73=0,AW73=0,AX73>0), MIN(BB73,MAX('MDA1'!L73,'MDA4'!T73,AO73)),AND(AU73>0,AV73=0,AW73>0,AX73=0),MIN(BB73,MAX('MDA1'!L73,'MDA4'!T73,Z73)),AND(AU73>0,AV73=0,AW73>0,AX73>0),MIN(BB73,MAX('MDA1'!L73,'MDA4'!T73,Z73,AO73)),AND(AU73>0,AV73>0,AW73=0,AX73=0),MIN(BB73, MAX('MDA1'!L73,'MDA4'!T73,MAX( 'MDA3'!J73,'MDA3'!M73))), AND(AU73>0,AV73>0,AW73=0,AX73>0),MIN(BB73, MAX('MDA1'!L73,'MDA4'!T73,MAX( 'MDA3'!J73,'MDA3'!M73),AO73)), AND(AU73>0,AV73>0,AW73>0,AX73=0), MIN(BB73, MAX('MDA1'!L73,'MDA4'!T73,MAX( 'MDA3'!J73,'MDA3'!M73),Z73)), AND(AU73>0,AV73>0,AW73>0,AX73>0), MIN(BB73, MAX('MDA1'!L73,'MDA4'!T73,MAX( 'MDA3'!J73,'MDA3'!M73),Z73,AO73)))","v":130818},216188.97019881531,78.224240097825941]
[{"$f":"IF(COUNTRY_INFO!A74=0,\" \",COUNTRY_INFO!A74)","v":"South Sudan"},{"$f":"IF(COUNTRY_INFO!B74=0,\" \",COUNTRY_INFO!B74)","v":"Warrap"},{"$f":"IF(COUNTRY_INFO!C74=0,\" \",COUNTRY_INFO!C74)","v":"TONJ EAST"},{"$f":"COUNTRY_INFO!M74","v":0},null,null,{"$f":"'MDA1'!M74+'MDA4'!U74","v":0},{"$f":"IF(AND(COUNTRY_INFO!H74>0,COUNTRY_INFO!H74<4),IF(D74>G74,G74,D74),0)","v":0},{"$f":"IF(AND(COUNTRY_INFO!H74>0,COUNTRY_INFO!H74<4), IF(G74/D74*100<>0, IF(G74/D74*100>100,100,G74/D74*100), \"-\"),0)","v":0},{"$f":"COUNTRY_INFO!N74","v":193459.35860000001},null,null,{"$f":"MAX('MDA1'!M74,MAX('MDA3'!I74,'MDA3'!L74)+MAX('MDA3'!J74,'MDA3'!M74))","v":185640},{"$f":"IF(AND(COUNTRY_INFO!I74>0,COUNTRY_INFO!I74<4),IF(J74>M74,M74,J74),0)","v":185640},{"$f":"IF(AND(COUNTRY_INFO!I74>0,COUNTRY_INFO!I74<4), IF(M74/J74*100<>0, IF(M74/J74*100>100,100,M74/J74*100), \"-\"),0)","v":95.958138879097888},{"$f":"COUNTRY_INFO!R74","v":0},null,null,{"$f":"MAX('MDA4'!R74,'T1'!K74, MAX(T3_R1!J74,T3_R2!J74,T3_R3!J74))","v":0},{"$f":"IF(AND(COUNTRY_INFO!J74>1,COUNTRY_INFO!J74<99,COUNTRY_INFO!J74<>4,COUNTRY_INFO!J74<>5),IF(COUNTRY_INFO!O74>S74,S74,COUNTRY_INFO!O74),0)","v":0},{"$f":"IF(AND(COUNTRY_INFO!J74>1,COUNTRY_INFO!J74<99,COUNTRY_INFO!J74<>4,COUNTRY_INFO!J74<>5), IF(T74/COUNTRY_INFO!O74*100<>0, IF(T74/COUNTRY_INFO!O74*100>100,100,T74/COUNTRY_INFO!O74*100), \"-\"),0)","v":0},{"$f":"MAX('MDA1'!K74,'MDA4'!S74, 'T1'!L74, MAX(T3_R1!K74,T3_R2!K74,T3_R3!K74))","v":0},{"$f":"IF(AND(COUNTRY_INFO!J74>1,COUNTRY_INFO!J74<99,COUNTRY_INFO!J74<>4,COUNTRY_INFO!J74<>5),IF(COUNTRY_INFO!P74>V74,V74,COUNTRY_INFO!P74),0)","v":0},{"$f":"IF(AND(COUNTRY_INFO!J74>1,COUNTRY_INFO!J74<99,COUNTRY_INFO!J74<>4,COUNTRY_INFO!J74<>5), IF(W74/COUNTRY_INFO!P74*100<>0, IF(W74/COUNTRY_INFO!P74*100>100,100,W74/COUNTRY_INFO!P74*100), \"-\"),0)","v":0},{"$f":"MAX('MDA1'!L74,'MDA4'!T74, 'T1'!M74, MAX(T3_R1!L74,T3_R2!L74,T3_R3!L74))","v":0},{"$f":"IF(AND(COUNTRY_INFO!J74>1,COUNTRY_INFO!J74<99,COUNTRY_INFO!J74<>4,COUNTRY_INFO!J74<>5),IF(COUNTRY_INFO!Q74>Y74,Y74,COUNTRY_INFO!Q74),0)","v":0},{"$f":"IF(AND(COUNTRY_INFO!J74>1,COUNTRY_INFO!J74<99,COUNTRY_INFO!J74<>4,COUNTRY_INFO!J74<>5), IF(Z74/COUNTRY_INFO!Q74*100<>0, IF(Z74/COUNTRY_INFO!Q74*100>100,100,Z74/COUNTRY_INFO!Q74*100), \"-\"),0)","v":0},0,0,{"$f":"IF(AND(COUNTRY_INFO!J74>1,COUNTRY_INFO!J74<99,COUNTRY_INFO!J74<>4,COUNTRY_INFO!J74<>5), IF(AC74/P74*100<>0, IF(AC74/P74*100>100,100,AC74/P74*100), \"-\"),0)","v":0},{"$f":"COUNTRY_INFO!V74","v":5206},null,null,{"$f":"MAX('T1'!K74,'T2'!R74)","v":0},{"$f":"IF(AND(COUNTRY_INFO!K74>1,COUNTRY_INFO!K74<99,COUNTRY_INFO!K74<>4,COUNTRY_INFO!K74<>5),IF(COUNTRY_INFO!S74>AH74,AH74,COUNTRY_INFO!S74),0)","v":0},{"$f":"IF(AND(COUNTRY_INFO!K74>1,COUNTRY_INFO!K74<99,COUNTRY_INFO!K74<>4,COUNTRY_INFO!K74<>5), IF(AI74/COUNTRY_INFO!S74*100<>0, IF(AI74/COUNTRY_INFO!S74*100>100,100,AI74/COUNTRY_INFO!S74*100), \"-\"),0)","v":"-"},{"$f":"MAX('T1'!L74,'T2'!S74)","v":0},{"$f":"IF(AND(COUNTRY_INFO!K74>1,COUNTRY_INFO!K74<99,COUNTRY_INFO!K74<>4,COUNTRY_INFO!K74<>5),IF(COUNTRY_INFO!T74>AK74,AK74,COUNTRY_INFO!T74),0)","v":0},{"$f":"IF(AND(COUNTRY_INFO!K74>1,COUNTRY_INFO!K74<99,COUNTRY_INFO!K74<>4,COUNTRY_INFO!K74<>5), IF(AL74/COUNTRY_INFO!T74*100<>0, IF(AL74/COUNTRY_INFO!T74*100>100,100,AL74/COUNTRY_INFO!T74*100), \"-\"),0)","v":"-"},{"$f":"MAX('T1'!M74,'T2'!T74)","v":0},{"$f":"IF(AND(COUNTRY_INFO!K74>1,COUNTRY_INFO!K74<99,COUNTRY_INFO!K74<>4,COUNTRY_INFO!K74<>5),IF(COUNTRY_INFO!U74>AN74,AN74,COUNTRY_INFO!U74),0)","v":0},{"$f":"IF(AND(COUNTRY_INFO!K74>1,COUNTRY_INFO!K74<99,COUNTRY_INFO!K74<>4,COUNTRY_INFO!K74<>5), IF(AO74/COUNTRY_INFO!U74*100<>0, IF(AO74/COUNTRY_INFO!U74*100>100,100,AO74/COUNTRY_INFO!U74*100), \"-\"),0)","v":"-"},0,0,{"$f":"IF(AND(COUNTRY_INFO!K74>1,COUNTRY_INFO!K74<99,COUNTRY_INFO!K74<>4,COUNTRY_INFO!K74<>5), IF(AH74/AE74*100<>0, IF(AR74/AE74*100>100,100,AR74/AE74*100), \"-\"),0)","v":"-"},null,{"$f":"IF(AND(D74<>0, D74<>\"Unknown\",D74<>\"Stopped\",D74<>\"Not required\"),D74/COUNTRY_INFO!D74, 0)","v":0},{"$f":"IF(AND(J74<>0,J74<>\"Unknown\",J74<>\"Stopped\",J74<>\"Not required\"),J74/COUNTRY_INFO!D74, 0)","v":1},{"$f":"IF(AND(P74<>0,P74<>\"Unknown\",P74<>\"Surveillance\",P74<>\"Not required\"),P74/COUNTRY_INFO!R74, 0)","v":0},{"$f":"IF(AND(AE74<>0,AE74<>\"Unknown\",AE74<>\"Surveillance\",AE74<>\"Not required\"),AE74/COUNTRY_INFO!V74, 0)","v":1},{"$f":"IF(AU74>0,D74*PROFILE!$G$7,IF(AV74>0,J74*PROFILE!$G$7,0))","v":5320.1192479350857},{"$f":"_xlfn.IFS(OR(AU74>0,AW74>0),COUNTRY_INFO!E74, AV74>0,J74*PROFILE!$G$8,AX74>0,COUNTRY_INFO!S74,COUNTIFS(AU74:AX74,\">0\")=0,0)","v":21415.936430204929},{"$f":"_xlfn.IFS(OR(AU74>0,AW74>0),COUNTRY_INFO!F74, AV74>0,J74*PROFILE!$G$9,AX74>0,COUNTRY_INFO!T74,COUNTIFS(AU74:AX74,\">0\")=0,0)","v":59759.613596749266},{"$f":"_xlfn.IFS(AU74>0,COUNTRY_INFO!G74, AND(AV74>0,AW74=0,AX74=0),J74*PROFILE!$G$10,AND(AV74>0,AW74>0,AX74=0), MAX(J74*PROFILE!$G$10,COUNTRY_INFO!Q74),AND(AV74>0,AW74=0,AX74>0), MAX(J74*PROFILE!$G$10,COUNTRY_INFO!U74),AND(AV74=0,AW74>0,AX74>0), MAX(COUNTRY_INFO!Q74,COUNTRY_INFO!U74),AND(AV74=0,AW74>0,AX74=0),COUNTRY_INFO!Q74,AND(AV74=0,AW74=0,AX74>0),COUNTRY_INFO!U74,AND(AV74>0,AW74>0,AX74>0), MAX(J74*PROFILE!$G$10,COUNTRY_INFO!Q74,COUNTRY_INFO!U74),COUNTIFS(AU74:AX74,\">0\")=0,0)","v":106963.68932511071},193459.35859999998,0,{"$f":"MAX('MDA4'!R74,S74,AH74)","v":0},{"$f":"MAX('MDA1'!K74,'MDA4'!S74,'MDA3'!I74,'MDA3'!L74,V74,AK74)","v":90194},{"$f":"MAX('MDA1'!L74,'MDA4'!T74,'MDA3'!J74,'MDA3'!M74,Y74,AN74)","v":95446},185640,{"$f":"_xlfn.IFS(AND(AU74=0,AW74=0,AX74=0),0,AND(AU74=0,AW74=0,AX74>0),AI74,AND(AU74=0,AW74>0,AX74=0),T74,AND(AU74=0,AW74>0,AX74>0),MAX(T74,AI74),AND(AU74>0,AW74=0,AX74=0),MIN('MDA4'!R74,AZ74),AND(AU74>0,AW74=0,AX74>0),MIN(MAX('MDA4'!R74,AI74),AZ74),AND(AU74>0,AW74>0,AX74=0),MIN(MAX('MDA4'!R74,T74),AZ74),AND(AU74>0,AW74>0,AX74>0),MIN(MAX('MDA4'!R74,AI74,T74),AZ74))","v":0},{"$f":"_xlfn.IFS(AND(AU74=0,AV74=0,AW74=0,AX74=0),0,AND(AU74=0,AV74=0,AW74=0,AX74>0),AL74,AND(AU74=0,AV74=0,AW74>0,AX74=0),W74,AND(AU74=0,AV74=0,AW74>0,AX74>0),MAX(W74,AL74),AND(AU74=0,AV74>0,AW74=0,AX74=0),MIN(J74*PROFILE!$G$9,MAX('MDA3'!I74,'MDA3'!L74)),AND(AU74=0,AV74>0,AW74=0,AX74>0),MIN(J74*PROFILE!$G$9,MAX('MDA3'!I74,'MDA3'!L74,AL74)),AND(AU74=0,AV74>0,AW74>0,AX74=0),MIN(J74*PROFILE!$G$9,MAX('MDA3'!I74,'MDA3'!L74,W74)),AND(AU74=0,AV74>0,AW74>0,AX74>0),MIN(J74*PROFILE!$G$9,MAX('MDA3'!I74,'MDA3'!L74,W74,AL74)),AND(AU74>0,AV74=0,AW74=0,AX74=0), MIN(BA74,MAX('MDA1'!K74,'MDA4'!S74)),AND(AU74>0,AV74=0,AW74=0,AX74>0), MIN(BA74,MAX('MDA1'!K74,'MDA4'!S74,AL74)),AND(AU74>0,AV74=0,AW74>0,AX74=0),MIN(BA74,MAX('MDA1'!K74,'MDA4'!S74,W74)),AND(AU74>0,AV74=0,AW74>0,AX74>0),MIN(BA74,MAX('MDA1'!K74,'MDA4'!S74,W74,AL74)),AND(AU74>0,AV74>0,AW74=0,AX74=0),MIN(BA74, MAX('MDA1'!K74,'MDA4'!S74,MAX('MDA3'!I74,'MDA3'!L74))), AND(AU74>0,AV74>0,AW74=0,AX74>0),MIN(BA74, MAX('MDA1'!K74,'MDA4'!S74,MAX( 'MDA3'!I74,'MDA3'!L74),AL74)), AND(AU74>0,AV74>0,AW74>0,AX74=0), MIN(BA74, MAX('MDA1'!K74,'MDA4'!S74,MAX( 'MDA3'!I74,'MDA3'!L74),W74)), AND(AU74>0,AV74>0,AW74>0,AX74>0), MIN(BA74, MAX('MDA1'!K74,'MDA4'!S74,MAX( 'MDA3'!I74,'MDA3'!L74),W74,AL74)))","v":59759.613596749266},{"$f":"_xlfn.IFS(AND(AU74=0,AV74=0,AW74=0,AX74=0),0,AND(AU74=0,AV74=0,AW74=0,AX74>0),AO74,AND(AU74=0,AV74=0,AW74>0,AX74=0),Z74,AND(AU74=0,AV74=0,AW74>0,AX74>0),MAX(Z74,AO74),AND(AU74=0,AV74>0,AW74=0,AX74=0),MIN(J74*PROFILE!$G$10,MAX('MDA3'!J74,'MDA3'!J74)),AND(AU74=0,AV74>0,AW74=0,AX74>0),MIN(J74*PROFILE!$G$10,MAX('MDA3'!J74,'MDA3'!M74,AO74)),AND(AU74=0,AV74>0,AW74>0,AX74=0),MIN(J74*PROFILE!$G$10,MAX('MDA3'!J74,'MDA3'!M74,Z74)),AND(AU74=0,AV74>0,AW74>0,AX74>0),MIN(J74*PROFILE!$G$10,MAX('MDA3'!J74,'MDA3'!M74,Z74,AO74)),AND(AU74>0,AV74=0,AW74=0,AX74=0), MIN(BB74,MAX('MDA1'!L74,'MDA4'!T74)),AND(AU74>0,AV74=0,AW74=0,AX74>0), MIN(BB74,MAX('MDA1'!L74,'MDA4'!T74,AO74)),AND(AU74>0,AV74=0,AW74>0,AX74=0),MIN(BB74,MAX('MDA1'!L74,'MDA4'!T74,Z74)),AND(AU74>0,AV74=0,AW74>0,AX74>0),MIN(BB74,MAX('MDA1'!L74,'MDA4'!T74,Z74,AO74)),AND(AU74>0,AV74>0,AW74=0,AX74=0),MIN(BB74, MAX('MDA1'!L74,'MDA4'!T74,MAX( 'MDA3'!J74,'MDA3'!M74))), AND(AU74>0,AV74>0,AW74=0,AX74>0),MIN(BB74, MAX('MDA1'!L74,'MDA4'!T74,MAX( 'MDA3'!J74,'MDA3'!M74),AO74)), AND(AU74>0,AV74>0,AW74>0,AX74=0), MIN(BB74, MAX('MDA1'!L74,'MDA4'!T74,MAX( 'MDA3'!J74,'MDA3'!M74),Z74)), AND(AU74>0,AV74>0,AW74>0,AX74>0), MIN(BB74, MAX('MDA1'!L74,'MDA4'!T74,MAX( 'MDA3'!J74,'MDA3'!M74),Z74,AO74)))","v":95446},155205.61359674926,80.226469641954708]
[{"$f":"IF(COUNTRY_INFO!A75=0,\" \",COUNTRY_INFO!A75)","v":"South Sudan"},{"$f":"IF(COUNTRY_INFO!B75=0,\" \",COUNTRY_INFO!B75)","v":"Warrap"},{"$f":"IF(COUNTRY_INFO!C75=0,\" \",COUNTRY_INFO!C75)","v":"TONJ SOUTH"},{"$f":"COUNTRY_INFO!M75","v":144687.66380000001},null,null,{"$f":"'MDA1'!M75+'MDA4'!U75","v":84158},{"$f":"IF(AND(COUNTRY_INFO!H75>0,COUNTRY_INFO!H75<4),IF(D75>G75,G75,D75),0)","v":84158},{"$f":"IF(AND(COUNTRY_INFO!H75>0,COUNTRY_INFO!H75<4), IF(G75/D75*100<>0, IF(G75/D75*100>100,100,G75/D75*100), \"-\"),0)","v":58.165290522853816},{"$f":"COUNTRY_INFO!N75","v":144687.66380000001},null,null,{"$f":"MAX('MDA1'!M75,MAX('MDA3'!I75,'MDA3'!L75)+MAX('MDA3'!J75,'MDA3'!M75))","v":84158},{"$f":"IF(AND(COUNTRY_INFO!I75>0,COUNTRY_INFO!I75<4),IF(J75>M75,M75,J75),0)","v":84158},{"$f":"IF(AND(COUNTRY_INFO!I75>0,COUNTRY_INFO!I75<4), IF(M75/J75*100<>0, IF(M75/J75*100>100,100,M75/J75*100), \"-\"),0)","v":58.165290522853816},{"$f":"COUNTRY_INFO!R75","v":0},null,null,{"$f":"MAX('MDA4'!R75,'T1'!K75, MAX(T3_R1!J75,T3_R2!J75,T3_R3!J75))","v":0},{"$f":"IF(AND(COUNTRY_INFO!J75>1,COUNTRY_INFO!J75<99,COUNTRY_INFO!J75<>4,COUNTRY_INFO!J75<>5),IF(COUNTRY_INFO!O75>S75,S75,COUNTRY_INFO!O75),0)","v":0},{"$f":"IF(AND(COUNTRY_INFO!J75>1,COUNTRY_INFO!J75<99,COUNTRY_INFO!J75<>4,COUNTRY_INFO!J75<>5), IF(T75/COUNTRY_INFO!O75*100<>0, IF(T75/COUNTRY_INFO!O75*100>100,100,T75/COUNTRY_INFO!O75*100), \"-\"),0)","v":0},{"$f":"MAX('MDA1'!K75,'MDA4'!S75, 'T1'!L75, MAX(T3_R1!K75,T3_R2!K75,T3_R3!K75))","v":42262},{"$f":"IF(AND(COUNTRY_INFO!J75>1,COUNTRY_INFO!J75<99,COUNTRY_INFO!J75<>4,COUNTRY_INFO!J75<>5),IF(COUNTRY_INFO!P75>V75,V75,COUNTRY_INFO!P75),0)","v":0},{"$f":"IF(AND(COUNTRY_INFO!J75>1,COUNTRY_INFO!J75<99,COUNTRY_INFO!J75<>4,COUNTRY_INFO!J75<>5), IF(W75/COUNTRY_INFO!P75*100<>0, IF(W75/COUNTRY_INFO!P75*100>100,100,W75/COUNTRY_INFO!P75*100), \"-\"),0)","v":0},{"$f":"MAX('MDA1'!L75,'MDA4'!T75, 'T1'!M75, MAX(T3_R1!L75,T3_R2!L75,T3_R3!L75))","v":41896},{"$f":"IF(AND(COUNTRY_INFO!J75>1,COUNTRY_INFO!J75<99,COUNTRY_INFO!J75<>4,COUNTRY_INFO!J75<>5),IF(COUNTRY_INFO!Q75>Y75,Y75,COUNTRY_INFO!Q75),0)","v":0},{"$f":"IF(AND(COUNTRY_INFO!J75>1,COUNTRY_INFO!J75<99,COUNTRY_INFO!J75<>4,COUNTRY_INFO!J75<>5), IF(Z75/COUNTRY_INFO!Q75*100<>0, IF(Z75/COUNTRY_INFO!Q75*100>100,100,Z75/COUNTRY_INFO!Q75*100), \"-\"),0)","v":0},{"$f":"SUM(S75,V75,Y75)","v":84158},{"$f":"SUM(T75,W75,Z75)","v":0},{"$f":"IF(AND(COUNTRY_INFO!J75>1,COUNTRY_INFO!J75<99,COUNTRY_INFO!J75<>4,COUNTRY_INFO!J75<>5), IF(AC75/P75*100<>0, IF(AC75/P75*100>100,100,AC75/P75*100), \"-\"),0)","v":0},{"$f":"COUNTRY_INFO!V75","v":18754},null,null,{"$f":"MAX('T1'!K75,'T2'!R75)","v":0},{"$f":"IF(AND(COUNTRY_INFO!K75>1,COUNTRY_INFO!K75<99,COUNTRY_INFO!K75<>4,COUNTRY_INFO!K75<>5),IF(COUNTRY_INFO!S75>AH75,AH75,COUNTRY_INFO!S75),0)","v":0},{"$f":"IF(AND(COUNTRY_INFO!K75>1,COUNTRY_INFO!K75<99,COUNTRY_INFO!K75<>4,COUNTRY_INFO!K75<>5), IF(AI75/COUNTRY_INFO!S75*100<>0, IF(AI75/COUNTRY_INFO!S75*100>100,100,AI75/COUNTRY_INFO!S75*100), \"-\"),0)","v":"-"},{"$f":"MAX('T1'!L75,'T2'!S75)","v":0},{"$f":"IF(AND(COUNTRY_INFO!K75>1,COUNTRY_INFO!K75<99,COUNTRY_INFO!K75<>4,COUNTRY_INFO!K75<>5),IF(COUNTRY_INFO!T75>AK75,AK75,COUNTRY_INFO!T75),0)","v":0},{"$f":"IF(AND(COUNTRY_INFO!K75>1,COUNTRY_INFO!K75<99,COUNTRY_INFO!K75<>4,COUNTRY_INFO!K75<>5), IF(AL75/COUNTRY_INFO!T75*100<>0, IF(AL75/COUNTRY_INFO!T75*100>100,100,AL75/COUNTRY_INFO!T75*100), \"-\"),0)","v":"-"},{"$f":"MAX('T1'!M75,'T2'!T75)","v":0},{"$f":"IF(AND(COUNTRY_INFO!K75>1,COUNTRY_INFO!K75<99,COUNTRY_INFO!K75<>4,COUNTRY_INFO!K75<>5),IF(COUNTRY_INFO!U75>AN75,AN75,COUNTRY_INFO!U75),0)","v":0},{"$f":"IF(AND(COUNTRY_INFO!K75>1,COUNTRY_INFO!K75<99,COUNTRY_INFO!K75<>4,COUNTRY_INFO!K75<>5), IF(AO75/COUNTRY_INFO!U75*100<>0, IF(AO75/COUNTRY_INFO!U75*100>100,100,AO75/COUNTRY_INFO!U75*100), \"-\"),0)","v":"-"},{"$f":"SUM(AH75,AK75,AN75)","v":0},{"$f":"SUM(AI75,AL75,AO75)","v":0},{"$f":"IF(AND(COUNTRY_INFO!K75>1,COUNTRY_INFO!K75<99,COUNTRY_INFO!K75<>4,COUNTRY_INFO!K75<>5), IF(AH75/AE75*100<>0, IF(AR75/AE75*100>100,100,AR75/AE75*100), \"-\"),0)","v":"-"},null,{"$f":"IF(AND(D75<>0, D75<>\"Unknown\",D75<>\"Stopped\",D75<>\"Not required\"),D75/COUNTRY_INFO!D75, 0)","v":1},{"$f":"IF(AND(J75<>0,J75<>\"Unknown\",J75<>\"Stopped\",J75<>\"Not required\"),J75/COUNTRY_INFO!D75, 0)","v":1},{"$f":"IF(AND(P75<>0,P75<>\"Unknown\",P75<>\"Surveillance\",P75<>\"Not required\"),P75/COUNTRY_INFO!R75, 0)","v":0},{"$f":"IF(AND(AE75<>0,AE75<>\"Unknown\",AE75<>\"Surveillance\",AE75<>\"Not required\"),AE75/COUNTRY_INFO!V75, 0)","v":1},{"$f":"IF(AU75>0,D75*PROFILE!$G$7,IF(AV75>0,J75*PROFILE!$G$7,0))","v":3978.9009469048274},{"$f":"_xlfn.IFS(OR(AU75>0,AW75>0),COUNTRY_INFO!E75, AV75>0,J75*PROFILE!$G$8,AX75>0,COUNTRY_INFO!S75,COUNTIFS(AU75:AX75,\">0\")=0,0)","v":16017},{"$f":"_xlfn.IFS(OR(AU75>0,AW75>0),COUNTRY_INFO!F75, AV75>0,J75*PROFILE!$G$9,AX75>0,COUNTRY_INFO!T75,COUNTIFS(AU75:AX75,\">0\")=0,0)","v":44694},{"$f":"_xlfn.IFS(AU75>0,COUNTRY_INFO!G75, AND(AV75>0,AW75=0,AX75=0),J75*PROFILE!$G$10,AND(AV75>0,AW75>0,AX75=0), MAX(J75*PROFILE!$G$10,COUNTRY_INFO!Q75),AND(AV75>0,AW75=0,AX75>0), MAX(J75*PROFILE!$G$10,COUNTRY_INFO!U75),AND(AV75=0,AW75>0,AX75>0), MAX(COUNTRY_INFO!Q75,COUNTRY_INFO!U75),AND(AV75=0,AW75>0,AX75=0),COUNTRY_INFO!Q75,AND(AV75=0,AW75=0,AX75>0),COUNTRY_INFO!U75,AND(AV75>0,AW75>0,AX75>0), MAX(J75*PROFILE!$G$10,COUNTRY_INFO!Q75,COUNTRY_INFO!U75),COUNTIFS(AU75:AX75,\">0\")=0,0)","v":79998},{"$f":"SUM(AY75:BB75)","v":144687.90094690485},{"$f":"IF(COUNTIFS(AU75:AX75,\">0\")=0,0, IF(COUNTIFS(AU75:AX75,\">0\")<=IF(AND(OR(D75>=0,D75=\"Not required\",D75=\"Unknown\",D75=\"Stopped\"),D75>0,H75>0),1,0)+IF(AND(OR(J75>=0,J75=\"Not required\",J75=\"Unknown\",J75=\"Stopped\"),J75>0,N75>0),1,0)+IF(AND(OR(P75>=0,P75=\"Not required\",P75=\"Surveillance\",P75=\"Unknown\"),P75>0,AC75>0),1,0)+IF(AND(OR(AE75>=0,AE75=\"Not required\",AE75=\"Surveillance\",AE75=\"Unknown\"),AE75>0,AR75>0),1,0),\"Y\",0))","v":0},{"$f":"MAX('MDA4'!R75,S75,AH75)","v":0},{"$f":"MAX('MDA1'!K75,'MDA4'!S75,'MDA3'!I75,'MDA3'!L75,V75,AK75)","v":42262},{"$f":"MAX('MDA1'!L75,'MDA4'!T75,'MDA3'!J75,'MDA3'!M75,Y75,AN75)","v":41896},{"$f":"SUM(BE75:BG75)","v":84158},{"$f":"_xlfn.IFS(AND(AU75=0,AW75=0,AX75=0),0,AND(AU75=0,AW75=0,AX75>0),AI75,AND(AU75=0,AW75>0,AX75=0),T75,AND(AU75=0,AW75>0,AX75>0),MAX(T75,AI75),AND(AU75>0,AW75=0,AX75=0),MIN('MDA4'!R75,AZ75),AND(AU75>0,AW75=0,AX75>0),MIN(MAX('MDA4'!R75,AI75),AZ75),AND(AU75>0,AW75>0,AX75=0),MIN(MAX('MDA4'!R75,T75),AZ75),AND(AU75>0,AW75>0,AX75>0),MIN(MAX('MDA4'!R75,AI75,T75),AZ75))","v":0},{"$f":"_xlfn.IFS(AND(AU75=0,AV75=0,AW75=0,AX75=0),0,AND(AU75=0,AV75=0,AW75=0,AX75>0),AL75,AND(AU75=0,AV75=0,AW75>0,AX75=0),W75,AND(AU75=0,AV75=0,AW75>0,AX75>0),MAX(W75,AL75),AND(AU75=0,AV75>0,AW75=0,AX75=0),MIN(J75*PROFILE!$G$9,MAX('MDA3'!I75,'MDA3'!L75)),AND(AU75=0,AV75>0,AW75=0,AX75>0),MIN(J75*PROFILE!$G$9,MAX('MDA3'!I75,'MDA3'!L75,AL75)),AND(AU75=0,AV75>0,AW75>0,AX75=0),MIN(J75*PROFILE!$G$9,MAX('MDA3'!I75,'MDA3'!L75,W75)),AND(AU75=0,AV75>0,AW75>0,AX75>0),MIN(J75*PROFILE!$G$9,MAX('MDA3'!I75,'MDA3'!L75,W75,AL75)),AND(AU75>0,AV75=0,AW75=0,AX75=0), MIN(BA75,MAX('MDA1'!K75,'MDA4'!S75)),AND(AU75>0,AV75=0,AW75=0,AX75>0), MIN(BA75,MAX('MDA1'!K75,'MDA4'!S75,AL75)),AND(AU75>0,AV75=0,AW75>0,AX75=0),MIN(BA75,MAX('MDA1'!K75,'MDA4'!S75,W75)),AND(AU75>0,AV75=0,AW75>0,AX75>0),MIN(BA75,MAX('MDA1'!K75,'MDA4'!S75,W75,AL75)),AND(AU75>0,AV75>0,AW75=0,AX75=0),MIN(BA75, MAX('MDA1'!K75,'MDA4'!S75,MAX('MDA3'!I75,'MDA3'!L75))), AND(AU75>0,AV75>0,AW75=0,AX75>0),MIN(BA75, MAX('MDA1'!K75,'MDA4'!S75,MAX( 'MDA3'!I75,'MDA3'!L75),AL75)), AND(AU75>0,AV75>0,AW75>0,AX75=0), MIN(BA75, MAX('MDA1'!K75,'MDA4'!S75,MAX( 'MDA3'!I75,'MDA3'!L75),W75)), AND(AU75>0,AV75>0,AW75>0,AX75>0), MIN(BA75, MAX('MDA1'!K75,'MDA4'!S75,MAX( 'MDA3'!I75,'MDA3'!L75),W75,AL75)))","v":42262},{"$f":"_xlfn.IFS(AND(AU75=0,AV75=0,AW75=0,AX75=0),0,AND(AU75=0,AV75=0,AW75=0,AX75>0),AO75,AND(AU75=0,AV75=0,AW75>0,AX75=0),Z75,AND(AU75=0,AV75=0,AW75>0,AX75>0),MAX(Z75,AO75),AND(AU75=0,AV75>0,AW75=0,AX75=0),MIN(J75*PROFILE!$G$10,MAX('MDA3'!J75,'MDA3'!J75)),AND(AU75=0,AV75>0,AW75=0,AX75>0),MIN(J75*PROFILE!$G$10,MAX('MDA3'!J75,'MDA3'!M75,AO75)),AND(AU75=0,AV75>0,AW75>0,AX75=0),MIN(J75*PROFILE!$G$10,MAX('MDA3'!J75,'MDA3'!M75,Z75)),AND(AU75=0,AV75>0,AW75>0,AX75>0),MIN(J75*PROFILE!$G$10,MAX('MDA3'!J75,'MDA3'!M75,Z75,AO75)),AND(AU75>0,AV75=0,AW75=0,AX75=0), MIN(BB75,MAX('MDA1'!L75,'MDA4'!T75)),AND(AU75>0,AV75=0,AW75=0,AX75>0), MIN(BB75,MAX('MDA1'!L75,'MDA4'!T75,AO75)),AND(AU75>0,AV75=0,AW75>0,AX75=0),MIN(BB75,MAX('MDA1'!L75,'MDA4'!T75,Z75)),AND(AU75>0,AV75=0,AW75>0,AX75>0),MIN(BB75,MAX('MDA1'!L75,'MDA4'!T75,Z75,AO75)),AND(AU75>0,AV75>0,AW75=0,AX75=0),MIN(BB75, MAX('MDA1'!L75,'MDA4'!T75,MAX( 'MDA3'!J75,'MDA3'!M75))), AND(AU75>0,AV75>0,AW75=0,AX75>0),MIN(BB75, MAX('MDA1'!L75,'MDA4'!T75,MAX( 'MDA3'!J75,'MDA3'!M75),AO75)), AND(AU75>0,AV75>0,AW75>0,AX75=0), MIN(BB75, MAX('MDA1'!L75,'MDA4'!T75,MAX( 'MDA3'!J75,'MDA3'!M75),Z75)), AND(AU75>0,AV75>0,AW75>0,AX75>0), MIN(BB75, MAX('MDA1'!L75,'MDA4'!T75,MAX( 'MDA3'!J75,'MDA3'!M75),Z75,AO75)))","v":41896},{"$f":"SUM(BI75:BK75)","v":84158},{"$f":"IF(BC75<>0,BL75/BC75*100,0)","v":58.16519518856169}]
[{"$f":"IF(COUNTRY_INFO!A76=0,\" \",COUNTRY_INFO!A76)","v":"South Sudan"},{"$f":"IF(COUNTRY_INFO!B76=0,\" \",COUNTRY_INFO!B76)","v":"Wesstern Equatoria"},{"$f":"IF(COUNTRY_INFO!C76=0,\" \",COUNTRY_INFO!C76)","v":"TAMBURA"},{"$f":"COUNTRY_INFO!M76","v":82150.791500000007},null,null,{"$f":"'MDA1'!M76+'MDA4'!U76","v":45805},{"$f":"IF(AND(COUNTRY_INFO!H76>0,COUNTRY_INFO!H76<4),IF(D76>G76,G76,D76),0)","v":45805},{"$f":"IF(AND(COUNTRY_INFO!H76>0,COUNTRY_INFO!H76<4), IF(G76/D76*100<>0, IF(G76/D76*100>100,100,G76/D76*100), \"-\"),0)","v":55.757222984272772},{"$f":"COUNTRY_INFO!N76","v":82150.791500000007},null,null,{"$f":"MAX('MDA1'!M76,MAX('MDA3'!I76,'MDA3'!L76)+MAX('MDA3'!J76,'MDA3'!M76))","v":45805},{"$f":"IF(AND(COUNTRY_INFO!I76>0,COUNTRY_INFO!I76<4),IF(J76>M76,M76,J76),0)","v":45805},{"$f":"IF(AND(COUNTRY_INFO!I76>0,COUNTRY_INFO!I76<4), IF(M76/J76*100<>0, IF(M76/J76*100>100,100,M76/J76*100), \"-\"),0)","v":55.757222984272772},{"$f":"COUNTRY_INFO!R76","v":0},null,null,{"$f":"MAX('MDA4'!R76,'T1'!K76, MAX(T3_R1!J76,T3_R2!J76,T3_R3!J76))","v":0},{"$f":"IF(AND(COUNTRY_INFO!J76>1,COUNTRY_INFO!J76<99,COUNTRY_INFO!J76<>4,COUNTRY_INFO!J76<>5),IF(COUNTRY_INFO!O76>S76,S76,COUNTRY_INFO!O76),0)","v":0},{"$f":"IF(AND(COUNTRY_INFO!J76>1,COUNTRY_INFO!J76<99,COUNTRY_INFO!J76<>4,COUNTRY_INFO!J76<>5), IF(T76/COUNTRY_INFO!O76*100<>0, IF(T76/COUNTRY_INFO!O76*100>100,100,T76/COUNTRY_INFO!O76*100), \"-\"),0)","v":0},{"$f":"MAX('MDA1'!K76,'MDA4'!S76, 'T1'!L76, MAX(T3_R1!K76,T3_R2!K76,T3_R3!K76))","v":22312},{"$f":"IF(AND(COUNTRY_INFO!J76>1,COUNTRY_INFO!J76<99,COUNTRY_INFO!J76<>4,COUNTRY_INFO!J76<>5),IF(COUNTRY_INFO!P76>V76,V76,COUNTRY_INFO!P76),0)","v":0},{"$f":"IF(AND(COUNTRY_INFO!J76>1,COUNTRY_INFO!J76<99,COUNTRY_INFO!J76<>4,COUNTRY_INFO!J76<>5), IF(W76/COUNTRY_INFO!P76*100<>0, IF(W76/COUNTRY_INFO!P76*100>100,100,W76/COUNTRY_INFO!P76*100), \"-\"),0)","v":0},{"$f":"MAX('MDA1'!L76,'MDA4'!T76, 'T1'!M76, MAX(T3_R1!L76,T3_R2!L76,T3_R3!L76))","v":23493},{"$f":"IF(AND(COUNTRY_INFO!J76>1,COUNTRY_INFO!J76<99,COUNTRY_INFO!J76<>4,COUNTRY_INFO!J76<>5),IF(COUNTRY_INFO!Q76>Y76,Y76,COUNTRY_INFO!Q76),0)","v":0},{"$f":"IF(AND(COUNTRY_INFO!J76>1,COUNTRY_INFO!J76<99,COUNTRY_INFO!J76<>4,COUNTRY_INFO!J76<>5), IF(Z76/COUNTRY_INFO!Q76*100<>0, IF(Z76/COUNTRY_INFO!Q76*100>100,100,Z76/COUNTRY_INFO!Q76*100), \"-\"),0)","v":0},45805,0,{"$f":"IF(AND(COUNTRY_INFO!J76>1,COUNTRY_INFO!J76<99,COUNTRY_INFO!J76<>4,COUNTRY_INFO!J76<>5), IF(AC76/P76*100<>0, IF(AC76/P76*100>100,100,AC76/P76*100), \"-\"),0)","v":0},{"$f":"COUNTRY_INFO!V76","v":70139},null,null,{"$f":"MAX('T1'!K76,'T2'!R76)","v":0},{"$f":"IF(AND(COUNTRY_INFO!K76>1,COUNTRY_INFO!K76<99,COUNTRY_INFO!K76<>4,COUNTRY_INFO!K76<>5),IF(COUNTRY_INFO!S76>AH76,AH76,COUNTRY_INFO!S76),0)","v":0},{"$f":"IF(AND(COUNTRY_INFO!K76>1,COUNTRY_INFO!K76<99,COUNTRY_INFO!K76<>4,COUNTRY_INFO!K76<>5), IF(AI76/COUNTRY_INFO!S76*100<>0, IF(AI76/COUNTRY_INFO!S76*100>100,100,AI76/COUNTRY_INFO!S76*100), \"-\"),0)","v":"-"},{"$f":"MAX('T1'!L76,'T2'!S76)","v":0},{"$f":"IF(AND(COUNTRY_INFO!K76>1,COUNTRY_INFO!K76<99,COUNTRY_INFO!K76<>4,COUNTRY_INFO!K76<>5),IF(COUNTRY_INFO!T76>AK76,AK76,COUNTRY_INFO!T76),0)","v":0},{"$f":"IF(AND(COUNTRY_INFO!K76>1,COUNTRY_INFO!K76<99,COUNTRY_INFO!K76<>4,COUNTRY_INFO!K76<>5), IF(AL76/COUNTRY_INFO!T76*100<>0, IF(AL76/COUNTRY_INFO!T76*100>100,100,AL76/COUNTRY_INFO!T76*100), \"-\"),0)","v":"-"},{"$f":"MAX('T1'!M76,'T2'!T76)","v":0},{"$f":"IF(AND(COUNTRY_INFO!K76>1,COUNTRY_INFO!K76<99,COUNTRY_INFO!K76<>4,COUNTRY_INFO!K76<>5),IF(COUNTRY_INFO!U76>AN76,AN76,COUNTRY_INFO!U76),0)","v":0},{"$f":"IF(AND(COUNTRY_INFO!K76>1,COUNTRY_INFO!K76<99,COUNTRY_INFO!K76<>4,COUNTRY_INFO!K76<>5), IF(AO76/COUNTRY_INFO!U76*100<>0, IF(AO76/COUNTRY_INFO!U76*100>100,100,AO76/COUNTRY_INFO!U76*100), \"-\"),0)","v":"-"},0,0,{"$f":"IF(AND(COUNTRY_INFO!K76>1,COUNTRY_INFO!K76<99,COUNTRY_INFO!K76<>4,COUNTRY_INFO!K76<>5), IF(AH76/AE76*100<>0, IF(AR76/AE76*100>100,100,AR76/AE76*100), \"-\"),0)","v":"-"},null,{"$f":"IF(AND(D76<>0, D76<>\"Unknown\",D76<>\"Stopped\",D76<>\"Not required\"),D76/COUNTRY_INFO!D76, 0)","v":1},{"$f":"IF(AND(J76<>0,J76<>\"Unknown\",J76<>\"Stopped\",J76<>\"Not required\"),J76/COUNTRY_INFO!D76, 0)","v":1},{"$f":"IF(AND(P76<>0,P76<>\"Unknown\",P76<>\"Surveillance\",P76<>\"Not required\"),P76/COUNTRY_INFO!R76, 0)","v":0},{"$f":"IF(AND(AE76<>0,AE76<>\"Unknown\",AE76<>\"Surveillance\",AE76<>\"Not required\"),AE76/COUNTRY_INFO!V76, 0)","v":1},{"$f":"IF(AU76>0,D76*PROFILE!$G$7,IF(AV76>0,J76*PROFILE!$G$7,0))","v":2259.1411976915965},{"$f":"_xlfn.IFS(OR(AU76>0,AW76>0),COUNTRY_INFO!E76, AV76>0,J76*PROFILE!$G$8,AX76>0,COUNTRY_INFO!S76,COUNTIFS(AU76:AX76,\">0\")=0,0)","v":9094},{"$f":"_xlfn.IFS(OR(AU76>0,AW76>0),COUNTRY_INFO!F76, AV76>0,J76*PROFILE!$G$9,AX76>0,COUNTRY_INFO!T76,COUNTIFS(AU76:AX76,\">0\")=0,0)","v":25376},{"$f":"_xlfn.IFS(AU76>0,COUNTRY_INFO!G76, AND(AV76>0,AW76=0,AX76=0),J76*PROFILE!$G$10,AND(AV76>0,AW76>0,AX76=0), MAX(J76*PROFILE!$G$10,COUNTRY_INFO!Q76),AND(AV76>0,AW76=0,AX76>0), MAX(J76*PROFILE!$G$10,COUNTRY_INFO!U76),AND(AV76=0,AW76>0,AX76>0), MAX(COUNTRY_INFO!Q76,COUNTRY_INFO!U76),AND(AV76=0,AW76>0,AX76=0),COUNTRY_INFO!Q76,AND(AV76=0,AW76=0,AX76>0),COUNTRY_INFO!U76,AND(AV76>0,AW76>0,AX76>0), MAX(J76*PROFILE!$G$10,COUNTRY_INFO!Q76,COUNTRY_INFO!U76),COUNTIFS(AU76:AX76,\">0\")=0,0)","v":45421},82150.141197691599,0,{"$f":"MAX('MDA4'!R76,S76,AH76)","v":0},{"$f":"MAX('MDA1'!K76,'MDA4'!S76,'MDA3'!I76,'MDA3'!L76,V76,AK76)","v":22312},{"$f":"MAX('MDA1'!L76,'MDA4'!T76,'MDA3'!J76,'MDA3'!M76,Y76,AN76)","v":23493},45805,{"$f":"_xlfn.IFS(AND(AU76=0,AW76=0,AX76=0),0,AND(AU76=0,AW76=0,AX76>0),AI76,AND(AU76=0,AW76>0,AX76=0),T76,AND(AU76=0,AW76>0,AX76>0),MAX(T76,AI76),AND(AU76>0,AW76=0,AX76=0),MIN('MDA4'!R76,AZ76),AND(AU76>0,AW76=0,AX76>0),MIN(MAX('MDA4'!R76,AI76),AZ76),AND(AU76>0,AW76>0,AX76=0),MIN(MAX('MDA4'!R76,T76),AZ76),AND(AU76>0,AW76>0,AX76>0),MIN(MAX('MDA4'!R76,AI76,T76),AZ76))","v":0},{"$f":"_xlfn.IFS(AND(AU76=0,AV76=0,AW76=0,AX76=0),0,AND(AU76=0,AV76=0,AW76=0,AX76>0),AL76,AND(AU76=0,AV76=0,AW76>0,AX76=0),W76,AND(AU76=0,AV76=0,AW76>0,AX76>0),MAX(W76,AL76),AND(AU76=0,AV76>0,AW76=0,AX76=0),MIN(J76*PROFILE!$G$9,MAX('MDA3'!I76,'MDA3'!L76)),AND(AU76=0,AV76>0,AW76=0,AX76>0),MIN(J76*PROFILE!$G$9,MAX('MDA3'!I76,'MDA3'!L76,AL76)),AND(AU76=0,AV76>0,AW76>0,AX76=0),MIN(J76*PROFILE!$G$9,MAX('MDA3'!I76,'MDA3'!L76,W76)),AND(AU76=0,AV76>0,AW76>0,AX76>0),MIN(J76*PROFILE!$G$9,MAX('MDA3'!I76,'MDA3'!L76,W76,AL76)),AND(AU76>0,AV76=0,AW76=0,AX76=0), MIN(BA76,MAX('MDA1'!K76,'MDA4'!S76)),AND(AU76>0,AV76=0,AW76=0,AX76>0), MIN(BA76,MAX('MDA1'!K76,'MDA4'!S76,AL76)),AND(AU76>0,AV76=0,AW76>0,AX76=0),MIN(BA76,MAX('MDA1'!K76,'MDA4'!S76,W76)),AND(AU76>0,AV76=0,AW76>0,AX76>0),MIN(BA76,MAX('MDA1'!K76,'MDA4'!S76,W76,AL76)),AND(AU76>0,AV76>0,AW76=0,AX76=0),MIN(BA76, MAX('MDA1'!K76,'MDA4'!S76,MAX('MDA3'!I76,'MDA3'!L76))), AND(AU76>0,AV76>0,AW76=0,AX76>0),MIN(BA76, MAX('MDA1'!K76,'MDA4'!S76,MAX( 'MDA3'!I76,'MDA3'!L76),AL76)), AND(AU76>0,AV76>0,AW76>0,AX76=0), MIN(BA76, MAX('MDA1'!K76,'MDA4'!S76,MAX( 'MDA3'!I76,'MDA3'!L76),W76)), AND(AU76>0,AV76>0,AW76>0,AX76>0), MIN(BA76, MAX('MDA1'!K76,'MDA4'!S76,MAX( 'MDA3'!I76,'MDA3'!L76),W76,AL76)))","v":22312},{"$f":"_xlfn.IFS(AND(AU76=0,AV76=0,AW76=0,AX76=0),0,AND(AU76=0,AV76=0,AW76=0,AX76>0),AO76,AND(AU76=0,AV76=0,AW76>0,AX76=0),Z76,AND(AU76=0,AV76=0,AW76>0,AX76>0),MAX(Z76,AO76),AND(AU76=0,AV76>0,AW76=0,AX76=0),MIN(J76*PROFILE!$G$10,MAX('MDA3'!J76,'MDA3'!J76)),AND(AU76=0,AV76>0,AW76=0,AX76>0),MIN(J76*PROFILE!$G$10,MAX('MDA3'!J76,'MDA3'!M76,AO76)),AND(AU76=0,AV76>0,AW76>0,AX76=0),MIN(J76*PROFILE!$G$10,MAX('MDA3'!J76,'MDA3'!M76,Z76)),AND(AU76=0,AV76>0,AW76>0,AX76>0),MIN(J76*PROFILE!$G$10,MAX('MDA3'!J76,'MDA3'!M76,Z76,AO76)),AND(AU76>0,AV76=0,AW76=0,AX76=0), MIN(BB76,MAX('MDA1'!L76,'MDA4'!T76)),AND(AU76>0,AV76=0,AW76=0,AX76>0), MIN(BB76,MAX('MDA1'!L76,'MDA4'!T76,AO76)),AND(AU76>0,AV76=0,AW76>0,AX76=0),MIN(BB76,MAX('MDA1'!L76,'MDA4'!T76,Z76)),AND(AU76>0,AV76=0,AW76>0,AX76>0),MIN(BB76,MAX('MDA1'!L76,'MDA4'!T76,Z76,AO76)),AND(AU76>0,AV76>0,AW76=0,AX76=0),MIN(BB76, MAX('MDA1'!L76,'MDA4'!T76,MAX( 'MDA3'!J76,'MDA3'!M76))), AND(AU76>0,AV76>0,AW76=0,AX76>0),MIN(BB76, MAX('MDA1'!L76,'MDA4'!T76,MAX( 'MDA3'!J76,'MDA3'!M76),AO76)), AND(AU76>0,AV76>0,AW76>0,AX76=0), MIN(BB76, MAX('MDA1'!L76,'MDA4'!T76,MAX( 'MDA3'!J76,'MDA3'!M76),Z76)), AND(AU76>0,AV76>0,AW76>0,AX76>0), MIN(BB76, MAX('MDA1'!L76,'MDA4'!T76,MAX( 'MDA3'!J76,'MDA3'!M76),Z76,AO76)))","v":23493},45805,55.757664359665291]
[{"$f":"IF(COUNTRY_INFO!A77=0,\" \",COUNTRY_INFO!A77)","v":"South Sudan"},{"$f":"IF(COUNTRY_INFO!B77=0,\" \",COUNTRY_INFO!B77)","v":"Wesstern Equatoria"},{"$f":"IF(COUNTRY_INFO!C77=0,\" \",COUNTRY_INFO!C77)","v":"NAGERO"},{"$f":"COUNTRY_INFO!M77","v":14768.788900000001},null,null,{"$f":"'MDA1'!M77+'MDA4'!U77","v":9489},{"$f":"IF(AND(COUNTRY_INFO!H77>0,COUNTRY_INFO!H77<4),IF(D77>G77,G77,D77),0)","v":9489},{"$f":"IF(AND(COUNTRY_INFO!H77>0,COUNTRY_INFO!H77<4), IF(G77/D77*100<>0, IF(G77/D77*100>100,100,G77/D77*100), \"-\"),0)","v":64.250359756987237},{"$f":"COUNTRY_INFO!N77","v":14768.788900000001},null,null,{"$f":"MAX('MDA1'!M77,MAX('MDA3'!I77,'MDA3'!L77)+MAX('MDA3'!J77,'MDA3'!M77))","v":9489},{"$f":"IF(AND(COUNTRY_INFO!I77>0,COUNTRY_INFO!I77<4),IF(J77>M77,M77,J77),0)","v":9489},{"$f":"IF(AND(COUNTRY_INFO!I77>0,COUNTRY_INFO!I77<4), IF(M77/J77*100<>0, IF(M77/J77*100>100,100,M77/J77*100), \"-\"),0)","v":64.250359756987237},{"$f":"COUNTRY_INFO!R77","v":0},null,null,{"$f":"MAX('MDA4'!R77,'T1'!K77, MAX(T3_R1!J77,T3_R2!J77,T3_R3!J77))","v":0},{"$f":"IF(AND(COUNTRY_INFO!J77>1,COUNTRY_INFO!J77<99,COUNTRY_INFO!J77<>4,COUNTRY_INFO!J77<>5),IF(COUNTRY_INFO!O77>S77,S77,COUNTRY_INFO!O77),0)","v":0},{"$f":"IF(AND(COUNTRY_INFO!J77>1,COUNTRY_INFO!J77<99,COUNTRY_INFO!J77<>4,COUNTRY_INFO!J77<>5), IF(T77/COUNTRY_INFO!O77*100<>0, IF(T77/COUNTRY_INFO!O77*100>100,100,T77/COUNTRY_INFO!O77*100), \"-\"),0)","v":0},{"$f":"MAX('MDA1'!K77,'MDA4'!S77, 'T1'!L77, MAX(T3_R1!K77,T3_R2!K77,T3_R3!K77))","v":4496},{"$f":"IF(AND(COUNTRY_INFO!J77>1,COUNTRY_INFO!J77<99,COUNTRY_INFO!J77<>4,COUNTRY_INFO!J77<>5),IF(COUNTRY_INFO!P77>V77,V77,COUNTRY_INFO!P77),0)","v":0},{"$f":"IF(AND(COUNTRY_INFO!J77>1,COUNTRY_INFO!J77<99,COUNTRY_INFO!J77<>4,COUNTRY_INFO!J77<>5), IF(W77/COUNTRY_INFO!P77*100<>0, IF(W77/COUNTRY_INFO!P77*100>100,100,W77/COUNTRY_INFO!P77*100), \"-\"),0)","v":0},{"$f":"MAX('MDA1'!L77,'MDA4'!T77, 'T1'!M77, MAX(T3_R1!L77,T3_R2!L77,T3_R3!L77))","v":4993},{"$f":"IF(AND(COUNTRY_INFO!J77>1,COUNTRY_INFO!J77<99,COUNTRY_INFO!J77<>4,COUNTRY_INFO!J77<>5),IF(COUNTRY_INFO!Q77>Y77,Y77,COUNTRY_INFO!Q77),0)","v":0},{"$f":"IF(AND(COUNTRY_INFO!J77>1,COUNTRY_INFO!J77<99,COUNTRY_INFO!J77<>4,COUNTRY_INFO!J77<>5), IF(Z77/COUNTRY_INFO!Q77*100<>0, IF(Z77/COUNTRY_INFO!Q77*100>100,100,Z77/COUNTRY_INFO!Q77*100), \"-\"),0)","v":0},9489,0,{"$f":"IF(AND(COUNTRY_INFO!J77>1,COUNTRY_INFO!J77<99,COUNTRY_INFO!J77<>4,COUNTRY_INFO!J77<>5), IF(AC77/P77*100<>0, IF(AC77/P77*100>100,100,AC77/P77*100), \"-\"),0)","v":0},{"$f":"COUNTRY_INFO!V77","v":0},null,null,{"$f":"MAX('T1'!K77,'T2'!R77)","v":0},{"$f":"IF(AND(COUNTRY_INFO!K77>1,COUNTRY_INFO!K77<99,COUNTRY_INFO!K77<>4,COUNTRY_INFO!K77<>5),IF(COUNTRY_INFO!S77>AH77,AH77,COUNTRY_INFO!S77),0)","v":0},{"$f":"IF(AND(COUNTRY_INFO!K77>1,COUNTRY_INFO!K77<99,COUNTRY_INFO!K77<>4,COUNTRY_INFO!K77<>5), IF(AI77/COUNTRY_INFO!S77*100<>0, IF(AI77/COUNTRY_INFO!S77*100>100,100,AI77/COUNTRY_INFO!S77*100), \"-\"),0)","v":0},{"$f":"MAX('T1'!L77,'T2'!S77)","v":0},{"$f":"IF(AND(COUNTRY_INFO!K77>1,COUNTRY_INFO!K77<99,COUNTRY_INFO!K77<>4,COUNTRY_INFO!K77<>5),IF(COUNTRY_INFO!T77>AK77,AK77,COUNTRY_INFO!T77),0)","v":0},{"$f":"IF(AND(COUNTRY_INFO!K77>1,COUNTRY_INFO!K77<99,COUNTRY_INFO!K77<>4,COUNTRY_INFO!K77<>5), IF(AL77/COUNTRY_INFO!T77*100<>0, IF(AL77/COUNTRY_INFO!T77*100>100,100,AL77/COUNTRY_INFO!T77*100), \"-\"),0)","v":0},{"$f":"MAX('T1'!M77,'T2'!T77)","v":0},{"$f":"IF(AND(COUNTRY_INFO!K77>1,COUNTRY_INFO!K77<99,COUNTRY_INFO!K77<>4,COUNTRY_INFO!K77<>5),IF(COUNTRY_INFO!U77>AN77,AN77,COUNTRY_INFO!U77),0)","v":0},{"$f":"IF(AND(COUNTRY_INFO!K77>1,COUNTRY_INFO!K77<99,COUNTRY_INFO!K77<>4,COUNTRY_INFO!K77<>5), IF(AO77/COUNTRY_INFO!U77*100<>0, IF(AO77/COUNTRY_INFO!U77*100>100,100,AO77/COUNTRY_INFO!U77*100), \"-\"),0)","v":0},0,0,{"$f":"IF(AND(COUNTRY_INFO!K77>1,COUNTRY_INFO!K77<99,COUNTRY_INFO!K77<>4,COUNTRY_INFO!K77<>5), IF(AH77/AE77*100<>0, IF(AR77/AE77*100>100,100,AR77/AE77*100), \"-\"),0)","v":0},null,{"$f":"IF(AND(D77<>0, D77<>\"Unknown\",D77<>\"Stopped\",D77<>\"Not required\"),D77/COUNTRY_INFO!D77, 0)","v":1},{"$f":"IF(AND(J77<>0,J77<>\"Unknown\",J77<>\"Stopped\",J77<>\"Not required\"),J77/COUNTRY_INFO!D77, 0)","v":1},{"$f":"IF(AND(P77<>0,P77<>\"Unknown\",P77<>\"Surveillance\",P77<>\"Not required\"),P77/COUNTRY_INFO!R77, 0)","v":0},{"$f":"IF(AND(AE77<>0,AE77<>\"Unknown\",AE77<>\"Surveillance\",AE77<>\"Not required\"),AE77/COUNTRY_INFO!V77, 0)","v":0},{"$f":"IF(AU77>0,D77*PROFILE!$G$7,IF(AV77>0,J77*PROFILE!$G$7,0))","v":406.1406936535767},{"$f":"_xlfn.IFS(OR(AU77>0,AW77>0),COUNTRY_INFO!E77, AV77>0,J77*PROFILE!$G$8,AX77>0,COUNTRY_INFO!S77,COUNTIFS(AU77:AX77,\">0\")=0,0)","v":1635},{"$f":"_xlfn.IFS(OR(AU77>0,AW77>0),COUNTRY_INFO!F77, AV77>0,J77*PROFILE!$G$9,AX77>0,COUNTRY_INFO!T77,COUNTIFS(AU77:AX77,\">0\")=0,0)","v":4562},{"$f":"_xlfn.IFS(AU77>0,COUNTRY_INFO!G77, AND(AV77>0,AW77=0,AX77=0),J77*PROFILE!$G$10,AND(AV77>0,AW77>0,AX77=0), MAX(J77*PROFILE!$G$10,COUNTRY_INFO!Q77),AND(AV77>0,AW77=0,AX77>0), MAX(J77*PROFILE!$G$10,COUNTRY_INFO!U77),AND(AV77=0,AW77>0,AX77>0), MAX(COUNTRY_INFO!Q77,COUNTRY_INFO!U77),AND(AV77=0,AW77>0,AX77=0),COUNTRY_INFO!Q77,AND(AV77=0,AW77=0,AX77>0),COUNTRY_INFO!U77,AND(AV77>0,AW77>0,AX77>0), MAX(J77*PROFILE!$G$10,COUNTRY_INFO!Q77,COUNTRY_INFO!U77),COUNTIFS(AU77:AX77,\">0\")=0,0)","v":8166},14769.140693653577,"Y",{"$f":"MAX('MDA4'!R77,S77,AH77)","v":0},{"$f":"MAX('MDA1'!K77,'MDA4'!S77,'MDA3'!I77,'MDA3'!L77,V77,AK77)","v":4496},{"$f":"MAX('MDA1'!L77,'MDA4'!T77,'MDA3'!J77,'MDA3'!M77,Y77,AN77)","v":4993},9489,{"$f":"_xlfn.IFS(AND(AU77=0,AW77=0,AX77=0),0,AND(AU77=0,AW77=0,AX77>0),AI77,AND(AU77=0,AW77>0,AX77=0),T77,AND(AU77=0,AW77>0,AX77>0),MAX(T77,AI77),AND(AU77>0,AW77=0,AX77=0),MIN('MDA4'!R77,AZ77),AND(AU77>0,AW77=0,AX77>0),MIN(MAX('MDA4'!R77,AI77),AZ77),AND(AU77>0,AW77>0,AX77=0),MIN(MAX('MDA4'!R77,T77),AZ77),AND(AU77>0,AW77>0,AX77>0),MIN(MAX('MDA4'!R77,AI77,T77),AZ77))","v":0},{"$f":"_xlfn.IFS(AND(AU77=0,AV77=0,AW77=0,AX77=0),0,AND(AU77=0,AV77=0,AW77=0,AX77>0),AL77,AND(AU77=0,AV77=0,AW77>0,AX77=0),W77,AND(AU77=0,AV77=0,AW77>0,AX77>0),MAX(W77,AL77),AND(AU77=0,AV77>0,AW77=0,AX77=0),MIN(J77*PROFILE!$G$9,MAX('MDA3'!I77,'MDA3'!L77)),AND(AU77=0,AV77>0,AW77=0,AX77>0),MIN(J77*PROFILE!$G$9,MAX('MDA3'!I77,'MDA3'!L77,AL77)),AND(AU77=0,AV77>0,AW77>0,AX77=0),MIN(J77*PROFILE!$G$9,MAX('MDA3'!I77,'MDA3'!L77,W77)),AND(AU77=0,AV77>0,AW77>0,AX77>0),MIN(J77*PROFILE!$G$9,MAX('MDA3'!I77,'MDA3'!L77,W77,AL77)),AND(AU77>0,AV77=0,AW77=0,AX77=0), MIN(BA77,MAX('MDA1'!K77,'MDA4'!S77)),AND(AU77>0,AV77=0,AW77=0,AX77>0), MIN(BA77,MAX('MDA1'!K77,'MDA4'!S77,AL77)),AND(AU77>0,AV77=0,AW77>0,AX77=0),MIN(BA77,MAX('MDA1'!K77,'MDA4'!S77,W77)),AND(AU77>0,AV77=0,AW77>0,AX77>0),MIN(BA77,MAX('MDA1'!K77,'MDA4'!S77,W77,AL77)),AND(AU77>0,AV77>0,AW77=0,AX77=0),MIN(BA77, MAX('MDA1'!K77,'MDA4'!S77,MAX('MDA3'!I77,'MDA3'!L77))), AND(AU77>0,AV77>0,AW77=0,AX77>0),MIN(BA77, MAX('MDA1'!K77,'MDA4'!S77,MAX( 'MDA3'!I77,'MDA3'!L77),AL77)), AND(AU77>0,AV77>0,AW77>0,AX77=0), MIN(BA77, MAX('MDA1'!K77,'MDA4'!S77,MAX( 'MDA3'!I77,'MDA3'!L77),W77)), AND(AU77>0,AV77>0,AW77>0,AX77>0), MIN(BA77, MAX('MDA1'!K77,'MDA4'!S77,MAX( 'MDA3'!I77,'MDA3'!L77),W77,AL77)))","v":4496},{"$f":"_xlfn.IFS(AND(AU77=0,AV77=0,AW77=0,AX77=0),0,AND(AU77=0,AV77=0,AW77=0,AX77>0),AO77,AND(AU77=0,AV77=0,AW77>0,AX77=0),Z77,AND(AU77=0,AV77=0,AW77>0,AX77>0),MAX(Z77,AO77),AND(AU77=0,AV77>0,AW77=0,AX77=0),MIN(J77*PROFILE!$G$10,MAX('MDA3'!J77,'MDA3'!J77)),AND(AU77=0,AV77>0,AW77=0,AX77>0),MIN(J77*PROFILE!$G$10,MAX('MDA3'!J77,'MDA3'!M77,AO77)),AND(AU77=0,AV77>0,AW77>0,AX77=0),MIN(J77*PROFILE!$G$10,MAX('MDA3'!J77,'MDA3'!M77,Z77)),AND(AU77=0,AV77>0,AW77>0,AX77>0),MIN(J77*PROFILE!$G$10,MAX('MDA3'!J77,'MDA3'!M77,Z77,AO77)),AND(AU77>0,AV77=0,AW77=0,AX77=0), MIN(BB77,MAX('MDA1'!L77,'MDA4'!T77)),AND(AU77>0,AV77=0,AW77=0,AX77>0), MIN(BB77,MAX('MDA1'!L77,'MDA4'!T77,AO77)),AND(AU77>0,AV77=0,AW77>0,AX77=0),MIN(BB77,MAX('MDA1'!L77,'MDA4'!T77,Z77)),AND(AU77>0,AV77=0,AW77>0,AX77>0),MIN(BB77,MAX('MDA1'!L77,'MDA4'!T77,Z77,AO77)),AND(AU77>0,AV77>0,AW77=0,AX77=0),MIN(BB77, MAX('MDA1'!L77,'MDA4'!T77,MAX( 'MDA3'!J77,'MDA3'!M77))), AND(AU77>0,AV77>0,AW77=0,AX77>0),MIN(BB77, MAX('MDA1'!L77,'MDA4'!T77,MAX( 'MDA3'!J77,'MDA3'!M77),AO77)), AND(AU77>0,AV77>0,AW77>0,AX77=0), MIN(BB77, MAX('MDA1'!L77,'MDA4'!T77,MAX( 'MDA3'!J77,'MDA3'!M77),Z77)), AND(AU77>0,AV77>0,AW77>0,AX77>0), MIN(BB77, MAX('MDA1'!L77,'MDA4'!T77,MAX( 'MDA3'!J77,'MDA3'!M77),Z77,AO77)))","v":4993},9489,64.248829345078292]
[{"$f":"IF(COUNTRY_INFO!A78=0,\" \",COUNTRY_INFO!A78)","v":"South Sudan"},{"$f":"IF(COUNTRY_INFO!B78=0,\" \",COUNTRY_INFO!B78)","v":"Wesstern Equatoria"},{"$f":"IF(COUNTRY_INFO!C78=0,\" \",COUNTRY_INFO!C78)","v":"NZARA"},{"$f":"COUNTRY_INFO!M78","v":97842.563399999999},null,null,{"$f":"'MDA1'!M78+'MDA4'!U78","v":75949},{"$f":"IF(AND(COUNTRY_INFO!H78>0,COUNTRY_INFO!H78<4),IF(D78>G78,G78,D78),0)","v":75949},{"$f":"IF(AND(COUNTRY_INFO!H78>0,COUNTRY_INFO!H78<4), IF(G78/D78*100<>0, IF(G78/D78*100>100,100,G78/D78*100), \"-\"),0)","v":77.623681719688065},{"$f":"COUNTRY_INFO!N78","v":97842.563399999999},null,null,{"$f":"MAX('MDA1'!M78,MAX('MDA3'!I78,'MDA3'!L78)+MAX('MDA3'!J78,'MDA3'!M78))","v":75949},{"$f":"IF(AND(COUNTRY_INFO!I78>0,COUNTRY_INFO!I78<4),IF(J78>M78,M78,J78),0)","v":75949},{"$f":"IF(AND(COUNTRY_INFO!I78>0,COUNTRY_INFO!I78<4), IF(M78/J78*100<>0, IF(M78/J78*100>100,100,M78/J78*100), \"-\"),0)","v":77.623681719688065},{"$f":"COUNTRY_INFO!R78","v":0},null,null,{"$f":"MAX('MDA4'!R78,'T1'!K78, MAX(T3_R1!J78,T3_R2!J78,T3_R3!J78))","v":0},{"$f":"IF(AND(COUNTRY_INFO!J78>1,COUNTRY_INFO!J78<99,COUNTRY_INFO!J78<>4,COUNTRY_INFO!J78<>5),IF(COUNTRY_INFO!O78>S78,S78,COUNTRY_INFO!O78),0)","v":0},{"$f":"IF(AND(COUNTRY_INFO!J78>1,COUNTRY_INFO!J78<99,COUNTRY_INFO!J78<>4,COUNTRY_INFO!J78<>5), IF(T78/COUNTRY_INFO!O78*100<>0, IF(T78/COUNTRY_INFO!O78*100>100,100,T78/COUNTRY_INFO!O78*100), \"-\"),0)","v":0},{"$f":"MAX('MDA1'!K78,'MDA4'!S78, 'T1'!L78, MAX(T3_R1!K78,T3_R2!K78,T3_R3!K78))","v":36720},{"$f":"IF(AND(COUNTRY_INFO!J78>1,COUNTRY_INFO!J78<99,COUNTRY_INFO!J78<>4,COUNTRY_INFO!J78<>5),IF(COUNTRY_INFO!P78>V78,V78,COUNTRY_INFO!P78),0)","v":0},{"$f":"IF(AND(COUNTRY_INFO!J78>1,COUNTRY_INFO!J78<99,COUNTRY_INFO!J78<>4,COUNTRY_INFO!J78<>5), IF(W78/COUNTRY_INFO!P78*100<>0, IF(W78/COUNTRY_INFO!P78*100>100,100,W78/COUNTRY_INFO!P78*100), \"-\"),0)","v":0},{"$f":"MAX('MDA1'!L78,'MDA4'!T78, 'T1'!M78, MAX(T3_R1!L78,T3_R2!L78,T3_R3!L78))","v":39229},{"$f":"IF(AND(COUNTRY_INFO!J78>1,COUNTRY_INFO!J78<99,COUNTRY_INFO!J78<>4,COUNTRY_INFO!J78<>5),IF(COUNTRY_INFO!Q78>Y78,Y78,COUNTRY_INFO!Q78),0)","v":0},{"$f":"IF(AND(COUNTRY_INFO!J78>1,COUNTRY_INFO!J78<99,COUNTRY_INFO!J78<>4,COUNTRY_INFO!J78<>5), IF(Z78/COUNTRY_INFO!Q78*100<>0, IF(Z78/COUNTRY_INFO!Q78*100>100,100,Z78/COUNTRY_INFO!Q78*100), \"-\"),0)","v":0},75949,0,{"$f":"IF(AND(COUNTRY_INFO!J78>1,COUNTRY_INFO!J78<99,COUNTRY_INFO!J78<>4,COUNTRY_INFO!J78<>5), IF(AC78/P78*100<>0, IF(AC78/P78*100>100,100,AC78/P78*100), \"-\"),0)","v":0},{"$f":"COUNTRY_INFO!V78","v":0},null,null,{"$f":"MAX('T1'!K78,'T2'!R78)","v":0},{"$f":"IF(AND(COUNTRY_INFO!K78>1,COUNTRY_INFO!K78<99,COUNTRY_INFO!K78<>4,COUNTRY_INFO!K78<>5),IF(COUNTRY_INFO!S78>AH78,AH78,COUNTRY_INFO!S78),0)","v":0},{"$f":"IF(AND(COUNTRY_INFO!K78>1,COUNTRY_INFO!K78<99,COUNTRY_INFO!K78<>4,COUNTRY_INFO!K78<>5), IF(AI78/COUNTRY_INFO!S78*100<>0, IF(AI78/COUNTRY_INFO!S78*100>100,100,AI78/COUNTRY_INFO!S78*100), \"-\"),0)","v":0},{"$f":"MAX('T1'!L78,'T2'!S78)","v":0},{"$f":"IF(AND(COUNTRY_INFO!K78>1,COUNTRY_INFO!K78<99,COUNTRY_INFO!K78<>4,COUNTRY_INFO!K78<>5),IF(COUNTRY_INFO!T78>AK78,AK78,COUNTRY_INFO!T78),0)","v":0},{"$f":"IF(AND(COUNTRY_INFO!K78>1,COUNTRY_INFO!K78<99,COUNTRY_INFO!K78<>4,COUNTRY_INFO!K78<>5), IF(AL78/COUNTRY_INFO!T78*100<>0, IF(AL78/COUNTRY_INFO!T78*100>100,100,AL78/COUNTRY_INFO!T78*100), \"-\"),0)","v":0},{"$f":"MAX('T1'!M78,'T2'!T78)","v":0},{"$f":"IF(AND(COUNTRY_INFO!K78>1,COUNTRY_INFO!K78<99,COUNTRY_INFO!K78<>4,COUNTRY_INFO!K78<>5),IF(COUNTRY_INFO!U78>AN78,AN78,COUNTRY_INFO!U78),0)","v":0},{"$f":"IF(AND(COUNTRY_INFO!K78>1,COUNTRY_INFO!K78<99,COUNTRY_INFO!K78<>4,COUNTRY_INFO!K78<>5), IF(AO78/COUNTRY_INFO!U78*100<>0, IF(AO78/COUNTRY_INFO!U78*100>100,100,AO78/COUNTRY_INFO!U78*100), \"-\"),0)","v":0},0,0,{"$f":"IF(AND(COUNTRY_INFO!K78>1,COUNTRY_INFO!K78<99,COUNTRY_INFO!K78<>4,COUNTRY_INFO!K78<>5), IF(AH78/AE78*100<>0, IF(AR78/AE78*100>100,100,AR78/AE78*100), \"-\"),0)","v":0},null,{"$f":"IF(AND(D78<>0, D78<>\"Unknown\",D78<>\"Stopped\",D78<>\"Not required\"),D78/COUNTRY_INFO!D78, 0)","v":1},{"$f":"IF(AND(J78<>0,J78<>\"Unknown\",J78<>\"Stopped\",J78<>\"Not required\"),J78/COUNTRY_INFO!D78, 0)","v":1},{"$f":"IF(AND(P78<>0,P78<>\"Unknown\",P78<>\"Surveillance\",P78<>\"Not required\"),P78/COUNTRY_INFO!R78, 0)","v":0},{"$f":"IF(AND(AE78<>0,AE78<>\"Unknown\",AE78<>\"Surveillance\",AE78<>\"Not required\"),AE78/COUNTRY_INFO!V78, 0)","v":0},{"$f":"IF(AU78>0,D78*PROFILE!$G$7,IF(AV78>0,J78*PROFILE!$G$7,0))","v":2690.6638612811412},{"$f":"_xlfn.IFS(OR(AU78>0,AW78>0),COUNTRY_INFO!E78, AV78>0,J78*PROFILE!$G$8,AX78>0,COUNTRY_INFO!S78,COUNTIFS(AU78:AX78,\">0\")=0,0)","v":10831},{"$f":"_xlfn.IFS(OR(AU78>0,AW78>0),COUNTRY_INFO!F78, AV78>0,J78*PROFILE!$G$9,AX78>0,COUNTRY_INFO!T78,COUNTIFS(AU78:AX78,\">0\")=0,0)","v":30224},{"$f":"_xlfn.IFS(AU78>0,COUNTRY_INFO!G78, AND(AV78>0,AW78=0,AX78=0),J78*PROFILE!$G$10,AND(AV78>0,AW78>0,AX78=0), MAX(J78*PROFILE!$G$10,COUNTRY_INFO!Q78),AND(AV78>0,AW78=0,AX78>0), MAX(J78*PROFILE!$G$10,COUNTRY_INFO!U78),AND(AV78=0,AW78>0,AX78>0), MAX(COUNTRY_INFO!Q78,COUNTRY_INFO!U78),AND(AV78=0,AW78>0,AX78=0),COUNTRY_INFO!Q78,AND(AV78=0,AW78=0,AX78>0),COUNTRY_INFO!U78,AND(AV78>0,AW78>0,AX78>0), MAX(J78*PROFILE!$G$10,COUNTRY_INFO!Q78,COUNTRY_INFO!U78),COUNTIFS(AU78:AX78,\">0\")=0,0)","v":54097},97842.663861281137,"Y",{"$f":"MAX('MDA4'!R78,S78,AH78)","v":0},{"$f":"MAX('MDA1'!K78,'MDA4'!S78,'MDA3'!I78,'MDA3'!L78,V78,AK78)","v":36720},{"$f":"MAX('MDA1'!L78,'MDA4'!T78,'MDA3'!J78,'MDA3'!M78,Y78,AN78)","v":39229},75949,{"$f":"_xlfn.IFS(AND(AU78=0,AW78=0,AX78=0),0,AND(AU78=0,AW78=0,AX78>0),AI78,AND(AU78=0,AW78>0,AX78=0),T78,AND(AU78=0,AW78>0,AX78>0),MAX(T78,AI78),AND(AU78>0,AW78=0,AX78=0),MIN('MDA4'!R78,AZ78),AND(AU78>0,AW78=0,AX78>0),MIN(MAX('MDA4'!R78,AI78),AZ78),AND(AU78>0,AW78>0,AX78=0),MIN(MAX('MDA4'!R78,T78),AZ78),AND(AU78>0,AW78>0,AX78>0),MIN(MAX('MDA4'!R78,AI78,T78),AZ78))","v":0},{"$f":"_xlfn.IFS(AND(AU78=0,AV78=0,AW78=0,AX78=0),0,AND(AU78=0,AV78=0,AW78=0,AX78>0),AL78,AND(AU78=0,AV78=0,AW78>0,AX78=0),W78,AND(AU78=0,AV78=0,AW78>0,AX78>0),MAX(W78,AL78),AND(AU78=0,AV78>0,AW78=0,AX78=0),MIN(J78*PROFILE!$G$9,MAX('MDA3'!I78,'MDA3'!L78)),AND(AU78=0,AV78>0,AW78=0,AX78>0),MIN(J78*PROFILE!$G$9,MAX('MDA3'!I78,'MDA3'!L78,AL78)),AND(AU78=0,AV78>0,AW78>0,AX78=0),MIN(J78*PROFILE!$G$9,MAX('MDA3'!I78,'MDA3'!L78,W78)),AND(AU78=0,AV78>0,AW78>0,AX78>0),MIN(J78*PROFILE!$G$9,MAX('MDA3'!I78,'MDA3'!L78,W78,AL78)),AND(AU78>0,AV78=0,AW78=0,AX78=0), MIN(BA78,MAX('MDA1'!K78,'MDA4'!S78)),AND(AU78>0,AV78=0,AW78=0,AX78>0), MIN(BA78,MAX('MDA1'!K78,'MDA4'!S78,AL78)),AND(AU78>0,AV78=0,AW78>0,AX78=0),MIN(BA78,MAX('MDA1'!K78,'MDA4'!S78,W78)),AND(AU78>0,AV78=0,AW78>0,AX78>0),MIN(BA78,MAX('MDA1'!K78,'MDA4'!S78,W78,AL78)),AND(AU78>0,AV78>0,AW78=0,AX78=0),MIN(BA78, MAX('MDA1'!K78,'MDA4'!S78,MAX('MDA3'!I78,'MDA3'!L78))), AND(AU78>0,AV78>0,AW78=0,AX78>0),MIN(BA78, MAX('MDA1'!K78,'MDA4'!S78,MAX( 'MDA3'!I78,'MDA3'!L78),AL78)), AND(AU78>0,AV78>0,AW78>0,AX78=0), MIN(BA78, MAX('MDA1'!K78,'MDA4'!S78,MAX( 'MDA3'!I78,'MDA3'!L78),W78)), AND(AU78>0,AV78>0,AW78>0,AX78>0), MIN(BA78, MAX('MDA1'!K78,'MDA4'!S78,MAX( 'MDA3'!I78,'MDA3'!L78),W78,AL78)))","v":30224},{"$f":"_xlfn.IFS(AND(AU78=0,AV78=0,AW78=0,AX78=0),0,AND(AU78=0,AV78=0,AW78=0,AX78>0),AO78,AND(AU78=0,AV78=0,AW78>0,AX78=0),Z78,AND(AU78=0,AV78=0,AW78>0,AX78>0),MAX(Z78,AO78),AND(AU78=0,AV78>0,AW78=0,AX78=0),MIN(J78*PROFILE!$G$10,MAX('MDA3'!J78,'MDA3'!J78)),AND(AU78=0,AV78>0,AW78=0,AX78>0),MIN(J78*PROFILE!$G$10,MAX('MDA3'!J78,'MDA3'!M78,AO78)),AND(AU78=0,AV78>0,AW78>0,AX78=0),MIN(J78*PROFILE!$G$10,MAX('MDA3'!J78,'MDA3'!M78,Z78)),AND(AU78=0,AV78>0,AW78>0,AX78>0),MIN(J78*PROFILE!$G$10,MAX('MDA3'!J78,'MDA3'!M78,Z78,AO78)),AND(AU78>0,AV78=0,AW78=0,AX78=0), MIN(BB78,MAX('MDA1'!L78,'MDA4'!T78)),AND(AU78>0,AV78=0,AW78=0,AX78>0), MIN(BB78,MAX('MDA1'!L78,'MDA4'!T78,AO78)),AND(AU78>0,AV78=0,AW78>0,AX78=0),MIN(BB78,MAX('MDA1'!L78,'MDA4'!T78,Z78)),AND(AU78>0,AV78=0,AW78>0,AX78>0),MIN(BB78,MAX('MDA1'!L78,'MDA4'!T78,Z78,AO78)),AND(AU78>0,AV78>0,AW78=0,AX78=0),MIN(BB78, MAX('MDA1'!L78,'MDA4'!T78,MAX( 'MDA3'!J78,'MDA3'!M78))), AND(AU78>0,AV78>0,AW78=0,AX78>0),MIN(BB78, MAX('MDA1'!L78,'MDA4'!T78,MAX( 'MDA3'!J78,'MDA3'!M78),AO78)), AND(AU78>0,AV78>0,AW78>0,AX78=0), MIN(BB78, MAX('MDA1'!L78,'MDA4'!T78,MAX( 'MDA3'!J78,'MDA3'!M78),Z78)), AND(AU78>0,AV78>0,AW78>0,AX78>0), MIN(BB78, MAX('MDA1'!L78,'MDA4'!T78,MAX( 'MDA3'!J78,'MDA3'!M78),Z78,AO78)))","v":39229},69453,70.98437149919458]
[{"$f":"IF(COUNTRY_INFO!A79=0,\" \",COUNTRY_INFO!A79)","v":"South Sudan"},{"$f":"IF(COUNTRY_INFO!B79=0,\" \",COUNTRY_INFO!B79)","v":"Wesstern Equatoria"},{"$f":"IF(COUNTRY_INFO!C79=0,\" \",COUNTRY_INFO!C79)","v":"EZO"},{"$f":"COUNTRY_INFO!M79","v":120918.19930000001},null,null,{"$f":"'MDA1'!M79+'MDA4'!U79","v":97300},{"$f":"IF(AND(COUNTRY_INFO!H79>0,COUNTRY_INFO!H79<4),IF(D79>G79,G79,D79),0)","v":97300},{"$f":"IF(AND(COUNTRY_INFO!H79>0,COUNTRY_INFO!H79<4), IF(G79/D79*100<>0, IF(G79/D79*100>100,100,G79/D79*100), \"-\"),0)","v":80.467622378825808},{"$f":"COUNTRY_INFO!N79","v":120918.19930000001},null,null,{"$f":"MAX('MDA1'!M79,MAX('MDA3'!I79,'MDA3'!L79)+MAX('MDA3'!J79,'MDA3'!M79))","v":97300},{"$f":"IF(AND(COUNTRY_INFO!I79>0,COUNTRY_INFO!I79<4),IF(J79>M79,M79,J79),0)","v":97300},{"$f":"IF(AND(COUNTRY_INFO!I79>0,COUNTRY_INFO!I79<4), IF(M79/J79*100<>0, IF(M79/J79*100>100,100,M79/J79*100), \"-\"),0)","v":80.467622378825808},{"$f":"COUNTRY_INFO!R79","v":0},null,null,{"$f":"MAX('MDA4'!R79,'T1'!K79, MAX(T3_R1!J79,T3_R2!J79,T3_R3!J79))","v":0},{"$f":"IF(AND(COUNTRY_INFO!J79>1,COUNTRY_INFO!J79<99,COUNTRY_INFO!J79<>4,COUNTRY_INFO!J79<>5),IF(COUNTRY_INFO!O79>S79,S79,COUNTRY_INFO!O79),0)","v":0},{"$f":"IF(AND(COUNTRY_INFO!J79>1,COUNTRY_INFO!J79<99,COUNTRY_INFO!J79<>4,COUNTRY_INFO!J79<>5), IF(T79/COUNTRY_INFO!O79*100<>0, IF(T79/COUNTRY_INFO!O79*100>100,100,T79/COUNTRY_INFO!O79*100), \"-\"),0)","v":0},{"$f":"MAX('MDA1'!K79,'MDA4'!S79, 'T1'!L79, MAX(T3_R1!K79,T3_R2!K79,T3_R3!K79))","v":46656},{"$f":"IF(AND(COUNTRY_INFO!J79>1,COUNTRY_INFO!J79<99,COUNTRY_INFO!J79<>4,COUNTRY_INFO!J79<>5),IF(COUNTRY_INFO!P79>V79,V79,COUNTRY_INFO!P79),0)","v":0},{"$f":"IF(AND(COUNTRY_INFO!J79>1,COUNTRY_INFO!J79<99,COUNTRY_INFO!J79<>4,COUNTRY_INFO!J79<>5), IF(W79/COUNTRY_INFO!P79*100<>0, IF(W79/COUNTRY_INFO!P79*100>100,100,W79/COUNTRY_INFO!P79*100), \"-\"),0)","v":0},{"$f":"MAX('MDA1'!L79,'MDA4'!T79, 'T1'!M79, MAX(T3_R1!L79,T3_R2!L79,T3_R3!L79))","v":50644},{"$f":"IF(AND(COUNTRY_INFO!J79>1,COUNTRY_INFO!J79<99,COUNTRY_INFO!J79<>4,COUNTRY_INFO!J79<>5),IF(COUNTRY_INFO!Q79>Y79,Y79,COUNTRY_INFO!Q79),0)","v":0},{"$f":"IF(AND(COUNTRY_INFO!J79>1,COUNTRY_INFO!J79<99,COUNTRY_INFO!J79<>4,COUNTRY_INFO!J79<>5), IF(Z79/COUNTRY_INFO!Q79*100<>0, IF(Z79/COUNTRY_INFO!Q79*100>100,100,Z79/COUNTRY_INFO!Q79*100), \"-\"),0)","v":0},97300,0,{"$f":"IF(AND(COUNTRY_INFO!J79>1,COUNTRY_INFO!J79<99,COUNTRY_INFO!J79<>4,COUNTRY_INFO!J79<>5), IF(AC79/P79*100<>0, IF(AC79/P79*100>100,100,AC79/P79*100), \"-\"),0)","v":0},{"$f":"COUNTRY_INFO!V79","v":112336},null,null,{"$f":"MAX('T1'!K79,'T2'!R79)","v":0},{"$f":"IF(AND(COUNTRY_INFO!K79>1,COUNTRY_INFO!K79<99,COUNTRY_INFO!K79<>4,COUNTRY_INFO!K79<>5),IF(COUNTRY_INFO!S79>AH79,AH79,COUNTRY_INFO!S79),0)","v":0},{"$f":"IF(AND(COUNTRY_INFO!K79>1,COUNTRY_INFO!K79<99,COUNTRY_INFO!K79<>4,COUNTRY_INFO!K79<>5), IF(AI79/COUNTRY_INFO!S79*100<>0, IF(AI79/COUNTRY_INFO!S79*100>100,100,AI79/COUNTRY_INFO!S79*100), \"-\"),0)","v":"-"},{"$f":"MAX('T1'!L79,'T2'!S79)","v":0},{"$f":"IF(AND(COUNTRY_INFO!K79>1,COUNTRY_INFO!K79<99,COUNTRY_INFO!K79<>4,COUNTRY_INFO!K79<>5),IF(COUNTRY_INFO!T79>AK79,AK79,COUNTRY_INFO!T79),0)","v":0},{"$f":"IF(AND(COUNTRY_INFO!K79>1,COUNTRY_INFO!K79<99,COUNTRY_INFO!K79<>4,COUNTRY_INFO!K79<>5), IF(AL79/COUNTRY_INFO!T79*100<>0, IF(AL79/COUNTRY_INFO!T79*100>100,100,AL79/COUNTRY_INFO!T79*100), \"-\"),0)","v":"-"},{"$f":"MAX('T1'!M79,'T2'!T79)","v":0},{"$f":"IF(AND(COUNTRY_INFO!K79>1,COUNTRY_INFO!K79<99,COUNTRY_INFO!K79<>4,COUNTRY_INFO!K79<>5),IF(COUNTRY_INFO!U79>AN79,AN79,COUNTRY_INFO!U79),0)","v":0},{"$f":"IF(AND(COUNTRY_INFO!K79>1,COUNTRY_INFO!K79<99,COUNTRY_INFO!K79<>4,COUNTRY_INFO!K79<>5), IF(AO79/COUNTRY_INFO!U79*100<>0, IF(AO79/COUNTRY_INFO!U79*100>100,100,AO79/COUNTRY_INFO!U79*100), \"-\"),0)","v":"-"},0,0,{"$f":"IF(AND(COUNTRY_INFO!K79>1,COUNTRY_INFO!K79<99,COUNTRY_INFO!K79<>4,COUNTRY_INFO!K79<>5), IF(AH79/AE79*100<>0, IF(AR79/AE79*100>100,100,AR79/AE79*100), \"-\"),0)","v":"-"},null,{"$f":"IF(AND(D79<>0, D79<>\"Unknown\",D79<>\"Stopped\",D79<>\"Not required\"),D79/COUNTRY_INFO!D79, 0)","v":1},{"$f":"IF(AND(J79<>0,J79<>\"Unknown\",J79<>\"Stopped\",J79<>\"Not required\"),J79/COUNTRY_INFO!D79, 0)","v":1},{"$f":"IF(AND(P79<>0,P79<>\"Unknown\",P79<>\"Surveillance\",P79<>\"Not required\"),P79/COUNTRY_INFO!R79, 0)","v":0},{"$f":"IF(AND(AE79<>0,AE79<>\"Unknown\",AE79<>\"Surveillance\",AE79<>\"Not required\"),AE79/COUNTRY_INFO!V79, 0)","v":1},{"$f":"IF(AU79>0,D79*PROFILE!$G$7,IF(AV79>0,J79*PROFILE!$G$7,0))","v":3325.2422843584309},{"$f":"_xlfn.IFS(OR(AU79>0,AW79>0),COUNTRY_INFO!E79, AV79>0,J79*PROFILE!$G$8,AX79>0,COUNTRY_INFO!S79,COUNTIFS(AU79:AX79,\">0\")=0,0)","v":13386},{"$f":"_xlfn.IFS(OR(AU79>0,AW79>0),COUNTRY_INFO!F79, AV79>0,J79*PROFILE!$G$9,AX79>0,COUNTRY_INFO!T79,COUNTIFS(AU79:AX79,\">0\")=0,0)","v":37352},{"$f":"_xlfn.IFS(AU79>0,COUNTRY_INFO!G79, AND(AV79>0,AW79=0,AX79=0),J79*PROFILE!$G$10,AND(AV79>0,AW79>0,AX79=0), MAX(J79*PROFILE!$G$10,COUNTRY_INFO!Q79),AND(AV79>0,AW79=0,AX79>0), MAX(J79*PROFILE!$G$10,COUNTRY_INFO!U79),AND(AV79=0,AW79>0,AX79>0), MAX(COUNTRY_INFO!Q79,COUNTRY_INFO!U79),AND(AV79=0,AW79>0,AX79=0),COUNTRY_INFO!Q79,AND(AV79=0,AW79=0,AX79>0),COUNTRY_INFO!U79,AND(AV79>0,AW79>0,AX79>0), MAX(J79*PROFILE!$G$10,COUNTRY_INFO!Q79,COUNTRY_INFO!U79),COUNTIFS(AU79:AX79,\">0\")=0,0)","v":66856},120919.24228435844,0,{"$f":"MAX('MDA4'!R79,S79,AH79)","v":0},{"$f":"MAX('MDA1'!K79,'MDA4'!S79,'MDA3'!I79,'MDA3'!L79,V79,AK79)","v":46656},{"$f":"MAX('MDA1'!L79,'MDA4'!T79,'MDA3'!J79,'MDA3'!M79,Y79,AN79)","v":50644},97300,{"$f":"_xlfn.IFS(AND(AU79=0,AW79=0,AX79=0),0,AND(AU79=0,AW79=0,AX79>0),AI79,AND(AU79=0,AW79>0,AX79=0),T79,AND(AU79=0,AW79>0,AX79>0),MAX(T79,AI79),AND(AU79>0,AW79=0,AX79=0),MIN('MDA4'!R79,AZ79),AND(AU79>0,AW79=0,AX79>0),MIN(MAX('MDA4'!R79,AI79),AZ79),AND(AU79>0,AW79>0,AX79=0),MIN(MAX('MDA4'!R79,T79),AZ79),AND(AU79>0,AW79>0,AX79>0),MIN(MAX('MDA4'!R79,AI79,T79),AZ79))","v":0},{"$f":"_xlfn.IFS(AND(AU79=0,AV79=0,AW79=0,AX79=0),0,AND(AU79=0,AV79=0,AW79=0,AX79>0),AL79,AND(AU79=0,AV79=0,AW79>0,AX79=0),W79,AND(AU79=0,AV79=0,AW79>0,AX79>0),MAX(W79,AL79),AND(AU79=0,AV79>0,AW79=0,AX79=0),MIN(J79*PROFILE!$G$9,MAX('MDA3'!I79,'MDA3'!L79)),AND(AU79=0,AV79>0,AW79=0,AX79>0),MIN(J79*PROFILE!$G$9,MAX('MDA3'!I79,'MDA3'!L79,AL79)),AND(AU79=0,AV79>0,AW79>0,AX79=0),MIN(J79*PROFILE!$G$9,MAX('MDA3'!I79,'MDA3'!L79,W79)),AND(AU79=0,AV79>0,AW79>0,AX79>0),MIN(J79*PROFILE!$G$9,MAX('MDA3'!I79,'MDA3'!L79,W79,AL79)),AND(AU79>0,AV79=0,AW79=0,AX79=0), MIN(BA79,MAX('MDA1'!K79,'MDA4'!S79)),AND(AU79>0,AV79=0,AW79=0,AX79>0), MIN(BA79,MAX('MDA1'!K79,'MDA4'!S79,AL79)),AND(AU79>0,AV79=0,AW79>0,AX79=0),MIN(BA79,MAX('MDA1'!K79,'MDA4'!S79,W79)),AND(AU79>0,AV79=0,AW79>0,AX79>0),MIN(BA79,MAX('MDA1'!K79,'MDA4'!S79,W79,AL79)),AND(AU79>0,AV79>0,AW79=0,AX79=0),MIN(BA79, MAX('MDA1'!K79,'MDA4'!S79,MAX('MDA3'!I79,'MDA3'!L79))), AND(AU79>0,AV79>0,AW79=0,AX79>0),MIN(BA79, MAX('MDA1'!K79,'MDA4'!S79,MAX( 'MDA3'!I79,'MDA3'!L79),AL79)), AND(AU79>0,AV79>0,AW79>0,AX79=0), MIN(BA79, MAX('MDA1'!K79,'MDA4'!S79,MAX( 'MDA3'!I79,'MDA3'!L79),W79)), AND(AU79>0,AV79>0,AW79>0,AX79>0), MIN(BA79, MAX('MDA1'!K79,'MDA4'!S79,MAX( 'MDA3'!I79,'MDA3'!L79),W79,AL79)))","v":37352},{"$f":"_xlfn.IFS(AND(AU79=0,AV79=0,AW79=0,AX79=0),0,AND(AU79=0,AV79=0,AW79=0,AX79>0),AO79,AND(AU79=0,AV79=0,AW79>0,AX79=0),Z79,AND(AU79=0,AV79=0,AW79>0,AX79>0),MAX(Z79,AO79),AND(AU79=0,AV79>0,AW79=0,AX79=0),MIN(J79*PROFILE!$G$10,MAX('MDA3'!J79,'MDA3'!J79)),AND(AU79=0,AV79>0,AW79=0,AX79>0),MIN(J79*PROFILE!$G$10,MAX('MDA3'!J79,'MDA3'!M79,AO79)),AND(AU79=0,AV79>0,AW79>0,AX79=0),MIN(J79*PROFILE!$G$10,MAX('MDA3'!J79,'MDA3'!M79,Z79)),AND(AU79=0,AV79>0,AW79>0,AX79>0),MIN(J79*PROFILE!$G$10,MAX('MDA3'!J79,'MDA3'!M79,Z79,AO79)),AND(AU79>0,AV79=0,AW79=0,AX79=0), MIN(BB79,MAX('MDA1'!L79,'MDA4'!T79)),AND(AU79>0,AV79=0,AW79=0,AX79>0), MIN(BB79,MAX('MDA1'!L79,'MDA4'!T79,AO79)),AND(AU79>0,AV79=0,AW79>0,AX79=0),MIN(BB79,MAX('MDA1'!L79,'MDA4'!T79,Z79)),AND(AU79>0,AV79=0,AW79>0,AX79>0),MIN(BB79,MAX('MDA1'!L79,'MDA4'!T79,Z79,AO79)),AND(AU79>0,AV79>0,AW79=0,AX79=0),MIN(BB79, MAX('MDA1'!L79,'MDA4'!T79,MAX( 'MDA3'!J79,'MDA3'!M79))), AND(AU79>0,AV79>0,AW79=0,AX79>0),MIN(BB79, MAX('MDA1'!L79,'MDA4'!T79,MAX( 'MDA3'!J79,'MDA3'!M79),AO79)), AND(AU79>0,AV79>0,AW79>0,AX79=0), MIN(BB79, MAX('MDA1'!L79,'MDA4'!T79,MAX( 'MDA3'!J79,'MDA3'!M79),Z79)), AND(AU79>0,AV79>0,AW79>0,AX79>0), MIN(BB79, MAX('MDA1'!L79,'MDA4'!T79,MAX( 'MDA3'!J79,'MDA3'!M79),Z79,AO79)))","v":50644},87996,72.772536725846464]
[{"$f":"IF(COUNTRY_INFO!A80=0,\" \",COUNTRY_INFO!A80)","v":"South Sudan"},{"$f":"IF(COUNTRY_INFO!B80=0,\" \",COUNTRY_INFO!B80)","v":"Wesstern Equatoria"},{"$f":"IF(COUNTRY_INFO!C80=0,\" \",COUNTRY_INFO!C80)","v":"YAMBIO"},{"$f":"COUNTRY_INFO!M80","v":227067.60970000003},null,null,{"$f":"'MDA1'!M80+'MDA4'!U80","v":171127},{"$f":"IF(AND(COUNTRY_INFO!H80>0,COUNTRY_INFO!H80<4),IF(D80>G80,G80,D80),0)","v":171127},{"$f":"IF(AND(COUNTRY_INFO!H80>0,COUNTRY_INFO!H80<4), IF(G80/D80*100<>0, IF(G80/D80*100>100,100,G80/D80*100), \"-\"),0)","v":75.363897222546044},{"$f":"COUNTRY_INFO!N80","v":227067.60970000003},null,null,{"$f":"MAX('MDA1'!M80,MAX('MDA3'!I80,'MDA3'!L80)+MAX('MDA3'!J80,'MDA3'!M80))","v":171127},{"$f":"IF(AND(COUNTRY_INFO!I80>0,COUNTRY_INFO!I80<4),IF(J80>M80,M80,J80),0)","v":171127},{"$f":"IF(AND(COUNTRY_INFO!I80>0,COUNTRY_INFO!I80<4), IF(M80/J80*100<>0, IF(M80/J80*100>100,100,M80/J80*100), \"-\"),0)","v":75.363897222546044},{"$f":"COUNTRY_INFO!R80","v":0},null,null,{"$f":"MAX('MDA4'!R80,'T1'!K80, MAX(T3_R1!J80,T3_R2!J80,T3_R3!J80))","v":0},{"$f":"IF(AND(COUNTRY_INFO!J80>1,COUNTRY_INFO!J80<99,COUNTRY_INFO!J80<>4,COUNTRY_INFO!J80<>5),IF(COUNTRY_INFO!O80>S80,S80,COUNTRY_INFO!O80),0)","v":0},{"$f":"IF(AND(COUNTRY_INFO!J80>1,COUNTRY_INFO!J80<99,COUNTRY_INFO!J80<>4,COUNTRY_INFO!J80<>5), IF(T80/COUNTRY_INFO!O80*100<>0, IF(T80/COUNTRY_INFO!O80*100>100,100,T80/COUNTRY_INFO!O80*100), \"-\"),0)","v":0},{"$f":"MAX('MDA1'!K80,'MDA4'!S80, 'T1'!L80, MAX(T3_R1!K80,T3_R2!K80,T3_R3!K80))","v":82980},{"$f":"IF(AND(COUNTRY_INFO!J80>1,COUNTRY_INFO!J80<99,COUNTRY_INFO!J80<>4,COUNTRY_INFO!J80<>5),IF(COUNTRY_INFO!P80>V80,V80,COUNTRY_INFO!P80),0)","v":0},{"$f":"IF(AND(COUNTRY_INFO!J80>1,COUNTRY_INFO!J80<99,COUNTRY_INFO!J80<>4,COUNTRY_INFO!J80<>5), IF(W80/COUNTRY_INFO!P80*100<>0, IF(W80/COUNTRY_INFO!P80*100>100,100,W80/COUNTRY_INFO!P80*100), \"-\"),0)","v":0},{"$f":"MAX('MDA1'!L80,'MDA4'!T80, 'T1'!M80, MAX(T3_R1!L80,T3_R2!L80,T3_R3!L80))","v":88147},{"$f":"IF(AND(COUNTRY_INFO!J80>1,COUNTRY_INFO!J80<99,COUNTRY_INFO!J80<>4,COUNTRY_INFO!J80<>5),IF(COUNTRY_INFO!Q80>Y80,Y80,COUNTRY_INFO!Q80),0)","v":0},{"$f":"IF(AND(COUNTRY_INFO!J80>1,COUNTRY_INFO!J80<99,COUNTRY_INFO!J80<>4,COUNTRY_INFO!J80<>5), IF(Z80/COUNTRY_INFO!Q80*100<>0, IF(Z80/COUNTRY_INFO!Q80*100>100,100,Z80/COUNTRY_INFO!Q80*100), \"-\"),0)","v":0},171127,0,{"$f":"IF(AND(COUNTRY_INFO!J80>1,COUNTRY_INFO!J80<99,COUNTRY_INFO!J80<>4,COUNTRY_INFO!J80<>5), IF(AC80/P80*100<>0, IF(AC80/P80*100>100,100,AC80/P80*100), \"-\"),0)","v":0},{"$f":"COUNTRY_INFO!V80","v":0},null,null,{"$f":"MAX('T1'!K80,'T2'!R80)","v":0},{"$f":"IF(AND(COUNTRY_INFO!K80>1,COUNTRY_INFO!K80<99,COUNTRY_INFO!K80<>4,COUNTRY_INFO!K80<>5),IF(COUNTRY_INFO!S80>AH80,AH80,COUNTRY_INFO!S80),0)","v":0},{"$f":"IF(AND(COUNTRY_INFO!K80>1,COUNTRY_INFO!K80<99,COUNTRY_INFO!K80<>4,COUNTRY_INFO!K80<>5), IF(AI80/COUNTRY_INFO!S80*100<>0, IF(AI80/COUNTRY_INFO!S80*100>100,100,AI80/COUNTRY_INFO!S80*100), \"-\"),0)","v":0},{"$f":"MAX('T1'!L80,'T2'!S80)","v":0},{"$f":"IF(AND(COUNTRY_INFO!K80>1,COUNTRY_INFO!K80<99,COUNTRY_INFO!K80<>4,COUNTRY_INFO!K80<>5),IF(COUNTRY_INFO!T80>AK80,AK80,COUNTRY_INFO!T80),0)","v":0},{"$f":"IF(AND(COUNTRY_INFO!K80>1,COUNTRY_INFO!K80<99,COUNTRY_INFO!K80<>4,COUNTRY_INFO!K80<>5), IF(AL80/COUNTRY_INFO!T80*100<>0, IF(AL80/COUNTRY_INFO!T80*100>100,100,AL80/COUNTRY_INFO!T80*100), \"-\"),0)","v":0},{"$f":"MAX('T1'!M80,'T2'!T80)","v":0},{"$f":"IF(AND(COUNTRY_INFO!K80>1,COUNTRY_INFO!K80<99,COUNTRY_INFO!K80<>4,COUNTRY_INFO!K80<>5),IF(COUNTRY_INFO!U80>AN80,AN80,COUNTRY_INFO!U80),0)","v":0},{"$f":"IF(AND(COUNTRY_INFO!K80>1,COUNTRY_INFO!K80<99,COUNTRY_INFO!K80<>4,COUNTRY_INFO!K80<>5), IF(AO80/COUNTRY_INFO!U80*100<>0, IF(AO80/COUNTRY_INFO!U80*100>100,100,AO80/COUNTRY_INFO!U80*100), \"-\"),0)","v":0},0,0,{"$f":"IF(AND(COUNTRY_INFO!K80>1,COUNTRY_INFO!K80<99,COUNTRY_INFO!K80<>4,COUNTRY_INFO!K80<>5), IF(AH80/AE80*100<>0, IF(AR80/AE80*100>100,100,AR80/AE80*100), \"-\"),0)","v":0},null,{"$f":"IF(AND(D80<>0, D80<>\"Unknown\",D80<>\"Stopped\",D80<>\"Not required\"),D80/COUNTRY_INFO!D80, 0)","v":1},{"$f":"IF(AND(J80<>0,J80<>\"Unknown\",J80<>\"Stopped\",J80<>\"Not required\"),J80/COUNTRY_INFO!D80, 0)","v":1},{"$f":"IF(AND(P80<>0,P80<>\"Unknown\",P80<>\"Surveillance\",P80<>\"Not required\"),P80/COUNTRY_INFO!R80, 0)","v":0},{"$f":"IF(AND(AE80<>0,AE80<>\"Unknown\",AE80<>\"Surveillance\",AE80<>\"Not required\"),AE80/COUNTRY_INFO!V80, 0)","v":0},{"$f":"IF(AU80>0,D80*PROFILE!$G$7,IF(AV80>0,J80*PROFILE!$G$7,0))","v":6244.3438750632849},{"$f":"_xlfn.IFS(OR(AU80>0,AW80>0),COUNTRY_INFO!E80, AV80>0,J80*PROFILE!$G$8,AX80>0,COUNTRY_INFO!S80,COUNTIFS(AU80:AX80,\">0\")=0,0)","v":25136},{"$f":"_xlfn.IFS(OR(AU80>0,AW80>0),COUNTRY_INFO!F80, AV80>0,J80*PROFILE!$G$9,AX80>0,COUNTRY_INFO!T80,COUNTIFS(AU80:AX80,\">0\")=0,0)","v":70141},{"$f":"_xlfn.IFS(AU80>0,COUNTRY_INFO!G80, AND(AV80>0,AW80=0,AX80=0),J80*PROFILE!$G$10,AND(AV80>0,AW80>0,AX80=0), MAX(J80*PROFILE!$G$10,COUNTRY_INFO!Q80),AND(AV80>0,AW80=0,AX80>0), MAX(J80*PROFILE!$G$10,COUNTRY_INFO!U80),AND(AV80=0,AW80>0,AX80>0), MAX(COUNTRY_INFO!Q80,COUNTRY_INFO!U80),AND(AV80=0,AW80>0,AX80=0),COUNTRY_INFO!Q80,AND(AV80=0,AW80=0,AX80>0),COUNTRY_INFO!U80,AND(AV80>0,AW80>0,AX80>0), MAX(J80*PROFILE!$G$10,COUNTRY_INFO!Q80,COUNTRY_INFO!U80),COUNTIFS(AU80:AX80,\">0\")=0,0)","v":125546},227067.34387506329,"Y",{"$f":"MAX('MDA4'!R80,S80,AH80)","v":0},{"$f":"MAX('MDA1'!K80,'MDA4'!S80,'MDA3'!I80,'MDA3'!L80,V80,AK80)","v":82980},{"$f":"MAX('MDA1'!L80,'MDA4'!T80,'MDA3'!J80,'MDA3'!M80,Y80,AN80)","v":88147},171127,{"$f":"_xlfn.IFS(AND(AU80=0,AW80=0,AX80=0),0,AND(AU80=0,AW80=0,AX80>0),AI80,AND(AU80=0,AW80>0,AX80=0),T80,AND(AU80=0,AW80>0,AX80>0),MAX(T80,AI80),AND(AU80>0,AW80=0,AX80=0),MIN('MDA4'!R80,AZ80),AND(AU80>0,AW80=0,AX80>0),MIN(MAX('MDA4'!R80,AI80),AZ80),AND(AU80>0,AW80>0,AX80=0),MIN(MAX('MDA4'!R80,T80),AZ80),AND(AU80>0,AW80>0,AX80>0),MIN(MAX('MDA4'!R80,AI80,T80),AZ80))","v":0},{"$f":"_xlfn.IFS(AND(AU80=0,AV80=0,AW80=0,AX80=0),0,AND(AU80=0,AV80=0,AW80=0,AX80>0),AL80,AND(AU80=0,AV80=0,AW80>0,AX80=0),W80,AND(AU80=0,AV80=0,AW80>0,AX80>0),MAX(W80,AL80),AND(AU80=0,AV80>0,AW80=0,AX80=0),MIN(J80*PROFILE!$G$9,MAX('MDA3'!I80,'MDA3'!L80)),AND(AU80=0,AV80>0,AW80=0,AX80>0),MIN(J80*PROFILE!$G$9,MAX('MDA3'!I80,'MDA3'!L80,AL80)),AND(AU80=0,AV80>0,AW80>0,AX80=0),MIN(J80*PROFILE!$G$9,MAX('MDA3'!I80,'MDA3'!L80,W80)),AND(AU80=0,AV80>0,AW80>0,AX80>0),MIN(J80*PROFILE!$G$9,MAX('MDA3'!I80,'MDA3'!L80,W80,AL80)),AND(AU80>0,AV80=0,AW80=0,AX80=0), MIN(BA80,MAX('MDA1'!K80,'MDA4'!S80)),AND(AU80>0,AV80=0,AW80=0,AX80>0), MIN(BA80,MAX('MDA1'!K80,'MDA4'!S80,AL80)),AND(AU80>0,AV80=0,AW80>0,AX80=0),MIN(BA80,MAX('MDA1'!K80,'MDA4'!S80,W80)),AND(AU80>0,AV80=0,AW80>0,AX80>0),MIN(BA80,MAX('MDA1'!K80,'MDA4'!S80,W80,AL80)),AND(AU80>0,AV80>0,AW80=0,AX80=0),MIN(BA80, MAX('MDA1'!K80,'MDA4'!S80,MAX('MDA3'!I80,'MDA3'!L80))), AND(AU80>0,AV80>0,AW80=0,AX80>0),MIN(BA80, MAX('MDA1'!K80,'MDA4'!S80,MAX( 'MDA3'!I80,'MDA3'!L80),AL80)), AND(AU80>0,AV80>0,AW80>0,AX80=0), MIN(BA80, MAX('MDA1'!K80,'MDA4'!S80,MAX( 'MDA3'!I80,'MDA3'!L80),W80)), AND(AU80>0,AV80>0,AW80>0,AX80>0), MIN(BA80, MAX('MDA1'!K80,'MDA4'!S80,MAX( 'MDA3'!I80,'MDA3'!L80),W80,AL80)))","v":70141},{"$f":"_xlfn.IFS(AND(AU80=0,AV80=0,AW80=0,AX80=0),0,AND(AU80=0,AV80=0,AW80=0,AX80>0),AO80,AND(AU80=0,AV80=0,AW80>0,AX80=0),Z80,AND(AU80=0,AV80=0,AW80>0,AX80>0),MAX(Z80,AO80),AND(AU80=0,AV80>0,AW80=0,AX80=0),MIN(J80*PROFILE!$G$10,MAX('MDA3'!J80,'MDA3'!J80)),AND(AU80=0,AV80>0,AW80=0,AX80>0),MIN(J80*PROFILE!$G$10,MAX('MDA3'!J80,'MDA3'!M80,AO80)),AND(AU80=0,AV80>0,AW80>0,AX80=0),MIN(J80*PROFILE!$G$10,MAX('MDA3'!J80,'MDA3'!M80,Z80)),AND(AU80=0,AV80>0,AW80>0,AX80>0),MIN(J80*PROFILE!$G$10,MAX('MDA3'!J80,'MDA3'!M80,Z80,AO80)),AND(AU80>0,AV80=0,AW80=0,AX80=0), MIN(BB80,MAX('MDA1'!L80,'MDA4'!T80)),AND(AU80>0,AV80=0,AW80=0,AX80>0), MIN(BB80,MAX('MDA1'!L80,'MDA4'!T80,AO80)),AND(AU80>0,AV80=0,AW80>0,AX80=0),MIN(BB80,MAX('MDA1'!L80,'MDA4'!T80,Z80)),AND(AU80>0,AV80=0,AW80>0,AX80>0),MIN(BB80,MAX('MDA1'!L80,'MDA4'!T80,Z80,AO80)),AND(AU80>0,AV80>0,AW80=0,AX80=0),MIN(BB80, MAX('MDA1'!L80,'MDA4'!T80,MAX( 'MDA3'!J80,'MDA3'!M80))), AND(AU80>0,AV80>0,AW80=0,AX80>0),MIN(BB80, MAX('MDA1'!L80,'MDA4'!T80,MAX( 'MDA3'!J80,'MDA3'!M80),AO80)), AND(AU80>0,AV80>0,AW80>0,AX80=0), MIN(BB80, MAX('MDA1'!L80,'MDA4'!T80,MAX( 'MDA3'!J80,'MDA3'!M80),Z80)), AND(AU80>0,AV80>0,AW80>0,AX80>0), MIN(BB80, MAX('MDA1'!L80,'MDA4'!T80,MAX( 'MDA3'!J80,'MDA3'!M80),Z80,AO80)))","v":88147},158288,69.709715760401465]
[{"$f":"IF(COUNTRY_INFO!A81=0,\" \",COUNTRY_INFO!A81)","v":"South Sudan"},{"$f":"IF(COUNTRY_INFO!B81=0,\" \",COUNTRY_INFO!B81)","v":"Wesstern Equatoria"},{"$f":"IF(COUNTRY_INFO!C81=0,\" \",COUNTRY_INFO!C81)","v":"IBBA"},{"$f":"COUNTRY_INFO!M81","v":62767.087599999999},null,null,{"$f":"'MDA1'!M81+'MDA4'!U81","v":49910},{"$f":"IF(AND(COUNTRY_INFO!H81>0,COUNTRY_INFO!H81<4),IF(D81>G81,G81,D81),0)","v":49910},{"$f":"IF(AND(COUNTRY_INFO!H81>0,COUNTRY_INFO!H81<4), IF(G81/D81*100<>0, IF(G81/D81*100>100,100,G81/D81*100), \"-\"),0)","v":79.516195363507677},{"$f":"COUNTRY_INFO!N81","v":62767.087599999999},null,null,{"$f":"MAX('MDA1'!M81,MAX('MDA3'!I81,'MDA3'!L81)+MAX('MDA3'!J81,'MDA3'!M81))","v":49910},{"$f":"IF(AND(COUNTRY_INFO!I81>0,COUNTRY_INFO!I81<4),IF(J81>M81,M81,J81),0)","v":49910},{"$f":"IF(AND(COUNTRY_INFO!I81>0,COUNTRY_INFO!I81<4), IF(M81/J81*100<>0, IF(M81/J81*100>100,100,M81/J81*100), \"-\"),0)","v":79.516195363507677},{"$f":"COUNTRY_INFO!R81","v":0},null,null,{"$f":"MAX('MDA4'!R81,'T1'!K81, MAX(T3_R1!J81,T3_R2!J81,T3_R3!J81))","v":0},{"$f":"IF(AND(COUNTRY_INFO!J81>1,COUNTRY_INFO!J81<99,COUNTRY_INFO!J81<>4,COUNTRY_INFO!J81<>5),IF(COUNTRY_INFO!O81>S81,S81,COUNTRY_INFO!O81),0)","v":0},{"$f":"IF(AND(COUNTRY_INFO!J81>1,COUNTRY_INFO!J81<99,COUNTRY_INFO!J81<>4,COUNTRY_INFO!J81<>5), IF(T81/COUNTRY_INFO!O81*100<>0, IF(T81/COUNTRY_INFO!O81*100>100,100,T81/COUNTRY_INFO!O81*100), \"-\"),0)","v":0},{"$f":"MAX('MDA1'!K81,'MDA4'!S81, 'T1'!L81, MAX(T3_R1!K81,T3_R2!K81,T3_R3!K81))","v":24269},{"$f":"IF(AND(COUNTRY_INFO!J81>1,COUNTRY_INFO!J81<99,COUNTRY_INFO!J81<>4,COUNTRY_INFO!J81<>5),IF(COUNTRY_INFO!P81>V81,V81,COUNTRY_INFO!P81),0)","v":0},{"$f":"IF(AND(COUNTRY_INFO!J81>1,COUNTRY_INFO!J81<99,COUNTRY_INFO!J81<>4,COUNTRY_INFO!J81<>5), IF(W81/COUNTRY_INFO!P81*100<>0, IF(W81/COUNTRY_INFO!P81*100>100,100,W81/COUNTRY_INFO!P81*100), \"-\"),0)","v":0},{"$f":"MAX('MDA1'!L81,'MDA4'!T81, 'T1'!M81, MAX(T3_R1!L81,T3_R2!L81,T3_R3!L81))","v":25641},{"$f":"IF(AND(COUNTRY_INFO!J81>1,COUNTRY_INFO!J81<99,COUNTRY_INFO!J81<>4,COUNTRY_INFO!J81<>5),IF(COUNTRY_INFO!Q81>Y81,Y81,COUNTRY_INFO!Q81),0)","v":0},{"$f":"IF(AND(COUNTRY_INFO!J81>1,COUNTRY_INFO!J81<99,COUNTRY_INFO!J81<>4,COUNTRY_INFO!J81<>5), IF(Z81/COUNTRY_INFO!Q81*100<>0, IF(Z81/COUNTRY_INFO!Q81*100>100,100,Z81/COUNTRY_INFO!Q81*100), \"-\"),0)","v":0},49910,0,{"$f":"IF(AND(COUNTRY_INFO!J81>1,COUNTRY_INFO!J81<99,COUNTRY_INFO!J81<>4,COUNTRY_INFO!J81<>5), IF(AC81/P81*100<>0, IF(AC81/P81*100>100,100,AC81/P81*100), \"-\"),0)","v":0},{"$f":"COUNTRY_INFO!V81","v":38316},null,null,{"$f":"MAX('T1'!K81,'T2'!R81)","v":0},{"$f":"IF(AND(COUNTRY_INFO!K81>1,COUNTRY_INFO!K81<99,COUNTRY_INFO!K81<>4,COUNTRY_INFO!K81<>5),IF(COUNTRY_INFO!S81>AH81,AH81,COUNTRY_INFO!S81),0)","v":0},{"$f":"IF(AND(COUNTRY_INFO!K81>1,COUNTRY_INFO!K81<99,COUNTRY_INFO!K81<>4,COUNTRY_INFO!K81<>5), IF(AI81/COUNTRY_INFO!S81*100<>0, IF(AI81/COUNTRY_INFO!S81*100>100,100,AI81/COUNTRY_INFO!S81*100), \"-\"),0)","v":"-"},{"$f":"MAX('T1'!L81,'T2'!S81)","v":0},{"$f":"IF(AND(COUNTRY_INFO!K81>1,COUNTRY_INFO!K81<99,COUNTRY_INFO!K81<>4,COUNTRY_INFO!K81<>5),IF(COUNTRY_INFO!T81>AK81,AK81,COUNTRY_INFO!T81),0)","v":0},{"$f":"IF(AND(COUNTRY_INFO!K81>1,COUNTRY_INFO!K81<99,COUNTRY_INFO!K81<>4,COUNTRY_INFO!K81<>5), IF(AL81/COUNTRY_INFO!T81*100<>0, IF(AL81/COUNTRY_INFO!T81*100>100,100,AL81/COUNTRY_INFO!T81*100), \"-\"),0)","v":"-"},{"$f":"MAX('T1'!M81,'T2'!T81)","v":0},{"$f":"IF(AND(COUNTRY_INFO!K81>1,COUNTRY_INFO!K81<99,COUNTRY_INFO!K81<>4,COUNTRY_INFO!K81<>5),IF(COUNTRY_INFO!U81>AN81,AN81,COUNTRY_INFO!U81),0)","v":0},{"$f":"IF(AND(COUNTRY_INFO!K81>1,COUNTRY_INFO!K81<99,COUNTRY_INFO!K81<>4,COUNTRY_INFO!K81<>5), IF(AO81/COUNTRY_INFO!U81*100<>0, IF(AO81/COUNTRY_INFO!U81*100>100,100,AO81/COUNTRY_INFO!U81*100), \"-\"),0)","v":"-"},0,0,{"$f":"IF(AND(COUNTRY_INFO!K81>1,COUNTRY_INFO!K81<99,COUNTRY_INFO!K81<>4,COUNTRY_INFO!K81<>5), IF(AH81/AE81*100<>0, IF(AR81/AE81*100>100,100,AR81/AE81*100), \"-\"),0)","v":"-"},null,{"$f":"IF(AND(D81<>0, D81<>\"Unknown\",D81<>\"Stopped\",D81<>\"Not required\"),D81/COUNTRY_INFO!D81, 0)","v":1},{"$f":"IF(AND(J81<>0,J81<>\"Unknown\",J81<>\"Stopped\",J81<>\"Not required\"),J81/COUNTRY_INFO!D81, 0)","v":1},{"$f":"IF(AND(P81<>0,P81<>\"Unknown\",P81<>\"Surveillance\",P81<>\"Not required\"),P81/COUNTRY_INFO!R81, 0)","v":0},{"$f":"IF(AND(AE81<>0,AE81<>\"Unknown\",AE81<>\"Surveillance\",AE81<>\"Not required\"),AE81/COUNTRY_INFO!V81, 0)","v":1},{"$f":"IF(AU81>0,D81*PROFILE!$G$7,IF(AV81>0,J81*PROFILE!$G$7,0))","v":1726.0906543581791},{"$f":"_xlfn.IFS(OR(AU81>0,AW81>0),COUNTRY_INFO!E81, AV81>0,J81*PROFILE!$G$8,AX81>0,COUNTRY_INFO!S81,COUNTIFS(AU81:AX81,\">0\")=0,0)","v":6948},{"$f":"_xlfn.IFS(OR(AU81>0,AW81>0),COUNTRY_INFO!F81, AV81>0,J81*PROFILE!$G$9,AX81>0,COUNTRY_INFO!T81,COUNTIFS(AU81:AX81,\">0\")=0,0)","v":19389},{"$f":"_xlfn.IFS(AU81>0,COUNTRY_INFO!G81, AND(AV81>0,AW81=0,AX81=0),J81*PROFILE!$G$10,AND(AV81>0,AW81>0,AX81=0), MAX(J81*PROFILE!$G$10,COUNTRY_INFO!Q81),AND(AV81>0,AW81=0,AX81>0), MAX(J81*PROFILE!$G$10,COUNTRY_INFO!U81),AND(AV81=0,AW81>0,AX81>0), MAX(COUNTRY_INFO!Q81,COUNTRY_INFO!U81),AND(AV81=0,AW81>0,AX81=0),COUNTRY_INFO!Q81,AND(AV81=0,AW81=0,AX81>0),COUNTRY_INFO!U81,AND(AV81>0,AW81>0,AX81>0), MAX(J81*PROFILE!$G$10,COUNTRY_INFO!Q81,COUNTRY_INFO!U81),COUNTIFS(AU81:AX81,\">0\")=0,0)","v":34704},62767.09065435818,0,{"$f":"MAX('MDA4'!R81,S81,AH81)","v":0},{"$f":"MAX('MDA1'!K81,'MDA4'!S81,'MDA3'!I81,'MDA3'!L81,V81,AK81)","v":24269},{"$f":"MAX('MDA1'!L81,'MDA4'!T81,'MDA3'!J81,'MDA3'!M81,Y81,AN81)","v":25641},49910,{"$f":"_xlfn.IFS(AND(AU81=0,AW81=0,AX81=0),0,AND(AU81=0,AW81=0,AX81>0),AI81,AND(AU81=0,AW81>0,AX81=0),T81,AND(AU81=0,AW81>0,AX81>0),MAX(T81,AI81),AND(AU81>0,AW81=0,AX81=0),MIN('MDA4'!R81,AZ81),AND(AU81>0,AW81=0,AX81>0),MIN(MAX('MDA4'!R81,AI81),AZ81),AND(AU81>0,AW81>0,AX81=0),MIN(MAX('MDA4'!R81,T81),AZ81),AND(AU81>0,AW81>0,AX81>0),MIN(MAX('MDA4'!R81,AI81,T81),AZ81))","v":0},{"$f":"_xlfn.IFS(AND(AU81=0,AV81=0,AW81=0,AX81=0),0,AND(AU81=0,AV81=0,AW81=0,AX81>0),AL81,AND(AU81=0,AV81=0,AW81>0,AX81=0),W81,AND(AU81=0,AV81=0,AW81>0,AX81>0),MAX(W81,AL81),AND(AU81=0,AV81>0,AW81=0,AX81=0),MIN(J81*PROFILE!$G$9,MAX('MDA3'!I81,'MDA3'!L81)),AND(AU81=0,AV81>0,AW81=0,AX81>0),MIN(J81*PROFILE!$G$9,MAX('MDA3'!I81,'MDA3'!L81,AL81)),AND(AU81=0,AV81>0,AW81>0,AX81=0),MIN(J81*PROFILE!$G$9,MAX('MDA3'!I81,'MDA3'!L81,W81)),AND(AU81=0,AV81>0,AW81>0,AX81>0),MIN(J81*PROFILE!$G$9,MAX('MDA3'!I81,'MDA3'!L81,W81,AL81)),AND(AU81>0,AV81=0,AW81=0,AX81=0), MIN(BA81,MAX('MDA1'!K81,'MDA4'!S81)),AND(AU81>0,AV81=0,AW81=0,AX81>0), MIN(BA81,MAX('MDA1'!K81,'MDA4'!S81,AL81)),AND(AU81>0,AV81=0,AW81>0,AX81=0),MIN(BA81,MAX('MDA1'!K81,'MDA4'!S81,W81)),AND(AU81>0,AV81=0,AW81>0,AX81>0),MIN(BA81,MAX('MDA1'!K81,'MDA4'!S81,W81,AL81)),AND(AU81>0,AV81>0,AW81=0,AX81=0),MIN(BA81, MAX('MDA1'!K81,'MDA4'!S81,MAX('MDA3'!I81,'MDA3'!L81))), AND(AU81>0,AV81>0,AW81=0,AX81>0),MIN(BA81, MAX('MDA1'!K81,'MDA4'!S81,MAX( 'MDA3'!I81,'MDA3'!L81),AL81)), AND(AU81>0,AV81>0,AW81>0,AX81=0), MIN(BA81, MAX('MDA1'!K81,'MDA4'!S81,MAX( 'MDA3'!I81,'MDA3'!L81),W81)), AND(AU81>0,AV81>0,AW81>0,AX81>0), MIN(BA81, MAX('MDA1'!K81,'MDA4'!S81,MAX( 'MDA3'!I81,'MDA3'!L81),W81,AL81)))","v":19389},{"$f":"_xlfn.IFS(AND(AU81=0,AV81=0,AW81=0,AX81=0),0,AND(AU81=0,AV81=0,AW81=0,AX81>0),AO81,AND(AU81=0,AV81=0,AW81>0,AX81=0),Z81,AND(AU81=0,AV81=0,AW81>0,AX81>0),MAX(Z81,AO81),AND(AU81=0,AV81>0,AW81=0,AX81=0),MIN(J81*PROFILE!$G$10,MAX('MDA3'!J81,'MDA3'!J81)),AND(AU81=0,AV81>0,AW81=0,AX81>0),MIN(J81*PROFILE!$G$10,MAX('MDA3'!J81,'MDA3'!M81,AO81)),AND(AU81=0,AV81>0,AW81>0,AX81=0),MIN(J81*PROFILE!$G$10,MAX('MDA3'!J81,'MDA3'!M81,Z81)),AND(AU81=0,AV81>0,AW81>0,AX81>0),MIN(J81*PROFILE!$G$10,MAX('MDA3'!J81,'MDA3'!M81,Z81,AO81)),AND(AU81>0,AV81=0,AW81=0,AX81=0), MIN(BB81,MAX('MDA1'!L81,'MDA4'!T81)),AND(AU81>0,AV81=0,AW81=0,AX81>0), MIN(BB81,MAX('MDA1'!L81,'MDA4'!T81,AO81)),AND(AU81>0,AV81=0,AW81>0,AX81=0),MIN(BB81,MAX('MDA1'!L81,'MDA4'!T81,Z81)),AND(AU81>0,AV81=0,AW81>0,AX81>0),MIN(BB81,MAX('MDA1'!L81,'MDA4'!T81,Z81,AO81)),AND(AU81>0,AV81>0,AW81=0,AX81=0),MIN(BB81, MAX('MDA1'!L81,'MDA4'!T81,MAX( 'MDA3'!J81,'MDA3'!M81))), AND(AU81>0,AV81>0,AW81=0,AX81>0),MIN(BB81, MAX('MDA1'!L81,'MDA4'!T81,MAX( 'MDA3'!J81,'MDA3'!M81),AO81)), AND(AU81>0,AV81>0,AW81>0,AX81=0), MIN(BB81, MAX('MDA1'!L81,'MDA4'!T81,MAX( 'MDA3'!J81,'MDA3'!M81),Z81)), AND(AU81>0,AV81>0,AW81>0,AX81>0), MIN(BB81, MAX('MDA1'!L81,'MDA4'!T81,MAX( 'MDA3'!J81,'MDA3'!M81),Z81,AO81)))","v":25641},45030,71.741416609491012]
[{"$f":"IF(COUNTRY_INFO!A82=0,\" \",COUNTRY_INFO!A82)","v":"South Sudan"},{"$f":"IF(COUNTRY_INFO!B82=0,\" \",COUNTRY_INFO!B82)","v":"Wesstern Equatoria"},{"$f":"IF(COUNTRY_INFO!C82=0,\" \",COUNTRY_INFO!C82)","v":"MARIDI"},{"$f":"COUNTRY_INFO!M82","v":122764.16530000001},null,null,{"$f":"'MDA1'!M82+'MDA4'!U82","v":97395},{"$f":"IF(AND(COUNTRY_INFO!H82>0,COUNTRY_INFO!H82<4),IF(D82>G82,G82,D82),0)","v":97395},{"$f":"IF(AND(COUNTRY_INFO!H82>0,COUNTRY_INFO!H82<4), IF(G82/D82*100<>0, IF(G82/D82*100>100,100,G82/D82*100), \"-\"),0)","v":79.335040288014724},{"$f":"COUNTRY_INFO!N82","v":122764.16530000001},null,null,{"$f":"MAX('MDA1'!M82,MAX('MDA3'!I82,'MDA3'!L82)+MAX('MDA3'!J82,'MDA3'!M82))","v":97395},{"$f":"IF(AND(COUNTRY_INFO!I82>0,COUNTRY_INFO!I82<4),IF(J82>M82,M82,J82),0)","v":97395},{"$f":"IF(AND(COUNTRY_INFO!I82>0,COUNTRY_INFO!I82<4), IF(M82/J82*100<>0, IF(M82/J82*100>100,100,M82/J82*100), \"-\"),0)","v":79.335040288014724},{"$f":"COUNTRY_INFO!R82","v":0},null,null,{"$f":"MAX('MDA4'!R82,'T1'!K82, MAX(T3_R1!J82,T3_R2!J82,T3_R3!J82))","v":0},{"$f":"IF(AND(COUNTRY_INFO!J82>1,COUNTRY_INFO!J82<99,COUNTRY_INFO!J82<>4,COUNTRY_INFO!J82<>5),IF(COUNTRY_INFO!O82>S82,S82,COUNTRY_INFO!O82),0)","v":0},{"$f":"IF(AND(COUNTRY_INFO!J82>1,COUNTRY_INFO!J82<99,COUNTRY_INFO!J82<>4,COUNTRY_INFO!J82<>5), IF(T82/COUNTRY_INFO!O82*100<>0, IF(T82/COUNTRY_INFO!O82*100>100,100,T82/COUNTRY_INFO!O82*100), \"-\"),0)","v":0},{"$f":"MAX('MDA1'!K82,'MDA4'!S82, 'T1'!L82, MAX(T3_R1!K82,T3_R2!K82,T3_R3!K82))","v":47385},{"$f":"IF(AND(COUNTRY_INFO!J82>1,COUNTRY_INFO!J82<99,COUNTRY_INFO!J82<>4,COUNTRY_INFO!J82<>5),IF(COUNTRY_INFO!P82>V82,V82,COUNTRY_INFO!P82),0)","v":0},{"$f":"IF(AND(COUNTRY_INFO!J82>1,COUNTRY_INFO!J82<99,COUNTRY_INFO!J82<>4,COUNTRY_INFO!J82<>5), IF(W82/COUNTRY_INFO!P82*100<>0, IF(W82/COUNTRY_INFO!P82*100>100,100,W82/COUNTRY_INFO!P82*100), \"-\"),0)","v":0},{"$f":"MAX('MDA1'!L82,'MDA4'!T82, 'T1'!M82, MAX(T3_R1!L82,T3_R2!L82,T3_R3!L82))","v":50010},{"$f":"IF(AND(COUNTRY_INFO!J82>1,COUNTRY_INFO!J82<99,COUNTRY_INFO!J82<>4,COUNTRY_INFO!J82<>5),IF(COUNTRY_INFO!Q82>Y82,Y82,COUNTRY_INFO!Q82),0)","v":0},{"$f":"IF(AND(COUNTRY_INFO!J82>1,COUNTRY_INFO!J82<99,COUNTRY_INFO!J82<>4,COUNTRY_INFO!J82<>5), IF(Z82/COUNTRY_INFO!Q82*100<>0, IF(Z82/COUNTRY_INFO!Q82*100>100,100,Z82/COUNTRY_INFO!Q82*100), \"-\"),0)","v":0},97395,0,{"$f":"IF(AND(COUNTRY_INFO!J82>1,COUNTRY_INFO!J82<99,COUNTRY_INFO!J82<>4,COUNTRY_INFO!J82<>5), IF(AC82/P82*100<>0, IF(AC82/P82*100>100,100,AC82/P82*100), \"-\"),0)","v":0},{"$f":"COUNTRY_INFO!V82","v":103445},null,null,{"$f":"MAX('T1'!K82,'T2'!R82)","v":0},{"$f":"IF(AND(COUNTRY_INFO!K82>1,COUNTRY_INFO!K82<99,COUNTRY_INFO!K82<>4,COUNTRY_INFO!K82<>5),IF(COUNTRY_INFO!S82>AH82,AH82,COUNTRY_INFO!S82),0)","v":0},{"$f":"IF(AND(COUNTRY_INFO!K82>1,COUNTRY_INFO!K82<99,COUNTRY_INFO!K82<>4,COUNTRY_INFO!K82<>5), IF(AI82/COUNTRY_INFO!S82*100<>0, IF(AI82/COUNTRY_INFO!S82*100>100,100,AI82/COUNTRY_INFO!S82*100), \"-\"),0)","v":"-"},{"$f":"MAX('T1'!L82,'T2'!S82)","v":0},{"$f":"IF(AND(COUNTRY_INFO!K82>1,COUNTRY_INFO!K82<99,COUNTRY_INFO!K82<>4,COUNTRY_INFO!K82<>5),IF(COUNTRY_INFO!T82>AK82,AK82,COUNTRY_INFO!T82),0)","v":0},{"$f":"IF(AND(COUNTRY_INFO!K82>1,COUNTRY_INFO!K82<99,COUNTRY_INFO!K82<>4,COUNTRY_INFO!K82<>5), IF(AL82/COUNTRY_INFO!T82*100<>0, IF(AL82/COUNTRY_INFO!T82*100>100,100,AL82/COUNTRY_INFO!T82*100), \"-\"),0)","v":"-"},{"$f":"MAX('T1'!M82,'T2'!T82)","v":0},{"$f":"IF(AND(COUNTRY_INFO!K82>1,COUNTRY_INFO!K82<99,COUNTRY_INFO!K82<>4,COUNTRY_INFO!K82<>5),IF(COUNTRY_INFO!U82>AN82,AN82,COUNTRY_INFO!U82),0)","v":0},{"$f":"IF(AND(COUNTRY_INFO!K82>1,COUNTRY_INFO!K82<99,COUNTRY_INFO!K82<>4,COUNTRY_INFO!K82<>5), IF(AO82/COUNTRY_INFO!U82*100<>0, IF(AO82/COUNTRY_INFO!U82*100>100,100,AO82/COUNTRY_INFO!U82*100), \"-\"),0)","v":"-"},0,0,{"$f":"IF(AND(COUNTRY_INFO!K82>1,COUNTRY_INFO!K82<99,COUNTRY_INFO!K82<>4,COUNTRY_INFO!K82<>5), IF(AH82/AE82*100<>0, IF(AR82/AE82*100>100,100,AR82/AE82*100), \"-\"),0)","v":"-"},null,{"$f":"IF(AND(D82<>0, D82<>\"Unknown\",D82<>\"Stopped\",D82<>\"Not required\"),D82/COUNTRY_INFO!D82, 0)","v":1},{"$f":"IF(AND(J82<>0,J82<>\"Unknown\",J82<>\"Stopped\",J82<>\"Not required\"),J82/COUNTRY_INFO!D82, 0)","v":1},{"$f":"IF(AND(P82<>0,P82<>\"Unknown\",P82<>\"Surveillance\",P82<>\"Not required\"),P82/COUNTRY_INFO!R82, 0)","v":0},{"$f":"IF(AND(AE82<>0,AE82<>\"Unknown\",AE82<>\"Surveillance\",AE82<>\"Not required\"),AE82/COUNTRY_INFO!V82, 0)","v":1},{"$f":"IF(AU82>0,D82*PROFILE!$G$7,IF(AV82>0,J82*PROFILE!$G$7,0))","v":3376.006224230367},{"$f":"_xlfn.IFS(OR(AU82>0,AW82>0),COUNTRY_INFO!E82, AV82>0,J82*PROFILE!$G$8,AX82>0,COUNTRY_INFO!S82,COUNTIFS(AU82:AX82,\">0\")=0,0)","v":13590},{"$f":"_xlfn.IFS(OR(AU82>0,AW82>0),COUNTRY_INFO!F82, AV82>0,J82*PROFILE!$G$9,AX82>0,COUNTRY_INFO!T82,COUNTIFS(AU82:AX82,\">0\")=0,0)","v":37922},{"$f":"_xlfn.IFS(AU82>0,COUNTRY_INFO!G82, AND(AV82>0,AW82=0,AX82=0),J82*PROFILE!$G$10,AND(AV82>0,AW82>0,AX82=0), MAX(J82*PROFILE!$G$10,COUNTRY_INFO!Q82),AND(AV82>0,AW82=0,AX82>0), MAX(J82*PROFILE!$G$10,COUNTRY_INFO!U82),AND(AV82=0,AW82>0,AX82>0), MAX(COUNTRY_INFO!Q82,COUNTRY_INFO!U82),AND(AV82=0,AW82>0,AX82=0),COUNTRY_INFO!Q82,AND(AV82=0,AW82=0,AX82>0),COUNTRY_INFO!U82,AND(AV82>0,AW82>0,AX82>0), MAX(J82*PROFILE!$G$10,COUNTRY_INFO!Q82,COUNTRY_INFO!U82),COUNTIFS(AU82:AX82,\">0\")=0,0)","v":67876},122764.00622423037,0,{"$f":"MAX('MDA4'!R82,S82,AH82)","v":0},{"$f":"MAX('MDA1'!K82,'MDA4'!S82,'MDA3'!I82,'MDA3'!L82,V82,AK82)","v":47385},{"$f":"MAX('MDA1'!L82,'MDA4'!T82,'MDA3'!J82,'MDA3'!M82,Y82,AN82)","v":50010},97395,{"$f":"_xlfn.IFS(AND(AU82=0,AW82=0,AX82=0),0,AND(AU82=0,AW82=0,AX82>0),AI82,AND(AU82=0,AW82>0,AX82=0),T82,AND(AU82=0,AW82>0,AX82>0),MAX(T82,AI82),AND(AU82>0,AW82=0,AX82=0),MIN('MDA4'!R82,AZ82),AND(AU82>0,AW82=0,AX82>0),MIN(MAX('MDA4'!R82,AI82),AZ82),AND(AU82>0,AW82>0,AX82=0),MIN(MAX('MDA4'!R82,T82),AZ82),AND(AU82>0,AW82>0,AX82>0),MIN(MAX('MDA4'!R82,AI82,T82),AZ82))","v":0},{"$f":"_xlfn.IFS(AND(AU82=0,AV82=0,AW82=0,AX82=0),0,AND(AU82=0,AV82=0,AW82=0,AX82>0),AL82,AND(AU82=0,AV82=0,AW82>0,AX82=0),W82,AND(AU82=0,AV82=0,AW82>0,AX82>0),MAX(W82,AL82),AND(AU82=0,AV82>0,AW82=0,AX82=0),MIN(J82*PROFILE!$G$9,MAX('MDA3'!I82,'MDA3'!L82)),AND(AU82=0,AV82>0,AW82=0,AX82>0),MIN(J82*PROFILE!$G$9,MAX('MDA3'!I82,'MDA3'!L82,AL82)),AND(AU82=0,AV82>0,AW82>0,AX82=0),MIN(J82*PROFILE!$G$9,MAX('MDA3'!I82,'MDA3'!L82,W82)),AND(AU82=0,AV82>0,AW82>0,AX82>0),MIN(J82*PROFILE!$G$9,MAX('MDA3'!I82,'MDA3'!L82,W82,AL82)),AND(AU82>0,AV82=0,AW82=0,AX82=0), MIN(BA82,MAX('MDA1'!K82,'MDA4'!S82)),AND(AU82>0,AV82=0,AW82=0,AX82>0), MIN(BA82,MAX('MDA1'!K82,'MDA4'!S82,AL82)),AND(AU82>0,AV82=0,AW82>0,AX82=0),MIN(BA82,MAX('MDA1'!K82,'MDA4'!S82,W82)),AND(AU82>0,AV82=0,AW82>0,AX82>0),MIN(BA82,MAX('MDA1'!K82,'MDA4'!S82,W82,AL82)),AND(AU82>0,AV82>0,AW82=0,AX82=0),MIN(BA82, MAX('MDA1'!K82,'MDA4'!S82,MAX('MDA3'!I82,'MDA3'!L82))), AND(AU82>0,AV82>0,AW82=0,AX82>0),MIN(BA82, MAX('MDA1'!K82,'MDA4'!S82,MAX( 'MDA3'!I82,'MDA3'!L82),AL82)), AND(AU82>0,AV82>0,AW82>0,AX82=0), MIN(BA82, MAX('MDA1'!K82,'MDA4'!S82,MAX( 'MDA3'!I82,'MDA3'!L82),W82)), AND(AU82>0,AV82>0,AW82>0,AX82>0), MIN(BA82, MAX('MDA1'!K82,'MDA4'!S82,MAX( 'MDA3'!I82,'MDA3'!L82),W82,AL82)))","v":37922},{"$f":"_xlfn.IFS(AND(AU82=0,AV82=0,AW82=0,AX82=0),0,AND(AU82=0,AV82=0,AW82=0,AX82>0),AO82,AND(AU82=0,AV82=0,AW82>0,AX82=0),Z82,AND(AU82=0,AV82=0,AW82>0,AX82>0),MAX(Z82,AO82),AND(AU82=0,AV82>0,AW82=0,AX82=0),MIN(J82*PROFILE!$G$10,MAX('MDA3'!J82,'MDA3'!J82)),AND(AU82=0,AV82>0,AW82=0,AX82>0),MIN(J82*PROFILE!$G$10,MAX('MDA3'!J82,'MDA3'!M82,AO82)),AND(AU82=0,AV82>0,AW82>0,AX82=0),MIN(J82*PROFILE!$G$10,MAX('MDA3'!J82,'MDA3'!M82,Z82)),AND(AU82=0,AV82>0,AW82>0,AX82>0),MIN(J82*PROFILE!$G$10,MAX('MDA3'!J82,'MDA3'!M82,Z82,AO82)),AND(AU82>0,AV82=0,AW82=0,AX82=0), MIN(BB82,MAX('MDA1'!L82,'MDA4'!T82)),AND(AU82>0,AV82=0,AW82=0,AX82>0), MIN(BB82,MAX('MDA1'!L82,'MDA4'!T82,AO82)),AND(AU82>0,AV82=0,AW82>0,AX82=0),MIN(BB82,MAX('MDA1'!L82,'MDA4'!T82,Z82)),AND(AU82>0,AV82=0,AW82>0,AX82>0),MIN(BB82,MAX('MDA1'!L82,'MDA4'!T82,Z82,AO82)),AND(AU82>0,AV82>0,AW82=0,AX82=0),MIN(BB82, MAX('MDA1'!L82,'MDA4'!T82,MAX( 'MDA3'!J82,'MDA3'!M82))), AND(AU82>0,AV82>0,AW82=0,AX82>0),MIN(BB82, MAX('MDA1'!L82,'MDA4'!T82,MAX( 'MDA3'!J82,'MDA3'!M82),AO82)), AND(AU82>0,AV82>0,AW82>0,AX82=0), MIN(BB82, MAX('MDA1'!L82,'MDA4'!T82,MAX( 'MDA3'!J82,'MDA3'!M82),Z82)), AND(AU82>0,AV82>0,AW82>0,AX82>0), MIN(BB82, MAX('MDA1'!L82,'MDA4'!T82,MAX( 'MDA3'!J82,'MDA3'!M82),Z82,AO82)))","v":50010},87932,71.626857663304691]
[{"$f":"IF(COUNTRY_INFO!A83=0,\" \",COUNTRY_INFO!A83)","v":"South Sudan"},{"$f":"IF(COUNTRY_INFO!B83=0,\" \",COUNTRY_INFO!B83)","v":"Wesstern Equatoria"},{"$f":"IF(COUNTRY_INFO!C83=0,\" \",COUNTRY_INFO!C83)","v":"MVOLO"},{"$f":"COUNTRY_INFO!M83","v":71996.917600000001},null,null,{"$f":"'MDA1'!M83+'MDA4'!U83","v":57283},{"$f":"IF(AND(COUNTRY_INFO!H83>0,COUNTRY_INFO!H83<4),IF(D83>G83,G83,D83),0)","v":57283},{"$f":"IF(AND(COUNTRY_INFO!H83>0,COUNTRY_INFO!H83<4), IF(G83/D83*100<>0, IF(G83/D83*100>100,100,G83/D83*100), \"-\"),0)","v":79.563128408152849},{"$f":"COUNTRY_INFO!N83","v":71996.917600000001},null,null,{"$f":"MAX('MDA1'!M83,MAX('MDA3'!I83,'MDA3'!L83)+MAX('MDA3'!J83,'MDA3'!M83))","v":57283},{"$f":"IF(AND(COUNTRY_INFO!I83>0,COUNTRY_INFO!I83<4),IF(J83>M83,M83,J83),0)","v":57283},{"$f":"IF(AND(COUNTRY_INFO!I83>0,COUNTRY_INFO!I83<4), IF(M83/J83*100<>0, IF(M83/J83*100>100,100,M83/J83*100), \"-\"),0)","v":79.563128408152849},{"$f":"COUNTRY_INFO!R83","v":0},null,null,{"$f":"MAX('MDA4'!R83,'T1'!K83, MAX(T3_R1!J83,T3_R2!J83,T3_R3!J83))","v":0},{"$f":"IF(AND(COUNTRY_INFO!J83>1,COUNTRY_INFO!J83<99,COUNTRY_INFO!J83<>4,COUNTRY_INFO!J83<>5),IF(COUNTRY_INFO!O83>S83,S83,COUNTRY_INFO!O83),0)","v":0},{"$f":"IF(AND(COUNTRY_INFO!J83>1,COUNTRY_INFO!J83<99,COUNTRY_INFO!J83<>4,COUNTRY_INFO!J83<>5), IF(T83/COUNTRY_INFO!O83*100<>0, IF(T83/COUNTRY_INFO!O83*100>100,100,T83/COUNTRY_INFO!O83*100), \"-\"),0)","v":0},{"$f":"MAX('MDA1'!K83,'MDA4'!S83, 'T1'!L83, MAX(T3_R1!K83,T3_R2!K83,T3_R3!K83))","v":28282},{"$f":"IF(AND(COUNTRY_INFO!J83>1,COUNTRY_INFO!J83<99,COUNTRY_INFO!J83<>4,COUNTRY_INFO!J83<>5),IF(COUNTRY_INFO!P83>V83,V83,COUNTRY_INFO!P83),0)","v":0},{"$f":"IF(AND(COUNTRY_INFO!J83>1,COUNTRY_INFO!J83<99,COUNTRY_INFO!J83<>4,COUNTRY_INFO!J83<>5), IF(W83/COUNTRY_INFO!P83*100<>0, IF(W83/COUNTRY_INFO!P83*100>100,100,W83/COUNTRY_INFO!P83*100), \"-\"),0)","v":0},{"$f":"MAX('MDA1'!L83,'MDA4'!T83, 'T1'!M83, MAX(T3_R1!L83,T3_R2!L83,T3_R3!L83))","v":29001},{"$f":"IF(AND(COUNTRY_INFO!J83>1,COUNTRY_INFO!J83<99,COUNTRY_INFO!J83<>4,COUNTRY_INFO!J83<>5),IF(COUNTRY_INFO!Q83>Y83,Y83,COUNTRY_INFO!Q83),0)","v":0},{"$f":"IF(AND(COUNTRY_INFO!J83>1,COUNTRY_INFO!J83<99,COUNTRY_INFO!J83<>4,COUNTRY_INFO!J83<>5), IF(Z83/COUNTRY_INFO!Q83*100<>0, IF(Z83/COUNTRY_INFO!Q83*100>100,100,Z83/COUNTRY_INFO!Q83*100), \"-\"),0)","v":0},57283,0,{"$f":"IF(AND(COUNTRY_INFO!J83>1,COUNTRY_INFO!J83<99,COUNTRY_INFO!J83<>4,COUNTRY_INFO!J83<>5), IF(AC83/P83*100<>0, IF(AC83/P83*100>100,100,AC83/P83*100), \"-\"),0)","v":0},{"$f":"COUNTRY_INFO!V83","v":0},null,null,{"$f":"MAX('T1'!K83,'T2'!R83)","v":0},{"$f":"IF(AND(COUNTRY_INFO!K83>1,COUNTRY_INFO!K83<99,COUNTRY_INFO!K83<>4,COUNTRY_INFO!K83<>5),IF(COUNTRY_INFO!S83>AH83,AH83,COUNTRY_INFO!S83),0)","v":0},{"$f":"IF(AND(COUNTRY_INFO!K83>1,COUNTRY_INFO!K83<99,COUNTRY_INFO!K83<>4,COUNTRY_INFO!K83<>5), IF(AI83/COUNTRY_INFO!S83*100<>0, IF(AI83/COUNTRY_INFO!S83*100>100,100,AI83/COUNTRY_INFO!S83*100), \"-\"),0)","v":0},{"$f":"MAX('T1'!L83,'T2'!S83)","v":0},{"$f":"IF(AND(COUNTRY_INFO!K83>1,COUNTRY_INFO!K83<99,COUNTRY_INFO!K83<>4,COUNTRY_INFO!K83<>5),IF(COUNTRY_INFO!T83>AK83,AK83,COUNTRY_INFO!T83),0)","v":0},{"$f":"IF(AND(COUNTRY_INFO!K83>1,COUNTRY_INFO!K83<99,COUNTRY_INFO!K83<>4,COUNTRY_INFO!K83<>5), IF(AL83/COUNTRY_INFO!T83*100<>0, IF(AL83/COUNTRY_INFO!T83*100>100,100,AL83/COUNTRY_INFO!T83*100), \"-\"),0)","v":0},{"$f":"MAX('T1'!M83,'T2'!T83)","v":0},{"$f":"IF(AND(COUNTRY_INFO!K83>1,COUNTRY_INFO!K83<99,COUNTRY_INFO!K83<>4,COUNTRY_INFO!K83<>5),IF(COUNTRY_INFO!U83>AN83,AN83,COUNTRY_INFO!U83),0)","v":0},{"$f":"IF(AND(COUNTRY_INFO!K83>1,COUNTRY_INFO!K83<99,COUNTRY_INFO!K83<>4,COUNTRY_INFO!K83<>5), IF(AO83/COUNTRY_INFO!U83*100<>0, IF(AO83/COUNTRY_INFO!U83*100>100,100,AO83/COUNTRY_INFO!U83*100), \"-\"),0)","v":0},0,0,{"$f":"IF(AND(COUNTRY_INFO!K83>1,COUNTRY_INFO!K83<99,COUNTRY_INFO!K83<>4,COUNTRY_INFO!K83<>5), IF(AH83/AE83*100<>0, IF(AR83/AE83*100>100,100,AR83/AE83*100), \"-\"),0)","v":0},null,{"$f":"IF(AND(D83<>0, D83<>\"Unknown\",D83<>\"Stopped\",D83<>\"Not required\"),D83/COUNTRY_INFO!D83, 0)","v":1},{"$f":"IF(AND(J83<>0,J83<>\"Unknown\",J83<>\"Stopped\",J83<>\"Not required\"),J83/COUNTRY_INFO!D83, 0)","v":1},{"$f":"IF(AND(P83<>0,P83<>\"Unknown\",P83<>\"Surveillance\",P83<>\"Not required\"),P83/COUNTRY_INFO!R83, 0)","v":0},{"$f":"IF(AND(AE83<>0,AE83<>\"Unknown\",AE83<>\"Surveillance\",AE83<>\"Not required\"),AE83/COUNTRY_INFO!V83, 0)","v":0},{"$f":"IF(AU83>0,D83*PROFILE!$G$7,IF(AV83>0,J83*PROFILE!$G$7,0))","v":1979.9103537178601},{"$f":"_xlfn.IFS(OR(AU83>0,AW83>0),COUNTRY_INFO!E83, AV83>0,J83*PROFILE!$G$8,AX83>0,COUNTRY_INFO!S83,COUNTIFS(AU83:AX83,\">0\")=0,0)","v":7970},{"$f":"_xlfn.IFS(OR(AU83>0,AW83>0),COUNTRY_INFO!F83, AV83>0,J83*PROFILE!$G$9,AX83>0,COUNTRY_INFO!T83,COUNTIFS(AU83:AX83,\">0\")=0,0)","v":22240},{"$f":"_xlfn.IFS(AU83>0,COUNTRY_INFO!G83, AND(AV83>0,AW83=0,AX83=0),J83*PROFILE!$G$10,AND(AV83>0,AW83>0,AX83=0), MAX(J83*PROFILE!$G$10,COUNTRY_INFO!Q83),AND(AV83>0,AW83=0,AX83>0), MAX(J83*PROFILE!$G$10,COUNTRY_INFO!U83),AND(AV83=0,AW83>0,AX83>0), MAX(COUNTRY_INFO!Q83,COUNTRY_INFO!U83),AND(AV83=0,AW83>0,AX83=0),COUNTRY_INFO!Q83,AND(AV83=0,AW83=0,AX83>0),COUNTRY_INFO!U83,AND(AV83>0,AW83>0,AX83>0), MAX(J83*PROFILE!$G$10,COUNTRY_INFO!Q83,COUNTRY_INFO!U83),COUNTIFS(AU83:AX83,\">0\")=0,0)","v":39807},71996.91035371786,"Y",{"$f":"MAX('MDA4'!R83,S83,AH83)","v":0},{"$f":"MAX('MDA1'!K83,'MDA4'!S83,'MDA3'!I83,'MDA3'!L83,V83,AK83)","v":28282},{"$f":"MAX('MDA1'!L83,'MDA4'!T83,'MDA3'!J83,'MDA3'!M83,Y83,AN83)","v":29001},57283,{"$f":"_xlfn.IFS(AND(AU83=0,AW83=0,AX83=0),0,AND(AU83=0,AW83=0,AX83>0),AI83,AND(AU83=0,AW83>0,AX83=0),T83,AND(AU83=0,AW83>0,AX83>0),MAX(T83,AI83),AND(AU83>0,AW83=0,AX83=0),MIN('MDA4'!R83,AZ83),AND(AU83>0,AW83=0,AX83>0),MIN(MAX('MDA4'!R83,AI83),AZ83),AND(AU83>0,AW83>0,AX83=0),MIN(MAX('MDA4'!R83,T83),AZ83),AND(AU83>0,AW83>0,AX83>0),MIN(MAX('MDA4'!R83,AI83,T83),AZ83))","v":0},{"$f":"_xlfn.IFS(AND(AU83=0,AV83=0,AW83=0,AX83=0),0,AND(AU83=0,AV83=0,AW83=0,AX83>0),AL83,AND(AU83=0,AV83=0,AW83>0,AX83=0),W83,AND(AU83=0,AV83=0,AW83>0,AX83>0),MAX(W83,AL83),AND(AU83=0,AV83>0,AW83=0,AX83=0),MIN(J83*PROFILE!$G$9,MAX('MDA3'!I83,'MDA3'!L83)),AND(AU83=0,AV83>0,AW83=0,AX83>0),MIN(J83*PROFILE!$G$9,MAX('MDA3'!I83,'MDA3'!L83,AL83)),AND(AU83=0,AV83>0,AW83>0,AX83=0),MIN(J83*PROFILE!$G$9,MAX('MDA3'!I83,'MDA3'!L83,W83)),AND(AU83=0,AV83>0,AW83>0,AX83>0),MIN(J83*PROFILE!$G$9,MAX('MDA3'!I83,'MDA3'!L83,W83,AL83)),AND(AU83>0,AV83=0,AW83=0,AX83=0), MIN(BA83,MAX('MDA1'!K83,'MDA4'!S83)),AND(AU83>0,AV83=0,AW83=0,AX83>0), MIN(BA83,MAX('MDA1'!K83,'MDA4'!S83,AL83)),AND(AU83>0,AV83=0,AW83>0,AX83=0),MIN(BA83,MAX('MDA1'!K83,'MDA4'!S83,W83)),AND(AU83>0,AV83=0,AW83>0,AX83>0),MIN(BA83,MAX('MDA1'!K83,'MDA4'!S83,W83,AL83)),AND(AU83>0,AV83>0,AW83=0,AX83=0),MIN(BA83, MAX('MDA1'!K83,'MDA4'!S83,MAX('MDA3'!I83,'MDA3'!L83))), AND(AU83>0,AV83>0,AW83=0,AX83>0),MIN(BA83, MAX('MDA1'!K83,'MDA4'!S83,MAX( 'MDA3'!I83,'MDA3'!L83),AL83)), AND(AU83>0,AV83>0,AW83>0,AX83=0), MIN(BA83, MAX('MDA1'!K83,'MDA4'!S83,MAX( 'MDA3'!I83,'MDA3'!L83),W83)), AND(AU83>0,AV83>0,AW83>0,AX83>0), MIN(BA83, MAX('MDA1'!K83,'MDA4'!S83,MAX( 'MDA3'!I83,'MDA3'!L83),W83,AL83)))","v":22240},{"$f":"_xlfn.IFS(AND(AU83=0,AV83=0,AW83=0,AX83=0),0,AND(AU83=0,AV83=0,AW83=0,AX83>0),AO83,AND(AU83=0,AV83=0,AW83>0,AX83=0),Z83,AND(AU83=0,AV83=0,AW83>0,AX83>0),MAX(Z83,AO83),AND(AU83=0,AV83>0,AW83=0,AX83=0),MIN(J83*PROFILE!$G$10,MAX('MDA3'!J83,'MDA3'!J83)),AND(AU83=0,AV83>0,AW83=0,AX83>0),MIN(J83*PROFILE!$G$10,MAX('MDA3'!J83,'MDA3'!M83,AO83)),AND(AU83=0,AV83>0,AW83>0,AX83=0),MIN(J83*PROFILE!$G$10,MAX('MDA3'!J83,'MDA3'!M83,Z83)),AND(AU83=0,AV83>0,AW83>0,AX83>0),MIN(J83*PROFILE!$G$10,MAX('MDA3'!J83,'MDA3'!M83,Z83,AO83)),AND(AU83>0,AV83=0,AW83=0,AX83=0), MIN(BB83,MAX('MDA1'!L83,'MDA4'!T83)),AND(AU83>0,AV83=0,AW83=0,AX83>0), MIN(BB83,MAX('MDA1'!L83,'MDA4'!T83,AO83)),AND(AU83>0,AV83=0,AW83>0,AX83=0),MIN(BB83,MAX('MDA1'!L83,'MDA4'!T83,Z83)),AND(AU83>0,AV83=0,AW83>0,AX83>0),MIN(BB83,MAX('MDA1'!L83,'MDA4'!T83,Z83,AO83)),AND(AU83>0,AV83>0,AW83=0,AX83=0),MIN(BB83, MAX('MDA1'!L83,'MDA4'!T83,MAX( 'MDA3'!J83,'MDA3'!M83))), AND(AU83>0,AV83>0,AW83=0,AX83>0),MIN(BB83, MAX('MDA1'!L83,'MDA4'!T83,MAX( 'MDA3'!J83,'MDA3'!M83),AO83)), AND(AU83>0,AV83>0,AW83>0,AX83=0), MIN(BB83, MAX('MDA1'!L83,'MDA4'!T83,MAX( 'MDA3'!J83,'MDA3'!M83),Z83)), AND(AU83>0,AV83>0,AW83>0,AX83>0), MIN(BB83, MAX('MDA1'!L83,'MDA4'!T83,MAX( 'MDA3'!J83,'MDA3'!M83),Z83,AO83)))","v":29001},51241,71.171109632698233]
[{"$f":"IF(COUNTRY_INFO!A84=0,\" \",COUNTRY_INFO!A84)","v":"South Sudan"},{"$f":"IF(COUNTRY_INFO!B84=0,\" \",COUNTRY_INFO!B84)","v":"Wesstern Equatoria"},{"$f":"IF(COUNTRY_INFO!C84=0,\" \",COUNTRY_INFO!C84)","v":"MUNDRI WEST"},{"$f":"COUNTRY_INFO!M84","v":50767.247700000007},null,null,{"$f":"'MDA1'!M84+'MDA4'!U84","v":48105},{"$f":"IF(AND(COUNTRY_INFO!H84>0,COUNTRY_INFO!H84<4),IF(D84>G84,G84,D84),0)","v":48105},{"$f":"IF(AND(COUNTRY_INFO!H84>0,COUNTRY_INFO!H84<4), IF(G84/D84*100<>0, IF(G84/D84*100>100,100,G84/D84*100), \"-\"),0)","v":94.755973938685656},{"$f":"COUNTRY_INFO!N84","v":50767.247700000007},null,null,{"$f":"MAX('MDA1'!M84,MAX('MDA3'!I84,'MDA3'!L84)+MAX('MDA3'!J84,'MDA3'!M84))","v":48105},{"$f":"IF(AND(COUNTRY_INFO!I84>0,COUNTRY_INFO!I84<4),IF(J84>M84,M84,J84),0)","v":48105},{"$f":"IF(AND(COUNTRY_INFO!I84>0,COUNTRY_INFO!I84<4), IF(M84/J84*100<>0, IF(M84/J84*100>100,100,M84/J84*100), \"-\"),0)","v":94.755973938685656},{"$f":"COUNTRY_INFO!R84","v":0},null,null,{"$f":"MAX('MDA4'!R84,'T1'!K84, MAX(T3_R1!J84,T3_R2!J84,T3_R3!J84))","v":0},{"$f":"IF(AND(COUNTRY_INFO!J84>1,COUNTRY_INFO!J84<99,COUNTRY_INFO!J84<>4,COUNTRY_INFO!J84<>5),IF(COUNTRY_INFO!O84>S84,S84,COUNTRY_INFO!O84),0)","v":0},{"$f":"IF(AND(COUNTRY_INFO!J84>1,COUNTRY_INFO!J84<99,COUNTRY_INFO!J84<>4,COUNTRY_INFO!J84<>5), IF(T84/COUNTRY_INFO!O84*100<>0, IF(T84/COUNTRY_INFO!O84*100>100,100,T84/COUNTRY_INFO!O84*100), \"-\"),0)","v":0},{"$f":"MAX('MDA1'!K84,'MDA4'!S84, 'T1'!L84, MAX(T3_R1!K84,T3_R2!K84,T3_R3!K84))","v":24125},{"$f":"IF(AND(COUNTRY_INFO!J84>1,COUNTRY_INFO!J84<99,COUNTRY_INFO!J84<>4,COUNTRY_INFO!J84<>5),IF(COUNTRY_INFO!P84>V84,V84,COUNTRY_INFO!P84),0)","v":0},{"$f":"IF(AND(COUNTRY_INFO!J84>1,COUNTRY_INFO!J84<99,COUNTRY_INFO!J84<>4,COUNTRY_INFO!J84<>5), IF(W84/COUNTRY_INFO!P84*100<>0, IF(W84/COUNTRY_INFO!P84*100>100,100,W84/COUNTRY_INFO!P84*100), \"-\"),0)","v":0},{"$f":"MAX('MDA1'!L84,'MDA4'!T84, 'T1'!M84, MAX(T3_R1!L84,T3_R2!L84,T3_R3!L84))","v":23980},{"$f":"IF(AND(COUNTRY_INFO!J84>1,COUNTRY_INFO!J84<99,COUNTRY_INFO!J84<>4,COUNTRY_INFO!J84<>5),IF(COUNTRY_INFO!Q84>Y84,Y84,COUNTRY_INFO!Q84),0)","v":0},{"$f":"IF(AND(COUNTRY_INFO!J84>1,COUNTRY_INFO!J84<99,COUNTRY_INFO!J84<>4,COUNTRY_INFO!J84<>5), IF(Z84/COUNTRY_INFO!Q84*100<>0, IF(Z84/COUNTRY_INFO!Q84*100>100,100,Z84/COUNTRY_INFO!Q84*100), \"-\"),0)","v":0},48105,0,{"$f":"IF(AND(COUNTRY_INFO!J84>1,COUNTRY_INFO!J84<99,COUNTRY_INFO!J84<>4,COUNTRY_INFO!J84<>5), IF(AC84/P84*100<>0, IF(AC84/P84*100>100,100,AC84/P84*100), \"-\"),0)","v":0},{"$f":"COUNTRY_INFO!V84","v":22450},null,null,{"$f":"MAX('T1'!K84,'T2'!R84)","v":0},{"$f":"IF(AND(COUNTRY_INFO!K84>1,COUNTRY_INFO!K84<99,COUNTRY_INFO!K84<>4,COUNTRY_INFO!K84<>5),IF(COUNTRY_INFO!S84>AH84,AH84,COUNTRY_INFO!S84),0)","v":0},{"$f":"IF(AND(COUNTRY_INFO!K84>1,COUNTRY_INFO!K84<99,COUNTRY_INFO!K84<>4,COUNTRY_INFO!K84<>5), IF(AI84/COUNTRY_INFO!S84*100<>0, IF(AI84/COUNTRY_INFO!S84*100>100,100,AI84/COUNTRY_INFO!S84*100), \"-\"),0)","v":"-"},{"$f":"MAX('T1'!L84,'T2'!S84)","v":0},{"$f":"IF(AND(COUNTRY_INFO!K84>1,COUNTRY_INFO!K84<99,COUNTRY_INFO!K84<>4,COUNTRY_INFO!K84<>5),IF(COUNTRY_INFO!T84>AK84,AK84,COUNTRY_INFO!T84),0)","v":0},{"$f":"IF(AND(COUNTRY_INFO!K84>1,COUNTRY_INFO!K84<99,COUNTRY_INFO!K84<>4,COUNTRY_INFO!K84<>5), IF(AL84/COUNTRY_INFO!T84*100<>0, IF(AL84/COUNTRY_INFO!T84*100>100,100,AL84/COUNTRY_INFO!T84*100), \"-\"),0)","v":"-"},{"$f":"MAX('T1'!M84,'T2'!T84)","v":0},{"$f":"IF(AND(COUNTRY_INFO!K84>1,COUNTRY_INFO!K84<99,COUNTRY_INFO!K84<>4,COUNTRY_INFO!K84<>5),IF(COUNTRY_INFO!U84>AN84,AN84,COUNTRY_INFO!U84),0)","v":0},{"$f":"IF(AND(COUNTRY_INFO!K84>1,COUNTRY_INFO!K84<99,COUNTRY_INFO!K84<>4,COUNTRY_INFO!K84<>5), IF(AO84/COUNTRY_INFO!U84*100<>0, IF(AO84/COUNTRY_INFO!U84*100>100,100,AO84/COUNTRY_INFO!U84*100), \"-\"),0)","v":"-"},0,0,{"$f":"IF(AND(COUNTRY_INFO!K84>1,COUNTRY_INFO!K84<99,COUNTRY_INFO!K84<>4,COUNTRY_INFO!K84<>5), IF(AH84/AE84*100<>0, IF(AR84/AE84*100>100,100,AR84/AE84*100), \"-\"),0)","v":"-"},null,{"$f":"IF(AND(D84<>0, D84<>\"Unknown\",D84<>\"Stopped\",D84<>\"Not required\"),D84/COUNTRY_INFO!D84, 0)","v":1},{"$f":"IF(AND(J84<>0,J84<>\"Unknown\",J84<>\"Stopped\",J84<>\"Not required\"),J84/COUNTRY_INFO!D84, 0)","v":1},{"$f":"IF(AND(P84<>0,P84<>\"Unknown\",P84<>\"Surveillance\",P84<>\"Not required\"),P84/COUNTRY_INFO!R84, 0)","v":0},{"$f":"IF(AND(AE84<>0,AE84<>\"Unknown\",AE84<>\"Surveillance\",AE84<>\"Not required\"),AE84/COUNTRY_INFO!V84, 0)","v":1},{"$f":"IF(AU84>0,D84*PROFILE!$G$7,IF(AV84>0,J84*PROFILE!$G$7,0))","v":1396.095870512507},{"$f":"_xlfn.IFS(OR(AU84>0,AW84>0),COUNTRY_INFO!E84, AV84>0,J84*PROFILE!$G$8,AX84>0,COUNTRY_INFO!S84,COUNTIFS(AU84:AX84,\">0\")=0,0)","v":5620},{"$f":"_xlfn.IFS(OR(AU84>0,AW84>0),COUNTRY_INFO!F84, AV84>0,J84*PROFILE!$G$9,AX84>0,COUNTRY_INFO!T84,COUNTIFS(AU84:AX84,\">0\")=0,0)","v":15682},{"$f":"_xlfn.IFS(AU84>0,COUNTRY_INFO!G84, AND(AV84>0,AW84=0,AX84=0),J84*PROFILE!$G$10,AND(AV84>0,AW84>0,AX84=0), MAX(J84*PROFILE!$G$10,COUNTRY_INFO!Q84),AND(AV84>0,AW84=0,AX84>0), MAX(J84*PROFILE!$G$10,COUNTRY_INFO!U84),AND(AV84=0,AW84>0,AX84>0), MAX(COUNTRY_INFO!Q84,COUNTRY_INFO!U84),AND(AV84=0,AW84>0,AX84=0),COUNTRY_INFO!Q84,AND(AV84=0,AW84=0,AX84>0),COUNTRY_INFO!U84,AND(AV84>0,AW84>0,AX84>0), MAX(J84*PROFILE!$G$10,COUNTRY_INFO!Q84,COUNTRY_INFO!U84),COUNTIFS(AU84:AX84,\">0\")=0,0)","v":28069},50767.095870512509,0,{"$f":"MAX('MDA4'!R84,S84,AH84)","v":0},{"$f":"MAX('MDA1'!K84,'MDA4'!S84,'MDA3'!I84,'MDA3'!L84,V84,AK84)","v":24125},{"$f":"MAX('MDA1'!L84,'MDA4'!T84,'MDA3'!J84,'MDA3'!M84,Y84,AN84)","v":23980},48105,{"$f":"_xlfn.IFS(AND(AU84=0,AW84=0,AX84=0),0,AND(AU84=0,AW84=0,AX84>0),AI84,AND(AU84=0,AW84>0,AX84=0),T84,AND(AU84=0,AW84>0,AX84>0),MAX(T84,AI84),AND(AU84>0,AW84=0,AX84=0),MIN('MDA4'!R84,AZ84),AND(AU84>0,AW84=0,AX84>0),MIN(MAX('MDA4'!R84,AI84),AZ84),AND(AU84>0,AW84>0,AX84=0),MIN(MAX('MDA4'!R84,T84),AZ84),AND(AU84>0,AW84>0,AX84>0),MIN(MAX('MDA4'!R84,AI84,T84),AZ84))","v":0},{"$f":"_xlfn.IFS(AND(AU84=0,AV84=0,AW84=0,AX84=0),0,AND(AU84=0,AV84=0,AW84=0,AX84>0),AL84,AND(AU84=0,AV84=0,AW84>0,AX84=0),W84,AND(AU84=0,AV84=0,AW84>0,AX84>0),MAX(W84,AL84),AND(AU84=0,AV84>0,AW84=0,AX84=0),MIN(J84*PROFILE!$G$9,MAX('MDA3'!I84,'MDA3'!L84)),AND(AU84=0,AV84>0,AW84=0,AX84>0),MIN(J84*PROFILE!$G$9,MAX('MDA3'!I84,'MDA3'!L84,AL84)),AND(AU84=0,AV84>0,AW84>0,AX84=0),MIN(J84*PROFILE!$G$9,MAX('MDA3'!I84,'MDA3'!L84,W84)),AND(AU84=0,AV84>0,AW84>0,AX84>0),MIN(J84*PROFILE!$G$9,MAX('MDA3'!I84,'MDA3'!L84,W84,AL84)),AND(AU84>0,AV84=0,AW84=0,AX84=0), MIN(BA84,MAX('MDA1'!K84,'MDA4'!S84)),AND(AU84>0,AV84=0,AW84=0,AX84>0), MIN(BA84,MAX('MDA1'!K84,'MDA4'!S84,AL84)),AND(AU84>0,AV84=0,AW84>0,AX84=0),MIN(BA84,MAX('MDA1'!K84,'MDA4'!S84,W84)),AND(AU84>0,AV84=0,AW84>0,AX84>0),MIN(BA84,MAX('MDA1'!K84,'MDA4'!S84,W84,AL84)),AND(AU84>0,AV84>0,AW84=0,AX84=0),MIN(BA84, MAX('MDA1'!K84,'MDA4'!S84,MAX('MDA3'!I84,'MDA3'!L84))), AND(AU84>0,AV84>0,AW84=0,AX84>0),MIN(BA84, MAX('MDA1'!K84,'MDA4'!S84,MAX( 'MDA3'!I84,'MDA3'!L84),AL84)), AND(AU84>0,AV84>0,AW84>0,AX84=0), MIN(BA84, MAX('MDA1'!K84,'MDA4'!S84,MAX( 'MDA3'!I84,'MDA3'!L84),W84)), AND(AU84>0,AV84>0,AW84>0,AX84>0), MIN(BA84, MAX('MDA1'!K84,'MDA4'!S84,MAX( 'MDA3'!I84,'MDA3'!L84),W84,AL84)))","v":15682},{"$f":"_xlfn.IFS(AND(AU84=0,AV84=0,AW84=0,AX84=0),0,AND(AU84=0,AV84=0,AW84=0,AX84>0),AO84,AND(AU84=0,AV84=0,AW84>0,AX84=0),Z84,AND(AU84=0,AV84=0,AW84>0,AX84>0),MAX(Z84,AO84),AND(AU84=0,AV84>0,AW84=0,AX84=0),MIN(J84*PROFILE!$G$10,MAX('MDA3'!J84,'MDA3'!J84)),AND(AU84=0,AV84>0,AW84=0,AX84>0),MIN(J84*PROFILE!$G$10,MAX('MDA3'!J84,'MDA3'!M84,AO84)),AND(AU84=0,AV84>0,AW84>0,AX84=0),MIN(J84*PROFILE!$G$10,MAX('MDA3'!J84,'MDA3'!M84,Z84)),AND(AU84=0,AV84>0,AW84>0,AX84>0),MIN(J84*PROFILE!$G$10,MAX('MDA3'!J84,'MDA3'!M84,Z84,AO84)),AND(AU84>0,AV84=0,AW84=0,AX84=0), MIN(BB84,MAX('MDA1'!L84,'MDA4'!T84)),AND(AU84>0,AV84=0,AW84=0,AX84>0), MIN(BB84,MAX('MDA1'!L84,'MDA4'!T84,AO84)),AND(AU84>0,AV84=0,AW84>0,AX84=0),MIN(BB84,MAX('MDA1'!L84,'MDA4'!T84,Z84)),AND(AU84>0,AV84=0,AW84>0,AX84>0),MIN(BB84,MAX('MDA1'!L84,'MDA4'!T84,Z84,AO84)),AND(AU84>0,AV84>0,AW84=0,AX84=0),MIN(BB84, MAX('MDA1'!L84,'MDA4'!T84,MAX( 'MDA3'!J84,'MDA3'!M84))), AND(AU84>0,AV84>0,AW84=0,AX84>0),MIN(BB84, MAX('MDA1'!L84,'MDA4'!T84,MAX( 'MDA3'!J84,'MDA3'!M84),AO84)), AND(AU84>0,AV84>0,AW84>0,AX84=0), MIN(BB84, MAX('MDA1'!L84,'MDA4'!T84,MAX( 'MDA3'!J84,'MDA3'!M84),Z84)), AND(AU84>0,AV84>0,AW84>0,AX84>0), MIN(BB84, MAX('MDA1'!L84,'MDA4'!T84,MAX( 'MDA3'!J84,'MDA3'!M84),Z84,AO84)))","v":23980},39662,78.125406466351023]
[{"$f":"IF(COUNTRY_INFO!A85=0,\" \",COUNTRY_INFO!A85)","v":"South Sudan"},{"$f":"IF(COUNTRY_INFO!B85=0,\" \",COUNTRY_INFO!B85)","v":"Wesstern Equatoria"},{"$f":"IF(COUNTRY_INFO!C85=0,\" \",COUNTRY_INFO!C85)","v":"MUNDRI EAST"},{"$f":"COUNTRY_INFO!M85","v":71996.917600000001},null,null,{"$f":"'MDA1'!M85+'MDA4'!U85","v":60725},{"$f":"IF(AND(COUNTRY_INFO!H85>0,COUNTRY_INFO!H85<4),IF(D85>G85,G85,D85),0)","v":60725},{"$f":"IF(AND(COUNTRY_INFO!H85>0,COUNTRY_INFO!H85<4), IF(G85/D85*100<>0, IF(G85/D85*100>100,100,G85/D85*100), \"-\"),0)","v":84.343888633365609},{"$f":"COUNTRY_INFO!N85","v":71996.917600000001},null,null,{"$f":"MAX('MDA1'!M85,MAX('MDA3'!I85,'MDA3'!L85)+MAX('MDA3'!J85,'MDA3'!M85))","v":60725},{"$f":"IF(AND(COUNTRY_INFO!I85>0,COUNTRY_INFO!I85<4),IF(J85>M85,M85,J85),0)","v":60725},{"$f":"IF(AND(COUNTRY_INFO!I85>0,COUNTRY_INFO!I85<4), IF(M85/J85*100<>0, IF(M85/J85*100>100,100,M85/J85*100), \"-\"),0)","v":84.343888633365609},{"$f":"COUNTRY_INFO!R85","v":0},null,null,{"$f":"MAX('MDA4'!R85,'T1'!K85, MAX(T3_R1!J85,T3_R2!J85,T3_R3!J85))","v":0},{"$f":"IF(AND(COUNTRY_INFO!J85>1,COUNTRY_INFO!J85<99,COUNTRY_INFO!J85<>4,COUNTRY_INFO!J85<>5),IF(COUNTRY_INFO!O85>S85,S85,COUNTRY_INFO!O85),0)","v":0},{"$f":"IF(AND(COUNTRY_INFO!J85>1,COUNTRY_INFO!J85<99,COUNTRY_INFO!J85<>4,COUNTRY_INFO!J85<>5), IF(T85/COUNTRY_INFO!O85*100<>0, IF(T85/COUNTRY_INFO!O85*100>100,100,T85/COUNTRY_INFO!O85*100), \"-\"),0)","v":0},{"$f":"MAX('MDA1'!K85,'MDA4'!S85, 'T1'!L85, MAX(T3_R1!K85,T3_R2!K85,T3_R3!K85))","v":30456},{"$f":"IF(AND(COUNTRY_INFO!J85>1,COUNTRY_INFO!J85<99,COUNTRY_INFO!J85<>4,COUNTRY_INFO!J85<>5),IF(COUNTRY_INFO!P85>V85,V85,COUNTRY_INFO!P85),0)","v":0},{"$f":"IF(AND(COUNTRY_INFO!J85>1,COUNTRY_INFO!J85<99,COUNTRY_INFO!J85<>4,COUNTRY_INFO!J85<>5), IF(W85/COUNTRY_INFO!P85*100<>0, IF(W85/COUNTRY_INFO!P85*100>100,100,W85/COUNTRY_INFO!P85*100), \"-\"),0)","v":0},{"$f":"MAX('MDA1'!L85,'MDA4'!T85, 'T1'!M85, MAX(T3_R1!L85,T3_R2!L85,T3_R3!L85))","v":30269},{"$f":"IF(AND(COUNTRY_INFO!J85>1,COUNTRY_INFO!J85<99,COUNTRY_INFO!J85<>4,COUNTRY_INFO!J85<>5),IF(COUNTRY_INFO!Q85>Y85,Y85,COUNTRY_INFO!Q85),0)","v":0},{"$f":"IF(AND(COUNTRY_INFO!J85>1,COUNTRY_INFO!J85<99,COUNTRY_INFO!J85<>4,COUNTRY_INFO!J85<>5), IF(Z85/COUNTRY_INFO!Q85*100<>0, IF(Z85/COUNTRY_INFO!Q85*100>100,100,Z85/COUNTRY_INFO!Q85*100), \"-\"),0)","v":0},60725,0,{"$f":"IF(AND(COUNTRY_INFO!J85>1,COUNTRY_INFO!J85<99,COUNTRY_INFO!J85<>4,COUNTRY_INFO!J85<>5), IF(AC85/P85*100<>0, IF(AC85/P85*100>100,100,AC85/P85*100), \"-\"),0)","v":0},{"$f":"COUNTRY_INFO!V85","v":47002},null,null,{"$f":"MAX('T1'!K85,'T2'!R85)","v":0},{"$f":"IF(AND(COUNTRY_INFO!K85>1,COUNTRY_INFO!K85<99,COUNTRY_INFO!K85<>4,COUNTRY_INFO!K85<>5),IF(COUNTRY_INFO!S85>AH85,AH85,COUNTRY_INFO!S85),0)","v":0},{"$f":"IF(AND(COUNTRY_INFO!K85>1,COUNTRY_INFO!K85<99,COUNTRY_INFO!K85<>4,COUNTRY_INFO!K85<>5), IF(AI85/COUNTRY_INFO!S85*100<>0, IF(AI85/COUNTRY_INFO!S85*100>100,100,AI85/COUNTRY_INFO!S85*100), \"-\"),0)","v":"-"},{"$f":"MAX('T1'!L85,'T2'!S85)","v":0},{"$f":"IF(AND(COUNTRY_INFO!K85>1,COUNTRY_INFO!K85<99,COUNTRY_INFO!K85<>4,COUNTRY_INFO!K85<>5),IF(COUNTRY_INFO!T85>AK85,AK85,COUNTRY_INFO!T85),0)","v":0},{"$f":"IF(AND(COUNTRY_INFO!K85>1,COUNTRY_INFO!K85<99,COUNTRY_INFO!K85<>4,COUNTRY_INFO!K85<>5), IF(AL85/COUNTRY_INFO!T85*100<>0, IF(AL85/COUNTRY_INFO!T85*100>100,100,AL85/COUNTRY_INFO!T85*100), \"-\"),0)","v":"-"},{"$f":"MAX('T1'!M85,'T2'!T85)","v":0},{"$f":"IF(AND(COUNTRY_INFO!K85>1,COUNTRY_INFO!K85<99,COUNTRY_INFO!K85<>4,COUNTRY_INFO!K85<>5),IF(COUNTRY_INFO!U85>AN85,AN85,COUNTRY_INFO!U85),0)","v":0},{"$f":"IF(AND(COUNTRY_INFO!K85>1,COUNTRY_INFO!K85<99,COUNTRY_INFO!K85<>4,COUNTRY_INFO!K85<>5), IF(AO85/COUNTRY_INFO!U85*100<>0, IF(AO85/COUNTRY_INFO!U85*100>100,100,AO85/COUNTRY_INFO!U85*100), \"-\"),0)","v":"-"},0,0,{"$f":"IF(AND(COUNTRY_INFO!K85>1,COUNTRY_INFO!K85<99,COUNTRY_INFO!K85<>4,COUNTRY_INFO!K85<>5), IF(AH85/AE85*100<>0, IF(AR85/AE85*100>100,100,AR85/AE85*100), \"-\"),0)","v":"-"},null,{"$f":"IF(AND(D85<>0, D85<>\"Unknown\",D85<>\"Stopped\",D85<>\"Not required\"),D85/COUNTRY_INFO!D85, 0)","v":1},{"$f":"IF(AND(J85<>0,J85<>\"Unknown\",J85<>\"Stopped\",J85<>\"Not required\"),J85/COUNTRY_INFO!D85, 0)","v":1},{"$f":"IF(AND(P85<>0,P85<>\"Unknown\",P85<>\"Surveillance\",P85<>\"Not required\"),P85/COUNTRY_INFO!R85, 0)","v":0},{"$f":"IF(AND(AE85<>0,AE85<>\"Unknown\",AE85<>\"Surveillance\",AE85<>\"Not required\"),AE85/COUNTRY_INFO!V85, 0)","v":1},{"$f":"IF(AU85>0,D85*PROFILE!$G$7,IF(AV85>0,J85*PROFILE!$G$7,0))","v":1979.9103537178601},{"$f":"_xlfn.IFS(OR(AU85>0,AW85>0),COUNTRY_INFO!E85, AV85>0,J85*PROFILE!$G$8,AX85>0,COUNTRY_INFO!S85,COUNTIFS(AU85:AX85,\">0\")=0,0)","v":7970},{"$f":"_xlfn.IFS(OR(AU85>0,AW85>0),COUNTRY_INFO!F85, AV85>0,J85*PROFILE!$G$9,AX85>0,COUNTRY_INFO!T85,COUNTIFS(AU85:AX85,\">0\")=0,0)","v":22240},{"$f":"_xlfn.IFS(AU85>0,COUNTRY_INFO!G85, AND(AV85>0,AW85=0,AX85=0),J85*PROFILE!$G$10,AND(AV85>0,AW85>0,AX85=0), MAX(J85*PROFILE!$G$10,COUNTRY_INFO!Q85),AND(AV85>0,AW85=0,AX85>0), MAX(J85*PROFILE!$G$10,COUNTRY_INFO!U85),AND(AV85=0,AW85>0,AX85>0), MAX(COUNTRY_INFO!Q85,COUNTRY_INFO!U85),AND(AV85=0,AW85>0,AX85=0),COUNTRY_INFO!Q85,AND(AV85=0,AW85=0,AX85>0),COUNTRY_INFO!U85,AND(AV85>0,AW85>0,AX85>0), MAX(J85*PROFILE!$G$10,COUNTRY_INFO!Q85,COUNTRY_INFO!U85),COUNTIFS(AU85:AX85,\">0\")=0,0)","v":39807},71996.91035371786,0,{"$f":"MAX('MDA4'!R85,S85,AH85)","v":0},{"$f":"MAX('MDA1'!K85,'MDA4'!S85,'MDA3'!I85,'MDA3'!L85,V85,AK85)","v":30456},{"$f":"MAX('MDA1'!L85,'MDA4'!T85,'MDA3'!J85,'MDA3'!M85,Y85,AN85)","v":30269},60725,{"$f":"_xlfn.IFS(AND(AU85=0,AW85=0,AX85=0),0,AND(AU85=0,AW85=0,AX85>0),AI85,AND(AU85=0,AW85>0,AX85=0),T85,AND(AU85=0,AW85>0,AX85>0),MAX(T85,AI85),AND(AU85>0,AW85=0,AX85=0),MIN('MDA4'!R85,AZ85),AND(AU85>0,AW85=0,AX85>0),MIN(MAX('MDA4'!R85,AI85),AZ85),AND(AU85>0,AW85>0,AX85=0),MIN(MAX('MDA4'!R85,T85),AZ85),AND(AU85>0,AW85>0,AX85>0),MIN(MAX('MDA4'!R85,AI85,T85),AZ85))","v":0},{"$f":"_xlfn.IFS(AND(AU85=0,AV85=0,AW85=0,AX85=0),0,AND(AU85=0,AV85=0,AW85=0,AX85>0),AL85,AND(AU85=0,AV85=0,AW85>0,AX85=0),W85,AND(AU85=0,AV85=0,AW85>0,AX85>0),MAX(W85,AL85),AND(AU85=0,AV85>0,AW85=0,AX85=0),MIN(J85*PROFILE!$G$9,MAX('MDA3'!I85,'MDA3'!L85)),AND(AU85=0,AV85>0,AW85=0,AX85>0),MIN(J85*PROFILE!$G$9,MAX('MDA3'!I85,'MDA3'!L85,AL85)),AND(AU85=0,AV85>0,AW85>0,AX85=0),MIN(J85*PROFILE!$G$9,MAX('MDA3'!I85,'MDA3'!L85,W85)),AND(AU85=0,AV85>0,AW85>0,AX85>0),MIN(J85*PROFILE!$G$9,MAX('MDA3'!I85,'MDA3'!L85,W85,AL85)),AND(AU85>0,AV85=0,AW85=0,AX85=0), MIN(BA85,MAX('MDA1'!K85,'MDA4'!S85)),AND(AU85>0,AV85=0,AW85=0,AX85>0), MIN(BA85,MAX('MDA1'!K85,'MDA4'!S85,AL85)),AND(AU85>0,AV85=0,AW85>0,AX85=0),MIN(BA85,MAX('MDA1'!K85,'MDA4'!S85,W85)),AND(AU85>0,AV85=0,AW85>0,AX85>0),MIN(BA85,MAX('MDA1'!K85,'MDA4'!S85,W85,AL85)),AND(AU85>0,AV85>0,AW85=0,AX85=0),MIN(BA85, MAX('MDA1'!K85,'MDA4'!S85,MAX('MDA3'!I85,'MDA3'!L85))), AND(AU85>0,AV85>0,AW85=0,AX85>0),MIN(BA85, MAX('MDA1'!K85,'MDA4'!S85,MAX( 'MDA3'!I85,'MDA3'!L85),AL85)), AND(AU85>0,AV85>0,AW85>0,AX85=0), MIN(BA85, MAX('MDA1'!K85,'MDA4'!S85,MAX( 'MDA3'!I85,'MDA3'!L85),W85)), AND(AU85>0,AV85>0,AW85>0,AX85>0), MIN(BA85, MAX('MDA1'!K85,'MDA4'!S85,MAX( 'MDA3'!I85,'MDA3'!L85),W85,AL85)))","v":22240},{"$f":"_xlfn.IFS(AND(AU85=0,AV85=0,AW85=0,AX85=0),0,AND(AU85=0,AV85=0,AW85=0,AX85>0),AO85,AND(AU85=0,AV85=0,AW85>0,AX85=0),Z85,AND(AU85=0,AV85=0,AW85>0,AX85>0),MAX(Z85,AO85),AND(AU85=0,AV85>0,AW85=0,AX85=0),MIN(J85*PROFILE!$G$10,MAX('MDA3'!J85,'MDA3'!J85)),AND(AU85=0,AV85>0,AW85=0,AX85>0),MIN(J85*PROFILE!$G$10,MAX('MDA3'!J85,'MDA3'!M85,AO85)),AND(AU85=0,AV85>0,AW85>0,AX85=0),MIN(J85*PROFILE!$G$10,MAX('MDA3'!J85,'MDA3'!M85,Z85)),AND(AU85=0,AV85>0,AW85>0,AX85>0),MIN(J85*PROFILE!$G$10,MAX('MDA3'!J85,'MDA3'!M85,Z85,AO85)),AND(AU85>0,AV85=0,AW85=0,AX85=0), MIN(BB85,MAX('MDA1'!L85,'MDA4'!T85)),AND(AU85>0,AV85=0,AW85=0,AX85>0), MIN(BB85,MAX('MDA1'!L85,'MDA4'!T85,AO85)),AND(AU85>0,AV85=0,AW85>0,AX85=0),MIN(BB85,MAX('MDA1'!L85,'MDA4'!T85,Z85)),AND(AU85>0,AV85=0,AW85>0,AX85>0),MIN(BB85,MAX('MDA1'!L85,'MDA4'!T85,Z85,AO85)),AND(AU85>0,AV85>0,AW85=0,AX85=0),MIN(BB85, MAX('MDA1'!L85,'MDA4'!T85,MAX( 'MDA3'!J85,'MDA3'!M85))), AND(AU85>0,AV85>0,AW85=0,AX85>0),MIN(BB85, MAX('MDA1'!L85,'MDA4'!T85,MAX( 'MDA3'!J85,'MDA3'!M85),AO85)), AND(AU85>0,AV85>0,AW85>0,AX85=0), MIN(BB85, MAX('MDA1'!L85,'MDA4'!T85,MAX( 'MDA3'!J85,'MDA3'!M85),Z85)), AND(AU85>0,AV85>0,AW85>0,AX85>0), MIN(BB85, MAX('MDA1'!L85,'MDA4'!T85,MAX( 'MDA3'!J85,'MDA3'!M85),Z85,AO85)))","v":30269},52509,72.932296319419038]
[{"$f":"IF(COUNTRY_INFO!A86=0,\" \",COUNTRY_INFO!A86)","v":"South Sudan"},{"$f":"IF(COUNTRY_INFO!B86=0,\" \",COUNTRY_INFO!B86)","v":"Western Bahr El Ghazal"},{"$f":"IF(COUNTRY_INFO!C86=0,\" \",COUNTRY_INFO!C86)","v":"RAGA"},{"$f":"COUNTRY_INFO!M86","v":0},null,null,{"$f":"'MDA1'!M86+'MDA4'!U86","v":0},{"$f":"IF(AND(COUNTRY_INFO!H86>0,COUNTRY_INFO!H86<4),IF(D86>G86,G86,D86),0)","v":0},{"$f":"IF(AND(COUNTRY_INFO!H86>0,COUNTRY_INFO!H86<4), IF(G86/D86*100<>0, IF(G86/D86*100>100,100,G86/D86*100), \"-\"),0)","v":0},{"$f":"COUNTRY_INFO!N86","v":91072.960500000016},null,null,{"$f":"MAX('MDA1'!M86,MAX('MDA3'!I86,'MDA3'!L86)+MAX('MDA3'!J86,'MDA3'!M86))","v":32225},{"$f":"IF(AND(COUNTRY_INFO!I86>0,COUNTRY_INFO!I86<4),IF(J86>M86,M86,J86),0)","v":32225},{"$f":"IF(AND(COUNTRY_INFO!I86>0,COUNTRY_INFO!I86<4), IF(M86/J86*100<>0, IF(M86/J86*100>100,100,M86/J86*100), \"-\"),0)","v":35.383718529716617},{"$f":"COUNTRY_INFO!R86","v":0},null,null,{"$f":"MAX('MDA4'!R86,'T1'!K86, MAX(T3_R1!J86,T3_R2!J86,T3_R3!J86))","v":0},{"$f":"IF(AND(COUNTRY_INFO!J86>1,COUNTRY_INFO!J86<99,COUNTRY_INFO!J86<>4,COUNTRY_INFO!J86<>5),IF(COUNTRY_INFO!O86>S86,S86,COUNTRY_INFO!O86),0)","v":0},{"$f":"IF(AND(COUNTRY_INFO!J86>1,COUNTRY_INFO!J86<99,COUNTRY_INFO!J86<>4,COUNTRY_INFO!J86<>5), IF(T86/COUNTRY_INFO!O86*100<>0, IF(T86/COUNTRY_INFO!O86*100>100,100,T86/COUNTRY_INFO!O86*100), \"-\"),0)","v":0},{"$f":"MAX('MDA1'!K86,'MDA4'!S86, 'T1'!L86, MAX(T3_R1!K86,T3_R2!K86,T3_R3!K86))","v":0},{"$f":"IF(AND(COUNTRY_INFO!J86>1,COUNTRY_INFO!J86<99,COUNTRY_INFO!J86<>4,COUNTRY_INFO!J86<>5),IF(COUNTRY_INFO!P86>V86,V86,COUNTRY_INFO!P86),0)","v":0},{"$f":"IF(AND(COUNTRY_INFO!J86>1,COUNTRY_INFO!J86<99,COUNTRY_INFO!J86<>4,COUNTRY_INFO!J86<>5), IF(W86/COUNTRY_INFO!P86*100<>0, IF(W86/COUNTRY_INFO!P86*100>100,100,W86/COUNTRY_INFO!P86*100), \"-\"),0)","v":0},{"$f":"MAX('MDA1'!L86,'MDA4'!T86, 'T1'!M86, MAX(T3_R1!L86,T3_R2!L86,T3_R3!L86))","v":0},{"$f":"IF(AND(COUNTRY_INFO!J86>1,COUNTRY_INFO!J86<99,COUNTRY_INFO!J86<>4,COUNTRY_INFO!J86<>5),IF(COUNTRY_INFO!Q86>Y86,Y86,COUNTRY_INFO!Q86),0)","v":0},{"$f":"IF(AND(COUNTRY_INFO!J86>1,COUNTRY_INFO!J86<99,COUNTRY_INFO!J86<>4,COUNTRY_INFO!J86<>5), IF(Z86/COUNTRY_INFO!Q86*100<>0, IF(Z86/COUNTRY_INFO!Q86*100>100,100,Z86/COUNTRY_INFO!Q86*100), \"-\"),0)","v":0},0,0,{"$f":"IF(AND(COUNTRY_INFO!J86>1,COUNTRY_INFO!J86<99,COUNTRY_INFO!J86<>4,COUNTRY_INFO!J86<>5), IF(AC86/P86*100<>0, IF(AC86/P86*100>100,100,AC86/P86*100), \"-\"),0)","v":0},{"$f":"COUNTRY_INFO!V86","v":0},null,null,{"$f":"MAX('T1'!K86,'T2'!R86)","v":0},{"$f":"IF(AND(COUNTRY_INFO!K86>1,COUNTRY_INFO!K86<99,COUNTRY_INFO!K86<>4,COUNTRY_INFO!K86<>5),IF(COUNTRY_INFO!S86>AH86,AH86,COUNTRY_INFO!S86),0)","v":0},{"$f":"IF(AND(COUNTRY_INFO!K86>1,COUNTRY_INFO!K86<99,COUNTRY_INFO!K86<>4,COUNTRY_INFO!K86<>5), IF(AI86/COUNTRY_INFO!S86*100<>0, IF(AI86/COUNTRY_INFO!S86*100>100,100,AI86/COUNTRY_INFO!S86*100), \"-\"),0)","v":0},{"$f":"MAX('T1'!L86,'T2'!S86)","v":0},{"$f":"IF(AND(COUNTRY_INFO!K86>1,COUNTRY_INFO!K86<99,COUNTRY_INFO!K86<>4,COUNTRY_INFO!K86<>5),IF(COUNTRY_INFO!T86>AK86,AK86,COUNTRY_INFO!T86),0)","v":0},{"$f":"IF(AND(COUNTRY_INFO!K86>1,COUNTRY_INFO!K86<99,COUNTRY_INFO!K86<>4,COUNTRY_INFO!K86<>5), IF(AL86/COUNTRY_INFO!T86*100<>0, IF(AL86/COUNTRY_INFO!T86*100>100,100,AL86/COUNTRY_INFO!T86*100), \"-\"),0)","v":0},{"$f":"MAX('T1'!M86,'T2'!T86)","v":0},{"$f":"IF(AND(COUNTRY_INFO!K86>1,COUNTRY_INFO!K86<99,COUNTRY_INFO!K86<>4,COUNTRY_INFO!K86<>5),IF(COUNTRY_INFO!U86>AN86,AN86,COUNTRY_INFO!U86),0)","v":0},{"$f":"IF(AND(COUNTRY_INFO!K86>1,COUNTRY_INFO!K86<99,COUNTRY_INFO!K86<>4,COUNTRY_INFO!K86<>5), IF(AO86/COUNTRY_INFO!U86*100<>0, IF(AO86/COUNTRY_INFO!U86*100>100,100,AO86/COUNTRY_INFO!U86*100), \"-\"),0)","v":0},0,0,{"$f":"IF(AND(COUNTRY_INFO!K86>1,COUNTRY_INFO!K86<99,COUNTRY_INFO!K86<>4,COUNTRY_INFO!K86<>5), IF(AH86/AE86*100<>0, IF(AR86/AE86*100>100,100,AR86/AE86*100), \"-\"),0)","v":0},null,{"$f":"IF(AND(D86<>0, D86<>\"Unknown\",D86<>\"Stopped\",D86<>\"Not required\"),D86/COUNTRY_INFO!D86, 0)","v":0},{"$f":"IF(AND(J86<>0,J86<>\"Unknown\",J86<>\"Stopped\",J86<>\"Not required\"),J86/COUNTRY_INFO!D86, 0)","v":1},{"$f":"IF(AND(P86<>0,P86<>\"Unknown\",P86<>\"Surveillance\",P86<>\"Not required\"),P86/COUNTRY_INFO!R86, 0)","v":0},{"$f":"IF(AND(AE86<>0,AE86<>\"Unknown\",AE86<>\"Surveillance\",AE86<>\"Not required\"),AE86/COUNTRY_INFO!V86, 0)","v":0},{"$f":"IF(AU86>0,D86*PROFILE!$G$7,IF(AV86>0,J86*PROFILE!$G$7,0))","v":2504.5002404059546},{"$f":"_xlfn.IFS(OR(AU86>0,AW86>0),COUNTRY_INFO!E86, AV86>0,J86*PROFILE!$G$8,AX86>0,COUNTRY_INFO!S86,COUNTIFS(AU86:AX86,\">0\")=0,0)","v":10081.769869873666},{"$f":"_xlfn.IFS(OR(AU86>0,AW86>0),COUNTRY_INFO!F86, AV86>0,J86*PROFILE!$G$9,AX86>0,COUNTRY_INFO!T86,COUNTIFS(AU86:AX86,\">0\")=0,0)","v":28132.445842772529},{"$f":"_xlfn.IFS(AU86>0,COUNTRY_INFO!G86, AND(AV86>0,AW86=0,AX86=0),J86*PROFILE!$G$10,AND(AV86>0,AW86>0,AX86=0), MAX(J86*PROFILE!$G$10,COUNTRY_INFO!Q86),AND(AV86>0,AW86=0,AX86>0), MAX(J86*PROFILE!$G$10,COUNTRY_INFO!U86),AND(AV86=0,AW86>0,AX86>0), MAX(COUNTRY_INFO!Q86,COUNTRY_INFO!U86),AND(AV86=0,AW86>0,AX86=0),COUNTRY_INFO!Q86,AND(AV86=0,AW86=0,AX86>0),COUNTRY_INFO!U86,AND(AV86>0,AW86>0,AX86>0), MAX(J86*PROFILE!$G$10,COUNTRY_INFO!Q86,COUNTRY_INFO!U86),COUNTIFS(AU86:AX86,\">0\")=0,0)","v":50354.244546947863},91072.960500000016,"Y",{"$f":"MAX('MDA4'!R86,S86,AH86)","v":0},{"$f":"MAX('MDA1'!K86,'MDA4'!S86,'MDA3'!I86,'MDA3'!L86,V86,AK86)","v":16417},{"$f":"MAX('MDA1'!L86,'MDA4'!T86,'MDA3'!J86,'MDA3'!M86,Y86,AN86)","v":15808},32225,{"$f":"_xlfn.IFS(AND(AU86=0,AW86=0,AX86=0),0,AND(AU86=0,AW86=0,AX86>0),AI86,AND(AU86=0,AW86>0,AX86=0),T86,AND(AU86=0,AW86>0,AX86>0),MAX(T86,AI86),AND(AU86>0,AW86=0,AX86=0),MIN('MDA4'!R86,AZ86),AND(AU86>0,AW86=0,AX86>0),MIN(MAX('MDA4'!R86,AI86),AZ86),AND(AU86>0,AW86>0,AX86=0),MIN(MAX('MDA4'!R86,T86),AZ86),AND(AU86>0,AW86>0,AX86>0),MIN(MAX('MDA4'!R86,AI86,T86),AZ86))","v":0},{"$f":"_xlfn.IFS(AND(AU86=0,AV86=0,AW86=0,AX86=0),0,AND(AU86=0,AV86=0,AW86=0,AX86>0),AL86,AND(AU86=0,AV86=0,AW86>0,AX86=0),W86,AND(AU86=0,AV86=0,AW86>0,AX86>0),MAX(W86,AL86),AND(AU86=0,AV86>0,AW86=0,AX86=0),MIN(J86*PROFILE!$G$9,MAX('MDA3'!I86,'MDA3'!L86)),AND(AU86=0,AV86>0,AW86=0,AX86>0),MIN(J86*PROFILE!$G$9,MAX('MDA3'!I86,'MDA3'!L86,AL86)),AND(AU86=0,AV86>0,AW86>0,AX86=0),MIN(J86*PROFILE!$G$9,MAX('MDA3'!I86,'MDA3'!L86,W86)),AND(AU86=0,AV86>0,AW86>0,AX86>0),MIN(J86*PROFILE!$G$9,MAX('MDA3'!I86,'MDA3'!L86,W86,AL86)),AND(AU86>0,AV86=0,AW86=0,AX86=0), MIN(BA86,MAX('MDA1'!K86,'MDA4'!S86)),AND(AU86>0,AV86=0,AW86=0,AX86>0), MIN(BA86,MAX('MDA1'!K86,'MDA4'!S86,AL86)),AND(AU86>0,AV86=0,AW86>0,AX86=0),MIN(BA86,MAX('MDA1'!K86,'MDA4'!S86,W86)),AND(AU86>0,AV86=0,AW86>0,AX86>0),MIN(BA86,MAX('MDA1'!K86,'MDA4'!S86,W86,AL86)),AND(AU86>0,AV86>0,AW86=0,AX86=0),MIN(BA86, MAX('MDA1'!K86,'MDA4'!S86,MAX('MDA3'!I86,'MDA3'!L86))), AND(AU86>0,AV86>0,AW86=0,AX86>0),MIN(BA86, MAX('MDA1'!K86,'MDA4'!S86,MAX( 'MDA3'!I86,'MDA3'!L86),AL86)), AND(AU86>0,AV86>0,AW86>0,AX86=0), MIN(BA86, MAX('MDA1'!K86,'MDA4'!S86,MAX( 'MDA3'!I86,'MDA3'!L86),W86)), AND(AU86>0,AV86>0,AW86>0,AX86>0), MIN(BA86, MAX('MDA1'!K86,'MDA4'!S86,MAX( 'MDA3'!I86,'MDA3'!L86),W86,AL86)))","v":16417},{"$f":"_xlfn.IFS(AND(AU86=0,AV86=0,AW86=0,AX86=0),0,AND(AU86=0,AV86=0,AW86=0,AX86>0),AO86,AND(AU86=0,AV86=0,AW86>0,AX86=0),Z86,AND(AU86=0,AV86=0,AW86>0,AX86>0),MAX(Z86,AO86),AND(AU86=0,AV86>0,AW86=0,AX86=0),MIN(J86*PROFILE!$G$10,MAX('MDA3'!J86,'MDA3'!J86)),AND(AU86=0,AV86>0,AW86=0,AX86>0),MIN(J86*PROFILE!$G$10,MAX('MDA3'!J86,'MDA3'!M86,AO86)),AND(AU86=0,AV86>0,AW86>0,AX86=0),MIN(J86*PROFILE!$G$10,MAX('MDA3'!J86,'MDA3'!M86,Z86)),AND(AU86=0,AV86>0,AW86>0,AX86>0),MIN(J86*PROFILE!$G$10,MAX('MDA3'!J86,'MDA3'!M86,Z86,AO86)),AND(AU86>0,AV86=0,AW86=0,AX86=0), MIN(BB86,MAX('MDA1'!L86,'MDA4'!T86)),AND(AU86>0,AV86=0,AW86=0,AX86>0), MIN(BB86,MAX('MDA1'!L86,'MDA4'!T86,AO86)),AND(AU86>0,AV86=0,AW86>0,AX86=0),MIN(BB86,MAX('MDA1'!L86,'MDA4'!T86,Z86)),AND(AU86>0,AV86=0,AW86>0,AX86>0),MIN(BB86,MAX('MDA1'!L86,'MDA4'!T86,Z86,AO86)),AND(AU86>0,AV86>0,AW86=0,AX86=0),MIN(BB86, MAX('MDA1'!L86,'MDA4'!T86,MAX( 'MDA3'!J86,'MDA3'!M86))), AND(AU86>0,AV86>0,AW86=0,AX86>0),MIN(BB86, MAX('MDA1'!L86,'MDA4'!T86,MAX( 'MDA3'!J86,'MDA3'!M86),AO86)), AND(AU86>0,AV86>0,AW86>0,AX86=0), MIN(BB86, MAX('MDA1'!L86,'MDA4'!T86,MAX( 'MDA3'!J86,'MDA3'!M86),Z86)), AND(AU86>0,AV86>0,AW86>0,AX86>0), MIN(BB86, MAX('MDA1'!L86,'MDA4'!T86,MAX( 'MDA3'!J86,'MDA3'!M86),Z86,AO86)))","v":15808},32225,35.383718529716617]
[{"$f":"IF(COUNTRY_INFO!A87=0,\" \",COUNTRY_INFO!A87)","v":"South Sudan"},{"$f":"IF(COUNTRY_INFO!B87=0,\" \",COUNTRY_INFO!B87)","v":"Western Bahr El Ghazal"},{"$f":"IF(COUNTRY_INFO!C87=0,\" \",COUNTRY_INFO!C87)","v":"JUR RIVER"},{"$f":"COUNTRY_INFO!M87","v":213990.95629999999},null,null,{"$f":"'MDA1'!M87+'MDA4'!U87","v":296228},{"$f":"IF(AND(COUNTRY_INFO!H87>0,COUNTRY_INFO!H87<4),IF(D87>G87,G87,D87),0)","v":213990.95629999999},{"$f":"IF(AND(COUNTRY_INFO!H87>0,COUNTRY_INFO!H87<4), IF(G87/D87*100<>0, IF(G87/D87*100>100,100,G87/D87*100), \"-\"),0)","v":100},{"$f":"COUNTRY_INFO!N87","v":213990.95629999999},null,null,{"$f":"MAX('MDA1'!M87,MAX('MDA3'!I87,'MDA3'!L87)+MAX('MDA3'!J87,'MDA3'!M87))","v":296228},{"$f":"IF(AND(COUNTRY_INFO!I87>0,COUNTRY_INFO!I87<4),IF(J87>M87,M87,J87),0)","v":213990.95629999999},{"$f":"IF(AND(COUNTRY_INFO!I87>0,COUNTRY_INFO!I87<4), IF(M87/J87*100<>0, IF(M87/J87*100>100,100,M87/J87*100), \"-\"),0)","v":100},{"$f":"COUNTRY_INFO!R87","v":0},null,null,{"$f":"MAX('MDA4'!R87,'T1'!K87, MAX(T3_R1!J87,T3_R2!J87,T3_R3!J87))","v":0},{"$f":"IF(AND(COUNTRY_INFO!J87>1,COUNTRY_INFO!J87<99,COUNTRY_INFO!J87<>4,COUNTRY_INFO!J87<>5),IF(COUNTRY_INFO!O87>S87,S87,COUNTRY_INFO!O87),0)","v":0},{"$f":"IF(AND(COUNTRY_INFO!J87>1,COUNTRY_INFO!J87<99,COUNTRY_INFO!J87<>4,COUNTRY_INFO!J87<>5), IF(T87/COUNTRY_INFO!O87*100<>0, IF(T87/COUNTRY_INFO!O87*100>100,100,T87/COUNTRY_INFO!O87*100), \"-\"),0)","v":0},{"$f":"MAX('MDA1'!K87,'MDA4'!S87, 'T1'!L87, MAX(T3_R1!K87,T3_R2!K87,T3_R3!K87))","v":138871},{"$f":"IF(AND(COUNTRY_INFO!J87>1,COUNTRY_INFO!J87<99,COUNTRY_INFO!J87<>4,COUNTRY_INFO!J87<>5),IF(COUNTRY_INFO!P87>V87,V87,COUNTRY_INFO!P87),0)","v":0},{"$f":"IF(AND(COUNTRY_INFO!J87>1,COUNTRY_INFO!J87<99,COUNTRY_INFO!J87<>4,COUNTRY_INFO!J87<>5), IF(W87/COUNTRY_INFO!P87*100<>0, IF(W87/COUNTRY_INFO!P87*100>100,100,W87/COUNTRY_INFO!P87*100), \"-\"),0)","v":0},{"$f":"MAX('MDA1'!L87,'MDA4'!T87, 'T1'!M87, MAX(T3_R1!L87,T3_R2!L87,T3_R3!L87))","v":157357},{"$f":"IF(AND(COUNTRY_INFO!J87>1,COUNTRY_INFO!J87<99,COUNTRY_INFO!J87<>4,COUNTRY_INFO!J87<>5),IF(COUNTRY_INFO!Q87>Y87,Y87,COUNTRY_INFO!Q87),0)","v":0},{"$f":"IF(AND(COUNTRY_INFO!J87>1,COUNTRY_INFO!J87<99,COUNTRY_INFO!J87<>4,COUNTRY_INFO!J87<>5), IF(Z87/COUNTRY_INFO!Q87*100<>0, IF(Z87/COUNTRY_INFO!Q87*100>100,100,Z87/COUNTRY_INFO!Q87*100), \"-\"),0)","v":0},296228,0,{"$f":"IF(AND(COUNTRY_INFO!J87>1,COUNTRY_INFO!J87<99,COUNTRY_INFO!J87<>4,COUNTRY_INFO!J87<>5), IF(AC87/P87*100<>0, IF(AC87/P87*100>100,100,AC87/P87*100), \"-\"),0)","v":0},{"$f":"COUNTRY_INFO!V87","v":0},null,null,{"$f":"MAX('T1'!K87,'T2'!R87)","v":0},{"$f":"IF(AND(COUNTRY_INFO!K87>1,COUNTRY_INFO!K87<99,COUNTRY_INFO!K87<>4,COUNTRY_INFO!K87<>5),IF(COUNTRY_INFO!S87>AH87,AH87,COUNTRY_INFO!S87),0)","v":0},{"$f":"IF(AND(COUNTRY_INFO!K87>1,COUNTRY_INFO!K87<99,COUNTRY_INFO!K87<>4,COUNTRY_INFO!K87<>5), IF(AI87/COUNTRY_INFO!S87*100<>0, IF(AI87/COUNTRY_INFO!S87*100>100,100,AI87/COUNTRY_INFO!S87*100), \"-\"),0)","v":0},{"$f":"MAX('T1'!L87,'T2'!S87)","v":0},{"$f":"IF(AND(COUNTRY_INFO!K87>1,COUNTRY_INFO!K87<99,COUNTRY_INFO!K87<>4,COUNTRY_INFO!K87<>5),IF(COUNTRY_INFO!T87>AK87,AK87,COUNTRY_INFO!T87),0)","v":0},{"$f":"IF(AND(COUNTRY_INFO!K87>1,COUNTRY_INFO!K87<99,COUNTRY_INFO!K87<>4,COUNTRY_INFO!K87<>5), IF(AL87/COUNTRY_INFO!T87*100<>0, IF(AL87/COUNTRY_INFO!T87*100>100,100,AL87/COUNTRY_INFO!T87*100), \"-\"),0)","v":0},{"$f":"MAX('T1'!M87,'T2'!T87)","v":0},{"$f":"IF(AND(COUNTRY_INFO!K87>1,COUNTRY_INFO!K87<99,COUNTRY_INFO!K87<>4,COUNTRY_INFO!K87<>5),IF(COUNTRY_INFO!U87>AN87,AN87,COUNTRY_INFO!U87),0)","v":0},{"$f":"IF(AND(COUNTRY_INFO!K87>1,COUNTRY_INFO!K87<99,COUNTRY_INFO!K87<>4,COUNTRY_INFO!K87<>5), IF(AO87/COUNTRY_INFO!U87*100<>0, IF(AO87/COUNTRY_INFO!U87*100>100,100,AO87/COUNTRY_INFO!U87*100), \"-\"),0)","v":0},0,0,{"$f":"IF(AND(COUNTRY_INFO!K87>1,COUNTRY_INFO!K87<99,COUNTRY_INFO!K87<>4,COUNTRY_INFO!K87<>5), IF(AH87/AE87*100<>0, IF(AR87/AE87*100>100,100,AR87/AE87*100), \"-\"),0)","v":0},null,{"$f":"IF(AND(D87<>0, D87<>\"Unknown\",D87<>\"Stopped\",D87<>\"Not required\"),D87/COUNTRY_INFO!D87, 0)","v":1},{"$f":"IF(AND(J87<>0,J87<>\"Unknown\",J87<>\"Stopped\",J87<>\"Not required\"),J87/COUNTRY_INFO!D87, 0)","v":1},{"$f":"IF(AND(P87<>0,P87<>\"Unknown\",P87<>\"Surveillance\",P87<>\"Not required\"),P87/COUNTRY_INFO!R87, 0)","v":0},{"$f":"IF(AND(AE87<>0,AE87<>\"Unknown\",AE87<>\"Surveillance\",AE87<>\"Not required\"),AE87/COUNTRY_INFO!V87, 0)","v":0},{"$f":"IF(AU87>0,D87*PROFILE!$G$7,IF(AV87>0,J87*PROFILE!$G$7,0))","v":5884.7367929589818},{"$f":"_xlfn.IFS(OR(AU87>0,AW87>0),COUNTRY_INFO!E87, AV87>0,J87*PROFILE!$G$8,AX87>0,COUNTRY_INFO!S87,COUNTIFS(AU87:AX87,\">0\")=0,0)","v":23689},{"$f":"_xlfn.IFS(OR(AU87>0,AW87>0),COUNTRY_INFO!F87, AV87>0,J87*PROFILE!$G$9,AX87>0,COUNTRY_INFO!T87,COUNTIFS(AU87:AX87,\">0\")=0,0)","v":66102},{"$f":"_xlfn.IFS(AU87>0,COUNTRY_INFO!G87, AND(AV87>0,AW87=0,AX87=0),J87*PROFILE!$G$10,AND(AV87>0,AW87>0,AX87=0), MAX(J87*PROFILE!$G$10,COUNTRY_INFO!Q87),AND(AV87>0,AW87=0,AX87>0), MAX(J87*PROFILE!$G$10,COUNTRY_INFO!U87),AND(AV87=0,AW87>0,AX87>0), MAX(COUNTRY_INFO!Q87,COUNTRY_INFO!U87),AND(AV87=0,AW87>0,AX87=0),COUNTRY_INFO!Q87,AND(AV87=0,AW87=0,AX87>0),COUNTRY_INFO!U87,AND(AV87>0,AW87>0,AX87>0), MAX(J87*PROFILE!$G$10,COUNTRY_INFO!Q87,COUNTRY_INFO!U87),COUNTIFS(AU87:AX87,\">0\")=0,0)","v":118316},213991.73679295898,"Y",{"$f":"MAX('MDA4'!R87,S87,AH87)","v":0},{"$f":"MAX('MDA1'!K87,'MDA4'!S87,'MDA3'!I87,'MDA3'!L87,V87,AK87)","v":138871},{"$f":"MAX('MDA1'!L87,'MDA4'!T87,'MDA3'!J87,'MDA3'!M87,Y87,AN87)","v":157357},296228,{"$f":"_xlfn.IFS(AND(AU87=0,AW87=0,AX87=0),0,AND(AU87=0,AW87=0,AX87>0),AI87,AND(AU87=0,AW87>0,AX87=0),T87,AND(AU87=0,AW87>0,AX87>0),MAX(T87,AI87),AND(AU87>0,AW87=0,AX87=0),MIN('MDA4'!R87,AZ87),AND(AU87>0,AW87=0,AX87>0),MIN(MAX('MDA4'!R87,AI87),AZ87),AND(AU87>0,AW87>0,AX87=0),MIN(MAX('MDA4'!R87,T87),AZ87),AND(AU87>0,AW87>0,AX87>0),MIN(MAX('MDA4'!R87,AI87,T87),AZ87))","v":0},{"$f":"_xlfn.IFS(AND(AU87=0,AV87=0,AW87=0,AX87=0),0,AND(AU87=0,AV87=0,AW87=0,AX87>0),AL87,AND(AU87=0,AV87=0,AW87>0,AX87=0),W87,AND(AU87=0,AV87=0,AW87>0,AX87>0),MAX(W87,AL87),AND(AU87=0,AV87>0,AW87=0,AX87=0),MIN(J87*PROFILE!$G$9,MAX('MDA3'!I87,'MDA3'!L87)),AND(AU87=0,AV87>0,AW87=0,AX87>0),MIN(J87*PROFILE!$G$9,MAX('MDA3'!I87,'MDA3'!L87,AL87)),AND(AU87=0,AV87>0,AW87>0,AX87=0),MIN(J87*PROFILE!$G$9,MAX('MDA3'!I87,'MDA3'!L87,W87)),AND(AU87=0,AV87>0,AW87>0,AX87>0),MIN(J87*PROFILE!$G$9,MAX('MDA3'!I87,'MDA3'!L87,W87,AL87)),AND(AU87>0,AV87=0,AW87=0,AX87=0), MIN(BA87,MAX('MDA1'!K87,'MDA4'!S87)),AND(AU87>0,AV87=0,AW87=0,AX87>0), MIN(BA87,MAX('MDA1'!K87,'MDA4'!S87,AL87)),AND(AU87>0,AV87=0,AW87>0,AX87=0),MIN(BA87,MAX('MDA1'!K87,'MDA4'!S87,W87)),AND(AU87>0,AV87=0,AW87>0,AX87>0),MIN(BA87,MAX('MDA1'!K87,'MDA4'!S87,W87,AL87)),AND(AU87>0,AV87>0,AW87=0,AX87=0),MIN(BA87, MAX('MDA1'!K87,'MDA4'!S87,MAX('MDA3'!I87,'MDA3'!L87))), AND(AU87>0,AV87>0,AW87=0,AX87>0),MIN(BA87, MAX('MDA1'!K87,'MDA4'!S87,MAX( 'MDA3'!I87,'MDA3'!L87),AL87)), AND(AU87>0,AV87>0,AW87>0,AX87=0), MIN(BA87, MAX('MDA1'!K87,'MDA4'!S87,MAX( 'MDA3'!I87,'MDA3'!L87),W87)), AND(AU87>0,AV87>0,AW87>0,AX87>0), MIN(BA87, MAX('MDA1'!K87,'MDA4'!S87,MAX( 'MDA3'!I87,'MDA3'!L87),W87,AL87)))","v":66102},{"$f":"_xlfn.IFS(AND(AU87=0,AV87=0,AW87=0,AX87=0),0,AND(AU87=0,AV87=0,AW87=0,AX87>0),AO87,AND(AU87=0,AV87=0,AW87>0,AX87=0),Z87,AND(AU87=0,AV87=0,AW87>0,AX87>0),MAX(Z87,AO87),AND(AU87=0,AV87>0,AW87=0,AX87=0),MIN(J87*PROFILE!$G$10,MAX('MDA3'!J87,'MDA3'!J87)),AND(AU87=0,AV87>0,AW87=0,AX87>0),MIN(J87*PROFILE!$G$10,MAX('MDA3'!J87,'MDA3'!M87,AO87)),AND(AU87=0,AV87>0,AW87>0,AX87=0),MIN(J87*PROFILE!$G$10,MAX('MDA3'!J87,'MDA3'!M87,Z87)),AND(AU87=0,AV87>0,AW87>0,AX87>0),MIN(J87*PROFILE!$G$10,MAX('MDA3'!J87,'MDA3'!M87,Z87,AO87)),AND(AU87>0,AV87=0,AW87=0,AX87=0), MIN(BB87,MAX('MDA1'!L87,'MDA4'!T87)),AND(AU87>0,AV87=0,AW87=0,AX87>0), MIN(BB87,MAX('MDA1'!L87,'MDA4'!T87,AO87)),AND(AU87>0,AV87=0,AW87>0,AX87=0),MIN(BB87,MAX('MDA1'!L87,'MDA4'!T87,Z87)),AND(AU87>0,AV87=0,AW87>0,AX87>0),MIN(BB87,MAX('MDA1'!L87,'MDA4'!T87,Z87,AO87)),AND(AU87>0,AV87>0,AW87=0,AX87=0),MIN(BB87, MAX('MDA1'!L87,'MDA4'!T87,MAX( 'MDA3'!J87,'MDA3'!M87))), AND(AU87>0,AV87>0,AW87=0,AX87>0),MIN(BB87, MAX('MDA1'!L87,'MDA4'!T87,MAX( 'MDA3'!J87,'MDA3'!M87),AO87)), AND(AU87>0,AV87>0,AW87>0,AX87=0), MIN(BB87, MAX('MDA1'!L87,'MDA4'!T87,MAX( 'MDA3'!J87,'MDA3'!M87),Z87)), AND(AU87>0,AV87>0,AW87>0,AX87>0), MIN(BB87, MAX('MDA1'!L87,'MDA4'!T87,MAX( 'MDA3'!J87,'MDA3'!M87),Z87,AO87)))","v":118316},184418,86.179963191021656]
[{"$f":"IF(COUNTRY_INFO!A88=0,\" \",COUNTRY_INFO!A88)","v":"South Sudan"},{"$f":"IF(COUNTRY_INFO!B88=0,\" \",COUNTRY_INFO!B88)","v":"Western Bahr El Ghazal"},{"$f":"IF(COUNTRY_INFO!C88=0,\" \",COUNTRY_INFO!C88)","v":"WAU"},{"$f":"COUNTRY_INFO!M88","v":0},null,null,{"$f":"'MDA1'!M88+'MDA4'!U88","v":0},{"$f":"IF(AND(COUNTRY_INFO!H88>0,COUNTRY_INFO!H88<4),IF(D88>G88,G88,D88),0)","v":0},{"$f":"IF(AND(COUNTRY_INFO!H88>0,COUNTRY_INFO!H88<4), IF(G88/D88*100<>0, IF(G88/D88*100>100,100,G88/D88*100), \"-\"),0)","v":0},{"$f":"COUNTRY_INFO!N88","v":253661.19},null,null,{"$f":"MAX('MDA1'!M88,MAX('MDA3'!I88,'MDA3'!L88)+MAX('MDA3'!J88,'MDA3'!M88))","v":197598},{"$f":"IF(AND(COUNTRY_INFO!I88>0,COUNTRY_INFO!I88<4),IF(J88>M88,M88,J88),0)","v":197598},{"$f":"IF(AND(COUNTRY_INFO!I88>0,COUNTRY_INFO!I88<4), IF(M88/J88*100<>0, IF(M88/J88*100>100,100,M88/J88*100), \"-\"),0)","v":77.898396676290929},{"$f":"COUNTRY_INFO!R88","v":0},null,null,{"$f":"MAX('MDA4'!R88,'T1'!K88, MAX(T3_R1!J88,T3_R2!J88,T3_R3!J88))","v":0},{"$f":"IF(AND(COUNTRY_INFO!J88>1,COUNTRY_INFO!J88<99,COUNTRY_INFO!J88<>4,COUNTRY_INFO!J88<>5),IF(COUNTRY_INFO!O88>S88,S88,COUNTRY_INFO!O88),0)","v":0},{"$f":"IF(AND(COUNTRY_INFO!J88>1,COUNTRY_INFO!J88<99,COUNTRY_INFO!J88<>4,COUNTRY_INFO!J88<>5), IF(T88/COUNTRY_INFO!O88*100<>0, IF(T88/COUNTRY_INFO!O88*100>100,100,T88/COUNTRY_INFO!O88*100), \"-\"),0)","v":0},{"$f":"MAX('MDA1'!K88,'MDA4'!S88, 'T1'!L88, MAX(T3_R1!K88,T3_R2!K88,T3_R3!K88))","v":0},{"$f":"IF(AND(COUNTRY_INFO!J88>1,COUNTRY_INFO!J88<99,COUNTRY_INFO!J88<>4,COUNTRY_INFO!J88<>5),IF(COUNTRY_INFO!P88>V88,V88,COUNTRY_INFO!P88),0)","v":0},{"$f":"IF(AND(COUNTRY_INFO!J88>1,COUNTRY_INFO!J88<99,COUNTRY_INFO!J88<>4,COUNTRY_INFO!J88<>5), IF(W88/COUNTRY_INFO!P88*100<>0, IF(W88/COUNTRY_INFO!P88*100>100,100,W88/COUNTRY_INFO!P88*100), \"-\"),0)","v":0},{"$f":"MAX('MDA1'!L88,'MDA4'!T88, 'T1'!M88, MAX(T3_R1!L88,T3_R2!L88,T3_R3!L88))","v":0},{"$f":"IF(AND(COUNTRY_INFO!J88>1,COUNTRY_INFO!J88<99,COUNTRY_INFO!J88<>4,COUNTRY_INFO!J88<>5),IF(COUNTRY_INFO!Q88>Y88,Y88,COUNTRY_INFO!Q88),0)","v":0},{"$f":"IF(AND(COUNTRY_INFO!J88>1,COUNTRY_INFO!J88<99,COUNTRY_INFO!J88<>4,COUNTRY_INFO!J88<>5), IF(Z88/COUNTRY_INFO!Q88*100<>0, IF(Z88/COUNTRY_INFO!Q88*100>100,100,Z88/COUNTRY_INFO!Q88*100), \"-\"),0)","v":0},0,0,{"$f":"IF(AND(COUNTRY_INFO!J88>1,COUNTRY_INFO!J88<99,COUNTRY_INFO!J88<>4,COUNTRY_INFO!J88<>5), IF(AC88/P88*100<>0, IF(AC88/P88*100>100,100,AC88/P88*100), \"-\"),0)","v":0},{"$f":"COUNTRY_INFO!V88","v":0},null,null,{"$f":"MAX('T1'!K88,'T2'!R88)","v":0},{"$f":"IF(AND(COUNTRY_INFO!K88>1,COUNTRY_INFO!K88<99,COUNTRY_INFO!K88<>4,COUNTRY_INFO!K88<>5),IF(COUNTRY_INFO!S88>AH88,AH88,COUNTRY_INFO!S88),0)","v":0},{"$f":"IF(AND(COUNTRY_INFO!K88>1,COUNTRY_INFO!K88<99,COUNTRY_INFO!K88<>4,COUNTRY_INFO!K88<>5), IF(AI88/COUNTRY_INFO!S88*100<>0, IF(AI88/COUNTRY_INFO!S88*100>100,100,AI88/COUNTRY_INFO!S88*100), \"-\"),0)","v":0},{"$f":"MAX('T1'!L88,'T2'!S88)","v":0},{"$f":"IF(AND(COUNTRY_INFO!K88>1,COUNTRY_INFO!K88<99,COUNTRY_INFO!K88<>4,COUNTRY_INFO!K88<>5),IF(COUNTRY_INFO!T88>AK88,AK88,COUNTRY_INFO!T88),0)","v":0},{"$f":"IF(AND(COUNTRY_INFO!K88>1,COUNTRY_INFO!K88<99,COUNTRY_INFO!K88<>4,COUNTRY_INFO!K88<>5), IF(AL88/COUNTRY_INFO!T88*100<>0, IF(AL88/COUNTRY_INFO!T88*100>100,100,AL88/COUNTRY_INFO!T88*100), \"-\"),0)","v":0},{"$f":"MAX('T1'!M88,'T2'!T88)","v":0},{"$f":"IF(AND(COUNTRY_INFO!K88>1,COUNTRY_INFO!K88<99,COUNTRY_INFO!K88<>4,COUNTRY_INFO!K88<>5),IF(COUNTRY_INFO!U88>AN88,AN88,COUNTRY_INFO!U88),0)","v":0},{"$f":"IF(AND(COUNTRY_INFO!K88>1,COUNTRY_INFO!K88<99,COUNTRY_INFO!K88<>4,COUNTRY_INFO!K88<>5), IF(AO88/COUNTRY_INFO!U88*100<>0, IF(AO88/COUNTRY_INFO!U88*100>100,100,AO88/COUNTRY_INFO!U88*100), \"-\"),0)","v":0},0,0,{"$f":"IF(AND(COUNTRY_INFO!K88>1,COUNTRY_INFO!K88<99,COUNTRY_INFO!K88<>4,COUNTRY_INFO!K88<>5), IF(AH88/AE88*100<>0, IF(AR88/AE88*100>100,100,AR88/AE88*100), \"-\"),0)","v":0},null,{"$f":"IF(AND(D88<>0, D88<>\"Unknown\",D88<>\"Stopped\",D88<>\"Not required\"),D88/COUNTRY_INFO!D88, 0)","v":0},{"$f":"IF(AND(J88<>0,J88<>\"Unknown\",J88<>\"Stopped\",J88<>\"Not required\"),J88/COUNTRY_INFO!D88, 0)","v":1},{"$f":"IF(AND(P88<>0,P88<>\"Unknown\",P88<>\"Surveillance\",P88<>\"Not required\"),P88/COUNTRY_INFO!R88, 0)","v":0},{"$f":"IF(AND(AE88<>0,AE88<>\"Unknown\",AE88<>\"Surveillance\",AE88<>\"Not required\"),AE88/COUNTRY_INFO!V88, 0)","v":0},{"$f":"IF(AU88>0,D88*PROFILE!$G$7,IF(AV88>0,J88*PROFILE!$G$7,0))","v":6975.6655306781258},{"$f":"_xlfn.IFS(OR(AU88>0,AW88>0),COUNTRY_INFO!E88, AV88>0,J88*PROFILE!$G$8,AX88>0,COUNTRY_INFO!S88,COUNTIFS(AU88:AX88,\">0\")=0,0)","v":28080.274633196961},{"$f":"_xlfn.IFS(OR(AU88>0,AW88>0),COUNTRY_INFO!F88, AV88>0,J88*PROFILE!$G$9,AX88>0,COUNTRY_INFO!T88,COUNTIFS(AU88:AX88,\">0\")=0,0)","v":78355.964832045094},{"$f":"_xlfn.IFS(AU88>0,COUNTRY_INFO!G88, AND(AV88>0,AW88=0,AX88=0),J88*PROFILE!$G$10,AND(AV88>0,AW88>0,AX88=0), MAX(J88*PROFILE!$G$10,COUNTRY_INFO!Q88),AND(AV88>0,AW88=0,AX88>0), MAX(J88*PROFILE!$G$10,COUNTRY_INFO!U88),AND(AV88=0,AW88>0,AX88>0), MAX(COUNTRY_INFO!Q88,COUNTRY_INFO!U88),AND(AV88=0,AW88>0,AX88=0),COUNTRY_INFO!Q88,AND(AV88=0,AW88=0,AX88>0),COUNTRY_INFO!U88,AND(AV88>0,AW88>0,AX88>0), MAX(J88*PROFILE!$G$10,COUNTRY_INFO!Q88,COUNTRY_INFO!U88),COUNTIFS(AU88:AX88,\">0\")=0,0)","v":140249.28500407981},253661.19,"Y",{"$f":"MAX('MDA4'!R88,S88,AH88)","v":0},{"$f":"MAX('MDA1'!K88,'MDA4'!S88,'MDA3'!I88,'MDA3'!L88,V88,AK88)","v":90647},{"$f":"MAX('MDA1'!L88,'MDA4'!T88,'MDA3'!J88,'MDA3'!M88,Y88,AN88)","v":106951},197598,{"$f":"_xlfn.IFS(AND(AU88=0,AW88=0,AX88=0),0,AND(AU88=0,AW88=0,AX88>0),AI88,AND(AU88=0,AW88>0,AX88=0),T88,AND(AU88=0,AW88>0,AX88>0),MAX(T88,AI88),AND(AU88>0,AW88=0,AX88=0),MIN('MDA4'!R88,AZ88),AND(AU88>0,AW88=0,AX88>0),MIN(MAX('MDA4'!R88,AI88),AZ88),AND(AU88>0,AW88>0,AX88=0),MIN(MAX('MDA4'!R88,T88),AZ88),AND(AU88>0,AW88>0,AX88>0),MIN(MAX('MDA4'!R88,AI88,T88),AZ88))","v":0},{"$f":"_xlfn.IFS(AND(AU88=0,AV88=0,AW88=0,AX88=0),0,AND(AU88=0,AV88=0,AW88=0,AX88>0),AL88,AND(AU88=0,AV88=0,AW88>0,AX88=0),W88,AND(AU88=0,AV88=0,AW88>0,AX88>0),MAX(W88,AL88),AND(AU88=0,AV88>0,AW88=0,AX88=0),MIN(J88*PROFILE!$G$9,MAX('MDA3'!I88,'MDA3'!L88)),AND(AU88=0,AV88>0,AW88=0,AX88>0),MIN(J88*PROFILE!$G$9,MAX('MDA3'!I88,'MDA3'!L88,AL88)),AND(AU88=0,AV88>0,AW88>0,AX88=0),MIN(J88*PROFILE!$G$9,MAX('MDA3'!I88,'MDA3'!L88,W88)),AND(AU88=0,AV88>0,AW88>0,AX88>0),MIN(J88*PROFILE!$G$9,MAX('MDA3'!I88,'MDA3'!L88,W88,AL88)),AND(AU88>0,AV88=0,AW88=0,AX88=0), MIN(BA88,MAX('MDA1'!K88,'MDA4'!S88)),AND(AU88>0,AV88=0,AW88=0,AX88>0), MIN(BA88,MAX('MDA1'!K88,'MDA4'!S88,AL88)),AND(AU88>0,AV88=0,AW88>0,AX88=0),MIN(BA88,MAX('MDA1'!K88,'MDA4'!S88,W88)),AND(AU88>0,AV88=0,AW88>0,AX88>0),MIN(BA88,MAX('MDA1'!K88,'MDA4'!S88,W88,AL88)),AND(AU88>0,AV88>0,AW88=0,AX88=0),MIN(BA88, MAX('MDA1'!K88,'MDA4'!S88,MAX('MDA3'!I88,'MDA3'!L88))), AND(AU88>0,AV88>0,AW88=0,AX88>0),MIN(BA88, MAX('MDA1'!K88,'MDA4'!S88,MAX( 'MDA3'!I88,'MDA3'!L88),AL88)), AND(AU88>0,AV88>0,AW88>0,AX88=0), MIN(BA88, MAX('MDA1'!K88,'MDA4'!S88,MAX( 'MDA3'!I88,'MDA3'!L88),W88)), AND(AU88>0,AV88>0,AW88>0,AX88>0), MIN(BA88, MAX('MDA1'!K88,'MDA4'!S88,MAX( 'MDA3'!I88,'MDA3'!L88),W88,AL88)))","v":78355.964832045094},{"$f":"_xlfn.IFS(AND(AU88=0,AV88=0,AW88=0,AX88=0),0,AND(AU88=0,AV88=0,AW88=0,AX88>0),AO88,AND(AU88=0,AV88=0,AW88>0,AX88=0),Z88,AND(AU88=0,AV88=0,AW88>0,AX88>0),MAX(Z88,AO88),AND(AU88=0,AV88>0,AW88=0,AX88=0),MIN(J88*PROFILE!$G$10,MAX('MDA3'!J88,'MDA3'!J88)),AND(AU88=0,AV88>0,AW88=0,AX88>0),MIN(J88*PROFILE!$G$10,MAX('MDA3'!J88,'MDA3'!M88,AO88)),AND(AU88=0,AV88>0,AW88>0,AX88=0),MIN(J88*PROFILE!$G$10,MAX('MDA3'!J88,'MDA3'!M88,Z88)),AND(AU88=0,AV88>0,AW88>0,AX88>0),MIN(J88*PROFILE!$G$10,MAX('MDA3'!J88,'MDA3'!M88,Z88,AO88)),AND(AU88>0,AV88=0,AW88=0,AX88=0), MIN(BB88,MAX('MDA1'!L88,'MDA4'!T88)),AND(AU88>0,AV88=0,AW88=0,AX88>0), MIN(BB88,MAX('MDA1'!L88,'MDA4'!T88,AO88)),AND(AU88>0,AV88=0,AW88>0,AX88=0),MIN(BB88,MAX('MDA1'!L88,'MDA4'!T88,Z88)),AND(AU88>0,AV88=0,AW88>0,AX88>0),MIN(BB88,MAX('MDA1'!L88,'MDA4'!T88,Z88,AO88)),AND(AU88>0,AV88>0,AW88=0,AX88=0),MIN(BB88, MAX('MDA1'!L88,'MDA4'!T88,MAX( 'MDA3'!J88,'MDA3'!M88))), AND(AU88>0,AV88>0,AW88=0,AX88>0),MIN(BB88, MAX('MDA1'!L88,'MDA4'!T88,MAX( 'MDA3'!J88,'MDA3'!M88),AO88)), AND(AU88>0,AV88>0,AW88>0,AX88=0), MIN(BB88, MAX('MDA1'!L88,'MDA4'!T88,MAX( 'MDA3'!J88,'MDA3'!M88),Z88)), AND(AU88>0,AV88>0,AW88>0,AX88>0), MIN(BB88, MAX('MDA1'!L88,'MDA4'!T88,MAX( 'MDA3'!J88,'MDA3'!M88),Z88,AO88)))","v":106951},185306.96483204508,73.052943113625332]
[{"$f":"IF(COUNTRY_INFO!A89=0,\" \",COUNTRY_INFO!A89)","v":"South Sudan"},{"$f":"IF(COUNTRY_INFO!B89=0,\" \",COUNTRY_INFO!B89)","v":"Upper Nile"},{"$f":"IF(COUNTRY_INFO!C89=0,\" \",COUNTRY_INFO!C89)","v":"MABAN Refugee"},{"$f":"COUNTRY_INFO!M89","v":116022},null,null,{"$f":"'MDA1'!M89+'MDA4'!U89","v":71454},{"$f":"IF(AND(COUNTRY_INFO!H89>0,COUNTRY_INFO!H89<4),IF(D89>G89,G89,D89),0)","v":71454},{"$f":"IF(AND(COUNTRY_INFO!H89>0,COUNTRY_INFO!H89<4), IF(G89/D89*100<>0, IF(G89/D89*100>100,100,G89/D89*100), \"-\"),0)","v":61.586595645653411},{"$f":"COUNTRY_INFO!N89","v":116022},null,null,{"$f":"MAX('MDA1'!M89,MAX('MDA3'!I89,'MDA3'!L89)+MAX('MDA3'!J89,'MDA3'!M89))","v":71454},{"$f":"IF(AND(COUNTRY_INFO!I89>0,COUNTRY_INFO!I89<4),IF(J89>M89,M89,J89),0)","v":71454},{"$f":"IF(AND(COUNTRY_INFO!I89>0,COUNTRY_INFO!I89<4), IF(M89/J89*100<>0, IF(M89/J89*100>100,100,M89/J89*100), \"-\"),0)","v":61.586595645653411},{"$f":"COUNTRY_INFO!R89","v":0},null,null,{"$f":"MAX('MDA4'!R89,'T1'!K89, MAX(T3_R1!J89,T3_R2!J89,T3_R3!J89))","v":0},{"$f":"IF(AND(COUNTRY_INFO!J89>1,COUNTRY_INFO!J89<99,COUNTRY_INFO!J89<>4,COUNTRY_INFO!J89<>5),IF(COUNTRY_INFO!O89>S89,S89,COUNTRY_INFO!O89),0)","v":0},{"$f":"IF(AND(COUNTRY_INFO!J89>1,COUNTRY_INFO!J89<99,COUNTRY_INFO!J89<>4,COUNTRY_INFO!J89<>5), IF(T89/COUNTRY_INFO!O89*100<>0, IF(T89/COUNTRY_INFO!O89*100>100,100,T89/COUNTRY_INFO!O89*100), \"-\"),0)","v":0},{"$f":"MAX('MDA1'!K89,'MDA4'!S89, 'T1'!L89, MAX(T3_R1!K89,T3_R2!K89,T3_R3!K89))","v":32741},{"$f":"IF(AND(COUNTRY_INFO!J89>1,COUNTRY_INFO!J89<99,COUNTRY_INFO!J89<>4,COUNTRY_INFO!J89<>5),IF(COUNTRY_INFO!P89>V89,V89,COUNTRY_INFO!P89),0)","v":0},{"$f":"IF(AND(COUNTRY_INFO!J89>1,COUNTRY_INFO!J89<99,COUNTRY_INFO!J89<>4,COUNTRY_INFO!J89<>5), IF(W89/COUNTRY_INFO!P89*100<>0, IF(W89/COUNTRY_INFO!P89*100>100,100,W89/COUNTRY_INFO!P89*100), \"-\"),0)","v":0},{"$f":"MAX('MDA1'!L89,'MDA4'!T89, 'T1'!M89, MAX(T3_R1!L89,T3_R2!L89,T3_R3!L89))","v":38713},{"$f":"IF(AND(COUNTRY_INFO!J89>1,COUNTRY_INFO!J89<99,COUNTRY_INFO!J89<>4,COUNTRY_INFO!J89<>5),IF(COUNTRY_INFO!Q89>Y89,Y89,COUNTRY_INFO!Q89),0)","v":0},{"$f":"IF(AND(COUNTRY_INFO!J89>1,COUNTRY_INFO!J89<99,COUNTRY_INFO!J89<>4,COUNTRY_INFO!J89<>5), IF(Z89/COUNTRY_INFO!Q89*100<>0, IF(Z89/COUNTRY_INFO!Q89*100>100,100,Z89/COUNTRY_INFO!Q89*100), \"-\"),0)","v":0},71454,0,{"$f":"IF(AND(COUNTRY_INFO!J89>1,COUNTRY_INFO!J89<99,COUNTRY_INFO!J89<>4,COUNTRY_INFO!J89<>5), IF(AC89/P89*100<>0, IF(AC89/P89*100>100,100,AC89/P89*100), \"-\"),0)","v":0},{"$f":"COUNTRY_INFO!V89","v":0},null,null,{"$f":"MAX('T1'!K89,'T2'!R89)","v":0},{"$f":"IF(AND(COUNTRY_INFO!K89>1,COUNTRY_INFO!K89<99,COUNTRY_INFO!K89<>4,COUNTRY_INFO!K89<>5),IF(COUNTRY_INFO!S89>AH89,AH89,COUNTRY_INFO!S89),0)","v":0},{"$f":"IF(AND(COUNTRY_INFO!K89>1,COUNTRY_INFO!K89<99,COUNTRY_INFO!K89<>4,COUNTRY_INFO!K89<>5), IF(AI89/COUNTRY_INFO!S89*100<>0, IF(AI89/COUNTRY_INFO!S89*100>100,100,AI89/COUNTRY_INFO!S89*100), \"-\"),0)","v":0},{"$f":"MAX('T1'!L89,'T2'!S89)","v":0},{"$f":"IF(AND(COUNTRY_INFO!K89>1,COUNTRY_INFO!K89<99,COUNTRY_INFO!K89<>4,COUNTRY_INFO!K89<>5),IF(COUNTRY_INFO!T89>AK89,AK89,COUNTRY_INFO!T89),0)","v":0},{"$f":"IF(AND(COUNTRY_INFO!K89>1,COUNTRY_INFO!K89<99,COUNTRY_INFO!K89<>4,COUNTRY_INFO!K89<>5), IF(AL89/COUNTRY_INFO!T89*100<>0, IF(AL89/COUNTRY_INFO!T89*100>100,100,AL89/COUNTRY_INFO!T89*100), \"-\"),0)","v":0},{"$f":"MAX('T1'!M89,'T2'!T89)","v":0},{"$f":"IF(AND(COUNTRY_INFO!K89>1,COUNTRY_INFO!K89<99,COUNTRY_INFO!K89<>4,COUNTRY_INFO!K89<>5),IF(COUNTRY_INFO!U89>AN89,AN89,COUNTRY_INFO!U89),0)","v":0},{"$f":"IF(AND(COUNTRY_INFO!K89>1,COUNTRY_INFO!K89<99,COUNTRY_INFO!K89<>4,COUNTRY_INFO!K89<>5), IF(AO89/COUNTRY_INFO!U89*100<>0, IF(AO89/COUNTRY_INFO!U89*100>100,100,AO89/COUNTRY_INFO!U89*100), \"-\"),0)","v":0},0,0,{"$f":"IF(AND(COUNTRY_INFO!K89>1,COUNTRY_INFO!K89<99,COUNTRY_INFO!K89<>4,COUNTRY_INFO!K89<>5), IF(AH89/AE89*100<>0, IF(AR89/AE89*100>100,100,AR89/AE89*100), \"-\"),0)","v":0},null,{"$f":"IF(AND(D89<>0, D89<>\"Unknown\",D89<>\"Stopped\",D89<>\"Not required\"),D89/COUNTRY_INFO!D89, 0)","v":1},{"$f":"IF(AND(J89<>0,J89<>\"Unknown\",J89<>\"Stopped\",J89<>\"Not required\"),J89/COUNTRY_INFO!D89, 0)","v":1},{"$f":"IF(AND(P89<>0,P89<>\"Unknown\",P89<>\"Surveillance\",P89<>\"Not required\"),P89/COUNTRY_INFO!R89, 0)","v":0},{"$f":"IF(AND(AE89<>0,AE89<>\"Unknown\",AE89<>\"Surveillance\",AE89<>\"Not required\"),AE89/COUNTRY_INFO!V89, 0)","v":0},{"$f":"IF(AU89>0,D89*PROFILE!$G$7,IF(AV89>0,J89*PROFILE!$G$7,0))","v":3190.5971354953335},{"$f":"_xlfn.IFS(OR(AU89>0,AW89>0),COUNTRY_INFO!E89, AV89>0,J89*PROFILE!$G$8,AX89>0,COUNTRY_INFO!S89,COUNTIFS(AU89:AX89,\">0\")=0,0)","v":12844},{"$f":"_xlfn.IFS(OR(AU89>0,AW89>0),COUNTRY_INFO!F89, AV89>0,J89*PROFILE!$G$9,AX89>0,COUNTRY_INFO!T89,COUNTIFS(AU89:AX89,\">0\")=0,0)","v":35839},{"$f":"_xlfn.IFS(AU89>0,COUNTRY_INFO!G89, AND(AV89>0,AW89=0,AX89=0),J89*PROFILE!$G$10,AND(AV89>0,AW89>0,AX89=0), MAX(J89*PROFILE!$G$10,COUNTRY_INFO!Q89),AND(AV89>0,AW89=0,AX89>0), MAX(J89*PROFILE!$G$10,COUNTRY_INFO!U89),AND(AV89=0,AW89>0,AX89>0), MAX(COUNTRY_INFO!Q89,COUNTRY_INFO!U89),AND(AV89=0,AW89>0,AX89=0),COUNTRY_INFO!Q89,AND(AV89=0,AW89=0,AX89>0),COUNTRY_INFO!U89,AND(AV89>0,AW89>0,AX89>0), MAX(J89*PROFILE!$G$10,COUNTRY_INFO!Q89,COUNTRY_INFO!U89),COUNTIFS(AU89:AX89,\">0\")=0,0)","v":64149},116022.59713549534,"Y",{"$f":"MAX('MDA4'!R89,S89,AH89)","v":0},{"$f":"MAX('MDA1'!K89,'MDA4'!S89,'MDA3'!I89,'MDA3'!L89,V89,AK89)","v":32741},{"$f":"MAX('MDA1'!L89,'MDA4'!T89,'MDA3'!J89,'MDA3'!M89,Y89,AN89)","v":38713},71454,{"$f":"_xlfn.IFS(AND(AU89=0,AW89=0,AX89=0),0,AND(AU89=0,AW89=0,AX89>0),AI89,AND(AU89=0,AW89>0,AX89=0),T89,AND(AU89=0,AW89>0,AX89>0),MAX(T89,AI89),AND(AU89>0,AW89=0,AX89=0),MIN('MDA4'!R89,AZ89),AND(AU89>0,AW89=0,AX89>0),MIN(MAX('MDA4'!R89,AI89),AZ89),AND(AU89>0,AW89>0,AX89=0),MIN(MAX('MDA4'!R89,T89),AZ89),AND(AU89>0,AW89>0,AX89>0),MIN(MAX('MDA4'!R89,AI89,T89),AZ89))","v":0},{"$f":"_xlfn.IFS(AND(AU89=0,AV89=0,AW89=0,AX89=0),0,AND(AU89=0,AV89=0,AW89=0,AX89>0),AL89,AND(AU89=0,AV89=0,AW89>0,AX89=0),W89,AND(AU89=0,AV89=0,AW89>0,AX89>0),MAX(W89,AL89),AND(AU89=0,AV89>0,AW89=0,AX89=0),MIN(J89*PROFILE!$G$9,MAX('MDA3'!I89,'MDA3'!L89)),AND(AU89=0,AV89>0,AW89=0,AX89>0),MIN(J89*PROFILE!$G$9,MAX('MDA3'!I89,'MDA3'!L89,AL89)),AND(AU89=0,AV89>0,AW89>0,AX89=0),MIN(J89*PROFILE!$G$9,MAX('MDA3'!I89,'MDA3'!L89,W89)),AND(AU89=0,AV89>0,AW89>0,AX89>0),MIN(J89*PROFILE!$G$9,MAX('MDA3'!I89,'MDA3'!L89,W89,AL89)),AND(AU89>0,AV89=0,AW89=0,AX89=0), MIN(BA89,MAX('MDA1'!K89,'MDA4'!S89)),AND(AU89>0,AV89=0,AW89=0,AX89>0), MIN(BA89,MAX('MDA1'!K89,'MDA4'!S89,AL89)),AND(AU89>0,AV89=0,AW89>0,AX89=0),MIN(BA89,MAX('MDA1'!K89,'MDA4'!S89,W89)),AND(AU89>0,AV89=0,AW89>0,AX89>0),MIN(BA89,MAX('MDA1'!K89,'MDA4'!S89,W89,AL89)),AND(AU89>0,AV89>0,AW89=0,AX89=0),MIN(BA89, MAX('MDA1'!K89,'MDA4'!S89,MAX('MDA3'!I89,'MDA3'!L89))), AND(AU89>0,AV89>0,AW89=0,AX89>0),MIN(BA89, MAX('MDA1'!K89,'MDA4'!S89,MAX( 'MDA3'!I89,'MDA3'!L89),AL89)), AND(AU89>0,AV89>0,AW89>0,AX89=0), MIN(BA89, MAX('MDA1'!K89,'MDA4'!S89,MAX( 'MDA3'!I89,'MDA3'!L89),W89)), AND(AU89>0,AV89>0,AW89>0,AX89>0), MIN(BA89, MAX('MDA1'!K89,'MDA4'!S89,MAX( 'MDA3'!I89,'MDA3'!L89),W89,AL89)))","v":32741},{"$f":"_xlfn.IFS(AND(AU89=0,AV89=0,AW89=0,AX89=0),0,AND(AU89=0,AV89=0,AW89=0,AX89>0),AO89,AND(AU89=0,AV89=0,AW89>0,AX89=0),Z89,AND(AU89=0,AV89=0,AW89>0,AX89>0),MAX(Z89,AO89),AND(AU89=0,AV89>0,AW89=0,AX89=0),MIN(J89*PROFILE!$G$10,MAX('MDA3'!J89,'MDA3'!J89)),AND(AU89=0,AV89>0,AW89=0,AX89>0),MIN(J89*PROFILE!$G$10,MAX('MDA3'!J89,'MDA3'!M89,AO89)),AND(AU89=0,AV89>0,AW89>0,AX89=0),MIN(J89*PROFILE!$G$10,MAX('MDA3'!J89,'MDA3'!M89,Z89)),AND(AU89=0,AV89>0,AW89>0,AX89>0),MIN(J89*PROFILE!$G$10,MAX('MDA3'!J89,'MDA3'!M89,Z89,AO89)),AND(AU89>0,AV89=0,AW89=0,AX89=0), MIN(BB89,MAX('MDA1'!L89,'MDA4'!T89)),AND(AU89>0,AV89=0,AW89=0,AX89>0), MIN(BB89,MAX('MDA1'!L89,'MDA4'!T89,AO89)),AND(AU89>0,AV89=0,AW89>0,AX89=0),MIN(BB89,MAX('MDA1'!L89,'MDA4'!T89,Z89)),AND(AU89>0,AV89=0,AW89>0,AX89>0),MIN(BB89,MAX('MDA1'!L89,'MDA4'!T89,Z89,AO89)),AND(AU89>0,AV89>0,AW89=0,AX89=0),MIN(BB89, MAX('MDA1'!L89,'MDA4'!T89,MAX( 'MDA3'!J89,'MDA3'!M89))), AND(AU89>0,AV89>0,AW89=0,AX89>0),MIN(BB89, MAX('MDA1'!L89,'MDA4'!T89,MAX( 'MDA3'!J89,'MDA3'!M89),AO89)), AND(AU89>0,AV89>0,AW89>0,AX89=0), MIN(BB89, MAX('MDA1'!L89,'MDA4'!T89,MAX( 'MDA3'!J89,'MDA3'!M89),Z89)), AND(AU89>0,AV89>0,AW89>0,AX89>0), MIN(BB89, MAX('MDA1'!L89,'MDA4'!T89,MAX( 'MDA3'!J89,'MDA3'!M89),Z89,AO89)))","v":38713},71454,61.586278676862804]

{"sheet":"SUMMARY","index":11,"n_rows":68,"n_cols":8,"rows_kept":68,"cut":false,"hidden":false,"merged":[[62,1,62,3],[59,3,59,7],[58,3,58,7],[67,1,67,2],[32,1,32,2],[33,1,33,2],[35,1,35,2],[64,1,64,7],[51,1,57,7],[66,1,66,2],[46,1,46,7],[47,3,47,4],[34,1,34,2],[60,1,60,3],[60,4,60,7],[62,4,62,7],[28,1,28,2],[29,1,29,2],[30,1,30,2],[31,1,31,2],[27,1,27,2],[1,1,1,7],[5,1,8,7],[3,3,3,5],[11,1,11,2],[0,3,0,7]]}
[null,null,null,"The current version should be used in countries endemic for Loiasis"]
[null,"PC Joint Reporting Form v.4.1 (Loa)"]
[]
[null,"Country",null,{"$f":"IF(INTRO!$E$34<>0,INTRO!$E$34,\" \")","v":"South Sudan"},null,null,"Year",{"$f":"IF(INTRO!$E$36<>0,INTRO!$E$36,\" \")","v":2022}]
[]
[null,"National authorities are requested to complete the Joint Reporting Form (JRF) for submission to the World Health Organization within 3 months after the last round was implemented and no later than 31 March of the next implementation year."]
[]
[]
[]
[null,"Number of people received treatment (at least once) for the diseases (all areas) and geographical coverage (%)"]
[]
[null,null,null,"PreSAC","SAC","Adults","Total","Geographical"]
[null,"Lymphatic filariasis",null,0,2726349,2919168,{"$f":"SUM(D13:F13)","v":5645517},100]
[null,"Onchocerciasis",null,"Not eligible",3385581,3604177,{"$f":"SUM(D14:F14)","v":6989758},100]
[null,"Soil-transmitted helminthiases",null,0,2726349,2919168,{"$f":"SUM(D15:F15)","v":5645517},100]
[null,"Schistosomiasis",null,0,0,0,{"$f":"SUM(D16:F16)","v":0},0]
[]
[null,"Number of people in need (in areas requiring PC) received treatment for the diseases and national coverage (%)"]
[]
[null,null,null,"PreSAC","SAC","Adults","Total","National"]
[null,"Lymphatic filariasis",null,null,null,null,5426622.0566999996,58.996839234441303]
[null,"Onchocerciasis",null,null,null,null,6178635.8302999996,67.091906807545968]
[null,"Soil-transmitted helminthiases",null,0,450115,355547,{"$f":"SUM(D23:F23)","v":805662},67.169453923349678]
[null,"Schistosomiasis",null,0,0,0,{"$f":"SUM(D24:F24)","v":0},"-"]
[]
[null,"Number of people treated by PC intervention and programme coverage (%)"]
[]
[null,null,null,"PreSAC","SAC","Adults","Total","Programme"]
[null,"MDA 1 (IVM+ALB)",null,"Not eligible",{"$f":"'MDA1'!$K$4","v":2525222},{"$f":"'MDA1'!$L$4","v":2686202},{"$f":"'MDA1'!$M$4","v":5211424},{"$f":"'MDA1'!$Q$4","v":71.637195305513075}]
[null,"MDA 3 (IVM)",null,"Not eligible",{"$f":"'MDA3'!$O$4","v":860359},{"$f":"'MDA3'!$P$4","v":917975},{"$f":"'MDA3'!$Q$4","v":1778334},{"$f":"'MDA3'!$T$4","v":82.768722091747122}]
[null,"MDA 4 (ALB/2*ALB)",null,{"$f":"'MDA4'!$R$4","v":0},{"$f":"'MDA4'!$S$4","v":201127},{"$f":"'MDA4'!$T$4","v":232966},{"$f":"'MDA4'!$U$4","v":434093},{"$f":"'MDA4'!$Y$4","v":68.551968314930392}]
[null,"T 1 (PZQ+ALB/MBD)",null,{"$f":"IF('T1'!$K$4<>0,'T1'!$K$4,\"Not targeted\")","v":"Not targeted"},{"$f":"'T1'!$L$4","v":0},{"$f":"IF('T1'!$M$4<>0,'T1'!$M$4,\"Not targeted\")","v":"Not targeted"},{"$f":"'T1'!$N$4","v":0},{"$f":"'T1'!$R$4","v":" "}]
[null,"T 2 (PZQ)",null,{"$f":"'T2'!$R$4","v":0},{"$f":"'T2'!$S$4","v":0},{"$f":"'T2'!T$4","v":0},{"$f":"'T2'!$U$4","v":0},{"$f":"'T2'!$Y$4","v":" "}]
[null,"T 3 (ALB/MBD) - round 1",null,{"$f":"T3_R1!$J$4","v":0},{"$f":"T3_R1!$K$4","v":0},{"$f":"T3_R1!$L$4","v":0},{"$f":"T3_R1!$M$4","v":0},{"$f":"T3_R1!$Q$4","v":" "}]
[null,"T 3 (ALB/MBD) - round 2",null,{"$f":"T3_R2!$J$4","v":0},{"$f":"T3_R2!$K$4","v":0},{"$f":"T3_R2!$L$4","v":0},{"$f":"T3_R2!$M$4","v":0},{"$f":"T3_R2!$Q$4","v":" "}]
[null,"T 3 (ALB/MBD) - round 3",null,{"$f":"T3_R3!$J$4","v":0},{"$f":"T3_R3!$K$4","v":0},{"$f":"T3_R3!$L$4","v":0},{"$f":"T3_R3!$M$4","v":0},{"$f":"T3_R3!$Q$4","v":" "}]
[]
[null,"Inventory of PC medicines in the country"]
[]
[null,null,"IVM","DEC","ALB (LF)","ALB (STH)","MBD","PZQ"]
[null,"Available",4132835]
[null,"Distributed",18297440]
[null,"Wasted",686672]
[null,"Received",19964777]
[null,"Remaining",{"$f":"C41-C42-C43+C44","v":5113500},0,0,0,0,0]
[]
[null,"Please indicate the medicine has been used to treat PreSAC for STH and delivery channels"]
[null,"PC medicine",null,"Delivery channels",null,null,"Source"]
[]
[null,"Additional information"]
[]
[null,"MDA4 - Four counties - Rubkona, Leer, Fangak, Kapoeta East counties - which are endemic for lymphatic filariasis were treated with Albendazole only in line with Mectizan Expert Committee recommendation for use of ivermectin in areas co-endemic with loaisis. Coverage in Juba is above 100%. This is attributable to the cosmopolitant nature of the city which has attracted many people looking for better opportunities. Maban county hosts refugees from Sudan. The refugee population has been entered as a separate entity in row number 89. Jur River county has treated above the projected population in past years. It is attributable to population displacements. Praziquanteel distribution was temporarily suspended in Novemeber 2021 following incident of SAE in Ibba county where 141 children reported to have ingested PZQ during MDA campaign experienced serious side effects and were hospitalised. This led to the disruption of MDA in Ibba county and South Sudan in general. By the time the suspension was lifted in October 2022, most of the PZQ in stock had expired. Therefore, South Sudan could not conduct PZQ distribution in 2022."]
[]
[]
[]
[]
[]
[]
[null,null,null,"I have read and accept WHO Data Sharing Policy"]
[null,null,null,"I confirm that all information provided in this form is complete and correct"]
[null,"Name and signature of NTD coordinator or Ministry of Health representative:",null,null,"Yak Yak Bol, National NTD Coordinator, South Sudan"]
[]
[null,"Date:",null,null,"2023-03-15"]
[]
[null,"Please send the national report (signed and in electronic format) to the concerned WR with copy to:"]
[]
[null,"WHO headquarters",null,"PC_JointForms@who.int"]
[null,"WHO Regional Office",null,"Regional Advisor for NTD"]

{"sheet":"PROFILE","index":12,"n_rows":122,"n_cols":8,"rows_kept":122,"cut":false,"hidden":true,"merged":[[77,1,77,3],[121,1,122,7],[83,6,83,7],[85,6,85,7],[87,6,87,7],[84,6,84,7],[86,6,86,7],[9,1,9,2],[4,1,4,7],[5,1,5,2],[79,1,79,3],[19,1,19,6],[9,3,9,5],[41,1,41,3],[75,1,75,3],[78,1,78,3],[6,3,6,5],[7,3,7,5],[8,3,8,5],[76,1,76,3],[23,1,23,3],[11,1,11,6],[20,1,20,6],[0,1,0,5],[1,1,1,7],[3,3,3,5],[67,1,67,3],[71,1,71,3],[26,1,26,3],[27,1,27,3],[28,1,28,3],[57,1,57,3],[5,3,5,5],[30,1,30,3],[34,1,34,3],[40,1,40,3],[6,1,6,2],[7,1,7,2],[8,1,8,2],[12,1,12,6],[45,1,45,3],[49,1,49,3],[53,1,53,3],[63,1,63,3],[29,1,29,3],[21,1,21,6],[16,1,16,6],[18,1,18,6],[17,1,17,6],[61,1,61,3],[13,1,13,6],[14,1,14,6],[15,1,15,6],[39,1,39,3]]}
[]
[null,"PC Joint Reporting Form v.4.1 - Country Profile"]
[]
[null,"Country",null,{"$f":"IF(INTRO!$E$34<>0,INTRO!$E$34,\" \")","v":"South Sudan"},null,null,"Year",{"$f":"IF(INTRO!$E$36<>0,INTRO!$E$36,\" \")","v":2022}]
[null,"!!! WARNING !!!\nBefore analysing data in the country profile please be ensure that your report in the SUMMARY tab is updated"]
[null,"Total population",null,null,null,null,1,{"$f":"COUNTRY_INFO!D4","v":14110063.797999993}]
[null,"Population — other age groups",null,null,null,null,{"$f":"IF($H$6<>0,H7/$H$6,0)","v":2.7499932215401677E-2},{"$f":"H6-SUM(H8:H10)","v":388025.79799999297}]
[null,"Population — Pre-SAC",null,{"$f":"INTRO!B48","v":"1-4 years age"},null,null,{"$f":"IF($H$6<>0,H8/$H$6,0)","v":0.1106999247034872},{"$f":"COUNTRY_INFO!E4","v":1561983}]
[null,"Population — SAC",null,{"$f":"INTRO!B49","v":"5-14 years age"},null,null,{"$f":"IF($H$6<>0,H9/$H$6,0)","v":0.3089000916223924},{"$f":"COUNTRY_INFO!F4","v":4358600}]
[null,"Population — Adults",null,{"$f":"INTRO!B50","v":"15 years +"},null,null,0.55290005145871868,{"$f":"COUNTRY_INFO!G4","v":7801455}]
[]
[null,"Total number of people requiring PC for at least one disease (LF, ONCHO, STH, SCH)",null,null,null,null,null,{"$f":"DISTRICT!BC6","v":12953414.420612348}]
[null,"Proportion of number of people requiring PC for at least one disease out of total population",null,null,null,null,null,{"$f":"IF(H6<>0,H12/H6,0)","v":0.9180266373032564}]
[null,"Number of IUs requiring PC for at least one disease (LF, ONCHO, STH, SCH)",null,null,null,null,null,{"$f":"COUNTIF(DISTRICT!BC10:BC1010,\">0\")","v":77}]
[null,"Number of IUs received PC for at least one disease (LF, ONCHO, STH, SCH)",null,null,null,null,null,{"$f":"COUNTIF(DISTRICT!BL10:BL1010,\">0\")","v":65}]
[null,"Proportion of IUs requiring PC for at least one disease and received it",null,null,null,null,null,{"$f":"IF(H14<>0,H15/H14,0)","v":0.8441558441558441}]
[null,"Total number of people received PC for at least one disease (LF, ONCHO, STH, SCH)",null,null,null,null,null,{"$f":"DISTRICT!BH6","v":7423851}]
[null,"Total number of people in need who received PC for at least one disease (LF, ONCHO, STH, SCH)",null,null,null,null,null,{"$f":"DISTRICT!BL6","v":6678299.4486212404}]
[null,"Coverage of PC for at least one disease (LF, ONCHO, STH, SCH)",null,null,null,null,null,{"$f":"DISTRICT!BM6","v":0.51556286487632785}]
[null,"Number of IUs received treatment for all diseases requiring PC in those IUs",null,null,null,null,null,{"$f":"DISTRICT!BD6","v":39}]
[null,"Population requiring PC in IUs which received treatment for all diseases in need of PC",null,null,null,null,null,{"$f":"SUMIF(DISTRICT!BD10:BD1010,\"Y\",DISTRICT!BC10:BC1010)","v":6841245.847345083}]
[null,"Population in need received PC in IUs which were treated for all diseases in need of PC",null,null,null,null,null,{"$f":"SUMIF(DISTRICT!BD10:BD1010,\"Y\",DISTRICT!BL10:BL1010)","v":3872479.0338601843}]
[]
[null,null,null,null,"LF","ONCHO","STH","SCH"]
[]
[null,"Diseases requiring PC in the country",null,null,{"$f":"IF(INTRO!E38=\"Endemic\",\"Yes\",\"No\")","v":"Yes"},{"$f":"IF(INTRO!E40=\"Endemic\",\"Yes\",\"No\")","v":"Yes"},{"$f":"IF(INTRO!E42=\"Endemic\",\"Yes\",\"No\")","v":"Yes"},{"$f":"IF(INTRO!E44=\"Endemic\",\"Yes\",\"No\")","v":"Yes"}]
[null,"Number of implementation units (IUs) in the country",null,null,{"$f":"IF(E26=\"Yes\",INTRO!$E$46,\"-\")","v":80},{"$f":"IF(F26=\"Yes\",INTRO!$E$46,\"-\")","v":80},{"$f":"IF(G26=\"Yes\",INTRO!$E$46,\"-\")","v":80},{"$f":"IF(H26=\"Yes\",INTRO!$E$46,\"-\")","v":80}]
[null,"Number of IUs with endemicity status known",null,null,{"$f":"IF(E26=\"Yes\",E27-E29,\"-\")","v":80},{"$f":"IF(F26=\"Yes\",F27-F29,\"-\")","v":49},{"$f":"IF(G26=\"Yes\",G27-G29,\"-\")","v":80},{"$f":"IF(H26=\"Yes\",H27-H29,\"-\")","v":80}]
[null,"Number of IUs with endemicity status unknown",null,null,{"$f":"IF(E26=\"Yes\",E27-(1001-COUNTIF(COUNTRY_INFO!H$10:H$1010,\"\"))+COUNTIF(COUNTRY_INFO!H$10:H$1010,\"=4\"),\"-\")","v":0},{"$f":"IF(F26=\"Yes\",F27-(1001-COUNTIF(COUNTRY_INFO!I$10:I$1010,\"\"))+COUNTIF(COUNTRY_INFO!I$10:I$1010,\"=4\"),\"-\")","v":31},{"$f":"IF(G26=\"Yes\",G27-(1001-COUNTIF(COUNTRY_INFO!J$10:J$1010,\"\"))+COUNTIF(COUNTRY_INFO!J$10:J$1010,\"=4\")+COUNTIF(COUNTRY_INFO!J$10:J$1010,\"=5\"),\"-\")","v":0},{"$f":"IF(H26=\"Yes\",H27-(1001-COUNTIF(COUNTRY_INFO!K$10:K$1010,\"\"))+COUNTIF(COUNTRY_INFO!K$10:K$1010,\"=4\")+COUNTIF(COUNTRY_INFO!K$10:K$1010,\"=5\"),\"-\")","v":0}]
[null,"Number of non-endemic IUs",null,null,{"$f":"IF(E26=\"Yes\",COUNTIF(COUNTRY_INFO!H$10:H$1010,\"=0\"),\"-\")","v":29},{"$f":"IF(F26=\"Yes\",COUNTIF(COUNTRY_INFO!I$10:I$1010,\"=0\"),\"-\")","v":0},{"$f":"IF(G26=\"Yes\",COUNTIF(COUNTRY_INFO!J$10:J$1010,\"=0\"),\"-\")","v":27},{"$f":"IF(H26=\"Yes\",COUNTIF(COUNTRY_INFO!K$10:K$1010,\"=0\"),\"-\")","v":15}]
[null,"Number of IUs requiring PC (total)",null,null,{"$f":"COUNTIF(COUNTRY_INFO!H$10:H$1010,\"=1\")","v":51},{"$f":"COUNTIF(COUNTRY_INFO!I$10:I$1010,\"=1\")","v":49},{"$f":"SUM(G32:G33)","v":6},{"$f":"SUM(H32:H33)","v":38}]
[null,null,null,"baseline prevalence",null,null,{"$f":"COUNTIF(COUNTRY_INFO!J$10:J$1010,\"=2\")+COUNTIF(COUNTRY_INFO!J$10:J$1010,\"=3\")","v":6},{"$f":"COUNTIF(COUNTRY_INFO!K$10:K$1001,\"=2\")+COUNTIF(COUNTRY_INFO!K$10:K$1001,\"=3\")","v":38}]
[null,null,null,"impact prevalence",null,null,{"$f":"COUNTIF(COUNTRY_INFO!J$10:J$1010,\"=11\")+COUNTIF(COUNTRY_INFO!J$10:J$1010,\"=21\")+COUNTIF(COUNTRY_INFO!J$10:J$1010,\"=22\")+COUNTIF(COUNTRY_INFO!J$10:J$1010,\"=31\")","v":0},{"$f":"COUNTIF(COUNTRY_INFO!K$10:K$1001,\"=11\")+COUNTIF(COUNTRY_INFO!K$10:K$1001,\"=21\")+COUNTIF(COUNTRY_INFO!K$10:K$1001,\"=31\")","v":0}]
[null,null,null,"- low",null,null,{"$f":"COUNTIF(COUNTRY_INFO!J$10:J$1010,\"=11\")","v":0},{"$f":"COUNTIF(COUNTRY_INFO!K$10:K$1001,\"=11\")","v":0}]
[null,"Population requiring PC in the country (total)",null,null,{"$f":"COUNTRY_INFO!M4","v":9198157.2693000045},{"$f":"COUNTRY_INFO!N4","v":9209211.8473000024},{"$f":"COUNTRY_INFO!R4","v":1199447},{"$f":"COUNTRY_INFO!V4","v":3995475}]
[null,null,"<1 year old",null,{"$f":"E35-SUM(E37:E39)","v":252945.26930000447},{"$f":"F35-SUM(F37:F39)","v":253252.70155802369}]
[null,null,"Pre-SAC",null,{"$f":"SUMIF(COUNTRY_INFO!M$10:M$1010,\">0\",COUNTRY_INFO!E$10:E$1010)","v":1018237},{"$f":"COUNTRY_INFO!$N$4*$G8","v":1019459.0580745726},{"$f":"COUNTRY_INFO!O$4","v":205731},{"$f":"COUNTRY_INFO!S$4","v":357085}]
[null,null,"SAC",null,{"$f":"SUMIF(COUNTRY_INFO!M$10:M$1010,\">0\",COUNTRY_INFO!F$10:F$1010)","v":2841312},{"$f":"COUNTRY_INFO!$N$4*$G9","v":2844726.3834009925},{"$f":"COUNTRY_INFO!P$4","v":574077},{"$f":"COUNTRY_INFO!T$4","v":1152586}]
[null,null,"Adults",null,{"$f":"SUMIF(COUNTRY_INFO!M$10:M$1010,\">0\",COUNTRY_INFO!G$10:G$1010)","v":5085663},{"$f":"COUNTRY_INFO!$N$4*$G10","v":5091773.7042664131},{"$f":"COUNTRY_INFO!Q$4","v":419639},{"$f":"COUNTRY_INFO!U$4","v":2485804}]
[null,"Population requiring PC in low impact prevalence areas",null,null,null,null,{"$f":"SUMIF(COUNTRY_INFO!J$10:J$1010,\"=11\",COUNTRY_INFO!R$10:R$1010)","v":0},{"$f":"SUMIF(COUNTRY_INFO!K$10:K$1010,\"=11\",COUNTRY_INFO!V$10:V$1010)","v":0}]
[null,"Number of IUs where PC was implemented (total)",null,null,{"$f":"COUNTIF(DISTRICT!G$10:G$1010,\">0\")","v":51},{"$f":"COUNTIF(DISTRICT!M$10:M$1010,\">0\")","v":61},{"$f":"COUNTIF(DISTRICT!AB$10:AB$1010,\">0\")","v":51},{"$f":"COUNTIF(DISTRICT!AQ$10:AQ$1010,\">0\")","v":0}]
[null,"Number of IUs in need where PC was implemented (total)",null,null,{"$f":"COUNTIF(DISTRICT!H$10:H$1010,\">0\")","v":51},{"$f":"COUNTIF(DISTRICT!N$10:N$1010,\">0\")","v":49},{"$f":"COUNTIF(DISTRICT!AC$10:AC$1010,\">0\")","v":6},{"$f":"COUNTIF(DISTRICT!AR$10:AR$1010,\">0\")","v":0}]
[null,null,"Pre-SAC",null,null,null,{"$f":"COUNTIF(DISTRICT!T$10:T$1010,\">0\")","v":0},{"$f":"COUNTIF(DISTRICT!AI$10:AI$1010,\">0\")","v":0}]
[null,null,"SAC",null,null,null,{"$f":"COUNTIF(DISTRICT!W$10:W$1010,\">0\")","v":6},{"$f":"COUNTIF(DISTRICT!AL$10:AL$1010,\">0\")","v":0}]
[null,null,"Adults",null,null,null,{"$f":"COUNTIF(DISTRICT!Z$10:Z$1010,\">0\")","v":6},{"$f":"COUNTIF(DISTRICT!AO$10:AO$1010,\">0\")","v":0}]
[null,"Number of individuals treated (total)",null,null,{"$f":"DISTRICT!G4","v":5645517},{"$f":"DISTRICT!M4","v":6989758},{"$f":"DISTRICT!AB4","v":5645517},{"$f":"DISTRICT!AQ4","v":0}]
[null,null,"Pre-SAC",null,{"$f":"SUMMARY!$D13","v":0},{"$f":"SUMMARY!$D14","v":"Not eligible"},{"$f":"SUMMARY!$D15","v":0},{"$f":"SUMMARY!$D16","v":0}]
[null,null,"SAC",null,{"$f":"SUMMARY!$E13","v":2726349},{"$f":"SUMMARY!$E14","v":3385581},{"$f":"SUMMARY!$E15","v":2726349},{"$f":"SUMMARY!$E16","v":0}]
[null,null,"Adults",null,{"$f":"SUMMARY!$F13","v":2919168},{"$f":"SUMMARY!$F14","v":3604177},{"$f":"SUMMARY!$F15","v":2919168},{"$f":"SUMMARY!$F16","v":0}]
[null,"Number of individuals in need treated (total)",null,null,{"$f":"DISTRICT!H4","v":5426622.0566999996},{"$f":"DISTRICT!N4","v":6178635.8302999996},{"$f":"DISTRICT!AC4","v":805662},{"$f":"DISTRICT!AR4","v":0}]
[null,null,"Pre-SAC",null,{"$f":"SUMMARY!$D21","v":0},{"$f":"SUMMARY!$D22","v":0},{"$f":"SUMMARY!$D23","v":0},{"$f":"SUMMARY!$D24","v":0}]
[null,null,"SAC",null,{"$f":"SUMMARY!$E21","v":0},{"$f":"SUMMARY!$E22","v":0},{"$f":"SUMMARY!$E23","v":450115},{"$f":"SUMMARY!$E24","v":0}]
[null,null,"Adults",null,{"$f":"SUMMARY!$F21","v":0},{"$f":"SUMMARY!$F22","v":0},{"$f":"SUMMARY!$F23","v":355547},{"$f":"SUMMARY!$F24","v":0}]
[null,"Geographical coverage (all ages)",null,null,{"$f":"IF(E31<>0,E42/E31,0)","v":1},{"$f":"IF(F31<>0,F42/F31,0)","v":1},{"$f":"IF(G31<>0,G42/G31,0)","v":1},{"$f":"IF(H31<>0,H42/H31,0)","v":0}]
[null,null,"Pre-SAC",null,null,null,{"$f":"IF($G$31<>0,G43/$G$31,0)","v":0},{"$f":"IF($H$31<>0,H43/$H$31,0)","v":0}]
[null,null,"SAC",null,null,null,{"$f":"IF($G$31<>0,G44/$G$31,0)","v":1},{"$f":"IF($H$31<>0,H44/$H$31,0)","v":0}]
[null,null,"Adults",null,null,null,{"$f":"IF($G$31<>0,G45/$G$31,0)","v":1},{"$f":"IF($H$31<>0,H45/$H$31,0)","v":0}]
[null,"National coverage (total)",null,null,{"$f":"IF(E35<>0,E50/E35,0)","v":0.58996839234441301},{"$f":"IF(F35<>0,F50/F35,0)","v":0.67091906807545965},{"$f":"IF(G35<>0,G50/G35,0)","v":0.67169453923349676},{"$f":"IF(H35<>0,H50/H35,0)","v":0}]
[null,null,"Pre-SAC",null,null,null,{"$f":"IF($G37<>0,$G51/$G37,0)","v":0},{"$f":"IF($H37<>0,$H51/$H37,0)","v":0}]
[null,null,"SAC",null,null,null,{"$f":"IF($G38<>0,$G52/$G38,0)","v":0.78406729410863008},{"$f":"IF($H38<>0,$H52/$H38,0)","v":0}]
[null,null,"Adults",null,null,null,{"$f":"IF($G39<>0,$G53/$G39,0)","v":0.8472687238316744},{"$f":"IF($H39<>0,$H53/$H39,0)","v":0}]
[null,null,null,null,"LF","ONCHO","STH","SCH"]
[]
[null,"Number of IUs achieved effective coverage (all ages)",null,null,{"$f":"COUNTIF(DISTRICT!I$10:I$1010,\">=65\")","v":24},{"$f":"COUNTIF(DISTRICT!O$10:O$1010,\">=65\")","v":29},{"$f":"COUNTIF(DISTRICT!AD$10:AD$1010,\">=75\")","v":3},{"$f":"COUNTIF(DISTRICT!AS$10:AS$1010,\">=75\")","v":0}]
[null,null,"Pre-SAC",null,null,null,{"$f":"COUNTIF(DISTRICT!U$10:U$1010,\">=75\")","v":0},{"$f":"COUNTIF(DISTRICT!AJ$10:AJ$1010,\">=75\")","v":0}]
[null,null,"SAC",null,null,null,{"$f":"COUNTIF(DISTRICT!X$10:X$1010,\">=75\")","v":3},{"$f":"COUNTIF(DISTRICT!AM$10:AM$1010,\">=75\")","v":0}]
[null,null,"Adults",null,null,null,{"$f":"COUNTIF(DISTRICT!AA$10:AA$1010,\">=75\")","v":3},{"$f":"COUNTIF(DISTRICT!AP$10:AP$1010,\">=75\")","v":0}]
[null,"Number of individuals in need treated in IUs achieved effective coverage (total)",null,null,{"$f":"SUMIF(DISTRICT!I10:I1010,\">=65\",DISTRICT!H10:H1010)","v":3540390.0567000001},{"$f":"SUMIF(DISTRICT!O10:O1010,\">=65\",DISTRICT!N10:N1010)","v":4640274.8302999996},{"$f":"SUMIF(DISTRICT!AD10:AD1010,\">=75\",DISTRICT!AC10:AC1010)","v":631553},{"$f":"SUMIF(DISTRICT!AS10:AS1010,\">=75\",DISTRICT!AR10:AR1010)","v":0}]
[null,null,"Pre-SAC",null,null,null,{"$f":"SUMIF(DISTRICT!U10:U1010,\">=75\",DISTRICT!T10:T1010)","v":0},{"$f":"SUMIF(DISTRICT!AJ10:AJ1010,\">=75\",DISTRICT!AI10:AI1010)","v":0}]
[null,null,"SAC",null,null,null,{"$f":"SUMIF(DISTRICT!X10:X1010,\">=75\",DISTRICT!W10:W1010)","v":361995},{"$f":"SUMIF(DISTRICT!AM10:AM1010,\">=75\",DISTRICT!AL10:AL1010)","v":0}]
[null,null,"Adults",null,null,null,{"$f":"SUMIF(DISTRICT!AA10:AA1010,\">=75\",DISTRICT!Z10:Z1010)","v":269558},{"$f":"SUMIF(DISTRICT!AP10:AP1010,\">=75\",DISTRICT!AO10:AO1010)","v":0}]
[null,"Proportion of IUs requiring PC and achieved effective coverage (total)",null,null,{"$f":"IF(E42<>0,E64/E42,0)","v":0.47058823529411764},{"$f":"IF(F42<>0,F64/F42,0)","v":0.59183673469387754},{"$f":"IF(G42<>0,G64/G42,0)","v":0.5},{"$f":"IF(H42<>0,H64/H42,0)","v":0}]
[null,null,"Pre-SAC",null,null,null,{"$f":"IF(G43<>0,G65/G43,0)","v":0},0]
[null,null,"SAC",null,null,null,0.5,0]
[null,null,"Adults",null,null,null,0.5,0]
[null,"Number of implementation units where PC was stopped (i.e. under surveillance)",null,null,{"$f":"COUNTIF(COUNTRY_INFO!H$10:H$1010,\"=99\")","v":0},{"$f":"COUNTIF(COUNTRY_INFO!I$10:I$1010,\"=99\")","v":0},{"$f":"COUNTIF(COUNTRY_INFO!J$10:J$1010,\"=99\")","v":0},{"$f":"COUNTIF(COUNTRY_INFO!K$10:K$1010,\"=99\")","v":0}]
[null,"Number of individuals living in IUs no longer requiring PC (stopped, surveillance)",null,null,{"$f":"SUMIF(COUNTRY_INFO!H$10:H$1010,\"=99\",COUNTRY_INFO!D$10:D$1010)","v":0},{"$f":"SUMIF(COUNTRY_INFO!I$10:I$1010,\"=99\",COUNTRY_INFO!D$10:D$1010)","v":0},{"$f":"SUMIF(COUNTRY_INFO!J$10:J$1010,\"=99\",COUNTRY_INFO!D$10:D$1010)","v":0},{"$f":"SUMIF(COUNTRY_INFO!K$10:K$1010,\"=99\",COUNTRY_INFO!D$10:D$1010)","v":0}]
[null,"Number of individuals requiring PC living in IUs targeted with PC",null,null,{"$f":"SUMIF(DISTRICT!H$10:H$1010,\">0\",DISTRICT!D$10:D$1010)","v":9198157.2693000045},{"$f":"SUMIF(DISTRICT!N$10:N$1010,\">0\",DISTRICT!J$10:J$1010)","v":9209211.8473000024},{"$f":"SUMIF(DISTRICT!AC$10:AC$1010,\">0\",DISTRICT!P$10:P$1010)","v":1199447},{"$f":"SUMIF(DISTRICT!AR$10:AR$1010,\">0\",DISTRICT!AE$10:AE$1010)","v":0}]
[null,"Number of individuals requiring PC living in IUs not targeted with PC",null,null,{"$f":"SUMIF(DISTRICT!H$10:H$1010,\"=0\",DISTRICT!D$10:D$1010)","v":0},{"$f":"SUMIF(DISTRICT!N$10:N$1010,\"=0\",DISTRICT!J$10:J$1010)","v":0},{"$f":"SUMIF(DISTRICT!AC$10:AC$1010,\"=0\",DISTRICT!P$10:P$1010)","v":0},{"$f":"SUMIF(DISTRICT!AR$10:AR$1010,\"=0\",DISTRICT!AE$10:AE$1010)","v":3995475}]
[null,null,null,null,{"$f":"E35-E50","v":3771535.2126000049},{"$f":"F35-F50","v":3030576.0170000028},{"$f":"G35-G50","v":393785},{"$f":"H35-H50","v":3995475}]
[null,"Number of IUs requiring and receiving PC",null,null,{"$f":"E31-E42","v":0},{"$f":"F31-F42","v":0},{"$f":"G31-G42","v":0},{"$f":"H31-H42","v":38}]
[null,null,null,null,{"$f":"E27-E31-E29","v":29},0,74,{"$f":"H27-H31-H29","v":42}]
[]
[null,null,null,null,null,null,"Requiring and receiving PC"]
[null,null,null,null,null,null,"Requiring and not receiving PC"]
[null,null,null,null,null,null,"Not requiring PC"]
[null,null,null,null,null,null,"Status unknown"]
[]
[]
[]
[]
[]
[]
[]
[]
[]
[]
[]
[]
[]
[]
[]
[]
[]
[]
[]
[]
[]
[]
[]
[]
[]
[]
[]
[]
[]
[]
[]
[]
[]
[]
[null,"Click here to access data Preventive Chemotherapy Data Portal"]

{"sheet":"DATA_POLICY","index":13,"n_rows":39,"n_cols":8,"rows_kept":39,"cut":false,"hidden":true,"merged":[[55,1,55,2],[8,1,12,7],[13,1,16,7],[26,2,36,7],[38,1,45,7],[6,1,6,7],[17,1,21,7],[22,1,25,7],[0,1,0,5],[1,1,1,7],[3,3,3,5]]}
[]
[null,"PC Joint Reporting Form v.4.1 (Loa)"]
[]
[null,"Country",null,{"$f":"IF(INTRO!$E$34<>0,INTRO!$E$34,\" \")","v":"South Sudan"},null,null,"Year",{"$f":"IF(INTRO!$E$36<>0,INTRO!$E$36,\" \")","v":2022}]
[]
[]
[null,"WHO Data Sharing Policy statement"]
[]
[null,"Data are the basis for all sound public health actions and the benefits of data sharing are widely recognized, including scientific and public health benefits. Whenever possible, WHO wishes to promote the sharing of health data, including but not restricted to surveillance and epidemiological data.  "]
[]
[]
[]
[]
[null,{"$f":"\"In this connection, and without prejudice to information sharing and publication pursuant to legally binding instruments, by providing data to WHO, the Ministry of Health of \" & D4 & \":\"","v":"In this connection, and without prejudice to information sharing and publication pursuant to legally binding instruments, by providing data to WHO, the Ministry of Health of South Sudan:"}]
[]
[]
[]
[null,"Confirms that all data to be supplied to WHO hereunder have been collected in accordance with applicable national laws, including data protection laws aimed at protecting the confidentiality of identifiable persons;"]
[]
[]
[]
[]
[null,{"$f":"\"Agrees that WHO shall be entitled, subject always to measures to ensure the ethical and secure use of the data, and subject always to an appropriate acknowledgement of \"&D4&\":\"","v":"Agrees that WHO shall be entitled, subject always to measures to ensure the ethical and secure use of the data, and subject always to an appropriate acknowledgement of South Sudan:"}]
[]
[]
[]
[null,null,"to publish the data, stripped of any personal identifiers and make the Data available to any interested party on request (to the extent they have not, or not yet, been published by WHO) on terms that allow non-commercial, not-for-profit use of the Data for public health purposes (provided always that publication of the Data shall remain under the control of WHO); \nto use, compile, aggregate, evaluate and analyse the Data and publish and disseminate the results thereof in conjunction with WHO’s work and in accordance with the Organization’s policies and practices."]
[]
[]
[]
[]
[]
[]
[]
[]
[]
[]
[]
[null,{"$f":"CONCATENATE(\"Except where data sharing and publication is required under legally binding instruments (IHR, WHO Nomenclature Regulations 1967, etc.), the Ministry of Health of \", D4,\" may in respect of certain data opt out of (any part of) the above,\" & \" by notifying WHO thereof in writing at the following address, provided that any such notification shall clearly identify the data in question and clearly indicate the scope of the opt-out (in reference to the  above), \" & \"and provided that specific reasons shall be given for the opt out.\")","v":"Except where data sharing and publication is required under legally binding instruments (IHR, WHO Nomenclature Regulations 1967, etc.), the Ministry of Health of South Sudan may in respect of certain data opt out of (any part of) the above, by notifying WHO thereof in writing at the following address, provided that any such notification shall clearly identify the data in question and clearly indicate the scope of the opt-out (in reference to the  above), and provided that specific reasons shall be given for the opt out."}]